{"text_format":"1","workbook":"xlsx","n_sheets":2,"sheets":["DATA","Timeline"],"not_rendered":{"charts":0,"images":27,"macros":1,"external_links":0,"defined_names":8,"comments":0,"pivot_tables":0},"unopened":[],"bounds":{"document_bytes":16777216,"sheet_cells":100000,"rows_first":2000,"rows_last":500,"rows_between":2000,"halvings":0,"cell_chars":16384,"cell_head_chars":4096},"cells_cut":0,"cells_raw":0,"read":"whole","date_system":"1900"}

{"sheet":"DATA","index":0,"n_rows":291,"n_cols":55,"rows_kept":291,"cut":false,"hidden":true,"merged":[]}
[]
[null,null,null,null,null,null,null,null,null,null,null,null,null,null,null,null,null,null,null,null,null,null,null,"Match Statistics",null,null,null,null,"Match",null,"Set 1",null,"Set 2",null,"Set 3",null,"Set 4",null,null,null,null,null,"Score",4,6,null,7,5,null,6,3,null,6,4,"Score"]
[null,"Aces",null,null,null,null,null,null,"Games",null,null,null,null,null,null,null,null,"Break Points",null,null,null,null,null,"Roger Federer (SUI)",null,"Andy Murray (GBR)",null,"Stat","RF","AM","RF","AM","RF","AM","RF","AM","RF","AM"]
[null,"Time","Player","Set","Game","Speed","Player #",null,"Start","Set","Game","Duration","Server","Winner","Server #","Winner #",null,"Time","Player","Won?","Player #","Won Player #",null,12,"  Aces",16,null,"  Aces",12,16,2,4,3,3,4,3,3,6,null,null,null,null,"Aces",{"$f":"AE4","v":2},{"$f":"AF4","v":4},null,{"$f":"AG4","v":3},{"$f":"AH4","v":3},null,{"$f":"AI4","v":4},{"$f":"AJ4","v":3},null,{"$f":"AK4","v":3},{"$f":"AL4","v":6},"Aces"]
[null,"00:08:00","F",1,3,189,{"$f":"IF(C5=\"F\",1,2)","v":1},null,"00:00:00",1,1,{"$f":"I6-I5","v":"00:02:00"},"F","M",{"$f":"IF(M5=\"F\",1,2)","v":1},{"$f":"IF(N5=\"F\",1,2)","v":2},null,"00:02:00","M","YES",{"$f":"IF(S5=\"F\",1,2)","v":2},{"$f":"IF(T5=\"Yes\",U5,\"\")","v":2},null,3,"  Double faults",1,null,"  Double faults",3,1,null,null,2,0,null,null,1,1,null,null,null,null,"Double faults",{"$f":"AE5","v":0},0,null,{"$f":"AG5","v":2},{"$f":"AH5","v":0},null,{"$f":"AI5","v":0},{"$f":"AJ5","v":0},null,{"$f":"AK5","v":1},{"$f":"AL5","v":1},"Double faults"]
[null,"00:14:00","M",1,4,206,{"$f":"IF(C6=\"F\",1,2)","v":2},null,"00:02:00",1,2,{"$f":"I7-I6","v":"00:04:00"},"M","M",{"$f":"IF(M6=\"F\",1,2)","v":2},{"$f":"IF(N6=\"F\",1,2)","v":2},null,"00:19:00","F","YES",{"$f":"IF(S6=\"F\",1,2)","v":1},{"$f":"IF(T6=\"Yes\",U6,\"\")","v":1},null,"90 of 131 = 69 %","  1st serves in","88 of 157 = 56 %",null,"  1st serves in","90 of 131 = 69 %","88 of 157 = 56 %","23 of 34 = 68 %","26 of 45 = 58 %","30 of 42 = 71 %","26 of 36 = 72 %","16 of 25 = 64 %","21 of 43 = 49 %","21 of 30 = 70 %","15 of 33 = 45 %"]
[null,"00:17:00","M",1,4,209,2,null,"00:06:00",1,3,"00:05:00","F","F",1,1,null,"00:43:00","F",null,1,"",null,"68 of 90 = 76 %","  1st serve points won","61 of 88 = 69 %",null,"  1st serve points won","68 of 90 = 76 %","61 of 88 = 69 %","15 of 23 = 65 %","19 of 26 = 73 %","23 of 30 = 77 %","20 of 26 = 77 %","14 of 16 = 88 %","12 of 21 = 57 %","16 of 21 = 76 %","10 of 15 = 67 %",null,null,null,null,"1st serves in",{"$f":"VALUE(TRIM(MID(AE6,FIND(\"=\",AE6)+2,99)))","v":0.68},{"$f":"VALUE(TRIM(MID(AF6,FIND(\"=\",AF6)+2,99)))","v":0.57999999999999996},null,{"$f":"VALUE(TRIM(MID(AG6,FIND(\"=\",AG6)+2,99)))","v":0.71},{"$f":"VALUE(TRIM(MID(AH6,FIND(\"=\",AH6)+2,99)))","v":0.72},null,{"$f":"VALUE(TRIM(MID(AI6,FIND(\"=\",AI6)+2,99)))","v":0.64},{"$f":"VALUE(TRIM(MID(AJ6,FIND(\"=\",AJ6)+2,99)))","v":0.49},null,{"$f":"VALUE(TRIM(MID(AK6,FIND(\"=\",AK6)+2,99)))","v":0.7},{"$f":"VALUE(TRIM(MID(AL6,FIND(\"=\",AL6)+2,99)))","v":0.45},"1st serves in"]
[null,"00:27:00","M",1,6,206,2,null,"00:11:00",1,4,"00:08:00","M","F",2,1,null,"00:44:00","F",null,1,"",null,"20 of 41 = 49 %","  2nd serve points won","33 of 69 = 48 %",null,"  2nd serve points won","20 of 41 = 49 %","33 of 69 = 48 %","3 of 11 = 27 %","7 of 19 = 37 %","6 of 12 = 50 %","5 of 10 = 50 %","6 of 9 = 67 %","12 of 22 = 55 %","5 of 9 = 56 %","9 of 18 = 50 %",null,null,null,null,"1st serve points won",{"$f":"VALUE(TRIM(MID(AE7,FIND(\"=\",AE7)+2,99)))","v":0.65},{"$f":"VALUE(TRIM(MID(AF7,FIND(\"=\",AF7)+2,99)))","v":0.73},null,{"$f":"VALUE(TRIM(MID(AG7,FIND(\"=\",AG7)+2,99)))","v":0.77},{"$f":"VALUE(TRIM(MID(AH7,FIND(\"=\",AH7)+2,99)))","v":0.77},null,{"$f":"VALUE(TRIM(MID(AI7,FIND(\"=\",AI7)+2,99)))","v":0.88},{"$f":"VALUE(TRIM(MID(AJ7,FIND(\"=\",AJ7)+2,99)))","v":0.56999999999999995},null,{"$f":"VALUE(TRIM(MID(AK7,FIND(\"=\",AK7)+2,99)))","v":0.76},{"$f":"VALUE(TRIM(MID(AL7,FIND(\"=\",AL7)+2,99)))","v":0.67},"1st serve points won"]
[null,"00:33:00","F",1,7,193,1,null,"00:19:00",1,5,"00:07:00","F","F",1,1,null,"00:51:00","M","YES",2,2,null,"130 MPH","  Fastest serve","133 MPH",null,"  Fastest serve","130 MPH","133 MPH","124 MPH",133,130,132,128,133,126,131,null,null,null,null,"Average 1st serve speed",{"$f":"AE10","v":"115 MPH"},{"$f":"AF10","v":120},null,{"$f":"AG10","v":116},{"$f":"AH10","v":120},null,{"$f":"AI10","v":117},{"$f":"AJ10","v":124},null,{"$f":"AK10","v":116},{"$f":"AL10","v":120},"Average 1st serve speed"]
[null,"00:56:00","M",1,10,212,2,null,"00:26:00",1,6,"00:06:00","M","M",2,2,null,"01:05:00","F",null,1,"",null,"116 MPH","  Average 1st serve speed","121 MPH",null,"  Average 1st serve speed","116 MPH","121 MPH","115 MPH",120,116,120,117,124,116,120,null,null,null,null,"2nd serve points won",{"$f":"VALUE(TRIM(MID(AE8,FIND(\"=\",AE8)+2,99)))","v":0.27},{"$f":"VALUE(TRIM(MID(AF8,FIND(\"=\",AF8)+2,99)))","v":0.37},null,{"$f":"VALUE(TRIM(MID(AG8,FIND(\"=\",AG8)+2,99)))","v":0.5},{"$f":"VALUE(TRIM(MID(AH8,FIND(\"=\",AH8)+2,99)))","v":0.5},null,{"$f":"VALUE(TRIM(MID(AI8,FIND(\"=\",AI8)+2,99)))","v":0.67},{"$f":"VALUE(TRIM(MID(AJ8,FIND(\"=\",AJ8)+2,99)))","v":0.55000000000000004},null,{"$f":"VALUE(TRIM(MID(AK8,FIND(\"=\",AK8)+2,99)))","v":0.56000000000000005},{"$f":"VALUE(TRIM(MID(AL8,FIND(\"=\",AL8)+2,99)))","v":0.5},"2nd serve points won"]
[null,"01:00:00","F",2,1,189,1,null,"00:32:00",1,7,"00:02:00","F","F",1,1,null,"01:19:00","M",null,2,"",null,"98 MPH","  Average 2nd serve speed","88 MPH",null,"  Average 2nd serve speed","98 MPH","88 MPH","96 MPH",87,101,88,100,87,99,92,null,null,null,null,"Average 2nd serve speed",{"$f":"AE11","v":"96 MPH"},{"$f":"AF11","v":87},null,{"$f":"AG11","v":101},{"$f":"AH11","v":88},null,{"$f":"AI11","v":100},{"$f":"AJ11","v":87},null,{"$f":"AK11","v":99},{"$f":"AL11","v":92},"Average 2nd serve speed"]
[null,"01:25:00","M",2,6,210,2,null,"00:34:00",1,8,"00:14:00","M","M",2,2,null,"01:20:00","M",null,2,"",null,"53 of 68 = 78 %","  Net points won","24 of 39 = 62 %",null,"  Net points won","53 of 68 = 78 %","24 of 39 = 62 %","13 of 17 = 76 %","6 of 9 = 67 %","19 of 25 = 76 %","12 of 16 = 75 %","9 of 13 = 69 %","2 of 7 = 29 %","12 of 13 = 92 %","4 of 7 = 57 %",null,null,null,null,"Fastest serve",{"$f":"AE9","v":"124 MPH"},{"$f":"AF9","v":133},null,{"$f":"AG9","v":130},{"$f":"AH9","v":132},null,{"$f":"AI9","v":128},{"$f":"AJ9","v":133},null,{"$f":"AK9","v":126},{"$f":"AL9","v":131},"Fastest serve"]
[null,"01:37:00","F",2,9,162,1,null,"00:48:00",1,9,"00:03:00","F","M",1,2,null,"01:33:00","M",null,2,"",null,"4 of 12 = 33 %","  Break points won","2 of 7 = 29 %",null,"  Break points won","4 of 12 = 33 %","2 of 7 = 29 %","1 of 3 = 33 %","2 of 2 = 100 %","1 of 2 = 50 %","0 of 4 = 0 %","1 of 6 = 17 %","0 of 0 = 0 %","1 of 1 = 100 %","0 of 1 = 0 %"]
[null,"01:40:00","M",2,10,207,2,null,"00:51:00",1,10,"00:06:00","M","M",2,2,null,"01:34:00","M",null,2,"",null,"63 of 157 = 40 %","  Receiving points won","43 of 131 = 33 %",null,"  Receiving points won","63 of 157 = 40 %","43 of 131 = 33 %","19 of 45 = 42 %","16 of 34 = 47 %","11 of 36 = 31 %","13 of 42 = 31 %","19 of 43 = 44 %","5 of 25 = 20 %","14 of 34 = 41 %","9 of 30 = 30 %",null,null,null,null,"Net points won",{"$f":"VALUE(TRIM(MID(AE12,FIND(\"=\",AE12)+2,99)))","v":0.76},0.67,null,{"$f":"VALUE(TRIM(MID(AG12,FIND(\"=\",AG12)+2,99)))","v":0.76},0.75,null,{"$f":"VALUE(TRIM(MID(AI12,FIND(\"=\",AI12)+2,99)))","v":0.69},0.28999999999999998,null,{"$f":"VALUE(TRIM(MID(AK12,FIND(\"=\",AK12)+2,99)))","v":0.92},0.56999999999999995,"Net points won"]
[null,"01:44:00","F",2,11,209,1,null,"00:57:00",1,"BREAK","00:02:00",null,null,null,null,null,"01:51:00","F","YES",1,1,null,62,"  Winners",46,null,"  Winners",62,46,11,10,19,14,15,13,17,9,null,null,null,null,"Break points won",0.33,1,null,0.5,0,null,0.17,0,null,1,0,"Break points won"]
[null,"01:47:00","M",2,12,206,2,null,"00:59:00",2,1,"00:01:00","F","F",1,1,null,"02:22:00","F",null,1,"",null,38,"  Unforced errors",25,null,"  Unforced errors",38,25,16,5,8,4,6,8,8,8,null,null,null,null,"Receiving points won",0.42,0.47,null,0.31,0.31,null,0.44,0.2,null,0.41,0.3,"Receiving points won"]
[null,"01:54:00","F",3,1,199,1,null,"01:00:00",2,2,"00:09:00","M","M",2,2,null,"02:23:00","F",null,1,"",null,151,"  Total points won",137,null,"  Total points won",151,137,37,42,40,38,39,29,35,28]
[null,"02:04:00","M",3,4,196,2,null,"01:09:00",2,3,"00:03:00","F","F",1,1,null,"02:24:00","F",null,1,"",null,null,null,null,null,null,null,null,null,null,null,null,null,null,null,null,null,null,null,null,"Winners",{"$f":"AE15","v":11},{"$f":"AF15","v":10},null,{"$f":"AG15","v":19},14,null,{"$f":"AI15","v":15},13,null,{"$f":"AK15","v":17},9,"Winners"]
[null,"02:09:00","F",3,5,186,1,null,"01:12:00",2,4,"00:04:00","M","M",2,2,null,"02:30:00","F",null,1,"",null,null,null,null,null,null,null,null,null,null,null,null,null,null,null,null,null,null,null,null,"Unforced errors",{"$f":"AE16","v":16},5,null,8,4,null,6,8,null,8,8,"Unforced errors"]
[null,"02:13:00","M",3,6,209,2,null,"01:16:00",2,5,"00:05:00","F","F",1,1,null,"02:32:00","F",null,1,"",null,null,null,null,null,null,null,null,null,null,null,null,null,null,null,null,null,null,null,null,"Total points won",37,42,null,40,38,null,39,29,null,35,28,"Total points won"]
[null,"02:49:00","M",3,8,201,2,null,"01:21:00",2,6,"00:04:00","M","M",2,2,null,"02:37:00","F","YES",1,1]
[null,"02:52:00","F",3,9,170,1,null,"01:25:00",2,7,"00:01:00","F","F",1,1,null,"03:07:00","M",null,2,""]
[null,"02:55:00","F",3,9,197,1,null,"01:26:00",2,8,"00:04:00","M","M",2,2,null,"03:24:00","F","YES",1,1,null,null,null,null,null,null,null,null,null,null,null,null,null,null,null,null,null,null,null,null,"Average Game Duration",{"$f":"AVERAGEIFS($L$5:$L$48,$M$5:$M$48,AR$27,$J$5:$J$48,AR$28)","v":"00:03:48"},{"$f":"AVERAGEIFS($L$5:$L$48,$M$5:$M$48,AS$27,$J$5:$J$48,AS$28)","v":"00:07:36"},null,{"$f":"AVERAGEIFS($L$5:$L$48,$M$5:$M$48,AU$27,$J$5:$J$48,AU$28)","v":"00:03:30"},{"$f":"AVERAGEIFS($L$5:$L$48,$M$5:$M$48,AV$27,$J$5:$J$48,AV$28)","v":"00:05:10"},null,{"$f":"AVERAGEIFS($L$5:$L$48,$M$5:$M$48,AX$27,$J$5:$J$48,AX$28)","v":"00:03:48"},{"$f":"AVERAGEIFS($L$5:$L$48,$M$5:$M$48,AY$27,$J$5:$J$48,AY$28)","v":"00:10:30"},null,{"$f":"AVERAGEIFS($L$5:$L$48,$M$5:$M$48,BA$27,$J$5:$J$48,BA$28)","v":"00:06:00"},{"$f":"AVERAGEIFS($L$5:$L$48,$M$5:$M$48,BB$27,$J$5:$J$48,BB$28)","v":"00:06:24"},"Average Game Duration"]
[null,"02:59:00","M",4,1,197,2,null,"01:30:00",2,9,"00:07:00","F","F",1,1,null,null,null,null,null,null,null,null,null,null,null,null,null,null,null,null,null,null,null,null,null,null,null,null,null,null,"When won",{"$f":"AVERAGEIFS($L$5:$L$48,$M$5:$M$48,AR$27,$J$5:$J$48,AR$28,$N$5:$N$48,AR$27)","v":"00:04:40"},{"$f":"AVERAGEIFS($L$5:$L$48,$M$5:$M$48,AS$27,$J$5:$J$48,AS$28,$N$5:$N$48,AS$27)","v":"00:07:30"},null,{"$f":"AVERAGEIFS($L$5:$L$48,$M$5:$M$48,AU$27,$J$5:$J$48,AU$28,$N$5:$N$48,AU$27)","v":"00:03:30"},{"$f":"AVERAGEIFS($L$5:$L$48,$M$5:$M$48,AV$27,$J$5:$J$48,AV$28,$N$5:$N$48,AV$27)","v":"00:05:00"},null,{"$f":"AVERAGEIFS($L$5:$L$48,$M$5:$M$48,AX$27,$J$5:$J$48,AX$28,$N$5:$N$48,AX$27)","v":"00:03:48"},{"$f":"AVERAGEIFS($L$5:$L$48,$M$5:$M$48,AY$27,$J$5:$J$48,AY$28,$N$5:$N$48,AY$27)","v":"00:05:20"},null,{"$f":"AVERAGEIFS($L$5:$L$48,$M$5:$M$48,BA$27,$J$5:$J$48,BA$28,$N$5:$N$48,BA$27)","v":"00:06:00"},{"$f":"AVERAGEIFS($L$5:$L$48,$M$5:$M$48,BB$27,$J$5:$J$48,BB$28,$N$5:$N$48,BB$27)","v":"00:06:45"},"When won"]
[null,"03:11:00","M",4,3,146,2,null,"01:37:00",2,10,"00:04:00","M","M",2,2]
[null,"03:13:00","M",4,3,193,2,null,"01:41:00",2,11,"00:04:00","F","F",1,1]
[null,"03:18:00","F",4,4,202,1,null,"01:45:00",2,12,"00:06:00","M","F",2,1,null,null,null,null,null,null,null,null,null,null,null,null,null,null,null,null,null,null,null,null,null,null,null,null,null,null,null,"F","M",null,"F","M",null,"F","M",null,"F","M"]
[null,"03:32:00","M",4,7,198,2,null,"01:51:00",2,"BREAK","00:03:00",null,null,null,null,null,"Trivia","Value","Set","Game","Player","Server",null,null,null,null,null,null,null,null,null,null,null,null,null,null,null,null,null,null,null,null,1,1,null,2,2,null,3,3,null,4,4]
[null,"03:36:00","M",4,7,135,2,null,"01:54:00",3,1,"00:01:00","F","F",1,1,null,"Longest game",{"$f":"MAX($L$5:$L$48)","v":"00:26:00"},{"$f":"INDEX($J$5:$J$48,MATCH(S29,$L$5:$L$48,0))","v":3},{"$f":"INDEX($K$5:$K$48,MATCH(S29,$L$5:$L$48,0))","v":6},{"$f":"INDEX($N$5:$N$48,MATCH(S29,$L$5:$L$48,0))","v":"F"},{"$f":"INDEX($M$5:$M$48,MATCH(S29,$L$5:$L$48,0))","v":"M"},null,{"$f":"IF(V29=\"F\",\"Federer\",\"Murray\")","v":"Federer"},{"$f":"IF(W29=\"F\",\"Federer\",\"Murray\")","v":"Murray"}]
[null,"03:39:00","F",4,8,178,1,null,"01:55:00",3,2,"00:05:00","M","M",2,2,null,"Fastest Game",{"$f":"MIN($L$5:$L$48)","v":"00:01:00"},{"$f":"INDEX($J$5:$J$48,MATCH(S30,$L$5:$L$48,0))","v":2},{"$f":"INDEX($K$5:$K$48,MATCH(S30,$L$5:$L$48,0))","v":1},{"$f":"INDEX($N$5:$N$48,MATCH(S30,$L$5:$L$48,0))","v":"F"},{"$f":"INDEX($M$5:$M$48,MATCH(S30,$L$5:$L$48,0))","v":"F"},null,{"$f":"IF(V30=\"F\",\"Federer\",\"Murray\")","v":"Federer"},{"$f":"IF(W30=\"F\",\"Federer\",\"Murray\")","v":"Federer"},null,null,null,null,null,null,null,null,null,null,null,null,null,null,null,null,{"$f":"MAX(AR23:BB24)","v":"00:10:30"}]
[null,"03:51:00","M",4,9,210,2,null,"02:00:00",3,3,"00:02:00","F","F",1,1,null,"Fastest Serve",{"$f":"AD9","v":"133 MPH"},{"$f":"AC9","v":"130 MPH"},null,null,null,null,"Murray","Murray"]
[null,"03:56:00","F",4,10,186,1,null,"02:02:00",3,4,"00:05:00","M","M",2,2,{"$f":"MAX($F$5:$F$32)","v":212},"Fastest Ace",{"$f":"CONVERT(MAX($F$5:$F$32)*1000,\"m\",\"mi\")","v":131.73069275431479},{"$f":"INDEX($D$5:$D$32,MATCH(Q32,$F$5:$F$32,0))","v":1},{"$f":"INDEX($E$5:$E$32,MATCH(Q32,$F$5:$F$32,0))","v":10},null,{"$f":"INDEX($C$5:$C$32,MATCH(Q32,$F$5:$F$32,0))","v":"M"},{"$f":"INDEX($B$5:$B$32,MATCH(Q32,$F$5:$F$32,0))","v":3.888888888888889E-2},"Murray","Murray"]
[null,null,null,null,null,null,null,null,"02:07:00",3,5,"00:04:00","F","F",1,1,{"$f":"MIN($F$5:$F$32)","v":135},"Slowest Ace",{"$f":"CONVERT(MIN($F$5:$F$32)*1000,\"m\",\"mi\")","v":83.88511095204008},{"$f":"INDEX($D$5:$D$32,MATCH(Q33,$F$5:$F$32,0))","v":4},{"$f":"INDEX($E$5:$E$32,MATCH(Q33,$F$5:$F$32,0))","v":7},null,{"$f":"INDEX($C$5:$C$32,MATCH(Q33,$F$5:$F$32,0))","v":"M"},{"$f":"INDEX($B$5:$B$32,MATCH(Q33,$F$5:$F$32,0))","v":0.15},"Murray","Murray"]
[null,null,null,null,null,null,null,null,"02:11:00",3,6,"00:26:00","M","F",2,1]
[null,"Aces",null,null,null,null,null,null,"02:37:00",3,7,"00:06:00","F","F",1,1,null,"Trivia sentences"]
[null,"Break Points",null,null,null,null,null,null,"02:43:00",3,8,"00:06:00","M","M",2,2]
[null,"Break Points Won",null,null,null,null,null,null,"02:49:00",3,9,"00:06:00","F","F",1,1,null,{"$f":"\"Longest game is \"&TEXT(S29,\"[h]:mm\")&\" mins. in set \"&T29&\" game \"&U29&\". It was won by \"&Y29&\" (served by \"&Z29&\")\"","v":"Longest game is 0:26 mins. in set 3 game 6. It was won by Federer (served by Murray)"}]
[null,"Game Winners",null,null,null,null,null,null,"02:55:00",3,"BREAK","00:01:00",null,null,null,null,null,{"$f":"\"Fastest game is \"&TEXT(S30,\"[h]:mm\")&\" mins. in set \"&T30&\" game \"&U30&\". It was won by \"&Y30&\" (served by \"&Z30&\")\"","v":"Fastest game is 0:01 mins. in set 2 game 1. It was won by Federer (served by Federer)"}]
[null,"Games",null,null,null,null,null,null,"02:56:00",4,1,"00:05:00","M","M",2,2,null,{"$f":"\"Fastest serve is \"&S31&\" by \"&Y31&\". Federer's fastest serve is \"&T31&\".\"","v":"Fastest serve is 133 MPH by Murray. Federer's fastest serve is 130 MPH."}]
[null,"Nothing",null,null,null,null,null,null,"03:01:00",4,2,"00:08:00","F","F",1,1,null,{"$f":"\"Fastest ace is by \"&Y32&\" in game \"&U32&\" set \"&T32&\" at \"&TEXT(S32,\"0 \"\"MPH.\"\"\")","v":"Fastest ace is by Murray in game 10 set 1 at 132 MPH."}]
[null,null,null,null,null,null,null,null,"03:09:00",4,3,"00:06:00","M","M",2,2,null,{"$f":"\"Slowest ace is by \"&Y33&\" in game \"&U33&\" set \"&T33&\" at \"&TEXT(S33,\"0 \"\"MPH.\"\"\")","v":"Slowest ace is by Murray in game 7 set 4 at 84 MPH."}]
[null,{"$f":"INDEX(lstOptions,C42)","v":"Aces"},1,null,null,null,null,null,"03:15:00",4,4,"00:04:00","F","F",1,1]
[null,{"$f":"\"Federer: \"&COUNTIF(lstChosen,1)","v":"Federer: 12"},null,null,null,null,null,null,"03:19:00",4,5,"00:05:00","M","F",2,1]
[null,{"$f":"\"Murray: \"&COUNTIF(lstChosen,2)","v":"Murray: 16"},null,null,null,null,null,null,"03:24:00",4,6,"00:06:00","F","F",1,1]
[null,null,null,null,null,null,null,null,"03:30:00",4,7,"00:06:00","M","M",2,2]
[null,null,null,null,null,null,null,null,"03:36:00",4,8,"00:06:00","F","F",1,1]
[null,null,null,null,null,null,null,null,"03:42:00",4,9,"00:10:00","M","M",2,2]
[null,null,null,null,null,null,null,null,"03:52:00",4,10,"00:06:00","F","F",1,1]
[null,null,null,null,null,null,null,null,"03:58:00",4,null,null,null,null,2,2]
[]
[null,"KEY Points on timeline"]
["Dummy","Time","Set Start","Game Start","Server","Ace","Break Point","Break Point Won?","Game Winners","Game Servers"]
[null,"00:00:00",{"$f":"VLOOKUP(B53,$I$5:$N$49,2)","v":1},{"$f":"VLOOKUP(B53,$I$5:$N$49,3)","v":1},{"$f":"VLOOKUP(B53,$I$5:$N$49,5)","v":"F"},{"$f":"SUMIFS($G$5:$G$32,$B$5:$B$32,B53)","v":0},{"$f":"SUMIFS($U$5:$U$23,$R$5:$R$23,B53)","v":0},{"$f":"SUMIFS($V$5:$V$23,$R$5:$R$23,B53)","v":0},{"$f":"SUMIFS($P$5:$P$48,$I$5:$I$48,$B53)","v":2},{"$f":"SUMIFS($O$5:$O$48,$I$5:$I$48,$B53)","v":1}]
[null,"00:01:00",{"$f":"VLOOKUP(B54,$I$5:$N$49,2)","v":1},{"$f":"VLOOKUP(B54,$I$5:$N$49,3)","v":1},{"$f":"VLOOKUP(B54,$I$5:$N$49,5)","v":"F"},{"$f":"SUMIFS($G$5:$G$32,$B$5:$B$32,B54)","v":0},{"$f":"SUMIFS($U$5:$U$23,$R$5:$R$23,B54)","v":0},{"$f":"SUMIFS($V$5:$V$23,$R$5:$R$23,B54)","v":0},{"$f":"SUMIFS($P$5:$P$48,$I$5:$I$48,$B54)","v":0},{"$f":"SUMIFS($O$5:$O$48,$I$5:$I$48,$B54)","v":0}]
[null,"00:02:00",1,2,"M",0,2,2,2,2]
[null,"00:03:00",1,2,"M",0,0,0,0,0]
[null,"00:04:00",1,2,"M",0,0,0,0,0]
[null,"00:05:00",1,2,"M",0,0,0,0,0]
[null,"00:06:00",1,3,"F",0,0,0,1,1]
[null,"00:07:00",1,3,"F",0,0,0,0,0]
[null,"00:08:00",1,3,"F",1,0,0,0,0]
[null,"00:09:00",1,3,"F",0,0,0,0,0]
[null,"00:10:00",1,3,"F",0,0,0,0,0]
[null,"00:11:00",1,4,"M",0,0,0,1,2]
[null,"00:12:00",1,4,"M",0,0,0,0,0]
[null,"00:13:00",1,4,"M",0,0,0,0,0]
[null,"00:14:00",1,4,"M",2,0,0,0,0]
[null,"00:15:00",1,4,"M",0,0,0,0,0]
[null,"00:16:00",1,4,"M",0,0,0,0,0]
[null,"00:17:00",1,4,"M",2,0,0,0,0]
[null,"00:18:00",1,4,"M",0,0,0,0,0]
[null,"00:19:00",1,4,"M",0,1,1,1,1]
[null,"00:20:00",1,5,"F",0,0,0,0,0]
[null,"00:21:00",1,5,"F",0,0,0,0,0]
[null,"00:22:00",1,5,"F",0,0,0,0,0]
[null,"00:23:00",1,5,"F",0,0,0,0,0]
[null,"00:24:00",1,5,"F",0,0,0,0,0]
[null,"00:25:00",1,5,"F",0,0,0,0,0]
[null,"00:26:00",1,6,"M",0,0,0,2,2]
[null,"00:27:00",1,6,"M",2,0,0,0,0]
[null,"00:28:00",1,6,"M",0,0,0,0,0]
[null,"00:29:00",1,6,"M",0,0,0,0,0]
[null,"00:30:00",1,6,"M",0,0,0,0,0]
[null,"00:31:00",1,6,"M",0,0,0,0,0]
[null,"00:32:00",1,6,"M",0,0,0,1,1]
[null,"00:33:00",1,7,"F",1,0,0,0,0]
[null,"00:34:00",1,7,"F",0,0,0,2,2]
[null,"00:35:00",1,8,"M",0,0,0,0,0]
[null,"00:36:00",1,8,"M",0,0,0,0,0]
[null,"00:37:00",1,8,"M",0,0,0,0,0]
[null,"00:38:00",1,8,"M",0,0,0,0,0]
[null,"00:39:00",1,8,"M",0,0,0,0,0]
[null,"00:40:00",1,8,"M",0,0,0,0,0]
[null,"00:41:00",1,8,"M",0,0,0,0,0]
[null,"00:42:00",1,8,"M",0,0,0,0,0]
[null,"00:43:00",1,8,"M",0,1,0,0,0]
[null,"00:44:00",1,8,"M",0,1,0,0,0]
[null,"00:45:00",1,8,"M",0,0,0,0,0]
[null,"00:46:00",1,8,"M",0,0,0,0,0]
[null,"00:47:00",1,8,"M",0,0,0,0,0]
[null,"00:48:00",1,8,"M",0,0,0,2,1]
[null,"00:49:00",1,9,"F",0,0,0,0,0]
[null,"00:50:00",1,9,"F",0,0,0,0,0]
[null,"00:51:00",1,10,"M",0,2,2,2,2]
[null,"00:52:00",1,10,"M",0,0,0,0,0]
[null,"00:53:00",1,10,"M",0,0,0,0,0]
[null,"00:54:00",1,10,"M",0,0,0,0,0]
[null,"00:55:00",1,10,"M",0,0,0,0,0]
[null,"00:56:00",1,10,"M",2,0,0,0,0]
[null,"00:57:00",1,10,"M",0,0,0,0,0]
[null,"00:58:00",1,"BREAK",0,0,0,0,0,0]
[null,"00:59:00",1,"BREAK",0,0,0,0,1,1]
[null,"01:00:00",2,2,"M",1,0,0,2,2]
[null,"01:01:00",2,2,"M",0,0,0,0,0]
[null,"01:02:00",2,2,"M",0,0,0,0,0]
[null,"01:03:00",2,2,"M",0,0,0,0,0]
[null,"01:04:00",2,2,"M",0,0,0,0,0]
[null,"01:05:00",{"$f":"VLOOKUP(B118,$I$5:$N$49,2)","v":2},{"$f":"VLOOKUP(B118,$I$5:$N$49,3)","v":2},{"$f":"VLOOKUP(B118,$I$5:$N$49,5)","v":"M"},{"$f":"SUMIFS($G$5:$G$32,$B$5:$B$32,B118)","v":0},{"$f":"SUMIFS($U$5:$U$23,$R$5:$R$23,B118)","v":1},{"$f":"SUMIFS($V$5:$V$23,$R$5:$R$23,B118)","v":0},{"$f":"SUMIFS($P$5:$P$48,$I$5:$I$48,$B118)","v":0},{"$f":"SUMIFS($O$5:$O$48,$I$5:$I$48,$B118)","v":0}]
[null,"01:06:00",2,2,"M",0,0,0,0,0]
[null,"01:07:00",2,2,"M",0,0,0,0,0]
[null,"01:08:00",2,2,"M",0,0,0,0,0]
[null,"01:09:00",2,3,"F",0,0,0,1,1]
[null,"01:10:00",2,3,"F",0,0,0,0,0]
[null,"01:11:00",2,3,"F",0,0,0,0,0]
[null,"01:12:00",2,4,"M",0,0,0,2,2]
[null,"01:13:00",2,4,"M",0,0,0,0,0]
[null,"01:14:00",2,4,"M",0,0,0,0,0]
[null,"01:15:00",2,4,"M",0,0,0,0,0]
[null,"01:16:00",2,5,"F",0,0,0,1,1]
[null,"01:17:00",2,5,"F",0,0,0,0,0]
[null,"01:18:00",2,5,"F",0,0,0,0,0]
[null,"01:19:00",2,5,"F",0,2,0,0,0]
[null,"01:20:00",2,5,"F",0,2,0,0,0]
[null,"01:21:00",2,6,"M",0,0,0,2,2]
[null,"01:22:00",2,6,"M",0,0,0,0,0]
[null,"01:23:00",2,6,"M",0,0,0,0,0]
[null,"01:24:00",2,6,"M",0,0,0,0,0]
[null,"01:25:00",2,7,"F",2,0,0,1,1]
[null,"01:26:00",2,7,"F",0,0,0,2,2]
[null,"01:27:00",2,8,"M",0,0,0,0,0]
[null,"01:28:00",2,8,"M",0,0,0,0,0]
[null,"01:29:00",2,8,"M",0,0,0,0,0]
[null,"01:30:00",2,9,"F",0,0,0,1,1]
[null,"01:31:00",2,9,"F",0,0,0,0,0]
[null,"01:32:00",2,9,"F",0,0,0,0,0]
[null,"01:33:00",2,9,"F",0,2,0,0,0]
[null,"01:34:00",2,9,"F",0,2,0,0,0]
[null,"01:35:00",2,9,"F",0,0,0,0,0]
[null,"01:36:00",2,9,"F",0,0,0,0,0]
[null,"01:37:00",2,9,"F",1,0,0,2,2]
[null,"01:38:00",2,10,"M",0,0,0,0,0]
[null,"01:39:00",2,10,"M",0,0,0,0,0]
[null,"01:40:00",2,10,"M",2,0,0,0,0]
[null,"01:41:00",2,11,"F",0,0,0,1,1]
[null,"01:42:00",2,11,"F",0,0,0,0,0]
[null,"01:43:00",2,11,"F",0,0,0,0,0]
[null,"01:44:00",2,11,"F",1,0,0,0,0]
[null,"01:45:00",2,12,"M",0,0,0,1,2]
[null,"01:46:00",2,12,"M",0,0,0,0,0]
[null,"01:47:00",2,12,"M",2,0,0,0,0]
[null,"01:48:00",2,12,"M",0,0,0,0,0]
[null,"01:49:00",2,12,"M",0,0,0,0,0]
[null,"01:50:00",2,12,"M",0,0,0,0,0]
[null,"01:51:00",2,12,"M",0,1,1,0,0]
[null,"01:52:00",2,"BREAK",0,0,0,0,0,0]
[null,"01:53:00",2,"BREAK",0,0,0,0,0,0]
[null,"01:54:00",3,1,"F",1,0,0,1,1]
[null,"01:55:00",3,2,"M",0,0,0,2,2]
[null,"01:56:00",3,2,"M",0,0,0,0,0]
[null,"01:57:00",3,2,"M",0,0,0,0,0]
[null,"01:58:00",3,2,"M",0,0,0,0,0]
[null,"01:59:00",3,2,"M",0,0,0,0,0]
[null,"02:00:00",3,2,"M",0,0,0,1,1]
[null,"02:01:00",3,3,"F",0,0,0,0,0]
[null,"02:02:00",3,3,"F",0,0,0,2,2]
[null,"02:03:00",3,4,"M",0,0,0,0,0]
[null,"02:04:00",3,4,"M",2,0,0,0,0]
[null,"02:05:00",3,4,"M",0,0,0,0,0]
[null,"02:06:00",3,4,"M",0,0,0,0,0]
[null,"02:07:00",3,5,"F",0,0,0,1,1]
[null,"02:08:00",3,5,"F",0,0,0,0,0]
[null,"02:09:00",{"$f":"VLOOKUP(B182,$I$5:$N$49,2)","v":3},{"$f":"VLOOKUP(B182,$I$5:$N$49,3)","v":5},{"$f":"VLOOKUP(B182,$I$5:$N$49,5)","v":"F"},{"$f":"SUMIFS($G$5:$G$32,$B$5:$B$32,B182)","v":1},{"$f":"SUMIFS($U$5:$U$23,$R$5:$R$23,B182)","v":0},{"$f":"SUMIFS($V$5:$V$23,$R$5:$R$23,B182)","v":0},{"$f":"SUMIFS($P$5:$P$48,$I$5:$I$48,$B182)","v":0},{"$f":"SUMIFS($O$5:$O$48,$I$5:$I$48,$B182)","v":0}]
[null,"02:10:00",3,5,"F",0,0,0,0,0]
[null,"02:11:00",3,5,"F",0,0,0,1,2]
[null,"02:12:00",3,6,"M",0,0,0,0,0]
[null,"02:13:00",3,6,"M",2,0,0,0,0]
[null,"02:14:00",3,6,"M",0,0,0,0,0]
[null,"02:15:00",3,6,"M",0,0,0,0,0]
[null,"02:16:00",3,6,"M",0,0,0,0,0]
[null,"02:17:00",3,6,"M",0,0,0,0,0]
[null,"02:18:00",3,6,"M",0,0,0,0,0]
[null,"02:19:00",3,6,"M",0,0,0,0,0]
[null,"02:20:00",3,6,"M",0,0,0,0,0]
[null,"02:21:00",3,6,"M",0,0,0,0,0]
[null,"02:22:00",3,6,"M",0,1,0,0,0]
[null,"02:23:00",3,6,"M",0,0,0,0,0]
[null,"02:24:00",3,6,"M",0,1,0,0,0]
[null,"02:25:00",3,6,"M",0,0,0,0,0]
[null,"02:26:00",3,6,"M",0,0,0,0,0]
[null,"02:27:00",3,6,"M",0,0,0,0,0]
[null,"02:28:00",3,6,"M",0,0,0,0,0]
[null,"02:29:00",3,6,"M",0,0,0,0,0]
[null,"02:30:00",3,6,"M",0,1,0,0,0]
[null,"02:31:00",3,6,"M",0,0,0,0,0]
[null,"02:32:00",3,6,"M",0,1,0,0,0]
[null,"02:33:00",3,6,"M",0,0,0,0,0]
[null,"02:34:00",3,6,"M",0,0,0,0,0]
[null,"02:35:00",3,6,"M",0,0,0,0,0]
[null,"02:36:00",3,6,"M",0,0,0,0,0]
[null,"02:37:00",3,7,"F",0,1,1,1,1]
[null,"02:38:00",3,7,"F",0,0,0,0,0]
[null,"02:39:00",3,7,"F",0,0,0,0,0]
[null,"02:40:00",3,7,"F",0,0,0,0,0]
[null,"02:41:00",3,7,"F",0,0,0,0,0]
[null,"02:42:00",3,7,"F",0,0,0,0,0]
[null,"02:43:00",3,7,"F",0,0,0,2,2]
[null,"02:44:00",3,8,"M",0,0,0,0,0]
[null,"02:45:00",3,8,"M",0,0,0,0,0]
[null,"02:46:00",3,8,"M",0,0,0,0,0]
[null,"02:47:00",3,8,"M",0,0,0,0,0]
[null,"02:48:00",3,8,"M",0,0,0,0,0]
[null,"02:49:00",3,8,"M",2,0,0,1,1]
[null,"02:50:00",3,9,"F",0,0,0,0,0]
[null,"02:51:00",3,9,"F",0,0,0,0,0]
[null,"02:52:00",3,9,"F",1,0,0,0,0]
[null,"02:53:00",3,9,"F",0,0,0,0,0]
[null,"02:54:00",3,9,"F",0,0,0,0,0]
[null,"02:55:00",3,"BREAK",0,1,0,0,0,0]
[null,"02:56:00",3,"BREAK",0,0,0,0,2,2]
[null,"02:57:00",4,1,"M",0,0,0,0,0]
[null,"02:58:00",4,1,"M",0,0,0,0,0]
[null,"02:59:00",4,1,"M",2,0,0,0,0]
[null,"03:00:00",4,1,"M",0,0,0,0,0]
[null,"03:01:00",4,1,"M",0,0,0,1,1]
[null,"03:02:00",4,2,"F",0,0,0,0,0]
[null,"03:03:00",4,2,"F",0,0,0,0,0]
[null,"03:04:00",4,2,"F",0,0,0,0,0]
[null,"03:05:00",4,2,"F",0,0,0,0,0]
[null,"03:06:00",4,2,"F",0,0,0,0,0]
[null,"03:07:00",4,2,"F",0,2,0,0,0]
[null,"03:08:00",4,2,"F",0,0,0,0,0]
[null,"03:09:00",4,3,"M",0,0,0,2,2]
[null,"03:10:00",4,3,"M",0,0,0,0,0]
[null,"03:11:00",4,3,"M",2,0,0,0,0]
[null,"03:12:00",4,3,"M",0,0,0,0,0]
[null,"03:13:00",{"$f":"VLOOKUP(B246,$I$5:$N$49,2)","v":4},{"$f":"VLOOKUP(B246,$I$5:$N$49,3)","v":3},{"$f":"VLOOKUP(B246,$I$5:$N$49,5)","v":"M"},{"$f":"SUMIFS($G$5:$G$32,$B$5:$B$32,B246)","v":2},{"$f":"SUMIFS($U$5:$U$23,$R$5:$R$23,B246)","v":0},{"$f":"SUMIFS($V$5:$V$23,$R$5:$R$23,B246)","v":0},{"$f":"SUMIFS($P$5:$P$48,$I$5:$I$48,$B246)","v":0},{"$f":"SUMIFS($O$5:$O$48,$I$5:$I$48,$B246)","v":0}]
[null,"03:14:00",4,3,"M",0,0,0,0,0]
[null,"03:15:00",4,4,"F",0,0,0,1,1]
[null,"03:16:00",4,4,"F",0,0,0,0,0]
[null,"03:17:00",4,4,"F",0,0,0,0,0]
[null,"03:18:00",4,4,"F",1,0,0,0,0]
[null,"03:19:00",4,4,"F",0,0,0,1,2]
[null,"03:20:00",4,5,"M",0,0,0,0,0]
[null,"03:21:00",4,5,"M",0,0,0,0,0]
[null,"03:22:00",4,5,"M",0,0,0,0,0]
[null,"03:23:00",4,5,"M",0,0,0,0,0]
[null,"03:24:00",4,6,"F",0,1,1,1,1]
[null,"03:25:00",4,6,"F",0,0,0,0,0]
[null,"03:26:00",4,6,"F",0,0,0,0,0]
[null,"03:27:00",4,6,"F",0,0,0,0,0]
[null,"03:28:00",4,6,"F",0,0,0,0,0]
[null,"03:29:00",4,6,"F",0,0,0,0,0]
[null,"03:30:00",4,6,"F",0,0,0,2,2]
[null,"03:31:00",4,7,"M",0,0,0,0,0]
[null,"03:32:00",4,7,"M",2,0,0,0,0]
[null,"03:33:00",4,7,"M",0,0,0,0,0]
[null,"03:34:00",4,7,"M",0,0,0,0,0]
[null,"03:35:00",4,7,"M",0,0,0,0,0]
[null,"03:36:00",4,8,"F",2,0,0,1,1]
[null,"03:37:00",4,8,"F",0,0,0,0,0]
[null,"03:38:00",4,8,"F",0,0,0,0,0]
[null,"03:39:00",4,8,"F",1,0,0,0,0]
[null,"03:40:00",4,8,"F",0,0,0,0,0]
[null,"03:41:00",4,8,"F",0,0,0,0,0]
[null,"03:42:00",4,9,"M",0,0,0,2,2]
[null,"03:43:00",4,9,"M",0,0,0,0,0]
[null,"03:44:00",4,9,"M",0,0,0,0,0]
[null,"03:45:00",4,9,"M",0,0,0,0,0]
[null,"03:46:00",4,9,"M",0,0,0,0,0]
[null,"03:47:00",4,9,"M",0,0,0,0,0]
[null,"03:48:00",4,9,"M",0,0,0,0,0]
[null,"03:49:00",4,9,"M",0,0,0,0,0]
[null,"03:50:00",4,9,"M",0,0,0,0,0]
[null,"03:51:00",4,9,"M",2,0,0,0,0]
[null,"03:52:00",4,9,"M",0,0,0,1,1]
[null,"03:53:00",4,10,"F",0,0,0,0,0]
[null,"03:54:00",4,10,"F",0,0,0,0,0]
[null,"03:55:00",4,10,"F",0,0,0,0,0]
[null,"03:56:00",4,10,"F",1,0,0,0,0]
[null,"03:57:00",4,10,"F",0,0,0,0,0]
[null,"03:58:00",4,0,0,0,0,0,0,0]

{"sheet":"Timeline","index":1,"n_rows":17,"n_cols":242,"rows_kept":17,"cut":false,"hidden":false,"merged":[[16,3,16,60],[16,63,16,114],[16,117,16,177],[16,180,16,241],[13,2,14,2]]}
[]
[]
[null,null,null,"00:00:00","00:01:00","00:02:00","00:03:00","00:04:00","00:05:00","00:06:00","00:07:00","00:08:00","00:09:00","00:10:00","00:11:00","00:12:00","00:13:00","00:14:00","00:15:00","00:16:00","00:17:00","00:18:00","00:19:00","00:20:00","00:21:00","00:22:00","00:23:00","00:24:00","00:25:00","00:26:00","00:27:00","00:28:00","00:29:00","00:30:00","00:31:00","00:32:00","00:33:00","00:34:00","00:35:00","00:36:00","00:37:00","00:38:00","00:39:00","00:40:00","00:41:00","00:42:00","00:43:00","00:44:00","00:45:00","00:46:00","00:47:00","00:48:00","00:49:00","00:50:00","00:51:00","00:52:00","00:53:00","00:54:00","00:55:00","00:56:00","00:57:00","00:58:00","00:59:00","01:00:00","01:01:00","01:02:00","01:03:00","01:04:00","01:05:00","01:06:00","01:07:00","01:08:00","01:09:00","01:10:00","01:11:00","01:12:00","01:13:00","01:14:00","01:15:00","01:16:00","01:17:00","01:18:00","01:19:00","01:20:00","01:21:00","01:22:00","01:23:00","01:24:00","01:25:00","01:26:00","01:27:00","01:28:00","01:29:00","01:30:00","01:31:00","01:32:00","01:33:00","01:34:00","01:35:00","01:36:00","01:37:00","01:38:00","01:39:00","01:40:00","01:41:00","01:42:00","01:43:00","01:44:00","01:45:00","01:46:00","01:47:00","01:48:00","01:49:00","01:50:00","01:51:00","01:52:00","01:53:00","01:54:00","01:55:00","01:56:00","01:57:00","01:58:00","01:59:00","02:00:00","02:01:00","02:02:00","02:03:00","02:04:00","02:05:00","02:06:00","02:07:00","02:08:00","02:09:00","02:10:00","02:11:00","02:12:00","02:13:00","02:14:00","02:15:00","02:16:00","02:17:00","02:18:00","02:19:00","02:20:00","02:21:00","02:22:00","02:23:00","02:24:00","02:25:00","02:26:00","02:27:00","02:28:00","02:29:00","02:30:00","02:31:00","02:32:00","02:33:00","02:34:00","02:35:00","02:36:00","02:37:00","02:38:00","02:39:00","02:40:00","02:41:00","02:42:00","02:43:00","02:44:00","02:45:00","02:46:00","02:47:00","02:48:00","02:49:00","02:50:00","02:51:00","02:52:00","02:53:00","02:54:00","02:55:00","02:56:00","02:57:00","02:58:00","02:59:00","03:00:00","03:01:00","03:02:00","03:03:00","03:04:00","03:05:00","03:06:00","03:07:00","03:08:00","03:09:00","03:10:00","03:11:00","03:12:00","03:13:00","03:14:00","03:15:00","03:16:00","03:17:00","03:18:00","03:19:00","03:20:00","03:21:00","03:22:00","03:23:00","03:24:00","03:25:00","03:26:00","03:27:00","03:28:00","03:29:00","03:30:00","03:31:00","03:32:00","03:33:00","03:34:00","03:35:00","03:36:00","03:37:00","03:38:00","03:39:00","03:40:00","03:41:00","03:42:00","03:43:00","03:44:00","03:45:00","03:46:00","03:47:00","03:48:00","03:49:00","03:50:00","03:51:00","03:52:00","03:53:00","03:54:00","03:55:00","03:56:00","03:57:00","03:58:00"]
[]
[]
[]
[null,null,null,1,2,3,4,5,6,7,8,9,10,11,12,13,14,15,16,17,18,19,20,21,22,23,24,25,26,27,28,29,30,31,32,33,34,35,36,37,38,39,40,41,42,43,44,45,46,47,48,49,50,51,52,53,54,55,56,57,58,59,60,61,62,63,64,65,66,67,68,69,70,71,72,73,74,75,76,77,78,79,80,81,82,83,84,85,86,87,88,89,90,91,92,93,94,95,96,97,98,99,100,101,102,103,104,105,106,107,108,109,110,111,112,113,114,115,116,117,118,119,120,121,122,123,124,125,126,127,128,129,130,131,132,133,134,135,136,137,138,139,140,141,142,143,144,145,146,147,148,149,150,151,152,153,154,155,156,157,158,159,160,161,162,163,164,165,166,167,168,169,170,171,172,173,174,175,176,177,178,179,180,181,182,183,184,185,186,187,188,189,190,191,192,193,194,195,196,197,198,199,200,201,202,203,204,205,206,207,208,209,210,211,212,213,214,215,216,217,218,219,220,221,222,223,224,225,226,227,228,229,230,231,232,233,234,235,236,237,238,239]
[]
[null,null,null,{"$f":"INDEX(lstChosen,$D$7:$IH$7)=1","v":false},false,false,false,false,false,false,false,true,false,false,false,false,false,false,false,false,false,false,false,false,false,false,false,false,false,false,false,false,false,false,false,false,true,false,false,false,false,false,false,false,false,false,false,false,false,false,false,false,false,false,false,false,false,false,false,false,false,false,false,true,false,false,false,false,false,false,false,false,false,false,false,false,false,false,false,false,false,false,false,false,false,false,false,false,false,false,false,false,false,false,false,false,false,false,false,false,true,false,false,false,false,false,false,true,false,false,false,false,false,false,false,false,false,true,false,false,false,false,false,false,false,false,false,false,false,false,false,false,true,false,false,false,false,false,false,false,false,false,false,false,false,false,false,false,false,false,false,false,false,false,false,false,false,false,false,false,false,false,false,false,false,false,false,false,false,false,false,false,false,false,false,true,false,false,true,false,false,false,false,false,false,false,false,false,false,false,false,false,false,false,false,false,false,false,false,false,false,true,false,false,false,false,false,false,false,false,false,false,false,false,false,false,false,false,false,false,false,false,true,false,false,false,false,false,false,false,false,false,false,false,false,false,false,false,false,true,false,false]
[]
[null,null,null,{"$f":"INDEX(lstChosen,$D$7:$IH$7)=2","v":false},false,false,false,false,false,false,false,false,false,false,false,false,false,true,false,false,true,false,false,false,false,false,false,false,false,false,true,false,false,false,false,false,false,false,false,false,false,false,false,false,false,false,false,false,false,false,false,false,false,false,false,false,false,false,false,true,false,false,false,false,false,false,false,false,false,false,false,false,false,false,false,false,false,false,false,false,false,false,false,false,false,false,false,false,true,false,false,false,false,false,false,false,false,false,false,false,false,false,false,true,false,false,false,false,false,false,true,false,false,false,false,false,false,false,false,false,false,false,false,false,false,false,false,true,false,false,false,false,false,false,false,false,true,false,false,false,false,false,false,false,false,false,false,false,false,false,false,false,false,false,false,false,false,false,false,false,false,false,false,false,false,false,false,false,false,false,false,false,true,false,false,false,false,false,false,false,false,false,true,false,false,false,false,false,false,false,false,false,false,false,true,false,true,false,false,false,false,false,false,false,false,false,false,false,false,false,false,false,false,false,false,true,false,false,false,true,false,false,false,false,false,false,false,false,false,false,false,false,false,false,true,false,false,false,false,false,false,false]
[]
[]
[null,null,"Games"]
[null,null,null,{"$f":"MOD(VLOOKUP(D3,DATA!$I$5:$K$49,3),2)","v":1},{"$f":"MOD(VLOOKUP(E3,DATA!$I$5:$K$49,3),2)","v":1},{"$f":"MOD(VLOOKUP(F3,DATA!$I$5:$K$49,3),2)","v":0},{"$f":"MOD(VLOOKUP(G3,DATA!$I$5:$K$49,3),2)","v":0},{"$f":"MOD(VLOOKUP(H3,DATA!$I$5:$K$49,3),2)","v":0},{"$f":"MOD(VLOOKUP(I3,DATA!$I$5:$K$49,3),2)","v":0},{"$f":"MOD(VLOOKUP(J3,DATA!$I$5:$K$49,3),2)","v":1},{"$f":"MOD(VLOOKUP(K3,DATA!$I$5:$K$49,3),2)","v":1},{"$f":"MOD(VLOOKUP(L3,DATA!$I$5:$K$49,3),2)","v":1},{"$f":"MOD(VLOOKUP(M3,DATA!$I$5:$K$49,3),2)","v":1},{"$f":"MOD(VLOOKUP(N3,DATA!$I$5:$K$49,3),2)","v":1},{"$f":"MOD(VLOOKUP(O3,DATA!$I$5:$K$49,3),2)","v":0},{"$f":"MOD(VLOOKUP(P3,DATA!$I$5:$K$49,3),2)","v":0},{"$f":"MOD(VLOOKUP(Q3,DATA!$I$5:$K$49,3),2)","v":0},{"$f":"MOD(VLOOKUP(R3,DATA!$I$5:$K$49,3),2)","v":0},{"$f":"MOD(VLOOKUP(S3,DATA!$I$5:$K$49,3),2)","v":0},{"$f":"MOD(VLOOKUP(T3,DATA!$I$5:$K$49,3),2)","v":0},{"$f":"MOD(VLOOKUP(U3,DATA!$I$5:$K$49,3),2)","v":0},{"$f":"MOD(VLOOKUP(V3,DATA!$I$5:$K$49,3),2)","v":0},{"$f":"MOD(VLOOKUP(W3,DATA!$I$5:$K$49,3),2)","v":0},{"$f":"MOD(VLOOKUP(X3,DATA!$I$5:$K$49,3),2)","v":1},{"$f":"MOD(VLOOKUP(Y3,DATA!$I$5:$K$49,3),2)","v":1},{"$f":"MOD(VLOOKUP(Z3,DATA!$I$5:$K$49,3),2)","v":1},{"$f":"MOD(VLOOKUP(AA3,DATA!$I$5:$K$49,3),2)","v":1},{"$f":"MOD(VLOOKUP(AB3,DATA!$I$5:$K$49,3),2)","v":1},{"$f":"MOD(VLOOKUP(AC3,DATA!$I$5:$K$49,3),2)","v":1},{"$f":"MOD(VLOOKUP(AD3,DATA!$I$5:$K$49,3),2)","v":0},{"$f":"MOD(VLOOKUP(AE3,DATA!$I$5:$K$49,3),2)","v":0},{"$f":"MOD(VLOOKUP(AF3,DATA!$I$5:$K$49,3),2)","v":0},{"$f":"MOD(VLOOKUP(AG3,DATA!$I$5:$K$49,3),2)","v":0},{"$f":"MOD(VLOOKUP(AH3,DATA!$I$5:$K$49,3),2)","v":0},{"$f":"MOD(VLOOKUP(AI3,DATA!$I$5:$K$49,3),2)","v":0},{"$f":"MOD(VLOOKUP(AJ3,DATA!$I$5:$K$49,3),2)","v":0},{"$f":"MOD(VLOOKUP(AK3,DATA!$I$5:$K$49,3),2)","v":1},{"$f":"MOD(VLOOKUP(AL3,DATA!$I$5:$K$49,3),2)","v":1},{"$f":"MOD(VLOOKUP(AM3,DATA!$I$5:$K$49,3),2)","v":0},{"$f":"MOD(VLOOKUP(AN3,DATA!$I$5:$K$49,3),2)","v":0},{"$f":"MOD(VLOOKUP(AO3,DATA!$I$5:$K$49,3),2)","v":0},{"$f":"MOD(VLOOKUP(AP3,DATA!$I$5:$K$49,3),2)","v":0},{"$f":"MOD(VLOOKUP(AQ3,DATA!$I$5:$K$49,3),2)","v":0},{"$f":"MOD(VLOOKUP(AR3,DATA!$I$5:$K$49,3),2)","v":0},{"$f":"MOD(VLOOKUP(AS3,DATA!$I$5:$K$49,3),2)","v":0},{"$f":"MOD(VLOOKUP(AT3,DATA!$I$5:$K$49,3),2)","v":0},{"$f":"MOD(VLOOKUP(AU3,DATA!$I$5:$K$49,3),2)","v":0},{"$f":"MOD(VLOOKUP(AV3,DATA!$I$5:$K$49,3),2)","v":0},{"$f":"MOD(VLOOKUP(AW3,DATA!$I$5:$K$49,3),2)","v":0},{"$f":"MOD(VLOOKUP(AX3,DATA!$I$5:$K$49,3),2)","v":0},{"$f":"MOD(VLOOKUP(AY3,DATA!$I$5:$K$49,3),2)","v":0},{"$f":"MOD(VLOOKUP(AZ3,DATA!$I$5:$K$49,3),2)","v":0},{"$f":"MOD(VLOOKUP(BA3,DATA!$I$5:$K$49,3),2)","v":1},{"$f":"MOD(VLOOKUP(BB3,DATA!$I$5:$K$49,3),2)","v":1},{"$f":"MOD(VLOOKUP(BC3,DATA!$I$5:$K$49,3),2)","v":0},{"$f":"MOD(VLOOKUP(BD3,DATA!$I$5:$K$49,3),2)","v":0},{"$f":"MOD(VLOOKUP(BE3,DATA!$I$5:$K$49,3),2)","v":0},{"$f":"MOD(VLOOKUP(BF3,DATA!$I$5:$K$49,3),2)","v":0},{"$f":"MOD(VLOOKUP(BG3,DATA!$I$5:$K$49,3),2)","v":0},{"$f":"MOD(VLOOKUP(BH3,DATA!$I$5:$K$49,3),2)","v":0},{"$f":"MOD(VLOOKUP(BI3,DATA!$I$5:$K$49,3),2)","v":0},{"$f":"MOD(VLOOKUP(BJ3,DATA!$I$5:$K$49,3),2)","v":{"$error":"#VALUE!"}},{"$f":"MOD(VLOOKUP(BK3,DATA!$I$5:$K$49,3),2)","v":{"$error":"#VALUE!"}},{"$f":"MOD(VLOOKUP(BL3,DATA!$I$5:$K$49,3),2)","v":0},{"$f":"MOD(VLOOKUP(BM3,DATA!$I$5:$K$49,3),2)","v":0},{"$f":"MOD(VLOOKUP(BN3,DATA!$I$5:$K$49,3),2)","v":0},{"$f":"MOD(VLOOKUP(BO3,DATA!$I$5:$K$49,3),2)","v":0},{"$f":"MOD(VLOOKUP(BP3,DATA!$I$5:$K$49,3),2)","v":0},{"$f":"MOD(VLOOKUP(BQ3,DATA!$I$5:$K$49,3),2)","v":0},{"$f":"MOD(VLOOKUP(BR3,DATA!$I$5:$K$49,3),2)","v":0},{"$f":"MOD(VLOOKUP(BS3,DATA!$I$5:$K$49,3),2)","v":0},{"$f":"MOD(VLOOKUP(BT3,DATA!$I$5:$K$49,3),2)","v":0},{"$f":"MOD(VLOOKUP(BU3,DATA!$I$5:$K$49,3),2)","v":1},{"$f":"MOD(VLOOKUP(BV3,DATA!$I$5:$K$49,3),2)","v":1},{"$f":"MOD(VLOOKUP(BW3,DATA!$I$5:$K$49,3),2)","v":1},{"$f":"MOD(VLOOKUP(BX3,DATA!$I$5:$K$49,3),2)","v":0},{"$f":"MOD(VLOOKUP(BY3,DATA!$I$5:$K$49,3),2)","v":0},{"$f":"MOD(VLOOKUP(BZ3,DATA!$I$5:$K$49,3),2)","v":0},{"$f":"MOD(VLOOKUP(CA3,DATA!$I$5:$K$49,3),2)","v":0},{"$f":"MOD(VLOOKUP(CB3,DATA!$I$5:$K$49,3),2)","v":1},{"$f":"MOD(VLOOKUP(CC3,DATA!$I$5:$K$49,3),2)","v":1},{"$f":"MOD(VLOOKUP(CD3,DATA!$I$5:$K$49,3),2)","v":1},{"$f":"MOD(VLOOKUP(CE3,DATA!$I$5:$K$49,3),2)","v":1},{"$f":"MOD(VLOOKUP(CF3,DATA!$I$5:$K$49,3),2)","v":1},{"$f":"MOD(VLOOKUP(CG3,DATA!$I$5:$K$49,3),2)","v":0},{"$f":"MOD(VLOOKUP(CH3,DATA!$I$5:$K$49,3),2)","v":0},{"$f":"MOD(VLOOKUP(CI3,DATA!$I$5:$K$49,3),2)","v":0},{"$f":"MOD(VLOOKUP(CJ3,DATA!$I$5:$K$49,3),2)","v":0},{"$f":"MOD(VLOOKUP(CK3,DATA!$I$5:$K$49,3),2)","v":1},{"$f":"MOD(VLOOKUP(CL3,DATA!$I$5:$K$49,3),2)","v":1},{"$f":"MOD(VLOOKUP(CM3,DATA!$I$5:$K$49,3),2)","v":0},{"$f":"MOD(VLOOKUP(CN3,DATA!$I$5:$K$49,3),2)","v":0},{"$f":"MOD(VLOOKUP(CO3,DATA!$I$5:$K$49,3),2)","v":0},{"$f":"MOD(VLOOKUP(CP3,DATA!$I$5:$K$49,3),2)","v":1},{"$f":"MOD(VLOOKUP(CQ3,DATA!$I$5:$K$49,3),2)","v":1},{"$f":"MOD(VLOOKUP(CR3,DATA!$I$5:$K$49,3),2)","v":1},{"$f":"MOD(VLOOKUP(CS3,DATA!$I$5:$K$49,3),2)","v":1},{"$f":"MOD(VLOOKUP(CT3,DATA!$I$5:$K$49,3),2)","v":1},{"$f":"MOD(VLOOKUP(CU3,DATA!$I$5:$K$49,3),2)","v":1},{"$f":"MOD(VLOOKUP(CV3,DATA!$I$5:$K$49,3),2)","v":1},{"$f":"MOD(VLOOKUP(CW3,DATA!$I$5:$K$49,3),2)","v":1},{"$f":"MOD(VLOOKUP(CX3,DATA!$I$5:$K$49,3),2)","v":0},{"$f":"MOD(VLOOKUP(CY3,DATA!$I$5:$K$49,3),2)","v":0},{"$f":"MOD(VLOOKUP(CZ3,DATA!$I$5:$K$49,3),2)","v":0},{"$f":"MOD(VLOOKUP(DA3,DATA!$I$5:$K$49,3),2)","v":1},{"$f":"MOD(VLOOKUP(DB3,DATA!$I$5:$K$49,3),2)","v":1},{"$f":"MOD(VLOOKUP(DC3,DATA!$I$5:$K$49,3),2)","v":1},{"$f":"MOD(VLOOKUP(DD3,DATA!$I$5:$K$49,3),2)","v":1},{"$f":"MOD(VLOOKUP(DE3,DATA!$I$5:$K$49,3),2)","v":0},{"$f":"MOD(VLOOKUP(DF3,DATA!$I$5:$K$49,3),2)","v":0},{"$f":"MOD(VLOOKUP(DG3,DATA!$I$5:$K$49,3),2)","v":0},{"$f":"MOD(VLOOKUP(DH3,DATA!$I$5:$K$49,3),2)","v":0},{"$f":"MOD(VLOOKUP(DI3,DATA!$I$5:$K$49,3),2)","v":0},{"$f":"MOD(VLOOKUP(DJ3,DATA!$I$5:$K$49,3),2)","v":0},{"$f":"MOD(VLOOKUP(DK3,DATA!$I$5:$K$49,3),2)","v":0},{"$f":"MOD(VLOOKUP(DL3,DATA!$I$5:$K$49,3),2)","v":{"$error":"#VALUE!"}},{"$f":"MOD(VLOOKUP(DM3,DATA!$I$5:$K$49,3),2)","v":{"$error":"#VALUE!"}},{"$f":"MOD(VLOOKUP(DN3,DATA!$I$5:$K$49,3),2)","v":1},{"$f":"MOD(VLOOKUP(DO3,DATA!$I$5:$K$49,3),2)","v":0},{"$f":"MOD(VLOOKUP(DP3,DATA!$I$5:$K$49,3),2)","v":0},{"$f":"MOD(VLOOKUP(DQ3,DATA!$I$5:$K$49,3),2)","v":0},{"$f":"MOD(VLOOKUP(DR3,DATA!$I$5:$K$49,3),2)","v":0},{"$f":"MOD(VLOOKUP(DS3,DATA!$I$5:$K$49,3),2)","v":0},{"$f":"MOD(VLOOKUP(DT3,DATA!$I$5:$K$49,3),2)","v":0},{"$f":"MOD(VLOOKUP(DU3,DATA!$I$5:$K$49,3),2)","v":1},{"$f":"MOD(VLOOKUP(DV3,DATA!$I$5:$K$49,3),2)","v":1},{"$f":"MOD(VLOOKUP(DW3,DATA!$I$5:$K$49,3),2)","v":0},{"$f":"MOD(VLOOKUP(DX3,DATA!$I$5:$K$49,3),2)","v":0},{"$f":"MOD(VLOOKUP(DY3,DATA!$I$5:$K$49,3),2)","v":0},{"$f":"MOD(VLOOKUP(DZ3,DATA!$I$5:$K$49,3),2)","v":0},{"$f":"MOD(VLOOKUP(EA3,DATA!$I$5:$K$49,3),2)","v":1},{"$f":"MOD(VLOOKUP(EB3,DATA!$I$5:$K$49,3),2)","v":1},{"$f":"MOD(VLOOKUP(EC3,DATA!$I$5:$K$49,3),2)","v":1},{"$f":"MOD(VLOOKUP(ED3,DATA!$I$5:$K$49,3),2)","v":1},{"$f":"MOD(VLOOKUP(EE3,DATA!$I$5:$K$49,3),2)","v":1},{"$f":"MOD(VLOOKUP(EF3,DATA!$I$5:$K$49,3),2)","v":0},{"$f":"MOD(VLOOKUP(EG3,DATA!$I$5:$K$49,3),2)","v":0},{"$f":"MOD(VLOOKUP(EH3,DATA!$I$5:$K$49,3),2)","v":0},{"$f":"MOD(VLOOKUP(EI3,DATA!$I$5:$K$49,3),2)","v":0},{"$f":"MOD(VLOOKUP(EJ3,DATA!$I$5:$K$49,3),2)","v":0},{"$f":"MOD(VLOOKUP(EK3,DATA!$I$5:$K$49,3),2)","v":0},{"$f":"MOD(VLOOKUP(EL3,DATA!$I$5:$K$49,3),2)","v":0},{"$f":"MOD(VLOOKUP(EM3,DATA!$I$5:$K$49,3),2)","v":0},{"$f":"MOD(VLOOKUP(EN3,DATA!$I$5:$K$49,3),2)","v":0},{"$f":"MOD(VLOOKUP(EO3,DATA!$I$5:$K$49,3),2)","v":0},{"$f":"MOD(VLOOKUP(EP3,DATA!$I$5:$K$49,3),2)","v":0},{"$f":"MOD(VLOOKUP(EQ3,DATA!$I$5:$K$49,3),2)","v":0},{"$f":"MOD(VLOOKUP(ER3,DATA!$I$5:$K$49,3),2)","v":0},{"$f":"MOD(VLOOKUP(ES3,DATA!$I$5:$K$49,3),2)","v":0},{"$f":"MOD(VLOOKUP(ET3,DATA!$I$5:$K$49,3),2)","v":0},{"$f":"MOD(VLOOKUP(EU3,DATA!$I$5:$K$49,3),2)","v":0},{"$f":"MOD(VLOOKUP(EV3,DATA!$I$5:$K$49,3),2)","v":0},{"$f":"MOD(VLOOKUP(EW3,DATA!$I$5:$K$49,3),2)","v":0},{"$f":"MOD(VLOOKUP(EX3,DATA!$I$5:$K$49,3),2)","v":0},{"$f":"MOD(VLOOKUP(EY3,DATA!$I$5:$K$49,3),2)","v":0},{"$f":"MOD(VLOOKUP(EZ3,DATA!$I$5:$K$49,3),2)","v":0},{"$f":"MOD(VLOOKUP(FA3,DATA!$I$5:$K$49,3),2)","v":0},{"$f":"MOD(VLOOKUP(FB3,DATA!$I$5:$K$49,3),2)","v":0},{"$f":"MOD(VLOOKUP(FC3,DATA!$I$5:$K$49,3),2)","v":0},{"$f":"MOD(VLOOKUP(FD3,DATA!$I$5:$K$49,3),2)","v":0},{"$f":"MOD(VLOOKUP(FE3,DATA!$I$5:$K$49,3),2)","v":1},{"$f":"MOD(VLOOKUP(FF3,DATA!$I$5:$K$49,3),2)","v":1},{"$f":"MOD(VLOOKUP(FG3,DATA!$I$5:$K$49,3),2)","v":1},{"$f":"MOD(VLOOKUP(FH3,DATA!$I$5:$K$49,3),2)","v":1},{"$f":"MOD(VLOOKUP(FI3,DATA!$I$5:$K$49,3),2)","v":1},{"$f":"MOD(VLOOKUP(FJ3,DATA!$I$5:$K$49,3),2)","v":1},{"$f":"MOD(VLOOKUP(FK3,DATA!$I$5:$K$49,3),2)","v":1},{"$f":"MOD(VLOOKUP(FL3,DATA!$I$5:$K$49,3),2)","v":0},{"$f":"MOD(VLOOKUP(FM3,DATA!$I$5:$K$49,3),2)","v":0},{"$f":"MOD(VLOOKUP(FN3,DATA!$I$5:$K$49,3),2)","v":0},{"$f":"MOD(VLOOKUP(FO3,DATA!$I$5:$K$49,3),2)","v":0},{"$f":"MOD(VLOOKUP(FP3,DATA!$I$5:$K$49,3),2)","v":0},{"$f":"MOD(VLOOKUP(FQ3,DATA!$I$5:$K$49,3),2)","v":0},{"$f":"MOD(VLOOKUP(FR3,DATA!$I$5:$K$49,3),2)","v":1},{"$f":"MOD(VLOOKUP(FS3,DATA!$I$5:$K$49,3),2)","v":1},{"$f":"MOD(VLOOKUP(FT3,DATA!$I$5:$K$49,3),2)","v":1},{"$f":"MOD(VLOOKUP(FU3,DATA!$I$5:$K$49,3),2)","v":1},{"$f":"MOD(VLOOKUP(FV3,DATA!$I$5:$K$49,3),2)","v":1},{"$f":"MOD(VLOOKUP(FW3,DATA!$I$5:$K$49,3),2)","v":{"$error":"#VALUE!"}},{"$f":"MOD(VLOOKUP(FX3,DATA!$I$5:$K$49,3),2)","v":{"$error":"#VALUE!"}},{"$f":"MOD(VLOOKUP(FY3,DATA!$I$5:$K$49,3),2)","v":1},{"$f":"MOD(VLOOKUP(FZ3,DATA!$I$5:$K$49,3),2)","v":1},{"$f":"MOD(VLOOKUP(GA3,DATA!$I$5:$K$49,3),2)","v":1},{"$f":"MOD(VLOOKUP(GB3,DATA!$I$5:$K$49,3),2)","v":1},{"$f":"MOD(VLOOKUP(GC3,DATA!$I$5:$K$49,3),2)","v":1},{"$f":"MOD(VLOOKUP(GD3,DATA!$I$5:$K$49,3),2)","v":0},{"$f":"MOD(VLOOKUP(GE3,DATA!$I$5:$K$49,3),2)","v":0},{"$f":"MOD(VLOOKUP(GF3,DATA!$I$5:$K$49,3),2)","v":0},{"$f":"MOD(VLOOKUP(GG3,DATA!$I$5:$K$49,3),2)","v":0},{"$f":"MOD(VLOOKUP(GH3,DATA!$I$5:$K$49,3),2)","v":0},{"$f":"MOD(VLOOKUP(GI3,DATA!$I$5:$K$49,3),2)","v":0},{"$f":"MOD(VLOOKUP(GJ3,DATA!$I$5:$K$49,3),2)","v":0},{"$f":"MOD(VLOOKUP(GK3,DATA!$I$5:$K$49,3),2)","v":1},{"$f":"MOD(VLOOKUP(GL3,DATA!$I$5:$K$49,3),2)","v":1},{"$f":"MOD(VLOOKUP(GM3,DATA!$I$5:$K$49,3),2)","v":1},{"$f":"MOD(VLOOKUP(GN3,DATA!$I$5:$K$49,3),2)","v":1},{"$f":"MOD(VLOOKUP(GO3,DATA!$I$5:$K$49,3),2)","v":1},{"$f":"MOD(VLOOKUP(GP3,DATA!$I$5:$K$49,3),2)","v":1},{"$f":"MOD(VLOOKUP(GQ3,DATA!$I$5:$K$49,3),2)","v":0},{"$f":"MOD(VLOOKUP(GR3,DATA!$I$5:$K$49,3),2)","v":0},{"$f":"MOD(VLOOKUP(GS3,DATA!$I$5:$K$49,3),2)","v":0},{"$f":"MOD(VLOOKUP(GT3,DATA!$I$5:$K$49,3),2)","v":0},{"$f":"MOD(VLOOKUP(GU3,DATA!$I$5:$K$49,3),2)","v":0},{"$f":"MOD(VLOOKUP(GV3,DATA!$I$5:$K$49,3),2)","v":1},{"$f":"MOD(VLOOKUP(GW3,DATA!$I$5:$K$49,3),2)","v":1},{"$f":"MOD(VLOOKUP(GX3,DATA!$I$5:$K$49,3),2)","v":1},{"$f":"MOD(VLOOKUP(GY3,DATA!$I$5:$K$49,3),2)","v":1},{"$f":"MOD(VLOOKUP(GZ3,DATA!$I$5:$K$49,3),2)","v":0},{"$f":"MOD(VLOOKUP(HA3,DATA!$I$5:$K$49,3),2)","v":0},{"$f":"MOD(VLOOKUP(HB3,DATA!$I$5:$K$49,3),2)","v":0},{"$f":"MOD(VLOOKUP(HC3,DATA!$I$5:$K$49,3),2)","v":0},{"$f":"MOD(VLOOKUP(HD3,DATA!$I$5:$K$49,3),2)","v":0},{"$f":"MOD(VLOOKUP(HE3,DATA!$I$5:$K$49,3),2)","v":0},{"$f":"MOD(VLOOKUP(HF3,DATA!$I$5:$K$49,3),2)","v":0},{"$f":"MOD(VLOOKUP(HG3,DATA!$I$5:$K$49,3),2)","v":1},{"$f":"MOD(VLOOKUP(HH3,DATA!$I$5:$K$49,3),2)","v":1},{"$f":"MOD(VLOOKUP(HI3,DATA!$I$5:$K$49,3),2)","v":1},{"$f":"MOD(VLOOKUP(HJ3,DATA!$I$5:$K$49,3),2)","v":1},{"$f":"MOD(VLOOKUP(HK3,DATA!$I$5:$K$49,3),2)","v":1},{"$f":"MOD(VLOOKUP(HL3,DATA!$I$5:$K$49,3),2)","v":0},{"$f":"MOD(VLOOKUP(HM3,DATA!$I$5:$K$49,3),2)","v":0},{"$f":"MOD(VLOOKUP(HN3,DATA!$I$5:$K$49,3),2)","v":0},{"$f":"MOD(VLOOKUP(HO3,DATA!$I$5:$K$49,3),2)","v":0},{"$f":"MOD(VLOOKUP(HP3,DATA!$I$5:$K$49,3),2)","v":0},{"$f":"MOD(VLOOKUP(HQ3,DATA!$I$5:$K$49,3),2)","v":0},{"$f":"MOD(VLOOKUP(HR3,DATA!$I$5:$K$49,3),2)","v":1},{"$f":"MOD(VLOOKUP(HS3,DATA!$I$5:$K$49,3),2)","v":1},{"$f":"MOD(VLOOKUP(HT3,DATA!$I$5:$K$49,3),2)","v":1},{"$f":"MOD(VLOOKUP(HU3,DATA!$I$5:$K$49,3),2)","v":1},{"$f":"MOD(VLOOKUP(HV3,DATA!$I$5:$K$49,3),2)","v":1},{"$f":"MOD(VLOOKUP(HW3,DATA!$I$5:$K$49,3),2)","v":1},{"$f":"MOD(VLOOKUP(HX3,DATA!$I$5:$K$49,3),2)","v":1},{"$f":"MOD(VLOOKUP(HY3,DATA!$I$5:$K$49,3),2)","v":1},{"$f":"MOD(VLOOKUP(HZ3,DATA!$I$5:$K$49,3),2)","v":1},{"$f":"MOD(VLOOKUP(IA3,DATA!$I$5:$K$49,3),2)","v":1},{"$f":"MOD(VLOOKUP(IB3,DATA!$I$5:$K$49,3),2)","v":1},{"$f":"MOD(VLOOKUP(IC3,DATA!$I$5:$K$49,3),2)","v":0},{"$f":"MOD(VLOOKUP(ID3,DATA!$I$5:$K$49,3),2)","v":0},{"$f":"MOD(VLOOKUP(IE3,DATA!$I$5:$K$49,3),2)","v":0},{"$f":"MOD(VLOOKUP(IF3,DATA!$I$5:$K$49,3),2)","v":0},{"$f":"MOD(VLOOKUP(IG3,DATA!$I$5:$K$49,3),2)","v":0},{"$f":"MOD(VLOOKUP(IH3,DATA!$I$5:$K$49,3),2)","v":0}]
[null,null,null,{"$f":"VLOOKUP(D3,DATA!$I$5:$J$49,2)","v":1},{"$f":"VLOOKUP(E3,DATA!$I$5:$J$49,2)","v":1},{"$f":"VLOOKUP(F3,DATA!$I$5:$J$49,2)","v":1},{"$f":"VLOOKUP(G3,DATA!$I$5:$J$49,2)","v":1},{"$f":"VLOOKUP(H3,DATA!$I$5:$J$49,2)","v":1},{"$f":"VLOOKUP(I3,DATA!$I$5:$J$49,2)","v":1},{"$f":"VLOOKUP(J3,DATA!$I$5:$J$49,2)","v":1},{"$f":"VLOOKUP(K3,DATA!$I$5:$J$49,2)","v":1},{"$f":"VLOOKUP(L3,DATA!$I$5:$J$49,2)","v":1},{"$f":"VLOOKUP(M3,DATA!$I$5:$J$49,2)","v":1},{"$f":"VLOOKUP(N3,DATA!$I$5:$J$49,2)","v":1},{"$f":"VLOOKUP(O3,DATA!$I$5:$J$49,2)","v":1},{"$f":"VLOOKUP(P3,DATA!$I$5:$J$49,2)","v":1},{"$f":"VLOOKUP(Q3,DATA!$I$5:$J$49,2)","v":1},{"$f":"VLOOKUP(R3,DATA!$I$5:$J$49,2)","v":1},{"$f":"VLOOKUP(S3,DATA!$I$5:$J$49,2)","v":1},{"$f":"VLOOKUP(T3,DATA!$I$5:$J$49,2)","v":1},{"$f":"VLOOKUP(U3,DATA!$I$5:$J$49,2)","v":1},{"$f":"VLOOKUP(V3,DATA!$I$5:$J$49,2)","v":1},{"$f":"VLOOKUP(W3,DATA!$I$5:$J$49,2)","v":1},{"$f":"VLOOKUP(X3,DATA!$I$5:$J$49,2)","v":1},{"$f":"VLOOKUP(Y3,DATA!$I$5:$J$49,2)","v":1},{"$f":"VLOOKUP(Z3,DATA!$I$5:$J$49,2)","v":1},{"$f":"VLOOKUP(AA3,DATA!$I$5:$J$49,2)","v":1},{"$f":"VLOOKUP(AB3,DATA!$I$5:$J$49,2)","v":1},{"$f":"VLOOKUP(AC3,DATA!$I$5:$J$49,2)","v":1},{"$f":"VLOOKUP(AD3,DATA!$I$5:$J$49,2)","v":1},{"$f":"VLOOKUP(AE3,DATA!$I$5:$J$49,2)","v":1},{"$f":"VLOOKUP(AF3,DATA!$I$5:$J$49,2)","v":1},{"$f":"VLOOKUP(AG3,DATA!$I$5:$J$49,2)","v":1},{"$f":"VLOOKUP(AH3,DATA!$I$5:$J$49,2)","v":1},{"$f":"VLOOKUP(AI3,DATA!$I$5:$J$49,2)","v":1},{"$f":"VLOOKUP(AJ3,DATA!$I$5:$J$49,2)","v":1},{"$f":"VLOOKUP(AK3,DATA!$I$5:$J$49,2)","v":1},{"$f":"VLOOKUP(AL3,DATA!$I$5:$J$49,2)","v":1},{"$f":"VLOOKUP(AM3,DATA!$I$5:$J$49,2)","v":1},{"$f":"VLOOKUP(AN3,DATA!$I$5:$J$49,2)","v":1},{"$f":"VLOOKUP(AO3,DATA!$I$5:$J$49,2)","v":1},{"$f":"VLOOKUP(AP3,DATA!$I$5:$J$49,2)","v":1},{"$f":"VLOOKUP(AQ3,DATA!$I$5:$J$49,2)","v":1},{"$f":"VLOOKUP(AR3,DATA!$I$5:$J$49,2)","v":1},{"$f":"VLOOKUP(AS3,DATA!$I$5:$J$49,2)","v":1},{"$f":"VLOOKUP(AT3,DATA!$I$5:$J$49,2)","v":1},{"$f":"VLOOKUP(AU3,DATA!$I$5:$J$49,2)","v":1},{"$f":"VLOOKUP(AV3,DATA!$I$5:$J$49,2)","v":1},{"$f":"VLOOKUP(AW3,DATA!$I$5:$J$49,2)","v":1},{"$f":"VLOOKUP(AX3,DATA!$I$5:$J$49,2)","v":1},{"$f":"VLOOKUP(AY3,DATA!$I$5:$J$49,2)","v":1},{"$f":"VLOOKUP(AZ3,DATA!$I$5:$J$49,2)","v":1},{"$f":"VLOOKUP(BA3,DATA!$I$5:$J$49,2)","v":1},{"$f":"VLOOKUP(BB3,DATA!$I$5:$J$49,2)","v":1},{"$f":"VLOOKUP(BC3,DATA!$I$5:$J$49,2)","v":1},{"$f":"VLOOKUP(BD3,DATA!$I$5:$J$49,2)","v":1},{"$f":"VLOOKUP(BE3,DATA!$I$5:$J$49,2)","v":1},{"$f":"VLOOKUP(BF3,DATA!$I$5:$J$49,2)","v":1},{"$f":"VLOOKUP(BG3,DATA!$I$5:$J$49,2)","v":1},{"$f":"VLOOKUP(BH3,DATA!$I$5:$J$49,2)","v":1},{"$f":"VLOOKUP(BI3,DATA!$I$5:$J$49,2)","v":1},null,null,{"$f":"VLOOKUP(BL3,DATA!$I$5:$J$49,2)","v":2},{"$f":"VLOOKUP(BM3,DATA!$I$5:$J$49,2)","v":2},{"$f":"VLOOKUP(BN3,DATA!$I$5:$J$49,2)","v":2},{"$f":"VLOOKUP(BO3,DATA!$I$5:$J$49,2)","v":2},{"$f":"VLOOKUP(BP3,DATA!$I$5:$J$49,2)","v":2},{"$f":"VLOOKUP(BQ3,DATA!$I$5:$J$49,2)","v":2},{"$f":"VLOOKUP(BR3,DATA!$I$5:$J$49,2)","v":2},{"$f":"VLOOKUP(BS3,DATA!$I$5:$J$49,2)","v":2},{"$f":"VLOOKUP(BT3,DATA!$I$5:$J$49,2)","v":2},{"$f":"VLOOKUP(BU3,DATA!$I$5:$J$49,2)","v":2},{"$f":"VLOOKUP(BV3,DATA!$I$5:$J$49,2)","v":2},{"$f":"VLOOKUP(BW3,DATA!$I$5:$J$49,2)","v":2},{"$f":"VLOOKUP(BX3,DATA!$I$5:$J$49,2)","v":2},{"$f":"VLOOKUP(BY3,DATA!$I$5:$J$49,2)","v":2},{"$f":"VLOOKUP(BZ3,DATA!$I$5:$J$49,2)","v":2},{"$f":"VLOOKUP(CA3,DATA!$I$5:$J$49,2)","v":2},{"$f":"VLOOKUP(CB3,DATA!$I$5:$J$49,2)","v":2},{"$f":"VLOOKUP(CC3,DATA!$I$5:$J$49,2)","v":2},{"$f":"VLOOKUP(CD3,DATA!$I$5:$J$49,2)","v":2},{"$f":"VLOOKUP(CE3,DATA!$I$5:$J$49,2)","v":2},{"$f":"VLOOKUP(CF3,DATA!$I$5:$J$49,2)","v":2},{"$f":"VLOOKUP(CG3,DATA!$I$5:$J$49,2)","v":2},{"$f":"VLOOKUP(CH3,DATA!$I$5:$J$49,2)","v":2},{"$f":"VLOOKUP(CI3,DATA!$I$5:$J$49,2)","v":2},{"$f":"VLOOKUP(CJ3,DATA!$I$5:$J$49,2)","v":2},{"$f":"VLOOKUP(CK3,DATA!$I$5:$J$49,2)","v":2},{"$f":"VLOOKUP(CL3,DATA!$I$5:$J$49,2)","v":2},{"$f":"VLOOKUP(CM3,DATA!$I$5:$J$49,2)","v":2},{"$f":"VLOOKUP(CN3,DATA!$I$5:$J$49,2)","v":2},{"$f":"VLOOKUP(CO3,DATA!$I$5:$J$49,2)","v":2},{"$f":"VLOOKUP(CP3,DATA!$I$5:$J$49,2)","v":2},{"$f":"VLOOKUP(CQ3,DATA!$I$5:$J$49,2)","v":2},{"$f":"VLOOKUP(CR3,DATA!$I$5:$J$49,2)","v":2},{"$f":"VLOOKUP(CS3,DATA!$I$5:$J$49,2)","v":2},{"$f":"VLOOKUP(CT3,DATA!$I$5:$J$49,2)","v":2},{"$f":"VLOOKUP(CU3,DATA!$I$5:$J$49,2)","v":2},{"$f":"VLOOKUP(CV3,DATA!$I$5:$J$49,2)","v":2},{"$f":"VLOOKUP(CW3,DATA!$I$5:$J$49,2)","v":2},{"$f":"VLOOKUP(CX3,DATA!$I$5:$J$49,2)","v":2},{"$f":"VLOOKUP(CY3,DATA!$I$5:$J$49,2)","v":2},{"$f":"VLOOKUP(CZ3,DATA!$I$5:$J$49,2)","v":2},{"$f":"VLOOKUP(DA3,DATA!$I$5:$J$49,2)","v":2},{"$f":"VLOOKUP(DB3,DATA!$I$5:$J$49,2)","v":2},{"$f":"VLOOKUP(DC3,DATA!$I$5:$J$49,2)","v":2},{"$f":"VLOOKUP(DD3,DATA!$I$5:$J$49,2)","v":2},{"$f":"VLOOKUP(DE3,DATA!$I$5:$J$49,2)","v":2},{"$f":"VLOOKUP(DF3,DATA!$I$5:$J$49,2)","v":2},{"$f":"VLOOKUP(DG3,DATA!$I$5:$J$49,2)","v":2},{"$f":"VLOOKUP(DH3,DATA!$I$5:$J$49,2)","v":2},{"$f":"VLOOKUP(DI3,DATA!$I$5:$J$49,2)","v":2},{"$f":"VLOOKUP(DJ3,DATA!$I$5:$J$49,2)","v":2},{"$f":"VLOOKUP(DK3,DATA!$I$5:$J$49,2)","v":2},null,null,{"$f":"VLOOKUP(DN3,DATA!$I$5:$J$49,2)","v":3},{"$f":"VLOOKUP(DO3,DATA!$I$5:$J$49,2)","v":3},{"$f":"VLOOKUP(DP3,DATA!$I$5:$J$49,2)","v":3},{"$f":"VLOOKUP(DQ3,DATA!$I$5:$J$49,2)","v":3},{"$f":"VLOOKUP(DR3,DATA!$I$5:$J$49,2)","v":3},{"$f":"VLOOKUP(DS3,DATA!$I$5:$J$49,2)","v":3},{"$f":"VLOOKUP(DT3,DATA!$I$5:$J$49,2)","v":3},{"$f":"VLOOKUP(DU3,DATA!$I$5:$J$49,2)","v":3},{"$f":"VLOOKUP(DV3,DATA!$I$5:$J$49,2)","v":3},{"$f":"VLOOKUP(DW3,DATA!$I$5:$J$49,2)","v":3},{"$f":"VLOOKUP(DX3,DATA!$I$5:$J$49,2)","v":3},{"$f":"VLOOKUP(DY3,DATA!$I$5:$J$49,2)","v":3},{"$f":"VLOOKUP(DZ3,DATA!$I$5:$J$49,2)","v":3},{"$f":"VLOOKUP(EA3,DATA!$I$5:$J$49,2)","v":3},{"$f":"VLOOKUP(EB3,DATA!$I$5:$J$49,2)","v":3},{"$f":"VLOOKUP(EC3,DATA!$I$5:$J$49,2)","v":3},{"$f":"VLOOKUP(ED3,DATA!$I$5:$J$49,2)","v":3},{"$f":"VLOOKUP(EE3,DATA!$I$5:$J$49,2)","v":3},{"$f":"VLOOKUP(EF3,DATA!$I$5:$J$49,2)","v":3},{"$f":"VLOOKUP(EG3,DATA!$I$5:$J$49,2)","v":3},{"$f":"VLOOKUP(EH3,DATA!$I$5:$J$49,2)","v":3},{"$f":"VLOOKUP(EI3,DATA!$I$5:$J$49,2)","v":3},{"$f":"VLOOKUP(EJ3,DATA!$I$5:$J$49,2)","v":3},{"$f":"VLOOKUP(EK3,DATA!$I$5:$J$49,2)","v":3},{"$f":"VLOOKUP(EL3,DATA!$I$5:$J$49,2)","v":3},{"$f":"VLOOKUP(EM3,DATA!$I$5:$J$49,2)","v":3},{"$f":"VLOOKUP(EN3,DATA!$I$5:$J$49,2)","v":3},{"$f":"VLOOKUP(EO3,DATA!$I$5:$J$49,2)","v":3},{"$f":"VLOOKUP(EP3,DATA!$I$5:$J$49,2)","v":3},{"$f":"VLOOKUP(EQ3,DATA!$I$5:$J$49,2)","v":3},{"$f":"VLOOKUP(ER3,DATA!$I$5:$J$49,2)","v":3},{"$f":"VLOOKUP(ES3,DATA!$I$5:$J$49,2)","v":3},{"$f":"VLOOKUP(ET3,DATA!$I$5:$J$49,2)","v":3},{"$f":"VLOOKUP(EU3,DATA!$I$5:$J$49,2)","v":3},{"$f":"VLOOKUP(EV3,DATA!$I$5:$J$49,2)","v":3},{"$f":"VLOOKUP(EW3,DATA!$I$5:$J$49,2)","v":3},{"$f":"VLOOKUP(EX3,DATA!$I$5:$J$49,2)","v":3},{"$f":"VLOOKUP(EY3,DATA!$I$5:$J$49,2)","v":3},{"$f":"VLOOKUP(EZ3,DATA!$I$5:$J$49,2)","v":3},{"$f":"VLOOKUP(FA3,DATA!$I$5:$J$49,2)","v":3},{"$f":"VLOOKUP(FB3,DATA!$I$5:$J$49,2)","v":3},{"$f":"VLOOKUP(FC3,DATA!$I$5:$J$49,2)","v":3},{"$f":"VLOOKUP(FD3,DATA!$I$5:$J$49,2)","v":3},{"$f":"VLOOKUP(FE3,DATA!$I$5:$J$49,2)","v":3},{"$f":"VLOOKUP(FF3,DATA!$I$5:$J$49,2)","v":3},{"$f":"VLOOKUP(FG3,DATA!$I$5:$J$49,2)","v":3},{"$f":"VLOOKUP(FH3,DATA!$I$5:$J$49,2)","v":3},{"$f":"VLOOKUP(FI3,DATA!$I$5:$J$49,2)","v":3},{"$f":"VLOOKUP(FJ3,DATA!$I$5:$J$49,2)","v":3},{"$f":"VLOOKUP(FK3,DATA!$I$5:$J$49,2)","v":3},{"$f":"VLOOKUP(FL3,DATA!$I$5:$J$49,2)","v":3},{"$f":"VLOOKUP(FM3,DATA!$I$5:$J$49,2)","v":3},{"$f":"VLOOKUP(FN3,DATA!$I$5:$J$49,2)","v":3},{"$f":"VLOOKUP(FO3,DATA!$I$5:$J$49,2)","v":3},{"$f":"VLOOKUP(FP3,DATA!$I$5:$J$49,2)","v":3},{"$f":"VLOOKUP(FQ3,DATA!$I$5:$J$49,2)","v":3},{"$f":"VLOOKUP(FR3,DATA!$I$5:$J$49,2)","v":3},{"$f":"VLOOKUP(FS3,DATA!$I$5:$J$49,2)","v":3},{"$f":"VLOOKUP(FT3,DATA!$I$5:$J$49,2)","v":3},{"$f":"VLOOKUP(FU3,DATA!$I$5:$J$49,2)","v":3},{"$f":"VLOOKUP(FV3,DATA!$I$5:$J$49,2)","v":3},null,null,{"$f":"VLOOKUP(FY3,DATA!$I$5:$J$49,2)","v":4},{"$f":"VLOOKUP(FZ3,DATA!$I$5:$J$49,2)","v":4},{"$f":"VLOOKUP(GA3,DATA!$I$5:$J$49,2)","v":4},{"$f":"VLOOKUP(GB3,DATA!$I$5:$J$49,2)","v":4},{"$f":"VLOOKUP(GC3,DATA!$I$5:$J$49,2)","v":4},{"$f":"VLOOKUP(GD3,DATA!$I$5:$J$49,2)","v":4},{"$f":"VLOOKUP(GE3,DATA!$I$5:$J$49,2)","v":4},{"$f":"VLOOKUP(GF3,DATA!$I$5:$J$49,2)","v":4},{"$f":"VLOOKUP(GG3,DATA!$I$5:$J$49,2)","v":4},{"$f":"VLOOKUP(GH3,DATA!$I$5:$J$49,2)","v":4},{"$f":"VLOOKUP(GI3,DATA!$I$5:$J$49,2)","v":4},{"$f":"VLOOKUP(GJ3,DATA!$I$5:$J$49,2)","v":4},{"$f":"VLOOKUP(GK3,DATA!$I$5:$J$49,2)","v":4},{"$f":"VLOOKUP(GL3,DATA!$I$5:$J$49,2)","v":4},{"$f":"VLOOKUP(GM3,DATA!$I$5:$J$49,2)","v":4},{"$f":"VLOOKUP(GN3,DATA!$I$5:$J$49,2)","v":4},{"$f":"VLOOKUP(GO3,DATA!$I$5:$J$49,2)","v":4},{"$f":"VLOOKUP(GP3,DATA!$I$5:$J$49,2)","v":4},{"$f":"VLOOKUP(GQ3,DATA!$I$5:$J$49,2)","v":4},{"$f":"VLOOKUP(GR3,DATA!$I$5:$J$49,2)","v":4},{"$f":"VLOOKUP(GS3,DATA!$I$5:$J$49,2)","v":4},{"$f":"VLOOKUP(GT3,DATA!$I$5:$J$49,2)","v":4},{"$f":"VLOOKUP(GU3,DATA!$I$5:$J$49,2)","v":4},{"$f":"VLOOKUP(GV3,DATA!$I$5:$J$49,2)","v":4},{"$f":"VLOOKUP(GW3,DATA!$I$5:$J$49,2)","v":4},{"$f":"VLOOKUP(GX3,DATA!$I$5:$J$49,2)","v":4},{"$f":"VLOOKUP(GY3,DATA!$I$5:$J$49,2)","v":4},{"$f":"VLOOKUP(GZ3,DATA!$I$5:$J$49,2)","v":4},{"$f":"VLOOKUP(HA3,DATA!$I$5:$J$49,2)","v":4},{"$f":"VLOOKUP(HB3,DATA!$I$5:$J$49,2)","v":4},{"$f":"VLOOKUP(HC3,DATA!$I$5:$J$49,2)","v":4},{"$f":"VLOOKUP(HD3,DATA!$I$5:$J$49,2)","v":4},{"$f":"VLOOKUP(HE3,DATA!$I$5:$J$49,2)","v":4},{"$f":"VLOOKUP(HF3,DATA!$I$5:$J$49,2)","v":4},{"$f":"VLOOKUP(HG3,DATA!$I$5:$J$49,2)","v":4},{"$f":"VLOOKUP(HH3,DATA!$I$5:$J$49,2)","v":4},{"$f":"VLOOKUP(HI3,DATA!$I$5:$J$49,2)","v":4},{"$f":"VLOOKUP(HJ3,DATA!$I$5:$J$49,2)","v":4},{"$f":"VLOOKUP(HK3,DATA!$I$5:$J$49,2)","v":4},{"$f":"VLOOKUP(HL3,DATA!$I$5:$J$49,2)","v":4},{"$f":"VLOOKUP(HM3,DATA!$I$5:$J$49,2)","v":4},{"$f":"VLOOKUP(HN3,DATA!$I$5:$J$49,2)","v":4},{"$f":"VLOOKUP(HO3,DATA!$I$5:$J$49,2)","v":4},{"$f":"VLOOKUP(HP3,DATA!$I$5:$J$49,2)","v":4},{"$f":"VLOOKUP(HQ3,DATA!$I$5:$J$49,2)","v":4},{"$f":"VLOOKUP(HR3,DATA!$I$5:$J$49,2)","v":4},{"$f":"VLOOKUP(HS3,DATA!$I$5:$J$49,2)","v":4},{"$f":"VLOOKUP(HT3,DATA!$I$5:$J$49,2)","v":4},{"$f":"VLOOKUP(HU3,DATA!$I$5:$J$49,2)","v":4},{"$f":"VLOOKUP(HV3,DATA!$I$5:$J$49,2)","v":4},{"$f":"VLOOKUP(HW3,DATA!$I$5:$J$49,2)","v":4},{"$f":"VLOOKUP(HX3,DATA!$I$5:$J$49,2)","v":4},{"$f":"VLOOKUP(HY3,DATA!$I$5:$J$49,2)","v":4},{"$f":"VLOOKUP(HZ3,DATA!$I$5:$J$49,2)","v":4},{"$f":"VLOOKUP(IA3,DATA!$I$5:$J$49,2)","v":4},{"$f":"VLOOKUP(IB3,DATA!$I$5:$J$49,2)","v":4},{"$f":"VLOOKUP(IC3,DATA!$I$5:$J$49,2)","v":4},{"$f":"VLOOKUP(ID3,DATA!$I$5:$J$49,2)","v":4},{"$f":"VLOOKUP(IE3,DATA!$I$5:$J$49,2)","v":4},{"$f":"VLOOKUP(IF3,DATA!$I$5:$J$49,2)","v":4},{"$f":"VLOOKUP(IG3,DATA!$I$5:$J$49,2)","v":4},{"$f":"VLOOKUP(IH3,DATA!$I$5:$J$49,2)","v":4}]
[null,null,null,"Set 1 ",null,null,null,null,null,null,null,null,null,null,null,null,null,null,null,null,null,null,null,null,null,null,null,null,null,null,null,null,null,null,null,null,null,null,null,null,null,null,null,null,null,null,null,null,null,null,null,null,null,null,null,null,null,null,null,null,null,null,null,"Set 2",null,null,null,null,null,null,null,null,null,null,null,null,null,null,null,null,null,null,null,null,null,null,null,null,null,null,null,null,null,null,null,null,null,null,null,null,null,null,null,null,null,null,null,null,null,null,null,null,null,null,null,null,null,"Set 3",null,null,null,null,null,null,null,null,null,null,null,null,null,null,null,null,null,null,null,null,null,null,null,null,null,null,null,null,null,null,null,null,null,null,null,null,null,null,null,null,null,null,null,null,null,null,null,null,null,null,null,null,null,null,null,null,null,null,null,null,null,null,"Set 4"]