{"text_format":"1","workbook":"xlsx","n_sheets":2,"sheets":["data","view"],"not_rendered":{"charts":0,"images":2,"macros":1,"external_links":0,"defined_names":12,"comments":0,"pivot_tables":0},"unopened":[],"bounds":{"document_bytes":16777216,"sheet_cells":100000,"rows_first":2000,"rows_last":500,"rows_between":2000,"halvings":0,"cell_chars":16384,"cell_head_chars":4096},"cells_cut":0,"cells_raw":0,"read":"whole","date_system":"1900"}

{"sheet":"data","index":0,"n_rows":87,"n_cols":48,"rows_kept":87,"cut":false,"hidden":true,"merged":[]}
["Recors of 100 Mts SPRINT (Men) at Olympics",null,null,null,null,null,null,null,null,null,null,null,null,null,null,null,null,"Year Runner Mapping",null,null,null,null,null,null,"Year Distance Mapping",null,null,null,null,"Year Medal Mapping",null,null,null,null,"Selected Runner",null,null,null,"Selected Country",null,1,null,{"$f":"IF(AO1>19,\"\",INDEX($AM$2:$AM$20,AO1))","v":"Country code"},null,"Year Hightlight Mapping"]
["SNO","Medal","Name","Country","Seconds","Dist. Behind Usain Bolt","Year","Venue","year.m","cDistance","Highlight?","OR?","mtype","Defended?","Prior Medal year","final highlight",null,"Year","M1","M2","M3","M4","Venue",null,"D1","D2","D3","D4",null,"T1","T2","T3","T4",null,83,null,null,null,"Country code","Name","Medal Count","Nothing",null,null,"M1","M2","M3","M4"]
[1,"GOLD","Thomas Burke","USA",12,19.7,1896,"Athens",{"$f":"G3&\".M\"&COUNTIFS($G$3:G3,G3)","v":"1896.M1"},{"$f":"MROUND(Table1[[#This Row],[Dist. Behind Usain Bolt]]*10,2)","v":198},{"$f":"Table1[[#This Row],[Country]]=selCountry","v":false},true,{"$f":"VLOOKUP(Table1[[#This Row],[Medal]],$R$34:$S$36,2,FALSE)","v":1},{"$f":"COUNTIFS($C$3:C3,C3,$M$3:M3,\">=\"&M3)>1","v":false},{"$f":"IF(Table1[[#This Row],[Defended?]],VLOOKUP(Table1[[#This Row],[Name]],$C$3:M3,5,FALSE)&\" - \"&INDEX($R$34:$R$36,VLOOKUP(Table1[[#This Row],[Name]],$C$3:M3,11,FALSE)),\"\")","v":""},{"$f":"IF($AO$1<20,Table1[[#This Row],[Highlight?]],IF($AO$1=20,Table1[[#This Row],[OR?]],Table1[[#This Row],[Defended?]]))","v":false},null,2012,{"$f":"IFERROR(INDEX(Table1[SNO],MATCH($R3&\".\"&S$2,Table1[year.m],0)),\"\")","v":83},{"$f":"IFERROR(INDEX(Table1[SNO],MATCH($R3&\".\"&T$2,Table1[year.m],0)),\"\")","v":84},{"$f":"IFERROR(INDEX(Table1[SNO],MATCH($R3&\".\"&U$2,Table1[year.m],0)),\"\")","v":85},{"$f":"IFERROR(INDEX(Table1[SNO],MATCH($R3&\".\"&V$2,Table1[year.m],0)),\"\")","v":""},{"$f":"INDEX(Table1[Venue],S3)","v":"London"},null,{"$f":"IFERROR(INDEX(Table1[cDistance],S3),\"\")","v":0},{"$f":"IFERROR(INDEX(Table1[cDistance],T3),\"\")","v":12},{"$f":"IFERROR(INDEX(Table1[cDistance],U3),\"\")","v":16},{"$f":"IFERROR(INDEX(Table1[cDistance],V3),\"\")","v":""},null,{"$f":"IFERROR(VLOOKUP(INDEX(Table1[Medal],S3),$R$34:$T$36,2,FALSE),0)","v":1},{"$f":"IFERROR(VLOOKUP(INDEX(Table1[Medal],T3),$R$34:$T$36,2,FALSE),0)","v":2},{"$f":"IFERROR(VLOOKUP(INDEX(Table1[Medal],U3),$R$34:$T$36,2,FALSE),0)","v":3},{"$f":"IFERROR(VLOOKUP(INDEX(Table1[Medal],V3),$R$34:$T$36,2,FALSE),0)","v":0},null,"Name",{"$f":"INDEX(Table1[Name],valSelRunner)","v":"Usain Bolt"},null,null,"USA","USA",{"$f":"COUNTIF(Table1[Country],AM3)","v":40},{"$f":"AN3&\" - \"&AO3&\" medals\"","v":"USA - 40 medals"},null,null,{"$f":"IFERROR(INDEX(Table1[final highlight],S3),FALSE)","v":false},{"$f":"IFERROR(INDEX(Table1[final highlight],T3),FALSE)","v":false},{"$f":"IFERROR(INDEX(Table1[final highlight],U3),FALSE)","v":false},{"$f":"IFERROR(INDEX(Table1[final highlight],V3),FALSE)","v":false}]
[{"$f":"A3+1","v":2},"SILVER","Fritz Hofmann","GER",12.2,21.1,1896,"Athens",{"$f":"G4&\".M\"&COUNTIFS($G$3:G4,G4)","v":"1896.M2"},{"$f":"MROUND(Table1[[#This Row],[Dist. Behind Usain Bolt]]*10,2)","v":212},{"$f":"Table1[[#This Row],[Country]]=selCountry","v":false},{"$f":"MIN($E$3:E3)>E4","v":false},{"$f":"VLOOKUP(Table1[[#This Row],[Medal]],$R$34:$S$36,2,FALSE)","v":2},{"$f":"COUNTIFS($C$3:C4,C4,$M$3:M4,\">=\"&M4)>1","v":false},{"$f":"IF(Table1[[#This Row],[Defended?]],VLOOKUP(Table1[[#This Row],[Name]],$C$3:M4,5,FALSE)&\" - \"&INDEX($R$34:$R$36,VLOOKUP(Table1[[#This Row],[Name]],$C$3:M4,11,FALSE)),\"\")","v":""},{"$f":"IF($AO$1<20,Table1[[#This Row],[Highlight?]],IF($AO$1=20,Table1[[#This Row],[OR?]],Table1[[#This Row],[Defended?]]))","v":false},null,2008,{"$f":"IFERROR(INDEX(Table1[SNO],MATCH($R4&\".\"&S$2,Table1[year.m],0)),\"\")","v":80},{"$f":"IFERROR(INDEX(Table1[SNO],MATCH($R4&\".\"&T$2,Table1[year.m],0)),\"\")","v":81},{"$f":"IFERROR(INDEX(Table1[SNO],MATCH($R4&\".\"&U$2,Table1[year.m],0)),\"\")","v":82},{"$f":"IFERROR(INDEX(Table1[SNO],MATCH($R4&\".\"&V$2,Table1[year.m],0)),\"\")","v":""},{"$f":"INDEX(Table1[Venue],S4)","v":"Beijing"},null,{"$f":"IFERROR(INDEX(Table1[cDistance],S4),\"\")","v":6},{"$f":"IFERROR(INDEX(Table1[cDistance],T4),\"\")","v":26},{"$f":"IFERROR(INDEX(Table1[cDistance],U4),\"\")","v":28},{"$f":"IFERROR(INDEX(Table1[cDistance],V4),\"\")","v":""},null,{"$f":"IFERROR(VLOOKUP(INDEX(Table1[Medal],S4),$R$34:$T$36,2,FALSE),0)","v":1},{"$f":"IFERROR(VLOOKUP(INDEX(Table1[Medal],T4),$R$34:$T$36,2,FALSE),0)","v":2},{"$f":"IFERROR(VLOOKUP(INDEX(Table1[Medal],U4),$R$34:$T$36,2,FALSE),0)","v":3},{"$f":"IFERROR(VLOOKUP(INDEX(Table1[Medal],V4),$R$34:$T$36,2,FALSE),0)","v":0},null,"Country",{"$f":"\"(\"&INDEX(Table1[Country],valSelRunner)&\")\"","v":"(JAM)"},null,null,"GBR","Great Britian",{"$f":"COUNTIF(Table1[Country],AM4)","v":8},{"$f":"AN4&\" - \"&AO4&\" medals\"","v":"Great Britian - 8 medals"},null,null,{"$f":"IFERROR(INDEX(Table1[final highlight],S4),FALSE)","v":false},{"$f":"IFERROR(INDEX(Table1[final highlight],T4),FALSE)","v":false},{"$f":"IFERROR(INDEX(Table1[final highlight],U4),FALSE)","v":false},{"$f":"IFERROR(INDEX(Table1[final highlight],V4),FALSE)","v":false}]
[{"$f":"A4+1","v":3},"BRONZE","Francis Lane","USA",12.6,23.6,1896,"Athens",{"$f":"G5&\".M\"&COUNTIFS($G$3:G5,G5)","v":"1896.M3"},{"$f":"MROUND(Table1[[#This Row],[Dist. Behind Usain Bolt]]*10,2)","v":236},{"$f":"Table1[[#This Row],[Country]]=selCountry","v":false},{"$f":"MIN($E$3:E4)>E5","v":false},{"$f":"VLOOKUP(Table1[[#This Row],[Medal]],$R$34:$S$36,2,FALSE)","v":3},{"$f":"COUNTIFS($C$3:C5,C5,$M$3:M5,\">=\"&M5)>1","v":false},{"$f":"IF(Table1[[#This Row],[Defended?]],VLOOKUP(Table1[[#This Row],[Name]],$C$3:M5,5,FALSE)&\" - \"&INDEX($R$34:$R$36,VLOOKUP(Table1[[#This Row],[Name]],$C$3:M5,11,FALSE)),\"\")","v":""},{"$f":"IF($AO$1<20,Table1[[#This Row],[Highlight?]],IF($AO$1=20,Table1[[#This Row],[OR?]],Table1[[#This Row],[Defended?]]))","v":false},null,2004,{"$f":"IFERROR(INDEX(Table1[SNO],MATCH($R5&\".\"&S$2,Table1[year.m],0)),\"\")","v":77},{"$f":"IFERROR(INDEX(Table1[SNO],MATCH($R5&\".\"&T$2,Table1[year.m],0)),\"\")","v":78},{"$f":"IFERROR(INDEX(Table1[SNO],MATCH($R5&\".\"&U$2,Table1[year.m],0)),\"\")","v":79},{"$f":"IFERROR(INDEX(Table1[SNO],MATCH($R5&\".\"&V$2,Table1[year.m],0)),\"\")","v":""},{"$f":"INDEX(Table1[Venue],S5)","v":"Athens"},null,{"$f":"IFERROR(INDEX(Table1[cDistance],S5),\"\")","v":22},{"$f":"IFERROR(INDEX(Table1[cDistance],T5),\"\")","v":24},{"$f":"IFERROR(INDEX(Table1[cDistance],U5),\"\")","v":24},{"$f":"IFERROR(INDEX(Table1[cDistance],V5),\"\")","v":""},null,{"$f":"IFERROR(VLOOKUP(INDEX(Table1[Medal],S5),$R$34:$T$36,2,FALSE),0)","v":1},{"$f":"IFERROR(VLOOKUP(INDEX(Table1[Medal],T5),$R$34:$T$36,2,FALSE),0)","v":2},{"$f":"IFERROR(VLOOKUP(INDEX(Table1[Medal],U5),$R$34:$T$36,2,FALSE),0)","v":3},{"$f":"IFERROR(VLOOKUP(INDEX(Table1[Medal],V5),$R$34:$T$36,2,FALSE),0)","v":0},null,"Seconds",{"$f":"INDEX(Table1[Seconds],valSelRunner)&\" seconds\"","v":"9.63 seconds"},null,null,"JAM","Jamaica",{"$f":"COUNTIF(Table1[Country],AM5)","v":7},"Jamaica - 7 medals",null,null,{"$f":"IFERROR(INDEX(Table1[final highlight],S5),FALSE)","v":false},{"$f":"IFERROR(INDEX(Table1[final highlight],T5),FALSE)","v":false},{"$f":"IFERROR(INDEX(Table1[final highlight],U5),FALSE)","v":false},{"$f":"IFERROR(INDEX(Table1[final highlight],V5),FALSE)","v":false}]
[4,"BRONZE","Alojz Sokol","HUN",12.6,23.6,1896,"Athens",{"$f":"G6&\".M\"&COUNTIFS($G$3:G6,G6)","v":"1896.M4"},{"$f":"MROUND(Table1[[#This Row],[Dist. Behind Usain Bolt]]*10,2)","v":236},{"$f":"Table1[[#This Row],[Country]]=selCountry","v":false},{"$f":"MIN($E$3:E5)>E6","v":false},{"$f":"VLOOKUP(Table1[[#This Row],[Medal]],$R$34:$S$36,2,FALSE)","v":3},{"$f":"COUNTIFS($C$3:C6,C6,$M$3:M6,\">=\"&M6)>1","v":false},{"$f":"IF(Table1[[#This Row],[Defended?]],VLOOKUP(Table1[[#This Row],[Name]],$C$3:M6,5,FALSE)&\" - \"&INDEX($R$34:$R$36,VLOOKUP(Table1[[#This Row],[Name]],$C$3:M6,11,FALSE)),\"\")","v":""},{"$f":"IF($AO$1<20,Table1[[#This Row],[Highlight?]],IF($AO$1=20,Table1[[#This Row],[OR?]],Table1[[#This Row],[Defended?]]))","v":false},null,2000,{"$f":"IFERROR(INDEX(Table1[SNO],MATCH($R6&\".\"&S$2,Table1[year.m],0)),\"\")","v":74},{"$f":"IFERROR(INDEX(Table1[SNO],MATCH($R6&\".\"&T$2,Table1[year.m],0)),\"\")","v":75},{"$f":"IFERROR(INDEX(Table1[SNO],MATCH($R6&\".\"&U$2,Table1[year.m],0)),\"\")","v":76},{"$f":"IFERROR(INDEX(Table1[SNO],MATCH($R6&\".\"&V$2,Table1[year.m],0)),\"\")","v":""},{"$f":"INDEX(Table1[Venue],S6)","v":"Sydney"},null,{"$f":"IFERROR(INDEX(Table1[cDistance],S6),\"\")","v":24},{"$f":"IFERROR(INDEX(Table1[cDistance],T6),\"\")","v":36},{"$f":"IFERROR(INDEX(Table1[cDistance],U6),\"\")","v":42},{"$f":"IFERROR(INDEX(Table1[cDistance],V6),\"\")","v":""},null,{"$f":"IFERROR(VLOOKUP(INDEX(Table1[Medal],S6),$R$34:$T$36,2,FALSE),0)","v":1},{"$f":"IFERROR(VLOOKUP(INDEX(Table1[Medal],T6),$R$34:$T$36,2,FALSE),0)","v":2},{"$f":"IFERROR(VLOOKUP(INDEX(Table1[Medal],U6),$R$34:$T$36,2,FALSE),0)","v":3},{"$f":"IFERROR(VLOOKUP(INDEX(Table1[Medal],V6),$R$34:$T$36,2,FALSE),0)","v":0},null,"Year",{"$f":"INDEX(Table1[Year],valSelRunner)","v":2012},{"$f":"IF(AO1=21,IF(INDEX(Table1[Defended?],valSelRunner),\"(\"&INDEX(Table1[Prior Medal year],valSelRunner)&\")\",\"\"),\"\")","v":""},null,"CAN","Canada",{"$f":"COUNTIF(Table1[Country],AM6)","v":5},"Canada - 5 medals",null,null,{"$f":"IFERROR(INDEX(Table1[final highlight],S6),FALSE)","v":false},{"$f":"IFERROR(INDEX(Table1[final highlight],T6),FALSE)","v":false},{"$f":"IFERROR(INDEX(Table1[final highlight],U6),FALSE)","v":false},{"$f":"IFERROR(INDEX(Table1[final highlight],V6),FALSE)","v":false}]
[5,"GOLD","Frank Jarvis","USA",11,12.5,1900,"Paris",{"$f":"G7&\".M\"&COUNTIFS($G$3:G7,G7)","v":"1900.M1"},{"$f":"MROUND(Table1[[#This Row],[Dist. Behind Usain Bolt]]*10,2)","v":126},{"$f":"Table1[[#This Row],[Country]]=selCountry","v":false},{"$f":"MIN($E$3:E6)>E7","v":true},{"$f":"VLOOKUP(Table1[[#This Row],[Medal]],$R$34:$S$36,2,FALSE)","v":1},{"$f":"COUNTIFS($C$3:C7,C7,$M$3:M7,\">=\"&M7)>1","v":false},{"$f":"IF(Table1[[#This Row],[Defended?]],VLOOKUP(Table1[[#This Row],[Name]],$C$3:M7,5,FALSE)&\" - \"&INDEX($R$34:$R$36,VLOOKUP(Table1[[#This Row],[Name]],$C$3:M7,11,FALSE)),\"\")","v":""},{"$f":"IF($AO$1<20,Table1[[#This Row],[Highlight?]],IF($AO$1=20,Table1[[#This Row],[OR?]],Table1[[#This Row],[Defended?]]))","v":false},null,1996,{"$f":"IFERROR(INDEX(Table1[SNO],MATCH($R7&\".\"&S$2,Table1[year.m],0)),\"\")","v":71},{"$f":"IFERROR(INDEX(Table1[SNO],MATCH($R7&\".\"&T$2,Table1[year.m],0)),\"\")","v":72},{"$f":"IFERROR(INDEX(Table1[SNO],MATCH($R7&\".\"&U$2,Table1[year.m],0)),\"\")","v":73},{"$f":"IFERROR(INDEX(Table1[SNO],MATCH($R7&\".\"&V$2,Table1[year.m],0)),\"\")","v":""},{"$f":"INDEX(Table1[Venue],S7)","v":"Atlanta"},null,{"$f":"IFERROR(INDEX(Table1[cDistance],S7),\"\")","v":22},{"$f":"IFERROR(INDEX(Table1[cDistance],T7),\"\")","v":26},{"$f":"IFERROR(INDEX(Table1[cDistance],U7),\"\")","v":28},{"$f":"IFERROR(INDEX(Table1[cDistance],V7),\"\")","v":""},null,{"$f":"IFERROR(VLOOKUP(INDEX(Table1[Medal],S7),$R$34:$T$36,2,FALSE),0)","v":1},{"$f":"IFERROR(VLOOKUP(INDEX(Table1[Medal],T7),$R$34:$T$36,2,FALSE),0)","v":2},{"$f":"IFERROR(VLOOKUP(INDEX(Table1[Medal],U7),$R$34:$T$36,2,FALSE),0)","v":3},{"$f":"IFERROR(VLOOKUP(INDEX(Table1[Medal],V7),$R$34:$T$36,2,FALSE),0)","v":0},null,"Distance behind:",{"$f":"INDEX(Table1[Dist. Behind Usain Bolt],valSelRunner)&\" meters behind\"","v":"0 meters behind"},null,null,"GER","Germany",{"$f":"COUNTIF(Table1[Country],AM7)","v":4},"Germany - 4 medals",null,null,{"$f":"IFERROR(INDEX(Table1[final highlight],S7),FALSE)","v":false},{"$f":"IFERROR(INDEX(Table1[final highlight],T7),FALSE)","v":false},{"$f":"IFERROR(INDEX(Table1[final highlight],U7),FALSE)","v":false},{"$f":"IFERROR(INDEX(Table1[final highlight],V7),FALSE)","v":false}]
[6,"SILVER","Walter Tewksbury","USA",11.1,13.2,1900,"Paris",{"$f":"G8&\".M\"&COUNTIFS($G$3:G8,G8)","v":"1900.M2"},{"$f":"MROUND(Table1[[#This Row],[Dist. Behind Usain Bolt]]*10,2)","v":132},{"$f":"Table1[[#This Row],[Country]]=selCountry","v":false},{"$f":"MIN($E$3:E7)>E8","v":false},{"$f":"VLOOKUP(Table1[[#This Row],[Medal]],$R$34:$S$36,2,FALSE)","v":2},{"$f":"COUNTIFS($C$3:C8,C8,$M$3:M8,\">=\"&M8)>1","v":false},{"$f":"IF(Table1[[#This Row],[Defended?]],VLOOKUP(Table1[[#This Row],[Name]],$C$3:M8,5,FALSE)&\" - \"&INDEX($R$34:$R$36,VLOOKUP(Table1[[#This Row],[Name]],$C$3:M8,11,FALSE)),\"\")","v":""},{"$f":"IF($AO$1<20,Table1[[#This Row],[Highlight?]],IF($AO$1=20,Table1[[#This Row],[OR?]],Table1[[#This Row],[Defended?]]))","v":false},null,1992,{"$f":"IFERROR(INDEX(Table1[SNO],MATCH($R8&\".\"&S$2,Table1[year.m],0)),\"\")","v":68},{"$f":"IFERROR(INDEX(Table1[SNO],MATCH($R8&\".\"&T$2,Table1[year.m],0)),\"\")","v":69},{"$f":"IFERROR(INDEX(Table1[SNO],MATCH($R8&\".\"&U$2,Table1[year.m],0)),\"\")","v":70},{"$f":"IFERROR(INDEX(Table1[SNO],MATCH($R8&\".\"&V$2,Table1[year.m],0)),\"\")","v":""},{"$f":"INDEX(Table1[Venue],S8)","v":"Barcelona"},null,{"$f":"IFERROR(INDEX(Table1[cDistance],S8),\"\")","v":34},{"$f":"IFERROR(INDEX(Table1[cDistance],T8),\"\")","v":40},{"$f":"IFERROR(INDEX(Table1[cDistance],U8),\"\")","v":42},{"$f":"IFERROR(INDEX(Table1[cDistance],V8),\"\")","v":""},null,{"$f":"IFERROR(VLOOKUP(INDEX(Table1[Medal],S8),$R$34:$T$36,2,FALSE),0)","v":1},{"$f":"IFERROR(VLOOKUP(INDEX(Table1[Medal],T8),$R$34:$T$36,2,FALSE),0)","v":2},{"$f":"IFERROR(VLOOKUP(INDEX(Table1[Medal],U8),$R$34:$T$36,2,FALSE),0)","v":3},{"$f":"IFERROR(VLOOKUP(INDEX(Table1[Medal],V8),$R$34:$T$36,2,FALSE),0)","v":0},null,"Medal type",{"$f":"VLOOKUP(INDEX(Table1[Medal],valSelRunner),$R$34:$S$36,2,FALSE)","v":1},null,null,"TRI","Trinidad & Tobago",{"$f":"COUNTIF(Table1[Country],AM8)","v":4},"Trinidad & Tobago - 4 medals",null,null,{"$f":"IFERROR(INDEX(Table1[final highlight],S8),FALSE)","v":false},{"$f":"IFERROR(INDEX(Table1[final highlight],T8),FALSE)","v":false},{"$f":"IFERROR(INDEX(Table1[final highlight],U8),FALSE)","v":false},{"$f":"IFERROR(INDEX(Table1[final highlight],V8),FALSE)","v":false}]
[7,"BRONZE","Stan Rowley","AUS",11.2,14,1900,"Paris",{"$f":"G9&\".M\"&COUNTIFS($G$3:G9,G9)","v":"1900.M3"},{"$f":"MROUND(Table1[[#This Row],[Dist. Behind Usain Bolt]]*10,2)","v":140},{"$f":"Table1[[#This Row],[Country]]=selCountry","v":false},{"$f":"MIN($E$3:E8)>E9","v":false},{"$f":"VLOOKUP(Table1[[#This Row],[Medal]],$R$34:$S$36,2,FALSE)","v":3},{"$f":"COUNTIFS($C$3:C9,C9,$M$3:M9,\">=\"&M9)>1","v":false},{"$f":"IF(Table1[[#This Row],[Defended?]],VLOOKUP(Table1[[#This Row],[Name]],$C$3:M9,5,FALSE)&\" - \"&INDEX($R$34:$R$36,VLOOKUP(Table1[[#This Row],[Name]],$C$3:M9,11,FALSE)),\"\")","v":""},{"$f":"IF($AO$1<20,Table1[[#This Row],[Highlight?]],IF($AO$1=20,Table1[[#This Row],[OR?]],Table1[[#This Row],[Defended?]]))","v":false},null,1988,{"$f":"IFERROR(INDEX(Table1[SNO],MATCH($R9&\".\"&S$2,Table1[year.m],0)),\"\")","v":65},{"$f":"IFERROR(INDEX(Table1[SNO],MATCH($R9&\".\"&T$2,Table1[year.m],0)),\"\")","v":66},{"$f":"IFERROR(INDEX(Table1[SNO],MATCH($R9&\".\"&U$2,Table1[year.m],0)),\"\")","v":67},{"$f":"IFERROR(INDEX(Table1[SNO],MATCH($R9&\".\"&V$2,Table1[year.m],0)),\"\")","v":""},{"$f":"INDEX(Table1[Venue],S9)","v":"Seoul"},null,{"$f":"IFERROR(INDEX(Table1[cDistance],S9),\"\")","v":30},{"$f":"IFERROR(INDEX(Table1[cDistance],T9),\"\")","v":34},{"$f":"IFERROR(INDEX(Table1[cDistance],U9),\"\")","v":36},{"$f":"IFERROR(INDEX(Table1[cDistance],V9),\"\")","v":""},null,{"$f":"IFERROR(VLOOKUP(INDEX(Table1[Medal],S9),$R$34:$T$36,2,FALSE),0)","v":1},{"$f":"IFERROR(VLOOKUP(INDEX(Table1[Medal],T9),$R$34:$T$36,2,FALSE),0)","v":2},{"$f":"IFERROR(VLOOKUP(INDEX(Table1[Medal],U9),$R$34:$T$36,2,FALSE),0)","v":3},{"$f":"IFERROR(VLOOKUP(INDEX(Table1[Medal],V9),$R$34:$T$36,2,FALSE),0)","v":0},null,null,null,null,null,"AUS","Australia",{"$f":"COUNTIF(Table1[Country],AM9)","v":3},"Australia - 3 medals",null,null,{"$f":"IFERROR(INDEX(Table1[final highlight],S9),FALSE)","v":false},{"$f":"IFERROR(INDEX(Table1[final highlight],T9),FALSE)","v":false},{"$f":"IFERROR(INDEX(Table1[final highlight],U9),FALSE)","v":false},{"$f":"IFERROR(INDEX(Table1[final highlight],V9),FALSE)","v":false}]
[8,"GOLD","Archie Hahn","USA",11,12.5,1904,"St. Louis",{"$f":"G10&\".M\"&COUNTIFS($G$3:G10,G10)","v":"1904.M1"},{"$f":"MROUND(Table1[[#This Row],[Dist. Behind Usain Bolt]]*10,2)","v":126},{"$f":"Table1[[#This Row],[Country]]=selCountry","v":false},{"$f":"MIN($E$3:E9)>E10","v":false},{"$f":"VLOOKUP(Table1[[#This Row],[Medal]],$R$34:$S$36,2,FALSE)","v":1},{"$f":"COUNTIFS($C$3:C10,C10,$M$3:M10,\">=\"&M10)>1","v":false},{"$f":"IF(Table1[[#This Row],[Defended?]],VLOOKUP(Table1[[#This Row],[Name]],$C$3:M10,5,FALSE)&\" - \"&INDEX($R$34:$R$36,VLOOKUP(Table1[[#This Row],[Name]],$C$3:M10,11,FALSE)),\"\")","v":""},{"$f":"IF($AO$1<20,Table1[[#This Row],[Highlight?]],IF($AO$1=20,Table1[[#This Row],[OR?]],Table1[[#This Row],[Defended?]]))","v":false},null,1984,{"$f":"IFERROR(INDEX(Table1[SNO],MATCH($R10&\".\"&S$2,Table1[year.m],0)),\"\")","v":62},{"$f":"IFERROR(INDEX(Table1[SNO],MATCH($R10&\".\"&T$2,Table1[year.m],0)),\"\")","v":63},{"$f":"IFERROR(INDEX(Table1[SNO],MATCH($R10&\".\"&U$2,Table1[year.m],0)),\"\")","v":64},{"$f":"IFERROR(INDEX(Table1[SNO],MATCH($R10&\".\"&V$2,Table1[year.m],0)),\"\")","v":""},{"$f":"INDEX(Table1[Venue],S10)","v":"Los Angeles"},null,{"$f":"IFERROR(INDEX(Table1[cDistance],S10),\"\")","v":36},{"$f":"IFERROR(INDEX(Table1[cDistance],T10),\"\")","v":56},{"$f":"IFERROR(INDEX(Table1[cDistance],U10),\"\")","v":58},{"$f":"IFERROR(INDEX(Table1[cDistance],V10),\"\")","v":""},null,{"$f":"IFERROR(VLOOKUP(INDEX(Table1[Medal],S10),$R$34:$T$36,2,FALSE),0)","v":1},{"$f":"IFERROR(VLOOKUP(INDEX(Table1[Medal],T10),$R$34:$T$36,2,FALSE),0)","v":2},{"$f":"IFERROR(VLOOKUP(INDEX(Table1[Medal],U10),$R$34:$T$36,2,FALSE),0)","v":3},{"$f":"IFERROR(VLOOKUP(INDEX(Table1[Medal],V10),$R$34:$T$36,2,FALSE),0)","v":0},null,"Pic link",null,null,null,"CUB","Cuba",{"$f":"COUNTIF(Table1[Country],AM10)","v":2},"Cuba - 2 medals",null,null,{"$f":"IFERROR(INDEX(Table1[final highlight],S10),FALSE)","v":false},{"$f":"IFERROR(INDEX(Table1[final highlight],T10),FALSE)","v":false},{"$f":"IFERROR(INDEX(Table1[final highlight],U10),FALSE)","v":false},{"$f":"IFERROR(INDEX(Table1[final highlight],V10),FALSE)","v":false}]
[9,"SILVER","Nate Cartmell","USA",11.2,14,1904,"St. Louis",{"$f":"G11&\".M\"&COUNTIFS($G$3:G11,G11)","v":"1904.M2"},{"$f":"MROUND(Table1[[#This Row],[Dist. Behind Usain Bolt]]*10,2)","v":140},{"$f":"Table1[[#This Row],[Country]]=selCountry","v":false},{"$f":"MIN($E$3:E10)>E11","v":false},{"$f":"VLOOKUP(Table1[[#This Row],[Medal]],$R$34:$S$36,2,FALSE)","v":2},{"$f":"COUNTIFS($C$3:C11,C11,$M$3:M11,\">=\"&M11)>1","v":false},{"$f":"IF(Table1[[#This Row],[Defended?]],VLOOKUP(Table1[[#This Row],[Name]],$C$3:M11,5,FALSE)&\" - \"&INDEX($R$34:$R$36,VLOOKUP(Table1[[#This Row],[Name]],$C$3:M11,11,FALSE)),\"\")","v":""},{"$f":"IF($AO$1<20,Table1[[#This Row],[Highlight?]],IF($AO$1=20,Table1[[#This Row],[OR?]],Table1[[#This Row],[Defended?]]))","v":false},null,1980,{"$f":"IFERROR(INDEX(Table1[SNO],MATCH($R11&\".\"&S$2,Table1[year.m],0)),\"\")","v":59},{"$f":"IFERROR(INDEX(Table1[SNO],MATCH($R11&\".\"&T$2,Table1[year.m],0)),\"\")","v":60},{"$f":"IFERROR(INDEX(Table1[SNO],MATCH($R11&\".\"&U$2,Table1[year.m],0)),\"\")","v":61},{"$f":"IFERROR(INDEX(Table1[SNO],MATCH($R11&\".\"&V$2,Table1[year.m],0)),\"\")","v":""},{"$f":"INDEX(Table1[Venue],S11)","v":"Moscow"},null,{"$f":"IFERROR(INDEX(Table1[cDistance],S11),\"\")","v":60},{"$f":"IFERROR(INDEX(Table1[cDistance],T11),\"\")","v":60},{"$f":"IFERROR(INDEX(Table1[cDistance],U11),\"\")","v":74},{"$f":"IFERROR(INDEX(Table1[cDistance],V11),\"\")","v":""},null,{"$f":"IFERROR(VLOOKUP(INDEX(Table1[Medal],S11),$R$34:$T$36,2,FALSE),0)","v":1},{"$f":"IFERROR(VLOOKUP(INDEX(Table1[Medal],T11),$R$34:$T$36,2,FALSE),0)","v":2},{"$f":"IFERROR(VLOOKUP(INDEX(Table1[Medal],U11),$R$34:$T$36,2,FALSE),0)","v":3},{"$f":"IFERROR(VLOOKUP(INDEX(Table1[Medal],V11),$R$34:$T$36,2,FALSE),0)","v":0},null,null,null,null,null,"NAM","Namibia",{"$f":"COUNTIF(Table1[Country],AM11)","v":2},"Namibia - 2 medals",null,null,{"$f":"IFERROR(INDEX(Table1[final highlight],S11),FALSE)","v":false},{"$f":"IFERROR(INDEX(Table1[final highlight],T11),FALSE)","v":false},{"$f":"IFERROR(INDEX(Table1[final highlight],U11),FALSE)","v":false},{"$f":"IFERROR(INDEX(Table1[final highlight],V11),FALSE)","v":false}]
[10,"BRONZE","William Hogenson","USA",11.2,14,1904,"St. Louis",{"$f":"G12&\".M\"&COUNTIFS($G$3:G12,G12)","v":"1904.M3"},{"$f":"MROUND(Table1[[#This Row],[Dist. Behind Usain Bolt]]*10,2)","v":140},{"$f":"Table1[[#This Row],[Country]]=selCountry","v":false},{"$f":"MIN($E$3:E11)>E12","v":false},{"$f":"VLOOKUP(Table1[[#This Row],[Medal]],$R$34:$S$36,2,FALSE)","v":3},{"$f":"COUNTIFS($C$3:C12,C12,$M$3:M12,\">=\"&M12)>1","v":false},{"$f":"IF(Table1[[#This Row],[Defended?]],VLOOKUP(Table1[[#This Row],[Name]],$C$3:M12,5,FALSE)&\" - \"&INDEX($R$34:$R$36,VLOOKUP(Table1[[#This Row],[Name]],$C$3:M12,11,FALSE)),\"\")","v":""},{"$f":"IF($AO$1<20,Table1[[#This Row],[Highlight?]],IF($AO$1=20,Table1[[#This Row],[OR?]],Table1[[#This Row],[Defended?]]))","v":false},null,1976,{"$f":"IFERROR(INDEX(Table1[SNO],MATCH($R12&\".\"&S$2,Table1[year.m],0)),\"\")","v":56},{"$f":"IFERROR(INDEX(Table1[SNO],MATCH($R12&\".\"&T$2,Table1[year.m],0)),\"\")","v":57},{"$f":"IFERROR(INDEX(Table1[SNO],MATCH($R12&\".\"&U$2,Table1[year.m],0)),\"\")","v":58},{"$f":"IFERROR(INDEX(Table1[SNO],MATCH($R12&\".\"&V$2,Table1[year.m],0)),\"\")","v":""},{"$f":"INDEX(Table1[Venue],S12)","v":"Montreal"},null,{"$f":"IFERROR(INDEX(Table1[cDistance],S12),\"\")","v":44},{"$f":"IFERROR(INDEX(Table1[cDistance],T12),\"\")","v":46},{"$f":"IFERROR(INDEX(Table1[cDistance],U12),\"\")","v":50},{"$f":"IFERROR(INDEX(Table1[cDistance],V12),\"\")","v":""},null,{"$f":"IFERROR(VLOOKUP(INDEX(Table1[Medal],S12),$R$34:$T$36,2,FALSE),0)","v":1},{"$f":"IFERROR(VLOOKUP(INDEX(Table1[Medal],T12),$R$34:$T$36,2,FALSE),0)","v":2},{"$f":"IFERROR(VLOOKUP(INDEX(Table1[Medal],U12),$R$34:$T$36,2,FALSE),0)","v":3},{"$f":"IFERROR(VLOOKUP(INDEX(Table1[Medal],V12),$R$34:$T$36,2,FALSE),0)","v":0},null,{"$f":"AJ3","v":"Usain Bolt"},{"$f":"AJ4","v":"(JAM)"},null,null,"URS","Soviet Union",{"$f":"COUNTIF(Table1[Country],AM12)","v":2},"Soviet Union - 2 medals",null,null,{"$f":"IFERROR(INDEX(Table1[final highlight],S12),FALSE)","v":false},{"$f":"IFERROR(INDEX(Table1[final highlight],T12),FALSE)","v":false},{"$f":"IFERROR(INDEX(Table1[final highlight],U12),FALSE)","v":false},{"$f":"IFERROR(INDEX(Table1[final highlight],V12),FALSE)","v":false}]
[11,"GOLD","Archie Hahn","USA",11.2,14,1906,"Athens",{"$f":"G13&\".M\"&COUNTIFS($G$3:G13,G13)","v":"1906.M1"},{"$f":"MROUND(Table1[[#This Row],[Dist. Behind Usain Bolt]]*10,2)","v":140},{"$f":"Table1[[#This Row],[Country]]=selCountry","v":false},{"$f":"MIN($E$3:E12)>E13","v":false},{"$f":"VLOOKUP(Table1[[#This Row],[Medal]],$R$34:$S$36,2,FALSE)","v":1},{"$f":"COUNTIFS($C$3:C13,C13,$M$3:M13,\">=\"&M13)>1","v":true},{"$f":"IF(Table1[[#This Row],[Defended?]],VLOOKUP(Table1[[#This Row],[Name]],$C$3:M13,5,FALSE)&\" - \"&INDEX($R$34:$R$36,VLOOKUP(Table1[[#This Row],[Name]],$C$3:M13,11,FALSE)),\"\")","v":"1904 - Gold"},{"$f":"IF($AO$1<20,Table1[[#This Row],[Highlight?]],IF($AO$1=20,Table1[[#This Row],[OR?]],Table1[[#This Row],[Defended?]]))","v":false},null,1972,{"$f":"IFERROR(INDEX(Table1[SNO],MATCH($R13&\".\"&S$2,Table1[year.m],0)),\"\")","v":53},{"$f":"IFERROR(INDEX(Table1[SNO],MATCH($R13&\".\"&T$2,Table1[year.m],0)),\"\")","v":54},{"$f":"IFERROR(INDEX(Table1[SNO],MATCH($R13&\".\"&U$2,Table1[year.m],0)),\"\")","v":55},{"$f":"IFERROR(INDEX(Table1[SNO],MATCH($R13&\".\"&V$2,Table1[year.m],0)),\"\")","v":""},{"$f":"INDEX(Table1[Venue],S13)","v":"Munich"},null,{"$f":"IFERROR(INDEX(Table1[cDistance],S13),\"\")","v":50},{"$f":"IFERROR(INDEX(Table1[cDistance],T13),\"\")","v":60},{"$f":"IFERROR(INDEX(Table1[cDistance],U13),\"\")","v":68},{"$f":"IFERROR(INDEX(Table1[cDistance],V13),\"\")","v":""},null,{"$f":"IFERROR(VLOOKUP(INDEX(Table1[Medal],S13),$R$34:$T$36,2,FALSE),0)","v":1},{"$f":"IFERROR(VLOOKUP(INDEX(Table1[Medal],T13),$R$34:$T$36,2,FALSE),0)","v":2},{"$f":"IFERROR(VLOOKUP(INDEX(Table1[Medal],U13),$R$34:$T$36,2,FALSE),0)","v":3},{"$f":"IFERROR(VLOOKUP(INDEX(Table1[Medal],V13),$R$34:$T$36,2,FALSE),0)","v":0},null,{"$f":"AJ5","v":"9.63 seconds"},{"$f":"AJ6","v":2012},null,null,"BAR","Barbados",{"$f":"COUNTIF(Table1[Country],AM13)","v":1},{"$f":"AN13&\" - \"&AO13&\" medal\"","v":"Barbados - 1 medal"},null,null,{"$f":"IFERROR(INDEX(Table1[final highlight],S13),FALSE)","v":false},{"$f":"IFERROR(INDEX(Table1[final highlight],T13),FALSE)","v":false},{"$f":"IFERROR(INDEX(Table1[final highlight],U13),FALSE)","v":false},{"$f":"IFERROR(INDEX(Table1[final highlight],V13),FALSE)","v":false}]
[12,"SILVER","Fay Foulton","USA",11.3,14.8,1906,"Athens",{"$f":"G14&\".M\"&COUNTIFS($G$3:G14,G14)","v":"1906.M2"},{"$f":"MROUND(Table1[[#This Row],[Dist. Behind Usain Bolt]]*10,2)","v":148},{"$f":"Table1[[#This Row],[Country]]=selCountry","v":false},{"$f":"MIN($E$3:E13)>E14","v":false},{"$f":"VLOOKUP(Table1[[#This Row],[Medal]],$R$34:$S$36,2,FALSE)","v":2},{"$f":"COUNTIFS($C$3:C14,C14,$M$3:M14,\">=\"&M14)>1","v":false},{"$f":"IF(Table1[[#This Row],[Defended?]],VLOOKUP(Table1[[#This Row],[Name]],$C$3:M14,5,FALSE)&\" - \"&INDEX($R$34:$R$36,VLOOKUP(Table1[[#This Row],[Name]],$C$3:M14,11,FALSE)),\"\")","v":""},{"$f":"IF($AO$1<20,Table1[[#This Row],[Highlight?]],IF($AO$1=20,Table1[[#This Row],[OR?]],Table1[[#This Row],[Defended?]]))","v":false},null,1968,{"$f":"IFERROR(INDEX(Table1[SNO],MATCH($R14&\".\"&S$2,Table1[year.m],0)),\"\")","v":50},{"$f":"IFERROR(INDEX(Table1[SNO],MATCH($R14&\".\"&T$2,Table1[year.m],0)),\"\")","v":51},{"$f":"IFERROR(INDEX(Table1[SNO],MATCH($R14&\".\"&U$2,Table1[year.m],0)),\"\")","v":52},{"$f":"IFERROR(INDEX(Table1[SNO],MATCH($R14&\".\"&V$2,Table1[year.m],0)),\"\")","v":""},{"$f":"INDEX(Table1[Venue],S14)","v":"Mexico City"},null,{"$f":"IFERROR(INDEX(Table1[cDistance],S14),\"\")","v":32},{"$f":"IFERROR(INDEX(Table1[cDistance],T14),\"\")","v":42},{"$f":"IFERROR(INDEX(Table1[cDistance],U14),\"\")","v":44},{"$f":"IFERROR(INDEX(Table1[cDistance],V14),\"\")","v":""},null,{"$f":"IFERROR(VLOOKUP(INDEX(Table1[Medal],S14),$R$34:$T$36,2,FALSE),0)","v":1},{"$f":"IFERROR(VLOOKUP(INDEX(Table1[Medal],T14),$R$34:$T$36,2,FALSE),0)","v":2},{"$f":"IFERROR(VLOOKUP(INDEX(Table1[Medal],U14),$R$34:$T$36,2,FALSE),0)","v":3},{"$f":"IFERROR(VLOOKUP(INDEX(Table1[Medal],V14),$R$34:$T$36,2,FALSE),0)","v":0},null,{"$f":"AJ7","v":"0 meters behind"},{"$f":"AK6","v":""},null,null,"BUL","Bulgaria",{"$f":"COUNTIF(Table1[Country],AM14)","v":1},{"$f":"AN14&\" - \"&AO14&\" medal\"","v":"Bulgaria - 1 medal"},null,null,{"$f":"IFERROR(INDEX(Table1[final highlight],S14),FALSE)","v":false},{"$f":"IFERROR(INDEX(Table1[final highlight],T14),FALSE)","v":false},{"$f":"IFERROR(INDEX(Table1[final highlight],U14),FALSE)","v":false},{"$f":"IFERROR(INDEX(Table1[final highlight],V14),FALSE)","v":false}]
[13,"BRONZE","Nigel Barker","AUS",11.3,14.8,1906,"Athens",{"$f":"G15&\".M\"&COUNTIFS($G$3:G15,G15)","v":"1906.M3"},{"$f":"MROUND(Table1[[#This Row],[Dist. Behind Usain Bolt]]*10,2)","v":148},{"$f":"Table1[[#This Row],[Country]]=selCountry","v":false},{"$f":"MIN($E$3:E14)>E15","v":false},{"$f":"VLOOKUP(Table1[[#This Row],[Medal]],$R$34:$S$36,2,FALSE)","v":3},{"$f":"COUNTIFS($C$3:C15,C15,$M$3:M15,\">=\"&M15)>1","v":false},{"$f":"IF(Table1[[#This Row],[Defended?]],VLOOKUP(Table1[[#This Row],[Name]],$C$3:M15,5,FALSE)&\" - \"&INDEX($R$34:$R$36,VLOOKUP(Table1[[#This Row],[Name]],$C$3:M15,11,FALSE)),\"\")","v":""},{"$f":"IF($AO$1<20,Table1[[#This Row],[Highlight?]],IF($AO$1=20,Table1[[#This Row],[OR?]],Table1[[#This Row],[Defended?]]))","v":false},null,1964,{"$f":"IFERROR(INDEX(Table1[SNO],MATCH($R15&\".\"&S$2,Table1[year.m],0)),\"\")","v":47},{"$f":"IFERROR(INDEX(Table1[SNO],MATCH($R15&\".\"&T$2,Table1[year.m],0)),\"\")","v":48},{"$f":"IFERROR(INDEX(Table1[SNO],MATCH($R15&\".\"&U$2,Table1[year.m],0)),\"\")","v":49},{"$f":"IFERROR(INDEX(Table1[SNO],MATCH($R15&\".\"&V$2,Table1[year.m],0)),\"\")","v":""},{"$f":"INDEX(Table1[Venue],S15)","v":"Tokyo"},null,{"$f":"IFERROR(INDEX(Table1[cDistance],S15),\"\")","v":44},{"$f":"IFERROR(INDEX(Table1[cDistance],T15),\"\")","v":60},{"$f":"IFERROR(INDEX(Table1[cDistance],U15),\"\")","v":62},{"$f":"IFERROR(INDEX(Table1[cDistance],V15),\"\")","v":""},null,{"$f":"IFERROR(VLOOKUP(INDEX(Table1[Medal],S15),$R$34:$T$36,2,FALSE),0)","v":1},{"$f":"IFERROR(VLOOKUP(INDEX(Table1[Medal],T15),$R$34:$T$36,2,FALSE),0)","v":2},{"$f":"IFERROR(VLOOKUP(INDEX(Table1[Medal],U15),$R$34:$T$36,2,FALSE),0)","v":3},{"$f":"IFERROR(VLOOKUP(INDEX(Table1[Medal],V15),$R$34:$T$36,2,FALSE),0)","v":0},null,null,null,null,null,"HOL","Holland",{"$f":"COUNTIF(Table1[Country],AM15)","v":1},"Holland - 1 medal",null,null,{"$f":"IFERROR(INDEX(Table1[final highlight],S15),FALSE)","v":false},{"$f":"IFERROR(INDEX(Table1[final highlight],T15),FALSE)","v":false},{"$f":"IFERROR(INDEX(Table1[final highlight],U15),FALSE)","v":false},{"$f":"IFERROR(INDEX(Table1[final highlight],V15),FALSE)","v":false}]
[14,"GOLD","Reggie Walker","SAF",10.8,10.8,1908,"London",{"$f":"G16&\".M\"&COUNTIFS($G$3:G16,G16)","v":"1908.M1"},{"$f":"MROUND(Table1[[#This Row],[Dist. Behind Usain Bolt]]*10,2)","v":108},{"$f":"Table1[[#This Row],[Country]]=selCountry","v":false},{"$f":"MIN($E$3:E15)>E16","v":true},{"$f":"VLOOKUP(Table1[[#This Row],[Medal]],$R$34:$S$36,2,FALSE)","v":1},{"$f":"COUNTIFS($C$3:C16,C16,$M$3:M16,\">=\"&M16)>1","v":false},{"$f":"IF(Table1[[#This Row],[Defended?]],VLOOKUP(Table1[[#This Row],[Name]],$C$3:M16,5,FALSE)&\" - \"&INDEX($R$34:$R$36,VLOOKUP(Table1[[#This Row],[Name]],$C$3:M16,11,FALSE)),\"\")","v":""},{"$f":"IF($AO$1<20,Table1[[#This Row],[Highlight?]],IF($AO$1=20,Table1[[#This Row],[OR?]],Table1[[#This Row],[Defended?]]))","v":false},null,1960,{"$f":"IFERROR(INDEX(Table1[SNO],MATCH($R16&\".\"&S$2,Table1[year.m],0)),\"\")","v":44},{"$f":"IFERROR(INDEX(Table1[SNO],MATCH($R16&\".\"&T$2,Table1[year.m],0)),\"\")","v":45},{"$f":"IFERROR(INDEX(Table1[SNO],MATCH($R16&\".\"&U$2,Table1[year.m],0)),\"\")","v":46},{"$f":"IFERROR(INDEX(Table1[SNO],MATCH($R16&\".\"&V$2,Table1[year.m],0)),\"\")","v":""},{"$f":"INDEX(Table1[Venue],S16)","v":"Rome"},null,{"$f":"IFERROR(INDEX(Table1[cDistance],S16),\"\")","v":68},{"$f":"IFERROR(INDEX(Table1[cDistance],T16),\"\")","v":70},{"$f":"IFERROR(INDEX(Table1[cDistance],U16),\"\")","v":76},{"$f":"IFERROR(INDEX(Table1[cDistance],V16),\"\")","v":""},null,{"$f":"IFERROR(VLOOKUP(INDEX(Table1[Medal],S16),$R$34:$T$36,2,FALSE),0)","v":1},{"$f":"IFERROR(VLOOKUP(INDEX(Table1[Medal],T16),$R$34:$T$36,2,FALSE),0)","v":2},{"$f":"IFERROR(VLOOKUP(INDEX(Table1[Medal],U16),$R$34:$T$36,2,FALSE),0)","v":3},{"$f":"IFERROR(VLOOKUP(INDEX(Table1[Medal],V16),$R$34:$T$36,2,FALSE),0)","v":0},null,"callerRow",5,null,null,"HUN","Hungary",{"$f":"COUNTIF(Table1[Country],AM16)","v":1},"Hungary - 1 medal",null,null,{"$f":"IFERROR(INDEX(Table1[final highlight],S16),FALSE)","v":false},{"$f":"IFERROR(INDEX(Table1[final highlight],T16),FALSE)","v":false},{"$f":"IFERROR(INDEX(Table1[final highlight],U16),FALSE)","v":false},{"$f":"IFERROR(INDEX(Table1[final highlight],V16),FALSE)","v":false}]
[15,"SILVER","James Rector","USA",11,12.5,1908,"London",{"$f":"G17&\".M\"&COUNTIFS($G$3:G17,G17)","v":"1908.M2"},{"$f":"MROUND(Table1[[#This Row],[Dist. Behind Usain Bolt]]*10,2)","v":126},{"$f":"Table1[[#This Row],[Country]]=selCountry","v":false},{"$f":"MIN($E$3:E16)>E17","v":false},{"$f":"VLOOKUP(Table1[[#This Row],[Medal]],$R$34:$S$36,2,FALSE)","v":2},{"$f":"COUNTIFS($C$3:C17,C17,$M$3:M17,\">=\"&M17)>1","v":false},{"$f":"IF(Table1[[#This Row],[Defended?]],VLOOKUP(Table1[[#This Row],[Name]],$C$3:M17,5,FALSE)&\" - \"&INDEX($R$34:$R$36,VLOOKUP(Table1[[#This Row],[Name]],$C$3:M17,11,FALSE)),\"\")","v":""},{"$f":"IF($AO$1<20,Table1[[#This Row],[Highlight?]],IF($AO$1=20,Table1[[#This Row],[OR?]],Table1[[#This Row],[Defended?]]))","v":false},null,1956,{"$f":"IFERROR(INDEX(Table1[SNO],MATCH($R17&\".\"&S$2,Table1[year.m],0)),\"\")","v":41},{"$f":"IFERROR(INDEX(Table1[SNO],MATCH($R17&\".\"&T$2,Table1[year.m],0)),\"\")","v":42},{"$f":"IFERROR(INDEX(Table1[SNO],MATCH($R17&\".\"&U$2,Table1[year.m],0)),\"\")","v":43},{"$f":"IFERROR(INDEX(Table1[SNO],MATCH($R17&\".\"&V$2,Table1[year.m],0)),\"\")","v":""},{"$f":"INDEX(Table1[Venue],S17)","v":"Melbourne"},null,{"$f":"IFERROR(INDEX(Table1[cDistance],S17),\"\")","v":94},{"$f":"IFERROR(INDEX(Table1[cDistance],T17),\"\")","v":106},{"$f":"IFERROR(INDEX(Table1[cDistance],U17),\"\")","v":106},{"$f":"IFERROR(INDEX(Table1[cDistance],V17),\"\")","v":""},null,{"$f":"IFERROR(VLOOKUP(INDEX(Table1[Medal],S17),$R$34:$T$36,2,FALSE),0)","v":1},{"$f":"IFERROR(VLOOKUP(INDEX(Table1[Medal],T17),$R$34:$T$36,2,FALSE),0)","v":2},{"$f":"IFERROR(VLOOKUP(INDEX(Table1[Medal],U17),$R$34:$T$36,2,FALSE),0)","v":3},{"$f":"IFERROR(VLOOKUP(INDEX(Table1[Medal],V17),$R$34:$T$36,2,FALSE),0)","v":0},null,"callerCol",123,null,null,"NZL","New Zealand",{"$f":"COUNTIF(Table1[Country],AM17)","v":1},"New Zealand - 1 medal",null,null,{"$f":"IFERROR(INDEX(Table1[final highlight],S17),FALSE)","v":false},{"$f":"IFERROR(INDEX(Table1[final highlight],T17),FALSE)","v":false},{"$f":"IFERROR(INDEX(Table1[final highlight],U17),FALSE)","v":false},{"$f":"IFERROR(INDEX(Table1[final highlight],V17),FALSE)","v":false}]
[16,"BRONZE","Robert Kerr","CAN",11,12.5,1908,"London",{"$f":"G18&\".M\"&COUNTIFS($G$3:G18,G18)","v":"1908.M3"},{"$f":"MROUND(Table1[[#This Row],[Dist. Behind Usain Bolt]]*10,2)","v":126},{"$f":"Table1[[#This Row],[Country]]=selCountry","v":false},{"$f":"MIN($E$3:E17)>E18","v":false},{"$f":"VLOOKUP(Table1[[#This Row],[Medal]],$R$34:$S$36,2,FALSE)","v":3},{"$f":"COUNTIFS($C$3:C18,C18,$M$3:M18,\">=\"&M18)>1","v":false},{"$f":"IF(Table1[[#This Row],[Defended?]],VLOOKUP(Table1[[#This Row],[Name]],$C$3:M18,5,FALSE)&\" - \"&INDEX($R$34:$R$36,VLOOKUP(Table1[[#This Row],[Name]],$C$3:M18,11,FALSE)),\"\")","v":""},{"$f":"IF($AO$1<20,Table1[[#This Row],[Highlight?]],IF($AO$1=20,Table1[[#This Row],[OR?]],Table1[[#This Row],[Defended?]]))","v":false},null,1952,{"$f":"IFERROR(INDEX(Table1[SNO],MATCH($R18&\".\"&S$2,Table1[year.m],0)),\"\")","v":38},{"$f":"IFERROR(INDEX(Table1[SNO],MATCH($R18&\".\"&T$2,Table1[year.m],0)),\"\")","v":39},{"$f":"IFERROR(INDEX(Table1[SNO],MATCH($R18&\".\"&U$2,Table1[year.m],0)),\"\")","v":40},{"$f":"IFERROR(INDEX(Table1[SNO],MATCH($R18&\".\"&V$2,Table1[year.m],0)),\"\")","v":""},{"$f":"INDEX(Table1[Venue],S18)","v":"Helsinki"},null,{"$f":"IFERROR(INDEX(Table1[cDistance],S18),\"\")","v":108},{"$f":"IFERROR(INDEX(Table1[cDistance],T18),\"\")","v":108},{"$f":"IFERROR(INDEX(Table1[cDistance],U18),\"\")","v":112},{"$f":"IFERROR(INDEX(Table1[cDistance],V18),\"\")","v":""},null,{"$f":"IFERROR(VLOOKUP(INDEX(Table1[Medal],S18),$R$34:$T$36,2,FALSE),0)","v":1},{"$f":"IFERROR(VLOOKUP(INDEX(Table1[Medal],T18),$R$34:$T$36,2,FALSE),0)","v":2},{"$f":"IFERROR(VLOOKUP(INDEX(Table1[Medal],U18),$R$34:$T$36,2,FALSE),0)","v":3},{"$f":"IFERROR(VLOOKUP(INDEX(Table1[Medal],V18),$R$34:$T$36,2,FALSE),0)","v":0},null,null,null,null,null,"PAN","Panama",{"$f":"COUNTIF(Table1[Country],AM18)","v":1},"Panama - 1 medal",null,null,{"$f":"IFERROR(INDEX(Table1[final highlight],S18),FALSE)","v":false},{"$f":"IFERROR(INDEX(Table1[final highlight],T18),FALSE)","v":false},{"$f":"IFERROR(INDEX(Table1[final highlight],U18),FALSE)","v":false},{"$f":"IFERROR(INDEX(Table1[final highlight],V18),FALSE)","v":false}]
[17,"GOLD","Ralph Craig","USA",10.8,10.8,1912,"Stockholm",{"$f":"G19&\".M\"&COUNTIFS($G$3:G19,G19)","v":"1912.M1"},{"$f":"MROUND(Table1[[#This Row],[Dist. Behind Usain Bolt]]*10,2)","v":108},{"$f":"Table1[[#This Row],[Country]]=selCountry","v":false},{"$f":"MIN($E$3:E18)>E19","v":false},{"$f":"VLOOKUP(Table1[[#This Row],[Medal]],$R$34:$S$36,2,FALSE)","v":1},{"$f":"COUNTIFS($C$3:C19,C19,$M$3:M19,\">=\"&M19)>1","v":false},{"$f":"IF(Table1[[#This Row],[Defended?]],VLOOKUP(Table1[[#This Row],[Name]],$C$3:M19,5,FALSE)&\" - \"&INDEX($R$34:$R$36,VLOOKUP(Table1[[#This Row],[Name]],$C$3:M19,11,FALSE)),\"\")","v":""},{"$f":"IF($AO$1<20,Table1[[#This Row],[Highlight?]],IF($AO$1=20,Table1[[#This Row],[OR?]],Table1[[#This Row],[Defended?]]))","v":false},null,1948,{"$f":"IFERROR(INDEX(Table1[SNO],MATCH($R19&\".\"&S$2,Table1[year.m],0)),\"\")","v":35},{"$f":"IFERROR(INDEX(Table1[SNO],MATCH($R19&\".\"&T$2,Table1[year.m],0)),\"\")","v":36},{"$f":"IFERROR(INDEX(Table1[SNO],MATCH($R19&\".\"&U$2,Table1[year.m],0)),\"\")","v":37},{"$f":"IFERROR(INDEX(Table1[SNO],MATCH($R19&\".\"&V$2,Table1[year.m],0)),\"\")","v":""},{"$f":"INDEX(Table1[Venue],S19)","v":"London"},null,{"$f":"IFERROR(INDEX(Table1[cDistance],S19),\"\")","v":66},{"$f":"IFERROR(INDEX(Table1[cDistance],T19),\"\")","v":74},{"$f":"IFERROR(INDEX(Table1[cDistance],U19),\"\")","v":74},{"$f":"IFERROR(INDEX(Table1[cDistance],V19),\"\")","v":""},null,{"$f":"IFERROR(VLOOKUP(INDEX(Table1[Medal],S19),$R$34:$T$36,2,FALSE),0)","v":1},{"$f":"IFERROR(VLOOKUP(INDEX(Table1[Medal],T19),$R$34:$T$36,2,FALSE),0)","v":2},{"$f":"IFERROR(VLOOKUP(INDEX(Table1[Medal],U19),$R$34:$T$36,2,FALSE),0)","v":3},{"$f":"IFERROR(VLOOKUP(INDEX(Table1[Medal],V19),$R$34:$T$36,2,FALSE),0)","v":0},null,null,null,null,null,"POR","Portugal",{"$f":"COUNTIF(Table1[Country],AM19)","v":1},"Portugal - 1 medal",null,null,{"$f":"IFERROR(INDEX(Table1[final highlight],S19),FALSE)","v":false},{"$f":"IFERROR(INDEX(Table1[final highlight],T19),FALSE)","v":false},{"$f":"IFERROR(INDEX(Table1[final highlight],U19),FALSE)","v":false},{"$f":"IFERROR(INDEX(Table1[final highlight],V19),FALSE)","v":false}]
[18,"SILVER","Alvah Meyer","USA",10.9,11.7,1912,"Stockholm",{"$f":"G20&\".M\"&COUNTIFS($G$3:G20,G20)","v":"1912.M2"},{"$f":"MROUND(Table1[[#This Row],[Dist. Behind Usain Bolt]]*10,2)","v":118},{"$f":"Table1[[#This Row],[Country]]=selCountry","v":false},{"$f":"MIN($E$3:E19)>E20","v":false},{"$f":"VLOOKUP(Table1[[#This Row],[Medal]],$R$34:$S$36,2,FALSE)","v":2},{"$f":"COUNTIFS($C$3:C20,C20,$M$3:M20,\">=\"&M20)>1","v":false},{"$f":"IF(Table1[[#This Row],[Defended?]],VLOOKUP(Table1[[#This Row],[Name]],$C$3:M20,5,FALSE)&\" - \"&INDEX($R$34:$R$36,VLOOKUP(Table1[[#This Row],[Name]],$C$3:M20,11,FALSE)),\"\")","v":""},{"$f":"IF($AO$1<20,Table1[[#This Row],[Highlight?]],IF($AO$1=20,Table1[[#This Row],[OR?]],Table1[[#This Row],[Defended?]]))","v":false},null,1936,{"$f":"IFERROR(INDEX(Table1[SNO],MATCH($R20&\".\"&S$2,Table1[year.m],0)),\"\")","v":32},{"$f":"IFERROR(INDEX(Table1[SNO],MATCH($R20&\".\"&T$2,Table1[year.m],0)),\"\")","v":33},{"$f":"IFERROR(INDEX(Table1[SNO],MATCH($R20&\".\"&U$2,Table1[year.m],0)),\"\")","v":34},{"$f":"IFERROR(INDEX(Table1[SNO],MATCH($R20&\".\"&V$2,Table1[year.m],0)),\"\")","v":""},{"$f":"INDEX(Table1[Venue],S20)","v":"Berlin"},null,{"$f":"IFERROR(INDEX(Table1[cDistance],S20),\"\")","v":66},{"$f":"IFERROR(INDEX(Table1[cDistance],T20),\"\")","v":74},{"$f":"IFERROR(INDEX(Table1[cDistance],U20),\"\")","v":84},{"$f":"IFERROR(INDEX(Table1[cDistance],V20),\"\")","v":""},null,{"$f":"IFERROR(VLOOKUP(INDEX(Table1[Medal],S20),$R$34:$T$36,2,FALSE),0)","v":1},{"$f":"IFERROR(VLOOKUP(INDEX(Table1[Medal],T20),$R$34:$T$36,2,FALSE),0)","v":2},{"$f":"IFERROR(VLOOKUP(INDEX(Table1[Medal],U20),$R$34:$T$36,2,FALSE),0)","v":3},{"$f":"IFERROR(VLOOKUP(INDEX(Table1[Medal],V20),$R$34:$T$36,2,FALSE),0)","v":0},null,null,null,null,null,"SAF","South Africa",{"$f":"COUNTIF(Table1[Country],AM20)","v":1},"South Africa - 1 medal",null,null,{"$f":"IFERROR(INDEX(Table1[final highlight],S20),FALSE)","v":false},{"$f":"IFERROR(INDEX(Table1[final highlight],T20),FALSE)","v":false},{"$f":"IFERROR(INDEX(Table1[final highlight],U20),FALSE)","v":false},{"$f":"IFERROR(INDEX(Table1[final highlight],V20),FALSE)","v":false}]
[19,"BRONZE","Donald Lippincott","USA",10.9,11.7,1912,"Stockholm",{"$f":"G21&\".M\"&COUNTIFS($G$3:G21,G21)","v":"1912.M3"},{"$f":"MROUND(Table1[[#This Row],[Dist. Behind Usain Bolt]]*10,2)","v":118},{"$f":"Table1[[#This Row],[Country]]=selCountry","v":false},{"$f":"MIN($E$3:E20)>E21","v":false},{"$f":"VLOOKUP(Table1[[#This Row],[Medal]],$R$34:$S$36,2,FALSE)","v":3},{"$f":"COUNTIFS($C$3:C21,C21,$M$3:M21,\">=\"&M21)>1","v":false},{"$f":"IF(Table1[[#This Row],[Defended?]],VLOOKUP(Table1[[#This Row],[Name]],$C$3:M21,5,FALSE)&\" - \"&INDEX($R$34:$R$36,VLOOKUP(Table1[[#This Row],[Name]],$C$3:M21,11,FALSE)),\"\")","v":""},{"$f":"IF($AO$1<20,Table1[[#This Row],[Highlight?]],IF($AO$1=20,Table1[[#This Row],[OR?]],Table1[[#This Row],[Defended?]]))","v":false},null,1932,{"$f":"IFERROR(INDEX(Table1[SNO],MATCH($R21&\".\"&S$2,Table1[year.m],0)),\"\")","v":29},{"$f":"IFERROR(INDEX(Table1[SNO],MATCH($R21&\".\"&T$2,Table1[year.m],0)),\"\")","v":30},{"$f":"IFERROR(INDEX(Table1[SNO],MATCH($R21&\".\"&U$2,Table1[year.m],0)),\"\")","v":31},{"$f":"IFERROR(INDEX(Table1[SNO],MATCH($R21&\".\"&V$2,Table1[year.m],0)),\"\")","v":""},{"$f":"INDEX(Table1[Venue],S21)","v":"Los Angeles"},null,{"$f":"IFERROR(INDEX(Table1[cDistance],S21),\"\")","v":66},{"$f":"IFERROR(INDEX(Table1[cDistance],T21),\"\")","v":66},{"$f":"IFERROR(INDEX(Table1[cDistance],U21),\"\")","v":74},{"$f":"IFERROR(INDEX(Table1[cDistance],V21),\"\")","v":""},null,{"$f":"IFERROR(VLOOKUP(INDEX(Table1[Medal],S21),$R$34:$T$36,2,FALSE),0)","v":1},{"$f":"IFERROR(VLOOKUP(INDEX(Table1[Medal],T21),$R$34:$T$36,2,FALSE),0)","v":2},{"$f":"IFERROR(VLOOKUP(INDEX(Table1[Medal],U21),$R$34:$T$36,2,FALSE),0)","v":3},{"$f":"IFERROR(VLOOKUP(INDEX(Table1[Medal],V21),$R$34:$T$36,2,FALSE),0)","v":0},null,null,null,null,null,null,"Nothing",null,"New Olympic Records",null,null,{"$f":"IFERROR(INDEX(Table1[final highlight],S21),FALSE)","v":false},{"$f":"IFERROR(INDEX(Table1[final highlight],T21),FALSE)","v":false},{"$f":"IFERROR(INDEX(Table1[final highlight],U21),FALSE)","v":false},{"$f":"IFERROR(INDEX(Table1[final highlight],V21),FALSE)","v":false}]
[20,"GOLD","Charles Paddock","USA",10.8,10.8,1920,"Antwerp",{"$f":"G22&\".M\"&COUNTIFS($G$3:G22,G22)","v":"1920.M1"},{"$f":"MROUND(Table1[[#This Row],[Dist. Behind Usain Bolt]]*10,2)","v":108},{"$f":"Table1[[#This Row],[Country]]=selCountry","v":false},{"$f":"MIN($E$3:E21)>E22","v":false},{"$f":"VLOOKUP(Table1[[#This Row],[Medal]],$R$34:$S$36,2,FALSE)","v":1},{"$f":"COUNTIFS($C$3:C22,C22,$M$3:M22,\">=\"&M22)>1","v":false},{"$f":"IF(Table1[[#This Row],[Defended?]],VLOOKUP(Table1[[#This Row],[Name]],$C$3:M22,5,FALSE)&\" - \"&INDEX($R$34:$R$36,VLOOKUP(Table1[[#This Row],[Name]],$C$3:M22,11,FALSE)),\"\")","v":""},{"$f":"IF($AO$1<20,Table1[[#This Row],[Highlight?]],IF($AO$1=20,Table1[[#This Row],[OR?]],Table1[[#This Row],[Defended?]]))","v":false},null,1928,{"$f":"IFERROR(INDEX(Table1[SNO],MATCH($R22&\".\"&S$2,Table1[year.m],0)),\"\")","v":26},{"$f":"IFERROR(INDEX(Table1[SNO],MATCH($R22&\".\"&T$2,Table1[year.m],0)),\"\")","v":27},{"$f":"IFERROR(INDEX(Table1[SNO],MATCH($R22&\".\"&U$2,Table1[year.m],0)),\"\")","v":28},{"$f":"IFERROR(INDEX(Table1[SNO],MATCH($R22&\".\"&V$2,Table1[year.m],0)),\"\")","v":""},{"$f":"INDEX(Table1[Venue],S22)","v":"Amsterdam"},null,{"$f":"IFERROR(INDEX(Table1[cDistance],S22),\"\")","v":108},{"$f":"IFERROR(INDEX(Table1[cDistance],T22),\"\")","v":118},{"$f":"IFERROR(INDEX(Table1[cDistance],U22),\"\")","v":118},{"$f":"IFERROR(INDEX(Table1[cDistance],V22),\"\")","v":""},null,{"$f":"IFERROR(VLOOKUP(INDEX(Table1[Medal],S22),$R$34:$T$36,2,FALSE),0)","v":1},{"$f":"IFERROR(VLOOKUP(INDEX(Table1[Medal],T22),$R$34:$T$36,2,FALSE),0)","v":2},{"$f":"IFERROR(VLOOKUP(INDEX(Table1[Medal],U22),$R$34:$T$36,2,FALSE),0)","v":3},{"$f":"IFERROR(VLOOKUP(INDEX(Table1[Medal],V22),$R$34:$T$36,2,FALSE),0)","v":0},null,null,null,null,null,null,null,null,"Medal Defenders",null,null,{"$f":"IFERROR(INDEX(Table1[final highlight],S22),FALSE)","v":false},{"$f":"IFERROR(INDEX(Table1[final highlight],T22),FALSE)","v":false},{"$f":"IFERROR(INDEX(Table1[final highlight],U22),FALSE)","v":false},{"$f":"IFERROR(INDEX(Table1[final highlight],V22),FALSE)","v":false}]
[21,"SILVER","Morris Kirksey","USA",10.9,11.7,1920,"Antwerp",{"$f":"G23&\".M\"&COUNTIFS($G$3:G23,G23)","v":"1920.M2"},{"$f":"MROUND(Table1[[#This Row],[Dist. Behind Usain Bolt]]*10,2)","v":118},{"$f":"Table1[[#This Row],[Country]]=selCountry","v":false},{"$f":"MIN($E$3:E22)>E23","v":false},{"$f":"VLOOKUP(Table1[[#This Row],[Medal]],$R$34:$S$36,2,FALSE)","v":2},{"$f":"COUNTIFS($C$3:C23,C23,$M$3:M23,\">=\"&M23)>1","v":false},{"$f":"IF(Table1[[#This Row],[Defended?]],VLOOKUP(Table1[[#This Row],[Name]],$C$3:M23,5,FALSE)&\" - \"&INDEX($R$34:$R$36,VLOOKUP(Table1[[#This Row],[Name]],$C$3:M23,11,FALSE)),\"\")","v":""},{"$f":"IF($AO$1<20,Table1[[#This Row],[Highlight?]],IF($AO$1=20,Table1[[#This Row],[OR?]],Table1[[#This Row],[Defended?]]))","v":false},null,1924,{"$f":"IFERROR(INDEX(Table1[SNO],MATCH($R23&\".\"&S$2,Table1[year.m],0)),\"\")","v":23},{"$f":"IFERROR(INDEX(Table1[SNO],MATCH($R23&\".\"&T$2,Table1[year.m],0)),\"\")","v":24},{"$f":"IFERROR(INDEX(Table1[SNO],MATCH($R23&\".\"&U$2,Table1[year.m],0)),\"\")","v":25},{"$f":"IFERROR(INDEX(Table1[SNO],MATCH($R23&\".\"&V$2,Table1[year.m],0)),\"\")","v":""},{"$f":"INDEX(Table1[Venue],S23)","v":"Paris"},null,{"$f":"IFERROR(INDEX(Table1[cDistance],S23),\"\")","v":92},{"$f":"IFERROR(INDEX(Table1[cDistance],T23),\"\")","v":108},{"$f":"IFERROR(INDEX(Table1[cDistance],U23),\"\")","v":118},{"$f":"IFERROR(INDEX(Table1[cDistance],V23),\"\")","v":""},null,{"$f":"IFERROR(VLOOKUP(INDEX(Table1[Medal],S23),$R$34:$T$36,2,FALSE),0)","v":1},{"$f":"IFERROR(VLOOKUP(INDEX(Table1[Medal],T23),$R$34:$T$36,2,FALSE),0)","v":2},{"$f":"IFERROR(VLOOKUP(INDEX(Table1[Medal],U23),$R$34:$T$36,2,FALSE),0)","v":3},{"$f":"IFERROR(VLOOKUP(INDEX(Table1[Medal],V23),$R$34:$T$36,2,FALSE),0)","v":0},null,null,null,null,null,null,null,null,null,null,null,{"$f":"IFERROR(INDEX(Table1[final highlight],S23),FALSE)","v":false},{"$f":"IFERROR(INDEX(Table1[final highlight],T23),FALSE)","v":false},{"$f":"IFERROR(INDEX(Table1[final highlight],U23),FALSE)","v":false},{"$f":"IFERROR(INDEX(Table1[final highlight],V23),FALSE)","v":false}]
[22,"BRONZE","Harry Edward","GBR",10.9,11.7,1920,"Antwerp",{"$f":"G24&\".M\"&COUNTIFS($G$3:G24,G24)","v":"1920.M3"},{"$f":"MROUND(Table1[[#This Row],[Dist. Behind Usain Bolt]]*10,2)","v":118},{"$f":"Table1[[#This Row],[Country]]=selCountry","v":false},{"$f":"MIN($E$3:E23)>E24","v":false},{"$f":"VLOOKUP(Table1[[#This Row],[Medal]],$R$34:$S$36,2,FALSE)","v":3},{"$f":"COUNTIFS($C$3:C24,C24,$M$3:M24,\">=\"&M24)>1","v":false},{"$f":"IF(Table1[[#This Row],[Defended?]],VLOOKUP(Table1[[#This Row],[Name]],$C$3:M24,5,FALSE)&\" - \"&INDEX($R$34:$R$36,VLOOKUP(Table1[[#This Row],[Name]],$C$3:M24,11,FALSE)),\"\")","v":""},{"$f":"IF($AO$1<20,Table1[[#This Row],[Highlight?]],IF($AO$1=20,Table1[[#This Row],[OR?]],Table1[[#This Row],[Defended?]]))","v":false},null,1920,{"$f":"IFERROR(INDEX(Table1[SNO],MATCH($R24&\".\"&S$2,Table1[year.m],0)),\"\")","v":20},{"$f":"IFERROR(INDEX(Table1[SNO],MATCH($R24&\".\"&T$2,Table1[year.m],0)),\"\")","v":21},{"$f":"IFERROR(INDEX(Table1[SNO],MATCH($R24&\".\"&U$2,Table1[year.m],0)),\"\")","v":22},{"$f":"IFERROR(INDEX(Table1[SNO],MATCH($R24&\".\"&V$2,Table1[year.m],0)),\"\")","v":""},{"$f":"INDEX(Table1[Venue],S24)","v":"Antwerp"},null,{"$f":"IFERROR(INDEX(Table1[cDistance],S24),\"\")","v":108},{"$f":"IFERROR(INDEX(Table1[cDistance],T24),\"\")","v":118},{"$f":"IFERROR(INDEX(Table1[cDistance],U24),\"\")","v":118},{"$f":"IFERROR(INDEX(Table1[cDistance],V24),\"\")","v":""},null,{"$f":"IFERROR(VLOOKUP(INDEX(Table1[Medal],S24),$R$34:$T$36,2,FALSE),0)","v":1},{"$f":"IFERROR(VLOOKUP(INDEX(Table1[Medal],T24),$R$34:$T$36,2,FALSE),0)","v":2},{"$f":"IFERROR(VLOOKUP(INDEX(Table1[Medal],U24),$R$34:$T$36,2,FALSE),0)","v":3},{"$f":"IFERROR(VLOOKUP(INDEX(Table1[Medal],V24),$R$34:$T$36,2,FALSE),0)","v":0},null,null,null,null,null,null,null,null,null,null,null,{"$f":"IFERROR(INDEX(Table1[final highlight],S24),FALSE)","v":false},{"$f":"IFERROR(INDEX(Table1[final highlight],T24),FALSE)","v":false},{"$f":"IFERROR(INDEX(Table1[final highlight],U24),FALSE)","v":false},{"$f":"IFERROR(INDEX(Table1[final highlight],V24),FALSE)","v":false}]
[23,"GOLD","Harold Abrahams","GBR",10.6,9.1999999999999993,1924,"Paris",{"$f":"G25&\".M\"&COUNTIFS($G$3:G25,G25)","v":"1924.M1"},{"$f":"MROUND(Table1[[#This Row],[Dist. Behind Usain Bolt]]*10,2)","v":92},{"$f":"Table1[[#This Row],[Country]]=selCountry","v":false},{"$f":"MIN($E$3:E24)>E25","v":true},{"$f":"VLOOKUP(Table1[[#This Row],[Medal]],$R$34:$S$36,2,FALSE)","v":1},{"$f":"COUNTIFS($C$3:C25,C25,$M$3:M25,\">=\"&M25)>1","v":false},{"$f":"IF(Table1[[#This Row],[Defended?]],VLOOKUP(Table1[[#This Row],[Name]],$C$3:M25,5,FALSE)&\" - \"&INDEX($R$34:$R$36,VLOOKUP(Table1[[#This Row],[Name]],$C$3:M25,11,FALSE)),\"\")","v":""},{"$f":"IF($AO$1<20,Table1[[#This Row],[Highlight?]],IF($AO$1=20,Table1[[#This Row],[OR?]],Table1[[#This Row],[Defended?]]))","v":false},null,1912,{"$f":"IFERROR(INDEX(Table1[SNO],MATCH($R25&\".\"&S$2,Table1[year.m],0)),\"\")","v":17},{"$f":"IFERROR(INDEX(Table1[SNO],MATCH($R25&\".\"&T$2,Table1[year.m],0)),\"\")","v":18},{"$f":"IFERROR(INDEX(Table1[SNO],MATCH($R25&\".\"&U$2,Table1[year.m],0)),\"\")","v":19},{"$f":"IFERROR(INDEX(Table1[SNO],MATCH($R25&\".\"&V$2,Table1[year.m],0)),\"\")","v":""},{"$f":"INDEX(Table1[Venue],S25)","v":"Stockholm"},null,{"$f":"IFERROR(INDEX(Table1[cDistance],S25),\"\")","v":108},{"$f":"IFERROR(INDEX(Table1[cDistance],T25),\"\")","v":118},{"$f":"IFERROR(INDEX(Table1[cDistance],U25),\"\")","v":118},{"$f":"IFERROR(INDEX(Table1[cDistance],V25),\"\")","v":""},null,{"$f":"IFERROR(VLOOKUP(INDEX(Table1[Medal],S25),$R$34:$T$36,2,FALSE),0)","v":1},{"$f":"IFERROR(VLOOKUP(INDEX(Table1[Medal],T25),$R$34:$T$36,2,FALSE),0)","v":2},{"$f":"IFERROR(VLOOKUP(INDEX(Table1[Medal],U25),$R$34:$T$36,2,FALSE),0)","v":3},{"$f":"IFERROR(VLOOKUP(INDEX(Table1[Medal],V25),$R$34:$T$36,2,FALSE),0)","v":0},null,null,null,null,null,null,null,null,null,null,null,{"$f":"IFERROR(INDEX(Table1[final highlight],S25),FALSE)","v":false},{"$f":"IFERROR(INDEX(Table1[final highlight],T25),FALSE)","v":false},{"$f":"IFERROR(INDEX(Table1[final highlight],U25),FALSE)","v":false},{"$f":"IFERROR(INDEX(Table1[final highlight],V25),FALSE)","v":false}]
[24,"SILVER","Jackson Scholz","USA",10.8,10.8,1924,"Paris",{"$f":"G26&\".M\"&COUNTIFS($G$3:G26,G26)","v":"1924.M2"},{"$f":"MROUND(Table1[[#This Row],[Dist. Behind Usain Bolt]]*10,2)","v":108},{"$f":"Table1[[#This Row],[Country]]=selCountry","v":false},{"$f":"MIN($E$3:E25)>E26","v":false},{"$f":"VLOOKUP(Table1[[#This Row],[Medal]],$R$34:$S$36,2,FALSE)","v":2},{"$f":"COUNTIFS($C$3:C26,C26,$M$3:M26,\">=\"&M26)>1","v":false},{"$f":"IF(Table1[[#This Row],[Defended?]],VLOOKUP(Table1[[#This Row],[Name]],$C$3:M26,5,FALSE)&\" - \"&INDEX($R$34:$R$36,VLOOKUP(Table1[[#This Row],[Name]],$C$3:M26,11,FALSE)),\"\")","v":""},{"$f":"IF($AO$1<20,Table1[[#This Row],[Highlight?]],IF($AO$1=20,Table1[[#This Row],[OR?]],Table1[[#This Row],[Defended?]]))","v":false},null,1908,{"$f":"IFERROR(INDEX(Table1[SNO],MATCH($R26&\".\"&S$2,Table1[year.m],0)),\"\")","v":14},{"$f":"IFERROR(INDEX(Table1[SNO],MATCH($R26&\".\"&T$2,Table1[year.m],0)),\"\")","v":15},{"$f":"IFERROR(INDEX(Table1[SNO],MATCH($R26&\".\"&U$2,Table1[year.m],0)),\"\")","v":16},{"$f":"IFERROR(INDEX(Table1[SNO],MATCH($R26&\".\"&V$2,Table1[year.m],0)),\"\")","v":""},{"$f":"INDEX(Table1[Venue],S26)","v":"London"},null,{"$f":"IFERROR(INDEX(Table1[cDistance],S26),\"\")","v":108},{"$f":"IFERROR(INDEX(Table1[cDistance],T26),\"\")","v":126},{"$f":"IFERROR(INDEX(Table1[cDistance],U26),\"\")","v":126},{"$f":"IFERROR(INDEX(Table1[cDistance],V26),\"\")","v":""},null,{"$f":"IFERROR(VLOOKUP(INDEX(Table1[Medal],S26),$R$34:$T$36,2,FALSE),0)","v":1},{"$f":"IFERROR(VLOOKUP(INDEX(Table1[Medal],T26),$R$34:$T$36,2,FALSE),0)","v":2},{"$f":"IFERROR(VLOOKUP(INDEX(Table1[Medal],U26),$R$34:$T$36,2,FALSE),0)","v":3},{"$f":"IFERROR(VLOOKUP(INDEX(Table1[Medal],V26),$R$34:$T$36,2,FALSE),0)","v":0},null,null,null,null,null,null,null,null,null,null,null,{"$f":"IFERROR(INDEX(Table1[final highlight],S26),FALSE)","v":false},{"$f":"IFERROR(INDEX(Table1[final highlight],T26),FALSE)","v":false},{"$f":"IFERROR(INDEX(Table1[final highlight],U26),FALSE)","v":false},{"$f":"IFERROR(INDEX(Table1[final highlight],V26),FALSE)","v":false}]
[25,"BRONZE","Arthur Porritt","NZL",10.9,11.7,1924,"Paris",{"$f":"G27&\".M\"&COUNTIFS($G$3:G27,G27)","v":"1924.M3"},{"$f":"MROUND(Table1[[#This Row],[Dist. Behind Usain Bolt]]*10,2)","v":118},{"$f":"Table1[[#This Row],[Country]]=selCountry","v":false},{"$f":"MIN($E$3:E26)>E27","v":false},{"$f":"VLOOKUP(Table1[[#This Row],[Medal]],$R$34:$S$36,2,FALSE)","v":3},{"$f":"COUNTIFS($C$3:C27,C27,$M$3:M27,\">=\"&M27)>1","v":false},{"$f":"IF(Table1[[#This Row],[Defended?]],VLOOKUP(Table1[[#This Row],[Name]],$C$3:M27,5,FALSE)&\" - \"&INDEX($R$34:$R$36,VLOOKUP(Table1[[#This Row],[Name]],$C$3:M27,11,FALSE)),\"\")","v":""},{"$f":"IF($AO$1<20,Table1[[#This Row],[Highlight?]],IF($AO$1=20,Table1[[#This Row],[OR?]],Table1[[#This Row],[Defended?]]))","v":false},null,1906,{"$f":"IFERROR(INDEX(Table1[SNO],MATCH($R27&\".\"&S$2,Table1[year.m],0)),\"\")","v":11},{"$f":"IFERROR(INDEX(Table1[SNO],MATCH($R27&\".\"&T$2,Table1[year.m],0)),\"\")","v":12},{"$f":"IFERROR(INDEX(Table1[SNO],MATCH($R27&\".\"&U$2,Table1[year.m],0)),\"\")","v":13},{"$f":"IFERROR(INDEX(Table1[SNO],MATCH($R27&\".\"&V$2,Table1[year.m],0)),\"\")","v":""},{"$f":"INDEX(Table1[Venue],S27)","v":"Athens"},null,{"$f":"IFERROR(INDEX(Table1[cDistance],S27),\"\")","v":140},{"$f":"IFERROR(INDEX(Table1[cDistance],T27),\"\")","v":148},{"$f":"IFERROR(INDEX(Table1[cDistance],U27),\"\")","v":148},{"$f":"IFERROR(INDEX(Table1[cDistance],V27),\"\")","v":""},null,{"$f":"IFERROR(VLOOKUP(INDEX(Table1[Medal],S27),$R$34:$T$36,2,FALSE),0)","v":1},{"$f":"IFERROR(VLOOKUP(INDEX(Table1[Medal],T27),$R$34:$T$36,2,FALSE),0)","v":2},{"$f":"IFERROR(VLOOKUP(INDEX(Table1[Medal],U27),$R$34:$T$36,2,FALSE),0)","v":3},{"$f":"IFERROR(VLOOKUP(INDEX(Table1[Medal],V27),$R$34:$T$36,2,FALSE),0)","v":0},null,null,null,null,null,null,null,null,null,null,null,{"$f":"IFERROR(INDEX(Table1[final highlight],S27),FALSE)","v":false},{"$f":"IFERROR(INDEX(Table1[final highlight],T27),FALSE)","v":false},{"$f":"IFERROR(INDEX(Table1[final highlight],U27),FALSE)","v":false},{"$f":"IFERROR(INDEX(Table1[final highlight],V27),FALSE)","v":false}]
[26,"GOLD","Percy Williams","CAN",10.8,10.8,1928,"Amsterdam",{"$f":"G28&\".M\"&COUNTIFS($G$3:G28,G28)","v":"1928.M1"},{"$f":"MROUND(Table1[[#This Row],[Dist. Behind Usain Bolt]]*10,2)","v":108},{"$f":"Table1[[#This Row],[Country]]=selCountry","v":false},{"$f":"MIN($E$3:E27)>E28","v":false},{"$f":"VLOOKUP(Table1[[#This Row],[Medal]],$R$34:$S$36,2,FALSE)","v":1},{"$f":"COUNTIFS($C$3:C28,C28,$M$3:M28,\">=\"&M28)>1","v":false},{"$f":"IF(Table1[[#This Row],[Defended?]],VLOOKUP(Table1[[#This Row],[Name]],$C$3:M28,5,FALSE)&\" - \"&INDEX($R$34:$R$36,VLOOKUP(Table1[[#This Row],[Name]],$C$3:M28,11,FALSE)),\"\")","v":""},{"$f":"IF($AO$1<20,Table1[[#This Row],[Highlight?]],IF($AO$1=20,Table1[[#This Row],[OR?]],Table1[[#This Row],[Defended?]]))","v":false},null,1904,{"$f":"IFERROR(INDEX(Table1[SNO],MATCH($R28&\".\"&S$2,Table1[year.m],0)),\"\")","v":8},{"$f":"IFERROR(INDEX(Table1[SNO],MATCH($R28&\".\"&T$2,Table1[year.m],0)),\"\")","v":9},{"$f":"IFERROR(INDEX(Table1[SNO],MATCH($R28&\".\"&U$2,Table1[year.m],0)),\"\")","v":10},{"$f":"IFERROR(INDEX(Table1[SNO],MATCH($R28&\".\"&V$2,Table1[year.m],0)),\"\")","v":""},{"$f":"INDEX(Table1[Venue],S28)","v":"St. Louis"},null,{"$f":"IFERROR(INDEX(Table1[cDistance],S28),\"\")","v":126},{"$f":"IFERROR(INDEX(Table1[cDistance],T28),\"\")","v":140},{"$f":"IFERROR(INDEX(Table1[cDistance],U28),\"\")","v":140},{"$f":"IFERROR(INDEX(Table1[cDistance],V28),\"\")","v":""},null,{"$f":"IFERROR(VLOOKUP(INDEX(Table1[Medal],S28),$R$34:$T$36,2,FALSE),0)","v":1},{"$f":"IFERROR(VLOOKUP(INDEX(Table1[Medal],T28),$R$34:$T$36,2,FALSE),0)","v":2},{"$f":"IFERROR(VLOOKUP(INDEX(Table1[Medal],U28),$R$34:$T$36,2,FALSE),0)","v":3},{"$f":"IFERROR(VLOOKUP(INDEX(Table1[Medal],V28),$R$34:$T$36,2,FALSE),0)","v":0},null,null,null,null,null,null,null,null,null,null,null,{"$f":"IFERROR(INDEX(Table1[final highlight],S28),FALSE)","v":false},{"$f":"IFERROR(INDEX(Table1[final highlight],T28),FALSE)","v":false},{"$f":"IFERROR(INDEX(Table1[final highlight],U28),FALSE)","v":false},{"$f":"IFERROR(INDEX(Table1[final highlight],V28),FALSE)","v":false}]
[27,"SILVER","Jack London","GBR",10.9,11.7,1928,"Amsterdam",{"$f":"G29&\".M\"&COUNTIFS($G$3:G29,G29)","v":"1928.M2"},{"$f":"MROUND(Table1[[#This Row],[Dist. Behind Usain Bolt]]*10,2)","v":118},{"$f":"Table1[[#This Row],[Country]]=selCountry","v":false},{"$f":"MIN($E$3:E28)>E29","v":false},{"$f":"VLOOKUP(Table1[[#This Row],[Medal]],$R$34:$S$36,2,FALSE)","v":2},{"$f":"COUNTIFS($C$3:C29,C29,$M$3:M29,\">=\"&M29)>1","v":false},{"$f":"IF(Table1[[#This Row],[Defended?]],VLOOKUP(Table1[[#This Row],[Name]],$C$3:M29,5,FALSE)&\" - \"&INDEX($R$34:$R$36,VLOOKUP(Table1[[#This Row],[Name]],$C$3:M29,11,FALSE)),\"\")","v":""},{"$f":"IF($AO$1<20,Table1[[#This Row],[Highlight?]],IF($AO$1=20,Table1[[#This Row],[OR?]],Table1[[#This Row],[Defended?]]))","v":false},null,1900,{"$f":"IFERROR(INDEX(Table1[SNO],MATCH($R29&\".\"&S$2,Table1[year.m],0)),\"\")","v":5},{"$f":"IFERROR(INDEX(Table1[SNO],MATCH($R29&\".\"&T$2,Table1[year.m],0)),\"\")","v":6},{"$f":"IFERROR(INDEX(Table1[SNO],MATCH($R29&\".\"&U$2,Table1[year.m],0)),\"\")","v":7},{"$f":"IFERROR(INDEX(Table1[SNO],MATCH($R29&\".\"&V$2,Table1[year.m],0)),\"\")","v":""},{"$f":"INDEX(Table1[Venue],S29)","v":"Paris"},null,{"$f":"IFERROR(INDEX(Table1[cDistance],S29),\"\")","v":126},{"$f":"IFERROR(INDEX(Table1[cDistance],T29),\"\")","v":132},{"$f":"IFERROR(INDEX(Table1[cDistance],U29),\"\")","v":140},{"$f":"IFERROR(INDEX(Table1[cDistance],V29),\"\")","v":""},null,{"$f":"IFERROR(VLOOKUP(INDEX(Table1[Medal],S29),$R$34:$T$36,2,FALSE),0)","v":1},{"$f":"IFERROR(VLOOKUP(INDEX(Table1[Medal],T29),$R$34:$T$36,2,FALSE),0)","v":2},{"$f":"IFERROR(VLOOKUP(INDEX(Table1[Medal],U29),$R$34:$T$36,2,FALSE),0)","v":3},{"$f":"IFERROR(VLOOKUP(INDEX(Table1[Medal],V29),$R$34:$T$36,2,FALSE),0)","v":0},null,null,null,null,null,null,null,null,null,null,null,{"$f":"IFERROR(INDEX(Table1[final highlight],S29),FALSE)","v":false},{"$f":"IFERROR(INDEX(Table1[final highlight],T29),FALSE)","v":false},{"$f":"IFERROR(INDEX(Table1[final highlight],U29),FALSE)","v":false},{"$f":"IFERROR(INDEX(Table1[final highlight],V29),FALSE)","v":false}]
[28,"BRONZE","Georg Lammers","GER",10.9,11.7,1928,"Amsterdam",{"$f":"G30&\".M\"&COUNTIFS($G$3:G30,G30)","v":"1928.M3"},{"$f":"MROUND(Table1[[#This Row],[Dist. Behind Usain Bolt]]*10,2)","v":118},{"$f":"Table1[[#This Row],[Country]]=selCountry","v":false},{"$f":"MIN($E$3:E29)>E30","v":false},{"$f":"VLOOKUP(Table1[[#This Row],[Medal]],$R$34:$S$36,2,FALSE)","v":3},{"$f":"COUNTIFS($C$3:C30,C30,$M$3:M30,\">=\"&M30)>1","v":false},{"$f":"IF(Table1[[#This Row],[Defended?]],VLOOKUP(Table1[[#This Row],[Name]],$C$3:M30,5,FALSE)&\" - \"&INDEX($R$34:$R$36,VLOOKUP(Table1[[#This Row],[Name]],$C$3:M30,11,FALSE)),\"\")","v":""},{"$f":"IF($AO$1<20,Table1[[#This Row],[Highlight?]],IF($AO$1=20,Table1[[#This Row],[OR?]],Table1[[#This Row],[Defended?]]))","v":false},null,1896,{"$f":"IFERROR(INDEX(Table1[SNO],MATCH($R30&\".\"&S$2,Table1[year.m],0)),\"\")","v":1},{"$f":"IFERROR(INDEX(Table1[SNO],MATCH($R30&\".\"&T$2,Table1[year.m],0)),\"\")","v":2},{"$f":"IFERROR(INDEX(Table1[SNO],MATCH($R30&\".\"&U$2,Table1[year.m],0)),\"\")","v":3},{"$f":"IFERROR(INDEX(Table1[SNO],MATCH($R30&\".\"&V$2,Table1[year.m],0)),\"\")","v":4},{"$f":"INDEX(Table1[Venue],S30)","v":"Athens"},null,{"$f":"IFERROR(INDEX(Table1[cDistance],S30),\"\")","v":198},{"$f":"IFERROR(INDEX(Table1[cDistance],T30),\"\")","v":212},{"$f":"IFERROR(INDEX(Table1[cDistance],U30),\"\")","v":236},{"$f":"IFERROR(INDEX(Table1[cDistance],V30),\"\")","v":236},null,{"$f":"IFERROR(VLOOKUP(INDEX(Table1[Medal],S30),$R$34:$T$36,2,FALSE),0)","v":1},{"$f":"IFERROR(VLOOKUP(INDEX(Table1[Medal],T30),$R$34:$T$36,2,FALSE),0)","v":2},{"$f":"IFERROR(VLOOKUP(INDEX(Table1[Medal],U30),$R$34:$T$36,2,FALSE),0)","v":3},{"$f":"IFERROR(VLOOKUP(INDEX(Table1[Medal],V30),$R$34:$T$36,2,FALSE),0)","v":3},null,null,null,null,null,null,null,null,null,null,null,{"$f":"IFERROR(INDEX(Table1[final highlight],S30),FALSE)","v":false},{"$f":"IFERROR(INDEX(Table1[final highlight],T30),FALSE)","v":false},{"$f":"IFERROR(INDEX(Table1[final highlight],U30),FALSE)","v":false},{"$f":"IFERROR(INDEX(Table1[final highlight],V30),FALSE)","v":false}]
[29,"GOLD","Eddie Tolan","USA",10.3,6.5,1932,"Los Angeles",{"$f":"G31&\".M\"&COUNTIFS($G$3:G31,G31)","v":"1932.M1"},{"$f":"MROUND(Table1[[#This Row],[Dist. Behind Usain Bolt]]*10,2)","v":66},{"$f":"Table1[[#This Row],[Country]]=selCountry","v":false},{"$f":"MIN($E$3:E30)>E31","v":true},{"$f":"VLOOKUP(Table1[[#This Row],[Medal]],$R$34:$S$36,2,FALSE)","v":1},{"$f":"COUNTIFS($C$3:C31,C31,$M$3:M31,\">=\"&M31)>1","v":false},{"$f":"IF(Table1[[#This Row],[Defended?]],VLOOKUP(Table1[[#This Row],[Name]],$C$3:M31,5,FALSE)&\" - \"&INDEX($R$34:$R$36,VLOOKUP(Table1[[#This Row],[Name]],$C$3:M31,11,FALSE)),\"\")","v":""},{"$f":"IF($AO$1<20,Table1[[#This Row],[Highlight?]],IF($AO$1=20,Table1[[#This Row],[OR?]],Table1[[#This Row],[Defended?]]))","v":false}]
[30,"SILVER","Ralph Metcalfe","USA",10.3,6.5,1932,"Los Angeles",{"$f":"G32&\".M\"&COUNTIFS($G$3:G32,G32)","v":"1932.M2"},{"$f":"MROUND(Table1[[#This Row],[Dist. Behind Usain Bolt]]*10,2)","v":66},{"$f":"Table1[[#This Row],[Country]]=selCountry","v":false},{"$f":"MIN($E$3:E31)>E32","v":false},{"$f":"VLOOKUP(Table1[[#This Row],[Medal]],$R$34:$S$36,2,FALSE)","v":2},{"$f":"COUNTIFS($C$3:C32,C32,$M$3:M32,\">=\"&M32)>1","v":false},{"$f":"IF(Table1[[#This Row],[Defended?]],VLOOKUP(Table1[[#This Row],[Name]],$C$3:M32,5,FALSE)&\" - \"&INDEX($R$34:$R$36,VLOOKUP(Table1[[#This Row],[Name]],$C$3:M32,11,FALSE)),\"\")","v":""},{"$f":"IF($AO$1<20,Table1[[#This Row],[Highlight?]],IF($AO$1=20,Table1[[#This Row],[OR?]],Table1[[#This Row],[Defended?]]))","v":false},null,{"$f":"COUNT(lstYears)","v":28},null,"•●"]
[31,"BRONZE","Arthur Jonath","GER",10.4,7.4,1932,"Los Angeles",{"$f":"G33&\".M\"&COUNTIFS($G$3:G33,G33)","v":"1932.M3"},{"$f":"MROUND(Table1[[#This Row],[Dist. Behind Usain Bolt]]*10,2)","v":74},{"$f":"Table1[[#This Row],[Country]]=selCountry","v":false},{"$f":"MIN($E$3:E32)>E33","v":false},{"$f":"VLOOKUP(Table1[[#This Row],[Medal]],$R$34:$S$36,2,FALSE)","v":3},{"$f":"COUNTIFS($C$3:C33,C33,$M$3:M33,\">=\"&M33)>1","v":false},{"$f":"IF(Table1[[#This Row],[Defended?]],VLOOKUP(Table1[[#This Row],[Name]],$C$3:M33,5,FALSE)&\" - \"&INDEX($R$34:$R$36,VLOOKUP(Table1[[#This Row],[Name]],$C$3:M33,11,FALSE)),\"\")","v":""},{"$f":"IF($AO$1<20,Table1[[#This Row],[Highlight?]],IF($AO$1=20,Table1[[#This Row],[OR?]],Table1[[#This Row],[Defended?]]))","v":false},null,null,null,null,null,null,null,null,null,null,null,null,null,null,null,null,null,null,null,null,null,null,"Summary",null,"Text","Count",null,{"$f":"AP36","v":0}]
[32,"GOLD","Jesse Owens","USA",10.3,6.5,1936,"Berlin",{"$f":"G34&\".M\"&COUNTIFS($G$3:G34,G34)","v":"1936.M1"},{"$f":"MROUND(Table1[[#This Row],[Dist. Behind Usain Bolt]]*10,2)","v":66},{"$f":"Table1[[#This Row],[Country]]=selCountry","v":false},{"$f":"MIN($E$3:E33)>E34","v":false},{"$f":"VLOOKUP(Table1[[#This Row],[Medal]],$R$34:$S$36,2,FALSE)","v":1},{"$f":"COUNTIFS($C$3:C34,C34,$M$3:M34,\">=\"&M34)>1","v":false},{"$f":"IF(Table1[[#This Row],[Defended?]],VLOOKUP(Table1[[#This Row],[Name]],$C$3:M34,5,FALSE)&\" - \"&INDEX($R$34:$R$36,VLOOKUP(Table1[[#This Row],[Name]],$C$3:M34,11,FALSE)),\"\")","v":""},{"$f":"IF($AO$1<20,Table1[[#This Row],[Highlight?]],IF($AO$1=20,Table1[[#This Row],[OR?]],Table1[[#This Row],[Defended?]]))","v":false},null,"Gold",1,"❶",null,null,null,null,null,null,null,null,null,null,null,null,null,null,null,null,null,null,"Gold",{"$f":"COUNTIFS(Table1[Country],selCountry,Table1[Medal],AM34)","v":0},{"$f":"IF(AN34>0,AN34&\" gold \",\"\")","v":""},{"$f":"IF(AO34<>\"\",1,0)","v":0},null,1,{"$f":"IFERROR(INDEX($AO$34:$AO$36,MATCH(AR34,$AP$34:$AP$36,0)),\"\")","v":""},{"$f":"IFERROR(TRIM(CHOOSE(AR33,AS34&\" medal\",AS34&\" and \"&AS35&\" medals\",AS34&\", \"&AS35&\" and \"&AS36&\" medals\")),\"\")","v":""}]
[33,"SILVER","Ralph Metcalfe","USA",10.4,7.4,1936,"Berlin",{"$f":"G35&\".M\"&COUNTIFS($G$3:G35,G35)","v":"1936.M2"},{"$f":"MROUND(Table1[[#This Row],[Dist. Behind Usain Bolt]]*10,2)","v":74},{"$f":"Table1[[#This Row],[Country]]=selCountry","v":false},{"$f":"MIN($E$3:E34)>E35","v":false},{"$f":"VLOOKUP(Table1[[#This Row],[Medal]],$R$34:$S$36,2,FALSE)","v":2},{"$f":"COUNTIFS($C$3:C35,C35,$M$3:M35,\">=\"&M35)>1","v":true},{"$f":"IF(Table1[[#This Row],[Defended?]],VLOOKUP(Table1[[#This Row],[Name]],$C$3:M35,5,FALSE)&\" - \"&INDEX($R$34:$R$36,VLOOKUP(Table1[[#This Row],[Name]],$C$3:M35,11,FALSE)),\"\")","v":"1932 - Silver"},{"$f":"IF($AO$1<20,Table1[[#This Row],[Highlight?]],IF($AO$1=20,Table1[[#This Row],[OR?]],Table1[[#This Row],[Defended?]]))","v":false},null,"Silver",2,"❷",null,null,null,null,null,null,null,null,null,null,null,null,null,null,null,null,null,null,"Silver",{"$f":"COUNTIFS(Table1[Country],selCountry,Table1[Medal],AM35)","v":0},{"$f":"IF(AN35>0,AN35&\" silver \",\"\")","v":""},{"$f":"IF(AO35<>\"\",AP34+1,AP34)","v":0},null,2,{"$f":"IFERROR(INDEX($AO$34:$AO$36,MATCH(AR35,$AP$34:$AP$36,0)),\"\")","v":""}]
[34,"BRONZE","Martinus Osendarp","HOL",10.5,8.3000000000000007,1936,"Berlin",{"$f":"G36&\".M\"&COUNTIFS($G$3:G36,G36)","v":"1936.M3"},{"$f":"MROUND(Table1[[#This Row],[Dist. Behind Usain Bolt]]*10,2)","v":84},{"$f":"Table1[[#This Row],[Country]]=selCountry","v":false},{"$f":"MIN($E$3:E35)>E36","v":false},{"$f":"VLOOKUP(Table1[[#This Row],[Medal]],$R$34:$S$36,2,FALSE)","v":3},{"$f":"COUNTIFS($C$3:C36,C36,$M$3:M36,\">=\"&M36)>1","v":false},{"$f":"IF(Table1[[#This Row],[Defended?]],VLOOKUP(Table1[[#This Row],[Name]],$C$3:M36,5,FALSE)&\" - \"&INDEX($R$34:$R$36,VLOOKUP(Table1[[#This Row],[Name]],$C$3:M36,11,FALSE)),\"\")","v":""},{"$f":"IF($AO$1<20,Table1[[#This Row],[Highlight?]],IF($AO$1=20,Table1[[#This Row],[OR?]],Table1[[#This Row],[Defended?]]))","v":false},null,"Bronze",3,"❸",null,null,null,null,null,null,null,null,null,null,null,null,null,null,null,null,null,null,"Bronze",{"$f":"COUNTIFS(Table1[Country],selCountry,Table1[Medal],AM36)","v":0},{"$f":"IF(AN36>0,AN36&\" bronze \",\"\")","v":""},{"$f":"IF(AO36<>\"\",AP35+1,AP35)","v":0},null,3,""]
[35,"GOLD","Harrison Dillard","USA",10.3,6.5,1948,"London",{"$f":"G37&\".M\"&COUNTIFS($G$3:G37,G37)","v":"1948.M1"},{"$f":"MROUND(Table1[[#This Row],[Dist. Behind Usain Bolt]]*10,2)","v":66},{"$f":"Table1[[#This Row],[Country]]=selCountry","v":false},{"$f":"MIN($E$3:E36)>E37","v":false},{"$f":"VLOOKUP(Table1[[#This Row],[Medal]],$R$34:$S$36,2,FALSE)","v":1},{"$f":"COUNTIFS($C$3:C37,C37,$M$3:M37,\">=\"&M37)>1","v":false},{"$f":"IF(Table1[[#This Row],[Defended?]],VLOOKUP(Table1[[#This Row],[Name]],$C$3:M37,5,FALSE)&\" - \"&INDEX($R$34:$R$36,VLOOKUP(Table1[[#This Row],[Name]],$C$3:M37,11,FALSE)),\"\")","v":""},{"$f":"IF($AO$1<20,Table1[[#This Row],[Highlight?]],IF($AO$1=20,Table1[[#This Row],[OR?]],Table1[[#This Row],[Defended?]]))","v":false},null,null,null,null,null,null,null,null,null,null,null,null,null,null,null,null,null,null,null,null,null,null,null,null,{"$f":"selCountry&\" won \"&AT34","v":"Country code won "}]
[36,"SILVER","Barney Ewell","USA",10.4,7.4,1948,"London",{"$f":"G38&\".M\"&COUNTIFS($G$3:G38,G38)","v":"1948.M2"},{"$f":"MROUND(Table1[[#This Row],[Dist. Behind Usain Bolt]]*10,2)","v":74},{"$f":"Table1[[#This Row],[Country]]=selCountry","v":false},{"$f":"MIN($E$3:E37)>E38","v":false},{"$f":"VLOOKUP(Table1[[#This Row],[Medal]],$R$34:$S$36,2,FALSE)","v":2},{"$f":"COUNTIFS($C$3:C38,C38,$M$3:M38,\">=\"&M38)>1","v":false},{"$f":"IF(Table1[[#This Row],[Defended?]],VLOOKUP(Table1[[#This Row],[Name]],$C$3:M38,5,FALSE)&\" - \"&INDEX($R$34:$R$36,VLOOKUP(Table1[[#This Row],[Name]],$C$3:M38,11,FALSE)),\"\")","v":""},{"$f":"IF($AO$1<20,Table1[[#This Row],[Highlight?]],IF($AO$1=20,Table1[[#This Row],[OR?]],Table1[[#This Row],[Defended?]]))","v":false},null,null,null,null,null,null,null,null,null,null,null,null,null,null,null,null,null,null,null,null,null,null,"New Olympic Records",{"$f":"COUNTIF(Table1[OR?],TRUE)","v":11},{"$f":"\"New Olympic records were established \"&AN38&\" times.\"&CHAR(10)&\"Recently in year 2012 by Usain Bolt at 9.63 seconds.\"","v":"New Olympic records were established 11 times.\nRecently in year 2012 by Usain Bolt at 9.63 seconds."}]
[37,"BRONZE","Lloyd LaBeach","PAN",10.4,7.4,1948,"London",{"$f":"G39&\".M\"&COUNTIFS($G$3:G39,G39)","v":"1948.M3"},{"$f":"MROUND(Table1[[#This Row],[Dist. Behind Usain Bolt]]*10,2)","v":74},{"$f":"Table1[[#This Row],[Country]]=selCountry","v":false},{"$f":"MIN($E$3:E38)>E39","v":false},{"$f":"VLOOKUP(Table1[[#This Row],[Medal]],$R$34:$S$36,2,FALSE)","v":3},{"$f":"COUNTIFS($C$3:C39,C39,$M$3:M39,\">=\"&M39)>1","v":false},{"$f":"IF(Table1[[#This Row],[Defended?]],VLOOKUP(Table1[[#This Row],[Name]],$C$3:M39,5,FALSE)&\" - \"&INDEX($R$34:$R$36,VLOOKUP(Table1[[#This Row],[Name]],$C$3:M39,11,FALSE)),\"\")","v":""},{"$f":"IF($AO$1<20,Table1[[#This Row],[Highlight?]],IF($AO$1=20,Table1[[#This Row],[OR?]],Table1[[#This Row],[Defended?]]))","v":false},null,null,null,null,null,null,null,null,null,null,null,null,null,null,null,null,null,null,null,null,null,null,"Medal Defenders",{"$f":"COUNTIF(Table1[Defended?],TRUE)","v":7},{"$f":"AN39&\" times, Olympic sprinters have defended their medals.\"&CHAR(10)&\"Recently in year 2012 by Usain Bolt (Gold Medal).\"","v":"7 times, Olympic sprinters have defended their medals.\nRecently in year 2012 by Usain Bolt (Gold Medal)."}]
[38,"GOLD","Lindy Remigino","USA",10.79,10.8,1952,"Helsinki",{"$f":"G40&\".M\"&COUNTIFS($G$3:G40,G40)","v":"1952.M1"},{"$f":"MROUND(Table1[[#This Row],[Dist. Behind Usain Bolt]]*10,2)","v":108},{"$f":"Table1[[#This Row],[Country]]=selCountry","v":false},{"$f":"MIN($E$3:E39)>E40","v":false},{"$f":"VLOOKUP(Table1[[#This Row],[Medal]],$R$34:$S$36,2,FALSE)","v":1},{"$f":"COUNTIFS($C$3:C40,C40,$M$3:M40,\">=\"&M40)>1","v":false},{"$f":"IF(Table1[[#This Row],[Defended?]],VLOOKUP(Table1[[#This Row],[Name]],$C$3:M40,5,FALSE)&\" - \"&INDEX($R$34:$R$36,VLOOKUP(Table1[[#This Row],[Name]],$C$3:M40,11,FALSE)),\"\")","v":""},{"$f":"IF($AO$1<20,Table1[[#This Row],[Highlight?]],IF($AO$1=20,Table1[[#This Row],[OR?]],Table1[[#This Row],[Defended?]]))","v":false}]
[39,"SILVER","Herbert McKenley","JAM",10.8,10.8,1952,"Helsinki",{"$f":"G41&\".M\"&COUNTIFS($G$3:G41,G41)","v":"1952.M2"},{"$f":"MROUND(Table1[[#This Row],[Dist. Behind Usain Bolt]]*10,2)","v":108},{"$f":"Table1[[#This Row],[Country]]=selCountry","v":false},{"$f":"MIN($E$3:E40)>E41","v":false},{"$f":"VLOOKUP(Table1[[#This Row],[Medal]],$R$34:$S$36,2,FALSE)","v":2},{"$f":"COUNTIFS($C$3:C41,C41,$M$3:M41,\">=\"&M41)>1","v":false},{"$f":"IF(Table1[[#This Row],[Defended?]],VLOOKUP(Table1[[#This Row],[Name]],$C$3:M41,5,FALSE)&\" - \"&INDEX($R$34:$R$36,VLOOKUP(Table1[[#This Row],[Name]],$C$3:M41,11,FALSE)),\"\")","v":""},{"$f":"IF($AO$1<20,Table1[[#This Row],[Highlight?]],IF($AO$1=20,Table1[[#This Row],[OR?]],Table1[[#This Row],[Defended?]]))","v":false},null,null,null,null,null,null,null,null,null,null,null,null,null,null,null,null,null,null,null,null,null,null,"Final Text",null,{"$f":"IF(AO1=1,\"\",IF(AO1<20,AO37,IF(AO1=20,AO38,AO39)))","v":""}]
[40,"BRONZE","McDonald Bailey","GBR",10.83,11.1,1952,"Helsinki",{"$f":"G42&\".M\"&COUNTIFS($G$3:G42,G42)","v":"1952.M3"},{"$f":"MROUND(Table1[[#This Row],[Dist. Behind Usain Bolt]]*10,2)","v":112},{"$f":"Table1[[#This Row],[Country]]=selCountry","v":false},{"$f":"MIN($E$3:E41)>E42","v":false},{"$f":"VLOOKUP(Table1[[#This Row],[Medal]],$R$34:$S$36,2,FALSE)","v":3},{"$f":"COUNTIFS($C$3:C42,C42,$M$3:M42,\">=\"&M42)>1","v":false},{"$f":"IF(Table1[[#This Row],[Defended?]],VLOOKUP(Table1[[#This Row],[Name]],$C$3:M42,5,FALSE)&\" - \"&INDEX($R$34:$R$36,VLOOKUP(Table1[[#This Row],[Name]],$C$3:M42,11,FALSE)),\"\")","v":""},{"$f":"IF($AO$1<20,Table1[[#This Row],[Highlight?]],IF($AO$1=20,Table1[[#This Row],[OR?]],Table1[[#This Row],[Defended?]]))","v":false}]
[41,"GOLD","Bobby Morrow","USA",10.62,9.3000000000000007,1956,"Melbourne",{"$f":"G43&\".M\"&COUNTIFS($G$3:G43,G43)","v":"1956.M1"},{"$f":"MROUND(Table1[[#This Row],[Dist. Behind Usain Bolt]]*10,2)","v":94},{"$f":"Table1[[#This Row],[Country]]=selCountry","v":false},{"$f":"MIN($E$3:E42)>E43","v":false},{"$f":"VLOOKUP(Table1[[#This Row],[Medal]],$R$34:$S$36,2,FALSE)","v":1},{"$f":"COUNTIFS($C$3:C43,C43,$M$3:M43,\">=\"&M43)>1","v":false},{"$f":"IF(Table1[[#This Row],[Defended?]],VLOOKUP(Table1[[#This Row],[Name]],$C$3:M43,5,FALSE)&\" - \"&INDEX($R$34:$R$36,VLOOKUP(Table1[[#This Row],[Name]],$C$3:M43,11,FALSE)),\"\")","v":""},{"$f":"IF($AO$1<20,Table1[[#This Row],[Highlight?]],IF($AO$1=20,Table1[[#This Row],[OR?]],Table1[[#This Row],[Defended?]]))","v":false}]
[42,"SILVER","Thane Baker","USA",10.77,10.6,1956,"Melbourne",{"$f":"G44&\".M\"&COUNTIFS($G$3:G44,G44)","v":"1956.M2"},{"$f":"MROUND(Table1[[#This Row],[Dist. Behind Usain Bolt]]*10,2)","v":106},{"$f":"Table1[[#This Row],[Country]]=selCountry","v":false},{"$f":"MIN($E$3:E43)>E44","v":false},{"$f":"VLOOKUP(Table1[[#This Row],[Medal]],$R$34:$S$36,2,FALSE)","v":2},{"$f":"COUNTIFS($C$3:C44,C44,$M$3:M44,\">=\"&M44)>1","v":false},{"$f":"IF(Table1[[#This Row],[Defended?]],VLOOKUP(Table1[[#This Row],[Name]],$C$3:M44,5,FALSE)&\" - \"&INDEX($R$34:$R$36,VLOOKUP(Table1[[#This Row],[Name]],$C$3:M44,11,FALSE)),\"\")","v":""},{"$f":"IF($AO$1<20,Table1[[#This Row],[Highlight?]],IF($AO$1=20,Table1[[#This Row],[OR?]],Table1[[#This Row],[Defended?]]))","v":false}]
[43,"BRONZE","Hector Hogan","AUS",10.77,10.6,1956,"Melbourne",{"$f":"G45&\".M\"&COUNTIFS($G$3:G45,G45)","v":"1956.M3"},{"$f":"MROUND(Table1[[#This Row],[Dist. Behind Usain Bolt]]*10,2)","v":106},{"$f":"Table1[[#This Row],[Country]]=selCountry","v":false},{"$f":"MIN($E$3:E44)>E45","v":false},{"$f":"VLOOKUP(Table1[[#This Row],[Medal]],$R$34:$S$36,2,FALSE)","v":3},{"$f":"COUNTIFS($C$3:C45,C45,$M$3:M45,\">=\"&M45)>1","v":false},{"$f":"IF(Table1[[#This Row],[Defended?]],VLOOKUP(Table1[[#This Row],[Name]],$C$3:M45,5,FALSE)&\" - \"&INDEX($R$34:$R$36,VLOOKUP(Table1[[#This Row],[Name]],$C$3:M45,11,FALSE)),\"\")","v":""},{"$f":"IF($AO$1<20,Table1[[#This Row],[Highlight?]],IF($AO$1=20,Table1[[#This Row],[OR?]],Table1[[#This Row],[Defended?]]))","v":false}]
[44,"GOLD","Armin Hary","GER",10.32,6.7,1960,"Rome",{"$f":"G46&\".M\"&COUNTIFS($G$3:G46,G46)","v":"1960.M1"},{"$f":"MROUND(Table1[[#This Row],[Dist. Behind Usain Bolt]]*10,2)","v":68},{"$f":"Table1[[#This Row],[Country]]=selCountry","v":false},{"$f":"MIN($E$3:E45)>E46","v":false},{"$f":"VLOOKUP(Table1[[#This Row],[Medal]],$R$34:$S$36,2,FALSE)","v":1},{"$f":"COUNTIFS($C$3:C46,C46,$M$3:M46,\">=\"&M46)>1","v":false},{"$f":"IF(Table1[[#This Row],[Defended?]],VLOOKUP(Table1[[#This Row],[Name]],$C$3:M46,5,FALSE)&\" - \"&INDEX($R$34:$R$36,VLOOKUP(Table1[[#This Row],[Name]],$C$3:M46,11,FALSE)),\"\")","v":""},{"$f":"IF($AO$1<20,Table1[[#This Row],[Highlight?]],IF($AO$1=20,Table1[[#This Row],[OR?]],Table1[[#This Row],[Defended?]]))","v":false}]
[45,"SILVER","David Sime","USA",10.35,7,1960,"Rome",{"$f":"G47&\".M\"&COUNTIFS($G$3:G47,G47)","v":"1960.M2"},{"$f":"MROUND(Table1[[#This Row],[Dist. Behind Usain Bolt]]*10,2)","v":70},{"$f":"Table1[[#This Row],[Country]]=selCountry","v":false},{"$f":"MIN($E$3:E46)>E47","v":false},{"$f":"VLOOKUP(Table1[[#This Row],[Medal]],$R$34:$S$36,2,FALSE)","v":2},{"$f":"COUNTIFS($C$3:C47,C47,$M$3:M47,\">=\"&M47)>1","v":false},{"$f":"IF(Table1[[#This Row],[Defended?]],VLOOKUP(Table1[[#This Row],[Name]],$C$3:M47,5,FALSE)&\" - \"&INDEX($R$34:$R$36,VLOOKUP(Table1[[#This Row],[Name]],$C$3:M47,11,FALSE)),\"\")","v":""},{"$f":"IF($AO$1<20,Table1[[#This Row],[Highlight?]],IF($AO$1=20,Table1[[#This Row],[OR?]],Table1[[#This Row],[Defended?]]))","v":false}]
[46,"BRONZE","Peter Radford","GBR",10.42,7.6,1960,"Rome",{"$f":"G48&\".M\"&COUNTIFS($G$3:G48,G48)","v":"1960.M3"},{"$f":"MROUND(Table1[[#This Row],[Dist. Behind Usain Bolt]]*10,2)","v":76},{"$f":"Table1[[#This Row],[Country]]=selCountry","v":false},{"$f":"MIN($E$3:E47)>E48","v":false},{"$f":"VLOOKUP(Table1[[#This Row],[Medal]],$R$34:$S$36,2,FALSE)","v":3},{"$f":"COUNTIFS($C$3:C48,C48,$M$3:M48,\">=\"&M48)>1","v":false},{"$f":"IF(Table1[[#This Row],[Defended?]],VLOOKUP(Table1[[#This Row],[Name]],$C$3:M48,5,FALSE)&\" - \"&INDEX($R$34:$R$36,VLOOKUP(Table1[[#This Row],[Name]],$C$3:M48,11,FALSE)),\"\")","v":""},{"$f":"IF($AO$1<20,Table1[[#This Row],[Highlight?]],IF($AO$1=20,Table1[[#This Row],[OR?]],Table1[[#This Row],[Defended?]]))","v":false}]
[47,"GOLD","Bob Hayes","USA",10.06,4.3,1964,"Tokyo",{"$f":"G49&\".M\"&COUNTIFS($G$3:G49,G49)","v":"1964.M1"},{"$f":"MROUND(Table1[[#This Row],[Dist. Behind Usain Bolt]]*10,2)","v":44},{"$f":"Table1[[#This Row],[Country]]=selCountry","v":false},{"$f":"MIN($E$3:E48)>E49","v":true},{"$f":"VLOOKUP(Table1[[#This Row],[Medal]],$R$34:$S$36,2,FALSE)","v":1},{"$f":"COUNTIFS($C$3:C49,C49,$M$3:M49,\">=\"&M49)>1","v":false},{"$f":"IF(Table1[[#This Row],[Defended?]],VLOOKUP(Table1[[#This Row],[Name]],$C$3:M49,5,FALSE)&\" - \"&INDEX($R$34:$R$36,VLOOKUP(Table1[[#This Row],[Name]],$C$3:M49,11,FALSE)),\"\")","v":""},{"$f":"IF($AO$1<20,Table1[[#This Row],[Highlight?]],IF($AO$1=20,Table1[[#This Row],[OR?]],Table1[[#This Row],[Defended?]]))","v":false}]
[48,"SILVER","Enrique Figuerola","CUB",10.25,6,1964,"Tokyo",{"$f":"G50&\".M\"&COUNTIFS($G$3:G50,G50)","v":"1964.M2"},{"$f":"MROUND(Table1[[#This Row],[Dist. Behind Usain Bolt]]*10,2)","v":60},{"$f":"Table1[[#This Row],[Country]]=selCountry","v":false},{"$f":"MIN($E$3:E49)>E50","v":false},{"$f":"VLOOKUP(Table1[[#This Row],[Medal]],$R$34:$S$36,2,FALSE)","v":2},{"$f":"COUNTIFS($C$3:C50,C50,$M$3:M50,\">=\"&M50)>1","v":false},{"$f":"IF(Table1[[#This Row],[Defended?]],VLOOKUP(Table1[[#This Row],[Name]],$C$3:M50,5,FALSE)&\" - \"&INDEX($R$34:$R$36,VLOOKUP(Table1[[#This Row],[Name]],$C$3:M50,11,FALSE)),\"\")","v":""},{"$f":"IF($AO$1<20,Table1[[#This Row],[Highlight?]],IF($AO$1=20,Table1[[#This Row],[OR?]],Table1[[#This Row],[Defended?]]))","v":false}]
[49,"BRONZE","Harry Jerome","CAN",10.27,6.2,1964,"Tokyo",{"$f":"G51&\".M\"&COUNTIFS($G$3:G51,G51)","v":"1964.M3"},{"$f":"MROUND(Table1[[#This Row],[Dist. Behind Usain Bolt]]*10,2)","v":62},{"$f":"Table1[[#This Row],[Country]]=selCountry","v":false},{"$f":"MIN($E$3:E50)>E51","v":false},{"$f":"VLOOKUP(Table1[[#This Row],[Medal]],$R$34:$S$36,2,FALSE)","v":3},{"$f":"COUNTIFS($C$3:C51,C51,$M$3:M51,\">=\"&M51)>1","v":false},{"$f":"IF(Table1[[#This Row],[Defended?]],VLOOKUP(Table1[[#This Row],[Name]],$C$3:M51,5,FALSE)&\" - \"&INDEX($R$34:$R$36,VLOOKUP(Table1[[#This Row],[Name]],$C$3:M51,11,FALSE)),\"\")","v":""},{"$f":"IF($AO$1<20,Table1[[#This Row],[Highlight?]],IF($AO$1=20,Table1[[#This Row],[OR?]],Table1[[#This Row],[Defended?]]))","v":false}]
[50,"GOLD","James Hines","USA",9.9499999999999993,3.2,1968,"Mexico City",{"$f":"G52&\".M\"&COUNTIFS($G$3:G52,G52)","v":"1968.M1"},{"$f":"MROUND(Table1[[#This Row],[Dist. Behind Usain Bolt]]*10,2)","v":32},{"$f":"Table1[[#This Row],[Country]]=selCountry","v":false},{"$f":"MIN($E$3:E51)>E52","v":true},{"$f":"VLOOKUP(Table1[[#This Row],[Medal]],$R$34:$S$36,2,FALSE)","v":1},{"$f":"COUNTIFS($C$3:C52,C52,$M$3:M52,\">=\"&M52)>1","v":false},{"$f":"IF(Table1[[#This Row],[Defended?]],VLOOKUP(Table1[[#This Row],[Name]],$C$3:M52,5,FALSE)&\" - \"&INDEX($R$34:$R$36,VLOOKUP(Table1[[#This Row],[Name]],$C$3:M52,11,FALSE)),\"\")","v":""},{"$f":"IF($AO$1<20,Table1[[#This Row],[Highlight?]],IF($AO$1=20,Table1[[#This Row],[OR?]],Table1[[#This Row],[Defended?]]))","v":false}]
[51,"SILVER","Lennox Miller","JAM",10.039999999999999,4.0999999999999996,1968,"Mexico City",{"$f":"G53&\".M\"&COUNTIFS($G$3:G53,G53)","v":"1968.M2"},{"$f":"MROUND(Table1[[#This Row],[Dist. Behind Usain Bolt]]*10,2)","v":42},{"$f":"Table1[[#This Row],[Country]]=selCountry","v":false},{"$f":"MIN($E$3:E52)>E53","v":false},{"$f":"VLOOKUP(Table1[[#This Row],[Medal]],$R$34:$S$36,2,FALSE)","v":2},{"$f":"COUNTIFS($C$3:C53,C53,$M$3:M53,\">=\"&M53)>1","v":false},{"$f":"IF(Table1[[#This Row],[Defended?]],VLOOKUP(Table1[[#This Row],[Name]],$C$3:M53,5,FALSE)&\" - \"&INDEX($R$34:$R$36,VLOOKUP(Table1[[#This Row],[Name]],$C$3:M53,11,FALSE)),\"\")","v":""},{"$f":"IF($AO$1<20,Table1[[#This Row],[Highlight?]],IF($AO$1=20,Table1[[#This Row],[OR?]],Table1[[#This Row],[Defended?]]))","v":false}]
[52,"BRONZE","Charlie Greene","USA",10.07,4.4000000000000004,1968,"Mexico City",{"$f":"G54&\".M\"&COUNTIFS($G$3:G54,G54)","v":"1968.M3"},{"$f":"MROUND(Table1[[#This Row],[Dist. Behind Usain Bolt]]*10,2)","v":44},{"$f":"Table1[[#This Row],[Country]]=selCountry","v":false},{"$f":"MIN($E$3:E53)>E54","v":false},{"$f":"VLOOKUP(Table1[[#This Row],[Medal]],$R$34:$S$36,2,FALSE)","v":3},{"$f":"COUNTIFS($C$3:C54,C54,$M$3:M54,\">=\"&M54)>1","v":false},{"$f":"IF(Table1[[#This Row],[Defended?]],VLOOKUP(Table1[[#This Row],[Name]],$C$3:M54,5,FALSE)&\" - \"&INDEX($R$34:$R$36,VLOOKUP(Table1[[#This Row],[Name]],$C$3:M54,11,FALSE)),\"\")","v":""},{"$f":"IF($AO$1<20,Table1[[#This Row],[Highlight?]],IF($AO$1=20,Table1[[#This Row],[OR?]],Table1[[#This Row],[Defended?]]))","v":false}]
[53,"GOLD","Valeriy Borzov","URS",10.14,5,1972,"Munich",{"$f":"G55&\".M\"&COUNTIFS($G$3:G55,G55)","v":"1972.M1"},{"$f":"MROUND(Table1[[#This Row],[Dist. Behind Usain Bolt]]*10,2)","v":50},{"$f":"Table1[[#This Row],[Country]]=selCountry","v":false},{"$f":"MIN($E$3:E54)>E55","v":false},{"$f":"VLOOKUP(Table1[[#This Row],[Medal]],$R$34:$S$36,2,FALSE)","v":1},{"$f":"COUNTIFS($C$3:C55,C55,$M$3:M55,\">=\"&M55)>1","v":false},{"$f":"IF(Table1[[#This Row],[Defended?]],VLOOKUP(Table1[[#This Row],[Name]],$C$3:M55,5,FALSE)&\" - \"&INDEX($R$34:$R$36,VLOOKUP(Table1[[#This Row],[Name]],$C$3:M55,11,FALSE)),\"\")","v":""},{"$f":"IF($AO$1<20,Table1[[#This Row],[Highlight?]],IF($AO$1=20,Table1[[#This Row],[OR?]],Table1[[#This Row],[Defended?]]))","v":false}]
[54,"SILVER","Robert Taylor","USA",10.24,6,1972,"Munich",{"$f":"G56&\".M\"&COUNTIFS($G$3:G56,G56)","v":"1972.M2"},{"$f":"MROUND(Table1[[#This Row],[Dist. Behind Usain Bolt]]*10,2)","v":60},{"$f":"Table1[[#This Row],[Country]]=selCountry","v":false},{"$f":"MIN($E$3:E55)>E56","v":false},{"$f":"VLOOKUP(Table1[[#This Row],[Medal]],$R$34:$S$36,2,FALSE)","v":2},{"$f":"COUNTIFS($C$3:C56,C56,$M$3:M56,\">=\"&M56)>1","v":false},{"$f":"IF(Table1[[#This Row],[Defended?]],VLOOKUP(Table1[[#This Row],[Name]],$C$3:M56,5,FALSE)&\" - \"&INDEX($R$34:$R$36,VLOOKUP(Table1[[#This Row],[Name]],$C$3:M56,11,FALSE)),\"\")","v":""},{"$f":"IF($AO$1<20,Table1[[#This Row],[Highlight?]],IF($AO$1=20,Table1[[#This Row],[OR?]],Table1[[#This Row],[Defended?]]))","v":false}]
[55,"BRONZE","Lennox Miller","JAM",10.33,6.8,1972,"Munich",{"$f":"G57&\".M\"&COUNTIFS($G$3:G57,G57)","v":"1972.M3"},{"$f":"MROUND(Table1[[#This Row],[Dist. Behind Usain Bolt]]*10,2)","v":68},{"$f":"Table1[[#This Row],[Country]]=selCountry","v":false},{"$f":"MIN($E$3:E56)>E57","v":false},{"$f":"VLOOKUP(Table1[[#This Row],[Medal]],$R$34:$S$36,2,FALSE)","v":3},{"$f":"COUNTIFS($C$3:C57,C57,$M$3:M57,\">=\"&M57)>1","v":false},{"$f":"IF(Table1[[#This Row],[Defended?]],VLOOKUP(Table1[[#This Row],[Name]],$C$3:M57,5,FALSE)&\" - \"&INDEX($R$34:$R$36,VLOOKUP(Table1[[#This Row],[Name]],$C$3:M57,11,FALSE)),\"\")","v":""},{"$f":"IF($AO$1<20,Table1[[#This Row],[Highlight?]],IF($AO$1=20,Table1[[#This Row],[OR?]],Table1[[#This Row],[Defended?]]))","v":false}]
[56,"GOLD","Hasely Crawford","TRI",10.06,4.3,1976,"Montreal",{"$f":"G58&\".M\"&COUNTIFS($G$3:G58,G58)","v":"1976.M1"},{"$f":"MROUND(Table1[[#This Row],[Dist. Behind Usain Bolt]]*10,2)","v":44},{"$f":"Table1[[#This Row],[Country]]=selCountry","v":false},{"$f":"MIN($E$3:E57)>E58","v":false},{"$f":"VLOOKUP(Table1[[#This Row],[Medal]],$R$34:$S$36,2,FALSE)","v":1},{"$f":"COUNTIFS($C$3:C58,C58,$M$3:M58,\">=\"&M58)>1","v":false},{"$f":"IF(Table1[[#This Row],[Defended?]],VLOOKUP(Table1[[#This Row],[Name]],$C$3:M58,5,FALSE)&\" - \"&INDEX($R$34:$R$36,VLOOKUP(Table1[[#This Row],[Name]],$C$3:M58,11,FALSE)),\"\")","v":""},{"$f":"IF($AO$1<20,Table1[[#This Row],[Highlight?]],IF($AO$1=20,Table1[[#This Row],[OR?]],Table1[[#This Row],[Defended?]]))","v":false}]
[57,"SILVER","Don Quarrie","JAM",10.08,4.5,1976,"Montreal",{"$f":"G59&\".M\"&COUNTIFS($G$3:G59,G59)","v":"1976.M2"},{"$f":"MROUND(Table1[[#This Row],[Dist. Behind Usain Bolt]]*10,2)","v":46},{"$f":"Table1[[#This Row],[Country]]=selCountry","v":false},{"$f":"MIN($E$3:E58)>E59","v":false},{"$f":"VLOOKUP(Table1[[#This Row],[Medal]],$R$34:$S$36,2,FALSE)","v":2},{"$f":"COUNTIFS($C$3:C59,C59,$M$3:M59,\">=\"&M59)>1","v":false},{"$f":"IF(Table1[[#This Row],[Defended?]],VLOOKUP(Table1[[#This Row],[Name]],$C$3:M59,5,FALSE)&\" - \"&INDEX($R$34:$R$36,VLOOKUP(Table1[[#This Row],[Name]],$C$3:M59,11,FALSE)),\"\")","v":""},{"$f":"IF($AO$1<20,Table1[[#This Row],[Highlight?]],IF($AO$1=20,Table1[[#This Row],[OR?]],Table1[[#This Row],[Defended?]]))","v":false}]
[58,"BRONZE","Valeriy Borzov","URS",10.14,5,1976,"Montreal",{"$f":"G60&\".M\"&COUNTIFS($G$3:G60,G60)","v":"1976.M3"},{"$f":"MROUND(Table1[[#This Row],[Dist. Behind Usain Bolt]]*10,2)","v":50},{"$f":"Table1[[#This Row],[Country]]=selCountry","v":false},{"$f":"MIN($E$3:E59)>E60","v":false},{"$f":"VLOOKUP(Table1[[#This Row],[Medal]],$R$34:$S$36,2,FALSE)","v":3},{"$f":"COUNTIFS($C$3:C60,C60,$M$3:M60,\">=\"&M60)>1","v":false},{"$f":"IF(Table1[[#This Row],[Defended?]],VLOOKUP(Table1[[#This Row],[Name]],$C$3:M60,5,FALSE)&\" - \"&INDEX($R$34:$R$36,VLOOKUP(Table1[[#This Row],[Name]],$C$3:M60,11,FALSE)),\"\")","v":""},{"$f":"IF($AO$1<20,Table1[[#This Row],[Highlight?]],IF($AO$1=20,Table1[[#This Row],[OR?]],Table1[[#This Row],[Defended?]]))","v":false}]
[59,"GOLD","Allan Wells","GBR",10.25,6,1980,"Moscow",{"$f":"G61&\".M\"&COUNTIFS($G$3:G61,G61)","v":"1980.M1"},{"$f":"MROUND(Table1[[#This Row],[Dist. Behind Usain Bolt]]*10,2)","v":60},{"$f":"Table1[[#This Row],[Country]]=selCountry","v":false},{"$f":"MIN($E$3:E60)>E61","v":false},{"$f":"VLOOKUP(Table1[[#This Row],[Medal]],$R$34:$S$36,2,FALSE)","v":1},{"$f":"COUNTIFS($C$3:C61,C61,$M$3:M61,\">=\"&M61)>1","v":false},{"$f":"IF(Table1[[#This Row],[Defended?]],VLOOKUP(Table1[[#This Row],[Name]],$C$3:M61,5,FALSE)&\" - \"&INDEX($R$34:$R$36,VLOOKUP(Table1[[#This Row],[Name]],$C$3:M61,11,FALSE)),\"\")","v":""},{"$f":"IF($AO$1<20,Table1[[#This Row],[Highlight?]],IF($AO$1=20,Table1[[#This Row],[OR?]],Table1[[#This Row],[Defended?]]))","v":false}]
[60,"SILVER","Silvio Tartabull","CUB",10.25,6,1980,"Moscow",{"$f":"G62&\".M\"&COUNTIFS($G$3:G62,G62)","v":"1980.M2"},{"$f":"MROUND(Table1[[#This Row],[Dist. Behind Usain Bolt]]*10,2)","v":60},{"$f":"Table1[[#This Row],[Country]]=selCountry","v":false},{"$f":"MIN($E$3:E61)>E62","v":false},{"$f":"VLOOKUP(Table1[[#This Row],[Medal]],$R$34:$S$36,2,FALSE)","v":2},{"$f":"COUNTIFS($C$3:C62,C62,$M$3:M62,\">=\"&M62)>1","v":false},{"$f":"IF(Table1[[#This Row],[Defended?]],VLOOKUP(Table1[[#This Row],[Name]],$C$3:M62,5,FALSE)&\" - \"&INDEX($R$34:$R$36,VLOOKUP(Table1[[#This Row],[Name]],$C$3:M62,11,FALSE)),\"\")","v":""},{"$f":"IF($AO$1<20,Table1[[#This Row],[Highlight?]],IF($AO$1=20,Table1[[#This Row],[OR?]],Table1[[#This Row],[Defended?]]))","v":false}]
[61,"BRONZE","Petur Petrov","BUL",10.39,7.3,1980,"Moscow",{"$f":"G63&\".M\"&COUNTIFS($G$3:G63,G63)","v":"1980.M3"},{"$f":"MROUND(Table1[[#This Row],[Dist. Behind Usain Bolt]]*10,2)","v":74},{"$f":"Table1[[#This Row],[Country]]=selCountry","v":false},{"$f":"MIN($E$3:E62)>E63","v":false},{"$f":"VLOOKUP(Table1[[#This Row],[Medal]],$R$34:$S$36,2,FALSE)","v":3},{"$f":"COUNTIFS($C$3:C63,C63,$M$3:M63,\">=\"&M63)>1","v":false},{"$f":"IF(Table1[[#This Row],[Defended?]],VLOOKUP(Table1[[#This Row],[Name]],$C$3:M63,5,FALSE)&\" - \"&INDEX($R$34:$R$36,VLOOKUP(Table1[[#This Row],[Name]],$C$3:M63,11,FALSE)),\"\")","v":""},{"$f":"IF($AO$1<20,Table1[[#This Row],[Highlight?]],IF($AO$1=20,Table1[[#This Row],[OR?]],Table1[[#This Row],[Defended?]]))","v":false}]
[62,"GOLD","Carl Lewis","USA",9.99,3.6,1984,"Los Angeles",{"$f":"G64&\".M\"&COUNTIFS($G$3:G64,G64)","v":"1984.M1"},{"$f":"MROUND(Table1[[#This Row],[Dist. Behind Usain Bolt]]*10,2)","v":36},{"$f":"Table1[[#This Row],[Country]]=selCountry","v":false},{"$f":"MIN($E$3:E63)>E64","v":false},{"$f":"VLOOKUP(Table1[[#This Row],[Medal]],$R$34:$S$36,2,FALSE)","v":1},{"$f":"COUNTIFS($C$3:C64,C64,$M$3:M64,\">=\"&M64)>1","v":false},{"$f":"IF(Table1[[#This Row],[Defended?]],VLOOKUP(Table1[[#This Row],[Name]],$C$3:M64,5,FALSE)&\" - \"&INDEX($R$34:$R$36,VLOOKUP(Table1[[#This Row],[Name]],$C$3:M64,11,FALSE)),\"\")","v":""},{"$f":"IF($AO$1<20,Table1[[#This Row],[Highlight?]],IF($AO$1=20,Table1[[#This Row],[OR?]],Table1[[#This Row],[Defended?]]))","v":false}]
[63,"SILVER","Sam Graddy","USA",10.19,5.5,1984,"Los Angeles",{"$f":"G65&\".M\"&COUNTIFS($G$3:G65,G65)","v":"1984.M2"},{"$f":"MROUND(Table1[[#This Row],[Dist. Behind Usain Bolt]]*10,2)","v":56},{"$f":"Table1[[#This Row],[Country]]=selCountry","v":false},{"$f":"MIN($E$3:E64)>E65","v":false},{"$f":"VLOOKUP(Table1[[#This Row],[Medal]],$R$34:$S$36,2,FALSE)","v":2},{"$f":"COUNTIFS($C$3:C65,C65,$M$3:M65,\">=\"&M65)>1","v":false},{"$f":"IF(Table1[[#This Row],[Defended?]],VLOOKUP(Table1[[#This Row],[Name]],$C$3:M65,5,FALSE)&\" - \"&INDEX($R$34:$R$36,VLOOKUP(Table1[[#This Row],[Name]],$C$3:M65,11,FALSE)),\"\")","v":""},{"$f":"IF($AO$1<20,Table1[[#This Row],[Highlight?]],IF($AO$1=20,Table1[[#This Row],[OR?]],Table1[[#This Row],[Defended?]]))","v":false}]
[64,"BRONZE","Ben Johnson","CAN",10.220000000000001,5.8,1984,"Los Angeles",{"$f":"G66&\".M\"&COUNTIFS($G$3:G66,G66)","v":"1984.M3"},{"$f":"MROUND(Table1[[#This Row],[Dist. Behind Usain Bolt]]*10,2)","v":58},{"$f":"Table1[[#This Row],[Country]]=selCountry","v":false},{"$f":"MIN($E$3:E65)>E66","v":false},{"$f":"VLOOKUP(Table1[[#This Row],[Medal]],$R$34:$S$36,2,FALSE)","v":3},{"$f":"COUNTIFS($C$3:C66,C66,$M$3:M66,\">=\"&M66)>1","v":false},{"$f":"IF(Table1[[#This Row],[Defended?]],VLOOKUP(Table1[[#This Row],[Name]],$C$3:M66,5,FALSE)&\" - \"&INDEX($R$34:$R$36,VLOOKUP(Table1[[#This Row],[Name]],$C$3:M66,11,FALSE)),\"\")","v":""},{"$f":"IF($AO$1<20,Table1[[#This Row],[Highlight?]],IF($AO$1=20,Table1[[#This Row],[OR?]],Table1[[#This Row],[Defended?]]))","v":false}]
[65,"GOLD","Carl Lewis","USA",9.92,2.9,1988,"Seoul",{"$f":"G67&\".M\"&COUNTIFS($G$3:G67,G67)","v":"1988.M1"},{"$f":"MROUND(Table1[[#This Row],[Dist. Behind Usain Bolt]]*10,2)","v":30},{"$f":"Table1[[#This Row],[Country]]=selCountry","v":false},{"$f":"MIN($E$3:E66)>E67","v":true},{"$f":"VLOOKUP(Table1[[#This Row],[Medal]],$R$34:$S$36,2,FALSE)","v":1},{"$f":"COUNTIFS($C$3:C67,C67,$M$3:M67,\">=\"&M67)>1","v":true},{"$f":"IF(Table1[[#This Row],[Defended?]],VLOOKUP(Table1[[#This Row],[Name]],$C$3:M67,5,FALSE)&\" - \"&INDEX($R$34:$R$36,VLOOKUP(Table1[[#This Row],[Name]],$C$3:M67,11,FALSE)),\"\")","v":"1984 - Gold"},{"$f":"IF($AO$1<20,Table1[[#This Row],[Highlight?]],IF($AO$1=20,Table1[[#This Row],[OR?]],Table1[[#This Row],[Defended?]]))","v":false}]
[66,"SILVER","Linford Christie","GBR",9.9700000000000006,3.4,1988,"Seoul",{"$f":"G68&\".M\"&COUNTIFS($G$3:G68,G68)","v":"1988.M2"},{"$f":"MROUND(Table1[[#This Row],[Dist. Behind Usain Bolt]]*10,2)","v":34},{"$f":"Table1[[#This Row],[Country]]=selCountry","v":false},{"$f":"MIN($E$3:E67)>E68","v":false},{"$f":"VLOOKUP(Table1[[#This Row],[Medal]],$R$34:$S$36,2,FALSE)","v":2},{"$f":"COUNTIFS($C$3:C68,C68,$M$3:M68,\">=\"&M68)>1","v":false},{"$f":"IF(Table1[[#This Row],[Defended?]],VLOOKUP(Table1[[#This Row],[Name]],$C$3:M68,5,FALSE)&\" - \"&INDEX($R$34:$R$36,VLOOKUP(Table1[[#This Row],[Name]],$C$3:M68,11,FALSE)),\"\")","v":""},{"$f":"IF($AO$1<20,Table1[[#This Row],[Highlight?]],IF($AO$1=20,Table1[[#This Row],[OR?]],Table1[[#This Row],[Defended?]]))","v":false}]
[{"$f":"A68+1","v":67},"BRONZE","Calvin Smith","USA",9.99,3.6,1988,"Seoul",{"$f":"G69&\".M\"&COUNTIFS($G$3:G69,G69)","v":"1988.M3"},{"$f":"MROUND(Table1[[#This Row],[Dist. Behind Usain Bolt]]*10,2)","v":36},{"$f":"Table1[[#This Row],[Country]]=selCountry","v":false},{"$f":"MIN($E$3:E68)>E69","v":false},{"$f":"VLOOKUP(Table1[[#This Row],[Medal]],$R$34:$S$36,2,FALSE)","v":3},{"$f":"COUNTIFS($C$3:C69,C69,$M$3:M69,\">=\"&M69)>1","v":false},{"$f":"IF(Table1[[#This Row],[Defended?]],VLOOKUP(Table1[[#This Row],[Name]],$C$3:M69,5,FALSE)&\" - \"&INDEX($R$34:$R$36,VLOOKUP(Table1[[#This Row],[Name]],$C$3:M69,11,FALSE)),\"\")","v":""},{"$f":"IF($AO$1<20,Table1[[#This Row],[Highlight?]],IF($AO$1=20,Table1[[#This Row],[OR?]],Table1[[#This Row],[Defended?]]))","v":false}]
[68,"GOLD","Linford Christie","GBR",9.9600000000000009,3.3,1992,"Barcelona",{"$f":"G70&\".M\"&COUNTIFS($G$3:G70,G70)","v":"1992.M1"},{"$f":"MROUND(Table1[[#This Row],[Dist. Behind Usain Bolt]]*10,2)","v":34},{"$f":"Table1[[#This Row],[Country]]=selCountry","v":false},{"$f":"MIN($E$3:E69)>E70","v":false},{"$f":"VLOOKUP(Table1[[#This Row],[Medal]],$R$34:$S$36,2,FALSE)","v":1},{"$f":"COUNTIFS($C$3:C70,C70,$M$3:M70,\">=\"&M70)>1","v":true},{"$f":"IF(Table1[[#This Row],[Defended?]],VLOOKUP(Table1[[#This Row],[Name]],$C$3:M70,5,FALSE)&\" - \"&INDEX($R$34:$R$36,VLOOKUP(Table1[[#This Row],[Name]],$C$3:M70,11,FALSE)),\"\")","v":"1988 - Silver"},{"$f":"IF($AO$1<20,Table1[[#This Row],[Highlight?]],IF($AO$1=20,Table1[[#This Row],[OR?]],Table1[[#This Row],[Defended?]]))","v":false}]
[69,"SILVER","Frank Fredericks","NAM",10.02,3.9,1992,"Barcelona",{"$f":"G71&\".M\"&COUNTIFS($G$3:G71,G71)","v":"1992.M2"},{"$f":"MROUND(Table1[[#This Row],[Dist. Behind Usain Bolt]]*10,2)","v":40},{"$f":"Table1[[#This Row],[Country]]=selCountry","v":false},{"$f":"MIN($E$3:E70)>E71","v":false},{"$f":"VLOOKUP(Table1[[#This Row],[Medal]],$R$34:$S$36,2,FALSE)","v":2},{"$f":"COUNTIFS($C$3:C71,C71,$M$3:M71,\">=\"&M71)>1","v":false},{"$f":"IF(Table1[[#This Row],[Defended?]],VLOOKUP(Table1[[#This Row],[Name]],$C$3:M71,5,FALSE)&\" - \"&INDEX($R$34:$R$36,VLOOKUP(Table1[[#This Row],[Name]],$C$3:M71,11,FALSE)),\"\")","v":""},{"$f":"IF($AO$1<20,Table1[[#This Row],[Highlight?]],IF($AO$1=20,Table1[[#This Row],[OR?]],Table1[[#This Row],[Defended?]]))","v":false}]
[70,"BRONZE","Dennis Mitchell","USA",10.039999999999999,4.0999999999999996,1992,"Barcelona",{"$f":"G72&\".M\"&COUNTIFS($G$3:G72,G72)","v":"1992.M3"},{"$f":"MROUND(Table1[[#This Row],[Dist. Behind Usain Bolt]]*10,2)","v":42},{"$f":"Table1[[#This Row],[Country]]=selCountry","v":false},{"$f":"MIN($E$3:E71)>E72","v":false},{"$f":"VLOOKUP(Table1[[#This Row],[Medal]],$R$34:$S$36,2,FALSE)","v":3},{"$f":"COUNTIFS($C$3:C72,C72,$M$3:M72,\">=\"&M72)>1","v":false},{"$f":"IF(Table1[[#This Row],[Defended?]],VLOOKUP(Table1[[#This Row],[Name]],$C$3:M72,5,FALSE)&\" - \"&INDEX($R$34:$R$36,VLOOKUP(Table1[[#This Row],[Name]],$C$3:M72,11,FALSE)),\"\")","v":""},{"$f":"IF($AO$1<20,Table1[[#This Row],[Highlight?]],IF($AO$1=20,Table1[[#This Row],[OR?]],Table1[[#This Row],[Defended?]]))","v":false}]
[71,"GOLD","Donovan Bailey","CAN",9.84,2.1,1996,"Atlanta",{"$f":"G73&\".M\"&COUNTIFS($G$3:G73,G73)","v":"1996.M1"},{"$f":"MROUND(Table1[[#This Row],[Dist. Behind Usain Bolt]]*10,2)","v":22},{"$f":"Table1[[#This Row],[Country]]=selCountry","v":false},{"$f":"MIN($E$3:E72)>E73","v":true},{"$f":"VLOOKUP(Table1[[#This Row],[Medal]],$R$34:$S$36,2,FALSE)","v":1},{"$f":"COUNTIFS($C$3:C73,C73,$M$3:M73,\">=\"&M73)>1","v":false},{"$f":"IF(Table1[[#This Row],[Defended?]],VLOOKUP(Table1[[#This Row],[Name]],$C$3:M73,5,FALSE)&\" - \"&INDEX($R$34:$R$36,VLOOKUP(Table1[[#This Row],[Name]],$C$3:M73,11,FALSE)),\"\")","v":""},{"$f":"IF($AO$1<20,Table1[[#This Row],[Highlight?]],IF($AO$1=20,Table1[[#This Row],[OR?]],Table1[[#This Row],[Defended?]]))","v":false}]
[72,"SILVER","Frank Fredericks","NAM",9.89,2.6,1996,"Atlanta",{"$f":"G74&\".M\"&COUNTIFS($G$3:G74,G74)","v":"1996.M2"},{"$f":"MROUND(Table1[[#This Row],[Dist. Behind Usain Bolt]]*10,2)","v":26},{"$f":"Table1[[#This Row],[Country]]=selCountry","v":false},{"$f":"MIN($E$3:E73)>E74","v":false},{"$f":"VLOOKUP(Table1[[#This Row],[Medal]],$R$34:$S$36,2,FALSE)","v":2},{"$f":"COUNTIFS($C$3:C74,C74,$M$3:M74,\">=\"&M74)>1","v":true},{"$f":"IF(Table1[[#This Row],[Defended?]],VLOOKUP(Table1[[#This Row],[Name]],$C$3:M74,5,FALSE)&\" - \"&INDEX($R$34:$R$36,VLOOKUP(Table1[[#This Row],[Name]],$C$3:M74,11,FALSE)),\"\")","v":"1992 - Silver"},{"$f":"IF($AO$1<20,Table1[[#This Row],[Highlight?]],IF($AO$1=20,Table1[[#This Row],[OR?]],Table1[[#This Row],[Defended?]]))","v":false}]
[73,"BRONZE","Ato Boldon","TRI",9.9,2.7,1996,"Atlanta",{"$f":"G75&\".M\"&COUNTIFS($G$3:G75,G75)","v":"1996.M3"},{"$f":"MROUND(Table1[[#This Row],[Dist. Behind Usain Bolt]]*10,2)","v":28},{"$f":"Table1[[#This Row],[Country]]=selCountry","v":false},{"$f":"MIN($E$3:E74)>E75","v":false},{"$f":"VLOOKUP(Table1[[#This Row],[Medal]],$R$34:$S$36,2,FALSE)","v":3},{"$f":"COUNTIFS($C$3:C75,C75,$M$3:M75,\">=\"&M75)>1","v":false},{"$f":"IF(Table1[[#This Row],[Defended?]],VLOOKUP(Table1[[#This Row],[Name]],$C$3:M75,5,FALSE)&\" - \"&INDEX($R$34:$R$36,VLOOKUP(Table1[[#This Row],[Name]],$C$3:M75,11,FALSE)),\"\")","v":""},{"$f":"IF($AO$1<20,Table1[[#This Row],[Highlight?]],IF($AO$1=20,Table1[[#This Row],[OR?]],Table1[[#This Row],[Defended?]]))","v":false}]
[74,"GOLD","Maurice Greene","USA",9.8699999999999992,2.4,2000,"Sydney",{"$f":"G76&\".M\"&COUNTIFS($G$3:G76,G76)","v":"2000.M1"},{"$f":"MROUND(Table1[[#This Row],[Dist. Behind Usain Bolt]]*10,2)","v":24},{"$f":"Table1[[#This Row],[Country]]=selCountry","v":false},{"$f":"MIN($E$3:E75)>E76","v":false},{"$f":"VLOOKUP(Table1[[#This Row],[Medal]],$R$34:$S$36,2,FALSE)","v":1},{"$f":"COUNTIFS($C$3:C76,C76,$M$3:M76,\">=\"&M76)>1","v":false},{"$f":"IF(Table1[[#This Row],[Defended?]],VLOOKUP(Table1[[#This Row],[Name]],$C$3:M76,5,FALSE)&\" - \"&INDEX($R$34:$R$36,VLOOKUP(Table1[[#This Row],[Name]],$C$3:M76,11,FALSE)),\"\")","v":""},{"$f":"IF($AO$1<20,Table1[[#This Row],[Highlight?]],IF($AO$1=20,Table1[[#This Row],[OR?]],Table1[[#This Row],[Defended?]]))","v":false}]
[75,"SILVER","Ato Boldon","TRI",9.99,3.6,2000,"Sydney",{"$f":"G77&\".M\"&COUNTIFS($G$3:G77,G77)","v":"2000.M2"},{"$f":"MROUND(Table1[[#This Row],[Dist. Behind Usain Bolt]]*10,2)","v":36},{"$f":"Table1[[#This Row],[Country]]=selCountry","v":false},{"$f":"MIN($E$3:E76)>E77","v":false},{"$f":"VLOOKUP(Table1[[#This Row],[Medal]],$R$34:$S$36,2,FALSE)","v":2},{"$f":"COUNTIFS($C$3:C77,C77,$M$3:M77,\">=\"&M77)>1","v":true},{"$f":"IF(Table1[[#This Row],[Defended?]],VLOOKUP(Table1[[#This Row],[Name]],$C$3:M77,5,FALSE)&\" - \"&INDEX($R$34:$R$36,VLOOKUP(Table1[[#This Row],[Name]],$C$3:M77,11,FALSE)),\"\")","v":"1996 - Bronze"},{"$f":"IF($AO$1<20,Table1[[#This Row],[Highlight?]],IF($AO$1=20,Table1[[#This Row],[OR?]],Table1[[#This Row],[Defended?]]))","v":false}]
[76,"BRONZE","Obadele Thompson","BAR",10.039999999999999,4.0999999999999996,2000,"Sydney",{"$f":"G78&\".M\"&COUNTIFS($G$3:G78,G78)","v":"2000.M3"},{"$f":"MROUND(Table1[[#This Row],[Dist. Behind Usain Bolt]]*10,2)","v":42},{"$f":"Table1[[#This Row],[Country]]=selCountry","v":false},{"$f":"MIN($E$3:E77)>E78","v":false},{"$f":"VLOOKUP(Table1[[#This Row],[Medal]],$R$34:$S$36,2,FALSE)","v":3},{"$f":"COUNTIFS($C$3:C78,C78,$M$3:M78,\">=\"&M78)>1","v":false},{"$f":"IF(Table1[[#This Row],[Defended?]],VLOOKUP(Table1[[#This Row],[Name]],$C$3:M78,5,FALSE)&\" - \"&INDEX($R$34:$R$36,VLOOKUP(Table1[[#This Row],[Name]],$C$3:M78,11,FALSE)),\"\")","v":""},{"$f":"IF($AO$1<20,Table1[[#This Row],[Highlight?]],IF($AO$1=20,Table1[[#This Row],[OR?]],Table1[[#This Row],[Defended?]]))","v":false}]
[77,"GOLD","Justin Gatlin","USA",9.85,2.2000000000000002,2004,"Athens",{"$f":"G79&\".M\"&COUNTIFS($G$3:G79,G79)","v":"2004.M1"},{"$f":"MROUND(Table1[[#This Row],[Dist. Behind Usain Bolt]]*10,2)","v":22},{"$f":"Table1[[#This Row],[Country]]=selCountry","v":false},{"$f":"MIN($E$3:E78)>E79","v":false},{"$f":"VLOOKUP(Table1[[#This Row],[Medal]],$R$34:$S$36,2,FALSE)","v":1},{"$f":"COUNTIFS($C$3:C79,C79,$M$3:M79,\">=\"&M79)>1","v":false},{"$f":"IF(Table1[[#This Row],[Defended?]],VLOOKUP(Table1[[#This Row],[Name]],$C$3:M79,5,FALSE)&\" - \"&INDEX($R$34:$R$36,VLOOKUP(Table1[[#This Row],[Name]],$C$3:M79,11,FALSE)),\"\")","v":""},{"$f":"IF($AO$1<20,Table1[[#This Row],[Highlight?]],IF($AO$1=20,Table1[[#This Row],[OR?]],Table1[[#This Row],[Defended?]]))","v":false}]
[78,"SILVER","Francis Obikwelu","POR",9.86,2.2999999999999998,2004,"Athens",{"$f":"G80&\".M\"&COUNTIFS($G$3:G80,G80)","v":"2004.M2"},{"$f":"MROUND(Table1[[#This Row],[Dist. Behind Usain Bolt]]*10,2)","v":24},{"$f":"Table1[[#This Row],[Country]]=selCountry","v":false},{"$f":"MIN($E$3:E79)>E80","v":false},{"$f":"VLOOKUP(Table1[[#This Row],[Medal]],$R$34:$S$36,2,FALSE)","v":2},{"$f":"COUNTIFS($C$3:C80,C80,$M$3:M80,\">=\"&M80)>1","v":false},{"$f":"IF(Table1[[#This Row],[Defended?]],VLOOKUP(Table1[[#This Row],[Name]],$C$3:M80,5,FALSE)&\" - \"&INDEX($R$34:$R$36,VLOOKUP(Table1[[#This Row],[Name]],$C$3:M80,11,FALSE)),\"\")","v":""},{"$f":"IF($AO$1<20,Table1[[#This Row],[Highlight?]],IF($AO$1=20,Table1[[#This Row],[OR?]],Table1[[#This Row],[Defended?]]))","v":false}]
[79,"BRONZE","Maurice Greene","USA",9.8699999999999992,2.4,2004,"Athens",{"$f":"G81&\".M\"&COUNTIFS($G$3:G81,G81)","v":"2004.M3"},{"$f":"MROUND(Table1[[#This Row],[Dist. Behind Usain Bolt]]*10,2)","v":24},{"$f":"Table1[[#This Row],[Country]]=selCountry","v":false},{"$f":"MIN($E$3:E80)>E81","v":false},{"$f":"VLOOKUP(Table1[[#This Row],[Medal]],$R$34:$S$36,2,FALSE)","v":3},{"$f":"COUNTIFS($C$3:C81,C81,$M$3:M81,\">=\"&M81)>1","v":false},{"$f":"IF(Table1[[#This Row],[Defended?]],VLOOKUP(Table1[[#This Row],[Name]],$C$3:M81,5,FALSE)&\" - \"&INDEX($R$34:$R$36,VLOOKUP(Table1[[#This Row],[Name]],$C$3:M81,11,FALSE)),\"\")","v":""},{"$f":"IF($AO$1<20,Table1[[#This Row],[Highlight?]],IF($AO$1=20,Table1[[#This Row],[OR?]],Table1[[#This Row],[Defended?]]))","v":false}]
[80,"GOLD","Usain Bolt","JAM",9.69,0.6,2008,"Beijing",{"$f":"G82&\".M\"&COUNTIFS($G$3:G82,G82)","v":"2008.M1"},{"$f":"MROUND(Table1[[#This Row],[Dist. Behind Usain Bolt]]*10,2)","v":6},{"$f":"Table1[[#This Row],[Country]]=selCountry","v":false},{"$f":"MIN($E$3:E81)>E82","v":true},{"$f":"VLOOKUP(Table1[[#This Row],[Medal]],$R$34:$S$36,2,FALSE)","v":1},{"$f":"COUNTIFS($C$3:C82,C82,$M$3:M82,\">=\"&M82)>1","v":false},{"$f":"IF(Table1[[#This Row],[Defended?]],VLOOKUP(Table1[[#This Row],[Name]],$C$3:M82,5,FALSE)&\" - \"&INDEX($R$34:$R$36,VLOOKUP(Table1[[#This Row],[Name]],$C$3:M82,11,FALSE)),\"\")","v":""},{"$f":"IF($AO$1<20,Table1[[#This Row],[Highlight?]],IF($AO$1=20,Table1[[#This Row],[OR?]],Table1[[#This Row],[Defended?]]))","v":false}]
[81,"SILVER","Richard Thompson","TRI",9.89,2.6,2008,"Beijing",{"$f":"G83&\".M\"&COUNTIFS($G$3:G83,G83)","v":"2008.M2"},{"$f":"MROUND(Table1[[#This Row],[Dist. Behind Usain Bolt]]*10,2)","v":26},{"$f":"Table1[[#This Row],[Country]]=selCountry","v":false},{"$f":"MIN($E$3:E82)>E83","v":false},{"$f":"VLOOKUP(Table1[[#This Row],[Medal]],$R$34:$S$36,2,FALSE)","v":2},{"$f":"COUNTIFS($C$3:C83,C83,$M$3:M83,\">=\"&M83)>1","v":false},{"$f":"IF(Table1[[#This Row],[Defended?]],VLOOKUP(Table1[[#This Row],[Name]],$C$3:M83,5,FALSE)&\" - \"&INDEX($R$34:$R$36,VLOOKUP(Table1[[#This Row],[Name]],$C$3:M83,11,FALSE)),\"\")","v":""},{"$f":"IF($AO$1<20,Table1[[#This Row],[Highlight?]],IF($AO$1=20,Table1[[#This Row],[OR?]],Table1[[#This Row],[Defended?]]))","v":false}]
[82,"BRONZE","Walter Dix","USA",9.91,2.8,2008,"Beijing",{"$f":"G84&\".M\"&COUNTIFS($G$3:G84,G84)","v":"2008.M3"},{"$f":"MROUND(Table1[[#This Row],[Dist. Behind Usain Bolt]]*10,2)","v":28},{"$f":"Table1[[#This Row],[Country]]=selCountry","v":false},{"$f":"MIN($E$3:E83)>E84","v":false},{"$f":"VLOOKUP(Table1[[#This Row],[Medal]],$R$34:$S$36,2,FALSE)","v":3},{"$f":"COUNTIFS($C$3:C84,C84,$M$3:M84,\">=\"&M84)>1","v":false},{"$f":"IF(Table1[[#This Row],[Defended?]],VLOOKUP(Table1[[#This Row],[Name]],$C$3:M84,5,FALSE)&\" - \"&INDEX($R$34:$R$36,VLOOKUP(Table1[[#This Row],[Name]],$C$3:M84,11,FALSE)),\"\")","v":""},{"$f":"IF($AO$1<20,Table1[[#This Row],[Highlight?]],IF($AO$1=20,Table1[[#This Row],[OR?]],Table1[[#This Row],[Defended?]]))","v":false}]
[83,"GOLD","Usain Bolt","JAM",9.6300000000000008,0,2012,"London",{"$f":"G85&\".M\"&COUNTIFS($G$3:G85,G85)","v":"2012.M1"},{"$f":"MROUND(Table1[[#This Row],[Dist. Behind Usain Bolt]]*10,2)","v":0},{"$f":"Table1[[#This Row],[Country]]=selCountry","v":false},{"$f":"MIN($E$3:E84)>E85","v":true},{"$f":"VLOOKUP(Table1[[#This Row],[Medal]],$R$34:$S$36,2,FALSE)","v":1},{"$f":"COUNTIFS($C$3:C85,C85,$M$3:M85,\">=\"&M85)>1","v":true},{"$f":"IF(Table1[[#This Row],[Defended?]],VLOOKUP(Table1[[#This Row],[Name]],$C$3:M85,5,FALSE)&\" - \"&INDEX($R$34:$R$36,VLOOKUP(Table1[[#This Row],[Name]],$C$3:M85,11,FALSE)),\"\")","v":"2008 - Gold"},{"$f":"IF($AO$1<20,Table1[[#This Row],[Highlight?]],IF($AO$1=20,Table1[[#This Row],[OR?]],Table1[[#This Row],[Defended?]]))","v":false}]
[84,"SILVER","Yohan Blake","JAM",9.75,1.2,2012,"London",{"$f":"G86&\".M\"&COUNTIFS($G$3:G86,G86)","v":"2012.M2"},{"$f":"MROUND(Table1[[#This Row],[Dist. Behind Usain Bolt]]*10,2)","v":12},{"$f":"Table1[[#This Row],[Country]]=selCountry","v":false},{"$f":"MIN($E$3:E85)>E86","v":false},{"$f":"VLOOKUP(Table1[[#This Row],[Medal]],$R$34:$S$36,2,FALSE)","v":2},{"$f":"COUNTIFS($C$3:C86,C86,$M$3:M86,\">=\"&M86)>1","v":false},{"$f":"IF(Table1[[#This Row],[Defended?]],VLOOKUP(Table1[[#This Row],[Name]],$C$3:M86,5,FALSE)&\" - \"&INDEX($R$34:$R$36,VLOOKUP(Table1[[#This Row],[Name]],$C$3:M86,11,FALSE)),\"\")","v":""},{"$f":"IF($AO$1<20,Table1[[#This Row],[Highlight?]],IF($AO$1=20,Table1[[#This Row],[OR?]],Table1[[#This Row],[Defended?]]))","v":false}]
[85,"BRONZE","Justin Gatin","USA",9.7899999999999991,1.6,2012,"London",{"$f":"G87&\".M\"&COUNTIFS($G$3:G87,G87)","v":"2012.M3"},{"$f":"MROUND(Table1[[#This Row],[Dist. Behind Usain Bolt]]*10,2)","v":16},{"$f":"Table1[[#This Row],[Country]]=selCountry","v":false},{"$f":"MIN($E$3:E86)>E87","v":false},{"$f":"VLOOKUP(Table1[[#This Row],[Medal]],$R$34:$S$36,2,FALSE)","v":3},{"$f":"COUNTIFS($C$3:C87,C87,$M$3:M87,\">=\"&M87)>1","v":false},{"$f":"IF(Table1[[#This Row],[Defended?]],VLOOKUP(Table1[[#This Row],[Name]],$C$3:M87,5,FALSE)&\" - \"&INDEX($R$34:$R$36,VLOOKUP(Table1[[#This Row],[Name]],$C$3:M87,11,FALSE)),\"\")","v":""},{"$f":"IF($AO$1<20,Table1[[#This Row],[Highlight?]],IF($AO$1=20,Table1[[#This Row],[OR?]],Table1[[#This Row],[Defended?]]))","v":false}]

{"sheet":"view","index":1,"n_rows":44,"n_cols":124,"rows_kept":44,"cut":false,"hidden":false,"merged":[[32,121,32,122],[32,97,32,98],[32,71,32,73],[32,49,32,51],[32,21,32,23],[40,2,40,42],[41,2,41,42],[42,2,42,42],[43,2,43,42],[32,2,32,4]]}
[]
[]
[null,null,240,{"$f":"C3-2","v":238},{"$f":"D3-2","v":236},234,232,230,228,226,224,222,220,218,216,214,212,210,208,206,204,202,200,198,196,194,192,190,188,186,184,182,180,178,176,174,172,170,168,166,164,162,160,158,156,154,152,150,148,146,144,142,140,138,136,134,132,130,128,126,124,122,120,118,116,114,112,110,{"$f":"BP3-2","v":108},106,104,102,100,98,96,94,92,90,88,86,84,82,80,78,76,74,72,70,68,66,64,62,60,58,56,54,52,50,48,46,44,42,40,38,36,34,32,30,28,26,24,22,20,18,16,14,12,10,8,6,4,2,0]
["#",null,null,null,null,null,null,null,null,null,null,null,null,null,null,null,null,null,null,null,null,null,null,null,null,null,null,null,null,null,null,null,null,null,null,null,null,null,null,null,null,null,null,null,null,null,null,null,null,null,null,null,null,null,null,null,null,null,null,null,null,null,null,null,null,null,null,null,null,null,null,null,null,null,null,null,null,null,null,null,null,null,null,null,null,null,null,null,null,null,null,null,null,null,null,null,null,null,null,null,null,null,null,null,null,null,null,null,null,null,null,null,null,null,null,null,null,null,null,null,null,null,null,"Year"]
[1,null,{"$f":"IF(ISERROR(MATCH(view!C$3,data!$Y3:$AB3,0)),\"\",IFERROR(HYPERLINK(showDetails(INDEX(data!$S3:$V3,MATCH(view!C$3,data!$Y3:$AB3,0)),C5),\"●\"),\"●\"))","v":""},{"$f":"IF(ISERROR(MATCH(view!D$3,data!$Y3:$AB3,0)),\"\",IFERROR(HYPERLINK(showDetails(INDEX(data!$S3:$V3,MATCH(view!D$3,data!$Y3:$AB3,0)),D5),\"●\"),\"●\"))","v":""},{"$f":"IF(ISERROR(MATCH(view!E$3,data!$Y3:$AB3,0)),\"\",IFERROR(HYPERLINK(showDetails(INDEX(data!$S3:$V3,MATCH(view!E$3,data!$Y3:$AB3,0)),E5),\"●\"),\"●\"))","v":""},{"$f":"IF(ISERROR(MATCH(view!F$3,data!$Y3:$AB3,0)),\"\",IFERROR(HYPERLINK(showDetails(INDEX(data!$S3:$V3,MATCH(view!F$3,data!$Y3:$AB3,0)),F5),\"●\"),\"●\"))","v":""},{"$f":"IF(ISERROR(MATCH(view!G$3,data!$Y3:$AB3,0)),\"\",IFERROR(HYPERLINK(showDetails(INDEX(data!$S3:$V3,MATCH(view!G$3,data!$Y3:$AB3,0)),G5),\"●\"),\"●\"))","v":""},{"$f":"IF(ISERROR(MATCH(view!H$3,data!$Y3:$AB3,0)),\"\",IFERROR(HYPERLINK(showDetails(INDEX(data!$S3:$V3,MATCH(view!H$3,data!$Y3:$AB3,0)),H5),\"●\"),\"●\"))","v":""},{"$f":"IF(ISERROR(MATCH(view!I$3,data!$Y3:$AB3,0)),\"\",IFERROR(HYPERLINK(showDetails(INDEX(data!$S3:$V3,MATCH(view!I$3,data!$Y3:$AB3,0)),I5),\"●\"),\"●\"))","v":""},{"$f":"IF(ISERROR(MATCH(view!J$3,data!$Y3:$AB3,0)),\"\",IFERROR(HYPERLINK(showDetails(INDEX(data!$S3:$V3,MATCH(view!J$3,data!$Y3:$AB3,0)),J5),\"●\"),\"●\"))","v":""},{"$f":"IF(ISERROR(MATCH(view!K$3,data!$Y3:$AB3,0)),\"\",IFERROR(HYPERLINK(showDetails(INDEX(data!$S3:$V3,MATCH(view!K$3,data!$Y3:$AB3,0)),K5),\"●\"),\"●\"))","v":""},{"$f":"IF(ISERROR(MATCH(view!L$3,data!$Y3:$AB3,0)),\"\",IFERROR(HYPERLINK(showDetails(INDEX(data!$S3:$V3,MATCH(view!L$3,data!$Y3:$AB3,0)),L5),\"●\"),\"●\"))","v":""},{"$f":"IF(ISERROR(MATCH(view!M$3,data!$Y3:$AB3,0)),\"\",IFERROR(HYPERLINK(showDetails(INDEX(data!$S3:$V3,MATCH(view!M$3,data!$Y3:$AB3,0)),M5),\"●\"),\"●\"))","v":""},{"$f":"IF(ISERROR(MATCH(view!N$3,data!$Y3:$AB3,0)),\"\",IFERROR(HYPERLINK(showDetails(INDEX(data!$S3:$V3,MATCH(view!N$3,data!$Y3:$AB3,0)),N5),\"●\"),\"●\"))","v":""},{"$f":"IF(ISERROR(MATCH(view!O$3,data!$Y3:$AB3,0)),\"\",IFERROR(HYPERLINK(showDetails(INDEX(data!$S3:$V3,MATCH(view!O$3,data!$Y3:$AB3,0)),O5),\"●\"),\"●\"))","v":""},{"$f":"IF(ISERROR(MATCH(view!P$3,data!$Y3:$AB3,0)),\"\",IFERROR(HYPERLINK(showDetails(INDEX(data!$S3:$V3,MATCH(view!P$3,data!$Y3:$AB3,0)),P5),\"●\"),\"●\"))","v":""},{"$f":"IF(ISERROR(MATCH(view!Q$3,data!$Y3:$AB3,0)),\"\",IFERROR(HYPERLINK(showDetails(INDEX(data!$S3:$V3,MATCH(view!Q$3,data!$Y3:$AB3,0)),Q5),\"●\"),\"●\"))","v":""},{"$f":"IF(ISERROR(MATCH(view!R$3,data!$Y3:$AB3,0)),\"\",IFERROR(HYPERLINK(showDetails(INDEX(data!$S3:$V3,MATCH(view!R$3,data!$Y3:$AB3,0)),R5),\"●\"),\"●\"))","v":""},{"$f":"IF(ISERROR(MATCH(view!S$3,data!$Y3:$AB3,0)),\"\",IFERROR(HYPERLINK(showDetails(INDEX(data!$S3:$V3,MATCH(view!S$3,data!$Y3:$AB3,0)),S5),\"●\"),\"●\"))","v":""},{"$f":"IF(ISERROR(MATCH(view!T$3,data!$Y3:$AB3,0)),\"\",IFERROR(HYPERLINK(showDetails(INDEX(data!$S3:$V3,MATCH(view!T$3,data!$Y3:$AB3,0)),T5),\"●\"),\"●\"))","v":""},{"$f":"IF(ISERROR(MATCH(view!U$3,data!$Y3:$AB3,0)),\"\",IFERROR(HYPERLINK(showDetails(INDEX(data!$S3:$V3,MATCH(view!U$3,data!$Y3:$AB3,0)),U5),\"●\"),\"●\"))","v":""},{"$f":"IF(ISERROR(MATCH(view!V$3,data!$Y3:$AB3,0)),\"\",IFERROR(HYPERLINK(showDetails(INDEX(data!$S3:$V3,MATCH(view!V$3,data!$Y3:$AB3,0)),V5),\"●\"),\"●\"))","v":""},{"$f":"IF(ISERROR(MATCH(view!W$3,data!$Y3:$AB3,0)),\"\",IFERROR(HYPERLINK(showDetails(INDEX(data!$S3:$V3,MATCH(view!W$3,data!$Y3:$AB3,0)),W5),\"●\"),\"●\"))","v":""},{"$f":"IF(ISERROR(MATCH(view!X$3,data!$Y3:$AB3,0)),\"\",IFERROR(HYPERLINK(showDetails(INDEX(data!$S3:$V3,MATCH(view!X$3,data!$Y3:$AB3,0)),X5),\"●\"),\"●\"))","v":""},{"$f":"IF(ISERROR(MATCH(view!Y$3,data!$Y3:$AB3,0)),\"\",IFERROR(HYPERLINK(showDetails(INDEX(data!$S3:$V3,MATCH(view!Y$3,data!$Y3:$AB3,0)),Y5),\"●\"),\"●\"))","v":""},{"$f":"IF(ISERROR(MATCH(view!Z$3,data!$Y3:$AB3,0)),\"\",IFERROR(HYPERLINK(showDetails(INDEX(data!$S3:$V3,MATCH(view!Z$3,data!$Y3:$AB3,0)),Z5),\"●\"),\"●\"))","v":""},{"$f":"IF(ISERROR(MATCH(view!AA$3,data!$Y3:$AB3,0)),\"\",IFERROR(HYPERLINK(showDetails(INDEX(data!$S3:$V3,MATCH(view!AA$3,data!$Y3:$AB3,0)),AA5),\"●\"),\"●\"))","v":""},{"$f":"IF(ISERROR(MATCH(view!AB$3,data!$Y3:$AB3,0)),\"\",IFERROR(HYPERLINK(showDetails(INDEX(data!$S3:$V3,MATCH(view!AB$3,data!$Y3:$AB3,0)),AB5),\"●\"),\"●\"))","v":""},{"$f":"IF(ISERROR(MATCH(view!AC$3,data!$Y3:$AB3,0)),\"\",IFERROR(HYPERLINK(showDetails(INDEX(data!$S3:$V3,MATCH(view!AC$3,data!$Y3:$AB3,0)),AC5),\"●\"),\"●\"))","v":""},{"$f":"IF(ISERROR(MATCH(view!AD$3,data!$Y3:$AB3,0)),\"\",IFERROR(HYPERLINK(showDetails(INDEX(data!$S3:$V3,MATCH(view!AD$3,data!$Y3:$AB3,0)),AD5),\"●\"),\"●\"))","v":""},{"$f":"IF(ISERROR(MATCH(view!AE$3,data!$Y3:$AB3,0)),\"\",IFERROR(HYPERLINK(showDetails(INDEX(data!$S3:$V3,MATCH(view!AE$3,data!$Y3:$AB3,0)),AE5),\"●\"),\"●\"))","v":""},{"$f":"IF(ISERROR(MATCH(view!AF$3,data!$Y3:$AB3,0)),\"\",IFERROR(HYPERLINK(showDetails(INDEX(data!$S3:$V3,MATCH(view!AF$3,data!$Y3:$AB3,0)),AF5),\"●\"),\"●\"))","v":""},{"$f":"IF(ISERROR(MATCH(view!AG$3,data!$Y3:$AB3,0)),\"\",IFERROR(HYPERLINK(showDetails(INDEX(data!$S3:$V3,MATCH(view!AG$3,data!$Y3:$AB3,0)),AG5),\"●\"),\"●\"))","v":""},{"$f":"IF(ISERROR(MATCH(view!AH$3,data!$Y3:$AB3,0)),\"\",IFERROR(HYPERLINK(showDetails(INDEX(data!$S3:$V3,MATCH(view!AH$3,data!$Y3:$AB3,0)),AH5),\"●\"),\"●\"))","v":""},{"$f":"IF(ISERROR(MATCH(view!AI$3,data!$Y3:$AB3,0)),\"\",IFERROR(HYPERLINK(showDetails(INDEX(data!$S3:$V3,MATCH(view!AI$3,data!$Y3:$AB3,0)),AI5),\"●\"),\"●\"))","v":""},{"$f":"IF(ISERROR(MATCH(view!AJ$3,data!$Y3:$AB3,0)),\"\",IFERROR(HYPERLINK(showDetails(INDEX(data!$S3:$V3,MATCH(view!AJ$3,data!$Y3:$AB3,0)),AJ5),\"●\"),\"●\"))","v":""},{"$f":"IF(ISERROR(MATCH(view!AK$3,data!$Y3:$AB3,0)),\"\",IFERROR(HYPERLINK(showDetails(INDEX(data!$S3:$V3,MATCH(view!AK$3,data!$Y3:$AB3,0)),AK5),\"●\"),\"●\"))","v":""},{"$f":"IF(ISERROR(MATCH(view!AL$3,data!$Y3:$AB3,0)),\"\",IFERROR(HYPERLINK(showDetails(INDEX(data!$S3:$V3,MATCH(view!AL$3,data!$Y3:$AB3,0)),AL5),\"●\"),\"●\"))","v":""},{"$f":"IF(ISERROR(MATCH(view!AM$3,data!$Y3:$AB3,0)),\"\",IFERROR(HYPERLINK(showDetails(INDEX(data!$S3:$V3,MATCH(view!AM$3,data!$Y3:$AB3,0)),AM5),\"●\"),\"●\"))","v":""},{"$f":"IF(ISERROR(MATCH(view!AN$3,data!$Y3:$AB3,0)),\"\",IFERROR(HYPERLINK(showDetails(INDEX(data!$S3:$V3,MATCH(view!AN$3,data!$Y3:$AB3,0)),AN5),\"●\"),\"●\"))","v":""},{"$f":"IF(ISERROR(MATCH(view!AO$3,data!$Y3:$AB3,0)),\"\",IFERROR(HYPERLINK(showDetails(INDEX(data!$S3:$V3,MATCH(view!AO$3,data!$Y3:$AB3,0)),AO5),\"●\"),\"●\"))","v":""},{"$f":"IF(ISERROR(MATCH(view!AP$3,data!$Y3:$AB3,0)),\"\",IFERROR(HYPERLINK(showDetails(INDEX(data!$S3:$V3,MATCH(view!AP$3,data!$Y3:$AB3,0)),AP5),\"●\"),\"●\"))","v":""},{"$f":"IF(ISERROR(MATCH(view!AQ$3,data!$Y3:$AB3,0)),\"\",IFERROR(HYPERLINK(showDetails(INDEX(data!$S3:$V3,MATCH(view!AQ$3,data!$Y3:$AB3,0)),AQ5),\"●\"),\"●\"))","v":""},{"$f":"IF(ISERROR(MATCH(view!AR$3,data!$Y3:$AB3,0)),\"\",IFERROR(HYPERLINK(showDetails(INDEX(data!$S3:$V3,MATCH(view!AR$3,data!$Y3:$AB3,0)),AR5),\"●\"),\"●\"))","v":""},{"$f":"IF(ISERROR(MATCH(view!AS$3,data!$Y3:$AB3,0)),\"\",IFERROR(HYPERLINK(showDetails(INDEX(data!$S3:$V3,MATCH(view!AS$3,data!$Y3:$AB3,0)),AS5),\"●\"),\"●\"))","v":""},{"$f":"IF(ISERROR(MATCH(view!AT$3,data!$Y3:$AB3,0)),\"\",IFERROR(HYPERLINK(showDetails(INDEX(data!$S3:$V3,MATCH(view!AT$3,data!$Y3:$AB3,0)),AT5),\"●\"),\"●\"))","v":""},{"$f":"IF(ISERROR(MATCH(view!AU$3,data!$Y3:$AB3,0)),\"\",IFERROR(HYPERLINK(showDetails(INDEX(data!$S3:$V3,MATCH(view!AU$3,data!$Y3:$AB3,0)),AU5),\"●\"),\"●\"))","v":""},{"$f":"IF(ISERROR(MATCH(view!AV$3,data!$Y3:$AB3,0)),\"\",IFERROR(HYPERLINK(showDetails(INDEX(data!$S3:$V3,MATCH(view!AV$3,data!$Y3:$AB3,0)),AV5),\"●\"),\"●\"))","v":""},{"$f":"IF(ISERROR(MATCH(view!AW$3,data!$Y3:$AB3,0)),\"\",IFERROR(HYPERLINK(showDetails(INDEX(data!$S3:$V3,MATCH(view!AW$3,data!$Y3:$AB3,0)),AW5),\"●\"),\"●\"))","v":""},{"$f":"IF(ISERROR(MATCH(view!AX$3,data!$Y3:$AB3,0)),\"\",IFERROR(HYPERLINK(showDetails(INDEX(data!$S3:$V3,MATCH(view!AX$3,data!$Y3:$AB3,0)),AX5),\"●\"),\"●\"))","v":""},{"$f":"IF(ISERROR(MATCH(view!AY$3,data!$Y3:$AB3,0)),\"\",IFERROR(HYPERLINK(showDetails(INDEX(data!$S3:$V3,MATCH(view!AY$3,data!$Y3:$AB3,0)),AY5),\"●\"),\"●\"))","v":""},{"$f":"IF(ISERROR(MATCH(view!AZ$3,data!$Y3:$AB3,0)),\"\",IFERROR(HYPERLINK(showDetails(INDEX(data!$S3:$V3,MATCH(view!AZ$3,data!$Y3:$AB3,0)),AZ5),\"●\"),\"●\"))","v":""},{"$f":"IF(ISERROR(MATCH(view!BA$3,data!$Y3:$AB3,0)),\"\",IFERROR(HYPERLINK(showDetails(INDEX(data!$S3:$V3,MATCH(view!BA$3,data!$Y3:$AB3,0)),BA5),\"●\"),\"●\"))","v":""},{"$f":"IF(ISERROR(MATCH(view!BB$3,data!$Y3:$AB3,0)),\"\",IFERROR(HYPERLINK(showDetails(INDEX(data!$S3:$V3,MATCH(view!BB$3,data!$Y3:$AB3,0)),BB5),\"●\"),\"●\"))","v":""},{"$f":"IF(ISERROR(MATCH(view!BC$3,data!$Y3:$AB3,0)),\"\",IFERROR(HYPERLINK(showDetails(INDEX(data!$S3:$V3,MATCH(view!BC$3,data!$Y3:$AB3,0)),BC5),\"●\"),\"●\"))","v":""},{"$f":"IF(ISERROR(MATCH(view!BD$3,data!$Y3:$AB3,0)),\"\",IFERROR(HYPERLINK(showDetails(INDEX(data!$S3:$V3,MATCH(view!BD$3,data!$Y3:$AB3,0)),BD5),\"●\"),\"●\"))","v":""},{"$f":"IF(ISERROR(MATCH(view!BE$3,data!$Y3:$AB3,0)),\"\",IFERROR(HYPERLINK(showDetails(INDEX(data!$S3:$V3,MATCH(view!BE$3,data!$Y3:$AB3,0)),BE5),\"●\"),\"●\"))","v":""},{"$f":"IF(ISERROR(MATCH(view!BF$3,data!$Y3:$AB3,0)),\"\",IFERROR(HYPERLINK(showDetails(INDEX(data!$S3:$V3,MATCH(view!BF$3,data!$Y3:$AB3,0)),BF5),\"●\"),\"●\"))","v":""},{"$f":"IF(ISERROR(MATCH(view!BG$3,data!$Y3:$AB3,0)),\"\",IFERROR(HYPERLINK(showDetails(INDEX(data!$S3:$V3,MATCH(view!BG$3,data!$Y3:$AB3,0)),BG5),\"●\"),\"●\"))","v":""},{"$f":"IF(ISERROR(MATCH(view!BH$3,data!$Y3:$AB3,0)),\"\",IFERROR(HYPERLINK(showDetails(INDEX(data!$S3:$V3,MATCH(view!BH$3,data!$Y3:$AB3,0)),BH5),\"●\"),\"●\"))","v":""},{"$f":"IF(ISERROR(MATCH(view!BI$3,data!$Y3:$AB3,0)),\"\",IFERROR(HYPERLINK(showDetails(INDEX(data!$S3:$V3,MATCH(view!BI$3,data!$Y3:$AB3,0)),BI5),\"●\"),\"●\"))","v":""},{"$f":"IF(ISERROR(MATCH(view!BJ$3,data!$Y3:$AB3,0)),\"\",IFERROR(HYPERLINK(showDetails(INDEX(data!$S3:$V3,MATCH(view!BJ$3,data!$Y3:$AB3,0)),BJ5),\"●\"),\"●\"))","v":""},{"$f":"IF(ISERROR(MATCH(view!BK$3,data!$Y3:$AB3,0)),\"\",IFERROR(HYPERLINK(showDetails(INDEX(data!$S3:$V3,MATCH(view!BK$3,data!$Y3:$AB3,0)),BK5),\"●\"),\"●\"))","v":""},{"$f":"IF(ISERROR(MATCH(view!BL$3,data!$Y3:$AB3,0)),\"\",IFERROR(HYPERLINK(showDetails(INDEX(data!$S3:$V3,MATCH(view!BL$3,data!$Y3:$AB3,0)),BL5),\"●\"),\"●\"))","v":""},{"$f":"IF(ISERROR(MATCH(view!BM$3,data!$Y3:$AB3,0)),\"\",IFERROR(HYPERLINK(showDetails(INDEX(data!$S3:$V3,MATCH(view!BM$3,data!$Y3:$AB3,0)),BM5),\"●\"),\"●\"))","v":""},{"$f":"IF(ISERROR(MATCH(view!BN$3,data!$Y3:$AB3,0)),\"\",IFERROR(HYPERLINK(showDetails(INDEX(data!$S3:$V3,MATCH(view!BN$3,data!$Y3:$AB3,0)),BN5),\"●\"),\"●\"))","v":""},{"$f":"IF(ISERROR(MATCH(view!BO$3,data!$Y3:$AB3,0)),\"\",IFERROR(HYPERLINK(showDetails(INDEX(data!$S3:$V3,MATCH(view!BO$3,data!$Y3:$AB3,0)),BO5),\"●\"),\"●\"))","v":""},{"$f":"IF(ISERROR(MATCH(view!BP$3,data!$Y3:$AB3,0)),\"\",IFERROR(HYPERLINK(showDetails(INDEX(data!$S3:$V3,MATCH(view!BP$3,data!$Y3:$AB3,0)),BP5),\"●\"),\"●\"))","v":""},{"$f":"IF(ISERROR(MATCH(view!BQ$3,data!$Y3:$AB3,0)),\"\",IFERROR(HYPERLINK(showDetails(INDEX(data!$S3:$V3,MATCH(view!BQ$3,data!$Y3:$AB3,0)),BQ5),\"●\"),\"●\"))","v":""},{"$f":"IF(ISERROR(MATCH(view!BR$3,data!$Y3:$AB3,0)),\"\",IFERROR(HYPERLINK(showDetails(INDEX(data!$S3:$V3,MATCH(view!BR$3,data!$Y3:$AB3,0)),BR5),\"●\"),\"●\"))","v":""},{"$f":"IF(ISERROR(MATCH(view!BS$3,data!$Y3:$AB3,0)),\"\",IFERROR(HYPERLINK(showDetails(INDEX(data!$S3:$V3,MATCH(view!BS$3,data!$Y3:$AB3,0)),BS5),\"●\"),\"●\"))","v":""},{"$f":"IF(ISERROR(MATCH(view!BT$3,data!$Y3:$AB3,0)),\"\",IFERROR(HYPERLINK(showDetails(INDEX(data!$S3:$V3,MATCH(view!BT$3,data!$Y3:$AB3,0)),BT5),\"●\"),\"●\"))","v":""},{"$f":"IF(ISERROR(MATCH(view!BU$3,data!$Y3:$AB3,0)),\"\",IFERROR(HYPERLINK(showDetails(INDEX(data!$S3:$V3,MATCH(view!BU$3,data!$Y3:$AB3,0)),BU5),\"●\"),\"●\"))","v":""},{"$f":"IF(ISERROR(MATCH(view!BV$3,data!$Y3:$AB3,0)),\"\",IFERROR(HYPERLINK(showDetails(INDEX(data!$S3:$V3,MATCH(view!BV$3,data!$Y3:$AB3,0)),BV5),\"●\"),\"●\"))","v":""},{"$f":"IF(ISERROR(MATCH(view!BW$3,data!$Y3:$AB3,0)),\"\",IFERROR(HYPERLINK(showDetails(INDEX(data!$S3:$V3,MATCH(view!BW$3,data!$Y3:$AB3,0)),BW5),\"●\"),\"●\"))","v":""},{"$f":"IF(ISERROR(MATCH(view!BX$3,data!$Y3:$AB3,0)),\"\",IFERROR(HYPERLINK(showDetails(INDEX(data!$S3:$V3,MATCH(view!BX$3,data!$Y3:$AB3,0)),BX5),\"●\"),\"●\"))","v":""},{"$f":"IF(ISERROR(MATCH(view!BY$3,data!$Y3:$AB3,0)),\"\",IFERROR(HYPERLINK(showDetails(INDEX(data!$S3:$V3,MATCH(view!BY$3,data!$Y3:$AB3,0)),BY5),\"●\"),\"●\"))","v":""},{"$f":"IF(ISERROR(MATCH(view!BZ$3,data!$Y3:$AB3,0)),\"\",IFERROR(HYPERLINK(showDetails(INDEX(data!$S3:$V3,MATCH(view!BZ$3,data!$Y3:$AB3,0)),BZ5),\"●\"),\"●\"))","v":""},{"$f":"IF(ISERROR(MATCH(view!CA$3,data!$Y3:$AB3,0)),\"\",IFERROR(HYPERLINK(showDetails(INDEX(data!$S3:$V3,MATCH(view!CA$3,data!$Y3:$AB3,0)),CA5),\"●\"),\"●\"))","v":""},{"$f":"IF(ISERROR(MATCH(view!CB$3,data!$Y3:$AB3,0)),\"\",IFERROR(HYPERLINK(showDetails(INDEX(data!$S3:$V3,MATCH(view!CB$3,data!$Y3:$AB3,0)),CB5),\"●\"),\"●\"))","v":""},{"$f":"IF(ISERROR(MATCH(view!CC$3,data!$Y3:$AB3,0)),\"\",IFERROR(HYPERLINK(showDetails(INDEX(data!$S3:$V3,MATCH(view!CC$3,data!$Y3:$AB3,0)),CC5),\"●\"),\"●\"))","v":""},{"$f":"IF(ISERROR(MATCH(view!CD$3,data!$Y3:$AB3,0)),\"\",IFERROR(HYPERLINK(showDetails(INDEX(data!$S3:$V3,MATCH(view!CD$3,data!$Y3:$AB3,0)),CD5),\"●\"),\"●\"))","v":""},{"$f":"IF(ISERROR(MATCH(view!CE$3,data!$Y3:$AB3,0)),\"\",IFERROR(HYPERLINK(showDetails(INDEX(data!$S3:$V3,MATCH(view!CE$3,data!$Y3:$AB3,0)),CE5),\"●\"),\"●\"))","v":""},{"$f":"IF(ISERROR(MATCH(view!CF$3,data!$Y3:$AB3,0)),\"\",IFERROR(HYPERLINK(showDetails(INDEX(data!$S3:$V3,MATCH(view!CF$3,data!$Y3:$AB3,0)),CF5),\"●\"),\"●\"))","v":""},{"$f":"IF(ISERROR(MATCH(view!CG$3,data!$Y3:$AB3,0)),\"\",IFERROR(HYPERLINK(showDetails(INDEX(data!$S3:$V3,MATCH(view!CG$3,data!$Y3:$AB3,0)),CG5),\"●\"),\"●\"))","v":""},{"$f":"IF(ISERROR(MATCH(view!CH$3,data!$Y3:$AB3,0)),\"\",IFERROR(HYPERLINK(showDetails(INDEX(data!$S3:$V3,MATCH(view!CH$3,data!$Y3:$AB3,0)),CH5),\"●\"),\"●\"))","v":""},{"$f":"IF(ISERROR(MATCH(view!CI$3,data!$Y3:$AB3,0)),\"\",IFERROR(HYPERLINK(showDetails(INDEX(data!$S3:$V3,MATCH(view!CI$3,data!$Y3:$AB3,0)),CI5),\"●\"),\"●\"))","v":""},{"$f":"IF(ISERROR(MATCH(view!CJ$3,data!$Y3:$AB3,0)),\"\",IFERROR(HYPERLINK(showDetails(INDEX(data!$S3:$V3,MATCH(view!CJ$3,data!$Y3:$AB3,0)),CJ5),\"●\"),\"●\"))","v":""},{"$f":"IF(ISERROR(MATCH(view!CK$3,data!$Y3:$AB3,0)),\"\",IFERROR(HYPERLINK(showDetails(INDEX(data!$S3:$V3,MATCH(view!CK$3,data!$Y3:$AB3,0)),CK5),\"●\"),\"●\"))","v":""},{"$f":"IF(ISERROR(MATCH(view!CL$3,data!$Y3:$AB3,0)),\"\",IFERROR(HYPERLINK(showDetails(INDEX(data!$S3:$V3,MATCH(view!CL$3,data!$Y3:$AB3,0)),CL5),\"●\"),\"●\"))","v":""},{"$f":"IF(ISERROR(MATCH(view!CM$3,data!$Y3:$AB3,0)),\"\",IFERROR(HYPERLINK(showDetails(INDEX(data!$S3:$V3,MATCH(view!CM$3,data!$Y3:$AB3,0)),CM5),\"●\"),\"●\"))","v":""},{"$f":"IF(ISERROR(MATCH(view!CN$3,data!$Y3:$AB3,0)),\"\",IFERROR(HYPERLINK(showDetails(INDEX(data!$S3:$V3,MATCH(view!CN$3,data!$Y3:$AB3,0)),CN5),\"●\"),\"●\"))","v":""},{"$f":"IF(ISERROR(MATCH(view!CO$3,data!$Y3:$AB3,0)),\"\",IFERROR(HYPERLINK(showDetails(INDEX(data!$S3:$V3,MATCH(view!CO$3,data!$Y3:$AB3,0)),CO5),\"●\"),\"●\"))","v":""},{"$f":"IF(ISERROR(MATCH(view!CP$3,data!$Y3:$AB3,0)),\"\",IFERROR(HYPERLINK(showDetails(INDEX(data!$S3:$V3,MATCH(view!CP$3,data!$Y3:$AB3,0)),CP5),\"●\"),\"●\"))","v":""},{"$f":"IF(ISERROR(MATCH(view!CQ$3,data!$Y3:$AB3,0)),\"\",IFERROR(HYPERLINK(showDetails(INDEX(data!$S3:$V3,MATCH(view!CQ$3,data!$Y3:$AB3,0)),CQ5),\"●\"),\"●\"))","v":""},{"$f":"IF(ISERROR(MATCH(view!CR$3,data!$Y3:$AB3,0)),\"\",IFERROR(HYPERLINK(showDetails(INDEX(data!$S3:$V3,MATCH(view!CR$3,data!$Y3:$AB3,0)),CR5),\"●\"),\"●\"))","v":""},{"$f":"IF(ISERROR(MATCH(view!CS$3,data!$Y3:$AB3,0)),\"\",IFERROR(HYPERLINK(showDetails(INDEX(data!$S3:$V3,MATCH(view!CS$3,data!$Y3:$AB3,0)),CS5),\"●\"),\"●\"))","v":""},{"$f":"IF(ISERROR(MATCH(view!CT$3,data!$Y3:$AB3,0)),\"\",IFERROR(HYPERLINK(showDetails(INDEX(data!$S3:$V3,MATCH(view!CT$3,data!$Y3:$AB3,0)),CT5),\"●\"),\"●\"))","v":""},{"$f":"IF(ISERROR(MATCH(view!CU$3,data!$Y3:$AB3,0)),\"\",IFERROR(HYPERLINK(showDetails(INDEX(data!$S3:$V3,MATCH(view!CU$3,data!$Y3:$AB3,0)),CU5),\"●\"),\"●\"))","v":""},{"$f":"IF(ISERROR(MATCH(view!CV$3,data!$Y3:$AB3,0)),\"\",IFERROR(HYPERLINK(showDetails(INDEX(data!$S3:$V3,MATCH(view!CV$3,data!$Y3:$AB3,0)),CV5),\"●\"),\"●\"))","v":""},{"$f":"IF(ISERROR(MATCH(view!CW$3,data!$Y3:$AB3,0)),\"\",IFERROR(HYPERLINK(showDetails(INDEX(data!$S3:$V3,MATCH(view!CW$3,data!$Y3:$AB3,0)),CW5),\"●\"),\"●\"))","v":""},{"$f":"IF(ISERROR(MATCH(view!CX$3,data!$Y3:$AB3,0)),\"\",IFERROR(HYPERLINK(showDetails(INDEX(data!$S3:$V3,MATCH(view!CX$3,data!$Y3:$AB3,0)),CX5),\"●\"),\"●\"))","v":""},{"$f":"IF(ISERROR(MATCH(view!CY$3,data!$Y3:$AB3,0)),\"\",IFERROR(HYPERLINK(showDetails(INDEX(data!$S3:$V3,MATCH(view!CY$3,data!$Y3:$AB3,0)),CY5),\"●\"),\"●\"))","v":""},{"$f":"IF(ISERROR(MATCH(view!CZ$3,data!$Y3:$AB3,0)),\"\",IFERROR(HYPERLINK(showDetails(INDEX(data!$S3:$V3,MATCH(view!CZ$3,data!$Y3:$AB3,0)),CZ5),\"●\"),\"●\"))","v":""},{"$f":"IF(ISERROR(MATCH(view!DA$3,data!$Y3:$AB3,0)),\"\",IFERROR(HYPERLINK(showDetails(INDEX(data!$S3:$V3,MATCH(view!DA$3,data!$Y3:$AB3,0)),DA5),\"●\"),\"●\"))","v":""},{"$f":"IF(ISERROR(MATCH(view!DB$3,data!$Y3:$AB3,0)),\"\",IFERROR(HYPERLINK(showDetails(INDEX(data!$S3:$V3,MATCH(view!DB$3,data!$Y3:$AB3,0)),DB5),\"●\"),\"●\"))","v":""},{"$f":"IF(ISERROR(MATCH(view!DC$3,data!$Y3:$AB3,0)),\"\",IFERROR(HYPERLINK(showDetails(INDEX(data!$S3:$V3,MATCH(view!DC$3,data!$Y3:$AB3,0)),DC5),\"●\"),\"●\"))","v":""},{"$f":"IF(ISERROR(MATCH(view!DD$3,data!$Y3:$AB3,0)),\"\",IFERROR(HYPERLINK(showDetails(INDEX(data!$S3:$V3,MATCH(view!DD$3,data!$Y3:$AB3,0)),DD5),\"●\"),\"●\"))","v":""},{"$f":"IF(ISERROR(MATCH(view!DE$3,data!$Y3:$AB3,0)),\"\",IFERROR(HYPERLINK(showDetails(INDEX(data!$S3:$V3,MATCH(view!DE$3,data!$Y3:$AB3,0)),DE5),\"●\"),\"●\"))","v":""},{"$f":"IF(ISERROR(MATCH(view!DF$3,data!$Y3:$AB3,0)),\"\",IFERROR(HYPERLINK(showDetails(INDEX(data!$S3:$V3,MATCH(view!DF$3,data!$Y3:$AB3,0)),DF5),\"●\"),\"●\"))","v":""},{"$f":"IF(ISERROR(MATCH(view!DG$3,data!$Y3:$AB3,0)),\"\",IFERROR(HYPERLINK(showDetails(INDEX(data!$S3:$V3,MATCH(view!DG$3,data!$Y3:$AB3,0)),DG5),\"●\"),\"●\"))","v":""},{"$f":"IF(ISERROR(MATCH(view!DH$3,data!$Y3:$AB3,0)),\"\",IFERROR(HYPERLINK(showDetails(INDEX(data!$S3:$V3,MATCH(view!DH$3,data!$Y3:$AB3,0)),DH5),\"●\"),\"●\"))","v":""},{"$f":"IF(ISERROR(MATCH(view!DI$3,data!$Y3:$AB3,0)),\"\",IFERROR(HYPERLINK(showDetails(INDEX(data!$S3:$V3,MATCH(view!DI$3,data!$Y3:$AB3,0)),DI5),\"●\"),\"●\"))","v":""},{"$f":"IF(ISERROR(MATCH(view!DJ$3,data!$Y3:$AB3,0)),\"\",IFERROR(HYPERLINK(showDetails(INDEX(data!$S3:$V3,MATCH(view!DJ$3,data!$Y3:$AB3,0)),DJ5),\"●\"),\"●\"))","v":""},{"$f":"IF(ISERROR(MATCH(view!DK$3,data!$Y3:$AB3,0)),\"\",IFERROR(HYPERLINK(showDetails(INDEX(data!$S3:$V3,MATCH(view!DK$3,data!$Y3:$AB3,0)),DK5),\"●\"),\"●\"))","v":"●"},{"$f":"IF(ISERROR(MATCH(view!DL$3,data!$Y3:$AB3,0)),\"\",IFERROR(HYPERLINK(showDetails(INDEX(data!$S3:$V3,MATCH(view!DL$3,data!$Y3:$AB3,0)),DL5),\"●\"),\"●\"))","v":""},{"$f":"IF(ISERROR(MATCH(view!DM$3,data!$Y3:$AB3,0)),\"\",IFERROR(HYPERLINK(showDetails(INDEX(data!$S3:$V3,MATCH(view!DM$3,data!$Y3:$AB3,0)),DM5),\"●\"),\"●\"))","v":"●"},{"$f":"IF(ISERROR(MATCH(view!DN$3,data!$Y3:$AB3,0)),\"\",IFERROR(HYPERLINK(showDetails(INDEX(data!$S3:$V3,MATCH(view!DN$3,data!$Y3:$AB3,0)),DN5),\"●\"),\"●\"))","v":""},{"$f":"IF(ISERROR(MATCH(view!DO$3,data!$Y3:$AB3,0)),\"\",IFERROR(HYPERLINK(showDetails(INDEX(data!$S3:$V3,MATCH(view!DO$3,data!$Y3:$AB3,0)),DO5),\"●\"),\"●\"))","v":""},{"$f":"IF(ISERROR(MATCH(view!DP$3,data!$Y3:$AB3,0)),\"\",IFERROR(HYPERLINK(showDetails(INDEX(data!$S3:$V3,MATCH(view!DP$3,data!$Y3:$AB3,0)),DP5),\"●\"),\"●\"))","v":""},{"$f":"IF(ISERROR(MATCH(view!DQ$3,data!$Y3:$AB3,0)),\"\",IFERROR(HYPERLINK(showDetails(INDEX(data!$S3:$V3,MATCH(view!DQ$3,data!$Y3:$AB3,0)),DQ5),\"●\"),\"●\"))","v":""},{"$f":"IF(ISERROR(MATCH(view!DR$3,data!$Y3:$AB3,0)),\"\",IFERROR(HYPERLINK(showDetails(INDEX(data!$S3:$V3,MATCH(view!DR$3,data!$Y3:$AB3,0)),DR5),\"●\"),\"●\"))","v":""},{"$f":"IF(ISERROR(MATCH(view!DS$3,data!$Y3:$AB3,0)),\"\",IFERROR(HYPERLINK(showDetails(INDEX(data!$S3:$V3,MATCH(view!DS$3,data!$Y3:$AB3,0)),DS5),\"●\"),\"●\"))","v":"●"},{"$f":"INDEX(lstYears,A5) &\" - \"&INDEX(data!$W$3:$W$30,A5)","v":"2012 - London"}]
[2,null,{"$f":"IF(ISERROR(MATCH(view!C$3,data!$Y4:$AB4,0)),\"\",IFERROR(HYPERLINK(showDetails(INDEX(data!$S4:$V4,MATCH(view!C$3,data!$Y4:$AB4,0)),C6),\"●\"),\"●\"))","v":""},{"$f":"IF(ISERROR(MATCH(view!D$3,data!$Y4:$AB4,0)),\"\",IFERROR(HYPERLINK(showDetails(INDEX(data!$S4:$V4,MATCH(view!D$3,data!$Y4:$AB4,0)),D6),\"●\"),\"●\"))","v":""},{"$f":"IF(ISERROR(MATCH(view!E$3,data!$Y4:$AB4,0)),\"\",IFERROR(HYPERLINK(showDetails(INDEX(data!$S4:$V4,MATCH(view!E$3,data!$Y4:$AB4,0)),E6),\"●\"),\"●\"))","v":""},{"$f":"IF(ISERROR(MATCH(view!F$3,data!$Y4:$AB4,0)),\"\",IFERROR(HYPERLINK(showDetails(INDEX(data!$S4:$V4,MATCH(view!F$3,data!$Y4:$AB4,0)),F6),\"●\"),\"●\"))","v":""},{"$f":"IF(ISERROR(MATCH(view!G$3,data!$Y4:$AB4,0)),\"\",IFERROR(HYPERLINK(showDetails(INDEX(data!$S4:$V4,MATCH(view!G$3,data!$Y4:$AB4,0)),G6),\"●\"),\"●\"))","v":""},{"$f":"IF(ISERROR(MATCH(view!H$3,data!$Y4:$AB4,0)),\"\",IFERROR(HYPERLINK(showDetails(INDEX(data!$S4:$V4,MATCH(view!H$3,data!$Y4:$AB4,0)),H6),\"●\"),\"●\"))","v":""},{"$f":"IF(ISERROR(MATCH(view!I$3,data!$Y4:$AB4,0)),\"\",IFERROR(HYPERLINK(showDetails(INDEX(data!$S4:$V4,MATCH(view!I$3,data!$Y4:$AB4,0)),I6),\"●\"),\"●\"))","v":""},{"$f":"IF(ISERROR(MATCH(view!J$3,data!$Y4:$AB4,0)),\"\",IFERROR(HYPERLINK(showDetails(INDEX(data!$S4:$V4,MATCH(view!J$3,data!$Y4:$AB4,0)),J6),\"●\"),\"●\"))","v":""},{"$f":"IF(ISERROR(MATCH(view!K$3,data!$Y4:$AB4,0)),\"\",IFERROR(HYPERLINK(showDetails(INDEX(data!$S4:$V4,MATCH(view!K$3,data!$Y4:$AB4,0)),K6),\"●\"),\"●\"))","v":""},{"$f":"IF(ISERROR(MATCH(view!L$3,data!$Y4:$AB4,0)),\"\",IFERROR(HYPERLINK(showDetails(INDEX(data!$S4:$V4,MATCH(view!L$3,data!$Y4:$AB4,0)),L6),\"●\"),\"●\"))","v":""},{"$f":"IF(ISERROR(MATCH(view!M$3,data!$Y4:$AB4,0)),\"\",IFERROR(HYPERLINK(showDetails(INDEX(data!$S4:$V4,MATCH(view!M$3,data!$Y4:$AB4,0)),M6),\"●\"),\"●\"))","v":""},{"$f":"IF(ISERROR(MATCH(view!N$3,data!$Y4:$AB4,0)),\"\",IFERROR(HYPERLINK(showDetails(INDEX(data!$S4:$V4,MATCH(view!N$3,data!$Y4:$AB4,0)),N6),\"●\"),\"●\"))","v":""},{"$f":"IF(ISERROR(MATCH(view!O$3,data!$Y4:$AB4,0)),\"\",IFERROR(HYPERLINK(showDetails(INDEX(data!$S4:$V4,MATCH(view!O$3,data!$Y4:$AB4,0)),O6),\"●\"),\"●\"))","v":""},{"$f":"IF(ISERROR(MATCH(view!P$3,data!$Y4:$AB4,0)),\"\",IFERROR(HYPERLINK(showDetails(INDEX(data!$S4:$V4,MATCH(view!P$3,data!$Y4:$AB4,0)),P6),\"●\"),\"●\"))","v":""},{"$f":"IF(ISERROR(MATCH(view!Q$3,data!$Y4:$AB4,0)),\"\",IFERROR(HYPERLINK(showDetails(INDEX(data!$S4:$V4,MATCH(view!Q$3,data!$Y4:$AB4,0)),Q6),\"●\"),\"●\"))","v":""},{"$f":"IF(ISERROR(MATCH(view!R$3,data!$Y4:$AB4,0)),\"\",IFERROR(HYPERLINK(showDetails(INDEX(data!$S4:$V4,MATCH(view!R$3,data!$Y4:$AB4,0)),R6),\"●\"),\"●\"))","v":""},{"$f":"IF(ISERROR(MATCH(view!S$3,data!$Y4:$AB4,0)),\"\",IFERROR(HYPERLINK(showDetails(INDEX(data!$S4:$V4,MATCH(view!S$3,data!$Y4:$AB4,0)),S6),\"●\"),\"●\"))","v":""},{"$f":"IF(ISERROR(MATCH(view!T$3,data!$Y4:$AB4,0)),\"\",IFERROR(HYPERLINK(showDetails(INDEX(data!$S4:$V4,MATCH(view!T$3,data!$Y4:$AB4,0)),T6),\"●\"),\"●\"))","v":""},{"$f":"IF(ISERROR(MATCH(view!U$3,data!$Y4:$AB4,0)),\"\",IFERROR(HYPERLINK(showDetails(INDEX(data!$S4:$V4,MATCH(view!U$3,data!$Y4:$AB4,0)),U6),\"●\"),\"●\"))","v":""},{"$f":"IF(ISERROR(MATCH(view!V$3,data!$Y4:$AB4,0)),\"\",IFERROR(HYPERLINK(showDetails(INDEX(data!$S4:$V4,MATCH(view!V$3,data!$Y4:$AB4,0)),V6),\"●\"),\"●\"))","v":""},{"$f":"IF(ISERROR(MATCH(view!W$3,data!$Y4:$AB4,0)),\"\",IFERROR(HYPERLINK(showDetails(INDEX(data!$S4:$V4,MATCH(view!W$3,data!$Y4:$AB4,0)),W6),\"●\"),\"●\"))","v":""},{"$f":"IF(ISERROR(MATCH(view!X$3,data!$Y4:$AB4,0)),\"\",IFERROR(HYPERLINK(showDetails(INDEX(data!$S4:$V4,MATCH(view!X$3,data!$Y4:$AB4,0)),X6),\"●\"),\"●\"))","v":""},{"$f":"IF(ISERROR(MATCH(view!Y$3,data!$Y4:$AB4,0)),\"\",IFERROR(HYPERLINK(showDetails(INDEX(data!$S4:$V4,MATCH(view!Y$3,data!$Y4:$AB4,0)),Y6),\"●\"),\"●\"))","v":""},{"$f":"IF(ISERROR(MATCH(view!Z$3,data!$Y4:$AB4,0)),\"\",IFERROR(HYPERLINK(showDetails(INDEX(data!$S4:$V4,MATCH(view!Z$3,data!$Y4:$AB4,0)),Z6),\"●\"),\"●\"))","v":""},{"$f":"IF(ISERROR(MATCH(view!AA$3,data!$Y4:$AB4,0)),\"\",IFERROR(HYPERLINK(showDetails(INDEX(data!$S4:$V4,MATCH(view!AA$3,data!$Y4:$AB4,0)),AA6),\"●\"),\"●\"))","v":""},{"$f":"IF(ISERROR(MATCH(view!AB$3,data!$Y4:$AB4,0)),\"\",IFERROR(HYPERLINK(showDetails(INDEX(data!$S4:$V4,MATCH(view!AB$3,data!$Y4:$AB4,0)),AB6),\"●\"),\"●\"))","v":""},{"$f":"IF(ISERROR(MATCH(view!AC$3,data!$Y4:$AB4,0)),\"\",IFERROR(HYPERLINK(showDetails(INDEX(data!$S4:$V4,MATCH(view!AC$3,data!$Y4:$AB4,0)),AC6),\"●\"),\"●\"))","v":""},{"$f":"IF(ISERROR(MATCH(view!AD$3,data!$Y4:$AB4,0)),\"\",IFERROR(HYPERLINK(showDetails(INDEX(data!$S4:$V4,MATCH(view!AD$3,data!$Y4:$AB4,0)),AD6),\"●\"),\"●\"))","v":""},{"$f":"IF(ISERROR(MATCH(view!AE$3,data!$Y4:$AB4,0)),\"\",IFERROR(HYPERLINK(showDetails(INDEX(data!$S4:$V4,MATCH(view!AE$3,data!$Y4:$AB4,0)),AE6),\"●\"),\"●\"))","v":""},{"$f":"IF(ISERROR(MATCH(view!AF$3,data!$Y4:$AB4,0)),\"\",IFERROR(HYPERLINK(showDetails(INDEX(data!$S4:$V4,MATCH(view!AF$3,data!$Y4:$AB4,0)),AF6),\"●\"),\"●\"))","v":""},{"$f":"IF(ISERROR(MATCH(view!AG$3,data!$Y4:$AB4,0)),\"\",IFERROR(HYPERLINK(showDetails(INDEX(data!$S4:$V4,MATCH(view!AG$3,data!$Y4:$AB4,0)),AG6),\"●\"),\"●\"))","v":""},{"$f":"IF(ISERROR(MATCH(view!AH$3,data!$Y4:$AB4,0)),\"\",IFERROR(HYPERLINK(showDetails(INDEX(data!$S4:$V4,MATCH(view!AH$3,data!$Y4:$AB4,0)),AH6),\"●\"),\"●\"))","v":""},{"$f":"IF(ISERROR(MATCH(view!AI$3,data!$Y4:$AB4,0)),\"\",IFERROR(HYPERLINK(showDetails(INDEX(data!$S4:$V4,MATCH(view!AI$3,data!$Y4:$AB4,0)),AI6),\"●\"),\"●\"))","v":""},{"$f":"IF(ISERROR(MATCH(view!AJ$3,data!$Y4:$AB4,0)),\"\",IFERROR(HYPERLINK(showDetails(INDEX(data!$S4:$V4,MATCH(view!AJ$3,data!$Y4:$AB4,0)),AJ6),\"●\"),\"●\"))","v":""},{"$f":"IF(ISERROR(MATCH(view!AK$3,data!$Y4:$AB4,0)),\"\",IFERROR(HYPERLINK(showDetails(INDEX(data!$S4:$V4,MATCH(view!AK$3,data!$Y4:$AB4,0)),AK6),\"●\"),\"●\"))","v":""},{"$f":"IF(ISERROR(MATCH(view!AL$3,data!$Y4:$AB4,0)),\"\",IFERROR(HYPERLINK(showDetails(INDEX(data!$S4:$V4,MATCH(view!AL$3,data!$Y4:$AB4,0)),AL6),\"●\"),\"●\"))","v":""},{"$f":"IF(ISERROR(MATCH(view!AM$3,data!$Y4:$AB4,0)),\"\",IFERROR(HYPERLINK(showDetails(INDEX(data!$S4:$V4,MATCH(view!AM$3,data!$Y4:$AB4,0)),AM6),\"●\"),\"●\"))","v":""},{"$f":"IF(ISERROR(MATCH(view!AN$3,data!$Y4:$AB4,0)),\"\",IFERROR(HYPERLINK(showDetails(INDEX(data!$S4:$V4,MATCH(view!AN$3,data!$Y4:$AB4,0)),AN6),\"●\"),\"●\"))","v":""},{"$f":"IF(ISERROR(MATCH(view!AO$3,data!$Y4:$AB4,0)),\"\",IFERROR(HYPERLINK(showDetails(INDEX(data!$S4:$V4,MATCH(view!AO$3,data!$Y4:$AB4,0)),AO6),\"●\"),\"●\"))","v":""},{"$f":"IF(ISERROR(MATCH(view!AP$3,data!$Y4:$AB4,0)),\"\",IFERROR(HYPERLINK(showDetails(INDEX(data!$S4:$V4,MATCH(view!AP$3,data!$Y4:$AB4,0)),AP6),\"●\"),\"●\"))","v":""},{"$f":"IF(ISERROR(MATCH(view!AQ$3,data!$Y4:$AB4,0)),\"\",IFERROR(HYPERLINK(showDetails(INDEX(data!$S4:$V4,MATCH(view!AQ$3,data!$Y4:$AB4,0)),AQ6),\"●\"),\"●\"))","v":""},{"$f":"IF(ISERROR(MATCH(view!AR$3,data!$Y4:$AB4,0)),\"\",IFERROR(HYPERLINK(showDetails(INDEX(data!$S4:$V4,MATCH(view!AR$3,data!$Y4:$AB4,0)),AR6),\"●\"),\"●\"))","v":""},{"$f":"IF(ISERROR(MATCH(view!AS$3,data!$Y4:$AB4,0)),\"\",IFERROR(HYPERLINK(showDetails(INDEX(data!$S4:$V4,MATCH(view!AS$3,data!$Y4:$AB4,0)),AS6),\"●\"),\"●\"))","v":""},{"$f":"IF(ISERROR(MATCH(view!AT$3,data!$Y4:$AB4,0)),\"\",IFERROR(HYPERLINK(showDetails(INDEX(data!$S4:$V4,MATCH(view!AT$3,data!$Y4:$AB4,0)),AT6),\"●\"),\"●\"))","v":""},{"$f":"IF(ISERROR(MATCH(view!AU$3,data!$Y4:$AB4,0)),\"\",IFERROR(HYPERLINK(showDetails(INDEX(data!$S4:$V4,MATCH(view!AU$3,data!$Y4:$AB4,0)),AU6),\"●\"),\"●\"))","v":""},{"$f":"IF(ISERROR(MATCH(view!AV$3,data!$Y4:$AB4,0)),\"\",IFERROR(HYPERLINK(showDetails(INDEX(data!$S4:$V4,MATCH(view!AV$3,data!$Y4:$AB4,0)),AV6),\"●\"),\"●\"))","v":""},{"$f":"IF(ISERROR(MATCH(view!AW$3,data!$Y4:$AB4,0)),\"\",IFERROR(HYPERLINK(showDetails(INDEX(data!$S4:$V4,MATCH(view!AW$3,data!$Y4:$AB4,0)),AW6),\"●\"),\"●\"))","v":""},{"$f":"IF(ISERROR(MATCH(view!AX$3,data!$Y4:$AB4,0)),\"\",IFERROR(HYPERLINK(showDetails(INDEX(data!$S4:$V4,MATCH(view!AX$3,data!$Y4:$AB4,0)),AX6),\"●\"),\"●\"))","v":""},{"$f":"IF(ISERROR(MATCH(view!AY$3,data!$Y4:$AB4,0)),\"\",IFERROR(HYPERLINK(showDetails(INDEX(data!$S4:$V4,MATCH(view!AY$3,data!$Y4:$AB4,0)),AY6),\"●\"),\"●\"))","v":""},{"$f":"IF(ISERROR(MATCH(view!AZ$3,data!$Y4:$AB4,0)),\"\",IFERROR(HYPERLINK(showDetails(INDEX(data!$S4:$V4,MATCH(view!AZ$3,data!$Y4:$AB4,0)),AZ6),\"●\"),\"●\"))","v":""},{"$f":"IF(ISERROR(MATCH(view!BA$3,data!$Y4:$AB4,0)),\"\",IFERROR(HYPERLINK(showDetails(INDEX(data!$S4:$V4,MATCH(view!BA$3,data!$Y4:$AB4,0)),BA6),\"●\"),\"●\"))","v":""},{"$f":"IF(ISERROR(MATCH(view!BB$3,data!$Y4:$AB4,0)),\"\",IFERROR(HYPERLINK(showDetails(INDEX(data!$S4:$V4,MATCH(view!BB$3,data!$Y4:$AB4,0)),BB6),\"●\"),\"●\"))","v":""},{"$f":"IF(ISERROR(MATCH(view!BC$3,data!$Y4:$AB4,0)),\"\",IFERROR(HYPERLINK(showDetails(INDEX(data!$S4:$V4,MATCH(view!BC$3,data!$Y4:$AB4,0)),BC6),\"●\"),\"●\"))","v":""},{"$f":"IF(ISERROR(MATCH(view!BD$3,data!$Y4:$AB4,0)),\"\",IFERROR(HYPERLINK(showDetails(INDEX(data!$S4:$V4,MATCH(view!BD$3,data!$Y4:$AB4,0)),BD6),\"●\"),\"●\"))","v":""},{"$f":"IF(ISERROR(MATCH(view!BE$3,data!$Y4:$AB4,0)),\"\",IFERROR(HYPERLINK(showDetails(INDEX(data!$S4:$V4,MATCH(view!BE$3,data!$Y4:$AB4,0)),BE6),\"●\"),\"●\"))","v":""},{"$f":"IF(ISERROR(MATCH(view!BF$3,data!$Y4:$AB4,0)),\"\",IFERROR(HYPERLINK(showDetails(INDEX(data!$S4:$V4,MATCH(view!BF$3,data!$Y4:$AB4,0)),BF6),\"●\"),\"●\"))","v":""},{"$f":"IF(ISERROR(MATCH(view!BG$3,data!$Y4:$AB4,0)),\"\",IFERROR(HYPERLINK(showDetails(INDEX(data!$S4:$V4,MATCH(view!BG$3,data!$Y4:$AB4,0)),BG6),\"●\"),\"●\"))","v":""},{"$f":"IF(ISERROR(MATCH(view!BH$3,data!$Y4:$AB4,0)),\"\",IFERROR(HYPERLINK(showDetails(INDEX(data!$S4:$V4,MATCH(view!BH$3,data!$Y4:$AB4,0)),BH6),\"●\"),\"●\"))","v":""},{"$f":"IF(ISERROR(MATCH(view!BI$3,data!$Y4:$AB4,0)),\"\",IFERROR(HYPERLINK(showDetails(INDEX(data!$S4:$V4,MATCH(view!BI$3,data!$Y4:$AB4,0)),BI6),\"●\"),\"●\"))","v":""},{"$f":"IF(ISERROR(MATCH(view!BJ$3,data!$Y4:$AB4,0)),\"\",IFERROR(HYPERLINK(showDetails(INDEX(data!$S4:$V4,MATCH(view!BJ$3,data!$Y4:$AB4,0)),BJ6),\"●\"),\"●\"))","v":""},{"$f":"IF(ISERROR(MATCH(view!BK$3,data!$Y4:$AB4,0)),\"\",IFERROR(HYPERLINK(showDetails(INDEX(data!$S4:$V4,MATCH(view!BK$3,data!$Y4:$AB4,0)),BK6),\"●\"),\"●\"))","v":""},{"$f":"IF(ISERROR(MATCH(view!BL$3,data!$Y4:$AB4,0)),\"\",IFERROR(HYPERLINK(showDetails(INDEX(data!$S4:$V4,MATCH(view!BL$3,data!$Y4:$AB4,0)),BL6),\"●\"),\"●\"))","v":""},{"$f":"IF(ISERROR(MATCH(view!BM$3,data!$Y4:$AB4,0)),\"\",IFERROR(HYPERLINK(showDetails(INDEX(data!$S4:$V4,MATCH(view!BM$3,data!$Y4:$AB4,0)),BM6),\"●\"),\"●\"))","v":""},{"$f":"IF(ISERROR(MATCH(view!BN$3,data!$Y4:$AB4,0)),\"\",IFERROR(HYPERLINK(showDetails(INDEX(data!$S4:$V4,MATCH(view!BN$3,data!$Y4:$AB4,0)),BN6),\"●\"),\"●\"))","v":""},{"$f":"IF(ISERROR(MATCH(view!BO$3,data!$Y4:$AB4,0)),\"\",IFERROR(HYPERLINK(showDetails(INDEX(data!$S4:$V4,MATCH(view!BO$3,data!$Y4:$AB4,0)),BO6),\"●\"),\"●\"))","v":""},{"$f":"IF(ISERROR(MATCH(view!BP$3,data!$Y4:$AB4,0)),\"\",IFERROR(HYPERLINK(showDetails(INDEX(data!$S4:$V4,MATCH(view!BP$3,data!$Y4:$AB4,0)),BP6),\"●\"),\"●\"))","v":""},{"$f":"IF(ISERROR(MATCH(view!BQ$3,data!$Y4:$AB4,0)),\"\",IFERROR(HYPERLINK(showDetails(INDEX(data!$S4:$V4,MATCH(view!BQ$3,data!$Y4:$AB4,0)),BQ6),\"●\"),\"●\"))","v":""},{"$f":"IF(ISERROR(MATCH(view!BR$3,data!$Y4:$AB4,0)),\"\",IFERROR(HYPERLINK(showDetails(INDEX(data!$S4:$V4,MATCH(view!BR$3,data!$Y4:$AB4,0)),BR6),\"●\"),\"●\"))","v":""},{"$f":"IF(ISERROR(MATCH(view!BS$3,data!$Y4:$AB4,0)),\"\",IFERROR(HYPERLINK(showDetails(INDEX(data!$S4:$V4,MATCH(view!BS$3,data!$Y4:$AB4,0)),BS6),\"●\"),\"●\"))","v":""},{"$f":"IF(ISERROR(MATCH(view!BT$3,data!$Y4:$AB4,0)),\"\",IFERROR(HYPERLINK(showDetails(INDEX(data!$S4:$V4,MATCH(view!BT$3,data!$Y4:$AB4,0)),BT6),\"●\"),\"●\"))","v":""},{"$f":"IF(ISERROR(MATCH(view!BU$3,data!$Y4:$AB4,0)),\"\",IFERROR(HYPERLINK(showDetails(INDEX(data!$S4:$V4,MATCH(view!BU$3,data!$Y4:$AB4,0)),BU6),\"●\"),\"●\"))","v":""},{"$f":"IF(ISERROR(MATCH(view!BV$3,data!$Y4:$AB4,0)),\"\",IFERROR(HYPERLINK(showDetails(INDEX(data!$S4:$V4,MATCH(view!BV$3,data!$Y4:$AB4,0)),BV6),\"●\"),\"●\"))","v":""},{"$f":"IF(ISERROR(MATCH(view!BW$3,data!$Y4:$AB4,0)),\"\",IFERROR(HYPERLINK(showDetails(INDEX(data!$S4:$V4,MATCH(view!BW$3,data!$Y4:$AB4,0)),BW6),\"●\"),\"●\"))","v":""},{"$f":"IF(ISERROR(MATCH(view!BX$3,data!$Y4:$AB4,0)),\"\",IFERROR(HYPERLINK(showDetails(INDEX(data!$S4:$V4,MATCH(view!BX$3,data!$Y4:$AB4,0)),BX6),\"●\"),\"●\"))","v":""},{"$f":"IF(ISERROR(MATCH(view!BY$3,data!$Y4:$AB4,0)),\"\",IFERROR(HYPERLINK(showDetails(INDEX(data!$S4:$V4,MATCH(view!BY$3,data!$Y4:$AB4,0)),BY6),\"●\"),\"●\"))","v":""},{"$f":"IF(ISERROR(MATCH(view!BZ$3,data!$Y4:$AB4,0)),\"\",IFERROR(HYPERLINK(showDetails(INDEX(data!$S4:$V4,MATCH(view!BZ$3,data!$Y4:$AB4,0)),BZ6),\"●\"),\"●\"))","v":""},{"$f":"IF(ISERROR(MATCH(view!CA$3,data!$Y4:$AB4,0)),\"\",IFERROR(HYPERLINK(showDetails(INDEX(data!$S4:$V4,MATCH(view!CA$3,data!$Y4:$AB4,0)),CA6),\"●\"),\"●\"))","v":""},{"$f":"IF(ISERROR(MATCH(view!CB$3,data!$Y4:$AB4,0)),\"\",IFERROR(HYPERLINK(showDetails(INDEX(data!$S4:$V4,MATCH(view!CB$3,data!$Y4:$AB4,0)),CB6),\"●\"),\"●\"))","v":""},{"$f":"IF(ISERROR(MATCH(view!CC$3,data!$Y4:$AB4,0)),\"\",IFERROR(HYPERLINK(showDetails(INDEX(data!$S4:$V4,MATCH(view!CC$3,data!$Y4:$AB4,0)),CC6),\"●\"),\"●\"))","v":""},{"$f":"IF(ISERROR(MATCH(view!CD$3,data!$Y4:$AB4,0)),\"\",IFERROR(HYPERLINK(showDetails(INDEX(data!$S4:$V4,MATCH(view!CD$3,data!$Y4:$AB4,0)),CD6),\"●\"),\"●\"))","v":""},{"$f":"IF(ISERROR(MATCH(view!CE$3,data!$Y4:$AB4,0)),\"\",IFERROR(HYPERLINK(showDetails(INDEX(data!$S4:$V4,MATCH(view!CE$3,data!$Y4:$AB4,0)),CE6),\"●\"),\"●\"))","v":""},{"$f":"IF(ISERROR(MATCH(view!CF$3,data!$Y4:$AB4,0)),\"\",IFERROR(HYPERLINK(showDetails(INDEX(data!$S4:$V4,MATCH(view!CF$3,data!$Y4:$AB4,0)),CF6),\"●\"),\"●\"))","v":""},{"$f":"IF(ISERROR(MATCH(view!CG$3,data!$Y4:$AB4,0)),\"\",IFERROR(HYPERLINK(showDetails(INDEX(data!$S4:$V4,MATCH(view!CG$3,data!$Y4:$AB4,0)),CG6),\"●\"),\"●\"))","v":""},{"$f":"IF(ISERROR(MATCH(view!CH$3,data!$Y4:$AB4,0)),\"\",IFERROR(HYPERLINK(showDetails(INDEX(data!$S4:$V4,MATCH(view!CH$3,data!$Y4:$AB4,0)),CH6),\"●\"),\"●\"))","v":""},{"$f":"IF(ISERROR(MATCH(view!CI$3,data!$Y4:$AB4,0)),\"\",IFERROR(HYPERLINK(showDetails(INDEX(data!$S4:$V4,MATCH(view!CI$3,data!$Y4:$AB4,0)),CI6),\"●\"),\"●\"))","v":""},{"$f":"IF(ISERROR(MATCH(view!CJ$3,data!$Y4:$AB4,0)),\"\",IFERROR(HYPERLINK(showDetails(INDEX(data!$S4:$V4,MATCH(view!CJ$3,data!$Y4:$AB4,0)),CJ6),\"●\"),\"●\"))","v":""},{"$f":"IF(ISERROR(MATCH(view!CK$3,data!$Y4:$AB4,0)),\"\",IFERROR(HYPERLINK(showDetails(INDEX(data!$S4:$V4,MATCH(view!CK$3,data!$Y4:$AB4,0)),CK6),\"●\"),\"●\"))","v":""},{"$f":"IF(ISERROR(MATCH(view!CL$3,data!$Y4:$AB4,0)),\"\",IFERROR(HYPERLINK(showDetails(INDEX(data!$S4:$V4,MATCH(view!CL$3,data!$Y4:$AB4,0)),CL6),\"●\"),\"●\"))","v":""},{"$f":"IF(ISERROR(MATCH(view!CM$3,data!$Y4:$AB4,0)),\"\",IFERROR(HYPERLINK(showDetails(INDEX(data!$S4:$V4,MATCH(view!CM$3,data!$Y4:$AB4,0)),CM6),\"●\"),\"●\"))","v":""},{"$f":"IF(ISERROR(MATCH(view!CN$3,data!$Y4:$AB4,0)),\"\",IFERROR(HYPERLINK(showDetails(INDEX(data!$S4:$V4,MATCH(view!CN$3,data!$Y4:$AB4,0)),CN6),\"●\"),\"●\"))","v":""},{"$f":"IF(ISERROR(MATCH(view!CO$3,data!$Y4:$AB4,0)),\"\",IFERROR(HYPERLINK(showDetails(INDEX(data!$S4:$V4,MATCH(view!CO$3,data!$Y4:$AB4,0)),CO6),\"●\"),\"●\"))","v":""},{"$f":"IF(ISERROR(MATCH(view!CP$3,data!$Y4:$AB4,0)),\"\",IFERROR(HYPERLINK(showDetails(INDEX(data!$S4:$V4,MATCH(view!CP$3,data!$Y4:$AB4,0)),CP6),\"●\"),\"●\"))","v":""},{"$f":"IF(ISERROR(MATCH(view!CQ$3,data!$Y4:$AB4,0)),\"\",IFERROR(HYPERLINK(showDetails(INDEX(data!$S4:$V4,MATCH(view!CQ$3,data!$Y4:$AB4,0)),CQ6),\"●\"),\"●\"))","v":""},{"$f":"IF(ISERROR(MATCH(view!CR$3,data!$Y4:$AB4,0)),\"\",IFERROR(HYPERLINK(showDetails(INDEX(data!$S4:$V4,MATCH(view!CR$3,data!$Y4:$AB4,0)),CR6),\"●\"),\"●\"))","v":""},{"$f":"IF(ISERROR(MATCH(view!CS$3,data!$Y4:$AB4,0)),\"\",IFERROR(HYPERLINK(showDetails(INDEX(data!$S4:$V4,MATCH(view!CS$3,data!$Y4:$AB4,0)),CS6),\"●\"),\"●\"))","v":""},{"$f":"IF(ISERROR(MATCH(view!CT$3,data!$Y4:$AB4,0)),\"\",IFERROR(HYPERLINK(showDetails(INDEX(data!$S4:$V4,MATCH(view!CT$3,data!$Y4:$AB4,0)),CT6),\"●\"),\"●\"))","v":""},{"$f":"IF(ISERROR(MATCH(view!CU$3,data!$Y4:$AB4,0)),\"\",IFERROR(HYPERLINK(showDetails(INDEX(data!$S4:$V4,MATCH(view!CU$3,data!$Y4:$AB4,0)),CU6),\"●\"),\"●\"))","v":""},{"$f":"IF(ISERROR(MATCH(view!CV$3,data!$Y4:$AB4,0)),\"\",IFERROR(HYPERLINK(showDetails(INDEX(data!$S4:$V4,MATCH(view!CV$3,data!$Y4:$AB4,0)),CV6),\"●\"),\"●\"))","v":""},{"$f":"IF(ISERROR(MATCH(view!CW$3,data!$Y4:$AB4,0)),\"\",IFERROR(HYPERLINK(showDetails(INDEX(data!$S4:$V4,MATCH(view!CW$3,data!$Y4:$AB4,0)),CW6),\"●\"),\"●\"))","v":""},{"$f":"IF(ISERROR(MATCH(view!CX$3,data!$Y4:$AB4,0)),\"\",IFERROR(HYPERLINK(showDetails(INDEX(data!$S4:$V4,MATCH(view!CX$3,data!$Y4:$AB4,0)),CX6),\"●\"),\"●\"))","v":""},{"$f":"IF(ISERROR(MATCH(view!CY$3,data!$Y4:$AB4,0)),\"\",IFERROR(HYPERLINK(showDetails(INDEX(data!$S4:$V4,MATCH(view!CY$3,data!$Y4:$AB4,0)),CY6),\"●\"),\"●\"))","v":""},{"$f":"IF(ISERROR(MATCH(view!CZ$3,data!$Y4:$AB4,0)),\"\",IFERROR(HYPERLINK(showDetails(INDEX(data!$S4:$V4,MATCH(view!CZ$3,data!$Y4:$AB4,0)),CZ6),\"●\"),\"●\"))","v":""},{"$f":"IF(ISERROR(MATCH(view!DA$3,data!$Y4:$AB4,0)),\"\",IFERROR(HYPERLINK(showDetails(INDEX(data!$S4:$V4,MATCH(view!DA$3,data!$Y4:$AB4,0)),DA6),\"●\"),\"●\"))","v":""},{"$f":"IF(ISERROR(MATCH(view!DB$3,data!$Y4:$AB4,0)),\"\",IFERROR(HYPERLINK(showDetails(INDEX(data!$S4:$V4,MATCH(view!DB$3,data!$Y4:$AB4,0)),DB6),\"●\"),\"●\"))","v":""},{"$f":"IF(ISERROR(MATCH(view!DC$3,data!$Y4:$AB4,0)),\"\",IFERROR(HYPERLINK(showDetails(INDEX(data!$S4:$V4,MATCH(view!DC$3,data!$Y4:$AB4,0)),DC6),\"●\"),\"●\"))","v":""},{"$f":"IF(ISERROR(MATCH(view!DD$3,data!$Y4:$AB4,0)),\"\",IFERROR(HYPERLINK(showDetails(INDEX(data!$S4:$V4,MATCH(view!DD$3,data!$Y4:$AB4,0)),DD6),\"●\"),\"●\"))","v":""},{"$f":"IF(ISERROR(MATCH(view!DE$3,data!$Y4:$AB4,0)),\"\",IFERROR(HYPERLINK(showDetails(INDEX(data!$S4:$V4,MATCH(view!DE$3,data!$Y4:$AB4,0)),DE6),\"●\"),\"●\"))","v":"●"},{"$f":"IF(ISERROR(MATCH(view!DF$3,data!$Y4:$AB4,0)),\"\",IFERROR(HYPERLINK(showDetails(INDEX(data!$S4:$V4,MATCH(view!DF$3,data!$Y4:$AB4,0)),DF6),\"●\"),\"●\"))","v":"●"},{"$f":"IF(ISERROR(MATCH(view!DG$3,data!$Y4:$AB4,0)),\"\",IFERROR(HYPERLINK(showDetails(INDEX(data!$S4:$V4,MATCH(view!DG$3,data!$Y4:$AB4,0)),DG6),\"●\"),\"●\"))","v":""},{"$f":"IF(ISERROR(MATCH(view!DH$3,data!$Y4:$AB4,0)),\"\",IFERROR(HYPERLINK(showDetails(INDEX(data!$S4:$V4,MATCH(view!DH$3,data!$Y4:$AB4,0)),DH6),\"●\"),\"●\"))","v":""},{"$f":"IF(ISERROR(MATCH(view!DI$3,data!$Y4:$AB4,0)),\"\",IFERROR(HYPERLINK(showDetails(INDEX(data!$S4:$V4,MATCH(view!DI$3,data!$Y4:$AB4,0)),DI6),\"●\"),\"●\"))","v":""},{"$f":"IF(ISERROR(MATCH(view!DJ$3,data!$Y4:$AB4,0)),\"\",IFERROR(HYPERLINK(showDetails(INDEX(data!$S4:$V4,MATCH(view!DJ$3,data!$Y4:$AB4,0)),DJ6),\"●\"),\"●\"))","v":""},{"$f":"IF(ISERROR(MATCH(view!DK$3,data!$Y4:$AB4,0)),\"\",IFERROR(HYPERLINK(showDetails(INDEX(data!$S4:$V4,MATCH(view!DK$3,data!$Y4:$AB4,0)),DK6),\"●\"),\"●\"))","v":""},{"$f":"IF(ISERROR(MATCH(view!DL$3,data!$Y4:$AB4,0)),\"\",IFERROR(HYPERLINK(showDetails(INDEX(data!$S4:$V4,MATCH(view!DL$3,data!$Y4:$AB4,0)),DL6),\"●\"),\"●\"))","v":""},{"$f":"IF(ISERROR(MATCH(view!DM$3,data!$Y4:$AB4,0)),\"\",IFERROR(HYPERLINK(showDetails(INDEX(data!$S4:$V4,MATCH(view!DM$3,data!$Y4:$AB4,0)),DM6),\"●\"),\"●\"))","v":""},{"$f":"IF(ISERROR(MATCH(view!DN$3,data!$Y4:$AB4,0)),\"\",IFERROR(HYPERLINK(showDetails(INDEX(data!$S4:$V4,MATCH(view!DN$3,data!$Y4:$AB4,0)),DN6),\"●\"),\"●\"))","v":""},{"$f":"IF(ISERROR(MATCH(view!DO$3,data!$Y4:$AB4,0)),\"\",IFERROR(HYPERLINK(showDetails(INDEX(data!$S4:$V4,MATCH(view!DO$3,data!$Y4:$AB4,0)),DO6),\"●\"),\"●\"))","v":""},{"$f":"IF(ISERROR(MATCH(view!DP$3,data!$Y4:$AB4,0)),\"\",IFERROR(HYPERLINK(showDetails(INDEX(data!$S4:$V4,MATCH(view!DP$3,data!$Y4:$AB4,0)),DP6),\"●\"),\"●\"))","v":"●"},{"$f":"IF(ISERROR(MATCH(view!DQ$3,data!$Y4:$AB4,0)),\"\",IFERROR(HYPERLINK(showDetails(INDEX(data!$S4:$V4,MATCH(view!DQ$3,data!$Y4:$AB4,0)),DQ6),\"●\"),\"●\"))","v":""},{"$f":"IF(ISERROR(MATCH(view!DR$3,data!$Y4:$AB4,0)),\"\",IFERROR(HYPERLINK(showDetails(INDEX(data!$S4:$V4,MATCH(view!DR$3,data!$Y4:$AB4,0)),DR6),\"●\"),\"●\"))","v":""},{"$f":"IF(ISERROR(MATCH(view!DS$3,data!$Y4:$AB4,0)),\"\",IFERROR(HYPERLINK(showDetails(INDEX(data!$S4:$V4,MATCH(view!DS$3,data!$Y4:$AB4,0)),DS6),\"●\"),\"●\"))","v":""},{"$f":"INDEX(lstYears,A6) &\" - \"&INDEX(data!$W$3:$W$30,A6)","v":"2008 - Beijing"}]
[3,null,{"$f":"IF(ISERROR(MATCH(view!C$3,data!$Y5:$AB5,0)),\"\",IFERROR(HYPERLINK(showDetails(INDEX(data!$S5:$V5,MATCH(view!C$3,data!$Y5:$AB5,0)),C7),\"●\"),\"●\"))","v":""},{"$f":"IF(ISERROR(MATCH(view!D$3,data!$Y5:$AB5,0)),\"\",IFERROR(HYPERLINK(showDetails(INDEX(data!$S5:$V5,MATCH(view!D$3,data!$Y5:$AB5,0)),D7),\"●\"),\"●\"))","v":""},{"$f":"IF(ISERROR(MATCH(view!E$3,data!$Y5:$AB5,0)),\"\",IFERROR(HYPERLINK(showDetails(INDEX(data!$S5:$V5,MATCH(view!E$3,data!$Y5:$AB5,0)),E7),\"●\"),\"●\"))","v":""},{"$f":"IF(ISERROR(MATCH(view!F$3,data!$Y5:$AB5,0)),\"\",IFERROR(HYPERLINK(showDetails(INDEX(data!$S5:$V5,MATCH(view!F$3,data!$Y5:$AB5,0)),F7),\"●\"),\"●\"))","v":""},{"$f":"IF(ISERROR(MATCH(view!G$3,data!$Y5:$AB5,0)),\"\",IFERROR(HYPERLINK(showDetails(INDEX(data!$S5:$V5,MATCH(view!G$3,data!$Y5:$AB5,0)),G7),\"●\"),\"●\"))","v":""},{"$f":"IF(ISERROR(MATCH(view!H$3,data!$Y5:$AB5,0)),\"\",IFERROR(HYPERLINK(showDetails(INDEX(data!$S5:$V5,MATCH(view!H$3,data!$Y5:$AB5,0)),H7),\"●\"),\"●\"))","v":""},{"$f":"IF(ISERROR(MATCH(view!I$3,data!$Y5:$AB5,0)),\"\",IFERROR(HYPERLINK(showDetails(INDEX(data!$S5:$V5,MATCH(view!I$3,data!$Y5:$AB5,0)),I7),\"●\"),\"●\"))","v":""},{"$f":"IF(ISERROR(MATCH(view!J$3,data!$Y5:$AB5,0)),\"\",IFERROR(HYPERLINK(showDetails(INDEX(data!$S5:$V5,MATCH(view!J$3,data!$Y5:$AB5,0)),J7),\"●\"),\"●\"))","v":""},{"$f":"IF(ISERROR(MATCH(view!K$3,data!$Y5:$AB5,0)),\"\",IFERROR(HYPERLINK(showDetails(INDEX(data!$S5:$V5,MATCH(view!K$3,data!$Y5:$AB5,0)),K7),\"●\"),\"●\"))","v":""},{"$f":"IF(ISERROR(MATCH(view!L$3,data!$Y5:$AB5,0)),\"\",IFERROR(HYPERLINK(showDetails(INDEX(data!$S5:$V5,MATCH(view!L$3,data!$Y5:$AB5,0)),L7),\"●\"),\"●\"))","v":""},{"$f":"IF(ISERROR(MATCH(view!M$3,data!$Y5:$AB5,0)),\"\",IFERROR(HYPERLINK(showDetails(INDEX(data!$S5:$V5,MATCH(view!M$3,data!$Y5:$AB5,0)),M7),\"●\"),\"●\"))","v":""},{"$f":"IF(ISERROR(MATCH(view!N$3,data!$Y5:$AB5,0)),\"\",IFERROR(HYPERLINK(showDetails(INDEX(data!$S5:$V5,MATCH(view!N$3,data!$Y5:$AB5,0)),N7),\"●\"),\"●\"))","v":""},{"$f":"IF(ISERROR(MATCH(view!O$3,data!$Y5:$AB5,0)),\"\",IFERROR(HYPERLINK(showDetails(INDEX(data!$S5:$V5,MATCH(view!O$3,data!$Y5:$AB5,0)),O7),\"●\"),\"●\"))","v":""},{"$f":"IF(ISERROR(MATCH(view!P$3,data!$Y5:$AB5,0)),\"\",IFERROR(HYPERLINK(showDetails(INDEX(data!$S5:$V5,MATCH(view!P$3,data!$Y5:$AB5,0)),P7),\"●\"),\"●\"))","v":""},{"$f":"IF(ISERROR(MATCH(view!Q$3,data!$Y5:$AB5,0)),\"\",IFERROR(HYPERLINK(showDetails(INDEX(data!$S5:$V5,MATCH(view!Q$3,data!$Y5:$AB5,0)),Q7),\"●\"),\"●\"))","v":""},{"$f":"IF(ISERROR(MATCH(view!R$3,data!$Y5:$AB5,0)),\"\",IFERROR(HYPERLINK(showDetails(INDEX(data!$S5:$V5,MATCH(view!R$3,data!$Y5:$AB5,0)),R7),\"●\"),\"●\"))","v":""},{"$f":"IF(ISERROR(MATCH(view!S$3,data!$Y5:$AB5,0)),\"\",IFERROR(HYPERLINK(showDetails(INDEX(data!$S5:$V5,MATCH(view!S$3,data!$Y5:$AB5,0)),S7),\"●\"),\"●\"))","v":""},{"$f":"IF(ISERROR(MATCH(view!T$3,data!$Y5:$AB5,0)),\"\",IFERROR(HYPERLINK(showDetails(INDEX(data!$S5:$V5,MATCH(view!T$3,data!$Y5:$AB5,0)),T7),\"●\"),\"●\"))","v":""},{"$f":"IF(ISERROR(MATCH(view!U$3,data!$Y5:$AB5,0)),\"\",IFERROR(HYPERLINK(showDetails(INDEX(data!$S5:$V5,MATCH(view!U$3,data!$Y5:$AB5,0)),U7),\"●\"),\"●\"))","v":""},{"$f":"IF(ISERROR(MATCH(view!V$3,data!$Y5:$AB5,0)),\"\",IFERROR(HYPERLINK(showDetails(INDEX(data!$S5:$V5,MATCH(view!V$3,data!$Y5:$AB5,0)),V7),\"●\"),\"●\"))","v":""},{"$f":"IF(ISERROR(MATCH(view!W$3,data!$Y5:$AB5,0)),\"\",IFERROR(HYPERLINK(showDetails(INDEX(data!$S5:$V5,MATCH(view!W$3,data!$Y5:$AB5,0)),W7),\"●\"),\"●\"))","v":""},{"$f":"IF(ISERROR(MATCH(view!X$3,data!$Y5:$AB5,0)),\"\",IFERROR(HYPERLINK(showDetails(INDEX(data!$S5:$V5,MATCH(view!X$3,data!$Y5:$AB5,0)),X7),\"●\"),\"●\"))","v":""},{"$f":"IF(ISERROR(MATCH(view!Y$3,data!$Y5:$AB5,0)),\"\",IFERROR(HYPERLINK(showDetails(INDEX(data!$S5:$V5,MATCH(view!Y$3,data!$Y5:$AB5,0)),Y7),\"●\"),\"●\"))","v":""},{"$f":"IF(ISERROR(MATCH(view!Z$3,data!$Y5:$AB5,0)),\"\",IFERROR(HYPERLINK(showDetails(INDEX(data!$S5:$V5,MATCH(view!Z$3,data!$Y5:$AB5,0)),Z7),\"●\"),\"●\"))","v":""},{"$f":"IF(ISERROR(MATCH(view!AA$3,data!$Y5:$AB5,0)),\"\",IFERROR(HYPERLINK(showDetails(INDEX(data!$S5:$V5,MATCH(view!AA$3,data!$Y5:$AB5,0)),AA7),\"●\"),\"●\"))","v":""},{"$f":"IF(ISERROR(MATCH(view!AB$3,data!$Y5:$AB5,0)),\"\",IFERROR(HYPERLINK(showDetails(INDEX(data!$S5:$V5,MATCH(view!AB$3,data!$Y5:$AB5,0)),AB7),\"●\"),\"●\"))","v":""},{"$f":"IF(ISERROR(MATCH(view!AC$3,data!$Y5:$AB5,0)),\"\",IFERROR(HYPERLINK(showDetails(INDEX(data!$S5:$V5,MATCH(view!AC$3,data!$Y5:$AB5,0)),AC7),\"●\"),\"●\"))","v":""},{"$f":"IF(ISERROR(MATCH(view!AD$3,data!$Y5:$AB5,0)),\"\",IFERROR(HYPERLINK(showDetails(INDEX(data!$S5:$V5,MATCH(view!AD$3,data!$Y5:$AB5,0)),AD7),\"●\"),\"●\"))","v":""},{"$f":"IF(ISERROR(MATCH(view!AE$3,data!$Y5:$AB5,0)),\"\",IFERROR(HYPERLINK(showDetails(INDEX(data!$S5:$V5,MATCH(view!AE$3,data!$Y5:$AB5,0)),AE7),\"●\"),\"●\"))","v":""},{"$f":"IF(ISERROR(MATCH(view!AF$3,data!$Y5:$AB5,0)),\"\",IFERROR(HYPERLINK(showDetails(INDEX(data!$S5:$V5,MATCH(view!AF$3,data!$Y5:$AB5,0)),AF7),\"●\"),\"●\"))","v":""},{"$f":"IF(ISERROR(MATCH(view!AG$3,data!$Y5:$AB5,0)),\"\",IFERROR(HYPERLINK(showDetails(INDEX(data!$S5:$V5,MATCH(view!AG$3,data!$Y5:$AB5,0)),AG7),\"●\"),\"●\"))","v":""},{"$f":"IF(ISERROR(MATCH(view!AH$3,data!$Y5:$AB5,0)),\"\",IFERROR(HYPERLINK(showDetails(INDEX(data!$S5:$V5,MATCH(view!AH$3,data!$Y5:$AB5,0)),AH7),\"●\"),\"●\"))","v":""},{"$f":"IF(ISERROR(MATCH(view!AI$3,data!$Y5:$AB5,0)),\"\",IFERROR(HYPERLINK(showDetails(INDEX(data!$S5:$V5,MATCH(view!AI$3,data!$Y5:$AB5,0)),AI7),\"●\"),\"●\"))","v":""},{"$f":"IF(ISERROR(MATCH(view!AJ$3,data!$Y5:$AB5,0)),\"\",IFERROR(HYPERLINK(showDetails(INDEX(data!$S5:$V5,MATCH(view!AJ$3,data!$Y5:$AB5,0)),AJ7),\"●\"),\"●\"))","v":""},{"$f":"IF(ISERROR(MATCH(view!AK$3,data!$Y5:$AB5,0)),\"\",IFERROR(HYPERLINK(showDetails(INDEX(data!$S5:$V5,MATCH(view!AK$3,data!$Y5:$AB5,0)),AK7),\"●\"),\"●\"))","v":""},{"$f":"IF(ISERROR(MATCH(view!AL$3,data!$Y5:$AB5,0)),\"\",IFERROR(HYPERLINK(showDetails(INDEX(data!$S5:$V5,MATCH(view!AL$3,data!$Y5:$AB5,0)),AL7),\"●\"),\"●\"))","v":""},{"$f":"IF(ISERROR(MATCH(view!AM$3,data!$Y5:$AB5,0)),\"\",IFERROR(HYPERLINK(showDetails(INDEX(data!$S5:$V5,MATCH(view!AM$3,data!$Y5:$AB5,0)),AM7),\"●\"),\"●\"))","v":""},{"$f":"IF(ISERROR(MATCH(view!AN$3,data!$Y5:$AB5,0)),\"\",IFERROR(HYPERLINK(showDetails(INDEX(data!$S5:$V5,MATCH(view!AN$3,data!$Y5:$AB5,0)),AN7),\"●\"),\"●\"))","v":""},{"$f":"IF(ISERROR(MATCH(view!AO$3,data!$Y5:$AB5,0)),\"\",IFERROR(HYPERLINK(showDetails(INDEX(data!$S5:$V5,MATCH(view!AO$3,data!$Y5:$AB5,0)),AO7),\"●\"),\"●\"))","v":""},{"$f":"IF(ISERROR(MATCH(view!AP$3,data!$Y5:$AB5,0)),\"\",IFERROR(HYPERLINK(showDetails(INDEX(data!$S5:$V5,MATCH(view!AP$3,data!$Y5:$AB5,0)),AP7),\"●\"),\"●\"))","v":""},{"$f":"IF(ISERROR(MATCH(view!AQ$3,data!$Y5:$AB5,0)),\"\",IFERROR(HYPERLINK(showDetails(INDEX(data!$S5:$V5,MATCH(view!AQ$3,data!$Y5:$AB5,0)),AQ7),\"●\"),\"●\"))","v":""},{"$f":"IF(ISERROR(MATCH(view!AR$3,data!$Y5:$AB5,0)),\"\",IFERROR(HYPERLINK(showDetails(INDEX(data!$S5:$V5,MATCH(view!AR$3,data!$Y5:$AB5,0)),AR7),\"●\"),\"●\"))","v":""},{"$f":"IF(ISERROR(MATCH(view!AS$3,data!$Y5:$AB5,0)),\"\",IFERROR(HYPERLINK(showDetails(INDEX(data!$S5:$V5,MATCH(view!AS$3,data!$Y5:$AB5,0)),AS7),\"●\"),\"●\"))","v":""},{"$f":"IF(ISERROR(MATCH(view!AT$3,data!$Y5:$AB5,0)),\"\",IFERROR(HYPERLINK(showDetails(INDEX(data!$S5:$V5,MATCH(view!AT$3,data!$Y5:$AB5,0)),AT7),\"●\"),\"●\"))","v":""},{"$f":"IF(ISERROR(MATCH(view!AU$3,data!$Y5:$AB5,0)),\"\",IFERROR(HYPERLINK(showDetails(INDEX(data!$S5:$V5,MATCH(view!AU$3,data!$Y5:$AB5,0)),AU7),\"●\"),\"●\"))","v":""},{"$f":"IF(ISERROR(MATCH(view!AV$3,data!$Y5:$AB5,0)),\"\",IFERROR(HYPERLINK(showDetails(INDEX(data!$S5:$V5,MATCH(view!AV$3,data!$Y5:$AB5,0)),AV7),\"●\"),\"●\"))","v":""},{"$f":"IF(ISERROR(MATCH(view!AW$3,data!$Y5:$AB5,0)),\"\",IFERROR(HYPERLINK(showDetails(INDEX(data!$S5:$V5,MATCH(view!AW$3,data!$Y5:$AB5,0)),AW7),\"●\"),\"●\"))","v":""},{"$f":"IF(ISERROR(MATCH(view!AX$3,data!$Y5:$AB5,0)),\"\",IFERROR(HYPERLINK(showDetails(INDEX(data!$S5:$V5,MATCH(view!AX$3,data!$Y5:$AB5,0)),AX7),\"●\"),\"●\"))","v":""},{"$f":"IF(ISERROR(MATCH(view!AY$3,data!$Y5:$AB5,0)),\"\",IFERROR(HYPERLINK(showDetails(INDEX(data!$S5:$V5,MATCH(view!AY$3,data!$Y5:$AB5,0)),AY7),\"●\"),\"●\"))","v":""},{"$f":"IF(ISERROR(MATCH(view!AZ$3,data!$Y5:$AB5,0)),\"\",IFERROR(HYPERLINK(showDetails(INDEX(data!$S5:$V5,MATCH(view!AZ$3,data!$Y5:$AB5,0)),AZ7),\"●\"),\"●\"))","v":""},{"$f":"IF(ISERROR(MATCH(view!BA$3,data!$Y5:$AB5,0)),\"\",IFERROR(HYPERLINK(showDetails(INDEX(data!$S5:$V5,MATCH(view!BA$3,data!$Y5:$AB5,0)),BA7),\"●\"),\"●\"))","v":""},{"$f":"IF(ISERROR(MATCH(view!BB$3,data!$Y5:$AB5,0)),\"\",IFERROR(HYPERLINK(showDetails(INDEX(data!$S5:$V5,MATCH(view!BB$3,data!$Y5:$AB5,0)),BB7),\"●\"),\"●\"))","v":""},{"$f":"IF(ISERROR(MATCH(view!BC$3,data!$Y5:$AB5,0)),\"\",IFERROR(HYPERLINK(showDetails(INDEX(data!$S5:$V5,MATCH(view!BC$3,data!$Y5:$AB5,0)),BC7),\"●\"),\"●\"))","v":""},{"$f":"IF(ISERROR(MATCH(view!BD$3,data!$Y5:$AB5,0)),\"\",IFERROR(HYPERLINK(showDetails(INDEX(data!$S5:$V5,MATCH(view!BD$3,data!$Y5:$AB5,0)),BD7),\"●\"),\"●\"))","v":""},{"$f":"IF(ISERROR(MATCH(view!BE$3,data!$Y5:$AB5,0)),\"\",IFERROR(HYPERLINK(showDetails(INDEX(data!$S5:$V5,MATCH(view!BE$3,data!$Y5:$AB5,0)),BE7),\"●\"),\"●\"))","v":""},{"$f":"IF(ISERROR(MATCH(view!BF$3,data!$Y5:$AB5,0)),\"\",IFERROR(HYPERLINK(showDetails(INDEX(data!$S5:$V5,MATCH(view!BF$3,data!$Y5:$AB5,0)),BF7),\"●\"),\"●\"))","v":""},{"$f":"IF(ISERROR(MATCH(view!BG$3,data!$Y5:$AB5,0)),\"\",IFERROR(HYPERLINK(showDetails(INDEX(data!$S5:$V5,MATCH(view!BG$3,data!$Y5:$AB5,0)),BG7),\"●\"),\"●\"))","v":""},{"$f":"IF(ISERROR(MATCH(view!BH$3,data!$Y5:$AB5,0)),\"\",IFERROR(HYPERLINK(showDetails(INDEX(data!$S5:$V5,MATCH(view!BH$3,data!$Y5:$AB5,0)),BH7),\"●\"),\"●\"))","v":""},{"$f":"IF(ISERROR(MATCH(view!BI$3,data!$Y5:$AB5,0)),\"\",IFERROR(HYPERLINK(showDetails(INDEX(data!$S5:$V5,MATCH(view!BI$3,data!$Y5:$AB5,0)),BI7),\"●\"),\"●\"))","v":""},{"$f":"IF(ISERROR(MATCH(view!BJ$3,data!$Y5:$AB5,0)),\"\",IFERROR(HYPERLINK(showDetails(INDEX(data!$S5:$V5,MATCH(view!BJ$3,data!$Y5:$AB5,0)),BJ7),\"●\"),\"●\"))","v":""},{"$f":"IF(ISERROR(MATCH(view!BK$3,data!$Y5:$AB5,0)),\"\",IFERROR(HYPERLINK(showDetails(INDEX(data!$S5:$V5,MATCH(view!BK$3,data!$Y5:$AB5,0)),BK7),\"●\"),\"●\"))","v":""},{"$f":"IF(ISERROR(MATCH(view!BL$3,data!$Y5:$AB5,0)),\"\",IFERROR(HYPERLINK(showDetails(INDEX(data!$S5:$V5,MATCH(view!BL$3,data!$Y5:$AB5,0)),BL7),\"●\"),\"●\"))","v":""},{"$f":"IF(ISERROR(MATCH(view!BM$3,data!$Y5:$AB5,0)),\"\",IFERROR(HYPERLINK(showDetails(INDEX(data!$S5:$V5,MATCH(view!BM$3,data!$Y5:$AB5,0)),BM7),\"●\"),\"●\"))","v":""},{"$f":"IF(ISERROR(MATCH(view!BN$3,data!$Y5:$AB5,0)),\"\",IFERROR(HYPERLINK(showDetails(INDEX(data!$S5:$V5,MATCH(view!BN$3,data!$Y5:$AB5,0)),BN7),\"●\"),\"●\"))","v":""},{"$f":"IF(ISERROR(MATCH(view!BO$3,data!$Y5:$AB5,0)),\"\",IFERROR(HYPERLINK(showDetails(INDEX(data!$S5:$V5,MATCH(view!BO$3,data!$Y5:$AB5,0)),BO7),\"●\"),\"●\"))","v":""},{"$f":"IF(ISERROR(MATCH(view!BP$3,data!$Y5:$AB5,0)),\"\",IFERROR(HYPERLINK(showDetails(INDEX(data!$S5:$V5,MATCH(view!BP$3,data!$Y5:$AB5,0)),BP7),\"●\"),\"●\"))","v":""},{"$f":"IF(ISERROR(MATCH(view!BQ$3,data!$Y5:$AB5,0)),\"\",IFERROR(HYPERLINK(showDetails(INDEX(data!$S5:$V5,MATCH(view!BQ$3,data!$Y5:$AB5,0)),BQ7),\"●\"),\"●\"))","v":""},{"$f":"IF(ISERROR(MATCH(view!BR$3,data!$Y5:$AB5,0)),\"\",IFERROR(HYPERLINK(showDetails(INDEX(data!$S5:$V5,MATCH(view!BR$3,data!$Y5:$AB5,0)),BR7),\"●\"),\"●\"))","v":""},{"$f":"IF(ISERROR(MATCH(view!BS$3,data!$Y5:$AB5,0)),\"\",IFERROR(HYPERLINK(showDetails(INDEX(data!$S5:$V5,MATCH(view!BS$3,data!$Y5:$AB5,0)),BS7),\"●\"),\"●\"))","v":""},{"$f":"IF(ISERROR(MATCH(view!BT$3,data!$Y5:$AB5,0)),\"\",IFERROR(HYPERLINK(showDetails(INDEX(data!$S5:$V5,MATCH(view!BT$3,data!$Y5:$AB5,0)),BT7),\"●\"),\"●\"))","v":""},{"$f":"IF(ISERROR(MATCH(view!BU$3,data!$Y5:$AB5,0)),\"\",IFERROR(HYPERLINK(showDetails(INDEX(data!$S5:$V5,MATCH(view!BU$3,data!$Y5:$AB5,0)),BU7),\"●\"),\"●\"))","v":""},{"$f":"IF(ISERROR(MATCH(view!BV$3,data!$Y5:$AB5,0)),\"\",IFERROR(HYPERLINK(showDetails(INDEX(data!$S5:$V5,MATCH(view!BV$3,data!$Y5:$AB5,0)),BV7),\"●\"),\"●\"))","v":""},{"$f":"IF(ISERROR(MATCH(view!BW$3,data!$Y5:$AB5,0)),\"\",IFERROR(HYPERLINK(showDetails(INDEX(data!$S5:$V5,MATCH(view!BW$3,data!$Y5:$AB5,0)),BW7),\"●\"),\"●\"))","v":""},{"$f":"IF(ISERROR(MATCH(view!BX$3,data!$Y5:$AB5,0)),\"\",IFERROR(HYPERLINK(showDetails(INDEX(data!$S5:$V5,MATCH(view!BX$3,data!$Y5:$AB5,0)),BX7),\"●\"),\"●\"))","v":""},{"$f":"IF(ISERROR(MATCH(view!BY$3,data!$Y5:$AB5,0)),\"\",IFERROR(HYPERLINK(showDetails(INDEX(data!$S5:$V5,MATCH(view!BY$3,data!$Y5:$AB5,0)),BY7),\"●\"),\"●\"))","v":""},{"$f":"IF(ISERROR(MATCH(view!BZ$3,data!$Y5:$AB5,0)),\"\",IFERROR(HYPERLINK(showDetails(INDEX(data!$S5:$V5,MATCH(view!BZ$3,data!$Y5:$AB5,0)),BZ7),\"●\"),\"●\"))","v":""},{"$f":"IF(ISERROR(MATCH(view!CA$3,data!$Y5:$AB5,0)),\"\",IFERROR(HYPERLINK(showDetails(INDEX(data!$S5:$V5,MATCH(view!CA$3,data!$Y5:$AB5,0)),CA7),\"●\"),\"●\"))","v":""},{"$f":"IF(ISERROR(MATCH(view!CB$3,data!$Y5:$AB5,0)),\"\",IFERROR(HYPERLINK(showDetails(INDEX(data!$S5:$V5,MATCH(view!CB$3,data!$Y5:$AB5,0)),CB7),\"●\"),\"●\"))","v":""},{"$f":"IF(ISERROR(MATCH(view!CC$3,data!$Y5:$AB5,0)),\"\",IFERROR(HYPERLINK(showDetails(INDEX(data!$S5:$V5,MATCH(view!CC$3,data!$Y5:$AB5,0)),CC7),\"●\"),\"●\"))","v":""},{"$f":"IF(ISERROR(MATCH(view!CD$3,data!$Y5:$AB5,0)),\"\",IFERROR(HYPERLINK(showDetails(INDEX(data!$S5:$V5,MATCH(view!CD$3,data!$Y5:$AB5,0)),CD7),\"●\"),\"●\"))","v":""},{"$f":"IF(ISERROR(MATCH(view!CE$3,data!$Y5:$AB5,0)),\"\",IFERROR(HYPERLINK(showDetails(INDEX(data!$S5:$V5,MATCH(view!CE$3,data!$Y5:$AB5,0)),CE7),\"●\"),\"●\"))","v":""},{"$f":"IF(ISERROR(MATCH(view!CF$3,data!$Y5:$AB5,0)),\"\",IFERROR(HYPERLINK(showDetails(INDEX(data!$S5:$V5,MATCH(view!CF$3,data!$Y5:$AB5,0)),CF7),\"●\"),\"●\"))","v":""},{"$f":"IF(ISERROR(MATCH(view!CG$3,data!$Y5:$AB5,0)),\"\",IFERROR(HYPERLINK(showDetails(INDEX(data!$S5:$V5,MATCH(view!CG$3,data!$Y5:$AB5,0)),CG7),\"●\"),\"●\"))","v":""},{"$f":"IF(ISERROR(MATCH(view!CH$3,data!$Y5:$AB5,0)),\"\",IFERROR(HYPERLINK(showDetails(INDEX(data!$S5:$V5,MATCH(view!CH$3,data!$Y5:$AB5,0)),CH7),\"●\"),\"●\"))","v":""},{"$f":"IF(ISERROR(MATCH(view!CI$3,data!$Y5:$AB5,0)),\"\",IFERROR(HYPERLINK(showDetails(INDEX(data!$S5:$V5,MATCH(view!CI$3,data!$Y5:$AB5,0)),CI7),\"●\"),\"●\"))","v":""},{"$f":"IF(ISERROR(MATCH(view!CJ$3,data!$Y5:$AB5,0)),\"\",IFERROR(HYPERLINK(showDetails(INDEX(data!$S5:$V5,MATCH(view!CJ$3,data!$Y5:$AB5,0)),CJ7),\"●\"),\"●\"))","v":""},{"$f":"IF(ISERROR(MATCH(view!CK$3,data!$Y5:$AB5,0)),\"\",IFERROR(HYPERLINK(showDetails(INDEX(data!$S5:$V5,MATCH(view!CK$3,data!$Y5:$AB5,0)),CK7),\"●\"),\"●\"))","v":""},{"$f":"IF(ISERROR(MATCH(view!CL$3,data!$Y5:$AB5,0)),\"\",IFERROR(HYPERLINK(showDetails(INDEX(data!$S5:$V5,MATCH(view!CL$3,data!$Y5:$AB5,0)),CL7),\"●\"),\"●\"))","v":""},{"$f":"IF(ISERROR(MATCH(view!CM$3,data!$Y5:$AB5,0)),\"\",IFERROR(HYPERLINK(showDetails(INDEX(data!$S5:$V5,MATCH(view!CM$3,data!$Y5:$AB5,0)),CM7),\"●\"),\"●\"))","v":""},{"$f":"IF(ISERROR(MATCH(view!CN$3,data!$Y5:$AB5,0)),\"\",IFERROR(HYPERLINK(showDetails(INDEX(data!$S5:$V5,MATCH(view!CN$3,data!$Y5:$AB5,0)),CN7),\"●\"),\"●\"))","v":""},{"$f":"IF(ISERROR(MATCH(view!CO$3,data!$Y5:$AB5,0)),\"\",IFERROR(HYPERLINK(showDetails(INDEX(data!$S5:$V5,MATCH(view!CO$3,data!$Y5:$AB5,0)),CO7),\"●\"),\"●\"))","v":""},{"$f":"IF(ISERROR(MATCH(view!CP$3,data!$Y5:$AB5,0)),\"\",IFERROR(HYPERLINK(showDetails(INDEX(data!$S5:$V5,MATCH(view!CP$3,data!$Y5:$AB5,0)),CP7),\"●\"),\"●\"))","v":""},{"$f":"IF(ISERROR(MATCH(view!CQ$3,data!$Y5:$AB5,0)),\"\",IFERROR(HYPERLINK(showDetails(INDEX(data!$S5:$V5,MATCH(view!CQ$3,data!$Y5:$AB5,0)),CQ7),\"●\"),\"●\"))","v":""},{"$f":"IF(ISERROR(MATCH(view!CR$3,data!$Y5:$AB5,0)),\"\",IFERROR(HYPERLINK(showDetails(INDEX(data!$S5:$V5,MATCH(view!CR$3,data!$Y5:$AB5,0)),CR7),\"●\"),\"●\"))","v":""},{"$f":"IF(ISERROR(MATCH(view!CS$3,data!$Y5:$AB5,0)),\"\",IFERROR(HYPERLINK(showDetails(INDEX(data!$S5:$V5,MATCH(view!CS$3,data!$Y5:$AB5,0)),CS7),\"●\"),\"●\"))","v":""},{"$f":"IF(ISERROR(MATCH(view!CT$3,data!$Y5:$AB5,0)),\"\",IFERROR(HYPERLINK(showDetails(INDEX(data!$S5:$V5,MATCH(view!CT$3,data!$Y5:$AB5,0)),CT7),\"●\"),\"●\"))","v":""},{"$f":"IF(ISERROR(MATCH(view!CU$3,data!$Y5:$AB5,0)),\"\",IFERROR(HYPERLINK(showDetails(INDEX(data!$S5:$V5,MATCH(view!CU$3,data!$Y5:$AB5,0)),CU7),\"●\"),\"●\"))","v":""},{"$f":"IF(ISERROR(MATCH(view!CV$3,data!$Y5:$AB5,0)),\"\",IFERROR(HYPERLINK(showDetails(INDEX(data!$S5:$V5,MATCH(view!CV$3,data!$Y5:$AB5,0)),CV7),\"●\"),\"●\"))","v":""},{"$f":"IF(ISERROR(MATCH(view!CW$3,data!$Y5:$AB5,0)),\"\",IFERROR(HYPERLINK(showDetails(INDEX(data!$S5:$V5,MATCH(view!CW$3,data!$Y5:$AB5,0)),CW7),\"●\"),\"●\"))","v":""},{"$f":"IF(ISERROR(MATCH(view!CX$3,data!$Y5:$AB5,0)),\"\",IFERROR(HYPERLINK(showDetails(INDEX(data!$S5:$V5,MATCH(view!CX$3,data!$Y5:$AB5,0)),CX7),\"●\"),\"●\"))","v":""},{"$f":"IF(ISERROR(MATCH(view!CY$3,data!$Y5:$AB5,0)),\"\",IFERROR(HYPERLINK(showDetails(INDEX(data!$S5:$V5,MATCH(view!CY$3,data!$Y5:$AB5,0)),CY7),\"●\"),\"●\"))","v":""},{"$f":"IF(ISERROR(MATCH(view!CZ$3,data!$Y5:$AB5,0)),\"\",IFERROR(HYPERLINK(showDetails(INDEX(data!$S5:$V5,MATCH(view!CZ$3,data!$Y5:$AB5,0)),CZ7),\"●\"),\"●\"))","v":""},{"$f":"IF(ISERROR(MATCH(view!DA$3,data!$Y5:$AB5,0)),\"\",IFERROR(HYPERLINK(showDetails(INDEX(data!$S5:$V5,MATCH(view!DA$3,data!$Y5:$AB5,0)),DA7),\"●\"),\"●\"))","v":""},{"$f":"IF(ISERROR(MATCH(view!DB$3,data!$Y5:$AB5,0)),\"\",IFERROR(HYPERLINK(showDetails(INDEX(data!$S5:$V5,MATCH(view!DB$3,data!$Y5:$AB5,0)),DB7),\"●\"),\"●\"))","v":""},{"$f":"IF(ISERROR(MATCH(view!DC$3,data!$Y5:$AB5,0)),\"\",IFERROR(HYPERLINK(showDetails(INDEX(data!$S5:$V5,MATCH(view!DC$3,data!$Y5:$AB5,0)),DC7),\"●\"),\"●\"))","v":""},{"$f":"IF(ISERROR(MATCH(view!DD$3,data!$Y5:$AB5,0)),\"\",IFERROR(HYPERLINK(showDetails(INDEX(data!$S5:$V5,MATCH(view!DD$3,data!$Y5:$AB5,0)),DD7),\"●\"),\"●\"))","v":""},{"$f":"IF(ISERROR(MATCH(view!DE$3,data!$Y5:$AB5,0)),\"\",IFERROR(HYPERLINK(showDetails(INDEX(data!$S5:$V5,MATCH(view!DE$3,data!$Y5:$AB5,0)),DE7),\"●\"),\"●\"))","v":""},{"$f":"IF(ISERROR(MATCH(view!DF$3,data!$Y5:$AB5,0)),\"\",IFERROR(HYPERLINK(showDetails(INDEX(data!$S5:$V5,MATCH(view!DF$3,data!$Y5:$AB5,0)),DF7),\"●\"),\"●\"))","v":""},{"$f":"IF(ISERROR(MATCH(view!DG$3,data!$Y5:$AB5,0)),\"\",IFERROR(HYPERLINK(showDetails(INDEX(data!$S5:$V5,MATCH(view!DG$3,data!$Y5:$AB5,0)),DG7),\"●\"),\"●\"))","v":"●"},{"$f":"IF(ISERROR(MATCH(view!DH$3,data!$Y5:$AB5,0)),\"\",IFERROR(HYPERLINK(showDetails(INDEX(data!$S5:$V5,MATCH(view!DH$3,data!$Y5:$AB5,0)),DH7),\"●\"),\"●\"))","v":"●"},{"$f":"IF(ISERROR(MATCH(view!DI$3,data!$Y5:$AB5,0)),\"\",IFERROR(HYPERLINK(showDetails(INDEX(data!$S5:$V5,MATCH(view!DI$3,data!$Y5:$AB5,0)),DI7),\"●\"),\"●\"))","v":""},{"$f":"IF(ISERROR(MATCH(view!DJ$3,data!$Y5:$AB5,0)),\"\",IFERROR(HYPERLINK(showDetails(INDEX(data!$S5:$V5,MATCH(view!DJ$3,data!$Y5:$AB5,0)),DJ7),\"●\"),\"●\"))","v":""},{"$f":"IF(ISERROR(MATCH(view!DK$3,data!$Y5:$AB5,0)),\"\",IFERROR(HYPERLINK(showDetails(INDEX(data!$S5:$V5,MATCH(view!DK$3,data!$Y5:$AB5,0)),DK7),\"●\"),\"●\"))","v":""},{"$f":"IF(ISERROR(MATCH(view!DL$3,data!$Y5:$AB5,0)),\"\",IFERROR(HYPERLINK(showDetails(INDEX(data!$S5:$V5,MATCH(view!DL$3,data!$Y5:$AB5,0)),DL7),\"●\"),\"●\"))","v":""},{"$f":"IF(ISERROR(MATCH(view!DM$3,data!$Y5:$AB5,0)),\"\",IFERROR(HYPERLINK(showDetails(INDEX(data!$S5:$V5,MATCH(view!DM$3,data!$Y5:$AB5,0)),DM7),\"●\"),\"●\"))","v":""},{"$f":"IF(ISERROR(MATCH(view!DN$3,data!$Y5:$AB5,0)),\"\",IFERROR(HYPERLINK(showDetails(INDEX(data!$S5:$V5,MATCH(view!DN$3,data!$Y5:$AB5,0)),DN7),\"●\"),\"●\"))","v":""},{"$f":"IF(ISERROR(MATCH(view!DO$3,data!$Y5:$AB5,0)),\"\",IFERROR(HYPERLINK(showDetails(INDEX(data!$S5:$V5,MATCH(view!DO$3,data!$Y5:$AB5,0)),DO7),\"●\"),\"●\"))","v":""},{"$f":"IF(ISERROR(MATCH(view!DP$3,data!$Y5:$AB5,0)),\"\",IFERROR(HYPERLINK(showDetails(INDEX(data!$S5:$V5,MATCH(view!DP$3,data!$Y5:$AB5,0)),DP7),\"●\"),\"●\"))","v":""},{"$f":"IF(ISERROR(MATCH(view!DQ$3,data!$Y5:$AB5,0)),\"\",IFERROR(HYPERLINK(showDetails(INDEX(data!$S5:$V5,MATCH(view!DQ$3,data!$Y5:$AB5,0)),DQ7),\"●\"),\"●\"))","v":""},{"$f":"IF(ISERROR(MATCH(view!DR$3,data!$Y5:$AB5,0)),\"\",IFERROR(HYPERLINK(showDetails(INDEX(data!$S5:$V5,MATCH(view!DR$3,data!$Y5:$AB5,0)),DR7),\"●\"),\"●\"))","v":""},{"$f":"IF(ISERROR(MATCH(view!DS$3,data!$Y5:$AB5,0)),\"\",IFERROR(HYPERLINK(showDetails(INDEX(data!$S5:$V5,MATCH(view!DS$3,data!$Y5:$AB5,0)),DS7),\"●\"),\"●\"))","v":""},{"$f":"INDEX(lstYears,A7) &\" - \"&INDEX(data!$W$3:$W$30,A7)","v":"2004 - Athens"}]
[4,null,{"$f":"IF(ISERROR(MATCH(view!C$3,data!$Y6:$AB6,0)),\"\",IFERROR(HYPERLINK(showDetails(INDEX(data!$S6:$V6,MATCH(view!C$3,data!$Y6:$AB6,0)),C8),\"●\"),\"●\"))","v":""},{"$f":"IF(ISERROR(MATCH(view!D$3,data!$Y6:$AB6,0)),\"\",IFERROR(HYPERLINK(showDetails(INDEX(data!$S6:$V6,MATCH(view!D$3,data!$Y6:$AB6,0)),D8),\"●\"),\"●\"))","v":""},{"$f":"IF(ISERROR(MATCH(view!E$3,data!$Y6:$AB6,0)),\"\",IFERROR(HYPERLINK(showDetails(INDEX(data!$S6:$V6,MATCH(view!E$3,data!$Y6:$AB6,0)),E8),\"●\"),\"●\"))","v":""},{"$f":"IF(ISERROR(MATCH(view!F$3,data!$Y6:$AB6,0)),\"\",IFERROR(HYPERLINK(showDetails(INDEX(data!$S6:$V6,MATCH(view!F$3,data!$Y6:$AB6,0)),F8),\"●\"),\"●\"))","v":""},{"$f":"IF(ISERROR(MATCH(view!G$3,data!$Y6:$AB6,0)),\"\",IFERROR(HYPERLINK(showDetails(INDEX(data!$S6:$V6,MATCH(view!G$3,data!$Y6:$AB6,0)),G8),\"●\"),\"●\"))","v":""},{"$f":"IF(ISERROR(MATCH(view!H$3,data!$Y6:$AB6,0)),\"\",IFERROR(HYPERLINK(showDetails(INDEX(data!$S6:$V6,MATCH(view!H$3,data!$Y6:$AB6,0)),H8),\"●\"),\"●\"))","v":""},{"$f":"IF(ISERROR(MATCH(view!I$3,data!$Y6:$AB6,0)),\"\",IFERROR(HYPERLINK(showDetails(INDEX(data!$S6:$V6,MATCH(view!I$3,data!$Y6:$AB6,0)),I8),\"●\"),\"●\"))","v":""},{"$f":"IF(ISERROR(MATCH(view!J$3,data!$Y6:$AB6,0)),\"\",IFERROR(HYPERLINK(showDetails(INDEX(data!$S6:$V6,MATCH(view!J$3,data!$Y6:$AB6,0)),J8),\"●\"),\"●\"))","v":""},{"$f":"IF(ISERROR(MATCH(view!K$3,data!$Y6:$AB6,0)),\"\",IFERROR(HYPERLINK(showDetails(INDEX(data!$S6:$V6,MATCH(view!K$3,data!$Y6:$AB6,0)),K8),\"●\"),\"●\"))","v":""},{"$f":"IF(ISERROR(MATCH(view!L$3,data!$Y6:$AB6,0)),\"\",IFERROR(HYPERLINK(showDetails(INDEX(data!$S6:$V6,MATCH(view!L$3,data!$Y6:$AB6,0)),L8),\"●\"),\"●\"))","v":""},{"$f":"IF(ISERROR(MATCH(view!M$3,data!$Y6:$AB6,0)),\"\",IFERROR(HYPERLINK(showDetails(INDEX(data!$S6:$V6,MATCH(view!M$3,data!$Y6:$AB6,0)),M8),\"●\"),\"●\"))","v":""},{"$f":"IF(ISERROR(MATCH(view!N$3,data!$Y6:$AB6,0)),\"\",IFERROR(HYPERLINK(showDetails(INDEX(data!$S6:$V6,MATCH(view!N$3,data!$Y6:$AB6,0)),N8),\"●\"),\"●\"))","v":""},{"$f":"IF(ISERROR(MATCH(view!O$3,data!$Y6:$AB6,0)),\"\",IFERROR(HYPERLINK(showDetails(INDEX(data!$S6:$V6,MATCH(view!O$3,data!$Y6:$AB6,0)),O8),\"●\"),\"●\"))","v":""},{"$f":"IF(ISERROR(MATCH(view!P$3,data!$Y6:$AB6,0)),\"\",IFERROR(HYPERLINK(showDetails(INDEX(data!$S6:$V6,MATCH(view!P$3,data!$Y6:$AB6,0)),P8),\"●\"),\"●\"))","v":""},{"$f":"IF(ISERROR(MATCH(view!Q$3,data!$Y6:$AB6,0)),\"\",IFERROR(HYPERLINK(showDetails(INDEX(data!$S6:$V6,MATCH(view!Q$3,data!$Y6:$AB6,0)),Q8),\"●\"),\"●\"))","v":""},{"$f":"IF(ISERROR(MATCH(view!R$3,data!$Y6:$AB6,0)),\"\",IFERROR(HYPERLINK(showDetails(INDEX(data!$S6:$V6,MATCH(view!R$3,data!$Y6:$AB6,0)),R8),\"●\"),\"●\"))","v":""},{"$f":"IF(ISERROR(MATCH(view!S$3,data!$Y6:$AB6,0)),\"\",IFERROR(HYPERLINK(showDetails(INDEX(data!$S6:$V6,MATCH(view!S$3,data!$Y6:$AB6,0)),S8),\"●\"),\"●\"))","v":""},{"$f":"IF(ISERROR(MATCH(view!T$3,data!$Y6:$AB6,0)),\"\",IFERROR(HYPERLINK(showDetails(INDEX(data!$S6:$V6,MATCH(view!T$3,data!$Y6:$AB6,0)),T8),\"●\"),\"●\"))","v":""},{"$f":"IF(ISERROR(MATCH(view!U$3,data!$Y6:$AB6,0)),\"\",IFERROR(HYPERLINK(showDetails(INDEX(data!$S6:$V6,MATCH(view!U$3,data!$Y6:$AB6,0)),U8),\"●\"),\"●\"))","v":""},{"$f":"IF(ISERROR(MATCH(view!V$3,data!$Y6:$AB6,0)),\"\",IFERROR(HYPERLINK(showDetails(INDEX(data!$S6:$V6,MATCH(view!V$3,data!$Y6:$AB6,0)),V8),\"●\"),\"●\"))","v":""},{"$f":"IF(ISERROR(MATCH(view!W$3,data!$Y6:$AB6,0)),\"\",IFERROR(HYPERLINK(showDetails(INDEX(data!$S6:$V6,MATCH(view!W$3,data!$Y6:$AB6,0)),W8),\"●\"),\"●\"))","v":""},{"$f":"IF(ISERROR(MATCH(view!X$3,data!$Y6:$AB6,0)),\"\",IFERROR(HYPERLINK(showDetails(INDEX(data!$S6:$V6,MATCH(view!X$3,data!$Y6:$AB6,0)),X8),\"●\"),\"●\"))","v":""},{"$f":"IF(ISERROR(MATCH(view!Y$3,data!$Y6:$AB6,0)),\"\",IFERROR(HYPERLINK(showDetails(INDEX(data!$S6:$V6,MATCH(view!Y$3,data!$Y6:$AB6,0)),Y8),\"●\"),\"●\"))","v":""},{"$f":"IF(ISERROR(MATCH(view!Z$3,data!$Y6:$AB6,0)),\"\",IFERROR(HYPERLINK(showDetails(INDEX(data!$S6:$V6,MATCH(view!Z$3,data!$Y6:$AB6,0)),Z8),\"●\"),\"●\"))","v":""},{"$f":"IF(ISERROR(MATCH(view!AA$3,data!$Y6:$AB6,0)),\"\",IFERROR(HYPERLINK(showDetails(INDEX(data!$S6:$V6,MATCH(view!AA$3,data!$Y6:$AB6,0)),AA8),\"●\"),\"●\"))","v":""},{"$f":"IF(ISERROR(MATCH(view!AB$3,data!$Y6:$AB6,0)),\"\",IFERROR(HYPERLINK(showDetails(INDEX(data!$S6:$V6,MATCH(view!AB$3,data!$Y6:$AB6,0)),AB8),\"●\"),\"●\"))","v":""},{"$f":"IF(ISERROR(MATCH(view!AC$3,data!$Y6:$AB6,0)),\"\",IFERROR(HYPERLINK(showDetails(INDEX(data!$S6:$V6,MATCH(view!AC$3,data!$Y6:$AB6,0)),AC8),\"●\"),\"●\"))","v":""},{"$f":"IF(ISERROR(MATCH(view!AD$3,data!$Y6:$AB6,0)),\"\",IFERROR(HYPERLINK(showDetails(INDEX(data!$S6:$V6,MATCH(view!AD$3,data!$Y6:$AB6,0)),AD8),\"●\"),\"●\"))","v":""},{"$f":"IF(ISERROR(MATCH(view!AE$3,data!$Y6:$AB6,0)),\"\",IFERROR(HYPERLINK(showDetails(INDEX(data!$S6:$V6,MATCH(view!AE$3,data!$Y6:$AB6,0)),AE8),\"●\"),\"●\"))","v":""},{"$f":"IF(ISERROR(MATCH(view!AF$3,data!$Y6:$AB6,0)),\"\",IFERROR(HYPERLINK(showDetails(INDEX(data!$S6:$V6,MATCH(view!AF$3,data!$Y6:$AB6,0)),AF8),\"●\"),\"●\"))","v":""},{"$f":"IF(ISERROR(MATCH(view!AG$3,data!$Y6:$AB6,0)),\"\",IFERROR(HYPERLINK(showDetails(INDEX(data!$S6:$V6,MATCH(view!AG$3,data!$Y6:$AB6,0)),AG8),\"●\"),\"●\"))","v":""},{"$f":"IF(ISERROR(MATCH(view!AH$3,data!$Y6:$AB6,0)),\"\",IFERROR(HYPERLINK(showDetails(INDEX(data!$S6:$V6,MATCH(view!AH$3,data!$Y6:$AB6,0)),AH8),\"●\"),\"●\"))","v":""},{"$f":"IF(ISERROR(MATCH(view!AI$3,data!$Y6:$AB6,0)),\"\",IFERROR(HYPERLINK(showDetails(INDEX(data!$S6:$V6,MATCH(view!AI$3,data!$Y6:$AB6,0)),AI8),\"●\"),\"●\"))","v":""},{"$f":"IF(ISERROR(MATCH(view!AJ$3,data!$Y6:$AB6,0)),\"\",IFERROR(HYPERLINK(showDetails(INDEX(data!$S6:$V6,MATCH(view!AJ$3,data!$Y6:$AB6,0)),AJ8),\"●\"),\"●\"))","v":""},{"$f":"IF(ISERROR(MATCH(view!AK$3,data!$Y6:$AB6,0)),\"\",IFERROR(HYPERLINK(showDetails(INDEX(data!$S6:$V6,MATCH(view!AK$3,data!$Y6:$AB6,0)),AK8),\"●\"),\"●\"))","v":""},{"$f":"IF(ISERROR(MATCH(view!AL$3,data!$Y6:$AB6,0)),\"\",IFERROR(HYPERLINK(showDetails(INDEX(data!$S6:$V6,MATCH(view!AL$3,data!$Y6:$AB6,0)),AL8),\"●\"),\"●\"))","v":""},{"$f":"IF(ISERROR(MATCH(view!AM$3,data!$Y6:$AB6,0)),\"\",IFERROR(HYPERLINK(showDetails(INDEX(data!$S6:$V6,MATCH(view!AM$3,data!$Y6:$AB6,0)),AM8),\"●\"),\"●\"))","v":""},{"$f":"IF(ISERROR(MATCH(view!AN$3,data!$Y6:$AB6,0)),\"\",IFERROR(HYPERLINK(showDetails(INDEX(data!$S6:$V6,MATCH(view!AN$3,data!$Y6:$AB6,0)),AN8),\"●\"),\"●\"))","v":""},{"$f":"IF(ISERROR(MATCH(view!AO$3,data!$Y6:$AB6,0)),\"\",IFERROR(HYPERLINK(showDetails(INDEX(data!$S6:$V6,MATCH(view!AO$3,data!$Y6:$AB6,0)),AO8),\"●\"),\"●\"))","v":""},{"$f":"IF(ISERROR(MATCH(view!AP$3,data!$Y6:$AB6,0)),\"\",IFERROR(HYPERLINK(showDetails(INDEX(data!$S6:$V6,MATCH(view!AP$3,data!$Y6:$AB6,0)),AP8),\"●\"),\"●\"))","v":""},{"$f":"IF(ISERROR(MATCH(view!AQ$3,data!$Y6:$AB6,0)),\"\",IFERROR(HYPERLINK(showDetails(INDEX(data!$S6:$V6,MATCH(view!AQ$3,data!$Y6:$AB6,0)),AQ8),\"●\"),\"●\"))","v":""},{"$f":"IF(ISERROR(MATCH(view!AR$3,data!$Y6:$AB6,0)),\"\",IFERROR(HYPERLINK(showDetails(INDEX(data!$S6:$V6,MATCH(view!AR$3,data!$Y6:$AB6,0)),AR8),\"●\"),\"●\"))","v":""},{"$f":"IF(ISERROR(MATCH(view!AS$3,data!$Y6:$AB6,0)),\"\",IFERROR(HYPERLINK(showDetails(INDEX(data!$S6:$V6,MATCH(view!AS$3,data!$Y6:$AB6,0)),AS8),\"●\"),\"●\"))","v":""},{"$f":"IF(ISERROR(MATCH(view!AT$3,data!$Y6:$AB6,0)),\"\",IFERROR(HYPERLINK(showDetails(INDEX(data!$S6:$V6,MATCH(view!AT$3,data!$Y6:$AB6,0)),AT8),\"●\"),\"●\"))","v":""},{"$f":"IF(ISERROR(MATCH(view!AU$3,data!$Y6:$AB6,0)),\"\",IFERROR(HYPERLINK(showDetails(INDEX(data!$S6:$V6,MATCH(view!AU$3,data!$Y6:$AB6,0)),AU8),\"●\"),\"●\"))","v":""},{"$f":"IF(ISERROR(MATCH(view!AV$3,data!$Y6:$AB6,0)),\"\",IFERROR(HYPERLINK(showDetails(INDEX(data!$S6:$V6,MATCH(view!AV$3,data!$Y6:$AB6,0)),AV8),\"●\"),\"●\"))","v":""},{"$f":"IF(ISERROR(MATCH(view!AW$3,data!$Y6:$AB6,0)),\"\",IFERROR(HYPERLINK(showDetails(INDEX(data!$S6:$V6,MATCH(view!AW$3,data!$Y6:$AB6,0)),AW8),\"●\"),\"●\"))","v":""},{"$f":"IF(ISERROR(MATCH(view!AX$3,data!$Y6:$AB6,0)),\"\",IFERROR(HYPERLINK(showDetails(INDEX(data!$S6:$V6,MATCH(view!AX$3,data!$Y6:$AB6,0)),AX8),\"●\"),\"●\"))","v":""},{"$f":"IF(ISERROR(MATCH(view!AY$3,data!$Y6:$AB6,0)),\"\",IFERROR(HYPERLINK(showDetails(INDEX(data!$S6:$V6,MATCH(view!AY$3,data!$Y6:$AB6,0)),AY8),\"●\"),\"●\"))","v":""},{"$f":"IF(ISERROR(MATCH(view!AZ$3,data!$Y6:$AB6,0)),\"\",IFERROR(HYPERLINK(showDetails(INDEX(data!$S6:$V6,MATCH(view!AZ$3,data!$Y6:$AB6,0)),AZ8),\"●\"),\"●\"))","v":""},{"$f":"IF(ISERROR(MATCH(view!BA$3,data!$Y6:$AB6,0)),\"\",IFERROR(HYPERLINK(showDetails(INDEX(data!$S6:$V6,MATCH(view!BA$3,data!$Y6:$AB6,0)),BA8),\"●\"),\"●\"))","v":""},{"$f":"IF(ISERROR(MATCH(view!BB$3,data!$Y6:$AB6,0)),\"\",IFERROR(HYPERLINK(showDetails(INDEX(data!$S6:$V6,MATCH(view!BB$3,data!$Y6:$AB6,0)),BB8),\"●\"),\"●\"))","v":""},{"$f":"IF(ISERROR(MATCH(view!BC$3,data!$Y6:$AB6,0)),\"\",IFERROR(HYPERLINK(showDetails(INDEX(data!$S6:$V6,MATCH(view!BC$3,data!$Y6:$AB6,0)),BC8),\"●\"),\"●\"))","v":""},{"$f":"IF(ISERROR(MATCH(view!BD$3,data!$Y6:$AB6,0)),\"\",IFERROR(HYPERLINK(showDetails(INDEX(data!$S6:$V6,MATCH(view!BD$3,data!$Y6:$AB6,0)),BD8),\"●\"),\"●\"))","v":""},{"$f":"IF(ISERROR(MATCH(view!BE$3,data!$Y6:$AB6,0)),\"\",IFERROR(HYPERLINK(showDetails(INDEX(data!$S6:$V6,MATCH(view!BE$3,data!$Y6:$AB6,0)),BE8),\"●\"),\"●\"))","v":""},{"$f":"IF(ISERROR(MATCH(view!BF$3,data!$Y6:$AB6,0)),\"\",IFERROR(HYPERLINK(showDetails(INDEX(data!$S6:$V6,MATCH(view!BF$3,data!$Y6:$AB6,0)),BF8),\"●\"),\"●\"))","v":""},{"$f":"IF(ISERROR(MATCH(view!BG$3,data!$Y6:$AB6,0)),\"\",IFERROR(HYPERLINK(showDetails(INDEX(data!$S6:$V6,MATCH(view!BG$3,data!$Y6:$AB6,0)),BG8),\"●\"),\"●\"))","v":""},{"$f":"IF(ISERROR(MATCH(view!BH$3,data!$Y6:$AB6,0)),\"\",IFERROR(HYPERLINK(showDetails(INDEX(data!$S6:$V6,MATCH(view!BH$3,data!$Y6:$AB6,0)),BH8),\"●\"),\"●\"))","v":""},{"$f":"IF(ISERROR(MATCH(view!BI$3,data!$Y6:$AB6,0)),\"\",IFERROR(HYPERLINK(showDetails(INDEX(data!$S6:$V6,MATCH(view!BI$3,data!$Y6:$AB6,0)),BI8),\"●\"),\"●\"))","v":""},{"$f":"IF(ISERROR(MATCH(view!BJ$3,data!$Y6:$AB6,0)),\"\",IFERROR(HYPERLINK(showDetails(INDEX(data!$S6:$V6,MATCH(view!BJ$3,data!$Y6:$AB6,0)),BJ8),\"●\"),\"●\"))","v":""},{"$f":"IF(ISERROR(MATCH(view!BK$3,data!$Y6:$AB6,0)),\"\",IFERROR(HYPERLINK(showDetails(INDEX(data!$S6:$V6,MATCH(view!BK$3,data!$Y6:$AB6,0)),BK8),\"●\"),\"●\"))","v":""},{"$f":"IF(ISERROR(MATCH(view!BL$3,data!$Y6:$AB6,0)),\"\",IFERROR(HYPERLINK(showDetails(INDEX(data!$S6:$V6,MATCH(view!BL$3,data!$Y6:$AB6,0)),BL8),\"●\"),\"●\"))","v":""},{"$f":"IF(ISERROR(MATCH(view!BM$3,data!$Y6:$AB6,0)),\"\",IFERROR(HYPERLINK(showDetails(INDEX(data!$S6:$V6,MATCH(view!BM$3,data!$Y6:$AB6,0)),BM8),\"●\"),\"●\"))","v":""},{"$f":"IF(ISERROR(MATCH(view!BN$3,data!$Y6:$AB6,0)),\"\",IFERROR(HYPERLINK(showDetails(INDEX(data!$S6:$V6,MATCH(view!BN$3,data!$Y6:$AB6,0)),BN8),\"●\"),\"●\"))","v":""},{"$f":"IF(ISERROR(MATCH(view!BO$3,data!$Y6:$AB6,0)),\"\",IFERROR(HYPERLINK(showDetails(INDEX(data!$S6:$V6,MATCH(view!BO$3,data!$Y6:$AB6,0)),BO8),\"●\"),\"●\"))","v":""},{"$f":"IF(ISERROR(MATCH(view!BP$3,data!$Y6:$AB6,0)),\"\",IFERROR(HYPERLINK(showDetails(INDEX(data!$S6:$V6,MATCH(view!BP$3,data!$Y6:$AB6,0)),BP8),\"●\"),\"●\"))","v":""},{"$f":"IF(ISERROR(MATCH(view!BQ$3,data!$Y6:$AB6,0)),\"\",IFERROR(HYPERLINK(showDetails(INDEX(data!$S6:$V6,MATCH(view!BQ$3,data!$Y6:$AB6,0)),BQ8),\"●\"),\"●\"))","v":""},{"$f":"IF(ISERROR(MATCH(view!BR$3,data!$Y6:$AB6,0)),\"\",IFERROR(HYPERLINK(showDetails(INDEX(data!$S6:$V6,MATCH(view!BR$3,data!$Y6:$AB6,0)),BR8),\"●\"),\"●\"))","v":""},{"$f":"IF(ISERROR(MATCH(view!BS$3,data!$Y6:$AB6,0)),\"\",IFERROR(HYPERLINK(showDetails(INDEX(data!$S6:$V6,MATCH(view!BS$3,data!$Y6:$AB6,0)),BS8),\"●\"),\"●\"))","v":""},{"$f":"IF(ISERROR(MATCH(view!BT$3,data!$Y6:$AB6,0)),\"\",IFERROR(HYPERLINK(showDetails(INDEX(data!$S6:$V6,MATCH(view!BT$3,data!$Y6:$AB6,0)),BT8),\"●\"),\"●\"))","v":""},{"$f":"IF(ISERROR(MATCH(view!BU$3,data!$Y6:$AB6,0)),\"\",IFERROR(HYPERLINK(showDetails(INDEX(data!$S6:$V6,MATCH(view!BU$3,data!$Y6:$AB6,0)),BU8),\"●\"),\"●\"))","v":""},{"$f":"IF(ISERROR(MATCH(view!BV$3,data!$Y6:$AB6,0)),\"\",IFERROR(HYPERLINK(showDetails(INDEX(data!$S6:$V6,MATCH(view!BV$3,data!$Y6:$AB6,0)),BV8),\"●\"),\"●\"))","v":""},{"$f":"IF(ISERROR(MATCH(view!BW$3,data!$Y6:$AB6,0)),\"\",IFERROR(HYPERLINK(showDetails(INDEX(data!$S6:$V6,MATCH(view!BW$3,data!$Y6:$AB6,0)),BW8),\"●\"),\"●\"))","v":""},{"$f":"IF(ISERROR(MATCH(view!BX$3,data!$Y6:$AB6,0)),\"\",IFERROR(HYPERLINK(showDetails(INDEX(data!$S6:$V6,MATCH(view!BX$3,data!$Y6:$AB6,0)),BX8),\"●\"),\"●\"))","v":""},{"$f":"IF(ISERROR(MATCH(view!BY$3,data!$Y6:$AB6,0)),\"\",IFERROR(HYPERLINK(showDetails(INDEX(data!$S6:$V6,MATCH(view!BY$3,data!$Y6:$AB6,0)),BY8),\"●\"),\"●\"))","v":""},{"$f":"IF(ISERROR(MATCH(view!BZ$3,data!$Y6:$AB6,0)),\"\",IFERROR(HYPERLINK(showDetails(INDEX(data!$S6:$V6,MATCH(view!BZ$3,data!$Y6:$AB6,0)),BZ8),\"●\"),\"●\"))","v":""},{"$f":"IF(ISERROR(MATCH(view!CA$3,data!$Y6:$AB6,0)),\"\",IFERROR(HYPERLINK(showDetails(INDEX(data!$S6:$V6,MATCH(view!CA$3,data!$Y6:$AB6,0)),CA8),\"●\"),\"●\"))","v":""},{"$f":"IF(ISERROR(MATCH(view!CB$3,data!$Y6:$AB6,0)),\"\",IFERROR(HYPERLINK(showDetails(INDEX(data!$S6:$V6,MATCH(view!CB$3,data!$Y6:$AB6,0)),CB8),\"●\"),\"●\"))","v":""},{"$f":"IF(ISERROR(MATCH(view!CC$3,data!$Y6:$AB6,0)),\"\",IFERROR(HYPERLINK(showDetails(INDEX(data!$S6:$V6,MATCH(view!CC$3,data!$Y6:$AB6,0)),CC8),\"●\"),\"●\"))","v":""},{"$f":"IF(ISERROR(MATCH(view!CD$3,data!$Y6:$AB6,0)),\"\",IFERROR(HYPERLINK(showDetails(INDEX(data!$S6:$V6,MATCH(view!CD$3,data!$Y6:$AB6,0)),CD8),\"●\"),\"●\"))","v":""},{"$f":"IF(ISERROR(MATCH(view!CE$3,data!$Y6:$AB6,0)),\"\",IFERROR(HYPERLINK(showDetails(INDEX(data!$S6:$V6,MATCH(view!CE$3,data!$Y6:$AB6,0)),CE8),\"●\"),\"●\"))","v":""},{"$f":"IF(ISERROR(MATCH(view!CF$3,data!$Y6:$AB6,0)),\"\",IFERROR(HYPERLINK(showDetails(INDEX(data!$S6:$V6,MATCH(view!CF$3,data!$Y6:$AB6,0)),CF8),\"●\"),\"●\"))","v":""},{"$f":"IF(ISERROR(MATCH(view!CG$3,data!$Y6:$AB6,0)),\"\",IFERROR(HYPERLINK(showDetails(INDEX(data!$S6:$V6,MATCH(view!CG$3,data!$Y6:$AB6,0)),CG8),\"●\"),\"●\"))","v":""},{"$f":"IF(ISERROR(MATCH(view!CH$3,data!$Y6:$AB6,0)),\"\",IFERROR(HYPERLINK(showDetails(INDEX(data!$S6:$V6,MATCH(view!CH$3,data!$Y6:$AB6,0)),CH8),\"●\"),\"●\"))","v":""},{"$f":"IF(ISERROR(MATCH(view!CI$3,data!$Y6:$AB6,0)),\"\",IFERROR(HYPERLINK(showDetails(INDEX(data!$S6:$V6,MATCH(view!CI$3,data!$Y6:$AB6,0)),CI8),\"●\"),\"●\"))","v":""},{"$f":"IF(ISERROR(MATCH(view!CJ$3,data!$Y6:$AB6,0)),\"\",IFERROR(HYPERLINK(showDetails(INDEX(data!$S6:$V6,MATCH(view!CJ$3,data!$Y6:$AB6,0)),CJ8),\"●\"),\"●\"))","v":""},{"$f":"IF(ISERROR(MATCH(view!CK$3,data!$Y6:$AB6,0)),\"\",IFERROR(HYPERLINK(showDetails(INDEX(data!$S6:$V6,MATCH(view!CK$3,data!$Y6:$AB6,0)),CK8),\"●\"),\"●\"))","v":""},{"$f":"IF(ISERROR(MATCH(view!CL$3,data!$Y6:$AB6,0)),\"\",IFERROR(HYPERLINK(showDetails(INDEX(data!$S6:$V6,MATCH(view!CL$3,data!$Y6:$AB6,0)),CL8),\"●\"),\"●\"))","v":""},{"$f":"IF(ISERROR(MATCH(view!CM$3,data!$Y6:$AB6,0)),\"\",IFERROR(HYPERLINK(showDetails(INDEX(data!$S6:$V6,MATCH(view!CM$3,data!$Y6:$AB6,0)),CM8),\"●\"),\"●\"))","v":""},{"$f":"IF(ISERROR(MATCH(view!CN$3,data!$Y6:$AB6,0)),\"\",IFERROR(HYPERLINK(showDetails(INDEX(data!$S6:$V6,MATCH(view!CN$3,data!$Y6:$AB6,0)),CN8),\"●\"),\"●\"))","v":""},{"$f":"IF(ISERROR(MATCH(view!CO$3,data!$Y6:$AB6,0)),\"\",IFERROR(HYPERLINK(showDetails(INDEX(data!$S6:$V6,MATCH(view!CO$3,data!$Y6:$AB6,0)),CO8),\"●\"),\"●\"))","v":""},{"$f":"IF(ISERROR(MATCH(view!CP$3,data!$Y6:$AB6,0)),\"\",IFERROR(HYPERLINK(showDetails(INDEX(data!$S6:$V6,MATCH(view!CP$3,data!$Y6:$AB6,0)),CP8),\"●\"),\"●\"))","v":""},{"$f":"IF(ISERROR(MATCH(view!CQ$3,data!$Y6:$AB6,0)),\"\",IFERROR(HYPERLINK(showDetails(INDEX(data!$S6:$V6,MATCH(view!CQ$3,data!$Y6:$AB6,0)),CQ8),\"●\"),\"●\"))","v":""},{"$f":"IF(ISERROR(MATCH(view!CR$3,data!$Y6:$AB6,0)),\"\",IFERROR(HYPERLINK(showDetails(INDEX(data!$S6:$V6,MATCH(view!CR$3,data!$Y6:$AB6,0)),CR8),\"●\"),\"●\"))","v":""},{"$f":"IF(ISERROR(MATCH(view!CS$3,data!$Y6:$AB6,0)),\"\",IFERROR(HYPERLINK(showDetails(INDEX(data!$S6:$V6,MATCH(view!CS$3,data!$Y6:$AB6,0)),CS8),\"●\"),\"●\"))","v":""},{"$f":"IF(ISERROR(MATCH(view!CT$3,data!$Y6:$AB6,0)),\"\",IFERROR(HYPERLINK(showDetails(INDEX(data!$S6:$V6,MATCH(view!CT$3,data!$Y6:$AB6,0)),CT8),\"●\"),\"●\"))","v":""},{"$f":"IF(ISERROR(MATCH(view!CU$3,data!$Y6:$AB6,0)),\"\",IFERROR(HYPERLINK(showDetails(INDEX(data!$S6:$V6,MATCH(view!CU$3,data!$Y6:$AB6,0)),CU8),\"●\"),\"●\"))","v":""},{"$f":"IF(ISERROR(MATCH(view!CV$3,data!$Y6:$AB6,0)),\"\",IFERROR(HYPERLINK(showDetails(INDEX(data!$S6:$V6,MATCH(view!CV$3,data!$Y6:$AB6,0)),CV8),\"●\"),\"●\"))","v":""},{"$f":"IF(ISERROR(MATCH(view!CW$3,data!$Y6:$AB6,0)),\"\",IFERROR(HYPERLINK(showDetails(INDEX(data!$S6:$V6,MATCH(view!CW$3,data!$Y6:$AB6,0)),CW8),\"●\"),\"●\"))","v":""},{"$f":"IF(ISERROR(MATCH(view!CX$3,data!$Y6:$AB6,0)),\"\",IFERROR(HYPERLINK(showDetails(INDEX(data!$S6:$V6,MATCH(view!CX$3,data!$Y6:$AB6,0)),CX8),\"●\"),\"●\"))","v":"●"},{"$f":"IF(ISERROR(MATCH(view!CY$3,data!$Y6:$AB6,0)),\"\",IFERROR(HYPERLINK(showDetails(INDEX(data!$S6:$V6,MATCH(view!CY$3,data!$Y6:$AB6,0)),CY8),\"●\"),\"●\"))","v":""},{"$f":"IF(ISERROR(MATCH(view!CZ$3,data!$Y6:$AB6,0)),\"\",IFERROR(HYPERLINK(showDetails(INDEX(data!$S6:$V6,MATCH(view!CZ$3,data!$Y6:$AB6,0)),CZ8),\"●\"),\"●\"))","v":""},{"$f":"IF(ISERROR(MATCH(view!DA$3,data!$Y6:$AB6,0)),\"\",IFERROR(HYPERLINK(showDetails(INDEX(data!$S6:$V6,MATCH(view!DA$3,data!$Y6:$AB6,0)),DA8),\"●\"),\"●\"))","v":"●"},{"$f":"IF(ISERROR(MATCH(view!DB$3,data!$Y6:$AB6,0)),\"\",IFERROR(HYPERLINK(showDetails(INDEX(data!$S6:$V6,MATCH(view!DB$3,data!$Y6:$AB6,0)),DB8),\"●\"),\"●\"))","v":""},{"$f":"IF(ISERROR(MATCH(view!DC$3,data!$Y6:$AB6,0)),\"\",IFERROR(HYPERLINK(showDetails(INDEX(data!$S6:$V6,MATCH(view!DC$3,data!$Y6:$AB6,0)),DC8),\"●\"),\"●\"))","v":""},{"$f":"IF(ISERROR(MATCH(view!DD$3,data!$Y6:$AB6,0)),\"\",IFERROR(HYPERLINK(showDetails(INDEX(data!$S6:$V6,MATCH(view!DD$3,data!$Y6:$AB6,0)),DD8),\"●\"),\"●\"))","v":""},{"$f":"IF(ISERROR(MATCH(view!DE$3,data!$Y6:$AB6,0)),\"\",IFERROR(HYPERLINK(showDetails(INDEX(data!$S6:$V6,MATCH(view!DE$3,data!$Y6:$AB6,0)),DE8),\"●\"),\"●\"))","v":""},{"$f":"IF(ISERROR(MATCH(view!DF$3,data!$Y6:$AB6,0)),\"\",IFERROR(HYPERLINK(showDetails(INDEX(data!$S6:$V6,MATCH(view!DF$3,data!$Y6:$AB6,0)),DF8),\"●\"),\"●\"))","v":""},{"$f":"IF(ISERROR(MATCH(view!DG$3,data!$Y6:$AB6,0)),\"\",IFERROR(HYPERLINK(showDetails(INDEX(data!$S6:$V6,MATCH(view!DG$3,data!$Y6:$AB6,0)),DG8),\"●\"),\"●\"))","v":"●"},{"$f":"IF(ISERROR(MATCH(view!DH$3,data!$Y6:$AB6,0)),\"\",IFERROR(HYPERLINK(showDetails(INDEX(data!$S6:$V6,MATCH(view!DH$3,data!$Y6:$AB6,0)),DH8),\"●\"),\"●\"))","v":""},{"$f":"IF(ISERROR(MATCH(view!DI$3,data!$Y6:$AB6,0)),\"\",IFERROR(HYPERLINK(showDetails(INDEX(data!$S6:$V6,MATCH(view!DI$3,data!$Y6:$AB6,0)),DI8),\"●\"),\"●\"))","v":""},{"$f":"IF(ISERROR(MATCH(view!DJ$3,data!$Y6:$AB6,0)),\"\",IFERROR(HYPERLINK(showDetails(INDEX(data!$S6:$V6,MATCH(view!DJ$3,data!$Y6:$AB6,0)),DJ8),\"●\"),\"●\"))","v":""},{"$f":"IF(ISERROR(MATCH(view!DK$3,data!$Y6:$AB6,0)),\"\",IFERROR(HYPERLINK(showDetails(INDEX(data!$S6:$V6,MATCH(view!DK$3,data!$Y6:$AB6,0)),DK8),\"●\"),\"●\"))","v":""},{"$f":"IF(ISERROR(MATCH(view!DL$3,data!$Y6:$AB6,0)),\"\",IFERROR(HYPERLINK(showDetails(INDEX(data!$S6:$V6,MATCH(view!DL$3,data!$Y6:$AB6,0)),DL8),\"●\"),\"●\"))","v":""},{"$f":"IF(ISERROR(MATCH(view!DM$3,data!$Y6:$AB6,0)),\"\",IFERROR(HYPERLINK(showDetails(INDEX(data!$S6:$V6,MATCH(view!DM$3,data!$Y6:$AB6,0)),DM8),\"●\"),\"●\"))","v":""},{"$f":"IF(ISERROR(MATCH(view!DN$3,data!$Y6:$AB6,0)),\"\",IFERROR(HYPERLINK(showDetails(INDEX(data!$S6:$V6,MATCH(view!DN$3,data!$Y6:$AB6,0)),DN8),\"●\"),\"●\"))","v":""},{"$f":"IF(ISERROR(MATCH(view!DO$3,data!$Y6:$AB6,0)),\"\",IFERROR(HYPERLINK(showDetails(INDEX(data!$S6:$V6,MATCH(view!DO$3,data!$Y6:$AB6,0)),DO8),\"●\"),\"●\"))","v":""},{"$f":"IF(ISERROR(MATCH(view!DP$3,data!$Y6:$AB6,0)),\"\",IFERROR(HYPERLINK(showDetails(INDEX(data!$S6:$V6,MATCH(view!DP$3,data!$Y6:$AB6,0)),DP8),\"●\"),\"●\"))","v":""},{"$f":"IF(ISERROR(MATCH(view!DQ$3,data!$Y6:$AB6,0)),\"\",IFERROR(HYPERLINK(showDetails(INDEX(data!$S6:$V6,MATCH(view!DQ$3,data!$Y6:$AB6,0)),DQ8),\"●\"),\"●\"))","v":""},{"$f":"IF(ISERROR(MATCH(view!DR$3,data!$Y6:$AB6,0)),\"\",IFERROR(HYPERLINK(showDetails(INDEX(data!$S6:$V6,MATCH(view!DR$3,data!$Y6:$AB6,0)),DR8),\"●\"),\"●\"))","v":""},{"$f":"IF(ISERROR(MATCH(view!DS$3,data!$Y6:$AB6,0)),\"\",IFERROR(HYPERLINK(showDetails(INDEX(data!$S6:$V6,MATCH(view!DS$3,data!$Y6:$AB6,0)),DS8),\"●\"),\"●\"))","v":""},{"$f":"INDEX(lstYears,A8) &\" - \"&INDEX(data!$W$3:$W$30,A8)","v":"2000 - Sydney"}]
[5,null,{"$f":"IF(ISERROR(MATCH(view!C$3,data!$Y7:$AB7,0)),\"\",IFERROR(HYPERLINK(showDetails(INDEX(data!$S7:$V7,MATCH(view!C$3,data!$Y7:$AB7,0)),C9),\"●\"),\"●\"))","v":""},{"$f":"IF(ISERROR(MATCH(view!D$3,data!$Y7:$AB7,0)),\"\",IFERROR(HYPERLINK(showDetails(INDEX(data!$S7:$V7,MATCH(view!D$3,data!$Y7:$AB7,0)),D9),\"●\"),\"●\"))","v":""},{"$f":"IF(ISERROR(MATCH(view!E$3,data!$Y7:$AB7,0)),\"\",IFERROR(HYPERLINK(showDetails(INDEX(data!$S7:$V7,MATCH(view!E$3,data!$Y7:$AB7,0)),E9),\"●\"),\"●\"))","v":""},{"$f":"IF(ISERROR(MATCH(view!F$3,data!$Y7:$AB7,0)),\"\",IFERROR(HYPERLINK(showDetails(INDEX(data!$S7:$V7,MATCH(view!F$3,data!$Y7:$AB7,0)),F9),\"●\"),\"●\"))","v":""},{"$f":"IF(ISERROR(MATCH(view!G$3,data!$Y7:$AB7,0)),\"\",IFERROR(HYPERLINK(showDetails(INDEX(data!$S7:$V7,MATCH(view!G$3,data!$Y7:$AB7,0)),G9),\"●\"),\"●\"))","v":""},{"$f":"IF(ISERROR(MATCH(view!H$3,data!$Y7:$AB7,0)),\"\",IFERROR(HYPERLINK(showDetails(INDEX(data!$S7:$V7,MATCH(view!H$3,data!$Y7:$AB7,0)),H9),\"●\"),\"●\"))","v":""},{"$f":"IF(ISERROR(MATCH(view!I$3,data!$Y7:$AB7,0)),\"\",IFERROR(HYPERLINK(showDetails(INDEX(data!$S7:$V7,MATCH(view!I$3,data!$Y7:$AB7,0)),I9),\"●\"),\"●\"))","v":""},{"$f":"IF(ISERROR(MATCH(view!J$3,data!$Y7:$AB7,0)),\"\",IFERROR(HYPERLINK(showDetails(INDEX(data!$S7:$V7,MATCH(view!J$3,data!$Y7:$AB7,0)),J9),\"●\"),\"●\"))","v":""},{"$f":"IF(ISERROR(MATCH(view!K$3,data!$Y7:$AB7,0)),\"\",IFERROR(HYPERLINK(showDetails(INDEX(data!$S7:$V7,MATCH(view!K$3,data!$Y7:$AB7,0)),K9),\"●\"),\"●\"))","v":""},{"$f":"IF(ISERROR(MATCH(view!L$3,data!$Y7:$AB7,0)),\"\",IFERROR(HYPERLINK(showDetails(INDEX(data!$S7:$V7,MATCH(view!L$3,data!$Y7:$AB7,0)),L9),\"●\"),\"●\"))","v":""},{"$f":"IF(ISERROR(MATCH(view!M$3,data!$Y7:$AB7,0)),\"\",IFERROR(HYPERLINK(showDetails(INDEX(data!$S7:$V7,MATCH(view!M$3,data!$Y7:$AB7,0)),M9),\"●\"),\"●\"))","v":""},{"$f":"IF(ISERROR(MATCH(view!N$3,data!$Y7:$AB7,0)),\"\",IFERROR(HYPERLINK(showDetails(INDEX(data!$S7:$V7,MATCH(view!N$3,data!$Y7:$AB7,0)),N9),\"●\"),\"●\"))","v":""},{"$f":"IF(ISERROR(MATCH(view!O$3,data!$Y7:$AB7,0)),\"\",IFERROR(HYPERLINK(showDetails(INDEX(data!$S7:$V7,MATCH(view!O$3,data!$Y7:$AB7,0)),O9),\"●\"),\"●\"))","v":""},{"$f":"IF(ISERROR(MATCH(view!P$3,data!$Y7:$AB7,0)),\"\",IFERROR(HYPERLINK(showDetails(INDEX(data!$S7:$V7,MATCH(view!P$3,data!$Y7:$AB7,0)),P9),\"●\"),\"●\"))","v":""},{"$f":"IF(ISERROR(MATCH(view!Q$3,data!$Y7:$AB7,0)),\"\",IFERROR(HYPERLINK(showDetails(INDEX(data!$S7:$V7,MATCH(view!Q$3,data!$Y7:$AB7,0)),Q9),\"●\"),\"●\"))","v":""},{"$f":"IF(ISERROR(MATCH(view!R$3,data!$Y7:$AB7,0)),\"\",IFERROR(HYPERLINK(showDetails(INDEX(data!$S7:$V7,MATCH(view!R$3,data!$Y7:$AB7,0)),R9),\"●\"),\"●\"))","v":""},{"$f":"IF(ISERROR(MATCH(view!S$3,data!$Y7:$AB7,0)),\"\",IFERROR(HYPERLINK(showDetails(INDEX(data!$S7:$V7,MATCH(view!S$3,data!$Y7:$AB7,0)),S9),\"●\"),\"●\"))","v":""},{"$f":"IF(ISERROR(MATCH(view!T$3,data!$Y7:$AB7,0)),\"\",IFERROR(HYPERLINK(showDetails(INDEX(data!$S7:$V7,MATCH(view!T$3,data!$Y7:$AB7,0)),T9),\"●\"),\"●\"))","v":""},{"$f":"IF(ISERROR(MATCH(view!U$3,data!$Y7:$AB7,0)),\"\",IFERROR(HYPERLINK(showDetails(INDEX(data!$S7:$V7,MATCH(view!U$3,data!$Y7:$AB7,0)),U9),\"●\"),\"●\"))","v":""},{"$f":"IF(ISERROR(MATCH(view!V$3,data!$Y7:$AB7,0)),\"\",IFERROR(HYPERLINK(showDetails(INDEX(data!$S7:$V7,MATCH(view!V$3,data!$Y7:$AB7,0)),V9),\"●\"),\"●\"))","v":""},{"$f":"IF(ISERROR(MATCH(view!W$3,data!$Y7:$AB7,0)),\"\",IFERROR(HYPERLINK(showDetails(INDEX(data!$S7:$V7,MATCH(view!W$3,data!$Y7:$AB7,0)),W9),\"●\"),\"●\"))","v":""},{"$f":"IF(ISERROR(MATCH(view!X$3,data!$Y7:$AB7,0)),\"\",IFERROR(HYPERLINK(showDetails(INDEX(data!$S7:$V7,MATCH(view!X$3,data!$Y7:$AB7,0)),X9),\"●\"),\"●\"))","v":""},{"$f":"IF(ISERROR(MATCH(view!Y$3,data!$Y7:$AB7,0)),\"\",IFERROR(HYPERLINK(showDetails(INDEX(data!$S7:$V7,MATCH(view!Y$3,data!$Y7:$AB7,0)),Y9),\"●\"),\"●\"))","v":""},{"$f":"IF(ISERROR(MATCH(view!Z$3,data!$Y7:$AB7,0)),\"\",IFERROR(HYPERLINK(showDetails(INDEX(data!$S7:$V7,MATCH(view!Z$3,data!$Y7:$AB7,0)),Z9),\"●\"),\"●\"))","v":""},{"$f":"IF(ISERROR(MATCH(view!AA$3,data!$Y7:$AB7,0)),\"\",IFERROR(HYPERLINK(showDetails(INDEX(data!$S7:$V7,MATCH(view!AA$3,data!$Y7:$AB7,0)),AA9),\"●\"),\"●\"))","v":""},{"$f":"IF(ISERROR(MATCH(view!AB$3,data!$Y7:$AB7,0)),\"\",IFERROR(HYPERLINK(showDetails(INDEX(data!$S7:$V7,MATCH(view!AB$3,data!$Y7:$AB7,0)),AB9),\"●\"),\"●\"))","v":""},{"$f":"IF(ISERROR(MATCH(view!AC$3,data!$Y7:$AB7,0)),\"\",IFERROR(HYPERLINK(showDetails(INDEX(data!$S7:$V7,MATCH(view!AC$3,data!$Y7:$AB7,0)),AC9),\"●\"),\"●\"))","v":""},{"$f":"IF(ISERROR(MATCH(view!AD$3,data!$Y7:$AB7,0)),\"\",IFERROR(HYPERLINK(showDetails(INDEX(data!$S7:$V7,MATCH(view!AD$3,data!$Y7:$AB7,0)),AD9),\"●\"),\"●\"))","v":""},{"$f":"IF(ISERROR(MATCH(view!AE$3,data!$Y7:$AB7,0)),\"\",IFERROR(HYPERLINK(showDetails(INDEX(data!$S7:$V7,MATCH(view!AE$3,data!$Y7:$AB7,0)),AE9),\"●\"),\"●\"))","v":""},{"$f":"IF(ISERROR(MATCH(view!AF$3,data!$Y7:$AB7,0)),\"\",IFERROR(HYPERLINK(showDetails(INDEX(data!$S7:$V7,MATCH(view!AF$3,data!$Y7:$AB7,0)),AF9),\"●\"),\"●\"))","v":""},{"$f":"IF(ISERROR(MATCH(view!AG$3,data!$Y7:$AB7,0)),\"\",IFERROR(HYPERLINK(showDetails(INDEX(data!$S7:$V7,MATCH(view!AG$3,data!$Y7:$AB7,0)),AG9),\"●\"),\"●\"))","v":""},{"$f":"IF(ISERROR(MATCH(view!AH$3,data!$Y7:$AB7,0)),\"\",IFERROR(HYPERLINK(showDetails(INDEX(data!$S7:$V7,MATCH(view!AH$3,data!$Y7:$AB7,0)),AH9),\"●\"),\"●\"))","v":""},{"$f":"IF(ISERROR(MATCH(view!AI$3,data!$Y7:$AB7,0)),\"\",IFERROR(HYPERLINK(showDetails(INDEX(data!$S7:$V7,MATCH(view!AI$3,data!$Y7:$AB7,0)),AI9),\"●\"),\"●\"))","v":""},{"$f":"IF(ISERROR(MATCH(view!AJ$3,data!$Y7:$AB7,0)),\"\",IFERROR(HYPERLINK(showDetails(INDEX(data!$S7:$V7,MATCH(view!AJ$3,data!$Y7:$AB7,0)),AJ9),\"●\"),\"●\"))","v":""},{"$f":"IF(ISERROR(MATCH(view!AK$3,data!$Y7:$AB7,0)),\"\",IFERROR(HYPERLINK(showDetails(INDEX(data!$S7:$V7,MATCH(view!AK$3,data!$Y7:$AB7,0)),AK9),\"●\"),\"●\"))","v":""},{"$f":"IF(ISERROR(MATCH(view!AL$3,data!$Y7:$AB7,0)),\"\",IFERROR(HYPERLINK(showDetails(INDEX(data!$S7:$V7,MATCH(view!AL$3,data!$Y7:$AB7,0)),AL9),\"●\"),\"●\"))","v":""},{"$f":"IF(ISERROR(MATCH(view!AM$3,data!$Y7:$AB7,0)),\"\",IFERROR(HYPERLINK(showDetails(INDEX(data!$S7:$V7,MATCH(view!AM$3,data!$Y7:$AB7,0)),AM9),\"●\"),\"●\"))","v":""},{"$f":"IF(ISERROR(MATCH(view!AN$3,data!$Y7:$AB7,0)),\"\",IFERROR(HYPERLINK(showDetails(INDEX(data!$S7:$V7,MATCH(view!AN$3,data!$Y7:$AB7,0)),AN9),\"●\"),\"●\"))","v":""},{"$f":"IF(ISERROR(MATCH(view!AO$3,data!$Y7:$AB7,0)),\"\",IFERROR(HYPERLINK(showDetails(INDEX(data!$S7:$V7,MATCH(view!AO$3,data!$Y7:$AB7,0)),AO9),\"●\"),\"●\"))","v":""},{"$f":"IF(ISERROR(MATCH(view!AP$3,data!$Y7:$AB7,0)),\"\",IFERROR(HYPERLINK(showDetails(INDEX(data!$S7:$V7,MATCH(view!AP$3,data!$Y7:$AB7,0)),AP9),\"●\"),\"●\"))","v":""},{"$f":"IF(ISERROR(MATCH(view!AQ$3,data!$Y7:$AB7,0)),\"\",IFERROR(HYPERLINK(showDetails(INDEX(data!$S7:$V7,MATCH(view!AQ$3,data!$Y7:$AB7,0)),AQ9),\"●\"),\"●\"))","v":""},{"$f":"IF(ISERROR(MATCH(view!AR$3,data!$Y7:$AB7,0)),\"\",IFERROR(HYPERLINK(showDetails(INDEX(data!$S7:$V7,MATCH(view!AR$3,data!$Y7:$AB7,0)),AR9),\"●\"),\"●\"))","v":""},{"$f":"IF(ISERROR(MATCH(view!AS$3,data!$Y7:$AB7,0)),\"\",IFERROR(HYPERLINK(showDetails(INDEX(data!$S7:$V7,MATCH(view!AS$3,data!$Y7:$AB7,0)),AS9),\"●\"),\"●\"))","v":""},{"$f":"IF(ISERROR(MATCH(view!AT$3,data!$Y7:$AB7,0)),\"\",IFERROR(HYPERLINK(showDetails(INDEX(data!$S7:$V7,MATCH(view!AT$3,data!$Y7:$AB7,0)),AT9),\"●\"),\"●\"))","v":""},{"$f":"IF(ISERROR(MATCH(view!AU$3,data!$Y7:$AB7,0)),\"\",IFERROR(HYPERLINK(showDetails(INDEX(data!$S7:$V7,MATCH(view!AU$3,data!$Y7:$AB7,0)),AU9),\"●\"),\"●\"))","v":""},{"$f":"IF(ISERROR(MATCH(view!AV$3,data!$Y7:$AB7,0)),\"\",IFERROR(HYPERLINK(showDetails(INDEX(data!$S7:$V7,MATCH(view!AV$3,data!$Y7:$AB7,0)),AV9),\"●\"),\"●\"))","v":""},{"$f":"IF(ISERROR(MATCH(view!AW$3,data!$Y7:$AB7,0)),\"\",IFERROR(HYPERLINK(showDetails(INDEX(data!$S7:$V7,MATCH(view!AW$3,data!$Y7:$AB7,0)),AW9),\"●\"),\"●\"))","v":""},{"$f":"IF(ISERROR(MATCH(view!AX$3,data!$Y7:$AB7,0)),\"\",IFERROR(HYPERLINK(showDetails(INDEX(data!$S7:$V7,MATCH(view!AX$3,data!$Y7:$AB7,0)),AX9),\"●\"),\"●\"))","v":""},{"$f":"IF(ISERROR(MATCH(view!AY$3,data!$Y7:$AB7,0)),\"\",IFERROR(HYPERLINK(showDetails(INDEX(data!$S7:$V7,MATCH(view!AY$3,data!$Y7:$AB7,0)),AY9),\"●\"),\"●\"))","v":""},{"$f":"IF(ISERROR(MATCH(view!AZ$3,data!$Y7:$AB7,0)),\"\",IFERROR(HYPERLINK(showDetails(INDEX(data!$S7:$V7,MATCH(view!AZ$3,data!$Y7:$AB7,0)),AZ9),\"●\"),\"●\"))","v":""},{"$f":"IF(ISERROR(MATCH(view!BA$3,data!$Y7:$AB7,0)),\"\",IFERROR(HYPERLINK(showDetails(INDEX(data!$S7:$V7,MATCH(view!BA$3,data!$Y7:$AB7,0)),BA9),\"●\"),\"●\"))","v":""},{"$f":"IF(ISERROR(MATCH(view!BB$3,data!$Y7:$AB7,0)),\"\",IFERROR(HYPERLINK(showDetails(INDEX(data!$S7:$V7,MATCH(view!BB$3,data!$Y7:$AB7,0)),BB9),\"●\"),\"●\"))","v":""},{"$f":"IF(ISERROR(MATCH(view!BC$3,data!$Y7:$AB7,0)),\"\",IFERROR(HYPERLINK(showDetails(INDEX(data!$S7:$V7,MATCH(view!BC$3,data!$Y7:$AB7,0)),BC9),\"●\"),\"●\"))","v":""},{"$f":"IF(ISERROR(MATCH(view!BD$3,data!$Y7:$AB7,0)),\"\",IFERROR(HYPERLINK(showDetails(INDEX(data!$S7:$V7,MATCH(view!BD$3,data!$Y7:$AB7,0)),BD9),\"●\"),\"●\"))","v":""},{"$f":"IF(ISERROR(MATCH(view!BE$3,data!$Y7:$AB7,0)),\"\",IFERROR(HYPERLINK(showDetails(INDEX(data!$S7:$V7,MATCH(view!BE$3,data!$Y7:$AB7,0)),BE9),\"●\"),\"●\"))","v":""},{"$f":"IF(ISERROR(MATCH(view!BF$3,data!$Y7:$AB7,0)),\"\",IFERROR(HYPERLINK(showDetails(INDEX(data!$S7:$V7,MATCH(view!BF$3,data!$Y7:$AB7,0)),BF9),\"●\"),\"●\"))","v":""},{"$f":"IF(ISERROR(MATCH(view!BG$3,data!$Y7:$AB7,0)),\"\",IFERROR(HYPERLINK(showDetails(INDEX(data!$S7:$V7,MATCH(view!BG$3,data!$Y7:$AB7,0)),BG9),\"●\"),\"●\"))","v":""},{"$f":"IF(ISERROR(MATCH(view!BH$3,data!$Y7:$AB7,0)),\"\",IFERROR(HYPERLINK(showDetails(INDEX(data!$S7:$V7,MATCH(view!BH$3,data!$Y7:$AB7,0)),BH9),\"●\"),\"●\"))","v":""},{"$f":"IF(ISERROR(MATCH(view!BI$3,data!$Y7:$AB7,0)),\"\",IFERROR(HYPERLINK(showDetails(INDEX(data!$S7:$V7,MATCH(view!BI$3,data!$Y7:$AB7,0)),BI9),\"●\"),\"●\"))","v":""},{"$f":"IF(ISERROR(MATCH(view!BJ$3,data!$Y7:$AB7,0)),\"\",IFERROR(HYPERLINK(showDetails(INDEX(data!$S7:$V7,MATCH(view!BJ$3,data!$Y7:$AB7,0)),BJ9),\"●\"),\"●\"))","v":""},{"$f":"IF(ISERROR(MATCH(view!BK$3,data!$Y7:$AB7,0)),\"\",IFERROR(HYPERLINK(showDetails(INDEX(data!$S7:$V7,MATCH(view!BK$3,data!$Y7:$AB7,0)),BK9),\"●\"),\"●\"))","v":""},{"$f":"IF(ISERROR(MATCH(view!BL$3,data!$Y7:$AB7,0)),\"\",IFERROR(HYPERLINK(showDetails(INDEX(data!$S7:$V7,MATCH(view!BL$3,data!$Y7:$AB7,0)),BL9),\"●\"),\"●\"))","v":""},{"$f":"IF(ISERROR(MATCH(view!BM$3,data!$Y7:$AB7,0)),\"\",IFERROR(HYPERLINK(showDetails(INDEX(data!$S7:$V7,MATCH(view!BM$3,data!$Y7:$AB7,0)),BM9),\"●\"),\"●\"))","v":""},{"$f":"IF(ISERROR(MATCH(view!BN$3,data!$Y7:$AB7,0)),\"\",IFERROR(HYPERLINK(showDetails(INDEX(data!$S7:$V7,MATCH(view!BN$3,data!$Y7:$AB7,0)),BN9),\"●\"),\"●\"))","v":""},{"$f":"IF(ISERROR(MATCH(view!BO$3,data!$Y7:$AB7,0)),\"\",IFERROR(HYPERLINK(showDetails(INDEX(data!$S7:$V7,MATCH(view!BO$3,data!$Y7:$AB7,0)),BO9),\"●\"),\"●\"))","v":""},{"$f":"IF(ISERROR(MATCH(view!BP$3,data!$Y7:$AB7,0)),\"\",IFERROR(HYPERLINK(showDetails(INDEX(data!$S7:$V7,MATCH(view!BP$3,data!$Y7:$AB7,0)),BP9),\"●\"),\"●\"))","v":""},{"$f":"IF(ISERROR(MATCH(view!BQ$3,data!$Y7:$AB7,0)),\"\",IFERROR(HYPERLINK(showDetails(INDEX(data!$S7:$V7,MATCH(view!BQ$3,data!$Y7:$AB7,0)),BQ9),\"●\"),\"●\"))","v":""},{"$f":"IF(ISERROR(MATCH(view!BR$3,data!$Y7:$AB7,0)),\"\",IFERROR(HYPERLINK(showDetails(INDEX(data!$S7:$V7,MATCH(view!BR$3,data!$Y7:$AB7,0)),BR9),\"●\"),\"●\"))","v":""},{"$f":"IF(ISERROR(MATCH(view!BS$3,data!$Y7:$AB7,0)),\"\",IFERROR(HYPERLINK(showDetails(INDEX(data!$S7:$V7,MATCH(view!BS$3,data!$Y7:$AB7,0)),BS9),\"●\"),\"●\"))","v":""},{"$f":"IF(ISERROR(MATCH(view!BT$3,data!$Y7:$AB7,0)),\"\",IFERROR(HYPERLINK(showDetails(INDEX(data!$S7:$V7,MATCH(view!BT$3,data!$Y7:$AB7,0)),BT9),\"●\"),\"●\"))","v":""},{"$f":"IF(ISERROR(MATCH(view!BU$3,data!$Y7:$AB7,0)),\"\",IFERROR(HYPERLINK(showDetails(INDEX(data!$S7:$V7,MATCH(view!BU$3,data!$Y7:$AB7,0)),BU9),\"●\"),\"●\"))","v":""},{"$f":"IF(ISERROR(MATCH(view!BV$3,data!$Y7:$AB7,0)),\"\",IFERROR(HYPERLINK(showDetails(INDEX(data!$S7:$V7,MATCH(view!BV$3,data!$Y7:$AB7,0)),BV9),\"●\"),\"●\"))","v":""},{"$f":"IF(ISERROR(MATCH(view!BW$3,data!$Y7:$AB7,0)),\"\",IFERROR(HYPERLINK(showDetails(INDEX(data!$S7:$V7,MATCH(view!BW$3,data!$Y7:$AB7,0)),BW9),\"●\"),\"●\"))","v":""},{"$f":"IF(ISERROR(MATCH(view!BX$3,data!$Y7:$AB7,0)),\"\",IFERROR(HYPERLINK(showDetails(INDEX(data!$S7:$V7,MATCH(view!BX$3,data!$Y7:$AB7,0)),BX9),\"●\"),\"●\"))","v":""},{"$f":"IF(ISERROR(MATCH(view!BY$3,data!$Y7:$AB7,0)),\"\",IFERROR(HYPERLINK(showDetails(INDEX(data!$S7:$V7,MATCH(view!BY$3,data!$Y7:$AB7,0)),BY9),\"●\"),\"●\"))","v":""},{"$f":"IF(ISERROR(MATCH(view!BZ$3,data!$Y7:$AB7,0)),\"\",IFERROR(HYPERLINK(showDetails(INDEX(data!$S7:$V7,MATCH(view!BZ$3,data!$Y7:$AB7,0)),BZ9),\"●\"),\"●\"))","v":""},{"$f":"IF(ISERROR(MATCH(view!CA$3,data!$Y7:$AB7,0)),\"\",IFERROR(HYPERLINK(showDetails(INDEX(data!$S7:$V7,MATCH(view!CA$3,data!$Y7:$AB7,0)),CA9),\"●\"),\"●\"))","v":""},{"$f":"IF(ISERROR(MATCH(view!CB$3,data!$Y7:$AB7,0)),\"\",IFERROR(HYPERLINK(showDetails(INDEX(data!$S7:$V7,MATCH(view!CB$3,data!$Y7:$AB7,0)),CB9),\"●\"),\"●\"))","v":""},{"$f":"IF(ISERROR(MATCH(view!CC$3,data!$Y7:$AB7,0)),\"\",IFERROR(HYPERLINK(showDetails(INDEX(data!$S7:$V7,MATCH(view!CC$3,data!$Y7:$AB7,0)),CC9),\"●\"),\"●\"))","v":""},{"$f":"IF(ISERROR(MATCH(view!CD$3,data!$Y7:$AB7,0)),\"\",IFERROR(HYPERLINK(showDetails(INDEX(data!$S7:$V7,MATCH(view!CD$3,data!$Y7:$AB7,0)),CD9),\"●\"),\"●\"))","v":""},{"$f":"IF(ISERROR(MATCH(view!CE$3,data!$Y7:$AB7,0)),\"\",IFERROR(HYPERLINK(showDetails(INDEX(data!$S7:$V7,MATCH(view!CE$3,data!$Y7:$AB7,0)),CE9),\"●\"),\"●\"))","v":""},{"$f":"IF(ISERROR(MATCH(view!CF$3,data!$Y7:$AB7,0)),\"\",IFERROR(HYPERLINK(showDetails(INDEX(data!$S7:$V7,MATCH(view!CF$3,data!$Y7:$AB7,0)),CF9),\"●\"),\"●\"))","v":""},{"$f":"IF(ISERROR(MATCH(view!CG$3,data!$Y7:$AB7,0)),\"\",IFERROR(HYPERLINK(showDetails(INDEX(data!$S7:$V7,MATCH(view!CG$3,data!$Y7:$AB7,0)),CG9),\"●\"),\"●\"))","v":""},{"$f":"IF(ISERROR(MATCH(view!CH$3,data!$Y7:$AB7,0)),\"\",IFERROR(HYPERLINK(showDetails(INDEX(data!$S7:$V7,MATCH(view!CH$3,data!$Y7:$AB7,0)),CH9),\"●\"),\"●\"))","v":""},{"$f":"IF(ISERROR(MATCH(view!CI$3,data!$Y7:$AB7,0)),\"\",IFERROR(HYPERLINK(showDetails(INDEX(data!$S7:$V7,MATCH(view!CI$3,data!$Y7:$AB7,0)),CI9),\"●\"),\"●\"))","v":""},{"$f":"IF(ISERROR(MATCH(view!CJ$3,data!$Y7:$AB7,0)),\"\",IFERROR(HYPERLINK(showDetails(INDEX(data!$S7:$V7,MATCH(view!CJ$3,data!$Y7:$AB7,0)),CJ9),\"●\"),\"●\"))","v":""},{"$f":"IF(ISERROR(MATCH(view!CK$3,data!$Y7:$AB7,0)),\"\",IFERROR(HYPERLINK(showDetails(INDEX(data!$S7:$V7,MATCH(view!CK$3,data!$Y7:$AB7,0)),CK9),\"●\"),\"●\"))","v":""},{"$f":"IF(ISERROR(MATCH(view!CL$3,data!$Y7:$AB7,0)),\"\",IFERROR(HYPERLINK(showDetails(INDEX(data!$S7:$V7,MATCH(view!CL$3,data!$Y7:$AB7,0)),CL9),\"●\"),\"●\"))","v":""},{"$f":"IF(ISERROR(MATCH(view!CM$3,data!$Y7:$AB7,0)),\"\",IFERROR(HYPERLINK(showDetails(INDEX(data!$S7:$V7,MATCH(view!CM$3,data!$Y7:$AB7,0)),CM9),\"●\"),\"●\"))","v":""},{"$f":"IF(ISERROR(MATCH(view!CN$3,data!$Y7:$AB7,0)),\"\",IFERROR(HYPERLINK(showDetails(INDEX(data!$S7:$V7,MATCH(view!CN$3,data!$Y7:$AB7,0)),CN9),\"●\"),\"●\"))","v":""},{"$f":"IF(ISERROR(MATCH(view!CO$3,data!$Y7:$AB7,0)),\"\",IFERROR(HYPERLINK(showDetails(INDEX(data!$S7:$V7,MATCH(view!CO$3,data!$Y7:$AB7,0)),CO9),\"●\"),\"●\"))","v":""},{"$f":"IF(ISERROR(MATCH(view!CP$3,data!$Y7:$AB7,0)),\"\",IFERROR(HYPERLINK(showDetails(INDEX(data!$S7:$V7,MATCH(view!CP$3,data!$Y7:$AB7,0)),CP9),\"●\"),\"●\"))","v":""},{"$f":"IF(ISERROR(MATCH(view!CQ$3,data!$Y7:$AB7,0)),\"\",IFERROR(HYPERLINK(showDetails(INDEX(data!$S7:$V7,MATCH(view!CQ$3,data!$Y7:$AB7,0)),CQ9),\"●\"),\"●\"))","v":""},{"$f":"IF(ISERROR(MATCH(view!CR$3,data!$Y7:$AB7,0)),\"\",IFERROR(HYPERLINK(showDetails(INDEX(data!$S7:$V7,MATCH(view!CR$3,data!$Y7:$AB7,0)),CR9),\"●\"),\"●\"))","v":""},{"$f":"IF(ISERROR(MATCH(view!CS$3,data!$Y7:$AB7,0)),\"\",IFERROR(HYPERLINK(showDetails(INDEX(data!$S7:$V7,MATCH(view!CS$3,data!$Y7:$AB7,0)),CS9),\"●\"),\"●\"))","v":""},{"$f":"IF(ISERROR(MATCH(view!CT$3,data!$Y7:$AB7,0)),\"\",IFERROR(HYPERLINK(showDetails(INDEX(data!$S7:$V7,MATCH(view!CT$3,data!$Y7:$AB7,0)),CT9),\"●\"),\"●\"))","v":""},{"$f":"IF(ISERROR(MATCH(view!CU$3,data!$Y7:$AB7,0)),\"\",IFERROR(HYPERLINK(showDetails(INDEX(data!$S7:$V7,MATCH(view!CU$3,data!$Y7:$AB7,0)),CU9),\"●\"),\"●\"))","v":""},{"$f":"IF(ISERROR(MATCH(view!CV$3,data!$Y7:$AB7,0)),\"\",IFERROR(HYPERLINK(showDetails(INDEX(data!$S7:$V7,MATCH(view!CV$3,data!$Y7:$AB7,0)),CV9),\"●\"),\"●\"))","v":""},{"$f":"IF(ISERROR(MATCH(view!CW$3,data!$Y7:$AB7,0)),\"\",IFERROR(HYPERLINK(showDetails(INDEX(data!$S7:$V7,MATCH(view!CW$3,data!$Y7:$AB7,0)),CW9),\"●\"),\"●\"))","v":""},{"$f":"IF(ISERROR(MATCH(view!CX$3,data!$Y7:$AB7,0)),\"\",IFERROR(HYPERLINK(showDetails(INDEX(data!$S7:$V7,MATCH(view!CX$3,data!$Y7:$AB7,0)),CX9),\"●\"),\"●\"))","v":""},{"$f":"IF(ISERROR(MATCH(view!CY$3,data!$Y7:$AB7,0)),\"\",IFERROR(HYPERLINK(showDetails(INDEX(data!$S7:$V7,MATCH(view!CY$3,data!$Y7:$AB7,0)),CY9),\"●\"),\"●\"))","v":""},{"$f":"IF(ISERROR(MATCH(view!CZ$3,data!$Y7:$AB7,0)),\"\",IFERROR(HYPERLINK(showDetails(INDEX(data!$S7:$V7,MATCH(view!CZ$3,data!$Y7:$AB7,0)),CZ9),\"●\"),\"●\"))","v":""},{"$f":"IF(ISERROR(MATCH(view!DA$3,data!$Y7:$AB7,0)),\"\",IFERROR(HYPERLINK(showDetails(INDEX(data!$S7:$V7,MATCH(view!DA$3,data!$Y7:$AB7,0)),DA9),\"●\"),\"●\"))","v":""},{"$f":"IF(ISERROR(MATCH(view!DB$3,data!$Y7:$AB7,0)),\"\",IFERROR(HYPERLINK(showDetails(INDEX(data!$S7:$V7,MATCH(view!DB$3,data!$Y7:$AB7,0)),DB9),\"●\"),\"●\"))","v":""},{"$f":"IF(ISERROR(MATCH(view!DC$3,data!$Y7:$AB7,0)),\"\",IFERROR(HYPERLINK(showDetails(INDEX(data!$S7:$V7,MATCH(view!DC$3,data!$Y7:$AB7,0)),DC9),\"●\"),\"●\"))","v":""},{"$f":"IF(ISERROR(MATCH(view!DD$3,data!$Y7:$AB7,0)),\"\",IFERROR(HYPERLINK(showDetails(INDEX(data!$S7:$V7,MATCH(view!DD$3,data!$Y7:$AB7,0)),DD9),\"●\"),\"●\"))","v":""},{"$f":"IF(ISERROR(MATCH(view!DE$3,data!$Y7:$AB7,0)),\"\",IFERROR(HYPERLINK(showDetails(INDEX(data!$S7:$V7,MATCH(view!DE$3,data!$Y7:$AB7,0)),DE9),\"●\"),\"●\"))","v":"●"},{"$f":"IF(ISERROR(MATCH(view!DF$3,data!$Y7:$AB7,0)),\"\",IFERROR(HYPERLINK(showDetails(INDEX(data!$S7:$V7,MATCH(view!DF$3,data!$Y7:$AB7,0)),DF9),\"●\"),\"●\"))","v":"●"},{"$f":"IF(ISERROR(MATCH(view!DG$3,data!$Y7:$AB7,0)),\"\",IFERROR(HYPERLINK(showDetails(INDEX(data!$S7:$V7,MATCH(view!DG$3,data!$Y7:$AB7,0)),DG9),\"●\"),\"●\"))","v":""},{"$f":"IF(ISERROR(MATCH(view!DH$3,data!$Y7:$AB7,0)),\"\",IFERROR(HYPERLINK(showDetails(INDEX(data!$S7:$V7,MATCH(view!DH$3,data!$Y7:$AB7,0)),DH9),\"●\"),\"●\"))","v":"●"},{"$f":"IF(ISERROR(MATCH(view!DI$3,data!$Y7:$AB7,0)),\"\",IFERROR(HYPERLINK(showDetails(INDEX(data!$S7:$V7,MATCH(view!DI$3,data!$Y7:$AB7,0)),DI9),\"●\"),\"●\"))","v":""},{"$f":"IF(ISERROR(MATCH(view!DJ$3,data!$Y7:$AB7,0)),\"\",IFERROR(HYPERLINK(showDetails(INDEX(data!$S7:$V7,MATCH(view!DJ$3,data!$Y7:$AB7,0)),DJ9),\"●\"),\"●\"))","v":""},{"$f":"IF(ISERROR(MATCH(view!DK$3,data!$Y7:$AB7,0)),\"\",IFERROR(HYPERLINK(showDetails(INDEX(data!$S7:$V7,MATCH(view!DK$3,data!$Y7:$AB7,0)),DK9),\"●\"),\"●\"))","v":""},{"$f":"IF(ISERROR(MATCH(view!DL$3,data!$Y7:$AB7,0)),\"\",IFERROR(HYPERLINK(showDetails(INDEX(data!$S7:$V7,MATCH(view!DL$3,data!$Y7:$AB7,0)),DL9),\"●\"),\"●\"))","v":""},{"$f":"IF(ISERROR(MATCH(view!DM$3,data!$Y7:$AB7,0)),\"\",IFERROR(HYPERLINK(showDetails(INDEX(data!$S7:$V7,MATCH(view!DM$3,data!$Y7:$AB7,0)),DM9),\"●\"),\"●\"))","v":""},{"$f":"IF(ISERROR(MATCH(view!DN$3,data!$Y7:$AB7,0)),\"\",IFERROR(HYPERLINK(showDetails(INDEX(data!$S7:$V7,MATCH(view!DN$3,data!$Y7:$AB7,0)),DN9),\"●\"),\"●\"))","v":""},{"$f":"IF(ISERROR(MATCH(view!DO$3,data!$Y7:$AB7,0)),\"\",IFERROR(HYPERLINK(showDetails(INDEX(data!$S7:$V7,MATCH(view!DO$3,data!$Y7:$AB7,0)),DO9),\"●\"),\"●\"))","v":""},{"$f":"IF(ISERROR(MATCH(view!DP$3,data!$Y7:$AB7,0)),\"\",IFERROR(HYPERLINK(showDetails(INDEX(data!$S7:$V7,MATCH(view!DP$3,data!$Y7:$AB7,0)),DP9),\"●\"),\"●\"))","v":""},{"$f":"IF(ISERROR(MATCH(view!DQ$3,data!$Y7:$AB7,0)),\"\",IFERROR(HYPERLINK(showDetails(INDEX(data!$S7:$V7,MATCH(view!DQ$3,data!$Y7:$AB7,0)),DQ9),\"●\"),\"●\"))","v":""},{"$f":"IF(ISERROR(MATCH(view!DR$3,data!$Y7:$AB7,0)),\"\",IFERROR(HYPERLINK(showDetails(INDEX(data!$S7:$V7,MATCH(view!DR$3,data!$Y7:$AB7,0)),DR9),\"●\"),\"●\"))","v":""},{"$f":"IF(ISERROR(MATCH(view!DS$3,data!$Y7:$AB7,0)),\"\",IFERROR(HYPERLINK(showDetails(INDEX(data!$S7:$V7,MATCH(view!DS$3,data!$Y7:$AB7,0)),DS9),\"●\"),\"●\"))","v":""},{"$f":"INDEX(lstYears,A9) &\" - \"&INDEX(data!$W$3:$W$30,A9)","v":"1996 - Atlanta"}]
[6,null,{"$f":"IF(ISERROR(MATCH(view!C$3,data!$Y8:$AB8,0)),\"\",IFERROR(HYPERLINK(showDetails(INDEX(data!$S8:$V8,MATCH(view!C$3,data!$Y8:$AB8,0)),C10),\"●\"),\"●\"))","v":""},{"$f":"IF(ISERROR(MATCH(view!D$3,data!$Y8:$AB8,0)),\"\",IFERROR(HYPERLINK(showDetails(INDEX(data!$S8:$V8,MATCH(view!D$3,data!$Y8:$AB8,0)),D10),\"●\"),\"●\"))","v":""},{"$f":"IF(ISERROR(MATCH(view!E$3,data!$Y8:$AB8,0)),\"\",IFERROR(HYPERLINK(showDetails(INDEX(data!$S8:$V8,MATCH(view!E$3,data!$Y8:$AB8,0)),E10),\"●\"),\"●\"))","v":""},{"$f":"IF(ISERROR(MATCH(view!F$3,data!$Y8:$AB8,0)),\"\",IFERROR(HYPERLINK(showDetails(INDEX(data!$S8:$V8,MATCH(view!F$3,data!$Y8:$AB8,0)),F10),\"●\"),\"●\"))","v":""},{"$f":"IF(ISERROR(MATCH(view!G$3,data!$Y8:$AB8,0)),\"\",IFERROR(HYPERLINK(showDetails(INDEX(data!$S8:$V8,MATCH(view!G$3,data!$Y8:$AB8,0)),G10),\"●\"),\"●\"))","v":""},{"$f":"IF(ISERROR(MATCH(view!H$3,data!$Y8:$AB8,0)),\"\",IFERROR(HYPERLINK(showDetails(INDEX(data!$S8:$V8,MATCH(view!H$3,data!$Y8:$AB8,0)),H10),\"●\"),\"●\"))","v":""},{"$f":"IF(ISERROR(MATCH(view!I$3,data!$Y8:$AB8,0)),\"\",IFERROR(HYPERLINK(showDetails(INDEX(data!$S8:$V8,MATCH(view!I$3,data!$Y8:$AB8,0)),I10),\"●\"),\"●\"))","v":""},{"$f":"IF(ISERROR(MATCH(view!J$3,data!$Y8:$AB8,0)),\"\",IFERROR(HYPERLINK(showDetails(INDEX(data!$S8:$V8,MATCH(view!J$3,data!$Y8:$AB8,0)),J10),\"●\"),\"●\"))","v":""},{"$f":"IF(ISERROR(MATCH(view!K$3,data!$Y8:$AB8,0)),\"\",IFERROR(HYPERLINK(showDetails(INDEX(data!$S8:$V8,MATCH(view!K$3,data!$Y8:$AB8,0)),K10),\"●\"),\"●\"))","v":""},{"$f":"IF(ISERROR(MATCH(view!L$3,data!$Y8:$AB8,0)),\"\",IFERROR(HYPERLINK(showDetails(INDEX(data!$S8:$V8,MATCH(view!L$3,data!$Y8:$AB8,0)),L10),\"●\"),\"●\"))","v":""},{"$f":"IF(ISERROR(MATCH(view!M$3,data!$Y8:$AB8,0)),\"\",IFERROR(HYPERLINK(showDetails(INDEX(data!$S8:$V8,MATCH(view!M$3,data!$Y8:$AB8,0)),M10),\"●\"),\"●\"))","v":""},{"$f":"IF(ISERROR(MATCH(view!N$3,data!$Y8:$AB8,0)),\"\",IFERROR(HYPERLINK(showDetails(INDEX(data!$S8:$V8,MATCH(view!N$3,data!$Y8:$AB8,0)),N10),\"●\"),\"●\"))","v":""},{"$f":"IF(ISERROR(MATCH(view!O$3,data!$Y8:$AB8,0)),\"\",IFERROR(HYPERLINK(showDetails(INDEX(data!$S8:$V8,MATCH(view!O$3,data!$Y8:$AB8,0)),O10),\"●\"),\"●\"))","v":""},{"$f":"IF(ISERROR(MATCH(view!P$3,data!$Y8:$AB8,0)),\"\",IFERROR(HYPERLINK(showDetails(INDEX(data!$S8:$V8,MATCH(view!P$3,data!$Y8:$AB8,0)),P10),\"●\"),\"●\"))","v":""},{"$f":"IF(ISERROR(MATCH(view!Q$3,data!$Y8:$AB8,0)),\"\",IFERROR(HYPERLINK(showDetails(INDEX(data!$S8:$V8,MATCH(view!Q$3,data!$Y8:$AB8,0)),Q10),\"●\"),\"●\"))","v":""},{"$f":"IF(ISERROR(MATCH(view!R$3,data!$Y8:$AB8,0)),\"\",IFERROR(HYPERLINK(showDetails(INDEX(data!$S8:$V8,MATCH(view!R$3,data!$Y8:$AB8,0)),R10),\"●\"),\"●\"))","v":""},{"$f":"IF(ISERROR(MATCH(view!S$3,data!$Y8:$AB8,0)),\"\",IFERROR(HYPERLINK(showDetails(INDEX(data!$S8:$V8,MATCH(view!S$3,data!$Y8:$AB8,0)),S10),\"●\"),\"●\"))","v":""},{"$f":"IF(ISERROR(MATCH(view!T$3,data!$Y8:$AB8,0)),\"\",IFERROR(HYPERLINK(showDetails(INDEX(data!$S8:$V8,MATCH(view!T$3,data!$Y8:$AB8,0)),T10),\"●\"),\"●\"))","v":""},{"$f":"IF(ISERROR(MATCH(view!U$3,data!$Y8:$AB8,0)),\"\",IFERROR(HYPERLINK(showDetails(INDEX(data!$S8:$V8,MATCH(view!U$3,data!$Y8:$AB8,0)),U10),\"●\"),\"●\"))","v":""},{"$f":"IF(ISERROR(MATCH(view!V$3,data!$Y8:$AB8,0)),\"\",IFERROR(HYPERLINK(showDetails(INDEX(data!$S8:$V8,MATCH(view!V$3,data!$Y8:$AB8,0)),V10),\"●\"),\"●\"))","v":""},{"$f":"IF(ISERROR(MATCH(view!W$3,data!$Y8:$AB8,0)),\"\",IFERROR(HYPERLINK(showDetails(INDEX(data!$S8:$V8,MATCH(view!W$3,data!$Y8:$AB8,0)),W10),\"●\"),\"●\"))","v":""},{"$f":"IF(ISERROR(MATCH(view!X$3,data!$Y8:$AB8,0)),\"\",IFERROR(HYPERLINK(showDetails(INDEX(data!$S8:$V8,MATCH(view!X$3,data!$Y8:$AB8,0)),X10),\"●\"),\"●\"))","v":""},{"$f":"IF(ISERROR(MATCH(view!Y$3,data!$Y8:$AB8,0)),\"\",IFERROR(HYPERLINK(showDetails(INDEX(data!$S8:$V8,MATCH(view!Y$3,data!$Y8:$AB8,0)),Y10),\"●\"),\"●\"))","v":""},{"$f":"IF(ISERROR(MATCH(view!Z$3,data!$Y8:$AB8,0)),\"\",IFERROR(HYPERLINK(showDetails(INDEX(data!$S8:$V8,MATCH(view!Z$3,data!$Y8:$AB8,0)),Z10),\"●\"),\"●\"))","v":""},{"$f":"IF(ISERROR(MATCH(view!AA$3,data!$Y8:$AB8,0)),\"\",IFERROR(HYPERLINK(showDetails(INDEX(data!$S8:$V8,MATCH(view!AA$3,data!$Y8:$AB8,0)),AA10),\"●\"),\"●\"))","v":""},{"$f":"IF(ISERROR(MATCH(view!AB$3,data!$Y8:$AB8,0)),\"\",IFERROR(HYPERLINK(showDetails(INDEX(data!$S8:$V8,MATCH(view!AB$3,data!$Y8:$AB8,0)),AB10),\"●\"),\"●\"))","v":""},{"$f":"IF(ISERROR(MATCH(view!AC$3,data!$Y8:$AB8,0)),\"\",IFERROR(HYPERLINK(showDetails(INDEX(data!$S8:$V8,MATCH(view!AC$3,data!$Y8:$AB8,0)),AC10),\"●\"),\"●\"))","v":""},{"$f":"IF(ISERROR(MATCH(view!AD$3,data!$Y8:$AB8,0)),\"\",IFERROR(HYPERLINK(showDetails(INDEX(data!$S8:$V8,MATCH(view!AD$3,data!$Y8:$AB8,0)),AD10),\"●\"),\"●\"))","v":""},{"$f":"IF(ISERROR(MATCH(view!AE$3,data!$Y8:$AB8,0)),\"\",IFERROR(HYPERLINK(showDetails(INDEX(data!$S8:$V8,MATCH(view!AE$3,data!$Y8:$AB8,0)),AE10),\"●\"),\"●\"))","v":""},{"$f":"IF(ISERROR(MATCH(view!AF$3,data!$Y8:$AB8,0)),\"\",IFERROR(HYPERLINK(showDetails(INDEX(data!$S8:$V8,MATCH(view!AF$3,data!$Y8:$AB8,0)),AF10),\"●\"),\"●\"))","v":""},{"$f":"IF(ISERROR(MATCH(view!AG$3,data!$Y8:$AB8,0)),\"\",IFERROR(HYPERLINK(showDetails(INDEX(data!$S8:$V8,MATCH(view!AG$3,data!$Y8:$AB8,0)),AG10),\"●\"),\"●\"))","v":""},{"$f":"IF(ISERROR(MATCH(view!AH$3,data!$Y8:$AB8,0)),\"\",IFERROR(HYPERLINK(showDetails(INDEX(data!$S8:$V8,MATCH(view!AH$3,data!$Y8:$AB8,0)),AH10),\"●\"),\"●\"))","v":""},{"$f":"IF(ISERROR(MATCH(view!AI$3,data!$Y8:$AB8,0)),\"\",IFERROR(HYPERLINK(showDetails(INDEX(data!$S8:$V8,MATCH(view!AI$3,data!$Y8:$AB8,0)),AI10),\"●\"),\"●\"))","v":""},{"$f":"IF(ISERROR(MATCH(view!AJ$3,data!$Y8:$AB8,0)),\"\",IFERROR(HYPERLINK(showDetails(INDEX(data!$S8:$V8,MATCH(view!AJ$3,data!$Y8:$AB8,0)),AJ10),\"●\"),\"●\"))","v":""},{"$f":"IF(ISERROR(MATCH(view!AK$3,data!$Y8:$AB8,0)),\"\",IFERROR(HYPERLINK(showDetails(INDEX(data!$S8:$V8,MATCH(view!AK$3,data!$Y8:$AB8,0)),AK10),\"●\"),\"●\"))","v":""},{"$f":"IF(ISERROR(MATCH(view!AL$3,data!$Y8:$AB8,0)),\"\",IFERROR(HYPERLINK(showDetails(INDEX(data!$S8:$V8,MATCH(view!AL$3,data!$Y8:$AB8,0)),AL10),\"●\"),\"●\"))","v":""},{"$f":"IF(ISERROR(MATCH(view!AM$3,data!$Y8:$AB8,0)),\"\",IFERROR(HYPERLINK(showDetails(INDEX(data!$S8:$V8,MATCH(view!AM$3,data!$Y8:$AB8,0)),AM10),\"●\"),\"●\"))","v":""},{"$f":"IF(ISERROR(MATCH(view!AN$3,data!$Y8:$AB8,0)),\"\",IFERROR(HYPERLINK(showDetails(INDEX(data!$S8:$V8,MATCH(view!AN$3,data!$Y8:$AB8,0)),AN10),\"●\"),\"●\"))","v":""},{"$f":"IF(ISERROR(MATCH(view!AO$3,data!$Y8:$AB8,0)),\"\",IFERROR(HYPERLINK(showDetails(INDEX(data!$S8:$V8,MATCH(view!AO$3,data!$Y8:$AB8,0)),AO10),\"●\"),\"●\"))","v":""},{"$f":"IF(ISERROR(MATCH(view!AP$3,data!$Y8:$AB8,0)),\"\",IFERROR(HYPERLINK(showDetails(INDEX(data!$S8:$V8,MATCH(view!AP$3,data!$Y8:$AB8,0)),AP10),\"●\"),\"●\"))","v":""},{"$f":"IF(ISERROR(MATCH(view!AQ$3,data!$Y8:$AB8,0)),\"\",IFERROR(HYPERLINK(showDetails(INDEX(data!$S8:$V8,MATCH(view!AQ$3,data!$Y8:$AB8,0)),AQ10),\"●\"),\"●\"))","v":""},{"$f":"IF(ISERROR(MATCH(view!AR$3,data!$Y8:$AB8,0)),\"\",IFERROR(HYPERLINK(showDetails(INDEX(data!$S8:$V8,MATCH(view!AR$3,data!$Y8:$AB8,0)),AR10),\"●\"),\"●\"))","v":""},{"$f":"IF(ISERROR(MATCH(view!AS$3,data!$Y8:$AB8,0)),\"\",IFERROR(HYPERLINK(showDetails(INDEX(data!$S8:$V8,MATCH(view!AS$3,data!$Y8:$AB8,0)),AS10),\"●\"),\"●\"))","v":""},{"$f":"IF(ISERROR(MATCH(view!AT$3,data!$Y8:$AB8,0)),\"\",IFERROR(HYPERLINK(showDetails(INDEX(data!$S8:$V8,MATCH(view!AT$3,data!$Y8:$AB8,0)),AT10),\"●\"),\"●\"))","v":""},{"$f":"IF(ISERROR(MATCH(view!AU$3,data!$Y8:$AB8,0)),\"\",IFERROR(HYPERLINK(showDetails(INDEX(data!$S8:$V8,MATCH(view!AU$3,data!$Y8:$AB8,0)),AU10),\"●\"),\"●\"))","v":""},{"$f":"IF(ISERROR(MATCH(view!AV$3,data!$Y8:$AB8,0)),\"\",IFERROR(HYPERLINK(showDetails(INDEX(data!$S8:$V8,MATCH(view!AV$3,data!$Y8:$AB8,0)),AV10),\"●\"),\"●\"))","v":""},{"$f":"IF(ISERROR(MATCH(view!AW$3,data!$Y8:$AB8,0)),\"\",IFERROR(HYPERLINK(showDetails(INDEX(data!$S8:$V8,MATCH(view!AW$3,data!$Y8:$AB8,0)),AW10),\"●\"),\"●\"))","v":""},{"$f":"IF(ISERROR(MATCH(view!AX$3,data!$Y8:$AB8,0)),\"\",IFERROR(HYPERLINK(showDetails(INDEX(data!$S8:$V8,MATCH(view!AX$3,data!$Y8:$AB8,0)),AX10),\"●\"),\"●\"))","v":""},{"$f":"IF(ISERROR(MATCH(view!AY$3,data!$Y8:$AB8,0)),\"\",IFERROR(HYPERLINK(showDetails(INDEX(data!$S8:$V8,MATCH(view!AY$3,data!$Y8:$AB8,0)),AY10),\"●\"),\"●\"))","v":""},{"$f":"IF(ISERROR(MATCH(view!AZ$3,data!$Y8:$AB8,0)),\"\",IFERROR(HYPERLINK(showDetails(INDEX(data!$S8:$V8,MATCH(view!AZ$3,data!$Y8:$AB8,0)),AZ10),\"●\"),\"●\"))","v":""},{"$f":"IF(ISERROR(MATCH(view!BA$3,data!$Y8:$AB8,0)),\"\",IFERROR(HYPERLINK(showDetails(INDEX(data!$S8:$V8,MATCH(view!BA$3,data!$Y8:$AB8,0)),BA10),\"●\"),\"●\"))","v":""},{"$f":"IF(ISERROR(MATCH(view!BB$3,data!$Y8:$AB8,0)),\"\",IFERROR(HYPERLINK(showDetails(INDEX(data!$S8:$V8,MATCH(view!BB$3,data!$Y8:$AB8,0)),BB10),\"●\"),\"●\"))","v":""},{"$f":"IF(ISERROR(MATCH(view!BC$3,data!$Y8:$AB8,0)),\"\",IFERROR(HYPERLINK(showDetails(INDEX(data!$S8:$V8,MATCH(view!BC$3,data!$Y8:$AB8,0)),BC10),\"●\"),\"●\"))","v":""},{"$f":"IF(ISERROR(MATCH(view!BD$3,data!$Y8:$AB8,0)),\"\",IFERROR(HYPERLINK(showDetails(INDEX(data!$S8:$V8,MATCH(view!BD$3,data!$Y8:$AB8,0)),BD10),\"●\"),\"●\"))","v":""},{"$f":"IF(ISERROR(MATCH(view!BE$3,data!$Y8:$AB8,0)),\"\",IFERROR(HYPERLINK(showDetails(INDEX(data!$S8:$V8,MATCH(view!BE$3,data!$Y8:$AB8,0)),BE10),\"●\"),\"●\"))","v":""},{"$f":"IF(ISERROR(MATCH(view!BF$3,data!$Y8:$AB8,0)),\"\",IFERROR(HYPERLINK(showDetails(INDEX(data!$S8:$V8,MATCH(view!BF$3,data!$Y8:$AB8,0)),BF10),\"●\"),\"●\"))","v":""},{"$f":"IF(ISERROR(MATCH(view!BG$3,data!$Y8:$AB8,0)),\"\",IFERROR(HYPERLINK(showDetails(INDEX(data!$S8:$V8,MATCH(view!BG$3,data!$Y8:$AB8,0)),BG10),\"●\"),\"●\"))","v":""},{"$f":"IF(ISERROR(MATCH(view!BH$3,data!$Y8:$AB8,0)),\"\",IFERROR(HYPERLINK(showDetails(INDEX(data!$S8:$V8,MATCH(view!BH$3,data!$Y8:$AB8,0)),BH10),\"●\"),\"●\"))","v":""},{"$f":"IF(ISERROR(MATCH(view!BI$3,data!$Y8:$AB8,0)),\"\",IFERROR(HYPERLINK(showDetails(INDEX(data!$S8:$V8,MATCH(view!BI$3,data!$Y8:$AB8,0)),BI10),\"●\"),\"●\"))","v":""},{"$f":"IF(ISERROR(MATCH(view!BJ$3,data!$Y8:$AB8,0)),\"\",IFERROR(HYPERLINK(showDetails(INDEX(data!$S8:$V8,MATCH(view!BJ$3,data!$Y8:$AB8,0)),BJ10),\"●\"),\"●\"))","v":""},{"$f":"IF(ISERROR(MATCH(view!BK$3,data!$Y8:$AB8,0)),\"\",IFERROR(HYPERLINK(showDetails(INDEX(data!$S8:$V8,MATCH(view!BK$3,data!$Y8:$AB8,0)),BK10),\"●\"),\"●\"))","v":""},{"$f":"IF(ISERROR(MATCH(view!BL$3,data!$Y8:$AB8,0)),\"\",IFERROR(HYPERLINK(showDetails(INDEX(data!$S8:$V8,MATCH(view!BL$3,data!$Y8:$AB8,0)),BL10),\"●\"),\"●\"))","v":""},{"$f":"IF(ISERROR(MATCH(view!BM$3,data!$Y8:$AB8,0)),\"\",IFERROR(HYPERLINK(showDetails(INDEX(data!$S8:$V8,MATCH(view!BM$3,data!$Y8:$AB8,0)),BM10),\"●\"),\"●\"))","v":""},{"$f":"IF(ISERROR(MATCH(view!BN$3,data!$Y8:$AB8,0)),\"\",IFERROR(HYPERLINK(showDetails(INDEX(data!$S8:$V8,MATCH(view!BN$3,data!$Y8:$AB8,0)),BN10),\"●\"),\"●\"))","v":""},{"$f":"IF(ISERROR(MATCH(view!BO$3,data!$Y8:$AB8,0)),\"\",IFERROR(HYPERLINK(showDetails(INDEX(data!$S8:$V8,MATCH(view!BO$3,data!$Y8:$AB8,0)),BO10),\"●\"),\"●\"))","v":""},{"$f":"IF(ISERROR(MATCH(view!BP$3,data!$Y8:$AB8,0)),\"\",IFERROR(HYPERLINK(showDetails(INDEX(data!$S8:$V8,MATCH(view!BP$3,data!$Y8:$AB8,0)),BP10),\"●\"),\"●\"))","v":""},{"$f":"IF(ISERROR(MATCH(view!BQ$3,data!$Y8:$AB8,0)),\"\",IFERROR(HYPERLINK(showDetails(INDEX(data!$S8:$V8,MATCH(view!BQ$3,data!$Y8:$AB8,0)),BQ10),\"●\"),\"●\"))","v":""},{"$f":"IF(ISERROR(MATCH(view!BR$3,data!$Y8:$AB8,0)),\"\",IFERROR(HYPERLINK(showDetails(INDEX(data!$S8:$V8,MATCH(view!BR$3,data!$Y8:$AB8,0)),BR10),\"●\"),\"●\"))","v":""},{"$f":"IF(ISERROR(MATCH(view!BS$3,data!$Y8:$AB8,0)),\"\",IFERROR(HYPERLINK(showDetails(INDEX(data!$S8:$V8,MATCH(view!BS$3,data!$Y8:$AB8,0)),BS10),\"●\"),\"●\"))","v":""},{"$f":"IF(ISERROR(MATCH(view!BT$3,data!$Y8:$AB8,0)),\"\",IFERROR(HYPERLINK(showDetails(INDEX(data!$S8:$V8,MATCH(view!BT$3,data!$Y8:$AB8,0)),BT10),\"●\"),\"●\"))","v":""},{"$f":"IF(ISERROR(MATCH(view!BU$3,data!$Y8:$AB8,0)),\"\",IFERROR(HYPERLINK(showDetails(INDEX(data!$S8:$V8,MATCH(view!BU$3,data!$Y8:$AB8,0)),BU10),\"●\"),\"●\"))","v":""},{"$f":"IF(ISERROR(MATCH(view!BV$3,data!$Y8:$AB8,0)),\"\",IFERROR(HYPERLINK(showDetails(INDEX(data!$S8:$V8,MATCH(view!BV$3,data!$Y8:$AB8,0)),BV10),\"●\"),\"●\"))","v":""},{"$f":"IF(ISERROR(MATCH(view!BW$3,data!$Y8:$AB8,0)),\"\",IFERROR(HYPERLINK(showDetails(INDEX(data!$S8:$V8,MATCH(view!BW$3,data!$Y8:$AB8,0)),BW10),\"●\"),\"●\"))","v":""},{"$f":"IF(ISERROR(MATCH(view!BX$3,data!$Y8:$AB8,0)),\"\",IFERROR(HYPERLINK(showDetails(INDEX(data!$S8:$V8,MATCH(view!BX$3,data!$Y8:$AB8,0)),BX10),\"●\"),\"●\"))","v":""},{"$f":"IF(ISERROR(MATCH(view!BY$3,data!$Y8:$AB8,0)),\"\",IFERROR(HYPERLINK(showDetails(INDEX(data!$S8:$V8,MATCH(view!BY$3,data!$Y8:$AB8,0)),BY10),\"●\"),\"●\"))","v":""},{"$f":"IF(ISERROR(MATCH(view!BZ$3,data!$Y8:$AB8,0)),\"\",IFERROR(HYPERLINK(showDetails(INDEX(data!$S8:$V8,MATCH(view!BZ$3,data!$Y8:$AB8,0)),BZ10),\"●\"),\"●\"))","v":""},{"$f":"IF(ISERROR(MATCH(view!CA$3,data!$Y8:$AB8,0)),\"\",IFERROR(HYPERLINK(showDetails(INDEX(data!$S8:$V8,MATCH(view!CA$3,data!$Y8:$AB8,0)),CA10),\"●\"),\"●\"))","v":""},{"$f":"IF(ISERROR(MATCH(view!CB$3,data!$Y8:$AB8,0)),\"\",IFERROR(HYPERLINK(showDetails(INDEX(data!$S8:$V8,MATCH(view!CB$3,data!$Y8:$AB8,0)),CB10),\"●\"),\"●\"))","v":""},{"$f":"IF(ISERROR(MATCH(view!CC$3,data!$Y8:$AB8,0)),\"\",IFERROR(HYPERLINK(showDetails(INDEX(data!$S8:$V8,MATCH(view!CC$3,data!$Y8:$AB8,0)),CC10),\"●\"),\"●\"))","v":""},{"$f":"IF(ISERROR(MATCH(view!CD$3,data!$Y8:$AB8,0)),\"\",IFERROR(HYPERLINK(showDetails(INDEX(data!$S8:$V8,MATCH(view!CD$3,data!$Y8:$AB8,0)),CD10),\"●\"),\"●\"))","v":""},{"$f":"IF(ISERROR(MATCH(view!CE$3,data!$Y8:$AB8,0)),\"\",IFERROR(HYPERLINK(showDetails(INDEX(data!$S8:$V8,MATCH(view!CE$3,data!$Y8:$AB8,0)),CE10),\"●\"),\"●\"))","v":""},{"$f":"IF(ISERROR(MATCH(view!CF$3,data!$Y8:$AB8,0)),\"\",IFERROR(HYPERLINK(showDetails(INDEX(data!$S8:$V8,MATCH(view!CF$3,data!$Y8:$AB8,0)),CF10),\"●\"),\"●\"))","v":""},{"$f":"IF(ISERROR(MATCH(view!CG$3,data!$Y8:$AB8,0)),\"\",IFERROR(HYPERLINK(showDetails(INDEX(data!$S8:$V8,MATCH(view!CG$3,data!$Y8:$AB8,0)),CG10),\"●\"),\"●\"))","v":""},{"$f":"IF(ISERROR(MATCH(view!CH$3,data!$Y8:$AB8,0)),\"\",IFERROR(HYPERLINK(showDetails(INDEX(data!$S8:$V8,MATCH(view!CH$3,data!$Y8:$AB8,0)),CH10),\"●\"),\"●\"))","v":""},{"$f":"IF(ISERROR(MATCH(view!CI$3,data!$Y8:$AB8,0)),\"\",IFERROR(HYPERLINK(showDetails(INDEX(data!$S8:$V8,MATCH(view!CI$3,data!$Y8:$AB8,0)),CI10),\"●\"),\"●\"))","v":""},{"$f":"IF(ISERROR(MATCH(view!CJ$3,data!$Y8:$AB8,0)),\"\",IFERROR(HYPERLINK(showDetails(INDEX(data!$S8:$V8,MATCH(view!CJ$3,data!$Y8:$AB8,0)),CJ10),\"●\"),\"●\"))","v":""},{"$f":"IF(ISERROR(MATCH(view!CK$3,data!$Y8:$AB8,0)),\"\",IFERROR(HYPERLINK(showDetails(INDEX(data!$S8:$V8,MATCH(view!CK$3,data!$Y8:$AB8,0)),CK10),\"●\"),\"●\"))","v":""},{"$f":"IF(ISERROR(MATCH(view!CL$3,data!$Y8:$AB8,0)),\"\",IFERROR(HYPERLINK(showDetails(INDEX(data!$S8:$V8,MATCH(view!CL$3,data!$Y8:$AB8,0)),CL10),\"●\"),\"●\"))","v":""},{"$f":"IF(ISERROR(MATCH(view!CM$3,data!$Y8:$AB8,0)),\"\",IFERROR(HYPERLINK(showDetails(INDEX(data!$S8:$V8,MATCH(view!CM$3,data!$Y8:$AB8,0)),CM10),\"●\"),\"●\"))","v":""},{"$f":"IF(ISERROR(MATCH(view!CN$3,data!$Y8:$AB8,0)),\"\",IFERROR(HYPERLINK(showDetails(INDEX(data!$S8:$V8,MATCH(view!CN$3,data!$Y8:$AB8,0)),CN10),\"●\"),\"●\"))","v":""},{"$f":"IF(ISERROR(MATCH(view!CO$3,data!$Y8:$AB8,0)),\"\",IFERROR(HYPERLINK(showDetails(INDEX(data!$S8:$V8,MATCH(view!CO$3,data!$Y8:$AB8,0)),CO10),\"●\"),\"●\"))","v":""},{"$f":"IF(ISERROR(MATCH(view!CP$3,data!$Y8:$AB8,0)),\"\",IFERROR(HYPERLINK(showDetails(INDEX(data!$S8:$V8,MATCH(view!CP$3,data!$Y8:$AB8,0)),CP10),\"●\"),\"●\"))","v":""},{"$f":"IF(ISERROR(MATCH(view!CQ$3,data!$Y8:$AB8,0)),\"\",IFERROR(HYPERLINK(showDetails(INDEX(data!$S8:$V8,MATCH(view!CQ$3,data!$Y8:$AB8,0)),CQ10),\"●\"),\"●\"))","v":""},{"$f":"IF(ISERROR(MATCH(view!CR$3,data!$Y8:$AB8,0)),\"\",IFERROR(HYPERLINK(showDetails(INDEX(data!$S8:$V8,MATCH(view!CR$3,data!$Y8:$AB8,0)),CR10),\"●\"),\"●\"))","v":""},{"$f":"IF(ISERROR(MATCH(view!CS$3,data!$Y8:$AB8,0)),\"\",IFERROR(HYPERLINK(showDetails(INDEX(data!$S8:$V8,MATCH(view!CS$3,data!$Y8:$AB8,0)),CS10),\"●\"),\"●\"))","v":""},{"$f":"IF(ISERROR(MATCH(view!CT$3,data!$Y8:$AB8,0)),\"\",IFERROR(HYPERLINK(showDetails(INDEX(data!$S8:$V8,MATCH(view!CT$3,data!$Y8:$AB8,0)),CT10),\"●\"),\"●\"))","v":""},{"$f":"IF(ISERROR(MATCH(view!CU$3,data!$Y8:$AB8,0)),\"\",IFERROR(HYPERLINK(showDetails(INDEX(data!$S8:$V8,MATCH(view!CU$3,data!$Y8:$AB8,0)),CU10),\"●\"),\"●\"))","v":""},{"$f":"IF(ISERROR(MATCH(view!CV$3,data!$Y8:$AB8,0)),\"\",IFERROR(HYPERLINK(showDetails(INDEX(data!$S8:$V8,MATCH(view!CV$3,data!$Y8:$AB8,0)),CV10),\"●\"),\"●\"))","v":""},{"$f":"IF(ISERROR(MATCH(view!CW$3,data!$Y8:$AB8,0)),\"\",IFERROR(HYPERLINK(showDetails(INDEX(data!$S8:$V8,MATCH(view!CW$3,data!$Y8:$AB8,0)),CW10),\"●\"),\"●\"))","v":""},{"$f":"IF(ISERROR(MATCH(view!CX$3,data!$Y8:$AB8,0)),\"\",IFERROR(HYPERLINK(showDetails(INDEX(data!$S8:$V8,MATCH(view!CX$3,data!$Y8:$AB8,0)),CX10),\"●\"),\"●\"))","v":"●"},{"$f":"IF(ISERROR(MATCH(view!CY$3,data!$Y8:$AB8,0)),\"\",IFERROR(HYPERLINK(showDetails(INDEX(data!$S8:$V8,MATCH(view!CY$3,data!$Y8:$AB8,0)),CY10),\"●\"),\"●\"))","v":"●"},{"$f":"IF(ISERROR(MATCH(view!CZ$3,data!$Y8:$AB8,0)),\"\",IFERROR(HYPERLINK(showDetails(INDEX(data!$S8:$V8,MATCH(view!CZ$3,data!$Y8:$AB8,0)),CZ10),\"●\"),\"●\"))","v":""},{"$f":"IF(ISERROR(MATCH(view!DA$3,data!$Y8:$AB8,0)),\"\",IFERROR(HYPERLINK(showDetails(INDEX(data!$S8:$V8,MATCH(view!DA$3,data!$Y8:$AB8,0)),DA10),\"●\"),\"●\"))","v":""},{"$f":"IF(ISERROR(MATCH(view!DB$3,data!$Y8:$AB8,0)),\"\",IFERROR(HYPERLINK(showDetails(INDEX(data!$S8:$V8,MATCH(view!DB$3,data!$Y8:$AB8,0)),DB10),\"●\"),\"●\"))","v":"●"},{"$f":"IF(ISERROR(MATCH(view!DC$3,data!$Y8:$AB8,0)),\"\",IFERROR(HYPERLINK(showDetails(INDEX(data!$S8:$V8,MATCH(view!DC$3,data!$Y8:$AB8,0)),DC10),\"●\"),\"●\"))","v":""},{"$f":"IF(ISERROR(MATCH(view!DD$3,data!$Y8:$AB8,0)),\"\",IFERROR(HYPERLINK(showDetails(INDEX(data!$S8:$V8,MATCH(view!DD$3,data!$Y8:$AB8,0)),DD10),\"●\"),\"●\"))","v":""},{"$f":"IF(ISERROR(MATCH(view!DE$3,data!$Y8:$AB8,0)),\"\",IFERROR(HYPERLINK(showDetails(INDEX(data!$S8:$V8,MATCH(view!DE$3,data!$Y8:$AB8,0)),DE10),\"●\"),\"●\"))","v":""},{"$f":"IF(ISERROR(MATCH(view!DF$3,data!$Y8:$AB8,0)),\"\",IFERROR(HYPERLINK(showDetails(INDEX(data!$S8:$V8,MATCH(view!DF$3,data!$Y8:$AB8,0)),DF10),\"●\"),\"●\"))","v":""},{"$f":"IF(ISERROR(MATCH(view!DG$3,data!$Y8:$AB8,0)),\"\",IFERROR(HYPERLINK(showDetails(INDEX(data!$S8:$V8,MATCH(view!DG$3,data!$Y8:$AB8,0)),DG10),\"●\"),\"●\"))","v":""},{"$f":"IF(ISERROR(MATCH(view!DH$3,data!$Y8:$AB8,0)),\"\",IFERROR(HYPERLINK(showDetails(INDEX(data!$S8:$V8,MATCH(view!DH$3,data!$Y8:$AB8,0)),DH10),\"●\"),\"●\"))","v":""},{"$f":"IF(ISERROR(MATCH(view!DI$3,data!$Y8:$AB8,0)),\"\",IFERROR(HYPERLINK(showDetails(INDEX(data!$S8:$V8,MATCH(view!DI$3,data!$Y8:$AB8,0)),DI10),\"●\"),\"●\"))","v":""},{"$f":"IF(ISERROR(MATCH(view!DJ$3,data!$Y8:$AB8,0)),\"\",IFERROR(HYPERLINK(showDetails(INDEX(data!$S8:$V8,MATCH(view!DJ$3,data!$Y8:$AB8,0)),DJ10),\"●\"),\"●\"))","v":""},{"$f":"IF(ISERROR(MATCH(view!DK$3,data!$Y8:$AB8,0)),\"\",IFERROR(HYPERLINK(showDetails(INDEX(data!$S8:$V8,MATCH(view!DK$3,data!$Y8:$AB8,0)),DK10),\"●\"),\"●\"))","v":""},{"$f":"IF(ISERROR(MATCH(view!DL$3,data!$Y8:$AB8,0)),\"\",IFERROR(HYPERLINK(showDetails(INDEX(data!$S8:$V8,MATCH(view!DL$3,data!$Y8:$AB8,0)),DL10),\"●\"),\"●\"))","v":""},{"$f":"IF(ISERROR(MATCH(view!DM$3,data!$Y8:$AB8,0)),\"\",IFERROR(HYPERLINK(showDetails(INDEX(data!$S8:$V8,MATCH(view!DM$3,data!$Y8:$AB8,0)),DM10),\"●\"),\"●\"))","v":""},{"$f":"IF(ISERROR(MATCH(view!DN$3,data!$Y8:$AB8,0)),\"\",IFERROR(HYPERLINK(showDetails(INDEX(data!$S8:$V8,MATCH(view!DN$3,data!$Y8:$AB8,0)),DN10),\"●\"),\"●\"))","v":""},{"$f":"IF(ISERROR(MATCH(view!DO$3,data!$Y8:$AB8,0)),\"\",IFERROR(HYPERLINK(showDetails(INDEX(data!$S8:$V8,MATCH(view!DO$3,data!$Y8:$AB8,0)),DO10),\"●\"),\"●\"))","v":""},{"$f":"IF(ISERROR(MATCH(view!DP$3,data!$Y8:$AB8,0)),\"\",IFERROR(HYPERLINK(showDetails(INDEX(data!$S8:$V8,MATCH(view!DP$3,data!$Y8:$AB8,0)),DP10),\"●\"),\"●\"))","v":""},{"$f":"IF(ISERROR(MATCH(view!DQ$3,data!$Y8:$AB8,0)),\"\",IFERROR(HYPERLINK(showDetails(INDEX(data!$S8:$V8,MATCH(view!DQ$3,data!$Y8:$AB8,0)),DQ10),\"●\"),\"●\"))","v":""},{"$f":"IF(ISERROR(MATCH(view!DR$3,data!$Y8:$AB8,0)),\"\",IFERROR(HYPERLINK(showDetails(INDEX(data!$S8:$V8,MATCH(view!DR$3,data!$Y8:$AB8,0)),DR10),\"●\"),\"●\"))","v":""},{"$f":"IF(ISERROR(MATCH(view!DS$3,data!$Y8:$AB8,0)),\"\",IFERROR(HYPERLINK(showDetails(INDEX(data!$S8:$V8,MATCH(view!DS$3,data!$Y8:$AB8,0)),DS10),\"●\"),\"●\"))","v":""},{"$f":"INDEX(lstYears,A10) &\" - \"&INDEX(data!$W$3:$W$30,A10)","v":"1992 - Barcelona"}]
[7,null,{"$f":"IF(ISERROR(MATCH(view!C$3,data!$Y9:$AB9,0)),\"\",IFERROR(HYPERLINK(showDetails(INDEX(data!$S9:$V9,MATCH(view!C$3,data!$Y9:$AB9,0)),C11),\"●\"),\"●\"))","v":""},{"$f":"IF(ISERROR(MATCH(view!D$3,data!$Y9:$AB9,0)),\"\",IFERROR(HYPERLINK(showDetails(INDEX(data!$S9:$V9,MATCH(view!D$3,data!$Y9:$AB9,0)),D11),\"●\"),\"●\"))","v":""},{"$f":"IF(ISERROR(MATCH(view!E$3,data!$Y9:$AB9,0)),\"\",IFERROR(HYPERLINK(showDetails(INDEX(data!$S9:$V9,MATCH(view!E$3,data!$Y9:$AB9,0)),E11),\"●\"),\"●\"))","v":""},{"$f":"IF(ISERROR(MATCH(view!F$3,data!$Y9:$AB9,0)),\"\",IFERROR(HYPERLINK(showDetails(INDEX(data!$S9:$V9,MATCH(view!F$3,data!$Y9:$AB9,0)),F11),\"●\"),\"●\"))","v":""},{"$f":"IF(ISERROR(MATCH(view!G$3,data!$Y9:$AB9,0)),\"\",IFERROR(HYPERLINK(showDetails(INDEX(data!$S9:$V9,MATCH(view!G$3,data!$Y9:$AB9,0)),G11),\"●\"),\"●\"))","v":""},{"$f":"IF(ISERROR(MATCH(view!H$3,data!$Y9:$AB9,0)),\"\",IFERROR(HYPERLINK(showDetails(INDEX(data!$S9:$V9,MATCH(view!H$3,data!$Y9:$AB9,0)),H11),\"●\"),\"●\"))","v":""},{"$f":"IF(ISERROR(MATCH(view!I$3,data!$Y9:$AB9,0)),\"\",IFERROR(HYPERLINK(showDetails(INDEX(data!$S9:$V9,MATCH(view!I$3,data!$Y9:$AB9,0)),I11),\"●\"),\"●\"))","v":""},{"$f":"IF(ISERROR(MATCH(view!J$3,data!$Y9:$AB9,0)),\"\",IFERROR(HYPERLINK(showDetails(INDEX(data!$S9:$V9,MATCH(view!J$3,data!$Y9:$AB9,0)),J11),\"●\"),\"●\"))","v":""},{"$f":"IF(ISERROR(MATCH(view!K$3,data!$Y9:$AB9,0)),\"\",IFERROR(HYPERLINK(showDetails(INDEX(data!$S9:$V9,MATCH(view!K$3,data!$Y9:$AB9,0)),K11),\"●\"),\"●\"))","v":""},{"$f":"IF(ISERROR(MATCH(view!L$3,data!$Y9:$AB9,0)),\"\",IFERROR(HYPERLINK(showDetails(INDEX(data!$S9:$V9,MATCH(view!L$3,data!$Y9:$AB9,0)),L11),\"●\"),\"●\"))","v":""},{"$f":"IF(ISERROR(MATCH(view!M$3,data!$Y9:$AB9,0)),\"\",IFERROR(HYPERLINK(showDetails(INDEX(data!$S9:$V9,MATCH(view!M$3,data!$Y9:$AB9,0)),M11),\"●\"),\"●\"))","v":""},{"$f":"IF(ISERROR(MATCH(view!N$3,data!$Y9:$AB9,0)),\"\",IFERROR(HYPERLINK(showDetails(INDEX(data!$S9:$V9,MATCH(view!N$3,data!$Y9:$AB9,0)),N11),\"●\"),\"●\"))","v":""},{"$f":"IF(ISERROR(MATCH(view!O$3,data!$Y9:$AB9,0)),\"\",IFERROR(HYPERLINK(showDetails(INDEX(data!$S9:$V9,MATCH(view!O$3,data!$Y9:$AB9,0)),O11),\"●\"),\"●\"))","v":""},{"$f":"IF(ISERROR(MATCH(view!P$3,data!$Y9:$AB9,0)),\"\",IFERROR(HYPERLINK(showDetails(INDEX(data!$S9:$V9,MATCH(view!P$3,data!$Y9:$AB9,0)),P11),\"●\"),\"●\"))","v":""},{"$f":"IF(ISERROR(MATCH(view!Q$3,data!$Y9:$AB9,0)),\"\",IFERROR(HYPERLINK(showDetails(INDEX(data!$S9:$V9,MATCH(view!Q$3,data!$Y9:$AB9,0)),Q11),\"●\"),\"●\"))","v":""},{"$f":"IF(ISERROR(MATCH(view!R$3,data!$Y9:$AB9,0)),\"\",IFERROR(HYPERLINK(showDetails(INDEX(data!$S9:$V9,MATCH(view!R$3,data!$Y9:$AB9,0)),R11),\"●\"),\"●\"))","v":""},{"$f":"IF(ISERROR(MATCH(view!S$3,data!$Y9:$AB9,0)),\"\",IFERROR(HYPERLINK(showDetails(INDEX(data!$S9:$V9,MATCH(view!S$3,data!$Y9:$AB9,0)),S11),\"●\"),\"●\"))","v":""},{"$f":"IF(ISERROR(MATCH(view!T$3,data!$Y9:$AB9,0)),\"\",IFERROR(HYPERLINK(showDetails(INDEX(data!$S9:$V9,MATCH(view!T$3,data!$Y9:$AB9,0)),T11),\"●\"),\"●\"))","v":""},{"$f":"IF(ISERROR(MATCH(view!U$3,data!$Y9:$AB9,0)),\"\",IFERROR(HYPERLINK(showDetails(INDEX(data!$S9:$V9,MATCH(view!U$3,data!$Y9:$AB9,0)),U11),\"●\"),\"●\"))","v":""},{"$f":"IF(ISERROR(MATCH(view!V$3,data!$Y9:$AB9,0)),\"\",IFERROR(HYPERLINK(showDetails(INDEX(data!$S9:$V9,MATCH(view!V$3,data!$Y9:$AB9,0)),V11),\"●\"),\"●\"))","v":""},{"$f":"IF(ISERROR(MATCH(view!W$3,data!$Y9:$AB9,0)),\"\",IFERROR(HYPERLINK(showDetails(INDEX(data!$S9:$V9,MATCH(view!W$3,data!$Y9:$AB9,0)),W11),\"●\"),\"●\"))","v":""},{"$f":"IF(ISERROR(MATCH(view!X$3,data!$Y9:$AB9,0)),\"\",IFERROR(HYPERLINK(showDetails(INDEX(data!$S9:$V9,MATCH(view!X$3,data!$Y9:$AB9,0)),X11),\"●\"),\"●\"))","v":""},{"$f":"IF(ISERROR(MATCH(view!Y$3,data!$Y9:$AB9,0)),\"\",IFERROR(HYPERLINK(showDetails(INDEX(data!$S9:$V9,MATCH(view!Y$3,data!$Y9:$AB9,0)),Y11),\"●\"),\"●\"))","v":""},{"$f":"IF(ISERROR(MATCH(view!Z$3,data!$Y9:$AB9,0)),\"\",IFERROR(HYPERLINK(showDetails(INDEX(data!$S9:$V9,MATCH(view!Z$3,data!$Y9:$AB9,0)),Z11),\"●\"),\"●\"))","v":""},{"$f":"IF(ISERROR(MATCH(view!AA$3,data!$Y9:$AB9,0)),\"\",IFERROR(HYPERLINK(showDetails(INDEX(data!$S9:$V9,MATCH(view!AA$3,data!$Y9:$AB9,0)),AA11),\"●\"),\"●\"))","v":""},{"$f":"IF(ISERROR(MATCH(view!AB$3,data!$Y9:$AB9,0)),\"\",IFERROR(HYPERLINK(showDetails(INDEX(data!$S9:$V9,MATCH(view!AB$3,data!$Y9:$AB9,0)),AB11),\"●\"),\"●\"))","v":""},{"$f":"IF(ISERROR(MATCH(view!AC$3,data!$Y9:$AB9,0)),\"\",IFERROR(HYPERLINK(showDetails(INDEX(data!$S9:$V9,MATCH(view!AC$3,data!$Y9:$AB9,0)),AC11),\"●\"),\"●\"))","v":""},{"$f":"IF(ISERROR(MATCH(view!AD$3,data!$Y9:$AB9,0)),\"\",IFERROR(HYPERLINK(showDetails(INDEX(data!$S9:$V9,MATCH(view!AD$3,data!$Y9:$AB9,0)),AD11),\"●\"),\"●\"))","v":""},{"$f":"IF(ISERROR(MATCH(view!AE$3,data!$Y9:$AB9,0)),\"\",IFERROR(HYPERLINK(showDetails(INDEX(data!$S9:$V9,MATCH(view!AE$3,data!$Y9:$AB9,0)),AE11),\"●\"),\"●\"))","v":""},{"$f":"IF(ISERROR(MATCH(view!AF$3,data!$Y9:$AB9,0)),\"\",IFERROR(HYPERLINK(showDetails(INDEX(data!$S9:$V9,MATCH(view!AF$3,data!$Y9:$AB9,0)),AF11),\"●\"),\"●\"))","v":""},{"$f":"IF(ISERROR(MATCH(view!AG$3,data!$Y9:$AB9,0)),\"\",IFERROR(HYPERLINK(showDetails(INDEX(data!$S9:$V9,MATCH(view!AG$3,data!$Y9:$AB9,0)),AG11),\"●\"),\"●\"))","v":""},{"$f":"IF(ISERROR(MATCH(view!AH$3,data!$Y9:$AB9,0)),\"\",IFERROR(HYPERLINK(showDetails(INDEX(data!$S9:$V9,MATCH(view!AH$3,data!$Y9:$AB9,0)),AH11),\"●\"),\"●\"))","v":""},{"$f":"IF(ISERROR(MATCH(view!AI$3,data!$Y9:$AB9,0)),\"\",IFERROR(HYPERLINK(showDetails(INDEX(data!$S9:$V9,MATCH(view!AI$3,data!$Y9:$AB9,0)),AI11),\"●\"),\"●\"))","v":""},{"$f":"IF(ISERROR(MATCH(view!AJ$3,data!$Y9:$AB9,0)),\"\",IFERROR(HYPERLINK(showDetails(INDEX(data!$S9:$V9,MATCH(view!AJ$3,data!$Y9:$AB9,0)),AJ11),\"●\"),\"●\"))","v":""},{"$f":"IF(ISERROR(MATCH(view!AK$3,data!$Y9:$AB9,0)),\"\",IFERROR(HYPERLINK(showDetails(INDEX(data!$S9:$V9,MATCH(view!AK$3,data!$Y9:$AB9,0)),AK11),\"●\"),\"●\"))","v":""},{"$f":"IF(ISERROR(MATCH(view!AL$3,data!$Y9:$AB9,0)),\"\",IFERROR(HYPERLINK(showDetails(INDEX(data!$S9:$V9,MATCH(view!AL$3,data!$Y9:$AB9,0)),AL11),\"●\"),\"●\"))","v":""},{"$f":"IF(ISERROR(MATCH(view!AM$3,data!$Y9:$AB9,0)),\"\",IFERROR(HYPERLINK(showDetails(INDEX(data!$S9:$V9,MATCH(view!AM$3,data!$Y9:$AB9,0)),AM11),\"●\"),\"●\"))","v":""},{"$f":"IF(ISERROR(MATCH(view!AN$3,data!$Y9:$AB9,0)),\"\",IFERROR(HYPERLINK(showDetails(INDEX(data!$S9:$V9,MATCH(view!AN$3,data!$Y9:$AB9,0)),AN11),\"●\"),\"●\"))","v":""},{"$f":"IF(ISERROR(MATCH(view!AO$3,data!$Y9:$AB9,0)),\"\",IFERROR(HYPERLINK(showDetails(INDEX(data!$S9:$V9,MATCH(view!AO$3,data!$Y9:$AB9,0)),AO11),\"●\"),\"●\"))","v":""},{"$f":"IF(ISERROR(MATCH(view!AP$3,data!$Y9:$AB9,0)),\"\",IFERROR(HYPERLINK(showDetails(INDEX(data!$S9:$V9,MATCH(view!AP$3,data!$Y9:$AB9,0)),AP11),\"●\"),\"●\"))","v":""},{"$f":"IF(ISERROR(MATCH(view!AQ$3,data!$Y9:$AB9,0)),\"\",IFERROR(HYPERLINK(showDetails(INDEX(data!$S9:$V9,MATCH(view!AQ$3,data!$Y9:$AB9,0)),AQ11),\"●\"),\"●\"))","v":""},{"$f":"IF(ISERROR(MATCH(view!AR$3,data!$Y9:$AB9,0)),\"\",IFERROR(HYPERLINK(showDetails(INDEX(data!$S9:$V9,MATCH(view!AR$3,data!$Y9:$AB9,0)),AR11),\"●\"),\"●\"))","v":""},{"$f":"IF(ISERROR(MATCH(view!AS$3,data!$Y9:$AB9,0)),\"\",IFERROR(HYPERLINK(showDetails(INDEX(data!$S9:$V9,MATCH(view!AS$3,data!$Y9:$AB9,0)),AS11),\"●\"),\"●\"))","v":""},{"$f":"IF(ISERROR(MATCH(view!AT$3,data!$Y9:$AB9,0)),\"\",IFERROR(HYPERLINK(showDetails(INDEX(data!$S9:$V9,MATCH(view!AT$3,data!$Y9:$AB9,0)),AT11),\"●\"),\"●\"))","v":""},{"$f":"IF(ISERROR(MATCH(view!AU$3,data!$Y9:$AB9,0)),\"\",IFERROR(HYPERLINK(showDetails(INDEX(data!$S9:$V9,MATCH(view!AU$3,data!$Y9:$AB9,0)),AU11),\"●\"),\"●\"))","v":""},{"$f":"IF(ISERROR(MATCH(view!AV$3,data!$Y9:$AB9,0)),\"\",IFERROR(HYPERLINK(showDetails(INDEX(data!$S9:$V9,MATCH(view!AV$3,data!$Y9:$AB9,0)),AV11),\"●\"),\"●\"))","v":""},{"$f":"IF(ISERROR(MATCH(view!AW$3,data!$Y9:$AB9,0)),\"\",IFERROR(HYPERLINK(showDetails(INDEX(data!$S9:$V9,MATCH(view!AW$3,data!$Y9:$AB9,0)),AW11),\"●\"),\"●\"))","v":""},{"$f":"IF(ISERROR(MATCH(view!AX$3,data!$Y9:$AB9,0)),\"\",IFERROR(HYPERLINK(showDetails(INDEX(data!$S9:$V9,MATCH(view!AX$3,data!$Y9:$AB9,0)),AX11),\"●\"),\"●\"))","v":""},{"$f":"IF(ISERROR(MATCH(view!AY$3,data!$Y9:$AB9,0)),\"\",IFERROR(HYPERLINK(showDetails(INDEX(data!$S9:$V9,MATCH(view!AY$3,data!$Y9:$AB9,0)),AY11),\"●\"),\"●\"))","v":""},{"$f":"IF(ISERROR(MATCH(view!AZ$3,data!$Y9:$AB9,0)),\"\",IFERROR(HYPERLINK(showDetails(INDEX(data!$S9:$V9,MATCH(view!AZ$3,data!$Y9:$AB9,0)),AZ11),\"●\"),\"●\"))","v":""},{"$f":"IF(ISERROR(MATCH(view!BA$3,data!$Y9:$AB9,0)),\"\",IFERROR(HYPERLINK(showDetails(INDEX(data!$S9:$V9,MATCH(view!BA$3,data!$Y9:$AB9,0)),BA11),\"●\"),\"●\"))","v":""},{"$f":"IF(ISERROR(MATCH(view!BB$3,data!$Y9:$AB9,0)),\"\",IFERROR(HYPERLINK(showDetails(INDEX(data!$S9:$V9,MATCH(view!BB$3,data!$Y9:$AB9,0)),BB11),\"●\"),\"●\"))","v":""},{"$f":"IF(ISERROR(MATCH(view!BC$3,data!$Y9:$AB9,0)),\"\",IFERROR(HYPERLINK(showDetails(INDEX(data!$S9:$V9,MATCH(view!BC$3,data!$Y9:$AB9,0)),BC11),\"●\"),\"●\"))","v":""},{"$f":"IF(ISERROR(MATCH(view!BD$3,data!$Y9:$AB9,0)),\"\",IFERROR(HYPERLINK(showDetails(INDEX(data!$S9:$V9,MATCH(view!BD$3,data!$Y9:$AB9,0)),BD11),\"●\"),\"●\"))","v":""},{"$f":"IF(ISERROR(MATCH(view!BE$3,data!$Y9:$AB9,0)),\"\",IFERROR(HYPERLINK(showDetails(INDEX(data!$S9:$V9,MATCH(view!BE$3,data!$Y9:$AB9,0)),BE11),\"●\"),\"●\"))","v":""},{"$f":"IF(ISERROR(MATCH(view!BF$3,data!$Y9:$AB9,0)),\"\",IFERROR(HYPERLINK(showDetails(INDEX(data!$S9:$V9,MATCH(view!BF$3,data!$Y9:$AB9,0)),BF11),\"●\"),\"●\"))","v":""},{"$f":"IF(ISERROR(MATCH(view!BG$3,data!$Y9:$AB9,0)),\"\",IFERROR(HYPERLINK(showDetails(INDEX(data!$S9:$V9,MATCH(view!BG$3,data!$Y9:$AB9,0)),BG11),\"●\"),\"●\"))","v":""},{"$f":"IF(ISERROR(MATCH(view!BH$3,data!$Y9:$AB9,0)),\"\",IFERROR(HYPERLINK(showDetails(INDEX(data!$S9:$V9,MATCH(view!BH$3,data!$Y9:$AB9,0)),BH11),\"●\"),\"●\"))","v":""},{"$f":"IF(ISERROR(MATCH(view!BI$3,data!$Y9:$AB9,0)),\"\",IFERROR(HYPERLINK(showDetails(INDEX(data!$S9:$V9,MATCH(view!BI$3,data!$Y9:$AB9,0)),BI11),\"●\"),\"●\"))","v":""},{"$f":"IF(ISERROR(MATCH(view!BJ$3,data!$Y9:$AB9,0)),\"\",IFERROR(HYPERLINK(showDetails(INDEX(data!$S9:$V9,MATCH(view!BJ$3,data!$Y9:$AB9,0)),BJ11),\"●\"),\"●\"))","v":""},{"$f":"IF(ISERROR(MATCH(view!BK$3,data!$Y9:$AB9,0)),\"\",IFERROR(HYPERLINK(showDetails(INDEX(data!$S9:$V9,MATCH(view!BK$3,data!$Y9:$AB9,0)),BK11),\"●\"),\"●\"))","v":""},{"$f":"IF(ISERROR(MATCH(view!BL$3,data!$Y9:$AB9,0)),\"\",IFERROR(HYPERLINK(showDetails(INDEX(data!$S9:$V9,MATCH(view!BL$3,data!$Y9:$AB9,0)),BL11),\"●\"),\"●\"))","v":""},{"$f":"IF(ISERROR(MATCH(view!BM$3,data!$Y9:$AB9,0)),\"\",IFERROR(HYPERLINK(showDetails(INDEX(data!$S9:$V9,MATCH(view!BM$3,data!$Y9:$AB9,0)),BM11),\"●\"),\"●\"))","v":""},{"$f":"IF(ISERROR(MATCH(view!BN$3,data!$Y9:$AB9,0)),\"\",IFERROR(HYPERLINK(showDetails(INDEX(data!$S9:$V9,MATCH(view!BN$3,data!$Y9:$AB9,0)),BN11),\"●\"),\"●\"))","v":""},{"$f":"IF(ISERROR(MATCH(view!BO$3,data!$Y9:$AB9,0)),\"\",IFERROR(HYPERLINK(showDetails(INDEX(data!$S9:$V9,MATCH(view!BO$3,data!$Y9:$AB9,0)),BO11),\"●\"),\"●\"))","v":""},{"$f":"IF(ISERROR(MATCH(view!BP$3,data!$Y9:$AB9,0)),\"\",IFERROR(HYPERLINK(showDetails(INDEX(data!$S9:$V9,MATCH(view!BP$3,data!$Y9:$AB9,0)),BP11),\"●\"),\"●\"))","v":""},{"$f":"IF(ISERROR(MATCH(view!BQ$3,data!$Y9:$AB9,0)),\"\",IFERROR(HYPERLINK(showDetails(INDEX(data!$S9:$V9,MATCH(view!BQ$3,data!$Y9:$AB9,0)),BQ11),\"●\"),\"●\"))","v":""},{"$f":"IF(ISERROR(MATCH(view!BR$3,data!$Y9:$AB9,0)),\"\",IFERROR(HYPERLINK(showDetails(INDEX(data!$S9:$V9,MATCH(view!BR$3,data!$Y9:$AB9,0)),BR11),\"●\"),\"●\"))","v":""},{"$f":"IF(ISERROR(MATCH(view!BS$3,data!$Y9:$AB9,0)),\"\",IFERROR(HYPERLINK(showDetails(INDEX(data!$S9:$V9,MATCH(view!BS$3,data!$Y9:$AB9,0)),BS11),\"●\"),\"●\"))","v":""},{"$f":"IF(ISERROR(MATCH(view!BT$3,data!$Y9:$AB9,0)),\"\",IFERROR(HYPERLINK(showDetails(INDEX(data!$S9:$V9,MATCH(view!BT$3,data!$Y9:$AB9,0)),BT11),\"●\"),\"●\"))","v":""},{"$f":"IF(ISERROR(MATCH(view!BU$3,data!$Y9:$AB9,0)),\"\",IFERROR(HYPERLINK(showDetails(INDEX(data!$S9:$V9,MATCH(view!BU$3,data!$Y9:$AB9,0)),BU11),\"●\"),\"●\"))","v":""},{"$f":"IF(ISERROR(MATCH(view!BV$3,data!$Y9:$AB9,0)),\"\",IFERROR(HYPERLINK(showDetails(INDEX(data!$S9:$V9,MATCH(view!BV$3,data!$Y9:$AB9,0)),BV11),\"●\"),\"●\"))","v":""},{"$f":"IF(ISERROR(MATCH(view!BW$3,data!$Y9:$AB9,0)),\"\",IFERROR(HYPERLINK(showDetails(INDEX(data!$S9:$V9,MATCH(view!BW$3,data!$Y9:$AB9,0)),BW11),\"●\"),\"●\"))","v":""},{"$f":"IF(ISERROR(MATCH(view!BX$3,data!$Y9:$AB9,0)),\"\",IFERROR(HYPERLINK(showDetails(INDEX(data!$S9:$V9,MATCH(view!BX$3,data!$Y9:$AB9,0)),BX11),\"●\"),\"●\"))","v":""},{"$f":"IF(ISERROR(MATCH(view!BY$3,data!$Y9:$AB9,0)),\"\",IFERROR(HYPERLINK(showDetails(INDEX(data!$S9:$V9,MATCH(view!BY$3,data!$Y9:$AB9,0)),BY11),\"●\"),\"●\"))","v":""},{"$f":"IF(ISERROR(MATCH(view!BZ$3,data!$Y9:$AB9,0)),\"\",IFERROR(HYPERLINK(showDetails(INDEX(data!$S9:$V9,MATCH(view!BZ$3,data!$Y9:$AB9,0)),BZ11),\"●\"),\"●\"))","v":""},{"$f":"IF(ISERROR(MATCH(view!CA$3,data!$Y9:$AB9,0)),\"\",IFERROR(HYPERLINK(showDetails(INDEX(data!$S9:$V9,MATCH(view!CA$3,data!$Y9:$AB9,0)),CA11),\"●\"),\"●\"))","v":""},{"$f":"IF(ISERROR(MATCH(view!CB$3,data!$Y9:$AB9,0)),\"\",IFERROR(HYPERLINK(showDetails(INDEX(data!$S9:$V9,MATCH(view!CB$3,data!$Y9:$AB9,0)),CB11),\"●\"),\"●\"))","v":""},{"$f":"IF(ISERROR(MATCH(view!CC$3,data!$Y9:$AB9,0)),\"\",IFERROR(HYPERLINK(showDetails(INDEX(data!$S9:$V9,MATCH(view!CC$3,data!$Y9:$AB9,0)),CC11),\"●\"),\"●\"))","v":""},{"$f":"IF(ISERROR(MATCH(view!CD$3,data!$Y9:$AB9,0)),\"\",IFERROR(HYPERLINK(showDetails(INDEX(data!$S9:$V9,MATCH(view!CD$3,data!$Y9:$AB9,0)),CD11),\"●\"),\"●\"))","v":""},{"$f":"IF(ISERROR(MATCH(view!CE$3,data!$Y9:$AB9,0)),\"\",IFERROR(HYPERLINK(showDetails(INDEX(data!$S9:$V9,MATCH(view!CE$3,data!$Y9:$AB9,0)),CE11),\"●\"),\"●\"))","v":""},{"$f":"IF(ISERROR(MATCH(view!CF$3,data!$Y9:$AB9,0)),\"\",IFERROR(HYPERLINK(showDetails(INDEX(data!$S9:$V9,MATCH(view!CF$3,data!$Y9:$AB9,0)),CF11),\"●\"),\"●\"))","v":""},{"$f":"IF(ISERROR(MATCH(view!CG$3,data!$Y9:$AB9,0)),\"\",IFERROR(HYPERLINK(showDetails(INDEX(data!$S9:$V9,MATCH(view!CG$3,data!$Y9:$AB9,0)),CG11),\"●\"),\"●\"))","v":""},{"$f":"IF(ISERROR(MATCH(view!CH$3,data!$Y9:$AB9,0)),\"\",IFERROR(HYPERLINK(showDetails(INDEX(data!$S9:$V9,MATCH(view!CH$3,data!$Y9:$AB9,0)),CH11),\"●\"),\"●\"))","v":""},{"$f":"IF(ISERROR(MATCH(view!CI$3,data!$Y9:$AB9,0)),\"\",IFERROR(HYPERLINK(showDetails(INDEX(data!$S9:$V9,MATCH(view!CI$3,data!$Y9:$AB9,0)),CI11),\"●\"),\"●\"))","v":""},{"$f":"IF(ISERROR(MATCH(view!CJ$3,data!$Y9:$AB9,0)),\"\",IFERROR(HYPERLINK(showDetails(INDEX(data!$S9:$V9,MATCH(view!CJ$3,data!$Y9:$AB9,0)),CJ11),\"●\"),\"●\"))","v":""},{"$f":"IF(ISERROR(MATCH(view!CK$3,data!$Y9:$AB9,0)),\"\",IFERROR(HYPERLINK(showDetails(INDEX(data!$S9:$V9,MATCH(view!CK$3,data!$Y9:$AB9,0)),CK11),\"●\"),\"●\"))","v":""},{"$f":"IF(ISERROR(MATCH(view!CL$3,data!$Y9:$AB9,0)),\"\",IFERROR(HYPERLINK(showDetails(INDEX(data!$S9:$V9,MATCH(view!CL$3,data!$Y9:$AB9,0)),CL11),\"●\"),\"●\"))","v":""},{"$f":"IF(ISERROR(MATCH(view!CM$3,data!$Y9:$AB9,0)),\"\",IFERROR(HYPERLINK(showDetails(INDEX(data!$S9:$V9,MATCH(view!CM$3,data!$Y9:$AB9,0)),CM11),\"●\"),\"●\"))","v":""},{"$f":"IF(ISERROR(MATCH(view!CN$3,data!$Y9:$AB9,0)),\"\",IFERROR(HYPERLINK(showDetails(INDEX(data!$S9:$V9,MATCH(view!CN$3,data!$Y9:$AB9,0)),CN11),\"●\"),\"●\"))","v":""},{"$f":"IF(ISERROR(MATCH(view!CO$3,data!$Y9:$AB9,0)),\"\",IFERROR(HYPERLINK(showDetails(INDEX(data!$S9:$V9,MATCH(view!CO$3,data!$Y9:$AB9,0)),CO11),\"●\"),\"●\"))","v":""},{"$f":"IF(ISERROR(MATCH(view!CP$3,data!$Y9:$AB9,0)),\"\",IFERROR(HYPERLINK(showDetails(INDEX(data!$S9:$V9,MATCH(view!CP$3,data!$Y9:$AB9,0)),CP11),\"●\"),\"●\"))","v":""},{"$f":"IF(ISERROR(MATCH(view!CQ$3,data!$Y9:$AB9,0)),\"\",IFERROR(HYPERLINK(showDetails(INDEX(data!$S9:$V9,MATCH(view!CQ$3,data!$Y9:$AB9,0)),CQ11),\"●\"),\"●\"))","v":""},{"$f":"IF(ISERROR(MATCH(view!CR$3,data!$Y9:$AB9,0)),\"\",IFERROR(HYPERLINK(showDetails(INDEX(data!$S9:$V9,MATCH(view!CR$3,data!$Y9:$AB9,0)),CR11),\"●\"),\"●\"))","v":""},{"$f":"IF(ISERROR(MATCH(view!CS$3,data!$Y9:$AB9,0)),\"\",IFERROR(HYPERLINK(showDetails(INDEX(data!$S9:$V9,MATCH(view!CS$3,data!$Y9:$AB9,0)),CS11),\"●\"),\"●\"))","v":""},{"$f":"IF(ISERROR(MATCH(view!CT$3,data!$Y9:$AB9,0)),\"\",IFERROR(HYPERLINK(showDetails(INDEX(data!$S9:$V9,MATCH(view!CT$3,data!$Y9:$AB9,0)),CT11),\"●\"),\"●\"))","v":""},{"$f":"IF(ISERROR(MATCH(view!CU$3,data!$Y9:$AB9,0)),\"\",IFERROR(HYPERLINK(showDetails(INDEX(data!$S9:$V9,MATCH(view!CU$3,data!$Y9:$AB9,0)),CU11),\"●\"),\"●\"))","v":""},{"$f":"IF(ISERROR(MATCH(view!CV$3,data!$Y9:$AB9,0)),\"\",IFERROR(HYPERLINK(showDetails(INDEX(data!$S9:$V9,MATCH(view!CV$3,data!$Y9:$AB9,0)),CV11),\"●\"),\"●\"))","v":""},{"$f":"IF(ISERROR(MATCH(view!CW$3,data!$Y9:$AB9,0)),\"\",IFERROR(HYPERLINK(showDetails(INDEX(data!$S9:$V9,MATCH(view!CW$3,data!$Y9:$AB9,0)),CW11),\"●\"),\"●\"))","v":""},{"$f":"IF(ISERROR(MATCH(view!CX$3,data!$Y9:$AB9,0)),\"\",IFERROR(HYPERLINK(showDetails(INDEX(data!$S9:$V9,MATCH(view!CX$3,data!$Y9:$AB9,0)),CX11),\"●\"),\"●\"))","v":""},{"$f":"IF(ISERROR(MATCH(view!CY$3,data!$Y9:$AB9,0)),\"\",IFERROR(HYPERLINK(showDetails(INDEX(data!$S9:$V9,MATCH(view!CY$3,data!$Y9:$AB9,0)),CY11),\"●\"),\"●\"))","v":""},{"$f":"IF(ISERROR(MATCH(view!CZ$3,data!$Y9:$AB9,0)),\"\",IFERROR(HYPERLINK(showDetails(INDEX(data!$S9:$V9,MATCH(view!CZ$3,data!$Y9:$AB9,0)),CZ11),\"●\"),\"●\"))","v":""},{"$f":"IF(ISERROR(MATCH(view!DA$3,data!$Y9:$AB9,0)),\"\",IFERROR(HYPERLINK(showDetails(INDEX(data!$S9:$V9,MATCH(view!DA$3,data!$Y9:$AB9,0)),DA11),\"●\"),\"●\"))","v":"●"},{"$f":"IF(ISERROR(MATCH(view!DB$3,data!$Y9:$AB9,0)),\"\",IFERROR(HYPERLINK(showDetails(INDEX(data!$S9:$V9,MATCH(view!DB$3,data!$Y9:$AB9,0)),DB11),\"●\"),\"●\"))","v":"●"},{"$f":"IF(ISERROR(MATCH(view!DC$3,data!$Y9:$AB9,0)),\"\",IFERROR(HYPERLINK(showDetails(INDEX(data!$S9:$V9,MATCH(view!DC$3,data!$Y9:$AB9,0)),DC11),\"●\"),\"●\"))","v":""},{"$f":"IF(ISERROR(MATCH(view!DD$3,data!$Y9:$AB9,0)),\"\",IFERROR(HYPERLINK(showDetails(INDEX(data!$S9:$V9,MATCH(view!DD$3,data!$Y9:$AB9,0)),DD11),\"●\"),\"●\"))","v":"●"},{"$f":"IF(ISERROR(MATCH(view!DE$3,data!$Y9:$AB9,0)),\"\",IFERROR(HYPERLINK(showDetails(INDEX(data!$S9:$V9,MATCH(view!DE$3,data!$Y9:$AB9,0)),DE11),\"●\"),\"●\"))","v":""},{"$f":"IF(ISERROR(MATCH(view!DF$3,data!$Y9:$AB9,0)),\"\",IFERROR(HYPERLINK(showDetails(INDEX(data!$S9:$V9,MATCH(view!DF$3,data!$Y9:$AB9,0)),DF11),\"●\"),\"●\"))","v":""},{"$f":"IF(ISERROR(MATCH(view!DG$3,data!$Y9:$AB9,0)),\"\",IFERROR(HYPERLINK(showDetails(INDEX(data!$S9:$V9,MATCH(view!DG$3,data!$Y9:$AB9,0)),DG11),\"●\"),\"●\"))","v":""},{"$f":"IF(ISERROR(MATCH(view!DH$3,data!$Y9:$AB9,0)),\"\",IFERROR(HYPERLINK(showDetails(INDEX(data!$S9:$V9,MATCH(view!DH$3,data!$Y9:$AB9,0)),DH11),\"●\"),\"●\"))","v":""},{"$f":"IF(ISERROR(MATCH(view!DI$3,data!$Y9:$AB9,0)),\"\",IFERROR(HYPERLINK(showDetails(INDEX(data!$S9:$V9,MATCH(view!DI$3,data!$Y9:$AB9,0)),DI11),\"●\"),\"●\"))","v":""},{"$f":"IF(ISERROR(MATCH(view!DJ$3,data!$Y9:$AB9,0)),\"\",IFERROR(HYPERLINK(showDetails(INDEX(data!$S9:$V9,MATCH(view!DJ$3,data!$Y9:$AB9,0)),DJ11),\"●\"),\"●\"))","v":""},{"$f":"IF(ISERROR(MATCH(view!DK$3,data!$Y9:$AB9,0)),\"\",IFERROR(HYPERLINK(showDetails(INDEX(data!$S9:$V9,MATCH(view!DK$3,data!$Y9:$AB9,0)),DK11),\"●\"),\"●\"))","v":""},{"$f":"IF(ISERROR(MATCH(view!DL$3,data!$Y9:$AB9,0)),\"\",IFERROR(HYPERLINK(showDetails(INDEX(data!$S9:$V9,MATCH(view!DL$3,data!$Y9:$AB9,0)),DL11),\"●\"),\"●\"))","v":""},{"$f":"IF(ISERROR(MATCH(view!DM$3,data!$Y9:$AB9,0)),\"\",IFERROR(HYPERLINK(showDetails(INDEX(data!$S9:$V9,MATCH(view!DM$3,data!$Y9:$AB9,0)),DM11),\"●\"),\"●\"))","v":""},{"$f":"IF(ISERROR(MATCH(view!DN$3,data!$Y9:$AB9,0)),\"\",IFERROR(HYPERLINK(showDetails(INDEX(data!$S9:$V9,MATCH(view!DN$3,data!$Y9:$AB9,0)),DN11),\"●\"),\"●\"))","v":""},{"$f":"IF(ISERROR(MATCH(view!DO$3,data!$Y9:$AB9,0)),\"\",IFERROR(HYPERLINK(showDetails(INDEX(data!$S9:$V9,MATCH(view!DO$3,data!$Y9:$AB9,0)),DO11),\"●\"),\"●\"))","v":""},{"$f":"IF(ISERROR(MATCH(view!DP$3,data!$Y9:$AB9,0)),\"\",IFERROR(HYPERLINK(showDetails(INDEX(data!$S9:$V9,MATCH(view!DP$3,data!$Y9:$AB9,0)),DP11),\"●\"),\"●\"))","v":""},{"$f":"IF(ISERROR(MATCH(view!DQ$3,data!$Y9:$AB9,0)),\"\",IFERROR(HYPERLINK(showDetails(INDEX(data!$S9:$V9,MATCH(view!DQ$3,data!$Y9:$AB9,0)),DQ11),\"●\"),\"●\"))","v":""},{"$f":"IF(ISERROR(MATCH(view!DR$3,data!$Y9:$AB9,0)),\"\",IFERROR(HYPERLINK(showDetails(INDEX(data!$S9:$V9,MATCH(view!DR$3,data!$Y9:$AB9,0)),DR11),\"●\"),\"●\"))","v":""},{"$f":"IF(ISERROR(MATCH(view!DS$3,data!$Y9:$AB9,0)),\"\",IFERROR(HYPERLINK(showDetails(INDEX(data!$S9:$V9,MATCH(view!DS$3,data!$Y9:$AB9,0)),DS11),\"●\"),\"●\"))","v":""},{"$f":"INDEX(lstYears,A11) &\" - \"&INDEX(data!$W$3:$W$30,A11)","v":"1988 - Seoul"}]
[8,null,{"$f":"IF(ISERROR(MATCH(view!C$3,data!$Y10:$AB10,0)),\"\",IFERROR(HYPERLINK(showDetails(INDEX(data!$S10:$V10,MATCH(view!C$3,data!$Y10:$AB10,0)),C12),\"●\"),\"●\"))","v":""},{"$f":"IF(ISERROR(MATCH(view!D$3,data!$Y10:$AB10,0)),\"\",IFERROR(HYPERLINK(showDetails(INDEX(data!$S10:$V10,MATCH(view!D$3,data!$Y10:$AB10,0)),D12),\"●\"),\"●\"))","v":""},{"$f":"IF(ISERROR(MATCH(view!E$3,data!$Y10:$AB10,0)),\"\",IFERROR(HYPERLINK(showDetails(INDEX(data!$S10:$V10,MATCH(view!E$3,data!$Y10:$AB10,0)),E12),\"●\"),\"●\"))","v":""},{"$f":"IF(ISERROR(MATCH(view!F$3,data!$Y10:$AB10,0)),\"\",IFERROR(HYPERLINK(showDetails(INDEX(data!$S10:$V10,MATCH(view!F$3,data!$Y10:$AB10,0)),F12),\"●\"),\"●\"))","v":""},{"$f":"IF(ISERROR(MATCH(view!G$3,data!$Y10:$AB10,0)),\"\",IFERROR(HYPERLINK(showDetails(INDEX(data!$S10:$V10,MATCH(view!G$3,data!$Y10:$AB10,0)),G12),\"●\"),\"●\"))","v":""},{"$f":"IF(ISERROR(MATCH(view!H$3,data!$Y10:$AB10,0)),\"\",IFERROR(HYPERLINK(showDetails(INDEX(data!$S10:$V10,MATCH(view!H$3,data!$Y10:$AB10,0)),H12),\"●\"),\"●\"))","v":""},{"$f":"IF(ISERROR(MATCH(view!I$3,data!$Y10:$AB10,0)),\"\",IFERROR(HYPERLINK(showDetails(INDEX(data!$S10:$V10,MATCH(view!I$3,data!$Y10:$AB10,0)),I12),\"●\"),\"●\"))","v":""},{"$f":"IF(ISERROR(MATCH(view!J$3,data!$Y10:$AB10,0)),\"\",IFERROR(HYPERLINK(showDetails(INDEX(data!$S10:$V10,MATCH(view!J$3,data!$Y10:$AB10,0)),J12),\"●\"),\"●\"))","v":""},{"$f":"IF(ISERROR(MATCH(view!K$3,data!$Y10:$AB10,0)),\"\",IFERROR(HYPERLINK(showDetails(INDEX(data!$S10:$V10,MATCH(view!K$3,data!$Y10:$AB10,0)),K12),\"●\"),\"●\"))","v":""},{"$f":"IF(ISERROR(MATCH(view!L$3,data!$Y10:$AB10,0)),\"\",IFERROR(HYPERLINK(showDetails(INDEX(data!$S10:$V10,MATCH(view!L$3,data!$Y10:$AB10,0)),L12),\"●\"),\"●\"))","v":""},{"$f":"IF(ISERROR(MATCH(view!M$3,data!$Y10:$AB10,0)),\"\",IFERROR(HYPERLINK(showDetails(INDEX(data!$S10:$V10,MATCH(view!M$3,data!$Y10:$AB10,0)),M12),\"●\"),\"●\"))","v":""},{"$f":"IF(ISERROR(MATCH(view!N$3,data!$Y10:$AB10,0)),\"\",IFERROR(HYPERLINK(showDetails(INDEX(data!$S10:$V10,MATCH(view!N$3,data!$Y10:$AB10,0)),N12),\"●\"),\"●\"))","v":""},{"$f":"IF(ISERROR(MATCH(view!O$3,data!$Y10:$AB10,0)),\"\",IFERROR(HYPERLINK(showDetails(INDEX(data!$S10:$V10,MATCH(view!O$3,data!$Y10:$AB10,0)),O12),\"●\"),\"●\"))","v":""},{"$f":"IF(ISERROR(MATCH(view!P$3,data!$Y10:$AB10,0)),\"\",IFERROR(HYPERLINK(showDetails(INDEX(data!$S10:$V10,MATCH(view!P$3,data!$Y10:$AB10,0)),P12),\"●\"),\"●\"))","v":""},{"$f":"IF(ISERROR(MATCH(view!Q$3,data!$Y10:$AB10,0)),\"\",IFERROR(HYPERLINK(showDetails(INDEX(data!$S10:$V10,MATCH(view!Q$3,data!$Y10:$AB10,0)),Q12),\"●\"),\"●\"))","v":""},{"$f":"IF(ISERROR(MATCH(view!R$3,data!$Y10:$AB10,0)),\"\",IFERROR(HYPERLINK(showDetails(INDEX(data!$S10:$V10,MATCH(view!R$3,data!$Y10:$AB10,0)),R12),\"●\"),\"●\"))","v":""},{"$f":"IF(ISERROR(MATCH(view!S$3,data!$Y10:$AB10,0)),\"\",IFERROR(HYPERLINK(showDetails(INDEX(data!$S10:$V10,MATCH(view!S$3,data!$Y10:$AB10,0)),S12),\"●\"),\"●\"))","v":""},{"$f":"IF(ISERROR(MATCH(view!T$3,data!$Y10:$AB10,0)),\"\",IFERROR(HYPERLINK(showDetails(INDEX(data!$S10:$V10,MATCH(view!T$3,data!$Y10:$AB10,0)),T12),\"●\"),\"●\"))","v":""},{"$f":"IF(ISERROR(MATCH(view!U$3,data!$Y10:$AB10,0)),\"\",IFERROR(HYPERLINK(showDetails(INDEX(data!$S10:$V10,MATCH(view!U$3,data!$Y10:$AB10,0)),U12),\"●\"),\"●\"))","v":""},{"$f":"IF(ISERROR(MATCH(view!V$3,data!$Y10:$AB10,0)),\"\",IFERROR(HYPERLINK(showDetails(INDEX(data!$S10:$V10,MATCH(view!V$3,data!$Y10:$AB10,0)),V12),\"●\"),\"●\"))","v":""},{"$f":"IF(ISERROR(MATCH(view!W$3,data!$Y10:$AB10,0)),\"\",IFERROR(HYPERLINK(showDetails(INDEX(data!$S10:$V10,MATCH(view!W$3,data!$Y10:$AB10,0)),W12),\"●\"),\"●\"))","v":""},{"$f":"IF(ISERROR(MATCH(view!X$3,data!$Y10:$AB10,0)),\"\",IFERROR(HYPERLINK(showDetails(INDEX(data!$S10:$V10,MATCH(view!X$3,data!$Y10:$AB10,0)),X12),\"●\"),\"●\"))","v":""},{"$f":"IF(ISERROR(MATCH(view!Y$3,data!$Y10:$AB10,0)),\"\",IFERROR(HYPERLINK(showDetails(INDEX(data!$S10:$V10,MATCH(view!Y$3,data!$Y10:$AB10,0)),Y12),\"●\"),\"●\"))","v":""},{"$f":"IF(ISERROR(MATCH(view!Z$3,data!$Y10:$AB10,0)),\"\",IFERROR(HYPERLINK(showDetails(INDEX(data!$S10:$V10,MATCH(view!Z$3,data!$Y10:$AB10,0)),Z12),\"●\"),\"●\"))","v":""},{"$f":"IF(ISERROR(MATCH(view!AA$3,data!$Y10:$AB10,0)),\"\",IFERROR(HYPERLINK(showDetails(INDEX(data!$S10:$V10,MATCH(view!AA$3,data!$Y10:$AB10,0)),AA12),\"●\"),\"●\"))","v":""},{"$f":"IF(ISERROR(MATCH(view!AB$3,data!$Y10:$AB10,0)),\"\",IFERROR(HYPERLINK(showDetails(INDEX(data!$S10:$V10,MATCH(view!AB$3,data!$Y10:$AB10,0)),AB12),\"●\"),\"●\"))","v":""},{"$f":"IF(ISERROR(MATCH(view!AC$3,data!$Y10:$AB10,0)),\"\",IFERROR(HYPERLINK(showDetails(INDEX(data!$S10:$V10,MATCH(view!AC$3,data!$Y10:$AB10,0)),AC12),\"●\"),\"●\"))","v":""},{"$f":"IF(ISERROR(MATCH(view!AD$3,data!$Y10:$AB10,0)),\"\",IFERROR(HYPERLINK(showDetails(INDEX(data!$S10:$V10,MATCH(view!AD$3,data!$Y10:$AB10,0)),AD12),\"●\"),\"●\"))","v":""},{"$f":"IF(ISERROR(MATCH(view!AE$3,data!$Y10:$AB10,0)),\"\",IFERROR(HYPERLINK(showDetails(INDEX(data!$S10:$V10,MATCH(view!AE$3,data!$Y10:$AB10,0)),AE12),\"●\"),\"●\"))","v":""},{"$f":"IF(ISERROR(MATCH(view!AF$3,data!$Y10:$AB10,0)),\"\",IFERROR(HYPERLINK(showDetails(INDEX(data!$S10:$V10,MATCH(view!AF$3,data!$Y10:$AB10,0)),AF12),\"●\"),\"●\"))","v":""},{"$f":"IF(ISERROR(MATCH(view!AG$3,data!$Y10:$AB10,0)),\"\",IFERROR(HYPERLINK(showDetails(INDEX(data!$S10:$V10,MATCH(view!AG$3,data!$Y10:$AB10,0)),AG12),\"●\"),\"●\"))","v":""},{"$f":"IF(ISERROR(MATCH(view!AH$3,data!$Y10:$AB10,0)),\"\",IFERROR(HYPERLINK(showDetails(INDEX(data!$S10:$V10,MATCH(view!AH$3,data!$Y10:$AB10,0)),AH12),\"●\"),\"●\"))","v":""},{"$f":"IF(ISERROR(MATCH(view!AI$3,data!$Y10:$AB10,0)),\"\",IFERROR(HYPERLINK(showDetails(INDEX(data!$S10:$V10,MATCH(view!AI$3,data!$Y10:$AB10,0)),AI12),\"●\"),\"●\"))","v":""},{"$f":"IF(ISERROR(MATCH(view!AJ$3,data!$Y10:$AB10,0)),\"\",IFERROR(HYPERLINK(showDetails(INDEX(data!$S10:$V10,MATCH(view!AJ$3,data!$Y10:$AB10,0)),AJ12),\"●\"),\"●\"))","v":""},{"$f":"IF(ISERROR(MATCH(view!AK$3,data!$Y10:$AB10,0)),\"\",IFERROR(HYPERLINK(showDetails(INDEX(data!$S10:$V10,MATCH(view!AK$3,data!$Y10:$AB10,0)),AK12),\"●\"),\"●\"))","v":""},{"$f":"IF(ISERROR(MATCH(view!AL$3,data!$Y10:$AB10,0)),\"\",IFERROR(HYPERLINK(showDetails(INDEX(data!$S10:$V10,MATCH(view!AL$3,data!$Y10:$AB10,0)),AL12),\"●\"),\"●\"))","v":""},{"$f":"IF(ISERROR(MATCH(view!AM$3,data!$Y10:$AB10,0)),\"\",IFERROR(HYPERLINK(showDetails(INDEX(data!$S10:$V10,MATCH(view!AM$3,data!$Y10:$AB10,0)),AM12),\"●\"),\"●\"))","v":""},{"$f":"IF(ISERROR(MATCH(view!AN$3,data!$Y10:$AB10,0)),\"\",IFERROR(HYPERLINK(showDetails(INDEX(data!$S10:$V10,MATCH(view!AN$3,data!$Y10:$AB10,0)),AN12),\"●\"),\"●\"))","v":""},{"$f":"IF(ISERROR(MATCH(view!AO$3,data!$Y10:$AB10,0)),\"\",IFERROR(HYPERLINK(showDetails(INDEX(data!$S10:$V10,MATCH(view!AO$3,data!$Y10:$AB10,0)),AO12),\"●\"),\"●\"))","v":""},{"$f":"IF(ISERROR(MATCH(view!AP$3,data!$Y10:$AB10,0)),\"\",IFERROR(HYPERLINK(showDetails(INDEX(data!$S10:$V10,MATCH(view!AP$3,data!$Y10:$AB10,0)),AP12),\"●\"),\"●\"))","v":""},{"$f":"IF(ISERROR(MATCH(view!AQ$3,data!$Y10:$AB10,0)),\"\",IFERROR(HYPERLINK(showDetails(INDEX(data!$S10:$V10,MATCH(view!AQ$3,data!$Y10:$AB10,0)),AQ12),\"●\"),\"●\"))","v":""},{"$f":"IF(ISERROR(MATCH(view!AR$3,data!$Y10:$AB10,0)),\"\",IFERROR(HYPERLINK(showDetails(INDEX(data!$S10:$V10,MATCH(view!AR$3,data!$Y10:$AB10,0)),AR12),\"●\"),\"●\"))","v":""},{"$f":"IF(ISERROR(MATCH(view!AS$3,data!$Y10:$AB10,0)),\"\",IFERROR(HYPERLINK(showDetails(INDEX(data!$S10:$V10,MATCH(view!AS$3,data!$Y10:$AB10,0)),AS12),\"●\"),\"●\"))","v":""},{"$f":"IF(ISERROR(MATCH(view!AT$3,data!$Y10:$AB10,0)),\"\",IFERROR(HYPERLINK(showDetails(INDEX(data!$S10:$V10,MATCH(view!AT$3,data!$Y10:$AB10,0)),AT12),\"●\"),\"●\"))","v":""},{"$f":"IF(ISERROR(MATCH(view!AU$3,data!$Y10:$AB10,0)),\"\",IFERROR(HYPERLINK(showDetails(INDEX(data!$S10:$V10,MATCH(view!AU$3,data!$Y10:$AB10,0)),AU12),\"●\"),\"●\"))","v":""},{"$f":"IF(ISERROR(MATCH(view!AV$3,data!$Y10:$AB10,0)),\"\",IFERROR(HYPERLINK(showDetails(INDEX(data!$S10:$V10,MATCH(view!AV$3,data!$Y10:$AB10,0)),AV12),\"●\"),\"●\"))","v":""},{"$f":"IF(ISERROR(MATCH(view!AW$3,data!$Y10:$AB10,0)),\"\",IFERROR(HYPERLINK(showDetails(INDEX(data!$S10:$V10,MATCH(view!AW$3,data!$Y10:$AB10,0)),AW12),\"●\"),\"●\"))","v":""},{"$f":"IF(ISERROR(MATCH(view!AX$3,data!$Y10:$AB10,0)),\"\",IFERROR(HYPERLINK(showDetails(INDEX(data!$S10:$V10,MATCH(view!AX$3,data!$Y10:$AB10,0)),AX12),\"●\"),\"●\"))","v":""},{"$f":"IF(ISERROR(MATCH(view!AY$3,data!$Y10:$AB10,0)),\"\",IFERROR(HYPERLINK(showDetails(INDEX(data!$S10:$V10,MATCH(view!AY$3,data!$Y10:$AB10,0)),AY12),\"●\"),\"●\"))","v":""},{"$f":"IF(ISERROR(MATCH(view!AZ$3,data!$Y10:$AB10,0)),\"\",IFERROR(HYPERLINK(showDetails(INDEX(data!$S10:$V10,MATCH(view!AZ$3,data!$Y10:$AB10,0)),AZ12),\"●\"),\"●\"))","v":""},{"$f":"IF(ISERROR(MATCH(view!BA$3,data!$Y10:$AB10,0)),\"\",IFERROR(HYPERLINK(showDetails(INDEX(data!$S10:$V10,MATCH(view!BA$3,data!$Y10:$AB10,0)),BA12),\"●\"),\"●\"))","v":""},{"$f":"IF(ISERROR(MATCH(view!BB$3,data!$Y10:$AB10,0)),\"\",IFERROR(HYPERLINK(showDetails(INDEX(data!$S10:$V10,MATCH(view!BB$3,data!$Y10:$AB10,0)),BB12),\"●\"),\"●\"))","v":""},{"$f":"IF(ISERROR(MATCH(view!BC$3,data!$Y10:$AB10,0)),\"\",IFERROR(HYPERLINK(showDetails(INDEX(data!$S10:$V10,MATCH(view!BC$3,data!$Y10:$AB10,0)),BC12),\"●\"),\"●\"))","v":""},{"$f":"IF(ISERROR(MATCH(view!BD$3,data!$Y10:$AB10,0)),\"\",IFERROR(HYPERLINK(showDetails(INDEX(data!$S10:$V10,MATCH(view!BD$3,data!$Y10:$AB10,0)),BD12),\"●\"),\"●\"))","v":""},{"$f":"IF(ISERROR(MATCH(view!BE$3,data!$Y10:$AB10,0)),\"\",IFERROR(HYPERLINK(showDetails(INDEX(data!$S10:$V10,MATCH(view!BE$3,data!$Y10:$AB10,0)),BE12),\"●\"),\"●\"))","v":""},{"$f":"IF(ISERROR(MATCH(view!BF$3,data!$Y10:$AB10,0)),\"\",IFERROR(HYPERLINK(showDetails(INDEX(data!$S10:$V10,MATCH(view!BF$3,data!$Y10:$AB10,0)),BF12),\"●\"),\"●\"))","v":""},{"$f":"IF(ISERROR(MATCH(view!BG$3,data!$Y10:$AB10,0)),\"\",IFERROR(HYPERLINK(showDetails(INDEX(data!$S10:$V10,MATCH(view!BG$3,data!$Y10:$AB10,0)),BG12),\"●\"),\"●\"))","v":""},{"$f":"IF(ISERROR(MATCH(view!BH$3,data!$Y10:$AB10,0)),\"\",IFERROR(HYPERLINK(showDetails(INDEX(data!$S10:$V10,MATCH(view!BH$3,data!$Y10:$AB10,0)),BH12),\"●\"),\"●\"))","v":""},{"$f":"IF(ISERROR(MATCH(view!BI$3,data!$Y10:$AB10,0)),\"\",IFERROR(HYPERLINK(showDetails(INDEX(data!$S10:$V10,MATCH(view!BI$3,data!$Y10:$AB10,0)),BI12),\"●\"),\"●\"))","v":""},{"$f":"IF(ISERROR(MATCH(view!BJ$3,data!$Y10:$AB10,0)),\"\",IFERROR(HYPERLINK(showDetails(INDEX(data!$S10:$V10,MATCH(view!BJ$3,data!$Y10:$AB10,0)),BJ12),\"●\"),\"●\"))","v":""},{"$f":"IF(ISERROR(MATCH(view!BK$3,data!$Y10:$AB10,0)),\"\",IFERROR(HYPERLINK(showDetails(INDEX(data!$S10:$V10,MATCH(view!BK$3,data!$Y10:$AB10,0)),BK12),\"●\"),\"●\"))","v":""},{"$f":"IF(ISERROR(MATCH(view!BL$3,data!$Y10:$AB10,0)),\"\",IFERROR(HYPERLINK(showDetails(INDEX(data!$S10:$V10,MATCH(view!BL$3,data!$Y10:$AB10,0)),BL12),\"●\"),\"●\"))","v":""},{"$f":"IF(ISERROR(MATCH(view!BM$3,data!$Y10:$AB10,0)),\"\",IFERROR(HYPERLINK(showDetails(INDEX(data!$S10:$V10,MATCH(view!BM$3,data!$Y10:$AB10,0)),BM12),\"●\"),\"●\"))","v":""},{"$f":"IF(ISERROR(MATCH(view!BN$3,data!$Y10:$AB10,0)),\"\",IFERROR(HYPERLINK(showDetails(INDEX(data!$S10:$V10,MATCH(view!BN$3,data!$Y10:$AB10,0)),BN12),\"●\"),\"●\"))","v":""},{"$f":"IF(ISERROR(MATCH(view!BO$3,data!$Y10:$AB10,0)),\"\",IFERROR(HYPERLINK(showDetails(INDEX(data!$S10:$V10,MATCH(view!BO$3,data!$Y10:$AB10,0)),BO12),\"●\"),\"●\"))","v":""},{"$f":"IF(ISERROR(MATCH(view!BP$3,data!$Y10:$AB10,0)),\"\",IFERROR(HYPERLINK(showDetails(INDEX(data!$S10:$V10,MATCH(view!BP$3,data!$Y10:$AB10,0)),BP12),\"●\"),\"●\"))","v":""},{"$f":"IF(ISERROR(MATCH(view!BQ$3,data!$Y10:$AB10,0)),\"\",IFERROR(HYPERLINK(showDetails(INDEX(data!$S10:$V10,MATCH(view!BQ$3,data!$Y10:$AB10,0)),BQ12),\"●\"),\"●\"))","v":""},{"$f":"IF(ISERROR(MATCH(view!BR$3,data!$Y10:$AB10,0)),\"\",IFERROR(HYPERLINK(showDetails(INDEX(data!$S10:$V10,MATCH(view!BR$3,data!$Y10:$AB10,0)),BR12),\"●\"),\"●\"))","v":""},{"$f":"IF(ISERROR(MATCH(view!BS$3,data!$Y10:$AB10,0)),\"\",IFERROR(HYPERLINK(showDetails(INDEX(data!$S10:$V10,MATCH(view!BS$3,data!$Y10:$AB10,0)),BS12),\"●\"),\"●\"))","v":""},{"$f":"IF(ISERROR(MATCH(view!BT$3,data!$Y10:$AB10,0)),\"\",IFERROR(HYPERLINK(showDetails(INDEX(data!$S10:$V10,MATCH(view!BT$3,data!$Y10:$AB10,0)),BT12),\"●\"),\"●\"))","v":""},{"$f":"IF(ISERROR(MATCH(view!BU$3,data!$Y10:$AB10,0)),\"\",IFERROR(HYPERLINK(showDetails(INDEX(data!$S10:$V10,MATCH(view!BU$3,data!$Y10:$AB10,0)),BU12),\"●\"),\"●\"))","v":""},{"$f":"IF(ISERROR(MATCH(view!BV$3,data!$Y10:$AB10,0)),\"\",IFERROR(HYPERLINK(showDetails(INDEX(data!$S10:$V10,MATCH(view!BV$3,data!$Y10:$AB10,0)),BV12),\"●\"),\"●\"))","v":""},{"$f":"IF(ISERROR(MATCH(view!BW$3,data!$Y10:$AB10,0)),\"\",IFERROR(HYPERLINK(showDetails(INDEX(data!$S10:$V10,MATCH(view!BW$3,data!$Y10:$AB10,0)),BW12),\"●\"),\"●\"))","v":""},{"$f":"IF(ISERROR(MATCH(view!BX$3,data!$Y10:$AB10,0)),\"\",IFERROR(HYPERLINK(showDetails(INDEX(data!$S10:$V10,MATCH(view!BX$3,data!$Y10:$AB10,0)),BX12),\"●\"),\"●\"))","v":""},{"$f":"IF(ISERROR(MATCH(view!BY$3,data!$Y10:$AB10,0)),\"\",IFERROR(HYPERLINK(showDetails(INDEX(data!$S10:$V10,MATCH(view!BY$3,data!$Y10:$AB10,0)),BY12),\"●\"),\"●\"))","v":""},{"$f":"IF(ISERROR(MATCH(view!BZ$3,data!$Y10:$AB10,0)),\"\",IFERROR(HYPERLINK(showDetails(INDEX(data!$S10:$V10,MATCH(view!BZ$3,data!$Y10:$AB10,0)),BZ12),\"●\"),\"●\"))","v":""},{"$f":"IF(ISERROR(MATCH(view!CA$3,data!$Y10:$AB10,0)),\"\",IFERROR(HYPERLINK(showDetails(INDEX(data!$S10:$V10,MATCH(view!CA$3,data!$Y10:$AB10,0)),CA12),\"●\"),\"●\"))","v":""},{"$f":"IF(ISERROR(MATCH(view!CB$3,data!$Y10:$AB10,0)),\"\",IFERROR(HYPERLINK(showDetails(INDEX(data!$S10:$V10,MATCH(view!CB$3,data!$Y10:$AB10,0)),CB12),\"●\"),\"●\"))","v":""},{"$f":"IF(ISERROR(MATCH(view!CC$3,data!$Y10:$AB10,0)),\"\",IFERROR(HYPERLINK(showDetails(INDEX(data!$S10:$V10,MATCH(view!CC$3,data!$Y10:$AB10,0)),CC12),\"●\"),\"●\"))","v":""},{"$f":"IF(ISERROR(MATCH(view!CD$3,data!$Y10:$AB10,0)),\"\",IFERROR(HYPERLINK(showDetails(INDEX(data!$S10:$V10,MATCH(view!CD$3,data!$Y10:$AB10,0)),CD12),\"●\"),\"●\"))","v":""},{"$f":"IF(ISERROR(MATCH(view!CE$3,data!$Y10:$AB10,0)),\"\",IFERROR(HYPERLINK(showDetails(INDEX(data!$S10:$V10,MATCH(view!CE$3,data!$Y10:$AB10,0)),CE12),\"●\"),\"●\"))","v":""},{"$f":"IF(ISERROR(MATCH(view!CF$3,data!$Y10:$AB10,0)),\"\",IFERROR(HYPERLINK(showDetails(INDEX(data!$S10:$V10,MATCH(view!CF$3,data!$Y10:$AB10,0)),CF12),\"●\"),\"●\"))","v":""},{"$f":"IF(ISERROR(MATCH(view!CG$3,data!$Y10:$AB10,0)),\"\",IFERROR(HYPERLINK(showDetails(INDEX(data!$S10:$V10,MATCH(view!CG$3,data!$Y10:$AB10,0)),CG12),\"●\"),\"●\"))","v":""},{"$f":"IF(ISERROR(MATCH(view!CH$3,data!$Y10:$AB10,0)),\"\",IFERROR(HYPERLINK(showDetails(INDEX(data!$S10:$V10,MATCH(view!CH$3,data!$Y10:$AB10,0)),CH12),\"●\"),\"●\"))","v":""},{"$f":"IF(ISERROR(MATCH(view!CI$3,data!$Y10:$AB10,0)),\"\",IFERROR(HYPERLINK(showDetails(INDEX(data!$S10:$V10,MATCH(view!CI$3,data!$Y10:$AB10,0)),CI12),\"●\"),\"●\"))","v":""},{"$f":"IF(ISERROR(MATCH(view!CJ$3,data!$Y10:$AB10,0)),\"\",IFERROR(HYPERLINK(showDetails(INDEX(data!$S10:$V10,MATCH(view!CJ$3,data!$Y10:$AB10,0)),CJ12),\"●\"),\"●\"))","v":""},{"$f":"IF(ISERROR(MATCH(view!CK$3,data!$Y10:$AB10,0)),\"\",IFERROR(HYPERLINK(showDetails(INDEX(data!$S10:$V10,MATCH(view!CK$3,data!$Y10:$AB10,0)),CK12),\"●\"),\"●\"))","v":""},{"$f":"IF(ISERROR(MATCH(view!CL$3,data!$Y10:$AB10,0)),\"\",IFERROR(HYPERLINK(showDetails(INDEX(data!$S10:$V10,MATCH(view!CL$3,data!$Y10:$AB10,0)),CL12),\"●\"),\"●\"))","v":""},{"$f":"IF(ISERROR(MATCH(view!CM$3,data!$Y10:$AB10,0)),\"\",IFERROR(HYPERLINK(showDetails(INDEX(data!$S10:$V10,MATCH(view!CM$3,data!$Y10:$AB10,0)),CM12),\"●\"),\"●\"))","v":""},{"$f":"IF(ISERROR(MATCH(view!CN$3,data!$Y10:$AB10,0)),\"\",IFERROR(HYPERLINK(showDetails(INDEX(data!$S10:$V10,MATCH(view!CN$3,data!$Y10:$AB10,0)),CN12),\"●\"),\"●\"))","v":""},{"$f":"IF(ISERROR(MATCH(view!CO$3,data!$Y10:$AB10,0)),\"\",IFERROR(HYPERLINK(showDetails(INDEX(data!$S10:$V10,MATCH(view!CO$3,data!$Y10:$AB10,0)),CO12),\"●\"),\"●\"))","v":""},{"$f":"IF(ISERROR(MATCH(view!CP$3,data!$Y10:$AB10,0)),\"\",IFERROR(HYPERLINK(showDetails(INDEX(data!$S10:$V10,MATCH(view!CP$3,data!$Y10:$AB10,0)),CP12),\"●\"),\"●\"))","v":"●"},{"$f":"IF(ISERROR(MATCH(view!CQ$3,data!$Y10:$AB10,0)),\"\",IFERROR(HYPERLINK(showDetails(INDEX(data!$S10:$V10,MATCH(view!CQ$3,data!$Y10:$AB10,0)),CQ12),\"●\"),\"●\"))","v":"●"},{"$f":"IF(ISERROR(MATCH(view!CR$3,data!$Y10:$AB10,0)),\"\",IFERROR(HYPERLINK(showDetails(INDEX(data!$S10:$V10,MATCH(view!CR$3,data!$Y10:$AB10,0)),CR12),\"●\"),\"●\"))","v":""},{"$f":"IF(ISERROR(MATCH(view!CS$3,data!$Y10:$AB10,0)),\"\",IFERROR(HYPERLINK(showDetails(INDEX(data!$S10:$V10,MATCH(view!CS$3,data!$Y10:$AB10,0)),CS12),\"●\"),\"●\"))","v":""},{"$f":"IF(ISERROR(MATCH(view!CT$3,data!$Y10:$AB10,0)),\"\",IFERROR(HYPERLINK(showDetails(INDEX(data!$S10:$V10,MATCH(view!CT$3,data!$Y10:$AB10,0)),CT12),\"●\"),\"●\"))","v":""},{"$f":"IF(ISERROR(MATCH(view!CU$3,data!$Y10:$AB10,0)),\"\",IFERROR(HYPERLINK(showDetails(INDEX(data!$S10:$V10,MATCH(view!CU$3,data!$Y10:$AB10,0)),CU12),\"●\"),\"●\"))","v":""},{"$f":"IF(ISERROR(MATCH(view!CV$3,data!$Y10:$AB10,0)),\"\",IFERROR(HYPERLINK(showDetails(INDEX(data!$S10:$V10,MATCH(view!CV$3,data!$Y10:$AB10,0)),CV12),\"●\"),\"●\"))","v":""},{"$f":"IF(ISERROR(MATCH(view!CW$3,data!$Y10:$AB10,0)),\"\",IFERROR(HYPERLINK(showDetails(INDEX(data!$S10:$V10,MATCH(view!CW$3,data!$Y10:$AB10,0)),CW12),\"●\"),\"●\"))","v":""},{"$f":"IF(ISERROR(MATCH(view!CX$3,data!$Y10:$AB10,0)),\"\",IFERROR(HYPERLINK(showDetails(INDEX(data!$S10:$V10,MATCH(view!CX$3,data!$Y10:$AB10,0)),CX12),\"●\"),\"●\"))","v":""},{"$f":"IF(ISERROR(MATCH(view!CY$3,data!$Y10:$AB10,0)),\"\",IFERROR(HYPERLINK(showDetails(INDEX(data!$S10:$V10,MATCH(view!CY$3,data!$Y10:$AB10,0)),CY12),\"●\"),\"●\"))","v":""},{"$f":"IF(ISERROR(MATCH(view!CZ$3,data!$Y10:$AB10,0)),\"\",IFERROR(HYPERLINK(showDetails(INDEX(data!$S10:$V10,MATCH(view!CZ$3,data!$Y10:$AB10,0)),CZ12),\"●\"),\"●\"))","v":""},{"$f":"IF(ISERROR(MATCH(view!DA$3,data!$Y10:$AB10,0)),\"\",IFERROR(HYPERLINK(showDetails(INDEX(data!$S10:$V10,MATCH(view!DA$3,data!$Y10:$AB10,0)),DA12),\"●\"),\"●\"))","v":"●"},{"$f":"IF(ISERROR(MATCH(view!DB$3,data!$Y10:$AB10,0)),\"\",IFERROR(HYPERLINK(showDetails(INDEX(data!$S10:$V10,MATCH(view!DB$3,data!$Y10:$AB10,0)),DB12),\"●\"),\"●\"))","v":""},{"$f":"IF(ISERROR(MATCH(view!DC$3,data!$Y10:$AB10,0)),\"\",IFERROR(HYPERLINK(showDetails(INDEX(data!$S10:$V10,MATCH(view!DC$3,data!$Y10:$AB10,0)),DC12),\"●\"),\"●\"))","v":""},{"$f":"IF(ISERROR(MATCH(view!DD$3,data!$Y10:$AB10,0)),\"\",IFERROR(HYPERLINK(showDetails(INDEX(data!$S10:$V10,MATCH(view!DD$3,data!$Y10:$AB10,0)),DD12),\"●\"),\"●\"))","v":""},{"$f":"IF(ISERROR(MATCH(view!DE$3,data!$Y10:$AB10,0)),\"\",IFERROR(HYPERLINK(showDetails(INDEX(data!$S10:$V10,MATCH(view!DE$3,data!$Y10:$AB10,0)),DE12),\"●\"),\"●\"))","v":""},{"$f":"IF(ISERROR(MATCH(view!DF$3,data!$Y10:$AB10,0)),\"\",IFERROR(HYPERLINK(showDetails(INDEX(data!$S10:$V10,MATCH(view!DF$3,data!$Y10:$AB10,0)),DF12),\"●\"),\"●\"))","v":""},{"$f":"IF(ISERROR(MATCH(view!DG$3,data!$Y10:$AB10,0)),\"\",IFERROR(HYPERLINK(showDetails(INDEX(data!$S10:$V10,MATCH(view!DG$3,data!$Y10:$AB10,0)),DG12),\"●\"),\"●\"))","v":""},{"$f":"IF(ISERROR(MATCH(view!DH$3,data!$Y10:$AB10,0)),\"\",IFERROR(HYPERLINK(showDetails(INDEX(data!$S10:$V10,MATCH(view!DH$3,data!$Y10:$AB10,0)),DH12),\"●\"),\"●\"))","v":""},{"$f":"IF(ISERROR(MATCH(view!DI$3,data!$Y10:$AB10,0)),\"\",IFERROR(HYPERLINK(showDetails(INDEX(data!$S10:$V10,MATCH(view!DI$3,data!$Y10:$AB10,0)),DI12),\"●\"),\"●\"))","v":""},{"$f":"IF(ISERROR(MATCH(view!DJ$3,data!$Y10:$AB10,0)),\"\",IFERROR(HYPERLINK(showDetails(INDEX(data!$S10:$V10,MATCH(view!DJ$3,data!$Y10:$AB10,0)),DJ12),\"●\"),\"●\"))","v":""},{"$f":"IF(ISERROR(MATCH(view!DK$3,data!$Y10:$AB10,0)),\"\",IFERROR(HYPERLINK(showDetails(INDEX(data!$S10:$V10,MATCH(view!DK$3,data!$Y10:$AB10,0)),DK12),\"●\"),\"●\"))","v":""},{"$f":"IF(ISERROR(MATCH(view!DL$3,data!$Y10:$AB10,0)),\"\",IFERROR(HYPERLINK(showDetails(INDEX(data!$S10:$V10,MATCH(view!DL$3,data!$Y10:$AB10,0)),DL12),\"●\"),\"●\"))","v":""},{"$f":"IF(ISERROR(MATCH(view!DM$3,data!$Y10:$AB10,0)),\"\",IFERROR(HYPERLINK(showDetails(INDEX(data!$S10:$V10,MATCH(view!DM$3,data!$Y10:$AB10,0)),DM12),\"●\"),\"●\"))","v":""},{"$f":"IF(ISERROR(MATCH(view!DN$3,data!$Y10:$AB10,0)),\"\",IFERROR(HYPERLINK(showDetails(INDEX(data!$S10:$V10,MATCH(view!DN$3,data!$Y10:$AB10,0)),DN12),\"●\"),\"●\"))","v":""},{"$f":"IF(ISERROR(MATCH(view!DO$3,data!$Y10:$AB10,0)),\"\",IFERROR(HYPERLINK(showDetails(INDEX(data!$S10:$V10,MATCH(view!DO$3,data!$Y10:$AB10,0)),DO12),\"●\"),\"●\"))","v":""},{"$f":"IF(ISERROR(MATCH(view!DP$3,data!$Y10:$AB10,0)),\"\",IFERROR(HYPERLINK(showDetails(INDEX(data!$S10:$V10,MATCH(view!DP$3,data!$Y10:$AB10,0)),DP12),\"●\"),\"●\"))","v":""},{"$f":"IF(ISERROR(MATCH(view!DQ$3,data!$Y10:$AB10,0)),\"\",IFERROR(HYPERLINK(showDetails(INDEX(data!$S10:$V10,MATCH(view!DQ$3,data!$Y10:$AB10,0)),DQ12),\"●\"),\"●\"))","v":""},{"$f":"IF(ISERROR(MATCH(view!DR$3,data!$Y10:$AB10,0)),\"\",IFERROR(HYPERLINK(showDetails(INDEX(data!$S10:$V10,MATCH(view!DR$3,data!$Y10:$AB10,0)),DR12),\"●\"),\"●\"))","v":""},{"$f":"IF(ISERROR(MATCH(view!DS$3,data!$Y10:$AB10,0)),\"\",IFERROR(HYPERLINK(showDetails(INDEX(data!$S10:$V10,MATCH(view!DS$3,data!$Y10:$AB10,0)),DS12),\"●\"),\"●\"))","v":""},{"$f":"INDEX(lstYears,A12) &\" - \"&INDEX(data!$W$3:$W$30,A12)","v":"1984 - Los Angeles"}]
[9,null,{"$f":"IF(ISERROR(MATCH(view!C$3,data!$Y11:$AB11,0)),\"\",IFERROR(HYPERLINK(showDetails(INDEX(data!$S11:$V11,MATCH(view!C$3,data!$Y11:$AB11,0)),C13),\"●\"),\"●\"))","v":""},{"$f":"IF(ISERROR(MATCH(view!D$3,data!$Y11:$AB11,0)),\"\",IFERROR(HYPERLINK(showDetails(INDEX(data!$S11:$V11,MATCH(view!D$3,data!$Y11:$AB11,0)),D13),\"●\"),\"●\"))","v":""},{"$f":"IF(ISERROR(MATCH(view!E$3,data!$Y11:$AB11,0)),\"\",IFERROR(HYPERLINK(showDetails(INDEX(data!$S11:$V11,MATCH(view!E$3,data!$Y11:$AB11,0)),E13),\"●\"),\"●\"))","v":""},{"$f":"IF(ISERROR(MATCH(view!F$3,data!$Y11:$AB11,0)),\"\",IFERROR(HYPERLINK(showDetails(INDEX(data!$S11:$V11,MATCH(view!F$3,data!$Y11:$AB11,0)),F13),\"●\"),\"●\"))","v":""},{"$f":"IF(ISERROR(MATCH(view!G$3,data!$Y11:$AB11,0)),\"\",IFERROR(HYPERLINK(showDetails(INDEX(data!$S11:$V11,MATCH(view!G$3,data!$Y11:$AB11,0)),G13),\"●\"),\"●\"))","v":""},{"$f":"IF(ISERROR(MATCH(view!H$3,data!$Y11:$AB11,0)),\"\",IFERROR(HYPERLINK(showDetails(INDEX(data!$S11:$V11,MATCH(view!H$3,data!$Y11:$AB11,0)),H13),\"●\"),\"●\"))","v":""},{"$f":"IF(ISERROR(MATCH(view!I$3,data!$Y11:$AB11,0)),\"\",IFERROR(HYPERLINK(showDetails(INDEX(data!$S11:$V11,MATCH(view!I$3,data!$Y11:$AB11,0)),I13),\"●\"),\"●\"))","v":""},{"$f":"IF(ISERROR(MATCH(view!J$3,data!$Y11:$AB11,0)),\"\",IFERROR(HYPERLINK(showDetails(INDEX(data!$S11:$V11,MATCH(view!J$3,data!$Y11:$AB11,0)),J13),\"●\"),\"●\"))","v":""},{"$f":"IF(ISERROR(MATCH(view!K$3,data!$Y11:$AB11,0)),\"\",IFERROR(HYPERLINK(showDetails(INDEX(data!$S11:$V11,MATCH(view!K$3,data!$Y11:$AB11,0)),K13),\"●\"),\"●\"))","v":""},{"$f":"IF(ISERROR(MATCH(view!L$3,data!$Y11:$AB11,0)),\"\",IFERROR(HYPERLINK(showDetails(INDEX(data!$S11:$V11,MATCH(view!L$3,data!$Y11:$AB11,0)),L13),\"●\"),\"●\"))","v":""},{"$f":"IF(ISERROR(MATCH(view!M$3,data!$Y11:$AB11,0)),\"\",IFERROR(HYPERLINK(showDetails(INDEX(data!$S11:$V11,MATCH(view!M$3,data!$Y11:$AB11,0)),M13),\"●\"),\"●\"))","v":""},{"$f":"IF(ISERROR(MATCH(view!N$3,data!$Y11:$AB11,0)),\"\",IFERROR(HYPERLINK(showDetails(INDEX(data!$S11:$V11,MATCH(view!N$3,data!$Y11:$AB11,0)),N13),\"●\"),\"●\"))","v":""},{"$f":"IF(ISERROR(MATCH(view!O$3,data!$Y11:$AB11,0)),\"\",IFERROR(HYPERLINK(showDetails(INDEX(data!$S11:$V11,MATCH(view!O$3,data!$Y11:$AB11,0)),O13),\"●\"),\"●\"))","v":""},{"$f":"IF(ISERROR(MATCH(view!P$3,data!$Y11:$AB11,0)),\"\",IFERROR(HYPERLINK(showDetails(INDEX(data!$S11:$V11,MATCH(view!P$3,data!$Y11:$AB11,0)),P13),\"●\"),\"●\"))","v":""},{"$f":"IF(ISERROR(MATCH(view!Q$3,data!$Y11:$AB11,0)),\"\",IFERROR(HYPERLINK(showDetails(INDEX(data!$S11:$V11,MATCH(view!Q$3,data!$Y11:$AB11,0)),Q13),\"●\"),\"●\"))","v":""},{"$f":"IF(ISERROR(MATCH(view!R$3,data!$Y11:$AB11,0)),\"\",IFERROR(HYPERLINK(showDetails(INDEX(data!$S11:$V11,MATCH(view!R$3,data!$Y11:$AB11,0)),R13),\"●\"),\"●\"))","v":""},{"$f":"IF(ISERROR(MATCH(view!S$3,data!$Y11:$AB11,0)),\"\",IFERROR(HYPERLINK(showDetails(INDEX(data!$S11:$V11,MATCH(view!S$3,data!$Y11:$AB11,0)),S13),\"●\"),\"●\"))","v":""},{"$f":"IF(ISERROR(MATCH(view!T$3,data!$Y11:$AB11,0)),\"\",IFERROR(HYPERLINK(showDetails(INDEX(data!$S11:$V11,MATCH(view!T$3,data!$Y11:$AB11,0)),T13),\"●\"),\"●\"))","v":""},{"$f":"IF(ISERROR(MATCH(view!U$3,data!$Y11:$AB11,0)),\"\",IFERROR(HYPERLINK(showDetails(INDEX(data!$S11:$V11,MATCH(view!U$3,data!$Y11:$AB11,0)),U13),\"●\"),\"●\"))","v":""},{"$f":"IF(ISERROR(MATCH(view!V$3,data!$Y11:$AB11,0)),\"\",IFERROR(HYPERLINK(showDetails(INDEX(data!$S11:$V11,MATCH(view!V$3,data!$Y11:$AB11,0)),V13),\"●\"),\"●\"))","v":""},{"$f":"IF(ISERROR(MATCH(view!W$3,data!$Y11:$AB11,0)),\"\",IFERROR(HYPERLINK(showDetails(INDEX(data!$S11:$V11,MATCH(view!W$3,data!$Y11:$AB11,0)),W13),\"●\"),\"●\"))","v":""},{"$f":"IF(ISERROR(MATCH(view!X$3,data!$Y11:$AB11,0)),\"\",IFERROR(HYPERLINK(showDetails(INDEX(data!$S11:$V11,MATCH(view!X$3,data!$Y11:$AB11,0)),X13),\"●\"),\"●\"))","v":""},{"$f":"IF(ISERROR(MATCH(view!Y$3,data!$Y11:$AB11,0)),\"\",IFERROR(HYPERLINK(showDetails(INDEX(data!$S11:$V11,MATCH(view!Y$3,data!$Y11:$AB11,0)),Y13),\"●\"),\"●\"))","v":""},{"$f":"IF(ISERROR(MATCH(view!Z$3,data!$Y11:$AB11,0)),\"\",IFERROR(HYPERLINK(showDetails(INDEX(data!$S11:$V11,MATCH(view!Z$3,data!$Y11:$AB11,0)),Z13),\"●\"),\"●\"))","v":""},{"$f":"IF(ISERROR(MATCH(view!AA$3,data!$Y11:$AB11,0)),\"\",IFERROR(HYPERLINK(showDetails(INDEX(data!$S11:$V11,MATCH(view!AA$3,data!$Y11:$AB11,0)),AA13),\"●\"),\"●\"))","v":""},{"$f":"IF(ISERROR(MATCH(view!AB$3,data!$Y11:$AB11,0)),\"\",IFERROR(HYPERLINK(showDetails(INDEX(data!$S11:$V11,MATCH(view!AB$3,data!$Y11:$AB11,0)),AB13),\"●\"),\"●\"))","v":""},{"$f":"IF(ISERROR(MATCH(view!AC$3,data!$Y11:$AB11,0)),\"\",IFERROR(HYPERLINK(showDetails(INDEX(data!$S11:$V11,MATCH(view!AC$3,data!$Y11:$AB11,0)),AC13),\"●\"),\"●\"))","v":""},{"$f":"IF(ISERROR(MATCH(view!AD$3,data!$Y11:$AB11,0)),\"\",IFERROR(HYPERLINK(showDetails(INDEX(data!$S11:$V11,MATCH(view!AD$3,data!$Y11:$AB11,0)),AD13),\"●\"),\"●\"))","v":""},{"$f":"IF(ISERROR(MATCH(view!AE$3,data!$Y11:$AB11,0)),\"\",IFERROR(HYPERLINK(showDetails(INDEX(data!$S11:$V11,MATCH(view!AE$3,data!$Y11:$AB11,0)),AE13),\"●\"),\"●\"))","v":""},{"$f":"IF(ISERROR(MATCH(view!AF$3,data!$Y11:$AB11,0)),\"\",IFERROR(HYPERLINK(showDetails(INDEX(data!$S11:$V11,MATCH(view!AF$3,data!$Y11:$AB11,0)),AF13),\"●\"),\"●\"))","v":""},{"$f":"IF(ISERROR(MATCH(view!AG$3,data!$Y11:$AB11,0)),\"\",IFERROR(HYPERLINK(showDetails(INDEX(data!$S11:$V11,MATCH(view!AG$3,data!$Y11:$AB11,0)),AG13),\"●\"),\"●\"))","v":""},{"$f":"IF(ISERROR(MATCH(view!AH$3,data!$Y11:$AB11,0)),\"\",IFERROR(HYPERLINK(showDetails(INDEX(data!$S11:$V11,MATCH(view!AH$3,data!$Y11:$AB11,0)),AH13),\"●\"),\"●\"))","v":""},{"$f":"IF(ISERROR(MATCH(view!AI$3,data!$Y11:$AB11,0)),\"\",IFERROR(HYPERLINK(showDetails(INDEX(data!$S11:$V11,MATCH(view!AI$3,data!$Y11:$AB11,0)),AI13),\"●\"),\"●\"))","v":""},{"$f":"IF(ISERROR(MATCH(view!AJ$3,data!$Y11:$AB11,0)),\"\",IFERROR(HYPERLINK(showDetails(INDEX(data!$S11:$V11,MATCH(view!AJ$3,data!$Y11:$AB11,0)),AJ13),\"●\"),\"●\"))","v":""},{"$f":"IF(ISERROR(MATCH(view!AK$3,data!$Y11:$AB11,0)),\"\",IFERROR(HYPERLINK(showDetails(INDEX(data!$S11:$V11,MATCH(view!AK$3,data!$Y11:$AB11,0)),AK13),\"●\"),\"●\"))","v":""},{"$f":"IF(ISERROR(MATCH(view!AL$3,data!$Y11:$AB11,0)),\"\",IFERROR(HYPERLINK(showDetails(INDEX(data!$S11:$V11,MATCH(view!AL$3,data!$Y11:$AB11,0)),AL13),\"●\"),\"●\"))","v":""},{"$f":"IF(ISERROR(MATCH(view!AM$3,data!$Y11:$AB11,0)),\"\",IFERROR(HYPERLINK(showDetails(INDEX(data!$S11:$V11,MATCH(view!AM$3,data!$Y11:$AB11,0)),AM13),\"●\"),\"●\"))","v":""},{"$f":"IF(ISERROR(MATCH(view!AN$3,data!$Y11:$AB11,0)),\"\",IFERROR(HYPERLINK(showDetails(INDEX(data!$S11:$V11,MATCH(view!AN$3,data!$Y11:$AB11,0)),AN13),\"●\"),\"●\"))","v":""},{"$f":"IF(ISERROR(MATCH(view!AO$3,data!$Y11:$AB11,0)),\"\",IFERROR(HYPERLINK(showDetails(INDEX(data!$S11:$V11,MATCH(view!AO$3,data!$Y11:$AB11,0)),AO13),\"●\"),\"●\"))","v":""},{"$f":"IF(ISERROR(MATCH(view!AP$3,data!$Y11:$AB11,0)),\"\",IFERROR(HYPERLINK(showDetails(INDEX(data!$S11:$V11,MATCH(view!AP$3,data!$Y11:$AB11,0)),AP13),\"●\"),\"●\"))","v":""},{"$f":"IF(ISERROR(MATCH(view!AQ$3,data!$Y11:$AB11,0)),\"\",IFERROR(HYPERLINK(showDetails(INDEX(data!$S11:$V11,MATCH(view!AQ$3,data!$Y11:$AB11,0)),AQ13),\"●\"),\"●\"))","v":""},{"$f":"IF(ISERROR(MATCH(view!AR$3,data!$Y11:$AB11,0)),\"\",IFERROR(HYPERLINK(showDetails(INDEX(data!$S11:$V11,MATCH(view!AR$3,data!$Y11:$AB11,0)),AR13),\"●\"),\"●\"))","v":""},{"$f":"IF(ISERROR(MATCH(view!AS$3,data!$Y11:$AB11,0)),\"\",IFERROR(HYPERLINK(showDetails(INDEX(data!$S11:$V11,MATCH(view!AS$3,data!$Y11:$AB11,0)),AS13),\"●\"),\"●\"))","v":""},{"$f":"IF(ISERROR(MATCH(view!AT$3,data!$Y11:$AB11,0)),\"\",IFERROR(HYPERLINK(showDetails(INDEX(data!$S11:$V11,MATCH(view!AT$3,data!$Y11:$AB11,0)),AT13),\"●\"),\"●\"))","v":""},{"$f":"IF(ISERROR(MATCH(view!AU$3,data!$Y11:$AB11,0)),\"\",IFERROR(HYPERLINK(showDetails(INDEX(data!$S11:$V11,MATCH(view!AU$3,data!$Y11:$AB11,0)),AU13),\"●\"),\"●\"))","v":""},{"$f":"IF(ISERROR(MATCH(view!AV$3,data!$Y11:$AB11,0)),\"\",IFERROR(HYPERLINK(showDetails(INDEX(data!$S11:$V11,MATCH(view!AV$3,data!$Y11:$AB11,0)),AV13),\"●\"),\"●\"))","v":""},{"$f":"IF(ISERROR(MATCH(view!AW$3,data!$Y11:$AB11,0)),\"\",IFERROR(HYPERLINK(showDetails(INDEX(data!$S11:$V11,MATCH(view!AW$3,data!$Y11:$AB11,0)),AW13),\"●\"),\"●\"))","v":""},{"$f":"IF(ISERROR(MATCH(view!AX$3,data!$Y11:$AB11,0)),\"\",IFERROR(HYPERLINK(showDetails(INDEX(data!$S11:$V11,MATCH(view!AX$3,data!$Y11:$AB11,0)),AX13),\"●\"),\"●\"))","v":""},{"$f":"IF(ISERROR(MATCH(view!AY$3,data!$Y11:$AB11,0)),\"\",IFERROR(HYPERLINK(showDetails(INDEX(data!$S11:$V11,MATCH(view!AY$3,data!$Y11:$AB11,0)),AY13),\"●\"),\"●\"))","v":""},{"$f":"IF(ISERROR(MATCH(view!AZ$3,data!$Y11:$AB11,0)),\"\",IFERROR(HYPERLINK(showDetails(INDEX(data!$S11:$V11,MATCH(view!AZ$3,data!$Y11:$AB11,0)),AZ13),\"●\"),\"●\"))","v":""},{"$f":"IF(ISERROR(MATCH(view!BA$3,data!$Y11:$AB11,0)),\"\",IFERROR(HYPERLINK(showDetails(INDEX(data!$S11:$V11,MATCH(view!BA$3,data!$Y11:$AB11,0)),BA13),\"●\"),\"●\"))","v":""},{"$f":"IF(ISERROR(MATCH(view!BB$3,data!$Y11:$AB11,0)),\"\",IFERROR(HYPERLINK(showDetails(INDEX(data!$S11:$V11,MATCH(view!BB$3,data!$Y11:$AB11,0)),BB13),\"●\"),\"●\"))","v":""},{"$f":"IF(ISERROR(MATCH(view!BC$3,data!$Y11:$AB11,0)),\"\",IFERROR(HYPERLINK(showDetails(INDEX(data!$S11:$V11,MATCH(view!BC$3,data!$Y11:$AB11,0)),BC13),\"●\"),\"●\"))","v":""},{"$f":"IF(ISERROR(MATCH(view!BD$3,data!$Y11:$AB11,0)),\"\",IFERROR(HYPERLINK(showDetails(INDEX(data!$S11:$V11,MATCH(view!BD$3,data!$Y11:$AB11,0)),BD13),\"●\"),\"●\"))","v":""},{"$f":"IF(ISERROR(MATCH(view!BE$3,data!$Y11:$AB11,0)),\"\",IFERROR(HYPERLINK(showDetails(INDEX(data!$S11:$V11,MATCH(view!BE$3,data!$Y11:$AB11,0)),BE13),\"●\"),\"●\"))","v":""},{"$f":"IF(ISERROR(MATCH(view!BF$3,data!$Y11:$AB11,0)),\"\",IFERROR(HYPERLINK(showDetails(INDEX(data!$S11:$V11,MATCH(view!BF$3,data!$Y11:$AB11,0)),BF13),\"●\"),\"●\"))","v":""},{"$f":"IF(ISERROR(MATCH(view!BG$3,data!$Y11:$AB11,0)),\"\",IFERROR(HYPERLINK(showDetails(INDEX(data!$S11:$V11,MATCH(view!BG$3,data!$Y11:$AB11,0)),BG13),\"●\"),\"●\"))","v":""},{"$f":"IF(ISERROR(MATCH(view!BH$3,data!$Y11:$AB11,0)),\"\",IFERROR(HYPERLINK(showDetails(INDEX(data!$S11:$V11,MATCH(view!BH$3,data!$Y11:$AB11,0)),BH13),\"●\"),\"●\"))","v":""},{"$f":"IF(ISERROR(MATCH(view!BI$3,data!$Y11:$AB11,0)),\"\",IFERROR(HYPERLINK(showDetails(INDEX(data!$S11:$V11,MATCH(view!BI$3,data!$Y11:$AB11,0)),BI13),\"●\"),\"●\"))","v":""},{"$f":"IF(ISERROR(MATCH(view!BJ$3,data!$Y11:$AB11,0)),\"\",IFERROR(HYPERLINK(showDetails(INDEX(data!$S11:$V11,MATCH(view!BJ$3,data!$Y11:$AB11,0)),BJ13),\"●\"),\"●\"))","v":""},{"$f":"IF(ISERROR(MATCH(view!BK$3,data!$Y11:$AB11,0)),\"\",IFERROR(HYPERLINK(showDetails(INDEX(data!$S11:$V11,MATCH(view!BK$3,data!$Y11:$AB11,0)),BK13),\"●\"),\"●\"))","v":""},{"$f":"IF(ISERROR(MATCH(view!BL$3,data!$Y11:$AB11,0)),\"\",IFERROR(HYPERLINK(showDetails(INDEX(data!$S11:$V11,MATCH(view!BL$3,data!$Y11:$AB11,0)),BL13),\"●\"),\"●\"))","v":""},{"$f":"IF(ISERROR(MATCH(view!BM$3,data!$Y11:$AB11,0)),\"\",IFERROR(HYPERLINK(showDetails(INDEX(data!$S11:$V11,MATCH(view!BM$3,data!$Y11:$AB11,0)),BM13),\"●\"),\"●\"))","v":""},{"$f":"IF(ISERROR(MATCH(view!BN$3,data!$Y11:$AB11,0)),\"\",IFERROR(HYPERLINK(showDetails(INDEX(data!$S11:$V11,MATCH(view!BN$3,data!$Y11:$AB11,0)),BN13),\"●\"),\"●\"))","v":""},{"$f":"IF(ISERROR(MATCH(view!BO$3,data!$Y11:$AB11,0)),\"\",IFERROR(HYPERLINK(showDetails(INDEX(data!$S11:$V11,MATCH(view!BO$3,data!$Y11:$AB11,0)),BO13),\"●\"),\"●\"))","v":""},{"$f":"IF(ISERROR(MATCH(view!BP$3,data!$Y11:$AB11,0)),\"\",IFERROR(HYPERLINK(showDetails(INDEX(data!$S11:$V11,MATCH(view!BP$3,data!$Y11:$AB11,0)),BP13),\"●\"),\"●\"))","v":""},{"$f":"IF(ISERROR(MATCH(view!BQ$3,data!$Y11:$AB11,0)),\"\",IFERROR(HYPERLINK(showDetails(INDEX(data!$S11:$V11,MATCH(view!BQ$3,data!$Y11:$AB11,0)),BQ13),\"●\"),\"●\"))","v":""},{"$f":"IF(ISERROR(MATCH(view!BR$3,data!$Y11:$AB11,0)),\"\",IFERROR(HYPERLINK(showDetails(INDEX(data!$S11:$V11,MATCH(view!BR$3,data!$Y11:$AB11,0)),BR13),\"●\"),\"●\"))","v":""},{"$f":"IF(ISERROR(MATCH(view!BS$3,data!$Y11:$AB11,0)),\"\",IFERROR(HYPERLINK(showDetails(INDEX(data!$S11:$V11,MATCH(view!BS$3,data!$Y11:$AB11,0)),BS13),\"●\"),\"●\"))","v":""},{"$f":"IF(ISERROR(MATCH(view!BT$3,data!$Y11:$AB11,0)),\"\",IFERROR(HYPERLINK(showDetails(INDEX(data!$S11:$V11,MATCH(view!BT$3,data!$Y11:$AB11,0)),BT13),\"●\"),\"●\"))","v":""},{"$f":"IF(ISERROR(MATCH(view!BU$3,data!$Y11:$AB11,0)),\"\",IFERROR(HYPERLINK(showDetails(INDEX(data!$S11:$V11,MATCH(view!BU$3,data!$Y11:$AB11,0)),BU13),\"●\"),\"●\"))","v":""},{"$f":"IF(ISERROR(MATCH(view!BV$3,data!$Y11:$AB11,0)),\"\",IFERROR(HYPERLINK(showDetails(INDEX(data!$S11:$V11,MATCH(view!BV$3,data!$Y11:$AB11,0)),BV13),\"●\"),\"●\"))","v":""},{"$f":"IF(ISERROR(MATCH(view!BW$3,data!$Y11:$AB11,0)),\"\",IFERROR(HYPERLINK(showDetails(INDEX(data!$S11:$V11,MATCH(view!BW$3,data!$Y11:$AB11,0)),BW13),\"●\"),\"●\"))","v":""},{"$f":"IF(ISERROR(MATCH(view!BX$3,data!$Y11:$AB11,0)),\"\",IFERROR(HYPERLINK(showDetails(INDEX(data!$S11:$V11,MATCH(view!BX$3,data!$Y11:$AB11,0)),BX13),\"●\"),\"●\"))","v":""},{"$f":"IF(ISERROR(MATCH(view!BY$3,data!$Y11:$AB11,0)),\"\",IFERROR(HYPERLINK(showDetails(INDEX(data!$S11:$V11,MATCH(view!BY$3,data!$Y11:$AB11,0)),BY13),\"●\"),\"●\"))","v":""},{"$f":"IF(ISERROR(MATCH(view!BZ$3,data!$Y11:$AB11,0)),\"\",IFERROR(HYPERLINK(showDetails(INDEX(data!$S11:$V11,MATCH(view!BZ$3,data!$Y11:$AB11,0)),BZ13),\"●\"),\"●\"))","v":""},{"$f":"IF(ISERROR(MATCH(view!CA$3,data!$Y11:$AB11,0)),\"\",IFERROR(HYPERLINK(showDetails(INDEX(data!$S11:$V11,MATCH(view!CA$3,data!$Y11:$AB11,0)),CA13),\"●\"),\"●\"))","v":""},{"$f":"IF(ISERROR(MATCH(view!CB$3,data!$Y11:$AB11,0)),\"\",IFERROR(HYPERLINK(showDetails(INDEX(data!$S11:$V11,MATCH(view!CB$3,data!$Y11:$AB11,0)),CB13),\"●\"),\"●\"))","v":""},{"$f":"IF(ISERROR(MATCH(view!CC$3,data!$Y11:$AB11,0)),\"\",IFERROR(HYPERLINK(showDetails(INDEX(data!$S11:$V11,MATCH(view!CC$3,data!$Y11:$AB11,0)),CC13),\"●\"),\"●\"))","v":""},{"$f":"IF(ISERROR(MATCH(view!CD$3,data!$Y11:$AB11,0)),\"\",IFERROR(HYPERLINK(showDetails(INDEX(data!$S11:$V11,MATCH(view!CD$3,data!$Y11:$AB11,0)),CD13),\"●\"),\"●\"))","v":""},{"$f":"IF(ISERROR(MATCH(view!CE$3,data!$Y11:$AB11,0)),\"\",IFERROR(HYPERLINK(showDetails(INDEX(data!$S11:$V11,MATCH(view!CE$3,data!$Y11:$AB11,0)),CE13),\"●\"),\"●\"))","v":""},{"$f":"IF(ISERROR(MATCH(view!CF$3,data!$Y11:$AB11,0)),\"\",IFERROR(HYPERLINK(showDetails(INDEX(data!$S11:$V11,MATCH(view!CF$3,data!$Y11:$AB11,0)),CF13),\"●\"),\"●\"))","v":""},{"$f":"IF(ISERROR(MATCH(view!CG$3,data!$Y11:$AB11,0)),\"\",IFERROR(HYPERLINK(showDetails(INDEX(data!$S11:$V11,MATCH(view!CG$3,data!$Y11:$AB11,0)),CG13),\"●\"),\"●\"))","v":""},{"$f":"IF(ISERROR(MATCH(view!CH$3,data!$Y11:$AB11,0)),\"\",IFERROR(HYPERLINK(showDetails(INDEX(data!$S11:$V11,MATCH(view!CH$3,data!$Y11:$AB11,0)),CH13),\"●\"),\"●\"))","v":"●"},{"$f":"IF(ISERROR(MATCH(view!CI$3,data!$Y11:$AB11,0)),\"\",IFERROR(HYPERLINK(showDetails(INDEX(data!$S11:$V11,MATCH(view!CI$3,data!$Y11:$AB11,0)),CI13),\"●\"),\"●\"))","v":""},{"$f":"IF(ISERROR(MATCH(view!CJ$3,data!$Y11:$AB11,0)),\"\",IFERROR(HYPERLINK(showDetails(INDEX(data!$S11:$V11,MATCH(view!CJ$3,data!$Y11:$AB11,0)),CJ13),\"●\"),\"●\"))","v":""},{"$f":"IF(ISERROR(MATCH(view!CK$3,data!$Y11:$AB11,0)),\"\",IFERROR(HYPERLINK(showDetails(INDEX(data!$S11:$V11,MATCH(view!CK$3,data!$Y11:$AB11,0)),CK13),\"●\"),\"●\"))","v":""},{"$f":"IF(ISERROR(MATCH(view!CL$3,data!$Y11:$AB11,0)),\"\",IFERROR(HYPERLINK(showDetails(INDEX(data!$S11:$V11,MATCH(view!CL$3,data!$Y11:$AB11,0)),CL13),\"●\"),\"●\"))","v":""},{"$f":"IF(ISERROR(MATCH(view!CM$3,data!$Y11:$AB11,0)),\"\",IFERROR(HYPERLINK(showDetails(INDEX(data!$S11:$V11,MATCH(view!CM$3,data!$Y11:$AB11,0)),CM13),\"●\"),\"●\"))","v":""},{"$f":"IF(ISERROR(MATCH(view!CN$3,data!$Y11:$AB11,0)),\"\",IFERROR(HYPERLINK(showDetails(INDEX(data!$S11:$V11,MATCH(view!CN$3,data!$Y11:$AB11,0)),CN13),\"●\"),\"●\"))","v":""},{"$f":"IF(ISERROR(MATCH(view!CO$3,data!$Y11:$AB11,0)),\"\",IFERROR(HYPERLINK(showDetails(INDEX(data!$S11:$V11,MATCH(view!CO$3,data!$Y11:$AB11,0)),CO13),\"●\"),\"●\"))","v":"●"},{"$f":"IF(ISERROR(MATCH(view!CP$3,data!$Y11:$AB11,0)),\"\",IFERROR(HYPERLINK(showDetails(INDEX(data!$S11:$V11,MATCH(view!CP$3,data!$Y11:$AB11,0)),CP13),\"●\"),\"●\"))","v":""},{"$f":"IF(ISERROR(MATCH(view!CQ$3,data!$Y11:$AB11,0)),\"\",IFERROR(HYPERLINK(showDetails(INDEX(data!$S11:$V11,MATCH(view!CQ$3,data!$Y11:$AB11,0)),CQ13),\"●\"),\"●\"))","v":""},{"$f":"IF(ISERROR(MATCH(view!CR$3,data!$Y11:$AB11,0)),\"\",IFERROR(HYPERLINK(showDetails(INDEX(data!$S11:$V11,MATCH(view!CR$3,data!$Y11:$AB11,0)),CR13),\"●\"),\"●\"))","v":""},{"$f":"IF(ISERROR(MATCH(view!CS$3,data!$Y11:$AB11,0)),\"\",IFERROR(HYPERLINK(showDetails(INDEX(data!$S11:$V11,MATCH(view!CS$3,data!$Y11:$AB11,0)),CS13),\"●\"),\"●\"))","v":""},{"$f":"IF(ISERROR(MATCH(view!CT$3,data!$Y11:$AB11,0)),\"\",IFERROR(HYPERLINK(showDetails(INDEX(data!$S11:$V11,MATCH(view!CT$3,data!$Y11:$AB11,0)),CT13),\"●\"),\"●\"))","v":""},{"$f":"IF(ISERROR(MATCH(view!CU$3,data!$Y11:$AB11,0)),\"\",IFERROR(HYPERLINK(showDetails(INDEX(data!$S11:$V11,MATCH(view!CU$3,data!$Y11:$AB11,0)),CU13),\"●\"),\"●\"))","v":""},{"$f":"IF(ISERROR(MATCH(view!CV$3,data!$Y11:$AB11,0)),\"\",IFERROR(HYPERLINK(showDetails(INDEX(data!$S11:$V11,MATCH(view!CV$3,data!$Y11:$AB11,0)),CV13),\"●\"),\"●\"))","v":""},{"$f":"IF(ISERROR(MATCH(view!CW$3,data!$Y11:$AB11,0)),\"\",IFERROR(HYPERLINK(showDetails(INDEX(data!$S11:$V11,MATCH(view!CW$3,data!$Y11:$AB11,0)),CW13),\"●\"),\"●\"))","v":""},{"$f":"IF(ISERROR(MATCH(view!CX$3,data!$Y11:$AB11,0)),\"\",IFERROR(HYPERLINK(showDetails(INDEX(data!$S11:$V11,MATCH(view!CX$3,data!$Y11:$AB11,0)),CX13),\"●\"),\"●\"))","v":""},{"$f":"IF(ISERROR(MATCH(view!CY$3,data!$Y11:$AB11,0)),\"\",IFERROR(HYPERLINK(showDetails(INDEX(data!$S11:$V11,MATCH(view!CY$3,data!$Y11:$AB11,0)),CY13),\"●\"),\"●\"))","v":""},{"$f":"IF(ISERROR(MATCH(view!CZ$3,data!$Y11:$AB11,0)),\"\",IFERROR(HYPERLINK(showDetails(INDEX(data!$S11:$V11,MATCH(view!CZ$3,data!$Y11:$AB11,0)),CZ13),\"●\"),\"●\"))","v":""},{"$f":"IF(ISERROR(MATCH(view!DA$3,data!$Y11:$AB11,0)),\"\",IFERROR(HYPERLINK(showDetails(INDEX(data!$S11:$V11,MATCH(view!DA$3,data!$Y11:$AB11,0)),DA13),\"●\"),\"●\"))","v":""},{"$f":"IF(ISERROR(MATCH(view!DB$3,data!$Y11:$AB11,0)),\"\",IFERROR(HYPERLINK(showDetails(INDEX(data!$S11:$V11,MATCH(view!DB$3,data!$Y11:$AB11,0)),DB13),\"●\"),\"●\"))","v":""},{"$f":"IF(ISERROR(MATCH(view!DC$3,data!$Y11:$AB11,0)),\"\",IFERROR(HYPERLINK(showDetails(INDEX(data!$S11:$V11,MATCH(view!DC$3,data!$Y11:$AB11,0)),DC13),\"●\"),\"●\"))","v":""},{"$f":"IF(ISERROR(MATCH(view!DD$3,data!$Y11:$AB11,0)),\"\",IFERROR(HYPERLINK(showDetails(INDEX(data!$S11:$V11,MATCH(view!DD$3,data!$Y11:$AB11,0)),DD13),\"●\"),\"●\"))","v":""},{"$f":"IF(ISERROR(MATCH(view!DE$3,data!$Y11:$AB11,0)),\"\",IFERROR(HYPERLINK(showDetails(INDEX(data!$S11:$V11,MATCH(view!DE$3,data!$Y11:$AB11,0)),DE13),\"●\"),\"●\"))","v":""},{"$f":"IF(ISERROR(MATCH(view!DF$3,data!$Y11:$AB11,0)),\"\",IFERROR(HYPERLINK(showDetails(INDEX(data!$S11:$V11,MATCH(view!DF$3,data!$Y11:$AB11,0)),DF13),\"●\"),\"●\"))","v":""},{"$f":"IF(ISERROR(MATCH(view!DG$3,data!$Y11:$AB11,0)),\"\",IFERROR(HYPERLINK(showDetails(INDEX(data!$S11:$V11,MATCH(view!DG$3,data!$Y11:$AB11,0)),DG13),\"●\"),\"●\"))","v":""},{"$f":"IF(ISERROR(MATCH(view!DH$3,data!$Y11:$AB11,0)),\"\",IFERROR(HYPERLINK(showDetails(INDEX(data!$S11:$V11,MATCH(view!DH$3,data!$Y11:$AB11,0)),DH13),\"●\"),\"●\"))","v":""},{"$f":"IF(ISERROR(MATCH(view!DI$3,data!$Y11:$AB11,0)),\"\",IFERROR(HYPERLINK(showDetails(INDEX(data!$S11:$V11,MATCH(view!DI$3,data!$Y11:$AB11,0)),DI13),\"●\"),\"●\"))","v":""},{"$f":"IF(ISERROR(MATCH(view!DJ$3,data!$Y11:$AB11,0)),\"\",IFERROR(HYPERLINK(showDetails(INDEX(data!$S11:$V11,MATCH(view!DJ$3,data!$Y11:$AB11,0)),DJ13),\"●\"),\"●\"))","v":""},{"$f":"IF(ISERROR(MATCH(view!DK$3,data!$Y11:$AB11,0)),\"\",IFERROR(HYPERLINK(showDetails(INDEX(data!$S11:$V11,MATCH(view!DK$3,data!$Y11:$AB11,0)),DK13),\"●\"),\"●\"))","v":""},{"$f":"IF(ISERROR(MATCH(view!DL$3,data!$Y11:$AB11,0)),\"\",IFERROR(HYPERLINK(showDetails(INDEX(data!$S11:$V11,MATCH(view!DL$3,data!$Y11:$AB11,0)),DL13),\"●\"),\"●\"))","v":""},{"$f":"IF(ISERROR(MATCH(view!DM$3,data!$Y11:$AB11,0)),\"\",IFERROR(HYPERLINK(showDetails(INDEX(data!$S11:$V11,MATCH(view!DM$3,data!$Y11:$AB11,0)),DM13),\"●\"),\"●\"))","v":""},{"$f":"IF(ISERROR(MATCH(view!DN$3,data!$Y11:$AB11,0)),\"\",IFERROR(HYPERLINK(showDetails(INDEX(data!$S11:$V11,MATCH(view!DN$3,data!$Y11:$AB11,0)),DN13),\"●\"),\"●\"))","v":""},{"$f":"IF(ISERROR(MATCH(view!DO$3,data!$Y11:$AB11,0)),\"\",IFERROR(HYPERLINK(showDetails(INDEX(data!$S11:$V11,MATCH(view!DO$3,data!$Y11:$AB11,0)),DO13),\"●\"),\"●\"))","v":""},{"$f":"IF(ISERROR(MATCH(view!DP$3,data!$Y11:$AB11,0)),\"\",IFERROR(HYPERLINK(showDetails(INDEX(data!$S11:$V11,MATCH(view!DP$3,data!$Y11:$AB11,0)),DP13),\"●\"),\"●\"))","v":""},{"$f":"IF(ISERROR(MATCH(view!DQ$3,data!$Y11:$AB11,0)),\"\",IFERROR(HYPERLINK(showDetails(INDEX(data!$S11:$V11,MATCH(view!DQ$3,data!$Y11:$AB11,0)),DQ13),\"●\"),\"●\"))","v":""},{"$f":"IF(ISERROR(MATCH(view!DR$3,data!$Y11:$AB11,0)),\"\",IFERROR(HYPERLINK(showDetails(INDEX(data!$S11:$V11,MATCH(view!DR$3,data!$Y11:$AB11,0)),DR13),\"●\"),\"●\"))","v":""},{"$f":"IF(ISERROR(MATCH(view!DS$3,data!$Y11:$AB11,0)),\"\",IFERROR(HYPERLINK(showDetails(INDEX(data!$S11:$V11,MATCH(view!DS$3,data!$Y11:$AB11,0)),DS13),\"●\"),\"●\"))","v":""},{"$f":"INDEX(lstYears,A13) &\" - \"&INDEX(data!$W$3:$W$30,A13)","v":"1980 - Moscow"}]
[10,null,{"$f":"IF(ISERROR(MATCH(view!C$3,data!$Y12:$AB12,0)),\"\",IFERROR(HYPERLINK(showDetails(INDEX(data!$S12:$V12,MATCH(view!C$3,data!$Y12:$AB12,0)),C14),\"●\"),\"●\"))","v":""},{"$f":"IF(ISERROR(MATCH(view!D$3,data!$Y12:$AB12,0)),\"\",IFERROR(HYPERLINK(showDetails(INDEX(data!$S12:$V12,MATCH(view!D$3,data!$Y12:$AB12,0)),D14),\"●\"),\"●\"))","v":""},{"$f":"IF(ISERROR(MATCH(view!E$3,data!$Y12:$AB12,0)),\"\",IFERROR(HYPERLINK(showDetails(INDEX(data!$S12:$V12,MATCH(view!E$3,data!$Y12:$AB12,0)),E14),\"●\"),\"●\"))","v":""},{"$f":"IF(ISERROR(MATCH(view!F$3,data!$Y12:$AB12,0)),\"\",IFERROR(HYPERLINK(showDetails(INDEX(data!$S12:$V12,MATCH(view!F$3,data!$Y12:$AB12,0)),F14),\"●\"),\"●\"))","v":""},{"$f":"IF(ISERROR(MATCH(view!G$3,data!$Y12:$AB12,0)),\"\",IFERROR(HYPERLINK(showDetails(INDEX(data!$S12:$V12,MATCH(view!G$3,data!$Y12:$AB12,0)),G14),\"●\"),\"●\"))","v":""},{"$f":"IF(ISERROR(MATCH(view!H$3,data!$Y12:$AB12,0)),\"\",IFERROR(HYPERLINK(showDetails(INDEX(data!$S12:$V12,MATCH(view!H$3,data!$Y12:$AB12,0)),H14),\"●\"),\"●\"))","v":""},{"$f":"IF(ISERROR(MATCH(view!I$3,data!$Y12:$AB12,0)),\"\",IFERROR(HYPERLINK(showDetails(INDEX(data!$S12:$V12,MATCH(view!I$3,data!$Y12:$AB12,0)),I14),\"●\"),\"●\"))","v":""},{"$f":"IF(ISERROR(MATCH(view!J$3,data!$Y12:$AB12,0)),\"\",IFERROR(HYPERLINK(showDetails(INDEX(data!$S12:$V12,MATCH(view!J$3,data!$Y12:$AB12,0)),J14),\"●\"),\"●\"))","v":""},{"$f":"IF(ISERROR(MATCH(view!K$3,data!$Y12:$AB12,0)),\"\",IFERROR(HYPERLINK(showDetails(INDEX(data!$S12:$V12,MATCH(view!K$3,data!$Y12:$AB12,0)),K14),\"●\"),\"●\"))","v":""},{"$f":"IF(ISERROR(MATCH(view!L$3,data!$Y12:$AB12,0)),\"\",IFERROR(HYPERLINK(showDetails(INDEX(data!$S12:$V12,MATCH(view!L$3,data!$Y12:$AB12,0)),L14),\"●\"),\"●\"))","v":""},{"$f":"IF(ISERROR(MATCH(view!M$3,data!$Y12:$AB12,0)),\"\",IFERROR(HYPERLINK(showDetails(INDEX(data!$S12:$V12,MATCH(view!M$3,data!$Y12:$AB12,0)),M14),\"●\"),\"●\"))","v":""},{"$f":"IF(ISERROR(MATCH(view!N$3,data!$Y12:$AB12,0)),\"\",IFERROR(HYPERLINK(showDetails(INDEX(data!$S12:$V12,MATCH(view!N$3,data!$Y12:$AB12,0)),N14),\"●\"),\"●\"))","v":""},{"$f":"IF(ISERROR(MATCH(view!O$3,data!$Y12:$AB12,0)),\"\",IFERROR(HYPERLINK(showDetails(INDEX(data!$S12:$V12,MATCH(view!O$3,data!$Y12:$AB12,0)),O14),\"●\"),\"●\"))","v":""},{"$f":"IF(ISERROR(MATCH(view!P$3,data!$Y12:$AB12,0)),\"\",IFERROR(HYPERLINK(showDetails(INDEX(data!$S12:$V12,MATCH(view!P$3,data!$Y12:$AB12,0)),P14),\"●\"),\"●\"))","v":""},{"$f":"IF(ISERROR(MATCH(view!Q$3,data!$Y12:$AB12,0)),\"\",IFERROR(HYPERLINK(showDetails(INDEX(data!$S12:$V12,MATCH(view!Q$3,data!$Y12:$AB12,0)),Q14),\"●\"),\"●\"))","v":""},{"$f":"IF(ISERROR(MATCH(view!R$3,data!$Y12:$AB12,0)),\"\",IFERROR(HYPERLINK(showDetails(INDEX(data!$S12:$V12,MATCH(view!R$3,data!$Y12:$AB12,0)),R14),\"●\"),\"●\"))","v":""},{"$f":"IF(ISERROR(MATCH(view!S$3,data!$Y12:$AB12,0)),\"\",IFERROR(HYPERLINK(showDetails(INDEX(data!$S12:$V12,MATCH(view!S$3,data!$Y12:$AB12,0)),S14),\"●\"),\"●\"))","v":""},{"$f":"IF(ISERROR(MATCH(view!T$3,data!$Y12:$AB12,0)),\"\",IFERROR(HYPERLINK(showDetails(INDEX(data!$S12:$V12,MATCH(view!T$3,data!$Y12:$AB12,0)),T14),\"●\"),\"●\"))","v":""},{"$f":"IF(ISERROR(MATCH(view!U$3,data!$Y12:$AB12,0)),\"\",IFERROR(HYPERLINK(showDetails(INDEX(data!$S12:$V12,MATCH(view!U$3,data!$Y12:$AB12,0)),U14),\"●\"),\"●\"))","v":""},{"$f":"IF(ISERROR(MATCH(view!V$3,data!$Y12:$AB12,0)),\"\",IFERROR(HYPERLINK(showDetails(INDEX(data!$S12:$V12,MATCH(view!V$3,data!$Y12:$AB12,0)),V14),\"●\"),\"●\"))","v":""},{"$f":"IF(ISERROR(MATCH(view!W$3,data!$Y12:$AB12,0)),\"\",IFERROR(HYPERLINK(showDetails(INDEX(data!$S12:$V12,MATCH(view!W$3,data!$Y12:$AB12,0)),W14),\"●\"),\"●\"))","v":""},{"$f":"IF(ISERROR(MATCH(view!X$3,data!$Y12:$AB12,0)),\"\",IFERROR(HYPERLINK(showDetails(INDEX(data!$S12:$V12,MATCH(view!X$3,data!$Y12:$AB12,0)),X14),\"●\"),\"●\"))","v":""},{"$f":"IF(ISERROR(MATCH(view!Y$3,data!$Y12:$AB12,0)),\"\",IFERROR(HYPERLINK(showDetails(INDEX(data!$S12:$V12,MATCH(view!Y$3,data!$Y12:$AB12,0)),Y14),\"●\"),\"●\"))","v":""},{"$f":"IF(ISERROR(MATCH(view!Z$3,data!$Y12:$AB12,0)),\"\",IFERROR(HYPERLINK(showDetails(INDEX(data!$S12:$V12,MATCH(view!Z$3,data!$Y12:$AB12,0)),Z14),\"●\"),\"●\"))","v":""},{"$f":"IF(ISERROR(MATCH(view!AA$3,data!$Y12:$AB12,0)),\"\",IFERROR(HYPERLINK(showDetails(INDEX(data!$S12:$V12,MATCH(view!AA$3,data!$Y12:$AB12,0)),AA14),\"●\"),\"●\"))","v":""},{"$f":"IF(ISERROR(MATCH(view!AB$3,data!$Y12:$AB12,0)),\"\",IFERROR(HYPERLINK(showDetails(INDEX(data!$S12:$V12,MATCH(view!AB$3,data!$Y12:$AB12,0)),AB14),\"●\"),\"●\"))","v":""},{"$f":"IF(ISERROR(MATCH(view!AC$3,data!$Y12:$AB12,0)),\"\",IFERROR(HYPERLINK(showDetails(INDEX(data!$S12:$V12,MATCH(view!AC$3,data!$Y12:$AB12,0)),AC14),\"●\"),\"●\"))","v":""},{"$f":"IF(ISERROR(MATCH(view!AD$3,data!$Y12:$AB12,0)),\"\",IFERROR(HYPERLINK(showDetails(INDEX(data!$S12:$V12,MATCH(view!AD$3,data!$Y12:$AB12,0)),AD14),\"●\"),\"●\"))","v":""},{"$f":"IF(ISERROR(MATCH(view!AE$3,data!$Y12:$AB12,0)),\"\",IFERROR(HYPERLINK(showDetails(INDEX(data!$S12:$V12,MATCH(view!AE$3,data!$Y12:$AB12,0)),AE14),\"●\"),\"●\"))","v":""},{"$f":"IF(ISERROR(MATCH(view!AF$3,data!$Y12:$AB12,0)),\"\",IFERROR(HYPERLINK(showDetails(INDEX(data!$S12:$V12,MATCH(view!AF$3,data!$Y12:$AB12,0)),AF14),\"●\"),\"●\"))","v":""},{"$f":"IF(ISERROR(MATCH(view!AG$3,data!$Y12:$AB12,0)),\"\",IFERROR(HYPERLINK(showDetails(INDEX(data!$S12:$V12,MATCH(view!AG$3,data!$Y12:$AB12,0)),AG14),\"●\"),\"●\"))","v":""},{"$f":"IF(ISERROR(MATCH(view!AH$3,data!$Y12:$AB12,0)),\"\",IFERROR(HYPERLINK(showDetails(INDEX(data!$S12:$V12,MATCH(view!AH$3,data!$Y12:$AB12,0)),AH14),\"●\"),\"●\"))","v":""},{"$f":"IF(ISERROR(MATCH(view!AI$3,data!$Y12:$AB12,0)),\"\",IFERROR(HYPERLINK(showDetails(INDEX(data!$S12:$V12,MATCH(view!AI$3,data!$Y12:$AB12,0)),AI14),\"●\"),\"●\"))","v":""},{"$f":"IF(ISERROR(MATCH(view!AJ$3,data!$Y12:$AB12,0)),\"\",IFERROR(HYPERLINK(showDetails(INDEX(data!$S12:$V12,MATCH(view!AJ$3,data!$Y12:$AB12,0)),AJ14),\"●\"),\"●\"))","v":""},{"$f":"IF(ISERROR(MATCH(view!AK$3,data!$Y12:$AB12,0)),\"\",IFERROR(HYPERLINK(showDetails(INDEX(data!$S12:$V12,MATCH(view!AK$3,data!$Y12:$AB12,0)),AK14),\"●\"),\"●\"))","v":""},{"$f":"IF(ISERROR(MATCH(view!AL$3,data!$Y12:$AB12,0)),\"\",IFERROR(HYPERLINK(showDetails(INDEX(data!$S12:$V12,MATCH(view!AL$3,data!$Y12:$AB12,0)),AL14),\"●\"),\"●\"))","v":""},{"$f":"IF(ISERROR(MATCH(view!AM$3,data!$Y12:$AB12,0)),\"\",IFERROR(HYPERLINK(showDetails(INDEX(data!$S12:$V12,MATCH(view!AM$3,data!$Y12:$AB12,0)),AM14),\"●\"),\"●\"))","v":""},{"$f":"IF(ISERROR(MATCH(view!AN$3,data!$Y12:$AB12,0)),\"\",IFERROR(HYPERLINK(showDetails(INDEX(data!$S12:$V12,MATCH(view!AN$3,data!$Y12:$AB12,0)),AN14),\"●\"),\"●\"))","v":""},{"$f":"IF(ISERROR(MATCH(view!AO$3,data!$Y12:$AB12,0)),\"\",IFERROR(HYPERLINK(showDetails(INDEX(data!$S12:$V12,MATCH(view!AO$3,data!$Y12:$AB12,0)),AO14),\"●\"),\"●\"))","v":""},{"$f":"IF(ISERROR(MATCH(view!AP$3,data!$Y12:$AB12,0)),\"\",IFERROR(HYPERLINK(showDetails(INDEX(data!$S12:$V12,MATCH(view!AP$3,data!$Y12:$AB12,0)),AP14),\"●\"),\"●\"))","v":""},{"$f":"IF(ISERROR(MATCH(view!AQ$3,data!$Y12:$AB12,0)),\"\",IFERROR(HYPERLINK(showDetails(INDEX(data!$S12:$V12,MATCH(view!AQ$3,data!$Y12:$AB12,0)),AQ14),\"●\"),\"●\"))","v":""},{"$f":"IF(ISERROR(MATCH(view!AR$3,data!$Y12:$AB12,0)),\"\",IFERROR(HYPERLINK(showDetails(INDEX(data!$S12:$V12,MATCH(view!AR$3,data!$Y12:$AB12,0)),AR14),\"●\"),\"●\"))","v":""},{"$f":"IF(ISERROR(MATCH(view!AS$3,data!$Y12:$AB12,0)),\"\",IFERROR(HYPERLINK(showDetails(INDEX(data!$S12:$V12,MATCH(view!AS$3,data!$Y12:$AB12,0)),AS14),\"●\"),\"●\"))","v":""},{"$f":"IF(ISERROR(MATCH(view!AT$3,data!$Y12:$AB12,0)),\"\",IFERROR(HYPERLINK(showDetails(INDEX(data!$S12:$V12,MATCH(view!AT$3,data!$Y12:$AB12,0)),AT14),\"●\"),\"●\"))","v":""},{"$f":"IF(ISERROR(MATCH(view!AU$3,data!$Y12:$AB12,0)),\"\",IFERROR(HYPERLINK(showDetails(INDEX(data!$S12:$V12,MATCH(view!AU$3,data!$Y12:$AB12,0)),AU14),\"●\"),\"●\"))","v":""},{"$f":"IF(ISERROR(MATCH(view!AV$3,data!$Y12:$AB12,0)),\"\",IFERROR(HYPERLINK(showDetails(INDEX(data!$S12:$V12,MATCH(view!AV$3,data!$Y12:$AB12,0)),AV14),\"●\"),\"●\"))","v":""},{"$f":"IF(ISERROR(MATCH(view!AW$3,data!$Y12:$AB12,0)),\"\",IFERROR(HYPERLINK(showDetails(INDEX(data!$S12:$V12,MATCH(view!AW$3,data!$Y12:$AB12,0)),AW14),\"●\"),\"●\"))","v":""},{"$f":"IF(ISERROR(MATCH(view!AX$3,data!$Y12:$AB12,0)),\"\",IFERROR(HYPERLINK(showDetails(INDEX(data!$S12:$V12,MATCH(view!AX$3,data!$Y12:$AB12,0)),AX14),\"●\"),\"●\"))","v":""},{"$f":"IF(ISERROR(MATCH(view!AY$3,data!$Y12:$AB12,0)),\"\",IFERROR(HYPERLINK(showDetails(INDEX(data!$S12:$V12,MATCH(view!AY$3,data!$Y12:$AB12,0)),AY14),\"●\"),\"●\"))","v":""},{"$f":"IF(ISERROR(MATCH(view!AZ$3,data!$Y12:$AB12,0)),\"\",IFERROR(HYPERLINK(showDetails(INDEX(data!$S12:$V12,MATCH(view!AZ$3,data!$Y12:$AB12,0)),AZ14),\"●\"),\"●\"))","v":""},{"$f":"IF(ISERROR(MATCH(view!BA$3,data!$Y12:$AB12,0)),\"\",IFERROR(HYPERLINK(showDetails(INDEX(data!$S12:$V12,MATCH(view!BA$3,data!$Y12:$AB12,0)),BA14),\"●\"),\"●\"))","v":""},{"$f":"IF(ISERROR(MATCH(view!BB$3,data!$Y12:$AB12,0)),\"\",IFERROR(HYPERLINK(showDetails(INDEX(data!$S12:$V12,MATCH(view!BB$3,data!$Y12:$AB12,0)),BB14),\"●\"),\"●\"))","v":""},{"$f":"IF(ISERROR(MATCH(view!BC$3,data!$Y12:$AB12,0)),\"\",IFERROR(HYPERLINK(showDetails(INDEX(data!$S12:$V12,MATCH(view!BC$3,data!$Y12:$AB12,0)),BC14),\"●\"),\"●\"))","v":""},{"$f":"IF(ISERROR(MATCH(view!BD$3,data!$Y12:$AB12,0)),\"\",IFERROR(HYPERLINK(showDetails(INDEX(data!$S12:$V12,MATCH(view!BD$3,data!$Y12:$AB12,0)),BD14),\"●\"),\"●\"))","v":""},{"$f":"IF(ISERROR(MATCH(view!BE$3,data!$Y12:$AB12,0)),\"\",IFERROR(HYPERLINK(showDetails(INDEX(data!$S12:$V12,MATCH(view!BE$3,data!$Y12:$AB12,0)),BE14),\"●\"),\"●\"))","v":""},{"$f":"IF(ISERROR(MATCH(view!BF$3,data!$Y12:$AB12,0)),\"\",IFERROR(HYPERLINK(showDetails(INDEX(data!$S12:$V12,MATCH(view!BF$3,data!$Y12:$AB12,0)),BF14),\"●\"),\"●\"))","v":""},{"$f":"IF(ISERROR(MATCH(view!BG$3,data!$Y12:$AB12,0)),\"\",IFERROR(HYPERLINK(showDetails(INDEX(data!$S12:$V12,MATCH(view!BG$3,data!$Y12:$AB12,0)),BG14),\"●\"),\"●\"))","v":""},{"$f":"IF(ISERROR(MATCH(view!BH$3,data!$Y12:$AB12,0)),\"\",IFERROR(HYPERLINK(showDetails(INDEX(data!$S12:$V12,MATCH(view!BH$3,data!$Y12:$AB12,0)),BH14),\"●\"),\"●\"))","v":""},{"$f":"IF(ISERROR(MATCH(view!BI$3,data!$Y12:$AB12,0)),\"\",IFERROR(HYPERLINK(showDetails(INDEX(data!$S12:$V12,MATCH(view!BI$3,data!$Y12:$AB12,0)),BI14),\"●\"),\"●\"))","v":""},{"$f":"IF(ISERROR(MATCH(view!BJ$3,data!$Y12:$AB12,0)),\"\",IFERROR(HYPERLINK(showDetails(INDEX(data!$S12:$V12,MATCH(view!BJ$3,data!$Y12:$AB12,0)),BJ14),\"●\"),\"●\"))","v":""},{"$f":"IF(ISERROR(MATCH(view!BK$3,data!$Y12:$AB12,0)),\"\",IFERROR(HYPERLINK(showDetails(INDEX(data!$S12:$V12,MATCH(view!BK$3,data!$Y12:$AB12,0)),BK14),\"●\"),\"●\"))","v":""},{"$f":"IF(ISERROR(MATCH(view!BL$3,data!$Y12:$AB12,0)),\"\",IFERROR(HYPERLINK(showDetails(INDEX(data!$S12:$V12,MATCH(view!BL$3,data!$Y12:$AB12,0)),BL14),\"●\"),\"●\"))","v":""},{"$f":"IF(ISERROR(MATCH(view!BM$3,data!$Y12:$AB12,0)),\"\",IFERROR(HYPERLINK(showDetails(INDEX(data!$S12:$V12,MATCH(view!BM$3,data!$Y12:$AB12,0)),BM14),\"●\"),\"●\"))","v":""},{"$f":"IF(ISERROR(MATCH(view!BN$3,data!$Y12:$AB12,0)),\"\",IFERROR(HYPERLINK(showDetails(INDEX(data!$S12:$V12,MATCH(view!BN$3,data!$Y12:$AB12,0)),BN14),\"●\"),\"●\"))","v":""},{"$f":"IF(ISERROR(MATCH(view!BO$3,data!$Y12:$AB12,0)),\"\",IFERROR(HYPERLINK(showDetails(INDEX(data!$S12:$V12,MATCH(view!BO$3,data!$Y12:$AB12,0)),BO14),\"●\"),\"●\"))","v":""},{"$f":"IF(ISERROR(MATCH(view!BP$3,data!$Y12:$AB12,0)),\"\",IFERROR(HYPERLINK(showDetails(INDEX(data!$S12:$V12,MATCH(view!BP$3,data!$Y12:$AB12,0)),BP14),\"●\"),\"●\"))","v":""},{"$f":"IF(ISERROR(MATCH(view!BQ$3,data!$Y12:$AB12,0)),\"\",IFERROR(HYPERLINK(showDetails(INDEX(data!$S12:$V12,MATCH(view!BQ$3,data!$Y12:$AB12,0)),BQ14),\"●\"),\"●\"))","v":""},{"$f":"IF(ISERROR(MATCH(view!BR$3,data!$Y12:$AB12,0)),\"\",IFERROR(HYPERLINK(showDetails(INDEX(data!$S12:$V12,MATCH(view!BR$3,data!$Y12:$AB12,0)),BR14),\"●\"),\"●\"))","v":""},{"$f":"IF(ISERROR(MATCH(view!BS$3,data!$Y12:$AB12,0)),\"\",IFERROR(HYPERLINK(showDetails(INDEX(data!$S12:$V12,MATCH(view!BS$3,data!$Y12:$AB12,0)),BS14),\"●\"),\"●\"))","v":""},{"$f":"IF(ISERROR(MATCH(view!BT$3,data!$Y12:$AB12,0)),\"\",IFERROR(HYPERLINK(showDetails(INDEX(data!$S12:$V12,MATCH(view!BT$3,data!$Y12:$AB12,0)),BT14),\"●\"),\"●\"))","v":""},{"$f":"IF(ISERROR(MATCH(view!BU$3,data!$Y12:$AB12,0)),\"\",IFERROR(HYPERLINK(showDetails(INDEX(data!$S12:$V12,MATCH(view!BU$3,data!$Y12:$AB12,0)),BU14),\"●\"),\"●\"))","v":""},{"$f":"IF(ISERROR(MATCH(view!BV$3,data!$Y12:$AB12,0)),\"\",IFERROR(HYPERLINK(showDetails(INDEX(data!$S12:$V12,MATCH(view!BV$3,data!$Y12:$AB12,0)),BV14),\"●\"),\"●\"))","v":""},{"$f":"IF(ISERROR(MATCH(view!BW$3,data!$Y12:$AB12,0)),\"\",IFERROR(HYPERLINK(showDetails(INDEX(data!$S12:$V12,MATCH(view!BW$3,data!$Y12:$AB12,0)),BW14),\"●\"),\"●\"))","v":""},{"$f":"IF(ISERROR(MATCH(view!BX$3,data!$Y12:$AB12,0)),\"\",IFERROR(HYPERLINK(showDetails(INDEX(data!$S12:$V12,MATCH(view!BX$3,data!$Y12:$AB12,0)),BX14),\"●\"),\"●\"))","v":""},{"$f":"IF(ISERROR(MATCH(view!BY$3,data!$Y12:$AB12,0)),\"\",IFERROR(HYPERLINK(showDetails(INDEX(data!$S12:$V12,MATCH(view!BY$3,data!$Y12:$AB12,0)),BY14),\"●\"),\"●\"))","v":""},{"$f":"IF(ISERROR(MATCH(view!BZ$3,data!$Y12:$AB12,0)),\"\",IFERROR(HYPERLINK(showDetails(INDEX(data!$S12:$V12,MATCH(view!BZ$3,data!$Y12:$AB12,0)),BZ14),\"●\"),\"●\"))","v":""},{"$f":"IF(ISERROR(MATCH(view!CA$3,data!$Y12:$AB12,0)),\"\",IFERROR(HYPERLINK(showDetails(INDEX(data!$S12:$V12,MATCH(view!CA$3,data!$Y12:$AB12,0)),CA14),\"●\"),\"●\"))","v":""},{"$f":"IF(ISERROR(MATCH(view!CB$3,data!$Y12:$AB12,0)),\"\",IFERROR(HYPERLINK(showDetails(INDEX(data!$S12:$V12,MATCH(view!CB$3,data!$Y12:$AB12,0)),CB14),\"●\"),\"●\"))","v":""},{"$f":"IF(ISERROR(MATCH(view!CC$3,data!$Y12:$AB12,0)),\"\",IFERROR(HYPERLINK(showDetails(INDEX(data!$S12:$V12,MATCH(view!CC$3,data!$Y12:$AB12,0)),CC14),\"●\"),\"●\"))","v":""},{"$f":"IF(ISERROR(MATCH(view!CD$3,data!$Y12:$AB12,0)),\"\",IFERROR(HYPERLINK(showDetails(INDEX(data!$S12:$V12,MATCH(view!CD$3,data!$Y12:$AB12,0)),CD14),\"●\"),\"●\"))","v":""},{"$f":"IF(ISERROR(MATCH(view!CE$3,data!$Y12:$AB12,0)),\"\",IFERROR(HYPERLINK(showDetails(INDEX(data!$S12:$V12,MATCH(view!CE$3,data!$Y12:$AB12,0)),CE14),\"●\"),\"●\"))","v":""},{"$f":"IF(ISERROR(MATCH(view!CF$3,data!$Y12:$AB12,0)),\"\",IFERROR(HYPERLINK(showDetails(INDEX(data!$S12:$V12,MATCH(view!CF$3,data!$Y12:$AB12,0)),CF14),\"●\"),\"●\"))","v":""},{"$f":"IF(ISERROR(MATCH(view!CG$3,data!$Y12:$AB12,0)),\"\",IFERROR(HYPERLINK(showDetails(INDEX(data!$S12:$V12,MATCH(view!CG$3,data!$Y12:$AB12,0)),CG14),\"●\"),\"●\"))","v":""},{"$f":"IF(ISERROR(MATCH(view!CH$3,data!$Y12:$AB12,0)),\"\",IFERROR(HYPERLINK(showDetails(INDEX(data!$S12:$V12,MATCH(view!CH$3,data!$Y12:$AB12,0)),CH14),\"●\"),\"●\"))","v":""},{"$f":"IF(ISERROR(MATCH(view!CI$3,data!$Y12:$AB12,0)),\"\",IFERROR(HYPERLINK(showDetails(INDEX(data!$S12:$V12,MATCH(view!CI$3,data!$Y12:$AB12,0)),CI14),\"●\"),\"●\"))","v":""},{"$f":"IF(ISERROR(MATCH(view!CJ$3,data!$Y12:$AB12,0)),\"\",IFERROR(HYPERLINK(showDetails(INDEX(data!$S12:$V12,MATCH(view!CJ$3,data!$Y12:$AB12,0)),CJ14),\"●\"),\"●\"))","v":""},{"$f":"IF(ISERROR(MATCH(view!CK$3,data!$Y12:$AB12,0)),\"\",IFERROR(HYPERLINK(showDetails(INDEX(data!$S12:$V12,MATCH(view!CK$3,data!$Y12:$AB12,0)),CK14),\"●\"),\"●\"))","v":""},{"$f":"IF(ISERROR(MATCH(view!CL$3,data!$Y12:$AB12,0)),\"\",IFERROR(HYPERLINK(showDetails(INDEX(data!$S12:$V12,MATCH(view!CL$3,data!$Y12:$AB12,0)),CL14),\"●\"),\"●\"))","v":""},{"$f":"IF(ISERROR(MATCH(view!CM$3,data!$Y12:$AB12,0)),\"\",IFERROR(HYPERLINK(showDetails(INDEX(data!$S12:$V12,MATCH(view!CM$3,data!$Y12:$AB12,0)),CM14),\"●\"),\"●\"))","v":""},{"$f":"IF(ISERROR(MATCH(view!CN$3,data!$Y12:$AB12,0)),\"\",IFERROR(HYPERLINK(showDetails(INDEX(data!$S12:$V12,MATCH(view!CN$3,data!$Y12:$AB12,0)),CN14),\"●\"),\"●\"))","v":""},{"$f":"IF(ISERROR(MATCH(view!CO$3,data!$Y12:$AB12,0)),\"\",IFERROR(HYPERLINK(showDetails(INDEX(data!$S12:$V12,MATCH(view!CO$3,data!$Y12:$AB12,0)),CO14),\"●\"),\"●\"))","v":""},{"$f":"IF(ISERROR(MATCH(view!CP$3,data!$Y12:$AB12,0)),\"\",IFERROR(HYPERLINK(showDetails(INDEX(data!$S12:$V12,MATCH(view!CP$3,data!$Y12:$AB12,0)),CP14),\"●\"),\"●\"))","v":""},{"$f":"IF(ISERROR(MATCH(view!CQ$3,data!$Y12:$AB12,0)),\"\",IFERROR(HYPERLINK(showDetails(INDEX(data!$S12:$V12,MATCH(view!CQ$3,data!$Y12:$AB12,0)),CQ14),\"●\"),\"●\"))","v":""},{"$f":"IF(ISERROR(MATCH(view!CR$3,data!$Y12:$AB12,0)),\"\",IFERROR(HYPERLINK(showDetails(INDEX(data!$S12:$V12,MATCH(view!CR$3,data!$Y12:$AB12,0)),CR14),\"●\"),\"●\"))","v":""},{"$f":"IF(ISERROR(MATCH(view!CS$3,data!$Y12:$AB12,0)),\"\",IFERROR(HYPERLINK(showDetails(INDEX(data!$S12:$V12,MATCH(view!CS$3,data!$Y12:$AB12,0)),CS14),\"●\"),\"●\"))","v":""},{"$f":"IF(ISERROR(MATCH(view!CT$3,data!$Y12:$AB12,0)),\"\",IFERROR(HYPERLINK(showDetails(INDEX(data!$S12:$V12,MATCH(view!CT$3,data!$Y12:$AB12,0)),CT14),\"●\"),\"●\"))","v":"●"},{"$f":"IF(ISERROR(MATCH(view!CU$3,data!$Y12:$AB12,0)),\"\",IFERROR(HYPERLINK(showDetails(INDEX(data!$S12:$V12,MATCH(view!CU$3,data!$Y12:$AB12,0)),CU14),\"●\"),\"●\"))","v":""},{"$f":"IF(ISERROR(MATCH(view!CV$3,data!$Y12:$AB12,0)),\"\",IFERROR(HYPERLINK(showDetails(INDEX(data!$S12:$V12,MATCH(view!CV$3,data!$Y12:$AB12,0)),CV14),\"●\"),\"●\"))","v":"●"},{"$f":"IF(ISERROR(MATCH(view!CW$3,data!$Y12:$AB12,0)),\"\",IFERROR(HYPERLINK(showDetails(INDEX(data!$S12:$V12,MATCH(view!CW$3,data!$Y12:$AB12,0)),CW14),\"●\"),\"●\"))","v":"●"},{"$f":"IF(ISERROR(MATCH(view!CX$3,data!$Y12:$AB12,0)),\"\",IFERROR(HYPERLINK(showDetails(INDEX(data!$S12:$V12,MATCH(view!CX$3,data!$Y12:$AB12,0)),CX14),\"●\"),\"●\"))","v":""},{"$f":"IF(ISERROR(MATCH(view!CY$3,data!$Y12:$AB12,0)),\"\",IFERROR(HYPERLINK(showDetails(INDEX(data!$S12:$V12,MATCH(view!CY$3,data!$Y12:$AB12,0)),CY14),\"●\"),\"●\"))","v":""},{"$f":"IF(ISERROR(MATCH(view!CZ$3,data!$Y12:$AB12,0)),\"\",IFERROR(HYPERLINK(showDetails(INDEX(data!$S12:$V12,MATCH(view!CZ$3,data!$Y12:$AB12,0)),CZ14),\"●\"),\"●\"))","v":""},{"$f":"IF(ISERROR(MATCH(view!DA$3,data!$Y12:$AB12,0)),\"\",IFERROR(HYPERLINK(showDetails(INDEX(data!$S12:$V12,MATCH(view!DA$3,data!$Y12:$AB12,0)),DA14),\"●\"),\"●\"))","v":""},{"$f":"IF(ISERROR(MATCH(view!DB$3,data!$Y12:$AB12,0)),\"\",IFERROR(HYPERLINK(showDetails(INDEX(data!$S12:$V12,MATCH(view!DB$3,data!$Y12:$AB12,0)),DB14),\"●\"),\"●\"))","v":""},{"$f":"IF(ISERROR(MATCH(view!DC$3,data!$Y12:$AB12,0)),\"\",IFERROR(HYPERLINK(showDetails(INDEX(data!$S12:$V12,MATCH(view!DC$3,data!$Y12:$AB12,0)),DC14),\"●\"),\"●\"))","v":""},{"$f":"IF(ISERROR(MATCH(view!DD$3,data!$Y12:$AB12,0)),\"\",IFERROR(HYPERLINK(showDetails(INDEX(data!$S12:$V12,MATCH(view!DD$3,data!$Y12:$AB12,0)),DD14),\"●\"),\"●\"))","v":""},{"$f":"IF(ISERROR(MATCH(view!DE$3,data!$Y12:$AB12,0)),\"\",IFERROR(HYPERLINK(showDetails(INDEX(data!$S12:$V12,MATCH(view!DE$3,data!$Y12:$AB12,0)),DE14),\"●\"),\"●\"))","v":""},{"$f":"IF(ISERROR(MATCH(view!DF$3,data!$Y12:$AB12,0)),\"\",IFERROR(HYPERLINK(showDetails(INDEX(data!$S12:$V12,MATCH(view!DF$3,data!$Y12:$AB12,0)),DF14),\"●\"),\"●\"))","v":""},{"$f":"IF(ISERROR(MATCH(view!DG$3,data!$Y12:$AB12,0)),\"\",IFERROR(HYPERLINK(showDetails(INDEX(data!$S12:$V12,MATCH(view!DG$3,data!$Y12:$AB12,0)),DG14),\"●\"),\"●\"))","v":""},{"$f":"IF(ISERROR(MATCH(view!DH$3,data!$Y12:$AB12,0)),\"\",IFERROR(HYPERLINK(showDetails(INDEX(data!$S12:$V12,MATCH(view!DH$3,data!$Y12:$AB12,0)),DH14),\"●\"),\"●\"))","v":""},{"$f":"IF(ISERROR(MATCH(view!DI$3,data!$Y12:$AB12,0)),\"\",IFERROR(HYPERLINK(showDetails(INDEX(data!$S12:$V12,MATCH(view!DI$3,data!$Y12:$AB12,0)),DI14),\"●\"),\"●\"))","v":""},{"$f":"IF(ISERROR(MATCH(view!DJ$3,data!$Y12:$AB12,0)),\"\",IFERROR(HYPERLINK(showDetails(INDEX(data!$S12:$V12,MATCH(view!DJ$3,data!$Y12:$AB12,0)),DJ14),\"●\"),\"●\"))","v":""},{"$f":"IF(ISERROR(MATCH(view!DK$3,data!$Y12:$AB12,0)),\"\",IFERROR(HYPERLINK(showDetails(INDEX(data!$S12:$V12,MATCH(view!DK$3,data!$Y12:$AB12,0)),DK14),\"●\"),\"●\"))","v":""},{"$f":"IF(ISERROR(MATCH(view!DL$3,data!$Y12:$AB12,0)),\"\",IFERROR(HYPERLINK(showDetails(INDEX(data!$S12:$V12,MATCH(view!DL$3,data!$Y12:$AB12,0)),DL14),\"●\"),\"●\"))","v":""},{"$f":"IF(ISERROR(MATCH(view!DM$3,data!$Y12:$AB12,0)),\"\",IFERROR(HYPERLINK(showDetails(INDEX(data!$S12:$V12,MATCH(view!DM$3,data!$Y12:$AB12,0)),DM14),\"●\"),\"●\"))","v":""},{"$f":"IF(ISERROR(MATCH(view!DN$3,data!$Y12:$AB12,0)),\"\",IFERROR(HYPERLINK(showDetails(INDEX(data!$S12:$V12,MATCH(view!DN$3,data!$Y12:$AB12,0)),DN14),\"●\"),\"●\"))","v":""},{"$f":"IF(ISERROR(MATCH(view!DO$3,data!$Y12:$AB12,0)),\"\",IFERROR(HYPERLINK(showDetails(INDEX(data!$S12:$V12,MATCH(view!DO$3,data!$Y12:$AB12,0)),DO14),\"●\"),\"●\"))","v":""},{"$f":"IF(ISERROR(MATCH(view!DP$3,data!$Y12:$AB12,0)),\"\",IFERROR(HYPERLINK(showDetails(INDEX(data!$S12:$V12,MATCH(view!DP$3,data!$Y12:$AB12,0)),DP14),\"●\"),\"●\"))","v":""},{"$f":"IF(ISERROR(MATCH(view!DQ$3,data!$Y12:$AB12,0)),\"\",IFERROR(HYPERLINK(showDetails(INDEX(data!$S12:$V12,MATCH(view!DQ$3,data!$Y12:$AB12,0)),DQ14),\"●\"),\"●\"))","v":""},{"$f":"IF(ISERROR(MATCH(view!DR$3,data!$Y12:$AB12,0)),\"\",IFERROR(HYPERLINK(showDetails(INDEX(data!$S12:$V12,MATCH(view!DR$3,data!$Y12:$AB12,0)),DR14),\"●\"),\"●\"))","v":""},{"$f":"IF(ISERROR(MATCH(view!DS$3,data!$Y12:$AB12,0)),\"\",IFERROR(HYPERLINK(showDetails(INDEX(data!$S12:$V12,MATCH(view!DS$3,data!$Y12:$AB12,0)),DS14),\"●\"),\"●\"))","v":""},{"$f":"INDEX(lstYears,A14) &\" - \"&INDEX(data!$W$3:$W$30,A14)","v":"1976 - Montreal"}]
[11,null,{"$f":"IF(ISERROR(MATCH(view!C$3,data!$Y13:$AB13,0)),\"\",IFERROR(HYPERLINK(showDetails(INDEX(data!$S13:$V13,MATCH(view!C$3,data!$Y13:$AB13,0)),C15),\"●\"),\"●\"))","v":""},{"$f":"IF(ISERROR(MATCH(view!D$3,data!$Y13:$AB13,0)),\"\",IFERROR(HYPERLINK(showDetails(INDEX(data!$S13:$V13,MATCH(view!D$3,data!$Y13:$AB13,0)),D15),\"●\"),\"●\"))","v":""},{"$f":"IF(ISERROR(MATCH(view!E$3,data!$Y13:$AB13,0)),\"\",IFERROR(HYPERLINK(showDetails(INDEX(data!$S13:$V13,MATCH(view!E$3,data!$Y13:$AB13,0)),E15),\"●\"),\"●\"))","v":""},{"$f":"IF(ISERROR(MATCH(view!F$3,data!$Y13:$AB13,0)),\"\",IFERROR(HYPERLINK(showDetails(INDEX(data!$S13:$V13,MATCH(view!F$3,data!$Y13:$AB13,0)),F15),\"●\"),\"●\"))","v":""},{"$f":"IF(ISERROR(MATCH(view!G$3,data!$Y13:$AB13,0)),\"\",IFERROR(HYPERLINK(showDetails(INDEX(data!$S13:$V13,MATCH(view!G$3,data!$Y13:$AB13,0)),G15),\"●\"),\"●\"))","v":""},{"$f":"IF(ISERROR(MATCH(view!H$3,data!$Y13:$AB13,0)),\"\",IFERROR(HYPERLINK(showDetails(INDEX(data!$S13:$V13,MATCH(view!H$3,data!$Y13:$AB13,0)),H15),\"●\"),\"●\"))","v":""},{"$f":"IF(ISERROR(MATCH(view!I$3,data!$Y13:$AB13,0)),\"\",IFERROR(HYPERLINK(showDetails(INDEX(data!$S13:$V13,MATCH(view!I$3,data!$Y13:$AB13,0)),I15),\"●\"),\"●\"))","v":""},{"$f":"IF(ISERROR(MATCH(view!J$3,data!$Y13:$AB13,0)),\"\",IFERROR(HYPERLINK(showDetails(INDEX(data!$S13:$V13,MATCH(view!J$3,data!$Y13:$AB13,0)),J15),\"●\"),\"●\"))","v":""},{"$f":"IF(ISERROR(MATCH(view!K$3,data!$Y13:$AB13,0)),\"\",IFERROR(HYPERLINK(showDetails(INDEX(data!$S13:$V13,MATCH(view!K$3,data!$Y13:$AB13,0)),K15),\"●\"),\"●\"))","v":""},{"$f":"IF(ISERROR(MATCH(view!L$3,data!$Y13:$AB13,0)),\"\",IFERROR(HYPERLINK(showDetails(INDEX(data!$S13:$V13,MATCH(view!L$3,data!$Y13:$AB13,0)),L15),\"●\"),\"●\"))","v":""},{"$f":"IF(ISERROR(MATCH(view!M$3,data!$Y13:$AB13,0)),\"\",IFERROR(HYPERLINK(showDetails(INDEX(data!$S13:$V13,MATCH(view!M$3,data!$Y13:$AB13,0)),M15),\"●\"),\"●\"))","v":""},{"$f":"IF(ISERROR(MATCH(view!N$3,data!$Y13:$AB13,0)),\"\",IFERROR(HYPERLINK(showDetails(INDEX(data!$S13:$V13,MATCH(view!N$3,data!$Y13:$AB13,0)),N15),\"●\"),\"●\"))","v":""},{"$f":"IF(ISERROR(MATCH(view!O$3,data!$Y13:$AB13,0)),\"\",IFERROR(HYPERLINK(showDetails(INDEX(data!$S13:$V13,MATCH(view!O$3,data!$Y13:$AB13,0)),O15),\"●\"),\"●\"))","v":""},{"$f":"IF(ISERROR(MATCH(view!P$3,data!$Y13:$AB13,0)),\"\",IFERROR(HYPERLINK(showDetails(INDEX(data!$S13:$V13,MATCH(view!P$3,data!$Y13:$AB13,0)),P15),\"●\"),\"●\"))","v":""},{"$f":"IF(ISERROR(MATCH(view!Q$3,data!$Y13:$AB13,0)),\"\",IFERROR(HYPERLINK(showDetails(INDEX(data!$S13:$V13,MATCH(view!Q$3,data!$Y13:$AB13,0)),Q15),\"●\"),\"●\"))","v":""},{"$f":"IF(ISERROR(MATCH(view!R$3,data!$Y13:$AB13,0)),\"\",IFERROR(HYPERLINK(showDetails(INDEX(data!$S13:$V13,MATCH(view!R$3,data!$Y13:$AB13,0)),R15),\"●\"),\"●\"))","v":""},{"$f":"IF(ISERROR(MATCH(view!S$3,data!$Y13:$AB13,0)),\"\",IFERROR(HYPERLINK(showDetails(INDEX(data!$S13:$V13,MATCH(view!S$3,data!$Y13:$AB13,0)),S15),\"●\"),\"●\"))","v":""},{"$f":"IF(ISERROR(MATCH(view!T$3,data!$Y13:$AB13,0)),\"\",IFERROR(HYPERLINK(showDetails(INDEX(data!$S13:$V13,MATCH(view!T$3,data!$Y13:$AB13,0)),T15),\"●\"),\"●\"))","v":""},{"$f":"IF(ISERROR(MATCH(view!U$3,data!$Y13:$AB13,0)),\"\",IFERROR(HYPERLINK(showDetails(INDEX(data!$S13:$V13,MATCH(view!U$3,data!$Y13:$AB13,0)),U15),\"●\"),\"●\"))","v":""},{"$f":"IF(ISERROR(MATCH(view!V$3,data!$Y13:$AB13,0)),\"\",IFERROR(HYPERLINK(showDetails(INDEX(data!$S13:$V13,MATCH(view!V$3,data!$Y13:$AB13,0)),V15),\"●\"),\"●\"))","v":""},{"$f":"IF(ISERROR(MATCH(view!W$3,data!$Y13:$AB13,0)),\"\",IFERROR(HYPERLINK(showDetails(INDEX(data!$S13:$V13,MATCH(view!W$3,data!$Y13:$AB13,0)),W15),\"●\"),\"●\"))","v":""},{"$f":"IF(ISERROR(MATCH(view!X$3,data!$Y13:$AB13,0)),\"\",IFERROR(HYPERLINK(showDetails(INDEX(data!$S13:$V13,MATCH(view!X$3,data!$Y13:$AB13,0)),X15),\"●\"),\"●\"))","v":""},{"$f":"IF(ISERROR(MATCH(view!Y$3,data!$Y13:$AB13,0)),\"\",IFERROR(HYPERLINK(showDetails(INDEX(data!$S13:$V13,MATCH(view!Y$3,data!$Y13:$AB13,0)),Y15),\"●\"),\"●\"))","v":""},{"$f":"IF(ISERROR(MATCH(view!Z$3,data!$Y13:$AB13,0)),\"\",IFERROR(HYPERLINK(showDetails(INDEX(data!$S13:$V13,MATCH(view!Z$3,data!$Y13:$AB13,0)),Z15),\"●\"),\"●\"))","v":""},{"$f":"IF(ISERROR(MATCH(view!AA$3,data!$Y13:$AB13,0)),\"\",IFERROR(HYPERLINK(showDetails(INDEX(data!$S13:$V13,MATCH(view!AA$3,data!$Y13:$AB13,0)),AA15),\"●\"),\"●\"))","v":""},{"$f":"IF(ISERROR(MATCH(view!AB$3,data!$Y13:$AB13,0)),\"\",IFERROR(HYPERLINK(showDetails(INDEX(data!$S13:$V13,MATCH(view!AB$3,data!$Y13:$AB13,0)),AB15),\"●\"),\"●\"))","v":""},{"$f":"IF(ISERROR(MATCH(view!AC$3,data!$Y13:$AB13,0)),\"\",IFERROR(HYPERLINK(showDetails(INDEX(data!$S13:$V13,MATCH(view!AC$3,data!$Y13:$AB13,0)),AC15),\"●\"),\"●\"))","v":""},{"$f":"IF(ISERROR(MATCH(view!AD$3,data!$Y13:$AB13,0)),\"\",IFERROR(HYPERLINK(showDetails(INDEX(data!$S13:$V13,MATCH(view!AD$3,data!$Y13:$AB13,0)),AD15),\"●\"),\"●\"))","v":""},{"$f":"IF(ISERROR(MATCH(view!AE$3,data!$Y13:$AB13,0)),\"\",IFERROR(HYPERLINK(showDetails(INDEX(data!$S13:$V13,MATCH(view!AE$3,data!$Y13:$AB13,0)),AE15),\"●\"),\"●\"))","v":""},{"$f":"IF(ISERROR(MATCH(view!AF$3,data!$Y13:$AB13,0)),\"\",IFERROR(HYPERLINK(showDetails(INDEX(data!$S13:$V13,MATCH(view!AF$3,data!$Y13:$AB13,0)),AF15),\"●\"),\"●\"))","v":""},{"$f":"IF(ISERROR(MATCH(view!AG$3,data!$Y13:$AB13,0)),\"\",IFERROR(HYPERLINK(showDetails(INDEX(data!$S13:$V13,MATCH(view!AG$3,data!$Y13:$AB13,0)),AG15),\"●\"),\"●\"))","v":""},{"$f":"IF(ISERROR(MATCH(view!AH$3,data!$Y13:$AB13,0)),\"\",IFERROR(HYPERLINK(showDetails(INDEX(data!$S13:$V13,MATCH(view!AH$3,data!$Y13:$AB13,0)),AH15),\"●\"),\"●\"))","v":""},{"$f":"IF(ISERROR(MATCH(view!AI$3,data!$Y13:$AB13,0)),\"\",IFERROR(HYPERLINK(showDetails(INDEX(data!$S13:$V13,MATCH(view!AI$3,data!$Y13:$AB13,0)),AI15),\"●\"),\"●\"))","v":""},{"$f":"IF(ISERROR(MATCH(view!AJ$3,data!$Y13:$AB13,0)),\"\",IFERROR(HYPERLINK(showDetails(INDEX(data!$S13:$V13,MATCH(view!AJ$3,data!$Y13:$AB13,0)),AJ15),\"●\"),\"●\"))","v":""},{"$f":"IF(ISERROR(MATCH(view!AK$3,data!$Y13:$AB13,0)),\"\",IFERROR(HYPERLINK(showDetails(INDEX(data!$S13:$V13,MATCH(view!AK$3,data!$Y13:$AB13,0)),AK15),\"●\"),\"●\"))","v":""},{"$f":"IF(ISERROR(MATCH(view!AL$3,data!$Y13:$AB13,0)),\"\",IFERROR(HYPERLINK(showDetails(INDEX(data!$S13:$V13,MATCH(view!AL$3,data!$Y13:$AB13,0)),AL15),\"●\"),\"●\"))","v":""},{"$f":"IF(ISERROR(MATCH(view!AM$3,data!$Y13:$AB13,0)),\"\",IFERROR(HYPERLINK(showDetails(INDEX(data!$S13:$V13,MATCH(view!AM$3,data!$Y13:$AB13,0)),AM15),\"●\"),\"●\"))","v":""},{"$f":"IF(ISERROR(MATCH(view!AN$3,data!$Y13:$AB13,0)),\"\",IFERROR(HYPERLINK(showDetails(INDEX(data!$S13:$V13,MATCH(view!AN$3,data!$Y13:$AB13,0)),AN15),\"●\"),\"●\"))","v":""},{"$f":"IF(ISERROR(MATCH(view!AO$3,data!$Y13:$AB13,0)),\"\",IFERROR(HYPERLINK(showDetails(INDEX(data!$S13:$V13,MATCH(view!AO$3,data!$Y13:$AB13,0)),AO15),\"●\"),\"●\"))","v":""},{"$f":"IF(ISERROR(MATCH(view!AP$3,data!$Y13:$AB13,0)),\"\",IFERROR(HYPERLINK(showDetails(INDEX(data!$S13:$V13,MATCH(view!AP$3,data!$Y13:$AB13,0)),AP15),\"●\"),\"●\"))","v":""},{"$f":"IF(ISERROR(MATCH(view!AQ$3,data!$Y13:$AB13,0)),\"\",IFERROR(HYPERLINK(showDetails(INDEX(data!$S13:$V13,MATCH(view!AQ$3,data!$Y13:$AB13,0)),AQ15),\"●\"),\"●\"))","v":""},{"$f":"IF(ISERROR(MATCH(view!AR$3,data!$Y13:$AB13,0)),\"\",IFERROR(HYPERLINK(showDetails(INDEX(data!$S13:$V13,MATCH(view!AR$3,data!$Y13:$AB13,0)),AR15),\"●\"),\"●\"))","v":""},{"$f":"IF(ISERROR(MATCH(view!AS$3,data!$Y13:$AB13,0)),\"\",IFERROR(HYPERLINK(showDetails(INDEX(data!$S13:$V13,MATCH(view!AS$3,data!$Y13:$AB13,0)),AS15),\"●\"),\"●\"))","v":""},{"$f":"IF(ISERROR(MATCH(view!AT$3,data!$Y13:$AB13,0)),\"\",IFERROR(HYPERLINK(showDetails(INDEX(data!$S13:$V13,MATCH(view!AT$3,data!$Y13:$AB13,0)),AT15),\"●\"),\"●\"))","v":""},{"$f":"IF(ISERROR(MATCH(view!AU$3,data!$Y13:$AB13,0)),\"\",IFERROR(HYPERLINK(showDetails(INDEX(data!$S13:$V13,MATCH(view!AU$3,data!$Y13:$AB13,0)),AU15),\"●\"),\"●\"))","v":""},{"$f":"IF(ISERROR(MATCH(view!AV$3,data!$Y13:$AB13,0)),\"\",IFERROR(HYPERLINK(showDetails(INDEX(data!$S13:$V13,MATCH(view!AV$3,data!$Y13:$AB13,0)),AV15),\"●\"),\"●\"))","v":""},{"$f":"IF(ISERROR(MATCH(view!AW$3,data!$Y13:$AB13,0)),\"\",IFERROR(HYPERLINK(showDetails(INDEX(data!$S13:$V13,MATCH(view!AW$3,data!$Y13:$AB13,0)),AW15),\"●\"),\"●\"))","v":""},{"$f":"IF(ISERROR(MATCH(view!AX$3,data!$Y13:$AB13,0)),\"\",IFERROR(HYPERLINK(showDetails(INDEX(data!$S13:$V13,MATCH(view!AX$3,data!$Y13:$AB13,0)),AX15),\"●\"),\"●\"))","v":""},{"$f":"IF(ISERROR(MATCH(view!AY$3,data!$Y13:$AB13,0)),\"\",IFERROR(HYPERLINK(showDetails(INDEX(data!$S13:$V13,MATCH(view!AY$3,data!$Y13:$AB13,0)),AY15),\"●\"),\"●\"))","v":""},{"$f":"IF(ISERROR(MATCH(view!AZ$3,data!$Y13:$AB13,0)),\"\",IFERROR(HYPERLINK(showDetails(INDEX(data!$S13:$V13,MATCH(view!AZ$3,data!$Y13:$AB13,0)),AZ15),\"●\"),\"●\"))","v":""},{"$f":"IF(ISERROR(MATCH(view!BA$3,data!$Y13:$AB13,0)),\"\",IFERROR(HYPERLINK(showDetails(INDEX(data!$S13:$V13,MATCH(view!BA$3,data!$Y13:$AB13,0)),BA15),\"●\"),\"●\"))","v":""},{"$f":"IF(ISERROR(MATCH(view!BB$3,data!$Y13:$AB13,0)),\"\",IFERROR(HYPERLINK(showDetails(INDEX(data!$S13:$V13,MATCH(view!BB$3,data!$Y13:$AB13,0)),BB15),\"●\"),\"●\"))","v":""},{"$f":"IF(ISERROR(MATCH(view!BC$3,data!$Y13:$AB13,0)),\"\",IFERROR(HYPERLINK(showDetails(INDEX(data!$S13:$V13,MATCH(view!BC$3,data!$Y13:$AB13,0)),BC15),\"●\"),\"●\"))","v":""},{"$f":"IF(ISERROR(MATCH(view!BD$3,data!$Y13:$AB13,0)),\"\",IFERROR(HYPERLINK(showDetails(INDEX(data!$S13:$V13,MATCH(view!BD$3,data!$Y13:$AB13,0)),BD15),\"●\"),\"●\"))","v":""},{"$f":"IF(ISERROR(MATCH(view!BE$3,data!$Y13:$AB13,0)),\"\",IFERROR(HYPERLINK(showDetails(INDEX(data!$S13:$V13,MATCH(view!BE$3,data!$Y13:$AB13,0)),BE15),\"●\"),\"●\"))","v":""},{"$f":"IF(ISERROR(MATCH(view!BF$3,data!$Y13:$AB13,0)),\"\",IFERROR(HYPERLINK(showDetails(INDEX(data!$S13:$V13,MATCH(view!BF$3,data!$Y13:$AB13,0)),BF15),\"●\"),\"●\"))","v":""},{"$f":"IF(ISERROR(MATCH(view!BG$3,data!$Y13:$AB13,0)),\"\",IFERROR(HYPERLINK(showDetails(INDEX(data!$S13:$V13,MATCH(view!BG$3,data!$Y13:$AB13,0)),BG15),\"●\"),\"●\"))","v":""},{"$f":"IF(ISERROR(MATCH(view!BH$3,data!$Y13:$AB13,0)),\"\",IFERROR(HYPERLINK(showDetails(INDEX(data!$S13:$V13,MATCH(view!BH$3,data!$Y13:$AB13,0)),BH15),\"●\"),\"●\"))","v":""},{"$f":"IF(ISERROR(MATCH(view!BI$3,data!$Y13:$AB13,0)),\"\",IFERROR(HYPERLINK(showDetails(INDEX(data!$S13:$V13,MATCH(view!BI$3,data!$Y13:$AB13,0)),BI15),\"●\"),\"●\"))","v":""},{"$f":"IF(ISERROR(MATCH(view!BJ$3,data!$Y13:$AB13,0)),\"\",IFERROR(HYPERLINK(showDetails(INDEX(data!$S13:$V13,MATCH(view!BJ$3,data!$Y13:$AB13,0)),BJ15),\"●\"),\"●\"))","v":""},{"$f":"IF(ISERROR(MATCH(view!BK$3,data!$Y13:$AB13,0)),\"\",IFERROR(HYPERLINK(showDetails(INDEX(data!$S13:$V13,MATCH(view!BK$3,data!$Y13:$AB13,0)),BK15),\"●\"),\"●\"))","v":""},{"$f":"IF(ISERROR(MATCH(view!BL$3,data!$Y13:$AB13,0)),\"\",IFERROR(HYPERLINK(showDetails(INDEX(data!$S13:$V13,MATCH(view!BL$3,data!$Y13:$AB13,0)),BL15),\"●\"),\"●\"))","v":""},{"$f":"IF(ISERROR(MATCH(view!BM$3,data!$Y13:$AB13,0)),\"\",IFERROR(HYPERLINK(showDetails(INDEX(data!$S13:$V13,MATCH(view!BM$3,data!$Y13:$AB13,0)),BM15),\"●\"),\"●\"))","v":""},{"$f":"IF(ISERROR(MATCH(view!BN$3,data!$Y13:$AB13,0)),\"\",IFERROR(HYPERLINK(showDetails(INDEX(data!$S13:$V13,MATCH(view!BN$3,data!$Y13:$AB13,0)),BN15),\"●\"),\"●\"))","v":""},{"$f":"IF(ISERROR(MATCH(view!BO$3,data!$Y13:$AB13,0)),\"\",IFERROR(HYPERLINK(showDetails(INDEX(data!$S13:$V13,MATCH(view!BO$3,data!$Y13:$AB13,0)),BO15),\"●\"),\"●\"))","v":""},{"$f":"IF(ISERROR(MATCH(view!BP$3,data!$Y13:$AB13,0)),\"\",IFERROR(HYPERLINK(showDetails(INDEX(data!$S13:$V13,MATCH(view!BP$3,data!$Y13:$AB13,0)),BP15),\"●\"),\"●\"))","v":""},{"$f":"IF(ISERROR(MATCH(view!BQ$3,data!$Y13:$AB13,0)),\"\",IFERROR(HYPERLINK(showDetails(INDEX(data!$S13:$V13,MATCH(view!BQ$3,data!$Y13:$AB13,0)),BQ15),\"●\"),\"●\"))","v":""},{"$f":"IF(ISERROR(MATCH(view!BR$3,data!$Y13:$AB13,0)),\"\",IFERROR(HYPERLINK(showDetails(INDEX(data!$S13:$V13,MATCH(view!BR$3,data!$Y13:$AB13,0)),BR15),\"●\"),\"●\"))","v":""},{"$f":"IF(ISERROR(MATCH(view!BS$3,data!$Y13:$AB13,0)),\"\",IFERROR(HYPERLINK(showDetails(INDEX(data!$S13:$V13,MATCH(view!BS$3,data!$Y13:$AB13,0)),BS15),\"●\"),\"●\"))","v":""},{"$f":"IF(ISERROR(MATCH(view!BT$3,data!$Y13:$AB13,0)),\"\",IFERROR(HYPERLINK(showDetails(INDEX(data!$S13:$V13,MATCH(view!BT$3,data!$Y13:$AB13,0)),BT15),\"●\"),\"●\"))","v":""},{"$f":"IF(ISERROR(MATCH(view!BU$3,data!$Y13:$AB13,0)),\"\",IFERROR(HYPERLINK(showDetails(INDEX(data!$S13:$V13,MATCH(view!BU$3,data!$Y13:$AB13,0)),BU15),\"●\"),\"●\"))","v":""},{"$f":"IF(ISERROR(MATCH(view!BV$3,data!$Y13:$AB13,0)),\"\",IFERROR(HYPERLINK(showDetails(INDEX(data!$S13:$V13,MATCH(view!BV$3,data!$Y13:$AB13,0)),BV15),\"●\"),\"●\"))","v":""},{"$f":"IF(ISERROR(MATCH(view!BW$3,data!$Y13:$AB13,0)),\"\",IFERROR(HYPERLINK(showDetails(INDEX(data!$S13:$V13,MATCH(view!BW$3,data!$Y13:$AB13,0)),BW15),\"●\"),\"●\"))","v":""},{"$f":"IF(ISERROR(MATCH(view!BX$3,data!$Y13:$AB13,0)),\"\",IFERROR(HYPERLINK(showDetails(INDEX(data!$S13:$V13,MATCH(view!BX$3,data!$Y13:$AB13,0)),BX15),\"●\"),\"●\"))","v":""},{"$f":"IF(ISERROR(MATCH(view!BY$3,data!$Y13:$AB13,0)),\"\",IFERROR(HYPERLINK(showDetails(INDEX(data!$S13:$V13,MATCH(view!BY$3,data!$Y13:$AB13,0)),BY15),\"●\"),\"●\"))","v":""},{"$f":"IF(ISERROR(MATCH(view!BZ$3,data!$Y13:$AB13,0)),\"\",IFERROR(HYPERLINK(showDetails(INDEX(data!$S13:$V13,MATCH(view!BZ$3,data!$Y13:$AB13,0)),BZ15),\"●\"),\"●\"))","v":""},{"$f":"IF(ISERROR(MATCH(view!CA$3,data!$Y13:$AB13,0)),\"\",IFERROR(HYPERLINK(showDetails(INDEX(data!$S13:$V13,MATCH(view!CA$3,data!$Y13:$AB13,0)),CA15),\"●\"),\"●\"))","v":""},{"$f":"IF(ISERROR(MATCH(view!CB$3,data!$Y13:$AB13,0)),\"\",IFERROR(HYPERLINK(showDetails(INDEX(data!$S13:$V13,MATCH(view!CB$3,data!$Y13:$AB13,0)),CB15),\"●\"),\"●\"))","v":""},{"$f":"IF(ISERROR(MATCH(view!CC$3,data!$Y13:$AB13,0)),\"\",IFERROR(HYPERLINK(showDetails(INDEX(data!$S13:$V13,MATCH(view!CC$3,data!$Y13:$AB13,0)),CC15),\"●\"),\"●\"))","v":""},{"$f":"IF(ISERROR(MATCH(view!CD$3,data!$Y13:$AB13,0)),\"\",IFERROR(HYPERLINK(showDetails(INDEX(data!$S13:$V13,MATCH(view!CD$3,data!$Y13:$AB13,0)),CD15),\"●\"),\"●\"))","v":""},{"$f":"IF(ISERROR(MATCH(view!CE$3,data!$Y13:$AB13,0)),\"\",IFERROR(HYPERLINK(showDetails(INDEX(data!$S13:$V13,MATCH(view!CE$3,data!$Y13:$AB13,0)),CE15),\"●\"),\"●\"))","v":""},{"$f":"IF(ISERROR(MATCH(view!CF$3,data!$Y13:$AB13,0)),\"\",IFERROR(HYPERLINK(showDetails(INDEX(data!$S13:$V13,MATCH(view!CF$3,data!$Y13:$AB13,0)),CF15),\"●\"),\"●\"))","v":""},{"$f":"IF(ISERROR(MATCH(view!CG$3,data!$Y13:$AB13,0)),\"\",IFERROR(HYPERLINK(showDetails(INDEX(data!$S13:$V13,MATCH(view!CG$3,data!$Y13:$AB13,0)),CG15),\"●\"),\"●\"))","v":""},{"$f":"IF(ISERROR(MATCH(view!CH$3,data!$Y13:$AB13,0)),\"\",IFERROR(HYPERLINK(showDetails(INDEX(data!$S13:$V13,MATCH(view!CH$3,data!$Y13:$AB13,0)),CH15),\"●\"),\"●\"))","v":""},{"$f":"IF(ISERROR(MATCH(view!CI$3,data!$Y13:$AB13,0)),\"\",IFERROR(HYPERLINK(showDetails(INDEX(data!$S13:$V13,MATCH(view!CI$3,data!$Y13:$AB13,0)),CI15),\"●\"),\"●\"))","v":""},{"$f":"IF(ISERROR(MATCH(view!CJ$3,data!$Y13:$AB13,0)),\"\",IFERROR(HYPERLINK(showDetails(INDEX(data!$S13:$V13,MATCH(view!CJ$3,data!$Y13:$AB13,0)),CJ15),\"●\"),\"●\"))","v":""},{"$f":"IF(ISERROR(MATCH(view!CK$3,data!$Y13:$AB13,0)),\"\",IFERROR(HYPERLINK(showDetails(INDEX(data!$S13:$V13,MATCH(view!CK$3,data!$Y13:$AB13,0)),CK15),\"●\"),\"●\"))","v":"●"},{"$f":"IF(ISERROR(MATCH(view!CL$3,data!$Y13:$AB13,0)),\"\",IFERROR(HYPERLINK(showDetails(INDEX(data!$S13:$V13,MATCH(view!CL$3,data!$Y13:$AB13,0)),CL15),\"●\"),\"●\"))","v":""},{"$f":"IF(ISERROR(MATCH(view!CM$3,data!$Y13:$AB13,0)),\"\",IFERROR(HYPERLINK(showDetails(INDEX(data!$S13:$V13,MATCH(view!CM$3,data!$Y13:$AB13,0)),CM15),\"●\"),\"●\"))","v":""},{"$f":"IF(ISERROR(MATCH(view!CN$3,data!$Y13:$AB13,0)),\"\",IFERROR(HYPERLINK(showDetails(INDEX(data!$S13:$V13,MATCH(view!CN$3,data!$Y13:$AB13,0)),CN15),\"●\"),\"●\"))","v":""},{"$f":"IF(ISERROR(MATCH(view!CO$3,data!$Y13:$AB13,0)),\"\",IFERROR(HYPERLINK(showDetails(INDEX(data!$S13:$V13,MATCH(view!CO$3,data!$Y13:$AB13,0)),CO15),\"●\"),\"●\"))","v":"●"},{"$f":"IF(ISERROR(MATCH(view!CP$3,data!$Y13:$AB13,0)),\"\",IFERROR(HYPERLINK(showDetails(INDEX(data!$S13:$V13,MATCH(view!CP$3,data!$Y13:$AB13,0)),CP15),\"●\"),\"●\"))","v":""},{"$f":"IF(ISERROR(MATCH(view!CQ$3,data!$Y13:$AB13,0)),\"\",IFERROR(HYPERLINK(showDetails(INDEX(data!$S13:$V13,MATCH(view!CQ$3,data!$Y13:$AB13,0)),CQ15),\"●\"),\"●\"))","v":""},{"$f":"IF(ISERROR(MATCH(view!CR$3,data!$Y13:$AB13,0)),\"\",IFERROR(HYPERLINK(showDetails(INDEX(data!$S13:$V13,MATCH(view!CR$3,data!$Y13:$AB13,0)),CR15),\"●\"),\"●\"))","v":""},{"$f":"IF(ISERROR(MATCH(view!CS$3,data!$Y13:$AB13,0)),\"\",IFERROR(HYPERLINK(showDetails(INDEX(data!$S13:$V13,MATCH(view!CS$3,data!$Y13:$AB13,0)),CS15),\"●\"),\"●\"))","v":""},{"$f":"IF(ISERROR(MATCH(view!CT$3,data!$Y13:$AB13,0)),\"\",IFERROR(HYPERLINK(showDetails(INDEX(data!$S13:$V13,MATCH(view!CT$3,data!$Y13:$AB13,0)),CT15),\"●\"),\"●\"))","v":"●"},{"$f":"IF(ISERROR(MATCH(view!CU$3,data!$Y13:$AB13,0)),\"\",IFERROR(HYPERLINK(showDetails(INDEX(data!$S13:$V13,MATCH(view!CU$3,data!$Y13:$AB13,0)),CU15),\"●\"),\"●\"))","v":""},{"$f":"IF(ISERROR(MATCH(view!CV$3,data!$Y13:$AB13,0)),\"\",IFERROR(HYPERLINK(showDetails(INDEX(data!$S13:$V13,MATCH(view!CV$3,data!$Y13:$AB13,0)),CV15),\"●\"),\"●\"))","v":""},{"$f":"IF(ISERROR(MATCH(view!CW$3,data!$Y13:$AB13,0)),\"\",IFERROR(HYPERLINK(showDetails(INDEX(data!$S13:$V13,MATCH(view!CW$3,data!$Y13:$AB13,0)),CW15),\"●\"),\"●\"))","v":""},{"$f":"IF(ISERROR(MATCH(view!CX$3,data!$Y13:$AB13,0)),\"\",IFERROR(HYPERLINK(showDetails(INDEX(data!$S13:$V13,MATCH(view!CX$3,data!$Y13:$AB13,0)),CX15),\"●\"),\"●\"))","v":""},{"$f":"IF(ISERROR(MATCH(view!CY$3,data!$Y13:$AB13,0)),\"\",IFERROR(HYPERLINK(showDetails(INDEX(data!$S13:$V13,MATCH(view!CY$3,data!$Y13:$AB13,0)),CY15),\"●\"),\"●\"))","v":""},{"$f":"IF(ISERROR(MATCH(view!CZ$3,data!$Y13:$AB13,0)),\"\",IFERROR(HYPERLINK(showDetails(INDEX(data!$S13:$V13,MATCH(view!CZ$3,data!$Y13:$AB13,0)),CZ15),\"●\"),\"●\"))","v":""},{"$f":"IF(ISERROR(MATCH(view!DA$3,data!$Y13:$AB13,0)),\"\",IFERROR(HYPERLINK(showDetails(INDEX(data!$S13:$V13,MATCH(view!DA$3,data!$Y13:$AB13,0)),DA15),\"●\"),\"●\"))","v":""},{"$f":"IF(ISERROR(MATCH(view!DB$3,data!$Y13:$AB13,0)),\"\",IFERROR(HYPERLINK(showDetails(INDEX(data!$S13:$V13,MATCH(view!DB$3,data!$Y13:$AB13,0)),DB15),\"●\"),\"●\"))","v":""},{"$f":"IF(ISERROR(MATCH(view!DC$3,data!$Y13:$AB13,0)),\"\",IFERROR(HYPERLINK(showDetails(INDEX(data!$S13:$V13,MATCH(view!DC$3,data!$Y13:$AB13,0)),DC15),\"●\"),\"●\"))","v":""},{"$f":"IF(ISERROR(MATCH(view!DD$3,data!$Y13:$AB13,0)),\"\",IFERROR(HYPERLINK(showDetails(INDEX(data!$S13:$V13,MATCH(view!DD$3,data!$Y13:$AB13,0)),DD15),\"●\"),\"●\"))","v":""},{"$f":"IF(ISERROR(MATCH(view!DE$3,data!$Y13:$AB13,0)),\"\",IFERROR(HYPERLINK(showDetails(INDEX(data!$S13:$V13,MATCH(view!DE$3,data!$Y13:$AB13,0)),DE15),\"●\"),\"●\"))","v":""},{"$f":"IF(ISERROR(MATCH(view!DF$3,data!$Y13:$AB13,0)),\"\",IFERROR(HYPERLINK(showDetails(INDEX(data!$S13:$V13,MATCH(view!DF$3,data!$Y13:$AB13,0)),DF15),\"●\"),\"●\"))","v":""},{"$f":"IF(ISERROR(MATCH(view!DG$3,data!$Y13:$AB13,0)),\"\",IFERROR(HYPERLINK(showDetails(INDEX(data!$S13:$V13,MATCH(view!DG$3,data!$Y13:$AB13,0)),DG15),\"●\"),\"●\"))","v":""},{"$f":"IF(ISERROR(MATCH(view!DH$3,data!$Y13:$AB13,0)),\"\",IFERROR(HYPERLINK(showDetails(INDEX(data!$S13:$V13,MATCH(view!DH$3,data!$Y13:$AB13,0)),DH15),\"●\"),\"●\"))","v":""},{"$f":"IF(ISERROR(MATCH(view!DI$3,data!$Y13:$AB13,0)),\"\",IFERROR(HYPERLINK(showDetails(INDEX(data!$S13:$V13,MATCH(view!DI$3,data!$Y13:$AB13,0)),DI15),\"●\"),\"●\"))","v":""},{"$f":"IF(ISERROR(MATCH(view!DJ$3,data!$Y13:$AB13,0)),\"\",IFERROR(HYPERLINK(showDetails(INDEX(data!$S13:$V13,MATCH(view!DJ$3,data!$Y13:$AB13,0)),DJ15),\"●\"),\"●\"))","v":""},{"$f":"IF(ISERROR(MATCH(view!DK$3,data!$Y13:$AB13,0)),\"\",IFERROR(HYPERLINK(showDetails(INDEX(data!$S13:$V13,MATCH(view!DK$3,data!$Y13:$AB13,0)),DK15),\"●\"),\"●\"))","v":""},{"$f":"IF(ISERROR(MATCH(view!DL$3,data!$Y13:$AB13,0)),\"\",IFERROR(HYPERLINK(showDetails(INDEX(data!$S13:$V13,MATCH(view!DL$3,data!$Y13:$AB13,0)),DL15),\"●\"),\"●\"))","v":""},{"$f":"IF(ISERROR(MATCH(view!DM$3,data!$Y13:$AB13,0)),\"\",IFERROR(HYPERLINK(showDetails(INDEX(data!$S13:$V13,MATCH(view!DM$3,data!$Y13:$AB13,0)),DM15),\"●\"),\"●\"))","v":""},{"$f":"IF(ISERROR(MATCH(view!DN$3,data!$Y13:$AB13,0)),\"\",IFERROR(HYPERLINK(showDetails(INDEX(data!$S13:$V13,MATCH(view!DN$3,data!$Y13:$AB13,0)),DN15),\"●\"),\"●\"))","v":""},{"$f":"IF(ISERROR(MATCH(view!DO$3,data!$Y13:$AB13,0)),\"\",IFERROR(HYPERLINK(showDetails(INDEX(data!$S13:$V13,MATCH(view!DO$3,data!$Y13:$AB13,0)),DO15),\"●\"),\"●\"))","v":""},{"$f":"IF(ISERROR(MATCH(view!DP$3,data!$Y13:$AB13,0)),\"\",IFERROR(HYPERLINK(showDetails(INDEX(data!$S13:$V13,MATCH(view!DP$3,data!$Y13:$AB13,0)),DP15),\"●\"),\"●\"))","v":""},{"$f":"IF(ISERROR(MATCH(view!DQ$3,data!$Y13:$AB13,0)),\"\",IFERROR(HYPERLINK(showDetails(INDEX(data!$S13:$V13,MATCH(view!DQ$3,data!$Y13:$AB13,0)),DQ15),\"●\"),\"●\"))","v":""},{"$f":"IF(ISERROR(MATCH(view!DR$3,data!$Y13:$AB13,0)),\"\",IFERROR(HYPERLINK(showDetails(INDEX(data!$S13:$V13,MATCH(view!DR$3,data!$Y13:$AB13,0)),DR15),\"●\"),\"●\"))","v":""},{"$f":"IF(ISERROR(MATCH(view!DS$3,data!$Y13:$AB13,0)),\"\",IFERROR(HYPERLINK(showDetails(INDEX(data!$S13:$V13,MATCH(view!DS$3,data!$Y13:$AB13,0)),DS15),\"●\"),\"●\"))","v":""},{"$f":"INDEX(lstYears,A15) &\" - \"&INDEX(data!$W$3:$W$30,A15)","v":"1972 - Munich"}]
[12,null,{"$f":"IF(ISERROR(MATCH(view!C$3,data!$Y14:$AB14,0)),\"\",IFERROR(HYPERLINK(showDetails(INDEX(data!$S14:$V14,MATCH(view!C$3,data!$Y14:$AB14,0)),C16),\"●\"),\"●\"))","v":""},{"$f":"IF(ISERROR(MATCH(view!D$3,data!$Y14:$AB14,0)),\"\",IFERROR(HYPERLINK(showDetails(INDEX(data!$S14:$V14,MATCH(view!D$3,data!$Y14:$AB14,0)),D16),\"●\"),\"●\"))","v":""},{"$f":"IF(ISERROR(MATCH(view!E$3,data!$Y14:$AB14,0)),\"\",IFERROR(HYPERLINK(showDetails(INDEX(data!$S14:$V14,MATCH(view!E$3,data!$Y14:$AB14,0)),E16),\"●\"),\"●\"))","v":""},{"$f":"IF(ISERROR(MATCH(view!F$3,data!$Y14:$AB14,0)),\"\",IFERROR(HYPERLINK(showDetails(INDEX(data!$S14:$V14,MATCH(view!F$3,data!$Y14:$AB14,0)),F16),\"●\"),\"●\"))","v":""},{"$f":"IF(ISERROR(MATCH(view!G$3,data!$Y14:$AB14,0)),\"\",IFERROR(HYPERLINK(showDetails(INDEX(data!$S14:$V14,MATCH(view!G$3,data!$Y14:$AB14,0)),G16),\"●\"),\"●\"))","v":""},{"$f":"IF(ISERROR(MATCH(view!H$3,data!$Y14:$AB14,0)),\"\",IFERROR(HYPERLINK(showDetails(INDEX(data!$S14:$V14,MATCH(view!H$3,data!$Y14:$AB14,0)),H16),\"●\"),\"●\"))","v":""},{"$f":"IF(ISERROR(MATCH(view!I$3,data!$Y14:$AB14,0)),\"\",IFERROR(HYPERLINK(showDetails(INDEX(data!$S14:$V14,MATCH(view!I$3,data!$Y14:$AB14,0)),I16),\"●\"),\"●\"))","v":""},{"$f":"IF(ISERROR(MATCH(view!J$3,data!$Y14:$AB14,0)),\"\",IFERROR(HYPERLINK(showDetails(INDEX(data!$S14:$V14,MATCH(view!J$3,data!$Y14:$AB14,0)),J16),\"●\"),\"●\"))","v":""},{"$f":"IF(ISERROR(MATCH(view!K$3,data!$Y14:$AB14,0)),\"\",IFERROR(HYPERLINK(showDetails(INDEX(data!$S14:$V14,MATCH(view!K$3,data!$Y14:$AB14,0)),K16),\"●\"),\"●\"))","v":""},{"$f":"IF(ISERROR(MATCH(view!L$3,data!$Y14:$AB14,0)),\"\",IFERROR(HYPERLINK(showDetails(INDEX(data!$S14:$V14,MATCH(view!L$3,data!$Y14:$AB14,0)),L16),\"●\"),\"●\"))","v":""},{"$f":"IF(ISERROR(MATCH(view!M$3,data!$Y14:$AB14,0)),\"\",IFERROR(HYPERLINK(showDetails(INDEX(data!$S14:$V14,MATCH(view!M$3,data!$Y14:$AB14,0)),M16),\"●\"),\"●\"))","v":""},{"$f":"IF(ISERROR(MATCH(view!N$3,data!$Y14:$AB14,0)),\"\",IFERROR(HYPERLINK(showDetails(INDEX(data!$S14:$V14,MATCH(view!N$3,data!$Y14:$AB14,0)),N16),\"●\"),\"●\"))","v":""},{"$f":"IF(ISERROR(MATCH(view!O$3,data!$Y14:$AB14,0)),\"\",IFERROR(HYPERLINK(showDetails(INDEX(data!$S14:$V14,MATCH(view!O$3,data!$Y14:$AB14,0)),O16),\"●\"),\"●\"))","v":""},{"$f":"IF(ISERROR(MATCH(view!P$3,data!$Y14:$AB14,0)),\"\",IFERROR(HYPERLINK(showDetails(INDEX(data!$S14:$V14,MATCH(view!P$3,data!$Y14:$AB14,0)),P16),\"●\"),\"●\"))","v":""},{"$f":"IF(ISERROR(MATCH(view!Q$3,data!$Y14:$AB14,0)),\"\",IFERROR(HYPERLINK(showDetails(INDEX(data!$S14:$V14,MATCH(view!Q$3,data!$Y14:$AB14,0)),Q16),\"●\"),\"●\"))","v":""},{"$f":"IF(ISERROR(MATCH(view!R$3,data!$Y14:$AB14,0)),\"\",IFERROR(HYPERLINK(showDetails(INDEX(data!$S14:$V14,MATCH(view!R$3,data!$Y14:$AB14,0)),R16),\"●\"),\"●\"))","v":""},{"$f":"IF(ISERROR(MATCH(view!S$3,data!$Y14:$AB14,0)),\"\",IFERROR(HYPERLINK(showDetails(INDEX(data!$S14:$V14,MATCH(view!S$3,data!$Y14:$AB14,0)),S16),\"●\"),\"●\"))","v":""},{"$f":"IF(ISERROR(MATCH(view!T$3,data!$Y14:$AB14,0)),\"\",IFERROR(HYPERLINK(showDetails(INDEX(data!$S14:$V14,MATCH(view!T$3,data!$Y14:$AB14,0)),T16),\"●\"),\"●\"))","v":""},{"$f":"IF(ISERROR(MATCH(view!U$3,data!$Y14:$AB14,0)),\"\",IFERROR(HYPERLINK(showDetails(INDEX(data!$S14:$V14,MATCH(view!U$3,data!$Y14:$AB14,0)),U16),\"●\"),\"●\"))","v":""},{"$f":"IF(ISERROR(MATCH(view!V$3,data!$Y14:$AB14,0)),\"\",IFERROR(HYPERLINK(showDetails(INDEX(data!$S14:$V14,MATCH(view!V$3,data!$Y14:$AB14,0)),V16),\"●\"),\"●\"))","v":""},{"$f":"IF(ISERROR(MATCH(view!W$3,data!$Y14:$AB14,0)),\"\",IFERROR(HYPERLINK(showDetails(INDEX(data!$S14:$V14,MATCH(view!W$3,data!$Y14:$AB14,0)),W16),\"●\"),\"●\"))","v":""},{"$f":"IF(ISERROR(MATCH(view!X$3,data!$Y14:$AB14,0)),\"\",IFERROR(HYPERLINK(showDetails(INDEX(data!$S14:$V14,MATCH(view!X$3,data!$Y14:$AB14,0)),X16),\"●\"),\"●\"))","v":""},{"$f":"IF(ISERROR(MATCH(view!Y$3,data!$Y14:$AB14,0)),\"\",IFERROR(HYPERLINK(showDetails(INDEX(data!$S14:$V14,MATCH(view!Y$3,data!$Y14:$AB14,0)),Y16),\"●\"),\"●\"))","v":""},{"$f":"IF(ISERROR(MATCH(view!Z$3,data!$Y14:$AB14,0)),\"\",IFERROR(HYPERLINK(showDetails(INDEX(data!$S14:$V14,MATCH(view!Z$3,data!$Y14:$AB14,0)),Z16),\"●\"),\"●\"))","v":""},{"$f":"IF(ISERROR(MATCH(view!AA$3,data!$Y14:$AB14,0)),\"\",IFERROR(HYPERLINK(showDetails(INDEX(data!$S14:$V14,MATCH(view!AA$3,data!$Y14:$AB14,0)),AA16),\"●\"),\"●\"))","v":""},{"$f":"IF(ISERROR(MATCH(view!AB$3,data!$Y14:$AB14,0)),\"\",IFERROR(HYPERLINK(showDetails(INDEX(data!$S14:$V14,MATCH(view!AB$3,data!$Y14:$AB14,0)),AB16),\"●\"),\"●\"))","v":""},{"$f":"IF(ISERROR(MATCH(view!AC$3,data!$Y14:$AB14,0)),\"\",IFERROR(HYPERLINK(showDetails(INDEX(data!$S14:$V14,MATCH(view!AC$3,data!$Y14:$AB14,0)),AC16),\"●\"),\"●\"))","v":""},{"$f":"IF(ISERROR(MATCH(view!AD$3,data!$Y14:$AB14,0)),\"\",IFERROR(HYPERLINK(showDetails(INDEX(data!$S14:$V14,MATCH(view!AD$3,data!$Y14:$AB14,0)),AD16),\"●\"),\"●\"))","v":""},{"$f":"IF(ISERROR(MATCH(view!AE$3,data!$Y14:$AB14,0)),\"\",IFERROR(HYPERLINK(showDetails(INDEX(data!$S14:$V14,MATCH(view!AE$3,data!$Y14:$AB14,0)),AE16),\"●\"),\"●\"))","v":""},{"$f":"IF(ISERROR(MATCH(view!AF$3,data!$Y14:$AB14,0)),\"\",IFERROR(HYPERLINK(showDetails(INDEX(data!$S14:$V14,MATCH(view!AF$3,data!$Y14:$AB14,0)),AF16),\"●\"),\"●\"))","v":""},{"$f":"IF(ISERROR(MATCH(view!AG$3,data!$Y14:$AB14,0)),\"\",IFERROR(HYPERLINK(showDetails(INDEX(data!$S14:$V14,MATCH(view!AG$3,data!$Y14:$AB14,0)),AG16),\"●\"),\"●\"))","v":""},{"$f":"IF(ISERROR(MATCH(view!AH$3,data!$Y14:$AB14,0)),\"\",IFERROR(HYPERLINK(showDetails(INDEX(data!$S14:$V14,MATCH(view!AH$3,data!$Y14:$AB14,0)),AH16),\"●\"),\"●\"))","v":""},{"$f":"IF(ISERROR(MATCH(view!AI$3,data!$Y14:$AB14,0)),\"\",IFERROR(HYPERLINK(showDetails(INDEX(data!$S14:$V14,MATCH(view!AI$3,data!$Y14:$AB14,0)),AI16),\"●\"),\"●\"))","v":""},{"$f":"IF(ISERROR(MATCH(view!AJ$3,data!$Y14:$AB14,0)),\"\",IFERROR(HYPERLINK(showDetails(INDEX(data!$S14:$V14,MATCH(view!AJ$3,data!$Y14:$AB14,0)),AJ16),\"●\"),\"●\"))","v":""},{"$f":"IF(ISERROR(MATCH(view!AK$3,data!$Y14:$AB14,0)),\"\",IFERROR(HYPERLINK(showDetails(INDEX(data!$S14:$V14,MATCH(view!AK$3,data!$Y14:$AB14,0)),AK16),\"●\"),\"●\"))","v":""},{"$f":"IF(ISERROR(MATCH(view!AL$3,data!$Y14:$AB14,0)),\"\",IFERROR(HYPERLINK(showDetails(INDEX(data!$S14:$V14,MATCH(view!AL$3,data!$Y14:$AB14,0)),AL16),\"●\"),\"●\"))","v":""},{"$f":"IF(ISERROR(MATCH(view!AM$3,data!$Y14:$AB14,0)),\"\",IFERROR(HYPERLINK(showDetails(INDEX(data!$S14:$V14,MATCH(view!AM$3,data!$Y14:$AB14,0)),AM16),\"●\"),\"●\"))","v":""},{"$f":"IF(ISERROR(MATCH(view!AN$3,data!$Y14:$AB14,0)),\"\",IFERROR(HYPERLINK(showDetails(INDEX(data!$S14:$V14,MATCH(view!AN$3,data!$Y14:$AB14,0)),AN16),\"●\"),\"●\"))","v":""},{"$f":"IF(ISERROR(MATCH(view!AO$3,data!$Y14:$AB14,0)),\"\",IFERROR(HYPERLINK(showDetails(INDEX(data!$S14:$V14,MATCH(view!AO$3,data!$Y14:$AB14,0)),AO16),\"●\"),\"●\"))","v":""},{"$f":"IF(ISERROR(MATCH(view!AP$3,data!$Y14:$AB14,0)),\"\",IFERROR(HYPERLINK(showDetails(INDEX(data!$S14:$V14,MATCH(view!AP$3,data!$Y14:$AB14,0)),AP16),\"●\"),\"●\"))","v":""},{"$f":"IF(ISERROR(MATCH(view!AQ$3,data!$Y14:$AB14,0)),\"\",IFERROR(HYPERLINK(showDetails(INDEX(data!$S14:$V14,MATCH(view!AQ$3,data!$Y14:$AB14,0)),AQ16),\"●\"),\"●\"))","v":""},{"$f":"IF(ISERROR(MATCH(view!AR$3,data!$Y14:$AB14,0)),\"\",IFERROR(HYPERLINK(showDetails(INDEX(data!$S14:$V14,MATCH(view!AR$3,data!$Y14:$AB14,0)),AR16),\"●\"),\"●\"))","v":""},{"$f":"IF(ISERROR(MATCH(view!AS$3,data!$Y14:$AB14,0)),\"\",IFERROR(HYPERLINK(showDetails(INDEX(data!$S14:$V14,MATCH(view!AS$3,data!$Y14:$AB14,0)),AS16),\"●\"),\"●\"))","v":""},{"$f":"IF(ISERROR(MATCH(view!AT$3,data!$Y14:$AB14,0)),\"\",IFERROR(HYPERLINK(showDetails(INDEX(data!$S14:$V14,MATCH(view!AT$3,data!$Y14:$AB14,0)),AT16),\"●\"),\"●\"))","v":""},{"$f":"IF(ISERROR(MATCH(view!AU$3,data!$Y14:$AB14,0)),\"\",IFERROR(HYPERLINK(showDetails(INDEX(data!$S14:$V14,MATCH(view!AU$3,data!$Y14:$AB14,0)),AU16),\"●\"),\"●\"))","v":""},{"$f":"IF(ISERROR(MATCH(view!AV$3,data!$Y14:$AB14,0)),\"\",IFERROR(HYPERLINK(showDetails(INDEX(data!$S14:$V14,MATCH(view!AV$3,data!$Y14:$AB14,0)),AV16),\"●\"),\"●\"))","v":""},{"$f":"IF(ISERROR(MATCH(view!AW$3,data!$Y14:$AB14,0)),\"\",IFERROR(HYPERLINK(showDetails(INDEX(data!$S14:$V14,MATCH(view!AW$3,data!$Y14:$AB14,0)),AW16),\"●\"),\"●\"))","v":""},{"$f":"IF(ISERROR(MATCH(view!AX$3,data!$Y14:$AB14,0)),\"\",IFERROR(HYPERLINK(showDetails(INDEX(data!$S14:$V14,MATCH(view!AX$3,data!$Y14:$AB14,0)),AX16),\"●\"),\"●\"))","v":""},{"$f":"IF(ISERROR(MATCH(view!AY$3,data!$Y14:$AB14,0)),\"\",IFERROR(HYPERLINK(showDetails(INDEX(data!$S14:$V14,MATCH(view!AY$3,data!$Y14:$AB14,0)),AY16),\"●\"),\"●\"))","v":""},{"$f":"IF(ISERROR(MATCH(view!AZ$3,data!$Y14:$AB14,0)),\"\",IFERROR(HYPERLINK(showDetails(INDEX(data!$S14:$V14,MATCH(view!AZ$3,data!$Y14:$AB14,0)),AZ16),\"●\"),\"●\"))","v":""},{"$f":"IF(ISERROR(MATCH(view!BA$3,data!$Y14:$AB14,0)),\"\",IFERROR(HYPERLINK(showDetails(INDEX(data!$S14:$V14,MATCH(view!BA$3,data!$Y14:$AB14,0)),BA16),\"●\"),\"●\"))","v":""},{"$f":"IF(ISERROR(MATCH(view!BB$3,data!$Y14:$AB14,0)),\"\",IFERROR(HYPERLINK(showDetails(INDEX(data!$S14:$V14,MATCH(view!BB$3,data!$Y14:$AB14,0)),BB16),\"●\"),\"●\"))","v":""},{"$f":"IF(ISERROR(MATCH(view!BC$3,data!$Y14:$AB14,0)),\"\",IFERROR(HYPERLINK(showDetails(INDEX(data!$S14:$V14,MATCH(view!BC$3,data!$Y14:$AB14,0)),BC16),\"●\"),\"●\"))","v":""},{"$f":"IF(ISERROR(MATCH(view!BD$3,data!$Y14:$AB14,0)),\"\",IFERROR(HYPERLINK(showDetails(INDEX(data!$S14:$V14,MATCH(view!BD$3,data!$Y14:$AB14,0)),BD16),\"●\"),\"●\"))","v":""},{"$f":"IF(ISERROR(MATCH(view!BE$3,data!$Y14:$AB14,0)),\"\",IFERROR(HYPERLINK(showDetails(INDEX(data!$S14:$V14,MATCH(view!BE$3,data!$Y14:$AB14,0)),BE16),\"●\"),\"●\"))","v":""},{"$f":"IF(ISERROR(MATCH(view!BF$3,data!$Y14:$AB14,0)),\"\",IFERROR(HYPERLINK(showDetails(INDEX(data!$S14:$V14,MATCH(view!BF$3,data!$Y14:$AB14,0)),BF16),\"●\"),\"●\"))","v":""},{"$f":"IF(ISERROR(MATCH(view!BG$3,data!$Y14:$AB14,0)),\"\",IFERROR(HYPERLINK(showDetails(INDEX(data!$S14:$V14,MATCH(view!BG$3,data!$Y14:$AB14,0)),BG16),\"●\"),\"●\"))","v":""},{"$f":"IF(ISERROR(MATCH(view!BH$3,data!$Y14:$AB14,0)),\"\",IFERROR(HYPERLINK(showDetails(INDEX(data!$S14:$V14,MATCH(view!BH$3,data!$Y14:$AB14,0)),BH16),\"●\"),\"●\"))","v":""},{"$f":"IF(ISERROR(MATCH(view!BI$3,data!$Y14:$AB14,0)),\"\",IFERROR(HYPERLINK(showDetails(INDEX(data!$S14:$V14,MATCH(view!BI$3,data!$Y14:$AB14,0)),BI16),\"●\"),\"●\"))","v":""},{"$f":"IF(ISERROR(MATCH(view!BJ$3,data!$Y14:$AB14,0)),\"\",IFERROR(HYPERLINK(showDetails(INDEX(data!$S14:$V14,MATCH(view!BJ$3,data!$Y14:$AB14,0)),BJ16),\"●\"),\"●\"))","v":""},{"$f":"IF(ISERROR(MATCH(view!BK$3,data!$Y14:$AB14,0)),\"\",IFERROR(HYPERLINK(showDetails(INDEX(data!$S14:$V14,MATCH(view!BK$3,data!$Y14:$AB14,0)),BK16),\"●\"),\"●\"))","v":""},{"$f":"IF(ISERROR(MATCH(view!BL$3,data!$Y14:$AB14,0)),\"\",IFERROR(HYPERLINK(showDetails(INDEX(data!$S14:$V14,MATCH(view!BL$3,data!$Y14:$AB14,0)),BL16),\"●\"),\"●\"))","v":""},{"$f":"IF(ISERROR(MATCH(view!BM$3,data!$Y14:$AB14,0)),\"\",IFERROR(HYPERLINK(showDetails(INDEX(data!$S14:$V14,MATCH(view!BM$3,data!$Y14:$AB14,0)),BM16),\"●\"),\"●\"))","v":""},{"$f":"IF(ISERROR(MATCH(view!BN$3,data!$Y14:$AB14,0)),\"\",IFERROR(HYPERLINK(showDetails(INDEX(data!$S14:$V14,MATCH(view!BN$3,data!$Y14:$AB14,0)),BN16),\"●\"),\"●\"))","v":""},{"$f":"IF(ISERROR(MATCH(view!BO$3,data!$Y14:$AB14,0)),\"\",IFERROR(HYPERLINK(showDetails(INDEX(data!$S14:$V14,MATCH(view!BO$3,data!$Y14:$AB14,0)),BO16),\"●\"),\"●\"))","v":""},{"$f":"IF(ISERROR(MATCH(view!BP$3,data!$Y14:$AB14,0)),\"\",IFERROR(HYPERLINK(showDetails(INDEX(data!$S14:$V14,MATCH(view!BP$3,data!$Y14:$AB14,0)),BP16),\"●\"),\"●\"))","v":""},{"$f":"IF(ISERROR(MATCH(view!BQ$3,data!$Y14:$AB14,0)),\"\",IFERROR(HYPERLINK(showDetails(INDEX(data!$S14:$V14,MATCH(view!BQ$3,data!$Y14:$AB14,0)),BQ16),\"●\"),\"●\"))","v":""},{"$f":"IF(ISERROR(MATCH(view!BR$3,data!$Y14:$AB14,0)),\"\",IFERROR(HYPERLINK(showDetails(INDEX(data!$S14:$V14,MATCH(view!BR$3,data!$Y14:$AB14,0)),BR16),\"●\"),\"●\"))","v":""},{"$f":"IF(ISERROR(MATCH(view!BS$3,data!$Y14:$AB14,0)),\"\",IFERROR(HYPERLINK(showDetails(INDEX(data!$S14:$V14,MATCH(view!BS$3,data!$Y14:$AB14,0)),BS16),\"●\"),\"●\"))","v":""},{"$f":"IF(ISERROR(MATCH(view!BT$3,data!$Y14:$AB14,0)),\"\",IFERROR(HYPERLINK(showDetails(INDEX(data!$S14:$V14,MATCH(view!BT$3,data!$Y14:$AB14,0)),BT16),\"●\"),\"●\"))","v":""},{"$f":"IF(ISERROR(MATCH(view!BU$3,data!$Y14:$AB14,0)),\"\",IFERROR(HYPERLINK(showDetails(INDEX(data!$S14:$V14,MATCH(view!BU$3,data!$Y14:$AB14,0)),BU16),\"●\"),\"●\"))","v":""},{"$f":"IF(ISERROR(MATCH(view!BV$3,data!$Y14:$AB14,0)),\"\",IFERROR(HYPERLINK(showDetails(INDEX(data!$S14:$V14,MATCH(view!BV$3,data!$Y14:$AB14,0)),BV16),\"●\"),\"●\"))","v":""},{"$f":"IF(ISERROR(MATCH(view!BW$3,data!$Y14:$AB14,0)),\"\",IFERROR(HYPERLINK(showDetails(INDEX(data!$S14:$V14,MATCH(view!BW$3,data!$Y14:$AB14,0)),BW16),\"●\"),\"●\"))","v":""},{"$f":"IF(ISERROR(MATCH(view!BX$3,data!$Y14:$AB14,0)),\"\",IFERROR(HYPERLINK(showDetails(INDEX(data!$S14:$V14,MATCH(view!BX$3,data!$Y14:$AB14,0)),BX16),\"●\"),\"●\"))","v":""},{"$f":"IF(ISERROR(MATCH(view!BY$3,data!$Y14:$AB14,0)),\"\",IFERROR(HYPERLINK(showDetails(INDEX(data!$S14:$V14,MATCH(view!BY$3,data!$Y14:$AB14,0)),BY16),\"●\"),\"●\"))","v":""},{"$f":"IF(ISERROR(MATCH(view!BZ$3,data!$Y14:$AB14,0)),\"\",IFERROR(HYPERLINK(showDetails(INDEX(data!$S14:$V14,MATCH(view!BZ$3,data!$Y14:$AB14,0)),BZ16),\"●\"),\"●\"))","v":""},{"$f":"IF(ISERROR(MATCH(view!CA$3,data!$Y14:$AB14,0)),\"\",IFERROR(HYPERLINK(showDetails(INDEX(data!$S14:$V14,MATCH(view!CA$3,data!$Y14:$AB14,0)),CA16),\"●\"),\"●\"))","v":""},{"$f":"IF(ISERROR(MATCH(view!CB$3,data!$Y14:$AB14,0)),\"\",IFERROR(HYPERLINK(showDetails(INDEX(data!$S14:$V14,MATCH(view!CB$3,data!$Y14:$AB14,0)),CB16),\"●\"),\"●\"))","v":""},{"$f":"IF(ISERROR(MATCH(view!CC$3,data!$Y14:$AB14,0)),\"\",IFERROR(HYPERLINK(showDetails(INDEX(data!$S14:$V14,MATCH(view!CC$3,data!$Y14:$AB14,0)),CC16),\"●\"),\"●\"))","v":""},{"$f":"IF(ISERROR(MATCH(view!CD$3,data!$Y14:$AB14,0)),\"\",IFERROR(HYPERLINK(showDetails(INDEX(data!$S14:$V14,MATCH(view!CD$3,data!$Y14:$AB14,0)),CD16),\"●\"),\"●\"))","v":""},{"$f":"IF(ISERROR(MATCH(view!CE$3,data!$Y14:$AB14,0)),\"\",IFERROR(HYPERLINK(showDetails(INDEX(data!$S14:$V14,MATCH(view!CE$3,data!$Y14:$AB14,0)),CE16),\"●\"),\"●\"))","v":""},{"$f":"IF(ISERROR(MATCH(view!CF$3,data!$Y14:$AB14,0)),\"\",IFERROR(HYPERLINK(showDetails(INDEX(data!$S14:$V14,MATCH(view!CF$3,data!$Y14:$AB14,0)),CF16),\"●\"),\"●\"))","v":""},{"$f":"IF(ISERROR(MATCH(view!CG$3,data!$Y14:$AB14,0)),\"\",IFERROR(HYPERLINK(showDetails(INDEX(data!$S14:$V14,MATCH(view!CG$3,data!$Y14:$AB14,0)),CG16),\"●\"),\"●\"))","v":""},{"$f":"IF(ISERROR(MATCH(view!CH$3,data!$Y14:$AB14,0)),\"\",IFERROR(HYPERLINK(showDetails(INDEX(data!$S14:$V14,MATCH(view!CH$3,data!$Y14:$AB14,0)),CH16),\"●\"),\"●\"))","v":""},{"$f":"IF(ISERROR(MATCH(view!CI$3,data!$Y14:$AB14,0)),\"\",IFERROR(HYPERLINK(showDetails(INDEX(data!$S14:$V14,MATCH(view!CI$3,data!$Y14:$AB14,0)),CI16),\"●\"),\"●\"))","v":""},{"$f":"IF(ISERROR(MATCH(view!CJ$3,data!$Y14:$AB14,0)),\"\",IFERROR(HYPERLINK(showDetails(INDEX(data!$S14:$V14,MATCH(view!CJ$3,data!$Y14:$AB14,0)),CJ16),\"●\"),\"●\"))","v":""},{"$f":"IF(ISERROR(MATCH(view!CK$3,data!$Y14:$AB14,0)),\"\",IFERROR(HYPERLINK(showDetails(INDEX(data!$S14:$V14,MATCH(view!CK$3,data!$Y14:$AB14,0)),CK16),\"●\"),\"●\"))","v":""},{"$f":"IF(ISERROR(MATCH(view!CL$3,data!$Y14:$AB14,0)),\"\",IFERROR(HYPERLINK(showDetails(INDEX(data!$S14:$V14,MATCH(view!CL$3,data!$Y14:$AB14,0)),CL16),\"●\"),\"●\"))","v":""},{"$f":"IF(ISERROR(MATCH(view!CM$3,data!$Y14:$AB14,0)),\"\",IFERROR(HYPERLINK(showDetails(INDEX(data!$S14:$V14,MATCH(view!CM$3,data!$Y14:$AB14,0)),CM16),\"●\"),\"●\"))","v":""},{"$f":"IF(ISERROR(MATCH(view!CN$3,data!$Y14:$AB14,0)),\"\",IFERROR(HYPERLINK(showDetails(INDEX(data!$S14:$V14,MATCH(view!CN$3,data!$Y14:$AB14,0)),CN16),\"●\"),\"●\"))","v":""},{"$f":"IF(ISERROR(MATCH(view!CO$3,data!$Y14:$AB14,0)),\"\",IFERROR(HYPERLINK(showDetails(INDEX(data!$S14:$V14,MATCH(view!CO$3,data!$Y14:$AB14,0)),CO16),\"●\"),\"●\"))","v":""},{"$f":"IF(ISERROR(MATCH(view!CP$3,data!$Y14:$AB14,0)),\"\",IFERROR(HYPERLINK(showDetails(INDEX(data!$S14:$V14,MATCH(view!CP$3,data!$Y14:$AB14,0)),CP16),\"●\"),\"●\"))","v":""},{"$f":"IF(ISERROR(MATCH(view!CQ$3,data!$Y14:$AB14,0)),\"\",IFERROR(HYPERLINK(showDetails(INDEX(data!$S14:$V14,MATCH(view!CQ$3,data!$Y14:$AB14,0)),CQ16),\"●\"),\"●\"))","v":""},{"$f":"IF(ISERROR(MATCH(view!CR$3,data!$Y14:$AB14,0)),\"\",IFERROR(HYPERLINK(showDetails(INDEX(data!$S14:$V14,MATCH(view!CR$3,data!$Y14:$AB14,0)),CR16),\"●\"),\"●\"))","v":""},{"$f":"IF(ISERROR(MATCH(view!CS$3,data!$Y14:$AB14,0)),\"\",IFERROR(HYPERLINK(showDetails(INDEX(data!$S14:$V14,MATCH(view!CS$3,data!$Y14:$AB14,0)),CS16),\"●\"),\"●\"))","v":""},{"$f":"IF(ISERROR(MATCH(view!CT$3,data!$Y14:$AB14,0)),\"\",IFERROR(HYPERLINK(showDetails(INDEX(data!$S14:$V14,MATCH(view!CT$3,data!$Y14:$AB14,0)),CT16),\"●\"),\"●\"))","v":""},{"$f":"IF(ISERROR(MATCH(view!CU$3,data!$Y14:$AB14,0)),\"\",IFERROR(HYPERLINK(showDetails(INDEX(data!$S14:$V14,MATCH(view!CU$3,data!$Y14:$AB14,0)),CU16),\"●\"),\"●\"))","v":""},{"$f":"IF(ISERROR(MATCH(view!CV$3,data!$Y14:$AB14,0)),\"\",IFERROR(HYPERLINK(showDetails(INDEX(data!$S14:$V14,MATCH(view!CV$3,data!$Y14:$AB14,0)),CV16),\"●\"),\"●\"))","v":""},{"$f":"IF(ISERROR(MATCH(view!CW$3,data!$Y14:$AB14,0)),\"\",IFERROR(HYPERLINK(showDetails(INDEX(data!$S14:$V14,MATCH(view!CW$3,data!$Y14:$AB14,0)),CW16),\"●\"),\"●\"))","v":"●"},{"$f":"IF(ISERROR(MATCH(view!CX$3,data!$Y14:$AB14,0)),\"\",IFERROR(HYPERLINK(showDetails(INDEX(data!$S14:$V14,MATCH(view!CX$3,data!$Y14:$AB14,0)),CX16),\"●\"),\"●\"))","v":"●"},{"$f":"IF(ISERROR(MATCH(view!CY$3,data!$Y14:$AB14,0)),\"\",IFERROR(HYPERLINK(showDetails(INDEX(data!$S14:$V14,MATCH(view!CY$3,data!$Y14:$AB14,0)),CY16),\"●\"),\"●\"))","v":""},{"$f":"IF(ISERROR(MATCH(view!CZ$3,data!$Y14:$AB14,0)),\"\",IFERROR(HYPERLINK(showDetails(INDEX(data!$S14:$V14,MATCH(view!CZ$3,data!$Y14:$AB14,0)),CZ16),\"●\"),\"●\"))","v":""},{"$f":"IF(ISERROR(MATCH(view!DA$3,data!$Y14:$AB14,0)),\"\",IFERROR(HYPERLINK(showDetails(INDEX(data!$S14:$V14,MATCH(view!DA$3,data!$Y14:$AB14,0)),DA16),\"●\"),\"●\"))","v":""},{"$f":"IF(ISERROR(MATCH(view!DB$3,data!$Y14:$AB14,0)),\"\",IFERROR(HYPERLINK(showDetails(INDEX(data!$S14:$V14,MATCH(view!DB$3,data!$Y14:$AB14,0)),DB16),\"●\"),\"●\"))","v":""},{"$f":"IF(ISERROR(MATCH(view!DC$3,data!$Y14:$AB14,0)),\"\",IFERROR(HYPERLINK(showDetails(INDEX(data!$S14:$V14,MATCH(view!DC$3,data!$Y14:$AB14,0)),DC16),\"●\"),\"●\"))","v":"●"},{"$f":"IF(ISERROR(MATCH(view!DD$3,data!$Y14:$AB14,0)),\"\",IFERROR(HYPERLINK(showDetails(INDEX(data!$S14:$V14,MATCH(view!DD$3,data!$Y14:$AB14,0)),DD16),\"●\"),\"●\"))","v":""},{"$f":"IF(ISERROR(MATCH(view!DE$3,data!$Y14:$AB14,0)),\"\",IFERROR(HYPERLINK(showDetails(INDEX(data!$S14:$V14,MATCH(view!DE$3,data!$Y14:$AB14,0)),DE16),\"●\"),\"●\"))","v":""},{"$f":"IF(ISERROR(MATCH(view!DF$3,data!$Y14:$AB14,0)),\"\",IFERROR(HYPERLINK(showDetails(INDEX(data!$S14:$V14,MATCH(view!DF$3,data!$Y14:$AB14,0)),DF16),\"●\"),\"●\"))","v":""},{"$f":"IF(ISERROR(MATCH(view!DG$3,data!$Y14:$AB14,0)),\"\",IFERROR(HYPERLINK(showDetails(INDEX(data!$S14:$V14,MATCH(view!DG$3,data!$Y14:$AB14,0)),DG16),\"●\"),\"●\"))","v":""},{"$f":"IF(ISERROR(MATCH(view!DH$3,data!$Y14:$AB14,0)),\"\",IFERROR(HYPERLINK(showDetails(INDEX(data!$S14:$V14,MATCH(view!DH$3,data!$Y14:$AB14,0)),DH16),\"●\"),\"●\"))","v":""},{"$f":"IF(ISERROR(MATCH(view!DI$3,data!$Y14:$AB14,0)),\"\",IFERROR(HYPERLINK(showDetails(INDEX(data!$S14:$V14,MATCH(view!DI$3,data!$Y14:$AB14,0)),DI16),\"●\"),\"●\"))","v":""},{"$f":"IF(ISERROR(MATCH(view!DJ$3,data!$Y14:$AB14,0)),\"\",IFERROR(HYPERLINK(showDetails(INDEX(data!$S14:$V14,MATCH(view!DJ$3,data!$Y14:$AB14,0)),DJ16),\"●\"),\"●\"))","v":""},{"$f":"IF(ISERROR(MATCH(view!DK$3,data!$Y14:$AB14,0)),\"\",IFERROR(HYPERLINK(showDetails(INDEX(data!$S14:$V14,MATCH(view!DK$3,data!$Y14:$AB14,0)),DK16),\"●\"),\"●\"))","v":""},{"$f":"IF(ISERROR(MATCH(view!DL$3,data!$Y14:$AB14,0)),\"\",IFERROR(HYPERLINK(showDetails(INDEX(data!$S14:$V14,MATCH(view!DL$3,data!$Y14:$AB14,0)),DL16),\"●\"),\"●\"))","v":""},{"$f":"IF(ISERROR(MATCH(view!DM$3,data!$Y14:$AB14,0)),\"\",IFERROR(HYPERLINK(showDetails(INDEX(data!$S14:$V14,MATCH(view!DM$3,data!$Y14:$AB14,0)),DM16),\"●\"),\"●\"))","v":""},{"$f":"IF(ISERROR(MATCH(view!DN$3,data!$Y14:$AB14,0)),\"\",IFERROR(HYPERLINK(showDetails(INDEX(data!$S14:$V14,MATCH(view!DN$3,data!$Y14:$AB14,0)),DN16),\"●\"),\"●\"))","v":""},{"$f":"IF(ISERROR(MATCH(view!DO$3,data!$Y14:$AB14,0)),\"\",IFERROR(HYPERLINK(showDetails(INDEX(data!$S14:$V14,MATCH(view!DO$3,data!$Y14:$AB14,0)),DO16),\"●\"),\"●\"))","v":""},{"$f":"IF(ISERROR(MATCH(view!DP$3,data!$Y14:$AB14,0)),\"\",IFERROR(HYPERLINK(showDetails(INDEX(data!$S14:$V14,MATCH(view!DP$3,data!$Y14:$AB14,0)),DP16),\"●\"),\"●\"))","v":""},{"$f":"IF(ISERROR(MATCH(view!DQ$3,data!$Y14:$AB14,0)),\"\",IFERROR(HYPERLINK(showDetails(INDEX(data!$S14:$V14,MATCH(view!DQ$3,data!$Y14:$AB14,0)),DQ16),\"●\"),\"●\"))","v":""},{"$f":"IF(ISERROR(MATCH(view!DR$3,data!$Y14:$AB14,0)),\"\",IFERROR(HYPERLINK(showDetails(INDEX(data!$S14:$V14,MATCH(view!DR$3,data!$Y14:$AB14,0)),DR16),\"●\"),\"●\"))","v":""},{"$f":"IF(ISERROR(MATCH(view!DS$3,data!$Y14:$AB14,0)),\"\",IFERROR(HYPERLINK(showDetails(INDEX(data!$S14:$V14,MATCH(view!DS$3,data!$Y14:$AB14,0)),DS16),\"●\"),\"●\"))","v":""},{"$f":"INDEX(lstYears,A16) &\" - \"&INDEX(data!$W$3:$W$30,A16)","v":"1968 - Mexico City"}]
[13,null,{"$f":"IF(ISERROR(MATCH(view!C$3,data!$Y15:$AB15,0)),\"\",IFERROR(HYPERLINK(showDetails(INDEX(data!$S15:$V15,MATCH(view!C$3,data!$Y15:$AB15,0)),C17),\"●\"),\"●\"))","v":""},{"$f":"IF(ISERROR(MATCH(view!D$3,data!$Y15:$AB15,0)),\"\",IFERROR(HYPERLINK(showDetails(INDEX(data!$S15:$V15,MATCH(view!D$3,data!$Y15:$AB15,0)),D17),\"●\"),\"●\"))","v":""},{"$f":"IF(ISERROR(MATCH(view!E$3,data!$Y15:$AB15,0)),\"\",IFERROR(HYPERLINK(showDetails(INDEX(data!$S15:$V15,MATCH(view!E$3,data!$Y15:$AB15,0)),E17),\"●\"),\"●\"))","v":""},{"$f":"IF(ISERROR(MATCH(view!F$3,data!$Y15:$AB15,0)),\"\",IFERROR(HYPERLINK(showDetails(INDEX(data!$S15:$V15,MATCH(view!F$3,data!$Y15:$AB15,0)),F17),\"●\"),\"●\"))","v":""},{"$f":"IF(ISERROR(MATCH(view!G$3,data!$Y15:$AB15,0)),\"\",IFERROR(HYPERLINK(showDetails(INDEX(data!$S15:$V15,MATCH(view!G$3,data!$Y15:$AB15,0)),G17),\"●\"),\"●\"))","v":""},{"$f":"IF(ISERROR(MATCH(view!H$3,data!$Y15:$AB15,0)),\"\",IFERROR(HYPERLINK(showDetails(INDEX(data!$S15:$V15,MATCH(view!H$3,data!$Y15:$AB15,0)),H17),\"●\"),\"●\"))","v":""},{"$f":"IF(ISERROR(MATCH(view!I$3,data!$Y15:$AB15,0)),\"\",IFERROR(HYPERLINK(showDetails(INDEX(data!$S15:$V15,MATCH(view!I$3,data!$Y15:$AB15,0)),I17),\"●\"),\"●\"))","v":""},{"$f":"IF(ISERROR(MATCH(view!J$3,data!$Y15:$AB15,0)),\"\",IFERROR(HYPERLINK(showDetails(INDEX(data!$S15:$V15,MATCH(view!J$3,data!$Y15:$AB15,0)),J17),\"●\"),\"●\"))","v":""},{"$f":"IF(ISERROR(MATCH(view!K$3,data!$Y15:$AB15,0)),\"\",IFERROR(HYPERLINK(showDetails(INDEX(data!$S15:$V15,MATCH(view!K$3,data!$Y15:$AB15,0)),K17),\"●\"),\"●\"))","v":""},{"$f":"IF(ISERROR(MATCH(view!L$3,data!$Y15:$AB15,0)),\"\",IFERROR(HYPERLINK(showDetails(INDEX(data!$S15:$V15,MATCH(view!L$3,data!$Y15:$AB15,0)),L17),\"●\"),\"●\"))","v":""},{"$f":"IF(ISERROR(MATCH(view!M$3,data!$Y15:$AB15,0)),\"\",IFERROR(HYPERLINK(showDetails(INDEX(data!$S15:$V15,MATCH(view!M$3,data!$Y15:$AB15,0)),M17),\"●\"),\"●\"))","v":""},{"$f":"IF(ISERROR(MATCH(view!N$3,data!$Y15:$AB15,0)),\"\",IFERROR(HYPERLINK(showDetails(INDEX(data!$S15:$V15,MATCH(view!N$3,data!$Y15:$AB15,0)),N17),\"●\"),\"●\"))","v":""},{"$f":"IF(ISERROR(MATCH(view!O$3,data!$Y15:$AB15,0)),\"\",IFERROR(HYPERLINK(showDetails(INDEX(data!$S15:$V15,MATCH(view!O$3,data!$Y15:$AB15,0)),O17),\"●\"),\"●\"))","v":""},{"$f":"IF(ISERROR(MATCH(view!P$3,data!$Y15:$AB15,0)),\"\",IFERROR(HYPERLINK(showDetails(INDEX(data!$S15:$V15,MATCH(view!P$3,data!$Y15:$AB15,0)),P17),\"●\"),\"●\"))","v":""},{"$f":"IF(ISERROR(MATCH(view!Q$3,data!$Y15:$AB15,0)),\"\",IFERROR(HYPERLINK(showDetails(INDEX(data!$S15:$V15,MATCH(view!Q$3,data!$Y15:$AB15,0)),Q17),\"●\"),\"●\"))","v":""},{"$f":"IF(ISERROR(MATCH(view!R$3,data!$Y15:$AB15,0)),\"\",IFERROR(HYPERLINK(showDetails(INDEX(data!$S15:$V15,MATCH(view!R$3,data!$Y15:$AB15,0)),R17),\"●\"),\"●\"))","v":""},{"$f":"IF(ISERROR(MATCH(view!S$3,data!$Y15:$AB15,0)),\"\",IFERROR(HYPERLINK(showDetails(INDEX(data!$S15:$V15,MATCH(view!S$3,data!$Y15:$AB15,0)),S17),\"●\"),\"●\"))","v":""},{"$f":"IF(ISERROR(MATCH(view!T$3,data!$Y15:$AB15,0)),\"\",IFERROR(HYPERLINK(showDetails(INDEX(data!$S15:$V15,MATCH(view!T$3,data!$Y15:$AB15,0)),T17),\"●\"),\"●\"))","v":""},{"$f":"IF(ISERROR(MATCH(view!U$3,data!$Y15:$AB15,0)),\"\",IFERROR(HYPERLINK(showDetails(INDEX(data!$S15:$V15,MATCH(view!U$3,data!$Y15:$AB15,0)),U17),\"●\"),\"●\"))","v":""},{"$f":"IF(ISERROR(MATCH(view!V$3,data!$Y15:$AB15,0)),\"\",IFERROR(HYPERLINK(showDetails(INDEX(data!$S15:$V15,MATCH(view!V$3,data!$Y15:$AB15,0)),V17),\"●\"),\"●\"))","v":""},{"$f":"IF(ISERROR(MATCH(view!W$3,data!$Y15:$AB15,0)),\"\",IFERROR(HYPERLINK(showDetails(INDEX(data!$S15:$V15,MATCH(view!W$3,data!$Y15:$AB15,0)),W17),\"●\"),\"●\"))","v":""},{"$f":"IF(ISERROR(MATCH(view!X$3,data!$Y15:$AB15,0)),\"\",IFERROR(HYPERLINK(showDetails(INDEX(data!$S15:$V15,MATCH(view!X$3,data!$Y15:$AB15,0)),X17),\"●\"),\"●\"))","v":""},{"$f":"IF(ISERROR(MATCH(view!Y$3,data!$Y15:$AB15,0)),\"\",IFERROR(HYPERLINK(showDetails(INDEX(data!$S15:$V15,MATCH(view!Y$3,data!$Y15:$AB15,0)),Y17),\"●\"),\"●\"))","v":""},{"$f":"IF(ISERROR(MATCH(view!Z$3,data!$Y15:$AB15,0)),\"\",IFERROR(HYPERLINK(showDetails(INDEX(data!$S15:$V15,MATCH(view!Z$3,data!$Y15:$AB15,0)),Z17),\"●\"),\"●\"))","v":""},{"$f":"IF(ISERROR(MATCH(view!AA$3,data!$Y15:$AB15,0)),\"\",IFERROR(HYPERLINK(showDetails(INDEX(data!$S15:$V15,MATCH(view!AA$3,data!$Y15:$AB15,0)),AA17),\"●\"),\"●\"))","v":""},{"$f":"IF(ISERROR(MATCH(view!AB$3,data!$Y15:$AB15,0)),\"\",IFERROR(HYPERLINK(showDetails(INDEX(data!$S15:$V15,MATCH(view!AB$3,data!$Y15:$AB15,0)),AB17),\"●\"),\"●\"))","v":""},{"$f":"IF(ISERROR(MATCH(view!AC$3,data!$Y15:$AB15,0)),\"\",IFERROR(HYPERLINK(showDetails(INDEX(data!$S15:$V15,MATCH(view!AC$3,data!$Y15:$AB15,0)),AC17),\"●\"),\"●\"))","v":""},{"$f":"IF(ISERROR(MATCH(view!AD$3,data!$Y15:$AB15,0)),\"\",IFERROR(HYPERLINK(showDetails(INDEX(data!$S15:$V15,MATCH(view!AD$3,data!$Y15:$AB15,0)),AD17),\"●\"),\"●\"))","v":""},{"$f":"IF(ISERROR(MATCH(view!AE$3,data!$Y15:$AB15,0)),\"\",IFERROR(HYPERLINK(showDetails(INDEX(data!$S15:$V15,MATCH(view!AE$3,data!$Y15:$AB15,0)),AE17),\"●\"),\"●\"))","v":""},{"$f":"IF(ISERROR(MATCH(view!AF$3,data!$Y15:$AB15,0)),\"\",IFERROR(HYPERLINK(showDetails(INDEX(data!$S15:$V15,MATCH(view!AF$3,data!$Y15:$AB15,0)),AF17),\"●\"),\"●\"))","v":""},{"$f":"IF(ISERROR(MATCH(view!AG$3,data!$Y15:$AB15,0)),\"\",IFERROR(HYPERLINK(showDetails(INDEX(data!$S15:$V15,MATCH(view!AG$3,data!$Y15:$AB15,0)),AG17),\"●\"),\"●\"))","v":""},{"$f":"IF(ISERROR(MATCH(view!AH$3,data!$Y15:$AB15,0)),\"\",IFERROR(HYPERLINK(showDetails(INDEX(data!$S15:$V15,MATCH(view!AH$3,data!$Y15:$AB15,0)),AH17),\"●\"),\"●\"))","v":""},{"$f":"IF(ISERROR(MATCH(view!AI$3,data!$Y15:$AB15,0)),\"\",IFERROR(HYPERLINK(showDetails(INDEX(data!$S15:$V15,MATCH(view!AI$3,data!$Y15:$AB15,0)),AI17),\"●\"),\"●\"))","v":""},{"$f":"IF(ISERROR(MATCH(view!AJ$3,data!$Y15:$AB15,0)),\"\",IFERROR(HYPERLINK(showDetails(INDEX(data!$S15:$V15,MATCH(view!AJ$3,data!$Y15:$AB15,0)),AJ17),\"●\"),\"●\"))","v":""},{"$f":"IF(ISERROR(MATCH(view!AK$3,data!$Y15:$AB15,0)),\"\",IFERROR(HYPERLINK(showDetails(INDEX(data!$S15:$V15,MATCH(view!AK$3,data!$Y15:$AB15,0)),AK17),\"●\"),\"●\"))","v":""},{"$f":"IF(ISERROR(MATCH(view!AL$3,data!$Y15:$AB15,0)),\"\",IFERROR(HYPERLINK(showDetails(INDEX(data!$S15:$V15,MATCH(view!AL$3,data!$Y15:$AB15,0)),AL17),\"●\"),\"●\"))","v":""},{"$f":"IF(ISERROR(MATCH(view!AM$3,data!$Y15:$AB15,0)),\"\",IFERROR(HYPERLINK(showDetails(INDEX(data!$S15:$V15,MATCH(view!AM$3,data!$Y15:$AB15,0)),AM17),\"●\"),\"●\"))","v":""},{"$f":"IF(ISERROR(MATCH(view!AN$3,data!$Y15:$AB15,0)),\"\",IFERROR(HYPERLINK(showDetails(INDEX(data!$S15:$V15,MATCH(view!AN$3,data!$Y15:$AB15,0)),AN17),\"●\"),\"●\"))","v":""},{"$f":"IF(ISERROR(MATCH(view!AO$3,data!$Y15:$AB15,0)),\"\",IFERROR(HYPERLINK(showDetails(INDEX(data!$S15:$V15,MATCH(view!AO$3,data!$Y15:$AB15,0)),AO17),\"●\"),\"●\"))","v":""},{"$f":"IF(ISERROR(MATCH(view!AP$3,data!$Y15:$AB15,0)),\"\",IFERROR(HYPERLINK(showDetails(INDEX(data!$S15:$V15,MATCH(view!AP$3,data!$Y15:$AB15,0)),AP17),\"●\"),\"●\"))","v":""},{"$f":"IF(ISERROR(MATCH(view!AQ$3,data!$Y15:$AB15,0)),\"\",IFERROR(HYPERLINK(showDetails(INDEX(data!$S15:$V15,MATCH(view!AQ$3,data!$Y15:$AB15,0)),AQ17),\"●\"),\"●\"))","v":""},{"$f":"IF(ISERROR(MATCH(view!AR$3,data!$Y15:$AB15,0)),\"\",IFERROR(HYPERLINK(showDetails(INDEX(data!$S15:$V15,MATCH(view!AR$3,data!$Y15:$AB15,0)),AR17),\"●\"),\"●\"))","v":""},{"$f":"IF(ISERROR(MATCH(view!AS$3,data!$Y15:$AB15,0)),\"\",IFERROR(HYPERLINK(showDetails(INDEX(data!$S15:$V15,MATCH(view!AS$3,data!$Y15:$AB15,0)),AS17),\"●\"),\"●\"))","v":""},{"$f":"IF(ISERROR(MATCH(view!AT$3,data!$Y15:$AB15,0)),\"\",IFERROR(HYPERLINK(showDetails(INDEX(data!$S15:$V15,MATCH(view!AT$3,data!$Y15:$AB15,0)),AT17),\"●\"),\"●\"))","v":""},{"$f":"IF(ISERROR(MATCH(view!AU$3,data!$Y15:$AB15,0)),\"\",IFERROR(HYPERLINK(showDetails(INDEX(data!$S15:$V15,MATCH(view!AU$3,data!$Y15:$AB15,0)),AU17),\"●\"),\"●\"))","v":""},{"$f":"IF(ISERROR(MATCH(view!AV$3,data!$Y15:$AB15,0)),\"\",IFERROR(HYPERLINK(showDetails(INDEX(data!$S15:$V15,MATCH(view!AV$3,data!$Y15:$AB15,0)),AV17),\"●\"),\"●\"))","v":""},{"$f":"IF(ISERROR(MATCH(view!AW$3,data!$Y15:$AB15,0)),\"\",IFERROR(HYPERLINK(showDetails(INDEX(data!$S15:$V15,MATCH(view!AW$3,data!$Y15:$AB15,0)),AW17),\"●\"),\"●\"))","v":""},{"$f":"IF(ISERROR(MATCH(view!AX$3,data!$Y15:$AB15,0)),\"\",IFERROR(HYPERLINK(showDetails(INDEX(data!$S15:$V15,MATCH(view!AX$3,data!$Y15:$AB15,0)),AX17),\"●\"),\"●\"))","v":""},{"$f":"IF(ISERROR(MATCH(view!AY$3,data!$Y15:$AB15,0)),\"\",IFERROR(HYPERLINK(showDetails(INDEX(data!$S15:$V15,MATCH(view!AY$3,data!$Y15:$AB15,0)),AY17),\"●\"),\"●\"))","v":""},{"$f":"IF(ISERROR(MATCH(view!AZ$3,data!$Y15:$AB15,0)),\"\",IFERROR(HYPERLINK(showDetails(INDEX(data!$S15:$V15,MATCH(view!AZ$3,data!$Y15:$AB15,0)),AZ17),\"●\"),\"●\"))","v":""},{"$f":"IF(ISERROR(MATCH(view!BA$3,data!$Y15:$AB15,0)),\"\",IFERROR(HYPERLINK(showDetails(INDEX(data!$S15:$V15,MATCH(view!BA$3,data!$Y15:$AB15,0)),BA17),\"●\"),\"●\"))","v":""},{"$f":"IF(ISERROR(MATCH(view!BB$3,data!$Y15:$AB15,0)),\"\",IFERROR(HYPERLINK(showDetails(INDEX(data!$S15:$V15,MATCH(view!BB$3,data!$Y15:$AB15,0)),BB17),\"●\"),\"●\"))","v":""},{"$f":"IF(ISERROR(MATCH(view!BC$3,data!$Y15:$AB15,0)),\"\",IFERROR(HYPERLINK(showDetails(INDEX(data!$S15:$V15,MATCH(view!BC$3,data!$Y15:$AB15,0)),BC17),\"●\"),\"●\"))","v":""},{"$f":"IF(ISERROR(MATCH(view!BD$3,data!$Y15:$AB15,0)),\"\",IFERROR(HYPERLINK(showDetails(INDEX(data!$S15:$V15,MATCH(view!BD$3,data!$Y15:$AB15,0)),BD17),\"●\"),\"●\"))","v":""},{"$f":"IF(ISERROR(MATCH(view!BE$3,data!$Y15:$AB15,0)),\"\",IFERROR(HYPERLINK(showDetails(INDEX(data!$S15:$V15,MATCH(view!BE$3,data!$Y15:$AB15,0)),BE17),\"●\"),\"●\"))","v":""},{"$f":"IF(ISERROR(MATCH(view!BF$3,data!$Y15:$AB15,0)),\"\",IFERROR(HYPERLINK(showDetails(INDEX(data!$S15:$V15,MATCH(view!BF$3,data!$Y15:$AB15,0)),BF17),\"●\"),\"●\"))","v":""},{"$f":"IF(ISERROR(MATCH(view!BG$3,data!$Y15:$AB15,0)),\"\",IFERROR(HYPERLINK(showDetails(INDEX(data!$S15:$V15,MATCH(view!BG$3,data!$Y15:$AB15,0)),BG17),\"●\"),\"●\"))","v":""},{"$f":"IF(ISERROR(MATCH(view!BH$3,data!$Y15:$AB15,0)),\"\",IFERROR(HYPERLINK(showDetails(INDEX(data!$S15:$V15,MATCH(view!BH$3,data!$Y15:$AB15,0)),BH17),\"●\"),\"●\"))","v":""},{"$f":"IF(ISERROR(MATCH(view!BI$3,data!$Y15:$AB15,0)),\"\",IFERROR(HYPERLINK(showDetails(INDEX(data!$S15:$V15,MATCH(view!BI$3,data!$Y15:$AB15,0)),BI17),\"●\"),\"●\"))","v":""},{"$f":"IF(ISERROR(MATCH(view!BJ$3,data!$Y15:$AB15,0)),\"\",IFERROR(HYPERLINK(showDetails(INDEX(data!$S15:$V15,MATCH(view!BJ$3,data!$Y15:$AB15,0)),BJ17),\"●\"),\"●\"))","v":""},{"$f":"IF(ISERROR(MATCH(view!BK$3,data!$Y15:$AB15,0)),\"\",IFERROR(HYPERLINK(showDetails(INDEX(data!$S15:$V15,MATCH(view!BK$3,data!$Y15:$AB15,0)),BK17),\"●\"),\"●\"))","v":""},{"$f":"IF(ISERROR(MATCH(view!BL$3,data!$Y15:$AB15,0)),\"\",IFERROR(HYPERLINK(showDetails(INDEX(data!$S15:$V15,MATCH(view!BL$3,data!$Y15:$AB15,0)),BL17),\"●\"),\"●\"))","v":""},{"$f":"IF(ISERROR(MATCH(view!BM$3,data!$Y15:$AB15,0)),\"\",IFERROR(HYPERLINK(showDetails(INDEX(data!$S15:$V15,MATCH(view!BM$3,data!$Y15:$AB15,0)),BM17),\"●\"),\"●\"))","v":""},{"$f":"IF(ISERROR(MATCH(view!BN$3,data!$Y15:$AB15,0)),\"\",IFERROR(HYPERLINK(showDetails(INDEX(data!$S15:$V15,MATCH(view!BN$3,data!$Y15:$AB15,0)),BN17),\"●\"),\"●\"))","v":""},{"$f":"IF(ISERROR(MATCH(view!BO$3,data!$Y15:$AB15,0)),\"\",IFERROR(HYPERLINK(showDetails(INDEX(data!$S15:$V15,MATCH(view!BO$3,data!$Y15:$AB15,0)),BO17),\"●\"),\"●\"))","v":""},{"$f":"IF(ISERROR(MATCH(view!BP$3,data!$Y15:$AB15,0)),\"\",IFERROR(HYPERLINK(showDetails(INDEX(data!$S15:$V15,MATCH(view!BP$3,data!$Y15:$AB15,0)),BP17),\"●\"),\"●\"))","v":""},{"$f":"IF(ISERROR(MATCH(view!BQ$3,data!$Y15:$AB15,0)),\"\",IFERROR(HYPERLINK(showDetails(INDEX(data!$S15:$V15,MATCH(view!BQ$3,data!$Y15:$AB15,0)),BQ17),\"●\"),\"●\"))","v":""},{"$f":"IF(ISERROR(MATCH(view!BR$3,data!$Y15:$AB15,0)),\"\",IFERROR(HYPERLINK(showDetails(INDEX(data!$S15:$V15,MATCH(view!BR$3,data!$Y15:$AB15,0)),BR17),\"●\"),\"●\"))","v":""},{"$f":"IF(ISERROR(MATCH(view!BS$3,data!$Y15:$AB15,0)),\"\",IFERROR(HYPERLINK(showDetails(INDEX(data!$S15:$V15,MATCH(view!BS$3,data!$Y15:$AB15,0)),BS17),\"●\"),\"●\"))","v":""},{"$f":"IF(ISERROR(MATCH(view!BT$3,data!$Y15:$AB15,0)),\"\",IFERROR(HYPERLINK(showDetails(INDEX(data!$S15:$V15,MATCH(view!BT$3,data!$Y15:$AB15,0)),BT17),\"●\"),\"●\"))","v":""},{"$f":"IF(ISERROR(MATCH(view!BU$3,data!$Y15:$AB15,0)),\"\",IFERROR(HYPERLINK(showDetails(INDEX(data!$S15:$V15,MATCH(view!BU$3,data!$Y15:$AB15,0)),BU17),\"●\"),\"●\"))","v":""},{"$f":"IF(ISERROR(MATCH(view!BV$3,data!$Y15:$AB15,0)),\"\",IFERROR(HYPERLINK(showDetails(INDEX(data!$S15:$V15,MATCH(view!BV$3,data!$Y15:$AB15,0)),BV17),\"●\"),\"●\"))","v":""},{"$f":"IF(ISERROR(MATCH(view!BW$3,data!$Y15:$AB15,0)),\"\",IFERROR(HYPERLINK(showDetails(INDEX(data!$S15:$V15,MATCH(view!BW$3,data!$Y15:$AB15,0)),BW17),\"●\"),\"●\"))","v":""},{"$f":"IF(ISERROR(MATCH(view!BX$3,data!$Y15:$AB15,0)),\"\",IFERROR(HYPERLINK(showDetails(INDEX(data!$S15:$V15,MATCH(view!BX$3,data!$Y15:$AB15,0)),BX17),\"●\"),\"●\"))","v":""},{"$f":"IF(ISERROR(MATCH(view!BY$3,data!$Y15:$AB15,0)),\"\",IFERROR(HYPERLINK(showDetails(INDEX(data!$S15:$V15,MATCH(view!BY$3,data!$Y15:$AB15,0)),BY17),\"●\"),\"●\"))","v":""},{"$f":"IF(ISERROR(MATCH(view!BZ$3,data!$Y15:$AB15,0)),\"\",IFERROR(HYPERLINK(showDetails(INDEX(data!$S15:$V15,MATCH(view!BZ$3,data!$Y15:$AB15,0)),BZ17),\"●\"),\"●\"))","v":""},{"$f":"IF(ISERROR(MATCH(view!CA$3,data!$Y15:$AB15,0)),\"\",IFERROR(HYPERLINK(showDetails(INDEX(data!$S15:$V15,MATCH(view!CA$3,data!$Y15:$AB15,0)),CA17),\"●\"),\"●\"))","v":""},{"$f":"IF(ISERROR(MATCH(view!CB$3,data!$Y15:$AB15,0)),\"\",IFERROR(HYPERLINK(showDetails(INDEX(data!$S15:$V15,MATCH(view!CB$3,data!$Y15:$AB15,0)),CB17),\"●\"),\"●\"))","v":""},{"$f":"IF(ISERROR(MATCH(view!CC$3,data!$Y15:$AB15,0)),\"\",IFERROR(HYPERLINK(showDetails(INDEX(data!$S15:$V15,MATCH(view!CC$3,data!$Y15:$AB15,0)),CC17),\"●\"),\"●\"))","v":""},{"$f":"IF(ISERROR(MATCH(view!CD$3,data!$Y15:$AB15,0)),\"\",IFERROR(HYPERLINK(showDetails(INDEX(data!$S15:$V15,MATCH(view!CD$3,data!$Y15:$AB15,0)),CD17),\"●\"),\"●\"))","v":""},{"$f":"IF(ISERROR(MATCH(view!CE$3,data!$Y15:$AB15,0)),\"\",IFERROR(HYPERLINK(showDetails(INDEX(data!$S15:$V15,MATCH(view!CE$3,data!$Y15:$AB15,0)),CE17),\"●\"),\"●\"))","v":""},{"$f":"IF(ISERROR(MATCH(view!CF$3,data!$Y15:$AB15,0)),\"\",IFERROR(HYPERLINK(showDetails(INDEX(data!$S15:$V15,MATCH(view!CF$3,data!$Y15:$AB15,0)),CF17),\"●\"),\"●\"))","v":""},{"$f":"IF(ISERROR(MATCH(view!CG$3,data!$Y15:$AB15,0)),\"\",IFERROR(HYPERLINK(showDetails(INDEX(data!$S15:$V15,MATCH(view!CG$3,data!$Y15:$AB15,0)),CG17),\"●\"),\"●\"))","v":""},{"$f":"IF(ISERROR(MATCH(view!CH$3,data!$Y15:$AB15,0)),\"\",IFERROR(HYPERLINK(showDetails(INDEX(data!$S15:$V15,MATCH(view!CH$3,data!$Y15:$AB15,0)),CH17),\"●\"),\"●\"))","v":""},{"$f":"IF(ISERROR(MATCH(view!CI$3,data!$Y15:$AB15,0)),\"\",IFERROR(HYPERLINK(showDetails(INDEX(data!$S15:$V15,MATCH(view!CI$3,data!$Y15:$AB15,0)),CI17),\"●\"),\"●\"))","v":""},{"$f":"IF(ISERROR(MATCH(view!CJ$3,data!$Y15:$AB15,0)),\"\",IFERROR(HYPERLINK(showDetails(INDEX(data!$S15:$V15,MATCH(view!CJ$3,data!$Y15:$AB15,0)),CJ17),\"●\"),\"●\"))","v":""},{"$f":"IF(ISERROR(MATCH(view!CK$3,data!$Y15:$AB15,0)),\"\",IFERROR(HYPERLINK(showDetails(INDEX(data!$S15:$V15,MATCH(view!CK$3,data!$Y15:$AB15,0)),CK17),\"●\"),\"●\"))","v":""},{"$f":"IF(ISERROR(MATCH(view!CL$3,data!$Y15:$AB15,0)),\"\",IFERROR(HYPERLINK(showDetails(INDEX(data!$S15:$V15,MATCH(view!CL$3,data!$Y15:$AB15,0)),CL17),\"●\"),\"●\"))","v":""},{"$f":"IF(ISERROR(MATCH(view!CM$3,data!$Y15:$AB15,0)),\"\",IFERROR(HYPERLINK(showDetails(INDEX(data!$S15:$V15,MATCH(view!CM$3,data!$Y15:$AB15,0)),CM17),\"●\"),\"●\"))","v":""},{"$f":"IF(ISERROR(MATCH(view!CN$3,data!$Y15:$AB15,0)),\"\",IFERROR(HYPERLINK(showDetails(INDEX(data!$S15:$V15,MATCH(view!CN$3,data!$Y15:$AB15,0)),CN17),\"●\"),\"●\"))","v":"●"},{"$f":"IF(ISERROR(MATCH(view!CO$3,data!$Y15:$AB15,0)),\"\",IFERROR(HYPERLINK(showDetails(INDEX(data!$S15:$V15,MATCH(view!CO$3,data!$Y15:$AB15,0)),CO17),\"●\"),\"●\"))","v":"●"},{"$f":"IF(ISERROR(MATCH(view!CP$3,data!$Y15:$AB15,0)),\"\",IFERROR(HYPERLINK(showDetails(INDEX(data!$S15:$V15,MATCH(view!CP$3,data!$Y15:$AB15,0)),CP17),\"●\"),\"●\"))","v":""},{"$f":"IF(ISERROR(MATCH(view!CQ$3,data!$Y15:$AB15,0)),\"\",IFERROR(HYPERLINK(showDetails(INDEX(data!$S15:$V15,MATCH(view!CQ$3,data!$Y15:$AB15,0)),CQ17),\"●\"),\"●\"))","v":""},{"$f":"IF(ISERROR(MATCH(view!CR$3,data!$Y15:$AB15,0)),\"\",IFERROR(HYPERLINK(showDetails(INDEX(data!$S15:$V15,MATCH(view!CR$3,data!$Y15:$AB15,0)),CR17),\"●\"),\"●\"))","v":""},{"$f":"IF(ISERROR(MATCH(view!CS$3,data!$Y15:$AB15,0)),\"\",IFERROR(HYPERLINK(showDetails(INDEX(data!$S15:$V15,MATCH(view!CS$3,data!$Y15:$AB15,0)),CS17),\"●\"),\"●\"))","v":""},{"$f":"IF(ISERROR(MATCH(view!CT$3,data!$Y15:$AB15,0)),\"\",IFERROR(HYPERLINK(showDetails(INDEX(data!$S15:$V15,MATCH(view!CT$3,data!$Y15:$AB15,0)),CT17),\"●\"),\"●\"))","v":""},{"$f":"IF(ISERROR(MATCH(view!CU$3,data!$Y15:$AB15,0)),\"\",IFERROR(HYPERLINK(showDetails(INDEX(data!$S15:$V15,MATCH(view!CU$3,data!$Y15:$AB15,0)),CU17),\"●\"),\"●\"))","v":""},{"$f":"IF(ISERROR(MATCH(view!CV$3,data!$Y15:$AB15,0)),\"\",IFERROR(HYPERLINK(showDetails(INDEX(data!$S15:$V15,MATCH(view!CV$3,data!$Y15:$AB15,0)),CV17),\"●\"),\"●\"))","v":""},{"$f":"IF(ISERROR(MATCH(view!CW$3,data!$Y15:$AB15,0)),\"\",IFERROR(HYPERLINK(showDetails(INDEX(data!$S15:$V15,MATCH(view!CW$3,data!$Y15:$AB15,0)),CW17),\"●\"),\"●\"))","v":"●"},{"$f":"IF(ISERROR(MATCH(view!CX$3,data!$Y15:$AB15,0)),\"\",IFERROR(HYPERLINK(showDetails(INDEX(data!$S15:$V15,MATCH(view!CX$3,data!$Y15:$AB15,0)),CX17),\"●\"),\"●\"))","v":""},{"$f":"IF(ISERROR(MATCH(view!CY$3,data!$Y15:$AB15,0)),\"\",IFERROR(HYPERLINK(showDetails(INDEX(data!$S15:$V15,MATCH(view!CY$3,data!$Y15:$AB15,0)),CY17),\"●\"),\"●\"))","v":""},{"$f":"IF(ISERROR(MATCH(view!CZ$3,data!$Y15:$AB15,0)),\"\",IFERROR(HYPERLINK(showDetails(INDEX(data!$S15:$V15,MATCH(view!CZ$3,data!$Y15:$AB15,0)),CZ17),\"●\"),\"●\"))","v":""},{"$f":"IF(ISERROR(MATCH(view!DA$3,data!$Y15:$AB15,0)),\"\",IFERROR(HYPERLINK(showDetails(INDEX(data!$S15:$V15,MATCH(view!DA$3,data!$Y15:$AB15,0)),DA17),\"●\"),\"●\"))","v":""},{"$f":"IF(ISERROR(MATCH(view!DB$3,data!$Y15:$AB15,0)),\"\",IFERROR(HYPERLINK(showDetails(INDEX(data!$S15:$V15,MATCH(view!DB$3,data!$Y15:$AB15,0)),DB17),\"●\"),\"●\"))","v":""},{"$f":"IF(ISERROR(MATCH(view!DC$3,data!$Y15:$AB15,0)),\"\",IFERROR(HYPERLINK(showDetails(INDEX(data!$S15:$V15,MATCH(view!DC$3,data!$Y15:$AB15,0)),DC17),\"●\"),\"●\"))","v":""},{"$f":"IF(ISERROR(MATCH(view!DD$3,data!$Y15:$AB15,0)),\"\",IFERROR(HYPERLINK(showDetails(INDEX(data!$S15:$V15,MATCH(view!DD$3,data!$Y15:$AB15,0)),DD17),\"●\"),\"●\"))","v":""},{"$f":"IF(ISERROR(MATCH(view!DE$3,data!$Y15:$AB15,0)),\"\",IFERROR(HYPERLINK(showDetails(INDEX(data!$S15:$V15,MATCH(view!DE$3,data!$Y15:$AB15,0)),DE17),\"●\"),\"●\"))","v":""},{"$f":"IF(ISERROR(MATCH(view!DF$3,data!$Y15:$AB15,0)),\"\",IFERROR(HYPERLINK(showDetails(INDEX(data!$S15:$V15,MATCH(view!DF$3,data!$Y15:$AB15,0)),DF17),\"●\"),\"●\"))","v":""},{"$f":"IF(ISERROR(MATCH(view!DG$3,data!$Y15:$AB15,0)),\"\",IFERROR(HYPERLINK(showDetails(INDEX(data!$S15:$V15,MATCH(view!DG$3,data!$Y15:$AB15,0)),DG17),\"●\"),\"●\"))","v":""},{"$f":"IF(ISERROR(MATCH(view!DH$3,data!$Y15:$AB15,0)),\"\",IFERROR(HYPERLINK(showDetails(INDEX(data!$S15:$V15,MATCH(view!DH$3,data!$Y15:$AB15,0)),DH17),\"●\"),\"●\"))","v":""},{"$f":"IF(ISERROR(MATCH(view!DI$3,data!$Y15:$AB15,0)),\"\",IFERROR(HYPERLINK(showDetails(INDEX(data!$S15:$V15,MATCH(view!DI$3,data!$Y15:$AB15,0)),DI17),\"●\"),\"●\"))","v":""},{"$f":"IF(ISERROR(MATCH(view!DJ$3,data!$Y15:$AB15,0)),\"\",IFERROR(HYPERLINK(showDetails(INDEX(data!$S15:$V15,MATCH(view!DJ$3,data!$Y15:$AB15,0)),DJ17),\"●\"),\"●\"))","v":""},{"$f":"IF(ISERROR(MATCH(view!DK$3,data!$Y15:$AB15,0)),\"\",IFERROR(HYPERLINK(showDetails(INDEX(data!$S15:$V15,MATCH(view!DK$3,data!$Y15:$AB15,0)),DK17),\"●\"),\"●\"))","v":""},{"$f":"IF(ISERROR(MATCH(view!DL$3,data!$Y15:$AB15,0)),\"\",IFERROR(HYPERLINK(showDetails(INDEX(data!$S15:$V15,MATCH(view!DL$3,data!$Y15:$AB15,0)),DL17),\"●\"),\"●\"))","v":""},{"$f":"IF(ISERROR(MATCH(view!DM$3,data!$Y15:$AB15,0)),\"\",IFERROR(HYPERLINK(showDetails(INDEX(data!$S15:$V15,MATCH(view!DM$3,data!$Y15:$AB15,0)),DM17),\"●\"),\"●\"))","v":""},{"$f":"IF(ISERROR(MATCH(view!DN$3,data!$Y15:$AB15,0)),\"\",IFERROR(HYPERLINK(showDetails(INDEX(data!$S15:$V15,MATCH(view!DN$3,data!$Y15:$AB15,0)),DN17),\"●\"),\"●\"))","v":""},{"$f":"IF(ISERROR(MATCH(view!DO$3,data!$Y15:$AB15,0)),\"\",IFERROR(HYPERLINK(showDetails(INDEX(data!$S15:$V15,MATCH(view!DO$3,data!$Y15:$AB15,0)),DO17),\"●\"),\"●\"))","v":""},{"$f":"IF(ISERROR(MATCH(view!DP$3,data!$Y15:$AB15,0)),\"\",IFERROR(HYPERLINK(showDetails(INDEX(data!$S15:$V15,MATCH(view!DP$3,data!$Y15:$AB15,0)),DP17),\"●\"),\"●\"))","v":""},{"$f":"IF(ISERROR(MATCH(view!DQ$3,data!$Y15:$AB15,0)),\"\",IFERROR(HYPERLINK(showDetails(INDEX(data!$S15:$V15,MATCH(view!DQ$3,data!$Y15:$AB15,0)),DQ17),\"●\"),\"●\"))","v":""},{"$f":"IF(ISERROR(MATCH(view!DR$3,data!$Y15:$AB15,0)),\"\",IFERROR(HYPERLINK(showDetails(INDEX(data!$S15:$V15,MATCH(view!DR$3,data!$Y15:$AB15,0)),DR17),\"●\"),\"●\"))","v":""},{"$f":"IF(ISERROR(MATCH(view!DS$3,data!$Y15:$AB15,0)),\"\",IFERROR(HYPERLINK(showDetails(INDEX(data!$S15:$V15,MATCH(view!DS$3,data!$Y15:$AB15,0)),DS17),\"●\"),\"●\"))","v":""},{"$f":"INDEX(lstYears,A17) &\" - \"&INDEX(data!$W$3:$W$30,A17)","v":"1964 - Tokyo"}]
[14,null,{"$f":"IF(ISERROR(MATCH(view!C$3,data!$Y16:$AB16,0)),\"\",IFERROR(HYPERLINK(showDetails(INDEX(data!$S16:$V16,MATCH(view!C$3,data!$Y16:$AB16,0)),C18),\"●\"),\"●\"))","v":""},{"$f":"IF(ISERROR(MATCH(view!D$3,data!$Y16:$AB16,0)),\"\",IFERROR(HYPERLINK(showDetails(INDEX(data!$S16:$V16,MATCH(view!D$3,data!$Y16:$AB16,0)),D18),\"●\"),\"●\"))","v":""},{"$f":"IF(ISERROR(MATCH(view!E$3,data!$Y16:$AB16,0)),\"\",IFERROR(HYPERLINK(showDetails(INDEX(data!$S16:$V16,MATCH(view!E$3,data!$Y16:$AB16,0)),E18),\"●\"),\"●\"))","v":""},{"$f":"IF(ISERROR(MATCH(view!F$3,data!$Y16:$AB16,0)),\"\",IFERROR(HYPERLINK(showDetails(INDEX(data!$S16:$V16,MATCH(view!F$3,data!$Y16:$AB16,0)),F18),\"●\"),\"●\"))","v":""},{"$f":"IF(ISERROR(MATCH(view!G$3,data!$Y16:$AB16,0)),\"\",IFERROR(HYPERLINK(showDetails(INDEX(data!$S16:$V16,MATCH(view!G$3,data!$Y16:$AB16,0)),G18),\"●\"),\"●\"))","v":""},{"$f":"IF(ISERROR(MATCH(view!H$3,data!$Y16:$AB16,0)),\"\",IFERROR(HYPERLINK(showDetails(INDEX(data!$S16:$V16,MATCH(view!H$3,data!$Y16:$AB16,0)),H18),\"●\"),\"●\"))","v":""},{"$f":"IF(ISERROR(MATCH(view!I$3,data!$Y16:$AB16,0)),\"\",IFERROR(HYPERLINK(showDetails(INDEX(data!$S16:$V16,MATCH(view!I$3,data!$Y16:$AB16,0)),I18),\"●\"),\"●\"))","v":""},{"$f":"IF(ISERROR(MATCH(view!J$3,data!$Y16:$AB16,0)),\"\",IFERROR(HYPERLINK(showDetails(INDEX(data!$S16:$V16,MATCH(view!J$3,data!$Y16:$AB16,0)),J18),\"●\"),\"●\"))","v":""},{"$f":"IF(ISERROR(MATCH(view!K$3,data!$Y16:$AB16,0)),\"\",IFERROR(HYPERLINK(showDetails(INDEX(data!$S16:$V16,MATCH(view!K$3,data!$Y16:$AB16,0)),K18),\"●\"),\"●\"))","v":""},{"$f":"IF(ISERROR(MATCH(view!L$3,data!$Y16:$AB16,0)),\"\",IFERROR(HYPERLINK(showDetails(INDEX(data!$S16:$V16,MATCH(view!L$3,data!$Y16:$AB16,0)),L18),\"●\"),\"●\"))","v":""},{"$f":"IF(ISERROR(MATCH(view!M$3,data!$Y16:$AB16,0)),\"\",IFERROR(HYPERLINK(showDetails(INDEX(data!$S16:$V16,MATCH(view!M$3,data!$Y16:$AB16,0)),M18),\"●\"),\"●\"))","v":""},{"$f":"IF(ISERROR(MATCH(view!N$3,data!$Y16:$AB16,0)),\"\",IFERROR(HYPERLINK(showDetails(INDEX(data!$S16:$V16,MATCH(view!N$3,data!$Y16:$AB16,0)),N18),\"●\"),\"●\"))","v":""},{"$f":"IF(ISERROR(MATCH(view!O$3,data!$Y16:$AB16,0)),\"\",IFERROR(HYPERLINK(showDetails(INDEX(data!$S16:$V16,MATCH(view!O$3,data!$Y16:$AB16,0)),O18),\"●\"),\"●\"))","v":""},{"$f":"IF(ISERROR(MATCH(view!P$3,data!$Y16:$AB16,0)),\"\",IFERROR(HYPERLINK(showDetails(INDEX(data!$S16:$V16,MATCH(view!P$3,data!$Y16:$AB16,0)),P18),\"●\"),\"●\"))","v":""},{"$f":"IF(ISERROR(MATCH(view!Q$3,data!$Y16:$AB16,0)),\"\",IFERROR(HYPERLINK(showDetails(INDEX(data!$S16:$V16,MATCH(view!Q$3,data!$Y16:$AB16,0)),Q18),\"●\"),\"●\"))","v":""},{"$f":"IF(ISERROR(MATCH(view!R$3,data!$Y16:$AB16,0)),\"\",IFERROR(HYPERLINK(showDetails(INDEX(data!$S16:$V16,MATCH(view!R$3,data!$Y16:$AB16,0)),R18),\"●\"),\"●\"))","v":""},{"$f":"IF(ISERROR(MATCH(view!S$3,data!$Y16:$AB16,0)),\"\",IFERROR(HYPERLINK(showDetails(INDEX(data!$S16:$V16,MATCH(view!S$3,data!$Y16:$AB16,0)),S18),\"●\"),\"●\"))","v":""},{"$f":"IF(ISERROR(MATCH(view!T$3,data!$Y16:$AB16,0)),\"\",IFERROR(HYPERLINK(showDetails(INDEX(data!$S16:$V16,MATCH(view!T$3,data!$Y16:$AB16,0)),T18),\"●\"),\"●\"))","v":""},{"$f":"IF(ISERROR(MATCH(view!U$3,data!$Y16:$AB16,0)),\"\",IFERROR(HYPERLINK(showDetails(INDEX(data!$S16:$V16,MATCH(view!U$3,data!$Y16:$AB16,0)),U18),\"●\"),\"●\"))","v":""},{"$f":"IF(ISERROR(MATCH(view!V$3,data!$Y16:$AB16,0)),\"\",IFERROR(HYPERLINK(showDetails(INDEX(data!$S16:$V16,MATCH(view!V$3,data!$Y16:$AB16,0)),V18),\"●\"),\"●\"))","v":""},{"$f":"IF(ISERROR(MATCH(view!W$3,data!$Y16:$AB16,0)),\"\",IFERROR(HYPERLINK(showDetails(INDEX(data!$S16:$V16,MATCH(view!W$3,data!$Y16:$AB16,0)),W18),\"●\"),\"●\"))","v":""},{"$f":"IF(ISERROR(MATCH(view!X$3,data!$Y16:$AB16,0)),\"\",IFERROR(HYPERLINK(showDetails(INDEX(data!$S16:$V16,MATCH(view!X$3,data!$Y16:$AB16,0)),X18),\"●\"),\"●\"))","v":""},{"$f":"IF(ISERROR(MATCH(view!Y$3,data!$Y16:$AB16,0)),\"\",IFERROR(HYPERLINK(showDetails(INDEX(data!$S16:$V16,MATCH(view!Y$3,data!$Y16:$AB16,0)),Y18),\"●\"),\"●\"))","v":""},{"$f":"IF(ISERROR(MATCH(view!Z$3,data!$Y16:$AB16,0)),\"\",IFERROR(HYPERLINK(showDetails(INDEX(data!$S16:$V16,MATCH(view!Z$3,data!$Y16:$AB16,0)),Z18),\"●\"),\"●\"))","v":""},{"$f":"IF(ISERROR(MATCH(view!AA$3,data!$Y16:$AB16,0)),\"\",IFERROR(HYPERLINK(showDetails(INDEX(data!$S16:$V16,MATCH(view!AA$3,data!$Y16:$AB16,0)),AA18),\"●\"),\"●\"))","v":""},{"$f":"IF(ISERROR(MATCH(view!AB$3,data!$Y16:$AB16,0)),\"\",IFERROR(HYPERLINK(showDetails(INDEX(data!$S16:$V16,MATCH(view!AB$3,data!$Y16:$AB16,0)),AB18),\"●\"),\"●\"))","v":""},{"$f":"IF(ISERROR(MATCH(view!AC$3,data!$Y16:$AB16,0)),\"\",IFERROR(HYPERLINK(showDetails(INDEX(data!$S16:$V16,MATCH(view!AC$3,data!$Y16:$AB16,0)),AC18),\"●\"),\"●\"))","v":""},{"$f":"IF(ISERROR(MATCH(view!AD$3,data!$Y16:$AB16,0)),\"\",IFERROR(HYPERLINK(showDetails(INDEX(data!$S16:$V16,MATCH(view!AD$3,data!$Y16:$AB16,0)),AD18),\"●\"),\"●\"))","v":""},{"$f":"IF(ISERROR(MATCH(view!AE$3,data!$Y16:$AB16,0)),\"\",IFERROR(HYPERLINK(showDetails(INDEX(data!$S16:$V16,MATCH(view!AE$3,data!$Y16:$AB16,0)),AE18),\"●\"),\"●\"))","v":""},{"$f":"IF(ISERROR(MATCH(view!AF$3,data!$Y16:$AB16,0)),\"\",IFERROR(HYPERLINK(showDetails(INDEX(data!$S16:$V16,MATCH(view!AF$3,data!$Y16:$AB16,0)),AF18),\"●\"),\"●\"))","v":""},{"$f":"IF(ISERROR(MATCH(view!AG$3,data!$Y16:$AB16,0)),\"\",IFERROR(HYPERLINK(showDetails(INDEX(data!$S16:$V16,MATCH(view!AG$3,data!$Y16:$AB16,0)),AG18),\"●\"),\"●\"))","v":""},{"$f":"IF(ISERROR(MATCH(view!AH$3,data!$Y16:$AB16,0)),\"\",IFERROR(HYPERLINK(showDetails(INDEX(data!$S16:$V16,MATCH(view!AH$3,data!$Y16:$AB16,0)),AH18),\"●\"),\"●\"))","v":""},{"$f":"IF(ISERROR(MATCH(view!AI$3,data!$Y16:$AB16,0)),\"\",IFERROR(HYPERLINK(showDetails(INDEX(data!$S16:$V16,MATCH(view!AI$3,data!$Y16:$AB16,0)),AI18),\"●\"),\"●\"))","v":""},{"$f":"IF(ISERROR(MATCH(view!AJ$3,data!$Y16:$AB16,0)),\"\",IFERROR(HYPERLINK(showDetails(INDEX(data!$S16:$V16,MATCH(view!AJ$3,data!$Y16:$AB16,0)),AJ18),\"●\"),\"●\"))","v":""},{"$f":"IF(ISERROR(MATCH(view!AK$3,data!$Y16:$AB16,0)),\"\",IFERROR(HYPERLINK(showDetails(INDEX(data!$S16:$V16,MATCH(view!AK$3,data!$Y16:$AB16,0)),AK18),\"●\"),\"●\"))","v":""},{"$f":"IF(ISERROR(MATCH(view!AL$3,data!$Y16:$AB16,0)),\"\",IFERROR(HYPERLINK(showDetails(INDEX(data!$S16:$V16,MATCH(view!AL$3,data!$Y16:$AB16,0)),AL18),\"●\"),\"●\"))","v":""},{"$f":"IF(ISERROR(MATCH(view!AM$3,data!$Y16:$AB16,0)),\"\",IFERROR(HYPERLINK(showDetails(INDEX(data!$S16:$V16,MATCH(view!AM$3,data!$Y16:$AB16,0)),AM18),\"●\"),\"●\"))","v":""},{"$f":"IF(ISERROR(MATCH(view!AN$3,data!$Y16:$AB16,0)),\"\",IFERROR(HYPERLINK(showDetails(INDEX(data!$S16:$V16,MATCH(view!AN$3,data!$Y16:$AB16,0)),AN18),\"●\"),\"●\"))","v":""},{"$f":"IF(ISERROR(MATCH(view!AO$3,data!$Y16:$AB16,0)),\"\",IFERROR(HYPERLINK(showDetails(INDEX(data!$S16:$V16,MATCH(view!AO$3,data!$Y16:$AB16,0)),AO18),\"●\"),\"●\"))","v":""},{"$f":"IF(ISERROR(MATCH(view!AP$3,data!$Y16:$AB16,0)),\"\",IFERROR(HYPERLINK(showDetails(INDEX(data!$S16:$V16,MATCH(view!AP$3,data!$Y16:$AB16,0)),AP18),\"●\"),\"●\"))","v":""},{"$f":"IF(ISERROR(MATCH(view!AQ$3,data!$Y16:$AB16,0)),\"\",IFERROR(HYPERLINK(showDetails(INDEX(data!$S16:$V16,MATCH(view!AQ$3,data!$Y16:$AB16,0)),AQ18),\"●\"),\"●\"))","v":""},{"$f":"IF(ISERROR(MATCH(view!AR$3,data!$Y16:$AB16,0)),\"\",IFERROR(HYPERLINK(showDetails(INDEX(data!$S16:$V16,MATCH(view!AR$3,data!$Y16:$AB16,0)),AR18),\"●\"),\"●\"))","v":""},{"$f":"IF(ISERROR(MATCH(view!AS$3,data!$Y16:$AB16,0)),\"\",IFERROR(HYPERLINK(showDetails(INDEX(data!$S16:$V16,MATCH(view!AS$3,data!$Y16:$AB16,0)),AS18),\"●\"),\"●\"))","v":""},{"$f":"IF(ISERROR(MATCH(view!AT$3,data!$Y16:$AB16,0)),\"\",IFERROR(HYPERLINK(showDetails(INDEX(data!$S16:$V16,MATCH(view!AT$3,data!$Y16:$AB16,0)),AT18),\"●\"),\"●\"))","v":""},{"$f":"IF(ISERROR(MATCH(view!AU$3,data!$Y16:$AB16,0)),\"\",IFERROR(HYPERLINK(showDetails(INDEX(data!$S16:$V16,MATCH(view!AU$3,data!$Y16:$AB16,0)),AU18),\"●\"),\"●\"))","v":""},{"$f":"IF(ISERROR(MATCH(view!AV$3,data!$Y16:$AB16,0)),\"\",IFERROR(HYPERLINK(showDetails(INDEX(data!$S16:$V16,MATCH(view!AV$3,data!$Y16:$AB16,0)),AV18),\"●\"),\"●\"))","v":""},{"$f":"IF(ISERROR(MATCH(view!AW$3,data!$Y16:$AB16,0)),\"\",IFERROR(HYPERLINK(showDetails(INDEX(data!$S16:$V16,MATCH(view!AW$3,data!$Y16:$AB16,0)),AW18),\"●\"),\"●\"))","v":""},{"$f":"IF(ISERROR(MATCH(view!AX$3,data!$Y16:$AB16,0)),\"\",IFERROR(HYPERLINK(showDetails(INDEX(data!$S16:$V16,MATCH(view!AX$3,data!$Y16:$AB16,0)),AX18),\"●\"),\"●\"))","v":""},{"$f":"IF(ISERROR(MATCH(view!AY$3,data!$Y16:$AB16,0)),\"\",IFERROR(HYPERLINK(showDetails(INDEX(data!$S16:$V16,MATCH(view!AY$3,data!$Y16:$AB16,0)),AY18),\"●\"),\"●\"))","v":""},{"$f":"IF(ISERROR(MATCH(view!AZ$3,data!$Y16:$AB16,0)),\"\",IFERROR(HYPERLINK(showDetails(INDEX(data!$S16:$V16,MATCH(view!AZ$3,data!$Y16:$AB16,0)),AZ18),\"●\"),\"●\"))","v":""},{"$f":"IF(ISERROR(MATCH(view!BA$3,data!$Y16:$AB16,0)),\"\",IFERROR(HYPERLINK(showDetails(INDEX(data!$S16:$V16,MATCH(view!BA$3,data!$Y16:$AB16,0)),BA18),\"●\"),\"●\"))","v":""},{"$f":"IF(ISERROR(MATCH(view!BB$3,data!$Y16:$AB16,0)),\"\",IFERROR(HYPERLINK(showDetails(INDEX(data!$S16:$V16,MATCH(view!BB$3,data!$Y16:$AB16,0)),BB18),\"●\"),\"●\"))","v":""},{"$f":"IF(ISERROR(MATCH(view!BC$3,data!$Y16:$AB16,0)),\"\",IFERROR(HYPERLINK(showDetails(INDEX(data!$S16:$V16,MATCH(view!BC$3,data!$Y16:$AB16,0)),BC18),\"●\"),\"●\"))","v":""},{"$f":"IF(ISERROR(MATCH(view!BD$3,data!$Y16:$AB16,0)),\"\",IFERROR(HYPERLINK(showDetails(INDEX(data!$S16:$V16,MATCH(view!BD$3,data!$Y16:$AB16,0)),BD18),\"●\"),\"●\"))","v":""},{"$f":"IF(ISERROR(MATCH(view!BE$3,data!$Y16:$AB16,0)),\"\",IFERROR(HYPERLINK(showDetails(INDEX(data!$S16:$V16,MATCH(view!BE$3,data!$Y16:$AB16,0)),BE18),\"●\"),\"●\"))","v":""},{"$f":"IF(ISERROR(MATCH(view!BF$3,data!$Y16:$AB16,0)),\"\",IFERROR(HYPERLINK(showDetails(INDEX(data!$S16:$V16,MATCH(view!BF$3,data!$Y16:$AB16,0)),BF18),\"●\"),\"●\"))","v":""},{"$f":"IF(ISERROR(MATCH(view!BG$3,data!$Y16:$AB16,0)),\"\",IFERROR(HYPERLINK(showDetails(INDEX(data!$S16:$V16,MATCH(view!BG$3,data!$Y16:$AB16,0)),BG18),\"●\"),\"●\"))","v":""},{"$f":"IF(ISERROR(MATCH(view!BH$3,data!$Y16:$AB16,0)),\"\",IFERROR(HYPERLINK(showDetails(INDEX(data!$S16:$V16,MATCH(view!BH$3,data!$Y16:$AB16,0)),BH18),\"●\"),\"●\"))","v":""},{"$f":"IF(ISERROR(MATCH(view!BI$3,data!$Y16:$AB16,0)),\"\",IFERROR(HYPERLINK(showDetails(INDEX(data!$S16:$V16,MATCH(view!BI$3,data!$Y16:$AB16,0)),BI18),\"●\"),\"●\"))","v":""},{"$f":"IF(ISERROR(MATCH(view!BJ$3,data!$Y16:$AB16,0)),\"\",IFERROR(HYPERLINK(showDetails(INDEX(data!$S16:$V16,MATCH(view!BJ$3,data!$Y16:$AB16,0)),BJ18),\"●\"),\"●\"))","v":""},{"$f":"IF(ISERROR(MATCH(view!BK$3,data!$Y16:$AB16,0)),\"\",IFERROR(HYPERLINK(showDetails(INDEX(data!$S16:$V16,MATCH(view!BK$3,data!$Y16:$AB16,0)),BK18),\"●\"),\"●\"))","v":""},{"$f":"IF(ISERROR(MATCH(view!BL$3,data!$Y16:$AB16,0)),\"\",IFERROR(HYPERLINK(showDetails(INDEX(data!$S16:$V16,MATCH(view!BL$3,data!$Y16:$AB16,0)),BL18),\"●\"),\"●\"))","v":""},{"$f":"IF(ISERROR(MATCH(view!BM$3,data!$Y16:$AB16,0)),\"\",IFERROR(HYPERLINK(showDetails(INDEX(data!$S16:$V16,MATCH(view!BM$3,data!$Y16:$AB16,0)),BM18),\"●\"),\"●\"))","v":""},{"$f":"IF(ISERROR(MATCH(view!BN$3,data!$Y16:$AB16,0)),\"\",IFERROR(HYPERLINK(showDetails(INDEX(data!$S16:$V16,MATCH(view!BN$3,data!$Y16:$AB16,0)),BN18),\"●\"),\"●\"))","v":""},{"$f":"IF(ISERROR(MATCH(view!BO$3,data!$Y16:$AB16,0)),\"\",IFERROR(HYPERLINK(showDetails(INDEX(data!$S16:$V16,MATCH(view!BO$3,data!$Y16:$AB16,0)),BO18),\"●\"),\"●\"))","v":""},{"$f":"IF(ISERROR(MATCH(view!BP$3,data!$Y16:$AB16,0)),\"\",IFERROR(HYPERLINK(showDetails(INDEX(data!$S16:$V16,MATCH(view!BP$3,data!$Y16:$AB16,0)),BP18),\"●\"),\"●\"))","v":""},{"$f":"IF(ISERROR(MATCH(view!BQ$3,data!$Y16:$AB16,0)),\"\",IFERROR(HYPERLINK(showDetails(INDEX(data!$S16:$V16,MATCH(view!BQ$3,data!$Y16:$AB16,0)),BQ18),\"●\"),\"●\"))","v":""},{"$f":"IF(ISERROR(MATCH(view!BR$3,data!$Y16:$AB16,0)),\"\",IFERROR(HYPERLINK(showDetails(INDEX(data!$S16:$V16,MATCH(view!BR$3,data!$Y16:$AB16,0)),BR18),\"●\"),\"●\"))","v":""},{"$f":"IF(ISERROR(MATCH(view!BS$3,data!$Y16:$AB16,0)),\"\",IFERROR(HYPERLINK(showDetails(INDEX(data!$S16:$V16,MATCH(view!BS$3,data!$Y16:$AB16,0)),BS18),\"●\"),\"●\"))","v":""},{"$f":"IF(ISERROR(MATCH(view!BT$3,data!$Y16:$AB16,0)),\"\",IFERROR(HYPERLINK(showDetails(INDEX(data!$S16:$V16,MATCH(view!BT$3,data!$Y16:$AB16,0)),BT18),\"●\"),\"●\"))","v":""},{"$f":"IF(ISERROR(MATCH(view!BU$3,data!$Y16:$AB16,0)),\"\",IFERROR(HYPERLINK(showDetails(INDEX(data!$S16:$V16,MATCH(view!BU$3,data!$Y16:$AB16,0)),BU18),\"●\"),\"●\"))","v":""},{"$f":"IF(ISERROR(MATCH(view!BV$3,data!$Y16:$AB16,0)),\"\",IFERROR(HYPERLINK(showDetails(INDEX(data!$S16:$V16,MATCH(view!BV$3,data!$Y16:$AB16,0)),BV18),\"●\"),\"●\"))","v":""},{"$f":"IF(ISERROR(MATCH(view!BW$3,data!$Y16:$AB16,0)),\"\",IFERROR(HYPERLINK(showDetails(INDEX(data!$S16:$V16,MATCH(view!BW$3,data!$Y16:$AB16,0)),BW18),\"●\"),\"●\"))","v":""},{"$f":"IF(ISERROR(MATCH(view!BX$3,data!$Y16:$AB16,0)),\"\",IFERROR(HYPERLINK(showDetails(INDEX(data!$S16:$V16,MATCH(view!BX$3,data!$Y16:$AB16,0)),BX18),\"●\"),\"●\"))","v":""},{"$f":"IF(ISERROR(MATCH(view!BY$3,data!$Y16:$AB16,0)),\"\",IFERROR(HYPERLINK(showDetails(INDEX(data!$S16:$V16,MATCH(view!BY$3,data!$Y16:$AB16,0)),BY18),\"●\"),\"●\"))","v":""},{"$f":"IF(ISERROR(MATCH(view!BZ$3,data!$Y16:$AB16,0)),\"\",IFERROR(HYPERLINK(showDetails(INDEX(data!$S16:$V16,MATCH(view!BZ$3,data!$Y16:$AB16,0)),BZ18),\"●\"),\"●\"))","v":""},{"$f":"IF(ISERROR(MATCH(view!CA$3,data!$Y16:$AB16,0)),\"\",IFERROR(HYPERLINK(showDetails(INDEX(data!$S16:$V16,MATCH(view!CA$3,data!$Y16:$AB16,0)),CA18),\"●\"),\"●\"))","v":""},{"$f":"IF(ISERROR(MATCH(view!CB$3,data!$Y16:$AB16,0)),\"\",IFERROR(HYPERLINK(showDetails(INDEX(data!$S16:$V16,MATCH(view!CB$3,data!$Y16:$AB16,0)),CB18),\"●\"),\"●\"))","v":""},{"$f":"IF(ISERROR(MATCH(view!CC$3,data!$Y16:$AB16,0)),\"\",IFERROR(HYPERLINK(showDetails(INDEX(data!$S16:$V16,MATCH(view!CC$3,data!$Y16:$AB16,0)),CC18),\"●\"),\"●\"))","v":""},{"$f":"IF(ISERROR(MATCH(view!CD$3,data!$Y16:$AB16,0)),\"\",IFERROR(HYPERLINK(showDetails(INDEX(data!$S16:$V16,MATCH(view!CD$3,data!$Y16:$AB16,0)),CD18),\"●\"),\"●\"))","v":""},{"$f":"IF(ISERROR(MATCH(view!CE$3,data!$Y16:$AB16,0)),\"\",IFERROR(HYPERLINK(showDetails(INDEX(data!$S16:$V16,MATCH(view!CE$3,data!$Y16:$AB16,0)),CE18),\"●\"),\"●\"))","v":""},{"$f":"IF(ISERROR(MATCH(view!CF$3,data!$Y16:$AB16,0)),\"\",IFERROR(HYPERLINK(showDetails(INDEX(data!$S16:$V16,MATCH(view!CF$3,data!$Y16:$AB16,0)),CF18),\"●\"),\"●\"))","v":""},{"$f":"IF(ISERROR(MATCH(view!CG$3,data!$Y16:$AB16,0)),\"\",IFERROR(HYPERLINK(showDetails(INDEX(data!$S16:$V16,MATCH(view!CG$3,data!$Y16:$AB16,0)),CG18),\"●\"),\"●\"))","v":"●"},{"$f":"IF(ISERROR(MATCH(view!CH$3,data!$Y16:$AB16,0)),\"\",IFERROR(HYPERLINK(showDetails(INDEX(data!$S16:$V16,MATCH(view!CH$3,data!$Y16:$AB16,0)),CH18),\"●\"),\"●\"))","v":""},{"$f":"IF(ISERROR(MATCH(view!CI$3,data!$Y16:$AB16,0)),\"\",IFERROR(HYPERLINK(showDetails(INDEX(data!$S16:$V16,MATCH(view!CI$3,data!$Y16:$AB16,0)),CI18),\"●\"),\"●\"))","v":""},{"$f":"IF(ISERROR(MATCH(view!CJ$3,data!$Y16:$AB16,0)),\"\",IFERROR(HYPERLINK(showDetails(INDEX(data!$S16:$V16,MATCH(view!CJ$3,data!$Y16:$AB16,0)),CJ18),\"●\"),\"●\"))","v":"●"},{"$f":"IF(ISERROR(MATCH(view!CK$3,data!$Y16:$AB16,0)),\"\",IFERROR(HYPERLINK(showDetails(INDEX(data!$S16:$V16,MATCH(view!CK$3,data!$Y16:$AB16,0)),CK18),\"●\"),\"●\"))","v":"●"},{"$f":"IF(ISERROR(MATCH(view!CL$3,data!$Y16:$AB16,0)),\"\",IFERROR(HYPERLINK(showDetails(INDEX(data!$S16:$V16,MATCH(view!CL$3,data!$Y16:$AB16,0)),CL18),\"●\"),\"●\"))","v":""},{"$f":"IF(ISERROR(MATCH(view!CM$3,data!$Y16:$AB16,0)),\"\",IFERROR(HYPERLINK(showDetails(INDEX(data!$S16:$V16,MATCH(view!CM$3,data!$Y16:$AB16,0)),CM18),\"●\"),\"●\"))","v":""},{"$f":"IF(ISERROR(MATCH(view!CN$3,data!$Y16:$AB16,0)),\"\",IFERROR(HYPERLINK(showDetails(INDEX(data!$S16:$V16,MATCH(view!CN$3,data!$Y16:$AB16,0)),CN18),\"●\"),\"●\"))","v":""},{"$f":"IF(ISERROR(MATCH(view!CO$3,data!$Y16:$AB16,0)),\"\",IFERROR(HYPERLINK(showDetails(INDEX(data!$S16:$V16,MATCH(view!CO$3,data!$Y16:$AB16,0)),CO18),\"●\"),\"●\"))","v":""},{"$f":"IF(ISERROR(MATCH(view!CP$3,data!$Y16:$AB16,0)),\"\",IFERROR(HYPERLINK(showDetails(INDEX(data!$S16:$V16,MATCH(view!CP$3,data!$Y16:$AB16,0)),CP18),\"●\"),\"●\"))","v":""},{"$f":"IF(ISERROR(MATCH(view!CQ$3,data!$Y16:$AB16,0)),\"\",IFERROR(HYPERLINK(showDetails(INDEX(data!$S16:$V16,MATCH(view!CQ$3,data!$Y16:$AB16,0)),CQ18),\"●\"),\"●\"))","v":""},{"$f":"IF(ISERROR(MATCH(view!CR$3,data!$Y16:$AB16,0)),\"\",IFERROR(HYPERLINK(showDetails(INDEX(data!$S16:$V16,MATCH(view!CR$3,data!$Y16:$AB16,0)),CR18),\"●\"),\"●\"))","v":""},{"$f":"IF(ISERROR(MATCH(view!CS$3,data!$Y16:$AB16,0)),\"\",IFERROR(HYPERLINK(showDetails(INDEX(data!$S16:$V16,MATCH(view!CS$3,data!$Y16:$AB16,0)),CS18),\"●\"),\"●\"))","v":""},{"$f":"IF(ISERROR(MATCH(view!CT$3,data!$Y16:$AB16,0)),\"\",IFERROR(HYPERLINK(showDetails(INDEX(data!$S16:$V16,MATCH(view!CT$3,data!$Y16:$AB16,0)),CT18),\"●\"),\"●\"))","v":""},{"$f":"IF(ISERROR(MATCH(view!CU$3,data!$Y16:$AB16,0)),\"\",IFERROR(HYPERLINK(showDetails(INDEX(data!$S16:$V16,MATCH(view!CU$3,data!$Y16:$AB16,0)),CU18),\"●\"),\"●\"))","v":""},{"$f":"IF(ISERROR(MATCH(view!CV$3,data!$Y16:$AB16,0)),\"\",IFERROR(HYPERLINK(showDetails(INDEX(data!$S16:$V16,MATCH(view!CV$3,data!$Y16:$AB16,0)),CV18),\"●\"),\"●\"))","v":""},{"$f":"IF(ISERROR(MATCH(view!CW$3,data!$Y16:$AB16,0)),\"\",IFERROR(HYPERLINK(showDetails(INDEX(data!$S16:$V16,MATCH(view!CW$3,data!$Y16:$AB16,0)),CW18),\"●\"),\"●\"))","v":""},{"$f":"IF(ISERROR(MATCH(view!CX$3,data!$Y16:$AB16,0)),\"\",IFERROR(HYPERLINK(showDetails(INDEX(data!$S16:$V16,MATCH(view!CX$3,data!$Y16:$AB16,0)),CX18),\"●\"),\"●\"))","v":""},{"$f":"IF(ISERROR(MATCH(view!CY$3,data!$Y16:$AB16,0)),\"\",IFERROR(HYPERLINK(showDetails(INDEX(data!$S16:$V16,MATCH(view!CY$3,data!$Y16:$AB16,0)),CY18),\"●\"),\"●\"))","v":""},{"$f":"IF(ISERROR(MATCH(view!CZ$3,data!$Y16:$AB16,0)),\"\",IFERROR(HYPERLINK(showDetails(INDEX(data!$S16:$V16,MATCH(view!CZ$3,data!$Y16:$AB16,0)),CZ18),\"●\"),\"●\"))","v":""},{"$f":"IF(ISERROR(MATCH(view!DA$3,data!$Y16:$AB16,0)),\"\",IFERROR(HYPERLINK(showDetails(INDEX(data!$S16:$V16,MATCH(view!DA$3,data!$Y16:$AB16,0)),DA18),\"●\"),\"●\"))","v":""},{"$f":"IF(ISERROR(MATCH(view!DB$3,data!$Y16:$AB16,0)),\"\",IFERROR(HYPERLINK(showDetails(INDEX(data!$S16:$V16,MATCH(view!DB$3,data!$Y16:$AB16,0)),DB18),\"●\"),\"●\"))","v":""},{"$f":"IF(ISERROR(MATCH(view!DC$3,data!$Y16:$AB16,0)),\"\",IFERROR(HYPERLINK(showDetails(INDEX(data!$S16:$V16,MATCH(view!DC$3,data!$Y16:$AB16,0)),DC18),\"●\"),\"●\"))","v":""},{"$f":"IF(ISERROR(MATCH(view!DD$3,data!$Y16:$AB16,0)),\"\",IFERROR(HYPERLINK(showDetails(INDEX(data!$S16:$V16,MATCH(view!DD$3,data!$Y16:$AB16,0)),DD18),\"●\"),\"●\"))","v":""},{"$f":"IF(ISERROR(MATCH(view!DE$3,data!$Y16:$AB16,0)),\"\",IFERROR(HYPERLINK(showDetails(INDEX(data!$S16:$V16,MATCH(view!DE$3,data!$Y16:$AB16,0)),DE18),\"●\"),\"●\"))","v":""},{"$f":"IF(ISERROR(MATCH(view!DF$3,data!$Y16:$AB16,0)),\"\",IFERROR(HYPERLINK(showDetails(INDEX(data!$S16:$V16,MATCH(view!DF$3,data!$Y16:$AB16,0)),DF18),\"●\"),\"●\"))","v":""},{"$f":"IF(ISERROR(MATCH(view!DG$3,data!$Y16:$AB16,0)),\"\",IFERROR(HYPERLINK(showDetails(INDEX(data!$S16:$V16,MATCH(view!DG$3,data!$Y16:$AB16,0)),DG18),\"●\"),\"●\"))","v":""},{"$f":"IF(ISERROR(MATCH(view!DH$3,data!$Y16:$AB16,0)),\"\",IFERROR(HYPERLINK(showDetails(INDEX(data!$S16:$V16,MATCH(view!DH$3,data!$Y16:$AB16,0)),DH18),\"●\"),\"●\"))","v":""},{"$f":"IF(ISERROR(MATCH(view!DI$3,data!$Y16:$AB16,0)),\"\",IFERROR(HYPERLINK(showDetails(INDEX(data!$S16:$V16,MATCH(view!DI$3,data!$Y16:$AB16,0)),DI18),\"●\"),\"●\"))","v":""},{"$f":"IF(ISERROR(MATCH(view!DJ$3,data!$Y16:$AB16,0)),\"\",IFERROR(HYPERLINK(showDetails(INDEX(data!$S16:$V16,MATCH(view!DJ$3,data!$Y16:$AB16,0)),DJ18),\"●\"),\"●\"))","v":""},{"$f":"IF(ISERROR(MATCH(view!DK$3,data!$Y16:$AB16,0)),\"\",IFERROR(HYPERLINK(showDetails(INDEX(data!$S16:$V16,MATCH(view!DK$3,data!$Y16:$AB16,0)),DK18),\"●\"),\"●\"))","v":""},{"$f":"IF(ISERROR(MATCH(view!DL$3,data!$Y16:$AB16,0)),\"\",IFERROR(HYPERLINK(showDetails(INDEX(data!$S16:$V16,MATCH(view!DL$3,data!$Y16:$AB16,0)),DL18),\"●\"),\"●\"))","v":""},{"$f":"IF(ISERROR(MATCH(view!DM$3,data!$Y16:$AB16,0)),\"\",IFERROR(HYPERLINK(showDetails(INDEX(data!$S16:$V16,MATCH(view!DM$3,data!$Y16:$AB16,0)),DM18),\"●\"),\"●\"))","v":""},{"$f":"IF(ISERROR(MATCH(view!DN$3,data!$Y16:$AB16,0)),\"\",IFERROR(HYPERLINK(showDetails(INDEX(data!$S16:$V16,MATCH(view!DN$3,data!$Y16:$AB16,0)),DN18),\"●\"),\"●\"))","v":""},{"$f":"IF(ISERROR(MATCH(view!DO$3,data!$Y16:$AB16,0)),\"\",IFERROR(HYPERLINK(showDetails(INDEX(data!$S16:$V16,MATCH(view!DO$3,data!$Y16:$AB16,0)),DO18),\"●\"),\"●\"))","v":""},{"$f":"IF(ISERROR(MATCH(view!DP$3,data!$Y16:$AB16,0)),\"\",IFERROR(HYPERLINK(showDetails(INDEX(data!$S16:$V16,MATCH(view!DP$3,data!$Y16:$AB16,0)),DP18),\"●\"),\"●\"))","v":""},{"$f":"IF(ISERROR(MATCH(view!DQ$3,data!$Y16:$AB16,0)),\"\",IFERROR(HYPERLINK(showDetails(INDEX(data!$S16:$V16,MATCH(view!DQ$3,data!$Y16:$AB16,0)),DQ18),\"●\"),\"●\"))","v":""},{"$f":"IF(ISERROR(MATCH(view!DR$3,data!$Y16:$AB16,0)),\"\",IFERROR(HYPERLINK(showDetails(INDEX(data!$S16:$V16,MATCH(view!DR$3,data!$Y16:$AB16,0)),DR18),\"●\"),\"●\"))","v":""},{"$f":"IF(ISERROR(MATCH(view!DS$3,data!$Y16:$AB16,0)),\"\",IFERROR(HYPERLINK(showDetails(INDEX(data!$S16:$V16,MATCH(view!DS$3,data!$Y16:$AB16,0)),DS18),\"●\"),\"●\"))","v":""},{"$f":"INDEX(lstYears,A18) &\" - \"&INDEX(data!$W$3:$W$30,A18)","v":"1960 - Rome"}]
[15,null,{"$f":"IF(ISERROR(MATCH(view!C$3,data!$Y17:$AB17,0)),\"\",IFERROR(HYPERLINK(showDetails(INDEX(data!$S17:$V17,MATCH(view!C$3,data!$Y17:$AB17,0)),C19),\"●\"),\"●\"))","v":""},{"$f":"IF(ISERROR(MATCH(view!D$3,data!$Y17:$AB17,0)),\"\",IFERROR(HYPERLINK(showDetails(INDEX(data!$S17:$V17,MATCH(view!D$3,data!$Y17:$AB17,0)),D19),\"●\"),\"●\"))","v":""},{"$f":"IF(ISERROR(MATCH(view!E$3,data!$Y17:$AB17,0)),\"\",IFERROR(HYPERLINK(showDetails(INDEX(data!$S17:$V17,MATCH(view!E$3,data!$Y17:$AB17,0)),E19),\"●\"),\"●\"))","v":""},{"$f":"IF(ISERROR(MATCH(view!F$3,data!$Y17:$AB17,0)),\"\",IFERROR(HYPERLINK(showDetails(INDEX(data!$S17:$V17,MATCH(view!F$3,data!$Y17:$AB17,0)),F19),\"●\"),\"●\"))","v":""},{"$f":"IF(ISERROR(MATCH(view!G$3,data!$Y17:$AB17,0)),\"\",IFERROR(HYPERLINK(showDetails(INDEX(data!$S17:$V17,MATCH(view!G$3,data!$Y17:$AB17,0)),G19),\"●\"),\"●\"))","v":""},{"$f":"IF(ISERROR(MATCH(view!H$3,data!$Y17:$AB17,0)),\"\",IFERROR(HYPERLINK(showDetails(INDEX(data!$S17:$V17,MATCH(view!H$3,data!$Y17:$AB17,0)),H19),\"●\"),\"●\"))","v":""},{"$f":"IF(ISERROR(MATCH(view!I$3,data!$Y17:$AB17,0)),\"\",IFERROR(HYPERLINK(showDetails(INDEX(data!$S17:$V17,MATCH(view!I$3,data!$Y17:$AB17,0)),I19),\"●\"),\"●\"))","v":""},{"$f":"IF(ISERROR(MATCH(view!J$3,data!$Y17:$AB17,0)),\"\",IFERROR(HYPERLINK(showDetails(INDEX(data!$S17:$V17,MATCH(view!J$3,data!$Y17:$AB17,0)),J19),\"●\"),\"●\"))","v":""},{"$f":"IF(ISERROR(MATCH(view!K$3,data!$Y17:$AB17,0)),\"\",IFERROR(HYPERLINK(showDetails(INDEX(data!$S17:$V17,MATCH(view!K$3,data!$Y17:$AB17,0)),K19),\"●\"),\"●\"))","v":""},{"$f":"IF(ISERROR(MATCH(view!L$3,data!$Y17:$AB17,0)),\"\",IFERROR(HYPERLINK(showDetails(INDEX(data!$S17:$V17,MATCH(view!L$3,data!$Y17:$AB17,0)),L19),\"●\"),\"●\"))","v":""},{"$f":"IF(ISERROR(MATCH(view!M$3,data!$Y17:$AB17,0)),\"\",IFERROR(HYPERLINK(showDetails(INDEX(data!$S17:$V17,MATCH(view!M$3,data!$Y17:$AB17,0)),M19),\"●\"),\"●\"))","v":""},{"$f":"IF(ISERROR(MATCH(view!N$3,data!$Y17:$AB17,0)),\"\",IFERROR(HYPERLINK(showDetails(INDEX(data!$S17:$V17,MATCH(view!N$3,data!$Y17:$AB17,0)),N19),\"●\"),\"●\"))","v":""},{"$f":"IF(ISERROR(MATCH(view!O$3,data!$Y17:$AB17,0)),\"\",IFERROR(HYPERLINK(showDetails(INDEX(data!$S17:$V17,MATCH(view!O$3,data!$Y17:$AB17,0)),O19),\"●\"),\"●\"))","v":""},{"$f":"IF(ISERROR(MATCH(view!P$3,data!$Y17:$AB17,0)),\"\",IFERROR(HYPERLINK(showDetails(INDEX(data!$S17:$V17,MATCH(view!P$3,data!$Y17:$AB17,0)),P19),\"●\"),\"●\"))","v":""},{"$f":"IF(ISERROR(MATCH(view!Q$3,data!$Y17:$AB17,0)),\"\",IFERROR(HYPERLINK(showDetails(INDEX(data!$S17:$V17,MATCH(view!Q$3,data!$Y17:$AB17,0)),Q19),\"●\"),\"●\"))","v":""},{"$f":"IF(ISERROR(MATCH(view!R$3,data!$Y17:$AB17,0)),\"\",IFERROR(HYPERLINK(showDetails(INDEX(data!$S17:$V17,MATCH(view!R$3,data!$Y17:$AB17,0)),R19),\"●\"),\"●\"))","v":""},{"$f":"IF(ISERROR(MATCH(view!S$3,data!$Y17:$AB17,0)),\"\",IFERROR(HYPERLINK(showDetails(INDEX(data!$S17:$V17,MATCH(view!S$3,data!$Y17:$AB17,0)),S19),\"●\"),\"●\"))","v":""},{"$f":"IF(ISERROR(MATCH(view!T$3,data!$Y17:$AB17,0)),\"\",IFERROR(HYPERLINK(showDetails(INDEX(data!$S17:$V17,MATCH(view!T$3,data!$Y17:$AB17,0)),T19),\"●\"),\"●\"))","v":""},{"$f":"IF(ISERROR(MATCH(view!U$3,data!$Y17:$AB17,0)),\"\",IFERROR(HYPERLINK(showDetails(INDEX(data!$S17:$V17,MATCH(view!U$3,data!$Y17:$AB17,0)),U19),\"●\"),\"●\"))","v":""},{"$f":"IF(ISERROR(MATCH(view!V$3,data!$Y17:$AB17,0)),\"\",IFERROR(HYPERLINK(showDetails(INDEX(data!$S17:$V17,MATCH(view!V$3,data!$Y17:$AB17,0)),V19),\"●\"),\"●\"))","v":""},{"$f":"IF(ISERROR(MATCH(view!W$3,data!$Y17:$AB17,0)),\"\",IFERROR(HYPERLINK(showDetails(INDEX(data!$S17:$V17,MATCH(view!W$3,data!$Y17:$AB17,0)),W19),\"●\"),\"●\"))","v":""},{"$f":"IF(ISERROR(MATCH(view!X$3,data!$Y17:$AB17,0)),\"\",IFERROR(HYPERLINK(showDetails(INDEX(data!$S17:$V17,MATCH(view!X$3,data!$Y17:$AB17,0)),X19),\"●\"),\"●\"))","v":""},{"$f":"IF(ISERROR(MATCH(view!Y$3,data!$Y17:$AB17,0)),\"\",IFERROR(HYPERLINK(showDetails(INDEX(data!$S17:$V17,MATCH(view!Y$3,data!$Y17:$AB17,0)),Y19),\"●\"),\"●\"))","v":""},{"$f":"IF(ISERROR(MATCH(view!Z$3,data!$Y17:$AB17,0)),\"\",IFERROR(HYPERLINK(showDetails(INDEX(data!$S17:$V17,MATCH(view!Z$3,data!$Y17:$AB17,0)),Z19),\"●\"),\"●\"))","v":""},{"$f":"IF(ISERROR(MATCH(view!AA$3,data!$Y17:$AB17,0)),\"\",IFERROR(HYPERLINK(showDetails(INDEX(data!$S17:$V17,MATCH(view!AA$3,data!$Y17:$AB17,0)),AA19),\"●\"),\"●\"))","v":""},{"$f":"IF(ISERROR(MATCH(view!AB$3,data!$Y17:$AB17,0)),\"\",IFERROR(HYPERLINK(showDetails(INDEX(data!$S17:$V17,MATCH(view!AB$3,data!$Y17:$AB17,0)),AB19),\"●\"),\"●\"))","v":""},{"$f":"IF(ISERROR(MATCH(view!AC$3,data!$Y17:$AB17,0)),\"\",IFERROR(HYPERLINK(showDetails(INDEX(data!$S17:$V17,MATCH(view!AC$3,data!$Y17:$AB17,0)),AC19),\"●\"),\"●\"))","v":""},{"$f":"IF(ISERROR(MATCH(view!AD$3,data!$Y17:$AB17,0)),\"\",IFERROR(HYPERLINK(showDetails(INDEX(data!$S17:$V17,MATCH(view!AD$3,data!$Y17:$AB17,0)),AD19),\"●\"),\"●\"))","v":""},{"$f":"IF(ISERROR(MATCH(view!AE$3,data!$Y17:$AB17,0)),\"\",IFERROR(HYPERLINK(showDetails(INDEX(data!$S17:$V17,MATCH(view!AE$3,data!$Y17:$AB17,0)),AE19),\"●\"),\"●\"))","v":""},{"$f":"IF(ISERROR(MATCH(view!AF$3,data!$Y17:$AB17,0)),\"\",IFERROR(HYPERLINK(showDetails(INDEX(data!$S17:$V17,MATCH(view!AF$3,data!$Y17:$AB17,0)),AF19),\"●\"),\"●\"))","v":""},{"$f":"IF(ISERROR(MATCH(view!AG$3,data!$Y17:$AB17,0)),\"\",IFERROR(HYPERLINK(showDetails(INDEX(data!$S17:$V17,MATCH(view!AG$3,data!$Y17:$AB17,0)),AG19),\"●\"),\"●\"))","v":""},{"$f":"IF(ISERROR(MATCH(view!AH$3,data!$Y17:$AB17,0)),\"\",IFERROR(HYPERLINK(showDetails(INDEX(data!$S17:$V17,MATCH(view!AH$3,data!$Y17:$AB17,0)),AH19),\"●\"),\"●\"))","v":""},{"$f":"IF(ISERROR(MATCH(view!AI$3,data!$Y17:$AB17,0)),\"\",IFERROR(HYPERLINK(showDetails(INDEX(data!$S17:$V17,MATCH(view!AI$3,data!$Y17:$AB17,0)),AI19),\"●\"),\"●\"))","v":""},{"$f":"IF(ISERROR(MATCH(view!AJ$3,data!$Y17:$AB17,0)),\"\",IFERROR(HYPERLINK(showDetails(INDEX(data!$S17:$V17,MATCH(view!AJ$3,data!$Y17:$AB17,0)),AJ19),\"●\"),\"●\"))","v":""},{"$f":"IF(ISERROR(MATCH(view!AK$3,data!$Y17:$AB17,0)),\"\",IFERROR(HYPERLINK(showDetails(INDEX(data!$S17:$V17,MATCH(view!AK$3,data!$Y17:$AB17,0)),AK19),\"●\"),\"●\"))","v":""},{"$f":"IF(ISERROR(MATCH(view!AL$3,data!$Y17:$AB17,0)),\"\",IFERROR(HYPERLINK(showDetails(INDEX(data!$S17:$V17,MATCH(view!AL$3,data!$Y17:$AB17,0)),AL19),\"●\"),\"●\"))","v":""},{"$f":"IF(ISERROR(MATCH(view!AM$3,data!$Y17:$AB17,0)),\"\",IFERROR(HYPERLINK(showDetails(INDEX(data!$S17:$V17,MATCH(view!AM$3,data!$Y17:$AB17,0)),AM19),\"●\"),\"●\"))","v":""},{"$f":"IF(ISERROR(MATCH(view!AN$3,data!$Y17:$AB17,0)),\"\",IFERROR(HYPERLINK(showDetails(INDEX(data!$S17:$V17,MATCH(view!AN$3,data!$Y17:$AB17,0)),AN19),\"●\"),\"●\"))","v":""},{"$f":"IF(ISERROR(MATCH(view!AO$3,data!$Y17:$AB17,0)),\"\",IFERROR(HYPERLINK(showDetails(INDEX(data!$S17:$V17,MATCH(view!AO$3,data!$Y17:$AB17,0)),AO19),\"●\"),\"●\"))","v":""},{"$f":"IF(ISERROR(MATCH(view!AP$3,data!$Y17:$AB17,0)),\"\",IFERROR(HYPERLINK(showDetails(INDEX(data!$S17:$V17,MATCH(view!AP$3,data!$Y17:$AB17,0)),AP19),\"●\"),\"●\"))","v":""},{"$f":"IF(ISERROR(MATCH(view!AQ$3,data!$Y17:$AB17,0)),\"\",IFERROR(HYPERLINK(showDetails(INDEX(data!$S17:$V17,MATCH(view!AQ$3,data!$Y17:$AB17,0)),AQ19),\"●\"),\"●\"))","v":""},{"$f":"IF(ISERROR(MATCH(view!AR$3,data!$Y17:$AB17,0)),\"\",IFERROR(HYPERLINK(showDetails(INDEX(data!$S17:$V17,MATCH(view!AR$3,data!$Y17:$AB17,0)),AR19),\"●\"),\"●\"))","v":""},{"$f":"IF(ISERROR(MATCH(view!AS$3,data!$Y17:$AB17,0)),\"\",IFERROR(HYPERLINK(showDetails(INDEX(data!$S17:$V17,MATCH(view!AS$3,data!$Y17:$AB17,0)),AS19),\"●\"),\"●\"))","v":""},{"$f":"IF(ISERROR(MATCH(view!AT$3,data!$Y17:$AB17,0)),\"\",IFERROR(HYPERLINK(showDetails(INDEX(data!$S17:$V17,MATCH(view!AT$3,data!$Y17:$AB17,0)),AT19),\"●\"),\"●\"))","v":""},{"$f":"IF(ISERROR(MATCH(view!AU$3,data!$Y17:$AB17,0)),\"\",IFERROR(HYPERLINK(showDetails(INDEX(data!$S17:$V17,MATCH(view!AU$3,data!$Y17:$AB17,0)),AU19),\"●\"),\"●\"))","v":""},{"$f":"IF(ISERROR(MATCH(view!AV$3,data!$Y17:$AB17,0)),\"\",IFERROR(HYPERLINK(showDetails(INDEX(data!$S17:$V17,MATCH(view!AV$3,data!$Y17:$AB17,0)),AV19),\"●\"),\"●\"))","v":""},{"$f":"IF(ISERROR(MATCH(view!AW$3,data!$Y17:$AB17,0)),\"\",IFERROR(HYPERLINK(showDetails(INDEX(data!$S17:$V17,MATCH(view!AW$3,data!$Y17:$AB17,0)),AW19),\"●\"),\"●\"))","v":""},{"$f":"IF(ISERROR(MATCH(view!AX$3,data!$Y17:$AB17,0)),\"\",IFERROR(HYPERLINK(showDetails(INDEX(data!$S17:$V17,MATCH(view!AX$3,data!$Y17:$AB17,0)),AX19),\"●\"),\"●\"))","v":""},{"$f":"IF(ISERROR(MATCH(view!AY$3,data!$Y17:$AB17,0)),\"\",IFERROR(HYPERLINK(showDetails(INDEX(data!$S17:$V17,MATCH(view!AY$3,data!$Y17:$AB17,0)),AY19),\"●\"),\"●\"))","v":""},{"$f":"IF(ISERROR(MATCH(view!AZ$3,data!$Y17:$AB17,0)),\"\",IFERROR(HYPERLINK(showDetails(INDEX(data!$S17:$V17,MATCH(view!AZ$3,data!$Y17:$AB17,0)),AZ19),\"●\"),\"●\"))","v":""},{"$f":"IF(ISERROR(MATCH(view!BA$3,data!$Y17:$AB17,0)),\"\",IFERROR(HYPERLINK(showDetails(INDEX(data!$S17:$V17,MATCH(view!BA$3,data!$Y17:$AB17,0)),BA19),\"●\"),\"●\"))","v":""},{"$f":"IF(ISERROR(MATCH(view!BB$3,data!$Y17:$AB17,0)),\"\",IFERROR(HYPERLINK(showDetails(INDEX(data!$S17:$V17,MATCH(view!BB$3,data!$Y17:$AB17,0)),BB19),\"●\"),\"●\"))","v":""},{"$f":"IF(ISERROR(MATCH(view!BC$3,data!$Y17:$AB17,0)),\"\",IFERROR(HYPERLINK(showDetails(INDEX(data!$S17:$V17,MATCH(view!BC$3,data!$Y17:$AB17,0)),BC19),\"●\"),\"●\"))","v":""},{"$f":"IF(ISERROR(MATCH(view!BD$3,data!$Y17:$AB17,0)),\"\",IFERROR(HYPERLINK(showDetails(INDEX(data!$S17:$V17,MATCH(view!BD$3,data!$Y17:$AB17,0)),BD19),\"●\"),\"●\"))","v":""},{"$f":"IF(ISERROR(MATCH(view!BE$3,data!$Y17:$AB17,0)),\"\",IFERROR(HYPERLINK(showDetails(INDEX(data!$S17:$V17,MATCH(view!BE$3,data!$Y17:$AB17,0)),BE19),\"●\"),\"●\"))","v":""},{"$f":"IF(ISERROR(MATCH(view!BF$3,data!$Y17:$AB17,0)),\"\",IFERROR(HYPERLINK(showDetails(INDEX(data!$S17:$V17,MATCH(view!BF$3,data!$Y17:$AB17,0)),BF19),\"●\"),\"●\"))","v":""},{"$f":"IF(ISERROR(MATCH(view!BG$3,data!$Y17:$AB17,0)),\"\",IFERROR(HYPERLINK(showDetails(INDEX(data!$S17:$V17,MATCH(view!BG$3,data!$Y17:$AB17,0)),BG19),\"●\"),\"●\"))","v":""},{"$f":"IF(ISERROR(MATCH(view!BH$3,data!$Y17:$AB17,0)),\"\",IFERROR(HYPERLINK(showDetails(INDEX(data!$S17:$V17,MATCH(view!BH$3,data!$Y17:$AB17,0)),BH19),\"●\"),\"●\"))","v":""},{"$f":"IF(ISERROR(MATCH(view!BI$3,data!$Y17:$AB17,0)),\"\",IFERROR(HYPERLINK(showDetails(INDEX(data!$S17:$V17,MATCH(view!BI$3,data!$Y17:$AB17,0)),BI19),\"●\"),\"●\"))","v":""},{"$f":"IF(ISERROR(MATCH(view!BJ$3,data!$Y17:$AB17,0)),\"\",IFERROR(HYPERLINK(showDetails(INDEX(data!$S17:$V17,MATCH(view!BJ$3,data!$Y17:$AB17,0)),BJ19),\"●\"),\"●\"))","v":""},{"$f":"IF(ISERROR(MATCH(view!BK$3,data!$Y17:$AB17,0)),\"\",IFERROR(HYPERLINK(showDetails(INDEX(data!$S17:$V17,MATCH(view!BK$3,data!$Y17:$AB17,0)),BK19),\"●\"),\"●\"))","v":""},{"$f":"IF(ISERROR(MATCH(view!BL$3,data!$Y17:$AB17,0)),\"\",IFERROR(HYPERLINK(showDetails(INDEX(data!$S17:$V17,MATCH(view!BL$3,data!$Y17:$AB17,0)),BL19),\"●\"),\"●\"))","v":""},{"$f":"IF(ISERROR(MATCH(view!BM$3,data!$Y17:$AB17,0)),\"\",IFERROR(HYPERLINK(showDetails(INDEX(data!$S17:$V17,MATCH(view!BM$3,data!$Y17:$AB17,0)),BM19),\"●\"),\"●\"))","v":""},{"$f":"IF(ISERROR(MATCH(view!BN$3,data!$Y17:$AB17,0)),\"\",IFERROR(HYPERLINK(showDetails(INDEX(data!$S17:$V17,MATCH(view!BN$3,data!$Y17:$AB17,0)),BN19),\"●\"),\"●\"))","v":""},{"$f":"IF(ISERROR(MATCH(view!BO$3,data!$Y17:$AB17,0)),\"\",IFERROR(HYPERLINK(showDetails(INDEX(data!$S17:$V17,MATCH(view!BO$3,data!$Y17:$AB17,0)),BO19),\"●\"),\"●\"))","v":""},{"$f":"IF(ISERROR(MATCH(view!BP$3,data!$Y17:$AB17,0)),\"\",IFERROR(HYPERLINK(showDetails(INDEX(data!$S17:$V17,MATCH(view!BP$3,data!$Y17:$AB17,0)),BP19),\"●\"),\"●\"))","v":""},{"$f":"IF(ISERROR(MATCH(view!BQ$3,data!$Y17:$AB17,0)),\"\",IFERROR(HYPERLINK(showDetails(INDEX(data!$S17:$V17,MATCH(view!BQ$3,data!$Y17:$AB17,0)),BQ19),\"●\"),\"●\"))","v":""},{"$f":"IF(ISERROR(MATCH(view!BR$3,data!$Y17:$AB17,0)),\"\",IFERROR(HYPERLINK(showDetails(INDEX(data!$S17:$V17,MATCH(view!BR$3,data!$Y17:$AB17,0)),BR19),\"●\"),\"●\"))","v":"●"},{"$f":"IF(ISERROR(MATCH(view!BS$3,data!$Y17:$AB17,0)),\"\",IFERROR(HYPERLINK(showDetails(INDEX(data!$S17:$V17,MATCH(view!BS$3,data!$Y17:$AB17,0)),BS19),\"●\"),\"●\"))","v":""},{"$f":"IF(ISERROR(MATCH(view!BT$3,data!$Y17:$AB17,0)),\"\",IFERROR(HYPERLINK(showDetails(INDEX(data!$S17:$V17,MATCH(view!BT$3,data!$Y17:$AB17,0)),BT19),\"●\"),\"●\"))","v":""},{"$f":"IF(ISERROR(MATCH(view!BU$3,data!$Y17:$AB17,0)),\"\",IFERROR(HYPERLINK(showDetails(INDEX(data!$S17:$V17,MATCH(view!BU$3,data!$Y17:$AB17,0)),BU19),\"●\"),\"●\"))","v":""},{"$f":"IF(ISERROR(MATCH(view!BV$3,data!$Y17:$AB17,0)),\"\",IFERROR(HYPERLINK(showDetails(INDEX(data!$S17:$V17,MATCH(view!BV$3,data!$Y17:$AB17,0)),BV19),\"●\"),\"●\"))","v":""},{"$f":"IF(ISERROR(MATCH(view!BW$3,data!$Y17:$AB17,0)),\"\",IFERROR(HYPERLINK(showDetails(INDEX(data!$S17:$V17,MATCH(view!BW$3,data!$Y17:$AB17,0)),BW19),\"●\"),\"●\"))","v":""},{"$f":"IF(ISERROR(MATCH(view!BX$3,data!$Y17:$AB17,0)),\"\",IFERROR(HYPERLINK(showDetails(INDEX(data!$S17:$V17,MATCH(view!BX$3,data!$Y17:$AB17,0)),BX19),\"●\"),\"●\"))","v":"●"},{"$f":"IF(ISERROR(MATCH(view!BY$3,data!$Y17:$AB17,0)),\"\",IFERROR(HYPERLINK(showDetails(INDEX(data!$S17:$V17,MATCH(view!BY$3,data!$Y17:$AB17,0)),BY19),\"●\"),\"●\"))","v":""},{"$f":"IF(ISERROR(MATCH(view!BZ$3,data!$Y17:$AB17,0)),\"\",IFERROR(HYPERLINK(showDetails(INDEX(data!$S17:$V17,MATCH(view!BZ$3,data!$Y17:$AB17,0)),BZ19),\"●\"),\"●\"))","v":""},{"$f":"IF(ISERROR(MATCH(view!CA$3,data!$Y17:$AB17,0)),\"\",IFERROR(HYPERLINK(showDetails(INDEX(data!$S17:$V17,MATCH(view!CA$3,data!$Y17:$AB17,0)),CA19),\"●\"),\"●\"))","v":""},{"$f":"IF(ISERROR(MATCH(view!CB$3,data!$Y17:$AB17,0)),\"\",IFERROR(HYPERLINK(showDetails(INDEX(data!$S17:$V17,MATCH(view!CB$3,data!$Y17:$AB17,0)),CB19),\"●\"),\"●\"))","v":""},{"$f":"IF(ISERROR(MATCH(view!CC$3,data!$Y17:$AB17,0)),\"\",IFERROR(HYPERLINK(showDetails(INDEX(data!$S17:$V17,MATCH(view!CC$3,data!$Y17:$AB17,0)),CC19),\"●\"),\"●\"))","v":""},{"$f":"IF(ISERROR(MATCH(view!CD$3,data!$Y17:$AB17,0)),\"\",IFERROR(HYPERLINK(showDetails(INDEX(data!$S17:$V17,MATCH(view!CD$3,data!$Y17:$AB17,0)),CD19),\"●\"),\"●\"))","v":""},{"$f":"IF(ISERROR(MATCH(view!CE$3,data!$Y17:$AB17,0)),\"\",IFERROR(HYPERLINK(showDetails(INDEX(data!$S17:$V17,MATCH(view!CE$3,data!$Y17:$AB17,0)),CE19),\"●\"),\"●\"))","v":""},{"$f":"IF(ISERROR(MATCH(view!CF$3,data!$Y17:$AB17,0)),\"\",IFERROR(HYPERLINK(showDetails(INDEX(data!$S17:$V17,MATCH(view!CF$3,data!$Y17:$AB17,0)),CF19),\"●\"),\"●\"))","v":""},{"$f":"IF(ISERROR(MATCH(view!CG$3,data!$Y17:$AB17,0)),\"\",IFERROR(HYPERLINK(showDetails(INDEX(data!$S17:$V17,MATCH(view!CG$3,data!$Y17:$AB17,0)),CG19),\"●\"),\"●\"))","v":""},{"$f":"IF(ISERROR(MATCH(view!CH$3,data!$Y17:$AB17,0)),\"\",IFERROR(HYPERLINK(showDetails(INDEX(data!$S17:$V17,MATCH(view!CH$3,data!$Y17:$AB17,0)),CH19),\"●\"),\"●\"))","v":""},{"$f":"IF(ISERROR(MATCH(view!CI$3,data!$Y17:$AB17,0)),\"\",IFERROR(HYPERLINK(showDetails(INDEX(data!$S17:$V17,MATCH(view!CI$3,data!$Y17:$AB17,0)),CI19),\"●\"),\"●\"))","v":""},{"$f":"IF(ISERROR(MATCH(view!CJ$3,data!$Y17:$AB17,0)),\"\",IFERROR(HYPERLINK(showDetails(INDEX(data!$S17:$V17,MATCH(view!CJ$3,data!$Y17:$AB17,0)),CJ19),\"●\"),\"●\"))","v":""},{"$f":"IF(ISERROR(MATCH(view!CK$3,data!$Y17:$AB17,0)),\"\",IFERROR(HYPERLINK(showDetails(INDEX(data!$S17:$V17,MATCH(view!CK$3,data!$Y17:$AB17,0)),CK19),\"●\"),\"●\"))","v":""},{"$f":"IF(ISERROR(MATCH(view!CL$3,data!$Y17:$AB17,0)),\"\",IFERROR(HYPERLINK(showDetails(INDEX(data!$S17:$V17,MATCH(view!CL$3,data!$Y17:$AB17,0)),CL19),\"●\"),\"●\"))","v":""},{"$f":"IF(ISERROR(MATCH(view!CM$3,data!$Y17:$AB17,0)),\"\",IFERROR(HYPERLINK(showDetails(INDEX(data!$S17:$V17,MATCH(view!CM$3,data!$Y17:$AB17,0)),CM19),\"●\"),\"●\"))","v":""},{"$f":"IF(ISERROR(MATCH(view!CN$3,data!$Y17:$AB17,0)),\"\",IFERROR(HYPERLINK(showDetails(INDEX(data!$S17:$V17,MATCH(view!CN$3,data!$Y17:$AB17,0)),CN19),\"●\"),\"●\"))","v":""},{"$f":"IF(ISERROR(MATCH(view!CO$3,data!$Y17:$AB17,0)),\"\",IFERROR(HYPERLINK(showDetails(INDEX(data!$S17:$V17,MATCH(view!CO$3,data!$Y17:$AB17,0)),CO19),\"●\"),\"●\"))","v":""},{"$f":"IF(ISERROR(MATCH(view!CP$3,data!$Y17:$AB17,0)),\"\",IFERROR(HYPERLINK(showDetails(INDEX(data!$S17:$V17,MATCH(view!CP$3,data!$Y17:$AB17,0)),CP19),\"●\"),\"●\"))","v":""},{"$f":"IF(ISERROR(MATCH(view!CQ$3,data!$Y17:$AB17,0)),\"\",IFERROR(HYPERLINK(showDetails(INDEX(data!$S17:$V17,MATCH(view!CQ$3,data!$Y17:$AB17,0)),CQ19),\"●\"),\"●\"))","v":""},{"$f":"IF(ISERROR(MATCH(view!CR$3,data!$Y17:$AB17,0)),\"\",IFERROR(HYPERLINK(showDetails(INDEX(data!$S17:$V17,MATCH(view!CR$3,data!$Y17:$AB17,0)),CR19),\"●\"),\"●\"))","v":""},{"$f":"IF(ISERROR(MATCH(view!CS$3,data!$Y17:$AB17,0)),\"\",IFERROR(HYPERLINK(showDetails(INDEX(data!$S17:$V17,MATCH(view!CS$3,data!$Y17:$AB17,0)),CS19),\"●\"),\"●\"))","v":""},{"$f":"IF(ISERROR(MATCH(view!CT$3,data!$Y17:$AB17,0)),\"\",IFERROR(HYPERLINK(showDetails(INDEX(data!$S17:$V17,MATCH(view!CT$3,data!$Y17:$AB17,0)),CT19),\"●\"),\"●\"))","v":""},{"$f":"IF(ISERROR(MATCH(view!CU$3,data!$Y17:$AB17,0)),\"\",IFERROR(HYPERLINK(showDetails(INDEX(data!$S17:$V17,MATCH(view!CU$3,data!$Y17:$AB17,0)),CU19),\"●\"),\"●\"))","v":""},{"$f":"IF(ISERROR(MATCH(view!CV$3,data!$Y17:$AB17,0)),\"\",IFERROR(HYPERLINK(showDetails(INDEX(data!$S17:$V17,MATCH(view!CV$3,data!$Y17:$AB17,0)),CV19),\"●\"),\"●\"))","v":""},{"$f":"IF(ISERROR(MATCH(view!CW$3,data!$Y17:$AB17,0)),\"\",IFERROR(HYPERLINK(showDetails(INDEX(data!$S17:$V17,MATCH(view!CW$3,data!$Y17:$AB17,0)),CW19),\"●\"),\"●\"))","v":""},{"$f":"IF(ISERROR(MATCH(view!CX$3,data!$Y17:$AB17,0)),\"\",IFERROR(HYPERLINK(showDetails(INDEX(data!$S17:$V17,MATCH(view!CX$3,data!$Y17:$AB17,0)),CX19),\"●\"),\"●\"))","v":""},{"$f":"IF(ISERROR(MATCH(view!CY$3,data!$Y17:$AB17,0)),\"\",IFERROR(HYPERLINK(showDetails(INDEX(data!$S17:$V17,MATCH(view!CY$3,data!$Y17:$AB17,0)),CY19),\"●\"),\"●\"))","v":""},{"$f":"IF(ISERROR(MATCH(view!CZ$3,data!$Y17:$AB17,0)),\"\",IFERROR(HYPERLINK(showDetails(INDEX(data!$S17:$V17,MATCH(view!CZ$3,data!$Y17:$AB17,0)),CZ19),\"●\"),\"●\"))","v":""},{"$f":"IF(ISERROR(MATCH(view!DA$3,data!$Y17:$AB17,0)),\"\",IFERROR(HYPERLINK(showDetails(INDEX(data!$S17:$V17,MATCH(view!DA$3,data!$Y17:$AB17,0)),DA19),\"●\"),\"●\"))","v":""},{"$f":"IF(ISERROR(MATCH(view!DB$3,data!$Y17:$AB17,0)),\"\",IFERROR(HYPERLINK(showDetails(INDEX(data!$S17:$V17,MATCH(view!DB$3,data!$Y17:$AB17,0)),DB19),\"●\"),\"●\"))","v":""},{"$f":"IF(ISERROR(MATCH(view!DC$3,data!$Y17:$AB17,0)),\"\",IFERROR(HYPERLINK(showDetails(INDEX(data!$S17:$V17,MATCH(view!DC$3,data!$Y17:$AB17,0)),DC19),\"●\"),\"●\"))","v":""},{"$f":"IF(ISERROR(MATCH(view!DD$3,data!$Y17:$AB17,0)),\"\",IFERROR(HYPERLINK(showDetails(INDEX(data!$S17:$V17,MATCH(view!DD$3,data!$Y17:$AB17,0)),DD19),\"●\"),\"●\"))","v":""},{"$f":"IF(ISERROR(MATCH(view!DE$3,data!$Y17:$AB17,0)),\"\",IFERROR(HYPERLINK(showDetails(INDEX(data!$S17:$V17,MATCH(view!DE$3,data!$Y17:$AB17,0)),DE19),\"●\"),\"●\"))","v":""},{"$f":"IF(ISERROR(MATCH(view!DF$3,data!$Y17:$AB17,0)),\"\",IFERROR(HYPERLINK(showDetails(INDEX(data!$S17:$V17,MATCH(view!DF$3,data!$Y17:$AB17,0)),DF19),\"●\"),\"●\"))","v":""},{"$f":"IF(ISERROR(MATCH(view!DG$3,data!$Y17:$AB17,0)),\"\",IFERROR(HYPERLINK(showDetails(INDEX(data!$S17:$V17,MATCH(view!DG$3,data!$Y17:$AB17,0)),DG19),\"●\"),\"●\"))","v":""},{"$f":"IF(ISERROR(MATCH(view!DH$3,data!$Y17:$AB17,0)),\"\",IFERROR(HYPERLINK(showDetails(INDEX(data!$S17:$V17,MATCH(view!DH$3,data!$Y17:$AB17,0)),DH19),\"●\"),\"●\"))","v":""},{"$f":"IF(ISERROR(MATCH(view!DI$3,data!$Y17:$AB17,0)),\"\",IFERROR(HYPERLINK(showDetails(INDEX(data!$S17:$V17,MATCH(view!DI$3,data!$Y17:$AB17,0)),DI19),\"●\"),\"●\"))","v":""},{"$f":"IF(ISERROR(MATCH(view!DJ$3,data!$Y17:$AB17,0)),\"\",IFERROR(HYPERLINK(showDetails(INDEX(data!$S17:$V17,MATCH(view!DJ$3,data!$Y17:$AB17,0)),DJ19),\"●\"),\"●\"))","v":""},{"$f":"IF(ISERROR(MATCH(view!DK$3,data!$Y17:$AB17,0)),\"\",IFERROR(HYPERLINK(showDetails(INDEX(data!$S17:$V17,MATCH(view!DK$3,data!$Y17:$AB17,0)),DK19),\"●\"),\"●\"))","v":""},{"$f":"IF(ISERROR(MATCH(view!DL$3,data!$Y17:$AB17,0)),\"\",IFERROR(HYPERLINK(showDetails(INDEX(data!$S17:$V17,MATCH(view!DL$3,data!$Y17:$AB17,0)),DL19),\"●\"),\"●\"))","v":""},{"$f":"IF(ISERROR(MATCH(view!DM$3,data!$Y17:$AB17,0)),\"\",IFERROR(HYPERLINK(showDetails(INDEX(data!$S17:$V17,MATCH(view!DM$3,data!$Y17:$AB17,0)),DM19),\"●\"),\"●\"))","v":""},{"$f":"IF(ISERROR(MATCH(view!DN$3,data!$Y17:$AB17,0)),\"\",IFERROR(HYPERLINK(showDetails(INDEX(data!$S17:$V17,MATCH(view!DN$3,data!$Y17:$AB17,0)),DN19),\"●\"),\"●\"))","v":""},{"$f":"IF(ISERROR(MATCH(view!DO$3,data!$Y17:$AB17,0)),\"\",IFERROR(HYPERLINK(showDetails(INDEX(data!$S17:$V17,MATCH(view!DO$3,data!$Y17:$AB17,0)),DO19),\"●\"),\"●\"))","v":""},{"$f":"IF(ISERROR(MATCH(view!DP$3,data!$Y17:$AB17,0)),\"\",IFERROR(HYPERLINK(showDetails(INDEX(data!$S17:$V17,MATCH(view!DP$3,data!$Y17:$AB17,0)),DP19),\"●\"),\"●\"))","v":""},{"$f":"IF(ISERROR(MATCH(view!DQ$3,data!$Y17:$AB17,0)),\"\",IFERROR(HYPERLINK(showDetails(INDEX(data!$S17:$V17,MATCH(view!DQ$3,data!$Y17:$AB17,0)),DQ19),\"●\"),\"●\"))","v":""},{"$f":"IF(ISERROR(MATCH(view!DR$3,data!$Y17:$AB17,0)),\"\",IFERROR(HYPERLINK(showDetails(INDEX(data!$S17:$V17,MATCH(view!DR$3,data!$Y17:$AB17,0)),DR19),\"●\"),\"●\"))","v":""},{"$f":"IF(ISERROR(MATCH(view!DS$3,data!$Y17:$AB17,0)),\"\",IFERROR(HYPERLINK(showDetails(INDEX(data!$S17:$V17,MATCH(view!DS$3,data!$Y17:$AB17,0)),DS19),\"●\"),\"●\"))","v":""},{"$f":"INDEX(lstYears,A19) &\" - \"&INDEX(data!$W$3:$W$30,A19)","v":"1956 - Melbourne"}]
[16,null,{"$f":"IF(ISERROR(MATCH(view!C$3,data!$Y18:$AB18,0)),\"\",IFERROR(HYPERLINK(showDetails(INDEX(data!$S18:$V18,MATCH(view!C$3,data!$Y18:$AB18,0)),C20),\"●\"),\"●\"))","v":""},{"$f":"IF(ISERROR(MATCH(view!D$3,data!$Y18:$AB18,0)),\"\",IFERROR(HYPERLINK(showDetails(INDEX(data!$S18:$V18,MATCH(view!D$3,data!$Y18:$AB18,0)),D20),\"●\"),\"●\"))","v":""},{"$f":"IF(ISERROR(MATCH(view!E$3,data!$Y18:$AB18,0)),\"\",IFERROR(HYPERLINK(showDetails(INDEX(data!$S18:$V18,MATCH(view!E$3,data!$Y18:$AB18,0)),E20),\"●\"),\"●\"))","v":""},{"$f":"IF(ISERROR(MATCH(view!F$3,data!$Y18:$AB18,0)),\"\",IFERROR(HYPERLINK(showDetails(INDEX(data!$S18:$V18,MATCH(view!F$3,data!$Y18:$AB18,0)),F20),\"●\"),\"●\"))","v":""},{"$f":"IF(ISERROR(MATCH(view!G$3,data!$Y18:$AB18,0)),\"\",IFERROR(HYPERLINK(showDetails(INDEX(data!$S18:$V18,MATCH(view!G$3,data!$Y18:$AB18,0)),G20),\"●\"),\"●\"))","v":""},{"$f":"IF(ISERROR(MATCH(view!H$3,data!$Y18:$AB18,0)),\"\",IFERROR(HYPERLINK(showDetails(INDEX(data!$S18:$V18,MATCH(view!H$3,data!$Y18:$AB18,0)),H20),\"●\"),\"●\"))","v":""},{"$f":"IF(ISERROR(MATCH(view!I$3,data!$Y18:$AB18,0)),\"\",IFERROR(HYPERLINK(showDetails(INDEX(data!$S18:$V18,MATCH(view!I$3,data!$Y18:$AB18,0)),I20),\"●\"),\"●\"))","v":""},{"$f":"IF(ISERROR(MATCH(view!J$3,data!$Y18:$AB18,0)),\"\",IFERROR(HYPERLINK(showDetails(INDEX(data!$S18:$V18,MATCH(view!J$3,data!$Y18:$AB18,0)),J20),\"●\"),\"●\"))","v":""},{"$f":"IF(ISERROR(MATCH(view!K$3,data!$Y18:$AB18,0)),\"\",IFERROR(HYPERLINK(showDetails(INDEX(data!$S18:$V18,MATCH(view!K$3,data!$Y18:$AB18,0)),K20),\"●\"),\"●\"))","v":""},{"$f":"IF(ISERROR(MATCH(view!L$3,data!$Y18:$AB18,0)),\"\",IFERROR(HYPERLINK(showDetails(INDEX(data!$S18:$V18,MATCH(view!L$3,data!$Y18:$AB18,0)),L20),\"●\"),\"●\"))","v":""},{"$f":"IF(ISERROR(MATCH(view!M$3,data!$Y18:$AB18,0)),\"\",IFERROR(HYPERLINK(showDetails(INDEX(data!$S18:$V18,MATCH(view!M$3,data!$Y18:$AB18,0)),M20),\"●\"),\"●\"))","v":""},{"$f":"IF(ISERROR(MATCH(view!N$3,data!$Y18:$AB18,0)),\"\",IFERROR(HYPERLINK(showDetails(INDEX(data!$S18:$V18,MATCH(view!N$3,data!$Y18:$AB18,0)),N20),\"●\"),\"●\"))","v":""},{"$f":"IF(ISERROR(MATCH(view!O$3,data!$Y18:$AB18,0)),\"\",IFERROR(HYPERLINK(showDetails(INDEX(data!$S18:$V18,MATCH(view!O$3,data!$Y18:$AB18,0)),O20),\"●\"),\"●\"))","v":""},{"$f":"IF(ISERROR(MATCH(view!P$3,data!$Y18:$AB18,0)),\"\",IFERROR(HYPERLINK(showDetails(INDEX(data!$S18:$V18,MATCH(view!P$3,data!$Y18:$AB18,0)),P20),\"●\"),\"●\"))","v":""},{"$f":"IF(ISERROR(MATCH(view!Q$3,data!$Y18:$AB18,0)),\"\",IFERROR(HYPERLINK(showDetails(INDEX(data!$S18:$V18,MATCH(view!Q$3,data!$Y18:$AB18,0)),Q20),\"●\"),\"●\"))","v":""},{"$f":"IF(ISERROR(MATCH(view!R$3,data!$Y18:$AB18,0)),\"\",IFERROR(HYPERLINK(showDetails(INDEX(data!$S18:$V18,MATCH(view!R$3,data!$Y18:$AB18,0)),R20),\"●\"),\"●\"))","v":""},{"$f":"IF(ISERROR(MATCH(view!S$3,data!$Y18:$AB18,0)),\"\",IFERROR(HYPERLINK(showDetails(INDEX(data!$S18:$V18,MATCH(view!S$3,data!$Y18:$AB18,0)),S20),\"●\"),\"●\"))","v":""},{"$f":"IF(ISERROR(MATCH(view!T$3,data!$Y18:$AB18,0)),\"\",IFERROR(HYPERLINK(showDetails(INDEX(data!$S18:$V18,MATCH(view!T$3,data!$Y18:$AB18,0)),T20),\"●\"),\"●\"))","v":""},{"$f":"IF(ISERROR(MATCH(view!U$3,data!$Y18:$AB18,0)),\"\",IFERROR(HYPERLINK(showDetails(INDEX(data!$S18:$V18,MATCH(view!U$3,data!$Y18:$AB18,0)),U20),\"●\"),\"●\"))","v":""},{"$f":"IF(ISERROR(MATCH(view!V$3,data!$Y18:$AB18,0)),\"\",IFERROR(HYPERLINK(showDetails(INDEX(data!$S18:$V18,MATCH(view!V$3,data!$Y18:$AB18,0)),V20),\"●\"),\"●\"))","v":""},{"$f":"IF(ISERROR(MATCH(view!W$3,data!$Y18:$AB18,0)),\"\",IFERROR(HYPERLINK(showDetails(INDEX(data!$S18:$V18,MATCH(view!W$3,data!$Y18:$AB18,0)),W20),\"●\"),\"●\"))","v":""},{"$f":"IF(ISERROR(MATCH(view!X$3,data!$Y18:$AB18,0)),\"\",IFERROR(HYPERLINK(showDetails(INDEX(data!$S18:$V18,MATCH(view!X$3,data!$Y18:$AB18,0)),X20),\"●\"),\"●\"))","v":""},{"$f":"IF(ISERROR(MATCH(view!Y$3,data!$Y18:$AB18,0)),\"\",IFERROR(HYPERLINK(showDetails(INDEX(data!$S18:$V18,MATCH(view!Y$3,data!$Y18:$AB18,0)),Y20),\"●\"),\"●\"))","v":""},{"$f":"IF(ISERROR(MATCH(view!Z$3,data!$Y18:$AB18,0)),\"\",IFERROR(HYPERLINK(showDetails(INDEX(data!$S18:$V18,MATCH(view!Z$3,data!$Y18:$AB18,0)),Z20),\"●\"),\"●\"))","v":""},{"$f":"IF(ISERROR(MATCH(view!AA$3,data!$Y18:$AB18,0)),\"\",IFERROR(HYPERLINK(showDetails(INDEX(data!$S18:$V18,MATCH(view!AA$3,data!$Y18:$AB18,0)),AA20),\"●\"),\"●\"))","v":""},{"$f":"IF(ISERROR(MATCH(view!AB$3,data!$Y18:$AB18,0)),\"\",IFERROR(HYPERLINK(showDetails(INDEX(data!$S18:$V18,MATCH(view!AB$3,data!$Y18:$AB18,0)),AB20),\"●\"),\"●\"))","v":""},{"$f":"IF(ISERROR(MATCH(view!AC$3,data!$Y18:$AB18,0)),\"\",IFERROR(HYPERLINK(showDetails(INDEX(data!$S18:$V18,MATCH(view!AC$3,data!$Y18:$AB18,0)),AC20),\"●\"),\"●\"))","v":""},{"$f":"IF(ISERROR(MATCH(view!AD$3,data!$Y18:$AB18,0)),\"\",IFERROR(HYPERLINK(showDetails(INDEX(data!$S18:$V18,MATCH(view!AD$3,data!$Y18:$AB18,0)),AD20),\"●\"),\"●\"))","v":""},{"$f":"IF(ISERROR(MATCH(view!AE$3,data!$Y18:$AB18,0)),\"\",IFERROR(HYPERLINK(showDetails(INDEX(data!$S18:$V18,MATCH(view!AE$3,data!$Y18:$AB18,0)),AE20),\"●\"),\"●\"))","v":""},{"$f":"IF(ISERROR(MATCH(view!AF$3,data!$Y18:$AB18,0)),\"\",IFERROR(HYPERLINK(showDetails(INDEX(data!$S18:$V18,MATCH(view!AF$3,data!$Y18:$AB18,0)),AF20),\"●\"),\"●\"))","v":""},{"$f":"IF(ISERROR(MATCH(view!AG$3,data!$Y18:$AB18,0)),\"\",IFERROR(HYPERLINK(showDetails(INDEX(data!$S18:$V18,MATCH(view!AG$3,data!$Y18:$AB18,0)),AG20),\"●\"),\"●\"))","v":""},{"$f":"IF(ISERROR(MATCH(view!AH$3,data!$Y18:$AB18,0)),\"\",IFERROR(HYPERLINK(showDetails(INDEX(data!$S18:$V18,MATCH(view!AH$3,data!$Y18:$AB18,0)),AH20),\"●\"),\"●\"))","v":""},{"$f":"IF(ISERROR(MATCH(view!AI$3,data!$Y18:$AB18,0)),\"\",IFERROR(HYPERLINK(showDetails(INDEX(data!$S18:$V18,MATCH(view!AI$3,data!$Y18:$AB18,0)),AI20),\"●\"),\"●\"))","v":""},{"$f":"IF(ISERROR(MATCH(view!AJ$3,data!$Y18:$AB18,0)),\"\",IFERROR(HYPERLINK(showDetails(INDEX(data!$S18:$V18,MATCH(view!AJ$3,data!$Y18:$AB18,0)),AJ20),\"●\"),\"●\"))","v":""},{"$f":"IF(ISERROR(MATCH(view!AK$3,data!$Y18:$AB18,0)),\"\",IFERROR(HYPERLINK(showDetails(INDEX(data!$S18:$V18,MATCH(view!AK$3,data!$Y18:$AB18,0)),AK20),\"●\"),\"●\"))","v":""},{"$f":"IF(ISERROR(MATCH(view!AL$3,data!$Y18:$AB18,0)),\"\",IFERROR(HYPERLINK(showDetails(INDEX(data!$S18:$V18,MATCH(view!AL$3,data!$Y18:$AB18,0)),AL20),\"●\"),\"●\"))","v":""},{"$f":"IF(ISERROR(MATCH(view!AM$3,data!$Y18:$AB18,0)),\"\",IFERROR(HYPERLINK(showDetails(INDEX(data!$S18:$V18,MATCH(view!AM$3,data!$Y18:$AB18,0)),AM20),\"●\"),\"●\"))","v":""},{"$f":"IF(ISERROR(MATCH(view!AN$3,data!$Y18:$AB18,0)),\"\",IFERROR(HYPERLINK(showDetails(INDEX(data!$S18:$V18,MATCH(view!AN$3,data!$Y18:$AB18,0)),AN20),\"●\"),\"●\"))","v":""},{"$f":"IF(ISERROR(MATCH(view!AO$3,data!$Y18:$AB18,0)),\"\",IFERROR(HYPERLINK(showDetails(INDEX(data!$S18:$V18,MATCH(view!AO$3,data!$Y18:$AB18,0)),AO20),\"●\"),\"●\"))","v":""},{"$f":"IF(ISERROR(MATCH(view!AP$3,data!$Y18:$AB18,0)),\"\",IFERROR(HYPERLINK(showDetails(INDEX(data!$S18:$V18,MATCH(view!AP$3,data!$Y18:$AB18,0)),AP20),\"●\"),\"●\"))","v":""},{"$f":"IF(ISERROR(MATCH(view!AQ$3,data!$Y18:$AB18,0)),\"\",IFERROR(HYPERLINK(showDetails(INDEX(data!$S18:$V18,MATCH(view!AQ$3,data!$Y18:$AB18,0)),AQ20),\"●\"),\"●\"))","v":""},{"$f":"IF(ISERROR(MATCH(view!AR$3,data!$Y18:$AB18,0)),\"\",IFERROR(HYPERLINK(showDetails(INDEX(data!$S18:$V18,MATCH(view!AR$3,data!$Y18:$AB18,0)),AR20),\"●\"),\"●\"))","v":""},{"$f":"IF(ISERROR(MATCH(view!AS$3,data!$Y18:$AB18,0)),\"\",IFERROR(HYPERLINK(showDetails(INDEX(data!$S18:$V18,MATCH(view!AS$3,data!$Y18:$AB18,0)),AS20),\"●\"),\"●\"))","v":""},{"$f":"IF(ISERROR(MATCH(view!AT$3,data!$Y18:$AB18,0)),\"\",IFERROR(HYPERLINK(showDetails(INDEX(data!$S18:$V18,MATCH(view!AT$3,data!$Y18:$AB18,0)),AT20),\"●\"),\"●\"))","v":""},{"$f":"IF(ISERROR(MATCH(view!AU$3,data!$Y18:$AB18,0)),\"\",IFERROR(HYPERLINK(showDetails(INDEX(data!$S18:$V18,MATCH(view!AU$3,data!$Y18:$AB18,0)),AU20),\"●\"),\"●\"))","v":""},{"$f":"IF(ISERROR(MATCH(view!AV$3,data!$Y18:$AB18,0)),\"\",IFERROR(HYPERLINK(showDetails(INDEX(data!$S18:$V18,MATCH(view!AV$3,data!$Y18:$AB18,0)),AV20),\"●\"),\"●\"))","v":""},{"$f":"IF(ISERROR(MATCH(view!AW$3,data!$Y18:$AB18,0)),\"\",IFERROR(HYPERLINK(showDetails(INDEX(data!$S18:$V18,MATCH(view!AW$3,data!$Y18:$AB18,0)),AW20),\"●\"),\"●\"))","v":""},{"$f":"IF(ISERROR(MATCH(view!AX$3,data!$Y18:$AB18,0)),\"\",IFERROR(HYPERLINK(showDetails(INDEX(data!$S18:$V18,MATCH(view!AX$3,data!$Y18:$AB18,0)),AX20),\"●\"),\"●\"))","v":""},{"$f":"IF(ISERROR(MATCH(view!AY$3,data!$Y18:$AB18,0)),\"\",IFERROR(HYPERLINK(showDetails(INDEX(data!$S18:$V18,MATCH(view!AY$3,data!$Y18:$AB18,0)),AY20),\"●\"),\"●\"))","v":""},{"$f":"IF(ISERROR(MATCH(view!AZ$3,data!$Y18:$AB18,0)),\"\",IFERROR(HYPERLINK(showDetails(INDEX(data!$S18:$V18,MATCH(view!AZ$3,data!$Y18:$AB18,0)),AZ20),\"●\"),\"●\"))","v":""},{"$f":"IF(ISERROR(MATCH(view!BA$3,data!$Y18:$AB18,0)),\"\",IFERROR(HYPERLINK(showDetails(INDEX(data!$S18:$V18,MATCH(view!BA$3,data!$Y18:$AB18,0)),BA20),\"●\"),\"●\"))","v":""},{"$f":"IF(ISERROR(MATCH(view!BB$3,data!$Y18:$AB18,0)),\"\",IFERROR(HYPERLINK(showDetails(INDEX(data!$S18:$V18,MATCH(view!BB$3,data!$Y18:$AB18,0)),BB20),\"●\"),\"●\"))","v":""},{"$f":"IF(ISERROR(MATCH(view!BC$3,data!$Y18:$AB18,0)),\"\",IFERROR(HYPERLINK(showDetails(INDEX(data!$S18:$V18,MATCH(view!BC$3,data!$Y18:$AB18,0)),BC20),\"●\"),\"●\"))","v":""},{"$f":"IF(ISERROR(MATCH(view!BD$3,data!$Y18:$AB18,0)),\"\",IFERROR(HYPERLINK(showDetails(INDEX(data!$S18:$V18,MATCH(view!BD$3,data!$Y18:$AB18,0)),BD20),\"●\"),\"●\"))","v":""},{"$f":"IF(ISERROR(MATCH(view!BE$3,data!$Y18:$AB18,0)),\"\",IFERROR(HYPERLINK(showDetails(INDEX(data!$S18:$V18,MATCH(view!BE$3,data!$Y18:$AB18,0)),BE20),\"●\"),\"●\"))","v":""},{"$f":"IF(ISERROR(MATCH(view!BF$3,data!$Y18:$AB18,0)),\"\",IFERROR(HYPERLINK(showDetails(INDEX(data!$S18:$V18,MATCH(view!BF$3,data!$Y18:$AB18,0)),BF20),\"●\"),\"●\"))","v":""},{"$f":"IF(ISERROR(MATCH(view!BG$3,data!$Y18:$AB18,0)),\"\",IFERROR(HYPERLINK(showDetails(INDEX(data!$S18:$V18,MATCH(view!BG$3,data!$Y18:$AB18,0)),BG20),\"●\"),\"●\"))","v":""},{"$f":"IF(ISERROR(MATCH(view!BH$3,data!$Y18:$AB18,0)),\"\",IFERROR(HYPERLINK(showDetails(INDEX(data!$S18:$V18,MATCH(view!BH$3,data!$Y18:$AB18,0)),BH20),\"●\"),\"●\"))","v":""},{"$f":"IF(ISERROR(MATCH(view!BI$3,data!$Y18:$AB18,0)),\"\",IFERROR(HYPERLINK(showDetails(INDEX(data!$S18:$V18,MATCH(view!BI$3,data!$Y18:$AB18,0)),BI20),\"●\"),\"●\"))","v":""},{"$f":"IF(ISERROR(MATCH(view!BJ$3,data!$Y18:$AB18,0)),\"\",IFERROR(HYPERLINK(showDetails(INDEX(data!$S18:$V18,MATCH(view!BJ$3,data!$Y18:$AB18,0)),BJ20),\"●\"),\"●\"))","v":""},{"$f":"IF(ISERROR(MATCH(view!BK$3,data!$Y18:$AB18,0)),\"\",IFERROR(HYPERLINK(showDetails(INDEX(data!$S18:$V18,MATCH(view!BK$3,data!$Y18:$AB18,0)),BK20),\"●\"),\"●\"))","v":""},{"$f":"IF(ISERROR(MATCH(view!BL$3,data!$Y18:$AB18,0)),\"\",IFERROR(HYPERLINK(showDetails(INDEX(data!$S18:$V18,MATCH(view!BL$3,data!$Y18:$AB18,0)),BL20),\"●\"),\"●\"))","v":""},{"$f":"IF(ISERROR(MATCH(view!BM$3,data!$Y18:$AB18,0)),\"\",IFERROR(HYPERLINK(showDetails(INDEX(data!$S18:$V18,MATCH(view!BM$3,data!$Y18:$AB18,0)),BM20),\"●\"),\"●\"))","v":""},{"$f":"IF(ISERROR(MATCH(view!BN$3,data!$Y18:$AB18,0)),\"\",IFERROR(HYPERLINK(showDetails(INDEX(data!$S18:$V18,MATCH(view!BN$3,data!$Y18:$AB18,0)),BN20),\"●\"),\"●\"))","v":""},{"$f":"IF(ISERROR(MATCH(view!BO$3,data!$Y18:$AB18,0)),\"\",IFERROR(HYPERLINK(showDetails(INDEX(data!$S18:$V18,MATCH(view!BO$3,data!$Y18:$AB18,0)),BO20),\"●\"),\"●\"))","v":"●"},{"$f":"IF(ISERROR(MATCH(view!BP$3,data!$Y18:$AB18,0)),\"\",IFERROR(HYPERLINK(showDetails(INDEX(data!$S18:$V18,MATCH(view!BP$3,data!$Y18:$AB18,0)),BP20),\"●\"),\"●\"))","v":""},{"$f":"IF(ISERROR(MATCH(view!BQ$3,data!$Y18:$AB18,0)),\"\",IFERROR(HYPERLINK(showDetails(INDEX(data!$S18:$V18,MATCH(view!BQ$3,data!$Y18:$AB18,0)),BQ20),\"●\"),\"●\"))","v":"●"},{"$f":"IF(ISERROR(MATCH(view!BR$3,data!$Y18:$AB18,0)),\"\",IFERROR(HYPERLINK(showDetails(INDEX(data!$S18:$V18,MATCH(view!BR$3,data!$Y18:$AB18,0)),BR20),\"●\"),\"●\"))","v":""},{"$f":"IF(ISERROR(MATCH(view!BS$3,data!$Y18:$AB18,0)),\"\",IFERROR(HYPERLINK(showDetails(INDEX(data!$S18:$V18,MATCH(view!BS$3,data!$Y18:$AB18,0)),BS20),\"●\"),\"●\"))","v":""},{"$f":"IF(ISERROR(MATCH(view!BT$3,data!$Y18:$AB18,0)),\"\",IFERROR(HYPERLINK(showDetails(INDEX(data!$S18:$V18,MATCH(view!BT$3,data!$Y18:$AB18,0)),BT20),\"●\"),\"●\"))","v":""},{"$f":"IF(ISERROR(MATCH(view!BU$3,data!$Y18:$AB18,0)),\"\",IFERROR(HYPERLINK(showDetails(INDEX(data!$S18:$V18,MATCH(view!BU$3,data!$Y18:$AB18,0)),BU20),\"●\"),\"●\"))","v":""},{"$f":"IF(ISERROR(MATCH(view!BV$3,data!$Y18:$AB18,0)),\"\",IFERROR(HYPERLINK(showDetails(INDEX(data!$S18:$V18,MATCH(view!BV$3,data!$Y18:$AB18,0)),BV20),\"●\"),\"●\"))","v":""},{"$f":"IF(ISERROR(MATCH(view!BW$3,data!$Y18:$AB18,0)),\"\",IFERROR(HYPERLINK(showDetails(INDEX(data!$S18:$V18,MATCH(view!BW$3,data!$Y18:$AB18,0)),BW20),\"●\"),\"●\"))","v":""},{"$f":"IF(ISERROR(MATCH(view!BX$3,data!$Y18:$AB18,0)),\"\",IFERROR(HYPERLINK(showDetails(INDEX(data!$S18:$V18,MATCH(view!BX$3,data!$Y18:$AB18,0)),BX20),\"●\"),\"●\"))","v":""},{"$f":"IF(ISERROR(MATCH(view!BY$3,data!$Y18:$AB18,0)),\"\",IFERROR(HYPERLINK(showDetails(INDEX(data!$S18:$V18,MATCH(view!BY$3,data!$Y18:$AB18,0)),BY20),\"●\"),\"●\"))","v":""},{"$f":"IF(ISERROR(MATCH(view!BZ$3,data!$Y18:$AB18,0)),\"\",IFERROR(HYPERLINK(showDetails(INDEX(data!$S18:$V18,MATCH(view!BZ$3,data!$Y18:$AB18,0)),BZ20),\"●\"),\"●\"))","v":""},{"$f":"IF(ISERROR(MATCH(view!CA$3,data!$Y18:$AB18,0)),\"\",IFERROR(HYPERLINK(showDetails(INDEX(data!$S18:$V18,MATCH(view!CA$3,data!$Y18:$AB18,0)),CA20),\"●\"),\"●\"))","v":""},{"$f":"IF(ISERROR(MATCH(view!CB$3,data!$Y18:$AB18,0)),\"\",IFERROR(HYPERLINK(showDetails(INDEX(data!$S18:$V18,MATCH(view!CB$3,data!$Y18:$AB18,0)),CB20),\"●\"),\"●\"))","v":""},{"$f":"IF(ISERROR(MATCH(view!CC$3,data!$Y18:$AB18,0)),\"\",IFERROR(HYPERLINK(showDetails(INDEX(data!$S18:$V18,MATCH(view!CC$3,data!$Y18:$AB18,0)),CC20),\"●\"),\"●\"))","v":""},{"$f":"IF(ISERROR(MATCH(view!CD$3,data!$Y18:$AB18,0)),\"\",IFERROR(HYPERLINK(showDetails(INDEX(data!$S18:$V18,MATCH(view!CD$3,data!$Y18:$AB18,0)),CD20),\"●\"),\"●\"))","v":""},{"$f":"IF(ISERROR(MATCH(view!CE$3,data!$Y18:$AB18,0)),\"\",IFERROR(HYPERLINK(showDetails(INDEX(data!$S18:$V18,MATCH(view!CE$3,data!$Y18:$AB18,0)),CE20),\"●\"),\"●\"))","v":""},{"$f":"IF(ISERROR(MATCH(view!CF$3,data!$Y18:$AB18,0)),\"\",IFERROR(HYPERLINK(showDetails(INDEX(data!$S18:$V18,MATCH(view!CF$3,data!$Y18:$AB18,0)),CF20),\"●\"),\"●\"))","v":""},{"$f":"IF(ISERROR(MATCH(view!CG$3,data!$Y18:$AB18,0)),\"\",IFERROR(HYPERLINK(showDetails(INDEX(data!$S18:$V18,MATCH(view!CG$3,data!$Y18:$AB18,0)),CG20),\"●\"),\"●\"))","v":""},{"$f":"IF(ISERROR(MATCH(view!CH$3,data!$Y18:$AB18,0)),\"\",IFERROR(HYPERLINK(showDetails(INDEX(data!$S18:$V18,MATCH(view!CH$3,data!$Y18:$AB18,0)),CH20),\"●\"),\"●\"))","v":""},{"$f":"IF(ISERROR(MATCH(view!CI$3,data!$Y18:$AB18,0)),\"\",IFERROR(HYPERLINK(showDetails(INDEX(data!$S18:$V18,MATCH(view!CI$3,data!$Y18:$AB18,0)),CI20),\"●\"),\"●\"))","v":""},{"$f":"IF(ISERROR(MATCH(view!CJ$3,data!$Y18:$AB18,0)),\"\",IFERROR(HYPERLINK(showDetails(INDEX(data!$S18:$V18,MATCH(view!CJ$3,data!$Y18:$AB18,0)),CJ20),\"●\"),\"●\"))","v":""},{"$f":"IF(ISERROR(MATCH(view!CK$3,data!$Y18:$AB18,0)),\"\",IFERROR(HYPERLINK(showDetails(INDEX(data!$S18:$V18,MATCH(view!CK$3,data!$Y18:$AB18,0)),CK20),\"●\"),\"●\"))","v":""},{"$f":"IF(ISERROR(MATCH(view!CL$3,data!$Y18:$AB18,0)),\"\",IFERROR(HYPERLINK(showDetails(INDEX(data!$S18:$V18,MATCH(view!CL$3,data!$Y18:$AB18,0)),CL20),\"●\"),\"●\"))","v":""},{"$f":"IF(ISERROR(MATCH(view!CM$3,data!$Y18:$AB18,0)),\"\",IFERROR(HYPERLINK(showDetails(INDEX(data!$S18:$V18,MATCH(view!CM$3,data!$Y18:$AB18,0)),CM20),\"●\"),\"●\"))","v":""},{"$f":"IF(ISERROR(MATCH(view!CN$3,data!$Y18:$AB18,0)),\"\",IFERROR(HYPERLINK(showDetails(INDEX(data!$S18:$V18,MATCH(view!CN$3,data!$Y18:$AB18,0)),CN20),\"●\"),\"●\"))","v":""},{"$f":"IF(ISERROR(MATCH(view!CO$3,data!$Y18:$AB18,0)),\"\",IFERROR(HYPERLINK(showDetails(INDEX(data!$S18:$V18,MATCH(view!CO$3,data!$Y18:$AB18,0)),CO20),\"●\"),\"●\"))","v":""},{"$f":"IF(ISERROR(MATCH(view!CP$3,data!$Y18:$AB18,0)),\"\",IFERROR(HYPERLINK(showDetails(INDEX(data!$S18:$V18,MATCH(view!CP$3,data!$Y18:$AB18,0)),CP20),\"●\"),\"●\"))","v":""},{"$f":"IF(ISERROR(MATCH(view!CQ$3,data!$Y18:$AB18,0)),\"\",IFERROR(HYPERLINK(showDetails(INDEX(data!$S18:$V18,MATCH(view!CQ$3,data!$Y18:$AB18,0)),CQ20),\"●\"),\"●\"))","v":""},{"$f":"IF(ISERROR(MATCH(view!CR$3,data!$Y18:$AB18,0)),\"\",IFERROR(HYPERLINK(showDetails(INDEX(data!$S18:$V18,MATCH(view!CR$3,data!$Y18:$AB18,0)),CR20),\"●\"),\"●\"))","v":""},{"$f":"IF(ISERROR(MATCH(view!CS$3,data!$Y18:$AB18,0)),\"\",IFERROR(HYPERLINK(showDetails(INDEX(data!$S18:$V18,MATCH(view!CS$3,data!$Y18:$AB18,0)),CS20),\"●\"),\"●\"))","v":""},{"$f":"IF(ISERROR(MATCH(view!CT$3,data!$Y18:$AB18,0)),\"\",IFERROR(HYPERLINK(showDetails(INDEX(data!$S18:$V18,MATCH(view!CT$3,data!$Y18:$AB18,0)),CT20),\"●\"),\"●\"))","v":""},{"$f":"IF(ISERROR(MATCH(view!CU$3,data!$Y18:$AB18,0)),\"\",IFERROR(HYPERLINK(showDetails(INDEX(data!$S18:$V18,MATCH(view!CU$3,data!$Y18:$AB18,0)),CU20),\"●\"),\"●\"))","v":""},{"$f":"IF(ISERROR(MATCH(view!CV$3,data!$Y18:$AB18,0)),\"\",IFERROR(HYPERLINK(showDetails(INDEX(data!$S18:$V18,MATCH(view!CV$3,data!$Y18:$AB18,0)),CV20),\"●\"),\"●\"))","v":""},{"$f":"IF(ISERROR(MATCH(view!CW$3,data!$Y18:$AB18,0)),\"\",IFERROR(HYPERLINK(showDetails(INDEX(data!$S18:$V18,MATCH(view!CW$3,data!$Y18:$AB18,0)),CW20),\"●\"),\"●\"))","v":""},{"$f":"IF(ISERROR(MATCH(view!CX$3,data!$Y18:$AB18,0)),\"\",IFERROR(HYPERLINK(showDetails(INDEX(data!$S18:$V18,MATCH(view!CX$3,data!$Y18:$AB18,0)),CX20),\"●\"),\"●\"))","v":""},{"$f":"IF(ISERROR(MATCH(view!CY$3,data!$Y18:$AB18,0)),\"\",IFERROR(HYPERLINK(showDetails(INDEX(data!$S18:$V18,MATCH(view!CY$3,data!$Y18:$AB18,0)),CY20),\"●\"),\"●\"))","v":""},{"$f":"IF(ISERROR(MATCH(view!CZ$3,data!$Y18:$AB18,0)),\"\",IFERROR(HYPERLINK(showDetails(INDEX(data!$S18:$V18,MATCH(view!CZ$3,data!$Y18:$AB18,0)),CZ20),\"●\"),\"●\"))","v":""},{"$f":"IF(ISERROR(MATCH(view!DA$3,data!$Y18:$AB18,0)),\"\",IFERROR(HYPERLINK(showDetails(INDEX(data!$S18:$V18,MATCH(view!DA$3,data!$Y18:$AB18,0)),DA20),\"●\"),\"●\"))","v":""},{"$f":"IF(ISERROR(MATCH(view!DB$3,data!$Y18:$AB18,0)),\"\",IFERROR(HYPERLINK(showDetails(INDEX(data!$S18:$V18,MATCH(view!DB$3,data!$Y18:$AB18,0)),DB20),\"●\"),\"●\"))","v":""},{"$f":"IF(ISERROR(MATCH(view!DC$3,data!$Y18:$AB18,0)),\"\",IFERROR(HYPERLINK(showDetails(INDEX(data!$S18:$V18,MATCH(view!DC$3,data!$Y18:$AB18,0)),DC20),\"●\"),\"●\"))","v":""},{"$f":"IF(ISERROR(MATCH(view!DD$3,data!$Y18:$AB18,0)),\"\",IFERROR(HYPERLINK(showDetails(INDEX(data!$S18:$V18,MATCH(view!DD$3,data!$Y18:$AB18,0)),DD20),\"●\"),\"●\"))","v":""},{"$f":"IF(ISERROR(MATCH(view!DE$3,data!$Y18:$AB18,0)),\"\",IFERROR(HYPERLINK(showDetails(INDEX(data!$S18:$V18,MATCH(view!DE$3,data!$Y18:$AB18,0)),DE20),\"●\"),\"●\"))","v":""},{"$f":"IF(ISERROR(MATCH(view!DF$3,data!$Y18:$AB18,0)),\"\",IFERROR(HYPERLINK(showDetails(INDEX(data!$S18:$V18,MATCH(view!DF$3,data!$Y18:$AB18,0)),DF20),\"●\"),\"●\"))","v":""},{"$f":"IF(ISERROR(MATCH(view!DG$3,data!$Y18:$AB18,0)),\"\",IFERROR(HYPERLINK(showDetails(INDEX(data!$S18:$V18,MATCH(view!DG$3,data!$Y18:$AB18,0)),DG20),\"●\"),\"●\"))","v":""},{"$f":"IF(ISERROR(MATCH(view!DH$3,data!$Y18:$AB18,0)),\"\",IFERROR(HYPERLINK(showDetails(INDEX(data!$S18:$V18,MATCH(view!DH$3,data!$Y18:$AB18,0)),DH20),\"●\"),\"●\"))","v":""},{"$f":"IF(ISERROR(MATCH(view!DI$3,data!$Y18:$AB18,0)),\"\",IFERROR(HYPERLINK(showDetails(INDEX(data!$S18:$V18,MATCH(view!DI$3,data!$Y18:$AB18,0)),DI20),\"●\"),\"●\"))","v":""},{"$f":"IF(ISERROR(MATCH(view!DJ$3,data!$Y18:$AB18,0)),\"\",IFERROR(HYPERLINK(showDetails(INDEX(data!$S18:$V18,MATCH(view!DJ$3,data!$Y18:$AB18,0)),DJ20),\"●\"),\"●\"))","v":""},{"$f":"IF(ISERROR(MATCH(view!DK$3,data!$Y18:$AB18,0)),\"\",IFERROR(HYPERLINK(showDetails(INDEX(data!$S18:$V18,MATCH(view!DK$3,data!$Y18:$AB18,0)),DK20),\"●\"),\"●\"))","v":""},{"$f":"IF(ISERROR(MATCH(view!DL$3,data!$Y18:$AB18,0)),\"\",IFERROR(HYPERLINK(showDetails(INDEX(data!$S18:$V18,MATCH(view!DL$3,data!$Y18:$AB18,0)),DL20),\"●\"),\"●\"))","v":""},{"$f":"IF(ISERROR(MATCH(view!DM$3,data!$Y18:$AB18,0)),\"\",IFERROR(HYPERLINK(showDetails(INDEX(data!$S18:$V18,MATCH(view!DM$3,data!$Y18:$AB18,0)),DM20),\"●\"),\"●\"))","v":""},{"$f":"IF(ISERROR(MATCH(view!DN$3,data!$Y18:$AB18,0)),\"\",IFERROR(HYPERLINK(showDetails(INDEX(data!$S18:$V18,MATCH(view!DN$3,data!$Y18:$AB18,0)),DN20),\"●\"),\"●\"))","v":""},{"$f":"IF(ISERROR(MATCH(view!DO$3,data!$Y18:$AB18,0)),\"\",IFERROR(HYPERLINK(showDetails(INDEX(data!$S18:$V18,MATCH(view!DO$3,data!$Y18:$AB18,0)),DO20),\"●\"),\"●\"))","v":""},{"$f":"IF(ISERROR(MATCH(view!DP$3,data!$Y18:$AB18,0)),\"\",IFERROR(HYPERLINK(showDetails(INDEX(data!$S18:$V18,MATCH(view!DP$3,data!$Y18:$AB18,0)),DP20),\"●\"),\"●\"))","v":""},{"$f":"IF(ISERROR(MATCH(view!DQ$3,data!$Y18:$AB18,0)),\"\",IFERROR(HYPERLINK(showDetails(INDEX(data!$S18:$V18,MATCH(view!DQ$3,data!$Y18:$AB18,0)),DQ20),\"●\"),\"●\"))","v":""},{"$f":"IF(ISERROR(MATCH(view!DR$3,data!$Y18:$AB18,0)),\"\",IFERROR(HYPERLINK(showDetails(INDEX(data!$S18:$V18,MATCH(view!DR$3,data!$Y18:$AB18,0)),DR20),\"●\"),\"●\"))","v":""},{"$f":"IF(ISERROR(MATCH(view!DS$3,data!$Y18:$AB18,0)),\"\",IFERROR(HYPERLINK(showDetails(INDEX(data!$S18:$V18,MATCH(view!DS$3,data!$Y18:$AB18,0)),DS20),\"●\"),\"●\"))","v":""},{"$f":"INDEX(lstYears,A20) &\" - \"&INDEX(data!$W$3:$W$30,A20)","v":"1952 - Helsinki"}]
[17,null,{"$f":"IF(ISERROR(MATCH(view!C$3,data!$Y19:$AB19,0)),\"\",IFERROR(HYPERLINK(showDetails(INDEX(data!$S19:$V19,MATCH(view!C$3,data!$Y19:$AB19,0)),C21),\"●\"),\"●\"))","v":""},{"$f":"IF(ISERROR(MATCH(view!D$3,data!$Y19:$AB19,0)),\"\",IFERROR(HYPERLINK(showDetails(INDEX(data!$S19:$V19,MATCH(view!D$3,data!$Y19:$AB19,0)),D21),\"●\"),\"●\"))","v":""},{"$f":"IF(ISERROR(MATCH(view!E$3,data!$Y19:$AB19,0)),\"\",IFERROR(HYPERLINK(showDetails(INDEX(data!$S19:$V19,MATCH(view!E$3,data!$Y19:$AB19,0)),E21),\"●\"),\"●\"))","v":""},{"$f":"IF(ISERROR(MATCH(view!F$3,data!$Y19:$AB19,0)),\"\",IFERROR(HYPERLINK(showDetails(INDEX(data!$S19:$V19,MATCH(view!F$3,data!$Y19:$AB19,0)),F21),\"●\"),\"●\"))","v":""},{"$f":"IF(ISERROR(MATCH(view!G$3,data!$Y19:$AB19,0)),\"\",IFERROR(HYPERLINK(showDetails(INDEX(data!$S19:$V19,MATCH(view!G$3,data!$Y19:$AB19,0)),G21),\"●\"),\"●\"))","v":""},{"$f":"IF(ISERROR(MATCH(view!H$3,data!$Y19:$AB19,0)),\"\",IFERROR(HYPERLINK(showDetails(INDEX(data!$S19:$V19,MATCH(view!H$3,data!$Y19:$AB19,0)),H21),\"●\"),\"●\"))","v":""},{"$f":"IF(ISERROR(MATCH(view!I$3,data!$Y19:$AB19,0)),\"\",IFERROR(HYPERLINK(showDetails(INDEX(data!$S19:$V19,MATCH(view!I$3,data!$Y19:$AB19,0)),I21),\"●\"),\"●\"))","v":""},{"$f":"IF(ISERROR(MATCH(view!J$3,data!$Y19:$AB19,0)),\"\",IFERROR(HYPERLINK(showDetails(INDEX(data!$S19:$V19,MATCH(view!J$3,data!$Y19:$AB19,0)),J21),\"●\"),\"●\"))","v":""},{"$f":"IF(ISERROR(MATCH(view!K$3,data!$Y19:$AB19,0)),\"\",IFERROR(HYPERLINK(showDetails(INDEX(data!$S19:$V19,MATCH(view!K$3,data!$Y19:$AB19,0)),K21),\"●\"),\"●\"))","v":""},{"$f":"IF(ISERROR(MATCH(view!L$3,data!$Y19:$AB19,0)),\"\",IFERROR(HYPERLINK(showDetails(INDEX(data!$S19:$V19,MATCH(view!L$3,data!$Y19:$AB19,0)),L21),\"●\"),\"●\"))","v":""},{"$f":"IF(ISERROR(MATCH(view!M$3,data!$Y19:$AB19,0)),\"\",IFERROR(HYPERLINK(showDetails(INDEX(data!$S19:$V19,MATCH(view!M$3,data!$Y19:$AB19,0)),M21),\"●\"),\"●\"))","v":""},{"$f":"IF(ISERROR(MATCH(view!N$3,data!$Y19:$AB19,0)),\"\",IFERROR(HYPERLINK(showDetails(INDEX(data!$S19:$V19,MATCH(view!N$3,data!$Y19:$AB19,0)),N21),\"●\"),\"●\"))","v":""},{"$f":"IF(ISERROR(MATCH(view!O$3,data!$Y19:$AB19,0)),\"\",IFERROR(HYPERLINK(showDetails(INDEX(data!$S19:$V19,MATCH(view!O$3,data!$Y19:$AB19,0)),O21),\"●\"),\"●\"))","v":""},{"$f":"IF(ISERROR(MATCH(view!P$3,data!$Y19:$AB19,0)),\"\",IFERROR(HYPERLINK(showDetails(INDEX(data!$S19:$V19,MATCH(view!P$3,data!$Y19:$AB19,0)),P21),\"●\"),\"●\"))","v":""},{"$f":"IF(ISERROR(MATCH(view!Q$3,data!$Y19:$AB19,0)),\"\",IFERROR(HYPERLINK(showDetails(INDEX(data!$S19:$V19,MATCH(view!Q$3,data!$Y19:$AB19,0)),Q21),\"●\"),\"●\"))","v":""},{"$f":"IF(ISERROR(MATCH(view!R$3,data!$Y19:$AB19,0)),\"\",IFERROR(HYPERLINK(showDetails(INDEX(data!$S19:$V19,MATCH(view!R$3,data!$Y19:$AB19,0)),R21),\"●\"),\"●\"))","v":""},{"$f":"IF(ISERROR(MATCH(view!S$3,data!$Y19:$AB19,0)),\"\",IFERROR(HYPERLINK(showDetails(INDEX(data!$S19:$V19,MATCH(view!S$3,data!$Y19:$AB19,0)),S21),\"●\"),\"●\"))","v":""},{"$f":"IF(ISERROR(MATCH(view!T$3,data!$Y19:$AB19,0)),\"\",IFERROR(HYPERLINK(showDetails(INDEX(data!$S19:$V19,MATCH(view!T$3,data!$Y19:$AB19,0)),T21),\"●\"),\"●\"))","v":""},{"$f":"IF(ISERROR(MATCH(view!U$3,data!$Y19:$AB19,0)),\"\",IFERROR(HYPERLINK(showDetails(INDEX(data!$S19:$V19,MATCH(view!U$3,data!$Y19:$AB19,0)),U21),\"●\"),\"●\"))","v":""},{"$f":"IF(ISERROR(MATCH(view!V$3,data!$Y19:$AB19,0)),\"\",IFERROR(HYPERLINK(showDetails(INDEX(data!$S19:$V19,MATCH(view!V$3,data!$Y19:$AB19,0)),V21),\"●\"),\"●\"))","v":""},{"$f":"IF(ISERROR(MATCH(view!W$3,data!$Y19:$AB19,0)),\"\",IFERROR(HYPERLINK(showDetails(INDEX(data!$S19:$V19,MATCH(view!W$3,data!$Y19:$AB19,0)),W21),\"●\"),\"●\"))","v":""},{"$f":"IF(ISERROR(MATCH(view!X$3,data!$Y19:$AB19,0)),\"\",IFERROR(HYPERLINK(showDetails(INDEX(data!$S19:$V19,MATCH(view!X$3,data!$Y19:$AB19,0)),X21),\"●\"),\"●\"))","v":""},{"$f":"IF(ISERROR(MATCH(view!Y$3,data!$Y19:$AB19,0)),\"\",IFERROR(HYPERLINK(showDetails(INDEX(data!$S19:$V19,MATCH(view!Y$3,data!$Y19:$AB19,0)),Y21),\"●\"),\"●\"))","v":""},{"$f":"IF(ISERROR(MATCH(view!Z$3,data!$Y19:$AB19,0)),\"\",IFERROR(HYPERLINK(showDetails(INDEX(data!$S19:$V19,MATCH(view!Z$3,data!$Y19:$AB19,0)),Z21),\"●\"),\"●\"))","v":""},{"$f":"IF(ISERROR(MATCH(view!AA$3,data!$Y19:$AB19,0)),\"\",IFERROR(HYPERLINK(showDetails(INDEX(data!$S19:$V19,MATCH(view!AA$3,data!$Y19:$AB19,0)),AA21),\"●\"),\"●\"))","v":""},{"$f":"IF(ISERROR(MATCH(view!AB$3,data!$Y19:$AB19,0)),\"\",IFERROR(HYPERLINK(showDetails(INDEX(data!$S19:$V19,MATCH(view!AB$3,data!$Y19:$AB19,0)),AB21),\"●\"),\"●\"))","v":""},{"$f":"IF(ISERROR(MATCH(view!AC$3,data!$Y19:$AB19,0)),\"\",IFERROR(HYPERLINK(showDetails(INDEX(data!$S19:$V19,MATCH(view!AC$3,data!$Y19:$AB19,0)),AC21),\"●\"),\"●\"))","v":""},{"$f":"IF(ISERROR(MATCH(view!AD$3,data!$Y19:$AB19,0)),\"\",IFERROR(HYPERLINK(showDetails(INDEX(data!$S19:$V19,MATCH(view!AD$3,data!$Y19:$AB19,0)),AD21),\"●\"),\"●\"))","v":""},{"$f":"IF(ISERROR(MATCH(view!AE$3,data!$Y19:$AB19,0)),\"\",IFERROR(HYPERLINK(showDetails(INDEX(data!$S19:$V19,MATCH(view!AE$3,data!$Y19:$AB19,0)),AE21),\"●\"),\"●\"))","v":""},{"$f":"IF(ISERROR(MATCH(view!AF$3,data!$Y19:$AB19,0)),\"\",IFERROR(HYPERLINK(showDetails(INDEX(data!$S19:$V19,MATCH(view!AF$3,data!$Y19:$AB19,0)),AF21),\"●\"),\"●\"))","v":""},{"$f":"IF(ISERROR(MATCH(view!AG$3,data!$Y19:$AB19,0)),\"\",IFERROR(HYPERLINK(showDetails(INDEX(data!$S19:$V19,MATCH(view!AG$3,data!$Y19:$AB19,0)),AG21),\"●\"),\"●\"))","v":""},{"$f":"IF(ISERROR(MATCH(view!AH$3,data!$Y19:$AB19,0)),\"\",IFERROR(HYPERLINK(showDetails(INDEX(data!$S19:$V19,MATCH(view!AH$3,data!$Y19:$AB19,0)),AH21),\"●\"),\"●\"))","v":""},{"$f":"IF(ISERROR(MATCH(view!AI$3,data!$Y19:$AB19,0)),\"\",IFERROR(HYPERLINK(showDetails(INDEX(data!$S19:$V19,MATCH(view!AI$3,data!$Y19:$AB19,0)),AI21),\"●\"),\"●\"))","v":""},{"$f":"IF(ISERROR(MATCH(view!AJ$3,data!$Y19:$AB19,0)),\"\",IFERROR(HYPERLINK(showDetails(INDEX(data!$S19:$V19,MATCH(view!AJ$3,data!$Y19:$AB19,0)),AJ21),\"●\"),\"●\"))","v":""},{"$f":"IF(ISERROR(MATCH(view!AK$3,data!$Y19:$AB19,0)),\"\",IFERROR(HYPERLINK(showDetails(INDEX(data!$S19:$V19,MATCH(view!AK$3,data!$Y19:$AB19,0)),AK21),\"●\"),\"●\"))","v":""},{"$f":"IF(ISERROR(MATCH(view!AL$3,data!$Y19:$AB19,0)),\"\",IFERROR(HYPERLINK(showDetails(INDEX(data!$S19:$V19,MATCH(view!AL$3,data!$Y19:$AB19,0)),AL21),\"●\"),\"●\"))","v":""},{"$f":"IF(ISERROR(MATCH(view!AM$3,data!$Y19:$AB19,0)),\"\",IFERROR(HYPERLINK(showDetails(INDEX(data!$S19:$V19,MATCH(view!AM$3,data!$Y19:$AB19,0)),AM21),\"●\"),\"●\"))","v":""},{"$f":"IF(ISERROR(MATCH(view!AN$3,data!$Y19:$AB19,0)),\"\",IFERROR(HYPERLINK(showDetails(INDEX(data!$S19:$V19,MATCH(view!AN$3,data!$Y19:$AB19,0)),AN21),\"●\"),\"●\"))","v":""},{"$f":"IF(ISERROR(MATCH(view!AO$3,data!$Y19:$AB19,0)),\"\",IFERROR(HYPERLINK(showDetails(INDEX(data!$S19:$V19,MATCH(view!AO$3,data!$Y19:$AB19,0)),AO21),\"●\"),\"●\"))","v":""},{"$f":"IF(ISERROR(MATCH(view!AP$3,data!$Y19:$AB19,0)),\"\",IFERROR(HYPERLINK(showDetails(INDEX(data!$S19:$V19,MATCH(view!AP$3,data!$Y19:$AB19,0)),AP21),\"●\"),\"●\"))","v":""},{"$f":"IF(ISERROR(MATCH(view!AQ$3,data!$Y19:$AB19,0)),\"\",IFERROR(HYPERLINK(showDetails(INDEX(data!$S19:$V19,MATCH(view!AQ$3,data!$Y19:$AB19,0)),AQ21),\"●\"),\"●\"))","v":""},{"$f":"IF(ISERROR(MATCH(view!AR$3,data!$Y19:$AB19,0)),\"\",IFERROR(HYPERLINK(showDetails(INDEX(data!$S19:$V19,MATCH(view!AR$3,data!$Y19:$AB19,0)),AR21),\"●\"),\"●\"))","v":""},{"$f":"IF(ISERROR(MATCH(view!AS$3,data!$Y19:$AB19,0)),\"\",IFERROR(HYPERLINK(showDetails(INDEX(data!$S19:$V19,MATCH(view!AS$3,data!$Y19:$AB19,0)),AS21),\"●\"),\"●\"))","v":""},{"$f":"IF(ISERROR(MATCH(view!AT$3,data!$Y19:$AB19,0)),\"\",IFERROR(HYPERLINK(showDetails(INDEX(data!$S19:$V19,MATCH(view!AT$3,data!$Y19:$AB19,0)),AT21),\"●\"),\"●\"))","v":""},{"$f":"IF(ISERROR(MATCH(view!AU$3,data!$Y19:$AB19,0)),\"\",IFERROR(HYPERLINK(showDetails(INDEX(data!$S19:$V19,MATCH(view!AU$3,data!$Y19:$AB19,0)),AU21),\"●\"),\"●\"))","v":""},{"$f":"IF(ISERROR(MATCH(view!AV$3,data!$Y19:$AB19,0)),\"\",IFERROR(HYPERLINK(showDetails(INDEX(data!$S19:$V19,MATCH(view!AV$3,data!$Y19:$AB19,0)),AV21),\"●\"),\"●\"))","v":""},{"$f":"IF(ISERROR(MATCH(view!AW$3,data!$Y19:$AB19,0)),\"\",IFERROR(HYPERLINK(showDetails(INDEX(data!$S19:$V19,MATCH(view!AW$3,data!$Y19:$AB19,0)),AW21),\"●\"),\"●\"))","v":""},{"$f":"IF(ISERROR(MATCH(view!AX$3,data!$Y19:$AB19,0)),\"\",IFERROR(HYPERLINK(showDetails(INDEX(data!$S19:$V19,MATCH(view!AX$3,data!$Y19:$AB19,0)),AX21),\"●\"),\"●\"))","v":""},{"$f":"IF(ISERROR(MATCH(view!AY$3,data!$Y19:$AB19,0)),\"\",IFERROR(HYPERLINK(showDetails(INDEX(data!$S19:$V19,MATCH(view!AY$3,data!$Y19:$AB19,0)),AY21),\"●\"),\"●\"))","v":""},{"$f":"IF(ISERROR(MATCH(view!AZ$3,data!$Y19:$AB19,0)),\"\",IFERROR(HYPERLINK(showDetails(INDEX(data!$S19:$V19,MATCH(view!AZ$3,data!$Y19:$AB19,0)),AZ21),\"●\"),\"●\"))","v":""},{"$f":"IF(ISERROR(MATCH(view!BA$3,data!$Y19:$AB19,0)),\"\",IFERROR(HYPERLINK(showDetails(INDEX(data!$S19:$V19,MATCH(view!BA$3,data!$Y19:$AB19,0)),BA21),\"●\"),\"●\"))","v":""},{"$f":"IF(ISERROR(MATCH(view!BB$3,data!$Y19:$AB19,0)),\"\",IFERROR(HYPERLINK(showDetails(INDEX(data!$S19:$V19,MATCH(view!BB$3,data!$Y19:$AB19,0)),BB21),\"●\"),\"●\"))","v":""},{"$f":"IF(ISERROR(MATCH(view!BC$3,data!$Y19:$AB19,0)),\"\",IFERROR(HYPERLINK(showDetails(INDEX(data!$S19:$V19,MATCH(view!BC$3,data!$Y19:$AB19,0)),BC21),\"●\"),\"●\"))","v":""},{"$f":"IF(ISERROR(MATCH(view!BD$3,data!$Y19:$AB19,0)),\"\",IFERROR(HYPERLINK(showDetails(INDEX(data!$S19:$V19,MATCH(view!BD$3,data!$Y19:$AB19,0)),BD21),\"●\"),\"●\"))","v":""},{"$f":"IF(ISERROR(MATCH(view!BE$3,data!$Y19:$AB19,0)),\"\",IFERROR(HYPERLINK(showDetails(INDEX(data!$S19:$V19,MATCH(view!BE$3,data!$Y19:$AB19,0)),BE21),\"●\"),\"●\"))","v":""},{"$f":"IF(ISERROR(MATCH(view!BF$3,data!$Y19:$AB19,0)),\"\",IFERROR(HYPERLINK(showDetails(INDEX(data!$S19:$V19,MATCH(view!BF$3,data!$Y19:$AB19,0)),BF21),\"●\"),\"●\"))","v":""},{"$f":"IF(ISERROR(MATCH(view!BG$3,data!$Y19:$AB19,0)),\"\",IFERROR(HYPERLINK(showDetails(INDEX(data!$S19:$V19,MATCH(view!BG$3,data!$Y19:$AB19,0)),BG21),\"●\"),\"●\"))","v":""},{"$f":"IF(ISERROR(MATCH(view!BH$3,data!$Y19:$AB19,0)),\"\",IFERROR(HYPERLINK(showDetails(INDEX(data!$S19:$V19,MATCH(view!BH$3,data!$Y19:$AB19,0)),BH21),\"●\"),\"●\"))","v":""},{"$f":"IF(ISERROR(MATCH(view!BI$3,data!$Y19:$AB19,0)),\"\",IFERROR(HYPERLINK(showDetails(INDEX(data!$S19:$V19,MATCH(view!BI$3,data!$Y19:$AB19,0)),BI21),\"●\"),\"●\"))","v":""},{"$f":"IF(ISERROR(MATCH(view!BJ$3,data!$Y19:$AB19,0)),\"\",IFERROR(HYPERLINK(showDetails(INDEX(data!$S19:$V19,MATCH(view!BJ$3,data!$Y19:$AB19,0)),BJ21),\"●\"),\"●\"))","v":""},{"$f":"IF(ISERROR(MATCH(view!BK$3,data!$Y19:$AB19,0)),\"\",IFERROR(HYPERLINK(showDetails(INDEX(data!$S19:$V19,MATCH(view!BK$3,data!$Y19:$AB19,0)),BK21),\"●\"),\"●\"))","v":""},{"$f":"IF(ISERROR(MATCH(view!BL$3,data!$Y19:$AB19,0)),\"\",IFERROR(HYPERLINK(showDetails(INDEX(data!$S19:$V19,MATCH(view!BL$3,data!$Y19:$AB19,0)),BL21),\"●\"),\"●\"))","v":""},{"$f":"IF(ISERROR(MATCH(view!BM$3,data!$Y19:$AB19,0)),\"\",IFERROR(HYPERLINK(showDetails(INDEX(data!$S19:$V19,MATCH(view!BM$3,data!$Y19:$AB19,0)),BM21),\"●\"),\"●\"))","v":""},{"$f":"IF(ISERROR(MATCH(view!BN$3,data!$Y19:$AB19,0)),\"\",IFERROR(HYPERLINK(showDetails(INDEX(data!$S19:$V19,MATCH(view!BN$3,data!$Y19:$AB19,0)),BN21),\"●\"),\"●\"))","v":""},{"$f":"IF(ISERROR(MATCH(view!BO$3,data!$Y19:$AB19,0)),\"\",IFERROR(HYPERLINK(showDetails(INDEX(data!$S19:$V19,MATCH(view!BO$3,data!$Y19:$AB19,0)),BO21),\"●\"),\"●\"))","v":""},{"$f":"IF(ISERROR(MATCH(view!BP$3,data!$Y19:$AB19,0)),\"\",IFERROR(HYPERLINK(showDetails(INDEX(data!$S19:$V19,MATCH(view!BP$3,data!$Y19:$AB19,0)),BP21),\"●\"),\"●\"))","v":""},{"$f":"IF(ISERROR(MATCH(view!BQ$3,data!$Y19:$AB19,0)),\"\",IFERROR(HYPERLINK(showDetails(INDEX(data!$S19:$V19,MATCH(view!BQ$3,data!$Y19:$AB19,0)),BQ21),\"●\"),\"●\"))","v":""},{"$f":"IF(ISERROR(MATCH(view!BR$3,data!$Y19:$AB19,0)),\"\",IFERROR(HYPERLINK(showDetails(INDEX(data!$S19:$V19,MATCH(view!BR$3,data!$Y19:$AB19,0)),BR21),\"●\"),\"●\"))","v":""},{"$f":"IF(ISERROR(MATCH(view!BS$3,data!$Y19:$AB19,0)),\"\",IFERROR(HYPERLINK(showDetails(INDEX(data!$S19:$V19,MATCH(view!BS$3,data!$Y19:$AB19,0)),BS21),\"●\"),\"●\"))","v":""},{"$f":"IF(ISERROR(MATCH(view!BT$3,data!$Y19:$AB19,0)),\"\",IFERROR(HYPERLINK(showDetails(INDEX(data!$S19:$V19,MATCH(view!BT$3,data!$Y19:$AB19,0)),BT21),\"●\"),\"●\"))","v":""},{"$f":"IF(ISERROR(MATCH(view!BU$3,data!$Y19:$AB19,0)),\"\",IFERROR(HYPERLINK(showDetails(INDEX(data!$S19:$V19,MATCH(view!BU$3,data!$Y19:$AB19,0)),BU21),\"●\"),\"●\"))","v":""},{"$f":"IF(ISERROR(MATCH(view!BV$3,data!$Y19:$AB19,0)),\"\",IFERROR(HYPERLINK(showDetails(INDEX(data!$S19:$V19,MATCH(view!BV$3,data!$Y19:$AB19,0)),BV21),\"●\"),\"●\"))","v":""},{"$f":"IF(ISERROR(MATCH(view!BW$3,data!$Y19:$AB19,0)),\"\",IFERROR(HYPERLINK(showDetails(INDEX(data!$S19:$V19,MATCH(view!BW$3,data!$Y19:$AB19,0)),BW21),\"●\"),\"●\"))","v":""},{"$f":"IF(ISERROR(MATCH(view!BX$3,data!$Y19:$AB19,0)),\"\",IFERROR(HYPERLINK(showDetails(INDEX(data!$S19:$V19,MATCH(view!BX$3,data!$Y19:$AB19,0)),BX21),\"●\"),\"●\"))","v":""},{"$f":"IF(ISERROR(MATCH(view!BY$3,data!$Y19:$AB19,0)),\"\",IFERROR(HYPERLINK(showDetails(INDEX(data!$S19:$V19,MATCH(view!BY$3,data!$Y19:$AB19,0)),BY21),\"●\"),\"●\"))","v":""},{"$f":"IF(ISERROR(MATCH(view!BZ$3,data!$Y19:$AB19,0)),\"\",IFERROR(HYPERLINK(showDetails(INDEX(data!$S19:$V19,MATCH(view!BZ$3,data!$Y19:$AB19,0)),BZ21),\"●\"),\"●\"))","v":""},{"$f":"IF(ISERROR(MATCH(view!CA$3,data!$Y19:$AB19,0)),\"\",IFERROR(HYPERLINK(showDetails(INDEX(data!$S19:$V19,MATCH(view!CA$3,data!$Y19:$AB19,0)),CA21),\"●\"),\"●\"))","v":""},{"$f":"IF(ISERROR(MATCH(view!CB$3,data!$Y19:$AB19,0)),\"\",IFERROR(HYPERLINK(showDetails(INDEX(data!$S19:$V19,MATCH(view!CB$3,data!$Y19:$AB19,0)),CB21),\"●\"),\"●\"))","v":""},{"$f":"IF(ISERROR(MATCH(view!CC$3,data!$Y19:$AB19,0)),\"\",IFERROR(HYPERLINK(showDetails(INDEX(data!$S19:$V19,MATCH(view!CC$3,data!$Y19:$AB19,0)),CC21),\"●\"),\"●\"))","v":""},{"$f":"IF(ISERROR(MATCH(view!CD$3,data!$Y19:$AB19,0)),\"\",IFERROR(HYPERLINK(showDetails(INDEX(data!$S19:$V19,MATCH(view!CD$3,data!$Y19:$AB19,0)),CD21),\"●\"),\"●\"))","v":""},{"$f":"IF(ISERROR(MATCH(view!CE$3,data!$Y19:$AB19,0)),\"\",IFERROR(HYPERLINK(showDetails(INDEX(data!$S19:$V19,MATCH(view!CE$3,data!$Y19:$AB19,0)),CE21),\"●\"),\"●\"))","v":""},{"$f":"IF(ISERROR(MATCH(view!CF$3,data!$Y19:$AB19,0)),\"\",IFERROR(HYPERLINK(showDetails(INDEX(data!$S19:$V19,MATCH(view!CF$3,data!$Y19:$AB19,0)),CF21),\"●\"),\"●\"))","v":""},{"$f":"IF(ISERROR(MATCH(view!CG$3,data!$Y19:$AB19,0)),\"\",IFERROR(HYPERLINK(showDetails(INDEX(data!$S19:$V19,MATCH(view!CG$3,data!$Y19:$AB19,0)),CG21),\"●\"),\"●\"))","v":""},{"$f":"IF(ISERROR(MATCH(view!CH$3,data!$Y19:$AB19,0)),\"\",IFERROR(HYPERLINK(showDetails(INDEX(data!$S19:$V19,MATCH(view!CH$3,data!$Y19:$AB19,0)),CH21),\"●\"),\"●\"))","v":"●"},{"$f":"IF(ISERROR(MATCH(view!CI$3,data!$Y19:$AB19,0)),\"\",IFERROR(HYPERLINK(showDetails(INDEX(data!$S19:$V19,MATCH(view!CI$3,data!$Y19:$AB19,0)),CI21),\"●\"),\"●\"))","v":""},{"$f":"IF(ISERROR(MATCH(view!CJ$3,data!$Y19:$AB19,0)),\"\",IFERROR(HYPERLINK(showDetails(INDEX(data!$S19:$V19,MATCH(view!CJ$3,data!$Y19:$AB19,0)),CJ21),\"●\"),\"●\"))","v":""},{"$f":"IF(ISERROR(MATCH(view!CK$3,data!$Y19:$AB19,0)),\"\",IFERROR(HYPERLINK(showDetails(INDEX(data!$S19:$V19,MATCH(view!CK$3,data!$Y19:$AB19,0)),CK21),\"●\"),\"●\"))","v":""},{"$f":"IF(ISERROR(MATCH(view!CL$3,data!$Y19:$AB19,0)),\"\",IFERROR(HYPERLINK(showDetails(INDEX(data!$S19:$V19,MATCH(view!CL$3,data!$Y19:$AB19,0)),CL21),\"●\"),\"●\"))","v":"●"},{"$f":"IF(ISERROR(MATCH(view!CM$3,data!$Y19:$AB19,0)),\"\",IFERROR(HYPERLINK(showDetails(INDEX(data!$S19:$V19,MATCH(view!CM$3,data!$Y19:$AB19,0)),CM21),\"●\"),\"●\"))","v":""},{"$f":"IF(ISERROR(MATCH(view!CN$3,data!$Y19:$AB19,0)),\"\",IFERROR(HYPERLINK(showDetails(INDEX(data!$S19:$V19,MATCH(view!CN$3,data!$Y19:$AB19,0)),CN21),\"●\"),\"●\"))","v":""},{"$f":"IF(ISERROR(MATCH(view!CO$3,data!$Y19:$AB19,0)),\"\",IFERROR(HYPERLINK(showDetails(INDEX(data!$S19:$V19,MATCH(view!CO$3,data!$Y19:$AB19,0)),CO21),\"●\"),\"●\"))","v":""},{"$f":"IF(ISERROR(MATCH(view!CP$3,data!$Y19:$AB19,0)),\"\",IFERROR(HYPERLINK(showDetails(INDEX(data!$S19:$V19,MATCH(view!CP$3,data!$Y19:$AB19,0)),CP21),\"●\"),\"●\"))","v":""},{"$f":"IF(ISERROR(MATCH(view!CQ$3,data!$Y19:$AB19,0)),\"\",IFERROR(HYPERLINK(showDetails(INDEX(data!$S19:$V19,MATCH(view!CQ$3,data!$Y19:$AB19,0)),CQ21),\"●\"),\"●\"))","v":""},{"$f":"IF(ISERROR(MATCH(view!CR$3,data!$Y19:$AB19,0)),\"\",IFERROR(HYPERLINK(showDetails(INDEX(data!$S19:$V19,MATCH(view!CR$3,data!$Y19:$AB19,0)),CR21),\"●\"),\"●\"))","v":""},{"$f":"IF(ISERROR(MATCH(view!CS$3,data!$Y19:$AB19,0)),\"\",IFERROR(HYPERLINK(showDetails(INDEX(data!$S19:$V19,MATCH(view!CS$3,data!$Y19:$AB19,0)),CS21),\"●\"),\"●\"))","v":""},{"$f":"IF(ISERROR(MATCH(view!CT$3,data!$Y19:$AB19,0)),\"\",IFERROR(HYPERLINK(showDetails(INDEX(data!$S19:$V19,MATCH(view!CT$3,data!$Y19:$AB19,0)),CT21),\"●\"),\"●\"))","v":""},{"$f":"IF(ISERROR(MATCH(view!CU$3,data!$Y19:$AB19,0)),\"\",IFERROR(HYPERLINK(showDetails(INDEX(data!$S19:$V19,MATCH(view!CU$3,data!$Y19:$AB19,0)),CU21),\"●\"),\"●\"))","v":""},{"$f":"IF(ISERROR(MATCH(view!CV$3,data!$Y19:$AB19,0)),\"\",IFERROR(HYPERLINK(showDetails(INDEX(data!$S19:$V19,MATCH(view!CV$3,data!$Y19:$AB19,0)),CV21),\"●\"),\"●\"))","v":""},{"$f":"IF(ISERROR(MATCH(view!CW$3,data!$Y19:$AB19,0)),\"\",IFERROR(HYPERLINK(showDetails(INDEX(data!$S19:$V19,MATCH(view!CW$3,data!$Y19:$AB19,0)),CW21),\"●\"),\"●\"))","v":""},{"$f":"IF(ISERROR(MATCH(view!CX$3,data!$Y19:$AB19,0)),\"\",IFERROR(HYPERLINK(showDetails(INDEX(data!$S19:$V19,MATCH(view!CX$3,data!$Y19:$AB19,0)),CX21),\"●\"),\"●\"))","v":""},{"$f":"IF(ISERROR(MATCH(view!CY$3,data!$Y19:$AB19,0)),\"\",IFERROR(HYPERLINK(showDetails(INDEX(data!$S19:$V19,MATCH(view!CY$3,data!$Y19:$AB19,0)),CY21),\"●\"),\"●\"))","v":""},{"$f":"IF(ISERROR(MATCH(view!CZ$3,data!$Y19:$AB19,0)),\"\",IFERROR(HYPERLINK(showDetails(INDEX(data!$S19:$V19,MATCH(view!CZ$3,data!$Y19:$AB19,0)),CZ21),\"●\"),\"●\"))","v":""},{"$f":"IF(ISERROR(MATCH(view!DA$3,data!$Y19:$AB19,0)),\"\",IFERROR(HYPERLINK(showDetails(INDEX(data!$S19:$V19,MATCH(view!DA$3,data!$Y19:$AB19,0)),DA21),\"●\"),\"●\"))","v":""},{"$f":"IF(ISERROR(MATCH(view!DB$3,data!$Y19:$AB19,0)),\"\",IFERROR(HYPERLINK(showDetails(INDEX(data!$S19:$V19,MATCH(view!DB$3,data!$Y19:$AB19,0)),DB21),\"●\"),\"●\"))","v":""},{"$f":"IF(ISERROR(MATCH(view!DC$3,data!$Y19:$AB19,0)),\"\",IFERROR(HYPERLINK(showDetails(INDEX(data!$S19:$V19,MATCH(view!DC$3,data!$Y19:$AB19,0)),DC21),\"●\"),\"●\"))","v":""},{"$f":"IF(ISERROR(MATCH(view!DD$3,data!$Y19:$AB19,0)),\"\",IFERROR(HYPERLINK(showDetails(INDEX(data!$S19:$V19,MATCH(view!DD$3,data!$Y19:$AB19,0)),DD21),\"●\"),\"●\"))","v":""},{"$f":"IF(ISERROR(MATCH(view!DE$3,data!$Y19:$AB19,0)),\"\",IFERROR(HYPERLINK(showDetails(INDEX(data!$S19:$V19,MATCH(view!DE$3,data!$Y19:$AB19,0)),DE21),\"●\"),\"●\"))","v":""},{"$f":"IF(ISERROR(MATCH(view!DF$3,data!$Y19:$AB19,0)),\"\",IFERROR(HYPERLINK(showDetails(INDEX(data!$S19:$V19,MATCH(view!DF$3,data!$Y19:$AB19,0)),DF21),\"●\"),\"●\"))","v":""},{"$f":"IF(ISERROR(MATCH(view!DG$3,data!$Y19:$AB19,0)),\"\",IFERROR(HYPERLINK(showDetails(INDEX(data!$S19:$V19,MATCH(view!DG$3,data!$Y19:$AB19,0)),DG21),\"●\"),\"●\"))","v":""},{"$f":"IF(ISERROR(MATCH(view!DH$3,data!$Y19:$AB19,0)),\"\",IFERROR(HYPERLINK(showDetails(INDEX(data!$S19:$V19,MATCH(view!DH$3,data!$Y19:$AB19,0)),DH21),\"●\"),\"●\"))","v":""},{"$f":"IF(ISERROR(MATCH(view!DI$3,data!$Y19:$AB19,0)),\"\",IFERROR(HYPERLINK(showDetails(INDEX(data!$S19:$V19,MATCH(view!DI$3,data!$Y19:$AB19,0)),DI21),\"●\"),\"●\"))","v":""},{"$f":"IF(ISERROR(MATCH(view!DJ$3,data!$Y19:$AB19,0)),\"\",IFERROR(HYPERLINK(showDetails(INDEX(data!$S19:$V19,MATCH(view!DJ$3,data!$Y19:$AB19,0)),DJ21),\"●\"),\"●\"))","v":""},{"$f":"IF(ISERROR(MATCH(view!DK$3,data!$Y19:$AB19,0)),\"\",IFERROR(HYPERLINK(showDetails(INDEX(data!$S19:$V19,MATCH(view!DK$3,data!$Y19:$AB19,0)),DK21),\"●\"),\"●\"))","v":""},{"$f":"IF(ISERROR(MATCH(view!DL$3,data!$Y19:$AB19,0)),\"\",IFERROR(HYPERLINK(showDetails(INDEX(data!$S19:$V19,MATCH(view!DL$3,data!$Y19:$AB19,0)),DL21),\"●\"),\"●\"))","v":""},{"$f":"IF(ISERROR(MATCH(view!DM$3,data!$Y19:$AB19,0)),\"\",IFERROR(HYPERLINK(showDetails(INDEX(data!$S19:$V19,MATCH(view!DM$3,data!$Y19:$AB19,0)),DM21),\"●\"),\"●\"))","v":""},{"$f":"IF(ISERROR(MATCH(view!DN$3,data!$Y19:$AB19,0)),\"\",IFERROR(HYPERLINK(showDetails(INDEX(data!$S19:$V19,MATCH(view!DN$3,data!$Y19:$AB19,0)),DN21),\"●\"),\"●\"))","v":""},{"$f":"IF(ISERROR(MATCH(view!DO$3,data!$Y19:$AB19,0)),\"\",IFERROR(HYPERLINK(showDetails(INDEX(data!$S19:$V19,MATCH(view!DO$3,data!$Y19:$AB19,0)),DO21),\"●\"),\"●\"))","v":""},{"$f":"IF(ISERROR(MATCH(view!DP$3,data!$Y19:$AB19,0)),\"\",IFERROR(HYPERLINK(showDetails(INDEX(data!$S19:$V19,MATCH(view!DP$3,data!$Y19:$AB19,0)),DP21),\"●\"),\"●\"))","v":""},{"$f":"IF(ISERROR(MATCH(view!DQ$3,data!$Y19:$AB19,0)),\"\",IFERROR(HYPERLINK(showDetails(INDEX(data!$S19:$V19,MATCH(view!DQ$3,data!$Y19:$AB19,0)),DQ21),\"●\"),\"●\"))","v":""},{"$f":"IF(ISERROR(MATCH(view!DR$3,data!$Y19:$AB19,0)),\"\",IFERROR(HYPERLINK(showDetails(INDEX(data!$S19:$V19,MATCH(view!DR$3,data!$Y19:$AB19,0)),DR21),\"●\"),\"●\"))","v":""},{"$f":"IF(ISERROR(MATCH(view!DS$3,data!$Y19:$AB19,0)),\"\",IFERROR(HYPERLINK(showDetails(INDEX(data!$S19:$V19,MATCH(view!DS$3,data!$Y19:$AB19,0)),DS21),\"●\"),\"●\"))","v":""},{"$f":"INDEX(lstYears,A21) &\" - \"&INDEX(data!$W$3:$W$30,A21)","v":"1948 - London"}]
[18,null,{"$f":"IF(ISERROR(MATCH(view!C$3,data!$Y20:$AB20,0)),\"\",IFERROR(HYPERLINK(showDetails(INDEX(data!$S20:$V20,MATCH(view!C$3,data!$Y20:$AB20,0)),C22),\"●\"),\"●\"))","v":""},{"$f":"IF(ISERROR(MATCH(view!D$3,data!$Y20:$AB20,0)),\"\",IFERROR(HYPERLINK(showDetails(INDEX(data!$S20:$V20,MATCH(view!D$3,data!$Y20:$AB20,0)),D22),\"●\"),\"●\"))","v":""},{"$f":"IF(ISERROR(MATCH(view!E$3,data!$Y20:$AB20,0)),\"\",IFERROR(HYPERLINK(showDetails(INDEX(data!$S20:$V20,MATCH(view!E$3,data!$Y20:$AB20,0)),E22),\"●\"),\"●\"))","v":""},{"$f":"IF(ISERROR(MATCH(view!F$3,data!$Y20:$AB20,0)),\"\",IFERROR(HYPERLINK(showDetails(INDEX(data!$S20:$V20,MATCH(view!F$3,data!$Y20:$AB20,0)),F22),\"●\"),\"●\"))","v":""},{"$f":"IF(ISERROR(MATCH(view!G$3,data!$Y20:$AB20,0)),\"\",IFERROR(HYPERLINK(showDetails(INDEX(data!$S20:$V20,MATCH(view!G$3,data!$Y20:$AB20,0)),G22),\"●\"),\"●\"))","v":""},{"$f":"IF(ISERROR(MATCH(view!H$3,data!$Y20:$AB20,0)),\"\",IFERROR(HYPERLINK(showDetails(INDEX(data!$S20:$V20,MATCH(view!H$3,data!$Y20:$AB20,0)),H22),\"●\"),\"●\"))","v":""},{"$f":"IF(ISERROR(MATCH(view!I$3,data!$Y20:$AB20,0)),\"\",IFERROR(HYPERLINK(showDetails(INDEX(data!$S20:$V20,MATCH(view!I$3,data!$Y20:$AB20,0)),I22),\"●\"),\"●\"))","v":""},{"$f":"IF(ISERROR(MATCH(view!J$3,data!$Y20:$AB20,0)),\"\",IFERROR(HYPERLINK(showDetails(INDEX(data!$S20:$V20,MATCH(view!J$3,data!$Y20:$AB20,0)),J22),\"●\"),\"●\"))","v":""},{"$f":"IF(ISERROR(MATCH(view!K$3,data!$Y20:$AB20,0)),\"\",IFERROR(HYPERLINK(showDetails(INDEX(data!$S20:$V20,MATCH(view!K$3,data!$Y20:$AB20,0)),K22),\"●\"),\"●\"))","v":""},{"$f":"IF(ISERROR(MATCH(view!L$3,data!$Y20:$AB20,0)),\"\",IFERROR(HYPERLINK(showDetails(INDEX(data!$S20:$V20,MATCH(view!L$3,data!$Y20:$AB20,0)),L22),\"●\"),\"●\"))","v":""},{"$f":"IF(ISERROR(MATCH(view!M$3,data!$Y20:$AB20,0)),\"\",IFERROR(HYPERLINK(showDetails(INDEX(data!$S20:$V20,MATCH(view!M$3,data!$Y20:$AB20,0)),M22),\"●\"),\"●\"))","v":""},{"$f":"IF(ISERROR(MATCH(view!N$3,data!$Y20:$AB20,0)),\"\",IFERROR(HYPERLINK(showDetails(INDEX(data!$S20:$V20,MATCH(view!N$3,data!$Y20:$AB20,0)),N22),\"●\"),\"●\"))","v":""},{"$f":"IF(ISERROR(MATCH(view!O$3,data!$Y20:$AB20,0)),\"\",IFERROR(HYPERLINK(showDetails(INDEX(data!$S20:$V20,MATCH(view!O$3,data!$Y20:$AB20,0)),O22),\"●\"),\"●\"))","v":""},{"$f":"IF(ISERROR(MATCH(view!P$3,data!$Y20:$AB20,0)),\"\",IFERROR(HYPERLINK(showDetails(INDEX(data!$S20:$V20,MATCH(view!P$3,data!$Y20:$AB20,0)),P22),\"●\"),\"●\"))","v":""},{"$f":"IF(ISERROR(MATCH(view!Q$3,data!$Y20:$AB20,0)),\"\",IFERROR(HYPERLINK(showDetails(INDEX(data!$S20:$V20,MATCH(view!Q$3,data!$Y20:$AB20,0)),Q22),\"●\"),\"●\"))","v":""},{"$f":"IF(ISERROR(MATCH(view!R$3,data!$Y20:$AB20,0)),\"\",IFERROR(HYPERLINK(showDetails(INDEX(data!$S20:$V20,MATCH(view!R$3,data!$Y20:$AB20,0)),R22),\"●\"),\"●\"))","v":""},{"$f":"IF(ISERROR(MATCH(view!S$3,data!$Y20:$AB20,0)),\"\",IFERROR(HYPERLINK(showDetails(INDEX(data!$S20:$V20,MATCH(view!S$3,data!$Y20:$AB20,0)),S22),\"●\"),\"●\"))","v":""},{"$f":"IF(ISERROR(MATCH(view!T$3,data!$Y20:$AB20,0)),\"\",IFERROR(HYPERLINK(showDetails(INDEX(data!$S20:$V20,MATCH(view!T$3,data!$Y20:$AB20,0)),T22),\"●\"),\"●\"))","v":""},{"$f":"IF(ISERROR(MATCH(view!U$3,data!$Y20:$AB20,0)),\"\",IFERROR(HYPERLINK(showDetails(INDEX(data!$S20:$V20,MATCH(view!U$3,data!$Y20:$AB20,0)),U22),\"●\"),\"●\"))","v":""},{"$f":"IF(ISERROR(MATCH(view!V$3,data!$Y20:$AB20,0)),\"\",IFERROR(HYPERLINK(showDetails(INDEX(data!$S20:$V20,MATCH(view!V$3,data!$Y20:$AB20,0)),V22),\"●\"),\"●\"))","v":""},{"$f":"IF(ISERROR(MATCH(view!W$3,data!$Y20:$AB20,0)),\"\",IFERROR(HYPERLINK(showDetails(INDEX(data!$S20:$V20,MATCH(view!W$3,data!$Y20:$AB20,0)),W22),\"●\"),\"●\"))","v":""},{"$f":"IF(ISERROR(MATCH(view!X$3,data!$Y20:$AB20,0)),\"\",IFERROR(HYPERLINK(showDetails(INDEX(data!$S20:$V20,MATCH(view!X$3,data!$Y20:$AB20,0)),X22),\"●\"),\"●\"))","v":""},{"$f":"IF(ISERROR(MATCH(view!Y$3,data!$Y20:$AB20,0)),\"\",IFERROR(HYPERLINK(showDetails(INDEX(data!$S20:$V20,MATCH(view!Y$3,data!$Y20:$AB20,0)),Y22),\"●\"),\"●\"))","v":""},{"$f":"IF(ISERROR(MATCH(view!Z$3,data!$Y20:$AB20,0)),\"\",IFERROR(HYPERLINK(showDetails(INDEX(data!$S20:$V20,MATCH(view!Z$3,data!$Y20:$AB20,0)),Z22),\"●\"),\"●\"))","v":""},{"$f":"IF(ISERROR(MATCH(view!AA$3,data!$Y20:$AB20,0)),\"\",IFERROR(HYPERLINK(showDetails(INDEX(data!$S20:$V20,MATCH(view!AA$3,data!$Y20:$AB20,0)),AA22),\"●\"),\"●\"))","v":""},{"$f":"IF(ISERROR(MATCH(view!AB$3,data!$Y20:$AB20,0)),\"\",IFERROR(HYPERLINK(showDetails(INDEX(data!$S20:$V20,MATCH(view!AB$3,data!$Y20:$AB20,0)),AB22),\"●\"),\"●\"))","v":""},{"$f":"IF(ISERROR(MATCH(view!AC$3,data!$Y20:$AB20,0)),\"\",IFERROR(HYPERLINK(showDetails(INDEX(data!$S20:$V20,MATCH(view!AC$3,data!$Y20:$AB20,0)),AC22),\"●\"),\"●\"))","v":""},{"$f":"IF(ISERROR(MATCH(view!AD$3,data!$Y20:$AB20,0)),\"\",IFERROR(HYPERLINK(showDetails(INDEX(data!$S20:$V20,MATCH(view!AD$3,data!$Y20:$AB20,0)),AD22),\"●\"),\"●\"))","v":""},{"$f":"IF(ISERROR(MATCH(view!AE$3,data!$Y20:$AB20,0)),\"\",IFERROR(HYPERLINK(showDetails(INDEX(data!$S20:$V20,MATCH(view!AE$3,data!$Y20:$AB20,0)),AE22),\"●\"),\"●\"))","v":""},{"$f":"IF(ISERROR(MATCH(view!AF$3,data!$Y20:$AB20,0)),\"\",IFERROR(HYPERLINK(showDetails(INDEX(data!$S20:$V20,MATCH(view!AF$3,data!$Y20:$AB20,0)),AF22),\"●\"),\"●\"))","v":""},{"$f":"IF(ISERROR(MATCH(view!AG$3,data!$Y20:$AB20,0)),\"\",IFERROR(HYPERLINK(showDetails(INDEX(data!$S20:$V20,MATCH(view!AG$3,data!$Y20:$AB20,0)),AG22),\"●\"),\"●\"))","v":""},{"$f":"IF(ISERROR(MATCH(view!AH$3,data!$Y20:$AB20,0)),\"\",IFERROR(HYPERLINK(showDetails(INDEX(data!$S20:$V20,MATCH(view!AH$3,data!$Y20:$AB20,0)),AH22),\"●\"),\"●\"))","v":""},{"$f":"IF(ISERROR(MATCH(view!AI$3,data!$Y20:$AB20,0)),\"\",IFERROR(HYPERLINK(showDetails(INDEX(data!$S20:$V20,MATCH(view!AI$3,data!$Y20:$AB20,0)),AI22),\"●\"),\"●\"))","v":""},{"$f":"IF(ISERROR(MATCH(view!AJ$3,data!$Y20:$AB20,0)),\"\",IFERROR(HYPERLINK(showDetails(INDEX(data!$S20:$V20,MATCH(view!AJ$3,data!$Y20:$AB20,0)),AJ22),\"●\"),\"●\"))","v":""},{"$f":"IF(ISERROR(MATCH(view!AK$3,data!$Y20:$AB20,0)),\"\",IFERROR(HYPERLINK(showDetails(INDEX(data!$S20:$V20,MATCH(view!AK$3,data!$Y20:$AB20,0)),AK22),\"●\"),\"●\"))","v":""},{"$f":"IF(ISERROR(MATCH(view!AL$3,data!$Y20:$AB20,0)),\"\",IFERROR(HYPERLINK(showDetails(INDEX(data!$S20:$V20,MATCH(view!AL$3,data!$Y20:$AB20,0)),AL22),\"●\"),\"●\"))","v":""},{"$f":"IF(ISERROR(MATCH(view!AM$3,data!$Y20:$AB20,0)),\"\",IFERROR(HYPERLINK(showDetails(INDEX(data!$S20:$V20,MATCH(view!AM$3,data!$Y20:$AB20,0)),AM22),\"●\"),\"●\"))","v":""},{"$f":"IF(ISERROR(MATCH(view!AN$3,data!$Y20:$AB20,0)),\"\",IFERROR(HYPERLINK(showDetails(INDEX(data!$S20:$V20,MATCH(view!AN$3,data!$Y20:$AB20,0)),AN22),\"●\"),\"●\"))","v":""},{"$f":"IF(ISERROR(MATCH(view!AO$3,data!$Y20:$AB20,0)),\"\",IFERROR(HYPERLINK(showDetails(INDEX(data!$S20:$V20,MATCH(view!AO$3,data!$Y20:$AB20,0)),AO22),\"●\"),\"●\"))","v":""},{"$f":"IF(ISERROR(MATCH(view!AP$3,data!$Y20:$AB20,0)),\"\",IFERROR(HYPERLINK(showDetails(INDEX(data!$S20:$V20,MATCH(view!AP$3,data!$Y20:$AB20,0)),AP22),\"●\"),\"●\"))","v":""},{"$f":"IF(ISERROR(MATCH(view!AQ$3,data!$Y20:$AB20,0)),\"\",IFERROR(HYPERLINK(showDetails(INDEX(data!$S20:$V20,MATCH(view!AQ$3,data!$Y20:$AB20,0)),AQ22),\"●\"),\"●\"))","v":""},{"$f":"IF(ISERROR(MATCH(view!AR$3,data!$Y20:$AB20,0)),\"\",IFERROR(HYPERLINK(showDetails(INDEX(data!$S20:$V20,MATCH(view!AR$3,data!$Y20:$AB20,0)),AR22),\"●\"),\"●\"))","v":""},{"$f":"IF(ISERROR(MATCH(view!AS$3,data!$Y20:$AB20,0)),\"\",IFERROR(HYPERLINK(showDetails(INDEX(data!$S20:$V20,MATCH(view!AS$3,data!$Y20:$AB20,0)),AS22),\"●\"),\"●\"))","v":""},{"$f":"IF(ISERROR(MATCH(view!AT$3,data!$Y20:$AB20,0)),\"\",IFERROR(HYPERLINK(showDetails(INDEX(data!$S20:$V20,MATCH(view!AT$3,data!$Y20:$AB20,0)),AT22),\"●\"),\"●\"))","v":""},{"$f":"IF(ISERROR(MATCH(view!AU$3,data!$Y20:$AB20,0)),\"\",IFERROR(HYPERLINK(showDetails(INDEX(data!$S20:$V20,MATCH(view!AU$3,data!$Y20:$AB20,0)),AU22),\"●\"),\"●\"))","v":""},{"$f":"IF(ISERROR(MATCH(view!AV$3,data!$Y20:$AB20,0)),\"\",IFERROR(HYPERLINK(showDetails(INDEX(data!$S20:$V20,MATCH(view!AV$3,data!$Y20:$AB20,0)),AV22),\"●\"),\"●\"))","v":""},{"$f":"IF(ISERROR(MATCH(view!AW$3,data!$Y20:$AB20,0)),\"\",IFERROR(HYPERLINK(showDetails(INDEX(data!$S20:$V20,MATCH(view!AW$3,data!$Y20:$AB20,0)),AW22),\"●\"),\"●\"))","v":""},{"$f":"IF(ISERROR(MATCH(view!AX$3,data!$Y20:$AB20,0)),\"\",IFERROR(HYPERLINK(showDetails(INDEX(data!$S20:$V20,MATCH(view!AX$3,data!$Y20:$AB20,0)),AX22),\"●\"),\"●\"))","v":""},{"$f":"IF(ISERROR(MATCH(view!AY$3,data!$Y20:$AB20,0)),\"\",IFERROR(HYPERLINK(showDetails(INDEX(data!$S20:$V20,MATCH(view!AY$3,data!$Y20:$AB20,0)),AY22),\"●\"),\"●\"))","v":""},{"$f":"IF(ISERROR(MATCH(view!AZ$3,data!$Y20:$AB20,0)),\"\",IFERROR(HYPERLINK(showDetails(INDEX(data!$S20:$V20,MATCH(view!AZ$3,data!$Y20:$AB20,0)),AZ22),\"●\"),\"●\"))","v":""},{"$f":"IF(ISERROR(MATCH(view!BA$3,data!$Y20:$AB20,0)),\"\",IFERROR(HYPERLINK(showDetails(INDEX(data!$S20:$V20,MATCH(view!BA$3,data!$Y20:$AB20,0)),BA22),\"●\"),\"●\"))","v":""},{"$f":"IF(ISERROR(MATCH(view!BB$3,data!$Y20:$AB20,0)),\"\",IFERROR(HYPERLINK(showDetails(INDEX(data!$S20:$V20,MATCH(view!BB$3,data!$Y20:$AB20,0)),BB22),\"●\"),\"●\"))","v":""},{"$f":"IF(ISERROR(MATCH(view!BC$3,data!$Y20:$AB20,0)),\"\",IFERROR(HYPERLINK(showDetails(INDEX(data!$S20:$V20,MATCH(view!BC$3,data!$Y20:$AB20,0)),BC22),\"●\"),\"●\"))","v":""},{"$f":"IF(ISERROR(MATCH(view!BD$3,data!$Y20:$AB20,0)),\"\",IFERROR(HYPERLINK(showDetails(INDEX(data!$S20:$V20,MATCH(view!BD$3,data!$Y20:$AB20,0)),BD22),\"●\"),\"●\"))","v":""},{"$f":"IF(ISERROR(MATCH(view!BE$3,data!$Y20:$AB20,0)),\"\",IFERROR(HYPERLINK(showDetails(INDEX(data!$S20:$V20,MATCH(view!BE$3,data!$Y20:$AB20,0)),BE22),\"●\"),\"●\"))","v":""},{"$f":"IF(ISERROR(MATCH(view!BF$3,data!$Y20:$AB20,0)),\"\",IFERROR(HYPERLINK(showDetails(INDEX(data!$S20:$V20,MATCH(view!BF$3,data!$Y20:$AB20,0)),BF22),\"●\"),\"●\"))","v":""},{"$f":"IF(ISERROR(MATCH(view!BG$3,data!$Y20:$AB20,0)),\"\",IFERROR(HYPERLINK(showDetails(INDEX(data!$S20:$V20,MATCH(view!BG$3,data!$Y20:$AB20,0)),BG22),\"●\"),\"●\"))","v":""},{"$f":"IF(ISERROR(MATCH(view!BH$3,data!$Y20:$AB20,0)),\"\",IFERROR(HYPERLINK(showDetails(INDEX(data!$S20:$V20,MATCH(view!BH$3,data!$Y20:$AB20,0)),BH22),\"●\"),\"●\"))","v":""},{"$f":"IF(ISERROR(MATCH(view!BI$3,data!$Y20:$AB20,0)),\"\",IFERROR(HYPERLINK(showDetails(INDEX(data!$S20:$V20,MATCH(view!BI$3,data!$Y20:$AB20,0)),BI22),\"●\"),\"●\"))","v":""},{"$f":"IF(ISERROR(MATCH(view!BJ$3,data!$Y20:$AB20,0)),\"\",IFERROR(HYPERLINK(showDetails(INDEX(data!$S20:$V20,MATCH(view!BJ$3,data!$Y20:$AB20,0)),BJ22),\"●\"),\"●\"))","v":""},{"$f":"IF(ISERROR(MATCH(view!BK$3,data!$Y20:$AB20,0)),\"\",IFERROR(HYPERLINK(showDetails(INDEX(data!$S20:$V20,MATCH(view!BK$3,data!$Y20:$AB20,0)),BK22),\"●\"),\"●\"))","v":""},{"$f":"IF(ISERROR(MATCH(view!BL$3,data!$Y20:$AB20,0)),\"\",IFERROR(HYPERLINK(showDetails(INDEX(data!$S20:$V20,MATCH(view!BL$3,data!$Y20:$AB20,0)),BL22),\"●\"),\"●\"))","v":""},{"$f":"IF(ISERROR(MATCH(view!BM$3,data!$Y20:$AB20,0)),\"\",IFERROR(HYPERLINK(showDetails(INDEX(data!$S20:$V20,MATCH(view!BM$3,data!$Y20:$AB20,0)),BM22),\"●\"),\"●\"))","v":""},{"$f":"IF(ISERROR(MATCH(view!BN$3,data!$Y20:$AB20,0)),\"\",IFERROR(HYPERLINK(showDetails(INDEX(data!$S20:$V20,MATCH(view!BN$3,data!$Y20:$AB20,0)),BN22),\"●\"),\"●\"))","v":""},{"$f":"IF(ISERROR(MATCH(view!BO$3,data!$Y20:$AB20,0)),\"\",IFERROR(HYPERLINK(showDetails(INDEX(data!$S20:$V20,MATCH(view!BO$3,data!$Y20:$AB20,0)),BO22),\"●\"),\"●\"))","v":""},{"$f":"IF(ISERROR(MATCH(view!BP$3,data!$Y20:$AB20,0)),\"\",IFERROR(HYPERLINK(showDetails(INDEX(data!$S20:$V20,MATCH(view!BP$3,data!$Y20:$AB20,0)),BP22),\"●\"),\"●\"))","v":""},{"$f":"IF(ISERROR(MATCH(view!BQ$3,data!$Y20:$AB20,0)),\"\",IFERROR(HYPERLINK(showDetails(INDEX(data!$S20:$V20,MATCH(view!BQ$3,data!$Y20:$AB20,0)),BQ22),\"●\"),\"●\"))","v":""},{"$f":"IF(ISERROR(MATCH(view!BR$3,data!$Y20:$AB20,0)),\"\",IFERROR(HYPERLINK(showDetails(INDEX(data!$S20:$V20,MATCH(view!BR$3,data!$Y20:$AB20,0)),BR22),\"●\"),\"●\"))","v":""},{"$f":"IF(ISERROR(MATCH(view!BS$3,data!$Y20:$AB20,0)),\"\",IFERROR(HYPERLINK(showDetails(INDEX(data!$S20:$V20,MATCH(view!BS$3,data!$Y20:$AB20,0)),BS22),\"●\"),\"●\"))","v":""},{"$f":"IF(ISERROR(MATCH(view!BT$3,data!$Y20:$AB20,0)),\"\",IFERROR(HYPERLINK(showDetails(INDEX(data!$S20:$V20,MATCH(view!BT$3,data!$Y20:$AB20,0)),BT22),\"●\"),\"●\"))","v":""},{"$f":"IF(ISERROR(MATCH(view!BU$3,data!$Y20:$AB20,0)),\"\",IFERROR(HYPERLINK(showDetails(INDEX(data!$S20:$V20,MATCH(view!BU$3,data!$Y20:$AB20,0)),BU22),\"●\"),\"●\"))","v":""},{"$f":"IF(ISERROR(MATCH(view!BV$3,data!$Y20:$AB20,0)),\"\",IFERROR(HYPERLINK(showDetails(INDEX(data!$S20:$V20,MATCH(view!BV$3,data!$Y20:$AB20,0)),BV22),\"●\"),\"●\"))","v":""},{"$f":"IF(ISERROR(MATCH(view!BW$3,data!$Y20:$AB20,0)),\"\",IFERROR(HYPERLINK(showDetails(INDEX(data!$S20:$V20,MATCH(view!BW$3,data!$Y20:$AB20,0)),BW22),\"●\"),\"●\"))","v":""},{"$f":"IF(ISERROR(MATCH(view!BX$3,data!$Y20:$AB20,0)),\"\",IFERROR(HYPERLINK(showDetails(INDEX(data!$S20:$V20,MATCH(view!BX$3,data!$Y20:$AB20,0)),BX22),\"●\"),\"●\"))","v":""},{"$f":"IF(ISERROR(MATCH(view!BY$3,data!$Y20:$AB20,0)),\"\",IFERROR(HYPERLINK(showDetails(INDEX(data!$S20:$V20,MATCH(view!BY$3,data!$Y20:$AB20,0)),BY22),\"●\"),\"●\"))","v":""},{"$f":"IF(ISERROR(MATCH(view!BZ$3,data!$Y20:$AB20,0)),\"\",IFERROR(HYPERLINK(showDetails(INDEX(data!$S20:$V20,MATCH(view!BZ$3,data!$Y20:$AB20,0)),BZ22),\"●\"),\"●\"))","v":""},{"$f":"IF(ISERROR(MATCH(view!CA$3,data!$Y20:$AB20,0)),\"\",IFERROR(HYPERLINK(showDetails(INDEX(data!$S20:$V20,MATCH(view!CA$3,data!$Y20:$AB20,0)),CA22),\"●\"),\"●\"))","v":""},{"$f":"IF(ISERROR(MATCH(view!CB$3,data!$Y20:$AB20,0)),\"\",IFERROR(HYPERLINK(showDetails(INDEX(data!$S20:$V20,MATCH(view!CB$3,data!$Y20:$AB20,0)),CB22),\"●\"),\"●\"))","v":""},{"$f":"IF(ISERROR(MATCH(view!CC$3,data!$Y20:$AB20,0)),\"\",IFERROR(HYPERLINK(showDetails(INDEX(data!$S20:$V20,MATCH(view!CC$3,data!$Y20:$AB20,0)),CC22),\"●\"),\"●\"))","v":"●"},{"$f":"IF(ISERROR(MATCH(view!CD$3,data!$Y20:$AB20,0)),\"\",IFERROR(HYPERLINK(showDetails(INDEX(data!$S20:$V20,MATCH(view!CD$3,data!$Y20:$AB20,0)),CD22),\"●\"),\"●\"))","v":""},{"$f":"IF(ISERROR(MATCH(view!CE$3,data!$Y20:$AB20,0)),\"\",IFERROR(HYPERLINK(showDetails(INDEX(data!$S20:$V20,MATCH(view!CE$3,data!$Y20:$AB20,0)),CE22),\"●\"),\"●\"))","v":""},{"$f":"IF(ISERROR(MATCH(view!CF$3,data!$Y20:$AB20,0)),\"\",IFERROR(HYPERLINK(showDetails(INDEX(data!$S20:$V20,MATCH(view!CF$3,data!$Y20:$AB20,0)),CF22),\"●\"),\"●\"))","v":""},{"$f":"IF(ISERROR(MATCH(view!CG$3,data!$Y20:$AB20,0)),\"\",IFERROR(HYPERLINK(showDetails(INDEX(data!$S20:$V20,MATCH(view!CG$3,data!$Y20:$AB20,0)),CG22),\"●\"),\"●\"))","v":""},{"$f":"IF(ISERROR(MATCH(view!CH$3,data!$Y20:$AB20,0)),\"\",IFERROR(HYPERLINK(showDetails(INDEX(data!$S20:$V20,MATCH(view!CH$3,data!$Y20:$AB20,0)),CH22),\"●\"),\"●\"))","v":"●"},{"$f":"IF(ISERROR(MATCH(view!CI$3,data!$Y20:$AB20,0)),\"\",IFERROR(HYPERLINK(showDetails(INDEX(data!$S20:$V20,MATCH(view!CI$3,data!$Y20:$AB20,0)),CI22),\"●\"),\"●\"))","v":""},{"$f":"IF(ISERROR(MATCH(view!CJ$3,data!$Y20:$AB20,0)),\"\",IFERROR(HYPERLINK(showDetails(INDEX(data!$S20:$V20,MATCH(view!CJ$3,data!$Y20:$AB20,0)),CJ22),\"●\"),\"●\"))","v":""},{"$f":"IF(ISERROR(MATCH(view!CK$3,data!$Y20:$AB20,0)),\"\",IFERROR(HYPERLINK(showDetails(INDEX(data!$S20:$V20,MATCH(view!CK$3,data!$Y20:$AB20,0)),CK22),\"●\"),\"●\"))","v":""},{"$f":"IF(ISERROR(MATCH(view!CL$3,data!$Y20:$AB20,0)),\"\",IFERROR(HYPERLINK(showDetails(INDEX(data!$S20:$V20,MATCH(view!CL$3,data!$Y20:$AB20,0)),CL22),\"●\"),\"●\"))","v":"●"},{"$f":"IF(ISERROR(MATCH(view!CM$3,data!$Y20:$AB20,0)),\"\",IFERROR(HYPERLINK(showDetails(INDEX(data!$S20:$V20,MATCH(view!CM$3,data!$Y20:$AB20,0)),CM22),\"●\"),\"●\"))","v":""},{"$f":"IF(ISERROR(MATCH(view!CN$3,data!$Y20:$AB20,0)),\"\",IFERROR(HYPERLINK(showDetails(INDEX(data!$S20:$V20,MATCH(view!CN$3,data!$Y20:$AB20,0)),CN22),\"●\"),\"●\"))","v":""},{"$f":"IF(ISERROR(MATCH(view!CO$3,data!$Y20:$AB20,0)),\"\",IFERROR(HYPERLINK(showDetails(INDEX(data!$S20:$V20,MATCH(view!CO$3,data!$Y20:$AB20,0)),CO22),\"●\"),\"●\"))","v":""},{"$f":"IF(ISERROR(MATCH(view!CP$3,data!$Y20:$AB20,0)),\"\",IFERROR(HYPERLINK(showDetails(INDEX(data!$S20:$V20,MATCH(view!CP$3,data!$Y20:$AB20,0)),CP22),\"●\"),\"●\"))","v":""},{"$f":"IF(ISERROR(MATCH(view!CQ$3,data!$Y20:$AB20,0)),\"\",IFERROR(HYPERLINK(showDetails(INDEX(data!$S20:$V20,MATCH(view!CQ$3,data!$Y20:$AB20,0)),CQ22),\"●\"),\"●\"))","v":""},{"$f":"IF(ISERROR(MATCH(view!CR$3,data!$Y20:$AB20,0)),\"\",IFERROR(HYPERLINK(showDetails(INDEX(data!$S20:$V20,MATCH(view!CR$3,data!$Y20:$AB20,0)),CR22),\"●\"),\"●\"))","v":""},{"$f":"IF(ISERROR(MATCH(view!CS$3,data!$Y20:$AB20,0)),\"\",IFERROR(HYPERLINK(showDetails(INDEX(data!$S20:$V20,MATCH(view!CS$3,data!$Y20:$AB20,0)),CS22),\"●\"),\"●\"))","v":""},{"$f":"IF(ISERROR(MATCH(view!CT$3,data!$Y20:$AB20,0)),\"\",IFERROR(HYPERLINK(showDetails(INDEX(data!$S20:$V20,MATCH(view!CT$3,data!$Y20:$AB20,0)),CT22),\"●\"),\"●\"))","v":""},{"$f":"IF(ISERROR(MATCH(view!CU$3,data!$Y20:$AB20,0)),\"\",IFERROR(HYPERLINK(showDetails(INDEX(data!$S20:$V20,MATCH(view!CU$3,data!$Y20:$AB20,0)),CU22),\"●\"),\"●\"))","v":""},{"$f":"IF(ISERROR(MATCH(view!CV$3,data!$Y20:$AB20,0)),\"\",IFERROR(HYPERLINK(showDetails(INDEX(data!$S20:$V20,MATCH(view!CV$3,data!$Y20:$AB20,0)),CV22),\"●\"),\"●\"))","v":""},{"$f":"IF(ISERROR(MATCH(view!CW$3,data!$Y20:$AB20,0)),\"\",IFERROR(HYPERLINK(showDetails(INDEX(data!$S20:$V20,MATCH(view!CW$3,data!$Y20:$AB20,0)),CW22),\"●\"),\"●\"))","v":""},{"$f":"IF(ISERROR(MATCH(view!CX$3,data!$Y20:$AB20,0)),\"\",IFERROR(HYPERLINK(showDetails(INDEX(data!$S20:$V20,MATCH(view!CX$3,data!$Y20:$AB20,0)),CX22),\"●\"),\"●\"))","v":""},{"$f":"IF(ISERROR(MATCH(view!CY$3,data!$Y20:$AB20,0)),\"\",IFERROR(HYPERLINK(showDetails(INDEX(data!$S20:$V20,MATCH(view!CY$3,data!$Y20:$AB20,0)),CY22),\"●\"),\"●\"))","v":""},{"$f":"IF(ISERROR(MATCH(view!CZ$3,data!$Y20:$AB20,0)),\"\",IFERROR(HYPERLINK(showDetails(INDEX(data!$S20:$V20,MATCH(view!CZ$3,data!$Y20:$AB20,0)),CZ22),\"●\"),\"●\"))","v":""},{"$f":"IF(ISERROR(MATCH(view!DA$3,data!$Y20:$AB20,0)),\"\",IFERROR(HYPERLINK(showDetails(INDEX(data!$S20:$V20,MATCH(view!DA$3,data!$Y20:$AB20,0)),DA22),\"●\"),\"●\"))","v":""},{"$f":"IF(ISERROR(MATCH(view!DB$3,data!$Y20:$AB20,0)),\"\",IFERROR(HYPERLINK(showDetails(INDEX(data!$S20:$V20,MATCH(view!DB$3,data!$Y20:$AB20,0)),DB22),\"●\"),\"●\"))","v":""},{"$f":"IF(ISERROR(MATCH(view!DC$3,data!$Y20:$AB20,0)),\"\",IFERROR(HYPERLINK(showDetails(INDEX(data!$S20:$V20,MATCH(view!DC$3,data!$Y20:$AB20,0)),DC22),\"●\"),\"●\"))","v":""},{"$f":"IF(ISERROR(MATCH(view!DD$3,data!$Y20:$AB20,0)),\"\",IFERROR(HYPERLINK(showDetails(INDEX(data!$S20:$V20,MATCH(view!DD$3,data!$Y20:$AB20,0)),DD22),\"●\"),\"●\"))","v":""},{"$f":"IF(ISERROR(MATCH(view!DE$3,data!$Y20:$AB20,0)),\"\",IFERROR(HYPERLINK(showDetails(INDEX(data!$S20:$V20,MATCH(view!DE$3,data!$Y20:$AB20,0)),DE22),\"●\"),\"●\"))","v":""},{"$f":"IF(ISERROR(MATCH(view!DF$3,data!$Y20:$AB20,0)),\"\",IFERROR(HYPERLINK(showDetails(INDEX(data!$S20:$V20,MATCH(view!DF$3,data!$Y20:$AB20,0)),DF22),\"●\"),\"●\"))","v":""},{"$f":"IF(ISERROR(MATCH(view!DG$3,data!$Y20:$AB20,0)),\"\",IFERROR(HYPERLINK(showDetails(INDEX(data!$S20:$V20,MATCH(view!DG$3,data!$Y20:$AB20,0)),DG22),\"●\"),\"●\"))","v":""},{"$f":"IF(ISERROR(MATCH(view!DH$3,data!$Y20:$AB20,0)),\"\",IFERROR(HYPERLINK(showDetails(INDEX(data!$S20:$V20,MATCH(view!DH$3,data!$Y20:$AB20,0)),DH22),\"●\"),\"●\"))","v":""},{"$f":"IF(ISERROR(MATCH(view!DI$3,data!$Y20:$AB20,0)),\"\",IFERROR(HYPERLINK(showDetails(INDEX(data!$S20:$V20,MATCH(view!DI$3,data!$Y20:$AB20,0)),DI22),\"●\"),\"●\"))","v":""},{"$f":"IF(ISERROR(MATCH(view!DJ$3,data!$Y20:$AB20,0)),\"\",IFERROR(HYPERLINK(showDetails(INDEX(data!$S20:$V20,MATCH(view!DJ$3,data!$Y20:$AB20,0)),DJ22),\"●\"),\"●\"))","v":""},{"$f":"IF(ISERROR(MATCH(view!DK$3,data!$Y20:$AB20,0)),\"\",IFERROR(HYPERLINK(showDetails(INDEX(data!$S20:$V20,MATCH(view!DK$3,data!$Y20:$AB20,0)),DK22),\"●\"),\"●\"))","v":""},{"$f":"IF(ISERROR(MATCH(view!DL$3,data!$Y20:$AB20,0)),\"\",IFERROR(HYPERLINK(showDetails(INDEX(data!$S20:$V20,MATCH(view!DL$3,data!$Y20:$AB20,0)),DL22),\"●\"),\"●\"))","v":""},{"$f":"IF(ISERROR(MATCH(view!DM$3,data!$Y20:$AB20,0)),\"\",IFERROR(HYPERLINK(showDetails(INDEX(data!$S20:$V20,MATCH(view!DM$3,data!$Y20:$AB20,0)),DM22),\"●\"),\"●\"))","v":""},{"$f":"IF(ISERROR(MATCH(view!DN$3,data!$Y20:$AB20,0)),\"\",IFERROR(HYPERLINK(showDetails(INDEX(data!$S20:$V20,MATCH(view!DN$3,data!$Y20:$AB20,0)),DN22),\"●\"),\"●\"))","v":""},{"$f":"IF(ISERROR(MATCH(view!DO$3,data!$Y20:$AB20,0)),\"\",IFERROR(HYPERLINK(showDetails(INDEX(data!$S20:$V20,MATCH(view!DO$3,data!$Y20:$AB20,0)),DO22),\"●\"),\"●\"))","v":""},{"$f":"IF(ISERROR(MATCH(view!DP$3,data!$Y20:$AB20,0)),\"\",IFERROR(HYPERLINK(showDetails(INDEX(data!$S20:$V20,MATCH(view!DP$3,data!$Y20:$AB20,0)),DP22),\"●\"),\"●\"))","v":""},{"$f":"IF(ISERROR(MATCH(view!DQ$3,data!$Y20:$AB20,0)),\"\",IFERROR(HYPERLINK(showDetails(INDEX(data!$S20:$V20,MATCH(view!DQ$3,data!$Y20:$AB20,0)),DQ22),\"●\"),\"●\"))","v":""},{"$f":"IF(ISERROR(MATCH(view!DR$3,data!$Y20:$AB20,0)),\"\",IFERROR(HYPERLINK(showDetails(INDEX(data!$S20:$V20,MATCH(view!DR$3,data!$Y20:$AB20,0)),DR22),\"●\"),\"●\"))","v":""},{"$f":"IF(ISERROR(MATCH(view!DS$3,data!$Y20:$AB20,0)),\"\",IFERROR(HYPERLINK(showDetails(INDEX(data!$S20:$V20,MATCH(view!DS$3,data!$Y20:$AB20,0)),DS22),\"●\"),\"●\"))","v":""},{"$f":"INDEX(lstYears,A22) &\" - \"&INDEX(data!$W$3:$W$30,A22)","v":"1936 - Berlin"}]
[19,null,{"$f":"IF(ISERROR(MATCH(view!C$3,data!$Y21:$AB21,0)),\"\",IFERROR(HYPERLINK(showDetails(INDEX(data!$S21:$V21,MATCH(view!C$3,data!$Y21:$AB21,0)),C23),\"●\"),\"●\"))","v":""},{"$f":"IF(ISERROR(MATCH(view!D$3,data!$Y21:$AB21,0)),\"\",IFERROR(HYPERLINK(showDetails(INDEX(data!$S21:$V21,MATCH(view!D$3,data!$Y21:$AB21,0)),D23),\"●\"),\"●\"))","v":""},{"$f":"IF(ISERROR(MATCH(view!E$3,data!$Y21:$AB21,0)),\"\",IFERROR(HYPERLINK(showDetails(INDEX(data!$S21:$V21,MATCH(view!E$3,data!$Y21:$AB21,0)),E23),\"●\"),\"●\"))","v":""},{"$f":"IF(ISERROR(MATCH(view!F$3,data!$Y21:$AB21,0)),\"\",IFERROR(HYPERLINK(showDetails(INDEX(data!$S21:$V21,MATCH(view!F$3,data!$Y21:$AB21,0)),F23),\"●\"),\"●\"))","v":""},{"$f":"IF(ISERROR(MATCH(view!G$3,data!$Y21:$AB21,0)),\"\",IFERROR(HYPERLINK(showDetails(INDEX(data!$S21:$V21,MATCH(view!G$3,data!$Y21:$AB21,0)),G23),\"●\"),\"●\"))","v":""},{"$f":"IF(ISERROR(MATCH(view!H$3,data!$Y21:$AB21,0)),\"\",IFERROR(HYPERLINK(showDetails(INDEX(data!$S21:$V21,MATCH(view!H$3,data!$Y21:$AB21,0)),H23),\"●\"),\"●\"))","v":""},{"$f":"IF(ISERROR(MATCH(view!I$3,data!$Y21:$AB21,0)),\"\",IFERROR(HYPERLINK(showDetails(INDEX(data!$S21:$V21,MATCH(view!I$3,data!$Y21:$AB21,0)),I23),\"●\"),\"●\"))","v":""},{"$f":"IF(ISERROR(MATCH(view!J$3,data!$Y21:$AB21,0)),\"\",IFERROR(HYPERLINK(showDetails(INDEX(data!$S21:$V21,MATCH(view!J$3,data!$Y21:$AB21,0)),J23),\"●\"),\"●\"))","v":""},{"$f":"IF(ISERROR(MATCH(view!K$3,data!$Y21:$AB21,0)),\"\",IFERROR(HYPERLINK(showDetails(INDEX(data!$S21:$V21,MATCH(view!K$3,data!$Y21:$AB21,0)),K23),\"●\"),\"●\"))","v":""},{"$f":"IF(ISERROR(MATCH(view!L$3,data!$Y21:$AB21,0)),\"\",IFERROR(HYPERLINK(showDetails(INDEX(data!$S21:$V21,MATCH(view!L$3,data!$Y21:$AB21,0)),L23),\"●\"),\"●\"))","v":""},{"$f":"IF(ISERROR(MATCH(view!M$3,data!$Y21:$AB21,0)),\"\",IFERROR(HYPERLINK(showDetails(INDEX(data!$S21:$V21,MATCH(view!M$3,data!$Y21:$AB21,0)),M23),\"●\"),\"●\"))","v":""},{"$f":"IF(ISERROR(MATCH(view!N$3,data!$Y21:$AB21,0)),\"\",IFERROR(HYPERLINK(showDetails(INDEX(data!$S21:$V21,MATCH(view!N$3,data!$Y21:$AB21,0)),N23),\"●\"),\"●\"))","v":""},{"$f":"IF(ISERROR(MATCH(view!O$3,data!$Y21:$AB21,0)),\"\",IFERROR(HYPERLINK(showDetails(INDEX(data!$S21:$V21,MATCH(view!O$3,data!$Y21:$AB21,0)),O23),\"●\"),\"●\"))","v":""},{"$f":"IF(ISERROR(MATCH(view!P$3,data!$Y21:$AB21,0)),\"\",IFERROR(HYPERLINK(showDetails(INDEX(data!$S21:$V21,MATCH(view!P$3,data!$Y21:$AB21,0)),P23),\"●\"),\"●\"))","v":""},{"$f":"IF(ISERROR(MATCH(view!Q$3,data!$Y21:$AB21,0)),\"\",IFERROR(HYPERLINK(showDetails(INDEX(data!$S21:$V21,MATCH(view!Q$3,data!$Y21:$AB21,0)),Q23),\"●\"),\"●\"))","v":""},{"$f":"IF(ISERROR(MATCH(view!R$3,data!$Y21:$AB21,0)),\"\",IFERROR(HYPERLINK(showDetails(INDEX(data!$S21:$V21,MATCH(view!R$3,data!$Y21:$AB21,0)),R23),\"●\"),\"●\"))","v":""},{"$f":"IF(ISERROR(MATCH(view!S$3,data!$Y21:$AB21,0)),\"\",IFERROR(HYPERLINK(showDetails(INDEX(data!$S21:$V21,MATCH(view!S$3,data!$Y21:$AB21,0)),S23),\"●\"),\"●\"))","v":""},{"$f":"IF(ISERROR(MATCH(view!T$3,data!$Y21:$AB21,0)),\"\",IFERROR(HYPERLINK(showDetails(INDEX(data!$S21:$V21,MATCH(view!T$3,data!$Y21:$AB21,0)),T23),\"●\"),\"●\"))","v":""},{"$f":"IF(ISERROR(MATCH(view!U$3,data!$Y21:$AB21,0)),\"\",IFERROR(HYPERLINK(showDetails(INDEX(data!$S21:$V21,MATCH(view!U$3,data!$Y21:$AB21,0)),U23),\"●\"),\"●\"))","v":""},{"$f":"IF(ISERROR(MATCH(view!V$3,data!$Y21:$AB21,0)),\"\",IFERROR(HYPERLINK(showDetails(INDEX(data!$S21:$V21,MATCH(view!V$3,data!$Y21:$AB21,0)),V23),\"●\"),\"●\"))","v":""},{"$f":"IF(ISERROR(MATCH(view!W$3,data!$Y21:$AB21,0)),\"\",IFERROR(HYPERLINK(showDetails(INDEX(data!$S21:$V21,MATCH(view!W$3,data!$Y21:$AB21,0)),W23),\"●\"),\"●\"))","v":""},{"$f":"IF(ISERROR(MATCH(view!X$3,data!$Y21:$AB21,0)),\"\",IFERROR(HYPERLINK(showDetails(INDEX(data!$S21:$V21,MATCH(view!X$3,data!$Y21:$AB21,0)),X23),\"●\"),\"●\"))","v":""},{"$f":"IF(ISERROR(MATCH(view!Y$3,data!$Y21:$AB21,0)),\"\",IFERROR(HYPERLINK(showDetails(INDEX(data!$S21:$V21,MATCH(view!Y$3,data!$Y21:$AB21,0)),Y23),\"●\"),\"●\"))","v":""},{"$f":"IF(ISERROR(MATCH(view!Z$3,data!$Y21:$AB21,0)),\"\",IFERROR(HYPERLINK(showDetails(INDEX(data!$S21:$V21,MATCH(view!Z$3,data!$Y21:$AB21,0)),Z23),\"●\"),\"●\"))","v":""},{"$f":"IF(ISERROR(MATCH(view!AA$3,data!$Y21:$AB21,0)),\"\",IFERROR(HYPERLINK(showDetails(INDEX(data!$S21:$V21,MATCH(view!AA$3,data!$Y21:$AB21,0)),AA23),\"●\"),\"●\"))","v":""},{"$f":"IF(ISERROR(MATCH(view!AB$3,data!$Y21:$AB21,0)),\"\",IFERROR(HYPERLINK(showDetails(INDEX(data!$S21:$V21,MATCH(view!AB$3,data!$Y21:$AB21,0)),AB23),\"●\"),\"●\"))","v":""},{"$f":"IF(ISERROR(MATCH(view!AC$3,data!$Y21:$AB21,0)),\"\",IFERROR(HYPERLINK(showDetails(INDEX(data!$S21:$V21,MATCH(view!AC$3,data!$Y21:$AB21,0)),AC23),\"●\"),\"●\"))","v":""},{"$f":"IF(ISERROR(MATCH(view!AD$3,data!$Y21:$AB21,0)),\"\",IFERROR(HYPERLINK(showDetails(INDEX(data!$S21:$V21,MATCH(view!AD$3,data!$Y21:$AB21,0)),AD23),\"●\"),\"●\"))","v":""},{"$f":"IF(ISERROR(MATCH(view!AE$3,data!$Y21:$AB21,0)),\"\",IFERROR(HYPERLINK(showDetails(INDEX(data!$S21:$V21,MATCH(view!AE$3,data!$Y21:$AB21,0)),AE23),\"●\"),\"●\"))","v":""},{"$f":"IF(ISERROR(MATCH(view!AF$3,data!$Y21:$AB21,0)),\"\",IFERROR(HYPERLINK(showDetails(INDEX(data!$S21:$V21,MATCH(view!AF$3,data!$Y21:$AB21,0)),AF23),\"●\"),\"●\"))","v":""},{"$f":"IF(ISERROR(MATCH(view!AG$3,data!$Y21:$AB21,0)),\"\",IFERROR(HYPERLINK(showDetails(INDEX(data!$S21:$V21,MATCH(view!AG$3,data!$Y21:$AB21,0)),AG23),\"●\"),\"●\"))","v":""},{"$f":"IF(ISERROR(MATCH(view!AH$3,data!$Y21:$AB21,0)),\"\",IFERROR(HYPERLINK(showDetails(INDEX(data!$S21:$V21,MATCH(view!AH$3,data!$Y21:$AB21,0)),AH23),\"●\"),\"●\"))","v":""},{"$f":"IF(ISERROR(MATCH(view!AI$3,data!$Y21:$AB21,0)),\"\",IFERROR(HYPERLINK(showDetails(INDEX(data!$S21:$V21,MATCH(view!AI$3,data!$Y21:$AB21,0)),AI23),\"●\"),\"●\"))","v":""},{"$f":"IF(ISERROR(MATCH(view!AJ$3,data!$Y21:$AB21,0)),\"\",IFERROR(HYPERLINK(showDetails(INDEX(data!$S21:$V21,MATCH(view!AJ$3,data!$Y21:$AB21,0)),AJ23),\"●\"),\"●\"))","v":""},{"$f":"IF(ISERROR(MATCH(view!AK$3,data!$Y21:$AB21,0)),\"\",IFERROR(HYPERLINK(showDetails(INDEX(data!$S21:$V21,MATCH(view!AK$3,data!$Y21:$AB21,0)),AK23),\"●\"),\"●\"))","v":""},{"$f":"IF(ISERROR(MATCH(view!AL$3,data!$Y21:$AB21,0)),\"\",IFERROR(HYPERLINK(showDetails(INDEX(data!$S21:$V21,MATCH(view!AL$3,data!$Y21:$AB21,0)),AL23),\"●\"),\"●\"))","v":""},{"$f":"IF(ISERROR(MATCH(view!AM$3,data!$Y21:$AB21,0)),\"\",IFERROR(HYPERLINK(showDetails(INDEX(data!$S21:$V21,MATCH(view!AM$3,data!$Y21:$AB21,0)),AM23),\"●\"),\"●\"))","v":""},{"$f":"IF(ISERROR(MATCH(view!AN$3,data!$Y21:$AB21,0)),\"\",IFERROR(HYPERLINK(showDetails(INDEX(data!$S21:$V21,MATCH(view!AN$3,data!$Y21:$AB21,0)),AN23),\"●\"),\"●\"))","v":""},{"$f":"IF(ISERROR(MATCH(view!AO$3,data!$Y21:$AB21,0)),\"\",IFERROR(HYPERLINK(showDetails(INDEX(data!$S21:$V21,MATCH(view!AO$3,data!$Y21:$AB21,0)),AO23),\"●\"),\"●\"))","v":""},{"$f":"IF(ISERROR(MATCH(view!AP$3,data!$Y21:$AB21,0)),\"\",IFERROR(HYPERLINK(showDetails(INDEX(data!$S21:$V21,MATCH(view!AP$3,data!$Y21:$AB21,0)),AP23),\"●\"),\"●\"))","v":""},{"$f":"IF(ISERROR(MATCH(view!AQ$3,data!$Y21:$AB21,0)),\"\",IFERROR(HYPERLINK(showDetails(INDEX(data!$S21:$V21,MATCH(view!AQ$3,data!$Y21:$AB21,0)),AQ23),\"●\"),\"●\"))","v":""},{"$f":"IF(ISERROR(MATCH(view!AR$3,data!$Y21:$AB21,0)),\"\",IFERROR(HYPERLINK(showDetails(INDEX(data!$S21:$V21,MATCH(view!AR$3,data!$Y21:$AB21,0)),AR23),\"●\"),\"●\"))","v":""},{"$f":"IF(ISERROR(MATCH(view!AS$3,data!$Y21:$AB21,0)),\"\",IFERROR(HYPERLINK(showDetails(INDEX(data!$S21:$V21,MATCH(view!AS$3,data!$Y21:$AB21,0)),AS23),\"●\"),\"●\"))","v":""},{"$f":"IF(ISERROR(MATCH(view!AT$3,data!$Y21:$AB21,0)),\"\",IFERROR(HYPERLINK(showDetails(INDEX(data!$S21:$V21,MATCH(view!AT$3,data!$Y21:$AB21,0)),AT23),\"●\"),\"●\"))","v":""},{"$f":"IF(ISERROR(MATCH(view!AU$3,data!$Y21:$AB21,0)),\"\",IFERROR(HYPERLINK(showDetails(INDEX(data!$S21:$V21,MATCH(view!AU$3,data!$Y21:$AB21,0)),AU23),\"●\"),\"●\"))","v":""},{"$f":"IF(ISERROR(MATCH(view!AV$3,data!$Y21:$AB21,0)),\"\",IFERROR(HYPERLINK(showDetails(INDEX(data!$S21:$V21,MATCH(view!AV$3,data!$Y21:$AB21,0)),AV23),\"●\"),\"●\"))","v":""},{"$f":"IF(ISERROR(MATCH(view!AW$3,data!$Y21:$AB21,0)),\"\",IFERROR(HYPERLINK(showDetails(INDEX(data!$S21:$V21,MATCH(view!AW$3,data!$Y21:$AB21,0)),AW23),\"●\"),\"●\"))","v":""},{"$f":"IF(ISERROR(MATCH(view!AX$3,data!$Y21:$AB21,0)),\"\",IFERROR(HYPERLINK(showDetails(INDEX(data!$S21:$V21,MATCH(view!AX$3,data!$Y21:$AB21,0)),AX23),\"●\"),\"●\"))","v":""},{"$f":"IF(ISERROR(MATCH(view!AY$3,data!$Y21:$AB21,0)),\"\",IFERROR(HYPERLINK(showDetails(INDEX(data!$S21:$V21,MATCH(view!AY$3,data!$Y21:$AB21,0)),AY23),\"●\"),\"●\"))","v":""},{"$f":"IF(ISERROR(MATCH(view!AZ$3,data!$Y21:$AB21,0)),\"\",IFERROR(HYPERLINK(showDetails(INDEX(data!$S21:$V21,MATCH(view!AZ$3,data!$Y21:$AB21,0)),AZ23),\"●\"),\"●\"))","v":""},{"$f":"IF(ISERROR(MATCH(view!BA$3,data!$Y21:$AB21,0)),\"\",IFERROR(HYPERLINK(showDetails(INDEX(data!$S21:$V21,MATCH(view!BA$3,data!$Y21:$AB21,0)),BA23),\"●\"),\"●\"))","v":""},{"$f":"IF(ISERROR(MATCH(view!BB$3,data!$Y21:$AB21,0)),\"\",IFERROR(HYPERLINK(showDetails(INDEX(data!$S21:$V21,MATCH(view!BB$3,data!$Y21:$AB21,0)),BB23),\"●\"),\"●\"))","v":""},{"$f":"IF(ISERROR(MATCH(view!BC$3,data!$Y21:$AB21,0)),\"\",IFERROR(HYPERLINK(showDetails(INDEX(data!$S21:$V21,MATCH(view!BC$3,data!$Y21:$AB21,0)),BC23),\"●\"),\"●\"))","v":""},{"$f":"IF(ISERROR(MATCH(view!BD$3,data!$Y21:$AB21,0)),\"\",IFERROR(HYPERLINK(showDetails(INDEX(data!$S21:$V21,MATCH(view!BD$3,data!$Y21:$AB21,0)),BD23),\"●\"),\"●\"))","v":""},{"$f":"IF(ISERROR(MATCH(view!BE$3,data!$Y21:$AB21,0)),\"\",IFERROR(HYPERLINK(showDetails(INDEX(data!$S21:$V21,MATCH(view!BE$3,data!$Y21:$AB21,0)),BE23),\"●\"),\"●\"))","v":""},{"$f":"IF(ISERROR(MATCH(view!BF$3,data!$Y21:$AB21,0)),\"\",IFERROR(HYPERLINK(showDetails(INDEX(data!$S21:$V21,MATCH(view!BF$3,data!$Y21:$AB21,0)),BF23),\"●\"),\"●\"))","v":""},{"$f":"IF(ISERROR(MATCH(view!BG$3,data!$Y21:$AB21,0)),\"\",IFERROR(HYPERLINK(showDetails(INDEX(data!$S21:$V21,MATCH(view!BG$3,data!$Y21:$AB21,0)),BG23),\"●\"),\"●\"))","v":""},{"$f":"IF(ISERROR(MATCH(view!BH$3,data!$Y21:$AB21,0)),\"\",IFERROR(HYPERLINK(showDetails(INDEX(data!$S21:$V21,MATCH(view!BH$3,data!$Y21:$AB21,0)),BH23),\"●\"),\"●\"))","v":""},{"$f":"IF(ISERROR(MATCH(view!BI$3,data!$Y21:$AB21,0)),\"\",IFERROR(HYPERLINK(showDetails(INDEX(data!$S21:$V21,MATCH(view!BI$3,data!$Y21:$AB21,0)),BI23),\"●\"),\"●\"))","v":""},{"$f":"IF(ISERROR(MATCH(view!BJ$3,data!$Y21:$AB21,0)),\"\",IFERROR(HYPERLINK(showDetails(INDEX(data!$S21:$V21,MATCH(view!BJ$3,data!$Y21:$AB21,0)),BJ23),\"●\"),\"●\"))","v":""},{"$f":"IF(ISERROR(MATCH(view!BK$3,data!$Y21:$AB21,0)),\"\",IFERROR(HYPERLINK(showDetails(INDEX(data!$S21:$V21,MATCH(view!BK$3,data!$Y21:$AB21,0)),BK23),\"●\"),\"●\"))","v":""},{"$f":"IF(ISERROR(MATCH(view!BL$3,data!$Y21:$AB21,0)),\"\",IFERROR(HYPERLINK(showDetails(INDEX(data!$S21:$V21,MATCH(view!BL$3,data!$Y21:$AB21,0)),BL23),\"●\"),\"●\"))","v":""},{"$f":"IF(ISERROR(MATCH(view!BM$3,data!$Y21:$AB21,0)),\"\",IFERROR(HYPERLINK(showDetails(INDEX(data!$S21:$V21,MATCH(view!BM$3,data!$Y21:$AB21,0)),BM23),\"●\"),\"●\"))","v":""},{"$f":"IF(ISERROR(MATCH(view!BN$3,data!$Y21:$AB21,0)),\"\",IFERROR(HYPERLINK(showDetails(INDEX(data!$S21:$V21,MATCH(view!BN$3,data!$Y21:$AB21,0)),BN23),\"●\"),\"●\"))","v":""},{"$f":"IF(ISERROR(MATCH(view!BO$3,data!$Y21:$AB21,0)),\"\",IFERROR(HYPERLINK(showDetails(INDEX(data!$S21:$V21,MATCH(view!BO$3,data!$Y21:$AB21,0)),BO23),\"●\"),\"●\"))","v":""},{"$f":"IF(ISERROR(MATCH(view!BP$3,data!$Y21:$AB21,0)),\"\",IFERROR(HYPERLINK(showDetails(INDEX(data!$S21:$V21,MATCH(view!BP$3,data!$Y21:$AB21,0)),BP23),\"●\"),\"●\"))","v":""},{"$f":"IF(ISERROR(MATCH(view!BQ$3,data!$Y21:$AB21,0)),\"\",IFERROR(HYPERLINK(showDetails(INDEX(data!$S21:$V21,MATCH(view!BQ$3,data!$Y21:$AB21,0)),BQ23),\"●\"),\"●\"))","v":""},{"$f":"IF(ISERROR(MATCH(view!BR$3,data!$Y21:$AB21,0)),\"\",IFERROR(HYPERLINK(showDetails(INDEX(data!$S21:$V21,MATCH(view!BR$3,data!$Y21:$AB21,0)),BR23),\"●\"),\"●\"))","v":""},{"$f":"IF(ISERROR(MATCH(view!BS$3,data!$Y21:$AB21,0)),\"\",IFERROR(HYPERLINK(showDetails(INDEX(data!$S21:$V21,MATCH(view!BS$3,data!$Y21:$AB21,0)),BS23),\"●\"),\"●\"))","v":""},{"$f":"IF(ISERROR(MATCH(view!BT$3,data!$Y21:$AB21,0)),\"\",IFERROR(HYPERLINK(showDetails(INDEX(data!$S21:$V21,MATCH(view!BT$3,data!$Y21:$AB21,0)),BT23),\"●\"),\"●\"))","v":""},{"$f":"IF(ISERROR(MATCH(view!BU$3,data!$Y21:$AB21,0)),\"\",IFERROR(HYPERLINK(showDetails(INDEX(data!$S21:$V21,MATCH(view!BU$3,data!$Y21:$AB21,0)),BU23),\"●\"),\"●\"))","v":""},{"$f":"IF(ISERROR(MATCH(view!BV$3,data!$Y21:$AB21,0)),\"\",IFERROR(HYPERLINK(showDetails(INDEX(data!$S21:$V21,MATCH(view!BV$3,data!$Y21:$AB21,0)),BV23),\"●\"),\"●\"))","v":""},{"$f":"IF(ISERROR(MATCH(view!BW$3,data!$Y21:$AB21,0)),\"\",IFERROR(HYPERLINK(showDetails(INDEX(data!$S21:$V21,MATCH(view!BW$3,data!$Y21:$AB21,0)),BW23),\"●\"),\"●\"))","v":""},{"$f":"IF(ISERROR(MATCH(view!BX$3,data!$Y21:$AB21,0)),\"\",IFERROR(HYPERLINK(showDetails(INDEX(data!$S21:$V21,MATCH(view!BX$3,data!$Y21:$AB21,0)),BX23),\"●\"),\"●\"))","v":""},{"$f":"IF(ISERROR(MATCH(view!BY$3,data!$Y21:$AB21,0)),\"\",IFERROR(HYPERLINK(showDetails(INDEX(data!$S21:$V21,MATCH(view!BY$3,data!$Y21:$AB21,0)),BY23),\"●\"),\"●\"))","v":""},{"$f":"IF(ISERROR(MATCH(view!BZ$3,data!$Y21:$AB21,0)),\"\",IFERROR(HYPERLINK(showDetails(INDEX(data!$S21:$V21,MATCH(view!BZ$3,data!$Y21:$AB21,0)),BZ23),\"●\"),\"●\"))","v":""},{"$f":"IF(ISERROR(MATCH(view!CA$3,data!$Y21:$AB21,0)),\"\",IFERROR(HYPERLINK(showDetails(INDEX(data!$S21:$V21,MATCH(view!CA$3,data!$Y21:$AB21,0)),CA23),\"●\"),\"●\"))","v":""},{"$f":"IF(ISERROR(MATCH(view!CB$3,data!$Y21:$AB21,0)),\"\",IFERROR(HYPERLINK(showDetails(INDEX(data!$S21:$V21,MATCH(view!CB$3,data!$Y21:$AB21,0)),CB23),\"●\"),\"●\"))","v":""},{"$f":"IF(ISERROR(MATCH(view!CC$3,data!$Y21:$AB21,0)),\"\",IFERROR(HYPERLINK(showDetails(INDEX(data!$S21:$V21,MATCH(view!CC$3,data!$Y21:$AB21,0)),CC23),\"●\"),\"●\"))","v":""},{"$f":"IF(ISERROR(MATCH(view!CD$3,data!$Y21:$AB21,0)),\"\",IFERROR(HYPERLINK(showDetails(INDEX(data!$S21:$V21,MATCH(view!CD$3,data!$Y21:$AB21,0)),CD23),\"●\"),\"●\"))","v":""},{"$f":"IF(ISERROR(MATCH(view!CE$3,data!$Y21:$AB21,0)),\"\",IFERROR(HYPERLINK(showDetails(INDEX(data!$S21:$V21,MATCH(view!CE$3,data!$Y21:$AB21,0)),CE23),\"●\"),\"●\"))","v":""},{"$f":"IF(ISERROR(MATCH(view!CF$3,data!$Y21:$AB21,0)),\"\",IFERROR(HYPERLINK(showDetails(INDEX(data!$S21:$V21,MATCH(view!CF$3,data!$Y21:$AB21,0)),CF23),\"●\"),\"●\"))","v":""},{"$f":"IF(ISERROR(MATCH(view!CG$3,data!$Y21:$AB21,0)),\"\",IFERROR(HYPERLINK(showDetails(INDEX(data!$S21:$V21,MATCH(view!CG$3,data!$Y21:$AB21,0)),CG23),\"●\"),\"●\"))","v":""},{"$f":"IF(ISERROR(MATCH(view!CH$3,data!$Y21:$AB21,0)),\"\",IFERROR(HYPERLINK(showDetails(INDEX(data!$S21:$V21,MATCH(view!CH$3,data!$Y21:$AB21,0)),CH23),\"●\"),\"●\"))","v":"●"},{"$f":"IF(ISERROR(MATCH(view!CI$3,data!$Y21:$AB21,0)),\"\",IFERROR(HYPERLINK(showDetails(INDEX(data!$S21:$V21,MATCH(view!CI$3,data!$Y21:$AB21,0)),CI23),\"●\"),\"●\"))","v":""},{"$f":"IF(ISERROR(MATCH(view!CJ$3,data!$Y21:$AB21,0)),\"\",IFERROR(HYPERLINK(showDetails(INDEX(data!$S21:$V21,MATCH(view!CJ$3,data!$Y21:$AB21,0)),CJ23),\"●\"),\"●\"))","v":""},{"$f":"IF(ISERROR(MATCH(view!CK$3,data!$Y21:$AB21,0)),\"\",IFERROR(HYPERLINK(showDetails(INDEX(data!$S21:$V21,MATCH(view!CK$3,data!$Y21:$AB21,0)),CK23),\"●\"),\"●\"))","v":""},{"$f":"IF(ISERROR(MATCH(view!CL$3,data!$Y21:$AB21,0)),\"\",IFERROR(HYPERLINK(showDetails(INDEX(data!$S21:$V21,MATCH(view!CL$3,data!$Y21:$AB21,0)),CL23),\"●\"),\"●\"))","v":"●"},{"$f":"IF(ISERROR(MATCH(view!CM$3,data!$Y21:$AB21,0)),\"\",IFERROR(HYPERLINK(showDetails(INDEX(data!$S21:$V21,MATCH(view!CM$3,data!$Y21:$AB21,0)),CM23),\"●\"),\"●\"))","v":""},{"$f":"IF(ISERROR(MATCH(view!CN$3,data!$Y21:$AB21,0)),\"\",IFERROR(HYPERLINK(showDetails(INDEX(data!$S21:$V21,MATCH(view!CN$3,data!$Y21:$AB21,0)),CN23),\"●\"),\"●\"))","v":""},{"$f":"IF(ISERROR(MATCH(view!CO$3,data!$Y21:$AB21,0)),\"\",IFERROR(HYPERLINK(showDetails(INDEX(data!$S21:$V21,MATCH(view!CO$3,data!$Y21:$AB21,0)),CO23),\"●\"),\"●\"))","v":""},{"$f":"IF(ISERROR(MATCH(view!CP$3,data!$Y21:$AB21,0)),\"\",IFERROR(HYPERLINK(showDetails(INDEX(data!$S21:$V21,MATCH(view!CP$3,data!$Y21:$AB21,0)),CP23),\"●\"),\"●\"))","v":""},{"$f":"IF(ISERROR(MATCH(view!CQ$3,data!$Y21:$AB21,0)),\"\",IFERROR(HYPERLINK(showDetails(INDEX(data!$S21:$V21,MATCH(view!CQ$3,data!$Y21:$AB21,0)),CQ23),\"●\"),\"●\"))","v":""},{"$f":"IF(ISERROR(MATCH(view!CR$3,data!$Y21:$AB21,0)),\"\",IFERROR(HYPERLINK(showDetails(INDEX(data!$S21:$V21,MATCH(view!CR$3,data!$Y21:$AB21,0)),CR23),\"●\"),\"●\"))","v":""},{"$f":"IF(ISERROR(MATCH(view!CS$3,data!$Y21:$AB21,0)),\"\",IFERROR(HYPERLINK(showDetails(INDEX(data!$S21:$V21,MATCH(view!CS$3,data!$Y21:$AB21,0)),CS23),\"●\"),\"●\"))","v":""},{"$f":"IF(ISERROR(MATCH(view!CT$3,data!$Y21:$AB21,0)),\"\",IFERROR(HYPERLINK(showDetails(INDEX(data!$S21:$V21,MATCH(view!CT$3,data!$Y21:$AB21,0)),CT23),\"●\"),\"●\"))","v":""},{"$f":"IF(ISERROR(MATCH(view!CU$3,data!$Y21:$AB21,0)),\"\",IFERROR(HYPERLINK(showDetails(INDEX(data!$S21:$V21,MATCH(view!CU$3,data!$Y21:$AB21,0)),CU23),\"●\"),\"●\"))","v":""},{"$f":"IF(ISERROR(MATCH(view!CV$3,data!$Y21:$AB21,0)),\"\",IFERROR(HYPERLINK(showDetails(INDEX(data!$S21:$V21,MATCH(view!CV$3,data!$Y21:$AB21,0)),CV23),\"●\"),\"●\"))","v":""},{"$f":"IF(ISERROR(MATCH(view!CW$3,data!$Y21:$AB21,0)),\"\",IFERROR(HYPERLINK(showDetails(INDEX(data!$S21:$V21,MATCH(view!CW$3,data!$Y21:$AB21,0)),CW23),\"●\"),\"●\"))","v":""},{"$f":"IF(ISERROR(MATCH(view!CX$3,data!$Y21:$AB21,0)),\"\",IFERROR(HYPERLINK(showDetails(INDEX(data!$S21:$V21,MATCH(view!CX$3,data!$Y21:$AB21,0)),CX23),\"●\"),\"●\"))","v":""},{"$f":"IF(ISERROR(MATCH(view!CY$3,data!$Y21:$AB21,0)),\"\",IFERROR(HYPERLINK(showDetails(INDEX(data!$S21:$V21,MATCH(view!CY$3,data!$Y21:$AB21,0)),CY23),\"●\"),\"●\"))","v":""},{"$f":"IF(ISERROR(MATCH(view!CZ$3,data!$Y21:$AB21,0)),\"\",IFERROR(HYPERLINK(showDetails(INDEX(data!$S21:$V21,MATCH(view!CZ$3,data!$Y21:$AB21,0)),CZ23),\"●\"),\"●\"))","v":""},{"$f":"IF(ISERROR(MATCH(view!DA$3,data!$Y21:$AB21,0)),\"\",IFERROR(HYPERLINK(showDetails(INDEX(data!$S21:$V21,MATCH(view!DA$3,data!$Y21:$AB21,0)),DA23),\"●\"),\"●\"))","v":""},{"$f":"IF(ISERROR(MATCH(view!DB$3,data!$Y21:$AB21,0)),\"\",IFERROR(HYPERLINK(showDetails(INDEX(data!$S21:$V21,MATCH(view!DB$3,data!$Y21:$AB21,0)),DB23),\"●\"),\"●\"))","v":""},{"$f":"IF(ISERROR(MATCH(view!DC$3,data!$Y21:$AB21,0)),\"\",IFERROR(HYPERLINK(showDetails(INDEX(data!$S21:$V21,MATCH(view!DC$3,data!$Y21:$AB21,0)),DC23),\"●\"),\"●\"))","v":""},{"$f":"IF(ISERROR(MATCH(view!DD$3,data!$Y21:$AB21,0)),\"\",IFERROR(HYPERLINK(showDetails(INDEX(data!$S21:$V21,MATCH(view!DD$3,data!$Y21:$AB21,0)),DD23),\"●\"),\"●\"))","v":""},{"$f":"IF(ISERROR(MATCH(view!DE$3,data!$Y21:$AB21,0)),\"\",IFERROR(HYPERLINK(showDetails(INDEX(data!$S21:$V21,MATCH(view!DE$3,data!$Y21:$AB21,0)),DE23),\"●\"),\"●\"))","v":""},{"$f":"IF(ISERROR(MATCH(view!DF$3,data!$Y21:$AB21,0)),\"\",IFERROR(HYPERLINK(showDetails(INDEX(data!$S21:$V21,MATCH(view!DF$3,data!$Y21:$AB21,0)),DF23),\"●\"),\"●\"))","v":""},{"$f":"IF(ISERROR(MATCH(view!DG$3,data!$Y21:$AB21,0)),\"\",IFERROR(HYPERLINK(showDetails(INDEX(data!$S21:$V21,MATCH(view!DG$3,data!$Y21:$AB21,0)),DG23),\"●\"),\"●\"))","v":""},{"$f":"IF(ISERROR(MATCH(view!DH$3,data!$Y21:$AB21,0)),\"\",IFERROR(HYPERLINK(showDetails(INDEX(data!$S21:$V21,MATCH(view!DH$3,data!$Y21:$AB21,0)),DH23),\"●\"),\"●\"))","v":""},{"$f":"IF(ISERROR(MATCH(view!DI$3,data!$Y21:$AB21,0)),\"\",IFERROR(HYPERLINK(showDetails(INDEX(data!$S21:$V21,MATCH(view!DI$3,data!$Y21:$AB21,0)),DI23),\"●\"),\"●\"))","v":""},{"$f":"IF(ISERROR(MATCH(view!DJ$3,data!$Y21:$AB21,0)),\"\",IFERROR(HYPERLINK(showDetails(INDEX(data!$S21:$V21,MATCH(view!DJ$3,data!$Y21:$AB21,0)),DJ23),\"●\"),\"●\"))","v":""},{"$f":"IF(ISERROR(MATCH(view!DK$3,data!$Y21:$AB21,0)),\"\",IFERROR(HYPERLINK(showDetails(INDEX(data!$S21:$V21,MATCH(view!DK$3,data!$Y21:$AB21,0)),DK23),\"●\"),\"●\"))","v":""},{"$f":"IF(ISERROR(MATCH(view!DL$3,data!$Y21:$AB21,0)),\"\",IFERROR(HYPERLINK(showDetails(INDEX(data!$S21:$V21,MATCH(view!DL$3,data!$Y21:$AB21,0)),DL23),\"●\"),\"●\"))","v":""},{"$f":"IF(ISERROR(MATCH(view!DM$3,data!$Y21:$AB21,0)),\"\",IFERROR(HYPERLINK(showDetails(INDEX(data!$S21:$V21,MATCH(view!DM$3,data!$Y21:$AB21,0)),DM23),\"●\"),\"●\"))","v":""},{"$f":"IF(ISERROR(MATCH(view!DN$3,data!$Y21:$AB21,0)),\"\",IFERROR(HYPERLINK(showDetails(INDEX(data!$S21:$V21,MATCH(view!DN$3,data!$Y21:$AB21,0)),DN23),\"●\"),\"●\"))","v":""},{"$f":"IF(ISERROR(MATCH(view!DO$3,data!$Y21:$AB21,0)),\"\",IFERROR(HYPERLINK(showDetails(INDEX(data!$S21:$V21,MATCH(view!DO$3,data!$Y21:$AB21,0)),DO23),\"●\"),\"●\"))","v":""},{"$f":"IF(ISERROR(MATCH(view!DP$3,data!$Y21:$AB21,0)),\"\",IFERROR(HYPERLINK(showDetails(INDEX(data!$S21:$V21,MATCH(view!DP$3,data!$Y21:$AB21,0)),DP23),\"●\"),\"●\"))","v":""},{"$f":"IF(ISERROR(MATCH(view!DQ$3,data!$Y21:$AB21,0)),\"\",IFERROR(HYPERLINK(showDetails(INDEX(data!$S21:$V21,MATCH(view!DQ$3,data!$Y21:$AB21,0)),DQ23),\"●\"),\"●\"))","v":""},{"$f":"IF(ISERROR(MATCH(view!DR$3,data!$Y21:$AB21,0)),\"\",IFERROR(HYPERLINK(showDetails(INDEX(data!$S21:$V21,MATCH(view!DR$3,data!$Y21:$AB21,0)),DR23),\"●\"),\"●\"))","v":""},{"$f":"IF(ISERROR(MATCH(view!DS$3,data!$Y21:$AB21,0)),\"\",IFERROR(HYPERLINK(showDetails(INDEX(data!$S21:$V21,MATCH(view!DS$3,data!$Y21:$AB21,0)),DS23),\"●\"),\"●\"))","v":""},{"$f":"INDEX(lstYears,A23) &\" - \"&INDEX(data!$W$3:$W$30,A23)","v":"1932 - Los Angeles"}]
[20,null,{"$f":"IF(ISERROR(MATCH(view!C$3,data!$Y22:$AB22,0)),\"\",IFERROR(HYPERLINK(showDetails(INDEX(data!$S22:$V22,MATCH(view!C$3,data!$Y22:$AB22,0)),C24),\"●\"),\"●\"))","v":""},{"$f":"IF(ISERROR(MATCH(view!D$3,data!$Y22:$AB22,0)),\"\",IFERROR(HYPERLINK(showDetails(INDEX(data!$S22:$V22,MATCH(view!D$3,data!$Y22:$AB22,0)),D24),\"●\"),\"●\"))","v":""},{"$f":"IF(ISERROR(MATCH(view!E$3,data!$Y22:$AB22,0)),\"\",IFERROR(HYPERLINK(showDetails(INDEX(data!$S22:$V22,MATCH(view!E$3,data!$Y22:$AB22,0)),E24),\"●\"),\"●\"))","v":""},{"$f":"IF(ISERROR(MATCH(view!F$3,data!$Y22:$AB22,0)),\"\",IFERROR(HYPERLINK(showDetails(INDEX(data!$S22:$V22,MATCH(view!F$3,data!$Y22:$AB22,0)),F24),\"●\"),\"●\"))","v":""},{"$f":"IF(ISERROR(MATCH(view!G$3,data!$Y22:$AB22,0)),\"\",IFERROR(HYPERLINK(showDetails(INDEX(data!$S22:$V22,MATCH(view!G$3,data!$Y22:$AB22,0)),G24),\"●\"),\"●\"))","v":""},{"$f":"IF(ISERROR(MATCH(view!H$3,data!$Y22:$AB22,0)),\"\",IFERROR(HYPERLINK(showDetails(INDEX(data!$S22:$V22,MATCH(view!H$3,data!$Y22:$AB22,0)),H24),\"●\"),\"●\"))","v":""},{"$f":"IF(ISERROR(MATCH(view!I$3,data!$Y22:$AB22,0)),\"\",IFERROR(HYPERLINK(showDetails(INDEX(data!$S22:$V22,MATCH(view!I$3,data!$Y22:$AB22,0)),I24),\"●\"),\"●\"))","v":""},{"$f":"IF(ISERROR(MATCH(view!J$3,data!$Y22:$AB22,0)),\"\",IFERROR(HYPERLINK(showDetails(INDEX(data!$S22:$V22,MATCH(view!J$3,data!$Y22:$AB22,0)),J24),\"●\"),\"●\"))","v":""},{"$f":"IF(ISERROR(MATCH(view!K$3,data!$Y22:$AB22,0)),\"\",IFERROR(HYPERLINK(showDetails(INDEX(data!$S22:$V22,MATCH(view!K$3,data!$Y22:$AB22,0)),K24),\"●\"),\"●\"))","v":""},{"$f":"IF(ISERROR(MATCH(view!L$3,data!$Y22:$AB22,0)),\"\",IFERROR(HYPERLINK(showDetails(INDEX(data!$S22:$V22,MATCH(view!L$3,data!$Y22:$AB22,0)),L24),\"●\"),\"●\"))","v":""},{"$f":"IF(ISERROR(MATCH(view!M$3,data!$Y22:$AB22,0)),\"\",IFERROR(HYPERLINK(showDetails(INDEX(data!$S22:$V22,MATCH(view!M$3,data!$Y22:$AB22,0)),M24),\"●\"),\"●\"))","v":""},{"$f":"IF(ISERROR(MATCH(view!N$3,data!$Y22:$AB22,0)),\"\",IFERROR(HYPERLINK(showDetails(INDEX(data!$S22:$V22,MATCH(view!N$3,data!$Y22:$AB22,0)),N24),\"●\"),\"●\"))","v":""},{"$f":"IF(ISERROR(MATCH(view!O$3,data!$Y22:$AB22,0)),\"\",IFERROR(HYPERLINK(showDetails(INDEX(data!$S22:$V22,MATCH(view!O$3,data!$Y22:$AB22,0)),O24),\"●\"),\"●\"))","v":""},{"$f":"IF(ISERROR(MATCH(view!P$3,data!$Y22:$AB22,0)),\"\",IFERROR(HYPERLINK(showDetails(INDEX(data!$S22:$V22,MATCH(view!P$3,data!$Y22:$AB22,0)),P24),\"●\"),\"●\"))","v":""},{"$f":"IF(ISERROR(MATCH(view!Q$3,data!$Y22:$AB22,0)),\"\",IFERROR(HYPERLINK(showDetails(INDEX(data!$S22:$V22,MATCH(view!Q$3,data!$Y22:$AB22,0)),Q24),\"●\"),\"●\"))","v":""},{"$f":"IF(ISERROR(MATCH(view!R$3,data!$Y22:$AB22,0)),\"\",IFERROR(HYPERLINK(showDetails(INDEX(data!$S22:$V22,MATCH(view!R$3,data!$Y22:$AB22,0)),R24),\"●\"),\"●\"))","v":""},{"$f":"IF(ISERROR(MATCH(view!S$3,data!$Y22:$AB22,0)),\"\",IFERROR(HYPERLINK(showDetails(INDEX(data!$S22:$V22,MATCH(view!S$3,data!$Y22:$AB22,0)),S24),\"●\"),\"●\"))","v":""},{"$f":"IF(ISERROR(MATCH(view!T$3,data!$Y22:$AB22,0)),\"\",IFERROR(HYPERLINK(showDetails(INDEX(data!$S22:$V22,MATCH(view!T$3,data!$Y22:$AB22,0)),T24),\"●\"),\"●\"))","v":""},{"$f":"IF(ISERROR(MATCH(view!U$3,data!$Y22:$AB22,0)),\"\",IFERROR(HYPERLINK(showDetails(INDEX(data!$S22:$V22,MATCH(view!U$3,data!$Y22:$AB22,0)),U24),\"●\"),\"●\"))","v":""},{"$f":"IF(ISERROR(MATCH(view!V$3,data!$Y22:$AB22,0)),\"\",IFERROR(HYPERLINK(showDetails(INDEX(data!$S22:$V22,MATCH(view!V$3,data!$Y22:$AB22,0)),V24),\"●\"),\"●\"))","v":""},{"$f":"IF(ISERROR(MATCH(view!W$3,data!$Y22:$AB22,0)),\"\",IFERROR(HYPERLINK(showDetails(INDEX(data!$S22:$V22,MATCH(view!W$3,data!$Y22:$AB22,0)),W24),\"●\"),\"●\"))","v":""},{"$f":"IF(ISERROR(MATCH(view!X$3,data!$Y22:$AB22,0)),\"\",IFERROR(HYPERLINK(showDetails(INDEX(data!$S22:$V22,MATCH(view!X$3,data!$Y22:$AB22,0)),X24),\"●\"),\"●\"))","v":""},{"$f":"IF(ISERROR(MATCH(view!Y$3,data!$Y22:$AB22,0)),\"\",IFERROR(HYPERLINK(showDetails(INDEX(data!$S22:$V22,MATCH(view!Y$3,data!$Y22:$AB22,0)),Y24),\"●\"),\"●\"))","v":""},{"$f":"IF(ISERROR(MATCH(view!Z$3,data!$Y22:$AB22,0)),\"\",IFERROR(HYPERLINK(showDetails(INDEX(data!$S22:$V22,MATCH(view!Z$3,data!$Y22:$AB22,0)),Z24),\"●\"),\"●\"))","v":""},{"$f":"IF(ISERROR(MATCH(view!AA$3,data!$Y22:$AB22,0)),\"\",IFERROR(HYPERLINK(showDetails(INDEX(data!$S22:$V22,MATCH(view!AA$3,data!$Y22:$AB22,0)),AA24),\"●\"),\"●\"))","v":""},{"$f":"IF(ISERROR(MATCH(view!AB$3,data!$Y22:$AB22,0)),\"\",IFERROR(HYPERLINK(showDetails(INDEX(data!$S22:$V22,MATCH(view!AB$3,data!$Y22:$AB22,0)),AB24),\"●\"),\"●\"))","v":""},{"$f":"IF(ISERROR(MATCH(view!AC$3,data!$Y22:$AB22,0)),\"\",IFERROR(HYPERLINK(showDetails(INDEX(data!$S22:$V22,MATCH(view!AC$3,data!$Y22:$AB22,0)),AC24),\"●\"),\"●\"))","v":""},{"$f":"IF(ISERROR(MATCH(view!AD$3,data!$Y22:$AB22,0)),\"\",IFERROR(HYPERLINK(showDetails(INDEX(data!$S22:$V22,MATCH(view!AD$3,data!$Y22:$AB22,0)),AD24),\"●\"),\"●\"))","v":""},{"$f":"IF(ISERROR(MATCH(view!AE$3,data!$Y22:$AB22,0)),\"\",IFERROR(HYPERLINK(showDetails(INDEX(data!$S22:$V22,MATCH(view!AE$3,data!$Y22:$AB22,0)),AE24),\"●\"),\"●\"))","v":""},{"$f":"IF(ISERROR(MATCH(view!AF$3,data!$Y22:$AB22,0)),\"\",IFERROR(HYPERLINK(showDetails(INDEX(data!$S22:$V22,MATCH(view!AF$3,data!$Y22:$AB22,0)),AF24),\"●\"),\"●\"))","v":""},{"$f":"IF(ISERROR(MATCH(view!AG$3,data!$Y22:$AB22,0)),\"\",IFERROR(HYPERLINK(showDetails(INDEX(data!$S22:$V22,MATCH(view!AG$3,data!$Y22:$AB22,0)),AG24),\"●\"),\"●\"))","v":""},{"$f":"IF(ISERROR(MATCH(view!AH$3,data!$Y22:$AB22,0)),\"\",IFERROR(HYPERLINK(showDetails(INDEX(data!$S22:$V22,MATCH(view!AH$3,data!$Y22:$AB22,0)),AH24),\"●\"),\"●\"))","v":""},{"$f":"IF(ISERROR(MATCH(view!AI$3,data!$Y22:$AB22,0)),\"\",IFERROR(HYPERLINK(showDetails(INDEX(data!$S22:$V22,MATCH(view!AI$3,data!$Y22:$AB22,0)),AI24),\"●\"),\"●\"))","v":""},{"$f":"IF(ISERROR(MATCH(view!AJ$3,data!$Y22:$AB22,0)),\"\",IFERROR(HYPERLINK(showDetails(INDEX(data!$S22:$V22,MATCH(view!AJ$3,data!$Y22:$AB22,0)),AJ24),\"●\"),\"●\"))","v":""},{"$f":"IF(ISERROR(MATCH(view!AK$3,data!$Y22:$AB22,0)),\"\",IFERROR(HYPERLINK(showDetails(INDEX(data!$S22:$V22,MATCH(view!AK$3,data!$Y22:$AB22,0)),AK24),\"●\"),\"●\"))","v":""},{"$f":"IF(ISERROR(MATCH(view!AL$3,data!$Y22:$AB22,0)),\"\",IFERROR(HYPERLINK(showDetails(INDEX(data!$S22:$V22,MATCH(view!AL$3,data!$Y22:$AB22,0)),AL24),\"●\"),\"●\"))","v":""},{"$f":"IF(ISERROR(MATCH(view!AM$3,data!$Y22:$AB22,0)),\"\",IFERROR(HYPERLINK(showDetails(INDEX(data!$S22:$V22,MATCH(view!AM$3,data!$Y22:$AB22,0)),AM24),\"●\"),\"●\"))","v":""},{"$f":"IF(ISERROR(MATCH(view!AN$3,data!$Y22:$AB22,0)),\"\",IFERROR(HYPERLINK(showDetails(INDEX(data!$S22:$V22,MATCH(view!AN$3,data!$Y22:$AB22,0)),AN24),\"●\"),\"●\"))","v":""},{"$f":"IF(ISERROR(MATCH(view!AO$3,data!$Y22:$AB22,0)),\"\",IFERROR(HYPERLINK(showDetails(INDEX(data!$S22:$V22,MATCH(view!AO$3,data!$Y22:$AB22,0)),AO24),\"●\"),\"●\"))","v":""},{"$f":"IF(ISERROR(MATCH(view!AP$3,data!$Y22:$AB22,0)),\"\",IFERROR(HYPERLINK(showDetails(INDEX(data!$S22:$V22,MATCH(view!AP$3,data!$Y22:$AB22,0)),AP24),\"●\"),\"●\"))","v":""},{"$f":"IF(ISERROR(MATCH(view!AQ$3,data!$Y22:$AB22,0)),\"\",IFERROR(HYPERLINK(showDetails(INDEX(data!$S22:$V22,MATCH(view!AQ$3,data!$Y22:$AB22,0)),AQ24),\"●\"),\"●\"))","v":""},{"$f":"IF(ISERROR(MATCH(view!AR$3,data!$Y22:$AB22,0)),\"\",IFERROR(HYPERLINK(showDetails(INDEX(data!$S22:$V22,MATCH(view!AR$3,data!$Y22:$AB22,0)),AR24),\"●\"),\"●\"))","v":""},{"$f":"IF(ISERROR(MATCH(view!AS$3,data!$Y22:$AB22,0)),\"\",IFERROR(HYPERLINK(showDetails(INDEX(data!$S22:$V22,MATCH(view!AS$3,data!$Y22:$AB22,0)),AS24),\"●\"),\"●\"))","v":""},{"$f":"IF(ISERROR(MATCH(view!AT$3,data!$Y22:$AB22,0)),\"\",IFERROR(HYPERLINK(showDetails(INDEX(data!$S22:$V22,MATCH(view!AT$3,data!$Y22:$AB22,0)),AT24),\"●\"),\"●\"))","v":""},{"$f":"IF(ISERROR(MATCH(view!AU$3,data!$Y22:$AB22,0)),\"\",IFERROR(HYPERLINK(showDetails(INDEX(data!$S22:$V22,MATCH(view!AU$3,data!$Y22:$AB22,0)),AU24),\"●\"),\"●\"))","v":""},{"$f":"IF(ISERROR(MATCH(view!AV$3,data!$Y22:$AB22,0)),\"\",IFERROR(HYPERLINK(showDetails(INDEX(data!$S22:$V22,MATCH(view!AV$3,data!$Y22:$AB22,0)),AV24),\"●\"),\"●\"))","v":""},{"$f":"IF(ISERROR(MATCH(view!AW$3,data!$Y22:$AB22,0)),\"\",IFERROR(HYPERLINK(showDetails(INDEX(data!$S22:$V22,MATCH(view!AW$3,data!$Y22:$AB22,0)),AW24),\"●\"),\"●\"))","v":""},{"$f":"IF(ISERROR(MATCH(view!AX$3,data!$Y22:$AB22,0)),\"\",IFERROR(HYPERLINK(showDetails(INDEX(data!$S22:$V22,MATCH(view!AX$3,data!$Y22:$AB22,0)),AX24),\"●\"),\"●\"))","v":""},{"$f":"IF(ISERROR(MATCH(view!AY$3,data!$Y22:$AB22,0)),\"\",IFERROR(HYPERLINK(showDetails(INDEX(data!$S22:$V22,MATCH(view!AY$3,data!$Y22:$AB22,0)),AY24),\"●\"),\"●\"))","v":""},{"$f":"IF(ISERROR(MATCH(view!AZ$3,data!$Y22:$AB22,0)),\"\",IFERROR(HYPERLINK(showDetails(INDEX(data!$S22:$V22,MATCH(view!AZ$3,data!$Y22:$AB22,0)),AZ24),\"●\"),\"●\"))","v":""},{"$f":"IF(ISERROR(MATCH(view!BA$3,data!$Y22:$AB22,0)),\"\",IFERROR(HYPERLINK(showDetails(INDEX(data!$S22:$V22,MATCH(view!BA$3,data!$Y22:$AB22,0)),BA24),\"●\"),\"●\"))","v":""},{"$f":"IF(ISERROR(MATCH(view!BB$3,data!$Y22:$AB22,0)),\"\",IFERROR(HYPERLINK(showDetails(INDEX(data!$S22:$V22,MATCH(view!BB$3,data!$Y22:$AB22,0)),BB24),\"●\"),\"●\"))","v":""},{"$f":"IF(ISERROR(MATCH(view!BC$3,data!$Y22:$AB22,0)),\"\",IFERROR(HYPERLINK(showDetails(INDEX(data!$S22:$V22,MATCH(view!BC$3,data!$Y22:$AB22,0)),BC24),\"●\"),\"●\"))","v":""},{"$f":"IF(ISERROR(MATCH(view!BD$3,data!$Y22:$AB22,0)),\"\",IFERROR(HYPERLINK(showDetails(INDEX(data!$S22:$V22,MATCH(view!BD$3,data!$Y22:$AB22,0)),BD24),\"●\"),\"●\"))","v":""},{"$f":"IF(ISERROR(MATCH(view!BE$3,data!$Y22:$AB22,0)),\"\",IFERROR(HYPERLINK(showDetails(INDEX(data!$S22:$V22,MATCH(view!BE$3,data!$Y22:$AB22,0)),BE24),\"●\"),\"●\"))","v":""},{"$f":"IF(ISERROR(MATCH(view!BF$3,data!$Y22:$AB22,0)),\"\",IFERROR(HYPERLINK(showDetails(INDEX(data!$S22:$V22,MATCH(view!BF$3,data!$Y22:$AB22,0)),BF24),\"●\"),\"●\"))","v":""},{"$f":"IF(ISERROR(MATCH(view!BG$3,data!$Y22:$AB22,0)),\"\",IFERROR(HYPERLINK(showDetails(INDEX(data!$S22:$V22,MATCH(view!BG$3,data!$Y22:$AB22,0)),BG24),\"●\"),\"●\"))","v":""},{"$f":"IF(ISERROR(MATCH(view!BH$3,data!$Y22:$AB22,0)),\"\",IFERROR(HYPERLINK(showDetails(INDEX(data!$S22:$V22,MATCH(view!BH$3,data!$Y22:$AB22,0)),BH24),\"●\"),\"●\"))","v":""},{"$f":"IF(ISERROR(MATCH(view!BI$3,data!$Y22:$AB22,0)),\"\",IFERROR(HYPERLINK(showDetails(INDEX(data!$S22:$V22,MATCH(view!BI$3,data!$Y22:$AB22,0)),BI24),\"●\"),\"●\"))","v":""},{"$f":"IF(ISERROR(MATCH(view!BJ$3,data!$Y22:$AB22,0)),\"\",IFERROR(HYPERLINK(showDetails(INDEX(data!$S22:$V22,MATCH(view!BJ$3,data!$Y22:$AB22,0)),BJ24),\"●\"),\"●\"))","v":""},{"$f":"IF(ISERROR(MATCH(view!BK$3,data!$Y22:$AB22,0)),\"\",IFERROR(HYPERLINK(showDetails(INDEX(data!$S22:$V22,MATCH(view!BK$3,data!$Y22:$AB22,0)),BK24),\"●\"),\"●\"))","v":""},{"$f":"IF(ISERROR(MATCH(view!BL$3,data!$Y22:$AB22,0)),\"\",IFERROR(HYPERLINK(showDetails(INDEX(data!$S22:$V22,MATCH(view!BL$3,data!$Y22:$AB22,0)),BL24),\"●\"),\"●\"))","v":"●"},{"$f":"IF(ISERROR(MATCH(view!BM$3,data!$Y22:$AB22,0)),\"\",IFERROR(HYPERLINK(showDetails(INDEX(data!$S22:$V22,MATCH(view!BM$3,data!$Y22:$AB22,0)),BM24),\"●\"),\"●\"))","v":""},{"$f":"IF(ISERROR(MATCH(view!BN$3,data!$Y22:$AB22,0)),\"\",IFERROR(HYPERLINK(showDetails(INDEX(data!$S22:$V22,MATCH(view!BN$3,data!$Y22:$AB22,0)),BN24),\"●\"),\"●\"))","v":""},{"$f":"IF(ISERROR(MATCH(view!BO$3,data!$Y22:$AB22,0)),\"\",IFERROR(HYPERLINK(showDetails(INDEX(data!$S22:$V22,MATCH(view!BO$3,data!$Y22:$AB22,0)),BO24),\"●\"),\"●\"))","v":""},{"$f":"IF(ISERROR(MATCH(view!BP$3,data!$Y22:$AB22,0)),\"\",IFERROR(HYPERLINK(showDetails(INDEX(data!$S22:$V22,MATCH(view!BP$3,data!$Y22:$AB22,0)),BP24),\"●\"),\"●\"))","v":""},{"$f":"IF(ISERROR(MATCH(view!BQ$3,data!$Y22:$AB22,0)),\"\",IFERROR(HYPERLINK(showDetails(INDEX(data!$S22:$V22,MATCH(view!BQ$3,data!$Y22:$AB22,0)),BQ24),\"●\"),\"●\"))","v":"●"},{"$f":"IF(ISERROR(MATCH(view!BR$3,data!$Y22:$AB22,0)),\"\",IFERROR(HYPERLINK(showDetails(INDEX(data!$S22:$V22,MATCH(view!BR$3,data!$Y22:$AB22,0)),BR24),\"●\"),\"●\"))","v":""},{"$f":"IF(ISERROR(MATCH(view!BS$3,data!$Y22:$AB22,0)),\"\",IFERROR(HYPERLINK(showDetails(INDEX(data!$S22:$V22,MATCH(view!BS$3,data!$Y22:$AB22,0)),BS24),\"●\"),\"●\"))","v":""},{"$f":"IF(ISERROR(MATCH(view!BT$3,data!$Y22:$AB22,0)),\"\",IFERROR(HYPERLINK(showDetails(INDEX(data!$S22:$V22,MATCH(view!BT$3,data!$Y22:$AB22,0)),BT24),\"●\"),\"●\"))","v":""},{"$f":"IF(ISERROR(MATCH(view!BU$3,data!$Y22:$AB22,0)),\"\",IFERROR(HYPERLINK(showDetails(INDEX(data!$S22:$V22,MATCH(view!BU$3,data!$Y22:$AB22,0)),BU24),\"●\"),\"●\"))","v":""},{"$f":"IF(ISERROR(MATCH(view!BV$3,data!$Y22:$AB22,0)),\"\",IFERROR(HYPERLINK(showDetails(INDEX(data!$S22:$V22,MATCH(view!BV$3,data!$Y22:$AB22,0)),BV24),\"●\"),\"●\"))","v":""},{"$f":"IF(ISERROR(MATCH(view!BW$3,data!$Y22:$AB22,0)),\"\",IFERROR(HYPERLINK(showDetails(INDEX(data!$S22:$V22,MATCH(view!BW$3,data!$Y22:$AB22,0)),BW24),\"●\"),\"●\"))","v":""},{"$f":"IF(ISERROR(MATCH(view!BX$3,data!$Y22:$AB22,0)),\"\",IFERROR(HYPERLINK(showDetails(INDEX(data!$S22:$V22,MATCH(view!BX$3,data!$Y22:$AB22,0)),BX24),\"●\"),\"●\"))","v":""},{"$f":"IF(ISERROR(MATCH(view!BY$3,data!$Y22:$AB22,0)),\"\",IFERROR(HYPERLINK(showDetails(INDEX(data!$S22:$V22,MATCH(view!BY$3,data!$Y22:$AB22,0)),BY24),\"●\"),\"●\"))","v":""},{"$f":"IF(ISERROR(MATCH(view!BZ$3,data!$Y22:$AB22,0)),\"\",IFERROR(HYPERLINK(showDetails(INDEX(data!$S22:$V22,MATCH(view!BZ$3,data!$Y22:$AB22,0)),BZ24),\"●\"),\"●\"))","v":""},{"$f":"IF(ISERROR(MATCH(view!CA$3,data!$Y22:$AB22,0)),\"\",IFERROR(HYPERLINK(showDetails(INDEX(data!$S22:$V22,MATCH(view!CA$3,data!$Y22:$AB22,0)),CA24),\"●\"),\"●\"))","v":""},{"$f":"IF(ISERROR(MATCH(view!CB$3,data!$Y22:$AB22,0)),\"\",IFERROR(HYPERLINK(showDetails(INDEX(data!$S22:$V22,MATCH(view!CB$3,data!$Y22:$AB22,0)),CB24),\"●\"),\"●\"))","v":""},{"$f":"IF(ISERROR(MATCH(view!CC$3,data!$Y22:$AB22,0)),\"\",IFERROR(HYPERLINK(showDetails(INDEX(data!$S22:$V22,MATCH(view!CC$3,data!$Y22:$AB22,0)),CC24),\"●\"),\"●\"))","v":""},{"$f":"IF(ISERROR(MATCH(view!CD$3,data!$Y22:$AB22,0)),\"\",IFERROR(HYPERLINK(showDetails(INDEX(data!$S22:$V22,MATCH(view!CD$3,data!$Y22:$AB22,0)),CD24),\"●\"),\"●\"))","v":""},{"$f":"IF(ISERROR(MATCH(view!CE$3,data!$Y22:$AB22,0)),\"\",IFERROR(HYPERLINK(showDetails(INDEX(data!$S22:$V22,MATCH(view!CE$3,data!$Y22:$AB22,0)),CE24),\"●\"),\"●\"))","v":""},{"$f":"IF(ISERROR(MATCH(view!CF$3,data!$Y22:$AB22,0)),\"\",IFERROR(HYPERLINK(showDetails(INDEX(data!$S22:$V22,MATCH(view!CF$3,data!$Y22:$AB22,0)),CF24),\"●\"),\"●\"))","v":""},{"$f":"IF(ISERROR(MATCH(view!CG$3,data!$Y22:$AB22,0)),\"\",IFERROR(HYPERLINK(showDetails(INDEX(data!$S22:$V22,MATCH(view!CG$3,data!$Y22:$AB22,0)),CG24),\"●\"),\"●\"))","v":""},{"$f":"IF(ISERROR(MATCH(view!CH$3,data!$Y22:$AB22,0)),\"\",IFERROR(HYPERLINK(showDetails(INDEX(data!$S22:$V22,MATCH(view!CH$3,data!$Y22:$AB22,0)),CH24),\"●\"),\"●\"))","v":""},{"$f":"IF(ISERROR(MATCH(view!CI$3,data!$Y22:$AB22,0)),\"\",IFERROR(HYPERLINK(showDetails(INDEX(data!$S22:$V22,MATCH(view!CI$3,data!$Y22:$AB22,0)),CI24),\"●\"),\"●\"))","v":""},{"$f":"IF(ISERROR(MATCH(view!CJ$3,data!$Y22:$AB22,0)),\"\",IFERROR(HYPERLINK(showDetails(INDEX(data!$S22:$V22,MATCH(view!CJ$3,data!$Y22:$AB22,0)),CJ24),\"●\"),\"●\"))","v":""},{"$f":"IF(ISERROR(MATCH(view!CK$3,data!$Y22:$AB22,0)),\"\",IFERROR(HYPERLINK(showDetails(INDEX(data!$S22:$V22,MATCH(view!CK$3,data!$Y22:$AB22,0)),CK24),\"●\"),\"●\"))","v":""},{"$f":"IF(ISERROR(MATCH(view!CL$3,data!$Y22:$AB22,0)),\"\",IFERROR(HYPERLINK(showDetails(INDEX(data!$S22:$V22,MATCH(view!CL$3,data!$Y22:$AB22,0)),CL24),\"●\"),\"●\"))","v":""},{"$f":"IF(ISERROR(MATCH(view!CM$3,data!$Y22:$AB22,0)),\"\",IFERROR(HYPERLINK(showDetails(INDEX(data!$S22:$V22,MATCH(view!CM$3,data!$Y22:$AB22,0)),CM24),\"●\"),\"●\"))","v":""},{"$f":"IF(ISERROR(MATCH(view!CN$3,data!$Y22:$AB22,0)),\"\",IFERROR(HYPERLINK(showDetails(INDEX(data!$S22:$V22,MATCH(view!CN$3,data!$Y22:$AB22,0)),CN24),\"●\"),\"●\"))","v":""},{"$f":"IF(ISERROR(MATCH(view!CO$3,data!$Y22:$AB22,0)),\"\",IFERROR(HYPERLINK(showDetails(INDEX(data!$S22:$V22,MATCH(view!CO$3,data!$Y22:$AB22,0)),CO24),\"●\"),\"●\"))","v":""},{"$f":"IF(ISERROR(MATCH(view!CP$3,data!$Y22:$AB22,0)),\"\",IFERROR(HYPERLINK(showDetails(INDEX(data!$S22:$V22,MATCH(view!CP$3,data!$Y22:$AB22,0)),CP24),\"●\"),\"●\"))","v":""},{"$f":"IF(ISERROR(MATCH(view!CQ$3,data!$Y22:$AB22,0)),\"\",IFERROR(HYPERLINK(showDetails(INDEX(data!$S22:$V22,MATCH(view!CQ$3,data!$Y22:$AB22,0)),CQ24),\"●\"),\"●\"))","v":""},{"$f":"IF(ISERROR(MATCH(view!CR$3,data!$Y22:$AB22,0)),\"\",IFERROR(HYPERLINK(showDetails(INDEX(data!$S22:$V22,MATCH(view!CR$3,data!$Y22:$AB22,0)),CR24),\"●\"),\"●\"))","v":""},{"$f":"IF(ISERROR(MATCH(view!CS$3,data!$Y22:$AB22,0)),\"\",IFERROR(HYPERLINK(showDetails(INDEX(data!$S22:$V22,MATCH(view!CS$3,data!$Y22:$AB22,0)),CS24),\"●\"),\"●\"))","v":""},{"$f":"IF(ISERROR(MATCH(view!CT$3,data!$Y22:$AB22,0)),\"\",IFERROR(HYPERLINK(showDetails(INDEX(data!$S22:$V22,MATCH(view!CT$3,data!$Y22:$AB22,0)),CT24),\"●\"),\"●\"))","v":""},{"$f":"IF(ISERROR(MATCH(view!CU$3,data!$Y22:$AB22,0)),\"\",IFERROR(HYPERLINK(showDetails(INDEX(data!$S22:$V22,MATCH(view!CU$3,data!$Y22:$AB22,0)),CU24),\"●\"),\"●\"))","v":""},{"$f":"IF(ISERROR(MATCH(view!CV$3,data!$Y22:$AB22,0)),\"\",IFERROR(HYPERLINK(showDetails(INDEX(data!$S22:$V22,MATCH(view!CV$3,data!$Y22:$AB22,0)),CV24),\"●\"),\"●\"))","v":""},{"$f":"IF(ISERROR(MATCH(view!CW$3,data!$Y22:$AB22,0)),\"\",IFERROR(HYPERLINK(showDetails(INDEX(data!$S22:$V22,MATCH(view!CW$3,data!$Y22:$AB22,0)),CW24),\"●\"),\"●\"))","v":""},{"$f":"IF(ISERROR(MATCH(view!CX$3,data!$Y22:$AB22,0)),\"\",IFERROR(HYPERLINK(showDetails(INDEX(data!$S22:$V22,MATCH(view!CX$3,data!$Y22:$AB22,0)),CX24),\"●\"),\"●\"))","v":""},{"$f":"IF(ISERROR(MATCH(view!CY$3,data!$Y22:$AB22,0)),\"\",IFERROR(HYPERLINK(showDetails(INDEX(data!$S22:$V22,MATCH(view!CY$3,data!$Y22:$AB22,0)),CY24),\"●\"),\"●\"))","v":""},{"$f":"IF(ISERROR(MATCH(view!CZ$3,data!$Y22:$AB22,0)),\"\",IFERROR(HYPERLINK(showDetails(INDEX(data!$S22:$V22,MATCH(view!CZ$3,data!$Y22:$AB22,0)),CZ24),\"●\"),\"●\"))","v":""},{"$f":"IF(ISERROR(MATCH(view!DA$3,data!$Y22:$AB22,0)),\"\",IFERROR(HYPERLINK(showDetails(INDEX(data!$S22:$V22,MATCH(view!DA$3,data!$Y22:$AB22,0)),DA24),\"●\"),\"●\"))","v":""},{"$f":"IF(ISERROR(MATCH(view!DB$3,data!$Y22:$AB22,0)),\"\",IFERROR(HYPERLINK(showDetails(INDEX(data!$S22:$V22,MATCH(view!DB$3,data!$Y22:$AB22,0)),DB24),\"●\"),\"●\"))","v":""},{"$f":"IF(ISERROR(MATCH(view!DC$3,data!$Y22:$AB22,0)),\"\",IFERROR(HYPERLINK(showDetails(INDEX(data!$S22:$V22,MATCH(view!DC$3,data!$Y22:$AB22,0)),DC24),\"●\"),\"●\"))","v":""},{"$f":"IF(ISERROR(MATCH(view!DD$3,data!$Y22:$AB22,0)),\"\",IFERROR(HYPERLINK(showDetails(INDEX(data!$S22:$V22,MATCH(view!DD$3,data!$Y22:$AB22,0)),DD24),\"●\"),\"●\"))","v":""},{"$f":"IF(ISERROR(MATCH(view!DE$3,data!$Y22:$AB22,0)),\"\",IFERROR(HYPERLINK(showDetails(INDEX(data!$S22:$V22,MATCH(view!DE$3,data!$Y22:$AB22,0)),DE24),\"●\"),\"●\"))","v":""},{"$f":"IF(ISERROR(MATCH(view!DF$3,data!$Y22:$AB22,0)),\"\",IFERROR(HYPERLINK(showDetails(INDEX(data!$S22:$V22,MATCH(view!DF$3,data!$Y22:$AB22,0)),DF24),\"●\"),\"●\"))","v":""},{"$f":"IF(ISERROR(MATCH(view!DG$3,data!$Y22:$AB22,0)),\"\",IFERROR(HYPERLINK(showDetails(INDEX(data!$S22:$V22,MATCH(view!DG$3,data!$Y22:$AB22,0)),DG24),\"●\"),\"●\"))","v":""},{"$f":"IF(ISERROR(MATCH(view!DH$3,data!$Y22:$AB22,0)),\"\",IFERROR(HYPERLINK(showDetails(INDEX(data!$S22:$V22,MATCH(view!DH$3,data!$Y22:$AB22,0)),DH24),\"●\"),\"●\"))","v":""},{"$f":"IF(ISERROR(MATCH(view!DI$3,data!$Y22:$AB22,0)),\"\",IFERROR(HYPERLINK(showDetails(INDEX(data!$S22:$V22,MATCH(view!DI$3,data!$Y22:$AB22,0)),DI24),\"●\"),\"●\"))","v":""},{"$f":"IF(ISERROR(MATCH(view!DJ$3,data!$Y22:$AB22,0)),\"\",IFERROR(HYPERLINK(showDetails(INDEX(data!$S22:$V22,MATCH(view!DJ$3,data!$Y22:$AB22,0)),DJ24),\"●\"),\"●\"))","v":""},{"$f":"IF(ISERROR(MATCH(view!DK$3,data!$Y22:$AB22,0)),\"\",IFERROR(HYPERLINK(showDetails(INDEX(data!$S22:$V22,MATCH(view!DK$3,data!$Y22:$AB22,0)),DK24),\"●\"),\"●\"))","v":""},{"$f":"IF(ISERROR(MATCH(view!DL$3,data!$Y22:$AB22,0)),\"\",IFERROR(HYPERLINK(showDetails(INDEX(data!$S22:$V22,MATCH(view!DL$3,data!$Y22:$AB22,0)),DL24),\"●\"),\"●\"))","v":""},{"$f":"IF(ISERROR(MATCH(view!DM$3,data!$Y22:$AB22,0)),\"\",IFERROR(HYPERLINK(showDetails(INDEX(data!$S22:$V22,MATCH(view!DM$3,data!$Y22:$AB22,0)),DM24),\"●\"),\"●\"))","v":""},{"$f":"IF(ISERROR(MATCH(view!DN$3,data!$Y22:$AB22,0)),\"\",IFERROR(HYPERLINK(showDetails(INDEX(data!$S22:$V22,MATCH(view!DN$3,data!$Y22:$AB22,0)),DN24),\"●\"),\"●\"))","v":""},{"$f":"IF(ISERROR(MATCH(view!DO$3,data!$Y22:$AB22,0)),\"\",IFERROR(HYPERLINK(showDetails(INDEX(data!$S22:$V22,MATCH(view!DO$3,data!$Y22:$AB22,0)),DO24),\"●\"),\"●\"))","v":""},{"$f":"IF(ISERROR(MATCH(view!DP$3,data!$Y22:$AB22,0)),\"\",IFERROR(HYPERLINK(showDetails(INDEX(data!$S22:$V22,MATCH(view!DP$3,data!$Y22:$AB22,0)),DP24),\"●\"),\"●\"))","v":""},{"$f":"IF(ISERROR(MATCH(view!DQ$3,data!$Y22:$AB22,0)),\"\",IFERROR(HYPERLINK(showDetails(INDEX(data!$S22:$V22,MATCH(view!DQ$3,data!$Y22:$AB22,0)),DQ24),\"●\"),\"●\"))","v":""},{"$f":"IF(ISERROR(MATCH(view!DR$3,data!$Y22:$AB22,0)),\"\",IFERROR(HYPERLINK(showDetails(INDEX(data!$S22:$V22,MATCH(view!DR$3,data!$Y22:$AB22,0)),DR24),\"●\"),\"●\"))","v":""},{"$f":"IF(ISERROR(MATCH(view!DS$3,data!$Y22:$AB22,0)),\"\",IFERROR(HYPERLINK(showDetails(INDEX(data!$S22:$V22,MATCH(view!DS$3,data!$Y22:$AB22,0)),DS24),\"●\"),\"●\"))","v":""},{"$f":"INDEX(lstYears,A24) &\" - \"&INDEX(data!$W$3:$W$30,A24)","v":"1928 - Amsterdam"}]
[21,null,{"$f":"IF(ISERROR(MATCH(view!C$3,data!$Y23:$AB23,0)),\"\",IFERROR(HYPERLINK(showDetails(INDEX(data!$S23:$V23,MATCH(view!C$3,data!$Y23:$AB23,0)),C25),\"●\"),\"●\"))","v":""},{"$f":"IF(ISERROR(MATCH(view!D$3,data!$Y23:$AB23,0)),\"\",IFERROR(HYPERLINK(showDetails(INDEX(data!$S23:$V23,MATCH(view!D$3,data!$Y23:$AB23,0)),D25),\"●\"),\"●\"))","v":""},{"$f":"IF(ISERROR(MATCH(view!E$3,data!$Y23:$AB23,0)),\"\",IFERROR(HYPERLINK(showDetails(INDEX(data!$S23:$V23,MATCH(view!E$3,data!$Y23:$AB23,0)),E25),\"●\"),\"●\"))","v":""},{"$f":"IF(ISERROR(MATCH(view!F$3,data!$Y23:$AB23,0)),\"\",IFERROR(HYPERLINK(showDetails(INDEX(data!$S23:$V23,MATCH(view!F$3,data!$Y23:$AB23,0)),F25),\"●\"),\"●\"))","v":""},{"$f":"IF(ISERROR(MATCH(view!G$3,data!$Y23:$AB23,0)),\"\",IFERROR(HYPERLINK(showDetails(INDEX(data!$S23:$V23,MATCH(view!G$3,data!$Y23:$AB23,0)),G25),\"●\"),\"●\"))","v":""},{"$f":"IF(ISERROR(MATCH(view!H$3,data!$Y23:$AB23,0)),\"\",IFERROR(HYPERLINK(showDetails(INDEX(data!$S23:$V23,MATCH(view!H$3,data!$Y23:$AB23,0)),H25),\"●\"),\"●\"))","v":""},{"$f":"IF(ISERROR(MATCH(view!I$3,data!$Y23:$AB23,0)),\"\",IFERROR(HYPERLINK(showDetails(INDEX(data!$S23:$V23,MATCH(view!I$3,data!$Y23:$AB23,0)),I25),\"●\"),\"●\"))","v":""},{"$f":"IF(ISERROR(MATCH(view!J$3,data!$Y23:$AB23,0)),\"\",IFERROR(HYPERLINK(showDetails(INDEX(data!$S23:$V23,MATCH(view!J$3,data!$Y23:$AB23,0)),J25),\"●\"),\"●\"))","v":""},{"$f":"IF(ISERROR(MATCH(view!K$3,data!$Y23:$AB23,0)),\"\",IFERROR(HYPERLINK(showDetails(INDEX(data!$S23:$V23,MATCH(view!K$3,data!$Y23:$AB23,0)),K25),\"●\"),\"●\"))","v":""},{"$f":"IF(ISERROR(MATCH(view!L$3,data!$Y23:$AB23,0)),\"\",IFERROR(HYPERLINK(showDetails(INDEX(data!$S23:$V23,MATCH(view!L$3,data!$Y23:$AB23,0)),L25),\"●\"),\"●\"))","v":""},{"$f":"IF(ISERROR(MATCH(view!M$3,data!$Y23:$AB23,0)),\"\",IFERROR(HYPERLINK(showDetails(INDEX(data!$S23:$V23,MATCH(view!M$3,data!$Y23:$AB23,0)),M25),\"●\"),\"●\"))","v":""},{"$f":"IF(ISERROR(MATCH(view!N$3,data!$Y23:$AB23,0)),\"\",IFERROR(HYPERLINK(showDetails(INDEX(data!$S23:$V23,MATCH(view!N$3,data!$Y23:$AB23,0)),N25),\"●\"),\"●\"))","v":""},{"$f":"IF(ISERROR(MATCH(view!O$3,data!$Y23:$AB23,0)),\"\",IFERROR(HYPERLINK(showDetails(INDEX(data!$S23:$V23,MATCH(view!O$3,data!$Y23:$AB23,0)),O25),\"●\"),\"●\"))","v":""},{"$f":"IF(ISERROR(MATCH(view!P$3,data!$Y23:$AB23,0)),\"\",IFERROR(HYPERLINK(showDetails(INDEX(data!$S23:$V23,MATCH(view!P$3,data!$Y23:$AB23,0)),P25),\"●\"),\"●\"))","v":""},{"$f":"IF(ISERROR(MATCH(view!Q$3,data!$Y23:$AB23,0)),\"\",IFERROR(HYPERLINK(showDetails(INDEX(data!$S23:$V23,MATCH(view!Q$3,data!$Y23:$AB23,0)),Q25),\"●\"),\"●\"))","v":""},{"$f":"IF(ISERROR(MATCH(view!R$3,data!$Y23:$AB23,0)),\"\",IFERROR(HYPERLINK(showDetails(INDEX(data!$S23:$V23,MATCH(view!R$3,data!$Y23:$AB23,0)),R25),\"●\"),\"●\"))","v":""},{"$f":"IF(ISERROR(MATCH(view!S$3,data!$Y23:$AB23,0)),\"\",IFERROR(HYPERLINK(showDetails(INDEX(data!$S23:$V23,MATCH(view!S$3,data!$Y23:$AB23,0)),S25),\"●\"),\"●\"))","v":""},{"$f":"IF(ISERROR(MATCH(view!T$3,data!$Y23:$AB23,0)),\"\",IFERROR(HYPERLINK(showDetails(INDEX(data!$S23:$V23,MATCH(view!T$3,data!$Y23:$AB23,0)),T25),\"●\"),\"●\"))","v":""},{"$f":"IF(ISERROR(MATCH(view!U$3,data!$Y23:$AB23,0)),\"\",IFERROR(HYPERLINK(showDetails(INDEX(data!$S23:$V23,MATCH(view!U$3,data!$Y23:$AB23,0)),U25),\"●\"),\"●\"))","v":""},{"$f":"IF(ISERROR(MATCH(view!V$3,data!$Y23:$AB23,0)),\"\",IFERROR(HYPERLINK(showDetails(INDEX(data!$S23:$V23,MATCH(view!V$3,data!$Y23:$AB23,0)),V25),\"●\"),\"●\"))","v":""},{"$f":"IF(ISERROR(MATCH(view!W$3,data!$Y23:$AB23,0)),\"\",IFERROR(HYPERLINK(showDetails(INDEX(data!$S23:$V23,MATCH(view!W$3,data!$Y23:$AB23,0)),W25),\"●\"),\"●\"))","v":""},{"$f":"IF(ISERROR(MATCH(view!X$3,data!$Y23:$AB23,0)),\"\",IFERROR(HYPERLINK(showDetails(INDEX(data!$S23:$V23,MATCH(view!X$3,data!$Y23:$AB23,0)),X25),\"●\"),\"●\"))","v":""},{"$f":"IF(ISERROR(MATCH(view!Y$3,data!$Y23:$AB23,0)),\"\",IFERROR(HYPERLINK(showDetails(INDEX(data!$S23:$V23,MATCH(view!Y$3,data!$Y23:$AB23,0)),Y25),\"●\"),\"●\"))","v":""},{"$f":"IF(ISERROR(MATCH(view!Z$3,data!$Y23:$AB23,0)),\"\",IFERROR(HYPERLINK(showDetails(INDEX(data!$S23:$V23,MATCH(view!Z$3,data!$Y23:$AB23,0)),Z25),\"●\"),\"●\"))","v":""},{"$f":"IF(ISERROR(MATCH(view!AA$3,data!$Y23:$AB23,0)),\"\",IFERROR(HYPERLINK(showDetails(INDEX(data!$S23:$V23,MATCH(view!AA$3,data!$Y23:$AB23,0)),AA25),\"●\"),\"●\"))","v":""},{"$f":"IF(ISERROR(MATCH(view!AB$3,data!$Y23:$AB23,0)),\"\",IFERROR(HYPERLINK(showDetails(INDEX(data!$S23:$V23,MATCH(view!AB$3,data!$Y23:$AB23,0)),AB25),\"●\"),\"●\"))","v":""},{"$f":"IF(ISERROR(MATCH(view!AC$3,data!$Y23:$AB23,0)),\"\",IFERROR(HYPERLINK(showDetails(INDEX(data!$S23:$V23,MATCH(view!AC$3,data!$Y23:$AB23,0)),AC25),\"●\"),\"●\"))","v":""},{"$f":"IF(ISERROR(MATCH(view!AD$3,data!$Y23:$AB23,0)),\"\",IFERROR(HYPERLINK(showDetails(INDEX(data!$S23:$V23,MATCH(view!AD$3,data!$Y23:$AB23,0)),AD25),\"●\"),\"●\"))","v":""},{"$f":"IF(ISERROR(MATCH(view!AE$3,data!$Y23:$AB23,0)),\"\",IFERROR(HYPERLINK(showDetails(INDEX(data!$S23:$V23,MATCH(view!AE$3,data!$Y23:$AB23,0)),AE25),\"●\"),\"●\"))","v":""},{"$f":"IF(ISERROR(MATCH(view!AF$3,data!$Y23:$AB23,0)),\"\",IFERROR(HYPERLINK(showDetails(INDEX(data!$S23:$V23,MATCH(view!AF$3,data!$Y23:$AB23,0)),AF25),\"●\"),\"●\"))","v":""},{"$f":"IF(ISERROR(MATCH(view!AG$3,data!$Y23:$AB23,0)),\"\",IFERROR(HYPERLINK(showDetails(INDEX(data!$S23:$V23,MATCH(view!AG$3,data!$Y23:$AB23,0)),AG25),\"●\"),\"●\"))","v":""},{"$f":"IF(ISERROR(MATCH(view!AH$3,data!$Y23:$AB23,0)),\"\",IFERROR(HYPERLINK(showDetails(INDEX(data!$S23:$V23,MATCH(view!AH$3,data!$Y23:$AB23,0)),AH25),\"●\"),\"●\"))","v":""},{"$f":"IF(ISERROR(MATCH(view!AI$3,data!$Y23:$AB23,0)),\"\",IFERROR(HYPERLINK(showDetails(INDEX(data!$S23:$V23,MATCH(view!AI$3,data!$Y23:$AB23,0)),AI25),\"●\"),\"●\"))","v":""},{"$f":"IF(ISERROR(MATCH(view!AJ$3,data!$Y23:$AB23,0)),\"\",IFERROR(HYPERLINK(showDetails(INDEX(data!$S23:$V23,MATCH(view!AJ$3,data!$Y23:$AB23,0)),AJ25),\"●\"),\"●\"))","v":""},{"$f":"IF(ISERROR(MATCH(view!AK$3,data!$Y23:$AB23,0)),\"\",IFERROR(HYPERLINK(showDetails(INDEX(data!$S23:$V23,MATCH(view!AK$3,data!$Y23:$AB23,0)),AK25),\"●\"),\"●\"))","v":""},{"$f":"IF(ISERROR(MATCH(view!AL$3,data!$Y23:$AB23,0)),\"\",IFERROR(HYPERLINK(showDetails(INDEX(data!$S23:$V23,MATCH(view!AL$3,data!$Y23:$AB23,0)),AL25),\"●\"),\"●\"))","v":""},{"$f":"IF(ISERROR(MATCH(view!AM$3,data!$Y23:$AB23,0)),\"\",IFERROR(HYPERLINK(showDetails(INDEX(data!$S23:$V23,MATCH(view!AM$3,data!$Y23:$AB23,0)),AM25),\"●\"),\"●\"))","v":""},{"$f":"IF(ISERROR(MATCH(view!AN$3,data!$Y23:$AB23,0)),\"\",IFERROR(HYPERLINK(showDetails(INDEX(data!$S23:$V23,MATCH(view!AN$3,data!$Y23:$AB23,0)),AN25),\"●\"),\"●\"))","v":""},{"$f":"IF(ISERROR(MATCH(view!AO$3,data!$Y23:$AB23,0)),\"\",IFERROR(HYPERLINK(showDetails(INDEX(data!$S23:$V23,MATCH(view!AO$3,data!$Y23:$AB23,0)),AO25),\"●\"),\"●\"))","v":""},{"$f":"IF(ISERROR(MATCH(view!AP$3,data!$Y23:$AB23,0)),\"\",IFERROR(HYPERLINK(showDetails(INDEX(data!$S23:$V23,MATCH(view!AP$3,data!$Y23:$AB23,0)),AP25),\"●\"),\"●\"))","v":""},{"$f":"IF(ISERROR(MATCH(view!AQ$3,data!$Y23:$AB23,0)),\"\",IFERROR(HYPERLINK(showDetails(INDEX(data!$S23:$V23,MATCH(view!AQ$3,data!$Y23:$AB23,0)),AQ25),\"●\"),\"●\"))","v":""},{"$f":"IF(ISERROR(MATCH(view!AR$3,data!$Y23:$AB23,0)),\"\",IFERROR(HYPERLINK(showDetails(INDEX(data!$S23:$V23,MATCH(view!AR$3,data!$Y23:$AB23,0)),AR25),\"●\"),\"●\"))","v":""},{"$f":"IF(ISERROR(MATCH(view!AS$3,data!$Y23:$AB23,0)),\"\",IFERROR(HYPERLINK(showDetails(INDEX(data!$S23:$V23,MATCH(view!AS$3,data!$Y23:$AB23,0)),AS25),\"●\"),\"●\"))","v":""},{"$f":"IF(ISERROR(MATCH(view!AT$3,data!$Y23:$AB23,0)),\"\",IFERROR(HYPERLINK(showDetails(INDEX(data!$S23:$V23,MATCH(view!AT$3,data!$Y23:$AB23,0)),AT25),\"●\"),\"●\"))","v":""},{"$f":"IF(ISERROR(MATCH(view!AU$3,data!$Y23:$AB23,0)),\"\",IFERROR(HYPERLINK(showDetails(INDEX(data!$S23:$V23,MATCH(view!AU$3,data!$Y23:$AB23,0)),AU25),\"●\"),\"●\"))","v":""},{"$f":"IF(ISERROR(MATCH(view!AV$3,data!$Y23:$AB23,0)),\"\",IFERROR(HYPERLINK(showDetails(INDEX(data!$S23:$V23,MATCH(view!AV$3,data!$Y23:$AB23,0)),AV25),\"●\"),\"●\"))","v":""},{"$f":"IF(ISERROR(MATCH(view!AW$3,data!$Y23:$AB23,0)),\"\",IFERROR(HYPERLINK(showDetails(INDEX(data!$S23:$V23,MATCH(view!AW$3,data!$Y23:$AB23,0)),AW25),\"●\"),\"●\"))","v":""},{"$f":"IF(ISERROR(MATCH(view!AX$3,data!$Y23:$AB23,0)),\"\",IFERROR(HYPERLINK(showDetails(INDEX(data!$S23:$V23,MATCH(view!AX$3,data!$Y23:$AB23,0)),AX25),\"●\"),\"●\"))","v":""},{"$f":"IF(ISERROR(MATCH(view!AY$3,data!$Y23:$AB23,0)),\"\",IFERROR(HYPERLINK(showDetails(INDEX(data!$S23:$V23,MATCH(view!AY$3,data!$Y23:$AB23,0)),AY25),\"●\"),\"●\"))","v":""},{"$f":"IF(ISERROR(MATCH(view!AZ$3,data!$Y23:$AB23,0)),\"\",IFERROR(HYPERLINK(showDetails(INDEX(data!$S23:$V23,MATCH(view!AZ$3,data!$Y23:$AB23,0)),AZ25),\"●\"),\"●\"))","v":""},{"$f":"IF(ISERROR(MATCH(view!BA$3,data!$Y23:$AB23,0)),\"\",IFERROR(HYPERLINK(showDetails(INDEX(data!$S23:$V23,MATCH(view!BA$3,data!$Y23:$AB23,0)),BA25),\"●\"),\"●\"))","v":""},{"$f":"IF(ISERROR(MATCH(view!BB$3,data!$Y23:$AB23,0)),\"\",IFERROR(HYPERLINK(showDetails(INDEX(data!$S23:$V23,MATCH(view!BB$3,data!$Y23:$AB23,0)),BB25),\"●\"),\"●\"))","v":""},{"$f":"IF(ISERROR(MATCH(view!BC$3,data!$Y23:$AB23,0)),\"\",IFERROR(HYPERLINK(showDetails(INDEX(data!$S23:$V23,MATCH(view!BC$3,data!$Y23:$AB23,0)),BC25),\"●\"),\"●\"))","v":""},{"$f":"IF(ISERROR(MATCH(view!BD$3,data!$Y23:$AB23,0)),\"\",IFERROR(HYPERLINK(showDetails(INDEX(data!$S23:$V23,MATCH(view!BD$3,data!$Y23:$AB23,0)),BD25),\"●\"),\"●\"))","v":""},{"$f":"IF(ISERROR(MATCH(view!BE$3,data!$Y23:$AB23,0)),\"\",IFERROR(HYPERLINK(showDetails(INDEX(data!$S23:$V23,MATCH(view!BE$3,data!$Y23:$AB23,0)),BE25),\"●\"),\"●\"))","v":""},{"$f":"IF(ISERROR(MATCH(view!BF$3,data!$Y23:$AB23,0)),\"\",IFERROR(HYPERLINK(showDetails(INDEX(data!$S23:$V23,MATCH(view!BF$3,data!$Y23:$AB23,0)),BF25),\"●\"),\"●\"))","v":""},{"$f":"IF(ISERROR(MATCH(view!BG$3,data!$Y23:$AB23,0)),\"\",IFERROR(HYPERLINK(showDetails(INDEX(data!$S23:$V23,MATCH(view!BG$3,data!$Y23:$AB23,0)),BG25),\"●\"),\"●\"))","v":""},{"$f":"IF(ISERROR(MATCH(view!BH$3,data!$Y23:$AB23,0)),\"\",IFERROR(HYPERLINK(showDetails(INDEX(data!$S23:$V23,MATCH(view!BH$3,data!$Y23:$AB23,0)),BH25),\"●\"),\"●\"))","v":""},{"$f":"IF(ISERROR(MATCH(view!BI$3,data!$Y23:$AB23,0)),\"\",IFERROR(HYPERLINK(showDetails(INDEX(data!$S23:$V23,MATCH(view!BI$3,data!$Y23:$AB23,0)),BI25),\"●\"),\"●\"))","v":""},{"$f":"IF(ISERROR(MATCH(view!BJ$3,data!$Y23:$AB23,0)),\"\",IFERROR(HYPERLINK(showDetails(INDEX(data!$S23:$V23,MATCH(view!BJ$3,data!$Y23:$AB23,0)),BJ25),\"●\"),\"●\"))","v":""},{"$f":"IF(ISERROR(MATCH(view!BK$3,data!$Y23:$AB23,0)),\"\",IFERROR(HYPERLINK(showDetails(INDEX(data!$S23:$V23,MATCH(view!BK$3,data!$Y23:$AB23,0)),BK25),\"●\"),\"●\"))","v":""},{"$f":"IF(ISERROR(MATCH(view!BL$3,data!$Y23:$AB23,0)),\"\",IFERROR(HYPERLINK(showDetails(INDEX(data!$S23:$V23,MATCH(view!BL$3,data!$Y23:$AB23,0)),BL25),\"●\"),\"●\"))","v":"●"},{"$f":"IF(ISERROR(MATCH(view!BM$3,data!$Y23:$AB23,0)),\"\",IFERROR(HYPERLINK(showDetails(INDEX(data!$S23:$V23,MATCH(view!BM$3,data!$Y23:$AB23,0)),BM25),\"●\"),\"●\"))","v":""},{"$f":"IF(ISERROR(MATCH(view!BN$3,data!$Y23:$AB23,0)),\"\",IFERROR(HYPERLINK(showDetails(INDEX(data!$S23:$V23,MATCH(view!BN$3,data!$Y23:$AB23,0)),BN25),\"●\"),\"●\"))","v":""},{"$f":"IF(ISERROR(MATCH(view!BO$3,data!$Y23:$AB23,0)),\"\",IFERROR(HYPERLINK(showDetails(INDEX(data!$S23:$V23,MATCH(view!BO$3,data!$Y23:$AB23,0)),BO25),\"●\"),\"●\"))","v":""},{"$f":"IF(ISERROR(MATCH(view!BP$3,data!$Y23:$AB23,0)),\"\",IFERROR(HYPERLINK(showDetails(INDEX(data!$S23:$V23,MATCH(view!BP$3,data!$Y23:$AB23,0)),BP25),\"●\"),\"●\"))","v":""},{"$f":"IF(ISERROR(MATCH(view!BQ$3,data!$Y23:$AB23,0)),\"\",IFERROR(HYPERLINK(showDetails(INDEX(data!$S23:$V23,MATCH(view!BQ$3,data!$Y23:$AB23,0)),BQ25),\"●\"),\"●\"))","v":"●"},{"$f":"IF(ISERROR(MATCH(view!BR$3,data!$Y23:$AB23,0)),\"\",IFERROR(HYPERLINK(showDetails(INDEX(data!$S23:$V23,MATCH(view!BR$3,data!$Y23:$AB23,0)),BR25),\"●\"),\"●\"))","v":""},{"$f":"IF(ISERROR(MATCH(view!BS$3,data!$Y23:$AB23,0)),\"\",IFERROR(HYPERLINK(showDetails(INDEX(data!$S23:$V23,MATCH(view!BS$3,data!$Y23:$AB23,0)),BS25),\"●\"),\"●\"))","v":""},{"$f":"IF(ISERROR(MATCH(view!BT$3,data!$Y23:$AB23,0)),\"\",IFERROR(HYPERLINK(showDetails(INDEX(data!$S23:$V23,MATCH(view!BT$3,data!$Y23:$AB23,0)),BT25),\"●\"),\"●\"))","v":""},{"$f":"IF(ISERROR(MATCH(view!BU$3,data!$Y23:$AB23,0)),\"\",IFERROR(HYPERLINK(showDetails(INDEX(data!$S23:$V23,MATCH(view!BU$3,data!$Y23:$AB23,0)),BU25),\"●\"),\"●\"))","v":""},{"$f":"IF(ISERROR(MATCH(view!BV$3,data!$Y23:$AB23,0)),\"\",IFERROR(HYPERLINK(showDetails(INDEX(data!$S23:$V23,MATCH(view!BV$3,data!$Y23:$AB23,0)),BV25),\"●\"),\"●\"))","v":""},{"$f":"IF(ISERROR(MATCH(view!BW$3,data!$Y23:$AB23,0)),\"\",IFERROR(HYPERLINK(showDetails(INDEX(data!$S23:$V23,MATCH(view!BW$3,data!$Y23:$AB23,0)),BW25),\"●\"),\"●\"))","v":""},{"$f":"IF(ISERROR(MATCH(view!BX$3,data!$Y23:$AB23,0)),\"\",IFERROR(HYPERLINK(showDetails(INDEX(data!$S23:$V23,MATCH(view!BX$3,data!$Y23:$AB23,0)),BX25),\"●\"),\"●\"))","v":""},{"$f":"IF(ISERROR(MATCH(view!BY$3,data!$Y23:$AB23,0)),\"\",IFERROR(HYPERLINK(showDetails(INDEX(data!$S23:$V23,MATCH(view!BY$3,data!$Y23:$AB23,0)),BY25),\"●\"),\"●\"))","v":"●"},{"$f":"IF(ISERROR(MATCH(view!BZ$3,data!$Y23:$AB23,0)),\"\",IFERROR(HYPERLINK(showDetails(INDEX(data!$S23:$V23,MATCH(view!BZ$3,data!$Y23:$AB23,0)),BZ25),\"●\"),\"●\"))","v":""},{"$f":"IF(ISERROR(MATCH(view!CA$3,data!$Y23:$AB23,0)),\"\",IFERROR(HYPERLINK(showDetails(INDEX(data!$S23:$V23,MATCH(view!CA$3,data!$Y23:$AB23,0)),CA25),\"●\"),\"●\"))","v":""},{"$f":"IF(ISERROR(MATCH(view!CB$3,data!$Y23:$AB23,0)),\"\",IFERROR(HYPERLINK(showDetails(INDEX(data!$S23:$V23,MATCH(view!CB$3,data!$Y23:$AB23,0)),CB25),\"●\"),\"●\"))","v":""},{"$f":"IF(ISERROR(MATCH(view!CC$3,data!$Y23:$AB23,0)),\"\",IFERROR(HYPERLINK(showDetails(INDEX(data!$S23:$V23,MATCH(view!CC$3,data!$Y23:$AB23,0)),CC25),\"●\"),\"●\"))","v":""},{"$f":"IF(ISERROR(MATCH(view!CD$3,data!$Y23:$AB23,0)),\"\",IFERROR(HYPERLINK(showDetails(INDEX(data!$S23:$V23,MATCH(view!CD$3,data!$Y23:$AB23,0)),CD25),\"●\"),\"●\"))","v":""},{"$f":"IF(ISERROR(MATCH(view!CE$3,data!$Y23:$AB23,0)),\"\",IFERROR(HYPERLINK(showDetails(INDEX(data!$S23:$V23,MATCH(view!CE$3,data!$Y23:$AB23,0)),CE25),\"●\"),\"●\"))","v":""},{"$f":"IF(ISERROR(MATCH(view!CF$3,data!$Y23:$AB23,0)),\"\",IFERROR(HYPERLINK(showDetails(INDEX(data!$S23:$V23,MATCH(view!CF$3,data!$Y23:$AB23,0)),CF25),\"●\"),\"●\"))","v":""},{"$f":"IF(ISERROR(MATCH(view!CG$3,data!$Y23:$AB23,0)),\"\",IFERROR(HYPERLINK(showDetails(INDEX(data!$S23:$V23,MATCH(view!CG$3,data!$Y23:$AB23,0)),CG25),\"●\"),\"●\"))","v":""},{"$f":"IF(ISERROR(MATCH(view!CH$3,data!$Y23:$AB23,0)),\"\",IFERROR(HYPERLINK(showDetails(INDEX(data!$S23:$V23,MATCH(view!CH$3,data!$Y23:$AB23,0)),CH25),\"●\"),\"●\"))","v":""},{"$f":"IF(ISERROR(MATCH(view!CI$3,data!$Y23:$AB23,0)),\"\",IFERROR(HYPERLINK(showDetails(INDEX(data!$S23:$V23,MATCH(view!CI$3,data!$Y23:$AB23,0)),CI25),\"●\"),\"●\"))","v":""},{"$f":"IF(ISERROR(MATCH(view!CJ$3,data!$Y23:$AB23,0)),\"\",IFERROR(HYPERLINK(showDetails(INDEX(data!$S23:$V23,MATCH(view!CJ$3,data!$Y23:$AB23,0)),CJ25),\"●\"),\"●\"))","v":""},{"$f":"IF(ISERROR(MATCH(view!CK$3,data!$Y23:$AB23,0)),\"\",IFERROR(HYPERLINK(showDetails(INDEX(data!$S23:$V23,MATCH(view!CK$3,data!$Y23:$AB23,0)),CK25),\"●\"),\"●\"))","v":""},{"$f":"IF(ISERROR(MATCH(view!CL$3,data!$Y23:$AB23,0)),\"\",IFERROR(HYPERLINK(showDetails(INDEX(data!$S23:$V23,MATCH(view!CL$3,data!$Y23:$AB23,0)),CL25),\"●\"),\"●\"))","v":""},{"$f":"IF(ISERROR(MATCH(view!CM$3,data!$Y23:$AB23,0)),\"\",IFERROR(HYPERLINK(showDetails(INDEX(data!$S23:$V23,MATCH(view!CM$3,data!$Y23:$AB23,0)),CM25),\"●\"),\"●\"))","v":""},{"$f":"IF(ISERROR(MATCH(view!CN$3,data!$Y23:$AB23,0)),\"\",IFERROR(HYPERLINK(showDetails(INDEX(data!$S23:$V23,MATCH(view!CN$3,data!$Y23:$AB23,0)),CN25),\"●\"),\"●\"))","v":""},{"$f":"IF(ISERROR(MATCH(view!CO$3,data!$Y23:$AB23,0)),\"\",IFERROR(HYPERLINK(showDetails(INDEX(data!$S23:$V23,MATCH(view!CO$3,data!$Y23:$AB23,0)),CO25),\"●\"),\"●\"))","v":""},{"$f":"IF(ISERROR(MATCH(view!CP$3,data!$Y23:$AB23,0)),\"\",IFERROR(HYPERLINK(showDetails(INDEX(data!$S23:$V23,MATCH(view!CP$3,data!$Y23:$AB23,0)),CP25),\"●\"),\"●\"))","v":""},{"$f":"IF(ISERROR(MATCH(view!CQ$3,data!$Y23:$AB23,0)),\"\",IFERROR(HYPERLINK(showDetails(INDEX(data!$S23:$V23,MATCH(view!CQ$3,data!$Y23:$AB23,0)),CQ25),\"●\"),\"●\"))","v":""},{"$f":"IF(ISERROR(MATCH(view!CR$3,data!$Y23:$AB23,0)),\"\",IFERROR(HYPERLINK(showDetails(INDEX(data!$S23:$V23,MATCH(view!CR$3,data!$Y23:$AB23,0)),CR25),\"●\"),\"●\"))","v":""},{"$f":"IF(ISERROR(MATCH(view!CS$3,data!$Y23:$AB23,0)),\"\",IFERROR(HYPERLINK(showDetails(INDEX(data!$S23:$V23,MATCH(view!CS$3,data!$Y23:$AB23,0)),CS25),\"●\"),\"●\"))","v":""},{"$f":"IF(ISERROR(MATCH(view!CT$3,data!$Y23:$AB23,0)),\"\",IFERROR(HYPERLINK(showDetails(INDEX(data!$S23:$V23,MATCH(view!CT$3,data!$Y23:$AB23,0)),CT25),\"●\"),\"●\"))","v":""},{"$f":"IF(ISERROR(MATCH(view!CU$3,data!$Y23:$AB23,0)),\"\",IFERROR(HYPERLINK(showDetails(INDEX(data!$S23:$V23,MATCH(view!CU$3,data!$Y23:$AB23,0)),CU25),\"●\"),\"●\"))","v":""},{"$f":"IF(ISERROR(MATCH(view!CV$3,data!$Y23:$AB23,0)),\"\",IFERROR(HYPERLINK(showDetails(INDEX(data!$S23:$V23,MATCH(view!CV$3,data!$Y23:$AB23,0)),CV25),\"●\"),\"●\"))","v":""},{"$f":"IF(ISERROR(MATCH(view!CW$3,data!$Y23:$AB23,0)),\"\",IFERROR(HYPERLINK(showDetails(INDEX(data!$S23:$V23,MATCH(view!CW$3,data!$Y23:$AB23,0)),CW25),\"●\"),\"●\"))","v":""},{"$f":"IF(ISERROR(MATCH(view!CX$3,data!$Y23:$AB23,0)),\"\",IFERROR(HYPERLINK(showDetails(INDEX(data!$S23:$V23,MATCH(view!CX$3,data!$Y23:$AB23,0)),CX25),\"●\"),\"●\"))","v":""},{"$f":"IF(ISERROR(MATCH(view!CY$3,data!$Y23:$AB23,0)),\"\",IFERROR(HYPERLINK(showDetails(INDEX(data!$S23:$V23,MATCH(view!CY$3,data!$Y23:$AB23,0)),CY25),\"●\"),\"●\"))","v":""},{"$f":"IF(ISERROR(MATCH(view!CZ$3,data!$Y23:$AB23,0)),\"\",IFERROR(HYPERLINK(showDetails(INDEX(data!$S23:$V23,MATCH(view!CZ$3,data!$Y23:$AB23,0)),CZ25),\"●\"),\"●\"))","v":""},{"$f":"IF(ISERROR(MATCH(view!DA$3,data!$Y23:$AB23,0)),\"\",IFERROR(HYPERLINK(showDetails(INDEX(data!$S23:$V23,MATCH(view!DA$3,data!$Y23:$AB23,0)),DA25),\"●\"),\"●\"))","v":""},{"$f":"IF(ISERROR(MATCH(view!DB$3,data!$Y23:$AB23,0)),\"\",IFERROR(HYPERLINK(showDetails(INDEX(data!$S23:$V23,MATCH(view!DB$3,data!$Y23:$AB23,0)),DB25),\"●\"),\"●\"))","v":""},{"$f":"IF(ISERROR(MATCH(view!DC$3,data!$Y23:$AB23,0)),\"\",IFERROR(HYPERLINK(showDetails(INDEX(data!$S23:$V23,MATCH(view!DC$3,data!$Y23:$AB23,0)),DC25),\"●\"),\"●\"))","v":""},{"$f":"IF(ISERROR(MATCH(view!DD$3,data!$Y23:$AB23,0)),\"\",IFERROR(HYPERLINK(showDetails(INDEX(data!$S23:$V23,MATCH(view!DD$3,data!$Y23:$AB23,0)),DD25),\"●\"),\"●\"))","v":""},{"$f":"IF(ISERROR(MATCH(view!DE$3,data!$Y23:$AB23,0)),\"\",IFERROR(HYPERLINK(showDetails(INDEX(data!$S23:$V23,MATCH(view!DE$3,data!$Y23:$AB23,0)),DE25),\"●\"),\"●\"))","v":""},{"$f":"IF(ISERROR(MATCH(view!DF$3,data!$Y23:$AB23,0)),\"\",IFERROR(HYPERLINK(showDetails(INDEX(data!$S23:$V23,MATCH(view!DF$3,data!$Y23:$AB23,0)),DF25),\"●\"),\"●\"))","v":""},{"$f":"IF(ISERROR(MATCH(view!DG$3,data!$Y23:$AB23,0)),\"\",IFERROR(HYPERLINK(showDetails(INDEX(data!$S23:$V23,MATCH(view!DG$3,data!$Y23:$AB23,0)),DG25),\"●\"),\"●\"))","v":""},{"$f":"IF(ISERROR(MATCH(view!DH$3,data!$Y23:$AB23,0)),\"\",IFERROR(HYPERLINK(showDetails(INDEX(data!$S23:$V23,MATCH(view!DH$3,data!$Y23:$AB23,0)),DH25),\"●\"),\"●\"))","v":""},{"$f":"IF(ISERROR(MATCH(view!DI$3,data!$Y23:$AB23,0)),\"\",IFERROR(HYPERLINK(showDetails(INDEX(data!$S23:$V23,MATCH(view!DI$3,data!$Y23:$AB23,0)),DI25),\"●\"),\"●\"))","v":""},{"$f":"IF(ISERROR(MATCH(view!DJ$3,data!$Y23:$AB23,0)),\"\",IFERROR(HYPERLINK(showDetails(INDEX(data!$S23:$V23,MATCH(view!DJ$3,data!$Y23:$AB23,0)),DJ25),\"●\"),\"●\"))","v":""},{"$f":"IF(ISERROR(MATCH(view!DK$3,data!$Y23:$AB23,0)),\"\",IFERROR(HYPERLINK(showDetails(INDEX(data!$S23:$V23,MATCH(view!DK$3,data!$Y23:$AB23,0)),DK25),\"●\"),\"●\"))","v":""},{"$f":"IF(ISERROR(MATCH(view!DL$3,data!$Y23:$AB23,0)),\"\",IFERROR(HYPERLINK(showDetails(INDEX(data!$S23:$V23,MATCH(view!DL$3,data!$Y23:$AB23,0)),DL25),\"●\"),\"●\"))","v":""},{"$f":"IF(ISERROR(MATCH(view!DM$3,data!$Y23:$AB23,0)),\"\",IFERROR(HYPERLINK(showDetails(INDEX(data!$S23:$V23,MATCH(view!DM$3,data!$Y23:$AB23,0)),DM25),\"●\"),\"●\"))","v":""},{"$f":"IF(ISERROR(MATCH(view!DN$3,data!$Y23:$AB23,0)),\"\",IFERROR(HYPERLINK(showDetails(INDEX(data!$S23:$V23,MATCH(view!DN$3,data!$Y23:$AB23,0)),DN25),\"●\"),\"●\"))","v":""},{"$f":"IF(ISERROR(MATCH(view!DO$3,data!$Y23:$AB23,0)),\"\",IFERROR(HYPERLINK(showDetails(INDEX(data!$S23:$V23,MATCH(view!DO$3,data!$Y23:$AB23,0)),DO25),\"●\"),\"●\"))","v":""},{"$f":"IF(ISERROR(MATCH(view!DP$3,data!$Y23:$AB23,0)),\"\",IFERROR(HYPERLINK(showDetails(INDEX(data!$S23:$V23,MATCH(view!DP$3,data!$Y23:$AB23,0)),DP25),\"●\"),\"●\"))","v":""},{"$f":"IF(ISERROR(MATCH(view!DQ$3,data!$Y23:$AB23,0)),\"\",IFERROR(HYPERLINK(showDetails(INDEX(data!$S23:$V23,MATCH(view!DQ$3,data!$Y23:$AB23,0)),DQ25),\"●\"),\"●\"))","v":""},{"$f":"IF(ISERROR(MATCH(view!DR$3,data!$Y23:$AB23,0)),\"\",IFERROR(HYPERLINK(showDetails(INDEX(data!$S23:$V23,MATCH(view!DR$3,data!$Y23:$AB23,0)),DR25),\"●\"),\"●\"))","v":""},{"$f":"IF(ISERROR(MATCH(view!DS$3,data!$Y23:$AB23,0)),\"\",IFERROR(HYPERLINK(showDetails(INDEX(data!$S23:$V23,MATCH(view!DS$3,data!$Y23:$AB23,0)),DS25),\"●\"),\"●\"))","v":""},{"$f":"INDEX(lstYears,A25) &\" - \"&INDEX(data!$W$3:$W$30,A25)","v":"1924 - Paris"}]
[22,null,{"$f":"IF(ISERROR(MATCH(view!C$3,data!$Y24:$AB24,0)),\"\",IFERROR(HYPERLINK(showDetails(INDEX(data!$S24:$V24,MATCH(view!C$3,data!$Y24:$AB24,0)),C26),\"●\"),\"●\"))","v":""},{"$f":"IF(ISERROR(MATCH(view!D$3,data!$Y24:$AB24,0)),\"\",IFERROR(HYPERLINK(showDetails(INDEX(data!$S24:$V24,MATCH(view!D$3,data!$Y24:$AB24,0)),D26),\"●\"),\"●\"))","v":""},{"$f":"IF(ISERROR(MATCH(view!E$3,data!$Y24:$AB24,0)),\"\",IFERROR(HYPERLINK(showDetails(INDEX(data!$S24:$V24,MATCH(view!E$3,data!$Y24:$AB24,0)),E26),\"●\"),\"●\"))","v":""},{"$f":"IF(ISERROR(MATCH(view!F$3,data!$Y24:$AB24,0)),\"\",IFERROR(HYPERLINK(showDetails(INDEX(data!$S24:$V24,MATCH(view!F$3,data!$Y24:$AB24,0)),F26),\"●\"),\"●\"))","v":""},{"$f":"IF(ISERROR(MATCH(view!G$3,data!$Y24:$AB24,0)),\"\",IFERROR(HYPERLINK(showDetails(INDEX(data!$S24:$V24,MATCH(view!G$3,data!$Y24:$AB24,0)),G26),\"●\"),\"●\"))","v":""},{"$f":"IF(ISERROR(MATCH(view!H$3,data!$Y24:$AB24,0)),\"\",IFERROR(HYPERLINK(showDetails(INDEX(data!$S24:$V24,MATCH(view!H$3,data!$Y24:$AB24,0)),H26),\"●\"),\"●\"))","v":""},{"$f":"IF(ISERROR(MATCH(view!I$3,data!$Y24:$AB24,0)),\"\",IFERROR(HYPERLINK(showDetails(INDEX(data!$S24:$V24,MATCH(view!I$3,data!$Y24:$AB24,0)),I26),\"●\"),\"●\"))","v":""},{"$f":"IF(ISERROR(MATCH(view!J$3,data!$Y24:$AB24,0)),\"\",IFERROR(HYPERLINK(showDetails(INDEX(data!$S24:$V24,MATCH(view!J$3,data!$Y24:$AB24,0)),J26),\"●\"),\"●\"))","v":""},{"$f":"IF(ISERROR(MATCH(view!K$3,data!$Y24:$AB24,0)),\"\",IFERROR(HYPERLINK(showDetails(INDEX(data!$S24:$V24,MATCH(view!K$3,data!$Y24:$AB24,0)),K26),\"●\"),\"●\"))","v":""},{"$f":"IF(ISERROR(MATCH(view!L$3,data!$Y24:$AB24,0)),\"\",IFERROR(HYPERLINK(showDetails(INDEX(data!$S24:$V24,MATCH(view!L$3,data!$Y24:$AB24,0)),L26),\"●\"),\"●\"))","v":""},{"$f":"IF(ISERROR(MATCH(view!M$3,data!$Y24:$AB24,0)),\"\",IFERROR(HYPERLINK(showDetails(INDEX(data!$S24:$V24,MATCH(view!M$3,data!$Y24:$AB24,0)),M26),\"●\"),\"●\"))","v":""},{"$f":"IF(ISERROR(MATCH(view!N$3,data!$Y24:$AB24,0)),\"\",IFERROR(HYPERLINK(showDetails(INDEX(data!$S24:$V24,MATCH(view!N$3,data!$Y24:$AB24,0)),N26),\"●\"),\"●\"))","v":""},{"$f":"IF(ISERROR(MATCH(view!O$3,data!$Y24:$AB24,0)),\"\",IFERROR(HYPERLINK(showDetails(INDEX(data!$S24:$V24,MATCH(view!O$3,data!$Y24:$AB24,0)),O26),\"●\"),\"●\"))","v":""},{"$f":"IF(ISERROR(MATCH(view!P$3,data!$Y24:$AB24,0)),\"\",IFERROR(HYPERLINK(showDetails(INDEX(data!$S24:$V24,MATCH(view!P$3,data!$Y24:$AB24,0)),P26),\"●\"),\"●\"))","v":""},{"$f":"IF(ISERROR(MATCH(view!Q$3,data!$Y24:$AB24,0)),\"\",IFERROR(HYPERLINK(showDetails(INDEX(data!$S24:$V24,MATCH(view!Q$3,data!$Y24:$AB24,0)),Q26),\"●\"),\"●\"))","v":""},{"$f":"IF(ISERROR(MATCH(view!R$3,data!$Y24:$AB24,0)),\"\",IFERROR(HYPERLINK(showDetails(INDEX(data!$S24:$V24,MATCH(view!R$3,data!$Y24:$AB24,0)),R26),\"●\"),\"●\"))","v":""},{"$f":"IF(ISERROR(MATCH(view!S$3,data!$Y24:$AB24,0)),\"\",IFERROR(HYPERLINK(showDetails(INDEX(data!$S24:$V24,MATCH(view!S$3,data!$Y24:$AB24,0)),S26),\"●\"),\"●\"))","v":""},{"$f":"IF(ISERROR(MATCH(view!T$3,data!$Y24:$AB24,0)),\"\",IFERROR(HYPERLINK(showDetails(INDEX(data!$S24:$V24,MATCH(view!T$3,data!$Y24:$AB24,0)),T26),\"●\"),\"●\"))","v":""},{"$f":"IF(ISERROR(MATCH(view!U$3,data!$Y24:$AB24,0)),\"\",IFERROR(HYPERLINK(showDetails(INDEX(data!$S24:$V24,MATCH(view!U$3,data!$Y24:$AB24,0)),U26),\"●\"),\"●\"))","v":""},{"$f":"IF(ISERROR(MATCH(view!V$3,data!$Y24:$AB24,0)),\"\",IFERROR(HYPERLINK(showDetails(INDEX(data!$S24:$V24,MATCH(view!V$3,data!$Y24:$AB24,0)),V26),\"●\"),\"●\"))","v":""},{"$f":"IF(ISERROR(MATCH(view!W$3,data!$Y24:$AB24,0)),\"\",IFERROR(HYPERLINK(showDetails(INDEX(data!$S24:$V24,MATCH(view!W$3,data!$Y24:$AB24,0)),W26),\"●\"),\"●\"))","v":""},{"$f":"IF(ISERROR(MATCH(view!X$3,data!$Y24:$AB24,0)),\"\",IFERROR(HYPERLINK(showDetails(INDEX(data!$S24:$V24,MATCH(view!X$3,data!$Y24:$AB24,0)),X26),\"●\"),\"●\"))","v":""},{"$f":"IF(ISERROR(MATCH(view!Y$3,data!$Y24:$AB24,0)),\"\",IFERROR(HYPERLINK(showDetails(INDEX(data!$S24:$V24,MATCH(view!Y$3,data!$Y24:$AB24,0)),Y26),\"●\"),\"●\"))","v":""},{"$f":"IF(ISERROR(MATCH(view!Z$3,data!$Y24:$AB24,0)),\"\",IFERROR(HYPERLINK(showDetails(INDEX(data!$S24:$V24,MATCH(view!Z$3,data!$Y24:$AB24,0)),Z26),\"●\"),\"●\"))","v":""},{"$f":"IF(ISERROR(MATCH(view!AA$3,data!$Y24:$AB24,0)),\"\",IFERROR(HYPERLINK(showDetails(INDEX(data!$S24:$V24,MATCH(view!AA$3,data!$Y24:$AB24,0)),AA26),\"●\"),\"●\"))","v":""},{"$f":"IF(ISERROR(MATCH(view!AB$3,data!$Y24:$AB24,0)),\"\",IFERROR(HYPERLINK(showDetails(INDEX(data!$S24:$V24,MATCH(view!AB$3,data!$Y24:$AB24,0)),AB26),\"●\"),\"●\"))","v":""},{"$f":"IF(ISERROR(MATCH(view!AC$3,data!$Y24:$AB24,0)),\"\",IFERROR(HYPERLINK(showDetails(INDEX(data!$S24:$V24,MATCH(view!AC$3,data!$Y24:$AB24,0)),AC26),\"●\"),\"●\"))","v":""},{"$f":"IF(ISERROR(MATCH(view!AD$3,data!$Y24:$AB24,0)),\"\",IFERROR(HYPERLINK(showDetails(INDEX(data!$S24:$V24,MATCH(view!AD$3,data!$Y24:$AB24,0)),AD26),\"●\"),\"●\"))","v":""},{"$f":"IF(ISERROR(MATCH(view!AE$3,data!$Y24:$AB24,0)),\"\",IFERROR(HYPERLINK(showDetails(INDEX(data!$S24:$V24,MATCH(view!AE$3,data!$Y24:$AB24,0)),AE26),\"●\"),\"●\"))","v":""},{"$f":"IF(ISERROR(MATCH(view!AF$3,data!$Y24:$AB24,0)),\"\",IFERROR(HYPERLINK(showDetails(INDEX(data!$S24:$V24,MATCH(view!AF$3,data!$Y24:$AB24,0)),AF26),\"●\"),\"●\"))","v":""},{"$f":"IF(ISERROR(MATCH(view!AG$3,data!$Y24:$AB24,0)),\"\",IFERROR(HYPERLINK(showDetails(INDEX(data!$S24:$V24,MATCH(view!AG$3,data!$Y24:$AB24,0)),AG26),\"●\"),\"●\"))","v":""},{"$f":"IF(ISERROR(MATCH(view!AH$3,data!$Y24:$AB24,0)),\"\",IFERROR(HYPERLINK(showDetails(INDEX(data!$S24:$V24,MATCH(view!AH$3,data!$Y24:$AB24,0)),AH26),\"●\"),\"●\"))","v":""},{"$f":"IF(ISERROR(MATCH(view!AI$3,data!$Y24:$AB24,0)),\"\",IFERROR(HYPERLINK(showDetails(INDEX(data!$S24:$V24,MATCH(view!AI$3,data!$Y24:$AB24,0)),AI26),\"●\"),\"●\"))","v":""},{"$f":"IF(ISERROR(MATCH(view!AJ$3,data!$Y24:$AB24,0)),\"\",IFERROR(HYPERLINK(showDetails(INDEX(data!$S24:$V24,MATCH(view!AJ$3,data!$Y24:$AB24,0)),AJ26),\"●\"),\"●\"))","v":""},{"$f":"IF(ISERROR(MATCH(view!AK$3,data!$Y24:$AB24,0)),\"\",IFERROR(HYPERLINK(showDetails(INDEX(data!$S24:$V24,MATCH(view!AK$3,data!$Y24:$AB24,0)),AK26),\"●\"),\"●\"))","v":""},{"$f":"IF(ISERROR(MATCH(view!AL$3,data!$Y24:$AB24,0)),\"\",IFERROR(HYPERLINK(showDetails(INDEX(data!$S24:$V24,MATCH(view!AL$3,data!$Y24:$AB24,0)),AL26),\"●\"),\"●\"))","v":""},{"$f":"IF(ISERROR(MATCH(view!AM$3,data!$Y24:$AB24,0)),\"\",IFERROR(HYPERLINK(showDetails(INDEX(data!$S24:$V24,MATCH(view!AM$3,data!$Y24:$AB24,0)),AM26),\"●\"),\"●\"))","v":""},{"$f":"IF(ISERROR(MATCH(view!AN$3,data!$Y24:$AB24,0)),\"\",IFERROR(HYPERLINK(showDetails(INDEX(data!$S24:$V24,MATCH(view!AN$3,data!$Y24:$AB24,0)),AN26),\"●\"),\"●\"))","v":""},{"$f":"IF(ISERROR(MATCH(view!AO$3,data!$Y24:$AB24,0)),\"\",IFERROR(HYPERLINK(showDetails(INDEX(data!$S24:$V24,MATCH(view!AO$3,data!$Y24:$AB24,0)),AO26),\"●\"),\"●\"))","v":""},{"$f":"IF(ISERROR(MATCH(view!AP$3,data!$Y24:$AB24,0)),\"\",IFERROR(HYPERLINK(showDetails(INDEX(data!$S24:$V24,MATCH(view!AP$3,data!$Y24:$AB24,0)),AP26),\"●\"),\"●\"))","v":""},{"$f":"IF(ISERROR(MATCH(view!AQ$3,data!$Y24:$AB24,0)),\"\",IFERROR(HYPERLINK(showDetails(INDEX(data!$S24:$V24,MATCH(view!AQ$3,data!$Y24:$AB24,0)),AQ26),\"●\"),\"●\"))","v":""},{"$f":"IF(ISERROR(MATCH(view!AR$3,data!$Y24:$AB24,0)),\"\",IFERROR(HYPERLINK(showDetails(INDEX(data!$S24:$V24,MATCH(view!AR$3,data!$Y24:$AB24,0)),AR26),\"●\"),\"●\"))","v":""},{"$f":"IF(ISERROR(MATCH(view!AS$3,data!$Y24:$AB24,0)),\"\",IFERROR(HYPERLINK(showDetails(INDEX(data!$S24:$V24,MATCH(view!AS$3,data!$Y24:$AB24,0)),AS26),\"●\"),\"●\"))","v":""},{"$f":"IF(ISERROR(MATCH(view!AT$3,data!$Y24:$AB24,0)),\"\",IFERROR(HYPERLINK(showDetails(INDEX(data!$S24:$V24,MATCH(view!AT$3,data!$Y24:$AB24,0)),AT26),\"●\"),\"●\"))","v":""},{"$f":"IF(ISERROR(MATCH(view!AU$3,data!$Y24:$AB24,0)),\"\",IFERROR(HYPERLINK(showDetails(INDEX(data!$S24:$V24,MATCH(view!AU$3,data!$Y24:$AB24,0)),AU26),\"●\"),\"●\"))","v":""},{"$f":"IF(ISERROR(MATCH(view!AV$3,data!$Y24:$AB24,0)),\"\",IFERROR(HYPERLINK(showDetails(INDEX(data!$S24:$V24,MATCH(view!AV$3,data!$Y24:$AB24,0)),AV26),\"●\"),\"●\"))","v":""},{"$f":"IF(ISERROR(MATCH(view!AW$3,data!$Y24:$AB24,0)),\"\",IFERROR(HYPERLINK(showDetails(INDEX(data!$S24:$V24,MATCH(view!AW$3,data!$Y24:$AB24,0)),AW26),\"●\"),\"●\"))","v":""},{"$f":"IF(ISERROR(MATCH(view!AX$3,data!$Y24:$AB24,0)),\"\",IFERROR(HYPERLINK(showDetails(INDEX(data!$S24:$V24,MATCH(view!AX$3,data!$Y24:$AB24,0)),AX26),\"●\"),\"●\"))","v":""},{"$f":"IF(ISERROR(MATCH(view!AY$3,data!$Y24:$AB24,0)),\"\",IFERROR(HYPERLINK(showDetails(INDEX(data!$S24:$V24,MATCH(view!AY$3,data!$Y24:$AB24,0)),AY26),\"●\"),\"●\"))","v":""},{"$f":"IF(ISERROR(MATCH(view!AZ$3,data!$Y24:$AB24,0)),\"\",IFERROR(HYPERLINK(showDetails(INDEX(data!$S24:$V24,MATCH(view!AZ$3,data!$Y24:$AB24,0)),AZ26),\"●\"),\"●\"))","v":""},{"$f":"IF(ISERROR(MATCH(view!BA$3,data!$Y24:$AB24,0)),\"\",IFERROR(HYPERLINK(showDetails(INDEX(data!$S24:$V24,MATCH(view!BA$3,data!$Y24:$AB24,0)),BA26),\"●\"),\"●\"))","v":""},{"$f":"IF(ISERROR(MATCH(view!BB$3,data!$Y24:$AB24,0)),\"\",IFERROR(HYPERLINK(showDetails(INDEX(data!$S24:$V24,MATCH(view!BB$3,data!$Y24:$AB24,0)),BB26),\"●\"),\"●\"))","v":""},{"$f":"IF(ISERROR(MATCH(view!BC$3,data!$Y24:$AB24,0)),\"\",IFERROR(HYPERLINK(showDetails(INDEX(data!$S24:$V24,MATCH(view!BC$3,data!$Y24:$AB24,0)),BC26),\"●\"),\"●\"))","v":""},{"$f":"IF(ISERROR(MATCH(view!BD$3,data!$Y24:$AB24,0)),\"\",IFERROR(HYPERLINK(showDetails(INDEX(data!$S24:$V24,MATCH(view!BD$3,data!$Y24:$AB24,0)),BD26),\"●\"),\"●\"))","v":""},{"$f":"IF(ISERROR(MATCH(view!BE$3,data!$Y24:$AB24,0)),\"\",IFERROR(HYPERLINK(showDetails(INDEX(data!$S24:$V24,MATCH(view!BE$3,data!$Y24:$AB24,0)),BE26),\"●\"),\"●\"))","v":""},{"$f":"IF(ISERROR(MATCH(view!BF$3,data!$Y24:$AB24,0)),\"\",IFERROR(HYPERLINK(showDetails(INDEX(data!$S24:$V24,MATCH(view!BF$3,data!$Y24:$AB24,0)),BF26),\"●\"),\"●\"))","v":""},{"$f":"IF(ISERROR(MATCH(view!BG$3,data!$Y24:$AB24,0)),\"\",IFERROR(HYPERLINK(showDetails(INDEX(data!$S24:$V24,MATCH(view!BG$3,data!$Y24:$AB24,0)),BG26),\"●\"),\"●\"))","v":""},{"$f":"IF(ISERROR(MATCH(view!BH$3,data!$Y24:$AB24,0)),\"\",IFERROR(HYPERLINK(showDetails(INDEX(data!$S24:$V24,MATCH(view!BH$3,data!$Y24:$AB24,0)),BH26),\"●\"),\"●\"))","v":""},{"$f":"IF(ISERROR(MATCH(view!BI$3,data!$Y24:$AB24,0)),\"\",IFERROR(HYPERLINK(showDetails(INDEX(data!$S24:$V24,MATCH(view!BI$3,data!$Y24:$AB24,0)),BI26),\"●\"),\"●\"))","v":""},{"$f":"IF(ISERROR(MATCH(view!BJ$3,data!$Y24:$AB24,0)),\"\",IFERROR(HYPERLINK(showDetails(INDEX(data!$S24:$V24,MATCH(view!BJ$3,data!$Y24:$AB24,0)),BJ26),\"●\"),\"●\"))","v":""},{"$f":"IF(ISERROR(MATCH(view!BK$3,data!$Y24:$AB24,0)),\"\",IFERROR(HYPERLINK(showDetails(INDEX(data!$S24:$V24,MATCH(view!BK$3,data!$Y24:$AB24,0)),BK26),\"●\"),\"●\"))","v":""},{"$f":"IF(ISERROR(MATCH(view!BL$3,data!$Y24:$AB24,0)),\"\",IFERROR(HYPERLINK(showDetails(INDEX(data!$S24:$V24,MATCH(view!BL$3,data!$Y24:$AB24,0)),BL26),\"●\"),\"●\"))","v":"●"},{"$f":"IF(ISERROR(MATCH(view!BM$3,data!$Y24:$AB24,0)),\"\",IFERROR(HYPERLINK(showDetails(INDEX(data!$S24:$V24,MATCH(view!BM$3,data!$Y24:$AB24,0)),BM26),\"●\"),\"●\"))","v":""},{"$f":"IF(ISERROR(MATCH(view!BN$3,data!$Y24:$AB24,0)),\"\",IFERROR(HYPERLINK(showDetails(INDEX(data!$S24:$V24,MATCH(view!BN$3,data!$Y24:$AB24,0)),BN26),\"●\"),\"●\"))","v":""},{"$f":"IF(ISERROR(MATCH(view!BO$3,data!$Y24:$AB24,0)),\"\",IFERROR(HYPERLINK(showDetails(INDEX(data!$S24:$V24,MATCH(view!BO$3,data!$Y24:$AB24,0)),BO26),\"●\"),\"●\"))","v":""},{"$f":"IF(ISERROR(MATCH(view!BP$3,data!$Y24:$AB24,0)),\"\",IFERROR(HYPERLINK(showDetails(INDEX(data!$S24:$V24,MATCH(view!BP$3,data!$Y24:$AB24,0)),BP26),\"●\"),\"●\"))","v":""},{"$f":"IF(ISERROR(MATCH(view!BQ$3,data!$Y24:$AB24,0)),\"\",IFERROR(HYPERLINK(showDetails(INDEX(data!$S24:$V24,MATCH(view!BQ$3,data!$Y24:$AB24,0)),BQ26),\"●\"),\"●\"))","v":"●"},{"$f":"IF(ISERROR(MATCH(view!BR$3,data!$Y24:$AB24,0)),\"\",IFERROR(HYPERLINK(showDetails(INDEX(data!$S24:$V24,MATCH(view!BR$3,data!$Y24:$AB24,0)),BR26),\"●\"),\"●\"))","v":""},{"$f":"IF(ISERROR(MATCH(view!BS$3,data!$Y24:$AB24,0)),\"\",IFERROR(HYPERLINK(showDetails(INDEX(data!$S24:$V24,MATCH(view!BS$3,data!$Y24:$AB24,0)),BS26),\"●\"),\"●\"))","v":""},{"$f":"IF(ISERROR(MATCH(view!BT$3,data!$Y24:$AB24,0)),\"\",IFERROR(HYPERLINK(showDetails(INDEX(data!$S24:$V24,MATCH(view!BT$3,data!$Y24:$AB24,0)),BT26),\"●\"),\"●\"))","v":""},{"$f":"IF(ISERROR(MATCH(view!BU$3,data!$Y24:$AB24,0)),\"\",IFERROR(HYPERLINK(showDetails(INDEX(data!$S24:$V24,MATCH(view!BU$3,data!$Y24:$AB24,0)),BU26),\"●\"),\"●\"))","v":""},{"$f":"IF(ISERROR(MATCH(view!BV$3,data!$Y24:$AB24,0)),\"\",IFERROR(HYPERLINK(showDetails(INDEX(data!$S24:$V24,MATCH(view!BV$3,data!$Y24:$AB24,0)),BV26),\"●\"),\"●\"))","v":""},{"$f":"IF(ISERROR(MATCH(view!BW$3,data!$Y24:$AB24,0)),\"\",IFERROR(HYPERLINK(showDetails(INDEX(data!$S24:$V24,MATCH(view!BW$3,data!$Y24:$AB24,0)),BW26),\"●\"),\"●\"))","v":""},{"$f":"IF(ISERROR(MATCH(view!BX$3,data!$Y24:$AB24,0)),\"\",IFERROR(HYPERLINK(showDetails(INDEX(data!$S24:$V24,MATCH(view!BX$3,data!$Y24:$AB24,0)),BX26),\"●\"),\"●\"))","v":""},{"$f":"IF(ISERROR(MATCH(view!BY$3,data!$Y24:$AB24,0)),\"\",IFERROR(HYPERLINK(showDetails(INDEX(data!$S24:$V24,MATCH(view!BY$3,data!$Y24:$AB24,0)),BY26),\"●\"),\"●\"))","v":""},{"$f":"IF(ISERROR(MATCH(view!BZ$3,data!$Y24:$AB24,0)),\"\",IFERROR(HYPERLINK(showDetails(INDEX(data!$S24:$V24,MATCH(view!BZ$3,data!$Y24:$AB24,0)),BZ26),\"●\"),\"●\"))","v":""},{"$f":"IF(ISERROR(MATCH(view!CA$3,data!$Y24:$AB24,0)),\"\",IFERROR(HYPERLINK(showDetails(INDEX(data!$S24:$V24,MATCH(view!CA$3,data!$Y24:$AB24,0)),CA26),\"●\"),\"●\"))","v":""},{"$f":"IF(ISERROR(MATCH(view!CB$3,data!$Y24:$AB24,0)),\"\",IFERROR(HYPERLINK(showDetails(INDEX(data!$S24:$V24,MATCH(view!CB$3,data!$Y24:$AB24,0)),CB26),\"●\"),\"●\"))","v":""},{"$f":"IF(ISERROR(MATCH(view!CC$3,data!$Y24:$AB24,0)),\"\",IFERROR(HYPERLINK(showDetails(INDEX(data!$S24:$V24,MATCH(view!CC$3,data!$Y24:$AB24,0)),CC26),\"●\"),\"●\"))","v":""},{"$f":"IF(ISERROR(MATCH(view!CD$3,data!$Y24:$AB24,0)),\"\",IFERROR(HYPERLINK(showDetails(INDEX(data!$S24:$V24,MATCH(view!CD$3,data!$Y24:$AB24,0)),CD26),\"●\"),\"●\"))","v":""},{"$f":"IF(ISERROR(MATCH(view!CE$3,data!$Y24:$AB24,0)),\"\",IFERROR(HYPERLINK(showDetails(INDEX(data!$S24:$V24,MATCH(view!CE$3,data!$Y24:$AB24,0)),CE26),\"●\"),\"●\"))","v":""},{"$f":"IF(ISERROR(MATCH(view!CF$3,data!$Y24:$AB24,0)),\"\",IFERROR(HYPERLINK(showDetails(INDEX(data!$S24:$V24,MATCH(view!CF$3,data!$Y24:$AB24,0)),CF26),\"●\"),\"●\"))","v":""},{"$f":"IF(ISERROR(MATCH(view!CG$3,data!$Y24:$AB24,0)),\"\",IFERROR(HYPERLINK(showDetails(INDEX(data!$S24:$V24,MATCH(view!CG$3,data!$Y24:$AB24,0)),CG26),\"●\"),\"●\"))","v":""},{"$f":"IF(ISERROR(MATCH(view!CH$3,data!$Y24:$AB24,0)),\"\",IFERROR(HYPERLINK(showDetails(INDEX(data!$S24:$V24,MATCH(view!CH$3,data!$Y24:$AB24,0)),CH26),\"●\"),\"●\"))","v":""},{"$f":"IF(ISERROR(MATCH(view!CI$3,data!$Y24:$AB24,0)),\"\",IFERROR(HYPERLINK(showDetails(INDEX(data!$S24:$V24,MATCH(view!CI$3,data!$Y24:$AB24,0)),CI26),\"●\"),\"●\"))","v":""},{"$f":"IF(ISERROR(MATCH(view!CJ$3,data!$Y24:$AB24,0)),\"\",IFERROR(HYPERLINK(showDetails(INDEX(data!$S24:$V24,MATCH(view!CJ$3,data!$Y24:$AB24,0)),CJ26),\"●\"),\"●\"))","v":""},{"$f":"IF(ISERROR(MATCH(view!CK$3,data!$Y24:$AB24,0)),\"\",IFERROR(HYPERLINK(showDetails(INDEX(data!$S24:$V24,MATCH(view!CK$3,data!$Y24:$AB24,0)),CK26),\"●\"),\"●\"))","v":""},{"$f":"IF(ISERROR(MATCH(view!CL$3,data!$Y24:$AB24,0)),\"\",IFERROR(HYPERLINK(showDetails(INDEX(data!$S24:$V24,MATCH(view!CL$3,data!$Y24:$AB24,0)),CL26),\"●\"),\"●\"))","v":""},{"$f":"IF(ISERROR(MATCH(view!CM$3,data!$Y24:$AB24,0)),\"\",IFERROR(HYPERLINK(showDetails(INDEX(data!$S24:$V24,MATCH(view!CM$3,data!$Y24:$AB24,0)),CM26),\"●\"),\"●\"))","v":""},{"$f":"IF(ISERROR(MATCH(view!CN$3,data!$Y24:$AB24,0)),\"\",IFERROR(HYPERLINK(showDetails(INDEX(data!$S24:$V24,MATCH(view!CN$3,data!$Y24:$AB24,0)),CN26),\"●\"),\"●\"))","v":""},{"$f":"IF(ISERROR(MATCH(view!CO$3,data!$Y24:$AB24,0)),\"\",IFERROR(HYPERLINK(showDetails(INDEX(data!$S24:$V24,MATCH(view!CO$3,data!$Y24:$AB24,0)),CO26),\"●\"),\"●\"))","v":""},{"$f":"IF(ISERROR(MATCH(view!CP$3,data!$Y24:$AB24,0)),\"\",IFERROR(HYPERLINK(showDetails(INDEX(data!$S24:$V24,MATCH(view!CP$3,data!$Y24:$AB24,0)),CP26),\"●\"),\"●\"))","v":""},{"$f":"IF(ISERROR(MATCH(view!CQ$3,data!$Y24:$AB24,0)),\"\",IFERROR(HYPERLINK(showDetails(INDEX(data!$S24:$V24,MATCH(view!CQ$3,data!$Y24:$AB24,0)),CQ26),\"●\"),\"●\"))","v":""},{"$f":"IF(ISERROR(MATCH(view!CR$3,data!$Y24:$AB24,0)),\"\",IFERROR(HYPERLINK(showDetails(INDEX(data!$S24:$V24,MATCH(view!CR$3,data!$Y24:$AB24,0)),CR26),\"●\"),\"●\"))","v":""},{"$f":"IF(ISERROR(MATCH(view!CS$3,data!$Y24:$AB24,0)),\"\",IFERROR(HYPERLINK(showDetails(INDEX(data!$S24:$V24,MATCH(view!CS$3,data!$Y24:$AB24,0)),CS26),\"●\"),\"●\"))","v":""},{"$f":"IF(ISERROR(MATCH(view!CT$3,data!$Y24:$AB24,0)),\"\",IFERROR(HYPERLINK(showDetails(INDEX(data!$S24:$V24,MATCH(view!CT$3,data!$Y24:$AB24,0)),CT26),\"●\"),\"●\"))","v":""},{"$f":"IF(ISERROR(MATCH(view!CU$3,data!$Y24:$AB24,0)),\"\",IFERROR(HYPERLINK(showDetails(INDEX(data!$S24:$V24,MATCH(view!CU$3,data!$Y24:$AB24,0)),CU26),\"●\"),\"●\"))","v":""},{"$f":"IF(ISERROR(MATCH(view!CV$3,data!$Y24:$AB24,0)),\"\",IFERROR(HYPERLINK(showDetails(INDEX(data!$S24:$V24,MATCH(view!CV$3,data!$Y24:$AB24,0)),CV26),\"●\"),\"●\"))","v":""},{"$f":"IF(ISERROR(MATCH(view!CW$3,data!$Y24:$AB24,0)),\"\",IFERROR(HYPERLINK(showDetails(INDEX(data!$S24:$V24,MATCH(view!CW$3,data!$Y24:$AB24,0)),CW26),\"●\"),\"●\"))","v":""},{"$f":"IF(ISERROR(MATCH(view!CX$3,data!$Y24:$AB24,0)),\"\",IFERROR(HYPERLINK(showDetails(INDEX(data!$S24:$V24,MATCH(view!CX$3,data!$Y24:$AB24,0)),CX26),\"●\"),\"●\"))","v":""},{"$f":"IF(ISERROR(MATCH(view!CY$3,data!$Y24:$AB24,0)),\"\",IFERROR(HYPERLINK(showDetails(INDEX(data!$S24:$V24,MATCH(view!CY$3,data!$Y24:$AB24,0)),CY26),\"●\"),\"●\"))","v":""},{"$f":"IF(ISERROR(MATCH(view!CZ$3,data!$Y24:$AB24,0)),\"\",IFERROR(HYPERLINK(showDetails(INDEX(data!$S24:$V24,MATCH(view!CZ$3,data!$Y24:$AB24,0)),CZ26),\"●\"),\"●\"))","v":""},{"$f":"IF(ISERROR(MATCH(view!DA$3,data!$Y24:$AB24,0)),\"\",IFERROR(HYPERLINK(showDetails(INDEX(data!$S24:$V24,MATCH(view!DA$3,data!$Y24:$AB24,0)),DA26),\"●\"),\"●\"))","v":""},{"$f":"IF(ISERROR(MATCH(view!DB$3,data!$Y24:$AB24,0)),\"\",IFERROR(HYPERLINK(showDetails(INDEX(data!$S24:$V24,MATCH(view!DB$3,data!$Y24:$AB24,0)),DB26),\"●\"),\"●\"))","v":""},{"$f":"IF(ISERROR(MATCH(view!DC$3,data!$Y24:$AB24,0)),\"\",IFERROR(HYPERLINK(showDetails(INDEX(data!$S24:$V24,MATCH(view!DC$3,data!$Y24:$AB24,0)),DC26),\"●\"),\"●\"))","v":""},{"$f":"IF(ISERROR(MATCH(view!DD$3,data!$Y24:$AB24,0)),\"\",IFERROR(HYPERLINK(showDetails(INDEX(data!$S24:$V24,MATCH(view!DD$3,data!$Y24:$AB24,0)),DD26),\"●\"),\"●\"))","v":""},{"$f":"IF(ISERROR(MATCH(view!DE$3,data!$Y24:$AB24,0)),\"\",IFERROR(HYPERLINK(showDetails(INDEX(data!$S24:$V24,MATCH(view!DE$3,data!$Y24:$AB24,0)),DE26),\"●\"),\"●\"))","v":""},{"$f":"IF(ISERROR(MATCH(view!DF$3,data!$Y24:$AB24,0)),\"\",IFERROR(HYPERLINK(showDetails(INDEX(data!$S24:$V24,MATCH(view!DF$3,data!$Y24:$AB24,0)),DF26),\"●\"),\"●\"))","v":""},{"$f":"IF(ISERROR(MATCH(view!DG$3,data!$Y24:$AB24,0)),\"\",IFERROR(HYPERLINK(showDetails(INDEX(data!$S24:$V24,MATCH(view!DG$3,data!$Y24:$AB24,0)),DG26),\"●\"),\"●\"))","v":""},{"$f":"IF(ISERROR(MATCH(view!DH$3,data!$Y24:$AB24,0)),\"\",IFERROR(HYPERLINK(showDetails(INDEX(data!$S24:$V24,MATCH(view!DH$3,data!$Y24:$AB24,0)),DH26),\"●\"),\"●\"))","v":""},{"$f":"IF(ISERROR(MATCH(view!DI$3,data!$Y24:$AB24,0)),\"\",IFERROR(HYPERLINK(showDetails(INDEX(data!$S24:$V24,MATCH(view!DI$3,data!$Y24:$AB24,0)),DI26),\"●\"),\"●\"))","v":""},{"$f":"IF(ISERROR(MATCH(view!DJ$3,data!$Y24:$AB24,0)),\"\",IFERROR(HYPERLINK(showDetails(INDEX(data!$S24:$V24,MATCH(view!DJ$3,data!$Y24:$AB24,0)),DJ26),\"●\"),\"●\"))","v":""},{"$f":"IF(ISERROR(MATCH(view!DK$3,data!$Y24:$AB24,0)),\"\",IFERROR(HYPERLINK(showDetails(INDEX(data!$S24:$V24,MATCH(view!DK$3,data!$Y24:$AB24,0)),DK26),\"●\"),\"●\"))","v":""},{"$f":"IF(ISERROR(MATCH(view!DL$3,data!$Y24:$AB24,0)),\"\",IFERROR(HYPERLINK(showDetails(INDEX(data!$S24:$V24,MATCH(view!DL$3,data!$Y24:$AB24,0)),DL26),\"●\"),\"●\"))","v":""},{"$f":"IF(ISERROR(MATCH(view!DM$3,data!$Y24:$AB24,0)),\"\",IFERROR(HYPERLINK(showDetails(INDEX(data!$S24:$V24,MATCH(view!DM$3,data!$Y24:$AB24,0)),DM26),\"●\"),\"●\"))","v":""},{"$f":"IF(ISERROR(MATCH(view!DN$3,data!$Y24:$AB24,0)),\"\",IFERROR(HYPERLINK(showDetails(INDEX(data!$S24:$V24,MATCH(view!DN$3,data!$Y24:$AB24,0)),DN26),\"●\"),\"●\"))","v":""},{"$f":"IF(ISERROR(MATCH(view!DO$3,data!$Y24:$AB24,0)),\"\",IFERROR(HYPERLINK(showDetails(INDEX(data!$S24:$V24,MATCH(view!DO$3,data!$Y24:$AB24,0)),DO26),\"●\"),\"●\"))","v":""},{"$f":"IF(ISERROR(MATCH(view!DP$3,data!$Y24:$AB24,0)),\"\",IFERROR(HYPERLINK(showDetails(INDEX(data!$S24:$V24,MATCH(view!DP$3,data!$Y24:$AB24,0)),DP26),\"●\"),\"●\"))","v":""},{"$f":"IF(ISERROR(MATCH(view!DQ$3,data!$Y24:$AB24,0)),\"\",IFERROR(HYPERLINK(showDetails(INDEX(data!$S24:$V24,MATCH(view!DQ$3,data!$Y24:$AB24,0)),DQ26),\"●\"),\"●\"))","v":""},{"$f":"IF(ISERROR(MATCH(view!DR$3,data!$Y24:$AB24,0)),\"\",IFERROR(HYPERLINK(showDetails(INDEX(data!$S24:$V24,MATCH(view!DR$3,data!$Y24:$AB24,0)),DR26),\"●\"),\"●\"))","v":""},{"$f":"IF(ISERROR(MATCH(view!DS$3,data!$Y24:$AB24,0)),\"\",IFERROR(HYPERLINK(showDetails(INDEX(data!$S24:$V24,MATCH(view!DS$3,data!$Y24:$AB24,0)),DS26),\"●\"),\"●\"))","v":""},{"$f":"INDEX(lstYears,A26) &\" - \"&INDEX(data!$W$3:$W$30,A26)","v":"1920 - Antwerp"}]
[23,null,{"$f":"IF(ISERROR(MATCH(view!C$3,data!$Y25:$AB25,0)),\"\",IFERROR(HYPERLINK(showDetails(INDEX(data!$S25:$V25,MATCH(view!C$3,data!$Y25:$AB25,0)),C27),\"●\"),\"●\"))","v":""},{"$f":"IF(ISERROR(MATCH(view!D$3,data!$Y25:$AB25,0)),\"\",IFERROR(HYPERLINK(showDetails(INDEX(data!$S25:$V25,MATCH(view!D$3,data!$Y25:$AB25,0)),D27),\"●\"),\"●\"))","v":""},{"$f":"IF(ISERROR(MATCH(view!E$3,data!$Y25:$AB25,0)),\"\",IFERROR(HYPERLINK(showDetails(INDEX(data!$S25:$V25,MATCH(view!E$3,data!$Y25:$AB25,0)),E27),\"●\"),\"●\"))","v":""},{"$f":"IF(ISERROR(MATCH(view!F$3,data!$Y25:$AB25,0)),\"\",IFERROR(HYPERLINK(showDetails(INDEX(data!$S25:$V25,MATCH(view!F$3,data!$Y25:$AB25,0)),F27),\"●\"),\"●\"))","v":""},{"$f":"IF(ISERROR(MATCH(view!G$3,data!$Y25:$AB25,0)),\"\",IFERROR(HYPERLINK(showDetails(INDEX(data!$S25:$V25,MATCH(view!G$3,data!$Y25:$AB25,0)),G27),\"●\"),\"●\"))","v":""},{"$f":"IF(ISERROR(MATCH(view!H$3,data!$Y25:$AB25,0)),\"\",IFERROR(HYPERLINK(showDetails(INDEX(data!$S25:$V25,MATCH(view!H$3,data!$Y25:$AB25,0)),H27),\"●\"),\"●\"))","v":""},{"$f":"IF(ISERROR(MATCH(view!I$3,data!$Y25:$AB25,0)),\"\",IFERROR(HYPERLINK(showDetails(INDEX(data!$S25:$V25,MATCH(view!I$3,data!$Y25:$AB25,0)),I27),\"●\"),\"●\"))","v":""},{"$f":"IF(ISERROR(MATCH(view!J$3,data!$Y25:$AB25,0)),\"\",IFERROR(HYPERLINK(showDetails(INDEX(data!$S25:$V25,MATCH(view!J$3,data!$Y25:$AB25,0)),J27),\"●\"),\"●\"))","v":""},{"$f":"IF(ISERROR(MATCH(view!K$3,data!$Y25:$AB25,0)),\"\",IFERROR(HYPERLINK(showDetails(INDEX(data!$S25:$V25,MATCH(view!K$3,data!$Y25:$AB25,0)),K27),\"●\"),\"●\"))","v":""},{"$f":"IF(ISERROR(MATCH(view!L$3,data!$Y25:$AB25,0)),\"\",IFERROR(HYPERLINK(showDetails(INDEX(data!$S25:$V25,MATCH(view!L$3,data!$Y25:$AB25,0)),L27),\"●\"),\"●\"))","v":""},{"$f":"IF(ISERROR(MATCH(view!M$3,data!$Y25:$AB25,0)),\"\",IFERROR(HYPERLINK(showDetails(INDEX(data!$S25:$V25,MATCH(view!M$3,data!$Y25:$AB25,0)),M27),\"●\"),\"●\"))","v":""},{"$f":"IF(ISERROR(MATCH(view!N$3,data!$Y25:$AB25,0)),\"\",IFERROR(HYPERLINK(showDetails(INDEX(data!$S25:$V25,MATCH(view!N$3,data!$Y25:$AB25,0)),N27),\"●\"),\"●\"))","v":""},{"$f":"IF(ISERROR(MATCH(view!O$3,data!$Y25:$AB25,0)),\"\",IFERROR(HYPERLINK(showDetails(INDEX(data!$S25:$V25,MATCH(view!O$3,data!$Y25:$AB25,0)),O27),\"●\"),\"●\"))","v":""},{"$f":"IF(ISERROR(MATCH(view!P$3,data!$Y25:$AB25,0)),\"\",IFERROR(HYPERLINK(showDetails(INDEX(data!$S25:$V25,MATCH(view!P$3,data!$Y25:$AB25,0)),P27),\"●\"),\"●\"))","v":""},{"$f":"IF(ISERROR(MATCH(view!Q$3,data!$Y25:$AB25,0)),\"\",IFERROR(HYPERLINK(showDetails(INDEX(data!$S25:$V25,MATCH(view!Q$3,data!$Y25:$AB25,0)),Q27),\"●\"),\"●\"))","v":""},{"$f":"IF(ISERROR(MATCH(view!R$3,data!$Y25:$AB25,0)),\"\",IFERROR(HYPERLINK(showDetails(INDEX(data!$S25:$V25,MATCH(view!R$3,data!$Y25:$AB25,0)),R27),\"●\"),\"●\"))","v":""},{"$f":"IF(ISERROR(MATCH(view!S$3,data!$Y25:$AB25,0)),\"\",IFERROR(HYPERLINK(showDetails(INDEX(data!$S25:$V25,MATCH(view!S$3,data!$Y25:$AB25,0)),S27),\"●\"),\"●\"))","v":""},{"$f":"IF(ISERROR(MATCH(view!T$3,data!$Y25:$AB25,0)),\"\",IFERROR(HYPERLINK(showDetails(INDEX(data!$S25:$V25,MATCH(view!T$3,data!$Y25:$AB25,0)),T27),\"●\"),\"●\"))","v":""},{"$f":"IF(ISERROR(MATCH(view!U$3,data!$Y25:$AB25,0)),\"\",IFERROR(HYPERLINK(showDetails(INDEX(data!$S25:$V25,MATCH(view!U$3,data!$Y25:$AB25,0)),U27),\"●\"),\"●\"))","v":""},{"$f":"IF(ISERROR(MATCH(view!V$3,data!$Y25:$AB25,0)),\"\",IFERROR(HYPERLINK(showDetails(INDEX(data!$S25:$V25,MATCH(view!V$3,data!$Y25:$AB25,0)),V27),\"●\"),\"●\"))","v":""},{"$f":"IF(ISERROR(MATCH(view!W$3,data!$Y25:$AB25,0)),\"\",IFERROR(HYPERLINK(showDetails(INDEX(data!$S25:$V25,MATCH(view!W$3,data!$Y25:$AB25,0)),W27),\"●\"),\"●\"))","v":""},{"$f":"IF(ISERROR(MATCH(view!X$3,data!$Y25:$AB25,0)),\"\",IFERROR(HYPERLINK(showDetails(INDEX(data!$S25:$V25,MATCH(view!X$3,data!$Y25:$AB25,0)),X27),\"●\"),\"●\"))","v":""},{"$f":"IF(ISERROR(MATCH(view!Y$3,data!$Y25:$AB25,0)),\"\",IFERROR(HYPERLINK(showDetails(INDEX(data!$S25:$V25,MATCH(view!Y$3,data!$Y25:$AB25,0)),Y27),\"●\"),\"●\"))","v":""},{"$f":"IF(ISERROR(MATCH(view!Z$3,data!$Y25:$AB25,0)),\"\",IFERROR(HYPERLINK(showDetails(INDEX(data!$S25:$V25,MATCH(view!Z$3,data!$Y25:$AB25,0)),Z27),\"●\"),\"●\"))","v":""},{"$f":"IF(ISERROR(MATCH(view!AA$3,data!$Y25:$AB25,0)),\"\",IFERROR(HYPERLINK(showDetails(INDEX(data!$S25:$V25,MATCH(view!AA$3,data!$Y25:$AB25,0)),AA27),\"●\"),\"●\"))","v":""},{"$f":"IF(ISERROR(MATCH(view!AB$3,data!$Y25:$AB25,0)),\"\",IFERROR(HYPERLINK(showDetails(INDEX(data!$S25:$V25,MATCH(view!AB$3,data!$Y25:$AB25,0)),AB27),\"●\"),\"●\"))","v":""},{"$f":"IF(ISERROR(MATCH(view!AC$3,data!$Y25:$AB25,0)),\"\",IFERROR(HYPERLINK(showDetails(INDEX(data!$S25:$V25,MATCH(view!AC$3,data!$Y25:$AB25,0)),AC27),\"●\"),\"●\"))","v":""},{"$f":"IF(ISERROR(MATCH(view!AD$3,data!$Y25:$AB25,0)),\"\",IFERROR(HYPERLINK(showDetails(INDEX(data!$S25:$V25,MATCH(view!AD$3,data!$Y25:$AB25,0)),AD27),\"●\"),\"●\"))","v":""},{"$f":"IF(ISERROR(MATCH(view!AE$3,data!$Y25:$AB25,0)),\"\",IFERROR(HYPERLINK(showDetails(INDEX(data!$S25:$V25,MATCH(view!AE$3,data!$Y25:$AB25,0)),AE27),\"●\"),\"●\"))","v":""},{"$f":"IF(ISERROR(MATCH(view!AF$3,data!$Y25:$AB25,0)),\"\",IFERROR(HYPERLINK(showDetails(INDEX(data!$S25:$V25,MATCH(view!AF$3,data!$Y25:$AB25,0)),AF27),\"●\"),\"●\"))","v":""},{"$f":"IF(ISERROR(MATCH(view!AG$3,data!$Y25:$AB25,0)),\"\",IFERROR(HYPERLINK(showDetails(INDEX(data!$S25:$V25,MATCH(view!AG$3,data!$Y25:$AB25,0)),AG27),\"●\"),\"●\"))","v":""},{"$f":"IF(ISERROR(MATCH(view!AH$3,data!$Y25:$AB25,0)),\"\",IFERROR(HYPERLINK(showDetails(INDEX(data!$S25:$V25,MATCH(view!AH$3,data!$Y25:$AB25,0)),AH27),\"●\"),\"●\"))","v":""},{"$f":"IF(ISERROR(MATCH(view!AI$3,data!$Y25:$AB25,0)),\"\",IFERROR(HYPERLINK(showDetails(INDEX(data!$S25:$V25,MATCH(view!AI$3,data!$Y25:$AB25,0)),AI27),\"●\"),\"●\"))","v":""},{"$f":"IF(ISERROR(MATCH(view!AJ$3,data!$Y25:$AB25,0)),\"\",IFERROR(HYPERLINK(showDetails(INDEX(data!$S25:$V25,MATCH(view!AJ$3,data!$Y25:$AB25,0)),AJ27),\"●\"),\"●\"))","v":""},{"$f":"IF(ISERROR(MATCH(view!AK$3,data!$Y25:$AB25,0)),\"\",IFERROR(HYPERLINK(showDetails(INDEX(data!$S25:$V25,MATCH(view!AK$3,data!$Y25:$AB25,0)),AK27),\"●\"),\"●\"))","v":""},{"$f":"IF(ISERROR(MATCH(view!AL$3,data!$Y25:$AB25,0)),\"\",IFERROR(HYPERLINK(showDetails(INDEX(data!$S25:$V25,MATCH(view!AL$3,data!$Y25:$AB25,0)),AL27),\"●\"),\"●\"))","v":""},{"$f":"IF(ISERROR(MATCH(view!AM$3,data!$Y25:$AB25,0)),\"\",IFERROR(HYPERLINK(showDetails(INDEX(data!$S25:$V25,MATCH(view!AM$3,data!$Y25:$AB25,0)),AM27),\"●\"),\"●\"))","v":""},{"$f":"IF(ISERROR(MATCH(view!AN$3,data!$Y25:$AB25,0)),\"\",IFERROR(HYPERLINK(showDetails(INDEX(data!$S25:$V25,MATCH(view!AN$3,data!$Y25:$AB25,0)),AN27),\"●\"),\"●\"))","v":""},{"$f":"IF(ISERROR(MATCH(view!AO$3,data!$Y25:$AB25,0)),\"\",IFERROR(HYPERLINK(showDetails(INDEX(data!$S25:$V25,MATCH(view!AO$3,data!$Y25:$AB25,0)),AO27),\"●\"),\"●\"))","v":""},{"$f":"IF(ISERROR(MATCH(view!AP$3,data!$Y25:$AB25,0)),\"\",IFERROR(HYPERLINK(showDetails(INDEX(data!$S25:$V25,MATCH(view!AP$3,data!$Y25:$AB25,0)),AP27),\"●\"),\"●\"))","v":""},{"$f":"IF(ISERROR(MATCH(view!AQ$3,data!$Y25:$AB25,0)),\"\",IFERROR(HYPERLINK(showDetails(INDEX(data!$S25:$V25,MATCH(view!AQ$3,data!$Y25:$AB25,0)),AQ27),\"●\"),\"●\"))","v":""},{"$f":"IF(ISERROR(MATCH(view!AR$3,data!$Y25:$AB25,0)),\"\",IFERROR(HYPERLINK(showDetails(INDEX(data!$S25:$V25,MATCH(view!AR$3,data!$Y25:$AB25,0)),AR27),\"●\"),\"●\"))","v":""},{"$f":"IF(ISERROR(MATCH(view!AS$3,data!$Y25:$AB25,0)),\"\",IFERROR(HYPERLINK(showDetails(INDEX(data!$S25:$V25,MATCH(view!AS$3,data!$Y25:$AB25,0)),AS27),\"●\"),\"●\"))","v":""},{"$f":"IF(ISERROR(MATCH(view!AT$3,data!$Y25:$AB25,0)),\"\",IFERROR(HYPERLINK(showDetails(INDEX(data!$S25:$V25,MATCH(view!AT$3,data!$Y25:$AB25,0)),AT27),\"●\"),\"●\"))","v":""},{"$f":"IF(ISERROR(MATCH(view!AU$3,data!$Y25:$AB25,0)),\"\",IFERROR(HYPERLINK(showDetails(INDEX(data!$S25:$V25,MATCH(view!AU$3,data!$Y25:$AB25,0)),AU27),\"●\"),\"●\"))","v":""},{"$f":"IF(ISERROR(MATCH(view!AV$3,data!$Y25:$AB25,0)),\"\",IFERROR(HYPERLINK(showDetails(INDEX(data!$S25:$V25,MATCH(view!AV$3,data!$Y25:$AB25,0)),AV27),\"●\"),\"●\"))","v":""},{"$f":"IF(ISERROR(MATCH(view!AW$3,data!$Y25:$AB25,0)),\"\",IFERROR(HYPERLINK(showDetails(INDEX(data!$S25:$V25,MATCH(view!AW$3,data!$Y25:$AB25,0)),AW27),\"●\"),\"●\"))","v":""},{"$f":"IF(ISERROR(MATCH(view!AX$3,data!$Y25:$AB25,0)),\"\",IFERROR(HYPERLINK(showDetails(INDEX(data!$S25:$V25,MATCH(view!AX$3,data!$Y25:$AB25,0)),AX27),\"●\"),\"●\"))","v":""},{"$f":"IF(ISERROR(MATCH(view!AY$3,data!$Y25:$AB25,0)),\"\",IFERROR(HYPERLINK(showDetails(INDEX(data!$S25:$V25,MATCH(view!AY$3,data!$Y25:$AB25,0)),AY27),\"●\"),\"●\"))","v":""},{"$f":"IF(ISERROR(MATCH(view!AZ$3,data!$Y25:$AB25,0)),\"\",IFERROR(HYPERLINK(showDetails(INDEX(data!$S25:$V25,MATCH(view!AZ$3,data!$Y25:$AB25,0)),AZ27),\"●\"),\"●\"))","v":""},{"$f":"IF(ISERROR(MATCH(view!BA$3,data!$Y25:$AB25,0)),\"\",IFERROR(HYPERLINK(showDetails(INDEX(data!$S25:$V25,MATCH(view!BA$3,data!$Y25:$AB25,0)),BA27),\"●\"),\"●\"))","v":""},{"$f":"IF(ISERROR(MATCH(view!BB$3,data!$Y25:$AB25,0)),\"\",IFERROR(HYPERLINK(showDetails(INDEX(data!$S25:$V25,MATCH(view!BB$3,data!$Y25:$AB25,0)),BB27),\"●\"),\"●\"))","v":""},{"$f":"IF(ISERROR(MATCH(view!BC$3,data!$Y25:$AB25,0)),\"\",IFERROR(HYPERLINK(showDetails(INDEX(data!$S25:$V25,MATCH(view!BC$3,data!$Y25:$AB25,0)),BC27),\"●\"),\"●\"))","v":""},{"$f":"IF(ISERROR(MATCH(view!BD$3,data!$Y25:$AB25,0)),\"\",IFERROR(HYPERLINK(showDetails(INDEX(data!$S25:$V25,MATCH(view!BD$3,data!$Y25:$AB25,0)),BD27),\"●\"),\"●\"))","v":""},{"$f":"IF(ISERROR(MATCH(view!BE$3,data!$Y25:$AB25,0)),\"\",IFERROR(HYPERLINK(showDetails(INDEX(data!$S25:$V25,MATCH(view!BE$3,data!$Y25:$AB25,0)),BE27),\"●\"),\"●\"))","v":""},{"$f":"IF(ISERROR(MATCH(view!BF$3,data!$Y25:$AB25,0)),\"\",IFERROR(HYPERLINK(showDetails(INDEX(data!$S25:$V25,MATCH(view!BF$3,data!$Y25:$AB25,0)),BF27),\"●\"),\"●\"))","v":""},{"$f":"IF(ISERROR(MATCH(view!BG$3,data!$Y25:$AB25,0)),\"\",IFERROR(HYPERLINK(showDetails(INDEX(data!$S25:$V25,MATCH(view!BG$3,data!$Y25:$AB25,0)),BG27),\"●\"),\"●\"))","v":""},{"$f":"IF(ISERROR(MATCH(view!BH$3,data!$Y25:$AB25,0)),\"\",IFERROR(HYPERLINK(showDetails(INDEX(data!$S25:$V25,MATCH(view!BH$3,data!$Y25:$AB25,0)),BH27),\"●\"),\"●\"))","v":""},{"$f":"IF(ISERROR(MATCH(view!BI$3,data!$Y25:$AB25,0)),\"\",IFERROR(HYPERLINK(showDetails(INDEX(data!$S25:$V25,MATCH(view!BI$3,data!$Y25:$AB25,0)),BI27),\"●\"),\"●\"))","v":""},{"$f":"IF(ISERROR(MATCH(view!BJ$3,data!$Y25:$AB25,0)),\"\",IFERROR(HYPERLINK(showDetails(INDEX(data!$S25:$V25,MATCH(view!BJ$3,data!$Y25:$AB25,0)),BJ27),\"●\"),\"●\"))","v":""},{"$f":"IF(ISERROR(MATCH(view!BK$3,data!$Y25:$AB25,0)),\"\",IFERROR(HYPERLINK(showDetails(INDEX(data!$S25:$V25,MATCH(view!BK$3,data!$Y25:$AB25,0)),BK27),\"●\"),\"●\"))","v":""},{"$f":"IF(ISERROR(MATCH(view!BL$3,data!$Y25:$AB25,0)),\"\",IFERROR(HYPERLINK(showDetails(INDEX(data!$S25:$V25,MATCH(view!BL$3,data!$Y25:$AB25,0)),BL27),\"●\"),\"●\"))","v":"●"},{"$f":"IF(ISERROR(MATCH(view!BM$3,data!$Y25:$AB25,0)),\"\",IFERROR(HYPERLINK(showDetails(INDEX(data!$S25:$V25,MATCH(view!BM$3,data!$Y25:$AB25,0)),BM27),\"●\"),\"●\"))","v":""},{"$f":"IF(ISERROR(MATCH(view!BN$3,data!$Y25:$AB25,0)),\"\",IFERROR(HYPERLINK(showDetails(INDEX(data!$S25:$V25,MATCH(view!BN$3,data!$Y25:$AB25,0)),BN27),\"●\"),\"●\"))","v":""},{"$f":"IF(ISERROR(MATCH(view!BO$3,data!$Y25:$AB25,0)),\"\",IFERROR(HYPERLINK(showDetails(INDEX(data!$S25:$V25,MATCH(view!BO$3,data!$Y25:$AB25,0)),BO27),\"●\"),\"●\"))","v":""},{"$f":"IF(ISERROR(MATCH(view!BP$3,data!$Y25:$AB25,0)),\"\",IFERROR(HYPERLINK(showDetails(INDEX(data!$S25:$V25,MATCH(view!BP$3,data!$Y25:$AB25,0)),BP27),\"●\"),\"●\"))","v":""},{"$f":"IF(ISERROR(MATCH(view!BQ$3,data!$Y25:$AB25,0)),\"\",IFERROR(HYPERLINK(showDetails(INDEX(data!$S25:$V25,MATCH(view!BQ$3,data!$Y25:$AB25,0)),BQ27),\"●\"),\"●\"))","v":"●"},{"$f":"IF(ISERROR(MATCH(view!BR$3,data!$Y25:$AB25,0)),\"\",IFERROR(HYPERLINK(showDetails(INDEX(data!$S25:$V25,MATCH(view!BR$3,data!$Y25:$AB25,0)),BR27),\"●\"),\"●\"))","v":""},{"$f":"IF(ISERROR(MATCH(view!BS$3,data!$Y25:$AB25,0)),\"\",IFERROR(HYPERLINK(showDetails(INDEX(data!$S25:$V25,MATCH(view!BS$3,data!$Y25:$AB25,0)),BS27),\"●\"),\"●\"))","v":""},{"$f":"IF(ISERROR(MATCH(view!BT$3,data!$Y25:$AB25,0)),\"\",IFERROR(HYPERLINK(showDetails(INDEX(data!$S25:$V25,MATCH(view!BT$3,data!$Y25:$AB25,0)),BT27),\"●\"),\"●\"))","v":""},{"$f":"IF(ISERROR(MATCH(view!BU$3,data!$Y25:$AB25,0)),\"\",IFERROR(HYPERLINK(showDetails(INDEX(data!$S25:$V25,MATCH(view!BU$3,data!$Y25:$AB25,0)),BU27),\"●\"),\"●\"))","v":""},{"$f":"IF(ISERROR(MATCH(view!BV$3,data!$Y25:$AB25,0)),\"\",IFERROR(HYPERLINK(showDetails(INDEX(data!$S25:$V25,MATCH(view!BV$3,data!$Y25:$AB25,0)),BV27),\"●\"),\"●\"))","v":""},{"$f":"IF(ISERROR(MATCH(view!BW$3,data!$Y25:$AB25,0)),\"\",IFERROR(HYPERLINK(showDetails(INDEX(data!$S25:$V25,MATCH(view!BW$3,data!$Y25:$AB25,0)),BW27),\"●\"),\"●\"))","v":""},{"$f":"IF(ISERROR(MATCH(view!BX$3,data!$Y25:$AB25,0)),\"\",IFERROR(HYPERLINK(showDetails(INDEX(data!$S25:$V25,MATCH(view!BX$3,data!$Y25:$AB25,0)),BX27),\"●\"),\"●\"))","v":""},{"$f":"IF(ISERROR(MATCH(view!BY$3,data!$Y25:$AB25,0)),\"\",IFERROR(HYPERLINK(showDetails(INDEX(data!$S25:$V25,MATCH(view!BY$3,data!$Y25:$AB25,0)),BY27),\"●\"),\"●\"))","v":""},{"$f":"IF(ISERROR(MATCH(view!BZ$3,data!$Y25:$AB25,0)),\"\",IFERROR(HYPERLINK(showDetails(INDEX(data!$S25:$V25,MATCH(view!BZ$3,data!$Y25:$AB25,0)),BZ27),\"●\"),\"●\"))","v":""},{"$f":"IF(ISERROR(MATCH(view!CA$3,data!$Y25:$AB25,0)),\"\",IFERROR(HYPERLINK(showDetails(INDEX(data!$S25:$V25,MATCH(view!CA$3,data!$Y25:$AB25,0)),CA27),\"●\"),\"●\"))","v":""},{"$f":"IF(ISERROR(MATCH(view!CB$3,data!$Y25:$AB25,0)),\"\",IFERROR(HYPERLINK(showDetails(INDEX(data!$S25:$V25,MATCH(view!CB$3,data!$Y25:$AB25,0)),CB27),\"●\"),\"●\"))","v":""},{"$f":"IF(ISERROR(MATCH(view!CC$3,data!$Y25:$AB25,0)),\"\",IFERROR(HYPERLINK(showDetails(INDEX(data!$S25:$V25,MATCH(view!CC$3,data!$Y25:$AB25,0)),CC27),\"●\"),\"●\"))","v":""},{"$f":"IF(ISERROR(MATCH(view!CD$3,data!$Y25:$AB25,0)),\"\",IFERROR(HYPERLINK(showDetails(INDEX(data!$S25:$V25,MATCH(view!CD$3,data!$Y25:$AB25,0)),CD27),\"●\"),\"●\"))","v":""},{"$f":"IF(ISERROR(MATCH(view!CE$3,data!$Y25:$AB25,0)),\"\",IFERROR(HYPERLINK(showDetails(INDEX(data!$S25:$V25,MATCH(view!CE$3,data!$Y25:$AB25,0)),CE27),\"●\"),\"●\"))","v":""},{"$f":"IF(ISERROR(MATCH(view!CF$3,data!$Y25:$AB25,0)),\"\",IFERROR(HYPERLINK(showDetails(INDEX(data!$S25:$V25,MATCH(view!CF$3,data!$Y25:$AB25,0)),CF27),\"●\"),\"●\"))","v":""},{"$f":"IF(ISERROR(MATCH(view!CG$3,data!$Y25:$AB25,0)),\"\",IFERROR(HYPERLINK(showDetails(INDEX(data!$S25:$V25,MATCH(view!CG$3,data!$Y25:$AB25,0)),CG27),\"●\"),\"●\"))","v":""},{"$f":"IF(ISERROR(MATCH(view!CH$3,data!$Y25:$AB25,0)),\"\",IFERROR(HYPERLINK(showDetails(INDEX(data!$S25:$V25,MATCH(view!CH$3,data!$Y25:$AB25,0)),CH27),\"●\"),\"●\"))","v":""},{"$f":"IF(ISERROR(MATCH(view!CI$3,data!$Y25:$AB25,0)),\"\",IFERROR(HYPERLINK(showDetails(INDEX(data!$S25:$V25,MATCH(view!CI$3,data!$Y25:$AB25,0)),CI27),\"●\"),\"●\"))","v":""},{"$f":"IF(ISERROR(MATCH(view!CJ$3,data!$Y25:$AB25,0)),\"\",IFERROR(HYPERLINK(showDetails(INDEX(data!$S25:$V25,MATCH(view!CJ$3,data!$Y25:$AB25,0)),CJ27),\"●\"),\"●\"))","v":""},{"$f":"IF(ISERROR(MATCH(view!CK$3,data!$Y25:$AB25,0)),\"\",IFERROR(HYPERLINK(showDetails(INDEX(data!$S25:$V25,MATCH(view!CK$3,data!$Y25:$AB25,0)),CK27),\"●\"),\"●\"))","v":""},{"$f":"IF(ISERROR(MATCH(view!CL$3,data!$Y25:$AB25,0)),\"\",IFERROR(HYPERLINK(showDetails(INDEX(data!$S25:$V25,MATCH(view!CL$3,data!$Y25:$AB25,0)),CL27),\"●\"),\"●\"))","v":""},{"$f":"IF(ISERROR(MATCH(view!CM$3,data!$Y25:$AB25,0)),\"\",IFERROR(HYPERLINK(showDetails(INDEX(data!$S25:$V25,MATCH(view!CM$3,data!$Y25:$AB25,0)),CM27),\"●\"),\"●\"))","v":""},{"$f":"IF(ISERROR(MATCH(view!CN$3,data!$Y25:$AB25,0)),\"\",IFERROR(HYPERLINK(showDetails(INDEX(data!$S25:$V25,MATCH(view!CN$3,data!$Y25:$AB25,0)),CN27),\"●\"),\"●\"))","v":""},{"$f":"IF(ISERROR(MATCH(view!CO$3,data!$Y25:$AB25,0)),\"\",IFERROR(HYPERLINK(showDetails(INDEX(data!$S25:$V25,MATCH(view!CO$3,data!$Y25:$AB25,0)),CO27),\"●\"),\"●\"))","v":""},{"$f":"IF(ISERROR(MATCH(view!CP$3,data!$Y25:$AB25,0)),\"\",IFERROR(HYPERLINK(showDetails(INDEX(data!$S25:$V25,MATCH(view!CP$3,data!$Y25:$AB25,0)),CP27),\"●\"),\"●\"))","v":""},{"$f":"IF(ISERROR(MATCH(view!CQ$3,data!$Y25:$AB25,0)),\"\",IFERROR(HYPERLINK(showDetails(INDEX(data!$S25:$V25,MATCH(view!CQ$3,data!$Y25:$AB25,0)),CQ27),\"●\"),\"●\"))","v":""},{"$f":"IF(ISERROR(MATCH(view!CR$3,data!$Y25:$AB25,0)),\"\",IFERROR(HYPERLINK(showDetails(INDEX(data!$S25:$V25,MATCH(view!CR$3,data!$Y25:$AB25,0)),CR27),\"●\"),\"●\"))","v":""},{"$f":"IF(ISERROR(MATCH(view!CS$3,data!$Y25:$AB25,0)),\"\",IFERROR(HYPERLINK(showDetails(INDEX(data!$S25:$V25,MATCH(view!CS$3,data!$Y25:$AB25,0)),CS27),\"●\"),\"●\"))","v":""},{"$f":"IF(ISERROR(MATCH(view!CT$3,data!$Y25:$AB25,0)),\"\",IFERROR(HYPERLINK(showDetails(INDEX(data!$S25:$V25,MATCH(view!CT$3,data!$Y25:$AB25,0)),CT27),\"●\"),\"●\"))","v":""},{"$f":"IF(ISERROR(MATCH(view!CU$3,data!$Y25:$AB25,0)),\"\",IFERROR(HYPERLINK(showDetails(INDEX(data!$S25:$V25,MATCH(view!CU$3,data!$Y25:$AB25,0)),CU27),\"●\"),\"●\"))","v":""},{"$f":"IF(ISERROR(MATCH(view!CV$3,data!$Y25:$AB25,0)),\"\",IFERROR(HYPERLINK(showDetails(INDEX(data!$S25:$V25,MATCH(view!CV$3,data!$Y25:$AB25,0)),CV27),\"●\"),\"●\"))","v":""},{"$f":"IF(ISERROR(MATCH(view!CW$3,data!$Y25:$AB25,0)),\"\",IFERROR(HYPERLINK(showDetails(INDEX(data!$S25:$V25,MATCH(view!CW$3,data!$Y25:$AB25,0)),CW27),\"●\"),\"●\"))","v":""},{"$f":"IF(ISERROR(MATCH(view!CX$3,data!$Y25:$AB25,0)),\"\",IFERROR(HYPERLINK(showDetails(INDEX(data!$S25:$V25,MATCH(view!CX$3,data!$Y25:$AB25,0)),CX27),\"●\"),\"●\"))","v":""},{"$f":"IF(ISERROR(MATCH(view!CY$3,data!$Y25:$AB25,0)),\"\",IFERROR(HYPERLINK(showDetails(INDEX(data!$S25:$V25,MATCH(view!CY$3,data!$Y25:$AB25,0)),CY27),\"●\"),\"●\"))","v":""},{"$f":"IF(ISERROR(MATCH(view!CZ$3,data!$Y25:$AB25,0)),\"\",IFERROR(HYPERLINK(showDetails(INDEX(data!$S25:$V25,MATCH(view!CZ$3,data!$Y25:$AB25,0)),CZ27),\"●\"),\"●\"))","v":""},{"$f":"IF(ISERROR(MATCH(view!DA$3,data!$Y25:$AB25,0)),\"\",IFERROR(HYPERLINK(showDetails(INDEX(data!$S25:$V25,MATCH(view!DA$3,data!$Y25:$AB25,0)),DA27),\"●\"),\"●\"))","v":""},{"$f":"IF(ISERROR(MATCH(view!DB$3,data!$Y25:$AB25,0)),\"\",IFERROR(HYPERLINK(showDetails(INDEX(data!$S25:$V25,MATCH(view!DB$3,data!$Y25:$AB25,0)),DB27),\"●\"),\"●\"))","v":""},{"$f":"IF(ISERROR(MATCH(view!DC$3,data!$Y25:$AB25,0)),\"\",IFERROR(HYPERLINK(showDetails(INDEX(data!$S25:$V25,MATCH(view!DC$3,data!$Y25:$AB25,0)),DC27),\"●\"),\"●\"))","v":""},{"$f":"IF(ISERROR(MATCH(view!DD$3,data!$Y25:$AB25,0)),\"\",IFERROR(HYPERLINK(showDetails(INDEX(data!$S25:$V25,MATCH(view!DD$3,data!$Y25:$AB25,0)),DD27),\"●\"),\"●\"))","v":""},{"$f":"IF(ISERROR(MATCH(view!DE$3,data!$Y25:$AB25,0)),\"\",IFERROR(HYPERLINK(showDetails(INDEX(data!$S25:$V25,MATCH(view!DE$3,data!$Y25:$AB25,0)),DE27),\"●\"),\"●\"))","v":""},{"$f":"IF(ISERROR(MATCH(view!DF$3,data!$Y25:$AB25,0)),\"\",IFERROR(HYPERLINK(showDetails(INDEX(data!$S25:$V25,MATCH(view!DF$3,data!$Y25:$AB25,0)),DF27),\"●\"),\"●\"))","v":""},{"$f":"IF(ISERROR(MATCH(view!DG$3,data!$Y25:$AB25,0)),\"\",IFERROR(HYPERLINK(showDetails(INDEX(data!$S25:$V25,MATCH(view!DG$3,data!$Y25:$AB25,0)),DG27),\"●\"),\"●\"))","v":""},{"$f":"IF(ISERROR(MATCH(view!DH$3,data!$Y25:$AB25,0)),\"\",IFERROR(HYPERLINK(showDetails(INDEX(data!$S25:$V25,MATCH(view!DH$3,data!$Y25:$AB25,0)),DH27),\"●\"),\"●\"))","v":""},{"$f":"IF(ISERROR(MATCH(view!DI$3,data!$Y25:$AB25,0)),\"\",IFERROR(HYPERLINK(showDetails(INDEX(data!$S25:$V25,MATCH(view!DI$3,data!$Y25:$AB25,0)),DI27),\"●\"),\"●\"))","v":""},{"$f":"IF(ISERROR(MATCH(view!DJ$3,data!$Y25:$AB25,0)),\"\",IFERROR(HYPERLINK(showDetails(INDEX(data!$S25:$V25,MATCH(view!DJ$3,data!$Y25:$AB25,0)),DJ27),\"●\"),\"●\"))","v":""},{"$f":"IF(ISERROR(MATCH(view!DK$3,data!$Y25:$AB25,0)),\"\",IFERROR(HYPERLINK(showDetails(INDEX(data!$S25:$V25,MATCH(view!DK$3,data!$Y25:$AB25,0)),DK27),\"●\"),\"●\"))","v":""},{"$f":"IF(ISERROR(MATCH(view!DL$3,data!$Y25:$AB25,0)),\"\",IFERROR(HYPERLINK(showDetails(INDEX(data!$S25:$V25,MATCH(view!DL$3,data!$Y25:$AB25,0)),DL27),\"●\"),\"●\"))","v":""},{"$f":"IF(ISERROR(MATCH(view!DM$3,data!$Y25:$AB25,0)),\"\",IFERROR(HYPERLINK(showDetails(INDEX(data!$S25:$V25,MATCH(view!DM$3,data!$Y25:$AB25,0)),DM27),\"●\"),\"●\"))","v":""},{"$f":"IF(ISERROR(MATCH(view!DN$3,data!$Y25:$AB25,0)),\"\",IFERROR(HYPERLINK(showDetails(INDEX(data!$S25:$V25,MATCH(view!DN$3,data!$Y25:$AB25,0)),DN27),\"●\"),\"●\"))","v":""},{"$f":"IF(ISERROR(MATCH(view!DO$3,data!$Y25:$AB25,0)),\"\",IFERROR(HYPERLINK(showDetails(INDEX(data!$S25:$V25,MATCH(view!DO$3,data!$Y25:$AB25,0)),DO27),\"●\"),\"●\"))","v":""},{"$f":"IF(ISERROR(MATCH(view!DP$3,data!$Y25:$AB25,0)),\"\",IFERROR(HYPERLINK(showDetails(INDEX(data!$S25:$V25,MATCH(view!DP$3,data!$Y25:$AB25,0)),DP27),\"●\"),\"●\"))","v":""},{"$f":"IF(ISERROR(MATCH(view!DQ$3,data!$Y25:$AB25,0)),\"\",IFERROR(HYPERLINK(showDetails(INDEX(data!$S25:$V25,MATCH(view!DQ$3,data!$Y25:$AB25,0)),DQ27),\"●\"),\"●\"))","v":""},{"$f":"IF(ISERROR(MATCH(view!DR$3,data!$Y25:$AB25,0)),\"\",IFERROR(HYPERLINK(showDetails(INDEX(data!$S25:$V25,MATCH(view!DR$3,data!$Y25:$AB25,0)),DR27),\"●\"),\"●\"))","v":""},{"$f":"IF(ISERROR(MATCH(view!DS$3,data!$Y25:$AB25,0)),\"\",IFERROR(HYPERLINK(showDetails(INDEX(data!$S25:$V25,MATCH(view!DS$3,data!$Y25:$AB25,0)),DS27),\"●\"),\"●\"))","v":""},{"$f":"INDEX(lstYears,A27) &\" - \"&INDEX(data!$W$3:$W$30,A27)","v":"1912 - Stockholm"}]
[24,null,{"$f":"IF(ISERROR(MATCH(view!C$3,data!$Y26:$AB26,0)),\"\",IFERROR(HYPERLINK(showDetails(INDEX(data!$S26:$V26,MATCH(view!C$3,data!$Y26:$AB26,0)),C28),\"●\"),\"●\"))","v":""},{"$f":"IF(ISERROR(MATCH(view!D$3,data!$Y26:$AB26,0)),\"\",IFERROR(HYPERLINK(showDetails(INDEX(data!$S26:$V26,MATCH(view!D$3,data!$Y26:$AB26,0)),D28),\"●\"),\"●\"))","v":""},{"$f":"IF(ISERROR(MATCH(view!E$3,data!$Y26:$AB26,0)),\"\",IFERROR(HYPERLINK(showDetails(INDEX(data!$S26:$V26,MATCH(view!E$3,data!$Y26:$AB26,0)),E28),\"●\"),\"●\"))","v":""},{"$f":"IF(ISERROR(MATCH(view!F$3,data!$Y26:$AB26,0)),\"\",IFERROR(HYPERLINK(showDetails(INDEX(data!$S26:$V26,MATCH(view!F$3,data!$Y26:$AB26,0)),F28),\"●\"),\"●\"))","v":""},{"$f":"IF(ISERROR(MATCH(view!G$3,data!$Y26:$AB26,0)),\"\",IFERROR(HYPERLINK(showDetails(INDEX(data!$S26:$V26,MATCH(view!G$3,data!$Y26:$AB26,0)),G28),\"●\"),\"●\"))","v":""},{"$f":"IF(ISERROR(MATCH(view!H$3,data!$Y26:$AB26,0)),\"\",IFERROR(HYPERLINK(showDetails(INDEX(data!$S26:$V26,MATCH(view!H$3,data!$Y26:$AB26,0)),H28),\"●\"),\"●\"))","v":""},{"$f":"IF(ISERROR(MATCH(view!I$3,data!$Y26:$AB26,0)),\"\",IFERROR(HYPERLINK(showDetails(INDEX(data!$S26:$V26,MATCH(view!I$3,data!$Y26:$AB26,0)),I28),\"●\"),\"●\"))","v":""},{"$f":"IF(ISERROR(MATCH(view!J$3,data!$Y26:$AB26,0)),\"\",IFERROR(HYPERLINK(showDetails(INDEX(data!$S26:$V26,MATCH(view!J$3,data!$Y26:$AB26,0)),J28),\"●\"),\"●\"))","v":""},{"$f":"IF(ISERROR(MATCH(view!K$3,data!$Y26:$AB26,0)),\"\",IFERROR(HYPERLINK(showDetails(INDEX(data!$S26:$V26,MATCH(view!K$3,data!$Y26:$AB26,0)),K28),\"●\"),\"●\"))","v":""},{"$f":"IF(ISERROR(MATCH(view!L$3,data!$Y26:$AB26,0)),\"\",IFERROR(HYPERLINK(showDetails(INDEX(data!$S26:$V26,MATCH(view!L$3,data!$Y26:$AB26,0)),L28),\"●\"),\"●\"))","v":""},{"$f":"IF(ISERROR(MATCH(view!M$3,data!$Y26:$AB26,0)),\"\",IFERROR(HYPERLINK(showDetails(INDEX(data!$S26:$V26,MATCH(view!M$3,data!$Y26:$AB26,0)),M28),\"●\"),\"●\"))","v":""},{"$f":"IF(ISERROR(MATCH(view!N$3,data!$Y26:$AB26,0)),\"\",IFERROR(HYPERLINK(showDetails(INDEX(data!$S26:$V26,MATCH(view!N$3,data!$Y26:$AB26,0)),N28),\"●\"),\"●\"))","v":""},{"$f":"IF(ISERROR(MATCH(view!O$3,data!$Y26:$AB26,0)),\"\",IFERROR(HYPERLINK(showDetails(INDEX(data!$S26:$V26,MATCH(view!O$3,data!$Y26:$AB26,0)),O28),\"●\"),\"●\"))","v":""},{"$f":"IF(ISERROR(MATCH(view!P$3,data!$Y26:$AB26,0)),\"\",IFERROR(HYPERLINK(showDetails(INDEX(data!$S26:$V26,MATCH(view!P$3,data!$Y26:$AB26,0)),P28),\"●\"),\"●\"))","v":""},{"$f":"IF(ISERROR(MATCH(view!Q$3,data!$Y26:$AB26,0)),\"\",IFERROR(HYPERLINK(showDetails(INDEX(data!$S26:$V26,MATCH(view!Q$3,data!$Y26:$AB26,0)),Q28),\"●\"),\"●\"))","v":""},{"$f":"IF(ISERROR(MATCH(view!R$3,data!$Y26:$AB26,0)),\"\",IFERROR(HYPERLINK(showDetails(INDEX(data!$S26:$V26,MATCH(view!R$3,data!$Y26:$AB26,0)),R28),\"●\"),\"●\"))","v":""},{"$f":"IF(ISERROR(MATCH(view!S$3,data!$Y26:$AB26,0)),\"\",IFERROR(HYPERLINK(showDetails(INDEX(data!$S26:$V26,MATCH(view!S$3,data!$Y26:$AB26,0)),S28),\"●\"),\"●\"))","v":""},{"$f":"IF(ISERROR(MATCH(view!T$3,data!$Y26:$AB26,0)),\"\",IFERROR(HYPERLINK(showDetails(INDEX(data!$S26:$V26,MATCH(view!T$3,data!$Y26:$AB26,0)),T28),\"●\"),\"●\"))","v":""},{"$f":"IF(ISERROR(MATCH(view!U$3,data!$Y26:$AB26,0)),\"\",IFERROR(HYPERLINK(showDetails(INDEX(data!$S26:$V26,MATCH(view!U$3,data!$Y26:$AB26,0)),U28),\"●\"),\"●\"))","v":""},{"$f":"IF(ISERROR(MATCH(view!V$3,data!$Y26:$AB26,0)),\"\",IFERROR(HYPERLINK(showDetails(INDEX(data!$S26:$V26,MATCH(view!V$3,data!$Y26:$AB26,0)),V28),\"●\"),\"●\"))","v":""},{"$f":"IF(ISERROR(MATCH(view!W$3,data!$Y26:$AB26,0)),\"\",IFERROR(HYPERLINK(showDetails(INDEX(data!$S26:$V26,MATCH(view!W$3,data!$Y26:$AB26,0)),W28),\"●\"),\"●\"))","v":""},{"$f":"IF(ISERROR(MATCH(view!X$3,data!$Y26:$AB26,0)),\"\",IFERROR(HYPERLINK(showDetails(INDEX(data!$S26:$V26,MATCH(view!X$3,data!$Y26:$AB26,0)),X28),\"●\"),\"●\"))","v":""},{"$f":"IF(ISERROR(MATCH(view!Y$3,data!$Y26:$AB26,0)),\"\",IFERROR(HYPERLINK(showDetails(INDEX(data!$S26:$V26,MATCH(view!Y$3,data!$Y26:$AB26,0)),Y28),\"●\"),\"●\"))","v":""},{"$f":"IF(ISERROR(MATCH(view!Z$3,data!$Y26:$AB26,0)),\"\",IFERROR(HYPERLINK(showDetails(INDEX(data!$S26:$V26,MATCH(view!Z$3,data!$Y26:$AB26,0)),Z28),\"●\"),\"●\"))","v":""},{"$f":"IF(ISERROR(MATCH(view!AA$3,data!$Y26:$AB26,0)),\"\",IFERROR(HYPERLINK(showDetails(INDEX(data!$S26:$V26,MATCH(view!AA$3,data!$Y26:$AB26,0)),AA28),\"●\"),\"●\"))","v":""},{"$f":"IF(ISERROR(MATCH(view!AB$3,data!$Y26:$AB26,0)),\"\",IFERROR(HYPERLINK(showDetails(INDEX(data!$S26:$V26,MATCH(view!AB$3,data!$Y26:$AB26,0)),AB28),\"●\"),\"●\"))","v":""},{"$f":"IF(ISERROR(MATCH(view!AC$3,data!$Y26:$AB26,0)),\"\",IFERROR(HYPERLINK(showDetails(INDEX(data!$S26:$V26,MATCH(view!AC$3,data!$Y26:$AB26,0)),AC28),\"●\"),\"●\"))","v":""},{"$f":"IF(ISERROR(MATCH(view!AD$3,data!$Y26:$AB26,0)),\"\",IFERROR(HYPERLINK(showDetails(INDEX(data!$S26:$V26,MATCH(view!AD$3,data!$Y26:$AB26,0)),AD28),\"●\"),\"●\"))","v":""},{"$f":"IF(ISERROR(MATCH(view!AE$3,data!$Y26:$AB26,0)),\"\",IFERROR(HYPERLINK(showDetails(INDEX(data!$S26:$V26,MATCH(view!AE$3,data!$Y26:$AB26,0)),AE28),\"●\"),\"●\"))","v":""},{"$f":"IF(ISERROR(MATCH(view!AF$3,data!$Y26:$AB26,0)),\"\",IFERROR(HYPERLINK(showDetails(INDEX(data!$S26:$V26,MATCH(view!AF$3,data!$Y26:$AB26,0)),AF28),\"●\"),\"●\"))","v":""},{"$f":"IF(ISERROR(MATCH(view!AG$3,data!$Y26:$AB26,0)),\"\",IFERROR(HYPERLINK(showDetails(INDEX(data!$S26:$V26,MATCH(view!AG$3,data!$Y26:$AB26,0)),AG28),\"●\"),\"●\"))","v":""},{"$f":"IF(ISERROR(MATCH(view!AH$3,data!$Y26:$AB26,0)),\"\",IFERROR(HYPERLINK(showDetails(INDEX(data!$S26:$V26,MATCH(view!AH$3,data!$Y26:$AB26,0)),AH28),\"●\"),\"●\"))","v":""},{"$f":"IF(ISERROR(MATCH(view!AI$3,data!$Y26:$AB26,0)),\"\",IFERROR(HYPERLINK(showDetails(INDEX(data!$S26:$V26,MATCH(view!AI$3,data!$Y26:$AB26,0)),AI28),\"●\"),\"●\"))","v":""},{"$f":"IF(ISERROR(MATCH(view!AJ$3,data!$Y26:$AB26,0)),\"\",IFERROR(HYPERLINK(showDetails(INDEX(data!$S26:$V26,MATCH(view!AJ$3,data!$Y26:$AB26,0)),AJ28),\"●\"),\"●\"))","v":""},{"$f":"IF(ISERROR(MATCH(view!AK$3,data!$Y26:$AB26,0)),\"\",IFERROR(HYPERLINK(showDetails(INDEX(data!$S26:$V26,MATCH(view!AK$3,data!$Y26:$AB26,0)),AK28),\"●\"),\"●\"))","v":""},{"$f":"IF(ISERROR(MATCH(view!AL$3,data!$Y26:$AB26,0)),\"\",IFERROR(HYPERLINK(showDetails(INDEX(data!$S26:$V26,MATCH(view!AL$3,data!$Y26:$AB26,0)),AL28),\"●\"),\"●\"))","v":""},{"$f":"IF(ISERROR(MATCH(view!AM$3,data!$Y26:$AB26,0)),\"\",IFERROR(HYPERLINK(showDetails(INDEX(data!$S26:$V26,MATCH(view!AM$3,data!$Y26:$AB26,0)),AM28),\"●\"),\"●\"))","v":""},{"$f":"IF(ISERROR(MATCH(view!AN$3,data!$Y26:$AB26,0)),\"\",IFERROR(HYPERLINK(showDetails(INDEX(data!$S26:$V26,MATCH(view!AN$3,data!$Y26:$AB26,0)),AN28),\"●\"),\"●\"))","v":""},{"$f":"IF(ISERROR(MATCH(view!AO$3,data!$Y26:$AB26,0)),\"\",IFERROR(HYPERLINK(showDetails(INDEX(data!$S26:$V26,MATCH(view!AO$3,data!$Y26:$AB26,0)),AO28),\"●\"),\"●\"))","v":""},{"$f":"IF(ISERROR(MATCH(view!AP$3,data!$Y26:$AB26,0)),\"\",IFERROR(HYPERLINK(showDetails(INDEX(data!$S26:$V26,MATCH(view!AP$3,data!$Y26:$AB26,0)),AP28),\"●\"),\"●\"))","v":""},{"$f":"IF(ISERROR(MATCH(view!AQ$3,data!$Y26:$AB26,0)),\"\",IFERROR(HYPERLINK(showDetails(INDEX(data!$S26:$V26,MATCH(view!AQ$3,data!$Y26:$AB26,0)),AQ28),\"●\"),\"●\"))","v":""},{"$f":"IF(ISERROR(MATCH(view!AR$3,data!$Y26:$AB26,0)),\"\",IFERROR(HYPERLINK(showDetails(INDEX(data!$S26:$V26,MATCH(view!AR$3,data!$Y26:$AB26,0)),AR28),\"●\"),\"●\"))","v":""},{"$f":"IF(ISERROR(MATCH(view!AS$3,data!$Y26:$AB26,0)),\"\",IFERROR(HYPERLINK(showDetails(INDEX(data!$S26:$V26,MATCH(view!AS$3,data!$Y26:$AB26,0)),AS28),\"●\"),\"●\"))","v":""},{"$f":"IF(ISERROR(MATCH(view!AT$3,data!$Y26:$AB26,0)),\"\",IFERROR(HYPERLINK(showDetails(INDEX(data!$S26:$V26,MATCH(view!AT$3,data!$Y26:$AB26,0)),AT28),\"●\"),\"●\"))","v":""},{"$f":"IF(ISERROR(MATCH(view!AU$3,data!$Y26:$AB26,0)),\"\",IFERROR(HYPERLINK(showDetails(INDEX(data!$S26:$V26,MATCH(view!AU$3,data!$Y26:$AB26,0)),AU28),\"●\"),\"●\"))","v":""},{"$f":"IF(ISERROR(MATCH(view!AV$3,data!$Y26:$AB26,0)),\"\",IFERROR(HYPERLINK(showDetails(INDEX(data!$S26:$V26,MATCH(view!AV$3,data!$Y26:$AB26,0)),AV28),\"●\"),\"●\"))","v":""},{"$f":"IF(ISERROR(MATCH(view!AW$3,data!$Y26:$AB26,0)),\"\",IFERROR(HYPERLINK(showDetails(INDEX(data!$S26:$V26,MATCH(view!AW$3,data!$Y26:$AB26,0)),AW28),\"●\"),\"●\"))","v":""},{"$f":"IF(ISERROR(MATCH(view!AX$3,data!$Y26:$AB26,0)),\"\",IFERROR(HYPERLINK(showDetails(INDEX(data!$S26:$V26,MATCH(view!AX$3,data!$Y26:$AB26,0)),AX28),\"●\"),\"●\"))","v":""},{"$f":"IF(ISERROR(MATCH(view!AY$3,data!$Y26:$AB26,0)),\"\",IFERROR(HYPERLINK(showDetails(INDEX(data!$S26:$V26,MATCH(view!AY$3,data!$Y26:$AB26,0)),AY28),\"●\"),\"●\"))","v":""},{"$f":"IF(ISERROR(MATCH(view!AZ$3,data!$Y26:$AB26,0)),\"\",IFERROR(HYPERLINK(showDetails(INDEX(data!$S26:$V26,MATCH(view!AZ$3,data!$Y26:$AB26,0)),AZ28),\"●\"),\"●\"))","v":""},{"$f":"IF(ISERROR(MATCH(view!BA$3,data!$Y26:$AB26,0)),\"\",IFERROR(HYPERLINK(showDetails(INDEX(data!$S26:$V26,MATCH(view!BA$3,data!$Y26:$AB26,0)),BA28),\"●\"),\"●\"))","v":""},{"$f":"IF(ISERROR(MATCH(view!BB$3,data!$Y26:$AB26,0)),\"\",IFERROR(HYPERLINK(showDetails(INDEX(data!$S26:$V26,MATCH(view!BB$3,data!$Y26:$AB26,0)),BB28),\"●\"),\"●\"))","v":""},{"$f":"IF(ISERROR(MATCH(view!BC$3,data!$Y26:$AB26,0)),\"\",IFERROR(HYPERLINK(showDetails(INDEX(data!$S26:$V26,MATCH(view!BC$3,data!$Y26:$AB26,0)),BC28),\"●\"),\"●\"))","v":""},{"$f":"IF(ISERROR(MATCH(view!BD$3,data!$Y26:$AB26,0)),\"\",IFERROR(HYPERLINK(showDetails(INDEX(data!$S26:$V26,MATCH(view!BD$3,data!$Y26:$AB26,0)),BD28),\"●\"),\"●\"))","v":""},{"$f":"IF(ISERROR(MATCH(view!BE$3,data!$Y26:$AB26,0)),\"\",IFERROR(HYPERLINK(showDetails(INDEX(data!$S26:$V26,MATCH(view!BE$3,data!$Y26:$AB26,0)),BE28),\"●\"),\"●\"))","v":""},{"$f":"IF(ISERROR(MATCH(view!BF$3,data!$Y26:$AB26,0)),\"\",IFERROR(HYPERLINK(showDetails(INDEX(data!$S26:$V26,MATCH(view!BF$3,data!$Y26:$AB26,0)),BF28),\"●\"),\"●\"))","v":""},{"$f":"IF(ISERROR(MATCH(view!BG$3,data!$Y26:$AB26,0)),\"\",IFERROR(HYPERLINK(showDetails(INDEX(data!$S26:$V26,MATCH(view!BG$3,data!$Y26:$AB26,0)),BG28),\"●\"),\"●\"))","v":""},{"$f":"IF(ISERROR(MATCH(view!BH$3,data!$Y26:$AB26,0)),\"\",IFERROR(HYPERLINK(showDetails(INDEX(data!$S26:$V26,MATCH(view!BH$3,data!$Y26:$AB26,0)),BH28),\"●\"),\"●\"))","v":"●"},{"$f":"IF(ISERROR(MATCH(view!BI$3,data!$Y26:$AB26,0)),\"\",IFERROR(HYPERLINK(showDetails(INDEX(data!$S26:$V26,MATCH(view!BI$3,data!$Y26:$AB26,0)),BI28),\"●\"),\"●\"))","v":""},{"$f":"IF(ISERROR(MATCH(view!BJ$3,data!$Y26:$AB26,0)),\"\",IFERROR(HYPERLINK(showDetails(INDEX(data!$S26:$V26,MATCH(view!BJ$3,data!$Y26:$AB26,0)),BJ28),\"●\"),\"●\"))","v":""},{"$f":"IF(ISERROR(MATCH(view!BK$3,data!$Y26:$AB26,0)),\"\",IFERROR(HYPERLINK(showDetails(INDEX(data!$S26:$V26,MATCH(view!BK$3,data!$Y26:$AB26,0)),BK28),\"●\"),\"●\"))","v":""},{"$f":"IF(ISERROR(MATCH(view!BL$3,data!$Y26:$AB26,0)),\"\",IFERROR(HYPERLINK(showDetails(INDEX(data!$S26:$V26,MATCH(view!BL$3,data!$Y26:$AB26,0)),BL28),\"●\"),\"●\"))","v":""},{"$f":"IF(ISERROR(MATCH(view!BM$3,data!$Y26:$AB26,0)),\"\",IFERROR(HYPERLINK(showDetails(INDEX(data!$S26:$V26,MATCH(view!BM$3,data!$Y26:$AB26,0)),BM28),\"●\"),\"●\"))","v":""},{"$f":"IF(ISERROR(MATCH(view!BN$3,data!$Y26:$AB26,0)),\"\",IFERROR(HYPERLINK(showDetails(INDEX(data!$S26:$V26,MATCH(view!BN$3,data!$Y26:$AB26,0)),BN28),\"●\"),\"●\"))","v":""},{"$f":"IF(ISERROR(MATCH(view!BO$3,data!$Y26:$AB26,0)),\"\",IFERROR(HYPERLINK(showDetails(INDEX(data!$S26:$V26,MATCH(view!BO$3,data!$Y26:$AB26,0)),BO28),\"●\"),\"●\"))","v":""},{"$f":"IF(ISERROR(MATCH(view!BP$3,data!$Y26:$AB26,0)),\"\",IFERROR(HYPERLINK(showDetails(INDEX(data!$S26:$V26,MATCH(view!BP$3,data!$Y26:$AB26,0)),BP28),\"●\"),\"●\"))","v":""},{"$f":"IF(ISERROR(MATCH(view!BQ$3,data!$Y26:$AB26,0)),\"\",IFERROR(HYPERLINK(showDetails(INDEX(data!$S26:$V26,MATCH(view!BQ$3,data!$Y26:$AB26,0)),BQ28),\"●\"),\"●\"))","v":"●"},{"$f":"IF(ISERROR(MATCH(view!BR$3,data!$Y26:$AB26,0)),\"\",IFERROR(HYPERLINK(showDetails(INDEX(data!$S26:$V26,MATCH(view!BR$3,data!$Y26:$AB26,0)),BR28),\"●\"),\"●\"))","v":""},{"$f":"IF(ISERROR(MATCH(view!BS$3,data!$Y26:$AB26,0)),\"\",IFERROR(HYPERLINK(showDetails(INDEX(data!$S26:$V26,MATCH(view!BS$3,data!$Y26:$AB26,0)),BS28),\"●\"),\"●\"))","v":""},{"$f":"IF(ISERROR(MATCH(view!BT$3,data!$Y26:$AB26,0)),\"\",IFERROR(HYPERLINK(showDetails(INDEX(data!$S26:$V26,MATCH(view!BT$3,data!$Y26:$AB26,0)),BT28),\"●\"),\"●\"))","v":""},{"$f":"IF(ISERROR(MATCH(view!BU$3,data!$Y26:$AB26,0)),\"\",IFERROR(HYPERLINK(showDetails(INDEX(data!$S26:$V26,MATCH(view!BU$3,data!$Y26:$AB26,0)),BU28),\"●\"),\"●\"))","v":""},{"$f":"IF(ISERROR(MATCH(view!BV$3,data!$Y26:$AB26,0)),\"\",IFERROR(HYPERLINK(showDetails(INDEX(data!$S26:$V26,MATCH(view!BV$3,data!$Y26:$AB26,0)),BV28),\"●\"),\"●\"))","v":""},{"$f":"IF(ISERROR(MATCH(view!BW$3,data!$Y26:$AB26,0)),\"\",IFERROR(HYPERLINK(showDetails(INDEX(data!$S26:$V26,MATCH(view!BW$3,data!$Y26:$AB26,0)),BW28),\"●\"),\"●\"))","v":""},{"$f":"IF(ISERROR(MATCH(view!BX$3,data!$Y26:$AB26,0)),\"\",IFERROR(HYPERLINK(showDetails(INDEX(data!$S26:$V26,MATCH(view!BX$3,data!$Y26:$AB26,0)),BX28),\"●\"),\"●\"))","v":""},{"$f":"IF(ISERROR(MATCH(view!BY$3,data!$Y26:$AB26,0)),\"\",IFERROR(HYPERLINK(showDetails(INDEX(data!$S26:$V26,MATCH(view!BY$3,data!$Y26:$AB26,0)),BY28),\"●\"),\"●\"))","v":""},{"$f":"IF(ISERROR(MATCH(view!BZ$3,data!$Y26:$AB26,0)),\"\",IFERROR(HYPERLINK(showDetails(INDEX(data!$S26:$V26,MATCH(view!BZ$3,data!$Y26:$AB26,0)),BZ28),\"●\"),\"●\"))","v":""},{"$f":"IF(ISERROR(MATCH(view!CA$3,data!$Y26:$AB26,0)),\"\",IFERROR(HYPERLINK(showDetails(INDEX(data!$S26:$V26,MATCH(view!CA$3,data!$Y26:$AB26,0)),CA28),\"●\"),\"●\"))","v":""},{"$f":"IF(ISERROR(MATCH(view!CB$3,data!$Y26:$AB26,0)),\"\",IFERROR(HYPERLINK(showDetails(INDEX(data!$S26:$V26,MATCH(view!CB$3,data!$Y26:$AB26,0)),CB28),\"●\"),\"●\"))","v":""},{"$f":"IF(ISERROR(MATCH(view!CC$3,data!$Y26:$AB26,0)),\"\",IFERROR(HYPERLINK(showDetails(INDEX(data!$S26:$V26,MATCH(view!CC$3,data!$Y26:$AB26,0)),CC28),\"●\"),\"●\"))","v":""},{"$f":"IF(ISERROR(MATCH(view!CD$3,data!$Y26:$AB26,0)),\"\",IFERROR(HYPERLINK(showDetails(INDEX(data!$S26:$V26,MATCH(view!CD$3,data!$Y26:$AB26,0)),CD28),\"●\"),\"●\"))","v":""},{"$f":"IF(ISERROR(MATCH(view!CE$3,data!$Y26:$AB26,0)),\"\",IFERROR(HYPERLINK(showDetails(INDEX(data!$S26:$V26,MATCH(view!CE$3,data!$Y26:$AB26,0)),CE28),\"●\"),\"●\"))","v":""},{"$f":"IF(ISERROR(MATCH(view!CF$3,data!$Y26:$AB26,0)),\"\",IFERROR(HYPERLINK(showDetails(INDEX(data!$S26:$V26,MATCH(view!CF$3,data!$Y26:$AB26,0)),CF28),\"●\"),\"●\"))","v":""},{"$f":"IF(ISERROR(MATCH(view!CG$3,data!$Y26:$AB26,0)),\"\",IFERROR(HYPERLINK(showDetails(INDEX(data!$S26:$V26,MATCH(view!CG$3,data!$Y26:$AB26,0)),CG28),\"●\"),\"●\"))","v":""},{"$f":"IF(ISERROR(MATCH(view!CH$3,data!$Y26:$AB26,0)),\"\",IFERROR(HYPERLINK(showDetails(INDEX(data!$S26:$V26,MATCH(view!CH$3,data!$Y26:$AB26,0)),CH28),\"●\"),\"●\"))","v":""},{"$f":"IF(ISERROR(MATCH(view!CI$3,data!$Y26:$AB26,0)),\"\",IFERROR(HYPERLINK(showDetails(INDEX(data!$S26:$V26,MATCH(view!CI$3,data!$Y26:$AB26,0)),CI28),\"●\"),\"●\"))","v":""},{"$f":"IF(ISERROR(MATCH(view!CJ$3,data!$Y26:$AB26,0)),\"\",IFERROR(HYPERLINK(showDetails(INDEX(data!$S26:$V26,MATCH(view!CJ$3,data!$Y26:$AB26,0)),CJ28),\"●\"),\"●\"))","v":""},{"$f":"IF(ISERROR(MATCH(view!CK$3,data!$Y26:$AB26,0)),\"\",IFERROR(HYPERLINK(showDetails(INDEX(data!$S26:$V26,MATCH(view!CK$3,data!$Y26:$AB26,0)),CK28),\"●\"),\"●\"))","v":""},{"$f":"IF(ISERROR(MATCH(view!CL$3,data!$Y26:$AB26,0)),\"\",IFERROR(HYPERLINK(showDetails(INDEX(data!$S26:$V26,MATCH(view!CL$3,data!$Y26:$AB26,0)),CL28),\"●\"),\"●\"))","v":""},{"$f":"IF(ISERROR(MATCH(view!CM$3,data!$Y26:$AB26,0)),\"\",IFERROR(HYPERLINK(showDetails(INDEX(data!$S26:$V26,MATCH(view!CM$3,data!$Y26:$AB26,0)),CM28),\"●\"),\"●\"))","v":""},{"$f":"IF(ISERROR(MATCH(view!CN$3,data!$Y26:$AB26,0)),\"\",IFERROR(HYPERLINK(showDetails(INDEX(data!$S26:$V26,MATCH(view!CN$3,data!$Y26:$AB26,0)),CN28),\"●\"),\"●\"))","v":""},{"$f":"IF(ISERROR(MATCH(view!CO$3,data!$Y26:$AB26,0)),\"\",IFERROR(HYPERLINK(showDetails(INDEX(data!$S26:$V26,MATCH(view!CO$3,data!$Y26:$AB26,0)),CO28),\"●\"),\"●\"))","v":""},{"$f":"IF(ISERROR(MATCH(view!CP$3,data!$Y26:$AB26,0)),\"\",IFERROR(HYPERLINK(showDetails(INDEX(data!$S26:$V26,MATCH(view!CP$3,data!$Y26:$AB26,0)),CP28),\"●\"),\"●\"))","v":""},{"$f":"IF(ISERROR(MATCH(view!CQ$3,data!$Y26:$AB26,0)),\"\",IFERROR(HYPERLINK(showDetails(INDEX(data!$S26:$V26,MATCH(view!CQ$3,data!$Y26:$AB26,0)),CQ28),\"●\"),\"●\"))","v":""},{"$f":"IF(ISERROR(MATCH(view!CR$3,data!$Y26:$AB26,0)),\"\",IFERROR(HYPERLINK(showDetails(INDEX(data!$S26:$V26,MATCH(view!CR$3,data!$Y26:$AB26,0)),CR28),\"●\"),\"●\"))","v":""},{"$f":"IF(ISERROR(MATCH(view!CS$3,data!$Y26:$AB26,0)),\"\",IFERROR(HYPERLINK(showDetails(INDEX(data!$S26:$V26,MATCH(view!CS$3,data!$Y26:$AB26,0)),CS28),\"●\"),\"●\"))","v":""},{"$f":"IF(ISERROR(MATCH(view!CT$3,data!$Y26:$AB26,0)),\"\",IFERROR(HYPERLINK(showDetails(INDEX(data!$S26:$V26,MATCH(view!CT$3,data!$Y26:$AB26,0)),CT28),\"●\"),\"●\"))","v":""},{"$f":"IF(ISERROR(MATCH(view!CU$3,data!$Y26:$AB26,0)),\"\",IFERROR(HYPERLINK(showDetails(INDEX(data!$S26:$V26,MATCH(view!CU$3,data!$Y26:$AB26,0)),CU28),\"●\"),\"●\"))","v":""},{"$f":"IF(ISERROR(MATCH(view!CV$3,data!$Y26:$AB26,0)),\"\",IFERROR(HYPERLINK(showDetails(INDEX(data!$S26:$V26,MATCH(view!CV$3,data!$Y26:$AB26,0)),CV28),\"●\"),\"●\"))","v":""},{"$f":"IF(ISERROR(MATCH(view!CW$3,data!$Y26:$AB26,0)),\"\",IFERROR(HYPERLINK(showDetails(INDEX(data!$S26:$V26,MATCH(view!CW$3,data!$Y26:$AB26,0)),CW28),\"●\"),\"●\"))","v":""},{"$f":"IF(ISERROR(MATCH(view!CX$3,data!$Y26:$AB26,0)),\"\",IFERROR(HYPERLINK(showDetails(INDEX(data!$S26:$V26,MATCH(view!CX$3,data!$Y26:$AB26,0)),CX28),\"●\"),\"●\"))","v":""},{"$f":"IF(ISERROR(MATCH(view!CY$3,data!$Y26:$AB26,0)),\"\",IFERROR(HYPERLINK(showDetails(INDEX(data!$S26:$V26,MATCH(view!CY$3,data!$Y26:$AB26,0)),CY28),\"●\"),\"●\"))","v":""},{"$f":"IF(ISERROR(MATCH(view!CZ$3,data!$Y26:$AB26,0)),\"\",IFERROR(HYPERLINK(showDetails(INDEX(data!$S26:$V26,MATCH(view!CZ$3,data!$Y26:$AB26,0)),CZ28),\"●\"),\"●\"))","v":""},{"$f":"IF(ISERROR(MATCH(view!DA$3,data!$Y26:$AB26,0)),\"\",IFERROR(HYPERLINK(showDetails(INDEX(data!$S26:$V26,MATCH(view!DA$3,data!$Y26:$AB26,0)),DA28),\"●\"),\"●\"))","v":""},{"$f":"IF(ISERROR(MATCH(view!DB$3,data!$Y26:$AB26,0)),\"\",IFERROR(HYPERLINK(showDetails(INDEX(data!$S26:$V26,MATCH(view!DB$3,data!$Y26:$AB26,0)),DB28),\"●\"),\"●\"))","v":""},{"$f":"IF(ISERROR(MATCH(view!DC$3,data!$Y26:$AB26,0)),\"\",IFERROR(HYPERLINK(showDetails(INDEX(data!$S26:$V26,MATCH(view!DC$3,data!$Y26:$AB26,0)),DC28),\"●\"),\"●\"))","v":""},{"$f":"IF(ISERROR(MATCH(view!DD$3,data!$Y26:$AB26,0)),\"\",IFERROR(HYPERLINK(showDetails(INDEX(data!$S26:$V26,MATCH(view!DD$3,data!$Y26:$AB26,0)),DD28),\"●\"),\"●\"))","v":""},{"$f":"IF(ISERROR(MATCH(view!DE$3,data!$Y26:$AB26,0)),\"\",IFERROR(HYPERLINK(showDetails(INDEX(data!$S26:$V26,MATCH(view!DE$3,data!$Y26:$AB26,0)),DE28),\"●\"),\"●\"))","v":""},{"$f":"IF(ISERROR(MATCH(view!DF$3,data!$Y26:$AB26,0)),\"\",IFERROR(HYPERLINK(showDetails(INDEX(data!$S26:$V26,MATCH(view!DF$3,data!$Y26:$AB26,0)),DF28),\"●\"),\"●\"))","v":""},{"$f":"IF(ISERROR(MATCH(view!DG$3,data!$Y26:$AB26,0)),\"\",IFERROR(HYPERLINK(showDetails(INDEX(data!$S26:$V26,MATCH(view!DG$3,data!$Y26:$AB26,0)),DG28),\"●\"),\"●\"))","v":""},{"$f":"IF(ISERROR(MATCH(view!DH$3,data!$Y26:$AB26,0)),\"\",IFERROR(HYPERLINK(showDetails(INDEX(data!$S26:$V26,MATCH(view!DH$3,data!$Y26:$AB26,0)),DH28),\"●\"),\"●\"))","v":""},{"$f":"IF(ISERROR(MATCH(view!DI$3,data!$Y26:$AB26,0)),\"\",IFERROR(HYPERLINK(showDetails(INDEX(data!$S26:$V26,MATCH(view!DI$3,data!$Y26:$AB26,0)),DI28),\"●\"),\"●\"))","v":""},{"$f":"IF(ISERROR(MATCH(view!DJ$3,data!$Y26:$AB26,0)),\"\",IFERROR(HYPERLINK(showDetails(INDEX(data!$S26:$V26,MATCH(view!DJ$3,data!$Y26:$AB26,0)),DJ28),\"●\"),\"●\"))","v":""},{"$f":"IF(ISERROR(MATCH(view!DK$3,data!$Y26:$AB26,0)),\"\",IFERROR(HYPERLINK(showDetails(INDEX(data!$S26:$V26,MATCH(view!DK$3,data!$Y26:$AB26,0)),DK28),\"●\"),\"●\"))","v":""},{"$f":"IF(ISERROR(MATCH(view!DL$3,data!$Y26:$AB26,0)),\"\",IFERROR(HYPERLINK(showDetails(INDEX(data!$S26:$V26,MATCH(view!DL$3,data!$Y26:$AB26,0)),DL28),\"●\"),\"●\"))","v":""},{"$f":"IF(ISERROR(MATCH(view!DM$3,data!$Y26:$AB26,0)),\"\",IFERROR(HYPERLINK(showDetails(INDEX(data!$S26:$V26,MATCH(view!DM$3,data!$Y26:$AB26,0)),DM28),\"●\"),\"●\"))","v":""},{"$f":"IF(ISERROR(MATCH(view!DN$3,data!$Y26:$AB26,0)),\"\",IFERROR(HYPERLINK(showDetails(INDEX(data!$S26:$V26,MATCH(view!DN$3,data!$Y26:$AB26,0)),DN28),\"●\"),\"●\"))","v":""},{"$f":"IF(ISERROR(MATCH(view!DO$3,data!$Y26:$AB26,0)),\"\",IFERROR(HYPERLINK(showDetails(INDEX(data!$S26:$V26,MATCH(view!DO$3,data!$Y26:$AB26,0)),DO28),\"●\"),\"●\"))","v":""},{"$f":"IF(ISERROR(MATCH(view!DP$3,data!$Y26:$AB26,0)),\"\",IFERROR(HYPERLINK(showDetails(INDEX(data!$S26:$V26,MATCH(view!DP$3,data!$Y26:$AB26,0)),DP28),\"●\"),\"●\"))","v":""},{"$f":"IF(ISERROR(MATCH(view!DQ$3,data!$Y26:$AB26,0)),\"\",IFERROR(HYPERLINK(showDetails(INDEX(data!$S26:$V26,MATCH(view!DQ$3,data!$Y26:$AB26,0)),DQ28),\"●\"),\"●\"))","v":""},{"$f":"IF(ISERROR(MATCH(view!DR$3,data!$Y26:$AB26,0)),\"\",IFERROR(HYPERLINK(showDetails(INDEX(data!$S26:$V26,MATCH(view!DR$3,data!$Y26:$AB26,0)),DR28),\"●\"),\"●\"))","v":""},{"$f":"IF(ISERROR(MATCH(view!DS$3,data!$Y26:$AB26,0)),\"\",IFERROR(HYPERLINK(showDetails(INDEX(data!$S26:$V26,MATCH(view!DS$3,data!$Y26:$AB26,0)),DS28),\"●\"),\"●\"))","v":""},{"$f":"INDEX(lstYears,A28) &\" - \"&INDEX(data!$W$3:$W$30,A28)","v":"1908 - London"}]
[25,null,{"$f":"IF(ISERROR(MATCH(view!C$3,data!$Y27:$AB27,0)),\"\",IFERROR(HYPERLINK(showDetails(INDEX(data!$S27:$V27,MATCH(view!C$3,data!$Y27:$AB27,0)),C29),\"●\"),\"●\"))","v":""},{"$f":"IF(ISERROR(MATCH(view!D$3,data!$Y27:$AB27,0)),\"\",IFERROR(HYPERLINK(showDetails(INDEX(data!$S27:$V27,MATCH(view!D$3,data!$Y27:$AB27,0)),D29),\"●\"),\"●\"))","v":""},{"$f":"IF(ISERROR(MATCH(view!E$3,data!$Y27:$AB27,0)),\"\",IFERROR(HYPERLINK(showDetails(INDEX(data!$S27:$V27,MATCH(view!E$3,data!$Y27:$AB27,0)),E29),\"●\"),\"●\"))","v":""},{"$f":"IF(ISERROR(MATCH(view!F$3,data!$Y27:$AB27,0)),\"\",IFERROR(HYPERLINK(showDetails(INDEX(data!$S27:$V27,MATCH(view!F$3,data!$Y27:$AB27,0)),F29),\"●\"),\"●\"))","v":""},{"$f":"IF(ISERROR(MATCH(view!G$3,data!$Y27:$AB27,0)),\"\",IFERROR(HYPERLINK(showDetails(INDEX(data!$S27:$V27,MATCH(view!G$3,data!$Y27:$AB27,0)),G29),\"●\"),\"●\"))","v":""},{"$f":"IF(ISERROR(MATCH(view!H$3,data!$Y27:$AB27,0)),\"\",IFERROR(HYPERLINK(showDetails(INDEX(data!$S27:$V27,MATCH(view!H$3,data!$Y27:$AB27,0)),H29),\"●\"),\"●\"))","v":""},{"$f":"IF(ISERROR(MATCH(view!I$3,data!$Y27:$AB27,0)),\"\",IFERROR(HYPERLINK(showDetails(INDEX(data!$S27:$V27,MATCH(view!I$3,data!$Y27:$AB27,0)),I29),\"●\"),\"●\"))","v":""},{"$f":"IF(ISERROR(MATCH(view!J$3,data!$Y27:$AB27,0)),\"\",IFERROR(HYPERLINK(showDetails(INDEX(data!$S27:$V27,MATCH(view!J$3,data!$Y27:$AB27,0)),J29),\"●\"),\"●\"))","v":""},{"$f":"IF(ISERROR(MATCH(view!K$3,data!$Y27:$AB27,0)),\"\",IFERROR(HYPERLINK(showDetails(INDEX(data!$S27:$V27,MATCH(view!K$3,data!$Y27:$AB27,0)),K29),\"●\"),\"●\"))","v":""},{"$f":"IF(ISERROR(MATCH(view!L$3,data!$Y27:$AB27,0)),\"\",IFERROR(HYPERLINK(showDetails(INDEX(data!$S27:$V27,MATCH(view!L$3,data!$Y27:$AB27,0)),L29),\"●\"),\"●\"))","v":""},{"$f":"IF(ISERROR(MATCH(view!M$3,data!$Y27:$AB27,0)),\"\",IFERROR(HYPERLINK(showDetails(INDEX(data!$S27:$V27,MATCH(view!M$3,data!$Y27:$AB27,0)),M29),\"●\"),\"●\"))","v":""},{"$f":"IF(ISERROR(MATCH(view!N$3,data!$Y27:$AB27,0)),\"\",IFERROR(HYPERLINK(showDetails(INDEX(data!$S27:$V27,MATCH(view!N$3,data!$Y27:$AB27,0)),N29),\"●\"),\"●\"))","v":""},{"$f":"IF(ISERROR(MATCH(view!O$3,data!$Y27:$AB27,0)),\"\",IFERROR(HYPERLINK(showDetails(INDEX(data!$S27:$V27,MATCH(view!O$3,data!$Y27:$AB27,0)),O29),\"●\"),\"●\"))","v":""},{"$f":"IF(ISERROR(MATCH(view!P$3,data!$Y27:$AB27,0)),\"\",IFERROR(HYPERLINK(showDetails(INDEX(data!$S27:$V27,MATCH(view!P$3,data!$Y27:$AB27,0)),P29),\"●\"),\"●\"))","v":""},{"$f":"IF(ISERROR(MATCH(view!Q$3,data!$Y27:$AB27,0)),\"\",IFERROR(HYPERLINK(showDetails(INDEX(data!$S27:$V27,MATCH(view!Q$3,data!$Y27:$AB27,0)),Q29),\"●\"),\"●\"))","v":""},{"$f":"IF(ISERROR(MATCH(view!R$3,data!$Y27:$AB27,0)),\"\",IFERROR(HYPERLINK(showDetails(INDEX(data!$S27:$V27,MATCH(view!R$3,data!$Y27:$AB27,0)),R29),\"●\"),\"●\"))","v":""},{"$f":"IF(ISERROR(MATCH(view!S$3,data!$Y27:$AB27,0)),\"\",IFERROR(HYPERLINK(showDetails(INDEX(data!$S27:$V27,MATCH(view!S$3,data!$Y27:$AB27,0)),S29),\"●\"),\"●\"))","v":""},{"$f":"IF(ISERROR(MATCH(view!T$3,data!$Y27:$AB27,0)),\"\",IFERROR(HYPERLINK(showDetails(INDEX(data!$S27:$V27,MATCH(view!T$3,data!$Y27:$AB27,0)),T29),\"●\"),\"●\"))","v":""},{"$f":"IF(ISERROR(MATCH(view!U$3,data!$Y27:$AB27,0)),\"\",IFERROR(HYPERLINK(showDetails(INDEX(data!$S27:$V27,MATCH(view!U$3,data!$Y27:$AB27,0)),U29),\"●\"),\"●\"))","v":""},{"$f":"IF(ISERROR(MATCH(view!V$3,data!$Y27:$AB27,0)),\"\",IFERROR(HYPERLINK(showDetails(INDEX(data!$S27:$V27,MATCH(view!V$3,data!$Y27:$AB27,0)),V29),\"●\"),\"●\"))","v":""},{"$f":"IF(ISERROR(MATCH(view!W$3,data!$Y27:$AB27,0)),\"\",IFERROR(HYPERLINK(showDetails(INDEX(data!$S27:$V27,MATCH(view!W$3,data!$Y27:$AB27,0)),W29),\"●\"),\"●\"))","v":""},{"$f":"IF(ISERROR(MATCH(view!X$3,data!$Y27:$AB27,0)),\"\",IFERROR(HYPERLINK(showDetails(INDEX(data!$S27:$V27,MATCH(view!X$3,data!$Y27:$AB27,0)),X29),\"●\"),\"●\"))","v":""},{"$f":"IF(ISERROR(MATCH(view!Y$3,data!$Y27:$AB27,0)),\"\",IFERROR(HYPERLINK(showDetails(INDEX(data!$S27:$V27,MATCH(view!Y$3,data!$Y27:$AB27,0)),Y29),\"●\"),\"●\"))","v":""},{"$f":"IF(ISERROR(MATCH(view!Z$3,data!$Y27:$AB27,0)),\"\",IFERROR(HYPERLINK(showDetails(INDEX(data!$S27:$V27,MATCH(view!Z$3,data!$Y27:$AB27,0)),Z29),\"●\"),\"●\"))","v":""},{"$f":"IF(ISERROR(MATCH(view!AA$3,data!$Y27:$AB27,0)),\"\",IFERROR(HYPERLINK(showDetails(INDEX(data!$S27:$V27,MATCH(view!AA$3,data!$Y27:$AB27,0)),AA29),\"●\"),\"●\"))","v":""},{"$f":"IF(ISERROR(MATCH(view!AB$3,data!$Y27:$AB27,0)),\"\",IFERROR(HYPERLINK(showDetails(INDEX(data!$S27:$V27,MATCH(view!AB$3,data!$Y27:$AB27,0)),AB29),\"●\"),\"●\"))","v":""},{"$f":"IF(ISERROR(MATCH(view!AC$3,data!$Y27:$AB27,0)),\"\",IFERROR(HYPERLINK(showDetails(INDEX(data!$S27:$V27,MATCH(view!AC$3,data!$Y27:$AB27,0)),AC29),\"●\"),\"●\"))","v":""},{"$f":"IF(ISERROR(MATCH(view!AD$3,data!$Y27:$AB27,0)),\"\",IFERROR(HYPERLINK(showDetails(INDEX(data!$S27:$V27,MATCH(view!AD$3,data!$Y27:$AB27,0)),AD29),\"●\"),\"●\"))","v":""},{"$f":"IF(ISERROR(MATCH(view!AE$3,data!$Y27:$AB27,0)),\"\",IFERROR(HYPERLINK(showDetails(INDEX(data!$S27:$V27,MATCH(view!AE$3,data!$Y27:$AB27,0)),AE29),\"●\"),\"●\"))","v":""},{"$f":"IF(ISERROR(MATCH(view!AF$3,data!$Y27:$AB27,0)),\"\",IFERROR(HYPERLINK(showDetails(INDEX(data!$S27:$V27,MATCH(view!AF$3,data!$Y27:$AB27,0)),AF29),\"●\"),\"●\"))","v":""},{"$f":"IF(ISERROR(MATCH(view!AG$3,data!$Y27:$AB27,0)),\"\",IFERROR(HYPERLINK(showDetails(INDEX(data!$S27:$V27,MATCH(view!AG$3,data!$Y27:$AB27,0)),AG29),\"●\"),\"●\"))","v":""},{"$f":"IF(ISERROR(MATCH(view!AH$3,data!$Y27:$AB27,0)),\"\",IFERROR(HYPERLINK(showDetails(INDEX(data!$S27:$V27,MATCH(view!AH$3,data!$Y27:$AB27,0)),AH29),\"●\"),\"●\"))","v":""},{"$f":"IF(ISERROR(MATCH(view!AI$3,data!$Y27:$AB27,0)),\"\",IFERROR(HYPERLINK(showDetails(INDEX(data!$S27:$V27,MATCH(view!AI$3,data!$Y27:$AB27,0)),AI29),\"●\"),\"●\"))","v":""},{"$f":"IF(ISERROR(MATCH(view!AJ$3,data!$Y27:$AB27,0)),\"\",IFERROR(HYPERLINK(showDetails(INDEX(data!$S27:$V27,MATCH(view!AJ$3,data!$Y27:$AB27,0)),AJ29),\"●\"),\"●\"))","v":""},{"$f":"IF(ISERROR(MATCH(view!AK$3,data!$Y27:$AB27,0)),\"\",IFERROR(HYPERLINK(showDetails(INDEX(data!$S27:$V27,MATCH(view!AK$3,data!$Y27:$AB27,0)),AK29),\"●\"),\"●\"))","v":""},{"$f":"IF(ISERROR(MATCH(view!AL$3,data!$Y27:$AB27,0)),\"\",IFERROR(HYPERLINK(showDetails(INDEX(data!$S27:$V27,MATCH(view!AL$3,data!$Y27:$AB27,0)),AL29),\"●\"),\"●\"))","v":""},{"$f":"IF(ISERROR(MATCH(view!AM$3,data!$Y27:$AB27,0)),\"\",IFERROR(HYPERLINK(showDetails(INDEX(data!$S27:$V27,MATCH(view!AM$3,data!$Y27:$AB27,0)),AM29),\"●\"),\"●\"))","v":""},{"$f":"IF(ISERROR(MATCH(view!AN$3,data!$Y27:$AB27,0)),\"\",IFERROR(HYPERLINK(showDetails(INDEX(data!$S27:$V27,MATCH(view!AN$3,data!$Y27:$AB27,0)),AN29),\"●\"),\"●\"))","v":""},{"$f":"IF(ISERROR(MATCH(view!AO$3,data!$Y27:$AB27,0)),\"\",IFERROR(HYPERLINK(showDetails(INDEX(data!$S27:$V27,MATCH(view!AO$3,data!$Y27:$AB27,0)),AO29),\"●\"),\"●\"))","v":""},{"$f":"IF(ISERROR(MATCH(view!AP$3,data!$Y27:$AB27,0)),\"\",IFERROR(HYPERLINK(showDetails(INDEX(data!$S27:$V27,MATCH(view!AP$3,data!$Y27:$AB27,0)),AP29),\"●\"),\"●\"))","v":""},{"$f":"IF(ISERROR(MATCH(view!AQ$3,data!$Y27:$AB27,0)),\"\",IFERROR(HYPERLINK(showDetails(INDEX(data!$S27:$V27,MATCH(view!AQ$3,data!$Y27:$AB27,0)),AQ29),\"●\"),\"●\"))","v":""},{"$f":"IF(ISERROR(MATCH(view!AR$3,data!$Y27:$AB27,0)),\"\",IFERROR(HYPERLINK(showDetails(INDEX(data!$S27:$V27,MATCH(view!AR$3,data!$Y27:$AB27,0)),AR29),\"●\"),\"●\"))","v":""},{"$f":"IF(ISERROR(MATCH(view!AS$3,data!$Y27:$AB27,0)),\"\",IFERROR(HYPERLINK(showDetails(INDEX(data!$S27:$V27,MATCH(view!AS$3,data!$Y27:$AB27,0)),AS29),\"●\"),\"●\"))","v":""},{"$f":"IF(ISERROR(MATCH(view!AT$3,data!$Y27:$AB27,0)),\"\",IFERROR(HYPERLINK(showDetails(INDEX(data!$S27:$V27,MATCH(view!AT$3,data!$Y27:$AB27,0)),AT29),\"●\"),\"●\"))","v":""},{"$f":"IF(ISERROR(MATCH(view!AU$3,data!$Y27:$AB27,0)),\"\",IFERROR(HYPERLINK(showDetails(INDEX(data!$S27:$V27,MATCH(view!AU$3,data!$Y27:$AB27,0)),AU29),\"●\"),\"●\"))","v":""},{"$f":"IF(ISERROR(MATCH(view!AV$3,data!$Y27:$AB27,0)),\"\",IFERROR(HYPERLINK(showDetails(INDEX(data!$S27:$V27,MATCH(view!AV$3,data!$Y27:$AB27,0)),AV29),\"●\"),\"●\"))","v":""},{"$f":"IF(ISERROR(MATCH(view!AW$3,data!$Y27:$AB27,0)),\"\",IFERROR(HYPERLINK(showDetails(INDEX(data!$S27:$V27,MATCH(view!AW$3,data!$Y27:$AB27,0)),AW29),\"●\"),\"●\"))","v":"●"},{"$f":"IF(ISERROR(MATCH(view!AX$3,data!$Y27:$AB27,0)),\"\",IFERROR(HYPERLINK(showDetails(INDEX(data!$S27:$V27,MATCH(view!AX$3,data!$Y27:$AB27,0)),AX29),\"●\"),\"●\"))","v":""},{"$f":"IF(ISERROR(MATCH(view!AY$3,data!$Y27:$AB27,0)),\"\",IFERROR(HYPERLINK(showDetails(INDEX(data!$S27:$V27,MATCH(view!AY$3,data!$Y27:$AB27,0)),AY29),\"●\"),\"●\"))","v":""},{"$f":"IF(ISERROR(MATCH(view!AZ$3,data!$Y27:$AB27,0)),\"\",IFERROR(HYPERLINK(showDetails(INDEX(data!$S27:$V27,MATCH(view!AZ$3,data!$Y27:$AB27,0)),AZ29),\"●\"),\"●\"))","v":""},{"$f":"IF(ISERROR(MATCH(view!BA$3,data!$Y27:$AB27,0)),\"\",IFERROR(HYPERLINK(showDetails(INDEX(data!$S27:$V27,MATCH(view!BA$3,data!$Y27:$AB27,0)),BA29),\"●\"),\"●\"))","v":"●"},{"$f":"IF(ISERROR(MATCH(view!BB$3,data!$Y27:$AB27,0)),\"\",IFERROR(HYPERLINK(showDetails(INDEX(data!$S27:$V27,MATCH(view!BB$3,data!$Y27:$AB27,0)),BB29),\"●\"),\"●\"))","v":""},{"$f":"IF(ISERROR(MATCH(view!BC$3,data!$Y27:$AB27,0)),\"\",IFERROR(HYPERLINK(showDetails(INDEX(data!$S27:$V27,MATCH(view!BC$3,data!$Y27:$AB27,0)),BC29),\"●\"),\"●\"))","v":""},{"$f":"IF(ISERROR(MATCH(view!BD$3,data!$Y27:$AB27,0)),\"\",IFERROR(HYPERLINK(showDetails(INDEX(data!$S27:$V27,MATCH(view!BD$3,data!$Y27:$AB27,0)),BD29),\"●\"),\"●\"))","v":""},{"$f":"IF(ISERROR(MATCH(view!BE$3,data!$Y27:$AB27,0)),\"\",IFERROR(HYPERLINK(showDetails(INDEX(data!$S27:$V27,MATCH(view!BE$3,data!$Y27:$AB27,0)),BE29),\"●\"),\"●\"))","v":""},{"$f":"IF(ISERROR(MATCH(view!BF$3,data!$Y27:$AB27,0)),\"\",IFERROR(HYPERLINK(showDetails(INDEX(data!$S27:$V27,MATCH(view!BF$3,data!$Y27:$AB27,0)),BF29),\"●\"),\"●\"))","v":""},{"$f":"IF(ISERROR(MATCH(view!BG$3,data!$Y27:$AB27,0)),\"\",IFERROR(HYPERLINK(showDetails(INDEX(data!$S27:$V27,MATCH(view!BG$3,data!$Y27:$AB27,0)),BG29),\"●\"),\"●\"))","v":""},{"$f":"IF(ISERROR(MATCH(view!BH$3,data!$Y27:$AB27,0)),\"\",IFERROR(HYPERLINK(showDetails(INDEX(data!$S27:$V27,MATCH(view!BH$3,data!$Y27:$AB27,0)),BH29),\"●\"),\"●\"))","v":""},{"$f":"IF(ISERROR(MATCH(view!BI$3,data!$Y27:$AB27,0)),\"\",IFERROR(HYPERLINK(showDetails(INDEX(data!$S27:$V27,MATCH(view!BI$3,data!$Y27:$AB27,0)),BI29),\"●\"),\"●\"))","v":""},{"$f":"IF(ISERROR(MATCH(view!BJ$3,data!$Y27:$AB27,0)),\"\",IFERROR(HYPERLINK(showDetails(INDEX(data!$S27:$V27,MATCH(view!BJ$3,data!$Y27:$AB27,0)),BJ29),\"●\"),\"●\"))","v":""},{"$f":"IF(ISERROR(MATCH(view!BK$3,data!$Y27:$AB27,0)),\"\",IFERROR(HYPERLINK(showDetails(INDEX(data!$S27:$V27,MATCH(view!BK$3,data!$Y27:$AB27,0)),BK29),\"●\"),\"●\"))","v":""},{"$f":"IF(ISERROR(MATCH(view!BL$3,data!$Y27:$AB27,0)),\"\",IFERROR(HYPERLINK(showDetails(INDEX(data!$S27:$V27,MATCH(view!BL$3,data!$Y27:$AB27,0)),BL29),\"●\"),\"●\"))","v":""},{"$f":"IF(ISERROR(MATCH(view!BM$3,data!$Y27:$AB27,0)),\"\",IFERROR(HYPERLINK(showDetails(INDEX(data!$S27:$V27,MATCH(view!BM$3,data!$Y27:$AB27,0)),BM29),\"●\"),\"●\"))","v":""},{"$f":"IF(ISERROR(MATCH(view!BN$3,data!$Y27:$AB27,0)),\"\",IFERROR(HYPERLINK(showDetails(INDEX(data!$S27:$V27,MATCH(view!BN$3,data!$Y27:$AB27,0)),BN29),\"●\"),\"●\"))","v":""},{"$f":"IF(ISERROR(MATCH(view!BO$3,data!$Y27:$AB27,0)),\"\",IFERROR(HYPERLINK(showDetails(INDEX(data!$S27:$V27,MATCH(view!BO$3,data!$Y27:$AB27,0)),BO29),\"●\"),\"●\"))","v":""},{"$f":"IF(ISERROR(MATCH(view!BP$3,data!$Y27:$AB27,0)),\"\",IFERROR(HYPERLINK(showDetails(INDEX(data!$S27:$V27,MATCH(view!BP$3,data!$Y27:$AB27,0)),BP29),\"●\"),\"●\"))","v":""},{"$f":"IF(ISERROR(MATCH(view!BQ$3,data!$Y27:$AB27,0)),\"\",IFERROR(HYPERLINK(showDetails(INDEX(data!$S27:$V27,MATCH(view!BQ$3,data!$Y27:$AB27,0)),BQ29),\"●\"),\"●\"))","v":""},{"$f":"IF(ISERROR(MATCH(view!BR$3,data!$Y27:$AB27,0)),\"\",IFERROR(HYPERLINK(showDetails(INDEX(data!$S27:$V27,MATCH(view!BR$3,data!$Y27:$AB27,0)),BR29),\"●\"),\"●\"))","v":""},{"$f":"IF(ISERROR(MATCH(view!BS$3,data!$Y27:$AB27,0)),\"\",IFERROR(HYPERLINK(showDetails(INDEX(data!$S27:$V27,MATCH(view!BS$3,data!$Y27:$AB27,0)),BS29),\"●\"),\"●\"))","v":""},{"$f":"IF(ISERROR(MATCH(view!BT$3,data!$Y27:$AB27,0)),\"\",IFERROR(HYPERLINK(showDetails(INDEX(data!$S27:$V27,MATCH(view!BT$3,data!$Y27:$AB27,0)),BT29),\"●\"),\"●\"))","v":""},{"$f":"IF(ISERROR(MATCH(view!BU$3,data!$Y27:$AB27,0)),\"\",IFERROR(HYPERLINK(showDetails(INDEX(data!$S27:$V27,MATCH(view!BU$3,data!$Y27:$AB27,0)),BU29),\"●\"),\"●\"))","v":""},{"$f":"IF(ISERROR(MATCH(view!BV$3,data!$Y27:$AB27,0)),\"\",IFERROR(HYPERLINK(showDetails(INDEX(data!$S27:$V27,MATCH(view!BV$3,data!$Y27:$AB27,0)),BV29),\"●\"),\"●\"))","v":""},{"$f":"IF(ISERROR(MATCH(view!BW$3,data!$Y27:$AB27,0)),\"\",IFERROR(HYPERLINK(showDetails(INDEX(data!$S27:$V27,MATCH(view!BW$3,data!$Y27:$AB27,0)),BW29),\"●\"),\"●\"))","v":""},{"$f":"IF(ISERROR(MATCH(view!BX$3,data!$Y27:$AB27,0)),\"\",IFERROR(HYPERLINK(showDetails(INDEX(data!$S27:$V27,MATCH(view!BX$3,data!$Y27:$AB27,0)),BX29),\"●\"),\"●\"))","v":""},{"$f":"IF(ISERROR(MATCH(view!BY$3,data!$Y27:$AB27,0)),\"\",IFERROR(HYPERLINK(showDetails(INDEX(data!$S27:$V27,MATCH(view!BY$3,data!$Y27:$AB27,0)),BY29),\"●\"),\"●\"))","v":""},{"$f":"IF(ISERROR(MATCH(view!BZ$3,data!$Y27:$AB27,0)),\"\",IFERROR(HYPERLINK(showDetails(INDEX(data!$S27:$V27,MATCH(view!BZ$3,data!$Y27:$AB27,0)),BZ29),\"●\"),\"●\"))","v":""},{"$f":"IF(ISERROR(MATCH(view!CA$3,data!$Y27:$AB27,0)),\"\",IFERROR(HYPERLINK(showDetails(INDEX(data!$S27:$V27,MATCH(view!CA$3,data!$Y27:$AB27,0)),CA29),\"●\"),\"●\"))","v":""},{"$f":"IF(ISERROR(MATCH(view!CB$3,data!$Y27:$AB27,0)),\"\",IFERROR(HYPERLINK(showDetails(INDEX(data!$S27:$V27,MATCH(view!CB$3,data!$Y27:$AB27,0)),CB29),\"●\"),\"●\"))","v":""},{"$f":"IF(ISERROR(MATCH(view!CC$3,data!$Y27:$AB27,0)),\"\",IFERROR(HYPERLINK(showDetails(INDEX(data!$S27:$V27,MATCH(view!CC$3,data!$Y27:$AB27,0)),CC29),\"●\"),\"●\"))","v":""},{"$f":"IF(ISERROR(MATCH(view!CD$3,data!$Y27:$AB27,0)),\"\",IFERROR(HYPERLINK(showDetails(INDEX(data!$S27:$V27,MATCH(view!CD$3,data!$Y27:$AB27,0)),CD29),\"●\"),\"●\"))","v":""},{"$f":"IF(ISERROR(MATCH(view!CE$3,data!$Y27:$AB27,0)),\"\",IFERROR(HYPERLINK(showDetails(INDEX(data!$S27:$V27,MATCH(view!CE$3,data!$Y27:$AB27,0)),CE29),\"●\"),\"●\"))","v":""},{"$f":"IF(ISERROR(MATCH(view!CF$3,data!$Y27:$AB27,0)),\"\",IFERROR(HYPERLINK(showDetails(INDEX(data!$S27:$V27,MATCH(view!CF$3,data!$Y27:$AB27,0)),CF29),\"●\"),\"●\"))","v":""},{"$f":"IF(ISERROR(MATCH(view!CG$3,data!$Y27:$AB27,0)),\"\",IFERROR(HYPERLINK(showDetails(INDEX(data!$S27:$V27,MATCH(view!CG$3,data!$Y27:$AB27,0)),CG29),\"●\"),\"●\"))","v":""},{"$f":"IF(ISERROR(MATCH(view!CH$3,data!$Y27:$AB27,0)),\"\",IFERROR(HYPERLINK(showDetails(INDEX(data!$S27:$V27,MATCH(view!CH$3,data!$Y27:$AB27,0)),CH29),\"●\"),\"●\"))","v":""},{"$f":"IF(ISERROR(MATCH(view!CI$3,data!$Y27:$AB27,0)),\"\",IFERROR(HYPERLINK(showDetails(INDEX(data!$S27:$V27,MATCH(view!CI$3,data!$Y27:$AB27,0)),CI29),\"●\"),\"●\"))","v":""},{"$f":"IF(ISERROR(MATCH(view!CJ$3,data!$Y27:$AB27,0)),\"\",IFERROR(HYPERLINK(showDetails(INDEX(data!$S27:$V27,MATCH(view!CJ$3,data!$Y27:$AB27,0)),CJ29),\"●\"),\"●\"))","v":""},{"$f":"IF(ISERROR(MATCH(view!CK$3,data!$Y27:$AB27,0)),\"\",IFERROR(HYPERLINK(showDetails(INDEX(data!$S27:$V27,MATCH(view!CK$3,data!$Y27:$AB27,0)),CK29),\"●\"),\"●\"))","v":""},{"$f":"IF(ISERROR(MATCH(view!CL$3,data!$Y27:$AB27,0)),\"\",IFERROR(HYPERLINK(showDetails(INDEX(data!$S27:$V27,MATCH(view!CL$3,data!$Y27:$AB27,0)),CL29),\"●\"),\"●\"))","v":""},{"$f":"IF(ISERROR(MATCH(view!CM$3,data!$Y27:$AB27,0)),\"\",IFERROR(HYPERLINK(showDetails(INDEX(data!$S27:$V27,MATCH(view!CM$3,data!$Y27:$AB27,0)),CM29),\"●\"),\"●\"))","v":""},{"$f":"IF(ISERROR(MATCH(view!CN$3,data!$Y27:$AB27,0)),\"\",IFERROR(HYPERLINK(showDetails(INDEX(data!$S27:$V27,MATCH(view!CN$3,data!$Y27:$AB27,0)),CN29),\"●\"),\"●\"))","v":""},{"$f":"IF(ISERROR(MATCH(view!CO$3,data!$Y27:$AB27,0)),\"\",IFERROR(HYPERLINK(showDetails(INDEX(data!$S27:$V27,MATCH(view!CO$3,data!$Y27:$AB27,0)),CO29),\"●\"),\"●\"))","v":""},{"$f":"IF(ISERROR(MATCH(view!CP$3,data!$Y27:$AB27,0)),\"\",IFERROR(HYPERLINK(showDetails(INDEX(data!$S27:$V27,MATCH(view!CP$3,data!$Y27:$AB27,0)),CP29),\"●\"),\"●\"))","v":""},{"$f":"IF(ISERROR(MATCH(view!CQ$3,data!$Y27:$AB27,0)),\"\",IFERROR(HYPERLINK(showDetails(INDEX(data!$S27:$V27,MATCH(view!CQ$3,data!$Y27:$AB27,0)),CQ29),\"●\"),\"●\"))","v":""},{"$f":"IF(ISERROR(MATCH(view!CR$3,data!$Y27:$AB27,0)),\"\",IFERROR(HYPERLINK(showDetails(INDEX(data!$S27:$V27,MATCH(view!CR$3,data!$Y27:$AB27,0)),CR29),\"●\"),\"●\"))","v":""},{"$f":"IF(ISERROR(MATCH(view!CS$3,data!$Y27:$AB27,0)),\"\",IFERROR(HYPERLINK(showDetails(INDEX(data!$S27:$V27,MATCH(view!CS$3,data!$Y27:$AB27,0)),CS29),\"●\"),\"●\"))","v":""},{"$f":"IF(ISERROR(MATCH(view!CT$3,data!$Y27:$AB27,0)),\"\",IFERROR(HYPERLINK(showDetails(INDEX(data!$S27:$V27,MATCH(view!CT$3,data!$Y27:$AB27,0)),CT29),\"●\"),\"●\"))","v":""},{"$f":"IF(ISERROR(MATCH(view!CU$3,data!$Y27:$AB27,0)),\"\",IFERROR(HYPERLINK(showDetails(INDEX(data!$S27:$V27,MATCH(view!CU$3,data!$Y27:$AB27,0)),CU29),\"●\"),\"●\"))","v":""},{"$f":"IF(ISERROR(MATCH(view!CV$3,data!$Y27:$AB27,0)),\"\",IFERROR(HYPERLINK(showDetails(INDEX(data!$S27:$V27,MATCH(view!CV$3,data!$Y27:$AB27,0)),CV29),\"●\"),\"●\"))","v":""},{"$f":"IF(ISERROR(MATCH(view!CW$3,data!$Y27:$AB27,0)),\"\",IFERROR(HYPERLINK(showDetails(INDEX(data!$S27:$V27,MATCH(view!CW$3,data!$Y27:$AB27,0)),CW29),\"●\"),\"●\"))","v":""},{"$f":"IF(ISERROR(MATCH(view!CX$3,data!$Y27:$AB27,0)),\"\",IFERROR(HYPERLINK(showDetails(INDEX(data!$S27:$V27,MATCH(view!CX$3,data!$Y27:$AB27,0)),CX29),\"●\"),\"●\"))","v":""},{"$f":"IF(ISERROR(MATCH(view!CY$3,data!$Y27:$AB27,0)),\"\",IFERROR(HYPERLINK(showDetails(INDEX(data!$S27:$V27,MATCH(view!CY$3,data!$Y27:$AB27,0)),CY29),\"●\"),\"●\"))","v":""},{"$f":"IF(ISERROR(MATCH(view!CZ$3,data!$Y27:$AB27,0)),\"\",IFERROR(HYPERLINK(showDetails(INDEX(data!$S27:$V27,MATCH(view!CZ$3,data!$Y27:$AB27,0)),CZ29),\"●\"),\"●\"))","v":""},{"$f":"IF(ISERROR(MATCH(view!DA$3,data!$Y27:$AB27,0)),\"\",IFERROR(HYPERLINK(showDetails(INDEX(data!$S27:$V27,MATCH(view!DA$3,data!$Y27:$AB27,0)),DA29),\"●\"),\"●\"))","v":""},{"$f":"IF(ISERROR(MATCH(view!DB$3,data!$Y27:$AB27,0)),\"\",IFERROR(HYPERLINK(showDetails(INDEX(data!$S27:$V27,MATCH(view!DB$3,data!$Y27:$AB27,0)),DB29),\"●\"),\"●\"))","v":""},{"$f":"IF(ISERROR(MATCH(view!DC$3,data!$Y27:$AB27,0)),\"\",IFERROR(HYPERLINK(showDetails(INDEX(data!$S27:$V27,MATCH(view!DC$3,data!$Y27:$AB27,0)),DC29),\"●\"),\"●\"))","v":""},{"$f":"IF(ISERROR(MATCH(view!DD$3,data!$Y27:$AB27,0)),\"\",IFERROR(HYPERLINK(showDetails(INDEX(data!$S27:$V27,MATCH(view!DD$3,data!$Y27:$AB27,0)),DD29),\"●\"),\"●\"))","v":""},{"$f":"IF(ISERROR(MATCH(view!DE$3,data!$Y27:$AB27,0)),\"\",IFERROR(HYPERLINK(showDetails(INDEX(data!$S27:$V27,MATCH(view!DE$3,data!$Y27:$AB27,0)),DE29),\"●\"),\"●\"))","v":""},{"$f":"IF(ISERROR(MATCH(view!DF$3,data!$Y27:$AB27,0)),\"\",IFERROR(HYPERLINK(showDetails(INDEX(data!$S27:$V27,MATCH(view!DF$3,data!$Y27:$AB27,0)),DF29),\"●\"),\"●\"))","v":""},{"$f":"IF(ISERROR(MATCH(view!DG$3,data!$Y27:$AB27,0)),\"\",IFERROR(HYPERLINK(showDetails(INDEX(data!$S27:$V27,MATCH(view!DG$3,data!$Y27:$AB27,0)),DG29),\"●\"),\"●\"))","v":""},{"$f":"IF(ISERROR(MATCH(view!DH$3,data!$Y27:$AB27,0)),\"\",IFERROR(HYPERLINK(showDetails(INDEX(data!$S27:$V27,MATCH(view!DH$3,data!$Y27:$AB27,0)),DH29),\"●\"),\"●\"))","v":""},{"$f":"IF(ISERROR(MATCH(view!DI$3,data!$Y27:$AB27,0)),\"\",IFERROR(HYPERLINK(showDetails(INDEX(data!$S27:$V27,MATCH(view!DI$3,data!$Y27:$AB27,0)),DI29),\"●\"),\"●\"))","v":""},{"$f":"IF(ISERROR(MATCH(view!DJ$3,data!$Y27:$AB27,0)),\"\",IFERROR(HYPERLINK(showDetails(INDEX(data!$S27:$V27,MATCH(view!DJ$3,data!$Y27:$AB27,0)),DJ29),\"●\"),\"●\"))","v":""},{"$f":"IF(ISERROR(MATCH(view!DK$3,data!$Y27:$AB27,0)),\"\",IFERROR(HYPERLINK(showDetails(INDEX(data!$S27:$V27,MATCH(view!DK$3,data!$Y27:$AB27,0)),DK29),\"●\"),\"●\"))","v":""},{"$f":"IF(ISERROR(MATCH(view!DL$3,data!$Y27:$AB27,0)),\"\",IFERROR(HYPERLINK(showDetails(INDEX(data!$S27:$V27,MATCH(view!DL$3,data!$Y27:$AB27,0)),DL29),\"●\"),\"●\"))","v":""},{"$f":"IF(ISERROR(MATCH(view!DM$3,data!$Y27:$AB27,0)),\"\",IFERROR(HYPERLINK(showDetails(INDEX(data!$S27:$V27,MATCH(view!DM$3,data!$Y27:$AB27,0)),DM29),\"●\"),\"●\"))","v":""},{"$f":"IF(ISERROR(MATCH(view!DN$3,data!$Y27:$AB27,0)),\"\",IFERROR(HYPERLINK(showDetails(INDEX(data!$S27:$V27,MATCH(view!DN$3,data!$Y27:$AB27,0)),DN29),\"●\"),\"●\"))","v":""},{"$f":"IF(ISERROR(MATCH(view!DO$3,data!$Y27:$AB27,0)),\"\",IFERROR(HYPERLINK(showDetails(INDEX(data!$S27:$V27,MATCH(view!DO$3,data!$Y27:$AB27,0)),DO29),\"●\"),\"●\"))","v":""},{"$f":"IF(ISERROR(MATCH(view!DP$3,data!$Y27:$AB27,0)),\"\",IFERROR(HYPERLINK(showDetails(INDEX(data!$S27:$V27,MATCH(view!DP$3,data!$Y27:$AB27,0)),DP29),\"●\"),\"●\"))","v":""},{"$f":"IF(ISERROR(MATCH(view!DQ$3,data!$Y27:$AB27,0)),\"\",IFERROR(HYPERLINK(showDetails(INDEX(data!$S27:$V27,MATCH(view!DQ$3,data!$Y27:$AB27,0)),DQ29),\"●\"),\"●\"))","v":""},{"$f":"IF(ISERROR(MATCH(view!DR$3,data!$Y27:$AB27,0)),\"\",IFERROR(HYPERLINK(showDetails(INDEX(data!$S27:$V27,MATCH(view!DR$3,data!$Y27:$AB27,0)),DR29),\"●\"),\"●\"))","v":""},{"$f":"IF(ISERROR(MATCH(view!DS$3,data!$Y27:$AB27,0)),\"\",IFERROR(HYPERLINK(showDetails(INDEX(data!$S27:$V27,MATCH(view!DS$3,data!$Y27:$AB27,0)),DS29),\"●\"),\"●\"))","v":""},{"$f":"INDEX(lstYears,A29) &\" - \"&INDEX(data!$W$3:$W$30,A29)","v":"1906 - Athens"}]
[26,null,{"$f":"IF(ISERROR(MATCH(view!C$3,data!$Y28:$AB28,0)),\"\",IFERROR(HYPERLINK(showDetails(INDEX(data!$S28:$V28,MATCH(view!C$3,data!$Y28:$AB28,0)),C30),\"●\"),\"●\"))","v":""},{"$f":"IF(ISERROR(MATCH(view!D$3,data!$Y28:$AB28,0)),\"\",IFERROR(HYPERLINK(showDetails(INDEX(data!$S28:$V28,MATCH(view!D$3,data!$Y28:$AB28,0)),D30),\"●\"),\"●\"))","v":""},{"$f":"IF(ISERROR(MATCH(view!E$3,data!$Y28:$AB28,0)),\"\",IFERROR(HYPERLINK(showDetails(INDEX(data!$S28:$V28,MATCH(view!E$3,data!$Y28:$AB28,0)),E30),\"●\"),\"●\"))","v":""},{"$f":"IF(ISERROR(MATCH(view!F$3,data!$Y28:$AB28,0)),\"\",IFERROR(HYPERLINK(showDetails(INDEX(data!$S28:$V28,MATCH(view!F$3,data!$Y28:$AB28,0)),F30),\"●\"),\"●\"))","v":""},{"$f":"IF(ISERROR(MATCH(view!G$3,data!$Y28:$AB28,0)),\"\",IFERROR(HYPERLINK(showDetails(INDEX(data!$S28:$V28,MATCH(view!G$3,data!$Y28:$AB28,0)),G30),\"●\"),\"●\"))","v":""},{"$f":"IF(ISERROR(MATCH(view!H$3,data!$Y28:$AB28,0)),\"\",IFERROR(HYPERLINK(showDetails(INDEX(data!$S28:$V28,MATCH(view!H$3,data!$Y28:$AB28,0)),H30),\"●\"),\"●\"))","v":""},{"$f":"IF(ISERROR(MATCH(view!I$3,data!$Y28:$AB28,0)),\"\",IFERROR(HYPERLINK(showDetails(INDEX(data!$S28:$V28,MATCH(view!I$3,data!$Y28:$AB28,0)),I30),\"●\"),\"●\"))","v":""},{"$f":"IF(ISERROR(MATCH(view!J$3,data!$Y28:$AB28,0)),\"\",IFERROR(HYPERLINK(showDetails(INDEX(data!$S28:$V28,MATCH(view!J$3,data!$Y28:$AB28,0)),J30),\"●\"),\"●\"))","v":""},{"$f":"IF(ISERROR(MATCH(view!K$3,data!$Y28:$AB28,0)),\"\",IFERROR(HYPERLINK(showDetails(INDEX(data!$S28:$V28,MATCH(view!K$3,data!$Y28:$AB28,0)),K30),\"●\"),\"●\"))","v":""},{"$f":"IF(ISERROR(MATCH(view!L$3,data!$Y28:$AB28,0)),\"\",IFERROR(HYPERLINK(showDetails(INDEX(data!$S28:$V28,MATCH(view!L$3,data!$Y28:$AB28,0)),L30),\"●\"),\"●\"))","v":""},{"$f":"IF(ISERROR(MATCH(view!M$3,data!$Y28:$AB28,0)),\"\",IFERROR(HYPERLINK(showDetails(INDEX(data!$S28:$V28,MATCH(view!M$3,data!$Y28:$AB28,0)),M30),\"●\"),\"●\"))","v":""},{"$f":"IF(ISERROR(MATCH(view!N$3,data!$Y28:$AB28,0)),\"\",IFERROR(HYPERLINK(showDetails(INDEX(data!$S28:$V28,MATCH(view!N$3,data!$Y28:$AB28,0)),N30),\"●\"),\"●\"))","v":""},{"$f":"IF(ISERROR(MATCH(view!O$3,data!$Y28:$AB28,0)),\"\",IFERROR(HYPERLINK(showDetails(INDEX(data!$S28:$V28,MATCH(view!O$3,data!$Y28:$AB28,0)),O30),\"●\"),\"●\"))","v":""},{"$f":"IF(ISERROR(MATCH(view!P$3,data!$Y28:$AB28,0)),\"\",IFERROR(HYPERLINK(showDetails(INDEX(data!$S28:$V28,MATCH(view!P$3,data!$Y28:$AB28,0)),P30),\"●\"),\"●\"))","v":""},{"$f":"IF(ISERROR(MATCH(view!Q$3,data!$Y28:$AB28,0)),\"\",IFERROR(HYPERLINK(showDetails(INDEX(data!$S28:$V28,MATCH(view!Q$3,data!$Y28:$AB28,0)),Q30),\"●\"),\"●\"))","v":""},{"$f":"IF(ISERROR(MATCH(view!R$3,data!$Y28:$AB28,0)),\"\",IFERROR(HYPERLINK(showDetails(INDEX(data!$S28:$V28,MATCH(view!R$3,data!$Y28:$AB28,0)),R30),\"●\"),\"●\"))","v":""},{"$f":"IF(ISERROR(MATCH(view!S$3,data!$Y28:$AB28,0)),\"\",IFERROR(HYPERLINK(showDetails(INDEX(data!$S28:$V28,MATCH(view!S$3,data!$Y28:$AB28,0)),S30),\"●\"),\"●\"))","v":""},{"$f":"IF(ISERROR(MATCH(view!T$3,data!$Y28:$AB28,0)),\"\",IFERROR(HYPERLINK(showDetails(INDEX(data!$S28:$V28,MATCH(view!T$3,data!$Y28:$AB28,0)),T30),\"●\"),\"●\"))","v":""},{"$f":"IF(ISERROR(MATCH(view!U$3,data!$Y28:$AB28,0)),\"\",IFERROR(HYPERLINK(showDetails(INDEX(data!$S28:$V28,MATCH(view!U$3,data!$Y28:$AB28,0)),U30),\"●\"),\"●\"))","v":""},{"$f":"IF(ISERROR(MATCH(view!V$3,data!$Y28:$AB28,0)),\"\",IFERROR(HYPERLINK(showDetails(INDEX(data!$S28:$V28,MATCH(view!V$3,data!$Y28:$AB28,0)),V30),\"●\"),\"●\"))","v":""},{"$f":"IF(ISERROR(MATCH(view!W$3,data!$Y28:$AB28,0)),\"\",IFERROR(HYPERLINK(showDetails(INDEX(data!$S28:$V28,MATCH(view!W$3,data!$Y28:$AB28,0)),W30),\"●\"),\"●\"))","v":""},{"$f":"IF(ISERROR(MATCH(view!X$3,data!$Y28:$AB28,0)),\"\",IFERROR(HYPERLINK(showDetails(INDEX(data!$S28:$V28,MATCH(view!X$3,data!$Y28:$AB28,0)),X30),\"●\"),\"●\"))","v":""},{"$f":"IF(ISERROR(MATCH(view!Y$3,data!$Y28:$AB28,0)),\"\",IFERROR(HYPERLINK(showDetails(INDEX(data!$S28:$V28,MATCH(view!Y$3,data!$Y28:$AB28,0)),Y30),\"●\"),\"●\"))","v":""},{"$f":"IF(ISERROR(MATCH(view!Z$3,data!$Y28:$AB28,0)),\"\",IFERROR(HYPERLINK(showDetails(INDEX(data!$S28:$V28,MATCH(view!Z$3,data!$Y28:$AB28,0)),Z30),\"●\"),\"●\"))","v":""},{"$f":"IF(ISERROR(MATCH(view!AA$3,data!$Y28:$AB28,0)),\"\",IFERROR(HYPERLINK(showDetails(INDEX(data!$S28:$V28,MATCH(view!AA$3,data!$Y28:$AB28,0)),AA30),\"●\"),\"●\"))","v":""},{"$f":"IF(ISERROR(MATCH(view!AB$3,data!$Y28:$AB28,0)),\"\",IFERROR(HYPERLINK(showDetails(INDEX(data!$S28:$V28,MATCH(view!AB$3,data!$Y28:$AB28,0)),AB30),\"●\"),\"●\"))","v":""},{"$f":"IF(ISERROR(MATCH(view!AC$3,data!$Y28:$AB28,0)),\"\",IFERROR(HYPERLINK(showDetails(INDEX(data!$S28:$V28,MATCH(view!AC$3,data!$Y28:$AB28,0)),AC30),\"●\"),\"●\"))","v":""},{"$f":"IF(ISERROR(MATCH(view!AD$3,data!$Y28:$AB28,0)),\"\",IFERROR(HYPERLINK(showDetails(INDEX(data!$S28:$V28,MATCH(view!AD$3,data!$Y28:$AB28,0)),AD30),\"●\"),\"●\"))","v":""},{"$f":"IF(ISERROR(MATCH(view!AE$3,data!$Y28:$AB28,0)),\"\",IFERROR(HYPERLINK(showDetails(INDEX(data!$S28:$V28,MATCH(view!AE$3,data!$Y28:$AB28,0)),AE30),\"●\"),\"●\"))","v":""},{"$f":"IF(ISERROR(MATCH(view!AF$3,data!$Y28:$AB28,0)),\"\",IFERROR(HYPERLINK(showDetails(INDEX(data!$S28:$V28,MATCH(view!AF$3,data!$Y28:$AB28,0)),AF30),\"●\"),\"●\"))","v":""},{"$f":"IF(ISERROR(MATCH(view!AG$3,data!$Y28:$AB28,0)),\"\",IFERROR(HYPERLINK(showDetails(INDEX(data!$S28:$V28,MATCH(view!AG$3,data!$Y28:$AB28,0)),AG30),\"●\"),\"●\"))","v":""},{"$f":"IF(ISERROR(MATCH(view!AH$3,data!$Y28:$AB28,0)),\"\",IFERROR(HYPERLINK(showDetails(INDEX(data!$S28:$V28,MATCH(view!AH$3,data!$Y28:$AB28,0)),AH30),\"●\"),\"●\"))","v":""},{"$f":"IF(ISERROR(MATCH(view!AI$3,data!$Y28:$AB28,0)),\"\",IFERROR(HYPERLINK(showDetails(INDEX(data!$S28:$V28,MATCH(view!AI$3,data!$Y28:$AB28,0)),AI30),\"●\"),\"●\"))","v":""},{"$f":"IF(ISERROR(MATCH(view!AJ$3,data!$Y28:$AB28,0)),\"\",IFERROR(HYPERLINK(showDetails(INDEX(data!$S28:$V28,MATCH(view!AJ$3,data!$Y28:$AB28,0)),AJ30),\"●\"),\"●\"))","v":""},{"$f":"IF(ISERROR(MATCH(view!AK$3,data!$Y28:$AB28,0)),\"\",IFERROR(HYPERLINK(showDetails(INDEX(data!$S28:$V28,MATCH(view!AK$3,data!$Y28:$AB28,0)),AK30),\"●\"),\"●\"))","v":""},{"$f":"IF(ISERROR(MATCH(view!AL$3,data!$Y28:$AB28,0)),\"\",IFERROR(HYPERLINK(showDetails(INDEX(data!$S28:$V28,MATCH(view!AL$3,data!$Y28:$AB28,0)),AL30),\"●\"),\"●\"))","v":""},{"$f":"IF(ISERROR(MATCH(view!AM$3,data!$Y28:$AB28,0)),\"\",IFERROR(HYPERLINK(showDetails(INDEX(data!$S28:$V28,MATCH(view!AM$3,data!$Y28:$AB28,0)),AM30),\"●\"),\"●\"))","v":""},{"$f":"IF(ISERROR(MATCH(view!AN$3,data!$Y28:$AB28,0)),\"\",IFERROR(HYPERLINK(showDetails(INDEX(data!$S28:$V28,MATCH(view!AN$3,data!$Y28:$AB28,0)),AN30),\"●\"),\"●\"))","v":""},{"$f":"IF(ISERROR(MATCH(view!AO$3,data!$Y28:$AB28,0)),\"\",IFERROR(HYPERLINK(showDetails(INDEX(data!$S28:$V28,MATCH(view!AO$3,data!$Y28:$AB28,0)),AO30),\"●\"),\"●\"))","v":""},{"$f":"IF(ISERROR(MATCH(view!AP$3,data!$Y28:$AB28,0)),\"\",IFERROR(HYPERLINK(showDetails(INDEX(data!$S28:$V28,MATCH(view!AP$3,data!$Y28:$AB28,0)),AP30),\"●\"),\"●\"))","v":""},{"$f":"IF(ISERROR(MATCH(view!AQ$3,data!$Y28:$AB28,0)),\"\",IFERROR(HYPERLINK(showDetails(INDEX(data!$S28:$V28,MATCH(view!AQ$3,data!$Y28:$AB28,0)),AQ30),\"●\"),\"●\"))","v":""},{"$f":"IF(ISERROR(MATCH(view!AR$3,data!$Y28:$AB28,0)),\"\",IFERROR(HYPERLINK(showDetails(INDEX(data!$S28:$V28,MATCH(view!AR$3,data!$Y28:$AB28,0)),AR30),\"●\"),\"●\"))","v":""},{"$f":"IF(ISERROR(MATCH(view!AS$3,data!$Y28:$AB28,0)),\"\",IFERROR(HYPERLINK(showDetails(INDEX(data!$S28:$V28,MATCH(view!AS$3,data!$Y28:$AB28,0)),AS30),\"●\"),\"●\"))","v":""},{"$f":"IF(ISERROR(MATCH(view!AT$3,data!$Y28:$AB28,0)),\"\",IFERROR(HYPERLINK(showDetails(INDEX(data!$S28:$V28,MATCH(view!AT$3,data!$Y28:$AB28,0)),AT30),\"●\"),\"●\"))","v":""},{"$f":"IF(ISERROR(MATCH(view!AU$3,data!$Y28:$AB28,0)),\"\",IFERROR(HYPERLINK(showDetails(INDEX(data!$S28:$V28,MATCH(view!AU$3,data!$Y28:$AB28,0)),AU30),\"●\"),\"●\"))","v":""},{"$f":"IF(ISERROR(MATCH(view!AV$3,data!$Y28:$AB28,0)),\"\",IFERROR(HYPERLINK(showDetails(INDEX(data!$S28:$V28,MATCH(view!AV$3,data!$Y28:$AB28,0)),AV30),\"●\"),\"●\"))","v":""},{"$f":"IF(ISERROR(MATCH(view!AW$3,data!$Y28:$AB28,0)),\"\",IFERROR(HYPERLINK(showDetails(INDEX(data!$S28:$V28,MATCH(view!AW$3,data!$Y28:$AB28,0)),AW30),\"●\"),\"●\"))","v":""},{"$f":"IF(ISERROR(MATCH(view!AX$3,data!$Y28:$AB28,0)),\"\",IFERROR(HYPERLINK(showDetails(INDEX(data!$S28:$V28,MATCH(view!AX$3,data!$Y28:$AB28,0)),AX30),\"●\"),\"●\"))","v":""},{"$f":"IF(ISERROR(MATCH(view!AY$3,data!$Y28:$AB28,0)),\"\",IFERROR(HYPERLINK(showDetails(INDEX(data!$S28:$V28,MATCH(view!AY$3,data!$Y28:$AB28,0)),AY30),\"●\"),\"●\"))","v":""},{"$f":"IF(ISERROR(MATCH(view!AZ$3,data!$Y28:$AB28,0)),\"\",IFERROR(HYPERLINK(showDetails(INDEX(data!$S28:$V28,MATCH(view!AZ$3,data!$Y28:$AB28,0)),AZ30),\"●\"),\"●\"))","v":""},{"$f":"IF(ISERROR(MATCH(view!BA$3,data!$Y28:$AB28,0)),\"\",IFERROR(HYPERLINK(showDetails(INDEX(data!$S28:$V28,MATCH(view!BA$3,data!$Y28:$AB28,0)),BA30),\"●\"),\"●\"))","v":"●"},{"$f":"IF(ISERROR(MATCH(view!BB$3,data!$Y28:$AB28,0)),\"\",IFERROR(HYPERLINK(showDetails(INDEX(data!$S28:$V28,MATCH(view!BB$3,data!$Y28:$AB28,0)),BB30),\"●\"),\"●\"))","v":""},{"$f":"IF(ISERROR(MATCH(view!BC$3,data!$Y28:$AB28,0)),\"\",IFERROR(HYPERLINK(showDetails(INDEX(data!$S28:$V28,MATCH(view!BC$3,data!$Y28:$AB28,0)),BC30),\"●\"),\"●\"))","v":""},{"$f":"IF(ISERROR(MATCH(view!BD$3,data!$Y28:$AB28,0)),\"\",IFERROR(HYPERLINK(showDetails(INDEX(data!$S28:$V28,MATCH(view!BD$3,data!$Y28:$AB28,0)),BD30),\"●\"),\"●\"))","v":""},{"$f":"IF(ISERROR(MATCH(view!BE$3,data!$Y28:$AB28,0)),\"\",IFERROR(HYPERLINK(showDetails(INDEX(data!$S28:$V28,MATCH(view!BE$3,data!$Y28:$AB28,0)),BE30),\"●\"),\"●\"))","v":""},{"$f":"IF(ISERROR(MATCH(view!BF$3,data!$Y28:$AB28,0)),\"\",IFERROR(HYPERLINK(showDetails(INDEX(data!$S28:$V28,MATCH(view!BF$3,data!$Y28:$AB28,0)),BF30),\"●\"),\"●\"))","v":""},{"$f":"IF(ISERROR(MATCH(view!BG$3,data!$Y28:$AB28,0)),\"\",IFERROR(HYPERLINK(showDetails(INDEX(data!$S28:$V28,MATCH(view!BG$3,data!$Y28:$AB28,0)),BG30),\"●\"),\"●\"))","v":""},{"$f":"IF(ISERROR(MATCH(view!BH$3,data!$Y28:$AB28,0)),\"\",IFERROR(HYPERLINK(showDetails(INDEX(data!$S28:$V28,MATCH(view!BH$3,data!$Y28:$AB28,0)),BH30),\"●\"),\"●\"))","v":"●"},{"$f":"IF(ISERROR(MATCH(view!BI$3,data!$Y28:$AB28,0)),\"\",IFERROR(HYPERLINK(showDetails(INDEX(data!$S28:$V28,MATCH(view!BI$3,data!$Y28:$AB28,0)),BI30),\"●\"),\"●\"))","v":""},{"$f":"IF(ISERROR(MATCH(view!BJ$3,data!$Y28:$AB28,0)),\"\",IFERROR(HYPERLINK(showDetails(INDEX(data!$S28:$V28,MATCH(view!BJ$3,data!$Y28:$AB28,0)),BJ30),\"●\"),\"●\"))","v":""},{"$f":"IF(ISERROR(MATCH(view!BK$3,data!$Y28:$AB28,0)),\"\",IFERROR(HYPERLINK(showDetails(INDEX(data!$S28:$V28,MATCH(view!BK$3,data!$Y28:$AB28,0)),BK30),\"●\"),\"●\"))","v":""},{"$f":"IF(ISERROR(MATCH(view!BL$3,data!$Y28:$AB28,0)),\"\",IFERROR(HYPERLINK(showDetails(INDEX(data!$S28:$V28,MATCH(view!BL$3,data!$Y28:$AB28,0)),BL30),\"●\"),\"●\"))","v":""},{"$f":"IF(ISERROR(MATCH(view!BM$3,data!$Y28:$AB28,0)),\"\",IFERROR(HYPERLINK(showDetails(INDEX(data!$S28:$V28,MATCH(view!BM$3,data!$Y28:$AB28,0)),BM30),\"●\"),\"●\"))","v":""},{"$f":"IF(ISERROR(MATCH(view!BN$3,data!$Y28:$AB28,0)),\"\",IFERROR(HYPERLINK(showDetails(INDEX(data!$S28:$V28,MATCH(view!BN$3,data!$Y28:$AB28,0)),BN30),\"●\"),\"●\"))","v":""},{"$f":"IF(ISERROR(MATCH(view!BO$3,data!$Y28:$AB28,0)),\"\",IFERROR(HYPERLINK(showDetails(INDEX(data!$S28:$V28,MATCH(view!BO$3,data!$Y28:$AB28,0)),BO30),\"●\"),\"●\"))","v":""},{"$f":"IF(ISERROR(MATCH(view!BP$3,data!$Y28:$AB28,0)),\"\",IFERROR(HYPERLINK(showDetails(INDEX(data!$S28:$V28,MATCH(view!BP$3,data!$Y28:$AB28,0)),BP30),\"●\"),\"●\"))","v":""},{"$f":"IF(ISERROR(MATCH(view!BQ$3,data!$Y28:$AB28,0)),\"\",IFERROR(HYPERLINK(showDetails(INDEX(data!$S28:$V28,MATCH(view!BQ$3,data!$Y28:$AB28,0)),BQ30),\"●\"),\"●\"))","v":""},{"$f":"IF(ISERROR(MATCH(view!BR$3,data!$Y28:$AB28,0)),\"\",IFERROR(HYPERLINK(showDetails(INDEX(data!$S28:$V28,MATCH(view!BR$3,data!$Y28:$AB28,0)),BR30),\"●\"),\"●\"))","v":""},{"$f":"IF(ISERROR(MATCH(view!BS$3,data!$Y28:$AB28,0)),\"\",IFERROR(HYPERLINK(showDetails(INDEX(data!$S28:$V28,MATCH(view!BS$3,data!$Y28:$AB28,0)),BS30),\"●\"),\"●\"))","v":""},{"$f":"IF(ISERROR(MATCH(view!BT$3,data!$Y28:$AB28,0)),\"\",IFERROR(HYPERLINK(showDetails(INDEX(data!$S28:$V28,MATCH(view!BT$3,data!$Y28:$AB28,0)),BT30),\"●\"),\"●\"))","v":""},{"$f":"IF(ISERROR(MATCH(view!BU$3,data!$Y28:$AB28,0)),\"\",IFERROR(HYPERLINK(showDetails(INDEX(data!$S28:$V28,MATCH(view!BU$3,data!$Y28:$AB28,0)),BU30),\"●\"),\"●\"))","v":""},{"$f":"IF(ISERROR(MATCH(view!BV$3,data!$Y28:$AB28,0)),\"\",IFERROR(HYPERLINK(showDetails(INDEX(data!$S28:$V28,MATCH(view!BV$3,data!$Y28:$AB28,0)),BV30),\"●\"),\"●\"))","v":""},{"$f":"IF(ISERROR(MATCH(view!BW$3,data!$Y28:$AB28,0)),\"\",IFERROR(HYPERLINK(showDetails(INDEX(data!$S28:$V28,MATCH(view!BW$3,data!$Y28:$AB28,0)),BW30),\"●\"),\"●\"))","v":""},{"$f":"IF(ISERROR(MATCH(view!BX$3,data!$Y28:$AB28,0)),\"\",IFERROR(HYPERLINK(showDetails(INDEX(data!$S28:$V28,MATCH(view!BX$3,data!$Y28:$AB28,0)),BX30),\"●\"),\"●\"))","v":""},{"$f":"IF(ISERROR(MATCH(view!BY$3,data!$Y28:$AB28,0)),\"\",IFERROR(HYPERLINK(showDetails(INDEX(data!$S28:$V28,MATCH(view!BY$3,data!$Y28:$AB28,0)),BY30),\"●\"),\"●\"))","v":""},{"$f":"IF(ISERROR(MATCH(view!BZ$3,data!$Y28:$AB28,0)),\"\",IFERROR(HYPERLINK(showDetails(INDEX(data!$S28:$V28,MATCH(view!BZ$3,data!$Y28:$AB28,0)),BZ30),\"●\"),\"●\"))","v":""},{"$f":"IF(ISERROR(MATCH(view!CA$3,data!$Y28:$AB28,0)),\"\",IFERROR(HYPERLINK(showDetails(INDEX(data!$S28:$V28,MATCH(view!CA$3,data!$Y28:$AB28,0)),CA30),\"●\"),\"●\"))","v":""},{"$f":"IF(ISERROR(MATCH(view!CB$3,data!$Y28:$AB28,0)),\"\",IFERROR(HYPERLINK(showDetails(INDEX(data!$S28:$V28,MATCH(view!CB$3,data!$Y28:$AB28,0)),CB30),\"●\"),\"●\"))","v":""},{"$f":"IF(ISERROR(MATCH(view!CC$3,data!$Y28:$AB28,0)),\"\",IFERROR(HYPERLINK(showDetails(INDEX(data!$S28:$V28,MATCH(view!CC$3,data!$Y28:$AB28,0)),CC30),\"●\"),\"●\"))","v":""},{"$f":"IF(ISERROR(MATCH(view!CD$3,data!$Y28:$AB28,0)),\"\",IFERROR(HYPERLINK(showDetails(INDEX(data!$S28:$V28,MATCH(view!CD$3,data!$Y28:$AB28,0)),CD30),\"●\"),\"●\"))","v":""},{"$f":"IF(ISERROR(MATCH(view!CE$3,data!$Y28:$AB28,0)),\"\",IFERROR(HYPERLINK(showDetails(INDEX(data!$S28:$V28,MATCH(view!CE$3,data!$Y28:$AB28,0)),CE30),\"●\"),\"●\"))","v":""},{"$f":"IF(ISERROR(MATCH(view!CF$3,data!$Y28:$AB28,0)),\"\",IFERROR(HYPERLINK(showDetails(INDEX(data!$S28:$V28,MATCH(view!CF$3,data!$Y28:$AB28,0)),CF30),\"●\"),\"●\"))","v":""},{"$f":"IF(ISERROR(MATCH(view!CG$3,data!$Y28:$AB28,0)),\"\",IFERROR(HYPERLINK(showDetails(INDEX(data!$S28:$V28,MATCH(view!CG$3,data!$Y28:$AB28,0)),CG30),\"●\"),\"●\"))","v":""},{"$f":"IF(ISERROR(MATCH(view!CH$3,data!$Y28:$AB28,0)),\"\",IFERROR(HYPERLINK(showDetails(INDEX(data!$S28:$V28,MATCH(view!CH$3,data!$Y28:$AB28,0)),CH30),\"●\"),\"●\"))","v":""},{"$f":"IF(ISERROR(MATCH(view!CI$3,data!$Y28:$AB28,0)),\"\",IFERROR(HYPERLINK(showDetails(INDEX(data!$S28:$V28,MATCH(view!CI$3,data!$Y28:$AB28,0)),CI30),\"●\"),\"●\"))","v":""},{"$f":"IF(ISERROR(MATCH(view!CJ$3,data!$Y28:$AB28,0)),\"\",IFERROR(HYPERLINK(showDetails(INDEX(data!$S28:$V28,MATCH(view!CJ$3,data!$Y28:$AB28,0)),CJ30),\"●\"),\"●\"))","v":""},{"$f":"IF(ISERROR(MATCH(view!CK$3,data!$Y28:$AB28,0)),\"\",IFERROR(HYPERLINK(showDetails(INDEX(data!$S28:$V28,MATCH(view!CK$3,data!$Y28:$AB28,0)),CK30),\"●\"),\"●\"))","v":""},{"$f":"IF(ISERROR(MATCH(view!CL$3,data!$Y28:$AB28,0)),\"\",IFERROR(HYPERLINK(showDetails(INDEX(data!$S28:$V28,MATCH(view!CL$3,data!$Y28:$AB28,0)),CL30),\"●\"),\"●\"))","v":""},{"$f":"IF(ISERROR(MATCH(view!CM$3,data!$Y28:$AB28,0)),\"\",IFERROR(HYPERLINK(showDetails(INDEX(data!$S28:$V28,MATCH(view!CM$3,data!$Y28:$AB28,0)),CM30),\"●\"),\"●\"))","v":""},{"$f":"IF(ISERROR(MATCH(view!CN$3,data!$Y28:$AB28,0)),\"\",IFERROR(HYPERLINK(showDetails(INDEX(data!$S28:$V28,MATCH(view!CN$3,data!$Y28:$AB28,0)),CN30),\"●\"),\"●\"))","v":""},{"$f":"IF(ISERROR(MATCH(view!CO$3,data!$Y28:$AB28,0)),\"\",IFERROR(HYPERLINK(showDetails(INDEX(data!$S28:$V28,MATCH(view!CO$3,data!$Y28:$AB28,0)),CO30),\"●\"),\"●\"))","v":""},{"$f":"IF(ISERROR(MATCH(view!CP$3,data!$Y28:$AB28,0)),\"\",IFERROR(HYPERLINK(showDetails(INDEX(data!$S28:$V28,MATCH(view!CP$3,data!$Y28:$AB28,0)),CP30),\"●\"),\"●\"))","v":""},{"$f":"IF(ISERROR(MATCH(view!CQ$3,data!$Y28:$AB28,0)),\"\",IFERROR(HYPERLINK(showDetails(INDEX(data!$S28:$V28,MATCH(view!CQ$3,data!$Y28:$AB28,0)),CQ30),\"●\"),\"●\"))","v":""},{"$f":"IF(ISERROR(MATCH(view!CR$3,data!$Y28:$AB28,0)),\"\",IFERROR(HYPERLINK(showDetails(INDEX(data!$S28:$V28,MATCH(view!CR$3,data!$Y28:$AB28,0)),CR30),\"●\"),\"●\"))","v":""},{"$f":"IF(ISERROR(MATCH(view!CS$3,data!$Y28:$AB28,0)),\"\",IFERROR(HYPERLINK(showDetails(INDEX(data!$S28:$V28,MATCH(view!CS$3,data!$Y28:$AB28,0)),CS30),\"●\"),\"●\"))","v":""},{"$f":"IF(ISERROR(MATCH(view!CT$3,data!$Y28:$AB28,0)),\"\",IFERROR(HYPERLINK(showDetails(INDEX(data!$S28:$V28,MATCH(view!CT$3,data!$Y28:$AB28,0)),CT30),\"●\"),\"●\"))","v":""},{"$f":"IF(ISERROR(MATCH(view!CU$3,data!$Y28:$AB28,0)),\"\",IFERROR(HYPERLINK(showDetails(INDEX(data!$S28:$V28,MATCH(view!CU$3,data!$Y28:$AB28,0)),CU30),\"●\"),\"●\"))","v":""},{"$f":"IF(ISERROR(MATCH(view!CV$3,data!$Y28:$AB28,0)),\"\",IFERROR(HYPERLINK(showDetails(INDEX(data!$S28:$V28,MATCH(view!CV$3,data!$Y28:$AB28,0)),CV30),\"●\"),\"●\"))","v":""},{"$f":"IF(ISERROR(MATCH(view!CW$3,data!$Y28:$AB28,0)),\"\",IFERROR(HYPERLINK(showDetails(INDEX(data!$S28:$V28,MATCH(view!CW$3,data!$Y28:$AB28,0)),CW30),\"●\"),\"●\"))","v":""},{"$f":"IF(ISERROR(MATCH(view!CX$3,data!$Y28:$AB28,0)),\"\",IFERROR(HYPERLINK(showDetails(INDEX(data!$S28:$V28,MATCH(view!CX$3,data!$Y28:$AB28,0)),CX30),\"●\"),\"●\"))","v":""},{"$f":"IF(ISERROR(MATCH(view!CY$3,data!$Y28:$AB28,0)),\"\",IFERROR(HYPERLINK(showDetails(INDEX(data!$S28:$V28,MATCH(view!CY$3,data!$Y28:$AB28,0)),CY30),\"●\"),\"●\"))","v":""},{"$f":"IF(ISERROR(MATCH(view!CZ$3,data!$Y28:$AB28,0)),\"\",IFERROR(HYPERLINK(showDetails(INDEX(data!$S28:$V28,MATCH(view!CZ$3,data!$Y28:$AB28,0)),CZ30),\"●\"),\"●\"))","v":""},{"$f":"IF(ISERROR(MATCH(view!DA$3,data!$Y28:$AB28,0)),\"\",IFERROR(HYPERLINK(showDetails(INDEX(data!$S28:$V28,MATCH(view!DA$3,data!$Y28:$AB28,0)),DA30),\"●\"),\"●\"))","v":""},{"$f":"IF(ISERROR(MATCH(view!DB$3,data!$Y28:$AB28,0)),\"\",IFERROR(HYPERLINK(showDetails(INDEX(data!$S28:$V28,MATCH(view!DB$3,data!$Y28:$AB28,0)),DB30),\"●\"),\"●\"))","v":""},{"$f":"IF(ISERROR(MATCH(view!DC$3,data!$Y28:$AB28,0)),\"\",IFERROR(HYPERLINK(showDetails(INDEX(data!$S28:$V28,MATCH(view!DC$3,data!$Y28:$AB28,0)),DC30),\"●\"),\"●\"))","v":""},{"$f":"IF(ISERROR(MATCH(view!DD$3,data!$Y28:$AB28,0)),\"\",IFERROR(HYPERLINK(showDetails(INDEX(data!$S28:$V28,MATCH(view!DD$3,data!$Y28:$AB28,0)),DD30),\"●\"),\"●\"))","v":""},{"$f":"IF(ISERROR(MATCH(view!DE$3,data!$Y28:$AB28,0)),\"\",IFERROR(HYPERLINK(showDetails(INDEX(data!$S28:$V28,MATCH(view!DE$3,data!$Y28:$AB28,0)),DE30),\"●\"),\"●\"))","v":""},{"$f":"IF(ISERROR(MATCH(view!DF$3,data!$Y28:$AB28,0)),\"\",IFERROR(HYPERLINK(showDetails(INDEX(data!$S28:$V28,MATCH(view!DF$3,data!$Y28:$AB28,0)),DF30),\"●\"),\"●\"))","v":""},{"$f":"IF(ISERROR(MATCH(view!DG$3,data!$Y28:$AB28,0)),\"\",IFERROR(HYPERLINK(showDetails(INDEX(data!$S28:$V28,MATCH(view!DG$3,data!$Y28:$AB28,0)),DG30),\"●\"),\"●\"))","v":""},{"$f":"IF(ISERROR(MATCH(view!DH$3,data!$Y28:$AB28,0)),\"\",IFERROR(HYPERLINK(showDetails(INDEX(data!$S28:$V28,MATCH(view!DH$3,data!$Y28:$AB28,0)),DH30),\"●\"),\"●\"))","v":""},{"$f":"IF(ISERROR(MATCH(view!DI$3,data!$Y28:$AB28,0)),\"\",IFERROR(HYPERLINK(showDetails(INDEX(data!$S28:$V28,MATCH(view!DI$3,data!$Y28:$AB28,0)),DI30),\"●\"),\"●\"))","v":""},{"$f":"IF(ISERROR(MATCH(view!DJ$3,data!$Y28:$AB28,0)),\"\",IFERROR(HYPERLINK(showDetails(INDEX(data!$S28:$V28,MATCH(view!DJ$3,data!$Y28:$AB28,0)),DJ30),\"●\"),\"●\"))","v":""},{"$f":"IF(ISERROR(MATCH(view!DK$3,data!$Y28:$AB28,0)),\"\",IFERROR(HYPERLINK(showDetails(INDEX(data!$S28:$V28,MATCH(view!DK$3,data!$Y28:$AB28,0)),DK30),\"●\"),\"●\"))","v":""},{"$f":"IF(ISERROR(MATCH(view!DL$3,data!$Y28:$AB28,0)),\"\",IFERROR(HYPERLINK(showDetails(INDEX(data!$S28:$V28,MATCH(view!DL$3,data!$Y28:$AB28,0)),DL30),\"●\"),\"●\"))","v":""},{"$f":"IF(ISERROR(MATCH(view!DM$3,data!$Y28:$AB28,0)),\"\",IFERROR(HYPERLINK(showDetails(INDEX(data!$S28:$V28,MATCH(view!DM$3,data!$Y28:$AB28,0)),DM30),\"●\"),\"●\"))","v":""},{"$f":"IF(ISERROR(MATCH(view!DN$3,data!$Y28:$AB28,0)),\"\",IFERROR(HYPERLINK(showDetails(INDEX(data!$S28:$V28,MATCH(view!DN$3,data!$Y28:$AB28,0)),DN30),\"●\"),\"●\"))","v":""},{"$f":"IF(ISERROR(MATCH(view!DO$3,data!$Y28:$AB28,0)),\"\",IFERROR(HYPERLINK(showDetails(INDEX(data!$S28:$V28,MATCH(view!DO$3,data!$Y28:$AB28,0)),DO30),\"●\"),\"●\"))","v":""},{"$f":"IF(ISERROR(MATCH(view!DP$3,data!$Y28:$AB28,0)),\"\",IFERROR(HYPERLINK(showDetails(INDEX(data!$S28:$V28,MATCH(view!DP$3,data!$Y28:$AB28,0)),DP30),\"●\"),\"●\"))","v":""},{"$f":"IF(ISERROR(MATCH(view!DQ$3,data!$Y28:$AB28,0)),\"\",IFERROR(HYPERLINK(showDetails(INDEX(data!$S28:$V28,MATCH(view!DQ$3,data!$Y28:$AB28,0)),DQ30),\"●\"),\"●\"))","v":""},{"$f":"IF(ISERROR(MATCH(view!DR$3,data!$Y28:$AB28,0)),\"\",IFERROR(HYPERLINK(showDetails(INDEX(data!$S28:$V28,MATCH(view!DR$3,data!$Y28:$AB28,0)),DR30),\"●\"),\"●\"))","v":""},{"$f":"IF(ISERROR(MATCH(view!DS$3,data!$Y28:$AB28,0)),\"\",IFERROR(HYPERLINK(showDetails(INDEX(data!$S28:$V28,MATCH(view!DS$3,data!$Y28:$AB28,0)),DS30),\"●\"),\"●\"))","v":""},{"$f":"INDEX(lstYears,A30) &\" - \"&INDEX(data!$W$3:$W$30,A30)","v":"1904 - St. Louis"}]
[27,null,{"$f":"IF(ISERROR(MATCH(view!C$3,data!$Y29:$AB29,0)),\"\",IFERROR(HYPERLINK(showDetails(INDEX(data!$S29:$V29,MATCH(view!C$3,data!$Y29:$AB29,0)),C31),\"●\"),\"●\"))","v":""},{"$f":"IF(ISERROR(MATCH(view!D$3,data!$Y29:$AB29,0)),\"\",IFERROR(HYPERLINK(showDetails(INDEX(data!$S29:$V29,MATCH(view!D$3,data!$Y29:$AB29,0)),D31),\"●\"),\"●\"))","v":""},{"$f":"IF(ISERROR(MATCH(view!E$3,data!$Y29:$AB29,0)),\"\",IFERROR(HYPERLINK(showDetails(INDEX(data!$S29:$V29,MATCH(view!E$3,data!$Y29:$AB29,0)),E31),\"●\"),\"●\"))","v":""},{"$f":"IF(ISERROR(MATCH(view!F$3,data!$Y29:$AB29,0)),\"\",IFERROR(HYPERLINK(showDetails(INDEX(data!$S29:$V29,MATCH(view!F$3,data!$Y29:$AB29,0)),F31),\"●\"),\"●\"))","v":""},{"$f":"IF(ISERROR(MATCH(view!G$3,data!$Y29:$AB29,0)),\"\",IFERROR(HYPERLINK(showDetails(INDEX(data!$S29:$V29,MATCH(view!G$3,data!$Y29:$AB29,0)),G31),\"●\"),\"●\"))","v":""},{"$f":"IF(ISERROR(MATCH(view!H$3,data!$Y29:$AB29,0)),\"\",IFERROR(HYPERLINK(showDetails(INDEX(data!$S29:$V29,MATCH(view!H$3,data!$Y29:$AB29,0)),H31),\"●\"),\"●\"))","v":""},{"$f":"IF(ISERROR(MATCH(view!I$3,data!$Y29:$AB29,0)),\"\",IFERROR(HYPERLINK(showDetails(INDEX(data!$S29:$V29,MATCH(view!I$3,data!$Y29:$AB29,0)),I31),\"●\"),\"●\"))","v":""},{"$f":"IF(ISERROR(MATCH(view!J$3,data!$Y29:$AB29,0)),\"\",IFERROR(HYPERLINK(showDetails(INDEX(data!$S29:$V29,MATCH(view!J$3,data!$Y29:$AB29,0)),J31),\"●\"),\"●\"))","v":""},{"$f":"IF(ISERROR(MATCH(view!K$3,data!$Y29:$AB29,0)),\"\",IFERROR(HYPERLINK(showDetails(INDEX(data!$S29:$V29,MATCH(view!K$3,data!$Y29:$AB29,0)),K31),\"●\"),\"●\"))","v":""},{"$f":"IF(ISERROR(MATCH(view!L$3,data!$Y29:$AB29,0)),\"\",IFERROR(HYPERLINK(showDetails(INDEX(data!$S29:$V29,MATCH(view!L$3,data!$Y29:$AB29,0)),L31),\"●\"),\"●\"))","v":""},{"$f":"IF(ISERROR(MATCH(view!M$3,data!$Y29:$AB29,0)),\"\",IFERROR(HYPERLINK(showDetails(INDEX(data!$S29:$V29,MATCH(view!M$3,data!$Y29:$AB29,0)),M31),\"●\"),\"●\"))","v":""},{"$f":"IF(ISERROR(MATCH(view!N$3,data!$Y29:$AB29,0)),\"\",IFERROR(HYPERLINK(showDetails(INDEX(data!$S29:$V29,MATCH(view!N$3,data!$Y29:$AB29,0)),N31),\"●\"),\"●\"))","v":""},{"$f":"IF(ISERROR(MATCH(view!O$3,data!$Y29:$AB29,0)),\"\",IFERROR(HYPERLINK(showDetails(INDEX(data!$S29:$V29,MATCH(view!O$3,data!$Y29:$AB29,0)),O31),\"●\"),\"●\"))","v":""},{"$f":"IF(ISERROR(MATCH(view!P$3,data!$Y29:$AB29,0)),\"\",IFERROR(HYPERLINK(showDetails(INDEX(data!$S29:$V29,MATCH(view!P$3,data!$Y29:$AB29,0)),P31),\"●\"),\"●\"))","v":""},{"$f":"IF(ISERROR(MATCH(view!Q$3,data!$Y29:$AB29,0)),\"\",IFERROR(HYPERLINK(showDetails(INDEX(data!$S29:$V29,MATCH(view!Q$3,data!$Y29:$AB29,0)),Q31),\"●\"),\"●\"))","v":""},{"$f":"IF(ISERROR(MATCH(view!R$3,data!$Y29:$AB29,0)),\"\",IFERROR(HYPERLINK(showDetails(INDEX(data!$S29:$V29,MATCH(view!R$3,data!$Y29:$AB29,0)),R31),\"●\"),\"●\"))","v":""},{"$f":"IF(ISERROR(MATCH(view!S$3,data!$Y29:$AB29,0)),\"\",IFERROR(HYPERLINK(showDetails(INDEX(data!$S29:$V29,MATCH(view!S$3,data!$Y29:$AB29,0)),S31),\"●\"),\"●\"))","v":""},{"$f":"IF(ISERROR(MATCH(view!T$3,data!$Y29:$AB29,0)),\"\",IFERROR(HYPERLINK(showDetails(INDEX(data!$S29:$V29,MATCH(view!T$3,data!$Y29:$AB29,0)),T31),\"●\"),\"●\"))","v":""},{"$f":"IF(ISERROR(MATCH(view!U$3,data!$Y29:$AB29,0)),\"\",IFERROR(HYPERLINK(showDetails(INDEX(data!$S29:$V29,MATCH(view!U$3,data!$Y29:$AB29,0)),U31),\"●\"),\"●\"))","v":""},{"$f":"IF(ISERROR(MATCH(view!V$3,data!$Y29:$AB29,0)),\"\",IFERROR(HYPERLINK(showDetails(INDEX(data!$S29:$V29,MATCH(view!V$3,data!$Y29:$AB29,0)),V31),\"●\"),\"●\"))","v":""},{"$f":"IF(ISERROR(MATCH(view!W$3,data!$Y29:$AB29,0)),\"\",IFERROR(HYPERLINK(showDetails(INDEX(data!$S29:$V29,MATCH(view!W$3,data!$Y29:$AB29,0)),W31),\"●\"),\"●\"))","v":""},{"$f":"IF(ISERROR(MATCH(view!X$3,data!$Y29:$AB29,0)),\"\",IFERROR(HYPERLINK(showDetails(INDEX(data!$S29:$V29,MATCH(view!X$3,data!$Y29:$AB29,0)),X31),\"●\"),\"●\"))","v":""},{"$f":"IF(ISERROR(MATCH(view!Y$3,data!$Y29:$AB29,0)),\"\",IFERROR(HYPERLINK(showDetails(INDEX(data!$S29:$V29,MATCH(view!Y$3,data!$Y29:$AB29,0)),Y31),\"●\"),\"●\"))","v":""},{"$f":"IF(ISERROR(MATCH(view!Z$3,data!$Y29:$AB29,0)),\"\",IFERROR(HYPERLINK(showDetails(INDEX(data!$S29:$V29,MATCH(view!Z$3,data!$Y29:$AB29,0)),Z31),\"●\"),\"●\"))","v":""},{"$f":"IF(ISERROR(MATCH(view!AA$3,data!$Y29:$AB29,0)),\"\",IFERROR(HYPERLINK(showDetails(INDEX(data!$S29:$V29,MATCH(view!AA$3,data!$Y29:$AB29,0)),AA31),\"●\"),\"●\"))","v":""},{"$f":"IF(ISERROR(MATCH(view!AB$3,data!$Y29:$AB29,0)),\"\",IFERROR(HYPERLINK(showDetails(INDEX(data!$S29:$V29,MATCH(view!AB$3,data!$Y29:$AB29,0)),AB31),\"●\"),\"●\"))","v":""},{"$f":"IF(ISERROR(MATCH(view!AC$3,data!$Y29:$AB29,0)),\"\",IFERROR(HYPERLINK(showDetails(INDEX(data!$S29:$V29,MATCH(view!AC$3,data!$Y29:$AB29,0)),AC31),\"●\"),\"●\"))","v":""},{"$f":"IF(ISERROR(MATCH(view!AD$3,data!$Y29:$AB29,0)),\"\",IFERROR(HYPERLINK(showDetails(INDEX(data!$S29:$V29,MATCH(view!AD$3,data!$Y29:$AB29,0)),AD31),\"●\"),\"●\"))","v":""},{"$f":"IF(ISERROR(MATCH(view!AE$3,data!$Y29:$AB29,0)),\"\",IFERROR(HYPERLINK(showDetails(INDEX(data!$S29:$V29,MATCH(view!AE$3,data!$Y29:$AB29,0)),AE31),\"●\"),\"●\"))","v":""},{"$f":"IF(ISERROR(MATCH(view!AF$3,data!$Y29:$AB29,0)),\"\",IFERROR(HYPERLINK(showDetails(INDEX(data!$S29:$V29,MATCH(view!AF$3,data!$Y29:$AB29,0)),AF31),\"●\"),\"●\"))","v":""},{"$f":"IF(ISERROR(MATCH(view!AG$3,data!$Y29:$AB29,0)),\"\",IFERROR(HYPERLINK(showDetails(INDEX(data!$S29:$V29,MATCH(view!AG$3,data!$Y29:$AB29,0)),AG31),\"●\"),\"●\"))","v":""},{"$f":"IF(ISERROR(MATCH(view!AH$3,data!$Y29:$AB29,0)),\"\",IFERROR(HYPERLINK(showDetails(INDEX(data!$S29:$V29,MATCH(view!AH$3,data!$Y29:$AB29,0)),AH31),\"●\"),\"●\"))","v":""},{"$f":"IF(ISERROR(MATCH(view!AI$3,data!$Y29:$AB29,0)),\"\",IFERROR(HYPERLINK(showDetails(INDEX(data!$S29:$V29,MATCH(view!AI$3,data!$Y29:$AB29,0)),AI31),\"●\"),\"●\"))","v":""},{"$f":"IF(ISERROR(MATCH(view!AJ$3,data!$Y29:$AB29,0)),\"\",IFERROR(HYPERLINK(showDetails(INDEX(data!$S29:$V29,MATCH(view!AJ$3,data!$Y29:$AB29,0)),AJ31),\"●\"),\"●\"))","v":""},{"$f":"IF(ISERROR(MATCH(view!AK$3,data!$Y29:$AB29,0)),\"\",IFERROR(HYPERLINK(showDetails(INDEX(data!$S29:$V29,MATCH(view!AK$3,data!$Y29:$AB29,0)),AK31),\"●\"),\"●\"))","v":""},{"$f":"IF(ISERROR(MATCH(view!AL$3,data!$Y29:$AB29,0)),\"\",IFERROR(HYPERLINK(showDetails(INDEX(data!$S29:$V29,MATCH(view!AL$3,data!$Y29:$AB29,0)),AL31),\"●\"),\"●\"))","v":""},{"$f":"IF(ISERROR(MATCH(view!AM$3,data!$Y29:$AB29,0)),\"\",IFERROR(HYPERLINK(showDetails(INDEX(data!$S29:$V29,MATCH(view!AM$3,data!$Y29:$AB29,0)),AM31),\"●\"),\"●\"))","v":""},{"$f":"IF(ISERROR(MATCH(view!AN$3,data!$Y29:$AB29,0)),\"\",IFERROR(HYPERLINK(showDetails(INDEX(data!$S29:$V29,MATCH(view!AN$3,data!$Y29:$AB29,0)),AN31),\"●\"),\"●\"))","v":""},{"$f":"IF(ISERROR(MATCH(view!AO$3,data!$Y29:$AB29,0)),\"\",IFERROR(HYPERLINK(showDetails(INDEX(data!$S29:$V29,MATCH(view!AO$3,data!$Y29:$AB29,0)),AO31),\"●\"),\"●\"))","v":""},{"$f":"IF(ISERROR(MATCH(view!AP$3,data!$Y29:$AB29,0)),\"\",IFERROR(HYPERLINK(showDetails(INDEX(data!$S29:$V29,MATCH(view!AP$3,data!$Y29:$AB29,0)),AP31),\"●\"),\"●\"))","v":""},{"$f":"IF(ISERROR(MATCH(view!AQ$3,data!$Y29:$AB29,0)),\"\",IFERROR(HYPERLINK(showDetails(INDEX(data!$S29:$V29,MATCH(view!AQ$3,data!$Y29:$AB29,0)),AQ31),\"●\"),\"●\"))","v":""},{"$f":"IF(ISERROR(MATCH(view!AR$3,data!$Y29:$AB29,0)),\"\",IFERROR(HYPERLINK(showDetails(INDEX(data!$S29:$V29,MATCH(view!AR$3,data!$Y29:$AB29,0)),AR31),\"●\"),\"●\"))","v":""},{"$f":"IF(ISERROR(MATCH(view!AS$3,data!$Y29:$AB29,0)),\"\",IFERROR(HYPERLINK(showDetails(INDEX(data!$S29:$V29,MATCH(view!AS$3,data!$Y29:$AB29,0)),AS31),\"●\"),\"●\"))","v":""},{"$f":"IF(ISERROR(MATCH(view!AT$3,data!$Y29:$AB29,0)),\"\",IFERROR(HYPERLINK(showDetails(INDEX(data!$S29:$V29,MATCH(view!AT$3,data!$Y29:$AB29,0)),AT31),\"●\"),\"●\"))","v":""},{"$f":"IF(ISERROR(MATCH(view!AU$3,data!$Y29:$AB29,0)),\"\",IFERROR(HYPERLINK(showDetails(INDEX(data!$S29:$V29,MATCH(view!AU$3,data!$Y29:$AB29,0)),AU31),\"●\"),\"●\"))","v":""},{"$f":"IF(ISERROR(MATCH(view!AV$3,data!$Y29:$AB29,0)),\"\",IFERROR(HYPERLINK(showDetails(INDEX(data!$S29:$V29,MATCH(view!AV$3,data!$Y29:$AB29,0)),AV31),\"●\"),\"●\"))","v":""},{"$f":"IF(ISERROR(MATCH(view!AW$3,data!$Y29:$AB29,0)),\"\",IFERROR(HYPERLINK(showDetails(INDEX(data!$S29:$V29,MATCH(view!AW$3,data!$Y29:$AB29,0)),AW31),\"●\"),\"●\"))","v":""},{"$f":"IF(ISERROR(MATCH(view!AX$3,data!$Y29:$AB29,0)),\"\",IFERROR(HYPERLINK(showDetails(INDEX(data!$S29:$V29,MATCH(view!AX$3,data!$Y29:$AB29,0)),AX31),\"●\"),\"●\"))","v":""},{"$f":"IF(ISERROR(MATCH(view!AY$3,data!$Y29:$AB29,0)),\"\",IFERROR(HYPERLINK(showDetails(INDEX(data!$S29:$V29,MATCH(view!AY$3,data!$Y29:$AB29,0)),AY31),\"●\"),\"●\"))","v":""},{"$f":"IF(ISERROR(MATCH(view!AZ$3,data!$Y29:$AB29,0)),\"\",IFERROR(HYPERLINK(showDetails(INDEX(data!$S29:$V29,MATCH(view!AZ$3,data!$Y29:$AB29,0)),AZ31),\"●\"),\"●\"))","v":""},{"$f":"IF(ISERROR(MATCH(view!BA$3,data!$Y29:$AB29,0)),\"\",IFERROR(HYPERLINK(showDetails(INDEX(data!$S29:$V29,MATCH(view!BA$3,data!$Y29:$AB29,0)),BA31),\"●\"),\"●\"))","v":"●"},{"$f":"IF(ISERROR(MATCH(view!BB$3,data!$Y29:$AB29,0)),\"\",IFERROR(HYPERLINK(showDetails(INDEX(data!$S29:$V29,MATCH(view!BB$3,data!$Y29:$AB29,0)),BB31),\"●\"),\"●\"))","v":""},{"$f":"IF(ISERROR(MATCH(view!BC$3,data!$Y29:$AB29,0)),\"\",IFERROR(HYPERLINK(showDetails(INDEX(data!$S29:$V29,MATCH(view!BC$3,data!$Y29:$AB29,0)),BC31),\"●\"),\"●\"))","v":""},{"$f":"IF(ISERROR(MATCH(view!BD$3,data!$Y29:$AB29,0)),\"\",IFERROR(HYPERLINK(showDetails(INDEX(data!$S29:$V29,MATCH(view!BD$3,data!$Y29:$AB29,0)),BD31),\"●\"),\"●\"))","v":""},{"$f":"IF(ISERROR(MATCH(view!BE$3,data!$Y29:$AB29,0)),\"\",IFERROR(HYPERLINK(showDetails(INDEX(data!$S29:$V29,MATCH(view!BE$3,data!$Y29:$AB29,0)),BE31),\"●\"),\"●\"))","v":"●"},{"$f":"IF(ISERROR(MATCH(view!BF$3,data!$Y29:$AB29,0)),\"\",IFERROR(HYPERLINK(showDetails(INDEX(data!$S29:$V29,MATCH(view!BF$3,data!$Y29:$AB29,0)),BF31),\"●\"),\"●\"))","v":""},{"$f":"IF(ISERROR(MATCH(view!BG$3,data!$Y29:$AB29,0)),\"\",IFERROR(HYPERLINK(showDetails(INDEX(data!$S29:$V29,MATCH(view!BG$3,data!$Y29:$AB29,0)),BG31),\"●\"),\"●\"))","v":""},{"$f":"IF(ISERROR(MATCH(view!BH$3,data!$Y29:$AB29,0)),\"\",IFERROR(HYPERLINK(showDetails(INDEX(data!$S29:$V29,MATCH(view!BH$3,data!$Y29:$AB29,0)),BH31),\"●\"),\"●\"))","v":"●"},{"$f":"IF(ISERROR(MATCH(view!BI$3,data!$Y29:$AB29,0)),\"\",IFERROR(HYPERLINK(showDetails(INDEX(data!$S29:$V29,MATCH(view!BI$3,data!$Y29:$AB29,0)),BI31),\"●\"),\"●\"))","v":""},{"$f":"IF(ISERROR(MATCH(view!BJ$3,data!$Y29:$AB29,0)),\"\",IFERROR(HYPERLINK(showDetails(INDEX(data!$S29:$V29,MATCH(view!BJ$3,data!$Y29:$AB29,0)),BJ31),\"●\"),\"●\"))","v":""},{"$f":"IF(ISERROR(MATCH(view!BK$3,data!$Y29:$AB29,0)),\"\",IFERROR(HYPERLINK(showDetails(INDEX(data!$S29:$V29,MATCH(view!BK$3,data!$Y29:$AB29,0)),BK31),\"●\"),\"●\"))","v":""},{"$f":"IF(ISERROR(MATCH(view!BL$3,data!$Y29:$AB29,0)),\"\",IFERROR(HYPERLINK(showDetails(INDEX(data!$S29:$V29,MATCH(view!BL$3,data!$Y29:$AB29,0)),BL31),\"●\"),\"●\"))","v":""},{"$f":"IF(ISERROR(MATCH(view!BM$3,data!$Y29:$AB29,0)),\"\",IFERROR(HYPERLINK(showDetails(INDEX(data!$S29:$V29,MATCH(view!BM$3,data!$Y29:$AB29,0)),BM31),\"●\"),\"●\"))","v":""},{"$f":"IF(ISERROR(MATCH(view!BN$3,data!$Y29:$AB29,0)),\"\",IFERROR(HYPERLINK(showDetails(INDEX(data!$S29:$V29,MATCH(view!BN$3,data!$Y29:$AB29,0)),BN31),\"●\"),\"●\"))","v":""},{"$f":"IF(ISERROR(MATCH(view!BO$3,data!$Y29:$AB29,0)),\"\",IFERROR(HYPERLINK(showDetails(INDEX(data!$S29:$V29,MATCH(view!BO$3,data!$Y29:$AB29,0)),BO31),\"●\"),\"●\"))","v":""},{"$f":"IF(ISERROR(MATCH(view!BP$3,data!$Y29:$AB29,0)),\"\",IFERROR(HYPERLINK(showDetails(INDEX(data!$S29:$V29,MATCH(view!BP$3,data!$Y29:$AB29,0)),BP31),\"●\"),\"●\"))","v":""},{"$f":"IF(ISERROR(MATCH(view!BQ$3,data!$Y29:$AB29,0)),\"\",IFERROR(HYPERLINK(showDetails(INDEX(data!$S29:$V29,MATCH(view!BQ$3,data!$Y29:$AB29,0)),BQ31),\"●\"),\"●\"))","v":""},{"$f":"IF(ISERROR(MATCH(view!BR$3,data!$Y29:$AB29,0)),\"\",IFERROR(HYPERLINK(showDetails(INDEX(data!$S29:$V29,MATCH(view!BR$3,data!$Y29:$AB29,0)),BR31),\"●\"),\"●\"))","v":""},{"$f":"IF(ISERROR(MATCH(view!BS$3,data!$Y29:$AB29,0)),\"\",IFERROR(HYPERLINK(showDetails(INDEX(data!$S29:$V29,MATCH(view!BS$3,data!$Y29:$AB29,0)),BS31),\"●\"),\"●\"))","v":""},{"$f":"IF(ISERROR(MATCH(view!BT$3,data!$Y29:$AB29,0)),\"\",IFERROR(HYPERLINK(showDetails(INDEX(data!$S29:$V29,MATCH(view!BT$3,data!$Y29:$AB29,0)),BT31),\"●\"),\"●\"))","v":""},{"$f":"IF(ISERROR(MATCH(view!BU$3,data!$Y29:$AB29,0)),\"\",IFERROR(HYPERLINK(showDetails(INDEX(data!$S29:$V29,MATCH(view!BU$3,data!$Y29:$AB29,0)),BU31),\"●\"),\"●\"))","v":""},{"$f":"IF(ISERROR(MATCH(view!BV$3,data!$Y29:$AB29,0)),\"\",IFERROR(HYPERLINK(showDetails(INDEX(data!$S29:$V29,MATCH(view!BV$3,data!$Y29:$AB29,0)),BV31),\"●\"),\"●\"))","v":""},{"$f":"IF(ISERROR(MATCH(view!BW$3,data!$Y29:$AB29,0)),\"\",IFERROR(HYPERLINK(showDetails(INDEX(data!$S29:$V29,MATCH(view!BW$3,data!$Y29:$AB29,0)),BW31),\"●\"),\"●\"))","v":""},{"$f":"IF(ISERROR(MATCH(view!BX$3,data!$Y29:$AB29,0)),\"\",IFERROR(HYPERLINK(showDetails(INDEX(data!$S29:$V29,MATCH(view!BX$3,data!$Y29:$AB29,0)),BX31),\"●\"),\"●\"))","v":""},{"$f":"IF(ISERROR(MATCH(view!BY$3,data!$Y29:$AB29,0)),\"\",IFERROR(HYPERLINK(showDetails(INDEX(data!$S29:$V29,MATCH(view!BY$3,data!$Y29:$AB29,0)),BY31),\"●\"),\"●\"))","v":""},{"$f":"IF(ISERROR(MATCH(view!BZ$3,data!$Y29:$AB29,0)),\"\",IFERROR(HYPERLINK(showDetails(INDEX(data!$S29:$V29,MATCH(view!BZ$3,data!$Y29:$AB29,0)),BZ31),\"●\"),\"●\"))","v":""},{"$f":"IF(ISERROR(MATCH(view!CA$3,data!$Y29:$AB29,0)),\"\",IFERROR(HYPERLINK(showDetails(INDEX(data!$S29:$V29,MATCH(view!CA$3,data!$Y29:$AB29,0)),CA31),\"●\"),\"●\"))","v":""},{"$f":"IF(ISERROR(MATCH(view!CB$3,data!$Y29:$AB29,0)),\"\",IFERROR(HYPERLINK(showDetails(INDEX(data!$S29:$V29,MATCH(view!CB$3,data!$Y29:$AB29,0)),CB31),\"●\"),\"●\"))","v":""},{"$f":"IF(ISERROR(MATCH(view!CC$3,data!$Y29:$AB29,0)),\"\",IFERROR(HYPERLINK(showDetails(INDEX(data!$S29:$V29,MATCH(view!CC$3,data!$Y29:$AB29,0)),CC31),\"●\"),\"●\"))","v":""},{"$f":"IF(ISERROR(MATCH(view!CD$3,data!$Y29:$AB29,0)),\"\",IFERROR(HYPERLINK(showDetails(INDEX(data!$S29:$V29,MATCH(view!CD$3,data!$Y29:$AB29,0)),CD31),\"●\"),\"●\"))","v":""},{"$f":"IF(ISERROR(MATCH(view!CE$3,data!$Y29:$AB29,0)),\"\",IFERROR(HYPERLINK(showDetails(INDEX(data!$S29:$V29,MATCH(view!CE$3,data!$Y29:$AB29,0)),CE31),\"●\"),\"●\"))","v":""},{"$f":"IF(ISERROR(MATCH(view!CF$3,data!$Y29:$AB29,0)),\"\",IFERROR(HYPERLINK(showDetails(INDEX(data!$S29:$V29,MATCH(view!CF$3,data!$Y29:$AB29,0)),CF31),\"●\"),\"●\"))","v":""},{"$f":"IF(ISERROR(MATCH(view!CG$3,data!$Y29:$AB29,0)),\"\",IFERROR(HYPERLINK(showDetails(INDEX(data!$S29:$V29,MATCH(view!CG$3,data!$Y29:$AB29,0)),CG31),\"●\"),\"●\"))","v":""},{"$f":"IF(ISERROR(MATCH(view!CH$3,data!$Y29:$AB29,0)),\"\",IFERROR(HYPERLINK(showDetails(INDEX(data!$S29:$V29,MATCH(view!CH$3,data!$Y29:$AB29,0)),CH31),\"●\"),\"●\"))","v":""},{"$f":"IF(ISERROR(MATCH(view!CI$3,data!$Y29:$AB29,0)),\"\",IFERROR(HYPERLINK(showDetails(INDEX(data!$S29:$V29,MATCH(view!CI$3,data!$Y29:$AB29,0)),CI31),\"●\"),\"●\"))","v":""},{"$f":"IF(ISERROR(MATCH(view!CJ$3,data!$Y29:$AB29,0)),\"\",IFERROR(HYPERLINK(showDetails(INDEX(data!$S29:$V29,MATCH(view!CJ$3,data!$Y29:$AB29,0)),CJ31),\"●\"),\"●\"))","v":""},{"$f":"IF(ISERROR(MATCH(view!CK$3,data!$Y29:$AB29,0)),\"\",IFERROR(HYPERLINK(showDetails(INDEX(data!$S29:$V29,MATCH(view!CK$3,data!$Y29:$AB29,0)),CK31),\"●\"),\"●\"))","v":""},{"$f":"IF(ISERROR(MATCH(view!CL$3,data!$Y29:$AB29,0)),\"\",IFERROR(HYPERLINK(showDetails(INDEX(data!$S29:$V29,MATCH(view!CL$3,data!$Y29:$AB29,0)),CL31),\"●\"),\"●\"))","v":""},{"$f":"IF(ISERROR(MATCH(view!CM$3,data!$Y29:$AB29,0)),\"\",IFERROR(HYPERLINK(showDetails(INDEX(data!$S29:$V29,MATCH(view!CM$3,data!$Y29:$AB29,0)),CM31),\"●\"),\"●\"))","v":""},{"$f":"IF(ISERROR(MATCH(view!CN$3,data!$Y29:$AB29,0)),\"\",IFERROR(HYPERLINK(showDetails(INDEX(data!$S29:$V29,MATCH(view!CN$3,data!$Y29:$AB29,0)),CN31),\"●\"),\"●\"))","v":""},{"$f":"IF(ISERROR(MATCH(view!CO$3,data!$Y29:$AB29,0)),\"\",IFERROR(HYPERLINK(showDetails(INDEX(data!$S29:$V29,MATCH(view!CO$3,data!$Y29:$AB29,0)),CO31),\"●\"),\"●\"))","v":""},{"$f":"IF(ISERROR(MATCH(view!CP$3,data!$Y29:$AB29,0)),\"\",IFERROR(HYPERLINK(showDetails(INDEX(data!$S29:$V29,MATCH(view!CP$3,data!$Y29:$AB29,0)),CP31),\"●\"),\"●\"))","v":""},{"$f":"IF(ISERROR(MATCH(view!CQ$3,data!$Y29:$AB29,0)),\"\",IFERROR(HYPERLINK(showDetails(INDEX(data!$S29:$V29,MATCH(view!CQ$3,data!$Y29:$AB29,0)),CQ31),\"●\"),\"●\"))","v":""},{"$f":"IF(ISERROR(MATCH(view!CR$3,data!$Y29:$AB29,0)),\"\",IFERROR(HYPERLINK(showDetails(INDEX(data!$S29:$V29,MATCH(view!CR$3,data!$Y29:$AB29,0)),CR31),\"●\"),\"●\"))","v":""},{"$f":"IF(ISERROR(MATCH(view!CS$3,data!$Y29:$AB29,0)),\"\",IFERROR(HYPERLINK(showDetails(INDEX(data!$S29:$V29,MATCH(view!CS$3,data!$Y29:$AB29,0)),CS31),\"●\"),\"●\"))","v":""},{"$f":"IF(ISERROR(MATCH(view!CT$3,data!$Y29:$AB29,0)),\"\",IFERROR(HYPERLINK(showDetails(INDEX(data!$S29:$V29,MATCH(view!CT$3,data!$Y29:$AB29,0)),CT31),\"●\"),\"●\"))","v":""},{"$f":"IF(ISERROR(MATCH(view!CU$3,data!$Y29:$AB29,0)),\"\",IFERROR(HYPERLINK(showDetails(INDEX(data!$S29:$V29,MATCH(view!CU$3,data!$Y29:$AB29,0)),CU31),\"●\"),\"●\"))","v":""},{"$f":"IF(ISERROR(MATCH(view!CV$3,data!$Y29:$AB29,0)),\"\",IFERROR(HYPERLINK(showDetails(INDEX(data!$S29:$V29,MATCH(view!CV$3,data!$Y29:$AB29,0)),CV31),\"●\"),\"●\"))","v":""},{"$f":"IF(ISERROR(MATCH(view!CW$3,data!$Y29:$AB29,0)),\"\",IFERROR(HYPERLINK(showDetails(INDEX(data!$S29:$V29,MATCH(view!CW$3,data!$Y29:$AB29,0)),CW31),\"●\"),\"●\"))","v":""},{"$f":"IF(ISERROR(MATCH(view!CX$3,data!$Y29:$AB29,0)),\"\",IFERROR(HYPERLINK(showDetails(INDEX(data!$S29:$V29,MATCH(view!CX$3,data!$Y29:$AB29,0)),CX31),\"●\"),\"●\"))","v":""},{"$f":"IF(ISERROR(MATCH(view!CY$3,data!$Y29:$AB29,0)),\"\",IFERROR(HYPERLINK(showDetails(INDEX(data!$S29:$V29,MATCH(view!CY$3,data!$Y29:$AB29,0)),CY31),\"●\"),\"●\"))","v":""},{"$f":"IF(ISERROR(MATCH(view!CZ$3,data!$Y29:$AB29,0)),\"\",IFERROR(HYPERLINK(showDetails(INDEX(data!$S29:$V29,MATCH(view!CZ$3,data!$Y29:$AB29,0)),CZ31),\"●\"),\"●\"))","v":""},{"$f":"IF(ISERROR(MATCH(view!DA$3,data!$Y29:$AB29,0)),\"\",IFERROR(HYPERLINK(showDetails(INDEX(data!$S29:$V29,MATCH(view!DA$3,data!$Y29:$AB29,0)),DA31),\"●\"),\"●\"))","v":""},{"$f":"IF(ISERROR(MATCH(view!DB$3,data!$Y29:$AB29,0)),\"\",IFERROR(HYPERLINK(showDetails(INDEX(data!$S29:$V29,MATCH(view!DB$3,data!$Y29:$AB29,0)),DB31),\"●\"),\"●\"))","v":""},{"$f":"IF(ISERROR(MATCH(view!DC$3,data!$Y29:$AB29,0)),\"\",IFERROR(HYPERLINK(showDetails(INDEX(data!$S29:$V29,MATCH(view!DC$3,data!$Y29:$AB29,0)),DC31),\"●\"),\"●\"))","v":""},{"$f":"IF(ISERROR(MATCH(view!DD$3,data!$Y29:$AB29,0)),\"\",IFERROR(HYPERLINK(showDetails(INDEX(data!$S29:$V29,MATCH(view!DD$3,data!$Y29:$AB29,0)),DD31),\"●\"),\"●\"))","v":""},{"$f":"IF(ISERROR(MATCH(view!DE$3,data!$Y29:$AB29,0)),\"\",IFERROR(HYPERLINK(showDetails(INDEX(data!$S29:$V29,MATCH(view!DE$3,data!$Y29:$AB29,0)),DE31),\"●\"),\"●\"))","v":""},{"$f":"IF(ISERROR(MATCH(view!DF$3,data!$Y29:$AB29,0)),\"\",IFERROR(HYPERLINK(showDetails(INDEX(data!$S29:$V29,MATCH(view!DF$3,data!$Y29:$AB29,0)),DF31),\"●\"),\"●\"))","v":""},{"$f":"IF(ISERROR(MATCH(view!DG$3,data!$Y29:$AB29,0)),\"\",IFERROR(HYPERLINK(showDetails(INDEX(data!$S29:$V29,MATCH(view!DG$3,data!$Y29:$AB29,0)),DG31),\"●\"),\"●\"))","v":""},{"$f":"IF(ISERROR(MATCH(view!DH$3,data!$Y29:$AB29,0)),\"\",IFERROR(HYPERLINK(showDetails(INDEX(data!$S29:$V29,MATCH(view!DH$3,data!$Y29:$AB29,0)),DH31),\"●\"),\"●\"))","v":""},{"$f":"IF(ISERROR(MATCH(view!DI$3,data!$Y29:$AB29,0)),\"\",IFERROR(HYPERLINK(showDetails(INDEX(data!$S29:$V29,MATCH(view!DI$3,data!$Y29:$AB29,0)),DI31),\"●\"),\"●\"))","v":""},{"$f":"IF(ISERROR(MATCH(view!DJ$3,data!$Y29:$AB29,0)),\"\",IFERROR(HYPERLINK(showDetails(INDEX(data!$S29:$V29,MATCH(view!DJ$3,data!$Y29:$AB29,0)),DJ31),\"●\"),\"●\"))","v":""},{"$f":"IF(ISERROR(MATCH(view!DK$3,data!$Y29:$AB29,0)),\"\",IFERROR(HYPERLINK(showDetails(INDEX(data!$S29:$V29,MATCH(view!DK$3,data!$Y29:$AB29,0)),DK31),\"●\"),\"●\"))","v":""},{"$f":"IF(ISERROR(MATCH(view!DL$3,data!$Y29:$AB29,0)),\"\",IFERROR(HYPERLINK(showDetails(INDEX(data!$S29:$V29,MATCH(view!DL$3,data!$Y29:$AB29,0)),DL31),\"●\"),\"●\"))","v":""},{"$f":"IF(ISERROR(MATCH(view!DM$3,data!$Y29:$AB29,0)),\"\",IFERROR(HYPERLINK(showDetails(INDEX(data!$S29:$V29,MATCH(view!DM$3,data!$Y29:$AB29,0)),DM31),\"●\"),\"●\"))","v":""},{"$f":"IF(ISERROR(MATCH(view!DN$3,data!$Y29:$AB29,0)),\"\",IFERROR(HYPERLINK(showDetails(INDEX(data!$S29:$V29,MATCH(view!DN$3,data!$Y29:$AB29,0)),DN31),\"●\"),\"●\"))","v":""},{"$f":"IF(ISERROR(MATCH(view!DO$3,data!$Y29:$AB29,0)),\"\",IFERROR(HYPERLINK(showDetails(INDEX(data!$S29:$V29,MATCH(view!DO$3,data!$Y29:$AB29,0)),DO31),\"●\"),\"●\"))","v":""},{"$f":"IF(ISERROR(MATCH(view!DP$3,data!$Y29:$AB29,0)),\"\",IFERROR(HYPERLINK(showDetails(INDEX(data!$S29:$V29,MATCH(view!DP$3,data!$Y29:$AB29,0)),DP31),\"●\"),\"●\"))","v":""},{"$f":"IF(ISERROR(MATCH(view!DQ$3,data!$Y29:$AB29,0)),\"\",IFERROR(HYPERLINK(showDetails(INDEX(data!$S29:$V29,MATCH(view!DQ$3,data!$Y29:$AB29,0)),DQ31),\"●\"),\"●\"))","v":""},{"$f":"IF(ISERROR(MATCH(view!DR$3,data!$Y29:$AB29,0)),\"\",IFERROR(HYPERLINK(showDetails(INDEX(data!$S29:$V29,MATCH(view!DR$3,data!$Y29:$AB29,0)),DR31),\"●\"),\"●\"))","v":""},{"$f":"IF(ISERROR(MATCH(view!DS$3,data!$Y29:$AB29,0)),\"\",IFERROR(HYPERLINK(showDetails(INDEX(data!$S29:$V29,MATCH(view!DS$3,data!$Y29:$AB29,0)),DS31),\"●\"),\"●\"))","v":""},{"$f":"INDEX(lstYears,A31) &\" - \"&INDEX(data!$W$3:$W$30,A31)","v":"1900 - Paris"}]
[28,null,{"$f":"IF(ISERROR(MATCH(view!C$3,data!$Y30:$AB30,0)),\"\",IFERROR(HYPERLINK(showDetails(INDEX(data!$S30:$V30,MATCH(view!C$3,data!$Y30:$AB30,0)),C32),\"●\"),\"●\"))","v":""},{"$f":"IF(ISERROR(MATCH(view!D$3,data!$Y30:$AB30,0)),\"\",IFERROR(HYPERLINK(showDetails(INDEX(data!$S30:$V30,MATCH(view!D$3,data!$Y30:$AB30,0)),D32),\"●\"),\"●\"))","v":""},{"$f":"IF(ISERROR(MATCH(view!E$3,data!$Y30:$AB30,0)),\"\",IFERROR(HYPERLINK(showDetails(INDEX(data!$S30:$V30,MATCH(view!E$3,data!$Y30:$AB30,0)),E32),\"●\"),\"●\"))","v":"●"},{"$f":"IF(ISERROR(MATCH(view!F$3,data!$Y30:$AB30,0)),\"\",IFERROR(HYPERLINK(showDetails(INDEX(data!$S30:$V30,MATCH(view!F$3,data!$Y30:$AB30,0)),F32),\"●\"),\"●\"))","v":""},{"$f":"IF(ISERROR(MATCH(view!G$3,data!$Y30:$AB30,0)),\"\",IFERROR(HYPERLINK(showDetails(INDEX(data!$S30:$V30,MATCH(view!G$3,data!$Y30:$AB30,0)),G32),\"●\"),\"●\"))","v":""},{"$f":"IF(ISERROR(MATCH(view!H$3,data!$Y30:$AB30,0)),\"\",IFERROR(HYPERLINK(showDetails(INDEX(data!$S30:$V30,MATCH(view!H$3,data!$Y30:$AB30,0)),H32),\"●\"),\"●\"))","v":""},{"$f":"IF(ISERROR(MATCH(view!I$3,data!$Y30:$AB30,0)),\"\",IFERROR(HYPERLINK(showDetails(INDEX(data!$S30:$V30,MATCH(view!I$3,data!$Y30:$AB30,0)),I32),\"●\"),\"●\"))","v":""},{"$f":"IF(ISERROR(MATCH(view!J$3,data!$Y30:$AB30,0)),\"\",IFERROR(HYPERLINK(showDetails(INDEX(data!$S30:$V30,MATCH(view!J$3,data!$Y30:$AB30,0)),J32),\"●\"),\"●\"))","v":""},{"$f":"IF(ISERROR(MATCH(view!K$3,data!$Y30:$AB30,0)),\"\",IFERROR(HYPERLINK(showDetails(INDEX(data!$S30:$V30,MATCH(view!K$3,data!$Y30:$AB30,0)),K32),\"●\"),\"●\"))","v":""},{"$f":"IF(ISERROR(MATCH(view!L$3,data!$Y30:$AB30,0)),\"\",IFERROR(HYPERLINK(showDetails(INDEX(data!$S30:$V30,MATCH(view!L$3,data!$Y30:$AB30,0)),L32),\"●\"),\"●\"))","v":""},{"$f":"IF(ISERROR(MATCH(view!M$3,data!$Y30:$AB30,0)),\"\",IFERROR(HYPERLINK(showDetails(INDEX(data!$S30:$V30,MATCH(view!M$3,data!$Y30:$AB30,0)),M32),\"●\"),\"●\"))","v":""},{"$f":"IF(ISERROR(MATCH(view!N$3,data!$Y30:$AB30,0)),\"\",IFERROR(HYPERLINK(showDetails(INDEX(data!$S30:$V30,MATCH(view!N$3,data!$Y30:$AB30,0)),N32),\"●\"),\"●\"))","v":""},{"$f":"IF(ISERROR(MATCH(view!O$3,data!$Y30:$AB30,0)),\"\",IFERROR(HYPERLINK(showDetails(INDEX(data!$S30:$V30,MATCH(view!O$3,data!$Y30:$AB30,0)),O32),\"●\"),\"●\"))","v":""},{"$f":"IF(ISERROR(MATCH(view!P$3,data!$Y30:$AB30,0)),\"\",IFERROR(HYPERLINK(showDetails(INDEX(data!$S30:$V30,MATCH(view!P$3,data!$Y30:$AB30,0)),P32),\"●\"),\"●\"))","v":""},{"$f":"IF(ISERROR(MATCH(view!Q$3,data!$Y30:$AB30,0)),\"\",IFERROR(HYPERLINK(showDetails(INDEX(data!$S30:$V30,MATCH(view!Q$3,data!$Y30:$AB30,0)),Q32),\"●\"),\"●\"))","v":"●"},{"$f":"IF(ISERROR(MATCH(view!R$3,data!$Y30:$AB30,0)),\"\",IFERROR(HYPERLINK(showDetails(INDEX(data!$S30:$V30,MATCH(view!R$3,data!$Y30:$AB30,0)),R32),\"●\"),\"●\"))","v":""},{"$f":"IF(ISERROR(MATCH(view!S$3,data!$Y30:$AB30,0)),\"\",IFERROR(HYPERLINK(showDetails(INDEX(data!$S30:$V30,MATCH(view!S$3,data!$Y30:$AB30,0)),S32),\"●\"),\"●\"))","v":""},{"$f":"IF(ISERROR(MATCH(view!T$3,data!$Y30:$AB30,0)),\"\",IFERROR(HYPERLINK(showDetails(INDEX(data!$S30:$V30,MATCH(view!T$3,data!$Y30:$AB30,0)),T32),\"●\"),\"●\"))","v":""},{"$f":"IF(ISERROR(MATCH(view!U$3,data!$Y30:$AB30,0)),\"\",IFERROR(HYPERLINK(showDetails(INDEX(data!$S30:$V30,MATCH(view!U$3,data!$Y30:$AB30,0)),U32),\"●\"),\"●\"))","v":""},{"$f":"IF(ISERROR(MATCH(view!V$3,data!$Y30:$AB30,0)),\"\",IFERROR(HYPERLINK(showDetails(INDEX(data!$S30:$V30,MATCH(view!V$3,data!$Y30:$AB30,0)),V32),\"●\"),\"●\"))","v":""},{"$f":"IF(ISERROR(MATCH(view!W$3,data!$Y30:$AB30,0)),\"\",IFERROR(HYPERLINK(showDetails(INDEX(data!$S30:$V30,MATCH(view!W$3,data!$Y30:$AB30,0)),W32),\"●\"),\"●\"))","v":""},{"$f":"IF(ISERROR(MATCH(view!X$3,data!$Y30:$AB30,0)),\"\",IFERROR(HYPERLINK(showDetails(INDEX(data!$S30:$V30,MATCH(view!X$3,data!$Y30:$AB30,0)),X32),\"●\"),\"●\"))","v":"●"},{"$f":"IF(ISERROR(MATCH(view!Y$3,data!$Y30:$AB30,0)),\"\",IFERROR(HYPERLINK(showDetails(INDEX(data!$S30:$V30,MATCH(view!Y$3,data!$Y30:$AB30,0)),Y32),\"●\"),\"●\"))","v":""},{"$f":"IF(ISERROR(MATCH(view!Z$3,data!$Y30:$AB30,0)),\"\",IFERROR(HYPERLINK(showDetails(INDEX(data!$S30:$V30,MATCH(view!Z$3,data!$Y30:$AB30,0)),Z32),\"●\"),\"●\"))","v":""},{"$f":"IF(ISERROR(MATCH(view!AA$3,data!$Y30:$AB30,0)),\"\",IFERROR(HYPERLINK(showDetails(INDEX(data!$S30:$V30,MATCH(view!AA$3,data!$Y30:$AB30,0)),AA32),\"●\"),\"●\"))","v":""},{"$f":"IF(ISERROR(MATCH(view!AB$3,data!$Y30:$AB30,0)),\"\",IFERROR(HYPERLINK(showDetails(INDEX(data!$S30:$V30,MATCH(view!AB$3,data!$Y30:$AB30,0)),AB32),\"●\"),\"●\"))","v":""},{"$f":"IF(ISERROR(MATCH(view!AC$3,data!$Y30:$AB30,0)),\"\",IFERROR(HYPERLINK(showDetails(INDEX(data!$S30:$V30,MATCH(view!AC$3,data!$Y30:$AB30,0)),AC32),\"●\"),\"●\"))","v":""},{"$f":"IF(ISERROR(MATCH(view!AD$3,data!$Y30:$AB30,0)),\"\",IFERROR(HYPERLINK(showDetails(INDEX(data!$S30:$V30,MATCH(view!AD$3,data!$Y30:$AB30,0)),AD32),\"●\"),\"●\"))","v":""},{"$f":"IF(ISERROR(MATCH(view!AE$3,data!$Y30:$AB30,0)),\"\",IFERROR(HYPERLINK(showDetails(INDEX(data!$S30:$V30,MATCH(view!AE$3,data!$Y30:$AB30,0)),AE32),\"●\"),\"●\"))","v":""},{"$f":"IF(ISERROR(MATCH(view!AF$3,data!$Y30:$AB30,0)),\"\",IFERROR(HYPERLINK(showDetails(INDEX(data!$S30:$V30,MATCH(view!AF$3,data!$Y30:$AB30,0)),AF32),\"●\"),\"●\"))","v":""},{"$f":"IF(ISERROR(MATCH(view!AG$3,data!$Y30:$AB30,0)),\"\",IFERROR(HYPERLINK(showDetails(INDEX(data!$S30:$V30,MATCH(view!AG$3,data!$Y30:$AB30,0)),AG32),\"●\"),\"●\"))","v":""},{"$f":"IF(ISERROR(MATCH(view!AH$3,data!$Y30:$AB30,0)),\"\",IFERROR(HYPERLINK(showDetails(INDEX(data!$S30:$V30,MATCH(view!AH$3,data!$Y30:$AB30,0)),AH32),\"●\"),\"●\"))","v":""},{"$f":"IF(ISERROR(MATCH(view!AI$3,data!$Y30:$AB30,0)),\"\",IFERROR(HYPERLINK(showDetails(INDEX(data!$S30:$V30,MATCH(view!AI$3,data!$Y30:$AB30,0)),AI32),\"●\"),\"●\"))","v":""},{"$f":"IF(ISERROR(MATCH(view!AJ$3,data!$Y30:$AB30,0)),\"\",IFERROR(HYPERLINK(showDetails(INDEX(data!$S30:$V30,MATCH(view!AJ$3,data!$Y30:$AB30,0)),AJ32),\"●\"),\"●\"))","v":""},{"$f":"IF(ISERROR(MATCH(view!AK$3,data!$Y30:$AB30,0)),\"\",IFERROR(HYPERLINK(showDetails(INDEX(data!$S30:$V30,MATCH(view!AK$3,data!$Y30:$AB30,0)),AK32),\"●\"),\"●\"))","v":""},{"$f":"IF(ISERROR(MATCH(view!AL$3,data!$Y30:$AB30,0)),\"\",IFERROR(HYPERLINK(showDetails(INDEX(data!$S30:$V30,MATCH(view!AL$3,data!$Y30:$AB30,0)),AL32),\"●\"),\"●\"))","v":""},{"$f":"IF(ISERROR(MATCH(view!AM$3,data!$Y30:$AB30,0)),\"\",IFERROR(HYPERLINK(showDetails(INDEX(data!$S30:$V30,MATCH(view!AM$3,data!$Y30:$AB30,0)),AM32),\"●\"),\"●\"))","v":""},{"$f":"IF(ISERROR(MATCH(view!AN$3,data!$Y30:$AB30,0)),\"\",IFERROR(HYPERLINK(showDetails(INDEX(data!$S30:$V30,MATCH(view!AN$3,data!$Y30:$AB30,0)),AN32),\"●\"),\"●\"))","v":""},{"$f":"IF(ISERROR(MATCH(view!AO$3,data!$Y30:$AB30,0)),\"\",IFERROR(HYPERLINK(showDetails(INDEX(data!$S30:$V30,MATCH(view!AO$3,data!$Y30:$AB30,0)),AO32),\"●\"),\"●\"))","v":""},{"$f":"IF(ISERROR(MATCH(view!AP$3,data!$Y30:$AB30,0)),\"\",IFERROR(HYPERLINK(showDetails(INDEX(data!$S30:$V30,MATCH(view!AP$3,data!$Y30:$AB30,0)),AP32),\"●\"),\"●\"))","v":""},{"$f":"IF(ISERROR(MATCH(view!AQ$3,data!$Y30:$AB30,0)),\"\",IFERROR(HYPERLINK(showDetails(INDEX(data!$S30:$V30,MATCH(view!AQ$3,data!$Y30:$AB30,0)),AQ32),\"●\"),\"●\"))","v":""},{"$f":"IF(ISERROR(MATCH(view!AR$3,data!$Y30:$AB30,0)),\"\",IFERROR(HYPERLINK(showDetails(INDEX(data!$S30:$V30,MATCH(view!AR$3,data!$Y30:$AB30,0)),AR32),\"●\"),\"●\"))","v":""},{"$f":"IF(ISERROR(MATCH(view!AS$3,data!$Y30:$AB30,0)),\"\",IFERROR(HYPERLINK(showDetails(INDEX(data!$S30:$V30,MATCH(view!AS$3,data!$Y30:$AB30,0)),AS32),\"●\"),\"●\"))","v":""},{"$f":"IF(ISERROR(MATCH(view!AT$3,data!$Y30:$AB30,0)),\"\",IFERROR(HYPERLINK(showDetails(INDEX(data!$S30:$V30,MATCH(view!AT$3,data!$Y30:$AB30,0)),AT32),\"●\"),\"●\"))","v":""},{"$f":"IF(ISERROR(MATCH(view!AU$3,data!$Y30:$AB30,0)),\"\",IFERROR(HYPERLINK(showDetails(INDEX(data!$S30:$V30,MATCH(view!AU$3,data!$Y30:$AB30,0)),AU32),\"●\"),\"●\"))","v":""},{"$f":"IF(ISERROR(MATCH(view!AV$3,data!$Y30:$AB30,0)),\"\",IFERROR(HYPERLINK(showDetails(INDEX(data!$S30:$V30,MATCH(view!AV$3,data!$Y30:$AB30,0)),AV32),\"●\"),\"●\"))","v":""},{"$f":"IF(ISERROR(MATCH(view!AW$3,data!$Y30:$AB30,0)),\"\",IFERROR(HYPERLINK(showDetails(INDEX(data!$S30:$V30,MATCH(view!AW$3,data!$Y30:$AB30,0)),AW32),\"●\"),\"●\"))","v":""},{"$f":"IF(ISERROR(MATCH(view!AX$3,data!$Y30:$AB30,0)),\"\",IFERROR(HYPERLINK(showDetails(INDEX(data!$S30:$V30,MATCH(view!AX$3,data!$Y30:$AB30,0)),AX32),\"●\"),\"●\"))","v":""},{"$f":"IF(ISERROR(MATCH(view!AY$3,data!$Y30:$AB30,0)),\"\",IFERROR(HYPERLINK(showDetails(INDEX(data!$S30:$V30,MATCH(view!AY$3,data!$Y30:$AB30,0)),AY32),\"●\"),\"●\"))","v":""},{"$f":"IF(ISERROR(MATCH(view!AZ$3,data!$Y30:$AB30,0)),\"\",IFERROR(HYPERLINK(showDetails(INDEX(data!$S30:$V30,MATCH(view!AZ$3,data!$Y30:$AB30,0)),AZ32),\"●\"),\"●\"))","v":""},{"$f":"IF(ISERROR(MATCH(view!BA$3,data!$Y30:$AB30,0)),\"\",IFERROR(HYPERLINK(showDetails(INDEX(data!$S30:$V30,MATCH(view!BA$3,data!$Y30:$AB30,0)),BA32),\"●\"),\"●\"))","v":""},{"$f":"IF(ISERROR(MATCH(view!BB$3,data!$Y30:$AB30,0)),\"\",IFERROR(HYPERLINK(showDetails(INDEX(data!$S30:$V30,MATCH(view!BB$3,data!$Y30:$AB30,0)),BB32),\"●\"),\"●\"))","v":""},{"$f":"IF(ISERROR(MATCH(view!BC$3,data!$Y30:$AB30,0)),\"\",IFERROR(HYPERLINK(showDetails(INDEX(data!$S30:$V30,MATCH(view!BC$3,data!$Y30:$AB30,0)),BC32),\"●\"),\"●\"))","v":""},{"$f":"IF(ISERROR(MATCH(view!BD$3,data!$Y30:$AB30,0)),\"\",IFERROR(HYPERLINK(showDetails(INDEX(data!$S30:$V30,MATCH(view!BD$3,data!$Y30:$AB30,0)),BD32),\"●\"),\"●\"))","v":""},{"$f":"IF(ISERROR(MATCH(view!BE$3,data!$Y30:$AB30,0)),\"\",IFERROR(HYPERLINK(showDetails(INDEX(data!$S30:$V30,MATCH(view!BE$3,data!$Y30:$AB30,0)),BE32),\"●\"),\"●\"))","v":""},{"$f":"IF(ISERROR(MATCH(view!BF$3,data!$Y30:$AB30,0)),\"\",IFERROR(HYPERLINK(showDetails(INDEX(data!$S30:$V30,MATCH(view!BF$3,data!$Y30:$AB30,0)),BF32),\"●\"),\"●\"))","v":""},{"$f":"IF(ISERROR(MATCH(view!BG$3,data!$Y30:$AB30,0)),\"\",IFERROR(HYPERLINK(showDetails(INDEX(data!$S30:$V30,MATCH(view!BG$3,data!$Y30:$AB30,0)),BG32),\"●\"),\"●\"))","v":""},{"$f":"IF(ISERROR(MATCH(view!BH$3,data!$Y30:$AB30,0)),\"\",IFERROR(HYPERLINK(showDetails(INDEX(data!$S30:$V30,MATCH(view!BH$3,data!$Y30:$AB30,0)),BH32),\"●\"),\"●\"))","v":""},{"$f":"IF(ISERROR(MATCH(view!BI$3,data!$Y30:$AB30,0)),\"\",IFERROR(HYPERLINK(showDetails(INDEX(data!$S30:$V30,MATCH(view!BI$3,data!$Y30:$AB30,0)),BI32),\"●\"),\"●\"))","v":""},{"$f":"IF(ISERROR(MATCH(view!BJ$3,data!$Y30:$AB30,0)),\"\",IFERROR(HYPERLINK(showDetails(INDEX(data!$S30:$V30,MATCH(view!BJ$3,data!$Y30:$AB30,0)),BJ32),\"●\"),\"●\"))","v":""},{"$f":"IF(ISERROR(MATCH(view!BK$3,data!$Y30:$AB30,0)),\"\",IFERROR(HYPERLINK(showDetails(INDEX(data!$S30:$V30,MATCH(view!BK$3,data!$Y30:$AB30,0)),BK32),\"●\"),\"●\"))","v":""},{"$f":"IF(ISERROR(MATCH(view!BL$3,data!$Y30:$AB30,0)),\"\",IFERROR(HYPERLINK(showDetails(INDEX(data!$S30:$V30,MATCH(view!BL$3,data!$Y30:$AB30,0)),BL32),\"●\"),\"●\"))","v":""},{"$f":"IF(ISERROR(MATCH(view!BM$3,data!$Y30:$AB30,0)),\"\",IFERROR(HYPERLINK(showDetails(INDEX(data!$S30:$V30,MATCH(view!BM$3,data!$Y30:$AB30,0)),BM32),\"●\"),\"●\"))","v":""},{"$f":"IF(ISERROR(MATCH(view!BN$3,data!$Y30:$AB30,0)),\"\",IFERROR(HYPERLINK(showDetails(INDEX(data!$S30:$V30,MATCH(view!BN$3,data!$Y30:$AB30,0)),BN32),\"●\"),\"●\"))","v":""},{"$f":"IF(ISERROR(MATCH(view!BO$3,data!$Y30:$AB30,0)),\"\",IFERROR(HYPERLINK(showDetails(INDEX(data!$S30:$V30,MATCH(view!BO$3,data!$Y30:$AB30,0)),BO32),\"●\"),\"●\"))","v":""},{"$f":"IF(ISERROR(MATCH(view!BP$3,data!$Y30:$AB30,0)),\"\",IFERROR(HYPERLINK(showDetails(INDEX(data!$S30:$V30,MATCH(view!BP$3,data!$Y30:$AB30,0)),BP32),\"●\"),\"●\"))","v":""},{"$f":"IF(ISERROR(MATCH(view!BQ$3,data!$Y30:$AB30,0)),\"\",IFERROR(HYPERLINK(showDetails(INDEX(data!$S30:$V30,MATCH(view!BQ$3,data!$Y30:$AB30,0)),BQ32),\"●\"),\"●\"))","v":""},{"$f":"IF(ISERROR(MATCH(view!BR$3,data!$Y30:$AB30,0)),\"\",IFERROR(HYPERLINK(showDetails(INDEX(data!$S30:$V30,MATCH(view!BR$3,data!$Y30:$AB30,0)),BR32),\"●\"),\"●\"))","v":""},{"$f":"IF(ISERROR(MATCH(view!BS$3,data!$Y30:$AB30,0)),\"\",IFERROR(HYPERLINK(showDetails(INDEX(data!$S30:$V30,MATCH(view!BS$3,data!$Y30:$AB30,0)),BS32),\"●\"),\"●\"))","v":""},{"$f":"IF(ISERROR(MATCH(view!BT$3,data!$Y30:$AB30,0)),\"\",IFERROR(HYPERLINK(showDetails(INDEX(data!$S30:$V30,MATCH(view!BT$3,data!$Y30:$AB30,0)),BT32),\"●\"),\"●\"))","v":""},{"$f":"IF(ISERROR(MATCH(view!BU$3,data!$Y30:$AB30,0)),\"\",IFERROR(HYPERLINK(showDetails(INDEX(data!$S30:$V30,MATCH(view!BU$3,data!$Y30:$AB30,0)),BU32),\"●\"),\"●\"))","v":""},{"$f":"IF(ISERROR(MATCH(view!BV$3,data!$Y30:$AB30,0)),\"\",IFERROR(HYPERLINK(showDetails(INDEX(data!$S30:$V30,MATCH(view!BV$3,data!$Y30:$AB30,0)),BV32),\"●\"),\"●\"))","v":""},{"$f":"IF(ISERROR(MATCH(view!BW$3,data!$Y30:$AB30,0)),\"\",IFERROR(HYPERLINK(showDetails(INDEX(data!$S30:$V30,MATCH(view!BW$3,data!$Y30:$AB30,0)),BW32),\"●\"),\"●\"))","v":""},{"$f":"IF(ISERROR(MATCH(view!BX$3,data!$Y30:$AB30,0)),\"\",IFERROR(HYPERLINK(showDetails(INDEX(data!$S30:$V30,MATCH(view!BX$3,data!$Y30:$AB30,0)),BX32),\"●\"),\"●\"))","v":""},{"$f":"IF(ISERROR(MATCH(view!BY$3,data!$Y30:$AB30,0)),\"\",IFERROR(HYPERLINK(showDetails(INDEX(data!$S30:$V30,MATCH(view!BY$3,data!$Y30:$AB30,0)),BY32),\"●\"),\"●\"))","v":""},{"$f":"IF(ISERROR(MATCH(view!BZ$3,data!$Y30:$AB30,0)),\"\",IFERROR(HYPERLINK(showDetails(INDEX(data!$S30:$V30,MATCH(view!BZ$3,data!$Y30:$AB30,0)),BZ32),\"●\"),\"●\"))","v":""},{"$f":"IF(ISERROR(MATCH(view!CA$3,data!$Y30:$AB30,0)),\"\",IFERROR(HYPERLINK(showDetails(INDEX(data!$S30:$V30,MATCH(view!CA$3,data!$Y30:$AB30,0)),CA32),\"●\"),\"●\"))","v":""},{"$f":"IF(ISERROR(MATCH(view!CB$3,data!$Y30:$AB30,0)),\"\",IFERROR(HYPERLINK(showDetails(INDEX(data!$S30:$V30,MATCH(view!CB$3,data!$Y30:$AB30,0)),CB32),\"●\"),\"●\"))","v":""},{"$f":"IF(ISERROR(MATCH(view!CC$3,data!$Y30:$AB30,0)),\"\",IFERROR(HYPERLINK(showDetails(INDEX(data!$S30:$V30,MATCH(view!CC$3,data!$Y30:$AB30,0)),CC32),\"●\"),\"●\"))","v":""},{"$f":"IF(ISERROR(MATCH(view!CD$3,data!$Y30:$AB30,0)),\"\",IFERROR(HYPERLINK(showDetails(INDEX(data!$S30:$V30,MATCH(view!CD$3,data!$Y30:$AB30,0)),CD32),\"●\"),\"●\"))","v":""},{"$f":"IF(ISERROR(MATCH(view!CE$3,data!$Y30:$AB30,0)),\"\",IFERROR(HYPERLINK(showDetails(INDEX(data!$S30:$V30,MATCH(view!CE$3,data!$Y30:$AB30,0)),CE32),\"●\"),\"●\"))","v":""},{"$f":"IF(ISERROR(MATCH(view!CF$3,data!$Y30:$AB30,0)),\"\",IFERROR(HYPERLINK(showDetails(INDEX(data!$S30:$V30,MATCH(view!CF$3,data!$Y30:$AB30,0)),CF32),\"●\"),\"●\"))","v":""},{"$f":"IF(ISERROR(MATCH(view!CG$3,data!$Y30:$AB30,0)),\"\",IFERROR(HYPERLINK(showDetails(INDEX(data!$S30:$V30,MATCH(view!CG$3,data!$Y30:$AB30,0)),CG32),\"●\"),\"●\"))","v":""},{"$f":"IF(ISERROR(MATCH(view!CH$3,data!$Y30:$AB30,0)),\"\",IFERROR(HYPERLINK(showDetails(INDEX(data!$S30:$V30,MATCH(view!CH$3,data!$Y30:$AB30,0)),CH32),\"●\"),\"●\"))","v":""},{"$f":"IF(ISERROR(MATCH(view!CI$3,data!$Y30:$AB30,0)),\"\",IFERROR(HYPERLINK(showDetails(INDEX(data!$S30:$V30,MATCH(view!CI$3,data!$Y30:$AB30,0)),CI32),\"●\"),\"●\"))","v":""},{"$f":"IF(ISERROR(MATCH(view!CJ$3,data!$Y30:$AB30,0)),\"\",IFERROR(HYPERLINK(showDetails(INDEX(data!$S30:$V30,MATCH(view!CJ$3,data!$Y30:$AB30,0)),CJ32),\"●\"),\"●\"))","v":""},{"$f":"IF(ISERROR(MATCH(view!CK$3,data!$Y30:$AB30,0)),\"\",IFERROR(HYPERLINK(showDetails(INDEX(data!$S30:$V30,MATCH(view!CK$3,data!$Y30:$AB30,0)),CK32),\"●\"),\"●\"))","v":""},{"$f":"IF(ISERROR(MATCH(view!CL$3,data!$Y30:$AB30,0)),\"\",IFERROR(HYPERLINK(showDetails(INDEX(data!$S30:$V30,MATCH(view!CL$3,data!$Y30:$AB30,0)),CL32),\"●\"),\"●\"))","v":""},{"$f":"IF(ISERROR(MATCH(view!CM$3,data!$Y30:$AB30,0)),\"\",IFERROR(HYPERLINK(showDetails(INDEX(data!$S30:$V30,MATCH(view!CM$3,data!$Y30:$AB30,0)),CM32),\"●\"),\"●\"))","v":""},{"$f":"IF(ISERROR(MATCH(view!CN$3,data!$Y30:$AB30,0)),\"\",IFERROR(HYPERLINK(showDetails(INDEX(data!$S30:$V30,MATCH(view!CN$3,data!$Y30:$AB30,0)),CN32),\"●\"),\"●\"))","v":""},{"$f":"IF(ISERROR(MATCH(view!CO$3,data!$Y30:$AB30,0)),\"\",IFERROR(HYPERLINK(showDetails(INDEX(data!$S30:$V30,MATCH(view!CO$3,data!$Y30:$AB30,0)),CO32),\"●\"),\"●\"))","v":""},{"$f":"IF(ISERROR(MATCH(view!CP$3,data!$Y30:$AB30,0)),\"\",IFERROR(HYPERLINK(showDetails(INDEX(data!$S30:$V30,MATCH(view!CP$3,data!$Y30:$AB30,0)),CP32),\"●\"),\"●\"))","v":""},{"$f":"IF(ISERROR(MATCH(view!CQ$3,data!$Y30:$AB30,0)),\"\",IFERROR(HYPERLINK(showDetails(INDEX(data!$S30:$V30,MATCH(view!CQ$3,data!$Y30:$AB30,0)),CQ32),\"●\"),\"●\"))","v":""},{"$f":"IF(ISERROR(MATCH(view!CR$3,data!$Y30:$AB30,0)),\"\",IFERROR(HYPERLINK(showDetails(INDEX(data!$S30:$V30,MATCH(view!CR$3,data!$Y30:$AB30,0)),CR32),\"●\"),\"●\"))","v":""},{"$f":"IF(ISERROR(MATCH(view!CS$3,data!$Y30:$AB30,0)),\"\",IFERROR(HYPERLINK(showDetails(INDEX(data!$S30:$V30,MATCH(view!CS$3,data!$Y30:$AB30,0)),CS32),\"●\"),\"●\"))","v":""},{"$f":"IF(ISERROR(MATCH(view!CT$3,data!$Y30:$AB30,0)),\"\",IFERROR(HYPERLINK(showDetails(INDEX(data!$S30:$V30,MATCH(view!CT$3,data!$Y30:$AB30,0)),CT32),\"●\"),\"●\"))","v":""},{"$f":"IF(ISERROR(MATCH(view!CU$3,data!$Y30:$AB30,0)),\"\",IFERROR(HYPERLINK(showDetails(INDEX(data!$S30:$V30,MATCH(view!CU$3,data!$Y30:$AB30,0)),CU32),\"●\"),\"●\"))","v":""},{"$f":"IF(ISERROR(MATCH(view!CV$3,data!$Y30:$AB30,0)),\"\",IFERROR(HYPERLINK(showDetails(INDEX(data!$S30:$V30,MATCH(view!CV$3,data!$Y30:$AB30,0)),CV32),\"●\"),\"●\"))","v":""},{"$f":"IF(ISERROR(MATCH(view!CW$3,data!$Y30:$AB30,0)),\"\",IFERROR(HYPERLINK(showDetails(INDEX(data!$S30:$V30,MATCH(view!CW$3,data!$Y30:$AB30,0)),CW32),\"●\"),\"●\"))","v":""},{"$f":"IF(ISERROR(MATCH(view!CX$3,data!$Y30:$AB30,0)),\"\",IFERROR(HYPERLINK(showDetails(INDEX(data!$S30:$V30,MATCH(view!CX$3,data!$Y30:$AB30,0)),CX32),\"●\"),\"●\"))","v":""},{"$f":"IF(ISERROR(MATCH(view!CY$3,data!$Y30:$AB30,0)),\"\",IFERROR(HYPERLINK(showDetails(INDEX(data!$S30:$V30,MATCH(view!CY$3,data!$Y30:$AB30,0)),CY32),\"●\"),\"●\"))","v":""},{"$f":"IF(ISERROR(MATCH(view!CZ$3,data!$Y30:$AB30,0)),\"\",IFERROR(HYPERLINK(showDetails(INDEX(data!$S30:$V30,MATCH(view!CZ$3,data!$Y30:$AB30,0)),CZ32),\"●\"),\"●\"))","v":""},{"$f":"IF(ISERROR(MATCH(view!DA$3,data!$Y30:$AB30,0)),\"\",IFERROR(HYPERLINK(showDetails(INDEX(data!$S30:$V30,MATCH(view!DA$3,data!$Y30:$AB30,0)),DA32),\"●\"),\"●\"))","v":""},{"$f":"IF(ISERROR(MATCH(view!DB$3,data!$Y30:$AB30,0)),\"\",IFERROR(HYPERLINK(showDetails(INDEX(data!$S30:$V30,MATCH(view!DB$3,data!$Y30:$AB30,0)),DB32),\"●\"),\"●\"))","v":""},{"$f":"IF(ISERROR(MATCH(view!DC$3,data!$Y30:$AB30,0)),\"\",IFERROR(HYPERLINK(showDetails(INDEX(data!$S30:$V30,MATCH(view!DC$3,data!$Y30:$AB30,0)),DC32),\"●\"),\"●\"))","v":""},{"$f":"IF(ISERROR(MATCH(view!DD$3,data!$Y30:$AB30,0)),\"\",IFERROR(HYPERLINK(showDetails(INDEX(data!$S30:$V30,MATCH(view!DD$3,data!$Y30:$AB30,0)),DD32),\"●\"),\"●\"))","v":""},{"$f":"IF(ISERROR(MATCH(view!DE$3,data!$Y30:$AB30,0)),\"\",IFERROR(HYPERLINK(showDetails(INDEX(data!$S30:$V30,MATCH(view!DE$3,data!$Y30:$AB30,0)),DE32),\"●\"),\"●\"))","v":""},{"$f":"IF(ISERROR(MATCH(view!DF$3,data!$Y30:$AB30,0)),\"\",IFERROR(HYPERLINK(showDetails(INDEX(data!$S30:$V30,MATCH(view!DF$3,data!$Y30:$AB30,0)),DF32),\"●\"),\"●\"))","v":""},{"$f":"IF(ISERROR(MATCH(view!DG$3,data!$Y30:$AB30,0)),\"\",IFERROR(HYPERLINK(showDetails(INDEX(data!$S30:$V30,MATCH(view!DG$3,data!$Y30:$AB30,0)),DG32),\"●\"),\"●\"))","v":""},{"$f":"IF(ISERROR(MATCH(view!DH$3,data!$Y30:$AB30,0)),\"\",IFERROR(HYPERLINK(showDetails(INDEX(data!$S30:$V30,MATCH(view!DH$3,data!$Y30:$AB30,0)),DH32),\"●\"),\"●\"))","v":""},{"$f":"IF(ISERROR(MATCH(view!DI$3,data!$Y30:$AB30,0)),\"\",IFERROR(HYPERLINK(showDetails(INDEX(data!$S30:$V30,MATCH(view!DI$3,data!$Y30:$AB30,0)),DI32),\"●\"),\"●\"))","v":""},{"$f":"IF(ISERROR(MATCH(view!DJ$3,data!$Y30:$AB30,0)),\"\",IFERROR(HYPERLINK(showDetails(INDEX(data!$S30:$V30,MATCH(view!DJ$3,data!$Y30:$AB30,0)),DJ32),\"●\"),\"●\"))","v":""},{"$f":"IF(ISERROR(MATCH(view!DK$3,data!$Y30:$AB30,0)),\"\",IFERROR(HYPERLINK(showDetails(INDEX(data!$S30:$V30,MATCH(view!DK$3,data!$Y30:$AB30,0)),DK32),\"●\"),\"●\"))","v":""},{"$f":"IF(ISERROR(MATCH(view!DL$3,data!$Y30:$AB30,0)),\"\",IFERROR(HYPERLINK(showDetails(INDEX(data!$S30:$V30,MATCH(view!DL$3,data!$Y30:$AB30,0)),DL32),\"●\"),\"●\"))","v":""},{"$f":"IF(ISERROR(MATCH(view!DM$3,data!$Y30:$AB30,0)),\"\",IFERROR(HYPERLINK(showDetails(INDEX(data!$S30:$V30,MATCH(view!DM$3,data!$Y30:$AB30,0)),DM32),\"●\"),\"●\"))","v":""},{"$f":"IF(ISERROR(MATCH(view!DN$3,data!$Y30:$AB30,0)),\"\",IFERROR(HYPERLINK(showDetails(INDEX(data!$S30:$V30,MATCH(view!DN$3,data!$Y30:$AB30,0)),DN32),\"●\"),\"●\"))","v":""},{"$f":"IF(ISERROR(MATCH(view!DO$3,data!$Y30:$AB30,0)),\"\",IFERROR(HYPERLINK(showDetails(INDEX(data!$S30:$V30,MATCH(view!DO$3,data!$Y30:$AB30,0)),DO32),\"●\"),\"●\"))","v":""},{"$f":"IF(ISERROR(MATCH(view!DP$3,data!$Y30:$AB30,0)),\"\",IFERROR(HYPERLINK(showDetails(INDEX(data!$S30:$V30,MATCH(view!DP$3,data!$Y30:$AB30,0)),DP32),\"●\"),\"●\"))","v":""},{"$f":"IF(ISERROR(MATCH(view!DQ$3,data!$Y30:$AB30,0)),\"\",IFERROR(HYPERLINK(showDetails(INDEX(data!$S30:$V30,MATCH(view!DQ$3,data!$Y30:$AB30,0)),DQ32),\"●\"),\"●\"))","v":""},{"$f":"IF(ISERROR(MATCH(view!DR$3,data!$Y30:$AB30,0)),\"\",IFERROR(HYPERLINK(showDetails(INDEX(data!$S30:$V30,MATCH(view!DR$3,data!$Y30:$AB30,0)),DR32),\"●\"),\"●\"))","v":""},{"$f":"IF(ISERROR(MATCH(view!DS$3,data!$Y30:$AB30,0)),\"\",IFERROR(HYPERLINK(showDetails(INDEX(data!$S30:$V30,MATCH(view!DS$3,data!$Y30:$AB30,0)),DS32),\"●\"),\"●\"))","v":""},{"$f":"INDEX(lstYears,A32) &\" - \"&INDEX(data!$W$3:$W$30,A32)","v":"1896 - Athens"}]
[null,null,24,null,null,null,null,null,null,null,null,null,null,null,null,null,null,null,null,null,null,20,null,null,null,null,null,null,null,null,null,null,null,null,null,null,null,null,null,null,null,null,null,null,null,null,null,null,null,15,null,null,null,null,null,null,null,null,null,null,null,null,null,null,null,null,null,null,null,null,null,10,null,null,null,null,null,null,null,null,null,null,null,null,null,null,null,null,null,null,null,null,null,null,null,null,null,5,5,null,null,null,null,null,null,null,null,null,null,null,null,null,null,null,null,null,null,null,null,null,null,0]
[]
[]
[]
[]
[]
[null,null,"How this works?"]
[]
[null,null,"On Mouseover effect using Hyperlinks"]
[null,null,"Conditional Formatting"]
[null,null,"Form controls"]
[null,null,"More on Chandoo.org"]