{"text_format":"1","workbook":"xlsx","n_sheets":8,"sheets":["DB","Support","Calculations","PvtPlayers","PvtTeams","PvtDiv","raw","Sheet1"],"not_rendered":{"charts":9,"images":0,"macros":1,"external_links":0,"defined_names":50,"comments":0,"pivot_tables":3},"unopened":[],"bounds":{"document_bytes":16777216,"sheet_cells":100000,"rows_first":2000,"rows_last":500,"rows_between":2000,"halvings":0,"cell_chars":16384,"cell_head_chars":4096},"cells_cut":0,"cells_raw":0,"read":"whole","date_system":"1900"}

{"sheet":"DB","index":0,"n_rows":20,"n_cols":15,"rows_kept":20,"cut":false,"hidden":false,"merged":[[2,8,2,11],[19,14,19,15],[19,2,19,3],[19,4,19,5],[19,6,19,7],[19,8,19,9],[19,10,19,11],[19,12,19,13]]}
[]
[]
[]
[]
[]
[]
[]
[]
[]
[]
[]
[]
[]
[]
[]
[]
[]
[null,null,null,null,null,null,null,null,null,null,null,null,"Choose Sorting Criteria"]
[]
[null,null,"Salary",null,"Innings Pitched",null,"ERA",null,"WHIP",null,"K/9IP",null,"H/9IP",null,"K's-H's"]

{"sheet":"Support","index":1,"n_rows":31,"n_cols":17,"rows_kept":31,"cut":false,"hidden":false,"merged":[]}
["drpYear",14]
["usYear",{"$f":"INDEX(lstYears,drpYear,1)","v":2008}]
["drpTeam",3]
["usTeam",{"$f":"INDEX(dnrTeamName,drpTeam,1)","v":"Boston Red Sox"}]
["drpStat",1]
["usStat",{"$f":"INDEX(lstTeamStats,drpStat,1)","v":"Average of Team W"}]
["usTeamDiv",{"$f":"GETPIVOTDATA(\"Average of LGDIV ID\",PvtTeams!$A$3,\"Team Name\",usTeam)","v":21}]
["usTeamDivA",{"$f":"VLOOKUP(B7,ludivs,2,FALSE)","v":"AL-E"}]
["drpSortStat",1]
["usSortStat",{"$f":"INDEX(lstPlayerStats,drpSortStat,1)","v":"Sum of Player Salary"}]
["drpSortMethod",2]
["usSortMethod",{"$f":"INDEX(lstSortMethod,drpSortMethod,1)","v":"Descending"}]
["drpPlayerFilter",3]
["usPlayerFilter",{"$f":"INDEX(lstPlayerFilter,drpPlayerFilter,1)","v":"Bullpen"}]
[]
[1995,null,"Wins","Average of Team W",null,null,null,null,"Sum of Player Salary",null,null,22,"AL-C",null,"Ascending",null,"All"]
[1996,null,"ERA","Average of Team ERA",null,null,null,null,"Sum of Innings Pitched",null,null,21,"AL-E",null,"Descending",null,"Starters"]
[1997,null,"K/9IP","Average of Team K/9IP",null,null,null,null,"Sum of Player ERA",null,null,23,"AL-W",null,null,null,"Bullpen"]
[1998,null,"H/9IP","Average of Team H/9IP",null,null,null,null,"Sum of Player WHIP",null,null,12,"NL-C"]
[1999,null,"WHIP","Average of Team WHIP",null,null,null,null,"Sum of Player K/9IP",null,null,11,"NL-E"]
[2000,null,null,"Average of Team L",null,null,null,null,"Sum of Player H/9IP",null,null,13,"NL-W"]
[2001,null,null,null,null,null,null,null,"Sum of Player K-H"]
[2002]
[2003]
[2004]
[2005]
[2006]
[2007]
[2008]
[2009]
[2010]

{"sheet":"Calculations","index":2,"n_rows":100,"n_cols":14,"rows_kept":100,"cut":false,"hidden":false,"merged":[]}
[]
[null,"Sum of Player Salary",{"$f":"usStat","v":"Average of Team W"}]
[{"$f":"dnrTeamName","v":"Atlanta Braves"},{"$f":"IF(ISERROR($A3),\"\",GETPIVOTDATA(B$2&\"\",PvtTeams!$A$3,\"Team Name\",$A3))","v":68135184},{"$f":"IF(ISERROR($A3),\"\",GETPIVOTDATA(C$2&\"\",PvtTeams!$A$3,\"Team Name\",$A3))","v":72}]
["Baltimore Orioles",{"$f":"IF(ISERROR(A4),\"\",GETPIVOTDATA(B$2&\"\",PvtTeams!$A$3,\"Team Name\",$A4))","v":18532666},{"$f":"IF(ISERROR($A4),\"\",GETPIVOTDATA(C$2&\"\",PvtTeams!$A$3,\"Team Name\",$A4))","v":68}]
["Boston Red Sox",{"$f":"IF(ISERROR(A5),\"\",GETPIVOTDATA(B$2&\"\",PvtTeams!$A$3,\"Team Name\",$A5))","v":42621749},{"$f":"IF(ISERROR($A5),\"\",GETPIVOTDATA(C$2&\"\",PvtTeams!$A$3,\"Team Name\",$A5))","v":95}]
["Chicago Cubs",{"$f":"IF(ISERROR(A6),\"\",GETPIVOTDATA(B$2&\"\",PvtTeams!$A$3,\"Team Name\",$A6))","v":63153333},{"$f":"IF(ISERROR($A6),\"\",GETPIVOTDATA(C$2&\"\",PvtTeams!$A$3,\"Team Name\",$A6))","v":97}]
["Chicago White Sox",{"$f":"IF(ISERROR(A7),\"\",GETPIVOTDATA(B$2&\"\",PvtTeams!$A$3,\"Team Name\",$A7))","v":56976000},{"$f":"IF(ISERROR($A7),\"\",GETPIVOTDATA(C$2&\"\",PvtTeams!$A$3,\"Team Name\",$A7))","v":89}]
["Cincinnati Reds",{"$f":"IF(ISERROR(A8),\"\",GETPIVOTDATA(B$2&\"\",PvtTeams!$A$3,\"Team Name\",$A8))","v":31531000},{"$f":"IF(ISERROR($A8),\"\",GETPIVOTDATA(C$2&\"\",PvtTeams!$A$3,\"Team Name\",$A8))","v":74}]
["Cleveland Indians",{"$f":"IF(ISERROR(A9),\"\",GETPIVOTDATA(B$2&\"\",PvtTeams!$A$3,\"Team Name\",$A9))","v":47067000},{"$f":"IF(ISERROR($A9),\"\",GETPIVOTDATA(C$2&\"\",PvtTeams!$A$3,\"Team Name\",$A9))","v":81}]
["Colorado Rockies",{"$f":"IF(ISERROR(A10),\"\",GETPIVOTDATA(B$2&\"\",PvtTeams!$A$3,\"Team Name\",$A10))","v":32048000},{"$f":"IF(ISERROR($A10),\"\",GETPIVOTDATA(C$2&\"\",PvtTeams!$A$3,\"Team Name\",$A10))","v":74}]
["Detroit Tigers",{"$f":"IF(ISERROR(A11),\"\",GETPIVOTDATA(B$2&\"\",PvtTeams!$A$3,\"Team Name\",$A11))","v":47791666},{"$f":"IF(ISERROR($A11),\"\",GETPIVOTDATA(C$2&\"\",PvtTeams!$A$3,\"Team Name\",$A11))","v":74}]
["Florida Marlins",{"$f":"IF(ISERROR(A12),\"\",GETPIVOTDATA(B$2&\"\",PvtTeams!$A$3,\"Team Name\",$A12))","v":10900500},{"$f":"IF(ISERROR($A12),\"\",GETPIVOTDATA(C$2&\"\",PvtTeams!$A$3,\"Team Name\",$A12))","v":84}]
["Houston Astros",{"$f":"IF(ISERROR(A13),\"\",GETPIVOTDATA(B$2&\"\",PvtTeams!$A$3,\"Team Name\",$A13))","v":36292000},{"$f":"IF(ISERROR($A13),\"\",GETPIVOTDATA(C$2&\"\",PvtTeams!$A$3,\"Team Name\",$A13))","v":86}]
["Kansas City Royals",{"$f":"IF(ISERROR(A14),\"\",GETPIVOTDATA(B$2&\"\",PvtTeams!$A$3,\"Team Name\",$A14))","v":30967000},{"$f":"IF(ISERROR($A14),\"\",GETPIVOTDATA(C$2&\"\",PvtTeams!$A$3,\"Team Name\",$A14))","v":75}]
["Los Angeles Angels of Anaheim",{"$f":"IF(ISERROR(A15),\"\",GETPIVOTDATA(B$2&\"\",PvtTeams!$A$3,\"Team Name\",$A15))","v":43121333},{"$f":"IF(ISERROR($A15),\"\",GETPIVOTDATA(C$2&\"\",PvtTeams!$A$3,\"Team Name\",$A15))","v":100}]
["Los Angeles Dodgers",{"$f":"IF(ISERROR(A16),\"\",GETPIVOTDATA(B$2&\"\",PvtTeams!$A$3,\"Team Name\",$A16))","v":50874333},{"$f":"IF(ISERROR($A16),\"\",GETPIVOTDATA(C$2&\"\",PvtTeams!$A$3,\"Team Name\",$A16))","v":84}]
["Milwaukee Brewers",{"$f":"IF(ISERROR(A17),\"\",GETPIVOTDATA(B$2&\"\",PvtTeams!$A$3,\"Team Name\",$A17))","v":66545499},{"$f":"IF(ISERROR($A17),\"\",GETPIVOTDATA(C$2&\"\",PvtTeams!$A$3,\"Team Name\",$A17))","v":90}]
["Minnesota Twins",{"$f":"IF(ISERROR(A18),\"\",GETPIVOTDATA(B$2&\"\",PvtTeams!$A$3,\"Team Name\",$A18))","v":21332000},{"$f":"IF(ISERROR($A18),\"\",GETPIVOTDATA(C$2&\"\",PvtTeams!$A$3,\"Team Name\",$A18))","v":88}]
["New York Mets",{"$f":"IF(ISERROR(A19),\"\",GETPIVOTDATA(B$2&\"\",PvtTeams!$A$3,\"Team Name\",$A19))","v":60610067},{"$f":"IF(ISERROR($A19),\"\",GETPIVOTDATA(C$2&\"\",PvtTeams!$A$3,\"Team Name\",$A19))","v":89}]
["New York Yankees",{"$f":"IF(ISERROR(A20),\"\",GETPIVOTDATA(B$2&\"\",PvtTeams!$A$3,\"Team Name\",$A20))","v":72477970},{"$f":"IF(ISERROR($A20),\"\",GETPIVOTDATA(C$2&\"\",PvtTeams!$A$3,\"Team Name\",$A20))","v":89}]
["Oakland Athletics",{"$f":"IF(ISERROR(A21),\"\",GETPIVOTDATA(B$2&\"\",PvtTeams!$A$3,\"Team Name\",$A21))","v":22012126},{"$f":"IF(ISERROR($A21),\"\",GETPIVOTDATA(C$2&\"\",PvtTeams!$A$3,\"Team Name\",$A21))","v":75}]
["Philadelphia Phillies",{"$f":"IF(ISERROR(A22),\"\",GETPIVOTDATA(B$2&\"\",PvtTeams!$A$3,\"Team Name\",$A22))","v":48806666},{"$f":"IF(ISERROR($A22),\"\",GETPIVOTDATA(C$2&\"\",PvtTeams!$A$3,\"Team Name\",$A22))","v":92}]
["Pittsburgh Pirates",{"$f":"IF(ISERROR(A23),\"\",GETPIVOTDATA(B$2&\"\",PvtTeams!$A$3,\"Team Name\",$A23))","v":18589508},{"$f":"IF(ISERROR($A23),\"\",GETPIVOTDATA(C$2&\"\",PvtTeams!$A$3,\"Team Name\",$A23))","v":67}]
["San Diego Padres",{"$f":"IF(ISERROR(A24),\"\",GETPIVOTDATA(B$2&\"\",PvtTeams!$A$3,\"Team Name\",$A24))","v":40264948},{"$f":"IF(ISERROR($A24),\"\",GETPIVOTDATA(C$2&\"\",PvtTeams!$A$3,\"Team Name\",$A24))","v":63}]
["San Francisco Giants",{"$f":"IF(ISERROR(A25),\"\",GETPIVOTDATA(B$2&\"\",PvtTeams!$A$3,\"Team Name\",$A25))","v":22475500},{"$f":"IF(ISERROR($A25),\"\",GETPIVOTDATA(C$2&\"\",PvtTeams!$A$3,\"Team Name\",$A25))","v":72}]
["Seattle Mariners",{"$f":"IF(ISERROR(A26),\"\",GETPIVOTDATA(B$2&\"\",PvtTeams!$A$3,\"Team Name\",$A26))","v":41957500},{"$f":"IF(ISERROR($A26),\"\",GETPIVOTDATA(C$2&\"\",PvtTeams!$A$3,\"Team Name\",$A26))","v":61}]
["St. Louis Cardinals",{"$f":"IF(ISERROR(A27),\"\",GETPIVOTDATA(B$2&\"\",PvtTeams!$A$3,\"Team Name\",$A27))","v":52774000},{"$f":"IF(ISERROR($A27),\"\",GETPIVOTDATA(C$2&\"\",PvtTeams!$A$3,\"Team Name\",$A27))","v":86}]
["Tampa Bay Rays",{"$f":"IF(ISERROR(A28),\"\",GETPIVOTDATA(B$2&\"\",PvtTeams!$A$3,\"Team Name\",$A28))","v":23016263},{"$f":"IF(ISERROR($A28),\"\",GETPIVOTDATA(C$2&\"\",PvtTeams!$A$3,\"Team Name\",$A28))","v":97}]
["Texas Rangers",{"$f":"IF(ISERROR(A29),\"\",GETPIVOTDATA(B$2&\"\",PvtTeams!$A$3,\"Team Name\",$A29))","v":34806002},{"$f":"IF(ISERROR($A29),\"\",GETPIVOTDATA(C$2&\"\",PvtTeams!$A$3,\"Team Name\",$A29))","v":79}]
["Toronto Blue Jays",{"$f":"IF(ISERROR(A30),\"\",GETPIVOTDATA(B$2&\"\",PvtTeams!$A$3,\"Team Name\",$A30))","v":41605400},{"$f":"IF(ISERROR($A30),\"\",GETPIVOTDATA(C$2&\"\",PvtTeams!$A$3,\"Team Name\",$A30))","v":86}]
["Washington Nationals",{"$f":"IF(ISERROR(A31),\"\",GETPIVOTDATA(B$2&\"\",PvtTeams!$A$3,\"Team Name\",$A31))","v":15101000},{"$f":"IF(ISERROR($A31),\"\",GETPIVOTDATA(C$2&\"\",PvtTeams!$A$3,\"Team Name\",$A31))","v":59}]
[{"$error":"#N/A"},{"$f":"IF(ISERROR(A32),\"\",GETPIVOTDATA(B$2&\"\",PvtTeams!$A$3,\"Team Name\",$A32))","v":""},{"$f":"IF(ISERROR($A32),\"\",GETPIVOTDATA(C$2&\"\",PvtTeams!$A$3,\"Team Name\",$A32))","v":""}]
[{"$error":"#N/A"},{"$f":"IF(ISERROR(A33),\"\",GETPIVOTDATA(B$2&\"\",PvtTeams!$A$3,\"Team Name\",$A33))","v":""},{"$f":"IF(ISERROR($A33),\"\",GETPIVOTDATA(C$2&\"\",PvtTeams!$A$3,\"Team Name\",$A33))","v":""}]
[{"$error":"#N/A"},{"$f":"IF(ISERROR(A34),\"\",GETPIVOTDATA(B$2&\"\",PvtTeams!$A$3,\"Team Name\",$A34))","v":""},{"$f":"IF(ISERROR($A34),\"\",GETPIVOTDATA(C$2&\"\",PvtTeams!$A$3,\"Team Name\",$A34))","v":""}]
[{"$error":"#N/A"},{"$f":"IF(ISERROR(A35),\"\",GETPIVOTDATA(B$2&\"\",PvtTeams!$A$3,\"Team Name\",$A35))","v":""},{"$f":"IF(ISERROR($A35),\"\",GETPIVOTDATA(C$2&\"\",PvtTeams!$A$3,\"Team Name\",$A35))","v":""}]
[{"$error":"#N/A"},{"$f":"IF(ISERROR(A36),\"\",GETPIVOTDATA(B$2&\"\",PvtTeams!$A$3,\"Team Name\",$A36))","v":""},{"$f":"IF(ISERROR($A36),\"\",GETPIVOTDATA(C$2&\"\",PvtTeams!$A$3,\"Team Name\",$A36))","v":""}]
[{"$error":"#N/A"},{"$f":"IF(ISERROR(A37),\"\",GETPIVOTDATA(B$2&\"\",PvtTeams!$A$3,\"Team Name\",$A37))","v":""},{"$f":"IF(ISERROR($A37),\"\",GETPIVOTDATA(C$2&\"\",PvtTeams!$A$3,\"Team Name\",$A37))","v":""}]
[]
[]
["MLB Average",{"$f":"AVERAGE(scSalary)","v":40082283.206896551},{"$f":"AVERAGE(scStat)","v":80.896551724137936}]
[{"$f":"usTeam","v":"Boston Red Sox"},{"$f":"IF(ISERROR(A41),\"\",GETPIVOTDATA(B$2&\"\",PvtTeams!$A$3,\"Team Name\",$A41))","v":42621749},{"$f":"IF(ISERROR(B41),\"\",GETPIVOTDATA(C$2&\"\",PvtTeams!$A$3,\"Team Name\",$A41))","v":95}]
[]
[]
[]
[{"$f":"dnrTeamDiv","v":"Baltimore Orioles"},{"$f":"IF(ISERROR($A45),\"\",GETPIVOTDATA(B$2&\"\",PvtTeams!$A$3,\"Team Name\",$A45))","v":18532666},{"$f":"IF(ISERROR($A45),\"\",GETPIVOTDATA(C$2&\"\",PvtTeams!$A$3,\"Team Name\",$A45))","v":68}]
["Boston Red Sox",{"$f":"IF(ISERROR($A46),\"\",GETPIVOTDATA(B$2&\"\",PvtTeams!$A$3,\"Team Name\",$A46))","v":42621749},{"$f":"IF(ISERROR($A46),\"\",GETPIVOTDATA(C$2&\"\",PvtTeams!$A$3,\"Team Name\",$A46))","v":95}]
["New York Yankees",{"$f":"IF(ISERROR($A47),\"\",GETPIVOTDATA(B$2&\"\",PvtTeams!$A$3,\"Team Name\",$A47))","v":72477970},{"$f":"IF(ISERROR($A47),\"\",GETPIVOTDATA(C$2&\"\",PvtTeams!$A$3,\"Team Name\",$A47))","v":89}]
["Tampa Bay Rays",{"$f":"IF(ISERROR($A48),\"\",GETPIVOTDATA(B$2&\"\",PvtTeams!$A$3,\"Team Name\",$A48))","v":23016263},{"$f":"IF(ISERROR($A48),\"\",GETPIVOTDATA(C$2&\"\",PvtTeams!$A$3,\"Team Name\",$A48))","v":97}]
["Toronto Blue Jays",{"$f":"IF(ISERROR($A49),\"\",GETPIVOTDATA(B$2&\"\",PvtTeams!$A$3,\"Team Name\",$A49))","v":41605400},{"$f":"IF(ISERROR($A49),\"\",GETPIVOTDATA(C$2&\"\",PvtTeams!$A$3,\"Team Name\",$A49))","v":86}]
[{"$error":"#N/A"},{"$f":"IF(ISERROR($A50),\"\",GETPIVOTDATA(B$2&\"\",PvtTeams!$A$3,\"Team Name\",$A50))","v":""},{"$f":"IF(ISERROR($A50),\"\",GETPIVOTDATA(C$2&\"\",PvtTeams!$A$3,\"Team Name\",$A50))","v":""}]
[{"$error":"#N/A"},{"$f":"IF(ISERROR($A51),\"\",GETPIVOTDATA(B$2&\"\",PvtTeams!$A$3,\"Team Name\",$A51))","v":""},{"$f":"IF(ISERROR($A51),\"\",GETPIVOTDATA(C$2&\"\",PvtTeams!$A$3,\"Team Name\",$A51))","v":""}]
[{"$error":"#N/A"},{"$f":"IF(ISERROR($A52),\"\",GETPIVOTDATA(B$2&\"\",PvtTeams!$A$3,\"Team Name\",$A52))","v":""},{"$f":"IF(ISERROR($A52),\"\",GETPIVOTDATA(C$2&\"\",PvtTeams!$A$3,\"Team Name\",$A52))","v":""}]
[{"$error":"#N/A"},{"$f":"IF(ISERROR($A53),\"\",GETPIVOTDATA(B$2&\"\",PvtTeams!$A$3,\"Team Name\",$A53))","v":""},{"$f":"IF(ISERROR($A53),\"\",GETPIVOTDATA(C$2&\"\",PvtTeams!$A$3,\"Team Name\",$A53))","v":""}]
[{"$error":"#N/A"},{"$f":"IF(ISERROR($A54),\"\",GETPIVOTDATA(B$2&\"\",PvtTeams!$A$3,\"Team Name\",$A54))","v":""},{"$f":"IF(ISERROR($A54),\"\",GETPIVOTDATA(C$2&\"\",PvtTeams!$A$3,\"Team Name\",$A54))","v":""}]
[{"$error":"#N/A"},{"$f":"IF(ISERROR($A55),\"\",GETPIVOTDATA(B$2&\"\",PvtTeams!$A$3,\"Team Name\",$A55))","v":""},{"$f":"IF(ISERROR($A55),\"\",GETPIVOTDATA(C$2&\"\",PvtTeams!$A$3,\"Team Name\",$A55))","v":""}]
[{"$error":"#N/A"},{"$f":"IF(ISERROR($A56),\"\",GETPIVOTDATA(B$2&\"\",PvtTeams!$A$3,\"Team Name\",$A56))","v":""},{"$f":"IF(ISERROR($A56),\"\",GETPIVOTDATA(C$2&\"\",PvtTeams!$A$3,\"Team Name\",$A56))","v":""}]
[]
[{"$f":"CONCATENATE(usTeamDivA,\" Average\")","v":"AL-E Average"},{"$f":"AVERAGE(scDivSalary)","v":39650809.600000001},{"$f":"AVERAGE(scDivStat)","v":87}]
[]
[]
[]
[]
[]
[]
[]
[]
[]
[]
[null,"Sum of Player Salary","Low Sal","High Sal","Sum of Innings Pitched","Sum of Player ERA","Sum of Player WHIP","Sum of Player K/9IP","Sum of Player H/9IP","Sum of Player K-H","More Ks","More Hs",null,"Dummy"]
[{"$f":"dnrPlayerName","v":"Byrd, Paul"},{"$f":"IF(ISERROR($A70),\"\",GETPIVOTDATA(B$69&\"\",PvtPlayers!$A$4,\"Player Name\",$A70))","v":7500000},{"$f":"IF($B70<AVERAGE(cpbSalary),$B70,0)","v":0},{"$f":"IF($B70>AVERAGE(cpbSalary),$B70,0)","v":7500000},{"$f":"IF(ISERROR($A70),\"\",GETPIVOTDATA(E$69&\"\",PvtPlayers!$A$4,\"Player Name\",$A70))","v":49},{"$f":"IF(ISERROR($A70),\"\",GETPIVOTDATA(F$69&\"\",PvtPlayers!$A$4,\"Player Name\",$A70))","v":4.78},{"$f":"IF(ISERROR($A70),\"\",GETPIVOTDATA(G$69&\"\",PvtPlayers!$A$4,\"Player Name\",$A70))","v":1.3877551020408163},{"$f":"IF(ISERROR($A70),\"\",GETPIVOTDATA(H$69&\"\",PvtPlayers!$A$4,\"Player Name\",$A70))","v":4.7755102040816331},{"$f":"IF(ISERROR($A70),\"\",GETPIVOTDATA(I$69&\"\",PvtPlayers!$A$4,\"Player Name\",$A70))","v":10.653061224489797},{"$f":"IF(ISERROR($A70),\"\",GETPIVOTDATA(J$69&\"\",PvtPlayers!$A$4,\"Player Name\",$A70))","v":-32},{"$f":"IF(J70>0,J70,0)","v":0},{"$f":"IF(J70<0,J70,0)","v":-32},null,1]
["Tavarez, Julian",{"$f":"IF(ISERROR($A71),\"\",GETPIVOTDATA(B$69&\"\",PvtPlayers!$A$4,\"Player Name\",$A71))","v":3850000},0,3850000,{"$f":"IF(ISERROR($A71),\"\",GETPIVOTDATA(E$69&\"\",PvtPlayers!$A$4,\"Player Name\",$A71))","v":12.666666666666666},{"$f":"IF(ISERROR($A71),\"\",GETPIVOTDATA(F$69&\"\",PvtPlayers!$A$4,\"Player Name\",$A71))","v":6.39},{"$f":"IF(ISERROR($A71),\"\",GETPIVOTDATA(G$69&\"\",PvtPlayers!$A$4,\"Player Name\",$A71))","v":2.1315789473684212},{"$f":"IF(ISERROR($A71),\"\",GETPIVOTDATA(H$69&\"\",PvtPlayers!$A$4,\"Player Name\",$A71))","v":4.2631578947368425},{"$f":"IF(ISERROR($A71),\"\",GETPIVOTDATA(I$69&\"\",PvtPlayers!$A$4,\"Player Name\",$A71))","v":12.789473684210526},{"$f":"IF(ISERROR($A71),\"\",GETPIVOTDATA(J$69&\"\",PvtPlayers!$A$4,\"Player Name\",$A71))","v":-12},{"$f":"IF(J71>0,J71,0)","v":0},{"$f":"IF(J71<0,J71,0)","v":-12},null,1]
["Timlin, Mike",{"$f":"IF(ISERROR($A72),\"\",GETPIVOTDATA(B$69&\"\",PvtPlayers!$A$4,\"Player Name\",$A72))","v":3000000},0,3000000,{"$f":"IF(ISERROR($A72),\"\",GETPIVOTDATA(E$69&\"\",PvtPlayers!$A$4,\"Player Name\",$A72))","v":49.333333333333336},{"$f":"IF(ISERROR($A72),\"\",GETPIVOTDATA(F$69&\"\",PvtPlayers!$A$4,\"Player Name\",$A72))","v":5.66},{"$f":"IF(ISERROR($A72),\"\",GETPIVOTDATA(G$69&\"\",PvtPlayers!$A$4,\"Player Name\",$A72))","v":1.6216216216216215},{"$f":"IF(ISERROR($A72),\"\",GETPIVOTDATA(H$69&\"\",PvtPlayers!$A$4,\"Player Name\",$A72))","v":5.8378378378378368},{"$f":"IF(ISERROR($A72),\"\",GETPIVOTDATA(I$69&\"\",PvtPlayers!$A$4,\"Player Name\",$A72))","v":10.945945945945946},{"$f":"IF(ISERROR($A72),\"\",GETPIVOTDATA(J$69&\"\",PvtPlayers!$A$4,\"Player Name\",$A72))","v":-28},0,-28,null,1]
["Okajima, Hideki",{"$f":"IF(ISERROR($A73),\"\",GETPIVOTDATA(B$69&\"\",PvtPlayers!$A$4,\"Player Name\",$A73))","v":1275000},1275000,0,{"$f":"IF(ISERROR($A73),\"\",GETPIVOTDATA(E$69&\"\",PvtPlayers!$A$4,\"Player Name\",$A73))","v":62},{"$f":"IF(ISERROR($A73),\"\",GETPIVOTDATA(F$69&\"\",PvtPlayers!$A$4,\"Player Name\",$A73))","v":2.61},{"$f":"IF(ISERROR($A73),\"\",GETPIVOTDATA(G$69&\"\",PvtPlayers!$A$4,\"Player Name\",$A73))","v":1.1612903225806452},{"$f":"IF(ISERROR($A73),\"\",GETPIVOTDATA(H$69&\"\",PvtPlayers!$A$4,\"Player Name\",$A73))","v":8.7096774193548399},{"$f":"IF(ISERROR($A73),\"\",GETPIVOTDATA(I$69&\"\",PvtPlayers!$A$4,\"Player Name\",$A73))","v":7.1129032258064511},{"$f":"IF(ISERROR($A73),\"\",GETPIVOTDATA(J$69&\"\",PvtPlayers!$A$4,\"Player Name\",$A73))","v":11},11,0,null,1]
["Lopez, Javier",{"$f":"IF(ISERROR($A74),\"\",GETPIVOTDATA(B$69&\"\",PvtPlayers!$A$4,\"Player Name\",$A74))","v":840000},840000,0,{"$f":"IF(ISERROR($A74),\"\",GETPIVOTDATA(E$69&\"\",PvtPlayers!$A$4,\"Player Name\",$A74))","v":59.333333333333336},{"$f":"IF(ISERROR($A74),\"\",GETPIVOTDATA(F$69&\"\",PvtPlayers!$A$4,\"Player Name\",$A74))","v":2.4300000000000002},{"$f":"IF(ISERROR($A74),\"\",GETPIVOTDATA(G$69&\"\",PvtPlayers!$A$4,\"Player Name\",$A74))","v":1.348314606741573},{"$f":"IF(ISERROR($A74),\"\",GETPIVOTDATA(H$69&\"\",PvtPlayers!$A$4,\"Player Name\",$A74))","v":5.7640449438202248},{"$f":"IF(ISERROR($A74),\"\",GETPIVOTDATA(I$69&\"\",PvtPlayers!$A$4,\"Player Name\",$A74))","v":8.0393258426966288},{"$f":"IF(ISERROR($A74),\"\",GETPIVOTDATA(J$69&\"\",PvtPlayers!$A$4,\"Player Name\",$A74))","v":-15},0,-15,null,1]
["Snyder, Kyle",{"$f":"IF(ISERROR($A75),\"\",GETPIVOTDATA(B$69&\"\",PvtPlayers!$A$4,\"Player Name\",$A75))","v":835000},835000,0,{"$f":"IF(ISERROR($A75),\"\",GETPIVOTDATA(E$69&\"\",PvtPlayers!$A$4,\"Player Name\",$A75))","v":1.6666666666666667},{"$f":"IF(ISERROR($A75),\"\",GETPIVOTDATA(F$69&\"\",PvtPlayers!$A$4,\"Player Name\",$A75))","v":21.6},{"$f":"IF(ISERROR($A75),\"\",GETPIVOTDATA(G$69&\"\",PvtPlayers!$A$4,\"Player Name\",$A75))","v":2.4},{"$f":"IF(ISERROR($A75),\"\",GETPIVOTDATA(H$69&\"\",PvtPlayers!$A$4,\"Player Name\",$A75))","v":5.3999999999999995},{"$f":"IF(ISERROR($A75),\"\",GETPIVOTDATA(I$69&\"\",PvtPlayers!$A$4,\"Player Name\",$A75))","v":10.799999999999999},{"$f":"IF(ISERROR($A75),\"\",GETPIVOTDATA(J$69&\"\",PvtPlayers!$A$4,\"Player Name\",$A75))","v":-1},0,-1,null,1]
["Papelbon, Jonathan",{"$f":"IF(ISERROR($A76),\"\",GETPIVOTDATA(B$69&\"\",PvtPlayers!$A$4,\"Player Name\",$A76))","v":775000},775000,0,{"$f":"IF(ISERROR($A76),\"\",GETPIVOTDATA(E$69&\"\",PvtPlayers!$A$4,\"Player Name\",$A76))","v":69.333333333333329},{"$f":"IF(ISERROR($A76),\"\",GETPIVOTDATA(F$69&\"\",PvtPlayers!$A$4,\"Player Name\",$A76))","v":2.34},{"$f":"IF(ISERROR($A76),\"\",GETPIVOTDATA(G$69&\"\",PvtPlayers!$A$4,\"Player Name\",$A76))","v":0.95192307692307698},{"$f":"IF(ISERROR($A76),\"\",GETPIVOTDATA(H$69&\"\",PvtPlayers!$A$4,\"Player Name\",$A76))","v":9.9951923076923084},{"$f":"IF(ISERROR($A76),\"\",GETPIVOTDATA(I$69&\"\",PvtPlayers!$A$4,\"Player Name\",$A76))","v":7.5288461538461542},{"$f":"IF(ISERROR($A76),\"\",GETPIVOTDATA(J$69&\"\",PvtPlayers!$A$4,\"Player Name\",$A76))","v":19},19,0,null,1]
["Delcarmen, Manny",{"$f":"IF(ISERROR($A77),\"\",GETPIVOTDATA(B$69&\"\",PvtPlayers!$A$4,\"Player Name\",$A77))","v":421000},421000,0,{"$f":"IF(ISERROR($A77),\"\",GETPIVOTDATA(E$69&\"\",PvtPlayers!$A$4,\"Player Name\",$A77))","v":74.333333333333329},{"$f":"IF(ISERROR($A77),\"\",GETPIVOTDATA(F$69&\"\",PvtPlayers!$A$4,\"Player Name\",$A77))","v":3.27},{"$f":"IF(ISERROR($A77),\"\",GETPIVOTDATA(G$69&\"\",PvtPlayers!$A$4,\"Player Name\",$A77))","v":1.1165919282511212},{"$f":"IF(ISERROR($A77),\"\",GETPIVOTDATA(H$69&\"\",PvtPlayers!$A$4,\"Player Name\",$A77))","v":8.7174887892376685},{"$f":"IF(ISERROR($A77),\"\",GETPIVOTDATA(I$69&\"\",PvtPlayers!$A$4,\"Player Name\",$A77))","v":6.6591928251121075},{"$f":"IF(ISERROR($A77),\"\",GETPIVOTDATA(J$69&\"\",PvtPlayers!$A$4,\"Player Name\",$A77))","v":17},17,0,null,1]
["Corey, Bryan",{"$f":"IF(ISERROR($A78),\"\",GETPIVOTDATA(B$69&\"\",PvtPlayers!$A$4,\"Player Name\",$A78))","v":405000},405000,0,{"$f":"IF(ISERROR($A78),\"\",GETPIVOTDATA(E$69&\"\",PvtPlayers!$A$4,\"Player Name\",$A78))","v":6},{"$f":"IF(ISERROR($A78),\"\",GETPIVOTDATA(F$69&\"\",PvtPlayers!$A$4,\"Player Name\",$A78))","v":10.5},{"$f":"IF(ISERROR($A78),\"\",GETPIVOTDATA(G$69&\"\",PvtPlayers!$A$4,\"Player Name\",$A78))","v":2.3333333333333335},{"$f":"IF(ISERROR($A78),\"\",GETPIVOTDATA(H$69&\"\",PvtPlayers!$A$4,\"Player Name\",$A78))","v":6},{"$f":"IF(ISERROR($A78),\"\",GETPIVOTDATA(I$69&\"\",PvtPlayers!$A$4,\"Player Name\",$A78))","v":16.5},{"$f":"IF(ISERROR($A78),\"\",GETPIVOTDATA(J$69&\"\",PvtPlayers!$A$4,\"Player Name\",$A78))","v":-7},0,-7,null,1]
["Aardsma, David",{"$f":"IF(ISERROR($A79),\"\",GETPIVOTDATA(B$69&\"\",PvtPlayers!$A$4,\"Player Name\",$A79))","v":403250},403250,0,{"$f":"IF(ISERROR($A79),\"\",GETPIVOTDATA(E$69&\"\",PvtPlayers!$A$4,\"Player Name\",$A79))","v":48.666666666666664},{"$f":"IF(ISERROR($A79),\"\",GETPIVOTDATA(F$69&\"\",PvtPlayers!$A$4,\"Player Name\",$A79))","v":5.55},{"$f":"IF(ISERROR($A79),\"\",GETPIVOTDATA(G$69&\"\",PvtPlayers!$A$4,\"Player Name\",$A79))","v":1.726027397260274},{"$f":"IF(ISERROR($A79),\"\",GETPIVOTDATA(H$69&\"\",PvtPlayers!$A$4,\"Player Name\",$A79))","v":9.0616438356164384},{"$f":"IF(ISERROR($A79),\"\",GETPIVOTDATA(I$69&\"\",PvtPlayers!$A$4,\"Player Name\",$A79))","v":9.0616438356164384},{"$f":"IF(ISERROR($A79),\"\",GETPIVOTDATA(J$69&\"\",PvtPlayers!$A$4,\"Player Name\",$A79))","v":0},0,0,null,1]
["Buchholz, Clay",{"$f":"IF(ISERROR($A80),\"\",GETPIVOTDATA(B$69&\"\",PvtPlayers!$A$4,\"Player Name\",$A80))","v":396000},396000,0,{"$f":"IF(ISERROR($A80),\"\",GETPIVOTDATA(E$69&\"\",PvtPlayers!$A$4,\"Player Name\",$A80))","v":76},{"$f":"IF(ISERROR($A80),\"\",GETPIVOTDATA(F$69&\"\",PvtPlayers!$A$4,\"Player Name\",$A80))","v":6.75},{"$f":"IF(ISERROR($A80),\"\",GETPIVOTDATA(G$69&\"\",PvtPlayers!$A$4,\"Player Name\",$A80))","v":1.763157894736842},{"$f":"IF(ISERROR($A80),\"\",GETPIVOTDATA(H$69&\"\",PvtPlayers!$A$4,\"Player Name\",$A80))","v":8.5263157894736832},{"$f":"IF(ISERROR($A80),\"\",GETPIVOTDATA(I$69&\"\",PvtPlayers!$A$4,\"Player Name\",$A80))","v":11.013157894736841},{"$f":"IF(ISERROR($A80),\"\",GETPIVOTDATA(J$69&\"\",PvtPlayers!$A$4,\"Player Name\",$A80))","v":-21},0,-21,null,1]
[{"$error":"#N/A"},{"$f":"IF(ISERROR($A81),\"\",GETPIVOTDATA(B$69&\"\",PvtPlayers!$A$4,\"Player Name\",$A81))","v":""},0,"",{"$f":"IF(ISERROR($A81),\"\",GETPIVOTDATA(E$69&\"\",PvtPlayers!$A$4,\"Player Name\",$A81))","v":""},{"$f":"IF(ISERROR($A81),\"\",GETPIVOTDATA(F$69&\"\",PvtPlayers!$A$4,\"Player Name\",$A81))","v":""},{"$f":"IF(ISERROR($A81),\"\",GETPIVOTDATA(G$69&\"\",PvtPlayers!$A$4,\"Player Name\",$A81))","v":""},{"$f":"IF(ISERROR($A81),\"\",GETPIVOTDATA(H$69&\"\",PvtPlayers!$A$4,\"Player Name\",$A81))","v":""},{"$f":"IF(ISERROR($A81),\"\",GETPIVOTDATA(I$69&\"\",PvtPlayers!$A$4,\"Player Name\",$A81))","v":""},{"$f":"IF(ISERROR($A81),\"\",GETPIVOTDATA(J$69&\"\",PvtPlayers!$A$4,\"Player Name\",$A81))","v":""},"",0,null,1]
[{"$error":"#N/A"},{"$f":"IF(ISERROR($A82),\"\",GETPIVOTDATA(B$69&\"\",PvtPlayers!$A$4,\"Player Name\",$A82))","v":""},0,"",{"$f":"IF(ISERROR($A82),\"\",GETPIVOTDATA(E$69&\"\",PvtPlayers!$A$4,\"Player Name\",$A82))","v":""},{"$f":"IF(ISERROR($A82),\"\",GETPIVOTDATA(F$69&\"\",PvtPlayers!$A$4,\"Player Name\",$A82))","v":""},{"$f":"IF(ISERROR($A82),\"\",GETPIVOTDATA(G$69&\"\",PvtPlayers!$A$4,\"Player Name\",$A82))","v":""},{"$f":"IF(ISERROR($A82),\"\",GETPIVOTDATA(H$69&\"\",PvtPlayers!$A$4,\"Player Name\",$A82))","v":""},{"$f":"IF(ISERROR($A82),\"\",GETPIVOTDATA(I$69&\"\",PvtPlayers!$A$4,\"Player Name\",$A82))","v":""},{"$f":"IF(ISERROR($A82),\"\",GETPIVOTDATA(J$69&\"\",PvtPlayers!$A$4,\"Player Name\",$A82))","v":""},"",0,null,1]
[{"$error":"#N/A"},{"$f":"IF(ISERROR($A83),\"\",GETPIVOTDATA(B$69&\"\",PvtPlayers!$A$4,\"Player Name\",$A83))","v":""},0,"",{"$f":"IF(ISERROR($A83),\"\",GETPIVOTDATA(E$69&\"\",PvtPlayers!$A$4,\"Player Name\",$A83))","v":""},{"$f":"IF(ISERROR($A83),\"\",GETPIVOTDATA(F$69&\"\",PvtPlayers!$A$4,\"Player Name\",$A83))","v":""},{"$f":"IF(ISERROR($A83),\"\",GETPIVOTDATA(G$69&\"\",PvtPlayers!$A$4,\"Player Name\",$A83))","v":""},{"$f":"IF(ISERROR($A83),\"\",GETPIVOTDATA(H$69&\"\",PvtPlayers!$A$4,\"Player Name\",$A83))","v":""},{"$f":"IF(ISERROR($A83),\"\",GETPIVOTDATA(I$69&\"\",PvtPlayers!$A$4,\"Player Name\",$A83))","v":""},{"$f":"IF(ISERROR($A83),\"\",GETPIVOTDATA(J$69&\"\",PvtPlayers!$A$4,\"Player Name\",$A83))","v":""},"",0,null,1]
[{"$error":"#N/A"},{"$f":"IF(ISERROR($A84),\"\",GETPIVOTDATA(B$69&\"\",PvtPlayers!$A$4,\"Player Name\",$A84))","v":""},0,"",{"$f":"IF(ISERROR($A84),\"\",GETPIVOTDATA(E$69&\"\",PvtPlayers!$A$4,\"Player Name\",$A84))","v":""},{"$f":"IF(ISERROR($A84),\"\",GETPIVOTDATA(F$69&\"\",PvtPlayers!$A$4,\"Player Name\",$A84))","v":""},{"$f":"IF(ISERROR($A84),\"\",GETPIVOTDATA(G$69&\"\",PvtPlayers!$A$4,\"Player Name\",$A84))","v":""},{"$f":"IF(ISERROR($A84),\"\",GETPIVOTDATA(H$69&\"\",PvtPlayers!$A$4,\"Player Name\",$A84))","v":""},{"$f":"IF(ISERROR($A84),\"\",GETPIVOTDATA(I$69&\"\",PvtPlayers!$A$4,\"Player Name\",$A84))","v":""},{"$f":"IF(ISERROR($A84),\"\",GETPIVOTDATA(J$69&\"\",PvtPlayers!$A$4,\"Player Name\",$A84))","v":""},"",0,null,1]
[{"$error":"#N/A"},{"$f":"IF(ISERROR($A85),\"\",GETPIVOTDATA(B$69&\"\",PvtPlayers!$A$4,\"Player Name\",$A85))","v":""},0,"",{"$f":"IF(ISERROR($A85),\"\",GETPIVOTDATA(E$69&\"\",PvtPlayers!$A$4,\"Player Name\",$A85))","v":""},{"$f":"IF(ISERROR($A85),\"\",GETPIVOTDATA(F$69&\"\",PvtPlayers!$A$4,\"Player Name\",$A85))","v":""},{"$f":"IF(ISERROR($A85),\"\",GETPIVOTDATA(G$69&\"\",PvtPlayers!$A$4,\"Player Name\",$A85))","v":""},{"$f":"IF(ISERROR($A85),\"\",GETPIVOTDATA(H$69&\"\",PvtPlayers!$A$4,\"Player Name\",$A85))","v":""},{"$f":"IF(ISERROR($A85),\"\",GETPIVOTDATA(I$69&\"\",PvtPlayers!$A$4,\"Player Name\",$A85))","v":""},{"$f":"IF(ISERROR($A85),\"\",GETPIVOTDATA(J$69&\"\",PvtPlayers!$A$4,\"Player Name\",$A85))","v":""},"",0,null,1]
[{"$error":"#N/A"},{"$f":"IF(ISERROR($A86),\"\",GETPIVOTDATA(B$69&\"\",PvtPlayers!$A$4,\"Player Name\",$A86))","v":""},0,"",{"$f":"IF(ISERROR($A86),\"\",GETPIVOTDATA(E$69&\"\",PvtPlayers!$A$4,\"Player Name\",$A86))","v":""},{"$f":"IF(ISERROR($A86),\"\",GETPIVOTDATA(F$69&\"\",PvtPlayers!$A$4,\"Player Name\",$A86))","v":""},{"$f":"IF(ISERROR($A86),\"\",GETPIVOTDATA(G$69&\"\",PvtPlayers!$A$4,\"Player Name\",$A86))","v":""},{"$f":"IF(ISERROR($A86),\"\",GETPIVOTDATA(H$69&\"\",PvtPlayers!$A$4,\"Player Name\",$A86))","v":""},{"$f":"IF(ISERROR($A86),\"\",GETPIVOTDATA(I$69&\"\",PvtPlayers!$A$4,\"Player Name\",$A86))","v":""},{"$f":"IF(ISERROR($A86),\"\",GETPIVOTDATA(J$69&\"\",PvtPlayers!$A$4,\"Player Name\",$A86))","v":""},"",0,null,1]
[{"$error":"#N/A"},{"$f":"IF(ISERROR($A87),\"\",GETPIVOTDATA(B$69&\"\",PvtPlayers!$A$4,\"Player Name\",$A87))","v":""},0,"",{"$f":"IF(ISERROR($A87),\"\",GETPIVOTDATA(E$69&\"\",PvtPlayers!$A$4,\"Player Name\",$A87))","v":""},{"$f":"IF(ISERROR($A87),\"\",GETPIVOTDATA(F$69&\"\",PvtPlayers!$A$4,\"Player Name\",$A87))","v":""},{"$f":"IF(ISERROR($A87),\"\",GETPIVOTDATA(G$69&\"\",PvtPlayers!$A$4,\"Player Name\",$A87))","v":""},{"$f":"IF(ISERROR($A87),\"\",GETPIVOTDATA(H$69&\"\",PvtPlayers!$A$4,\"Player Name\",$A87))","v":""},{"$f":"IF(ISERROR($A87),\"\",GETPIVOTDATA(I$69&\"\",PvtPlayers!$A$4,\"Player Name\",$A87))","v":""},{"$f":"IF(ISERROR($A87),\"\",GETPIVOTDATA(J$69&\"\",PvtPlayers!$A$4,\"Player Name\",$A87))","v":""},"",0,null,1]
[{"$error":"#N/A"},{"$f":"IF(ISERROR($A88),\"\",GETPIVOTDATA(B$69&\"\",PvtPlayers!$A$4,\"Player Name\",$A88))","v":""},0,"",{"$f":"IF(ISERROR($A88),\"\",GETPIVOTDATA(E$69&\"\",PvtPlayers!$A$4,\"Player Name\",$A88))","v":""},{"$f":"IF(ISERROR($A88),\"\",GETPIVOTDATA(F$69&\"\",PvtPlayers!$A$4,\"Player Name\",$A88))","v":""},{"$f":"IF(ISERROR($A88),\"\",GETPIVOTDATA(G$69&\"\",PvtPlayers!$A$4,\"Player Name\",$A88))","v":""},{"$f":"IF(ISERROR($A88),\"\",GETPIVOTDATA(H$69&\"\",PvtPlayers!$A$4,\"Player Name\",$A88))","v":""},{"$f":"IF(ISERROR($A88),\"\",GETPIVOTDATA(I$69&\"\",PvtPlayers!$A$4,\"Player Name\",$A88))","v":""},{"$f":"IF(ISERROR($A88),\"\",GETPIVOTDATA(J$69&\"\",PvtPlayers!$A$4,\"Player Name\",$A88))","v":""},"",0,null,1]
[{"$error":"#N/A"},{"$f":"IF(ISERROR($A89),\"\",GETPIVOTDATA(B$69&\"\",PvtPlayers!$A$4,\"Player Name\",$A89))","v":""},0,"",{"$f":"IF(ISERROR($A89),\"\",GETPIVOTDATA(E$69&\"\",PvtPlayers!$A$4,\"Player Name\",$A89))","v":""},{"$f":"IF(ISERROR($A89),\"\",GETPIVOTDATA(F$69&\"\",PvtPlayers!$A$4,\"Player Name\",$A89))","v":""},{"$f":"IF(ISERROR($A89),\"\",GETPIVOTDATA(G$69&\"\",PvtPlayers!$A$4,\"Player Name\",$A89))","v":""},{"$f":"IF(ISERROR($A89),\"\",GETPIVOTDATA(H$69&\"\",PvtPlayers!$A$4,\"Player Name\",$A89))","v":""},{"$f":"IF(ISERROR($A89),\"\",GETPIVOTDATA(I$69&\"\",PvtPlayers!$A$4,\"Player Name\",$A89))","v":""},{"$f":"IF(ISERROR($A89),\"\",GETPIVOTDATA(J$69&\"\",PvtPlayers!$A$4,\"Player Name\",$A89))","v":""},"",0,null,1]
[{"$error":"#N/A"},{"$f":"IF(ISERROR($A90),\"\",GETPIVOTDATA(B$69&\"\",PvtPlayers!$A$4,\"Player Name\",$A90))","v":""},0,"",{"$f":"IF(ISERROR($A90),\"\",GETPIVOTDATA(E$69&\"\",PvtPlayers!$A$4,\"Player Name\",$A90))","v":""},{"$f":"IF(ISERROR($A90),\"\",GETPIVOTDATA(F$69&\"\",PvtPlayers!$A$4,\"Player Name\",$A90))","v":""},{"$f":"IF(ISERROR($A90),\"\",GETPIVOTDATA(G$69&\"\",PvtPlayers!$A$4,\"Player Name\",$A90))","v":""},{"$f":"IF(ISERROR($A90),\"\",GETPIVOTDATA(H$69&\"\",PvtPlayers!$A$4,\"Player Name\",$A90))","v":""},{"$f":"IF(ISERROR($A90),\"\",GETPIVOTDATA(I$69&\"\",PvtPlayers!$A$4,\"Player Name\",$A90))","v":""},{"$f":"IF(ISERROR($A90),\"\",GETPIVOTDATA(J$69&\"\",PvtPlayers!$A$4,\"Player Name\",$A90))","v":""},"",0,null,1]
[{"$error":"#N/A"},{"$f":"IF(ISERROR($A91),\"\",GETPIVOTDATA(B$69&\"\",PvtPlayers!$A$4,\"Player Name\",$A91))","v":""},0,"",{"$f":"IF(ISERROR($A91),\"\",GETPIVOTDATA(E$69&\"\",PvtPlayers!$A$4,\"Player Name\",$A91))","v":""},{"$f":"IF(ISERROR($A91),\"\",GETPIVOTDATA(F$69&\"\",PvtPlayers!$A$4,\"Player Name\",$A91))","v":""},{"$f":"IF(ISERROR($A91),\"\",GETPIVOTDATA(G$69&\"\",PvtPlayers!$A$4,\"Player Name\",$A91))","v":""},{"$f":"IF(ISERROR($A91),\"\",GETPIVOTDATA(H$69&\"\",PvtPlayers!$A$4,\"Player Name\",$A91))","v":""},{"$f":"IF(ISERROR($A91),\"\",GETPIVOTDATA(I$69&\"\",PvtPlayers!$A$4,\"Player Name\",$A91))","v":""},{"$f":"IF(ISERROR($A91),\"\",GETPIVOTDATA(J$69&\"\",PvtPlayers!$A$4,\"Player Name\",$A91))","v":""},"",0,null,1]
[{"$error":"#N/A"},{"$f":"IF(ISERROR($A92),\"\",GETPIVOTDATA(B$69&\"\",PvtPlayers!$A$4,\"Player Name\",$A92))","v":""},0,"",{"$f":"IF(ISERROR($A92),\"\",GETPIVOTDATA(E$69&\"\",PvtPlayers!$A$4,\"Player Name\",$A92))","v":""},{"$f":"IF(ISERROR($A92),\"\",GETPIVOTDATA(F$69&\"\",PvtPlayers!$A$4,\"Player Name\",$A92))","v":""},{"$f":"IF(ISERROR($A92),\"\",GETPIVOTDATA(G$69&\"\",PvtPlayers!$A$4,\"Player Name\",$A92))","v":""},{"$f":"IF(ISERROR($A92),\"\",GETPIVOTDATA(H$69&\"\",PvtPlayers!$A$4,\"Player Name\",$A92))","v":""},{"$f":"IF(ISERROR($A92),\"\",GETPIVOTDATA(I$69&\"\",PvtPlayers!$A$4,\"Player Name\",$A92))","v":""},{"$f":"IF(ISERROR($A92),\"\",GETPIVOTDATA(J$69&\"\",PvtPlayers!$A$4,\"Player Name\",$A92))","v":""},"",0,null,1]
[{"$error":"#N/A"},{"$f":"IF(ISERROR($A93),\"\",GETPIVOTDATA(B$69&\"\",PvtPlayers!$A$4,\"Player Name\",$A93))","v":""},0,"",{"$f":"IF(ISERROR($A93),\"\",GETPIVOTDATA(E$69&\"\",PvtPlayers!$A$4,\"Player Name\",$A93))","v":""},{"$f":"IF(ISERROR($A93),\"\",GETPIVOTDATA(F$69&\"\",PvtPlayers!$A$4,\"Player Name\",$A93))","v":""},{"$f":"IF(ISERROR($A93),\"\",GETPIVOTDATA(G$69&\"\",PvtPlayers!$A$4,\"Player Name\",$A93))","v":""},{"$f":"IF(ISERROR($A93),\"\",GETPIVOTDATA(H$69&\"\",PvtPlayers!$A$4,\"Player Name\",$A93))","v":""},{"$f":"IF(ISERROR($A93),\"\",GETPIVOTDATA(I$69&\"\",PvtPlayers!$A$4,\"Player Name\",$A93))","v":""},{"$f":"IF(ISERROR($A93),\"\",GETPIVOTDATA(J$69&\"\",PvtPlayers!$A$4,\"Player Name\",$A93))","v":""},"",0,null,1]
[{"$error":"#N/A"},{"$f":"IF(ISERROR($A94),\"\",GETPIVOTDATA(B$69&\"\",PvtPlayers!$A$4,\"Player Name\",$A94))","v":""},0,"",{"$f":"IF(ISERROR($A94),\"\",GETPIVOTDATA(E$69&\"\",PvtPlayers!$A$4,\"Player Name\",$A94))","v":""},{"$f":"IF(ISERROR($A94),\"\",GETPIVOTDATA(F$69&\"\",PvtPlayers!$A$4,\"Player Name\",$A94))","v":""},{"$f":"IF(ISERROR($A94),\"\",GETPIVOTDATA(G$69&\"\",PvtPlayers!$A$4,\"Player Name\",$A94))","v":""},{"$f":"IF(ISERROR($A94),\"\",GETPIVOTDATA(H$69&\"\",PvtPlayers!$A$4,\"Player Name\",$A94))","v":""},{"$f":"IF(ISERROR($A94),\"\",GETPIVOTDATA(I$69&\"\",PvtPlayers!$A$4,\"Player Name\",$A94))","v":""},{"$f":"IF(ISERROR($A94),\"\",GETPIVOTDATA(J$69&\"\",PvtPlayers!$A$4,\"Player Name\",$A94))","v":""},"",0,null,1]
[{"$error":"#N/A"},{"$f":"IF(ISERROR($A95),\"\",GETPIVOTDATA(B$69&\"\",PvtPlayers!$A$4,\"Player Name\",$A95))","v":""},0,"",{"$f":"IF(ISERROR($A95),\"\",GETPIVOTDATA(E$69&\"\",PvtPlayers!$A$4,\"Player Name\",$A95))","v":""},{"$f":"IF(ISERROR($A95),\"\",GETPIVOTDATA(F$69&\"\",PvtPlayers!$A$4,\"Player Name\",$A95))","v":""},{"$f":"IF(ISERROR($A95),\"\",GETPIVOTDATA(G$69&\"\",PvtPlayers!$A$4,\"Player Name\",$A95))","v":""},{"$f":"IF(ISERROR($A95),\"\",GETPIVOTDATA(H$69&\"\",PvtPlayers!$A$4,\"Player Name\",$A95))","v":""},{"$f":"IF(ISERROR($A95),\"\",GETPIVOTDATA(I$69&\"\",PvtPlayers!$A$4,\"Player Name\",$A95))","v":""},{"$f":"IF(ISERROR($A95),\"\",GETPIVOTDATA(J$69&\"\",PvtPlayers!$A$4,\"Player Name\",$A95))","v":""},"",0,null,1]
[]
[]
["Chart Titles"]
["Chart 1",{"$f":"usTeam&\" vs. All MLB\"","v":"Boston Red Sox vs. All MLB"}]
["Chart 2",{"$f":"usTeam &\" vs. \"& usTeamDivA","v":"Boston Red Sox vs. AL-E"}]

{"sheet":"PvtPlayers","index":3,"n_rows":16,"n_cols":9,"rows_kept":16,"cut":false,"hidden":false,"merged":[]}
["yearID",2008]
["Team Name","Boston Red Sox"]
[]
[null,"Values"]
["Row Labels","Sum of Player Salary","Sum of Innings Pitched","Sum of Player ERA","Sum of Player WHIP","Sum of Player K/9IP","Sum of Player H/9IP","Sum of Player K-H","Sum of GS"]
["Byrd, Paul",7500000,49,4.78,1.3877551020408163,4.7755102040816331,10.653061224489797,-32,8]
["Tavarez, Julian",3850000,12.666666666666666,6.39,2.1315789473684212,4.2631578947368425,12.789473684210526,-12,0]
["Timlin, Mike",3000000,49.333333333333336,5.66,1.6216216216216215,5.8378378378378368,10.945945945945946,-28,0]
["Okajima, Hideki",1275000,62,2.61,1.1612903225806452,8.7096774193548399,7.1129032258064511,11,0]
["Lopez, Javier",840000,59.333333333333336,2.4300000000000002,1.348314606741573,5.7640449438202248,8.0393258426966288,-15,0]
["Snyder, Kyle",835000,1.6666666666666667,21.6,2.4,5.3999999999999995,10.799999999999999,-1,0]
["Papelbon, Jonathan",775000,69.333333333333329,2.34,0.95192307692307698,9.9951923076923084,7.5288461538461542,19,0]
["Delcarmen, Manny",421000,74.333333333333329,3.27,1.1165919282511212,8.7174887892376685,6.6591928251121075,17,0]
["Corey, Bryan",405000,6,10.5,2.3333333333333335,6,16.5,-7,0]
["Aardsma, David",403250,48.666666666666664,5.55,1.726027397260274,9.0616438356164384,9.0616438356164384,0,0]
["Buchholz, Clay",396000,76,6.75,1.763157894736842,8.5263157894736832,11.013157894736841,-21,15]

{"sheet":"PvtTeams","index":4,"n_rows":34,"n_cols":9,"rows_kept":34,"cut":false,"hidden":false,"merged":[]}
["yearID",2008]
[]
[null,"Values"]
["Row Labels","Average of Team W","Average of Team ERA","Average of Team K/9IP","Average of Team H/9IP","Average of Team WHIP","Average of Team L","Sum of Player Salary","Average of LGDIV ID"]
["Arizona Diamondbacks",82,3.9900000000000015,7.7098048327137567,8.8013475836431212,1.2922862453531603,80,43018046,13]
["Atlanta Braves",72,4.47,6.7218880148079592,8.9895881536325781,1.4055992596020357,90,68135184,11]
["Baltimore Orioles",68,5.15,5.8354430379746836,9.7341772151898738,1.5646976090014064,93,18532666,21]
["Boston Red Sox",95,4.0099999999999989,7.373818852270106,8.5187831297534,1.3254206038257661,67,42621749,21]
["Chicago Cubs",97,3.8699999999999992,7.8419117647058831,8.245174632352942,1.2938878676470584,64,63153333,12]
["Chicago White Sox",89,4.1100000000000003,7.0818659958838319,9.0823233478161445,1.324719871941459,74,56976000,22]
["Cincinnati Reds",74,4.5499999999999989,7.6563438872197809,9.6219089438409959,1.4552807950080893,88,31531000,12]
["Cleveland Indians",81,4.46,6.1753653444676413,9.5824634655532339,1.373695198329854,81,47067000,22]
["Colorado Rockies",74,4.7699999999999978,6.4792531120331924,9.6286307053941886,1.45850622406639,88,32048000,13]
["Detroit Tigers",74,4.9099999999999984,6.172318339100344,9.5979238754325245,1.5121107266435987,88,47791666,22]
["Florida Marlins",84,4.4399999999999995,7.0666511843938684,8.9101254064096622,1.3982814677194608,77,10900500,11]
["Houston Astros",86,4.3899999999999997,6.9141721234798874,9.1746959775491099,1.3645930776426562,75,36292000,12]
["Kansas City Royals",75,4.5,6.754669126124047,9.1701637076320015,1.3751441088309888,87,30967000,22]
["Los Angeles Angels of Anaheim",100,4,6.858520900321543,9.0227377124483219,1.3174092788240697,62,43121333,23]
["Los Angeles Dodgers",84,3.68,7.4930907415937336,8.5875172731460179,1.2858129894058037,78,50874333,13]
["Milwaukee Brewers",90,3.8699999999999992,6.8628348980993801,8.7485688115411033,1.3347836043050152,72,66545499,12]
["Minnesota Twins",88,4.18,6.1377655928718298,9.6723783413296776,1.3529814941740919,75,21332000,22]
["New York Mets",89,4.07,7.2585932164807625,8.6967903482813558,1.3692237650808108,73,60610067,11]
["New York Yankees",89,4.28,7.1230057803468192,9.2268208092485526,1.3643930635838151,73,72477970,21]
["Oakland Athletics",75,4.0099999999999989,6.6543554006968639,8.5547038327526117,1.3519163763066202,86,22012126,23]
["Philadelphia Phillies",92,3.89,6.7111979765463312,8.9648194987353396,1.3637617843182341,70,48806666,11]
["Pittsburgh Pirates",67,5.0999999999999996,5.9567010309278334,10.088659793814431,1.5725085910652925,95,18589508,12]
["San Diego Padres",63,4.4099999999999984,6.7885714285714283,9.0473142857142896,1.3899428571428567,99,40264948,13]
["San Francisco Giants",72,4.3800000000000008,7.739251040221915,8.8377253814147014,1.434119278779473,90,22475500,13]
["Seattle Mariners",61,4.7300000000000013,6.3706456107756617,9.6813748258244328,1.5118439386901998,101,41957500,23]
["St. Louis Cardinals",86,4.2000000000000011,5.923658872077028,9.3899587345254467,1.3844566712517195,76,52774000,12]
["Tampa Bay Rays",97,3.82,7.0571689915389877,8.3290647152984185,1.2863023096272586,65,23016263,21]
["Texas Rangers",79,5.3699999999999992,6.0104022191400848,10.279472954230233,1.5755894590846042,83,34806002,23]
["Toronto Blue Jays",86,3.4900000000000015,7.3658986175115198,8.2741935483870979,1.2421658986175113,76,41605400,21]
["Washington Nationals",59,4.6599999999999993,6.6715481171548126,9.3891213389121351,1.4532775453277544,102,15101000,11]

{"sheet":"PvtDiv","index":5,"n_rows":10,"n_cols":7,"rows_kept":10,"cut":false,"hidden":false,"merged":[]}
["yearID",2008]
["League-Division","AL-E"]
[]
[null,"Values"]
["Row Labels","Average of Team W","Average of Team ERA","Average of Team K/9IP","Average of Team H/9IP","Average of Team WHIP","Sum of Player Salary"]
["Baltimore Orioles",68,5.15,5.8354430379746836,9.7341772151898738,1.5646976090014064,18532666]
["Boston Red Sox",95,4.0099999999999989,7.373818852270106,8.5187831297534,1.3254206038257661,42621749]
["New York Yankees",89,4.28,7.1230057803468192,9.2268208092485526,1.3643930635838151,72477970]
["Tampa Bay Rays",97,3.82,7.0571689915389877,8.3290647152984185,1.2863023096272586,23016263]
["Toronto Blue Jays",86,3.4900000000000015,7.3658986175115198,8.2741935483870979,1.2421658986175113,41605400]

{"sheet":"raw","index":6,"n_rows":7247,"n_cols":28,"rows_kept":2250,"cut":true,"hidden":false,"merged":[],"bounds":{"rows_first":1000,"rows_last":250,"rows_between":1000,"halvings":1}}
["yearID","Player Name","teamID","Team Name","Player Salary","G","GS","Innings Pitched","Player K-H","Player ERA","Player WHIP","Player K/9IP","Player H/9IP","Team W","Team L","Team ERA","IPouts","SOA","HA","Team K/9IP","Team H/9IP","Team WHIP","League-Division","LG","DIV","LGS","DIVS","LGDIV ID"]
[2004,"Aardsma, David","SFN","San Francisco Giants",300000,11,0,10.666666666666666,-15,6.75,2.8125,4.21875,16.875,91,71,4.29,4371,1020,1481,6.300617707618394,9.1482498284145493,1.3925875085792725,"NL-W",{"$f":"LEFT([League-Division],1)","v":"N"},{"$f":"RIGHT([League-Division],1)","v":"W"},{"$f":"IF([LG]=\"N\",10,20)","v":10},{"$f":"IF([DIV]=\"E\",1,IF([DIV]=\"C\",2,3))","v":3},{"$f":"[LGS]+[DIVS]","v":13}]
[2007,"Aardsma, David","CHA","Chicago White Sox",387500,25,0,32.333333333333336,-3,6.4,1.7319587628865978,10.020618556701029,10.855670103092782,72,90,4.7699999999999996,4322,1015,1556,6.3408144377602955,9.7204997686256362,1.426422952336881,"AL-C",{"$f":"LEFT([League-Division],1)","v":"A"},{"$f":"RIGHT([League-Division],1)","v":"C"},{"$f":"IF([LG]=\"N\",10,20)","v":20},{"$f":"IF([DIV]=\"E\",1,IF([DIV]=\"C\",2,3))","v":2},{"$f":"[LGS]+[DIVS]","v":22}]
[2008,"Aardsma, David","BOS","Boston Red Sox",403250,47,0,48.666666666666664,0,5.55,1.726027397260274,9.0616438356164384,9.0616438356164384,95,67,4.01,4339,1185,1369,7.3738188522701087,8.5187831297534,1.3254206038257663,"AL-E",{"$f":"LEFT([League-Division],1)","v":"A"},{"$f":"RIGHT([League-Division],1)","v":"E"},{"$f":"IF([LG]=\"N\",10,20)","v":20},{"$f":"IF([DIV]=\"E\",1,IF([DIV]=\"C\",2,3))","v":1},{"$f":"[LGS]+[DIVS]","v":21}]
[2009,"Aardsma, David","SEA","Seattle Mariners",419000,73,0,71.333333333333329,31,2.52,1.1635514018691591,10.093457943925234,6.1822429906542062,85,77,3.87,4358,1043,1359,6.4619091326296463,8.4196879302432297,1.3031206975676914,"AL-W",{"$f":"LEFT([League-Division],1)","v":"A"},{"$f":"RIGHT([League-Division],1)","v":"W"},{"$f":"IF([LG]=\"N\",10,20)","v":20},{"$f":"IF([DIV]=\"E\",1,IF([DIV]=\"C\",2,3))","v":3},{"$f":"[LGS]+[DIVS]","v":23}]
[2010,"Aardsma, David","SEA","Seattle Mariners",2750000,53,0,49.666666666666664,16,3.44,1.1677852348993289,8.8791946308724832,5.9798657718120811,61,101,3.95,4314,973,1402,6.0897079276773294,8.7746870653685676,1.2892906815020861,"AL-W",{"$f":"LEFT([League-Division],1)","v":"A"},{"$f":"RIGHT([League-Division],1)","v":"W"},{"$f":"IF([LG]=\"N\",10,20)","v":20},{"$f":"IF([DIV]=\"E\",1,IF([DIV]=\"C\",2,3))","v":3},{"$f":"[LGS]+[DIVS]","v":23}]
[1995,"Abbott, Jim","CHA","Chicago White Sox",2775000,17,17,112.33333333333333,-71,3.36,1.3442136498516322,3.6053412462908012,9.293768545994066,68,76,4.8499999999999996,3852,892,1374,6.2523364485981308,9.630841121495326,1.5506230529595015,"AL-C",{"$f":"LEFT([League-Division],1)","v":"A"},{"$f":"RIGHT([League-Division],1)","v":"C"},{"$f":"IF([LG]=\"N\",10,20)","v":20},{"$f":"IF([DIV]=\"E\",1,IF([DIV]=\"C\",2,3))","v":2},{"$f":"[LGS]+[DIVS]","v":22}]
[1995,"Abbott, Jim","CAL","California Angels",2775000,13,13,84.666666666666671,-52,4.1500000000000004,1.4409448818897637,4.3582677165354324,9.8858267716535444,78,67,4.5199999999999996,3852,901,1310,6.3154205607476639,9.1822429906542045,1.3987538940809969,"AL-W",{"$f":"LEFT([League-Division],1)","v":"A"},{"$f":"RIGHT([League-Division],1)","v":"W"},{"$f":"IF([LG]=\"N\",10,20)","v":20},{"$f":"IF([DIV]=\"E\",1,IF([DIV]=\"C\",2,3))","v":3},{"$f":"[LGS]+[DIVS]","v":23}]
[1996,"Abbott, Jim","CAL","California Angels",2200000,27,23,142,-113,7.48,1.7535211267605635,3.676056338028169,10.838028169014084,70,91,5.31,4317,1052,1546,6.5795691452397502,9.6692147324530922,1.5343988881167478,"AL-W",{"$f":"LEFT([League-Division],1)","v":"A"},{"$f":"RIGHT([League-Division],1)","v":"W"},{"$f":"IF([LG]=\"N\",10,20)","v":20},{"$f":"IF([DIV]=\"E\",1,IF([DIV]=\"C\",2,3))","v":3},{"$f":"[LGS]+[DIVS]","v":23}]
[1999,"Abbott, Jim","MIL","Milwaukee Brewers",400000,20,15,82,-73,6.91,1.8536585365853659,4.0609756097560981,12.073170731707318,74,87,5.07,4327,987,1618,6.1587705107464759,10.096140513057545,1.5488791310376706,"NL-C",{"$f":"LEFT([League-Division],1)","v":"N"},{"$f":"RIGHT([League-Division],1)","v":"C"},{"$f":"IF([LG]=\"N\",10,20)","v":10},{"$f":"IF([DIV]=\"E\",1,IF([DIV]=\"C\",2,3))","v":2},{"$f":"[LGS]+[DIVS]","v":12}]
[1995,"Abbott, Kyle","PHI","Philadelphia Phillies",150000,18,0,28.333333333333332,-7,3.81,1.5529411764705883,6.6705882352941179,8.8941176470588239,69,75,4.21,3870,980,1241,6.8372093023255811,8.6581395348837216,1.3790697674418604,"NL-E",{"$f":"LEFT([League-Division],1)","v":"N"},{"$f":"RIGHT([League-Division],1)","v":"E"},{"$f":"IF([LG]=\"N\",10,20)","v":10},{"$f":"IF([DIV]=\"E\",1,IF([DIV]=\"C\",2,3))","v":1},{"$f":"[LGS]+[DIVS]","v":11}]
[1999,"Abbott, Paul","SEA","Seattle Mariners",235000,25,7,72.666666666666671,18,3.1,1.128440366972477,8.4220183486238529,6.1926605504587151,79,83,5.24,4300,980,1613,6.1534883720930242,10.12813953488372,1.6025581395348838,"AL-W",{"$f":"LEFT([League-Division],1)","v":"A"},{"$f":"RIGHT([League-Division],1)","v":"W"},{"$f":"IF([LG]=\"N\",10,20)","v":20},{"$f":"IF([DIV]=\"E\",1,IF([DIV]=\"C\",2,3))","v":3},{"$f":"[LGS]+[DIVS]","v":23}]
[2000,"Abbott, Paul","SEA","Seattle Mariners",285000,35,27,179,-64,4.22,1.3631284916201116,5.0279329608938541,8.2458100558659222,91,71,4.5,4324,998,1442,6.231729879740981,9.0041628122109145,1.4403330249768733,"AL-W",{"$f":"LEFT([League-Division],1)","v":"A"},{"$f":"RIGHT([League-Division],1)","v":"W"},{"$f":"IF([LG]=\"N\",10,20)","v":20},{"$f":"IF([DIV]=\"E\",1,IF([DIV]=\"C\",2,3))","v":3},{"$f":"[LGS]+[DIVS]","v":23}]
[2001,"Abbott, Paul","SEA","Seattle Mariners",1700000,28,27,163,-27,4.25,1.4233128834355828,6.515337423312884,8.0061349693251529,116,46,3.54,4395,1051,1293,6.4566552901023888,7.9433447098976107,1.2,"AL-W",{"$f":"LEFT([League-Division],1)","v":"A"},{"$f":"RIGHT([League-Division],1)","v":"W"},{"$f":"IF([LG]=\"N\",10,20)","v":20},{"$f":"IF([DIV]=\"E\",1,IF([DIV]=\"C\",2,3))","v":3},{"$f":"[LGS]+[DIVS]","v":23}]
[2002,"Abbott, Paul","SEA","Seattle Mariners",3425000,7,5,26.333333333333332,-18,11.96,2.278481012658228,7.518987341772152,13.670886075949369,93,69,4.07,4336,1063,1422,6.6192343173431736,8.8547047970479706,1.2889760147601477,"AL-W",{"$f":"LEFT([League-Division],1)","v":"A"},{"$f":"RIGHT([League-Division],1)","v":"W"},{"$f":"IF([LG]=\"N\",10,20)","v":20},{"$f":"IF([DIV]=\"E\",1,IF([DIV]=\"C\",2,3))","v":3},{"$f":"[LGS]+[DIVS]","v":23}]
[2004,"Abbott, Paul","TBA","Tampa Bay Devil Rays",600000,10,9,47,-24,6.7,1.6170212765957446,4.787234042553191,9.3829787234042552,70,91,4.8099999999999996,4251,923,1459,5.8623853211009171,9.2667607621736057,1.438955539872971,"AL-E",{"$f":"LEFT([League-Division],1)","v":"A"},{"$f":"RIGHT([League-Division],1)","v":"E"},{"$f":"IF([LG]=\"N\",10,20)","v":20},{"$f":"IF([DIV]=\"E\",1,IF([DIV]=\"C\",2,3))","v":1},{"$f":"[LGS]+[DIVS]","v":21}]
[2004,"Abbott, Paul","PHI","Philadelphia Phillies",600000,10,10,49,-36,6.24,1.7959183673469388,3.8571428571428568,10.469387755102041,86,76,4.45,4388,1070,1488,6.5838650865998174,9.1558796718322686,1.36052871467639,"NL-E",{"$f":"LEFT([League-Division],1)","v":"N"},{"$f":"RIGHT([League-Division],1)","v":"E"},{"$f":"IF([LG]=\"N\",10,20)","v":10},{"$f":"IF([DIV]=\"E\",1,IF([DIV]=\"C\",2,3))","v":1},{"$f":"[LGS]+[DIVS]","v":11}]
[2006,"Accardo, Jeremy","SFN","San Francisco Giants",330000,38,0,40.333333333333336,2,4.91,1.2148760330578512,8.9256198347107425,8.4793388429752063,76,85,4.63,4289,992,1422,6.2448123105619029,8.9517370016320825,1.4031242713919327,"NL-W",{"$f":"LEFT([League-Division],1)","v":"N"},{"$f":"RIGHT([League-Division],1)","v":"W"},{"$f":"IF([LG]=\"N\",10,20)","v":10},{"$f":"IF([DIV]=\"E\",1,IF([DIV]=\"C\",2,3))","v":3},{"$f":"[LGS]+[DIVS]","v":13}]
[2006,"Accardo, Jeremy","TOR","Toronto Blue Jays",330000,27,0,28.666666666666668,-24,5.97,1.6395348837209303,4.3953488372093021,11.930232558139535,87,75,4.37,4285,1076,1447,6.7799299883313893,9.1176196032672117,1.3659276546091015,"AL-E",{"$f":"LEFT([League-Division],1)","v":"A"},{"$f":"RIGHT([League-Division],1)","v":"E"},{"$f":"IF([LG]=\"N\",10,20)","v":20},{"$f":"IF([DIV]=\"E\",1,IF([DIV]=\"C\",2,3))","v":1},{"$f":"[LGS]+[DIVS]","v":21}]
[2007,"Accardo, Jeremy","TOR","Toronto Blue Jays",392200,64,0,67.333333333333329,6,2.14,1.113861386138614,7.6188118811881198,6.8168316831683171,83,79,4,4346,1067,1383,6.6288541187298655,8.5920386562356192,1.2853198343304186,"AL-E",{"$f":"LEFT([League-Division],1)","v":"A"},{"$f":"RIGHT([League-Division],1)","v":"E"},{"$f":"IF([LG]=\"N\",10,20)","v":20},{"$f":"IF([DIV]=\"E\",1,IF([DIV]=\"C\",2,3))","v":1},{"$f":"[LGS]+[DIVS]","v":21}]
[2008,"Accardo, Jeremy","TOR","Toronto Blue Jays",392200,16,0,12.333333333333334,-10,6.57,1.5405405405405406,3.6486486486486482,10.945945945945946,86,76,3.49,4340,1184,1330,7.3658986175115206,8.2741935483870961,1.2421658986175115,"AL-E",{"$f":"LEFT([League-Division],1)","v":"A"},{"$f":"RIGHT([League-Division],1)","v":"E"},{"$f":"IF([LG]=\"N\",10,20)","v":20},{"$f":"IF([DIV]=\"E\",1,IF([DIV]=\"C\",2,3))","v":1},{"$f":"[LGS]+[DIVS]","v":21}]
[2010,"Accardo, Jeremy","TOR","Toronto Blue Jays",1080000,5,0,6.666666666666667,-9,8.1,2.25,4.05,16.2,85,77,4.2300000000000004,4322,1184,1407,7.3965756594169365,8.789680703378064,1.3507635354002776,"AL-E",{"$f":"LEFT([League-Division],1)","v":"A"},{"$f":"RIGHT([League-Division],1)","v":"E"},{"$f":"IF([LG]=\"N\",10,20)","v":20},{"$f":"IF([DIV]=\"E\",1,IF([DIV]=\"C\",2,3))","v":1},{"$f":"[LGS]+[DIVS]","v":21}]
[2010,"Aceves, Alfredo","NYA","New York Yankees",435650,10,0,12,-8,3,1.1666666666666667,1.5,7.5,95,67,4.0599999999999996,4327,1154,1349,7.2008319852091516,8.4176103535937141,1.3096833834065174,"AL-E",{"$f":"LEFT([League-Division],1)","v":"A"},{"$f":"RIGHT([League-Division],1)","v":"E"},{"$f":"IF([LG]=\"N\",10,20)","v":20},{"$f":"IF([DIV]=\"E\",1,IF([DIV]=\"C\",2,3))","v":1},{"$f":"[LGS]+[DIVS]","v":21}]
[2002,"Acevedo, Jose","CIN","Cincinnati Reds",233000,6,5,23.666666666666668,-14,7.23,1.6901408450704225,5.323943661971831,10.647887323943662,78,84,4.2699999999999996,4361,980,1502,6.0674157303370784,9.2992432928227462,1.4116028433845447,"NL-C",{"$f":"LEFT([League-Division],1)","v":"N"},{"$f":"RIGHT([League-Division],1)","v":"C"},{"$f":"IF([LG]=\"N\",10,20)","v":10},{"$f":"IF([DIV]=\"E\",1,IF([DIV]=\"C\",2,3))","v":2},{"$f":"[LGS]+[DIVS]","v":12}]
[2004,"Acevedo, Jose","CIN","Cincinnati Reds",340000,39,27,157.66666666666666,-71,5.94,1.477801268498943,6.6786469344608888,10.731501057082454,76,86,5.19,4331,992,1595,6.1842530593396443,9.9434310782729156,1.5010390210113138,"NL-C",{"$f":"LEFT([League-Division],1)","v":"N"},{"$f":"RIGHT([League-Division],1)","v":"C"},{"$f":"IF([LG]=\"N\",10,20)","v":10},{"$f":"IF([DIV]=\"E\",1,IF([DIV]=\"C\",2,3))","v":2},{"$f":"[LGS]+[DIVS]","v":12}]
[1995,"Acevedo, Juan","COL","Colorado Rockies",109000,17,11,65.666666666666671,-42,6.44,1.5532994923857868,5.4822335025380706,11.238578680203045,77,67,4.97,3864,891,1443,6.2259316770186341,10.083074534161492,1.5178571428571428,"NL-W",{"$f":"LEFT([League-Division],1)","v":"N"},{"$f":"RIGHT([League-Division],1)","v":"W"},{"$f":"IF([LG]=\"N\",10,20)","v":10},{"$f":"IF([DIV]=\"E\",1,IF([DIV]=\"C\",2,3))","v":3},{"$f":"[LGS]+[DIVS]","v":13}]
[1998,"Acevedo, Juan","SLN","St. Louis Cardinals",200000,50,9,98.333333333333329,-27,2.56,1.1389830508474577,5.1254237288135593,7.5966101694915258,83,79,4.32,4409,972,1513,5.9523701519618957,9.265366296212294,1.4091630755273303,"NL-C",{"$f":"LEFT([League-Division],1)","v":"N"},{"$f":"RIGHT([League-Division],1)","v":"C"},{"$f":"IF([LG]=\"N\",10,20)","v":10},{"$f":"IF([DIV]=\"E\",1,IF([DIV]=\"C\",2,3))","v":2},{"$f":"[LGS]+[DIVS]","v":12}]
[1999,"Acevedo, Juan","SLN","St. Louis Cardinals",475000,50,12,102.33333333333333,-63,5.89,1.5928338762214984,4.5732899022801305,10.11400651465798,75,86,4.74,4335,1025,1519,6.3840830449826989,9.4608996539792383,1.5128027681660901,"NL-C",{"$f":"LEFT([League-Division],1)","v":"N"},{"$f":"RIGHT([League-Division],1)","v":"C"},{"$f":"IF([LG]=\"N\",10,20)","v":10},{"$f":"IF([DIV]=\"E\",1,IF([DIV]=\"C\",2,3))","v":2},{"$f":"[LGS]+[DIVS]","v":12}]
[2000,"Acevedo, Juan","MIL","Milwaukee Brewers",612500,62,0,82.666666666666671,-26,3.81,1.3064516129032258,5.55241935483871,8.383064516129032,73,89,4.6399999999999997,4398,967,1501,5.9365620736698492,9.2148703956343798,1.5204638472032743,"NL-C",{"$f":"LEFT([League-Division],1)","v":"N"},{"$f":"RIGHT([League-Division],1)","v":"C"},{"$f":"IF([LG]=\"N\",10,20)","v":10},{"$f":"IF([DIV]=\"E\",1,IF([DIV]=\"C\",2,3))","v":2},{"$f":"[LGS]+[DIVS]","v":12}]
[2002,"Acevedo, Juan","DET","Detroit Tigers",850000,65,0,74.666666666666671,-25,2.65,1.21875,5.1830357142857135,8.1964285714285712,55,106,4.93,4242,794,1593,5.0537482319660532,10.13932107496464,1.4540311173974541,"AL-C",{"$f":"LEFT([League-Division],1)","v":"A"},{"$f":"RIGHT([League-Division],1)","v":"C"},{"$f":"IF([LG]=\"N\",10,20)","v":20},{"$f":"IF([DIV]=\"E\",1,IF([DIV]=\"C\",2,3))","v":2},{"$f":"[LGS]+[DIVS]","v":22}]
[2003,"Acevedo, Juan","TOR","Toronto Blue Jays",900000,14,0,12.666666666666666,-9,4.26,2.0526315789473686,6.3947368421052628,12.789473684210526,86,76,4.6900000000000004,4305,984,1560,6.1714285714285717,9.7839721254355396,1.4250871080139373,"AL-E",{"$f":"LEFT([League-Division],1)","v":"A"},{"$f":"RIGHT([League-Division],1)","v":"E"},{"$f":"IF([LG]=\"N\",10,20)","v":20},{"$f":"IF([DIV]=\"E\",1,IF([DIV]=\"C\",2,3))","v":1},{"$f":"[LGS]+[DIVS]","v":21}]
[2003,"Acevedo, Juan","NYA","New York Yankees",900000,25,0,25.666666666666668,-15,7.71,1.7142857142857142,6.6623376623376611,11.922077922077921,101,61,4.0199999999999996,4386,1119,1512,6.888508891928864,9.3077975376196989,1.2906976744186047,"AL-E",{"$f":"LEFT([League-Division],1)","v":"A"},{"$f":"RIGHT([League-Division],1)","v":"E"},{"$f":"IF([LG]=\"N\",10,20)","v":20},{"$f":"IF([DIV]=\"E\",1,IF([DIV]=\"C\",2,3))","v":1},{"$f":"[LGS]+[DIVS]","v":21}]
[2008,"Acosta, Manny","ATL","Atlanta Braves",392500,46,0,53,-17,3.57,1.3962264150943395,5.2641509433962259,8.1509433962264151,72,90,4.47,4322,1076,1439,6.7218880148079592,8.9895881536325764,1.4055992596020359,"NL-E",{"$f":"LEFT([League-Division],1)","v":"N"},{"$f":"RIGHT([League-Division],1)","v":"E"},{"$f":"IF([LG]=\"N\",10,20)","v":10},{"$f":"IF([DIV]=\"E\",1,IF([DIV]=\"C\",2,3))","v":1},{"$f":"[LGS]+[DIVS]","v":11}]
[1995,"Acre, Mark","OAK","Oakland Athletics",120000,43,0,52,-5,5.71,1.5384615384615385,8.134615384615385,9,67,77,4.93,3819,890,1320,6.2922230950510603,9.3322859387274164,1.4736842105263157,"AL-W",{"$f":"LEFT([League-Division],1)","v":"A"},{"$f":"RIGHT([League-Division],1)","v":"W"},{"$f":"IF([LG]=\"N\",10,20)","v":20},{"$f":"IF([DIV]=\"E\",1,IF([DIV]=\"C\",2,3))","v":3},{"$f":"[LGS]+[DIVS]","v":23}]
[1996,"Acre, Mark","OAK","Oakland Athletics",140000,22,0,25,-20,6.12,1.88,6.4799999999999995,13.68,78,84,5.2,4368,884,1638,5.4642857142857135,10.125,1.5673076923076923,"AL-W",{"$f":"LEFT([League-Division],1)","v":"A"},{"$f":"RIGHT([League-Division],1)","v":"W"},{"$f":"IF([LG]=\"N\",10,20)","v":20},{"$f":"IF([DIV]=\"E\",1,IF([DIV]=\"C\",2,3))","v":3},{"$f":"[LGS]+[DIVS]","v":23}]
[1997,"Acre, Mark","OAK","Oakland Athletics",165000,15,0,15.666666666666666,-9,5.74,1.8510638297872342,6.8936170212765955,12.063829787234043,65,97,5.49,4335,953,1734,5.9356401384083046,10.799999999999999,1.6442906574394465,"AL-W",{"$f":"LEFT([League-Division],1)","v":"A"},{"$f":"RIGHT([League-Division],1)","v":"W"},{"$f":"IF([LG]=\"N\",10,20)","v":20},{"$f":"IF([DIV]=\"E\",1,IF([DIV]=\"C\",2,3))","v":3},{"$f":"[LGS]+[DIVS]","v":23}]
[1997,"Adamson, Joel","ML4","Milwaukee Brewers",151000,30,6,76.333333333333329,-22,3.54,1.2707423580786028,6.6026200873362448,9.1965065502183414,78,83,4.22,4282,1012,1419,6.3811303129378798,8.9474544605324624,1.3738907052779077,"AL-C",{"$f":"LEFT([League-Division],1)","v":"A"},{"$f":"RIGHT([League-Division],1)","v":"C"},{"$f":"IF([LG]=\"N\",10,20)","v":20},{"$f":"IF([DIV]=\"E\",1,IF([DIV]=\"C\",2,3))","v":2},{"$f":"[LGS]+[DIVS]","v":22}]
[1998,"Adamson, Joel","ARI","Arizona Diamondbacks",210000,5,5,23,-11,8.2200000000000006,1.5652173913043479,5.4782608695652177,9.7826086956521738,65,97,4.6399999999999997,4296,908,1463,5.7067039106145252,9.1948324022346366,1.3631284916201116,"NL-W",{"$f":"LEFT([League-Division],1)","v":"N"},{"$f":"RIGHT([League-Division],1)","v":"W"},{"$f":"IF([LG]=\"N\",10,20)","v":10},{"$f":"IF([DIV]=\"E\",1,IF([DIV]=\"C\",2,3))","v":3},{"$f":"[LGS]+[DIVS]","v":13}]
[2005,"Adams, Mike","MIL","Milwaukee Brewers",331000,13,0,13.333333333333334,2,2.7,1.65,9.4500000000000011,8.1,81,81,3.97,4314,1173,1382,7.3414464534075101,8.649513212795549,1.3567454798331016,"NL-C",{"$f":"LEFT([League-Division],1)","v":"N"},{"$f":"RIGHT([League-Division],1)","v":"C"},{"$f":"IF([LG]=\"N\",10,20)","v":10},{"$f":"IF([DIV]=\"E\",1,IF([DIV]=\"C\",2,3))","v":2},{"$f":"[LGS]+[DIVS]","v":12}]
[2009,"Adams, Mike","SDN","San Diego Padres",414800,37,0,37,31,0.73,0.59459459459459463,10.945945945945946,3.4054054054054057,75,87,4.37,4352,1187,1422,7.3642003676470589,8.8221507352941178,1.3959099264705881,"NL-W",{"$f":"LEFT([League-Division],1)","v":"N"},{"$f":"RIGHT([League-Division],1)","v":"W"},{"$f":"IF([LG]=\"N\",10,20)","v":10},{"$f":"IF([DIV]=\"E\",1,IF([DIV]=\"C\",2,3))","v":3},{"$f":"[LGS]+[DIVS]","v":13}]
[2010,"Adams, Mike","SDN","San Diego Padres",1000000,70,0,66.666666666666671,25,1.76,1.0649999999999999,9.8550000000000004,6.4799999999999995,90,72,3.41,4369,1295,1305,8.0029755092698558,8.0647745479514761,1.2510872053101396,"NL-W",{"$f":"LEFT([League-Division],1)","v":"N"},{"$f":"RIGHT([League-Division],1)","v":"W"},{"$f":"IF([LG]=\"N\",10,20)","v":10},{"$f":"IF([DIV]=\"E\",1,IF([DIV]=\"C\",2,3))","v":3},{"$f":"[LGS]+[DIVS]","v":13}]
[1995,"Adams, Terry","CHN","Chicago Cubs",109000,18,0,18,-7,6.5,1.7777777777777777,7.5,11,73,71,4.13,3903,926,1313,6.4058416602613368,9.0830130668716365,1.4073789392774789,"NL-C",{"$f":"LEFT([League-Division],1)","v":"N"},{"$f":"RIGHT([League-Division],1)","v":"C"},{"$f":"IF([LG]=\"N\",10,20)","v":10},{"$f":"IF([DIV]=\"E\",1,IF([DIV]=\"C\",2,3))","v":2},{"$f":"[LGS]+[DIVS]","v":12}]
[1996,"Adams, Terry","CHN","Chicago Cubs",113000,69,0,101,-6,2.94,1.3168316831683169,6.9504950495049505,7.4851485148514847,76,86,4.3600000000000003,4368,1027,1447,6.3482142857142865,8.9443681318681314,1.3688186813186813,"NL-C",{"$f":"LEFT([League-Division],1)","v":"N"},{"$f":"RIGHT([League-Division],1)","v":"C"},{"$f":"IF([LG]=\"N\",10,20)","v":10},{"$f":"IF([DIV]=\"E\",1,IF([DIV]=\"C\",2,3))","v":2},{"$f":"[LGS]+[DIVS]","v":12}]
[1997,"Adams, Terry","CHN","Chicago Cubs",215000,74,0,74,-27,4.62,1.7702702702702702,7.7837837837837842,11.067567567567568,68,94,4.4400000000000004,4287,1072,1451,6.7515745276417078,9.1385584324702585,1.4282715185444366,"NL-C",{"$f":"LEFT([League-Division],1)","v":"N"},{"$f":"RIGHT([League-Division],1)","v":"C"},{"$f":"IF([LG]=\"N\",10,20)","v":10},{"$f":"IF([DIV]=\"E\",1,IF([DIV]=\"C\",2,3))","v":2},{"$f":"[LGS]+[DIVS]","v":12}]
[1998,"Adams, Terry","CHN","Chicago Cubs",295000,63,0,72.666666666666671,1,4.33,1.5550458715596329,9.0412844036697244,8.9174311926605494,90,73,4.5,4431,1207,1528,7.3547731888964121,9.3107650643195665,1.4238320920785377,"NL-C",{"$f":"LEFT([League-Division],1)","v":"N"},{"$f":"RIGHT([League-Division],1)","v":"C"},{"$f":"IF([LG]=\"N\",10,20)","v":10},{"$f":"IF([DIV]=\"E\",1,IF([DIV]=\"C\",2,3))","v":2},{"$f":"[LGS]+[DIVS]","v":12}]
[1999,"Adams, Terry","CHN","Chicago Cubs",736000,52,0,65,-3,4.0199999999999996,1.3538461538461539,7.8923076923076927,8.3076923076923084,67,95,5.27,4291,980,1619,6.1663947797716148,10.187135865765557,1.5017478443253323,"NL-C",{"$f":"LEFT([League-Division],1)","v":"N"},{"$f":"RIGHT([League-Division],1)","v":"C"},{"$f":"IF([LG]=\"N\",10,20)","v":10},{"$f":"IF([DIV]=\"E\",1,IF([DIV]=\"C\",2,3))","v":2},{"$f":"[LGS]+[DIVS]","v":12}]
[2000,"Adams, Terry","LAN","Los Angeles Dodgers",1400000,66,0,84.333333333333329,-24,3.52,1.4110671936758894,5.9762845849802373,8.537549407114625,86,76,4.0999999999999996,4335,1154,1379,7.1875432525951561,8.5889273356401379,1.3695501730103807,"NL-W",{"$f":"LEFT([League-Division],1)","v":"N"},{"$f":"RIGHT([League-Division],1)","v":"W"},{"$f":"IF([LG]=\"N\",10,20)","v":10},{"$f":"IF([DIV]=\"E\",1,IF([DIV]=\"C\",2,3))","v":3},{"$f":"[LGS]+[DIVS]","v":13}]
[2001,"Adams, Terry","LAN","Los Angeles Dodgers",2600000,43,22,166.33333333333334,-31,4.33,1.3587174348697395,7.6292585170340681,9.3066132264529049,86,76,4.25,4352,1212,1387,7.5193014705882355,8.605009191176471,1.3173253676470587,"NL-W",{"$f":"LEFT([League-Division],1)","v":"N"},{"$f":"RIGHT([League-Division],1)","v":"W"},{"$f":"IF([LG]=\"N\",10,20)","v":10},{"$f":"IF([DIV]=\"E\",1,IF([DIV]=\"C\",2,3))","v":3},{"$f":"[LGS]+[DIVS]","v":13}]
[2002,"Adams, Terry","PHI","Philadelphia Phillies",2700000,46,19,136.66666666666666,-36,4.3499999999999996,1.3902439024390245,6.3219512195121954,8.6926829268292689,80,81,4.17,4349,1075,1381,6.6739480340308113,8.5736951023223718,1.345826626810761,"NL-E",{"$f":"LEFT([League-Division],1)","v":"N"},{"$f":"RIGHT([League-Division],1)","v":"E"},{"$f":"IF([LG]=\"N\",10,20)","v":10},{"$f":"IF([DIV]=\"E\",1,IF([DIV]=\"C\",2,3))","v":1},{"$f":"[LGS]+[DIVS]","v":11}]
[2003,"Adams, Terry","PHI","Philadelphia Phillies",2900000,66,0,68,-17,2.65,1.338235294117647,6.75,9,86,76,4.04,4331,1060,1386,6.6081736319556681,8.6404987300854312,1.3313322558300622,"NL-E",{"$f":"LEFT([League-Division],1)","v":"N"},{"$f":"RIGHT([League-Division],1)","v":"E"},{"$f":"IF([LG]=\"N\",10,20)","v":10},{"$f":"IF([DIV]=\"E\",1,IF([DIV]=\"C\",2,3))","v":1},{"$f":"[LGS]+[DIVS]","v":11}]
[2004,"Adams, Terry","TOR","Toronto Blue Jays",1700000,42,0,43,-14,3.98,1.6511627906976745,7.3255813953488369,10.255813953488373,67,94,4.91,4263,956,1505,6.0548909218859963,9.5320197044334964,1.4869809992962701,"AL-E",{"$f":"LEFT([League-Division],1)","v":"A"},{"$f":"RIGHT([League-Division],1)","v":"E"},{"$f":"IF([LG]=\"N\",10,20)","v":20},{"$f":"IF([DIV]=\"E\",1,IF([DIV]=\"C\",2,3))","v":1},{"$f":"[LGS]+[DIVS]","v":21}]
[2004,"Adams, Terry","BOS","Boston Red Sox",1700000,19,0,27,-14,6,1.5185185185185186,7,11.666666666666666,98,64,4.18,4354,1132,1430,7.0197519522278373,8.8677078548461186,1.2932935231970601,"AL-E",{"$f":"LEFT([League-Division],1)","v":"A"},{"$f":"RIGHT([League-Division],1)","v":"E"},{"$f":"IF([LG]=\"N\",10,20)","v":20},{"$f":"IF([DIV]=\"E\",1,IF([DIV]=\"C\",2,3))","v":1},{"$f":"[LGS]+[DIVS]","v":21}]
[2005,"Adams, Terry","PHI","Philadelphia Phillies",500000,16,0,13.333333333333334,-21,12.83,2.625,2.6999999999999997,16.875,88,74,4.21,4305,1159,1379,7.2689895470383279,8.6487804878048777,1.3003484320557492,"NL-E",{"$f":"LEFT([League-Division],1)","v":"N"},{"$f":"RIGHT([League-Division],1)","v":"E"},{"$f":"IF([LG]=\"N\",10,20)","v":10},{"$f":"IF([DIV]=\"E\",1,IF([DIV]=\"C\",2,3))","v":1},{"$f":"[LGS]+[DIVS]","v":11}]
[1996,"Adams, Willie","OAK","Oakland Athletics",109000,12,12,76.333333333333329,-8,4.01,1.2969432314410481,8.0174672489082983,8.9606986899563328,78,84,5.2,4368,884,1638,5.4642857142857135,10.125,1.5673076923076923,"AL-W",{"$f":"LEFT([League-Division],1)","v":"A"},{"$f":"RIGHT([League-Division],1)","v":"W"},{"$f":"IF([LG]=\"N\",10,20)","v":20},{"$f":"IF([DIV]=\"E\",1,IF([DIV]=\"C\",2,3))","v":3},{"$f":"[LGS]+[DIVS]","v":23}]
[1997,"Adams, Willie","OAK","Oakland Athletics",157500,13,12,58.333333333333336,-36,8.18,1.7999999999999998,5.7085714285714282,11.262857142857142,65,97,5.49,4335,953,1734,5.9356401384083046,10.799999999999999,1.6442906574394465,"AL-W",{"$f":"LEFT([League-Division],1)","v":"A"},{"$f":"RIGHT([League-Division],1)","v":"W"},{"$f":"IF([LG]=\"N\",10,20)","v":20},{"$f":"IF([DIV]=\"E\",1,IF([DIV]=\"C\",2,3))","v":3},{"$f":"[LGS]+[DIVS]","v":23}]
[2009,"Adenhart, Nick","LAA","Los Angeles Angels of Anaheim",400000,1,1,6,-2,0,1.6666666666666667,7.5,10.5,97,65,4.45,4335,1062,1513,6.6145328719723189,9.4235294117647062,1.4089965397923876,"AL-W",{"$f":"LEFT([League-Division],1)","v":"A"},{"$f":"RIGHT([League-Division],1)","v":"W"},{"$f":"IF([LG]=\"N\",10,20)","v":20},{"$f":"IF([DIV]=\"E\",1,IF([DIV]=\"C\",2,3))","v":3},{"$f":"[LGS]+[DIVS]","v":23}]
[2004,"Adkins, Jon","CHA","Chicago White Sox",301000,50,0,62,-31,4.6500000000000004,1.532258064516129,6.3870967741935489,10.887096774193548,83,79,4.91,4297,1013,1505,6.3651384686990928,9.456597626250872,1.4186641843146381,"AL-C",{"$f":"LEFT([League-Division],1)","v":"A"},{"$f":"RIGHT([League-Division],1)","v":"C"},{"$f":"IF([LG]=\"N\",10,20)","v":20},{"$f":"IF([DIV]=\"E\",1,IF([DIV]=\"C\",2,3))","v":2},{"$f":"[LGS]+[DIVS]","v":22}]
[2002,"Affeldt, Jeremy","KCA","Kansas City Royals",200000,34,7,77.666666666666671,-18,4.6399999999999997,1.5708154506437768,7.7639484978540771,9.8497854077253209,62,100,5.21,4323,909,1587,5.6773074253990288,9.9118667591950036,1.4982650936849411,"AL-C",{"$f":"LEFT([League-Division],1)","v":"A"},{"$f":"RIGHT([League-Division],1)","v":"C"},{"$f":"IF([LG]=\"N\",10,20)","v":20},{"$f":"IF([DIV]=\"E\",1,IF([DIV]=\"C\",2,3))","v":2},{"$f":"[LGS]+[DIVS]","v":22}]
[2003,"Affeldt, Jeremy","KCA","Kansas City Royals",313000,36,18,126,-28,3.93,1.3015873015873016,7,9,83,79,5.0599999999999996,4316,865,1569,5.4112604263206672,9.8153382761816488,1.4840129749768303,"AL-C",{"$f":"LEFT([League-Division],1)","v":"A"},{"$f":"RIGHT([League-Division],1)","v":"C"},{"$f":"IF([LG]=\"N\",10,20)","v":20},{"$f":"IF([DIV]=\"E\",1,IF([DIV]=\"C\",2,3))","v":2},{"$f":"[LGS]+[DIVS]","v":22}]
[2004,"Affeldt, Jeremy","KCA","Kansas City Royals",350000,38,8,76.333333333333329,-42,4.95,1.6113537117903931,5.7772925764192147,10.729257641921397,58,104,5.15,4261,887,1638,5.6205116169913163,10.379253696315418,1.5179535320347337,"AL-C",{"$f":"LEFT([League-Division],1)","v":"A"},{"$f":"RIGHT([League-Division],1)","v":"C"},{"$f":"IF([LG]=\"N\",10,20)","v":20},{"$f":"IF([DIV]=\"E\",1,IF([DIV]=\"C\",2,3))","v":2},{"$f":"[LGS]+[DIVS]","v":22}]
[2005,"Affeldt, Jeremy","KCA","Kansas City Royals",950000,49,0,49.666666666666664,-17,5.26,1.7114093959731544,7.0671140939597326,10.14765100671141,56,106,5.49,4240,924,1640,5.8839622641509433,10.443396226415095,1.5707547169811322,"AL-C",{"$f":"LEFT([League-Division],1)","v":"A"},{"$f":"RIGHT([League-Division],1)","v":"C"},{"$f":"IF([LG]=\"N\",10,20)","v":20},{"$f":"IF([DIV]=\"E\",1,IF([DIV]=\"C\",2,3))","v":2},{"$f":"[LGS]+[DIVS]","v":22}]
[2006,"Affeldt, Jeremy","KCA","Kansas City Royals",1000000,27,9,70,-43,5.91,1.6142857142857143,3.6,9.1285714285714281,62,100,5.65,4279,904,1648,5.7041364804860955,10.398691283010049,1.6020098153774247,"AL-C",{"$f":"LEFT([League-Division],1)","v":"A"},{"$f":"RIGHT([League-Division],1)","v":"C"},{"$f":"IF([LG]=\"N\",10,20)","v":20},{"$f":"IF([DIV]=\"E\",1,IF([DIV]=\"C\",2,3))","v":2},{"$f":"[LGS]+[DIVS]","v":22}]
[2006,"Affeldt, Jeremy","COL","Colorado Rockies",1000000,27,0,27.333333333333332,-11,6.91,1.6097560975609757,6.5853658536585362,10.207317073170733,76,86,4.66,4342,952,1549,5.9198526024873335,9.6321971441731922,1.4523261169967758,"NL-W",{"$f":"LEFT([League-Division],1)","v":"N"},{"$f":"RIGHT([League-Division],1)","v":"W"},{"$f":"IF([LG]=\"N\",10,20)","v":10},{"$f":"IF([DIV]=\"E\",1,IF([DIV]=\"C\",2,3))","v":3},{"$f":"[LGS]+[DIVS]","v":13}]
[2007,"Affeldt, Jeremy","COL","Colorado Rockies",1250000,75,0,59,-1,3.51,1.3559322033898304,7.0169491525423728,7.1694915254237284,90,73,4.32,4416,967,1497,5.9123641304347823,9.1528532608695645,1.359375,"NL-W",{"$f":"LEFT([League-Division],1)","v":"N"},{"$f":"RIGHT([League-Division],1)","v":"W"},{"$f":"IF([LG]=\"N\",10,20)","v":10},{"$f":"IF([DIV]=\"E\",1,IF([DIV]=\"C\",2,3))","v":3},{"$f":"[LGS]+[DIVS]","v":13}]
[2008,"Affeldt, Jeremy","CIN","Cincinnati Reds",3000000,74,0,78.333333333333329,2,3.33,1.3148936170212766,9.1914893617021285,8.9617021276595761,74,88,4.55,4327,1227,1542,7.6563438872197835,9.6219089438409995,1.4552807950080888,"NL-C",{"$f":"LEFT([League-Division],1)","v":"N"},{"$f":"RIGHT([League-Division],1)","v":"C"},{"$f":"IF([LG]=\"N\",10,20)","v":10},{"$f":"IF([DIV]=\"E\",1,IF([DIV]=\"C\",2,3))","v":2},{"$f":"[LGS]+[DIVS]","v":12}]
[2009,"Affeldt, Jeremy","SFN","San Francisco Giants",3500000,74,0,62.333333333333336,13,1.73,1.1711229946524064,7.9411764705882355,6.0641711229946527,88,74,3.55,4338,1302,1268,8.1037344398340245,7.8921161825726145,1.2807745504840939,"NL-W",{"$f":"LEFT([League-Division],1)","v":"N"},{"$f":"RIGHT([League-Division],1)","v":"W"},{"$f":"IF([LG]=\"N\",10,20)","v":10},{"$f":"IF([DIV]=\"E\",1,IF([DIV]=\"C\",2,3))","v":3},{"$f":"[LGS]+[DIVS]","v":13}]
[2010,"Affeldt, Jeremy","SFN","San Francisco Giants",4000000,53,0,50,-12,4.1399999999999997,1.6,7.92,10.080000000000002,92,70,3.36,4383,1331,1279,8.1991786447638599,7.8788501026694044,1.271047227926078,"NL-W",{"$f":"LEFT([League-Division],1)","v":"N"},{"$f":"RIGHT([League-Division],1)","v":"W"},{"$f":"IF([LG]=\"N\",10,20)","v":10},{"$f":"IF([DIV]=\"E\",1,IF([DIV]=\"C\",2,3))","v":3},{"$f":"[LGS]+[DIVS]","v":13}]
[1995,"Aguilera, Rick","MIN","Minnesota Twins",4350000,22,0,25,9,2.52,1.04,10.44,7.2,56,88,5.76,3816,790,1450,5.5896226415094343,10.259433962264151,1.5589622641509433,"AL-C",{"$f":"LEFT([League-Division],1)","v":"A"},{"$f":"RIGHT([League-Division],1)","v":"C"},{"$f":"IF([LG]=\"N\",10,20)","v":20},{"$f":"IF([DIV]=\"E\",1,IF([DIV]=\"C\",2,3))","v":2},{"$f":"[LGS]+[DIVS]","v":22}]
[1995,"Aguilera, Rick","BOS","Boston Red Sox",4350000,30,0,30.333333333333332,-3,2.67,1.087912087912088,6.8241758241758248,7.7142857142857153,86,58,4.3899999999999997,3876,888,1338,6.1857585139318889,9.3204334365325074,1.4040247678018576,"AL-E",{"$f":"LEFT([League-Division],1)","v":"A"},{"$f":"RIGHT([League-Division],1)","v":"E"},{"$f":"IF([LG]=\"N\",10,20)","v":20},{"$f":"IF([DIV]=\"E\",1,IF([DIV]=\"C\",2,3))","v":1},{"$f":"[LGS]+[DIVS]","v":21}]
[1996,"Aguilera, Rick","MIN","Minnesota Twins",3500000,19,19,111.33333333333333,-41,5.42,1.3562874251497006,6.7095808383233537,10.023952095808385,78,84,5.3,4317,959,1561,5.9979152189020155,9.7630298818624048,1.488533703961084,"AL-C",{"$f":"LEFT([League-Division],1)","v":"A"},{"$f":"RIGHT([League-Division],1)","v":"C"},{"$f":"IF([LG]=\"N\",10,20)","v":20},{"$f":"IF([DIV]=\"E\",1,IF([DIV]=\"C\",2,3))","v":2},{"$f":"[LGS]+[DIVS]","v":22}]
[1997,"Aguilera, Rick","MIN","Minnesota Twins",3075000,61,0,68.333333333333329,3,3.82,1.2731707317073171,8.9560975609756106,8.5609756097560989,68,94,5.0199999999999996,4302,908,1596,5.6987447698744766,10.01673640167364,1.4581589958158996,"AL-C",{"$f":"LEFT([League-Division],1)","v":"A"},{"$f":"RIGHT([League-Division],1)","v":"C"},{"$f":"IF([LG]=\"N\",10,20)","v":20},{"$f":"IF([DIV]=\"E\",1,IF([DIV]=\"C\",2,3))","v":2},{"$f":"[LGS]+[DIVS]","v":22}]
[1998,"Aguilera, Rick","MIN","Minnesota Twins",2750000,68,0,74.333333333333329,-18,4.24,1.2107623318385652,6.9013452914798217,9.0807174887892383,70,92,4.76,4342,952,1622,5.9198526024873335,10.086135421464764,1.4364348226623675,"AL-C",{"$f":"LEFT([League-Division],1)","v":"A"},{"$f":"RIGHT([League-Division],1)","v":"C"},{"$f":"IF([LG]=\"N\",10,20)","v":20},{"$f":"IF([DIV]=\"E\",1,IF([DIV]=\"C\",2,3))","v":2},{"$f":"[LGS]+[DIVS]","v":22}]
[1999,"Aguilera, Rick","MIN","Minnesota Twins",4300000,17,0,21.333333333333332,3,1.27,0.5625,5.484375,4.21875,63,97,5.0199999999999996,4269,927,1591,5.8629655657062543,10.062543921293043,1.4602951510892481,"AL-C",{"$f":"LEFT([League-Division],1)","v":"A"},{"$f":"RIGHT([League-Division],1)","v":"C"},{"$f":"IF([LG]=\"N\",10,20)","v":20},{"$f":"IF([DIV]=\"E\",1,IF([DIV]=\"C\",2,3))","v":2},{"$f":"[LGS]+[DIVS]","v":22}]
[1999,"Aguilera, Rick","CHN","Chicago Cubs",4300000,44,0,46.333333333333336,-12,3.69,1.1654676258992804,6.2158273381294959,8.5467625899280577,67,95,5.27,4291,980,1619,6.1663947797716148,10.187135865765557,1.5017478443253323,"NL-C",{"$f":"LEFT([League-Division],1)","v":"N"},{"$f":"RIGHT([League-Division],1)","v":"C"},{"$f":"IF([LG]=\"N\",10,20)","v":10},{"$f":"IF([DIV]=\"E\",1,IF([DIV]=\"C\",2,3))","v":2},{"$f":"[LGS]+[DIVS]","v":12}]
[2000,"Aguilera, Rick","CHN","Chicago Cubs",3500000,54,0,47.666666666666664,-9,4.91,1.3636363636363638,7.1748251748251759,8.8741258741258751,65,97,5.25,4363,1143,1505,7.0733440293376129,9.3135457254182903,1.487279394911758,"NL-C",{"$f":"LEFT([League-Division],1)","v":"N"},{"$f":"RIGHT([League-Division],1)","v":"C"},{"$f":"IF([LG]=\"N\",10,20)","v":10},{"$f":"IF([DIV]=\"E\",1,IF([DIV]=\"C\",2,3))","v":2},{"$f":"[LGS]+[DIVS]","v":12}]
[2002,"Ainsworth, Kurt","SFN","San Francisco Giants",200000,6,4,25.666666666666668,-7,2.1,1.3246753246753247,5.2597402597402594,7.7142857142857135,95,66,3.54,4312,992,1349,6.2115027829313547,8.4468923933209652,1.3024118738404453,"NL-W",{"$f":"LEFT([League-Division],1)","v":"N"},{"$f":"RIGHT([League-Division],1)","v":"W"},{"$f":"IF([LG]=\"N\",10,20)","v":10},{"$f":"IF([DIV]=\"E\",1,IF([DIV]=\"C\",2,3))","v":3},{"$f":"[LGS]+[DIVS]","v":13}]
[2003,"Ainsworth, Kurt","SFN","San Francisco Giants",302000,11,11,66,-18,3.82,1.393939393939394,6.5454545454545459,9,100,61,3.73,4312,1006,1349,6.2991651205936918,8.4468923933209652,1.3184137291280149,"NL-W",{"$f":"LEFT([League-Division],1)","v":"N"},{"$f":"RIGHT([League-Division],1)","v":"W"},{"$f":"IF([LG]=\"N\",10,20)","v":10},{"$f":"IF([DIV]=\"E\",1,IF([DIV]=\"C\",2,3))","v":3},{"$f":"[LGS]+[DIVS]","v":13}]
[2003,"Ainsworth, Kurt","BAL","Baltimore Orioles",302000,3,0,2.3333333333333335,-2,11.57,3,15.428571428571427,23.142857142857139,71,91,4.76,4349,981,1579,6.0903656012876519,9.8029432053345573,1.4520579443550241,"AL-E",{"$f":"LEFT([League-Division],1)","v":"A"},{"$f":"RIGHT([League-Division],1)","v":"E"},{"$f":"IF([LG]=\"N\",10,20)","v":20},{"$f":"IF([DIV]=\"E\",1,IF([DIV]=\"C\",2,3))","v":1},{"$f":"[LGS]+[DIVS]","v":21}]
[2004,"Ainsworth, Kurt","BAL","Baltimore Orioles",315000,7,7,30.666666666666668,-19,9.68,1.9239130434782608,5.8695652173913047,11.445652173913043,78,84,4.7,4366,1090,1488,6.7407237746220803,9.2020155748969312,1.494502977553825,"AL-E",{"$f":"LEFT([League-Division],1)","v":"A"},{"$f":"RIGHT([League-Division],1)","v":"E"},{"$f":"IF([LG]=\"N\",10,20)","v":20},{"$f":"IF([DIV]=\"E\",1,IF([DIV]=\"C\",2,3))","v":1},{"$f":"[LGS]+[DIVS]","v":21}]
[2008,"Albaladejo, Jonathan","NYA","New York Yankees",393225,7,0,13.666666666666666,-2,3.95,1.5365853658536586,8.5609756097560989,9.8780487804878057,89,73,4.28,4325,1141,1478,7.123005780346821,9.2268208092485544,1.3643930635838148,"AL-E",{"$f":"LEFT([League-Division],1)","v":"A"},{"$f":"RIGHT([League-Division],1)","v":"E"},{"$f":"IF([LG]=\"N\",10,20)","v":20},{"$f":"IF([DIV]=\"E\",1,IF([DIV]=\"C\",2,3))","v":1},{"$f":"[LGS]+[DIVS]","v":21}]
[2009,"Albaladejo, Jonathan","NYA","New York Yankees",403075,32,0,34.333333333333336,-20,5.24,1.6601941747572815,5.5048543689320386,10.74757281553398,103,59,4.28,4350,1260,1386,7.8206896551724139,8.6027586206896558,1.3517241379310345,"AL-E",{"$f":"LEFT([League-Division],1)","v":"A"},{"$f":"RIGHT([League-Division],1)","v":"E"},{"$f":"IF([LG]=\"N\",10,20)","v":20},{"$f":"IF([DIV]=\"E\",1,IF([DIV]=\"C\",2,3))","v":1},{"$f":"[LGS]+[DIVS]","v":21}]
[1995,"Alberro, Jose","TEX","Texas Rangers",109000,12,0,20.666666666666668,-16,7.4,1.8387096774193548,4.354838709677419,11.32258064516129,74,70,4.66,3855,838,1385,5.8692607003891055,9.700389105058365,1.4778210116731518,"AL-W",{"$f":"LEFT([League-Division],1)","v":"A"},{"$f":"RIGHT([League-Division],1)","v":"W"},{"$f":"IF([LG]=\"N\",10,20)","v":20},{"$f":"IF([DIV]=\"E\",1,IF([DIV]=\"C\",2,3))","v":3},{"$f":"[LGS]+[DIVS]","v":23}]
[2008,"Albers, Matt","BAL","Baltimore Orioles",395000,28,3,49,-17,3.49,1.3265306122448979,4.7755102040816331,7.8979591836734695,68,93,5.15,4266,922,1538,5.8354430379746836,9.7341772151898738,1.5646976090014064,"AL-E",{"$f":"LEFT([League-Division],1)","v":"A"},{"$f":"RIGHT([League-Division],1)","v":"E"},{"$f":"IF([LG]=\"N\",10,20)","v":20},{"$f":"IF([DIV]=\"E\",1,IF([DIV]=\"C\",2,3))","v":1},{"$f":"[LGS]+[DIVS]","v":21}]
[2009,"Albers, Matt","BAL","Baltimore Orioles",410000,56,0,67,-31,5.51,1.7313432835820894,6.5820895522388057,10.746268656716417,64,98,5.16,4287,933,1633,5.8761371588523446,10.284814555633311,1.5248425472358293,"AL-E",{"$f":"LEFT([League-Division],1)","v":"A"},{"$f":"RIGHT([League-Division],1)","v":"E"},{"$f":"IF([LG]=\"N\",10,20)","v":20},{"$f":"IF([DIV]=\"E\",1,IF([DIV]=\"C\",2,3))","v":1},{"$f":"[LGS]+[DIVS]","v":21}]
[2010,"Albers, Matt","BAL","Baltimore Orioles",680000,62,0,75.666666666666671,-29,4.5199999999999996,1.4801762114537445,5.8281938325991183,9.2775330396475777,66,96,4.59,4309,1007,1508,6.3098166627987933,9.4490601067533078,1.41192852169877,"AL-E",{"$f":"LEFT([League-Division],1)","v":"A"},{"$f":"RIGHT([League-Division],1)","v":"E"},{"$f":"IF([LG]=\"N\",10,20)","v":20},{"$f":"IF([DIV]=\"E\",1,IF([DIV]=\"C\",2,3))","v":1},{"$f":"[LGS]+[DIVS]","v":21}]
[1996,"Aldrete, Mike","NYA","New York Yankees",250000,1,0,1,-1,0,1,0,9,92,70,4.6500000000000004,4320,1139,1469,7.1187499999999995,9.1812500000000004,1.4437500000000001,"AL-E",{"$f":"LEFT([League-Division],1)","v":"A"},{"$f":"RIGHT([League-Division],1)","v":"E"},{"$f":"IF([LG]=\"N\",10,20)","v":20},{"$f":"IF([DIV]=\"E\",1,IF([DIV]=\"C\",2,3))","v":1},{"$f":"[LGS]+[DIVS]","v":21}]
[1996,"Aldred, Scott","MIN","Minnesota Twins",150000,25,17,122,-59,5.09,1.4426229508196722,5.5327868852459021,9.8852459016393457,78,84,5.3,4317,959,1561,5.9979152189020155,9.7630298818624048,1.488533703961084,"AL-C",{"$f":"LEFT([League-Division],1)","v":"A"},{"$f":"RIGHT([League-Division],1)","v":"C"},{"$f":"IF([LG]=\"N\",10,20)","v":20},{"$f":"IF([DIV]=\"E\",1,IF([DIV]=\"C\",2,3))","v":2},{"$f":"[LGS]+[DIVS]","v":22}]
[1996,"Aldred, Scott","DET","Detroit Tigers",150000,11,8,43.333333333333336,-24,9.35,1.9846153846153844,7.4769230769230761,12.461538461538462,53,109,6.38,4296,957,1699,6.0146648044692741,10.678072625698325,1.7339385474860336,"AL-E",{"$f":"LEFT([League-Division],1)","v":"A"},{"$f":"RIGHT([League-Division],1)","v":"E"},{"$f":"IF([LG]=\"N\",10,20)","v":20},{"$f":"IF([DIV]=\"E\",1,IF([DIV]=\"C\",2,3))","v":1},{"$f":"[LGS]+[DIVS]","v":21}]
[1997,"Aldred, Scott","MIN","Minnesota Twins",225000,17,15,77.333333333333329,-69,7.68,1.6810344827586208,3.8405172413793109,11.870689655172415,68,94,5.0199999999999996,4302,908,1596,5.6987447698744766,10.01673640167364,1.4581589958158996,"AL-C",{"$f":"LEFT([League-Division],1)","v":"A"},{"$f":"RIGHT([League-Division],1)","v":"C"},{"$f":"IF([LG]=\"N\",10,20)","v":20},{"$f":"IF([DIV]=\"E\",1,IF([DIV]=\"C\",2,3))","v":2},{"$f":"[LGS]+[DIVS]","v":22}]
[1998,"Aldred, Scott","TBA","Tampa Bay Devil Rays",275000,48,0,31.333333333333332,-12,3.73,1.4361702127659575,6.0319148936170217,9.4787234042553195,63,99,4.3499999999999996,4329,1008,1425,6.2869022869022873,8.8877338877338872,1.4331254331254331,"AL-E",{"$f":"LEFT([League-Division],1)","v":"A"},{"$f":"RIGHT([League-Division],1)","v":"E"},{"$f":"IF([LG]=\"N\",10,20)","v":20},{"$f":"IF([DIV]=\"E\",1,IF([DIV]=\"C\",2,3))","v":1},{"$f":"[LGS]+[DIVS]","v":21}]
[1999,"Aldred, Scott","TBA","Tampa Bay Devil Rays",545000,37,0,24.333333333333332,-4,5.18,1.6438356164383563,8.1369863013698627,9.6164383561643838,69,93,5.0599999999999996,4297,1055,1606,6.6290435187340009,10.091226437049105,1.6064696299744008,"AL-E",{"$f":"LEFT([League-Division],1)","v":"A"},{"$f":"RIGHT([League-Division],1)","v":"E"},{"$f":"IF([LG]=\"N\",10,20)","v":20},{"$f":"IF([DIV]=\"E\",1,IF([DIV]=\"C\",2,3))","v":1},{"$f":"[LGS]+[DIVS]","v":21}]
[1999,"Aldred, Scott","PHI","Philadelphia Phillies",545000,29,0,32.333333333333336,-14,3.9,1.4845360824742266,5.288659793814432,9.1855670103092777,77,85,4.93,4314,1030,1494,6.4464534075104316,9.350486787204451,1.4749652294853963,"NL-E",{"$f":"LEFT([League-Division],1)","v":"N"},{"$f":"RIGHT([League-Division],1)","v":"E"},{"$f":"IF([LG]=\"N\",10,20)","v":10},{"$f":"IF([DIV]=\"E\",1,IF([DIV]=\"C\",2,3))","v":1},{"$f":"[LGS]+[DIVS]","v":11}]
[2000,"Aldred, Scott","PHI","Philadelphia Phillies",600000,23,0,20.333333333333332,-2,5.75,1.6229508196721312,9.2950819672131146,10.18032786885246,65,97,4.7699999999999996,4315,1123,1458,7.0268829663962915,9.1230590961761315,1.4586326767091542,"NL-E",{"$f":"LEFT([League-Division],1)","v":"N"},{"$f":"RIGHT([League-Division],1)","v":"E"},{"$f":"IF([LG]=\"N\",10,20)","v":10},{"$f":"IF([DIV]=\"E\",1,IF([DIV]=\"C\",2,3))","v":1},{"$f":"[LGS]+[DIVS]","v":11}]
[1996,"Alexander, Manny","BAL","Baltimore Orioles",190000,1,0,0.66666666666666663,-1,67.5,7.5,0,13.5,88,74,5.15,4404,1047,1604,6.4189373297002721,9.8337874659400555,1.4993188010899183,"AL-E",{"$f":"LEFT([League-Division],1)","v":"A"},{"$f":"RIGHT([League-Division],1)","v":"E"},{"$f":"IF([LG]=\"N\",10,20)","v":20},{"$f":"IF([DIV]=\"E\",1,IF([DIV]=\"C\",2,3))","v":1},{"$f":"[LGS]+[DIVS]","v":21}]
[1997,"Alfonseca, Antonio","FLO","Florida Marlins",150000,17,0,25.666666666666668,-17,4.91,1.7922077922077921,6.6623376623376611,12.623376623376624,92,70,3.83,4338,1188,1353,7.3941908713692941,8.4211618257261414,1.3775933609958506,"NL-E",{"$f":"LEFT([League-Division],1)","v":"N"},{"$f":"RIGHT([League-Division],1)","v":"E"},{"$f":"IF([LG]=\"N\",10,20)","v":10},{"$f":"IF([DIV]=\"E\",1,IF([DIV]=\"C\",2,3))","v":1},{"$f":"[LGS]+[DIVS]","v":11}]
[1998,"Alfonseca, Antonio","FLO","Florida Marlins",175000,58,0,70.666666666666671,-29,4.08,1.5283018867924527,5.8584905660377355,9.5518867924528283,54,108,5.2,4348,1016,1617,6.3091076356945726,10.041168353265869,1.609015639374425,"NL-E",{"$f":"LEFT([League-Division],1)","v":"N"},{"$f":"RIGHT([League-Division],1)","v":"E"},{"$f":"IF([LG]=\"N\",10,20)","v":10},{"$f":"IF([DIV]=\"E\",1,IF([DIV]=\"C\",2,3))","v":1},{"$f":"[LGS]+[DIVS]","v":11}]
[1999,"Alfonseca, Antonio","FLO","Florida Marlins",250000,73,0,77.666666666666671,-33,3.24,1.390557939914163,5.3304721030042916,9.154506437768239,64,98,4.9000000000000004,4306,943,1560,5.9129122155132379,9.7816999535531828,1.5431955411054343,"NL-E",{"$f":"LEFT([League-Division],1)","v":"N"},{"$f":"RIGHT([League-Division],1)","v":"E"},{"$f":"IF([LG]=\"N\",10,20)","v":10},{"$f":"IF([DIV]=\"E\",1,IF([DIV]=\"C\",2,3))","v":1},{"$f":"[LGS]+[DIVS]","v":11}]
[2000,"Alfonseca, Antonio","FLO","Florida Marlins",380000,68,0,70,-35,4.24,1.5142857142857142,6.0428571428571427,10.542857142857143,79,82,4.59,4288,1051,1477,6.6177705223880601,9.3001399253731343,1.4881063432835822,"NL-E",{"$f":"LEFT([League-Division],1)","v":"N"},{"$f":"RIGHT([League-Division],1)","v":"E"},{"$f":"IF([LG]=\"N\",10,20)","v":10},{"$f":"IF([DIV]=\"E\",1,IF([DIV]=\"C\",2,3))","v":1},{"$f":"[LGS]+[DIVS]","v":11}]
[2001,"Alfonseca, Antonio","FLO","Florida Marlins",2450000,58,0,61.666666666666664,-28,3.06,1.345945945945946,5.8378378378378386,9.9243243243243242,76,86,4.32,4314,1119,1397,7.0034770514603615,8.7433936022253125,1.4005563282336579,"NL-E",{"$f":"LEFT([League-Division],1)","v":"N"},{"$f":"RIGHT([League-Division],1)","v":"E"},{"$f":"IF([LG]=\"N\",10,20)","v":10},{"$f":"IF([DIV]=\"E\",1,IF([DIV]=\"C\",2,3))","v":1},{"$f":"[LGS]+[DIVS]","v":11}]
[2002,"Alfonseca, Antonio","CHN","Chicago Cubs",3550000,66,0,74.333333333333329,-12,4,1.4663677130044843,7.3856502242152473,8.8385650224215251,67,95,4.29,4324,1333,1373,8.3235430157261803,8.5733117483811299,1.3730342275670675,"NL-C",{"$f":"LEFT([League-Division],1)","v":"N"},{"$f":"RIGHT([League-Division],1)","v":"C"},{"$f":"IF([LG]=\"N\",10,20)","v":10},{"$f":"IF([DIV]=\"E\",1,IF([DIV]=\"C\",2,3))","v":2},{"$f":"[LGS]+[DIVS]","v":12}]
[2003,"Alfonseca, Antonio","CHN","Chicago Cubs",4000000,60,0,66.333333333333329,-25,5.83,1.5527638190954776,6.9195979899497502,10.311557788944725,88,74,3.83,4369,1404,1304,8.6765850308995187,8.0585946440833141,1.3190661478599222,"NL-C",{"$f":"LEFT([League-Division],1)","v":"N"},{"$f":"RIGHT([League-Division],1)","v":"C"},{"$f":"IF([LG]=\"N\",10,20)","v":10},{"$f":"IF([DIV]=\"E\",1,IF([DIV]=\"C\",2,3))","v":2},{"$f":"[LGS]+[DIVS]","v":12}]
[2004,"Alfonseca, Antonio","ATL","Atlanta Braves",1350000,79,0,73.666666666666671,-26,2.57,1.343891402714932,5.4977375565610851,8.6742081447963795,96,66,3.74,4350,1025,1475,6.3620689655172411,9.1551724137931032,1.3779310344827587,"NL-E",{"$f":"LEFT([League-Division],1)","v":"N"},{"$f":"RIGHT([League-Division],1)","v":"E"},{"$f":"IF([LG]=\"N\",10,20)","v":10},{"$f":"IF([DIV]=\"E\",1,IF([DIV]=\"C\",2,3))","v":1},{"$f":"[LGS]+[DIVS]","v":11}]
[2005,"Alfonseca, Antonio","FLO","Florida Marlins",300000,33,0,27.333333333333332,-13,4.9400000000000004,1.5731707317073171,5.2682926829268304,9.5487804878048781,83,79,4.16,4327,1125,1459,7.0198752022186275,9.1039981511439798,1.4018950774208458,"NL-E",{"$f":"LEFT([League-Division],1)","v":"N"},{"$f":"RIGHT([League-Division],1)","v":"E"},{"$f":"IF([LG]=\"N\",10,20)","v":10},{"$f":"IF([DIV]=\"E\",1,IF([DIV]=\"C\",2,3))","v":1},{"$f":"[LGS]+[DIVS]","v":11}]
[2006,"Alfonseca, Antonio","TEX","Texas Rangers",2750000,19,0,16,-18,5.63,1.875,2.8125,12.9375,80,82,4.5999999999999996,4294,972,1558,6.1117838844899861,9.7964601769911521,1.4350256171401956,"AL-W",{"$f":"LEFT([League-Division],1)","v":"A"},{"$f":"RIGHT([League-Division],1)","v":"W"},{"$f":"IF([LG]=\"N\",10,20)","v":20},{"$f":"IF([DIV]=\"E\",1,IF([DIV]=\"C\",2,3))","v":3},{"$f":"[LGS]+[DIVS]","v":23}]
[2007,"Alfonseca, Antonio","PHI","Philadelphia Phillies",380000,61,0,49.666666666666664,-41,5.44,1.8523489932885906,4.348993288590604,11.778523489932885,89,73,4.7300000000000004,4375,1050,1555,6.48,9.5965714285714281,1.4489142857142858,"NL-E",{"$f":"LEFT([League-Division],1)","v":"N"},{"$f":"RIGHT([League-Division],1)","v":"E"},{"$f":"IF([LG]=\"N\",10,20)","v":10},{"$f":"IF([DIV]=\"E\",1,IF([DIV]=\"C\",2,3))","v":1},{"$f":"[LGS]+[DIVS]","v":11}]
[1999,"Almanza, Armando","FLO","Florida Marlins",200000,14,0,15.666666666666666,12,1.72,1.0851063829787235,11.48936170212766,4.5957446808510642,64,98,4.9000000000000004,4306,943,1560,5.9129122155132379,9.7816999535531828,1.5431955411054343,"NL-E",{"$f":"LEFT([League-Division],1)","v":"N"},{"$f":"RIGHT([League-Division],1)","v":"E"},{"$f":"IF([LG]=\"N\",10,20)","v":10},{"$f":"IF([DIV]=\"E\",1,IF([DIV]=\"C\",2,3))","v":1},{"$f":"[LGS]+[DIVS]","v":11}]
[2000,"Almanza, Armando","FLO","Florida Marlins",203000,67,0,46.333333333333336,8,4.8600000000000003,1.7482014388489209,8.9352517985611506,7.3812949640287773,79,82,4.59,4288,1051,1477,6.6177705223880601,9.3001399253731343,1.4881063432835822,"NL-E",{"$f":"LEFT([League-Division],1)","v":"N"},{"$f":"RIGHT([League-Division],1)","v":"E"},{"$f":"IF([LG]=\"N\",10,20)","v":10},{"$f":"IF([DIV]=\"E\",1,IF([DIV]=\"C\",2,3))","v":1},{"$f":"[LGS]+[DIVS]","v":11}]
[2001,"Almanza, Armando","FLO","Florida Marlins",225000,52,0,41,11,4.83,1.4634146341463414,9.8780487804878057,7.463414634146341,76,86,4.32,4314,1119,1397,7.0034770514603615,8.7433936022253125,1.4005563282336579,"NL-E",{"$f":"LEFT([League-Division],1)","v":"N"},{"$f":"RIGHT([League-Division],1)","v":"E"},{"$f":"IF([LG]=\"N\",10,20)","v":10},{"$f":"IF([DIV]=\"E\",1,IF([DIV]=\"C\",2,3))","v":1},{"$f":"[LGS]+[DIVS]","v":11}]
[2002,"Almanza, Armando","FLO","Florida Marlins",346000,51,0,45.666666666666664,21,4.34,1.2919708029197081,11.233576642335768,7.0948905109489058,79,83,4.3600000000000003,4369,1104,1449,6.8226138704509047,8.9546807049668118,1.4282444495307851,"NL-E",{"$f":"LEFT([League-Division],1)","v":"N"},{"$f":"RIGHT([League-Division],1)","v":"E"},{"$f":"IF([LG]=\"N\",10,20)","v":10},{"$f":"IF([DIV]=\"E\",1,IF([DIV]=\"C\",2,3))","v":1},{"$f":"[LGS]+[DIVS]","v":11}]
[2003,"Almanza, Armando","FLO","Florida Marlins",775000,51,0,50.333333333333336,-10,6.08,1.6688741721854303,8.7615894039735096,10.549668874172186,91,71,4.04,4336,1132,1415,7.0488929889298895,8.8111162361623627,1.345710332103321,"NL-E",{"$f":"LEFT([League-Division],1)","v":"N"},{"$f":"RIGHT([League-Division],1)","v":"E"},{"$f":"IF([LG]=\"N\",10,20)","v":10},{"$f":"IF([DIV]=\"E\",1,IF([DIV]=\"C\",2,3))","v":1},{"$f":"[LGS]+[DIVS]","v":11}]
[2004,"Almanza, Armando","ATL","Atlanta Braves",500000,13,0,11.666666666666666,4,6.17,1.3714285714285714,10.028571428571428,6.9428571428571431,96,66,3.74,4350,1025,1475,6.3620689655172411,9.1551724137931032,1.3779310344827587,"NL-E",{"$f":"LEFT([League-Division],1)","v":"N"},{"$f":"RIGHT([League-Division],1)","v":"E"},{"$f":"IF([LG]=\"N\",10,20)","v":10},{"$f":"IF([DIV]=\"E\",1,IF([DIV]=\"C\",2,3))","v":1},{"$f":"[LGS]+[DIVS]","v":11}]
[1998,"Almanzar, Carlos","TOR","Toronto Blue Jays",172500,25,0,28.666666666666668,-14,5.34,1.4651162790697674,6.279069767441861,10.674418604651162,88,74,4.29,4395,1154,1443,7.0894197952218434,8.8648464163822531,1.3856655290102389,"AL-E",{"$f":"LEFT([League-Division],1)","v":"A"},{"$f":"RIGHT([League-Division],1)","v":"E"},{"$f":"IF([LG]=\"N\",10,20)","v":20},{"$f":"IF([DIV]=\"E\",1,IF([DIV]=\"C\",2,3))","v":1},{"$f":"[LGS]+[DIVS]","v":21}]
[2000,"Almanzar, Carlos","SDN","San Diego Padres",215000,62,0,69.666666666666671,-17,4.3899999999999997,1.4066985645933014,7.2344497607655498,9.4306220095693778,76,86,4.5199999999999996,4377,1071,1443,6.6065798492117889,8.901302261823167,1.4338588074023304,"NL-W",{"$f":"LEFT([League-Division],1)","v":"N"},{"$f":"RIGHT([League-Division],1)","v":"W"},{"$f":"IF([LG]=\"N\",10,20)","v":10},{"$f":"IF([DIV]=\"E\",1,IF([DIV]=\"C\",2,3))","v":3},{"$f":"[LGS]+[DIVS]","v":13}]
[2001,"Almanzar, Carlos","NYA","New York Yankees",270000,10,0,10.666666666666666,-8,3.38,1.5,5.0625,11.8125,95,65,4.0199999999999996,4354,1266,1429,7.8507119889756547,8.8615066605420303,1.3050068902158936,"AL-E",{"$f":"LEFT([League-Division],1)","v":"A"},{"$f":"RIGHT([League-Division],1)","v":"E"},{"$f":"IF([LG]=\"N\",10,20)","v":20},{"$f":"IF([DIV]=\"E\",1,IF([DIV]=\"C\",2,3))","v":1},{"$f":"[LGS]+[DIVS]","v":21}]
[2004,"Almanzar, Carlos","TEX","Texas Rangers",420000,67,0,72.666666666666671,-22,3.72,1.1697247706422018,5.4495412844036686,8.1743119266055047,89,73,4.53,4319,979,1536,6.1201667052558459,9.6022227367446149,1.4468626996990044,"AL-W",{"$f":"LEFT([League-Division],1)","v":"A"},{"$f":"RIGHT([League-Division],1)","v":"W"},{"$f":"IF([LG]=\"N\",10,20)","v":20},{"$f":"IF([DIV]=\"E\",1,IF([DIV]=\"C\",2,3))","v":3},{"$f":"[LGS]+[DIVS]","v":23}]
[2005,"Almanzar, Carlos","TEX","Texas Rangers",1100000,6,0,5,-7,14.4,3.4,5.3999999999999995,18,79,83,4.96,4320,932,1589,5.8250000000000002,9.9312500000000004,1.4659722222222222,"AL-W",{"$f":"LEFT([League-Division],1)","v":"A"},{"$f":"RIGHT([League-Division],1)","v":"W"},{"$f":"IF([LG]=\"N\",10,20)","v":20},{"$f":"IF([DIV]=\"E\",1,IF([DIV]=\"C\",2,3))","v":3},{"$f":"[LGS]+[DIVS]","v":23}]
[1996,"Alvarez, Tavo","MON","Montreal Expos",109000,11,5,21,-10,3,1.4761904761904763,3.8571428571428568,8.1428571428571423,88,74,3.78,4324,1206,1353,7.5305272895467166,8.4484273820536551,1.2731267345050878,"NL-E",{"$f":"LEFT([League-Division],1)","v":"N"},{"$f":"RIGHT([League-Division],1)","v":"E"},{"$f":"IF([LG]=\"N\",10,20)","v":10},{"$f":"IF([DIV]=\"E\",1,IF([DIV]=\"C\",2,3))","v":1},{"$f":"[LGS]+[DIVS]","v":11}]
[1995,"Alvarez, Wilson","CHA","Chicago White Sox",2250000,29,29,175,-53,4.32,1.5085714285714287,6.0685714285714285,8.7942857142857136,68,76,4.8499999999999996,3852,892,1374,6.2523364485981308,9.630841121495326,1.5506230529595015,"AL-C",{"$f":"LEFT([League-Division],1)","v":"A"},{"$f":"RIGHT([League-Division],1)","v":"C"},{"$f":"IF([LG]=\"N\",10,20)","v":20},{"$f":"IF([DIV]=\"E\",1,IF([DIV]=\"C\",2,3))","v":2},{"$f":"[LGS]+[DIVS]","v":22}]
[1996,"Alvarez, Wilson","CHA","Chicago White Sox",2825000,35,35,217.33333333333334,-35,4.22,1.4401840490797546,7.4953987730061344,8.9447852760736186,85,77,4.53,4383,1039,1529,6.4004106776180691,9.4188911704312126,1.4681724845995894,"AL-C",{"$f":"LEFT([League-Division],1)","v":"A"},{"$f":"RIGHT([League-Division],1)","v":"C"},{"$f":"IF([LG]=\"N\",10,20)","v":20},{"$f":"IF([DIV]=\"E\",1,IF([DIV]=\"C\",2,3))","v":2},{"$f":"[LGS]+[DIVS]","v":22}]
[1997,"Alvarez, Wilson","CHA","Chicago White Sox",4662500,22,22,145.66666666666666,-16,3.03,1.242562929061785,6.7963386727688793,7.7848970251716256,80,81,4.74,4266,961,1505,6.0822784810126578,9.5253164556962027,1.4627285513361463,"AL-C",{"$f":"LEFT([League-Division],1)","v":"A"},{"$f":"RIGHT([League-Division],1)","v":"C"},{"$f":"IF([LG]=\"N\",10,20)","v":20},{"$f":"IF([DIV]=\"E\",1,IF([DIV]=\"C\",2,3))","v":2},{"$f":"[LGS]+[DIVS]","v":22}]
[1997,"Alvarez, Wilson","SFN","San Francisco Giants",4662500,11,11,66.333333333333329,15,4.4800000000000004,1.3567839195979901,9.3618090452261313,7.3266331658291461,90,72,4.41,4338,1044,1494,6.4979253112033195,9.2987551867219924,1.4329183955739973,"NL-W",{"$f":"LEFT([League-Division],1)","v":"N"},{"$f":"RIGHT([League-Division],1)","v":"W"},{"$f":"IF([LG]=\"N\",10,20)","v":10},{"$f":"IF([DIV]=\"E\",1,IF([DIV]=\"C\",2,3))","v":3},{"$f":"[LGS]+[DIVS]","v":13}]
[1998,"Alvarez, Wilson","TBA","Tampa Bay Devil Rays",4500000,25,25,142.66666666666666,-23,4.7300000000000004,1.3878504672897196,6.75,8.2009345794392523,63,99,4.3499999999999996,4329,1008,1425,6.2869022869022873,8.8877338877338872,1.4331254331254331,"AL-E",{"$f":"LEFT([League-Division],1)","v":"A"},{"$f":"RIGHT([League-Division],1)","v":"E"},{"$f":"IF([LG]=\"N\",10,20)","v":20},{"$f":"IF([DIV]=\"E\",1,IF([DIV]=\"C\",2,3))","v":1},{"$f":"[LGS]+[DIVS]","v":21}]
[1999,"Alvarez, Wilson","TBA","Tampa Bay Devil Rays",4500000,28,28,160,-31,4.22,1.4875,7.2,8.9437499999999996,69,93,5.0599999999999996,4297,1055,1606,6.6290435187340009,10.091226437049105,1.6064696299744008,"AL-E",{"$f":"LEFT([League-Division],1)","v":"A"},{"$f":"RIGHT([League-Division],1)","v":"E"},{"$f":"IF([LG]=\"N\",10,20)","v":20},{"$f":"IF([DIV]=\"E\",1,IF([DIV]=\"C\",2,3))","v":1},{"$f":"[LGS]+[DIVS]","v":21}]
[2002,"Alvarez, Wilson","TBA","Tampa Bay Devil Rays",8000000,23,10,75,-24,5.28,1.5466666666666666,6.7200000000000006,9.6,55,106,5.29,4321,925,1567,5.7799120573941218,9.791483452904421,1.5183985188613747,"AL-E",{"$f":"LEFT([League-Division],1)","v":"A"},{"$f":"RIGHT([League-Division],1)","v":"E"},{"$f":"IF([LG]=\"N\",10,20)","v":20},{"$f":"IF([DIV]=\"E\",1,IF([DIV]=\"C\",2,3))","v":1},{"$f":"[LGS]+[DIVS]","v":21}]
[2004,"Alvarez, Wilson","LAN","Los Angeles Dodgers",1500000,40,15,120.66666666666667,-7,4.03,1.160220994475138,7.6077348066298338,8.1298342541436455,93,69,4.01,4360,1066,1386,6.6013761467889918,8.5830275229357795,1.3121559633027524,"NL-W",{"$f":"LEFT([League-Division],1)","v":"N"},{"$f":"RIGHT([League-Division],1)","v":"W"},{"$f":"IF([LG]=\"N\",10,20)","v":10},{"$f":"IF([DIV]=\"E\",1,IF([DIV]=\"C\",2,3))","v":3},{"$f":"[LGS]+[DIVS]","v":13}]
[2005,"Alvarez, Wilson","LAN","Los Angeles Dodgers",2000000,21,2,24,-15,5.63,1.5833333333333333,6,11.625,71,91,4.38,4282,1004,1434,6.330686595049043,9.0420364315740311,1.3346567024754787,"NL-W",{"$f":"LEFT([League-Division],1)","v":"N"},{"$f":"RIGHT([League-Division],1)","v":"W"},{"$f":"IF([LG]=\"N\",10,20)","v":10},{"$f":"IF([DIV]=\"E\",1,IF([DIV]=\"C\",2,3))","v":3},{"$f":"[LGS]+[DIVS]","v":13}]
[2010,"Ambriz, Hector","CLE","Cleveland Indians",400000,34,0,48.333333333333336,-31,5.59,1.7586206896551724,6.8896551724137929,12.662068965517241,69,93,4.3,4299,967,1477,6.0732728541521288,9.2763433356594565,1.42986741102582,"AL-C",{"$f":"LEFT([League-Division],1)","v":"A"},{"$f":"RIGHT([League-Division],1)","v":"C"},{"$f":"IF([LG]=\"N\",10,20)","v":20},{"$f":"IF([DIV]=\"E\",1,IF([DIV]=\"C\",2,3))","v":2},{"$f":"[LGS]+[DIVS]","v":22}]
[1995,"Anderson, Brian","CAL","California Angels",135000,18,17,99.666666666666671,-65,5.87,1.4046822742474916,4.063545150501672,9.9331103678929757,78,67,4.5199999999999996,3852,901,1310,6.3154205607476639,9.1822429906542045,1.3987538940809969,"AL-W",{"$f":"LEFT([League-Division],1)","v":"A"},{"$f":"RIGHT([League-Division],1)","v":"W"},{"$f":"IF([LG]=\"N\",10,20)","v":20},{"$f":"IF([DIV]=\"E\",1,IF([DIV]=\"C\",2,3))","v":3},{"$f":"[LGS]+[DIVS]","v":23}]
[1998,"Anderson, Brian","ARI","Arizona Diamondbacks",775000,32,32,208,-126,4.33,1.1778846153846154,4.1105769230769234,9.5625,65,97,4.6399999999999997,4296,908,1463,5.7067039106145252,9.1948324022346366,1.3631284916201116,"NL-W",{"$f":"LEFT([League-Division],1)","v":"N"},{"$f":"RIGHT([League-Division],1)","v":"W"},{"$f":"IF([LG]=\"N\",10,20)","v":10},{"$f":"IF([DIV]=\"E\",1,IF([DIV]=\"C\",2,3))","v":3},{"$f":"[LGS]+[DIVS]","v":13}]
[1999,"Anderson, Brian","ARI","Arizona Diamondbacks",1800000,31,19,130,-69,4.57,1.323076923076923,5.1923076923076916,9.9692307692307693,100,62,3.77,4401,1198,1387,7.3496932515337416,8.5092024539877293,1.3156100886162236,"NL-W",{"$f":"LEFT([League-Division],1)","v":"N"},{"$f":"RIGHT([League-Division],1)","v":"W"},{"$f":"IF([LG]=\"N\",10,20)","v":10},{"$f":"IF([DIV]=\"E\",1,IF([DIV]=\"C\",2,3))","v":3},{"$f":"[LGS]+[DIVS]","v":13}]
[2000,"Anderson, Brian","ARI","Arizona Diamondbacks",2250000,33,32,213.33333333333334,-122,4.05,1.2421875,4.3875000000000002,9.5343749999999989,85,77,4.3499999999999996,4330,1220,1441,7.6073903002309473,8.9854503464203237,1.3448036951501154,"NL-W",{"$f":"LEFT([League-Division],1)","v":"N"},{"$f":"RIGHT([League-Division],1)","v":"W"},{"$f":"IF([LG]=\"N\",10,20)","v":10},{"$f":"IF([DIV]=\"E\",1,IF([DIV]=\"C\",2,3))","v":3},{"$f":"[LGS]+[DIVS]","v":13}]
[2001,"Anderson, Brian","ARI","Arizona Diamondbacks",4125000,29,22,133.33333333333334,-101,5.2,1.3949999999999998,3.7124999999999999,10.53,92,70,3.87,4379,1297,1352,7.9970312856816621,8.3361498058917558,1.2420643982644439,"NL-W",{"$f":"LEFT([League-Division],1)","v":"N"},{"$f":"RIGHT([League-Division],1)","v":"W"},{"$f":"IF([LG]=\"N\",10,20)","v":10},{"$f":"IF([DIV]=\"E\",1,IF([DIV]=\"C\",2,3))","v":3},{"$f":"[LGS]+[DIVS]","v":13}]
[2002,"Anderson, Brian","ARI","Arizona Diamondbacks",5375000,35,24,156,-93,4.79,1.3205128205128205,4.6730769230769234,10.038461538461538,98,64,3.92,4340,1303,1361,8.1062211981566819,8.4670506912442391,1.2317972350230415,"NL-W",{"$f":"LEFT([League-Division],1)","v":"N"},{"$f":"RIGHT([League-Division],1)","v":"W"},{"$f":"IF([LG]=\"N\",10,20)","v":10},{"$f":"IF([DIV]=\"E\",1,IF([DIV]=\"C\",2,3))","v":3},{"$f":"[LGS]+[DIVS]","v":13}]
[2003,"Anderson, Brian","CLE","Cleveland Indians",1500000,25,24,148,-90,3.71,1.3108108108108107,4.378378378378379,9.8513513513513509,68,94,4.21,4378,943,1477,5.815669255367748,9.1089538602101428,1.3554134307903152,"AL-C",{"$f":"LEFT([League-Division],1)","v":"A"},{"$f":"RIGHT([League-Division],1)","v":"C"},{"$f":"IF([LG]=\"N\",10,20)","v":20},{"$f":"IF([DIV]=\"E\",1,IF([DIV]=\"C\",2,3))","v":2},{"$f":"[LGS]+[DIVS]","v":22}]
[2003,"Anderson, Brian","KCA","Kansas City Royals",1500000,7,7,49.666666666666664,-35,3.99,1.2281879194630874,2.7181208053691277,9.0604026845637584,83,79,5.0599999999999996,4316,865,1569,5.4112604263206672,9.8153382761816488,1.4840129749768303,"AL-C",{"$f":"LEFT([League-Division],1)","v":"A"},{"$f":"RIGHT([League-Division],1)","v":"C"},{"$f":"IF([LG]=\"N\",10,20)","v":20},{"$f":"IF([DIV]=\"E\",1,IF([DIV]=\"C\",2,3))","v":2},{"$f":"[LGS]+[DIVS]","v":22}]
[2004,"Anderson, Brian","KCA","Kansas City Royals",3250000,35,26,166,-147,5.64,1.6265060240963856,3.7951807228915664,11.765060240963855,58,104,5.15,4261,887,1638,5.6205116169913163,10.379253696315418,1.5179535320347337,"AL-C",{"$f":"LEFT([League-Division],1)","v":"A"},{"$f":"RIGHT([League-Division],1)","v":"C"},{"$f":"IF([LG]=\"N\",10,20)","v":20},{"$f":"IF([DIV]=\"E\",1,IF([DIV]=\"C\",2,3))","v":2},{"$f":"[LGS]+[DIVS]","v":22}]
[2005,"Anderson, Brian","KCA","Kansas City Royals",3250000,6,6,30.666666666666668,-22,6.75,1.4021739130434783,4.9891304347826093,11.445652173913043,56,106,5.49,4240,924,1640,5.8839622641509433,10.443396226415095,1.5707547169811322,"AL-C",{"$f":"LEFT([League-Division],1)","v":"A"},{"$f":"RIGHT([League-Division],1)","v":"C"},{"$f":"IF([LG]=\"N\",10,20)","v":20},{"$f":"IF([DIV]=\"E\",1,IF([DIV]=\"C\",2,3))","v":2},{"$f":"[LGS]+[DIVS]","v":22}]
[2009,"Anderson, Brett","OAK","Oakland Athletics",400000,30,30,175.33333333333334,-30,4.0599999999999996,1.2832699619771863,7.6996197718631176,9.2395437262357412,75,87,4.29,4342,1124,1486,6.9894058037770614,9.2404421925380014,1.3880700138185169,"AL-W",{"$f":"LEFT([League-Division],1)","v":"A"},{"$f":"RIGHT([League-Division],1)","v":"W"},{"$f":"IF([LG]=\"N\",10,20)","v":20},{"$f":"IF([DIV]=\"E\",1,IF([DIV]=\"C\",2,3))","v":3},{"$f":"[LGS]+[DIVS]","v":23}]
[2010,"Anderson, Brett","OAK","Oakland Athletics",410000,19,19,112.33333333333333,-37,2.8,1.1928783382789319,6.008902077151336,8.9732937685459948,81,81,3.58,4295,1070,1315,6.7264260768335271,8.2665890570430722,1.2761350407450522,"AL-W",{"$f":"LEFT([League-Division],1)","v":"A"},{"$f":"RIGHT([League-Division],1)","v":"W"},{"$f":"IF([LG]=\"N\",10,20)","v":20},{"$f":"IF([DIV]=\"E\",1,IF([DIV]=\"C\",2,3))","v":3},{"$f":"[LGS]+[DIVS]","v":23}]
[2003,"Anderson, Jason","NYA","New York Yankees",300000,22,0,20.666666666666668,-14,4.79,1.7903225806451613,3.9193548387096775,10.016129032258064,101,61,4.0199999999999996,4386,1119,1512,6.888508891928864,9.3077975376196989,1.2906976744186047,"AL-E",{"$f":"LEFT([League-Division],1)","v":"A"},{"$f":"RIGHT([League-Division],1)","v":"E"},{"$f":"IF([LG]=\"N\",10,20)","v":20},{"$f":"IF([DIV]=\"E\",1,IF([DIV]=\"C\",2,3))","v":1},{"$f":"[LGS]+[DIVS]","v":21}]
[2003,"Anderson, Jason","NYN","New York Mets",300000,6,0,10.666666666666666,-3,5.0599999999999996,1.40625,5.90625,8.4375,66,95,4.4800000000000004,4240,907,1497,5.7757075471698114,9.5327830188679243,1.4667452830188681,"NL-E",{"$f":"LEFT([League-Division],1)","v":"N"},{"$f":"RIGHT([League-Division],1)","v":"E"},{"$f":"IF([LG]=\"N\",10,20)","v":10},{"$f":"IF([DIV]=\"E\",1,IF([DIV]=\"C\",2,3))","v":1},{"$f":"[LGS]+[DIVS]","v":11}]
[1999,"Anderson, Jimmy","PIT","Pittsburgh Pirates",200000,13,4,29.333333333333332,-12,3.99,1.3977272727272727,3.9886363636363638,7.6704545454545459,78,83,4.33,4297,1083,1444,6.8049802187572723,9.0733069583430304,1.4500814521759369,"NL-C",{"$f":"LEFT([League-Division],1)","v":"N"},{"$f":"RIGHT([League-Division],1)","v":"C"},{"$f":"IF([LG]=\"N\",10,20)","v":10},{"$f":"IF([DIV]=\"E\",1,IF([DIV]=\"C\",2,3))","v":2},{"$f":"[LGS]+[DIVS]","v":12}]
[2000,"Anderson, Jimmy","PIT","Pittsburgh Pirates",215000,27,26,144,-96,5.25,1.5763888888888888,4.5625,10.5625,69,93,4.93,4347,1070,1554,6.645962732919255,9.6521739130434785,1.5631469979296067,"NL-C",{"$f":"LEFT([League-Division],1)","v":"N"},{"$f":"RIGHT([League-Division],1)","v":"C"},{"$f":"IF([LG]=\"N\",10,20)","v":10},{"$f":"IF([DIV]=\"E\",1,IF([DIV]=\"C\",2,3))","v":2},{"$f":"[LGS]+[DIVS]","v":12}]
[2001,"Anderson, Jimmy","PIT","Pittsburgh Pirates",285000,34,34,206.33333333333334,-143,5.0999999999999996,1.5266558966074313,3.8820678513731828,10.119547657512117,62,100,5.05,4249,908,1493,5.7698281948693815,9.4871734525770783,1.4417510002353495,"NL-C",{"$f":"LEFT([League-Division],1)","v":"N"},{"$f":"RIGHT([League-Division],1)","v":"C"},{"$f":"IF([LG]=\"N\",10,20)","v":10},{"$f":"IF([DIV]=\"E\",1,IF([DIV]=\"C\",2,3))","v":2},{"$f":"[LGS]+[DIVS]","v":12}]
[2002,"Anderson, Jimmy","PIT","Pittsburgh Pirates",305000,28,25,140.66666666666666,-120,5.44,1.6350710900473935,3.0071090047393367,10.68483412322275,72,89,4.2300000000000004,4238,920,1447,5.8612553091080688,9.2187352524775825,1.4292118924020765,"NL-C",{"$f":"LEFT([League-Division],1)","v":"N"},{"$f":"RIGHT([League-Division],1)","v":"C"},{"$f":"IF([LG]=\"N\",10,20)","v":10},{"$f":"IF([DIV]=\"E\",1,IF([DIV]=\"C\",2,3))","v":2},{"$f":"[LGS]+[DIVS]","v":12}]
[2003,"Anderson, Jimmy","CIN","Cincinnati Reds",600000,8,7,38.666666666666664,-47,8.84,1.913793103448276,3.0258620689655173,13.96551724137931,69,93,5.09,4339,932,1578,5.7994929707305838,9.8193132058077914,1.4989628946761928,"NL-C",{"$f":"LEFT([League-Division],1)","v":"N"},{"$f":"RIGHT([League-Division],1)","v":"C"},{"$f":"IF([LG]=\"N\",10,20)","v":10},{"$f":"IF([DIV]=\"E\",1,IF([DIV]=\"C\",2,3))","v":2},{"$f":"[LGS]+[DIVS]","v":12}]
[1998,"Anderson, Matt","DET","Detroit Tigers",170000,42,0,44,6,3.27,1.5681818181818181,9,7.7727272727272725,65,97,4.93,4338,947,1551,5.894190871369295,9.6535269709543563,1.4840940525587829,"AL-C",{"$f":"LEFT([League-Division],1)","v":"A"},{"$f":"RIGHT([League-Division],1)","v":"C"},{"$f":"IF([LG]=\"N\",10,20)","v":20},{"$f":"IF([DIV]=\"E\",1,IF([DIV]=\"C\",2,3))","v":2},{"$f":"[LGS]+[DIVS]","v":22}]
[1999,"Anderson, Matt","DET","Detroit Tigers",240000,37,0,38,-1,5.68,1.7894736842105263,7.5789473684210522,7.8157894736842106,69,92,5.18,4261,976,1528,6.1844637409058913,9.6822342173198788,1.4862708284440274,"AL-C",{"$f":"LEFT([League-Division],1)","v":"A"},{"$f":"RIGHT([League-Division],1)","v":"C"},{"$f":"IF([LG]=\"N\",10,20)","v":20},{"$f":"IF([DIV]=\"E\",1,IF([DIV]=\"C\",2,3))","v":2},{"$f":"[LGS]+[DIVS]","v":22}]
[2000,"Anderson, Matt","DET","Detroit Tigers",255000,69,0,74.333333333333329,10,4.72,1.4260089686098656,8.5964125560538118,7.3856502242152473,79,83,4.71,4329,978,1583,6.0997920997920998,9.873180873180873,1.4407484407484408,"AL-C",{"$f":"LEFT([League-Division],1)","v":"A"},{"$f":"RIGHT([League-Division],1)","v":"C"},{"$f":"IF([LG]=\"N\",10,20)","v":20},{"$f":"IF([DIV]=\"E\",1,IF([DIV]=\"C\",2,3))","v":2},{"$f":"[LGS]+[DIVS]","v":22}]
[2001,"Anderson, Matt","DET","Detroit Tigers",355000,62,0,56,-4,4.82,1.3214285714285714,8.3571428571428577,9,66,96,5.01,4288,859,1624,5.4088152985074629,10.225746268656716,1.5230876865671643,"AL-C",{"$f":"LEFT([League-Division],1)","v":"A"},{"$f":"RIGHT([League-Division],1)","v":"C"},{"$f":"IF([LG]=\"N\",10,20)","v":20},{"$f":"IF([DIV]=\"E\",1,IF([DIV]=\"C\",2,3))","v":2},{"$f":"[LGS]+[DIVS]","v":22}]
[2002,"Anderson, Matt","DET","Detroit Tigers",1800000,12,0,11,-9,9,2.2727272727272729,6.5454545454545459,13.909090909090908,55,106,4.93,4242,794,1593,5.0537482319660532,10.13932107496464,1.4540311173974541,"AL-C",{"$f":"LEFT([League-Division],1)","v":"A"},{"$f":"RIGHT([League-Division],1)","v":"C"},{"$f":"IF([LG]=\"N\",10,20)","v":20},{"$f":"IF([DIV]=\"E\",1,IF([DIV]=\"C\",2,3))","v":2},{"$f":"[LGS]+[DIVS]","v":22}]
[2003,"Anderson, Matt","DET","Detroit Tigers",3200000,23,0,23.333333333333332,-12,5.4,1.4571428571428573,5.0142857142857142,9.6428571428571423,43,119,5.3,4316,764,1616,4.7794253938832254,10.109360518999074,1.5104263206672845,"AL-C",{"$f":"LEFT([League-Division],1)","v":"A"},{"$f":"RIGHT([League-Division],1)","v":"C"},{"$f":"IF([LG]=\"N\",10,20)","v":20},{"$f":"IF([DIV]=\"E\",1,IF([DIV]=\"C\",2,3))","v":2},{"$f":"[LGS]+[DIVS]","v":22}]
[1997,"Andujar, Luis","TOR","Toronto Blue Jays",170000,17,8,50,-48,6.48,1.94,5.0400000000000009,13.68,76,86,3.92,4326,1150,1453,7.1775312066574202,9.0686546463245499,1.3522884882108184,"AL-E",{"$f":"LEFT([League-Division],1)","v":"A"},{"$f":"RIGHT([League-Division],1)","v":"E"},{"$f":"IF([LG]=\"N\",10,20)","v":20},{"$f":"IF([DIV]=\"E\",1,IF([DIV]=\"C\",2,3))","v":1},{"$f":"[LGS]+[DIVS]","v":21}]
[1999,"Ankiel, Rick","SLN","St. Louis Cardinals",200000,9,5,33,13,3.27,1.2121212121212122,10.636363636363637,7.0909090909090908,75,86,4.74,4335,1025,1519,6.3840830449826989,9.4608996539792383,1.5128027681660901,"NL-C",{"$f":"LEFT([League-Division],1)","v":"N"},{"$f":"RIGHT([League-Division],1)","v":"C"},{"$f":"IF([LG]=\"N\",10,20)","v":10},{"$f":"IF([DIV]=\"E\",1,IF([DIV]=\"C\",2,3))","v":2},{"$f":"[LGS]+[DIVS]","v":12}]
[2000,"Ankiel, Rick","SLN","St. Louis Cardinals",202500,31,30,175,57,3.5,1.2971428571428572,9.9771428571428569,7.0457142857142854,95,67,4.38,4300,1100,1403,6.9069767441860463,8.8095348837209304,1.4016279069767443,"NL-C",{"$f":"LEFT([League-Division],1)","v":"N"},{"$f":"RIGHT([League-Division],1)","v":"C"},{"$f":"IF([LG]=\"N\",10,20)","v":10},{"$f":"IF([DIV]=\"E\",1,IF([DIV]=\"C\",2,3))","v":2},{"$f":"[LGS]+[DIVS]","v":12}]
[2001,"Ankiel, Rick","SLN","St. Louis Cardinals",400000,6,6,24,2,7.13,2.0833333333333335,10.125,9.375,93,69,3.93,4306,1083,1389,6.7907570831398045,8.7094751509521604,1.334184858337204,"NL-C",{"$f":"LEFT([League-Division],1)","v":"N"},{"$f":"RIGHT([League-Division],1)","v":"C"},{"$f":"IF([LG]=\"N\",10,20)","v":10},{"$f":"IF([DIV]=\"E\",1,IF([DIV]=\"C\",2,3))","v":2},{"$f":"[LGS]+[DIVS]","v":12}]
[2004,"Ankiel, Rick","SLN","St. Louis Cardinals",320000,5,0,10,-1,5.4,1.1000000000000001,8.1,9,105,57,3.75,4361,1041,1378,6.4450814033478556,8.5315294657188705,1.2506305893143774,"NL-C",{"$f":"LEFT([League-Division],1)","v":"N"},{"$f":"RIGHT([League-Division],1)","v":"C"},{"$f":"IF([LG]=\"N\",10,20)","v":10},{"$f":"IF([DIV]=\"E\",1,IF([DIV]=\"C\",2,3))","v":2},{"$f":"[LGS]+[DIVS]","v":12}]
[1995,"Appier, Kevin","KCA","Kansas City Royals",4387500,31,31,201.33333333333334,22,3.89,1.2069536423841059,8.2698675496688736,7.2864238410596025,70,74,4.49,3864,763,1323,5.3315217391304346,9.2445652173913047,1.4177018633540373,"AL-C",{"$f":"LEFT([League-Division],1)","v":"A"},{"$f":"RIGHT([League-Division],1)","v":"C"},{"$f":"IF([LG]=\"N\",10,20)","v":20},{"$f":"IF([DIV]=\"E\",1,IF([DIV]=\"C\",2,3))","v":2},{"$f":"[LGS]+[DIVS]","v":22}]
[1996,"Appier, Kevin","KCA","Kansas City Royals",5051250,32,32,211.33333333333334,15,3.62,1.2634069400630914,8.8154574132492112,8.176656151419559,75,86,4.55,4350,926,1563,5.7475862068965515,9.7013793103448283,1.3951724137931034,"AL-C",{"$f":"LEFT([League-Division],1)","v":"A"},{"$f":"RIGHT([League-Division],1)","v":"C"},{"$f":"IF([LG]=\"N\",10,20)","v":20},{"$f":"IF([DIV]=\"E\",1,IF([DIV]=\"C\",2,3))","v":2},{"$f":"[LGS]+[DIVS]","v":22}]
[1997,"Appier, Kevin","KCA","Kansas City Royals",4800000,34,34,235.66666666666666,-19,3.4,1.2263083451202264,7.4851485148514856,8.2107496463932108,67,94,4.71,4329,961,1530,5.9937629937629939,9.5426195426195424,1.4282744282744282,"AL-C",{"$f":"LEFT([League-Division],1)","v":"A"},{"$f":"RIGHT([League-Division],1)","v":"C"},{"$f":"IF([LG]=\"N\",10,20)","v":20},{"$f":"IF([DIV]=\"E\",1,IF([DIV]=\"C\",2,3))","v":2},{"$f":"[LGS]+[DIVS]","v":22}]
[1998,"Appier, Kevin","KCA","Kansas City Royals",4800000,3,3,15,-12,7.8,1.7333333333333334,5.3999999999999995,12.6,72,89,5.16,4308,999,1590,6.2611420612813378,9.9651810584958209,1.5027855153203342,"AL-C",{"$f":"LEFT([League-Division],1)","v":"A"},{"$f":"RIGHT([League-Division],1)","v":"C"},{"$f":"IF([LG]=\"N\",10,20)","v":20},{"$f":"IF([DIV]=\"E\",1,IF([DIV]=\"C\",2,3))","v":2},{"$f":"[LGS]+[DIVS]","v":22}]
[1999,"Appier, Kevin","KCA","Kansas City Royals",4800000,22,22,140.33333333333334,-75,4.87,1.4536817102137767,5.0023752969121134,9.8123515439429916,64,97,5.35,4261,831,1607,5.265665336775406,10.182820934053041,1.5841351795353205,"AL-C",{"$f":"LEFT([League-Division],1)","v":"A"},{"$f":"RIGHT([League-Division],1)","v":"C"},{"$f":"IF([LG]=\"N\",10,20)","v":20},{"$f":"IF([DIV]=\"E\",1,IF([DIV]=\"C\",2,3))","v":2},{"$f":"[LGS]+[DIVS]","v":22}]
[1999,"Appier, Kevin","OAK","Oakland Athletics",4800000,12,12,68.666666666666671,-24,5.77,1.6019417475728155,6.9466019417475726,10.092233009708737,87,75,4.6900000000000004,4314,967,1537,6.052155771905424,9.6196105702364392,1.4645340751043114,"AL-W",{"$f":"LEFT([League-Division],1)","v":"A"},{"$f":"RIGHT([League-Division],1)","v":"W"},{"$f":"IF([LG]=\"N\",10,20)","v":20},{"$f":"IF([DIV]=\"E\",1,IF([DIV]=\"C\",2,3))","v":3},{"$f":"[LGS]+[DIVS]","v":23}]
[2000,"Appier, Kevin","OAK","Oakland Athletics",5600000,31,31,195.33333333333334,-71,4.5199999999999996,1.546075085324232,5.9436860068259385,9.2150170648464158,91,70,4.58,4305,963,1535,6.0397212543554009,9.6271777003484331,1.4982578397212543,"AL-W",{"$f":"LEFT([League-Division],1)","v":"A"},{"$f":"RIGHT([League-Division],1)","v":"W"},{"$f":"IF([LG]=\"N\",10,20)","v":20},{"$f":"IF([DIV]=\"E\",1,IF([DIV]=\"C\",2,3))","v":3},{"$f":"[LGS]+[DIVS]","v":23}]
[2001,"Appier, Kevin","NYN","New York Mets",8500000,33,33,206.66666666666666,-9,3.57,1.185483870967742,7.4903225806451612,7.8822580645161295,82,80,4.07,4337,1191,1418,7.4145722849896236,8.8277611252017518,1.2838367535162554,"NL-E",{"$f":"LEFT([League-Division],1)","v":"N"},{"$f":"RIGHT([League-Division],1)","v":"E"},{"$f":"IF([LG]=\"N\",10,20)","v":10},{"$f":"IF([DIV]=\"E\",1,IF([DIV]=\"C\",2,3))","v":1},{"$f":"[LGS]+[DIVS]","v":11}]
[2002,"Appier, Kevin","ANA","Anaheim Angels",9500000,32,32,188.33333333333334,-59,3.92,1.3539823008849556,6.3079646017699105,9.1274336283185828,99,63,3.69,4357,999,1345,6.1907275648381921,8.3348634381455131,1.2765664448014689,"AL-W",{"$f":"LEFT([League-Division],1)","v":"A"},{"$f":"RIGHT([League-Division],1)","v":"W"},{"$f":"IF([LG]=\"N\",10,20)","v":20},{"$f":"IF([DIV]=\"E\",1,IF([DIV]=\"C\",2,3))","v":3},{"$f":"[LGS]+[DIVS]","v":23}]
[2003,"Appier, Kevin","ANA","Anaheim Angels",11500000,19,19,92.666666666666671,-55,5.63,1.5215827338129495,4.8561151079136691,10.197841726618703,77,85,4.28,4294,980,1444,6.1620866325104799,9.0796460176991154,1.3483931066604564,"AL-W",{"$f":"LEFT([League-Division],1)","v":"A"},{"$f":"RIGHT([League-Division],1)","v":"W"},{"$f":"IF([LG]=\"N\",10,20)","v":20},{"$f":"IF([DIV]=\"E\",1,IF([DIV]=\"C\",2,3))","v":3},{"$f":"[LGS]+[DIVS]","v":23}]
[2003,"Appier, Kevin","KCA","Kansas City Royals",11500000,4,4,19,-10,4.26,1.1578947368421053,2.3684210526315788,7.1052631578947372,83,79,5.0599999999999996,4316,865,1569,5.4112604263206672,9.8153382761816488,1.4840129749768303,"AL-C",{"$f":"LEFT([League-Division],1)","v":"A"},{"$f":"RIGHT([League-Division],1)","v":"C"},{"$f":"IF([LG]=\"N\",10,20)","v":20},{"$f":"IF([DIV]=\"E\",1,IF([DIV]=\"C\",2,3))","v":2},{"$f":"[LGS]+[DIVS]","v":22}]
[2004,"Appier, Kevin","KCA","Kansas City Royals",300000,2,2,4,-5,13.5,2.5,4.5,15.75,58,104,5.15,4261,887,1638,5.6205116169913163,10.379253696315418,1.5179535320347337,"AL-C",{"$f":"LEFT([League-Division],1)","v":"A"},{"$f":"RIGHT([League-Division],1)","v":"C"},{"$f":"IF([LG]=\"N\",10,20)","v":20},{"$f":"IF([DIV]=\"E\",1,IF([DIV]=\"C\",2,3))","v":2},{"$f":"[LGS]+[DIVS]","v":22}]
[2005,"Aquino, Greg","ARI","Arizona Diamondbacks",325000,35,0,31.333333333333332,-8,7.76,1.8829787234042554,9.7659574468085122,12.063829787234043,77,85,4.84,4369,1038,1580,6.414740215152209,9.7642481116960411,1.4536507209887848,"NL-W",{"$f":"LEFT([League-Division],1)","v":"N"},{"$f":"RIGHT([League-Division],1)","v":"W"},{"$f":"IF([LG]=\"N\",10,20)","v":10},{"$f":"IF([DIV]=\"E\",1,IF([DIV]=\"C\",2,3))","v":3},{"$f":"[LGS]+[DIVS]","v":13}]
[2006,"Aquino, Greg","ARI","Arizona Diamondbacks",342000,42,0,48.333333333333336,-3,4.47,1.6137931034482758,9.4965517241379303,10.055172413793104,76,86,4.4800000000000004,4379,1115,1503,6.8748572733500799,9.2671842886503768,1.3968942680977392,"NL-W",{"$f":"LEFT([League-Division],1)","v":"N"},{"$f":"RIGHT([League-Division],1)","v":"W"},{"$f":"IF([LG]=\"N\",10,20)","v":10},{"$f":"IF([DIV]=\"E\",1,IF([DIV]=\"C\",2,3))","v":3},{"$f":"[LGS]+[DIVS]","v":13}]
[2007,"Aquino, Greg","MIL","Milwaukee Brewers",399000,15,0,14,-1,4.5,1.2857142857142858,7.7142857142857135,8.3571428571428577,83,79,4.41,4333,1174,1513,7.315485806600508,9.4278790676205855,1.3985691207015924,"NL-C",{"$f":"LEFT([League-Division],1)","v":"N"},{"$f":"RIGHT([League-Division],1)","v":"C"},{"$f":"IF([LG]=\"N\",10,20)","v":10},{"$f":"IF([DIV]=\"E\",1,IF([DIV]=\"C\",2,3))","v":2},{"$f":"[LGS]+[DIVS]","v":12}]
[2008,"Aquino, Greg","BAL","Baltimore Orioles",500000,9,0,9.3333333333333339,-8,12.54,2.7857142857142856,8.678571428571427,16.392857142857142,68,93,5.15,4266,922,1538,5.8354430379746836,9.7341772151898738,1.5646976090014064,"AL-E",{"$f":"LEFT([League-Division],1)","v":"A"},{"$f":"RIGHT([League-Division],1)","v":"E"},{"$f":"IF([LG]=\"N\",10,20)","v":20},{"$f":"IF([DIV]=\"E\",1,IF([DIV]=\"C\",2,3))","v":1},{"$f":"[LGS]+[DIVS]","v":21}]
[1995,"Aquino, Luis","MON","Montreal Expos",420000,29,0,37.333333333333336,-25,3.86,1.5535714285714284,5.3035714285714288,11.330357142857142,66,78,4.1100000000000003,3849,950,1286,6.6640685892439597,9.0210444271239272,1.3265783320342945,"NL-E",{"$f":"LEFT([League-Division],1)","v":"N"},{"$f":"RIGHT([League-Division],1)","v":"E"},{"$f":"IF([LG]=\"N\",10,20)","v":10},{"$f":"IF([DIV]=\"E\",1,IF([DIV]=\"C\",2,3))","v":1},{"$f":"[LGS]+[DIVS]","v":11}]
[1995,"Aquino, Luis","SFN","San Francisco Giants",420000,5,0,5,-6,14.4,2.4,7.2,18,67,77,4.8600000000000003,3879,801,1368,5.575406032482598,9.5220417633410683,1.448569218870843,"NL-W",{"$f":"LEFT([League-Division],1)","v":"N"},{"$f":"RIGHT([League-Division],1)","v":"W"},{"$f":"IF([LG]=\"N\",10,20)","v":10},{"$f":"IF([DIV]=\"E\",1,IF([DIV]=\"C\",2,3))","v":3},{"$f":"[LGS]+[DIVS]","v":13}]
[2000,"Armas, Tony","MON","Montreal Expos",200000,17,17,95,-15,4.3600000000000003,1.3052631578947369,5.5894736842105264,7.0105263157894733,67,95,5.13,4273,1011,1575,6.3882518137140183,9.952024338871988,1.5122864498010766,"NL-E",{"$f":"LEFT([League-Division],1)","v":"N"},{"$f":"RIGHT([League-Division],1)","v":"E"},{"$f":"IF([LG]=\"N\",10,20)","v":10},{"$f":"IF([DIV]=\"E\",1,IF([DIV]=\"C\",2,3))","v":1},{"$f":"[LGS]+[DIVS]","v":11}]
[2001,"Armas, Tony","MON","Montreal Expos",230000,34,34,196.66666666666666,-4,4.03,1.3779661016949154,8.0542372881355924,8.2372881355932197,68,94,4.68,4294,1103,1509,6.9354913833255711,9.4883558453656267,1.4210526315789473,"NL-E",{"$f":"LEFT([League-Division],1)","v":"N"},{"$f":"RIGHT([League-Division],1)","v":"E"},{"$f":"IF([LG]=\"N\",10,20)","v":10},{"$f":"IF([DIV]=\"E\",1,IF([DIV]=\"C\",2,3))","v":1},{"$f":"[LGS]+[DIVS]","v":11}]
[2002,"Armas, Tony","MON","Montreal Expos",335000,29,29,164.33333333333334,-18,4.4400000000000004,1.3813387423935091,7.1744421906693709,8.1602434077079096,83,79,3.97,4359,1088,1475,6.7391603578802473,9.1362697866483131,1.364762560220234,"NL-E",{"$f":"LEFT([League-Division],1)","v":"N"},{"$f":"RIGHT([League-Division],1)","v":"E"},{"$f":"IF([LG]=\"N\",10,20)","v":10},{"$f":"IF([DIV]=\"E\",1,IF([DIV]=\"C\",2,3))","v":1},{"$f":"[LGS]+[DIVS]","v":11}]
[2003,"Armas, Tony","MON","Montreal Expos",2100000,5,5,31,-2,2.61,1.064516129032258,6.67741935483871,7.258064516129032,83,79,4.01,4313,1028,1467,6.4354277764896821,9.1836308833758409,1.342453048921864,"NL-E",{"$f":"LEFT([League-Division],1)","v":"N"},{"$f":"RIGHT([League-Division],1)","v":"E"},{"$f":"IF([LG]=\"N\",10,20)","v":10},{"$f":"IF([DIV]=\"E\",1,IF([DIV]=\"C\",2,3))","v":1},{"$f":"[LGS]+[DIVS]","v":11}]
[2004,"Armas, Tony","MON","Montreal Expos",2100000,16,16,72,-12,4.88,1.5416666666666667,6.75,8.25,67,95,4.33,4341,1032,1477,6.4187975120939873,9.1865929509329654,1.42294402211472,"NL-E",{"$f":"LEFT([League-Division],1)","v":"N"},{"$f":"RIGHT([League-Division],1)","v":"E"},{"$f":"IF([LG]=\"N\",10,20)","v":10},{"$f":"IF([DIV]=\"E\",1,IF([DIV]=\"C\",2,3))","v":1},{"$f":"[LGS]+[DIVS]","v":11}]
[2005,"Armas, Tony","WAS","Washington Nationals",2260000,19,19,101.33333333333333,-41,4.97,1.5197368421052633,5.2401315789473681,8.8815789473684212,81,81,3.87,4374,997,1456,6.1543209876543212,8.9876543209876552,1.368312757201646,"NL-E",{"$f":"LEFT([League-Division],1)","v":"N"},{"$f":"RIGHT([League-Division],1)","v":"E"},{"$f":"IF([LG]=\"N\",10,20)","v":10},{"$f":"IF([DIV]=\"E\",1,IF([DIV]=\"C\",2,3))","v":1},{"$f":"[LGS]+[DIVS]","v":11}]
[2006,"Armas, Tony","WAS","Washington Nationals",2100000,30,30,154,-70,5.03,1.5,5.6688311688311694,9.7597402597402603,71,91,5.03,4309,960,1535,6.0153167788349968,9.6182408911580417,1.4752842886980739,"NL-E",{"$f":"LEFT([League-Division],1)","v":"N"},{"$f":"RIGHT([League-Division],1)","v":"E"},{"$f":"IF([LG]=\"N\",10,20)","v":10},{"$f":"IF([DIV]=\"E\",1,IF([DIV]=\"C\",2,3))","v":1},{"$f":"[LGS]+[DIVS]","v":11}]
[2007,"Armas, Tony","PIT","Pittsburgh Pirates",3000000,31,15,97,-38,6.03,1.5360824742268042,6.7731958762886597,10.298969072164947,68,94,4.93,4343,997,1627,6.1982500575638948,10.114897536265254,1.4816946810960165,"NL-C",{"$f":"LEFT([League-Division],1)","v":"N"},{"$f":"RIGHT([League-Division],1)","v":"C"},{"$f":"IF([LG]=\"N\",10,20)","v":10},{"$f":"IF([DIV]=\"E\",1,IF([DIV]=\"C\",2,3))","v":2},{"$f":"[LGS]+[DIVS]","v":12}]
[1995,"Arocha, Rene","SLN","St. Louis Cardinals",195000,41,0,49.666666666666664,-30,3.99,1.4697986577181208,4.5302013422818792,9.9664429530201346,62,81,4.09,3795,842,1290,5.9905138339920949,9.1778656126482225,1.3715415019762847,"NL-C",{"$f":"LEFT([League-Division],1)","v":"N"},{"$f":"RIGHT([League-Division],1)","v":"C"},{"$f":"IF([LG]=\"N\",10,20)","v":10},{"$f":"IF([DIV]=\"E\",1,IF([DIV]=\"C\",2,3))","v":2},{"$f":"[LGS]+[DIVS]","v":12}]
[2009,"Arredondo, Jose","LAA","Los Angeles Angels of Anaheim",410000,43,0,45,0,6,1.5555555555555556,9.4,9.4,97,65,4.45,4335,1062,1513,6.6145328719723189,9.4235294117647062,1.4089965397923876,"AL-W",{"$f":"LEFT([League-Division],1)","v":"A"},{"$f":"RIGHT([League-Division],1)","v":"W"},{"$f":"IF([LG]=\"N\",10,20)","v":20},{"$f":"IF([DIV]=\"E\",1,IF([DIV]=\"C\",2,3))","v":3},{"$f":"[LGS]+[DIVS]","v":23}]
[1998,"Arrojo, Rolando","TBA","Tampa Bay Devil Rays",245000,32,32,202,-43,3.56,1.2871287128712872,6.7722772277227721,8.6881188118811874,63,99,4.3499999999999996,4329,1008,1425,6.2869022869022873,8.8877338877338872,1.4331254331254331,"AL-E",{"$f":"LEFT([League-Division],1)","v":"A"},{"$f":"RIGHT([League-Division],1)","v":"E"},{"$f":"IF([LG]=\"N\",10,20)","v":20},{"$f":"IF([DIV]=\"E\",1,IF([DIV]=\"C\",2,3))","v":1},{"$f":"[LGS]+[DIVS]","v":21}]
[1999,"Arrojo, Rolando","TBA","Tampa Bay Devil Rays",250000,24,24,140.66666666666666,-55,5.18,1.5781990521327016,6.8459715639810428,10.364928909952607,69,93,5.0599999999999996,4297,1055,1606,6.6290435187340009,10.091226437049105,1.6064696299744008,"AL-E",{"$f":"LEFT([League-Division],1)","v":"A"},{"$f":"RIGHT([League-Division],1)","v":"E"},{"$f":"IF([LG]=\"N\",10,20)","v":20},{"$f":"IF([DIV]=\"E\",1,IF([DIV]=\"C\",2,3))","v":1},{"$f":"[LGS]+[DIVS]","v":21}]
[2000,"Arrojo, Rolando","COL","Colorado Rockies",325000,19,19,101.33333333333333,-40,6.04,1.6381578947368423,7.1052631578947372,10.657894736842106,82,80,5.26,4290,1001,1568,6.3,9.8685314685314687,1.5076923076923077,"NL-W",{"$f":"LEFT([League-Division],1)","v":"N"},{"$f":"RIGHT([League-Division],1)","v":"W"},{"$f":"IF([LG]=\"N\",10,20)","v":10},{"$f":"IF([DIV]=\"E\",1,IF([DIV]=\"C\",2,3))","v":3},{"$f":"[LGS]+[DIVS]","v":13}]
[2000,"Arrojo, Rolando","BOS","Boston Red Sox",325000,13,13,71.333333333333329,-23,5.05,1.2476635514018692,5.5514018691588793,8.4532710280373831,85,77,4.2300000000000004,4357,1121,1433,6.9467523525361488,8.8801927932063354,1.3302731237089742,"AL-E",{"$f":"LEFT([League-Division],1)","v":"A"},{"$f":"RIGHT([League-Division],1)","v":"E"},{"$f":"IF([LG]=\"N\",10,20)","v":20},{"$f":"IF([DIV]=\"E\",1,IF([DIV]=\"C\",2,3))","v":1},{"$f":"[LGS]+[DIVS]","v":21}]
[2001,"Arrojo, Rolando","BOS","Boston Red Sox",1625000,41,9,103.33333333333333,-10,3.48,1.1903225806451614,6.7935483870967746,7.6645161290322585,82,79,4.1500000000000004,4344,1259,1412,7.8252762430939224,8.7762430939226519,1.350828729281768,"AL-E",{"$f":"LEFT([League-Division],1)","v":"A"},{"$f":"RIGHT([League-Division],1)","v":"E"},{"$f":"IF([LG]=\"N\",10,20)","v":20},{"$f":"IF([DIV]=\"E\",1,IF([DIV]=\"C\",2,3))","v":1},{"$f":"[LGS]+[DIVS]","v":21}]
[2002,"Arrojo, Rolando","BOS","Boston Red Sox",1900000,29,8,81.333333333333329,-32,4.9800000000000004,1.3524590163934427,5.6434426229508201,9.1844262295081958,93,69,3.75,4338,1157,1339,7.2012448132780085,8.3340248962655608,1.223374827109267,"AL-E",{"$f":"LEFT([League-Division],1)","v":"A"},{"$f":"RIGHT([League-Division],1)","v":"E"},{"$f":"IF([LG]=\"N\",10,20)","v":20},{"$f":"IF([DIV]=\"E\",1,IF([DIV]=\"C\",2,3))","v":1},{"$f":"[LGS]+[DIVS]","v":21}]
[2001,"Arroyo, Bronson","PIT","Pittsburgh Pirates",225000,24,13,88.333333333333329,-60,5.09,1.5056603773584907,3.9735849056603776,10.086792452830188,62,100,5.05,4249,908,1493,5.7698281948693815,9.4871734525770783,1.4417510002353495,"NL-C",{"$f":"LEFT([League-Division],1)","v":"N"},{"$f":"RIGHT([League-Division],1)","v":"C"},{"$f":"IF([LG]=\"N\",10,20)","v":10},{"$f":"IF([DIV]=\"E\",1,IF([DIV]=\"C\",2,3))","v":2},{"$f":"[LGS]+[DIVS]","v":12}]
[2004,"Arroyo, Bronson","BOS","Boston Red Sox",332500,32,29,178.66666666666666,-29,4.03,1.2201492537313434,7.1529850746268657,8.6138059701492544,98,64,4.18,4354,1132,1430,7.0197519522278373,8.8677078548461186,1.2932935231970601,"AL-E",{"$f":"LEFT([League-Division],1)","v":"A"},{"$f":"RIGHT([League-Division],1)","v":"E"},{"$f":"IF([LG]=\"N\",10,20)","v":20},{"$f":"IF([DIV]=\"E\",1,IF([DIV]=\"C\",2,3))","v":1},{"$f":"[LGS]+[DIVS]","v":21}]
[2005,"Arroyo, Bronson","BOS","Boston Red Sox",1850000,35,32,205.33333333333334,-113,4.51,1.3003246753246753,4.383116883116883,9.3360389610389607,95,67,4.74,4287,959,1550,6.0398880335899232,9.7620713785864233,1.3925822253324003,"AL-E",{"$f":"LEFT([League-Division],1)","v":"A"},{"$f":"RIGHT([League-Division],1)","v":"E"},{"$f":"IF([LG]=\"N\",10,20)","v":20},{"$f":"IF([DIV]=\"E\",1,IF([DIV]=\"C\",2,3))","v":1},{"$f":"[LGS]+[DIVS]","v":21}]
[2006,"Arroyo, Bronson","CIN","Cincinnati Reds",3000000,35,35,240.66666666666666,-38,3.29,1.1883656509695291,6.8808864265927978,8.3019390581717456,80,82,4.51,4337,1053,1576,6.5554530781646294,9.8113903620013829,1.4111136730458842,"NL-C",{"$f":"LEFT([League-Division],1)","v":"N"},{"$f":"RIGHT([League-Division],1)","v":"C"},{"$f":"IF([LG]=\"N\",10,20)","v":10},{"$f":"IF([DIV]=\"E\",1,IF([DIV]=\"C\",2,3))","v":2},{"$f":"[LGS]+[DIVS]","v":12}]
[2007,"Arroyo, Bronson","CIN","Cincinnati Reds",4125000,34,34,210.66666666666666,-76,4.2300000000000004,1.4003164556962027,6.6645569620253173,9.9113924050632924,72,90,4.9400000000000004,4349,1068,1605,6.6304897677627039,9.9643596229018154,1.4396412968498504,"NL-C",{"$f":"LEFT([League-Division],1)","v":"N"},{"$f":"RIGHT([League-Division],1)","v":"C"},{"$f":"IF([LG]=\"N\",10,20)","v":10},{"$f":"IF([DIV]=\"E\",1,IF([DIV]=\"C\",2,3))","v":2},{"$f":"[LGS]+[DIVS]","v":12}]
[2008,"Arroyo, Bronson","CIN","Cincinnati Reds",4575000,34,34,200,-56,4.7699999999999996,1.4350000000000001,7.3349999999999991,9.8550000000000004,74,88,4.55,4327,1227,1542,7.6563438872197835,9.6219089438409995,1.4552807950080888,"NL-C",{"$f":"LEFT([League-Division],1)","v":"N"},{"$f":"RIGHT([League-Division],1)","v":"C"},{"$f":"IF([LG]=\"N\",10,20)","v":10},{"$f":"IF([DIV]=\"E\",1,IF([DIV]=\"C\",2,3))","v":2},{"$f":"[LGS]+[DIVS]","v":12}]
[2009,"Arroyo, Bronson","CIN","Cincinnati Reds",10125000,33,33,220.33333333333334,-87,3.84,1.2662632375189107,5.1875945537065054,8.741301059001513,78,84,4.18,4375,1069,1420,6.5972571428571429,8.7634285714285713,1.3693714285714287,"NL-C",{"$f":"LEFT([League-Division],1)","v":"N"},{"$f":"RIGHT([League-Division],1)","v":"C"},{"$f":"IF([LG]=\"N\",10,20)","v":10},{"$f":"IF([DIV]=\"E\",1,IF([DIV]=\"C\",2,3))","v":2},{"$f":"[LGS]+[DIVS]","v":12}]
[2010,"Arroyo, Bronson","CIN","Cincinnati Reds",11625000,33,33,215.66666666666666,-67,3.88,1.1452859350850078,5.0494590417310663,7.8454404945904175,91,71,4.0199999999999996,4359,1130,1404,6.9993117687543016,8.6964900206469373,1.3269098417068135,"NL-C",{"$f":"LEFT([League-Division],1)","v":"N"},{"$f":"RIGHT([League-Division],1)","v":"C"},{"$f":"IF([LG]=\"N\",10,20)","v":10},{"$f":"IF([DIV]=\"E\",1,IF([DIV]=\"C\",2,3))","v":2},{"$f":"[LGS]+[DIVS]","v":12}]
[2002,"Asencio, Miguel","KCA","Kansas City Royals",200000,31,21,123.33333333333333,-78,5.1100000000000003,1.6216216216216217,4.2324324324324323,9.9243243243243242,62,100,5.21,4323,909,1587,5.6773074253990288,9.9118667591950036,1.4982650936849411,"AL-C",{"$f":"LEFT([League-Division],1)","v":"A"},{"$f":"RIGHT([League-Division],1)","v":"C"},{"$f":"IF([LG]=\"N\",10,20)","v":20},{"$f":"IF([DIV]=\"E\",1,IF([DIV]=\"C\",2,3))","v":2},{"$f":"[LGS]+[DIVS]","v":22}]
[2003,"Asencio, Miguel","KCA","Kansas City Royals",314000,8,8,48.333333333333336,-27,5.21,1.5517241379310345,5.0275862068965518,10.055172413793104,83,79,5.0599999999999996,4316,865,1569,5.4112604263206672,9.8153382761816488,1.4840129749768303,"AL-C",{"$f":"LEFT([League-Division],1)","v":"A"},{"$f":"RIGHT([League-Division],1)","v":"C"},{"$f":"IF([LG]=\"N\",10,20)","v":20},{"$f":"IF([DIV]=\"E\",1,IF([DIV]=\"C\",2,3))","v":2},{"$f":"[LGS]+[DIVS]","v":22}]
[1995,"Ashby, Andy","SDN","San Diego Padres",755000,31,31,192.66666666666666,-30,2.94,1.2560553633217995,7.006920415224914,8.4083044982698958,70,74,4.13,3852,1047,1242,7.3387850467289724,8.7056074766355138,1.3660436137071652,"NL-W",{"$f":"LEFT([League-Division],1)","v":"N"},{"$f":"RIGHT([League-Division],1)","v":"W"},{"$f":"IF([LG]=\"N\",10,20)","v":10},{"$f":"IF([DIV]=\"E\",1,IF([DIV]=\"C\",2,3))","v":3},{"$f":"[LGS]+[DIVS]","v":13}]
[1996,"Ashby, Andy","SDN","San Diego Padres",2000000,24,24,150.66666666666666,-62,3.23,1.2013274336283186,5.0774336283185848,8.7809734513274336,91,71,3.73,4467,1194,1395,7.2169241101410337,8.4318334452652781,1.2766957689724647,"NL-W",{"$f":"LEFT([League-Division],1)","v":"N"},{"$f":"RIGHT([League-Division],1)","v":"W"},{"$f":"IF([LG]=\"N\",10,20)","v":10},{"$f":"IF([DIV]=\"E\",1,IF([DIV]=\"C\",2,3))","v":3},{"$f":"[LGS]+[DIVS]","v":13}]
[1997,"Ashby, Andy","SDN","San Diego Padres",3400000,30,30,200.66666666666666,-63,4.13,1.275747508305648,6.4584717607973428,9.2840531561461805,76,86,4.99,4350,1059,1581,6.5731034482758623,9.8131034482758626,1.5013793103448276,"NL-W",{"$f":"LEFT([League-Division],1)","v":"N"},{"$f":"RIGHT([League-Division],1)","v":"W"},{"$f":"IF([LG]=\"N\",10,20)","v":10},{"$f":"IF([DIV]=\"E\",1,IF([DIV]=\"C\",2,3))","v":3},{"$f":"[LGS]+[DIVS]","v":13}]
[1998,"Ashby, Andy","SDN","San Diego Padres",4125000,33,33,226.66666666666666,-72,3.34,1.2397058823529412,5.9955882352941181,8.8544117647058833,98,64,3.63,4363,1217,1384,7.5312858125143256,8.5647490258996104,1.2961265184506074,"NL-W",{"$f":"LEFT([League-Division],1)","v":"N"},{"$f":"RIGHT([League-Division],1)","v":"W"},{"$f":"IF([LG]=\"N\",10,20)","v":10},{"$f":"IF([DIV]=\"E\",1,IF([DIV]=\"C\",2,3))","v":3},{"$f":"[LGS]+[DIVS]","v":13}]
[1999,"Ashby, Andy","SDN","San Diego Padres",5050000,31,31,206,-72,3.8,1.2524271844660195,5.766990291262136,8.9126213592233015,74,88,4.47,4260,1078,1454,6.8323943661971827,9.2154929577464788,1.3964788732394366,"NL-W",{"$f":"LEFT([League-Division],1)","v":"N"},{"$f":"RIGHT([League-Division],1)","v":"W"},{"$f":"IF([LG]=\"N\",10,20)","v":10},{"$f":"IF([DIV]=\"E\",1,IF([DIV]=\"C\",2,3))","v":3},{"$f":"[LGS]+[DIVS]","v":13}]
[2000,"Ashby, Andy","PHI","Philadelphia Phillies",5900000,16,16,101.33333333333333,-62,5.68,1.4901315789473686,4.5296052631578947,10.036184210526315,65,97,4.7699999999999996,4315,1123,1458,7.0268829663962915,9.1230590961761315,1.4586326767091542,"NL-E",{"$f":"LEFT([League-Division],1)","v":"N"},{"$f":"RIGHT([League-Division],1)","v":"E"},{"$f":"IF([LG]=\"N\",10,20)","v":10},{"$f":"IF([DIV]=\"E\",1,IF([DIV]=\"C\",2,3))","v":1},{"$f":"[LGS]+[DIVS]","v":11}]
[2000,"Ashby, Andy","ATL","Atlanta Braves",5900000,15,15,98,-48,4.13,1.2857142857142858,5.0510204081632653,9.4591836734693864,95,67,4.05,4320,1093,1428,6.8312499999999998,8.9250000000000007,1.3277777777777777,"NL-E",{"$f":"LEFT([League-Division],1)","v":"N"},{"$f":"RIGHT([League-Division],1)","v":"E"},{"$f":"IF([LG]=\"N\",10,20)","v":10},{"$f":"IF([DIV]=\"E\",1,IF([DIV]=\"C\",2,3))","v":1},{"$f":"[LGS]+[DIVS]","v":11}]
[2001,"Ashby, Andy","LAN","Los Angeles Dodgers",6000000,2,2,11.666666666666666,-7,3.86,1.2857142857142858,5.3999999999999995,10.799999999999999,86,76,4.25,4352,1212,1387,7.5193014705882355,8.605009191176471,1.3173253676470587,"NL-W",{"$f":"LEFT([League-Division],1)","v":"N"},{"$f":"RIGHT([League-Division],1)","v":"W"},{"$f":"IF([LG]=\"N\",10,20)","v":10},{"$f":"IF([DIV]=\"E\",1,IF([DIV]=\"C\",2,3))","v":3},{"$f":"[LGS]+[DIVS]","v":13}]
[2002,"Ashby, Andy","LAN","Los Angeles Dodgers",8000000,30,30,181.66666666666666,-72,3.91,1.3431192660550459,5.3009174311926603,8.8678899082568812,92,70,3.69,4373,1132,1311,6.9892522295906696,8.094443174022409,1.2801280585410473,"NL-W",{"$f":"LEFT([League-Division],1)","v":"N"},{"$f":"RIGHT([League-Division],1)","v":"W"},{"$f":"IF([LG]=\"N\",10,20)","v":10},{"$f":"IF([DIV]=\"E\",1,IF([DIV]=\"C\",2,3))","v":3},{"$f":"[LGS]+[DIVS]","v":13}]
[2003,"Ashby, Andy","LAN","Los Angeles Dodgers",8500000,21,12,73,-49,5.18,1.4657534246575343,5.0547945205479454,11.095890410958905,85,77,3.16,4373,1289,1254,7.9586096501257719,7.742510862108392,1.2211296592728105,"NL-W",{"$f":"LEFT([League-Division],1)","v":"N"},{"$f":"RIGHT([League-Division],1)","v":"W"},{"$f":"IF([LG]=\"N\",10,20)","v":10},{"$f":"IF([DIV]=\"E\",1,IF([DIV]=\"C\",2,3))","v":3},{"$f":"[LGS]+[DIVS]","v":13}]
[1995,"Assenmacher, Paul","CLE","Cleveland Indians",1287000,47,0,38.333333333333336,8,2.82,1.1478260869565218,9.391304347826086,7.5130434782608688,100,44,3.83,3903,926,1261,6.4058416602613368,8.7232897770945428,1.3112990007686396,"AL-C",{"$f":"LEFT([League-Division],1)","v":"A"},{"$f":"RIGHT([League-Division],1)","v":"C"},{"$f":"IF([LG]=\"N\",10,20)","v":20},{"$f":"IF([DIV]=\"E\",1,IF([DIV]=\"C\",2,3))","v":2},{"$f":"[LGS]+[DIVS]","v":22}]
[1996,"Assenmacher, Paul","CLE","Cleveland Indians",871400,63,0,46.666666666666664,-2,3.09,1.2857142857142858,8.4857142857142858,8.8714285714285719,99,62,4.3499999999999996,4356,1033,1530,6.4028925619834718,9.483471074380164,1.3870523415977962,"AL-C",{"$f":"LEFT([League-Division],1)","v":"A"},{"$f":"RIGHT([League-Division],1)","v":"C"},{"$f":"IF([LG]=\"N\",10,20)","v":20},{"$f":"IF([DIV]=\"E\",1,IF([DIV]=\"C\",2,3))","v":2},{"$f":"[LGS]+[DIVS]","v":22}]
[1997,"Assenmacher, Paul","CLE","Cleveland Indians",875000,75,0,49,10,2.94,1.1836734693877551,9.7346938775510203,7.8979591836734695,86,75,4.7300000000000004,4275,1036,1528,6.5431578947368418,9.6505263157894738,1.4757894736842105,"AL-C",{"$f":"LEFT([League-Division],1)","v":"A"},{"$f":"RIGHT([League-Division],1)","v":"C"},{"$f":"IF([LG]=\"N\",10,20)","v":20},{"$f":"IF([DIV]=\"E\",1,IF([DIV]=\"C\",2,3))","v":2},{"$f":"[LGS]+[DIVS]","v":22}]
[1998,"Assenmacher, Paul","CLE","Cleveland Indians",1325000,69,0,47,-11,3.26,1.553191489361702,8.2340425531914896,10.340425531914894,89,73,4.45,4380,1037,1552,6.3924657534246574,9.5671232876712331,1.4486301369863013,"AL-C",{"$f":"LEFT([League-Division],1)","v":"A"},{"$f":"RIGHT([League-Division],1)","v":"C"},{"$f":"IF([LG]=\"N\",10,20)","v":20},{"$f":"IF([DIV]=\"E\",1,IF([DIV]=\"C\",2,3))","v":2},{"$f":"[LGS]+[DIVS]","v":22}]
[1999,"Assenmacher, Paul","CLE","Cleveland Indians",1507000,55,0,33,-21,8.18,2.0303030303030303,7.9090909090909092,13.636363636363637,97,65,4.9000000000000004,4350,1120,1503,6.9517241379310342,9.3289655172413788,1.4737931034482759,"AL-C",{"$f":"LEFT([League-Division],1)","v":"A"},{"$f":"RIGHT([League-Division],1)","v":"C"},{"$f":"IF([LG]=\"N\",10,20)","v":20},{"$f":"IF([DIV]=\"E\",1,IF([DIV]=\"C\",2,3))","v":2},{"$f":"[LGS]+[DIVS]","v":22}]
[1995,"Astacio, Pedro","LAN","Los Angeles Dodgers",425000,48,11,104,-23,4.24,1.2692307692307692,6.9230769230769234,8.9134615384615383,78,66,3.66,3885,1060,1188,7.3667953667953672,8.256370656370656,1.274131274131274,"NL-W",{"$f":"LEFT([League-Division],1)","v":"N"},{"$f":"RIGHT([League-Division],1)","v":"W"},{"$f":"IF([LG]=\"N\",10,20)","v":10},{"$f":"IF([DIV]=\"E\",1,IF([DIV]=\"C\",2,3))","v":3},{"$f":"[LGS]+[DIVS]","v":13}]
[1996,"Astacio, Pedro","LAN","Los Angeles Dodgers",1100000,35,32,211.66666666666666,-77,3.44,1.294488188976378,5.5275590551181102,8.8015748031496077,90,72,3.48,4398,1212,1378,7.4406548431105044,8.4597544338335613,1.3042291950886766,"NL-W",{"$f":"LEFT([League-Division],1)","v":"N"},{"$f":"RIGHT([League-Division],1)","v":"W"},{"$f":"IF([LG]=\"N\",10,20)","v":10},{"$f":"IF([DIV]=\"E\",1,IF([DIV]=\"C\",2,3))","v":3},{"$f":"[LGS]+[DIVS]","v":13}]
[1997,"Astacio, Pedro","COL","Colorado Rockies",2900000,7,7,48.666666666666664,2,4.25,1.2945205479452055,9.4315068493150687,9.0616438356164384,83,79,5.25,4296,870,1697,5.4678770949720663,10.66550279329609,1.5803072625698324,"NL-W",{"$f":"LEFT([League-Division],1)","v":"N"},{"$f":"RIGHT([League-Division],1)","v":"W"},{"$f":"IF([LG]=\"N\",10,20)","v":10},{"$f":"IF([DIV]=\"E\",1,IF([DIV]=\"C\",2,3))","v":3},{"$f":"[LGS]+[DIVS]","v":13}]
[1997,"Astacio, Pedro","LAN","Los Angeles Dodgers",2900000,26,24,153.66666666666666,-36,4.0999999999999996,1.2885032537960954,6.7353579175704992,8.8438177874186561,88,74,3.63,4377,1232,1325,7.599725839616176,8.1734064427690196,1.2823851953392735,"NL-W",{"$f":"LEFT([League-Division],1)","v":"N"},{"$f":"RIGHT([League-Division],1)","v":"W"},{"$f":"IF([LG]=\"N\",10,20)","v":10},{"$f":"IF([DIV]=\"E\",1,IF([DIV]=\"C\",2,3))","v":3},{"$f":"[LGS]+[DIVS]","v":13}]
[1998,"Astacio, Pedro","COL","Colorado Rockies",3350000,35,34,209.33333333333334,-75,6.23,1.5238853503184713,7.3089171974522289,10.533439490445859,77,85,5,4297,951,1583,5.9755643472189899,9.9467070048871307,1.497556434721899,"NL-W",{"$f":"LEFT([League-Division],1)","v":"N"},{"$f":"RIGHT([League-Division],1)","v":"W"},{"$f":"IF([LG]=\"N\",10,20)","v":10},{"$f":"IF([DIV]=\"E\",1,IF([DIV]=\"C\",2,3))","v":3},{"$f":"[LGS]+[DIVS]","v":13}]
[1999,"Astacio, Pedro","COL","Colorado Rockies",6150000,34,34,232,-48,5.04,1.4353448275862069,8.1465517241379306,10.008620689655173,72,90,6.02,4285,1032,1700,6.5026837806301057,10.711785297549593,1.7061843640606769,"NL-W",{"$f":"LEFT([League-Division],1)","v":"N"},{"$f":"RIGHT([League-Division],1)","v":"W"},{"$f":"IF([LG]=\"N\",10,20)","v":10},{"$f":"IF([DIV]=\"E\",1,IF([DIV]=\"C\",2,3))","v":3},{"$f":"[LGS]+[DIVS]","v":13}]
[2000,"Astacio, Pedro","COL","Colorado Rockies",6350000,32,32,196.33333333333334,-24,5.27,1.497453310696095,8.8471986417657043,9.9473684210526301,82,80,5.26,4290,1001,1568,6.3,9.8685314685314687,1.5076923076923077,"NL-W",{"$f":"LEFT([League-Division],1)","v":"N"},{"$f":"RIGHT([League-Division],1)","v":"W"},{"$f":"IF([LG]=\"N\",10,20)","v":10},{"$f":"IF([DIV]=\"E\",1,IF([DIV]=\"C\",2,3))","v":3},{"$f":"[LGS]+[DIVS]","v":13}]
[2001,"Astacio, Pedro","COL","Colorado Rockies",6850000,22,22,141,-26,5.49,1.425531914893617,7.9787234042553186,9.6382978723404271,73,89,5.29,4290,1058,1522,6.6587412587412587,9.5790209790209779,1.4825174825174825,"NL-W",{"$f":"LEFT([League-Division],1)","v":"N"},{"$f":"RIGHT([League-Division],1)","v":"W"},{"$f":"IF([LG]=\"N\",10,20)","v":10},{"$f":"IF([DIV]=\"E\",1,IF([DIV]=\"C\",2,3))","v":3},{"$f":"[LGS]+[DIVS]","v":13}]
[2001,"Astacio, Pedro","HOU","Houston Astros",6850000,4,4,28.666666666666668,-11,3.14,1.1860465116279069,5.9651162790697674,9.4186046511627897,93,69,4.37,4364,1228,1453,7.5976168652612275,8.9896883593033916,1.3329514207149404,"NL-C",{"$f":"LEFT([League-Division],1)","v":"N"},{"$f":"RIGHT([League-Division],1)","v":"C"},{"$f":"IF([LG]=\"N\",10,20)","v":10},{"$f":"IF([DIV]=\"E\",1,IF([DIV]=\"C\",2,3))","v":2},{"$f":"[LGS]+[DIVS]","v":12}]
[2002,"Astacio, Pedro","NYN","New York Mets",4000000,31,31,191.66666666666666,-40,4.79,1.3304347826086957,7.137391304347827,9.0156521739130433,75,86,3.89,4328,1107,1408,6.9059611829944538,8.7837338262476887,1.3523567467652495,"NL-E",{"$f":"LEFT([League-Division],1)","v":"N"},{"$f":"RIGHT([League-Division],1)","v":"E"},{"$f":"IF([LG]=\"N\",10,20)","v":10},{"$f":"IF([DIV]=\"E\",1,IF([DIV]=\"C\",2,3))","v":1},{"$f":"[LGS]+[DIVS]","v":11}]
[2003,"Astacio, Pedro","NYN","New York Mets",7000000,7,7,36.666666666666664,-27,7.36,1.7727272727272729,4.9090909090909101,11.536363636363637,66,95,4.4800000000000004,4240,907,1497,5.7757075471698114,9.5327830188679243,1.4667452830188681,"NL-E",{"$f":"LEFT([League-Division],1)","v":"N"},{"$f":"RIGHT([League-Division],1)","v":"E"},{"$f":"IF([LG]=\"N\",10,20)","v":10},{"$f":"IF([DIV]=\"E\",1,IF([DIV]=\"C\",2,3))","v":1},{"$f":"[LGS]+[DIVS]","v":11}]
[2005,"Astacio, Pedro","TEX","Texas Rangers",800000,12,12,67,-34,6.04,1.3432835820895523,6.0447761194029859,10.611940298507463,79,83,4.96,4320,932,1589,5.8250000000000002,9.9312500000000004,1.4659722222222222,"AL-W",{"$f":"LEFT([League-Division],1)","v":"A"},{"$f":"RIGHT([League-Division],1)","v":"W"},{"$f":"IF([LG]=\"N\",10,20)","v":20},{"$f":"IF([DIV]=\"E\",1,IF([DIV]=\"C\",2,3))","v":3},{"$f":"[LGS]+[DIVS]","v":23}]
[2005,"Astacio, Pedro","SDN","San Diego Padres",800000,12,10,59.666666666666664,-21,3.17,1.3407821229050281,4.977653631284916,8.145251396648046,82,80,4.13,4366,1133,1452,7.0066422354557947,8.9793861658268437,1.3433348602840129,"NL-W",{"$f":"LEFT([League-Division],1)","v":"N"},{"$f":"RIGHT([League-Division],1)","v":"W"},{"$f":"IF([LG]=\"N\",10,20)","v":10},{"$f":"IF([DIV]=\"E\",1,IF([DIV]=\"C\",2,3))","v":3},{"$f":"[LGS]+[DIVS]","v":13}]
[2006,"Astacio, Pedro","WAS","Washington Nationals",750000,17,17,90.333333333333329,-67,5.98,1.5498154981549817,4.1845018450184508,10.859778597785979,71,91,5.03,4309,960,1535,6.0153167788349968,9.6182408911580417,1.4752842886980739,"NL-E",{"$f":"LEFT([League-Division],1)","v":"N"},{"$f":"RIGHT([League-Division],1)","v":"E"},{"$f":"IF([LG]=\"N\",10,20)","v":10},{"$f":"IF([DIV]=\"E\",1,IF([DIV]=\"C\",2,3))","v":1},{"$f":"[LGS]+[DIVS]","v":11}]
[2005,"Atchison, Scott","SEA","Seattle Mariners",323000,6,0,6.666666666666667,2,6.75,1.2,12.149999999999999,9.4500000000000011,69,93,4.49,4283,892,1483,5.6231613355124903,9.348820919915946,1.3861779126780294,"AL-W",{"$f":"LEFT([League-Division],1)","v":"A"},{"$f":"RIGHT([League-Division],1)","v":"W"},{"$f":"IF([LG]=\"N\",10,20)","v":20},{"$f":"IF([DIV]=\"E\",1,IF([DIV]=\"C\",2,3))","v":3},{"$f":"[LGS]+[DIVS]","v":23}]
[2010,"Atchison, Scott","BOS","Boston Red Sox",420000,43,1,60,-17,4.5,1.2833333333333334,6.15,8.6999999999999993,89,73,4.2,4370,1207,1402,7.457437070938215,8.6622425629290607,1.3606407322654461,"AL-E",{"$f":"LEFT([League-Division],1)","v":"A"},{"$f":"RIGHT([League-Division],1)","v":"E"},{"$f":"IF([LG]=\"N\",10,20)","v":20},{"$f":"IF([DIV]=\"E\",1,IF([DIV]=\"C\",2,3))","v":1},{"$f":"[LGS]+[DIVS]","v":21}]
[1995,"Ausanio, Joe","NYA","New York Yankees",110000,28,0,37.666666666666664,-6,5.73,1.7256637168141593,8.6017699115044248,10.035398230088497,79,65,4.5599999999999996,3852,908,1286,6.3644859813084107,9.0140186915887845,1.4182242990654206,"AL-E",{"$f":"LEFT([League-Division],1)","v":"A"},{"$f":"RIGHT([League-Division],1)","v":"E"},{"$f":"IF([LG]=\"N\",10,20)","v":20},{"$f":"IF([DIV]=\"E\",1,IF([DIV]=\"C\",2,3))","v":1},{"$f":"[LGS]+[DIVS]","v":21}]
[2002,"Austin, Jeff","KCA","Kansas City Royals",205000,10,0,11,-8,4.91,1.8181818181818181,4.9090909090909083,11.454545454545455,62,100,5.21,4323,909,1587,5.6773074253990288,9.9118667591950036,1.4982650936849411,"AL-C",{"$f":"LEFT([League-Division],1)","v":"A"},{"$f":"RIGHT([League-Division],1)","v":"C"},{"$f":"IF([LG]=\"N\",10,20)","v":20},{"$f":"IF([DIV]=\"E\",1,IF([DIV]=\"C\",2,3))","v":2},{"$f":"[LGS]+[DIVS]","v":22}]
[1995,"Avery, Steve","ATL","Atlanta Braves",4000000,29,29,173.33333333333334,-24,4.67,1.2519230769230769,7.3211538461538463,8.5673076923076916,90,54,3.44,3873,1087,1184,7.5778466305189776,8.25406661502711,1.254841208365608,"NL-E",{"$f":"LEFT([League-Division],1)","v":"N"},{"$f":"RIGHT([League-Division],1)","v":"E"},{"$f":"IF([LG]=\"N\",10,20)","v":10},{"$f":"IF([DIV]=\"E\",1,IF([DIV]=\"C\",2,3))","v":1},{"$f":"[LGS]+[DIVS]","v":11}]
[1996,"Avery, Steve","ATL","Atlanta Braves",4200000,24,23,131,-60,4.47,1.4198473282442747,5.9083969465648849,10.03053435114504,96,66,3.54,4407,1245,1372,7.6276378488767866,8.4057181756296799,1.2409802586793737,"NL-E",{"$f":"LEFT([League-Division],1)","v":"N"},{"$f":"RIGHT([League-Division],1)","v":"E"},{"$f":"IF([LG]=\"N\",10,20)","v":10},{"$f":"IF([DIV]=\"E\",1,IF([DIV]=\"C\",2,3))","v":1},{"$f":"[LGS]+[DIVS]","v":11}]
[1997,"Avery, Steve","BOS","Boston Red Sox",4850000,22,18,96.666666666666671,-76,6.42,1.8206896551724137,4.7482758620689651,11.824137931034482,78,84,4.87,4355,987,1567,6.119173363949483,9.7150401836968996,1.4996555683122847,"AL-E",{"$f":"LEFT([League-Division],1)","v":"A"},{"$f":"RIGHT([League-Division],1)","v":"E"},{"$f":"IF([LG]=\"N\",10,20)","v":20},{"$f":"IF([DIV]=\"E\",1,IF([DIV]=\"C\",2,3))","v":1},{"$f":"[LGS]+[DIVS]","v":21}]
[1998,"Avery, Steve","BOS","Boston Red Sox",3900000,34,23,123.66666666666667,-71,5.0199999999999996,1.5525606469002695,4.1482479784366575,9.315363881401618,92,70,4.1900000000000004,4308,1025,1406,6.424094707520891,8.8119777158774379,1.3300835654596099,"AL-E",{"$f":"LEFT([League-Division],1)","v":"A"},{"$f":"RIGHT([League-Division],1)","v":"E"},{"$f":"IF([LG]=\"N\",10,20)","v":20},{"$f":"IF([DIV]=\"E\",1,IF([DIV]=\"C\",2,3))","v":1},{"$f":"[LGS]+[DIVS]","v":21}]
[1999,"Avery, Steve","CIN","Cincinnati Reds",750000,19,19,96,-24,5.16,1.59375,4.78125,7.03125,96,67,3.99,4384,1081,1309,6.6576186131386867,8.061815693430658,1.3309762773722629,"NL-C",{"$f":"LEFT([League-Division],1)","v":"N"},{"$f":"RIGHT([League-Division],1)","v":"C"},{"$f":"IF([LG]=\"N\",10,20)","v":10},{"$f":"IF([DIV]=\"E\",1,IF([DIV]=\"C\",2,3))","v":2},{"$f":"[LGS]+[DIVS]","v":12}]
[1995,"Ayala, Bobby","SEA","Seattle Mariners",250000,63,0,71,4,4.4400000000000004,1.4507042253521127,9.7605633802816918,9.2535211267605639,79,66,4.5,3868,1068,1343,7.4550155118924506,9.3746122026887289,1.5,"AL-W",{"$f":"LEFT([League-Division],1)","v":"A"},{"$f":"RIGHT([League-Division],1)","v":"W"},{"$f":"IF([LG]=\"N\",10,20)","v":20},{"$f":"IF([DIV]=\"E\",1,IF([DIV]=\"C\",2,3))","v":3},{"$f":"[LGS]+[DIVS]","v":23}]
[1996,"Ayala, Bobby","SEA","Seattle Mariners",325000,50,0,67.333333333333329,-4,5.88,1.3366336633663367,8.153465346534654,8.6881188118811892,85,76,5.21,4293,1000,1562,6.2893081761006293,9.8238993710691815,1.5143256464011181,"AL-W",{"$f":"LEFT([League-Division],1)","v":"A"},{"$f":"RIGHT([League-Division],1)","v":"W"},{"$f":"IF([LG]=\"N\",10,20)","v":20},{"$f":"IF([DIV]=\"E\",1,IF([DIV]=\"C\",2,3))","v":3},{"$f":"[LGS]+[DIVS]","v":23}]
[1997,"Ayala, Bobby","SEA","Seattle Mariners",900000,71,0,96.666666666666671,1,3.82,1.3655172413793102,8.5655172413793093,8.4724137931034491,90,72,4.79,4341,1207,1500,7.5072563925362825,9.3296475466482374,1.4498963372494817,"AL-W",{"$f":"LEFT([League-Division],1)","v":"A"},{"$f":"RIGHT([League-Division],1)","v":"W"},{"$f":"IF([LG]=\"N\",10,20)","v":20},{"$f":"IF([DIV]=\"E\",1,IF([DIV]=\"C\",2,3))","v":3},{"$f":"[LGS]+[DIVS]","v":23}]
[1998,"Ayala, Bobby","SEA","Seattle Mariners",1500000,62,0,75.333333333333329,-32,7.29,1.6725663716814161,8.1238938053097343,11.946902654867257,76,85,4.95,4272,1156,1530,7.3061797752808992,9.6699438202247183,1.4452247191011236,"AL-W",{"$f":"LEFT([League-Division],1)","v":"A"},{"$f":"RIGHT([League-Division],1)","v":"W"},{"$f":"IF([LG]=\"N\",10,20)","v":20},{"$f":"IF([DIV]=\"E\",1,IF([DIV]=\"C\",2,3))","v":3},{"$f":"[LGS]+[DIVS]","v":23}]
[1999,"Ayala, Bobby","MON","Montreal Expos",1800000,53,0,66,4,3.68,1.4242424242424243,8.7272727272727266,8.1818181818181817,68,94,4.6900000000000004,4302,1043,1505,6.54602510460251,9.44560669456067,1.4483960948396095,"NL-E",{"$f":"LEFT([League-Division],1)","v":"N"},{"$f":"RIGHT([League-Division],1)","v":"E"},{"$f":"IF([LG]=\"N\",10,20)","v":10},{"$f":"IF([DIV]=\"E\",1,IF([DIV]=\"C\",2,3))","v":1},{"$f":"[LGS]+[DIVS]","v":11}]
[1999,"Ayala, Bobby","CHN","Chicago Cubs",1800000,13,0,16,4,2.81,1,8.4375,6.1875,67,95,5.27,4291,980,1619,6.1663947797716148,10.187135865765557,1.5017478443253323,"NL-C",{"$f":"LEFT([League-Division],1)","v":"N"},{"$f":"RIGHT([League-Division],1)","v":"C"},{"$f":"IF([LG]=\"N\",10,20)","v":10},{"$f":"IF([DIV]=\"E\",1,IF([DIV]=\"C\",2,3))","v":2},{"$f":"[LGS]+[DIVS]","v":12}]
[2003,"Ayala, Luis","MON","Montreal Expos",300000,65,0,71,-19,2.92,1.0985915492957747,5.830985915492958,8.23943661971831,83,79,4.01,4313,1028,1467,6.4354277764896821,9.1836308833758409,1.342453048921864,"NL-E",{"$f":"LEFT([League-Division],1)","v":"N"},{"$f":"RIGHT([League-Division],1)","v":"E"},{"$f":"IF([LG]=\"N\",10,20)","v":10},{"$f":"IF([DIV]=\"E\",1,IF([DIV]=\"C\",2,3))","v":1},{"$f":"[LGS]+[DIVS]","v":11}]
[2004,"Ayala, Luis","MON","Montreal Expos",317500,81,0,90.333333333333329,-29,2.69,1.1845018450184504,6.2767527675276753,9.1660516605166045,67,95,4.33,4341,1032,1477,6.4187975120939873,9.1865929509329654,1.42294402211472,"NL-E",{"$f":"LEFT([League-Division],1)","v":"N"},{"$f":"RIGHT([League-Division],1)","v":"E"},{"$f":"IF([LG]=\"N\",10,20)","v":10},{"$f":"IF([DIV]=\"E\",1,IF([DIV]=\"C\",2,3))","v":1},{"$f":"[LGS]+[DIVS]","v":11}]
[2005,"Ayala, Luis","WAS","Washington Nationals",363000,68,0,71,-35,2.66,1.2535211267605635,5.070422535211268,9.5070422535211261,81,81,3.87,4374,997,1456,6.1543209876543212,8.9876543209876552,1.368312757201646,"NL-E",{"$f":"LEFT([League-Division],1)","v":"N"},{"$f":"RIGHT([League-Division],1)","v":"E"},{"$f":"IF([LG]=\"N\",10,20)","v":10},{"$f":"IF([DIV]=\"E\",1,IF([DIV]=\"C\",2,3))","v":1},{"$f":"[LGS]+[DIVS]","v":11}]
[2007,"Ayala, Luis","WAS","Washington Nationals",1300000,44,0,42.333333333333336,-15,3.19,1.2992125984251968,5.9527559055118102,9.1417322834645667,73,89,4.58,4340,931,1502,5.7919354838709678,9.3442396313364053,1.4391705069124423,"NL-E",{"$f":"LEFT([League-Division],1)","v":"N"},{"$f":"RIGHT([League-Division],1)","v":"E"},{"$f":"IF([LG]=\"N\",10,20)","v":10},{"$f":"IF([DIV]=\"E\",1,IF([DIV]=\"C\",2,3))","v":1},{"$f":"[LGS]+[DIVS]","v":11}]
[2008,"Ayala, Luis","WAS","Washington Nationals",1700000,62,0,57.666666666666664,-27,5.77,1.4739884393063585,5.6184971098265901,9.8323699421965323,59,102,4.66,4302,1063,1496,6.6715481171548117,9.3891213389121351,1.4532775453277544,"NL-E",{"$f":"LEFT([League-Division],1)","v":"N"},{"$f":"RIGHT([League-Division],1)","v":"E"},{"$f":"IF([LG]=\"N\",10,20)","v":10},{"$f":"IF([DIV]=\"E\",1,IF([DIV]=\"C\",2,3))","v":1},{"$f":"[LGS]+[DIVS]","v":11}]
[2008,"Ayala, Luis","NYN","New York Mets",1700000,19,0,18,-9,5.5,1.3888888888888888,7,11.5,89,73,4.07,4393,1181,1415,7.2585932164807652,8.6967903482813576,1.3692237650808106,"NL-E",{"$f":"LEFT([League-Division],1)","v":"N"},{"$f":"RIGHT([League-Division],1)","v":"E"},{"$f":"IF([LG]=\"N\",10,20)","v":10},{"$f":"IF([DIV]=\"E\",1,IF([DIV]=\"C\",2,3))","v":1},{"$f":"[LGS]+[DIVS]","v":11}]
[2009,"Ayala, Luis","MIN","Minnesota Twins",1300000,28,0,32.333333333333336,-17,4.18,1.4226804123711339,5.8453608247422668,10.577319587628864,87,76,4.5,4359,1052,1542,6.5161734342739166,9.5512732278045416,1.381968341362698,"AL-C",{"$f":"LEFT([League-Division],1)","v":"A"},{"$f":"RIGHT([League-Division],1)","v":"C"},{"$f":"IF([LG]=\"N\",10,20)","v":20},{"$f":"IF([DIV]=\"E\",1,IF([DIV]=\"C\",2,3))","v":2},{"$f":"[LGS]+[DIVS]","v":22}]
[2009,"Ayala, Luis","FLO","Florida Marlins",1300000,10,0,7.666666666666667,-5,11.74,2.3478260869565215,8.2173913043478262,14.086956521739129,87,75,4.32,4339,1248,1425,7.7658446646692791,8.8672505185526624,1.4007835906890989,"NL-E",{"$f":"LEFT([League-Division],1)","v":"N"},{"$f":"RIGHT([League-Division],1)","v":"E"},{"$f":"IF([LG]=\"N\",10,20)","v":10},{"$f":"IF([DIV]=\"E\",1,IF([DIV]=\"C\",2,3))","v":1},{"$f":"[LGS]+[DIVS]","v":11}]
[1998,"Aybar, Manuel","SLN","St. Louis Cardinals",175000,20,14,81.333333333333329,-33,5.98,1.6229508196721312,6.307377049180328,9.9590163934426226,83,79,4.32,4409,972,1513,5.9523701519618957,9.265366296212294,1.4091630755273303,"NL-C",{"$f":"LEFT([League-Division],1)","v":"N"},{"$f":"RIGHT([League-Division],1)","v":"C"},{"$f":"IF([LG]=\"N\",10,20)","v":10},{"$f":"IF([DIV]=\"E\",1,IF([DIV]=\"C\",2,3))","v":2},{"$f":"[LGS]+[DIVS]","v":12}]
[1999,"Aybar, Manuel","SLN","St. Louis Cardinals",210000,65,1,97,-30,5.47,1.4432989690721649,6.8659793814432986,9.6494845360824737,75,86,4.74,4335,1025,1519,6.3840830449826989,9.4608996539792383,1.5128027681660901,"NL-C",{"$f":"LEFT([League-Division],1)","v":"N"},{"$f":"RIGHT([League-Division],1)","v":"C"},{"$f":"IF([LG]=\"N\",10,20)","v":10},{"$f":"IF([DIV]=\"E\",1,IF([DIV]=\"C\",2,3))","v":2},{"$f":"[LGS]+[DIVS]","v":12}]
[2000,"Aybar, Manuel","COL","Colorado Rockies",270000,1,0,1.6666666666666667,-5,16.2,3,0,27,82,80,5.26,4290,1001,1568,6.3,9.8685314685314687,1.5076923076923077,"NL-W",{"$f":"LEFT([League-Division],1)","v":"N"},{"$f":"RIGHT([League-Division],1)","v":"W"},{"$f":"IF([LG]=\"N\",10,20)","v":10},{"$f":"IF([DIV]=\"E\",1,IF([DIV]=\"C\",2,3))","v":3},{"$f":"[LGS]+[DIVS]","v":13}]
[2000,"Aybar, Manuel","CIN","Cincinnati Reds",270000,32,0,50.333333333333336,-20,4.83,1.4503311258278144,5.5430463576158937,9.1192052980132434,85,77,4.33,4368,1015,1446,6.2740384615384617,8.9381868131868139,1.4457417582417582,"NL-C",{"$f":"LEFT([League-Division],1)","v":"N"},{"$f":"RIGHT([League-Division],1)","v":"C"},{"$f":"IF([LG]=\"N\",10,20)","v":10},{"$f":"IF([DIV]=\"E\",1,IF([DIV]=\"C\",2,3))","v":2},{"$f":"[LGS]+[DIVS]","v":12}]
[2000,"Aybar, Manuel","FLO","Florida Marlins",270000,21,0,27.333333333333332,-4,2.63,1.1341463414634148,4.6097560975609753,5.9268292682926829,79,82,4.59,4288,1051,1477,6.6177705223880601,9.3001399253731343,1.4881063432835822,"NL-E",{"$f":"LEFT([League-Division],1)","v":"N"},{"$f":"RIGHT([League-Division],1)","v":"E"},{"$f":"IF([LG]=\"N\",10,20)","v":10},{"$f":"IF([DIV]=\"E\",1,IF([DIV]=\"C\",2,3))","v":1},{"$f":"[LGS]+[DIVS]","v":11}]
[2001,"Aybar, Manuel","CHN","Chicago Cubs",665000,17,1,22.666666666666668,-12,6.35,1.9852941176470587,6.3529411764705879,11.117647058823527,88,74,4.03,4311,1344,1357,8.4175365344467643,8.4989561586638835,1.3270702853166318,"NL-C",{"$f":"LEFT([League-Division],1)","v":"N"},{"$f":"RIGHT([League-Division],1)","v":"C"},{"$f":"IF([LG]=\"N\",10,20)","v":10},{"$f":"IF([DIV]=\"E\",1,IF([DIV]=\"C\",2,3))","v":2},{"$f":"[LGS]+[DIVS]","v":12}]
[2005,"Aybar, Manuel","NYN","New York Mets",425000,22,0,25.333333333333332,-4,6.04,1.5,9.5921052631578956,11.013157894736842,83,79,3.76,4307,1012,1390,6.3440910146273506,8.7137218481541669,1.3101927095426049,"NL-E",{"$f":"LEFT([League-Division],1)","v":"N"},{"$f":"RIGHT([League-Division],1)","v":"E"},{"$f":"IF([LG]=\"N\",10,20)","v":10},{"$f":"IF([DIV]=\"E\",1,IF([DIV]=\"C\",2,3))","v":1},{"$f":"[LGS]+[DIVS]","v":11}]
[2005,"Backe, Brandon","HOU","Houston Astros",350000,26,25,149.33333333333334,-54,4.76,1.4598214285714284,5.8459821428571423,9.100446428571427,89,73,3.51,4329,1164,1336,7.2598752598752601,8.3326403326403327,1.2307692307692308,"NL-C",{"$f":"LEFT([League-Division],1)","v":"N"},{"$f":"RIGHT([League-Division],1)","v":"C"},{"$f":"IF([LG]=\"N\",10,20)","v":10},{"$f":"IF([DIV]=\"E\",1,IF([DIV]=\"C\",2,3))","v":2},{"$f":"[LGS]+[DIVS]","v":12}]
[2006,"Backe, Brandon","HOU","Houston Astros",442500,8,8,43,-24,3.77,1.4186046511627908,3.9767441860465116,9,82,80,4.08,4406,1160,1425,7.1084884248751701,8.7324103495233771,1.2970948706309577,"NL-C",{"$f":"LEFT([League-Division],1)","v":"N"},{"$f":"RIGHT([League-Division],1)","v":"C"},{"$f":"IF([LG]=\"N\",10,20)","v":10},{"$f":"IF([DIV]=\"E\",1,IF([DIV]=\"C\",2,3))","v":2},{"$f":"[LGS]+[DIVS]","v":12}]
[2007,"Backe, Brandon","HOU","Houston Astros",545000,5,5,28.666666666666668,-16,3.77,1.3255813953488371,3.4534883720930227,8.4767441860465116,73,89,4.68,4394,1109,1566,6.8145197997268996,9.6226672735548462,1.417387346381429,"NL-C",{"$f":"LEFT([League-Division],1)","v":"N"},{"$f":"RIGHT([League-Division],1)","v":"C"},{"$f":"IF([LG]=\"N\",10,20)","v":10},{"$f":"IF([DIV]=\"E\",1,IF([DIV]=\"C\",2,3))","v":2},{"$f":"[LGS]+[DIVS]","v":12}]
[2008,"Backe, Brandon","HOU","Houston Astros",800000,31,31,166.66666666666666,-75,6.05,1.6740000000000002,6.8580000000000005,10.907999999999999,86,75,4.3899999999999997,4276,1095,1453,6.9141721234798883,9.1746959775491117,1.3645930776426567,"NL-C",{"$f":"LEFT([League-Division],1)","v":"N"},{"$f":"RIGHT([League-Division],1)","v":"C"},{"$f":"IF([LG]=\"N\",10,20)","v":10},{"$f":"IF([DIV]=\"E\",1,IF([DIV]=\"C\",2,3))","v":2},{"$f":"[LGS]+[DIVS]","v":12}]
[2009,"Backe, Brandon","HOU","Houston Astros",1550000,5,1,13,-11,10.38,2.0769230769230771,6.9230769230769234,14.538461538461538,74,88,4.54,4290,1144,1521,7.2,9.5727272727272741,1.4454545454545455,"NL-C",{"$f":"LEFT([League-Division],1)","v":"N"},{"$f":"RIGHT([League-Division],1)","v":"C"},{"$f":"IF([LG]=\"N\",10,20)","v":10},{"$f":"IF([DIV]=\"E\",1,IF([DIV]=\"C\",2,3))","v":2},{"$f":"[LGS]+[DIVS]","v":12}]
[2003,"Bacsik, Mike","NYN","New York Mets",302500,5,3,17.666666666666668,-16,10.19,2.0377358490566038,6.1132075471698109,14.264150943396226,66,95,4.4800000000000004,4240,907,1497,5.7757075471698114,9.5327830188679243,1.4667452830188681,"NL-E",{"$f":"LEFT([League-Division],1)","v":"N"},{"$f":"RIGHT([League-Division],1)","v":"E"},{"$f":"IF([LG]=\"N\",10,20)","v":10},{"$f":"IF([DIV]=\"E\",1,IF([DIV]=\"C\",2,3))","v":1},{"$f":"[LGS]+[DIVS]","v":11}]
[2010,"Badenhop, Burke","FLO","Florida Marlins",407500,53,0,67.666666666666671,-15,3.99,1.2266009852216748,6.2512315270935952,8.2463054187192117,80,82,4.09,4315,1168,1433,7.3084588644264201,8.966628041714948,1.3779837775202781,"NL-E",{"$f":"LEFT([League-Division],1)","v":"N"},{"$f":"RIGHT([League-Division],1)","v":"E"},{"$f":"IF([LG]=\"N\",10,20)","v":10},{"$f":"IF([DIV]=\"E\",1,IF([DIV]=\"C\",2,3))","v":1},{"$f":"[LGS]+[DIVS]","v":11}]
[2008,"Baek, Cha Seung","SEA","Seattle Mariners",392500,10,1,30,-13,5.4,1.3666666666666667,4.5,8.4,61,101,4.7300000000000004,4306,1016,1544,6.3706456107756617,9.681374825824431,1.5118439386901998,"AL-W",{"$f":"LEFT([League-Division],1)","v":"A"},{"$f":"RIGHT([League-Division],1)","v":"W"},{"$f":"IF([LG]=\"N\",10,20)","v":20},{"$f":"IF([DIV]=\"E\",1,IF([DIV]=\"C\",2,3))","v":3},{"$f":"[LGS]+[DIVS]","v":23}]
[2008,"Baek, Cha Seung","SDN","San Diego Padres",392500,22,20,111,-41,4.62,1.3333333333333333,6.2432432432432439,9.5675675675675684,63,99,4.41,4375,1100,1466,6.7885714285714291,9.0473142857142861,1.3899428571428571,"NL-W",{"$f":"LEFT([League-Division],1)","v":"N"},{"$f":"RIGHT([League-Division],1)","v":"W"},{"$f":"IF([LG]=\"N\",10,20)","v":10},{"$f":"IF([DIV]=\"E\",1,IF([DIV]=\"C\",2,3))","v":3},{"$f":"[LGS]+[DIVS]","v":13}]
[2002,"Baez, Danys","CLE","Cleveland Indians",4125000,39,26,165.33333333333334,-30,4.41,1.4637096774193548,7.0766129032258061,8.7096774193548381,74,88,4.91,4274,1058,1508,6.6836686944314456,9.526438933083762,1.4817501169864296,"AL-C",{"$f":"LEFT([League-Division],1)","v":"A"},{"$f":"RIGHT([League-Division],1)","v":"C"},{"$f":"IF([LG]=\"N\",10,20)","v":20},{"$f":"IF([DIV]=\"E\",1,IF([DIV]=\"C\",2,3))","v":2},{"$f":"[LGS]+[DIVS]","v":22}]
[2003,"Baez, Danys","CLE","Cleveland Indians",5125000,73,0,75.666666666666671,1,3.81,1.1629955947136563,7.8502202643171799,7.7312775330396466,68,94,4.21,4378,943,1477,5.815669255367748,9.1089538602101428,1.3554134307903152,"AL-C",{"$f":"LEFT([League-Division],1)","v":"A"},{"$f":"RIGHT([League-Division],1)","v":"C"},{"$f":"IF([LG]=\"N\",10,20)","v":20},{"$f":"IF([DIV]=\"E\",1,IF([DIV]=\"C\",2,3))","v":2},{"$f":"[LGS]+[DIVS]","v":22}]
[2004,"Baez, Danys","TBA","Tampa Bay Devil Rays",1750000,62,0,68,-8,3.57,1.3088235294117647,6.8823529411764701,7.9411764705882355,70,91,4.8099999999999996,4251,923,1459,5.8623853211009171,9.2667607621736057,1.438955539872971,"AL-E",{"$f":"LEFT([League-Division],1)","v":"A"},{"$f":"RIGHT([League-Division],1)","v":"E"},{"$f":"IF([LG]=\"N\",10,20)","v":20},{"$f":"IF([DIV]=\"E\",1,IF([DIV]=\"C\",2,3))","v":1},{"$f":"[LGS]+[DIVS]","v":21}]
[2005,"Baez, Danys","TBA","Tampa Bay Devil Rays",3750000,67,0,72.333333333333329,-15,2.86,1.3271889400921659,6.345622119815669,8.2119815668202776,67,95,5.39,4265,949,1570,6.0077373974208674,9.9390386869871037,1.5369284876905041,"AL-E",{"$f":"LEFT([League-Division],1)","v":"A"},{"$f":"RIGHT([League-Division],1)","v":"E"},{"$f":"IF([LG]=\"N\",10,20)","v":20},{"$f":"IF([DIV]=\"E\",1,IF([DIV]=\"C\",2,3))","v":1},{"$f":"[LGS]+[DIVS]","v":21}]
[2006,"Baez, Danys","ATL","Atlanta Braves",4000000,11,0,10,3,5.4,1.3,9,6.3,79,83,4.5999999999999996,4324,1049,1529,6.5501850138760416,9.5474098057354304,1.4576780758556893,"NL-E",{"$f":"LEFT([League-Division],1)","v":"N"},{"$f":"RIGHT([League-Division],1)","v":"E"},{"$f":"IF([LG]=\"N\",10,20)","v":10},{"$f":"IF([DIV]=\"E\",1,IF([DIV]=\"C\",2,3))","v":1},{"$f":"[LGS]+[DIVS]","v":11}]
[2006,"Baez, Danys","LAN","Los Angeles Dodgers",4000000,46,0,49.666666666666664,-24,4.3499999999999996,1.2885906040268458,5.2550335570469802,9.6040268456375841,88,74,4.2300000000000004,4381,1068,1524,6.582058890664233,9.3923761698242423,1.3805067336224608,"NL-W",{"$f":"LEFT([League-Division],1)","v":"N"},{"$f":"RIGHT([League-Division],1)","v":"W"},{"$f":"IF([LG]=\"N\",10,20)","v":10},{"$f":"IF([DIV]=\"E\",1,IF([DIV]=\"C\",2,3))","v":3},{"$f":"[LGS]+[DIVS]","v":13}]
[2007,"Baez, Danys","BAL","Baltimore Orioles",5666667,53,0,50.333333333333336,-21,6.44,1.5695364238410596,5.1854304635761581,8.9403973509933774,69,93,5.17,4316,1087,1491,6.8000463392029653,9.3273864689527333,1.5201575532900833,"AL-E",{"$f":"LEFT([League-Division],1)","v":"A"},{"$f":"RIGHT([League-Division],1)","v":"E"},{"$f":"IF([LG]=\"N\",10,20)","v":20},{"$f":"IF([DIV]=\"E\",1,IF([DIV]=\"C\",2,3))","v":1},{"$f":"[LGS]+[DIVS]","v":21}]
[2009,"Baez, Danys","BAL","Baltimore Orioles",7166666,59,0,71.666666666666671,-19,4.0199999999999996,1.1302325581395347,5.0232558139534884,7.409302325581395,64,98,5.16,4287,933,1633,5.8761371588523446,10.284814555633311,1.5248425472358293,"AL-E",{"$f":"LEFT([League-Division],1)","v":"A"},{"$f":"RIGHT([League-Division],1)","v":"E"},{"$f":"IF([LG]=\"N\",10,20)","v":20},{"$f":"IF([DIV]=\"E\",1,IF([DIV]=\"C\",2,3))","v":1},{"$f":"[LGS]+[DIVS]","v":21}]
[2010,"Baez, Danys","PHI","Philadelphia Phillies",2500000,51,0,47.666666666666664,-27,5.48,1.6363636363636365,5.2867132867132867,10.384615384615385,97,65,3.68,4369,1183,1402,7.3108262760357059,8.6642252231631947,1.2483405813687343,"NL-E",{"$f":"LEFT([League-Division],1)","v":"N"},{"$f":"RIGHT([League-Division],1)","v":"E"},{"$f":"IF([LG]=\"N\",10,20)","v":10},{"$f":"IF([DIV]=\"E\",1,IF([DIV]=\"C\",2,3))","v":1},{"$f":"[LGS]+[DIVS]","v":11}]
[2009,"Bailey, Andrew","OAK","Oakland Athletics",400000,68,0,83.333333333333329,42,1.84,0.876,9.8280000000000012,5.2920000000000007,75,87,4.29,4342,1124,1486,6.9894058037770614,9.2404421925380014,1.3880700138185169,"AL-W",{"$f":"LEFT([League-Division],1)","v":"A"},{"$f":"RIGHT([League-Division],1)","v":"W"},{"$f":"IF([LG]=\"N\",10,20)","v":20},{"$f":"IF([DIV]=\"E\",1,IF([DIV]=\"C\",2,3))","v":3},{"$f":"[LGS]+[DIVS]","v":23}]
[2010,"Bailey, Andrew","OAK","Oakland Athletics",435000,47,0,49,8,1.47,0.95918367346938771,7.7142857142857135,6.2448979591836737,81,81,3.58,4295,1070,1315,6.7264260768335271,8.2665890570430722,1.2761350407450522,"AL-W",{"$f":"LEFT([League-Division],1)","v":"A"},{"$f":"RIGHT([League-Division],1)","v":"W"},{"$f":"IF([LG]=\"N\",10,20)","v":20},{"$f":"IF([DIV]=\"E\",1,IF([DIV]=\"C\",2,3))","v":3},{"$f":"[LGS]+[DIVS]","v":23}]
[1996,"Bailey, Cory","SLN","St. Louis Cardinals",125000,51,0,57,-19,3,1.5263157894736843,6,9,88,74,3.98,4356,1050,1380,6.508264462809918,8.5537190082644639,1.3216253443526171,"NL-C",{"$f":"LEFT([League-Division],1)","v":"N"},{"$f":"RIGHT([League-Division],1)","v":"C"},{"$f":"IF([LG]=\"N\",10,20)","v":10},{"$f":"IF([DIV]=\"E\",1,IF([DIV]=\"C\",2,3))","v":2},{"$f":"[LGS]+[DIVS]","v":12}]
[1997,"Bailey, Cory","SFN","San Francisco Giants",181000,7,0,9.6666666666666661,-10,8.3800000000000008,1.9655172413793105,4.6551724137931041,13.96551724137931,90,72,4.41,4338,1044,1494,6.4979253112033195,9.2987551867219924,1.4329183955739973,"NL-W",{"$f":"LEFT([League-Division],1)","v":"N"},{"$f":"RIGHT([League-Division],1)","v":"W"},{"$f":"IF([LG]=\"N\",10,20)","v":10},{"$f":"IF([DIV]=\"E\",1,IF([DIV]=\"C\",2,3))","v":3},{"$f":"[LGS]+[DIVS]","v":13}]
[2002,"Bailey, Cory","KCA","Kansas City Royals",320000,37,0,46,-29,4.1100000000000003,1.826086956521739,4.695652173913043,10.369565217391305,62,100,5.21,4323,909,1587,5.6773074253990288,9.9118667591950036,1.4982650936849411,"AL-C",{"$f":"LEFT([League-Division],1)","v":"A"},{"$f":"RIGHT([League-Division],1)","v":"C"},{"$f":"IF([LG]=\"N\",10,20)","v":20},{"$f":"IF([DIV]=\"E\",1,IF([DIV]=\"C\",2,3))","v":2},{"$f":"[LGS]+[DIVS]","v":22}]
[2010,"Bailey, Homer","CIN","Cincinnati Reds",418000,19,19,109,-9,4.46,1.3669724770642202,8.2568807339449553,9,91,71,4.0199999999999996,4359,1130,1404,6.9993117687543016,8.6964900206469373,1.3269098417068135,"NL-C",{"$f":"LEFT([League-Division],1)","v":"N"},{"$f":"RIGHT([League-Division],1)","v":"C"},{"$f":"IF([LG]=\"N\",10,20)","v":10},{"$f":"IF([DIV]=\"E\",1,IF([DIV]=\"C\",2,3))","v":2},{"$f":"[LGS]+[DIVS]","v":12}]
[1995,"Bailey, Roger","COL","Colorado Rockies",109000,39,6,81.333333333333329,-55,4.9800000000000004,1.5614754098360657,3.651639344262295,9.7377049180327884,77,67,4.97,3864,891,1443,6.2259316770186341,10.083074534161492,1.5178571428571428,"NL-W",{"$f":"LEFT([League-Division],1)","v":"N"},{"$f":"RIGHT([League-Division],1)","v":"W"},{"$f":"IF([LG]=\"N\",10,20)","v":10},{"$f":"IF([DIV]=\"E\",1,IF([DIV]=\"C\",2,3))","v":3},{"$f":"[LGS]+[DIVS]","v":13}]
[1996,"Bailey, Roger","COL","Colorado Rockies",150000,24,11,83.666666666666671,-49,6.24,1.7450199203187251,4.8406374501992033,10.111553784860558,83,79,5.6,4266,932,1597,5.8987341772151893,10.107594936708862,1.5618846694796062,"NL-W",{"$f":"LEFT([League-Division],1)","v":"N"},{"$f":"RIGHT([League-Division],1)","v":"W"},{"$f":"IF([LG]=\"N\",10,20)","v":10},{"$f":"IF([DIV]=\"E\",1,IF([DIV]=\"C\",2,3))","v":3},{"$f":"[LGS]+[DIVS]","v":13}]
[1997,"Bailey, Roger","COL","Colorado Rockies",200000,29,29,191,-126,4.29,1.4659685863874345,3.9581151832460737,9.8952879581151834,83,79,5.25,4296,870,1697,5.4678770949720663,10.66550279329609,1.5803072625698324,"NL-W",{"$f":"LEFT([League-Division],1)","v":"N"},{"$f":"RIGHT([League-Division],1)","v":"W"},{"$f":"IF([LG]=\"N\",10,20)","v":10},{"$f":"IF([DIV]=\"E\",1,IF([DIV]=\"C\",2,3))","v":3},{"$f":"[LGS]+[DIVS]","v":13}]
[1997,"Bailes, Scott","TEX","Texas Rangers",150000,24,0,22,-4,2.86,1.2727272727272727,5.7272727272727275,7.3636363636363642,77,85,4.68,4289,925,1598,5.8230356726509669,10.059687572860806,1.4961529494054557,"AL-W",{"$f":"LEFT([League-Division],1)","v":"A"},{"$f":"RIGHT([League-Division],1)","v":"W"},{"$f":"IF([LG]=\"N\",10,20)","v":20},{"$f":"IF([DIV]=\"E\",1,IF([DIV]=\"C\",2,3))","v":3},{"$f":"[LGS]+[DIVS]","v":23}]
[1998,"Bailes, Scott","TEX","Texas Rangers",210000,46,0,40.333333333333336,-31,6.47,1.7851239669421486,6.6942148760330573,13.611570247933884,88,74,5,4293,994,1624,6.2515723270440251,10.213836477987421,1.4975541579315164,"AL-W",{"$f":"LEFT([League-Division],1)","v":"A"},{"$f":"RIGHT([League-Division],1)","v":"W"},{"$f":"IF([LG]=\"N\",10,20)","v":20},{"$f":"IF([DIV]=\"E\",1,IF([DIV]=\"C\",2,3))","v":3},{"$f":"[LGS]+[DIVS]","v":23}]
[2006,"Baker, Scott","MIN","Minnesota Twins",330000,16,16,83.333333333333329,-52,6.37,1.56,6.6959999999999997,12.312000000000001,96,66,3.95,4318,1164,1490,7.2783696155627613,9.3168133395090322,1.2825382121352478,"AL-C",{"$f":"LEFT([League-Division],1)","v":"A"},{"$f":"RIGHT([League-Division],1)","v":"C"},{"$f":"IF([LG]=\"N\",10,20)","v":20},{"$f":"IF([DIV]=\"E\",1,IF([DIV]=\"C\",2,3))","v":2},{"$f":"[LGS]+[DIVS]","v":22}]
[2008,"Baker, Scott","MIN","Minnesota Twins",422500,28,28,172.33333333333334,-20,3.45,1.1779497098646035,7.3636363636363633,8.4081237911025148,88,75,4.18,4377,995,1568,6.1377655928718298,9.6723783413296776,1.3529814941740919,"AL-C",{"$f":"LEFT([League-Division],1)","v":"A"},{"$f":"RIGHT([League-Division],1)","v":"C"},{"$f":"IF([LG]=\"N\",10,20)","v":20},{"$f":"IF([DIV]=\"E\",1,IF([DIV]=\"C\",2,3))","v":2},{"$f":"[LGS]+[DIVS]","v":22}]
[2009,"Baker, Scott","MIN","Minnesota Twins",750000,33,33,200,-28,4.37,1.19,7.2900000000000009,8.5499999999999989,87,76,4.5,4359,1052,1542,6.5161734342739166,9.5512732278045416,1.381968341362698,"AL-C",{"$f":"LEFT([League-Division],1)","v":"A"},{"$f":"RIGHT([League-Division],1)","v":"C"},{"$f":"IF([LG]=\"N\",10,20)","v":20},{"$f":"IF([DIV]=\"E\",1,IF([DIV]=\"C\",2,3))","v":2},{"$f":"[LGS]+[DIVS]","v":22}]
[2010,"Baker, Scott","MIN","Minnesota Twins",3000000,29,29,170.33333333333334,-38,4.49,1.3444227005870841,7.8199608610567513,9.8277886497064557,94,68,3.95,4358,1048,1493,6.4928866452501142,9.2498852684717754,1.2914180816888481,"AL-C",{"$f":"LEFT([League-Division],1)","v":"A"},{"$f":"RIGHT([League-Division],1)","v":"C"},{"$f":"IF([LG]=\"N\",10,20)","v":20},{"$f":"IF([DIV]=\"E\",1,IF([DIV]=\"C\",2,3))","v":2},{"$f":"[LGS]+[DIVS]","v":22}]
[1995,"Baldwin, James","CHA","Chicago White Sox",109000,6,4,14.666666666666666,-22,12.89,2.7954545454545454,6.1363636363636367,19.63636363636364,68,76,4.8499999999999996,3852,892,1374,6.2523364485981308,9.630841121495326,1.5506230529595015,"AL-C",{"$f":"LEFT([League-Division],1)","v":"A"},{"$f":"RIGHT([League-Division],1)","v":"C"},{"$f":"IF([LG]=\"N\",10,20)","v":20},{"$f":"IF([DIV]=\"E\",1,IF([DIV]=\"C\",2,3))","v":2},{"$f":"[LGS]+[DIVS]","v":22}]
[1996,"Baldwin, James","CHA","Chicago White Sox",115000,28,28,169,-41,4.42,1.331360946745562,6.7633136094674553,8.946745562130177,85,77,4.53,4383,1039,1529,6.4004106776180691,9.4188911704312126,1.4681724845995894,"AL-C",{"$f":"LEFT([League-Division],1)","v":"A"},{"$f":"RIGHT([League-Division],1)","v":"C"},{"$f":"IF([LG]=\"N\",10,20)","v":20},{"$f":"IF([DIV]=\"E\",1,IF([DIV]=\"C\",2,3))","v":2},{"$f":"[LGS]+[DIVS]","v":22}]
[1997,"Baldwin, James","CHA","Chicago White Sox",250000,32,32,200,-65,5.27,1.44,6.3,9.2249999999999996,80,81,4.74,4266,961,1505,6.0822784810126578,9.5253164556962027,1.4627285513361463,"AL-C",{"$f":"LEFT([League-Division],1)","v":"A"},{"$f":"RIGHT([League-Division],1)","v":"C"},{"$f":"IF([LG]=\"N\",10,20)","v":20},{"$f":"IF([DIV]=\"E\",1,IF([DIV]=\"C\",2,3))","v":2},{"$f":"[LGS]+[DIVS]","v":22}]
[1998,"Baldwin, James","CHA","Chicago White Sox",300000,37,24,159,-68,5.32,1.4842767295597483,6.1132075471698109,9.9622641509433958,80,82,5.24,4315,911,1569,5.7003476245654703,9.817612977983778,1.4940903823870222,"AL-C",{"$f":"LEFT([League-Division],1)","v":"A"},{"$f":"RIGHT([League-Division],1)","v":"C"},{"$f":"IF([LG]=\"N\",10,20)","v":20},{"$f":"IF([DIV]=\"E\",1,IF([DIV]=\"C\",2,3))","v":2},{"$f":"[LGS]+[DIVS]","v":22}]
[1999,"Baldwin, James","CHA","Chicago White Sox",1900000,35,33,199.33333333333334,-96,5.0999999999999996,1.5050167224080266,5.5535117056856178,9.8879598662207364,75,86,4.92,4314,968,1608,6.0584144645340752,10.063977746870652,1.5326842837273991,"AL-C",{"$f":"LEFT([League-Division],1)","v":"A"},{"$f":"RIGHT([League-Division],1)","v":"C"},{"$f":"IF([LG]=\"N\",10,20)","v":20},{"$f":"IF([DIV]=\"E\",1,IF([DIV]=\"C\",2,3))","v":2},{"$f":"[LGS]+[DIVS]","v":22}]
[2000,"Baldwin, James","CHA","Chicago White Sox",3300000,29,28,178,-69,4.6500000000000004,1.3707865168539326,5.8651685393258433,9.3539325842696623,95,67,4.66,4350,1037,1509,6.4365517241379315,9.3662068965517253,1.4641379310344829,"AL-C",{"$f":"LEFT([League-Division],1)","v":"A"},{"$f":"RIGHT([League-Division],1)","v":"C"},{"$f":"IF([LG]=\"N\",10,20)","v":20},{"$f":"IF([DIV]=\"E\",1,IF([DIV]=\"C\",2,3))","v":2},{"$f":"[LGS]+[DIVS]","v":22}]
[2001,"Baldwin, James","CHA","Chicago White Sox",5950000,17,16,95.666666666666671,-67,4.6100000000000003,1.5365853658536586,3.9512195121951219,10.254355400696864,83,79,4.55,4300,921,1465,5.7830232558139532,9.1988372093023258,1.3709302325581396,"AL-C",{"$f":"LEFT([League-Division],1)","v":"A"},{"$f":"RIGHT([League-Division],1)","v":"C"},{"$f":"IF([LG]=\"N\",10,20)","v":20},{"$f":"IF([DIV]=\"E\",1,IF([DIV]=\"C\",2,3))","v":2},{"$f":"[LGS]+[DIVS]","v":22}]
[2001,"Baldwin, James","LAN","Los Angeles Dodgers",5950000,12,12,79.333333333333329,-29,4.2,1.3487394957983194,6.0126050420168076,9.302521008403362,86,76,4.25,4352,1212,1387,7.5193014705882355,8.605009191176471,1.3173253676470587,"NL-W",{"$f":"LEFT([League-Division],1)","v":"N"},{"$f":"RIGHT([League-Division],1)","v":"W"},{"$f":"IF([LG]=\"N\",10,20)","v":10},{"$f":"IF([DIV]=\"E\",1,IF([DIV]=\"C\",2,3))","v":3},{"$f":"[LGS]+[DIVS]","v":13}]
[2002,"Baldwin, James","SEA","Seattle Mariners",1250000,30,23,150,-91,5.28,1.52,5.28,10.74,93,69,4.07,4336,1063,1422,6.6192343173431736,8.8547047970479706,1.2889760147601477,"AL-W",{"$f":"LEFT([League-Division],1)","v":"A"},{"$f":"RIGHT([League-Division],1)","v":"W"},{"$f":"IF([LG]=\"N\",10,20)","v":20},{"$f":"IF([DIV]=\"E\",1,IF([DIV]=\"C\",2,3))","v":3},{"$f":"[LGS]+[DIVS]","v":23}]
[2007,"Bale, John","KCA","Kansas City Royals",1800000,26,0,40,-3,4.05,1.55,9.4500000000000011,10.125,69,93,4.4800000000000004,4312,993,1547,6.2177643784786643,9.6866883116883109,1.4380797773654916,"AL-C",{"$f":"LEFT([League-Division],1)","v":"A"},{"$f":"RIGHT([League-Division],1)","v":"C"},{"$f":"IF([LG]=\"N\",10,20)","v":20},{"$f":"IF([DIV]=\"E\",1,IF([DIV]=\"C\",2,3))","v":2},{"$f":"[LGS]+[DIVS]","v":22}]
[2008,"Bale, John","KCA","Kansas City Royals",2200000,13,3,26.666666666666668,-15,4.3899999999999997,1.3125,4.7250000000000005,9.7874999999999996,75,87,4.5,4337,1085,1473,6.7546691261240488,9.1701637076320033,1.375144108830989,"AL-C",{"$f":"LEFT([League-Division],1)","v":"A"},{"$f":"RIGHT([League-Division],1)","v":"C"},{"$f":"IF([LG]=\"N\",10,20)","v":20},{"$f":"IF([DIV]=\"E\",1,IF([DIV]=\"C\",2,3))","v":2},{"$f":"[LGS]+[DIVS]","v":22}]
[2009,"Bale, John","KCA","Kansas City Royals",1200000,43,0,28.333333333333332,-10,5.72,1.835294117647059,7.6235294117647054,10.799999999999999,65,97,4.83,4278,1153,1486,7.2769985974754556,9.3786816269284703,1.4628330995792427,"AL-C",{"$f":"LEFT([League-Division],1)","v":"A"},{"$f":"RIGHT([League-Division],1)","v":"C"},{"$f":"IF([LG]=\"N\",10,20)","v":20},{"$f":"IF([DIV]=\"E\",1,IF([DIV]=\"C\",2,3))","v":2},{"$f":"[LGS]+[DIVS]","v":22}]
[2009,"Balfour, Grant","TBA","Tampa Bay Rays",1400000,73,0,67.333333333333329,10,4.8099999999999996,1.3663366336633664,9.2227722772277225,7.8861386138613874,84,78,4.3600000000000003,4282,1125,1421,7.0936478281177022,8.9600653900046705,1.3563755254553946,"AL-E",{"$f":"LEFT([League-Division],1)","v":"A"},{"$f":"RIGHT([League-Division],1)","v":"E"},{"$f":"IF([LG]=\"N\",10,20)","v":20},{"$f":"IF([DIV]=\"E\",1,IF([DIV]=\"C\",2,3))","v":1},{"$f":"[LGS]+[DIVS]","v":21}]
[2010,"Balfour, Grant","TBA","Tampa Bay Rays",2050000,57,0,55.333333333333336,13,2.2799999999999998,1.0843373493975903,9.1084337349397586,6.9939759036144578,96,66,3.78,4361,1189,1347,7.3613850034395778,8.3396010089429016,1.2554459986241686,"AL-E",{"$f":"LEFT([League-Division],1)","v":"A"},{"$f":"RIGHT([League-Division],1)","v":"E"},{"$f":"IF([LG]=\"N\",10,20)","v":20},{"$f":"IF([DIV]=\"E\",1,IF([DIV]=\"C\",2,3))","v":1},{"$f":"[LGS]+[DIVS]","v":21}]
[1995,"Bankhead, Scott","NYA","New York Yankees",500000,20,1,39,-24,6,1.5384615384615385,4.615384615384615,10.153846153846153,79,65,4.5599999999999996,3852,908,1286,6.3644859813084107,9.0140186915887845,1.4182242990654206,"AL-E",{"$f":"LEFT([League-Division],1)","v":"A"},{"$f":"RIGHT([League-Division],1)","v":"E"},{"$f":"IF([LG]=\"N\",10,20)","v":20},{"$f":"IF([DIV]=\"E\",1,IF([DIV]=\"C\",2,3))","v":1},{"$f":"[LGS]+[DIVS]","v":21}]
[1995,"Banks, Willie","CHN","Chicago Cubs",240000,10,0,11.666666666666666,-18,15.43,3.342857142857143,6.9428571428571431,20.828571428571429,73,71,4.13,3903,926,1313,6.4058416602613368,9.0830130668716365,1.4073789392774789,"NL-C",{"$f":"LEFT([League-Division],1)","v":"N"},{"$f":"RIGHT([League-Division],1)","v":"C"},{"$f":"IF([LG]=\"N\",10,20)","v":10},{"$f":"IF([DIV]=\"E\",1,IF([DIV]=\"C\",2,3))","v":2},{"$f":"[LGS]+[DIVS]","v":12}]
[1995,"Banks, Willie","LAN","Los Angeles Dodgers",240000,6,6,29,-13,4.03,1.7931034482758621,7.1379310344827589,11.172413793103448,78,66,3.66,3885,1060,1188,7.3667953667953672,8.256370656370656,1.274131274131274,"NL-W",{"$f":"LEFT([League-Division],1)","v":"N"},{"$f":"RIGHT([League-Division],1)","v":"W"},{"$f":"IF([LG]=\"N\",10,20)","v":10},{"$f":"IF([DIV]=\"E\",1,IF([DIV]=\"C\",2,3))","v":3},{"$f":"[LGS]+[DIVS]","v":13}]
[1995,"Banks, Willie","FLO","Florida Marlins",240000,9,9,50,-13,4.32,1.46,5.3999999999999995,7.74,67,76,4.2699999999999996,3858,994,1299,6.9564541213063764,9.0909797822706064,1.4471228615863141,"NL-E",{"$f":"LEFT([League-Division],1)","v":"N"},{"$f":"RIGHT([League-Division],1)","v":"E"},{"$f":"IF([LG]=\"N\",10,20)","v":10},{"$f":"IF([DIV]=\"E\",1,IF([DIV]=\"C\",2,3))","v":1},{"$f":"[LGS]+[DIVS]","v":11}]
[1998,"Banks, Willie","NYA","New York Yankees",342500,9,0,14.333333333333334,-12,10.050000000000001,2.2325581395348837,5.0232558139534884,12.558139534883722,114,48,3.82,4369,1080,1357,6.6742961776150151,8.3861295490959034,1.251773861295491,"AL-E",{"$f":"LEFT([League-Division],1)","v":"A"},{"$f":"RIGHT([League-Division],1)","v":"E"},{"$f":"IF([LG]=\"N\",10,20)","v":20},{"$f":"IF([DIV]=\"E\",1,IF([DIV]=\"C\",2,3))","v":1},{"$f":"[LGS]+[DIVS]","v":21}]
[1998,"Banks, Willie","ARI","Arizona Diamondbacks",342500,33,0,43.666666666666664,-2,3.09,1.3511450381679391,6.5954198473282446,7.0076335877862599,65,97,4.6399999999999997,4296,908,1463,5.7067039106145252,9.1948324022346366,1.3631284916201116,"NL-W",{"$f":"LEFT([League-Division],1)","v":"N"},{"$f":"RIGHT([League-Division],1)","v":"W"},{"$f":"IF([LG]=\"N\",10,20)","v":10},{"$f":"IF([DIV]=\"E\",1,IF([DIV]=\"C\",2,3))","v":3},{"$f":"[LGS]+[DIVS]","v":13}]
[2002,"Banks, Willie","BOS","Boston Red Sox",450000,29,0,39,-6,3.23,1.1794871794871795,6,7.3846153846153841,93,69,3.75,4338,1157,1339,7.2012448132780085,8.3340248962655608,1.223374827109267,"AL-E",{"$f":"LEFT([League-Division],1)","v":"A"},{"$f":"RIGHT([League-Division],1)","v":"E"},{"$f":"IF([LG]=\"N\",10,20)","v":20},{"$f":"IF([DIV]=\"E\",1,IF([DIV]=\"C\",2,3))","v":1},{"$f":"[LGS]+[DIVS]","v":21}]
[2006,"Bannister, Brian","NYN","New York Mets",327000,8,6,38,-15,4.26,1.4736842105263157,4.5,8.0526315789473681,97,65,4.1399999999999997,4384,1161,1402,7.1503193430656937,8.6345802919708028,1.3200273722627738,"NL-E",{"$f":"LEFT([League-Division],1)","v":"N"},{"$f":"RIGHT([League-Division],1)","v":"E"},{"$f":"IF([LG]=\"N\",10,20)","v":10},{"$f":"IF([DIV]=\"E\",1,IF([DIV]=\"C\",2,3))","v":1},{"$f":"[LGS]+[DIVS]","v":11}]
[2008,"Bannister, Brian","KCA","Kansas City Royals",421000,32,32,182.66666666666666,-102,5.76,1.4945255474452555,5.5675182481751833,10.593065693430658,75,87,4.5,4337,1085,1473,6.7546691261240488,9.1701637076320033,1.375144108830989,"AL-C",{"$f":"LEFT([League-Division],1)","v":"A"},{"$f":"RIGHT([League-Division],1)","v":"C"},{"$f":"IF([LG]=\"N\",10,20)","v":20},{"$f":"IF([DIV]=\"E\",1,IF([DIV]=\"C\",2,3))","v":2},{"$f":"[LGS]+[DIVS]","v":22}]
[2010,"Bannister, Brian","KCA","Kansas City Royals",2300000,24,23,127.66666666666667,-81,6.34,1.629242819843342,5.4281984334203655,11.138381201044385,67,95,4.97,4310,1035,1553,6.4837587006960549,9.7287703016241291,1.4645011600928073,"AL-C",{"$f":"LEFT([League-Division],1)","v":"A"},{"$f":"RIGHT([League-Division],1)","v":"C"},{"$f":"IF([LG]=\"N\",10,20)","v":20},{"$f":"IF([DIV]=\"E\",1,IF([DIV]=\"C\",2,3))","v":2},{"$f":"[LGS]+[DIVS]","v":22}]
[1998,"Baptist, Travis","MIN","Minnesota Twins",170000,13,0,27,-23,5.67,1.6666666666666667,3.6666666666666665,11.333333333333334,70,92,4.76,4342,952,1622,5.9198526024873335,10.086135421464764,1.4364348226623675,"AL-C",{"$f":"LEFT([League-Division],1)","v":"A"},{"$f":"RIGHT([League-Division],1)","v":"C"},{"$f":"IF([LG]=\"N\",10,20)","v":20},{"$f":"IF([DIV]=\"E\",1,IF([DIV]=\"C\",2,3))","v":2},{"$f":"[LGS]+[DIVS]","v":22}]
[1998,"Barber, Brian","KCA","Kansas City Royals",175000,8,8,42,-21,6,1.3809523809523809,5.1428571428571423,9.6428571428571423,72,89,5.16,4308,999,1590,6.2611420612813378,9.9651810584958209,1.5027855153203342,"AL-C",{"$f":"LEFT([League-Division],1)","v":"A"},{"$f":"RIGHT([League-Division],1)","v":"C"},{"$f":"IF([LG]=\"N\",10,20)","v":20},{"$f":"IF([DIV]=\"E\",1,IF([DIV]=\"C\",2,3))","v":2},{"$f":"[LGS]+[DIVS]","v":22}]
[1999,"Barber, Brian","KCA","Kansas City Royals",210000,8,3,18.666666666666668,-24,9.64,2.1964285714285712,3.375,14.946428571428569,64,97,5.35,4261,831,1607,5.265665336775406,10.182820934053041,1.5841351795353205,"AL-C",{"$f":"LEFT([League-Division],1)","v":"A"},{"$f":"RIGHT([League-Division],1)","v":"C"},{"$f":"IF([LG]=\"N\",10,20)","v":20},{"$f":"IF([DIV]=\"E\",1,IF([DIV]=\"C\",2,3))","v":2},{"$f":"[LGS]+[DIVS]","v":22}]
[2002,"Barcelo, Lorenzo","CHA","Chicago White Sox",240000,4,0,6,-8,9,1.6666666666666667,1.5,13.5,81,81,4.53,4269,945,1422,5.9768095572733664,8.9936753338018267,1.370344342937456,"AL-C",{"$f":"LEFT([League-Division],1)","v":"A"},{"$f":"RIGHT([League-Division],1)","v":"C"},{"$f":"IF([LG]=\"N\",10,20)","v":20},{"$f":"IF([DIV]=\"E\",1,IF([DIV]=\"C\",2,3))","v":2},{"$f":"[LGS]+[DIVS]","v":22}]
[2010,"Bard, Daniel","BOS","Boston Red Sox",415500,73,0,74.666666666666671,31,1.93,1.0044642857142856,9.1607142857142847,5.4241071428571423,89,73,4.2,4370,1207,1402,7.457437070938215,8.6622425629290607,1.3606407322654461,"AL-E",{"$f":"LEFT([League-Division],1)","v":"A"},{"$f":"RIGHT([League-Division],1)","v":"E"},{"$f":"IF([LG]=\"N\",10,20)","v":20},{"$f":"IF([DIV]=\"E\",1,IF([DIV]=\"C\",2,3))","v":1},{"$f":"[LGS]+[DIVS]","v":21}]
[2005,"Bartosh, Cliff","CHN","Chicago Cubs",318600,19,0,19.666666666666668,-8,5.49,1.7288135593220337,6.8644067796610164,10.525423728813559,79,83,4.1900000000000004,4320,1256,1357,7.85,8.4812499999999993,1.3423611111111111,"NL-C",{"$f":"LEFT([League-Division],1)","v":"N"},{"$f":"RIGHT([League-Division],1)","v":"C"},{"$f":"IF([LG]=\"N\",10,20)","v":10},{"$f":"IF([DIV]=\"E\",1,IF([DIV]=\"C\",2,3))","v":2},{"$f":"[LGS]+[DIVS]","v":12}]
[1995,"Barton, Shawn","SFN","San Francisco Giants",109000,52,0,44.333333333333336,-15,4.26,1.263157894736842,4.466165413533834,7.511278195488722,67,77,4.8600000000000003,3879,801,1368,5.575406032482598,9.5220417633410683,1.448569218870843,"NL-W",{"$f":"LEFT([League-Division],1)","v":"N"},{"$f":"RIGHT([League-Division],1)","v":"W"},{"$f":"IF([LG]=\"N\",10,20)","v":10},{"$f":"IF([DIV]=\"E\",1,IF([DIV]=\"C\",2,3))","v":3},{"$f":"[LGS]+[DIVS]","v":13}]
[2008,"Bass, Brian","MIN","Minnesota Twins",390000,44,0,68.333333333333329,-52,4.87,1.551219512195122,4.2146341463414636,11.063414634146341,88,75,4.18,4377,995,1568,6.1377655928718298,9.6723783413296776,1.3529814941740919,"AL-C",{"$f":"LEFT([League-Division],1)","v":"A"},{"$f":"RIGHT([League-Division],1)","v":"C"},{"$f":"IF([LG]=\"N\",10,20)","v":20},{"$f":"IF([DIV]=\"E\",1,IF([DIV]=\"C\",2,3))","v":2},{"$f":"[LGS]+[DIVS]","v":22}]
[2008,"Bass, Brian","BAL","Baltimore Orioles",390000,5,4,21,-1,4.71,1.0952380952380953,5.5714285714285712,6,68,93,5.15,4266,922,1538,5.8354430379746836,9.7341772151898738,1.5646976090014064,"AL-E",{"$f":"LEFT([League-Division],1)","v":"A"},{"$f":"RIGHT([League-Division],1)","v":"E"},{"$f":"IF([LG]=\"N\",10,20)","v":20},{"$f":"IF([DIV]=\"E\",1,IF([DIV]=\"C\",2,3))","v":1},{"$f":"[LGS]+[DIVS]","v":21}]
[2009,"Bass, Brian","BAL","Baltimore Orioles",405000,48,0,86.333333333333329,-52,4.9000000000000004,1.7374517374517375,5.6293436293436301,11.05019305019305,64,98,5.16,4287,933,1633,5.8761371588523446,10.284814555633311,1.5248425472358293,"AL-E",{"$f":"LEFT([League-Division],1)","v":"A"},{"$f":"RIGHT([League-Division],1)","v":"E"},{"$f":"IF([LG]=\"N\",10,20)","v":20},{"$f":"IF([DIV]=\"E\",1,IF([DIV]=\"C\",2,3))","v":1},{"$f":"[LGS]+[DIVS]","v":21}]
[2010,"Bastardo, Antonio","PHI","Philadelphia Phillies",405000,25,0,18.666666666666668,7,4.34,1.5,12.535714285714285,9.1607142857142847,97,65,3.68,4369,1183,1402,7.3108262760357059,8.6642252231631947,1.2483405813687343,"NL-E",{"$f":"LEFT([League-Division],1)","v":"N"},{"$f":"RIGHT([League-Division],1)","v":"E"},{"$f":"IF([LG]=\"N\",10,20)","v":10},{"$f":"IF([DIV]=\"E\",1,IF([DIV]=\"C\",2,3))","v":1},{"$f":"[LGS]+[DIVS]","v":11}]
[1997,"Batchelor, Rich","SLN","St. Louis Cardinals",157500,10,0,16,-13,4.5,1.75,4.5,11.8125,73,89,3.9,4367,1130,1422,6.9864895809480183,8.7918479505381253,1.3450881612090679,"NL-C",{"$f":"LEFT([League-Division],1)","v":"N"},{"$f":"RIGHT([League-Division],1)","v":"C"},{"$f":"IF([LG]=\"N\",10,20)","v":10},{"$f":"IF([DIV]=\"E\",1,IF([DIV]=\"C\",2,3))","v":2},{"$f":"[LGS]+[DIVS]","v":12}]
[1997,"Batchelor, Rich","SDN","San Diego Padres",157500,13,0,12.666666666666666,-9,7.82,2.0526315789473686,7.1052631578947372,13.5,76,86,4.99,4350,1059,1581,6.5731034482758623,9.8131034482758626,1.5013793103448276,"NL-W",{"$f":"LEFT([League-Division],1)","v":"N"},{"$f":"RIGHT([League-Division],1)","v":"W"},{"$f":"IF([LG]=\"N\",10,20)","v":10},{"$f":"IF([DIV]=\"E\",1,IF([DIV]=\"C\",2,3))","v":3},{"$f":"[LGS]+[DIVS]","v":13}]
[1996,"Batista, Miguel","FLO","Florida Marlins",120000,9,0,11.333333333333334,-3,5.56,1.4117647058823528,4.7647058823529411,7.1470588235294112,80,82,3.95,4329,1050,1386,6.5488565488565493,8.6444906444906451,1.3749133749133748,"NL-E",{"$f":"LEFT([League-Division],1)","v":"N"},{"$f":"RIGHT([League-Division],1)","v":"E"},{"$f":"IF([LG]=\"N\",10,20)","v":10},{"$f":"IF([DIV]=\"E\",1,IF([DIV]=\"C\",2,3))","v":1},{"$f":"[LGS]+[DIVS]","v":11}]
[1997,"Batista, Miguel","CHN","Chicago Cubs",153000,11,6,36.333333333333336,-9,5.7,1.6513761467889907,6.6880733944954125,8.9174311926605494,68,94,4.4400000000000004,4287,1072,1451,6.7515745276417078,9.1385584324702585,1.4282715185444366,"NL-C",{"$f":"LEFT([League-Division],1)","v":"N"},{"$f":"RIGHT([League-Division],1)","v":"C"},{"$f":"IF([LG]=\"N\",10,20)","v":10},{"$f":"IF([DIV]=\"E\",1,IF([DIV]=\"C\",2,3))","v":2},{"$f":"[LGS]+[DIVS]","v":12}]
[1998,"Batista, Miguel","MON","Montreal Expos",173000,56,13,135,-49,3.8,1.5259259259259259,6.1333333333333329,9.4,65,97,4.3899999999999997,4281,1017,1448,6.4141555711282408,9.1324456902592868,1.3882270497547302,"NL-E",{"$f":"LEFT([League-Division],1)","v":"N"},{"$f":"RIGHT([League-Division],1)","v":"E"},{"$f":"IF([LG]=\"N\",10,20)","v":10},{"$f":"IF([DIV]=\"E\",1,IF([DIV]=\"C\",2,3))","v":1},{"$f":"[LGS]+[DIVS]","v":11}]
[1999,"Batista, Miguel","MON","Montreal Expos",250000,39,17,134.66666666666666,-51,4.88,1.5148514851485149,6.3490099009901,9.7574257425742577,68,94,4.6900000000000004,4302,1043,1505,6.54602510460251,9.44560669456067,1.4483960948396095,"NL-E",{"$f":"LEFT([League-Division],1)","v":"N"},{"$f":"RIGHT([League-Division],1)","v":"E"},{"$f":"IF([LG]=\"N\",10,20)","v":10},{"$f":"IF([DIV]=\"E\",1,IF([DIV]=\"C\",2,3))","v":1},{"$f":"[LGS]+[DIVS]","v":11}]
[2000,"Batista, Miguel","MON","Montreal Expos",325000,4,0,8.3333333333333339,-12,14.04,2.6399999999999997,7.56,20.52,67,95,5.13,4273,1011,1575,6.3882518137140183,9.952024338871988,1.5122864498010766,"NL-E",{"$f":"LEFT([League-Division],1)","v":"N"},{"$f":"RIGHT([League-Division],1)","v":"E"},{"$f":"IF([LG]=\"N\",10,20)","v":10},{"$f":"IF([DIV]=\"E\",1,IF([DIV]=\"C\",2,3))","v":1},{"$f":"[LGS]+[DIVS]","v":11}]
[2000,"Batista, Miguel","KCA","Kansas City Royals",325000,14,9,57,-36,7.74,1.7543859649122806,4.7368421052631575,10.421052631578949,77,85,5.48,4317,927,1585,5.7977762334954823,9.9131341209173041,1.5830437804030577,"AL-C",{"$f":"LEFT([League-Division],1)","v":"A"},{"$f":"RIGHT([League-Division],1)","v":"C"},{"$f":"IF([LG]=\"N\",10,20)","v":20},{"$f":"IF([DIV]=\"E\",1,IF([DIV]=\"C\",2,3))","v":2},{"$f":"[LGS]+[DIVS]","v":22}]
[2001,"Batista, Miguel","ARI","Arizona Diamondbacks",400000,48,18,139.33333333333334,-23,3.36,1.2416267942583732,5.813397129186602,7.2990430622009566,92,70,3.87,4379,1297,1352,7.9970312856816621,8.3361498058917558,1.2420643982644439,"NL-W",{"$f":"LEFT([League-Division],1)","v":"N"},{"$f":"RIGHT([League-Division],1)","v":"W"},{"$f":"IF([LG]=\"N\",10,20)","v":10},{"$f":"IF([DIV]=\"E\",1,IF([DIV]=\"C\",2,3))","v":3},{"$f":"[LGS]+[DIVS]","v":13}]
[2002,"Batista, Miguel","ARI","Arizona Diamondbacks",2125000,36,29,184.66666666666666,-60,4.29,1.3104693140794224,5.4584837545126357,8.3826714801444044,98,64,3.92,4340,1303,1361,8.1062211981566819,8.4670506912442391,1.2317972350230415,"NL-W",{"$f":"LEFT([League-Division],1)","v":"N"},{"$f":"RIGHT([League-Division],1)","v":"W"},{"$f":"IF([LG]=\"N\",10,20)","v":10},{"$f":"IF([DIV]=\"E\",1,IF([DIV]=\"C\",2,3))","v":3},{"$f":"[LGS]+[DIVS]","v":13}]
[2003,"Batista, Miguel","ARI","Arizona Diamondbacks",3375000,36,29,193.33333333333334,-55,3.54,1.329310344827586,6.6103448275862062,9.1706896551724135,84,78,3.84,4365,1291,1379,7.9855670103092784,8.5298969072164947,1.3092783505154639,"NL-W",{"$f":"LEFT([League-Division],1)","v":"N"},{"$f":"RIGHT([League-Division],1)","v":"W"},{"$f":"IF([LG]=\"N\",10,20)","v":10},{"$f":"IF([DIV]=\"E\",1,IF([DIV]=\"C\",2,3))","v":3},{"$f":"[LGS]+[DIVS]","v":13}]
[2004,"Batista, Miguel","TOR","Toronto Blue Jays",3600000,38,31,198.66666666666666,-102,4.8,1.5201342281879195,4.7114093959731544,9.332214765100673,67,94,4.91,4263,956,1505,6.0548909218859963,9.5320197044334964,1.4869809992962701,"AL-E",{"$f":"LEFT([League-Division],1)","v":"A"},{"$f":"RIGHT([League-Division],1)","v":"E"},{"$f":"IF([LG]=\"N\",10,20)","v":20},{"$f":"IF([DIV]=\"E\",1,IF([DIV]=\"C\",2,3))","v":1},{"$f":"[LGS]+[DIVS]","v":21}]
[2005,"Batista, Miguel","TOR","Toronto Blue Jays",4750000,71,0,74.666666666666671,-26,4.0999999999999996,1.4330357142857142,6.5089285714285712,9.6428571428571423,80,82,4.0599999999999996,4341,958,1475,5.9585348997926744,9.1741534208707662,1.3261921216309607,"AL-E",{"$f":"LEFT([League-Division],1)","v":"A"},{"$f":"RIGHT([League-Division],1)","v":"E"},{"$f":"IF([LG]=\"N\",10,20)","v":20},{"$f":"IF([DIV]=\"E\",1,IF([DIV]=\"C\",2,3))","v":1},{"$f":"[LGS]+[DIVS]","v":21}]
[2006,"Batista, Miguel","ARI","Arizona Diamondbacks",4750000,34,33,206.33333333333334,-121,4.58,1.5266558966074313,4.7980613893376409,10.075928917609046,76,86,4.4800000000000004,4379,1115,1503,6.8748572733500799,9.2671842886503768,1.3968942680977392,"NL-W",{"$f":"LEFT([League-Division],1)","v":"N"},{"$f":"RIGHT([League-Division],1)","v":"W"},{"$f":"IF([LG]=\"N\",10,20)","v":10},{"$f":"IF([DIV]=\"E\",1,IF([DIV]=\"C\",2,3))","v":3},{"$f":"[LGS]+[DIVS]","v":13}]
[2007,"Batista, Miguel","SEA","Seattle Mariners",6000000,33,32,193,-76,4.29,1.5233160621761659,6.2020725388601035,9.7461139896373066,88,74,4.7300000000000004,4303,1020,1578,6.4001859168022319,9.9014640948175696,1.4808273297699279,"AL-W",{"$f":"LEFT([League-Division],1)","v":"A"},{"$f":"RIGHT([League-Division],1)","v":"W"},{"$f":"IF([LG]=\"N\",10,20)","v":20},{"$f":"IF([DIV]=\"E\",1,IF([DIV]=\"C\",2,3))","v":3},{"$f":"[LGS]+[DIVS]","v":23}]
[2008,"Batista, Miguel","SEA","Seattle Mariners",9500000,44,20,115,-62,6.26,1.8608695652173912,5.7130434782608699,10.565217391304349,61,101,4.7300000000000004,4306,1016,1544,6.3706456107756617,9.681374825824431,1.5118439386901998,"AL-W",{"$f":"LEFT([League-Division],1)","v":"A"},{"$f":"RIGHT([League-Division],1)","v":"W"},{"$f":"IF([LG]=\"N\",10,20)","v":20},{"$f":"IF([DIV]=\"E\",1,IF([DIV]=\"C\",2,3))","v":3},{"$f":"[LGS]+[DIVS]","v":23}]
[2009,"Batista, Miguel","SEA","Seattle Mariners",9500000,56,0,71.333333333333329,-27,4.04,1.6542056074766356,6.5607476635514024,9.9672897196261694,85,77,3.87,4358,1043,1359,6.4619091326296463,8.4196879302432297,1.3031206975676914,"AL-W",{"$f":"LEFT([League-Division],1)","v":"A"},{"$f":"RIGHT([League-Division],1)","v":"W"},{"$f":"IF([LG]=\"N\",10,20)","v":20},{"$f":"IF([DIV]=\"E\",1,IF([DIV]=\"C\",2,3))","v":3},{"$f":"[LGS]+[DIVS]","v":23}]
[2010,"Batista, Miguel","WAS","Washington Nationals",1000000,58,1,82.666666666666671,-16,3.7,1.3306451612903225,5.9879032258064511,7.7298387096774182,69,93,4.13,4305,1068,1469,6.6982578397212542,9.2132404181184668,1.3804878048780487,"NL-E",{"$f":"LEFT([League-Division],1)","v":"N"},{"$f":"RIGHT([League-Division],1)","v":"E"},{"$f":"IF([LG]=\"N\",10,20)","v":10},{"$f":"IF([DIV]=\"E\",1,IF([DIV]=\"C\",2,3))","v":1},{"$f":"[LGS]+[DIVS]","v":11}]
[2002,"Bauer, Rick","BAL","Baltimore Orioles",200000,56,1,83.666666666666671,-39,3.98,1.4342629482071712,4.8406374501992033,9.0358565737051784,67,95,4.46,4352,967,1491,5.9993106617647047,9.2502297794117645,1.40625,"AL-E",{"$f":"LEFT([League-Division],1)","v":"A"},{"$f":"RIGHT([League-Division],1)","v":"E"},{"$f":"IF([LG]=\"N\",10,20)","v":20},{"$f":"IF([DIV]=\"E\",1,IF([DIV]=\"C\",2,3))","v":1},{"$f":"[LGS]+[DIVS]","v":21}]
[2003,"Bauer, Rick","BAL","Baltimore Orioles",325000,35,0,61.333333333333336,-15,4.55,1.3369565217391304,6.3097826086956523,8.5108695652173907,71,91,4.76,4349,981,1579,6.0903656012876519,9.8029432053345573,1.4520579443550241,"AL-E",{"$f":"LEFT([League-Division],1)","v":"A"},{"$f":"RIGHT([League-Division],1)","v":"E"},{"$f":"IF([LG]=\"N\",10,20)","v":20},{"$f":"IF([DIV]=\"E\",1,IF([DIV]=\"C\",2,3))","v":1},{"$f":"[LGS]+[DIVS]","v":21}]
[2004,"Bauer, Rick","BAL","Baltimore Orioles",335000,23,2,53.666666666666664,-12,4.7,1.2857142857142858,6.2049689440993792,8.2173913043478262,78,84,4.7,4366,1090,1488,6.7407237746220803,9.2020155748969312,1.494502977553825,"AL-E",{"$f":"LEFT([League-Division],1)","v":"A"},{"$f":"RIGHT([League-Division],1)","v":"E"},{"$f":"IF([LG]=\"N\",10,20)","v":20},{"$f":"IF([DIV]=\"E\",1,IF([DIV]=\"C\",2,3))","v":1},{"$f":"[LGS]+[DIVS]","v":21}]
[2005,"Bauer, Rick","BAL","Baltimore Orioles",350000,5,0,8.3333333333333339,-8,9.7200000000000006,2.04,5.3999999999999995,14.04,74,88,4.5599999999999996,4283,1052,1458,6.631800140088723,9.19122110670091,1.4275040859210832,"AL-E",{"$f":"LEFT([League-Division],1)","v":"A"},{"$f":"RIGHT([League-Division],1)","v":"E"},{"$f":"IF([LG]=\"N\",10,20)","v":20},{"$f":"IF([DIV]=\"E\",1,IF([DIV]=\"C\",2,3))","v":1},{"$f":"[LGS]+[DIVS]","v":21}]
[2005,"Bautista, Denny","KCA","Kansas City Royals",316000,7,7,35.666666666666664,-13,5.8,1.485981308411215,5.8037383177570101,9.0841121495327108,56,106,5.49,4240,924,1640,5.8839622641509433,10.443396226415095,1.5707547169811322,"AL-C",{"$f":"LEFT([League-Division],1)","v":"A"},{"$f":"RIGHT([League-Division],1)","v":"C"},{"$f":"IF([LG]=\"N\",10,20)","v":20},{"$f":"IF([DIV]=\"E\",1,IF([DIV]=\"C\",2,3))","v":2},{"$f":"[LGS]+[DIVS]","v":22}]
[2006,"Bautista, Denny","KCA","Kansas City Royals",335500,8,7,35,-16,5.66,1.5714285714285714,5.6571428571428566,9.7714285714285705,62,100,5.65,4279,904,1648,5.7041364804860955,10.398691283010049,1.6020098153774247,"AL-C",{"$f":"LEFT([League-Division],1)","v":"A"},{"$f":"RIGHT([League-Division],1)","v":"C"},{"$f":"IF([LG]=\"N\",10,20)","v":20},{"$f":"IF([DIV]=\"E\",1,IF([DIV]=\"C\",2,3))","v":2},{"$f":"[LGS]+[DIVS]","v":22}]
[2006,"Bautista, Denny","COL","Colorado Rockies",335500,4,1,6.666666666666667,-4,5.4,1.95,6.75,12.149999999999999,76,86,4.66,4342,952,1549,5.9198526024873335,9.6321971441731922,1.4523261169967758,"NL-W",{"$f":"LEFT([League-Division],1)","v":"N"},{"$f":"RIGHT([League-Division],1)","v":"W"},{"$f":"IF([LG]=\"N\",10,20)","v":10},{"$f":"IF([DIV]=\"E\",1,IF([DIV]=\"C\",2,3))","v":3},{"$f":"[LGS]+[DIVS]","v":13}]
[2008,"Bautista, Denny","PIT","Pittsburgh Pirates",395000,35,0,41.333333333333336,-12,6.1,1.7903225806451613,7.4032258064516121,10.016129032258064,67,95,5.0999999999999996,4365,963,1631,5.9567010309278352,10.088659793814433,1.5725085910652921,"NL-C",{"$f":"LEFT([League-Division],1)","v":"N"},{"$f":"RIGHT([League-Division],1)","v":"C"},{"$f":"IF([LG]=\"N\",10,20)","v":10},{"$f":"IF([DIV]=\"E\",1,IF([DIV]=\"C\",2,3))","v":2},{"$f":"[LGS]+[DIVS]","v":12}]
[2008,"Bautista, Denny","DET","Detroit Tigers",395000,16,0,19,-5,3.32,1.5263157894736843,4.7368421052631575,7.1052631578947372,74,88,4.91,4335,991,1541,6.1723183391003458,9.5979238754325245,1.5121107266435987,"AL-C",{"$f":"LEFT([League-Division],1)","v":"A"},{"$f":"RIGHT([League-Division],1)","v":"C"},{"$f":"IF([LG]=\"N\",10,20)","v":20},{"$f":"IF([DIV]=\"E\",1,IF([DIV]=\"C\",2,3))","v":2},{"$f":"[LGS]+[DIVS]","v":22}]
[1995,"Bautista, Jose","SFN","San Francisco Giants",760000,52,6,100.66666666666667,-75,6.44,1.4503311258278144,4.0231788079470192,10.728476821192052,67,77,4.8600000000000003,3879,801,1368,5.575406032482598,9.5220417633410683,1.448569218870843,"NL-W",{"$f":"LEFT([League-Division],1)","v":"N"},{"$f":"RIGHT([League-Division],1)","v":"W"},{"$f":"IF([LG]=\"N\",10,20)","v":10},{"$f":"IF([DIV]=\"E\",1,IF([DIV]=\"C\",2,3))","v":3},{"$f":"[LGS]+[DIVS]","v":13}]
[1996,"Bautista, Jose","SFN","San Francisco Giants",790000,37,1,69.666666666666671,-38,3.36,1.1626794258373205,3.6172248803827749,8.5263157894736832,68,94,4.72,4326,997,1520,6.222607489597781,9.4868238557558939,1.449375866851595,"NL-W",{"$f":"LEFT([League-Division],1)","v":"N"},{"$f":"RIGHT([League-Division],1)","v":"W"},{"$f":"IF([LG]=\"N\",10,20)","v":10},{"$f":"IF([DIV]=\"E\",1,IF([DIV]=\"C\",2,3))","v":3},{"$f":"[LGS]+[DIVS]","v":13}]
[1997,"Bautista, Jose","SLN","St. Louis Cardinals",150000,11,0,12.333333333333334,-11,6.57,1.3783783783783783,2.9189189189189184,10.945945945945946,73,89,3.9,4367,1130,1422,6.9864895809480183,8.7918479505381253,1.3450881612090679,"NL-C",{"$f":"LEFT([League-Division],1)","v":"N"},{"$f":"RIGHT([League-Division],1)","v":"C"},{"$f":"IF([LG]=\"N\",10,20)","v":10},{"$f":"IF([DIV]=\"E\",1,IF([DIV]=\"C\",2,3))","v":2},{"$f":"[LGS]+[DIVS]","v":12}]
[1997,"Bautista, Jose","DET","Detroit Tigers",150000,21,0,40.333333333333336,-36,6.69,1.6611570247933882,4.2396694214876032,12.272727272727272,79,83,4.5599999999999996,4335,982,1476,6.1162629757785467,9.1930795847750879,1.4034602076124567,"AL-E",{"$f":"LEFT([League-Division],1)","v":"A"},{"$f":"RIGHT([League-Division],1)","v":"E"},{"$f":"IF([LG]=\"N\",10,20)","v":20},{"$f":"IF([DIV]=\"E\",1,IF([DIV]=\"C\",2,3))","v":1},{"$f":"[LGS]+[DIVS]","v":21}]
[2007,"Bayliss, Jonah","PIT","Pittsburgh Pirates",384000,39,0,37.666666666666664,-22,8.36,1.8318584070796462,6.9292035398230096,12.185840707964603,68,94,4.93,4343,997,1627,6.1982500575638948,10.114897536265254,1.4816946810960165,"NL-C",{"$f":"LEFT([League-Division],1)","v":"N"},{"$f":"RIGHT([League-Division],1)","v":"C"},{"$f":"IF([LG]=\"N\",10,20)","v":10},{"$f":"IF([DIV]=\"E\",1,IF([DIV]=\"C\",2,3))","v":2},{"$f":"[LGS]+[DIVS]","v":12}]
[2008,"Bazardo, Yorman","DET","Detroit Tigers",395000,3,0,3,-4,24,4,9,21,74,88,4.91,4335,991,1541,6.1723183391003458,9.5979238754325245,1.5121107266435987,"AL-C",{"$f":"LEFT([League-Division],1)","v":"A"},{"$f":"RIGHT([League-Division],1)","v":"C"},{"$f":"IF([LG]=\"N\",10,20)","v":20},{"$f":"IF([DIV]=\"E\",1,IF([DIV]=\"C\",2,3))","v":2},{"$f":"[LGS]+[DIVS]","v":22}]
[2002,"Beckett, Josh","FLO","Florida Marlins",2156250,23,21,107.66666666666667,20,4.0999999999999996,1.2724458204334366,9.4458204334365323,7.7739938080495357,79,83,4.3600000000000003,4369,1104,1449,6.8226138704509047,8.9546807049668118,1.4282444495307851,"NL-E",{"$f":"LEFT([League-Division],1)","v":"N"},{"$f":"RIGHT([League-Division],1)","v":"E"},{"$f":"IF([LG]=\"N\",10,20)","v":10},{"$f":"IF([DIV]=\"E\",1,IF([DIV]=\"C\",2,3))","v":1},{"$f":"[LGS]+[DIVS]","v":11}]
[2003,"Beckett, Josh","FLO","Florida Marlins",1725000,24,23,142,20,3.04,1.323943661971831,9.6338028169014081,8.3661971830985919,91,71,4.04,4336,1132,1415,7.0488929889298895,8.8111162361623627,1.345710332103321,"NL-E",{"$f":"LEFT([League-Division],1)","v":"N"},{"$f":"RIGHT([League-Division],1)","v":"E"},{"$f":"IF([LG]=\"N\",10,20)","v":10},{"$f":"IF([DIV]=\"E\",1,IF([DIV]=\"C\",2,3))","v":1},{"$f":"[LGS]+[DIVS]","v":11}]
[2004,"Beckett, Josh","FLO","Florida Marlins",1509375,26,26,156.66666666666666,15,3.79,1.2191489361702128,8.7319148936170219,7.8702127659574472,83,79,4.0999999999999996,4317,1116,1395,6.9798471160528148,8.724808895066019,1.3259207783182765,"NL-E",{"$f":"LEFT([League-Division],1)","v":"N"},{"$f":"RIGHT([League-Division],1)","v":"E"},{"$f":"IF([LG]=\"N\",10,20)","v":10},{"$f":"IF([DIV]=\"E\",1,IF([DIV]=\"C\",2,3))","v":1},{"$f":"[LGS]+[DIVS]","v":11}]
[2005,"Beckett, Josh","FLO","Florida Marlins",2400000,29,29,178.66666666666666,13,3.38,1.1809701492537314,8.3619402985074629,7.7070895522388057,83,79,4.16,4327,1125,1459,7.0198752022186275,9.1039981511439798,1.4018950774208458,"NL-E",{"$f":"LEFT([League-Division],1)","v":"N"},{"$f":"RIGHT([League-Division],1)","v":"E"},{"$f":"IF([LG]=\"N\",10,20)","v":10},{"$f":"IF([DIV]=\"E\",1,IF([DIV]=\"C\",2,3))","v":1},{"$f":"[LGS]+[DIVS]","v":11}]
[2006,"Beckett, Josh","BOS","Boston Red Sox",4325000,33,33,204.66666666666666,-33,5.01,1.2947882736156353,6.9478827361563518,8.399022801302932,86,76,4.83,4324,1070,1570,6.6813135985198899,9.8034227567067553,1.4424144310823312,"AL-E",{"$f":"LEFT([League-Division],1)","v":"A"},{"$f":"RIGHT([League-Division],1)","v":"E"},{"$f":"IF([LG]=\"N\",10,20)","v":20},{"$f":"IF([DIV]=\"E\",1,IF([DIV]=\"C\",2,3))","v":1},{"$f":"[LGS]+[DIVS]","v":21}]
[2007,"Beckett, Josh","BOS","Boston Red Sox",6666667,30,30,200.66666666666666,5,3.27,1.1411960132890366,8.7009966777408643,8.4767441860465116,96,66,3.87,4316,1149,1350,7.1879054680259493,8.4453197405004641,1.2734012974976829,"AL-E",{"$f":"LEFT([League-Division],1)","v":"A"},{"$f":"RIGHT([League-Division],1)","v":"E"},{"$f":"IF([LG]=\"N\",10,20)","v":20},{"$f":"IF([DIV]=\"E\",1,IF([DIV]=\"C\",2,3))","v":1},{"$f":"[LGS]+[DIVS]","v":21}]
[2008,"Beckett, Josh","BOS","Boston Red Sox",10166666,27,27,174.33333333333334,-1,4.03,1.1873804971319311,8.879541108986615,8.9311663479923507,95,67,4.01,4339,1185,1369,7.3738188522701087,8.5187831297534,1.3254206038257663,"AL-E",{"$f":"LEFT([League-Division],1)","v":"A"},{"$f":"RIGHT([League-Division],1)","v":"E"},{"$f":"IF([LG]=\"N\",10,20)","v":20},{"$f":"IF([DIV]=\"E\",1,IF([DIV]=\"C\",2,3))","v":1},{"$f":"[LGS]+[DIVS]","v":21}]
[2009,"Beckett, Josh","BOS","Boston Red Sox",11166666,32,32,212.33333333333334,1,3.86,1.1915227629513343,8.434850863422291,8.392464678178964,95,67,4.3499999999999996,4310,1230,1494,7.7053364269141529,9.3591647331786536,1.4088167053364269,"AL-E",{"$f":"LEFT([League-Division],1)","v":"A"},{"$f":"RIGHT([League-Division],1)","v":"E"},{"$f":"IF([LG]=\"N\",10,20)","v":20},{"$f":"IF([DIV]=\"E\",1,IF([DIV]=\"C\",2,3))","v":1},{"$f":"[LGS]+[DIVS]","v":21}]
[2010,"Beckett, Josh","BOS","Boston Red Sox",12100000,21,21,127.66666666666667,-35,5.78,1.5352480417754568,8.1775456919060048,10.64490861618799,89,73,4.2,4370,1207,1402,7.457437070938215,8.6622425629290607,1.3606407322654461,"AL-E",{"$f":"LEFT([League-Division],1)","v":"A"},{"$f":"RIGHT([League-Division],1)","v":"E"},{"$f":"IF([LG]=\"N\",10,20)","v":20},{"$f":"IF([DIV]=\"E\",1,IF([DIV]=\"C\",2,3))","v":1},{"$f":"[LGS]+[DIVS]","v":21}]
[1995,"Beck, Rod","SFN","San Francisco Giants",2242500,60,0,58.666666666666664,-18,4.45,1.3806818181818183,6.4431818181818183,9.204545454545455,67,77,4.8600000000000003,3879,801,1368,5.575406032482598,9.5220417633410683,1.448569218870843,"NL-W",{"$f":"LEFT([League-Division],1)","v":"N"},{"$f":"RIGHT([League-Division],1)","v":"W"},{"$f":"IF([LG]=\"N\",10,20)","v":10},{"$f":"IF([DIV]=\"E\",1,IF([DIV]=\"C\",2,3))","v":3},{"$f":"[LGS]+[DIVS]","v":13}]
[1996,"Beck, Rod","SFN","San Francisco Giants",2954451,63,0,62,-8,3.34,1.064516129032258,6.967741935483871,8.129032258064516,68,94,4.72,4326,997,1520,6.222607489597781,9.4868238557558939,1.449375866851595,"NL-W",{"$f":"LEFT([League-Division],1)","v":"N"},{"$f":"RIGHT([League-Division],1)","v":"W"},{"$f":"IF([LG]=\"N\",10,20)","v":10},{"$f":"IF([DIV]=\"E\",1,IF([DIV]=\"C\",2,3))","v":3},{"$f":"[LGS]+[DIVS]","v":13}]
[1997,"Beck, Rod","SFN","San Francisco Giants",3183380,73,0,70,-14,3.47,1.0714285714285714,6.8142857142857141,8.6142857142857139,90,72,4.41,4338,1044,1494,6.4979253112033195,9.2987551867219924,1.4329183955739973,"NL-W",{"$f":"LEFT([League-Division],1)","v":"N"},{"$f":"RIGHT([League-Division],1)","v":"W"},{"$f":"IF([LG]=\"N\",10,20)","v":10},{"$f":"IF([DIV]=\"E\",1,IF([DIV]=\"C\",2,3))","v":3},{"$f":"[LGS]+[DIVS]","v":13}]
[1998,"Beck, Rod","CHN","Chicago Cubs",3600000,81,0,80.333333333333329,-5,3.02,1.3195020746887967,9.0746887966804977,9.6348547717842319,90,73,4.5,4431,1207,1528,7.3547731888964121,9.3107650643195665,1.4238320920785377,"NL-C",{"$f":"LEFT([League-Division],1)","v":"N"},{"$f":"RIGHT([League-Division],1)","v":"C"},{"$f":"IF([LG]=\"N\",10,20)","v":10},{"$f":"IF([DIV]=\"E\",1,IF([DIV]=\"C\",2,3))","v":2},{"$f":"[LGS]+[DIVS]","v":12}]
[1999,"Beck, Rod","CHN","Chicago Cubs",5500000,31,0,30,-28,7.8,1.8,3.9000000000000004,12.3,67,95,5.27,4291,980,1619,6.1663947797716148,10.187135865765557,1.5017478443253323,"NL-C",{"$f":"LEFT([League-Division],1)","v":"N"},{"$f":"RIGHT([League-Division],1)","v":"C"},{"$f":"IF([LG]=\"N\",10,20)","v":10},{"$f":"IF([DIV]=\"E\",1,IF([DIV]=\"C\",2,3))","v":2},{"$f":"[LGS]+[DIVS]","v":12}]
[1999,"Beck, Rod","BOS","Boston Red Sox",5500000,12,0,14,3,1.93,1,7.7142857142857135,5.7857142857142865,94,68,4,4309,1131,1396,7.0867950800649808,8.7472731492225577,1.2984451148758414,"AL-E",{"$f":"LEFT([League-Division],1)","v":"A"},{"$f":"RIGHT([League-Division],1)","v":"E"},{"$f":"IF([LG]=\"N\",10,20)","v":20},{"$f":"IF([DIV]=\"E\",1,IF([DIV]=\"C\",2,3))","v":1},{"$f":"[LGS]+[DIVS]","v":21}]
[2000,"Beck, Rod","BOS","Boston Red Sox",3500000,34,0,40.666666666666664,1,3.1,1.1311475409836067,7.7459016393442628,7.5245901639344268,85,77,4.2300000000000004,4357,1121,1433,6.9467523525361488,8.8801927932063354,1.3302731237089742,"AL-E",{"$f":"LEFT([League-Division],1)","v":"A"},{"$f":"RIGHT([League-Division],1)","v":"E"},{"$f":"IF([LG]=\"N\",10,20)","v":20},{"$f":"IF([DIV]=\"E\",1,IF([DIV]=\"C\",2,3))","v":1},{"$f":"[LGS]+[DIVS]","v":21}]
[2001,"Beck, Rod","BOS","Boston Red Sox",4500000,68,0,80.666666666666671,-14,3.9,1.3016528925619835,7.0289256198347108,8.5909090909090899,82,79,4.1500000000000004,4344,1259,1412,7.8252762430939224,8.7762430939226519,1.350828729281768,"AL-E",{"$f":"LEFT([League-Division],1)","v":"A"},{"$f":"RIGHT([League-Division],1)","v":"E"},{"$f":"IF([LG]=\"N\",10,20)","v":20},{"$f":"IF([DIV]=\"E\",1,IF([DIV]=\"C\",2,3))","v":1},{"$f":"[LGS]+[DIVS]","v":21}]
[2005,"Bedard, Erik","BAL","Baltimore Orioles",330000,24,24,141.66666666666666,-14,4,1.3835294117647059,7.9411764705882364,8.8305882352941172,74,88,4.5599999999999996,4283,1052,1458,6.631800140088723,9.19122110670091,1.4275040859210832,"AL-E",{"$f":"LEFT([League-Division],1)","v":"A"},{"$f":"RIGHT([League-Division],1)","v":"E"},{"$f":"IF([LG]=\"N\",10,20)","v":20},{"$f":"IF([DIV]=\"E\",1,IF([DIV]=\"C\",2,3))","v":1},{"$f":"[LGS]+[DIVS]","v":21}]
[2006,"Bedard, Erik","BAL","Baltimore Orioles",1400000,33,33,196.33333333333334,-25,3.76,1.3497453310696095,7.838709677419355,8.9847198641765704,70,92,5.35,4257,1016,1579,6.4439746300211418,10.014799154334039,1.5447498238195914,"AL-E",{"$f":"LEFT([League-Division],1)","v":"A"},{"$f":"RIGHT([League-Division],1)","v":"E"},{"$f":"IF([LG]=\"N\",10,20)","v":20},{"$f":"IF([DIV]=\"E\",1,IF([DIV]=\"C\",2,3))","v":1},{"$f":"[LGS]+[DIVS]","v":21}]
[2007,"Bedard, Erik","BAL","Baltimore Orioles",3400000,28,28,182,80,3.16,1.0879120879120878,10.928571428571427,6.9725274725274726,69,93,5.17,4316,1087,1491,6.8000463392029653,9.3273864689527333,1.5201575532900833,"AL-E",{"$f":"LEFT([League-Division],1)","v":"A"},{"$f":"RIGHT([League-Division],1)","v":"E"},{"$f":"IF([LG]=\"N\",10,20)","v":20},{"$f":"IF([DIV]=\"E\",1,IF([DIV]=\"C\",2,3))","v":1},{"$f":"[LGS]+[DIVS]","v":21}]
[2008,"Bedard, Erik","SEA","Seattle Mariners",7000000,15,15,81,2,3.67,1.3209876543209877,8,7.7777777777777777,61,101,4.7300000000000004,4306,1016,1544,6.3706456107756617,9.681374825824431,1.5118439386901998,"AL-W",{"$f":"LEFT([League-Division],1)","v":"A"},{"$f":"RIGHT([League-Division],1)","v":"W"},{"$f":"IF([LG]=\"N\",10,20)","v":20},{"$f":"IF([DIV]=\"E\",1,IF([DIV]=\"C\",2,3))","v":3},{"$f":"[LGS]+[DIVS]","v":23}]
[2009,"Bedard, Erik","SEA","Seattle Mariners",7750000,15,15,83,25,2.82,1.1927710843373494,9.759036144578312,7.0481927710843371,85,77,3.87,4358,1043,1359,6.4619091326296463,8.4196879302432297,1.3031206975676914,"AL-W",{"$f":"LEFT([League-Division],1)","v":"A"},{"$f":"RIGHT([League-Division],1)","v":"W"},{"$f":"IF([LG]=\"N\",10,20)","v":20},{"$f":"IF([DIV]=\"E\",1,IF([DIV]=\"C\",2,3))","v":3},{"$f":"[LGS]+[DIVS]","v":23}]
[1995,"Bedrosian, Steve","ATL","Atlanta Braves",750000,29,0,28,-18,6.11,1.8571428571428572,7.0714285714285712,12.857142857142858,90,54,3.44,3873,1087,1184,7.5778466305189776,8.25406661502711,1.254841208365608,"NL-E",{"$f":"LEFT([League-Division],1)","v":"N"},{"$f":"RIGHT([League-Division],1)","v":"E"},{"$f":"IF([LG]=\"N\",10,20)","v":10},{"$f":"IF([DIV]=\"E\",1,IF([DIV]=\"C\",2,3))","v":1},{"$f":"[LGS]+[DIVS]","v":11}]
[1996,"Beech, Matt","PHI","Philadelphia Phillies",109000,8,8,41.333333333333336,-16,6.97,1.4516129032258063,7.185483870967742,10.669354838709676,67,95,4.49,4269,1044,1463,6.6029515108924812,9.2529866479269156,1.3865073787772313,"NL-E",{"$f":"LEFT([League-Division],1)","v":"N"},{"$f":"RIGHT([League-Division],1)","v":"E"},{"$f":"IF([LG]=\"N\",10,20)","v":10},{"$f":"IF([DIV]=\"E\",1,IF([DIV]=\"C\",2,3))","v":1},{"$f":"[LGS]+[DIVS]","v":11}]
[1997,"Beech, Matt","PHI","Philadelphia Phillies",150000,24,24,136.66666666666666,-27,5.07,1.4926829268292683,7.9024390243902447,9.6804878048780498,68,94,4.87,4260,1209,1441,7.6626760563380278,9.133098591549297,1.4485915492957746,"NL-E",{"$f":"LEFT([League-Division],1)","v":"N"},{"$f":"RIGHT([League-Division],1)","v":"E"},{"$f":"IF([LG]=\"N\",10,20)","v":10},{"$f":"IF([DIV]=\"E\",1,IF([DIV]=\"C\",2,3))","v":1},{"$f":"[LGS]+[DIVS]","v":11}]
[1998,"Beech, Matt","PHI","Philadelphia Phillies",185000,21,21,117,-13,5.15,1.6153846153846154,8.6923076923076916,9.6923076923076916,75,87,4.6399999999999997,4389,1176,1476,7.2344497607655498,9.0799726589200258,1.3807245386192755,"NL-E",{"$f":"LEFT([League-Division],1)","v":"N"},{"$f":"RIGHT([League-Division],1)","v":"E"},{"$f":"IF([LG]=\"N\",10,20)","v":10},{"$f":"IF([DIV]=\"E\",1,IF([DIV]=\"C\",2,3))","v":1},{"$f":"[LGS]+[DIVS]","v":11}]
[2001,"Beimel, Joe","PIT","Pittsburgh Pirates",200000,42,15,115.33333333333333,-73,5.23,1.5606936416184971,4.5260115606936422,10.222543352601157,62,100,5.05,4249,908,1493,5.7698281948693815,9.4871734525770783,1.4417510002353495,"NL-C",{"$f":"LEFT([League-Division],1)","v":"N"},{"$f":"RIGHT([League-Division],1)","v":"C"},{"$f":"IF([LG]=\"N\",10,20)","v":10},{"$f":"IF([DIV]=\"E\",1,IF([DIV]=\"C\",2,3))","v":2},{"$f":"[LGS]+[DIVS]","v":12}]
[2002,"Beimel, Joe","PIT","Pittsburgh Pirates",227000,53,8,85.333333333333329,-35,4.6399999999999997,1.55859375,5.58984375,9.28125,72,89,4.2300000000000004,4238,920,1447,5.8612553091080688,9.2187352524775825,1.4292118924020765,"NL-C",{"$f":"LEFT([League-Division],1)","v":"N"},{"$f":"RIGHT([League-Division],1)","v":"C"},{"$f":"IF([LG]=\"N\",10,20)","v":10},{"$f":"IF([DIV]=\"E\",1,IF([DIV]=\"C\",2,3))","v":2},{"$f":"[LGS]+[DIVS]","v":12}]
[2003,"Beimel, Joe","PIT","Pittsburgh Pirates",322000,69,0,62.333333333333336,-27,5.05,1.6363636363636362,6.0641711229946527,9.9625668449197864,75,87,4.6399999999999997,4333,926,1527,5.7701361643203324,9.5151165474267252,1.404800369259174,"NL-C",{"$f":"LEFT([League-Division],1)","v":"N"},{"$f":"RIGHT([League-Division],1)","v":"C"},{"$f":"IF([LG]=\"N\",10,20)","v":10},{"$f":"IF([DIV]=\"E\",1,IF([DIV]=\"C\",2,3))","v":2},{"$f":"[LGS]+[DIVS]","v":12}]
[2007,"Beimel, Joe","LAN","Los Angeles Dodgers",912500,83,0,67.333333333333329,-24,3.88,1.2920792079207921,5.2128712871287135,8.4207920792079207,82,80,4.2,4350,1184,1443,7.3489655172413801,8.9565517241379311,1.3524137931034483,"NL-W",{"$f":"LEFT([League-Division],1)","v":"N"},{"$f":"RIGHT([League-Division],1)","v":"W"},{"$f":"IF([LG]=\"N\",10,20)","v":10},{"$f":"IF([DIV]=\"E\",1,IF([DIV]=\"C\",2,3))","v":3},{"$f":"[LGS]+[DIVS]","v":13}]
[2008,"Beimel, Joe","LAN","Los Angeles Dodgers",1925000,71,0,49,-18,2.02,1.4489795918367347,5.8775510204081627,9.183673469387756,84,78,3.68,4342,1205,1381,7.4930907415937362,8.5875172731460161,1.2858129894058039,"NL-W",{"$f":"LEFT([League-Division],1)","v":"N"},{"$f":"RIGHT([League-Division],1)","v":"W"},{"$f":"IF([LG]=\"N\",10,20)","v":10},{"$f":"IF([DIV]=\"E\",1,IF([DIV]=\"C\",2,3))","v":3},{"$f":"[LGS]+[DIVS]","v":13}]
[2009,"Beimel, Joe","WAS","Washington Nationals",2000000,45,0,39.666666666666664,-14,3.4,1.3361344537815127,5.4453781512605044,8.6218487394957979,59,103,5.0199999999999996,4273,911,1533,5.7563772525157972,9.6866370231687338,1.5179031125672831,"NL-E",{"$f":"LEFT([League-Division],1)","v":"N"},{"$f":"RIGHT([League-Division],1)","v":"E"},{"$f":"IF([LG]=\"N\",10,20)","v":10},{"$f":"IF([DIV]=\"E\",1,IF([DIV]=\"C\",2,3))","v":1},{"$f":"[LGS]+[DIVS]","v":11}]
[2009,"Beimel, Joe","COL","Colorado Rockies",2000000,26,0,15.666666666666666,-8,4.0199999999999996,1.4680851063829787,6.3191489361702127,10.914893617021278,92,70,4.24,4315,1154,1427,7.2208574739281586,8.9290845886442654,1.3592120509849364,"NL-W",{"$f":"LEFT([League-Division],1)","v":"N"},{"$f":"RIGHT([League-Division],1)","v":"W"},{"$f":"IF([LG]=\"N\",10,20)","v":10},{"$f":"IF([DIV]=\"E\",1,IF([DIV]=\"C\",2,3))","v":3},{"$f":"[LGS]+[DIVS]","v":13}]
[2001,"Beirne, Kevin","TOR","Toronto Blue Jays",223000,5,0,7,-8,12.86,2.7142857142857144,6.4285714285714288,16.714285714285715,80,82,4.28,4388,1041,1553,6.4054238833181394,9.5558340929808558,1.3967639015496809,"AL-E",{"$f":"LEFT([League-Division],1)","v":"A"},{"$f":"RIGHT([League-Division],1)","v":"E"},{"$f":"IF([LG]=\"N\",10,20)","v":20},{"$f":"IF([DIV]=\"E\",1,IF([DIV]=\"C\",2,3))","v":1},{"$f":"[LGS]+[DIVS]","v":21}]
[1995,"Belcher, Tim","SEA","Seattle Mariners",580000,28,28,179.33333333333334,-92,4.5199999999999996,1.5390334572490705,4.8178438661710032,9.4349442379182165,79,66,4.5,3868,1068,1343,7.4550155118924506,9.3746122026887289,1.5,"AL-W",{"$f":"LEFT([League-Division],1)","v":"A"},{"$f":"RIGHT([League-Division],1)","v":"W"},{"$f":"IF([LG]=\"N\",10,20)","v":20},{"$f":"IF([DIV]=\"E\",1,IF([DIV]=\"C\",2,3))","v":3},{"$f":"[LGS]+[DIVS]","v":23}]
[1996,"Belcher, Tim","KCA","Kansas City Royals",1400000,35,35,238.66666666666666,-149,3.92,1.3826815642458101,4.261173184357542,9.8798882681564244,75,86,4.55,4350,926,1563,5.7475862068965515,9.7013793103448283,1.3951724137931034,"AL-C",{"$f":"LEFT([League-Division],1)","v":"A"},{"$f":"RIGHT([League-Division],1)","v":"C"},{"$f":"IF([LG]=\"N\",10,20)","v":20},{"$f":"IF([DIV]=\"E\",1,IF([DIV]=\"C\",2,3))","v":2},{"$f":"[LGS]+[DIVS]","v":22}]
[1997,"Belcher, Tim","KCA","Kansas City Royals",2300000,32,32,213.33333333333334,-129,5.0199999999999996,1.4624999999999999,4.7671874999999995,10.209375,67,94,4.71,4329,961,1530,5.9937629937629939,9.5426195426195424,1.4282744282744282,"AL-C",{"$f":"LEFT([League-Division],1)","v":"A"},{"$f":"RIGHT([League-Division],1)","v":"C"},{"$f":"IF([LG]=\"N\",10,20)","v":20},{"$f":"IF([DIV]=\"E\",1,IF([DIV]=\"C\",2,3))","v":2},{"$f":"[LGS]+[DIVS]","v":22}]
[1998,"Belcher, Tim","KCA","Kansas City Royals",2300000,34,34,234,-117,4.2699999999999996,1.3675213675213675,5,9.5,72,89,5.16,4308,999,1590,6.2611420612813378,9.9651810584958209,1.5027855153203342,"AL-C",{"$f":"LEFT([League-Division],1)","v":"A"},{"$f":"RIGHT([League-Division],1)","v":"C"},{"$f":"IF([LG]=\"N\",10,20)","v":20},{"$f":"IF([DIV]=\"E\",1,IF([DIV]=\"C\",2,3))","v":2},{"$f":"[LGS]+[DIVS]","v":22}]
[1999,"Belcher, Tim","ANA","Anaheim Angels",4650000,24,24,132.33333333333334,-116,6.73,1.6171284634760703,3.5365239294710324,11.425692695214106,70,92,4.79,4293,877,1472,5.515723270440251,9.2578616352201255,1.4647099930118799,"AL-W",{"$f":"LEFT([League-Division],1)","v":"A"},{"$f":"RIGHT([League-Division],1)","v":"W"},{"$f":"IF([LG]=\"N\",10,20)","v":20},{"$f":"IF([DIV]=\"E\",1,IF([DIV]=\"C\",2,3))","v":3},{"$f":"[LGS]+[DIVS]","v":23}]
[2000,"Belcher, Tim","ANA","Anaheim Angels",4600000,9,9,40.666666666666664,-23,6.86,1.6475409836065575,4.8688524590163942,9.9590163934426226,82,80,5,4344,846,1534,5.2582872928176796,9.5345303867403324,1.5165745856353592,"AL-W",{"$f":"LEFT([League-Division],1)","v":"A"},{"$f":"RIGHT([League-Division],1)","v":"W"},{"$f":"IF([LG]=\"N\",10,20)","v":20},{"$f":"IF([DIV]=\"E\",1,IF([DIV]=\"C\",2,3))","v":3},{"$f":"[LGS]+[DIVS]","v":23}]
[1995,"Belinda, Stan","BOS","Boston Red Sox",575000,63,0,69.666666666666671,6,3.1,1.1339712918660287,7.3636363636363633,6.5885167464114822,86,58,4.3899999999999997,3876,888,1338,6.1857585139318889,9.3204334365325074,1.4040247678018576,"AL-E",{"$f":"LEFT([League-Division],1)","v":"A"},{"$f":"RIGHT([League-Division],1)","v":"E"},{"$f":"IF([LG]=\"N\",10,20)","v":20},{"$f":"IF([DIV]=\"E\",1,IF([DIV]=\"C\",2,3))","v":1},{"$f":"[LGS]+[DIVS]","v":21}]
[1996,"Belinda, Stan","BOS","Boston Red Sox",1275000,31,0,28.666666666666668,-13,6.59,1.7790697674418603,5.6511627906976747,9.7325581395348824,85,77,5,4374,1165,1606,7.1913580246913584,9.913580246913579,1.5967078189300412,"AL-E",{"$f":"LEFT([League-Division],1)","v":"A"},{"$f":"RIGHT([League-Division],1)","v":"E"},{"$f":"IF([LG]=\"N\",10,20)","v":20},{"$f":"IF([DIV]=\"E\",1,IF([DIV]=\"C\",2,3))","v":1},{"$f":"[LGS]+[DIVS]","v":21}]
[1997,"Belinda, Stan","CIN","Cincinnati Reds",950000,84,0,99.333333333333329,30,3.71,1.1778523489932886,10.328859060402685,7.6107382550335574,76,86,4.42,4347,1159,1408,7.1987577639751548,8.7453416149068328,1.3567977915804004,"NL-C",{"$f":"LEFT([League-Division],1)","v":"N"},{"$f":"RIGHT([League-Division],1)","v":"C"},{"$f":"IF([LG]=\"N\",10,20)","v":10},{"$f":"IF([DIV]=\"E\",1,IF([DIV]=\"C\",2,3))","v":2},{"$f":"[LGS]+[DIVS]","v":12}]
[1998,"Belinda, Stan","CIN","Cincinnati Reds",835000,40,0,61.333333333333336,11,3.23,1.2065217391304348,8.3641304347826093,6.75,77,85,4.4400000000000004,4323,1098,1400,6.8577376821651637,8.7439278278972932,1.3691880638445524,"NL-C",{"$f":"LEFT([League-Division],1)","v":"N"},{"$f":"RIGHT([League-Division],1)","v":"C"},{"$f":"IF([LG]=\"N\",10,20)","v":10},{"$f":"IF([DIV]=\"E\",1,IF([DIV]=\"C\",2,3))","v":2},{"$f":"[LGS]+[DIVS]","v":12}]
[1999,"Belinda, Stan","CIN","Cincinnati Reds",835000,29,0,42.666666666666664,-2,5.27,1.40625,8.4375,8.859375,96,67,3.99,4384,1081,1309,6.6576186131386867,8.061815693430658,1.3309762773722629,"NL-C",{"$f":"LEFT([League-Division],1)","v":"N"},{"$f":"RIGHT([League-Division],1)","v":"C"},{"$f":"IF([LG]=\"N\",10,20)","v":10},{"$f":"IF([DIV]=\"E\",1,IF([DIV]=\"C\",2,3))","v":2},{"$f":"[LGS]+[DIVS]","v":12}]
[2000,"Belinda, Stan","COL","Colorado Rockies",1500000,46,0,35.666666666666664,1,7.07,1.5700934579439254,10.093457943925234,9.8411214953271031,82,80,5.26,4290,1001,1568,6.3,9.8685314685314687,1.5076923076923077,"NL-W",{"$f":"LEFT([League-Division],1)","v":"N"},{"$f":"RIGHT([League-Division],1)","v":"W"},{"$f":"IF([LG]=\"N\",10,20)","v":10},{"$f":"IF([DIV]=\"E\",1,IF([DIV]=\"C\",2,3))","v":3},{"$f":"[LGS]+[DIVS]","v":13}]
[2000,"Belinda, Stan","ATL","Atlanta Braves",1500000,10,0,11,-5,9.82,1.9090909090909092,9,13.090909090909092,95,67,4.05,4320,1093,1428,6.8312499999999998,8.9250000000000007,1.3277777777777777,"NL-E",{"$f":"LEFT([League-Division],1)","v":"N"},{"$f":"RIGHT([League-Division],1)","v":"E"},{"$f":"IF([LG]=\"N\",10,20)","v":10},{"$f":"IF([DIV]=\"E\",1,IF([DIV]=\"C\",2,3))","v":1},{"$f":"[LGS]+[DIVS]","v":11}]
[2005,"Belisle, Matt","CIN","Cincinnati Reds",316000,60,5,85.666666666666671,-42,4.41,1.4824902723735407,6.1984435797665371,10.610894941634241,73,89,5.15,4299,955,1657,5.9979064898813679,10.406838799720866,1.4996510816468946,"NL-C",{"$f":"LEFT([League-Division],1)","v":"N"},{"$f":"RIGHT([League-Division],1)","v":"C"},{"$f":"IF([LG]=\"N\",10,20)","v":10},{"$f":"IF([DIV]=\"E\",1,IF([DIV]=\"C\",2,3))","v":2},{"$f":"[LGS]+[DIVS]","v":12}]
[2006,"Belisle, Matt","CIN","Cincinnati Reds",343500,30,2,40,-17,3.6,1.55,5.8500000000000005,9.6749999999999989,80,82,4.51,4337,1053,1576,6.5554530781646294,9.8113903620013829,1.4111136730458842,"NL-C",{"$f":"LEFT([League-Division],1)","v":"N"},{"$f":"RIGHT([League-Division],1)","v":"C"},{"$f":"IF([LG]=\"N\",10,20)","v":10},{"$f":"IF([DIV]=\"E\",1,IF([DIV]=\"C\",2,3))","v":2},{"$f":"[LGS]+[DIVS]","v":12}]
[2007,"Belisle, Matt","CIN","Cincinnati Reds",390000,30,30,177.66666666666666,-87,5.32,1.4352720450281427,6.3320825515947474,10.739212007504692,72,90,4.9400000000000004,4349,1068,1605,6.6304897677627039,9.9643596229018154,1.4396412968498504,"NL-C",{"$f":"LEFT([League-Division],1)","v":"N"},{"$f":"RIGHT([League-Division],1)","v":"C"},{"$f":"IF([LG]=\"N\",10,20)","v":10},{"$f":"IF([DIV]=\"E\",1,IF([DIV]=\"C\",2,3))","v":2},{"$f":"[LGS]+[DIVS]","v":12}]
[2008,"Belisle, Matt","CIN","Cincinnati Reds",1250000,6,6,29.666666666666668,-33,7.28,1.7865168539325842,4.2471910112359552,14.258426966292134,74,88,4.55,4327,1227,1542,7.6563438872197835,9.6219089438409995,1.4552807950080888,"NL-C",{"$f":"LEFT([League-Division],1)","v":"N"},{"$f":"RIGHT([League-Division],1)","v":"C"},{"$f":"IF([LG]=\"N\",10,20)","v":10},{"$f":"IF([DIV]=\"E\",1,IF([DIV]=\"C\",2,3))","v":2},{"$f":"[LGS]+[DIVS]","v":12}]
[2010,"Belisle, Matt","COL","Colorado Rockies",850000,76,0,92,7,2.93,1.0869565217391304,8.9021739130434785,8.2173913043478262,83,79,4.1399999999999997,4326,1234,1405,7.7018030513176141,8.7690707350901533,1.3384188626907074,"NL-W",{"$f":"LEFT([League-Division],1)","v":"N"},{"$f":"RIGHT([League-Division],1)","v":"W"},{"$f":"IF([LG]=\"N\",10,20)","v":10},{"$f":"IF([DIV]=\"E\",1,IF([DIV]=\"C\",2,3))","v":3},{"$f":"[LGS]+[DIVS]","v":13}]
[2010,"Belisario, Ronald","LAN","Los Angeles Dodgers",412500,59,0,55.333333333333336,-14,5.04,1.2831325301204819,6.1807228915662646,8.4578313253012034,80,82,4.01,4325,1274,1323,7.9532947976878612,8.259190751445086,1.2915606936416184,"NL-W",{"$f":"LEFT([League-Division],1)","v":"N"},{"$f":"RIGHT([League-Division],1)","v":"W"},{"$f":"IF([LG]=\"N\",10,20)","v":10},{"$f":"IF([DIV]=\"E\",1,IF([DIV]=\"C\",2,3))","v":3},{"$f":"[LGS]+[DIVS]","v":13}]
[2000,"Bell, Derek","NYN","New York Mets",5000000,1,0,1,-3,36,6,0,27,94,68,4.16,4350,1164,1398,7.2248275862068967,8.6772413793103453,1.36,"NL-E",{"$f":"LEFT([League-Division],1)","v":"N"},{"$f":"RIGHT([League-Division],1)","v":"E"},{"$f":"IF([LG]=\"N\",10,20)","v":10},{"$f":"IF([DIV]=\"E\",1,IF([DIV]=\"C\",2,3))","v":1},{"$f":"[LGS]+[DIVS]","v":11}]
[2007,"Bell, Heath","SDN","San Diego Padres",385500,81,0,93.666666666666671,42,2.02,0.9608540925266903,9.8007117437722417,5.765124555160142,89,74,3.7,4454,1136,1406,6.8863942523574311,8.5231252806466102,1.2662775033677593,"NL-W",{"$f":"LEFT([League-Division],1)","v":"N"},{"$f":"RIGHT([League-Division],1)","v":"W"},{"$f":"IF([LG]=\"N\",10,20)","v":10},{"$f":"IF([DIV]=\"E\",1,IF([DIV]=\"C\",2,3))","v":3},{"$f":"[LGS]+[DIVS]","v":13}]
[2008,"Bell, Heath","SDN","San Diego Padres",420000,74,0,78,5,3.58,1.2051282051282051,8.1923076923076916,7.615384615384615,63,99,4.41,4375,1100,1466,6.7885714285714291,9.0473142857142861,1.3899428571428571,"NL-W",{"$f":"LEFT([League-Division],1)","v":"N"},{"$f":"RIGHT([League-Division],1)","v":"W"},{"$f":"IF([LG]=\"N\",10,20)","v":10},{"$f":"IF([DIV]=\"E\",1,IF([DIV]=\"C\",2,3))","v":3},{"$f":"[LGS]+[DIVS]","v":13}]
[2009,"Bell, Heath","SDN","San Diego Padres",1255000,68,0,69.666666666666671,25,2.71,1.1196172248803826,10.205741626794259,6.9760765550239228,75,87,4.37,4352,1187,1422,7.3642003676470589,8.8221507352941178,1.3959099264705881,"NL-W",{"$f":"LEFT([League-Division],1)","v":"N"},{"$f":"RIGHT([League-Division],1)","v":"W"},{"$f":"IF([LG]=\"N\",10,20)","v":10},{"$f":"IF([DIV]=\"E\",1,IF([DIV]=\"C\",2,3))","v":3},{"$f":"[LGS]+[DIVS]","v":13}]
[2010,"Bell, Heath","SDN","San Diego Padres",4000000,67,0,70,30,1.93,1.2,11.057142857142857,7.2,90,72,3.41,4369,1295,1305,8.0029755092698558,8.0647745479514761,1.2510872053101396,"NL-W",{"$f":"LEFT([League-Division],1)","v":"N"},{"$f":"RIGHT([League-Division],1)","v":"W"},{"$f":"IF([LG]=\"N\",10,20)","v":10},{"$f":"IF([DIV]=\"E\",1,IF([DIV]=\"C\",2,3))","v":3},{"$f":"[LGS]+[DIVS]","v":13}]
[2000,"Bell, Rob","CIN","Cincinnati Reds",200000,26,26,140.33333333333334,-18,5,1.4465558194774346,7.182897862232779,8.3372921615201889,85,77,4.33,4368,1015,1446,6.2740384615384617,8.9381868131868139,1.4457417582417582,"NL-C",{"$f":"LEFT([League-Division],1)","v":"N"},{"$f":"RIGHT([League-Division],1)","v":"C"},{"$f":"IF([LG]=\"N\",10,20)","v":10},{"$f":"IF([DIV]=\"E\",1,IF([DIV]=\"C\",2,3))","v":2},{"$f":"[LGS]+[DIVS]","v":12}]
[2001,"Bell, Rob","TEX","Texas Rangers",250000,18,18,105.33333333333333,-66,7.18,1.6803797468354431,5.4683544303797467,11.107594936708862,73,89,5.71,4315,951,1670,5.9506373117033604,10.449594438006953,1.5754345307068367,"AL-W",{"$f":"LEFT([League-Division],1)","v":"A"},{"$f":"RIGHT([League-Division],1)","v":"W"},{"$f":"IF([LG]=\"N\",10,20)","v":20},{"$f":"IF([DIV]=\"E\",1,IF([DIV]=\"C\",2,3))","v":3},{"$f":"[LGS]+[DIVS]","v":23}]
[2001,"Bell, Rob","CIN","Cincinnati Reds",250000,9,9,44.333333333333336,-13,5.48,1.4210526315789473,6.6992481203007523,9.3383458646616546,66,96,4.7699999999999996,4328,943,1572,5.8828558225508312,9.8068391866913114,1.4466266173752309,"NL-C",{"$f":"LEFT([League-Division],1)","v":"N"},{"$f":"RIGHT([League-Division],1)","v":"C"},{"$f":"IF([LG]=\"N\",10,20)","v":10},{"$f":"IF([DIV]=\"E\",1,IF([DIV]=\"C\",2,3))","v":2},{"$f":"[LGS]+[DIVS]","v":12}]
[2005,"Bell, Rob","TBA","Tampa Bay Devil Rays",800000,8,3,25,-28,8.2799999999999994,2.12,4.68,14.76,67,95,5.39,4265,949,1570,6.0077373974208674,9.9390386869871037,1.5369284876905041,"AL-E",{"$f":"LEFT([League-Division],1)","v":"A"},{"$f":"RIGHT([League-Division],1)","v":"E"},{"$f":"IF([LG]=\"N\",10,20)","v":20},{"$f":"IF([DIV]=\"E\",1,IF([DIV]=\"C\",2,3))","v":1},{"$f":"[LGS]+[DIVS]","v":21}]
[1997,"Beltran, Rigo","SLN","St. Louis Cardinals",150000,35,4,54.333333333333336,3,3.48,1.1779141104294477,8.2822085889570545,7.7852760736196318,73,89,3.9,4367,1130,1422,6.9864895809480183,8.7918479505381253,1.3450881612090679,"NL-C",{"$f":"LEFT([League-Division],1)","v":"N"},{"$f":"RIGHT([League-Division],1)","v":"C"},{"$f":"IF([LG]=\"N\",10,20)","v":10},{"$f":"IF([DIV]=\"E\",1,IF([DIV]=\"C\",2,3))","v":2},{"$f":"[LGS]+[DIVS]","v":12}]
[1999,"Beltran, Rigo","NYN","New York Mets",215000,21,0,31,5,3.48,1.3548387096774193,10.161290322580646,8.7096774193548399,97,66,4.2699999999999996,4369,1172,1372,7.2428473334859236,8.4788281071183338,1.3657587548638133,"NL-E",{"$f":"LEFT([League-Division],1)","v":"N"},{"$f":"RIGHT([League-Division],1)","v":"E"},{"$f":"IF([LG]=\"N\",10,20)","v":10},{"$f":"IF([DIV]=\"E\",1,IF([DIV]=\"C\",2,3))","v":1},{"$f":"[LGS]+[DIVS]","v":11}]
[1999,"Beltran, Rigo","COL","Colorado Rockies",215000,12,0,11,-5,7.36,2.4545454545454546,12.272727272727272,16.363636363636363,72,90,6.02,4285,1032,1700,6.5026837806301057,10.711785297549593,1.7061843640606769,"NL-W",{"$f":"LEFT([League-Division],1)","v":"N"},{"$f":"RIGHT([League-Division],1)","v":"W"},{"$f":"IF([LG]=\"N\",10,20)","v":10},{"$f":"IF([DIV]=\"E\",1,IF([DIV]=\"C\",2,3))","v":3},{"$f":"[LGS]+[DIVS]","v":13}]
[1995,"Benes, Alan","SLN","St. Louis Cardinals",109000,3,3,16,-4,8.44,1.75,11.25,13.5,62,81,4.09,3795,842,1290,5.9905138339920949,9.1778656126482225,1.3715415019762847,"NL-C",{"$f":"LEFT([League-Division],1)","v":"N"},{"$f":"RIGHT([League-Division],1)","v":"C"},{"$f":"IF([LG]=\"N\",10,20)","v":10},{"$f":"IF([DIV]=\"E\",1,IF([DIV]=\"C\",2,3))","v":2},{"$f":"[LGS]+[DIVS]","v":12}]
[1996,"Benes, Alan","SLN","St. Louis Cardinals",122000,34,32,191,-61,4.9000000000000004,1.4607329842931938,6.172774869109948,9.0471204188481664,88,74,3.98,4356,1050,1380,6.508264462809918,8.5537190082644639,1.3216253443526171,"NL-C",{"$f":"LEFT([League-Division],1)","v":"N"},{"$f":"RIGHT([League-Division],1)","v":"C"},{"$f":"IF([LG]=\"N\",10,20)","v":10},{"$f":"IF([DIV]=\"E\",1,IF([DIV]=\"C\",2,3))","v":2},{"$f":"[LGS]+[DIVS]","v":12}]
[1997,"Benes, Alan","SLN","St. Louis Cardinals",240000,23,23,161.66666666666666,32,2.89,1.2123711340206187,8.9072164948453612,7.1257731958762891,73,89,3.9,4367,1130,1422,6.9864895809480183,8.7918479505381253,1.3450881612090679,"NL-C",{"$f":"LEFT([League-Division],1)","v":"N"},{"$f":"RIGHT([League-Division],1)","v":"C"},{"$f":"IF([LG]=\"N\",10,20)","v":10},{"$f":"IF([DIV]=\"E\",1,IF([DIV]=\"C\",2,3))","v":2},{"$f":"[LGS]+[DIVS]","v":12}]
[1999,"Benes, Alan","SLN","St. Louis Cardinals",550000,2,0,2,0,0,1,9,9,75,86,4.74,4335,1025,1519,6.3840830449826989,9.4608996539792383,1.5128027681660901,"NL-C",{"$f":"LEFT([League-Division],1)","v":"N"},{"$f":"RIGHT([League-Division],1)","v":"C"},{"$f":"IF([LG]=\"N\",10,20)","v":10},{"$f":"IF([DIV]=\"E\",1,IF([DIV]=\"C\",2,3))","v":2},{"$f":"[LGS]+[DIVS]","v":12}]
[1995,"Benes, Andy","SDN","San Diego Padres",3400000,19,19,118.66666666666667,5,4.17,1.398876404494382,9.5561797752808992,9.1769662921348321,70,74,4.13,3852,1047,1242,7.3387850467289724,8.7056074766355138,1.3660436137071652,"NL-W",{"$f":"LEFT([League-Division],1)","v":"N"},{"$f":"RIGHT([League-Division],1)","v":"W"},{"$f":"IF([LG]=\"N\",10,20)","v":10},{"$f":"IF([DIV]=\"E\",1,IF([DIV]=\"C\",2,3))","v":3},{"$f":"[LGS]+[DIVS]","v":13}]
[1995,"Benes, Andy","SEA","Seattle Mariners",3400000,12,12,63,-27,5.86,1.6666666666666667,6.4285714285714288,10.285714285714285,79,66,4.5,3868,1068,1343,7.4550155118924506,9.3746122026887289,1.5,"AL-W",{"$f":"LEFT([League-Division],1)","v":"A"},{"$f":"RIGHT([League-Division],1)","v":"W"},{"$f":"IF([LG]=\"N\",10,20)","v":20},{"$f":"IF([DIV]=\"E\",1,IF([DIV]=\"C\",2,3))","v":3},{"$f":"[LGS]+[DIVS]","v":23}]
[1996,"Benes, Andy","SLN","St. Louis Cardinals",3375000,36,34,230.33333333333334,-55,3.83,1.2677279305354558,6.2518089725036177,8.4008683068017369,88,74,3.98,4356,1050,1380,6.508264462809918,8.5537190082644639,1.3216253443526171,"NL-C",{"$f":"LEFT([League-Division],1)","v":"N"},{"$f":"RIGHT([League-Division],1)","v":"C"},{"$f":"IF([LG]=\"N\",10,20)","v":10},{"$f":"IF([DIV]=\"E\",1,IF([DIV]=\"C\",2,3))","v":2},{"$f":"[LGS]+[DIVS]","v":12}]
[1997,"Benes, Andy","SLN","St. Louis Cardinals",4850000,26,26,177,26,3.1,1.1864406779661016,8.898305084745763,7.5762711864406782,73,89,3.9,4367,1130,1422,6.9864895809480183,8.7918479505381253,1.3450881612090679,"NL-C",{"$f":"LEFT([League-Division],1)","v":"N"},{"$f":"RIGHT([League-Division],1)","v":"C"},{"$f":"IF([LG]=\"N\",10,20)","v":10},{"$f":"IF([DIV]=\"E\",1,IF([DIV]=\"C\",2,3))","v":2},{"$f":"[LGS]+[DIVS]","v":12}]
[1998,"Benes, Andy","ARI","Arizona Diamondbacks",6450000,34,34,231.33333333333334,-57,3.97,1.2752161383285303,6.3804034582132569,8.5979827089337171,65,97,4.6399999999999997,4296,908,1463,5.7067039106145252,9.1948324022346366,1.3631284916201116,"NL-W",{"$f":"LEFT([League-Division],1)","v":"N"},{"$f":"RIGHT([League-Division],1)","v":"W"},{"$f":"IF([LG]=\"N\",10,20)","v":10},{"$f":"IF([DIV]=\"E\",1,IF([DIV]=\"C\",2,3))","v":3},{"$f":"[LGS]+[DIVS]","v":13}]
[1999,"Benes, Andy","ARI","Arizona Diamondbacks",6000000,33,32,198.33333333333334,-75,4.8099999999999996,1.5025210084033613,6.3983193277310919,9.8016806722689065,100,62,3.77,4401,1198,1387,7.3496932515337416,8.5092024539877293,1.3156100886162236,"NL-W",{"$f":"LEFT([League-Division],1)","v":"N"},{"$f":"RIGHT([League-Division],1)","v":"W"},{"$f":"IF([LG]=\"N\",10,20)","v":10},{"$f":"IF([DIV]=\"E\",1,IF([DIV]=\"C\",2,3))","v":3},{"$f":"[LGS]+[DIVS]","v":13}]
[2000,"Benes, Andy","SLN","St. Louis Cardinals",2867542,30,27,166,-37,4.88,1.4578313253012047,7.4277108433734949,9.4337349397590362,95,67,4.38,4300,1100,1403,6.9069767441860463,8.8095348837209304,1.4016279069767443,"NL-C",{"$f":"LEFT([League-Division],1)","v":"N"},{"$f":"RIGHT([League-Division],1)","v":"C"},{"$f":"IF([LG]=\"N\",10,20)","v":10},{"$f":"IF([DIV]=\"E\",1,IF([DIV]=\"C\",2,3))","v":2},{"$f":"[LGS]+[DIVS]","v":12}]
[2001,"Benes, Andy","SLN","St. Louis Cardinals",6666667,27,19,107.33333333333333,-44,7.38,1.7049689440993789,6.5403726708074537,10.229813664596273,93,69,3.93,4306,1083,1389,6.7907570831398045,8.7094751509521604,1.334184858337204,"NL-C",{"$f":"LEFT([League-Division],1)","v":"N"},{"$f":"RIGHT([League-Division],1)","v":"C"},{"$f":"IF([LG]=\"N\",10,20)","v":10},{"$f":"IF([DIV]=\"E\",1,IF([DIV]=\"C\",2,3))","v":2},{"$f":"[LGS]+[DIVS]","v":12}]
[2002,"Benes, Andy","SLN","St. Louis Cardinals",6367542,18,17,97,-16,2.78,1.3505154639175259,5.9381443298969074,7.4226804123711334,97,65,3.7,4339,1009,1355,6.2786356303295694,8.431666282553584,1.3150495505876931,"NL-C",{"$f":"LEFT([League-Division],1)","v":"N"},{"$f":"RIGHT([League-Division],1)","v":"C"},{"$f":"IF([LG]=\"N\",10,20)","v":10},{"$f":"IF([DIV]=\"E\",1,IF([DIV]=\"C\",2,3))","v":2},{"$f":"[LGS]+[DIVS]","v":12}]
[1995,"Benitez, Armando","BAL","Baltimore Orioles",125000,44,0,47.666666666666664,19,5.66,1.5524475524475525,10.573426573426573,6.9860139860139867,71,73,4.3099999999999996,3801,930,1165,6.6061562746645617,8.2754538279400158,1.3322809786898184,"AL-E",{"$f":"LEFT([League-Division],1)","v":"A"},{"$f":"RIGHT([League-Division],1)","v":"E"},{"$f":"IF([LG]=\"N\",10,20)","v":20},{"$f":"IF([DIV]=\"E\",1,IF([DIV]=\"C\",2,3))","v":1},{"$f":"[LGS]+[DIVS]","v":21}]
[1996,"Benitez, Armando","BAL","Baltimore Orioles",155000,18,0,14.333333333333334,13,3.77,0.90697674418604646,12.558139534883722,4.3953488372093021,88,74,5.15,4404,1047,1604,6.4189373297002721,9.8337874659400555,1.4993188010899183,"AL-E",{"$f":"LEFT([League-Division],1)","v":"A"},{"$f":"RIGHT([League-Division],1)","v":"E"},{"$f":"IF([LG]=\"N\",10,20)","v":20},{"$f":"IF([DIV]=\"E\",1,IF([DIV]=\"C\",2,3))","v":1},{"$f":"[LGS]+[DIVS]","v":21}]
[1997,"Benitez, Armando","BAL","Baltimore Orioles",275000,71,0,73.333333333333329,57,2.4500000000000002,1.2545454545454546,13.00909090909091,6.0136363636363637,98,64,3.91,4383,1139,1404,7.0164271047227924,8.6488706365503081,1.3463381245722108,"AL-E",{"$f":"LEFT([League-Division],1)","v":"A"},{"$f":"RIGHT([League-Division],1)","v":"E"},{"$f":"IF([LG]=\"N\",10,20)","v":20},{"$f":"IF([DIV]=\"E\",1,IF([DIV]=\"C\",2,3))","v":1},{"$f":"[LGS]+[DIVS]","v":21}]
[1998,"Benitez, Armando","BAL","Baltimore Orioles",1100000,71,0,68.333333333333329,39,3.82,1.2731707317073171,11.458536585365854,6.3219512195121954,79,83,4.7300000000000004,4293,1065,1505,6.6981132075471699,9.4654088050314478,1.4255765199161425,"AL-E",{"$f":"LEFT([League-Division],1)","v":"A"},{"$f":"RIGHT([League-Division],1)","v":"E"},{"$f":"IF([LG]=\"N\",10,20)","v":20},{"$f":"IF([DIV]=\"E\",1,IF([DIV]=\"C\",2,3))","v":1},{"$f":"[LGS]+[DIVS]","v":21}]
[1999,"Benitez, Armando","NYN","New York Mets",2037500,77,0,78,88,1.85,1.0384615384615385,14.769230769230768,4.615384615384615,97,66,4.2699999999999996,4369,1172,1372,7.2428473334859236,8.4788281071183338,1.3657587548638133,"NL-E",{"$f":"LEFT([League-Division],1)","v":"N"},{"$f":"RIGHT([League-Division],1)","v":"E"},{"$f":"IF([LG]=\"N\",10,20)","v":10},{"$f":"IF([DIV]=\"E\",1,IF([DIV]=\"C\",2,3))","v":1},{"$f":"[LGS]+[DIVS]","v":11}]
[2000,"Benitez, Armando","NYN","New York Mets",3437500,76,0,76,67,2.61,1.013157894736842,12.552631578947368,4.6184210526315796,94,68,4.16,4350,1164,1398,7.2248275862068967,8.6772413793103453,1.36,"NL-E",{"$f":"LEFT([League-Division],1)","v":"N"},{"$f":"RIGHT([League-Division],1)","v":"E"},{"$f":"IF([LG]=\"N\",10,20)","v":10},{"$f":"IF([DIV]=\"E\",1,IF([DIV]=\"C\",2,3))","v":1},{"$f":"[LGS]+[DIVS]","v":11}]
[2001,"Benitez, Armando","NYN","New York Mets",5812500,73,0,76.333333333333329,34,3.77,1.2969432314410481,10.965065502183407,6.9563318777292578,82,80,4.07,4337,1191,1418,7.4145722849896236,8.8277611252017518,1.2838367535162554,"NL-E",{"$f":"LEFT([League-Division],1)","v":"N"},{"$f":"RIGHT([League-Division],1)","v":"E"},{"$f":"IF([LG]=\"N\",10,20)","v":10},{"$f":"IF([DIV]=\"E\",1,IF([DIV]=\"C\",2,3))","v":1},{"$f":"[LGS]+[DIVS]","v":11}]
[2002,"Benitez, Armando","NYN","New York Mets",5812500,62,0,67.333333333333329,33,2.27,1.0544554455445545,10.559405940594061,6.1485148514851486,75,86,3.89,4328,1107,1408,6.9059611829944538,8.7837338262476887,1.3523567467652495,"NL-E",{"$f":"LEFT([League-Division],1)","v":"N"},{"$f":"RIGHT([League-Division],1)","v":"E"},{"$f":"IF([LG]=\"N\",10,20)","v":10},{"$f":"IF([DIV]=\"E\",1,IF([DIV]=\"C\",2,3))","v":1},{"$f":"[LGS]+[DIVS]","v":11}]
[2003,"Benitez, Armando","NYN","New York Mets",6937500,45,0,49.333333333333336,9,3.1,1.3175675675675675,9.121621621621621,7.4797297297297289,66,95,4.4800000000000004,4240,907,1497,5.7757075471698114,9.5327830188679243,1.4667452830188681,"NL-E",{"$f":"LEFT([League-Division],1)","v":"N"},{"$f":"RIGHT([League-Division],1)","v":"E"},{"$f":"IF([LG]=\"N\",10,20)","v":10},{"$f":"IF([DIV]=\"E\",1,IF([DIV]=\"C\",2,3))","v":1},{"$f":"[LGS]+[DIVS]","v":11}]
[2003,"Benitez, Armando","NYA","New York Yankees",6937500,9,0,9.3333333333333339,2,1.93,1.5,9.6428571428571423,7.7142857142857135,101,61,4.0199999999999996,4386,1119,1512,6.888508891928864,9.3077975376196989,1.2906976744186047,"AL-E",{"$f":"LEFT([League-Division],1)","v":"A"},{"$f":"RIGHT([League-Division],1)","v":"E"},{"$f":"IF([LG]=\"N\",10,20)","v":20},{"$f":"IF([DIV]=\"E\",1,IF([DIV]=\"C\",2,3))","v":1},{"$f":"[LGS]+[DIVS]","v":21}]
[2003,"Benitez, Armando","SEA","Seattle Mariners",6937500,15,0,14.333333333333334,5,3.14,1.4651162790697674,9.4186046511627897,6.279069767441861,93,69,3.76,4323,1001,1340,6.2519083969465656,8.3691880638445522,1.2532963219986122,"AL-W",{"$f":"LEFT([League-Division],1)","v":"A"},{"$f":"RIGHT([League-Division],1)","v":"W"},{"$f":"IF([LG]=\"N\",10,20)","v":20},{"$f":"IF([DIV]=\"E\",1,IF([DIV]=\"C\",2,3))","v":3},{"$f":"[LGS]+[DIVS]","v":23}]
[2004,"Benitez, Armando","FLO","Florida Marlins",3500000,64,0,69.666666666666671,26,1.29,0.81818181818181812,8.0095693779904309,4.6507177033492813,83,79,4.0999999999999996,4317,1116,1395,6.9798471160528148,8.724808895066019,1.3259207783182765,"NL-E",{"$f":"LEFT([League-Division],1)","v":"N"},{"$f":"RIGHT([League-Division],1)","v":"E"},{"$f":"IF([LG]=\"N\",10,20)","v":10},{"$f":"IF([DIV]=\"E\",1,IF([DIV]=\"C\",2,3))","v":1},{"$f":"[LGS]+[DIVS]","v":11}]
[2005,"Benitez, Armando","SFN","San Francisco Giants",4966667,30,0,30,-2,4.5,1.3666666666666667,6.9,7.5,75,87,4.33,4333,972,1456,6.0567735979690749,9.0726978998384507,1.417955227325179,"NL-W",{"$f":"LEFT([League-Division],1)","v":"N"},{"$f":"RIGHT([League-Division],1)","v":"W"},{"$f":"IF([LG]=\"N\",10,20)","v":10},{"$f":"IF([DIV]=\"E\",1,IF([DIV]=\"C\",2,3))","v":3},{"$f":"[LGS]+[DIVS]","v":13}]
[2006,"Benitez, Armando","SFN","San Francisco Giants",6271206,41,0,38.333333333333336,-8,3.52,1.5652173913043477,7.2782608695652176,9.156521739130433,76,85,4.63,4289,992,1422,6.2448123105619029,8.9517370016320825,1.4031242713919327,"NL-W",{"$f":"LEFT([League-Division],1)","v":"N"},{"$f":"RIGHT([League-Division],1)","v":"W"},{"$f":"IF([LG]=\"N\",10,20)","v":10},{"$f":"IF([DIV]=\"E\",1,IF([DIV]=\"C\",2,3))","v":3},{"$f":"[LGS]+[DIVS]","v":13}]
[2007,"Benitez, Armando","FLO","Florida Marlins",9866219,36,0,33,7,5.73,1.5757575757575757,10.636363636363637,8.7272727272727266,71,91,4.9400000000000004,4331,1142,1617,7.1193719695220503,10.080581851766334,1.5779265758485337,"NL-E",{"$f":"LEFT([League-Division],1)","v":"N"},{"$f":"RIGHT([League-Division],1)","v":"E"},{"$f":"IF([LG]=\"N\",10,20)","v":10},{"$f":"IF([DIV]=\"E\",1,IF([DIV]=\"C\",2,3))","v":1},{"$f":"[LGS]+[DIVS]","v":11}]
[2007,"Benitez, Armando","SFN","San Francisco Giants",9866219,19,0,17.333333333333332,1,4.67,1.5,9.3461538461538467,8.8269230769230766,71,91,4.1900000000000004,4361,1057,1442,6.5441412520064199,8.9277688603531296,1.3999082779179086,"NL-W",{"$f":"LEFT([League-Division],1)","v":"N"},{"$f":"RIGHT([League-Division],1)","v":"W"},{"$f":"IF([LG]=\"N\",10,20)","v":10},{"$f":"IF([DIV]=\"E\",1,IF([DIV]=\"C\",2,3))","v":3},{"$f":"[LGS]+[DIVS]","v":13}]
[1996,"Bennett, Erik","MIN","Minnesota Twins",109000,24,0,27.333333333333332,-20,7.9,1.7926829268292683,4.2804878048780495,10.865853658536585,78,84,5.3,4317,959,1561,5.9979152189020155,9.7630298818624048,1.488533703961084,"AL-C",{"$f":"LEFT([League-Division],1)","v":"A"},{"$f":"RIGHT([League-Division],1)","v":"C"},{"$f":"IF([LG]=\"N\",10,20)","v":20},{"$f":"IF([DIV]=\"E\",1,IF([DIV]=\"C\",2,3))","v":2},{"$f":"[LGS]+[DIVS]","v":22}]
[2004,"Bennett, Jeff","MIL","Milwaukee Brewers",300000,60,0,71.333333333333329,-33,4.79,1.457943925233645,5.6775700934579438,9.8411214953271031,67,94,4.24,4326,1098,1440,6.8529819694868239,8.9875173370318997,1.3287101248266298,"NL-C",{"$f":"LEFT([League-Division],1)","v":"N"},{"$f":"RIGHT([League-Division],1)","v":"C"},{"$f":"IF([LG]=\"N\",10,20)","v":10},{"$f":"IF([DIV]=\"E\",1,IF([DIV]=\"C\",2,3))","v":2},{"$f":"[LGS]+[DIVS]","v":12}]
[2008,"Bennett, Jeff","ATL","Atlanta Braves",400000,72,4,97.333333333333329,-18,3.7,1.3664383561643836,6.2876712328767121,7.9520547945205484,72,90,4.47,4322,1076,1439,6.7218880148079592,8.9895881536325764,1.4055992596020359,"NL-E",{"$f":"LEFT([League-Division],1)","v":"N"},{"$f":"RIGHT([League-Division],1)","v":"E"},{"$f":"IF([LG]=\"N\",10,20)","v":10},{"$f":"IF([DIV]=\"E\",1,IF([DIV]=\"C\",2,3))","v":1},{"$f":"[LGS]+[DIVS]","v":11}]
[2009,"Bennett, Jeff","TBA","Tampa Bay Rays",437500,11,0,12.666666666666666,-20,9.9499999999999993,2.763157894736842,2.8421052631578951,17.05263157894737,84,78,4.3600000000000003,4282,1125,1421,7.0936478281177022,8.9600653900046705,1.3563755254553946,"AL-E",{"$f":"LEFT([League-Division],1)","v":"A"},{"$f":"RIGHT([League-Division],1)","v":"E"},{"$f":"IF([LG]=\"N\",10,20)","v":20},{"$f":"IF([DIV]=\"E\",1,IF([DIV]=\"C\",2,3))","v":1},{"$f":"[LGS]+[DIVS]","v":21}]
[2009,"Bennett, Jeff","ATL","Atlanta Braves",437500,33,0,34,-19,3.18,1.8529411764705883,6.0882352941176476,11.117647058823529,86,76,3.57,4388,1232,1399,7.5806745670009104,8.6082497721057418,1.3188240656335459,"NL-E",{"$f":"LEFT([League-Division],1)","v":"N"},{"$f":"RIGHT([League-Division],1)","v":"E"},{"$f":"IF([LG]=\"N\",10,20)","v":10},{"$f":"IF([DIV]=\"E\",1,IF([DIV]=\"C\",2,3))","v":1},{"$f":"[LGS]+[DIVS]","v":11}]
[1997,"Bennett, Shayne","MON","Montreal Expos",150000,16,0,22.666666666666668,-13,3.18,1.3235294117647058,3.1764705882352939,8.3382352941176467,78,84,4.1399999999999997,4341,1138,1365,7.0780926053904638,8.4899792674498968,1.3282653766413268,"NL-E",{"$f":"LEFT([League-Division],1)","v":"N"},{"$f":"RIGHT([League-Division],1)","v":"E"},{"$f":"IF([LG]=\"N\",10,20)","v":10},{"$f":"IF([DIV]=\"E\",1,IF([DIV]=\"C\",2,3))","v":1},{"$f":"[LGS]+[DIVS]","v":11}]
[1998,"Bennett, Shayne","MON","Montreal Expos",172500,62,0,91.666666666666671,-38,5.5,1.5490909090909091,5.7927272727272721,9.5236363636363635,65,97,4.3899999999999997,4281,1017,1448,6.4141555711282408,9.1324456902592868,1.3882270497547302,"NL-E",{"$f":"LEFT([League-Division],1)","v":"N"},{"$f":"RIGHT([League-Division],1)","v":"E"},{"$f":"IF([LG]=\"N\",10,20)","v":10},{"$f":"IF([DIV]=\"E\",1,IF([DIV]=\"C\",2,3))","v":1},{"$f":"[LGS]+[DIVS]","v":11}]
[1999,"Bennett, Shayne","MON","Montreal Expos",230000,5,1,11.333333333333334,-20,14.29,2.3823529411764706,3.1764705882352939,19.058823529411764,68,94,4.6900000000000004,4302,1043,1505,6.54602510460251,9.44560669456067,1.4483960948396095,"NL-E",{"$f":"LEFT([League-Division],1)","v":"N"},{"$f":"RIGHT([League-Division],1)","v":"E"},{"$f":"IF([LG]=\"N\",10,20)","v":10},{"$f":"IF([DIV]=\"E\",1,IF([DIV]=\"C\",2,3))","v":1},{"$f":"[LGS]+[DIVS]","v":11}]
[2004,"Benoit, Joaquin","TEX","Texas Rangers",335000,28,15,103,-18,5.68,1.3980582524271845,8.3009708737864081,9.873786407766989,89,73,4.53,4319,979,1536,6.1201667052558459,9.6022227367446149,1.4468626996990044,"AL-W",{"$f":"LEFT([League-Division],1)","v":"A"},{"$f":"RIGHT([League-Division],1)","v":"W"},{"$f":"IF([LG]=\"N\",10,20)","v":20},{"$f":"IF([DIV]=\"E\",1,IF([DIV]=\"C\",2,3))","v":3},{"$f":"[LGS]+[DIVS]","v":23}]
[2005,"Benoit, Joaquin","TEX","Texas Rangers",372500,32,9,87,9,3.72,1.2298850574712643,8.068965517241379,7.1379310344827589,79,83,4.96,4320,932,1589,5.8250000000000002,9.9312500000000004,1.4659722222222222,"AL-W",{"$f":"LEFT([League-Division],1)","v":"A"},{"$f":"RIGHT([League-Division],1)","v":"W"},{"$f":"IF([LG]=\"N\",10,20)","v":20},{"$f":"IF([DIV]=\"E\",1,IF([DIV]=\"C\",2,3))","v":3},{"$f":"[LGS]+[DIVS]","v":23}]
[2006,"Benoit, Joaquin","TEX","Texas Rangers",775000,56,0,79.666666666666671,17,4.8600000000000003,1.3305439330543933,9.6025104602510449,7.6820083682008358,80,82,4.5999999999999996,4294,972,1558,6.1117838844899861,9.7964601769911521,1.4350256171401956,"AL-W",{"$f":"LEFT([League-Division],1)","v":"A"},{"$f":"RIGHT([League-Division],1)","v":"W"},{"$f":"IF([LG]=\"N\",10,20)","v":20},{"$f":"IF([DIV]=\"E\",1,IF([DIV]=\"C\",2,3))","v":3},{"$f":"[LGS]+[DIVS]","v":23}]
[2007,"Benoit, Joaquin","TEX","Texas Rangers",1050000,70,0,82,19,2.85,1.1707317073170731,9.5487804878048781,7.463414634146341,75,87,4.75,4290,976,1525,6.1426573426573432,9.5979020979020984,1.5335664335664336,"AL-W",{"$f":"LEFT([League-Division],1)","v":"A"},{"$f":"RIGHT([League-Division],1)","v":"W"},{"$f":"IF([LG]=\"N\",10,20)","v":20},{"$f":"IF([DIV]=\"E\",1,IF([DIV]=\"C\",2,3))","v":3},{"$f":"[LGS]+[DIVS]","v":23}]
[2008,"Benoit, Joaquin","TEX","Texas Rangers",2250000,44,0,45,3,5,1.6666666666666667,8.6,8,79,83,5.37,4326,963,1647,6.0104022191400839,10.279472954230235,1.5755894590846047,"AL-W",{"$f":"LEFT([League-Division],1)","v":"A"},{"$f":"RIGHT([League-Division],1)","v":"W"},{"$f":"IF([LG]=\"N\",10,20)","v":20},{"$f":"IF([DIV]=\"E\",1,IF([DIV]=\"C\",2,3))","v":3},{"$f":"[LGS]+[DIVS]","v":23}]
[1999,"Benson, Kris","PIT","Pittsburgh Pirates",200000,31,31,196.66666666666666,-45,4.07,1.3576271186440678,6.3610169491525426,8.420338983050847,78,83,4.33,4297,1083,1444,6.8049802187572723,9.0733069583430304,1.4500814521759369,"NL-C",{"$f":"LEFT([League-Division],1)","v":"N"},{"$f":"RIGHT([League-Division],1)","v":"C"},{"$f":"IF([LG]=\"N\",10,20)","v":10},{"$f":"IF([DIV]=\"E\",1,IF([DIV]=\"C\",2,3))","v":2},{"$f":"[LGS]+[DIVS]","v":12}]
[2000,"Benson, Kris","PIT","Pittsburgh Pirates",300000,32,32,217.66666666666666,-22,3.85,1.3415007656967841,7.6079632465543643,8.5176110260336912,69,93,4.93,4347,1070,1554,6.645962732919255,9.6521739130434785,1.5631469979296067,"NL-C",{"$f":"LEFT([League-Division],1)","v":"N"},{"$f":"RIGHT([League-Division],1)","v":"C"},{"$f":"IF([LG]=\"N\",10,20)","v":10},{"$f":"IF([DIV]=\"E\",1,IF([DIV]=\"C\",2,3))","v":2},{"$f":"[LGS]+[DIVS]","v":12}]
[2002,"Benson, Kris","PIT","Pittsburgh Pirates",2700000,25,25,130.33333333333334,-73,4.7,1.5498721227621481,5.4552429667519178,10.496163682864449,72,89,4.2300000000000004,4238,920,1447,5.8612553091080688,9.2187352524775825,1.4292118924020765,"NL-C",{"$f":"LEFT([League-Division],1)","v":"N"},{"$f":"RIGHT([League-Division],1)","v":"C"},{"$f":"IF([LG]=\"N\",10,20)","v":10},{"$f":"IF([DIV]=\"E\",1,IF([DIV]=\"C\",2,3))","v":2},{"$f":"[LGS]+[DIVS]","v":12}]
[2003,"Benson, Kris","PIT","Pittsburgh Pirates",4300000,18,18,105,-59,4.97,1.5523809523809524,5.8285714285714292,10.885714285714284,75,87,4.6399999999999997,4333,926,1527,5.7701361643203324,9.5151165474267252,1.404800369259174,"NL-C",{"$f":"LEFT([League-Division],1)","v":"N"},{"$f":"RIGHT([League-Division],1)","v":"C"},{"$f":"IF([LG]=\"N\",10,20)","v":10},{"$f":"IF([DIV]=\"E\",1,IF([DIV]=\"C\",2,3))","v":2},{"$f":"[LGS]+[DIVS]","v":12}]
[2004,"Benson, Kris","PIT","Pittsburgh Pirates",6150000,20,20,132.33333333333334,-54,4.22,1.3677581863979849,5.644836272040302,9.317380352644836,72,89,4.29,4284,1079,1451,6.8004201680672267,9.1449579831932759,1.419467787114846,"NL-C",{"$f":"LEFT([League-Division],1)","v":"N"},{"$f":"RIGHT([League-Division],1)","v":"C"},{"$f":"IF([LG]=\"N\",10,20)","v":10},{"$f":"IF([DIV]=\"E\",1,IF([DIV]=\"C\",2,3))","v":2},{"$f":"[LGS]+[DIVS]","v":12}]
[2004,"Benson, Kris","NYN","New York Mets",6150000,11,11,68,-14,4.5,1.2058823529411764,6.75,8.6029411764705888,71,91,4.09,4347,977,1452,6.0683229813664594,9.0186335403726705,1.4106280193236715,"NL-E",{"$f":"LEFT([League-Division],1)","v":"N"},{"$f":"RIGHT([League-Division],1)","v":"E"},{"$f":"IF([LG]=\"N\",10,20)","v":10},{"$f":"IF([DIV]=\"E\",1,IF([DIV]=\"C\",2,3))","v":1},{"$f":"[LGS]+[DIVS]","v":11}]
[2005,"Benson, Kris","NYN","New York Mets",5333333,28,28,174.33333333333334,-76,4.13,1.2619502868068833,4.9043977055449322,8.8279158699808793,83,79,3.76,4307,1012,1390,6.3440910146273506,8.7137218481541669,1.3101927095426049,"NL-E",{"$f":"LEFT([League-Division],1)","v":"N"},{"$f":"RIGHT([League-Division],1)","v":"E"},{"$f":"IF([LG]=\"N\",10,20)","v":10},{"$f":"IF([DIV]=\"E\",1,IF([DIV]=\"C\",2,3))","v":1},{"$f":"[LGS]+[DIVS]","v":11}]
[2006,"Benson, Kris","BAL","Baltimore Orioles",8333333,30,30,183,-111,4.82,1.4043715846994536,4.3278688524590159,9.7868852459016402,70,92,5.35,4257,1016,1579,6.4439746300211418,10.014799154334039,1.5447498238195914,"AL-E",{"$f":"LEFT([League-Division],1)","v":"A"},{"$f":"RIGHT([League-Division],1)","v":"E"},{"$f":"IF([LG]=\"N\",10,20)","v":20},{"$f":"IF([DIV]=\"E\",1,IF([DIV]=\"C\",2,3))","v":1},{"$f":"[LGS]+[DIVS]","v":21}]
[2009,"Benson, Kris","TEX","Texas Rangers",750000,8,2,22.333333333333332,-22,8.4600000000000009,2.0149253731343286,4.432835820895523,13.298507462686567,87,75,4.38,4304,1016,1432,6.3736059479553901,8.9832713754646836,1.3682620817843865,"AL-W",{"$f":"LEFT([League-Division],1)","v":"A"},{"$f":"RIGHT([League-Division],1)","v":"W"},{"$f":"IF([LG]=\"N\",10,20)","v":20},{"$f":"IF([DIV]=\"E\",1,IF([DIV]=\"C\",2,3))","v":3},{"$f":"[LGS]+[DIVS]","v":23}]
[2004,"Bentz, Chad","MON","Montreal Expos",300000,36,0,27.666666666666668,-5,5.86,1.6626506024096386,5.8554216867469879,7.4819277108433733,67,95,4.33,4341,1032,1477,6.4187975120939873,9.1865929509329654,1.42294402211472,"NL-E",{"$f":"LEFT([League-Division],1)","v":"N"},{"$f":"RIGHT([League-Division],1)","v":"E"},{"$f":"IF([LG]=\"N\",10,20)","v":10},{"$f":"IF([DIV]=\"E\",1,IF([DIV]=\"C\",2,3))","v":1},{"$f":"[LGS]+[DIVS]","v":11}]
[1995,"Bere, Jason","CHA","Chicago White Sox",205000,27,27,137.66666666666666,-41,7.19,1.8668280871670704,7.1912832929782082,9.871670702179177,68,76,4.8499999999999996,3852,892,1374,6.2523364485981308,9.630841121495326,1.5506230529595015,"AL-C",{"$f":"LEFT([League-Division],1)","v":"A"},{"$f":"RIGHT([League-Division],1)","v":"C"},{"$f":"IF([LG]=\"N\",10,20)","v":20},{"$f":"IF([DIV]=\"E\",1,IF([DIV]=\"C\",2,3))","v":2},{"$f":"[LGS]+[DIVS]","v":22}]
[1996,"Bere, Jason","CHA","Chicago White Sox",230000,5,5,16.666666666666668,-7,10.26,2.6399999999999997,10.26,14.04,85,77,4.53,4383,1039,1529,6.4004106776180691,9.4188911704312126,1.4681724845995894,"AL-C",{"$f":"LEFT([League-Division],1)","v":"A"},{"$f":"RIGHT([League-Division],1)","v":"C"},{"$f":"IF([LG]=\"N\",10,20)","v":20},{"$f":"IF([DIV]=\"E\",1,IF([DIV]=\"C\",2,3))","v":2},{"$f":"[LGS]+[DIVS]","v":22}]
[1997,"Bere, Jason","CHA","Chicago White Sox",420000,6,6,28.666666666666668,1,4.71,1.2906976744186045,6.5930232558139537,6.279069767441861,80,81,4.74,4266,961,1505,6.0822784810126578,9.5253164556962027,1.4627285513361463,"AL-C",{"$f":"LEFT([League-Division],1)","v":"A"},{"$f":"RIGHT([League-Division],1)","v":"C"},{"$f":"IF([LG]=\"N\",10,20)","v":20},{"$f":"IF([DIV]=\"E\",1,IF([DIV]=\"C\",2,3))","v":2},{"$f":"[LGS]+[DIVS]","v":22}]
[1998,"Bere, Jason","CIN","Cincinnati Reds",700000,9,7,43.666666666666664,-8,4.12,1.3511450381679391,6.3893129770992374,8.0381679389312986,77,85,4.4400000000000004,4323,1098,1400,6.8577376821651637,8.7439278278972932,1.3691880638445524,"NL-C",{"$f":"LEFT([League-Division],1)","v":"N"},{"$f":"RIGHT([League-Division],1)","v":"C"},{"$f":"IF([LG]=\"N\",10,20)","v":10},{"$f":"IF([DIV]=\"E\",1,IF([DIV]=\"C\",2,3))","v":2},{"$f":"[LGS]+[DIVS]","v":12}]
[1998,"Bere, Jason","CHA","Chicago White Sox",700000,18,15,83.666666666666671,-45,6.45,1.8645418326693226,5.7011952191235062,10.541832669322709,80,82,5.24,4315,911,1569,5.7003476245654703,9.817612977983778,1.4940903823870222,"AL-C",{"$f":"LEFT([League-Division],1)","v":"A"},{"$f":"RIGHT([League-Division],1)","v":"C"},{"$f":"IF([LG]=\"N\",10,20)","v":20},{"$f":"IF([DIV]=\"E\",1,IF([DIV]=\"C\",2,3))","v":2},{"$f":"[LGS]+[DIVS]","v":22}]
[1998,"Bere, Jason","CIN","Cincinnati Reds",170000,9,7,43.666666666666664,-8,4.12,1.3511450381679391,6.3893129770992374,8.0381679389312986,77,85,4.4400000000000004,4323,1098,1400,6.8577376821651637,8.7439278278972932,1.3691880638445524,"NL-C",{"$f":"LEFT([League-Division],1)","v":"N"},{"$f":"RIGHT([League-Division],1)","v":"C"},{"$f":"IF([LG]=\"N\",10,20)","v":10},{"$f":"IF([DIV]=\"E\",1,IF([DIV]=\"C\",2,3))","v":2},{"$f":"[LGS]+[DIVS]","v":12}]
[1998,"Bere, Jason","CHA","Chicago White Sox",170000,18,15,83.666666666666671,-45,6.45,1.8645418326693226,5.7011952191235062,10.541832669322709,80,82,5.24,4315,911,1569,5.7003476245654703,9.817612977983778,1.4940903823870222,"AL-C",{"$f":"LEFT([League-Division],1)","v":"A"},{"$f":"RIGHT([League-Division],1)","v":"C"},{"$f":"IF([LG]=\"N\",10,20)","v":20},{"$f":"IF([DIV]=\"E\",1,IF([DIV]=\"C\",2,3))","v":2},{"$f":"[LGS]+[DIVS]","v":22}]
[1999,"Bere, Jason","CIN","Cincinnati Reds",1200000,12,10,43.333333333333336,-28,6.85,2.2153846153846151,5.8153846153846143,11.630769230769229,96,67,3.99,4384,1081,1309,6.6576186131386867,8.061815693430658,1.3309762773722629,"NL-C",{"$f":"LEFT([League-Division],1)","v":"N"},{"$f":"RIGHT([League-Division],1)","v":"C"},{"$f":"IF([LG]=\"N\",10,20)","v":10},{"$f":"IF([DIV]=\"E\",1,IF([DIV]=\"C\",2,3))","v":2},{"$f":"[LGS]+[DIVS]","v":12}]
[1999,"Bere, Jason","MIL","Milwaukee Brewers",1200000,5,4,23.333333333333332,-4,4.63,1.4142857142857144,7.3285714285714283,8.8714285714285719,74,87,5.07,4327,987,1618,6.1587705107464759,10.096140513057545,1.5488791310376706,"NL-C",{"$f":"LEFT([League-Division],1)","v":"N"},{"$f":"RIGHT([League-Division],1)","v":"C"},{"$f":"IF([LG]=\"N\",10,20)","v":10},{"$f":"IF([DIV]=\"E\",1,IF([DIV]=\"C\",2,3))","v":2},{"$f":"[LGS]+[DIVS]","v":12}]
[2000,"Bere, Jason","MIL","Milwaukee Brewers",800000,20,20,115,-17,4.93,1.5478260869565217,7.6695652173913036,9,73,89,4.6399999999999997,4398,967,1501,5.9365620736698492,9.2148703956343798,1.5204638472032743,"NL-C",{"$f":"LEFT([League-Division],1)","v":"N"},{"$f":"RIGHT([League-Division],1)","v":"C"},{"$f":"IF([LG]=\"N\",10,20)","v":10},{"$f":"IF([DIV]=\"E\",1,IF([DIV]=\"C\",2,3))","v":2},{"$f":"[LGS]+[DIVS]","v":12}]
[2000,"Bere, Jason","CLE","Cleveland Indians",800000,11,11,54.333333333333336,-21,6.63,1.674846625766871,7.2883435582822083,10.766871165644172,90,72,4.84,4326,1213,1511,7.5707350901525654,9.4306518723994444,1.5097087378640777,"AL-C",{"$f":"LEFT([League-Division],1)","v":"A"},{"$f":"RIGHT([League-Division],1)","v":"C"},{"$f":"IF([LG]=\"N\",10,20)","v":20},{"$f":"IF([DIV]=\"E\",1,IF([DIV]=\"C\",2,3))","v":2},{"$f":"[LGS]+[DIVS]","v":22}]
[2001,"Bere, Jason","CHN","Chicago Cubs",2250000,32,32,188,4,4.3099999999999996,1.3191489361702127,8.3776595744680851,8.1861702127659566,88,74,4.03,4311,1344,1357,8.4175365344467643,8.4989561586638835,1.3270702853166318,"NL-C",{"$f":"LEFT([League-Division],1)","v":"N"},{"$f":"RIGHT([League-Division],1)","v":"C"},{"$f":"IF([LG]=\"N\",10,20)","v":10},{"$f":"IF([DIV]=\"E\",1,IF([DIV]=\"C\",2,3))","v":2},{"$f":"[LGS]+[DIVS]","v":12}]
[2002,"Bere, Jason","CHN","Chicago Cubs",3400000,16,16,85.666666666666671,-33,5.67,1.470817120622568,6.8287937743190659,10.295719844357976,67,95,4.29,4324,1333,1373,8.3235430157261803,8.5733117483811299,1.3730342275670675,"NL-C",{"$f":"LEFT([League-Division],1)","v":"N"},{"$f":"RIGHT([League-Division],1)","v":"C"},{"$f":"IF([LG]=\"N\",10,20)","v":10},{"$f":"IF([DIV]=\"E\",1,IF([DIV]=\"C\",2,3))","v":2},{"$f":"[LGS]+[DIVS]","v":12}]
[2003,"Bere, Jason","CLE","Cleveland Indians",1000000,2,2,6.666666666666667,-4,4.05,1.05,1.3499999999999999,6.75,68,94,4.21,4378,943,1477,5.815669255367748,9.1089538602101428,1.3554134307903152,"AL-C",{"$f":"LEFT([League-Division],1)","v":"A"},{"$f":"RIGHT([League-Division],1)","v":"C"},{"$f":"IF([LG]=\"N\",10,20)","v":20},{"$f":"IF([DIV]=\"E\",1,IF([DIV]=\"C\",2,3))","v":2},{"$f":"[LGS]+[DIVS]","v":22}]
[2010,"Bergesen, Brad","BAL","Baltimore Orioles",405000,30,28,170,-112,4.9800000000000004,1.4352941176470588,4.2882352941176469,10.217647058823529,66,96,4.59,4309,1007,1508,6.3098166627987933,9.4490601067533078,1.41192852169877,"AL-E",{"$f":"LEFT([League-Division],1)","v":"A"},{"$f":"RIGHT([League-Division],1)","v":"E"},{"$f":"IF([LG]=\"N\",10,20)","v":20},{"$f":"IF([DIV]=\"E\",1,IF([DIV]=\"C\",2,3))","v":1},{"$f":"[LGS]+[DIVS]","v":21}]
[2010,"Berg, Justin","CHN","Chicago Cubs",403000,41,0,40,-31,5.18,1.625,3.15,10.125,75,87,4.24,4310,1268,1409,7.9433874709976795,8.8266821345707651,1.4018561484918792,"NL-C",{"$f":"LEFT([League-Division],1)","v":"N"},{"$f":"RIGHT([League-Division],1)","v":"C"},{"$f":"IF([LG]=\"N\",10,20)","v":10},{"$f":"IF([DIV]=\"E\",1,IF([DIV]=\"C\",2,3))","v":2},{"$f":"[LGS]+[DIVS]","v":12}]
[2006,"Bergmann, Jay","WAS","Washington Nationals",327000,29,6,64.666666666666671,-27,6.68,1.670103092783505,7.5154639175257723,11.273195876288661,71,91,5.03,4309,960,1535,6.0153167788349968,9.6182408911580417,1.4752842886980739,"NL-E",{"$f":"LEFT([League-Division],1)","v":"N"},{"$f":"RIGHT([League-Division],1)","v":"E"},{"$f":"IF([LG]=\"N\",10,20)","v":10},{"$f":"IF([DIV]=\"E\",1,IF([DIV]=\"C\",2,3))","v":1},{"$f":"[LGS]+[DIVS]","v":11}]
[2007,"Bergmann, Jay","WAS","Washington Nationals",380000,21,21,115.33333333333333,-13,4.45,1.2225433526011562,6.710982658959538,7.7254335260115612,73,89,4.58,4340,931,1502,5.7919354838709678,9.3442396313364053,1.4391705069124423,"NL-E",{"$f":"LEFT([League-Division],1)","v":"N"},{"$f":"RIGHT([League-Division],1)","v":"E"},{"$f":"IF([LG]=\"N\",10,20)","v":10},{"$f":"IF([DIV]=\"E\",1,IF([DIV]=\"C\",2,3))","v":1},{"$f":"[LGS]+[DIVS]","v":11}]
[2008,"Bergmann, Jay","WAS","Washington Nationals",404000,30,22,139.66666666666666,-57,5.09,1.4319809069212412,6.1861575178997619,9.8591885441527438,59,102,4.66,4302,1063,1496,6.6715481171548117,9.3891213389121351,1.4532775453277544,"NL-E",{"$f":"LEFT([League-Division],1)","v":"N"},{"$f":"RIGHT([League-Division],1)","v":"E"},{"$f":"IF([LG]=\"N\",10,20)","v":10},{"$f":"IF([DIV]=\"E\",1,IF([DIV]=\"C\",2,3))","v":1},{"$f":"[LGS]+[DIVS]","v":11}]
[2010,"Bergmann, Jay","WAS","Washington Nationals",750000,4,0,2.3333333333333335,-1,15.43,1.7142857142857142,7.7142857142857135,11.571428571428569,69,93,4.13,4305,1068,1469,6.6982578397212542,9.2132404181184668,1.3804878048780487,"NL-E",{"$f":"LEFT([League-Division],1)","v":"N"},{"$f":"RIGHT([League-Division],1)","v":"E"},{"$f":"IF([LG]=\"N\",10,20)","v":10},{"$f":"IF([DIV]=\"E\",1,IF([DIV]=\"C\",2,3))","v":1},{"$f":"[LGS]+[DIVS]","v":11}]
[1995,"Bergman, Sean","DET","Detroit Tigers",137500,28,28,135.33333333333334,-83,5.12,1.7438423645320196,5.7192118226600988,11.238916256157635,60,84,5.49,3825,729,1509,5.145882352941177,10.651764705882353,1.6039215686274511,"AL-E",{"$f":"LEFT([League-Division],1)","v":"A"},{"$f":"RIGHT([League-Division],1)","v":"E"},{"$f":"IF([LG]=\"N\",10,20)","v":20},{"$f":"IF([DIV]=\"E\",1,IF([DIV]=\"C\",2,3))","v":1},{"$f":"[LGS]+[DIVS]","v":21}]
[1996,"Bergman, Sean","SDN","San Diego Padres",205000,41,14,113.33333333333333,-34,4.37,1.3411764705882354,6.75,9.4500000000000011,91,71,3.73,4467,1194,1395,7.2169241101410337,8.4318334452652781,1.2766957689724647,"NL-W",{"$f":"LEFT([League-Division],1)","v":"N"},{"$f":"RIGHT([League-Division],1)","v":"W"},{"$f":"IF([LG]=\"N\",10,20)","v":10},{"$f":"IF([DIV]=\"E\",1,IF([DIV]=\"C\",2,3))","v":3},{"$f":"[LGS]+[DIVS]","v":13}]
[1997,"Bergman, Sean","SDN","San Diego Padres",275000,44,9,99,-52,6.09,1.6565656565656566,6.7272727272727275,11.454545454545455,76,86,4.99,4350,1059,1581,6.5731034482758623,9.8131034482758626,1.5013793103448276,"NL-W",{"$f":"LEFT([League-Division],1)","v":"N"},{"$f":"RIGHT([League-Division],1)","v":"W"},{"$f":"IF([LG]=\"N\",10,20)","v":10},{"$f":"IF([DIV]=\"E\",1,IF([DIV]=\"C\",2,3))","v":3},{"$f":"[LGS]+[DIVS]","v":13}]
[1998,"Bergman, Sean","HOU","Houston Astros",465000,31,27,172,-83,3.72,1.308139534883721,5.2325581395348841,9.575581395348836,102,60,3.5,4413,1187,1435,7.262406526172672,8.7797416723317472,1.2916383412644459,"NL-C",{"$f":"LEFT([League-Division],1)","v":"N"},{"$f":"RIGHT([League-Division],1)","v":"C"},{"$f":"IF([LG]=\"N\",10,20)","v":10},{"$f":"IF([DIV]=\"E\",1,IF([DIV]=\"C\",2,3))","v":2},{"$f":"[LGS]+[DIVS]","v":12}]
[1999,"Bergman, Sean","HOU","Houston Astros",1875000,19,16,99,-92,5.36,1.5757575757575757,3.4545454545454541,11.818181818181818,97,65,3.84,4375,1204,1485,7.4303999999999997,9.1645714285714277,1.3460571428571428,"NL-C",{"$f":"LEFT([League-Division],1)","v":"N"},{"$f":"RIGHT([League-Division],1)","v":"C"},{"$f":"IF([LG]=\"N\",10,20)","v":10},{"$f":"IF([DIV]=\"E\",1,IF([DIV]=\"C\",2,3))","v":2},{"$f":"[LGS]+[DIVS]","v":12}]
[1999,"Bergman, Sean","ATL","Atlanta Braves",1875000,6,0,6.333333333333333,1,2.84,1.2631578947368423,8.526315789473685,7.1052631578947372,103,59,3.63,4413,1197,1398,7.3235893949694084,8.5533650577838198,1.2950373895309313,"NL-E",{"$f":"LEFT([League-Division],1)","v":"N"},{"$f":"RIGHT([League-Division],1)","v":"E"},{"$f":"IF([LG]=\"N\",10,20)","v":10},{"$f":"IF([DIV]=\"E\",1,IF([DIV]=\"C\",2,3))","v":1},{"$f":"[LGS]+[DIVS]","v":11}]
[2000,"Bergman, Sean","MIN","Minnesota Twins",1200000,15,14,68,-76,9.66,2.1176470588235294,4.6323529411764701,14.691176470588236,69,93,5.15,4297,1042,1634,6.5473586222946247,10.267163137072377,1.5010472422620433,"AL-C",{"$f":"LEFT([League-Division],1)","v":"A"},{"$f":"RIGHT([League-Division],1)","v":"C"},{"$f":"IF([LG]=\"N\",10,20)","v":20},{"$f":"IF([DIV]=\"E\",1,IF([DIV]=\"C\",2,3))","v":2},{"$f":"[LGS]+[DIVS]","v":22}]
[2010,"Berken, Jason","BAL","Baltimore Orioles",400000,41,0,62.333333333333336,-19,3.03,1.3315508021390374,6.4973262032085559,9.2406417112299462,66,96,4.59,4309,1007,1508,6.3098166627987933,9.4490601067533078,1.41192852169877,"AL-E",{"$f":"LEFT([League-Division],1)","v":"A"},{"$f":"RIGHT([League-Division],1)","v":"E"},{"$f":"IF([LG]=\"N\",10,20)","v":20},{"$f":"IF([DIV]=\"E\",1,IF([DIV]=\"C\",2,3))","v":1},{"$f":"[LGS]+[DIVS]","v":21}]
[2003,"Bernero, Adam","DET","Detroit Tigers",314000,18,17,100.66666666666667,-50,6.08,1.4403973509933774,4.8278145695364234,9.2980132450331112,43,119,5.3,4316,764,1616,4.7794253938832254,10.109360518999074,1.5104263206672845,"AL-C",{"$f":"LEFT([League-Division],1)","v":"A"},{"$f":"RIGHT([League-Division],1)","v":"C"},{"$f":"IF([LG]=\"N\",10,20)","v":20},{"$f":"IF([DIV]=\"E\",1,IF([DIV]=\"C\",2,3))","v":2},{"$f":"[LGS]+[DIVS]","v":22}]
[2003,"Bernero, Adam","COL","Colorado Rockies",314000,31,0,32.666666666666664,-7,5.23,1.4081632653061225,7.16326530612245,9.091836734693878,74,88,5.2,4260,866,1629,5.4887323943661972,10.324647887323943,1.5359154929577465,"NL-W",{"$f":"LEFT([League-Division],1)","v":"N"},{"$f":"RIGHT([League-Division],1)","v":"W"},{"$f":"IF([LG]=\"N\",10,20)","v":10},{"$f":"IF([DIV]=\"E\",1,IF([DIV]=\"C\",2,3))","v":3},{"$f":"[LGS]+[DIVS]","v":13}]
[2004,"Bernero, Adam","COL","Colorado Rockies",320000,16,2,32.333333333333336,-15,5.57,1.6391752577319587,5.8453608247422668,10.020618556701029,68,94,5.54,4306,947,1634,5.9379934974454258,10.245703669298655,1.6240130051091501,"NL-W",{"$f":"LEFT([League-Division],1)","v":"N"},{"$f":"RIGHT([League-Division],1)","v":"W"},{"$f":"IF([LG]=\"N\",10,20)","v":10},{"$f":"IF([DIV]=\"E\",1,IF([DIV]=\"C\",2,3))","v":3},{"$f":"[LGS]+[DIVS]","v":13}]
[2005,"Bernero, Adam","ATL","Atlanta Braves",450000,36,0,47,-24,6.51,1.553191489361702,7.085106382978724,11.680851063829786,90,72,3.98,4331,929,1487,5.7915031170630336,9.2701454629415849,1.3902101131378435,"NL-E",{"$f":"LEFT([League-Division],1)","v":"N"},{"$f":"RIGHT([League-Division],1)","v":"E"},{"$f":"IF([LG]=\"N\",10,20)","v":10},{"$f":"IF([DIV]=\"E\",1,IF([DIV]=\"C\",2,3))","v":1},{"$f":"[LGS]+[DIVS]","v":11}]
[1995,"Bertotti, Mike","CHA","Chicago White Sox",109000,4,4,14.333333333333334,-8,12.56,2.3720930232558137,9.4186046511627897,14.441860465116278,68,76,4.8499999999999996,3852,892,1374,6.2523364485981308,9.630841121495326,1.5506230529595015,"AL-C",{"$f":"LEFT([League-Division],1)","v":"A"},{"$f":"RIGHT([League-Division],1)","v":"C"},{"$f":"IF([LG]=\"N\",10,20)","v":20},{"$f":"IF([DIV]=\"E\",1,IF([DIV]=\"C\",2,3))","v":2},{"$f":"[LGS]+[DIVS]","v":22}]
[1996,"Bertotti, Mike","CHA","Chicago White Sox",109500,15,2,28,-9,5.14,1.7142857142857142,6.1071428571428577,9,85,77,4.53,4383,1039,1529,6.4004106776180691,9.4188911704312126,1.4681724845995894,"AL-C",{"$f":"LEFT([League-Division],1)","v":"A"},{"$f":"RIGHT([League-Division],1)","v":"C"},{"$f":"IF([LG]=\"N\",10,20)","v":20},{"$f":"IF([DIV]=\"E\",1,IF([DIV]=\"C\",2,3))","v":2},{"$f":"[LGS]+[DIVS]","v":22}]
[1997,"Bertotti, Mike","CHA","Chicago White Sox",160000,9,0,3.6666666666666665,-5,7.36,3,9.8181818181818201,22.09090909090909,80,81,4.74,4266,961,1505,6.0822784810126578,9.5253164556962027,1.4627285513361463,"AL-C",{"$f":"LEFT([League-Division],1)","v":"A"},{"$f":"RIGHT([League-Division],1)","v":"C"},{"$f":"IF([LG]=\"N\",10,20)","v":20},{"$f":"IF([DIV]=\"E\",1,IF([DIV]=\"C\",2,3))","v":2},{"$f":"[LGS]+[DIVS]","v":22}]
[1995,"Berumen, Andres","SDN","San Diego Padres",109000,37,0,44.333333333333336,5,5.68,1.6466165413533833,8.5263157894736832,7.511278195488722,70,74,4.13,3852,1047,1242,7.3387850467289724,8.7056074766355138,1.3660436137071652,"NL-W",{"$f":"LEFT([League-Division],1)","v":"N"},{"$f":"RIGHT([League-Division],1)","v":"W"},{"$f":"IF([LG]=\"N\",10,20)","v":10},{"$f":"IF([DIV]=\"E\",1,IF([DIV]=\"C\",2,3))","v":3},{"$f":"[LGS]+[DIVS]","v":13}]
[2004,"Betancourt, Rafael","CLE","Cleveland Indians",305200,68,0,66.666666666666671,5,3.92,1.335,10.26,9.5849999999999991,80,82,4.8099999999999996,4400,1115,1553,6.8420454545454534,9.5297727272727268,1.4536363636363636,"AL-C",{"$f":"LEFT([League-Division],1)","v":"A"},{"$f":"RIGHT([League-Division],1)","v":"C"},{"$f":"IF([LG]=\"N\",10,20)","v":20},{"$f":"IF([DIV]=\"E\",1,IF([DIV]=\"C\",2,3))","v":2},{"$f":"[LGS]+[DIVS]","v":22}]
[2005,"Betancourt, Rafael","CLE","Cleveland Indians",338600,54,0,67.666666666666671,16,2.79,1.0935960591133005,9.7093596059113292,7.5812807881773399,93,69,3.61,4358,1050,1363,6.505277650298301,8.4444699403396051,1.2225791647544744,"AL-C",{"$f":"LEFT([League-Division],1)","v":"A"},{"$f":"RIGHT([League-Division],1)","v":"C"},{"$f":"IF([LG]=\"N\",10,20)","v":20},{"$f":"IF([DIV]=\"E\",1,IF([DIV]=\"C\",2,3))","v":2},{"$f":"[LGS]+[DIVS]","v":22}]
[2006,"Betancourt, Rafael","CLE","Cleveland Indians",365300,50,0,56.666666666666664,-4,3.81,1.111764705882353,7.6235294117647054,8.2588235294117656,78,84,4.41,4270,948,1583,5.9943793911007024,10.009601873536299,1.4135831381733022,"AL-C",{"$f":"LEFT([League-Division],1)","v":"A"},{"$f":"RIGHT([League-Division],1)","v":"C"},{"$f":"IF([LG]=\"N\",10,20)","v":20},{"$f":"IF([DIV]=\"E\",1,IF([DIV]=\"C\",2,3))","v":2},{"$f":"[LGS]+[DIVS]","v":22}]
[2007,"Betancourt, Rafael","CLE","Cleveland Indians",840000,68,0,79.333333333333329,29,1.47,0.75630252100840345,9.0756302521008401,5.7857142857142865,96,66,4.05,4388,1047,1519,6.4423427529626247,9.3466271649954411,1.3188240656335459,"AL-C",{"$f":"LEFT([League-Division],1)","v":"A"},{"$f":"RIGHT([League-Division],1)","v":"C"},{"$f":"IF([LG]=\"N\",10,20)","v":20},{"$f":"IF([DIV]=\"E\",1,IF([DIV]=\"C\",2,3))","v":2},{"$f":"[LGS]+[DIVS]","v":22}]
[2008,"Betancourt, Rafael","CLE","Cleveland Indians",2050000,69,0,71,-12,5.07,1.4225352112676057,8.112676056338028,9.6338028169014081,81,81,4.46,4311,986,1530,6.1753653444676413,9.5824634655532357,1.3736951983298538,"AL-C",{"$f":"LEFT([League-Division],1)","v":"A"},{"$f":"RIGHT([League-Division],1)","v":"C"},{"$f":"IF([LG]=\"N\",10,20)","v":20},{"$f":"IF([DIV]=\"E\",1,IF([DIV]=\"C\",2,3))","v":2},{"$f":"[LGS]+[DIVS]","v":22}]
[2009,"Betancourt, Rafael","CLE","Cleveland Indians",3350000,29,0,30.666666666666668,7,3.52,1.3043478260869565,9.391304347826086,7.3369565217391299,65,97,5.07,4302,986,1570,6.1882845188284517,9.8535564853556483,1.5118549511854951,"AL-C",{"$f":"LEFT([League-Division],1)","v":"A"},{"$f":"RIGHT([League-Division],1)","v":"C"},{"$f":"IF([LG]=\"N\",10,20)","v":20},{"$f":"IF([DIV]=\"E\",1,IF([DIV]=\"C\",2,3))","v":2},{"$f":"[LGS]+[DIVS]","v":22}]
[2009,"Betancourt, Rafael","COL","Colorado Rockies",3350000,32,0,25.333333333333332,12,1.78,0.86842105263157898,10.30263157894737,6.0394736842105257,92,70,4.24,4315,1154,1427,7.2208574739281586,8.9290845886442654,1.3592120509849364,"NL-W",{"$f":"LEFT([League-Division],1)","v":"N"},{"$f":"RIGHT([League-Division],1)","v":"W"},{"$f":"IF([LG]=\"N\",10,20)","v":10},{"$f":"IF([DIV]=\"E\",1,IF([DIV]=\"C\",2,3))","v":3},{"$f":"[LGS]+[DIVS]","v":13}]
[2010,"Betancourt, Rafael","COL","Colorado Rockies",3775000,72,0,62.333333333333336,37,3.61,0.96256684491978606,12.850267379679144,7.5080213903743314,83,79,4.1399999999999997,4326,1234,1405,7.7018030513176141,8.7690707350901533,1.3384188626907074,"NL-W",{"$f":"LEFT([League-Division],1)","v":"N"},{"$f":"RIGHT([League-Division],1)","v":"W"},{"$f":"IF([LG]=\"N\",10,20)","v":10},{"$f":"IF([DIV]=\"E\",1,IF([DIV]=\"C\",2,3))","v":3},{"$f":"[LGS]+[DIVS]","v":13}]
[1997,"Bevil, Brian","KCA","Kansas City Royals",150000,18,0,16.333333333333332,-3,6.61,1.5306122448979593,7.16326530612245,8.8163265306122458,67,94,4.71,4329,961,1530,5.9937629937629939,9.5426195426195424,1.4282744282744282,"AL-C",{"$f":"LEFT([League-Division],1)","v":"A"},{"$f":"RIGHT([League-Division],1)","v":"C"},{"$f":"IF([LG]=\"N\",10,20)","v":20},{"$f":"IF([DIV]=\"E\",1,IF([DIV]=\"C\",2,3))","v":2},{"$f":"[LGS]+[DIVS]","v":22}]
[1998,"Bevil, Brian","KCA","Kansas City Royals",175000,39,0,40,0,6.3,1.7250000000000001,10.575000000000001,10.575000000000001,72,89,5.16,4308,999,1590,6.2611420612813378,9.9651810584958209,1.5027855153203342,"AL-C",{"$f":"LEFT([League-Division],1)","v":"A"},{"$f":"RIGHT([League-Division],1)","v":"C"},{"$f":"IF([LG]=\"N\",10,20)","v":20},{"$f":"IF([DIV]=\"E\",1,IF([DIV]=\"C\",2,3))","v":2},{"$f":"[LGS]+[DIVS]","v":22}]
[2001,"Biddle, Rocky","CHA","Chicago White Sox",205000,30,21,128.66666666666666,-52,5.39,1.4689119170984457,5.9455958549222796,9.5829015544041454,83,79,4.55,4300,921,1465,5.7830232558139532,9.1988372093023258,1.3709302325581396,"AL-C",{"$f":"LEFT([League-Division],1)","v":"A"},{"$f":"RIGHT([League-Division],1)","v":"C"},{"$f":"IF([LG]=\"N\",10,20)","v":20},{"$f":"IF([DIV]=\"E\",1,IF([DIV]=\"C\",2,3))","v":2},{"$f":"[LGS]+[DIVS]","v":22}]
[2002,"Biddle, Rocky","CHA","Chicago White Sox",250000,44,7,77.666666666666671,-8,4.0599999999999996,1.4291845493562232,7.4163090128755362,8.3433476394849784,81,81,4.53,4269,945,1422,5.9768095572733664,8.9936753338018267,1.370344342937456,"AL-C",{"$f":"LEFT([League-Division],1)","v":"A"},{"$f":"RIGHT([League-Division],1)","v":"C"},{"$f":"IF([LG]=\"N\",10,20)","v":20},{"$f":"IF([DIV]=\"E\",1,IF([DIV]=\"C\",2,3))","v":2},{"$f":"[LGS]+[DIVS]","v":22}]
[2003,"Biddle, Rocky","MON","Montreal Expos",320000,73,0,71.666666666666671,-17,4.6500000000000004,1.5488372093023255,6.7813953488372087,8.916279069767441,83,79,4.01,4313,1028,1467,6.4354277764896821,9.1836308833758409,1.342453048921864,"NL-E",{"$f":"LEFT([League-Division],1)","v":"N"},{"$f":"RIGHT([League-Division],1)","v":"E"},{"$f":"IF([LG]=\"N\",10,20)","v":10},{"$f":"IF([DIV]=\"E\",1,IF([DIV]=\"C\",2,3))","v":1},{"$f":"[LGS]+[DIVS]","v":11}]
[2004,"Biddle, Rocky","MON","Montreal Expos",1950000,47,9,78,-47,6.92,1.6538461538461537,5.884615384615385,11.307692307692307,67,95,4.33,4341,1032,1477,6.4187975120939873,9.1865929509329654,1.42294402211472,"NL-E",{"$f":"LEFT([League-Division],1)","v":"N"},{"$f":"RIGHT([League-Division],1)","v":"E"},{"$f":"IF([LG]=\"N\",10,20)","v":10},{"$f":"IF([DIV]=\"E\",1,IF([DIV]=\"C\",2,3))","v":1},{"$f":"[LGS]+[DIVS]","v":11}]
[1995,"Bielecki, Mike","CAL","California Angels",160000,22,11,75.333333333333329,-35,5.97,1.4734513274336285,5.3761061946902657,9.557522123893806,78,67,4.5199999999999996,3852,901,1310,6.3154205607476639,9.1822429906542045,1.3987538940809969,"AL-W",{"$f":"LEFT([League-Division],1)","v":"A"},{"$f":"RIGHT([League-Division],1)","v":"W"},{"$f":"IF([LG]=\"N\",10,20)","v":20},{"$f":"IF([DIV]=\"E\",1,IF([DIV]=\"C\",2,3))","v":3},{"$f":"[LGS]+[DIVS]","v":23}]
[1996,"Bielecki, Mike","ATL","Atlanta Braves",125000,40,5,75.333333333333329,8,2.63,1.2743362831858407,8.4823008849557517,7.5265486725663724,96,66,3.54,4407,1245,1372,7.6276378488767866,8.4057181756296799,1.2409802586793737,"NL-E",{"$f":"LEFT([League-Division],1)","v":"N"},{"$f":"RIGHT([League-Division],1)","v":"E"},{"$f":"IF([LG]=\"N\",10,20)","v":10},{"$f":"IF([DIV]=\"E\",1,IF([DIV]=\"C\",2,3))","v":1},{"$f":"[LGS]+[DIVS]","v":11}]
[1997,"Bielecki, Mike","ATL","Atlanta Braves",707500,50,0,57.333333333333336,4,4.08,1.3430232558139534,9.4186046511627897,8.7906976744186043,101,61,3.18,4395,1196,1319,7.3474402730375425,8.1030716723549485,1.2075085324232082,"NL-E",{"$f":"LEFT([League-Division],1)","v":"N"},{"$f":"RIGHT([League-Division],1)","v":"E"},{"$f":"IF([LG]=\"N\",10,20)","v":10},{"$f":"IF([DIV]=\"E\",1,IF([DIV]=\"C\",2,3))","v":1},{"$f":"[LGS]+[DIVS]","v":11}]
[2001,"Bierbrodt, Nick","ARI","Arizona Diamondbacks",200000,5,5,23,-12,8.2200000000000006,1.7826086956521738,6.6521739130434776,11.347826086956522,92,70,3.87,4379,1297,1352,7.9970312856816621,8.3361498058917558,1.2420643982644439,"NL-W",{"$f":"LEFT([League-Division],1)","v":"N"},{"$f":"RIGHT([League-Division],1)","v":"W"},{"$f":"IF([LG]=\"N\",10,20)","v":10},{"$f":"IF([DIV]=\"E\",1,IF([DIV]=\"C\",2,3))","v":3},{"$f":"[LGS]+[DIVS]","v":13}]
[2001,"Bierbrodt, Nick","TBA","Tampa Bay Devil Rays",200000,11,11,61.333333333333336,-15,4.55,1.5978260869565217,8.2173913043478262,10.418478260869565,62,100,4.9400000000000004,4271,1030,1513,6.5113556544134861,9.5647389370170917,1.4624209786935143,"AL-E",{"$f":"LEFT([League-Division],1)","v":"A"},{"$f":"RIGHT([League-Division],1)","v":"E"},{"$f":"IF([LG]=\"N\",10,20)","v":20},{"$f":"IF([DIV]=\"E\",1,IF([DIV]=\"C\",2,3))","v":1},{"$f":"[LGS]+[DIVS]","v":21}]
[2003,"Bierbrodt, Nick","TBA","Tampa Bay Devil Rays",300000,13,5,35.333333333333336,-39,9.68,2.3207547169811318,5.0943396226415096,15.028301886792452,63,99,4.93,4310,877,1454,5.4939675174013924,9.1085846867749414,1.456844547563805,"AL-E",{"$f":"LEFT([League-Division],1)","v":"A"},{"$f":"RIGHT([League-Division],1)","v":"E"},{"$f":"IF([LG]=\"N\",10,20)","v":20},{"$f":"IF([DIV]=\"E\",1,IF([DIV]=\"C\",2,3))","v":1},{"$f":"[LGS]+[DIVS]","v":21}]
[2003,"Bierbrodt, Nick","CLE","Cleveland Indians",300000,5,0,8,4,6.75,1.125,10.125,5.625,68,94,4.21,4378,943,1477,5.815669255367748,9.1089538602101428,1.3554134307903152,"AL-C",{"$f":"LEFT([League-Division],1)","v":"A"},{"$f":"RIGHT([League-Division],1)","v":"C"},{"$f":"IF([LG]=\"N\",10,20)","v":20},{"$f":"IF([DIV]=\"E\",1,IF([DIV]=\"C\",2,3))","v":2},{"$f":"[LGS]+[DIVS]","v":22}]
[2008,"Bierd, Randor","BAL","Baltimore Orioles",390000,29,0,36.666666666666664,-23,4.91,1.8272727272727274,6.1363636363636367,11.781818181818181,68,93,5.15,4266,922,1538,5.8354430379746836,9.7341772151898738,1.5646976090014064,"AL-E",{"$f":"LEFT([League-Division],1)","v":"A"},{"$f":"RIGHT([League-Division],1)","v":"E"},{"$f":"IF([LG]=\"N\",10,20)","v":20},{"$f":"IF([DIV]=\"E\",1,IF([DIV]=\"C\",2,3))","v":1},{"$f":"[LGS]+[DIVS]","v":21}]
[2007,"Billingsley, Chad","LAN","Los Angeles Dodgers",384500,43,20,147,10,3.31,1.3265306122448979,8.6326530612244898,8.0204081632653068,82,80,4.2,4350,1184,1443,7.3489655172413801,8.9565517241379311,1.3524137931034483,"NL-W",{"$f":"LEFT([League-Division],1)","v":"N"},{"$f":"RIGHT([League-Division],1)","v":"W"},{"$f":"IF([LG]=\"N\",10,20)","v":10},{"$f":"IF([DIV]=\"E\",1,IF([DIV]=\"C\",2,3))","v":3},{"$f":"[LGS]+[DIVS]","v":13}]
[2008,"Billingsley, Chad","LAN","Los Angeles Dodgers",415000,35,32,200.66666666666666,13,3.14,1.3355481727574752,9.014950166112957,8.4318936877076407,84,78,3.68,4342,1205,1381,7.4930907415937362,8.5875172731460161,1.2858129894058039,"NL-W",{"$f":"LEFT([League-Division],1)","v":"N"},{"$f":"RIGHT([League-Division],1)","v":"W"},{"$f":"IF([LG]=\"N\",10,20)","v":10},{"$f":"IF([DIV]=\"E\",1,IF([DIV]=\"C\",2,3))","v":3},{"$f":"[LGS]+[DIVS]","v":13}]
[2009,"Billingsley, Chad","LAN","Los Angeles Dodgers",475000,33,32,196.33333333333334,6,4.03,1.3191850594227503,8.2054329371816639,7.9303904923599315,95,67,3.41,4420,1272,1265,7.7701357466063357,7.7273755656108598,1.2549773755656108,"NL-W",{"$f":"LEFT([League-Division],1)","v":"N"},{"$f":"RIGHT([League-Division],1)","v":"W"},{"$f":"IF([LG]=\"N\",10,20)","v":10},{"$f":"IF([DIV]=\"E\",1,IF([DIV]=\"C\",2,3))","v":3},{"$f":"[LGS]+[DIVS]","v":13}]
[2010,"Billingsley, Chad","LAN","Los Angeles Dodgers",3850000,31,31,191.66666666666666,-5,3.57,1.2782608695652176,8.0295652173913048,8.2643478260869578,80,82,4.01,4325,1274,1323,7.9532947976878612,8.259190751445086,1.2915606936416184,"NL-W",{"$f":"LEFT([League-Division],1)","v":"N"},{"$f":"RIGHT([League-Division],1)","v":"W"},{"$f":"IF([LG]=\"N\",10,20)","v":10},{"$f":"IF([DIV]=\"E\",1,IF([DIV]=\"C\",2,3))","v":3},{"$f":"[LGS]+[DIVS]","v":13}]
[2008,"Birkins, Kurt","TBA","Tampa Bay Rays",397600,6,0,10,2,0.9,1,6.3,4.5,97,65,3.82,4373,1143,1349,7.0571689915389895,8.3290647152984221,1.2863023096272581,"AL-E",{"$f":"LEFT([League-Division],1)","v":"A"},{"$f":"RIGHT([League-Division],1)","v":"E"},{"$f":"IF([LG]=\"N\",10,20)","v":20},{"$f":"IF([DIV]=\"E\",1,IF([DIV]=\"C\",2,3))","v":1},{"$f":"[LGS]+[DIVS]","v":21}]
[2007,"Bisenius, Joseph","PHI","Philadelphia Phillies",380000,2,0,2,1,0,2,13.5,9,89,73,4.7300000000000004,4375,1050,1555,6.48,9.5965714285714281,1.4489142857142858,"NL-E",{"$f":"LEFT([League-Division],1)","v":"N"},{"$f":"RIGHT([League-Division],1)","v":"E"},{"$f":"IF([LG]=\"N\",10,20)","v":10},{"$f":"IF([DIV]=\"E\",1,IF([DIV]=\"C\",2,3))","v":1},{"$f":"[LGS]+[DIVS]","v":11}]
[1995,"Black, Bud","CLE","Cleveland Indians",350000,11,10,47.333333333333336,-29,6.85,1.6690140845070423,6.464788732394366,11.97887323943662,100,44,3.83,3903,926,1261,6.4058416602613368,8.7232897770945428,1.3112990007686396,"AL-C",{"$f":"LEFT([League-Division],1)","v":"A"},{"$f":"RIGHT([League-Division],1)","v":"C"},{"$f":"IF([LG]=\"N\",10,20)","v":20},{"$f":"IF([DIV]=\"E\",1,IF([DIV]=\"C\",2,3))","v":2},{"$f":"[LGS]+[DIVS]","v":22}]
[2008,"Blackburn, Nick","MIN","Minnesota Twins",390000,33,33,193.33333333333334,-128,4.05,1.3603448275862069,4.4689655172413794,10.427586206896551,88,75,4.18,4377,995,1568,6.1377655928718298,9.6723783413296776,1.3529814941740919,"AL-C",{"$f":"LEFT([League-Division],1)","v":"A"},{"$f":"RIGHT([League-Division],1)","v":"C"},{"$f":"IF([LG]=\"N\",10,20)","v":20},{"$f":"IF([DIV]=\"E\",1,IF([DIV]=\"C\",2,3))","v":2},{"$f":"[LGS]+[DIVS]","v":22}]
[2009,"Blackburn, Nick","MIN","Minnesota Twins",440000,33,33,205.66666666666666,-142,4.03,1.3662884927066452,4.2884927066450569,10.502431118314426,87,76,4.5,4359,1052,1542,6.5161734342739166,9.5512732278045416,1.381968341362698,"AL-C",{"$f":"LEFT([League-Division],1)","v":"A"},{"$f":"RIGHT([League-Division],1)","v":"C"},{"$f":"IF([LG]=\"N\",10,20)","v":20},{"$f":"IF([DIV]=\"E\",1,IF([DIV]=\"C\",2,3))","v":2},{"$f":"[LGS]+[DIVS]","v":22}]
[2010,"Blackburn, Nick","MIN","Minnesota Twins",750000,28,26,161,-126,5.42,1.4534161490683231,3.8012422360248448,10.844720496894411,94,68,3.95,4358,1048,1493,6.4928866452501142,9.2498852684717754,1.2914180816888481,"AL-C",{"$f":"LEFT([League-Division],1)","v":"A"},{"$f":"RIGHT([League-Division],1)","v":"C"},{"$f":"IF([LG]=\"N\",10,20)","v":20},{"$f":"IF([DIV]=\"E\",1,IF([DIV]=\"C\",2,3))","v":2},{"$f":"[LGS]+[DIVS]","v":22}]
[1995,"Blair, Willie","SDN","San Diego Padres",400000,40,12,114,-29,4.34,1.3771929824561404,6.552631578947369,8.8421052631578938,70,74,4.13,3852,1047,1242,7.3387850467289724,8.7056074766355138,1.3660436137071652,"NL-W",{"$f":"LEFT([League-Division],1)","v":"N"},{"$f":"RIGHT([League-Division],1)","v":"W"},{"$f":"IF([LG]=\"N\",10,20)","v":10},{"$f":"IF([DIV]=\"E\",1,IF([DIV]=\"C\",2,3))","v":3},{"$f":"[LGS]+[DIVS]","v":13}]
[1996,"Blair, Willie","SDN","San Diego Padres",750000,60,0,88,-13,4.5999999999999996,1.2386363636363635,6.8522727272727275,8.1818181818181817,91,71,3.73,4467,1194,1395,7.2169241101410337,8.4318334452652781,1.2766957689724647,"NL-W",{"$f":"LEFT([League-Division],1)","v":"N"},{"$f":"RIGHT([League-Division],1)","v":"W"},{"$f":"IF([LG]=\"N\",10,20)","v":10},{"$f":"IF([DIV]=\"E\",1,IF([DIV]=\"C\",2,3))","v":3},{"$f":"[LGS]+[DIVS]","v":13}]
[1997,"Blair, Willie","DET","Detroit Tigers",800000,29,27,175,-96,4.17,1.3257142857142856,4.6285714285714281,9.5657142857142858,79,83,4.5599999999999996,4335,982,1476,6.1162629757785467,9.1930795847750879,1.4034602076124567,"AL-E",{"$f":"LEFT([League-Division],1)","v":"A"},{"$f":"RIGHT([League-Division],1)","v":"E"},{"$f":"IF([LG]=\"N\",10,20)","v":20},{"$f":"IF([DIV]=\"E\",1,IF([DIV]=\"C\",2,3))","v":1},{"$f":"[LGS]+[DIVS]","v":21}]
[1998,"Blair, Willie","ARI","Arizona Diamondbacks",3250000,23,23,146.66666666666666,-94,5.34,1.4727272727272729,4.3568181818181824,10.125,65,97,4.6399999999999997,4296,908,1463,5.7067039106145252,9.1948324022346366,1.3631284916201116,"NL-W",{"$f":"LEFT([League-Division],1)","v":"N"},{"$f":"RIGHT([League-Division],1)","v":"W"},{"$f":"IF([LG]=\"N\",10,20)","v":10},{"$f":"IF([DIV]=\"E\",1,IF([DIV]=\"C\",2,3))","v":3},{"$f":"[LGS]+[DIVS]","v":13}]
[1998,"Blair, Willie","NYN","New York Mets",3250000,11,2,28.666666666666668,-2,3.14,1.1511627906976745,6.5930232558139537,7.220930232558139,88,74,3.77,4374,1129,1381,6.9691358024691361,8.5246913580246915,1.312071330589849,"NL-E",{"$f":"LEFT([League-Division],1)","v":"N"},{"$f":"RIGHT([League-Division],1)","v":"E"},{"$f":"IF([LG]=\"N\",10,20)","v":10},{"$f":"IF([DIV]=\"E\",1,IF([DIV]=\"C\",2,3))","v":1},{"$f":"[LGS]+[DIVS]","v":11}]
[1999,"Blair, Willie","DET","Detroit Tigers",3750000,39,16,134,-87,6.85,1.5895522388059702,5.5074626865671643,11.350746268656716,69,92,5.18,4261,976,1528,6.1844637409058913,9.6822342173198788,1.4862708284440274,"AL-C",{"$f":"LEFT([League-Division],1)","v":"A"},{"$f":"RIGHT([League-Division],1)","v":"C"},{"$f":"IF([LG]=\"N\",10,20)","v":20},{"$f":"IF([DIV]=\"E\",1,IF([DIV]=\"C\",2,3))","v":2},{"$f":"[LGS]+[DIVS]","v":22}]
[2000,"Blair, Willie","DET","Detroit Tigers",4500000,47,17,156.66666666666666,-111,4.88,1.4042553191489362,4.2510638297872338,10.627659574468087,79,83,4.71,4329,978,1583,6.0997920997920998,9.873180873180873,1.4407484407484408,"AL-C",{"$f":"LEFT([League-Division],1)","v":"A"},{"$f":"RIGHT([League-Division],1)","v":"C"},{"$f":"IF([LG]=\"N\",10,20)","v":20},{"$f":"IF([DIV]=\"E\",1,IF([DIV]=\"C\",2,3))","v":2},{"$f":"[LGS]+[DIVS]","v":22}]
[2000,"Blank, Matt","MON","Montreal Expos",200000,13,0,14,-8,5.14,1.2142857142857142,2.5714285714285712,7.7142857142857135,67,95,5.13,4273,1011,1575,6.3882518137140183,9.952024338871988,1.5122864498010766,"NL-E",{"$f":"LEFT([League-Division],1)","v":"N"},{"$f":"RIGHT([League-Division],1)","v":"E"},{"$f":"IF([LG]=\"N\",10,20)","v":10},{"$f":"IF([DIV]=\"E\",1,IF([DIV]=\"C\",2,3))","v":1},{"$f":"[LGS]+[DIVS]","v":11}]
[2005,"Blanton, Joe","OAK","Oakland Athletics",316500,33,33,201.33333333333334,-62,3.53,1.2168874172185431,5.1854304635761581,7.9569536423841054,88,74,3.69,4351,1075,1315,6.6708802574120902,8.1601930590668807,1.2541944380602161,"AL-W",{"$f":"LEFT([League-Division],1)","v":"A"},{"$f":"RIGHT([League-Division],1)","v":"W"},{"$f":"IF([LG]=\"N\",10,20)","v":20},{"$f":"IF([DIV]=\"E\",1,IF([DIV]=\"C\",2,3))","v":3},{"$f":"[LGS]+[DIVS]","v":23}]
[2006,"Blanton, Joe","OAK","Oakland Athletics",327000,32,31,194.33333333333334,-134,4.82,1.5385934819897082,4.9554030874785582,11.161234991423671,93,69,4.21,4355,1003,1525,6.2183696900114809,9.4546498277841557,1.4149253731343283,"AL-W",{"$f":"LEFT([League-Division],1)","v":"A"},{"$f":"RIGHT([League-Division],1)","v":"W"},{"$f":"IF([LG]=\"N\",10,20)","v":20},{"$f":"IF([DIV]=\"E\",1,IF([DIV]=\"C\",2,3))","v":3},{"$f":"[LGS]+[DIVS]","v":23}]
[2007,"Blanton, Joe","OAK","Oakland Athletics",380000,34,34,230,-100,3.95,1.2173913043478262,5.4782608695652177,9.391304347826086,76,86,4.28,4344,1036,1468,6.4392265193370166,9.124309392265193,1.3798342541436464,"AL-W",{"$f":"LEFT([League-Division],1)","v":"A"},{"$f":"RIGHT([League-Division],1)","v":"W"},{"$f":"IF([LG]=\"N\",10,20)","v":20},{"$f":"IF([DIV]=\"E\",1,IF([DIV]=\"C\",2,3))","v":3},{"$f":"[LGS]+[DIVS]","v":23}]
[2008,"Blanton, Joe","OAK","Oakland Athletics",3700000,20,20,127,-83,4.96,1.4173228346456692,4.393700787401575,10.275590551181102,75,86,4.01,4305,1061,1364,6.6543554006968648,8.5547038327526135,1.3519163763066202,"AL-W",{"$f":"LEFT([League-Division],1)","v":"A"},{"$f":"RIGHT([League-Division],1)","v":"W"},{"$f":"IF([LG]=\"N\",10,20)","v":20},{"$f":"IF([DIV]=\"E\",1,IF([DIV]=\"C\",2,3))","v":3},{"$f":"[LGS]+[DIVS]","v":23}]
[2008,"Blanton, Joe","PHI","Philadelphia Phillies",3700000,13,13,70.666666666666671,-17,4.2,1.3726415094339621,6.2405660377358485,8.4056603773584904,92,70,3.89,4349,1081,1444,6.7111979765463321,8.9648194987353413,1.3637617843182339,"NL-E",{"$f":"LEFT([League-Division],1)","v":"N"},{"$f":"RIGHT([League-Division],1)","v":"E"},{"$f":"IF([LG]=\"N\",10,20)","v":10},{"$f":"IF([DIV]=\"E\",1,IF([DIV]=\"C\",2,3))","v":1},{"$f":"[LGS]+[DIVS]","v":11}]
[2009,"Blanton, Joe","PHI","Philadelphia Phillies",5475000,31,31,195.33333333333334,-35,4.05,1.3156996587030716,7.5102389078498293,9.1228668941979514,93,69,4.16,4367,1153,1479,7.1286924662239519,9.1442637966567428,1.3519578658117701,"NL-E",{"$f":"LEFT([League-Division],1)","v":"N"},{"$f":"RIGHT([League-Division],1)","v":"E"},{"$f":"IF([LG]=\"N\",10,20)","v":10},{"$f":"IF([DIV]=\"E\",1,IF([DIV]=\"C\",2,3))","v":1},{"$f":"[LGS]+[DIVS]","v":11}]
[2010,"Blanton, Joe","PHI","Philadelphia Phillies",3000000,29,28,175.66666666666666,-72,4.82,1.4174573055028463,6.8652751423149905,10.554079696394687,97,65,3.68,4369,1183,1402,7.3108262760357059,8.6642252231631947,1.2483405813687343,"NL-E",{"$f":"LEFT([League-Division],1)","v":"N"},{"$f":"RIGHT([League-Division],1)","v":"E"},{"$f":"IF([LG]=\"N\",10,20)","v":10},{"$f":"IF([DIV]=\"E\",1,IF([DIV]=\"C\",2,3))","v":1},{"$f":"[LGS]+[DIVS]","v":11}]
[1997,"Blazier, Ron","PHI","Philadelphia Phillies",150000,36,0,53.666666666666664,-20,5.03,1.5465838509316772,7.0434782608695654,10.39751552795031,68,94,4.87,4260,1209,1441,7.6626760563380278,9.133098591549297,1.4485915492957746,"NL-E",{"$f":"LEFT([League-Division],1)","v":"N"},{"$f":"RIGHT([League-Division],1)","v":"E"},{"$f":"IF([LG]=\"N\",10,20)","v":10},{"$f":"IF([DIV]=\"E\",1,IF([DIV]=\"C\",2,3))","v":1},{"$f":"[LGS]+[DIVS]","v":11}]
[2009,"Blevins, Jerry","OAK","Oakland Athletics",405000,20,0,22.333333333333332,4,4.84,1.119402985074627,9.2686567164179117,7.6567164179104479,75,87,4.29,4342,1124,1486,6.9894058037770614,9.2404421925380014,1.3880700138185169,"AL-W",{"$f":"LEFT([League-Division],1)","v":"A"},{"$f":"RIGHT([League-Division],1)","v":"W"},{"$f":"IF([LG]=\"N\",10,20)","v":20},{"$f":"IF([DIV]=\"E\",1,IF([DIV]=\"C\",2,3))","v":3},{"$f":"[LGS]+[DIVS]","v":23}]
[2010,"Blevins, Jerry","OAK","Oakland Athletics",405000,63,0,48.666666666666664,-8,3.7,1.4794520547945207,8.506849315068493,9.9863013698630141,81,81,3.58,4295,1070,1315,6.7264260768335271,8.2665890570430722,1.2761350407450522,"AL-W",{"$f":"LEFT([League-Division],1)","v":"A"},{"$f":"RIGHT([League-Division],1)","v":"W"},{"$f":"IF([LG]=\"N\",10,20)","v":20},{"$f":"IF([DIV]=\"E\",1,IF([DIV]=\"C\",2,3))","v":3},{"$f":"[LGS]+[DIVS]","v":23}]
[1996,"Bluma, Jaime","KCA","Kansas City Royals",109000,17,0,20,-4,3.6,1.1000000000000001,6.3,8.1,75,86,4.55,4350,926,1563,5.7475862068965515,9.7013793103448283,1.3951724137931034,"AL-C",{"$f":"LEFT([League-Division],1)","v":"A"},{"$f":"RIGHT([League-Division],1)","v":"C"},{"$f":"IF([LG]=\"N\",10,20)","v":20},{"$f":"IF([DIV]=\"E\",1,IF([DIV]=\"C\",2,3))","v":2},{"$f":"[LGS]+[DIVS]","v":22}]
[1995,"Bochtler, Doug","SDN","San Diego Padres",109000,34,0,45.333333333333336,7,3.57,1.2573529411764706,8.9338235294117645,7.5441176470588225,70,74,4.13,3852,1047,1242,7.3387850467289724,8.7056074766355138,1.3660436137071652,"NL-W",{"$f":"LEFT([League-Division],1)","v":"N"},{"$f":"RIGHT([League-Division],1)","v":"W"},{"$f":"IF([LG]=\"N\",10,20)","v":10},{"$f":"IF([DIV]=\"E\",1,IF([DIV]=\"C\",2,3))","v":3},{"$f":"[LGS]+[DIVS]","v":13}]
[1996,"Bochtler, Doug","SDN","San Diego Padres",145000,63,0,65.666666666666671,23,3.02,1.2791878172588831,9.3197969543147217,6.1675126903553297,91,71,3.73,4467,1194,1395,7.2169241101410337,8.4318334452652781,1.2766957689724647,"NL-W",{"$f":"LEFT([League-Division],1)","v":"N"},{"$f":"RIGHT([League-Division],1)","v":"W"},{"$f":"IF([LG]=\"N\",10,20)","v":10},{"$f":"IF([DIV]=\"E\",1,IF([DIV]=\"C\",2,3))","v":3},{"$f":"[LGS]+[DIVS]","v":13}]
[1997,"Bochtler, Doug","SDN","San Diego Padres",250000,54,0,60.333333333333336,-5,4.7699999999999996,1.6740331491712706,6.8618784530386732,7.6077348066298338,76,86,4.99,4350,1059,1581,6.5731034482758623,9.8131034482758626,1.5013793103448276,"NL-W",{"$f":"LEFT([League-Division],1)","v":"N"},{"$f":"RIGHT([League-Division],1)","v":"W"},{"$f":"IF([LG]=\"N\",10,20)","v":10},{"$f":"IF([DIV]=\"E\",1,IF([DIV]=\"C\",2,3))","v":3},{"$f":"[LGS]+[DIVS]","v":13}]
[1998,"Bochtler, Doug","DET","Detroit Tigers",287500,51,0,67.333333333333329,-28,6.15,1.7079207920792081,6.0148514851485153,9.7574257425742577,65,97,4.93,4338,947,1551,5.894190871369295,9.6535269709543563,1.4840940525587829,"AL-C",{"$f":"LEFT([League-Division],1)","v":"A"},{"$f":"RIGHT([League-Division],1)","v":"C"},{"$f":"IF([LG]=\"N\",10,20)","v":20},{"$f":"IF([DIV]=\"E\",1,IF([DIV]=\"C\",2,3))","v":2},{"$f":"[LGS]+[DIVS]","v":22}]
[1995,"Boehringer, Brian","NYA","New York Yankees",109000,7,3,17.666666666666668,-14,13.75,2.6037735849056602,5.0943396226415096,12.226415094339622,79,65,4.5599999999999996,3852,908,1286,6.3644859813084107,9.0140186915887845,1.4182242990654206,"AL-E",{"$f":"LEFT([League-Division],1)","v":"A"},{"$f":"RIGHT([League-Division],1)","v":"E"},{"$f":"IF([LG]=\"N\",10,20)","v":20},{"$f":"IF([DIV]=\"E\",1,IF([DIV]=\"C\",2,3))","v":1},{"$f":"[LGS]+[DIVS]","v":21}]
[1997,"Boehringer, Brian","NYA","New York Yankees",161100,34,0,48,14,2.63,1.4791666666666667,9.9375,7.3125,96,66,3.84,4401,1165,1463,7.1472392638036801,8.9754601226993866,1.359918200408998,"AL-E",{"$f":"LEFT([League-Division],1)","v":"A"},{"$f":"RIGHT([League-Division],1)","v":"E"},{"$f":"IF([LG]=\"N\",10,20)","v":20},{"$f":"IF([DIV]=\"E\",1,IF([DIV]=\"C\",2,3))","v":1},{"$f":"[LGS]+[DIVS]","v":21}]
[1998,"Boehringer, Brian","SDN","San Diego Padres",230000,56,1,76.333333333333329,-8,4.3600000000000003,1.572052401746725,7.8995633187772931,8.8427947598253276,98,64,3.63,4363,1217,1384,7.5312858125143256,8.5647490258996104,1.2961265184506074,"NL-W",{"$f":"LEFT([League-Division],1)","v":"N"},{"$f":"RIGHT([League-Division],1)","v":"W"},{"$f":"IF([LG]=\"N\",10,20)","v":10},{"$f":"IF([DIV]=\"E\",1,IF([DIV]=\"C\",2,3))","v":3},{"$f":"[LGS]+[DIVS]","v":13}]
[1999,"Boehringer, Brian","SDN","San Diego Padres",275000,33,11,94.333333333333329,-33,3.24,1.3992932862190814,6.1060070671378099,9.2544169611307421,74,88,4.47,4260,1078,1454,6.8323943661971827,9.2154929577464788,1.3964788732394366,"NL-W",{"$f":"LEFT([League-Division],1)","v":"N"},{"$f":"RIGHT([League-Division],1)","v":"W"},{"$f":"IF([LG]=\"N\",10,20)","v":10},{"$f":"IF([DIV]=\"E\",1,IF([DIV]=\"C\",2,3))","v":3},{"$f":"[LGS]+[DIVS]","v":13}]
[2000,"Boehringer, Brian","SDN","San Diego Padres",830000,7,3,15.666666666666666,-9,5.74,1.7872340425531916,5.1702127659574471,10.340425531914894,76,86,4.5199999999999996,4377,1071,1443,6.6065798492117889,8.901302261823167,1.4338588074023304,"NL-W",{"$f":"LEFT([League-Division],1)","v":"N"},{"$f":"RIGHT([League-Division],1)","v":"W"},{"$f":"IF([LG]=\"N\",10,20)","v":10},{"$f":"IF([DIV]=\"E\",1,IF([DIV]=\"C\",2,3))","v":3},{"$f":"[LGS]+[DIVS]","v":13}]
[2001,"Boehringer, Brian","SFN","San Francisco Giants",350000,29,0,34.333333333333336,-5,4.1900000000000004,1.4271844660194173,7.0776699029126213,8.3883495145631066,90,72,4.18,4390,1080,1437,6.642369020501139,8.8380410022779046,1.3776765375854214,"NL-W",{"$f":"LEFT([League-Division],1)","v":"N"},{"$f":"RIGHT([League-Division],1)","v":"W"},{"$f":"IF([LG]=\"N\",10,20)","v":10},{"$f":"IF([DIV]=\"E\",1,IF([DIV]=\"C\",2,3))","v":3},{"$f":"[LGS]+[DIVS]","v":13}]
[2001,"Boehringer, Brian","NYA","New York Yankees",350000,22,0,34.666666666666664,-2,3.12,1.3557692307692308,8.5673076923076934,9.0865384615384617,95,65,4.0199999999999996,4354,1266,1429,7.8507119889756547,8.8615066605420303,1.3050068902158936,"AL-E",{"$f":"LEFT([League-Division],1)","v":"A"},{"$f":"RIGHT([League-Division],1)","v":"E"},{"$f":"IF([LG]=\"N\",10,20)","v":20},{"$f":"IF([DIV]=\"E\",1,IF([DIV]=\"C\",2,3))","v":1},{"$f":"[LGS]+[DIVS]","v":21}]
[2002,"Boehringer, Brian","PIT","Pittsburgh Pirates",675000,70,0,79.666666666666671,0,3.39,1.2301255230125523,7.3430962343096233,7.3430962343096233,72,89,4.2300000000000004,4238,920,1447,5.8612553091080688,9.2187352524775825,1.4292118924020765,"NL-C",{"$f":"LEFT([League-Division],1)","v":"N"},{"$f":"RIGHT([League-Division],1)","v":"C"},{"$f":"IF([LG]=\"N\",10,20)","v":10},{"$f":"IF([DIV]=\"E\",1,IF([DIV]=\"C\",2,3))","v":2},{"$f":"[LGS]+[DIVS]","v":12}]
[2003,"Boehringer, Brian","PIT","Pittsburgh Pirates",1500000,62,0,62.333333333333336,-17,5.49,1.5080213903743316,6.786096256684492,9.2406417112299462,75,87,4.6399999999999997,4333,926,1527,5.7701361643203324,9.5151165474267252,1.404800369259174,"NL-C",{"$f":"LEFT([League-Division],1)","v":"N"},{"$f":"RIGHT([League-Division],1)","v":"C"},{"$f":"IF([LG]=\"N\",10,20)","v":10},{"$f":"IF([DIV]=\"E\",1,IF([DIV]=\"C\",2,3))","v":2},{"$f":"[LGS]+[DIVS]","v":12}]
[2004,"Boehringer, Brian","PIT","Pittsburgh Pirates",2000000,21,0,25.333333333333332,-7,4.62,1.736842105263158,7.1052631578947372,9.5921052631578956,72,89,4.29,4284,1079,1451,6.8004201680672267,9.1449579831932759,1.419467787114846,"NL-C",{"$f":"LEFT([League-Division],1)","v":"N"},{"$f":"RIGHT([League-Division],1)","v":"C"},{"$f":"IF([LG]=\"N\",10,20)","v":10},{"$f":"IF([DIV]=\"E\",1,IF([DIV]=\"C\",2,3))","v":2},{"$f":"[LGS]+[DIVS]","v":12}]
[1995,"Boever, Joe","DET","Detroit Tigers",600000,60,0,98.666666666666671,-57,6.39,1.7432432432432432,6.4763513513513509,11.675675675675674,60,84,5.49,3825,729,1509,5.145882352941177,10.651764705882353,1.6039215686274511,"AL-E",{"$f":"LEFT([League-Division],1)","v":"A"},{"$f":"RIGHT([League-Division],1)","v":"E"},{"$f":"IF([LG]=\"N\",10,20)","v":20},{"$f":"IF([DIV]=\"E\",1,IF([DIV]=\"C\",2,3))","v":1},{"$f":"[LGS]+[DIVS]","v":21}]
[2000,"Bogar, Tim","HOU","Houston Astros",700000,2,0,2,-1,4.5,1.5,4.5,9,72,90,5.41,4312,1064,1596,6.6623376623376629,9.9935064935064943,1.5264378478664193,"NL-C",{"$f":"LEFT([League-Division],1)","v":"N"},{"$f":"RIGHT([League-Division],1)","v":"C"},{"$f":"IF([LG]=\"N\",10,20)","v":10},{"$f":"IF([DIV]=\"E\",1,IF([DIV]=\"C\",2,3))","v":2},{"$f":"[LGS]+[DIVS]","v":12}]
[2010,"Boggs, Mitchell","SLN","St. Louis Cardinals",402000,61,0,67.333333333333329,-8,3.61,1.2920792079207921,6.9504950495049505,8.0198019801980198,86,76,3.57,4361,1094,1412,6.7732171520293507,8.7420316441183203,1.2994725980279751,"NL-C",{"$f":"LEFT([League-Division],1)","v":"N"},{"$f":"RIGHT([League-Division],1)","v":"C"},{"$f":"IF([LG]=\"N\",10,20)","v":10},{"$f":"IF([DIV]=\"E\",1,IF([DIV]=\"C\",2,3))","v":2},{"$f":"[LGS]+[DIVS]","v":12}]
[1997,"Boggs, Wade","NYA","New York Yankees",2000000,1,0,1,1,0,1,9,0,96,66,3.84,4401,1165,1463,7.1472392638036801,8.9754601226993866,1.359918200408998,"AL-E",{"$f":"LEFT([League-Division],1)","v":"A"},{"$f":"RIGHT([League-Division],1)","v":"E"},{"$f":"IF([LG]=\"N\",10,20)","v":20},{"$f":"IF([DIV]=\"E\",1,IF([DIV]=\"C\",2,3))","v":1},{"$f":"[LGS]+[DIVS]","v":21}]
[1999,"Boggs, Wade","TBA","Tampa Bay Devil Rays",750000,1,0,1.3333333333333333,-2,6.75,2.25,6.75,20.25,69,93,5.0599999999999996,4297,1055,1606,6.6290435187340009,10.091226437049105,1.6064696299744008,"AL-E",{"$f":"LEFT([League-Division],1)","v":"A"},{"$f":"RIGHT([League-Division],1)","v":"E"},{"$f":"IF([LG]=\"N\",10,20)","v":20},{"$f":"IF([DIV]=\"E\",1,IF([DIV]=\"C\",2,3))","v":1},{"$f":"[LGS]+[DIVS]","v":21}]
[1995,"Bohanon, Brian","DET","Detroit Tigers",185000,52,10,105.66666666666667,-58,5.54,1.5331230283911672,5.3659305993690847,10.305993690851736,60,84,5.49,3825,729,1509,5.145882352941177,10.651764705882353,1.6039215686274511,"AL-E",{"$f":"LEFT([League-Division],1)","v":"A"},{"$f":"RIGHT([League-Division],1)","v":"E"},{"$f":"IF([LG]=\"N\",10,20)","v":20},{"$f":"IF([DIV]=\"E\",1,IF([DIV]=\"C\",2,3))","v":1},{"$f":"[LGS]+[DIVS]","v":21}]
[1996,"Bohanon, Brian","TOR","Toronto Blue Jays",185000,20,0,22,-10,7.77,2.0909090909090908,6.9545454545454541,11.045454545454545,74,88,4.58,4335,1033,1476,6.4339100346020759,9.1930795847750879,1.4435986159169549,"AL-E",{"$f":"LEFT([League-Division],1)","v":"A"},{"$f":"RIGHT([League-Division],1)","v":"E"},{"$f":"IF([LG]=\"N\",10,20)","v":20},{"$f":"IF([DIV]=\"E\",1,IF([DIV]=\"C\",2,3))","v":1},{"$f":"[LGS]+[DIVS]","v":21}]
[1997,"Bohanon, Brian","NYN","New York Mets",205000,19,14,94.333333333333329,-29,3.82,1.3674911660777387,6.2968197879858661,9.063604240282686,88,74,3.95,4377,982,1452,6.0575736806031522,8.956819739547635,1.3406442769019877,"NL-E",{"$f":"LEFT([League-Division],1)","v":"N"},{"$f":"RIGHT([League-Division],1)","v":"E"},{"$f":"IF([LG]=\"N\",10,20)","v":10},{"$f":"IF([DIV]=\"E\",1,IF([DIV]=\"C\",2,3))","v":1},{"$f":"[LGS]+[DIVS]","v":11}]
[1998,"Bohanon, Brian","NYN","New York Mets",350000,25,4,54.333333333333336,-8,3.15,1.2515337423312882,6.4601226993865026,7.7852760736196318,88,74,3.77,4374,1129,1381,6.9691358024691361,8.5246913580246915,1.312071330589849,"NL-E",{"$f":"LEFT([League-Division],1)","v":"N"},{"$f":"RIGHT([League-Division],1)","v":"E"},{"$f":"IF([LG]=\"N\",10,20)","v":10},{"$f":"IF([DIV]=\"E\",1,IF([DIV]=\"C\",2,3))","v":1},{"$f":"[LGS]+[DIVS]","v":11}]
[1998,"Bohanon, Brian","LAN","Los Angeles Dodgers",350000,14,14,97.333333333333329,-2,2.4,1.1301369863013699,6.6575342465753433,6.8424657534246576,83,79,3.81,4341,1178,1332,7.3268832066344167,8.2847270214236346,1.3261921216309607,"NL-W",{"$f":"LEFT([League-Division],1)","v":"N"},{"$f":"RIGHT([League-Division],1)","v":"W"},{"$f":"IF([LG]=\"N\",10,20)","v":10},{"$f":"IF([DIV]=\"E\",1,IF([DIV]=\"C\",2,3))","v":3},{"$f":"[LGS]+[DIVS]","v":13}]
[1999,"Bohanon, Brian","COL","Colorado Rockies",2110000,33,33,197.33333333333334,-116,6.2,1.6621621621621621,5.4729729729729728,10.763513513513512,72,90,6.02,4285,1032,1700,6.5026837806301057,10.711785297549593,1.7061843640606769,"NL-W",{"$f":"LEFT([League-Division],1)","v":"N"},{"$f":"RIGHT([League-Division],1)","v":"W"},{"$f":"IF([LG]=\"N\",10,20)","v":10},{"$f":"IF([DIV]=\"E\",1,IF([DIV]=\"C\",2,3))","v":3},{"$f":"[LGS]+[DIVS]","v":13}]
[2000,"Bohanon, Brian","COL","Colorado Rockies",3000000,34,26,177,-83,4.68,1.4689265536723164,4.9830508474576272,9.203389830508474,82,80,5.26,4290,1001,1568,6.3,9.8685314685314687,1.5076923076923077,"NL-W",{"$f":"LEFT([League-Division],1)","v":"N"},{"$f":"RIGHT([League-Division],1)","v":"W"},{"$f":"IF([LG]=\"N\",10,20)","v":10},{"$f":"IF([DIV]=\"E\",1,IF([DIV]=\"C\",2,3))","v":3},{"$f":"[LGS]+[DIVS]","v":13}]
[2001,"Bohanon, Brian","COL","Colorado Rockies",4000000,20,19,97,-80,7.14,1.7938144329896908,4.3608247422680408,11.783505154639176,73,89,5.29,4290,1058,1522,6.6587412587412587,9.5790209790209779,1.4825174825174825,"NL-W",{"$f":"LEFT([League-Division],1)","v":"N"},{"$f":"RIGHT([League-Division],1)","v":"W"},{"$f":"IF([LG]=\"N\",10,20)","v":10},{"$f":"IF([DIV]=\"E\",1,IF([DIV]=\"C\",2,3))","v":3},{"$f":"[LGS]+[DIVS]","v":13}]
[2003,"Bonderman, Jeremy","DET","Detroit Tigers",300000,33,28,162,-85,5.56,1.5493827160493827,6,10.722222222222221,43,119,5.3,4316,764,1616,4.7794253938832254,10.109360518999074,1.5104263206672845,"AL-C",{"$f":"LEFT([League-Division],1)","v":"A"},{"$f":"RIGHT([League-Division],1)","v":"C"},{"$f":"IF([LG]=\"N\",10,20)","v":20},{"$f":"IF([DIV]=\"E\",1,IF([DIV]=\"C\",2,3))","v":2},{"$f":"[LGS]+[DIVS]","v":22}]
[2004,"Bonderman, Jeremy","DET","Detroit Tigers",330000,33,32,184,0,4.8899999999999997,1.3097826086956521,8.2173913043478262,8.2173913043478262,72,90,4.93,4319,995,1542,6.2201898587636029,9.6397314193100261,1.439222042139384,"AL-C",{"$f":"LEFT([League-Division],1)","v":"A"},{"$f":"RIGHT([League-Division],1)","v":"C"},{"$f":"IF([LG]=\"N\",10,20)","v":20},{"$f":"IF([DIV]=\"E\",1,IF([DIV]=\"C\",2,3))","v":2},{"$f":"[LGS]+[DIVS]","v":22}]
[2005,"Bonderman, Jeremy","DET","Detroit Tigers",400000,29,29,189,-54,4.57,1.3544973544973544,6.9047619047619051,9.4761904761904781,71,91,4.51,4307,907,1504,5.6858602275365673,9.4283724169955878,1.3687021128395633,"AL-C",{"$f":"LEFT([League-Division],1)","v":"A"},{"$f":"RIGHT([League-Division],1)","v":"C"},{"$f":"IF([LG]=\"N\",10,20)","v":20},{"$f":"IF([DIV]=\"E\",1,IF([DIV]=\"C\",2,3))","v":2},{"$f":"[LGS]+[DIVS]","v":22}]
[2006,"Bonderman, Jeremy","DET","Detroit Tigers",2300000,34,34,214,-12,4.08,1.2990654205607477,8.4953271028037385,9,95,67,3.84,4344,1003,1420,6.2341160220994478,8.8259668508287294,1.3183701657458564,"AL-C",{"$f":"LEFT([League-Division],1)","v":"A"},{"$f":"RIGHT([League-Division],1)","v":"C"},{"$f":"IF([LG]=\"N\",10,20)","v":20},{"$f":"IF([DIV]=\"E\",1,IF([DIV]=\"C\",2,3))","v":2},{"$f":"[LGS]+[DIVS]","v":22}]
[2007,"Bonderman, Jeremy","DET","Detroit Tigers",4500000,28,28,174.33333333333334,-48,5.01,1.3824091778202676,7.4856596558317392,9.9636711281070731,88,74,4.57,4342,1047,1498,6.5105941962229394,9.3150621833256562,1.426070935052971,"AL-C",{"$f":"LEFT([League-Division],1)","v":"A"},{"$f":"RIGHT([League-Division],1)","v":"C"},{"$f":"IF([LG]=\"N\",10,20)","v":20},{"$f":"IF([DIV]=\"E\",1,IF([DIV]=\"C\",2,3))","v":2},{"$f":"[LGS]+[DIVS]","v":22}]
[2008,"Bonderman, Jeremy","DET","Detroit Tigers",8500000,12,12,71.333333333333329,-31,4.29,1.5560747663551402,5.5514018691588793,9.4626168224299079,74,88,4.91,4335,991,1541,6.1723183391003458,9.5979238754325245,1.5121107266435987,"AL-C",{"$f":"LEFT([League-Division],1)","v":"A"},{"$f":"RIGHT([League-Division],1)","v":"C"},{"$f":"IF([LG]=\"N\",10,20)","v":20},{"$f":"IF([DIV]=\"E\",1,IF([DIV]=\"C\",2,3))","v":2},{"$f":"[LGS]+[DIVS]","v":22}]
[2009,"Bonderman, Jeremy","DET","Detroit Tigers",12500000,8,1,10.333333333333334,-11,8.7100000000000009,2.32258064516129,4.354838709677419,13.935483870967742,86,77,4.34,4341,1102,1449,6.8541810642709056,9.0124395300621973,1.4118866620594333,"AL-C",{"$f":"LEFT([League-Division],1)","v":"A"},{"$f":"RIGHT([League-Division],1)","v":"C"},{"$f":"IF([LG]=\"N\",10,20)","v":20},{"$f":"IF([DIV]=\"E\",1,IF([DIV]=\"C\",2,3))","v":2},{"$f":"[LGS]+[DIVS]","v":22}]
[2010,"Bonderman, Jeremy","DET","Detroit Tigers",12500000,30,29,171,-75,5.53,1.4444444444444444,5.8947368421052628,9.8421052631578938,81,81,4.3,4333,1056,1445,6.5801984768059087,9.0041541657050548,1.3722594045695824,"AL-C",{"$f":"LEFT([League-Division],1)","v":"A"},{"$f":"RIGHT([League-Division],1)","v":"C"},{"$f":"IF([LG]=\"N\",10,20)","v":20},{"$f":"IF([DIV]=\"E\",1,IF([DIV]=\"C\",2,3))","v":2},{"$f":"[LGS]+[DIVS]","v":22}]
[1995,"Bones, Ricky","ML4","Milwaukee Brewers",581945,32,31,200.33333333333334,-141,4.63,1.502495840266223,3.459234608985025,9.793677204658902,65,79,4.82,3858,699,1391,4.8919129082426123,9.7348367029548992,1.5505443234836702,"AL-C",{"$f":"LEFT([League-Division],1)","v":"A"},{"$f":"RIGHT([League-Division],1)","v":"C"},{"$f":"IF([LG]=\"N\",10,20)","v":20},{"$f":"IF([DIV]=\"E\",1,IF([DIV]=\"C\",2,3))","v":2},{"$f":"[LGS]+[DIVS]","v":22}]
[1996,"Bones, Ricky","ML4","Milwaukee Brewers",1425000,32,23,145,-111,5.83,1.6,3.6620689655172414,10.551724137931034,80,82,5.17,4341,846,1570,5.2619212163096067,9.7650310988251547,1.5238424326192122,"AL-C",{"$f":"LEFT([League-Division],1)","v":"A"},{"$f":"RIGHT([League-Division],1)","v":"C"},{"$f":"IF([LG]=\"N\",10,20)","v":20},{"$f":"IF([DIV]=\"E\",1,IF([DIV]=\"C\",2,3))","v":2},{"$f":"[LGS]+[DIVS]","v":22}]
[1996,"Bones, Ricky","NYA","New York Yankees",1425000,4,1,7,-10,14.14,2.8571428571428572,5.1428571428571423,18,92,70,4.6500000000000004,4320,1139,1469,7.1187499999999995,9.1812500000000004,1.4437500000000001,"AL-E",{"$f":"LEFT([League-Division],1)","v":"A"},{"$f":"RIGHT([League-Division],1)","v":"E"},{"$f":"IF([LG]=\"N\",10,20)","v":20},{"$f":"IF([DIV]=\"E\",1,IF([DIV]=\"C\",2,3))","v":1},{"$f":"[LGS]+[DIVS]","v":21}]
[1997,"Bones, Ricky","CIN","Cincinnati Reds",390000,9,2,17.666666666666668,-23,10.19,2.3773584905660377,4.0754716981132075,15.792452830188678,76,86,4.42,4347,1159,1408,7.1987577639751548,8.7453416149068328,1.3567977915804004,"NL-C",{"$f":"LEFT([League-Division],1)","v":"N"},{"$f":"RIGHT([League-Division],1)","v":"C"},{"$f":"IF([LG]=\"N\",10,20)","v":10},{"$f":"IF([DIV]=\"E\",1,IF([DIV]=\"C\",2,3))","v":2},{"$f":"[LGS]+[DIVS]","v":12}]
[1997,"Bones, Ricky","KCA","Kansas City Royals",390000,21,11,78.333333333333329,-66,5.97,1.6212765957446809,4.1361702127659576,11.719148936170214,67,94,4.71,4329,961,1530,5.9937629937629939,9.5426195426195424,1.4282744282744282,"AL-C",{"$f":"LEFT([League-Division],1)","v":"A"},{"$f":"RIGHT([League-Division],1)","v":"C"},{"$f":"IF([LG]=\"N\",10,20)","v":20},{"$f":"IF([DIV]=\"E\",1,IF([DIV]=\"C\",2,3))","v":2},{"$f":"[LGS]+[DIVS]","v":22}]
[1997,"Bones, Ricky","CIN","Cincinnati Reds",350000,9,2,17.666666666666668,-23,10.19,2.3773584905660377,4.0754716981132075,15.792452830188678,76,86,4.42,4347,1159,1408,7.1987577639751548,8.7453416149068328,1.3567977915804004,"NL-C",{"$f":"LEFT([League-Division],1)","v":"N"},{"$f":"RIGHT([League-Division],1)","v":"C"},{"$f":"IF([LG]=\"N\",10,20)","v":10},{"$f":"IF([DIV]=\"E\",1,IF([DIV]=\"C\",2,3))","v":2},{"$f":"[LGS]+[DIVS]","v":12}]
[1997,"Bones, Ricky","KCA","Kansas City Royals",350000,21,11,78.333333333333329,-66,5.97,1.6212765957446809,4.1361702127659576,11.719148936170214,67,94,4.71,4329,961,1530,5.9937629937629939,9.5426195426195424,1.4282744282744282,"AL-C",{"$f":"LEFT([League-Division],1)","v":"A"},{"$f":"RIGHT([League-Division],1)","v":"C"},{"$f":"IF([LG]=\"N\",10,20)","v":20},{"$f":"IF([DIV]=\"E\",1,IF([DIV]=\"C\",2,3))","v":2},{"$f":"[LGS]+[DIVS]","v":22}]
[1998,"Bones, Ricky","KCA","Kansas City Royals",400000,32,0,53.333333333333336,-11,3.04,1.3687499999999999,6.4125000000000005,8.2687499999999989,72,89,5.16,4308,999,1590,6.2611420612813378,9.9651810584958209,1.5027855153203342,"AL-C",{"$f":"LEFT([League-Division],1)","v":"A"},{"$f":"RIGHT([League-Division],1)","v":"C"},{"$f":"IF([LG]=\"N\",10,20)","v":20},{"$f":"IF([DIV]=\"E\",1,IF([DIV]=\"C\",2,3))","v":2},{"$f":"[LGS]+[DIVS]","v":22}]
[1999,"Bones, Ricky","BAL","Baltimore Orioles",800000,30,2,43.666666666666664,-33,5.98,1.7862595419847329,5.3587786259541987,12.160305343511451,78,84,4.7699999999999996,4305,982,1468,6.1588850174216025,9.2069686411149831,1.4738675958188154,"AL-E",{"$f":"LEFT([League-Division],1)","v":"A"},{"$f":"RIGHT([League-Division],1)","v":"E"},{"$f":"IF([LG]=\"N\",10,20)","v":20},{"$f":"IF([DIV]=\"E\",1,IF([DIV]=\"C\",2,3))","v":1},{"$f":"[LGS]+[DIVS]","v":21}]
[2001,"Bones, Ricky","FLO","Florida Marlins",800000,61,0,64,-30,5.0599999999999996,1.625,5.765625,9.984375,76,86,4.32,4314,1119,1397,7.0034770514603615,8.7433936022253125,1.4005563282336579,"NL-E",{"$f":"LEFT([League-Division],1)","v":"N"},{"$f":"RIGHT([League-Division],1)","v":"E"},{"$f":"IF([LG]=\"N\",10,20)","v":10},{"$f":"IF([DIV]=\"E\",1,IF([DIV]=\"C\",2,3))","v":1},{"$f":"[LGS]+[DIVS]","v":11}]
[2003,"Bong, Jung","ATL","Atlanta Braves",300000,44,0,57,-9,5.05,1.5263157894736843,7.4210526315789478,8.8421052631578938,101,61,4.0999999999999996,4369,992,1425,6.1304646372167548,8.8063630121309231,1.3595788509956512,"NL-E",{"$f":"LEFT([League-Division],1)","v":"N"},{"$f":"RIGHT([League-Division],1)","v":"E"},{"$f":"IF([LG]=\"N\",10,20)","v":10},{"$f":"IF([DIV]=\"E\",1,IF([DIV]=\"C\",2,3))","v":1},{"$f":"[LGS]+[DIVS]","v":11}]
[2001,"Bonilla, Bobby","SLN","St. Louis Cardinals",900000,1,0,1,-3,18,4,0,27,93,69,3.93,4306,1083,1389,6.7907570831398045,8.7094751509521604,1.334184858337204,"NL-C",{"$f":"LEFT([League-Division],1)","v":"N"},{"$f":"RIGHT([League-Division],1)","v":"C"},{"$f":"IF([LG]=\"N\",10,20)","v":10},{"$f":"IF([DIV]=\"E\",1,IF([DIV]=\"C\",2,3))","v":2},{"$f":"[LGS]+[DIVS]","v":12}]
[2009,"Bonine, Eddie","DET","Detroit Tigers",400000,10,4,34.333333333333336,-21,4.46,1.5145631067961165,4.9805825242718447,10.485436893203882,86,77,4.34,4341,1102,1449,6.8541810642709056,9.0124395300621973,1.4118866620594333,"AL-C",{"$f":"LEFT([League-Division],1)","v":"A"},{"$f":"RIGHT([League-Division],1)","v":"C"},{"$f":"IF([LG]=\"N\",10,20)","v":20},{"$f":"IF([DIV]=\"E\",1,IF([DIV]=\"C\",2,3))","v":2},{"$f":"[LGS]+[DIVS]","v":22}]
[2010,"Bonine, Eddie","DET","Detroit Tigers",404000,47,1,68,-58,4.63,1.5588235294117647,3.4411764705882351,11.117647058823529,81,81,4.3,4333,1056,1445,6.5801984768059087,9.0041541657050548,1.3722594045695824,"AL-C",{"$f":"LEFT([League-Division],1)","v":"A"},{"$f":"RIGHT([League-Division],1)","v":"C"},{"$f":"IF([LG]=\"N\",10,20)","v":20},{"$f":"IF([DIV]=\"E\",1,IF([DIV]=\"C\",2,3))","v":2},{"$f":"[LGS]+[DIVS]","v":22}]
[2007,"Bonser, Boof","MIN","Minnesota Twins",397500,31,30,173,-63,5.0999999999999996,1.5260115606936415,7.0751445086705207,10.352601156069365,79,83,4.1500000000000004,4310,1094,1505,6.8533642691415313,9.4280742459396745,1.339907192575406,"AL-C",{"$f":"LEFT([League-Division],1)","v":"A"},{"$f":"RIGHT([League-Division],1)","v":"C"},{"$f":"IF([LG]=\"N\",10,20)","v":20},{"$f":"IF([DIV]=\"E\",1,IF([DIV]=\"C\",2,3))","v":2},{"$f":"[LGS]+[DIVS]","v":22}]
[2008,"Bonser, Boof","MIN","Minnesota Twins",432500,47,12,118.33333333333333,-42,5.93,1.4788732394366197,7.3774647887323948,10.571830985915494,88,75,4.18,4377,995,1568,6.1377655928718298,9.6723783413296776,1.3529814941740919,"AL-C",{"$f":"LEFT([League-Division],1)","v":"A"},{"$f":"RIGHT([League-Division],1)","v":"C"},{"$f":"IF([LG]=\"N\",10,20)","v":20},{"$f":"IF([DIV]=\"E\",1,IF([DIV]=\"C\",2,3))","v":2},{"$f":"[LGS]+[DIVS]","v":22}]
[2010,"Bonser, Boof","BOS","Boston Red Sox",650000,2,0,2,-6,18,4,0,27,89,73,4.2,4370,1207,1402,7.457437070938215,8.6622425629290607,1.3606407322654461,"AL-E",{"$f":"LEFT([League-Division],1)","v":"A"},{"$f":"RIGHT([League-Division],1)","v":"E"},{"$f":"IF([LG]=\"N\",10,20)","v":20},{"$f":"IF([DIV]=\"E\",1,IF([DIV]=\"C\",2,3))","v":1},{"$f":"[LGS]+[DIVS]","v":21}]
[2010,"Bonser, Boof","OAK","Oakland Athletics",650000,13,0,23,-10,5.09,1.4347826086956521,6.6521739130434776,10.565217391304349,81,81,3.58,4295,1070,1315,6.7264260768335271,8.2665890570430722,1.2761350407450522,"AL-W",{"$f":"LEFT([League-Division],1)","v":"A"},{"$f":"RIGHT([League-Division],1)","v":"W"},{"$f":"IF([LG]=\"N\",10,20)","v":20},{"$f":"IF([DIV]=\"E\",1,IF([DIV]=\"C\",2,3))","v":3},{"$f":"[LGS]+[DIVS]","v":23}]
[2006,"Booker, Chris","KCA","Kansas City Royals",350000,1,0,1,-5,54,8,0,45,62,100,5.65,4279,904,1648,5.7041364804860955,10.398691283010049,1.6020098153774247,"AL-C",{"$f":"LEFT([League-Division],1)","v":"A"},{"$f":"RIGHT([League-Division],1)","v":"C"},{"$f":"IF([LG]=\"N\",10,20)","v":20},{"$f":"IF([DIV]=\"E\",1,IF([DIV]=\"C\",2,3))","v":2},{"$f":"[LGS]+[DIVS]","v":22}]
[2006,"Booker, Chris","WAS","Washington Nationals",350000,10,0,7.333333333333333,2,3.68,0.81818181818181823,8.5909090909090917,6.1363636363636367,71,91,5.03,4309,960,1535,6.0153167788349968,9.6182408911580417,1.4752842886980739,"NL-E",{"$f":"LEFT([League-Division],1)","v":"N"},{"$f":"RIGHT([League-Division],1)","v":"E"},{"$f":"IF([LG]=\"N\",10,20)","v":10},{"$f":"IF([DIV]=\"E\",1,IF([DIV]=\"C\",2,3))","v":1},{"$f":"[LGS]+[DIVS]","v":11}]
[2007,"Bootcheck, Chris","LAA","Los Angeles Angels of Anaheim",380000,51,0,77.333333333333329,-25,4.7699999999999996,1.3577586206896552,6.5172413793103452,9.4267241379310356,94,68,4.2300000000000004,4305,1156,1480,7.2501742160278742,9.2822299651567945,1.3637630662020905,"AL-W",{"$f":"LEFT([League-Division],1)","v":"A"},{"$f":"RIGHT([League-Division],1)","v":"W"},{"$f":"IF([LG]=\"N\",10,20)","v":20},{"$f":"IF([DIV]=\"E\",1,IF([DIV]=\"C\",2,3))","v":3},{"$f":"[LGS]+[DIVS]","v":23}]
[2008,"Bootcheck, Chris","LAA","Los Angeles Angels of Anaheim",415000,10,0,16,-16,10.130000000000001,2.625,7.875,16.875,100,62,4,4354,1106,1455,6.8585209003215439,9.0227377124483237,1.3174092788240699,"AL-W",{"$f":"LEFT([League-Division],1)","v":"A"},{"$f":"RIGHT([League-Division],1)","v":"W"},{"$f":"IF([LG]=\"N\",10,20)","v":20},{"$f":"IF([DIV]=\"E\",1,IF([DIV]=\"C\",2,3))","v":3},{"$f":"[LGS]+[DIVS]","v":23}]
[1995,"Borbon, Pedro","ATL","Atlanta Braves",111500,41,0,32,4,3.09,1.4375,9.28125,8.15625,90,54,3.44,3873,1087,1184,7.5778466305189776,8.25406661502711,1.254841208365608,"NL-E",{"$f":"LEFT([League-Division],1)","v":"N"},{"$f":"RIGHT([League-Division],1)","v":"E"},{"$f":"IF([LG]=\"N\",10,20)","v":10},{"$f":"IF([DIV]=\"E\",1,IF([DIV]=\"C\",2,3))","v":1},{"$f":"[LGS]+[DIVS]","v":11}]
[1996,"Borbon, Pedro","ATL","Atlanta Braves",142500,43,0,36,5,2.75,0.91666666666666663,7.75,6.5,96,66,3.54,4407,1245,1372,7.6276378488767866,8.4057181756296799,1.2409802586793737,"NL-E",{"$f":"LEFT([League-Division],1)","v":"N"},{"$f":"RIGHT([League-Division],1)","v":"E"},{"$f":"IF([LG]=\"N\",10,20)","v":10},{"$f":"IF([DIV]=\"E\",1,IF([DIV]=\"C\",2,3))","v":1},{"$f":"[LGS]+[DIVS]","v":11}]
[1999,"Borbon, Pedro","LAN","Los Angeles Dodgers",375000,70,0,50.666666666666664,-6,4.09,1.3421052631578947,5.8618421052631584,6.9276315789473681,77,85,4.45,4357,1077,1438,6.6740876750057385,8.9111774156529719,1.3991278402570577,"NL-W",{"$f":"LEFT([League-Division],1)","v":"N"},{"$f":"RIGHT([League-Division],1)","v":"W"},{"$f":"IF([LG]=\"N\",10,20)","v":10},{"$f":"IF([DIV]=\"E\",1,IF([DIV]=\"C\",2,3))","v":3},{"$f":"[LGS]+[DIVS]","v":13}]
[2000,"Borbon, Pedro","TOR","Toronto Blue Jays",800000,59,0,41.666666666666664,-16,6.48,1.9920000000000002,6.2640000000000002,9.7200000000000006,83,79,5.14,4311,978,1615,6.1252609603340291,10.11482254697286,1.5135699373695197,"AL-E",{"$f":"LEFT([League-Division],1)","v":"A"},{"$f":"RIGHT([League-Division],1)","v":"E"},{"$f":"IF([LG]=\"N\",10,20)","v":20},{"$f":"IF([DIV]=\"E\",1,IF([DIV]=\"C\",2,3))","v":1},{"$f":"[LGS]+[DIVS]","v":21}]
[2001,"Borbon, Pedro","TOR","Toronto Blue Jays",1500000,71,0,53.333333333333336,-3,3.71,1.125,7.59375,8.1,80,82,4.28,4388,1041,1553,6.4054238833181394,9.5558340929808558,1.3967639015496809,"AL-E",{"$f":"LEFT([League-Division],1)","v":"A"},{"$f":"RIGHT([League-Division],1)","v":"E"},{"$f":"IF([LG]=\"N\",10,20)","v":20},{"$f":"IF([DIV]=\"E\",1,IF([DIV]=\"C\",2,3))","v":1},{"$f":"[LGS]+[DIVS]","v":21}]
[2002,"Borbon, Pedro","TOR","Toronto Blue Jays",1650000,16,0,12.666666666666666,-1,4.97,1.4210526315789473,7.8157894736842106,8.526315789473685,78,84,4.8,4315,991,1504,6.2009269988412514,9.4108922363847061,1.4558516801853998,"AL-E",{"$f":"LEFT([League-Division],1)","v":"A"},{"$f":"RIGHT([League-Division],1)","v":"E"},{"$f":"IF([LG]=\"N\",10,20)","v":20},{"$f":"IF([DIV]=\"E\",1,IF([DIV]=\"C\",2,3))","v":1},{"$f":"[LGS]+[DIVS]","v":21}]
[2002,"Borbon, Pedro","HOU","Houston Astros",1650000,56,0,37.666666666666664,-2,5.5,1.5929203539823009,9.3185840707964616,9.7964601769911521,84,78,4,4335,1219,1423,7.5923875432525953,8.862975778546712,1.3626297577854671,"NL-C",{"$f":"LEFT([League-Division],1)","v":"N"},{"$f":"RIGHT([League-Division],1)","v":"C"},{"$f":"IF([LG]=\"N\",10,20)","v":10},{"$f":"IF([DIV]=\"E\",1,IF([DIV]=\"C\",2,3))","v":2},{"$f":"[LGS]+[DIVS]","v":12}]
[1999,"Borkowski, Dave","DET","Detroit Tigers",200000,17,12,76.666666666666671,-36,6.1,1.6434782608695651,5.8695652173913047,10.095652173913043,69,92,5.18,4261,976,1528,6.1844637409058913,9.6822342173198788,1.4862708284440274,"AL-C",{"$f":"LEFT([League-Division],1)","v":"A"},{"$f":"RIGHT([League-Division],1)","v":"C"},{"$f":"IF([LG]=\"N\",10,20)","v":20},{"$f":"IF([DIV]=\"E\",1,IF([DIV]=\"C\",2,3))","v":2},{"$f":"[LGS]+[DIVS]","v":22}]
[2007,"Borkowski, Dave","HOU","Houston Astros",575000,64,0,71.666666666666671,-13,5.15,1.5348837209302324,7.9116279069767437,9.5441860465116264,73,89,4.68,4394,1109,1566,6.8145197997268996,9.6226672735548462,1.417387346381429,"NL-C",{"$f":"LEFT([League-Division],1)","v":"N"},{"$f":"RIGHT([League-Division],1)","v":"C"},{"$f":"IF([LG]=\"N\",10,20)","v":10},{"$f":"IF([DIV]=\"E\",1,IF([DIV]=\"C\",2,3))","v":2},{"$f":"[LGS]+[DIVS]","v":12}]
[2008,"Borkowski, Dave","HOU","Houston Astros",800000,26,0,36,-30,7.5,1.8888888888888888,6,13.5,86,75,4.3899999999999997,4276,1095,1453,6.9141721234798883,9.1746959775491117,1.3645930776426567,"NL-C",{"$f":"LEFT([League-Division],1)","v":"N"},{"$f":"RIGHT([League-Division],1)","v":"C"},{"$f":"IF([LG]=\"N\",10,20)","v":10},{"$f":"IF([DIV]=\"E\",1,IF([DIV]=\"C\",2,3))","v":2},{"$f":"[LGS]+[DIVS]","v":12}]
[1995,"Borland, Toby","PHI","Philadelphia Phillies",109000,50,0,74,-22,3.77,1.5945945945945945,7.1756756756756754,9.8513513513513509,69,75,4.21,3870,980,1241,6.8372093023255811,8.6581395348837216,1.3790697674418604,"NL-E",{"$f":"LEFT([League-Division],1)","v":"N"},{"$f":"RIGHT([League-Division],1)","v":"E"},{"$f":"IF([LG]=\"N\",10,20)","v":10},{"$f":"IF([DIV]=\"E\",1,IF([DIV]=\"C\",2,3))","v":1},{"$f":"[LGS]+[DIVS]","v":11}]
[1996,"Borland, Toby","PHI","Philadelphia Phillies",175000,69,0,90.666666666666671,-7,4.07,1.3897058823529411,7.5441176470588225,8.2389705882352935,67,95,4.49,4269,1044,1463,6.6029515108924812,9.2529866479269156,1.3865073787772313,"NL-E",{"$f":"LEFT([League-Division],1)","v":"N"},{"$f":"RIGHT([League-Division],1)","v":"E"},{"$f":"IF([LG]=\"N\",10,20)","v":10},{"$f":"IF([DIV]=\"E\",1,IF([DIV]=\"C\",2,3))","v":1},{"$f":"[LGS]+[DIVS]","v":11}]
[1997,"Borland, Toby","NYN","New York Mets",262500,13,0,13.333333333333334,-4,6.08,1.875,4.7250000000000005,7.4249999999999998,88,74,3.95,4377,982,1452,6.0575736806031522,8.956819739547635,1.3406442769019877,"NL-E",{"$f":"LEFT([League-Division],1)","v":"N"},{"$f":"RIGHT([League-Division],1)","v":"E"},{"$f":"IF([LG]=\"N\",10,20)","v":10},{"$f":"IF([DIV]=\"E\",1,IF([DIV]=\"C\",2,3))","v":1},{"$f":"[LGS]+[DIVS]","v":11}]
[1997,"Borland, Toby","BOS","Boston Red Sox",262500,3,0,3.3333333333333335,-5,13.5,3.9,2.6999999999999997,16.2,78,84,4.87,4355,987,1567,6.119173363949483,9.7150401836968996,1.4996555683122847,"AL-E",{"$f":"LEFT([League-Division],1)","v":"A"},{"$f":"RIGHT([League-Division],1)","v":"E"},{"$f":"IF([LG]=\"N\",10,20)","v":20},{"$f":"IF([DIV]=\"E\",1,IF([DIV]=\"C\",2,3))","v":1},{"$f":"[LGS]+[DIVS]","v":21}]
[1995,"Borowski, Joe","BAL","Baltimore Orioles",109000,6,0,7.333333333333333,-2,1.23,1.2272727272727273,3.6818181818181821,6.1363636363636367,71,73,4.3099999999999996,3801,930,1165,6.6061562746645617,8.2754538279400158,1.3322809786898184,"AL-E",{"$f":"LEFT([League-Division],1)","v":"A"},{"$f":"RIGHT([League-Division],1)","v":"E"},{"$f":"IF([LG]=\"N\",10,20)","v":20},{"$f":"IF([DIV]=\"E\",1,IF([DIV]=\"C\",2,3))","v":1},{"$f":"[LGS]+[DIVS]","v":21}]
[1996,"Borowski, Joe","ATL","Atlanta Braves",111500,22,0,26,-18,4.8499999999999996,1.7692307692307692,5.1923076923076916,11.423076923076923,96,66,3.54,4407,1245,1372,7.6276378488767866,8.4057181756296799,1.2409802586793737,"NL-E",{"$f":"LEFT([League-Division],1)","v":"N"},{"$f":"RIGHT([League-Division],1)","v":"E"},{"$f":"IF([LG]=\"N\",10,20)","v":10},{"$f":"IF([DIV]=\"E\",1,IF([DIV]=\"C\",2,3))","v":1},{"$f":"[LGS]+[DIVS]","v":11}]
[1997,"Borowski, Joe","ATL","Atlanta Braves",157500,20,0,24,-21,3.75,1.7916666666666667,2.25,10.125,101,61,3.18,4395,1196,1319,7.3474402730375425,8.1030716723549485,1.2075085324232082,"NL-E",{"$f":"LEFT([League-Division],1)","v":"N"},{"$f":"RIGHT([League-Division],1)","v":"E"},{"$f":"IF([LG]=\"N\",10,20)","v":10},{"$f":"IF([DIV]=\"E\",1,IF([DIV]=\"C\",2,3))","v":1},{"$f":"[LGS]+[DIVS]","v":11}]
[1997,"Borowski, Joe","NYA","New York Yankees",157500,1,0,2,0,9,3,9,9,96,66,3.84,4401,1165,1463,7.1472392638036801,8.9754601226993866,1.359918200408998,"AL-E",{"$f":"LEFT([League-Division],1)","v":"A"},{"$f":"RIGHT([League-Division],1)","v":"E"},{"$f":"IF([LG]=\"N\",10,20)","v":20},{"$f":"IF([DIV]=\"E\",1,IF([DIV]=\"C\",2,3))","v":1},{"$f":"[LGS]+[DIVS]","v":21}]
[1998,"Borowski, Joe","NYA","New York Yankees",188800,8,0,9.6666666666666661,-4,6.52,1.5517241379310345,6.5172413793103452,10.241379310344827,114,48,3.82,4369,1080,1357,6.6742961776150151,8.3861295490959034,1.251773861295491,"AL-E",{"$f":"LEFT([League-Division],1)","v":"A"},{"$f":"RIGHT([League-Division],1)","v":"E"},{"$f":"IF([LG]=\"N\",10,20)","v":20},{"$f":"IF([DIV]=\"E\",1,IF([DIV]=\"C\",2,3))","v":1},{"$f":"[LGS]+[DIVS]","v":21}]
[2002,"Borowski, Joe","CHN","Chicago Cubs",235000,73,0,95.666666666666671,13,2.73,1.1811846689895469,9.1254355400696845,7.9024390243902438,67,95,4.29,4324,1333,1373,8.3235430157261803,8.5733117483811299,1.3730342275670675,"NL-C",{"$f":"LEFT([League-Division],1)","v":"N"},{"$f":"RIGHT([League-Division],1)","v":"C"},{"$f":"IF([LG]=\"N\",10,20)","v":10},{"$f":"IF([DIV]=\"E\",1,IF([DIV]=\"C\",2,3))","v":2},{"$f":"[LGS]+[DIVS]","v":12}]
[2003,"Borowski, Joe","CHN","Chicago Cubs",410000,68,0,68.333333333333329,13,2.63,1.0536585365853659,8.6926829268292689,6.9804878048780488,88,74,3.83,4369,1404,1304,8.6765850308995187,8.0585946440833141,1.3190661478599222,"NL-C",{"$f":"LEFT([League-Division],1)","v":"N"},{"$f":"RIGHT([League-Division],1)","v":"C"},{"$f":"IF([LG]=\"N\",10,20)","v":10},{"$f":"IF([DIV]=\"E\",1,IF([DIV]=\"C\",2,3))","v":2},{"$f":"[LGS]+[DIVS]","v":12}]
[2004,"Borowski, Joe","CHN","Chicago Cubs",2000000,22,0,21.333333333333332,-10,8.02,1.96875,7.171875,11.390625,89,73,3.81,4396,1346,1363,8.2670609645131936,8.3714740673339403,1.3020928116469519,"NL-C",{"$f":"LEFT([League-Division],1)","v":"N"},{"$f":"RIGHT([League-Division],1)","v":"C"},{"$f":"IF([LG]=\"N\",10,20)","v":10},{"$f":"IF([DIV]=\"E\",1,IF([DIV]=\"C\",2,3))","v":2},{"$f":"[LGS]+[DIVS]","v":12}]
[2005,"Borowski, Joe","TBA","Tampa Bay Devil Rays",2300000,32,0,35.333333333333336,-10,3.82,1.0471698113207546,4.0754716981132075,6.6226415094339615,67,95,5.39,4265,949,1570,6.0077373974208674,9.9390386869871037,1.5369284876905041,"AL-E",{"$f":"LEFT([League-Division],1)","v":"A"},{"$f":"RIGHT([League-Division],1)","v":"E"},{"$f":"IF([LG]=\"N\",10,20)","v":20},{"$f":"IF([DIV]=\"E\",1,IF([DIV]=\"C\",2,3))","v":1},{"$f":"[LGS]+[DIVS]","v":21}]
[2005,"Borowski, Joe","CHN","Chicago Cubs",2300000,11,0,11,-1,6.55,1.1818181818181819,9,9.8181818181818166,79,83,4.1900000000000004,4320,1256,1357,7.85,8.4812499999999993,1.3423611111111111,"NL-C",{"$f":"LEFT([League-Division],1)","v":"N"},{"$f":"RIGHT([League-Division],1)","v":"C"},{"$f":"IF([LG]=\"N\",10,20)","v":10},{"$f":"IF([DIV]=\"E\",1,IF([DIV]=\"C\",2,3))","v":2},{"$f":"[LGS]+[DIVS]","v":12}]
[2006,"Borowski, Joe","FLO","Florida Marlins",327000,72,0,69.666666666666671,1,3.75,1.3779904306220094,8.2679425837320561,8.1387559808612444,78,84,4.37,4300,1088,1465,6.8316279069767445,9.1988372093023258,1.4560465116279071,"NL-E",{"$f":"LEFT([League-Division],1)","v":"N"},{"$f":"RIGHT([League-Division],1)","v":"E"},{"$f":"IF([LG]=\"N\",10,20)","v":10},{"$f":"IF([DIV]=\"E\",1,IF([DIV]=\"C\",2,3))","v":1},{"$f":"[LGS]+[DIVS]","v":11}]
[2007,"Borowski, Joe","CLE","Cleveland Indians",4000000,69,0,65.666666666666671,-19,5.07,1.431472081218274,7.9492385786802027,10.553299492385786,96,66,4.05,4388,1047,1519,6.4423427529626247,9.3466271649954411,1.3188240656335459,"AL-C",{"$f":"LEFT([League-Division],1)","v":"A"},{"$f":"RIGHT([League-Division],1)","v":"C"},{"$f":"IF([LG]=\"N\",10,20)","v":20},{"$f":"IF([DIV]=\"E\",1,IF([DIV]=\"C\",2,3))","v":2},{"$f":"[LGS]+[DIVS]","v":22}]
[2008,"Borowski, Joe","CLE","Cleveland Indians",4000000,18,0,16.666666666666668,-15,7.56,1.92,4.8599999999999994,12.959999999999999,81,81,4.46,4311,986,1530,6.1753653444676413,9.5824634655532357,1.3736951983298538,"AL-C",{"$f":"LEFT([League-Division],1)","v":"A"},{"$f":"RIGHT([League-Division],1)","v":"C"},{"$f":"IF([LG]=\"N\",10,20)","v":20},{"$f":"IF([DIV]=\"E\",1,IF([DIV]=\"C\",2,3))","v":2},{"$f":"[LGS]+[DIVS]","v":22}]
[1995,"Bosio, Chris","SEA","Seattle Mariners",4250000,31,31,170,-126,4.92,1.6470588235294117,4.5,11.170588235294119,79,66,4.5,3868,1068,1343,7.4550155118924506,9.3746122026887289,1.5,"AL-W",{"$f":"LEFT([League-Division],1)","v":"A"},{"$f":"RIGHT([League-Division],1)","v":"W"},{"$f":"IF([LG]=\"N\",10,20)","v":20},{"$f":"IF([DIV]=\"E\",1,IF([DIV]=\"C\",2,3))","v":3},{"$f":"[LGS]+[DIVS]","v":23}]
[1996,"Bosio, Chris","SEA","Seattle Mariners",4250000,18,9,60.666666666666664,-33,5.93,1.5824175824175826,5.7857142857142865,10.681318681318681,85,76,5.21,4293,1000,1562,6.2893081761006293,9.8238993710691815,1.5143256464011181,"AL-W",{"$f":"LEFT([League-Division],1)","v":"A"},{"$f":"RIGHT([League-Division],1)","v":"W"},{"$f":"IF([LG]=\"N\",10,20)","v":20},{"$f":"IF([DIV]=\"E\",1,IF([DIV]=\"C\",2,3))","v":3},{"$f":"[LGS]+[DIVS]","v":23}]
[1995,"Boskie, Shawn","CAL","California Angels",350000,20,20,111.66666666666667,-76,5.64,1.3611940298507461,4.1104477611940302,10.235820895522387,78,67,4.5199999999999996,3852,901,1310,6.3154205607476639,9.1822429906542045,1.3987538940809969,"AL-W",{"$f":"LEFT([League-Division],1)","v":"A"},{"$f":"RIGHT([League-Division],1)","v":"W"},{"$f":"IF([LG]=\"N\",10,20)","v":20},{"$f":"IF([DIV]=\"E\",1,IF([DIV]=\"C\",2,3))","v":3},{"$f":"[LGS]+[DIVS]","v":23}]
[1996,"Boskie, Shawn","CAL","California Angels",450000,37,28,189.33333333333334,-93,5.32,1.5475352112676055,6.322183098591549,10.742957746478872,70,91,5.31,4317,1052,1546,6.5795691452397502,9.6692147324530922,1.5343988881167478,"AL-W",{"$f":"LEFT([League-Division],1)","v":"A"},{"$f":"RIGHT([League-Division],1)","v":"W"},{"$f":"IF([LG]=\"N\",10,20)","v":20},{"$f":"IF([DIV]=\"E\",1,IF([DIV]=\"C\",2,3))","v":3},{"$f":"[LGS]+[DIVS]","v":23}]
[1997,"Boskie, Shawn","BAL","Baltimore Orioles",660000,28,9,77,-45,6.43,1.5714285714285714,5.8441558441558445,11.103896103896105,98,64,3.91,4383,1139,1404,7.0164271047227924,8.6488706365503081,1.3463381245722108,"AL-E",{"$f":"LEFT([League-Division],1)","v":"A"},{"$f":"RIGHT([League-Division],1)","v":"E"},{"$f":"IF([LG]=\"N\",10,20)","v":20},{"$f":"IF([DIV]=\"E\",1,IF([DIV]=\"C\",2,3))","v":1},{"$f":"[LGS]+[DIVS]","v":21}]
[1995,"Bottalico, Ricky","PHI","Philadelphia Phillies",109000,62,0,87.666666666666671,37,2.46,1.0494296577946767,8.9315589353612168,5.1330798479087454,69,75,4.21,3870,980,1241,6.8372093023255811,8.6581395348837216,1.3790697674418604,"NL-E",{"$f":"LEFT([League-Division],1)","v":"N"},{"$f":"RIGHT([League-Division],1)","v":"E"},{"$f":"IF([LG]=\"N\",10,20)","v":10},{"$f":"IF([DIV]=\"E\",1,IF([DIV]=\"C\",2,3))","v":1},{"$f":"[LGS]+[DIVS]","v":11}]
[1996,"Bottalico, Ricky","PHI","Philadelphia Phillies",185000,61,0,67.666666666666671,27,3.19,1.0344827586206895,9.8423645320197046,6.2512315270935952,67,95,4.49,4269,1044,1463,6.6029515108924812,9.2529866479269156,1.3865073787772313,"NL-E",{"$f":"LEFT([League-Division],1)","v":"N"},{"$f":"RIGHT([League-Division],1)","v":"E"},{"$f":"IF([LG]=\"N\",10,20)","v":10},{"$f":"IF([DIV]=\"E\",1,IF([DIV]=\"C\",2,3))","v":1},{"$f":"[LGS]+[DIVS]","v":11}]
[1997,"Bottalico, Ricky","PHI","Philadelphia Phillies",425000,69,0,74,21,3.65,1.4864864864864864,10.824324324324323,8.2702702702702702,68,94,4.87,4260,1209,1441,7.6626760563380278,9.133098591549297,1.4485915492957746,"NL-E",{"$f":"LEFT([League-Division],1)","v":"N"},{"$f":"RIGHT([League-Division],1)","v":"E"},{"$f":"IF([LG]=\"N\",10,20)","v":10},{"$f":"IF([DIV]=\"E\",1,IF([DIV]=\"C\",2,3))","v":1},{"$f":"[LGS]+[DIVS]","v":11}]
[1998,"Bottalico, Ricky","PHI","Philadelphia Phillies",2200000,39,0,43.333333333333336,-27,6.44,1.823076923076923,5.6076923076923073,11.215384615384615,75,87,4.6399999999999997,4389,1176,1476,7.2344497607655498,9.0799726589200258,1.3807245386192755,"NL-E",{"$f":"LEFT([League-Division],1)","v":"N"},{"$f":"RIGHT([League-Division],1)","v":"E"},{"$f":"IF([LG]=\"N\",10,20)","v":10},{"$f":"IF([DIV]=\"E\",1,IF([DIV]=\"C\",2,3))","v":1},{"$f":"[LGS]+[DIVS]","v":11}]
[1999,"Bottalico, Ricky","SLN","St. Louis Cardinals",2300000,68,0,73.333333333333329,-17,4.91,1.8,8.1,10.186363636363637,75,86,4.74,4335,1025,1519,6.3840830449826989,9.4608996539792383,1.5128027681660901,"NL-C",{"$f":"LEFT([League-Division],1)","v":"N"},{"$f":"RIGHT([League-Division],1)","v":"C"},{"$f":"IF([LG]=\"N\",10,20)","v":10},{"$f":"IF([DIV]=\"E\",1,IF([DIV]=\"C\",2,3))","v":2},{"$f":"[LGS]+[DIVS]","v":12}]
[2000,"Bottalico, Ricky","KCA","Kansas City Royals",1500000,62,0,72.666666666666671,-9,4.83,1.4587155963302751,6.9357798165137607,8.0504587155963296,77,85,5.48,4317,927,1585,5.7977762334954823,9.9131341209173041,1.5830437804030577,"AL-C",{"$f":"LEFT([League-Division],1)","v":"A"},{"$f":"RIGHT([League-Division],1)","v":"C"},{"$f":"IF([LG]=\"N\",10,20)","v":20},{"$f":"IF([DIV]=\"E\",1,IF([DIV]=\"C\",2,3))","v":2},{"$f":"[LGS]+[DIVS]","v":22}]
[2001,"Bottalico, Ricky","PHI","Philadelphia Phillies",1500000,66,0,67,-1,3.9,1.2388059701492538,7.6567164179104479,7.7910447761194028,86,76,4.1500000000000004,4336,1086,1417,6.7624538745387452,8.8235701107011071,1.3450184501845019,"NL-E",{"$f":"LEFT([League-Division],1)","v":"N"},{"$f":"RIGHT([League-Division],1)","v":"E"},{"$f":"IF([LG]=\"N\",10,20)","v":10},{"$f":"IF([DIV]=\"E\",1,IF([DIV]=\"C\",2,3))","v":1},{"$f":"[LGS]+[DIVS]","v":11}]
[2002,"Bottalico, Ricky","PHI","Philadelphia Phillies",1500000,30,0,27.333333333333332,-9,4.6100000000000003,1.6829268292682928,7.9024390243902438,10.865853658536585,80,81,4.17,4349,1075,1381,6.6739480340308113,8.5736951023223718,1.345826626810761,"NL-E",{"$f":"LEFT([League-Division],1)","v":"N"},{"$f":"RIGHT([League-Division],1)","v":"E"},{"$f":"IF([LG]=\"N\",10,20)","v":10},{"$f":"IF([DIV]=\"E\",1,IF([DIV]=\"C\",2,3))","v":1},{"$f":"[LGS]+[DIVS]","v":11}]
[2005,"Bottalico, Ricky","MIL","Milwaukee Brewers",800000,40,0,41.666666666666664,-14,4.54,1.488,6.2640000000000002,9.2880000000000003,81,81,3.97,4314,1173,1382,7.3414464534075101,8.649513212795549,1.3567454798331016,"NL-C",{"$f":"LEFT([League-Division],1)","v":"N"},{"$f":"RIGHT([League-Division],1)","v":"C"},{"$f":"IF([LG]=\"N\",10,20)","v":10},{"$f":"IF([DIV]=\"E\",1,IF([DIV]=\"C\",2,3))","v":2},{"$f":"[LGS]+[DIVS]","v":12}]
[1996,"Bottenfield, Kent","CHN","Chicago Cubs",111000,48,0,61.666666666666664,-26,2.63,1.2648648648648648,4.8162162162162163,8.6108108108108112,76,86,4.3600000000000003,4368,1027,1447,6.3482142857142865,8.9443681318681314,1.3688186813186813,"NL-C",{"$f":"LEFT([League-Division],1)","v":"N"},{"$f":"RIGHT([League-Division],1)","v":"C"},{"$f":"IF([LG]=\"N\",10,20)","v":10},{"$f":"IF([DIV]=\"E\",1,IF([DIV]=\"C\",2,3))","v":2},{"$f":"[LGS]+[DIVS]","v":12}]
[1997,"Bottenfield, Kent","CHN","Chicago Cubs",195000,64,0,84,-8,3.86,1.3928571428571428,7.9285714285714288,8.7857142857142847,68,94,4.4400000000000004,4287,1072,1451,6.7515745276417078,9.1385584324702585,1.4282715185444366,"NL-C",{"$f":"LEFT([League-Division],1)","v":"N"},{"$f":"RIGHT([League-Division],1)","v":"C"},{"$f":"IF([LG]=\"N\",10,20)","v":10},{"$f":"IF([DIV]=\"E\",1,IF([DIV]=\"C\",2,3))","v":2},{"$f":"[LGS]+[DIVS]","v":12}]
[1998,"Bottenfield, Kent","SLN","St. Louis Cardinals",800000,44,17,133.66666666666666,-30,4.4400000000000004,1.3840399002493766,6.59850374064838,8.6184538653366598,83,79,4.32,4409,972,1513,5.9523701519618957,9.265366296212294,1.4091630755273303,"NL-C",{"$f":"LEFT([League-Division],1)","v":"N"},{"$f":"RIGHT([League-Division],1)","v":"C"},{"$f":"IF([LG]=\"N\",10,20)","v":10},{"$f":"IF([DIV]=\"E\",1,IF([DIV]=\"C\",2,3))","v":2},{"$f":"[LGS]+[DIVS]","v":12}]
[1999,"Bottenfield, Kent","SLN","St. Louis Cardinals",850000,31,31,190.33333333333334,-73,3.97,1.5026269702276707,5.86339754816112,9.3152364273204906,75,86,4.74,4335,1025,1519,6.3840830449826989,9.4608996539792383,1.5128027681660901,"NL-C",{"$f":"LEFT([League-Division],1)","v":"N"},{"$f":"RIGHT([League-Division],1)","v":"C"},{"$f":"IF([LG]=\"N\",10,20)","v":10},{"$f":"IF([DIV]=\"E\",1,IF([DIV]=\"C\",2,3))","v":2},{"$f":"[LGS]+[DIVS]","v":12}]
[2000,"Bottenfield, Kent","PHI","Philadelphia Phillies",4000000,8,8,44,-10,4.5,1.4090909090909092,6.3409090909090917,8.3863636363636367,65,97,4.7699999999999996,4315,1123,1458,7.0268829663962915,9.1230590961761315,1.4586326767091542,"NL-E",{"$f":"LEFT([League-Division],1)","v":"N"},{"$f":"RIGHT([League-Division],1)","v":"E"},{"$f":"IF([LG]=\"N\",10,20)","v":10},{"$f":"IF([DIV]=\"E\",1,IF([DIV]=\"C\",2,3))","v":1},{"$f":"[LGS]+[DIVS]","v":11}]
[2000,"Bottenfield, Kent","ANA","Anaheim Angels",4000000,21,21,127.66666666666667,-69,5.71,1.5665796344647518,5.2872062663185373,10.151436031331592,82,80,5,4344,846,1534,5.2582872928176796,9.5345303867403324,1.5165745856353592,"AL-W",{"$f":"LEFT([League-Division],1)","v":"A"},{"$f":"RIGHT([League-Division],1)","v":"W"},{"$f":"IF([LG]=\"N\",10,20)","v":20},{"$f":"IF([DIV]=\"E\",1,IF([DIV]=\"C\",2,3))","v":3},{"$f":"[LGS]+[DIVS]","v":23}]
[2001,"Bottenfield, Kent","HOU","Houston Astros",2000000,13,9,52,-22,6.4,1.4807692307692308,6.75,10.557692307692308,93,69,4.37,4364,1228,1453,7.5976168652612275,8.9896883593033916,1.3329514207149404,"NL-C",{"$f":"LEFT([League-Division],1)","v":"N"},{"$f":"RIGHT([League-Division],1)","v":"C"},{"$f":"IF([LG]=\"N\",10,20)","v":10},{"$f":"IF([DIV]=\"E\",1,IF([DIV]=\"C\",2,3))","v":2},{"$f":"[LGS]+[DIVS]","v":12}]
[1996,"Bourgeois, Steve","SFN","San Francisco Giants",109000,15,5,40,-43,6.3,2.0249999999999999,3.8249999999999997,13.5,68,94,4.72,4326,997,1520,6.222607489597781,9.4868238557558939,1.449375866851595,"NL-W",{"$f":"LEFT([League-Division],1)","v":"N"},{"$f":"RIGHT([League-Division],1)","v":"W"},{"$f":"IF([LG]=\"N\",10,20)","v":10},{"$f":"IF([DIV]=\"E\",1,IF([DIV]=\"C\",2,3))","v":3},{"$f":"[LGS]+[DIVS]","v":13}]
[1995,"Bowen, Ryan","FLO","Florida Marlins",185000,4,3,16.666666666666668,-8,3.78,2.0999999999999996,8.1,12.419999999999998,67,76,4.2699999999999996,3858,994,1299,6.9564541213063764,9.0909797822706064,1.4471228615863141,"NL-E",{"$f":"LEFT([League-Division],1)","v":"N"},{"$f":"RIGHT([League-Division],1)","v":"E"},{"$f":"IF([LG]=\"N\",10,20)","v":10},{"$f":"IF([DIV]=\"E\",1,IF([DIV]=\"C\",2,3))","v":1},{"$f":"[LGS]+[DIVS]","v":11}]
[1999,"Bowie, Micah","ATL","Atlanta Braves",200000,3,0,4,-6,13.5,3,4.5,18,103,59,3.63,4413,1197,1398,7.3235893949694084,8.5533650577838198,1.2950373895309313,"NL-E",{"$f":"LEFT([League-Division],1)","v":"N"},{"$f":"RIGHT([League-Division],1)","v":"E"},{"$f":"IF([LG]=\"N\",10,20)","v":10},{"$f":"IF([DIV]=\"E\",1,IF([DIV]=\"C\",2,3))","v":1},{"$f":"[LGS]+[DIVS]","v":11}]
[1999,"Bowie, Micah","CHN","Chicago Cubs",200000,11,11,47,-34,9.9600000000000009,2.1914893617021276,7.4680851063829783,13.978723404255318,67,95,5.27,4291,980,1619,6.1663947797716148,10.187135865765557,1.5017478443253323,"NL-C",{"$f":"LEFT([League-Division],1)","v":"N"},{"$f":"RIGHT([League-Division],1)","v":"C"},{"$f":"IF([LG]=\"N\",10,20)","v":10},{"$f":"IF([DIV]=\"E\",1,IF([DIV]=\"C\",2,3))","v":2},{"$f":"[LGS]+[DIVS]","v":12}]
[2003,"Bowie, Micah","OAK","Oakland Athletics",304000,6,0,8.3333333333333339,-9,7.56,1.7999999999999998,4.32,14.04,96,66,3.63,4325,1018,1336,6.3551445086705201,8.3403468208092484,1.2728323699421964,"AL-W",{"$f":"LEFT([League-Division],1)","v":"A"},{"$f":"RIGHT([League-Division],1)","v":"W"},{"$f":"IF([LG]=\"N\",10,20)","v":20},{"$f":"IF([DIV]=\"E\",1,IF([DIV]=\"C\",2,3))","v":3},{"$f":"[LGS]+[DIVS]","v":23}]
[2007,"Bowie, Micah","WAS","Washington Nationals",435000,30,8,57.333333333333336,-13,4.55,1.4302325581395348,6.5930232558139537,8.6337209302325579,73,89,4.58,4340,931,1502,5.7919354838709678,9.3442396313364053,1.4391705069124423,"NL-E",{"$f":"LEFT([League-Division],1)","v":"N"},{"$f":"RIGHT([League-Division],1)","v":"E"},{"$f":"IF([LG]=\"N\",10,20)","v":10},{"$f":"IF([DIV]=\"E\",1,IF([DIV]=\"C\",2,3))","v":1},{"$f":"[LGS]+[DIVS]","v":11}]
[2008,"Bowie, Micah","COL","Colorado Rockies",650000,10,0,8,-6,9,1.75,5.625,12.375,74,88,4.7699999999999996,4338,1041,1547,6.4792531120331951,9.6286307053941904,1.45850622406639,"NL-W",{"$f":"LEFT([League-Division],1)","v":"N"},{"$f":"RIGHT([League-Division],1)","v":"W"},{"$f":"IF([LG]=\"N\",10,20)","v":10},{"$f":"IF([DIV]=\"E\",1,IF([DIV]=\"C\",2,3))","v":3},{"$f":"[LGS]+[DIVS]","v":13}]
[2000,"Boyd, Jason","PHI","Philadelphia Phillies",203000,30,0,34.333333333333336,-7,6.55,1.8349514563106795,8.3883495145631066,10.223300970873787,65,97,4.7699999999999996,4315,1123,1458,7.0268829663962915,9.1230590961761315,1.4586326767091542,"NL-E",{"$f":"LEFT([League-Division],1)","v":"N"},{"$f":"RIGHT([League-Division],1)","v":"E"},{"$f":"IF([LG]=\"N\",10,20)","v":10},{"$f":"IF([DIV]=\"E\",1,IF([DIV]=\"C\",2,3))","v":1},{"$f":"[LGS]+[DIVS]","v":11}]
[2002,"Boyd, Jason","SDN","San Diego Padres",253000,23,0,28.333333333333332,-15,7.94,1.6941176470588235,5.7176470588235304,10.482352941176471,66,96,4.62,4309,1108,1522,6.9426781155720585,9.5367834764446506,1.4648410304014854,"NL-W",{"$f":"LEFT([League-Division],1)","v":"N"},{"$f":"RIGHT([League-Division],1)","v":"W"},{"$f":"IF([LG]=\"N\",10,20)","v":10},{"$f":"IF([DIV]=\"E\",1,IF([DIV]=\"C\",2,3))","v":3},{"$f":"[LGS]+[DIVS]","v":13}]
[2004,"Boyd, Jason","PIT","Pittsburgh Pirates",350000,12,0,13,-1,5.54,1.6153846153846154,8.3076923076923084,9,72,89,4.29,4284,1079,1451,6.8004201680672267,9.1449579831932759,1.419467787114846,"NL-C",{"$f":"LEFT([League-Division],1)","v":"N"},{"$f":"RIGHT([League-Division],1)","v":"C"},{"$f":"IF([LG]=\"N\",10,20)","v":10},{"$f":"IF([DIV]=\"E\",1,IF([DIV]=\"C\",2,3))","v":2},{"$f":"[LGS]+[DIVS]","v":12}]
[2006,"Boyer, Blaine","ATL","Atlanta Braves",336000,2,0,0.66666666666666663,-4,40.5,7.5,0,54,79,83,4.5999999999999996,4324,1049,1529,6.5501850138760416,9.5474098057354304,1.4576780758556893,"NL-E",{"$f":"LEFT([League-Division],1)","v":"N"},{"$f":"RIGHT([League-Division],1)","v":"E"},{"$f":"IF([LG]=\"N\",10,20)","v":10},{"$f":"IF([DIV]=\"E\",1,IF([DIV]=\"C\",2,3))","v":1},{"$f":"[LGS]+[DIVS]","v":11}]
[2008,"Boyer, Blaine","ATL","Atlanta Braves",390000,76,0,72,-6,5.88,1.3611111111111112,8.375,9.125,72,90,4.47,4322,1076,1439,6.7218880148079592,8.9895881536325764,1.4055992596020359,"NL-E",{"$f":"LEFT([League-Division],1)","v":"N"},{"$f":"RIGHT([League-Division],1)","v":"E"},{"$f":"IF([LG]=\"N\",10,20)","v":10},{"$f":"IF([DIV]=\"E\",1,IF([DIV]=\"C\",2,3))","v":1},{"$f":"[LGS]+[DIVS]","v":11}]
[2009,"Boyer, Blaine","ATL","Atlanta Braves",432500,3,0,1.3333333333333333,-1,40.5,4.5,13.5,20.25,86,76,3.57,4388,1232,1399,7.5806745670009104,8.6082497721057418,1.3188240656335459,"NL-E",{"$f":"LEFT([League-Division],1)","v":"N"},{"$f":"RIGHT([League-Division],1)","v":"E"},{"$f":"IF([LG]=\"N\",10,20)","v":10},{"$f":"IF([DIV]=\"E\",1,IF([DIV]=\"C\",2,3))","v":1},{"$f":"[LGS]+[DIVS]","v":11}]
[2009,"Boyer, Blaine","SLN","St. Louis Cardinals",432500,15,0,16.333333333333332,-5,4.41,1.1632653061224492,4.9591836734693882,7.7142857142857153,91,71,3.66,4322,1049,1407,6.5532161036557142,8.789680703378064,1.2959278111985191,"NL-C",{"$f":"LEFT([League-Division],1)","v":"N"},{"$f":"RIGHT([League-Division],1)","v":"C"},{"$f":"IF([LG]=\"N\",10,20)","v":10},{"$f":"IF([DIV]=\"E\",1,IF([DIV]=\"C\",2,3))","v":2},{"$f":"[LGS]+[DIVS]","v":12}]
[2009,"Boyer, Blaine","ARI","Arizona Diamondbacks",432500,30,0,37,-21,2.68,1.3783783783783783,4.378378378378379,9.486486486486486,70,92,4.4400000000000004,4343,1158,1470,7.1991710798986874,9.1388441169698353,1.3780796684319594,"NL-W",{"$f":"LEFT([League-Division],1)","v":"N"},{"$f":"RIGHT([League-Division],1)","v":"W"},{"$f":"IF([LG]=\"N\",10,20)","v":10},{"$f":"IF([DIV]=\"E\",1,IF([DIV]=\"C\",2,3))","v":3},{"$f":"[LGS]+[DIVS]","v":13}]
[2010,"Boyer, Blaine","ARI","Arizona Diamondbacks",725000,54,0,57,-30,4.26,1.5438596491228069,4.5789473684210531,9.3157894736842124,65,97,4.8099999999999996,4296,1070,1503,6.7248603351955305,9.4462290502793298,1.4322625698324023,"NL-W",{"$f":"LEFT([League-Division],1)","v":"N"},{"$f":"RIGHT([League-Division],1)","v":"W"},{"$f":"IF([LG]=\"N\",10,20)","v":10},{"$f":"IF([DIV]=\"E\",1,IF([DIV]=\"C\",2,3))","v":3},{"$f":"[LGS]+[DIVS]","v":13}]
[2009,"Braden, Dallas","OAK","Oakland Athletics",410000,22,22,136.66666666666666,-63,3.89,1.3609756097560977,5.3341463414634154,9.482926829268294,75,87,4.29,4342,1124,1486,6.9894058037770614,9.2404421925380014,1.3880700138185169,"AL-W",{"$f":"LEFT([League-Division],1)","v":"A"},{"$f":"RIGHT([League-Division],1)","v":"W"},{"$f":"IF([LG]=\"N\",10,20)","v":20},{"$f":"IF([DIV]=\"E\",1,IF([DIV]=\"C\",2,3))","v":3},{"$f":"[LGS]+[DIVS]","v":23}]
[2010,"Braden, Dallas","OAK","Oakland Athletics",420000,30,30,192.66666666666666,-67,3.5,1.1574394463667821,5.2785467128027683,8.4083044982698958,81,81,3.58,4295,1070,1315,6.7264260768335271,8.2665890570430722,1.2761350407450522,"AL-W",{"$f":"LEFT([League-Division],1)","v":"A"},{"$f":"RIGHT([League-Division],1)","v":"W"},{"$f":"IF([LG]=\"N\",10,20)","v":20},{"$f":"IF([DIV]=\"E\",1,IF([DIV]=\"C\",2,3))","v":3},{"$f":"[LGS]+[DIVS]","v":23}]
[1998,"Bradford, Chad","CHA","Chicago White Sox",170000,29,0,30.666666666666668,-16,3.23,1.1086956521739131,3.2282608695652173,7.9239130434782599,80,82,5.24,4315,911,1569,5.7003476245654703,9.817612977983778,1.4940903823870222,"AL-C",{"$f":"LEFT([League-Division],1)","v":"A"},{"$f":"RIGHT([League-Division],1)","v":"C"},{"$f":"IF([LG]=\"N\",10,20)","v":20},{"$f":"IF([DIV]=\"E\",1,IF([DIV]=\"C\",2,3))","v":2},{"$f":"[LGS]+[DIVS]","v":22}]
[2002,"Bradford, Chad","OAK","Oakland Athletics",235000,75,0,75.333333333333329,-17,3.11,1.1548672566371683,6.6902654867256643,8.7212389380530979,103,59,3.68,4356,1021,1391,6.3285123966942143,8.6219008264462822,1.2844352617079891,"AL-W",{"$f":"LEFT([League-Division],1)","v":"A"},{"$f":"RIGHT([League-Division],1)","v":"W"},{"$f":"IF([LG]=\"N\",10,20)","v":20},{"$f":"IF([DIV]=\"E\",1,IF([DIV]=\"C\",2,3))","v":3},{"$f":"[LGS]+[DIVS]","v":23}]
[2003,"Bradford, Chad","OAK","Oakland Athletics",331000,72,0,77,-5,3.04,1.2597402597402598,7.2467532467532472,7.8311688311688306,96,66,3.63,4325,1018,1336,6.3551445086705201,8.3403468208092484,1.2728323699421964,"AL-W",{"$f":"LEFT([League-Division],1)","v":"A"},{"$f":"RIGHT([League-Division],1)","v":"W"},{"$f":"IF([LG]=\"N\",10,20)","v":20},{"$f":"IF([DIV]=\"E\",1,IF([DIV]=\"C\",2,3))","v":3},{"$f":"[LGS]+[DIVS]","v":23}]
[2004,"Bradford, Chad","OAK","Oakland Athletics",965000,68,0,59,-17,4.42,1.271186440677966,5.1864406779661021,7.7796610169491531,91,71,4.17,4414,1034,1466,6.3248753964657904,8.9673765292251932,1.3661078386950611,"AL-W",{"$f":"LEFT([League-Division],1)","v":"A"},{"$f":"RIGHT([League-Division],1)","v":"W"},{"$f":"IF([LG]=\"N\",10,20)","v":20},{"$f":"IF([DIV]=\"E\",1,IF([DIV]=\"C\",2,3))","v":3},{"$f":"[LGS]+[DIVS]","v":23}]
[2005,"Bradford, Chad","BOS","Boston Red Sox",1400000,31,0,23.333333333333332,-19,3.86,1.4142857142857144,3.8571428571428577,11.185714285714287,95,67,4.74,4287,959,1550,6.0398880335899232,9.7620713785864233,1.3925822253324003,"AL-E",{"$f":"LEFT([League-Division],1)","v":"A"},{"$f":"RIGHT([League-Division],1)","v":"E"},{"$f":"IF([LG]=\"N\",10,20)","v":20},{"$f":"IF([DIV]=\"E\",1,IF([DIV]=\"C\",2,3))","v":1},{"$f":"[LGS]+[DIVS]","v":21}]
[2006,"Bradford, Chad","NYN","New York Mets",1400000,70,0,62,-14,2.9,1.1612903225806452,6.532258064516129,8.564516129032258,97,65,4.1399999999999997,4384,1161,1402,7.1503193430656937,8.6345802919708028,1.3200273722627738,"NL-E",{"$f":"LEFT([League-Division],1)","v":"N"},{"$f":"RIGHT([League-Division],1)","v":"E"},{"$f":"IF([LG]=\"N\",10,20)","v":10},{"$f":"IF([DIV]=\"E\",1,IF([DIV]=\"C\",2,3))","v":1},{"$f":"[LGS]+[DIVS]","v":11}]
[2007,"Bradford, Chad","BAL","Baltimore Orioles",3166667,78,0,64.666666666666671,-48,3.34,1.4381443298969072,4.036082474226804,10.716494845360824,69,93,5.17,4316,1087,1491,6.8000463392029653,9.3273864689527333,1.5201575532900833,"AL-E",{"$f":"LEFT([League-Division],1)","v":"A"},{"$f":"RIGHT([League-Division],1)","v":"E"},{"$f":"IF([LG]=\"N\",10,20)","v":20},{"$f":"IF([DIV]=\"E\",1,IF([DIV]=\"C\",2,3))","v":1},{"$f":"[LGS]+[DIVS]","v":21}]
[2008,"Bradford, Chad","BAL","Baltimore Orioles",3666666,47,0,40.333333333333336,-28,2.4500000000000002,1.1900826446280992,2.9008264462809916,9.1487603305785115,68,93,5.15,4266,922,1538,5.8354430379746836,9.7341772151898738,1.5646976090014064,"AL-E",{"$f":"LEFT([League-Division],1)","v":"A"},{"$f":"RIGHT([League-Division],1)","v":"E"},{"$f":"IF([LG]=\"N\",10,20)","v":20},{"$f":"IF([DIV]=\"E\",1,IF([DIV]=\"C\",2,3))","v":1},{"$f":"[LGS]+[DIVS]","v":21}]
[2008,"Bradford, Chad","TBA","Tampa Bay Rays",3666666,21,0,19,-14,1.42,1.368421052631579,1.8947368421052631,8.5263157894736832,97,65,3.82,4373,1143,1349,7.0571689915389895,8.3290647152984221,1.2863023096272581,"AL-E",{"$f":"LEFT([League-Division],1)","v":"A"},{"$f":"RIGHT([League-Division],1)","v":"E"},{"$f":"IF([LG]=\"N\",10,20)","v":20},{"$f":"IF([DIV]=\"E\",1,IF([DIV]=\"C\",2,3))","v":1},{"$f":"[LGS]+[DIVS]","v":21}]
[2009,"Bradford, Chad","TBA","Tampa Bay Rays",3666666,20,0,10.333333333333334,-16,4.3499999999999996,2.32258064516129,5.2258064516129021,19.161290322580644,84,78,4.3600000000000003,4282,1125,1421,7.0936478281177022,8.9600653900046705,1.3563755254553946,"AL-E",{"$f":"LEFT([League-Division],1)","v":"A"},{"$f":"RIGHT([League-Division],1)","v":"E"},{"$f":"IF([LG]=\"N\",10,20)","v":20},{"$f":"IF([DIV]=\"E\",1,IF([DIV]=\"C\",2,3))","v":1},{"$f":"[LGS]+[DIVS]","v":21}]
[1995,"Brandenburg, Mark","TEX","Texas Rangers",109000,11,0,27.333333333333332,-15,5.93,1.5731707317073171,6.9146341463414638,11.853658536585366,74,70,4.66,3855,838,1385,5.8692607003891055,9.700389105058365,1.4778210116731518,"AL-W",{"$f":"LEFT([League-Division],1)","v":"A"},{"$f":"RIGHT([League-Division],1)","v":"W"},{"$f":"IF([LG]=\"N\",10,20)","v":20},{"$f":"IF([DIV]=\"E\",1,IF([DIV]=\"C\",2,3))","v":3},{"$f":"[LGS]+[DIVS]","v":23}]
[1996,"Brandenburg, Mark","TEX","Texas Rangers",123500,26,0,47.666666666666664,-11,3.21,1.5314685314685315,6.9860139860139867,9.0629370629370634,90,72,4.66,4347,976,1569,6.0621118012422359,9.7453416149068328,1.484472049689441,"AL-W",{"$f":"LEFT([League-Division],1)","v":"A"},{"$f":"RIGHT([League-Division],1)","v":"W"},{"$f":"IF([LG]=\"N\",10,20)","v":20},{"$f":"IF([DIV]=\"E\",1,IF([DIV]=\"C\",2,3))","v":3},{"$f":"[LGS]+[DIVS]","v":23}]
[1996,"Brandenburg, Mark","BOS","Boston Red Sox",123500,29,0,28.333333333333332,1,3.81,1.2705882352941178,9.211764705882354,8.8941176470588239,85,77,5,4374,1165,1606,7.1913580246913584,9.913580246913579,1.5967078189300412,"AL-E",{"$f":"LEFT([League-Division],1)","v":"A"},{"$f":"RIGHT([League-Division],1)","v":"E"},{"$f":"IF([LG]=\"N\",10,20)","v":20},{"$f":"IF([DIV]=\"E\",1,IF([DIV]=\"C\",2,3))","v":1},{"$f":"[LGS]+[DIVS]","v":21}]
[1997,"Brandenburg, Mark","BOS","Boston Red Sox",187500,31,0,41,-15,5.49,1.5853658536585367,7.463414634146341,10.75609756097561,78,84,4.87,4355,987,1567,6.119173363949483,9.7150401836968996,1.4996555683122847,"AL-E",{"$f":"LEFT([League-Division],1)","v":"A"},{"$f":"RIGHT([League-Division],1)","v":"E"},{"$f":"IF([LG]=\"N\",10,20)","v":20},{"$f":"IF([DIV]=\"E\",1,IF([DIV]=\"C\",2,3))","v":1},{"$f":"[LGS]+[DIVS]","v":21}]
[1995,"Brantley, Jeff","CIN","Cincinnati Reds",1750000,56,0,70.333333333333329,9,2.82,1.0379146919431281,7.9336492890995274,6.781990521327014,85,59,4.03,3867,903,1270,6.3048875096974397,8.8673390224980615,1.3141970519782777,"NL-C",{"$f":"LEFT([League-Division],1)","v":"N"},{"$f":"RIGHT([League-Division],1)","v":"C"},{"$f":"IF([LG]=\"N\",10,20)","v":10},{"$f":"IF([DIV]=\"E\",1,IF([DIV]=\"C\",2,3))","v":2},{"$f":"[LGS]+[DIVS]","v":12}]
[1996,"Brantley, Jeff","CIN","Cincinnati Reds",1850000,66,0,71,22,2.41,1.1549295774647887,9.6338028169014081,6.845070422535211,81,81,4.33,4329,1089,1447,6.7920997920997923,9.0249480249480261,1.4123354123354124,"NL-C",{"$f":"LEFT([League-Division],1)","v":"N"},{"$f":"RIGHT([League-Division],1)","v":"C"},{"$f":"IF([LG]=\"N\",10,20)","v":10},{"$f":"IF([DIV]=\"E\",1,IF([DIV]=\"C\",2,3))","v":2},{"$f":"[LGS]+[DIVS]","v":12}]
[1997,"Brantley, Jeff","CIN","Cincinnati Reds",2800000,13,0,11.666666666666666,7,3.86,1.3714285714285714,12.342857142857143,6.9428571428571431,76,86,4.42,4347,1159,1408,7.1987577639751548,8.7453416149068328,1.3567977915804004,"NL-C",{"$f":"LEFT([League-Division],1)","v":"N"},{"$f":"RIGHT([League-Division],1)","v":"C"},{"$f":"IF([LG]=\"N\",10,20)","v":10},{"$f":"IF([DIV]=\"E\",1,IF([DIV]=\"C\",2,3))","v":2},{"$f":"[LGS]+[DIVS]","v":12}]
[1998,"Brantley, Jeff","SLN","St. Louis Cardinals",2800000,48,0,50.666666666666664,8,4.4400000000000004,1.1447368421052633,8.526315789473685,7.1052631578947372,83,79,4.32,4409,972,1513,5.9523701519618957,9.265366296212294,1.4091630755273303,"NL-C",{"$f":"LEFT([League-Division],1)","v":"N"},{"$f":"RIGHT([League-Division],1)","v":"C"},{"$f":"IF([LG]=\"N\",10,20)","v":10},{"$f":"IF([DIV]=\"E\",1,IF([DIV]=\"C\",2,3))","v":2},{"$f":"[LGS]+[DIVS]","v":12}]
[1999,"Brantley, Jeff","PHI","Philadelphia Phillies",2800000,10,0,8.6666666666666661,6,5.19,1.5,11.423076923076925,5.1923076923076925,77,85,4.93,4314,1030,1494,6.4464534075104316,9.350486787204451,1.4749652294853963,"NL-E",{"$f":"LEFT([League-Division],1)","v":"N"},{"$f":"RIGHT([League-Division],1)","v":"E"},{"$f":"IF([LG]=\"N\",10,20)","v":10},{"$f":"IF([DIV]=\"E\",1,IF([DIV]=\"C\",2,3))","v":1},{"$f":"[LGS]+[DIVS]","v":11}]
[2000,"Brantley, Jeff","PHI","Philadelphia Phillies",500000,55,0,55.333333333333336,-7,5.86,1.6807228915662651,9.2710843373493965,10.409638554216867,65,97,4.7699999999999996,4315,1123,1458,7.0268829663962915,9.1230590961761315,1.4586326767091542,"NL-E",{"$f":"LEFT([League-Division],1)","v":"N"},{"$f":"RIGHT([League-Division],1)","v":"E"},{"$f":"IF([LG]=\"N\",10,20)","v":10},{"$f":"IF([DIV]=\"E\",1,IF([DIV]=\"C\",2,3))","v":1},{"$f":"[LGS]+[DIVS]","v":11}]
[2001,"Brantley, Jeff","TEX","Texas Rangers",650000,18,0,21,-15,5.14,1.6666666666666667,4.7142857142857144,11.142857142857142,73,89,5.71,4315,951,1670,5.9506373117033604,10.449594438006953,1.5754345307068367,"AL-W",{"$f":"LEFT([League-Division],1)","v":"A"},{"$f":"RIGHT([League-Division],1)","v":"W"},{"$f":"IF([LG]=\"N\",10,20)","v":20},{"$f":"IF([DIV]=\"E\",1,IF([DIV]=\"C\",2,3))","v":3},{"$f":"[LGS]+[DIVS]","v":23}]
[2007,"Braun, Ryan","KCA","Kansas City Royals",380000,26,0,39.333333333333336,-22,6.64,1.7288135593220337,5.4915254237288131,10.525423728813559,69,93,4.4800000000000004,4312,993,1547,6.2177643784786643,9.6866883116883109,1.4380797773654916,"AL-C",{"$f":"LEFT([League-Division],1)","v":"A"},{"$f":"RIGHT([League-Division],1)","v":"C"},{"$f":"IF([LG]=\"N\",10,20)","v":20},{"$f":"IF([DIV]=\"E\",1,IF([DIV]=\"C\",2,3))","v":2},{"$f":"[LGS]+[DIVS]","v":22}]
[2007,"Bray, Bill","CIN","Cincinnati Reds",382500,19,0,14.333333333333334,-2,6.28,1.4651162790697674,8.7906976744186043,10.046511627906977,72,90,4.9400000000000004,4349,1068,1605,6.6304897677627039,9.9643596229018154,1.4396412968498504,"NL-C",{"$f":"LEFT([League-Division],1)","v":"N"},{"$f":"RIGHT([League-Division],1)","v":"C"},{"$f":"IF([LG]=\"N\",10,20)","v":10},{"$f":"IF([DIV]=\"E\",1,IF([DIV]=\"C\",2,3))","v":2},{"$f":"[LGS]+[DIVS]","v":12}]
[2005,"Brazelton, Dewon","TBA","Tampa Bay Devil Rays",1124000,20,8,71,-44,7.61,2.0704225352112675,5.4507042253521121,11.028169014084506,67,95,5.39,4265,949,1570,6.0077373974208674,9.9390386869871037,1.5369284876905041,"AL-E",{"$f":"LEFT([League-Division],1)","v":"A"},{"$f":"RIGHT([League-Division],1)","v":"E"},{"$f":"IF([LG]=\"N\",10,20)","v":20},{"$f":"IF([DIV]=\"E\",1,IF([DIV]=\"C\",2,3))","v":1},{"$f":"[LGS]+[DIVS]","v":21}]
[2006,"Brazelton, Dewon","SDN","San Diego Padres",500000,9,2,18,-19,12,2.0555555555555554,4.5,14,88,74,3.87,4391,1097,1385,6.7453882942382144,8.5162833067638335,1.265998633568663,"NL-W",{"$f":"LEFT([League-Division],1)","v":"N"},{"$f":"RIGHT([League-Division],1)","v":"W"},{"$f":"IF([LG]=\"N\",10,20)","v":10},{"$f":"IF([DIV]=\"E\",1,IF([DIV]=\"C\",2,3))","v":3},{"$f":"[LGS]+[DIVS]","v":13}]
[2005,"Brazoban, Yhency","LAN","Los Angeles Dodgers",319500,74,0,72.666666666666671,-9,5.33,1.403669724770642,7.5550458715596331,8.6697247706422012,71,91,4.38,4282,1004,1434,6.330686595049043,9.0420364315740311,1.3346567024754787,"NL-W",{"$f":"LEFT([League-Division],1)","v":"N"},{"$f":"RIGHT([League-Division],1)","v":"W"},{"$f":"IF([LG]=\"N\",10,20)","v":10},{"$f":"IF([DIV]=\"E\",1,IF([DIV]=\"C\",2,3))","v":3},{"$f":"[LGS]+[DIVS]","v":13}]
[2006,"Brazoban, Yhency","LAN","Los Angeles Dodgers",345000,5,0,5,-3,5.4,1.8,7.2,12.6,88,74,4.2300000000000004,4381,1068,1524,6.582058890664233,9.3923761698242423,1.3805067336224608,"NL-W",{"$f":"LEFT([League-Division],1)","v":"N"},{"$f":"RIGHT([League-Division],1)","v":"W"},{"$f":"IF([LG]=\"N\",10,20)","v":10},{"$f":"IF([DIV]=\"E\",1,IF([DIV]=\"C\",2,3))","v":3},{"$f":"[LGS]+[DIVS]","v":13}]
[2007,"Brazoban, Yhency","LAN","Los Angeles Dodgers",395000,4,0,1.6666666666666667,2,16.2,3.5999999999999996,27,16.2,82,80,4.2,4350,1184,1443,7.3489655172413801,8.9565517241379311,1.3524137931034483,"NL-W",{"$f":"LEFT([League-Division],1)","v":"N"},{"$f":"RIGHT([League-Division],1)","v":"W"},{"$f":"IF([LG]=\"N\",10,20)","v":10},{"$f":"IF([DIV]=\"E\",1,IF([DIV]=\"C\",2,3))","v":3},{"$f":"[LGS]+[DIVS]","v":13}]
[2008,"Breslow, Craig","CLE","Cleveland Indians",392000,7,0,8.3333333333333339,-3,3.24,1.7999999999999998,7.56,10.799999999999999,81,81,4.46,4311,986,1530,6.1753653444676413,9.5824634655532357,1.3736951983298538,"AL-C",{"$f":"LEFT([League-Division],1)","v":"A"},{"$f":"RIGHT([League-Division],1)","v":"C"},{"$f":"IF([LG]=\"N\",10,20)","v":20},{"$f":"IF([DIV]=\"E\",1,IF([DIV]=\"C\",2,3))","v":2},{"$f":"[LGS]+[DIVS]","v":22}]
[2008,"Breslow, Craig","MIN","Minnesota Twins",392000,42,0,38.666666666666664,8,1.63,0.98275862068965525,7.4482758620689662,5.5862068965517242,88,75,4.18,4377,995,1568,6.1377655928718298,9.6723783413296776,1.3529814941740919,"AL-C",{"$f":"LEFT([League-Division],1)","v":"A"},{"$f":"RIGHT([League-Division],1)","v":"C"},{"$f":"IF([LG]=\"N\",10,20)","v":20},{"$f":"IF([DIV]=\"E\",1,IF([DIV]=\"C\",2,3))","v":2},{"$f":"[LGS]+[DIVS]","v":22}]
[2009,"Breslow, Craig","MIN","Minnesota Twins",422000,17,0,14.333333333333334,0,6.28,1.5348837209302324,6.9069767441860455,6.9069767441860455,87,76,4.5,4359,1052,1542,6.5161734342739166,9.5512732278045416,1.381968341362698,"AL-C",{"$f":"LEFT([League-Division],1)","v":"A"},{"$f":"RIGHT([League-Division],1)","v":"C"},{"$f":"IF([LG]=\"N\",10,20)","v":20},{"$f":"IF([DIV]=\"E\",1,IF([DIV]=\"C\",2,3))","v":2},{"$f":"[LGS]+[DIVS]","v":22}]
[2009,"Breslow, Craig","OAK","Oakland Athletics",422000,60,0,55.333333333333336,7,2.6,0.99397590361445776,7.1566265060240966,6.0180722891566267,75,87,4.29,4342,1124,1486,6.9894058037770614,9.2404421925380014,1.3880700138185169,"AL-W",{"$f":"LEFT([League-Division],1)","v":"A"},{"$f":"RIGHT([League-Division],1)","v":"W"},{"$f":"IF([LG]=\"N\",10,20)","v":20},{"$f":"IF([DIV]=\"E\",1,IF([DIV]=\"C\",2,3))","v":3},{"$f":"[LGS]+[DIVS]","v":23}]
[2010,"Breslow, Craig","OAK","Oakland Athletics",425000,75,0,74.666666666666671,18,3.01,1.0982142857142856,8.5580357142857135,6.3883928571428568,81,81,3.58,4295,1070,1315,6.7264260768335271,8.2665890570430722,1.2761350407450522,"AL-W",{"$f":"LEFT([League-Division],1)","v":"A"},{"$f":"RIGHT([League-Division],1)","v":"W"},{"$f":"IF([LG]=\"N\",10,20)","v":20},{"$f":"IF([DIV]=\"E\",1,IF([DIV]=\"C\",2,3))","v":3},{"$f":"[LGS]+[DIVS]","v":23}]
[1995,"Brewer, Billy","KCA","Kansas City Royals",220000,48,0,45.333333333333336,-23,5.56,1.6323529411764706,6.1544117647058822,10.720588235294118,70,74,4.49,3864,763,1323,5.3315217391304346,9.2445652173913047,1.4177018633540373,"AL-C",{"$f":"LEFT([League-Division],1)","v":"A"},{"$f":"RIGHT([League-Division],1)","v":"C"},{"$f":"IF([LG]=\"N\",10,20)","v":20},{"$f":"IF([DIV]=\"E\",1,IF([DIV]=\"C\",2,3))","v":2},{"$f":"[LGS]+[DIVS]","v":22}]
[1997,"Brewer, Billy","OAK","Oakland Athletics",200000,3,0,2,-3,13.5,3,4.5,18,65,97,5.49,4335,953,1734,5.9356401384083046,10.799999999999999,1.6442906574394465,"AL-W",{"$f":"LEFT([League-Division],1)","v":"A"},{"$f":"RIGHT([League-Division],1)","v":"W"},{"$f":"IF([LG]=\"N\",10,20)","v":20},{"$f":"IF([DIV]=\"E\",1,IF([DIV]=\"C\",2,3))","v":3},{"$f":"[LGS]+[DIVS]","v":23}]
[1997,"Brewer, Billy","PHI","Philadelphia Phillies",200000,25,0,22,1,3.27,1.1818181818181819,6.5454545454545459,6.1363636363636358,68,94,4.87,4260,1209,1441,7.6626760563380278,9.133098591549297,1.4485915492957746,"NL-E",{"$f":"LEFT([League-Division],1)","v":"N"},{"$f":"RIGHT([League-Division],1)","v":"E"},{"$f":"IF([LG]=\"N\",10,20)","v":10},{"$f":"IF([DIV]=\"E\",1,IF([DIV]=\"C\",2,3))","v":1},{"$f":"[LGS]+[DIVS]","v":11}]
[1998,"Brewer, Billy","PHI","Philadelphia Phillies",310000,2,0,0.33333333333333331,-3,108,15,0,81,75,87,4.6399999999999997,4389,1176,1476,7.2344497607655498,9.0799726589200258,1.3807245386192755,"NL-E",{"$f":"LEFT([League-Division],1)","v":"N"},{"$f":"RIGHT([League-Division],1)","v":"E"},{"$f":"IF([LG]=\"N\",10,20)","v":10},{"$f":"IF([DIV]=\"E\",1,IF([DIV]=\"C\",2,3))","v":1},{"$f":"[LGS]+[DIVS]","v":11}]
[1999,"Brewer, Billy","PHI","Philadelphia Phillies",320000,25,0,25.666666666666668,-2,7.01,1.7142857142857142,9.8181818181818166,10.519480519480519,77,85,4.93,4314,1030,1494,6.4464534075104316,9.350486787204451,1.4749652294853963,"NL-E",{"$f":"LEFT([League-Division],1)","v":"N"},{"$f":"RIGHT([League-Division],1)","v":"E"},{"$f":"IF([LG]=\"N\",10,20)","v":10},{"$f":"IF([DIV]=\"E\",1,IF([DIV]=\"C\",2,3))","v":1},{"$f":"[LGS]+[DIVS]","v":11}]
[1995,"Brewington, Jamie","SFN","San Francisco Giants",109000,13,13,75.333333333333329,-23,4.54,1.5,5.3761061946902657,8.1238938053097343,67,77,4.8600000000000003,3879,801,1368,5.575406032482598,9.5220417633410683,1.448569218870843,"NL-W",{"$f":"LEFT([League-Division],1)","v":"N"},{"$f":"RIGHT([League-Division],1)","v":"W"},{"$f":"IF([LG]=\"N\",10,20)","v":10},{"$f":"IF([DIV]=\"E\",1,IF([DIV]=\"C\",2,3))","v":3},{"$f":"[LGS]+[DIVS]","v":13}]
[1995,"Briscoe, John","OAK","Oakland Athletics",150000,16,0,18.333333333333332,-6,8.35,2.5090909090909093,9.327272727272728,12.272727272727273,67,77,4.93,3819,890,1320,6.2922230950510603,9.3322859387274164,1.4736842105263157,"AL-W",{"$f":"LEFT([League-Division],1)","v":"A"},{"$f":"RIGHT([League-Division],1)","v":"W"},{"$f":"IF([LG]=\"N\",10,20)","v":20},{"$f":"IF([DIV]=\"E\",1,IF([DIV]=\"C\",2,3))","v":3},{"$f":"[LGS]+[DIVS]","v":23}]
[1996,"Briscoe, John","OAK","Oakland Athletics",150000,17,0,26.333333333333332,-4,3.76,1.5949367088607596,4.7848101265822791,6.1518987341772151,78,84,5.2,4368,884,1638,5.4642857142857135,10.125,1.5673076923076923,"AL-W",{"$f":"LEFT([League-Division],1)","v":"A"},{"$f":"RIGHT([League-Division],1)","v":"W"},{"$f":"IF([LG]=\"N\",10,20)","v":20},{"$f":"IF([DIV]=\"E\",1,IF([DIV]=\"C\",2,3))","v":3},{"$f":"[LGS]+[DIVS]","v":23}]
[1995,"Brocail, Doug","HOU","Houston Astros",155000,36,7,77.333333333333329,-48,4.1900000000000004,1.4094827586206897,4.5387931034482758,10.125,76,68,4.0599999999999996,3960,1056,1357,7.2,9.252272727272727,1.3765151515151515,"NL-C",{"$f":"LEFT([League-Division],1)","v":"N"},{"$f":"RIGHT([League-Division],1)","v":"C"},{"$f":"IF([LG]=\"N\",10,20)","v":10},{"$f":"IF([DIV]=\"E\",1,IF([DIV]=\"C\",2,3))","v":2},{"$f":"[LGS]+[DIVS]","v":12}]
[1996,"Brocail, Doug","HOU","Houston Astros",220000,23,4,53,-24,4.58,1.5283018867924529,5.7735849056603774,9.8490566037735849,82,80,4.38,4341,1163,1541,7.233586731167934,9.5846579129232907,1.437456807187284,"NL-C",{"$f":"LEFT([League-Division],1)","v":"N"},{"$f":"RIGHT([League-Division],1)","v":"C"},{"$f":"IF([LG]=\"N\",10,20)","v":10},{"$f":"IF([DIV]=\"E\",1,IF([DIV]=\"C\",2,3))","v":2},{"$f":"[LGS]+[DIVS]","v":12}]
[1997,"Brocail, Doug","DET","Detroit Tigers",425000,61,4,78,-14,3.23,1.4102564102564104,6.9230769230769234,8.5384615384615383,79,83,4.5599999999999996,4335,982,1476,6.1162629757785467,9.1930795847750879,1.4034602076124567,"AL-E",{"$f":"LEFT([League-Division],1)","v":"A"},{"$f":"RIGHT([League-Division],1)","v":"E"},{"$f":"IF([LG]=\"N\",10,20)","v":20},{"$f":"IF([DIV]=\"E\",1,IF([DIV]=\"C\",2,3))","v":1},{"$f":"[LGS]+[DIVS]","v":21}]
[1998,"Brocail, Doug","DET","Detroit Tigers",850000,60,0,62.666666666666664,8,2.73,1.0372340425531916,7.8989361702127665,6.75,65,97,4.93,4338,947,1551,5.894190871369295,9.6535269709543563,1.4840940525587829,"AL-C",{"$f":"LEFT([League-Division],1)","v":"A"},{"$f":"RIGHT([League-Division],1)","v":"C"},{"$f":"IF([LG]=\"N\",10,20)","v":20},{"$f":"IF([DIV]=\"E\",1,IF([DIV]=\"C\",2,3))","v":2},{"$f":"[LGS]+[DIVS]","v":22}]
[1999,"Brocail, Doug","DET","Detroit Tigers",900000,70,0,82,18,2.52,1.0365853658536586,8.5609756097560972,6.5853658536585362,69,92,5.18,4261,976,1528,6.1844637409058913,9.6822342173198788,1.4862708284440274,"AL-C",{"$f":"LEFT([League-Division],1)","v":"A"},{"$f":"RIGHT([League-Division],1)","v":"C"},{"$f":"IF([LG]=\"N\",10,20)","v":20},{"$f":"IF([DIV]=\"E\",1,IF([DIV]=\"C\",2,3))","v":2},{"$f":"[LGS]+[DIVS]","v":22}]
[2000,"Brocail, Doug","DET","Detroit Tigers",1300000,49,0,50.666666666666664,-16,4.09,1.4013157894736843,7.2828947368421053,10.125,79,83,4.71,4329,978,1583,6.0997920997920998,9.873180873180873,1.4407484407484408,"AL-C",{"$f":"LEFT([League-Division],1)","v":"A"},{"$f":"RIGHT([League-Division],1)","v":"C"},{"$f":"IF([LG]=\"N\",10,20)","v":20},{"$f":"IF([DIV]=\"E\",1,IF([DIV]=\"C\",2,3))","v":2},{"$f":"[LGS]+[DIVS]","v":22}]
[2005,"Brocail, Doug","TEX","Texas Rangers",1000000,61,0,73.333333333333329,-29,5.52,1.6909090909090909,7.4863636363636372,11.045454545454545,79,83,4.96,4320,932,1589,5.8250000000000002,9.9312500000000004,1.4659722222222222,"AL-W",{"$f":"LEFT([League-Division],1)","v":"A"},{"$f":"RIGHT([League-Division],1)","v":"W"},{"$f":"IF([LG]=\"N\",10,20)","v":20},{"$f":"IF([DIV]=\"E\",1,IF([DIV]=\"C\",2,3))","v":3},{"$f":"[LGS]+[DIVS]","v":23}]
[2006,"Brocail, Doug","SDN","San Diego Padres",1000000,25,0,28.333333333333332,-8,4.76,1.2352941176470589,6.0352941176470596,8.5764705882352938,88,74,3.87,4391,1097,1385,6.7453882942382144,8.5162833067638335,1.265998633568663,"NL-W",{"$f":"LEFT([League-Division],1)","v":"N"},{"$f":"RIGHT([League-Division],1)","v":"W"},{"$f":"IF([LG]=\"N\",10,20)","v":10},{"$f":"IF([DIV]=\"E\",1,IF([DIV]=\"C\",2,3))","v":3},{"$f":"[LGS]+[DIVS]","v":13}]
[2007,"Brocail, Doug","SDN","San Diego Padres",500000,67,0,76.666666666666671,-23,3.05,1.1739130434782608,5.0478260869565217,7.747826086956521,89,74,3.7,4454,1136,1406,6.8863942523574311,8.5231252806466102,1.2662775033677593,"NL-W",{"$f":"LEFT([League-Division],1)","v":"N"},{"$f":"RIGHT([League-Division],1)","v":"W"},{"$f":"IF([LG]=\"N\",10,20)","v":10},{"$f":"IF([DIV]=\"E\",1,IF([DIV]=\"C\",2,3))","v":3},{"$f":"[LGS]+[DIVS]","v":13}]
[2008,"Brocail, Doug","HOU","Houston Astros",2500000,72,0,68.666666666666671,1,3.93,1.2233009708737863,8.3883495145631066,8.257281553398057,86,75,4.3899999999999997,4276,1095,1453,6.9141721234798883,9.1746959775491117,1.3645930776426567,"NL-C",{"$f":"LEFT([League-Division],1)","v":"N"},{"$f":"RIGHT([League-Division],1)","v":"C"},{"$f":"IF([LG]=\"N\",10,20)","v":10},{"$f":"IF([DIV]=\"E\",1,IF([DIV]=\"C\",2,3))","v":2},{"$f":"[LGS]+[DIVS]","v":12}]
[2009,"Brocail, Doug","HOU","Houston Astros",2500000,20,0,17.666666666666668,-12,4.58,1.9245283018867922,4.5849056603773581,10.69811320754717,74,88,4.54,4290,1144,1521,7.2,9.5727272727272741,1.4454545454545455,"NL-C",{"$f":"LEFT([League-Division],1)","v":"N"},{"$f":"RIGHT([League-Division],1)","v":"C"},{"$f":"IF([LG]=\"N\",10,20)","v":10},{"$f":"IF([DIV]=\"E\",1,IF([DIV]=\"C\",2,3))","v":2},{"$f":"[LGS]+[DIVS]","v":12}]
[1998,"Brock, Chris","SFN","San Francisco Giants",190000,13,0,27.666666666666668,-12,3.9,1.3734939759036144,6.1807228915662646,10.08433734939759,89,74,4.1900000000000004,4431,1089,1457,6.6357481381178065,8.8781313473256596,1.3669600541638456,"NL-W",{"$f":"LEFT([League-Division],1)","v":"N"},{"$f":"RIGHT([League-Division],1)","v":"W"},{"$f":"IF([LG]=\"N\",10,20)","v":10},{"$f":"IF([DIV]=\"E\",1,IF([DIV]=\"C\",2,3))","v":3},{"$f":"[LGS]+[DIVS]","v":13}]
[1999,"Brock, Chris","SFN","San Francisco Giants",215000,19,19,106.66666666666667,-48,5.48,1.546875,6.4125000000000005,10.462499999999999,86,76,4.71,4368,1076,1486,6.6510989010989015,9.1854395604395602,1.4704670329670331,"NL-W",{"$f":"LEFT([League-Division],1)","v":"N"},{"$f":"RIGHT([League-Division],1)","v":"W"},{"$f":"IF([LG]=\"N\",10,20)","v":10},{"$f":"IF([DIV]=\"E\",1,IF([DIV]=\"C\",2,3))","v":3},{"$f":"[LGS]+[DIVS]","v":13}]
[2000,"Brock, Chris","PHI","Philadelphia Phillies",250000,63,5,93.333333333333329,-16,4.34,1.35,6.6535714285714285,8.196428571428573,65,97,4.7699999999999996,4315,1123,1458,7.0268829663962915,9.1230590961761315,1.4586326767091542,"NL-E",{"$f":"LEFT([League-Division],1)","v":"N"},{"$f":"RIGHT([League-Division],1)","v":"E"},{"$f":"IF([LG]=\"N\",10,20)","v":10},{"$f":"IF([DIV]=\"E\",1,IF([DIV]=\"C\",2,3))","v":1},{"$f":"[LGS]+[DIVS]","v":11}]
[2001,"Brock, Chris","PHI","Philadelphia Phillies",700000,24,0,32.666666666666664,-9,4.13,1.5306122448979593,7.16326530612245,9.6428571428571423,86,76,4.1500000000000004,4336,1086,1417,6.7624538745387452,8.8235701107011071,1.3450184501845019,"NL-E",{"$f":"LEFT([League-Division],1)","v":"N"},{"$f":"RIGHT([League-Division],1)","v":"E"},{"$f":"IF([LG]=\"N\",10,20)","v":10},{"$f":"IF([DIV]=\"E\",1,IF([DIV]=\"C\",2,3))","v":1},{"$f":"[LGS]+[DIVS]","v":11}]
[2002,"Brock, Chris","BAL","Baltimore Orioles",1000000,22,0,44,-31,4.7,1.5,4.2954545454545459,10.636363636363637,67,95,4.46,4352,967,1491,5.9993106617647047,9.2502297794117645,1.40625,"AL-E",{"$f":"LEFT([League-Division],1)","v":"A"},{"$f":"RIGHT([League-Division],1)","v":"E"},{"$f":"IF([LG]=\"N\",10,20)","v":20},{"$f":"IF([DIV]=\"E\",1,IF([DIV]=\"C\",2,3))","v":1},{"$f":"[LGS]+[DIVS]","v":21}]
[1995,"Bronkey, Jeff","ML4","Milwaukee Brewers",116000,8,0,12.333333333333334,-10,3.65,1.7027027027027026,3.6486486486486482,10.945945945945946,65,79,4.82,3858,699,1391,4.8919129082426123,9.7348367029548992,1.5505443234836702,"AL-C",{"$f":"LEFT([League-Division],1)","v":"A"},{"$f":"RIGHT([League-Division],1)","v":"C"},{"$f":"IF([LG]=\"N\",10,20)","v":20},{"$f":"IF([DIV]=\"E\",1,IF([DIV]=\"C\",2,3))","v":2},{"$f":"[LGS]+[DIVS]","v":22}]
[2002,"Brower, Jim","MON","Montreal Expos",250000,30,0,41,-6,4.83,1.4878048780487805,7.2439024390243905,8.5609756097560972,83,79,3.97,4359,1088,1475,6.7391603578802473,9.1362697866483131,1.364762560220234,"NL-E",{"$f":"LEFT([League-Division],1)","v":"N"},{"$f":"RIGHT([League-Division],1)","v":"E"},{"$f":"IF([LG]=\"N\",10,20)","v":10},{"$f":"IF([DIV]=\"E\",1,IF([DIV]=\"C\",2,3))","v":1},{"$f":"[LGS]+[DIVS]","v":11}]
[2002,"Brower, Jim","CIN","Cincinnati Reds",250000,22,0,39.333333333333336,-14,3.89,1.2203389830508473,5.4915254237288131,8.6949152542372872,78,84,4.2699999999999996,4361,980,1502,6.0674157303370784,9.2992432928227462,1.4116028433845447,"NL-C",{"$f":"LEFT([League-Division],1)","v":"N"},{"$f":"RIGHT([League-Division],1)","v":"C"},{"$f":"IF([LG]=\"N\",10,20)","v":10},{"$f":"IF([DIV]=\"E\",1,IF([DIV]=\"C\",2,3))","v":2},{"$f":"[LGS]+[DIVS]","v":12}]
[2004,"Brower, Jim","SFN","San Francisco Giants",662500,89,0,93,-27,3.29,1.3548387096774193,6.096774193548387,8.7096774193548399,91,71,4.29,4371,1020,1481,6.300617707618394,9.1482498284145493,1.3925875085792725,"NL-W",{"$f":"LEFT([League-Division],1)","v":"N"},{"$f":"RIGHT([League-Division],1)","v":"W"},{"$f":"IF([LG]=\"N\",10,20)","v":10},{"$f":"IF([DIV]=\"E\",1,IF([DIV]=\"C\",2,3))","v":3},{"$f":"[LGS]+[DIVS]","v":13}]
[2005,"Brower, Jim","SFN","San Francisco Giants",1162500,32,0,30.333333333333332,-15,6.53,1.8131868131868132,7.4175824175824179,11.868131868131869,75,87,4.33,4333,972,1456,6.0567735979690749,9.0726978998384507,1.417955227325179,"NL-W",{"$f":"LEFT([League-Division],1)","v":"N"},{"$f":"RIGHT([League-Division],1)","v":"W"},{"$f":"IF([LG]=\"N\",10,20)","v":10},{"$f":"IF([DIV]=\"E\",1,IF([DIV]=\"C\",2,3))","v":3},{"$f":"[LGS]+[DIVS]","v":13}]
[2005,"Brower, Jim","ATL","Atlanta Braves",1162500,37,0,30,-5,4.2,1.6666666666666667,8.4,9.9,90,72,3.98,4331,929,1487,5.7915031170630336,9.2701454629415849,1.3902101131378435,"NL-E",{"$f":"LEFT([League-Division],1)","v":"N"},{"$f":"RIGHT([League-Division],1)","v":"E"},{"$f":"IF([LG]=\"N\",10,20)","v":10},{"$f":"IF([DIV]=\"E\",1,IF([DIV]=\"C\",2,3))","v":1},{"$f":"[LGS]+[DIVS]","v":11}]
[2006,"Brower, Jim","SDN","San Diego Padres",700000,6,0,7.666666666666667,-6,9.39,1.5652173913043477,5.8695652173913047,12.913043478260869,88,74,3.87,4391,1097,1385,6.7453882942382144,8.5162833067638335,1.265998633568663,"NL-W",{"$f":"LEFT([League-Division],1)","v":"N"},{"$f":"RIGHT([League-Division],1)","v":"W"},{"$f":"IF([LG]=\"N\",10,20)","v":10},{"$f":"IF([DIV]=\"E\",1,IF([DIV]=\"C\",2,3))","v":3},{"$f":"[LGS]+[DIVS]","v":13}]
[2006,"Brower, Jim","BAL","Baltimore Orioles",700000,12,0,12.333333333333334,-12,13.86,2.7567567567567566,6.5675675675675675,15.324324324324323,70,92,5.35,4257,1016,1579,6.4439746300211418,10.014799154334039,1.5447498238195914,"AL-E",{"$f":"LEFT([League-Division],1)","v":"A"},{"$f":"RIGHT([League-Division],1)","v":"E"},{"$f":"IF([LG]=\"N\",10,20)","v":20},{"$f":"IF([DIV]=\"E\",1,IF([DIV]=\"C\",2,3))","v":1},{"$f":"[LGS]+[DIVS]","v":21}]
[2008,"Brown, Andrew","OAK","Oakland Athletics",395000,31,0,35,5,3.09,1.2571428571428571,7.2,5.9142857142857146,75,86,4.01,4305,1061,1364,6.6543554006968648,8.5547038327526135,1.3519163763066202,"AL-W",{"$f":"LEFT([League-Division],1)","v":"A"},{"$f":"RIGHT([League-Division],1)","v":"W"},{"$f":"IF([LG]=\"N\",10,20)","v":20},{"$f":"IF([DIV]=\"E\",1,IF([DIV]=\"C\",2,3))","v":3},{"$f":"[LGS]+[DIVS]","v":23}]
[1995,"Brown, Kevin","BAL","Baltimore Orioles",4225000,26,26,172.33333333333334,-38,3.6,1.1779497098646035,6.1102514506769818,8.094777562862669,71,73,4.3099999999999996,3801,930,1165,6.6061562746645617,8.2754538279400158,1.3322809786898184,"AL-E",{"$f":"LEFT([League-Division],1)","v":"A"},{"$f":"RIGHT([League-Division],1)","v":"E"},{"$f":"IF([LG]=\"N\",10,20)","v":20},{"$f":"IF([DIV]=\"E\",1,IF([DIV]=\"C\",2,3))","v":1},{"$f":"[LGS]+[DIVS]","v":21}]
[1996,"Brown, Kevin","FLO","Florida Marlins",3350000,32,32,233,-28,1.89,0.94420600858369097,6.1416309012875541,7.2231759656652361,80,82,3.95,4329,1050,1386,6.5488565488565493,8.6444906444906451,1.3749133749133748,"NL-E",{"$f":"LEFT([League-Division],1)","v":"N"},{"$f":"RIGHT([League-Division],1)","v":"E"},{"$f":"IF([LG]=\"N\",10,20)","v":10},{"$f":"IF([DIV]=\"E\",1,IF([DIV]=\"C\",2,3))","v":1},{"$f":"[LGS]+[DIVS]","v":11}]
[1997,"Brown, Kevin","FLO","Florida Marlins",4510000,33,33,237.33333333333334,-9,2.69,1.1797752808988764,7.7738764044943816,8.1151685393258415,92,70,3.83,4338,1188,1353,7.3941908713692941,8.4211618257261414,1.3775933609958506,"NL-E",{"$f":"LEFT([League-Division],1)","v":"N"},{"$f":"RIGHT([League-Division],1)","v":"E"},{"$f":"IF([LG]=\"N\",10,20)","v":10},{"$f":"IF([DIV]=\"E\",1,IF([DIV]=\"C\",2,3))","v":1},{"$f":"[LGS]+[DIVS]","v":11}]
[1998,"Brown, Kevin","SDN","San Diego Padres",4935000,36,35,257,32,2.38,1.066147859922179,9,7.8793774319066152,98,64,3.63,4363,1217,1384,7.5312858125143256,8.5647490258996104,1.2961265184506074,"NL-W",{"$f":"LEFT([League-Division],1)","v":"N"},{"$f":"RIGHT([League-Division],1)","v":"W"},{"$f":"IF([LG]=\"N\",10,20)","v":10},{"$f":"IF([DIV]=\"E\",1,IF([DIV]=\"C\",2,3))","v":3},{"$f":"[LGS]+[DIVS]","v":13}]
[1999,"Brown, Kevin","LAN","Los Angeles Dodgers",10714286,35,35,252.33333333333334,11,3,1.0660501981505943,7.8824306472919421,7.4900924702774105,77,85,4.45,4357,1077,1438,6.6740876750057385,8.9111774156529719,1.3991278402570577,"NL-W",{"$f":"LEFT([League-Division],1)","v":"N"},{"$f":"RIGHT([League-Division],1)","v":"W"},{"$f":"IF([LG]=\"N\",10,20)","v":10},{"$f":"IF([DIV]=\"E\",1,IF([DIV]=\"C\",2,3))","v":3},{"$f":"[LGS]+[DIVS]","v":13}]
[2000,"Brown, Kevin","LAN","Los Angeles Dodgers",15714286,33,33,230,35,2.58,0.99130434782608701,8.4521739130434792,7.0826086956521737,86,76,4.0999999999999996,4335,1154,1379,7.1875432525951561,8.5889273356401379,1.3695501730103807,"NL-W",{"$f":"LEFT([League-Division],1)","v":"N"},{"$f":"RIGHT([League-Division],1)","v":"W"},{"$f":"IF([LG]=\"N\",10,20)","v":10},{"$f":"IF([DIV]=\"E\",1,IF([DIV]=\"C\",2,3))","v":3},{"$f":"[LGS]+[DIVS]","v":13}]
[2001,"Brown, Kevin","LAN","Los Angeles Dodgers",15714286,20,19,115.66666666666667,10,2.65,1.1412103746397695,8.0922190201729105,7.314121037463976,86,76,4.25,4352,1212,1387,7.5193014705882355,8.605009191176471,1.3173253676470587,"NL-W",{"$f":"LEFT([League-Division],1)","v":"N"},{"$f":"RIGHT([League-Division],1)","v":"W"},{"$f":"IF([LG]=\"N\",10,20)","v":10},{"$f":"IF([DIV]=\"E\",1,IF([DIV]=\"C\",2,3))","v":3},{"$f":"[LGS]+[DIVS]","v":13}]
[2002,"Brown, Kevin","LAN","Los Angeles Dodgers",15714286,17,10,63.666666666666664,-10,4.8099999999999996,1.4293193717277488,8.198952879581153,9.6125654450261777,92,70,3.69,4373,1132,1311,6.9892522295906696,8.094443174022409,1.2801280585410473,"NL-W",{"$f":"LEFT([League-Division],1)","v":"N"},{"$f":"RIGHT([League-Division],1)","v":"W"},{"$f":"IF([LG]=\"N\",10,20)","v":10},{"$f":"IF([DIV]=\"E\",1,IF([DIV]=\"C\",2,3))","v":3},{"$f":"[LGS]+[DIVS]","v":13}]
[2003,"Brown, Kevin","LAN","Los Angeles Dodgers",15714286,32,32,211,1,2.39,1.1374407582938388,7.890995260663507,7.8483412322274884,85,77,3.16,4373,1289,1254,7.9586096501257719,7.742510862108392,1.2211296592728105,"NL-W",{"$f":"LEFT([League-Division],1)","v":"N"},{"$f":"RIGHT([League-Division],1)","v":"W"},{"$f":"IF([LG]=\"N\",10,20)","v":10},{"$f":"IF([DIV]=\"E\",1,IF([DIV]=\"C\",2,3))","v":3},{"$f":"[LGS]+[DIVS]","v":13}]
[2004,"Brown, Kevin","NYA","New York Yankees",15714286,22,22,132,-49,4.09,1.2651515151515151,5.6590909090909092,9,101,61,4.6900000000000004,4331,1058,1532,6.5957053798199032,9.5506811359963049,1.3694296929115677,"AL-E",{"$f":"LEFT([League-Division],1)","v":"A"},{"$f":"RIGHT([League-Division],1)","v":"E"},{"$f":"IF([LG]=\"N\",10,20)","v":20},{"$f":"IF([DIV]=\"E\",1,IF([DIV]=\"C\",2,3))","v":1},{"$f":"[LGS]+[DIVS]","v":21}]
[2005,"Brown, Kevin","NYA","New York Yankees",15714286,13,13,73.333333333333329,-57,6.5,1.7181818181818183,6.1363636363636367,13.131818181818183,95,67,4.5199999999999996,4292,985,1495,6.1964119291705497,9.4047064305684991,1.3685927306616961,"AL-E",{"$f":"LEFT([League-Division],1)","v":"A"},{"$f":"RIGHT([League-Division],1)","v":"E"},{"$f":"IF([LG]=\"N\",10,20)","v":20},{"$f":"IF([DIV]=\"E\",1,IF([DIV]=\"C\",2,3))","v":1},{"$f":"[LGS]+[DIVS]","v":21}]
[1995,"Browning, Tom","KCA","Kansas City Royals",300000,2,2,10,-10,8.1,1.8,2.6999999999999997,11.700000000000001,70,74,4.49,3864,763,1323,5.3315217391304346,9.2445652173913047,1.4177018633540373,"AL-C",{"$f":"LEFT([League-Division],1)","v":"A"},{"$f":"RIGHT([League-Division],1)","v":"C"},{"$f":"IF([LG]=\"N\",10,20)","v":20},{"$f":"IF([DIV]=\"E\",1,IF([DIV]=\"C\",2,3))","v":2},{"$f":"[LGS]+[DIVS]","v":22}]
[1995,"Browning, Tom","KCA","Kansas City Royals",583333,2,2,10,-10,8.1,1.8,2.6999999999999997,11.700000000000001,70,74,4.49,3864,763,1323,5.3315217391304346,9.2445652173913047,1.4177018633540373,"AL-C",{"$f":"LEFT([League-Division],1)","v":"A"},{"$f":"RIGHT([League-Division],1)","v":"C"},{"$f":"IF([LG]=\"N\",10,20)","v":20},{"$f":"IF([DIV]=\"E\",1,IF([DIV]=\"C\",2,3))","v":2},{"$f":"[LGS]+[DIVS]","v":22}]
[1996,"Brow, Scott","TOR","Toronto Blue Jays",115000,18,1,38.666666666666664,-22,5.59,1.8103448275862071,5.3534482758620694,10.474137931034484,74,88,4.58,4335,1033,1476,6.4339100346020759,9.1930795847750879,1.4435986159169549,"AL-E",{"$f":"LEFT([League-Division],1)","v":"A"},{"$f":"RIGHT([League-Division],1)","v":"E"},{"$f":"IF([LG]=\"N\",10,20)","v":20},{"$f":"IF([DIV]=\"E\",1,IF([DIV]=\"C\",2,3))","v":1},{"$f":"[LGS]+[DIVS]","v":21}]
[1998,"Brow, Scott","ARI","Arizona Diamondbacks",225000,17,0,21.333333333333332,-9,7.17,1.6875,5.484375,9.28125,65,97,4.6399999999999997,4296,908,1463,5.7067039106145252,9.1948324022346366,1.3631284916201116,"NL-W",{"$f":"LEFT([League-Division],1)","v":"N"},{"$f":"RIGHT([League-Division],1)","v":"W"},{"$f":"IF([LG]=\"N\",10,20)","v":10},{"$f":"IF([DIV]=\"E\",1,IF([DIV]=\"C\",2,3))","v":3},{"$f":"[LGS]+[DIVS]","v":13}]
[2007,"Broxton, Jonathan","LAN","Los Angeles Dodgers",390000,83,0,82,30,2.85,1.1463414634146341,10.865853658536585,7.5731707317073171,82,80,4.2,4350,1184,1443,7.3489655172413801,8.9565517241379311,1.3524137931034483,"NL-W",{"$f":"LEFT([League-Division],1)","v":"N"},{"$f":"RIGHT([League-Division],1)","v":"W"},{"$f":"IF([LG]=\"N\",10,20)","v":10},{"$f":"IF([DIV]=\"E\",1,IF([DIV]=\"C\",2,3))","v":3},{"$f":"[LGS]+[DIVS]","v":13}]
[2008,"Broxton, Jonathan","LAN","Los Angeles Dodgers",454000,70,0,69,34,3.13,1.173913043478261,11.478260869565217,7.0434782608695654,84,78,3.68,4342,1205,1381,7.4930907415937362,8.5875172731460161,1.2858129894058039,"NL-W",{"$f":"LEFT([League-Division],1)","v":"N"},{"$f":"RIGHT([League-Division],1)","v":"W"},{"$f":"IF([LG]=\"N\",10,20)","v":10},{"$f":"IF([DIV]=\"E\",1,IF([DIV]=\"C\",2,3))","v":3},{"$f":"[LGS]+[DIVS]","v":13}]
[2009,"Broxton, Jonathan","LAN","Los Angeles Dodgers",1825000,73,0,76,70,2.61,0.96052631578947367,13.5,5.2105263157894743,95,67,3.41,4420,1272,1265,7.7701357466063357,7.7273755656108598,1.2549773755656108,"NL-W",{"$f":"LEFT([League-Division],1)","v":"N"},{"$f":"RIGHT([League-Division],1)","v":"W"},{"$f":"IF([LG]=\"N\",10,20)","v":10},{"$f":"IF([DIV]=\"E\",1,IF([DIV]=\"C\",2,3))","v":3},{"$f":"[LGS]+[DIVS]","v":13}]
[2010,"Broxton, Jonathan","LAN","Los Angeles Dodgers",4000000,64,0,62.333333333333336,9,4.04,1.4759358288770053,10.540106951871659,9.2406417112299462,80,82,4.01,4325,1274,1323,7.9532947976878612,8.259190751445086,1.2915606936416184,"NL-W",{"$f":"LEFT([League-Division],1)","v":"N"},{"$f":"RIGHT([League-Division],1)","v":"W"},{"$f":"IF([LG]=\"N\",10,20)","v":10},{"$f":"IF([DIV]=\"E\",1,IF([DIV]=\"C\",2,3))","v":3},{"$f":"[LGS]+[DIVS]","v":13}]
[2005,"Bruney, Brian","ARI","Arizona Diamondbacks",322500,47,0,46,-5,7.43,1.9782608695652173,9.9782608695652186,10.956521739130435,77,85,4.84,4369,1038,1580,6.414740215152209,9.7642481116960411,1.4536507209887848,"NL-W",{"$f":"LEFT([League-Division],1)","v":"N"},{"$f":"RIGHT([League-Division],1)","v":"W"},{"$f":"IF([LG]=\"N\",10,20)","v":10},{"$f":"IF([DIV]=\"E\",1,IF([DIV]=\"C\",2,3))","v":3},{"$f":"[LGS]+[DIVS]","v":13}]
[2007,"Bruney, Brian","NYA","New York Yankees",395545,58,0,50,-5,4.68,1.62,7.0200000000000005,7.92,94,68,4.49,4352,1009,1498,6.2598805147058822,9.2936580882352935,1.4310661764705881,"AL-E",{"$f":"LEFT([League-Division],1)","v":"A"},{"$f":"RIGHT([League-Division],1)","v":"E"},{"$f":"IF([LG]=\"N\",10,20)","v":20},{"$f":"IF([DIV]=\"E\",1,IF([DIV]=\"C\",2,3))","v":1},{"$f":"[LGS]+[DIVS]","v":21}]
[2008,"Bruney, Brian","NYA","New York Yankees",725000,32,1,34.333333333333336,15,1.83,0.99029126213592222,8.6504854368932023,4.7184466019417473,89,73,4.28,4325,1141,1478,7.123005780346821,9.2268208092485544,1.3643930635838148,"AL-E",{"$f":"LEFT([League-Division],1)","v":"A"},{"$f":"RIGHT([League-Division],1)","v":"E"},{"$f":"IF([LG]=\"N\",10,20)","v":20},{"$f":"IF([DIV]=\"E\",1,IF([DIV]=\"C\",2,3))","v":1},{"$f":"[LGS]+[DIVS]","v":21}]
[2009,"Bruney, Brian","NYA","New York Yankees",1250000,44,0,39,0,3.92,1.5128205128205128,8.3076923076923084,8.3076923076923084,103,59,4.28,4350,1260,1386,7.8206896551724139,8.6027586206896558,1.3517241379310345,"AL-E",{"$f":"LEFT([League-Division],1)","v":"A"},{"$f":"RIGHT([League-Division],1)","v":"E"},{"$f":"IF([LG]=\"N\",10,20)","v":20},{"$f":"IF([DIV]=\"E\",1,IF([DIV]=\"C\",2,3))","v":1},{"$f":"[LGS]+[DIVS]","v":21}]
[2010,"Bruney, Brian","WAS","Washington Nationals",1500000,19,0,17.666666666666668,-5,7.64,2.3207547169811318,8.1509433962264151,10.69811320754717,69,93,4.13,4305,1068,1469,6.6982578397212542,9.2132404181184668,1.3804878048780487,"NL-E",{"$f":"LEFT([League-Division],1)","v":"N"},{"$f":"RIGHT([League-Division],1)","v":"E"},{"$f":"IF([LG]=\"N\",10,20)","v":10},{"$f":"IF([DIV]=\"E\",1,IF([DIV]=\"C\",2,3))","v":1},{"$f":"[LGS]+[DIVS]","v":11}]
[1997,"Bruske, Jim","SDN","San Diego Padres",185000,28,0,44.666666666666664,-5,3.63,1.3880597014925373,6.4477611940298516,7.4552238805970159,76,86,4.99,4350,1059,1581,6.5731034482758623,9.8131034482758626,1.5013793103448276,"NL-W",{"$f":"LEFT([League-Division],1)","v":"N"},{"$f":"RIGHT([League-Division],1)","v":"W"},{"$f":"IF([LG]=\"N\",10,20)","v":10},{"$f":"IF([DIV]=\"E\",1,IF([DIV]=\"C\",2,3))","v":3},{"$f":"[LGS]+[DIVS]","v":13}]
[1998,"Bruske, Jim","NYA","New York Yankees",200000,3,1,9,-6,3,1.1111111111111112,3,9,114,48,3.82,4369,1080,1357,6.6742961776150151,8.3861295490959034,1.251773861295491,"AL-E",{"$f":"LEFT([League-Division],1)","v":"A"},{"$f":"RIGHT([League-Division],1)","v":"E"},{"$f":"IF([LG]=\"N\",10,20)","v":20},{"$f":"IF([DIV]=\"E\",1,IF([DIV]=\"C\",2,3))","v":1},{"$f":"[LGS]+[DIVS]","v":21}]
[1998,"Bruske, Jim","SDN","San Diego Padres",200000,4,0,7,-6,3.86,2,5.1428571428571423,12.857142857142858,98,64,3.63,4363,1217,1384,7.5312858125143256,8.5647490258996104,1.2961265184506074,"NL-W",{"$f":"LEFT([League-Division],1)","v":"N"},{"$f":"RIGHT([League-Division],1)","v":"W"},{"$f":"IF([LG]=\"N\",10,20)","v":10},{"$f":"IF([DIV]=\"E\",1,IF([DIV]=\"C\",2,3))","v":3},{"$f":"[LGS]+[DIVS]","v":13}]
[1998,"Bruske, Jim","LAN","Los Angeles Dodgers",200000,35,0,44,-16,3.48,1.5,6.3409090909090917,9.6136363636363633,83,79,3.81,4341,1178,1332,7.3268832066344167,8.2847270214236346,1.3261921216309607,"NL-W",{"$f":"LEFT([League-Division],1)","v":"N"},{"$f":"RIGHT([League-Division],1)","v":"W"},{"$f":"IF([LG]=\"N\",10,20)","v":10},{"$f":"IF([DIV]=\"E\",1,IF([DIV]=\"C\",2,3))","v":3},{"$f":"[LGS]+[DIVS]","v":13}]
[2000,"Bruske, Jim","MIL","Milwaukee Brewers",200000,15,0,16.666666666666668,-14,6.48,2.04,4.32,11.879999999999999,73,89,4.6399999999999997,4398,967,1501,5.9365620736698492,9.2148703956343798,1.5204638472032743,"NL-C",{"$f":"LEFT([League-Division],1)","v":"N"},{"$f":"RIGHT([League-Division],1)","v":"C"},{"$f":"IF([LG]=\"N\",10,20)","v":10},{"$f":"IF([DIV]=\"E\",1,IF([DIV]=\"C\",2,3))","v":2},{"$f":"[LGS]+[DIVS]","v":12}]
[2008,"Buchholz, Clay","BOS","Boston Red Sox",396000,16,15,76,-21,6.75,1.763157894736842,8.5263157894736832,11.013157894736841,95,67,4.01,4339,1185,1369,7.3738188522701087,8.5187831297534,1.3254206038257663,"AL-E",{"$f":"LEFT([League-Division],1)","v":"A"},{"$f":"RIGHT([League-Division],1)","v":"E"},{"$f":"IF([LG]=\"N\",10,20)","v":20},{"$f":"IF([DIV]=\"E\",1,IF([DIV]=\"C\",2,3))","v":1},{"$f":"[LGS]+[DIVS]","v":21}]
[2010,"Buchholz, Clay","BOS","Boston Red Sox",443000,28,28,173.66666666666666,-22,2.33,1.2034548944337813,6.2188099808061423,7.3589251439539352,89,73,4.2,4370,1207,1402,7.457437070938215,8.6622425629290607,1.3606407322654461,"AL-E",{"$f":"LEFT([League-Division],1)","v":"A"},{"$f":"RIGHT([League-Division],1)","v":"E"},{"$f":"IF([LG]=\"N\",10,20)","v":20},{"$f":"IF([DIV]=\"E\",1,IF([DIV]=\"C\",2,3))","v":1},{"$f":"[LGS]+[DIVS]","v":21}]
[2006,"Buchholz, Taylor","HOU","Houston Astros",327000,22,19,113,-30,5.89,1.247787610619469,6.1327433628318584,8.5221238938053094,82,80,4.08,4406,1160,1425,7.1084884248751701,8.7324103495233771,1.2970948706309577,"NL-C",{"$f":"LEFT([League-Division],1)","v":"N"},{"$f":"RIGHT([League-Division],1)","v":"C"},{"$f":"IF([LG]=\"N\",10,20)","v":10},{"$f":"IF([DIV]=\"E\",1,IF([DIV]=\"C\",2,3))","v":2},{"$f":"[LGS]+[DIVS]","v":12}]
[2008,"Buchholz, Taylor","COL","Colorado Rockies",399000,63,0,66.333333333333329,11,2.17,0.94974874371859308,7.5979899497487446,6.1055276381909556,74,88,4.7699999999999996,4338,1041,1547,6.4792531120331951,9.6286307053941904,1.45850622406639,"NL-W",{"$f":"LEFT([League-Division],1)","v":"N"},{"$f":"RIGHT([League-Division],1)","v":"W"},{"$f":"IF([LG]=\"N\",10,20)","v":10},{"$f":"IF([DIV]=\"E\",1,IF([DIV]=\"C\",2,3))","v":3},{"$f":"[LGS]+[DIVS]","v":13}]
[2010,"Buchholz, Taylor","COL","Colorado Rockies",1055000,7,0,10,-1,4.5,1.6,8.1,9,83,79,4.1399999999999997,4326,1234,1405,7.7018030513176141,8.7690707350901533,1.3384188626907074,"NL-W",{"$f":"LEFT([League-Division],1)","v":"N"},{"$f":"RIGHT([League-Division],1)","v":"W"},{"$f":"IF([LG]=\"N\",10,20)","v":10},{"$f":"IF([DIV]=\"E\",1,IF([DIV]=\"C\",2,3))","v":3},{"$f":"[LGS]+[DIVS]","v":13}]
[2010,"Buchholz, Taylor","TOR","Toronto Blue Jays",1055000,2,0,2,0,0,0,0,0,85,77,4.2300000000000004,4322,1184,1407,7.3965756594169365,8.789680703378064,1.3507635354002776,"AL-E",{"$f":"LEFT([League-Division],1)","v":"A"},{"$f":"RIGHT([League-Division],1)","v":"E"},{"$f":"IF([LG]=\"N\",10,20)","v":20},{"$f":"IF([DIV]=\"E\",1,IF([DIV]=\"C\",2,3))","v":1},{"$f":"[LGS]+[DIVS]","v":21}]
[2009,"Buckner, Billy","ARI","Arizona Diamondbacks",403000,16,13,77.333333333333329,-30,6.4,1.5905172413793105,7.4482758620689662,10.939655172413794,70,92,4.4400000000000004,4343,1158,1470,7.1991710798986874,9.1388441169698353,1.3780796684319594,"NL-W",{"$f":"LEFT([League-Division],1)","v":"N"},{"$f":"RIGHT([League-Division],1)","v":"W"},{"$f":"IF([LG]=\"N\",10,20)","v":10},{"$f":"IF([DIV]=\"E\",1,IF([DIV]=\"C\",2,3))","v":3},{"$f":"[LGS]+[DIVS]","v":13}]
[2002,"Buddie, Mike","MIL","Milwaukee Brewers",218000,25,0,39.666666666666664,-18,4.54,1.6890756302521008,6.3529411764705888,10.436974789915967,56,106,4.7300000000000004,4297,1026,1468,6.446823365138469,9.2241098440772653,1.4898766581335816,"NL-C",{"$f":"LEFT([League-Division],1)","v":"N"},{"$f":"RIGHT([League-Division],1)","v":"C"},{"$f":"IF([LG]=\"N\",10,20)","v":10},{"$f":"IF([DIV]=\"E\",1,IF([DIV]=\"C\",2,3))","v":2},{"$f":"[LGS]+[DIVS]","v":12}]
[2001,"Buehrle, Mark","CHA","Chicago White Sox",225000,32,32,221.33333333333334,-62,3.29,1.0662650602409638,5.1234939759036138,7.6445783132530121,83,79,4.55,4300,921,1465,5.7830232558139532,9.1988372093023258,1.3709302325581396,"AL-C",{"$f":"LEFT([League-Division],1)","v":"A"},{"$f":"RIGHT([League-Division],1)","v":"C"},{"$f":"IF([LG]=\"N\",10,20)","v":20},{"$f":"IF([DIV]=\"E\",1,IF([DIV]=\"C\",2,3))","v":2},{"$f":"[LGS]+[DIVS]","v":22}]
[2002,"Buehrle, Mark","CHA","Chicago White Sox",310000,34,34,239,-102,3.58,1.2426778242677825,5.0460251046025109,8.8870292887029283,81,81,4.53,4269,945,1422,5.9768095572733664,8.9936753338018267,1.370344342937456,"AL-C",{"$f":"LEFT([League-Division],1)","v":"A"},{"$f":"RIGHT([League-Division],1)","v":"C"},{"$f":"IF([LG]=\"N\",10,20)","v":20},{"$f":"IF([DIV]=\"E\",1,IF([DIV]=\"C\",2,3))","v":2},{"$f":"[LGS]+[DIVS]","v":22}]
[2003,"Buehrle, Mark","CHA","Chicago White Sox",445000,35,35,230.33333333333334,-131,4.1399999999999997,1.350217076700434,4.6497829232995658,9.768451519536903,86,76,4.17,4293,1056,1364,6.6415094339622645,8.5786163522012586,1.3151642208245982,"AL-C",{"$f":"LEFT([League-Division],1)","v":"A"},{"$f":"RIGHT([League-Division],1)","v":"C"},{"$f":"IF([LG]=\"N\",10,20)","v":20},{"$f":"IF([DIV]=\"E\",1,IF([DIV]=\"C\",2,3))","v":2},{"$f":"[LGS]+[DIVS]","v":22}]
[2004,"Buehrle, Mark","CHA","Chicago White Sox",3500000,35,35,245.33333333333334,-92,3.89,1.2554347826086956,6.0529891304347823,9.4279891304347814,83,79,4.91,4297,1013,1505,6.3651384686990928,9.456597626250872,1.4186641843146381,"AL-C",{"$f":"LEFT([League-Division],1)","v":"A"},{"$f":"RIGHT([League-Division],1)","v":"C"},{"$f":"IF([LG]=\"N\",10,20)","v":20},{"$f":"IF([DIV]=\"E\",1,IF([DIV]=\"C\",2,3))","v":2},{"$f":"[LGS]+[DIVS]","v":22}]
[2005,"Buehrle, Mark","CHA","Chicago White Sox",6000000,33,33,236.66666666666666,-91,3.12,1.1830985915492958,5.6661971830985918,9.126760563380282,99,63,3.61,4427,1040,1392,6.3428958662751294,8.4897221594759422,1.2543483171447933,"AL-C",{"$f":"LEFT([League-Division],1)","v":"A"},{"$f":"RIGHT([League-Division],1)","v":"C"},{"$f":"IF([LG]=\"N\",10,20)","v":20},{"$f":"IF([DIV]=\"E\",1,IF([DIV]=\"C\",2,3))","v":2},{"$f":"[LGS]+[DIVS]","v":22}]
[2006,"Buehrle, Mark","CHA","Chicago White Sox",8000000,32,32,204,-149,4.99,1.446078431372549,4.3235294117647056,10.897058823529411,90,72,4.6100000000000003,4347,1012,1534,6.2857142857142856,9.5279503105590067,1.357487922705314,"AL-C",{"$f":"LEFT([League-Division],1)","v":"A"},{"$f":"RIGHT([League-Division],1)","v":"C"},{"$f":"IF([LG]=\"N\",10,20)","v":20},{"$f":"IF([DIV]=\"E\",1,IF([DIV]=\"C\",2,3))","v":2},{"$f":"[LGS]+[DIVS]","v":22}]
[2007,"Buehrle, Mark","CHA","Chicago White Sox",9500000,30,30,201,-93,3.63,1.2587064676616915,5.1492537313432827,9.3134328358208958,72,90,4.7699999999999996,4322,1015,1556,6.3408144377602955,9.7204997686256362,1.426422952336881,"AL-C",{"$f":"LEFT([League-Division],1)","v":"A"},{"$f":"RIGHT([League-Division],1)","v":"C"},{"$f":"IF([LG]=\"N\",10,20)","v":20},{"$f":"IF([DIV]=\"E\",1,IF([DIV]=\"C\",2,3))","v":2},{"$f":"[LGS]+[DIVS]","v":22}]
[2008,"Buehrle, Mark","CHA","Chicago White Sox",14000000,34,34,218.66666666666666,-100,3.79,1.3353658536585367,5.76219512195122,9.8780487804878057,89,74,4.1100000000000003,4373,1147,1471,7.0818659958838319,9.0823233478161445,1.3247198719414588,"AL-C",{"$f":"LEFT([League-Division],1)","v":"A"},{"$f":"RIGHT([League-Division],1)","v":"C"},{"$f":"IF([LG]=\"N\",10,20)","v":20},{"$f":"IF([DIV]=\"E\",1,IF([DIV]=\"C\",2,3))","v":2},{"$f":"[LGS]+[DIVS]","v":22}]
[2009,"Buehrle, Mark","CHA","Chicago White Sox",14000000,33,33,213.33333333333334,-117,3.84,1.2515624999999999,4.4296875,9.3656249999999996,79,83,4.16,4319,1119,1438,6.9953692984487148,8.9895809215096083,1.3510071775874044,"AL-C",{"$f":"LEFT([League-Division],1)","v":"A"},{"$f":"RIGHT([League-Division],1)","v":"C"},{"$f":"IF([LG]=\"N\",10,20)","v":20},{"$f":"IF([DIV]=\"E\",1,IF([DIV]=\"C\",2,3))","v":2},{"$f":"[LGS]+[DIVS]","v":22}]
[2010,"Buehrle, Mark","CHA","Chicago White Sox",14000000,33,33,210.33333333333334,-147,4.28,1.4025356576862122,4.2361331220285265,10.526148969889064,88,74,4.09,4339,1149,1471,7.1498041023277255,9.1534915879234848,1.3558423599907814,"AL-C",{"$f":"LEFT([League-Division],1)","v":"A"},{"$f":"RIGHT([League-Division],1)","v":"C"},{"$f":"IF([LG]=\"N\",10,20)","v":20},{"$f":"IF([DIV]=\"E\",1,IF([DIV]=\"C\",2,3))","v":2},{"$f":"[LGS]+[DIVS]","v":22}]
[2003,"Bukvich, Ryan","KCA","Kansas City Royals",304500,9,0,10.333333333333334,-4,9.58,2.032258064516129,6.967741935483871,10.451612903225804,83,79,5.0599999999999996,4316,865,1569,5.4112604263206672,9.8153382761816488,1.4840129749768303,"AL-C",{"$f":"LEFT([League-Division],1)","v":"A"},{"$f":"RIGHT([League-Division],1)","v":"C"},{"$f":"IF([LG]=\"N\",10,20)","v":20},{"$f":"IF([DIV]=\"E\",1,IF([DIV]=\"C\",2,3))","v":2},{"$f":"[LGS]+[DIVS]","v":22}]
[2005,"Bukvich, Ryan","TEX","Texas Rangers",319500,4,0,4,2,11.25,2,9,4.5,79,83,4.96,4320,932,1589,5.8250000000000002,9.9312500000000004,1.4659722222222222,"AL-W",{"$f":"LEFT([League-Division],1)","v":"A"},{"$f":"RIGHT([League-Division],1)","v":"W"},{"$f":"IF([LG]=\"N\",10,20)","v":20},{"$f":"IF([DIV]=\"E\",1,IF([DIV]=\"C\",2,3))","v":3},{"$f":"[LGS]+[DIVS]","v":23}]
[2008,"Bulger, Jason","LAA","Los Angeles Angels of Anaheim",392000,14,0,16,5,7.31,1.5,11.25,8.4375,100,62,4,4354,1106,1455,6.8585209003215439,9.0227377124483237,1.3174092788240699,"AL-W",{"$f":"LEFT([League-Division],1)","v":"A"},{"$f":"RIGHT([League-Division],1)","v":"W"},{"$f":"IF([LG]=\"N\",10,20)","v":20},{"$f":"IF([DIV]=\"E\",1,IF([DIV]=\"C\",2,3))","v":3},{"$f":"[LGS]+[DIVS]","v":23}]
[2009,"Bulger, Jason","LAA","Los Angeles Angels of Anaheim",403000,64,0,65.666666666666671,22,3.56,1.1573604060913705,9.3197969543147217,6.3045685279187813,97,65,4.45,4335,1062,1513,6.6145328719723189,9.4235294117647062,1.4089965397923876,"AL-W",{"$f":"LEFT([League-Division],1)","v":"A"},{"$f":"RIGHT([League-Division],1)","v":"W"},{"$f":"IF([LG]=\"N\",10,20)","v":20},{"$f":"IF([DIV]=\"E\",1,IF([DIV]=\"C\",2,3))","v":3},{"$f":"[LGS]+[DIVS]","v":23}]
[2010,"Bulger, Jason","LAA","Los Angeles Angels of Anaheim",418000,25,0,24,0,4.88,1.6666666666666667,9.375,9.375,80,82,4.04,4348,1130,1422,7.0170193192272317,8.8302667893284283,1.3709751609935603,"AL-W",{"$f":"LEFT([League-Division],1)","v":"A"},{"$f":"RIGHT([League-Division],1)","v":"W"},{"$f":"IF([LG]=\"N\",10,20)","v":20},{"$f":"IF([DIV]=\"E\",1,IF([DIV]=\"C\",2,3))","v":3},{"$f":"[LGS]+[DIVS]","v":23}]
[1995,"Bullinger, Jim","CHN","Chicago Cubs",187500,24,24,150,-59,4.1399999999999997,1.4466666666666668,5.58,9.120000000000001,73,71,4.13,3903,926,1313,6.4058416602613368,9.0830130668716365,1.4073789392774789,"NL-C",{"$f":"LEFT([League-Division],1)","v":"N"},{"$f":"RIGHT([League-Division],1)","v":"C"},{"$f":"IF([LG]=\"N\",10,20)","v":10},{"$f":"IF([DIV]=\"E\",1,IF([DIV]=\"C\",2,3))","v":2},{"$f":"[LGS]+[DIVS]","v":12}]
[1996,"Bullinger, Jim","CHN","Chicago Cubs",385000,37,20,129.33333333333334,-54,6.54,1.6391752577319587,6.2628865979381443,10.020618556701029,76,86,4.3600000000000003,4368,1027,1447,6.3482142857142865,8.9443681318681314,1.3688186813186813,"NL-C",{"$f":"LEFT([League-Division],1)","v":"N"},{"$f":"RIGHT([League-Division],1)","v":"C"},{"$f":"IF([LG]=\"N\",10,20)","v":10},{"$f":"IF([DIV]=\"E\",1,IF([DIV]=\"C\",2,3))","v":2},{"$f":"[LGS]+[DIVS]","v":12}]
[1997,"Bullinger, Jim","MON","Montreal Expos",525000,36,25,155.33333333333334,-78,5.56,1.53862660944206,5.040772532188841,9.560085836909872,78,84,4.1399999999999997,4341,1138,1365,7.0780926053904638,8.4899792674498968,1.3282653766413268,"NL-E",{"$f":"LEFT([League-Division],1)","v":"N"},{"$f":"RIGHT([League-Division],1)","v":"E"},{"$f":"IF([LG]=\"N\",10,20)","v":10},{"$f":"IF([DIV]=\"E\",1,IF([DIV]=\"C\",2,3))","v":1},{"$f":"[LGS]+[DIVS]","v":11}]
[1998,"Bullinger, Jim","SEA","Seattle Mariners",400000,2,1,5.666666666666667,-9,15.88,2.6470588235294117,6.3529411764705879,20.647058823529409,76,85,4.95,4272,1156,1530,7.3061797752808992,9.6699438202247183,1.4452247191011236,"AL-W",{"$f":"LEFT([League-Division],1)","v":"A"},{"$f":"RIGHT([League-Division],1)","v":"W"},{"$f":"IF([LG]=\"N\",10,20)","v":20},{"$f":"IF([DIV]=\"E\",1,IF([DIV]=\"C\",2,3))","v":3},{"$f":"[LGS]+[DIVS]","v":23}]
[1998,"Bullinger, Kirk","MON","Montreal Expos",170000,8,0,7,-12,9,2,2.5714285714285712,18,65,97,4.3899999999999997,4281,1017,1448,6.4141555711282408,9.1324456902592868,1.3882270497547302,"NL-E",{"$f":"LEFT([League-Division],1)","v":"N"},{"$f":"RIGHT([League-Division],1)","v":"E"},{"$f":"IF([LG]=\"N\",10,20)","v":10},{"$f":"IF([DIV]=\"E\",1,IF([DIV]=\"C\",2,3))","v":1},{"$f":"[LGS]+[DIVS]","v":11}]
[2004,"Bump, Nate","FLO","Florida Marlins",305000,50,2,73.666666666666671,-42,5.01,1.6018099547511311,5.3755656108597281,10.50678733031674,83,79,4.0999999999999996,4317,1116,1395,6.9798471160528148,8.724808895066019,1.3259207783182765,"NL-E",{"$f":"LEFT([League-Division],1)","v":"N"},{"$f":"RIGHT([League-Division],1)","v":"E"},{"$f":"IF([LG]=\"N\",10,20)","v":10},{"$f":"IF([DIV]=\"E\",1,IF([DIV]=\"C\",2,3))","v":1},{"$f":"[LGS]+[DIVS]","v":11}]
[2005,"Bump, Nate","FLO","Florida Marlins",360000,31,0,38,-25,4.03,1.4473684210526316,4.2631578947368416,10.184210526315789,83,79,4.16,4327,1125,1459,7.0198752022186275,9.1039981511439798,1.4018950774208458,"NL-E",{"$f":"LEFT([League-Division],1)","v":"N"},{"$f":"RIGHT([League-Division],1)","v":"E"},{"$f":"IF([LG]=\"N\",10,20)","v":10},{"$f":"IF([DIV]=\"E\",1,IF([DIV]=\"C\",2,3))","v":1},{"$f":"[LGS]+[DIVS]","v":11}]
[1995,"Burba, Dave","SFN","San Francisco Giants",600000,37,0,43.333333333333336,8,4.9800000000000004,1.4538461538461538,9.5538461538461537,7.8923076923076927,67,77,4.8600000000000003,3879,801,1368,5.575406032482598,9.5220417633410683,1.448569218870843,"NL-W",{"$f":"LEFT([League-Division],1)","v":"N"},{"$f":"RIGHT([League-Division],1)","v":"W"},{"$f":"IF([LG]=\"N\",10,20)","v":10},{"$f":"IF([DIV]=\"E\",1,IF([DIV]=\"C\",2,3))","v":3},{"$f":"[LGS]+[DIVS]","v":13}]
[1995,"Burba, Dave","CIN","Cincinnati Reds",600000,15,9,63.333333333333336,-2,3.27,1.2315789473684211,7.1052631578947372,7.3894736842105262,85,59,4.03,3867,903,1270,6.3048875096974397,8.8673390224980615,1.3141970519782777,"NL-C",{"$f":"LEFT([League-Division],1)","v":"N"},{"$f":"RIGHT([League-Division],1)","v":"C"},{"$f":"IF([LG]=\"N\",10,20)","v":10},{"$f":"IF([DIV]=\"E\",1,IF([DIV]=\"C\",2,3))","v":2},{"$f":"[LGS]+[DIVS]","v":12}]
[1996,"Burba, Dave","CIN","Cincinnati Reds",1125000,34,33,195,-31,3.83,1.4153846153846155,6.8307692307692305,8.2615384615384606,81,81,4.33,4329,1089,1447,6.7920997920997923,9.0249480249480261,1.4123354123354124,"NL-C",{"$f":"LEFT([League-Division],1)","v":"N"},{"$f":"RIGHT([League-Division],1)","v":"C"},{"$f":"IF([LG]=\"N\",10,20)","v":10},{"$f":"IF([DIV]=\"E\",1,IF([DIV]=\"C\",2,3))","v":2},{"$f":"[LGS]+[DIVS]","v":12}]
[1997,"Burba, Dave","CIN","Cincinnati Reds",2100000,30,27,160,-26,4.7300000000000004,1.4375,7.3687499999999995,8.8312499999999989,76,86,4.42,4347,1159,1408,7.1987577639751548,8.7453416149068328,1.3567977915804004,"NL-C",{"$f":"LEFT([League-Division],1)","v":"N"},{"$f":"RIGHT([League-Division],1)","v":"C"},{"$f":"IF([LG]=\"N\",10,20)","v":10},{"$f":"IF([DIV]=\"E\",1,IF([DIV]=\"C\",2,3))","v":2},{"$f":"[LGS]+[DIVS]","v":12}]
[1998,"Burba, Dave","CLE","Cleveland Indians",2800000,32,31,203.66666666666666,-78,4.1100000000000003,1.3698854337152211,5.8330605564648126,9.2798690671031085,89,73,4.45,4380,1037,1552,6.3924657534246574,9.5671232876712331,1.4486301369863013,"AL-C",{"$f":"LEFT([League-Division],1)","v":"A"},{"$f":"RIGHT([League-Division],1)","v":"C"},{"$f":"IF([LG]=\"N\",10,20)","v":20},{"$f":"IF([DIV]=\"E\",1,IF([DIV]=\"C\",2,3))","v":2},{"$f":"[LGS]+[DIVS]","v":22}]
[1999,"Burba, Dave","CLE","Cleveland Indians",4666664,34,34,220,-37,4.25,1.3954545454545455,7.1181818181818182,8.6318181818181827,97,65,4.9000000000000004,4350,1120,1503,6.9517241379310342,9.3289655172413788,1.4737931034482759,"AL-C",{"$f":"LEFT([League-Division],1)","v":"A"},{"$f":"RIGHT([League-Division],1)","v":"C"},{"$f":"IF([LG]=\"N\",10,20)","v":20},{"$f":"IF([DIV]=\"E\",1,IF([DIV]=\"C\",2,3))","v":2},{"$f":"[LGS]+[DIVS]","v":22}]
[2000,"Burba, Dave","CLE","Cleveland Indians",5000000,32,32,191.33333333333334,-19,4.47,1.5156794425087108,8.4668989547038329,9.3606271777003478,90,72,4.84,4326,1213,1511,7.5707350901525654,9.4306518723994444,1.5097087378640777,"AL-C",{"$f":"LEFT([League-Division],1)","v":"A"},{"$f":"RIGHT([League-Division],1)","v":"C"},{"$f":"IF([LG]=\"N\",10,20)","v":20},{"$f":"IF([DIV]=\"E\",1,IF([DIV]=\"C\",2,3))","v":2},{"$f":"[LGS]+[DIVS]","v":22}]
[2001,"Burba, Dave","CLE","Cleveland Indians",5000000,32,27,150.66666666666666,-70,6.21,1.6061946902654869,7.0486725663716818,11.230088495575222,91,71,4.6399999999999997,4340,1218,1512,7.5774193548387094,9.4064516129032256,1.4412442396313363,"AL-C",{"$f":"LEFT([League-Division],1)","v":"A"},{"$f":"RIGHT([League-Division],1)","v":"C"},{"$f":"IF([LG]=\"N\",10,20)","v":20},{"$f":"IF([DIV]=\"E\",1,IF([DIV]=\"C\",2,3))","v":2},{"$f":"[LGS]+[DIVS]","v":22}]
[2002,"Burba, Dave","TEX","Texas Rangers",2000000,23,18,111.33333333333333,-55,5.42,1.4820359281437125,5.6586826347305399,10.104790419161677,72,90,5.15,4319,1030,1528,6.4389905070618196,9.5522111599907387,1.5260476962259781,"AL-W",{"$f":"LEFT([League-Division],1)","v":"A"},{"$f":"RIGHT([League-Division],1)","v":"W"},{"$f":"IF([LG]=\"N\",10,20)","v":20},{"$f":"IF([DIV]=\"E\",1,IF([DIV]=\"C\",2,3))","v":3},{"$f":"[LGS]+[DIVS]","v":23}]
[2002,"Burba, Dave","CLE","Cleveland Indians",2000000,12,3,34,-5,4.5,1.3823529411764706,6.6176470588235299,7.9411764705882355,74,88,4.91,4274,1058,1508,6.6836686944314456,9.526438933083762,1.4817501169864296,"AL-C",{"$f":"LEFT([League-Division],1)","v":"A"},{"$f":"RIGHT([League-Division],1)","v":"C"},{"$f":"IF([LG]=\"N\",10,20)","v":20},{"$f":"IF([DIV]=\"E\",1,IF([DIV]=\"C\",2,3))","v":2},{"$f":"[LGS]+[DIVS]","v":22}]
[2004,"Burba, Dave","MIL","Milwaukee Brewers",440000,45,0,70.666666666666671,-16,4.08,1.2311320754716981,5.9858490566037723,8.0235849056603765,67,94,4.24,4326,1098,1440,6.8529819694868239,8.9875173370318997,1.3287101248266298,"NL-C",{"$f":"LEFT([League-Division],1)","v":"N"},{"$f":"RIGHT([League-Division],1)","v":"C"},{"$f":"IF([LG]=\"N\",10,20)","v":10},{"$f":"IF([DIV]=\"E\",1,IF([DIV]=\"C\",2,3))","v":2},{"$f":"[LGS]+[DIVS]","v":12}]
[2004,"Burba, Dave","SFN","San Francisco Giants",440000,6,0,6.333333333333333,-4,5.68,1.4210526315789473,4.2631578947368425,9.9473684210526319,91,71,4.29,4371,1020,1481,6.300617707618394,9.1482498284145493,1.3925875085792725,"NL-W",{"$f":"LEFT([League-Division],1)","v":"N"},{"$f":"RIGHT([League-Division],1)","v":"W"},{"$f":"IF([LG]=\"N\",10,20)","v":10},{"$f":"IF([DIV]=\"E\",1,IF([DIV]=\"C\",2,3))","v":3},{"$f":"[LGS]+[DIVS]","v":13}]
[2006,"Burgos, Ambiorix","KCA","Kansas City Royals",339500,68,1,73.333333333333329,-11,5.52,1.6363636363636365,8.8363636363636378,10.186363636363637,62,100,5.65,4279,904,1648,5.7041364804860955,10.398691283010049,1.6020098153774247,"AL-C",{"$f":"LEFT([League-Division],1)","v":"A"},{"$f":"RIGHT([League-Division],1)","v":"C"},{"$f":"IF([LG]=\"N\",10,20)","v":20},{"$f":"IF([DIV]=\"E\",1,IF([DIV]=\"C\",2,3))","v":2},{"$f":"[LGS]+[DIVS]","v":22}]
[2007,"Burgos, Ambiorix","NYN","New York Mets",415000,17,0,23.666666666666668,2,3.42,1.0985915492957745,7.225352112676056,6.464788732394366,88,74,4.26,4357,1134,1415,7.0273123708974063,8.7686481523984394,1.3667661234794584,"NL-E",{"$f":"LEFT([League-Division],1)","v":"N"},{"$f":"RIGHT([League-Division],1)","v":"E"},{"$f":"IF([LG]=\"N\",10,20)","v":10},{"$f":"IF([DIV]=\"E\",1,IF([DIV]=\"C\",2,3))","v":1},{"$f":"[LGS]+[DIVS]","v":11}]
[1995,"Burgos, Enrique","SFN","San Francisco Giants",110000,5,0,8.3333333333333339,-2,8.64,2.4,12.959999999999999,15.12,67,77,4.8600000000000003,3879,801,1368,5.575406032482598,9.5220417633410683,1.448569218870843,"NL-W",{"$f":"LEFT([League-Division],1)","v":"N"},{"$f":"RIGHT([League-Division],1)","v":"W"},{"$f":"IF([LG]=\"N\",10,20)","v":10},{"$f":"IF([DIV]=\"E\",1,IF([DIV]=\"C\",2,3))","v":3},{"$f":"[LGS]+[DIVS]","v":13}]
[2008,"Burke, Jamie","SEA","Seattle Mariners",435000,1,0,1,-1,9,1,0,9,61,101,4.7300000000000004,4306,1016,1544,6.3706456107756617,9.681374825824431,1.5118439386901998,"AL-W",{"$f":"LEFT([League-Division],1)","v":"A"},{"$f":"RIGHT([League-Division],1)","v":"W"},{"$f":"IF([LG]=\"N\",10,20)","v":20},{"$f":"IF([DIV]=\"E\",1,IF([DIV]=\"C\",2,3))","v":3},{"$f":"[LGS]+[DIVS]","v":23}]
[1995,"Burkett, John","FLO","Florida Marlins",3350000,30,30,188.33333333333334,-82,4.3,1.4070796460176991,6.0212389380530977,9.9398230088495581,67,76,4.2699999999999996,3858,994,1299,6.9564541213063764,9.0909797822706064,1.4471228615863141,"NL-E",{"$f":"LEFT([League-Division],1)","v":"N"},{"$f":"RIGHT([League-Division],1)","v":"E"},{"$f":"IF([LG]=\"N\",10,20)","v":10},{"$f":"IF([DIV]=\"E\",1,IF([DIV]=\"C\",2,3))","v":1},{"$f":"[LGS]+[DIVS]","v":11}]
[1996,"Burkett, John","FLO","Florida Marlins",3550000,24,24,154,-46,4.32,1.2727272727272727,6.3116883116883118,9,80,82,3.95,4329,1050,1386,6.5488565488565493,8.6444906444906451,1.3749133749133748,"NL-E",{"$f":"LEFT([League-Division],1)","v":"N"},{"$f":"RIGHT([League-Division],1)","v":"E"},{"$f":"IF([LG]=\"N\",10,20)","v":10},{"$f":"IF([DIV]=\"E\",1,IF([DIV]=\"C\",2,3))","v":1},{"$f":"[LGS]+[DIVS]","v":11}]
[1996,"Burkett, John","TEX","Texas Rangers",3550000,10,10,68.666666666666671,-28,4.0599999999999996,1.3252427184466018,6.1601941747572813,9.8300970873786397,90,72,4.66,4347,976,1569,6.0621118012422359,9.7453416149068328,1.484472049689441,"AL-W",{"$f":"LEFT([League-Division],1)","v":"A"},{"$f":"RIGHT([League-Division],1)","v":"W"},{"$f":"IF([LG]=\"N\",10,20)","v":20},{"$f":"IF([DIV]=\"E\",1,IF([DIV]=\"C\",2,3))","v":3},{"$f":"[LGS]+[DIVS]","v":23}]
[1997,"Burkett, John","TEX","Texas Rangers",3550000,30,30,189.33333333333334,-101,4.5599999999999996,1.426056338028169,6.607394366197183,11.40845070422535,77,85,4.68,4289,925,1598,5.8230356726509669,10.059687572860806,1.4961529494054557,"AL-W",{"$f":"LEFT([League-Division],1)","v":"A"},{"$f":"RIGHT([League-Division],1)","v":"W"},{"$f":"IF([LG]=\"N\",10,20)","v":20},{"$f":"IF([DIV]=\"E\",1,IF([DIV]=\"C\",2,3))","v":3},{"$f":"[LGS]+[DIVS]","v":23}]
[1998,"Burkett, John","TEX","Texas Rangers",4000000,32,32,195,-99,5.68,1.4153846153846155,6.046153846153846,10.615384615384615,88,74,5,4293,994,1624,6.2515723270440251,10.213836477987421,1.4975541579315164,"AL-W",{"$f":"LEFT([League-Division],1)","v":"A"},{"$f":"RIGHT([League-Division],1)","v":"W"},{"$f":"IF([LG]=\"N\",10,20)","v":20},{"$f":"IF([DIV]=\"E\",1,IF([DIV]=\"C\",2,3))","v":3},{"$f":"[LGS]+[DIVS]","v":23}]
[1999,"Burkett, John","TEX","Texas Rangers",4000000,30,25,147.33333333333334,-88,5.62,1.5610859728506787,5.8642533936651571,11.239819004524886,95,67,5.07,4306,979,1626,6.1386437529029259,10.195541105434279,1.4874593590339062,"AL-W",{"$f":"LEFT([League-Division],1)","v":"A"},{"$f":"RIGHT([League-Division],1)","v":"W"},{"$f":"IF([LG]=\"N\",10,20)","v":20},{"$f":"IF([DIV]=\"E\",1,IF([DIV]=\"C\",2,3))","v":3},{"$f":"[LGS]+[DIVS]","v":23}]
[2000,"Burkett, John","ATL","Atlanta Braves",750000,31,22,134.33333333333334,-52,4.8899999999999997,1.5856079404466501,7.3697270471464016,10.853598014888336,95,67,4.05,4320,1093,1428,6.8312499999999998,8.9250000000000007,1.3277777777777777,"NL-E",{"$f":"LEFT([League-Division],1)","v":"N"},{"$f":"RIGHT([League-Division],1)","v":"E"},{"$f":"IF([LG]=\"N\",10,20)","v":10},{"$f":"IF([DIV]=\"E\",1,IF([DIV]=\"C\",2,3))","v":1},{"$f":"[LGS]+[DIVS]","v":11}]
[2001,"Burkett, John","ATL","Atlanta Braves",1750000,34,34,219.33333333333334,0,3.04,1.1717325227963524,7.6732522796352578,7.6732522796352578,88,74,3.59,4342,1133,1363,7.045370796867803,8.475587286964533,1.2865039152464304,"NL-E",{"$f":"LEFT([League-Division],1)","v":"N"},{"$f":"RIGHT([League-Division],1)","v":"E"},{"$f":"IF([LG]=\"N\",10,20)","v":10},{"$f":"IF([DIV]=\"E\",1,IF([DIV]=\"C\",2,3))","v":1},{"$f":"[LGS]+[DIVS]","v":11}]
[2002,"Burkett, John","BOS","Boston Red Sox",5500000,29,29,173,-75,4.53,1.4393063583815029,6.4508670520231215,10.352601156069365,93,69,3.75,4338,1157,1339,7.2012448132780085,8.3340248962655608,1.223374827109267,"AL-E",{"$f":"LEFT([League-Division],1)","v":"A"},{"$f":"RIGHT([League-Division],1)","v":"E"},{"$f":"IF([LG]=\"N\",10,20)","v":20},{"$f":"IF([DIV]=\"E\",1,IF([DIV]=\"C\",2,3))","v":1},{"$f":"[LGS]+[DIVS]","v":21}]
[2003,"Burkett, John","BOS","Boston Red Sox",5500000,32,30,181.66666666666666,-95,5.15,1.3706422018348625,5.3009174311926603,10.007339449541284,95,67,4.4800000000000004,4394,1141,1503,7.0111515703231682,9.2355484751934451,1.3593536640873918,"AL-E",{"$f":"LEFT([League-Division],1)","v":"A"},{"$f":"RIGHT([League-Division],1)","v":"E"},{"$f":"IF([LG]=\"N\",10,20)","v":20},{"$f":"IF([DIV]=\"E\",1,IF([DIV]=\"C\",2,3))","v":1},{"$f":"[LGS]+[DIVS]","v":21}]
[1997,"Burke, John","COL","Colorado Rockies",151500,17,9,59,-44,6.56,1.847457627118644,5.9491525423728815,12.661016949152543,83,79,5.25,4296,870,1697,5.4678770949720663,10.66550279329609,1.5803072625698324,"NL-W",{"$f":"LEFT([League-Division],1)","v":"N"},{"$f":"RIGHT([League-Division],1)","v":"W"},{"$f":"IF([LG]=\"N\",10,20)","v":10},{"$f":"IF([DIV]=\"E\",1,IF([DIV]=\"C\",2,3))","v":3},{"$f":"[LGS]+[DIVS]","v":13}]
[1999,"Burnett, A.J.","FLO","Florida Marlins",200000,7,7,41.333333333333336,-4,3.48,1.5,7.185483870967742,8.056451612903226,64,98,4.9000000000000004,4306,943,1560,5.9129122155132379,9.7816999535531828,1.5431955411054343,"NL-E",{"$f":"LEFT([League-Division],1)","v":"N"},{"$f":"RIGHT([League-Division],1)","v":"E"},{"$f":"IF([LG]=\"N\",10,20)","v":10},{"$f":"IF([DIV]=\"E\",1,IF([DIV]=\"C\",2,3))","v":1},{"$f":"[LGS]+[DIVS]","v":11}]
[2000,"Burnett, A.J.","FLO","Florida Marlins",204000,13,13,82.666666666666671,-23,4.79,1.5,6.2056451612903221,8.7096774193548381,79,82,4.59,4288,1051,1477,6.6177705223880601,9.3001399253731343,1.4881063432835822,"NL-E",{"$f":"LEFT([League-Division],1)","v":"N"},{"$f":"RIGHT([League-Division],1)","v":"E"},{"$f":"IF([LG]=\"N\",10,20)","v":10},{"$f":"IF([DIV]=\"E\",1,IF([DIV]=\"C\",2,3))","v":1},{"$f":"[LGS]+[DIVS]","v":11}]
[2001,"Burnett, A.J.","FLO","Florida Marlins",250000,27,27,173.33333333333334,-17,4.05,1.3153846153846154,6.6461538461538456,7.5288461538461533,76,86,4.32,4314,1119,1397,7.0034770514603615,8.7433936022253125,1.4005563282336579,"NL-E",{"$f":"LEFT([League-Division],1)","v":"N"},{"$f":"RIGHT([League-Division],1)","v":"E"},{"$f":"IF([LG]=\"N\",10,20)","v":10},{"$f":"IF([DIV]=\"E\",1,IF([DIV]=\"C\",2,3))","v":1},{"$f":"[LGS]+[DIVS]","v":11}]
[2002,"Burnett, A.J.","FLO","Florida Marlins",367500,31,29,204.33333333333334,50,3.3,1.1892332789559543,8.9412724306688407,6.7389885807504077,79,83,4.3600000000000003,4369,1104,1449,6.8226138704509047,8.9546807049668118,1.4282444495307851,"NL-E",{"$f":"LEFT([League-Division],1)","v":"N"},{"$f":"RIGHT([League-Division],1)","v":"E"},{"$f":"IF([LG]=\"N\",10,20)","v":10},{"$f":"IF([DIV]=\"E\",1,IF([DIV]=\"C\",2,3))","v":1},{"$f":"[LGS]+[DIVS]","v":11}]
[2003,"Burnett, A.J.","FLO","Florida Marlins",2500000,4,4,23,3,4.7,1.5652173913043479,8.2173913043478262,7.0434782608695654,91,71,4.04,4336,1132,1415,7.0488929889298895,8.8111162361623627,1.345710332103321,"NL-E",{"$f":"LEFT([League-Division],1)","v":"N"},{"$f":"RIGHT([League-Division],1)","v":"E"},{"$f":"IF([LG]=\"N\",10,20)","v":10},{"$f":"IF([DIV]=\"E\",1,IF([DIV]=\"C\",2,3))","v":1},{"$f":"[LGS]+[DIVS]","v":11}]
[2004,"Burnett, A.J.","FLO","Florida Marlins",2500000,20,19,120,11,3.68,1.1666666666666667,8.4749999999999996,7.6499999999999995,83,79,4.0999999999999996,4317,1116,1395,6.9798471160528148,8.724808895066019,1.3259207783182765,"NL-E",{"$f":"LEFT([League-Division],1)","v":"N"},{"$f":"RIGHT([League-Division],1)","v":"E"},{"$f":"IF([LG]=\"N\",10,20)","v":10},{"$f":"IF([DIV]=\"E\",1,IF([DIV]=\"C\",2,3))","v":1},{"$f":"[LGS]+[DIVS]","v":11}]
[2005,"Burnett, A.J.","FLO","Florida Marlins",3650000,32,32,209,14,3.44,1.2583732057416268,8.5263157894736832,7.9234449760765555,83,79,4.16,4327,1125,1459,7.0198752022186275,9.1039981511439798,1.4018950774208458,"NL-E",{"$f":"LEFT([League-Division],1)","v":"N"},{"$f":"RIGHT([League-Division],1)","v":"E"},{"$f":"IF([LG]=\"N\",10,20)","v":10},{"$f":"IF([DIV]=\"E\",1,IF([DIV]=\"C\",2,3))","v":1},{"$f":"[LGS]+[DIVS]","v":11}]
[2006,"Burnett, A.J.","TOR","Toronto Blue Jays",2200000,21,21,135.66666666666666,-20,3.98,1.3046683046683047,7.8280098280098285,9.1547911547911553,87,75,4.37,4285,1076,1447,6.7799299883313893,9.1176196032672117,1.3659276546091015,"AL-E",{"$f":"LEFT([League-Division],1)","v":"A"},{"$f":"RIGHT([League-Division],1)","v":"E"},{"$f":"IF([LG]=\"N\",10,20)","v":20},{"$f":"IF([DIV]=\"E\",1,IF([DIV]=\"C\",2,3))","v":1},{"$f":"[LGS]+[DIVS]","v":21}]
[2007,"Burnett, A.J.","TOR","Toronto Blue Jays",13200000,25,25,165.66666666666666,45,3.75,1.1891348088531188,9.5613682092555337,7.1167002012072444,83,79,4,4346,1067,1383,6.6288541187298655,8.5920386562356192,1.2853198343304186,"AL-E",{"$f":"LEFT([League-Division],1)","v":"A"},{"$f":"RIGHT([League-Division],1)","v":"E"},{"$f":"IF([LG]=\"N\",10,20)","v":20},{"$f":"IF([DIV]=\"E\",1,IF([DIV]=\"C\",2,3))","v":1},{"$f":"[LGS]+[DIVS]","v":21}]
[2008,"Burnett, A.J.","TOR","Toronto Blue Jays",13200000,35,34,221.33333333333334,20,4.07,1.3418674698795181,9.3930722891566258,8.5798192771084327,86,76,3.49,4340,1184,1330,7.3658986175115206,8.2741935483870961,1.2421658986175115,"AL-E",{"$f":"LEFT([League-Division],1)","v":"A"},{"$f":"RIGHT([League-Division],1)","v":"E"},{"$f":"IF([LG]=\"N\",10,20)","v":20},{"$f":"IF([DIV]=\"E\",1,IF([DIV]=\"C\",2,3))","v":1},{"$f":"[LGS]+[DIVS]","v":21}]
[2009,"Burnett, A.J.","NYA","New York Yankees",16500000,33,33,207,2,4.04,1.4009661835748792,8.4782608695652169,8.3913043478260878,103,59,4.28,4350,1260,1386,7.8206896551724139,8.6027586206896558,1.3517241379310345,"AL-E",{"$f":"LEFT([League-Division],1)","v":"A"},{"$f":"RIGHT([League-Division],1)","v":"E"},{"$f":"IF([LG]=\"N\",10,20)","v":20},{"$f":"IF([DIV]=\"E\",1,IF([DIV]=\"C\",2,3))","v":1},{"$f":"[LGS]+[DIVS]","v":21}]
[2010,"Burnett, A.J.","NYA","New York Yankees",16500000,33,33,186.66666666666666,-59,5.26,1.5107142857142859,6.9910714285714288,9.8357142857142872,95,67,4.0599999999999996,4327,1154,1349,7.2008319852091516,8.4176103535937141,1.3096833834065174,"AL-E",{"$f":"LEFT([League-Division],1)","v":"A"},{"$f":"RIGHT([League-Division],1)","v":"E"},{"$f":"IF([LG]=\"N\",10,20)","v":20},{"$f":"IF([DIV]=\"E\",1,IF([DIV]=\"C\",2,3))","v":1},{"$f":"[LGS]+[DIVS]","v":21}]
[2010,"Burnett, Alex","MIN","Minnesota Twins",400000,41,0,47.666666666666664,-15,5.29,1.5734265734265735,6.9860139860139867,9.8181818181818201,94,68,3.95,4358,1048,1493,6.4928866452501142,9.2498852684717754,1.2914180816888481,"AL-C",{"$f":"LEFT([League-Division],1)","v":"A"},{"$f":"RIGHT([League-Division],1)","v":"C"},{"$f":"IF([LG]=\"N\",10,20)","v":20},{"$f":"IF([DIV]=\"E\",1,IF([DIV]=\"C\",2,3))","v":2},{"$f":"[LGS]+[DIVS]","v":22}]
[2009,"Burnett, Sean","PIT","Pittsburgh Pirates",408500,38,0,32.333333333333336,1,3.06,1.1443298969072164,6.4020618556701026,6.1237113402061851,62,99,4.59,4255,919,1491,5.831492361927145,9.4611045828437135,1.4481786133960048,"NL-C",{"$f":"LEFT([League-Division],1)","v":"N"},{"$f":"RIGHT([League-Division],1)","v":"C"},{"$f":"IF([LG]=\"N\",10,20)","v":10},{"$f":"IF([DIV]=\"E\",1,IF([DIV]=\"C\",2,3))","v":2},{"$f":"[LGS]+[DIVS]","v":12}]
[2009,"Burnett, Sean","WAS","Washington Nationals",408500,33,0,25.333333333333332,6,3.2,1.0657894736842106,7.1052631578947372,4.9736842105263159,59,103,5.0199999999999996,4273,911,1533,5.7563772525157972,9.6866370231687338,1.5179031125672831,"NL-E",{"$f":"LEFT([League-Division],1)","v":"N"},{"$f":"RIGHT([League-Division],1)","v":"E"},{"$f":"IF([LG]=\"N\",10,20)","v":10},{"$f":"IF([DIV]=\"E\",1,IF([DIV]=\"C\",2,3))","v":1},{"$f":"[LGS]+[DIVS]","v":11}]
[2010,"Burnett, Sean","WAS","Washington Nationals",775000,73,0,63,10,2.14,1.1428571428571428,8.8571428571428559,7.4285714285714279,69,93,4.13,4305,1068,1469,6.6982578397212542,9.2132404181184668,1.3804878048780487,"NL-E",{"$f":"LEFT([League-Division],1)","v":"N"},{"$f":"RIGHT([League-Division],1)","v":"E"},{"$f":"IF([LG]=\"N\",10,20)","v":10},{"$f":"IF([DIV]=\"E\",1,IF([DIV]=\"C\",2,3))","v":1},{"$f":"[LGS]+[DIVS]","v":11}]
[2006,"Burns, Mike","BOS","Boston Red Sox",332500,7,0,7.666666666666667,-3,4.7,1.4347826086956521,8.2173913043478262,11.739130434782609,86,76,4.83,4324,1070,1570,6.6813135985198899,9.8034227567067553,1.4424144310823312,"AL-E",{"$f":"LEFT([League-Division],1)","v":"A"},{"$f":"RIGHT([League-Division],1)","v":"E"},{"$f":"IF([LG]=\"N\",10,20)","v":20},{"$f":"IF([DIV]=\"E\",1,IF([DIV]=\"C\",2,3))","v":1},{"$f":"[LGS]+[DIVS]","v":21}]
[2006,"Burns, Mike","CIN","Cincinnati Reds",332500,11,0,13.333333333333334,-21,8.7799999999999994,2.4750000000000001,6.0749999999999993,20.25,80,82,4.51,4337,1053,1576,6.5554530781646294,9.8113903620013829,1.4111136730458842,"NL-C",{"$f":"LEFT([League-Division],1)","v":"N"},{"$f":"RIGHT([League-Division],1)","v":"C"},{"$f":"IF([LG]=\"N\",10,20)","v":10},{"$f":"IF([DIV]=\"E\",1,IF([DIV]=\"C\",2,3))","v":2},{"$f":"[LGS]+[DIVS]","v":12}]
[2008,"Burres, Brian","BAL","Baltimore Orioles",395000,31,22,129.66666666666666,-102,6.04,1.6580976863753214,4.3727506426735223,11.452442159383034,68,93,5.15,4266,922,1538,5.8354430379746836,9.7341772151898738,1.5646976090014064,"AL-E",{"$f":"LEFT([League-Division],1)","v":"A"},{"$f":"RIGHT([League-Division],1)","v":"E"},{"$f":"IF([LG]=\"N\",10,20)","v":20},{"$f":"IF([DIV]=\"E\",1,IF([DIV]=\"C\",2,3))","v":1},{"$f":"[LGS]+[DIVS]","v":21}]
[2005,"Burroughs, Sean","SDN","San Diego Padres",1675000,1,0,1,-4,27,4,0,36,82,80,4.13,4366,1133,1452,7.0066422354557947,8.9793861658268437,1.3433348602840129,"NL-W",{"$f":"LEFT([League-Division],1)","v":"N"},{"$f":"RIGHT([League-Division],1)","v":"W"},{"$f":"IF([LG]=\"N\",10,20)","v":10},{"$f":"IF([DIV]=\"E\",1,IF([DIV]=\"C\",2,3))","v":3},{"$f":"[LGS]+[DIVS]","v":13}]
[1995,"Burrows, Terry","TEX","Texas Rangers",109000,28,3,44.666666666666664,-38,6.45,1.7686567164179106,4.432835820895523,12.089552238805972,74,70,4.66,3855,838,1385,5.8692607003891055,9.700389105058365,1.4778210116731518,"AL-W",{"$f":"LEFT([League-Division],1)","v":"A"},{"$f":"RIGHT([League-Division],1)","v":"W"},{"$f":"IF([LG]=\"N\",10,20)","v":20},{"$f":"IF([DIV]=\"E\",1,IF([DIV]=\"C\",2,3))","v":3},{"$f":"[LGS]+[DIVS]","v":23}]
[2007,"Burton, Jared","CIN","Cincinnati Reds",380000,47,0,43,8,2.5099999999999998,1.1627906976744187,7.5348837209302326,5.8604651162790704,72,90,4.9400000000000004,4349,1068,1605,6.6304897677627039,9.9643596229018154,1.4396412968498504,"NL-C",{"$f":"LEFT([League-Division],1)","v":"N"},{"$f":"RIGHT([League-Division],1)","v":"C"},{"$f":"IF([LG]=\"N\",10,20)","v":10},{"$f":"IF([DIV]=\"E\",1,IF([DIV]=\"C\",2,3))","v":2},{"$f":"[LGS]+[DIVS]","v":12}]
[2008,"Burton, Jared","CIN","Cincinnati Reds",395000,54,0,58.666666666666664,2,3.22,1.3806818181818183,8.8977272727272734,8.5909090909090917,74,88,4.55,4327,1227,1542,7.6563438872197835,9.6219089438409995,1.4552807950080888,"NL-C",{"$f":"LEFT([League-Division],1)","v":"N"},{"$f":"RIGHT([League-Division],1)","v":"C"},{"$f":"IF([LG]=\"N\",10,20)","v":10},{"$f":"IF([DIV]=\"E\",1,IF([DIV]=\"C\",2,3))","v":2},{"$f":"[LGS]+[DIVS]","v":12}]
[2009,"Burton, Jared","CIN","Cincinnati Reds",420000,53,0,59.333333333333336,-16,4.4000000000000004,1.4157303370786516,6.8258426966292127,9.2528089887640448,78,84,4.18,4375,1069,1420,6.5972571428571429,8.7634285714285713,1.3693714285714287,"NL-C",{"$f":"LEFT([League-Division],1)","v":"N"},{"$f":"RIGHT([League-Division],1)","v":"C"},{"$f":"IF([LG]=\"N\",10,20)","v":10},{"$f":"IF([DIV]=\"E\",1,IF([DIV]=\"C\",2,3))","v":2},{"$f":"[LGS]+[DIVS]","v":12}]
[1996,"Busby, Mike","SLN","St. Louis Cardinals",109000,1,1,4,-5,18,3.25,9,20.25,88,74,3.98,4356,1050,1380,6.508264462809918,8.5537190082644639,1.3216253443526171,"NL-C",{"$f":"LEFT([League-Division],1)","v":"N"},{"$f":"RIGHT([League-Division],1)","v":"C"},{"$f":"IF([LG]=\"N\",10,20)","v":10},{"$f":"IF([DIV]=\"E\",1,IF([DIV]=\"C\",2,3))","v":2},{"$f":"[LGS]+[DIVS]","v":12}]
[1998,"Busby, Mike","SLN","St. Louis Cardinals",172500,26,2,46,-12,4.5,1.3043478260869565,6.4565217391304346,8.804347826086957,83,79,4.32,4409,972,1513,5.9523701519618957,9.265366296212294,1.4091630755273303,"NL-C",{"$f":"LEFT([League-Division],1)","v":"N"},{"$f":"RIGHT([League-Division],1)","v":"C"},{"$f":"IF([LG]=\"N\",10,20)","v":10},{"$f":"IF([DIV]=\"E\",1,IF([DIV]=\"C\",2,3))","v":2},{"$f":"[LGS]+[DIVS]","v":12}]
[1999,"Busby, Mike","SLN","St. Louis Cardinals",220000,15,0,17.666666666666668,-14,7.13,1.9811320754716979,3.5660377358490565,10.69811320754717,75,86,4.74,4335,1025,1519,6.3840830449826989,9.4608996539792383,1.5128027681660901,"NL-C",{"$f":"LEFT([League-Division],1)","v":"N"},{"$f":"RIGHT([League-Division],1)","v":"C"},{"$f":"IF([LG]=\"N\",10,20)","v":10},{"$f":"IF([DIV]=\"E\",1,IF([DIV]=\"C\",2,3))","v":2},{"$f":"[LGS]+[DIVS]","v":12}]
[2005,"Bush, David","TOR","Toronto Blue Jays",327000,25,24,136.33333333333334,-67,4.49,1.2542787286063568,4.9511002444987771,9.3740831295843527,80,82,4.0599999999999996,4341,958,1475,5.9585348997926744,9.1741534208707662,1.3261921216309607,"AL-E",{"$f":"LEFT([League-Division],1)","v":"A"},{"$f":"RIGHT([League-Division],1)","v":"E"},{"$f":"IF([LG]=\"N\",10,20)","v":20},{"$f":"IF([DIV]=\"E\",1,IF([DIV]=\"C\",2,3))","v":1},{"$f":"[LGS]+[DIVS]","v":21}]
[2006,"Bush, David","MIL","Milwaukee Brewers",352000,34,32,210,-35,4.41,1.138095238095238,7.1142857142857139,8.6142857142857139,75,87,4.82,4277,1145,1454,7.2281973345803134,9.1788636895019859,1.3804068272153378,"NL-C",{"$f":"LEFT([League-Division],1)","v":"N"},{"$f":"RIGHT([League-Division],1)","v":"C"},{"$f":"IF([LG]=\"N\",10,20)","v":10},{"$f":"IF([DIV]=\"E\",1,IF([DIV]=\"C\",2,3))","v":2},{"$f":"[LGS]+[DIVS]","v":12}]
[2007,"Bush, David","MIL","Milwaukee Brewers",450000,33,31,186.33333333333334,-83,5.12,1.4007155635062611,6.4722719141323788,10.481216457960643,83,79,4.41,4333,1174,1513,7.315485806600508,9.4278790676205855,1.3985691207015924,"NL-C",{"$f":"LEFT([League-Division],1)","v":"N"},{"$f":"RIGHT([League-Division],1)","v":"C"},{"$f":"IF([LG]=\"N\",10,20)","v":10},{"$f":"IF([DIV]=\"E\",1,IF([DIV]=\"C\",2,3))","v":2},{"$f":"[LGS]+[DIVS]","v":12}]
[2008,"Bush, David","MIL","Milwaukee Brewers",2550000,31,29,185,-54,4.18,1.1405405405405404,5.3027027027027023,7.92972972972973,90,72,3.87,4367,1110,1415,6.8628348980993819,8.7485688115411033,1.3347836043050147,"NL-C",{"$f":"LEFT([League-Division],1)","v":"N"},{"$f":"RIGHT([League-Division],1)","v":"C"},{"$f":"IF([LG]=\"N\",10,20)","v":10},{"$f":"IF([DIV]=\"E\",1,IF([DIV]=\"C\",2,3))","v":2},{"$f":"[LGS]+[DIVS]","v":12}]
[2009,"Bush, David","MIL","Milwaukee Brewers",4000000,22,21,114.33333333333333,-42,6.38,1.4693877551020409,7.0058309037900877,10.311953352769679,80,82,4.84,4305,1104,1498,6.9240418118466902,9.3951219512195117,1.4668989547038327,"NL-C",{"$f":"LEFT([League-Division],1)","v":"N"},{"$f":"RIGHT([League-Division],1)","v":"C"},{"$f":"IF([LG]=\"N\",10,20)","v":10},{"$f":"IF([DIV]=\"E\",1,IF([DIV]=\"C\",2,3))","v":2},{"$f":"[LGS]+[DIVS]","v":12}]
[2010,"Bush, David","MIL","Milwaukee Brewers",4215000,32,31,174.33333333333334,-91,4.54,1.5086042065009559,5.5239005736137665,10.221797323135755,77,85,4.59,4317,1258,1487,7.8679638637943015,9.3002084781097984,1.4378040305767894,"NL-C",{"$f":"LEFT([League-Division],1)","v":"N"},{"$f":"RIGHT([League-Division],1)","v":"C"},{"$f":"IF([LG]=\"N\",10,20)","v":10},{"$f":"IF([DIV]=\"E\",1,IF([DIV]=\"C\",2,3))","v":2},{"$f":"[LGS]+[DIVS]","v":12}]
[1995,"Butcher, Mike","CAL","California Angels",175000,40,0,51.333333333333336,-20,4.7300000000000004,1.5584415584415583,5.0844155844155843,8.5909090909090899,78,67,4.5199999999999996,3852,901,1310,6.3154205607476639,9.1822429906542045,1.3987538940809969,"AL-W",{"$f":"LEFT([League-Division],1)","v":"A"},{"$f":"RIGHT([League-Division],1)","v":"W"},{"$f":"IF([LG]=\"N\",10,20)","v":20},{"$f":"IF([DIV]=\"E\",1,IF([DIV]=\"C\",2,3))","v":3},{"$f":"[LGS]+[DIVS]","v":23}]
[1998,"Butler, Adam","ATL","Atlanta Braves",170000,8,0,5,2,10.8,2.2000000000000002,12.6,9,106,56,3.25,4315,1232,1291,7.7089223638470452,8.0780996523754354,1.2222479721900348,"NL-E",{"$f":"LEFT([League-Division],1)","v":"N"},{"$f":"RIGHT([League-Division],1)","v":"E"},{"$f":"IF([LG]=\"N\",10,20)","v":10},{"$f":"IF([DIV]=\"E\",1,IF([DIV]=\"C\",2,3))","v":1},{"$f":"[LGS]+[DIVS]","v":11}]
[2003,"Bynum, Mike","SDN","San Diego Padres",300500,13,5,36,-9,8.75,1.6388888888888888,8.75,11,64,98,4.87,4294,1091,1458,6.8600372612948313,9.16767582673498,1.445505356311132,"NL-W",{"$f":"LEFT([League-Division],1)","v":"N"},{"$f":"RIGHT([League-Division],1)","v":"W"},{"$f":"IF([LG]=\"N\",10,20)","v":10},{"$f":"IF([DIV]=\"E\",1,IF([DIV]=\"C\",2,3))","v":3},{"$f":"[LGS]+[DIVS]","v":13}]
[1999,"Byrdak, Tim","KCA","Kansas City Royals",200000,33,0,24.666666666666668,-15,7.66,2.1081081081081079,6.2027027027027026,11.675675675675674,64,97,5.35,4261,831,1607,5.265665336775406,10.182820934053041,1.5841351795353205,"AL-C",{"$f":"LEFT([League-Division],1)","v":"A"},{"$f":"RIGHT([League-Division],1)","v":"C"},{"$f":"IF([LG]=\"N\",10,20)","v":20},{"$f":"IF([DIV]=\"E\",1,IF([DIV]=\"C\",2,3))","v":2},{"$f":"[LGS]+[DIVS]","v":22}]
[2006,"Byrdak, Tim","BAL","Baltimore Orioles",335000,16,0,7,-12,12.86,3.1428571428571428,2.5714285714285712,18,70,92,5.35,4257,1016,1579,6.4439746300211418,10.014799154334039,1.5447498238195914,"AL-E",{"$f":"LEFT([League-Division],1)","v":"A"},{"$f":"RIGHT([League-Division],1)","v":"E"},{"$f":"IF([LG]=\"N\",10,20)","v":20},{"$f":"IF([DIV]=\"E\",1,IF([DIV]=\"C\",2,3))","v":1},{"$f":"[LGS]+[DIVS]","v":21}]
[2009,"Byrdak, Tim","HOU","Houston Astros",1000000,76,0,61.333333333333336,19,3.23,1.2228260869565217,8.5108695652173907,5.7228260869565215,74,88,4.54,4290,1144,1521,7.2,9.5727272727272741,1.4454545454545455,"NL-C",{"$f":"LEFT([League-Division],1)","v":"N"},{"$f":"RIGHT([League-Division],1)","v":"C"},{"$f":"IF([LG]=\"N\",10,20)","v":10},{"$f":"IF([DIV]=\"E\",1,IF([DIV]=\"C\",2,3))","v":2},{"$f":"[LGS]+[DIVS]","v":12}]
[2010,"Byrdak, Tim","HOU","Houston Astros",1600000,64,0,38.666666666666664,-11,3.49,1.5517241379310345,6.75,9.3103448275862082,76,86,4.09,4318,1210,1446,7.566002779064382,9.0416859657248736,1.3853635942566003,"NL-C",{"$f":"LEFT([League-Division],1)","v":"N"},{"$f":"RIGHT([League-Division],1)","v":"C"},{"$f":"IF([LG]=\"N\",10,20)","v":10},{"$f":"IF([DIV]=\"E\",1,IF([DIV]=\"C\",2,3))","v":2},{"$f":"[LGS]+[DIVS]","v":12}]
[1995,"Byrd, Paul","NYN","New York Mets",109000,17,0,22,8,2.0499999999999998,1.1363636363636365,10.636363636363637,7.3636363636363642,69,75,3.88,3873,901,1296,6.2811773818745156,9.0348567002323783,1.3144848954298993,"NL-E",{"$f":"LEFT([League-Division],1)","v":"N"},{"$f":"RIGHT([League-Division],1)","v":"E"},{"$f":"IF([LG]=\"N\",10,20)","v":10},{"$f":"IF([DIV]=\"E\",1,IF([DIV]=\"C\",2,3))","v":1},{"$f":"[LGS]+[DIVS]","v":11}]
[1996,"Byrd, Paul","NYN","New York Mets",123000,38,0,46.666666666666664,-17,4.24,1.4785714285714286,5.9785714285714295,9.257142857142858,71,91,4.22,4320,999,1517,6.2437499999999995,9.4812499999999993,1.4229166666666666,"NL-E",{"$f":"LEFT([League-Division],1)","v":"N"},{"$f":"RIGHT([League-Division],1)","v":"E"},{"$f":"IF([LG]=\"N\",10,20)","v":10},{"$f":"IF([DIV]=\"E\",1,IF([DIV]=\"C\",2,3))","v":1},{"$f":"[LGS]+[DIVS]","v":11}]
[1997,"Byrd, Paul","ATL","Atlanta Braves",175000,31,4,53,-10,5.26,1.4150943396226414,6.283018867924528,7.9811320754716988,101,61,3.18,4395,1196,1319,7.3474402730375425,8.1030716723549485,1.2075085324232082,"NL-E",{"$f":"LEFT([League-Division],1)","v":"N"},{"$f":"RIGHT([League-Division],1)","v":"E"},{"$f":"IF([LG]=\"N\",10,20)","v":10},{"$f":"IF([DIV]=\"E\",1,IF([DIV]=\"C\",2,3))","v":1},{"$f":"[LGS]+[DIVS]","v":11}]
[1998,"Byrd, Paul","PHI","Philadelphia Phillies",237500,8,8,55,-3,2.29,1.0545454545454545,6.2181818181818187,6.709090909090909,75,87,4.6399999999999997,4389,1176,1476,7.2344497607655498,9.0799726589200258,1.3807245386192755,"NL-E",{"$f":"LEFT([League-Division],1)","v":"N"},{"$f":"RIGHT([League-Division],1)","v":"E"},{"$f":"IF([LG]=\"N\",10,20)","v":10},{"$f":"IF([DIV]=\"E\",1,IF([DIV]=\"C\",2,3))","v":1},{"$f":"[LGS]+[DIVS]","v":11}]
[1998,"Byrd, Paul","ATL","Atlanta Braves",237500,1,0,2,-3,13.5,2.5,4.5,18,106,56,3.25,4315,1232,1291,7.7089223638470452,8.0780996523754354,1.2222479721900348,"NL-E",{"$f":"LEFT([League-Division],1)","v":"N"},{"$f":"RIGHT([League-Division],1)","v":"E"},{"$f":"IF([LG]=\"N\",10,20)","v":10},{"$f":"IF([DIV]=\"E\",1,IF([DIV]=\"C\",2,3))","v":1},{"$f":"[LGS]+[DIVS]","v":11}]
[1999,"Byrd, Paul","PHI","Philadelphia Phillies",297500,32,32,199.66666666666666,-99,4.5999999999999996,1.3772954924874792,4.7779632721201999,9.2404006677796335,77,85,4.93,4314,1030,1494,6.4464534075104316,9.350486787204451,1.4749652294853963,"NL-E",{"$f":"LEFT([League-Division],1)","v":"N"},{"$f":"RIGHT([League-Division],1)","v":"E"},{"$f":"IF([LG]=\"N\",10,20)","v":10},{"$f":"IF([DIV]=\"E\",1,IF([DIV]=\"C\",2,3))","v":1},{"$f":"[LGS]+[DIVS]","v":11}]
[2000,"Byrd, Paul","PHI","Philadelphia Phillies",1885000,17,15,83,-36,6.51,1.4939759036144578,5.7469879518072284,9.6506024096385552,65,97,4.7699999999999996,4315,1123,1458,7.0268829663962915,9.1230590961761315,1.4586326767091542,"NL-E",{"$f":"LEFT([League-Division],1)","v":"N"},{"$f":"RIGHT([League-Division],1)","v":"E"},{"$f":"IF([LG]=\"N\",10,20)","v":10},{"$f":"IF([DIV]=\"E\",1,IF([DIV]=\"C\",2,3))","v":1},{"$f":"[LGS]+[DIVS]","v":11}]
[2002,"Byrd, Paul","KCA","Kansas City Royals",850000,33,33,228.33333333333334,-95,3.9,1.1474452554744525,5.0846715328467145,8.829197080291971,62,100,5.21,4323,909,1587,5.6773074253990288,9.9118667591950036,1.4982650936849411,"AL-C",{"$f":"LEFT([League-Division],1)","v":"A"},{"$f":"RIGHT([League-Division],1)","v":"C"},{"$f":"IF([LG]=\"N\",10,20)","v":20},{"$f":"IF([DIV]=\"E\",1,IF([DIV]=\"C\",2,3))","v":2},{"$f":"[LGS]+[DIVS]","v":22}]
[2004,"Byrd, Paul","ATL","Atlanta Braves",7000000,19,19,114.33333333333333,-44,3.94,1.2419825072886297,6.2186588921282802,9.6822157434402349,96,66,3.74,4350,1025,1475,6.3620689655172411,9.1551724137931032,1.3779310344827587,"NL-E",{"$f":"LEFT([League-Division],1)","v":"N"},{"$f":"RIGHT([League-Division],1)","v":"E"},{"$f":"IF([LG]=\"N\",10,20)","v":10},{"$f":"IF([DIV]=\"E\",1,IF([DIV]=\"C\",2,3))","v":1},{"$f":"[LGS]+[DIVS]","v":11}]
[2005,"Byrd, Paul","LAA","Los Angeles Angels of Anaheim",5000000,31,31,204.33333333333334,-114,3.74,1.1941272430668841,4.4926590538336049,9.5138662316476346,95,67,3.68,4393,1126,1419,6.9205554290917375,8.7213749146369217,1.2715684042795357,"AL-W",{"$f":"LEFT([League-Division],1)","v":"A"},{"$f":"RIGHT([League-Division],1)","v":"W"},{"$f":"IF([LG]=\"N\",10,20)","v":20},{"$f":"IF([DIV]=\"E\",1,IF([DIV]=\"C\",2,3))","v":3},{"$f":"[LGS]+[DIVS]","v":23}]
[2006,"Byrd, Paul","CLE","Cleveland Indians",7000000,31,31,179,-144,4.88,1.5083798882681565,4.4245810055865924,11.664804469273744,78,84,4.41,4270,948,1583,5.9943793911007024,10.009601873536299,1.4135831381733022,"AL-C",{"$f":"LEFT([League-Division],1)","v":"A"},{"$f":"RIGHT([League-Division],1)","v":"C"},{"$f":"IF([LG]=\"N\",10,20)","v":20},{"$f":"IF([DIV]=\"E\",1,IF([DIV]=\"C\",2,3))","v":2},{"$f":"[LGS]+[DIVS]","v":22}]
[2007,"Byrd, Paul","CLE","Cleveland Indians",7000000,31,31,192.33333333333334,-151,4.59,1.3882149046793759,4.1178509532062391,11.18370883882149,96,66,4.05,4388,1047,1519,6.4423427529626247,9.3466271649954411,1.3188240656335459,"AL-C",{"$f":"LEFT([League-Division],1)","v":"A"},{"$f":"RIGHT([League-Division],1)","v":"C"},{"$f":"IF([LG]=\"N\",10,20)","v":20},{"$f":"IF([DIV]=\"E\",1,IF([DIV]=\"C\",2,3))","v":2},{"$f":"[LGS]+[DIVS]","v":22}]
[2008,"Byrd, Paul","CLE","Cleveland Indians",7500000,22,22,131,-90,4.53,1.2977099236641221,3.8473282442748089,10.03053435114504,81,81,4.46,4311,986,1530,6.1753653444676413,9.5824634655532357,1.3736951983298538,"AL-C",{"$f":"LEFT([League-Division],1)","v":"A"},{"$f":"RIGHT([League-Division],1)","v":"C"},{"$f":"IF([LG]=\"N\",10,20)","v":20},{"$f":"IF([DIV]=\"E\",1,IF([DIV]=\"C\",2,3))","v":2},{"$f":"[LGS]+[DIVS]","v":22}]
[2008,"Byrd, Paul","BOS","Boston Red Sox",7500000,8,8,49,-32,4.78,1.3877551020408163,4.7755102040816331,10.653061224489797,95,67,4.01,4339,1185,1369,7.3738188522701087,8.5187831297534,1.3254206038257663,"AL-E",{"$f":"LEFT([League-Division],1)","v":"A"},{"$f":"RIGHT([League-Division],1)","v":"E"},{"$f":"IF([LG]=\"N\",10,20)","v":20},{"$f":"IF([DIV]=\"E\",1,IF([DIV]=\"C\",2,3))","v":1},{"$f":"[LGS]+[DIVS]","v":21}]
[2005,"Cabrera, Daniel","BAL","Baltimore Orioles",325000,29,29,161.33333333333334,13,4.5199999999999996,1.4318181818181817,8.7582644628099171,8.0330578512396684,74,88,4.5599999999999996,4283,1052,1458,6.631800140088723,9.19122110670091,1.4275040859210832,"AL-E",{"$f":"LEFT([League-Division],1)","v":"A"},{"$f":"RIGHT([League-Division],1)","v":"E"},{"$f":"IF([LG]=\"N\",10,20)","v":20},{"$f":"IF([DIV]=\"E\",1,IF([DIV]=\"C\",2,3))","v":1},{"$f":"[LGS]+[DIVS]","v":21}]
[2006,"Cabrera, Daniel","BAL","Baltimore Orioles",385000,26,26,148,27,4.74,1.5810810810810811,9.5472972972972965,7.9054054054054053,70,92,5.35,4257,1016,1579,6.4439746300211418,10.014799154334039,1.5447498238195914,"AL-E",{"$f":"LEFT([League-Division],1)","v":"A"},{"$f":"RIGHT([League-Division],1)","v":"E"},{"$f":"IF([LG]=\"N\",10,20)","v":20},{"$f":"IF([DIV]=\"E\",1,IF([DIV]=\"C\",2,3))","v":1},{"$f":"[LGS]+[DIVS]","v":21}]
[2007,"Cabrera, Daniel","BAL","Baltimore Orioles",1825000,34,34,204.33333333333334,-41,5.55,1.5415986949429037,7.3115823817291998,9.1174551386623151,69,93,5.17,4316,1087,1491,6.8000463392029653,9.3273864689527333,1.5201575532900833,"AL-E",{"$f":"LEFT([League-Division],1)","v":"A"},{"$f":"RIGHT([League-Division],1)","v":"E"},{"$f":"IF([LG]=\"N\",10,20)","v":20},{"$f":"IF([DIV]=\"E\",1,IF([DIV]=\"C\",2,3))","v":1},{"$f":"[LGS]+[DIVS]","v":21}]
[2008,"Cabrera, Daniel","BAL","Baltimore Orioles",2875000,30,30,180,-104,5.25,1.6055555555555556,4.75,9.9500000000000011,68,93,5.15,4266,922,1538,5.8354430379746836,9.7341772151898738,1.5646976090014064,"AL-E",{"$f":"LEFT([League-Division],1)","v":"A"},{"$f":"RIGHT([League-Division],1)","v":"E"},{"$f":"IF([LG]=\"N\",10,20)","v":20},{"$f":"IF([DIV]=\"E\",1,IF([DIV]=\"C\",2,3))","v":1},{"$f":"[LGS]+[DIVS]","v":21}]
[2009,"Cabrera, Daniel","WAS","Washington Nationals",2600000,9,8,40,-32,5.85,2.0750000000000002,3.6,10.799999999999999,59,103,5.0199999999999996,4273,911,1533,5.7563772525157972,9.6866370231687338,1.5179031125672831,"NL-E",{"$f":"LEFT([League-Division],1)","v":"N"},{"$f":"RIGHT([League-Division],1)","v":"E"},{"$f":"IF([LG]=\"N\",10,20)","v":10},{"$f":"IF([DIV]=\"E\",1,IF([DIV]=\"C\",2,3))","v":1},{"$f":"[LGS]+[DIVS]","v":11}]
[2009,"Cabrera, Daniel","ARI","Arizona Diamondbacks",2600000,6,1,11,-4,6.55,1.6363636363636365,5.7272727272727275,9,70,92,4.4400000000000004,4343,1158,1470,7.1991710798986874,9.1388441169698353,1.3780796684319594,"NL-W",{"$f":"LEFT([League-Division],1)","v":"N"},{"$f":"RIGHT([League-Division],1)","v":"W"},{"$f":"IF([LG]=\"N\",10,20)","v":10},{"$f":"IF([DIV]=\"E\",1,IF([DIV]=\"C\",2,3))","v":3},{"$f":"[LGS]+[DIVS]","v":13}]
[2006,"Cabrera, Fernando","CLE","Cleveland Indians",330800,51,0,60.666666666666664,18,5.19,1.4010989010989012,10.532967032967033,7.8626373626373631,78,84,4.41,4270,948,1583,5.9943793911007024,10.009601873536299,1.4135831381733022,"AL-C",{"$f":"LEFT([League-Division],1)","v":"A"},{"$f":"RIGHT([League-Division],1)","v":"C"},{"$f":"IF([LG]=\"N\",10,20)","v":20},{"$f":"IF([DIV]=\"E\",1,IF([DIV]=\"C\",2,3))","v":2},{"$f":"[LGS]+[DIVS]","v":22}]
[2007,"Cabrera, Fernando","BAL","Baltimore Orioles",391800,9,0,10,-3,12.6,2.1,8.1,10.799999999999999,69,93,5.17,4316,1087,1491,6.8000463392029653,9.3273864689527333,1.5201575532900833,"AL-E",{"$f":"LEFT([League-Division],1)","v":"A"},{"$f":"RIGHT([League-Division],1)","v":"E"},{"$f":"IF([LG]=\"N\",10,20)","v":20},{"$f":"IF([DIV]=\"E\",1,IF([DIV]=\"C\",2,3))","v":1},{"$f":"[LGS]+[DIVS]","v":21}]
[2007,"Cabrera, Fernando","CLE","Cleveland Indians",391800,24,0,33.666666666666664,1,5.61,1.7821782178217822,10.425742574257427,10.158415841584159,96,66,4.05,4388,1047,1519,6.4423427529626247,9.3466271649954411,1.3188240656335459,"AL-C",{"$f":"LEFT([League-Division],1)","v":"A"},{"$f":"RIGHT([League-Division],1)","v":"C"},{"$f":"IF([LG]=\"N\",10,20)","v":20},{"$f":"IF([DIV]=\"E\",1,IF([DIV]=\"C\",2,3))","v":2},{"$f":"[LGS]+[DIVS]","v":22}]
[2008,"Cabrera, Fernando","BAL","Baltimore Orioles",575000,22,0,28.333333333333332,-1,5.4,1.7294117647058824,9.8470588235294123,10.164705882352941,68,93,5.15,4266,922,1538,5.8354430379746836,9.7341772151898738,1.5646976090014064,"AL-E",{"$f":"LEFT([League-Division],1)","v":"A"},{"$f":"RIGHT([League-Division],1)","v":"E"},{"$f":"IF([LG]=\"N\",10,20)","v":20},{"$f":"IF([DIV]=\"E\",1,IF([DIV]=\"C\",2,3))","v":1},{"$f":"[LGS]+[DIVS]","v":21}]
[1998,"Cabrera, Jose","HOU","Houston Astros",180000,3,0,4.333333333333333,-6,8.31,1.8461538461538463,2.0769230769230771,14.538461538461538,102,60,3.5,4413,1187,1435,7.262406526172672,8.7797416723317472,1.2916383412644459,"NL-C",{"$f":"LEFT([League-Division],1)","v":"N"},{"$f":"RIGHT([League-Division],1)","v":"C"},{"$f":"IF([LG]=\"N\",10,20)","v":10},{"$f":"IF([DIV]=\"E\",1,IF([DIV]=\"C\",2,3))","v":2},{"$f":"[LGS]+[DIVS]","v":12}]
[1999,"Cabrera, Jose","HOU","Houston Astros",215000,26,0,29.333333333333332,7,2.15,1.0227272727272727,8.5909090909090917,6.4431818181818183,97,65,3.84,4375,1204,1485,7.4303999999999997,9.1645714285714277,1.3460571428571428,"NL-C",{"$f":"LEFT([League-Division],1)","v":"N"},{"$f":"RIGHT([League-Division],1)","v":"C"},{"$f":"IF([LG]=\"N\",10,20)","v":10},{"$f":"IF([DIV]=\"E\",1,IF([DIV]=\"C\",2,3))","v":2},{"$f":"[LGS]+[DIVS]","v":12}]
[2000,"Cabrera, Jose","HOU","Houston Astros",252500,52,0,59.333333333333336,-33,5.92,1.5337078651685392,6.2191011235955056,11.224719101123595,72,90,5.41,4312,1064,1596,6.6623376623376629,9.9935064935064943,1.5264378478664193,"NL-C",{"$f":"LEFT([League-Division],1)","v":"N"},{"$f":"RIGHT([League-Division],1)","v":"C"},{"$f":"IF([LG]=\"N\",10,20)","v":10},{"$f":"IF([DIV]=\"E\",1,IF([DIV]=\"C\",2,3))","v":2},{"$f":"[LGS]+[DIVS]","v":12}]
[2002,"Cabrera, Jose","MIL","Milwaukee Brewers",705000,50,11,103.33333333333333,-70,6.79,1.6161290322580646,5.3129032258064512,11.409677419354839,56,106,4.7300000000000004,4297,1026,1468,6.446823365138469,9.2241098440772653,1.4898766581335816,"NL-C",{"$f":"LEFT([League-Division],1)","v":"N"},{"$f":"RIGHT([League-Division],1)","v":"C"},{"$f":"IF([LG]=\"N\",10,20)","v":10},{"$f":"IF([DIV]=\"E\",1,IF([DIV]=\"C\",2,3))","v":2},{"$f":"[LGS]+[DIVS]","v":12}]
[1998,"Cadaret, Greg","ANA","Anaheim Angels",330000,39,0,37,-1,4.1399999999999997,1.4324324324324325,9,9.2432432432432421,85,77,4.49,4332,1091,1481,6.7998614958448744,9.2306094182825476,1.4619113573407203,"AL-W",{"$f":"LEFT([League-Division],1)","v":"A"},{"$f":"RIGHT([League-Division],1)","v":"W"},{"$f":"IF([LG]=\"N\",10,20)","v":20},{"$f":"IF([DIV]=\"E\",1,IF([DIV]=\"C\",2,3))","v":3},{"$f":"[LGS]+[DIVS]","v":23}]
[1998,"Cadaret, Greg","TEX","Texas Rangers",330000,11,0,7.666666666666667,-6,4.7,1.826086956521739,5.8695652173913047,12.913043478260869,88,74,5,4293,994,1624,6.2515723270440251,10.213836477987421,1.4975541579315164,"AL-W",{"$f":"LEFT([League-Division],1)","v":"A"},{"$f":"RIGHT([League-Division],1)","v":"W"},{"$f":"IF([LG]=\"N\",10,20)","v":20},{"$f":"IF([DIV]=\"E\",1,IF([DIV]=\"C\",2,3))","v":3},{"$f":"[LGS]+[DIVS]","v":23}]
[2009,"Cahill, Trevor","OAK","Oakland Athletics",400000,32,32,178.66666666666666,-95,4.63,1.4384328358208955,4.5335820895522394,9.3190298507462686,75,87,4.29,4342,1124,1486,6.9894058037770614,9.2404421925380014,1.3880700138185169,"AL-W",{"$f":"LEFT([League-Division],1)","v":"A"},{"$f":"RIGHT([League-Division],1)","v":"W"},{"$f":"IF([LG]=\"N\",10,20)","v":20},{"$f":"IF([DIV]=\"E\",1,IF([DIV]=\"C\",2,3))","v":3},{"$f":"[LGS]+[DIVS]","v":23}]
[2010,"Cahill, Trevor","OAK","Oakland Athletics",410000,30,30,196.66666666666666,-37,2.97,1.1084745762711865,5.3999999999999995,7.093220338983051,81,81,3.58,4295,1070,1315,6.7264260768335271,8.2665890570430722,1.2761350407450522,"AL-W",{"$f":"LEFT([League-Division],1)","v":"A"},{"$f":"RIGHT([League-Division],1)","v":"W"},{"$f":"IF([LG]=\"N\",10,20)","v":20},{"$f":"IF([DIV]=\"E\",1,IF([DIV]=\"C\",2,3))","v":3},{"$f":"[LGS]+[DIVS]","v":23}]
[2006,"Cain, Matt","SFN","San Francisco Giants",328000,32,31,190.66666666666666,22,4.1500000000000004,1.2797202797202798,8.4493006993007,7.4108391608391608,76,85,4.63,4289,992,1422,6.2448123105619029,8.9517370016320825,1.4031242713919327,"NL-W",{"$f":"LEFT([League-Division],1)","v":"N"},{"$f":"RIGHT([League-Division],1)","v":"W"},{"$f":"IF([LG]=\"N\",10,20)","v":10},{"$f":"IF([DIV]=\"E\",1,IF([DIV]=\"C\",2,3))","v":3},{"$f":"[LGS]+[DIVS]","v":13}]
[2007,"Cain, Matt","SFN","San Francisco Giants",650000,32,32,200,-10,3.65,1.26,7.3349999999999991,7.7850000000000001,71,91,4.1900000000000004,4361,1057,1442,6.5441412520064199,8.9277688603531296,1.3999082779179086,"NL-W",{"$f":"LEFT([League-Division],1)","v":"N"},{"$f":"RIGHT([League-Division],1)","v":"W"},{"$f":"IF([LG]=\"N\",10,20)","v":10},{"$f":"IF([DIV]=\"E\",1,IF([DIV]=\"C\",2,3))","v":3},{"$f":"[LGS]+[DIVS]","v":13}]
[2008,"Cain, Matt","SFN","San Francisco Giants",950000,34,34,217.66666666666666,-20,3.76,1.3644716692189893,7.6906584992343037,8.5176110260336912,72,90,4.38,4326,1240,1416,7.7392510402219132,8.8377253814147014,1.434119278779473,"NL-W",{"$f":"LEFT([League-Division],1)","v":"N"},{"$f":"RIGHT([League-Division],1)","v":"W"},{"$f":"IF([LG]=\"N\",10,20)","v":10},{"$f":"IF([DIV]=\"E\",1,IF([DIV]=\"C\",2,3))","v":3},{"$f":"[LGS]+[DIVS]","v":13}]
[2009,"Cain, Matt","SFN","San Francisco Giants",2900000,33,33,217.66666666666666,-13,2.89,1.1807044410413476,7.0704441041347632,7.6079632465543643,88,74,3.55,4338,1302,1268,8.1037344398340245,7.8921161825726145,1.2807745504840939,"NL-W",{"$f":"LEFT([League-Division],1)","v":"N"},{"$f":"RIGHT([League-Division],1)","v":"W"},{"$f":"IF([LG]=\"N\",10,20)","v":10},{"$f":"IF([DIV]=\"E\",1,IF([DIV]=\"C\",2,3))","v":3},{"$f":"[LGS]+[DIVS]","v":13}]
[2010,"Cain, Matt","SFN","San Francisco Giants",4583333,33,33,223.33333333333334,-4,3.14,1.0835820895522388,7.1328358208955214,7.2940298507462682,92,70,3.36,4383,1331,1279,8.1991786447638599,7.8788501026694044,1.271047227926078,"NL-W",{"$f":"LEFT([League-Division],1)","v":"N"},{"$f":"RIGHT([League-Division],1)","v":"W"},{"$f":"IF([LG]=\"N\",10,20)","v":10},{"$f":"IF([DIV]=\"E\",1,IF([DIV]=\"C\",2,3))","v":3},{"$f":"[LGS]+[DIVS]","v":13}]
[2005,"Calero, Kiko","OAK","Oakland Athletics",330000,58,0,55.666666666666664,7,3.23,1.1317365269461079,8.407185628742516,7.2754491017964078,88,74,3.69,4351,1075,1315,6.6708802574120902,8.1601930590668807,1.2541944380602161,"AL-W",{"$f":"LEFT([League-Division],1)","v":"A"},{"$f":"RIGHT([League-Division],1)","v":"W"},{"$f":"IF([LG]=\"N\",10,20)","v":20},{"$f":"IF([DIV]=\"E\",1,IF([DIV]=\"C\",2,3))","v":3},{"$f":"[LGS]+[DIVS]","v":23}]
[2006,"Calero, Kiko","OAK","Oakland Athletics",850000,70,0,58,17,3.41,1.2758620689655173,10.396551724137931,7.7586206896551717,93,69,4.21,4355,1003,1525,6.2183696900114809,9.4546498277841557,1.4149253731343283,"AL-W",{"$f":"LEFT([League-Division],1)","v":"A"},{"$f":"RIGHT([League-Division],1)","v":"W"},{"$f":"IF([LG]=\"N\",10,20)","v":20},{"$f":"IF([DIV]=\"E\",1,IF([DIV]=\"C\",2,3))","v":3},{"$f":"[LGS]+[DIVS]","v":23}]
[2007,"Calero, Kiko","OAK","Oakland Athletics",1600000,46,0,40.666666666666664,-15,5.75,1.6475409836065575,6.8606557377049189,10.18032786885246,76,86,4.28,4344,1036,1468,6.4392265193370166,9.124309392265193,1.3798342541436464,"AL-W",{"$f":"LEFT([League-Division],1)","v":"A"},{"$f":"RIGHT([League-Division],1)","v":"W"},{"$f":"IF([LG]=\"N\",10,20)","v":20},{"$f":"IF([DIV]=\"E\",1,IF([DIV]=\"C\",2,3))","v":3},{"$f":"[LGS]+[DIVS]","v":23}]
[2008,"Calero, Kiko","OAK","Oakland Athletics",1000000,5,0,4.666666666666667,4,3.86,1.2857142857142856,13.5,5.7857142857142847,75,86,4.01,4305,1061,1364,6.6543554006968648,8.5547038327526135,1.3519163763066202,"AL-W",{"$f":"LEFT([League-Division],1)","v":"A"},{"$f":"RIGHT([League-Division],1)","v":"W"},{"$f":"IF([LG]=\"N\",10,20)","v":20},{"$f":"IF([DIV]=\"E\",1,IF([DIV]=\"C\",2,3))","v":3},{"$f":"[LGS]+[DIVS]","v":23}]
[2009,"Calero, Kiko","FLO","Florida Marlins",500000,67,0,60,33,1.95,1.1000000000000001,10.35,5.3999999999999995,87,75,4.32,4339,1248,1425,7.7658446646692791,8.8672505185526624,1.4007835906890989,"NL-E",{"$f":"LEFT([League-Division],1)","v":"N"},{"$f":"RIGHT([League-Division],1)","v":"E"},{"$f":"IF([LG]=\"N\",10,20)","v":10},{"$f":"IF([DIV]=\"E\",1,IF([DIV]=\"C\",2,3))","v":1},{"$f":"[LGS]+[DIVS]","v":11}]
[2003,"Callaway, Mickey","TEX","Texas Rangers",302500,6,3,22.333333333333332,-8,6.45,1.5671641791044777,7.6567164179104479,10.880597014925375,71,91,5.67,4300,1009,1625,6.3355813953488376,10.203488372093023,1.5544186046511628,"AL-W",{"$f":"LEFT([League-Division],1)","v":"A"},{"$f":"RIGHT([League-Division],1)","v":"W"},{"$f":"IF([LG]=\"N\",10,20)","v":20},{"$f":"IF([DIV]=\"E\",1,IF([DIV]=\"C\",2,3))","v":3},{"$f":"[LGS]+[DIVS]","v":23}]
[2003,"Callaway, Mickey","ANA","Anaheim Angels",302500,17,4,38.333333333333336,-35,6.81,1.9043478260869564,5.1652173913043482,13.382608695652173,77,85,4.28,4294,980,1444,6.1620866325104799,9.0796460176991154,1.3483931066604564,"AL-W",{"$f":"LEFT([League-Division],1)","v":"A"},{"$f":"RIGHT([League-Division],1)","v":"W"},{"$f":"IF([LG]=\"N\",10,20)","v":20},{"$f":"IF([DIV]=\"E\",1,IF([DIV]=\"C\",2,3))","v":3},{"$f":"[LGS]+[DIVS]","v":23}]
[2004,"Callaway, Mickey","TEX","Texas Rangers",320000,4,3,11.333333333333334,-9,7.94,2.2058823529411762,7.1470588235294112,14.294117647058822,89,73,4.53,4319,979,1536,6.1201667052558459,9.6022227367446149,1.4468626996990044,"AL-W",{"$f":"LEFT([League-Division],1)","v":"A"},{"$f":"RIGHT([League-Division],1)","v":"W"},{"$f":"IF([LG]=\"N\",10,20)","v":20},{"$f":"IF([DIV]=\"E\",1,IF([DIV]=\"C\",2,3))","v":3},{"$f":"[LGS]+[DIVS]","v":23}]
[2007,"Cameron, Kevin","SDN","San Diego Padres",380000,48,0,58,-5,2.79,1.5689655172413792,7.7586206896551717,8.5344827586206904,89,74,3.7,4454,1136,1406,6.8863942523574311,8.5231252806466102,1.2662775033677593,"NL-W",{"$f":"LEFT([League-Division],1)","v":"N"},{"$f":"RIGHT([League-Division],1)","v":"W"},{"$f":"IF([LG]=\"N\",10,20)","v":10},{"$f":"IF([DIV]=\"E\",1,IF([DIV]=\"C\",2,3))","v":3},{"$f":"[LGS]+[DIVS]","v":13}]
[1996,"Campbell, Mike","CHN","Chicago Cubs",125000,13,5,36.333333333333336,-10,4.46,1.073394495412844,4.7064220183486238,7.1834862385321099,76,86,4.3600000000000003,4368,1027,1447,6.3482142857142865,8.9443681318681314,1.3688186813186813,"NL-C",{"$f":"LEFT([League-Division],1)","v":"N"},{"$f":"RIGHT([League-Division],1)","v":"C"},{"$f":"IF([LG]=\"N\",10,20)","v":10},{"$f":"IF([DIV]=\"E\",1,IF([DIV]=\"C\",2,3))","v":2},{"$f":"[LGS]+[DIVS]","v":12}]
[2009,"Campillo, Jorge","ATL","Atlanta Braves",420000,5,0,4.333333333333333,-4,4.1500000000000004,2.3076923076923079,6.2307692307692317,14.538461538461538,86,76,3.57,4388,1232,1399,7.5806745670009104,8.6082497721057418,1.3188240656335459,"NL-E",{"$f":"LEFT([League-Division],1)","v":"N"},{"$f":"RIGHT([League-Division],1)","v":"E"},{"$f":"IF([LG]=\"N\",10,20)","v":10},{"$f":"IF([DIV]=\"E\",1,IF([DIV]=\"C\",2,3))","v":1},{"$f":"[LGS]+[DIVS]","v":11}]
[2004,"Camp, Shawn","KCA","Kansas City Royals",300000,42,0,66.666666666666671,-23,3.92,1.3499999999999999,6.8849999999999989,9.9899999999999984,58,104,5.15,4261,887,1638,5.6205116169913163,10.379253696315418,1.5179535320347337,"AL-C",{"$f":"LEFT([League-Division],1)","v":"A"},{"$f":"RIGHT([League-Division],1)","v":"C"},{"$f":"IF([LG]=\"N\",10,20)","v":20},{"$f":"IF([DIV]=\"E\",1,IF([DIV]=\"C\",2,3))","v":2},{"$f":"[LGS]+[DIVS]","v":22}]
[2005,"Camp, Shawn","KCA","Kansas City Royals",319500,29,0,49,-41,6.43,1.6734693877551021,5.1428571428571423,12.673469387755102,56,106,5.49,4240,924,1640,5.8839622641509433,10.443396226415095,1.5707547169811322,"AL-C",{"$f":"LEFT([League-Division],1)","v":"A"},{"$f":"RIGHT([League-Division],1)","v":"C"},{"$f":"IF([LG]=\"N\",10,20)","v":20},{"$f":"IF([DIV]=\"E\",1,IF([DIV]=\"C\",2,3))","v":2},{"$f":"[LGS]+[DIVS]","v":22}]
[2006,"Camp, Shawn","TBA","Tampa Bay Devil Rays",335000,75,0,75,-40,4.68,1.4933333333333334,6.36,11.16,61,101,4.96,4261,979,1600,6.2034733630603149,10.13846514902605,1.5531565360244075,"AL-E",{"$f":"LEFT([League-Division],1)","v":"A"},{"$f":"RIGHT([League-Division],1)","v":"E"},{"$f":"IF([LG]=\"N\",10,20)","v":20},{"$f":"IF([DIV]=\"E\",1,IF([DIV]=\"C\",2,3))","v":1},{"$f":"[LGS]+[DIVS]","v":21}]
[2007,"Camp, Shawn","TBA","Tampa Bay Devil Rays",411000,50,0,40,-27,7.2,2.0249999999999999,8.1,14.174999999999999,66,96,5.53,4289,1194,1649,7.5164373979948698,10.380741431569129,1.550711121473537,"AL-E",{"$f":"LEFT([League-Division],1)","v":"A"},{"$f":"RIGHT([League-Division],1)","v":"E"},{"$f":"IF([LG]=\"N\",10,20)","v":20},{"$f":"IF([DIV]=\"E\",1,IF([DIV]=\"C\",2,3))","v":1},{"$f":"[LGS]+[DIVS]","v":21}]
[2009,"Camp, Shawn","TOR","Toronto Blue Jays",750000,59,0,79.666666666666671,-15,3.5,1.2803347280334727,6.5523012552301259,8.2468619246861916,75,87,4.47,4353,1181,1509,7.325292901447277,9.3597518952446581,1.4197105444521021,"AL-E",{"$f":"LEFT([League-Division],1)","v":"A"},{"$f":"RIGHT([League-Division],1)","v":"E"},{"$f":"IF([LG]=\"N\",10,20)","v":20},{"$f":"IF([DIV]=\"E\",1,IF([DIV]=\"C\",2,3))","v":1},{"$f":"[LGS]+[DIVS]","v":21}]
[2010,"Camp, Shawn","TOR","Toronto Blue Jays",1150000,70,0,72.333333333333329,-25,2.99,1.2304147465437789,5.7235023041474653,8.8341013824884804,85,77,4.2300000000000004,4322,1184,1407,7.3965756594169365,8.789680703378064,1.3507635354002776,"AL-E",{"$f":"LEFT([League-Division],1)","v":"A"},{"$f":"RIGHT([League-Division],1)","v":"E"},{"$f":"IF([LG]=\"N\",10,20)","v":20},{"$f":"IF([DIV]=\"E\",1,IF([DIV]=\"C\",2,3))","v":1},{"$f":"[LGS]+[DIVS]","v":21}]
[1995,"Candiotti, Tom","LAN","Los Angeles Dodgers",4450000,30,30,190.33333333333334,-46,3.5,1.2872154115586689,6.667250437828371,8.8423817863397538,78,66,3.66,3885,1060,1188,7.3667953667953672,8.256370656370656,1.274131274131274,"NL-W",{"$f":"LEFT([League-Division],1)","v":"N"},{"$f":"RIGHT([League-Division],1)","v":"W"},{"$f":"IF([LG]=\"N\",10,20)","v":10},{"$f":"IF([DIV]=\"E\",1,IF([DIV]=\"C\",2,3))","v":3},{"$f":"[LGS]+[DIVS]","v":13}]
[1996,"Candiotti, Tom","LAN","Los Angeles Dodgers",3000000,28,27,152.33333333333334,-93,4.49,1.4113785557986871,4.6673960612691463,10.161925601750546,90,72,3.48,4398,1212,1378,7.4406548431105044,8.4597544338335613,1.3042291950886766,"NL-W",{"$f":"LEFT([League-Division],1)","v":"N"},{"$f":"RIGHT([League-Division],1)","v":"W"},{"$f":"IF([LG]=\"N\",10,20)","v":10},{"$f":"IF([DIV]=\"E\",1,IF([DIV]=\"C\",2,3))","v":3},{"$f":"[LGS]+[DIVS]","v":13}]
[1997,"Candiotti, Tom","LAN","Los Angeles Dodgers",3000000,41,18,135,-39,3.6,1.2444444444444445,5.9333333333333327,8.5333333333333332,88,74,3.63,4377,1232,1325,7.599725839616176,8.1734064427690196,1.2823851953392735,"NL-W",{"$f":"LEFT([League-Division],1)","v":"N"},{"$f":"RIGHT([League-Division],1)","v":"W"},{"$f":"IF([LG]=\"N\",10,20)","v":10},{"$f":"IF([DIV]=\"E\",1,IF([DIV]=\"C\",2,3))","v":3},{"$f":"[LGS]+[DIVS]","v":13}]
[1998,"Candiotti, Tom","OAK","Oakland Athletics",2850000,33,33,201,-124,4.84,1.4179104477611941,4.3880597014925371,9.9402985074626873,74,88,4.83,4302,922,1555,5.7866108786610875,9.7594142259414216,1.4532775453277544,"AL-W",{"$f":"LEFT([League-Division],1)","v":"A"},{"$f":"RIGHT([League-Division],1)","v":"W"},{"$f":"IF([LG]=\"N\",10,20)","v":20},{"$f":"IF([DIV]=\"E\",1,IF([DIV]=\"C\",2,3))","v":3},{"$f":"[LGS]+[DIVS]","v":23}]
[1999,"Candiotti, Tom","CLE","Cleveland Indians",3000000,7,2,14.666666666666666,-8,11.05,1.7727272727272727,6.75,11.659090909090908,97,65,4.9000000000000004,4350,1120,1503,6.9517241379310342,9.3289655172413788,1.4737931034482759,"AL-C",{"$f":"LEFT([League-Division],1)","v":"A"},{"$f":"RIGHT([League-Division],1)","v":"C"},{"$f":"IF([LG]=\"N\",10,20)","v":20},{"$f":"IF([DIV]=\"E\",1,IF([DIV]=\"C\",2,3))","v":2},{"$f":"[LGS]+[DIVS]","v":22}]
[1999,"Candiotti, Tom","OAK","Oakland Athletics",3000000,11,11,56.666666666666664,-37,6.35,1.5882352941176472,4.7647058823529411,10.641176470588235,87,75,4.6900000000000004,4314,967,1537,6.052155771905424,9.6196105702364392,1.4645340751043114,"AL-W",{"$f":"LEFT([League-Division],1)","v":"A"},{"$f":"RIGHT([League-Division],1)","v":"W"},{"$f":"IF([LG]=\"N\",10,20)","v":20},{"$f":"IF([DIV]=\"E\",1,IF([DIV]=\"C\",2,3))","v":3},{"$f":"[LGS]+[DIVS]","v":23}]
[1995,"Cangelosi, John","HOU","Houston Astros",182500,1,0,1,0,0,1,0,0,76,68,4.0599999999999996,3960,1056,1357,7.2,9.252272727272727,1.3765151515151515,"NL-C",{"$f":"LEFT([League-Division],1)","v":"N"},{"$f":"RIGHT([League-Division],1)","v":"C"},{"$f":"IF([LG]=\"N\",10,20)","v":10},{"$f":"IF([DIV]=\"E\",1,IF([DIV]=\"C\",2,3))","v":2},{"$f":"[LGS]+[DIVS]","v":12}]
[1997,"Cangelosi, John","FLO","Florida Marlins",525000,1,0,1,0,0,1,0,0,92,70,3.83,4338,1188,1353,7.3941908713692941,8.4211618257261414,1.3775933609958506,"NL-E",{"$f":"LEFT([League-Division],1)","v":"N"},{"$f":"RIGHT([League-Division],1)","v":"E"},{"$f":"IF([LG]=\"N\",10,20)","v":10},{"$f":"IF([DIV]=\"E\",1,IF([DIV]=\"C\",2,3))","v":1},{"$f":"[LGS]+[DIVS]","v":11}]
[2006,"Capellan, Jose","MIL","Milwaukee Brewers",330000,61,0,71.666666666666671,-7,4.4000000000000004,1.3395348837209302,7.2837209302325574,8.1627906976744189,75,87,4.82,4277,1145,1454,7.2281973345803134,9.1788636895019859,1.3804068272153378,"NL-C",{"$f":"LEFT([League-Division],1)","v":"N"},{"$f":"RIGHT([League-Division],1)","v":"C"},{"$f":"IF([LG]=\"N\",10,20)","v":10},{"$f":"IF([DIV]=\"E\",1,IF([DIV]=\"C\",2,3))","v":2},{"$f":"[LGS]+[DIVS]","v":12}]
[2006,"Capps, Matt","PIT","Pittsburgh Pirates",327000,85,0,80.666666666666671,-25,3.79,1.1528925619834709,6.2479338842975203,9.0371900826446279,67,95,4.5199999999999996,4305,1060,1545,6.6480836236933802,9.6898954703832754,1.5087108013937283,"NL-C",{"$f":"LEFT([League-Division],1)","v":"N"},{"$f":"RIGHT([League-Division],1)","v":"C"},{"$f":"IF([LG]=\"N\",10,20)","v":10},{"$f":"IF([DIV]=\"E\",1,IF([DIV]=\"C\",2,3))","v":2},{"$f":"[LGS]+[DIVS]","v":12}]
[2007,"Capps, Matt","PIT","Pittsburgh Pirates",401000,76,0,79,0,2.2799999999999998,1.0126582278481013,7.2911392405063289,7.2911392405063289,68,94,4.93,4343,997,1627,6.1982500575638948,10.114897536265254,1.4816946810960165,"NL-C",{"$f":"LEFT([League-Division],1)","v":"N"},{"$f":"RIGHT([League-Division],1)","v":"C"},{"$f":"IF([LG]=\"N\",10,20)","v":10},{"$f":"IF([DIV]=\"E\",1,IF([DIV]=\"C\",2,3))","v":2},{"$f":"[LGS]+[DIVS]","v":12}]
[2008,"Capps, Matt","PIT","Pittsburgh Pirates",435500,49,0,53.666666666666664,-8,3.02,0.96894409937888204,6.5403726708074537,7.8819875776397517,67,95,5.0999999999999996,4365,963,1631,5.9567010309278352,10.088659793814433,1.5725085910652921,"NL-C",{"$f":"LEFT([League-Division],1)","v":"N"},{"$f":"RIGHT([League-Division],1)","v":"C"},{"$f":"IF([LG]=\"N\",10,20)","v":10},{"$f":"IF([DIV]=\"E\",1,IF([DIV]=\"C\",2,3))","v":2},{"$f":"[LGS]+[DIVS]","v":12}]
[2009,"Capps, Matt","PIT","Pittsburgh Pirates",2425000,57,0,54.333333333333336,-27,5.8,1.656441717791411,7.6196319018404903,12.092024539877301,62,99,4.59,4255,919,1491,5.831492361927145,9.4611045828437135,1.4481786133960048,"NL-C",{"$f":"LEFT([League-Division],1)","v":"N"},{"$f":"RIGHT([League-Division],1)","v":"C"},{"$f":"IF([LG]=\"N\",10,20)","v":10},{"$f":"IF([DIV]=\"E\",1,IF([DIV]=\"C\",2,3))","v":2},{"$f":"[LGS]+[DIVS]","v":12}]
[2010,"Capps, Matt","WAS","Washington Nationals",3500000,47,0,46,-13,2.74,1.3043478260869565,7.4347826086956523,9.9782608695652186,69,93,4.13,4305,1068,1469,6.6982578397212542,9.2132404181184668,1.3804878048780487,"NL-E",{"$f":"LEFT([League-Division],1)","v":"N"},{"$f":"RIGHT([League-Division],1)","v":"E"},{"$f":"IF([LG]=\"N\",10,20)","v":10},{"$f":"IF([DIV]=\"E\",1,IF([DIV]=\"C\",2,3))","v":1},{"$f":"[LGS]+[DIVS]","v":11}]
[2010,"Capps, Matt","MIN","Minnesota Twins",3500000,27,0,27,-3,2,1.1851851851851851,7,8,94,68,3.95,4358,1048,1493,6.4928866452501142,9.2498852684717754,1.2914180816888481,"AL-C",{"$f":"LEFT([League-Division],1)","v":"A"},{"$f":"RIGHT([League-Division],1)","v":"C"},{"$f":"IF([LG]=\"N\",10,20)","v":20},{"$f":"IF([DIV]=\"E\",1,IF([DIV]=\"C\",2,3))","v":2},{"$f":"[LGS]+[DIVS]","v":22}]
[2004,"Capuano, Chris","MIL","Milwaukee Brewers",305000,17,17,88.333333333333329,-11,4.99,1.449056603773585,8.1509433962264151,9.2716981132075471,67,94,4.24,4326,1098,1440,6.8529819694868239,8.9875173370318997,1.3287101248266298,"NL-C",{"$f":"LEFT([League-Division],1)","v":"N"},{"$f":"RIGHT([League-Division],1)","v":"C"},{"$f":"IF([LG]=\"N\",10,20)","v":10},{"$f":"IF([DIV]=\"E\",1,IF([DIV]=\"C\",2,3))","v":2},{"$f":"[LGS]+[DIVS]","v":12}]
[2005,"Capuano, Chris","MIL","Milwaukee Brewers",340000,35,35,219,-36,3.99,1.3835616438356164,7.2328767123287667,8.712328767123287,81,81,3.97,4314,1173,1382,7.3414464534075101,8.649513212795549,1.3567454798331016,"NL-C",{"$f":"LEFT([League-Division],1)","v":"N"},{"$f":"RIGHT([League-Division],1)","v":"C"},{"$f":"IF([LG]=\"N\",10,20)","v":10},{"$f":"IF([DIV]=\"E\",1,IF([DIV]=\"C\",2,3))","v":2},{"$f":"[LGS]+[DIVS]","v":12}]
[2006,"Capuano, Chris","MIL","Milwaukee Brewers",450000,34,34,221.33333333333334,-55,4.03,1.2469879518072289,7.0753012048192776,9.3117469879518069,75,87,4.82,4277,1145,1454,7.2281973345803134,9.1788636895019859,1.3804068272153378,"NL-C",{"$f":"LEFT([League-Division],1)","v":"N"},{"$f":"RIGHT([League-Division],1)","v":"C"},{"$f":"IF([LG]=\"N\",10,20)","v":10},{"$f":"IF([DIV]=\"E\",1,IF([DIV]=\"C\",2,3))","v":2},{"$f":"[LGS]+[DIVS]","v":12}]
[2007,"Capuano, Chris","MIL","Milwaukee Brewers",3250000,29,25,150,-38,5.0999999999999996,1.4933333333333334,7.92,10.199999999999999,83,79,4.41,4333,1174,1513,7.315485806600508,9.4278790676205855,1.3985691207015924,"NL-C",{"$f":"LEFT([League-Division],1)","v":"N"},{"$f":"RIGHT([League-Division],1)","v":"C"},{"$f":"IF([LG]=\"N\",10,20)","v":10},{"$f":"IF([DIV]=\"E\",1,IF([DIV]=\"C\",2,3))","v":2},{"$f":"[LGS]+[DIVS]","v":12}]
[2010,"Caridad, Esmailin","CHN","Chicago Cubs",403000,8,0,4,0,11.25,2.25,9,9,75,87,4.24,4310,1268,1409,7.9433874709976795,8.8266821345707651,1.4018561484918792,"NL-C",{"$f":"LEFT([League-Division],1)","v":"N"},{"$f":"RIGHT([League-Division],1)","v":"C"},{"$f":"IF([LG]=\"N\",10,20)","v":10},{"$f":"IF([DIV]=\"E\",1,IF([DIV]=\"C\",2,3))","v":2},{"$f":"[LGS]+[DIVS]","v":12}]
[1997,"Carlson, Dan","SFN","San Francisco Giants",150000,6,0,15.333333333333334,-6,7.63,1.826086956521739,8.2173913043478262,11.739130434782609,90,72,4.41,4338,1044,1494,6.4979253112033195,9.2987551867219924,1.4329183955739973,"NL-W",{"$f":"LEFT([League-Division],1)","v":"N"},{"$f":"RIGHT([League-Division],1)","v":"W"},{"$f":"IF([LG]=\"N\",10,20)","v":10},{"$f":"IF([DIV]=\"E\",1,IF([DIV]=\"C\",2,3))","v":3},{"$f":"[LGS]+[DIVS]","v":13}]
[1998,"Carlson, Dan","TBA","Tampa Bay Devil Rays",175000,10,0,17.666666666666668,-9,7.64,1.8679245283018866,8.1509433962264151,12.735849056603772,63,99,4.3499999999999996,4329,1008,1425,6.2869022869022873,8.8877338877338872,1.4331254331254331,"AL-E",{"$f":"LEFT([League-Division],1)","v":"A"},{"$f":"RIGHT([League-Division],1)","v":"E"},{"$f":"IF([LG]=\"N\",10,20)","v":20},{"$f":"IF([DIV]=\"E\",1,IF([DIV]=\"C\",2,3))","v":1},{"$f":"[LGS]+[DIVS]","v":21}]
[2009,"Carlson, Jesse","TOR","Toronto Blue Jays",408700,73,0,67.666666666666671,-16,4.66,1.3004926108374384,6.7832512315270934,8.9113300492610836,75,87,4.47,4353,1181,1509,7.325292901447277,9.3597518952446581,1.4197105444521021,"AL-E",{"$f":"LEFT([League-Division],1)","v":"A"},{"$f":"RIGHT([League-Division],1)","v":"E"},{"$f":"IF([LG]=\"N\",10,20)","v":20},{"$f":"IF([DIV]=\"E\",1,IF([DIV]=\"C\",2,3))","v":1},{"$f":"[LGS]+[DIVS]","v":21}]
[1999,"Carlyle, Buddy","SDN","San Diego Padres",200000,7,7,37.666666666666664,-7,5.97,1.4070796460176993,6.9292035398230096,8.6017699115044248,74,88,4.47,4260,1078,1454,6.8323943661971827,9.2154929577464788,1.3964788732394366,"NL-W",{"$f":"LEFT([League-Division],1)","v":"N"},{"$f":"RIGHT([League-Division],1)","v":"W"},{"$f":"IF([LG]=\"N\",10,20)","v":10},{"$f":"IF([DIV]=\"E\",1,IF([DIV]=\"C\",2,3))","v":3},{"$f":"[LGS]+[DIVS]","v":13}]
[2005,"Carlyle, Buddy","LAN","Los Angeles Dodgers",330000,10,0,14,-3,8.36,1.4285714285714286,8.3571428571428577,10.285714285714285,71,91,4.38,4282,1004,1434,6.330686595049043,9.0420364315740311,1.3346567024754787,"NL-W",{"$f":"LEFT([League-Division],1)","v":"N"},{"$f":"RIGHT([League-Division],1)","v":"W"},{"$f":"IF([LG]=\"N\",10,20)","v":10},{"$f":"IF([DIV]=\"E\",1,IF([DIV]=\"C\",2,3))","v":3},{"$f":"[LGS]+[DIVS]","v":13}]
[2009,"Carlyle, Buddy","ATL","Atlanta Braves",425000,16,0,21.333333333333332,-23,8.86,2.203125,5.0625,14.765625,86,76,3.57,4388,1232,1399,7.5806745670009104,8.6082497721057418,1.3188240656335459,"NL-E",{"$f":"LEFT([League-Division],1)","v":"N"},{"$f":"RIGHT([League-Division],1)","v":"E"},{"$f":"IF([LG]=\"N\",10,20)","v":10},{"$f":"IF([DIV]=\"E\",1,IF([DIV]=\"C\",2,3))","v":1},{"$f":"[LGS]+[DIVS]","v":11}]
[2007,"Carmona, Fausto","CLE","Cleveland Indians",387500,32,32,215,-62,3.06,1.2093023255813953,5.7348837209302328,8.3302325581395351,96,66,4.05,4388,1047,1519,6.4423427529626247,9.3466271649954411,1.3188240656335459,"AL-C",{"$f":"LEFT([League-Division],1)","v":"A"},{"$f":"RIGHT([League-Division],1)","v":"C"},{"$f":"IF([LG]=\"N\",10,20)","v":20},{"$f":"IF([DIV]=\"E\",1,IF([DIV]=\"C\",2,3))","v":2},{"$f":"[LGS]+[DIVS]","v":22}]
[2008,"Carmona, Fausto","CLE","Cleveland Indians",457800,22,22,120.66666666666667,-68,5.44,1.6243093922651932,4.3259668508287294,9.3977900552486169,81,81,4.46,4311,986,1530,6.1753653444676413,9.5824634655532357,1.3736951983298538,"AL-C",{"$f":"LEFT([League-Division],1)","v":"A"},{"$f":"RIGHT([League-Division],1)","v":"C"},{"$f":"IF([LG]=\"N\",10,20)","v":20},{"$f":"IF([DIV]=\"E\",1,IF([DIV]=\"C\",2,3))","v":2},{"$f":"[LGS]+[DIVS]","v":22}]
[2009,"Carmona, Fausto","CLE","Cleveland Indians",2937500,24,24,125.33333333333333,-72,6.32,1.7632978723404256,5.6728723404255321,10.843085106382979,65,97,5.07,4302,986,1570,6.1882845188284517,9.8535564853556483,1.5118549511854951,"AL-C",{"$f":"LEFT([League-Division],1)","v":"A"},{"$f":"RIGHT([League-Division],1)","v":"C"},{"$f":"IF([LG]=\"N\",10,20)","v":20},{"$f":"IF([DIV]=\"E\",1,IF([DIV]=\"C\",2,3))","v":2},{"$f":"[LGS]+[DIVS]","v":22}]
[2010,"Carmona, Fausto","CLE","Cleveland Indians",5087500,33,33,210.33333333333334,-79,3.77,1.3074484944532487,5.3058637083993663,8.6862123613312203,69,93,4.3,4299,967,1477,6.0732728541521288,9.2763433356594565,1.42986741102582,"AL-C",{"$f":"LEFT([League-Division],1)","v":"A"},{"$f":"RIGHT([League-Division],1)","v":"C"},{"$f":"IF([LG]=\"N\",10,20)","v":20},{"$f":"IF([DIV]=\"E\",1,IF([DIV]=\"C\",2,3))","v":2},{"$f":"[LGS]+[DIVS]","v":22}]
[1995,"Carmona, Rafael","SEA","Seattle Mariners",109000,15,3,47.666666666666664,-27,5.66,1.8671328671328673,5.2867132867132867,10.384615384615385,79,66,4.5,3868,1068,1343,7.4550155118924506,9.3746122026887289,1.5,"AL-W",{"$f":"LEFT([League-Division],1)","v":"A"},{"$f":"RIGHT([League-Division],1)","v":"W"},{"$f":"IF([LG]=\"N\",10,20)","v":20},{"$f":"IF([DIV]=\"E\",1,IF([DIV]=\"C\",2,3))","v":3},{"$f":"[LGS]+[DIVS]","v":23}]
[1996,"Carmona, Rafael","SEA","Seattle Mariners",125000,53,1,90.333333333333329,-33,4.28,1.6605166051660518,6.1771217712177124,9.4649446494464939,85,76,5.21,4293,1000,1562,6.2893081761006293,9.8238993710691815,1.5143256464011181,"AL-W",{"$f":"LEFT([League-Division],1)","v":"A"},{"$f":"RIGHT([League-Division],1)","v":"W"},{"$f":"IF([LG]=\"N\",10,20)","v":20},{"$f":"IF([DIV]=\"E\",1,IF([DIV]=\"C\",2,3))","v":3},{"$f":"[LGS]+[DIVS]","v":23}]
[2010,"Carpenter, Andrew","PHI","Philadelphia Phillies",401000,1,0,3,-3,9,1.6666666666666667,6,15,97,65,3.68,4369,1183,1402,7.3108262760357059,8.6642252231631947,1.2483405813687343,"NL-E",{"$f":"LEFT([League-Division],1)","v":"N"},{"$f":"RIGHT([League-Division],1)","v":"E"},{"$f":"IF([LG]=\"N\",10,20)","v":10},{"$f":"IF([DIV]=\"E\",1,IF([DIV]=\"C\",2,3))","v":1},{"$f":"[LGS]+[DIVS]","v":11}]
[1997,"Carpenter, Chris","TOR","Toronto Blue Jays",150000,14,13,81.333333333333329,-53,5.09,1.7827868852459017,6.0860655737704921,11.950819672131148,76,86,3.92,4326,1150,1453,7.1775312066574202,9.0686546463245499,1.3522884882108184,"AL-E",{"$f":"LEFT([League-Division],1)","v":"A"},{"$f":"RIGHT([League-Division],1)","v":"E"},{"$f":"IF([LG]=\"N\",10,20)","v":20},{"$f":"IF([DIV]=\"E\",1,IF([DIV]=\"C\",2,3))","v":1},{"$f":"[LGS]+[DIVS]","v":21}]
[1998,"Carpenter, Chris","TOR","Toronto Blue Jays",190000,33,24,175,-41,4.37,1.36,6.9942857142857147,9.1028571428571414,88,74,4.29,4395,1154,1443,7.0894197952218434,8.8648464163822531,1.3856655290102389,"AL-E",{"$f":"LEFT([League-Division],1)","v":"A"},{"$f":"RIGHT([League-Division],1)","v":"E"},{"$f":"IF([LG]=\"N\",10,20)","v":20},{"$f":"IF([DIV]=\"E\",1,IF([DIV]=\"C\",2,3))","v":1},{"$f":"[LGS]+[DIVS]","v":21}]
[1999,"Carpenter, Chris","TOR","Toronto Blue Jays",483333,24,24,150,-71,4.38,1.5,6.36,10.62,84,78,4.92,4315,1009,1582,6.3135573580533029,9.8989571263035927,1.4996523754345308,"AL-E",{"$f":"LEFT([League-Division],1)","v":"A"},{"$f":"RIGHT([League-Division],1)","v":"E"},{"$f":"IF([LG]=\"N\",10,20)","v":20},{"$f":"IF([DIV]=\"E\",1,IF([DIV]=\"C\",2,3))","v":1},{"$f":"[LGS]+[DIVS]","v":21}]
[2000,"Carpenter, Chris","TOR","Toronto Blue Jays",733333,34,27,175.33333333333334,-91,6.26,1.6368821292775664,5.8003802281368824,10.47148288973384,83,79,5.14,4311,978,1615,6.1252609603340291,10.11482254697286,1.5135699373695197,"AL-E",{"$f":"LEFT([League-Division],1)","v":"A"},{"$f":"RIGHT([League-Division],1)","v":"E"},{"$f":"IF([LG]=\"N\",10,20)","v":20},{"$f":"IF([DIV]=\"E\",1,IF([DIV]=\"C\",2,3))","v":1},{"$f":"[LGS]+[DIVS]","v":21}]
[2001,"Carpenter, Chris","TOR","Toronto Blue Jays",2583333,34,34,215.66666666666666,-72,4.09,1.4095826893353942,6.5517774343122106,9.5564142194744974,80,82,4.28,4388,1041,1553,6.4054238833181394,9.5558340929808558,1.3967639015496809,"AL-E",{"$f":"LEFT([League-Division],1)","v":"A"},{"$f":"RIGHT([League-Division],1)","v":"E"},{"$f":"IF([LG]=\"N\",10,20)","v":20},{"$f":"IF([DIV]=\"E\",1,IF([DIV]=\"C\",2,3))","v":1},{"$f":"[LGS]+[DIVS]","v":21}]
[2002,"Carpenter, Chris","TOR","Toronto Blue Jays",3450000,13,13,73.333333333333329,-44,5.28,1.581818181818182,5.5227272727272725,10.922727272727272,78,84,4.8,4315,991,1504,6.2009269988412514,9.4108922363847061,1.4558516801853998,"AL-E",{"$f":"LEFT([League-Division],1)","v":"A"},{"$f":"RIGHT([League-Division],1)","v":"E"},{"$f":"IF([LG]=\"N\",10,20)","v":20},{"$f":"IF([DIV]=\"E\",1,IF([DIV]=\"C\",2,3))","v":1},{"$f":"[LGS]+[DIVS]","v":21}]
[2004,"Carpenter, Chris","SLN","St. Louis Cardinals",300000,28,28,182,-17,3.46,1.1373626373626373,7.5164835164835164,8.3571428571428577,105,57,3.75,4361,1041,1378,6.4450814033478556,8.5315294657188705,1.2506305893143774,"NL-C",{"$f":"LEFT([League-Division],1)","v":"N"},{"$f":"RIGHT([League-Division],1)","v":"C"},{"$f":"IF([LG]=\"N\",10,20)","v":10},{"$f":"IF([DIV]=\"E\",1,IF([DIV]=\"C\",2,3))","v":2},{"$f":"[LGS]+[DIVS]","v":12}]
[2005,"Carpenter, Chris","SLN","St. Louis Cardinals",2000000,33,33,241.66666666666666,9,2.83,1.0551724137931036,7.9324137931034491,7.5972413793103453,100,62,3.49,4337,974,1399,6.0636384597648147,8.7094765967258461,1.2741526400737837,"NL-C",{"$f":"LEFT([League-Division],1)","v":"N"},{"$f":"RIGHT([League-Division],1)","v":"C"},{"$f":"IF([LG]=\"N\",10,20)","v":10},{"$f":"IF([DIV]=\"E\",1,IF([DIV]=\"C\",2,3))","v":2},{"$f":"[LGS]+[DIVS]","v":12}]
[2006,"Carpenter, Chris","SLN","St. Louis Cardinals",5000000,32,32,221.66666666666666,-10,3.09,1.0691729323308272,7.4706766917293237,7.8766917293233085,83,78,4.54,4289,970,1475,6.106318489158312,9.2853812077407323,1.3842387502914431,"NL-C",{"$f":"LEFT([League-Division],1)","v":"N"},{"$f":"RIGHT([League-Division],1)","v":"C"},{"$f":"IF([LG]=\"N\",10,20)","v":10},{"$f":"IF([DIV]=\"E\",1,IF([DIV]=\"C\",2,3))","v":2},{"$f":"[LGS]+[DIVS]","v":12}]
[2007,"Carpenter, Chris","SLN","St. Louis Cardinals",8500000,1,1,6,-6,7.5,1.6666666666666667,4.5,13.5,78,84,4.6500000000000004,4307,945,1514,5.9240770838170418,9.4910610633851853,1.4091014627350824,"NL-C",{"$f":"LEFT([League-Division],1)","v":"N"},{"$f":"RIGHT([League-Division],1)","v":"C"},{"$f":"IF([LG]=\"N\",10,20)","v":10},{"$f":"IF([DIV]=\"E\",1,IF([DIV]=\"C\",2,3))","v":2},{"$f":"[LGS]+[DIVS]","v":12}]
[2008,"Carpenter, Chris","SLN","St. Louis Cardinals",10500000,4,3,15.333333333333334,-9,1.76,1.3043478260869565,4.1086956521739131,9.391304347826086,86,76,4.2,4362,957,1517,5.9236588720770289,9.3899587345254467,1.3844566712517195,"NL-C",{"$f":"LEFT([League-Division],1)","v":"N"},{"$f":"RIGHT([League-Division],1)","v":"C"},{"$f":"IF([LG]=\"N\",10,20)","v":10},{"$f":"IF([DIV]=\"E\",1,IF([DIV]=\"C\",2,3))","v":2},{"$f":"[LGS]+[DIVS]","v":12}]
[2009,"Carpenter, Chris","SLN","St. Louis Cardinals",13302583,28,28,192.66666666666666,-12,2.2400000000000002,1.0069204152249136,6.726643598615917,7.2871972318339111,91,71,3.66,4322,1049,1407,6.5532161036557142,8.789680703378064,1.2959278111985191,"NL-C",{"$f":"LEFT([League-Division],1)","v":"N"},{"$f":"RIGHT([League-Division],1)","v":"C"},{"$f":"IF([LG]=\"N\",10,20)","v":10},{"$f":"IF([DIV]=\"E\",1,IF([DIV]=\"C\",2,3))","v":2},{"$f":"[LGS]+[DIVS]","v":12}]
[2010,"Carpenter, Chris","SLN","St. Louis Cardinals",15840971,35,35,235,-35,3.22,1.1787234042553192,6.8553191489361698,8.1957446808510639,86,76,3.57,4361,1094,1412,6.7732171520293507,8.7420316441183203,1.2994725980279751,"NL-C",{"$f":"LEFT([League-Division],1)","v":"N"},{"$f":"RIGHT([League-Division],1)","v":"C"},{"$f":"IF([LG]=\"N\",10,20)","v":10},{"$f":"IF([DIV]=\"E\",1,IF([DIV]=\"C\",2,3))","v":2},{"$f":"[LGS]+[DIVS]","v":12}]
[1996,"Carpenter, Cris","ML4","Milwaukee Brewers",150000,8,0,8.3333333333333339,-10,7.56,1.68,2.16,12.959999999999999,80,82,5.17,4341,846,1570,5.2619212163096067,9.7650310988251547,1.5238424326192122,"AL-C",{"$f":"LEFT([League-Division],1)","v":"A"},{"$f":"RIGHT([League-Division],1)","v":"C"},{"$f":"IF([LG]=\"N\",10,20)","v":20},{"$f":"IF([DIV]=\"E\",1,IF([DIV]=\"C\",2,3))","v":2},{"$f":"[LGS]+[DIVS]","v":22}]
[2003,"Carrasco, D.J.","KCA","Kansas City Royals",300000,50,2,80.333333333333329,-25,4.82,1.5186721991701246,6.385892116182573,9.1867219917012459,83,79,5.0599999999999996,4316,865,1569,5.4112604263206672,9.8153382761816488,1.4840129749768303,"AL-C",{"$f":"LEFT([League-Division],1)","v":"A"},{"$f":"RIGHT([League-Division],1)","v":"C"},{"$f":"IF([LG]=\"N\",10,20)","v":20},{"$f":"IF([DIV]=\"E\",1,IF([DIV]=\"C\",2,3))","v":2},{"$f":"[LGS]+[DIVS]","v":22}]
[2004,"Carrasco, D.J.","KCA","Kansas City Royals",320500,30,0,35.333333333333336,-19,4.84,1.5849056603773584,5.6037735849056602,10.443396226415093,58,104,5.15,4261,887,1638,5.6205116169913163,10.379253696315418,1.5179535320347337,"AL-C",{"$f":"LEFT([League-Division],1)","v":"A"},{"$f":"RIGHT([League-Division],1)","v":"C"},{"$f":"IF([LG]=\"N\",10,20)","v":20},{"$f":"IF([DIV]=\"E\",1,IF([DIV]=\"C\",2,3))","v":2},{"$f":"[LGS]+[DIVS]","v":22}]
[2009,"Carrasco, D.J.","CHA","Chicago White Sox",440000,49,1,93.333333333333329,-41,3.76,1.4142857142857144,5.9785714285714295,9.9321428571428569,79,83,4.16,4319,1119,1438,6.9953692984487148,8.9895809215096083,1.3510071775874044,"AL-C",{"$f":"LEFT([League-Division],1)","v":"A"},{"$f":"RIGHT([League-Division],1)","v":"C"},{"$f":"IF([LG]=\"N\",10,20)","v":20},{"$f":"IF([DIV]=\"E\",1,IF([DIV]=\"C\",2,3))","v":2},{"$f":"[LGS]+[DIVS]","v":22}]
[2010,"Carrasco, D.J.","PIT","Pittsburgh Pirates",950000,45,0,55.666666666666664,-5,3.88,1.2934131736526946,7.2754491017964078,8.0838323353293422,57,105,5,4235,1026,1567,6.5412042502951593,9.9903187721369537,1.4911452184179457,"NL-C",{"$f":"LEFT([League-Division],1)","v":"N"},{"$f":"RIGHT([League-Division],1)","v":"C"},{"$f":"IF([LG]=\"N\",10,20)","v":10},{"$f":"IF([DIV]=\"E\",1,IF([DIV]=\"C\",2,3))","v":2},{"$f":"[LGS]+[DIVS]","v":12}]
[2010,"Carrasco, D.J.","ARI","Arizona Diamondbacks",950000,18,0,22.666666666666668,2,3.18,1.3235294117647058,7.9411764705882355,7.1470588235294112,65,97,4.8099999999999996,4296,1070,1503,6.7248603351955305,9.4462290502793298,1.4322625698324023,"NL-W",{"$f":"LEFT([League-Division],1)","v":"N"},{"$f":"RIGHT([League-Division],1)","v":"W"},{"$f":"IF([LG]=\"N\",10,20)","v":10},{"$f":"IF([DIV]=\"E\",1,IF([DIV]=\"C\",2,3))","v":3},{"$f":"[LGS]+[DIVS]","v":13}]
[1995,"Carrara, Giovanni","TOR","Toronto Blue Jays",109000,12,7,48.666666666666664,-37,7.21,1.8287671232876712,4.993150684931507,11.835616438356166,56,88,4.88,3876,894,1336,6.2275541795665639,9.3065015479876152,1.5402476780185759,"AL-E",{"$f":"LEFT([League-Division],1)","v":"A"},{"$f":"RIGHT([League-Division],1)","v":"E"},{"$f":"IF([LG]=\"N\",10,20)","v":20},{"$f":"IF([DIV]=\"E\",1,IF([DIV]=\"C\",2,3))","v":1},{"$f":"[LGS]+[DIVS]","v":21}]
[1996,"Carrara, Giovanni","TOR","Toronto Blue Jays",115000,11,0,15,-13,11.4,2.3333333333333335,6,13.8,74,88,4.58,4335,1033,1476,6.4339100346020759,9.1930795847750879,1.4435986159169549,"AL-E",{"$f":"LEFT([League-Division],1)","v":"A"},{"$f":"RIGHT([League-Division],1)","v":"E"},{"$f":"IF([LG]=\"N\",10,20)","v":20},{"$f":"IF([DIV]=\"E\",1,IF([DIV]=\"C\",2,3))","v":1},{"$f":"[LGS]+[DIVS]","v":21}]
[1996,"Carrara, Giovanni","CIN","Cincinnati Reds",115000,8,5,23,-18,5.87,1.9130434782608696,5.0869565217391299,12.130434782608695,81,81,4.33,4329,1089,1447,6.7920997920997923,9.0249480249480261,1.4123354123354124,"NL-C",{"$f":"LEFT([League-Division],1)","v":"N"},{"$f":"RIGHT([League-Division],1)","v":"C"},{"$f":"IF([LG]=\"N\",10,20)","v":10},{"$f":"IF([DIV]=\"E\",1,IF([DIV]=\"C\",2,3))","v":2},{"$f":"[LGS]+[DIVS]","v":12}]
[2002,"Carrara, Giovanni","LAN","Los Angeles Dodgers",360000,63,1,90.666666666666671,-27,3.28,1.2683823529411764,5.5588235294117636,8.2389705882352935,92,70,3.69,4373,1132,1311,6.9892522295906696,8.094443174022409,1.2801280585410473,"NL-W",{"$f":"LEFT([League-Division],1)","v":"N"},{"$f":"RIGHT([League-Division],1)","v":"W"},{"$f":"IF([LG]=\"N\",10,20)","v":10},{"$f":"IF([DIV]=\"E\",1,IF([DIV]=\"C\",2,3))","v":3},{"$f":"[LGS]+[DIVS]","v":13}]
[2003,"Carrara, Giovanni","SEA","Seattle Mariners",400000,23,0,29,-27,6.83,1.8620689655172413,4.0344827586206895,12.413793103448278,93,69,3.76,4323,1001,1340,6.2519083969465656,8.3691880638445522,1.2532963219986122,"AL-W",{"$f":"LEFT([League-Division],1)","v":"A"},{"$f":"RIGHT([League-Division],1)","v":"W"},{"$f":"IF([LG]=\"N\",10,20)","v":20},{"$f":"IF([DIV]=\"E\",1,IF([DIV]=\"C\",2,3))","v":3},{"$f":"[LGS]+[DIVS]","v":23}]
[2005,"Carrara, Giovanni","LAN","Los Angeles Dodgers",500000,72,0,75.666666666666671,-9,3.93,1.3612334801762114,6.6607929515418505,7.7312775330396466,71,91,4.38,4282,1004,1434,6.330686595049043,9.0420364315740311,1.3346567024754787,"NL-W",{"$f":"LEFT([League-Division],1)","v":"N"},{"$f":"RIGHT([League-Division],1)","v":"W"},{"$f":"IF([LG]=\"N\",10,20)","v":10},{"$f":"IF([DIV]=\"E\",1,IF([DIV]=\"C\",2,3))","v":3},{"$f":"[LGS]+[DIVS]","v":13}]
[1995,"Carrasco, Hector","CIN","Cincinnati Reds",150000,64,0,87.333333333333329,-22,4.12,1.5114503816793894,6.5954198473282446,8.8625954198473291,85,59,4.03,3867,903,1270,6.3048875096974397,8.8673390224980615,1.3141970519782777,"NL-C",{"$f":"LEFT([League-Division],1)","v":"N"},{"$f":"RIGHT([League-Division],1)","v":"C"},{"$f":"IF([LG]=\"N\",10,20)","v":10},{"$f":"IF([DIV]=\"E\",1,IF([DIV]=\"C\",2,3))","v":2},{"$f":"[LGS]+[DIVS]","v":12}]
[1996,"Carrasco, Hector","CIN","Cincinnati Reds",195000,56,0,74.333333333333329,1,3.75,1.3856502242152466,7.143497757847534,7.0224215246636774,81,81,4.33,4329,1089,1447,6.7920997920997923,9.0249480249480261,1.4123354123354124,"NL-C",{"$f":"LEFT([League-Division],1)","v":"N"},{"$f":"RIGHT([League-Division],1)","v":"C"},{"$f":"IF([LG]=\"N\",10,20)","v":10},{"$f":"IF([DIV]=\"E\",1,IF([DIV]=\"C\",2,3))","v":2},{"$f":"[LGS]+[DIVS]","v":12}]
[1997,"Carrasco, Hector","KCA","Kansas City Royals",560000,28,0,34.666666666666664,1,5.45,1.2980769230769231,7.7884615384615383,7.5288461538461542,67,94,4.71,4329,961,1530,5.9937629937629939,9.5426195426195424,1.4282744282744282,"AL-C",{"$f":"LEFT([League-Division],1)","v":"A"},{"$f":"RIGHT([League-Division],1)","v":"C"},{"$f":"IF([LG]=\"N\",10,20)","v":20},{"$f":"IF([DIV]=\"E\",1,IF([DIV]=\"C\",2,3))","v":2},{"$f":"[LGS]+[DIVS]","v":22}]
[1997,"Carrasco, Hector","CIN","Cincinnati Reds",560000,38,0,51.333333333333336,-5,3.68,1.4805194805194803,8.0649350649350637,8.9415584415584419,76,86,4.42,4347,1159,1408,7.1987577639751548,8.7453416149068328,1.3567977915804004,"NL-C",{"$f":"LEFT([League-Division],1)","v":"N"},{"$f":"RIGHT([League-Division],1)","v":"C"},{"$f":"IF([LG]=\"N\",10,20)","v":10},{"$f":"IF([DIV]=\"E\",1,IF([DIV]=\"C\",2,3))","v":2},{"$f":"[LGS]+[DIVS]","v":12}]
[1998,"Carrasco, Hector","MIN","Minnesota Twins",700000,63,0,61.666666666666664,-29,4.38,1.7189189189189189,6.7135135135135142,10.945945945945946,70,92,4.76,4342,952,1622,5.9198526024873335,10.086135421464764,1.4364348226623675,"AL-C",{"$f":"LEFT([League-Division],1)","v":"A"},{"$f":"RIGHT([League-Division],1)","v":"C"},{"$f":"IF([LG]=\"N\",10,20)","v":20},{"$f":"IF([DIV]=\"E\",1,IF([DIV]=\"C\",2,3))","v":2},{"$f":"[LGS]+[DIVS]","v":22}]
[1999,"Carrasco, Hector","MIN","Minnesota Twins",800000,39,0,49,-13,4.78,1.346938775510204,6.4285714285714288,8.816326530612244,63,97,5.0199999999999996,4269,927,1591,5.8629655657062543,10.062543921293043,1.4602951510892481,"AL-C",{"$f":"LEFT([League-Division],1)","v":"A"},{"$f":"RIGHT([League-Division],1)","v":"C"},{"$f":"IF([LG]=\"N\",10,20)","v":20},{"$f":"IF([DIV]=\"E\",1,IF([DIV]=\"C\",2,3))","v":2},{"$f":"[LGS]+[DIVS]","v":22}]
[2000,"Carrasco, Hector","MIN","Minnesota Twins",825000,61,0,72,-18,4.25,1.5,7.125,9.375,69,93,5.15,4297,1042,1634,6.5473586222946247,10.267163137072377,1.5010472422620433,"AL-C",{"$f":"LEFT([League-Division],1)","v":"A"},{"$f":"RIGHT([League-Division],1)","v":"C"},{"$f":"IF([LG]=\"N\",10,20)","v":20},{"$f":"IF([DIV]=\"E\",1,IF([DIV]=\"C\",2,3))","v":2},{"$f":"[LGS]+[DIVS]","v":22}]
[2000,"Carrasco, Hector","BOS","Boston Red Sox",825000,8,1,6.666666666666667,-8,9.4499999999999993,3,9.4500000000000011,20.25,85,77,4.2300000000000004,4357,1121,1433,6.9467523525361488,8.8801927932063354,1.3302731237089742,"AL-E",{"$f":"LEFT([League-Division],1)","v":"A"},{"$f":"RIGHT([League-Division],1)","v":"E"},{"$f":"IF([LG]=\"N\",10,20)","v":20},{"$f":"IF([DIV]=\"E\",1,IF([DIV]=\"C\",2,3))","v":1},{"$f":"[LGS]+[DIVS]","v":21}]
[2001,"Carrasco, Hector","MIN","Minnesota Twins",400000,56,0,73.666666666666671,-7,4.6399999999999997,1.4524886877828054,8.5520361990950224,9.4072398190045234,85,77,4.51,4324,965,1494,6.0256706753006473,9.3288621646623504,1.3452821461609621,"AL-C",{"$f":"LEFT([League-Division],1)","v":"A"},{"$f":"RIGHT([League-Division],1)","v":"C"},{"$f":"IF([LG]=\"N\",10,20)","v":20},{"$f":"IF([DIV]=\"E\",1,IF([DIV]=\"C\",2,3))","v":2},{"$f":"[LGS]+[DIVS]","v":22}]
[1996,"Casian, Larry","CHN","Chicago Cubs",275000,35,0,24,1,1.88,1.0416666666666667,5.625,5.25,76,86,4.3600000000000003,4368,1027,1447,6.3482142857142865,8.9443681318681314,1.3688186813186813,"NL-C",{"$f":"LEFT([League-Division],1)","v":"N"},{"$f":"RIGHT([League-Division],1)","v":"C"},{"$f":"IF([LG]=\"N\",10,20)","v":10},{"$f":"IF([DIV]=\"E\",1,IF([DIV]=\"C\",2,3))","v":2},{"$f":"[LGS]+[DIVS]","v":12}]
[2002,"Cassidy, Scott","TOR","Toronto Blue Jays",200000,58,0,66,-4,5.73,1.2727272727272727,6.5454545454545459,7.0909090909090908,78,84,4.8,4315,991,1504,6.2009269988412514,9.4108922363847061,1.4558516801853998,"AL-E",{"$f":"LEFT([League-Division],1)","v":"A"},{"$f":"RIGHT([League-Division],1)","v":"E"},{"$f":"IF([LG]=\"N\",10,20)","v":20},{"$f":"IF([DIV]=\"E\",1,IF([DIV]=\"C\",2,3))","v":1},{"$f":"[LGS]+[DIVS]","v":21}]
[1997,"Castillo, Frank","CHN","Chicago Cubs",1740000,20,19,98,-46,5.42,1.6020408163265305,6.1530612244897958,10.377551020408164,68,94,4.4400000000000004,4287,1072,1451,6.7515745276417078,9.1385584324702585,1.4282715185444366,"NL-C",{"$f":"LEFT([League-Division],1)","v":"N"},{"$f":"RIGHT([League-Division],1)","v":"C"},{"$f":"IF([LG]=\"N\",10,20)","v":10},{"$f":"IF([DIV]=\"E\",1,IF([DIV]=\"C\",2,3))","v":2},{"$f":"[LGS]+[DIVS]","v":12}]
[1997,"Castillo, Tony","CHA","Chicago White Sox",1200000,64,0,62.333333333333336,-32,4.91,1.5561497326203209,6.0641711229946527,10.684491978609625,80,81,4.74,4266,961,1505,6.0822784810126578,9.5253164556962027,1.4627285513361463,"AL-C",{"$f":"LEFT([League-Division],1)","v":"A"},{"$f":"RIGHT([League-Division],1)","v":"C"},{"$f":"IF([LG]=\"N\",10,20)","v":20},{"$f":"IF([DIV]=\"E\",1,IF([DIV]=\"C\",2,3))","v":2},{"$f":"[LGS]+[DIVS]","v":22}]
[2006,"Castro, Fabio","TEX","Texas Rangers",327000,4,0,8.3333333333333339,-1,4.32,1.5599999999999998,5.3999999999999995,6.4799999999999995,80,82,4.5999999999999996,4294,972,1558,6.1117838844899861,9.7964601769911521,1.4350256171401956,"AL-W",{"$f":"LEFT([League-Division],1)","v":"A"},{"$f":"RIGHT([League-Division],1)","v":"W"},{"$f":"IF([LG]=\"N\",10,20)","v":20},{"$f":"IF([DIV]=\"E\",1,IF([DIV]=\"C\",2,3))","v":3},{"$f":"[LGS]+[DIVS]","v":23}]
[2006,"Chacin, Gustavo","TOR","Toronto Blue Jays",347500,17,17,87.333333333333329,-43,5.05,1.4656488549618321,4.8435114503816799,9.2748091603053435,87,75,4.37,4285,1076,1447,6.7799299883313893,9.1176196032672117,1.3659276546091015,"AL-E",{"$f":"LEFT([League-Division],1)","v":"A"},{"$f":"RIGHT([League-Division],1)","v":"E"},{"$f":"IF([LG]=\"N\",10,20)","v":20},{"$f":"IF([DIV]=\"E\",1,IF([DIV]=\"C\",2,3))","v":1},{"$f":"[LGS]+[DIVS]","v":21}]
[2003,"Chacon, Shawn","COL","Colorado Rockies",300000,23,23,137,-31,4.5999999999999996,1.3284671532846715,6.10948905109489,8.1459854014598534,74,88,5.2,4260,866,1629,5.4887323943661972,10.324647887323943,1.5359154929577465,"NL-W",{"$f":"LEFT([League-Division],1)","v":"N"},{"$f":"RIGHT([League-Division],1)","v":"W"},{"$f":"IF([LG]=\"N\",10,20)","v":10},{"$f":"IF([DIV]=\"E\",1,IF([DIV]=\"C\",2,3))","v":3},{"$f":"[LGS]+[DIVS]","v":13}]
[2008,"Chacon, Shawn","HOU","Houston Astros",2000000,15,15,85.666666666666671,-35,5.04,1.5058365758754864,5.5680933852140067,9.2451361867704271,86,75,4.3899999999999997,4276,1095,1453,6.9141721234798883,9.1746959775491117,1.3645930776426567,"NL-C",{"$f":"LEFT([League-Division],1)","v":"N"},{"$f":"RIGHT([League-Division],1)","v":"C"},{"$f":"IF([LG]=\"N\",10,20)","v":10},{"$f":"IF([DIV]=\"E\",1,IF([DIV]=\"C\",2,3))","v":2},{"$f":"[LGS]+[DIVS]","v":12}]
[1997,"Charlton, Norm","SEA","Seattle Mariners",2950000,71,0,69.333333333333329,-34,7.27,1.9615384615384617,7.1394230769230775,11.552884615384617,90,72,4.79,4341,1207,1500,7.5072563925362825,9.3296475466482374,1.4498963372494817,"AL-W",{"$f":"LEFT([League-Division],1)","v":"A"},{"$f":"RIGHT([League-Division],1)","v":"W"},{"$f":"IF([LG]=\"N\",10,20)","v":20},{"$f":"IF([DIV]=\"E\",1,IF([DIV]=\"C\",2,3))","v":3},{"$f":"[LGS]+[DIVS]","v":23}]
[1998,"Charlton, Norm","ATL","Atlanta Braves",170000,13,0,13,-1,1.38,1.1538461538461537,4.1538461538461542,4.8461538461538458,106,56,3.25,4315,1232,1291,7.7089223638470452,8.0780996523754354,1.2222479721900348,"NL-E",{"$f":"LEFT([League-Division],1)","v":"N"},{"$f":"RIGHT([League-Division],1)","v":"E"},{"$f":"IF([LG]=\"N\",10,20)","v":10},{"$f":"IF([DIV]=\"E\",1,IF([DIV]=\"C\",2,3))","v":1},{"$f":"[LGS]+[DIVS]","v":11}]
[1999,"Checo, Robinson","LAN","Los Angeles Dodgers",300000,9,2,15.666666666666666,-13,10.34,2.3617021276595747,6.3191489361702127,13.787234042553191,77,85,4.45,4357,1077,1438,6.6740876750057385,8.9111774156529719,1.3991278402570577,"NL-W",{"$f":"LEFT([League-Division],1)","v":"N"},{"$f":"RIGHT([League-Division],1)","v":"W"},{"$f":"IF([LG]=\"N\",10,20)","v":10},{"$f":"IF([DIV]=\"E\",1,IF([DIV]=\"C\",2,3))","v":3},{"$f":"[LGS]+[DIVS]","v":13}]
[2003,"Chen, Bruce","HOU","Houston Astros",550000,11,0,12,-6,6,1.8333333333333333,6,10.5,87,75,3.86,4350,1139,1350,7.0696551724137926,8.3793103448275854,1.3206896551724139,"NL-C",{"$f":"LEFT([League-Division],1)","v":"N"},{"$f":"RIGHT([League-Division],1)","v":"C"},{"$f":"IF([LG]=\"N\",10,20)","v":10},{"$f":"IF([DIV]=\"E\",1,IF([DIV]=\"C\",2,3))","v":2},{"$f":"[LGS]+[DIVS]","v":12}]
[2006,"Chen, Bruce","BAL","Baltimore Orioles",3800000,40,12,98.666666666666671,-67,6.93,1.7432432432432432,6.3851351351351351,12.496621621621621,70,92,5.35,4257,1016,1579,6.4439746300211418,10.014799154334039,1.5447498238195914,"AL-E",{"$f":"LEFT([League-Division],1)","v":"A"},{"$f":"RIGHT([League-Division],1)","v":"E"},{"$f":"IF([LG]=\"N\",10,20)","v":20},{"$f":"IF([DIV]=\"E\",1,IF([DIV]=\"C\",2,3))","v":1},{"$f":"[LGS]+[DIVS]","v":21}]
[2002,"Choate, Randy","NYA","New York Yankees",223350,18,0,22.333333333333332,-1,6.04,1.4776119402985075,6.8507462686567173,7.2537313432835822,103,58,3.87,4356,1135,1441,7.035123966942149,8.9318181818181817,1.2699724517906337,"AL-E",{"$f":"LEFT([League-Division],1)","v":"A"},{"$f":"RIGHT([League-Division],1)","v":"E"},{"$f":"IF([LG]=\"N\",10,20)","v":20},{"$f":"IF([DIV]=\"E\",1,IF([DIV]=\"C\",2,3))","v":1},{"$f":"[LGS]+[DIVS]","v":21}]
[2010,"Choate, Randy","TBA","Tampa Bay Rays",700000,85,0,44.666666666666664,-1,4.2300000000000004,1.2985074626865671,8.0597014925373145,8.2611940298507474,96,66,3.78,4361,1189,1347,7.3613850034395778,8.3396010089429016,1.2554459986241686,"AL-E",{"$f":"LEFT([League-Division],1)","v":"A"},{"$f":"RIGHT([League-Division],1)","v":"E"},{"$f":"IF([LG]=\"N\",10,20)","v":20},{"$f":"IF([DIV]=\"E\",1,IF([DIV]=\"C\",2,3))","v":1},{"$f":"[LGS]+[DIVS]","v":21}]
[1997,"Christiansen, Jason","PIT","Pittsburgh Pirates",195000,39,0,33.666666666666664,0,2.94,1.6039603960396041,9.8910891089108919,9.8910891089108919,79,83,4.28,4308,1080,1503,6.7688022284122562,9.4199164345403901,1.4366295264623956,"NL-C",{"$f":"LEFT([League-Division],1)","v":"N"},{"$f":"RIGHT([League-Division],1)","v":"C"},{"$f":"IF([LG]=\"N\",10,20)","v":10},{"$f":"IF([DIV]=\"E\",1,IF([DIV]=\"C\",2,3))","v":2},{"$f":"[LGS]+[DIVS]","v":12}]
[2004,"Christiansen, Jason","SFN","San Francisco Giants",2433333,60,0,36,-12,4.5,1.6666666666666667,5.5,8.5,91,71,4.29,4371,1020,1481,6.300617707618394,9.1482498284145493,1.3925875085792725,"NL-W",{"$f":"LEFT([League-Division],1)","v":"N"},{"$f":"RIGHT([League-Division],1)","v":"W"},{"$f":"IF([LG]=\"N\",10,20)","v":10},{"$f":"IF([DIV]=\"E\",1,IF([DIV]=\"C\",2,3))","v":3},{"$f":"[LGS]+[DIVS]","v":13}]
[1995,"Christopher, Mike","DET","Detroit Tigers",156000,36,0,61.333333333333336,-37,3.82,1.3858695652173914,4.9891304347826093,10.418478260869565,60,84,5.49,3825,729,1509,5.145882352941177,10.651764705882353,1.6039215686274511,"AL-E",{"$f":"LEFT([League-Division],1)","v":"A"},{"$f":"RIGHT([League-Division],1)","v":"E"},{"$f":"IF([LG]=\"N\",10,20)","v":20},{"$f":"IF([DIV]=\"E\",1,IF([DIV]=\"C\",2,3))","v":1},{"$f":"[LGS]+[DIVS]","v":21}]
[2007,"Cirillo, Jeff","ARI","Arizona Diamondbacks",1500000,1,0,1,1,0,2,9,0,90,72,4.13,4323,1088,1446,6.7952810548230396,9.0312283136710629,1.3823733518390007,"NL-W",{"$f":"LEFT([League-Division],1)","v":"N"},{"$f":"RIGHT([League-Division],1)","v":"W"},{"$f":"IF([LG]=\"N\",10,20)","v":10},{"$f":"IF([DIV]=\"E\",1,IF([DIV]=\"C\",2,3))","v":3},{"$f":"[LGS]+[DIVS]","v":13}]
[1995,"Clark, Terry","ATL","Atlanta Braves",135000,3,0,3.6666666666666665,-1,4.91,2.1818181818181821,4.9090909090909101,7.3636363636363642,90,54,3.44,3873,1087,1184,7.5778466305189776,8.25406661502711,1.254841208365608,"NL-E",{"$f":"LEFT([League-Division],1)","v":"N"},{"$f":"RIGHT([League-Division],1)","v":"E"},{"$f":"IF([LG]=\"N\",10,20)","v":10},{"$f":"IF([DIV]=\"E\",1,IF([DIV]=\"C\",2,3))","v":1},{"$f":"[LGS]+[DIVS]","v":11}]
[1996,"Clark, Terry","KCA","Kansas City Royals",180000,12,0,17.333333333333332,-16,7.79,2.0192307692307692,6.2307692307692317,14.538461538461538,75,86,4.55,4350,926,1563,5.7475862068965515,9.7013793103448283,1.3951724137931034,"AL-C",{"$f":"LEFT([League-Division],1)","v":"A"},{"$f":"RIGHT([League-Division],1)","v":"C"},{"$f":"IF([LG]=\"N\",10,20)","v":20},{"$f":"IF([DIV]=\"E\",1,IF([DIV]=\"C\",2,3))","v":2},{"$f":"[LGS]+[DIVS]","v":22}]
[2002,"Clement, Matt","CHN","Chicago Cubs",2500000,32,32,205,53,3.6,1.2048780487804878,9.4390243902439028,7.1121951219512196,67,95,4.29,4324,1333,1373,8.3235430157261803,8.5733117483811299,1.3730342275670675,"NL-C",{"$f":"LEFT([League-Division],1)","v":"N"},{"$f":"RIGHT([League-Division],1)","v":"C"},{"$f":"IF([LG]=\"N\",10,20)","v":10},{"$f":"IF([DIV]=\"E\",1,IF([DIV]=\"C\",2,3))","v":2},{"$f":"[LGS]+[DIVS]","v":12}]
[2005,"Clement, Matt","BOS","Boston Red Sox",6500000,32,32,191,-46,4.57,1.3612565445026179,6.8795811518324612,9.0471204188481664,95,67,4.74,4287,959,1550,6.0398880335899232,9.7620713785864233,1.3925822253324003,"AL-E",{"$f":"LEFT([League-Division],1)","v":"A"},{"$f":"RIGHT([League-Division],1)","v":"E"},{"$f":"IF([LG]=\"N\",10,20)","v":20},{"$f":"IF([DIV]=\"E\",1,IF([DIV]=\"C\",2,3))","v":1},{"$f":"[LGS]+[DIVS]","v":21}]
[2000,"Clemens, Roger","NYA","New York Yankees",6350000,32,32,204.33333333333334,4,3.7,1.3115823817292005,8.2805872756933105,8.1044045676998362,87,74,4.76,4272,1040,1458,6.5730337078651688,9.2148876404494384,1.4290730337078652,"AL-E",{"$f":"LEFT([League-Division],1)","v":"A"},{"$f":"RIGHT([League-Division],1)","v":"E"},{"$f":"IF([LG]=\"N\",10,20)","v":20},{"$f":"IF([DIV]=\"E\",1,IF([DIV]=\"C\",2,3))","v":1},{"$f":"[LGS]+[DIVS]","v":21}]
[1997,"Clontz, Brad","ATL","Atlanta Braves",245000,51,0,48,-10,3.75,1.4583333333333333,7.875,9.75,101,61,3.18,4395,1196,1319,7.3474402730375425,8.1030716723549485,1.2075085324232082,"NL-E",{"$f":"LEFT([League-Division],1)","v":"N"},{"$f":"RIGHT([League-Division],1)","v":"E"},{"$f":"IF([LG]=\"N\",10,20)","v":10},{"$f":"IF([DIV]=\"E\",1,IF([DIV]=\"C\",2,3))","v":1},{"$f":"[LGS]+[DIVS]","v":11}]
[1999,"Cloude, Ken","SEA","Seattle Mariners",275000,31,6,72.333333333333329,-71,7.96,2.1013824884792629,4.3548387096774199,13.1889400921659,79,83,5.24,4300,980,1613,6.1534883720930242,10.12813953488372,1.6025581395348838,"AL-W",{"$f":"LEFT([League-Division],1)","v":"A"},{"$f":"RIGHT([League-Division],1)","v":"W"},{"$f":"IF([LG]=\"N\",10,20)","v":20},{"$f":"IF([DIV]=\"E\",1,IF([DIV]=\"C\",2,3))","v":3},{"$f":"[LGS]+[DIVS]","v":23}]
[2001,"Cogan, Tony","KCA","Kansas City Royals",200000,39,0,24.666666666666668,-15,5.84,1.8243243243243243,6.2027027027027026,11.675675675675674,65,97,4.87,4320,911,1537,5.6937499999999996,9.6062500000000011,1.4673611111111111,"AL-C",{"$f":"LEFT([League-Division],1)","v":"A"},{"$f":"RIGHT([League-Division],1)","v":"C"},{"$f":"IF([LG]=\"N\",10,20)","v":20},{"$f":"IF([DIV]=\"E\",1,IF([DIV]=\"C\",2,3))","v":2},{"$f":"[LGS]+[DIVS]","v":22}]
[2008,"Colome, Jesus","WAS","Washington Nationals",1250000,61,0,71,-6,4.3099999999999996,1.408450704225352,6.971830985915493,7.732394366197183,59,102,4.66,4302,1063,1496,6.6715481171548117,9.3891213389121351,1.4532775453277544,"NL-E",{"$f":"LEFT([League-Division],1)","v":"N"},{"$f":"RIGHT([League-Division],1)","v":"E"},{"$f":"IF([LG]=\"N\",10,20)","v":10},{"$f":"IF([DIV]=\"E\",1,IF([DIV]=\"C\",2,3))","v":1},{"$f":"[LGS]+[DIVS]","v":11}]
[1997,"Colon, Bartolo","CLE","Cleveland Indians",150000,19,17,94,-41,5.65,1.6170212765957446,6.3191489361702127,10.24468085106383,86,75,4.7300000000000004,4275,1036,1528,6.5431578947368418,9.6505263157894738,1.4757894736842105,"AL-C",{"$f":"LEFT([League-Division],1)","v":"A"},{"$f":"RIGHT([League-Division],1)","v":"C"},{"$f":"IF([LG]=\"N\",10,20)","v":20},{"$f":"IF([DIV]=\"E\",1,IF([DIV]=\"C\",2,3))","v":2},{"$f":"[LGS]+[DIVS]","v":22}]
[2005,"Colon, Bartolo","LAA","Los Angeles Angels of Anaheim",10000000,33,33,222.66666666666666,-58,3.48,1.158682634730539,6.3458083832335337,8.6901197604790426,95,67,3.68,4393,1126,1419,6.9205554290917375,8.7213749146369217,1.2715684042795357,"AL-W",{"$f":"LEFT([League-Division],1)","v":"A"},{"$f":"RIGHT([League-Division],1)","v":"W"},{"$f":"IF([LG]=\"N\",10,20)","v":20},{"$f":"IF([DIV]=\"E\",1,IF([DIV]=\"C\",2,3))","v":3},{"$f":"[LGS]+[DIVS]","v":23}]
[2009,"Colon, Bartolo","CHA","Chicago White Sox",1000000,12,12,62.333333333333336,-31,4.1900000000000004,1.4438502673796791,5.4866310160427805,9.9625668449197864,79,83,4.16,4319,1119,1438,6.9953692984487148,8.9895809215096083,1.3510071775874044,"AL-C",{"$f":"LEFT([League-Division],1)","v":"A"},{"$f":"RIGHT([League-Division],1)","v":"C"},{"$f":"IF([LG]=\"N\",10,20)","v":20},{"$f":"IF([DIV]=\"E\",1,IF([DIV]=\"C\",2,3))","v":2},{"$f":"[LGS]+[DIVS]","v":22}]
[2007,"Condrey, Clay","PHI","Philadelphia Phillies",385000,39,0,50,-34,5.04,1.54,4.8600000000000003,10.98,89,73,4.7300000000000004,4375,1050,1555,6.48,9.5965714285714281,1.4489142857142858,"NL-E",{"$f":"LEFT([League-Division],1)","v":"N"},{"$f":"RIGHT([League-Division],1)","v":"E"},{"$f":"IF([LG]=\"N\",10,20)","v":10},{"$f":"IF([DIV]=\"E\",1,IF([DIV]=\"C\",2,3))","v":1},{"$f":"[LGS]+[DIVS]","v":11}]
[2000,"Cone, David","NYA","New York Yankees",12000000,30,29,155,-72,6.91,1.767741935483871,6.967741935483871,11.148387096774194,87,74,4.76,4272,1040,1458,6.5730337078651688,9.2148876404494384,1.4290730337078652,"AL-E",{"$f":"LEFT([League-Division],1)","v":"A"},{"$f":"RIGHT([League-Division],1)","v":"E"},{"$f":"IF([LG]=\"N\",10,20)","v":20},{"$f":"IF([DIV]=\"E\",1,IF([DIV]=\"C\",2,3))","v":1},{"$f":"[LGS]+[DIVS]","v":21}]
[2004,"Contreras, Jose","CHA","Chicago White Sox",8500000,13,13,74.666666666666671,-5,5.3,1.5401785714285714,8.1964285714285712,8.7991071428571423,83,79,4.91,4297,1013,1505,6.3651384686990928,9.456597626250872,1.4186641843146381,"AL-C",{"$f":"LEFT([League-Division],1)","v":"A"},{"$f":"RIGHT([League-Division],1)","v":"C"},{"$f":"IF([LG]=\"N\",10,20)","v":20},{"$f":"IF([DIV]=\"E\",1,IF([DIV]=\"C\",2,3))","v":2},{"$f":"[LGS]+[DIVS]","v":22}]
[2009,"Contreras, Jose","COL","Colorado Rockies",10000000,7,2,17,-3,1.59,1.6470588235294117,9,10.588235294117647,92,70,4.24,4315,1154,1427,7.2208574739281586,8.9290845886442654,1.3592120509849364,"NL-W",{"$f":"LEFT([League-Division],1)","v":"N"},{"$f":"RIGHT([League-Division],1)","v":"W"},{"$f":"IF([LG]=\"N\",10,20)","v":10},{"$f":"IF([DIV]=\"E\",1,IF([DIV]=\"C\",2,3))","v":3},{"$f":"[LGS]+[DIVS]","v":13}]
[2009,"Cook, Aaron","COL","Colorado Rockies",9375000,27,27,158,-97,4.16,1.4050632911392404,4.4430379746835449,9.9683544303797458,92,70,4.24,4315,1154,1427,7.2208574739281586,8.9290845886442654,1.3592120509849364,"NL-W",{"$f":"LEFT([League-Division],1)","v":"N"},{"$f":"RIGHT([League-Division],1)","v":"W"},{"$f":"IF([LG]=\"N\",10,20)","v":10},{"$f":"IF([DIV]=\"E\",1,IF([DIV]=\"C\",2,3))","v":3},{"$f":"[LGS]+[DIVS]","v":13}]
[2010,"Cook, Aaron","COL","Colorado Rockies",9625000,23,23,127.66666666666667,-85,5.08,1.5587467362924281,4.3707571801566578,10.362924281984332,83,79,4.1399999999999997,4326,1234,1405,7.7018030513176141,8.7690707350901533,1.3384188626907074,"NL-W",{"$f":"LEFT([League-Division],1)","v":"N"},{"$f":"RIGHT([League-Division],1)","v":"W"},{"$f":"IF([LG]=\"N\",10,20)","v":10},{"$f":"IF([DIV]=\"E\",1,IF([DIV]=\"C\",2,3))","v":3},{"$f":"[LGS]+[DIVS]","v":13}]
[2001,"Cook, Dennis","NYN","New York Mets",2400000,43,0,36,6,4.25,1.0555555555555556,8.5,7,82,80,4.07,4337,1191,1418,7.4145722849896236,8.8277611252017518,1.2838367535162554,"NL-E",{"$f":"LEFT([League-Division],1)","v":"N"},{"$f":"RIGHT([League-Division],1)","v":"E"},{"$f":"IF([LG]=\"N\",10,20)","v":10},{"$f":"IF([DIV]=\"E\",1,IF([DIV]=\"C\",2,3))","v":1},{"$f":"[LGS]+[DIVS]","v":11}]
[1997,"Cooke, Steve","PIT","Pittsburgh Pirates",300000,32,32,167.33333333333334,-75,4.3,1.5597609561752988,5.8625498007968124,9.8964143426294804,79,83,4.28,4308,1080,1503,6.7688022284122562,9.4199164345403901,1.4366295264623956,"NL-C",{"$f":"LEFT([League-Division],1)","v":"N"},{"$f":"RIGHT([League-Division],1)","v":"C"},{"$f":"IF([LG]=\"N\",10,20)","v":10},{"$f":"IF([DIV]=\"E\",1,IF([DIV]=\"C\",2,3))","v":2},{"$f":"[LGS]+[DIVS]","v":12}]
[2005,"Cordero, Chad","WAS","Washington Nationals",346500,74,0,74.333333333333329,6,1.82,0.96860986547085204,7.3856502242152473,6.6591928251121075,81,81,3.87,4374,997,1456,6.1543209876543212,8.9876543209876552,1.368312757201646,"NL-E",{"$f":"LEFT([League-Division],1)","v":"N"},{"$f":"RIGHT([League-Division],1)","v":"E"},{"$f":"IF([LG]=\"N\",10,20)","v":10},{"$f":"IF([DIV]=\"E\",1,IF([DIV]=\"C\",2,3))","v":1},{"$f":"[LGS]+[DIVS]","v":11}]
[2005,"Cordero, Francisco","TEX","Texas Rangers",3875000,69,0,69,18,3.39,1.318840579710145,10.304347826086957,7.9565217391304355,79,83,4.96,4320,932,1589,5.8250000000000002,9.9312500000000004,1.4659722222222222,"AL-W",{"$f":"LEFT([League-Division],1)","v":"A"},{"$f":"RIGHT([League-Division],1)","v":"W"},{"$f":"IF([LG]=\"N\",10,20)","v":20},{"$f":"IF([DIV]=\"E\",1,IF([DIV]=\"C\",2,3))","v":3},{"$f":"[LGS]+[DIVS]","v":23}]
[1996,"Cordova, Francisco","PIT","Pittsburgh Pirates",109000,59,6,99,-8,4.09,1.2424242424242424,8.6363636363636367,9.3636363636363633,73,89,4.6399999999999997,4360,1044,1602,6.4651376146789001,9.9206422018348626,1.4318807339449542,"NL-C",{"$f":"LEFT([League-Division],1)","v":"N"},{"$f":"RIGHT([League-Division],1)","v":"C"},{"$f":"IF([LG]=\"N\",10,20)","v":10},{"$f":"IF([DIV]=\"E\",1,IF([DIV]=\"C\",2,3))","v":2},{"$f":"[LGS]+[DIVS]","v":12}]
[1999,"Cordova, Francisco","PIT","Pittsburgh Pirates",1250000,27,27,160.66666666666666,-68,4.43,1.4004149377593362,5.4896265560165975,9.2987551867219924,78,83,4.33,4297,1083,1444,6.8049802187572723,9.0733069583430304,1.4500814521759369,"NL-C",{"$f":"LEFT([League-Division],1)","v":"N"},{"$f":"RIGHT([League-Division],1)","v":"C"},{"$f":"IF([LG]=\"N\",10,20)","v":10},{"$f":"IF([DIV]=\"E\",1,IF([DIV]=\"C\",2,3))","v":2},{"$f":"[LGS]+[DIVS]","v":12}]
[1996,"Cormier, Rheal","MON","Montreal Expos",950000,33,27,159.66666666666666,-65,4.17,1.2901878914405012,5.6367432150313155,9.3006263048016695,88,74,3.78,4324,1206,1353,7.5305272895467166,8.4484273820536551,1.2731267345050878,"NL-E",{"$f":"LEFT([League-Division],1)","v":"N"},{"$f":"RIGHT([League-Division],1)","v":"E"},{"$f":"IF([LG]=\"N\",10,20)","v":10},{"$f":"IF([DIV]=\"E\",1,IF([DIV]=\"C\",2,3))","v":1},{"$f":"[LGS]+[DIVS]","v":11}]
[1997,"Cormier, Rheal","MON","Montreal Expos",1050000,1,1,1.3333333333333333,-4,33.75,3.75,0,27,78,84,4.1399999999999997,4341,1138,1365,7.0780926053904638,8.4899792674498968,1.3282653766413268,"NL-E",{"$f":"LEFT([League-Division],1)","v":"N"},{"$f":"RIGHT([League-Division],1)","v":"E"},{"$f":"IF([LG]=\"N\",10,20)","v":10},{"$f":"IF([DIV]=\"E\",1,IF([DIV]=\"C\",2,3))","v":1},{"$f":"[LGS]+[DIVS]","v":11}]
[2006,"Cormier, Rheal","CIN","Cincinnati Reds",2500000,21,0,14,-15,4.5,1.7857142857142858,3.8571428571428568,13.5,80,82,4.51,4337,1053,1576,6.5554530781646294,9.8113903620013829,1.4111136730458842,"NL-C",{"$f":"LEFT([League-Division],1)","v":"N"},{"$f":"RIGHT([League-Division],1)","v":"C"},{"$f":"IF([LG]=\"N\",10,20)","v":10},{"$f":"IF([DIV]=\"E\",1,IF([DIV]=\"C\",2,3))","v":2},{"$f":"[LGS]+[DIVS]","v":12}]
[2003,"Cornejo, Nate","DET","Detroit Tigers",303000,32,32,194.66666666666666,-190,4.67,1.5102739726027399,2.1267123287671232,10.910958904109588,43,119,5.3,4316,764,1616,4.7794253938832254,10.109360518999074,1.5104263206672845,"AL-C",{"$f":"LEFT([League-Division],1)","v":"A"},{"$f":"RIGHT([League-Division],1)","v":"C"},{"$f":"IF([LG]=\"N\",10,20)","v":20},{"$f":"IF([DIV]=\"E\",1,IF([DIV]=\"C\",2,3))","v":2},{"$f":"[LGS]+[DIVS]","v":22}]
[2010,"Corpas, Manuel","COL","Colorado Rockies",2750000,56,0,62.333333333333336,-19,4.62,1.4117647058823528,6.786096256684492,9.5294117647058822,83,79,4.1399999999999997,4326,1234,1405,7.7018030513176141,8.7690707350901533,1.3384188626907074,"NL-W",{"$f":"LEFT([League-Division],1)","v":"N"},{"$f":"RIGHT([League-Division],1)","v":"W"},{"$f":"IF([LG]=\"N\",10,20)","v":10},{"$f":"IF([DIV]=\"E\",1,IF([DIV]=\"C\",2,3))","v":3},{"$f":"[LGS]+[DIVS]","v":13}]
[1999,"Corsi, Jim","BAL","Baltimore Orioles",200000,13,0,13.333333333333334,-7,2.7,1.2,5.3999999999999995,10.125,78,84,4.7699999999999996,4305,982,1468,6.1588850174216025,9.2069686411149831,1.4738675958188154,"AL-E",{"$f":"LEFT([League-Division],1)","v":"A"},{"$f":"RIGHT([League-Division],1)","v":"E"},{"$f":"IF([LG]=\"N\",10,20)","v":20},{"$f":"IF([DIV]=\"E\",1,IF([DIV]=\"C\",2,3))","v":1},{"$f":"[LGS]+[DIVS]","v":21}]
[2006,"Cotts, Neal","CHA","Chicago White Sox",400000,70,0,54,-21,5.17,1.6296296296296295,7.1666666666666661,10.666666666666666,90,72,4.6100000000000003,4347,1012,1534,6.2857142857142856,9.5279503105590067,1.357487922705314,"AL-C",{"$f":"LEFT([League-Division],1)","v":"A"},{"$f":"RIGHT([League-Division],1)","v":"C"},{"$f":"IF([LG]=\"N\",10,20)","v":20},{"$f":"IF([DIV]=\"E\",1,IF([DIV]=\"C\",2,3))","v":2},{"$f":"[LGS]+[DIVS]","v":22}]
[2007,"Coutlangus, Jon","CIN","Cincinnati Reds",380000,64,0,41,0,4.3899999999999997,1.5853658536585367,8.3414634146341466,8.3414634146341466,72,90,4.9400000000000004,4349,1068,1605,6.6304897677627039,9.9643596229018154,1.4396412968498504,"NL-C",{"$f":"LEFT([League-Division],1)","v":"N"},{"$f":"RIGHT([League-Division],1)","v":"C"},{"$f":"IF([LG]=\"N\",10,20)","v":10},{"$f":"IF([DIV]=\"E\",1,IF([DIV]=\"C\",2,3))","v":2},{"$f":"[LGS]+[DIVS]","v":12}]
[2005,"Crain, Jesse","MIN","Minnesota Twins",321000,75,0,79.666666666666671,-36,2.71,1.1297071129707112,2.8242677824267783,6.8912133891213383,83,79,3.71,4393,965,1458,5.9310266332802186,8.9610744366036883,1.2333257455042113,"AL-C",{"$f":"LEFT([League-Division],1)","v":"A"},{"$f":"RIGHT([League-Division],1)","v":"C"},{"$f":"IF([LG]=\"N\",10,20)","v":20},{"$f":"IF([DIV]=\"E\",1,IF([DIV]=\"C\",2,3))","v":2},{"$f":"[LGS]+[DIVS]","v":22}]
[2006,"Crain, Jesse","MIN","Minnesota Twins",361000,68,0,76.666666666666671,-19,3.52,1.2652173913043478,7.0434782608695645,9.2739130434782613,96,66,3.95,4318,1164,1490,7.2783696155627613,9.3168133395090322,1.2825382121352478,"AL-C",{"$f":"LEFT([League-Division],1)","v":"A"},{"$f":"RIGHT([League-Division],1)","v":"C"},{"$f":"IF([LG]=\"N\",10,20)","v":20},{"$f":"IF([DIV]=\"E\",1,IF([DIV]=\"C\",2,3))","v":2},{"$f":"[LGS]+[DIVS]","v":22}]
[2002,"Creek, Doug","TBA","Tampa Bay Devil Rays",685000,29,0,37.333333333333336,-2,6.27,1.607142857142857,8.9196428571428559,9.4017857142857135,55,106,5.29,4321,925,1567,5.7799120573941218,9.791483452904421,1.5183985188613747,"AL-E",{"$f":"LEFT([League-Division],1)","v":"A"},{"$f":"RIGHT([League-Division],1)","v":"E"},{"$f":"IF([LG]=\"N\",10,20)","v":20},{"$f":"IF([DIV]=\"E\",1,IF([DIV]=\"C\",2,3))","v":1},{"$f":"[LGS]+[DIVS]","v":21}]
[2003,"Cruz, Juan","CHN","Chicago Cubs",340000,25,6,61,-1,6.05,1.540983606557377,9.5901639344262293,9.7377049180327884,88,74,3.83,4369,1404,1304,8.6765850308995187,8.0585946440833141,1.3190661478599222,"NL-C",{"$f":"LEFT([League-Division],1)","v":"N"},{"$f":"RIGHT([League-Division],1)","v":"C"},{"$f":"IF([LG]=\"N\",10,20)","v":10},{"$f":"IF([DIV]=\"E\",1,IF([DIV]=\"C\",2,3))","v":2},{"$f":"[LGS]+[DIVS]","v":12}]
[2006,"Cruz, Juan","ARI","Arizona Diamondbacks",575000,31,15,94.666666666666671,8,4.18,1.3415492957746478,8.3661971830985919,7.605633802816901,76,86,4.4800000000000004,4379,1115,1503,6.8748572733500799,9.2671842886503768,1.3968942680977392,"NL-W",{"$f":"LEFT([League-Division],1)","v":"N"},{"$f":"RIGHT([League-Division],1)","v":"W"},{"$f":"IF([LG]=\"N\",10,20)","v":10},{"$f":"IF([DIV]=\"E\",1,IF([DIV]=\"C\",2,3))","v":3},{"$f":"[LGS]+[DIVS]","v":13}]
[2008,"Cueto, Johnny","CIN","Cincinnati Reds",390000,31,31,174,-20,4.8099999999999996,1.4137931034482758,8.1724137931034484,9.206896551724137,74,88,4.55,4327,1227,1542,7.6563438872197835,9.6219089438409995,1.4552807950080888,"NL-C",{"$f":"LEFT([League-Division],1)","v":"N"},{"$f":"RIGHT([League-Division],1)","v":"C"},{"$f":"IF([LG]=\"N\",10,20)","v":10},{"$f":"IF([DIV]=\"E\",1,IF([DIV]=\"C\",2,3))","v":2},{"$f":"[LGS]+[DIVS]","v":12}]
[1997,"Cummings, John","DET","Detroit Tigers",215000,19,0,24.666666666666668,-24,5.47,1.8648648648648647,2.9189189189189184,11.675675675675674,79,83,4.5599999999999996,4335,982,1476,6.1162629757785467,9.1930795847750879,1.4034602076124567,"AL-E",{"$f":"LEFT([League-Division],1)","v":"A"},{"$f":"RIGHT([League-Division],1)","v":"E"},{"$f":"IF([LG]=\"N\",10,20)","v":20},{"$f":"IF([DIV]=\"E\",1,IF([DIV]=\"C\",2,3))","v":1},{"$f":"[LGS]+[DIVS]","v":21}]
[2001,"Cunnane, Will","MIL","Milwaukee Brewers",255000,31,1,51.666666666666664,-29,5.4,1.703225806451613,6.4451612903225808,11.496774193548388,68,94,4.6399999999999997,4309,1057,1452,6.6231144116964495,9.0981666279879327,1.4752842886980739,"NL-C",{"$f":"LEFT([League-Division],1)","v":"N"},{"$f":"RIGHT([League-Division],1)","v":"C"},{"$f":"IF([LG]=\"N\",10,20)","v":10},{"$f":"IF([DIV]=\"E\",1,IF([DIV]=\"C\",2,3))","v":2},{"$f":"[LGS]+[DIVS]","v":12}]
[2000,"Daal, Omar","PHI","Philadelphia Phillies",5625000,12,12,71,-30,4.6900000000000004,1.5633802816901408,6.4647887323943669,10.267605633802818,65,97,4.7699999999999996,4315,1123,1458,7.0268829663962915,9.1230590961761315,1.4586326767091542,"NL-E",{"$f":"LEFT([League-Division],1)","v":"N"},{"$f":"RIGHT([League-Division],1)","v":"E"},{"$f":"IF([LG]=\"N\",10,20)","v":10},{"$f":"IF([DIV]=\"E\",1,IF([DIV]=\"C\",2,3))","v":1},{"$f":"[LGS]+[DIVS]","v":11}]
[2001,"Daal, Omar","PHI","Philadelphia Phillies",2750000,32,32,185.66666666666666,-92,4.46,1.3734290843806105,5.1867145421903054,9.646319569120287,86,76,4.1500000000000004,4336,1086,1417,6.7624538745387452,8.8235701107011071,1.3450184501845019,"NL-E",{"$f":"LEFT([League-Division],1)","v":"N"},{"$f":"RIGHT([League-Division],1)","v":"E"},{"$f":"IF([LG]=\"N\",10,20)","v":10},{"$f":"IF([DIV]=\"E\",1,IF([DIV]=\"C\",2,3))","v":1},{"$f":"[LGS]+[DIVS]","v":11}]
[2002,"D'Amico, Jeff","NYN","New York Mets",1840000,29,22,145.66666666666666,-51,4.9400000000000004,1.2974828375286043,6.2402745995423352,9.391304347826086,75,86,3.89,4328,1107,1408,6.9059611829944538,8.7837338262476887,1.3523567467652495,"NL-E",{"$f":"LEFT([League-Division],1)","v":"N"},{"$f":"RIGHT([League-Division],1)","v":"E"},{"$f":"IF([LG]=\"N\",10,20)","v":10},{"$f":"IF([DIV]=\"E\",1,IF([DIV]=\"C\",2,3))","v":1},{"$f":"[LGS]+[DIVS]","v":11}]
[1998,"Darensbourg, Vic","FLO","Florida Marlins",170000,59,0,71,22,3.68,1.1549295774647887,9.3802816901408441,6.591549295774648,54,108,5.2,4348,1016,1617,6.3091076356945726,10.041168353265869,1.609015639374425,"NL-E",{"$f":"LEFT([League-Division],1)","v":"N"},{"$f":"RIGHT([League-Division],1)","v":"E"},{"$f":"IF([LG]=\"N\",10,20)","v":10},{"$f":"IF([DIV]=\"E\",1,IF([DIV]=\"C\",2,3))","v":1},{"$f":"[LGS]+[DIVS]","v":11}]
[2001,"Darensbourg, Vic","FLO","Florida Marlins",625000,58,0,48.666666666666664,-19,4.25,1.273972602739726,6.1027397260273979,9.6164383561643838,76,86,4.32,4314,1119,1397,7.0034770514603615,8.7433936022253125,1.4005563282336579,"NL-E",{"$f":"LEFT([League-Division],1)","v":"N"},{"$f":"RIGHT([League-Division],1)","v":"E"},{"$f":"IF([LG]=\"N\",10,20)","v":10},{"$f":"IF([DIV]=\"E\",1,IF([DIV]=\"C\",2,3))","v":1},{"$f":"[LGS]+[DIVS]","v":11}]
[1997,"Darwin, Danny","CHA","Chicago White Sox",475000,21,17,113.33333333333333,-68,4.13,1.4205882352941177,4.9235294117647062,10.323529411764707,80,81,4.74,4266,961,1505,6.0822784810126578,9.5253164556962027,1.4627285513361463,"AL-C",{"$f":"LEFT([League-Division],1)","v":"A"},{"$f":"RIGHT([League-Division],1)","v":"C"},{"$f":"IF([LG]=\"N\",10,20)","v":20},{"$f":"IF([DIV]=\"E\",1,IF([DIV]=\"C\",2,3))","v":2},{"$f":"[LGS]+[DIVS]","v":22}]
[2001,"Davey, Tom","SDN","San Diego Padres",230000,39,0,38,-4,4.5,1.5263157894736843,8.7631578947368425,9.7105263157894743,79,83,4.5199999999999996,4322,1088,1519,6.7968533086534002,9.4893567792688565,1.3847755668671911,"NL-W",{"$f":"LEFT([League-Division],1)","v":"N"},{"$f":"RIGHT([League-Division],1)","v":"W"},{"$f":"IF([LG]=\"N\",10,20)","v":10},{"$f":"IF([DIV]=\"E\",1,IF([DIV]=\"C\",2,3))","v":3},{"$f":"[LGS]+[DIVS]","v":13}]
[2009,"Davies, Kyle","KCA","Kansas City Royals",1300000,22,22,123,-36,5.27,1.5284552845528456,6.2926829268292686,8.926829268292682,65,97,4.83,4278,1153,1486,7.2769985974754556,9.3786816269284703,1.4628330995792427,"AL-C",{"$f":"LEFT([League-Division],1)","v":"A"},{"$f":"RIGHT([League-Division],1)","v":"C"},{"$f":"IF([LG]=\"N\",10,20)","v":20},{"$f":"IF([DIV]=\"E\",1,IF([DIV]=\"C\",2,3))","v":2},{"$f":"[LGS]+[DIVS]","v":22}]
[2009,"Davis, Doug","ARI","Arizona Diamondbacks",8750000,34,34,203.33333333333334,-57,4.12,1.5049180327868852,6.4622950819672127,8.9852459016393436,70,92,4.4400000000000004,4343,1158,1470,7.1991710798986874,9.1388441169698353,1.3780796684319594,"NL-W",{"$f":"LEFT([League-Division],1)","v":"N"},{"$f":"RIGHT([League-Division],1)","v":"W"},{"$f":"IF([LG]=\"N\",10,20)","v":10},{"$f":"IF([DIV]=\"E\",1,IF([DIV]=\"C\",2,3))","v":3},{"$f":"[LGS]+[DIVS]","v":13}]
[2010,"Davis, Doug","MIL","Milwaukee Brewers",4250000,8,8,38.333333333333336,-21,7.51,1.9826086956521738,7.982608695652174,12.913043478260869,77,85,4.59,4317,1258,1487,7.8679638637943015,9.3002084781097984,1.4378040305767894,"NL-C",{"$f":"LEFT([League-Division],1)","v":"N"},{"$f":"RIGHT([League-Division],1)","v":"C"},{"$f":"IF([LG]=\"N\",10,20)","v":10},{"$f":"IF([DIV]=\"E\",1,IF([DIV]=\"C\",2,3))","v":2},{"$f":"[LGS]+[DIVS]","v":12}]
[1997,"Davis, Tim","SEA","Seattle Mariners",217500,2,0,6.666666666666667,4,6.75,1.5,13.5,8.1,90,72,4.79,4341,1207,1500,7.5072563925362825,9.3296475466482374,1.4498963372494817,"AL-W",{"$f":"LEFT([League-Division],1)","v":"A"},{"$f":"RIGHT([League-Division],1)","v":"W"},{"$f":"IF([LG]=\"N\",10,20)","v":20},{"$f":"IF([DIV]=\"E\",1,IF([DIV]=\"C\",2,3))","v":3},{"$f":"[LGS]+[DIVS]","v":23}]
[2006,"Day, Zach","WAS","Washington Nationals",600000,5,5,26.666666666666668,-16,4.7300000000000004,1.5,4.3875000000000002,9.7874999999999996,71,91,5.03,4309,960,1535,6.0153167788349968,9.6182408911580417,1.4752842886980739,"NL-E",{"$f":"LEFT([League-Division],1)","v":"N"},{"$f":"RIGHT([League-Division],1)","v":"E"},{"$f":"IF([LG]=\"N\",10,20)","v":10},{"$f":"IF([DIV]=\"E\",1,IF([DIV]=\"C\",2,3))","v":1},{"$f":"[LGS]+[DIVS]","v":11}]
[1998,"DeHart, Rick","MON","Montreal Expos",172500,26,0,28,-20,4.82,1.6785714285714286,4.5,10.928571428571427,65,97,4.3899999999999997,4281,1017,1448,6.4141555711282408,9.1324456902592868,1.3882270497547302,"NL-E",{"$f":"LEFT([League-Division],1)","v":"N"},{"$f":"RIGHT([League-Division],1)","v":"E"},{"$f":"IF([LG]=\"N\",10,20)","v":10},{"$f":"IF([DIV]=\"E\",1,IF([DIV]=\"C\",2,3))","v":1},{"$f":"[LGS]+[DIVS]","v":11}]
[2004,"DeJean, Mike","NYN","New York Mets",1500000,17,0,21.333333333333332,3,1.69,1.21875,10.125,8.859375,71,91,4.09,4347,977,1452,6.0683229813664594,9.0186335403726705,1.4106280193236715,"NL-E",{"$f":"LEFT([League-Division],1)","v":"N"},{"$f":"RIGHT([League-Division],1)","v":"E"},{"$f":"IF([LG]=\"N\",10,20)","v":10},{"$f":"IF([DIV]=\"E\",1,IF([DIV]=\"C\",2,3))","v":1},{"$f":"[LGS]+[DIVS]","v":11}]
[2006,"de la Rosa, Jorge","MIL","Milwaukee Brewers",337000,18,3,30.333333333333332,-1,8.6,1.7802197802197803,9.1978021978021989,9.4945054945054945,75,87,4.82,4277,1145,1454,7.2281973345803134,9.1788636895019859,1.3804068272153378,"NL-C",{"$f":"LEFT([League-Division],1)","v":"N"},{"$f":"RIGHT([League-Division],1)","v":"C"},{"$f":"IF([LG]=\"N\",10,20)","v":10},{"$f":"IF([DIV]=\"E\",1,IF([DIV]=\"C\",2,3))","v":2},{"$f":"[LGS]+[DIVS]","v":12}]
[2009,"de la Rosa, Jorge","COL","Colorado Rockies",2000000,33,32,185,21,4.38,1.3783783783783783,9.3891891891891888,8.3675675675675674,92,70,4.24,4315,1154,1427,7.2208574739281586,8.9290845886442654,1.3592120509849364,"NL-W",{"$f":"LEFT([League-Division],1)","v":"N"},{"$f":"RIGHT([League-Division],1)","v":"W"},{"$f":"IF([LG]=\"N\",10,20)","v":10},{"$f":"IF([DIV]=\"E\",1,IF([DIV]=\"C\",2,3))","v":3},{"$f":"[LGS]+[DIVS]","v":13}]
[1995,"DeLeon, Jose","MON","Montreal Expos",705000,7,0,8.3333333333333339,5,7.56,1.68,12.959999999999999,7.56,66,78,4.1100000000000003,3849,950,1286,6.6640685892439597,9.0210444271239272,1.3265783320342945,"NL-E",{"$f":"LEFT([League-Division],1)","v":"N"},{"$f":"RIGHT([League-Division],1)","v":"E"},{"$f":"IF([LG]=\"N\",10,20)","v":10},{"$f":"IF([DIV]=\"E\",1,IF([DIV]=\"C\",2,3))","v":1},{"$f":"[LGS]+[DIVS]","v":11}]
[2000,"de los Santos, Valerio","MIL","Milwaukee Brewers",210000,66,2,73.666666666666671,-2,5.13,1.4253393665158369,8.5520361990950224,8.7963800904977365,73,89,4.6399999999999997,4398,967,1501,5.9365620736698492,9.2148703956343798,1.5204638472032743,"NL-C",{"$f":"LEFT([League-Division],1)","v":"N"},{"$f":"RIGHT([League-Division],1)","v":"C"},{"$f":"IF([LG]=\"N\",10,20)","v":10},{"$f":"IF([DIV]=\"E\",1,IF([DIV]=\"C\",2,3))","v":2},{"$f":"[LGS]+[DIVS]","v":12}]
[1997,"DeLucia, Rich","ANA","Anaheim Angels",625000,33,0,42.333333333333336,13,3.61,1.3228346456692912,8.9291338582677149,6.1653543307086611,84,78,4.5199999999999996,4362,1050,1506,6.4993122420907845,9.3218707015130686,1.4518569463548832,"AL-W",{"$f":"LEFT([League-Division],1)","v":"A"},{"$f":"RIGHT([League-Division],1)","v":"W"},{"$f":"IF([LG]=\"N\",10,20)","v":20},{"$f":"IF([DIV]=\"E\",1,IF([DIV]=\"C\",2,3))","v":3},{"$f":"[LGS]+[DIVS]","v":23}]
[2003,"Dempster, Ryan","CIN","Cincinnati Reds",3250000,22,20,115.66666666666667,-50,6.54,1.7636887608069163,6.5360230547550433,10.426512968299711,69,93,5.09,4339,932,1578,5.7994929707305838,9.8193132058077914,1.4989628946761928,"NL-C",{"$f":"LEFT([League-Division],1)","v":"N"},{"$f":"RIGHT([League-Division],1)","v":"C"},{"$f":"IF([LG]=\"N\",10,20)","v":10},{"$f":"IF([DIV]=\"E\",1,IF([DIV]=\"C\",2,3))","v":2},{"$f":"[LGS]+[DIVS]","v":12}]
[2006,"Dempster, Ryan","CHN","Chicago Cubs",4333333,74,0,75,-10,4.8,1.5066666666666666,8.0399999999999991,9.24,66,96,4.74,4317,1250,1396,7.8179291174426684,8.7310632383599724,1.4475330090340515,"NL-C",{"$f":"LEFT([League-Division],1)","v":"N"},{"$f":"RIGHT([League-Division],1)","v":"C"},{"$f":"IF([LG]=\"N\",10,20)","v":10},{"$f":"IF([DIV]=\"E\",1,IF([DIV]=\"C\",2,3))","v":2},{"$f":"[LGS]+[DIVS]","v":12}]
[1998,"Dessens, Elmer","PIT","Pittsburgh Pirates",180000,43,5,74.666666666666671,-47,5.67,1.5401785714285714,5.1830357142857135,10.848214285714285,69,93,3.91,4347,1112,1433,6.9068322981366466,8.9006211180124222,1.3547273982056591,"NL-C",{"$f":"LEFT([League-Division],1)","v":"N"},{"$f":"RIGHT([League-Division],1)","v":"C"},{"$f":"IF([LG]=\"N\",10,20)","v":10},{"$f":"IF([DIV]=\"E\",1,IF([DIV]=\"C\",2,3))","v":2},{"$f":"[LGS]+[DIVS]","v":12}]
[2006,"Dessens, Elmer","KCA","Kansas City Royals",1700000,43,0,54,-27,4.5,1.4074074074074074,6,10.5,62,100,5.65,4279,904,1648,5.7041364804860955,10.398691283010049,1.6020098153774247,"AL-C",{"$f":"LEFT([League-Division],1)","v":"A"},{"$f":"RIGHT([League-Division],1)","v":"C"},{"$f":"IF([LG]=\"N\",10,20)","v":20},{"$f":"IF([DIV]=\"E\",1,IF([DIV]=\"C\",2,3))","v":2},{"$f":"[LGS]+[DIVS]","v":22}]
[2007,"Dessens, Elmer","MIL","Milwaukee Brewers",1700000,12,0,15,-12,6.6,1.8,7.2,14.4,83,79,4.41,4333,1174,1513,7.315485806600508,9.4278790676205855,1.3985691207015924,"NL-C",{"$f":"LEFT([League-Division],1)","v":"N"},{"$f":"RIGHT([League-Division],1)","v":"C"},{"$f":"IF([LG]=\"N\",10,20)","v":10},{"$f":"IF([DIV]=\"E\",1,IF([DIV]=\"C\",2,3))","v":2},{"$f":"[LGS]+[DIVS]","v":12}]
[1995,"Dibble, Rob","ML4","Milwaukee Brewers",400000,15,0,12,1,8.25,2.3333333333333335,7.5,6.75,65,79,4.82,3858,699,1391,4.8919129082426123,9.7348367029548992,1.5505443234836702,"AL-C",{"$f":"LEFT([League-Division],1)","v":"A"},{"$f":"RIGHT([League-Division],1)","v":"C"},{"$f":"IF([LG]=\"N\",10,20)","v":20},{"$f":"IF([DIV]=\"E\",1,IF([DIV]=\"C\",2,3))","v":2},{"$f":"[LGS]+[DIVS]","v":22}]
[2006,"Dickey, R.A.","TEX","Texas Rangers",380000,1,1,3.3333333333333335,-7,18.899999999999999,2.6999999999999997,2.6999999999999997,21.599999999999998,80,82,4.5999999999999996,4294,972,1558,6.1117838844899861,9.7964601769911521,1.4350256171401956,"AL-W",{"$f":"LEFT([League-Division],1)","v":"A"},{"$f":"RIGHT([League-Division],1)","v":"W"},{"$f":"IF([LG]=\"N\",10,20)","v":20},{"$f":"IF([DIV]=\"E\",1,IF([DIV]=\"C\",2,3))","v":3},{"$f":"[LGS]+[DIVS]","v":23}]
[2007,"DiNardo, Lenny","OAK","Oakland Athletics",389750,35,20,131.33333333333334,-77,4.1100000000000003,1.4162436548223349,4.0431472081218267,9.3197969543147217,76,86,4.28,4344,1036,1468,6.4392265193370166,9.124309392265193,1.3798342541436464,"AL-W",{"$f":"LEFT([League-Division],1)","v":"A"},{"$f":"RIGHT([League-Division],1)","v":"W"},{"$f":"IF([LG]=\"N\",10,20)","v":20},{"$f":"IF([DIV]=\"E\",1,IF([DIV]=\"C\",2,3))","v":3},{"$f":"[LGS]+[DIVS]","v":23}]
[2000,"Dipoto, Jerry","COL","Colorado Rockies",2350000,17,0,13.666666666666666,-7,3.95,1.5365853658536586,5.9268292682926829,10.536585365853661,82,80,5.26,4290,1001,1568,6.3,9.8685314685314687,1.5076923076923077,"NL-W",{"$f":"LEFT([League-Division],1)","v":"N"},{"$f":"RIGHT([League-Division],1)","v":"W"},{"$f":"IF([LG]=\"N\",10,20)","v":10},{"$f":"IF([DIV]=\"E\",1,IF([DIV]=\"C\",2,3))","v":3},{"$f":"[LGS]+[DIVS]","v":13}]
[1996,"Doherty, John","BOS","Boston Red Sox",400000,3,0,6.333333333333333,-5,5.68,1.8947368421052633,4.2631578947368425,11.368421052631581,85,77,5,4374,1165,1606,7.1913580246913584,9.913580246913579,1.5967078189300412,"AL-E",{"$f":"LEFT([League-Division],1)","v":"A"},{"$f":"RIGHT([League-Division],1)","v":"E"},{"$f":"IF([LG]=\"N\",10,20)","v":20},{"$f":"IF([DIV]=\"E\",1,IF([DIV]=\"C\",2,3))","v":1},{"$f":"[LGS]+[DIVS]","v":21}]
[2007,"Donnelly, Brendan","BOS","Boston Red Sox",1400000,27,0,20.666666666666668,-4,3.05,1.161290322580645,6.5322580645161281,8.2741935483870961,96,66,3.87,4316,1149,1350,7.1879054680259493,8.4453197405004641,1.2734012974976829,"AL-E",{"$f":"LEFT([League-Division],1)","v":"A"},{"$f":"RIGHT([League-Division],1)","v":"E"},{"$f":"IF([LG]=\"N\",10,20)","v":20},{"$f":"IF([DIV]=\"E\",1,IF([DIV]=\"C\",2,3))","v":1},{"$f":"[LGS]+[DIVS]","v":21}]
[2003,"Dotel, Octavio","HOU","Houston Astros",1600000,76,0,87,44,2.48,0.96551724137931039,10.03448275862069,5.4827586206896557,87,75,3.86,4350,1139,1350,7.0696551724137926,8.3793103448275854,1.3206896551724139,"NL-C",{"$f":"LEFT([League-Division],1)","v":"N"},{"$f":"RIGHT([League-Division],1)","v":"C"},{"$f":"IF([LG]=\"N\",10,20)","v":10},{"$f":"IF([DIV]=\"E\",1,IF([DIV]=\"C\",2,3))","v":2},{"$f":"[LGS]+[DIVS]","v":12}]
[2005,"Dotel, Octavio","OAK","Oakland Athletics",4750000,15,0,15.333333333333334,6,3.52,1.3695652173913042,9.391304347826086,5.8695652173913047,88,74,3.69,4351,1075,1315,6.6708802574120902,8.1601930590668807,1.2541944380602161,"AL-W",{"$f":"LEFT([League-Division],1)","v":"A"},{"$f":"RIGHT([League-Division],1)","v":"W"},{"$f":"IF([LG]=\"N\",10,20)","v":20},{"$f":"IF([DIV]=\"E\",1,IF([DIV]=\"C\",2,3))","v":3},{"$f":"[LGS]+[DIVS]","v":23}]
[2010,"Dotel, Octavio","LAN","Los Angeles Dodgers",3250000,19,0,18.666666666666668,10,3.38,1.1785714285714286,10.125,5.3035714285714288,80,82,4.01,4325,1274,1323,7.9532947976878612,8.259190751445086,1.2915606936416184,"NL-W",{"$f":"LEFT([League-Division],1)","v":"N"},{"$f":"RIGHT([League-Division],1)","v":"W"},{"$f":"IF([LG]=\"N\",10,20)","v":10},{"$f":"IF([DIV]=\"E\",1,IF([DIV]=\"C\",2,3))","v":3},{"$f":"[LGS]+[DIVS]","v":13}]
[2004,"Douglass, Sean","TOR","Toronto Blue Jays",305000,14,3,38.666666666666664,-1,6.28,1.6810344827586208,8.3793103448275872,8.612068965517242,67,94,4.91,4263,956,1505,6.0548909218859963,9.5320197044334964,1.4869809992962701,"AL-E",{"$f":"LEFT([League-Division],1)","v":"A"},{"$f":"RIGHT([League-Division],1)","v":"E"},{"$f":"IF([LG]=\"N\",10,20)","v":20},{"$f":"IF([DIV]=\"E\",1,IF([DIV]=\"C\",2,3))","v":1},{"$f":"[LGS]+[DIVS]","v":21}]
[1998,"Drabek, Doug","BAL","Baltimore Orioles",1663162,23,21,108.66666666666667,-83,7.29,1.5368098159509203,4.5552147239263796,11.429447852760736,79,83,4.7300000000000004,4293,1065,1505,6.6981132075471699,9.4654088050314478,1.4255765199161425,"AL-E",{"$f":"LEFT([League-Division],1)","v":"A"},{"$f":"RIGHT([League-Division],1)","v":"E"},{"$f":"IF([LG]=\"N\",10,20)","v":20},{"$f":"IF([DIV]=\"E\",1,IF([DIV]=\"C\",2,3))","v":1},{"$f":"[LGS]+[DIVS]","v":21}]
[2003,"Dreifort, Darren","LAN","Los Angeles Dodgers",12400000,10,10,60.333333333333336,9,4.03,1.3756906077348066,9.9944751381215458,8.6519337016574589,85,77,3.16,4373,1289,1254,7.9586096501257719,7.742510862108392,1.2211296592728105,"NL-W",{"$f":"LEFT([League-Division],1)","v":"N"},{"$f":"RIGHT([League-Division],1)","v":"W"},{"$f":"IF([LG]=\"N\",10,20)","v":10},{"$f":"IF([DIV]=\"E\",1,IF([DIV]=\"C\",2,3))","v":3},{"$f":"[LGS]+[DIVS]","v":13}]
[2005,"Drese, Ryan","TEX","Texas Rangers",550000,12,12,69.666666666666671,-76,6.46,1.7224880382775118,2.5837320574162681,12.401913875598085,79,83,4.96,4320,932,1589,5.8250000000000002,9.9312500000000004,1.4659722222222222,"AL-W",{"$f":"LEFT([League-Division],1)","v":"A"},{"$f":"RIGHT([League-Division],1)","v":"W"},{"$f":"IF([LG]=\"N\",10,20)","v":20},{"$f":"IF([DIV]=\"E\",1,IF([DIV]=\"C\",2,3))","v":3},{"$f":"[LGS]+[DIVS]","v":23}]
[2005,"Duchscherer, Justin","OAK","Oakland Athletics",329500,65,0,85.666666666666671,18,2.21,1.0038910505836576,8.9299610894941619,7.0389105058365757,88,74,3.69,4351,1075,1315,6.6708802574120902,8.1601930590668807,1.2541944380602161,"AL-W",{"$f":"LEFT([League-Division],1)","v":"A"},{"$f":"RIGHT([League-Division],1)","v":"W"},{"$f":"IF([LG]=\"N\",10,20)","v":20},{"$f":"IF([DIV]=\"E\",1,IF([DIV]=\"C\",2,3))","v":3},{"$f":"[LGS]+[DIVS]","v":23}]
[2007,"Duckworth, Brandon","KCA","Kansas City Royals",550000,26,3,46.666666666666664,-30,4.63,1.5857142857142859,4.05,9.8357142857142872,69,93,4.4800000000000004,4312,993,1547,6.2177643784786643,9.6866883116883109,1.4380797773654916,"AL-C",{"$f":"LEFT([League-Division],1)","v":"A"},{"$f":"RIGHT([League-Division],1)","v":"C"},{"$f":"IF([LG]=\"N\",10,20)","v":20},{"$f":"IF([DIV]=\"E\",1,IF([DIV]=\"C\",2,3))","v":2},{"$f":"[LGS]+[DIVS]","v":22}]
[2006,"Duke, Zach","PIT","Pittsburgh Pirates",335000,34,34,215.33333333333334,-138,4.47,1.5,4.8900928792569651,10.657894736842104,67,95,4.5199999999999996,4305,1060,1545,6.6480836236933802,9.6898954703832754,1.5087108013937283,"NL-C",{"$f":"LEFT([League-Division],1)","v":"N"},{"$f":"RIGHT([League-Division],1)","v":"C"},{"$f":"IF([LG]=\"N\",10,20)","v":10},{"$f":"IF([DIV]=\"E\",1,IF([DIV]=\"C\",2,3))","v":2},{"$f":"[LGS]+[DIVS]","v":12}]
[2001,"Duncan, Courtney","CHN","Chicago Cubs",200000,36,0,42.666666666666664,7,5.0599999999999996,1.5703125,10.3359375,8.859375,88,74,4.03,4311,1344,1357,8.4175365344467643,8.4989561586638835,1.3270702853166318,"NL-C",{"$f":"LEFT([League-Division],1)","v":"N"},{"$f":"RIGHT([League-Division],1)","v":"C"},{"$f":"IF([LG]=\"N\",10,20)","v":10},{"$f":"IF([DIV]=\"E\",1,IF([DIV]=\"C\",2,3))","v":2},{"$f":"[LGS]+[DIVS]","v":12}]
[2002,"Durbin, Chad","KCA","Kansas City Royals",275000,2,2,8.3333333333333339,-8,11.88,2.04,5.3999999999999995,14.04,62,100,5.21,4323,909,1587,5.6773074253990288,9.9118667591950036,1.4982650936849411,"AL-C",{"$f":"LEFT([League-Division],1)","v":"A"},{"$f":"RIGHT([League-Division],1)","v":"C"},{"$f":"IF([LG]=\"N\",10,20)","v":20},{"$f":"IF([DIV]=\"E\",1,IF([DIV]=\"C\",2,3))","v":2},{"$f":"[LGS]+[DIVS]","v":22}]
[2003,"Durocher, Jayson","MIL","Milwaukee Brewers",320000,6,0,7.333333333333333,-2,11.05,1.5,8.5909090909090917,11.045454545454545,68,94,5.0199999999999996,4356,1034,1590,6.4090909090909092,9.8553719008264462,1.4910468319559229,"NL-C",{"$f":"LEFT([League-Division],1)","v":"N"},{"$f":"RIGHT([League-Division],1)","v":"C"},{"$f":"IF([LG]=\"N\",10,20)","v":10},{"$f":"IF([DIV]=\"E\",1,IF([DIV]=\"C\",2,3))","v":2},{"$f":"[LGS]+[DIVS]","v":12}]
[2003,"Eaton, Adam","SDN","San Diego Padres",350000,31,31,183,-27,4.08,1.3169398907103824,7.1803278688524586,8.5081967213114762,64,98,4.87,4294,1091,1458,6.8600372612948313,9.16767582673498,1.445505356311132,"NL-W",{"$f":"LEFT([League-Division],1)","v":"N"},{"$f":"RIGHT([League-Division],1)","v":"W"},{"$f":"IF([LG]=\"N\",10,20)","v":10},{"$f":"IF([DIV]=\"E\",1,IF([DIV]=\"C\",2,3))","v":3},{"$f":"[LGS]+[DIVS]","v":13}]
[2006,"Eaton, Adam","TEX","Texas Rangers",4650000,13,13,65,-35,5.12,1.5692307692307692,5.953846153846154,10.799999999999999,80,82,4.5999999999999996,4294,972,1558,6.1117838844899861,9.7964601769911521,1.4350256171401956,"AL-W",{"$f":"LEFT([League-Division],1)","v":"A"},{"$f":"RIGHT([League-Division],1)","v":"W"},{"$f":"IF([LG]=\"N\",10,20)","v":20},{"$f":"IF([DIV]=\"E\",1,IF([DIV]=\"C\",2,3))","v":3},{"$f":"[LGS]+[DIVS]","v":23}]
[1998,"Eckersley, Dennis","BOS","Boston Red Sox",1500000,50,0,39.666666666666664,-24,4.76,1.3613445378151261,4.9915966386554622,10.436974789915967,92,70,4.1900000000000004,4308,1025,1406,6.424094707520891,8.8119777158774379,1.3300835654596099,"AL-E",{"$f":"LEFT([League-Division],1)","v":"A"},{"$f":"RIGHT([League-Division],1)","v":"E"},{"$f":"IF([LG]=\"N\",10,20)","v":20},{"$f":"IF([DIV]=\"E\",1,IF([DIV]=\"C\",2,3))","v":1},{"$f":"[LGS]+[DIVS]","v":21}]
[2000,"Eiland, Dave","TBA","Tampa Bay Devil Rays",300000,17,10,54.666666666666664,-60,7.24,1.7378048780487805,2.7987804878048781,12.676829268292684,69,92,4.8600000000000003,4293,955,1553,6.0062893081761004,9.7672955974842761,1.4577218728162125,"AL-E",{"$f":"LEFT([League-Division],1)","v":"A"},{"$f":"RIGHT([League-Division],1)","v":"E"},{"$f":"IF([LG]=\"N\",10,20)","v":20},{"$f":"IF([DIV]=\"E\",1,IF([DIV]=\"C\",2,3))","v":1},{"$f":"[LGS]+[DIVS]","v":21}]
[1996,"Eischen, Joey","DET","Detroit Tigers",135000,24,0,25,-12,3.24,1.64,5.3999999999999995,9.7200000000000006,53,109,6.38,4296,957,1699,6.0146648044692741,10.678072625698325,1.7339385474860336,"AL-E",{"$f":"LEFT([League-Division],1)","v":"A"},{"$f":"RIGHT([League-Division],1)","v":"E"},{"$f":"IF([LG]=\"N\",10,20)","v":20},{"$f":"IF([DIV]=\"E\",1,IF([DIV]=\"C\",2,3))","v":1},{"$f":"[LGS]+[DIVS]","v":21}]
[1998,"Elarton, Scott","HOU","Houston Astros",170000,28,2,57,16,3.32,1.0526315789473684,8.8421052631578938,6.3157894736842106,102,60,3.5,4413,1187,1435,7.262406526172672,8.7797416723317472,1.2916383412644459,"NL-C",{"$f":"LEFT([League-Division],1)","v":"N"},{"$f":"RIGHT([League-Division],1)","v":"C"},{"$f":"IF([LG]=\"N\",10,20)","v":10},{"$f":"IF([DIV]=\"E\",1,IF([DIV]=\"C\",2,3))","v":2},{"$f":"[LGS]+[DIVS]","v":12}]
[2001,"Elarton, Scott","COL","Colorado Rockies",400000,4,4,23,-9,6.65,1.3043478260869565,4.304347826086957,7.8260869565217392,73,89,5.29,4290,1058,1522,6.6587412587412587,9.5790209790209779,1.4825174825174825,"NL-W",{"$f":"LEFT([League-Division],1)","v":"N"},{"$f":"RIGHT([League-Division],1)","v":"W"},{"$f":"IF([LG]=\"N\",10,20)","v":10},{"$f":"IF([DIV]=\"E\",1,IF([DIV]=\"C\",2,3))","v":3},{"$f":"[LGS]+[DIVS]","v":13}]
[2007,"Elarton, Scott","KCA","Kansas City Royals",4000000,9,9,37,-40,10.46,2,3.1621621621621623,12.891891891891891,69,93,4.4800000000000004,4312,993,1547,6.2177643784786643,9.6866883116883109,1.4380797773654916,"AL-C",{"$f":"LEFT([League-Division],1)","v":"A"},{"$f":"RIGHT([League-Division],1)","v":"C"},{"$f":"IF([LG]=\"N\",10,20)","v":20},{"$f":"IF([DIV]=\"E\",1,IF([DIV]=\"C\",2,3))","v":2},{"$f":"[LGS]+[DIVS]","v":22}]
[2004,"Eldred, Cal","SLN","St. Louis Cardinals",900000,52,0,67,-17,3.76,1.3134328358208955,7.2537313432835822,9.5373134328358198,105,57,3.75,4361,1041,1378,6.4450814033478556,8.5315294657188705,1.2506305893143774,"NL-C",{"$f":"LEFT([League-Division],1)","v":"N"},{"$f":"RIGHT([League-Division],1)","v":"C"},{"$f":"IF([LG]=\"N\",10,20)","v":10},{"$f":"IF([DIV]=\"E\",1,IF([DIV]=\"C\",2,3))","v":2},{"$f":"[LGS]+[DIVS]","v":12}]
[1995,"Embree, Alan","CLE","Cleveland Indians",125000,23,0,24.666666666666668,0,5.1100000000000003,1.5810810810810809,8.3918918918918912,8.3918918918918912,100,44,3.83,3903,926,1261,6.4058416602613368,8.7232897770945428,1.3112990007686396,"AL-C",{"$f":"LEFT([League-Division],1)","v":"A"},{"$f":"RIGHT([League-Division],1)","v":"C"},{"$f":"IF([LG]=\"N\",10,20)","v":20},{"$f":"IF([DIV]=\"E\",1,IF([DIV]=\"C\",2,3))","v":2},{"$f":"[LGS]+[DIVS]","v":22}]
[2001,"Embree, Alan","SFN","San Francisco Giants",2400000,22,0,20,-9,11.25,2.2000000000000002,11.25,15.299999999999999,90,72,4.18,4390,1080,1437,6.642369020501139,8.8380410022779046,1.3776765375854214,"NL-W",{"$f":"LEFT([League-Division],1)","v":"N"},{"$f":"RIGHT([League-Division],1)","v":"W"},{"$f":"IF([LG]=\"N\",10,20)","v":10},{"$f":"IF([DIV]=\"E\",1,IF([DIV]=\"C\",2,3))","v":3},{"$f":"[LGS]+[DIVS]","v":13}]
[2007,"Embree, Alan","OAK","Oakland Athletics",2356496,68,0,68,-16,3.97,1.2647058823529411,6.75,8.867647058823529,76,86,4.28,4344,1036,1468,6.4392265193370166,9.124309392265193,1.3798342541436464,"AL-W",{"$f":"LEFT([League-Division],1)","v":"A"},{"$f":"RIGHT([League-Division],1)","v":"W"},{"$f":"IF([LG]=\"N\",10,20)","v":20},{"$f":"IF([DIV]=\"E\",1,IF([DIV]=\"C\",2,3))","v":3},{"$f":"[LGS]+[DIVS]","v":23}]
[2010,"English, Jesse","WAS","Washington Nationals",400000,7,0,7,-6,3.86,1.7142857142857142,5.1428571428571423,12.857142857142858,69,93,4.13,4305,1068,1469,6.6982578397212542,9.2132404181184668,1.3804878048780487,"NL-E",{"$f":"LEFT([League-Division],1)","v":"N"},{"$f":"RIGHT([League-Division],1)","v":"E"},{"$f":"IF([LG]=\"N\",10,20)","v":10},{"$f":"IF([DIV]=\"E\",1,IF([DIV]=\"C\",2,3))","v":1},{"$f":"[LGS]+[DIVS]","v":11}]
[1995,"Erickson, Scott","BAL","Baltimore Orioles",1862500,17,16,108.66666666666667,-50,3.89,1.343558282208589,5.0521472392638032,9.1932515337423304,71,73,4.3099999999999996,3801,930,1165,6.6061562746645617,8.2754538279400158,1.3322809786898184,"AL-E",{"$f":"LEFT([League-Division],1)","v":"A"},{"$f":"RIGHT([League-Division],1)","v":"E"},{"$f":"IF([LG]=\"N\",10,20)","v":20},{"$f":"IF([DIV]=\"E\",1,IF([DIV]=\"C\",2,3))","v":1},{"$f":"[LGS]+[DIVS]","v":21}]
[1998,"Erickson, Scott","BAL","Baltimore Orioles",3700000,36,36,251.33333333333334,-98,4.01,1.4045092838196287,6.660477453580901,10.169761273209549,79,83,4.7300000000000004,4293,1065,1505,6.6981132075471699,9.4654088050314478,1.4255765199161425,"AL-E",{"$f":"LEFT([League-Division],1)","v":"A"},{"$f":"RIGHT([League-Division],1)","v":"E"},{"$f":"IF([LG]=\"N\",10,20)","v":20},{"$f":"IF([DIV]=\"E\",1,IF([DIV]=\"C\",2,3))","v":1},{"$f":"[LGS]+[DIVS]","v":21}]
[1997,"Escobar, Kelvim","TOR","Toronto Blue Jays",150000,27,0,31,8,2.9,1.5161290322580645,10.451612903225808,8.129032258064516,76,86,3.92,4326,1150,1453,7.1775312066574202,9.0686546463245499,1.3522884882108184,"AL-E",{"$f":"LEFT([League-Division],1)","v":"A"},{"$f":"RIGHT([League-Division],1)","v":"E"},{"$f":"IF([LG]=\"N\",10,20)","v":20},{"$f":"IF([DIV]=\"E\",1,IF([DIV]=\"C\",2,3))","v":1},{"$f":"[LGS]+[DIVS]","v":21}]
[2006,"Escobar, Kelvim","LAA","Los Angeles Angels of Anaheim",6750000,30,30,189.33333333333334,-45,3.61,1.278169014084507,6.9876760563380271,9.126760563380282,89,73,4.04,4358,1164,1410,7.2115649380449742,8.7356585589720055,1.2948600275355666,"AL-W",{"$f":"LEFT([League-Division],1)","v":"A"},{"$f":"RIGHT([League-Division],1)","v":"W"},{"$f":"IF([LG]=\"N\",10,20)","v":20},{"$f":"IF([DIV]=\"E\",1,IF([DIV]=\"C\",2,3))","v":3},{"$f":"[LGS]+[DIVS]","v":23}]
[1995,"Eshelman, Vaughn","BOS","Boston Red Sox",109000,23,14,81.666666666666671,-45,4.8499999999999996,1.4938775510204081,4.518367346938776,9.4775510204081623,86,58,4.3899999999999997,3876,888,1338,6.1857585139318889,9.3204334365325074,1.4040247678018576,"AL-E",{"$f":"LEFT([League-Division],1)","v":"A"},{"$f":"RIGHT([League-Division],1)","v":"E"},{"$f":"IF([LG]=\"N\",10,20)","v":20},{"$f":"IF([DIV]=\"E\",1,IF([DIV]=\"C\",2,3))","v":1},{"$f":"[LGS]+[DIVS]","v":21}]
[1999,"Estes, Shawn","SFN","San Francisco Giants",850000,32,32,203,-50,4.92,1.5812807881773399,7.0492610837438425,9.2660098522167491,86,76,4.71,4368,1076,1486,6.6510989010989015,9.1854395604395602,1.4704670329670331,"NL-W",{"$f":"LEFT([League-Division],1)","v":"N"},{"$f":"RIGHT([League-Division],1)","v":"W"},{"$f":"IF([LG]=\"N\",10,20)","v":10},{"$f":"IF([DIV]=\"E\",1,IF([DIV]=\"C\",2,3))","v":3},{"$f":"[LGS]+[DIVS]","v":13}]
[2001,"Estrada, Horacio","COL","Colorado Rockies",203000,4,0,4.333333333333333,-4,14.54,2.0769230769230771,8.3076923076923084,16.615384615384617,73,89,5.29,4290,1058,1522,6.6587412587412587,9.5790209790209779,1.4825174825174825,"NL-W",{"$f":"LEFT([League-Division],1)","v":"N"},{"$f":"RIGHT([League-Division],1)","v":"W"},{"$f":"IF([LG]=\"N\",10,20)","v":10},{"$f":"IF([DIV]=\"E\",1,IF([DIV]=\"C\",2,3))","v":3},{"$f":"[LGS]+[DIVS]","v":13}]
[2008,"Eveland, Dana","OAK","Oakland Athletics",395000,29,29,168,-54,4.34,1.4821428571428572,6.3214285714285712,9.2142857142857135,75,86,4.01,4305,1061,1364,6.6543554006968648,8.5547038327526135,1.3519163763066202,"AL-W",{"$f":"LEFT([League-Division],1)","v":"A"},{"$f":"RIGHT([League-Division],1)","v":"W"},{"$f":"IF([LG]=\"N\",10,20)","v":20},{"$f":"IF([DIV]=\"E\",1,IF([DIV]=\"C\",2,3))","v":3},{"$f":"[LGS]+[DIVS]","v":23}]
[1998,"Eyre, Scott","CHA","Chicago White Sox",185000,33,17,107,-41,5.38,1.6635514018691588,6.1401869158878499,9.5887850467289706,80,82,5.24,4315,911,1569,5.7003476245654703,9.817612977983778,1.4940903823870222,"AL-C",{"$f":"LEFT([League-Division],1)","v":"A"},{"$f":"RIGHT([League-Division],1)","v":"C"},{"$f":"IF([LG]=\"N\",10,20)","v":20},{"$f":"IF([DIV]=\"E\",1,IF([DIV]=\"C\",2,3))","v":2},{"$f":"[LGS]+[DIVS]","v":22}]
[2002,"Eyre, Scott","TOR","Toronto Blue Jays",280000,49,3,63.333333333333336,-18,4.97,1.5473684210526315,7.2473684210526308,9.8052631578947373,78,84,4.8,4315,991,1504,6.2009269988412514,9.4108922363847061,1.4558516801853998,"AL-E",{"$f":"LEFT([League-Division],1)","v":"A"},{"$f":"RIGHT([League-Division],1)","v":"E"},{"$f":"IF([LG]=\"N\",10,20)","v":20},{"$f":"IF([DIV]=\"E\",1,IF([DIV]=\"C\",2,3))","v":1},{"$f":"[LGS]+[DIVS]","v":21}]
[2008,"Eyre, Scott","PHI","Philadelphia Phillies",3800000,19,0,14.333333333333334,10,1.88,0.7674418604651162,11.302325581395349,5.0232558139534884,92,70,3.89,4349,1081,1444,6.7111979765463321,8.9648194987353413,1.3637617843182339,"NL-E",{"$f":"LEFT([League-Division],1)","v":"N"},{"$f":"RIGHT([League-Division],1)","v":"E"},{"$f":"IF([LG]=\"N\",10,20)","v":10},{"$f":"IF([DIV]=\"E\",1,IF([DIV]=\"C\",2,3))","v":1},{"$f":"[LGS]+[DIVS]","v":11}]
[2001,"Farnsworth, Kyle","CHN","Chicago Cubs",245000,76,0,82,42,2.74,1.1463414634146341,11.74390243902439,7.1341463414634152,88,74,4.03,4311,1344,1357,8.4175365344467643,8.4989561586638835,1.3270702853166318,"NL-C",{"$f":"LEFT([League-Division],1)","v":"N"},{"$f":"RIGHT([League-Division],1)","v":"C"},{"$f":"IF([LG]=\"N\",10,20)","v":10},{"$f":"IF([DIV]=\"E\",1,IF([DIV]=\"C\",2,3))","v":2},{"$f":"[LGS]+[DIVS]","v":12}]
[2004,"Farnsworth, Kyle","CHN","Chicago Cubs",1400000,72,0,66.666666666666671,11,4.7300000000000004,1.5,10.53,9.0449999999999982,89,73,3.81,4396,1346,1363,8.2670609645131936,8.3714740673339403,1.3020928116469519,"NL-C",{"$f":"LEFT([League-Division],1)","v":"N"},{"$f":"RIGHT([League-Division],1)","v":"C"},{"$f":"IF([LG]=\"N\",10,20)","v":10},{"$f":"IF([DIV]=\"E\",1,IF([DIV]=\"C\",2,3))","v":2},{"$f":"[LGS]+[DIVS]","v":12}]
[2009,"Farnsworth, Kyle","KCA","Kansas City Royals",4250000,41,0,37.333333333333336,-1,4.58,1.5267857142857142,10.125,10.366071428571427,65,97,4.83,4278,1153,1486,7.2769985974754556,9.3786816269284703,1.4628330995792427,"AL-C",{"$f":"LEFT([League-Division],1)","v":"A"},{"$f":"RIGHT([League-Division],1)","v":"C"},{"$f":"IF([LG]=\"N\",10,20)","v":20},{"$f":"IF([DIV]=\"E\",1,IF([DIV]=\"C\",2,3))","v":2},{"$f":"[LGS]+[DIVS]","v":22}]
[2000,"Fassero, Jeff","BOS","Boston Red Sox",2000000,38,23,130,-56,4.78,1.5615384615384615,6.7153846153846155,10.592307692307692,85,77,4.2300000000000004,4357,1121,1433,6.9467523525361488,8.8801927932063354,1.3302731237089742,"AL-E",{"$f":"LEFT([League-Division],1)","v":"A"},{"$f":"RIGHT([League-Division],1)","v":"E"},{"$f":"IF([LG]=\"N\",10,20)","v":20},{"$f":"IF([DIV]=\"E\",1,IF([DIV]=\"C\",2,3))","v":1},{"$f":"[LGS]+[DIVS]","v":21}]
[2001,"Fassero, Jeff","CHN","Chicago Cubs",2400000,82,0,73.666666666666671,13,3.42,1.2081447963800904,9.6515837104072393,8.0633484162895925,88,74,4.03,4311,1344,1357,8.4175365344467643,8.4989561586638835,1.3270702853166318,"NL-C",{"$f":"LEFT([League-Division],1)","v":"N"},{"$f":"RIGHT([League-Division],1)","v":"C"},{"$f":"IF([LG]=\"N\",10,20)","v":10},{"$f":"IF([DIV]=\"E\",1,IF([DIV]=\"C\",2,3))","v":2},{"$f":"[LGS]+[DIVS]","v":12}]
[2007,"Feldman, Scott","TEX","Texas Rangers",388203,29,0,39,-25,5.77,1.9487179487179487,4.3846153846153841,10.153846153846153,75,87,4.75,4290,976,1525,6.1426573426573432,9.5979020979020984,1.5335664335664336,"AL-W",{"$f":"LEFT([League-Division],1)","v":"A"},{"$f":"RIGHT([League-Division],1)","v":"W"},{"$f":"IF([LG]=\"N\",10,20)","v":20},{"$f":"IF([DIV]=\"E\",1,IF([DIV]=\"C\",2,3))","v":3},{"$f":"[LGS]+[DIVS]","v":23}]
[2007,"Feliciano, Pedro","NYN","New York Mets",602000,78,0,64,14,3.09,1.21875,8.578125,6.609375,88,74,4.26,4357,1134,1415,7.0273123708974063,8.7686481523984394,1.3667661234794584,"NL-E",{"$f":"LEFT([League-Division],1)","v":"N"},{"$f":"RIGHT([League-Division],1)","v":"E"},{"$f":"IF([LG]=\"N\",10,20)","v":10},{"$f":"IF([DIV]=\"E\",1,IF([DIV]=\"C\",2,3))","v":1},{"$f":"[LGS]+[DIVS]","v":11}]
[1997,"Fernandez, Alex","FLO","Florida Marlins",7000000,32,32,220.66666666666666,-10,3.59,1.1873111782477341,7.4637462235649554,7.8716012084592144,92,70,3.83,4338,1188,1353,7.3941908713692941,8.4211618257261414,1.3775933609958506,"NL-E",{"$f":"LEFT([League-Division],1)","v":"N"},{"$f":"RIGHT([League-Division],1)","v":"E"},{"$f":"IF([LG]=\"N\",10,20)","v":10},{"$f":"IF([DIV]=\"E\",1,IF([DIV]=\"C\",2,3))","v":1},{"$f":"[LGS]+[DIVS]","v":11}]
[1995,"Fernandez, Sid","BAL","Baltimore Orioles",2333333,8,7,28,-5,7.39,1.8928571428571428,9.9642857142857153,11.571428571428573,71,73,4.3099999999999996,3801,930,1165,6.6061562746645617,8.2754538279400158,1.3322809786898184,"AL-E",{"$f":"LEFT([League-Division],1)","v":"A"},{"$f":"RIGHT([League-Division],1)","v":"E"},{"$f":"IF([LG]=\"N\",10,20)","v":20},{"$f":"IF([DIV]=\"E\",1,IF([DIV]=\"C\",2,3))","v":1},{"$f":"[LGS]+[DIVS]","v":21}]
[1996,"Fernandez, Sid","PHI","Philadelphia Phillies",3333333,11,11,63,27,3.43,1.2063492063492063,11,7.1428571428571423,67,95,4.49,4269,1044,1463,6.6029515108924812,9.2529866479269156,1.3865073787772313,"NL-E",{"$f":"LEFT([League-Division],1)","v":"N"},{"$f":"RIGHT([League-Division],1)","v":"E"},{"$f":"IF([LG]=\"N\",10,20)","v":10},{"$f":"IF([DIV]=\"E\",1,IF([DIV]=\"C\",2,3))","v":1},{"$f":"[LGS]+[DIVS]","v":11}]
[1998,"Fetters, Mike","OAK","Oakland Athletics",2475000,48,0,47.333333333333336,-14,3.99,1.4577464788732393,6.464788732394366,9.126760563380282,74,88,4.83,4302,922,1555,5.7866108786610875,9.7594142259414216,1.4532775453277544,"AL-W",{"$f":"LEFT([League-Division],1)","v":"A"},{"$f":"RIGHT([League-Division],1)","v":"W"},{"$f":"IF([LG]=\"N\",10,20)","v":20},{"$f":"IF([DIV]=\"E\",1,IF([DIV]=\"C\",2,3))","v":3},{"$f":"[LGS]+[DIVS]","v":23}]
[2005,"Field, Nate","KCA","Kansas City Royals",327500,7,0,6.666666666666667,-9,9.4499999999999993,2.6999999999999997,5.3999999999999995,17.55,56,106,5.49,4240,924,1640,5.8839622641509433,10.443396226415095,1.5707547169811322,"AL-C",{"$f":"LEFT([League-Division],1)","v":"A"},{"$f":"RIGHT([League-Division],1)","v":"C"},{"$f":"IF([LG]=\"N\",10,20)","v":20},{"$f":"IF([DIV]=\"E\",1,IF([DIV]=\"C\",2,3))","v":2},{"$f":"[LGS]+[DIVS]","v":22}]
[2002,"Fikac, Jeremy","SDN","San Diego Padres",210000,65,0,69,-8,5.48,1.5652173913043479,8.608695652173914,9.6521739130434785,66,96,4.62,4309,1108,1522,6.9426781155720585,9.5367834764446506,1.4648410304014854,"NL-W",{"$f":"LEFT([League-Division],1)","v":"N"},{"$f":"RIGHT([League-Division],1)","v":"W"},{"$f":"IF([LG]=\"N\",10,20)","v":10},{"$f":"IF([DIV]=\"E\",1,IF([DIV]=\"C\",2,3))","v":3},{"$f":"[LGS]+[DIVS]","v":13}]
[1999,"Finley, Chuck","ANA","Anaheim Angels",5800000,33,33,213.33333333333334,3,4.43,1.3640625,8.4375,8.3109374999999996,70,92,4.79,4293,877,1472,5.515723270440251,9.2578616352201255,1.4647099930118799,"AL-W",{"$f":"LEFT([League-Division],1)","v":"A"},{"$f":"RIGHT([League-Division],1)","v":"W"},{"$f":"IF([LG]=\"N\",10,20)","v":20},{"$f":"IF([DIV]=\"E\",1,IF([DIV]=\"C\",2,3))","v":3},{"$f":"[LGS]+[DIVS]","v":23}]
[2002,"Finley, Chuck","SLN","St. Louis Cardinals",7911948,14,14,85.333333333333329,14,3.8,1.16015625,8.75390625,7.27734375,97,65,3.7,4339,1009,1355,6.2786356303295694,8.431666282553584,1.3150495505876931,"NL-C",{"$f":"LEFT([League-Division],1)","v":"N"},{"$f":"RIGHT([League-Division],1)","v":"C"},{"$f":"IF([LG]=\"N\",10,20)","v":10},{"$f":"IF([DIV]=\"E\",1,IF([DIV]=\"C\",2,3))","v":2},{"$f":"[LGS]+[DIVS]","v":12}]
[1996,"Flener, Huck","TOR","Toronto Blue Jays",109000,15,11,70.666666666666671,-24,4.58,1.4292452830188678,5.6037735849056602,8.6603773584905657,74,88,4.58,4335,1033,1476,6.4339100346020759,9.1930795847750879,1.4435986159169549,"AL-E",{"$f":"LEFT([League-Division],1)","v":"A"},{"$f":"RIGHT([League-Division],1)","v":"E"},{"$f":"IF([LG]=\"N\",10,20)","v":20},{"$f":"IF([DIV]=\"E\",1,IF([DIV]=\"C\",2,3))","v":1},{"$f":"[LGS]+[DIVS]","v":21}]
[1996,"Florie, Bryce","SDN","San Diego Padres",172500,39,0,49.333333333333336,6,4.01,1.4594594594594594,9.3040540540540544,8.2094594594594597,91,71,3.73,4467,1194,1395,7.2169241101410337,8.4318334452652781,1.2766957689724647,"NL-W",{"$f":"LEFT([League-Division],1)","v":"N"},{"$f":"RIGHT([League-Division],1)","v":"W"},{"$f":"IF([LG]=\"N\",10,20)","v":10},{"$f":"IF([DIV]=\"E\",1,IF([DIV]=\"C\",2,3))","v":3},{"$f":"[LGS]+[DIVS]","v":13}]
[2001,"Florie, Bryce","BOS","Boston Red Sox",1450000,7,0,8.6666666666666661,-5,11.42,2.1923076923076925,7.2692307692307692,12.461538461538463,82,79,4.1500000000000004,4344,1259,1412,7.8252762430939224,8.7762430939226519,1.350828729281768,"AL-E",{"$f":"LEFT([League-Division],1)","v":"A"},{"$f":"RIGHT([League-Division],1)","v":"E"},{"$f":"IF([LG]=\"N\",10,20)","v":20},{"$f":"IF([DIV]=\"E\",1,IF([DIV]=\"C\",2,3))","v":1},{"$f":"[LGS]+[DIVS]","v":21}]
[2008,"Floyd, Gavin","CHA","Chicago White Sox",400000,33,33,206.33333333333334,-45,3.84,1.2600969305331178,6.3247172859450727,8.2875605815831985,89,74,4.1100000000000003,4373,1147,1471,7.0818659958838319,9.0823233478161445,1.3247198719414588,"AL-C",{"$f":"LEFT([League-Division],1)","v":"A"},{"$f":"RIGHT([League-Division],1)","v":"C"},{"$f":"IF([LG]=\"N\",10,20)","v":20},{"$f":"IF([DIV]=\"E\",1,IF([DIV]=\"C\",2,3))","v":2},{"$f":"[LGS]+[DIVS]","v":22}]
[2008,"Fogg, Josh","CIN","Cincinnati Reds",400000,22,14,78.333333333333329,-52,7.58,1.5829787234042554,5.1702127659574471,11.14468085106383,74,88,4.55,4327,1227,1542,7.6563438872197835,9.6219089438409995,1.4552807950080888,"NL-C",{"$f":"LEFT([League-Division],1)","v":"N"},{"$f":"RIGHT([League-Division],1)","v":"C"},{"$f":"IF([LG]=\"N\",10,20)","v":10},{"$f":"IF([DIV]=\"E\",1,IF([DIV]=\"C\",2,3))","v":2},{"$f":"[LGS]+[DIVS]","v":12}]
[1998,"Fontenot, Joe","FLO","Florida Marlins",170000,8,8,42.666666666666664,-32,6.33,1.78125,5.0625,11.8125,54,108,5.2,4348,1016,1617,6.3091076356945726,10.041168353265869,1.609015639374425,"NL-E",{"$f":"LEFT([League-Division],1)","v":"N"},{"$f":"RIGHT([League-Division],1)","v":"E"},{"$f":"IF([LG]=\"N\",10,20)","v":10},{"$f":"IF([DIV]=\"E\",1,IF([DIV]=\"C\",2,3))","v":1},{"$f":"[LGS]+[DIVS]","v":11}]
[1997,"Fossas, Tony","SLN","St. Louis Cardinals",750000,71,0,51.666666666666664,-21,3.83,1.703225806451613,7.1419354838709683,10.799999999999999,73,89,3.9,4367,1130,1422,6.9864895809480183,8.7918479505381253,1.3450881612090679,"NL-C",{"$f":"LEFT([League-Division],1)","v":"N"},{"$f":"RIGHT([League-Division],1)","v":"C"},{"$f":"IF([LG]=\"N\",10,20)","v":10},{"$f":"IF([DIV]=\"E\",1,IF([DIV]=\"C\",2,3))","v":2},{"$f":"[LGS]+[DIVS]","v":12}]
[1998,"Fossas, Tony","CHN","Chicago Cubs",650000,8,0,4,-2,9,3.5,13.5,18,90,73,4.5,4431,1207,1528,7.3547731888964121,9.3107650643195665,1.4238320920785377,"NL-C",{"$f":"LEFT([League-Division],1)","v":"N"},{"$f":"RIGHT([League-Division],1)","v":"C"},{"$f":"IF([LG]=\"N\",10,20)","v":10},{"$f":"IF([DIV]=\"E\",1,IF([DIV]=\"C\",2,3))","v":2},{"$f":"[LGS]+[DIVS]","v":12}]
[2005,"Fossum, Casey","TBA","Tampa Bay Devil Rays",950000,36,25,162.66666666666666,-42,4.92,1.4139344262295084,7.0819672131147549,9.4057377049180335,67,95,5.39,4265,949,1570,6.0077373974208674,9.9390386869871037,1.5369284876905041,"AL-E",{"$f":"LEFT([League-Division],1)","v":"A"},{"$f":"RIGHT([League-Division],1)","v":"E"},{"$f":"IF([LG]=\"N\",10,20)","v":20},{"$f":"IF([DIV]=\"E\",1,IF([DIV]=\"C\",2,3))","v":1},{"$f":"[LGS]+[DIVS]","v":21}]
[1997,"Foulke, Keith","CHA","Chicago White Sox",150000,16,0,28.666666666666668,-7,3.45,1.1511627906976745,6.5930232558139537,8.7906976744186043,80,81,4.74,4266,961,1505,6.0822784810126578,9.5253164556962027,1.4627285513361463,"AL-C",{"$f":"LEFT([League-Division],1)","v":"A"},{"$f":"RIGHT([League-Division],1)","v":"C"},{"$f":"IF([LG]=\"N\",10,20)","v":20},{"$f":"IF([DIV]=\"E\",1,IF([DIV]=\"C\",2,3))","v":2},{"$f":"[LGS]+[DIVS]","v":22}]
[2004,"Foulke, Keith","BOS","Boston Red Sox",3500000,72,0,83,16,2.17,0.93975903614457834,8.5662650602409638,6.831325301204819,98,64,4.18,4354,1132,1430,7.0197519522278373,8.8677078548461186,1.2932935231970601,"AL-E",{"$f":"LEFT([League-Division],1)","v":"A"},{"$f":"RIGHT([League-Division],1)","v":"E"},{"$f":"IF([LG]=\"N\",10,20)","v":20},{"$f":"IF([DIV]=\"E\",1,IF([DIV]=\"C\",2,3))","v":1},{"$f":"[LGS]+[DIVS]","v":21}]
[2008,"Foulke, Keith","OAK","Oakland Athletics",700000,31,0,31,-5,4.0599999999999996,1.3225806451612903,6.67741935483871,8.129032258064516,75,86,4.01,4305,1061,1364,6.6543554006968648,8.5547038327526135,1.3519163763066202,"AL-W",{"$f":"LEFT([League-Division],1)","v":"A"},{"$f":"RIGHT([League-Division],1)","v":"W"},{"$f":"IF([LG]=\"N\",10,20)","v":20},{"$f":"IF([DIV]=\"E\",1,IF([DIV]=\"C\",2,3))","v":3},{"$f":"[LGS]+[DIVS]","v":23}]
[2006,"Francisco, Frank","TEX","Texas Rangers",331500,8,0,7.333333333333333,-2,4.91,1.3636363636363638,7.3636363636363642,9.8181818181818201,80,82,4.5999999999999996,4294,972,1558,6.1117838844899861,9.7964601769911521,1.4350256171401956,"AL-W",{"$f":"LEFT([League-Division],1)","v":"A"},{"$f":"RIGHT([League-Division],1)","v":"W"},{"$f":"IF([LG]=\"N\",10,20)","v":20},{"$f":"IF([DIV]=\"E\",1,IF([DIV]=\"C\",2,3))","v":3},{"$f":"[LGS]+[DIVS]","v":23}]
[2009,"Francisco, Frank","TEX","Texas Rangers",1615000,51,0,49.333333333333336,17,3.83,1.1148648648648649,10.398648648648647,7.2972972972972965,87,75,4.38,4304,1016,1432,6.3736059479553901,8.9832713754646836,1.3682620817843865,"AL-W",{"$f":"LEFT([League-Division],1)","v":"A"},{"$f":"RIGHT([League-Division],1)","v":"W"},{"$f":"IF([LG]=\"N\",10,20)","v":20},{"$f":"IF([DIV]=\"E\",1,IF([DIV]=\"C\",2,3))","v":3},{"$f":"[LGS]+[DIVS]","v":23}]
[1997,"Franco, John","NYN","New York Mets",3000000,59,0,60,4,2.5499999999999998,1.1499999999999999,7.9499999999999993,7.35,88,74,3.95,4377,982,1452,6.0575736806031522,8.956819739547635,1.3406442769019877,"NL-E",{"$f":"LEFT([League-Division],1)","v":"N"},{"$f":"RIGHT([League-Division],1)","v":"E"},{"$f":"IF([LG]=\"N\",10,20)","v":10},{"$f":"IF([DIV]=\"E\",1,IF([DIV]=\"C\",2,3))","v":1},{"$f":"[LGS]+[DIVS]","v":11}]
[2000,"Franco, John","NYN","New York Mets",3350000,62,0,55.666666666666664,10,3.4,1.2934131736526946,9.0538922155688617,7.4371257485029947,94,68,4.16,4350,1164,1398,7.2248275862068967,8.6772413793103453,1.36,"NL-E",{"$f":"LEFT([League-Division],1)","v":"N"},{"$f":"RIGHT([League-Division],1)","v":"E"},{"$f":"IF([LG]=\"N\",10,20)","v":10},{"$f":"IF([DIV]=\"E\",1,IF([DIV]=\"C\",2,3))","v":1},{"$f":"[LGS]+[DIVS]","v":11}]
[2002,"Franklin, Ryan","SEA","Seattle Mariners",250000,41,12,118.66666666666667,-52,4.0199999999999996,1.1713483146067416,4.929775280898876,8.8735955056179776,93,69,4.07,4336,1063,1422,6.6192343173431736,8.8547047970479706,1.2889760147601477,"AL-W",{"$f":"LEFT([League-Division],1)","v":"A"},{"$f":"RIGHT([League-Division],1)","v":"W"},{"$f":"IF([LG]=\"N\",10,20)","v":20},{"$f":"IF([DIV]=\"E\",1,IF([DIV]=\"C\",2,3))","v":3},{"$f":"[LGS]+[DIVS]","v":23}]
[2010,"Franklin, Ryan","SLN","St. Louis Cardinals",3050000,59,0,65,-15,3.46,1.0307692307692307,5.815384615384616,7.8923076923076927,86,76,3.57,4361,1094,1412,6.7732171520293507,8.7420316441183203,1.2994725980279751,"NL-C",{"$f":"LEFT([League-Division],1)","v":"N"},{"$f":"RIGHT([League-Division],1)","v":"C"},{"$f":"IF([LG]=\"N\",10,20)","v":10},{"$f":"IF([DIV]=\"E\",1,IF([DIV]=\"C\",2,3))","v":2},{"$f":"[LGS]+[DIVS]","v":12}]
[1999,"Frascatore, John","TOR","Toronto Blue Jays",345000,33,0,37,-20,3.41,1.3783783783783783,5.3513513513513518,10.216216216216216,84,78,4.92,4315,1009,1582,6.3135573580533029,9.8989571263035927,1.4996523754345308,"AL-E",{"$f":"LEFT([League-Division],1)","v":"A"},{"$f":"RIGHT([League-Division],1)","v":"E"},{"$f":"IF([LG]=\"N\",10,20)","v":20},{"$f":"IF([DIV]=\"E\",1,IF([DIV]=\"C\",2,3))","v":1},{"$f":"[LGS]+[DIVS]","v":21}]
[2005,"Frasor, Jason","TOR","Toronto Blue Jays",332500,67,0,74.666666666666671,-5,3.25,1.2723214285714284,7.4732142857142847,8.0758928571428559,80,82,4.0599999999999996,4341,958,1475,5.9585348997926744,9.1741534208707662,1.3261921216309607,"AL-E",{"$f":"LEFT([League-Division],1)","v":"A"},{"$f":"RIGHT([League-Division],1)","v":"E"},{"$f":"IF([LG]=\"N\",10,20)","v":20},{"$f":"IF([DIV]=\"E\",1,IF([DIV]=\"C\",2,3))","v":1},{"$f":"[LGS]+[DIVS]","v":21}]
[1996,"Freeman, Marvin","COL","Colorado Rockies",2500000,26,23,129.66666666666666,-80,6.04,1.6041131105398458,4.9280205655526998,10.480719794344473,83,79,5.6,4266,932,1597,5.8987341772151893,10.107594936708862,1.5618846694796062,"NL-W",{"$f":"LEFT([League-Division],1)","v":"N"},{"$f":"RIGHT([League-Division],1)","v":"W"},{"$f":"IF([LG]=\"N\",10,20)","v":10},{"$f":"IF([DIV]=\"E\",1,IF([DIV]=\"C\",2,3))","v":3},{"$f":"[LGS]+[DIVS]","v":13}]
[1995,"Frey, Steve","PHI","Philadelphia Phillies",915000,9,0,10.666666666666666,-1,0.84,0.46875,1.6875,2.53125,69,75,4.21,3870,980,1241,6.8372093023255811,8.6581395348837216,1.3790697674418604,"NL-E",{"$f":"LEFT([League-Division],1)","v":"N"},{"$f":"RIGHT([League-Division],1)","v":"E"},{"$f":"IF([LG]=\"N\",10,20)","v":10},{"$f":"IF([DIV]=\"E\",1,IF([DIV]=\"C\",2,3))","v":1},{"$f":"[LGS]+[DIVS]","v":11}]
[2009,"Fuentes, Brian","LAA","Los Angeles Angels of Anaheim",8500000,65,0,55,-7,3.93,1.4,7.5272727272727264,8.672727272727272,97,65,4.45,4335,1062,1513,6.6145328719723189,9.4235294117647062,1.4089965397923876,"AL-W",{"$f":"LEFT([League-Division],1)","v":"A"},{"$f":"RIGHT([League-Division],1)","v":"W"},{"$f":"IF([LG]=\"N\",10,20)","v":20},{"$f":"IF([DIV]=\"E\",1,IF([DIV]=\"C\",2,3))","v":3},{"$f":"[LGS]+[DIVS]","v":23}]
[2002,"Fultz, Aaron","SFN","San Francisco Giants",300000,43,0,41.333333333333336,-16,4.79,1.596774193548387,6.75,10.233870967741934,95,66,3.54,4312,992,1349,6.2115027829313547,8.4468923933209652,1.3024118738404453,"NL-W",{"$f":"LEFT([League-Division],1)","v":"N"},{"$f":"RIGHT([League-Division],1)","v":"W"},{"$f":"IF([LG]=\"N\",10,20)","v":10},{"$f":"IF([DIV]=\"E\",1,IF([DIV]=\"C\",2,3))","v":3},{"$f":"[LGS]+[DIVS]","v":13}]
[2005,"Fultz, Aaron","PHI","Philadelphia Phillies",550000,62,0,72.333333333333329,7,2.2400000000000002,0.967741935483871,6.7188940092165907,5.8479262672811068,88,74,4.21,4305,1159,1379,7.2689895470383279,8.6487804878048777,1.3003484320557492,"NL-E",{"$f":"LEFT([League-Division],1)","v":"N"},{"$f":"RIGHT([League-Division],1)","v":"E"},{"$f":"IF([LG]=\"N\",10,20)","v":10},{"$f":"IF([DIV]=\"E\",1,IF([DIV]=\"C\",2,3))","v":1},{"$f":"[LGS]+[DIVS]","v":11}]
[1997,"Gaetti, Gary","SLN","St. Louis Cardinals",2100000,1,0,0.33333333333333331,-1,0,3,0,27,73,89,3.9,4367,1130,1422,6.9864895809480183,8.7918479505381253,1.3450881612090679,"NL-C",{"$f":"LEFT([League-Division],1)","v":"N"},{"$f":"RIGHT([League-Division],1)","v":"C"},{"$f":"IF([LG]=\"N\",10,20)","v":10},{"$f":"IF([DIV]=\"E\",1,IF([DIV]=\"C\",2,3))","v":2},{"$f":"[LGS]+[DIVS]","v":12}]
[2004,"Gagne, Eric","LAN","Los Angeles Dodgers",5000000,70,0,82.333333333333329,61,2.19,0.91093117408906887,12.461538461538463,5.7935222672064786,93,69,4.01,4360,1066,1386,6.6013761467889918,8.5830275229357795,1.3121559633027524,"NL-W",{"$f":"LEFT([League-Division],1)","v":"N"},{"$f":"RIGHT([League-Division],1)","v":"W"},{"$f":"IF([LG]=\"N\",10,20)","v":10},{"$f":"IF([DIV]=\"E\",1,IF([DIV]=\"C\",2,3))","v":3},{"$f":"[LGS]+[DIVS]","v":13}]
[2007,"Gagne, Eric","TEX","Texas Rangers",6000000,34,0,33.333333333333336,6,2.16,1.0499999999999998,7.8299999999999992,6.2099999999999991,75,87,4.75,4290,976,1525,6.1426573426573432,9.5979020979020984,1.5335664335664336,"AL-W",{"$f":"LEFT([League-Division],1)","v":"A"},{"$f":"RIGHT([League-Division],1)","v":"W"},{"$f":"IF([LG]=\"N\",10,20)","v":20},{"$f":"IF([DIV]=\"E\",1,IF([DIV]=\"C\",2,3))","v":3},{"$f":"[LGS]+[DIVS]","v":23}]
[2009,"Gallardo, Yovani","MIL","Milwaukee Brewers",414000,30,30,185.66666666666666,54,3.73,1.3141831238779176,9.8886894075403955,7.2710951526032312,80,82,4.84,4305,1104,1498,6.9240418118466902,9.3951219512195117,1.4668989547038327,"NL-C",{"$f":"LEFT([League-Division],1)","v":"N"},{"$f":"RIGHT([League-Division],1)","v":"C"},{"$f":"IF([LG]=\"N\",10,20)","v":10},{"$f":"IF([DIV]=\"E\",1,IF([DIV]=\"C\",2,3))","v":2},{"$f":"[LGS]+[DIVS]","v":12}]
[2010,"Gallardo, Yovani","MIL","Milwaukee Brewers",450000,31,31,185,22,3.84,1.3675675675675676,9.7297297297297298,8.6594594594594607,77,85,4.59,4317,1258,1487,7.8679638637943015,9.3002084781097984,1.4378040305767894,"NL-C",{"$f":"LEFT([League-Division],1)","v":"N"},{"$f":"RIGHT([League-Division],1)","v":"C"},{"$f":"IF([LG]=\"N\",10,20)","v":10},{"$f":"IF([DIV]=\"E\",1,IF([DIV]=\"C\",2,3))","v":2},{"$f":"[LGS]+[DIVS]","v":12}]
[2001,"Garces, Rich","BOS","Boston Red Sox",1375000,62,0,67,-4,3.9,1.1940298507462686,6.8507462686567164,7.388059701492538,82,79,4.1500000000000004,4344,1259,1412,7.8252762430939224,8.7762430939226519,1.350828729281768,"AL-E",{"$f":"LEFT([League-Division],1)","v":"A"},{"$f":"RIGHT([League-Division],1)","v":"E"},{"$f":"IF([LG]=\"N\",10,20)","v":20},{"$f":"IF([DIV]=\"E\",1,IF([DIV]=\"C\",2,3))","v":1},{"$f":"[LGS]+[DIVS]","v":21}]
[2004,"Garcia, Freddy","SEA","Seattle Mariners",6875000,15,15,107,-14,3.2,1.1962616822429906,6.8971962616822431,8.074766355140186,63,99,4.76,4378,1036,1498,6.3892188213796253,9.2384650525354051,1.4205116491548653,"AL-W",{"$f":"LEFT([League-Division],1)","v":"A"},{"$f":"RIGHT([League-Division],1)","v":"W"},{"$f":"IF([LG]=\"N\",10,20)","v":20},{"$f":"IF([DIV]=\"E\",1,IF([DIV]=\"C\",2,3))","v":3},{"$f":"[LGS]+[DIVS]","v":23}]
[2006,"Garcia, Freddy","CHA","Chicago White Sox",9000000,33,33,216.33333333333334,-93,4.53,1.275808936825886,5.6163328197226496,9.4853620955315865,90,72,4.6100000000000003,4347,1012,1534,6.2857142857142856,9.5279503105590067,1.357487922705314,"AL-C",{"$f":"LEFT([League-Division],1)","v":"A"},{"$f":"RIGHT([League-Division],1)","v":"C"},{"$f":"IF([LG]=\"N\",10,20)","v":20},{"$f":"IF([DIV]=\"E\",1,IF([DIV]=\"C\",2,3))","v":2},{"$f":"[LGS]+[DIVS]","v":22}]
[1995,"Gardiner, Mike","DET","Detroit Tigers",165000,9,0,12.333333333333334,-20,14.59,2.3513513513513513,5.1081081081081079,19.702702702702702,60,84,5.49,3825,729,1509,5.145882352941177,10.651764705882353,1.6039215686274511,"AL-E",{"$f":"LEFT([League-Division],1)","v":"A"},{"$f":"RIGHT([League-Division],1)","v":"E"},{"$f":"IF([LG]=\"N\",10,20)","v":20},{"$f":"IF([DIV]=\"E\",1,IF([DIV]=\"C\",2,3))","v":1},{"$f":"[LGS]+[DIVS]","v":21}]
[1999,"Gardner, Mark","SFN","San Francisco Giants",2000000,29,21,139,-56,6.47,1.4316546762589928,5.5683453237410072,9.1942446043165482,86,76,4.71,4368,1076,1486,6.6510989010989015,9.1854395604395602,1.4704670329670331,"NL-W",{"$f":"LEFT([League-Division],1)","v":"N"},{"$f":"RIGHT([League-Division],1)","v":"W"},{"$f":"IF([LG]=\"N\",10,20)","v":10},{"$f":"IF([DIV]=\"E\",1,IF([DIV]=\"C\",2,3))","v":3},{"$f":"[LGS]+[DIVS]","v":13}]
[2002,"Garland, Jon","CHA","Chicago White Sox",275000,33,33,192.66666666666666,-76,4.58,1.4065743944636679,5.2318339100346023,8.7820069204152258,81,81,4.53,4269,945,1422,5.9768095572733664,8.9936753338018267,1.370344342937456,"AL-C",{"$f":"LEFT([League-Division],1)","v":"A"},{"$f":"RIGHT([League-Division],1)","v":"C"},{"$f":"IF([LG]=\"N\",10,20)","v":20},{"$f":"IF([DIV]=\"E\",1,IF([DIV]=\"C\",2,3))","v":2},{"$f":"[LGS]+[DIVS]","v":22}]
[2010,"Garland, Jon","SDN","San Diego Padres",4700000,33,33,200,-40,3.47,1.3149999999999999,6.12,7.92,90,72,3.41,4369,1295,1305,8.0029755092698558,8.0647745479514761,1.2510872053101396,"NL-W",{"$f":"LEFT([League-Division],1)","v":"N"},{"$f":"RIGHT([League-Division],1)","v":"W"},{"$f":"IF([LG]=\"N\",10,20)","v":10},{"$f":"IF([DIV]=\"E\",1,IF([DIV]=\"C\",2,3))","v":3},{"$f":"[LGS]+[DIVS]","v":13}]
[2008,"Garza, Matt","TBA","Tampa Bay Rays",404600,30,30,184.66666666666666,-42,3.7,1.2400722021660651,6.2382671480144412,8.2851985559566792,97,65,3.82,4373,1143,1349,7.0571689915389895,8.3290647152984221,1.2863023096272581,"AL-E",{"$f":"LEFT([League-Division],1)","v":"A"},{"$f":"RIGHT([League-Division],1)","v":"E"},{"$f":"IF([LG]=\"N\",10,20)","v":20},{"$f":"IF([DIV]=\"E\",1,IF([DIV]=\"C\",2,3))","v":1},{"$f":"[LGS]+[DIVS]","v":21}]
[2006,"Geary, Geoff","PHI","Philadelphia Phillies",350000,81,0,91.333333333333329,-43,2.96,1.3467153284671534,5.9124087591240881,10.149635036496351,85,77,4.5999999999999996,4381,1138,1561,7.0134672449212516,9.6204062999315223,1.4195389180552387,"NL-E",{"$f":"LEFT([League-Division],1)","v":"N"},{"$f":"RIGHT([League-Division],1)","v":"E"},{"$f":"IF([LG]=\"N\",10,20)","v":10},{"$f":"IF([DIV]=\"E\",1,IF([DIV]=\"C\",2,3))","v":1},{"$f":"[LGS]+[DIVS]","v":11}]
[2008,"German, Franklyn","TEX","Texas Rangers",390000,17,0,21.666666666666668,-3,2.08,1.4307692307692308,6.2307692307692308,7.4769230769230761,79,83,5.37,4326,963,1647,6.0104022191400839,10.279472954230235,1.5755894590846047,"AL-W",{"$f":"LEFT([League-Division],1)","v":"A"},{"$f":"RIGHT([League-Division],1)","v":"W"},{"$f":"IF([LG]=\"N\",10,20)","v":20},{"$f":"IF([DIV]=\"E\",1,IF([DIV]=\"C\",2,3))","v":3},{"$f":"[LGS]+[DIVS]","v":23}]
[2005,"Ginter, Matt","DET","Detroit Tigers",333000,14,1,35,-34,6.17,1.6571428571428573,3.8571428571428568,12.6,71,91,4.51,4307,907,1504,5.6858602275365673,9.4283724169955878,1.3687021128395633,"AL-C",{"$f":"LEFT([League-Division],1)","v":"A"},{"$f":"RIGHT([League-Division],1)","v":"C"},{"$f":"IF([LG]=\"N\",10,20)","v":20},{"$f":"IF([DIV]=\"E\",1,IF([DIV]=\"C\",2,3))","v":2},{"$f":"[LGS]+[DIVS]","v":22}]
[2000,"Glavine, Tom","ATL","Atlanta Braves",9463237,35,35,241,-70,3.4,1.1908713692946058,5.6763485477178417,8.2904564315352687,95,67,4.05,4320,1093,1428,6.8312499999999998,8.9250000000000007,1.3277777777777777,"NL-E",{"$f":"LEFT([League-Division],1)","v":"N"},{"$f":"RIGHT([League-Division],1)","v":"E"},{"$f":"IF([LG]=\"N\",10,20)","v":10},{"$f":"IF([DIV]=\"E\",1,IF([DIV]=\"C\",2,3))","v":1},{"$f":"[LGS]+[DIVS]","v":11}]
[2007,"Glavine, Tom","NYN","New York Mets",7500000,34,34,200.33333333333334,-130,4.45,1.4126455906821962,3.9983361064891847,9.8386023294509144,88,74,4.26,4357,1134,1415,7.0273123708974063,8.7686481523984394,1.3667661234794584,"NL-E",{"$f":"LEFT([League-Division],1)","v":"N"},{"$f":"RIGHT([League-Division],1)","v":"E"},{"$f":"IF([LG]=\"N\",10,20)","v":10},{"$f":"IF([DIV]=\"E\",1,IF([DIV]=\"C\",2,3))","v":1},{"$f":"[LGS]+[DIVS]","v":11}]
[2001,"Glover, Gary","CHA","Chicago White Sox",200000,46,11,100.33333333333333,-35,4.93,1.2956810631229236,5.6511627906976747,8.7906976744186061,83,79,4.55,4300,921,1465,5.7830232558139532,9.1988372093023258,1.3709302325581396,"AL-C",{"$f":"LEFT([League-Division],1)","v":"A"},{"$f":"RIGHT([League-Division],1)","v":"C"},{"$f":"IF([LG]=\"N\",10,20)","v":20},{"$f":"IF([DIV]=\"E\",1,IF([DIV]=\"C\",2,3))","v":2},{"$f":"[LGS]+[DIVS]","v":22}]
[2008,"Glover, Gary","DET","Detroit Tigers",1075000,18,0,20.333333333333332,-7,4.43,1.278688524590164,6.639344262295082,9.7377049180327884,74,88,4.91,4335,991,1541,6.1723183391003458,9.5979238754325245,1.5121107266435987,"AL-C",{"$f":"LEFT([League-Division],1)","v":"A"},{"$f":"RIGHT([League-Division],1)","v":"C"},{"$f":"IF([LG]=\"N\",10,20)","v":20},{"$f":"IF([DIV]=\"E\",1,IF([DIV]=\"C\",2,3))","v":2},{"$f":"[LGS]+[DIVS]","v":22}]
[2006,"Gobble, Jimmy","KCA","Kansas City Royals",345500,60,6,84,-15,5.14,1.4761904761904763,8.5714285714285712,10.178571428571429,62,100,5.65,4279,904,1648,5.7041364804860955,10.398691283010049,1.6020098153774247,"AL-C",{"$f":"LEFT([League-Division],1)","v":"A"},{"$f":"RIGHT([League-Division],1)","v":"C"},{"$f":"IF([LG]=\"N\",10,20)","v":20},{"$f":"IF([DIV]=\"E\",1,IF([DIV]=\"C\",2,3))","v":2},{"$f":"[LGS]+[DIVS]","v":22}]
[2000,"Gomes, Wayne","PHI","Philadelphia Phillies",390000,65,0,73.666666666666671,-23,4.4000000000000004,1.4524886877828054,5.9864253393665159,8.7963800904977365,65,97,4.7699999999999996,4315,1123,1458,7.0268829663962915,9.1230590961761315,1.4586326767091542,"NL-E",{"$f":"LEFT([League-Division],1)","v":"N"},{"$f":"RIGHT([League-Division],1)","v":"E"},{"$f":"IF([LG]=\"N\",10,20)","v":10},{"$f":"IF([DIV]=\"E\",1,IF([DIV]=\"C\",2,3))","v":1},{"$f":"[LGS]+[DIVS]","v":11}]
[1998,"Gonzalez, Gabe","FLO","Florida Marlins",170000,3,0,1,-1,9,2,0,9,54,108,5.2,4348,1016,1617,6.3091076356945726,10.041168353265869,1.609015639374425,"NL-E",{"$f":"LEFT([League-Division],1)","v":"N"},{"$f":"RIGHT([League-Division],1)","v":"E"},{"$f":"IF([LG]=\"N\",10,20)","v":10},{"$f":"IF([DIV]=\"E\",1,IF([DIV]=\"C\",2,3))","v":1},{"$f":"[LGS]+[DIVS]","v":11}]
[1998,"Gonzalez, Geremi","CHN","Chicago Cubs",210000,20,20,110,-54,5.32,1.5,5.7272727272727275,10.145454545454545,90,73,4.5,4431,1207,1528,7.3547731888964121,9.3107650643195665,1.4238320920785377,"NL-C",{"$f":"LEFT([League-Division],1)","v":"N"},{"$f":"RIGHT([League-Division],1)","v":"C"},{"$f":"IF([LG]=\"N\",10,20)","v":10},{"$f":"IF([DIV]=\"E\",1,IF([DIV]=\"C\",2,3))","v":2},{"$f":"[LGS]+[DIVS]","v":12}]
[1996,"Gooden, Dwight","NYA","New York Yankees",950000,29,29,170.66666666666666,-43,5.01,1.505859375,6.64453125,8.912109375,92,70,4.6500000000000004,4320,1139,1469,7.1187499999999995,9.1812500000000004,1.4437500000000001,"AL-E",{"$f":"LEFT([League-Division],1)","v":"A"},{"$f":"RIGHT([League-Division],1)","v":"E"},{"$f":"IF([LG]=\"N\",10,20)","v":20},{"$f":"IF([DIV]=\"E\",1,IF([DIV]=\"C\",2,3))","v":1},{"$f":"[LGS]+[DIVS]","v":21}]
[1995,"Gordon, Tom","KCA","Kansas City Royals",3300000,31,31,189,-85,4.43,1.5502645502645502,5.666666666666667,9.7142857142857135,70,74,4.49,3864,763,1323,5.3315217391304346,9.2445652173913047,1.4177018633540373,"AL-C",{"$f":"LEFT([League-Division],1)","v":"A"},{"$f":"RIGHT([League-Division],1)","v":"C"},{"$f":"IF([LG]=\"N\",10,20)","v":20},{"$f":"IF([DIV]=\"E\",1,IF([DIV]=\"C\",2,3))","v":2},{"$f":"[LGS]+[DIVS]","v":22}]
[1998,"Gordon, Tom","BOS","Boston Red Sox",3300000,73,0,79.333333333333329,23,2.72,1.0084033613445378,8.8487394957983199,6.2394957983193287,92,70,4.1900000000000004,4308,1025,1406,6.424094707520891,8.8119777158774379,1.3300835654596099,"AL-E",{"$f":"LEFT([League-Division],1)","v":"A"},{"$f":"RIGHT([League-Division],1)","v":"E"},{"$f":"IF([LG]=\"N\",10,20)","v":20},{"$f":"IF([DIV]=\"E\",1,IF([DIV]=\"C\",2,3))","v":1},{"$f":"[LGS]+[DIVS]","v":21}]
[2005,"Gordon, Tom","NYA","New York Yankees",3750000,79,0,80.666666666666671,10,2.57,1.0909090909090908,7.6983471074380159,6.5826446280991737,95,67,4.5199999999999996,4292,985,1495,6.1964119291705497,9.4047064305684991,1.3685927306616961,"AL-E",{"$f":"LEFT([League-Division],1)","v":"A"},{"$f":"RIGHT([League-Division],1)","v":"E"},{"$f":"IF([LG]=\"N\",10,20)","v":20},{"$f":"IF([DIV]=\"E\",1,IF([DIV]=\"C\",2,3))","v":1},{"$f":"[LGS]+[DIVS]","v":21}]
[2008,"Gordon, Tom","PHI","Philadelphia Phillies",5500000,34,0,29.666666666666668,-5,5.16,1.6179775280898876,7.8876404494382015,9.4044943820224702,92,70,3.89,4349,1081,1444,6.7111979765463321,8.9648194987353413,1.3637617843182339,"NL-E",{"$f":"LEFT([League-Division],1)","v":"N"},{"$f":"RIGHT([League-Division],1)","v":"E"},{"$f":"IF([LG]=\"N\",10,20)","v":10},{"$f":"IF([DIV]=\"E\",1,IF([DIV]=\"C\",2,3))","v":1},{"$f":"[LGS]+[DIVS]","v":11}]
[2005,"Grabow, John","PIT","Pittsburgh Pirates",327000,63,0,52,-4,4.8499999999999996,1.3653846153846154,7.2692307692307692,7.9615384615384617,67,95,4.42,4308,958,1456,6.0041782729805018,9.1253481894150426,1.4401114206128134,"NL-C",{"$f":"LEFT([League-Division],1)","v":"N"},{"$f":"RIGHT([League-Division],1)","v":"C"},{"$f":"IF([LG]=\"N\",10,20)","v":10},{"$f":"IF([DIV]=\"E\",1,IF([DIV]=\"C\",2,3))","v":2},{"$f":"[LGS]+[DIVS]","v":12}]
[2002,"Grace, Mark","ARI","Arizona Diamondbacks",3000000,1,0,1,-1,9,1,0,9,98,64,3.92,4340,1303,1361,8.1062211981566819,8.4670506912442391,1.2317972350230415,"NL-W",{"$f":"LEFT([League-Division],1)","v":"N"},{"$f":"RIGHT([League-Division],1)","v":"W"},{"$f":"IF([LG]=\"N\",10,20)","v":10},{"$f":"IF([DIV]=\"E\",1,IF([DIV]=\"C\",2,3))","v":3},{"$f":"[LGS]+[DIVS]","v":13}]
[1997,"Grace, Mike","PHI","Philadelphia Phillies",185000,6,6,39,-6,3.46,1.0769230769230769,6,7.3846153846153841,68,94,4.87,4260,1209,1441,7.6626760563380278,9.133098591549297,1.4485915492957746,"NL-E",{"$f":"LEFT([League-Division],1)","v":"N"},{"$f":"RIGHT([League-Division],1)","v":"E"},{"$f":"IF([LG]=\"N\",10,20)","v":10},{"$f":"IF([DIV]=\"E\",1,IF([DIV]=\"C\",2,3))","v":1},{"$f":"[LGS]+[DIVS]","v":11}]
[1997,"Graves, Danny","CIN","Cincinnati Reds",160000,10,0,14.666666666666666,-19,6.14,2.5227272727272729,4.2954545454545459,15.954545454545455,76,86,4.42,4347,1159,1408,7.1987577639751548,8.7453416149068328,1.3567977915804004,"NL-C",{"$f":"LEFT([League-Division],1)","v":"N"},{"$f":"RIGHT([League-Division],1)","v":"C"},{"$f":"IF([LG]=\"N\",10,20)","v":10},{"$f":"IF([DIV]=\"E\",1,IF([DIV]=\"C\",2,3))","v":2},{"$f":"[LGS]+[DIVS]","v":12}]
[2005,"Graves, Danny","NYN","New York Mets",6250000,20,0,20.333333333333332,-17,5.75,1.819672131147541,5.3114754098360653,12.836065573770492,83,79,3.76,4307,1012,1390,6.3440910146273506,8.7137218481541669,1.3101927095426049,"NL-E",{"$f":"LEFT([League-Division],1)","v":"N"},{"$f":"RIGHT([League-Division],1)","v":"E"},{"$f":"IF([LG]=\"N\",10,20)","v":10},{"$f":"IF([DIV]=\"E\",1,IF([DIV]=\"C\",2,3))","v":1},{"$f":"[LGS]+[DIVS]","v":11}]
[2008,"Green, Sean","SEA","Seattle Mariners",405000,72,0,79,-18,4.67,1.4683544303797469,7.0632911392405058,9.113924050632912,61,101,4.7300000000000004,4306,1016,1544,6.3706456107756617,9.681374825824431,1.5118439386901998,"AL-W",{"$f":"LEFT([League-Division],1)","v":"A"},{"$f":"RIGHT([League-Division],1)","v":"W"},{"$f":"IF([LG]=\"N\",10,20)","v":20},{"$f":"IF([DIV]=\"E\",1,IF([DIV]=\"C\",2,3))","v":3},{"$f":"[LGS]+[DIVS]","v":23}]
[1995,"Greer, Kenny","SFN","San Francisco Giants",109000,8,0,12,-8,5.25,1.6666666666666667,5.25,11.25,67,77,4.8600000000000003,3879,801,1368,5.575406032482598,9.5220417633410683,1.448569218870843,"NL-W",{"$f":"LEFT([League-Division],1)","v":"N"},{"$f":"RIGHT([League-Division],1)","v":"W"},{"$f":"IF([LG]=\"N\",10,20)","v":10},{"$f":"IF([DIV]=\"E\",1,IF([DIV]=\"C\",2,3))","v":3},{"$f":"[LGS]+[DIVS]","v":13}]
[2004,"Gregg, Kevin","ANA","Anaheim Angels",301500,55,0,87.666666666666671,-2,4.21,1.3003802281368821,8.6235741444866925,8.828897338403042,92,70,4.28,4363,1164,1476,7.2033004813201931,9.1340820536328238,1.3600733440293378,"AL-W",{"$f":"LEFT([League-Division],1)","v":"A"},{"$f":"RIGHT([League-Division],1)","v":"W"},{"$f":"IF([LG]=\"N\",10,20)","v":20},{"$f":"IF([DIV]=\"E\",1,IF([DIV]=\"C\",2,3))","v":3},{"$f":"[LGS]+[DIVS]","v":23}]
[2008,"Greinke, Zack","KCA","Kansas City Royals",1400000,32,32,202.33333333333334,-19,3.47,1.2751235584843492,8.140032948929159,8.9851729818780885,75,87,4.5,4337,1085,1473,6.7546691261240488,9.1701637076320033,1.375144108830989,"AL-C",{"$f":"LEFT([League-Division],1)","v":"A"},{"$f":"RIGHT([League-Division],1)","v":"C"},{"$f":"IF([LG]=\"N\",10,20)","v":20},{"$f":"IF([DIV]=\"E\",1,IF([DIV]=\"C\",2,3))","v":2},{"$f":"[LGS]+[DIVS]","v":22}]
[2008,"Grilli, Jason","DET","Detroit Tigers",420000,9,0,13.666666666666666,-2,3.29,1.3902439024390245,6.5853658536585362,7.9024390243902438,74,88,4.91,4335,991,1541,6.1723183391003458,9.5979238754325245,1.5121107266435987,"AL-C",{"$f":"LEFT([League-Division],1)","v":"A"},{"$f":"RIGHT([League-Division],1)","v":"C"},{"$f":"IF([LG]=\"N\",10,20)","v":20},{"$f":"IF([DIV]=\"E\",1,IF([DIV]=\"C\",2,3))","v":2},{"$f":"[LGS]+[DIVS]","v":22}]
[2009,"Grilli, Jason","TEX","Texas Rangers",800000,30,0,26.333333333333332,6,4.78,1.3291139240506329,9.227848101265824,7.1772151898734178,87,75,4.38,4304,1016,1432,6.3736059479553901,8.9832713754646836,1.3682620817843865,"AL-W",{"$f":"LEFT([League-Division],1)","v":"A"},{"$f":"RIGHT([League-Division],1)","v":"W"},{"$f":"IF([LG]=\"N\",10,20)","v":20},{"$f":"IF([DIV]=\"E\",1,IF([DIV]=\"C\",2,3))","v":3},{"$f":"[LGS]+[DIVS]","v":23}]
[2003,"Grimsley, Jason","KCA","Kansas City Royals",2000000,76,0,75,-30,5.16,1.6533333333333333,6.96,10.56,83,79,5.0599999999999996,4316,865,1569,5.4112604263206672,9.8153382761816488,1.4840129749768303,"AL-C",{"$f":"LEFT([League-Division],1)","v":"A"},{"$f":"RIGHT([League-Division],1)","v":"C"},{"$f":"IF([LG]=\"N\",10,20)","v":20},{"$f":"IF([DIV]=\"E\",1,IF([DIV]=\"C\",2,3))","v":2},{"$f":"[LGS]+[DIVS]","v":22}]
[1998,"Groom, Buddy","OAK","Oakland Athletics",595000,75,0,57.333333333333336,-26,4.24,1.4302325581395348,5.6511627906976747,9.7325581395348824,74,88,4.83,4302,922,1555,5.7866108786610875,9.7594142259414216,1.4532775453277544,"AL-W",{"$f":"LEFT([League-Division],1)","v":"A"},{"$f":"RIGHT([League-Division],1)","v":"W"},{"$f":"IF([LG]=\"N\",10,20)","v":20},{"$f":"IF([DIV]=\"E\",1,IF([DIV]=\"C\",2,3))","v":3},{"$f":"[LGS]+[DIVS]","v":23}]
[2001,"Groom, Buddy","BAL","Baltimore Orioles",2000000,70,0,66,-10,3.55,1.106060606060606,7.3636363636363642,8.7272727272727266,63,98,4.67,4297,938,1504,5.8938794507796137,9.4503141726786133,1.4186641843146381,"AL-E",{"$f":"LEFT([League-Division],1)","v":"A"},{"$f":"RIGHT([League-Division],1)","v":"E"},{"$f":"IF([LG]=\"N\",10,20)","v":20},{"$f":"IF([DIV]=\"E\",1,IF([DIV]=\"C\",2,3))","v":1},{"$f":"[LGS]+[DIVS]","v":21}]
[2003,"Gryboski, Kevin","ATL","Atlanta Braves",315000,64,0,44.333333333333336,-12,3.86,1.5112781954887218,6.496240601503759,8.932330827067668,101,61,4.0999999999999996,4369,992,1425,6.1304646372167548,8.8063630121309231,1.3595788509956512,"NL-E",{"$f":"LEFT([League-Division],1)","v":"N"},{"$f":"RIGHT([League-Division],1)","v":"E"},{"$f":"IF([LG]=\"N\",10,20)","v":10},{"$f":"IF([DIV]=\"E\",1,IF([DIV]=\"C\",2,3))","v":1},{"$f":"[LGS]+[DIVS]","v":11}]
[2005,"Gryboski, Kevin","TEX","Texas Rangers",877500,11,0,9.6666666666666661,-15,11.17,2.5862068965517242,1.8620689655172415,15.827586206896553,79,83,4.96,4320,932,1589,5.8250000000000002,9.9312500000000004,1.4659722222222222,"AL-W",{"$f":"LEFT([League-Division],1)","v":"A"},{"$f":"RIGHT([League-Division],1)","v":"W"},{"$f":"IF([LG]=\"N\",10,20)","v":20},{"$f":"IF([DIV]=\"E\",1,IF([DIV]=\"C\",2,3))","v":3},{"$f":"[LGS]+[DIVS]","v":23}]
[2003,"Guardado, Eddie","MIN","Minnesota Twins",2700000,66,0,65.333333333333329,10,2.89,0.97959183673469397,8.2653061224489797,6.887755102040817,90,72,4.41,4385,997,1526,6.1388825541619152,9.3961231470923607,1.319042189281642,"AL-C",{"$f":"LEFT([League-Division],1)","v":"A"},{"$f":"RIGHT([League-Division],1)","v":"C"},{"$f":"IF([LG]=\"N\",10,20)","v":20},{"$f":"IF([DIV]=\"E\",1,IF([DIV]=\"C\",2,3))","v":2},{"$f":"[LGS]+[DIVS]","v":22}]
[2008,"Guardado, Eddie","TEX","Texas Rangers",2000000,55,0,49.333333333333336,-10,3.65,1.1148648648648649,5.1081081081081079,6.9324324324324325,79,83,5.37,4326,963,1647,6.0104022191400839,10.279472954230235,1.5755894590846047,"AL-W",{"$f":"LEFT([League-Division],1)","v":"A"},{"$f":"RIGHT([League-Division],1)","v":"W"},{"$f":"IF([LG]=\"N\",10,20)","v":20},{"$f":"IF([DIV]=\"E\",1,IF([DIV]=\"C\",2,3))","v":3},{"$f":"[LGS]+[DIVS]","v":23}]
[1996,"Gubicza, Mark","KCA","Kansas City Royals",1600000,19,19,119.33333333333333,-77,5.13,1.3910614525139666,4.1480446927374306,9.955307262569832,75,86,4.55,4350,926,1563,5.7475862068965515,9.7013793103448283,1.3951724137931034,"AL-C",{"$f":"LEFT([League-Division],1)","v":"A"},{"$f":"RIGHT([League-Division],1)","v":"C"},{"$f":"IF([LG]=\"N\",10,20)","v":20},{"$f":"IF([DIV]=\"E\",1,IF([DIV]=\"C\",2,3))","v":2},{"$f":"[LGS]+[DIVS]","v":22}]
[2010,"Guerrier, Matt","MIN","Minnesota Twins",3150000,74,0,71,-14,3.17,1.0985915492957747,5.323943661971831,7.0985915492957741,94,68,3.95,4358,1048,1493,6.4928866452501142,9.2498852684717754,1.2914180816888481,"AL-C",{"$f":"LEFT([League-Division],1)","v":"A"},{"$f":"RIGHT([League-Division],1)","v":"C"},{"$f":"IF([LG]=\"N\",10,20)","v":20},{"$f":"IF([DIV]=\"E\",1,IF([DIV]=\"C\",2,3))","v":2},{"$f":"[LGS]+[DIVS]","v":22}]
[2009,"Guthrie, Jeremy","BAL","Baltimore Orioles",650000,33,33,200,-114,5.04,1.42,4.95,10.080000000000002,64,98,5.16,4287,933,1633,5.8761371588523446,10.284814555633311,1.5248425472358293,"AL-E",{"$f":"LEFT([League-Division],1)","v":"A"},{"$f":"RIGHT([League-Division],1)","v":"E"},{"$f":"IF([LG]=\"N\",10,20)","v":20},{"$f":"IF([DIV]=\"E\",1,IF([DIV]=\"C\",2,3))","v":1},{"$f":"[LGS]+[DIVS]","v":21}]
[1995,"Guthrie, Mark","LAN","Los Angeles Dodgers",810000,24,0,19.666666666666668,0,3.66,1.423728813559322,8.6949152542372872,8.6949152542372872,78,66,3.66,3885,1060,1188,7.3667953667953672,8.256370656370656,1.274131274131274,"NL-W",{"$f":"LEFT([League-Division],1)","v":"N"},{"$f":"RIGHT([League-Division],1)","v":"W"},{"$f":"IF([LG]=\"N\",10,20)","v":10},{"$f":"IF([DIV]=\"E\",1,IF([DIV]=\"C\",2,3))","v":3},{"$f":"[LGS]+[DIVS]","v":13}]
[2000,"Guthrie, Mark","TBA","Tampa Bay Devil Rays",1600000,34,0,32,-7,4.5,1.59375,7.3125,9.28125,69,92,4.8600000000000003,4293,955,1553,6.0062893081761004,9.7672955974842761,1.4577218728162125,"AL-E",{"$f":"LEFT([League-Division],1)","v":"A"},{"$f":"RIGHT([League-Division],1)","v":"E"},{"$f":"IF([LG]=\"N\",10,20)","v":20},{"$f":"IF([DIV]=\"E\",1,IF([DIV]=\"C\",2,3))","v":1},{"$f":"[LGS]+[DIVS]","v":21}]
[2002,"Guthrie, Mark","NYN","New York Mets",1800000,68,0,48,9,2.44,1.125,8.25,6.5625,75,86,3.89,4328,1107,1408,6.9059611829944538,8.7837338262476887,1.3523567467652495,"NL-E",{"$f":"LEFT([League-Division],1)","v":"N"},{"$f":"RIGHT([League-Division],1)","v":"E"},{"$f":"IF([LG]=\"N\",10,20)","v":10},{"$f":"IF([DIV]=\"E\",1,IF([DIV]=\"C\",2,3))","v":1},{"$f":"[LGS]+[DIVS]","v":11}]
[1996,"Guzman, Juan","TOR","Toronto Blue Jays",2240000,27,27,187.66666666666666,7,2.93,1.1243339253996447,7.9129662522202491,7.5772646536412083,74,88,4.58,4335,1033,1476,6.4339100346020759,9.1930795847750879,1.4435986159169549,"AL-E",{"$f":"LEFT([League-Division],1)","v":"A"},{"$f":"RIGHT([League-Division],1)","v":"E"},{"$f":"IF([LG]=\"N\",10,20)","v":20},{"$f":"IF([DIV]=\"E\",1,IF([DIV]=\"C\",2,3))","v":1},{"$f":"[LGS]+[DIVS]","v":21}]
[2001,"Hackman, Luther","SLN","St. Louis Cardinals",200000,35,0,35.666666666666664,-4,4.29,1.1775700934579441,6.0560747663551409,7.0654205607476648,93,69,3.93,4306,1083,1389,6.7907570831398045,8.7094751509521604,1.334184858337204,"NL-C",{"$f":"LEFT([League-Division],1)","v":"N"},{"$f":"RIGHT([League-Division],1)","v":"C"},{"$f":"IF([LG]=\"N\",10,20)","v":10},{"$f":"IF([DIV]=\"E\",1,IF([DIV]=\"C\",2,3))","v":2},{"$f":"[LGS]+[DIVS]","v":12}]
[2010,"Haeger, Charlie","LAN","Los Angeles Dodgers",411000,9,6,30,-6,8.4,2.0666666666666669,9,10.799999999999999,80,82,4.01,4325,1274,1323,7.9532947976878612,8.259190751445086,1.2915606936416184,"NL-W",{"$f":"LEFT([League-Division],1)","v":"N"},{"$f":"RIGHT([League-Division],1)","v":"W"},{"$f":"IF([LG]=\"N\",10,20)","v":10},{"$f":"IF([DIV]=\"E\",1,IF([DIV]=\"C\",2,3))","v":3},{"$f":"[LGS]+[DIVS]","v":13}]
[2004,"Halama, John","TBA","Tampa Bay Devil Rays",600000,34,14,118.66666666666667,-75,4.7,1.3567415730337078,4.4747191011235952,10.162921348314606,70,91,4.8099999999999996,4251,923,1459,5.8623853211009171,9.2667607621736057,1.438955539872971,"AL-E",{"$f":"LEFT([League-Division],1)","v":"A"},{"$f":"RIGHT([League-Division],1)","v":"E"},{"$f":"IF([LG]=\"N\",10,20)","v":20},{"$f":"IF([DIV]=\"E\",1,IF([DIV]=\"C\",2,3))","v":1},{"$f":"[LGS]+[DIVS]","v":21}]
[2006,"Halladay, Roy","TOR","Toronto Blue Jays",12750000,32,32,220,-76,3.19,1.1000000000000001,5.3999999999999995,8.5090909090909097,87,75,4.37,4285,1076,1447,6.7799299883313893,9.1176196032672117,1.3659276546091015,"AL-E",{"$f":"LEFT([League-Division],1)","v":"A"},{"$f":"RIGHT([League-Division],1)","v":"E"},{"$f":"IF([LG]=\"N\",10,20)","v":20},{"$f":"IF([DIV]=\"E\",1,IF([DIV]=\"C\",2,3))","v":1},{"$f":"[LGS]+[DIVS]","v":21}]
[2009,"Halladay, Roy","TOR","Toronto Blue Jays",14250000,32,32,239,-26,2.79,1.1255230125523012,7.8326359832635983,8.8117154811715483,75,87,4.47,4353,1181,1509,7.325292901447277,9.3597518952446581,1.4197105444521021,"AL-E",{"$f":"LEFT([League-Division],1)","v":"A"},{"$f":"RIGHT([League-Division],1)","v":"E"},{"$f":"IF([LG]=\"N\",10,20)","v":20},{"$f":"IF([DIV]=\"E\",1,IF([DIV]=\"C\",2,3))","v":1},{"$f":"[LGS]+[DIVS]","v":21}]
[2005,"Halsey, Brad","ARI","Arizona Diamondbacks",317500,28,26,160,-109,4.6100000000000003,1.4375,4.6124999999999998,10.74375,77,85,4.84,4369,1038,1580,6.414740215152209,9.7642481116960411,1.4536507209887848,"NL-W",{"$f":"LEFT([League-Division],1)","v":"N"},{"$f":"RIGHT([League-Division],1)","v":"W"},{"$f":"IF([LG]=\"N\",10,20)","v":10},{"$f":"IF([DIV]=\"E\",1,IF([DIV]=\"C\",2,3))","v":3},{"$f":"[LGS]+[DIVS]","v":13}]
[2000,"Halter, Shane","DET","Detroit Tigers",236000,1,0,0,0,null,null,null,null,79,83,4.71,4329,978,1583,6.0997920997920998,9.873180873180873,1.4407484407484408,"AL-C",{"$f":"LEFT([League-Division],1)","v":"A"},{"$f":"RIGHT([League-Division],1)","v":"C"},{"$f":"IF([LG]=\"N\",10,20)","v":20},{"$f":"IF([DIV]=\"E\",1,IF([DIV]=\"C\",2,3))","v":2},{"$f":"[LGS]+[DIVS]","v":22}]
[1997,"Hamilton, Joey","SDN","San Diego Padres",675000,31,29,192.66666666666666,-75,4.25,1.3910034602076125,5.7923875432525946,9.2958477508650521,76,86,4.99,4350,1059,1581,6.5731034482758623,9.8131034482758626,1.5013793103448276,"NL-W",{"$f":"LEFT([League-Division],1)","v":"N"},{"$f":"RIGHT([League-Division],1)","v":"W"},{"$f":"IF([LG]=\"N\",10,20)","v":10},{"$f":"IF([DIV]=\"E\",1,IF([DIV]=\"C\",2,3))","v":3},{"$f":"[LGS]+[DIVS]","v":13}]
[1995,"Hammond, Chris","FLO","Florida Marlins",1025000,25,24,161,-31,3.8,1.2670807453416149,7.0434782608695654,8.7763975155279503,67,76,4.2699999999999996,3858,994,1299,6.9564541213063764,9.0909797822706064,1.4471228615863141,"NL-E",{"$f":"LEFT([League-Division],1)","v":"N"},{"$f":"RIGHT([League-Division],1)","v":"E"},{"$f":"IF([LG]=\"N\",10,20)","v":10},{"$f":"IF([DIV]=\"E\",1,IF([DIV]=\"C\",2,3))","v":1},{"$f":"[LGS]+[DIVS]","v":11}]
[2002,"Hammond, Chris","ATL","Atlanta Braves",450000,63,0,76,10,0.95,1.1052631578947369,7.4605263157894743,6.2763157894736841,101,59,3.13,4402,1058,1302,6.4893230349840989,7.9859154929577469,1.2648796001817357,"NL-E",{"$f":"LEFT([League-Division],1)","v":"N"},{"$f":"RIGHT([League-Division],1)","v":"E"},{"$f":"IF([LG]=\"N\",10,20)","v":10},{"$f":"IF([DIV]=\"E\",1,IF([DIV]=\"C\",2,3))","v":1},{"$f":"[LGS]+[DIVS]","v":11}]
[1996,"Hampton, Mike","HOU","Houston Astros",275000,27,27,160.33333333333334,-74,3.59,1.3970893970893969,5.6694386694386694,9.8232848232848227,82,80,4.38,4341,1163,1541,7.233586731167934,9.5846579129232907,1.437456807187284,"NL-C",{"$f":"LEFT([League-Division],1)","v":"N"},{"$f":"RIGHT([League-Division],1)","v":"C"},{"$f":"IF([LG]=\"N\",10,20)","v":10},{"$f":"IF([DIV]=\"E\",1,IF([DIV]=\"C\",2,3))","v":2},{"$f":"[LGS]+[DIVS]","v":12}]
[2005,"Hampton, Mike","ATL","Atlanta Braves",15125000,12,12,69.333333333333329,-47,3.5,1.3269230769230771,3.5048076923076925,9.6057692307692299,90,72,3.98,4331,929,1487,5.7915031170630336,9.2701454629415849,1.3902101131378435,"NL-E",{"$f":"LEFT([League-Division],1)","v":"N"},{"$f":"RIGHT([League-Division],1)","v":"E"},{"$f":"IF([LG]=\"N\",10,20)","v":10},{"$f":"IF([DIV]=\"E\",1,IF([DIV]=\"C\",2,3))","v":1},{"$f":"[LGS]+[DIVS]","v":11}]
[2006,"Hamulack, Tim","LAN","Los Angeles Dodgers",327500,33,0,34,-2,6.35,1.7058823529411764,9,9.5294117647058822,88,74,4.2300000000000004,4381,1068,1524,6.582058890664233,9.3923761698242423,1.3805067336224608,"NL-W",{"$f":"LEFT([League-Division],1)","v":"N"},{"$f":"RIGHT([League-Division],1)","v":"W"},{"$f":"IF([LG]=\"N\",10,20)","v":10},{"$f":"IF([DIV]=\"E\",1,IF([DIV]=\"C\",2,3))","v":3},{"$f":"[LGS]+[DIVS]","v":13}]
[1997,"Haney, Chris","KCA","Kansas City Royals",1700000,8,3,24.666666666666668,-13,4.38,1.3783783783783783,5.8378378378378368,10.581081081081081,67,94,4.71,4329,961,1530,5.9937629937629939,9.5426195426195424,1.4282744282744282,"AL-C",{"$f":"LEFT([League-Division],1)","v":"A"},{"$f":"RIGHT([League-Division],1)","v":"C"},{"$f":"IF([LG]=\"N\",10,20)","v":20},{"$f":"IF([DIV]=\"E\",1,IF([DIV]=\"C\",2,3))","v":2},{"$f":"[LGS]+[DIVS]","v":22}]
[1999,"Haney, Chris","CLE","Cleveland Indians",550000,13,4,40.333333333333336,-21,4.6900000000000004,1.4628099173553719,4.9090909090909083,9.5950413223140494,97,65,4.9000000000000004,4350,1120,1503,6.9517241379310342,9.3289655172413788,1.4737931034482759,"AL-C",{"$f":"LEFT([League-Division],1)","v":"A"},{"$f":"RIGHT([League-Division],1)","v":"C"},{"$f":"IF([LG]=\"N\",10,20)","v":20},{"$f":"IF([DIV]=\"E\",1,IF([DIV]=\"C\",2,3))","v":2},{"$f":"[LGS]+[DIVS]","v":22}]
[1996,"Hansell, Greg","MIN","Minnesota Twins",117500,50,0,74.333333333333329,-37,5.69,1.5336322869955159,5.5695067264573996,10.049327354260091,78,84,5.3,4317,959,1561,5.9979152189020155,9.7630298818624048,1.488533703961084,"AL-C",{"$f":"LEFT([League-Division],1)","v":"A"},{"$f":"RIGHT([League-Division],1)","v":"C"},{"$f":"IF([LG]=\"N\",10,20)","v":20},{"$f":"IF([DIV]=\"E\",1,IF([DIV]=\"C\",2,3))","v":2},{"$f":"[LGS]+[DIVS]","v":22}]
[2010,"Happ, J.A.","HOU","Houston Astros",470000,13,13,72,1,3.75,1.3194444444444444,7.625,7.5,76,86,4.09,4318,1210,1446,7.566002779064382,9.0416859657248736,1.3853635942566003,"NL-C",{"$f":"LEFT([League-Division],1)","v":"N"},{"$f":"RIGHT([League-Division],1)","v":"C"},{"$f":"IF([LG]=\"N\",10,20)","v":10},{"$f":"IF([DIV]=\"E\",1,IF([DIV]=\"C\",2,3))","v":2},{"$f":"[LGS]+[DIVS]","v":12}]
[2006,"Harang, Aaron","CIN","Cincinnati Reds",2350000,36,35,234.33333333333334,-26,3.76,1.2716927453769558,8.295874822190612,9.2944523470839258,80,82,4.51,4337,1053,1576,6.5554530781646294,9.8113903620013829,1.4111136730458842,"NL-C",{"$f":"LEFT([League-Division],1)","v":"N"},{"$f":"RIGHT([League-Division],1)","v":"C"},{"$f":"IF([LG]=\"N\",10,20)","v":10},{"$f":"IF([DIV]=\"E\",1,IF([DIV]=\"C\",2,3))","v":2},{"$f":"[LGS]+[DIVS]","v":12}]
[2007,"Harden, Rich","OAK","Oakland Athletics",2250000,7,4,25.666666666666668,9,2.4500000000000002,1.1298701298701299,9.4675324675324681,6.3116883116883118,76,86,4.28,4344,1036,1468,6.4392265193370166,9.124309392265193,1.3798342541436464,"AL-W",{"$f":"LEFT([League-Division],1)","v":"A"},{"$f":"RIGHT([League-Division],1)","v":"W"},{"$f":"IF([LG]=\"N\",10,20)","v":20},{"$f":"IF([DIV]=\"E\",1,IF([DIV]=\"C\",2,3))","v":3},{"$f":"[LGS]+[DIVS]","v":23}]
[2009,"Haren, Danny","ARI","Arizona Diamondbacks",7500000,33,33,229.33333333333334,31,3.14,1.0029069767441861,8.7514534883720927,7.5348837209302317,70,92,4.4400000000000004,4343,1158,1470,7.1991710798986874,9.1388441169698353,1.3780796684319594,"NL-W",{"$f":"LEFT([League-Division],1)","v":"N"},{"$f":"RIGHT([League-Division],1)","v":"W"},{"$f":"IF([LG]=\"N\",10,20)","v":10},{"$f":"IF([DIV]=\"E\",1,IF([DIV]=\"C\",2,3))","v":3},{"$f":"[LGS]+[DIVS]","v":13}]
[2010,"Haren, Danny","ARI","Arizona Diamondbacks",8250000,21,21,141,-20,4.5999999999999996,1.3475177304964538,9,10.276595744680851,65,97,4.8099999999999996,4296,1070,1503,6.7248603351955305,9.4462290502793298,1.4322625698324023,"NL-W",{"$f":"LEFT([League-Division],1)","v":"N"},{"$f":"RIGHT([League-Division],1)","v":"W"},{"$f":"IF([LG]=\"N\",10,20)","v":10},{"$f":"IF([DIV]=\"E\",1,IF([DIV]=\"C\",2,3))","v":3},{"$f":"[LGS]+[DIVS]","v":13}]
[1999,"Harnisch, Pete","CIN","Cincinnati Reds",3000000,33,33,198.33333333333334,-70,3.68,1.2453781512605042,5.4453781512605035,8.6218487394957979,96,67,3.99,4384,1081,1309,6.6576186131386867,8.061815693430658,1.3309762773722629,"NL-C",{"$f":"LEFT([League-Division],1)","v":"N"},{"$f":"RIGHT([League-Division],1)","v":"C"},{"$f":"IF([LG]=\"N\",10,20)","v":10},{"$f":"IF([DIV]=\"E\",1,IF([DIV]=\"C\",2,3))","v":2},{"$f":"[LGS]+[DIVS]","v":12}]
[2001,"Harper, Travis","TBA","Tampa Bay Devil Rays",202000,2,2,7,-13,7.71,2.5714285714285716,2.5714285714285712,19.285714285714285,62,100,4.9400000000000004,4271,1030,1513,6.5113556544134861,9.5647389370170917,1.4624209786935143,"AL-E",{"$f":"LEFT([League-Division],1)","v":"A"},{"$f":"RIGHT([League-Division],1)","v":"E"},{"$f":"IF([LG]=\"N\",10,20)","v":20},{"$f":"IF([DIV]=\"E\",1,IF([DIV]=\"C\",2,3))","v":1},{"$f":"[LGS]+[DIVS]","v":21}]
[1995,"Harris, Greg","MON","Montreal Expos",235000,45,0,48.333333333333336,2,2.61,1.2620689655172412,8.7517241379310349,8.3793103448275854,66,78,4.1100000000000003,3849,950,1286,6.6640685892439597,9.0210444271239272,1.3265783320342945,"NL-E",{"$f":"LEFT([League-Division],1)","v":"N"},{"$f":"RIGHT([League-Division],1)","v":"E"},{"$f":"IF([LG]=\"N\",10,20)","v":10},{"$f":"IF([DIV]=\"E\",1,IF([DIV]=\"C\",2,3))","v":1},{"$f":"[LGS]+[DIVS]","v":11}]
[1996,"Harris, Reggie","BOS","Boston Red Sox",112000,4,0,4.333333333333333,-3,12.46,2.7692307692307696,8.3076923076923084,14.538461538461538,85,77,5,4374,1165,1606,7.1913580246913584,9.913580246913579,1.5967078189300412,"AL-E",{"$f":"LEFT([League-Division],1)","v":"A"},{"$f":"RIGHT([League-Division],1)","v":"E"},{"$f":"IF([LG]=\"N\",10,20)","v":20},{"$f":"IF([DIV]=\"E\",1,IF([DIV]=\"C\",2,3))","v":1},{"$f":"[LGS]+[DIVS]","v":21}]
[1996,"Hartgraves, Dean","HOU","Houston Astros",130000,19,0,19,-2,5.21,1.7894736842105263,7.5789473684210522,8.5263157894736832,82,80,4.38,4341,1163,1541,7.233586731167934,9.5846579129232907,1.437456807187284,"NL-C",{"$f":"LEFT([League-Division],1)","v":"N"},{"$f":"RIGHT([League-Division],1)","v":"C"},{"$f":"IF([LG]=\"N\",10,20)","v":10},{"$f":"IF([DIV]=\"E\",1,IF([DIV]=\"C\",2,3))","v":2},{"$f":"[LGS]+[DIVS]","v":12}]
[2005,"Harville, Chad","BOS","Boston Red Sox",365000,8,0,7,-4,6.43,1.4285714285714286,3.8571428571428568,9,95,67,4.74,4287,959,1550,6.0398880335899232,9.7620713785864233,1.3925822253324003,"AL-E",{"$f":"LEFT([League-Division],1)","v":"A"},{"$f":"RIGHT([League-Division],1)","v":"E"},{"$f":"IF([LG]=\"N\",10,20)","v":20},{"$f":"IF([DIV]=\"E\",1,IF([DIV]=\"C\",2,3))","v":1},{"$f":"[LGS]+[DIVS]","v":21}]
[2004,"Hasegawa, Shigetoshi","SEA","Seattle Mariners",2750000,68,0,68,-21,5.16,1.4411764705882353,6.0882352941176476,8.867647058823529,63,99,4.76,4378,1036,1498,6.3892188213796253,9.2384650525354051,1.4205116491548653,"AL-W",{"$f":"LEFT([League-Division],1)","v":"A"},{"$f":"RIGHT([League-Division],1)","v":"W"},{"$f":"IF([LG]=\"N\",10,20)","v":20},{"$f":"IF([DIV]=\"E\",1,IF([DIV]=\"C\",2,3))","v":3},{"$f":"[LGS]+[DIVS]","v":23}]
[2005,"Hasegawa, Shigetoshi","SEA","Seattle Mariners",3225000,46,0,66.666666666666671,-36,4.1900000000000004,1.23,4.05,8.9099999999999984,69,93,4.49,4283,892,1483,5.6231613355124903,9.348820919915946,1.3861779126780294,"AL-W",{"$f":"LEFT([League-Division],1)","v":"A"},{"$f":"RIGHT([League-Division],1)","v":"W"},{"$f":"IF([LG]=\"N\",10,20)","v":20},{"$f":"IF([DIV]=\"E\",1,IF([DIV]=\"C\",2,3))","v":3},{"$f":"[LGS]+[DIVS]","v":23}]
[2004,"Hawkins, LaTroy","CHN","Chicago Cubs",3000000,77,0,82,-3,2.63,1.0487804878048781,7.5731707317073171,7.9024390243902438,89,73,3.81,4396,1346,1363,8.2670609645131936,8.3714740673339403,1.3020928116469519,"NL-C",{"$f":"LEFT([League-Division],1)","v":"N"},{"$f":"RIGHT([League-Division],1)","v":"C"},{"$f":"IF([LG]=\"N\",10,20)","v":10},{"$f":"IF([DIV]=\"E\",1,IF([DIV]=\"C\",2,3))","v":2},{"$f":"[LGS]+[DIVS]","v":12}]
[2006,"Hawkins, LaTroy","BAL","Baltimore Orioles",4400000,60,0,60.333333333333336,-46,4.4800000000000004,1.4585635359116023,4.027624309392265,10.889502762430938,70,92,5.35,4257,1016,1579,6.4439746300211418,10.014799154334039,1.5447498238195914,"AL-E",{"$f":"LEFT([League-Division],1)","v":"A"},{"$f":"RIGHT([League-Division],1)","v":"E"},{"$f":"IF([LG]=\"N\",10,20)","v":20},{"$f":"IF([DIV]=\"E\",1,IF([DIV]=\"C\",2,3))","v":1},{"$f":"[LGS]+[DIVS]","v":21}]
[1996,"Haynes, Jimmy","BAL","Baltimore Orioles",115000,26,11,89,-57,8.2899999999999991,2.0224719101123596,6.5730337078651688,12.337078651685394,88,74,5.15,4404,1047,1604,6.4189373297002721,9.8337874659400555,1.4993188010899183,"AL-E",{"$f":"LEFT([League-Division],1)","v":"A"},{"$f":"RIGHT([League-Division],1)","v":"E"},{"$f":"IF([LG]=\"N\",10,20)","v":20},{"$f":"IF([DIV]=\"E\",1,IF([DIV]=\"C\",2,3))","v":1},{"$f":"[LGS]+[DIVS]","v":21}]
[2006,"Heilman, Aaron","NYN","New York Mets",359000,74,0,87,0,3.62,1.1609195402298851,7.5517241379310338,7.5517241379310338,97,65,4.1399999999999997,4384,1161,1402,7.1503193430656937,8.6345802919708028,1.3200273722627738,"NL-E",{"$f":"LEFT([League-Division],1)","v":"N"},{"$f":"RIGHT([League-Division],1)","v":"E"},{"$f":"IF([LG]=\"N\",10,20)","v":10},{"$f":"IF([DIV]=\"E\",1,IF([DIV]=\"C\",2,3))","v":1},{"$f":"[LGS]+[DIVS]","v":11}]
[1998,"Helling, Rick","TEX","Texas Rangers",216500,33,33,216.33333333333334,-45,4.41,1.3266563944530045,6.8228043143297379,8.6949152542372872,88,74,5,4293,994,1624,6.2515723270440251,10.213836477987421,1.4975541579315164,"AL-W",{"$f":"LEFT([League-Division],1)","v":"A"},{"$f":"RIGHT([League-Division],1)","v":"W"},{"$f":"IF([LG]=\"N\",10,20)","v":20},{"$f":"IF([DIV]=\"E\",1,IF([DIV]=\"C\",2,3))","v":3},{"$f":"[LGS]+[DIVS]","v":23}]
[2001,"Helling, Rick","TEX","Texas Rangers",4500000,34,34,215.66666666666666,-102,5.17,1.4791344667697064,6.4265842349304485,10.683153013910356,73,89,5.71,4315,951,1670,5.9506373117033604,10.449594438006953,1.5754345307068367,"AL-W",{"$f":"LEFT([League-Division],1)","v":"A"},{"$f":"RIGHT([League-Division],1)","v":"W"},{"$f":"IF([LG]=\"N\",10,20)","v":20},{"$f":"IF([DIV]=\"E\",1,IF([DIV]=\"C\",2,3))","v":3},{"$f":"[LGS]+[DIVS]","v":23}]
[2006,"Hendrickson, Mark","LAN","Los Angeles Dodgers",1950000,18,12,75,-44,4.68,1.6,5.76,11.04,88,74,4.2300000000000004,4381,1068,1524,6.582058890664233,9.3923761698242423,1.3805067336224608,"NL-W",{"$f":"LEFT([League-Division],1)","v":"N"},{"$f":"RIGHT([League-Division],1)","v":"W"},{"$f":"IF([LG]=\"N\",10,20)","v":10},{"$f":"IF([DIV]=\"E\",1,IF([DIV]=\"C\",2,3))","v":3},{"$f":"[LGS]+[DIVS]","v":13}]
[2007,"Hendrickson, Mark","LAN","Los Angeles Dodgers",2925000,39,15,122.66666666666667,-50,5.21,1.3940217391304348,6.75,10.418478260869565,82,80,4.2,4350,1184,1443,7.3489655172413801,8.9565517241379311,1.3524137931034483,"NL-W",{"$f":"LEFT([League-Division],1)","v":"N"},{"$f":"RIGHT([League-Division],1)","v":"W"},{"$f":"IF([LG]=\"N\",10,20)","v":10},{"$f":"IF([DIV]=\"E\",1,IF([DIV]=\"C\",2,3))","v":3},{"$f":"[LGS]+[DIVS]","v":13}]
[1996,"Henneman, Mike","TEX","Texas Rangers",1519681,49,0,42,-7,5.79,1.3809523809523809,7.2857142857142856,8.7857142857142847,90,72,4.66,4347,976,1569,6.0621118012422359,9.7453416149068328,1.484472049689441,"AL-W",{"$f":"LEFT([League-Division],1)","v":"A"},{"$f":"RIGHT([League-Division],1)","v":"W"},{"$f":"IF([LG]=\"N\",10,20)","v":20},{"$f":"IF([DIV]=\"E\",1,IF([DIV]=\"C\",2,3))","v":3},{"$f":"[LGS]+[DIVS]","v":23}]
[1998,"Henriquez, Oscar","FLO","Florida Marlins",170000,15,0,20,-7,8.5500000000000007,1.9,8.5499999999999989,11.700000000000001,54,108,5.2,4348,1016,1617,6.3091076356945726,10.041168353265869,1.609015639374425,"NL-E",{"$f":"LEFT([League-Division],1)","v":"N"},{"$f":"RIGHT([League-Division],1)","v":"E"},{"$f":"IF([LG]=\"N\",10,20)","v":10},{"$f":"IF([DIV]=\"E\",1,IF([DIV]=\"C\",2,3))","v":1},{"$f":"[LGS]+[DIVS]","v":11}]
[1997,"Henry, Doug","SFN","San Francisco Giants",550000,75,0,70.666666666666671,-1,4.71,1.570754716981132,8.7877358490566024,8.915094339622641,90,72,4.41,4338,1044,1494,6.4979253112033195,9.2987551867219924,1.4329183955739973,"NL-W",{"$f":"LEFT([League-Division],1)","v":"N"},{"$f":"RIGHT([League-Division],1)","v":"W"},{"$f":"IF([LG]=\"N\",10,20)","v":10},{"$f":"IF([DIV]=\"E\",1,IF([DIV]=\"C\",2,3))","v":3},{"$f":"[LGS]+[DIVS]","v":13}]
[2010,"Hensley, Clay","FLO","Florida Marlins",425000,68,0,75,23,2.16,1.1066666666666667,9.24,6.4799999999999995,80,82,4.09,4315,1168,1433,7.3084588644264201,8.966628041714948,1.3779837775202781,"NL-E",{"$f":"LEFT([League-Division],1)","v":"N"},{"$f":"RIGHT([League-Division],1)","v":"E"},{"$f":"IF([LG]=\"N\",10,20)","v":10},{"$f":"IF([DIV]=\"E\",1,IF([DIV]=\"C\",2,3))","v":1},{"$f":"[LGS]+[DIVS]","v":11}]
[2001,"Hentgen, Pat","BAL","Baltimore Orioles",4500000,9,9,62.333333333333336,-18,3.47,1.1229946524064172,4.7647058823529411,7.3636363636363633,63,98,4.67,4297,938,1504,5.8938794507796137,9.4503141726786133,1.4186641843146381,"AL-E",{"$f":"LEFT([League-Division],1)","v":"A"},{"$f":"RIGHT([League-Division],1)","v":"E"},{"$f":"IF([LG]=\"N\",10,20)","v":20},{"$f":"IF([DIV]=\"E\",1,IF([DIV]=\"C\",2,3))","v":1},{"$f":"[LGS]+[DIVS]","v":21}]
[2004,"Hentgen, Pat","TOR","Toronto Blue Jays",2200000,18,16,80.333333333333329,-57,6.95,1.6431535269709545,3.6970954356846475,10.08298755186722,67,94,4.91,4263,956,1505,6.0548909218859963,9.5320197044334964,1.4869809992962701,"AL-E",{"$f":"LEFT([League-Division],1)","v":"A"},{"$f":"RIGHT([League-Division],1)","v":"E"},{"$f":"IF([LG]=\"N\",10,20)","v":20},{"$f":"IF([DIV]=\"E\",1,IF([DIV]=\"C\",2,3))","v":1},{"$f":"[LGS]+[DIVS]","v":21}]
[2003,"Heredia, Felix","CIN","Cincinnati Reds",600000,57,0,72,-20,3,1.2361111111111112,5.125,7.625,69,93,5.09,4339,932,1578,5.7994929707305838,9.8193132058077914,1.4989628946761928,"NL-C",{"$f":"LEFT([League-Division],1)","v":"N"},{"$f":"RIGHT([League-Division],1)","v":"C"},{"$f":"IF([LG]=\"N\",10,20)","v":10},{"$f":"IF([DIV]=\"E\",1,IF([DIV]=\"C\",2,3))","v":2},{"$f":"[LGS]+[DIVS]","v":12}]
[2003,"Heredia, Felix","NYA","New York Yankees",600000,12,0,15,-9,1.2,1.2,2.4,7.8000000000000007,101,61,4.0199999999999996,4386,1119,1512,6.888508891928864,9.3077975376196989,1.2906976744186047,"AL-E",{"$f":"LEFT([League-Division],1)","v":"A"},{"$f":"RIGHT([League-Division],1)","v":"E"},{"$f":"IF([LG]=\"N\",10,20)","v":20},{"$f":"IF([DIV]=\"E\",1,IF([DIV]=\"C\",2,3))","v":1},{"$f":"[LGS]+[DIVS]","v":21}]
[1995,"Heredia, Wilson","TEX","Texas Rangers",109000,6,0,12,-3,3.75,2,4.5,6.75,74,70,4.66,3855,838,1385,5.8692607003891055,9.700389105058365,1.4778210116731518,"AL-W",{"$f":"LEFT([League-Division],1)","v":"A"},{"$f":"RIGHT([League-Division],1)","v":"W"},{"$f":"IF([LG]=\"N\",10,20)","v":20},{"$f":"IF([DIV]=\"E\",1,IF([DIV]=\"C\",2,3))","v":3},{"$f":"[LGS]+[DIVS]","v":23}]
[2000,"Herges, Matt","LAN","Los Angeles Dodgers",205000,59,4,110.66666666666667,-25,3.17,1.2650602409638554,6.0993975903614457,8.1325301204819276,86,76,4.0999999999999996,4335,1154,1379,7.1875432525951561,8.5889273356401379,1.3695501730103807,"NL-W",{"$f":"LEFT([League-Division],1)","v":"N"},{"$f":"RIGHT([League-Division],1)","v":"W"},{"$f":"IF([LG]=\"N\",10,20)","v":10},{"$f":"IF([DIV]=\"E\",1,IF([DIV]=\"C\",2,3))","v":3},{"$f":"[LGS]+[DIVS]","v":13}]
[2008,"Herges, Matt","COL","Colorado Rockies",2000000,58,0,64.333333333333329,-33,5.04,1.601036269430052,6.4352331606217623,11.051813471502593,74,88,4.7699999999999996,4338,1041,1547,6.4792531120331951,9.6286307053941904,1.45850622406639,"NL-W",{"$f":"LEFT([League-Division],1)","v":"N"},{"$f":"RIGHT([League-Division],1)","v":"W"},{"$f":"IF([LG]=\"N\",10,20)","v":10},{"$f":"IF([DIV]=\"E\",1,IF([DIV]=\"C\",2,3))","v":3},{"$f":"[LGS]+[DIVS]","v":13}]
[2004,"Hermanson, Dustin","SFN","San Francisco Giants",800000,47,18,131,-30,4.53,1.3587786259541985,7.007633587786259,9.0687022900763345,91,71,4.29,4371,1020,1481,6.300617707618394,9.1482498284145493,1.3925875085792725,"NL-W",{"$f":"LEFT([League-Division],1)","v":"N"},{"$f":"RIGHT([League-Division],1)","v":"W"},{"$f":"IF([LG]=\"N\",10,20)","v":10},{"$f":"IF([DIV]=\"E\",1,IF([DIV]=\"C\",2,3))","v":3},{"$f":"[LGS]+[DIVS]","v":13}]
[2006,"Hernandez, Felix","SEA","Seattle Mariners",340000,31,31,191,-19,4.5199999999999996,1.3350785340314135,8.2931937172774859,9.188481675392671,78,84,4.5999999999999996,4340,1067,1500,6.638018433179723,9.3317972350230391,1.4239631336405529,"AL-W",{"$f":"LEFT([League-Division],1)","v":"A"},{"$f":"RIGHT([League-Division],1)","v":"W"},{"$f":"IF([LG]=\"N\",10,20)","v":20},{"$f":"IF([DIV]=\"E\",1,IF([DIV]=\"C\",2,3))","v":3},{"$f":"[LGS]+[DIVS]","v":23}]
[2009,"Hernandez, Felix","SEA","Seattle Mariners",3800000,34,34,238.66666666666666,17,2.4900000000000002,1.1354748603351956,8.1829608938547498,7.5418994413407825,85,77,3.87,4358,1043,1359,6.4619091326296463,8.4196879302432297,1.3031206975676914,"AL-W",{"$f":"LEFT([League-Division],1)","v":"A"},{"$f":"RIGHT([League-Division],1)","v":"W"},{"$f":"IF([LG]=\"N\",10,20)","v":20},{"$f":"IF([DIV]=\"E\",1,IF([DIV]=\"C\",2,3))","v":3},{"$f":"[LGS]+[DIVS]","v":23}]
[2001,"Hernandez, Livan","SFN","San Francisco Giants",3025000,34,34,226.66666666666666,-128,5.24,1.5485294117647059,5.4794117647058833,10.561764705882354,90,72,4.18,4390,1080,1437,6.642369020501139,8.8380410022779046,1.3776765375854214,"NL-W",{"$f":"LEFT([League-Division],1)","v":"N"},{"$f":"RIGHT([League-Division],1)","v":"W"},{"$f":"IF([LG]=\"N\",10,20)","v":10},{"$f":"IF([DIV]=\"E\",1,IF([DIV]=\"C\",2,3))","v":3},{"$f":"[LGS]+[DIVS]","v":13}]
[2002,"Hernandez, Livan","SFN","San Francisco Giants",3625000,33,33,216,-99,4.38,1.4074074074074074,5.583333333333333,9.7083333333333339,95,66,3.54,4312,992,1349,6.2115027829313547,8.4468923933209652,1.3024118738404453,"NL-W",{"$f":"LEFT([League-Division],1)","v":"N"},{"$f":"RIGHT([League-Division],1)","v":"W"},{"$f":"IF([LG]=\"N\",10,20)","v":10},{"$f":"IF([DIV]=\"E\",1,IF([DIV]=\"C\",2,3))","v":3},{"$f":"[LGS]+[DIVS]","v":13}]
[1998,"Hernandez, Orlando","NYA","New York Yankees",750000,21,21,141,18,3.13,1.1702127659574468,8.3617021276595747,7.212765957446809,114,48,3.82,4369,1080,1357,6.6742961776150151,8.3861295490959034,1.251773861295491,"AL-E",{"$f":"LEFT([League-Division],1)","v":"A"},{"$f":"RIGHT([League-Division],1)","v":"E"},{"$f":"IF([LG]=\"N\",10,20)","v":20},{"$f":"IF([DIV]=\"E\",1,IF([DIV]=\"C\",2,3))","v":1},{"$f":"[LGS]+[DIVS]","v":21}]
[2006,"Hernandez, Orlando","NYN","New York Mets",4625000,20,20,116.66666666666667,9,4.09,1.2342857142857142,8.64,7.9457142857142848,97,65,4.1399999999999997,4384,1161,1402,7.1503193430656937,8.6345802919708028,1.3200273722627738,"NL-E",{"$f":"LEFT([League-Division],1)","v":"N"},{"$f":"RIGHT([League-Division],1)","v":"E"},{"$f":"IF([LG]=\"N\",10,20)","v":10},{"$f":"IF([DIV]=\"E\",1,IF([DIV]=\"C\",2,3))","v":1},{"$f":"[LGS]+[DIVS]","v":11}]
[1995,"Hernandez, Roberto","CHA","Chicago White Sox",1175000,60,0,59.666666666666664,21,3.92,1.5251396648044693,12.670391061452515,9.5027932960893864,68,76,4.8499999999999996,3852,892,1374,6.2523364485981308,9.630841121495326,1.5506230529595015,"AL-C",{"$f":"LEFT([League-Division],1)","v":"A"},{"$f":"RIGHT([League-Division],1)","v":"C"},{"$f":"IF([LG]=\"N\",10,20)","v":20},{"$f":"IF([DIV]=\"E\",1,IF([DIV]=\"C\",2,3))","v":2},{"$f":"[LGS]+[DIVS]","v":22}]
[2003,"Hernandez, Roberto","ATL","Atlanta Braves",600000,66,0,60,-16,4.3499999999999996,1.7333333333333334,6.75,9.1499999999999986,101,61,4.0999999999999996,4369,992,1425,6.1304646372167548,8.8063630121309231,1.3595788509956512,"NL-E",{"$f":"LEFT([League-Division],1)","v":"N"},{"$f":"RIGHT([League-Division],1)","v":"E"},{"$f":"IF([LG]=\"N\",10,20)","v":10},{"$f":"IF([DIV]=\"E\",1,IF([DIV]=\"C\",2,3))","v":1},{"$f":"[LGS]+[DIVS]","v":11}]
[2003,"Hernandez, Runelvys","KCA","Kansas City Royals",305500,16,16,91.666666666666671,-39,4.6100000000000003,1.3527272727272726,4.712727272727272,8.5418181818181811,83,79,5.0599999999999996,4316,865,1569,5.4112604263206672,9.8153382761816488,1.4840129749768303,"AL-C",{"$f":"LEFT([League-Division],1)","v":"A"},{"$f":"RIGHT([League-Division],1)","v":"C"},{"$f":"IF([LG]=\"N\",10,20)","v":20},{"$f":"IF([DIV]=\"E\",1,IF([DIV]=\"C\",2,3))","v":2},{"$f":"[LGS]+[DIVS]","v":22}]
[1996,"Hernandez, Xavier","CIN","Cincinnati Reds",109000,3,0,3.3333333333333335,-5,13.5,3,8.1,21.599999999999998,81,81,4.33,4329,1089,1447,6.7920997920997923,9.0249480249480261,1.4123354123354124,"NL-C",{"$f":"LEFT([League-Division],1)","v":"N"},{"$f":"RIGHT([League-Division],1)","v":"C"},{"$f":"IF([LG]=\"N\",10,20)","v":10},{"$f":"IF([DIV]=\"E\",1,IF([DIV]=\"C\",2,3))","v":2},{"$f":"[LGS]+[DIVS]","v":12}]
[1995,"Hershiser, Orel","CLE","Cleveland Indians",1500000,26,26,167.33333333333334,-40,3.87,1.2071713147410359,5.9701195219123502,8.121513944223107,100,44,3.83,3903,926,1261,6.4058416602613368,8.7232897770945428,1.3112990007686396,"AL-C",{"$f":"LEFT([League-Division],1)","v":"A"},{"$f":"RIGHT([League-Division],1)","v":"C"},{"$f":"IF([LG]=\"N\",10,20)","v":20},{"$f":"IF([DIV]=\"E\",1,IF([DIV]=\"C\",2,3))","v":2},{"$f":"[LGS]+[DIVS]","v":22}]
[1996,"Hershiser, Orel","CLE","Cleveland Indians",1750000,33,33,206,-113,4.24,1.4368932038834952,5.4611650485436893,10.398058252427184,99,62,4.3499999999999996,4356,1033,1530,6.4028925619834718,9.483471074380164,1.3870523415977962,"AL-C",{"$f":"LEFT([League-Division],1)","v":"A"},{"$f":"RIGHT([League-Division],1)","v":"C"},{"$f":"IF([LG]=\"N\",10,20)","v":20},{"$f":"IF([DIV]=\"E\",1,IF([DIV]=\"C\",2,3))","v":2},{"$f":"[LGS]+[DIVS]","v":22}]
[1995,"Hill, Ken","CLE","Cleveland Indians",4525000,12,11,74.666666666666671,-29,3.98,1.4598214285714284,5.7857142857142847,9.28125,100,44,3.83,3903,926,1261,6.4058416602613368,8.7232897770945428,1.3112990007686396,"AL-C",{"$f":"LEFT([League-Division],1)","v":"A"},{"$f":"RIGHT([League-Division],1)","v":"C"},{"$f":"IF([LG]=\"N\",10,20)","v":20},{"$f":"IF([DIV]=\"E\",1,IF([DIV]=\"C\",2,3))","v":2},{"$f":"[LGS]+[DIVS]","v":22}]
[2000,"Hill, Ken","ANA","Anaheim Angels",5600000,16,16,78.666666666666671,-52,6.52,1.9703389830508473,5.7203389830508469,11.669491525423728,82,80,5,4344,846,1534,5.2582872928176796,9.5345303867403324,1.5165745856353592,"AL-W",{"$f":"LEFT([League-Division],1)","v":"A"},{"$f":"RIGHT([League-Division],1)","v":"W"},{"$f":"IF([LG]=\"N\",10,20)","v":20},{"$f":"IF([DIV]=\"E\",1,IF([DIV]=\"C\",2,3))","v":3},{"$f":"[LGS]+[DIVS]","v":23}]
[2008,"Hill, Rich","CHN","Chicago Cubs",445000,5,5,19.666666666666668,2,4.12,1.5762711864406778,6.8644067796610164,5.9491525423728815,97,64,3.87,4352,1264,1329,7.8419117647058814,8.245174632352942,1.2938878676470587,"NL-C",{"$f":"LEFT([League-Division],1)","v":"N"},{"$f":"RIGHT([League-Division],1)","v":"C"},{"$f":"IF([LG]=\"N\",10,20)","v":10},{"$f":"IF([DIV]=\"E\",1,IF([DIV]=\"C\",2,3))","v":2},{"$f":"[LGS]+[DIVS]","v":12}]
[2008,"Hirsh, Jason","COL","Colorado Rockies",396000,4,1,8.6666666666666661,-9,8.31,2.1923076923076925,6.2307692307692317,15.576923076923077,74,88,4.7699999999999996,4338,1041,1547,6.4792531120331951,9.6286307053941904,1.45850622406639,"NL-W",{"$f":"LEFT([League-Division],1)","v":"N"},{"$f":"RIGHT([League-Division],1)","v":"W"},{"$f":"IF([LG]=\"N\",10,20)","v":10},{"$f":"IF([DIV]=\"E\",1,IF([DIV]=\"C\",2,3))","v":3},{"$f":"[LGS]+[DIVS]","v":13}]
[2001,"Hitchcock, Sterling","SDN","San Diego Padres",6000000,3,3,19,-7,3.32,1.3157894736842106,7.1052631578947372,10.421052631578949,79,83,4.5199999999999996,4322,1088,1519,6.7968533086534002,9.4893567792688565,1.3847755668671911,"NL-W",{"$f":"LEFT([League-Division],1)","v":"N"},{"$f":"RIGHT([League-Division],1)","v":"W"},{"$f":"IF([LG]=\"N\",10,20)","v":10},{"$f":"IF([DIV]=\"E\",1,IF([DIV]=\"C\",2,3))","v":3},{"$f":"[LGS]+[DIVS]","v":13}]
[2003,"Hitchcock, Sterling","NYA","New York Yankees",6000000,27,1,49.666666666666664,-21,5.44,1.5100671140939599,6.5234899328859068,10.328859060402685,101,61,4.0199999999999996,4386,1119,1512,6.888508891928864,9.3077975376196989,1.2906976744186047,"AL-E",{"$f":"LEFT([League-Division],1)","v":"A"},{"$f":"RIGHT([League-Division],1)","v":"E"},{"$f":"IF([LG]=\"N\",10,20)","v":20},{"$f":"IF([DIV]=\"E\",1,IF([DIV]=\"C\",2,3))","v":1},{"$f":"[LGS]+[DIVS]","v":21}]
[1998,"Hoffman, Trevor","SDN","San Diego Padres",2925000,66,0,73,45,1.48,0.84931506849315064,10.602739726027398,5.0547945205479454,98,64,3.63,4363,1217,1384,7.5312858125143256,8.5647490258996104,1.2961265184506074,"NL-W",{"$f":"LEFT([League-Division],1)","v":"N"},{"$f":"RIGHT([League-Division],1)","v":"W"},{"$f":"IF([LG]=\"N\",10,20)","v":10},{"$f":"IF([DIV]=\"E\",1,IF([DIV]=\"C\",2,3))","v":3},{"$f":"[LGS]+[DIVS]","v":13}]
[2001,"Hoffman, Trevor","SDN","San Diego Padres",6750000,62,0,60.333333333333336,15,3.43,1.1436464088397789,9.3977900552486169,7.1602209944751376,79,83,4.5199999999999996,4322,1088,1519,6.7968533086534002,9.4893567792688565,1.3847755668671911,"NL-W",{"$f":"LEFT([League-Division],1)","v":"N"},{"$f":"RIGHT([League-Division],1)","v":"W"},{"$f":"IF([LG]=\"N\",10,20)","v":10},{"$f":"IF([DIV]=\"E\",1,IF([DIV]=\"C\",2,3))","v":3},{"$f":"[LGS]+[DIVS]","v":13}]
[2010,"Hoffman, Trevor","MIL","Milwaukee Brewers",7500000,50,0,47.333333333333336,-19,5.89,1.436619718309859,5.7042253521126751,9.316901408450704,77,85,4.59,4317,1258,1487,7.8679638637943015,9.3002084781097984,1.4378040305767894,"NL-C",{"$f":"LEFT([League-Division],1)","v":"N"},{"$f":"RIGHT([League-Division],1)","v":"C"},{"$f":"IF([LG]=\"N\",10,20)","v":10},{"$f":"IF([DIV]=\"E\",1,IF([DIV]=\"C\",2,3))","v":2},{"$f":"[LGS]+[DIVS]","v":12}]
[2000,"Holmes, Darren","SLN","St. Louis Cardinals",1916667,5,0,8.3333333333333339,-7,9.7200000000000006,1.7999999999999998,5.3999999999999995,12.959999999999999,95,67,4.38,4300,1100,1403,6.9069767441860463,8.8095348837209304,1.4016279069767443,"NL-C",{"$f":"LEFT([League-Division],1)","v":"N"},{"$f":"RIGHT([League-Division],1)","v":"C"},{"$f":"IF([LG]=\"N\",10,20)","v":10},{"$f":"IF([DIV]=\"E\",1,IF([DIV]=\"C\",2,3))","v":2},{"$f":"[LGS]+[DIVS]","v":12}]
[2002,"Holmes, Darren","ATL","Atlanta Braves",325000,55,0,54.666666666666664,6,1.81,0.9695121951219513,7.73780487804878,6.75,101,59,3.13,4402,1058,1302,6.4893230349840989,7.9859154929577469,1.2648796001817357,"NL-E",{"$f":"LEFT([League-Division],1)","v":"N"},{"$f":"RIGHT([League-Division],1)","v":"E"},{"$f":"IF([LG]=\"N\",10,20)","v":10},{"$f":"IF([DIV]=\"E\",1,IF([DIV]=\"C\",2,3))","v":1},{"$f":"[LGS]+[DIVS]","v":11}]
[1999,"Holtz, Mike","ANA","Anaheim Angels",290000,28,0,22.333333333333332,-9,8.06,1.8358208955223883,6.8507462686567173,10.477611940298507,70,92,4.79,4293,877,1472,5.515723270440251,9.2578616352201255,1.4647099930118799,"AL-W",{"$f":"LEFT([League-Division],1)","v":"A"},{"$f":"RIGHT([League-Division],1)","v":"W"},{"$f":"IF([LG]=\"N\",10,20)","v":20},{"$f":"IF([DIV]=\"E\",1,IF([DIV]=\"C\",2,3))","v":3},{"$f":"[LGS]+[DIVS]","v":23}]
[1995,"Honeycutt, Rick","OAK","Oakland Athletics",200000,49,0,44.666666666666664,-16,2.42,1.0298507462686568,4.2313432835820901,7.4552238805970159,67,77,4.93,3819,890,1320,6.2922230950510603,9.3322859387274164,1.4736842105263157,"AL-W",{"$f":"LEFT([League-Division],1)","v":"A"},{"$f":"RIGHT([League-Division],1)","v":"W"},{"$f":"IF([LG]=\"N\",10,20)","v":20},{"$f":"IF([DIV]=\"E\",1,IF([DIV]=\"C\",2,3))","v":3},{"$f":"[LGS]+[DIVS]","v":23}]
[1997,"Honeycutt, Rick","SLN","St. Louis Cardinals",500000,2,0,2,-3,13.5,3,9,22.5,73,89,3.9,4367,1130,1422,6.9864895809480183,8.7918479505381253,1.3450881612090679,"NL-C",{"$f":"LEFT([League-Division],1)","v":"N"},{"$f":"RIGHT([League-Division],1)","v":"C"},{"$f":"IF([LG]=\"N\",10,20)","v":10},{"$f":"IF([DIV]=\"E\",1,IF([DIV]=\"C\",2,3))","v":2},{"$f":"[LGS]+[DIVS]","v":12}]
[2009,"Howell, J.P.","TBA","Tampa Bay Rays",433700,69,0,66.666666666666671,32,2.84,1.2,10.664999999999999,6.3449999999999998,84,78,4.3600000000000003,4282,1125,1421,7.0936478281177022,8.9600653900046705,1.3563755254553946,"AL-E",{"$f":"LEFT([League-Division],1)","v":"A"},{"$f":"RIGHT([League-Division],1)","v":"E"},{"$f":"IF([LG]=\"N\",10,20)","v":20},{"$f":"IF([DIV]=\"E\",1,IF([DIV]=\"C\",2,3))","v":1},{"$f":"[LGS]+[DIVS]","v":21}]
[1998,"Howry, Bobby","CHA","Chicago White Sox",170000,44,0,54.333333333333336,14,3.15,1.0306748466257669,8.4478527607361951,6.1288343558282206,80,82,5.24,4315,911,1569,5.7003476245654703,9.817612977983778,1.4940903823870222,"AL-C",{"$f":"LEFT([League-Division],1)","v":"A"},{"$f":"RIGHT([League-Division],1)","v":"C"},{"$f":"IF([LG]=\"N\",10,20)","v":20},{"$f":"IF([DIV]=\"E\",1,IF([DIV]=\"C\",2,3))","v":2},{"$f":"[LGS]+[DIVS]","v":22}]
[2007,"Howry, Bobby","CHN","Chicago Cubs",4500000,78,0,81.333333333333329,-4,3.32,1.168032786885246,7.9672131147540988,8.4098360655737707,85,77,4.04,4340,1211,1340,7.5338709677419349,8.3364055299539164,1.3223502304147465,"NL-C",{"$f":"LEFT([League-Division],1)","v":"N"},{"$f":"RIGHT([League-Division],1)","v":"C"},{"$f":"IF([LG]=\"N\",10,20)","v":10},{"$f":"IF([DIV]=\"E\",1,IF([DIV]=\"C\",2,3))","v":2},{"$f":"[LGS]+[DIVS]","v":12}]
[1997,"Hudek, John","HOU","Houston Astros",412500,40,0,40.666666666666664,-2,5.98,1.7459016393442623,7.9672131147540988,8.4098360655737707,84,78,3.67,4377,1138,1379,7.0198766278272791,8.5065113091158331,1.295407813570939,"NL-C",{"$f":"LEFT([League-Division],1)","v":"N"},{"$f":"RIGHT([League-Division],1)","v":"C"},{"$f":"IF([LG]=\"N\",10,20)","v":10},{"$f":"IF([DIV]=\"E\",1,IF([DIV]=\"C\",2,3))","v":2},{"$f":"[LGS]+[DIVS]","v":12}]
[1999,"Hudek, John","CIN","Cincinnati Reds",800000,2,0,1,-4,27,7,0,36,96,67,3.99,4384,1081,1309,6.6576186131386867,8.061815693430658,1.3309762773722629,"NL-C",{"$f":"LEFT([League-Division],1)","v":"N"},{"$f":"RIGHT([League-Division],1)","v":"C"},{"$f":"IF([LG]=\"N\",10,20)","v":10},{"$f":"IF([DIV]=\"E\",1,IF([DIV]=\"C\",2,3))","v":2},{"$f":"[LGS]+[DIVS]","v":12}]
[2000,"Hudson, Tim","OAK","Oakland Athletics",250000,32,32,202.33333333333334,0,4.1399999999999997,1.2405271828665567,7.5172981878088958,7.5172981878088958,91,70,4.58,4305,963,1535,6.0397212543554009,9.6271777003484331,1.4982578397212543,"AL-W",{"$f":"LEFT([League-Division],1)","v":"A"},{"$f":"RIGHT([League-Division],1)","v":"W"},{"$f":"IF([LG]=\"N\",10,20)","v":20},{"$f":"IF([DIV]=\"E\",1,IF([DIV]=\"C\",2,3))","v":3},{"$f":"[LGS]+[DIVS]","v":23}]
[2007,"Hudson, Tim","ATL","Atlanta Braves",8500000,34,34,224.33333333333334,-89,3.33,1.2213967310549776,5.2956909361069835,8.866270430906388,84,78,4.1100000000000003,4369,1106,1442,6.8349736781872288,8.9114213778896776,1.3588921950102999,"NL-E",{"$f":"LEFT([League-Division],1)","v":"N"},{"$f":"RIGHT([League-Division],1)","v":"E"},{"$f":"IF([LG]=\"N\",10,20)","v":10},{"$f":"IF([DIV]=\"E\",1,IF([DIV]=\"C\",2,3))","v":1},{"$f":"[LGS]+[DIVS]","v":11}]
[2010,"Hudson, Tim","ATL","Atlanta Braves",9000000,34,34,228.66666666666666,-50,2.83,1.1501457725947521,5.4708454810495626,7.4387755102040822,91,71,3.57,4318,1241,1326,7.7598425196850398,8.2913385826771648,1.2721167207040298,"NL-E",{"$f":"LEFT([League-Division],1)","v":"N"},{"$f":"RIGHT([League-Division],1)","v":"E"},{"$f":"IF([LG]=\"N\",10,20)","v":10},{"$f":"IF([DIV]=\"E\",1,IF([DIV]=\"C\",2,3))","v":1},{"$f":"[LGS]+[DIVS]","v":11}]
[2009,"Humber, Philip","MIN","Minnesota Twins",1150000,8,0,9,-8,8,2.8888888888888888,9,17,87,76,4.5,4359,1052,1542,6.5161734342739166,9.5512732278045416,1.381968341362698,"AL-C",{"$f":"LEFT([League-Division],1)","v":"A"},{"$f":"RIGHT([League-Division],1)","v":"C"},{"$f":"IF([LG]=\"N\",10,20)","v":20},{"$f":"IF([DIV]=\"E\",1,IF([DIV]=\"C\",2,3))","v":2},{"$f":"[LGS]+[DIVS]","v":22}]
[1995,"Hurtado, Edwin","TOR","Toronto Blue Jays",109000,14,10,77.666666666666671,-48,5.45,1.5579399141630901,3.8240343347639483,9.3862660944206002,56,88,4.88,3876,894,1336,6.2275541795665639,9.3065015479876152,1.5402476780185759,"AL-E",{"$f":"LEFT([League-Division],1)","v":"A"},{"$f":"RIGHT([League-Division],1)","v":"E"},{"$f":"IF([LG]=\"N\",10,20)","v":20},{"$f":"IF([DIV]=\"E\",1,IF([DIV]=\"C\",2,3))","v":1},{"$f":"[LGS]+[DIVS]","v":21}]
[2010,"Igarashi, Ryota","NYN","New York Mets",1250000,34,0,30.333333333333332,-4,7.12,1.5494505494505495,7.4175824175824179,8.604395604395604,79,83,3.73,4359,1106,1438,6.8506538196834139,8.9070887818306961,1.364762560220234,"NL-E",{"$f":"LEFT([League-Division],1)","v":"N"},{"$f":"RIGHT([League-Division],1)","v":"E"},{"$f":"IF([LG]=\"N\",10,20)","v":10},{"$f":"IF([DIV]=\"E\",1,IF([DIV]=\"C\",2,3))","v":1},{"$f":"[LGS]+[DIVS]","v":11}]
[2000,"Irabu, Hideki","MON","Montreal Expos",4125000,11,11,54.666666666666664,-35,7.24,1.6646341463414636,6.9146341463414638,12.676829268292684,67,95,5.13,4273,1011,1575,6.3882518137140183,9.952024338871988,1.5122864498010766,"NL-E",{"$f":"LEFT([League-Division],1)","v":"N"},{"$f":"RIGHT([League-Division],1)","v":"E"},{"$f":"IF([LG]=\"N\",10,20)","v":10},{"$f":"IF([DIV]=\"E\",1,IF([DIV]=\"C\",2,3))","v":1},{"$f":"[LGS]+[DIVS]","v":11}]
[2002,"Ishii, Kazuhisa","LAN","Los Angeles Dodgers",900000,28,28,154,6,4.2699999999999996,1.5779220779220779,8.3571428571428577,8.0064935064935074,92,70,3.69,4373,1132,1311,6.9892522295906696,8.094443174022409,1.2801280585410473,"NL-W",{"$f":"LEFT([League-Division],1)","v":"N"},{"$f":"RIGHT([League-Division],1)","v":"W"},{"$f":"IF([LG]=\"N\",10,20)","v":10},{"$f":"IF([DIV]=\"E\",1,IF([DIV]=\"C\",2,3))","v":3},{"$f":"[LGS]+[DIVS]","v":13}]
[1999,"Isringhausen, Jason","NYN","New York Mets",475000,13,5,39.333333333333336,-12,6.41,1.6525423728813557,7.0932203389830502,9.8389830508474567,97,66,4.2699999999999996,4369,1172,1372,7.2428473334859236,8.4788281071183338,1.3657587548638133,"NL-E",{"$f":"LEFT([League-Division],1)","v":"N"},{"$f":"RIGHT([League-Division],1)","v":"E"},{"$f":"IF([LG]=\"N\",10,20)","v":10},{"$f":"IF([DIV]=\"E\",1,IF([DIV]=\"C\",2,3))","v":1},{"$f":"[LGS]+[DIVS]","v":11}]
[2007,"Isringhausen, Jason","SLN","St. Louis Cardinals",8750000,63,0,65.333333333333329,12,2.48,1.0714285714285714,7.4387755102040822,5.7857142857142865,78,84,4.6500000000000004,4307,945,1514,5.9240770838170418,9.4910610633851853,1.4091014627350824,"NL-C",{"$f":"LEFT([League-Division],1)","v":"N"},{"$f":"RIGHT([League-Division],1)","v":"C"},{"$f":"IF([LG]=\"N\",10,20)","v":10},{"$f":"IF([DIV]=\"E\",1,IF([DIV]=\"C\",2,3))","v":2},{"$f":"[LGS]+[DIVS]","v":12}]
[1995,"Jackson, Danny","SLN","St. Louis Cardinals",2100000,19,19,100.66666666666667,-68,5.9,1.6688741721854303,4.6490066225165556,10.728476821192052,62,81,4.09,3795,842,1290,5.9905138339920949,9.1778656126482225,1.3715415019762847,"NL-C",{"$f":"LEFT([League-Division],1)","v":"N"},{"$f":"RIGHT([League-Division],1)","v":"C"},{"$f":"IF([LG]=\"N\",10,20)","v":10},{"$f":"IF([DIV]=\"E\",1,IF([DIV]=\"C\",2,3))","v":2},{"$f":"[LGS]+[DIVS]","v":12}]
[2010,"Jackson, Edwin","CHA","Chicago White Sox",4600000,11,11,75,4,3.24,1.2133333333333334,9.24,8.76,88,74,4.09,4339,1149,1471,7.1498041023277255,9.1534915879234848,1.3558423599907814,"AL-C",{"$f":"LEFT([League-Division],1)","v":"A"},{"$f":"RIGHT([League-Division],1)","v":"C"},{"$f":"IF([LG]=\"N\",10,20)","v":20},{"$f":"IF([DIV]=\"E\",1,IF([DIV]=\"C\",2,3))","v":2},{"$f":"[LGS]+[DIVS]","v":22}]
[1996,"Jackson, Mike","SEA","Seattle Mariners",1200000,73,0,72,9,3.63,1.1805555555555556,8.75,7.625,85,76,5.21,4293,1000,1562,6.2893081761006293,9.8238993710691815,1.5143256464011181,"AL-W",{"$f":"LEFT([League-Division],1)","v":"A"},{"$f":"RIGHT([League-Division],1)","v":"W"},{"$f":"IF([LG]=\"N\",10,20)","v":20},{"$f":"IF([DIV]=\"E\",1,IF([DIV]=\"C\",2,3))","v":3},{"$f":"[LGS]+[DIVS]","v":23}]
[1995,"Jacome, Jason","KCA","Kansas City Royals",125000,15,14,84,-62,5.36,1.4523809523809523,4.1785714285714288,10.821428571428571,70,74,4.49,3864,763,1323,5.3315217391304346,9.2445652173913047,1.4177018633540373,"AL-C",{"$f":"LEFT([League-Division],1)","v":"A"},{"$f":"RIGHT([League-Division],1)","v":"C"},{"$f":"IF([LG]=\"N\",10,20)","v":20},{"$f":"IF([DIV]=\"E\",1,IF([DIV]=\"C\",2,3))","v":2},{"$f":"[LGS]+[DIVS]","v":22}]
[2008,"James, Chuck","ATL","Atlanta Braves",427500,7,7,29.666666666666668,-14,9.1,1.8876404494382022,6.6741573033707855,10.921348314606741,72,90,4.47,4322,1076,1439,6.7218880148079592,8.9895881536325764,1.4055992596020359,"NL-E",{"$f":"LEFT([League-Division],1)","v":"N"},{"$f":"RIGHT([League-Division],1)","v":"E"},{"$f":"IF([LG]=\"N\",10,20)","v":10},{"$f":"IF([DIV]=\"E\",1,IF([DIV]=\"C\",2,3))","v":1},{"$f":"[LGS]+[DIVS]","v":11}]
[1997,"James, Mike","ANA","Anaheim Angels",330000,58,0,62.666666666666664,-12,4.3099999999999996,1.5478723404255319,8.1861702127659584,9.9095744680851077,84,78,4.5199999999999996,4362,1050,1506,6.4993122420907845,9.3218707015130686,1.4518569463548832,"AL-W",{"$f":"LEFT([League-Division],1)","v":"A"},{"$f":"RIGHT([League-Division],1)","v":"W"},{"$f":"IF([LG]=\"N\",10,20)","v":20},{"$f":"IF([DIV]=\"E\",1,IF([DIV]=\"C\",2,3))","v":3},{"$f":"[LGS]+[DIVS]","v":23}]
[2010,"Janssen, Casey","TOR","Toronto Blue Jays",700000,56,0,68.666666666666671,-11,3.67,1.3834951456310678,8.257281553398057,9.6990291262135919,85,77,4.2300000000000004,4322,1184,1407,7.3965756594169365,8.789680703378064,1.3507635354002776,"AL-E",{"$f":"LEFT([League-Division],1)","v":"A"},{"$f":"RIGHT([League-Division],1)","v":"E"},{"$f":"IF([LG]=\"N\",10,20)","v":20},{"$f":"IF([DIV]=\"E\",1,IF([DIV]=\"C\",2,3))","v":1},{"$f":"[LGS]+[DIVS]","v":21}]
[2004,"Jarvis, Kevin","COL","Colorado Rockies",4250000,2,0,2,-6,27,5,0,27,68,94,5.54,4306,947,1634,5.9379934974454258,10.245703669298655,1.6240130051091501,"NL-W",{"$f":"LEFT([League-Division],1)","v":"N"},{"$f":"RIGHT([League-Division],1)","v":"W"},{"$f":"IF([LG]=\"N\",10,20)","v":10},{"$f":"IF([DIV]=\"E\",1,IF([DIV]=\"C\",2,3))","v":3},{"$f":"[LGS]+[DIVS]","v":13}]
[2008,"Jenks, Bobby","CHA","Chicago White Sox",550000,57,0,61.666666666666664,-13,2.63,1.1027027027027028,5.5459459459459461,7.4432432432432432,89,74,4.1100000000000003,4373,1147,1471,7.0818659958838319,9.0823233478161445,1.3247198719414588,"AL-C",{"$f":"LEFT([League-Division],1)","v":"A"},{"$f":"RIGHT([League-Division],1)","v":"C"},{"$f":"IF([LG]=\"N\",10,20)","v":20},{"$f":"IF([DIV]=\"E\",1,IF([DIV]=\"C\",2,3))","v":2},{"$f":"[LGS]+[DIVS]","v":22}]
[2006,"Jennings, Jason","COL","Colorado Rockies",4500000,32,32,212,-64,3.78,1.3726415094339623,6.0283018867924527,8.7452830188679247,76,86,4.66,4342,952,1549,5.9198526024873335,9.6321971441731922,1.4523261169967758,"NL-W",{"$f":"LEFT([League-Division],1)","v":"N"},{"$f":"RIGHT([League-Division],1)","v":"W"},{"$f":"IF([LG]=\"N\",10,20)","v":10},{"$f":"IF([DIV]=\"E\",1,IF([DIV]=\"C\",2,3))","v":3},{"$f":"[LGS]+[DIVS]","v":13}]
[2009,"Jennings, Jason","TEX","Texas Rangers",800000,44,0,61,-23,4.13,1.5573770491803278,6.4918032786885247,9.8852459016393457,87,75,4.38,4304,1016,1432,6.3736059479553901,8.9832713754646836,1.3682620817843865,"AL-W",{"$f":"LEFT([League-Division],1)","v":"A"},{"$f":"RIGHT([League-Division],1)","v":"W"},{"$f":"IF([LG]=\"N\",10,20)","v":20},{"$f":"IF([DIV]=\"E\",1,IF([DIV]=\"C\",2,3))","v":3},{"$f":"[LGS]+[DIVS]","v":23}]
[2002,"Jimenez, Jose","COL","Colorado Rockies",1937500,74,0,73.333333333333329,-29,3.56,1.1863636363636365,5.7681818181818185,9.327272727272728,73,89,5.2,4280,920,1554,5.8037383177570092,9.8032710280373827,1.497196261682243,"NL-W",{"$f":"LEFT([League-Division],1)","v":"N"},{"$f":"RIGHT([League-Division],1)","v":"W"},{"$f":"IF([LG]=\"N\",10,20)","v":10},{"$f":"IF([DIV]=\"E\",1,IF([DIV]=\"C\",2,3))","v":3},{"$f":"[LGS]+[DIVS]","v":13}]
[1996,"Johnson, Dane","TOR","Toronto Blue Jays",125000,10,0,9,2,3,1.1111111111111112,7,5,74,88,4.58,4335,1033,1476,6.4339100346020759,9.1930795847750879,1.4435986159169549,"AL-E",{"$f":"LEFT([League-Division],1)","v":"A"},{"$f":"RIGHT([League-Division],1)","v":"E"},{"$f":"IF([LG]=\"N\",10,20)","v":20},{"$f":"IF([DIV]=\"E\",1,IF([DIV]=\"C\",2,3))","v":1},{"$f":"[LGS]+[DIVS]","v":21}]
[1996,"Johns, Doug","OAK","Oakland Athletics",113500,40,23,158,-116,5.98,1.620253164556962,4.0443037974683547,10.651898734177216,78,84,5.2,4368,884,1638,5.4642857142857135,10.125,1.5673076923076923,"AL-W",{"$f":"LEFT([League-Division],1)","v":"A"},{"$f":"RIGHT([League-Division],1)","v":"W"},{"$f":"IF([LG]=\"N\",10,20)","v":20},{"$f":"IF([DIV]=\"E\",1,IF([DIV]=\"C\",2,3))","v":3},{"$f":"[LGS]+[DIVS]","v":23}]
[2002,"Johnson, Jason","BAL","Baltimore Orioles",1800000,22,22,131.33333333333334,-44,4.59,1.3857868020304567,6.6472081218274104,9.662436548223349,67,95,4.46,4352,967,1491,5.9993106617647047,9.2502297794117645,1.40625,"AL-E",{"$f":"LEFT([League-Division],1)","v":"A"},{"$f":"RIGHT([League-Division],1)","v":"E"},{"$f":"IF([LG]=\"N\",10,20)","v":20},{"$f":"IF([DIV]=\"E\",1,IF([DIV]=\"C\",2,3))","v":1},{"$f":"[LGS]+[DIVS]","v":21}]
[1995,"Johnstone, John","FLO","Florida Marlins",116500,4,0,4.666666666666667,-4,3.86,1.9285714285714284,5.7857142857142847,13.5,67,76,4.2699999999999996,3858,994,1299,6.9564541213063764,9.0909797822706064,1.4471228615863141,"NL-E",{"$f":"LEFT([League-Division],1)","v":"N"},{"$f":"RIGHT([League-Division],1)","v":"E"},{"$f":"IF([LG]=\"N\",10,20)","v":10},{"$f":"IF([DIV]=\"E\",1,IF([DIV]=\"C\",2,3))","v":1},{"$f":"[LGS]+[DIVS]","v":11}]
[2000,"Johnstone, John","SFN","San Francisco Giants",1175000,47,0,50,-27,6.3,1.54,6.66,11.52,97,65,4.21,4332,1076,1452,6.7063711911357338,9.0498614958448744,1.4369806094182827,"NL-W",{"$f":"LEFT([League-Division],1)","v":"N"},{"$f":"RIGHT([League-Division],1)","v":"W"},{"$f":"IF([LG]=\"N\",10,20)","v":10},{"$f":"IF([DIV]=\"E\",1,IF([DIV]=\"C\",2,3))","v":3},{"$f":"[LGS]+[DIVS]","v":13}]
[2000,"Johnson, Mark J.","DET","Detroit Tigers",200000,9,3,24,-14,7.5,1.7083333333333333,4.125,9.375,79,83,4.71,4329,978,1583,6.0997920997920998,9.873180873180873,1.4407484407484408,"AL-C",{"$f":"LEFT([League-Division],1)","v":"A"},{"$f":"RIGHT([League-Division],1)","v":"C"},{"$f":"IF([LG]=\"N\",10,20)","v":20},{"$f":"IF([DIV]=\"E\",1,IF([DIV]=\"C\",2,3))","v":2},{"$f":"[LGS]+[DIVS]","v":22}]
[2001,"Johnson, Mike","MON","Montreal Expos",220000,10,0,11.333333333333334,-3,4.76,1.5,7.9411764705882355,10.323529411764705,68,94,4.68,4294,1103,1509,6.9354913833255711,9.4883558453656267,1.4210526315789473,"NL-E",{"$f":"LEFT([League-Division],1)","v":"N"},{"$f":"RIGHT([League-Division],1)","v":"E"},{"$f":"IF([LG]=\"N\",10,20)","v":10},{"$f":"IF([DIV]=\"E\",1,IF([DIV]=\"C\",2,3))","v":1},{"$f":"[LGS]+[DIVS]","v":11}]
[1999,"Johnson, Randy","ARI","Arizona Diamondbacks",9700000,35,35,271.66666666666669,157,2.48,1.0196319018404907,12.05889570552147,6.8576687116564408,100,62,3.77,4401,1198,1387,7.3496932515337416,8.5092024539877293,1.3156100886162236,"NL-W",{"$f":"LEFT([League-Division],1)","v":"N"},{"$f":"RIGHT([League-Division],1)","v":"W"},{"$f":"IF([LG]=\"N\",10,20)","v":10},{"$f":"IF([DIV]=\"E\",1,IF([DIV]=\"C\",2,3))","v":3},{"$f":"[LGS]+[DIVS]","v":13}]
[2008,"Johnson, Randy","ARI","Arizona Diamondbacks",15100546,30,30,184,-11,3.91,1.2391304347826086,8.4619565217391308,9,82,80,3.99,4304,1229,1403,7.7098048327137541,8.8013475836431212,1.2922862453531598,"NL-W",{"$f":"LEFT([League-Division],1)","v":"N"},{"$f":"RIGHT([League-Division],1)","v":"W"},{"$f":"IF([LG]=\"N\",10,20)","v":10},{"$f":"IF([DIV]=\"E\",1,IF([DIV]=\"C\",2,3))","v":3},{"$f":"[LGS]+[DIVS]","v":13}]
[1995,"Jones, Bobby","NYN","New York Mets",220000,30,30,195.66666666666666,-82,4.1900000000000004,1.3390119250425896,5.8415672913117556,9.6132879045996589,69,75,3.88,3873,901,1296,6.2811773818745156,9.0348567002323783,1.3144848954298993,"NL-E",{"$f":"LEFT([League-Division],1)","v":"N"},{"$f":"RIGHT([League-Division],1)","v":"E"},{"$f":"IF([LG]=\"N\",10,20)","v":10},{"$f":"IF([DIV]=\"E\",1,IF([DIV]=\"C\",2,3))","v":1},{"$f":"[LGS]+[DIVS]","v":11}]
[1998,"Jones, Bobby","COL","Colorado Rockies",170000,35,20,141.33333333333334,-44,5.22,1.5495283018867922,6.941037735849056,9.7429245283018862,77,85,5,4297,951,1583,5.9755643472189899,9.9467070048871307,1.497556434721899,"NL-W",{"$f":"LEFT([League-Division],1)","v":"N"},{"$f":"RIGHT([League-Division],1)","v":"W"},{"$f":"IF([LG]=\"N\",10,20)","v":10},{"$f":"IF([DIV]=\"E\",1,IF([DIV]=\"C\",2,3))","v":3},{"$f":"[LGS]+[DIVS]","v":13}]
[1996,"Jones, Doug","ML4","Milwaukee Brewers",825000,24,0,31.666666666666668,3,3.41,1.3894736842105262,9.6631578947368428,8.810526315789474,80,82,5.17,4341,846,1570,5.2619212163096067,9.7650310988251547,1.5238424326192122,"AL-C",{"$f":"LEFT([League-Division],1)","v":"A"},{"$f":"RIGHT([League-Division],1)","v":"C"},{"$f":"IF([LG]=\"N\",10,20)","v":20},{"$f":"IF([DIV]=\"E\",1,IF([DIV]=\"C\",2,3))","v":2},{"$f":"[LGS]+[DIVS]","v":22}]
[1998,"Jones, Doug","CLE","Cleveland Indians",2500000,23,0,31.333333333333332,-6,3.45,1.2765957446808511,8.0425531914893629,9.7659574468085122,89,73,4.45,4380,1037,1552,6.3924657534246574,9.5671232876712331,1.4486301369863013,"AL-C",{"$f":"LEFT([League-Division],1)","v":"A"},{"$f":"RIGHT([League-Division],1)","v":"C"},{"$f":"IF([LG]=\"N\",10,20)","v":20},{"$f":"IF([DIV]=\"E\",1,IF([DIV]=\"C\",2,3))","v":2},{"$f":"[LGS]+[DIVS]","v":22}]
[1999,"Jones, Todd","DET","Detroit Tigers",2500000,65,0,66.333333333333329,0,3.8,1.4924623115577891,8.683417085427136,8.683417085427136,69,92,5.18,4261,976,1528,6.1844637409058913,9.6822342173198788,1.4862708284440274,"AL-C",{"$f":"LEFT([League-Division],1)","v":"A"},{"$f":"RIGHT([League-Division],1)","v":"C"},{"$f":"IF([LG]=\"N\",10,20)","v":20},{"$f":"IF([DIV]=\"E\",1,IF([DIV]=\"C\",2,3))","v":2},{"$f":"[LGS]+[DIVS]","v":22}]
[2001,"Jones, Todd","MIN","Minnesota Twins",3975000,24,0,19.333333333333332,-12,3.26,1.7586206896551726,6.9827586206896548,12.568965517241379,85,77,4.51,4324,965,1494,6.0256706753006473,9.3288621646623504,1.3452821461609621,"AL-C",{"$f":"LEFT([League-Division],1)","v":"A"},{"$f":"RIGHT([League-Division],1)","v":"C"},{"$f":"IF([LG]=\"N\",10,20)","v":20},{"$f":"IF([DIV]=\"E\",1,IF([DIV]=\"C\",2,3))","v":2},{"$f":"[LGS]+[DIVS]","v":22}]
[2006,"Jones, Todd","DET","Detroit Tigers",5792956,62,0,64,-42,3.94,1.265625,3.9375,9.84375,95,67,3.84,4344,1003,1420,6.2341160220994478,8.8259668508287294,1.3183701657458564,"AL-C",{"$f":"LEFT([League-Division],1)","v":"A"},{"$f":"RIGHT([League-Division],1)","v":"C"},{"$f":"IF([LG]=\"N\",10,20)","v":20},{"$f":"IF([DIV]=\"E\",1,IF([DIV]=\"C\",2,3))","v":2},{"$f":"[LGS]+[DIVS]","v":22}]
[2001,"Judd, Mike","TBA","Tampa Bay Devil Rays",208000,8,2,20,-8,4.05,1.45,4.95,8.5499999999999989,62,100,4.9400000000000004,4271,1030,1513,6.5113556544134861,9.5647389370170917,1.4624209786935143,"AL-E",{"$f":"LEFT([League-Division],1)","v":"A"},{"$f":"RIGHT([League-Division],1)","v":"E"},{"$f":"IF([LG]=\"N\",10,20)","v":20},{"$f":"IF([DIV]=\"E\",1,IF([DIV]=\"C\",2,3))","v":1},{"$f":"[LGS]+[DIVS]","v":21}]
[1996,"Juden, Jeff","SFN","San Francisco Giants",119000,36,0,41.666666666666664,-4,4.0999999999999996,1.4160000000000001,7.5600000000000005,8.4240000000000013,68,94,4.72,4326,997,1520,6.222607489597781,9.4868238557558939,1.449375866851595,"NL-W",{"$f":"LEFT([League-Division],1)","v":"N"},{"$f":"RIGHT([League-Division],1)","v":"W"},{"$f":"IF([LG]=\"N\",10,20)","v":10},{"$f":"IF([DIV]=\"E\",1,IF([DIV]=\"C\",2,3))","v":3},{"$f":"[LGS]+[DIVS]","v":13}]
[2003,"Julio, Jorge","BAL","Baltimore Orioles",350000,64,0,61.666666666666664,-8,4.38,1.5243243243243243,7.5891891891891898,8.7567567567567579,71,91,4.76,4349,981,1579,6.0903656012876519,9.8029432053345573,1.4520579443550241,"AL-E",{"$f":"LEFT([League-Division],1)","v":"A"},{"$f":"RIGHT([League-Division],1)","v":"E"},{"$f":"IF([LG]=\"N\",10,20)","v":20},{"$f":"IF([DIV]=\"E\",1,IF([DIV]=\"C\",2,3))","v":1},{"$f":"[LGS]+[DIVS]","v":21}]
[2009,"Julio, Jorge","MIL","Milwaukee Brewers",950000,15,0,17.333333333333332,-2,7.79,1.7307692307692308,6.75,7.7884615384615383,80,82,4.84,4305,1104,1498,6.9240418118466902,9.3951219512195117,1.4668989547038327,"NL-C",{"$f":"LEFT([League-Division],1)","v":"N"},{"$f":"RIGHT([League-Division],1)","v":"C"},{"$f":"IF([LG]=\"N\",10,20)","v":10},{"$f":"IF([DIV]=\"E\",1,IF([DIV]=\"C\",2,3))","v":2},{"$f":"[LGS]+[DIVS]","v":12}]
[2008,"Jurrjens, Jair","ATL","Atlanta Braves",390000,31,31,188.33333333333334,-49,3.68,1.3699115044247787,6.6424778761061942,8.9840707964601769,72,90,4.47,4322,1076,1439,6.7218880148079592,8.9895881536325764,1.4055992596020359,"NL-E",{"$f":"LEFT([League-Division],1)","v":"N"},{"$f":"RIGHT([League-Division],1)","v":"E"},{"$f":"IF([LG]=\"N\",10,20)","v":10},{"$f":"IF([DIV]=\"E\",1,IF([DIV]=\"C\",2,3))","v":1},{"$f":"[LGS]+[DIVS]","v":11}]
[2000,"Kamieniecki, Scott","ATL","Atlanta Braves",1850000,26,0,24.666666666666668,-5,5.47,1.7837837837837838,6.2027027027027026,8.0270270270270263,95,67,4.05,4320,1093,1428,6.8312499999999998,8.9250000000000007,1.3277777777777777,"NL-E",{"$f":"LEFT([League-Division],1)","v":"N"},{"$f":"RIGHT([League-Division],1)","v":"E"},{"$f":"IF([LG]=\"N\",10,20)","v":10},{"$f":"IF([DIV]=\"E\",1,IF([DIV]=\"C\",2,3))","v":1},{"$f":"[LGS]+[DIVS]","v":11}]
[1998,"Karchner, Matt","CHN","Chicago Cubs",300000,29,0,28,-8,5.14,1.5714285714285714,7.0714285714285712,9.6428571428571423,90,73,4.5,4431,1207,1528,7.3547731888964121,9.3107650643195665,1.4238320920785377,"NL-C",{"$f":"LEFT([League-Division],1)","v":"N"},{"$f":"RIGHT([League-Division],1)","v":"C"},{"$f":"IF([LG]=\"N\",10,20)","v":10},{"$f":"IF([DIV]=\"E\",1,IF([DIV]=\"C\",2,3))","v":2},{"$f":"[LGS]+[DIVS]","v":12}]
[1998,"Karl, Scott","MIL","Milwaukee Brewers",800000,33,33,192.33333333333334,-117,4.4000000000000004,1.4818024263431542,4.772963604852686,10.247833622183709,74,88,4.63,4353,1063,1538,6.5933838731909029,9.5396278428669881,1.4390075809786353,"NL-C",{"$f":"LEFT([League-Division],1)","v":"N"},{"$f":"RIGHT([League-Division],1)","v":"C"},{"$f":"IF([LG]=\"N\",10,20)","v":10},{"$f":"IF([DIV]=\"E\",1,IF([DIV]=\"C\",2,3))","v":2},{"$f":"[LGS]+[DIVS]","v":12}]
[2001,"Karsay, Steve","ATL","Atlanta Braves",2700000,43,0,44.666666666666664,-5,3.43,1.3656716417910448,7.8582089552238816,8.8656716417910459,88,74,3.59,4342,1133,1363,7.045370796867803,8.475587286964533,1.2865039152464304,"NL-E",{"$f":"LEFT([League-Division],1)","v":"N"},{"$f":"RIGHT([League-Division],1)","v":"E"},{"$f":"IF([LG]=\"N\",10,20)","v":10},{"$f":"IF([DIV]=\"E\",1,IF([DIV]=\"C\",2,3))","v":1},{"$f":"[LGS]+[DIVS]","v":11}]
[2005,"Karsay, Steve","NYA","New York Yankees",6000000,6,0,6,-5,6,2,7.5,15,95,67,4.5199999999999996,4292,985,1495,6.1964119291705497,9.4047064305684991,1.3685927306616961,"AL-E",{"$f":"LEFT([League-Division],1)","v":"A"},{"$f":"RIGHT([League-Division],1)","v":"E"},{"$f":"IF([LG]=\"N\",10,20)","v":20},{"$f":"IF([DIV]=\"E\",1,IF([DIV]=\"C\",2,3))","v":1},{"$f":"[LGS]+[DIVS]","v":21}]
[2005,"Kazmir, Scott","TBA","Tampa Bay Devil Rays",316000,32,32,186,2,3.77,1.4623655913978495,8.4193548387096762,8.32258064516129,67,95,5.39,4265,949,1570,6.0077373974208674,9.9390386869871037,1.5369284876905041,"AL-E",{"$f":"LEFT([League-Division],1)","v":"A"},{"$f":"RIGHT([League-Division],1)","v":"E"},{"$f":"IF([LG]=\"N\",10,20)","v":20},{"$f":"IF([DIV]=\"E\",1,IF([DIV]=\"C\",2,3))","v":1},{"$f":"[LGS]+[DIVS]","v":21}]
[1998,"Keagle, Greg","DET","Detroit Tigers",200000,9,7,38.666666666666664,-21,5.59,1.7068965517241381,5.818965517241379,10.706896551724139,65,97,4.93,4338,947,1551,5.894190871369295,9.6535269709543563,1.4840940525587829,"AL-C",{"$f":"LEFT([League-Division],1)","v":"A"},{"$f":"RIGHT([League-Division],1)","v":"C"},{"$f":"IF([LG]=\"N\",10,20)","v":20},{"$f":"IF([DIV]=\"E\",1,IF([DIV]=\"C\",2,3))","v":2},{"$f":"[LGS]+[DIVS]","v":22}]
[2009,"Kelley, Shawn","SEA","Seattle Mariners",400000,41,0,46,-4,4.5,1.173913043478261,8.0217391304347814,8.804347826086957,85,77,3.87,4358,1043,1359,6.4619091326296463,8.4196879302432297,1.3031206975676914,"AL-W",{"$f":"LEFT([League-Division],1)","v":"A"},{"$f":"RIGHT([League-Division],1)","v":"W"},{"$f":"IF([LG]=\"N\",10,20)","v":20},{"$f":"IF([DIV]=\"E\",1,IF([DIV]=\"C\",2,3))","v":3},{"$f":"[LGS]+[DIVS]","v":23}]
[2005,"Kennedy, Joe","COL","Colorado Rockies",2200000,16,16,92,-76,7.04,1.8695652173913044,5.0869565217391299,12.521739130434781,67,95,5.13,4256,981,1600,6.2234492481202999,10.150375939849624,1.5535714285714284,"NL-W",{"$f":"LEFT([League-Division],1)","v":"N"},{"$f":"RIGHT([League-Division],1)","v":"W"},{"$f":"IF([LG]=\"N\",10,20)","v":10},{"$f":"IF([DIV]=\"E\",1,IF([DIV]=\"C\",2,3))","v":3},{"$f":"[LGS]+[DIVS]","v":13}]
[2007,"Kennedy, Joe","OAK","Oakland Athletics",2800000,27,16,101,-67,4.37,1.5544554455445545,3.7425742574257423,9.7128712871287135,76,86,4.28,4344,1036,1468,6.4392265193370166,9.124309392265193,1.3798342541436464,"AL-W",{"$f":"LEFT([League-Division],1)","v":"A"},{"$f":"RIGHT([League-Division],1)","v":"W"},{"$f":"IF([LG]=\"N\",10,20)","v":20},{"$f":"IF([DIV]=\"E\",1,IF([DIV]=\"C\",2,3))","v":3},{"$f":"[LGS]+[DIVS]","v":23}]
[2002,"Kent, Steve","TBA","Tampa Bay Devil Rays",200000,34,0,57.333333333333336,-26,5.65,1.8313953488372092,6.4360465116279064,10.517441860465116,55,106,5.29,4321,925,1567,5.7799120573941218,9.791483452904421,1.5183985188613747,"AL-E",{"$f":"LEFT([League-Division],1)","v":"A"},{"$f":"RIGHT([League-Division],1)","v":"E"},{"$f":"IF([LG]=\"N\",10,20)","v":20},{"$f":"IF([DIV]=\"E\",1,IF([DIV]=\"C\",2,3))","v":1},{"$f":"[LGS]+[DIVS]","v":21}]
[1996,"Keyser, Brian","CHA","Chicago White Sox",145000,28,0,59.666666666666664,-59,4.9800000000000004,1.776536312849162,2.8659217877094973,11.765363128491622,85,77,4.53,4383,1039,1529,6.4004106776180691,9.4188911704312126,1.4681724845995894,"AL-C",{"$f":"LEFT([League-Division],1)","v":"A"},{"$f":"RIGHT([League-Division],1)","v":"C"},{"$f":"IF([LG]=\"N\",10,20)","v":20},{"$f":"IF([DIV]=\"E\",1,IF([DIV]=\"C\",2,3))","v":2},{"$f":"[LGS]+[DIVS]","v":22}]
[2004,"Kieschnick, Brooks","MIL","Milwaukee Brewers",380000,32,0,43,-16,3.77,1.3255813953488371,5.8604651162790704,9.2093023255813957,67,94,4.24,4326,1098,1440,6.8529819694868239,8.9875173370318997,1.3287101248266298,"NL-C",{"$f":"LEFT([League-Division],1)","v":"N"},{"$f":"RIGHT([League-Division],1)","v":"C"},{"$f":"IF([LG]=\"N\",10,20)","v":10},{"$f":"IF([DIV]=\"E\",1,IF([DIV]=\"C\",2,3))","v":2},{"$f":"[LGS]+[DIVS]","v":12}]
[2001,"Kile, Darryl","SLN","St. Louis Cardinals",6666667,34,34,227.33333333333334,-49,3.09,1.2888563049853372,7.0865102639296182,9.0263929618768337,93,69,3.93,4306,1083,1389,6.7907570831398045,8.7094751509521604,1.334184858337204,"NL-C",{"$f":"LEFT([League-Division],1)","v":"N"},{"$f":"RIGHT([League-Division],1)","v":"C"},{"$f":"IF([LG]=\"N\",10,20)","v":10},{"$f":"IF([DIV]=\"E\",1,IF([DIV]=\"C\",2,3))","v":2},{"$f":"[LGS]+[DIVS]","v":12}]
[2005,"Kim, Byung-Hyun","COL","Colorado Rockies",6575000,40,22,148,-41,4.8600000000000003,1.5337837837837838,6.993243243243243,9.486486486486486,67,95,5.13,4256,981,1600,6.2234492481202999,10.150375939849624,1.5535714285714284,"NL-W",{"$f":"LEFT([League-Division],1)","v":"N"},{"$f":"RIGHT([League-Division],1)","v":"W"},{"$f":"IF([LG]=\"N\",10,20)","v":10},{"$f":"IF([DIV]=\"E\",1,IF([DIV]=\"C\",2,3))","v":3},{"$f":"[LGS]+[DIVS]","v":13}]
[2006,"Kim, Byung-Hyun","COL","Colorado Rockies",1250000,27,27,155,-50,5.57,1.5483870967741935,7.4903225806451612,10.393548387096773,76,86,4.66,4342,952,1549,5.9198526024873335,9.6321971441731922,1.4523261169967758,"NL-W",{"$f":"LEFT([League-Division],1)","v":"N"},{"$f":"RIGHT([League-Division],1)","v":"W"},{"$f":"IF([LG]=\"N\",10,20)","v":10},{"$f":"IF([DIV]=\"E\",1,IF([DIV]=\"C\",2,3))","v":3},{"$f":"[LGS]+[DIVS]","v":13}]
[1999,"King, Curtis","SLN","St. Louis Cardinals",210000,2,0,1,-2,18,3,9,27,75,86,4.74,4335,1025,1519,6.3840830449826989,9.4608996539792383,1.5128027681660901,"NL-C",{"$f":"LEFT([League-Division],1)","v":"N"},{"$f":"RIGHT([League-Division],1)","v":"C"},{"$f":"IF([LG]=\"N\",10,20)","v":10},{"$f":"IF([DIV]=\"E\",1,IF([DIV]=\"C\",2,3))","v":2},{"$f":"[LGS]+[DIVS]","v":12}]
[2003,"King, Ray","ATL","Atlanta Braves",600000,80,0,59,-3,3.51,1.2372881355932204,6.5593220338983045,7.0169491525423728,101,61,4.0999999999999996,4369,992,1425,6.1304646372167548,8.8063630121309231,1.3595788509956512,"NL-E",{"$f":"LEFT([League-Division],1)","v":"N"},{"$f":"RIGHT([League-Division],1)","v":"E"},{"$f":"IF([LG]=\"N\",10,20)","v":10},{"$f":"IF([DIV]=\"E\",1,IF([DIV]=\"C\",2,3))","v":1},{"$f":"[LGS]+[DIVS]","v":11}]
[2008,"Kinney, Josh","SLN","St. Louis Cardinals",390000,7,0,7,5,0,0.5714285714285714,10.285714285714285,3.8571428571428568,86,76,4.2,4362,957,1517,5.9236588720770289,9.3899587345254467,1.3844566712517195,"NL-C",{"$f":"LEFT([League-Division],1)","v":"N"},{"$f":"RIGHT([League-Division],1)","v":"C"},{"$f":"IF([LG]=\"N\",10,20)","v":10},{"$f":"IF([DIV]=\"E\",1,IF([DIV]=\"C\",2,3))","v":2},{"$f":"[LGS]+[DIVS]","v":12}]
[2000,"Kline, Steve","MON","Montreal Expos",355000,83,0,82.333333333333329,-24,3.5,1.3967611336032388,6.9959514170040489,9.6194331983805679,67,95,5.13,4273,1011,1575,6.3882518137140183,9.952024338871988,1.5122864498010766,"NL-E",{"$f":"LEFT([League-Division],1)","v":"N"},{"$f":"RIGHT([League-Division],1)","v":"E"},{"$f":"IF([LG]=\"N\",10,20)","v":10},{"$f":"IF([DIV]=\"E\",1,IF([DIV]=\"C\",2,3))","v":1},{"$f":"[LGS]+[DIVS]","v":11}]
[2007,"Kline, Steve","SFN","San Francisco Giants",1750000,68,0,46,-41,4.7,1.6521739130434783,3.3260869565217388,11.347826086956522,71,91,4.1900000000000004,4361,1057,1442,6.5441412520064199,8.9277688603531296,1.3999082779179086,"NL-W",{"$f":"LEFT([League-Division],1)","v":"N"},{"$f":"RIGHT([League-Division],1)","v":"W"},{"$f":"IF([LG]=\"N\",10,20)","v":10},{"$f":"IF([DIV]=\"E\",1,IF([DIV]=\"C\",2,3))","v":3},{"$f":"[LGS]+[DIVS]","v":13}]
[2002,"Knotts, Gary","FLO","Florida Marlins",200000,28,0,30.666666666666668,0,4.4000000000000004,1.2065217391304348,6.1630434782608692,6.1630434782608692,79,83,4.3600000000000003,4369,1104,1449,6.8226138704509047,8.9546807049668118,1.4282444495307851,"NL-E",{"$f":"LEFT([League-Division],1)","v":"N"},{"$f":"RIGHT([League-Division],1)","v":"E"},{"$f":"IF([LG]=\"N\",10,20)","v":10},{"$f":"IF([DIV]=\"E\",1,IF([DIV]=\"C\",2,3))","v":1},{"$f":"[LGS]+[DIVS]","v":11}]
[2003,"Koch, Billy","CHA","Chicago White Sox",4250000,55,0,53,-17,5.77,1.6415094339622642,7.1320754716981138,10.018867924528301,86,76,4.17,4293,1056,1364,6.6415094339622645,8.5786163522012586,1.3151642208245982,"AL-C",{"$f":"LEFT([League-Division],1)","v":"A"},{"$f":"RIGHT([League-Division],1)","v":"C"},{"$f":"IF([LG]=\"N\",10,20)","v":20},{"$f":"IF([DIV]=\"E\",1,IF([DIV]=\"C\",2,3))","v":2},{"$f":"[LGS]+[DIVS]","v":22}]
[2004,"Koch, Billy","FLO","Florida Marlins",6375000,23,0,25.666666666666668,4,3.51,1.5974025974025974,8.7662337662337659,7.3636363636363633,83,79,4.0999999999999996,4317,1116,1395,6.9798471160528148,8.724808895066019,1.3259207783182765,"NL-E",{"$f":"LEFT([League-Division],1)","v":"N"},{"$f":"RIGHT([League-Division],1)","v":"E"},{"$f":"IF([LG]=\"N\",10,20)","v":10},{"$f":"IF([DIV]=\"E\",1,IF([DIV]=\"C\",2,3))","v":1},{"$f":"[LGS]+[DIVS]","v":11}]
[2002,"Komiyama, Satoru","NYN","New York Mets",500000,25,0,43.333333333333336,-20,5.61,1.5,6.8538461538461535,11.007692307692306,75,86,3.89,4328,1107,1408,6.9059611829944538,8.7837338262476887,1.3523567467652495,"NL-E",{"$f":"LEFT([League-Division],1)","v":"N"},{"$f":"RIGHT([League-Division],1)","v":"E"},{"$f":"IF([LG]=\"N\",10,20)","v":10},{"$f":"IF([DIV]=\"E\",1,IF([DIV]=\"C\",2,3))","v":1},{"$f":"[LGS]+[DIVS]","v":11}]
[2004,"Koplove, Mike","ARI","Arizona Diamondbacks",330000,76,0,86.666666666666671,-31,4.05,1.4192307692307691,5.7115384615384617,8.9307692307692292,51,111,4.9800000000000004,4308,1153,1480,7.2263231197771587,9.2757660167130922,1.4958217270194987,"NL-W",{"$f":"LEFT([League-Division],1)","v":"N"},{"$f":"RIGHT([League-Division],1)","v":"W"},{"$f":"IF([LG]=\"N\",10,20)","v":10},{"$f":"IF([DIV]=\"E\",1,IF([DIV]=\"C\",2,3))","v":3},{"$f":"[LGS]+[DIVS]","v":13}]
[1998,"Kroon, Marc","CIN","Cincinnati Reds",176000,4,0,5.333333333333333,-3,13.5,2.8125,6.75,11.8125,77,85,4.4400000000000004,4323,1098,1400,6.8577376821651637,8.7439278278972932,1.3691880638445524,"NL-C",{"$f":"LEFT([League-Division],1)","v":"N"},{"$f":"RIGHT([League-Division],1)","v":"C"},{"$f":"IF([LG]=\"N\",10,20)","v":10},{"$f":"IF([DIV]=\"E\",1,IF([DIV]=\"C\",2,3))","v":2},{"$f":"[LGS]+[DIVS]","v":12}]
[2009,"Kuroda, Hiroki","LAN","Los Angeles Dodgers",12433333,21,20,117.33333333333333,-23,3.76,1.1420454545454546,6.6732954545454541,8.4375,95,67,3.41,4420,1272,1265,7.7701357466063357,7.7273755656108598,1.2549773755656108,"NL-W",{"$f":"LEFT([League-Division],1)","v":"N"},{"$f":"RIGHT([League-Division],1)","v":"W"},{"$f":"IF([LG]=\"N\",10,20)","v":10},{"$f":"IF([DIV]=\"E\",1,IF([DIV]=\"C\",2,3))","v":3},{"$f":"[LGS]+[DIVS]","v":13}]
[2008,"Lackey, John","LAA","Los Angeles Angels of Anaheim",7333333,24,24,163.33333333333334,-31,3.75,1.2306122448979591,7.1632653061224492,8.8714285714285701,100,62,4,4354,1106,1455,6.8585209003215439,9.0227377124483237,1.3174092788240699,"AL-W",{"$f":"LEFT([League-Division],1)","v":"A"},{"$f":"RIGHT([League-Division],1)","v":"W"},{"$f":"IF([LG]=\"N\",10,20)","v":20},{"$f":"IF([DIV]=\"E\",1,IF([DIV]=\"C\",2,3))","v":3},{"$f":"[LGS]+[DIVS]","v":23}]
[1996,"Lacy, Kerry","BOS","Boston Red Sox",109000,11,0,10.666666666666666,-6,3.38,2.15625,7.59375,12.65625,85,77,5,4374,1165,1606,7.1913580246913584,9.913580246913579,1.5967078189300412,"AL-E",{"$f":"LEFT([League-Division],1)","v":"A"},{"$f":"RIGHT([League-Division],1)","v":"E"},{"$f":"IF([LG]=\"N\",10,20)","v":20},{"$f":"IF([DIV]=\"E\",1,IF([DIV]=\"C\",2,3))","v":1},{"$f":"[LGS]+[DIVS]","v":21}]
[2009,"Lannan, John","WAS","Washington Nationals",424000,33,33,206.33333333333334,-121,3.88,1.3473344103392568,3.8820678513731828,9.1599353796445886,59,103,5.0199999999999996,4273,911,1533,5.7563772525157972,9.6866370231687338,1.5179031125672831,"NL-E",{"$f":"LEFT([League-Division],1)","v":"N"},{"$f":"RIGHT([League-Division],1)","v":"E"},{"$f":"IF([LG]=\"N\",10,20)","v":10},{"$f":"IF([DIV]=\"E\",1,IF([DIV]=\"C\",2,3))","v":1},{"$f":"[LGS]+[DIVS]","v":11}]
[2010,"Lannan, John","WAS","Washington Nationals",458000,25,25,143.33333333333334,-104,4.6500000000000004,1.5627906976744186,4.4581395348837205,10.988372093023255,69,93,4.13,4305,1068,1469,6.6982578397212542,9.2132404181184668,1.3804878048780487,"NL-E",{"$f":"LEFT([League-Division],1)","v":"N"},{"$f":"RIGHT([League-Division],1)","v":"E"},{"$f":"IF([LG]=\"N\",10,20)","v":10},{"$f":"IF([DIV]=\"E\",1,IF([DIV]=\"C\",2,3))","v":1},{"$f":"[LGS]+[DIVS]","v":11}]
[2009,"League, Brandon","TOR","Toronto Blue Jays",640000,67,0,74.666666666666671,4,4.58,1.2455357142857142,9.1607142857142847,8.678571428571427,75,87,4.47,4353,1181,1509,7.325292901447277,9.3597518952446581,1.4197105444521021,"AL-E",{"$f":"LEFT([League-Division],1)","v":"A"},{"$f":"RIGHT([League-Division],1)","v":"E"},{"$f":"IF([LG]=\"N\",10,20)","v":20},{"$f":"IF([DIV]=\"E\",1,IF([DIV]=\"C\",2,3))","v":1},{"$f":"[LGS]+[DIVS]","v":21}]
[2008,"Ledezma, Wilfredo","SDN","San Diego Padres",620000,25,6,54.333333333333336,0,4.47,1.6012269938650305,8.1165644171779139,8.1165644171779139,63,99,4.41,4375,1100,1466,6.7885714285714291,9.0473142857142861,1.3899428571428571,"NL-W",{"$f":"LEFT([League-Division],1)","v":"N"},{"$f":"RIGHT([League-Division],1)","v":"W"},{"$f":"IF([LG]=\"N\",10,20)","v":10},{"$f":"IF([DIV]=\"E\",1,IF([DIV]=\"C\",2,3))","v":3},{"$f":"[LGS]+[DIVS]","v":13}]
[2003,"Lee, Cliff","CLE","Cleveland Indians",300900,9,9,52.333333333333336,3,3.61,1.1656050955414012,7.566878980891719,7.050955414012738,68,94,4.21,4378,943,1477,5.815669255367748,9.1089538602101428,1.3554134307903152,"AL-C",{"$f":"LEFT([League-Division],1)","v":"A"},{"$f":"RIGHT([League-Division],1)","v":"C"},{"$f":"IF([LG]=\"N\",10,20)","v":20},{"$f":"IF([DIV]=\"E\",1,IF([DIV]=\"C\",2,3))","v":2},{"$f":"[LGS]+[DIVS]","v":22}]
[2010,"Lee, Cliff","TEX","Texas Rangers",9000000,15,15,108.66666666666667,-7,3.98,1.0582822085889569,7.9509202453987733,8.5306748466257662,90,72,3.93,4366,1181,1355,7.3034814475492444,8.3795235913879988,1.3096655978011911,"AL-W",{"$f":"LEFT([League-Division],1)","v":"A"},{"$f":"RIGHT([League-Division],1)","v":"W"},{"$f":"IF([LG]=\"N\",10,20)","v":20},{"$f":"IF([DIV]=\"E\",1,IF([DIV]=\"C\",2,3))","v":3},{"$f":"[LGS]+[DIVS]","v":23}]
[1995,"Leiper, Dave","MON","Montreal Expos",195000,26,0,22,-4,2.86,1,4.9090909090909083,6.5454545454545459,66,78,4.1100000000000003,3849,950,1286,6.6640685892439597,9.0210444271239272,1.3265783320342945,"NL-E",{"$f":"LEFT([League-Division],1)","v":"N"},{"$f":"RIGHT([League-Division],1)","v":"E"},{"$f":"IF([LG]=\"N\",10,20)","v":10},{"$f":"IF([DIV]=\"E\",1,IF([DIV]=\"C\",2,3))","v":1},{"$f":"[LGS]+[DIVS]","v":11}]
[1995,"Leiter, Al","TOR","Toronto Blue Jays",795000,28,28,183,-9,3.64,1.4754098360655739,7.5245901639344268,7.9672131147540979,56,88,4.88,3876,894,1336,6.2275541795665639,9.3065015479876152,1.5402476780185759,"AL-E",{"$f":"LEFT([League-Division],1)","v":"A"},{"$f":"RIGHT([League-Division],1)","v":"E"},{"$f":"IF([LG]=\"N\",10,20)","v":20},{"$f":"IF([DIV]=\"E\",1,IF([DIV]=\"C\",2,3))","v":1},{"$f":"[LGS]+[DIVS]","v":21}]
[2004,"Leiter, Al","NYN","New York Mets",10295600,30,30,173.66666666666666,-21,3.21,1.3531669865642995,6.0633397312859891,7.1516314779270642,71,91,4.09,4347,977,1452,6.0683229813664594,9.0186335403726705,1.4106280193236715,"NL-E",{"$f":"LEFT([League-Division],1)","v":"N"},{"$f":"RIGHT([League-Division],1)","v":"E"},{"$f":"IF([LG]=\"N\",10,20)","v":10},{"$f":"IF([DIV]=\"E\",1,IF([DIV]=\"C\",2,3))","v":1},{"$f":"[LGS]+[DIVS]","v":11}]
[2005,"Leiter, Al","FLO","Florida Marlins",7000000,17,16,80,-36,6.64,1.85,5.8500000000000005,9.9,83,79,4.16,4327,1125,1459,7.0198752022186275,9.1039981511439798,1.4018950774208458,"NL-E",{"$f":"LEFT([League-Division],1)","v":"N"},{"$f":"RIGHT([League-Division],1)","v":"E"},{"$f":"IF([LG]=\"N\",10,20)","v":10},{"$f":"IF([DIV]=\"E\",1,IF([DIV]=\"C\",2,3))","v":1},{"$f":"[LGS]+[DIVS]","v":11}]
[1995,"Leskanic, Curt","COL","Colorado Rockies",130000,76,0,98,24,3.4,1.1836734693877551,9.8265306122448983,7.6224489795918373,77,67,4.97,3864,891,1443,6.2259316770186341,10.083074534161492,1.5178571428571428,"NL-W",{"$f":"LEFT([League-Division],1)","v":"N"},{"$f":"RIGHT([League-Division],1)","v":"W"},{"$f":"IF([LG]=\"N\",10,20)","v":10},{"$f":"IF([DIV]=\"E\",1,IF([DIV]=\"C\",2,3))","v":3},{"$f":"[LGS]+[DIVS]","v":13}]
[2003,"Leskanic, Curt","MIL","Milwaukee Brewers",3700000,26,0,26.666666666666668,6,2.7,1.5,9.4500000000000011,7.4249999999999998,68,94,5.0199999999999996,4356,1034,1590,6.4090909090909092,9.8553719008264462,1.4910468319559229,"NL-C",{"$f":"LEFT([League-Division],1)","v":"N"},{"$f":"RIGHT([League-Division],1)","v":"C"},{"$f":"IF([LG]=\"N\",10,20)","v":10},{"$f":"IF([DIV]=\"E\",1,IF([DIV]=\"C\",2,3))","v":2},{"$f":"[LGS]+[DIVS]","v":12}]
[2004,"Leskanic, Curt","KCA","Kansas City Royals",1250000,19,0,15.666666666666666,-8,8.0399999999999991,2.3617021276595747,8.6170212765957448,13.212765957446809,58,104,5.15,4261,887,1638,5.6205116169913163,10.379253696315418,1.5179535320347337,"AL-C",{"$f":"LEFT([League-Division],1)","v":"A"},{"$f":"RIGHT([League-Division],1)","v":"C"},{"$f":"IF([LG]=\"N\",10,20)","v":20},{"$f":"IF([DIV]=\"E\",1,IF([DIV]=\"C\",2,3))","v":2},{"$f":"[LGS]+[DIVS]","v":22}]
[2002,"Levine, Alan","ANA","Anaheim Angels",1325000,52,0,63.666666666666664,-21,4.24,1.4921465968586387,5.6544502617801049,8.6230366492146597,99,63,3.69,4357,999,1345,6.1907275648381921,8.3348634381455131,1.2765664448014689,"AL-W",{"$f":"LEFT([League-Division],1)","v":"A"},{"$f":"RIGHT([League-Division],1)","v":"W"},{"$f":"IF([LG]=\"N\",10,20)","v":20},{"$f":"IF([DIV]=\"E\",1,IF([DIV]=\"C\",2,3))","v":3},{"$f":"[LGS]+[DIVS]","v":23}]
[2009,"Lewis, Jensen","CLE","Cleveland Indians",418600,47,0,66.333333333333329,0,4.6100000000000003,1.3718592964824121,8.4120603015075375,8.4120603015075375,65,97,5.07,4302,986,1570,6.1882845188284517,9.8535564853556483,1.5118549511854951,"AL-C",{"$f":"LEFT([League-Division],1)","v":"A"},{"$f":"RIGHT([League-Division],1)","v":"C"},{"$f":"IF([LG]=\"N\",10,20)","v":20},{"$f":"IF([DIV]=\"E\",1,IF([DIV]=\"C\",2,3))","v":2},{"$f":"[LGS]+[DIVS]","v":22}]
[1997,"Lewis, Richie","OAK","Oakland Athletics",250000,14,0,18.666666666666668,-12,9.64,2.089285714285714,5.7857142857142847,11.571428571428569,65,97,5.49,4335,953,1734,5.9356401384083046,10.799999999999999,1.6442906574394465,"AL-W",{"$f":"LEFT([League-Division],1)","v":"A"},{"$f":"RIGHT([League-Division],1)","v":"W"},{"$f":"IF([LG]=\"N\",10,20)","v":20},{"$f":"IF([DIV]=\"E\",1,IF([DIV]=\"C\",2,3))","v":3},{"$f":"[LGS]+[DIVS]","v":23}]
[2009,"Lidge, Brad","PHI","Philadelphia Phillies",12000000,67,0,58.666666666666664,-11,7.21,1.8068181818181819,9.357954545454545,11.045454545454545,93,69,4.16,4367,1153,1479,7.1286924662239519,9.1442637966567428,1.3519578658117701,"NL-E",{"$f":"LEFT([League-Division],1)","v":"N"},{"$f":"RIGHT([League-Division],1)","v":"E"},{"$f":"IF([LG]=\"N\",10,20)","v":10},{"$f":"IF([DIV]=\"E\",1,IF([DIV]=\"C\",2,3))","v":1},{"$f":"[LGS]+[DIVS]","v":11}]
[2010,"Lidge, Brad","PHI","Philadelphia Phillies",12000000,50,0,45.666666666666664,20,2.96,1.2262773722627738,10.248175182481754,6.3065693430656937,97,65,3.68,4369,1183,1402,7.3108262760357059,8.6642252231631947,1.2483405813687343,"NL-E",{"$f":"LEFT([League-Division],1)","v":"N"},{"$f":"RIGHT([League-Division],1)","v":"E"},{"$f":"IF([LG]=\"N\",10,20)","v":10},{"$f":"IF([DIV]=\"E\",1,IF([DIV]=\"C\",2,3))","v":1},{"$f":"[LGS]+[DIVS]","v":11}]
[2006,"Lidle, Cory","NYA","New York Yankees",3300000,10,9,45.333333333333336,-17,5.16,1.5,6.3529411764705879,9.727941176470587,97,65,4.41,4331,1019,1463,6.352574463172477,9.1205264373123995,1.3569614407758024,"AL-E",{"$f":"LEFT([League-Division],1)","v":"A"},{"$f":"RIGHT([League-Division],1)","v":"E"},{"$f":"IF([LG]=\"N\",10,20)","v":20},{"$f":"IF([DIV]=\"E\",1,IF([DIV]=\"C\",2,3))","v":1},{"$f":"[LGS]+[DIVS]","v":21}]
[2001,"Lieber, Jon","CHN","Chicago Cubs",5083333,34,34,232.33333333333334,-78,3.8,1.1492109038737446,5.7331420373027253,8.7546628407460538,88,74,4.03,4311,1344,1357,8.4175365344467643,8.4989561586638835,1.3270702853166318,"NL-C",{"$f":"LEFT([League-Division],1)","v":"N"},{"$f":"RIGHT([League-Division],1)","v":"C"},{"$f":"IF([LG]=\"N\",10,20)","v":10},{"$f":"IF([DIV]=\"E\",1,IF([DIV]=\"C\",2,3))","v":2},{"$f":"[LGS]+[DIVS]","v":12}]
[2005,"Lieber, Jon","PHI","Philadelphia Phillies",5583333,35,35,218.33333333333334,-74,4.2,1.2091603053435114,6.1419847328244268,9.1923664122137385,88,74,4.21,4305,1159,1379,7.2689895470383279,8.6487804878048777,1.3003484320557492,"NL-E",{"$f":"LEFT([League-Division],1)","v":"N"},{"$f":"RIGHT([League-Division],1)","v":"E"},{"$f":"IF([LG]=\"N\",10,20)","v":10},{"$f":"IF([DIV]=\"E\",1,IF([DIV]=\"C\",2,3))","v":1},{"$f":"[LGS]+[DIVS]","v":11}]
[2004,"Ligtenberg, Kerry","TOR","Toronto Blue Jays",2000000,57,0,55,-24,6.38,1.7818181818181817,8.0181818181818176,11.945454545454547,67,94,4.91,4263,956,1505,6.0548909218859963,9.5320197044334964,1.4869809992962701,"AL-E",{"$f":"LEFT([League-Division],1)","v":"A"},{"$f":"RIGHT([League-Division],1)","v":"E"},{"$f":"IF([LG]=\"N\",10,20)","v":20},{"$f":"IF([DIV]=\"E\",1,IF([DIV]=\"C\",2,3))","v":1},{"$f":"[LGS]+[DIVS]","v":21}]
[2005,"Lilly, Ted","TOR","Toronto Blue Jays",3100000,25,25,126.33333333333333,-39,5.56,1.5277044854881268,6.8390501319261219,9.6174142480211096,80,82,4.0599999999999996,4341,958,1475,5.9585348997926744,9.1741534208707662,1.3261921216309607,"AL-E",{"$f":"LEFT([League-Division],1)","v":"A"},{"$f":"RIGHT([League-Division],1)","v":"E"},{"$f":"IF([LG]=\"N\",10,20)","v":20},{"$f":"IF([DIV]=\"E\",1,IF([DIV]=\"C\",2,3))","v":1},{"$f":"[LGS]+[DIVS]","v":21}]
[2008,"Lilly, Ted","CHN","Chicago Cubs",8000000,34,34,204.66666666666666,-3,4.09,1.226384364820847,8.0912052117263844,8.2231270358306201,97,64,3.87,4352,1264,1329,7.8419117647058814,8.245174632352942,1.2938878676470587,"NL-C",{"$f":"LEFT([League-Division],1)","v":"N"},{"$f":"RIGHT([League-Division],1)","v":"C"},{"$f":"IF([LG]=\"N\",10,20)","v":10},{"$f":"IF([DIV]=\"E\",1,IF([DIV]=\"C\",2,3))","v":2},{"$f":"[LGS]+[DIVS]","v":12}]
[1998,"Lima, Jose","HOU","Houston Astros",240000,33,33,233.33333333333334,-60,3.7,1.1185714285714285,6.5185714285714287,8.8328571428571436,102,60,3.5,4413,1187,1435,7.262406526172672,8.7797416723317472,1.2916383412644459,"NL-C",{"$f":"LEFT([League-Division],1)","v":"N"},{"$f":"RIGHT([League-Division],1)","v":"C"},{"$f":"IF([LG]=\"N\",10,20)","v":10},{"$f":"IF([DIV]=\"E\",1,IF([DIV]=\"C\",2,3))","v":2},{"$f":"[LGS]+[DIVS]","v":12}]
[2001,"Lima, Jose","HOU","Houston Astros",6250000,14,9,53,-36,7.3,1.7547169811320755,6.9622641509433967,13.075471698113207,93,69,4.37,4364,1228,1453,7.5976168652612275,8.9896883593033916,1.3329514207149404,"NL-C",{"$f":"LEFT([League-Division],1)","v":"N"},{"$f":"RIGHT([League-Division],1)","v":"C"},{"$f":"IF([LG]=\"N\",10,20)","v":10},{"$f":"IF([DIV]=\"E\",1,IF([DIV]=\"C\",2,3))","v":2},{"$f":"[LGS]+[DIVS]","v":12}]
[2003,"Lincoln, Mike","PIT","Pittsburgh Pirates",315500,36,0,36.333333333333336,-10,5.2,1.403669724770642,6.9357798165137607,9.4128440366972477,75,87,4.6399999999999997,4333,926,1527,5.7701361643203324,9.5151165474267252,1.404800369259174,"NL-C",{"$f":"LEFT([League-Division],1)","v":"N"},{"$f":"RIGHT([League-Division],1)","v":"C"},{"$f":"IF([LG]=\"N\",10,20)","v":10},{"$f":"IF([DIV]=\"E\",1,IF([DIV]=\"C\",2,3))","v":2},{"$f":"[LGS]+[DIVS]","v":12}]
[2009,"Lindstrom, Matt","FLO","Florida Marlins",410000,54,0,47.333333333333336,-15,5.89,1.647887323943662,7.415492957746479,10.267605633802818,87,75,4.32,4339,1248,1425,7.7658446646692791,8.8672505185526624,1.4007835906890989,"NL-E",{"$f":"LEFT([League-Division],1)","v":"N"},{"$f":"RIGHT([League-Division],1)","v":"E"},{"$f":"IF([LG]=\"N\",10,20)","v":10},{"$f":"IF([DIV]=\"E\",1,IF([DIV]=\"C\",2,3))","v":1},{"$f":"[LGS]+[DIVS]","v":11}]
[2002,"Linebrink, Scott","HOU","Houston Astros",230000,22,0,24.333333333333332,-7,7.03,1.8082191780821919,8.8767123287671232,11.465753424657533,84,78,4,4335,1219,1423,7.5923875432525953,8.862975778546712,1.3626297577854671,"NL-C",{"$f":"LEFT([League-Division],1)","v":"N"},{"$f":"RIGHT([League-Division],1)","v":"C"},{"$f":"IF([LG]=\"N\",10,20)","v":10},{"$f":"IF([DIV]=\"E\",1,IF([DIV]=\"C\",2,3))","v":2},{"$f":"[LGS]+[DIVS]","v":12}]
[1995,"Linton, Doug","KCA","Kansas City Royals",159000,7,2,22.333333333333332,-9,7.25,1.4328358208955225,5.2388059701492535,8.8656716417910459,70,74,4.49,3864,763,1323,5.3315217391304346,9.2445652173913047,1.4177018633540373,"AL-C",{"$f":"LEFT([League-Division],1)","v":"A"},{"$f":"RIGHT([League-Division],1)","v":"C"},{"$f":"IF([LG]=\"N\",10,20)","v":20},{"$f":"IF([DIV]=\"E\",1,IF([DIV]=\"C\",2,3))","v":2},{"$f":"[LGS]+[DIVS]","v":22}]
[1999,"Lira, Felipe","DET","Detroit Tigers",380000,2,0,3.3333333333333335,-4,10.8,2.6999999999999997,8.1,18.900000000000002,69,92,5.18,4261,976,1528,6.1844637409058913,9.6822342173198788,1.4862708284440274,"AL-C",{"$f":"LEFT([League-Division],1)","v":"A"},{"$f":"RIGHT([League-Division],1)","v":"C"},{"$f":"IF([LG]=\"N\",10,20)","v":20},{"$f":"IF([DIV]=\"E\",1,IF([DIV]=\"C\",2,3))","v":2},{"$f":"[LGS]+[DIVS]","v":22}]
[2010,"Liriano, Francisco","MIN","Minnesota Twins",1600000,31,31,191.66666666666666,17,3.62,1.262608695652174,9.4382608695652177,8.64,94,68,3.95,4358,1048,1493,6.4928866452501142,9.2498852684717754,1.2914180816888481,"AL-C",{"$f":"LEFT([League-Division],1)","v":"A"},{"$f":"RIGHT([League-Division],1)","v":"C"},{"$f":"IF([LG]=\"N\",10,20)","v":20},{"$f":"IF([DIV]=\"E\",1,IF([DIV]=\"C\",2,3))","v":2},{"$f":"[LGS]+[DIVS]","v":22}]
[1996,"Lloyd, Graeme","NYA","New York Yankees",215000,13,0,5.666666666666667,-6,17.47,3,9.5294117647058822,19.058823529411764,92,70,4.6500000000000004,4320,1139,1469,7.1187499999999995,9.1812500000000004,1.4437500000000001,"AL-E",{"$f":"LEFT([League-Division],1)","v":"A"},{"$f":"RIGHT([League-Division],1)","v":"E"},{"$f":"IF([LG]=\"N\",10,20)","v":20},{"$f":"IF([DIV]=\"E\",1,IF([DIV]=\"C\",2,3))","v":1},{"$f":"[LGS]+[DIVS]","v":21}]
[1999,"Lloyd, Graeme","TOR","Toronto Blue Jays",1025000,74,0,72,-21,3.63,1.2638888888888888,5.875,8.5,84,78,4.92,4315,1009,1582,6.3135573580533029,9.8989571263035927,1.4996523754345308,"AL-E",{"$f":"LEFT([League-Division],1)","v":"A"},{"$f":"RIGHT([League-Division],1)","v":"E"},{"$f":"IF([LG]=\"N\",10,20)","v":20},{"$f":"IF([DIV]=\"E\",1,IF([DIV]=\"C\",2,3))","v":1},{"$f":"[LGS]+[DIVS]","v":21}]
[1998,"Loaiza, Esteban","PIT","Pittsburgh Pirates",450000,21,14,91.666666666666671,-43,4.5199999999999996,1.3745454545454545,5.2036363636363632,9.425454545454544,69,93,3.91,4347,1112,1433,6.9068322981366466,8.9006211180124222,1.3547273982056591,"NL-C",{"$f":"LEFT([League-Division],1)","v":"N"},{"$f":"RIGHT([League-Division],1)","v":"C"},{"$f":"IF([LG]=\"N\",10,20)","v":10},{"$f":"IF([DIV]=\"E\",1,IF([DIV]=\"C\",2,3))","v":2},{"$f":"[LGS]+[DIVS]","v":12}]
[2003,"Loaiza, Esteban","CHA","Chicago White Sox",500000,34,34,226.33333333333334,11,2.9,1.1134020618556701,8.2312223858615603,7.7938144329896897,86,76,4.17,4293,1056,1364,6.6415094339622645,8.5786163522012586,1.3151642208245982,"AL-C",{"$f":"LEFT([League-Division],1)","v":"A"},{"$f":"RIGHT([League-Division],1)","v":"C"},{"$f":"IF([LG]=\"N\",10,20)","v":20},{"$f":"IF([DIV]=\"E\",1,IF([DIV]=\"C\",2,3))","v":2},{"$f":"[LGS]+[DIVS]","v":22}]
[2005,"Loaiza, Esteban","WAS","Washington Nationals",2900000,34,34,217,-54,3.77,1.2995391705069124,7.1751152073732722,9.4147465437788025,81,81,3.87,4374,997,1456,6.1543209876543212,8.9876543209876552,1.368312757201646,"NL-E",{"$f":"LEFT([League-Division],1)","v":"N"},{"$f":"RIGHT([League-Division],1)","v":"E"},{"$f":"IF([LG]=\"N\",10,20)","v":10},{"$f":"IF([DIV]=\"E\",1,IF([DIV]=\"C\",2,3))","v":1},{"$f":"[LGS]+[DIVS]","v":11}]
[2008,"Loewen, Adam","BAL","Baltimore Orioles",816000,7,4,21.333333333333332,-11,8.02,2.015625,5.90625,10.546875,68,93,5.15,4266,922,1538,5.8354430379746836,9.7341772151898738,1.5646976090014064,"AL-E",{"$f":"LEFT([League-Division],1)","v":"A"},{"$f":"RIGHT([League-Division],1)","v":"E"},{"$f":"IF([LG]=\"N\",10,20)","v":20},{"$f":"IF([DIV]=\"E\",1,IF([DIV]=\"C\",2,3))","v":1},{"$f":"[LGS]+[DIVS]","v":21}]
[2003,"Lohse, Kyle","MIN","Minnesota Twins",330000,33,33,201,-81,4.6100000000000003,1.2736318407960199,5.8208955223880601,9.4477611940298516,90,72,4.41,4385,997,1526,6.1388825541619152,9.3961231470923607,1.319042189281642,"AL-C",{"$f":"LEFT([League-Division],1)","v":"A"},{"$f":"RIGHT([League-Division],1)","v":"C"},{"$f":"IF([LG]=\"N\",10,20)","v":20},{"$f":"IF([DIV]=\"E\",1,IF([DIV]=\"C\",2,3))","v":2},{"$f":"[LGS]+[DIVS]","v":22}]
[2006,"Lohse, Kyle","MIN","Minnesota Twins",3950000,22,8,63.666666666666664,-34,7.07,1.6492146596858639,6.5026178010471201,11.30890052356021,96,66,3.95,4318,1164,1490,7.2783696155627613,9.3168133395090322,1.2825382121352478,"AL-C",{"$f":"LEFT([League-Division],1)","v":"A"},{"$f":"RIGHT([League-Division],1)","v":"C"},{"$f":"IF([LG]=\"N\",10,20)","v":20},{"$f":"IF([DIV]=\"E\",1,IF([DIV]=\"C\",2,3))","v":2},{"$f":"[LGS]+[DIVS]","v":22}]
[1997,"Loiselle, Rich","PIT","Pittsburgh Pirates",155000,72,0,72.666666666666671,-10,3.1,1.3761467889908257,8.1743119266055047,9.4128440366972477,79,83,4.28,4308,1080,1503,6.7688022284122562,9.4199164345403901,1.4366295264623956,"NL-C",{"$f":"LEFT([League-Division],1)","v":"N"},{"$f":"RIGHT([League-Division],1)","v":"C"},{"$f":"IF([LG]=\"N\",10,20)","v":10},{"$f":"IF([DIV]=\"E\",1,IF([DIV]=\"C\",2,3))","v":2},{"$f":"[LGS]+[DIVS]","v":12}]
[2000,"Loiselle, Rich","PIT","Pittsburgh Pirates",400000,40,0,42.333333333333336,-11,5.0999999999999996,1.7244094488188975,6.8031496062992129,9.1417322834645667,69,93,4.93,4347,1070,1554,6.645962732919255,9.6521739130434785,1.5631469979296067,"NL-C",{"$f":"LEFT([League-Division],1)","v":"N"},{"$f":"RIGHT([League-Division],1)","v":"C"},{"$f":"IF([LG]=\"N\",10,20)","v":10},{"$f":"IF([DIV]=\"E\",1,IF([DIV]=\"C\",2,3))","v":2},{"$f":"[LGS]+[DIVS]","v":12}]
[2005,"Looper, Braden","NYN","New York Mets",800000,60,0,59.333333333333336,-38,3.94,1.4662921348314606,4.095505617977528,9.8595505617977519,83,79,3.76,4307,1012,1390,6.3440910146273506,8.7137218481541669,1.3101927095426049,"NL-E",{"$f":"LEFT([League-Division],1)","v":"N"},{"$f":"RIGHT([League-Division],1)","v":"E"},{"$f":"IF([LG]=\"N\",10,20)","v":10},{"$f":"IF([DIV]=\"E\",1,IF([DIV]=\"C\",2,3))","v":1},{"$f":"[LGS]+[DIVS]","v":11}]
[1997,"Lopez, Albie","CLE","Cleveland Indians",176000,37,6,76.666666666666671,-38,6.93,1.8391304347826085,7.3956521739130423,11.856521739130434,86,75,4.7300000000000004,4275,1036,1528,6.5431578947368418,9.6505263157894738,1.4757894736842105,"AL-C",{"$f":"LEFT([League-Division],1)","v":"A"},{"$f":"RIGHT([League-Division],1)","v":"C"},{"$f":"IF([LG]=\"N\",10,20)","v":20},{"$f":"IF([DIV]=\"E\",1,IF([DIV]=\"C\",2,3))","v":2},{"$f":"[LGS]+[DIVS]","v":22}]
[2000,"Lopez, Albie","TBA","Tampa Bay Devil Rays",800000,45,24,185.33333333333334,-103,4.13,1.4514388489208632,4.6618705035971226,9.663669064748202,69,92,4.8600000000000003,4293,955,1553,6.0062893081761004,9.7672955974842761,1.4577218728162125,"AL-E",{"$f":"LEFT([League-Division],1)","v":"A"},{"$f":"RIGHT([League-Division],1)","v":"E"},{"$f":"IF([LG]=\"N\",10,20)","v":20},{"$f":"IF([DIV]=\"E\",1,IF([DIV]=\"C\",2,3))","v":1},{"$f":"[LGS]+[DIVS]","v":21}]
[2008,"Lopez, Aquilino","DET","Detroit Tigers",400000,48,0,78.666666666666671,-25,3.55,1.3728813559322033,6.9788135593220328,9.8389830508474567,74,88,4.91,4335,991,1541,6.1723183391003458,9.5979238754325245,1.5121107266435987,"AL-C",{"$f":"LEFT([League-Division],1)","v":"A"},{"$f":"RIGHT([League-Division],1)","v":"C"},{"$f":"IF([LG]=\"N\",10,20)","v":20},{"$f":"IF([DIV]=\"E\",1,IF([DIV]=\"C\",2,3))","v":2},{"$f":"[LGS]+[DIVS]","v":22}]
[2010,"Lopez, Javier","SFN","San Francisco Giants",775000,27,0,19,5,1.42,0.68421052631578949,7.5789473684210522,5.2105263157894743,92,70,3.36,4383,1331,1279,8.1991786447638599,7.8788501026694044,1.271047227926078,"NL-W",{"$f":"LEFT([League-Division],1)","v":"N"},{"$f":"RIGHT([League-Division],1)","v":"W"},{"$f":"IF([LG]=\"N\",10,20)","v":10},{"$f":"IF([DIV]=\"E\",1,IF([DIV]=\"C\",2,3))","v":3},{"$f":"[LGS]+[DIVS]","v":13}]
[2003,"Lopez, Rodrigo","BAL","Baltimore Orioles",325000,26,26,147,-85,5.82,1.5714285714285714,6.3061224489795915,11.510204081632654,71,91,4.76,4349,981,1579,6.0903656012876519,9.8029432053345573,1.4520579443550241,"AL-E",{"$f":"LEFT([League-Division],1)","v":"A"},{"$f":"RIGHT([League-Division],1)","v":"E"},{"$f":"IF([LG]=\"N\",10,20)","v":20},{"$f":"IF([DIV]=\"E\",1,IF([DIV]=\"C\",2,3))","v":1},{"$f":"[LGS]+[DIVS]","v":21}]
[2009,"Loretta, Mark","LAN","Los Angeles Dodgers",1250000,1,0,0.33333333333333331,0,0,0,0,0,95,67,3.41,4420,1272,1265,7.7701357466063357,7.7273755656108598,1.2549773755656108,"NL-W",{"$f":"LEFT([League-Division],1)","v":"N"},{"$f":"RIGHT([League-Division],1)","v":"W"},{"$f":"IF([LG]=\"N\",10,20)","v":10},{"$f":"IF([DIV]=\"E\",1,IF([DIV]=\"C\",2,3))","v":3},{"$f":"[LGS]+[DIVS]","v":13}]
[2000,"Lorraine, Andrew","CHN","Chicago Cubs",245000,8,5,32,-11,6.47,1.6875,7.03125,10.125,65,97,5.25,4363,1143,1505,7.0733440293376129,9.3135457254182903,1.487279394911758,"NL-C",{"$f":"LEFT([League-Division],1)","v":"N"},{"$f":"RIGHT([League-Division],1)","v":"C"},{"$f":"IF([LG]=\"N\",10,20)","v":10},{"$f":"IF([DIV]=\"E\",1,IF([DIV]=\"C\",2,3))","v":2},{"$f":"[LGS]+[DIVS]","v":12}]
[2004,"Lowe, Derek","BOS","Boston Red Sox",4500000,33,33,182.66666666666666,-119,5.42,1.614963503649635,5.1733576642335768,11.036496350364963,98,64,4.18,4354,1132,1430,7.0197519522278373,8.8677078548461186,1.2932935231970601,"AL-E",{"$f":"LEFT([League-Division],1)","v":"A"},{"$f":"RIGHT([League-Division],1)","v":"E"},{"$f":"IF([LG]=\"N\",10,20)","v":20},{"$f":"IF([DIV]=\"E\",1,IF([DIV]=\"C\",2,3))","v":1},{"$f":"[LGS]+[DIVS]","v":21}]
[2007,"Lowe, Mark","SEA","Seattle Mariners",380000,4,0,2.6666666666666665,1,6.75,1.875,10.125,6.75,88,74,4.7300000000000004,4303,1020,1578,6.4001859168022319,9.9014640948175696,1.4808273297699279,"AL-W",{"$f":"LEFT([League-Division],1)","v":"A"},{"$f":"RIGHT([League-Division],1)","v":"W"},{"$f":"IF([LG]=\"N\",10,20)","v":20},{"$f":"IF([DIV]=\"E\",1,IF([DIV]=\"C\",2,3))","v":3},{"$f":"[LGS]+[DIVS]","v":23}]
[2010,"Lowe, Mark","SEA","Seattle Mariners",1150000,11,0,10.333333333333334,-4,3.48,1.5483870967741935,6.096774193548387,9.5806451612903221,61,101,3.95,4314,973,1402,6.0897079276773294,8.7746870653685676,1.2892906815020861,"AL-W",{"$f":"LEFT([League-Division],1)","v":"A"},{"$f":"RIGHT([League-Division],1)","v":"W"},{"$f":"IF([LG]=\"N\",10,20)","v":20},{"$f":"IF([DIV]=\"E\",1,IF([DIV]=\"C\",2,3))","v":3},{"$f":"[LGS]+[DIVS]","v":23}]
[2005,"Lowry, Noah","SFN","San Francisco Giants",322500,33,33,204.66666666666666,-21,3.78,1.3143322475570034,7.5635179153094469,8.4869706840390879,75,87,4.33,4333,972,1456,6.0567735979690749,9.0726978998384507,1.417955227325179,"NL-W",{"$f":"LEFT([League-Division],1)","v":"N"},{"$f":"RIGHT([League-Division],1)","v":"W"},{"$f":"IF([LG]=\"N\",10,20)","v":10},{"$f":"IF([DIV]=\"E\",1,IF([DIV]=\"C\",2,3))","v":3},{"$f":"[LGS]+[DIVS]","v":13}]
[2006,"Lugo, Ruddy","TBA","Tampa Bay Devil Rays",327000,64,0,85,-27,3.81,1.3176470588235294,5.0823529411764703,7.9411764705882355,61,101,4.96,4261,979,1600,6.2034733630603149,10.13846514902605,1.5531565360244075,"AL-E",{"$f":"LEFT([League-Division],1)","v":"A"},{"$f":"RIGHT([League-Division],1)","v":"E"},{"$f":"IF([LG]=\"N\",10,20)","v":20},{"$f":"IF([DIV]=\"E\",1,IF([DIV]=\"C\",2,3))","v":1},{"$f":"[LGS]+[DIVS]","v":21}]
[2002,"Lukasiewicz, Mark","ANA","Anaheim Angels",207500,17,0,14,-2,3.86,1.8571428571428572,9.6428571428571423,10.928571428571427,99,63,3.69,4357,999,1345,6.1907275648381921,8.3348634381455131,1.2765664448014689,"AL-W",{"$f":"LEFT([League-Division],1)","v":"A"},{"$f":"RIGHT([League-Division],1)","v":"W"},{"$f":"IF([LG]=\"N\",10,20)","v":20},{"$f":"IF([DIV]=\"E\",1,IF([DIV]=\"C\",2,3))","v":3},{"$f":"[LGS]+[DIVS]","v":23}]
[2008,"Lyon, Brandon","ARI","Arizona Diamondbacks",3125000,61,0,59.333333333333336,-31,4.7,1.4831460674157302,6.6741573033707855,11.376404494382021,82,80,3.99,4304,1229,1403,7.7098048327137541,8.8013475836431212,1.2922862453531598,"NL-W",{"$f":"LEFT([League-Division],1)","v":"N"},{"$f":"RIGHT([League-Division],1)","v":"W"},{"$f":"IF([LG]=\"N\",10,20)","v":10},{"$f":"IF([DIV]=\"E\",1,IF([DIV]=\"C\",2,3))","v":3},{"$f":"[LGS]+[DIVS]","v":13}]
[2000,"Mabry, John","SEA","Seattle Mariners",1850000,1,0,0.66666666666666663,-3,27,6,0,40.5,91,71,4.5,4324,998,1442,6.231729879740981,9.0041628122109145,1.4403330249768733,"AL-W",{"$f":"LEFT([League-Division],1)","v":"A"},{"$f":"RIGHT([League-Division],1)","v":"W"},{"$f":"IF([LG]=\"N\",10,20)","v":20},{"$f":"IF([DIV]=\"E\",1,IF([DIV]=\"C\",2,3))","v":3},{"$f":"[LGS]+[DIVS]","v":23}]
[2006,"MacDougal, Mike","KCA","Kansas City Royals",430000,4,0,4,0,0,0.5,4.5,4.5,62,100,5.65,4279,904,1648,5.7041364804860955,10.398691283010049,1.6020098153774247,"AL-C",{"$f":"LEFT([League-Division],1)","v":"A"},{"$f":"RIGHT([League-Division],1)","v":"C"},{"$f":"IF([LG]=\"N\",10,20)","v":20},{"$f":"IF([DIV]=\"E\",1,IF([DIV]=\"C\",2,3))","v":2},{"$f":"[LGS]+[DIVS]","v":22}]
[1999,"Maddux, Greg","ATL","Atlanta Braves",10600000,33,33,219.33333333333334,-122,3.57,1.3449848024316109,5.5805471124620061,10.586626139817628,103,59,3.63,4413,1197,1398,7.3235893949694084,8.5533650577838198,1.2950373895309313,"NL-E",{"$f":"LEFT([League-Division],1)","v":"N"},{"$f":"RIGHT([League-Division],1)","v":"E"},{"$f":"IF([LG]=\"N\",10,20)","v":10},{"$f":"IF([DIV]=\"E\",1,IF([DIV]=\"C\",2,3))","v":1},{"$f":"[LGS]+[DIVS]","v":11}]
[2002,"Maddux, Greg","ATL","Atlanta Braves",13100000,34,34,199.33333333333334,-76,2.62,1.1989966555183946,5.3277591973244141,8.7591973244147141,101,59,3.13,4402,1058,1302,6.4893230349840989,7.9859154929577469,1.2648796001817357,"NL-E",{"$f":"LEFT([League-Division],1)","v":"N"},{"$f":"RIGHT([League-Division],1)","v":"E"},{"$f":"IF([LG]=\"N\",10,20)","v":10},{"$f":"IF([DIV]=\"E\",1,IF([DIV]=\"C\",2,3))","v":1},{"$f":"[LGS]+[DIVS]","v":11}]
[2008,"Maddux, Greg","LAN","Los Angeles Dodgers",10000000,7,7,40.666666666666664,-25,5.09,1.1557377049180328,3.9836065573770494,9.5163934426229506,84,78,3.68,4342,1205,1381,7.4930907415937362,8.5875172731460161,1.2858129894058039,"NL-W",{"$f":"LEFT([League-Division],1)","v":"N"},{"$f":"RIGHT([League-Division],1)","v":"W"},{"$f":"IF([LG]=\"N\",10,20)","v":10},{"$f":"IF([DIV]=\"E\",1,IF([DIV]=\"C\",2,3))","v":3},{"$f":"[LGS]+[DIVS]","v":13}]
[1999,"Maddux, Mike","LAN","Los Angeles Dodgers",265000,49,0,54.666666666666664,-13,3.29,1.3353658536585367,6.75,8.8902439024390247,77,85,4.45,4357,1077,1438,6.6740876750057385,8.9111774156529719,1.3991278402570577,"NL-W",{"$f":"LEFT([League-Division],1)","v":"N"},{"$f":"RIGHT([League-Division],1)","v":"W"},{"$f":"IF([LG]=\"N\",10,20)","v":10},{"$f":"IF([DIV]=\"E\",1,IF([DIV]=\"C\",2,3))","v":3},{"$f":"[LGS]+[DIVS]","v":13}]
[2000,"Maddux, Mike","HOU","Houston Astros",350000,21,0,27.333333333333332,-14,6.26,1.5731707317073171,5.5975609756097562,10.207317073170733,72,90,5.41,4312,1064,1596,6.6623376623376629,9.9935064935064943,1.5264378478664193,"NL-C",{"$f":"LEFT([League-Division],1)","v":"N"},{"$f":"RIGHT([League-Division],1)","v":"C"},{"$f":"IF([LG]=\"N\",10,20)","v":10},{"$f":"IF([DIV]=\"E\",1,IF([DIV]=\"C\",2,3))","v":2},{"$f":"[LGS]+[DIVS]","v":12}]
[2008,"Madson, Ryan","PHI","Philadelphia Phillies",1400000,76,0,82.666666666666671,-12,3.05,1.2338709677419355,7.294354838709677,8.6008064516129021,92,70,3.89,4349,1081,1444,6.7111979765463321,8.9648194987353413,1.3637617843182339,"NL-E",{"$f":"LEFT([League-Division],1)","v":"N"},{"$f":"RIGHT([League-Division],1)","v":"E"},{"$f":"IF([LG]=\"N\",10,20)","v":10},{"$f":"IF([DIV]=\"E\",1,IF([DIV]=\"C\",2,3))","v":1},{"$f":"[LGS]+[DIVS]","v":11}]
[1997,"Maduro, Calvin","PHI","Philadelphia Phillies",150000,15,13,71,-52,7.23,1.7464788732394365,3.929577464788732,10.52112676056338,68,94,4.87,4260,1209,1441,7.6626760563380278,9.133098591549297,1.4485915492957746,"NL-E",{"$f":"LEFT([League-Division],1)","v":"N"},{"$f":"RIGHT([League-Division],1)","v":"E"},{"$f":"IF([LG]=\"N\",10,20)","v":10},{"$f":"IF([DIV]=\"E\",1,IF([DIV]=\"C\",2,3))","v":1},{"$f":"[LGS]+[DIVS]","v":11}]
[1998,"Magnante, Mike","HOU","Houston Astros",600000,48,0,51.666666666666664,-17,4.88,1.5870967741935484,6.7935483870967746,9.7548387096774203,102,60,3.5,4413,1187,1435,7.262406526172672,8.7797416723317472,1.2916383412644459,"NL-C",{"$f":"LEFT([League-Division],1)","v":"N"},{"$f":"RIGHT([League-Division],1)","v":"C"},{"$f":"IF([LG]=\"N\",10,20)","v":10},{"$f":"IF([DIV]=\"E\",1,IF([DIV]=\"C\",2,3))","v":2},{"$f":"[LGS]+[DIVS]","v":12}]
[2004,"Mahay, Ron","TEX","Texas Rangers",500000,60,0,67,-6,2.5499999999999998,1.3283582089552239,7.2537313432835822,8.0597014925373145,89,73,4.53,4319,979,1536,6.1201667052558459,9.6022227367446149,1.4468626996990044,"AL-W",{"$f":"LEFT([League-Division],1)","v":"A"},{"$f":"RIGHT([League-Division],1)","v":"W"},{"$f":"IF([LG]=\"N\",10,20)","v":20},{"$f":"IF([DIV]=\"E\",1,IF([DIV]=\"C\",2,3))","v":3},{"$f":"[LGS]+[DIVS]","v":23}]
[2007,"Mahay, Ron","ATL","Atlanta Braves",1250000,30,0,28,4,2.25,1.25,7.3928571428571423,6.1071428571428577,84,78,4.1100000000000003,4369,1106,1442,6.8349736781872288,8.9114213778896776,1.3588921950102999,"NL-E",{"$f":"LEFT([League-Division],1)","v":"N"},{"$f":"RIGHT([League-Division],1)","v":"E"},{"$f":"IF([LG]=\"N\",10,20)","v":10},{"$f":"IF([DIV]=\"E\",1,IF([DIV]=\"C\",2,3))","v":1},{"$f":"[LGS]+[DIVS]","v":11}]
[2009,"Maholm, Paul","PIT","Pittsburgh Pirates",2500000,31,31,194.66666666666666,-102,4.4400000000000004,1.4434931506849316,5.5017123287671241,10.217465753424658,62,99,4.59,4255,919,1491,5.831492361927145,9.4611045828437135,1.4481786133960048,"NL-C",{"$f":"LEFT([League-Division],1)","v":"N"},{"$f":"RIGHT([League-Division],1)","v":"C"},{"$f":"IF([LG]=\"N\",10,20)","v":10},{"$f":"IF([DIV]=\"E\",1,IF([DIV]=\"C\",2,3))","v":2},{"$f":"[LGS]+[DIVS]","v":12}]
[2007,"Maine, John","NYN","New York Mets",391000,32,32,191,12,3.91,1.2722513089005236,8.4816753926701569,7.9162303664921474,88,74,4.26,4357,1134,1415,7.0273123708974063,8.7686481523984394,1.3667661234794584,"NL-E",{"$f":"LEFT([League-Division],1)","v":"N"},{"$f":"RIGHT([League-Division],1)","v":"E"},{"$f":"IF([LG]=\"N\",10,20)","v":10},{"$f":"IF([DIV]=\"E\",1,IF([DIV]=\"C\",2,3))","v":1},{"$f":"[LGS]+[DIVS]","v":11}]
[2010,"Maine, John","NYN","New York Mets",3300000,9,9,39.666666666666664,-8,6.13,1.8151260504201683,8.8487394957983199,10.663865546218487,79,83,3.73,4359,1106,1438,6.8506538196834139,8.9070887818306961,1.364762560220234,"NL-E",{"$f":"LEFT([League-Division],1)","v":"N"},{"$f":"RIGHT([League-Division],1)","v":"E"},{"$f":"IF([LG]=\"N\",10,20)","v":10},{"$f":"IF([DIV]=\"E\",1,IF([DIV]=\"C\",2,3))","v":1},{"$f":"[LGS]+[DIVS]","v":11}]
[1999,"Mantei, Matt","FLO","Florida Marlins",735000,35,0,36.333333333333336,26,2.72,1.3486238532110091,12.38532110091743,5.944954128440366,64,98,4.9000000000000004,4306,943,1560,5.9129122155132379,9.7816999535531828,1.5431955411054343,"NL-E",{"$f":"LEFT([League-Division],1)","v":"N"},{"$f":"RIGHT([League-Division],1)","v":"E"},{"$f":"IF([LG]=\"N\",10,20)","v":10},{"$f":"IF([DIV]=\"E\",1,IF([DIV]=\"C\",2,3))","v":1},{"$f":"[LGS]+[DIVS]","v":11}]
[2001,"Mantei, Matt","ARI","Arizona Diamondbacks",3583333,8,0,7,6,2.57,1.4285714285714286,15.428571428571427,7.7142857142857135,92,70,3.87,4379,1297,1352,7.9970312856816621,8.3361498058917558,1.2420643982644439,"NL-W",{"$f":"LEFT([League-Division],1)","v":"N"},{"$f":"RIGHT([League-Division],1)","v":"W"},{"$f":"IF([LG]=\"N\",10,20)","v":10},{"$f":"IF([DIV]=\"E\",1,IF([DIV]=\"C\",2,3))","v":3},{"$f":"[LGS]+[DIVS]","v":13}]
[1998,"Manuel, Barry","ARI","Arizona Diamondbacks",285000,13,0,15.666666666666666,-5,7.47,1.9787234042553192,6.8936170212765955,9.7659574468085122,65,97,4.6399999999999997,4296,908,1463,5.7067039106145252,9.1948324022346366,1.3631284916201116,"NL-W",{"$f":"LEFT([League-Division],1)","v":"N"},{"$f":"RIGHT([League-Division],1)","v":"W"},{"$f":"IF([LG]=\"N\",10,20)","v":10},{"$f":"IF([DIV]=\"E\",1,IF([DIV]=\"C\",2,3))","v":3},{"$f":"[LGS]+[DIVS]","v":13}]
[2010,"Marcum, Shaun","TOR","Toronto Blue Jays",850000,31,31,195.33333333333334,-16,3.64,1.1467576791808873,7.6023890784982928,8.3395904436860064,85,77,4.2300000000000004,4322,1184,1407,7.3965756594169365,8.789680703378064,1.3507635354002776,"AL-E",{"$f":"LEFT([League-Division],1)","v":"A"},{"$f":"RIGHT([League-Division],1)","v":"E"},{"$f":"IF([LG]=\"N\",10,20)","v":20},{"$f":"IF([DIV]=\"E\",1,IF([DIV]=\"C\",2,3))","v":1},{"$f":"[LGS]+[DIVS]","v":21}]
[2010,"Marmol, Carlos","CHN","Chicago Cubs",2125000,77,0,77.666666666666671,98,2.5499999999999998,1.1845493562231759,15.991416309012875,4.6351931330472098,75,87,4.24,4310,1268,1409,7.9433874709976795,8.8266821345707651,1.4018561484918792,"NL-C",{"$f":"LEFT([League-Division],1)","v":"N"},{"$f":"RIGHT([League-Division],1)","v":"C"},{"$f":"IF([LG]=\"N\",10,20)","v":10},{"$f":"IF([DIV]=\"E\",1,IF([DIV]=\"C\",2,3))","v":2},{"$f":"[LGS]+[DIVS]","v":12}]
[2001,"Marquis, Jason","ATL","Atlanta Braves",205000,38,16,129.33333333333334,-15,3.48,1.3298969072164948,6.8195876288659791,7.8634020618556688,88,74,3.59,4342,1133,1363,7.045370796867803,8.475587286964533,1.2865039152464304,"NL-E",{"$f":"LEFT([League-Division],1)","v":"N"},{"$f":"RIGHT([League-Division],1)","v":"E"},{"$f":"IF([LG]=\"N\",10,20)","v":10},{"$f":"IF([DIV]=\"E\",1,IF([DIV]=\"C\",2,3))","v":1},{"$f":"[LGS]+[DIVS]","v":11}]
[2010,"Marquis, Jason","WAS","Washington Nationals",7500000,13,13,58.666666666666664,-45,6.6,1.7045454545454546,4.7556818181818183,11.659090909090908,69,93,4.13,4305,1068,1469,6.6982578397212542,9.2132404181184668,1.3804878048780487,"NL-E",{"$f":"LEFT([League-Division],1)","v":"N"},{"$f":"RIGHT([League-Division],1)","v":"E"},{"$f":"IF([LG]=\"N\",10,20)","v":10},{"$f":"IF([DIV]=\"E\",1,IF([DIV]=\"C\",2,3))","v":1},{"$f":"[LGS]+[DIVS]","v":11}]
[2007,"Marshall, Jay","OAK","Oakland Athletics",380000,51,0,42,-32,6.43,1.7142857142857142,3.8571428571428568,10.714285714285714,76,86,4.28,4344,1036,1468,6.4392265193370166,9.124309392265193,1.3798342541436464,"AL-W",{"$f":"LEFT([League-Division],1)","v":"A"},{"$f":"RIGHT([League-Division],1)","v":"W"},{"$f":"IF([LG]=\"N\",10,20)","v":20},{"$f":"IF([DIV]=\"E\",1,IF([DIV]=\"C\",2,3))","v":3},{"$f":"[LGS]+[DIVS]","v":23}]
[2006,"Marte, Damaso","PIT","Pittsburgh Pirates",2250000,75,0,58.333333333333336,12,3.7,1.4057142857142857,9.7199999999999989,7.8685714285714283,67,95,4.5199999999999996,4305,1060,1545,6.6480836236933802,9.6898954703832754,1.5087108013937283,"NL-C",{"$f":"LEFT([League-Division],1)","v":"N"},{"$f":"RIGHT([League-Division],1)","v":"C"},{"$f":"IF([LG]=\"N\",10,20)","v":10},{"$f":"IF([DIV]=\"E\",1,IF([DIV]=\"C\",2,3))","v":2},{"$f":"[LGS]+[DIVS]","v":12}]
[2008,"Marte, Damaso","NYA","New York Yankees",2150000,25,0,18.333333333333332,10,5.4,1.3090909090909091,11.781818181818181,6.872727272727273,89,73,4.28,4325,1141,1478,7.123005780346821,9.2268208092485544,1.3643930635838148,"AL-E",{"$f":"LEFT([League-Division],1)","v":"A"},{"$f":"RIGHT([League-Division],1)","v":"E"},{"$f":"IF([LG]=\"N\",10,20)","v":20},{"$f":"IF([DIV]=\"E\",1,IF([DIV]=\"C\",2,3))","v":1},{"$f":"[LGS]+[DIVS]","v":21}]
[1996,"Martinez, Dennis","CLE","Cleveland Indians",3816766,20,20,112,-74,4.5,1.4196428571428572,3.8571428571428568,9.803571428571427,99,62,4.3499999999999996,4356,1033,1530,6.4028925619834718,9.483471074380164,1.3870523415977962,"AL-C",{"$f":"LEFT([League-Division],1)","v":"A"},{"$f":"RIGHT([League-Division],1)","v":"C"},{"$f":"IF([LG]=\"N\",10,20)","v":20},{"$f":"IF([DIV]=\"E\",1,IF([DIV]=\"C\",2,3))","v":2},{"$f":"[LGS]+[DIVS]","v":22}]
[2000,"Martinez, Pedro","BOS","Boston Red Sox",11500000,29,29,217,156,1.74,0.73732718894009219,11.778801843317973,5.3087557603686637,85,77,4.2300000000000004,4357,1121,1433,6.9467523525361488,8.8801927932063354,1.3302731237089742,"AL-E",{"$f":"LEFT([League-Division],1)","v":"A"},{"$f":"RIGHT([League-Division],1)","v":"E"},{"$f":"IF([LG]=\"N\",10,20)","v":20},{"$f":"IF([DIV]=\"E\",1,IF([DIV]=\"C\",2,3))","v":1},{"$f":"[LGS]+[DIVS]","v":21}]
[2003,"Martinez, Pedro","BOS","Boston Red Sox",15500000,29,29,186.66666666666666,59,2.2200000000000002,1.0392857142857144,9.9321428571428569,7.0875000000000004,95,67,4.4800000000000004,4394,1141,1503,7.0111515703231682,9.2355484751934451,1.3593536640873918,"AL-E",{"$f":"LEFT([League-Division],1)","v":"A"},{"$f":"RIGHT([League-Division],1)","v":"E"},{"$f":"IF([LG]=\"N\",10,20)","v":20},{"$f":"IF([DIV]=\"E\",1,IF([DIV]=\"C\",2,3))","v":1},{"$f":"[LGS]+[DIVS]","v":21}]
[1997,"Martinez, Pedro","CIN","Cincinnati Reds",216000,8,0,6.666666666666667,-4,9.4499999999999993,2.25,5.3999999999999995,10.799999999999999,76,86,4.42,4347,1159,1408,7.1987577639751548,8.7453416149068328,1.3567977915804004,"NL-C",{"$f":"LEFT([League-Division],1)","v":"N"},{"$f":"RIGHT([League-Division],1)","v":"C"},{"$f":"IF([LG]=\"N\",10,20)","v":10},{"$f":"IF([DIV]=\"E\",1,IF([DIV]=\"C\",2,3))","v":2},{"$f":"[LGS]+[DIVS]","v":12}]
[1998,"Martin, Tom","CLE","Cleveland Indians",190000,14,0,14.666666666666666,-20,12.89,2.7954545454545454,5.5227272727272725,17.795454545454547,89,73,4.45,4380,1037,1552,6.3924657534246574,9.5671232876712331,1.4486301369863013,"AL-C",{"$f":"LEFT([League-Division],1)","v":"A"},{"$f":"RIGHT([League-Division],1)","v":"C"},{"$f":"IF([LG]=\"N\",10,20)","v":20},{"$f":"IF([DIV]=\"E\",1,IF([DIV]=\"C\",2,3))","v":2},{"$f":"[LGS]+[DIVS]","v":22}]
[1999,"Martin, Tom","CLE","Cleveland Indians",225000,6,0,9.3333333333333339,-5,8.68,1.7142857142857142,7.7142857142857135,12.535714285714285,97,65,4.9000000000000004,4350,1120,1503,6.9517241379310342,9.3289655172413788,1.4737931034482759,"AL-C",{"$f":"LEFT([League-Division],1)","v":"A"},{"$f":"RIGHT([League-Division],1)","v":"C"},{"$f":"IF([LG]=\"N\",10,20)","v":20},{"$f":"IF([DIV]=\"E\",1,IF([DIV]=\"C\",2,3))","v":2},{"$f":"[LGS]+[DIVS]","v":22}]
[2007,"Masset, Nick","CHA","Chicago White Sox",381000,27,1,39.333333333333336,-31,7.09,1.9830508474576269,4.8050847457627119,11.898305084745763,72,90,4.7699999999999996,4322,1015,1556,6.3408144377602955,9.7204997686256362,1.426422952336881,"AL-C",{"$f":"LEFT([League-Division],1)","v":"A"},{"$f":"RIGHT([League-Division],1)","v":"C"},{"$f":"IF([LG]=\"N\",10,20)","v":20},{"$f":"IF([DIV]=\"E\",1,IF([DIV]=\"C\",2,3))","v":2},{"$f":"[LGS]+[DIVS]","v":22}]
[2009,"Masset, Nick","CIN","Cincinnati Reds",418000,74,0,76,16,2.37,1.0263157894736843,8.2894736842105257,6.3947368421052628,78,84,4.18,4375,1069,1420,6.5972571428571429,8.7634285714285713,1.3693714285714287,"NL-C",{"$f":"LEFT([League-Division],1)","v":"N"},{"$f":"RIGHT([League-Division],1)","v":"C"},{"$f":"IF([LG]=\"N\",10,20)","v":10},{"$f":"IF([DIV]=\"E\",1,IF([DIV]=\"C\",2,3))","v":2},{"$f":"[LGS]+[DIVS]","v":12}]
[2004,"Mateo, Julio","SEA","Seattle Mariners",345000,45,0,57.666666666666664,-13,4.68,1.2485549132947977,6.710982658959538,8.7398843930635852,63,99,4.76,4378,1036,1498,6.3892188213796253,9.2384650525354051,1.4205116491548653,"AL-W",{"$f":"LEFT([League-Division],1)","v":"A"},{"$f":"RIGHT([League-Division],1)","v":"W"},{"$f":"IF([LG]=\"N\",10,20)","v":20},{"$f":"IF([DIV]=\"E\",1,IF([DIV]=\"C\",2,3))","v":3},{"$f":"[LGS]+[DIVS]","v":23}]
[1998,"Mathews, Terry","BAL","Baltimore Orioles",865000,17,0,20.333333333333332,-16,6.2,1.6721311475409837,4.4262295081967213,11.508196721311476,79,83,4.7300000000000004,4293,1065,1505,6.6981132075471699,9.4654088050314478,1.4255765199161425,"AL-E",{"$f":"LEFT([League-Division],1)","v":"A"},{"$f":"RIGHT([League-Division],1)","v":"E"},{"$f":"IF([LG]=\"N\",10,20)","v":20},{"$f":"IF([DIV]=\"E\",1,IF([DIV]=\"C\",2,3))","v":1},{"$f":"[LGS]+[DIVS]","v":21}]
[1997,"Mathews, T.J.","OAK","Oakland Athletics",240000,24,0,28.666666666666668,-10,4.4000000000000004,1.6046511627906976,7.5348837209302317,10.674418604651162,65,97,5.49,4335,953,1734,5.9356401384083046,10.799999999999999,1.6442906574394465,"AL-W",{"$f":"LEFT([League-Division],1)","v":"A"},{"$f":"RIGHT([League-Division],1)","v":"W"},{"$f":"IF([LG]=\"N\",10,20)","v":20},{"$f":"IF([DIV]=\"E\",1,IF([DIV]=\"C\",2,3))","v":3},{"$f":"[LGS]+[DIVS]","v":23}]
[2002,"Mathews, T.J.","HOU","Houston Astros",1000000,12,0,18.333333333333332,-6,3.44,1.3090909090909091,6.3818181818181818,9.327272727272728,84,78,4,4335,1219,1423,7.5923875432525953,8.862975778546712,1.3626297577854671,"NL-C",{"$f":"LEFT([League-Division],1)","v":"N"},{"$f":"RIGHT([League-Division],1)","v":"C"},{"$f":"IF([LG]=\"N\",10,20)","v":10},{"$f":"IF([DIV]=\"E\",1,IF([DIV]=\"C\",2,3))","v":2},{"$f":"[LGS]+[DIVS]","v":12}]
[2003,"Matthews, Mike","SDN","San Diego Padres",350000,77,0,64.666666666666671,-21,4.45,1.4536082474226804,6.1237113402061851,9.0463917525773194,64,98,4.87,4294,1091,1458,6.8600372612948313,9.16767582673498,1.445505356311132,"NL-W",{"$f":"LEFT([League-Division],1)","v":"N"},{"$f":"RIGHT([League-Division],1)","v":"W"},{"$f":"IF([LG]=\"N\",10,20)","v":10},{"$f":"IF([DIV]=\"E\",1,IF([DIV]=\"C\",2,3))","v":3},{"$f":"[LGS]+[DIVS]","v":13}]
[2005,"Matthews, Mike","NYN","New York Mets",500000,6,0,5,-7,10.8,2.6,3.6,16.2,83,79,3.76,4307,1012,1390,6.3440910146273506,8.7137218481541669,1.3101927095426049,"NL-E",{"$f":"LEFT([League-Division],1)","v":"N"},{"$f":"RIGHT([League-Division],1)","v":"E"},{"$f":"IF([LG]=\"N\",10,20)","v":10},{"$f":"IF([DIV]=\"E\",1,IF([DIV]=\"C\",2,3))","v":1},{"$f":"[LGS]+[DIVS]","v":11}]
[2005,"May, Darrell","NYA","New York Yankees",3225000,2,1,7,-11,16.71,2.4285714285714284,3.8571428571428568,18,95,67,4.5199999999999996,4292,985,1495,6.1964119291705497,9.4047064305684991,1.3685927306616961,"AL-E",{"$f":"LEFT([League-Division],1)","v":"A"},{"$f":"RIGHT([League-Division],1)","v":"E"},{"$f":"IF([LG]=\"N\",10,20)","v":20},{"$f":"IF([DIV]=\"E\",1,IF([DIV]=\"C\",2,3))","v":1},{"$f":"[LGS]+[DIVS]","v":21}]
[2000,"Mays, Joe","MIN","Minnesota Twins",240000,31,28,160.33333333333334,-91,5.56,1.6216216216216215,5.7255717255717249,10.833679833679833,69,93,5.15,4297,1042,1634,6.5473586222946247,10.267163137072377,1.5010472422620433,"AL-C",{"$f":"LEFT([League-Division],1)","v":"A"},{"$f":"RIGHT([League-Division],1)","v":"C"},{"$f":"IF([LG]=\"N\",10,20)","v":20},{"$f":"IF([DIV]=\"E\",1,IF([DIV]=\"C\",2,3))","v":2},{"$f":"[LGS]+[DIVS]","v":22}]
[1995,"McAndrew, Jamie","ML4","Milwaukee Brewers",109000,10,4,36.333333333333336,-18,4.71,1.3486238532110091,4.7064220183486238,9.1651376146788976,65,79,4.82,3858,699,1391,4.8919129082426123,9.7348367029548992,1.5505443234836702,"AL-C",{"$f":"LEFT([League-Division],1)","v":"A"},{"$f":"RIGHT([League-Division],1)","v":"C"},{"$f":"IF([LG]=\"N\",10,20)","v":20},{"$f":"IF([DIV]=\"E\",1,IF([DIV]=\"C\",2,3))","v":2},{"$f":"[LGS]+[DIVS]","v":22}]
[2004,"McCarty, David","BOS","Boston Red Sox",500000,3,0,3.6666666666666665,2,2.4500000000000002,0.81818181818181823,9.8181818181818201,4.9090909090909101,98,64,4.18,4354,1132,1430,7.0197519522278373,8.8677078548461186,1.2932935231970601,"AL-E",{"$f":"LEFT([League-Division],1)","v":"A"},{"$f":"RIGHT([League-Division],1)","v":"E"},{"$f":"IF([LG]=\"N\",10,20)","v":20},{"$f":"IF([DIV]=\"E\",1,IF([DIV]=\"C\",2,3))","v":1},{"$f":"[LGS]+[DIVS]","v":21}]
[2009,"McClellan, Kyle","SLN","St. Louis Cardinals",411000,66,0,66.666666666666671,-5,3.38,1.3499999999999999,6.8849999999999989,7.56,91,71,3.66,4322,1049,1407,6.5532161036557142,8.789680703378064,1.2959278111985191,"NL-C",{"$f":"LEFT([League-Division],1)","v":"N"},{"$f":"RIGHT([League-Division],1)","v":"C"},{"$f":"IF([LG]=\"N\",10,20)","v":10},{"$f":"IF([DIV]=\"E\",1,IF([DIV]=\"C\",2,3))","v":2},{"$f":"[LGS]+[DIVS]","v":12}]
[2005,"McClung, Seth","TBA","Tampa Bay Devil Rays",320000,34,17,109.33333333333333,-14,6.59,1.5365853658536586,7.573170731707318,8.7256097560975618,67,95,5.39,4265,949,1570,6.0077373974208674,9.9390386869871037,1.5369284876905041,"AL-E",{"$f":"LEFT([League-Division],1)","v":"A"},{"$f":"RIGHT([League-Division],1)","v":"E"},{"$f":"IF([LG]=\"N\",10,20)","v":20},{"$f":"IF([DIV]=\"E\",1,IF([DIV]=\"C\",2,3))","v":1},{"$f":"[LGS]+[DIVS]","v":21}]
[1995,"McDonald, Ben","BAL","Baltimore Orioles",4500000,14,13,80,-5,4.16,1.3125,6.9750000000000005,7.5375000000000005,71,73,4.3099999999999996,3801,930,1165,6.6061562746645617,8.2754538279400158,1.3322809786898184,"AL-E",{"$f":"LEFT([League-Division],1)","v":"A"},{"$f":"RIGHT([League-Division],1)","v":"E"},{"$f":"IF([LG]=\"N\",10,20)","v":20},{"$f":"IF([DIV]=\"E\",1,IF([DIV]=\"C\",2,3))","v":1},{"$f":"[LGS]+[DIVS]","v":21}]
[1996,"McDonald, Ben","ML4","Milwaukee Brewers",2000000,35,35,221.33333333333334,-82,3.9,1.3328313253012047,5.9367469879518069,9.2710843373493965,80,82,5.17,4341,846,1570,5.2619212163096067,9.7650310988251547,1.5238424326192122,"AL-C",{"$f":"LEFT([League-Division],1)","v":"A"},{"$f":"RIGHT([League-Division],1)","v":"C"},{"$f":"IF([LG]=\"N\",10,20)","v":20},{"$f":"IF([DIV]=\"E\",1,IF([DIV]=\"C\",2,3))","v":2},{"$f":"[LGS]+[DIVS]","v":22}]
[1995,"McDowell, Roger","TEX","Texas Rangers",575000,64,0,85,-37,4.0199999999999996,1.411764705882353,5.1882352941176464,9.1058823529411761,74,70,4.66,3855,838,1385,5.8692607003891055,9.700389105058365,1.4778210116731518,"AL-W",{"$f":"LEFT([League-Division],1)","v":"A"},{"$f":"RIGHT([League-Division],1)","v":"W"},{"$f":"IF([LG]=\"N\",10,20)","v":20},{"$f":"IF([DIV]=\"E\",1,IF([DIV]=\"C\",2,3))","v":3},{"$f":"[LGS]+[DIVS]","v":23}]
[1996,"McElroy, Chuck","CIN","Cincinnati Reds",817000,12,0,12.333333333333334,0,6.57,1.8648648648648647,9.486486486486486,9.486486486486486,81,81,4.33,4329,1089,1447,6.7920997920997923,9.0249480249480261,1.4123354123354124,"NL-C",{"$f":"LEFT([League-Division],1)","v":"N"},{"$f":"RIGHT([League-Division],1)","v":"C"},{"$f":"IF([LG]=\"N\",10,20)","v":10},{"$f":"IF([DIV]=\"E\",1,IF([DIV]=\"C\",2,3))","v":2},{"$f":"[LGS]+[DIVS]","v":12}]
[2000,"McElroy, Chuck","BAL","Baltimore Orioles",1450000,43,2,63.333333333333336,-10,4.6900000000000004,1.4842105263157894,7.1052631578947372,8.5263157894736832,74,88,5.37,4299,1017,1547,6.3872993719469644,9.7159804605722258,1.5436147941381717,"AL-E",{"$f":"LEFT([League-Division],1)","v":"A"},{"$f":"RIGHT([League-Division],1)","v":"E"},{"$f":"IF([LG]=\"N\",10,20)","v":20},{"$f":"IF([DIV]=\"E\",1,IF([DIV]=\"C\",2,3))","v":1},{"$f":"[LGS]+[DIVS]","v":21}]
[1997,"McMichael, Greg","NYN","New York Mets",1100000,73,0,87.666666666666671,8,2.98,1.1406844106463878,8.3155893536121663,7.4942965779467672,88,74,3.95,4377,982,1452,6.0575736806031522,8.956819739547635,1.3406442769019877,"NL-E",{"$f":"LEFT([League-Division],1)","v":"N"},{"$f":"RIGHT([League-Division],1)","v":"E"},{"$f":"IF([LG]=\"N\",10,20)","v":10},{"$f":"IF([DIV]=\"E\",1,IF([DIV]=\"C\",2,3))","v":1},{"$f":"[LGS]+[DIVS]","v":11}]
[1995,"McMurtry, Craig","HOU","Houston Astros",275000,11,0,10.333333333333334,-11,7.84,2.32258064516129,3.4838709677419355,13.064516129032256,76,68,4.0599999999999996,3960,1056,1357,7.2,9.252272727272727,1.3765151515151515,"NL-C",{"$f":"LEFT([League-Division],1)","v":"N"},{"$f":"RIGHT([League-Division],1)","v":"C"},{"$f":"IF([LG]=\"N\",10,20)","v":10},{"$f":"IF([DIV]=\"E\",1,IF([DIV]=\"C\",2,3))","v":2},{"$f":"[LGS]+[DIVS]","v":12}]
[1999,"Meadows, Brian","FLO","Florida Marlins",265000,31,31,178.33333333333334,-142,5.6,1.5196261682242991,3.6336448598130837,10.799999999999999,64,98,4.9000000000000004,4306,943,1560,5.9129122155132379,9.7816999535531828,1.5431955411054343,"NL-E",{"$f":"LEFT([League-Division],1)","v":"N"},{"$f":"RIGHT([League-Division],1)","v":"E"},{"$f":"IF([LG]=\"N\",10,20)","v":10},{"$f":"IF([DIV]=\"E\",1,IF([DIV]=\"C\",2,3))","v":1},{"$f":"[LGS]+[DIVS]","v":11}]
[2003,"Meche, Gil","SEA","Seattle Mariners",325000,32,32,186.33333333333334,-57,4.59,1.3416815742397137,6.279069767441861,9.032200357781754,93,69,3.76,4323,1001,1340,6.2519083969465656,8.3691880638445522,1.2532963219986122,"AL-W",{"$f":"LEFT([League-Division],1)","v":"A"},{"$f":"RIGHT([League-Division],1)","v":"W"},{"$f":"IF([LG]=\"N\",10,20)","v":20},{"$f":"IF([DIV]=\"E\",1,IF([DIV]=\"C\",2,3))","v":3},{"$f":"[LGS]+[DIVS]","v":23}]
[2004,"Meche, Gil","SEA","Seattle Mariners",1950000,23,23,127.66666666666667,-40,5.01,1.4569190600522193,6.9791122715404699,9.7989556135770233,63,99,4.76,4378,1036,1498,6.3892188213796253,9.2384650525354051,1.4205116491548653,"AL-W",{"$f":"LEFT([League-Division],1)","v":"A"},{"$f":"RIGHT([League-Division],1)","v":"W"},{"$f":"IF([LG]=\"N\",10,20)","v":20},{"$f":"IF([DIV]=\"E\",1,IF([DIV]=\"C\",2,3))","v":3},{"$f":"[LGS]+[DIVS]","v":23}]
[2000,"Mecir, Jim","OAK","Oakland Athletics",350000,25,0,35.333333333333336,2,2.8,1.3867924528301885,9.4245283018867916,8.915094339622641,91,70,4.58,4305,963,1535,6.0397212543554009,9.6271777003484331,1.4982578397212543,"AL-W",{"$f":"LEFT([League-Division],1)","v":"A"},{"$f":"RIGHT([League-Division],1)","v":"W"},{"$f":"IF([LG]=\"N\",10,20)","v":20},{"$f":"IF([DIV]=\"E\",1,IF([DIV]=\"C\",2,3))","v":3},{"$f":"[LGS]+[DIVS]","v":23}]
[2006,"Medders, Brandon","ARI","Arizona Diamondbacks",327000,60,0,71.666666666666671,-29,3.64,1.4511627906976743,5.9023255813953481,9.5441860465116264,76,86,4.4800000000000004,4379,1115,1503,6.8748572733500799,9.2671842886503768,1.3968942680977392,"NL-W",{"$f":"LEFT([League-Division],1)","v":"N"},{"$f":"RIGHT([League-Division],1)","v":"W"},{"$f":"IF([LG]=\"N\",10,20)","v":10},{"$f":"IF([DIV]=\"E\",1,IF([DIV]=\"C\",2,3))","v":3},{"$f":"[LGS]+[DIVS]","v":13}]
[2009,"Medders, Brandon","SFN","San Francisco Giants",475000,61,0,68.666666666666671,-5,3.01,1.3834951456310678,7.6019417475728153,8.257281553398057,88,74,3.55,4338,1302,1268,8.1037344398340245,7.8921161825726145,1.2807745504840939,"NL-W",{"$f":"LEFT([League-Division],1)","v":"N"},{"$f":"RIGHT([League-Division],1)","v":"W"},{"$f":"IF([LG]=\"N\",10,20)","v":10},{"$f":"IF([DIV]=\"E\",1,IF([DIV]=\"C\",2,3))","v":3},{"$f":"[LGS]+[DIVS]","v":13}]
[1997,"Mendoza, Ramiro","NYA","New York Yankees",157000,39,15,133.66666666666666,-75,4.24,1.3840399002493766,5.5211970074812973,10.571072319201996,96,66,3.84,4401,1165,1463,7.1472392638036801,8.9754601226993866,1.359918200408998,"AL-E",{"$f":"LEFT([League-Division],1)","v":"A"},{"$f":"RIGHT([League-Division],1)","v":"E"},{"$f":"IF([LG]=\"N\",10,20)","v":20},{"$f":"IF([DIV]=\"E\",1,IF([DIV]=\"C\",2,3))","v":1},{"$f":"[LGS]+[DIVS]","v":21}]
[2004,"Mendoza, Ramiro","BOS","Boston Red Sox",3600000,27,0,30.666666666666668,-12,3.52,1.0434782608695652,3.8152173913043477,7.3369565217391299,98,64,4.18,4354,1132,1430,7.0197519522278373,8.8677078548461186,1.2932935231970601,"AL-E",{"$f":"LEFT([League-Division],1)","v":"A"},{"$f":"RIGHT([League-Division],1)","v":"E"},{"$f":"IF([LG]=\"N\",10,20)","v":20},{"$f":"IF([DIV]=\"E\",1,IF([DIV]=\"C\",2,3))","v":1},{"$f":"[LGS]+[DIVS]","v":21}]
[1995,"Menhart, Paul","TOR","Toronto Blue Jays",109000,21,9,78.666666666666671,-22,4.92,1.5127118644067796,5.7203389830508469,8.2372881355932197,56,88,4.88,3876,894,1336,6.2275541795665639,9.3065015479876152,1.5402476780185759,"AL-E",{"$f":"LEFT([League-Division],1)","v":"A"},{"$f":"RIGHT([League-Division],1)","v":"E"},{"$f":"IF([LG]=\"N\",10,20)","v":20},{"$f":"IF([DIV]=\"E\",1,IF([DIV]=\"C\",2,3))","v":1},{"$f":"[LGS]+[DIVS]","v":21}]
[2001,"Mercedes, Jose","BAL","Baltimore Orioles",2750000,33,31,184,-96,5.82,1.5326086956521738,6.0163043478260869,10.711956521739131,63,98,4.67,4297,938,1504,5.8938794507796137,9.4503141726786133,1.4186641843146381,"AL-E",{"$f":"LEFT([League-Division],1)","v":"A"},{"$f":"RIGHT([League-Division],1)","v":"E"},{"$f":"IF([LG]=\"N\",10,20)","v":20},{"$f":"IF([DIV]=\"E\",1,IF([DIV]=\"C\",2,3))","v":1},{"$f":"[LGS]+[DIVS]","v":21}]
[1995,"Mercker, Kent","ATL","Atlanta Braves",2250000,29,26,143,-38,4.1500000000000004,1.4055944055944056,6.41958041958042,8.8111888111888117,90,54,3.44,3873,1087,1184,7.5778466305189776,8.25406661502711,1.254841208365608,"NL-E",{"$f":"LEFT([League-Division],1)","v":"N"},{"$f":"RIGHT([League-Division],1)","v":"E"},{"$f":"IF([LG]=\"N\",10,20)","v":10},{"$f":"IF([DIV]=\"E\",1,IF([DIV]=\"C\",2,3))","v":1},{"$f":"[LGS]+[DIVS]","v":11}]
[2003,"Mercker, Kent","ATL","Atlanta Braves",550000,18,0,17,-8,1.06,1.2941176470588236,3.7058823529411762,7.9411764705882355,101,61,4.0999999999999996,4369,992,1425,6.1304646372167548,8.8063630121309231,1.3595788509956512,"NL-E",{"$f":"LEFT([League-Division],1)","v":"N"},{"$f":"RIGHT([League-Division],1)","v":"E"},{"$f":"IF([LG]=\"N\",10,20)","v":10},{"$f":"IF([DIV]=\"E\",1,IF([DIV]=\"C\",2,3))","v":1},{"$f":"[LGS]+[DIVS]","v":11}]
[2008,"Meredith, Cla","SDN","San Diego Padres",415000,73,0,70.333333333333329,-30,4.09,1.4644549763033177,6.2701421800947879,10.109004739336495,63,99,4.41,4375,1100,1466,6.7885714285714291,9.0473142857142861,1.3899428571428571,"NL-W",{"$f":"LEFT([League-Division],1)","v":"N"},{"$f":"RIGHT([League-Division],1)","v":"W"},{"$f":"IF([LG]=\"N\",10,20)","v":10},{"$f":"IF([DIV]=\"E\",1,IF([DIV]=\"C\",2,3))","v":3},{"$f":"[LGS]+[DIVS]","v":13}]
[2010,"Meredith, Cla","BAL","Baltimore Orioles",850000,21,0,15,-11,5.4,1.4666666666666666,4.2,10.799999999999999,66,96,4.59,4309,1007,1508,6.3098166627987933,9.4490601067533078,1.41192852169877,"AL-E",{"$f":"LEFT([League-Division],1)","v":"A"},{"$f":"RIGHT([League-Division],1)","v":"E"},{"$f":"IF([LG]=\"N\",10,20)","v":20},{"$f":"IF([DIV]=\"E\",1,IF([DIV]=\"C\",2,3))","v":1},{"$f":"[LGS]+[DIVS]","v":21}]
[2002,"Mesa, Jose","PHI","Philadelphia Phillies",4200000,74,0,75.666666666666671,-1,2.97,1.3744493392070485,7.6123348017621133,7.7312775330396466,80,81,4.17,4349,1075,1381,6.6739480340308113,8.5736951023223718,1.345826626810761,"NL-E",{"$f":"LEFT([League-Division],1)","v":"N"},{"$f":"RIGHT([League-Division],1)","v":"E"},{"$f":"IF([LG]=\"N\",10,20)","v":10},{"$f":"IF([DIV]=\"E\",1,IF([DIV]=\"C\",2,3))","v":1},{"$f":"[LGS]+[DIVS]","v":11}]
[2006,"Messenger, Randy","FLO","Florida Marlins",327000,59,0,60.333333333333336,-27,5.67,1.5911602209944751,6.7127071823204414,10.740331491712707,78,84,4.37,4300,1088,1465,6.8316279069767445,9.1988372093023258,1.4560465116279071,"NL-E",{"$f":"LEFT([League-Division],1)","v":"N"},{"$f":"RIGHT([League-Division],1)","v":"E"},{"$f":"IF([LG]=\"N\",10,20)","v":10},{"$f":"IF([DIV]=\"E\",1,IF([DIV]=\"C\",2,3))","v":1},{"$f":"[LGS]+[DIVS]","v":11}]
[2009,"Meyer, Dan","FLO","Florida Marlins",400000,71,0,58.333333333333336,9,3.09,1.1657142857142857,8.64,7.2514285714285718,87,75,4.32,4339,1248,1425,7.7658446646692791,8.8672505185526624,1.4007835906890989,"NL-E",{"$f":"LEFT([League-Division],1)","v":"N"},{"$f":"RIGHT([League-Division],1)","v":"E"},{"$f":"IF([LG]=\"N\",10,20)","v":10},{"$f":"IF([DIV]=\"E\",1,IF([DIV]=\"C\",2,3))","v":1},{"$f":"[LGS]+[DIVS]","v":11}]
[2001,"Miceli, Dan","COL","Colorado Rockies",2000000,22,0,20.333333333333332,-1,2.21,1.1311475409836067,7.5245901639344268,7.9672131147540988,73,89,5.29,4290,1058,1522,6.6587412587412587,9.5790209790209779,1.4825174825174825,"NL-W",{"$f":"LEFT([League-Division],1)","v":"N"},{"$f":"RIGHT([League-Division],1)","v":"W"},{"$f":"IF([LG]=\"N\",10,20)","v":10},{"$f":"IF([DIV]=\"E\",1,IF([DIV]=\"C\",2,3))","v":3},{"$f":"[LGS]+[DIVS]","v":13}]
[2002,"Miceli, Dan","TEX","Texas Rangers",1000000,9,0,8.3333333333333339,-8,8.64,1.92,5.3999999999999995,14.04,72,90,5.15,4319,1030,1528,6.4389905070618196,9.5522111599907387,1.5260476962259781,"AL-W",{"$f":"LEFT([League-Division],1)","v":"A"},{"$f":"RIGHT([League-Division],1)","v":"W"},{"$f":"IF([LG]=\"N\",10,20)","v":20},{"$f":"IF([DIV]=\"E\",1,IF([DIV]=\"C\",2,3))","v":3},{"$f":"[LGS]+[DIVS]","v":23}]
[2001,"Michalak, Chris","TEX","Texas Rangers",200000,11,0,21.666666666666668,-14,3.32,1.3846153846153846,4.1538461538461533,9.9692307692307676,73,89,5.71,4315,951,1670,5.9506373117033604,10.449594438006953,1.5754345307068367,"AL-W",{"$f":"LEFT([League-Division],1)","v":"A"},{"$f":"RIGHT([League-Division],1)","v":"W"},{"$f":"IF([LG]=\"N\",10,20)","v":20},{"$f":"IF([DIV]=\"E\",1,IF([DIV]=\"C\",2,3))","v":3},{"$f":"[LGS]+[DIVS]","v":23}]
[2008,"Miller, Andrew","FLO","Florida Marlins",2212500,29,20,107.33333333333333,-31,5.87,1.639751552795031,7.462732919254659,10.062111801242237,84,77,4.4400000000000004,4306,1127,1421,7.0666511843938693,8.9101254064096622,1.3982814677194613,"NL-E",{"$f":"LEFT([League-Division],1)","v":"N"},{"$f":"RIGHT([League-Division],1)","v":"E"},{"$f":"IF([LG]=\"N\",10,20)","v":10},{"$f":"IF([DIV]=\"E\",1,IF([DIV]=\"C\",2,3))","v":1},{"$f":"[LGS]+[DIVS]","v":11}]
[2008,"Miller, Justin","FLO","Florida Marlins",750000,46,0,46.666666666666664,-3,4.24,1.4142857142857144,8.2928571428571427,8.8714285714285719,84,77,4.4400000000000004,4306,1127,1421,7.0666511843938693,8.9101254064096622,1.3982814677194613,"NL-E",{"$f":"LEFT([League-Division],1)","v":"N"},{"$f":"RIGHT([League-Division],1)","v":"E"},{"$f":"IF([LG]=\"N\",10,20)","v":10},{"$f":"IF([DIV]=\"E\",1,IF([DIV]=\"C\",2,3))","v":1},{"$f":"[LGS]+[DIVS]","v":11}]
[1997,"Miller, Travis","MIN","Minnesota Twins",150000,13,7,48.333333333333336,-38,7.63,1.7999999999999998,4.841379310344827,11.917241379310344,68,94,5.0199999999999996,4302,908,1596,5.6987447698744766,10.01673640167364,1.4581589958158996,"AL-C",{"$f":"LEFT([League-Division],1)","v":"A"},{"$f":"RIGHT([League-Division],1)","v":"C"},{"$f":"IF([LG]=\"N\",10,20)","v":20},{"$f":"IF([DIV]=\"E\",1,IF([DIV]=\"C\",2,3))","v":2},{"$f":"[LGS]+[DIVS]","v":22}]
[2000,"Miller, Trever","PHI","Philadelphia Phillies",280000,14,0,14,-9,8.36,2,6.4285714285714288,12.214285714285715,65,97,4.7699999999999996,4315,1123,1458,7.0268829663962915,9.1230590961761315,1.4586326767091542,"NL-E",{"$f":"LEFT([League-Division],1)","v":"N"},{"$f":"RIGHT([League-Division],1)","v":"E"},{"$f":"IF([LG]=\"N\",10,20)","v":10},{"$f":"IF([DIV]=\"E\",1,IF([DIV]=\"C\",2,3))","v":1},{"$f":"[LGS]+[DIVS]","v":11}]
[2004,"Miller, Trever","TBA","Tampa Bay Devil Rays",650000,60,0,49,-5,3.12,1.2857142857142858,7.8979591836734695,8.816326530612244,70,91,4.8099999999999996,4251,923,1459,5.8623853211009171,9.2667607621736057,1.438955539872971,"AL-E",{"$f":"LEFT([League-Division],1)","v":"A"},{"$f":"RIGHT([League-Division],1)","v":"E"},{"$f":"IF([LG]=\"N\",10,20)","v":20},{"$f":"IF([DIV]=\"E\",1,IF([DIV]=\"C\",2,3))","v":1},{"$f":"[LGS]+[DIVS]","v":21}]
[2001,"Miller, Wade","HOU","Houston Astros",241000,32,32,212,0,3.4,1.2216981132075471,7.7688679245283012,7.7688679245283012,93,69,4.37,4364,1228,1453,7.5976168652612275,8.9896883593033916,1.3329514207149404,"NL-C",{"$f":"LEFT([League-Division],1)","v":"N"},{"$f":"RIGHT([League-Division],1)","v":"C"},{"$f":"IF([LG]=\"N\",10,20)","v":10},{"$f":"IF([DIV]=\"E\",1,IF([DIV]=\"C\",2,3))","v":2},{"$f":"[LGS]+[DIVS]","v":12}]
[2004,"Miller, Wade","HOU","Houston Astros",3400000,15,15,88.666666666666671,-2,3.35,1.3533834586466165,7.511278195488722,7.7142857142857135,92,70,4.05,4329,1282,1416,7.995841995841996,8.8316008316008325,1.345114345114345,"NL-C",{"$f":"LEFT([League-Division],1)","v":"N"},{"$f":"RIGHT([League-Division],1)","v":"C"},{"$f":"IF([LG]=\"N\",10,20)","v":10},{"$f":"IF([DIV]=\"E\",1,IF([DIV]=\"C\",2,3))","v":2},{"$f":"[LGS]+[DIVS]","v":12}]
[2000,"Mills, Alan","LAN","Los Angeles Dodgers",2250000,18,0,25.666666666666668,-13,4.21,1.831168831168831,6.3116883116883118,10.870129870129869,86,76,4.0999999999999996,4335,1154,1379,7.1875432525951561,8.5889273356401379,1.3695501730103807,"NL-W",{"$f":"LEFT([League-Division],1)","v":"N"},{"$f":"RIGHT([League-Division],1)","v":"W"},{"$f":"IF([LG]=\"N\",10,20)","v":10},{"$f":"IF([DIV]=\"E\",1,IF([DIV]=\"C\",2,3))","v":3},{"$f":"[LGS]+[DIVS]","v":13}]
[2003,"Millwood, Kevin","PHI","Philadelphia Phillies",9900000,35,35,222,-41,4.01,1.2522522522522523,6.8513513513513509,8.513513513513514,86,76,4.04,4331,1060,1386,6.6081736319556681,8.6404987300854312,1.3313322558300622,"NL-E",{"$f":"LEFT([League-Division],1)","v":"N"},{"$f":"RIGHT([League-Division],1)","v":"E"},{"$f":"IF([LG]=\"N\",10,20)","v":10},{"$f":"IF([DIV]=\"E\",1,IF([DIV]=\"C\",2,3))","v":1},{"$f":"[LGS]+[DIVS]","v":11}]
[2006,"Millwood, Kevin","TEX","Texas Rangers",7868893,34,34,215,-71,4.5199999999999996,1.3069767441860465,6.5720930232558139,9.5441860465116264,80,82,4.5999999999999996,4294,972,1558,6.1117838844899861,9.7964601769911521,1.4350256171401956,"AL-W",{"$f":"LEFT([League-Division],1)","v":"A"},{"$f":"RIGHT([League-Division],1)","v":"W"},{"$f":"IF([LG]=\"N\",10,20)","v":20},{"$f":"IF([DIV]=\"E\",1,IF([DIV]=\"C\",2,3))","v":3},{"$f":"[LGS]+[DIVS]","v":23}]
[2002,"Milton, Eric","MIN","Minnesota Twins",4000000,29,29,171,-52,4.84,1.1871345029239766,6.3684210526315788,9.1052631578947381,94,67,4.12,4334,1026,1454,6.391785879095524,9.0581449007844927,1.3103368712505767,"AL-C",{"$f":"LEFT([League-Division],1)","v":"A"},{"$f":"RIGHT([League-Division],1)","v":"C"},{"$f":"IF([LG]=\"N\",10,20)","v":20},{"$f":"IF([DIV]=\"E\",1,IF([DIV]=\"C\",2,3))","v":2},{"$f":"[LGS]+[DIVS]","v":22}]
[1996,"Mimbs, Mike","PHI","Philadelphia Phillies",160000,21,17,99.333333333333329,-60,5.53,1.580536912751678,5.0738255033557049,10.51006711409396,67,95,4.49,4269,1044,1463,6.6029515108924812,9.2529866479269156,1.3865073787772313,"NL-E",{"$f":"LEFT([League-Division],1)","v":"N"},{"$f":"RIGHT([League-Division],1)","v":"E"},{"$f":"IF([LG]=\"N\",10,20)","v":10},{"$f":"IF([DIV]=\"E\",1,IF([DIV]=\"C\",2,3))","v":1},{"$f":"[LGS]+[DIVS]","v":11}]
[2008,"Miner, Zach","DET","Detroit Tigers",410000,45,13,118,-56,4.2699999999999996,1.3898305084745763,4.7288135593220346,9,74,88,4.91,4335,991,1541,6.1723183391003458,9.5979238754325245,1.5121107266435987,"AL-C",{"$f":"LEFT([League-Division],1)","v":"A"},{"$f":"RIGHT([League-Division],1)","v":"C"},{"$f":"IF([LG]=\"N\",10,20)","v":20},{"$f":"IF([DIV]=\"E\",1,IF([DIV]=\"C\",2,3))","v":2},{"$f":"[LGS]+[DIVS]","v":22}]
[1996,"Miranda, Angel","ML4","Milwaukee Brewers",135000,46,12,109.33333333333333,-38,4.9400000000000004,1.6920731707317074,6.4207317073170742,9.5487804878048781,80,82,5.17,4341,846,1570,5.2619212163096067,9.7650310988251547,1.5238424326192122,"AL-C",{"$f":"LEFT([League-Division],1)","v":"A"},{"$f":"RIGHT([League-Division],1)","v":"C"},{"$f":"IF([LG]=\"N\",10,20)","v":20},{"$f":"IF([DIV]=\"E\",1,IF([DIV]=\"C\",2,3))","v":2},{"$f":"[LGS]+[DIVS]","v":22}]
[2004,"Mitre, Sergio","CHN","Chicago Cubs",305000,12,9,51.666666666666664,-34,6.62,1.7612903225806453,6.4451612903225808,12.367741935483872,89,73,3.81,4396,1346,1363,8.2670609645131936,8.3714740673339403,1.3020928116469519,"NL-C",{"$f":"LEFT([League-Division],1)","v":"N"},{"$f":"RIGHT([League-Division],1)","v":"C"},{"$f":"IF([LG]=\"N\",10,20)","v":10},{"$f":"IF([DIV]=\"E\",1,IF([DIV]=\"C\",2,3))","v":2},{"$f":"[LGS]+[DIVS]","v":12}]
[1999,"Mlicki, Dave","LAN","Los Angeles Dodgers",2250000,2,0,7.333333333333333,-9,4.91,1.6363636363636365,1.2272727272727275,12.272727272727273,77,85,4.45,4357,1077,1438,6.6740876750057385,8.9111774156529719,1.3991278402570577,"NL-W",{"$f":"LEFT([League-Division],1)","v":"N"},{"$f":"RIGHT([League-Division],1)","v":"W"},{"$f":"IF([LG]=\"N\",10,20)","v":10},{"$f":"IF([DIV]=\"E\",1,IF([DIV]=\"C\",2,3))","v":3},{"$f":"[LGS]+[DIVS]","v":13}]
[1997,"Moehler, Brian","DET","Detroit Tigers",150000,31,31,175.33333333333334,-101,4.67,1.4771863117870723,4.9790874524714832,10.163498098859316,79,83,4.5599999999999996,4335,982,1476,6.1162629757785467,9.1930795847750879,1.4034602076124567,"AL-E",{"$f":"LEFT([League-Division],1)","v":"A"},{"$f":"RIGHT([League-Division],1)","v":"E"},{"$f":"IF([LG]=\"N\",10,20)","v":20},{"$f":"IF([DIV]=\"E\",1,IF([DIV]=\"C\",2,3))","v":1},{"$f":"[LGS]+[DIVS]","v":21}]
[2000,"Moehler, Brian","DET","Detroit Tigers",1816667,29,29,178,-119,4.5,1.4719101123595506,5.2078651685393256,11.224719101123595,79,83,4.71,4329,978,1583,6.0997920997920998,9.873180873180873,1.4407484407484408,"AL-C",{"$f":"LEFT([League-Division],1)","v":"A"},{"$f":"RIGHT([League-Division],1)","v":"C"},{"$f":"IF([LG]=\"N\",10,20)","v":20},{"$f":"IF([DIV]=\"E\",1,IF([DIV]=\"C\",2,3))","v":2},{"$f":"[LGS]+[DIVS]","v":22}]
[2007,"Moehler, Brian","HOU","Houston Astros",500000,42,0,59.666666666666664,-31,4.07,1.4078212290502794,5.4301675977653634,10.106145251396647,73,89,4.68,4394,1109,1566,6.8145197997268996,9.6226672735548462,1.417387346381429,"NL-C",{"$f":"LEFT([League-Division],1)","v":"N"},{"$f":"RIGHT([League-Division],1)","v":"C"},{"$f":"IF([LG]=\"N\",10,20)","v":10},{"$f":"IF([DIV]=\"E\",1,IF([DIV]=\"C\",2,3))","v":2},{"$f":"[LGS]+[DIVS]","v":12}]
[2000,"Mohler, Mike","SLN","St. Louis Cardinals",690000,22,0,19,-18,9,2.1578947368421053,3.7894736842105261,12.315789473684211,95,67,4.38,4300,1100,1403,6.9069767441860463,8.8095348837209304,1.4016279069767443,"NL-C",{"$f":"LEFT([League-Division],1)","v":"N"},{"$f":"RIGHT([League-Division],1)","v":"C"},{"$f":"IF([LG]=\"N\",10,20)","v":10},{"$f":"IF([DIV]=\"E\",1,IF([DIV]=\"C\",2,3))","v":2},{"$f":"[LGS]+[DIVS]","v":12}]
[1995,"Monteleone, Rich","CAL","California Angels",109000,9,0,9,-3,2,1.2222222222222223,5,8,78,67,4.5199999999999996,3852,901,1310,6.3154205607476639,9.1822429906542045,1.3987538940809969,"AL-W",{"$f":"LEFT([League-Division],1)","v":"A"},{"$f":"RIGHT([League-Division],1)","v":"W"},{"$f":"IF([LG]=\"N\",10,20)","v":20},{"$f":"IF([DIV]=\"E\",1,IF([DIV]=\"C\",2,3))","v":3},{"$f":"[LGS]+[DIVS]","v":23}]
[1999,"Montgomery, Jeff","KCA","Kansas City Royals",200000,49,0,51.333333333333336,-45,6.84,1.8116883116883116,4.7337662337662341,12.623376623376624,64,97,5.35,4261,831,1607,5.265665336775406,10.182820934053041,1.5841351795353205,"AL-C",{"$f":"LEFT([League-Division],1)","v":"A"},{"$f":"RIGHT([League-Division],1)","v":"C"},{"$f":"IF([LG]=\"N\",10,20)","v":20},{"$f":"IF([DIV]=\"E\",1,IF([DIV]=\"C\",2,3))","v":2},{"$f":"[LGS]+[DIVS]","v":22}]
[2000,"Montgomery, Steve","SDN","San Diego Padres",250000,7,0,5.666666666666667,-3,7.94,1.7647058823529411,4.7647058823529411,9.5294117647058822,76,86,4.5199999999999996,4377,1071,1443,6.6065798492117889,8.901302261823167,1.4338588074023304,"NL-W",{"$f":"LEFT([League-Division],1)","v":"N"},{"$f":"RIGHT([League-Division],1)","v":"W"},{"$f":"IF([LG]=\"N\",10,20)","v":10},{"$f":"IF([DIV]=\"E\",1,IF([DIV]=\"C\",2,3))","v":3},{"$f":"[LGS]+[DIVS]","v":13}]
[2009,"Moreno, Edwin","SDN","San Diego Padres",400000,19,0,22.333333333333332,-13,4.84,1.9253731343283582,6.0447761194029859,11.28358208955224,75,87,4.37,4352,1187,1422,7.3642003676470589,8.8221507352941178,1.3959099264705881,"NL-W",{"$f":"LEFT([League-Division],1)","v":"N"},{"$f":"RIGHT([League-Division],1)","v":"W"},{"$f":"IF([LG]=\"N\",10,20)","v":10},{"$f":"IF([DIV]=\"E\",1,IF([DIV]=\"C\",2,3))","v":3},{"$f":"[LGS]+[DIVS]","v":13}]
[1997,"Morgan, Mike","CIN","Cincinnati Reds",500000,31,30,162,-62,4.78,1.3209876543209877,5.7222222222222223,9.1666666666666679,76,86,4.42,4347,1159,1408,7.1987577639751548,8.7453416149068328,1.3567977915804004,"NL-C",{"$f":"LEFT([League-Division],1)","v":"N"},{"$f":"RIGHT([League-Division],1)","v":"C"},{"$f":"IF([LG]=\"N\",10,20)","v":10},{"$f":"IF([DIV]=\"E\",1,IF([DIV]=\"C\",2,3))","v":2},{"$f":"[LGS]+[DIVS]","v":12}]
[1999,"Morgan, Mike","TEX","Texas Rangers",900000,34,25,140,-123,6.24,1.6571428571428573,3.9214285714285717,11.828571428571429,95,67,5.07,4306,979,1626,6.1386437529029259,10.195541105434279,1.4874593590339062,"AL-W",{"$f":"LEFT([League-Division],1)","v":"A"},{"$f":"RIGHT([League-Division],1)","v":"W"},{"$f":"IF([LG]=\"N\",10,20)","v":20},{"$f":"IF([DIV]=\"E\",1,IF([DIV]=\"C\",2,3))","v":3},{"$f":"[LGS]+[DIVS]","v":23}]
[1998,"Morman, Alvin","SFN","San Francisco Giants",220000,9,0,7,-1,5.14,1.5714285714285714,9,10.285714285714285,89,74,4.1900000000000004,4431,1089,1457,6.6357481381178065,8.8781313473256596,1.3669600541638456,"NL-W",{"$f":"LEFT([League-Division],1)","v":"N"},{"$f":"RIGHT([League-Division],1)","v":"W"},{"$f":"IF([LG]=\"N\",10,20)","v":10},{"$f":"IF([DIV]=\"E\",1,IF([DIV]=\"C\",2,3))","v":3},{"$f":"[LGS]+[DIVS]","v":13}]
[2002,"Morris, Matt","SLN","St. Louis Cardinals",4000000,32,32,210.33333333333334,-39,3.42,1.3026941362916005,7.316957210776545,8.9857369255150541,97,65,3.7,4339,1009,1355,6.2786356303295694,8.431666282553584,1.3150495505876931,"NL-C",{"$f":"LEFT([League-Division],1)","v":"N"},{"$f":"RIGHT([League-Division],1)","v":"C"},{"$f":"IF([LG]=\"N\",10,20)","v":10},{"$f":"IF([DIV]=\"E\",1,IF([DIV]=\"C\",2,3))","v":2},{"$f":"[LGS]+[DIVS]","v":12}]
[2005,"Morris, Matt","SLN","St. Louis Cardinals",2500000,31,31,192.66666666666666,-92,4.1100000000000003,1.2768166089965398,5.4653979238754324,9.7629757785467142,100,62,3.49,4337,974,1399,6.0636384597648147,8.7094765967258461,1.2741526400737837,"NL-C",{"$f":"LEFT([League-Division],1)","v":"N"},{"$f":"RIGHT([League-Division],1)","v":"C"},{"$f":"IF([LG]=\"N\",10,20)","v":10},{"$f":"IF([DIV]=\"E\",1,IF([DIV]=\"C\",2,3))","v":2},{"$f":"[LGS]+[DIVS]","v":12}]
[2010,"Morrow, Brandon","TOR","Toronto Blue Jays",409800,26,26,146.33333333333334,42,4.49,1.3804100227790432,10.94760820045558,8.3644646924829154,85,77,4.2300000000000004,4322,1184,1407,7.3965756594169365,8.789680703378064,1.3507635354002776,"AL-E",{"$f":"LEFT([League-Division],1)","v":"A"},{"$f":"RIGHT([League-Division],1)","v":"E"},{"$f":"IF([LG]=\"N\",10,20)","v":20},{"$f":"IF([DIV]=\"E\",1,IF([DIV]=\"C\",2,3))","v":1},{"$f":"[LGS]+[DIVS]","v":21}]
[2007,"Moseley, Dustin","LAA","Los Angeles Angels of Anaheim",380500,46,8,92,-47,4.4000000000000004,1.3478260869565217,4.8913043478260869,9.4891304347826093,94,68,4.2300000000000004,4305,1156,1480,7.2501742160278742,9.2822299651567945,1.3637630662020905,"AL-W",{"$f":"LEFT([League-Division],1)","v":"A"},{"$f":"RIGHT([League-Division],1)","v":"W"},{"$f":"IF([LG]=\"N\",10,20)","v":20},{"$f":"IF([DIV]=\"E\",1,IF([DIV]=\"C\",2,3))","v":3},{"$f":"[LGS]+[DIVS]","v":23}]
[2003,"Mota, Guillermo","LAN","Los Angeles Dodgers",675000,76,0,105,21,1.97,0.99047619047619051,8.4857142857142858,6.6857142857142859,85,77,3.16,4373,1289,1254,7.9586096501257719,7.742510862108392,1.2211296592728105,"NL-W",{"$f":"LEFT([League-Division],1)","v":"N"},{"$f":"RIGHT([League-Division],1)","v":"W"},{"$f":"IF([LG]=\"N\",10,20)","v":10},{"$f":"IF([DIV]=\"E\",1,IF([DIV]=\"C\",2,3))","v":3},{"$f":"[LGS]+[DIVS]","v":13}]
[2008,"Mota, Guillermo","MIL","Milwaukee Brewers",3200000,58,0,57,-2,4.1100000000000003,1.4035087719298245,7.8947368421052628,8.2105263157894726,90,72,3.87,4367,1110,1415,6.8628348980993819,8.7485688115411033,1.3347836043050147,"NL-C",{"$f":"LEFT([League-Division],1)","v":"N"},{"$f":"RIGHT([League-Division],1)","v":"C"},{"$f":"IF([LG]=\"N\",10,20)","v":10},{"$f":"IF([DIV]=\"E\",1,IF([DIV]=\"C\",2,3))","v":2},{"$f":"[LGS]+[DIVS]","v":12}]
[2009,"Motte, Jason","SLN","St. Louis Cardinals",400000,69,0,56.666666666666664,-3,4.76,1.411764705882353,8.5764705882352938,9.052941176470588,91,71,3.66,4322,1049,1407,6.5532161036557142,8.789680703378064,1.2959278111985191,"NL-C",{"$f":"LEFT([League-Division],1)","v":"N"},{"$f":"RIGHT([League-Division],1)","v":"C"},{"$f":"IF([LG]=\"N\",10,20)","v":10},{"$f":"IF([DIV]=\"E\",1,IF([DIV]=\"C\",2,3))","v":2},{"$f":"[LGS]+[DIVS]","v":12}]
[1999,"Moyer, Jamie","SEA","Seattle Mariners",2300000,32,32,228,-98,3.87,1.2412280701754386,5.4078947368421053,9.276315789473685,79,83,5.24,4300,980,1613,6.1534883720930242,10.12813953488372,1.6025581395348838,"AL-W",{"$f":"LEFT([League-Division],1)","v":"A"},{"$f":"RIGHT([League-Division],1)","v":"W"},{"$f":"IF([LG]=\"N\",10,20)","v":20},{"$f":"IF([DIV]=\"E\",1,IF([DIV]=\"C\",2,3))","v":3},{"$f":"[LGS]+[DIVS]","v":23}]
[2007,"Moyer, Jamie","PHI","Philadelphia Phillies",6500000,33,33,199.33333333333334,-89,5.01,1.4448160535117056,6.0050167224080271,10.023411371237458,89,73,4.7300000000000004,4375,1050,1555,6.48,9.5965714285714281,1.4489142857142858,"NL-E",{"$f":"LEFT([League-Division],1)","v":"N"},{"$f":"RIGHT([League-Division],1)","v":"E"},{"$f":"IF([LG]=\"N\",10,20)","v":10},{"$f":"IF([DIV]=\"E\",1,IF([DIV]=\"C\",2,3))","v":1},{"$f":"[LGS]+[DIVS]","v":11}]
[2010,"Moyer, Jamie","PHI","Philadelphia Phillies",8000000,19,19,111.66666666666667,-40,4.84,1.1014925373134328,5.0776119402985067,8.3014925373134325,97,65,3.68,4369,1183,1402,7.3108262760357059,8.6642252231631947,1.2483405813687343,"NL-E",{"$f":"LEFT([League-Division],1)","v":"N"},{"$f":"RIGHT([League-Division],1)","v":"E"},{"$f":"IF([LG]=\"N\",10,20)","v":10},{"$f":"IF([DIV]=\"E\",1,IF([DIV]=\"C\",2,3))","v":1},{"$f":"[LGS]+[DIVS]","v":11}]
[2002,"Mulder, Mark","OAK","Oakland Athletics",800000,30,30,207.33333333333334,-23,3.47,1.1430868167202572,6.901929260450161,7.90032154340836,103,59,3.68,4356,1021,1391,6.3285123966942143,8.6219008264462822,1.2844352617079891,"AL-W",{"$f":"LEFT([League-Division],1)","v":"A"},{"$f":"RIGHT([League-Division],1)","v":"W"},{"$f":"IF([LG]=\"N\",10,20)","v":20},{"$f":"IF([DIV]=\"E\",1,IF([DIV]=\"C\",2,3))","v":3},{"$f":"[LGS]+[DIVS]","v":23}]
[2005,"Mulder, Mark","SLN","St. Louis Cardinals",6050000,32,32,205,-101,3.64,1.3756097560975609,4.873170731707317,9.3073170731707329,100,62,3.49,4337,974,1399,6.0636384597648147,8.7094765967258461,1.2741526400737837,"NL-C",{"$f":"LEFT([League-Division],1)","v":"N"},{"$f":"RIGHT([League-Division],1)","v":"C"},{"$f":"IF([LG]=\"N\",10,20)","v":10},{"$f":"IF([DIV]=\"E\",1,IF([DIV]=\"C\",2,3))","v":2},{"$f":"[LGS]+[DIVS]","v":12}]
[1997,"Mulholland, Terry","SFN","San Francisco Giants",2400000,15,2,29.666666666666668,-3,5.16,1.146067415730337,7.584269662921348,8.4943820224719104,90,72,4.41,4338,1044,1494,6.4979253112033195,9.2987551867219924,1.4329183955739973,"NL-W",{"$f":"LEFT([League-Division],1)","v":"N"},{"$f":"RIGHT([League-Division],1)","v":"W"},{"$f":"IF([LG]=\"N\",10,20)","v":10},{"$f":"IF([DIV]=\"E\",1,IF([DIV]=\"C\",2,3))","v":3},{"$f":"[LGS]+[DIVS]","v":13}]
[2002,"Mulholland, Terry","LAN","Los Angeles Dodgers",3250000,21,0,32,-28,7.31,1.625,4.78125,12.65625,92,70,3.69,4373,1132,1311,6.9892522295906696,8.094443174022409,1.2801280585410473,"NL-W",{"$f":"LEFT([League-Division],1)","v":"N"},{"$f":"RIGHT([League-Division],1)","v":"W"},{"$f":"IF([LG]=\"N\",10,20)","v":10},{"$f":"IF([DIV]=\"E\",1,IF([DIV]=\"C\",2,3))","v":3},{"$f":"[LGS]+[DIVS]","v":13}]
[2001,"Mullen, Scott","KCA","Kansas City Royals",200000,17,0,10,-10,4.5,2.2000000000000002,2.6999999999999997,11.700000000000001,65,97,4.87,4320,911,1537,5.6937499999999996,9.6062500000000011,1.4673611111111111,"AL-C",{"$f":"LEFT([League-Division],1)","v":"A"},{"$f":"RIGHT([League-Division],1)","v":"C"},{"$f":"IF([LG]=\"N\",10,20)","v":20},{"$f":"IF([DIV]=\"E\",1,IF([DIV]=\"C\",2,3))","v":2},{"$f":"[LGS]+[DIVS]","v":22}]
[1998,"Munoz, Mike","COL","Colorado Rockies",585000,40,0,41.333333333333336,-29,5.66,1.6693548387096773,5.2258064516129021,11.54032258064516,77,85,5,4297,951,1583,5.9755643472189899,9.9467070048871307,1.497556434721899,"NL-W",{"$f":"LEFT([League-Division],1)","v":"N"},{"$f":"RIGHT([League-Division],1)","v":"W"},{"$f":"IF([LG]=\"N\",10,20)","v":10},{"$f":"IF([DIV]=\"E\",1,IF([DIV]=\"C\",2,3))","v":3},{"$f":"[LGS]+[DIVS]","v":13}]
[1995,"Murphy, Rob","FLO","Florida Marlins",250000,8,0,7.333333333333333,-3,9.82,1.7727272727272727,6.1363636363636367,9.8181818181818201,67,76,4.2699999999999996,3858,994,1299,6.9564541213063764,9.0909797822706064,1.4471228615863141,"NL-E",{"$f":"LEFT([League-Division],1)","v":"N"},{"$f":"RIGHT([League-Division],1)","v":"E"},{"$f":"IF([LG]=\"N\",10,20)","v":10},{"$f":"IF([DIV]=\"E\",1,IF([DIV]=\"C\",2,3))","v":1},{"$f":"[LGS]+[DIVS]","v":11}]
[1996,"Mussina, Mike","BAL","Baltimore Orioles",4000000,36,36,243.33333333333334,-60,4.8099999999999996,1.3684931506849314,7.5452054794520551,9.7643835616438359,88,74,5.15,4404,1047,1604,6.4189373297002721,9.8337874659400555,1.4993188010899183,"AL-E",{"$f":"LEFT([League-Division],1)","v":"A"},{"$f":"RIGHT([League-Division],1)","v":"E"},{"$f":"IF([LG]=\"N\",10,20)","v":20},{"$f":"IF([DIV]=\"E\",1,IF([DIV]=\"C\",2,3))","v":1},{"$f":"[LGS]+[DIVS]","v":21}]
[2003,"Mussina, Mike","NYA","New York Yankees",12000000,31,31,214.66666666666666,3,3.4,1.0807453416149069,8.1754658385093162,8.0496894409937898,101,61,4.0199999999999996,4386,1119,1512,6.888508891928864,9.3077975376196989,1.2906976744186047,"AL-E",{"$f":"LEFT([League-Division],1)","v":"A"},{"$f":"RIGHT([League-Division],1)","v":"E"},{"$f":"IF([LG]=\"N\",10,20)","v":20},{"$f":"IF([DIV]=\"E\",1,IF([DIV]=\"C\",2,3))","v":1},{"$f":"[LGS]+[DIVS]","v":21}]
[2006,"Mussina, Mike","NYA","New York Yankees",19000000,32,32,197.33333333333334,-12,3.51,1.1097972972972971,7.8445945945945947,8.3918918918918912,97,65,4.41,4331,1019,1463,6.352574463172477,9.1205264373123995,1.3569614407758024,"AL-E",{"$f":"LEFT([League-Division],1)","v":"A"},{"$f":"RIGHT([League-Division],1)","v":"E"},{"$f":"IF([LG]=\"N\",10,20)","v":20},{"$f":"IF([DIV]=\"E\",1,IF([DIV]=\"C\",2,3))","v":1},{"$f":"[LGS]+[DIVS]","v":21}]
[2007,"Myers, Brett","PHI","Philadelphia Phillies",5083333,51,3,68.666666666666671,22,4.33,1.2815533980582523,10.878640776699028,7.9951456310679605,89,73,4.7300000000000004,4375,1050,1555,6.48,9.5965714285714281,1.4489142857142858,"NL-E",{"$f":"LEFT([League-Division],1)","v":"N"},{"$f":"RIGHT([League-Division],1)","v":"E"},{"$f":"IF([LG]=\"N\",10,20)","v":10},{"$f":"IF([DIV]=\"E\",1,IF([DIV]=\"C\",2,3))","v":1},{"$f":"[LGS]+[DIVS]","v":11}]
[1999,"Myers, Mike","MIL","Milwaukee Brewers",800000,71,0,41.333333333333336,-11,5.23,1.4274193548387095,7.6209677419354831,10.016129032258064,74,87,5.07,4327,987,1618,6.1587705107464759,10.096140513057545,1.5488791310376706,"NL-C",{"$f":"LEFT([League-Division],1)","v":"N"},{"$f":"RIGHT([League-Division],1)","v":"C"},{"$f":"IF([LG]=\"N\",10,20)","v":10},{"$f":"IF([DIV]=\"E\",1,IF([DIV]=\"C\",2,3))","v":2},{"$f":"[LGS]+[DIVS]","v":12}]
[2002,"Myers, Mike","ARI","Arizona Diamondbacks",1533333,69,0,37,-8,4.38,1.5135135135135136,7.5405405405405403,9.486486486486486,98,64,3.92,4340,1303,1361,8.1062211981566819,8.4670506912442391,1.2317972350230415,"NL-W",{"$f":"LEFT([League-Division],1)","v":"N"},{"$f":"RIGHT([League-Division],1)","v":"W"},{"$f":"IF([LG]=\"N\",10,20)","v":10},{"$f":"IF([DIV]=\"E\",1,IF([DIV]=\"C\",2,3))","v":3},{"$f":"[LGS]+[DIVS]","v":13}]
[2007,"Myers, Mike","CHA","Chicago White Sox",1250000,17,0,13.666666666666666,-15,11.2,2.0487804878048781,3.9512195121951219,13.829268292682928,72,90,4.7699999999999996,4322,1015,1556,6.3408144377602955,9.7204997686256362,1.426422952336881,"AL-C",{"$f":"LEFT([League-Division],1)","v":"A"},{"$f":"RIGHT([League-Division],1)","v":"C"},{"$f":"IF([LG]=\"N\",10,20)","v":20},{"$f":"IF([DIV]=\"E\",1,IF([DIV]=\"C\",2,3))","v":2},{"$f":"[LGS]+[DIVS]","v":22}]
[2001,"Myers, Rodney","SDN","San Diego Padres",290000,37,0,47.333333333333336,-24,5.32,1.5422535211267605,5.5140845070422531,10.077464788732392,79,83,4.5199999999999996,4322,1088,1519,6.7968533086534002,9.4893567792688565,1.3847755668671911,"NL-W",{"$f":"LEFT([League-Division],1)","v":"N"},{"$f":"RIGHT([League-Division],1)","v":"W"},{"$f":"IF([LG]=\"N\",10,20)","v":10},{"$f":"IF([DIV]=\"E\",1,IF([DIV]=\"C\",2,3))","v":3},{"$f":"[LGS]+[DIVS]","v":13}]
[1995,"Nabholz, Chris","CHN","Chicago Cubs",300000,34,0,23.333333333333332,-1,5.4,1.5428571428571429,8.1,8.4857142857142858,73,71,4.13,3903,926,1313,6.4058416602613368,9.0830130668716365,1.4073789392774789,"NL-C",{"$f":"LEFT([League-Division],1)","v":"N"},{"$f":"RIGHT([League-Division],1)","v":"C"},{"$f":"IF([LG]=\"N\",10,20)","v":10},{"$f":"IF([DIV]=\"E\",1,IF([DIV]=\"C\",2,3))","v":2},{"$f":"[LGS]+[DIVS]","v":12}]
[2001,"Nagy, Charles","CLE","Cleveland Indians",6000000,15,13,70.333333333333329,-73,6.4,1.7345971563981044,3.7109004739336497,13.052132701421801,91,71,4.6399999999999997,4340,1218,1512,7.5774193548387094,9.4064516129032256,1.4412442396313363,"AL-C",{"$f":"LEFT([League-Division],1)","v":"A"},{"$f":"RIGHT([League-Division],1)","v":"C"},{"$f":"IF([LG]=\"N\",10,20)","v":20},{"$f":"IF([DIV]=\"E\",1,IF([DIV]=\"C\",2,3))","v":2},{"$f":"[LGS]+[DIVS]","v":22}]
[2004,"Nance, Shane","ARI","Arizona Diamondbacks",307500,19,0,12.333333333333334,-10,5.84,2.5135135135135136,6.5675675675675675,13.864864864864865,51,111,4.9800000000000004,4308,1153,1480,7.2263231197771587,9.2757660167130922,1.4958217270194987,"NL-W",{"$f":"LEFT([League-Division],1)","v":"N"},{"$f":"RIGHT([League-Division],1)","v":"W"},{"$f":"IF([LG]=\"N\",10,20)","v":10},{"$f":"IF([DIV]=\"E\",1,IF([DIV]=\"C\",2,3))","v":3},{"$f":"[LGS]+[DIVS]","v":13}]
[2006,"Nathan, Joe","MIN","Minnesota Twins",3750000,64,0,68.333333333333329,57,1.58,0.79024390243902443,12.512195121951221,5.0048780487804887,96,66,3.95,4318,1164,1490,7.2783696155627613,9.3168133395090322,1.2825382121352478,"AL-C",{"$f":"LEFT([League-Division],1)","v":"A"},{"$f":"RIGHT([League-Division],1)","v":"C"},{"$f":"IF([LG]=\"N\",10,20)","v":20},{"$f":"IF([DIV]=\"E\",1,IF([DIV]=\"C\",2,3))","v":2},{"$f":"[LGS]+[DIVS]","v":22}]
[1996,"Navarro, Jaime","CHN","Chicago Cubs",3600000,35,35,236.66666666666666,-86,3.92,1.3352112676056338,6.0084507042253517,9.2788732394366189,76,86,4.3600000000000003,4368,1027,1447,6.3482142857142865,8.9443681318681314,1.3688186813186813,"NL-C",{"$f":"LEFT([League-Division],1)","v":"N"},{"$f":"RIGHT([League-Division],1)","v":"C"},{"$f":"IF([LG]=\"N\",10,20)","v":10},{"$f":"IF([DIV]=\"E\",1,IF([DIV]=\"C\",2,3))","v":2},{"$f":"[LGS]+[DIVS]","v":12}]
[1999,"Navarro, Jaime","CHA","Chicago White Sox",5000000,32,27,159.66666666666666,-132,6.09,1.7348643006263049,4.1711899791231737,11.611691022964511,75,86,4.92,4314,968,1608,6.0584144645340752,10.063977746870652,1.5326842837273991,"AL-C",{"$f":"LEFT([League-Division],1)","v":"A"},{"$f":"RIGHT([League-Division],1)","v":"C"},{"$f":"IF([LG]=\"N\",10,20)","v":20},{"$f":"IF([DIV]=\"E\",1,IF([DIV]=\"C\",2,3))","v":2},{"$f":"[LGS]+[DIVS]","v":22}]
[1998,"Neagle, Denny","ATL","Atlanta Braves",4500000,32,31,210.33333333333334,-31,3.55,1.2171156893819335,7.0602218700475436,8.3866877971473848,106,56,3.25,4315,1232,1291,7.7089223638470452,8.0780996523754354,1.2222479721900348,"NL-E",{"$f":"LEFT([League-Division],1)","v":"N"},{"$f":"RIGHT([League-Division],1)","v":"E"},{"$f":"IF([LG]=\"N\",10,20)","v":10},{"$f":"IF([DIV]=\"E\",1,IF([DIV]=\"C\",2,3))","v":1},{"$f":"[LGS]+[DIVS]","v":11}]
[2005,"Neal, Blaine","BOS","Boston Red Sox",321000,8,0,8,-12,9,2.25,3.375,16.875,95,67,4.74,4287,959,1550,6.0398880335899232,9.7620713785864233,1.3925822253324003,"AL-E",{"$f":"LEFT([League-Division],1)","v":"A"},{"$f":"RIGHT([League-Division],1)","v":"E"},{"$f":"IF([LG]=\"N\",10,20)","v":20},{"$f":"IF([DIV]=\"E\",1,IF([DIV]=\"C\",2,3))","v":1},{"$f":"[LGS]+[DIVS]","v":21}]
[1995,"Nelson, Jeff","SEA","Seattle Mariners",275000,62,0,78.666666666666671,38,2.17,1.0805084745762712,10.983050847457626,6.6355932203389827,79,66,4.5,3868,1068,1343,7.4550155118924506,9.3746122026887289,1.5,"AL-W",{"$f":"LEFT([League-Division],1)","v":"A"},{"$f":"RIGHT([League-Division],1)","v":"W"},{"$f":"IF([LG]=\"N\",10,20)","v":20},{"$f":"IF([DIV]=\"E\",1,IF([DIV]=\"C\",2,3))","v":3},{"$f":"[LGS]+[DIVS]","v":23}]
[2003,"Nelson, Jeff","NYA","New York Yankees",3983333,24,0,17.666666666666668,4,4.58,1.5283018867924527,10.69811320754717,8.6603773584905657,101,61,4.0199999999999996,4386,1119,1512,6.888508891928864,9.3077975376196989,1.2906976744186047,"AL-E",{"$f":"LEFT([League-Division],1)","v":"A"},{"$f":"RIGHT([League-Division],1)","v":"E"},{"$f":"IF([LG]=\"N\",10,20)","v":20},{"$f":"IF([DIV]=\"E\",1,IF([DIV]=\"C\",2,3))","v":1},{"$f":"[LGS]+[DIVS]","v":21}]
[2009,"Nelson, Joe","TBA","Tampa Bay Rays",1300000,42,0,40.333333333333336,4,4.0199999999999996,1.4628099173553719,8.0330578512396684,7.1404958677685944,84,78,4.3600000000000003,4282,1125,1421,7.0936478281177022,8.9600653900046705,1.3563755254553946,"AL-E",{"$f":"LEFT([League-Division],1)","v":"A"},{"$f":"RIGHT([League-Division],1)","v":"E"},{"$f":"IF([LG]=\"N\",10,20)","v":20},{"$f":"IF([DIV]=\"E\",1,IF([DIV]=\"C\",2,3))","v":1},{"$f":"[LGS]+[DIVS]","v":21}]
[2001,"Nen, Robb","SFN","San Francisco Giants",6600000,79,0,77.666666666666671,35,3.01,1.0300429184549356,10.776824034334764,6.7210300429184553,90,72,4.18,4390,1080,1437,6.642369020501139,8.8380410022779046,1.3776765375854214,"NL-W",{"$f":"LEFT([League-Division],1)","v":"N"},{"$f":"RIGHT([League-Division],1)","v":"W"},{"$f":"IF([LG]=\"N\",10,20)","v":10},{"$f":"IF([DIV]=\"E\",1,IF([DIV]=\"C\",2,3))","v":3},{"$f":"[LGS]+[DIVS]","v":13}]
[1995,"Nied, David","COL","Colorado Rockies",275000,2,0,4.333333333333333,-8,20.77,3.2307692307692308,6.2307692307692317,22.84615384615385,77,67,4.97,3864,891,1443,6.2259316770186341,10.083074534161492,1.5178571428571428,"NL-W",{"$f":"LEFT([League-Division],1)","v":"N"},{"$f":"RIGHT([League-Division],1)","v":"W"},{"$f":"IF([LG]=\"N\",10,20)","v":10},{"$f":"IF([DIV]=\"E\",1,IF([DIV]=\"C\",2,3))","v":3},{"$f":"[LGS]+[DIVS]","v":13}]
[2010,"Niese, Jonathon","NYN","New York Mets",402000,30,30,173.66666666666666,-44,4.2,1.4625719769673706,7.6698656429942416,9.9500959692898281,79,83,3.73,4359,1106,1438,6.8506538196834139,8.9070887818306961,1.364762560220234,"NL-E",{"$f":"LEFT([League-Division],1)","v":"N"},{"$f":"RIGHT([League-Division],1)","v":"E"},{"$f":"IF([LG]=\"N\",10,20)","v":10},{"$f":"IF([DIV]=\"E\",1,IF([DIV]=\"C\",2,3))","v":1},{"$f":"[LGS]+[DIVS]","v":11}]
[2010,"Nippert, Dustin","TEX","Texas Rangers",665000,38,2,56.666666666666664,-14,4.29,1.6764705882352942,7.4647058823529413,9.6882352941176464,90,72,3.93,4366,1181,1355,7.3034814475492444,8.3795235913879988,1.3096655978011911,"AL-W",{"$f":"LEFT([League-Division],1)","v":"A"},{"$f":"RIGHT([League-Division],1)","v":"W"},{"$f":"IF([LG]=\"N\",10,20)","v":20},{"$f":"IF([DIV]=\"E\",1,IF([DIV]=\"C\",2,3))","v":3},{"$f":"[LGS]+[DIVS]","v":23}]
[2004,"Nitkowski, C.J.","NYA","New York Yankees",375000,19,0,13,-8,7.62,1.8461538461538463,6.9230769230769234,12.461538461538462,101,61,4.6900000000000004,4331,1058,1532,6.5957053798199032,9.5506811359963049,1.3694296929115677,"AL-E",{"$f":"LEFT([League-Division],1)","v":"A"},{"$f":"RIGHT([League-Division],1)","v":"E"},{"$f":"IF([LG]=\"N\",10,20)","v":20},{"$f":"IF([DIV]=\"E\",1,IF([DIV]=\"C\",2,3))","v":1},{"$f":"[LGS]+[DIVS]","v":21}]
[2004,"Nitkowski, C.J.","ATL","Atlanta Braves",375000,22,0,20,-6,4.5,1.6,7.2,9.9,96,66,3.74,4350,1025,1475,6.3620689655172411,9.1551724137931032,1.3779310344827587,"NL-E",{"$f":"LEFT([League-Division],1)","v":"N"},{"$f":"RIGHT([League-Division],1)","v":"E"},{"$f":"IF([LG]=\"N\",10,20)","v":10},{"$f":"IF([DIV]=\"E\",1,IF([DIV]=\"C\",2,3))","v":1},{"$f":"[LGS]+[DIVS]","v":11}]
[1998,"Nomo, Hideo","LAN","Los Angeles Dodgers",2800000,12,12,67.666666666666671,16,5.05,1.4039408866995073,9.7093596059113292,7.5812807881773399,83,79,3.81,4341,1178,1332,7.3268832066344167,8.2847270214236346,1.3261921216309607,"NL-W",{"$f":"LEFT([League-Division],1)","v":"N"},{"$f":"RIGHT([League-Division],1)","v":"W"},{"$f":"IF([LG]=\"N\",10,20)","v":10},{"$f":"IF([DIV]=\"E\",1,IF([DIV]=\"C\",2,3))","v":3},{"$f":"[LGS]+[DIVS]","v":13}]
[2000,"Nomo, Hideo","DET","Detroit Tigers",1000000,32,31,190,-10,4.74,1.4736842105263157,8.5736842105263147,9.0473684210526315,79,83,4.71,4329,978,1583,6.0997920997920998,9.873180873180873,1.4407484407484408,"AL-C",{"$f":"LEFT([League-Division],1)","v":"A"},{"$f":"RIGHT([League-Division],1)","v":"C"},{"$f":"IF([LG]=\"N\",10,20)","v":20},{"$f":"IF([DIV]=\"E\",1,IF([DIV]=\"C\",2,3))","v":2},{"$f":"[LGS]+[DIVS]","v":22}]
[2010,"Norberto, Jordan","ARI","Arizona Diamondbacks",400000,33,0,20,-1,5.85,1.9,6.75,7.2,65,97,4.8099999999999996,4296,1070,1503,6.7248603351955305,9.4462290502793298,1.4322625698324023,"NL-W",{"$f":"LEFT([League-Division],1)","v":"N"},{"$f":"RIGHT([League-Division],1)","v":"W"},{"$f":"IF([LG]=\"N\",10,20)","v":10},{"$f":"IF([DIV]=\"E\",1,IF([DIV]=\"C\",2,3))","v":3},{"$f":"[LGS]+[DIVS]","v":13}]
[2008,"Nunez, Leo","KCA","Kansas City Royals",405000,45,0,48.333333333333336,-19,2.98,1.2413793103448276,4.841379310344827,8.3793103448275854,75,87,4.5,4337,1085,1473,6.7546691261240488,9.1701637076320033,1.375144108830989,"AL-C",{"$f":"LEFT([League-Division],1)","v":"A"},{"$f":"RIGHT([League-Division],1)","v":"C"},{"$f":"IF([LG]=\"N\",10,20)","v":20},{"$f":"IF([DIV]=\"E\",1,IF([DIV]=\"C\",2,3))","v":2},{"$f":"[LGS]+[DIVS]","v":22}]
[2002,"Nunez, Vladimir","FLO","Florida Marlins",360000,77,0,97.666666666666671,-7,3.41,1.197952218430034,6.7269624573378843,7.3720136518771326,79,83,4.3600000000000003,4369,1104,1449,6.8226138704509047,8.9546807049668118,1.4282444495307851,"NL-E",{"$f":"LEFT([League-Division],1)","v":"N"},{"$f":"RIGHT([League-Division],1)","v":"E"},{"$f":"IF([LG]=\"N\",10,20)","v":10},{"$f":"IF([DIV]=\"E\",1,IF([DIV]=\"C\",2,3))","v":1},{"$f":"[LGS]+[DIVS]","v":11}]
[2004,"Obermueller, Wes","MIL","Milwaukee Brewers",314000,25,20,118,-79,5.8,1.5254237288135593,4.5,10.525423728813559,67,94,4.24,4326,1098,1440,6.8529819694868239,8.9875173370318997,1.3287101248266298,"NL-C",{"$f":"LEFT([League-Division],1)","v":"N"},{"$f":"RIGHT([League-Division],1)","v":"C"},{"$f":"IF([LG]=\"N\",10,20)","v":10},{"$f":"IF([DIV]=\"E\",1,IF([DIV]=\"C\",2,3))","v":2},{"$f":"[LGS]+[DIVS]","v":12}]
[1995,"Ogea, Chad","CLE","Cleveland Indians",109000,20,14,106.33333333333333,-38,3.05,1.1661442006269593,4.8244514106583072,8.0407523510971792,100,44,3.83,3903,926,1261,6.4058416602613368,8.7232897770945428,1.3112990007686396,"AL-C",{"$f":"LEFT([League-Division],1)","v":"A"},{"$f":"RIGHT([League-Division],1)","v":"C"},{"$f":"IF([LG]=\"N\",10,20)","v":20},{"$f":"IF([DIV]=\"E\",1,IF([DIV]=\"C\",2,3))","v":2},{"$f":"[LGS]+[DIVS]","v":22}]
[1996,"Ogea, Chad","CLE","Cleveland Indians",145000,29,21,146.66666666666666,-50,4.79,1.3159090909090909,6.1977272727272732,9.2659090909090907,99,62,4.3499999999999996,4356,1033,1530,6.4028925619834718,9.483471074380164,1.3870523415977962,"AL-C",{"$f":"LEFT([League-Division],1)","v":"A"},{"$f":"RIGHT([League-Division],1)","v":"C"},{"$f":"IF([LG]=\"N\",10,20)","v":20},{"$f":"IF([DIV]=\"E\",1,IF([DIV]=\"C\",2,3))","v":2},{"$f":"[LGS]+[DIVS]","v":22}]
[2005,"Ohka, Tomokazu","WAS","Washington Nationals",2750000,10,9,54,-27,3.33,1.3148148148148149,2.8333333333333335,7.333333333333333,81,81,3.87,4374,997,1456,6.1543209876543212,8.9876543209876552,1.368312757201646,"NL-E",{"$f":"LEFT([League-Division],1)","v":"N"},{"$f":"RIGHT([League-Division],1)","v":"E"},{"$f":"IF([LG]=\"N\",10,20)","v":10},{"$f":"IF([DIV]=\"E\",1,IF([DIV]=\"C\",2,3))","v":1},{"$f":"[LGS]+[DIVS]","v":11}]
[2007,"Ohka, Tomokazu","TOR","Toronto Blue Jays",1500000,10,10,56,-47,5.79,1.6071428571428572,3.375,10.928571428571427,83,79,4,4346,1067,1383,6.6288541187298655,8.5920386562356192,1.2853198343304186,"AL-E",{"$f":"LEFT([League-Division],1)","v":"A"},{"$f":"RIGHT([League-Division],1)","v":"E"},{"$f":"IF([LG]=\"N\",10,20)","v":20},{"$f":"IF([DIV]=\"E\",1,IF([DIV]=\"C\",2,3))","v":1},{"$f":"[LGS]+[DIVS]","v":21}]
[2008,"Ohman, Will","ATL","Atlanta Braves",1600000,83,0,58.666666666666664,2,3.68,1.2443181818181819,8.1306818181818183,7.8238636363636367,72,90,4.47,4322,1076,1439,6.7218880148079592,8.9895881536325764,1.4055992596020359,"NL-E",{"$f":"LEFT([League-Division],1)","v":"N"},{"$f":"RIGHT([League-Division],1)","v":"E"},{"$f":"IF([LG]=\"N\",10,20)","v":10},{"$f":"IF([DIV]=\"E\",1,IF([DIV]=\"C\",2,3))","v":1},{"$f":"[LGS]+[DIVS]","v":11}]
[1995,"Olivares, Omar","COL","Colorado Rockies",410000,11,6,31.666666666666668,-29,7.39,2.0526315789473681,4.2631578947368416,12.505263157894735,77,67,4.97,3864,891,1443,6.2259316770186341,10.083074534161492,1.5178571428571428,"NL-W",{"$f":"LEFT([League-Division],1)","v":"N"},{"$f":"RIGHT([League-Division],1)","v":"W"},{"$f":"IF([LG]=\"N\",10,20)","v":10},{"$f":"IF([DIV]=\"E\",1,IF([DIV]=\"C\",2,3))","v":3},{"$f":"[LGS]+[DIVS]","v":13}]
[1999,"Olivares, Omar","OAK","Oakland Athletics",1825000,12,12,74.666666666666671,-46,4.34,1.5267857142857142,4.3392857142857135,9.8839285714285694,87,75,4.6900000000000004,4314,967,1537,6.052155771905424,9.6196105702364392,1.4645340751043114,"AL-W",{"$f":"LEFT([League-Division],1)","v":"A"},{"$f":"RIGHT([League-Division],1)","v":"W"},{"$f":"IF([LG]=\"N\",10,20)","v":20},{"$f":"IF([DIV]=\"E\",1,IF([DIV]=\"C\",2,3))","v":3},{"$f":"[LGS]+[DIVS]","v":23}]
[1995,"Oliver, Darren","TEX","Texas Rangers",165000,17,7,49,-8,4.22,1.6122448979591837,7.1632653061224492,8.6326530612244898,74,70,4.66,3855,838,1385,5.8692607003891055,9.700389105058365,1.4778210116731518,"AL-W",{"$f":"LEFT([League-Division],1)","v":"A"},{"$f":"RIGHT([League-Division],1)","v":"W"},{"$f":"IF([LG]=\"N\",10,20)","v":20},{"$f":"IF([DIV]=\"E\",1,IF([DIV]=\"C\",2,3))","v":3},{"$f":"[LGS]+[DIVS]","v":23}]
[2003,"Oliver, Darren","COL","Colorado Rockies",350000,33,32,180.33333333333334,-113,5.04,1.4528650646950092,4.3918669131238444,10.031423290203326,74,88,5.2,4260,866,1629,5.4887323943661972,10.324647887323943,1.5359154929577465,"NL-W",{"$f":"LEFT([League-Division],1)","v":"N"},{"$f":"RIGHT([League-Division],1)","v":"W"},{"$f":"IF([LG]=\"N\",10,20)","v":10},{"$f":"IF([DIV]=\"E\",1,IF([DIV]=\"C\",2,3))","v":3},{"$f":"[LGS]+[DIVS]","v":13}]
[2004,"Oliver, Darren","FLO","Florida Marlins",750000,18,8,58.666666666666664,-42,6.44,1.5681818181818183,5.0625,11.50568181818182,83,79,4.0999999999999996,4317,1116,1395,6.9798471160528148,8.724808895066019,1.3259207783182765,"NL-E",{"$f":"LEFT([League-Division],1)","v":"N"},{"$f":"RIGHT([League-Division],1)","v":"E"},{"$f":"IF([LG]=\"N\",10,20)","v":10},{"$f":"IF([DIV]=\"E\",1,IF([DIV]=\"C\",2,3))","v":1},{"$f":"[LGS]+[DIVS]","v":11}]
[2008,"Olsen, Scott","FLO","Florida Marlins",405000,33,33,201.66666666666666,-82,4.2,1.3090909090909091,5.0429752066115707,8.7024793388429753,84,77,4.4400000000000004,4306,1127,1421,7.0666511843938693,8.9101254064096622,1.3982814677194613,"NL-E",{"$f":"LEFT([League-Division],1)","v":"N"},{"$f":"RIGHT([League-Division],1)","v":"E"},{"$f":"IF([LG]=\"N\",10,20)","v":10},{"$f":"IF([DIV]=\"E\",1,IF([DIV]=\"C\",2,3))","v":1},{"$f":"[LGS]+[DIVS]","v":11}]
[1995,"Olson, Gregg","KCA","Kansas City Royals",750000,20,0,30.333333333333332,-2,3.26,1.3186813186813187,6.2307692307692308,6.8241758241758248,70,74,4.49,3864,763,1323,5.3315217391304346,9.2445652173913047,1.4177018633540373,"AL-C",{"$f":"LEFT([League-Division],1)","v":"A"},{"$f":"RIGHT([League-Division],1)","v":"C"},{"$f":"IF([LG]=\"N\",10,20)","v":20},{"$f":"IF([DIV]=\"E\",1,IF([DIV]=\"C\",2,3))","v":2},{"$f":"[LGS]+[DIVS]","v":22}]
[1998,"Olson, Gregg","ARI","Arizona Diamondbacks",650000,64,0,68.666666666666671,-1,3.01,1.1796116504854368,7.20873786407767,7.3398058252427179,65,97,4.6399999999999997,4296,908,1463,5.7067039106145252,9.1948324022346366,1.3631284916201116,"NL-W",{"$f":"LEFT([League-Division],1)","v":"N"},{"$f":"RIGHT([League-Division],1)","v":"W"},{"$f":"IF([LG]=\"N\",10,20)","v":10},{"$f":"IF([DIV]=\"E\",1,IF([DIV]=\"C\",2,3))","v":3},{"$f":"[LGS]+[DIVS]","v":13}]
[1998,"Oquist, Mike","OAK","Oakland Athletics",215000,31,29,175,-98,6.22,1.5257142857142858,5.76,10.799999999999999,74,88,4.83,4302,922,1555,5.7866108786610875,9.7594142259414216,1.4532775453277544,"AL-W",{"$f":"LEFT([League-Division],1)","v":"A"},{"$f":"RIGHT([League-Division],1)","v":"W"},{"$f":"IF([LG]=\"N\",10,20)","v":20},{"$f":"IF([DIV]=\"E\",1,IF([DIV]=\"C\",2,3))","v":3},{"$f":"[LGS]+[DIVS]","v":23}]
[1997,"Orosco, Jesse","BAL","Baltimore Orioles",1100000,71,0,50.333333333333336,17,2.3199999999999998,1.1721854304635762,8.225165562913908,5.1854304635761581,98,64,3.91,4383,1139,1404,7.0164271047227924,8.6488706365503081,1.3463381245722108,"AL-E",{"$f":"LEFT([League-Division],1)","v":"A"},{"$f":"RIGHT([League-Division],1)","v":"E"},{"$f":"IF([LG]=\"N\",10,20)","v":20},{"$f":"IF([DIV]=\"E\",1,IF([DIV]=\"C\",2,3))","v":1},{"$f":"[LGS]+[DIVS]","v":21}]
[2000,"Orosco, Jesse","SLN","St. Louis Cardinals",1100000,6,0,2.3333333333333335,1,3.86,2.5714285714285712,15.428571428571427,11.571428571428569,95,67,4.38,4300,1100,1403,6.9069767441860463,8.8095348837209304,1.4016279069767443,"NL-C",{"$f":"LEFT([League-Division],1)","v":"N"},{"$f":"RIGHT([League-Division],1)","v":"C"},{"$f":"IF([LG]=\"N\",10,20)","v":10},{"$f":"IF([DIV]=\"E\",1,IF([DIV]=\"C\",2,3))","v":2},{"$f":"[LGS]+[DIVS]","v":12}]
[2004,"Ortiz, Ramon","ANA","Anaheim Angels",3266667,34,14,128,-57,4.43,1.3828125,5.765625,9.7734375,92,70,4.28,4363,1164,1476,7.2033004813201931,9.1340820536328238,1.3600733440293378,"AL-W",{"$f":"LEFT([League-Division],1)","v":"A"},{"$f":"RIGHT([League-Division],1)","v":"W"},{"$f":"IF([LG]=\"N\",10,20)","v":20},{"$f":"IF([DIV]=\"E\",1,IF([DIV]=\"C\",2,3))","v":3},{"$f":"[LGS]+[DIVS]","v":23}]
[2005,"Ortiz, Ramon","CIN","Cincinnati Reds",3550000,30,30,171.33333333333334,-110,5.36,1.5,5.0428015564202333,10.82101167315175,73,89,5.15,4299,955,1657,5.9979064898813679,10.406838799720866,1.4996510816468946,"NL-C",{"$f":"LEFT([League-Division],1)","v":"N"},{"$f":"RIGHT([League-Division],1)","v":"C"},{"$f":"IF([LG]=\"N\",10,20)","v":10},{"$f":"IF([DIV]=\"E\",1,IF([DIV]=\"C\",2,3))","v":2},{"$f":"[LGS]+[DIVS]","v":12}]
[2002,"Ortiz, Russ","SFN","San Francisco Giants",2862500,33,33,214.33333333333334,-54,3.61,1.3297045101088647,5.7527216174183513,8.0202177293934671,95,66,3.54,4312,992,1349,6.2115027829313547,8.4468923933209652,1.3024118738404453,"NL-W",{"$f":"LEFT([League-Division],1)","v":"N"},{"$f":"RIGHT([League-Division],1)","v":"W"},{"$f":"IF([LG]=\"N\",10,20)","v":10},{"$f":"IF([DIV]=\"E\",1,IF([DIV]=\"C\",2,3))","v":3},{"$f":"[LGS]+[DIVS]","v":13}]
[2009,"Ortiz, Russ","HOU","Houston Astros",750000,23,13,85.666666666666671,-30,5.57,1.6692607003891049,6.8287937743190659,9.9805447470817104,74,88,4.54,4290,1144,1521,7.2,9.5727272727272741,1.4454545454545455,"NL-C",{"$f":"LEFT([League-Division],1)","v":"N"},{"$f":"RIGHT([League-Division],1)","v":"C"},{"$f":"IF([LG]=\"N\",10,20)","v":10},{"$f":"IF([DIV]=\"E\",1,IF([DIV]=\"C\",2,3))","v":2},{"$f":"[LGS]+[DIVS]","v":12}]
[1997,"Osborne, Donovan","SLN","St. Louis Cardinals",2750000,14,14,80.333333333333329,-33,4.93,1.3319502074688798,5.7136929460580923,9.4107883817427389,73,89,3.9,4367,1130,1422,6.9864895809480183,8.7918479505381253,1.3450881612090679,"NL-C",{"$f":"LEFT([League-Division],1)","v":"N"},{"$f":"RIGHT([League-Division],1)","v":"C"},{"$f":"IF([LG]=\"N\",10,20)","v":10},{"$f":"IF([DIV]=\"E\",1,IF([DIV]=\"C\",2,3))","v":2},{"$f":"[LGS]+[DIVS]","v":12}]
[1995,"Osuna, Antonio","LAN","Los Angeles Dodgers",109000,39,0,44.666666666666664,7,4.43,1.3208955223880599,9.2686567164179117,7.8582089552238816,78,66,3.66,3885,1060,1188,7.3667953667953672,8.256370656370656,1.274131274131274,"NL-W",{"$f":"LEFT([League-Division],1)","v":"N"},{"$f":"RIGHT([League-Division],1)","v":"W"},{"$f":"IF([LG]=\"N\",10,20)","v":10},{"$f":"IF([DIV]=\"E\",1,IF([DIV]=\"C\",2,3))","v":3},{"$f":"[LGS]+[DIVS]","v":13}]
[2002,"Osuna, Antonio","CHA","Chicago White Sox",2200000,59,0,67.666666666666671,2,3.86,1.3596059113300492,8.7783251231527082,8.5123152709359609,81,81,4.53,4269,945,1422,5.9768095572733664,8.9936753338018267,1.370344342937456,"AL-C",{"$f":"LEFT([League-Division],1)","v":"A"},{"$f":"RIGHT([League-Division],1)","v":"C"},{"$f":"IF([LG]=\"N\",10,20)","v":20},{"$f":"IF([DIV]=\"E\",1,IF([DIV]=\"C\",2,3))","v":2},{"$f":"[LGS]+[DIVS]","v":22}]
[2005,"Osuna, Antonio","WAS","Washington Nationals",800000,4,0,2.3333333333333335,-9,42.43,6.8571428571428568,0,34.714285714285708,81,81,3.87,4374,997,1456,6.1543209876543212,8.9876543209876552,1.368312757201646,"NL-E",{"$f":"LEFT([League-Division],1)","v":"N"},{"$f":"RIGHT([League-Division],1)","v":"E"},{"$f":"IF([LG]=\"N\",10,20)","v":10},{"$f":"IF([DIV]=\"E\",1,IF([DIV]=\"C\",2,3))","v":1},{"$f":"[LGS]+[DIVS]","v":11}]
[2010,"Oswalt, Roy","PHI","Philadelphia Phillies",15000000,13,12,82.666666666666671,20,1.74,0.89516129032258063,7.94758064516129,5.7701612903225801,97,65,3.68,4369,1183,1402,7.3108262760357059,8.6642252231631947,1.2483405813687343,"NL-E",{"$f":"LEFT([League-Division],1)","v":"N"},{"$f":"RIGHT([League-Division],1)","v":"E"},{"$f":"IF([LG]=\"N\",10,20)","v":10},{"$f":"IF([DIV]=\"E\",1,IF([DIV]=\"C\",2,3))","v":1},{"$f":"[LGS]+[DIVS]","v":11}]
[2010,"Oswalt, Roy","HOU","Houston Astros",15000000,20,20,129,11,3.42,1.1085271317829457,8.3720930232558146,7.604651162790697,76,86,4.09,4318,1210,1446,7.566002779064382,9.0416859657248736,1.3853635942566003,"NL-C",{"$f":"LEFT([League-Division],1)","v":"N"},{"$f":"RIGHT([League-Division],1)","v":"C"},{"$f":"IF([LG]=\"N\",10,20)","v":10},{"$f":"IF([DIV]=\"E\",1,IF([DIV]=\"C\",2,3))","v":2},{"$f":"[LGS]+[DIVS]","v":12}]
[2010,"Owings, Micah","CIN","Cincinnati Reds",440000,22,0,33.333333333333336,7,5.4,1.5899999999999999,9.4499999999999993,7.56,91,71,4.0199999999999996,4359,1130,1404,6.9993117687543016,8.6964900206469373,1.3269098417068135,"NL-C",{"$f":"LEFT([League-Division],1)","v":"N"},{"$f":"RIGHT([League-Division],1)","v":"C"},{"$f":"IF([LG]=\"N\",10,20)","v":10},{"$f":"IF([DIV]=\"E\",1,IF([DIV]=\"C\",2,3))","v":2},{"$f":"[LGS]+[DIVS]","v":12}]
[2007,"Padilla, Vicente","TEX","Texas Rangers",9000000,23,23,120.33333333333333,-75,5.76,1.628808864265928,5.310249307479225,10.9196675900277,75,87,4.75,4290,976,1525,6.1426573426573432,9.5979020979020984,1.5335664335664336,"AL-W",{"$f":"LEFT([League-Division],1)","v":"A"},{"$f":"RIGHT([League-Division],1)","v":"W"},{"$f":"IF([LG]=\"N\",10,20)","v":20},{"$f":"IF([DIV]=\"E\",1,IF([DIV]=\"C\",2,3))","v":3},{"$f":"[LGS]+[DIVS]","v":23}]
[2009,"Padilla, Vicente","LAN","Los Angeles Dodgers",12000000,8,7,39.333333333333336,2,3.2,1.2203389830508473,8.6949152542372872,8.2372881355932197,95,67,3.41,4420,1272,1265,7.7701357466063357,7.7273755656108598,1.2549773755656108,"NL-W",{"$f":"LEFT([League-Division],1)","v":"N"},{"$f":"RIGHT([League-Division],1)","v":"W"},{"$f":"IF([LG]=\"N\",10,20)","v":10},{"$f":"IF([DIV]=\"E\",1,IF([DIV]=\"C\",2,3))","v":3},{"$f":"[LGS]+[DIVS]","v":13}]
[2001,"Painter, Lance","MIL","Milwaukee Brewers",1000000,13,0,10.666666666666666,-5,4.22,1.6875,5.0625,9.28125,68,94,4.6399999999999997,4309,1057,1452,6.6231144116964495,9.0981666279879327,1.4752842886980739,"NL-C",{"$f":"LEFT([League-Division],1)","v":"N"},{"$f":"RIGHT([League-Division],1)","v":"C"},{"$f":"IF([LG]=\"N\",10,20)","v":10},{"$f":"IF([DIV]=\"E\",1,IF([DIV]=\"C\",2,3))","v":2},{"$f":"[LGS]+[DIVS]","v":12}]
[1998,"Paniagua, Jose","SEA","Seattle Mariners",185000,18,0,22,1,2.0499999999999998,0.90909090909090906,6.5454545454545459,6.1363636363636358,76,85,4.95,4272,1156,1530,7.3061797752808992,9.6699438202247183,1.4452247191011236,"AL-W",{"$f":"LEFT([League-Division],1)","v":"A"},{"$f":"RIGHT([League-Division],1)","v":"W"},{"$f":"IF([LG]=\"N\",10,20)","v":20},{"$f":"IF([DIV]=\"E\",1,IF([DIV]=\"C\",2,3))","v":3},{"$f":"[LGS]+[DIVS]","v":23}]
[2001,"Paniagua, Jose","SEA","Seattle Mariners",837500,60,0,66,-13,4.3600000000000003,1.4696969696969697,6.2727272727272734,8.045454545454545,116,46,3.54,4395,1051,1293,6.4566552901023888,7.9433447098976107,1.2,"AL-W",{"$f":"LEFT([League-Division],1)","v":"A"},{"$f":"RIGHT([League-Division],1)","v":"W"},{"$f":"IF([LG]=\"N\",10,20)","v":20},{"$f":"IF([DIV]=\"E\",1,IF([DIV]=\"C\",2,3))","v":3},{"$f":"[LGS]+[DIVS]","v":23}]
[1997,"Park, Chan Ho","LAN","Los Angeles Dodgers",270000,32,29,192,17,3.38,1.140625,7.78125,6.984375,88,74,3.63,4377,1232,1325,7.599725839616176,8.1734064427690196,1.2823851953392735,"NL-W",{"$f":"LEFT([League-Division],1)","v":"N"},{"$f":"RIGHT([League-Division],1)","v":"W"},{"$f":"IF([LG]=\"N\",10,20)","v":10},{"$f":"IF([DIV]=\"E\",1,IF([DIV]=\"C\",2,3))","v":3},{"$f":"[LGS]+[DIVS]","v":13}]
[1998,"Park, Chan Ho","LAN","Los Angeles Dodgers",700000,34,34,220.66666666666666,-8,3.71,1.3413897280966769,7.7900302114803628,8.1163141993957701,83,79,3.81,4341,1178,1332,7.3268832066344167,8.2847270214236346,1.3261921216309607,"NL-W",{"$f":"LEFT([League-Division],1)","v":"N"},{"$f":"RIGHT([League-Division],1)","v":"W"},{"$f":"IF([LG]=\"N\",10,20)","v":10},{"$f":"IF([DIV]=\"E\",1,IF([DIV]=\"C\",2,3))","v":3},{"$f":"[LGS]+[DIVS]","v":13}]
[2006,"Park, Chan Ho","SDN","San Diego Padres",15505142,24,21,136.66666666666666,-50,4.8099999999999996,1.3902439024390245,6.3219512195121954,9.614634146341464,88,74,3.87,4391,1097,1385,6.7453882942382144,8.5162833067638335,1.265998633568663,"NL-W",{"$f":"LEFT([League-Division],1)","v":"N"},{"$f":"RIGHT([League-Division],1)","v":"W"},{"$f":"IF([LG]=\"N\",10,20)","v":10},{"$f":"IF([DIV]=\"E\",1,IF([DIV]=\"C\",2,3))","v":3},{"$f":"[LGS]+[DIVS]","v":13}]
[1998,"Parque, Jim","CHA","Chicago White Sox",170000,21,21,113,-58,5.0999999999999996,1.6283185840707965,6.1327433628318584,10.752212389380531,80,82,5.24,4315,911,1569,5.7003476245654703,9.817612977983778,1.4940903823870222,"AL-C",{"$f":"LEFT([League-Division],1)","v":"A"},{"$f":"RIGHT([League-Division],1)","v":"C"},{"$f":"IF([LG]=\"N\",10,20)","v":20},{"$f":"IF([DIV]=\"E\",1,IF([DIV]=\"C\",2,3))","v":2},{"$f":"[LGS]+[DIVS]","v":22}]
[2001,"Parque, Jim","CHA","Chicago White Sox",550000,5,5,28,-21,8.0399999999999991,1.6428571428571428,4.8214285714285712,11.571428571428573,83,79,4.55,4300,921,1465,5.7830232558139532,9.1988372093023258,1.3709302325581396,"AL-C",{"$f":"LEFT([League-Division],1)","v":"A"},{"$f":"RIGHT([League-Division],1)","v":"C"},{"$f":"IF([LG]=\"N\",10,20)","v":20},{"$f":"IF([DIV]=\"E\",1,IF([DIV]=\"C\",2,3))","v":2},{"$f":"[LGS]+[DIVS]","v":22}]
[1996,"Parrett, Jeff","SLN","St. Louis Cardinals",675000,33,0,42.333333333333336,2,4.25,1.4173228346456692,8.9291338582677149,8.5039370078740149,88,74,3.98,4356,1050,1380,6.508264462809918,8.5537190082644639,1.3216253443526171,"NL-C",{"$f":"LEFT([League-Division],1)","v":"N"},{"$f":"RIGHT([League-Division],1)","v":"C"},{"$f":"IF([LG]=\"N\",10,20)","v":10},{"$f":"IF([DIV]=\"E\",1,IF([DIV]=\"C\",2,3))","v":2},{"$f":"[LGS]+[DIVS]","v":12}]
[2007,"Parrish, John","SEA","Seattle Mariners",575000,8,0,10.333333333333334,-17,6.97,2.5161290322580645,4.354838709677419,19.161290322580644,88,74,4.7300000000000004,4303,1020,1578,6.4001859168022319,9.9014640948175696,1.4808273297699279,"AL-W",{"$f":"LEFT([League-Division],1)","v":"A"},{"$f":"RIGHT([League-Division],1)","v":"W"},{"$f":"IF([LG]=\"N\",10,20)","v":20},{"$f":"IF([DIV]=\"E\",1,IF([DIV]=\"C\",2,3))","v":3},{"$f":"[LGS]+[DIVS]","v":23}]
[1996,"Parris, Steve","PIT","Pittsburgh Pirates",135000,8,4,26.333333333333332,-8,7.18,1.7468354430379747,9.227848101265824,11.962025316455696,73,89,4.6399999999999997,4360,1044,1602,6.4651376146789001,9.9206422018348626,1.4318807339449542,"NL-C",{"$f":"LEFT([League-Division],1)","v":"N"},{"$f":"RIGHT([League-Division],1)","v":"C"},{"$f":"IF([LG]=\"N\",10,20)","v":10},{"$f":"IF([DIV]=\"E\",1,IF([DIV]=\"C\",2,3))","v":2},{"$f":"[LGS]+[DIVS]","v":12}]
[1998,"Patrick, Bronswell","MIL","Milwaukee Brewers",170000,32,3,78.666666666666671,-34,4.6900000000000004,1.423728813559322,5.6059322033898304,9.4957627118644048,74,88,4.63,4353,1063,1538,6.5933838731909029,9.5396278428669881,1.4390075809786353,"NL-C",{"$f":"LEFT([League-Division],1)","v":"N"},{"$f":"RIGHT([League-Division],1)","v":"C"},{"$f":"IF([LG]=\"N\",10,20)","v":10},{"$f":"IF([DIV]=\"E\",1,IF([DIV]=\"C\",2,3))","v":2},{"$f":"[LGS]+[DIVS]","v":12}]
[1997,"Patterson, Bob","CHN","Chicago Cubs",1050000,76,0,59.333333333333336,11,3.34,0.9606741573033708,8.7977528089887631,7.1292134831460672,68,94,4.4400000000000004,4287,1072,1451,6.7515745276417078,9.1385584324702585,1.4282715185444366,"NL-C",{"$f":"LEFT([League-Division],1)","v":"N"},{"$f":"RIGHT([League-Division],1)","v":"C"},{"$f":"IF([LG]=\"N\",10,20)","v":10},{"$f":"IF([DIV]=\"E\",1,IF([DIV]=\"C\",2,3))","v":2},{"$f":"[LGS]+[DIVS]","v":12}]
[2004,"Patterson, Danny","DET","Detroit Tigers",2800000,37,0,41.666666666666664,-20,4.75,1.4400000000000002,5.1840000000000011,9.5040000000000013,72,90,4.93,4319,995,1542,6.2201898587636029,9.6397314193100261,1.439222042139384,"AL-C",{"$f":"LEFT([League-Division],1)","v":"A"},{"$f":"RIGHT([League-Division],1)","v":"C"},{"$f":"IF([LG]=\"N\",10,20)","v":20},{"$f":"IF([DIV]=\"E\",1,IF([DIV]=\"C\",2,3))","v":2},{"$f":"[LGS]+[DIVS]","v":22}]
[1998,"Pavano, Carl","MON","Montreal Expos",170000,24,23,134.66666666666666,-47,4.21,1.2846534653465347,5.5470297029702973,8.6881188118811892,65,97,4.3899999999999997,4281,1017,1448,6.4141555711282408,9.1324456902592868,1.3882270497547302,"NL-E",{"$f":"LEFT([League-Division],1)","v":"N"},{"$f":"RIGHT([League-Division],1)","v":"E"},{"$f":"IF([LG]=\"N\",10,20)","v":10},{"$f":"IF([DIV]=\"E\",1,IF([DIV]=\"C\",2,3))","v":1},{"$f":"[LGS]+[DIVS]","v":11}]
[2001,"Pavano, Carl","MON","Montreal Expos",1300000,8,8,42.666666666666664,-23,6.33,1.7578125,7.59375,12.4453125,68,94,4.68,4294,1103,1509,6.9354913833255711,9.4883558453656267,1.4210526315789473,"NL-E",{"$f":"LEFT([League-Division],1)","v":"N"},{"$f":"RIGHT([League-Division],1)","v":"E"},{"$f":"IF([LG]=\"N\",10,20)","v":10},{"$f":"IF([DIV]=\"E\",1,IF([DIV]=\"C\",2,3))","v":1},{"$f":"[LGS]+[DIVS]","v":11}]
[2009,"Pavano, Carl","MIN","Minnesota Twins",1500000,12,12,73.666666666666671,-26,4.6399999999999997,1.3710407239819005,7.2081447963800898,10.384615384615383,87,76,4.5,4359,1052,1542,6.5161734342739166,9.5512732278045416,1.381968341362698,"AL-C",{"$f":"LEFT([League-Division],1)","v":"A"},{"$f":"RIGHT([League-Division],1)","v":"C"},{"$f":"IF([LG]=\"N\",10,20)","v":20},{"$f":"IF([DIV]=\"E\",1,IF([DIV]=\"C\",2,3))","v":2},{"$f":"[LGS]+[DIVS]","v":22}]
[1998,"Pavlik, Roger","TEX","Texas Rangers",1600000,5,0,14,-8,3.86,1.5,5.1428571428571423,10.285714285714285,88,74,5,4293,994,1624,6.2515723270440251,10.213836477987421,1.4975541579315164,"AL-W",{"$f":"LEFT([League-Division],1)","v":"A"},{"$f":"RIGHT([League-Division],1)","v":"W"},{"$f":"IF([LG]=\"N\",10,20)","v":20},{"$f":"IF([DIV]=\"E\",1,IF([DIV]=\"C\",2,3))","v":3},{"$f":"[LGS]+[DIVS]","v":23}]
[2004,"Peavy, Jake","SDN","San Diego Padres",350000,27,27,166.33333333333334,27,2.27,1.1963927855711423,9.3607214428857723,7.8997995991983965,87,75,4.03,4323,1079,1460,6.7390700902151286,9.1186675919500342,1.3060374739764053,"NL-W",{"$f":"LEFT([League-Division],1)","v":"N"},{"$f":"RIGHT([League-Division],1)","v":"W"},{"$f":"IF([LG]=\"N\",10,20)","v":10},{"$f":"IF([DIV]=\"E\",1,IF([DIV]=\"C\",2,3))","v":3},{"$f":"[LGS]+[DIVS]","v":13}]
[2010,"Peavy, Jake","CHA","Chicago White Sox",15000000,17,17,107,-5,4.63,1.233644859813084,7.8224299065420562,8.2429906542056077,88,74,4.09,4339,1149,1471,7.1498041023277255,9.1534915879234848,1.3558423599907814,"AL-C",{"$f":"LEFT([League-Division],1)","v":"A"},{"$f":"RIGHT([League-Division],1)","v":"C"},{"$f":"IF([LG]=\"N\",10,20)","v":20},{"$f":"IF([DIV]=\"E\",1,IF([DIV]=\"C\",2,3))","v":2},{"$f":"[LGS]+[DIVS]","v":22}]
[2010,"Pelfrey, Mike","NYN","New York Mets",500000,34,33,204,-100,3.66,1.3774509803921569,4.9852941176470589,9.397058823529413,79,83,3.73,4359,1106,1438,6.8506538196834139,8.9070887818306961,1.364762560220234,"NL-E",{"$f":"LEFT([League-Division],1)","v":"N"},{"$f":"RIGHT([League-Division],1)","v":"E"},{"$f":"IF([LG]=\"N\",10,20)","v":10},{"$f":"IF([DIV]=\"E\",1,IF([DIV]=\"C\",2,3))","v":1},{"$f":"[LGS]+[DIVS]","v":11}]
[2008,"Pena, Tony","KCA","Kansas City Royals",405000,1,0,1,1,0,0,9,0,75,87,4.5,4337,1085,1473,6.7546691261240488,9.1701637076320033,1.375144108830989,"AL-C",{"$f":"LEFT([League-Division],1)","v":"A"},{"$f":"RIGHT([League-Division],1)","v":"C"},{"$f":"IF([LG]=\"N\",10,20)","v":20},{"$f":"IF([DIV]=\"E\",1,IF([DIV]=\"C\",2,3))","v":2},{"$f":"[LGS]+[DIVS]","v":22}]
[1995,"Pennington, Brad","BAL","Baltimore Orioles",135000,8,0,6.666666666666667,7,8.1,2.1,13.5,4.05,71,73,4.3099999999999996,3801,930,1165,6.6061562746645617,8.2754538279400158,1.3322809786898184,"AL-E",{"$f":"LEFT([League-Division],1)","v":"A"},{"$f":"RIGHT([League-Division],1)","v":"E"},{"$f":"IF([LG]=\"N\",10,20)","v":20},{"$f":"IF([DIV]=\"E\",1,IF([DIV]=\"C\",2,3))","v":1},{"$f":"[LGS]+[DIVS]","v":21}]
[1996,"Pennington, Brad","BOS","Boston Red Sox",160000,14,0,13,7,2.77,1.6153846153846154,9,4.1538461538461542,85,77,5,4374,1165,1606,7.1913580246913584,9.913580246913579,1.5967078189300412,"AL-E",{"$f":"LEFT([League-Division],1)","v":"A"},{"$f":"RIGHT([League-Division],1)","v":"E"},{"$f":"IF([LG]=\"N\",10,20)","v":20},{"$f":"IF([DIV]=\"E\",1,IF([DIV]=\"C\",2,3))","v":1},{"$f":"[LGS]+[DIVS]","v":21}]
[2005,"Penny, Brad","LAN","Los Angeles Dodgers",5100000,29,29,175.33333333333334,-63,3.9,1.2889733840304183,6.2623574144486689,9.4961977186311781,71,91,4.38,4282,1004,1434,6.330686595049043,9.0420364315740311,1.3346567024754787,"NL-W",{"$f":"LEFT([League-Division],1)","v":"N"},{"$f":"RIGHT([League-Division],1)","v":"W"},{"$f":"IF([LG]=\"N\",10,20)","v":10},{"$f":"IF([DIV]=\"E\",1,IF([DIV]=\"C\",2,3))","v":3},{"$f":"[LGS]+[DIVS]","v":13}]
[1996,"Percival, Troy","CAL","California Angels",355000,62,0,74,62,2.31,0.93243243243243246,12.162162162162161,4.621621621621621,70,91,5.31,4317,1052,1546,6.5795691452397502,9.6692147324530922,1.5343988881167478,"AL-W",{"$f":"LEFT([League-Division],1)","v":"A"},{"$f":"RIGHT([League-Division],1)","v":"W"},{"$f":"IF([LG]=\"N\",10,20)","v":20},{"$f":"IF([DIV]=\"E\",1,IF([DIV]=\"C\",2,3))","v":3},{"$f":"[LGS]+[DIVS]","v":23}]
[1999,"Percival, Troy","ANA","Anaheim Angels",1975000,60,0,57,20,3.79,1.0526315789473684,9.1578947368421062,6,70,92,4.79,4293,877,1472,5.515723270440251,9.2578616352201255,1.4647099930118799,"AL-W",{"$f":"LEFT([League-Division],1)","v":"A"},{"$f":"RIGHT([League-Division],1)","v":"W"},{"$f":"IF([LG]=\"N\",10,20)","v":20},{"$f":"IF([DIV]=\"E\",1,IF([DIV]=\"C\",2,3))","v":3},{"$f":"[LGS]+[DIVS]","v":23}]
[2008,"Percival, Troy","TBA","Tampa Bay Rays",3897797,50,0,45.666666666666664,9,4.53,1.2262773722627738,7.4890510948905114,5.7153284671532845,97,65,3.82,4373,1143,1349,7.0571689915389895,8.3290647152984221,1.2863023096272581,"AL-E",{"$f":"LEFT([League-Division],1)","v":"A"},{"$f":"RIGHT([League-Division],1)","v":"E"},{"$f":"IF([LG]=\"N\",10,20)","v":20},{"$f":"IF([DIV]=\"E\",1,IF([DIV]=\"C\",2,3))","v":1},{"$f":"[LGS]+[DIVS]","v":21}]
[1997,"Perez, Carlos","MON","Montreal Expos",210000,33,32,206.66666666666666,-96,3.88,1.2290322580645161,4.790322580645161,8.9709677419354836,78,84,4.1399999999999997,4341,1138,1365,7.0780926053904638,8.4899792674498968,1.3282653766413268,"NL-E",{"$f":"LEFT([League-Division],1)","v":"N"},{"$f":"RIGHT([League-Division],1)","v":"E"},{"$f":"IF([LG]=\"N\",10,20)","v":10},{"$f":"IF([DIV]=\"E\",1,IF([DIV]=\"C\",2,3))","v":1},{"$f":"[LGS]+[DIVS]","v":11}]
[1996,"Perez, Mike","CHN","Chicago Cubs",500000,24,0,27,-7,4.67,1.5555555555555556,7.333333333333333,9.6666666666666679,76,86,4.3600000000000003,4368,1027,1447,6.3482142857142865,8.9443681318681314,1.3688186813186813,"NL-C",{"$f":"LEFT([League-Division],1)","v":"N"},{"$f":"RIGHT([League-Division],1)","v":"C"},{"$f":"IF([LG]=\"N\",10,20)","v":10},{"$f":"IF([DIV]=\"E\",1,IF([DIV]=\"C\",2,3))","v":2},{"$f":"[LGS]+[DIVS]","v":12}]
[2006,"Perez, Odalis","LAN","Los Angeles Dodgers",8750000,20,8,59.333333333333336,-56,6.83,1.7191011235955056,5.0056179775280905,13.5,88,74,4.2300000000000004,4381,1068,1524,6.582058890664233,9.3923761698242423,1.3805067336224608,"NL-W",{"$f":"LEFT([League-Division],1)","v":"N"},{"$f":"RIGHT([League-Division],1)","v":"W"},{"$f":"IF([LG]=\"N\",10,20)","v":10},{"$f":"IF([DIV]=\"E\",1,IF([DIV]=\"C\",2,3))","v":3},{"$f":"[LGS]+[DIVS]","v":13}]
[2008,"Perez, Odalis","WAS","Washington Nationals",850000,30,30,159.66666666666666,-63,4.34,1.4843423799582465,6.7077244258872657,10.258872651356993,59,102,4.66,4302,1063,1496,6.6715481171548117,9.3891213389121351,1.4532775453277544,"NL-E",{"$f":"LEFT([League-Division],1)","v":"N"},{"$f":"RIGHT([League-Division],1)","v":"E"},{"$f":"IF([LG]=\"N\",10,20)","v":10},{"$f":"IF([DIV]=\"E\",1,IF([DIV]=\"C\",2,3))","v":1},{"$f":"[LGS]+[DIVS]","v":11}]
[2007,"Perez, Oliver","NYN","New York Mets",2325000,29,29,177,21,3.56,1.3107344632768361,8.8474576271186436,7.7796610169491531,88,74,4.26,4357,1134,1415,7.0273123708974063,8.7686481523984394,1.3667661234794584,"NL-E",{"$f":"LEFT([League-Division],1)","v":"N"},{"$f":"RIGHT([League-Division],1)","v":"E"},{"$f":"IF([LG]=\"N\",10,20)","v":10},{"$f":"IF([DIV]=\"E\",1,IF([DIV]=\"C\",2,3))","v":1},{"$f":"[LGS]+[DIVS]","v":11}]
[1996,"Perez, Yorkis","FLO","Florida Marlins",187500,64,0,47.666666666666664,-4,5.29,1.7202797202797204,8.8741258741258751,9.62937062937063,80,82,3.95,4329,1050,1386,6.5488565488565493,8.6444906444906451,1.3749133749133748,"NL-E",{"$f":"LEFT([League-Division],1)","v":"N"},{"$f":"RIGHT([League-Division],1)","v":"E"},{"$f":"IF([LG]=\"N\",10,20)","v":10},{"$f":"IF([DIV]=\"E\",1,IF([DIV]=\"C\",2,3))","v":1},{"$f":"[LGS]+[DIVS]","v":11}]
[1999,"Perez, Yorkis","PHI","Philadelphia Phillies",475000,35,0,32,-3,3.94,1.375,7.3125,8.15625,77,85,4.93,4314,1030,1494,6.4464534075104316,9.350486787204451,1.4749652294853963,"NL-E",{"$f":"LEFT([League-Division],1)","v":"N"},{"$f":"RIGHT([League-Division],1)","v":"E"},{"$f":"IF([LG]=\"N\",10,20)","v":10},{"$f":"IF([DIV]=\"E\",1,IF([DIV]=\"C\",2,3))","v":1},{"$f":"[LGS]+[DIVS]","v":11}]
[1999,"Perkins, Dan","MIN","Minnesota Twins",200000,29,12,86.666666666666671,-73,6.54,1.846153846153846,4.569230769230769,12.149999999999999,63,97,5.0199999999999996,4269,927,1591,5.8629655657062543,10.062543921293043,1.4602951510892481,"AL-C",{"$f":"LEFT([League-Division],1)","v":"A"},{"$f":"RIGHT([League-Division],1)","v":"C"},{"$f":"IF([LG]=\"N\",10,20)","v":20},{"$f":"IF([DIV]=\"E\",1,IF([DIV]=\"C\",2,3))","v":2},{"$f":"[LGS]+[DIVS]","v":22}]
[2010,"Perry, Ryan","DET","Detroit Tigers",408500,60,0,62.666666666666664,-10,3.59,1.2446808510638299,6.462765957446809,7.8989361702127665,81,81,4.3,4333,1056,1445,6.5801984768059087,9.0041541657050548,1.3722594045695824,"AL-C",{"$f":"LEFT([League-Division],1)","v":"A"},{"$f":"RIGHT([League-Division],1)","v":"C"},{"$f":"IF([LG]=\"N\",10,20)","v":20},{"$f":"IF([DIV]=\"E\",1,IF([DIV]=\"C\",2,3))","v":2},{"$f":"[LGS]+[DIVS]","v":22}]
[2002,"Person, Robert","PHI","Philadelphia Phillies",6250000,16,16,87.666666666666671,-18,5.44,1.4828897338403042,6.2623574144486689,8.1102661596958168,80,81,4.17,4349,1075,1381,6.6739480340308113,8.5736951023223718,1.345826626810761,"NL-E",{"$f":"LEFT([League-Division],1)","v":"N"},{"$f":"RIGHT([League-Division],1)","v":"E"},{"$f":"IF([LG]=\"N\",10,20)","v":10},{"$f":"IF([DIV]=\"E\",1,IF([DIV]=\"C\",2,3))","v":1},{"$f":"[LGS]+[DIVS]","v":11}]
[1999,"Peterson, Kyle","MIL","Milwaukee Brewers",200000,17,12,77,-53,4.5599999999999996,1.4545454545454546,3.9740259740259738,10.168831168831169,74,87,5.07,4327,987,1618,6.1587705107464759,10.096140513057545,1.5488791310376706,"NL-C",{"$f":"LEFT([League-Division],1)","v":"N"},{"$f":"RIGHT([League-Division],1)","v":"C"},{"$f":"IF([LG]=\"N\",10,20)","v":10},{"$f":"IF([DIV]=\"E\",1,IF([DIV]=\"C\",2,3))","v":2},{"$f":"[LGS]+[DIVS]","v":12}]
[1995,"Petkovsek, Mark","SLN","St. Louis Cardinals",114000,26,21,137.33333333333334,-65,4,1.2451456310679612,4.6529126213592233,8.9126213592232997,62,81,4.09,3795,842,1290,5.9905138339920949,9.1778656126482225,1.3715415019762847,"NL-C",{"$f":"LEFT([League-Division],1)","v":"N"},{"$f":"RIGHT([League-Division],1)","v":"C"},{"$f":"IF([LG]=\"N\",10,20)","v":10},{"$f":"IF([DIV]=\"E\",1,IF([DIV]=\"C\",2,3))","v":2},{"$f":"[LGS]+[DIVS]","v":12}]
[1995,"Pettitte, Andy","NYA","New York Yankees",109000,31,26,175,-69,4.17,1.4057142857142857,5.862857142857143,9.4114285714285728,79,65,4.5599999999999996,3852,908,1286,6.3644859813084107,9.0140186915887845,1.4182242990654206,"AL-E",{"$f":"LEFT([League-Division],1)","v":"A"},{"$f":"RIGHT([League-Division],1)","v":"E"},{"$f":"IF([LG]=\"N\",10,20)","v":20},{"$f":"IF([DIV]=\"E\",1,IF([DIV]=\"C\",2,3))","v":1},{"$f":"[LGS]+[DIVS]","v":21}]
[2004,"Pettitte, Andy","HOU","Houston Astros",5500000,15,15,83,8,3.9,1.2289156626506024,8.5662650602409638,7.6987951807228914,92,70,4.05,4329,1282,1416,7.995841995841996,8.8316008316008325,1.345114345114345,"NL-C",{"$f":"LEFT([League-Division],1)","v":"N"},{"$f":"RIGHT([League-Division],1)","v":"C"},{"$f":"IF([LG]=\"N\",10,20)","v":10},{"$f":"IF([DIV]=\"E\",1,IF([DIV]=\"C\",2,3))","v":2},{"$f":"[LGS]+[DIVS]","v":12}]
[2007,"Pettitte, Andy","NYA","New York Yankees",16000000,36,34,215.33333333333334,-97,4.05,1.4256965944272446,5.8931888544891642,9.9473684210526301,94,68,4.49,4352,1009,1498,6.2598805147058822,9.2936580882352935,1.4310661764705881,"AL-E",{"$f":"LEFT([League-Division],1)","v":"A"},{"$f":"RIGHT([League-Division],1)","v":"E"},{"$f":"IF([LG]=\"N\",10,20)","v":20},{"$f":"IF([DIV]=\"E\",1,IF([DIV]=\"C\",2,3))","v":1},{"$f":"[LGS]+[DIVS]","v":21}]
[2002,"Phelps, Travis","TBA","Tampa Bay Devil Rays",218000,26,0,37.666666666666664,6,4.78,1.513274336283186,8.6017699115044248,7.168141592920354,55,106,5.29,4321,925,1567,5.7799120573941218,9.791483452904421,1.5183985188613747,"AL-E",{"$f":"LEFT([League-Division],1)","v":"A"},{"$f":"RIGHT([League-Division],1)","v":"E"},{"$f":"IF([LG]=\"N\",10,20)","v":20},{"$f":"IF([DIV]=\"E\",1,IF([DIV]=\"C\",2,3))","v":1},{"$f":"[LGS]+[DIVS]","v":21}]
[1996,"Pichardo, Hipolito","KCA","Kansas City Royals",625000,57,0,68,-31,5.43,1.4705882352941178,5.6911764705882355,9.7941176470588225,75,86,4.55,4350,926,1563,5.7475862068965515,9.7013793103448283,1.3951724137931034,"AL-C",{"$f":"LEFT([League-Division],1)","v":"A"},{"$f":"RIGHT([League-Division],1)","v":"C"},{"$f":"IF([LG]=\"N\",10,20)","v":20},{"$f":"IF([DIV]=\"E\",1,IF([DIV]=\"C\",2,3))","v":2},{"$f":"[LGS]+[DIVS]","v":22}]
[2002,"Pineiro, Joel","SEA","Seattle Mariners",255000,37,28,194.33333333333334,-53,3.24,1.2504288164665522,6.2984562607204113,8.7530017152658655,93,69,4.07,4336,1063,1422,6.6192343173431736,8.8547047970479706,1.2889760147601477,"AL-W",{"$f":"LEFT([League-Division],1)","v":"A"},{"$f":"RIGHT([League-Division],1)","v":"W"},{"$f":"IF([LG]=\"N\",10,20)","v":20},{"$f":"IF([DIV]=\"E\",1,IF([DIV]=\"C\",2,3))","v":3},{"$f":"[LGS]+[DIVS]","v":23}]
[2010,"Pineiro, Joel","LAA","Los Angeles Angels of Anaheim",8000000,23,23,152.33333333333334,-63,3.84,1.2407002188183807,5.4354485776805248,9.1575492341356668,80,82,4.04,4348,1130,1422,7.0170193192272317,8.8302667893284283,1.3709751609935603,"AL-W",{"$f":"LEFT([League-Division],1)","v":"A"},{"$f":"RIGHT([League-Division],1)","v":"W"},{"$f":"IF([LG]=\"N\",10,20)","v":20},{"$f":"IF([DIV]=\"E\",1,IF([DIV]=\"C\",2,3))","v":3},{"$f":"[LGS]+[DIVS]","v":23}]
[2009,"Pinto, Renyel","FLO","Florida Marlins",404000,73,0,61.333333333333336,5,3.23,1.5978260869565217,8.5108695652173907,7.7771739130434776,87,75,4.32,4339,1248,1425,7.7658446646692791,8.8672505185526624,1.4007835906890989,"NL-E",{"$f":"LEFT([League-Division],1)","v":"N"},{"$f":"RIGHT([League-Division],1)","v":"E"},{"$f":"IF([LG]=\"N\",10,20)","v":10},{"$f":"IF([DIV]=\"E\",1,IF([DIV]=\"C\",2,3))","v":1},{"$f":"[LGS]+[DIVS]","v":11}]
[1999,"Pittsley, Jim","KCA","Kansas City Royals",255000,5,5,23.333333333333332,-26,6.94,2.0571428571428574,2.6999999999999997,12.72857142857143,64,97,5.35,4261,831,1607,5.265665336775406,10.182820934053041,1.5841351795353205,"AL-C",{"$f":"LEFT([League-Division],1)","v":"A"},{"$f":"RIGHT([League-Division],1)","v":"C"},{"$f":"IF([LG]=\"N\",10,20)","v":20},{"$f":"IF([DIV]=\"E\",1,IF([DIV]=\"C\",2,3))","v":2},{"$f":"[LGS]+[DIVS]","v":22}]
[2001,"Plesac, Dan","TOR","Toronto Blue Jays",2200000,62,0,45.333333333333336,34,3.57,1.2794117647058822,13.5,6.75,80,82,4.28,4388,1041,1553,6.4054238833181394,9.5558340929808558,1.3967639015496809,"AL-E",{"$f":"LEFT([League-Division],1)","v":"A"},{"$f":"RIGHT([League-Division],1)","v":"E"},{"$f":"IF([LG]=\"N\",10,20)","v":20},{"$f":"IF([DIV]=\"E\",1,IF([DIV]=\"C\",2,3))","v":1},{"$f":"[LGS]+[DIVS]","v":21}]
[2003,"Plesac, Dan","PHI","Philadelphia Phillies",2000000,58,0,33.333333333333336,8,2.7,1.2,9.9899999999999984,7.8299999999999992,86,76,4.04,4331,1060,1386,6.6081736319556681,8.6404987300854312,1.3313322558300622,"NL-E",{"$f":"LEFT([League-Division],1)","v":"N"},{"$f":"RIGHT([League-Division],1)","v":"E"},{"$f":"IF([LG]=\"N\",10,20)","v":10},{"$f":"IF([DIV]=\"E\",1,IF([DIV]=\"C\",2,3))","v":1},{"$f":"[LGS]+[DIVS]","v":11}]
[1998,"Politte, Cliff","SLN","St. Louis Cardinals",170000,8,8,37,-23,6.32,1.7027027027027026,5.3513513513513518,10.945945945945946,83,79,4.32,4409,972,1513,5.9523701519618957,9.265366296212294,1.4091630755273303,"NL-C",{"$f":"LEFT([League-Division],1)","v":"N"},{"$f":"RIGHT([League-Division],1)","v":"C"},{"$f":"IF([LG]=\"N\",10,20)","v":10},{"$f":"IF([DIV]=\"E\",1,IF([DIV]=\"C\",2,3))","v":2},{"$f":"[LGS]+[DIVS]","v":12}]
[2002,"Politte, Cliff","TOR","Toronto Blue Jays",245000,55,0,57.333333333333336,19,3.61,0.9941860465116279,8.9476744186046506,5.9651162790697674,78,84,4.8,4315,991,1504,6.2009269988412514,9.4108922363847061,1.4558516801853998,"AL-E",{"$f":"LEFT([League-Division],1)","v":"A"},{"$f":"RIGHT([League-Division],1)","v":"E"},{"$f":"IF([LG]=\"N\",10,20)","v":20},{"$f":"IF([DIV]=\"E\",1,IF([DIV]=\"C\",2,3))","v":1},{"$f":"[LGS]+[DIVS]","v":21}]
[1999,"Ponson, Sidney","BAL","Baltimore Orioles",250000,32,32,210,-115,4.71,1.4619047619047618,4.8,9.7285714285714278,78,84,4.7699999999999996,4305,982,1468,6.1588850174216025,9.2069686411149831,1.4738675958188154,"AL-E",{"$f":"LEFT([League-Division],1)","v":"A"},{"$f":"RIGHT([League-Division],1)","v":"E"},{"$f":"IF([LG]=\"N\",10,20)","v":20},{"$f":"IF([DIV]=\"E\",1,IF([DIV]=\"C\",2,3))","v":1},{"$f":"[LGS]+[DIVS]","v":21}]
[2006,"Ponson, Sidney","NYA","New York Yankees",1000000,5,3,16.333333333333332,-11,10.47,2.0204081632653064,8.2653061224489797,14.3265306122449,97,65,4.41,4331,1019,1463,6.352574463172477,9.1205264373123995,1.3569614407758024,"AL-E",{"$f":"LEFT([League-Division],1)","v":"A"},{"$f":"RIGHT([League-Division],1)","v":"E"},{"$f":"IF([LG]=\"N\",10,20)","v":20},{"$f":"IF([DIV]=\"E\",1,IF([DIV]=\"C\",2,3))","v":1},{"$f":"[LGS]+[DIVS]","v":21}]
[1996,"Poole, Jim","CLE","Cleveland Indians",500000,32,0,26.666666666666668,-10,3.04,1.6124999999999998,6.4125000000000005,9.7874999999999996,99,62,4.3499999999999996,4356,1033,1530,6.4028925619834718,9.483471074380164,1.3870523415977962,"AL-C",{"$f":"LEFT([League-Division],1)","v":"A"},{"$f":"RIGHT([League-Division],1)","v":"C"},{"$f":"IF([LG]=\"N\",10,20)","v":20},{"$f":"IF([DIV]=\"E\",1,IF([DIV]=\"C\",2,3))","v":2},{"$f":"[LGS]+[DIVS]","v":22}]
[1999,"Poole, Jim","PHI","Philadelphia Phillies",200000,51,0,35.333333333333336,-26,4.33,1.7830188679245282,5.6037735849056602,12.226415094339622,77,85,4.93,4314,1030,1494,6.4464534075104316,9.350486787204451,1.4749652294853963,"NL-E",{"$f":"LEFT([League-Division],1)","v":"N"},{"$f":"RIGHT([League-Division],1)","v":"E"},{"$f":"IF([LG]=\"N\",10,20)","v":10},{"$f":"IF([DIV]=\"E\",1,IF([DIV]=\"C\",2,3))","v":1},{"$f":"[LGS]+[DIVS]","v":11}]
[1997,"Portugal, Mark","PHI","Philadelphia Phillies",400000,3,3,13.666666666666666,-15,4.6100000000000003,1.6097560975609757,1.3170731707317076,11.195121951219512,68,94,4.87,4260,1209,1441,7.6626760563380278,9.133098591549297,1.4485915492957746,"NL-E",{"$f":"LEFT([League-Division],1)","v":"N"},{"$f":"RIGHT([League-Division],1)","v":"E"},{"$f":"IF([LG]=\"N\",10,20)","v":10},{"$f":"IF([DIV]=\"E\",1,IF([DIV]=\"C\",2,3))","v":1},{"$f":"[LGS]+[DIVS]","v":11}]
[1997,"Portugal, Mark","PHI","Philadelphia Phillies",2350000,3,3,13.666666666666666,-15,4.6100000000000003,1.6097560975609757,1.3170731707317076,11.195121951219512,68,94,4.87,4260,1209,1441,7.6626760563380278,9.133098591549297,1.4485915492957746,"NL-E",{"$f":"LEFT([League-Division],1)","v":"N"},{"$f":"RIGHT([League-Division],1)","v":"E"},{"$f":"IF([LG]=\"N\",10,20)","v":10},{"$f":"IF([DIV]=\"E\",1,IF([DIV]=\"C\",2,3))","v":1},{"$f":"[LGS]+[DIVS]","v":11}]
[2000,"Pote, Lou","ANA","Anaheim Angels",207500,32,1,50.333333333333336,-8,3.4,1.3708609271523178,7.8675496688741715,9.2980132450331112,82,80,5,4344,846,1534,5.2582872928176796,9.5345303867403324,1.5165745856353592,"AL-W",{"$f":"LEFT([League-Division],1)","v":"A"},{"$f":"RIGHT([League-Division],1)","v":"W"},{"$f":"IF([LG]=\"N\",10,20)","v":20},{"$f":"IF([DIV]=\"E\",1,IF([DIV]=\"C\",2,3))","v":3},{"$f":"[LGS]+[DIVS]","v":23}]
[1995,"Powell, Jay","FLO","Florida Marlins",109000,9,0,8.3333333333333339,-3,1.08,1.5599999999999998,4.32,7.56,67,76,4.2699999999999996,3858,994,1299,6.9564541213063764,9.0909797822706064,1.4471228615863141,"NL-E",{"$f":"LEFT([League-Division],1)","v":"N"},{"$f":"RIGHT([League-Division],1)","v":"E"},{"$f":"IF([LG]=\"N\",10,20)","v":10},{"$f":"IF([DIV]=\"E\",1,IF([DIV]=\"C\",2,3))","v":1},{"$f":"[LGS]+[DIVS]","v":11}]
[2001,"Powell, Jay","HOU","Houston Astros",1600000,35,0,36.333333333333336,-13,3.72,1.6513761467889907,6.9357798165137607,10.155963302752292,93,69,4.37,4364,1228,1453,7.5976168652612275,8.9896883593033916,1.3329514207149404,"NL-C",{"$f":"LEFT([League-Division],1)","v":"N"},{"$f":"RIGHT([League-Division],1)","v":"C"},{"$f":"IF([LG]=\"N\",10,20)","v":10},{"$f":"IF([DIV]=\"E\",1,IF([DIV]=\"C\",2,3))","v":2},{"$f":"[LGS]+[DIVS]","v":12}]
[2004,"Pratt, Andy","CHN","Chicago Cubs",300000,4,0,1.6666666666666667,1,21.6,4.2,5.3999999999999995,0,89,73,3.81,4396,1346,1363,8.2670609645131936,8.3714740673339403,1.3020928116469519,"NL-C",{"$f":"LEFT([League-Division],1)","v":"N"},{"$f":"RIGHT([League-Division],1)","v":"C"},{"$f":"IF([LG]=\"N\",10,20)","v":10},{"$f":"IF([DIV]=\"E\",1,IF([DIV]=\"C\",2,3))","v":2},{"$f":"[LGS]+[DIVS]","v":12}]
[1996,"Prieto, Ariel","OAK","Oakland Athletics",181000,21,21,125.66666666666667,-55,4.1500000000000004,1.4641909814323606,5.3713527851458887,9.3103448275862082,78,84,5.2,4368,884,1638,5.4642857142857135,10.125,1.5673076923076923,"AL-W",{"$f":"LEFT([League-Division],1)","v":"A"},{"$f":"RIGHT([League-Division],1)","v":"W"},{"$f":"IF([LG]=\"N\",10,20)","v":20},{"$f":"IF([DIV]=\"E\",1,IF([DIV]=\"C\",2,3))","v":3},{"$f":"[LGS]+[DIVS]","v":23}]
[2003,"Prior, Mark","CHN","Chicago Cubs",1450000,30,30,211.33333333333334,62,2.4300000000000002,1.1025236593059937,10.433753943217665,7.7933753943217656,88,74,3.83,4369,1404,1304,8.6765850308995187,8.0585946440833141,1.3190661478599222,"NL-C",{"$f":"LEFT([League-Division],1)","v":"N"},{"$f":"RIGHT([League-Division],1)","v":"C"},{"$f":"IF([LG]=\"N\",10,20)","v":10},{"$f":"IF([DIV]=\"E\",1,IF([DIV]=\"C\",2,3))","v":2},{"$f":"[LGS]+[DIVS]","v":12}]
[2002,"Prokopec, Luke","TOR","Toronto Blue Jays",268000,22,12,71.666666666666671,-49,6.78,1.6046511627906976,5.1488372093023251,11.302325581395349,78,84,4.8,4315,991,1504,6.2009269988412514,9.4108922363847061,1.4558516801853998,"AL-E",{"$f":"LEFT([League-Division],1)","v":"A"},{"$f":"RIGHT([League-Division],1)","v":"E"},{"$f":"IF([LG]=\"N\",10,20)","v":20},{"$f":"IF([DIV]=\"E\",1,IF([DIV]=\"C\",2,3))","v":1},{"$f":"[LGS]+[DIVS]","v":21}]
[1995,"Pugh, Tim","CIN","Cincinnati Reds",170000,28,12,98.333333333333329,-62,3.84,1.3423728813559324,3.4779661016949155,9.1525423728813564,85,59,4.03,3867,903,1270,6.3048875096974397,8.8673390224980615,1.3141970519782777,"NL-C",{"$f":"LEFT([League-Division],1)","v":"N"},{"$f":"RIGHT([League-Division],1)","v":"C"},{"$f":"IF([LG]=\"N\",10,20)","v":10},{"$f":"IF([DIV]=\"E\",1,IF([DIV]=\"C\",2,3))","v":2},{"$f":"[LGS]+[DIVS]","v":12}]
[2006,"Putz, J.J.","SEA","Seattle Mariners",415000,72,0,78.333333333333329,45,2.2999999999999998,0.91914893617021287,11.948936170212768,6.7787234042553202,78,84,4.5999999999999996,4340,1067,1500,6.638018433179723,9.3317972350230391,1.4239631336405529,"AL-W",{"$f":"LEFT([League-Division],1)","v":"A"},{"$f":"RIGHT([League-Division],1)","v":"W"},{"$f":"IF([LG]=\"N\",10,20)","v":20},{"$f":"IF([DIV]=\"E\",1,IF([DIV]=\"C\",2,3))","v":3},{"$f":"[LGS]+[DIVS]","v":23}]
[2009,"Putz, J.J.","NYN","New York Mets",6000000,29,0,29.333333333333332,-10,5.22,1.6363636363636365,5.8295454545454541,8.8977272727272734,70,92,4.46,4278,1031,1452,6.5070126227208975,9.1640953716690028,1.4502103786816269,"NL-E",{"$f":"LEFT([League-Division],1)","v":"N"},{"$f":"RIGHT([League-Division],1)","v":"E"},{"$f":"IF([LG]=\"N\",10,20)","v":10},{"$f":"IF([DIV]=\"E\",1,IF([DIV]=\"C\",2,3))","v":1},{"$f":"[LGS]+[DIVS]","v":11}]
[2010,"Qualls, Chad","ARI","Arizona Diamondbacks",4185000,43,0,38,-27,8.2899999999999991,2,8.0526315789473681,14.447368421052632,65,97,4.8099999999999996,4296,1070,1503,6.7248603351955305,9.4462290502793298,1.4322625698324023,"NL-W",{"$f":"LEFT([League-Division],1)","v":"N"},{"$f":"RIGHT([League-Division],1)","v":"W"},{"$f":"IF([LG]=\"N\",10,20)","v":10},{"$f":"IF([DIV]=\"E\",1,IF([DIV]=\"C\",2,3))","v":3},{"$f":"[LGS]+[DIVS]","v":13}]
[2002,"Quantrill, Paul","LAN","Los Angeles Dodgers",2833333,86,0,76.666666666666671,-27,2.7,1.3695652173913042,6.2217391304347824,9.391304347826086,92,70,3.69,4373,1132,1311,6.9892522295906696,8.094443174022409,1.2801280585410473,"NL-W",{"$f":"LEFT([League-Division],1)","v":"N"},{"$f":"RIGHT([League-Division],1)","v":"W"},{"$f":"IF([LG]=\"N\",10,20)","v":10},{"$f":"IF([DIV]=\"E\",1,IF([DIV]=\"C\",2,3))","v":3},{"$f":"[LGS]+[DIVS]","v":13}]
[2005,"Quantrill, Paul","FLO","Florida Marlins",3000000,6,0,5.333333333333333,-7,8.44,2.4375,1.6875,13.5,83,79,4.16,4327,1125,1459,7.0198752022186275,9.1039981511439798,1.4018950774208458,"NL-E",{"$f":"LEFT([League-Division],1)","v":"N"},{"$f":"RIGHT([League-Division],1)","v":"E"},{"$f":"IF([LG]=\"N\",10,20)","v":10},{"$f":"IF([DIV]=\"E\",1,IF([DIV]=\"C\",2,3))","v":1},{"$f":"[LGS]+[DIVS]","v":11}]
[1998,"Radinsky, Scott","LAN","Los Angeles Dodgers",900000,62,0,61.666666666666664,-18,2.63,1.345945945945946,6.5675675675675675,9.1945945945945944,83,79,3.81,4341,1178,1332,7.3268832066344167,8.2847270214236346,1.3261921216309607,"NL-W",{"$f":"LEFT([League-Division],1)","v":"N"},{"$f":"RIGHT([League-Division],1)","v":"W"},{"$f":"IF([LG]=\"N\",10,20)","v":10},{"$f":"IF([DIV]=\"E\",1,IF([DIV]=\"C\",2,3))","v":3},{"$f":"[LGS]+[DIVS]","v":13}]
[2001,"Radke, Brad","MIN","Minnesota Twins",7750000,33,33,226,-98,3.94,1.154867256637168,5.4557522123893811,9.3584070796460175,85,77,4.51,4324,965,1494,6.0256706753006473,9.3288621646623504,1.3452821461609621,"AL-C",{"$f":"LEFT([League-Division],1)","v":"A"},{"$f":"RIGHT([League-Division],1)","v":"C"},{"$f":"IF([LG]=\"N\",10,20)","v":20},{"$f":"IF([DIV]=\"E\",1,IF([DIV]=\"C\",2,3))","v":2},{"$f":"[LGS]+[DIVS]","v":22}]
[2002,"Radke, Brad","MIN","Minnesota Twins",8750000,21,21,118.33333333333333,-62,4.72,1.2169014084507044,4.7154929577464788,9.4309859154929576,94,67,4.12,4334,1026,1454,6.391785879095524,9.0581449007844927,1.3103368712505767,"AL-C",{"$f":"LEFT([League-Division],1)","v":"A"},{"$f":"RIGHT([League-Division],1)","v":"C"},{"$f":"IF([LG]=\"N\",10,20)","v":20},{"$f":"IF([DIV]=\"E\",1,IF([DIV]=\"C\",2,3))","v":2},{"$f":"[LGS]+[DIVS]","v":22}]
[2004,"Ramirez, Erasmo","TEX","Texas Rangers",303750,34,0,35.666666666666664,-13,4.29,1.1495327102803738,5.2990654205607486,8.5794392523364493,89,73,4.53,4319,979,1536,6.1201667052558459,9.6022227367446149,1.4468626996990044,"AL-W",{"$f":"LEFT([League-Division],1)","v":"A"},{"$f":"RIGHT([League-Division],1)","v":"W"},{"$f":"IF([LG]=\"N\",10,20)","v":20},{"$f":"IF([DIV]=\"E\",1,IF([DIV]=\"C\",2,3))","v":3},{"$f":"[LGS]+[DIVS]","v":23}]
[2003,"Ramirez, Horacio","ATL","Atlanta Braves",300000,29,29,182.33333333333334,-81,4,1.3875685557586837,4.9360146252285189,8.9341864716636188,101,61,4.0999999999999996,4369,992,1425,6.1304646372167548,8.8063630121309231,1.3595788509956512,"NL-E",{"$f":"LEFT([League-Division],1)","v":"N"},{"$f":"RIGHT([League-Division],1)","v":"E"},{"$f":"IF([LG]=\"N\",10,20)","v":10},{"$f":"IF([DIV]=\"E\",1,IF([DIV]=\"C\",2,3))","v":1},{"$f":"[LGS]+[DIVS]","v":11}]
[2008,"Ramirez, Ramon","KCA","Kansas City Royals",397000,71,0,71.666666666666671,13,2.64,1.2279069767441859,8.7906976744186043,7.1581395348837207,75,87,4.5,4337,1085,1473,6.7546691261240488,9.1701637076320033,1.375144108830989,"AL-C",{"$f":"LEFT([League-Division],1)","v":"A"},{"$f":"RIGHT([League-Division],1)","v":"C"},{"$f":"IF([LG]=\"N\",10,20)","v":20},{"$f":"IF([DIV]=\"E\",1,IF([DIV]=\"C\",2,3))","v":2},{"$f":"[LGS]+[DIVS]","v":22}]
[2004,"Randolph, Stephen","ARI","Arizona Diamondbacks",322500,45,6,81.666666666666671,-11,5.51,1.8244897959183672,6.83265306122449,8.0448979591836736,51,111,4.9800000000000004,4308,1153,1480,7.2263231197771587,9.2757660167130922,1.4958217270194987,"NL-W",{"$f":"LEFT([League-Division],1)","v":"N"},{"$f":"RIGHT([League-Division],1)","v":"W"},{"$f":"IF([LG]=\"N\",10,20)","v":10},{"$f":"IF([DIV]=\"E\",1,IF([DIV]=\"C\",2,3))","v":3},{"$f":"[LGS]+[DIVS]","v":13}]
[2000,"Rapp, Pat","BAL","Baltimore Orioles",750000,31,30,174,-97,5.9,1.6436781609195403,5.4827586206896557,10.5,74,88,5.37,4299,1017,1547,6.3872993719469644,9.7159804605722258,1.5436147941381717,"AL-E",{"$f":"LEFT([League-Division],1)","v":"A"},{"$f":"RIGHT([League-Division],1)","v":"E"},{"$f":"IF([LG]=\"N\",10,20)","v":20},{"$f":"IF([DIV]=\"E\",1,IF([DIV]=\"C\",2,3))","v":1},{"$f":"[LGS]+[DIVS]","v":21}]
[2007,"Rasner, Darrell","NYA","New York Yankees",384523,6,6,24.666666666666668,-18,4.01,1.5,4.0135135135135132,10.581081081081081,94,68,4.49,4352,1009,1498,6.2598805147058822,9.2936580882352935,1.4310661764705881,"AL-E",{"$f":"LEFT([League-Division],1)","v":"A"},{"$f":"RIGHT([League-Division],1)","v":"E"},{"$f":"IF([LG]=\"N\",10,20)","v":20},{"$f":"IF([DIV]=\"E\",1,IF([DIV]=\"C\",2,3))","v":1},{"$f":"[LGS]+[DIVS]","v":21}]
[2006,"Ray, Chris","BAL","Baltimore Orioles",335000,61,0,66,6,2.73,1.0909090909090908,6.9545454545454541,6.1363636363636358,70,92,5.35,4257,1016,1579,6.4439746300211418,10.014799154334039,1.5447498238195914,"AL-E",{"$f":"LEFT([League-Division],1)","v":"A"},{"$f":"RIGHT([League-Division],1)","v":"E"},{"$f":"IF([LG]=\"N\",10,20)","v":20},{"$f":"IF([DIV]=\"E\",1,IF([DIV]=\"C\",2,3))","v":1},{"$f":"[LGS]+[DIVS]","v":21}]
[2007,"Ray, Chris","BAL","Baltimore Orioles",420000,43,0,42.666666666666664,9,4.43,1.2421875,9.28125,7.3828125,69,93,5.17,4316,1087,1491,6.8000463392029653,9.3273864689527333,1.5201575532900833,"AL-E",{"$f":"LEFT([League-Division],1)","v":"A"},{"$f":"RIGHT([League-Division],1)","v":"E"},{"$f":"IF([LG]=\"N\",10,20)","v":20},{"$f":"IF([DIV]=\"E\",1,IF([DIV]=\"C\",2,3))","v":1},{"$f":"[LGS]+[DIVS]","v":21}]
[2005,"Redding, Tim","NYA","New York Yankees",750000,1,1,1,-2,54,8,18,36,95,67,4.5199999999999996,4292,985,1495,6.1964119291705497,9.4047064305684991,1.3685927306616961,"AL-E",{"$f":"LEFT([League-Division],1)","v":"A"},{"$f":"RIGHT([League-Division],1)","v":"E"},{"$f":"IF([LG]=\"N\",10,20)","v":20},{"$f":"IF([DIV]=\"E\",1,IF([DIV]=\"C\",2,3))","v":1},{"$f":"[LGS]+[DIVS]","v":21}]
[2000,"Redman, Mark","MIN","Minnesota Twins",200000,32,24,151.33333333333334,-51,4.76,1.4074889867841409,6.9581497797356819,9.9911894273127757,69,93,5.15,4297,1042,1634,6.5473586222946247,10.267163137072377,1.5010472422620433,"AL-C",{"$f":"LEFT([League-Division],1)","v":"A"},{"$f":"RIGHT([League-Division],1)","v":"C"},{"$f":"IF([LG]=\"N\",10,20)","v":20},{"$f":"IF([DIV]=\"E\",1,IF([DIV]=\"C\",2,3))","v":2},{"$f":"[LGS]+[DIVS]","v":22}]
[2006,"Redman, Mark","KCA","Kansas City Royals",4500000,29,29,167,-126,5.71,1.5868263473053892,4.0958083832335328,10.886227544910179,62,100,5.65,4279,904,1648,5.7041364804860955,10.398691283010049,1.6020098153774247,"AL-C",{"$f":"LEFT([League-Division],1)","v":"A"},{"$f":"RIGHT([League-Division],1)","v":"C"},{"$f":"IF([LG]=\"N\",10,20)","v":20},{"$f":"IF([DIV]=\"E\",1,IF([DIV]=\"C\",2,3))","v":2},{"$f":"[LGS]+[DIVS]","v":22}]
[2001,"Reed, Rick","MIN","Minnesota Twins",6750000,12,12,67.666666666666671,-49,5.19,1.5665024630541871,5.7192118226600988,12.236453201970443,85,77,4.51,4324,965,1494,6.0256706753006473,9.3288621646623504,1.3452821461609621,"AL-C",{"$f":"LEFT([League-Division],1)","v":"A"},{"$f":"RIGHT([League-Division],1)","v":"C"},{"$f":"IF([LG]=\"N\",10,20)","v":20},{"$f":"IF([DIV]=\"E\",1,IF([DIV]=\"C\",2,3))","v":2},{"$f":"[LGS]+[DIVS]","v":22}]
[1998,"Reed, Steve","CLE","Cleveland Indians",1000000,20,0,25.666666666666668,-3,6.66,1.3246753246753247,8.0649350649350637,9.1168831168831161,89,73,4.45,4380,1037,1552,6.3924657534246574,9.5671232876712331,1.4486301369863013,"AL-C",{"$f":"LEFT([League-Division],1)","v":"A"},{"$f":"RIGHT([League-Division],1)","v":"C"},{"$f":"IF([LG]=\"N\",10,20)","v":20},{"$f":"IF([DIV]=\"E\",1,IF([DIV]=\"C\",2,3))","v":2},{"$f":"[LGS]+[DIVS]","v":22}]
[2001,"Reed, Steve","ATL","Atlanta Braves",1600000,39,0,31,-5,3.48,1.3870967741935485,7.258064516129032,8.7096774193548399,88,74,3.59,4342,1133,1363,7.045370796867803,8.475587286964533,1.2865039152464304,"NL-E",{"$f":"LEFT([League-Division],1)","v":"N"},{"$f":"RIGHT([League-Division],1)","v":"E"},{"$f":"IF([LG]=\"N\",10,20)","v":10},{"$f":"IF([DIV]=\"E\",1,IF([DIV]=\"C\",2,3))","v":1},{"$f":"[LGS]+[DIVS]","v":11}]
[2000,"Reichert, Dan","KCA","Kansas City Royals",205000,44,18,153.33333333333334,-63,4.7,1.6173913043478261,5.517391304347826,9.215217391304348,77,85,5.48,4317,927,1585,5.7977762334954823,9.9131341209173041,1.5830437804030577,"AL-C",{"$f":"LEFT([League-Division],1)","v":"A"},{"$f":"RIGHT([League-Division],1)","v":"C"},{"$f":"IF([LG]=\"N\",10,20)","v":20},{"$f":"IF([DIV]=\"E\",1,IF([DIV]=\"C\",2,3))","v":2},{"$f":"[LGS]+[DIVS]","v":22}]
[2001,"Reichert, Dan","KCA","Kansas City Royals",265000,27,19,123,-54,5.63,1.6097560975609757,5.6341463414634143,9.5853658536585353,65,97,4.87,4320,911,1537,5.6937499999999996,9.6062500000000011,1.4673611111111111,"AL-C",{"$f":"LEFT([League-Division],1)","v":"A"},{"$f":"RIGHT([League-Division],1)","v":"C"},{"$f":"IF([LG]=\"N\",10,20)","v":20},{"$f":"IF([DIV]=\"E\",1,IF([DIV]=\"C\",2,3))","v":2},{"$f":"[LGS]+[DIVS]","v":22}]
[1995,"Rekar, Bryan","COL","Colorado Rockies",109000,15,14,85,-35,4.9800000000000004,1.4,6.3529411764705888,10.058823529411764,77,67,4.97,3864,891,1443,6.2259316770186341,10.083074534161492,1.5178571428571428,"NL-W",{"$f":"LEFT([League-Division],1)","v":"N"},{"$f":"RIGHT([League-Division],1)","v":"W"},{"$f":"IF([LG]=\"N\",10,20)","v":10},{"$f":"IF([DIV]=\"E\",1,IF([DIV]=\"C\",2,3))","v":3},{"$f":"[LGS]+[DIVS]","v":13}]
[2000,"Rekar, Bryan","TBA","Tampa Bay Devil Rays",265000,30,27,173.33333333333334,-105,4.41,1.3788461538461538,4.9326923076923075,10.384615384615383,69,92,4.8600000000000003,4293,955,1553,6.0062893081761004,9.7672955974842761,1.4577218728162125,"AL-E",{"$f":"LEFT([League-Division],1)","v":"A"},{"$f":"RIGHT([League-Division],1)","v":"E"},{"$f":"IF([LG]=\"N\",10,20)","v":20},{"$f":"IF([DIV]=\"E\",1,IF([DIV]=\"C\",2,3))","v":1},{"$f":"[LGS]+[DIVS]","v":21}]
[1998,"Remlinger, Mike","CIN","Cincinnati Reds",300000,35,28,164.33333333333334,-20,4.82,1.5273833671399593,7.8864097363083161,8.9817444219066935,77,85,4.4400000000000004,4323,1098,1400,6.8577376821651637,8.7439278278972932,1.3691880638445524,"NL-C",{"$f":"LEFT([League-Division],1)","v":"N"},{"$f":"RIGHT([League-Division],1)","v":"C"},{"$f":"IF([LG]=\"N\",10,20)","v":10},{"$f":"IF([DIV]=\"E\",1,IF([DIV]=\"C\",2,3))","v":2},{"$f":"[LGS]+[DIVS]","v":12}]
[2006,"Remlinger, Mike","ATL","Atlanta Braves",700000,36,0,22.333333333333332,-8,4.03,1.6119402985074627,7.6567164179104479,10.880597014925375,79,83,4.5999999999999996,4324,1049,1529,6.5501850138760416,9.5474098057354304,1.4576780758556893,"NL-E",{"$f":"LEFT([League-Division],1)","v":"N"},{"$f":"RIGHT([League-Division],1)","v":"E"},{"$f":"IF([LG]=\"N\",10,20)","v":10},{"$f":"IF([DIV]=\"E\",1,IF([DIV]=\"C\",2,3))","v":1},{"$f":"[LGS]+[DIVS]","v":11}]
[2000,"Reyes, Al","BAL","Baltimore Orioles",620000,13,0,13,-3,6.92,1.8461538461538463,6.9230769230769234,9,74,88,5.37,4299,1017,1547,6.3872993719469644,9.7159804605722258,1.5436147941381717,"AL-E",{"$f":"LEFT([League-Division],1)","v":"A"},{"$f":"RIGHT([League-Division],1)","v":"E"},{"$f":"IF([LG]=\"N\",10,20)","v":20},{"$f":"IF([DIV]=\"E\",1,IF([DIV]=\"C\",2,3))","v":1},{"$f":"[LGS]+[DIVS]","v":21}]
[2008,"Reyes, Al","TBA","Tampa Bay Rays",2300000,26,0,22.666666666666668,-2,4.37,1.3676470588235294,7.5441176470588225,8.3382352941176467,97,65,3.82,4373,1143,1349,7.0571689915389895,8.3290647152984221,1.2863023096272581,"AL-E",{"$f":"LEFT([League-Division],1)","v":"A"},{"$f":"RIGHT([League-Division],1)","v":"E"},{"$f":"IF([LG]=\"N\",10,20)","v":20},{"$f":"IF([DIV]=\"E\",1,IF([DIV]=\"C\",2,3))","v":1},{"$f":"[LGS]+[DIVS]","v":21}]
[1998,"Reyes, Carlos","BOS","Boston Red Sox",370000,24,0,38.333333333333336,-12,3.52,1.2782608695652173,5.3999999999999995,8.2173913043478262,92,70,4.1900000000000004,4308,1025,1406,6.424094707520891,8.8119777158774379,1.3300835654596099,"AL-E",{"$f":"LEFT([League-Division],1)","v":"A"},{"$f":"RIGHT([League-Division],1)","v":"E"},{"$f":"IF([LG]=\"N\",10,20)","v":20},{"$f":"IF([DIV]=\"E\",1,IF([DIV]=\"C\",2,3))","v":1},{"$f":"[LGS]+[DIVS]","v":21}]
[1999,"Reyes, Carlos","SDN","San Diego Padres",400000,65,0,77.333333333333329,-19,3.72,1.2931034482758621,6.6336206896551726,8.8448275862068968,74,88,4.47,4260,1078,1454,6.8323943661971827,9.2154929577464788,1.3964788732394366,"NL-W",{"$f":"LEFT([League-Division],1)","v":"N"},{"$f":"RIGHT([League-Division],1)","v":"W"},{"$f":"IF([LG]=\"N\",10,20)","v":10},{"$f":"IF([DIV]=\"E\",1,IF([DIV]=\"C\",2,3))","v":3},{"$f":"[LGS]+[DIVS]","v":13}]
[2002,"Reyes, Dennys","TEX","Texas Rangers",900000,15,5,42.333333333333336,-26,6.38,1.795275590551181,6.1653543307086611,11.69291338582677,72,90,5.15,4319,1030,1528,6.4389905070618196,9.5522111599907387,1.5260476962259781,"AL-W",{"$f":"LEFT([League-Division],1)","v":"A"},{"$f":"RIGHT([League-Division],1)","v":"W"},{"$f":"IF([LG]=\"N\",10,20)","v":20},{"$f":"IF([DIV]=\"E\",1,IF([DIV]=\"C\",2,3))","v":3},{"$f":"[LGS]+[DIVS]","v":23}]
[2009,"Reyes, Dennys","SLN","St. Louis Cardinals",1000000,75,0,41,-2,3.29,1.3658536585365855,7.2439024390243905,7.6829268292682924,91,71,3.66,4322,1049,1407,6.5532161036557142,8.789680703378064,1.2959278111985191,"NL-C",{"$f":"LEFT([League-Division],1)","v":"N"},{"$f":"RIGHT([League-Division],1)","v":"C"},{"$f":"IF([LG]=\"N\",10,20)","v":10},{"$f":"IF([DIV]=\"E\",1,IF([DIV]=\"C\",2,3))","v":2},{"$f":"[LGS]+[DIVS]","v":12}]
[1995,"Reynoso, Armando","COL","Colorado Rockies",258000,20,18,93,-76,5.32,1.6344086021505377,3.870967741935484,11.225806451612904,77,67,4.97,3864,891,1443,6.2259316770186341,10.083074534161492,1.5178571428571428,"NL-W",{"$f":"LEFT([League-Division],1)","v":"N"},{"$f":"RIGHT([League-Division],1)","v":"W"},{"$f":"IF([LG]=\"N\",10,20)","v":10},{"$f":"IF([DIV]=\"E\",1,IF([DIV]=\"C\",2,3))","v":3},{"$f":"[LGS]+[DIVS]","v":13}]
[1996,"Reynolds, Shane","HOU","Houston Astros",330000,35,35,239,-23,3.65,1.1338912133891212,7.6820083682008367,8.548117154811715,82,80,4.38,4341,1163,1541,7.233586731167934,9.5846579129232907,1.437456807187284,"NL-C",{"$f":"LEFT([League-Division],1)","v":"N"},{"$f":"RIGHT([League-Division],1)","v":"C"},{"$f":"IF([LG]=\"N\",10,20)","v":10},{"$f":"IF([DIV]=\"E\",1,IF([DIV]=\"C\",2,3))","v":2},{"$f":"[LGS]+[DIVS]","v":12}]
[2004,"Reynolds, Shane","ARI","Arizona Diamondbacks",1000000,1,1,2,-6,4.5,4,0,27,51,111,4.9800000000000004,4308,1153,1480,7.2263231197771587,9.2757660167130922,1.4958217270194987,"NL-W",{"$f":"LEFT([League-Division],1)","v":"N"},{"$f":"RIGHT([League-Division],1)","v":"W"},{"$f":"IF([LG]=\"N\",10,20)","v":10},{"$f":"IF([DIV]=\"E\",1,IF([DIV]=\"C\",2,3))","v":3},{"$f":"[LGS]+[DIVS]","v":13}]
[1996,"Rhodes, Arthur","BAL","Baltimore Orioles",300000,28,2,53,14,4.08,1.3396226415094339,10.528301886792452,8.1509433962264151,88,74,5.15,4404,1047,1604,6.4189373297002721,9.8337874659400555,1.4993188010899183,"AL-E",{"$f":"LEFT([League-Division],1)","v":"A"},{"$f":"RIGHT([League-Division],1)","v":"E"},{"$f":"IF([LG]=\"N\",10,20)","v":20},{"$f":"IF([DIV]=\"E\",1,IF([DIV]=\"C\",2,3))","v":1},{"$f":"[LGS]+[DIVS]","v":21}]
[2005,"Rhodes, Arthur","CLE","Cleveland Indians",3700000,47,0,43.333333333333336,10,2.08,1.0384615384615383,8.9307692307692292,6.8538461538461535,93,69,3.61,4358,1050,1363,6.505277650298301,8.4444699403396051,1.2225791647544744,"AL-C",{"$f":"LEFT([League-Division],1)","v":"A"},{"$f":"RIGHT([League-Division],1)","v":"C"},{"$f":"IF([LG]=\"N\",10,20)","v":20},{"$f":"IF([DIV]=\"E\",1,IF([DIV]=\"C\",2,3))","v":2},{"$f":"[LGS]+[DIVS]","v":22}]
[2006,"Rhodes, Arthur","PHI","Philadelphia Phillies",3700000,55,0,45.666666666666664,1,5.32,1.6861313868613139,9.459854014598541,9.2627737226277365,85,77,4.5999999999999996,4381,1138,1561,7.0134672449212516,9.6204062999315223,1.4195389180552387,"NL-E",{"$f":"LEFT([League-Division],1)","v":"N"},{"$f":"RIGHT([League-Division],1)","v":"E"},{"$f":"IF([LG]=\"N\",10,20)","v":10},{"$f":"IF([DIV]=\"E\",1,IF([DIV]=\"C\",2,3))","v":1},{"$f":"[LGS]+[DIVS]","v":11}]
[2003,"Riedling, John","CIN","Cincinnati Reds",350000,55,8,101,-42,4.9000000000000004,1.5247524752475248,5.7920792079207919,9.5346534653465351,69,93,5.09,4339,932,1578,5.7994929707305838,9.8193132058077914,1.4989628946761928,"NL-C",{"$f":"LEFT([League-Division],1)","v":"N"},{"$f":"RIGHT([League-Division],1)","v":"C"},{"$f":"IF([LG]=\"N\",10,20)","v":10},{"$f":"IF([DIV]=\"E\",1,IF([DIV]=\"C\",2,3))","v":2},{"$f":"[LGS]+[DIVS]","v":12}]
[1999,"Rigby, Brad","OAK","Oakland Athletics",201500,29,0,62.333333333333336,-43,4.33,1.5240641711229945,3.7540106951871657,9.9625668449197864,87,75,4.6900000000000004,4314,967,1537,6.052155771905424,9.6196105702364392,1.4645340751043114,"AL-W",{"$f":"LEFT([League-Division],1)","v":"A"},{"$f":"RIGHT([League-Division],1)","v":"W"},{"$f":"IF([LG]=\"N\",10,20)","v":20},{"$f":"IF([DIV]=\"E\",1,IF([DIV]=\"C\",2,3))","v":3},{"$f":"[LGS]+[DIVS]","v":23}]
[2001,"Rigdon, Paul","MIL","Milwaukee Brewers",225000,15,15,79.333333333333329,-37,5.79,1.6638655462184875,5.5588235294117645,9.7563025210084042,68,94,4.6399999999999997,4309,1057,1452,6.6231144116964495,9.0981666279879327,1.4752842886980739,"NL-C",{"$f":"LEFT([League-Division],1)","v":"N"},{"$f":"RIGHT([League-Division],1)","v":"C"},{"$f":"IF([LG]=\"N\",10,20)","v":10},{"$f":"IF([DIV]=\"E\",1,IF([DIV]=\"C\",2,3))","v":2},{"$f":"[LGS]+[DIVS]","v":12}]
[2005,"Rincon, Juan","MIN","Minnesota Twins",440000,75,0,77,21,2.4500000000000002,1.2077922077922079,9.8181818181818166,7.3636363636363642,83,79,3.71,4393,965,1458,5.9310266332802186,8.9610744366036883,1.2333257455042113,"AL-C",{"$f":"LEFT([League-Division],1)","v":"A"},{"$f":"RIGHT([League-Division],1)","v":"C"},{"$f":"IF([LG]=\"N\",10,20)","v":20},{"$f":"IF([DIV]=\"E\",1,IF([DIV]=\"C\",2,3))","v":2},{"$f":"[LGS]+[DIVS]","v":22}]
[1997,"Rincon, Ricardo","PIT","Pittsburgh Pirates",150000,62,0,60,20,3.45,1.25,10.65,7.6499999999999995,79,83,4.28,4308,1080,1503,6.7688022284122562,9.4199164345403901,1.4366295264623956,"NL-C",{"$f":"LEFT([League-Division],1)","v":"N"},{"$f":"RIGHT([League-Division],1)","v":"C"},{"$f":"IF([LG]=\"N\",10,20)","v":10},{"$f":"IF([DIV]=\"E\",1,IF([DIV]=\"C\",2,3))","v":2},{"$f":"[LGS]+[DIVS]","v":12}]
[2000,"Rincon, Ricardo","CLE","Cleveland Indians",1000000,35,0,20,3,2.7,1.5,9,7.6499999999999995,90,72,4.84,4326,1213,1511,7.5707350901525654,9.4306518723994444,1.5097087378640777,"AL-C",{"$f":"LEFT([League-Division],1)","v":"A"},{"$f":"RIGHT([League-Division],1)","v":"C"},{"$f":"IF([LG]=\"N\",10,20)","v":20},{"$f":"IF([DIV]=\"E\",1,IF([DIV]=\"C\",2,3))","v":2},{"$f":"[LGS]+[DIVS]","v":22}]
[2006,"Rincon, Ricardo","SLN","St. Louis Cardinals",1200000,5,0,3.3333333333333335,0,10.8,3,16.2,16.2,83,78,4.54,4289,970,1475,6.106318489158312,9.2853812077407323,1.3842387502914431,"NL-C",{"$f":"LEFT([League-Division],1)","v":"N"},{"$f":"RIGHT([League-Division],1)","v":"C"},{"$f":"IF([LG]=\"N\",10,20)","v":10},{"$f":"IF([DIV]=\"E\",1,IF([DIV]=\"C\",2,3))","v":2},{"$f":"[LGS]+[DIVS]","v":12}]
[2002,"Riske, David","CLE","Cleveland Indians",227500,51,0,51.333333333333336,16,5.26,1.6363636363636362,11.396103896103895,8.5909090909090899,74,88,4.91,4274,1058,1508,6.6836686944314456,9.526438933083762,1.4817501169864296,"AL-C",{"$f":"LEFT([League-Division],1)","v":"A"},{"$f":"RIGHT([League-Division],1)","v":"C"},{"$f":"IF([LG]=\"N\",10,20)","v":20},{"$f":"IF([DIV]=\"E\",1,IF([DIV]=\"C\",2,3))","v":2},{"$f":"[LGS]+[DIVS]","v":22}]
[2010,"Riske, David","MIL","Milwaukee Brewers",4500000,23,0,23.333333333333332,-9,5.01,1.4142857142857144,6.1714285714285717,9.6428571428571423,77,85,4.59,4317,1258,1487,7.8679638637943015,9.3002084781097984,1.4378040305767894,"NL-C",{"$f":"LEFT([League-Division],1)","v":"N"},{"$f":"RIGHT([League-Division],1)","v":"C"},{"$f":"IF([LG]=\"N\",10,20)","v":10},{"$f":"IF([DIV]=\"E\",1,IF([DIV]=\"C\",2,3))","v":2},{"$f":"[LGS]+[DIVS]","v":12}]
[1999,"Ritchie, Todd","PIT","Pittsburgh Pirates",225000,28,26,172.66666666666666,-62,3.49,1.2915057915057915,5.5772200772200771,8.80888030888031,78,83,4.33,4297,1083,1444,6.8049802187572723,9.0733069583430304,1.4500814521759369,"NL-C",{"$f":"LEFT([League-Division],1)","v":"N"},{"$f":"RIGHT([League-Division],1)","v":"C"},{"$f":"IF([LG]=\"N\",10,20)","v":10},{"$f":"IF([DIV]=\"E\",1,IF([DIV]=\"C\",2,3))","v":2},{"$f":"[LGS]+[DIVS]","v":12}]
[2002,"Ritchie, Todd","CHA","Chicago White Sox",3533333,26,23,133.66666666666666,-99,6.06,1.7057356608478804,5.1845386533665847,11.850374064837906,81,81,4.53,4269,945,1422,5.9768095572733664,8.9936753338018267,1.370344342937456,"AL-C",{"$f":"LEFT([League-Division],1)","v":"A"},{"$f":"RIGHT([League-Division],1)","v":"C"},{"$f":"IF([LG]=\"N\",10,20)","v":20},{"$f":"IF([DIV]=\"E\",1,IF([DIV]=\"C\",2,3))","v":2},{"$f":"[LGS]+[DIVS]","v":22}]
[1996,"Rivera, Mariano","NYA","New York Yankees",131125,61,0,107.66666666666667,57,2.09,0.99380804953560364,10.866873065015479,6.1021671826625381,92,70,4.6500000000000004,4320,1139,1469,7.1187499999999995,9.1812500000000004,1.4437500000000001,"AL-E",{"$f":"LEFT([League-Division],1)","v":"A"},{"$f":"RIGHT([League-Division],1)","v":"E"},{"$f":"IF([LG]=\"N\",10,20)","v":20},{"$f":"IF([DIV]=\"E\",1,IF([DIV]=\"C\",2,3))","v":1},{"$f":"[LGS]+[DIVS]","v":21}]
[2003,"Rivera, Mariano","NYA","New York Yankees",10500000,64,0,70.666666666666671,2,1.66,1.0047169811320753,8.0235849056603765,7.7688679245283012,101,61,4.0199999999999996,4386,1119,1512,6.888508891928864,9.3077975376196989,1.2906976744186047,"AL-E",{"$f":"LEFT([League-Division],1)","v":"A"},{"$f":"RIGHT([League-Division],1)","v":"E"},{"$f":"IF([LG]=\"N\",10,20)","v":20},{"$f":"IF([DIV]=\"E\",1,IF([DIV]=\"C\",2,3))","v":1},{"$f":"[LGS]+[DIVS]","v":21}]
[2006,"Rivera, Mariano","NYA","New York Yankees",10500000,63,0,75,-6,1.8,0.96,6.6,7.32,97,65,4.41,4331,1019,1463,6.352574463172477,9.1205264373123995,1.3569614407758024,"AL-E",{"$f":"LEFT([League-Division],1)","v":"A"},{"$f":"RIGHT([League-Division],1)","v":"E"},{"$f":"IF([LG]=\"N\",10,20)","v":20},{"$f":"IF([DIV]=\"E\",1,IF([DIV]=\"C\",2,3))","v":1},{"$f":"[LGS]+[DIVS]","v":21}]
[2009,"Rivera, Saul","WAS","Washington Nationals",475000,30,0,38.333333333333336,-27,6.1,1.6173913043478261,4.9304347826086952,11.269565217391303,59,103,5.0199999999999996,4273,911,1533,5.7563772525157972,9.6866370231687338,1.5179031125672831,"NL-E",{"$f":"LEFT([League-Division],1)","v":"N"},{"$f":"RIGHT([League-Division],1)","v":"E"},{"$f":"IF([LG]=\"N\",10,20)","v":10},{"$f":"IF([DIV]=\"E\",1,IF([DIV]=\"C\",2,3))","v":1},{"$f":"[LGS]+[DIVS]","v":11}]
[1997,"Roa, Joe","SFN","San Francisco Giants",150000,28,3,65.666666666666671,-52,5.21,1.6142131979695431,4.6598984771573608,11.786802030456853,90,72,4.41,4338,1044,1494,6.4979253112033195,9.2987551867219924,1.4329183955739973,"NL-W",{"$f":"LEFT([League-Division],1)","v":"N"},{"$f":"RIGHT([League-Division],1)","v":"W"},{"$f":"IF([LG]=\"N\",10,20)","v":10},{"$f":"IF([DIV]=\"E\",1,IF([DIV]=\"C\",2,3))","v":3},{"$f":"[LGS]+[DIVS]","v":13}]
[2003,"Robertson, Jeriome","HOU","Houston Astros",300000,32,31,160.66666666666666,-81,5.0999999999999996,1.5186721991701246,5.5456431535269708,10.08298755186722,87,75,3.86,4350,1139,1350,7.0696551724137926,8.3793103448275854,1.3206896551724139,"NL-C",{"$f":"LEFT([League-Division],1)","v":"N"},{"$f":"RIGHT([League-Division],1)","v":"C"},{"$f":"IF([LG]=\"N\",10,20)","v":10},{"$f":"IF([DIV]=\"E\",1,IF([DIV]=\"C\",2,3))","v":2},{"$f":"[LGS]+[DIVS]","v":12}]
[2010,"Robertson, Nate","PHI","Philadelphia Phillies",10000000,2,0,1,-3,54,7,18,45,97,65,3.68,4369,1183,1402,7.3108262760357059,8.6642252231631947,1.2483405813687343,"NL-E",{"$f":"LEFT([League-Division],1)","v":"N"},{"$f":"RIGHT([League-Division],1)","v":"E"},{"$f":"IF([LG]=\"N\",10,20)","v":10},{"$f":"IF([DIV]=\"E\",1,IF([DIV]=\"C\",2,3))","v":1},{"$f":"[LGS]+[DIVS]","v":11}]
[1996,"Robertson, Rich","MIN","Minnesota Twins",140000,36,31,186.33333333333334,-83,5.12,1.6797853309481217,5.5062611806797852,9.5152057245080499,78,84,5.3,4317,959,1561,5.9979152189020155,9.7630298818624048,1.488533703961084,"AL-C",{"$f":"LEFT([League-Division],1)","v":"A"},{"$f":"RIGHT([League-Division],1)","v":"C"},{"$f":"IF([LG]=\"N\",10,20)","v":20},{"$f":"IF([DIV]=\"E\",1,IF([DIV]=\"C\",2,3))","v":2},{"$f":"[LGS]+[DIVS]","v":22}]
[2001,"Rocker, John","ATL","Atlanta Braves",1900000,30,0,32,11,3.09,1.28125,10.125,7.03125,88,74,3.59,4342,1133,1363,7.045370796867803,8.475587286964533,1.2865039152464304,"NL-E",{"$f":"LEFT([League-Division],1)","v":"N"},{"$f":"RIGHT([League-Division],1)","v":"E"},{"$f":"IF([LG]=\"N\",10,20)","v":10},{"$f":"IF([DIV]=\"E\",1,IF([DIV]=\"C\",2,3))","v":1},{"$f":"[LGS]+[DIVS]","v":11}]
[2009,"Rodney, Fernando","DET","Detroit Tigers",2700000,73,0,75.666666666666671,-9,4.4000000000000004,1.4669603524229073,7.2555066079295152,8.3259911894273131,86,77,4.34,4341,1102,1449,6.8541810642709056,9.0124395300621973,1.4118866620594333,"AL-C",{"$f":"LEFT([League-Division],1)","v":"A"},{"$f":"RIGHT([League-Division],1)","v":"C"},{"$f":"IF([LG]=\"N\",10,20)","v":20},{"$f":"IF([DIV]=\"E\",1,IF([DIV]=\"C\",2,3))","v":2},{"$f":"[LGS]+[DIVS]","v":22}]
[1998,"Rodriguez, Felix","ARI","Arizona Diamondbacks",210000,43,0,44,-8,6.14,1.6590909090909092,7.3636363636363642,9,65,97,4.6399999999999997,4296,908,1463,5.7067039106145252,9.1948324022346366,1.3631284916201116,"NL-W",{"$f":"LEFT([League-Division],1)","v":"N"},{"$f":"RIGHT([League-Division],1)","v":"W"},{"$f":"IF([LG]=\"N\",10,20)","v":10},{"$f":"IF([DIV]=\"E\",1,IF([DIV]=\"C\",2,3))","v":3},{"$f":"[LGS]+[DIVS]","v":13}]
[2004,"Rodriguez, Felix","SFN","San Francisco Giants",3050000,53,0,44.666666666666664,-12,3.43,1.3880597014925373,6.2462686567164178,8.6641791044776113,91,71,4.29,4371,1020,1481,6.300617707618394,9.1482498284145493,1.3925875085792725,"NL-W",{"$f":"LEFT([League-Division],1)","v":"N"},{"$f":"RIGHT([League-Division],1)","v":"W"},{"$f":"IF([LG]=\"N\",10,20)","v":10},{"$f":"IF([DIV]=\"E\",1,IF([DIV]=\"C\",2,3))","v":3},{"$f":"[LGS]+[DIVS]","v":13}]
[1995,"Rodriguez, Frank","BOS","Boston Red Sox",109000,9,2,15.333333333333334,-7,10.57,2.0217391304347827,8.2173913043478262,12.326086956521738,86,58,4.3899999999999997,3876,888,1338,6.1857585139318889,9.3204334365325074,1.4040247678018576,"AL-E",{"$f":"LEFT([League-Division],1)","v":"A"},{"$f":"RIGHT([League-Division],1)","v":"E"},{"$f":"IF([LG]=\"N\",10,20)","v":20},{"$f":"IF([DIV]=\"E\",1,IF([DIV]=\"C\",2,3))","v":1},{"$f":"[LGS]+[DIVS]","v":21}]
[2005,"Rodriguez, Francisco","LAA","Los Angeles Angels of Anaheim",440000,66,0,67.333333333333329,46,2.67,1.1435643564356437,12.163366336633665,6.0148514851485153,95,67,3.68,4393,1126,1419,6.9205554290917375,8.7213749146369217,1.2715684042795357,"AL-W",{"$f":"LEFT([League-Division],1)","v":"A"},{"$f":"RIGHT([League-Division],1)","v":"W"},{"$f":"IF([LG]=\"N\",10,20)","v":20},{"$f":"IF([DIV]=\"E\",1,IF([DIV]=\"C\",2,3))","v":3},{"$f":"[LGS]+[DIVS]","v":23}]
[1998,"Rodriguez, Nerio","TOR","Toronto Blue Jays",172500,7,0,8.3333333333333339,-7,9.7200000000000006,2.1599999999999997,3.2399999999999998,10.799999999999999,88,74,4.29,4395,1154,1443,7.0894197952218434,8.8648464163822531,1.3856655290102389,"AL-E",{"$f":"LEFT([League-Division],1)","v":"A"},{"$f":"RIGHT([League-Division],1)","v":"E"},{"$f":"IF([LG]=\"N\",10,20)","v":20},{"$f":"IF([DIV]=\"E\",1,IF([DIV]=\"C\",2,3))","v":1},{"$f":"[LGS]+[DIVS]","v":21}]
[1998,"Rodriguez, Rich","SFN","San Francisco Giants",710000,68,0,65.666666666666671,-25,3.7,1.3553299492385786,6.0304568527918772,9.4568527918781715,89,74,4.1900000000000004,4431,1089,1457,6.6357481381178065,8.8781313473256596,1.3669600541638456,"NL-W",{"$f":"LEFT([League-Division],1)","v":"N"},{"$f":"RIGHT([League-Division],1)","v":"W"},{"$f":"IF([LG]=\"N\",10,20)","v":10},{"$f":"IF([DIV]=\"E\",1,IF([DIV]=\"C\",2,3))","v":3},{"$f":"[LGS]+[DIVS]","v":13}]
[2008,"Rodriguez, Wandy","HOU","Houston Astros",451000,25,25,137.33333333333334,-5,3.54,1.3106796116504853,8.5849514563106784,8.9126213592232997,86,75,4.3899999999999997,4276,1095,1453,6.9141721234798883,9.1746959775491117,1.3645930776426567,"NL-C",{"$f":"LEFT([League-Division],1)","v":"N"},{"$f":"RIGHT([League-Division],1)","v":"C"},{"$f":"IF([LG]=\"N\",10,20)","v":10},{"$f":"IF([DIV]=\"E\",1,IF([DIV]=\"C\",2,3))","v":2},{"$f":"[LGS]+[DIVS]","v":12}]
[1999,"Rogers, Kenny","OAK","Oakland Athletics",5000000,19,19,119.33333333333333,-67,4.3,1.4748603351955307,5.1284916201117321,10.181564245810057,87,75,4.6900000000000004,4314,967,1537,6.052155771905424,9.6196105702364392,1.4645340751043114,"AL-W",{"$f":"LEFT([League-Division],1)","v":"A"},{"$f":"RIGHT([League-Division],1)","v":"W"},{"$f":"IF([LG]=\"N\",10,20)","v":20},{"$f":"IF([DIV]=\"E\",1,IF([DIV]=\"C\",2,3))","v":3},{"$f":"[LGS]+[DIVS]","v":23}]
[2001,"Rogers, Kenny","TEX","Texas Rangers",7500000,20,20,120.66666666666667,-76,6.19,1.649171270718232,5.5193370165745854,11.187845303867404,73,89,5.71,4315,951,1670,5.9506373117033604,10.449594438006953,1.5754345307068367,"AL-W",{"$f":"LEFT([League-Division],1)","v":"A"},{"$f":"RIGHT([League-Division],1)","v":"W"},{"$f":"IF([LG]=\"N\",10,20)","v":20},{"$f":"IF([DIV]=\"E\",1,IF([DIV]=\"C\",2,3))","v":3},{"$f":"[LGS]+[DIVS]","v":23}]
[2008,"Rogers, Kenny","DET","Detroit Tigers",8000000,30,30,173.66666666666666,-130,5.7,1.6295585412667948,4.249520153550864,10.986564299424185,74,88,4.91,4335,991,1541,6.1723183391003458,9.5979238754325245,1.5121107266435987,"AL-C",{"$f":"LEFT([League-Division],1)","v":"A"},{"$f":"RIGHT([League-Division],1)","v":"C"},{"$f":"IF([LG]=\"N\",10,20)","v":20},{"$f":"IF([DIV]=\"E\",1,IF([DIV]=\"C\",2,3))","v":2},{"$f":"[LGS]+[DIVS]","v":22}]
[1997,"Rojas, Mel","CHN","Chicago Cubs",4583333,54,0,59,7,4.42,1.423728813559322,9.3050847457627111,8.2372881355932197,68,94,4.4400000000000004,4287,1072,1451,6.7515745276417078,9.1385584324702585,1.4282715185444366,"NL-C",{"$f":"LEFT([League-Division],1)","v":"N"},{"$f":"RIGHT([League-Division],1)","v":"C"},{"$f":"IF([LG]=\"N\",10,20)","v":10},{"$f":"IF([DIV]=\"E\",1,IF([DIV]=\"C\",2,3))","v":2},{"$f":"[LGS]+[DIVS]","v":12}]
[2003,"Romero, J.C.","MIN","Minnesota Twins",325000,73,0,63,-16,5,1.7142857142857142,7.1428571428571423,9.4285714285714288,90,72,4.41,4385,997,1526,6.1388825541619152,9.3961231470923607,1.319042189281642,"AL-C",{"$f":"LEFT([League-Division],1)","v":"A"},{"$f":"RIGHT([League-Division],1)","v":"C"},{"$f":"IF([LG]=\"N\",10,20)","v":20},{"$f":"IF([DIV]=\"E\",1,IF([DIV]=\"C\",2,3))","v":2},{"$f":"[LGS]+[DIVS]","v":22}]
[2009,"Romero, J.C.","PHI","Philadelphia Phillies",4250000,21,0,16.666666666666668,-1,2.7,1.5599999999999998,6.4799999999999995,7.02,93,69,4.16,4367,1153,1479,7.1286924662239519,9.1442637966567428,1.3519578658117701,"NL-E",{"$f":"LEFT([League-Division],1)","v":"N"},{"$f":"RIGHT([League-Division],1)","v":"E"},{"$f":"IF([LG]=\"N\",10,20)","v":10},{"$f":"IF([DIV]=\"E\",1,IF([DIV]=\"C\",2,3))","v":1},{"$f":"[LGS]+[DIVS]","v":11}]
[2010,"Romero, Ricky","TOR","Toronto Blue Jays",408300,32,32,210,-15,3.73,1.2904761904761906,7.4571428571428573,8.1,85,77,4.2300000000000004,4322,1184,1407,7.3965756594169365,8.789680703378064,1.3507635354002776,"AL-E",{"$f":"LEFT([League-Division],1)","v":"A"},{"$f":"RIGHT([League-Division],1)","v":"E"},{"$f":"IF([LG]=\"N\",10,20)","v":20},{"$f":"IF([DIV]=\"E\",1,IF([DIV]=\"C\",2,3))","v":1},{"$f":"[LGS]+[DIVS]","v":21}]
[1997,"Rosado, Jose","KCA","Kansas City Royals",200000,33,33,203.33333333333334,-79,4.6900000000000004,1.381967213114754,5.7098360655737705,9.2065573770491795,67,94,4.71,4329,961,1530,5.9937629937629939,9.5426195426195424,1.4282744282744282,"AL-C",{"$f":"LEFT([League-Division],1)","v":"A"},{"$f":"RIGHT([League-Division],1)","v":"C"},{"$f":"IF([LG]=\"N\",10,20)","v":20},{"$f":"IF([DIV]=\"E\",1,IF([DIV]=\"C\",2,3))","v":2},{"$f":"[LGS]+[DIVS]","v":22}]
[2001,"Rose, Brian","NYN","New York Mets",278000,3,0,8.6666666666666661,-6,4.1500000000000004,1.3846153846153848,4.1538461538461542,10.384615384615385,82,80,4.07,4337,1191,1418,7.4145722849896236,8.8277611252017518,1.2838367535162554,"NL-E",{"$f":"LEFT([League-Division],1)","v":"N"},{"$f":"RIGHT([League-Division],1)","v":"E"},{"$f":"IF([LG]=\"N\",10,20)","v":10},{"$f":"IF([DIV]=\"E\",1,IF([DIV]=\"C\",2,3))","v":1},{"$f":"[LGS]+[DIVS]","v":11}]
[2010,"Ross, Tyson","OAK","Oakland Athletics",400000,26,2,39.333333333333336,-7,5.49,1.5,7.3220338983050839,8.9237288135593218,81,81,3.58,4295,1070,1315,6.7264260768335271,8.2665890570430722,1.2761350407450522,"AL-W",{"$f":"LEFT([League-Division],1)","v":"A"},{"$f":"RIGHT([League-Division],1)","v":"W"},{"$f":"IF([LG]=\"N\",10,20)","v":20},{"$f":"IF([DIV]=\"E\",1,IF([DIV]=\"C\",2,3))","v":3},{"$f":"[LGS]+[DIVS]","v":23}]
[1996,"Rueter, Kirk","MON","Montreal Expos",160000,16,16,78.666666666666671,-61,4.58,1.4364406779661016,3.4322033898305082,10.411016949152543,88,74,3.78,4324,1206,1353,7.5305272895467166,8.4484273820536551,1.2731267345050878,"NL-E",{"$f":"LEFT([League-Division],1)","v":"N"},{"$f":"RIGHT([League-Division],1)","v":"E"},{"$f":"IF([LG]=\"N\",10,20)","v":10},{"$f":"IF([DIV]=\"E\",1,IF([DIV]=\"C\",2,3))","v":1},{"$f":"[LGS]+[DIVS]","v":11}]
[1998,"Rueter, Kirk","SFN","San Francisco Giants",1835000,33,33,187.66666666666666,-91,4.3600000000000003,1.3321492007104796,4.8916518650088809,9.2557726465364123,89,74,4.1900000000000004,4431,1089,1457,6.6357481381178065,8.8781313473256596,1.3669600541638456,"NL-W",{"$f":"LEFT([League-Division],1)","v":"N"},{"$f":"RIGHT([League-Division],1)","v":"W"},{"$f":"IF([LG]=\"N\",10,20)","v":10},{"$f":"IF([DIV]=\"E\",1,IF([DIV]=\"C\",2,3))","v":3},{"$f":"[LGS]+[DIVS]","v":13}]
[2005,"Rueter, Kirk","SFN","San Francisco Giants",7133333,20,18,107.33333333333333,-106,5.95,1.658385093167702,2.0962732919254661,10.98447204968944,75,87,4.33,4333,972,1456,6.0567735979690749,9.0726978998384507,1.417955227325179,"NL-W",{"$f":"LEFT([League-Division],1)","v":"N"},{"$f":"RIGHT([League-Division],1)","v":"W"},{"$f":"IF([LG]=\"N\",10,20)","v":10},{"$f":"IF([DIV]=\"E\",1,IF([DIV]=\"C\",2,3))","v":3},{"$f":"[LGS]+[DIVS]","v":13}]
[2010,"Runzler, Dan","SFN","San Francisco Giants",400500,41,0,32.666666666666664,8,3.03,1.5,10.193877551020408,7.9897959183673475,92,70,3.36,4383,1331,1279,8.1991786447638599,7.8788501026694044,1.271047227926078,"NL-W",{"$f":"LEFT([League-Division],1)","v":"N"},{"$f":"RIGHT([League-Division],1)","v":"W"},{"$f":"IF([LG]=\"N\",10,20)","v":10},{"$f":"IF([DIV]=\"E\",1,IF([DIV]=\"C\",2,3))","v":3},{"$f":"[LGS]+[DIVS]","v":13}]
[2009,"Rupe, Josh","TEX","Texas Rangers",416310,4,0,4.666666666666667,-10,15.43,3.6428571428571428,3.8571428571428568,23.142857142857139,87,75,4.38,4304,1016,1432,6.3736059479553901,8.9832713754646836,1.3682620817843865,"AL-W",{"$f":"LEFT([League-Division],1)","v":"A"},{"$f":"RIGHT([League-Division],1)","v":"W"},{"$f":"IF([LG]=\"N\",10,20)","v":20},{"$f":"IF([DIV]=\"E\",1,IF([DIV]=\"C\",2,3))","v":3},{"$f":"[LGS]+[DIVS]","v":23}]
[2001,"Rusch, Glendon","NYN","New York Mets",1800000,33,33,179,-60,4.63,1.446927374301676,7.8435754189944129,10.860335195530727,82,80,4.07,4337,1191,1418,7.4145722849896236,8.8277611252017518,1.2838367535162554,"NL-E",{"$f":"LEFT([League-Division],1)","v":"N"},{"$f":"RIGHT([League-Division],1)","v":"E"},{"$f":"IF([LG]=\"N\",10,20)","v":10},{"$f":"IF([DIV]=\"E\",1,IF([DIV]=\"C\",2,3))","v":1},{"$f":"[LGS]+[DIVS]","v":11}]
[1995,"Russell, Jeff","TEX","Texas Rangers",615000,37,0,32.666666666666664,-15,3.03,1.3775510204081634,5.7857142857142865,9.9183673469387763,74,70,4.66,3855,838,1385,5.8692607003891055,9.700389105058365,1.4778210116731518,"AL-W",{"$f":"LEFT([League-Division],1)","v":"A"},{"$f":"RIGHT([League-Division],1)","v":"W"},{"$f":"IF([LG]=\"N\",10,20)","v":20},{"$f":"IF([DIV]=\"E\",1,IF([DIV]=\"C\",2,3))","v":3},{"$f":"[LGS]+[DIVS]","v":23}]
[1999,"Ryan, B.J.","CIN","Cincinnati Reds",200000,1,0,2,-3,4.5,2.5,4.5,18,96,67,3.99,4384,1081,1309,6.6576186131386867,8.061815693430658,1.3309762773722629,"NL-C",{"$f":"LEFT([League-Division],1)","v":"N"},{"$f":"RIGHT([League-Division],1)","v":"C"},{"$f":"IF([LG]=\"N\",10,20)","v":10},{"$f":"IF([DIV]=\"E\",1,IF([DIV]=\"C\",2,3))","v":2},{"$f":"[LGS]+[DIVS]","v":12}]
[2006,"Ryan, B.J.","TOR","Toronto Blue Jays",4000000,65,0,72.333333333333329,44,1.37,0.85714285714285721,10.700460829493089,5.2258064516129039,87,75,4.37,4285,1076,1447,6.7799299883313893,9.1176196032672117,1.3659276546091015,"AL-E",{"$f":"LEFT([League-Division],1)","v":"A"},{"$f":"RIGHT([League-Division],1)","v":"E"},{"$f":"IF([LG]=\"N\",10,20)","v":20},{"$f":"IF([DIV]=\"E\",1,IF([DIV]=\"C\",2,3))","v":1},{"$f":"[LGS]+[DIVS]","v":21}]
[2009,"Ryan, B.J.","TOR","Toronto Blue Jays",12000000,25,0,20.666666666666668,-9,6.53,1.8870967741935483,5.661290322580645,9.5806451612903221,75,87,4.47,4353,1181,1509,7.325292901447277,9.3597518952446581,1.4197105444521021,"AL-E",{"$f":"LEFT([League-Division],1)","v":"A"},{"$f":"RIGHT([League-Division],1)","v":"E"},{"$f":"IF([LG]=\"N\",10,20)","v":20},{"$f":"IF([DIV]=\"E\",1,IF([DIV]=\"C\",2,3))","v":1},{"$f":"[LGS]+[DIVS]","v":21}]
[2007,"Ryu, Jae Kuk","TBA","Tampa Bay Devil Rays",382200,17,0,23.333333333333332,-17,7.33,1.8,5.3999999999999995,11.957142857142859,66,96,5.53,4289,1194,1649,7.5164373979948698,10.380741431569129,1.550711121473537,"AL-E",{"$f":"LEFT([League-Division],1)","v":"A"},{"$f":"RIGHT([League-Division],1)","v":"E"},{"$f":"IF([LG]=\"N\",10,20)","v":20},{"$f":"IF([DIV]=\"E\",1,IF([DIV]=\"C\",2,3))","v":1},{"$f":"[LGS]+[DIVS]","v":21}]
[2007,"Sabathia, C.C.","CLE","Cleveland Indians",8750000,34,34,241,-29,3.21,1.1410788381742738,7.8049792531120339,8.8879668049792535,96,66,4.05,4388,1047,1519,6.4423427529626247,9.3466271649954411,1.3188240656335459,"AL-C",{"$f":"LEFT([League-Division],1)","v":"A"},{"$f":"RIGHT([League-Division],1)","v":"C"},{"$f":"IF([LG]=\"N\",10,20)","v":20},{"$f":"IF([DIV]=\"E\",1,IF([DIV]=\"C\",2,3))","v":2},{"$f":"[LGS]+[DIVS]","v":22}]
[2009,"Sabathia, C.C.","NYA","New York Yankees",15285714,34,34,230,0,3.37,1.1478260869565218,7.7086956521739136,7.7086956521739136,103,59,4.28,4350,1260,1386,7.8206896551724139,8.6027586206896558,1.3517241379310345,"AL-E",{"$f":"LEFT([League-Division],1)","v":"A"},{"$f":"RIGHT([League-Division],1)","v":"E"},{"$f":"IF([LG]=\"N\",10,20)","v":20},{"$f":"IF([DIV]=\"E\",1,IF([DIV]=\"C\",2,3))","v":1},{"$f":"[LGS]+[DIVS]","v":21}]
[2001,"Saberhagen, Bret","BOS","Boston Red Sox",5000000,3,3,15,-9,6,1.2666666666666666,6,11.399999999999999,82,79,4.1500000000000004,4344,1259,1412,7.8252762430939224,8.7762430939226519,1.350828729281768,"AL-E",{"$f":"LEFT([League-Division],1)","v":"A"},{"$f":"RIGHT([League-Division],1)","v":"E"},{"$f":"IF([LG]=\"N\",10,20)","v":20},{"$f":"IF([DIV]=\"E\",1,IF([DIV]=\"C\",2,3))","v":1},{"$f":"[LGS]+[DIVS]","v":21}]
[2010,"Saito, Takashi","ATL","Atlanta Braves",3200000,56,0,54,28,2.83,1.0740740740740742,11.5,6.8333333333333339,91,71,3.57,4318,1241,1326,7.7598425196850398,8.2913385826771648,1.2721167207040298,"NL-E",{"$f":"LEFT([League-Division],1)","v":"N"},{"$f":"RIGHT([League-Division],1)","v":"E"},{"$f":"IF([LG]=\"N\",10,20)","v":10},{"$f":"IF([DIV]=\"E\",1,IF([DIV]=\"C\",2,3))","v":1},{"$f":"[LGS]+[DIVS]","v":11}]
[2010,"Samardzija, Jeff","CHN","Chicago Cubs",3000000,7,3,19.333333333333332,-12,8.3800000000000008,2.1206896551724137,4.1896551724137936,9.7758620689655178,75,87,4.24,4310,1268,1409,7.9433874709976795,8.8266821345707651,1.4018561484918792,"NL-C",{"$f":"LEFT([League-Division],1)","v":"N"},{"$f":"RIGHT([League-Division],1)","v":"C"},{"$f":"IF([LG]=\"N\",10,20)","v":10},{"$f":"IF([DIV]=\"E\",1,IF([DIV]=\"C\",2,3))","v":2},{"$f":"[LGS]+[DIVS]","v":12}]
[2008,"Sanchez, Anibal","FLO","Florida Marlins",390000,10,10,51.666666666666664,-4,5.57,1.5677419354838711,8.7096774193548399,9.4064516129032256,84,77,4.4400000000000004,4306,1127,1421,7.0666511843938693,8.9101254064096622,1.3982814677194613,"NL-E",{"$f":"LEFT([League-Division],1)","v":"N"},{"$f":"RIGHT([League-Division],1)","v":"E"},{"$f":"IF([LG]=\"N\",10,20)","v":10},{"$f":"IF([DIV]=\"E\",1,IF([DIV]=\"C\",2,3))","v":1},{"$f":"[LGS]+[DIVS]","v":11}]
[2010,"Sanches, Brian","FLO","Florida Marlins",412500,61,0,63.666666666666664,11,2.2599999999999998,1.0994764397905759,7.6335078534031418,6.0785340314136125,80,82,4.09,4315,1168,1433,7.3084588644264201,8.966628041714948,1.3779837775202781,"NL-E",{"$f":"LEFT([League-Division],1)","v":"N"},{"$f":"RIGHT([League-Division],1)","v":"E"},{"$f":"IF([LG]=\"N\",10,20)","v":10},{"$f":"IF([DIV]=\"E\",1,IF([DIV]=\"C\",2,3))","v":1},{"$f":"[LGS]+[DIVS]","v":11}]
[1998,"Sanchez, Jesus","FLO","Florida Marlins",170000,35,29,173,-41,4.47,1.5549132947976878,7.1271676300578033,9.2601156069364166,54,108,5.2,4348,1016,1617,6.3091076356945726,10.041168353265869,1.609015639374425,"NL-E",{"$f":"LEFT([League-Division],1)","v":"N"},{"$f":"RIGHT([League-Division],1)","v":"E"},{"$f":"IF([LG]=\"N\",10,20)","v":10},{"$f":"IF([DIV]=\"E\",1,IF([DIV]=\"C\",2,3))","v":1},{"$f":"[LGS]+[DIVS]","v":11}]
[1996,"Sanderson, Scott","CAL","California Angels",200000,5,4,18,-32,7.5,2.3888888888888888,3.5,19.5,70,91,5.31,4317,1052,1546,6.5795691452397502,9.6692147324530922,1.5343988881167478,"AL-W",{"$f":"LEFT([League-Division],1)","v":"A"},{"$f":"RIGHT([League-Division],1)","v":"W"},{"$f":"IF([LG]=\"N\",10,20)","v":20},{"$f":"IF([DIV]=\"E\",1,IF([DIV]=\"C\",2,3))","v":3},{"$f":"[LGS]+[DIVS]","v":23}]
[1997,"Sanders, Scott","SEA","Seattle Mariners",1300000,33,6,65.333333333333329,-11,6.47,1.6989795918367347,8.5408163265306136,10.056122448979593,90,72,4.79,4341,1207,1500,7.5072563925362825,9.3296475466482374,1.4498963372494817,"AL-W",{"$f":"LEFT([League-Division],1)","v":"A"},{"$f":"RIGHT([League-Division],1)","v":"W"},{"$f":"IF([LG]=\"N\",10,20)","v":20},{"$f":"IF([DIV]=\"E\",1,IF([DIV]=\"C\",2,3))","v":3},{"$f":"[LGS]+[DIVS]","v":23}]
[2008,"Santana, Ervin","LAA","Los Angeles Angels of Anaheim",420000,32,32,219,16,3.49,1.1187214611872147,8.7945205479452042,8.1369863013698627,100,62,4,4354,1106,1455,6.8585209003215439,9.0227377124483237,1.3174092788240699,"AL-W",{"$f":"LEFT([League-Division],1)","v":"A"},{"$f":"RIGHT([League-Division],1)","v":"W"},{"$f":"IF([LG]=\"N\",10,20)","v":20},{"$f":"IF([DIV]=\"E\",1,IF([DIV]=\"C\",2,3))","v":3},{"$f":"[LGS]+[DIVS]","v":23}]
[2007,"Santana, Johan","MIN","Minnesota Twins",13000000,33,33,219,52,3.33,1.0730593607305936,9.6575342465753415,7.5205479452054798,79,83,4.1500000000000004,4310,1094,1505,6.8533642691415313,9.4280742459396745,1.339907192575406,"AL-C",{"$f":"LEFT([League-Division],1)","v":"A"},{"$f":"RIGHT([League-Division],1)","v":"C"},{"$f":"IF([LG]=\"N\",10,20)","v":20},{"$f":"IF([DIV]=\"E\",1,IF([DIV]=\"C\",2,3))","v":2},{"$f":"[LGS]+[DIVS]","v":22}]
[2008,"Santana, Johan","NYN","New York Mets",16984216,34,34,234.33333333333334,0,2.5299999999999998,1.1479374110953058,7.9118065433854907,7.9118065433854907,89,73,4.07,4393,1181,1415,7.2585932164807652,8.6967903482813576,1.3692237650808106,"NL-E",{"$f":"LEFT([League-Division],1)","v":"N"},{"$f":"RIGHT([League-Division],1)","v":"E"},{"$f":"IF([LG]=\"N\",10,20)","v":10},{"$f":"IF([DIV]=\"E\",1,IF([DIV]=\"C\",2,3))","v":1},{"$f":"[LGS]+[DIVS]","v":11}]
[2006,"Santana, Julio","PHI","Philadelphia Phillies",800000,7,0,8.3333333333333339,-4,7.56,2.04,4.32,8.64,85,77,4.5999999999999996,4381,1138,1561,7.0134672449212516,9.6204062999315223,1.4195389180552387,"NL-E",{"$f":"LEFT([League-Division],1)","v":"N"},{"$f":"RIGHT([League-Division],1)","v":"E"},{"$f":"IF([LG]=\"N\",10,20)","v":10},{"$f":"IF([DIV]=\"E\",1,IF([DIV]=\"C\",2,3))","v":1},{"$f":"[LGS]+[DIVS]","v":11}]
[2001,"Santiago, Jose","KCA","Kansas City Royals",260000,20,0,29.333333333333332,-25,6.75,1.6704545454545454,4.6022727272727275,12.272727272727273,65,97,4.87,4320,911,1537,5.6937499999999996,9.6062500000000011,1.4673611111111111,"AL-C",{"$f":"LEFT([League-Division],1)","v":"A"},{"$f":"RIGHT([League-Division],1)","v":"C"},{"$f":"IF([LG]=\"N\",10,20)","v":20},{"$f":"IF([DIV]=\"E\",1,IF([DIV]=\"C\",2,3))","v":2},{"$f":"[LGS]+[DIVS]","v":22}]
[2008,"Sarfate, Dennis","BAL","Baltimore Orioles",390000,57,4,79.666666666666671,24,4.74,1.5564853556485354,9.7154811715481166,7.0041841004184091,68,93,5.15,4266,922,1538,5.8354430379746836,9.7341772151898738,1.5646976090014064,"AL-E",{"$f":"LEFT([League-Division],1)","v":"A"},{"$f":"RIGHT([League-Division],1)","v":"E"},{"$f":"IF([LG]=\"N\",10,20)","v":20},{"$f":"IF([DIV]=\"E\",1,IF([DIV]=\"C\",2,3))","v":1},{"$f":"[LGS]+[DIVS]","v":21}]
[2002,"Sauerbeck, Scott","PIT","Pittsburgh Pirates",766667,78,0,62.666666666666664,20,2.2999999999999998,1.2287234042553192,10.053191489361703,7.1808510638297873,72,89,4.2300000000000004,4238,920,1447,5.8612553091080688,9.2187352524775825,1.4292118924020765,"NL-C",{"$f":"LEFT([League-Division],1)","v":"N"},{"$f":"RIGHT([League-Division],1)","v":"C"},{"$f":"IF([LG]=\"N\",10,20)","v":10},{"$f":"IF([DIV]=\"E\",1,IF([DIV]=\"C\",2,3))","v":2},{"$f":"[LGS]+[DIVS]","v":12}]
[2005,"Sauerbeck, Scott","CLE","Cleveland Indians",500000,58,0,35.666666666666664,0,4.04,1.4299065420560748,8.8317757009345801,8.8317757009345801,93,69,3.61,4358,1050,1363,6.505277650298301,8.4444699403396051,1.2225791647544744,"AL-C",{"$f":"LEFT([League-Division],1)","v":"A"},{"$f":"RIGHT([League-Division],1)","v":"C"},{"$f":"IF([LG]=\"N\",10,20)","v":20},{"$f":"IF([DIV]=\"E\",1,IF([DIV]=\"C\",2,3))","v":2},{"$f":"[LGS]+[DIVS]","v":22}]
[2010,"Saunders, Joe","ARI","Arizona Diamondbacks",3700000,13,13,82.666666666666671,-47,4.25,1.4032258064516128,5.443548387096774,10.560483870967742,65,97,4.8099999999999996,4296,1070,1503,6.7248603351955305,9.4462290502793298,1.4322625698324023,"NL-W",{"$f":"LEFT([League-Division],1)","v":"N"},{"$f":"RIGHT([League-Division],1)","v":"W"},{"$f":"IF([LG]=\"N\",10,20)","v":10},{"$f":"IF([DIV]=\"E\",1,IF([DIV]=\"C\",2,3))","v":3},{"$f":"[LGS]+[DIVS]","v":13}]
[1997,"Schilling, Curt","PHI","Philadelphia Phillies",3500000,35,35,254.33333333333334,111,2.97,1.0458715596330275,11.288335517693316,7.3604193971166447,68,94,4.87,4260,1209,1441,7.6626760563380278,9.133098591549297,1.4485915492957746,"NL-E",{"$f":"LEFT([League-Division],1)","v":"N"},{"$f":"RIGHT([League-Division],1)","v":"E"},{"$f":"IF([LG]=\"N\",10,20)","v":10},{"$f":"IF([DIV]=\"E\",1,IF([DIV]=\"C\",2,3))","v":1},{"$f":"[LGS]+[DIVS]","v":11}]
[1998,"Schilling, Curt","PHI","Philadelphia Phillies",4700000,35,35,268.66666666666669,64,3.25,1.1054590570719602,10.049627791563275,7.905707196029776,75,87,4.6399999999999997,4389,1176,1476,7.2344497607655498,9.0799726589200258,1.3807245386192755,"NL-E",{"$f":"LEFT([League-Division],1)","v":"N"},{"$f":"RIGHT([League-Division],1)","v":"E"},{"$f":"IF([LG]=\"N\",10,20)","v":10},{"$f":"IF([DIV]=\"E\",1,IF([DIV]=\"C\",2,3))","v":1},{"$f":"[LGS]+[DIVS]","v":11}]
[2006,"Schilling, Curt","BOS","Boston Red Sox",13000000,31,31,204,-37,3.97,1.2156862745098038,8.0735294117647065,9.7058823529411757,86,76,4.83,4324,1070,1570,6.6813135985198899,9.8034227567067553,1.4424144310823312,"AL-E",{"$f":"LEFT([League-Division],1)","v":"A"},{"$f":"RIGHT([League-Division],1)","v":"E"},{"$f":"IF([LG]=\"N\",10,20)","v":20},{"$f":"IF([DIV]=\"E\",1,IF([DIV]=\"C\",2,3))","v":1},{"$f":"[LGS]+[DIVS]","v":21}]
[1996,"Schmidt, Jason","ATL","Atlanta Braves",111500,13,11,58.666666666666664,-21,6.75,1.7215909090909092,7.3636363636363642,10.585227272727273,96,66,3.54,4407,1245,1372,7.6276378488767866,8.4057181756296799,1.2409802586793737,"NL-E",{"$f":"LEFT([League-Division],1)","v":"N"},{"$f":"RIGHT([League-Division],1)","v":"E"},{"$f":"IF([LG]=\"N\",10,20)","v":10},{"$f":"IF([DIV]=\"E\",1,IF([DIV]=\"C\",2,3))","v":1},{"$f":"[LGS]+[DIVS]","v":11}]
[2001,"Schmidt, Jason","SFN","San Francisco Giants",3200000,11,11,66.333333333333329,8,3.39,1.3567839195979901,8.8190954773869343,7.733668341708543,90,72,4.18,4390,1080,1437,6.642369020501139,8.8380410022779046,1.3776765375854214,"NL-W",{"$f":"LEFT([League-Division],1)","v":"N"},{"$f":"RIGHT([League-Division],1)","v":"W"},{"$f":"IF([LG]=\"N\",10,20)","v":10},{"$f":"IF([DIV]=\"E\",1,IF([DIV]=\"C\",2,3))","v":3},{"$f":"[LGS]+[DIVS]","v":13}]
[1999,"Schoeneweis, Scott","ANA","Anaheim Angels",200000,31,0,39.333333333333336,-25,5.49,1.5508474576271185,5.0338983050847457,10.754237288135592,70,92,4.79,4293,877,1472,5.515723270440251,9.2578616352201255,1.4647099930118799,"AL-W",{"$f":"LEFT([League-Division],1)","v":"A"},{"$f":"RIGHT([League-Division],1)","v":"W"},{"$f":"IF([LG]=\"N\",10,20)","v":20},{"$f":"IF([DIV]=\"E\",1,IF([DIV]=\"C\",2,3))","v":3},{"$f":"[LGS]+[DIVS]","v":23}]
[2002,"Schoeneweis, Scott","ANA","Anaheim Angels",325000,54,15,118,-54,4.88,1.423728813559322,4.9576271186440675,9.0762711864406782,99,63,3.69,4357,999,1345,6.1907275648381921,8.3348634381455131,1.2765664448014689,"AL-W",{"$f":"LEFT([League-Division],1)","v":"A"},{"$f":"RIGHT([League-Division],1)","v":"W"},{"$f":"IF([LG]=\"N\",10,20)","v":20},{"$f":"IF([DIV]=\"E\",1,IF([DIV]=\"C\",2,3))","v":3},{"$f":"[LGS]+[DIVS]","v":23}]
[2007,"Schoeneweis, Scott","NYN","New York Mets",3600000,70,0,59,-21,5.03,1.5254237288135593,6.2542372881355934,9.4576271186440692,88,74,4.26,4357,1134,1415,7.0273123708974063,8.7686481523984394,1.3667661234794584,"NL-E",{"$f":"LEFT([League-Division],1)","v":"N"},{"$f":"RIGHT([League-Division],1)","v":"E"},{"$f":"IF([LG]=\"N\",10,20)","v":10},{"$f":"IF([DIV]=\"E\",1,IF([DIV]=\"C\",2,3))","v":1},{"$f":"[LGS]+[DIVS]","v":11}]
[1999,"Schourek, Pete","PIT","Pittsburgh Pirates",2000000,30,17,113,-34,5.34,1.5663716814159292,7.4867256637168138,10.194690265486726,78,83,4.33,4297,1083,1444,6.8049802187572723,9.0733069583430304,1.4500814521759369,"NL-C",{"$f":"LEFT([League-Division],1)","v":"N"},{"$f":"RIGHT([League-Division],1)","v":"C"},{"$f":"IF([LG]=\"N\",10,20)","v":10},{"$f":"IF([DIV]=\"E\",1,IF([DIV]=\"C\",2,3))","v":2},{"$f":"[LGS]+[DIVS]","v":12}]
[2000,"Schourek, Pete","BOS","Boston Red Sox",200000,21,21,107.33333333333333,-53,5.1100000000000003,1.4347826086956523,5.2826086956521747,9.7267080745341623,85,77,4.2300000000000004,4357,1121,1433,6.9467523525361488,8.8801927932063354,1.3302731237089742,"AL-E",{"$f":"LEFT([League-Division],1)","v":"A"},{"$f":"RIGHT([League-Division],1)","v":"E"},{"$f":"IF([LG]=\"N\",10,20)","v":20},{"$f":"IF([DIV]=\"E\",1,IF([DIV]=\"C\",2,3))","v":1},{"$f":"[LGS]+[DIVS]","v":21}]
[1997,"Scott, Tim","COL","Colorado Rockies",415000,3,0,2.6666666666666665,-3,10.130000000000001,2.625,6.75,16.875,83,79,5.25,4296,870,1697,5.4678770949720663,10.66550279329609,1.5803072625698324,"NL-W",{"$f":"LEFT([League-Division],1)","v":"N"},{"$f":"RIGHT([League-Division],1)","v":"W"},{"$f":"IF([LG]=\"N\",10,20)","v":10},{"$f":"IF([DIV]=\"E\",1,IF([DIV]=\"C\",2,3))","v":3},{"$f":"[LGS]+[DIVS]","v":13}]
[1999,"Seanez, Rudy","ATL","Atlanta Braves",775000,56,0,53.666666666666664,-6,3.35,1.2670807453416149,6.8757763975155282,7.8819875776397517,103,59,3.63,4413,1197,1398,7.3235893949694084,8.5533650577838198,1.2950373895309313,"NL-E",{"$f":"LEFT([League-Division],1)","v":"N"},{"$f":"RIGHT([League-Division],1)","v":"E"},{"$f":"IF([LG]=\"N\",10,20)","v":10},{"$f":"IF([DIV]=\"E\",1,IF([DIV]=\"C\",2,3))","v":1},{"$f":"[LGS]+[DIVS]","v":11}]
[2003,"Seay, Bobby","TBA","Tampa Bay Devil Rays",300000,12,0,9,-2,3,1.4444444444444444,5,7,63,99,4.93,4310,877,1454,5.4939675174013924,9.1085846867749414,1.456844547563805,"AL-E",{"$f":"LEFT([League-Division],1)","v":"A"},{"$f":"RIGHT([League-Division],1)","v":"E"},{"$f":"IF([LG]=\"N\",10,20)","v":20},{"$f":"IF([DIV]=\"E\",1,IF([DIV]=\"C\",2,3))","v":1},{"$f":"[LGS]+[DIVS]","v":21}]
[1996,"Sele, Aaron","BOS","Boston Red Sox",380000,29,29,157.33333333333334,-55,5.32,1.646186440677966,7.83686440677966,10.983050847457626,85,77,5,4374,1165,1606,7.1913580246913584,9.913580246913579,1.5967078189300412,"AL-E",{"$f":"LEFT([League-Division],1)","v":"A"},{"$f":"RIGHT([League-Division],1)","v":"E"},{"$f":"IF([LG]=\"N\",10,20)","v":20},{"$f":"IF([DIV]=\"E\",1,IF([DIV]=\"C\",2,3))","v":1},{"$f":"[LGS]+[DIVS]","v":21}]
[2003,"Sele, Aaron","ANA","Anaheim Angels",8166667,25,25,121.66666666666667,-82,5.77,1.5863013698630137,3.9205479452054792,9.9863013698630141,77,85,4.28,4294,980,1444,6.1620866325104799,9.0796460176991154,1.3483931066604564,"AL-W",{"$f":"LEFT([League-Division],1)","v":"A"},{"$f":"RIGHT([League-Division],1)","v":"W"},{"$f":"IF([LG]=\"N\",10,20)","v":20},{"$f":"IF([DIV]=\"E\",1,IF([DIV]=\"C\",2,3))","v":3},{"$f":"[LGS]+[DIVS]","v":23}]
[2007,"Sele, Aaron","NYN","New York Mets",1000000,34,0,53.666666666666664,-49,5.37,1.84472049689441,4.8633540372670812,13.080745341614907,88,74,4.26,4357,1134,1415,7.0273123708974063,8.7686481523984394,1.3667661234794584,"NL-E",{"$f":"LEFT([League-Division],1)","v":"N"},{"$f":"RIGHT([League-Division],1)","v":"E"},{"$f":"IF([LG]=\"N\",10,20)","v":10},{"$f":"IF([DIV]=\"E\",1,IF([DIV]=\"C\",2,3))","v":1},{"$f":"[LGS]+[DIVS]","v":11}]
[1995,"Service, Scott","SFN","San Francisco Giants",140000,28,0,31,12,3.19,1.2258064516129032,8.7096774193548399,5.2258064516129039,67,77,4.8600000000000003,3879,801,1368,5.575406032482598,9.5220417633410683,1.448569218870843,"NL-W",{"$f":"LEFT([League-Division],1)","v":"N"},{"$f":"RIGHT([League-Division],1)","v":"W"},{"$f":"IF([LG]=\"N\",10,20)","v":10},{"$f":"IF([DIV]=\"E\",1,IF([DIV]=\"C\",2,3))","v":3},{"$f":"[LGS]+[DIVS]","v":13}]
[1996,"Service, Scott","CIN","Cincinnati Reds",140000,34,1,48,-5,3.94,1.4375,8.625,9.5625,81,81,4.33,4329,1089,1447,6.7920997920997923,9.0249480249480261,1.4123354123354124,"NL-C",{"$f":"LEFT([League-Division],1)","v":"N"},{"$f":"RIGHT([League-Division],1)","v":"C"},{"$f":"IF([LG]=\"N\",10,20)","v":10},{"$f":"IF([DIV]=\"E\",1,IF([DIV]=\"C\",2,3))","v":2},{"$f":"[LGS]+[DIVS]","v":12}]
[1997,"Shaw, Jeff","CIN","Cincinnati Reds",650000,78,0,94.666666666666671,-5,2.38,0.96126760563380276,7.0352112676056331,7.51056338028169,76,86,4.42,4347,1159,1408,7.1987577639751548,8.7453416149068328,1.3567977915804004,"NL-C",{"$f":"LEFT([League-Division],1)","v":"N"},{"$f":"RIGHT([League-Division],1)","v":"C"},{"$f":"IF([LG]=\"N\",10,20)","v":10},{"$f":"IF([DIV]=\"E\",1,IF([DIV]=\"C\",2,3))","v":2},{"$f":"[LGS]+[DIVS]","v":12}]
[1999,"Shaw, Jeff","LAN","Los Angeles Dodgers",3408333,64,0,68,-21,2.78,1.161764705882353,5.6911764705882355,8.4705882352941178,77,85,4.45,4357,1077,1438,6.6740876750057385,8.9111774156529719,1.3991278402570577,"NL-W",{"$f":"LEFT([League-Division],1)","v":"N"},{"$f":"RIGHT([League-Division],1)","v":"W"},{"$f":"IF([LG]=\"N\",10,20)","v":10},{"$f":"IF([DIV]=\"E\",1,IF([DIV]=\"C\",2,3))","v":3},{"$f":"[LGS]+[DIVS]","v":13}]
[2005,"Sheets, Ben","MIL","Milwaukee Brewers",6000000,22,22,156.66666666666666,-1,3.33,1.0659574468085107,8.1,8.1574468085106382,81,81,3.97,4314,1173,1382,7.3414464534075101,8.649513212795549,1.3567454798331016,"NL-C",{"$f":"LEFT([League-Division],1)","v":"N"},{"$f":"RIGHT([League-Division],1)","v":"C"},{"$f":"IF([LG]=\"N\",10,20)","v":10},{"$f":"IF([DIV]=\"E\",1,IF([DIV]=\"C\",2,3))","v":2},{"$f":"[LGS]+[DIVS]","v":12}]
[2008,"Sherrill, George","BAL","Baltimore Orioles",980000,57,0,53.333333333333336,11,4.7300000000000004,1.5,9.7874999999999996,7.9312499999999995,68,93,5.15,4266,922,1538,5.8354430379746836,9.7341772151898738,1.5646976090014064,"AL-E",{"$f":"LEFT([League-Division],1)","v":"A"},{"$f":"RIGHT([League-Division],1)","v":"E"},{"$f":"IF([LG]=\"N\",10,20)","v":20},{"$f":"IF([DIV]=\"E\",1,IF([DIV]=\"C\",2,3))","v":1},{"$f":"[LGS]+[DIVS]","v":21}]
[2010,"Shields, James","TBA","Tampa Bay Rays",2500000,34,33,203.33333333333334,-59,5.18,1.4606557377049179,8.2770491803278681,10.888524590163932,96,66,3.78,4361,1189,1347,7.3613850034395778,8.3396010089429016,1.2554459986241686,"AL-E",{"$f":"LEFT([League-Division],1)","v":"A"},{"$f":"RIGHT([League-Division],1)","v":"E"},{"$f":"IF([LG]=\"N\",10,20)","v":20},{"$f":"IF([DIV]=\"E\",1,IF([DIV]=\"C\",2,3))","v":1},{"$f":"[LGS]+[DIVS]","v":21}]
[2005,"Shields, Scot","LAA","Los Angeles Angels of Anaheim",925000,78,0,91.666666666666671,32,2.75,1.1236363636363635,9.6218181818181812,6.4799999999999995,95,67,3.68,4393,1126,1419,6.9205554290917375,8.7213749146369217,1.2715684042795357,"AL-W",{"$f":"LEFT([League-Division],1)","v":"A"},{"$f":"RIGHT([League-Division],1)","v":"W"},{"$f":"IF([LG]=\"N\",10,20)","v":20},{"$f":"IF([DIV]=\"E\",1,IF([DIV]=\"C\",2,3))","v":3},{"$f":"[LGS]+[DIVS]","v":23}]
[2006,"Shouse, Brian","MIL","Milwaukee Brewers",725000,59,0,34,-14,3.97,1.5,5.2941176470588234,9,75,87,4.82,4277,1145,1454,7.2281973345803134,9.1788636895019859,1.3804068272153378,"NL-C",{"$f":"LEFT([League-Division],1)","v":"N"},{"$f":"RIGHT([League-Division],1)","v":"C"},{"$f":"IF([LG]=\"N\",10,20)","v":10},{"$f":"IF([DIV]=\"E\",1,IF([DIV]=\"C\",2,3))","v":2},{"$f":"[LGS]+[DIVS]","v":12}]
[2006,"Shouse, Brian","TEX","Texas Rangers",725000,6,0,4.333333333333333,-3,4.1500000000000004,1.6153846153846154,6.2307692307692317,12.461538461538463,80,82,4.5999999999999996,4294,972,1558,6.1117838844899861,9.7964601769911521,1.4350256171401956,"AL-W",{"$f":"LEFT([League-Division],1)","v":"A"},{"$f":"RIGHT([League-Division],1)","v":"W"},{"$f":"IF([LG]=\"N\",10,20)","v":20},{"$f":"IF([DIV]=\"E\",1,IF([DIV]=\"C\",2,3))","v":3},{"$f":"[LGS]+[DIVS]","v":23}]
[2000,"Shuey, Paul","CLE","Cleveland Indians",1617667,57,0,63.666666666666664,18,3.39,1.2722513089005236,9.7539267015706805,7.2094240837696333,90,72,4.84,4326,1213,1511,7.5707350901525654,9.4306518723994444,1.5097087378640777,"AL-C",{"$f":"LEFT([League-Division],1)","v":"A"},{"$f":"RIGHT([League-Division],1)","v":"C"},{"$f":"IF([LG]=\"N\",10,20)","v":20},{"$f":"IF([DIV]=\"E\",1,IF([DIV]=\"C\",2,3))","v":2},{"$f":"[LGS]+[DIVS]","v":22}]
[2004,"Silva, Carlos","MIN","Minnesota Twins",340000,33,33,203,-179,4.21,1.4285714285714286,3.3694581280788176,11.305418719211822,92,70,4.03,4428,1123,1523,6.8475609756097553,9.286585365853659,1.3238482384823849,"AL-C",{"$f":"LEFT([League-Division],1)","v":"A"},{"$f":"RIGHT([League-Division],1)","v":"C"},{"$f":"IF([LG]=\"N\",10,20)","v":20},{"$f":"IF([DIV]=\"E\",1,IF([DIV]=\"C\",2,3))","v":2},{"$f":"[LGS]+[DIVS]","v":22}]
[2007,"Silva, Carlos","MIN","Minnesota Twins",4325000,33,33,202,-140,4.1900000000000004,1.3118811881188119,3.9653465346534653,10.202970297029703,79,83,4.1500000000000004,4310,1094,1505,6.8533642691415313,9.4280742459396745,1.339907192575406,"AL-C",{"$f":"LEFT([League-Division],1)","v":"A"},{"$f":"RIGHT([League-Division],1)","v":"C"},{"$f":"IF([LG]=\"N\",10,20)","v":20},{"$f":"IF([DIV]=\"E\",1,IF([DIV]=\"C\",2,3))","v":2},{"$f":"[LGS]+[DIVS]","v":22}]
[2009,"Silva, Walter","SDN","San Diego Padres",400000,6,6,24.666666666666668,-23,8.76,1.9864864864864864,4.0135135135135132,12.405405405405405,75,87,4.37,4352,1187,1422,7.3642003676470589,8.8221507352941178,1.3959099264705881,"NL-W",{"$f":"LEFT([League-Division],1)","v":"N"},{"$f":"RIGHT([League-Division],1)","v":"W"},{"$f":"IF([LG]=\"N\",10,20)","v":10},{"$f":"IF([DIV]=\"E\",1,IF([DIV]=\"C\",2,3))","v":3},{"$f":"[LGS]+[DIVS]","v":13}]
[2009,"Simon, Alfredo","BAL","Baltimore Orioles",400000,2,2,6.333333333333333,-5,9.9499999999999993,1.5789473684210527,4.2631578947368425,11.368421052631581,64,98,5.16,4287,933,1633,5.8761371588523446,10.284814555633311,1.5248425472358293,"AL-E",{"$f":"LEFT([League-Division],1)","v":"A"},{"$f":"RIGHT([League-Division],1)","v":"E"},{"$f":"IF([LG]=\"N\",10,20)","v":20},{"$f":"IF([DIV]=\"E\",1,IF([DIV]=\"C\",2,3))","v":1},{"$f":"[LGS]+[DIVS]","v":21}]
[2005,"Simpson, Allan","CIN","Cincinnati Reds",318000,9,0,6.666666666666667,3,6.75,1.2,8.1,4.05,73,89,5.15,4299,955,1657,5.9979064898813679,10.406838799720866,1.4996510816468946,"NL-C",{"$f":"LEFT([League-Division],1)","v":"N"},{"$f":"RIGHT([League-Division],1)","v":"C"},{"$f":"IF([LG]=\"N\",10,20)","v":10},{"$f":"IF([DIV]=\"E\",1,IF([DIV]=\"C\",2,3))","v":2},{"$f":"[LGS]+[DIVS]","v":12}]
[2006,"Sisco, Andrew","KCA","Kansas City Royals",346500,65,0,58.333333333333336,-14,7.1,1.8171428571428572,8.0228571428571414,10.182857142857143,62,100,5.65,4279,904,1648,5.7041364804860955,10.398691283010049,1.6020098153774247,"AL-C",{"$f":"LEFT([League-Division],1)","v":"A"},{"$f":"RIGHT([League-Division],1)","v":"C"},{"$f":"IF([LG]=\"N\",10,20)","v":20},{"$f":"IF([DIV]=\"E\",1,IF([DIV]=\"C\",2,3))","v":2},{"$f":"[LGS]+[DIVS]","v":22}]
[2007,"Sisco, Andrew","CHA","Chicago White Sox",405000,19,0,14,-6,8.36,2.1428571428571428,8.3571428571428577,12.214285714285715,72,90,4.7699999999999996,4322,1015,1556,6.3408144377602955,9.7204997686256362,1.426422952336881,"AL-C",{"$f":"LEFT([League-Division],1)","v":"A"},{"$f":"RIGHT([League-Division],1)","v":"C"},{"$f":"IF([LG]=\"N\",10,20)","v":20},{"$f":"IF([DIV]=\"E\",1,IF([DIV]=\"C\",2,3))","v":2},{"$f":"[LGS]+[DIVS]","v":22}]
[1999,"Slocumb, Heathcliff","BAL","Baltimore Orioles",200000,10,0,8.6666666666666661,-3,12.46,2.7692307692307696,12.461538461538463,15.576923076923077,78,84,4.7699999999999996,4305,982,1468,6.1588850174216025,9.2069686411149831,1.4738675958188154,"AL-E",{"$f":"LEFT([League-Division],1)","v":"A"},{"$f":"RIGHT([League-Division],1)","v":"E"},{"$f":"IF([LG]=\"N\",10,20)","v":20},{"$f":"IF([DIV]=\"E\",1,IF([DIV]=\"C\",2,3))","v":1},{"$f":"[LGS]+[DIVS]","v":21}]
[2009,"Slowey, Kevin","MIN","Minnesota Twins",440000,16,16,90.666666666666671,-38,4.8600000000000003,1.4117647058823528,7.4448529411764701,11.216911764705882,87,76,4.5,4359,1052,1542,6.5161734342739166,9.5512732278045416,1.381968341362698,"AL-C",{"$f":"LEFT([League-Division],1)","v":"A"},{"$f":"RIGHT([League-Division],1)","v":"C"},{"$f":"IF([LG]=\"N\",10,20)","v":20},{"$f":"IF([DIV]=\"E\",1,IF([DIV]=\"C\",2,3))","v":2},{"$f":"[LGS]+[DIVS]","v":22}]
[2001,"Slusarski, Joe","HOU","Houston Astros",360000,8,0,10,-10,9,1.9,5.3999999999999995,14.4,93,69,4.37,4364,1228,1453,7.5976168652612275,8.9896883593033916,1.3329514207149404,"NL-C",{"$f":"LEFT([League-Division],1)","v":"N"},{"$f":"RIGHT([League-Division],1)","v":"C"},{"$f":"IF([LG]=\"N\",10,20)","v":10},{"$f":"IF([DIV]=\"E\",1,IF([DIV]=\"C\",2,3))","v":2},{"$f":"[LGS]+[DIVS]","v":12}]
[1996,"Small, Mark","HOU","Houston Astros",109000,16,0,24.333333333333332,-17,5.92,1.8904109589041096,5.9178082191780828,12.205479452054796,82,80,4.38,4341,1163,1541,7.233586731167934,9.5846579129232907,1.437456807187284,"NL-C",{"$f":"LEFT([League-Division],1)","v":"N"},{"$f":"RIGHT([League-Division],1)","v":"C"},{"$f":"IF([LG]=\"N\",10,20)","v":10},{"$f":"IF([DIV]=\"E\",1,IF([DIV]=\"C\",2,3))","v":2},{"$f":"[LGS]+[DIVS]","v":12}]
[2003,"Smith, Dan","MON","Montreal Expos",305000,32,0,37.666666666666664,-7,5.26,1.5929203539823009,8.3628318584070804,10.035398230088497,83,79,4.01,4313,1028,1467,6.4354277764896821,9.1836308833758409,1.342453048921864,"NL-E",{"$f":"LEFT([League-Division],1)","v":"N"},{"$f":"RIGHT([League-Division],1)","v":"E"},{"$f":"IF([LG]=\"N\",10,20)","v":10},{"$f":"IF([DIV]=\"E\",1,IF([DIV]=\"C\",2,3))","v":1},{"$f":"[LGS]+[DIVS]","v":11}]
[2008,"Smith, Joe","NYN","New York Mets",398000,82,0,63.333333333333336,1,3.55,1.2947368421052632,7.3894736842105262,7.2473684210526308,89,73,4.07,4393,1181,1415,7.2585932164807652,8.6967903482813576,1.3692237650808106,"NL-E",{"$f":"LEFT([League-Division],1)","v":"N"},{"$f":"RIGHT([League-Division],1)","v":"E"},{"$f":"IF([LG]=\"N\",10,20)","v":10},{"$f":"IF([DIV]=\"E\",1,IF([DIV]=\"C\",2,3))","v":1},{"$f":"[LGS]+[DIVS]","v":11}]
[1998,"Smith, Pete","SDN","San Diego Padres",975000,10,8,43.333333333333336,-9,4.78,1.4538461538461538,7.4769230769230761,9.3461538461538449,98,64,3.63,4363,1217,1384,7.5312858125143256,8.5647490258996104,1.2961265184506074,"NL-W",{"$f":"LEFT([League-Division],1)","v":"N"},{"$f":"RIGHT([League-Division],1)","v":"W"},{"$f":"IF([LG]=\"N\",10,20)","v":10},{"$f":"IF([DIV]=\"E\",1,IF([DIV]=\"C\",2,3))","v":3},{"$f":"[LGS]+[DIVS]","v":13}]
[1998,"Smith, Pete","BAL","Baltimore Orioles",975000,27,4,45,-28,6.2,1.6222222222222222,5.8000000000000007,11.399999999999999,79,83,4.7300000000000004,4293,1065,1505,6.6981132075471699,9.4654088050314478,1.4255765199161425,"AL-E",{"$f":"LEFT([League-Division],1)","v":"A"},{"$f":"RIGHT([League-Division],1)","v":"E"},{"$f":"IF([LG]=\"N\",10,20)","v":20},{"$f":"IF([DIV]=\"E\",1,IF([DIV]=\"C\",2,3))","v":1},{"$f":"[LGS]+[DIVS]","v":21}]
[2001,"Smoltz, John","ATL","Atlanta Braves",8000000,36,5,59,4,3.36,1.0677966101694916,8.6949152542372872,8.0847457627118651,88,74,3.59,4342,1133,1363,7.045370796867803,8.475587286964533,1.2865039152464304,"NL-E",{"$f":"LEFT([League-Division],1)","v":"N"},{"$f":"RIGHT([League-Division],1)","v":"E"},{"$f":"IF([LG]=\"N\",10,20)","v":10},{"$f":"IF([DIV]=\"E\",1,IF([DIV]=\"C\",2,3))","v":1},{"$f":"[LGS]+[DIVS]","v":11}]
[2008,"Smoltz, John","ATL","Atlanta Braves",14000000,6,5,28,11,2.57,1.1785714285714286,11.571428571428573,8.0357142857142865,72,90,4.47,4322,1076,1439,6.7218880148079592,8.9895881536325764,1.4055992596020359,"NL-E",{"$f":"LEFT([League-Division],1)","v":"N"},{"$f":"RIGHT([League-Division],1)","v":"E"},{"$f":"IF([LG]=\"N\",10,20)","v":10},{"$f":"IF([DIV]=\"E\",1,IF([DIV]=\"C\",2,3))","v":1},{"$f":"[LGS]+[DIVS]","v":11}]
[2006,"Snell, Ian","PIT","Pittsburgh Pirates",330000,32,32,186,-29,4.74,1.4623655913978495,8.17741935483871,9.5806451612903221,67,95,4.5199999999999996,4305,1060,1545,6.6480836236933802,9.6898954703832754,1.5087108013937283,"NL-C",{"$f":"LEFT([League-Division],1)","v":"N"},{"$f":"RIGHT([League-Division],1)","v":"C"},{"$f":"IF([LG]=\"N\",10,20)","v":10},{"$f":"IF([DIV]=\"E\",1,IF([DIV]=\"C\",2,3))","v":2},{"$f":"[LGS]+[DIVS]","v":12}]
[2007,"Snyder, Kyle","BOS","Boston Red Sox",535000,46,0,54.333333333333336,-4,3.81,1.4171779141104295,6.7914110429447847,7.4539877300613497,96,66,3.87,4316,1149,1350,7.1879054680259493,8.4453197405004641,1.2734012974976829,"AL-E",{"$f":"LEFT([League-Division],1)","v":"A"},{"$f":"RIGHT([League-Division],1)","v":"E"},{"$f":"IF([LG]=\"N\",10,20)","v":20},{"$f":"IF([DIV]=\"E\",1,IF([DIV]=\"C\",2,3))","v":1},{"$f":"[LGS]+[DIVS]","v":21}]
[2010,"Sonnanstine, Andy","TBA","Tampa Bay Rays",416900,41,4,81,-33,4.4400000000000004,1.3580246913580247,5.5555555555555554,9.2222222222222232,96,66,3.78,4361,1189,1347,7.3613850034395778,8.3396010089429016,1.2554459986241686,"AL-E",{"$f":"LEFT([League-Division],1)","v":"A"},{"$f":"RIGHT([League-Division],1)","v":"E"},{"$f":"IF([LG]=\"N\",10,20)","v":20},{"$f":"IF([DIV]=\"E\",1,IF([DIV]=\"C\",2,3))","v":1},{"$f":"[LGS]+[DIVS]","v":21}]
[2009,"Soria, Joakim","KCA","Kansas City Royals",1000000,47,0,53,25,2.21,1.1320754716981132,11.716981132075471,7.4716981132075473,65,97,4.83,4278,1153,1486,7.2769985974754556,9.3786816269284703,1.4628330995792427,"AL-C",{"$f":"LEFT([League-Division],1)","v":"A"},{"$f":"RIGHT([League-Division],1)","v":"C"},{"$f":"IF([LG]=\"N\",10,20)","v":20},{"$f":"IF([DIV]=\"E\",1,IF([DIV]=\"C\",2,3))","v":2},{"$f":"[LGS]+[DIVS]","v":22}]
[2009,"Soriano, Rafael","ATL","Atlanta Braves",6350000,77,0,75.666666666666671,49,2.97,1.0572687224669604,12.132158590308368,6.3039647577092515,86,76,3.57,4388,1232,1399,7.5806745670009104,8.6082497721057418,1.3188240656335459,"NL-E",{"$f":"LEFT([League-Division],1)","v":"N"},{"$f":"RIGHT([League-Division],1)","v":"E"},{"$f":"IF([LG]=\"N\",10,20)","v":10},{"$f":"IF([DIV]=\"E\",1,IF([DIV]=\"C\",2,3))","v":1},{"$f":"[LGS]+[DIVS]","v":11}]
[2003,"Sosa, Jorge","TBA","Tampa Bay Devil Rays",300000,29,19,128.66666666666666,-65,4.62,1.5310880829015545,5.0362694300518136,9.5829015544041454,63,99,4.93,4310,877,1454,5.4939675174013924,9.1085846867749414,1.456844547563805,"AL-E",{"$f":"LEFT([League-Division],1)","v":"A"},{"$f":"RIGHT([League-Division],1)","v":"E"},{"$f":"IF([LG]=\"N\",10,20)","v":20},{"$f":"IF([DIV]=\"E\",1,IF([DIV]=\"C\",2,3))","v":1},{"$f":"[LGS]+[DIVS]","v":21}]
[1999,"Sparks, Steve","ANA","Anaheim Angels",1387500,28,26,147.66666666666666,-92,5.42,1.6726862302483072,4.4492099322799099,10.056433408577877,70,92,4.79,4293,877,1472,5.515723270440251,9.2578616352201255,1.4647099930118799,"AL-W",{"$f":"LEFT([League-Division],1)","v":"A"},{"$f":"RIGHT([League-Division],1)","v":"W"},{"$f":"IF([LG]=\"N\",10,20)","v":20},{"$f":"IF([DIV]=\"E\",1,IF([DIV]=\"C\",2,3))","v":3},{"$f":"[LGS]+[DIVS]","v":23}]
[1998,"Speier, Justin","FLO","Florida Marlins",170000,18,0,19.333333333333332,-10,8.3800000000000008,1.913793103448276,6.9827586206896548,11.637931034482758,54,108,5.2,4348,1016,1617,6.3091076356945726,10.041168353265869,1.609015639374425,"NL-E",{"$f":"LEFT([League-Division],1)","v":"N"},{"$f":"RIGHT([League-Division],1)","v":"E"},{"$f":"IF([LG]=\"N\",10,20)","v":10},{"$f":"IF([DIV]=\"E\",1,IF([DIV]=\"C\",2,3))","v":1},{"$f":"[LGS]+[DIVS]","v":11}]
[2002,"Speier, Justin","COL","Colorado Rockies",310000,63,0,62.333333333333336,-4,4.33,1.1229946524064172,6.786096256684492,7.3636363636363633,73,89,5.2,4280,920,1554,5.8037383177570092,9.8032710280373827,1.497196261682243,"NL-W",{"$f":"LEFT([League-Division],1)","v":"N"},{"$f":"RIGHT([League-Division],1)","v":"W"},{"$f":"IF([LG]=\"N\",10,20)","v":10},{"$f":"IF([DIV]=\"E\",1,IF([DIV]=\"C\",2,3))","v":3},{"$f":"[LGS]+[DIVS]","v":13}]
[2009,"Speier, Ryan","COL","Colorado Rockies",407000,5,0,5.666666666666667,-4,4.76,1.588235294117647,3.1764705882352939,9.5294117647058822,92,70,4.24,4315,1154,1427,7.2208574739281586,8.9290845886442654,1.3592120509849364,"NL-W",{"$f":"LEFT([League-Division],1)","v":"N"},{"$f":"RIGHT([League-Division],1)","v":"W"},{"$f":"IF([LG]=\"N\",10,20)","v":10},{"$f":"IF([DIV]=\"E\",1,IF([DIV]=\"C\",2,3))","v":3},{"$f":"[LGS]+[DIVS]","v":13}]
[1997,"Spoljaric, Paul","SEA","Seattle Mariners",185000,20,0,22.666666666666668,3,4.76,1.7205882352941175,10.720588235294118,9.5294117647058822,90,72,4.79,4341,1207,1500,7.5072563925362825,9.3296475466482374,1.4498963372494817,"AL-W",{"$f":"LEFT([League-Division],1)","v":"A"},{"$f":"RIGHT([League-Division],1)","v":"W"},{"$f":"IF([LG]=\"N\",10,20)","v":20},{"$f":"IF([DIV]=\"E\",1,IF([DIV]=\"C\",2,3))","v":3},{"$f":"[LGS]+[DIVS]","v":23}]
[1999,"Spoljaric, Paul","TOR","Toronto Blue Jays",450000,37,2,62,1,4.6500000000000004,1.5161290322580645,9.1451612903225801,9,84,78,4.92,4315,1009,1582,6.3135573580533029,9.8989571263035927,1.4996523754345308,"AL-E",{"$f":"LEFT([League-Division],1)","v":"A"},{"$f":"RIGHT([League-Division],1)","v":"E"},{"$f":"IF([LG]=\"N\",10,20)","v":20},{"$f":"IF([DIV]=\"E\",1,IF([DIV]=\"C\",2,3))","v":1},{"$f":"[LGS]+[DIVS]","v":21}]
[2000,"Spradlin, Jerry","KCA","Kansas City Royals",962500,50,0,75,-27,5.52,1.44,6.4799999999999995,9.7200000000000006,77,85,5.48,4317,927,1585,5.7977762334954823,9.9131341209173041,1.5830437804030577,"AL-C",{"$f":"LEFT([League-Division],1)","v":"A"},{"$f":"RIGHT([League-Division],1)","v":"C"},{"$f":"IF([LG]=\"N\",10,20)","v":20},{"$f":"IF([DIV]=\"E\",1,IF([DIV]=\"C\",2,3))","v":2},{"$f":"[LGS]+[DIVS]","v":22}]
[1996,"Springer, Dennis","CAL","California Angels",150000,20,15,94.666666666666671,-27,5.51,1.4154929577464788,6.084507042253521,8.6514084507042242,70,91,5.31,4317,1052,1546,6.5795691452397502,9.6692147324530922,1.5343988881167478,"AL-W",{"$f":"LEFT([League-Division],1)","v":"A"},{"$f":"RIGHT([League-Division],1)","v":"W"},{"$f":"IF([LG]=\"N\",10,20)","v":20},{"$f":"IF([DIV]=\"E\",1,IF([DIV]=\"C\",2,3))","v":3},{"$f":"[LGS]+[DIVS]","v":23}]
[1998,"Springer, Russ","ATL","Atlanta Braves",700000,22,0,20,-3,4.05,1.9,8.5499999999999989,9.9,106,56,3.25,4315,1232,1291,7.7089223638470452,8.0780996523754354,1.2222479721900348,"NL-E",{"$f":"LEFT([League-Division],1)","v":"N"},{"$f":"RIGHT([League-Division],1)","v":"E"},{"$f":"IF([LG]=\"N\",10,20)","v":10},{"$f":"IF([DIV]=\"E\",1,IF([DIV]=\"C\",2,3))","v":1},{"$f":"[LGS]+[DIVS]","v":11}]
[2008,"Springer, Russ","SLN","St. Louis Cardinals",3500000,70,0,50.333333333333336,6,2.3199999999999998,1.1324503311258278,8.0463576158940384,6.9735099337748343,86,76,4.2,4362,957,1517,5.9236588720770289,9.3899587345254467,1.3844566712517195,"NL-C",{"$f":"LEFT([League-Division],1)","v":"N"},{"$f":"RIGHT([League-Division],1)","v":"C"},{"$f":"IF([LG]=\"N\",10,20)","v":10},{"$f":"IF([DIV]=\"E\",1,IF([DIV]=\"C\",2,3))","v":2},{"$f":"[LGS]+[DIVS]","v":12}]
[2003,"Spurling, Chris","DET","Detroit Tigers",305000,66,0,77,-40,4.68,1.2987012987012987,4.4415584415584419,9.1168831168831161,43,119,5.3,4316,764,1616,4.7794253938832254,10.109360518999074,1.5104263206672845,"AL-C",{"$f":"LEFT([League-Division],1)","v":"A"},{"$f":"RIGHT([League-Division],1)","v":"C"},{"$f":"IF([LG]=\"N\",10,20)","v":20},{"$f":"IF([DIV]=\"E\",1,IF([DIV]=\"C\",2,3))","v":2},{"$f":"[LGS]+[DIVS]","v":22}]
[1996,"Stanton, Mike","BOS","Boston Red Sox",1750000,59,0,56.333333333333336,-12,3.83,1.4378698224852071,7.3491124260355027,9.2662721893491113,85,77,5,4374,1165,1606,7.1913580246913584,9.913580246913579,1.5967078189300412,"AL-E",{"$f":"LEFT([League-Division],1)","v":"A"},{"$f":"RIGHT([League-Division],1)","v":"E"},{"$f":"IF([LG]=\"N\",10,20)","v":20},{"$f":"IF([DIV]=\"E\",1,IF([DIV]=\"C\",2,3))","v":1},{"$f":"[LGS]+[DIVS]","v":21}]
[2002,"Stanton, Mike","NYA","New York Yankees",2500000,79,0,78,-29,3,1.2948717948717949,5.0769230769230766,8.4230769230769234,103,58,3.87,4356,1135,1441,7.035123966942149,8.9318181818181817,1.2699724517906337,"AL-E",{"$f":"LEFT([League-Division],1)","v":"A"},{"$f":"RIGHT([League-Division],1)","v":"E"},{"$f":"IF([LG]=\"N\",10,20)","v":20},{"$f":"IF([DIV]=\"E\",1,IF([DIV]=\"C\",2,3))","v":1},{"$f":"[LGS]+[DIVS]","v":21}]
[2005,"Stanton, Mike","NYA","New York Yankees",4000000,28,0,14,-5,7.07,1.6428571428571428,7.7142857142857135,10.928571428571427,95,67,4.5199999999999996,4292,985,1495,6.1964119291705497,9.4047064305684991,1.3685927306616961,"AL-E",{"$f":"LEFT([League-Division],1)","v":"A"},{"$f":"RIGHT([League-Division],1)","v":"E"},{"$f":"IF([LG]=\"N\",10,20)","v":20},{"$f":"IF([DIV]=\"E\",1,IF([DIV]=\"C\",2,3))","v":1},{"$f":"[LGS]+[DIVS]","v":21}]
[2004,"Stark, Dennis","COL","Colorado Rockies",321000,6,6,26,-43,11.42,2.7307692307692308,3.4615384615384617,18.346153846153847,68,94,5.54,4306,947,1634,5.9379934974454258,10.245703669298655,1.6240130051091501,"NL-W",{"$f":"LEFT([League-Division],1)","v":"N"},{"$f":"RIGHT([League-Division],1)","v":"W"},{"$f":"IF([LG]=\"N\",10,20)","v":10},{"$f":"IF([DIV]=\"E\",1,IF([DIV]=\"C\",2,3))","v":3},{"$f":"[LGS]+[DIVS]","v":13}]
[2002,"Stechschulte, Gene","SLN","St. Louis Cardinals",265000,29,0,32,-6,4.78,1.375,5.90625,7.59375,97,65,3.7,4339,1009,1355,6.2786356303295694,8.431666282553584,1.3150495505876931,"NL-C",{"$f":"LEFT([League-Division],1)","v":"N"},{"$f":"RIGHT([League-Division],1)","v":"C"},{"$f":"IF([LG]=\"N\",10,20)","v":10},{"$f":"IF([DIV]=\"E\",1,IF([DIV]=\"C\",2,3))","v":2},{"$f":"[LGS]+[DIVS]","v":12}]
[1998,"Stephenson, Garrett","PHI","Philadelphia Phillies",185000,6,6,23,-14,9,2.1739130434782608,6.6521739130434776,12.130434782608695,75,87,4.6399999999999997,4389,1176,1476,7.2344497607655498,9.0799726589200258,1.3807245386192755,"NL-E",{"$f":"LEFT([League-Division],1)","v":"N"},{"$f":"RIGHT([League-Division],1)","v":"E"},{"$f":"IF([LG]=\"N\",10,20)","v":10},{"$f":"IF([DIV]=\"E\",1,IF([DIV]=\"C\",2,3))","v":1},{"$f":"[LGS]+[DIVS]","v":11}]
[1995,"Stevens, Dave","MIN","Minnesota Twins",125000,56,0,65.666666666666671,-27,5.07,1.6142131979695431,6.4416243654822329,10.14213197969543,56,88,5.76,3816,790,1450,5.5896226415094343,10.259433962264151,1.5589622641509433,"AL-C",{"$f":"LEFT([League-Division],1)","v":"A"},{"$f":"RIGHT([League-Division],1)","v":"C"},{"$f":"IF([LG]=\"N\",10,20)","v":20},{"$f":"IF([DIV]=\"E\",1,IF([DIV]=\"C\",2,3))","v":2},{"$f":"[LGS]+[DIVS]","v":22}]
[1997,"Stevens, Dave","CHN","Chicago Cubs",210000,10,0,9.3333333333333339,0,9.64,2.3571428571428572,12.535714285714285,12.535714285714285,68,94,4.4400000000000004,4287,1072,1451,6.7515745276417078,9.1385584324702585,1.4282715185444366,"NL-C",{"$f":"LEFT([League-Division],1)","v":"N"},{"$f":"RIGHT([League-Division],1)","v":"C"},{"$f":"IF([LG]=\"N\",10,20)","v":10},{"$f":"IF([DIV]=\"E\",1,IF([DIV]=\"C\",2,3))","v":2},{"$f":"[LGS]+[DIVS]","v":12}]
[2004,"Stewart, Scott","CLE","Cleveland Indians",850000,23,0,13.666666666666666,-5,7.24,2.1219512195121952,11.853658536585366,15.146341463414636,80,82,4.8099999999999996,4400,1115,1553,6.8420454545454534,9.5297727272727268,1.4536363636363636,"AL-C",{"$f":"LEFT([League-Division],1)","v":"A"},{"$f":"RIGHT([League-Division],1)","v":"C"},{"$f":"IF([LG]=\"N\",10,20)","v":20},{"$f":"IF([DIV]=\"E\",1,IF([DIV]=\"C\",2,3))","v":2},{"$f":"[LGS]+[DIVS]","v":22}]
[2004,"Stone, Ricky","HOU","Houston Astros",395000,16,0,19,-10,5.68,1.736842105263158,7.5789473684210522,12.315789473684211,92,70,4.05,4329,1282,1416,7.995841995841996,8.8316008316008325,1.345114345114345,"NL-C",{"$f":"LEFT([League-Division],1)","v":"N"},{"$f":"RIGHT([League-Division],1)","v":"C"},{"$f":"IF([LG]=\"N\",10,20)","v":10},{"$f":"IF([DIV]=\"E\",1,IF([DIV]=\"C\",2,3))","v":2},{"$f":"[LGS]+[DIVS]","v":12}]
[1996,"Stottlemyre, Todd","SLN","St. Louis Cardinals",4000000,34,33,223.33333333333334,3,3.87,1.2716417910447761,7.8179104477611938,7.6970149253731339,88,74,3.98,4356,1050,1380,6.508264462809918,8.5537190082644639,1.3216253443526171,"NL-C",{"$f":"LEFT([League-Division],1)","v":"N"},{"$f":"RIGHT([League-Division],1)","v":"C"},{"$f":"IF([LG]=\"N\",10,20)","v":10},{"$f":"IF([DIV]=\"E\",1,IF([DIV]=\"C\",2,3))","v":2},{"$f":"[LGS]+[DIVS]","v":12}]
[2005,"Street, Huston","OAK","Oakland Athletics",316000,67,0,78.333333333333329,19,1.72,1.0085106382978724,8.2723404255319153,6.0893617021276603,88,74,3.69,4351,1075,1315,6.6708802574120902,8.1601930590668807,1.2541944380602161,"AL-W",{"$f":"LEFT([League-Division],1)","v":"A"},{"$f":"RIGHT([League-Division],1)","v":"W"},{"$f":"IF([LG]=\"N\",10,20)","v":20},{"$f":"IF([DIV]=\"E\",1,IF([DIV]=\"C\",2,3))","v":3},{"$f":"[LGS]+[DIVS]","v":23}]
[2008,"Street, Huston","OAK","Oakland Athletics",3300000,63,0,70,11,3.73,1.2142857142857142,8.8714285714285719,7.4571428571428573,75,86,4.01,4305,1061,1364,6.6543554006968648,8.5547038327526135,1.3519163763066202,"AL-W",{"$f":"LEFT([League-Division],1)","v":"A"},{"$f":"RIGHT([League-Division],1)","v":"W"},{"$f":"IF([LG]=\"N\",10,20)","v":20},{"$f":"IF([DIV]=\"E\",1,IF([DIV]=\"C\",2,3))","v":3},{"$f":"[LGS]+[DIVS]","v":23}]
[2000,"Sturtze, Tanyon","TBA","Tampa Bay Devil Rays",206000,19,5,52.666666666666664,-9,2.56,1.1582278481012658,6.4936708860759502,8.0316455696202542,69,92,4.8600000000000003,4293,955,1553,6.0062893081761004,9.7672955974842761,1.4577218728162125,"AL-E",{"$f":"LEFT([League-Division],1)","v":"A"},{"$f":"RIGHT([League-Division],1)","v":"E"},{"$f":"IF([LG]=\"N\",10,20)","v":20},{"$f":"IF([DIV]=\"E\",1,IF([DIV]=\"C\",2,3))","v":1},{"$f":"[LGS]+[DIVS]","v":21}]
[1997,"Sullivan, Scott","CIN","Cincinnati Reds",150000,59,0,97.333333333333329,17,3.24,1.1198630136986303,8.8767123287671232,7.3047945205479454,76,86,4.42,4347,1159,1408,7.1987577639751548,8.7453416149068328,1.3567977915804004,"NL-C",{"$f":"LEFT([League-Division],1)","v":"N"},{"$f":"RIGHT([League-Division],1)","v":"C"},{"$f":"IF([LG]=\"N\",10,20)","v":10},{"$f":"IF([DIV]=\"E\",1,IF([DIV]=\"C\",2,3))","v":2},{"$f":"[LGS]+[DIVS]","v":12}]
[2000,"Sullivan, Scott","CIN","Cincinnati Reds",1100000,79,0,106.33333333333333,9,3.47,1.1755485893416928,8.1253918495297803,7.3636363636363642,85,77,4.33,4368,1015,1446,6.2740384615384617,8.9381868131868139,1.4457417582417582,"NL-C",{"$f":"LEFT([League-Division],1)","v":"N"},{"$f":"RIGHT([League-Division],1)","v":"C"},{"$f":"IF([LG]=\"N\",10,20)","v":10},{"$f":"IF([DIV]=\"E\",1,IF([DIV]=\"C\",2,3))","v":2},{"$f":"[LGS]+[DIVS]","v":12}]
[1996,"Suppan, Jeff","BOS","Boston Red Sox",117000,8,4,22.666666666666668,-16,7.54,1.8529411764705881,5.1617647058823524,11.51470588235294,85,77,5,4374,1165,1606,7.1913580246913584,9.913580246913579,1.5967078189300412,"AL-E",{"$f":"LEFT([League-Division],1)","v":"A"},{"$f":"RIGHT([League-Division],1)","v":"E"},{"$f":"IF([LG]=\"N\",10,20)","v":20},{"$f":"IF([DIV]=\"E\",1,IF([DIV]=\"C\",2,3))","v":1},{"$f":"[LGS]+[DIVS]","v":21}]
[2004,"Suppan, Jeff","SLN","St. Louis Cardinals",1000000,31,31,188,-82,4.16,1.3670212765957446,5.2659574468085104,9.1914893617021267,105,57,3.75,4361,1041,1378,6.4450814033478556,8.5315294657188705,1.2506305893143774,"NL-C",{"$f":"LEFT([League-Division],1)","v":"N"},{"$f":"RIGHT([League-Division],1)","v":"C"},{"$f":"IF([LG]=\"N\",10,20)","v":10},{"$f":"IF([DIV]=\"E\",1,IF([DIV]=\"C\",2,3))","v":2},{"$f":"[LGS]+[DIVS]","v":12}]
[2007,"Suppan, Jeff","MIL","Milwaukee Brewers",6250000,34,34,206.66666666666666,-129,4.62,1.5048387096774194,4.9645161290322584,10.582258064516129,83,79,4.41,4333,1174,1513,7.315485806600508,9.4278790676205855,1.3985691207015924,"NL-C",{"$f":"LEFT([League-Division],1)","v":"N"},{"$f":"RIGHT([League-Division],1)","v":"C"},{"$f":"IF([LG]=\"N\",10,20)","v":10},{"$f":"IF([DIV]=\"E\",1,IF([DIV]=\"C\",2,3))","v":2},{"$f":"[LGS]+[DIVS]","v":12}]
[2000,"Suzuki, Mac","KCA","Kansas City Royals",220000,32,29,188.66666666666666,-60,4.34,1.5318021201413428,6.4399293286219086,9.3021201413427566,77,85,5.48,4317,927,1585,5.7977762334954823,9.9131341209173041,1.5830437804030577,"AL-C",{"$f":"LEFT([League-Division],1)","v":"A"},{"$f":"RIGHT([League-Division],1)","v":"C"},{"$f":"IF([LG]=\"N\",10,20)","v":20},{"$f":"IF([DIV]=\"E\",1,IF([DIV]=\"C\",2,3))","v":2},{"$f":"[LGS]+[DIVS]","v":22}]
[2001,"Suzuki, Mac","KCA","Kansas City Royals",320000,15,9,56,-24,5.3,1.5357142857142858,5.9464285714285712,9.803571428571427,65,97,4.87,4320,911,1537,5.6937499999999996,9.6062500000000011,1.4673611111111111,"AL-C",{"$f":"LEFT([League-Division],1)","v":"A"},{"$f":"RIGHT([League-Division],1)","v":"C"},{"$f":"IF([LG]=\"N\",10,20)","v":20},{"$f":"IF([DIV]=\"E\",1,IF([DIV]=\"C\",2,3))","v":2},{"$f":"[LGS]+[DIVS]","v":22}]
[1995,"Swindell, Greg","HOU","Houston Astros",4450000,33,26,153,-84,4.47,1.4313725490196079,5.6470588235294112,10.588235294117647,76,68,4.0599999999999996,3960,1056,1357,7.2,9.252272727272727,1.3765151515151515,"NL-C",{"$f":"LEFT([League-Division],1)","v":"N"},{"$f":"RIGHT([League-Division],1)","v":"C"},{"$f":"IF([LG]=\"N\",10,20)","v":10},{"$f":"IF([DIV]=\"E\",1,IF([DIV]=\"C\",2,3))","v":2},{"$f":"[LGS]+[DIVS]","v":12}]
[2002,"Swindell, Greg","ARI","Arizona Diamondbacks",2833333,34,0,33,-15,6.27,1.303030303030303,6.2727272727272734,10.363636363636365,98,64,3.92,4340,1303,1361,8.1062211981566819,8.4670506912442391,1.2317972350230415,"NL-W",{"$f":"LEFT([League-Division],1)","v":"N"},{"$f":"RIGHT([League-Division],1)","v":"W"},{"$f":"IF([LG]=\"N\",10,20)","v":10},{"$f":"IF([DIV]=\"E\",1,IF([DIV]=\"C\",2,3))","v":3},{"$f":"[LGS]+[DIVS]","v":13}]
[2004,"Szuminski, Jason","SDN","San Diego Padres",300000,7,0,10,-7,7.2,2.2999999999999998,4.5,10.799999999999999,87,75,4.03,4323,1079,1460,6.7390700902151286,9.1186675919500342,1.3060374739764053,"NL-W",{"$f":"LEFT([League-Division],1)","v":"N"},{"$f":"RIGHT([League-Division],1)","v":"W"},{"$f":"IF([LG]=\"N\",10,20)","v":10},{"$f":"IF([DIV]=\"E\",1,IF([DIV]=\"C\",2,3))","v":3},{"$f":"[LGS]+[DIVS]","v":13}]
[2004,"Takatsu, Shingo","CHA","Chicago White Sox",750000,59,0,62.333333333333336,10,2.31,0.97860962566844911,7.2192513368983953,5.7754010695187166,83,79,4.91,4297,1013,1505,6.3651384686990928,9.456597626250872,1.4186641843146381,"AL-C",{"$f":"LEFT([League-Division],1)","v":"A"},{"$f":"RIGHT([League-Division],1)","v":"C"},{"$f":"IF([LG]=\"N\",10,20)","v":20},{"$f":"IF([DIV]=\"E\",1,IF([DIV]=\"C\",2,3))","v":2},{"$f":"[LGS]+[DIVS]","v":22}]
[1999,"Tam, Jeff","CLE","Cleveland Indians",207500,1,0,0.33333333333333331,-2,81,9,0,54,97,65,4.9000000000000004,4350,1120,1503,6.9517241379310342,9.3289655172413788,1.4737931034482759,"AL-C",{"$f":"LEFT([League-Division],1)","v":"A"},{"$f":"RIGHT([League-Division],1)","v":"C"},{"$f":"IF([LG]=\"N\",10,20)","v":20},{"$f":"IF([DIV]=\"E\",1,IF([DIV]=\"C\",2,3))","v":2},{"$f":"[LGS]+[DIVS]","v":22}]
[2002,"Tam, Jeff","OAK","Oakland Athletics",700000,40,0,40.333333333333336,-42,5.13,1.7107438016528924,3.1239669421487601,12.495867768595041,103,59,3.68,4356,1021,1391,6.3285123966942143,8.6219008264462822,1.2844352617079891,"AL-W",{"$f":"LEFT([League-Division],1)","v":"A"},{"$f":"RIGHT([League-Division],1)","v":"W"},{"$f":"IF([LG]=\"N\",10,20)","v":20},{"$f":"IF([DIV]=\"E\",1,IF([DIV]=\"C\",2,3))","v":3},{"$f":"[LGS]+[DIVS]","v":23}]
[1997,"Tapani, Kevin","CHN","Chicago Cubs",3750000,13,13,85,-22,3.39,1.1764705882352942,5.8235294117647065,8.1529411764705877,68,94,4.4400000000000004,4287,1072,1451,6.7515745276417078,9.1385584324702585,1.4282715185444366,"NL-C",{"$f":"LEFT([League-Division],1)","v":"N"},{"$f":"RIGHT([League-Division],1)","v":"C"},{"$f":"IF([LG]=\"N\",10,20)","v":10},{"$f":"IF([DIV]=\"E\",1,IF([DIV]=\"C\",2,3))","v":2},{"$f":"[LGS]+[DIVS]","v":12}]
[2000,"Tapani, Kevin","CHN","Chicago Cubs",6000000,30,30,195.66666666666666,-58,5.01,1.303236797274276,6.8994889267461676,9.5672913117546869,65,97,5.25,4363,1143,1505,7.0733440293376129,9.3135457254182903,1.487279394911758,"NL-C",{"$f":"LEFT([League-Division],1)","v":"N"},{"$f":"RIGHT([League-Division],1)","v":"C"},{"$f":"IF([LG]=\"N\",10,20)","v":10},{"$f":"IF([DIV]=\"E\",1,IF([DIV]=\"C\",2,3))","v":2},{"$f":"[LGS]+[DIVS]","v":12}]
[2010,"Taschner, Jack","PIT","Pittsburgh Pirates",835000,17,0,19.333333333333332,-5,6.05,1.5517241379310345,7.9137931034482767,10.241379310344827,57,105,5,4235,1026,1567,6.5412042502951593,9.9903187721369537,1.4911452184179457,"NL-C",{"$f":"LEFT([League-Division],1)","v":"N"},{"$f":"RIGHT([League-Division],1)","v":"C"},{"$f":"IF([LG]=\"N\",10,20)","v":10},{"$f":"IF([DIV]=\"E\",1,IF([DIV]=\"C\",2,3))","v":2},{"$f":"[LGS]+[DIVS]","v":12}]
[2000,"Tavarez, Julian","COL","Colorado Rockies",1200000,51,12,120,-62,4.43,1.4750000000000001,4.6500000000000004,9.3000000000000007,82,80,5.26,4290,1001,1568,6.3,9.8685314685314687,1.5076923076923077,"NL-W",{"$f":"LEFT([League-Division],1)","v":"N"},{"$f":"RIGHT([League-Division],1)","v":"W"},{"$f":"IF([LG]=\"N\",10,20)","v":10},{"$f":"IF([DIV]=\"E\",1,IF([DIV]=\"C\",2,3))","v":3},{"$f":"[LGS]+[DIVS]","v":13}]
[2003,"Tavarez, Julian","PIT","Pittsburgh Pirates",750000,64,0,83.666666666666671,-36,3.66,1.2191235059760956,4.1952191235059759,8.0677290836653377,75,87,4.6399999999999997,4333,926,1527,5.7701361643203324,9.5151165474267252,1.404800369259174,"NL-C",{"$f":"LEFT([League-Division],1)","v":"N"},{"$f":"RIGHT([League-Division],1)","v":"C"},{"$f":"IF([LG]=\"N\",10,20)","v":10},{"$f":"IF([DIV]=\"E\",1,IF([DIV]=\"C\",2,3))","v":2},{"$f":"[LGS]+[DIVS]","v":12}]
[2008,"Tavarez, Julian","ATL","Atlanta Braves",3850000,36,0,34.666666666666664,-7,3.89,1.6153846153846154,9.0865384615384617,10.903846153846155,72,90,4.47,4322,1076,1439,6.7218880148079592,8.9895881536325764,1.4055992596020359,"NL-E",{"$f":"LEFT([League-Division],1)","v":"N"},{"$f":"RIGHT([League-Division],1)","v":"E"},{"$f":"IF([LG]=\"N\",10,20)","v":10},{"$f":"IF([DIV]=\"E\",1,IF([DIV]=\"C\",2,3))","v":1},{"$f":"[LGS]+[DIVS]","v":11}]
[2009,"Tejeda, Robinson","KCA","Kansas City Royals",437000,35,6,73.666666666666671,44,3.54,1.2624434389140271,10.628959276018099,5.2533936651583701,65,97,4.83,4278,1153,1486,7.2769985974754556,9.3786816269284703,1.4628330995792427,"AL-C",{"$f":"LEFT([League-Division],1)","v":"A"},{"$f":"RIGHT([League-Division],1)","v":"C"},{"$f":"IF([LG]=\"N\",10,20)","v":20},{"$f":"IF([DIV]=\"E\",1,IF([DIV]=\"C\",2,3))","v":2},{"$f":"[LGS]+[DIVS]","v":22}]
[2003,"Tejera, Michael","FLO","Florida Marlins",300000,50,6,81,-24,4.67,1.4567901234567902,6.4444444444444438,9.1111111111111107,91,71,4.04,4336,1132,1415,7.0488929889298895,8.8111162361623627,1.345710332103321,"NL-E",{"$f":"LEFT([League-Division],1)","v":"N"},{"$f":"RIGHT([League-Division],1)","v":"E"},{"$f":"IF([LG]=\"N\",10,20)","v":10},{"$f":"IF([DIV]=\"E\",1,IF([DIV]=\"C\",2,3))","v":1},{"$f":"[LGS]+[DIVS]","v":11}]
[1999,"Telemaco, Amaury","PHI","Philadelphia Phillies",325000,44,0,47,-4,5.55,1.3829787234042554,7.8510638297872344,8.6170212765957448,77,85,4.93,4314,1030,1494,6.4464534075104316,9.350486787204451,1.4749652294853963,"NL-E",{"$f":"LEFT([League-Division],1)","v":"N"},{"$f":"RIGHT([League-Division],1)","v":"E"},{"$f":"IF([LG]=\"N\",10,20)","v":10},{"$f":"IF([DIV]=\"E\",1,IF([DIV]=\"C\",2,3))","v":1},{"$f":"[LGS]+[DIVS]","v":11}]
[2004,"Telemaco, Amaury","PHI","Philadelphia Phillies",525000,42,0,54.333333333333336,-19,4.3099999999999996,1.2883435582822085,5.3006134969325149,8.4478527607361951,86,76,4.45,4388,1070,1488,6.5838650865998174,9.1558796718322686,1.36052871467639,"NL-E",{"$f":"LEFT([League-Division],1)","v":"N"},{"$f":"RIGHT([League-Division],1)","v":"E"},{"$f":"IF([LG]=\"N\",10,20)","v":10},{"$f":"IF([DIV]=\"E\",1,IF([DIV]=\"C\",2,3))","v":1},{"$f":"[LGS]+[DIVS]","v":11}]
[1996,"Telgheder, Dave","OAK","Oakland Athletics",147500,16,14,79.333333333333329,-49,4.6500000000000004,1.4873949579831933,4.8781512605042021,10.436974789915967,78,84,5.2,4368,884,1638,5.4642857142857135,10.125,1.5673076923076923,"AL-W",{"$f":"LEFT([League-Division],1)","v":"A"},{"$f":"RIGHT([League-Division],1)","v":"W"},{"$f":"IF([LG]=\"N\",10,20)","v":20},{"$f":"IF([DIV]=\"E\",1,IF([DIV]=\"C\",2,3))","v":3},{"$f":"[LGS]+[DIVS]","v":23}]
[1998,"Tewksbury, Bob","MIN","Minnesota Twins",1750000,26,25,148.33333333333334,-114,4.79,1.3078651685393257,3.6404494382022472,10.557303370786517,70,92,4.76,4342,952,1622,5.9198526024873335,10.086135421464764,1.4364348226623675,"AL-C",{"$f":"LEFT([League-Division],1)","v":"A"},{"$f":"RIGHT([League-Division],1)","v":"C"},{"$f":"IF([LG]=\"N\",10,20)","v":20},{"$f":"IF([DIV]=\"E\",1,IF([DIV]=\"C\",2,3))","v":2},{"$f":"[LGS]+[DIVS]","v":22}]
[2008,"Thatcher, Joe","SDN","San Diego Padres",393000,25,0,25.666666666666668,-25,8.42,2.1428571428571428,5.9610389610389607,14.727272727272727,63,99,4.41,4375,1100,1466,6.7885714285714291,9.0473142857142861,1.3899428571428571,"NL-W",{"$f":"LEFT([League-Division],1)","v":"N"},{"$f":"RIGHT([League-Division],1)","v":"W"},{"$f":"IF([LG]=\"N\",10,20)","v":10},{"$f":"IF([DIV]=\"E\",1,IF([DIV]=\"C\",2,3))","v":3},{"$f":"[LGS]+[DIVS]","v":13}]
[2007,"Thompson, Brad","SLN","St. Louis Cardinals",400000,44,17,129.33333333333334,-104,4.7300000000000004,1.5231958762886597,3.688144329896907,10.925257731958762,78,84,4.6500000000000004,4307,945,1514,5.9240770838170418,9.4910610633851853,1.4091014627350824,"NL-C",{"$f":"LEFT([League-Division],1)","v":"N"},{"$f":"RIGHT([League-Division],1)","v":"C"},{"$f":"IF([LG]=\"N\",10,20)","v":10},{"$f":"IF([DIV]=\"E\",1,IF([DIV]=\"C\",2,3))","v":2},{"$f":"[LGS]+[DIVS]","v":12}]
[1997,"Thompson, Mark","COL","Colorado Rockies",252000,6,6,29.666666666666668,-31,7.89,1.7865168539325842,2.7303370786516852,12.134831460674157,83,79,5.25,4296,870,1697,5.4678770949720663,10.66550279329609,1.5803072625698324,"NL-W",{"$f":"LEFT([League-Division],1)","v":"N"},{"$f":"RIGHT([League-Division],1)","v":"W"},{"$f":"IF([LG]=\"N\",10,20)","v":10},{"$f":"IF([DIV]=\"E\",1,IF([DIV]=\"C\",2,3))","v":3},{"$f":"[LGS]+[DIVS]","v":13}]
[1998,"Thompson, Mark","COL","Colorado Rockies",300000,6,6,23.333333333333332,-22,7.71,2.0571428571428574,5.3999999999999995,13.885714285714286,77,85,5,4297,951,1583,5.9755643472189899,9.9467070048871307,1.497556434721899,"NL-W",{"$f":"LEFT([League-Division],1)","v":"N"},{"$f":"RIGHT([League-Division],1)","v":"W"},{"$f":"IF([LG]=\"N\",10,20)","v":10},{"$f":"IF([DIV]=\"E\",1,IF([DIV]=\"C\",2,3))","v":3},{"$f":"[LGS]+[DIVS]","v":13}]
[2002,"Thomson, John","NYN","New York Mets",1100000,9,9,54.333333333333336,-34,4.3099999999999996,1.50920245398773,5.1349693251533735,10.766871165644172,75,86,3.89,4328,1107,1408,6.9059611829944538,8.7837338262476887,1.3523567467652495,"NL-E",{"$f":"LEFT([League-Division],1)","v":"N"},{"$f":"RIGHT([League-Division],1)","v":"E"},{"$f":"IF([LG]=\"N\",10,20)","v":10},{"$f":"IF([DIV]=\"E\",1,IF([DIV]=\"C\",2,3))","v":1},{"$f":"[LGS]+[DIVS]","v":11}]
[2005,"Thomson, John","ATL","Atlanta Braves",4250000,17,17,98.666666666666671,-50,4.47,1.4087837837837838,5.5641891891891886,10.125,90,72,3.98,4331,929,1487,5.7915031170630336,9.2701454629415849,1.3902101131378435,"NL-E",{"$f":"LEFT([League-Division],1)","v":"N"},{"$f":"RIGHT([League-Division],1)","v":"E"},{"$f":"IF([LG]=\"N\",10,20)","v":10},{"$f":"IF([DIV]=\"E\",1,IF([DIV]=\"C\",2,3))","v":1},{"$f":"[LGS]+[DIVS]","v":11}]
[2009,"Thornton, Matt","CHA","Chicago White Sox",1325000,70,0,72.333333333333329,29,2.74,1.0783410138248848,10.824884792626728,7.216589861751153,79,83,4.16,4319,1119,1438,6.9953692984487148,8.9895809215096083,1.3510071775874044,"AL-C",{"$f":"LEFT([League-Division],1)","v":"A"},{"$f":"RIGHT([League-Division],1)","v":"C"},{"$f":"IF([LG]=\"N\",10,20)","v":20},{"$f":"IF([DIV]=\"E\",1,IF([DIV]=\"C\",2,3))","v":2},{"$f":"[LGS]+[DIVS]","v":22}]
[1996,"Timlin, Mike","TOR","Toronto Blue Jays",635000,59,0,56.666666666666664,5,3.65,1.1470588235294119,8.2588235294117656,7.4647058823529413,74,88,4.58,4335,1033,1476,6.4339100346020759,9.1930795847750879,1.4435986159169549,"AL-E",{"$f":"LEFT([League-Division],1)","v":"A"},{"$f":"RIGHT([League-Division],1)","v":"E"},{"$f":"IF([LG]=\"N\",10,20)","v":20},{"$f":"IF([DIV]=\"E\",1,IF([DIV]=\"C\",2,3))","v":1},{"$f":"[LGS]+[DIVS]","v":21}]
[1998,"Timlin, Mike","SEA","Seattle Mariners",3025000,70,0,79.333333333333329,-18,2.95,1.1848739495798319,6.8067226890756309,8.8487394957983199,76,85,4.95,4272,1156,1530,7.3061797752808992,9.6699438202247183,1.4452247191011236,"AL-W",{"$f":"LEFT([League-Division],1)","v":"A"},{"$f":"RIGHT([League-Division],1)","v":"W"},{"$f":"IF([LG]=\"N\",10,20)","v":20},{"$f":"IF([DIV]=\"E\",1,IF([DIV]=\"C\",2,3))","v":3},{"$f":"[LGS]+[DIVS]","v":23}]
[2003,"Timlin, Mike","BOS","Boston Red Sox",1850000,72,0,83.666666666666671,-12,3.55,1.0278884462151394,6.9920318725099602,8.2828685258964132,95,67,4.4800000000000004,4394,1141,1503,7.0111515703231682,9.2355484751934451,1.3593536640873918,"AL-E",{"$f":"LEFT([League-Division],1)","v":"A"},{"$f":"RIGHT([League-Division],1)","v":"E"},{"$f":"IF([LG]=\"N\",10,20)","v":20},{"$f":"IF([DIV]=\"E\",1,IF([DIV]=\"C\",2,3))","v":1},{"$f":"[LGS]+[DIVS]","v":21}]
[1998,"Tomko, Brett","CIN","Cincinnati Reds",230000,34,34,210.66666666666666,-36,4.4400000000000004,1.2436708860759493,6.9208860759493671,8.4588607594936711,77,85,4.4400000000000004,4323,1098,1400,6.8577376821651637,8.7439278278972932,1.3691880638445524,"NL-C",{"$f":"LEFT([League-Division],1)","v":"N"},{"$f":"RIGHT([League-Division],1)","v":"C"},{"$f":"IF([LG]=\"N\",10,20)","v":10},{"$f":"IF([DIV]=\"E\",1,IF([DIV]=\"C\",2,3))","v":2},{"$f":"[LGS]+[DIVS]","v":12}]
[1999,"Tomko, Brett","CIN","Cincinnati Reds",400000,33,26,172,-43,4.92,1.3662790697674418,6.9069767441860463,9.1569767441860463,96,67,3.99,4384,1081,1309,6.6576186131386867,8.061815693430658,1.3309762773722629,"NL-C",{"$f":"LEFT([League-Division],1)","v":"N"},{"$f":"RIGHT([League-Division],1)","v":"C"},{"$f":"IF([LG]=\"N\",10,20)","v":10},{"$f":"IF([DIV]=\"E\",1,IF([DIV]=\"C\",2,3))","v":2},{"$f":"[LGS]+[DIVS]","v":12}]
[2008,"Tomko, Brett","KCA","Kansas City Royals",3000000,16,10,60.666666666666664,-40,6.97,1.5329670329670331,5.9340659340659343,11.868131868131869,75,87,4.5,4337,1085,1473,6.7546691261240488,9.1701637076320033,1.375144108830989,"AL-C",{"$f":"LEFT([League-Division],1)","v":"A"},{"$f":"RIGHT([League-Division],1)","v":"C"},{"$f":"IF([LG]=\"N\",10,20)","v":20},{"$f":"IF([DIV]=\"E\",1,IF([DIV]=\"C\",2,3))","v":2},{"$f":"[LGS]+[DIVS]","v":22}]
[1995,"Torres, Salomon","SFN","San Francisco Giants",115000,4,1,8,-11,9,2.5,2.25,14.625,67,77,4.8600000000000003,3879,801,1368,5.575406032482598,9.5220417633410683,1.448569218870843,"NL-W",{"$f":"LEFT([League-Division],1)","v":"N"},{"$f":"RIGHT([League-Division],1)","v":"W"},{"$f":"IF([LG]=\"N\",10,20)","v":10},{"$f":"IF([DIV]=\"E\",1,IF([DIV]=\"C\",2,3))","v":3},{"$f":"[LGS]+[DIVS]","v":13}]
[2006,"Torres, Salomon","PIT","Pittsburgh Pirates",1525000,94,0,93.333333333333329,-26,3.28,1.4571428571428573,6.9428571428571431,9.4500000000000011,67,95,4.5199999999999996,4305,1060,1545,6.6480836236933802,9.6898954703832754,1.5087108013937283,"NL-C",{"$f":"LEFT([League-Division],1)","v":"N"},{"$f":"RIGHT([League-Division],1)","v":"C"},{"$f":"IF([LG]=\"N\",10,20)","v":10},{"$f":"IF([DIV]=\"E\",1,IF([DIV]=\"C\",2,3))","v":2},{"$f":"[LGS]+[DIVS]","v":12}]
[2008,"Traber, Billy","NYA","New York Yankees",500000,19,0,16.666666666666668,-12,7.02,1.7999999999999998,5.9399999999999995,12.419999999999998,89,73,4.28,4325,1141,1478,7.123005780346821,9.2268208092485544,1.3643930635838148,"AL-E",{"$f":"LEFT([League-Division],1)","v":"A"},{"$f":"RIGHT([League-Division],1)","v":"E"},{"$f":"IF([LG]=\"N\",10,20)","v":20},{"$f":"IF([DIV]=\"E\",1,IF([DIV]=\"C\",2,3))","v":1},{"$f":"[LGS]+[DIVS]","v":21}]
[2000,"Trachsel, Steve","TOR","Toronto Blue Jays",1000000,11,11,63,-40,5.29,1.5396825396825398,4.5714285714285712,10.285714285714285,83,79,5.14,4311,978,1615,6.1252609603340291,10.11482254697286,1.5135699373695197,"AL-E",{"$f":"LEFT([League-Division],1)","v":"A"},{"$f":"RIGHT([League-Division],1)","v":"E"},{"$f":"IF([LG]=\"N\",10,20)","v":20},{"$f":"IF([DIV]=\"E\",1,IF([DIV]=\"C\",2,3))","v":1},{"$f":"[LGS]+[DIVS]","v":21}]
[2003,"Trachsel, Steve","NYN","New York Mets",3000000,33,33,204.66666666666666,-93,3.78,1.3143322475570034,4.8811074918566781,8.9706840390879474,66,95,4.4800000000000004,4240,907,1497,5.7757075471698114,9.5327830188679243,1.4667452830188681,"NL-E",{"$f":"LEFT([League-Division],1)","v":"N"},{"$f":"RIGHT([League-Division],1)","v":"E"},{"$f":"IF([LG]=\"N\",10,20)","v":10},{"$f":"IF([DIV]=\"E\",1,IF([DIV]=\"C\",2,3))","v":1},{"$f":"[LGS]+[DIVS]","v":11}]
[1997,"Trlicek, Ricky","BOS","Boston Red Sox",177500,18,0,23.333333333333332,-16,4.63,1.8857142857142859,3.8571428571428577,10.028571428571428,78,84,4.87,4355,987,1567,6.119173363949483,9.7150401836968996,1.4996555683122847,"AL-E",{"$f":"LEFT([League-Division],1)","v":"A"},{"$f":"RIGHT([League-Division],1)","v":"E"},{"$f":"IF([LG]=\"N\",10,20)","v":20},{"$f":"IF([DIV]=\"E\",1,IF([DIV]=\"C\",2,3))","v":1},{"$f":"[LGS]+[DIVS]","v":21}]
[1997,"Trlicek, Ricky","NYN","New York Mets",177500,9,0,9,-6,8,1.6666666666666667,4,10,88,74,3.95,4377,982,1452,6.0575736806031522,8.956819739547635,1.3406442769019877,"NL-E",{"$f":"LEFT([League-Division],1)","v":"N"},{"$f":"RIGHT([League-Division],1)","v":"E"},{"$f":"IF([LG]=\"N\",10,20)","v":10},{"$f":"IF([DIV]=\"E\",1,IF([DIV]=\"C\",2,3))","v":1},{"$f":"[LGS]+[DIVS]","v":11}]
[2008,"Troncoso, Ramon","LAN","Los Angeles Dodgers",390000,32,0,38,1,4.26,1.2894736842105263,9,8.7631578947368425,84,78,3.68,4342,1205,1381,7.4930907415937362,8.5875172731460161,1.2858129894058039,"NL-W",{"$f":"LEFT([League-Division],1)","v":"N"},{"$f":"RIGHT([League-Division],1)","v":"W"},{"$f":"IF([LG]=\"N\",10,20)","v":10},{"$f":"IF([DIV]=\"E\",1,IF([DIV]=\"C\",2,3))","v":3},{"$f":"[LGS]+[DIVS]","v":13}]
[2005,"Tsao, Chin-hui","COL","Colorado Rockies",317000,10,0,11,-12,6.55,1.9090909090909092,3.2727272727272729,13.090909090909092,67,95,5.13,4256,981,1600,6.2234492481202999,10.150375939849624,1.5535714285714284,"NL-W",{"$f":"LEFT([League-Division],1)","v":"N"},{"$f":"RIGHT([League-Division],1)","v":"W"},{"$f":"IF([LG]=\"N\",10,20)","v":10},{"$f":"IF([DIV]=\"E\",1,IF([DIV]=\"C\",2,3))","v":3},{"$f":"[LGS]+[DIVS]","v":13}]
[2007,"Turnbow, Derrick","MIL","Milwaukee Brewers",2470667,77,0,68,40,4.63,1.3235294117647058,11.117647058823529,5.8235294117647065,83,79,4.41,4333,1174,1513,7.315485806600508,9.4278790676205855,1.3985691207015924,"NL-C",{"$f":"LEFT([League-Division],1)","v":"N"},{"$f":"RIGHT([League-Division],1)","v":"C"},{"$f":"IF([LG]=\"N\",10,20)","v":10},{"$f":"IF([DIV]=\"E\",1,IF([DIV]=\"C\",2,3))","v":2},{"$f":"[LGS]+[DIVS]","v":12}]
[1997,"Urbina, Ugueth","MON","Montreal Expos",175000,63,0,64.333333333333329,32,3.78,1.2590673575129534,11.751295336787567,7.2746113989637315,78,84,4.1399999999999997,4341,1138,1365,7.0780926053904638,8.4899792674498968,1.3282653766413268,"NL-E",{"$f":"LEFT([League-Division],1)","v":"N"},{"$f":"RIGHT([League-Division],1)","v":"E"},{"$f":"IF([LG]=\"N\",10,20)","v":10},{"$f":"IF([DIV]=\"E\",1,IF([DIV]=\"C\",2,3))","v":1},{"$f":"[LGS]+[DIVS]","v":11}]
[2003,"Urbina, Ugueth","TEX","Texas Rangers",4500000,39,0,38.666666666666664,8,4.1900000000000004,1.3189655172413794,9.5431034482758612,7.6810344827586219,71,91,5.67,4300,1009,1625,6.3355813953488376,10.203488372093023,1.5544186046511628,"AL-W",{"$f":"LEFT([League-Division],1)","v":"A"},{"$f":"RIGHT([League-Division],1)","v":"W"},{"$f":"IF([LG]=\"N\",10,20)","v":20},{"$f":"IF([DIV]=\"E\",1,IF([DIV]=\"C\",2,3))","v":3},{"$f":"[LGS]+[DIVS]","v":23}]
[2005,"Urbina, Ugueth","PHI","Philadelphia Phillies",4000000,56,0,52.333333333333336,31,4.13,1.1464968152866242,11.350318471337578,6.0191082802547768,88,74,4.21,4305,1159,1379,7.2689895470383279,8.6487804878048777,1.3003484320557492,"NL-E",{"$f":"LEFT([League-Division],1)","v":"N"},{"$f":"RIGHT([League-Division],1)","v":"E"},{"$f":"IF([LG]=\"N\",10,20)","v":10},{"$f":"IF([DIV]=\"E\",1,IF([DIV]=\"C\",2,3))","v":1},{"$f":"[LGS]+[DIVS]","v":11}]
[2001,"Valdez, Ismael","ANA","Anaheim Angels",2500000,27,27,163.66666666666666,-77,4.45,1.3869653767820775,5.4989816700611005,9.7331975560081467,75,87,4.2,4313,947,1452,5.9283561326223042,9.0897287271041041,1.3751449107349871,"AL-W",{"$f":"LEFT([League-Division],1)","v":"A"},{"$f":"RIGHT([League-Division],1)","v":"W"},{"$f":"IF([LG]=\"N\",10,20)","v":20},{"$f":"IF([DIV]=\"E\",1,IF([DIV]=\"C\",2,3))","v":3},{"$f":"[LGS]+[DIVS]","v":23}]
[2002,"Valdez, Ismael","SEA","Seattle Mariners",2500000,8,8,49.333333333333336,-32,4.93,1.4189189189189189,4.9256756756756754,10.763513513513512,93,69,4.07,4336,1063,1422,6.6192343173431736,8.8547047970479706,1.2889760147601477,"AL-W",{"$f":"LEFT([League-Division],1)","v":"A"},{"$f":"RIGHT([League-Division],1)","v":"W"},{"$f":"IF([LG]=\"N\",10,20)","v":20},{"$f":"IF([DIV]=\"E\",1,IF([DIV]=\"C\",2,3))","v":3},{"$f":"[LGS]+[DIVS]","v":23}]
[1998,"Valdes, Marc","MON","Montreal Expos",225000,20,4,36.333333333333336,-13,7.43,1.7064220183486238,6.9357798165137607,10.155963302752292,65,97,4.3899999999999997,4281,1017,1448,6.4141555711282408,9.1324456902592868,1.3882270497547302,"NL-E",{"$f":"LEFT([League-Division],1)","v":"N"},{"$f":"RIGHT([League-Division],1)","v":"E"},{"$f":"IF([LG]=\"N\",10,20)","v":10},{"$f":"IF([DIV]=\"E\",1,IF([DIV]=\"C\",2,3))","v":1},{"$f":"[LGS]+[DIVS]","v":11}]
[2009,"Valdez, Merkin","SFN","San Francisco Giants",401000,48,0,49.333333333333336,-19,5.66,1.7229729729729728,6.9324324324324325,10.398648648648647,88,74,3.55,4338,1302,1268,8.1037344398340245,7.8921161825726145,1.2807745504840939,"NL-W",{"$f":"LEFT([League-Division],1)","v":"N"},{"$f":"RIGHT([League-Division],1)","v":"W"},{"$f":"IF([LG]=\"N\",10,20)","v":10},{"$f":"IF([DIV]=\"E\",1,IF([DIV]=\"C\",2,3))","v":3},{"$f":"[LGS]+[DIVS]","v":13}]
[2005,"Valentine, Joe","CIN","Cincinnati Reds",320000,16,0,14.333333333333334,-9,8.16,2.0232558139534884,5.6511627906976747,11.302325581395349,73,89,5.15,4299,955,1657,5.9979064898813679,10.406838799720866,1.4996510816468946,"NL-C",{"$f":"LEFT([League-Division],1)","v":"N"},{"$f":"RIGHT([League-Division],1)","v":"C"},{"$f":"IF([LG]=\"N\",10,20)","v":10},{"$f":"IF([DIV]=\"E\",1,IF([DIV]=\"C\",2,3))","v":2},{"$f":"[LGS]+[DIVS]","v":12}]
[2008,"VandenHurk, Rick","FLO","Florida Marlins",391500,4,4,14,0,7.71,2.1428571428571428,12.857142857142858,12.857142857142858,84,77,4.4400000000000004,4306,1127,1421,7.0666511843938693,8.9101254064096622,1.3982814677194613,"NL-E",{"$f":"LEFT([League-Division],1)","v":"N"},{"$f":"RIGHT([League-Division],1)","v":"E"},{"$f":"IF([LG]=\"N\",10,20)","v":10},{"$f":"IF([DIV]=\"E\",1,IF([DIV]=\"C\",2,3))","v":1},{"$f":"[LGS]+[DIVS]","v":11}]
[1997,"Van Landingham, William","SFN","San Francisco Giants",295000,18,17,89,-28,4.96,1.5617977528089888,5.2584269662921344,8.0898876404494384,90,72,4.41,4338,1044,1494,6.4979253112033195,9.2987551867219924,1.4329183955739973,"NL-W",{"$f":"LEFT([League-Division],1)","v":"N"},{"$f":"RIGHT([League-Division],1)","v":"W"},{"$f":"IF([LG]=\"N\",10,20)","v":10},{"$f":"IF([DIV]=\"E\",1,IF([DIV]=\"C\",2,3))","v":3},{"$f":"[LGS]+[DIVS]","v":13}]
[1996,"Van Poppel, Todd","DET","Detroit Tigers",318000,9,9,36.333333333333336,-37,11.39,2.2568807339449539,3.9633027522935778,13.128440366972477,53,109,6.38,4296,957,1699,6.0146648044692741,10.678072625698325,1.7339385474860336,"AL-E",{"$f":"LEFT([League-Division],1)","v":"A"},{"$f":"RIGHT([League-Division],1)","v":"E"},{"$f":"IF([LG]=\"N\",10,20)","v":20},{"$f":"IF([DIV]=\"E\",1,IF([DIV]=\"C\",2,3))","v":1},{"$f":"[LGS]+[DIVS]","v":21}]
[1998,"Van Ryn, Ben","CHN","Chicago Cubs",170000,9,0,8,-3,3.38,1.875,6.75,10.125,90,73,4.5,4431,1207,1528,7.3547731888964121,9.3107650643195665,1.4238320920785377,"NL-C",{"$f":"LEFT([League-Division],1)","v":"N"},{"$f":"RIGHT([League-Division],1)","v":"C"},{"$f":"IF([LG]=\"N\",10,20)","v":10},{"$f":"IF([DIV]=\"E\",1,IF([DIV]=\"C\",2,3))","v":2},{"$f":"[LGS]+[DIVS]","v":12}]
[1998,"Van Ryn, Ben","SDN","San Diego Padres",170000,6,0,2.6666666666666665,-2,10.130000000000001,2.625,3.375,10.125,98,64,3.63,4363,1217,1384,7.5312858125143256,8.5647490258996104,1.2961265184506074,"NL-W",{"$f":"LEFT([League-Division],1)","v":"N"},{"$f":"RIGHT([League-Division],1)","v":"W"},{"$f":"IF([LG]=\"N\",10,20)","v":10},{"$f":"IF([DIV]=\"E\",1,IF([DIV]=\"C\",2,3))","v":3},{"$f":"[LGS]+[DIVS]","v":13}]
[2006,"Vargas, Jason","FLO","Florida Marlins",327000,12,5,43,-25,7.33,1.8604651162790697,5.2325581395348841,10.465116279069768,78,84,4.37,4300,1088,1465,6.8316279069767445,9.1988372093023258,1.4560465116279071,"NL-E",{"$f":"LEFT([League-Division],1)","v":"N"},{"$f":"RIGHT([League-Division],1)","v":"E"},{"$f":"IF([LG]=\"N\",10,20)","v":10},{"$f":"IF([DIV]=\"E\",1,IF([DIV]=\"C\",2,3))","v":1},{"$f":"[LGS]+[DIVS]","v":11}]
[2002,"Vazquez, Javier","MON","Montreal Expos",4725000,34,34,230.33333333333334,-64,3.91,1.2677279305354558,6.9942112879884224,9.4949348769898698,83,79,3.97,4359,1088,1475,6.7391603578802473,9.1362697866483131,1.364762560220234,"NL-E",{"$f":"LEFT([League-Division],1)","v":"N"},{"$f":"RIGHT([League-Division],1)","v":"E"},{"$f":"IF([LG]=\"N\",10,20)","v":10},{"$f":"IF([DIV]=\"E\",1,IF([DIV]=\"C\",2,3))","v":1},{"$f":"[LGS]+[DIVS]","v":11}]
[2005,"Vazquez, Javier","ARI","Arizona Diamondbacks",11000000,33,33,215.66666666666666,-31,4.42,1.2472952086553324,8.0123647604327672,9.3060278207109732,77,85,4.84,4369,1038,1580,6.414740215152209,9.7642481116960411,1.4536507209887848,"NL-W",{"$f":"LEFT([League-Division],1)","v":"N"},{"$f":"RIGHT([League-Division],1)","v":"W"},{"$f":"IF([LG]=\"N\",10,20)","v":10},{"$f":"IF([DIV]=\"E\",1,IF([DIV]=\"C\",2,3))","v":3},{"$f":"[LGS]+[DIVS]","v":13}]
[2001,"Venafro, Mike","TEX","Texas Rangers",310000,70,0,60,-25,4.8,1.3666666666666667,4.3499999999999996,8.1,73,89,5.71,4315,951,1670,5.9506373117033604,10.449594438006953,1.5754345307068367,"AL-W",{"$f":"LEFT([League-Division],1)","v":"A"},{"$f":"RIGHT([League-Division],1)","v":"W"},{"$f":"IF([LG]=\"N\",10,20)","v":20},{"$f":"IF([DIV]=\"E\",1,IF([DIV]=\"C\",2,3))","v":3},{"$f":"[LGS]+[DIVS]","v":23}]
[2009,"Veras, Jose","NYA","New York Yankees",432975,25,0,25.666666666666668,-5,5.96,1.4415584415584415,6.3116883116883118,8.0649350649350637,103,59,4.28,4350,1260,1386,7.8206896551724139,8.6027586206896558,1.3517241379310345,"AL-E",{"$f":"LEFT([League-Division],1)","v":"A"},{"$f":"RIGHT([League-Division],1)","v":"E"},{"$f":"IF([LG]=\"N\",10,20)","v":20},{"$f":"IF([DIV]=\"E\",1,IF([DIV]=\"C\",2,3))","v":1},{"$f":"[LGS]+[DIVS]","v":21}]
[1995,"Veres, Dave","HOU","Houston Astros",125000,72,0,103.33333333333333,5,2.2599999999999998,1.1516129032258065,8.1870967741935488,7.7516129032258068,76,68,4.0599999999999996,3960,1056,1357,7.2,9.252272727272727,1.3765151515151515,"NL-C",{"$f":"LEFT([League-Division],1)","v":"N"},{"$f":"RIGHT([League-Division],1)","v":"C"},{"$f":"IF([LG]=\"N\",10,20)","v":10},{"$f":"IF([DIV]=\"E\",1,IF([DIV]=\"C\",2,3))","v":2},{"$f":"[LGS]+[DIVS]","v":12}]
[1995,"Veres, Randy","FLO","Florida Marlins",160000,47,0,48.666666666666664,-15,3.88,1.3972602739726028,5.7328767123287667,8.506849315068493,67,76,4.2699999999999996,3858,994,1299,6.9564541213063764,9.0909797822706064,1.4471228615863141,"NL-E",{"$f":"LEFT([League-Division],1)","v":"N"},{"$f":"RIGHT([League-Division],1)","v":"E"},{"$f":"IF([LG]=\"N\",10,20)","v":10},{"$f":"IF([DIV]=\"E\",1,IF([DIV]=\"C\",2,3))","v":1},{"$f":"[LGS]+[DIVS]","v":11}]
[1996,"Veres, Randy","DET","Detroit Tigers",179000,25,0,30.333333333333332,-10,8.31,2.0109890109890109,8.3076923076923084,11.274725274725274,53,109,6.38,4296,957,1699,6.0146648044692741,10.678072625698325,1.7339385474860336,"AL-E",{"$f":"LEFT([League-Division],1)","v":"A"},{"$f":"RIGHT([League-Division],1)","v":"E"},{"$f":"IF([LG]=\"N\",10,20)","v":20},{"$f":"IF([DIV]=\"E\",1,IF([DIV]=\"C\",2,3))","v":1},{"$f":"[LGS]+[DIVS]","v":21}]
[2008,"Villanueva, Carlos","MIL","Milwaukee Brewers",413000,47,9,108.33333333333333,-19,4.07,1.3107692307692309,7.7261538461538466,9.304615384615385,90,72,3.87,4367,1110,1415,6.8628348980993819,8.7485688115411033,1.3347836043050147,"NL-C",{"$f":"LEFT([League-Division],1)","v":"N"},{"$f":"RIGHT([League-Division],1)","v":"C"},{"$f":"IF([LG]=\"N\",10,20)","v":10},{"$f":"IF([DIV]=\"E\",1,IF([DIV]=\"C\",2,3))","v":2},{"$f":"[LGS]+[DIVS]","v":12}]
[2008,"Villarreal, Oscar","HOU","Houston Astros",1125000,35,0,37.666666666666664,-21,5.0199999999999996,1.5663716814159292,5.0176991150442483,10.035398230088497,86,75,4.3899999999999997,4276,1095,1453,6.9141721234798883,9.1746959775491117,1.3645930776426567,"NL-C",{"$f":"LEFT([League-Division],1)","v":"N"},{"$f":"RIGHT([League-Division],1)","v":"C"},{"$f":"IF([LG]=\"N\",10,20)","v":10},{"$f":"IF([DIV]=\"E\",1,IF([DIV]=\"C\",2,3))","v":2},{"$f":"[LGS]+[DIVS]","v":12}]
[1996,"Villone, Ron","SDN","San Diego Padres",130000,21,0,18.333333333333332,2,2.95,1.3090909090909091,9.327272727272728,8.3454545454545457,91,71,3.73,4467,1194,1395,7.2169241101410337,8.4318334452652781,1.2766957689724647,"NL-W",{"$f":"LEFT([League-Division],1)","v":"N"},{"$f":"RIGHT([League-Division],1)","v":"W"},{"$f":"IF([LG]=\"N\",10,20)","v":10},{"$f":"IF([DIV]=\"E\",1,IF([DIV]=\"C\",2,3))","v":3},{"$f":"[LGS]+[DIVS]","v":13}]
[2005,"Villone, Ron","SEA","Seattle Mariners",1950000,52,0,40.333333333333336,8,2.4500000000000002,1.3884297520661155,9.1487603305785115,7.3636363636363633,69,93,4.49,4283,892,1483,5.6231613355124903,9.348820919915946,1.3861779126780294,"AL-W",{"$f":"LEFT([League-Division],1)","v":"A"},{"$f":"RIGHT([League-Division],1)","v":"W"},{"$f":"IF([LG]=\"N\",10,20)","v":20},{"$f":"IF([DIV]=\"E\",1,IF([DIV]=\"C\",2,3))","v":3},{"$f":"[LGS]+[DIVS]","v":23}]
[2003,"Vizcaino, Luis","MIL","Milwaukee Brewers",370000,75,0,62,-3,6.39,1.435483870967742,8.8548387096774199,9.2903225806451601,68,94,5.0199999999999996,4356,1034,1590,6.4090909090909092,9.8553719008264462,1.4910468319559229,"NL-C",{"$f":"LEFT([League-Division],1)","v":"N"},{"$f":"RIGHT([League-Division],1)","v":"C"},{"$f":"IF([LG]=\"N\",10,20)","v":10},{"$f":"IF([DIV]=\"E\",1,IF([DIV]=\"C\",2,3))","v":2},{"$f":"[LGS]+[DIVS]","v":12}]
[2006,"Vizcaino, Luis","ARI","Arizona Diamondbacks",1775000,70,0,65.333333333333329,21,3.58,1.2244897959183674,9.9183673469387763,7.0255102040816331,76,86,4.4800000000000004,4379,1115,1503,6.8748572733500799,9.2671842886503768,1.3968942680977392,"NL-W",{"$f":"LEFT([League-Division],1)","v":"N"},{"$f":"RIGHT([League-Division],1)","v":"W"},{"$f":"IF([LG]=\"N\",10,20)","v":10},{"$f":"IF([DIV]=\"E\",1,IF([DIV]=\"C\",2,3))","v":3},{"$f":"[LGS]+[DIVS]","v":13}]
[2009,"Volquez, Edinson","CIN","Cincinnati Reds",440000,9,9,49.666666666666664,13,4.3499999999999996,1.3288590604026846,8.5167785234899327,6.1610738255033555,78,84,4.18,4375,1069,1420,6.5972571428571429,8.7634285714285713,1.3693714285714287,"NL-C",{"$f":"LEFT([League-Division],1)","v":"N"},{"$f":"RIGHT([League-Division],1)","v":"C"},{"$f":"IF([LG]=\"N\",10,20)","v":10},{"$f":"IF([DIV]=\"E\",1,IF([DIV]=\"C\",2,3))","v":2},{"$f":"[LGS]+[DIVS]","v":12}]
[2010,"Volquez, Edinson","CIN","Cincinnati Reds",445000,12,12,62.666666666666664,8,4.3099999999999996,1.5,9.6223404255319167,8.4734042553191493,91,71,4.0199999999999996,4359,1130,1404,6.9993117687543016,8.6964900206469373,1.3269098417068135,"NL-C",{"$f":"LEFT([League-Division],1)","v":"N"},{"$f":"RIGHT([League-Division],1)","v":"C"},{"$f":"IF([LG]=\"N\",10,20)","v":10},{"$f":"IF([DIV]=\"E\",1,IF([DIV]=\"C\",2,3))","v":2},{"$f":"[LGS]+[DIVS]","v":12}]
[2002,"Vosberg, Ed","MON","Montreal Expos",400000,4,0,1,-3,18,4,0,27,83,79,3.97,4359,1088,1475,6.7391603578802473,9.1362697866483131,1.364762560220234,"NL-E",{"$f":"LEFT([League-Division],1)","v":"N"},{"$f":"RIGHT([League-Division],1)","v":"E"},{"$f":"IF([LG]=\"N\",10,20)","v":10},{"$f":"IF([DIV]=\"E\",1,IF([DIV]=\"C\",2,3))","v":1},{"$f":"[LGS]+[DIVS]","v":11}]
[2009,"Waechter, Doug","KCA","Kansas City Royals",640000,5,0,5.333333333333333,-6,8.44,2.25,5.0625,15.1875,65,97,4.83,4278,1153,1486,7.2769985974754556,9.3786816269284703,1.4628330995792427,"AL-C",{"$f":"LEFT([League-Division],1)","v":"A"},{"$f":"RIGHT([League-Division],1)","v":"C"},{"$f":"IF([LG]=\"N\",10,20)","v":20},{"$f":"IF([DIV]=\"E\",1,IF([DIV]=\"C\",2,3))","v":2},{"$f":"[LGS]+[DIVS]","v":22}]
[1997,"Wagner, Billy","HOU","Houston Astros",185000,62,0,66.333333333333329,57,2.85,1.1909547738693469,14.381909547738694,6.6482412060301517,84,78,3.67,4377,1138,1379,7.0198766278272791,8.5065113091158331,1.295407813570939,"NL-C",{"$f":"LEFT([League-Division],1)","v":"N"},{"$f":"RIGHT([League-Division],1)","v":"C"},{"$f":"IF([LG]=\"N\",10,20)","v":10},{"$f":"IF([DIV]=\"E\",1,IF([DIV]=\"C\",2,3))","v":2},{"$f":"[LGS]+[DIVS]","v":12}]
[2006,"Wagner, Billy","NYN","New York Mets",10500000,70,0,72.333333333333329,35,2.2400000000000002,1.1059907834101383,11.695852534562214,7.3410138248847927,97,65,4.1399999999999997,4384,1161,1402,7.1503193430656937,8.6345802919708028,1.3200273722627738,"NL-E",{"$f":"LEFT([League-Division],1)","v":"N"},{"$f":"RIGHT([League-Division],1)","v":"E"},{"$f":"IF([LG]=\"N\",10,20)","v":10},{"$f":"IF([DIV]=\"E\",1,IF([DIV]=\"C\",2,3))","v":1},{"$f":"[LGS]+[DIVS]","v":11}]
[1996,"Wagner, Paul","PIT","Pittsburgh Pirates",275000,16,15,81.666666666666671,-5,5.4,1.5306122448979591,8.9265306122448962,9.4775510204081623,73,89,4.6399999999999997,4360,1044,1602,6.4651376146789001,9.9206422018348626,1.4318807339449542,"NL-C",{"$f":"LEFT([League-Division],1)","v":"N"},{"$f":"RIGHT([League-Division],1)","v":"C"},{"$f":"IF([LG]=\"N\",10,20)","v":10},{"$f":"IF([DIV]=\"E\",1,IF([DIV]=\"C\",2,3))","v":2},{"$f":"[LGS]+[DIVS]","v":12}]
[1998,"Wagner, Paul","MIL","Milwaukee Brewers",450000,13,9,55.666666666666664,-30,7.11,1.7604790419161678,5.9820359281437128,10.832335329341317,74,88,4.63,4353,1063,1538,6.5933838731909029,9.5396278428669881,1.4390075809786353,"NL-C",{"$f":"LEFT([League-Division],1)","v":"N"},{"$f":"RIGHT([League-Division],1)","v":"C"},{"$f":"IF([LG]=\"N\",10,20)","v":10},{"$f":"IF([DIV]=\"E\",1,IF([DIV]=\"C\",2,3))","v":2},{"$f":"[LGS]+[DIVS]","v":12}]
[2006,"Wainwright, Adam","SLN","St. Louis Cardinals",327000,61,0,75,8,3.12,1.1466666666666667,8.64,7.6800000000000006,83,78,4.54,4289,970,1475,6.106318489158312,9.2853812077407323,1.3842387502914431,"NL-C",{"$f":"LEFT([League-Division],1)","v":"N"},{"$f":"RIGHT([League-Division],1)","v":"C"},{"$f":"IF([LG]=\"N\",10,20)","v":10},{"$f":"IF([DIV]=\"E\",1,IF([DIV]=\"C\",2,3))","v":2},{"$f":"[LGS]+[DIVS]","v":12}]
[2009,"Wainwright, Adam","SLN","St. Louis Cardinals",2787500,34,34,233,-4,2.63,1.2103004291845494,8.1888412017167376,8.3433476394849784,91,71,3.66,4322,1049,1407,6.5532161036557142,8.789680703378064,1.2959278111985191,"NL-C",{"$f":"LEFT([League-Division],1)","v":"N"},{"$f":"RIGHT([League-Division],1)","v":"C"},{"$f":"IF([LG]=\"N\",10,20)","v":10},{"$f":"IF([DIV]=\"E\",1,IF([DIV]=\"C\",2,3))","v":2},{"$f":"[LGS]+[DIVS]","v":12}]
[2002,"Wakefield, Tim","BOS","Boston Red Sox",3200000,45,15,163.33333333333334,13,2.81,1.0530612244897959,7.3836734693877544,6.66734693877551,93,69,3.75,4338,1157,1339,7.2012448132780085,8.3340248962655608,1.223374827109267,"AL-E",{"$f":"LEFT([League-Division],1)","v":"A"},{"$f":"RIGHT([League-Division],1)","v":"E"},{"$f":"IF([LG]=\"N\",10,20)","v":20},{"$f":"IF([DIV]=\"E\",1,IF([DIV]=\"C\",2,3))","v":1},{"$f":"[LGS]+[DIVS]","v":21}]
[2009,"Wakefield, Tim","BOS","Boston Red Sox",4000000,21,21,129.66666666666666,-65,4.58,1.4421593830334192,4.9974293059125969,9.5089974293059143,95,67,4.3499999999999996,4310,1230,1494,7.7053364269141529,9.3591647331786536,1.4088167053364269,"AL-E",{"$f":"LEFT([League-Division],1)","v":"A"},{"$f":"RIGHT([League-Division],1)","v":"E"},{"$f":"IF([LG]=\"N\",10,20)","v":20},{"$f":"IF([DIV]=\"E\",1,IF([DIV]=\"C\",2,3))","v":1},{"$f":"[LGS]+[DIVS]","v":21}]
[1998,"Walker, Jamie","KCA","Kansas City Royals",205000,6,2,17.333333333333332,-15,9.8699999999999992,1.903846153846154,7.7884615384615383,15.576923076923077,72,89,5.16,4308,999,1590,6.2611420612813378,9.9651810584958209,1.5027855153203342,"AL-C",{"$f":"LEFT([League-Division],1)","v":"A"},{"$f":"RIGHT([League-Division],1)","v":"C"},{"$f":"IF([LG]=\"N\",10,20)","v":20},{"$f":"IF([DIV]=\"E\",1,IF([DIV]=\"C\",2,3))","v":2},{"$f":"[LGS]+[DIVS]","v":22}]
[2002,"Walker, Kevin","SDN","San Diego Padres",267000,11,0,8,-1,5.63,2.125,12.375,13.5,66,96,4.62,4309,1108,1522,6.9426781155720585,9.5367834764446506,1.4648410304014854,"NL-W",{"$f":"LEFT([League-Division],1)","v":"N"},{"$f":"RIGHT([League-Division],1)","v":"W"},{"$f":"IF([LG]=\"N\",10,20)","v":10},{"$f":"IF([DIV]=\"E\",1,IF([DIV]=\"C\",2,3))","v":3},{"$f":"[LGS]+[DIVS]","v":13}]
[2006,"Walker, Pete","TOR","Toronto Blue Jays",650000,23,0,30,-10,5.4,1.6666666666666667,8.1,11.100000000000001,87,75,4.37,4285,1076,1447,6.7799299883313893,9.1176196032672117,1.3659276546091015,"AL-E",{"$f":"LEFT([League-Division],1)","v":"A"},{"$f":"RIGHT([League-Division],1)","v":"E"},{"$f":"IF([LG]=\"N\",10,20)","v":20},{"$f":"IF([DIV]=\"E\",1,IF([DIV]=\"C\",2,3))","v":1},{"$f":"[LGS]+[DIVS]","v":21}]
[2006,"Walker, Tyler","TBA","Tampa Bay Devil Rays",387000,20,0,20,-2,4.95,1.25,7.2,8.1,61,101,4.96,4261,979,1600,6.2034733630603149,10.13846514902605,1.5531565360244075,"AL-E",{"$f":"LEFT([League-Division],1)","v":"A"},{"$f":"RIGHT([League-Division],1)","v":"E"},{"$f":"IF([LG]=\"N\",10,20)","v":20},{"$f":"IF([DIV]=\"E\",1,IF([DIV]=\"C\",2,3))","v":1},{"$f":"[LGS]+[DIVS]","v":21}]
[1995,"Wall, Donne","HOU","Houston Astros",109000,6,5,24.333333333333332,-17,5.55,1.5616438356164384,5.9178082191780828,12.205479452054796,76,68,4.0599999999999996,3960,1056,1357,7.2,9.252272727272727,1.3765151515151515,"NL-C",{"$f":"LEFT([League-Division],1)","v":"N"},{"$f":"RIGHT([League-Division],1)","v":"C"},{"$f":"IF([LG]=\"N\",10,20)","v":10},{"$f":"IF([DIV]=\"E\",1,IF([DIV]=\"C\",2,3))","v":2},{"$f":"[LGS]+[DIVS]","v":12}]
[1999,"Wall, Donne","SDN","San Diego Padres",275000,55,0,70.333333333333329,-5,3.07,1.1516587677725119,6.781990521327014,7.4218009478672995,74,88,4.47,4260,1078,1454,6.8323943661971827,9.2154929577464788,1.3964788732394366,"NL-W",{"$f":"LEFT([League-Division],1)","v":"N"},{"$f":"RIGHT([League-Division],1)","v":"W"},{"$f":"IF([LG]=\"N\",10,20)","v":10},{"$f":"IF([DIV]=\"E\",1,IF([DIV]=\"C\",2,3))","v":3},{"$f":"[LGS]+[DIVS]","v":13}]
[1999,"Ward, Bryan","CHA","Chicago White Sox",215000,40,0,39.333333333333336,-28,7.55,1.8813559322033897,8.0084745762711869,14.415254237288135,75,86,4.92,4314,968,1608,6.0584144645340752,10.063977746870652,1.5326842837273991,"AL-C",{"$f":"LEFT([League-Division],1)","v":"A"},{"$f":"RIGHT([League-Division],1)","v":"C"},{"$f":"IF([LG]=\"N\",10,20)","v":20},{"$f":"IF([DIV]=\"E\",1,IF([DIV]=\"C\",2,3))","v":2},{"$f":"[LGS]+[DIVS]","v":22}]
[1999,"Wasdin, John","BOS","Boston Red Sox",500000,45,0,74.333333333333329,-9,4.12,1.1300448430493275,6.9013452914798217,7.9910313901345296,94,68,4,4309,1131,1396,7.0867950800649808,8.7472731492225577,1.2984451148758414,"AL-E",{"$f":"LEFT([League-Division],1)","v":"A"},{"$f":"RIGHT([League-Division],1)","v":"E"},{"$f":"IF([LG]=\"N\",10,20)","v":20},{"$f":"IF([DIV]=\"E\",1,IF([DIV]=\"C\",2,3))","v":1},{"$f":"[LGS]+[DIVS]","v":21}]
[2001,"Wasdin, John","BAL","Baltimore Orioles",975000,26,0,49.666666666666664,-7,4.17,1.4093959731543624,8.5167785234899327,9.7852348993288594,63,98,4.67,4297,938,1504,5.8938794507796137,9.4503141726786133,1.4186641843146381,"AL-E",{"$f":"LEFT([League-Division],1)","v":"A"},{"$f":"RIGHT([League-Division],1)","v":"E"},{"$f":"IF([LG]=\"N\",10,20)","v":20},{"$f":"IF([DIV]=\"E\",1,IF([DIV]=\"C\",2,3))","v":1},{"$f":"[LGS]+[DIVS]","v":21}]
[2003,"Washburn, Jarrod","ANA","Anaheim Angels",3875000,32,32,207.33333333333334,-87,4.43,1.2491961414790995,5.122186495176849,8.8987138263665599,77,85,4.28,4294,980,1444,6.1620866325104799,9.0796460176991154,1.3483931066604564,"AL-W",{"$f":"LEFT([League-Division],1)","v":"A"},{"$f":"RIGHT([League-Division],1)","v":"W"},{"$f":"IF([LG]=\"N\",10,20)","v":20},{"$f":"IF([DIV]=\"E\",1,IF([DIV]=\"C\",2,3))","v":3},{"$f":"[LGS]+[DIVS]","v":23}]
[1995,"Watson, Allen","SLN","St. Louis Cardinals",155000,21,19,114.33333333333333,-77,4.96,1.4606413994169096,3.8571428571428577,9.9183673469387763,62,81,4.09,3795,842,1290,5.9905138339920949,9.1778656126482225,1.3715415019762847,"NL-C",{"$f":"LEFT([League-Division],1)","v":"N"},{"$f":"RIGHT([League-Division],1)","v":"C"},{"$f":"IF([LG]=\"N\",10,20)","v":10},{"$f":"IF([DIV]=\"E\",1,IF([DIV]=\"C\",2,3))","v":2},{"$f":"[LGS]+[DIVS]","v":12}]
[1998,"Watson, Allen","ANA","Anaheim Angels",2900000,28,14,92.333333333333329,-58,6.04,1.6895306859205776,6.2382671480144412,11.891696750902529,85,77,4.49,4332,1091,1481,6.7998614958448744,9.2306094182825476,1.4619113573407203,"AL-W",{"$f":"LEFT([League-Division],1)","v":"A"},{"$f":"RIGHT([League-Division],1)","v":"W"},{"$f":"IF([LG]=\"N\",10,20)","v":20},{"$f":"IF([DIV]=\"E\",1,IF([DIV]=\"C\",2,3))","v":3},{"$f":"[LGS]+[DIVS]","v":23}]
[2000,"Watson, Allen","NYA","New York Yankees",1300000,17,0,22,-10,10.23,2.1818181818181817,8.1818181818181817,12.272727272727272,87,74,4.76,4272,1040,1458,6.5730337078651688,9.2148876404494384,1.4290730337078652,"AL-E",{"$f":"LEFT([League-Division],1)","v":"A"},{"$f":"RIGHT([League-Division],1)","v":"E"},{"$f":"IF([LG]=\"N\",10,20)","v":20},{"$f":"IF([DIV]=\"E\",1,IF([DIV]=\"C\",2,3))","v":1},{"$f":"[LGS]+[DIVS]","v":21}]
[1995,"Weathers, Dave","FLO","Florida Marlins",157500,28,15,90.333333333333329,-44,5.98,1.7269372693726939,5.9778597785977858,10.361623616236164,67,76,4.2699999999999996,3858,994,1299,6.9564541213063764,9.0909797822706064,1.4471228615863141,"NL-E",{"$f":"LEFT([League-Division],1)","v":"N"},{"$f":"RIGHT([League-Division],1)","v":"E"},{"$f":"IF([LG]=\"N\",10,20)","v":10},{"$f":"IF([DIV]=\"E\",1,IF([DIV]=\"C\",2,3))","v":1},{"$f":"[LGS]+[DIVS]","v":11}]
[2001,"Weathers, Dave","MIL","Milwaukee Brewers",1200000,52,0,57.666666666666664,9,2.0299999999999998,1.0751445086705202,7.1791907514450868,5.7745664739884397,68,94,4.6399999999999997,4309,1057,1452,6.6231144116964495,9.0981666279879327,1.4752842886980739,"NL-C",{"$f":"LEFT([League-Division],1)","v":"N"},{"$f":"RIGHT([League-Division],1)","v":"C"},{"$f":"IF([LG]=\"N\",10,20)","v":10},{"$f":"IF([DIV]=\"E\",1,IF([DIV]=\"C\",2,3))","v":2},{"$f":"[LGS]+[DIVS]","v":12}]
[2005,"Weathers, Dave","CIN","Cincinnati Reds",1250000,73,0,77.666666666666671,-10,3.94,1.2875536480686693,7.0686695278969953,8.2274678111587978,73,89,5.15,4299,955,1657,5.9979064898813679,10.406838799720866,1.4996510816468946,"NL-C",{"$f":"LEFT([League-Division],1)","v":"N"},{"$f":"RIGHT([League-Division],1)","v":"C"},{"$f":"IF([LG]=\"N\",10,20)","v":10},{"$f":"IF([DIV]=\"E\",1,IF([DIV]=\"C\",2,3))","v":2},{"$f":"[LGS]+[DIVS]","v":12}]
[2008,"Weathers, Dave","CIN","Cincinnati Reds",3300000,72,0,69.333333333333329,-30,3.25,1.528846153846154,5.9711538461538467,9.8653846153846168,74,88,4.55,4327,1227,1542,7.6563438872197835,9.6219089438409995,1.4552807950080888,"NL-C",{"$f":"LEFT([League-Division],1)","v":"N"},{"$f":"RIGHT([League-Division],1)","v":"C"},{"$f":"IF([LG]=\"N\",10,20)","v":10},{"$f":"IF([DIV]=\"E\",1,IF([DIV]=\"C\",2,3))","v":2},{"$f":"[LGS]+[DIVS]","v":12}]
[2002,"Weaver, Jeff","NYA","New York Yankees",2350000,15,8,78,-24,4.04,1.2307692307692308,6.5769230769230766,9.3461538461538467,103,58,3.87,4356,1135,1441,7.035123966942149,8.9318181818181817,1.2699724517906337,"AL-E",{"$f":"LEFT([League-Division],1)","v":"A"},{"$f":"RIGHT([League-Division],1)","v":"E"},{"$f":"IF([LG]=\"N\",10,20)","v":20},{"$f":"IF([DIV]=\"E\",1,IF([DIV]=\"C\",2,3))","v":1},{"$f":"[LGS]+[DIVS]","v":21}]
[2008,"Weaver, Jered","LAA","Los Angeles Angels of Anaheim",435000,30,30,176.66666666666666,-21,4.33,1.2849056603773585,7.7433962264150944,8.8132075471698119,100,62,4,4354,1106,1455,6.8585209003215439,9.0227377124483237,1.3174092788240699,"AL-W",{"$f":"LEFT([League-Division],1)","v":"A"},{"$f":"RIGHT([League-Division],1)","v":"W"},{"$f":"IF([LG]=\"N\",10,20)","v":20},{"$f":"IF([DIV]=\"E\",1,IF([DIV]=\"C\",2,3))","v":3},{"$f":"[LGS]+[DIVS]","v":23}]
[2004,"Webb, Brandon","ARI","Arizona Diamondbacks",335000,35,35,208,-30,3.59,1.5048076923076923,7.0961538461538458,8.3942307692307701,51,111,4.9800000000000004,4308,1153,1480,7.2263231197771587,9.2757660167130922,1.4958217270194987,"NL-W",{"$f":"LEFT([League-Division],1)","v":"N"},{"$f":"RIGHT([League-Division],1)","v":"W"},{"$f":"IF([LG]=\"N\",10,20)","v":10},{"$f":"IF([DIV]=\"E\",1,IF([DIV]=\"C\",2,3))","v":3},{"$f":"[LGS]+[DIVS]","v":13}]
[2000,"Weber, Ben","ANA","Anaheim Angels",200000,10,0,14.666666666666666,-4,1.84,0.95454545454545459,4.9090909090909101,7.3636363636363642,82,80,5,4344,846,1534,5.2582872928176796,9.5345303867403324,1.5165745856353592,"AL-W",{"$f":"LEFT([League-Division],1)","v":"A"},{"$f":"RIGHT([League-Division],1)","v":"W"},{"$f":"IF([LG]=\"N\",10,20)","v":20},{"$f":"IF([DIV]=\"E\",1,IF([DIV]=\"C\",2,3))","v":3},{"$f":"[LGS]+[DIVS]","v":23}]
[2003,"Weber, Ben","ANA","Anaheim Angels",375000,62,0,80.333333333333329,-38,2.69,1.3195020746887967,5.1535269709543572,9.4107883817427389,77,85,4.28,4294,980,1444,6.1620866325104799,9.0796460176991154,1.3483931066604564,"AL-W",{"$f":"LEFT([League-Division],1)","v":"A"},{"$f":"RIGHT([League-Division],1)","v":"W"},{"$f":"IF([LG]=\"N\",10,20)","v":20},{"$f":"IF([DIV]=\"E\",1,IF([DIV]=\"C\",2,3))","v":3},{"$f":"[LGS]+[DIVS]","v":23}]
[2007,"Wellemeyer, Todd","SLN","St. Louis Cardinals",635000,20,11,63.666666666666664,-1,3.11,1.2722513089005236,7.2094240837696333,7.350785340314137,78,84,4.6500000000000004,4307,945,1514,5.9240770838170418,9.4910610633851853,1.4091014627350824,"NL-C",{"$f":"LEFT([League-Division],1)","v":"N"},{"$f":"RIGHT([League-Division],1)","v":"C"},{"$f":"IF([LG]=\"N\",10,20)","v":10},{"$f":"IF([DIV]=\"E\",1,IF([DIV]=\"C\",2,3))","v":2},{"$f":"[LGS]+[DIVS]","v":12}]
[1998,"Wells, Bob","SEA","Seattle Mariners",475000,30,0,51.666666666666664,-25,6.1,1.3548387096774195,5.0516129032258066,9.4064516129032256,76,85,4.95,4272,1156,1530,7.3061797752808992,9.6699438202247183,1.4452247191011236,"AL-W",{"$f":"LEFT([League-Division],1)","v":"A"},{"$f":"RIGHT([League-Division],1)","v":"W"},{"$f":"IF([LG]=\"N\",10,20)","v":20},{"$f":"IF([DIV]=\"E\",1,IF([DIV]=\"C\",2,3))","v":3},{"$f":"[LGS]+[DIVS]","v":23}]
[2000,"Wells, Bob","MIN","Minnesota Twins",210000,76,0,86.333333333333329,-4,3.65,1.1003861003861004,7.9227799227799229,8.3397683397683409,69,93,5.15,4297,1042,1634,6.5473586222946247,10.267163137072377,1.5010472422620433,"AL-C",{"$f":"LEFT([League-Division],1)","v":"A"},{"$f":"RIGHT([League-Division],1)","v":"C"},{"$f":"IF([LG]=\"N\",10,20)","v":20},{"$f":"IF([DIV]=\"E\",1,IF([DIV]=\"C\",2,3))","v":2},{"$f":"[LGS]+[DIVS]","v":22}]
[1998,"Wells, David","NYA","New York Yankees",4666666,30,30,214.33333333333334,-32,3.49,1.0451010886469674,6.8444790046656294,8.1881804043545863,114,48,3.82,4369,1080,1357,6.6742961776150151,8.3861295490959034,1.251773861295491,"AL-E",{"$f":"LEFT([League-Division],1)","v":"A"},{"$f":"RIGHT([League-Division],1)","v":"E"},{"$f":"IF([LG]=\"N\",10,20)","v":20},{"$f":"IF([DIV]=\"E\",1,IF([DIV]=\"C\",2,3))","v":1},{"$f":"[LGS]+[DIVS]","v":21}]
[2006,"Wells, David","SDN","San Diego Padres",4075000,5,5,28.333333333333332,-19,3.49,1.3058823529411765,4.447058823529412,10.482352941176471,88,74,3.87,4391,1097,1385,6.7453882942382144,8.5162833067638335,1.265998633568663,"NL-W",{"$f":"LEFT([League-Division],1)","v":"N"},{"$f":"RIGHT([League-Division],1)","v":"W"},{"$f":"IF([LG]=\"N\",10,20)","v":10},{"$f":"IF([DIV]=\"E\",1,IF([DIV]=\"C\",2,3))","v":3},{"$f":"[LGS]+[DIVS]","v":13}]
[2002,"Wells, Kip","PIT","Pittsburgh Pirates",272500,33,33,198.33333333333334,-63,3.58,1.3512605042016805,6.0806722689075627,8.9394957983193262,72,89,4.2300000000000004,4238,920,1447,5.8612553091080688,9.2187352524775825,1.4292118924020765,"NL-C",{"$f":"LEFT([League-Division],1)","v":"N"},{"$f":"RIGHT([League-Division],1)","v":"C"},{"$f":"IF([LG]=\"N\",10,20)","v":10},{"$f":"IF([DIV]=\"E\",1,IF([DIV]=\"C\",2,3))","v":2},{"$f":"[LGS]+[DIVS]","v":12}]
[2008,"Wells, Kip","COL","Colorado Rockies",3100000,15,2,27.333333333333332,-7,5.27,1.7560975609756098,7.2439024390243905,9.5487804878048781,74,88,4.7699999999999996,4338,1041,1547,6.4792531120331951,9.6286307053941904,1.45850622406639,"NL-W",{"$f":"LEFT([League-Division],1)","v":"N"},{"$f":"RIGHT([League-Division],1)","v":"W"},{"$f":"IF([LG]=\"N\",10,20)","v":10},{"$f":"IF([DIV]=\"E\",1,IF([DIV]=\"C\",2,3))","v":3},{"$f":"[LGS]+[DIVS]","v":13}]
[1995,"Wendell, Turk","CHN","Chicago Cubs",112000,43,0,60.333333333333336,-21,4.92,1.5745856353591159,7.458563535911602,10.591160220994475,73,71,4.13,3903,926,1313,6.4058416602613368,9.0830130668716365,1.4073789392774789,"NL-C",{"$f":"LEFT([League-Division],1)","v":"N"},{"$f":"RIGHT([League-Division],1)","v":"C"},{"$f":"IF([LG]=\"N\",10,20)","v":10},{"$f":"IF([DIV]=\"E\",1,IF([DIV]=\"C\",2,3))","v":2},{"$f":"[LGS]+[DIVS]","v":12}]
[2001,"Wendell, Turk","NYN","New York Mets",3100000,49,0,51.333333333333336,-1,3.51,1.2467532467532467,7.1883116883116882,7.3636363636363633,82,80,4.07,4337,1191,1418,7.4145722849896236,8.8277611252017518,1.2838367535162554,"NL-E",{"$f":"LEFT([League-Division],1)","v":"N"},{"$f":"RIGHT([League-Division],1)","v":"E"},{"$f":"IF([LG]=\"N\",10,20)","v":10},{"$f":"IF([DIV]=\"E\",1,IF([DIV]=\"C\",2,3))","v":1},{"$f":"[LGS]+[DIVS]","v":11}]
[1999,"Wengert, Don","KCA","Kansas City Royals",260000,11,1,24.333333333333332,-31,9.25,1.8904109589041096,3.6986301369863015,15.164383561643836,64,97,5.35,4261,831,1607,5.265665336775406,10.182820934053041,1.5841351795353205,"AL-C",{"$f":"LEFT([League-Division],1)","v":"A"},{"$f":"RIGHT([League-Division],1)","v":"C"},{"$f":"IF([LG]=\"N\",10,20)","v":20},{"$f":"IF([DIV]=\"E\",1,IF([DIV]=\"C\",2,3))","v":2},{"$f":"[LGS]+[DIVS]","v":22}]
[2004,"Westbrook, Jake","CLE","Cleveland Indians",925000,33,30,215.66666666666666,-92,3.38,1.2472952086553324,4.8408037094281298,8.6800618238021645,80,82,4.8099999999999996,4400,1115,1553,6.8420454545454534,9.5297727272727268,1.4536363636363636,"AL-C",{"$f":"LEFT([League-Division],1)","v":"A"},{"$f":"RIGHT([League-Division],1)","v":"C"},{"$f":"IF([LG]=\"N\",10,20)","v":20},{"$f":"IF([DIV]=\"E\",1,IF([DIV]=\"C\",2,3))","v":2},{"$f":"[LGS]+[DIVS]","v":22}]
[1995,"West, David","PHI","Philadelphia Phillies",950000,8,8,38,-9,3.79,1.3947368421052631,5.9210526315789478,8.0526315789473681,69,75,4.21,3870,980,1241,6.8372093023255811,8.6581395348837216,1.3790697674418604,"NL-E",{"$f":"LEFT([League-Division],1)","v":"N"},{"$f":"RIGHT([League-Division],1)","v":"E"},{"$f":"IF([LG]=\"N\",10,20)","v":10},{"$f":"IF([DIV]=\"E\",1,IF([DIV]=\"C\",2,3))","v":1},{"$f":"[LGS]+[DIVS]","v":11}]
[2004,"Wheeler, Dan","NYN","New York Mets",311500,32,1,50.666666666666664,-19,4.8,1.618421052631579,8.1710526315789487,11.546052631578949,71,91,4.09,4347,977,1452,6.0683229813664594,9.0186335403726705,1.4106280193236715,"NL-E",{"$f":"LEFT([League-Division],1)","v":"N"},{"$f":"RIGHT([League-Division],1)","v":"E"},{"$f":"IF([LG]=\"N\",10,20)","v":10},{"$f":"IF([DIV]=\"E\",1,IF([DIV]=\"C\",2,3))","v":1},{"$f":"[LGS]+[DIVS]","v":11}]
[2006,"Wheeler, Dan","HOU","Houston Astros",930000,75,0,71.333333333333329,10,2.52,1.1495327102803738,8.5794392523364493,7.3177570093457955,82,80,4.08,4406,1160,1425,7.1084884248751701,8.7324103495233771,1.2970948706309577,"NL-C",{"$f":"LEFT([League-Division],1)","v":"N"},{"$f":"RIGHT([League-Division],1)","v":"C"},{"$f":"IF([LG]=\"N\",10,20)","v":10},{"$f":"IF([DIV]=\"E\",1,IF([DIV]=\"C\",2,3))","v":2},{"$f":"[LGS]+[DIVS]","v":12}]
[1997,"Whisenant, Matt","FLO","Florida Marlins",150000,4,0,2.6666666666666665,0,16.88,3.75,13.5,13.5,92,70,3.83,4338,1188,1353,7.3941908713692941,8.4211618257261414,1.3775933609958506,"NL-E",{"$f":"LEFT([League-Division],1)","v":"N"},{"$f":"RIGHT([League-Division],1)","v":"E"},{"$f":"IF([LG]=\"N\",10,20)","v":10},{"$f":"IF([DIV]=\"E\",1,IF([DIV]=\"C\",2,3))","v":1},{"$f":"[LGS]+[DIVS]","v":11}]
[1998,"Whisenant, Matt","KCA","Kansas City Royals",185000,70,0,60.666666666666664,-16,4.9000000000000004,1.5494505494505495,6.6758241758241761,9.0494505494505493,72,89,5.16,4308,999,1590,6.2611420612813378,9.9651810584958209,1.5027855153203342,"AL-C",{"$f":"LEFT([League-Division],1)","v":"A"},{"$f":"RIGHT([League-Division],1)","v":"C"},{"$f":"IF([LG]=\"N\",10,20)","v":20},{"$f":"IF([DIV]=\"E\",1,IF([DIV]=\"C\",2,3))","v":2},{"$f":"[LGS]+[DIVS]","v":22}]
[1999,"White, Gabe","CIN","Cincinnati Reds",300000,50,0,61,-7,4.43,1.3442622950819672,9,10.032786885245901,96,67,3.99,4384,1081,1309,6.6576186131386867,8.061815693430658,1.3309762773722629,"NL-C",{"$f":"LEFT([League-Division],1)","v":"N"},{"$f":"RIGHT([League-Division],1)","v":"C"},{"$f":"IF([LG]=\"N\",10,20)","v":10},{"$f":"IF([DIV]=\"E\",1,IF([DIV]=\"C\",2,3))","v":2},{"$f":"[LGS]+[DIVS]","v":12}]
[1998,"Whiten, Mark","CLE","Cleveland Indians",200000,1,0,1,2,9,3,27,9,89,73,4.45,4380,1037,1552,6.3924657534246574,9.5671232876712331,1.4486301369863013,"AL-C",{"$f":"LEFT([League-Division],1)","v":"A"},{"$f":"RIGHT([League-Division],1)","v":"C"},{"$f":"IF([LG]=\"N\",10,20)","v":20},{"$f":"IF([DIV]=\"E\",1,IF([DIV]=\"C\",2,3))","v":2},{"$f":"[LGS]+[DIVS]","v":22}]
[1997,"Whiteside, Matt","TEX","Texas Rangers",375000,42,1,72.666666666666671,-41,5.08,1.5275229357798163,5.4495412844036686,10.527522935779816,77,85,4.68,4289,925,1598,5.8230356726509669,10.059687572860806,1.4961529494054557,"AL-W",{"$f":"LEFT([League-Division],1)","v":"A"},{"$f":"RIGHT([League-Division],1)","v":"W"},{"$f":"IF([LG]=\"N\",10,20)","v":20},{"$f":"IF([DIV]=\"E\",1,IF([DIV]=\"C\",2,3))","v":3},{"$f":"[LGS]+[DIVS]","v":23}]
[2000,"White, Rick","TBA","Tampa Bay Devil Rays",610000,44,0,71.333333333333329,-10,3.41,1.1635514018691591,5.9299065420560746,7.1915887850467293,69,92,4.8600000000000003,4293,955,1553,6.0062893081761004,9.7672955974842761,1.4577218728162125,"AL-E",{"$f":"LEFT([League-Division],1)","v":"A"},{"$f":"RIGHT([League-Division],1)","v":"E"},{"$f":"IF([LG]=\"N\",10,20)","v":20},{"$f":"IF([DIV]=\"E\",1,IF([DIV]=\"C\",2,3))","v":1},{"$f":"[LGS]+[DIVS]","v":21}]
[2006,"White, Rick","PHI","Philadelphia Phillies",600000,38,0,37.333333333333336,-15,4.34,1.419642857142857,5.5446428571428568,9.1607142857142847,85,77,4.5999999999999996,4381,1138,1561,7.0134672449212516,9.6204062999315223,1.4195389180552387,"NL-E",{"$f":"LEFT([League-Division],1)","v":"N"},{"$f":"RIGHT([League-Division],1)","v":"E"},{"$f":"IF([LG]=\"N\",10,20)","v":10},{"$f":"IF([DIV]=\"E\",1,IF([DIV]=\"C\",2,3))","v":1},{"$f":"[LGS]+[DIVS]","v":11}]
[2007,"White, Rick","HOU","Houston Astros",600000,23,0,29.333333333333332,-21,7.67,1.7045454545454546,4.6022727272727275,11.045454545454545,73,89,4.68,4394,1109,1566,6.8145197997268996,9.6226672735548462,1.417387346381429,"NL-C",{"$f":"LEFT([League-Division],1)","v":"N"},{"$f":"RIGHT([League-Division],1)","v":"C"},{"$f":"IF([LG]=\"N\",10,20)","v":10},{"$f":"IF([DIV]=\"E\",1,IF([DIV]=\"C\",2,3))","v":2},{"$f":"[LGS]+[DIVS]","v":12}]
[1996,"Wickman, Bob","NYA","New York Yankees",850000,58,0,79,-33,4.67,1.620253164556962,6.9493670886075947,10.708860759493669,92,70,4.6500000000000004,4320,1139,1469,7.1187499999999995,9.1812500000000004,1.4437500000000001,"AL-E",{"$f":"LEFT([League-Division],1)","v":"A"},{"$f":"RIGHT([League-Division],1)","v":"E"},{"$f":"IF([LG]=\"N\",10,20)","v":20},{"$f":"IF([DIV]=\"E\",1,IF([DIV]=\"C\",2,3))","v":1},{"$f":"[LGS]+[DIVS]","v":21}]
[1998,"Wickman, Bob","MIL","Milwaukee Brewers",1532000,72,0,82.333333333333329,-8,3.72,1.4331983805668016,7.7611336032388669,8.6356275303643724,74,88,4.63,4353,1063,1538,6.5933838731909029,9.5396278428669881,1.4390075809786353,"NL-C",{"$f":"LEFT([League-Division],1)","v":"N"},{"$f":"RIGHT([League-Division],1)","v":"C"},{"$f":"IF([LG]=\"N\",10,20)","v":10},{"$f":"IF([DIV]=\"E\",1,IF([DIV]=\"C\",2,3))","v":2},{"$f":"[LGS]+[DIVS]","v":12}]
[2005,"Wickman, Bob","CLE","Cleveland Indians",2750000,64,0,62,-16,2.4700000000000002,1.2580645161290323,5.9516129032258061,8.2741935483870961,93,69,3.61,4358,1050,1363,6.505277650298301,8.4444699403396051,1.2225791647544744,"AL-C",{"$f":"LEFT([League-Division],1)","v":"A"},{"$f":"RIGHT([League-Division],1)","v":"C"},{"$f":"IF([LG]=\"N\",10,20)","v":20},{"$f":"IF([DIV]=\"E\",1,IF([DIV]=\"C\",2,3))","v":2},{"$f":"[LGS]+[DIVS]","v":22}]
[2000,"Wilkins, Marc","PIT","Pittsburgh Pirates",750000,52,0,60.333333333333336,-17,5.07,1.6077348066298343,5.5193370165745854,8.05524861878453,69,93,4.93,4347,1070,1554,6.645962732919255,9.6521739130434785,1.5631469979296067,"NL-C",{"$f":"LEFT([League-Division],1)","v":"N"},{"$f":"RIGHT([League-Division],1)","v":"C"},{"$f":"IF([LG]=\"N\",10,20)","v":10},{"$f":"IF([DIV]=\"E\",1,IF([DIV]=\"C\",2,3))","v":2},{"$f":"[LGS]+[DIVS]","v":12}]
[1996,"Williams, Brian","DET","Detroit Tigers",500000,40,17,121,-73,6.77,1.9008264462809918,5.3553719008264462,10.785123966942148,53,109,6.38,4296,957,1699,6.0146648044692741,10.678072625698325,1.7339385474860336,"AL-E",{"$f":"LEFT([League-Division],1)","v":"A"},{"$f":"RIGHT([League-Division],1)","v":"E"},{"$f":"IF([LG]=\"N\",10,20)","v":20},{"$f":"IF([DIV]=\"E\",1,IF([DIV]=\"C\",2,3))","v":1},{"$f":"[LGS]+[DIVS]","v":21}]
[2006,"Williams, Dave","NYN","New York Mets",1400000,6,5,29,-23,5.59,1.4827586206896552,4.9655172413793105,12.103448275862069,97,65,4.1399999999999997,4384,1161,1402,7.1503193430656937,8.6345802919708028,1.3200273722627738,"NL-E",{"$f":"LEFT([League-Division],1)","v":"N"},{"$f":"RIGHT([League-Division],1)","v":"E"},{"$f":"IF([LG]=\"N\",10,20)","v":10},{"$f":"IF([DIV]=\"E\",1,IF([DIV]=\"C\",2,3))","v":1},{"$f":"[LGS]+[DIVS]","v":11}]
[2010,"Willis, Dontrelle","DET","Detroit Tigers",12000000,9,8,43.333333333333336,-15,4.9800000000000004,1.7769230769230768,6.8538461538461535,9.9692307692307676,81,81,4.3,4333,1056,1445,6.5801984768059087,9.0041541657050548,1.3722594045695824,"AL-C",{"$f":"LEFT([League-Division],1)","v":"A"},{"$f":"RIGHT([League-Division],1)","v":"C"},{"$f":"IF([LG]=\"N\",10,20)","v":20},{"$f":"IF([DIV]=\"E\",1,IF([DIV]=\"C\",2,3))","v":2},{"$f":"[LGS]+[DIVS]","v":22}]
[2010,"Willis, Dontrelle","ARI","Arizona Diamondbacks",12000000,6,5,22.333333333333332,-10,6.85,2.283582089552239,5.6417910447761201,9.6716417910447756,65,97,4.8099999999999996,4296,1070,1503,6.7248603351955305,9.4462290502793298,1.4322625698324023,"NL-W",{"$f":"LEFT([League-Division],1)","v":"N"},{"$f":"RIGHT([League-Division],1)","v":"W"},{"$f":"IF([LG]=\"N\",10,20)","v":10},{"$f":"IF([DIV]=\"E\",1,IF([DIV]=\"C\",2,3))","v":3},{"$f":"[LGS]+[DIVS]","v":13}]
[1998,"Williams, Mike","PIT","Pittsburgh Pirates",350000,37,1,51,20,1.94,1.0784313725490196,10.411764705882353,6.8823529411764701,69,93,3.91,4347,1112,1433,6.9068322981366466,8.9006211180124222,1.3547273982056591,"NL-C",{"$f":"LEFT([League-Division],1)","v":"N"},{"$f":"RIGHT([League-Division],1)","v":"C"},{"$f":"IF([LG]=\"N\",10,20)","v":10},{"$f":"IF([DIV]=\"E\",1,IF([DIV]=\"C\",2,3))","v":2},{"$f":"[LGS]+[DIVS]","v":12}]
[2001,"Williams, Mike","PIT","Pittsburgh Pirates",1200000,40,0,41.666666666666664,4,3.67,1.4400000000000002,9.2880000000000003,8.4240000000000013,62,100,5.05,4249,908,1493,5.7698281948693815,9.4871734525770783,1.4417510002353495,"NL-C",{"$f":"LEFT([League-Division],1)","v":"N"},{"$f":"RIGHT([League-Division],1)","v":"C"},{"$f":"IF([LG]=\"N\",10,20)","v":10},{"$f":"IF([DIV]=\"E\",1,IF([DIV]=\"C\",2,3))","v":2},{"$f":"[LGS]+[DIVS]","v":12}]
[2000,"Williamson, Scott","CIN","Cincinnati Reds",300000,48,10,112,44,3.29,1.4910714285714286,10.928571428571427,7.3928571428571423,85,77,4.33,4368,1015,1446,6.2740384615384617,8.9381868131868139,1.4457417582417582,"NL-C",{"$f":"LEFT([League-Division],1)","v":"N"},{"$f":"RIGHT([League-Division],1)","v":"C"},{"$f":"IF([LG]=\"N\",10,20)","v":10},{"$f":"IF([DIV]=\"E\",1,IF([DIV]=\"C\",2,3))","v":2},{"$f":"[LGS]+[DIVS]","v":12}]
[2007,"Williamson, Scott","BAL","Baltimore Orioles",900000,16,0,14.333333333333334,4,4.4000000000000004,1.3953488372093024,10.046511627906977,7.5348837209302317,69,93,5.17,4316,1087,1491,6.8000463392029653,9.3273864689527333,1.5201575532900833,"AL-E",{"$f":"LEFT([League-Division],1)","v":"A"},{"$f":"RIGHT([League-Division],1)","v":"E"},{"$f":"IF([LG]=\"N\",10,20)","v":20},{"$f":"IF([DIV]=\"E\",1,IF([DIV]=\"C\",2,3))","v":1},{"$f":"[LGS]+[DIVS]","v":21}]
[2001,"Williams, Todd","NYA","New York Yankees",320000,15,0,15.333333333333334,-9,4.7,2.0217391304347827,7.6304347826086953,12.913043478260869,95,65,4.0199999999999996,4354,1266,1429,7.8507119889756547,8.8615066605420303,1.3050068902158936,"AL-E",{"$f":"LEFT([League-Division],1)","v":"A"},{"$f":"RIGHT([League-Division],1)","v":"E"},{"$f":"IF([LG]=\"N\",10,20)","v":20},{"$f":"IF([DIV]=\"E\",1,IF([DIV]=\"C\",2,3))","v":1},{"$f":"[LGS]+[DIVS]","v":21}]
[2005,"Williams, Todd","BAL","Baltimore Orioles",347500,72,0,76.333333333333329,-34,3.3,1.2838427947598254,4.4803493449781664,8.4890829694323156,74,88,4.5599999999999996,4283,1052,1458,6.631800140088723,9.19122110670091,1.4275040859210832,"AL-E",{"$f":"LEFT([League-Division],1)","v":"A"},{"$f":"RIGHT([League-Division],1)","v":"E"},{"$f":"IF([LG]=\"N\",10,20)","v":20},{"$f":"IF([DIV]=\"E\",1,IF([DIV]=\"C\",2,3))","v":1},{"$f":"[LGS]+[DIVS]","v":21}]
[2006,"Williams, Todd","BAL","Baltimore Orioles",775000,62,0,57,-52,4.74,1.6666666666666667,3.7894736842105261,12,70,92,5.35,4257,1016,1579,6.4439746300211418,10.014799154334039,1.5447498238195914,"AL-E",{"$f":"LEFT([League-Division],1)","v":"A"},{"$f":"RIGHT([League-Division],1)","v":"E"},{"$f":"IF([LG]=\"N\",10,20)","v":20},{"$f":"IF([DIV]=\"E\",1,IF([DIV]=\"C\",2,3))","v":1},{"$f":"[LGS]+[DIVS]","v":21}]
[1995,"Williams, Woody","TOR","Toronto Blue Jays",175000,23,3,53.666666666666664,-3,3.69,1.3416149068322982,6.8757763975155282,7.3788819875776399,56,88,4.88,3876,894,1336,6.2275541795665639,9.3065015479876152,1.5402476780185759,"AL-E",{"$f":"LEFT([League-Division],1)","v":"A"},{"$f":"RIGHT([League-Division],1)","v":"E"},{"$f":"IF([LG]=\"N\",10,20)","v":20},{"$f":"IF([DIV]=\"E\",1,IF([DIV]=\"C\",2,3))","v":1},{"$f":"[LGS]+[DIVS]","v":21}]
[1996,"Williams, Woody","TOR","Toronto Blue Jays",225000,12,10,59,-21,4.7300000000000004,1.4406779661016949,6.5593220338983045,9.7627118644067803,74,88,4.58,4335,1033,1476,6.4339100346020759,9.1930795847750879,1.4435986159169549,"AL-E",{"$f":"LEFT([League-Division],1)","v":"A"},{"$f":"RIGHT([League-Division],1)","v":"E"},{"$f":"IF([LG]=\"N\",10,20)","v":20},{"$f":"IF([DIV]=\"E\",1,IF([DIV]=\"C\",2,3))","v":1},{"$f":"[LGS]+[DIVS]","v":21}]
[1997,"Williams, Woody","TOR","Toronto Blue Jays",387500,31,31,194.66666666666666,-77,4.3499999999999996,1.3715753424657535,5.7328767123287667,9.292808219178081,76,86,3.92,4326,1150,1453,7.1775312066574202,9.0686546463245499,1.3522884882108184,"AL-E",{"$f":"LEFT([League-Division],1)","v":"A"},{"$f":"RIGHT([League-Division],1)","v":"E"},{"$f":"IF([LG]=\"N\",10,20)","v":20},{"$f":"IF([DIV]=\"E\",1,IF([DIV]=\"C\",2,3))","v":1},{"$f":"[LGS]+[DIVS]","v":21}]
[1998,"Williams, Woody","TOR","Toronto Blue Jays",1615000,32,32,209.66666666666666,-45,4.46,1.3211446740858506,6.4817170111287767,8.4133545310015911,88,74,4.29,4395,1154,1443,7.0894197952218434,8.8648464163822531,1.3856655290102389,"AL-E",{"$f":"LEFT([League-Division],1)","v":"A"},{"$f":"RIGHT([League-Division],1)","v":"E"},{"$f":"IF([LG]=\"N\",10,20)","v":20},{"$f":"IF([DIV]=\"E\",1,IF([DIV]=\"C\",2,3))","v":1},{"$f":"[LGS]+[DIVS]","v":21}]
[1999,"Williams, Woody","SDN","San Diego Padres",3083333,33,33,208.33333333333334,-76,4.41,1.3728,5.9184000000000001,9.2015999999999991,74,88,4.47,4260,1078,1454,6.8323943661971827,9.2154929577464788,1.3964788732394366,"NL-W",{"$f":"LEFT([League-Division],1)","v":"N"},{"$f":"RIGHT([League-Division],1)","v":"W"},{"$f":"IF([LG]=\"N\",10,20)","v":10},{"$f":"IF([DIV]=\"E\",1,IF([DIV]=\"C\",2,3))","v":3},{"$f":"[LGS]+[DIVS]","v":13}]
[2000,"Williams, Woody","SDN","San Diego Padres",4583333,23,23,168,-41,3.75,1.2261904761904763,5.9464285714285712,8.1428571428571423,76,86,4.5199999999999996,4377,1071,1443,6.6065798492117889,8.901302261823167,1.4338588074023304,"NL-W",{"$f":"LEFT([League-Division],1)","v":"N"},{"$f":"RIGHT([League-Division],1)","v":"W"},{"$f":"IF([LG]=\"N\",10,20)","v":10},{"$f":"IF([DIV]=\"E\",1,IF([DIV]=\"C\",2,3))","v":3},{"$f":"[LGS]+[DIVS]","v":13}]
[2001,"Williams, Woody","SDN","San Diego Padres",5083333,23,23,145,-68,4.97,1.4275862068965517,6.3310344827586205,10.551724137931034,79,83,4.5199999999999996,4322,1088,1519,6.7968533086534002,9.4893567792688565,1.3847755668671911,"NL-W",{"$f":"LEFT([League-Division],1)","v":"N"},{"$f":"RIGHT([League-Division],1)","v":"W"},{"$f":"IF([LG]=\"N\",10,20)","v":10},{"$f":"IF([DIV]=\"E\",1,IF([DIV]=\"C\",2,3))","v":3},{"$f":"[LGS]+[DIVS]","v":13}]
[2001,"Williams, Woody","SLN","St. Louis Cardinals",5083333,11,11,75,-2,2.2799999999999998,0.97333333333333338,6.24,6.4799999999999995,93,69,3.93,4306,1083,1389,6.7907570831398045,8.7094751509521604,1.334184858337204,"NL-C",{"$f":"LEFT([League-Division],1)","v":"N"},{"$f":"RIGHT([League-Division],1)","v":"C"},{"$f":"IF([LG]=\"N\",10,20)","v":10},{"$f":"IF([DIV]=\"E\",1,IF([DIV]=\"C\",2,3))","v":2},{"$f":"[LGS]+[DIVS]","v":12}]
[2002,"Williams, Woody","SLN","St. Louis Cardinals",7300000,17,17,103.33333333333333,-8,2.5299999999999998,1.0548387096774194,6.6193548387096772,7.3161290322580648,97,65,3.7,4339,1009,1355,6.2786356303295694,8.431666282553584,1.3150495505876931,"NL-C",{"$f":"LEFT([League-Division],1)","v":"N"},{"$f":"RIGHT([League-Division],1)","v":"C"},{"$f":"IF([LG]=\"N\",10,20)","v":10},{"$f":"IF([DIV]=\"E\",1,IF([DIV]=\"C\",2,3))","v":2},{"$f":"[LGS]+[DIVS]","v":12}]
[2003,"Williams, Woody","SLN","St. Louis Cardinals",6000000,34,33,220.66666666666666,-67,3.87,1.2462235649546829,6.2401812688821758,8.972809667673717,85,77,4.5999999999999996,4391,969,1544,5.9583238442268271,9.4939649282623542,1.4019585515827828,"NL-C",{"$f":"LEFT([League-Division],1)","v":"N"},{"$f":"RIGHT([League-Division],1)","v":"C"},{"$f":"IF([LG]=\"N\",10,20)","v":10},{"$f":"IF([DIV]=\"E\",1,IF([DIV]=\"C\",2,3))","v":2},{"$f":"[LGS]+[DIVS]","v":12}]
[2004,"Williams, Woody","SLN","St. Louis Cardinals",8000000,31,31,189.66666666666666,-62,4.18,1.3233743409490335,6.2161687170474522,9.1581722319859402,105,57,3.75,4361,1041,1378,6.4450814033478556,8.5315294657188705,1.2506305893143774,"NL-C",{"$f":"LEFT([League-Division],1)","v":"N"},{"$f":"RIGHT([League-Division],1)","v":"C"},{"$f":"IF([LG]=\"N\",10,20)","v":10},{"$f":"IF([DIV]=\"E\",1,IF([DIV]=\"C\",2,3))","v":2},{"$f":"[LGS]+[DIVS]","v":12}]
[2005,"Williams, Woody","SDN","San Diego Padres",3000000,28,28,159.66666666666666,-68,4.8499999999999996,1.4091858037578289,5.9749478079331944,9.8079331941544901,82,80,4.13,4366,1133,1452,7.0066422354557947,8.9793861658268437,1.3433348602840129,"NL-W",{"$f":"LEFT([League-Division],1)","v":"N"},{"$f":"RIGHT([League-Division],1)","v":"W"},{"$f":"IF([LG]=\"N\",10,20)","v":10},{"$f":"IF([DIV]=\"E\",1,IF([DIV]=\"C\",2,3))","v":3},{"$f":"[LGS]+[DIVS]","v":13}]
[2006,"Williams, Woody","SDN","San Diego Padres",5000000,25,24,145.33333333333334,-80,3.65,1.286697247706422,4.4587155963302747,9.4128440366972477,88,74,3.87,4391,1097,1385,6.7453882942382144,8.5162833067638335,1.265998633568663,"NL-W",{"$f":"LEFT([League-Division],1)","v":"N"},{"$f":"RIGHT([League-Division],1)","v":"W"},{"$f":"IF([LG]=\"N\",10,20)","v":10},{"$f":"IF([DIV]=\"E\",1,IF([DIV]=\"C\",2,3))","v":3},{"$f":"[LGS]+[DIVS]","v":13}]
[2007,"Williams, Woody","HOU","Houston Astros",6000000,33,31,188,-115,5.27,1.4308510638297873,4.835106382978724,10.340425531914894,73,89,4.68,4394,1109,1566,6.8145197997268996,9.6226672735548462,1.417387346381429,"NL-C",{"$f":"LEFT([League-Division],1)","v":"N"},{"$f":"RIGHT([League-Division],1)","v":"C"},{"$f":"IF([LG]=\"N\",10,20)","v":10},{"$f":"IF([DIV]=\"E\",1,IF([DIV]=\"C\",2,3))","v":2},{"$f":"[LGS]+[DIVS]","v":12}]
[2008,"Wilson, Brian","SFN","San Francisco Giants",392500,63,0,62.333333333333336,5,4.62,1.4438502673796791,9.6737967914438485,8.9518716577540101,72,90,4.38,4326,1240,1416,7.7392510402219132,8.8377253814147014,1.434119278779473,"NL-W",{"$f":"LEFT([League-Division],1)","v":"N"},{"$f":"RIGHT([League-Division],1)","v":"W"},{"$f":"IF([LG]=\"N\",10,20)","v":10},{"$f":"IF([DIV]=\"E\",1,IF([DIV]=\"C\",2,3))","v":3},{"$f":"[LGS]+[DIVS]","v":13}]
[2009,"Wilson, Brian","SFN","San Francisco Giants",480000,68,0,72.333333333333329,23,2.74,1.2027649769585254,10.327188940092165,7.4654377880184342,88,74,3.55,4338,1302,1268,8.1037344398340245,7.8921161825726145,1.2807745504840939,"NL-W",{"$f":"LEFT([League-Division],1)","v":"N"},{"$f":"RIGHT([League-Division],1)","v":"W"},{"$f":"IF([LG]=\"N\",10,20)","v":10},{"$f":"IF([DIV]=\"E\",1,IF([DIV]=\"C\",2,3))","v":3},{"$f":"[LGS]+[DIVS]","v":13}]
[2010,"Wilson, Brian","SFN","San Francisco Giants",6500000,70,0,74.666666666666671,31,1.81,1.1785714285714286,11.209821428571427,7.4732142857142847,92,70,3.36,4383,1331,1279,8.1991786447638599,7.8788501026694044,1.271047227926078,"NL-W",{"$f":"LEFT([League-Division],1)","v":"N"},{"$f":"RIGHT([League-Division],1)","v":"W"},{"$f":"IF([LG]=\"N\",10,20)","v":10},{"$f":"IF([DIV]=\"E\",1,IF([DIV]=\"C\",2,3))","v":3},{"$f":"[LGS]+[DIVS]","v":13}]
[2006,"Wilson, C.J.","TEX","Texas Rangers",331000,44,0,44.333333333333336,4,4.0599999999999996,1.2857142857142856,8.7293233082706774,7.9172932330827068,80,82,4.5999999999999996,4294,972,1558,6.1117838844899861,9.7964601769911521,1.4350256171401956,"AL-W",{"$f":"LEFT([League-Division],1)","v":"A"},{"$f":"RIGHT([League-Division],1)","v":"W"},{"$f":"IF([LG]=\"N\",10,20)","v":20},{"$f":"IF([DIV]=\"E\",1,IF([DIV]=\"C\",2,3))","v":3},{"$f":"[LGS]+[DIVS]","v":23}]
[2007,"Wilson, C.J.","TEX","Texas Rangers",391043,66,0,68.333333333333329,13,3.03,1.2146341463414636,8.2975609756097573,6.5853658536585371,75,87,4.75,4290,976,1525,6.1426573426573432,9.5979020979020984,1.5335664335664336,"AL-W",{"$f":"LEFT([League-Division],1)","v":"A"},{"$f":"RIGHT([League-Division],1)","v":"W"},{"$f":"IF([LG]=\"N\",10,20)","v":20},{"$f":"IF([DIV]=\"E\",1,IF([DIV]=\"C\",2,3))","v":3},{"$f":"[LGS]+[DIVS]","v":23}]
[2008,"Wilson, C.J.","TEX","Texas Rangers",417460,50,0,46.333333333333336,-8,6.02,1.6402877697841727,7.9640287769784166,9.5179856115107899,79,83,5.37,4326,963,1647,6.0104022191400839,10.279472954230235,1.5755894590846047,"AL-W",{"$f":"LEFT([League-Division],1)","v":"A"},{"$f":"RIGHT([League-Division],1)","v":"W"},{"$f":"IF([LG]=\"N\",10,20)","v":20},{"$f":"IF([DIV]=\"E\",1,IF([DIV]=\"C\",2,3))","v":3},{"$f":"[LGS]+[DIVS]","v":23}]
[2009,"Wilson, C.J.","TEX","Texas Rangers",1850000,74,0,73.666666666666671,18,2.81,1.3303167420814479,10.262443438914026,8.0633484162895925,87,75,4.38,4304,1016,1432,6.3736059479553901,8.9832713754646836,1.3682620817843865,"AL-W",{"$f":"LEFT([League-Division],1)","v":"A"},{"$f":"RIGHT([League-Division],1)","v":"W"},{"$f":"IF([LG]=\"N\",10,20)","v":20},{"$f":"IF([DIV]=\"E\",1,IF([DIV]=\"C\",2,3))","v":3},{"$f":"[LGS]+[DIVS]","v":23}]
[2010,"Wilson, C.J.","TEX","Texas Rangers",3100000,33,33,204,9,3.35,1.2450980392156863,7.5,7.1029411764705879,90,72,3.93,4366,1181,1355,7.3034814475492444,8.3795235913879988,1.3096655978011911,"AL-W",{"$f":"LEFT([League-Division],1)","v":"A"},{"$f":"RIGHT([League-Division],1)","v":"W"},{"$f":"IF([LG]=\"N\",10,20)","v":20},{"$f":"IF([DIV]=\"E\",1,IF([DIV]=\"C\",2,3))","v":3},{"$f":"[LGS]+[DIVS]","v":23}]
[2007,"Wilson, Josh","TBA","Tampa Bay Devil Rays",420000,1,0,1,-1,0,2,0,9,66,96,5.53,4289,1194,1649,7.5164373979948698,10.380741431569129,1.550711121473537,"AL-E",{"$f":"LEFT([League-Division],1)","v":"A"},{"$f":"RIGHT([League-Division],1)","v":"E"},{"$f":"IF([LG]=\"N\",10,20)","v":20},{"$f":"IF([DIV]=\"E\",1,IF([DIV]=\"C\",2,3))","v":1},{"$f":"[LGS]+[DIVS]","v":21}]
[2001,"Wilson, Kris","KCA","Kansas City Royals",205000,29,15,109.33333333333333,-65,5.19,1.5,5.5152439024390247,10.865853658536585,65,97,4.87,4320,911,1537,5.6937499999999996,9.6062500000000011,1.4673611111111111,"AL-C",{"$f":"LEFT([League-Division],1)","v":"A"},{"$f":"RIGHT([League-Division],1)","v":"C"},{"$f":"IF([LG]=\"N\",10,20)","v":20},{"$f":"IF([DIV]=\"E\",1,IF([DIV]=\"C\",2,3))","v":2},{"$f":"[LGS]+[DIVS]","v":22}]
[2002,"Wilson, Kris","KCA","Kansas City Royals",240000,12,0,18.666666666666668,-19,8.1999999999999993,1.8214285714285714,4.8214285714285712,13.982142857142856,62,100,5.21,4323,909,1587,5.6773074253990288,9.9118667591950036,1.4982650936849411,"AL-C",{"$f":"LEFT([League-Division],1)","v":"A"},{"$f":"RIGHT([League-Division],1)","v":"C"},{"$f":"IF([LG]=\"N\",10,20)","v":20},{"$f":"IF([DIV]=\"E\",1,IF([DIV]=\"C\",2,3))","v":2},{"$f":"[LGS]+[DIVS]","v":22}]
[2003,"Wilson, Kris","KCA","Kansas City Royals",311000,29,4,72.666666666666671,-50,5.33,1.4862385321100917,5.2018348623853212,11.394495412844037,83,79,5.0599999999999996,4316,865,1569,5.4112604263206672,9.8153382761816488,1.4840129749768303,"AL-C",{"$f":"LEFT([League-Division],1)","v":"A"},{"$f":"RIGHT([League-Division],1)","v":"C"},{"$f":"IF([LG]=\"N\",10,20)","v":20},{"$f":"IF([DIV]=\"E\",1,IF([DIV]=\"C\",2,3))","v":2},{"$f":"[LGS]+[DIVS]","v":22}]
[1996,"Wilson, Paul","NYN","New York Mets",109000,26,26,149,-48,5.38,1.5302013422818792,6.5838926174496653,9.4832214765100673,71,91,4.22,4320,999,1517,6.2437499999999995,9.4812499999999993,1.4229166666666666,"NL-E",{"$f":"LEFT([League-Division],1)","v":"N"},{"$f":"RIGHT([League-Division],1)","v":"E"},{"$f":"IF([LG]=\"N\",10,20)","v":10},{"$f":"IF([DIV]=\"E\",1,IF([DIV]=\"C\",2,3))","v":1},{"$f":"[LGS]+[DIVS]","v":11}]
[2001,"Wilson, Paul","TBA","Tampa Bay Devil Rays",350000,37,24,151.33333333333334,-46,4.88,1.4339207048458149,7.0770925110132161,9.8127753303964749,62,100,4.9400000000000004,4271,1030,1513,6.5113556544134861,9.5647389370170917,1.4624209786935143,"AL-E",{"$f":"LEFT([League-Division],1)","v":"A"},{"$f":"RIGHT([League-Division],1)","v":"E"},{"$f":"IF([LG]=\"N\",10,20)","v":20},{"$f":"IF([DIV]=\"E\",1,IF([DIV]=\"C\",2,3))","v":1},{"$f":"[LGS]+[DIVS]","v":21}]
[2002,"Wilson, Paul","TBA","Tampa Bay Devil Rays",1200000,30,30,193.66666666666666,-108,4.83,1.4767641996557659,5.1583476764199663,10.177280550774526,55,106,5.29,4321,925,1567,5.7799120573941218,9.791483452904421,1.5183985188613747,"AL-E",{"$f":"LEFT([League-Division],1)","v":"A"},{"$f":"RIGHT([League-Division],1)","v":"E"},{"$f":"IF([LG]=\"N\",10,20)","v":20},{"$f":"IF([DIV]=\"E\",1,IF([DIV]=\"C\",2,3))","v":1},{"$f":"[LGS]+[DIVS]","v":21}]
[2003,"Wilson, Paul","CIN","Cincinnati Reds",500000,28,28,166.66666666666666,-97,4.6399999999999997,1.4400000000000002,5.0220000000000002,10.260000000000002,69,93,5.09,4339,932,1578,5.7994929707305838,9.8193132058077914,1.4989628946761928,"NL-C",{"$f":"LEFT([League-Division],1)","v":"N"},{"$f":"RIGHT([League-Division],1)","v":"C"},{"$f":"IF([LG]=\"N\",10,20)","v":10},{"$f":"IF([DIV]=\"E\",1,IF([DIV]=\"C\",2,3))","v":2},{"$f":"[LGS]+[DIVS]","v":12}]
[2004,"Wilson, Paul","CIN","Cincinnati Reds",3500000,29,29,183.66666666666666,-75,4.3600000000000003,1.3883847549909256,5.733212341197822,9.4083484573502734,76,86,5.19,4331,992,1595,6.1842530593396443,9.9434310782729156,1.5010390210113138,"NL-C",{"$f":"LEFT([League-Division],1)","v":"N"},{"$f":"RIGHT([League-Division],1)","v":"C"},{"$f":"IF([LG]=\"N\",10,20)","v":10},{"$f":"IF([DIV]=\"E\",1,IF([DIV]=\"C\",2,3))","v":2},{"$f":"[LGS]+[DIVS]","v":12}]
[2005,"Wilson, Paul","CIN","Cincinnati Reds",3600000,9,9,46.333333333333336,-38,7.77,1.8345323741007193,5.8273381294964022,13.208633093525179,73,89,5.15,4299,955,1657,5.9979064898813679,10.406838799720866,1.4996510816468946,"NL-C",{"$f":"LEFT([League-Division],1)","v":"N"},{"$f":"RIGHT([League-Division],1)","v":"C"},{"$f":"IF([LG]=\"N\",10,20)","v":10},{"$f":"IF([DIV]=\"E\",1,IF([DIV]=\"C\",2,3))","v":2},{"$f":"[LGS]+[DIVS]","v":12}]
[1995,"Wilson, Trevor","SFN","San Francisco Giants",700000,17,17,82.666666666666671,-44,3.92,1.4516129032258063,4.137096774193548,8.9274193548387082,67,77,4.8600000000000003,3879,801,1368,5.575406032482598,9.5220417633410683,1.448569218870843,"NL-W",{"$f":"LEFT([League-Division],1)","v":"N"},{"$f":"RIGHT([League-Division],1)","v":"W"},{"$f":"IF([LG]=\"N\",10,20)","v":10},{"$f":"IF([DIV]=\"E\",1,IF([DIV]=\"C\",2,3))","v":3},{"$f":"[LGS]+[DIVS]","v":13}]
[1998,"Wilson, Trevor","ANA","Anaheim Angels",225000,15,0,7.666666666666667,-2,3.52,1.6956521739130435,7.0434782608695645,9.391304347826086,85,77,4.49,4332,1091,1481,6.7998614958448744,9.2306094182825476,1.4619113573407203,"AL-W",{"$f":"LEFT([League-Division],1)","v":"A"},{"$f":"RIGHT([League-Division],1)","v":"W"},{"$f":"IF([LG]=\"N\",10,20)","v":20},{"$f":"IF([DIV]=\"E\",1,IF([DIV]=\"C\",2,3))","v":3},{"$f":"[LGS]+[DIVS]","v":23}]
[2001,"Winchester, Scott","CIN","Cincinnati Reds",202000,12,1,24,-20,4.5,1.375,3.375,10.875,66,96,4.7699999999999996,4328,943,1572,5.8828558225508312,9.8068391866913114,1.4466266173752309,"NL-C",{"$f":"LEFT([League-Division],1)","v":"N"},{"$f":"RIGHT([League-Division],1)","v":"C"},{"$f":"IF([LG]=\"N\",10,20)","v":10},{"$f":"IF([DIV]=\"E\",1,IF([DIV]=\"C\",2,3))","v":2},{"$f":"[LGS]+[DIVS]","v":12}]
[1998,"Winston, Darrin","PHI","Philadelphia Phillies",170000,27,0,25,-20,6.12,1.48,3.96,11.16,75,87,4.6399999999999997,4389,1176,1476,7.2344497607655498,9.0799726589200258,1.3807245386192755,"NL-E",{"$f":"LEFT([League-Division],1)","v":"N"},{"$f":"RIGHT([League-Division],1)","v":"E"},{"$f":"IF([LG]=\"N\",10,20)","v":10},{"$f":"IF([DIV]=\"E\",1,IF([DIV]=\"C\",2,3))","v":1},{"$f":"[LGS]+[DIVS]","v":11}]
[2001,"Wise, Matt","ANA","Anaheim Angels",207500,11,9,49.333333333333336,3,4.38,1.3175675675675675,9.121621621621621,8.5743243243243228,75,87,4.2,4313,947,1452,5.9283561326223042,9.0897287271041041,1.3751449107349871,"AL-W",{"$f":"LEFT([League-Division],1)","v":"A"},{"$f":"RIGHT([League-Division],1)","v":"W"},{"$f":"IF([LG]=\"N\",10,20)","v":20},{"$f":"IF([DIV]=\"E\",1,IF([DIV]=\"C\",2,3))","v":3},{"$f":"[LGS]+[DIVS]","v":23}]
[2005,"Wise, Matt","MIL","Milwaukee Brewers",345000,49,0,64.333333333333329,25,3.36,0.96373056994818662,8.6735751295336794,5.1761658031088089,81,81,3.97,4314,1173,1382,7.3414464534075101,8.649513212795549,1.3567454798331016,"NL-C",{"$f":"LEFT([League-Division],1)","v":"N"},{"$f":"RIGHT([League-Division],1)","v":"C"},{"$f":"IF([LG]=\"N\",10,20)","v":10},{"$f":"IF([DIV]=\"E\",1,IF([DIV]=\"C\",2,3))","v":2},{"$f":"[LGS]+[DIVS]","v":12}]
[2006,"Wise, Matt","MIL","Milwaukee Brewers",650000,40,0,44.333333333333336,-18,3.86,1.3308270676691729,5.481203007518797,9.1353383458646604,75,87,4.82,4277,1145,1454,7.2281973345803134,9.1788636895019859,1.3804068272153378,"NL-C",{"$f":"LEFT([League-Division],1)","v":"N"},{"$f":"RIGHT([League-Division],1)","v":"C"},{"$f":"IF([LG]=\"N\",10,20)","v":10},{"$f":"IF([DIV]=\"E\",1,IF([DIV]=\"C\",2,3))","v":2},{"$f":"[LGS]+[DIVS]","v":12}]
[2007,"Wise, Matt","MIL","Milwaukee Brewers",1050000,56,0,53.666666666666664,-18,4.1900000000000004,1.4534161490683231,7.2111801242236027,10.229813664596273,83,79,4.41,4333,1174,1513,7.315485806600508,9.4278790676205855,1.3985691207015924,"NL-C",{"$f":"LEFT([League-Division],1)","v":"N"},{"$f":"RIGHT([League-Division],1)","v":"C"},{"$f":"IF([LG]=\"N\",10,20)","v":10},{"$f":"IF([DIV]=\"E\",1,IF([DIV]=\"C\",2,3))","v":2},{"$f":"[LGS]+[DIVS]","v":12}]
[2008,"Wise, Matt","NYN","New York Mets",1200000,8,0,7,-4,6.43,1.8571428571428572,7.7142857142857135,12.857142857142858,89,73,4.07,4393,1181,1415,7.2585932164807652,8.6967903482813576,1.3692237650808106,"NL-E",{"$f":"LEFT([League-Division],1)","v":"N"},{"$f":"RIGHT([League-Division],1)","v":"E"},{"$f":"IF([LG]=\"N\",10,20)","v":10},{"$f":"IF([DIV]=\"E\",1,IF([DIV]=\"C\",2,3))","v":1},{"$f":"[LGS]+[DIVS]","v":11}]
[1999,"Witasick, Jay","KCA","Kansas City Royals",210000,32,28,158.33333333333334,-89,5.57,1.7305263157894737,5.797894736842105,10.856842105263159,64,97,5.35,4261,831,1607,5.265665336775406,10.182820934053041,1.5841351795353205,"AL-C",{"$f":"LEFT([League-Division],1)","v":"A"},{"$f":"RIGHT([League-Division],1)","v":"C"},{"$f":"IF([LG]=\"N\",10,20)","v":20},{"$f":"IF([DIV]=\"E\",1,IF([DIV]=\"C\",2,3))","v":2},{"$f":"[LGS]+[DIVS]","v":22}]
[2000,"Witasick, Jay","KCA","Kansas City Royals",250000,22,14,89.333333333333329,-42,5.94,1.6455223880597016,6.75,10.98134328358209,77,85,5.48,4317,927,1585,5.7977762334954823,9.9131341209173041,1.5830437804030577,"AL-C",{"$f":"LEFT([League-Division],1)","v":"A"},{"$f":"RIGHT([League-Division],1)","v":"C"},{"$f":"IF([LG]=\"N\",10,20)","v":20},{"$f":"IF([DIV]=\"E\",1,IF([DIV]=\"C\",2,3))","v":2},{"$f":"[LGS]+[DIVS]","v":22}]
[2000,"Witasick, Jay","SDN","San Diego Padres",250000,11,11,60.666666666666664,-15,5.64,1.7142857142857144,8.0109890109890109,10.236263736263735,76,86,4.5199999999999996,4377,1071,1443,6.6065798492117889,8.901302261823167,1.4338588074023304,"NL-W",{"$f":"LEFT([League-Division],1)","v":"N"},{"$f":"RIGHT([League-Division],1)","v":"W"},{"$f":"IF([LG]=\"N\",10,20)","v":10},{"$f":"IF([DIV]=\"E\",1,IF([DIV]=\"C\",2,3))","v":3},{"$f":"[LGS]+[DIVS]","v":13}]
[2001,"Witasick, Jay","SDN","San Diego Padres",800000,31,0,38.666666666666664,22,1.86,1.1896551724137931,12.336206896551726,7.2155172413793114,79,83,4.5199999999999996,4322,1088,1519,6.7968533086534002,9.4893567792688565,1.3847755668671911,"NL-W",{"$f":"LEFT([League-Division],1)","v":"N"},{"$f":"RIGHT([League-Division],1)","v":"W"},{"$f":"IF([LG]=\"N\",10,20)","v":10},{"$f":"IF([DIV]=\"E\",1,IF([DIV]=\"C\",2,3))","v":3},{"$f":"[LGS]+[DIVS]","v":13}]
[2001,"Witasick, Jay","NYA","New York Yankees",800000,32,0,40.333333333333336,6,4.6900000000000004,1.6115702479338843,11.826446280991734,10.487603305785123,95,65,4.0199999999999996,4354,1266,1429,7.8507119889756547,8.8615066605420303,1.3050068902158936,"AL-E",{"$f":"LEFT([League-Division],1)","v":"A"},{"$f":"RIGHT([League-Division],1)","v":"E"},{"$f":"IF([LG]=\"N\",10,20)","v":20},{"$f":"IF([DIV]=\"E\",1,IF([DIV]=\"C\",2,3))","v":1},{"$f":"[LGS]+[DIVS]","v":21}]
[2002,"Witasick, Jay","SFN","San Francisco Giants",1250000,44,0,68.333333333333329,-4,2.37,1.1560975609756099,7.1121951219512196,7.639024390243903,95,66,3.54,4312,992,1349,6.2115027829313547,8.4468923933209652,1.3024118738404453,"NL-W",{"$f":"LEFT([League-Division],1)","v":"N"},{"$f":"RIGHT([League-Division],1)","v":"W"},{"$f":"IF([LG]=\"N\",10,20)","v":10},{"$f":"IF([DIV]=\"E\",1,IF([DIV]=\"C\",2,3))","v":3},{"$f":"[LGS]+[DIVS]","v":13}]
[2003,"Witasick, Jay","SDN","San Diego Padres",750000,46,0,45.666666666666664,0,4.53,1.4671532846715329,8.2773722627737243,8.2773722627737243,64,98,4.87,4294,1091,1458,6.8600372612948313,9.16767582673498,1.445505356311132,"NL-W",{"$f":"LEFT([League-Division],1)","v":"N"},{"$f":"RIGHT([League-Division],1)","v":"W"},{"$f":"IF([LG]=\"N\",10,20)","v":10},{"$f":"IF([DIV]=\"E\",1,IF([DIV]=\"C\",2,3))","v":3},{"$f":"[LGS]+[DIVS]","v":13}]
[2004,"Witasick, Jay","SDN","San Diego Padres",1750000,44,0,61.666666666666664,0,3.21,1.345945945945946,8.3189189189189197,8.3189189189189197,87,75,4.03,4323,1079,1460,6.7390700902151286,9.1186675919500342,1.3060374739764053,"NL-W",{"$f":"LEFT([League-Division],1)","v":"N"},{"$f":"RIGHT([League-Division],1)","v":"W"},{"$f":"IF([LG]=\"N\",10,20)","v":10},{"$f":"IF([DIV]=\"E\",1,IF([DIV]=\"C\",2,3))","v":3},{"$f":"[LGS]+[DIVS]","v":13}]
[2006,"Witasick, Jay","OAK","Oakland Athletics",1000000,20,0,22.666666666666668,-2,6.75,2.0294117647058822,9.132352941176471,9.9264705882352935,93,69,4.21,4355,1003,1525,6.2183696900114809,9.4546498277841557,1.4149253731343283,"AL-W",{"$f":"LEFT([League-Division],1)","v":"A"},{"$f":"RIGHT([League-Division],1)","v":"W"},{"$f":"IF([LG]=\"N\",10,20)","v":20},{"$f":"IF([DIV]=\"E\",1,IF([DIV]=\"C\",2,3))","v":3},{"$f":"[LGS]+[DIVS]","v":23}]
[2007,"Witasick, Jay","TBA","Tampa Bay Devil Rays",1500000,20,0,16.333333333333332,-9,6.61,2.1428571428571428,4.4081632653061229,9.3673469387755102,66,96,5.53,4289,1194,1649,7.5164373979948698,10.380741431569129,1.550711121473537,"AL-E",{"$f":"LEFT([League-Division],1)","v":"A"},{"$f":"RIGHT([League-Division],1)","v":"E"},{"$f":"IF([LG]=\"N\",10,20)","v":20},{"$f":"IF([DIV]=\"E\",1,IF([DIV]=\"C\",2,3))","v":1},{"$f":"[LGS]+[DIVS]","v":21}]
[2007,"Witasick, Jay","OAK","Oakland Athletics",1500000,16,0,15,-4,3.6,1.5333333333333334,6,8.4,76,86,4.28,4344,1036,1468,6.4392265193370166,9.124309392265193,1.3798342541436464,"AL-W",{"$f":"LEFT([League-Division],1)","v":"A"},{"$f":"RIGHT([League-Division],1)","v":"W"},{"$f":"IF([LG]=\"N\",10,20)","v":20},{"$f":"IF([DIV]=\"E\",1,IF([DIV]=\"C\",2,3))","v":3},{"$f":"[LGS]+[DIVS]","v":23}]
[1995,"Witt, Bobby","FLO","Florida Marlins",1800000,19,19,110.66666666666667,-9,3.9,1.3644578313253011,7.725903614457831,8.4578313253012034,67,76,4.2699999999999996,3858,994,1299,6.9564541213063764,9.0909797822706064,1.4471228615863141,"NL-E",{"$f":"LEFT([League-Division],1)","v":"N"},{"$f":"RIGHT([League-Division],1)","v":"E"},{"$f":"IF([LG]=\"N\",10,20)","v":10},{"$f":"IF([DIV]=\"E\",1,IF([DIV]=\"C\",2,3))","v":1},{"$f":"[LGS]+[DIVS]","v":11}]
[1995,"Witt, Bobby","TEX","Texas Rangers",1800000,10,10,61.333333333333336,-35,4.55,1.6630434782608694,6.75,11.885869565217391,74,70,4.66,3855,838,1385,5.8692607003891055,9.700389105058365,1.4778210116731518,"AL-W",{"$f":"LEFT([League-Division],1)","v":"A"},{"$f":"RIGHT([League-Division],1)","v":"W"},{"$f":"IF([LG]=\"N\",10,20)","v":20},{"$f":"IF([DIV]=\"E\",1,IF([DIV]=\"C\",2,3))","v":3},{"$f":"[LGS]+[DIVS]","v":23}]
[1996,"Witt, Bobby","TEX","Texas Rangers",1350000,33,32,199.66666666666666,-78,5.41,1.657762938230384,7.0767946577629388,10.592654424040067,90,72,4.66,4347,976,1569,6.0621118012422359,9.7453416149068328,1.484472049689441,"AL-W",{"$f":"LEFT([League-Division],1)","v":"A"},{"$f":"RIGHT([League-Division],1)","v":"W"},{"$f":"IF([LG]=\"N\",10,20)","v":20},{"$f":"IF([DIV]=\"E\",1,IF([DIV]=\"C\",2,3))","v":3},{"$f":"[LGS]+[DIVS]","v":23}]
[1997,"Witt, Bobby","TEX","Texas Rangers",2000000,34,32,209,-124,4.82,1.5263157894736843,5.2105263157894743,10.55023923444976,77,85,4.68,4289,925,1598,5.8230356726509669,10.059687572860806,1.4961529494054557,"AL-W",{"$f":"LEFT([League-Division],1)","v":"A"},{"$f":"RIGHT([League-Division],1)","v":"W"},{"$f":"IF([LG]=\"N\",10,20)","v":20},{"$f":"IF([DIV]=\"E\",1,IF([DIV]=\"C\",2,3))","v":3},{"$f":"[LGS]+[DIVS]","v":23}]
[1998,"Witt, Bobby","TEX","Texas Rangers",3250000,14,13,69.333333333333329,-65,7.66,1.8461538461538463,3.8942307692307692,12.33173076923077,88,74,5,4293,994,1624,6.2515723270440251,10.213836477987421,1.4975541579315164,"AL-W",{"$f":"LEFT([League-Division],1)","v":"A"},{"$f":"RIGHT([League-Division],1)","v":"W"},{"$f":"IF([LG]=\"N\",10,20)","v":20},{"$f":"IF([DIV]=\"E\",1,IF([DIV]=\"C\",2,3))","v":3},{"$f":"[LGS]+[DIVS]","v":23}]
[1998,"Witt, Bobby","SLN","St. Louis Cardinals",3250000,17,5,47.333333333333336,-27,4.9400000000000004,1.584507042253521,5.323943661971831,10.45774647887324,83,79,4.32,4409,972,1513,5.9523701519618957,9.265366296212294,1.4091630755273303,"NL-C",{"$f":"LEFT([League-Division],1)","v":"N"},{"$f":"RIGHT([League-Division],1)","v":"C"},{"$f":"IF([LG]=\"N\",10,20)","v":10},{"$f":"IF([DIV]=\"E\",1,IF([DIV]=\"C\",2,3))","v":2},{"$f":"[LGS]+[DIVS]","v":12}]
[1999,"Witt, Bobby","TBA","Tampa Bay Devil Rays",1100000,32,32,180.33333333333334,-90,5.84,1.7134935304990757,6.1386321626617377,10.630314232902032,69,93,5.0599999999999996,4297,1055,1606,6.6290435187340009,10.091226437049105,1.6064696299744008,"AL-E",{"$f":"LEFT([League-Division],1)","v":"A"},{"$f":"RIGHT([League-Division],1)","v":"E"},{"$f":"IF([LG]=\"N\",10,20)","v":20},{"$f":"IF([DIV]=\"E\",1,IF([DIV]=\"C\",2,3))","v":1},{"$f":"[LGS]+[DIVS]","v":21}]
[2000,"Witt, Bobby","CLE","Cleveland Indians",550000,7,2,15.333333333333334,-22,7.63,2.2173913043478262,3.5217391304347823,16.434782608695652,90,72,4.84,4326,1213,1511,7.5707350901525654,9.4306518723994444,1.5097087378640777,"AL-C",{"$f":"LEFT([League-Division],1)","v":"A"},{"$f":"RIGHT([League-Division],1)","v":"C"},{"$f":"IF([LG]=\"N\",10,20)","v":20},{"$f":"IF([DIV]=\"E\",1,IF([DIV]=\"C\",2,3))","v":2},{"$f":"[LGS]+[DIVS]","v":22}]
[2001,"Witt, Bobby","ARI","Arizona Diamondbacks",500000,14,7,43.333333333333336,-5,4.78,1.4076923076923076,6.4384615384615387,7.4769230769230761,92,70,3.87,4379,1297,1352,7.9970312856816621,8.3361498058917558,1.2420643982644439,"NL-W",{"$f":"LEFT([League-Division],1)","v":"N"},{"$f":"RIGHT([League-Division],1)","v":"W"},{"$f":"IF([LG]=\"N\",10,20)","v":10},{"$f":"IF([DIV]=\"E\",1,IF([DIV]=\"C\",2,3))","v":3},{"$f":"[LGS]+[DIVS]","v":13}]
[1995,"Wohlers, Mark","ATL","Atlanta Braves",202500,65,0,64.666666666666671,39,2.09,1.1597938144329896,12.525773195876289,7.0979381443298966,90,54,3.44,3873,1087,1184,7.5778466305189776,8.25406661502711,1.254841208365608,"NL-E",{"$f":"LEFT([League-Division],1)","v":"N"},{"$f":"RIGHT([League-Division],1)","v":"E"},{"$f":"IF([LG]=\"N\",10,20)","v":10},{"$f":"IF([DIV]=\"E\",1,IF([DIV]=\"C\",2,3))","v":1},{"$f":"[LGS]+[DIVS]","v":11}]
[1996,"Wohlers, Mark","ATL","Atlanta Braves",1425000,77,0,77.333333333333329,29,3.03,1.1896551724137931,11.637931034482758,8.262931034482758,96,66,3.54,4407,1245,1372,7.6276378488767866,8.4057181756296799,1.2409802586793737,"NL-E",{"$f":"LEFT([League-Division],1)","v":"N"},{"$f":"RIGHT([League-Division],1)","v":"E"},{"$f":"IF([LG]=\"N\",10,20)","v":10},{"$f":"IF([DIV]=\"E\",1,IF([DIV]=\"C\",2,3))","v":1},{"$f":"[LGS]+[DIVS]","v":11}]
[1997,"Wohlers, Mark","ATL","Atlanta Braves",3000000,71,0,69.333333333333329,35,3.5,1.3701923076923077,11.942307692307693,7.3990384615384626,101,61,3.18,4395,1196,1319,7.3474402730375425,8.1030716723549485,1.2075085324232082,"NL-E",{"$f":"LEFT([League-Division],1)","v":"N"},{"$f":"RIGHT([League-Division],1)","v":"E"},{"$f":"IF([LG]=\"N\",10,20)","v":10},{"$f":"IF([DIV]=\"E\",1,IF([DIV]=\"C\",2,3))","v":1},{"$f":"[LGS]+[DIVS]","v":11}]
[1998,"Wohlers, Mark","ATL","Atlanta Braves",4125000,27,0,20.333333333333332,4,10.18,2.5081967213114758,9.7377049180327884,7.9672131147540988,106,56,3.25,4315,1232,1291,7.7089223638470452,8.0780996523754354,1.2222479721900348,"NL-E",{"$f":"LEFT([League-Division],1)","v":"N"},{"$f":"RIGHT([League-Division],1)","v":"E"},{"$f":"IF([LG]=\"N\",10,20)","v":10},{"$f":"IF([DIV]=\"E\",1,IF([DIV]=\"C\",2,3))","v":1},{"$f":"[LGS]+[DIVS]","v":11}]
[1999,"Wohlers, Mark","ATL","Atlanta Braves",5200000,2,0,0.66666666666666663,-1,27,10.5,0,13.5,103,59,3.63,4413,1197,1398,7.3235893949694084,8.5533650577838198,1.2950373895309313,"NL-E",{"$f":"LEFT([League-Division],1)","v":"N"},{"$f":"RIGHT([League-Division],1)","v":"E"},{"$f":"IF([LG]=\"N\",10,20)","v":10},{"$f":"IF([DIV]=\"E\",1,IF([DIV]=\"C\",2,3))","v":1},{"$f":"[LGS]+[DIVS]","v":11}]
[2001,"Wohlers, Mark","CIN","Cincinnati Reds",500000,30,0,32,-15,3.94,1.34375,5.90625,10.125,66,96,4.7699999999999996,4328,943,1572,5.8828558225508312,9.8068391866913114,1.4466266173752309,"NL-C",{"$f":"LEFT([League-Division],1)","v":"N"},{"$f":"RIGHT([League-Division],1)","v":"C"},{"$f":"IF([LG]=\"N\",10,20)","v":10},{"$f":"IF([DIV]=\"E\",1,IF([DIV]=\"C\",2,3))","v":2},{"$f":"[LGS]+[DIVS]","v":12}]
[2001,"Wohlers, Mark","NYA","New York Yankees",500000,31,0,35.666666666666664,0,4.54,1.4299065420560748,8.3271028037383186,8.3271028037383186,95,65,4.0199999999999996,4354,1266,1429,7.8507119889756547,8.8615066605420303,1.3050068902158936,"AL-E",{"$f":"LEFT([League-Division],1)","v":"A"},{"$f":"RIGHT([League-Division],1)","v":"E"},{"$f":"IF([LG]=\"N\",10,20)","v":20},{"$f":"IF([DIV]=\"E\",1,IF([DIV]=\"C\",2,3))","v":1},{"$f":"[LGS]+[DIVS]","v":21}]
[2002,"Wohlers, Mark","CLE","Cleveland Indians",600000,64,0,71.333333333333329,-25,4.79,1.3598130841121496,5.8037383177570101,8.9579439252336446,74,88,4.91,4274,1058,1508,6.6836686944314456,9.526438933083762,1.4817501169864296,"AL-C",{"$f":"LEFT([League-Division],1)","v":"A"},{"$f":"RIGHT([League-Division],1)","v":"C"},{"$f":"IF([LG]=\"N\",10,20)","v":20},{"$f":"IF([DIV]=\"E\",1,IF([DIV]=\"C\",2,3))","v":2},{"$f":"[LGS]+[DIVS]","v":22}]
[1995,"Wojciechowski, Steve","OAK","Oakland Athletics",109000,14,7,48.666666666666664,-38,5.18,1.6232876712328768,2.404109589041096,9.4315068493150687,67,77,4.93,3819,890,1320,6.2922230950510603,9.3322859387274164,1.4736842105263157,"AL-W",{"$f":"LEFT([League-Division],1)","v":"A"},{"$f":"RIGHT([League-Division],1)","v":"W"},{"$f":"IF([LG]=\"N\",10,20)","v":20},{"$f":"IF([DIV]=\"E\",1,IF([DIV]=\"C\",2,3))","v":3},{"$f":"[LGS]+[DIVS]","v":23}]
[1997,"Wojciechowski, Steve","OAK","Oakland Athletics",154000,2,2,10.333333333333334,-12,7.84,1.7419354838709677,4.354838709677419,14.806451612903224,65,97,5.49,4335,953,1734,5.9356401384083046,10.799999999999999,1.6442906574394465,"AL-W",{"$f":"LEFT([League-Division],1)","v":"A"},{"$f":"RIGHT([League-Division],1)","v":"W"},{"$f":"IF([LG]=\"N\",10,20)","v":20},{"$f":"IF([DIV]=\"E\",1,IF([DIV]=\"C\",2,3))","v":3},{"$f":"[LGS]+[DIVS]","v":23}]
[1996,"Wolcott, Bob","SEA","Seattle Mariners",115000,30,28,149.33333333333334,-101,5.73,1.560267857142857,4.7008928571428568,10.787946428571427,85,76,5.21,4293,1000,1562,6.2893081761006293,9.8238993710691815,1.5143256464011181,"AL-W",{"$f":"LEFT([League-Division],1)","v":"A"},{"$f":"RIGHT([League-Division],1)","v":"W"},{"$f":"IF([LG]=\"N\",10,20)","v":20},{"$f":"IF([DIV]=\"E\",1,IF([DIV]=\"C\",2,3))","v":3},{"$f":"[LGS]+[DIVS]","v":23}]
[1997,"Wolcott, Bob","SEA","Seattle Mariners",195000,19,18,100,-71,6.03,1.58,5.22,11.61,90,72,4.79,4341,1207,1500,7.5072563925362825,9.3296475466482374,1.4498963372494817,"AL-W",{"$f":"LEFT([League-Division],1)","v":"A"},{"$f":"RIGHT([League-Division],1)","v":"W"},{"$f":"IF([LG]=\"N\",10,20)","v":20},{"$f":"IF([DIV]=\"E\",1,IF([DIV]=\"C\",2,3))","v":3},{"$f":"[LGS]+[DIVS]","v":23}]
[2008,"Wolfe, Brian","TOR","Toronto Blue Jays",395500,20,0,22,-4,2.4500000000000002,1.0909090909090908,5.7272727272727275,7.3636363636363642,86,76,3.49,4340,1184,1330,7.3658986175115206,8.2741935483870961,1.2421658986175115,"AL-E",{"$f":"LEFT([League-Division],1)","v":"A"},{"$f":"RIGHT([League-Division],1)","v":"E"},{"$f":"IF([LG]=\"N\",10,20)","v":20},{"$f":"IF([DIV]=\"E\",1,IF([DIV]=\"C\",2,3))","v":1},{"$f":"[LGS]+[DIVS]","v":21}]
[1999,"Wolf, Randy","PHI","Philadelphia Phillies",200000,22,21,121.66666666666667,-10,5.55,1.5863013698630137,8.580821917808219,9.3205479452054796,77,85,4.93,4314,1030,1494,6.4464534075104316,9.350486787204451,1.4749652294853963,"NL-E",{"$f":"LEFT([League-Division],1)","v":"N"},{"$f":"RIGHT([League-Division],1)","v":"E"},{"$f":"IF([LG]=\"N\",10,20)","v":10},{"$f":"IF([DIV]=\"E\",1,IF([DIV]=\"C\",2,3))","v":1},{"$f":"[LGS]+[DIVS]","v":11}]
[2000,"Wolf, Randy","PHI","Philadelphia Phillies",240000,32,32,206.33333333333334,-50,4.3600000000000003,1.4200323101777059,6.9789983844911152,9.1599353796445886,65,97,4.7699999999999996,4315,1123,1458,7.0268829663962915,9.1230590961761315,1.4586326767091542,"NL-E",{"$f":"LEFT([League-Division],1)","v":"N"},{"$f":"RIGHT([League-Division],1)","v":"E"},{"$f":"IF([LG]=\"N\",10,20)","v":10},{"$f":"IF([DIV]=\"E\",1,IF([DIV]=\"C\",2,3))","v":1},{"$f":"[LGS]+[DIVS]","v":11}]
[2001,"Wolf, Randy","PHI","Philadelphia Phillies",365000,28,25,163,2,3.7,1.2331288343558282,8.3926380368098155,8.2822085889570545,86,76,4.1500000000000004,4336,1086,1417,6.7624538745387452,8.8235701107011071,1.3450184501845019,"NL-E",{"$f":"LEFT([League-Division],1)","v":"N"},{"$f":"RIGHT([League-Division],1)","v":"E"},{"$f":"IF([LG]=\"N\",10,20)","v":10},{"$f":"IF([DIV]=\"E\",1,IF([DIV]=\"C\",2,3))","v":1},{"$f":"[LGS]+[DIVS]","v":11}]
[2002,"Wolf, Randy","PHI","Philadelphia Phillies",450000,31,31,210.66666666666666,0,3.2,1.115506329113924,7.3481012658227849,7.3481012658227849,80,81,4.17,4349,1075,1381,6.6739480340308113,8.5736951023223718,1.345826626810761,"NL-E",{"$f":"LEFT([League-Division],1)","v":"N"},{"$f":"RIGHT([League-Division],1)","v":"E"},{"$f":"IF([LG]=\"N\",10,20)","v":10},{"$f":"IF([DIV]=\"E\",1,IF([DIV]=\"C\",2,3))","v":1},{"$f":"[LGS]+[DIVS]","v":11}]
[2003,"Wolf, Randy","PHI","Philadelphia Phillies",2375000,33,33,200,1,4.2300000000000004,1.27,7.9649999999999999,7.92,86,76,4.04,4331,1060,1386,6.6081736319556681,8.6404987300854312,1.3313322558300622,"NL-E",{"$f":"LEFT([League-Division],1)","v":"N"},{"$f":"RIGHT([League-Division],1)","v":"E"},{"$f":"IF([LG]=\"N\",10,20)","v":10},{"$f":"IF([DIV]=\"E\",1,IF([DIV]=\"C\",2,3))","v":1},{"$f":"[LGS]+[DIVS]","v":11}]
[2004,"Wolf, Randy","PHI","Philadelphia Phillies",4375000,23,23,136.66666666666666,-56,4.28,1.3243902439024391,5.8609756097560979,9.5487804878048781,86,76,4.45,4388,1070,1488,6.5838650865998174,9.1558796718322686,1.36052871467639,"NL-E",{"$f":"LEFT([League-Division],1)","v":"N"},{"$f":"RIGHT([League-Division],1)","v":"E"},{"$f":"IF([LG]=\"N\",10,20)","v":10},{"$f":"IF([DIV]=\"E\",1,IF([DIV]=\"C\",2,3))","v":1},{"$f":"[LGS]+[DIVS]","v":11}]
[2005,"Wolf, Randy","PHI","Philadelphia Phillies",6625000,13,13,80,-26,4.3899999999999997,1.4125000000000001,6.8624999999999998,9.7874999999999996,88,74,4.21,4305,1159,1379,7.2689895470383279,8.6487804878048777,1.3003484320557492,"NL-E",{"$f":"LEFT([League-Division],1)","v":"N"},{"$f":"RIGHT([League-Division],1)","v":"E"},{"$f":"IF([LG]=\"N\",10,20)","v":10},{"$f":"IF([DIV]=\"E\",1,IF([DIV]=\"C\",2,3))","v":1},{"$f":"[LGS]+[DIVS]","v":11}]
[2006,"Wolf, Randy","PHI","Philadelphia Phillies",9125000,12,12,56.666666666666664,-19,5.56,1.6941176470588235,6.9882352941176471,10.005882352941176,85,77,4.5999999999999996,4381,1138,1561,7.0134672449212516,9.6204062999315223,1.4195389180552387,"NL-E",{"$f":"LEFT([League-Division],1)","v":"N"},{"$f":"RIGHT([League-Division],1)","v":"E"},{"$f":"IF([LG]=\"N\",10,20)","v":10},{"$f":"IF([DIV]=\"E\",1,IF([DIV]=\"C\",2,3))","v":1},{"$f":"[LGS]+[DIVS]","v":11}]
[2007,"Wolf, Randy","LAN","Los Angeles Dodgers",7477969,18,18,102.66666666666667,-16,4.7300000000000004,1.4512987012987013,8.2402597402597397,9.6428571428571423,82,80,4.2,4350,1184,1443,7.3489655172413801,8.9565517241379311,1.3524137931034483,"NL-W",{"$f":"LEFT([League-Division],1)","v":"N"},{"$f":"RIGHT([League-Division],1)","v":"W"},{"$f":"IF([LG]=\"N\",10,20)","v":10},{"$f":"IF([DIV]=\"E\",1,IF([DIV]=\"C\",2,3))","v":3},{"$f":"[LGS]+[DIVS]","v":13}]
[2008,"Wolf, Randy","HOU","Houston Astros",4750000,12,12,70.666666666666671,-11,3.57,1.3018867924528301,7.2594339622641506,8.6603773584905657,86,75,4.3899999999999997,4276,1095,1453,6.9141721234798883,9.1746959775491117,1.3645930776426567,"NL-C",{"$f":"LEFT([League-Division],1)","v":"N"},{"$f":"RIGHT([League-Division],1)","v":"C"},{"$f":"IF([LG]=\"N\",10,20)","v":10},{"$f":"IF([DIV]=\"E\",1,IF([DIV]=\"C\",2,3))","v":2},{"$f":"[LGS]+[DIVS]","v":12}]
[2008,"Wolf, Randy","SDN","San Diego Padres",4750000,21,21,119.66666666666667,-18,4.74,1.4206128133704734,7.8969359331476321,9.2506963788300833,63,99,4.41,4375,1100,1466,6.7885714285714291,9.0473142857142861,1.3899428571428571,"NL-W",{"$f":"LEFT([League-Division],1)","v":"N"},{"$f":"RIGHT([League-Division],1)","v":"W"},{"$f":"IF([LG]=\"N\",10,20)","v":10},{"$f":"IF([DIV]=\"E\",1,IF([DIV]=\"C\",2,3))","v":3},{"$f":"[LGS]+[DIVS]","v":13}]
[2009,"Wolf, Randy","LAN","Los Angeles Dodgers",4956237,34,34,214.33333333333334,-18,3.23,1.1010886469673404,6.7185069984447905,7.4743390357698285,95,67,3.41,4420,1272,1265,7.7701357466063357,7.7273755656108598,1.2549773755656108,"NL-W",{"$f":"LEFT([League-Division],1)","v":"N"},{"$f":"RIGHT([League-Division],1)","v":"W"},{"$f":"IF([LG]=\"N\",10,20)","v":10},{"$f":"IF([DIV]=\"E\",1,IF([DIV]=\"C\",2,3))","v":3},{"$f":"[LGS]+[DIVS]","v":13}]
[2010,"Wolf, Randy","MIL","Milwaukee Brewers",8800276,34,34,215.66666666666666,-71,4.17,1.3910355486862442,5.9258114374034001,8.8887171561051002,77,85,4.59,4317,1258,1487,7.8679638637943015,9.3002084781097984,1.4378040305767894,"NL-C",{"$f":"LEFT([League-Division],1)","v":"N"},{"$f":"RIGHT([League-Division],1)","v":"C"},{"$f":"IF([LG]=\"N\",10,20)","v":10},{"$f":"IF([DIV]=\"E\",1,IF([DIV]=\"C\",2,3))","v":2},{"$f":"[LGS]+[DIVS]","v":12}]
[1998,"Woodall, Brad","MIL","Milwaukee Brewers",172000,31,20,138,-60,4.96,1.3913043478260869,5.5434782608695645,9.4565217391304355,74,88,4.63,4353,1063,1538,6.5933838731909029,9.5396278428669881,1.4390075809786353,"NL-C",{"$f":"LEFT([League-Division],1)","v":"N"},{"$f":"RIGHT([League-Division],1)","v":"C"},{"$f":"IF([LG]=\"N\",10,20)","v":10},{"$f":"IF([DIV]=\"E\",1,IF([DIV]=\"C\",2,3))","v":2},{"$f":"[LGS]+[DIVS]","v":12}]
[1999,"Woodall, Brad","CHN","Chicago Cubs",200000,6,3,16,-10,5.63,1.4375,3.9375,9.5625,67,95,5.27,4291,980,1619,6.1663947797716148,10.187135865765557,1.5017478443253323,"NL-C",{"$f":"LEFT([League-Division],1)","v":"N"},{"$f":"RIGHT([League-Division],1)","v":"C"},{"$f":"IF([LG]=\"N\",10,20)","v":10},{"$f":"IF([DIV]=\"E\",1,IF([DIV]=\"C\",2,3))","v":2},{"$f":"[LGS]+[DIVS]","v":12}]
[1997,"Woodard, Steve","ML4","Milwaukee Brewers",150000,7,7,36.666666666666664,-7,5.15,1.2272727272727273,7.8545454545454554,9.5727272727272741,78,83,4.22,4282,1012,1419,6.3811303129378798,8.9474544605324624,1.3738907052779077,"AL-C",{"$f":"LEFT([League-Division],1)","v":"A"},{"$f":"RIGHT([League-Division],1)","v":"C"},{"$f":"IF([LG]=\"N\",10,20)","v":20},{"$f":"IF([DIV]=\"E\",1,IF([DIV]=\"C\",2,3))","v":2},{"$f":"[LGS]+[DIVS]","v":22}]
[1998,"Woodard, Steve","MIL","Milwaukee Brewers",174500,34,26,165.66666666666666,-35,4.18,1.2253521126760565,7.3340040241448694,9.2354124748490953,74,88,4.63,4353,1063,1538,6.5933838731909029,9.5396278428669881,1.4390075809786353,"NL-C",{"$f":"LEFT([League-Division],1)","v":"N"},{"$f":"RIGHT([League-Division],1)","v":"C"},{"$f":"IF([LG]=\"N\",10,20)","v":10},{"$f":"IF([DIV]=\"E\",1,IF([DIV]=\"C\",2,3))","v":2},{"$f":"[LGS]+[DIVS]","v":12}]
[1999,"Woodard, Steve","MIL","Milwaukee Brewers",270000,31,29,185,-100,4.5199999999999996,1.3783783783783783,5.7891891891891891,10.654054054054054,74,87,5.07,4327,987,1618,6.1587705107464759,10.096140513057545,1.5488791310376706,"NL-C",{"$f":"LEFT([League-Division],1)","v":"N"},{"$f":"RIGHT([League-Division],1)","v":"C"},{"$f":"IF([LG]=\"N\",10,20)","v":10},{"$f":"IF([DIV]=\"E\",1,IF([DIV]=\"C\",2,3))","v":2},{"$f":"[LGS]+[DIVS]","v":12}]
[2000,"Woodard, Steve","MIL","Milwaukee Brewers",350000,27,11,93.666666666666671,-60,5.96,1.686832740213523,6.2455516014234878,12.01067615658363,73,89,4.6399999999999997,4398,967,1501,5.9365620736698492,9.2148703956343798,1.5204638472032743,"NL-C",{"$f":"LEFT([League-Division],1)","v":"N"},{"$f":"RIGHT([League-Division],1)","v":"C"},{"$f":"IF([LG]=\"N\",10,20)","v":10},{"$f":"IF([DIV]=\"E\",1,IF([DIV]=\"C\",2,3))","v":2},{"$f":"[LGS]+[DIVS]","v":12}]
[2000,"Woodard, Steve","CLE","Cleveland Indians",350000,13,11,54,-22,5.67,1.2592592592592593,5.833333333333333,9.5,90,72,4.84,4326,1213,1511,7.5707350901525654,9.4306518723994444,1.5097087378640777,"AL-C",{"$f":"LEFT([League-Division],1)","v":"A"},{"$f":"RIGHT([League-Division],1)","v":"C"},{"$f":"IF([LG]=\"N\",10,20)","v":20},{"$f":"IF([DIV]=\"E\",1,IF([DIV]=\"C\",2,3))","v":2},{"$f":"[LGS]+[DIVS]","v":22}]
[2001,"Woodard, Steve","CLE","Cleveland Indians",1325000,29,10,97,-77,5.2,1.5051546391752577,4.8247422680412368,11.969072164948454,91,71,4.6399999999999997,4340,1218,1512,7.5774193548387094,9.4064516129032256,1.4412442396313363,"AL-C",{"$f":"LEFT([League-Division],1)","v":"A"},{"$f":"RIGHT([League-Division],1)","v":"C"},{"$f":"IF([LG]=\"N\",10,20)","v":20},{"$f":"IF([DIV]=\"E\",1,IF([DIV]=\"C\",2,3))","v":2},{"$f":"[LGS]+[DIVS]","v":22}]
[2002,"Woodard, Steve","TEX","Texas Rangers",550000,14,0,17.666666666666668,-6,6.62,1.5849056603773584,7.132075471698113,10.188679245283019,72,90,5.15,4319,1030,1528,6.4389905070618196,9.5522111599907387,1.5260476962259781,"AL-W",{"$f":"LEFT([League-Division],1)","v":"A"},{"$f":"RIGHT([League-Division],1)","v":"W"},{"$f":"IF([LG]=\"N\",10,20)","v":20},{"$f":"IF([DIV]=\"E\",1,IF([DIV]=\"C\",2,3))","v":3},{"$f":"[LGS]+[DIVS]","v":23}]
[2007,"Wood, Jason","FLO","Florida Marlins",390000,1,0,1,0,0,0,0,0,71,91,4.9400000000000004,4331,1142,1617,7.1193719695220503,10.080581851766334,1.5779265758485337,"NL-E",{"$f":"LEFT([League-Division],1)","v":"N"},{"$f":"RIGHT([League-Division],1)","v":"E"},{"$f":"IF([LG]=\"N\",10,20)","v":10},{"$f":"IF([DIV]=\"E\",1,IF([DIV]=\"C\",2,3))","v":1},{"$f":"[LGS]+[DIVS]","v":11}]
[1998,"Wood, Kerry","CHN","Chicago Cubs",170000,26,26,166.66666666666666,116,3.4,1.212,12.582000000000001,6.3180000000000005,90,73,4.5,4431,1207,1528,7.3547731888964121,9.3107650643195665,1.4238320920785377,"NL-C",{"$f":"LEFT([League-Division],1)","v":"N"},{"$f":"RIGHT([League-Division],1)","v":"C"},{"$f":"IF([LG]=\"N\",10,20)","v":10},{"$f":"IF([DIV]=\"E\",1,IF([DIV]=\"C\",2,3))","v":2},{"$f":"[LGS]+[DIVS]","v":12}]
[2000,"Wood, Kerry","CHN","Chicago Cubs",690000,23,23,137,20,4.8,1.4525547445255473,8.6715328467153281,7.3576642335766422,65,97,5.25,4363,1143,1505,7.0733440293376129,9.3135457254182903,1.487279394911758,"NL-C",{"$f":"LEFT([League-Division],1)","v":"N"},{"$f":"RIGHT([League-Division],1)","v":"C"},{"$f":"IF([LG]=\"N\",10,20)","v":10},{"$f":"IF([DIV]=\"E\",1,IF([DIV]=\"C\",2,3))","v":2},{"$f":"[LGS]+[DIVS]","v":12}]
[2001,"Wood, Kerry","CHN","Chicago Cubs",1940000,28,28,174.33333333333334,90,3.36,1.2562141491395793,11.20267686424474,6.556405353728489,88,74,4.03,4311,1344,1357,8.4175365344467643,8.4989561586638835,1.3270702853166318,"NL-C",{"$f":"LEFT([League-Division],1)","v":"N"},{"$f":"RIGHT([League-Division],1)","v":"C"},{"$f":"IF([LG]=\"N\",10,20)","v":10},{"$f":"IF([DIV]=\"E\",1,IF([DIV]=\"C\",2,3))","v":2},{"$f":"[LGS]+[DIVS]","v":12}]
[2002,"Wood, Kerry","CHN","Chicago Cubs",3695000,33,33,213.66666666666666,48,3.66,1.2449297971918878,9.1404056162246494,7.1185647425897045,67,95,4.29,4324,1333,1373,8.3235430157261803,8.5733117483811299,1.3730342275670675,"NL-C",{"$f":"LEFT([League-Division],1)","v":"N"},{"$f":"RIGHT([League-Division],1)","v":"C"},{"$f":"IF([LG]=\"N\",10,20)","v":10},{"$f":"IF([DIV]=\"E\",1,IF([DIV]=\"C\",2,3))","v":2},{"$f":"[LGS]+[DIVS]","v":12}]
[2003,"Wood, Kerry","CHN","Chicago Cubs",6190000,32,32,211,114,3.2,1.1943127962085307,11.345971563981042,6.4834123222748818,88,74,3.83,4369,1404,1304,8.6765850308995187,8.0585946440833141,1.3190661478599222,"NL-C",{"$f":"LEFT([League-Division],1)","v":"N"},{"$f":"RIGHT([League-Division],1)","v":"C"},{"$f":"IF([LG]=\"N\",10,20)","v":10},{"$f":"IF([DIV]=\"E\",1,IF([DIV]=\"C\",2,3))","v":2},{"$f":"[LGS]+[DIVS]","v":12}]
[2004,"Wood, Kerry","CHN","Chicago Cubs",8000000,22,22,140.33333333333334,17,3.72,1.2684085510688836,9.2351543942992862,8.1448931116389538,89,73,3.81,4396,1346,1363,8.2670609645131936,8.3714740673339403,1.3020928116469519,"NL-C",{"$f":"LEFT([League-Division],1)","v":"N"},{"$f":"RIGHT([League-Division],1)","v":"C"},{"$f":"IF([LG]=\"N\",10,20)","v":10},{"$f":"IF([DIV]=\"E\",1,IF([DIV]=\"C\",2,3))","v":2},{"$f":"[LGS]+[DIVS]","v":12}]
[2005,"Wood, Kerry","CHN","Chicago Cubs",9500000,21,10,66,25,4.2300000000000004,1.1818181818181819,10.5,7.0909090909090908,79,83,4.1900000000000004,4320,1256,1357,7.85,8.4812499999999993,1.3423611111111111,"NL-C",{"$f":"LEFT([League-Division],1)","v":"N"},{"$f":"RIGHT([League-Division],1)","v":"C"},{"$f":"IF([LG]=\"N\",10,20)","v":10},{"$f":"IF([DIV]=\"E\",1,IF([DIV]=\"C\",2,3))","v":2},{"$f":"[LGS]+[DIVS]","v":12}]
[2006,"Wood, Kerry","CHN","Chicago Cubs",12000000,4,4,19.666666666666668,-6,4.12,1.3728813559322033,5.9491525423728815,8.6949152542372872,66,96,4.74,4317,1250,1396,7.8179291174426684,8.7310632383599724,1.4475330090340515,"NL-C",{"$f":"LEFT([League-Division],1)","v":"N"},{"$f":"RIGHT([League-Division],1)","v":"C"},{"$f":"IF([LG]=\"N\",10,20)","v":10},{"$f":"IF([DIV]=\"E\",1,IF([DIV]=\"C\",2,3))","v":2},{"$f":"[LGS]+[DIVS]","v":12}]
[2007,"Wood, Kerry","CHN","Chicago Cubs",1750000,22,0,24.333333333333332,6,3.33,1.273972602739726,8.8767123287671232,6.6575342465753433,85,77,4.04,4340,1211,1340,7.5338709677419349,8.3364055299539164,1.3223502304147465,"NL-C",{"$f":"LEFT([League-Division],1)","v":"N"},{"$f":"RIGHT([League-Division],1)","v":"C"},{"$f":"IF([LG]=\"N\",10,20)","v":10},{"$f":"IF([DIV]=\"E\",1,IF([DIV]=\"C\",2,3))","v":2},{"$f":"[LGS]+[DIVS]","v":12}]
[2008,"Wood, Kerry","CHN","Chicago Cubs",4200000,65,0,66.333333333333329,30,3.26,1.085427135678392,11.396984924623117,7.3266331658291461,97,64,3.87,4352,1264,1329,7.8419117647058814,8.245174632352942,1.2938878676470587,"NL-C",{"$f":"LEFT([League-Division],1)","v":"N"},{"$f":"RIGHT([League-Division],1)","v":"C"},{"$f":"IF([LG]=\"N\",10,20)","v":10},{"$f":"IF([DIV]=\"E\",1,IF([DIV]=\"C\",2,3))","v":2},{"$f":"[LGS]+[DIVS]","v":12}]
[2009,"Wood, Kerry","CLE","Cleveland Indians",10000000,58,0,55,15,4.25,1.3818181818181818,10.309090909090909,7.8545454545454545,65,97,5.07,4302,986,1570,6.1882845188284517,9.8535564853556483,1.5118549511854951,"AL-C",{"$f":"LEFT([League-Division],1)","v":"A"},{"$f":"RIGHT([League-Division],1)","v":"C"},{"$f":"IF([LG]=\"N\",10,20)","v":20},{"$f":"IF([DIV]=\"E\",1,IF([DIV]=\"C\",2,3))","v":2},{"$f":"[LGS]+[DIVS]","v":22}]
[2010,"Wood, Kerry","NYA","New York Yankees",10500000,24,0,26,17,0.69,1.2307692307692308,10.73076923076923,4.8461538461538458,95,67,4.0599999999999996,4327,1154,1349,7.2008319852091516,8.4176103535937141,1.3096833834065174,"AL-E",{"$f":"LEFT([League-Division],1)","v":"A"},{"$f":"RIGHT([League-Division],1)","v":"E"},{"$f":"IF([LG]=\"N\",10,20)","v":20},{"$f":"IF([DIV]=\"E\",1,IF([DIV]=\"C\",2,3))","v":1},{"$f":"[LGS]+[DIVS]","v":21}]
[2010,"Wood, Kerry","CLE","Cleveland Indians",10500000,23,0,20,-3,6.3,1.6,8.1,9.4500000000000011,69,93,4.3,4299,967,1477,6.0732728541521288,9.2763433356594565,1.42986741102582,"AL-C",{"$f":"LEFT([League-Division],1)","v":"A"},{"$f":"RIGHT([League-Division],1)","v":"C"},{"$f":"IF([LG]=\"N\",10,20)","v":20},{"$f":"IF([DIV]=\"E\",1,IF([DIV]=\"C\",2,3))","v":2},{"$f":"[LGS]+[DIVS]","v":22}]
[2005,"Wood, Mike","KCA","Kansas City Royals",319000,47,10,115,-69,4.46,1.5739130434782609,4.695652173913043,10.095652173913043,56,106,5.49,4240,924,1640,5.8839622641509433,10.443396226415095,1.5707547169811322,"AL-C",{"$f":"LEFT([League-Division],1)","v":"A"},{"$f":"RIGHT([League-Division],1)","v":"C"},{"$f":"IF([LG]=\"N\",10,20)","v":20},{"$f":"IF([DIV]=\"E\",1,IF([DIV]=\"C\",2,3))","v":2},{"$f":"[LGS]+[DIVS]","v":22}]
[2006,"Wood, Mike","KCA","Kansas City Royals",350000,23,7,64.666666666666671,-57,5.71,1.6855670103092781,4.036082474226804,11.969072164948454,62,100,5.65,4279,904,1648,5.7041364804860955,10.398691283010049,1.6020098153774247,"AL-C",{"$f":"LEFT([League-Division],1)","v":"A"},{"$f":"RIGHT([League-Division],1)","v":"C"},{"$f":"IF([LG]=\"N\",10,20)","v":20},{"$f":"IF([DIV]=\"E\",1,IF([DIV]=\"C\",2,3))","v":2},{"$f":"[LGS]+[DIVS]","v":22}]
[2007,"Wood, Mike","TEX","Texas Rangers",420000,21,4,50.666666666666664,-43,5.33,1.6381578947368423,4.4407894736842106,12.078947368421051,75,87,4.75,4290,976,1525,6.1426573426573432,9.5979020979020984,1.5335664335664336,"AL-W",{"$f":"LEFT([League-Division],1)","v":"A"},{"$f":"RIGHT([League-Division],1)","v":"W"},{"$f":"IF([LG]=\"N\",10,20)","v":20},{"$f":"IF([DIV]=\"E\",1,IF([DIV]=\"C\",2,3))","v":3},{"$f":"[LGS]+[DIVS]","v":23}]
[2005,"Woods, Jake","LAA","Los Angeles Angels of Anaheim",316000,28,0,27.666666666666668,-10,4.55,1.3734939759036144,6.5060240963855422,9.759036144578312,95,67,3.68,4393,1126,1419,6.9205554290917375,8.7213749146369217,1.2715684042795357,"AL-W",{"$f":"LEFT([League-Division],1)","v":"A"},{"$f":"RIGHT([League-Division],1)","v":"W"},{"$f":"IF([LG]=\"N\",10,20)","v":20},{"$f":"IF([DIV]=\"E\",1,IF([DIV]=\"C\",2,3))","v":3},{"$f":"[LGS]+[DIVS]","v":23}]
[2006,"Woods, Jake","SEA","Seattle Mariners",332000,37,8,105,-49,4.2,1.6,5.6571428571428566,9.8571428571428577,78,84,4.5999999999999996,4340,1067,1500,6.638018433179723,9.3317972350230391,1.4239631336405529,"AL-W",{"$f":"LEFT([League-Division],1)","v":"A"},{"$f":"RIGHT([League-Division],1)","v":"W"},{"$f":"IF([LG]=\"N\",10,20)","v":20},{"$f":"IF([DIV]=\"E\",1,IF([DIV]=\"C\",2,3))","v":3},{"$f":"[LGS]+[DIVS]","v":23}]
[1995,"Worrell, Tim","SDN","San Diego Padres",150000,9,0,13.333333333333334,-3,4.7300000000000004,1.65,8.7750000000000004,10.799999999999999,70,74,4.13,3852,1047,1242,7.3387850467289724,8.7056074766355138,1.3660436137071652,"NL-W",{"$f":"LEFT([League-Division],1)","v":"N"},{"$f":"RIGHT([League-Division],1)","v":"W"},{"$f":"IF([LG]=\"N\",10,20)","v":10},{"$f":"IF([DIV]=\"E\",1,IF([DIV]=\"C\",2,3))","v":3},{"$f":"[LGS]+[DIVS]","v":13}]
[1996,"Worrell, Tim","SDN","San Diego Padres",230000,50,11,121,-10,3.05,1.2231404958677685,7.3636363636363642,8.1074380165289259,91,71,3.73,4467,1194,1395,7.2169241101410337,8.4318334452652781,1.2766957689724647,"NL-W",{"$f":"LEFT([League-Division],1)","v":"N"},{"$f":"RIGHT([League-Division],1)","v":"W"},{"$f":"IF([LG]=\"N\",10,20)","v":10},{"$f":"IF([DIV]=\"E\",1,IF([DIV]=\"C\",2,3))","v":3},{"$f":"[LGS]+[DIVS]","v":13}]
[1997,"Worrell, Tim","SDN","San Diego Padres",835000,60,10,106.33333333333333,-35,5.16,1.5611285266457682,6.8557993730407532,9.8181818181818201,76,86,4.99,4350,1059,1581,6.5731034482758623,9.8131034482758626,1.5013793103448276,"NL-W",{"$f":"LEFT([League-Division],1)","v":"N"},{"$f":"RIGHT([League-Division],1)","v":"W"},{"$f":"IF([LG]=\"N\",10,20)","v":10},{"$f":"IF([DIV]=\"E\",1,IF([DIV]=\"C\",2,3))","v":3},{"$f":"[LGS]+[DIVS]","v":13}]
[1998,"Worrell, Tim","DET","Detroit Tigers",1000000,15,9,61.666666666666664,-19,5.98,1.3783783783783785,6.8594594594594591,9.6324324324324326,65,97,4.93,4338,947,1551,5.894190871369295,9.6535269709543563,1.4840940525587829,"AL-C",{"$f":"LEFT([League-Division],1)","v":"A"},{"$f":"RIGHT([League-Division],1)","v":"C"},{"$f":"IF([LG]=\"N\",10,20)","v":20},{"$f":"IF([DIV]=\"E\",1,IF([DIV]=\"C\",2,3))","v":2},{"$f":"[LGS]+[DIVS]","v":22}]
[1998,"Worrell, Tim","CLE","Cleveland Indians",1000000,3,0,5.333333333333333,-4,5.0599999999999996,1.5,3.375,10.125,89,73,4.45,4380,1037,1552,6.3924657534246574,9.5671232876712331,1.4486301369863013,"AL-C",{"$f":"LEFT([League-Division],1)","v":"A"},{"$f":"RIGHT([League-Division],1)","v":"C"},{"$f":"IF([LG]=\"N\",10,20)","v":20},{"$f":"IF([DIV]=\"E\",1,IF([DIV]=\"C\",2,3))","v":2},{"$f":"[LGS]+[DIVS]","v":22}]
[1998,"Worrell, Tim","OAK","Oakland Athletics",1000000,25,0,36,-1,4,1.1666666666666667,8.25,8.5,74,88,4.83,4302,922,1555,5.7866108786610875,9.7594142259414216,1.4532775453277544,"AL-W",{"$f":"LEFT([League-Division],1)","v":"A"},{"$f":"RIGHT([League-Division],1)","v":"W"},{"$f":"IF([LG]=\"N\",10,20)","v":20},{"$f":"IF([DIV]=\"E\",1,IF([DIV]=\"C\",2,3))","v":3},{"$f":"[LGS]+[DIVS]","v":23}]
[1999,"Worrell, Tim","OAK","Oakland Athletics",900000,53,0,69.333333333333329,-7,4.1500000000000004,1.4855769230769231,8.0480769230769234,8.9567307692307701,87,75,4.6900000000000004,4314,967,1537,6.052155771905424,9.6196105702364392,1.4645340751043114,"AL-W",{"$f":"LEFT([League-Division],1)","v":"A"},{"$f":"RIGHT([League-Division],1)","v":"W"},{"$f":"IF([LG]=\"N\",10,20)","v":20},{"$f":"IF([DIV]=\"E\",1,IF([DIV]=\"C\",2,3))","v":3},{"$f":"[LGS]+[DIVS]","v":23}]
[2000,"Worrell, Tim","BAL","Baltimore Orioles",700000,5,0,7.333333333333333,-7,7.36,2.3181818181818183,6.1363636363636367,14.727272727272728,74,88,5.37,4299,1017,1547,6.3872993719469644,9.7159804605722258,1.5436147941381717,"AL-E",{"$f":"LEFT([League-Division],1)","v":"A"},{"$f":"RIGHT([League-Division],1)","v":"E"},{"$f":"IF([LG]=\"N\",10,20)","v":20},{"$f":"IF([DIV]=\"E\",1,IF([DIV]=\"C\",2,3))","v":1},{"$f":"[LGS]+[DIVS]","v":21}]
[2000,"Worrell, Tim","CHN","Chicago Cubs",700000,54,0,62,-8,2.4700000000000002,1.3548387096774193,7.5483870967741939,8.7096774193548399,65,97,5.25,4363,1143,1505,7.0733440293376129,9.3135457254182903,1.487279394911758,"NL-C",{"$f":"LEFT([League-Division],1)","v":"N"},{"$f":"RIGHT([League-Division],1)","v":"C"},{"$f":"IF([LG]=\"N\",10,20)","v":10},{"$f":"IF([DIV]=\"E\",1,IF([DIV]=\"C\",2,3))","v":2},{"$f":"[LGS]+[DIVS]","v":12}]
[2001,"Worrell, Tim","SFN","San Francisco Giants",1300000,73,0,78.333333333333329,-8,3.45,1.3276595744680852,7.2382978723404259,8.1574468085106382,90,72,4.18,4390,1080,1437,6.642369020501139,8.8380410022779046,1.3776765375854214,"NL-W",{"$f":"LEFT([League-Division],1)","v":"N"},{"$f":"RIGHT([League-Division],1)","v":"W"},{"$f":"IF([LG]=\"N\",10,20)","v":10},{"$f":"IF([DIV]=\"E\",1,IF([DIV]=\"C\",2,3))","v":3},{"$f":"[LGS]+[DIVS]","v":13}]
[2002,"Worrell, Tim","SFN","San Francisco Giants",1400000,80,0,72,0,2.25,1.1805555555555556,6.875,6.875,95,66,3.54,4312,992,1349,6.2115027829313547,8.4468923933209652,1.3024118738404453,"NL-W",{"$f":"LEFT([League-Division],1)","v":"N"},{"$f":"RIGHT([League-Division],1)","v":"W"},{"$f":"IF([LG]=\"N\",10,20)","v":10},{"$f":"IF([DIV]=\"E\",1,IF([DIV]=\"C\",2,3))","v":3},{"$f":"[LGS]+[DIVS]","v":13}]
[2003,"Worrell, Tim","SFN","San Francisco Giants",2000000,76,0,78.333333333333329,-9,2.87,1.3021276595744682,7.4680851063829792,8.5021276595744677,100,61,3.73,4312,1006,1349,6.2991651205936918,8.4468923933209652,1.3184137291280149,"NL-W",{"$f":"LEFT([League-Division],1)","v":"N"},{"$f":"RIGHT([League-Division],1)","v":"W"},{"$f":"IF([LG]=\"N\",10,20)","v":10},{"$f":"IF([DIV]=\"E\",1,IF([DIV]=\"C\",2,3))","v":3},{"$f":"[LGS]+[DIVS]","v":13}]
[2004,"Worrell, Tim","PHI","Philadelphia Phillies",2750000,77,0,78.333333333333329,-11,3.68,1.225531914893617,7.353191489361703,8.6170212765957448,86,76,4.45,4388,1070,1488,6.5838650865998174,9.1558796718322686,1.36052871467639,"NL-E",{"$f":"LEFT([League-Division],1)","v":"N"},{"$f":"RIGHT([League-Division],1)","v":"E"},{"$f":"IF([LG]=\"N\",10,20)","v":10},{"$f":"IF([DIV]=\"E\",1,IF([DIV]=\"C\",2,3))","v":1},{"$f":"[LGS]+[DIVS]","v":11}]
[2005,"Worrell, Tim","PHI","Philadelphia Phillies",3050000,19,0,17,-12,7.41,1.8823529411764706,9,15.352941176470587,88,74,4.21,4305,1159,1379,7.2689895470383279,8.6487804878048777,1.3003484320557492,"NL-E",{"$f":"LEFT([League-Division],1)","v":"N"},{"$f":"RIGHT([League-Division],1)","v":"E"},{"$f":"IF([LG]=\"N\",10,20)","v":10},{"$f":"IF([DIV]=\"E\",1,IF([DIV]=\"C\",2,3))","v":1},{"$f":"[LGS]+[DIVS]","v":11}]
[2005,"Worrell, Tim","ARI","Arizona Diamondbacks",3050000,32,0,31.666666666666668,-8,2.27,1.2315789473684211,6.2526315789473674,8.5263157894736832,77,85,4.84,4369,1038,1580,6.414740215152209,9.7642481116960411,1.4536507209887848,"NL-W",{"$f":"LEFT([League-Division],1)","v":"N"},{"$f":"RIGHT([League-Division],1)","v":"W"},{"$f":"IF([LG]=\"N\",10,20)","v":10},{"$f":"IF([DIV]=\"E\",1,IF([DIV]=\"C\",2,3))","v":3},{"$f":"[LGS]+[DIVS]","v":13}]
[2006,"Worrell, Tim","SFN","San Francisco Giants",1750000,23,0,20.333333333333332,-16,7.52,1.7213114754098362,5.3114754098360653,12.39344262295082,76,85,4.63,4289,992,1422,6.2448123105619029,8.9517370016320825,1.4031242713919327,"NL-W",{"$f":"LEFT([League-Division],1)","v":"N"},{"$f":"RIGHT([League-Division],1)","v":"W"},{"$f":"IF([LG]=\"N\",10,20)","v":10},{"$f":"IF([DIV]=\"E\",1,IF([DIV]=\"C\",2,3))","v":3},{"$f":"[LGS]+[DIVS]","v":13}]
[1995,"Worrell, Todd","LAN","Los Angeles Dodgers",4666667,59,0,62.333333333333336,11,2.02,1.106951871657754,8.807486631016042,7.2192513368983953,78,66,3.66,3885,1060,1188,7.3667953667953672,8.256370656370656,1.274131274131274,"NL-W",{"$f":"LEFT([League-Division],1)","v":"N"},{"$f":"RIGHT([League-Division],1)","v":"W"},{"$f":"IF([LG]=\"N\",10,20)","v":10},{"$f":"IF([DIV]=\"E\",1,IF([DIV]=\"C\",2,3))","v":3},{"$f":"[LGS]+[DIVS]","v":13}]
[1996,"Worrell, Todd","LAN","Los Angeles Dodgers",4000000,72,0,65.333333333333329,-4,3.03,1.3010204081632655,9.091836734693878,9.6428571428571423,90,72,3.48,4398,1212,1378,7.4406548431105044,8.4597544338335613,1.3042291950886766,"NL-W",{"$f":"LEFT([League-Division],1)","v":"N"},{"$f":"RIGHT([League-Division],1)","v":"W"},{"$f":"IF([LG]=\"N\",10,20)","v":10},{"$f":"IF([DIV]=\"E\",1,IF([DIV]=\"C\",2,3))","v":3},{"$f":"[LGS]+[DIVS]","v":13}]
[1997,"Worrell, Todd","LAN","Los Angeles Dodgers",3750000,65,0,59.666666666666664,1,5.28,1.3910614525139666,9.2011173184357542,9.050279329608939,88,74,3.63,4377,1232,1325,7.599725839616176,8.1734064427690196,1.2823851953392735,"NL-W",{"$f":"LEFT([League-Division],1)","v":"N"},{"$f":"RIGHT([League-Division],1)","v":"W"},{"$f":"IF([LG]=\"N\",10,20)","v":10},{"$f":"IF([DIV]=\"E\",1,IF([DIV]=\"C\",2,3))","v":3},{"$f":"[LGS]+[DIVS]","v":13}]
[2002,"Wright, Dan","CHA","Chicago White Sox",220000,33,33,196.33333333333334,-64,5.18,1.3803056027164686,6.2342954159592532,9.1680814940577235,81,81,4.53,4269,945,1422,5.9768095572733664,8.9936753338018267,1.370344342937456,"AL-C",{"$f":"LEFT([League-Division],1)","v":"A"},{"$f":"RIGHT([League-Division],1)","v":"C"},{"$f":"IF([LG]=\"N\",10,20)","v":20},{"$f":"IF([DIV]=\"E\",1,IF([DIV]=\"C\",2,3))","v":2},{"$f":"[LGS]+[DIVS]","v":22}]
[2003,"Wright, Dan","CHA","Chicago White Sox",325000,20,15,86.333333333333329,-44,6.15,1.586872586872587,4.8996138996139003,9.4864864864864877,86,76,4.17,4293,1056,1364,6.6415094339622645,8.5786163522012586,1.3151642208245982,"AL-C",{"$f":"LEFT([League-Division],1)","v":"A"},{"$f":"RIGHT([League-Division],1)","v":"C"},{"$f":"IF([LG]=\"N\",10,20)","v":20},{"$f":"IF([DIV]=\"E\",1,IF([DIV]=\"C\",2,3))","v":2},{"$f":"[LGS]+[DIVS]","v":22}]
[2004,"Wright, Dan","CHA","Chicago White Sox",340000,4,4,17.666666666666668,-18,8.15,1.9811320754716979,3.0566037735849054,12.226415094339622,83,79,4.91,4297,1013,1505,6.3651384686990928,9.456597626250872,1.4186641843146381,"AL-C",{"$f":"LEFT([League-Division],1)","v":"A"},{"$f":"RIGHT([League-Division],1)","v":"C"},{"$f":"IF([LG]=\"N\",10,20)","v":20},{"$f":"IF([DIV]=\"E\",1,IF([DIV]=\"C\",2,3))","v":2},{"$f":"[LGS]+[DIVS]","v":22}]
[1996,"Wright, Jamey","COL","Colorado Rockies",109000,16,15,91.333333333333329,-60,4.93,1.5985401459854016,4.4343065693430654,10.346715328467154,83,79,5.6,4266,932,1597,5.8987341772151893,10.107594936708862,1.5618846694796062,"NL-W",{"$f":"LEFT([League-Division],1)","v":"N"},{"$f":"RIGHT([League-Division],1)","v":"W"},{"$f":"IF([LG]=\"N\",10,20)","v":10},{"$f":"IF([DIV]=\"E\",1,IF([DIV]=\"C\",2,3))","v":3},{"$f":"[LGS]+[DIVS]","v":13}]
[1997,"Wright, Jamey","COL","Colorado Rockies",169500,26,26,149.66666666666666,-139,6.25,1.7973273942093542,3.5478841870824058,11.906458797327394,83,79,5.25,4296,870,1697,5.4678770949720663,10.66550279329609,1.5803072625698324,"NL-W",{"$f":"LEFT([League-Division],1)","v":"N"},{"$f":"RIGHT([League-Division],1)","v":"W"},{"$f":"IF([LG]=\"N\",10,20)","v":10},{"$f":"IF([DIV]=\"E\",1,IF([DIV]=\"C\",2,3))","v":3},{"$f":"[LGS]+[DIVS]","v":13}]
[1998,"Wright, Jamey","COL","Colorado Rockies",240000,34,34,206.33333333333334,-149,5.67,1.5993537964458804,3.7512116316639741,10.250403877221324,77,85,5,4297,951,1583,5.9755643472189899,9.9467070048871307,1.497556434721899,"NL-W",{"$f":"LEFT([League-Division],1)","v":"N"},{"$f":"RIGHT([League-Division],1)","v":"W"},{"$f":"IF([LG]=\"N\",10,20)","v":10},{"$f":"IF([DIV]=\"E\",1,IF([DIV]=\"C\",2,3))","v":3},{"$f":"[LGS]+[DIVS]","v":13}]
[1999,"Wright, Jamey","COL","Colorado Rockies",375000,16,16,94.333333333333329,-61,4.87,1.7385159010600708,4.6749116607773855,10.49469964664311,72,90,6.02,4285,1032,1700,6.5026837806301057,10.711785297549593,1.7061843640606769,"NL-W",{"$f":"LEFT([League-Division],1)","v":"N"},{"$f":"RIGHT([League-Division],1)","v":"W"},{"$f":"IF([LG]=\"N\",10,20)","v":10},{"$f":"IF([DIV]=\"E\",1,IF([DIV]=\"C\",2,3))","v":3},{"$f":"[LGS]+[DIVS]","v":13}]
[2000,"Wright, Jamey","MIL","Milwaukee Brewers",1025000,26,25,164.66666666666666,-61,4.0999999999999996,1.4878542510121457,5.2469635627530371,8.5809716599190295,73,89,4.6399999999999997,4398,967,1501,5.9365620736698492,9.2148703956343798,1.5204638472032743,"NL-C",{"$f":"LEFT([League-Division],1)","v":"N"},{"$f":"RIGHT([League-Division],1)","v":"C"},{"$f":"IF([LG]=\"N\",10,20)","v":10},{"$f":"IF([DIV]=\"E\",1,IF([DIV]=\"C\",2,3))","v":2},{"$f":"[LGS]+[DIVS]","v":12}]
[2001,"Wright, Jamey","MIL","Milwaukee Brewers",2350000,33,33,194.66666666666666,-72,4.9000000000000004,1.5359589041095891,5.9640410958904111,9.292808219178081,68,94,4.6399999999999997,4309,1057,1452,6.6231144116964495,9.0981666279879327,1.4752842886980739,"NL-C",{"$f":"LEFT([League-Division],1)","v":"N"},{"$f":"RIGHT([League-Division],1)","v":"C"},{"$f":"IF([LG]=\"N\",10,20)","v":10},{"$f":"IF([DIV]=\"E\",1,IF([DIV]=\"C\",2,3))","v":2},{"$f":"[LGS]+[DIVS]","v":12}]
[2002,"Wright, Jamey","MIL","Milwaukee Brewers",4250000,19,19,114.33333333333333,-46,5.35,1.5568513119533529,5.4314868804664727,9.0524781341107872,56,106,4.7300000000000004,4297,1026,1468,6.446823365138469,9.2241098440772653,1.4898766581335816,"NL-C",{"$f":"LEFT([League-Division],1)","v":"N"},{"$f":"RIGHT([League-Division],1)","v":"C"},{"$f":"IF([LG]=\"N\",10,20)","v":10},{"$f":"IF([DIV]=\"E\",1,IF([DIV]=\"C\",2,3))","v":2},{"$f":"[LGS]+[DIVS]","v":12}]
[2002,"Wright, Jamey","SLN","St. Louis Cardinals",4250000,4,3,15,-7,4.8,1.8,4.8,9,97,65,3.7,4339,1009,1355,6.2786356303295694,8.431666282553584,1.3150495505876931,"NL-C",{"$f":"LEFT([League-Division],1)","v":"N"},{"$f":"RIGHT([League-Division],1)","v":"C"},{"$f":"IF([LG]=\"N\",10,20)","v":10},{"$f":"IF([DIV]=\"E\",1,IF([DIV]=\"C\",2,3))","v":2},{"$f":"[LGS]+[DIVS]","v":12}]
[2005,"Wright, Jamey","COL","Colorado Rockies",550000,34,27,171.33333333333334,-100,5.46,1.6459143968871595,5.3054474708171204,10.558365758754862,67,95,5.13,4256,981,1600,6.2234492481202999,10.150375939849624,1.5535714285714284,"NL-W",{"$f":"LEFT([League-Division],1)","v":"N"},{"$f":"RIGHT([League-Division],1)","v":"W"},{"$f":"IF([LG]=\"N\",10,20)","v":10},{"$f":"IF([DIV]=\"E\",1,IF([DIV]=\"C\",2,3))","v":3},{"$f":"[LGS]+[DIVS]","v":13}]
[2006,"Wright, Jamey","SFN","San Francisco Giants",800000,34,21,156,-88,5.19,1.4807692307692308,4.5576923076923075,9.634615384615385,76,85,4.63,4289,992,1422,6.2448123105619029,8.9517370016320825,1.4031242713919327,"NL-W",{"$f":"LEFT([League-Division],1)","v":"N"},{"$f":"RIGHT([League-Division],1)","v":"W"},{"$f":"IF([LG]=\"N\",10,20)","v":10},{"$f":"IF([DIV]=\"E\",1,IF([DIV]=\"C\",2,3))","v":3},{"$f":"[LGS]+[DIVS]","v":13}]
[2008,"Wright, Jamey","TEX","Texas Rangers",1000000,75,0,84.333333333333329,-33,5.12,1.5177865612648223,6.4031620553359687,9.9249011857707519,79,83,5.37,4326,963,1647,6.0104022191400839,10.279472954230235,1.5755894590846047,"AL-W",{"$f":"LEFT([League-Division],1)","v":"A"},{"$f":"RIGHT([League-Division],1)","v":"W"},{"$f":"IF([LG]=\"N\",10,20)","v":20},{"$f":"IF([DIV]=\"E\",1,IF([DIV]=\"C\",2,3))","v":3},{"$f":"[LGS]+[DIVS]","v":23}]
[2010,"Wright, Jamey","CLE","Cleveland Indians",900000,18,0,21.333333333333332,-16,5.48,1.59375,3.796875,10.546875,69,93,4.3,4299,967,1477,6.0732728541521288,9.2763433356594565,1.42986741102582,"AL-C",{"$f":"LEFT([League-Division],1)","v":"A"},{"$f":"RIGHT([League-Division],1)","v":"C"},{"$f":"IF([LG]=\"N\",10,20)","v":20},{"$f":"IF([DIV]=\"E\",1,IF([DIV]=\"C\",2,3))","v":2},{"$f":"[LGS]+[DIVS]","v":22}]
[2010,"Wright, Jamey","SEA","Seattle Mariners",900000,28,0,37,-11,3.41,1.2432432432432432,4.621621621621621,7.2972972972972974,61,101,3.95,4314,973,1402,6.0897079276773294,8.7746870653685676,1.2892906815020861,"AL-W",{"$f":"LEFT([League-Division],1)","v":"A"},{"$f":"RIGHT([League-Division],1)","v":"W"},{"$f":"IF([LG]=\"N\",10,20)","v":20},{"$f":"IF([DIV]=\"E\",1,IF([DIV]=\"C\",2,3))","v":3},{"$f":"[LGS]+[DIVS]","v":23}]
[1997,"Wright, Jaret","CLE","Cleveland Indians",150000,16,16,90.333333333333329,-18,4.38,1.2841328413284134,6.2767527675276753,8.0701107011070121,86,75,4.7300000000000004,4275,1036,1528,6.5431578947368418,9.6505263157894738,1.4757894736842105,"AL-C",{"$f":"LEFT([League-Division],1)","v":"A"},{"$f":"RIGHT([League-Division],1)","v":"C"},{"$f":"IF([LG]=\"N\",10,20)","v":20},{"$f":"IF([DIV]=\"E\",1,IF([DIV]=\"C\",2,3))","v":2},{"$f":"[LGS]+[DIVS]","v":22}]
[1998,"Wright, Jaret","CLE","Cleveland Indians",190000,32,32,192.66666666666666,-67,4.72,1.5259515570934257,6.5397923875432529,9.6695501730103821,89,73,4.45,4380,1037,1552,6.3924657534246574,9.5671232876712331,1.4486301369863013,"AL-C",{"$f":"LEFT([League-Division],1)","v":"A"},{"$f":"RIGHT([League-Division],1)","v":"C"},{"$f":"IF([LG]=\"N\",10,20)","v":20},{"$f":"IF([DIV]=\"E\",1,IF([DIV]=\"C\",2,3))","v":2},{"$f":"[LGS]+[DIVS]","v":22}]
[1999,"Wright, Jaret","CLE","Cleveland Indians",812500,26,26,133.66666666666666,-53,6.06,1.6533665835411473,6.127182044887781,9.6957605985037425,97,65,4.9000000000000004,4350,1120,1503,6.9517241379310342,9.3289655172413788,1.4737931034482759,"AL-C",{"$f":"LEFT([League-Division],1)","v":"A"},{"$f":"RIGHT([League-Division],1)","v":"C"},{"$f":"IF([LG]=\"N\",10,20)","v":20},{"$f":"IF([DIV]=\"E\",1,IF([DIV]=\"C\",2,3))","v":2},{"$f":"[LGS]+[DIVS]","v":22}]
[2000,"Wright, Jaret","CLE","Cleveland Indians",1062500,9,9,51.666666666666664,-8,4.7,1.3935483870967742,6.2709677419354843,7.6645161290322585,90,72,4.84,4326,1213,1511,7.5707350901525654,9.4306518723994444,1.5097087378640777,"AL-C",{"$f":"LEFT([League-Division],1)","v":"A"},{"$f":"RIGHT([League-Division],1)","v":"C"},{"$f":"IF([LG]=\"N\",10,20)","v":20},{"$f":"IF([DIV]=\"E\",1,IF([DIV]=\"C\",2,3))","v":2},{"$f":"[LGS]+[DIVS]","v":22}]
[2001,"Wright, Jaret","CLE","Cleveland Indians",2562500,7,7,29,-18,6.52,2,5.5862068965517242,11.172413793103448,91,71,4.6399999999999997,4340,1218,1512,7.5774193548387094,9.4064516129032256,1.4412442396313363,"AL-C",{"$f":"LEFT([League-Division],1)","v":"A"},{"$f":"RIGHT([League-Division],1)","v":"C"},{"$f":"IF([LG]=\"N\",10,20)","v":20},{"$f":"IF([DIV]=\"E\",1,IF([DIV]=\"C\",2,3))","v":2},{"$f":"[LGS]+[DIVS]","v":22}]
[2002,"Wright, Jaret","CLE","Cleveland Indians",4312500,8,6,18.333333333333332,-28,15.71,3.2181818181818183,5.8909090909090907,19.63636363636364,74,88,4.91,4274,1058,1508,6.6836686944314456,9.526438933083762,1.4817501169864296,"AL-C",{"$f":"LEFT([League-Division],1)","v":"A"},{"$f":"RIGHT([League-Division],1)","v":"C"},{"$f":"IF([LG]=\"N\",10,20)","v":20},{"$f":"IF([DIV]=\"E\",1,IF([DIV]=\"C\",2,3))","v":2},{"$f":"[LGS]+[DIVS]","v":22}]
[2003,"Wright, Jaret","SDN","San Diego Padres",725000,39,0,47.333333333333336,-28,8.3699999999999992,2.049295774647887,7.795774647887324,13.119718309859154,64,98,4.87,4294,1091,1458,6.8600372612948313,9.16767582673498,1.445505356311132,"NL-W",{"$f":"LEFT([League-Division],1)","v":"N"},{"$f":"RIGHT([League-Division],1)","v":"W"},{"$f":"IF([LG]=\"N\",10,20)","v":10},{"$f":"IF([DIV]=\"E\",1,IF([DIV]=\"C\",2,3))","v":3},{"$f":"[LGS]+[DIVS]","v":13}]
[2003,"Wright, Jaret","ATL","Atlanta Braves",725000,11,0,9,2,2,1.1111111111111112,9,7,101,61,4.0999999999999996,4369,992,1425,6.1304646372167548,8.8063630121309231,1.3595788509956512,"NL-E",{"$f":"LEFT([League-Division],1)","v":"N"},{"$f":"RIGHT([League-Division],1)","v":"E"},{"$f":"IF([LG]=\"N\",10,20)","v":10},{"$f":"IF([DIV]=\"E\",1,IF([DIV]=\"C\",2,3))","v":1},{"$f":"[LGS]+[DIVS]","v":11}]
[2004,"Wright, Jaret","ATL","Atlanta Braves",850000,32,32,186.33333333333334,-9,3.28,1.2772808586762074,7.6797853309481212,8.1144901610017879,96,66,3.74,4350,1025,1475,6.3620689655172411,9.1551724137931032,1.3779310344827587,"NL-E",{"$f":"LEFT([League-Division],1)","v":"N"},{"$f":"RIGHT([League-Division],1)","v":"E"},{"$f":"IF([LG]=\"N\",10,20)","v":10},{"$f":"IF([DIV]=\"E\",1,IF([DIV]=\"C\",2,3))","v":1},{"$f":"[LGS]+[DIVS]","v":11}]
[2005,"Wright, Jaret","NYA","New York Yankees",5666667,13,13,63.666666666666664,-47,6.08,1.7748691099476441,4.8062827225130889,11.450261780104713,95,67,4.5199999999999996,4292,985,1495,6.1964119291705497,9.4047064305684991,1.3685927306616961,"AL-E",{"$f":"LEFT([League-Division],1)","v":"A"},{"$f":"RIGHT([League-Division],1)","v":"E"},{"$f":"IF([LG]=\"N\",10,20)","v":20},{"$f":"IF([DIV]=\"E\",1,IF([DIV]=\"C\",2,3))","v":1},{"$f":"[LGS]+[DIVS]","v":21}]
[2006,"Wright, Jaret","NYA","New York Yankees",7666667,30,27,140.33333333333334,-73,4.49,1.5249406175771971,5.3871733966745845,10.068883610451305,97,65,4.41,4331,1019,1463,6.352574463172477,9.1205264373123995,1.3569614407758024,"AL-E",{"$f":"LEFT([League-Division],1)","v":"A"},{"$f":"RIGHT([League-Division],1)","v":"E"},{"$f":"IF([LG]=\"N\",10,20)","v":20},{"$f":"IF([DIV]=\"E\",1,IF([DIV]=\"C\",2,3))","v":1},{"$f":"[LGS]+[DIVS]","v":21}]
[2007,"Wright, Jaret","BAL","Baltimore Orioles",7000000,3,3,10.333333333333334,-5,6.97,2.032258064516129,6.096774193548387,10.451612903225804,69,93,5.17,4316,1087,1491,6.8000463392029653,9.3273864689527333,1.5201575532900833,"AL-E",{"$f":"LEFT([League-Division],1)","v":"A"},{"$f":"RIGHT([League-Division],1)","v":"E"},{"$f":"IF([LG]=\"N\",10,20)","v":20},{"$f":"IF([DIV]=\"E\",1,IF([DIV]=\"C\",2,3))","v":1},{"$f":"[LGS]+[DIVS]","v":21}]
[2008,"Wright, Wesley","HOU","Houston Astros",390000,71,0,55.666666666666664,12,5.01,1.4191616766467066,9.2155688622754486,7.2754491017964078,86,75,4.3899999999999997,4276,1095,1453,6.9141721234798883,9.1746959775491117,1.3645930776426567,"NL-C",{"$f":"LEFT([League-Division],1)","v":"N"},{"$f":"RIGHT([League-Division],1)","v":"C"},{"$f":"IF([LG]=\"N\",10,20)","v":10},{"$f":"IF([DIV]=\"E\",1,IF([DIV]=\"C\",2,3))","v":2},{"$f":"[LGS]+[DIVS]","v":12}]
[2009,"Wright, Wesley","HOU","Houston Astros",425000,49,0,44.666666666666664,-6,5.44,1.7462686567164181,9.4701492537313428,10.67910447761194,74,88,4.54,4290,1144,1521,7.2,9.5727272727272741,1.4454545454545455,"NL-C",{"$f":"LEFT([League-Division],1)","v":"N"},{"$f":"RIGHT([League-Division],1)","v":"C"},{"$f":"IF([LG]=\"N\",10,20)","v":10},{"$f":"IF([DIV]=\"E\",1,IF([DIV]=\"C\",2,3))","v":2},{"$f":"[LGS]+[DIVS]","v":12}]
[2004,"Wuertz, Michael","CHN","Chicago Cubs",300000,31,0,29,8,4.34,1.3448275862068966,9.3103448275862082,6.8275862068965516,89,73,3.81,4396,1346,1363,8.2670609645131936,8.3714740673339403,1.3020928116469519,"NL-C",{"$f":"LEFT([League-Division],1)","v":"N"},{"$f":"RIGHT([League-Division],1)","v":"C"},{"$f":"IF([LG]=\"N\",10,20)","v":10},{"$f":"IF([DIV]=\"E\",1,IF([DIV]=\"C\",2,3))","v":2},{"$f":"[LGS]+[DIVS]","v":12}]
[2005,"Wuertz, Michael","CHN","Chicago Cubs",322000,75,0,75.666666666666671,29,3.81,1.3215859030837003,10.58590308370044,7.1365638766519819,79,83,4.1900000000000004,4320,1256,1357,7.85,8.4812499999999993,1.3423611111111111,"NL-C",{"$f":"LEFT([League-Division],1)","v":"N"},{"$f":"RIGHT([League-Division],1)","v":"C"},{"$f":"IF([LG]=\"N\",10,20)","v":10},{"$f":"IF([DIV]=\"E\",1,IF([DIV]=\"C\",2,3))","v":2},{"$f":"[LGS]+[DIVS]","v":12}]
[2006,"Wuertz, Michael","CHN","Chicago Cubs",355000,41,0,40.666666666666664,7,2.66,1.2540983606557379,9.2950819672131146,7.7459016393442628,66,96,4.74,4317,1250,1396,7.8179291174426684,8.7310632383599724,1.4475330090340515,"NL-C",{"$f":"LEFT([League-Division],1)","v":"N"},{"$f":"RIGHT([League-Division],1)","v":"C"},{"$f":"IF([LG]=\"N\",10,20)","v":10},{"$f":"IF([DIV]=\"E\",1,IF([DIV]=\"C\",2,3))","v":2},{"$f":"[LGS]+[DIVS]","v":12}]
[2007,"Wuertz, Michael","CHN","Chicago Cubs",415000,73,0,72.333333333333329,15,3.48,1.3686635944700463,9.829493087557605,7.9631336405529956,85,77,4.04,4340,1211,1340,7.5338709677419349,8.3364055299539164,1.3223502304147465,"NL-C",{"$f":"LEFT([League-Division],1)","v":"N"},{"$f":"RIGHT([League-Division],1)","v":"C"},{"$f":"IF([LG]=\"N\",10,20)","v":10},{"$f":"IF([DIV]=\"E\",1,IF([DIV]=\"C\",2,3))","v":2},{"$f":"[LGS]+[DIVS]","v":12}]
[2008,"Wuertz, Michael","CHN","Chicago Cubs",860000,45,0,44.666666666666664,-14,3.63,1.4328358208955225,6.0447761194029859,8.8656716417910459,97,64,3.87,4352,1264,1329,7.8419117647058814,8.245174632352942,1.2938878676470587,"NL-C",{"$f":"LEFT([League-Division],1)","v":"N"},{"$f":"RIGHT([League-Division],1)","v":"C"},{"$f":"IF([LG]=\"N\",10,20)","v":10},{"$f":"IF([DIV]=\"E\",1,IF([DIV]=\"C\",2,3))","v":2},{"$f":"[LGS]+[DIVS]","v":12}]
[2009,"Wuertz, Michael","OAK","Oakland Athletics",1100000,74,0,78.666666666666671,50,2.63,0.95338983050847448,11.669491525423728,5.9491525423728815,75,87,4.29,4342,1124,1486,6.9894058037770614,9.2404421925380014,1.3880700138185169,"AL-W",{"$f":"LEFT([League-Division],1)","v":"A"},{"$f":"RIGHT([League-Division],1)","v":"W"},{"$f":"IF([LG]=\"N\",10,20)","v":20},{"$f":"IF([DIV]=\"E\",1,IF([DIV]=\"C\",2,3))","v":3},{"$f":"[LGS]+[DIVS]","v":23}]
[2010,"Wuertz, Michael","OAK","Oakland Athletics",2200000,48,0,39.666666666666664,5,4.3099999999999996,1.411764705882353,9.0756302521008401,7.9411764705882364,81,81,3.58,4295,1070,1315,6.7264260768335271,8.2665890570430722,1.2761350407450522,"AL-W",{"$f":"LEFT([League-Division],1)","v":"A"},{"$f":"RIGHT([League-Division],1)","v":"W"},{"$f":"IF([LG]=\"N\",10,20)","v":20},{"$f":"IF([DIV]=\"E\",1,IF([DIV]=\"C\",2,3))","v":3},{"$f":"[LGS]+[DIVS]","v":23}]
[2000,"Wunsch, Kelly","CHA","Chicago White Sox",200000,83,0,61.333333333333336,1,2.93,1.2880434782608696,7.4836956521739122,7.3369565217391299,95,67,4.66,4350,1037,1509,6.4365517241379315,9.3662068965517253,1.4641379310344829,"AL-C",{"$f":"LEFT([League-Division],1)","v":"A"},{"$f":"RIGHT([League-Division],1)","v":"C"},{"$f":"IF([LG]=\"N\",10,20)","v":20},{"$f":"IF([DIV]=\"E\",1,IF([DIV]=\"C\",2,3))","v":2},{"$f":"[LGS]+[DIVS]","v":22}]
[2001,"Wunsch, Kelly","CHA","Chicago White Sox",260000,33,0,22.333333333333332,-5,7.66,1.3432835820895523,6.4477611940298516,8.4626865671641802,83,79,4.55,4300,921,1465,5.7830232558139532,9.1988372093023258,1.3709302325581396,"AL-C",{"$f":"LEFT([League-Division],1)","v":"A"},{"$f":"RIGHT([League-Division],1)","v":"C"},{"$f":"IF([LG]=\"N\",10,20)","v":20},{"$f":"IF([DIV]=\"E\",1,IF([DIV]=\"C\",2,3))","v":2},{"$f":"[LGS]+[DIVS]","v":22}]
[2002,"Wunsch, Kelly","CHA","Chicago White Sox",285000,50,0,31.666666666666668,-4,3.41,1.4210526315789473,6.2526315789473674,7.3894736842105262,81,81,4.53,4269,945,1422,5.9768095572733664,8.9936753338018267,1.370344342937456,"AL-C",{"$f":"LEFT([League-Division],1)","v":"A"},{"$f":"RIGHT([League-Division],1)","v":"C"},{"$f":"IF([LG]=\"N\",10,20)","v":20},{"$f":"IF([DIV]=\"E\",1,IF([DIV]=\"C\",2,3))","v":2},{"$f":"[LGS]+[DIVS]","v":22}]
[2003,"Wunsch, Kelly","CHA","Chicago White Sox",575000,43,0,36,16,2.75,1.1666666666666667,8.25,4.25,86,76,4.17,4293,1056,1364,6.6415094339622645,8.5786163522012586,1.3151642208245982,"AL-C",{"$f":"LEFT([League-Division],1)","v":"A"},{"$f":"RIGHT([League-Division],1)","v":"C"},{"$f":"IF([LG]=\"N\",10,20)","v":20},{"$f":"IF([DIV]=\"E\",1,IF([DIV]=\"C\",2,3))","v":2},{"$f":"[LGS]+[DIVS]","v":22}]
[2004,"Wunsch, Kelly","CHA","Chicago White Sox",800000,3,0,2,-1,0,1.5,4.5,9,83,79,4.91,4297,1013,1505,6.3651384686990928,9.456597626250872,1.4186641843146381,"AL-C",{"$f":"LEFT([League-Division],1)","v":"A"},{"$f":"RIGHT([League-Division],1)","v":"C"},{"$f":"IF([LG]=\"N\",10,20)","v":20},{"$f":"IF([DIV]=\"E\",1,IF([DIV]=\"C\",2,3))","v":2},{"$f":"[LGS]+[DIVS]","v":22}]
[2005,"Wunsch, Kelly","LAN","Los Angeles Dodgers",550000,46,0,23.666666666666668,2,4.5599999999999996,1.436619718309859,8.3661971830985919,7.605633802816901,71,91,4.38,4282,1004,1434,6.330686595049043,9.0420364315740311,1.3346567024754787,"NL-W",{"$f":"LEFT([League-Division],1)","v":"N"},{"$f":"RIGHT([League-Division],1)","v":"W"},{"$f":"IF([LG]=\"N\",10,20)","v":10},{"$f":"IF([DIV]=\"E\",1,IF([DIV]=\"C\",2,3))","v":3},{"$f":"[LGS]+[DIVS]","v":13}]
[2005,"Yabu, Keiichi","OAK","Oakland Athletics",750000,40,0,58,-20,4.5,1.5517241379310345,6.8275862068965516,9.931034482758621,88,74,3.69,4351,1075,1315,6.6708802574120902,8.1601930590668807,1.2541944380602161,"AL-W",{"$f":"LEFT([League-Division],1)","v":"A"},{"$f":"RIGHT([League-Division],1)","v":"W"},{"$f":"IF([LG]=\"N\",10,20)","v":20},{"$f":"IF([DIV]=\"E\",1,IF([DIV]=\"C\",2,3))","v":3},{"$f":"[LGS]+[DIVS]","v":23}]
[2008,"Yabu, Keiichi","SFN","San Francisco Giants",390000,60,0,68,-15,3.57,1.3970588235294117,6.3529411764705888,8.3382352941176467,72,90,4.38,4326,1240,1416,7.7392510402219132,8.8377253814147014,1.434119278779473,"NL-W",{"$f":"LEFT([League-Division],1)","v":"N"},{"$f":"RIGHT([League-Division],1)","v":"W"},{"$f":"IF([LG]=\"N\",10,20)","v":10},{"$f":"IF([DIV]=\"E\",1,IF([DIV]=\"C\",2,3))","v":3},{"$f":"[LGS]+[DIVS]","v":13}]
[2008,"Yabuta, Yasuhiko","KCA","Kansas City Royals",2500000,31,0,37.666666666666664,-16,4.78,1.5398230088495577,5.9734513274336285,9.7964601769911521,75,87,4.5,4337,1085,1473,6.7546691261240488,9.1701637076320033,1.375144108830989,"AL-C",{"$f":"LEFT([League-Division],1)","v":"A"},{"$f":"RIGHT([League-Division],1)","v":"C"},{"$f":"IF([LG]=\"N\",10,20)","v":20},{"$f":"IF([DIV]=\"E\",1,IF([DIV]=\"C\",2,3))","v":2},{"$f":"[LGS]+[DIVS]","v":22}]
[1998,"Yan, Esteban","TBA","Tampa Bay Devil Rays",195000,64,0,88.666666666666671,-1,3.86,1.3421052631578947,7.8157894736842097,7.9172932330827068,63,99,4.3499999999999996,4329,1008,1425,6.2869022869022873,8.8877338877338872,1.4331254331254331,"AL-E",{"$f":"LEFT([League-Division],1)","v":"A"},{"$f":"RIGHT([League-Division],1)","v":"E"},{"$f":"IF([LG]=\"N\",10,20)","v":20},{"$f":"IF([DIV]=\"E\",1,IF([DIV]=\"C\",2,3))","v":1},{"$f":"[LGS]+[DIVS]","v":21}]
[1999,"Yan, Esteban","TBA","Tampa Bay Devil Rays",225000,50,1,61,-31,5.9,1.7868852459016393,6.7868852459016384,11.360655737704919,69,93,5.0599999999999996,4297,1055,1606,6.6290435187340009,10.091226437049105,1.6064696299744008,"AL-E",{"$f":"LEFT([League-Division],1)","v":"A"},{"$f":"RIGHT([League-Division],1)","v":"E"},{"$f":"IF([LG]=\"N\",10,20)","v":20},{"$f":"IF([DIV]=\"E\",1,IF([DIV]=\"C\",2,3))","v":1},{"$f":"[LGS]+[DIVS]","v":21}]
[2000,"Yan, Esteban","TBA","Tampa Bay Devil Rays",265000,43,20,137.66666666666666,-47,6.21,1.4527845036319613,7.2566585956416469,10.329297820823244,69,92,4.8600000000000003,4293,955,1553,6.0062893081761004,9.7672955974842761,1.4577218728162125,"AL-E",{"$f":"LEFT([League-Division],1)","v":"A"},{"$f":"RIGHT([League-Division],1)","v":"E"},{"$f":"IF([LG]=\"N\",10,20)","v":20},{"$f":"IF([DIV]=\"E\",1,IF([DIV]=\"C\",2,3))","v":1},{"$f":"[LGS]+[DIVS]","v":21}]
[2001,"Yan, Esteban","TBA","Tampa Bay Devil Rays",650000,54,0,62.333333333333336,0,3.9,1.2032085561497325,9.2406417112299462,9.2406417112299462,62,100,4.9400000000000004,4271,1030,1513,6.5113556544134861,9.5647389370170917,1.4624209786935143,"AL-E",{"$f":"LEFT([League-Division],1)","v":"A"},{"$f":"RIGHT([League-Division],1)","v":"E"},{"$f":"IF([LG]=\"N\",10,20)","v":20},{"$f":"IF([DIV]=\"E\",1,IF([DIV]=\"C\",2,3))","v":1},{"$f":"[LGS]+[DIVS]","v":21}]
[2002,"Yan, Esteban","TBA","Tampa Bay Devil Rays",1500000,55,0,69,-17,4.3,1.4347826086956521,6.9130434782608692,9.1304347826086953,55,106,5.29,4321,925,1567,5.7799120573941218,9.791483452904421,1.5183985188613747,"AL-E",{"$f":"LEFT([League-Division],1)","v":"A"},{"$f":"RIGHT([League-Division],1)","v":"E"},{"$f":"IF([LG]=\"N\",10,20)","v":20},{"$f":"IF([DIV]=\"E\",1,IF([DIV]=\"C\",2,3))","v":1},{"$f":"[LGS]+[DIVS]","v":21}]
[2003,"Yan, Esteban","SLN","St. Louis Cardinals",1500000,39,0,43.333333333333336,-25,6.02,1.5923076923076922,5.8153846153846143,11.007692307692306,85,77,4.5999999999999996,4391,969,1544,5.9583238442268271,9.4939649282623542,1.4019585515827828,"NL-C",{"$f":"LEFT([League-Division],1)","v":"N"},{"$f":"RIGHT([League-Division],1)","v":"C"},{"$f":"IF([LG]=\"N\",10,20)","v":10},{"$f":"IF([DIV]=\"E\",1,IF([DIV]=\"C\",2,3))","v":2},{"$f":"[LGS]+[DIVS]","v":12}]
[2003,"Yan, Esteban","TEX","Texas Rangers",1500000,15,0,23.333333333333332,-6,6.94,1.6285714285714286,9.6428571428571423,11.957142857142859,71,91,5.67,4300,1009,1625,6.3355813953488376,10.203488372093023,1.5544186046511628,"AL-W",{"$f":"LEFT([League-Division],1)","v":"A"},{"$f":"RIGHT([League-Division],1)","v":"W"},{"$f":"IF([LG]=\"N\",10,20)","v":20},{"$f":"IF([DIV]=\"E\",1,IF([DIV]=\"C\",2,3))","v":3},{"$f":"[LGS]+[DIVS]","v":23}]
[2004,"Yan, Esteban","DET","Detroit Tigers",650000,69,0,87,-23,3.83,1.4252873563218391,7.1379310344827589,9.5172413793103452,72,90,4.93,4319,995,1542,6.2201898587636029,9.6397314193100261,1.439222042139384,"AL-C",{"$f":"LEFT([League-Division],1)","v":"A"},{"$f":"RIGHT([League-Division],1)","v":"C"},{"$f":"IF([LG]=\"N\",10,20)","v":20},{"$f":"IF([DIV]=\"E\",1,IF([DIV]=\"C\",2,3))","v":2},{"$f":"[LGS]+[DIVS]","v":22}]
[2005,"Yan, Esteban","LAA","Los Angeles Angels of Anaheim",1000000,49,0,66.666666666666671,-21,4.59,1.44,6.0749999999999993,8.9099999999999984,95,67,3.68,4393,1126,1419,6.9205554290917375,8.7213749146369217,1.2715684042795357,"AL-W",{"$f":"LEFT([League-Division],1)","v":"A"},{"$f":"RIGHT([League-Division],1)","v":"W"},{"$f":"IF([LG]=\"N\",10,20)","v":20},{"$f":"IF([DIV]=\"E\",1,IF([DIV]=\"C\",2,3))","v":3},{"$f":"[LGS]+[DIVS]","v":23}]
[2006,"Yan, Esteban","LAA","Los Angeles Angels of Anaheim",1250000,13,0,22.333333333333332,-3,6.85,1.4328358208955225,6.4477611940298516,7.6567164179104479,89,73,4.04,4358,1164,1410,7.2115649380449742,8.7356585589720055,1.2948600275355666,"AL-W",{"$f":"LEFT([League-Division],1)","v":"A"},{"$f":"RIGHT([League-Division],1)","v":"W"},{"$f":"IF([LG]=\"N\",10,20)","v":20},{"$f":"IF([DIV]=\"E\",1,IF([DIV]=\"C\",2,3))","v":3},{"$f":"[LGS]+[DIVS]","v":23}]
[2006,"Yan, Esteban","CIN","Cincinnati Reds",1250000,14,0,15,-5,3.6,1.3333333333333333,4.8,7.8000000000000007,80,82,4.51,4337,1053,1576,6.5554530781646294,9.8113903620013829,1.4111136730458842,"NL-C",{"$f":"LEFT([League-Division],1)","v":"N"},{"$f":"RIGHT([League-Division],1)","v":"C"},{"$f":"IF([LG]=\"N\",10,20)","v":10},{"$f":"IF([DIV]=\"E\",1,IF([DIV]=\"C\",2,3))","v":2},{"$f":"[LGS]+[DIVS]","v":12}]
[2004,"Yates, Tyler","NYN","New York Mets",300000,21,7,46.666666666666664,-26,6.36,1.842857142857143,6.75,11.764285714285714,71,91,4.09,4347,977,1452,6.0683229813664594,9.0186335403726705,1.4106280193236715,"NL-E",{"$f":"LEFT([League-Division],1)","v":"N"},{"$f":"RIGHT([League-Division],1)","v":"E"},{"$f":"IF([LG]=\"N\",10,20)","v":10},{"$f":"IF([DIV]=\"E\",1,IF([DIV]=\"C\",2,3))","v":1},{"$f":"[LGS]+[DIVS]","v":11}]
[2007,"Yates, Tyler","ATL","Atlanta Braves",412500,75,0,66,5,5.18,1.4393939393939394,9.4090909090909083,8.7272727272727266,84,78,4.1100000000000003,4369,1106,1442,6.8349736781872288,8.9114213778896776,1.3588921950102999,"NL-E",{"$f":"LEFT([League-Division],1)","v":"N"},{"$f":"RIGHT([League-Division],1)","v":"E"},{"$f":"IF([LG]=\"N\",10,20)","v":10},{"$f":"IF([DIV]=\"E\",1,IF([DIV]=\"C\",2,3))","v":1},{"$f":"[LGS]+[DIVS]","v":11}]
[2008,"Yates, Tyler","PIT","Pittsburgh Pirates",800000,72,0,73.333333333333329,-9,4.66,1.540909090909091,7.7318181818181824,8.8363636363636378,67,95,5.0999999999999996,4365,963,1631,5.9567010309278352,10.088659793814433,1.5725085910652921,"NL-C",{"$f":"LEFT([League-Division],1)","v":"N"},{"$f":"RIGHT([League-Division],1)","v":"C"},{"$f":"IF([LG]=\"N\",10,20)","v":10},{"$f":"IF([DIV]=\"E\",1,IF([DIV]=\"C\",2,3))","v":2},{"$f":"[LGS]+[DIVS]","v":12}]
[2009,"Yates, Tyler","PIT","Pittsburgh Pirates",1300000,15,0,12,-5,7.5,1.75,6.75,10.5,62,99,4.59,4255,919,1491,5.831492361927145,9.4611045828437135,1.4481786133960048,"NL-C",{"$f":"LEFT([League-Division],1)","v":"N"},{"$f":"RIGHT([League-Division],1)","v":"C"},{"$f":"IF([LG]=\"N\",10,20)","v":10},{"$f":"IF([DIV]=\"E\",1,IF([DIV]=\"C\",2,3))","v":2},{"$f":"[LGS]+[DIVS]","v":12}]
[1998,"Yoshii, Masato","NYN","New York Mets",1075000,29,29,171.66666666666666,-49,3.93,1.2757281553398059,6.1339805825242717,8.7029126213592232,88,74,3.77,4374,1129,1381,6.9691358024691361,8.5246913580246915,1.312071330589849,"NL-E",{"$f":"LEFT([League-Division],1)","v":"N"},{"$f":"RIGHT([League-Division],1)","v":"E"},{"$f":"IF([LG]=\"N\",10,20)","v":10},{"$f":"IF([DIV]=\"E\",1,IF([DIV]=\"C\",2,3))","v":1},{"$f":"[LGS]+[DIVS]","v":11}]
[1999,"Yoshii, Masato","NYN","New York Mets",2000000,31,29,174,-63,4.4000000000000004,1.2988505747126438,5.431034482758621,8.6896551724137936,97,66,4.2699999999999996,4369,1172,1372,7.2428473334859236,8.4788281071183338,1.3657587548638133,"NL-E",{"$f":"LEFT([League-Division],1)","v":"N"},{"$f":"RIGHT([League-Division],1)","v":"E"},{"$f":"IF([LG]=\"N\",10,20)","v":10},{"$f":"IF([DIV]=\"E\",1,IF([DIV]=\"C\",2,3))","v":1},{"$f":"[LGS]+[DIVS]","v":11}]
[2000,"Yoshii, Masato","COL","Colorado Rockies",3000000,29,29,167.33333333333334,-113,5.86,1.5179282868525896,4.7330677290836647,10.810756972111552,82,80,5.26,4290,1001,1568,6.3,9.8685314685314687,1.5076923076923077,"NL-W",{"$f":"LEFT([League-Division],1)","v":"N"},{"$f":"RIGHT([League-Division],1)","v":"W"},{"$f":"IF([LG]=\"N\",10,20)","v":10},{"$f":"IF([DIV]=\"E\",1,IF([DIV]=\"C\",2,3))","v":3},{"$f":"[LGS]+[DIVS]","v":13}]
[2002,"Yoshii, Masato","MON","Montreal Expos",300000,31,20,131.33333333333334,-69,4.1100000000000003,1.3324873096446699,5.0710659898477148,9.7994923857868024,83,79,3.97,4359,1088,1475,6.7391603578802473,9.1362697866483131,1.364762560220234,"NL-E",{"$f":"LEFT([League-Division],1)","v":"N"},{"$f":"RIGHT([League-Division],1)","v":"E"},{"$f":"IF([LG]=\"N\",10,20)","v":10},{"$f":"IF([DIV]=\"E\",1,IF([DIV]=\"C\",2,3))","v":1},{"$f":"[LGS]+[DIVS]","v":11}]
[1995,"Young, Anthony","CHN","Chicago Cubs",380000,32,1,41.333333333333336,-32,3.7,1.4758064516129032,3.2661290322580641,10.233870967741934,73,71,4.13,3903,926,1313,6.4058416602613368,9.0830130668716365,1.4073789392774789,"NL-C",{"$f":"LEFT([League-Division],1)","v":"N"},{"$f":"RIGHT([League-Division],1)","v":"C"},{"$f":"IF([LG]=\"N\",10,20)","v":10},{"$f":"IF([DIV]=\"E\",1,IF([DIV]=\"C\",2,3))","v":2},{"$f":"[LGS]+[DIVS]","v":12}]
[1996,"Young, Anthony","HOU","Houston Astros",275000,28,0,33.333333333333336,-17,4.59,1.7399999999999998,5.13,9.7199999999999989,82,80,4.38,4341,1163,1541,7.233586731167934,9.5846579129232907,1.437456807187284,"NL-C",{"$f":"LEFT([League-Division],1)","v":"N"},{"$f":"RIGHT([League-Division],1)","v":"C"},{"$f":"IF([LG]=\"N\",10,20)","v":10},{"$f":"IF([DIV]=\"E\",1,IF([DIV]=\"C\",2,3))","v":2},{"$f":"[LGS]+[DIVS]","v":12}]
[2005,"Young, Chris","TEX","Texas Rangers",400000,31,31,164.66666666666666,-25,4.26,1.2570850202429151,7.4878542510121457,8.8542510121457489,79,83,4.96,4320,932,1589,5.8250000000000002,9.9312500000000004,1.4659722222222222,"AL-W",{"$f":"LEFT([League-Division],1)","v":"A"},{"$f":"RIGHT([League-Division],1)","v":"W"},{"$f":"IF([LG]=\"N\",10,20)","v":20},{"$f":"IF([DIV]=\"E\",1,IF([DIV]=\"C\",2,3))","v":3},{"$f":"[LGS]+[DIVS]","v":23}]
[2006,"Young, Chris","SDN","San Diego Padres",500000,31,31,179.33333333333334,30,3.46,1.1319702602230484,8.2304832713754639,6.7249070631970254,88,74,3.87,4391,1097,1385,6.7453882942382144,8.5162833067638335,1.265998633568663,"NL-W",{"$f":"LEFT([League-Division],1)","v":"N"},{"$f":"RIGHT([League-Division],1)","v":"W"},{"$f":"IF([LG]=\"N\",10,20)","v":10},{"$f":"IF([DIV]=\"E\",1,IF([DIV]=\"C\",2,3))","v":3},{"$f":"[LGS]+[DIVS]","v":13}]
[2007,"Young, Chris","SDN","San Diego Padres",600000,30,30,173,49,3.12,1.0982658959537572,8.6878612716763008,6.1387283236994215,89,74,3.7,4454,1136,1406,6.8863942523574311,8.5231252806466102,1.2662775033677593,"NL-W",{"$f":"LEFT([League-Division],1)","v":"N"},{"$f":"RIGHT([League-Division],1)","v":"W"},{"$f":"IF([LG]=\"N\",10,20)","v":10},{"$f":"IF([DIV]=\"E\",1,IF([DIV]=\"C\",2,3))","v":3},{"$f":"[LGS]+[DIVS]","v":13}]
[2008,"Young, Chris","SDN","San Diego Padres",2625000,18,18,102.33333333333333,9,3.96,1.2899022801302933,8.1791530944625421,7.3876221498371342,63,99,4.41,4375,1100,1466,6.7885714285714291,9.0473142857142861,1.3899428571428571,"NL-W",{"$f":"LEFT([League-Division],1)","v":"N"},{"$f":"RIGHT([League-Division],1)","v":"W"},{"$f":"IF([LG]=\"N\",10,20)","v":10},{"$f":"IF([DIV]=\"E\",1,IF([DIV]=\"C\",2,3))","v":3},{"$f":"[LGS]+[DIVS]","v":13}]
[2009,"Young, Chris","SDN","San Diego Padres",4625000,14,14,76,-20,5.21,1.4473684210526316,5.9210526315789478,8.2894736842105257,75,87,4.37,4352,1187,1422,7.3642003676470589,8.8221507352941178,1.3959099264705881,"NL-W",{"$f":"LEFT([League-Division],1)","v":"N"},{"$f":"RIGHT([League-Division],1)","v":"W"},{"$f":"IF([LG]=\"N\",10,20)","v":10},{"$f":"IF([DIV]=\"E\",1,IF([DIV]=\"C\",2,3))","v":3},{"$f":"[LGS]+[DIVS]","v":13}]
[2010,"Young, Chris","SDN","San Diego Padres",6375000,4,4,20,5,0.9,1.05,6.75,4.5,90,72,3.41,4369,1295,1305,8.0029755092698558,8.0647745479514761,1.2510872053101396,"NL-W",{"$f":"LEFT([League-Division],1)","v":"N"},{"$f":"RIGHT([League-Division],1)","v":"W"},{"$f":"IF([LG]=\"N\",10,20)","v":10},{"$f":"IF([DIV]=\"E\",1,IF([DIV]=\"C\",2,3))","v":3},{"$f":"[LGS]+[DIVS]","v":13}]
[2000,"Young, Danny","CHN","Chicago Cubs",200000,4,0,3,-5,21,3.6666666666666665,0,15,65,97,5.25,4363,1143,1505,7.0733440293376129,9.3135457254182903,1.487279394911758,"NL-C",{"$f":"LEFT([League-Division],1)","v":"N"},{"$f":"RIGHT([League-Division],1)","v":"C"},{"$f":"IF([LG]=\"N\",10,20)","v":10},{"$f":"IF([DIV]=\"E\",1,IF([DIV]=\"C\",2,3))","v":2},{"$f":"[LGS]+[DIVS]","v":12}]
[2003,"Zambrano, Carlos","CHN","Chicago Cubs",340000,32,32,214,-20,3.11,1.3177570093457944,7.065420560747663,7.9065420560747661,88,74,3.83,4369,1404,1304,8.6765850308995187,8.0585946440833141,1.3190661478599222,"NL-C",{"$f":"LEFT([League-Division],1)","v":"N"},{"$f":"RIGHT([League-Division],1)","v":"C"},{"$f":"IF([LG]=\"N\",10,20)","v":10},{"$f":"IF([DIV]=\"E\",1,IF([DIV]=\"C\",2,3))","v":2},{"$f":"[LGS]+[DIVS]","v":12}]
[2004,"Zambrano, Carlos","CHN","Chicago Cubs",450000,31,31,209.66666666666666,14,2.75,1.2162162162162162,8.0699523052464226,7.4689984101748816,89,73,3.81,4396,1346,1363,8.2670609645131936,8.3714740673339403,1.3020928116469519,"NL-C",{"$f":"LEFT([League-Division],1)","v":"N"},{"$f":"RIGHT([League-Division],1)","v":"C"},{"$f":"IF([LG]=\"N\",10,20)","v":10},{"$f":"IF([DIV]=\"E\",1,IF([DIV]=\"C\",2,3))","v":2},{"$f":"[LGS]+[DIVS]","v":12}]
[2005,"Zambrano, Carlos","CHN","Chicago Cubs",3760000,33,33,223.33333333333334,32,3.26,1.1462686567164178,8.1402985074626866,6.8507462686567164,79,83,4.1900000000000004,4320,1256,1357,7.85,8.4812499999999993,1.3423611111111111,"NL-C",{"$f":"LEFT([League-Division],1)","v":"N"},{"$f":"RIGHT([League-Division],1)","v":"C"},{"$f":"IF([LG]=\"N\",10,20)","v":10},{"$f":"IF([DIV]=\"E\",1,IF([DIV]=\"C\",2,3))","v":2},{"$f":"[LGS]+[DIVS]","v":12}]
[2006,"Zambrano, Carlos","CHN","Chicago Cubs",6500000,33,33,214,48,3.41,1.294392523364486,8.8317757009345801,6.8130841121495322,66,96,4.74,4317,1250,1396,7.8179291174426684,8.7310632383599724,1.4475330090340515,"NL-C",{"$f":"LEFT([League-Division],1)","v":"N"},{"$f":"RIGHT([League-Division],1)","v":"C"},{"$f":"IF([LG]=\"N\",10,20)","v":10},{"$f":"IF([DIV]=\"E\",1,IF([DIV]=\"C\",2,3))","v":2},{"$f":"[LGS]+[DIVS]","v":12}]
[2007,"Zambrano, Carlos","CHN","Chicago Cubs",12400000,34,34,216.33333333333334,-10,3.95,1.3312788906009245,7.3636363636363633,7.7796610169491522,85,77,4.04,4340,1211,1340,7.5338709677419349,8.3364055299539164,1.3223502304147465,"NL-C",{"$f":"LEFT([League-Division],1)","v":"N"},{"$f":"RIGHT([League-Division],1)","v":"C"},{"$f":"IF([LG]=\"N\",10,20)","v":10},{"$f":"IF([DIV]=\"E\",1,IF([DIV]=\"C\",2,3))","v":2},{"$f":"[LGS]+[DIVS]","v":12}]
[2008,"Zambrano, Carlos","CHN","Chicago Cubs",16000000,30,30,188.66666666666666,-42,3.91,1.2932862190812722,6.2014134275618371,8.2049469964664308,97,64,3.87,4352,1264,1329,7.8419117647058814,8.245174632352942,1.2938878676470587,"NL-C",{"$f":"LEFT([League-Division],1)","v":"N"},{"$f":"RIGHT([League-Division],1)","v":"C"},{"$f":"IF([LG]=\"N\",10,20)","v":10},{"$f":"IF([DIV]=\"E\",1,IF([DIV]=\"C\",2,3))","v":2},{"$f":"[LGS]+[DIVS]","v":12}]
[2009,"Zambrano, Carlos","CHN","Chicago Cubs",18750000,28,28,169.33333333333334,-3,3.77,1.3759842519685039,8.0787401574803148,8.2381889763779519,83,78,3.84,4336,1272,1329,7.9206642066420674,8.2755996309963091,1.3249538745387455,"NL-C",{"$f":"LEFT([League-Division],1)","v":"N"},{"$f":"RIGHT([League-Division],1)","v":"C"},{"$f":"IF([LG]=\"N\",10,20)","v":10},{"$f":"IF([DIV]=\"E\",1,IF([DIV]=\"C\",2,3))","v":2},{"$f":"[LGS]+[DIVS]","v":12}]
[2010,"Zambrano, Carlos","CHN","Chicago Cubs",18875000,36,20,129.66666666666666,-2,3.33,1.4498714652956299,8.1208226221079691,8.2596401028277633,75,87,4.24,4310,1268,1409,7.9433874709976795,8.8266821345707651,1.4018561484918792,"NL-C",{"$f":"LEFT([League-Division],1)","v":"N"},{"$f":"RIGHT([League-Division],1)","v":"C"},{"$f":"IF([LG]=\"N\",10,20)","v":10},{"$f":"IF([DIV]=\"E\",1,IF([DIV]=\"C\",2,3))","v":2},{"$f":"[LGS]+[DIVS]","v":12}]
[2002,"Zambrano, Victor","TBA","Tampa Bay Devil Rays",215000,42,11,114,-47,5.53,1.6491228070175439,5.7631578947368425,9.473684210526315,55,106,5.29,4321,925,1567,5.7799120573941218,9.791483452904421,1.5183985188613747,"AL-E",{"$f":"LEFT([League-Division],1)","v":"A"},{"$f":"RIGHT([League-Division],1)","v":"E"},{"$f":"IF([LG]=\"N\",10,20)","v":20},{"$f":"IF([DIV]=\"E\",1,IF([DIV]=\"C\",2,3))","v":1},{"$f":"[LGS]+[DIVS]","v":21}]
[2003,"Zambrano, Victor","TBA","Tampa Bay Devil Rays",300000,34,28,188.33333333333334,-33,4.21,1.438938053097345,6.3079646017699105,7.884955752212389,63,99,4.93,4310,877,1454,5.4939675174013924,9.1085846867749414,1.456844547563805,"AL-E",{"$f":"LEFT([League-Division],1)","v":"A"},{"$f":"RIGHT([League-Division],1)","v":"E"},{"$f":"IF([LG]=\"N\",10,20)","v":20},{"$f":"IF([DIV]=\"E\",1,IF([DIV]=\"C\",2,3))","v":1},{"$f":"[LGS]+[DIVS]","v":21}]
[2004,"Zambrano, Victor","TBA","Tampa Bay Devil Rays",325000,23,22,128,2,4.43,1.5859375,7.6640625,7.5234375,70,91,4.8099999999999996,4251,923,1459,5.8623853211009171,9.2667607621736057,1.438955539872971,"AL-E",{"$f":"LEFT([League-Division],1)","v":"A"},{"$f":"RIGHT([League-Division],1)","v":"E"},{"$f":"IF([LG]=\"N\",10,20)","v":20},{"$f":"IF([DIV]=\"E\",1,IF([DIV]=\"C\",2,3))","v":1},{"$f":"[LGS]+[DIVS]","v":21}]
[2004,"Zambrano, Victor","NYN","New York Mets",325000,3,3,14,2,3.86,1.2857142857142858,9,7.7142857142857135,71,91,4.09,4347,977,1452,6.0683229813664594,9.0186335403726705,1.4106280193236715,"NL-E",{"$f":"LEFT([League-Division],1)","v":"N"},{"$f":"RIGHT([League-Division],1)","v":"E"},{"$f":"IF([LG]=\"N\",10,20)","v":10},{"$f":"IF([DIV]=\"E\",1,IF([DIV]=\"C\",2,3))","v":1},{"$f":"[LGS]+[DIVS]","v":11}]
[2005,"Zambrano, Victor","NYN","New York Mets",2100000,31,27,166.33333333333334,-58,4.17,1.4849699398797593,6.0601202404809618,9.1983967935871735,83,79,3.76,4307,1012,1390,6.3440910146273506,8.7137218481541669,1.3101927095426049,"NL-E",{"$f":"LEFT([League-Division],1)","v":"N"},{"$f":"RIGHT([League-Division],1)","v":"E"},{"$f":"IF([LG]=\"N\",10,20)","v":10},{"$f":"IF([DIV]=\"E\",1,IF([DIV]=\"C\",2,3))","v":1},{"$f":"[LGS]+[DIVS]","v":11}]
[2006,"Zambrano, Victor","NYN","New York Mets",3000000,5,5,21.333333333333332,-10,6.75,1.6875,6.328125,10.546875,97,65,4.1399999999999997,4384,1161,1402,7.1503193430656937,8.6345802919708028,1.3200273722627738,"NL-E",{"$f":"LEFT([League-Division],1)","v":"N"},{"$f":"RIGHT([League-Division],1)","v":"E"},{"$f":"IF([LG]=\"N\",10,20)","v":10},{"$f":"IF([DIV]=\"E\",1,IF([DIV]=\"C\",2,3))","v":1},{"$f":"[LGS]+[DIVS]","v":11}]
[2007,"Zambrano, Victor","TOR","Toronto Blue Jays",500000,8,2,10.666666666666666,-15,10.97,2.90625,4.21875,16.875,83,79,4,4346,1067,1383,6.6288541187298655,8.5920386562356192,1.2853198343304186,"AL-E",{"$f":"LEFT([League-Division],1)","v":"A"},{"$f":"RIGHT([League-Division],1)","v":"E"},{"$f":"IF([LG]=\"N\",10,20)","v":20},{"$f":"IF([DIV]=\"E\",1,IF([DIV]=\"C\",2,3))","v":1},{"$f":"[LGS]+[DIVS]","v":21}]
[2007,"Zambrano, Victor","BAL","Baltimore Orioles",500000,5,2,12.333333333333334,-1,9.49,1.8648648648648647,8.0270270270270263,8.7567567567567561,69,93,5.17,4316,1087,1491,6.8000463392029653,9.3273864689527333,1.5201575532900833,"AL-E",{"$f":"LEFT([League-Division],1)","v":"A"},{"$f":"RIGHT([League-Division],1)","v":"E"},{"$f":"IF([LG]=\"N\",10,20)","v":20},{"$f":"IF([DIV]=\"E\",1,IF([DIV]=\"C\",2,3))","v":1},{"$f":"[LGS]+[DIVS]","v":21}]
[2002,"Zeile, Todd","COL","Colorado Rockies",6833333,1,0,1,0,0,1,9,9,73,89,5.2,4280,920,1554,5.8037383177570092,9.8032710280373827,1.497196261682243,"NL-W",{"$f":"LEFT([League-Division],1)","v":"N"},{"$f":"RIGHT([League-Division],1)","v":"W"},{"$f":"IF([LG]=\"N\",10,20)","v":10},{"$f":"IF([DIV]=\"E\",1,IF([DIV]=\"C\",2,3))","v":3},{"$f":"[LGS]+[DIVS]","v":13}]
[2004,"Zeile, Todd","NYN","New York Mets",1000000,1,0,1,-4,45,6,0,36,71,91,4.09,4347,977,1452,6.0683229813664594,9.0186335403726705,1.4106280193236715,"NL-E",{"$f":"LEFT([League-Division],1)","v":"N"},{"$f":"RIGHT([League-Division],1)","v":"E"},{"$f":"IF([LG]=\"N\",10,20)","v":10},{"$f":"IF([DIV]=\"E\",1,IF([DIV]=\"C\",2,3))","v":1},{"$f":"[LGS]+[DIVS]","v":11}]
[2003,"Zerbe, Chad","SFN","San Francisco Giants",317000,33,1,49.666666666666664,-43,4.71,1.4899328859060403,3.0805369127516777,10.872483221476511,100,61,3.73,4312,1006,1349,6.2991651205936918,8.4468923933209652,1.3184137291280149,"NL-W",{"$f":"LEFT([League-Division],1)","v":"N"},{"$f":"RIGHT([League-Division],1)","v":"W"},{"$f":"IF([LG]=\"N\",10,20)","v":10},{"$f":"IF([DIV]=\"E\",1,IF([DIV]=\"C\",2,3))","v":3},{"$f":"[LGS]+[DIVS]","v":13}]
[2009,"Ziegler, Brad","OAK","Oakland Athletics",405000,69,0,73.333333333333329,-28,3.07,1.5,6.6272727272727279,10.063636363636363,75,87,4.29,4342,1124,1486,6.9894058037770614,9.2404421925380014,1.3880700138185169,"AL-W",{"$f":"LEFT([League-Division],1)","v":"A"},{"$f":"RIGHT([League-Division],1)","v":"W"},{"$f":"IF([LG]=\"N\",10,20)","v":20},{"$f":"IF([DIV]=\"E\",1,IF([DIV]=\"C\",2,3))","v":3},{"$f":"[LGS]+[DIVS]","v":23}]
[2010,"Ziegler, Brad","OAK","Oakland Athletics",410000,64,0,60.666666666666664,-13,3.26,1.3516483516483517,6.082417582417583,8.0109890109890109,81,81,3.58,4295,1070,1315,6.7264260768335271,8.2665890570430722,1.2761350407450522,"AL-W",{"$f":"LEFT([League-Division],1)","v":"A"},{"$f":"RIGHT([League-Division],1)","v":"W"},{"$f":"IF([LG]=\"N\",10,20)","v":20},{"$f":"IF([DIV]=\"E\",1,IF([DIV]=\"C\",2,3))","v":3},{"$f":"[LGS]+[DIVS]","v":23}]
[1999,"Zimmerman, Jeff","TEX","Texas Rangers",200000,65,0,87.666666666666671,17,2.36,0.83269961977186302,6.8783269961977185,5.1330798479087454,95,67,5.07,4306,979,1626,6.1386437529029259,10.195541105434279,1.4874593590339062,"AL-W",{"$f":"LEFT([League-Division],1)","v":"A"},{"$f":"RIGHT([League-Division],1)","v":"W"},{"$f":"IF([LG]=\"N\",10,20)","v":20},{"$f":"IF([DIV]=\"E\",1,IF([DIV]=\"C\",2,3))","v":3},{"$f":"[LGS]+[DIVS]","v":23}]
[2000,"Zimmerman, Jeff","TEX","Texas Rangers",250000,65,0,69.666666666666671,-6,5.3,1.6363636363636362,9.5598086124401913,10.334928229665072,71,91,5.52,4287,918,1683,5.7816655003498951,10.599720083974807,1.6403079076277116,"AL-W",{"$f":"LEFT([League-Division],1)","v":"A"},{"$f":"RIGHT([League-Division],1)","v":"W"},{"$f":"IF([LG]=\"N\",10,20)","v":20},{"$f":"IF([DIV]=\"E\",1,IF([DIV]=\"C\",2,3))","v":3},{"$f":"[LGS]+[DIVS]","v":23}]
[2001,"Zimmerman, Jeff","TEX","Texas Rangers",307500,66,0,71.333333333333329,24,2.4,0.89719626168224309,9.0841121495327108,6.0560747663551409,73,89,5.71,4315,951,1670,5.9506373117033604,10.449594438006953,1.5754345307068367,"AL-W",{"$f":"LEFT([League-Division],1)","v":"A"},{"$f":"RIGHT([League-Division],1)","v":"W"},{"$f":"IF([LG]=\"N\",10,20)","v":20},{"$f":"IF([DIV]=\"E\",1,IF([DIV]=\"C\",2,3))","v":3},{"$f":"[LGS]+[DIVS]","v":23}]
[2001,"Zito, Barry","OAK","Oakland Athletics",240000,35,35,214.33333333333334,21,3.49,1.2317262830482114,8.6080870917573868,7.7262830482115081,102,60,3.59,4390,1117,1384,6.8699316628701599,8.5120728929384963,1.2464692482915718,"AL-W",{"$f":"LEFT([League-Division],1)","v":"A"},{"$f":"RIGHT([League-Division],1)","v":"W"},{"$f":"IF([LG]=\"N\",10,20)","v":20},{"$f":"IF([DIV]=\"E\",1,IF([DIV]=\"C\",2,3))","v":3},{"$f":"[LGS]+[DIVS]","v":23}]
[2002,"Zito, Barry","OAK","Oakland Athletics",295000,35,35,229.33333333333334,0,2.75,1.1337209302325582,7.1424418604651159,7.1424418604651159,103,59,3.68,4356,1021,1391,6.3285123966942143,8.6219008264462822,1.2844352617079891,"AL-W",{"$f":"LEFT([League-Division],1)","v":"A"},{"$f":"RIGHT([League-Division],1)","v":"W"},{"$f":"IF([LG]=\"N\",10,20)","v":20},{"$f":"IF([DIV]=\"E\",1,IF([DIV]=\"C\",2,3))","v":3},{"$f":"[LGS]+[DIVS]","v":23}]
[2003,"Zito, Barry","OAK","Oakland Athletics",1000000,35,35,231.66666666666666,-40,3.3,1.1827338129496403,5.6719424460431656,7.2258992805755398,96,66,3.63,4325,1018,1336,6.3551445086705201,8.3403468208092484,1.2728323699421964,"AL-W",{"$f":"LEFT([League-Division],1)","v":"A"},{"$f":"RIGHT([League-Division],1)","v":"W"},{"$f":"IF([LG]=\"N\",10,20)","v":20},{"$f":"IF([DIV]=\"E\",1,IF([DIV]=\"C\",2,3))","v":3},{"$f":"[LGS]+[DIVS]","v":23}]
[2004,"Zito, Barry","OAK","Oakland Athletics",3000000,34,34,213,-53,4.4800000000000004,1.3943661971830985,6.887323943661972,9.126760563380282,91,71,4.17,4414,1034,1466,6.3248753964657904,8.9673765292251932,1.3661078386950611,"AL-W",{"$f":"LEFT([League-Division],1)","v":"A"},{"$f":"RIGHT([League-Division],1)","v":"W"},{"$f":"IF([LG]=\"N\",10,20)","v":20},{"$f":"IF([DIV]=\"E\",1,IF([DIV]=\"C\",2,3))","v":3},{"$f":"[LGS]+[DIVS]","v":23}]
[2005,"Zito, Barry","OAK","Oakland Athletics",5600000,35,35,228.33333333333334,-14,3.86,1.2,6.74014598540146,7.2919708029197086,88,74,3.69,4351,1075,1315,6.6708802574120902,8.1601930590668807,1.2541944380602161,"AL-W",{"$f":"LEFT([League-Division],1)","v":"A"},{"$f":"RIGHT([League-Division],1)","v":"W"},{"$f":"IF([LG]=\"N\",10,20)","v":20},{"$f":"IF([DIV]=\"E\",1,IF([DIV]=\"C\",2,3))","v":3},{"$f":"[LGS]+[DIVS]","v":23}]
[2006,"Zito, Barry","OAK","Oakland Athletics",7900000,34,34,221,-60,3.83,1.4027149321266967,6.1493212669683261,8.5927601809954748,93,69,4.21,4355,1003,1525,6.2183696900114809,9.4546498277841557,1.4149253731343283,"AL-W",{"$f":"LEFT([League-Division],1)","v":"A"},{"$f":"RIGHT([League-Division],1)","v":"W"},{"$f":"IF([LG]=\"N\",10,20)","v":20},{"$f":"IF([DIV]=\"E\",1,IF([DIV]=\"C\",2,3))","v":3},{"$f":"[LGS]+[DIVS]","v":23}]
[2007,"Zito, Barry","SFN","San Francisco Giants",10000000,34,33,196.66666666666666,-51,4.53,1.347457627118644,5.9949152542372888,8.3288135593220343,71,91,4.1900000000000004,4361,1057,1442,6.5441412520064199,8.9277688603531296,1.3999082779179086,"NL-W",{"$f":"LEFT([League-Division],1)","v":"N"},{"$f":"RIGHT([League-Division],1)","v":"W"},{"$f":"IF([LG]=\"N\",10,20)","v":10},{"$f":"IF([DIV]=\"E\",1,IF([DIV]=\"C\",2,3))","v":3},{"$f":"[LGS]+[DIVS]","v":13}]
[2008,"Zito, Barry","SFN","San Francisco Giants",14500000,32,32,180,-66,5.15,1.6,6,9.3000000000000007,72,90,4.38,4326,1240,1416,7.7392510402219132,8.8377253814147014,1.434119278779473,"NL-W",{"$f":"LEFT([League-Division],1)","v":"N"},{"$f":"RIGHT([League-Division],1)","v":"W"},{"$f":"IF([LG]=\"N\",10,20)","v":10},{"$f":"IF([DIV]=\"E\",1,IF([DIV]=\"C\",2,3))","v":3},{"$f":"[LGS]+[DIVS]","v":13}]
[2009,"Zito, Barry","SFN","San Francisco Giants",18500000,33,33,192,-25,4.03,1.3541666666666667,7.21875,8.390625,88,74,3.55,4338,1302,1268,8.1037344398340245,7.8921161825726145,1.2807745504840939,"NL-W",{"$f":"LEFT([League-Division],1)","v":"N"},{"$f":"RIGHT([League-Division],1)","v":"W"},{"$f":"IF([LG]=\"N\",10,20)","v":10},{"$f":"IF([DIV]=\"E\",1,IF([DIV]=\"C\",2,3))","v":3},{"$f":"[LGS]+[DIVS]","v":13}]
[2010,"Zito, Barry","SFN","San Francisco Giants",18500000,34,33,199.33333333333334,-34,4.1500000000000004,1.3444816053511706,6.7725752508361197,8.3076923076923066,92,70,3.36,4383,1331,1279,8.1991786447638599,7.8788501026694044,1.271047227926078,"NL-W",{"$f":"LEFT([League-Division],1)","v":"N"},{"$f":"RIGHT([League-Division],1)","v":"W"},{"$f":"IF([LG]=\"N\",10,20)","v":10},{"$f":"IF([DIV]=\"E\",1,IF([DIV]=\"C\",2,3))","v":3},{"$f":"[LGS]+[DIVS]","v":13}]
[2006,"Zumaya, Joel","DET","Detroit Tigers",327000,62,0,83.333333333333329,41,1.94,1.1760000000000002,10.476000000000001,6.048,95,67,3.84,4344,1003,1420,6.2341160220994478,8.8259668508287294,1.3183701657458564,"AL-C",{"$f":"LEFT([League-Division],1)","v":"A"},{"$f":"RIGHT([League-Division],1)","v":"C"},{"$f":"IF([LG]=\"N\",10,20)","v":20},{"$f":"IF([DIV]=\"E\",1,IF([DIV]=\"C\",2,3))","v":2},{"$f":"[LGS]+[DIVS]","v":22}]
[2007,"Zumaya, Joel","DET","Detroit Tigers",410000,28,0,33.666666666666664,4,4.28,1.1881188118811883,7.217821782178218,6.1485148514851486,88,74,4.57,4342,1047,1498,6.5105941962229394,9.3150621833256562,1.426070935052971,"AL-C",{"$f":"LEFT([League-Division],1)","v":"A"},{"$f":"RIGHT([League-Division],1)","v":"C"},{"$f":"IF([LG]=\"N\",10,20)","v":20},{"$f":"IF([DIV]=\"E\",1,IF([DIV]=\"C\",2,3))","v":2},{"$f":"[LGS]+[DIVS]","v":22}]
[2008,"Zumaya, Joel","DET","Detroit Tigers",420000,21,0,23.333333333333332,-2,3.47,1.9714285714285715,8.4857142857142858,9.257142857142858,74,88,4.91,4335,991,1541,6.1723183391003458,9.5979238754325245,1.5121107266435987,"AL-C",{"$f":"LEFT([League-Division],1)","v":"A"},{"$f":"RIGHT([League-Division],1)","v":"C"},{"$f":"IF([LG]=\"N\",10,20)","v":20},{"$f":"IF([DIV]=\"E\",1,IF([DIV]=\"C\",2,3))","v":2},{"$f":"[LGS]+[DIVS]","v":22}]
[2009,"Zumaya, Joel","DET","Detroit Tigers",735000,29,0,31,-4,4.9400000000000004,1.8064516129032258,8.7096774193548399,9.870967741935484,86,77,4.34,4341,1102,1449,6.8541810642709056,9.0124395300621973,1.4118866620594333,"AL-C",{"$f":"LEFT([League-Division],1)","v":"A"},{"$f":"RIGHT([League-Division],1)","v":"C"},{"$f":"IF([LG]=\"N\",10,20)","v":20},{"$f":"IF([DIV]=\"E\",1,IF([DIV]=\"C\",2,3))","v":2},{"$f":"[LGS]+[DIVS]","v":22}]
[2010,"Zumaya, Joel","DET","Detroit Tigers",915000,31,0,38.333333333333336,2,2.58,1.1217391304347826,7.982608695652174,7.5130434782608688,81,81,4.3,4333,1056,1445,6.5801984768059087,9.0041541657050548,1.3722594045695824,"AL-C",{"$f":"LEFT([League-Division],1)","v":"A"},{"$f":"RIGHT([League-Division],1)","v":"C"},{"$f":"IF([LG]=\"N\",10,20)","v":20},{"$f":"IF([DIV]=\"E\",1,IF([DIV]=\"C\",2,3))","v":2},{"$f":"[LGS]+[DIVS]","v":22}]

{"sheet":"Sheet1","index":7,"n_rows":0,"n_cols":0,"rows_kept":0,"cut":false,"hidden":false,"merged":[]}