{"text_format":"1","workbook":"xlsx","n_sheets":10,"sheets":["Dashboard","Country to Continent","mapping","Freq Piv","Data","Calculations","Header Info","Sheet4","Support","Hours"],"not_rendered":{"charts":3,"images":0,"macros":1,"external_links":0,"defined_names":24,"comments":0,"pivot_tables":4},"unopened":[],"bounds":{"document_bytes":16777216,"sheet_cells":100000,"rows_first":2000,"rows_last":500,"rows_between":2000,"halvings":0,"cell_chars":16384,"cell_head_chars":4096},"cells_cut":0,"cells_raw":0,"read":"whole","date_system":"1900"}

{"sheet":"Dashboard","index":0,"n_rows":33,"n_cols":13,"rows_kept":33,"cut":false,"hidden":false,"merged":[[31,8,31,11],[32,8,32,11],[31,12,31,14],[32,12,32,14],[28,8,28,11],[29,8,29,11],[30,8,30,11],[28,12,28,14],[29,12,29,14],[30,12,30,14]]}
[]
[]
[]
[]
[]
[]
[]
[]
[]
[]
[]
[]
[]
[]
[]
[]
[]
[]
[]
[]
[]
[]
[]
[]
[]
[]
[]
[]
[null,null,null,null,null,null,null,null,{"$f":"Hours!A12","v":"1 or 2 hours a day"},null,null,null,{"$f":"Hours!B12","v":174}]
[null,null,null,null,null,null,null,null,{"$f":"Hours!A13","v":"2 to 3 hours per day"},null,null,null,{"$f":"Hours!B13","v":451}]
[null,null,null,null,null,null,null,null,{"$f":"Hours!A14","v":"4 to 6 hours a day"},null,null,null,{"$f":"Hours!B14","v":775}]
[null,null,null,null,null,null,null,null,{"$f":"Hours!A15","v":"All the 8 hours baby, all the 8!"},null,null,null,{"$f":"Hours!B15","v":476}]
[null,null,null,null,null,null,null,null,{"$f":"Hours!A16","v":"Excel ?!? What Excel?"},null,null,null,{"$f":"Hours!B16","v":7}]

{"sheet":"Country to Continent","index":1,"n_rows":236,"n_cols":6,"rows_kept":236,"cut":false,"hidden":true,"merged":[]}
["Abyssinia - Gondar","Africa"]
["Algeria - Algiers(Al - Jaza'ir)","Africa"]
["Angola - Luanda","Africa"]
["Benin - Porto Novo, Cotonou","Africa"]
["Botswana - Gaborone","Africa"]
["Burkina Faso - Ouagadougou","Africa"]
["Burundi - Bujumbura","Africa"]
["Cameroon (also spelled Cameroun) - Yaoundé","Africa"]
["Cape Verde - Praia","Africa"]
["Central African Republic (Centrafrique)- Bangui","Africa",null,null,null,""]
["Chad (Tchad) - N'Djamena","Africa"]
["Comoros - Moroni","Africa"]
["Côte d'Ivoire (Ivory Coast)- Yamoussoukro","Africa"]
["Democratic Republic of the Congo - Kinshasa","Africa"]
["Djibouti - Djibouti","Africa"]
["Egypt (Misr) - Cairo","Africa"]
["Equatorial Guinea - Malabo","Africa"]
["Eritrea - Asmara","Africa"]
["Ethiopia (Itiopia) - Addis Ababa","Africa"]
["Gabon - Libreville","Africa"]
["Ghana - Accra","Africa",null,null,null,""]
["Guinea - Conakry","Africa",null,null,null,""]
["Guinea-Bissau - Bissau","Africa",null,null,null,""]
["Kenya - Nairobi","Africa",null,null,null,""]
["Lesotho - Maseru","Africa",null,null,null,""]
["Liberia - Monrovia","Africa",null,null,null,""]
["Libya - Tripoli","Africa",null,null,null,""]
["Madagascar - Antananarivo","Africa",null,null,null,""]
["Malawi - Lilongwe","Africa",null,null,null,""]
["Mali - Bamako","Africa",null,null,null,""]
["Mauritania - Nouakchott","Africa",null,null,null,""]
["Mauritius - Port Louis","Africa",null,null,null,""]
["Morocco (Al Maghrib) - Rabat","Africa",null,null,null,""]
["Mozambique - Maputo","Africa",null,null,null,""]
["Namibia - Windhoek","Africa",null,null,null,""]
["Niger - Niamey","Africa",null,null,null,""]
["Nigeria - Abuja","Africa",null,null,null,""]
["Republic of the Congo - Brazzaville","Africa",null,null,null,""]
["Rwanda - Kigali","Africa",null,null,null,""]
["São Tomé and Príncipe - São Tomé","Africa",null,null,null,""]
["Senegal - Dakar","Africa",null,null,null,""]
["Seychelles - Victoria, Seychelles","Africa",null,null,null,""]
["Sierra Leone - Freetown","Africa",null,null,null,""]
["Somalia - Mogadishu","Africa",null,null,null,""]
["South Africa - Cape Town, Pretoria, Bloemfontein","Africa",null,null,null,""]
["South Sudan-Jubba","Africa",null,null,null,""]
["Sudan - Khartoum","Africa",null,null,null,""]
["Swaziland - Mbabane","Africa",null,null,null,""]
["Tanzania - Dar es Salaam, Dodoma","Africa"]
["The Gambia - Banjul","Africa",null,null,null,""]
["Togo - Lome","Africa"]
["Tunisia - Tunis","Africa",null,null,null,""]
["Uganda - Kampala","Africa",null,null,null,""]
["Western Sahara *DISPUTED* - La'youn","Africa",null,null,null,""]
["Zaire-Kinshasa","Africa",null,null,null,""]
["Zambia - Lusaka","Africa",null,null,null,""]
["Zimbabwe - Harare","Africa"]
["Afghanistan - Kabul","Asia",null,null,null,""]
["Arabian Gulf","Asia",null,null,null,""]
["Armenia -Yerevan","Asia",null,null,null,""]
["Asia","Asia",null,null,null,""]
["Azerbaijan -Baku","Asia",null,null,null,""]
["Bahrain - Manama","Asia",null,null,null,""]
["Bangladesh - Dhaka","Asia",null,null,null,""]
["Bhutan - Thimphu","Asia",null,null,null,""]
["Brunei - Bandar Seri Begawan","Asia",null,null,null,""]
["Cambodia (Kampuchea) - Phnom Penh","Asia",null,null,null,""]
["China, People's Republic of - Beijing","Asia",null,null,null,""]
["China, Republic of (a.k.a. Taiwan) - Taipei","Asia",null,null,null,""]
["Dubai","Asia",null,null,null,""]
["East Timor (Timor Leste) - Dili","Asia",null,null,null,""]
["Hong Kong","Asia",null,null,null,""]
["India (Hindi: Bharat) - New Delhi","Asia",null,null,null,""]
["Indonesia - Jakarta","Asia",null,null,null,""]
["Iran - Tehran","Asia",null,null,null,""]
["Iraq - Baghdad","Asia",null,null,null,""]
["Israel - Jerusalem","Asia",null,null,null,""]
["Japan (Nihon) - Tokyo","Asia",null,null,null,""]
["Jordan (Al Urdun) - Amman","Asia",null,null,null,""]
["Kazakhstan - Astana","Asia",null,null,null,""]
["Kuwait - Kuwait","Asia",null,null,null,""]
["Kyrgyzstan - Bishkek","Asia",null,null,null,""]
["Laos - Vientiane","Asia",null,null,null,""]
["Lebanon (Lubnan) - Beirut","Asia",null,null,null,""]
["Malaysia - Kuala Lumpur","Asia",null,null,null,""]
["Maldives - Malé","Asia",null,null,null,""]
["Mongolia - Ulaanbaatar","Asia",null,null,null,""]
["Myanmar (Burma) - Yangon","Asia",null,null,null,""]
["MYS","Asia",null,null,null,""]
["Nepal - Kathmandu","Asia",null,null,null,""]
["North Korea - Pyongyang","Asia",null,null,null,""]
["Oman - Muscat","Asia",null,null,null,""]
["Pakistan - Islamabad","Asia",null,null,null,""]
["Palestine* (falestine) - Jerusalem (disputed)","Asia",null,null,null,""]
["Philippines - Manila","Asia",null,null,null,""]
["Qatar - Doha","Asia",null,null,null,""]
["Russia (Россия) - Moscow","Asia",null,null,null,""]
["Saudi Arabia - Riyadh","Asia",null,null,null,""]
["Singapore - Singapore","Asia",null,null,null,""]
["South Korea - Seoul","Asia",null,null,null,""]
["Sri Lanka - Sri Jayawardenapura Kotte, not Colombo now","Asia",null,null,null,""]
["Syria - Damascus","Asia",null,null,null,""]
["Tajikistan - Dushanbe","Asia",null,null,null,""]
["Thailand (Muang Thai) - Bangkok","Asia",null,null,null,""]
["Tibet","Asia",null,null,null,""]
["Turkey - Ankara","Asia",null,null,null,""]
["Turkmenistan - Aşgabat","Asia",null,null,null,""]
["UAE","Asia",null,null,null,""]
["United Arab Emirates - Abu Dhabi","Asia",null,null,null,""]
["Uzbekistan - Tashkent","Asia",null,null,null,""]
["Vietnam - Hanoi","Asia",null,null,null,""]
["Yemen - Sana'a","Asia",null,null,null,""]
["Australia - Canberra","Australia",null,null,null,""]
["Christmas Island - The Settlement","Australia",null,null,null,""]
["Cocos (Keeling) Islands - West Island","Australia",null,null,null,""]
["New Zealand (Aotearoa) - Wellington","Australia",null,null,null,""]
["Albania (Shqipria) - Tirana","Europe",null,null,null,""]
["Andorra - Andorra la Vella","Europe",null,null,null,""]
["Austria (Österreich) - Vienna","Europe",null,null,null,""]
["Baltic","Europe",null,null,null,""]
["Belarus - Minsk","Europe",null,null,null,""]
["Belgium - Brussels","Europe",null,null,null,""]
["Bosnia and Herzegovina - Sarajevo","Europe",null,null,null,""]
["Bulgaria (България) - Sofia","Europe",null,null,null,""]
["CEE","Europe",null,null,null,""]
["Croatia (Hrvatska) - Zagreb","Europe",null,null,null,""]
["Cyprus (Kupros) - Nicosia","Europe",null,null,null,""]
["Czech Republic (Česko) - Prague","Europe",null,null,null,""]
["Denmark (Danmark) - Copenhagen","Europe",null,null,null,""]
["Estonia (Eesti) - Tallinn","Europe",null,null,null,""]
["Europe","Europe",null,null,null,""]
["Finland (Suomi) - Helsinki","Europe",null,null,null,""]
["France - Paris","Europe",null,null,null,""]
["Georgia (საქართველ) - Tbilisi","Europe",null,null,null,""]
["Germany (Deutschland) - Berlin","Europe",null,null,null,""]
["Greece (Hellas) - Athens","Europe",null,null,null,""]
["Hungary (Magyar) - Budapest","Europe",null,null,null,""]
["Iceland (Island) - Reykjavik","Europe",null,null,null,""]
["Ireland","Europe",null,null,null,""]
["Italy (Italia) - Rome","Europe",null,null,null,""]
["Latvia (Latvijas) - Riga","Europe",null,null,null,""]
["Liechtenstein - Vaduz","Europe",null,null,null,""]
["Lithuania (Lietuvos) - Vilnius","Europe",null,null,null,""]
["Luxembourg - Luxembourg City","Europe",null,null,null,""]
["Malta - Valletta","Europe",null,null,null,""]
["Moldova - Chisinau","Europe",null,null,null,""]
["Monaco - Monaco","Europe",null,null,null,""]
["Montenegro (Црна Гора) - Podgorica","Europe",null,null,null,""]
["Netherlands (Nederland) - Amsterdam (Capital), The Hague (Location of Government)","Europe",null,null,null,""]
["Norway (Norge) - Oslo","Europe",null,null,null,""]
["Poland (Polska) - Warsaw","Europe",null,null,null,""]
["Portugal - Lisbon","Europe",null,null,null,""]
["Republic of Georgia","Europe",null,null,null,""]
["Republic of Ireland (Éire) - Dublin","Europe",null,null,null,""]
["Republic of Macedonia (Македонија) - Skopje","Europe",null,null,null,""]
["Romania (România) - Bucharest","Europe",null,null,null,""]
["Russia (Россия) - Moscow","Europe",null,null,null,""]
["San Marino - San Marino","Europe",null,null,null,""]
["Serbia (Србија) - Belgrade","Europe",null,null,null,""]
["Slovakia (Slovenská) - Bratislava","Europe",null,null,null,""]
["Slovenia (Slovenija) - Ljubljana","Europe",null,null,null,""]
["Spain (España) - Madrid","Europe",null,null,null,""]
["Sweden (Sverige) - Stockholm","Europe",null,null,null,""]
["Switzerland - Bern","Europe",null,null,null,""]
["Turkey - Ankara","Europe",null,null,null,""]
["Ukraine (Україна) - Kyiv","Europe",null,null,null,""]
["United Kingdom - London","Europe",null,null,null,""]
["Vatican City - Vatican City","Europe",null,null,null,""]
["Fiji - Suva","Melanesia",null,null,null,""]
["New Caledonia - Nouméa","Melanesia",null,null,null,""]
["Papua New Guinea - Port Moresby","Melanesia",null,null,null,""]
["Solomon Islands - Honiara","Melanesia",null,null,null,""]
["Vanuatu - Port Vila","Melanesia",null,null,null,""]
["Federated States of Micronesia - Palikir","Micronesia",null,null,null,""]
["Guam - Hagåtña","Micronesia",null,null,null,""]
["Kiribati - Tarawa atol","Micronesia",null,null,null,""]
["Marshall Islands - Majuro","Micronesia",null,null,null,""]
["Nauru - Yaren","Micronesia",null,null,null,""]
["Northern Mariana Islands - Saipan","Micronesia",null,null,null,""]
["Palau - Koror","Micronesia",null,null,null,""]
["Antigua and Barbuda - St. Johns","North America",null,null,null,""]
["Aruba","North America",null,null,null,""]
["Bahamas - Nassau","North America",null,null,null,""]
["Barbados - Bridgetown","North America",null,null,null,""]
["Belize - Belmopan","North America",null,null,null,""]
["Bermuda","North America",null,null,null,""]
["Canada - Ottawa","North America",null,null,null,""]
["Cayman Islands - George Town","North America",null,null,null,""]
["Central America","North America",null,null,null,""]
["Costa Rica - San José","North America",null,null,null,""]
["Cuba - Havana","North America",null,null,null,""]
["Dominica - Roseau","North America",null,null,null,""]
["Dominican Republic (Republica Dominicana) - Santo Domingo","North America",null,null,null,""]
["El Salvador - San Salvador","North America",null,null,null,""]
["Greenland - Nuuk","North America",null,null,null,""]
["Grenada - St Georges","North America",null,null,null,""]
["Guatemala - Guatemala","North America",null,null,null,""]
["Haiti - Port-au-Prince","North America",null,null,null,""]
["Honduras - Tegucigalpa","North America",null,null,null,""]
["Jamaica - Kingston, Jamaica","North America",null,null,null,""]
["Mexico (México) - Mexico City","North America",null,null,null,""]
["Nicaragua - Managua","North America",null,null,null,""]
["Panama (Panamá) - Panama City","North America",null,null,null,""]
["Puerto Rico-San Juan","North America",null,null,null,""]
["Republica Dominicana","North America",null,null,null,""]
["Saint Kitts and Nevis - Basseterre","North America",null,null,null,""]
["Saint Lucia - Castries","North America",null,null,null,""]
["Saint Vincent and the Grenadines - Kingstown","North America",null,null,null,""]
["Trinidad and Tobago - Port of Spain","North America",null,null,null,""]
["Turks and Caicos - Grand Turk","North America",null,null,null,""]
["USA","North America",null,null,null,""]
["American Samoa - Pago Pago","Polynesia",null,null,null,""]
["Cook Islands - Avarua","Polynesia",null,null,null,""]
["French Polynesia - Papeete","Polynesia",null,null,null,""]
["Niue - Alofi","Polynesia",null,null,null,""]
["Pitcairn Islands - Adamstown","Polynesia",null,null,null,""]
["Samoa - Apia","Polynesia",null,null,null,""]
["Tokelau- tukelau","Polynesia",null,null,null,""]
["Tonga - Nuku'alofa","Polynesia",null,null,null,""]
["Tuvalu - Funafuti","Polynesia",null,null,null,""]
["Wallis and Futuna Islands - Mata-Utu","Polynesia",null,null,null,""]
["Argentina - Buenos Aires","South America",null,null,null,""]
["Bolivia - La Paz, Sucre.","South America",null,null,null,""]
["Brasil","South America"]
["Brazil (Brasil) - Brasília","South America"]
["Chile - Santiago","South America"]
["Colombia - Bogotá","South America"]
["Ecuador - Quito","South America"]
["French Guiana - Cayenne (part of France)","South America"]
["Guyana - Georgetown","South America"]
["Latin America","South America"]
["Paraguay - Asuncion","South America"]
["Peru - Lima","South America"]
["Suriname - Paramaribo","South America"]
["Uruguay - Montevideo","South America"]
["Venezuela - Caracas","South America"]

{"sheet":"mapping","index":2,"n_rows":137,"n_cols":13,"rows_kept":137,"cut":false,"hidden":true,"merged":[[0,1,0,2]]}
[null,"Mapping Sheet",null,null,null,null,"Source: Xrates on 6/21/2012","and xe.com"]
[null,"Currency Mapping",null,null,null,null,null,null,null,null,null,"Country Mapping"]
[null,"Currency","in USD",null,null,null,"Value of 1 American Dollar",null,null,null,null,"Actual","Mapping"]
[null,"USD",1,null,null,null,"     Argentine Peso ",4.4927299999999999,"ARS",null,null,"USA","USA"]
[null,"EUR",{"$f":"1/INDEX($H$4:$H$64,MATCH(tblXrate[[#This Row],[Currency]],$I$4:$I$64,0))","v":1.2703994389916078},null,null,null,"     Australian Dollar ",0.98047899999999999,"AUD",null,null,"India","India"]
[null,"PKR",{"$f":"1/INDEX($H$4:$H$64,MATCH(tblXrate[[#This Row],[Currency]],$I$4:$I$64,0))","v":1.0614088716799131E-2},null,null,null,"     Botswana Pula ",7.6569700000000003,"BWP",null,null,"UK","UK"]
[null,"INR",{"$f":"1/INDEX($H$4:$H$64,MATCH(tblXrate[[#This Row],[Currency]],$I$4:$I$64,0))","v":1.7807916687442568E-2},null,null,null,"     Brazilian Real ",2.0231400000000002,"BRL",null,null,"Australia","Australia"]
[null,"GBP",{"$f":"1/INDEX($H$4:$H$64,MATCH(tblXrate[[#This Row],[Currency]],$I$4:$I$64,0))","v":1.5761782720672841},null,null,null,"     British Pound ",0.63444599999999995,"GBP",null,null,"Canada","Canada"]
[null,"AUD",{"$f":"1/INDEX($H$4:$H$64,MATCH(tblXrate[[#This Row],[Currency]],$I$4:$I$64,0))","v":1.0199096564026358},null,null,null,"     Brunei dollar ",1.2686999999999999,"BND",null,null,"Pakistan","Pakistan"]
[null,"CAD",{"$f":"1/INDEX($H$4:$H$64,MATCH(tblXrate[[#This Row],[Currency]],$I$4:$I$64,0))","v":0.98336152303032687},null,null,null,"     Bulgarian Lev ",1.53952,"BGN",null,null,"South Africa","South Africa"]
[null,"PHP",{"$f":"1/INDEX($H$4:$H$64,MATCH(tblXrate[[#This Row],[Currency]],$I$4:$I$64,0))","v":2.3705052257787702E-2},null,null,null,"     Canadian Dollar ",1.01692,"CAD",null,null,"Germany","Germany"]
[null,"AED",{"$f":"1/INDEX($H$4:$H$64,MATCH(tblXrate[[#This Row],[Currency]],$I$4:$I$64,0))","v":0.27221921268759308},null,null,null,"     Chilean Peso ",497.26799999999997,"CLP",null,null,"UAE","UAE"]
[null,"MXN",{"$f":"1/INDEX($H$4:$H$64,MATCH(tblXrate[[#This Row],[Currency]],$I$4:$I$64,0))","v":7.3046552567951561E-2},null,null,null,"     Chinese Yuan ",6.3609099999999996,"CNY",null,null,"Brazil","Brazil"]
[null,"SEK",{"$f":"1/INDEX($H$4:$H$64,MATCH(tblXrate[[#This Row],[Currency]],$I$4:$I$64,0))","v":0.14365525038391866},null,null,null,"     Colombian Peso ",1769.79,"COP",null,null,"Netherlands","Netherlands"]
[null,"BDT",{"$f":"1/INDEX($H$4:$H$64,MATCH(tblXrate[[#This Row],[Currency]],$I$4:$I$64,0))","v":1.2220845340313881E-2},null,null,null,"     Croatian Kuna ",5.9367099999999997,"HRK",null,null,"Singapore","Singapore"]
[null,"COSTARICAN",{"$f":"1/INDEX($H$4:$H$64,MATCH(tblXrate[[#This Row],[Currency]],$I$4:$I$64,0))","v":2.0078305391024996E-3},null,null,null,"     Danish Krone ",5.8512300000000002,"DKK",null,null,"Philippines","Philippines"]
[null,"ZAR",{"$f":"1/INDEX($H$4:$H$64,MATCH(tblXrate[[#This Row],[Currency]],$I$4:$I$64,0))","v":0.12192177986291114},null,null,null,"     Euro ",0.78715400000000002,"EUR",null,null,"Portugal","Portugal"]
[null,"NZD",{"$f":"1/INDEX($H$4:$H$64,MATCH(tblXrate[[#This Row],[Currency]],$I$4:$I$64,0))","v":0.79758809360493876},null,null,null,"     Hong Kong Dollar ",7.7588900000000001,"HKD",null,null,"Spain","Spain"]
[null,"CNY",{"$f":"1/INDEX($H$4:$H$64,MATCH(tblXrate[[#This Row],[Currency]],$I$4:$I$64,0))","v":0.15721021048875083},null,null,null,"     Hungarian Forint ",225.874,"HUF",null,null,"New Zealand","New Zealand"]
[null,"EGYPT",{"$f":"1/INDEX($H$4:$H$64,MATCH(tblXrate[[#This Row],[Currency]],$I$4:$I$64,0))","v":0.16526194017517765},null,null,null,"     Iceland Krona ",124.697,"ISK",null,null,"Russia","Russia"]
[null,"NAIRA",{"$f":"1/INDEX($H$4:$H$64,MATCH(tblXrate[[#This Row],[Currency]],$I$4:$I$64,0))","v":6.1633281972265025E-3},null,null,null,"     Indian Rupee ",56.154800000000002,"INR",null,null,"Saudi Arabia","Saudi Arabia"]
[null,"AED",{"$f":"1/INDEX($H$4:$H$64,MATCH(tblXrate[[#This Row],[Currency]],$I$4:$I$64,0))","v":0.27221921268759308},null,null,null,"     Indonesian Rupiah ",9443.81,"IDR",null,null,"Mexico","Mexico"]
[null,"BRL",{"$f":"1/INDEX($H$4:$H$64,MATCH(tblXrate[[#This Row],[Currency]],$I$4:$I$64,0))","v":0.49428116689897877},null,null,null,"     Israeli New Shekel ",3.86721,"ILS",null,null,"Indonesia","Indonesia"]
[null,"RON",{"$f":"1/INDEX($H$4:$H$64,MATCH(tblXrate[[#This Row],[Currency]],$I$4:$I$64,0))","v":0.28461323906942854},null,null,null,"     Japanese Yen ",78.904300000000006,"JPY",null,null,"Norway","Norway"]
[null,"USD",1,null,null,null,"     Kazakhstani Tenge ",148.88,"KZT",null,null,"malaysia","malaysia"]
[null,"MYR",{"$f":"1/INDEX($H$4:$H$64,MATCH(tblXrate[[#This Row],[Currency]],$I$4:$I$64,0))","v":0.31680056770661735},null,null,null,"     Kuwaiti Dinar ",0.27939999999999998,"KWD",null,null,"The Netherlands","Netherlands"]
[null,"LKR",{"$f":"1/INDEX($H$4:$H$64,MATCH(tblXrate[[#This Row],[Currency]],$I$4:$I$64,0))","v":7.5240581760178168E-3},null,null,null,"     Latvian Lat ",0.548489,"LVL",null,null,"Romania","Romania"]
[null,"SGD",{"$f":"1/INDEX($H$4:$H$64,MATCH(tblXrate[[#This Row],[Currency]],$I$4:$I$64,0))","v":0.78882394238429931},null,null,null,"     Libyan Dinar ",1.9323999999999999,"LYD",null,null,"Poland","Poland"]
[null,"GBP",{"$f":"1/INDEX($H$4:$H$64,MATCH(tblXrate[[#This Row],[Currency]],$I$4:$I$64,0))","v":1.5761782720672841},null,null,null,"     Lithuanian Litas ",2.7178800000000001,"LTL",null,null,"italy","italy"]
[null,"DOP",{"$f":"1/INDEX($H$4:$H$64,MATCH(tblXrate[[#This Row],[Currency]],$I$4:$I$64,0))","v":2.5673940949935813E-2},null,null,null,"     Malaysian Ringgit ",3.1565599999999998,"MYR",null,null,"Hungary","Hungary"]
[null,"PLN",{"$f":"1/INDEX($H$4:$H$64,MATCH(tblXrate[[#This Row],[Currency]],$I$4:$I$64,0))","v":0.30031472983686902},null,null,null,"     Mauritius Rupee ",30.715900000000001,"MUR",null,null,"Denmark","Denmark"]
[null,"KENYA",{"$f":"1/INDEX($H$4:$H$64,MATCH(tblXrate[[#This Row],[Currency]],$I$4:$I$64,0))","v":1.1976047904191617E-2},null,null,null,"     Mexican Peso ",13.6899,"MXN",null,null,"Ireland","Ireland"]
[null,"DKK",{"$f":"1/INDEX($H$4:$H$64,MATCH(tblXrate[[#This Row],[Currency]],$I$4:$I$64,0))","v":0.17090423722875361},null,null,null,"     Nepalese Rupee ",89.65,"NPR",null,null,"Israel","Israel"]
[null,"IDR",{"$f":"1/INDEX($H$4:$H$64,MATCH(tblXrate[[#This Row],[Currency]],$I$4:$I$64,0))","v":1.0588946622178973E-4},null,null,null,"     New Zealand Dollar ",1.2537799999999999,"NZD",null,null,"France","France"]
[null,"MONGOLIAN",{"$f":"1/INDEX($H$4:$H$64,MATCH(tblXrate[[#This Row],[Currency]],$I$4:$I$64,0))","v":7.5642965204236008E-4},null,null,null,"     Norwegian Kroner ",5.9083800000000002,"NOK",null,null,"Colombia","Colombia"]
[null,"JPY",{"$f":"1/INDEX($H$4:$H$64,MATCH(tblXrate[[#This Row],[Currency]],$I$4:$I$64,0))","v":1.2673580527296991E-2},null,null,null,"     Omani Rial ",0.38450000000000001,"OMR",null,null,"Switzerland","Switzerland"]
[null,"SAR",{"$f":"1/INDEX($H$4:$H$64,MATCH(tblXrate[[#This Row],[Currency]],$I$4:$I$64,0))","v":0.26666666666666666},null,null,null,"     Pakistan Rupee ",94.214399999999998,"PKR",null,null,"Sri Lanka","Sri Lanka"]
[null,"MAD",{"$f":"1/INDEX($H$4:$H$64,MATCH(tblXrate[[#This Row],[Currency]],$I$4:$I$64,0))","v":0.11454753722794959},null,null,null,"     Philippine Peso ",42.185099999999998,"PHP",null,null,"Belgium","Belgium"]
[null,"MUR",{"$f":"1/INDEX($H$4:$H$64,MATCH(tblXrate[[#This Row],[Currency]],$I$4:$I$64,0))","v":3.2556428429575561E-2},null,null,null,"     Qatari Rial ",3.64,"QAR",null,null,"Dubai","Dubai"]
[null,"NOK",{"$f":"1/INDEX($H$4:$H$64,MATCH(tblXrate[[#This Row],[Currency]],$I$4:$I$64,0))","v":0.16925113144381371},null,null,null,"     Romanian Leu ",3.5135399999999999,"RON",null,null,"Ukraine","Ukraine"]
[null,"CHF",{"$f":"1/INDEX($H$4:$H$64,MATCH(tblXrate[[#This Row],[Currency]],$I$4:$I$64,0))","v":1.0578730615798488},null,null,null,"     Russian Ruble ",32.5458,"RUB",null,null,"Kuwait","Kuwait"]
[null,"ETB",{"$f":"1/INDEX($H$4:$H$64,MATCH(tblXrate[[#This Row],[Currency]],$I$4:$I$64,0))","v":5.6561085972850679E-2},null,null,null,"     Saudi Riyal ",3.75,"SAR",null,null,"iran","iran"]
[null,null,null,null,null,null,"     Singapore Dollar ",1.2677099999999999,"SGD",null,null,"Qatar","Qatar"]
[null,null,null,null,null,null,"     South African Rand ",8.2019800000000007,"ZAR",null,null,"Nigeria","Nigeria"]
[null,null,null,null,null,null,"     South Korean Won ",1151.0899999999999,"KRW",null,null,"Finland","Finland"]
[null,null,null,null,null,null,"     Sri Lanka Rupee ",132.90700000000001,"LKR",null,null,"Europe","Europe"]
[null,null,null,null,null,null,"     Swedish Krona ",6.9611099999999997,"SEK",null,null,"Japan","Japan"]
[null,null,null,null,null,null,"     Swiss Franc ",0.94529300000000005,"CHF",null,null,"Brasil","Brasil"]
[null,null,null,null,null,null,"     Taiwan Dollar ",29.859400000000001,"TWD",null,null,"nz","New Zealand"]
[null,null,null,null,null,null,"     Thai Baht ",31.500299999999999,"THB",null,null,"Greece","Greece"]
[null,null,null,null,null,null,"     Trinidad/Tobago Dollar ",6.3912199999999997,"TTD",null,null,"ksa","USA"]
[null,null,null,null,null,null,"     Turkish Lira ",1.79447,"TRY",null,null,"Panama","Panama"]
[null,null,null,null,null,null,"     Venezuelan Bolivar ",4.2940199999999997,"VEF",null,null,"Turkey","Turkey"]
[null,null,null,null,null,null,"UAE Dirham",3.6735099999999998,"AED",null,null,"Sweden","Sweden"]
[null,null,null,null,null,null,"Bangladesh Takha",81.827399999999997,"BDT",null,null,"china","china"]
[null,null,null,null,null,null,"Costarican CRC",498.05,"Costarican",null,null,"Bangladesh","Bangladesh"]
[null,null,null,null,null,null,"Egyptian Pound",6.0510000000000002,"Egypt",null,null,"Croatia","Croatia"]
[null,null,null,null,null,null,"Nigerian Naira",162.25,"NAIRA",null,null,"United Arab Emirates","UAE"]
[null,null,null,null,null,null,"Dominican Peso",38.950000000000003,"DOP",null,null,"MÃ©xico","Mexico"]
[null,null,null,null,null,null,"Polish Zloty",3.3298399999999999,"PLN",null,null,"Zambia","Zambia"]
[null,null,null,null,null,null,"Kenyan Shilling",83.5,"Kenya",null,null,"Tunisia","Tunisia"]
[null,null,null,null,null,null,"Mongolian Tughrik",1322,"Mongolian",null,null,"Saudi Arabai","Saudi Arabia"]
[null,null,null,null,null,null,"Moroccan Dirham",8.73,"MAD",null,null,"Ethiopia","Ethiopia"]
[null,null,null,null,null,null,"Ethiopian Birr",17.68,"ETB",null,null,"CEE","CEE"]
[null,null,null,null,null,null,null,null,null,null,null,"SouthAfrica","South Africa"]
[null,null,null,null,null,null,null,null,null,null,null,"Central America","Central America"]
[null,null,null,null,null,null,null,null,null,null,null,"Uruguay","Uruguay"]
[null,null,null,null,null,null,null,null,null,null,null,"Kenya","Kenya"]
[null,null,null,null,null,null,null,null,null,null,null,"Republica Dominicana","Republica Dominicana"]
[null,null,null,null,null,null,null,null,null,null,null,"Kingdom of Saudi Arabia","Saudi Arabia"]
[null,null,null,null,null,null,null,null,null,null,null,"Slovakia","Slovakia"]
[null,null,null,null,null,null,null,null,null,null,null,"Austria","Austria"]
[null,null,null,null,null,null,null,null,null,null,null,"Guyana","Guyana"]
[null,null,null,null,null,null,null,null,null,null,null,"Azerbaijan","Azerbaijan"]
[null,null,null,null,null,null,null,null,null,null,null,"Bulgaria","Bulgaria"]
[null,null,null,null,null,null,null,null,null,null,null,"Kuwait ","Kuwait "]
[null,null,null,null,null,null,null,null,null,null,null,"Peru","Peru"]
[null,null,null,null,null,null,null,null,null,null,null,"Vietnam","Vietnam"]
[null,null,null,null,null,null,null,null,null,null,null,"Armenia","Armenia"]
[null,null,null,null,null,null,null,null,null,null,null,"Zimbabwe","Zimbabwe"]
[null,null,null,null,null,null,null,null,null,null,null,"RSA","South Africa"]
[null,null,null,null,null,null,null,null,null,null,null,"Libya","Libya"]
[null,null,null,null,null,null,null,null,null,null,null,"self-employed","self-employed"]
[null,null,null,null,null,null,null,null,null,null,null,"Lithuania","Lithuania"]
[null,null,null,null,null,null,null,null,null,null,null,"Somalia","Somalia"]
[null,null,null,null,null,null,null,null,null,null,null,"Colombia - South America","Colombia"]
[null,null,null,null,null,null,null,null,null,null,null,"BRA","Brazil"]
[null,null,null,null,null,null,null,null,null,null,null,"mainland Europe (Euro zone)","Europe"]
[null,null,null,null,null,null,null,null,null,null,null,"Thailand","Thailand"]
[null,null,null,null,null,null,null,null,null,null,null,"Continental Europe","CEE"]
[null,null,null,null,null,null,null,null,null,null,null,"Asia","Asia"]
[null,null,null,null,null,null,null,null,null,null,null,"Mauritius","Mauritius"]
[null,null,null,null,null,null,null,null,null,null,null,"Cambodia","Cambodia"]
[null,null,null,null,null,null,null,null,null,null,null,"Costa Rica","Costa Rica"]
[null,null,null,null,null,null,null,null,null,null,null,"Viet Nam","Viet Nam"]
[null,null,null,null,null,null,null,null,null,null,null,"Mongolia","Mongolia"]
[null,null,null,null,null,null,null,null,null,null,null,"Estonia","Estonia"]
[null,null,null,null,null,null,null,null,null,null,null,"Montenegro","Montenegro"]
[null,null,null,null,null,null,null,null,null,null,null,"EU","Europe"]
[null,null,null,null,null,null,null,null,null,null,null,"Morocco","Morocco"]
[null,null,null,null,null,null,null,null,null,null,null,"Republic of Georgia","Republic of Georgia"]
[null,null,null,null,null,null,null,null,null,null,null,"mozambique","mozambique"]
[null,null,null,null,null,null,null,null,null,null,null,"europe/Croatia","Croatia"]
[null,null,null,null,null,null,null,null,null,null,null,"Myanmar","Myanmar"]
[null,null,null,null,null,null,null,null,null,null,null,"Bermuda","Bermuda"]
[null,null,null,null,null,null,null,null,null,null,null,"Myanmar [Burma]","Myanmar"]
[null,null,null,null,null,null,null,null,null,null,null,"FR","France"]
[null,null,null,null,null,null,null,null,null,null,null,"MYS","MYS"]
[null,null,null,null,null,null,null,null,null,null,null,"Bhutan","Bhutan"]
[null,null,null,null,null,null,null,null,null,null,null,"Baltic","Baltic"]
[null,null,null,null,null,null,null,null,null,null,null,"Slovenia","Slovenia"]
[null,null,null,null,null,null,null,null,null,null,null,"New  Zealand","New Zealand"]
[null,null,null,null,null,null,null,null,null,null,null,"Bolivia","Bolivia"]
[null,null,null,null,null,null,null,null,null,null,null,"Czech Republic","Czech Republic"]
[null,null,null,null,null,null,null,null,null,null,null,"Ghana","Ghana"]
[null,null,null,null,null,null,null,null,null,null,null,"bangkok","Thailand"]
[null,null,null,null,null,null,null,null,null,null,null,"srilanka","Sri Lanka"]
[null,null,null,null,null,null,null,null,null,null,null,"NL","Netherlands"]
[null,null,null,null,null,null,null,null,null,null,null,"Hong Kong","Hong Kong"]
[null,null,null,null,null,null,null,null,null,null,null,"nld","New Zealand"]
[null,null,null,null,null,null,null,null,null,null,null,"Aruba","Aruba"]
[null,null,null,null,null,null,null,null,null,null,null,"DK","Denmark"]
[null,null,null,null,null,null,null,null,null,null,null,"Iceland","Iceland"]
[null,null,null,null,null,null,null,null,null,null,null,"Dominican Republic","Dominican Republic"]
[null,null,null,null,null,null,null,null,null,null,null,"Uganda","Uganda"]
[null,null,null,null,null,null,null,null,null,null,null,"Oman","Oman"]
[null,null,null,null,null,null,null,null,null,null,null,"Inonesia","Indonesia"]
[null,null,null,null,null,null,null,null,null,null,null,"Argentina","Argentina"]
[null,null,null,null,null,null,null,null,null,null,null,"United Arab Emriate","UAE"]
[null,null,null,null,null,null,null,null,null,null,null,"Pakistan, Angola","Pakistan"]
[null,null,null,null,null,null,null,null,null,null,null,"Canad","Canada"]
[null,null,null,null,null,null,null,null,null,null,null,"Egypt","Egypt"]
[null,null,null,null,null,null,null,null,null,null,null,"arabian Gulf","arabian Gulf"]
[null,null,null,null,null,null,null,null,null,null,null,"Paraguay","Paraguay"]
[null,null,null,null,null,null,null,null,null,null,null,"Latin America","Latin America"]
[null,null,null,null,null,null,null,null,null,null,null,"Albania","Albania"]
[null,null,null,null,null,null,null,null,null,null,null,"Lesotho","Lesotho"]

{"sheet":"Freq Piv","index":3,"n_rows":1887,"n_cols":14,"rows_kept":1887,"cut":false,"hidden":true,"merged":[[5,8,5,9],[5,11,5,12]]}
["Job Type","(All)"]
["Continent","(All)"]
[]
["Row Labels","Sum of Salary in USD"]
["ID1154",1783.166904422254]
["ID1014",1805.7739622442759,null,null,null,null,null,null,"Freqency Data",null,null,"Chart Data"]
["ID0783",1910.5359690238436,null,null,null,null,null,null,10000,{"$f":"FREQUENCY(B5:B1048576,I7:I17)","v":376},null,{"$f":"\"0-\"&TEXT(LEFT(I7,2),\"#,#\")","v":"0-10"},{"$f":"J7","v":376},{"$f":"IF(M7=MAX($M$7:$M$17),M7,NA())","v":376}]
["ID0659",2122.8177433598262,null,null,null,null,null,null,{"$f":"I7+10000","v":20000},253,null,{"$f":"LEFT(I7,2)&\"-\"&TEXT(LEFT(I8,2),\"#,#\")","v":"10-20"},{"$f":"J8","v":253},{"$f":"IF(M8=MAX($M$7:$M$17),M8,NA())","v":{"$error":"#N/A"}}]
["ID0685",2136.9500024931081,null,null,null,null,null,null,{"$f":"I8+10000","v":30000},117,null,{"$f":"LEFT(I8,2)&\"-\"&TEXT(LEFT(I9,2),\"#,#\")","v":"20-30"},117,{"$error":"#N/A"}]
["ID0708",2136.9500024931081,null,null,null,null,null,null,40000,138,null,"30-40",138,{"$error":"#N/A"}]
["ID0766",2136.9500024931081,null,null,null,null,null,null,50000,197,null,"40-50",197,{"$error":"#N/A"}]
["ID0897",2136.9500024931081,null,null,null,null,null,null,60000,183,null,"50-60",183,{"$error":"#N/A"}]
["ID1029",2136.9500024931081,null,null,null,null,null,null,{"$f":"I12+10000","v":70000},141,null,"60-70",141,{"$error":"#N/A"}]
["ID0723",2165.2740982270229,null,null,null,null,null,null,80000,134,null,"70-80",134,{"$error":"#N/A"}]
["ID0469",2225.989585930321,null,null,null,null,null,null,90000,84,null,"80-90",84,{"$error":"#N/A"}]
["ID1649",2225.989585930321,null,null,null,null,null,null,{"$f":"I15+10000","v":100000},79,null,"90-10",79,{"$error":"#N/A"}]
["ID1791",2400,null,null,null,null,null,null,null,181,null,{"$f":"\">\"&LEFT(I16,3)","v":">100"},181,{"$error":"#N/A"}]
["ID1050",2400]
["ID1082",2493.1083362419595]
["ID1773",2493.1083362419595]
["ID0687",2564.3400029917298]
["ID0093",2564.3400029917298]
["ID0923",2564.3400029917298]
["ID0879",2564.3400029917298]
["ID0818",2564.3400029917298]
["ID0697",2671.1875031163854]
["ID0649",2671.1875031163854]
["ID0794",2671.1875031163854]
["ID1721",2671.1875031163854]
["ID1785",2671.1875031163854]
["ID1132",2675.675098121621]
["ID0621",2849.2666699908109]
["ID0661",2938.3062534280239]
["ID1904",2953.8461538461538]
["ID0695",3000]
["ID0859",3000]
["ID1317",3000]
["ID1792",3000]
["ID0809",3027.3458368652364]
["ID1026",3184.2266150397395]
["ID1481",3200]
["ID0733",3205.4250037396623]
["ID0904",3205.4250037396623]
["ID0699",3205.4250037396623]
["ID0719",3205.4250037396623]
["ID0924",3205.4250037396623]
["ID0172",3205.4250037396623]
["ID0178",3205.4250037396623]
["ID0297",3205.4250037396623]
["ID1924",3205.4250037396623]
["ID1547",3205.4250037396623]
["ID1112",3205.4250037396623]
["ID1047",3205.4250037396623]
["ID1005",3205.4250037396623]
["ID1753",3205.4250037396623]
["ID1652",3360]
["ID0202",3419.1200039889732]
["ID1683",3419.1200039889732]
["ID0939",3480]
["ID1105",3500]
["ID0230",3561.5833374885137]
["ID0665",3561.5833374885137]
["ID0846",3561.5833374885137]
["ID0848",3561.5833374885137]
["ID0636",3561.5833374885137]
["ID0420",3561.5833374885137]
["ID0497",3561.5833374885137]
["ID1178",3561.5833374885137]
["ID1536",3561.5833374885137]
["ID1065",3561.5833374885137]
["ID1313",3561.5833374885137]
["ID1687",3561.5833374885137]
["ID1046",3561.5833374885137]
["ID1469",3561.5833374885137]
["ID1142",3561.5833374885137]
["ID1066",3561.5833374885137]
["ID1795",3600]
["ID0998",3632.815004238284]
["ID1330",3632.815004238284]
["ID0771",3650.6229209257262]
["ID1311",3739.6625043629392]
["ID1125",3739.6625043629392]
["ID1036",3739.6625043629392]
["ID0347",3800]
["ID0682",3917.7416712373652]
["ID0775",3917.7416712373652]
["ID0901",3982.448779308334]
["ID0653",4000]
["ID0625",4000]
["ID0647",4000]
["ID1902",4000]
["ID1479",4000]
["ID0758",4006.7812546745777]
["ID1645",4019]
["ID0668",4095.8208381117906]
["ID1474",4095.8208381117906]
["ID0197",4149.2445881741187]
["ID0629",4200]
["ID0754",4273.9000049862161]
["ID0813",4273.9000049862161]
["ID0760",4273.9000049862161]
["ID0787",4273.9000049862161]
["ID0603",4273.9000049862161]
["ID0427",4273.9000049862161]
["ID1660",4273.9000049862161]
["ID1099",4273.9000049862161]
["ID1089",4273.9000049862161]
["ID0576",4285]
["ID1124",4314.929445034084]
["ID0054",4320]
["ID1447",4356]
["ID1221",4400]
["ID0678",4451.9791718606421]
["ID0696",4451.9791718606421]
["ID0726",4451.9791718606421]
["ID1390",4451.9791718606421]
["ID1916",4451.9791718606421]
["ID1207",4451.9791718606421]
["ID1903",4451.9791718606421]
["ID1360",4451.9791718606421]
["ID1090",4451.9791718606421]
["ID1464",4451.9791718606421]
["ID1078",4451.9791718606421]
["ID1590",4451.9791718606421]
["ID0886",4457.9172610556352]
["ID1048",4487.5950052355274]
["ID1123",4487.5950052355274]
["ID0872",4500]
["ID1591",4500]
["ID0324",4545]
["ID1745",4594.4425053601826]
["ID0684",4630.058338735068]
["ID0742",4800]
["ID1212",4800]
["ID1819",4800]
["ID1860",4808.137505609493]
["ID1034",4840.0244548604041]
["ID0201",4897.177089046706]
["ID1334",4897.177089046706]
["ID0669",4914.9850057341491]
["ID0267",4914.9850057341491]
["ID1914",4914.9850057341491]
["ID1503",4950.6008391090336]
["ID0698",4957.7240057840108]
["ID1818",4986.216672483919]
["ID0448",5000]
["ID0864",5000]
["ID0847",5000]
["ID1912",5000]
["ID1497",5000]
["ID1892",5000]
["ID1887",5000]
["ID0738",5022]
["ID1245",5082.6943786459069]
["ID1067",5100]
["ID1136",5120.2912876821438]
["ID0467",5250]
["ID1350",5300]
["ID1771",5320]
["ID0442",5342.3750062327708]
["ID0664",5342.3750062327708]
["ID0773",5342.3750062327708]
["ID0881",5342.3750062327708]
["ID0644",5342.3750062327708]
["ID0919",5342.3750062327708]
["ID0701",5342.3750062327708]
["ID0406",5342.3750062327708]
["ID0639",5342.3750062327708]
["ID0691",5342.3750062327708]
["ID1448",5342.3750062327708]
["ID1658",5342.3750062327708]
["ID1069",5342.3750062327708]
["ID1032",5342.3750062327708]
["ID1338",5342.3750062327708]
["ID1289",5342.3750062327708]
["ID1230",5342.3750062327708]
["ID1114",5342.3750062327708]
["ID0654",5400]
["ID1324",5591.6858398569666]
["ID1578",5689.2125418690484]
["ID1663",5698.5333399816218]
["ID1462",5698.5333399816218]
["ID1632",5698.5333399816218]
["ID0676",5787.5729234188348]
["ID0667",5800]
["ID0001",5846]
["ID0141",5983.4600069807029]
["ID0577",6000]
["ID0750",6000]
["ID0492",6000]
["ID0841",6000]
["ID1151",6000]
["ID1160",6000]
["ID1732",6000]
["ID1039",6000]
["ID1601",6000]
["ID1651",6054.6916737304728]
["ID0222",6232.7708406048987]
["ID1301",6232.7708406048987]
["ID1879",6232.7708406048987]
["ID1894",6232.7708406048987]
["ID1184",6232.7708406048987]
["ID1013",6232.7708406048987]
["ID0541",6368.453230079479]
["ID0340",6410.8500074793246]
["ID0751",6410.8500074793246]
["ID0828",6410.8500074793246]
["ID0032",6410.8500074793246]
["ID1281",6410.8500074793246]
["ID1876",6410.8500074793246]
["ID1588",6410.8500074793246]
["ID1314",6410.8500074793246]
["ID1465",6410.8500074793246]
["ID1736",6410.8500074793246]
["ID1018",6499.8895909165376]
["ID1640",6545]
["ID0352",6588.9291743537506]
["ID0703",6588.9291743537506]
["ID0702",6588.9291743537506]
["ID1347",6600]
["ID0434",6629]
["ID0720",6677.9687577909626]
["ID0799",6713.584591165848]
["ID1077",6720]
["ID1845",6720]
["ID0694",6767.0083412281756]
["ID0611",6767.0083412281756]
["ID1540",6767.0083412281756]
["ID0728",6945.0875081026015]
["ID0693",7000]
["ID1074",7000]
["ID1625",7000]
["ID0724",7123.1666749770275]
["ID0040",7123.1666749770275]
["ID0894",7123.1666749770275]
["ID0889",7123.1666749770275]
["ID0711",7123.1666749770275]
["ID0598",7123.1666749770275]
["ID0407",7123.1666749770275]
["ID0336",7123.1666749770275]
["ID0788",7123.1666749770275]
["ID0645",7123.1666749770275]
["ID1463",7123.1666749770275]
["ID1131",7123.1666749770275]
["ID1883",7123.1666749770275]
["ID1627",7123.1666749770275]
["ID1290",7123.1666749770275]
["ID1139",7123.1666749770275]
["ID1234",7123.1666749770275]
["ID1702",7123.1666749770275]
["ID1031",7123.1666749770275]
["ID1801",7123.1666749770275]
["ID1494",7200]
["ID1080",7200]
["ID1193",7200]
["ID1260",7261.724659606657]
["ID1020",7265]
["ID1061",7265.630008476568]
["ID0739",7301.2458418514525]
["ID0160",7479.3250087258784]
["ID0613",7479.3250087258784]
["ID1909",7479.3250087258784]
["ID1035",7479.3250087258784]
["ID1734",7497.1329254133216]
["ID0056",7500]
["ID0455",7500]
["ID1837",7568.3645921630914]
["ID0271",7600]
["ID0652",7693.0200089751897]
["ID1075",7799.8675090998449]
["ID1094",7960]
["ID0648",8000]
["ID0959",8000]
["ID0757",8000]
["ID1539",8000]
["ID1294",8000]
["ID0792",8013.5625093491553]
["ID0710",8013.5625093491553]
["ID0807",8013.5625093491553]
["ID0544",8013.5625093491553]
["ID0294",8013.5625093491553]
["ID1363",8013.5625093491553]
["ID1179",8013.5625093491553]
["ID1820",8013.5625093491553]
["ID1686",8013.5625093491553]
["ID1223",8013.5625093491553]
["ID1023",8013.5625093491553]
["ID0679",8369.7208430980063]
["ID0258",8369.7208430980063]
["ID0622",8400]
["ID0509",8400]
["ID1917",8400]
["ID1859",8400]
["ID1718",8400]
["ID1044",8476.5683432226633]
["ID0436",8500]
["ID0423",8500]
["ID0730",8547.8000099724322]
["ID0651",8547.8000099724322]
["ID0225",8547.8000099724322]
["ID0372",8547.8000099724322]
["ID0779",8547.8000099724322]
["ID0946",8547.8000099724322]
["ID0709",8547.8000099724322]
["ID0666",8547.8000099724322]
["ID1202",8547.8000099724322]
["ID1790",8547.8000099724322]
["ID1450",8547.8000099724322]
["ID1163",8600]
["ID0915",8654.6475100970874]
["ID1045",8700]
["ID1173",8725]
["ID0672",8738]
["ID0085",8903.9583437212841]
["ID0170",8903.9583437212841]
["ID0452",8903.9583437212841]
["ID0377",8903.9583437212841]
["ID0716",8903.9583437212841]
["ID0891",8903.9583437212841]
["ID0510",8903.9583437212841]
["ID0221",8903.9583437212841]
["ID0036",8903.9583437212841]
["ID0898",8903.9583437212841]
["ID0717",8903.9583437212841]
["ID0548",8903.9583437212841]
["ID1339",8903.9583437212841]
["ID1309",8903.9583437212841]
["ID1727",8903.9583437212841]
["ID1214",8903.9583437212841]
["ID1572",8903.9583437212841]
["ID1532",8903.9583437212841]
["ID1454",8903.9583437212841]
["ID1172",8903.9583437212841]
["ID1161",8903.9583437212841]
["ID1661",8903.9583437212841]
["ID1777",8903.9583437212841]
["ID1000",8903.9583437212841]
["ID1095",8903.9583437212841]
["ID1716",8903.9583437212841]
["ID1278",8903.9583437212841]
["ID0817",8975.1900104710548]
["ID1328",9000]
["ID1327",9000]
["ID1229",9000]
["ID0780",9146.5655463031271]
["ID0759",9171.0323574730355]
["ID0816",9188.8850107203652]
["ID1633",9376.2513877177607]
["ID1063",9438.1958443445619]
["ID0934",9490.1984044603923]
["ID1477",9509.8988293070688]
["ID1513",9545.0433444692171]
["ID0727",9600]
["ID1524",9600]
["ID0861",9616.275011218986]
["ID0382",9616.275011218986]
["ID1195",9616.275011218986]
["ID1003",9705.3145946561999]
["ID0832",9794.354178093412]
["ID0855",9794.354178093412]
["ID0019",9794.354178093412]
["ID1719",9794.354178093412]
["ID0276",9956.1219482708348]
["ID1811",9972.4333449678379]
["ID0707",10000]
["ID0628",10000]
["ID0905",10000]
["ID0789",10000]
["ID0745",10000]
["ID0890",10000]
["ID1533",10000]
["ID1604",10000]
["ID1735",10000]
["ID1326",10000]
["ID1140",10000]
["ID1653",10000]
["ID1657",10000]
["ID1602",10000]
["ID1510",10000]
["ID1711",10000]
["ID0781",10150.512511842264]
["ID1024",10150.512511842264]
["ID0675",10200]
["ID1308",10239.552095279476]
["ID0835",10684.750012465542]
["ID0836",10684.750012465542]
["ID0741",10684.750012465542]
["ID0823",10684.750012465542]
["ID0925",10684.750012465542]
["ID0526",10684.750012465542]
["ID0508",10684.750012465542]
["ID0948",10684.750012465542]
["ID0646",10684.750012465542]
["ID0949",10684.750012465542]
["ID0802",10684.750012465542]
["ID0885",10684.750012465542]
["ID0638",10684.750012465542]
["ID0729",10684.750012465542]
["ID0706",10684.750012465542]
["ID0030",10684.750012465542]
["ID0736",10684.750012465542]
["ID0907",10684.750012465542]
["ID1341",10684.750012465542]
["ID1717",10684.750012465542]
["ID1452",10684.750012465542]
["ID1299",10684.750012465542]
["ID1319",10684.750012465542]
["ID1877",10684.750012465542]
["ID1042",10684.750012465542]
["ID1113",10684.750012465542]
["ID1091",10684.750012465542]
["ID1028",10800]
["ID0328",10809.503829551191]
["ID1027",10898.445012714852]
["ID0316",10956.982885192734]
["ID0756",11000]
["ID1576",11000]
["ID1866",11000]
["ID1793",11000]
["ID1670",11000]
["ID0386",11040.908346214392]
["ID1467",11040.908346214392]
["ID0782",11325.835013213473]
["ID0713",11325.835013213473]
["ID1015",11397.066679963244]
["ID0348",11400]
["ID1261",11404.820437438224]
["ID1353",11518.711713336908]
["ID0692",11539.530013462785]
["ID0814",11575.14584683767]
["ID0851",11575.14584683767]
["ID1010",11575.14584683767]
["ID1597",11575.14584683767]
["ID1507",11575.14584683767]
["ID1329",11753.225013712095]
["ID1280",11800]
["ID0878",12000]
["ID0476",12000]
["ID0863",12000]
["ID0391",12000]
["ID0424",12000]
["ID0307",12000]
["ID0715",12000]
["ID0130",12000]
["ID0511",12000]
["ID0008",12000]
["ID0048",12000]
["ID0825",12000]
["ID1058",12000]
["ID1780",12000]
["ID1648",12000]
["ID1052",12000]
["ID1535",12000]
["ID1680",12000]
["ID1297",12000]
["ID0997",12000]
["ID1629",12109.383347460946]
["ID1116",12192.177986291113]
["ID0010",12227.430201752599]
["ID0958",12326.656394453004]
["ID0937",12465.541681209797]
["ID0928",12465.541681209797]
["ID0761",12465.541681209797]
["ID1862",12465.541681209797]
["ID1225",12465.541681209797]
["ID1881",12465.541681209797]
["ID1007",12465.541681209797]
["ID1049",12465.541681209797]
["ID1565",12465.541681209797]
["ID1295",12500]
["ID1157",12608.005014709339]
["ID0630",12821.700014958649]
["ID0718",12821.700014958649]
["ID0705",12821.700014958649]
["ID0884",12821.700014958649]
["ID0500",12821.700014958649]
["ID1478",12821.700014958649]
["ID0838",13000]
["ID0686",13000]
["ID0342",13000]
["ID1667",13000]
["ID1621",13000]
["ID0810",13100]
["ID0013",13338.129598894484]
["ID0393",13355.937515581925]
["ID1423",13355.937515581925]
["ID1907",13355.937515581925]
["ID1217",13355.937515581925]
["ID0776",13500]
["ID0021",13500]
["ID1155",13500]
["ID1316",13500]
["ID1815",13603.016099449767]
["ID0188",13636]
["ID1580",13745.704467353951]
["ID0615",13800]
["ID0912",13801.135432767991]
["ID0012",14000]
["ID0282",14000]
["ID1292",14000]
["ID1812",14000]
["ID1433",14000]
["ID0700",14246.333349954055]
["ID0735",14246.333349954055]
["ID0136",14246.333349954055]
["ID0650",14246.333349954055]
["ID0457",14246.333349954055]
["ID0046",14246.333349954055]
["ID1756",14246.333349954055]
["ID1757",14246.333349954055]
["ID1720",14400]
["ID1557",14400]
["ID0042",14500]
["ID1060",14630.613583549337]
["ID0765",14960]
["ID0385",15000]
["ID0285",15000]
["ID0521",15000]
["ID0673",15000]
["ID0744",15000]
["ID0714",15000]
["ID0076",15000]
["ID0002",15000]
["ID0658",15000]
["ID1623",15000]
["ID0967",15000]
["ID1570",15000]
["ID1646",15000]
["ID1016",15000]
["ID1291",15000]
["ID1499",15000]
["ID1832",15000]
["ID0593",15092.18020692008]
["ID0616",15136.729184326183]
["ID0805",15136.729184326183]
["ID0900",15136.729184326183]
["ID1574",15136.729184326183]
["ID1146",15190.15293438851]
["ID1001",15206.427249917633]
["ID0240",15244.793267899293]
["ID1165",15404.364569961488]
["ID0821",15500]
["ID0155",15500]
["ID0561",15600]
["ID0903",15600]
["ID1491",15761.782720672842]
["ID1573",15840]
["ID0301",16000]
["ID0749",16000]
["ID0786",16000]
["ID0454",16027.125018698311]
["ID0029",16027.125018698311]
["ID0839",16027.125018698311]
["ID1210",16027.125018698311]
["ID1834",16027.125018698311]
["ID1130",16027.125018698311]
["ID1451",16027.125018698311]
["ID1285",16027.125018698311]
["ID1868",16110]
["ID0865",16337.518501630093]
["ID0908",16350]
["ID0662",16800]
["ID0660",16917.52085307044]
["ID1752",16917.52085307044]
["ID0680",17067.637625607145]
["ID0398",17598.017290051986]
["ID1579",17728]
["ID0850",17807.916687442568]
["ID0732",17807.916687442568]
["ID0899",17807.916687442568]
["ID0837",17807.916687442568]
["ID0321",17807.916687442568]
["ID0936",17807.916687442568]
["ID0023",17807.916687442568]
["ID1641",17807.916687442568]
["ID1551",17807.916687442568]
["ID1647",17807.916687442568]
["ID1004",17807.916687442568]
["ID1864",17807.916687442568]
["ID1284",17807.916687442568]
["ID1041",17807.916687442568]
["ID1833",17807.916687442568]
["ID1457",17807.916687442568]
["ID1224",17807.916687442568]
["ID1468",17807.916687442568]
["ID1595",17807.916687442568]
["ID0079",18000]
["ID0546",18000]
["ID0371",18000]
["ID1506",18000]
["ID1772",18000]
["ID1011",18000]
["ID1033",18000]
["ID1064",18000]
["ID1288",18000]
["ID1343",18000]
["ID1192",18018.883790212141]
["ID0940",18060]
["ID0833",18499.860539512854]
["ID0913",18698.312521814696]
["ID1119",18987]
["ID1200",19000]
["ID0992",19000]
["ID1128",19000]
["ID1446",19008.034062397041]
["ID0797",19055.991584874118]
["ID0507",19055.991584874118]
["ID0929",19055.991584874118]
["ID1201",19055.991584874118]
["ID0772",19068]
["ID0411",19200]
["ID0105",19200]
["ID0035",19200]
["ID0443",19588.708356186824]
["ID0175",19588.708356186824]
["ID1203",19588.708356186824]
["ID0834",19818.231248269083]
["ID0740",19831.432821021317]
["ID0950",20000]
["ID0753",20000]
["ID0250",20000]
["ID0474",20000]
["ID0763",20000]
["ID0491",20000]
["ID0279",20000]
["ID1823",20000]
["ID1606",20000]
["ID1399",20000]
["ID1019",20000]
["ID0975",20000]
["ID1455",20000]
["ID1918",20000]
["ID1831",20000]
["ID1760",20122.945856810104]
["ID1057",20326.391023865726]
["ID1471",20400]
["ID0688",20479.104190558952]
["ID1466",20479.104190558952]
["ID0796",20514.720023933838]
["ID0938",20571]
["ID1846",20640]
["ID0619",21000]
["ID0103",21000]
["ID1929",21000]
["ID1190",21228.177433598263]
["ID1774",21342.710575059013]
["ID0845",21369.500024931083]
["ID0238",21369.500024931083]
["ID0896",21369.500024931083]
["ID0770",21369.500024931083]
["ID1084",21369.500024931083]
["ID1110",21369.500024931083]
["ID1318",21369.500024931083]
["ID1068",21369.500024931083]
["ID1054",21369.500024931083]
["ID0999",21369.500024931083]
["ID1836",21369.500024931083]
["ID1342",21369.500024931083]
["ID0657",21500]
["ID1759",21903.737525554359]
["ID0330",22000]
["ID0288",22000]
["ID1722",22000]
["ID1526",22000]
["ID0578",22438.012440857987]
["ID0379",22867.189901848938]
["ID0168",22880]
["ID0502",23000]
["ID1209",23000]
["ID0165",23150.291693675339]
["ID0911",23150.291693675339]
["ID1779",23150.291693675339]
["ID1133",23642.674081009263]
["ID0762",24000]
["ID0812",24000]
["ID0430",24000]
["ID0943",24000]
["ID0479",24000]
["ID0096",24000]
["ID0670",24000]
["ID0119",24000]
["ID0931",24000]
["ID0671",24000]
["ID1187",24000]
["ID1336",24000]
["ID1848",24000]
["ID1438",24000]
["ID1377",24000]
["ID1829",24391.669228638868]
["ID1072",24588.381044249632]
["ID1549",24864]
["ID0313",24931.083362419595]
["ID1861",24931.083362419595]
["ID0252",25000]
["ID0362",25000]
["ID1908",25000]
["ID1726",25000]
["ID1437",25000]
["ID1487",25000]
["ID1886",25000]
["ID1208",25407.988779832154]
["ID0883",25560]
["ID0513",25849.323661903458]
["ID0081",26000]
["ID0921",26043.18849932796]
["ID0877",26400]
["ID1598",26678.388218823762]
["ID1689",26678.388218823762]
["ID1171",26691.183012544854]
["ID0286",26711.875031163851]
["ID1304",26711.875031163851]
["ID1512",26711.875031163851]
["ID1470",26795.030625143831]
["ID0213",27000]
["ID0287",27221.92126875931]
["ID0564",27500]
["ID0265",27600]
["ID1183",27840]
["ID0192",28000]
["ID1038",28000]
["ID1180",28000]
["ID0412",28109.627547434993]
["ID0920",28310.79811950968]
["ID1279",28353.650809742252]
["ID0057",28371.208897211112]
["ID1345",28492.66669990811]
["ID1071",28492.66669990811]
["ID1758",28995]
["ID0341",29000]
["ID1855",29000]
["ID0179",29159.298033244755]
["ID1059",29261.227167098674]
["ID0429",30000]
["ID0428",30000]
["ID0039",30000]
["ID0827",30000]
["ID0402",30000]
["ID0478",30000]
["ID0941",30000]
["ID0612",30000]
["ID0842",30000]
["ID1545",30000]
["ID1453",30000]
["ID1162",30000]
["ID1763",30000]
["ID1567",30000]
["ID1781",30000]
["ID1747",30000]
["ID1273",30000]
["ID1853",30000]
["ID0767",30232]
["ID0826",30273.458368652366]
["ID1592",30273.458368652366]
["ID0053",30489.586535798586]
["ID1323",30489.586535798586]
["ID1678",30500]
["ID0299",31000]
["ID0255",31000]
["ID1665",31200]
["ID1750",31200]
["ID1571",31200]
["ID0722",31250]
["ID0086",31330]
["ID0555",31523.565441345683]
["ID0311",31523.565441345683]
["ID1607",31523.565441345683]
["ID1257",31523.565441345683]
["ID1863",31523.565441345683]
["ID1083",31523.565441345683]
["ID0856",32000]
["ID1505",32000]
["ID0617",32054.250037396621]
["ID0205",32054.250037396621]
["ID1612",32054.250037396621]
["ID1460",32187.34988380854]
["ID1882",32311.654577379326]
["ID1127",32666.305522511171]
["ID1617",32884]
["ID1373",33000]
["ID0575",33099.743713412965]
["ID1828",33250]
["ID0074",33420]
["ID0689",33500]
["ID1797",33600]
["ID1798",33600]
["ID1615",33887.832849446611]
["ID0803",33900]
["ID0404",34000]
["ID1546",34000]
["ID0261",34191.200039889729]
["ID0747",34357.533974522659]
["ID0996",34417.653306061438]
["ID1664",34675.92198548025]
["ID0151",35000]
["ID0368",35000]
["ID0704",35000]
["ID0558",35000]
["ID0416",35000]
["ID0862",35000]
["ID0731",35000]
["ID0562",35000]
["ID1277",35000]
["ID1152",35000]
["ID1609",35063.024516168378]
["ID1783",35148.775467100437]
["ID1714",35401.014829091764]
["ID1613",35500]
["ID1899",35571.184291765021]
["ID0952",36000]
["ID0914",36000]
["ID0129",36000]
["ID0594",36000]
["ID0106",36000]
["ID0784",36000]
["ID0284",36000]
["ID0092",36000]
["ID0302",36000]
["ID0752",36000]
["ID1310",36000]
["ID1635",36000]
["ID0988",36000]
["ID1741",36000]
["ID1380",36000]
["ID1315",36206.384011260823]
["ID1148",36252.100257547536]
["ID1093",36252.100257547536]
["ID0917",36400]
["ID0892",36500]
["ID0663",37000]
["ID1404",37000]
["ID0154",37440]
["ID1850",37500]
["ID1017",37612.869087708088]
["ID0755",37828.278529614821]
["ID0114",37900]
["ID0572",38000]
["ID0059",38000]
["ID1611",38000]
["ID1530",38000]
["ID0849",38111.983169748237]
["ID1671",38111.983169748237]
["ID1298",38111.983169748237]
["ID1239",38111.983169748237]
["ID1143",38111.983169748237]
["ID1873",38666]
["ID0631",39000]
["ID1389",39000]
["ID1800",39334.460921213074]
["ID1366",39355.495879248076]
["ID0464",39404.456801682099]
["ID1472",39404.456801682099]
["ID1241",39404.456801682099]
["ID1118",39404.456801682099]
["ID1562",39404.456801682099]
["ID1905",39404.456801682099]
["ID1461",39879.404680246938]
["ID0961",40000]
["ID0139",40000]
["ID0089",40000]
["ID0254",40000]
["ID0858",40000]
["ID0310",40000]
["ID0867",40000]
["ID0180",40000]
["ID0401",40000]
["ID0272",40000]
["ID0098",40000]
["ID0831",40000]
["ID0322",40000]
["ID0280",40000]
["ID0737",40000]
["ID0185",40000]
["ID0495",40000]
["ID0025",40000]
["ID1767",40000]
["ID1419",40000]
["ID1231",40000]
["ID1930",40000]
["ID1409",40000]
["ID1566",40000]
["ID1878",40000]
["ID1841",40000]
["ID1405",40000]
["ID1145",40000]
["ID1794",40000]
["ID1851",40000]
["ID1220",40000]
["ID1265",40000]
["ID0785",40067.812546745779]
["ID0590",40414]
["ID1252",40586.590505732565]
["ID0184",40700]
["ID0895",40958.208381117904]
["ID0712",40958.208381117904]
["ID0124",40958.208381117904]
["ID1340",40980.635073749385]
["ID1055",40980.635073749385]
["ID1232",40980.635073749385]
["ID0214",41000]
["ID0768",41000]
["ID0031",41000]
["ID0060",41000]
["ID0312",41000]
["ID1458",41000]
["ID1344",41000]
["ID1575",41000]
["ID0028",41160.941823328096]
["ID0090",41301.183967273726]
["ID0303",41301.183967273726]
["ID0182",41406]
["ID0218",41600]
["ID1880",41712.231189497601]
["ID0006",41731]
["ID1789",41768.724209783031]
["ID1691",41923.181486723057]
["ID0373",41932]
["ID0933",42000]
["ID1037",42000]
["ID1480",42000]
["ID1618",42000]
["ID1712",42000]
["ID0216",42140]
["ID1827",42307]
["ID1787",42556.81334581667]
["ID1362",42556.81334581667]
["ID1786",42556.81334581667]
["ID1729",42556.81334581667]
["ID1500",42558.381206218859]
["ID1135",42739.000049862167]
["ID0212",43000]
["ID0888",43000]
["ID0545",43000]
["ID1270",43000]
["ID1898",43000]
["ID0293",43200]
["ID0860",43600]
["ID1351",43828.780645210471]
["ID0971",43856.11522531334]
["ID1040",43867.345148271634]
["ID0009",44000]
["ID0127",44000]
["ID0389",44000]
["ID1589",44000]
["ID1392",44000]
["ID0387",44132.991617883956]
["ID0262",44132.991617883956]
["ID1062",44132.991617883956]
["ID0354",44200]
["ID0228",44251.268536364711]
["ID0131",44383.603963142654]
["ID0494",44391.484854502989]
["ID0109",44463.980364706273]
["ID1238",44463.980364706273]
["ID1081",44519.791718606422]
["ID1158",44654.095718350931]
["ID0473",44921.080753917595]
["ID1120",44921.080753917595]
["ID0018",45000]
["ID0582",45000]
["ID0132",45000]
["ID0219",45000]
["ID0296",45000]
["ID0549",45000]
["ID0600",45000]
["ID0601",45000]
["ID0338",45000]
["ID0463",45000]
["ID0145",45000]
["ID0777",45000]
["ID0567",45000]
["ID1808",45000]
["ID1521",45000]
["ID1701",45000]
["ID1527",45000]
["ID1421",45000]
["ID1548",45000]
["ID1740",45000]
["ID1704",45000]
["ID1496",45000]
["ID1006",45000]
["ID1896",45000]
["ID1030",45000]
["ID1302",45000]
["ID1276",45000]
["ID0489",45234.630059395036]
["ID0574",45393.934235537781]
["ID0972",45616]
["ID0800",45709.169889951241]
["ID0325",45709.169889951241]
["ID1233",45709.169889951241]
["ID1141",45709.169889951241]
["ID1411",45734.379803697877]
["ID0395",45880]
["ID0540",46000]
["ID0384",46000]
["ID0281",46000]
["ID1921",46000]
["ID1891",46000]
["ID1216",46300.583387350678]
["ID1569",46325]
["ID1931",46359]
["ID0173",46584]
["ID0326",47000]
["ID0400",47000]
["ID0388",47000]
["ID1100",47004.779242689488]
["ID0082",47285.348162018527]
["ID0207",47285.348162018527]
["ID1149",47285.348162018527]
["ID1550",47285.348162018527]
["ID1097",47285.348162018527]
["ID1349",47285.348162018527]
["ID1101",47285.348162018527]
["ID1243",47285.348162018527]
["ID1079",47285.348162018527]
["ID0369",47500]
["ID0251",47700]
["ID0808",48000]
["ID0004",48000]
["ID0960",48000]
["ID0115",48000]
["ID0383",48000]
["ID0774",48000]
["ID1857",48000]
["ID1911",48000]
["ID1858",48000]
["ID1186",48000]
["ID1900",48000]
["ID1541",48073.437298052166]
["ID0066",48275.178681681093]
["ID0801",48500]
["ID1681",48500]
["ID0291",48861.526434085805]
["ID1274",48955.663507326513]
["ID0014",49000]
["ID1422",49000]
["ID1406",49000]
["ID1672",49000]
["ID1784",49153.119414418252]
["ID0138",49168.076151516347]
["ID1531",49168.076151516347]
["ID1644",49168.076151516347]
["ID1228",49200]
["ID1703",49443.946165553374]
["ID1346",49500]
["ID1307",49975.573163729154]
["ID0451",50000]
["ID0550",50000]
["ID0227",50000]
["ID0599",50000]
["ID0295",50000]
["ID0069",50000]
["ID0210",50000]
["ID0583",50000]
["ID0869",50000]
["ID0392",50000]
["ID0624",50000]
["ID0604",50000]
["ID0690",50000]
["ID0123",50000]
["ID0242",50000]
["ID0112",50000]
["ID0487",50000]
["ID0080",50000]
["ID0020",50000]
["ID0537",50000]
["ID0334",50000]
["ID0539",50000]
["ID0150",50000]
["ID0471",50000]
["ID1581",50000]
["ID1605",50000]
["ID1624",50000]
["ID1493",50000]
["ID1378",50000]
["ID1425",50000]
["ID1088",50000]
["ID1169",50000]
["ID1603",50000]
["ID1847",50000]
["ID1282",50000]
["ID1416",50000]
["ID1070",50000]
["ID1185",50000]
["ID1920",50000]
["ID1181",50064.150455673145]
["ID1677",50307.817784067665]
["ID0047",50437.70470615309]
["ID1182",50437.70470615309]
["ID1813",50437.70470615309]
["ID1175",50437.70470615309]
["ID1814",50437.70470615309]
["ID1368",50694.322109187968]
["ID1256",50700]
["ID0882",50815.977559664309]
["ID1109",50815.977559664309]
["ID1699",50815.977559664309]
["ID1358",50815.977559664309]
["ID1096",50815.977559664309]
["ID0159",50831.74927416991]
["ID1253",50846]
["ID0977",50995.482820131787]
["ID1056",50995.482820131787]
["ID0203",51000]
["ID0447",51000]
["ID0259",51000]
["ID0460",51134.799197576998]
["ID1196",51497.005988023957]
["ID0415",51613]
["ID0481",52000]
["ID0405",52000]
["ID0414",52000]
["ID0683",52000]
["ID0462",52000]
["ID0120",52000]
["ID0104",52000]
["ID1593",52000]
["ID0499",52013.882978220376]
["ID1333",52086.37699865592]
["ID1177",52118.160720607324]
["ID0253",52500]
["ID0234",52500]
["ID1927",52500]
["ID1770",52500]
["ID1854",52801.972114254015]
["ID0142",53000]
["ID0643",53000]
["ID0304",53000]
["ID0350",53000]
["ID0990",53035.30213293706]
["ID0830",53356.776437647524]
["ID0951",53356.776437647524]
["ID1495",53356.776437647524]
["ID0445",53423.750062327701]
["ID1205",53590.061250287661]
["ID1206",53590.061250287661]
["ID1246",53590.061250287661]
["ID0517",54000]
["ID0560",54000]
["ID0133",54000]
["ID0005",54000]
["ID0266",54000]
["ID1642",54000]
["ID1287",54000]
["ID1872",54000]
["ID1708",54000]
["ID0642",54084.883766667976]
["ID0064",54627.175876639136]
["ID1322",54627.175876639136]
["ID0163",55000]
["ID0547",55000]
["ID0390",55000]
["ID0274",55000]
["ID0319",55000]
["ID0857",55000]
["ID0490",55000]
["ID1610",55000]
["ID1051",55000]
["ID1630",55000]
["ID1408",55000]
["ID1504",55000]
["ID1250",55000]
["ID1674",55000]
["ID0062",55068.245289698301]
["ID0349",55068.245289698301]
["ID1666",55068.245289698301]
["ID0409",55166.239522354947]
["ID0033",55166.239522354947]
["ID1111",55166.239522354947]
["ID1577",55166.239522354947]
["ID1895",55166.239522354947]
["ID1153",55166.239522354947]
["ID1552",55166.239522354947]
["ID1053",55262.375596134938]
["ID0506",55500]
["ID1700",55954.328658388586]
["ID0413",56000]
["ID0355",56000]
["ID0417",56000]
["ID1244",56000]
["ID1194",56000]
["ID1440",56095.031102144967]
["ID0118",56160]
["ID0674",56400]
["ID1796",56600]
["ID1685",56628.754645950656]
["ID1725",56742.417794422225]
["ID1835",56742.417794422225]
["ID0071",57000]
["ID0953",57000]
["ID0518",57000]
["ID0051",57000]
["ID0144",57000]
["ID0099",57000]
["ID1840",57000]
["ID0049",57167.974754622352]
["ID0957",57167.974754622352]
["ID1367",57167.974754622352]
["ID1822",57167.974754622352]
["ID1134",57167.974754622352]
["ID0107",57400]
["ID1369",57500]
["ID0529",57530.506930455871]
["ID1415",57600]
["ID1426",57678]
["ID0974",57726.886552389187]
["ID1436",57875.729234188344]
["ID0044",58000]
["ID0162",58000]
["ID0113",58000]
["ID0003",58000]
["ID1476",58318.59606648951]
["ID1628",58318.59606648951]
["ID0075",58460.842544152933]
["ID1189",58799.349940520107]
["ID1560",59000]
["ID1673",59000]
["ID1168",59000]
["ID0121",59001.691381819612]
["ID0190",59001.691381819612]
["ID0315",59001.691381819612]
["ID1156",59106.685202523156]
["ID0962",59819.107020370408]
["ID1639",59819.107020370408]
["ID1885",59819.107020370408]
["ID0459",59894.774338556796]
["ID0557",60000]
["ID0320",60000]
["ID0465",60000]
["ID0164",60000]
["ID0875",60000]
["ID0298",60000]
["ID0456",60000]
["ID0077",60000]
["ID0186",60000]
["ID0410",60000]
["ID0193",60000]
["ID0811",60000]
["ID0236",60000]
["ID0431",60000]
["ID0026",60000]
["ID0734",60000]
["ID0632",60000]
["ID0935",60000]
["ID0910",60000]
["ID1459",60000]
["ID1631",60000]
["ID1897",60000]
["ID1410",60000]
["ID1144",60000]
["ID1191",60000]
["ID1043",60000]
["ID1705",60000]
["ID1211",60000]
["ID1754",60000]
["ID1375",60000]
["ID1365",60000]
["ID1839",60000]
["ID1337",60000]
["ID1215",60000]
["ID1616",60000]
["ID1844",60000]
["ID1482",60000]
["ID0970",60000]
["ID1755",60000]
["ID1849",60000]
["ID1121",60000]
["ID1870",60000]
["ID1397",60800]
["ID0140",60968.414427880263]
["ID0332",61000]
["ID0519",61000]
["ID0063",61000]
["ID0614",61000]
["ID1204",61000]
["ID1501",61000]
["ID1429",61000]
["ID1439",61000]
["ID0534",61194.579384158147]
["ID1738",61194.579384158147]
["ID1312",61614.372791092981]
["ID0880",62000]
["ID0764",62000]
["ID0055",62000]
["ID1614",62000]
["ID1688",62000]
["ID1910",62000]
["ID1391",62000]
["ID1525",62000]
["ID0058",62249.572510588783]
["ID0264",62400]
["ID0361",62500]
["ID0528",62564.631571458704]
["ID0343",63000]
["ID1806",63000]
["ID1875",63000]
["ID1254",63000]
["ID1874",63000]
["ID0052",63047.130882691366]
["ID1724",63047.130882691366]
["ID1107",63047.130882691366]
["ID1737",63047.130882691366]
["ID1682",63047.130882691366]
["ID0980",63234.398696963413]
["ID0559",63519.971949580387]
["ID0208",63519.971949580387]
["ID0595",63519.971949580387]
["ID1129",63519.971949580387]
["ID1508",63519.971949580387]
["ID1608",63519.971949580387]
["ID0408",63586]
["ID0570",63807.047488395103]
["ID1335",63807.047488395103]
["ID1092",63835.220018725006]
["ID0246",63918.498996971248]
["ID0333",63918.498996971248]
["ID1166",63918.498996971248]
["ID1259",63918.498996971248]
["ID1488",64000]
["ID1888",64254.308353366054]
["ID1515",64300]
["ID1414",64500]
["ID0790",64901.860520001574]
["ID0439",65000]
["ID0231",65000]
["ID0791",65000]
["ID0866",65000]
["ID0512",65000]
["ID0327",65000]
["ID0153",65000]
["ID0488",65000]
["ID0292",65000]
["ID0605",65000]
["ID0128",65000]
["ID0591",65000]
["ID1696",65000]
["ID1804",65000]
["ID1802",65000]
["ID1025",65000]
["ID1706",65000]
["ID1768",65000]
["ID1407",65000]
["ID1803",65000]
["ID1402",65000]
["ID0237",65250]
["ID0011",65616.131023916547]
["ID1636",65889.291743537498]
["ID0108",66000]
["ID1502",66000]
["ID1662",66199.48742682593]
["ID0798",66294.12766617132]
["ID0968",66294.12766617132]
["ID0979",66294.12766617132]
["ID0157",66500]
["ID0306",67000]
["ID0174",67000]
["ID0195",67000]
["ID0116",67000]
["ID0552",67000]
["ID1871",67000]
["ID1449",67000]
["ID1766",67000]
["ID1762",67000]
["ID0501",67360.264327577388]
["ID1693",67700.452577525488]
["ID0229",67775.665698893223]
["ID0366",67775.665698893223]
["ID1176",67775.665698893223]
["ID1251",67775.665698893223]
["ID0721",67794.987956419791]
["ID0359",68000]
["ID0289",68000]
["ID0061",68000]
["ID1619",68000]
["ID1742",68000]
["ID0137",68835.306612122877]
["ID0043",68835.306612122877]
["ID0466",68835.306612122877]
["ID1731",68835.306612122877]
["ID0363",68954.520184280962]
["ID0038",69000]
["ID0149",69000]
["ID1159",69000]
["ID1271",69000]
["ID1746",69000]
["ID1104",69213.140283018583]
["ID1306",69353.856635379227]
["ID0566",69871.969144538423]
["ID0778",69871.969144538423]
["ID1553",69871.969144538423]
["ID1386",69960]
["ID0283",70000]
["ID0587",70000]
["ID0874",70000]
["ID0472",70000]
["ID0122",70000]
["ID0606",70000]
["ID0183",70000]
["ID0396",70000]
["ID0196",70000]
["ID0945",70000]
["ID0520",70000]
["ID0317",70000]
["ID0245",70000]
["ID1654",70000]
["ID1932",70000]
["ID1824",70000]
["ID1258",70000]
["ID1275",70000]
["ID0403",70802.029658183528]
["ID0235",70928.022243027779]
["ID1761",70928.022243027779]
["ID1372",70928.022243027779]
["ID1690",70928.022243027779]
["ID1117",70928.022243027779]
["ID1332",70928.022243027779]
["ID1554",70970]
["ID0135",71000]
["ID0640",71231.666749770273]
["ID0441",71231.666749770273]
["ID1509",71231.666749770273]
["ID1122",71243.257897441246]
["ID0041",71393.675948184507]
["ID0984",71393.675948184507]
["ID1442",71393.675948184507]
["ID1012",71393.675948184507]
["ID1765",71500]
["ID1561",71500]
["ID0438",72000]
["ID0533",72000]
["ID0421",72000]
["ID1869",72000]
["ID1432",72000]
["ID1424",72000]
["ID1769",72000]
["ID1249",72000]
["ID1108",72412.768022521646]
["ID0356",72500]
["ID0223",72500]
["ID1021",72571.80269935554]
["ID0523",72600]
["ID1559",72768.752704244194]
["ID0263",73000]
["ID0241",73000]
["ID1707",73000]
["ID1395",73500]
["ID0357",73752.11422727452]
["ID0449",74000]
["ID0100",74000]
["ID1218",74000]
["ID1511",74300]
["ID1788",74461]
["ID0437",75000]
["ID0360",75000]
["ID0161",75000]
["ID0589",75000]
["ID0072",75000]
["ID0177",75000]
["ID0824",75000]
["ID0597",75000]
["ID0094",75000]
["ID0024",75000]
["ID0277",75000]
["ID0016",75000]
["ID0300",75000]
["ID1743",75000]
["ID1594",75000]
["ID1188",75000]
["ID1520",75000]
["ID1444",75000]
["ID1749",75000]
["ID1167",75000]
["ID1915",75000]
["ID1428",75000]
["ID1359",75000]
["ID1675",75000]
["ID1697",75000]
["ID0906",75010]
["ID1906",75473.31457379504]
["ID1498",75473.31457379504]
["ID1098",75656.557059229643]
["ID0973",75770.868892469181]
["ID0515",76000]
["ID0269",76000]
["ID1490",76000]
["ID1889",76223.966339496474]
["ID1542",76223.966339496474]
["ID1485",76223.966339496474]
["ID1555",76223.966339496474]
["ID1925",76223.966339496474]
["ID1126",76223.966339496474]
["ID1544",76223.981237173866]
["ID0432",76600]
["ID1805",76702.198796365497]
["ID1247",76906.906752939132]
["ID0268",77000]
["ID0504",77000]
["ID1430",77000]
["ID1486",77000]
["ID1396",77500]
["ID1893",77819.106783521114]
["ID0220",78000]
["ID0453",78000]
["ID1826",78000]
["ID0556",78533.043543002947]
["ID0378",78668.921842426149]
["ID1582",78668.921842426149]
["ID1236",78764.765217479682]
["ID1370",78764.765217479682]
["ID0932",78808.913603364199]
["ID1695",78808.913603364199]
["ID1838",78808.913603364199]
["ID1733",78808.913603364199]
["ID1076",78808.913603364199]
["ID0243",79000]
["ID0635",79552.953199405587]
["ID0551",80000]
["ID0148",80000]
["ID0189",80000]
["ID0618",80000]
["ID0273",80000]
["ID0169",80000]
["ID0637",80000]
["ID0247",80000]
["ID0125",80000]
["ID0444",80000]
["ID0278",80000]
["ID0101",80000]
["ID0226",80000]
["ID0217",80000]
["ID0458",80000]
["ID1403",80000]
["ID1352",80000]
["ID1199",80000]
["ID1679",80000]
["ID1776",80000]
["ID1748",80000]
["ID1842",80000]
["ID1821",80000]
["ID1226",80000]
["ID1303",80000]
["ID1435",80000]
["ID1371",80000]
["ID0641",80135.625093491559]
["ID0944",80289.244544269619]
["ID1427",80442]
["ID0088",81000]
["ID1710",81000]
["ID1420",81000]
["ID0964",81592.772512210868]
["ID1713",81592.772512210868]
["ID1255",81592.772512210868]
["ID1164",81600]
["ID1325",82000]
["ID1267",82000]
["ID0530",82300]
["ID0305",82575.963534454509]
["ID1638",82888.5550559455]
["ID1383",83000]
["ID0256",83033.071372504521]
["ID0743",83846.362973446114]
["ID0498",84000]
["ID0365",85000]
["ID0111",85000]
["ID0117",85000]
["ID0308",85000]
["ID0399",85000]
["ID0065",85000]
["ID0840",85000]
["ID0806",85000]
["ID0015",85000]
["ID1583",85000]
["ID1751",85000]
["ID0985",85000]
["ID1283",85000]
["ID1384",85000]
["ID1669",85000]
["ID1809",85000]
["ID1620",85000]
["ID1694",85000]
["ID1852",85000]
["ID1775",85000]
["ID1483",85000]
["ID1248",85000]
["ID1381",85000]
["ID0068",85087]
["ID1543",85333.333333333328]
["ID0468",85552.452503638444]
["ID1659",85672.4111378214]
["ID1650",86000]
["ID0522",86093.301341305123]
["ID0820",86689.804963700633]
["ID1087",86689.804963700633]
["ID0543",86692.320794224041]
["ID0623",86692.320794224041]
["ID0067",86692.320794224041]
["ID1537",86692.320794224041]
["ID1586",86692.320794224041]
["ID1807",87000]
["ID0876",87456]
["ID1456",87712.230450626681]
["ID1684",87734.690296543267]
["ID0147",88000]
["ID1413",88000]
["ID1198",88000]
["ID1744",88000]
["ID0171",88502.537072729421]
["ID1150",88927.960729412545]
["ID1563",88927.960729412545]
["ID0367",89000]
["ID1529",89000]
["ID1519",89000]
["ID0426",89944.280280605832]
["ID0435",90000]
["ID0045",90000]
["ID0422",90000]
["ID0579",90000]
["ID0573",90000]
["ID0102",90000]
["ID0200",90000]
["ID0156",90000]
["ID0602",90000]
["ID0244",90000]
["ID1222",90000]
["ID1138",90000]
["ID1692",90000]
["ID1564",90000]
["ID1242",90198.36016840415]
["ID0187",90469.260118790073]
["ID0097",91000]
["ID0503",91418.339779902482]
["ID1102",91418.339779902482]
["ID1782",91468.759607395754]
["ID1263",91791.869076237213]
["ID0966",91791.869076237213]
["ID0480",92000]
["ID0146",92000]
["ID0176",92000]
["ID0329",92000]
["ID1668",92000]
["ID1431",92000]
["ID1698",92000]
["ID0854",92500]
["ID0486",92994.518051969761]
["ID0993",93831.688389042494]
["ID0260",94570.696324037053]
["ID0380",94570.696324037053]
["ID0450",94570.696324037053]
["ID1634",94570.696324037053]
["ID1388",94570.696324037053]
["ID0536",95000]
["ID0095",95000]
["ID0627",95000]
["ID0815",95000]
["ID0344",95000]
["ID0381",95000]
["ID0233",95000]
["ID0568",95000]
["ID0531",95000]
["ID1376",95000]
["ID1514",95000]
["ID1400",95000]
["ID0955",95279.957924370581]
["ID1331",95279.957924370581]
["ID1219",95856]
["ID0986",95871.50770184776]
["ID1008",95871.50770184776]
["ID0795",96000]
["ID0152",96000]
["ID0249",96000]
["ID0022",96000]
["ID0194",96000]
["ID1443",96230]
["ID0922",96891.417358250401]
["ID0769",96891.417358250401]
["ID0965",96891.417358250401]
["ID0290",97000]
["ID1387",97000]
["ID0868",98000]
["ID0852",98336.152303032693]
["ID0793",98336.152303032693]
["ID0239",98336.152303032693]
["ID0198",99000]
["ID0275",99000]
["ID0394",99147]
["ID1086",99299.231140238902]
["ID0524",100000]
["ID0070",100000]
["ID0893",100000]
["ID0505",100000]
["ID0215",100000]
["ID0050",100000]
["ID0829",100000]
["ID0204",100000]
["ID0397",100000]
["ID0158",100000]
["ID0346",100000]
["ID1227",100000]
["ID1643",100000]
["ID1799",100000]
["ID1374",100000]
["ID1382",100000]
["ID1884",100000]
["ID1723",100000]
["ID1305",100000]
["ID1235",100000]
["ID1585",100614.72928405051]
["ID1928",100800]
["ID0918",101206.40684944032]
["ID0609",101990.96564026357]
["ID0073",101990.96564026357]
["ID0626",101990.96564026357]
["ID0681",101990.96564026357]
["ID1356",101990.96564026357]
["ID0969",101990.96564026357]
["ID1584",101990.96564026357]
["ID1268",101990.96564026357]
["ID0994",101990.96564026357]
["ID1445",102000]
["ID0433",102451.58768437347]
["ID0916",102451.58768437347]
["ID0748",102451.58768437347]
["ID1890",102542.54233725216]
["ID0270",103000]
["ID1379",103000]
["ID0143",104000]
["ID0525",104000]
["ID0419",104027.76595644075]
["ID0585",104030.78495306884]
["ID1197",104172.75399731184]
["ID0930",105000]
["ID0677",105000]
["ID1534",105000]
["ID1357",105000]
["ID0166",105219.68296424497]
["ID1637",106000]
["ID1213",106815.148267971]
["ID0017",107000]
["ID1266",107000]
["ID1418",107000]
["ID0596",108000]
["ID0496",108000]
["ID0331",108000]
["ID0588",108110.42357867939]
["ID0209",108160]
["ID0446",108169.76753333595]
["ID1484",109000]
["ID0987",109130.33323508203]
["ID0804",109729.60187662003]
["ID0484",110000]
["ID0087",110000]
["ID1556",110000]
["ID1361",110000]
["ID1919",110000]
["ID0134",110332.47904470989]
["ID1348",110332.47904470989]
["ID0553",111000]
["ID1434",111000]
["ID0181",111680]
["ID1865",112000]
["ID1264",112190.06220428993]
["ID0983",112190.06220428993]
["ID0232",114000]
["ID1147",114335.9495092447]
["ID1867",114335.9495092447]
["ID0873",115000]
["ID0418",115000]
["ID0586",115000]
["ID1922",115000]
["ID0538",115061.01386091174]
["ID1739",115061.01386091174]
["ID0746",116637.19213297902]
["ID1843",118000]
["ID1115",118213.37040504631]
["ID1240",118213.37040504631]
["ID0554",120000]
["ID0535",120000]
["ID0440",120000]
["ID0592",120000]
["ID0084",120000]
["ID1385",120000]
["ID1417",120000]
["ID1830",120000]
["ID1262",120000]
["ID1901",122389.15876831629]
["ID1587",122389.15876831629]
["ID0989",122389.15876831629]
["ID0995",122389.15876831629]
["ID0514",122941.90522124816]
["ID1103",124518.08349331544]
["ID0314",125000]
["ID0634",125000]
["ID0887",125000]
["ID0091",125000]
["ID0461",125000]
["ID0871",125000]
["ID1364",125000]
["ID1778",125000]
["ID1355",125000]
["ID1558",125000]
["ID0991",125000]
["ID0909",126094.26176538273]
["ID1085",126094.26176538273]
["ID1600",126094.26176538273]
["ID1170",126094.26176538273]
["ID1137",127039.94389916077]
["ID0978",127488.70705032947]
["ID1475",127488.70705032947]
["ID1522",127500]
["ID0126",128000]
["ID0257",130000]
["ID0351",130000]
["ID0725",130000]
["ID0370",130000]
["ID1401",130000]
["ID0485",131675.52225194403]
["ID1730",131770.4440860638]
["ID0581",132588.25533234264]
["ID0870",135000]
["ID0339",135000]
["ID0954",135000]
["ID1398",136000]
["ID0323",137500]
["ID0224",138000]
["ID0565",140000]
["ID0248",140000]
["ID1296",140000]
["ID1626",140000]
["ID1002",143565.85684888897]
["ID0167",145000]
["ID1528",145000]
["ID1816",147886.90017838217]
["ID1764",148102.22862117883]
["ID0822",148284.35006969364]
["ID1473",149907.13380100971]
["ID0083",150000]
["ID0580",150000]
["ID0335",150000]
["ID0470",150000]
["ID0337",150000]
["ID0927",150000]
["ID0963",150000]
["ID0037",150000]
["ID0516",150000]
["ID1393",150000]
["ID1412",150000]
["ID1237",152986.44846039536]
["ID1354",152986.44846039536]
["ID1655",155000]
["ID0353",157337.8436848523]
["ID0078",157617.8272067284]
["ID0844",157617.8272067284]
["ID0569",158085.99674240855]
["ID1810",159105.90639881117]
["ID0608",160000]
["ID0376",160271.25018698312]
["ID1492",168285.09330643489]
["ID0482",169000]
["ID0358",170000]
["ID1523",170000]
["ID0633",173384.64158844808]
["ID1009",173384.64158844808]
["ID1320",176585.52201983347]
["ID1596",177600]
["ID0007",184207.91865378313]
["ID0655",186983.12521814698]
["ID0563",188000]
["ID1286",192000]
["ID0375",194000]
["ID0527",200000]
["ID0976",203981.93128052715]
["ID1825",214000]
["ID0532",220664.95808941979]
["ID0374",220700]
["ID1656",225000]
["ID1394",228671.89901848941]
["ID1489",231119.74856804207]
["ID0620",245840.3807575817]
["ID0425",250000]
["ID1516",250000]
["ID0309",254079.88779832155]
["ID0981",260000]
["ID0493",299473.87169278396]
["ID0584",300000]
["ID0211",400000]
["ID0318",400000]
["ID0477",1229201.9037879086]

{"sheet":"Data","index":4,"n_rows":1888,"n_cols":15,"rows_kept":1888,"cut":false,"hidden":true,"merged":[[0,1,0,5]]}
[null,"Excel Salary Survey Data",null,null,null,null,null,12]
[]
[null,"Note: Experience data is not available for first few hundred rows."]
[]
[null,"Unique ID","Timestamp","Date Only","Your Salary","clean Salary (in local currency)","Currency","Salary in USD","Your Job Title","Job Type","Where do you work","clean Country","Continent","How many hours of a day you work on Excel","Years of Experience"]
[null,"ID0001","2012-05-25T03:11:32",{"$f":"LEFT(tblSalaries[[#This Row],[Timestamp]],FIND(\".\",tblSalaries[[#This Row],[Timestamp]],1))","v":"41054."},5846,5846,"USD",{"$f":"tblSalaries[[#This Row],[clean Salary (in local currency)]]*VLOOKUP(tblSalaries[[#This Row],[Currency]],tblXrate[],2,FALSE)","v":5846},"MIS Analyst","Analyst","India",{"$f":"VLOOKUP(tblSalaries[[#This Row],[Where do you work]],tblCountries[[Actual]:[Mapping]],2,FALSE)","v":"India"},{"$f":"VLOOKUP(tblSalaries[[#This Row],[clean Country]]&\"*\",Cont_Table,2,0)","v":"Asia"},"4 to 6 hours a day"]
[null,"ID0002","2012-05-25T03:13:13",{"$f":"LEFT(tblSalaries[[#This Row],[Timestamp]],FIND(\".\",tblSalaries[[#This Row],[Timestamp]],1))","v":"41054."},"15000 usd",15000,"USD",{"$f":"tblSalaries[[#This Row],[clean Salary (in local currency)]]*VLOOKUP(tblSalaries[[#This Row],[Currency]],tblXrate[],2,FALSE)","v":15000},"cost control","Controller","europe/Croatia",{"$f":"VLOOKUP(tblSalaries[[#This Row],[Where do you work]],tblCountries[[Actual]:[Mapping]],2,FALSE)","v":"Croatia"},{"$f":"VLOOKUP(tblSalaries[[#This Row],[clean Country]]&\"*\",Cont_Table,2,0)","v":"Europe"},"All the 8 hours baby, all the 8!"]
[null,"ID0003","2012-05-25T03:16:26",{"$f":"LEFT(tblSalaries[[#This Row],[Timestamp]],FIND(\".\",tblSalaries[[#This Row],[Timestamp]],1))","v":"41054."},58000,58000,"USD",{"$f":"tblSalaries[[#This Row],[clean Salary (in local currency)]]*VLOOKUP(tblSalaries[[#This Row],[Currency]],tblXrate[],2,FALSE)","v":58000},"Financial Analyst","Analyst","USA",{"$f":"VLOOKUP(tblSalaries[[#This Row],[Where do you work]],tblCountries[[Actual]:[Mapping]],2,FALSE)","v":"USA"},{"$f":"VLOOKUP(tblSalaries[[#This Row],[clean Country]]&\"*\",Cont_Table,2,0)","v":"North America"},"All the 8 hours baby, all the 8!"]
[null,"ID0004","2012-05-25T03:23:42",{"$f":"LEFT(tblSalaries[[#This Row],[Timestamp]],FIND(\".\",tblSalaries[[#This Row],[Timestamp]],1))","v":"41054."},48000,48000,"USD",{"$f":"tblSalaries[[#This Row],[clean Salary (in local currency)]]*VLOOKUP(tblSalaries[[#This Row],[Currency]],tblXrate[],2,FALSE)","v":48000},"Quality Control","Controller","Pakistan",{"$f":"VLOOKUP(tblSalaries[[#This Row],[Where do you work]],tblCountries[[Actual]:[Mapping]],2,FALSE)","v":"Pakistan"},{"$f":"VLOOKUP(tblSalaries[[#This Row],[clean Country]]&\"*\",Cont_Table,2,0)","v":"Asia"},"2 to 3 hours per day"]
[null,"ID0005","2012-05-25T03:27:04",{"$f":"LEFT(tblSalaries[[#This Row],[Timestamp]],FIND(\".\",tblSalaries[[#This Row],[Timestamp]],1))","v":"41054."},54000,54000,"USD",{"$f":"tblSalaries[[#This Row],[clean Salary (in local currency)]]*VLOOKUP(tblSalaries[[#This Row],[Currency]],tblXrate[],2,FALSE)","v":54000},"Quality Engineer","Engineer","USA",{"$f":"VLOOKUP(tblSalaries[[#This Row],[Where do you work]],tblCountries[[Actual]:[Mapping]],2,FALSE)","v":"USA"},{"$f":"VLOOKUP(tblSalaries[[#This Row],[clean Country]]&\"*\",Cont_Table,2,0)","v":"North America"},"All the 8 hours baby, all the 8!"]
[null,"ID0006","2012-05-25T03:28:28",{"$f":"LEFT(tblSalaries[[#This Row],[Timestamp]],FIND(\".\",tblSalaries[[#This Row],[Timestamp]],1))","v":"41054."},41731,41731,"USD",{"$f":"tblSalaries[[#This Row],[clean Salary (in local currency)]]*VLOOKUP(tblSalaries[[#This Row],[Currency]],tblXrate[],2,FALSE)","v":41731},"Analyst","Analyst","Iceland",{"$f":"VLOOKUP(tblSalaries[[#This Row],[Where do you work]],tblCountries[[Actual]:[Mapping]],2,FALSE)","v":"Iceland"},{"$f":"VLOOKUP(tblSalaries[[#This Row],[clean Country]]&\"*\",Cont_Table,2,0)","v":"Europe"},"All the 8 hours baby, all the 8!"]
[null,"ID0007","2012-05-25T03:33:51",{"$f":"LEFT(tblSalaries[[#This Row],[Timestamp]],FIND(\".\",tblSalaries[[#This Row],[Timestamp]],1))","v":"41054."},145000,145000,"EUR",{"$f":"tblSalaries[[#This Row],[clean Salary (in local currency)]]*VLOOKUP(tblSalaries[[#This Row],[Currency]],tblXrate[],2,FALSE)","v":184207.91865378313},"senior project manager","Manager","Germany",{"$f":"VLOOKUP(tblSalaries[[#This Row],[Where do you work]],tblCountries[[Actual]:[Mapping]],2,FALSE)","v":"Germany"},{"$f":"VLOOKUP(tblSalaries[[#This Row],[clean Country]]&\"*\",Cont_Table,2,0)","v":"Europe"},"1 or 2 hours a day"]
[null,"ID0008","2012-05-25T03:36:37",{"$f":"LEFT(tblSalaries[[#This Row],[Timestamp]],FIND(\".\",tblSalaries[[#This Row],[Timestamp]],1))","v":"41054."},12000,12000,"USD",{"$f":"tblSalaries[[#This Row],[clean Salary (in local currency)]]*VLOOKUP(tblSalaries[[#This Row],[Currency]],tblXrate[],2,FALSE)","v":12000},"Assistant SP&A","Analyst","Ukraine",{"$f":"VLOOKUP(tblSalaries[[#This Row],[Where do you work]],tblCountries[[Actual]:[Mapping]],2,FALSE)","v":"Ukraine"},{"$f":"VLOOKUP(tblSalaries[[#This Row],[clean Country]]&\"*\",Cont_Table,2,0)","v":"Europe"},"All the 8 hours baby, all the 8!"]
[null,"ID0009","2012-05-25T03:37:17",{"$f":"LEFT(tblSalaries[[#This Row],[Timestamp]],FIND(\".\",tblSalaries[[#This Row],[Timestamp]],1))","v":"41054."},"44000 $",44000,"USD",{"$f":"tblSalaries[[#This Row],[clean Salary (in local currency)]]*VLOOKUP(tblSalaries[[#This Row],[Currency]],tblXrate[],2,FALSE)","v":44000},"CFO","CXO or Top Mgmt.","Portugal",{"$f":"VLOOKUP(tblSalaries[[#This Row],[Where do you work]],tblCountries[[Actual]:[Mapping]],2,FALSE)","v":"Portugal"},{"$f":"VLOOKUP(tblSalaries[[#This Row],[clean Country]]&\"*\",Cont_Table,2,0)","v":"Europe"},"1 or 2 hours a day"]
[null,"ID0010","2012-05-25T03:38:57",{"$f":"LEFT(tblSalaries[[#This Row],[Timestamp]],FIND(\".\",tblSalaries[[#This Row],[Timestamp]],1))","v":"41054."},"PKR 8,000",1152000,"PKR",{"$f":"tblSalaries[[#This Row],[clean Salary (in local currency)]]*VLOOKUP(tblSalaries[[#This Row],[Currency]],tblXrate[],2,FALSE)","v":12227.430201752599},"Audit Trainee ","Accountant","Pakistan",{"$f":"VLOOKUP(tblSalaries[[#This Row],[Where do you work]],tblCountries[[Actual]:[Mapping]],2,FALSE)","v":"Pakistan"},{"$f":"VLOOKUP(tblSalaries[[#This Row],[clean Country]]&\"*\",Cont_Table,2,0)","v":"Asia"},"All the 8 hours baby, all the 8!"]
[null,"ID0011","2012-05-25T03:43:45",{"$f":"LEFT(tblSalaries[[#This Row],[Timestamp]],FIND(\".\",tblSalaries[[#This Row],[Timestamp]],1))","v":"41054."},"â‚¬ 51650",51650,"EUR",{"$f":"tblSalaries[[#This Row],[clean Salary (in local currency)]]*VLOOKUP(tblSalaries[[#This Row],[Currency]],tblXrate[],2,FALSE)","v":65616.131023916547},"Training Specialist","Specialist","Ireland",{"$f":"VLOOKUP(tblSalaries[[#This Row],[Where do you work]],tblCountries[[Actual]:[Mapping]],2,FALSE)","v":"Ireland"},{"$f":"VLOOKUP(tblSalaries[[#This Row],[clean Country]]&\"*\",Cont_Table,2,0)","v":"Europe"},"2 to 3 hours per day"]
[null,"ID0012","2012-05-25T03:43:56",{"$f":"LEFT(tblSalaries[[#This Row],[Timestamp]],FIND(\".\",tblSalaries[[#This Row],[Timestamp]],1))","v":"41054."},14000,14000,"USD",{"$f":"tblSalaries[[#This Row],[clean Salary (in local currency)]]*VLOOKUP(tblSalaries[[#This Row],[Currency]],tblXrate[],2,FALSE)","v":14000},"quality engineer","Engineer","Hungary",{"$f":"VLOOKUP(tblSalaries[[#This Row],[Where do you work]],tblCountries[[Actual]:[Mapping]],2,FALSE)","v":"Hungary"},{"$f":"VLOOKUP(tblSalaries[[#This Row],[clean Country]]&\"*\",Cont_Table,2,0)","v":"Europe"},"4 to 6 hours a day"]
[null,"ID0013","2012-05-25T03:48:53",{"$f":"LEFT(tblSalaries[[#This Row],[Timestamp]],FIND(\".\",tblSalaries[[#This Row],[Timestamp]],1))","v":"41054."},"749000 INR",749000,"INR",{"$f":"tblSalaries[[#This Row],[clean Salary (in local currency)]]*VLOOKUP(tblSalaries[[#This Row],[Currency]],tblXrate[],2,FALSE)","v":13338.129598894484},"Senion Analyst","Analyst","India",{"$f":"VLOOKUP(tblSalaries[[#This Row],[Where do you work]],tblCountries[[Actual]:[Mapping]],2,FALSE)","v":"India"},{"$f":"VLOOKUP(tblSalaries[[#This Row],[clean Country]]&\"*\",Cont_Table,2,0)","v":"Asia"},"All the 8 hours baby, all the 8!"]
[null,"ID0014","2012-05-25T03:50:58",{"$f":"LEFT(tblSalaries[[#This Row],[Timestamp]],FIND(\".\",tblSalaries[[#This Row],[Timestamp]],1))","v":"41054."},49000,49000,"USD",{"$f":"tblSalaries[[#This Row],[clean Salary (in local currency)]]*VLOOKUP(tblSalaries[[#This Row],[Currency]],tblXrate[],2,FALSE)","v":49000},"business analyst","Analyst","USA",{"$f":"VLOOKUP(tblSalaries[[#This Row],[Where do you work]],tblCountries[[Actual]:[Mapping]],2,FALSE)","v":"USA"},{"$f":"VLOOKUP(tblSalaries[[#This Row],[clean Country]]&\"*\",Cont_Table,2,0)","v":"North America"},"All the 8 hours baby, all the 8!"]
[null,"ID0015","2012-05-25T03:53:22",{"$f":"LEFT(tblSalaries[[#This Row],[Timestamp]],FIND(\".\",tblSalaries[[#This Row],[Timestamp]],1))","v":"41054."},85000,85000,"USD",{"$f":"tblSalaries[[#This Row],[clean Salary (in local currency)]]*VLOOKUP(tblSalaries[[#This Row],[Currency]],tblXrate[],2,FALSE)","v":85000},"Project Engineer","Engineer","USA",{"$f":"VLOOKUP(tblSalaries[[#This Row],[Where do you work]],tblCountries[[Actual]:[Mapping]],2,FALSE)","v":"USA"},{"$f":"VLOOKUP(tblSalaries[[#This Row],[clean Country]]&\"*\",Cont_Table,2,0)","v":"North America"},"1 or 2 hours a day"]
[null,"ID0016","2012-05-25T03:56:40",{"$f":"LEFT(tblSalaries[[#This Row],[Timestamp]],FIND(\".\",tblSalaries[[#This Row],[Timestamp]],1))","v":"41054."},75000,75000,"USD",{"$f":"tblSalaries[[#This Row],[clean Salary (in local currency)]]*VLOOKUP(tblSalaries[[#This Row],[Currency]],tblXrate[],2,FALSE)","v":75000},"Sr Project Engineer","Engineer","USA",{"$f":"VLOOKUP(tblSalaries[[#This Row],[Where do you work]],tblCountries[[Actual]:[Mapping]],2,FALSE)","v":"USA"},{"$f":"VLOOKUP(tblSalaries[[#This Row],[clean Country]]&\"*\",Cont_Table,2,0)","v":"North America"},"All the 8 hours baby, all the 8!"]
[null,"ID0017","2012-05-25T04:10:11",{"$f":"LEFT(tblSalaries[[#This Row],[Timestamp]],FIND(\".\",tblSalaries[[#This Row],[Timestamp]],1))","v":"41054."},107000,107000,"USD",{"$f":"tblSalaries[[#This Row],[clean Salary (in local currency)]]*VLOOKUP(tblSalaries[[#This Row],[Currency]],tblXrate[],2,FALSE)","v":107000},"Business Development","Manager","Switzerland",{"$f":"VLOOKUP(tblSalaries[[#This Row],[Where do you work]],tblCountries[[Actual]:[Mapping]],2,FALSE)","v":"Switzerland"},{"$f":"VLOOKUP(tblSalaries[[#This Row],[clean Country]]&\"*\",Cont_Table,2,0)","v":"Europe"},"4 to 6 hours a day"]
[null,"ID0018","2012-05-25T04:10:44",{"$f":"LEFT(tblSalaries[[#This Row],[Timestamp]],FIND(\".\",tblSalaries[[#This Row],[Timestamp]],1))","v":"41054."},45000,45000,"USD",{"$f":"tblSalaries[[#This Row],[clean Salary (in local currency)]]*VLOOKUP(tblSalaries[[#This Row],[Currency]],tblXrate[],2,FALSE)","v":45000},"Excel Report Writer","Reporting","South Africa",{"$f":"VLOOKUP(tblSalaries[[#This Row],[Where do you work]],tblCountries[[Actual]:[Mapping]],2,FALSE)","v":"South Africa"},{"$f":"VLOOKUP(tblSalaries[[#This Row],[clean Country]]&\"*\",Cont_Table,2,0)","v":"Africa"},"All the 8 hours baby, all the 8!"]
[null,"ID0019","2012-05-25T04:16:32",{"$f":"LEFT(tblSalaries[[#This Row],[Timestamp]],FIND(\".\",tblSalaries[[#This Row],[Timestamp]],1))","v":"41054."},550000,550000,"INR",{"$f":"tblSalaries[[#This Row],[clean Salary (in local currency)]]*VLOOKUP(tblSalaries[[#This Row],[Currency]],tblXrate[],2,FALSE)","v":9794.354178093412},"AGM","Manager","India",{"$f":"VLOOKUP(tblSalaries[[#This Row],[Where do you work]],tblCountries[[Actual]:[Mapping]],2,FALSE)","v":"India"},{"$f":"VLOOKUP(tblSalaries[[#This Row],[clean Country]]&\"*\",Cont_Table,2,0)","v":"Asia"},"2 to 3 hours per day"]
[null,"ID0020","2012-05-25T04:19:22",{"$f":"LEFT(tblSalaries[[#This Row],[Timestamp]],FIND(\".\",tblSalaries[[#This Row],[Timestamp]],1))","v":"41054."},50000,50000,"USD",{"$f":"tblSalaries[[#This Row],[clean Salary (in local currency)]]*VLOOKUP(tblSalaries[[#This Row],[Currency]],tblXrate[],2,FALSE)","v":50000},"GM","Manager","India",{"$f":"VLOOKUP(tblSalaries[[#This Row],[Where do you work]],tblCountries[[Actual]:[Mapping]],2,FALSE)","v":"India"},{"$f":"VLOOKUP(tblSalaries[[#This Row],[clean Country]]&\"*\",Cont_Table,2,0)","v":"Asia"},"1 or 2 hours a day"]
[null,"ID0021","2012-05-25T04:24:01",{"$f":"LEFT(tblSalaries[[#This Row],[Timestamp]],FIND(\".\",tblSalaries[[#This Row],[Timestamp]],1))","v":"41054."},13500,13500,"USD",{"$f":"tblSalaries[[#This Row],[clean Salary (in local currency)]]*VLOOKUP(tblSalaries[[#This Row],[Currency]],tblXrate[],2,FALSE)","v":13500},"DSE Co-ordinator","Manager","India",{"$f":"VLOOKUP(tblSalaries[[#This Row],[Where do you work]],tblCountries[[Actual]:[Mapping]],2,FALSE)","v":"India"},{"$f":"VLOOKUP(tblSalaries[[#This Row],[clean Country]]&\"*\",Cont_Table,2,0)","v":"Asia"},"4 to 6 hours a day"]
[null,"ID0022","2012-05-25T04:24:12",{"$f":"LEFT(tblSalaries[[#This Row],[Timestamp]],FIND(\".\",tblSalaries[[#This Row],[Timestamp]],1))","v":"41054."},96000,96000,"USD",{"$f":"tblSalaries[[#This Row],[clean Salary (in local currency)]]*VLOOKUP(tblSalaries[[#This Row],[Currency]],tblXrate[],2,FALSE)","v":96000},"Analyst","Analyst","USA",{"$f":"VLOOKUP(tblSalaries[[#This Row],[Where do you work]],tblCountries[[Actual]:[Mapping]],2,FALSE)","v":"USA"},{"$f":"VLOOKUP(tblSalaries[[#This Row],[clean Country]]&\"*\",Cont_Table,2,0)","v":"North America"},"2 to 3 hours per day"]
[null,"ID0023","2012-05-25T04:31:41",{"$f":"LEFT(tblSalaries[[#This Row],[Timestamp]],FIND(\".\",tblSalaries[[#This Row],[Timestamp]],1))","v":"41054."},1000000,1000000,"INR",{"$f":"tblSalaries[[#This Row],[clean Salary (in local currency)]]*VLOOKUP(tblSalaries[[#This Row],[Currency]],tblXrate[],2,FALSE)","v":17807.916687442568},"Manager","Manager","India",{"$f":"VLOOKUP(tblSalaries[[#This Row],[Where do you work]],tblCountries[[Actual]:[Mapping]],2,FALSE)","v":"India"},{"$f":"VLOOKUP(tblSalaries[[#This Row],[clean Country]]&\"*\",Cont_Table,2,0)","v":"Asia"},"4 to 6 hours a day"]
[null,"ID0024","2012-05-25T04:32:49",{"$f":"LEFT(tblSalaries[[#This Row],[Timestamp]],FIND(\".\",tblSalaries[[#This Row],[Timestamp]],1))","v":"41054."},75000,75000,"USD",{"$f":"tblSalaries[[#This Row],[clean Salary (in local currency)]]*VLOOKUP(tblSalaries[[#This Row],[Currency]],tblXrate[],2,FALSE)","v":75000},"Marketing Director","CXO or Top Mgmt.","USA",{"$f":"VLOOKUP(tblSalaries[[#This Row],[Where do you work]],tblCountries[[Actual]:[Mapping]],2,FALSE)","v":"USA"},{"$f":"VLOOKUP(tblSalaries[[#This Row],[clean Country]]&\"*\",Cont_Table,2,0)","v":"North America"},"4 to 6 hours a day"]
[null,"ID0025","2012-05-25T04:43:51",{"$f":"LEFT(tblSalaries[[#This Row],[Timestamp]],FIND(\".\",tblSalaries[[#This Row],[Timestamp]],1))","v":"41054."},"40000 us",40000,"USD",{"$f":"tblSalaries[[#This Row],[clean Salary (in local currency)]]*VLOOKUP(tblSalaries[[#This Row],[Currency]],tblXrate[],2,FALSE)","v":40000},"sales and marketing","Manager","USA",{"$f":"VLOOKUP(tblSalaries[[#This Row],[Where do you work]],tblCountries[[Actual]:[Mapping]],2,FALSE)","v":"USA"},{"$f":"VLOOKUP(tblSalaries[[#This Row],[clean Country]]&\"*\",Cont_Table,2,0)","v":"North America"},"2 to 3 hours per day"]
[null,"ID0026","2012-05-25T04:45:01",{"$f":"LEFT(tblSalaries[[#This Row],[Timestamp]],FIND(\".\",tblSalaries[[#This Row],[Timestamp]],1))","v":"41054."},60000,60000,"USD",{"$f":"tblSalaries[[#This Row],[clean Salary (in local currency)]]*VLOOKUP(tblSalaries[[#This Row],[Currency]],tblXrate[],2,FALSE)","v":60000},"Analyst II","Analyst","USA",{"$f":"VLOOKUP(tblSalaries[[#This Row],[Where do you work]],tblCountries[[Actual]:[Mapping]],2,FALSE)","v":"USA"},{"$f":"VLOOKUP(tblSalaries[[#This Row],[clean Country]]&\"*\",Cont_Table,2,0)","v":"North America"},"All the 8 hours baby, all the 8!"]
[null,"ID0028","2012-05-25T04:48:33",{"$f":"LEFT(tblSalaries[[#This Row],[Timestamp]],FIND(\".\",tblSalaries[[#This Row],[Timestamp]],1))","v":"41054."},2700,32400,"EUR",{"$f":"tblSalaries[[#This Row],[clean Salary (in local currency)]]*VLOOKUP(tblSalaries[[#This Row],[Currency]],tblXrate[],2,FALSE)","v":41160.941823328096},"Project Leader","Manager","Belgium",{"$f":"VLOOKUP(tblSalaries[[#This Row],[Where do you work]],tblCountries[[Actual]:[Mapping]],2,FALSE)","v":"Belgium"},{"$f":"VLOOKUP(tblSalaries[[#This Row],[clean Country]]&\"*\",Cont_Table,2,0)","v":"Europe"},"4 to 6 hours a day"]
[null,"ID0029","2012-05-25T04:52:23",{"$f":"LEFT(tblSalaries[[#This Row],[Timestamp]],FIND(\".\",tblSalaries[[#This Row],[Timestamp]],1))","v":"41054."},"900000 INR",900000,"INR",{"$f":"tblSalaries[[#This Row],[clean Salary (in local currency)]]*VLOOKUP(tblSalaries[[#This Row],[Currency]],tblXrate[],2,FALSE)","v":16027.125018698311},"Applications Engineer","Engineer","India",{"$f":"VLOOKUP(tblSalaries[[#This Row],[Where do you work]],tblCountries[[Actual]:[Mapping]],2,FALSE)","v":"India"},{"$f":"VLOOKUP(tblSalaries[[#This Row],[clean Country]]&\"*\",Cont_Table,2,0)","v":"Asia"},"1 or 2 hours a day"]
[null,"ID0030","2012-05-25T04:55:35",{"$f":"LEFT(tblSalaries[[#This Row],[Timestamp]],FIND(\".\",tblSalaries[[#This Row],[Timestamp]],1))","v":"41054."},"Rs 600000",600000,"INR",{"$f":"tblSalaries[[#This Row],[clean Salary (in local currency)]]*VLOOKUP(tblSalaries[[#This Row],[Currency]],tblXrate[],2,FALSE)","v":10684.750012465542},"strategy manager","Manager","India",{"$f":"VLOOKUP(tblSalaries[[#This Row],[Where do you work]],tblCountries[[Actual]:[Mapping]],2,FALSE)","v":"India"},{"$f":"VLOOKUP(tblSalaries[[#This Row],[clean Country]]&\"*\",Cont_Table,2,0)","v":"Asia"},"4 to 6 hours a day"]
[null,"ID0031","2012-05-25T04:55:48",{"$f":"LEFT(tblSalaries[[#This Row],[Timestamp]],FIND(\".\",tblSalaries[[#This Row],[Timestamp]],1))","v":"41054."},41000,41000,"USD",{"$f":"tblSalaries[[#This Row],[clean Salary (in local currency)]]*VLOOKUP(tblSalaries[[#This Row],[Currency]],tblXrate[],2,FALSE)","v":41000},"Chief of the department of public budget analisis and forecasting","Manager","Russia",{"$f":"VLOOKUP(tblSalaries[[#This Row],[Where do you work]],tblCountries[[Actual]:[Mapping]],2,FALSE)","v":"Russia"},{"$f":"VLOOKUP(tblSalaries[[#This Row],[clean Country]]&\"*\",Cont_Table,2,0)","v":"Asia"},"All the 8 hours baby, all the 8!"]
[null,"ID0032","2012-05-25T04:57:06",{"$f":"LEFT(tblSalaries[[#This Row],[Timestamp]],FIND(\".\",tblSalaries[[#This Row],[Timestamp]],1))","v":"41054."},"360000 INR",360000,"INR",{"$f":"tblSalaries[[#This Row],[clean Salary (in local currency)]]*VLOOKUP(tblSalaries[[#This Row],[Currency]],tblXrate[],2,FALSE)","v":6410.8500074793246},"Specialist","Specialist","India",{"$f":"VLOOKUP(tblSalaries[[#This Row],[Where do you work]],tblCountries[[Actual]:[Mapping]],2,FALSE)","v":"India"},{"$f":"VLOOKUP(tblSalaries[[#This Row],[clean Country]]&\"*\",Cont_Table,2,0)","v":"Asia"},"4 to 6 hours a day"]
[null,"ID0033","2012-05-25T04:58:45",{"$f":"LEFT(tblSalaries[[#This Row],[Timestamp]],FIND(\".\",tblSalaries[[#This Row],[Timestamp]],1))","v":"41054."},"Â£35000",35000,"GBP",{"$f":"tblSalaries[[#This Row],[clean Salary (in local currency)]]*VLOOKUP(tblSalaries[[#This Row],[Currency]],tblXrate[],2,FALSE)","v":55166.239522354947},"Management Information Analyst","Analyst","UK",{"$f":"VLOOKUP(tblSalaries[[#This Row],[Where do you work]],tblCountries[[Actual]:[Mapping]],2,FALSE)","v":"UK"},{"$f":"VLOOKUP(tblSalaries[[#This Row],[clean Country]]&\"*\",Cont_Table,2,0)","v":"Europe"},"All the 8 hours baby, all the 8!"]
[null,"ID0035","2012-05-25T05:01:09",{"$f":"LEFT(tblSalaries[[#This Row],[Timestamp]],FIND(\".\",tblSalaries[[#This Row],[Timestamp]],1))","v":"41054."},"1600 $",19200,"USD",{"$f":"tblSalaries[[#This Row],[clean Salary (in local currency)]]*VLOOKUP(tblSalaries[[#This Row],[Currency]],tblXrate[],2,FALSE)","v":19200},"Analyst","Analyst","Poland",{"$f":"VLOOKUP(tblSalaries[[#This Row],[Where do you work]],tblCountries[[Actual]:[Mapping]],2,FALSE)","v":"Poland"},{"$f":"VLOOKUP(tblSalaries[[#This Row],[clean Country]]&\"*\",Cont_Table,2,0)","v":"Europe"},"2 to 3 hours per day"]
[null,"ID0036","2012-05-25T05:04:12",{"$f":"LEFT(tblSalaries[[#This Row],[Timestamp]],FIND(\".\",tblSalaries[[#This Row],[Timestamp]],1))","v":"41054."},500000,500000,"INR",{"$f":"tblSalaries[[#This Row],[clean Salary (in local currency)]]*VLOOKUP(tblSalaries[[#This Row],[Currency]],tblXrate[],2,FALSE)","v":8903.9583437212841},"Senior Consultant","Consultant","India",{"$f":"VLOOKUP(tblSalaries[[#This Row],[Where do you work]],tblCountries[[Actual]:[Mapping]],2,FALSE)","v":"India"},{"$f":"VLOOKUP(tblSalaries[[#This Row],[clean Country]]&\"*\",Cont_Table,2,0)","v":"Asia"},"All the 8 hours baby, all the 8!"]
[null,"ID0037","2012-05-25T05:07:31",{"$f":"LEFT(tblSalaries[[#This Row],[Timestamp]],FIND(\".\",tblSalaries[[#This Row],[Timestamp]],1))","v":"41054."},150000,150000,"USD",{"$f":"tblSalaries[[#This Row],[clean Salary (in local currency)]]*VLOOKUP(tblSalaries[[#This Row],[Currency]],tblXrate[],2,FALSE)","v":150000},"Portfolio Manager","Manager","USA",{"$f":"VLOOKUP(tblSalaries[[#This Row],[Where do you work]],tblCountries[[Actual]:[Mapping]],2,FALSE)","v":"USA"},{"$f":"VLOOKUP(tblSalaries[[#This Row],[clean Country]]&\"*\",Cont_Table,2,0)","v":"North America"},"2 to 3 hours per day"]
[null,"ID0038","2012-05-25T05:10:29",{"$f":"LEFT(tblSalaries[[#This Row],[Timestamp]],FIND(\".\",tblSalaries[[#This Row],[Timestamp]],1))","v":"41054."},69000,69000,"USD",{"$f":"tblSalaries[[#This Row],[clean Salary (in local currency)]]*VLOOKUP(tblSalaries[[#This Row],[Currency]],tblXrate[],2,FALSE)","v":69000},"Design Engineer","Engineer","USA",{"$f":"VLOOKUP(tblSalaries[[#This Row],[Where do you work]],tblCountries[[Actual]:[Mapping]],2,FALSE)","v":"USA"},{"$f":"VLOOKUP(tblSalaries[[#This Row],[clean Country]]&\"*\",Cont_Table,2,0)","v":"North America"},"4 to 6 hours a day"]
[null,"ID0039","2012-05-25T05:11:37",{"$f":"LEFT(tblSalaries[[#This Row],[Timestamp]],FIND(\".\",tblSalaries[[#This Row],[Timestamp]],1))","v":"41054."},30000,30000,"USD",{"$f":"tblSalaries[[#This Row],[clean Salary (in local currency)]]*VLOOKUP(tblSalaries[[#This Row],[Currency]],tblXrate[],2,FALSE)","v":30000},"Academic Advisor","Consultant","USA",{"$f":"VLOOKUP(tblSalaries[[#This Row],[Where do you work]],tblCountries[[Actual]:[Mapping]],2,FALSE)","v":"USA"},{"$f":"VLOOKUP(tblSalaries[[#This Row],[clean Country]]&\"*\",Cont_Table,2,0)","v":"North America"},"2 to 3 hours per day"]
[null,"ID0040","2012-05-25T05:13:50",{"$f":"LEFT(tblSalaries[[#This Row],[Timestamp]],FIND(\".\",tblSalaries[[#This Row],[Timestamp]],1))","v":"41054."},"Rs. 400000",400000,"INR",{"$f":"tblSalaries[[#This Row],[clean Salary (in local currency)]]*VLOOKUP(tblSalaries[[#This Row],[Currency]],tblXrate[],2,FALSE)","v":7123.1666749770275},"Coordination","Manager","India",{"$f":"VLOOKUP(tblSalaries[[#This Row],[Where do you work]],tblCountries[[Actual]:[Mapping]],2,FALSE)","v":"India"},{"$f":"VLOOKUP(tblSalaries[[#This Row],[clean Country]]&\"*\",Cont_Table,2,0)","v":"Asia"},"4 to 6 hours a day"]
[null,"ID0041","2012-05-25T05:18:48",{"$f":"LEFT(tblSalaries[[#This Row],[Timestamp]],FIND(\".\",tblSalaries[[#This Row],[Timestamp]],1))","v":"41054."},70000,70000,"AUD",{"$f":"tblSalaries[[#This Row],[clean Salary (in local currency)]]*VLOOKUP(tblSalaries[[#This Row],[Currency]],tblXrate[],2,FALSE)","v":71393.675948184507},"consultant","Consultant","Australia",{"$f":"VLOOKUP(tblSalaries[[#This Row],[Where do you work]],tblCountries[[Actual]:[Mapping]],2,FALSE)","v":"Australia"},{"$f":"VLOOKUP(tblSalaries[[#This Row],[clean Country]]&\"*\",Cont_Table,2,0)","v":"Australia"},"2 to 3 hours per day"]
[null,"ID0042","2012-05-25T05:20:10",{"$f":"LEFT(tblSalaries[[#This Row],[Timestamp]],FIND(\".\",tblSalaries[[#This Row],[Timestamp]],1))","v":"41054."},14500,14500,"USD",{"$f":"tblSalaries[[#This Row],[clean Salary (in local currency)]]*VLOOKUP(tblSalaries[[#This Row],[Currency]],tblXrate[],2,FALSE)","v":14500},"Business Analsyt","Analyst","India",{"$f":"VLOOKUP(tblSalaries[[#This Row],[Where do you work]],tblCountries[[Actual]:[Mapping]],2,FALSE)","v":"India"},{"$f":"VLOOKUP(tblSalaries[[#This Row],[clean Country]]&\"*\",Cont_Table,2,0)","v":"Asia"},"4 to 6 hours a day"]
[null,"ID0043","2012-05-25T05:30:39",{"$f":"LEFT(tblSalaries[[#This Row],[Timestamp]],FIND(\".\",tblSalaries[[#This Row],[Timestamp]],1))","v":"41054."},70000,70000,"CAD",{"$f":"tblSalaries[[#This Row],[clean Salary (in local currency)]]*VLOOKUP(tblSalaries[[#This Row],[Currency]],tblXrate[],2,FALSE)","v":68835.306612122877},"Product Engineer","Engineer","Canada",{"$f":"VLOOKUP(tblSalaries[[#This Row],[Where do you work]],tblCountries[[Actual]:[Mapping]],2,FALSE)","v":"Canada"},{"$f":"VLOOKUP(tblSalaries[[#This Row],[clean Country]]&\"*\",Cont_Table,2,0)","v":"North America"},"2 to 3 hours per day"]
[null,"ID0044","2012-05-25T05:35:28",{"$f":"LEFT(tblSalaries[[#This Row],[Timestamp]],FIND(\".\",tblSalaries[[#This Row],[Timestamp]],1))","v":"41054."},58000,58000,"USD",{"$f":"tblSalaries[[#This Row],[clean Salary (in local currency)]]*VLOOKUP(tblSalaries[[#This Row],[Currency]],tblXrate[],2,FALSE)","v":58000},"Senior Accountant","Accountant","USA",{"$f":"VLOOKUP(tblSalaries[[#This Row],[Where do you work]],tblCountries[[Actual]:[Mapping]],2,FALSE)","v":"USA"},{"$f":"VLOOKUP(tblSalaries[[#This Row],[clean Country]]&\"*\",Cont_Table,2,0)","v":"North America"},"4 to 6 hours a day"]
[null,"ID0045","2012-05-25T05:45:01",{"$f":"LEFT(tblSalaries[[#This Row],[Timestamp]],FIND(\".\",tblSalaries[[#This Row],[Timestamp]],1))","v":"41054."},90000,90000,"USD",{"$f":"tblSalaries[[#This Row],[clean Salary (in local currency)]]*VLOOKUP(tblSalaries[[#This Row],[Currency]],tblXrate[],2,FALSE)","v":90000},"Scientist","Misc.","USA",{"$f":"VLOOKUP(tblSalaries[[#This Row],[Where do you work]],tblCountries[[Actual]:[Mapping]],2,FALSE)","v":"USA"},{"$f":"VLOOKUP(tblSalaries[[#This Row],[clean Country]]&\"*\",Cont_Table,2,0)","v":"North America"},"1 or 2 hours a day"]
[null,"ID0046","2012-05-25T05:46:47",{"$f":"LEFT(tblSalaries[[#This Row],[Timestamp]],FIND(\".\",tblSalaries[[#This Row],[Timestamp]],1))","v":"41054."},800000,800000,"INR",{"$f":"tblSalaries[[#This Row],[clean Salary (in local currency)]]*VLOOKUP(tblSalaries[[#This Row],[Currency]],tblXrate[],2,FALSE)","v":14246.333349954055},"Team Lead","Manager","India",{"$f":"VLOOKUP(tblSalaries[[#This Row],[Where do you work]],tblCountries[[Actual]:[Mapping]],2,FALSE)","v":"India"},{"$f":"VLOOKUP(tblSalaries[[#This Row],[clean Country]]&\"*\",Cont_Table,2,0)","v":"Asia"},"2 to 3 hours per day"]
[null,"ID0047","2012-05-25T05:47:10",{"$f":"LEFT(tblSalaries[[#This Row],[Timestamp]],FIND(\".\",tblSalaries[[#This Row],[Timestamp]],1))","v":"41054."},32000,32000,"GBP",{"$f":"tblSalaries[[#This Row],[clean Salary (in local currency)]]*VLOOKUP(tblSalaries[[#This Row],[Currency]],tblXrate[],2,FALSE)","v":50437.70470615309},"Senior intelligence analyst","Analyst","UK",{"$f":"VLOOKUP(tblSalaries[[#This Row],[Where do you work]],tblCountries[[Actual]:[Mapping]],2,FALSE)","v":"UK"},{"$f":"VLOOKUP(tblSalaries[[#This Row],[clean Country]]&\"*\",Cont_Table,2,0)","v":"Europe"},"4 to 6 hours a day"]
[null,"ID0048","2012-05-25T05:47:52",{"$f":"LEFT(tblSalaries[[#This Row],[Timestamp]],FIND(\".\",tblSalaries[[#This Row],[Timestamp]],1))","v":"41054."},1000,12000,"USD",{"$f":"tblSalaries[[#This Row],[clean Salary (in local currency)]]*VLOOKUP(tblSalaries[[#This Row],[Currency]],tblXrate[],2,FALSE)","v":12000},"Freelance consultant","Consultant","USA",{"$f":"VLOOKUP(tblSalaries[[#This Row],[Where do you work]],tblCountries[[Actual]:[Mapping]],2,FALSE)","v":"USA"},{"$f":"VLOOKUP(tblSalaries[[#This Row],[clean Country]]&\"*\",Cont_Table,2,0)","v":"North America"},"1 or 2 hours a day"]
[null,"ID0049","2012-05-25T06:04:42",{"$f":"LEFT(tblSalaries[[#This Row],[Timestamp]],FIND(\".\",tblSalaries[[#This Row],[Timestamp]],1))","v":"41054."},"â‚¬ 45",45000,"EUR",{"$f":"tblSalaries[[#This Row],[clean Salary (in local currency)]]*VLOOKUP(tblSalaries[[#This Row],[Currency]],tblXrate[],2,FALSE)","v":57167.974754622352},"Online Traffic Manager / Web Analist","Manager","The Netherlands",{"$f":"VLOOKUP(tblSalaries[[#This Row],[Where do you work]],tblCountries[[Actual]:[Mapping]],2,FALSE)","v":"Netherlands"},{"$f":"VLOOKUP(tblSalaries[[#This Row],[clean Country]]&\"*\",Cont_Table,2,0)","v":"Europe"},"4 to 6 hours a day"]
[null,"ID0050","2012-05-25T06:04:57",{"$f":"LEFT(tblSalaries[[#This Row],[Timestamp]],FIND(\".\",tblSalaries[[#This Row],[Timestamp]],1))","v":"41054."},"100000 USD",100000,"USD",{"$f":"tblSalaries[[#This Row],[clean Salary (in local currency)]]*VLOOKUP(tblSalaries[[#This Row],[Currency]],tblXrate[],2,FALSE)","v":100000},"Seinor Financial Analyst","Analyst","Germany",{"$f":"VLOOKUP(tblSalaries[[#This Row],[Where do you work]],tblCountries[[Actual]:[Mapping]],2,FALSE)","v":"Germany"},{"$f":"VLOOKUP(tblSalaries[[#This Row],[clean Country]]&\"*\",Cont_Table,2,0)","v":"Europe"},"All the 8 hours baby, all the 8!"]
[null,"ID0051","2012-05-25T06:05:17",{"$f":"LEFT(tblSalaries[[#This Row],[Timestamp]],FIND(\".\",tblSalaries[[#This Row],[Timestamp]],1))","v":"41054."},57000,57000,"USD",{"$f":"tblSalaries[[#This Row],[clean Salary (in local currency)]]*VLOOKUP(tblSalaries[[#This Row],[Currency]],tblXrate[],2,FALSE)","v":57000},"Senior Accounting Supervisor","Accountant","USA",{"$f":"VLOOKUP(tblSalaries[[#This Row],[Where do you work]],tblCountries[[Actual]:[Mapping]],2,FALSE)","v":"USA"},{"$f":"VLOOKUP(tblSalaries[[#This Row],[clean Country]]&\"*\",Cont_Table,2,0)","v":"North America"},"2 to 3 hours per day"]
[null,"ID0052","2012-05-25T06:07:15",{"$f":"LEFT(tblSalaries[[#This Row],[Timestamp]],FIND(\".\",tblSalaries[[#This Row],[Timestamp]],1))","v":"41054."},40000,40000,"GBP",{"$f":"tblSalaries[[#This Row],[clean Salary (in local currency)]]*VLOOKUP(tblSalaries[[#This Row],[Currency]],tblXrate[],2,FALSE)","v":63047.130882691366},"Senior Accountant","Accountant","UK",{"$f":"VLOOKUP(tblSalaries[[#This Row],[Where do you work]],tblCountries[[Actual]:[Mapping]],2,FALSE)","v":"UK"},{"$f":"VLOOKUP(tblSalaries[[#This Row],[clean Country]]&\"*\",Cont_Table,2,0)","v":"Europe"},"4 to 6 hours a day"]
[null,"ID0053","2012-05-25T06:09:44",{"$f":"LEFT(tblSalaries[[#This Row],[Timestamp]],FIND(\".\",tblSalaries[[#This Row],[Timestamp]],1))","v":"41054."},"2000 Euros",24000,"EUR",{"$f":"tblSalaries[[#This Row],[clean Salary (in local currency)]]*VLOOKUP(tblSalaries[[#This Row],[Currency]],tblXrate[],2,FALSE)","v":30489.586535798586},"PPC Manager","Manager","Germany",{"$f":"VLOOKUP(tblSalaries[[#This Row],[Where do you work]],tblCountries[[Actual]:[Mapping]],2,FALSE)","v":"Germany"},{"$f":"VLOOKUP(tblSalaries[[#This Row],[clean Country]]&\"*\",Cont_Table,2,0)","v":"Europe"},"All the 8 hours baby, all the 8!"]
[null,"ID0054","2012-05-25T06:10:18",{"$f":"LEFT(tblSalaries[[#This Row],[Timestamp]],FIND(\".\",tblSalaries[[#This Row],[Timestamp]],1))","v":"41054."},4320,4320,"USD",{"$f":"tblSalaries[[#This Row],[clean Salary (in local currency)]]*VLOOKUP(tblSalaries[[#This Row],[Currency]],tblXrate[],2,FALSE)","v":4320},"Financial Planner","Accountant","India",{"$f":"VLOOKUP(tblSalaries[[#This Row],[Where do you work]],tblCountries[[Actual]:[Mapping]],2,FALSE)","v":"India"},{"$f":"VLOOKUP(tblSalaries[[#This Row],[clean Country]]&\"*\",Cont_Table,2,0)","v":"Asia"},"2 to 3 hours per day"]
[null,"ID0055","2012-05-25T06:15:42",{"$f":"LEFT(tblSalaries[[#This Row],[Timestamp]],FIND(\".\",tblSalaries[[#This Row],[Timestamp]],1))","v":"41054."},62000,62000,"USD",{"$f":"tblSalaries[[#This Row],[clean Salary (in local currency)]]*VLOOKUP(tblSalaries[[#This Row],[Currency]],tblXrate[],2,FALSE)","v":62000},"Analyst","Analyst","USA",{"$f":"VLOOKUP(tblSalaries[[#This Row],[Where do you work]],tblCountries[[Actual]:[Mapping]],2,FALSE)","v":"USA"},{"$f":"VLOOKUP(tblSalaries[[#This Row],[clean Country]]&\"*\",Cont_Table,2,0)","v":"North America"},"4 to 6 hours a day"]
[null,"ID0056","2012-05-25T06:26:44",{"$f":"LEFT(tblSalaries[[#This Row],[Timestamp]],FIND(\".\",tblSalaries[[#This Row],[Timestamp]],1))","v":"41054."},7500,7500,"USD",{"$f":"tblSalaries[[#This Row],[clean Salary (in local currency)]]*VLOOKUP(tblSalaries[[#This Row],[Currency]],tblXrate[],2,FALSE)","v":7500},"Analyst","Analyst","India",{"$f":"VLOOKUP(tblSalaries[[#This Row],[Where do you work]],tblCountries[[Actual]:[Mapping]],2,FALSE)","v":"India"},{"$f":"VLOOKUP(tblSalaries[[#This Row],[clean Country]]&\"*\",Cont_Table,2,0)","v":"Asia"},"4 to 6 hours a day"]
[null,"ID0057","2012-05-25T06:27:29",{"$f":"LEFT(tblSalaries[[#This Row],[Timestamp]],FIND(\".\",tblSalaries[[#This Row],[Timestamp]],1))","v":"41054."},"Â£18000",18000,"GBP",{"$f":"tblSalaries[[#This Row],[clean Salary (in local currency)]]*VLOOKUP(tblSalaries[[#This Row],[Currency]],tblXrate[],2,FALSE)","v":28371.208897211112},"Building Design and Performance Researcher","Manager","UK",{"$f":"VLOOKUP(tblSalaries[[#This Row],[Where do you work]],tblCountries[[Actual]:[Mapping]],2,FALSE)","v":"UK"},{"$f":"VLOOKUP(tblSalaries[[#This Row],[clean Country]]&\"*\",Cont_Table,2,0)","v":"Europe"},"1 or 2 hours a day"]
[null,"ID0058","2012-05-25T06:49:25",{"$f":"LEFT(tblSalaries[[#This Row],[Timestamp]],FIND(\".\",tblSalaries[[#This Row],[Timestamp]],1))","v":"41054."},49000,49000,"EUR",{"$f":"tblSalaries[[#This Row],[clean Salary (in local currency)]]*VLOOKUP(tblSalaries[[#This Row],[Currency]],tblXrate[],2,FALSE)","v":62249.572510588783},"Project leader","Manager","France",{"$f":"VLOOKUP(tblSalaries[[#This Row],[Where do you work]],tblCountries[[Actual]:[Mapping]],2,FALSE)","v":"France"},{"$f":"VLOOKUP(tblSalaries[[#This Row],[clean Country]]&\"*\",Cont_Table,2,0)","v":"Europe"},"2 to 3 hours per day"]
[null,"ID0059","2012-05-25T06:57:52",{"$f":"LEFT(tblSalaries[[#This Row],[Timestamp]],FIND(\".\",tblSalaries[[#This Row],[Timestamp]],1))","v":"41054."},38000,38000,"USD",{"$f":"tblSalaries[[#This Row],[clean Salary (in local currency)]]*VLOOKUP(tblSalaries[[#This Row],[Currency]],tblXrate[],2,FALSE)","v":38000},"Senior Analyst","Analyst","USA",{"$f":"VLOOKUP(tblSalaries[[#This Row],[Where do you work]],tblCountries[[Actual]:[Mapping]],2,FALSE)","v":"USA"},{"$f":"VLOOKUP(tblSalaries[[#This Row],[clean Country]]&\"*\",Cont_Table,2,0)","v":"North America"},"4 to 6 hours a day"]
[null,"ID0060","2012-05-25T07:00:52",{"$f":"LEFT(tblSalaries[[#This Row],[Timestamp]],FIND(\".\",tblSalaries[[#This Row],[Timestamp]],1))","v":"41054."},41000,41000,"USD",{"$f":"tblSalaries[[#This Row],[clean Salary (in local currency)]]*VLOOKUP(tblSalaries[[#This Row],[Currency]],tblXrate[],2,FALSE)","v":41000},"Specialist","Specialist","USA",{"$f":"VLOOKUP(tblSalaries[[#This Row],[Where do you work]],tblCountries[[Actual]:[Mapping]],2,FALSE)","v":"USA"},{"$f":"VLOOKUP(tblSalaries[[#This Row],[clean Country]]&\"*\",Cont_Table,2,0)","v":"North America"},"4 to 6 hours a day"]
[null,"ID0061","2012-05-25T07:11:09",{"$f":"LEFT(tblSalaries[[#This Row],[Timestamp]],FIND(\".\",tblSalaries[[#This Row],[Timestamp]],1))","v":"41054."},68000,68000,"USD",{"$f":"tblSalaries[[#This Row],[clean Salary (in local currency)]]*VLOOKUP(tblSalaries[[#This Row],[Currency]],tblXrate[],2,FALSE)","v":68000},"Engineering Data Analyst","Analyst","USA",{"$f":"VLOOKUP(tblSalaries[[#This Row],[Where do you work]],tblCountries[[Actual]:[Mapping]],2,FALSE)","v":"USA"},{"$f":"VLOOKUP(tblSalaries[[#This Row],[clean Country]]&\"*\",Cont_Table,2,0)","v":"North America"},"All the 8 hours baby, all the 8!"]
[null,"ID0062","2012-05-25T07:13:31",{"$f":"LEFT(tblSalaries[[#This Row],[Timestamp]],FIND(\".\",tblSalaries[[#This Row],[Timestamp]],1))","v":"41054."},56000,56000,"CAD",{"$f":"tblSalaries[[#This Row],[clean Salary (in local currency)]]*VLOOKUP(tblSalaries[[#This Row],[Currency]],tblXrate[],2,FALSE)","v":55068.245289698301},"Sales Analyst","Analyst","CANADA",{"$f":"VLOOKUP(tblSalaries[[#This Row],[Where do you work]],tblCountries[[Actual]:[Mapping]],2,FALSE)","v":"Canada"},{"$f":"VLOOKUP(tblSalaries[[#This Row],[clean Country]]&\"*\",Cont_Table,2,0)","v":"North America"},"All the 8 hours baby, all the 8!"]
[null,"ID0063","2012-05-25T07:15:12",{"$f":"LEFT(tblSalaries[[#This Row],[Timestamp]],FIND(\".\",tblSalaries[[#This Row],[Timestamp]],1))","v":"41054."},61000,61000,"USD",{"$f":"tblSalaries[[#This Row],[clean Salary (in local currency)]]*VLOOKUP(tblSalaries[[#This Row],[Currency]],tblXrate[],2,FALSE)","v":61000},"Coordinator Of Costa and Buget","Manager","Brasil",{"$f":"VLOOKUP(tblSalaries[[#This Row],[Where do you work]],tblCountries[[Actual]:[Mapping]],2,FALSE)","v":"Brasil"},{"$f":"VLOOKUP(tblSalaries[[#This Row],[clean Country]]&\"*\",Cont_Table,2,0)","v":"South America"},"All the 8 hours baby, all the 8!"]
[null,"ID0064","2012-05-25T07:18:53",{"$f":"LEFT(tblSalaries[[#This Row],[Timestamp]],FIND(\".\",tblSalaries[[#This Row],[Timestamp]],1))","v":"41054."},43000,43000,"EUR",{"$f":"tblSalaries[[#This Row],[clean Salary (in local currency)]]*VLOOKUP(tblSalaries[[#This Row],[Currency]],tblXrate[],2,FALSE)","v":54627.175876639136},"SAP consultant","Consultant","FR",{"$f":"VLOOKUP(tblSalaries[[#This Row],[Where do you work]],tblCountries[[Actual]:[Mapping]],2,FALSE)","v":"France"},{"$f":"VLOOKUP(tblSalaries[[#This Row],[clean Country]]&\"*\",Cont_Table,2,0)","v":"Europe"},"4 to 6 hours a day"]
[null,"ID0065","2012-05-25T07:20:08",{"$f":"LEFT(tblSalaries[[#This Row],[Timestamp]],FIND(\".\",tblSalaries[[#This Row],[Timestamp]],1))","v":"41054."},85000,85000,"USD",{"$f":"tblSalaries[[#This Row],[clean Salary (in local currency)]]*VLOOKUP(tblSalaries[[#This Row],[Currency]],tblXrate[],2,FALSE)","v":85000},"Manager","Manager","USA",{"$f":"VLOOKUP(tblSalaries[[#This Row],[Where do you work]],tblCountries[[Actual]:[Mapping]],2,FALSE)","v":"USA"},{"$f":"VLOOKUP(tblSalaries[[#This Row],[clean Country]]&\"*\",Cont_Table,2,0)","v":"North America"},"4 to 6 hours a day"]
[null,"ID0066","2012-05-25T07:21:18",{"$f":"LEFT(tblSalaries[[#This Row],[Timestamp]],FIND(\".\",tblSalaries[[#This Row],[Timestamp]],1))","v":"41054."},"â‚¬ 38000",38000,"EUR",{"$f":"tblSalaries[[#This Row],[clean Salary (in local currency)]]*VLOOKUP(tblSalaries[[#This Row],[Currency]],tblXrate[],2,FALSE)","v":48275.178681681093},"busines analist","Analyst","The Netherlands",{"$f":"VLOOKUP(tblSalaries[[#This Row],[Where do you work]],tblCountries[[Actual]:[Mapping]],2,FALSE)","v":"Netherlands"},{"$f":"VLOOKUP(tblSalaries[[#This Row],[clean Country]]&\"*\",Cont_Table,2,0)","v":"Europe"},"1 or 2 hours a day"]
[null,"ID0067","2012-05-25T07:25:12",{"$f":"LEFT(tblSalaries[[#This Row],[Timestamp]],FIND(\".\",tblSalaries[[#This Row],[Timestamp]],1))","v":"41054."},85000,85000,"AUD",{"$f":"tblSalaries[[#This Row],[clean Salary (in local currency)]]*VLOOKUP(tblSalaries[[#This Row],[Currency]],tblXrate[],2,FALSE)","v":86692.320794224041},"head of data","CXO or Top Mgmt.","Australia",{"$f":"VLOOKUP(tblSalaries[[#This Row],[Where do you work]],tblCountries[[Actual]:[Mapping]],2,FALSE)","v":"Australia"},{"$f":"VLOOKUP(tblSalaries[[#This Row],[clean Country]]&\"*\",Cont_Table,2,0)","v":"Australia"},"4 to 6 hours a day"]
[null,"ID0068","2012-05-25T07:29:12",{"$f":"LEFT(tblSalaries[[#This Row],[Timestamp]],FIND(\".\",tblSalaries[[#This Row],[Timestamp]],1))","v":"41054."},85087,85087,"USD",{"$f":"tblSalaries[[#This Row],[clean Salary (in local currency)]]*VLOOKUP(tblSalaries[[#This Row],[Currency]],tblXrate[],2,FALSE)","v":85087},"Business Systems Analyst","Analyst","USA",{"$f":"VLOOKUP(tblSalaries[[#This Row],[Where do you work]],tblCountries[[Actual]:[Mapping]],2,FALSE)","v":"USA"},{"$f":"VLOOKUP(tblSalaries[[#This Row],[clean Country]]&\"*\",Cont_Table,2,0)","v":"North America"},"2 to 3 hours per day"]
[null,"ID0069","2012-05-25T07:38:22",{"$f":"LEFT(tblSalaries[[#This Row],[Timestamp]],FIND(\".\",tblSalaries[[#This Row],[Timestamp]],1))","v":"41054."},50000,50000,"USD",{"$f":"tblSalaries[[#This Row],[clean Salary (in local currency)]]*VLOOKUP(tblSalaries[[#This Row],[Currency]],tblXrate[],2,FALSE)","v":50000},"Financial Analyst II","Analyst","USA",{"$f":"VLOOKUP(tblSalaries[[#This Row],[Where do you work]],tblCountries[[Actual]:[Mapping]],2,FALSE)","v":"USA"},{"$f":"VLOOKUP(tblSalaries[[#This Row],[clean Country]]&\"*\",Cont_Table,2,0)","v":"North America"},"All the 8 hours baby, all the 8!"]
[null,"ID0070","2012-05-25T07:47:00",{"$f":"LEFT(tblSalaries[[#This Row],[Timestamp]],FIND(\".\",tblSalaries[[#This Row],[Timestamp]],1))","v":"41054."},100000,100000,"USD",{"$f":"tblSalaries[[#This Row],[clean Salary (in local currency)]]*VLOOKUP(tblSalaries[[#This Row],[Currency]],tblXrate[],2,FALSE)","v":100000},"Mngr MI","Manager","RSA",{"$f":"VLOOKUP(tblSalaries[[#This Row],[Where do you work]],tblCountries[[Actual]:[Mapping]],2,FALSE)","v":"South Africa"},{"$f":"VLOOKUP(tblSalaries[[#This Row],[clean Country]]&\"*\",Cont_Table,2,0)","v":"Africa"},"4 to 6 hours a day"]
[null,"ID0071","2012-05-25T22:49:00",{"$f":"LEFT(tblSalaries[[#This Row],[Timestamp]],FIND(\".\",tblSalaries[[#This Row],[Timestamp]],1))","v":"41054."},57000,57000,"USD",{"$f":"tblSalaries[[#This Row],[clean Salary (in local currency)]]*VLOOKUP(tblSalaries[[#This Row],[Currency]],tblXrate[],2,FALSE)","v":57000},"sales analyst","Analyst","USA",{"$f":"VLOOKUP(tblSalaries[[#This Row],[Where do you work]],tblCountries[[Actual]:[Mapping]],2,FALSE)","v":"USA"},{"$f":"VLOOKUP(tblSalaries[[#This Row],[clean Country]]&\"*\",Cont_Table,2,0)","v":"North America"},"4 to 6 hours a day"]
[null,"ID0072","2012-05-25T22:52:28",{"$f":"LEFT(tblSalaries[[#This Row],[Timestamp]],FIND(\".\",tblSalaries[[#This Row],[Timestamp]],1))","v":"41054."},75000,75000,"USD",{"$f":"tblSalaries[[#This Row],[clean Salary (in local currency)]]*VLOOKUP(tblSalaries[[#This Row],[Currency]],tblXrate[],2,FALSE)","v":75000},"Consumer Research Program Manager","Manager","USA",{"$f":"VLOOKUP(tblSalaries[[#This Row],[Where do you work]],tblCountries[[Actual]:[Mapping]],2,FALSE)","v":"USA"},{"$f":"VLOOKUP(tblSalaries[[#This Row],[clean Country]]&\"*\",Cont_Table,2,0)","v":"North America"},"All the 8 hours baby, all the 8!"]
[null,"ID0073","2012-05-25T22:59:05",{"$f":"LEFT(tblSalaries[[#This Row],[Timestamp]],FIND(\".\",tblSalaries[[#This Row],[Timestamp]],1))","v":"41054."},"$AUD100000",100000,"AUD",{"$f":"tblSalaries[[#This Row],[clean Salary (in local currency)]]*VLOOKUP(tblSalaries[[#This Row],[Currency]],tblXrate[],2,FALSE)","v":101990.96564026357},"technical trainer","Manager","Australia",{"$f":"VLOOKUP(tblSalaries[[#This Row],[Where do you work]],tblCountries[[Actual]:[Mapping]],2,FALSE)","v":"Australia"},{"$f":"VLOOKUP(tblSalaries[[#This Row],[clean Country]]&\"*\",Cont_Table,2,0)","v":"Australia"},"4 to 6 hours a day"]
[null,"ID0074","2012-05-25T23:01:20",{"$f":"LEFT(tblSalaries[[#This Row],[Timestamp]],FIND(\".\",tblSalaries[[#This Row],[Timestamp]],1))","v":"41054."},2785,33420,"USD",{"$f":"tblSalaries[[#This Row],[clean Salary (in local currency)]]*VLOOKUP(tblSalaries[[#This Row],[Currency]],tblXrate[],2,FALSE)","v":33420},"Process Flow Coordinator","Manager","United Arab Emirates",{"$f":"VLOOKUP(tblSalaries[[#This Row],[Where do you work]],tblCountries[[Actual]:[Mapping]],2,FALSE)","v":"UAE"},{"$f":"VLOOKUP(tblSalaries[[#This Row],[clean Country]]&\"*\",Cont_Table,2,0)","v":"Asia"},"All the 8 hours baby, all the 8!"]
[null,"ID0075","2012-05-25T23:03:00",{"$f":"LEFT(tblSalaries[[#This Row],[Timestamp]],FIND(\".\",tblSalaries[[#This Row],[Timestamp]],1))","v":"41054."},59450,59450,"CAD",{"$f":"tblSalaries[[#This Row],[clean Salary (in local currency)]]*VLOOKUP(tblSalaries[[#This Row],[Currency]],tblXrate[],2,FALSE)","v":58460.842544152933},"Process Improvement Specialist","Specialist","Canada",{"$f":"VLOOKUP(tblSalaries[[#This Row],[Where do you work]],tblCountries[[Actual]:[Mapping]],2,FALSE)","v":"Canada"},{"$f":"VLOOKUP(tblSalaries[[#This Row],[clean Country]]&\"*\",Cont_Table,2,0)","v":"North America"},"All the 8 hours baby, all the 8!"]
[null,"ID0076","2012-05-25T23:12:29",{"$f":"LEFT(tblSalaries[[#This Row],[Timestamp]],FIND(\".\",tblSalaries[[#This Row],[Timestamp]],1))","v":"41054."},15000,15000,"USD",{"$f":"tblSalaries[[#This Row],[clean Salary (in local currency)]]*VLOOKUP(tblSalaries[[#This Row],[Currency]],tblXrate[],2,FALSE)","v":15000},"Excel Programmer Consultant","Consultant","USA",{"$f":"VLOOKUP(tblSalaries[[#This Row],[Where do you work]],tblCountries[[Actual]:[Mapping]],2,FALSE)","v":"USA"},{"$f":"VLOOKUP(tblSalaries[[#This Row],[clean Country]]&\"*\",Cont_Table,2,0)","v":"North America"},"All the 8 hours baby, all the 8!"]
[null,"ID0077","2012-05-25T23:15:34",{"$f":"LEFT(tblSalaries[[#This Row],[Timestamp]],FIND(\".\",tblSalaries[[#This Row],[Timestamp]],1))","v":"41054."},"US $60,000",60000,"USD",{"$f":"tblSalaries[[#This Row],[clean Salary (in local currency)]]*VLOOKUP(tblSalaries[[#This Row],[Currency]],tblXrate[],2,FALSE)","v":60000},"Statistical Analyst","Analyst","Canada",{"$f":"VLOOKUP(tblSalaries[[#This Row],[Where do you work]],tblCountries[[Actual]:[Mapping]],2,FALSE)","v":"Canada"},{"$f":"VLOOKUP(tblSalaries[[#This Row],[clean Country]]&\"*\",Cont_Table,2,0)","v":"North America"},"1 or 2 hours a day"]
[null,"ID0078","2012-05-25T23:18:45",{"$f":"LEFT(tblSalaries[[#This Row],[Timestamp]],FIND(\".\",tblSalaries[[#This Row],[Timestamp]],1))","v":"41054."},100000,100000,"GBP",{"$f":"tblSalaries[[#This Row],[clean Salary (in local currency)]]*VLOOKUP(tblSalaries[[#This Row],[Currency]],tblXrate[],2,FALSE)","v":157617.8272067284},"Analyst","Analyst","UK",{"$f":"VLOOKUP(tblSalaries[[#This Row],[Where do you work]],tblCountries[[Actual]:[Mapping]],2,FALSE)","v":"UK"},{"$f":"VLOOKUP(tblSalaries[[#This Row],[clean Country]]&\"*\",Cont_Table,2,0)","v":"Europe"},"2 to 3 hours per day"]
[null,"ID0079","2012-05-25T23:20:46",{"$f":"LEFT(tblSalaries[[#This Row],[Timestamp]],FIND(\".\",tblSalaries[[#This Row],[Timestamp]],1))","v":"41054."},"Us$ 18000",18000,"USD",{"$f":"tblSalaries[[#This Row],[clean Salary (in local currency)]]*VLOOKUP(tblSalaries[[#This Row],[Currency]],tblXrate[],2,FALSE)","v":18000},"Operational Analyst","Analyst","Saudi Arabia",{"$f":"VLOOKUP(tblSalaries[[#This Row],[Where do you work]],tblCountries[[Actual]:[Mapping]],2,FALSE)","v":"Saudi Arabia"},{"$f":"VLOOKUP(tblSalaries[[#This Row],[clean Country]]&\"*\",Cont_Table,2,0)","v":"Asia"},"All the 8 hours baby, all the 8!"]
[null,"ID0080","2012-05-25T23:31:16",{"$f":"LEFT(tblSalaries[[#This Row],[Timestamp]],FIND(\".\",tblSalaries[[#This Row],[Timestamp]],1))","v":"41054."},50000,50000,"USD",{"$f":"tblSalaries[[#This Row],[clean Salary (in local currency)]]*VLOOKUP(tblSalaries[[#This Row],[Currency]],tblXrate[],2,FALSE)","v":50000},"Exceler","Manager","USA",{"$f":"VLOOKUP(tblSalaries[[#This Row],[Where do you work]],tblCountries[[Actual]:[Mapping]],2,FALSE)","v":"USA"},{"$f":"VLOOKUP(tblSalaries[[#This Row],[clean Country]]&\"*\",Cont_Table,2,0)","v":"North America"},"2 to 3 hours per day"]
[null,"ID0081","2012-05-25T23:33:15",{"$f":"LEFT(tblSalaries[[#This Row],[Timestamp]],FIND(\".\",tblSalaries[[#This Row],[Timestamp]],1))","v":"41054."},26000,26000,"USD",{"$f":"tblSalaries[[#This Row],[clean Salary (in local currency)]]*VLOOKUP(tblSalaries[[#This Row],[Currency]],tblXrate[],2,FALSE)","v":26000},"Marketing Analyst","Analyst","Panama",{"$f":"VLOOKUP(tblSalaries[[#This Row],[Where do you work]],tblCountries[[Actual]:[Mapping]],2,FALSE)","v":"Panama"},{"$f":"VLOOKUP(tblSalaries[[#This Row],[clean Country]]&\"*\",Cont_Table,2,0)","v":"North America"},"All the 8 hours baby, all the 8!"]
[null,"ID0082","2012-05-25T23:49:27",{"$f":"LEFT(tblSalaries[[#This Row],[Timestamp]],FIND(\".\",tblSalaries[[#This Row],[Timestamp]],1))","v":"41054."},"Â£30000",30000,"GBP",{"$f":"tblSalaries[[#This Row],[clean Salary (in local currency)]]*VLOOKUP(tblSalaries[[#This Row],[Currency]],tblXrate[],2,FALSE)","v":47285.348162018527},"Database Manager","Manager","UK",{"$f":"VLOOKUP(tblSalaries[[#This Row],[Where do you work]],tblCountries[[Actual]:[Mapping]],2,FALSE)","v":"UK"},{"$f":"VLOOKUP(tblSalaries[[#This Row],[clean Country]]&\"*\",Cont_Table,2,0)","v":"Europe"},"4 to 6 hours a day"]
[null,"ID0083","2012-05-26T00:00:52",{"$f":"LEFT(tblSalaries[[#This Row],[Timestamp]],FIND(\".\",tblSalaries[[#This Row],[Timestamp]],1))","v":"41055."},150000,150000,"USD",{"$f":"tblSalaries[[#This Row],[clean Salary (in local currency)]]*VLOOKUP(tblSalaries[[#This Row],[Currency]],tblXrate[],2,FALSE)","v":150000},"Director","CXO or Top Mgmt.","USA",{"$f":"VLOOKUP(tblSalaries[[#This Row],[Where do you work]],tblCountries[[Actual]:[Mapping]],2,FALSE)","v":"USA"},{"$f":"VLOOKUP(tblSalaries[[#This Row],[clean Country]]&\"*\",Cont_Table,2,0)","v":"North America"},"All the 8 hours baby, all the 8!"]
[null,"ID0084","2012-05-26T00:05:45",{"$f":"LEFT(tblSalaries[[#This Row],[Timestamp]],FIND(\".\",tblSalaries[[#This Row],[Timestamp]],1))","v":"41055."},120000,120000,"USD",{"$f":"tblSalaries[[#This Row],[clean Salary (in local currency)]]*VLOOKUP(tblSalaries[[#This Row],[Currency]],tblXrate[],2,FALSE)","v":120000},"Manager, Forecasts & Budgets","Manager","USA",{"$f":"VLOOKUP(tblSalaries[[#This Row],[Where do you work]],tblCountries[[Actual]:[Mapping]],2,FALSE)","v":"USA"},{"$f":"VLOOKUP(tblSalaries[[#This Row],[clean Country]]&\"*\",Cont_Table,2,0)","v":"North America"},"4 to 6 hours a day"]
[null,"ID0085","2012-05-26T00:10:17",{"$f":"LEFT(tblSalaries[[#This Row],[Timestamp]],FIND(\".\",tblSalaries[[#This Row],[Timestamp]],1))","v":"41055."},500000,500000,"INR",{"$f":"tblSalaries[[#This Row],[clean Salary (in local currency)]]*VLOOKUP(tblSalaries[[#This Row],[Currency]],tblXrate[],2,FALSE)","v":8903.9583437212841},"Senior Consultant","Consultant","India",{"$f":"VLOOKUP(tblSalaries[[#This Row],[Where do you work]],tblCountries[[Actual]:[Mapping]],2,FALSE)","v":"India"},{"$f":"VLOOKUP(tblSalaries[[#This Row],[clean Country]]&\"*\",Cont_Table,2,0)","v":"Asia"},"All the 8 hours baby, all the 8!"]
[null,"ID0086","2012-05-26T00:11:21",{"$f":"LEFT(tblSalaries[[#This Row],[Timestamp]],FIND(\".\",tblSalaries[[#This Row],[Timestamp]],1))","v":"41055."},"US $ 31330.00",31330,"USD",{"$f":"tblSalaries[[#This Row],[clean Salary (in local currency)]]*VLOOKUP(tblSalaries[[#This Row],[Currency]],tblXrate[],2,FALSE)","v":31330},"VBA Analyst","Analyst","Brazil",{"$f":"VLOOKUP(tblSalaries[[#This Row],[Where do you work]],tblCountries[[Actual]:[Mapping]],2,FALSE)","v":"Brazil"},{"$f":"VLOOKUP(tblSalaries[[#This Row],[clean Country]]&\"*\",Cont_Table,2,0)","v":"South America"},"All the 8 hours baby, all the 8!"]
[null,"ID0087","2012-05-26T00:15:17",{"$f":"LEFT(tblSalaries[[#This Row],[Timestamp]],FIND(\".\",tblSalaries[[#This Row],[Timestamp]],1))","v":"41055."},110000,110000,"USD",{"$f":"tblSalaries[[#This Row],[clean Salary (in local currency)]]*VLOOKUP(tblSalaries[[#This Row],[Currency]],tblXrate[],2,FALSE)","v":110000},"Senior Scheduling Engineer","Engineer","USA",{"$f":"VLOOKUP(tblSalaries[[#This Row],[Where do you work]],tblCountries[[Actual]:[Mapping]],2,FALSE)","v":"USA"},{"$f":"VLOOKUP(tblSalaries[[#This Row],[clean Country]]&\"*\",Cont_Table,2,0)","v":"North America"},"2 to 3 hours per day"]
[null,"ID0088","2012-05-26T00:22:49",{"$f":"LEFT(tblSalaries[[#This Row],[Timestamp]],FIND(\".\",tblSalaries[[#This Row],[Timestamp]],1))","v":"41055."},"81,000USD",81000,"USD",{"$f":"tblSalaries[[#This Row],[clean Salary (in local currency)]]*VLOOKUP(tblSalaries[[#This Row],[Currency]],tblXrate[],2,FALSE)","v":81000},"Strategy Consultant","Consultant","UK",{"$f":"VLOOKUP(tblSalaries[[#This Row],[Where do you work]],tblCountries[[Actual]:[Mapping]],2,FALSE)","v":"UK"},{"$f":"VLOOKUP(tblSalaries[[#This Row],[clean Country]]&\"*\",Cont_Table,2,0)","v":"Europe"},"4 to 6 hours a day"]
[null,"ID0089","2012-05-26T00:39:04",{"$f":"LEFT(tblSalaries[[#This Row],[Timestamp]],FIND(\".\",tblSalaries[[#This Row],[Timestamp]],1))","v":"41055."},40000,40000,"USD",{"$f":"tblSalaries[[#This Row],[clean Salary (in local currency)]]*VLOOKUP(tblSalaries[[#This Row],[Currency]],tblXrate[],2,FALSE)","v":40000},"Admin","Analyst","USA",{"$f":"VLOOKUP(tblSalaries[[#This Row],[Where do you work]],tblCountries[[Actual]:[Mapping]],2,FALSE)","v":"USA"},{"$f":"VLOOKUP(tblSalaries[[#This Row],[clean Country]]&\"*\",Cont_Table,2,0)","v":"North America"},"4 to 6 hours a day"]
[null,"ID0090","2012-05-26T00:39:28",{"$f":"LEFT(tblSalaries[[#This Row],[Timestamp]],FIND(\".\",tblSalaries[[#This Row],[Timestamp]],1))","v":"41055."},42000,42000,"CAD",{"$f":"tblSalaries[[#This Row],[clean Salary (in local currency)]]*VLOOKUP(tblSalaries[[#This Row],[Currency]],tblXrate[],2,FALSE)","v":41301.183967273726},"IT Asset Administrator","Analyst","Canada",{"$f":"VLOOKUP(tblSalaries[[#This Row],[Where do you work]],tblCountries[[Actual]:[Mapping]],2,FALSE)","v":"Canada"},{"$f":"VLOOKUP(tblSalaries[[#This Row],[clean Country]]&\"*\",Cont_Table,2,0)","v":"North America"},"4 to 6 hours a day"]
[null,"ID0091","2012-05-26T00:39:36",{"$f":"LEFT(tblSalaries[[#This Row],[Timestamp]],FIND(\".\",tblSalaries[[#This Row],[Timestamp]],1))","v":"41055."},125000,125000,"USD",{"$f":"tblSalaries[[#This Row],[clean Salary (in local currency)]]*VLOOKUP(tblSalaries[[#This Row],[Currency]],tblXrate[],2,FALSE)","v":125000},"Director of Marketing","CXO or Top Mgmt.","USA",{"$f":"VLOOKUP(tblSalaries[[#This Row],[Where do you work]],tblCountries[[Actual]:[Mapping]],2,FALSE)","v":"USA"},{"$f":"VLOOKUP(tblSalaries[[#This Row],[clean Country]]&\"*\",Cont_Table,2,0)","v":"North America"},"4 to 6 hours a day"]
[null,"ID0092","2012-05-26T00:39:38",{"$f":"LEFT(tblSalaries[[#This Row],[Timestamp]],FIND(\".\",tblSalaries[[#This Row],[Timestamp]],1))","v":"41055."},36000,36000,"USD",{"$f":"tblSalaries[[#This Row],[clean Salary (in local currency)]]*VLOOKUP(tblSalaries[[#This Row],[Currency]],tblXrate[],2,FALSE)","v":36000},"Graphic Design Manager","Manager","USA",{"$f":"VLOOKUP(tblSalaries[[#This Row],[Where do you work]],tblCountries[[Actual]:[Mapping]],2,FALSE)","v":"USA"},{"$f":"VLOOKUP(tblSalaries[[#This Row],[clean Country]]&\"*\",Cont_Table,2,0)","v":"North America"},"2 to 3 hours per day"]
[null,"ID0093","2012-05-26T00:39:54",{"$f":"LEFT(tblSalaries[[#This Row],[Timestamp]],FIND(\".\",tblSalaries[[#This Row],[Timestamp]],1))","v":"41055."},"Rs. 12,000/-",144000,"INR",{"$f":"tblSalaries[[#This Row],[clean Salary (in local currency)]]*VLOOKUP(tblSalaries[[#This Row],[Currency]],tblXrate[],2,FALSE)","v":2564.3400029917298},"Financial Consultant","Consultant","India",{"$f":"VLOOKUP(tblSalaries[[#This Row],[Where do you work]],tblCountries[[Actual]:[Mapping]],2,FALSE)","v":"India"},{"$f":"VLOOKUP(tblSalaries[[#This Row],[clean Country]]&\"*\",Cont_Table,2,0)","v":"Asia"},"1 or 2 hours a day"]
[null,"ID0094","2012-05-26T00:40:00",{"$f":"LEFT(tblSalaries[[#This Row],[Timestamp]],FIND(\".\",tblSalaries[[#This Row],[Timestamp]],1))","v":"41055."},75000,75000,"USD",{"$f":"tblSalaries[[#This Row],[clean Salary (in local currency)]]*VLOOKUP(tblSalaries[[#This Row],[Currency]],tblXrate[],2,FALSE)","v":75000},"Data Analyst","Analyst","USA",{"$f":"VLOOKUP(tblSalaries[[#This Row],[Where do you work]],tblCountries[[Actual]:[Mapping]],2,FALSE)","v":"USA"},{"$f":"VLOOKUP(tblSalaries[[#This Row],[clean Country]]&\"*\",Cont_Table,2,0)","v":"North America"},"1 or 2 hours a day"]
[null,"ID0095","2012-05-26T00:40:20",{"$f":"LEFT(tblSalaries[[#This Row],[Timestamp]],FIND(\".\",tblSalaries[[#This Row],[Timestamp]],1))","v":"41055."},95000,95000,"USD",{"$f":"tblSalaries[[#This Row],[clean Salary (in local currency)]]*VLOOKUP(tblSalaries[[#This Row],[Currency]],tblXrate[],2,FALSE)","v":95000},"CFO","CXO or Top Mgmt.","USA",{"$f":"VLOOKUP(tblSalaries[[#This Row],[Where do you work]],tblCountries[[Actual]:[Mapping]],2,FALSE)","v":"USA"},{"$f":"VLOOKUP(tblSalaries[[#This Row],[clean Country]]&\"*\",Cont_Table,2,0)","v":"North America"},"4 to 6 hours a day"]
[null,"ID0096","2012-05-26T00:40:27",{"$f":"LEFT(tblSalaries[[#This Row],[Timestamp]],FIND(\".\",tblSalaries[[#This Row],[Timestamp]],1))","v":"41055."},24000,24000,"USD",{"$f":"tblSalaries[[#This Row],[clean Salary (in local currency)]]*VLOOKUP(tblSalaries[[#This Row],[Currency]],tblXrate[],2,FALSE)","v":24000},"Paraeducator","Manager","USA",{"$f":"VLOOKUP(tblSalaries[[#This Row],[Where do you work]],tblCountries[[Actual]:[Mapping]],2,FALSE)","v":"USA"},{"$f":"VLOOKUP(tblSalaries[[#This Row],[clean Country]]&\"*\",Cont_Table,2,0)","v":"North America"},"2 to 3 hours per day"]
[null,"ID0097","2012-05-26T00:40:31",{"$f":"LEFT(tblSalaries[[#This Row],[Timestamp]],FIND(\".\",tblSalaries[[#This Row],[Timestamp]],1))","v":"41055."},"91,000 USD",91000,"USD",{"$f":"tblSalaries[[#This Row],[clean Salary (in local currency)]]*VLOOKUP(tblSalaries[[#This Row],[Currency]],tblXrate[],2,FALSE)","v":91000},"Channel Marketing Manager","Manager","USA",{"$f":"VLOOKUP(tblSalaries[[#This Row],[Where do you work]],tblCountries[[Actual]:[Mapping]],2,FALSE)","v":"USA"},{"$f":"VLOOKUP(tblSalaries[[#This Row],[clean Country]]&\"*\",Cont_Table,2,0)","v":"North America"},"1 or 2 hours a day"]
[null,"ID0098","2012-05-26T00:40:39",{"$f":"LEFT(tblSalaries[[#This Row],[Timestamp]],FIND(\".\",tblSalaries[[#This Row],[Timestamp]],1))","v":"41055."},40000,40000,"USD",{"$f":"tblSalaries[[#This Row],[clean Salary (in local currency)]]*VLOOKUP(tblSalaries[[#This Row],[Currency]],tblXrate[],2,FALSE)","v":40000},"Sales and Marketing Analyst ","Analyst","USA",{"$f":"VLOOKUP(tblSalaries[[#This Row],[Where do you work]],tblCountries[[Actual]:[Mapping]],2,FALSE)","v":"USA"},{"$f":"VLOOKUP(tblSalaries[[#This Row],[clean Country]]&\"*\",Cont_Table,2,0)","v":"North America"},"4 to 6 hours a day"]
[null,"ID0099","2012-05-26T00:40:40",{"$f":"LEFT(tblSalaries[[#This Row],[Timestamp]],FIND(\".\",tblSalaries[[#This Row],[Timestamp]],1))","v":"41055."},57000,57000,"USD",{"$f":"tblSalaries[[#This Row],[clean Salary (in local currency)]]*VLOOKUP(tblSalaries[[#This Row],[Currency]],tblXrate[],2,FALSE)","v":57000},"Production Scheduler","Manager","USA",{"$f":"VLOOKUP(tblSalaries[[#This Row],[Where do you work]],tblCountries[[Actual]:[Mapping]],2,FALSE)","v":"USA"},{"$f":"VLOOKUP(tblSalaries[[#This Row],[clean Country]]&\"*\",Cont_Table,2,0)","v":"North America"},"4 to 6 hours a day"]
[null,"ID0100","2012-05-26T00:40:41",{"$f":"LEFT(tblSalaries[[#This Row],[Timestamp]],FIND(\".\",tblSalaries[[#This Row],[Timestamp]],1))","v":"41055."},74000,74000,"USD",{"$f":"tblSalaries[[#This Row],[clean Salary (in local currency)]]*VLOOKUP(tblSalaries[[#This Row],[Currency]],tblXrate[],2,FALSE)","v":74000},"Senior Consultant","Consultant","USA",{"$f":"VLOOKUP(tblSalaries[[#This Row],[Where do you work]],tblCountries[[Actual]:[Mapping]],2,FALSE)","v":"USA"},{"$f":"VLOOKUP(tblSalaries[[#This Row],[clean Country]]&\"*\",Cont_Table,2,0)","v":"North America"},"4 to 6 hours a day"]
[null,"ID0101","2012-05-26T00:40:42",{"$f":"LEFT(tblSalaries[[#This Row],[Timestamp]],FIND(\".\",tblSalaries[[#This Row],[Timestamp]],1))","v":"41055."},"80k",80000,"USD",{"$f":"tblSalaries[[#This Row],[clean Salary (in local currency)]]*VLOOKUP(tblSalaries[[#This Row],[Currency]],tblXrate[],2,FALSE)","v":80000},"financial analyst","Analyst","USA",{"$f":"VLOOKUP(tblSalaries[[#This Row],[Where do you work]],tblCountries[[Actual]:[Mapping]],2,FALSE)","v":"USA"},{"$f":"VLOOKUP(tblSalaries[[#This Row],[clean Country]]&\"*\",Cont_Table,2,0)","v":"North America"},"4 to 6 hours a day"]
[null,"ID0102","2012-05-26T00:40:46",{"$f":"LEFT(tblSalaries[[#This Row],[Timestamp]],FIND(\".\",tblSalaries[[#This Row],[Timestamp]],1))","v":"41055."},90000,90000,"USD",{"$f":"tblSalaries[[#This Row],[clean Salary (in local currency)]]*VLOOKUP(tblSalaries[[#This Row],[Currency]],tblXrate[],2,FALSE)","v":90000},"Product Specialist","Specialist","USA",{"$f":"VLOOKUP(tblSalaries[[#This Row],[Where do you work]],tblCountries[[Actual]:[Mapping]],2,FALSE)","v":"USA"},{"$f":"VLOOKUP(tblSalaries[[#This Row],[clean Country]]&\"*\",Cont_Table,2,0)","v":"North America"},"4 to 6 hours a day"]
[null,"ID0103","2012-05-26T00:40:48",{"$f":"LEFT(tblSalaries[[#This Row],[Timestamp]],FIND(\".\",tblSalaries[[#This Row],[Timestamp]],1))","v":"41055."},21000,21000,"USD",{"$f":"tblSalaries[[#This Row],[clean Salary (in local currency)]]*VLOOKUP(tblSalaries[[#This Row],[Currency]],tblXrate[],2,FALSE)","v":21000},"IT support","Analyst","arabian Gulf",{"$f":"VLOOKUP(tblSalaries[[#This Row],[Where do you work]],tblCountries[[Actual]:[Mapping]],2,FALSE)","v":"arabian Gulf"},{"$f":"VLOOKUP(tblSalaries[[#This Row],[clean Country]]&\"*\",Cont_Table,2,0)","v":"Asia"},"1 or 2 hours a day"]
[null,"ID0104","2012-05-26T00:40:50",{"$f":"LEFT(tblSalaries[[#This Row],[Timestamp]],FIND(\".\",tblSalaries[[#This Row],[Timestamp]],1))","v":"41055."},52000,52000,"USD",{"$f":"tblSalaries[[#This Row],[clean Salary (in local currency)]]*VLOOKUP(tblSalaries[[#This Row],[Currency]],tblXrate[],2,FALSE)","v":52000},"sr. project coordinator","Manager","USA",{"$f":"VLOOKUP(tblSalaries[[#This Row],[Where do you work]],tblCountries[[Actual]:[Mapping]],2,FALSE)","v":"USA"},{"$f":"VLOOKUP(tblSalaries[[#This Row],[clean Country]]&\"*\",Cont_Table,2,0)","v":"North America"},"4 to 6 hours a day"]
[null,"ID0105","2012-05-26T00:40:52",{"$f":"LEFT(tblSalaries[[#This Row],[Timestamp]],FIND(\".\",tblSalaries[[#This Row],[Timestamp]],1))","v":"41055."},19200,19200,"USD",{"$f":"tblSalaries[[#This Row],[clean Salary (in local currency)]]*VLOOKUP(tblSalaries[[#This Row],[Currency]],tblXrate[],2,FALSE)","v":19200},"Sr Administrative Assistant","Analyst","Mexico",{"$f":"VLOOKUP(tblSalaries[[#This Row],[Where do you work]],tblCountries[[Actual]:[Mapping]],2,FALSE)","v":"Mexico"},{"$f":"VLOOKUP(tblSalaries[[#This Row],[clean Country]]&\"*\",Cont_Table,2,0)","v":"North America"},"4 to 6 hours a day"]
[null,"ID0106","2012-05-26T00:40:57",{"$f":"LEFT(tblSalaries[[#This Row],[Timestamp]],FIND(\".\",tblSalaries[[#This Row],[Timestamp]],1))","v":"41055."},36000,36000,"USD",{"$f":"tblSalaries[[#This Row],[clean Salary (in local currency)]]*VLOOKUP(tblSalaries[[#This Row],[Currency]],tblXrate[],2,FALSE)","v":36000},"Analyst","Analyst","USA",{"$f":"VLOOKUP(tblSalaries[[#This Row],[Where do you work]],tblCountries[[Actual]:[Mapping]],2,FALSE)","v":"USA"},{"$f":"VLOOKUP(tblSalaries[[#This Row],[clean Country]]&\"*\",Cont_Table,2,0)","v":"North America"},"4 to 6 hours a day"]
[null,"ID0107","2012-05-26T00:41:02",{"$f":"LEFT(tblSalaries[[#This Row],[Timestamp]],FIND(\".\",tblSalaries[[#This Row],[Timestamp]],1))","v":"41055."},57400,57400,"USD",{"$f":"tblSalaries[[#This Row],[clean Salary (in local currency)]]*VLOOKUP(tblSalaries[[#This Row],[Currency]],tblXrate[],2,FALSE)","v":57400},"IT Analyst","Analyst","USA",{"$f":"VLOOKUP(tblSalaries[[#This Row],[Where do you work]],tblCountries[[Actual]:[Mapping]],2,FALSE)","v":"USA"},{"$f":"VLOOKUP(tblSalaries[[#This Row],[clean Country]]&\"*\",Cont_Table,2,0)","v":"North America"},"4 to 6 hours a day"]
[null,"ID0108","2012-05-26T00:41:03",{"$f":"LEFT(tblSalaries[[#This Row],[Timestamp]],FIND(\".\",tblSalaries[[#This Row],[Timestamp]],1))","v":"41055."},66000,66000,"USD",{"$f":"tblSalaries[[#This Row],[clean Salary (in local currency)]]*VLOOKUP(tblSalaries[[#This Row],[Currency]],tblXrate[],2,FALSE)","v":66000},"Analyst","Analyst","USA",{"$f":"VLOOKUP(tblSalaries[[#This Row],[Where do you work]],tblCountries[[Actual]:[Mapping]],2,FALSE)","v":"USA"},{"$f":"VLOOKUP(tblSalaries[[#This Row],[clean Country]]&\"*\",Cont_Table,2,0)","v":"North America"},"2 to 3 hours per day"]
[null,"ID0109","2012-05-26T00:41:06",{"$f":"LEFT(tblSalaries[[#This Row],[Timestamp]],FIND(\".\",tblSalaries[[#This Row],[Timestamp]],1))","v":"41055."},35000,35000,"EUR",{"$f":"tblSalaries[[#This Row],[clean Salary (in local currency)]]*VLOOKUP(tblSalaries[[#This Row],[Currency]],tblXrate[],2,FALSE)","v":44463.980364706273},"Project manager","Manager","Greece",{"$f":"VLOOKUP(tblSalaries[[#This Row],[Where do you work]],tblCountries[[Actual]:[Mapping]],2,FALSE)","v":"Greece"},{"$f":"VLOOKUP(tblSalaries[[#This Row],[clean Country]]&\"*\",Cont_Table,2,0)","v":"Europe"},"4 to 6 hours a day"]
[null,"ID0111","2012-05-26T00:41:16",{"$f":"LEFT(tblSalaries[[#This Row],[Timestamp]],FIND(\".\",tblSalaries[[#This Row],[Timestamp]],1))","v":"41055."},"$85,000+",85000,"USD",{"$f":"tblSalaries[[#This Row],[clean Salary (in local currency)]]*VLOOKUP(tblSalaries[[#This Row],[Currency]],tblXrate[],2,FALSE)","v":85000},"Strategic Analyst","Analyst","USA",{"$f":"VLOOKUP(tblSalaries[[#This Row],[Where do you work]],tblCountries[[Actual]:[Mapping]],2,FALSE)","v":"USA"},{"$f":"VLOOKUP(tblSalaries[[#This Row],[clean Country]]&\"*\",Cont_Table,2,0)","v":"North America"},"4 to 6 hours a day"]
[null,"ID0112","2012-05-26T00:41:22",{"$f":"LEFT(tblSalaries[[#This Row],[Timestamp]],FIND(\".\",tblSalaries[[#This Row],[Timestamp]],1))","v":"41055."},50000,50000,"USD",{"$f":"tblSalaries[[#This Row],[clean Salary (in local currency)]]*VLOOKUP(tblSalaries[[#This Row],[Currency]],tblXrate[],2,FALSE)","v":50000},"Transportation Specialist","Specialist","USA",{"$f":"VLOOKUP(tblSalaries[[#This Row],[Where do you work]],tblCountries[[Actual]:[Mapping]],2,FALSE)","v":"USA"},{"$f":"VLOOKUP(tblSalaries[[#This Row],[clean Country]]&\"*\",Cont_Table,2,0)","v":"North America"},"4 to 6 hours a day"]
[null,"ID0113","2012-05-26T00:41:27",{"$f":"LEFT(tblSalaries[[#This Row],[Timestamp]],FIND(\".\",tblSalaries[[#This Row],[Timestamp]],1))","v":"41055."},"$58,000 USD",58000,"USD",{"$f":"tblSalaries[[#This Row],[clean Salary (in local currency)]]*VLOOKUP(tblSalaries[[#This Row],[Currency]],tblXrate[],2,FALSE)","v":58000},"Operations Programs Support","Manager","USA",{"$f":"VLOOKUP(tblSalaries[[#This Row],[Where do you work]],tblCountries[[Actual]:[Mapping]],2,FALSE)","v":"USA"},{"$f":"VLOOKUP(tblSalaries[[#This Row],[clean Country]]&\"*\",Cont_Table,2,0)","v":"North America"},"4 to 6 hours a day"]
[null,"ID0114","2012-05-26T00:41:28",{"$f":"LEFT(tblSalaries[[#This Row],[Timestamp]],FIND(\".\",tblSalaries[[#This Row],[Timestamp]],1))","v":"41055."},37900,37900,"USD",{"$f":"tblSalaries[[#This Row],[clean Salary (in local currency)]]*VLOOKUP(tblSalaries[[#This Row],[Currency]],tblXrate[],2,FALSE)","v":37900},"Accounting Coordinator","Accountant","USA",{"$f":"VLOOKUP(tblSalaries[[#This Row],[Where do you work]],tblCountries[[Actual]:[Mapping]],2,FALSE)","v":"USA"},{"$f":"VLOOKUP(tblSalaries[[#This Row],[clean Country]]&\"*\",Cont_Table,2,0)","v":"North America"},"All the 8 hours baby, all the 8!"]
[null,"ID0115","2012-05-26T00:41:30",{"$f":"LEFT(tblSalaries[[#This Row],[Timestamp]],FIND(\".\",tblSalaries[[#This Row],[Timestamp]],1))","v":"41055."},4000,48000,"USD",{"$f":"tblSalaries[[#This Row],[clean Salary (in local currency)]]*VLOOKUP(tblSalaries[[#This Row],[Currency]],tblXrate[],2,FALSE)","v":48000},"Asst.Manager Finance","Manager","UAE",{"$f":"VLOOKUP(tblSalaries[[#This Row],[Where do you work]],tblCountries[[Actual]:[Mapping]],2,FALSE)","v":"UAE"},{"$f":"VLOOKUP(tblSalaries[[#This Row],[clean Country]]&\"*\",Cont_Table,2,0)","v":"Asia"},"2 to 3 hours per day"]
[null,"ID0116","2012-05-26T00:41:32",{"$f":"LEFT(tblSalaries[[#This Row],[Timestamp]],FIND(\".\",tblSalaries[[#This Row],[Timestamp]],1))","v":"41055."},67000,67000,"USD",{"$f":"tblSalaries[[#This Row],[clean Salary (in local currency)]]*VLOOKUP(tblSalaries[[#This Row],[Currency]],tblXrate[],2,FALSE)","v":67000},"Operations Cost Analyst","Analyst","USA",{"$f":"VLOOKUP(tblSalaries[[#This Row],[Where do you work]],tblCountries[[Actual]:[Mapping]],2,FALSE)","v":"USA"},{"$f":"VLOOKUP(tblSalaries[[#This Row],[clean Country]]&\"*\",Cont_Table,2,0)","v":"North America"},"4 to 6 hours a day"]
[null,"ID0117","2012-05-26T00:41:35",{"$f":"LEFT(tblSalaries[[#This Row],[Timestamp]],FIND(\".\",tblSalaries[[#This Row],[Timestamp]],1))","v":"41055."},85000,85000,"USD",{"$f":"tblSalaries[[#This Row],[clean Salary (in local currency)]]*VLOOKUP(tblSalaries[[#This Row],[Currency]],tblXrate[],2,FALSE)","v":85000},"Financial Controller","Controller","UAE",{"$f":"VLOOKUP(tblSalaries[[#This Row],[Where do you work]],tblCountries[[Actual]:[Mapping]],2,FALSE)","v":"UAE"},{"$f":"VLOOKUP(tblSalaries[[#This Row],[clean Country]]&\"*\",Cont_Table,2,0)","v":"Asia"},"4 to 6 hours a day"]
[null,"ID0118","2012-05-26T00:41:35",{"$f":"LEFT(tblSalaries[[#This Row],[Timestamp]],FIND(\".\",tblSalaries[[#This Row],[Timestamp]],1))","v":"41055."},56160,56160,"USD",{"$f":"tblSalaries[[#This Row],[clean Salary (in local currency)]]*VLOOKUP(tblSalaries[[#This Row],[Currency]],tblXrate[],2,FALSE)","v":56160},"Utilization Analyst","Analyst","USA",{"$f":"VLOOKUP(tblSalaries[[#This Row],[Where do you work]],tblCountries[[Actual]:[Mapping]],2,FALSE)","v":"USA"},{"$f":"VLOOKUP(tblSalaries[[#This Row],[clean Country]]&\"*\",Cont_Table,2,0)","v":"North America"},"4 to 6 hours a day"]
[null,"ID0119","2012-05-26T00:41:38",{"$f":"LEFT(tblSalaries[[#This Row],[Timestamp]],FIND(\".\",tblSalaries[[#This Row],[Timestamp]],1))","v":"41055."},2000,24000,"USD",{"$f":"tblSalaries[[#This Row],[clean Salary (in local currency)]]*VLOOKUP(tblSalaries[[#This Row],[Currency]],tblXrate[],2,FALSE)","v":24000},"Researcher","Manager","Colombia",{"$f":"VLOOKUP(tblSalaries[[#This Row],[Where do you work]],tblCountries[[Actual]:[Mapping]],2,FALSE)","v":"Colombia"},{"$f":"VLOOKUP(tblSalaries[[#This Row],[clean Country]]&\"*\",Cont_Table,2,0)","v":"South America"},"All the 8 hours baby, all the 8!"]
[null,"ID0120","2012-05-26T00:41:38",{"$f":"LEFT(tblSalaries[[#This Row],[Timestamp]],FIND(\".\",tblSalaries[[#This Row],[Timestamp]],1))","v":"41055."},52000,52000,"USD",{"$f":"tblSalaries[[#This Row],[clean Salary (in local currency)]]*VLOOKUP(tblSalaries[[#This Row],[Currency]],tblXrate[],2,FALSE)","v":52000},"Market Analyst","Analyst","USA",{"$f":"VLOOKUP(tblSalaries[[#This Row],[Where do you work]],tblCountries[[Actual]:[Mapping]],2,FALSE)","v":"USA"},{"$f":"VLOOKUP(tblSalaries[[#This Row],[clean Country]]&\"*\",Cont_Table,2,0)","v":"North America"},"Excel ?!? What Excel?"]
[null,"ID0121","2012-05-26T00:41:41",{"$f":"LEFT(tblSalaries[[#This Row],[Timestamp]],FIND(\".\",tblSalaries[[#This Row],[Timestamp]],1))","v":"41055."},60000,60000,"CAD",{"$f":"tblSalaries[[#This Row],[clean Salary (in local currency)]]*VLOOKUP(tblSalaries[[#This Row],[Currency]],tblXrate[],2,FALSE)","v":59001.691381819612},"Web Developer","Analyst","Canada",{"$f":"VLOOKUP(tblSalaries[[#This Row],[Where do you work]],tblCountries[[Actual]:[Mapping]],2,FALSE)","v":"Canada"},{"$f":"VLOOKUP(tblSalaries[[#This Row],[clean Country]]&\"*\",Cont_Table,2,0)","v":"North America"},"Excel ?!? What Excel?"]
[null,"ID0122","2012-05-26T00:41:43",{"$f":"LEFT(tblSalaries[[#This Row],[Timestamp]],FIND(\".\",tblSalaries[[#This Row],[Timestamp]],1))","v":"41055."},70000,70000,"USD",{"$f":"tblSalaries[[#This Row],[clean Salary (in local currency)]]*VLOOKUP(tblSalaries[[#This Row],[Currency]],tblXrate[],2,FALSE)","v":70000},"Sr. Acct","Accountant","USA",{"$f":"VLOOKUP(tblSalaries[[#This Row],[Where do you work]],tblCountries[[Actual]:[Mapping]],2,FALSE)","v":"USA"},{"$f":"VLOOKUP(tblSalaries[[#This Row],[clean Country]]&\"*\",Cont_Table,2,0)","v":"North America"},"All the 8 hours baby, all the 8!"]
[null,"ID0123","2012-05-26T00:41:56",{"$f":"LEFT(tblSalaries[[#This Row],[Timestamp]],FIND(\".\",tblSalaries[[#This Row],[Timestamp]],1))","v":"41055."},50000,50000,"USD",{"$f":"tblSalaries[[#This Row],[clean Salary (in local currency)]]*VLOOKUP(tblSalaries[[#This Row],[Currency]],tblXrate[],2,FALSE)","v":50000},"Information Systems Specialist","Specialist","USA",{"$f":"VLOOKUP(tblSalaries[[#This Row],[Where do you work]],tblCountries[[Actual]:[Mapping]],2,FALSE)","v":"USA"},{"$f":"VLOOKUP(tblSalaries[[#This Row],[clean Country]]&\"*\",Cont_Table,2,0)","v":"North America"},"4 to 6 hours a day"]
[null,"ID0124","2012-05-26T00:41:58",{"$f":"LEFT(tblSalaries[[#This Row],[Timestamp]],FIND(\".\",tblSalaries[[#This Row],[Timestamp]],1))","v":"41055."},2300000,2300000,"INR",{"$f":"tblSalaries[[#This Row],[clean Salary (in local currency)]]*VLOOKUP(tblSalaries[[#This Row],[Currency]],tblXrate[],2,FALSE)","v":40958.208381117904},"Analytics lead","Analyst","India",{"$f":"VLOOKUP(tblSalaries[[#This Row],[Where do you work]],tblCountries[[Actual]:[Mapping]],2,FALSE)","v":"India"},{"$f":"VLOOKUP(tblSalaries[[#This Row],[clean Country]]&\"*\",Cont_Table,2,0)","v":"Asia"},"1 or 2 hours a day"]
[null,"ID0125","2012-05-26T00:42:00",{"$f":"LEFT(tblSalaries[[#This Row],[Timestamp]],FIND(\".\",tblSalaries[[#This Row],[Timestamp]],1))","v":"41055."},80000,80000,"USD",{"$f":"tblSalaries[[#This Row],[clean Salary (in local currency)]]*VLOOKUP(tblSalaries[[#This Row],[Currency]],tblXrate[],2,FALSE)","v":80000},"Financial Analyst","Analyst","USA",{"$f":"VLOOKUP(tblSalaries[[#This Row],[Where do you work]],tblCountries[[Actual]:[Mapping]],2,FALSE)","v":"USA"},{"$f":"VLOOKUP(tblSalaries[[#This Row],[clean Country]]&\"*\",Cont_Table,2,0)","v":"North America"},"4 to 6 hours a day"]
[null,"ID0126","2012-05-26T00:42:08",{"$f":"LEFT(tblSalaries[[#This Row],[Timestamp]],FIND(\".\",tblSalaries[[#This Row],[Timestamp]],1))","v":"41055."},128000,128000,"USD",{"$f":"tblSalaries[[#This Row],[clean Salary (in local currency)]]*VLOOKUP(tblSalaries[[#This Row],[Currency]],tblXrate[],2,FALSE)","v":128000},"Actuary","Manager","USA",{"$f":"VLOOKUP(tblSalaries[[#This Row],[Where do you work]],tblCountries[[Actual]:[Mapping]],2,FALSE)","v":"USA"},{"$f":"VLOOKUP(tblSalaries[[#This Row],[clean Country]]&\"*\",Cont_Table,2,0)","v":"North America"},"All the 8 hours baby, all the 8!"]
[null,"ID0127","2012-05-26T00:42:10",{"$f":"LEFT(tblSalaries[[#This Row],[Timestamp]],FIND(\".\",tblSalaries[[#This Row],[Timestamp]],1))","v":"41055."},"US $44,000",44000,"USD",{"$f":"tblSalaries[[#This Row],[clean Salary (in local currency)]]*VLOOKUP(tblSalaries[[#This Row],[Currency]],tblXrate[],2,FALSE)","v":44000},"School Tech Coordinator","Manager","USA",{"$f":"VLOOKUP(tblSalaries[[#This Row],[Where do you work]],tblCountries[[Actual]:[Mapping]],2,FALSE)","v":"USA"},{"$f":"VLOOKUP(tblSalaries[[#This Row],[clean Country]]&\"*\",Cont_Table,2,0)","v":"North America"},"1 or 2 hours a day"]
[null,"ID0128","2012-05-26T00:42:11",{"$f":"LEFT(tblSalaries[[#This Row],[Timestamp]],FIND(\".\",tblSalaries[[#This Row],[Timestamp]],1))","v":"41055."},65000,65000,"USD",{"$f":"tblSalaries[[#This Row],[clean Salary (in local currency)]]*VLOOKUP(tblSalaries[[#This Row],[Currency]],tblXrate[],2,FALSE)","v":65000},"sr accountant","Accountant","USA",{"$f":"VLOOKUP(tblSalaries[[#This Row],[Where do you work]],tblCountries[[Actual]:[Mapping]],2,FALSE)","v":"USA"},{"$f":"VLOOKUP(tblSalaries[[#This Row],[clean Country]]&\"*\",Cont_Table,2,0)","v":"North America"},"All the 8 hours baby, all the 8!"]
[null,"ID0129","2012-05-26T00:42:32",{"$f":"LEFT(tblSalaries[[#This Row],[Timestamp]],FIND(\".\",tblSalaries[[#This Row],[Timestamp]],1))","v":"41055."},"36000 usd",36000,"USD",{"$f":"tblSalaries[[#This Row],[clean Salary (in local currency)]]*VLOOKUP(tblSalaries[[#This Row],[Currency]],tblXrate[],2,FALSE)","v":36000},"senior accountant","Accountant","Turkey",{"$f":"VLOOKUP(tblSalaries[[#This Row],[Where do you work]],tblCountries[[Actual]:[Mapping]],2,FALSE)","v":"Turkey"},{"$f":"VLOOKUP(tblSalaries[[#This Row],[clean Country]]&\"*\",Cont_Table,2,0)","v":"Asia"},"4 to 6 hours a day"]
[null,"ID0130","2012-05-26T00:42:34",{"$f":"LEFT(tblSalaries[[#This Row],[Timestamp]],FIND(\".\",tblSalaries[[#This Row],[Timestamp]],1))","v":"41055."},1000,12000,"USD",{"$f":"tblSalaries[[#This Row],[clean Salary (in local currency)]]*VLOOKUP(tblSalaries[[#This Row],[Currency]],tblXrate[],2,FALSE)","v":12000},"Freelance","Consultant","Pakistan",{"$f":"VLOOKUP(tblSalaries[[#This Row],[Where do you work]],tblCountries[[Actual]:[Mapping]],2,FALSE)","v":"Pakistan"},{"$f":"VLOOKUP(tblSalaries[[#This Row],[clean Country]]&\"*\",Cont_Table,2,0)","v":"Asia"},"1 or 2 hours a day"]
[null,"ID0131","2012-05-26T00:42:41",{"$f":"LEFT(tblSalaries[[#This Row],[Timestamp]],FIND(\".\",tblSalaries[[#This Row],[Timestamp]],1))","v":"41055."},28159.200000000001,28159,"GBP",{"$f":"tblSalaries[[#This Row],[clean Salary (in local currency)]]*VLOOKUP(tblSalaries[[#This Row],[Currency]],tblXrate[],2,FALSE)","v":44383.603963142654},"Data Analyst","Analyst","UK",{"$f":"VLOOKUP(tblSalaries[[#This Row],[Where do you work]],tblCountries[[Actual]:[Mapping]],2,FALSE)","v":"UK"},{"$f":"VLOOKUP(tblSalaries[[#This Row],[clean Country]]&\"*\",Cont_Table,2,0)","v":"Europe"},"All the 8 hours baby, all the 8!"]
[null,"ID0132","2012-05-26T00:42:46",{"$f":"LEFT(tblSalaries[[#This Row],[Timestamp]],FIND(\".\",tblSalaries[[#This Row],[Timestamp]],1))","v":"41055."},45000,45000,"USD",{"$f":"tblSalaries[[#This Row],[clean Salary (in local currency)]]*VLOOKUP(tblSalaries[[#This Row],[Currency]],tblXrate[],2,FALSE)","v":45000},"DBA","Analyst","USA",{"$f":"VLOOKUP(tblSalaries[[#This Row],[Where do you work]],tblCountries[[Actual]:[Mapping]],2,FALSE)","v":"USA"},{"$f":"VLOOKUP(tblSalaries[[#This Row],[clean Country]]&\"*\",Cont_Table,2,0)","v":"North America"},"4 to 6 hours a day"]
[null,"ID0133","2012-05-26T00:42:58",{"$f":"LEFT(tblSalaries[[#This Row],[Timestamp]],FIND(\".\",tblSalaries[[#This Row],[Timestamp]],1))","v":"41055."},54000,54000,"USD",{"$f":"tblSalaries[[#This Row],[clean Salary (in local currency)]]*VLOOKUP(tblSalaries[[#This Row],[Currency]],tblXrate[],2,FALSE)","v":54000},"Research Analyst","Analyst","USA",{"$f":"VLOOKUP(tblSalaries[[#This Row],[Where do you work]],tblCountries[[Actual]:[Mapping]],2,FALSE)","v":"USA"},{"$f":"VLOOKUP(tblSalaries[[#This Row],[clean Country]]&\"*\",Cont_Table,2,0)","v":"North America"},"2 to 3 hours per day"]
[null,"ID0134","2012-05-26T00:43:03",{"$f":"LEFT(tblSalaries[[#This Row],[Timestamp]],FIND(\".\",tblSalaries[[#This Row],[Timestamp]],1))","v":"41055."},70000,70000,"GBP",{"$f":"tblSalaries[[#This Row],[clean Salary (in local currency)]]*VLOOKUP(tblSalaries[[#This Row],[Currency]],tblXrate[],2,FALSE)","v":110332.47904470989},"Project Manager","Manager","UK",{"$f":"VLOOKUP(tblSalaries[[#This Row],[Where do you work]],tblCountries[[Actual]:[Mapping]],2,FALSE)","v":"UK"},{"$f":"VLOOKUP(tblSalaries[[#This Row],[clean Country]]&\"*\",Cont_Table,2,0)","v":"Europe"},"2 to 3 hours per day"]
[null,"ID0135","2012-05-26T00:43:07",{"$f":"LEFT(tblSalaries[[#This Row],[Timestamp]],FIND(\".\",tblSalaries[[#This Row],[Timestamp]],1))","v":"41055."},71000,71000,"USD",{"$f":"tblSalaries[[#This Row],[clean Salary (in local currency)]]*VLOOKUP(tblSalaries[[#This Row],[Currency]],tblXrate[],2,FALSE)","v":71000},"Market Research Analyst","Analyst","USA",{"$f":"VLOOKUP(tblSalaries[[#This Row],[Where do you work]],tblCountries[[Actual]:[Mapping]],2,FALSE)","v":"USA"},{"$f":"VLOOKUP(tblSalaries[[#This Row],[clean Country]]&\"*\",Cont_Table,2,0)","v":"North America"},"4 to 6 hours a day"]
[null,"ID0136","2012-05-26T00:43:08",{"$f":"LEFT(tblSalaries[[#This Row],[Timestamp]],FIND(\".\",tblSalaries[[#This Row],[Timestamp]],1))","v":"41055."},800000,800000,"INR",{"$f":"tblSalaries[[#This Row],[clean Salary (in local currency)]]*VLOOKUP(tblSalaries[[#This Row],[Currency]],tblXrate[],2,FALSE)","v":14246.333349954055},"Manager : Accounts","Manager","India",{"$f":"VLOOKUP(tblSalaries[[#This Row],[Where do you work]],tblCountries[[Actual]:[Mapping]],2,FALSE)","v":"India"},{"$f":"VLOOKUP(tblSalaries[[#This Row],[clean Country]]&\"*\",Cont_Table,2,0)","v":"Asia"},"2 to 3 hours per day"]
[null,"ID0137","2012-05-26T00:43:17",{"$f":"LEFT(tblSalaries[[#This Row],[Timestamp]],FIND(\".\",tblSalaries[[#This Row],[Timestamp]],1))","v":"41055."},70000,70000,"CAD",{"$f":"tblSalaries[[#This Row],[clean Salary (in local currency)]]*VLOOKUP(tblSalaries[[#This Row],[Currency]],tblXrate[],2,FALSE)","v":68835.306612122877},"project manager","Manager","canada",{"$f":"VLOOKUP(tblSalaries[[#This Row],[Where do you work]],tblCountries[[Actual]:[Mapping]],2,FALSE)","v":"Canada"},{"$f":"VLOOKUP(tblSalaries[[#This Row],[clean Country]]&\"*\",Cont_Table,2,0)","v":"North America"},"4 to 6 hours a day"]
[null,"ID0138","2012-05-26T00:43:25",{"$f":"LEFT(tblSalaries[[#This Row],[Timestamp]],FIND(\".\",tblSalaries[[#This Row],[Timestamp]],1))","v":"41055."},50000,50000,"CAD",{"$f":"tblSalaries[[#This Row],[clean Salary (in local currency)]]*VLOOKUP(tblSalaries[[#This Row],[Currency]],tblXrate[],2,FALSE)","v":49168.076151516347},"Inventory manger","Manager","Canada",{"$f":"VLOOKUP(tblSalaries[[#This Row],[Where do you work]],tblCountries[[Actual]:[Mapping]],2,FALSE)","v":"Canada"},{"$f":"VLOOKUP(tblSalaries[[#This Row],[clean Country]]&\"*\",Cont_Table,2,0)","v":"North America"},"4 to 6 hours a day"]
[null,"ID0139","2012-05-26T00:43:27",{"$f":"LEFT(tblSalaries[[#This Row],[Timestamp]],FIND(\".\",tblSalaries[[#This Row],[Timestamp]],1))","v":"41055."},40000,40000,"USD",{"$f":"tblSalaries[[#This Row],[clean Salary (in local currency)]]*VLOOKUP(tblSalaries[[#This Row],[Currency]],tblXrate[],2,FALSE)","v":40000},"Business Analyst","Analyst","USA",{"$f":"VLOOKUP(tblSalaries[[#This Row],[Where do you work]],tblCountries[[Actual]:[Mapping]],2,FALSE)","v":"USA"},{"$f":"VLOOKUP(tblSalaries[[#This Row],[clean Country]]&\"*\",Cont_Table,2,0)","v":"North America"},"4 to 6 hours a day"]
[null,"ID0140","2012-05-26T00:43:34",{"$f":"LEFT(tblSalaries[[#This Row],[Timestamp]],FIND(\".\",tblSalaries[[#This Row],[Timestamp]],1))","v":"41055."},"$62,000 CND",62000,"CAD",{"$f":"tblSalaries[[#This Row],[clean Salary (in local currency)]]*VLOOKUP(tblSalaries[[#This Row],[Currency]],tblXrate[],2,FALSE)","v":60968.414427880263},"Process Technician","Analyst","Canada",{"$f":"VLOOKUP(tblSalaries[[#This Row],[Where do you work]],tblCountries[[Actual]:[Mapping]],2,FALSE)","v":"Canada"},{"$f":"VLOOKUP(tblSalaries[[#This Row],[clean Country]]&\"*\",Cont_Table,2,0)","v":"North America"},"2 to 3 hours per day"]
[null,"ID0141","2012-05-26T00:43:36",{"$f":"LEFT(tblSalaries[[#This Row],[Timestamp]],FIND(\".\",tblSalaries[[#This Row],[Timestamp]],1))","v":"41055."},"28000rs",336000,"INR",{"$f":"tblSalaries[[#This Row],[clean Salary (in local currency)]]*VLOOKUP(tblSalaries[[#This Row],[Currency]],tblXrate[],2,FALSE)","v":5983.4600069807029},"MIS Team Leader","Reporting","India",{"$f":"VLOOKUP(tblSalaries[[#This Row],[Where do you work]],tblCountries[[Actual]:[Mapping]],2,FALSE)","v":"India"},{"$f":"VLOOKUP(tblSalaries[[#This Row],[clean Country]]&\"*\",Cont_Table,2,0)","v":"Asia"},"4 to 6 hours a day"]
[null,"ID0142","2012-05-26T00:43:36",{"$f":"LEFT(tblSalaries[[#This Row],[Timestamp]],FIND(\".\",tblSalaries[[#This Row],[Timestamp]],1))","v":"41055."},53000,53000,"USD",{"$f":"tblSalaries[[#This Row],[clean Salary (in local currency)]]*VLOOKUP(tblSalaries[[#This Row],[Currency]],tblXrate[],2,FALSE)","v":53000},"Data Analyst","Analyst","USA",{"$f":"VLOOKUP(tblSalaries[[#This Row],[Where do you work]],tblCountries[[Actual]:[Mapping]],2,FALSE)","v":"USA"},{"$f":"VLOOKUP(tblSalaries[[#This Row],[clean Country]]&\"*\",Cont_Table,2,0)","v":"North America"},"4 to 6 hours a day"]
[null,"ID0143","2012-05-26T00:43:49",{"$f":"LEFT(tblSalaries[[#This Row],[Timestamp]],FIND(\".\",tblSalaries[[#This Row],[Timestamp]],1))","v":"41055."},104000,104000,"USD",{"$f":"tblSalaries[[#This Row],[clean Salary (in local currency)]]*VLOOKUP(tblSalaries[[#This Row],[Currency]],tblXrate[],2,FALSE)","v":104000},"Finance Director","CXO or Top Mgmt.","USA",{"$f":"VLOOKUP(tblSalaries[[#This Row],[Where do you work]],tblCountries[[Actual]:[Mapping]],2,FALSE)","v":"USA"},{"$f":"VLOOKUP(tblSalaries[[#This Row],[clean Country]]&\"*\",Cont_Table,2,0)","v":"North America"},"2 to 3 hours per day"]
[null,"ID0144","2012-05-26T00:44:02",{"$f":"LEFT(tblSalaries[[#This Row],[Timestamp]],FIND(\".\",tblSalaries[[#This Row],[Timestamp]],1))","v":"41055."},57000,57000,"USD",{"$f":"tblSalaries[[#This Row],[clean Salary (in local currency)]]*VLOOKUP(tblSalaries[[#This Row],[Currency]],tblXrate[],2,FALSE)","v":57000},"Industrial Engineer","Engineer","USA",{"$f":"VLOOKUP(tblSalaries[[#This Row],[Where do you work]],tblCountries[[Actual]:[Mapping]],2,FALSE)","v":"USA"},{"$f":"VLOOKUP(tblSalaries[[#This Row],[clean Country]]&\"*\",Cont_Table,2,0)","v":"North America"},"4 to 6 hours a day"]
[null,"ID0145","2012-05-26T00:44:09",{"$f":"LEFT(tblSalaries[[#This Row],[Timestamp]],FIND(\".\",tblSalaries[[#This Row],[Timestamp]],1))","v":"41055."},45000,45000,"USD",{"$f":"tblSalaries[[#This Row],[clean Salary (in local currency)]]*VLOOKUP(tblSalaries[[#This Row],[Currency]],tblXrate[],2,FALSE)","v":45000},"data analyst","Analyst","USA",{"$f":"VLOOKUP(tblSalaries[[#This Row],[Where do you work]],tblCountries[[Actual]:[Mapping]],2,FALSE)","v":"USA"},{"$f":"VLOOKUP(tblSalaries[[#This Row],[clean Country]]&\"*\",Cont_Table,2,0)","v":"North America"},"2 to 3 hours per day"]
[null,"ID0146","2012-05-26T00:44:15",{"$f":"LEFT(tblSalaries[[#This Row],[Timestamp]],FIND(\".\",tblSalaries[[#This Row],[Timestamp]],1))","v":"41055."},92000,92000,"USD",{"$f":"tblSalaries[[#This Row],[clean Salary (in local currency)]]*VLOOKUP(tblSalaries[[#This Row],[Currency]],tblXrate[],2,FALSE)","v":92000},"Senior Financial & Systems Analyst","Analyst","USA",{"$f":"VLOOKUP(tblSalaries[[#This Row],[Where do you work]],tblCountries[[Actual]:[Mapping]],2,FALSE)","v":"USA"},{"$f":"VLOOKUP(tblSalaries[[#This Row],[clean Country]]&\"*\",Cont_Table,2,0)","v":"North America"},"4 to 6 hours a day"]
[null,"ID0147","2012-05-26T00:44:18",{"$f":"LEFT(tblSalaries[[#This Row],[Timestamp]],FIND(\".\",tblSalaries[[#This Row],[Timestamp]],1))","v":"41055."},88000,88000,"USD",{"$f":"tblSalaries[[#This Row],[clean Salary (in local currency)]]*VLOOKUP(tblSalaries[[#This Row],[Currency]],tblXrate[],2,FALSE)","v":88000},"project manager - metrics","Manager","USA",{"$f":"VLOOKUP(tblSalaries[[#This Row],[Where do you work]],tblCountries[[Actual]:[Mapping]],2,FALSE)","v":"USA"},{"$f":"VLOOKUP(tblSalaries[[#This Row],[clean Country]]&\"*\",Cont_Table,2,0)","v":"North America"},"4 to 6 hours a day"]
[null,"ID0148","2012-05-26T00:44:20",{"$f":"LEFT(tblSalaries[[#This Row],[Timestamp]],FIND(\".\",tblSalaries[[#This Row],[Timestamp]],1))","v":"41055."},80000,80000,"USD",{"$f":"tblSalaries[[#This Row],[clean Salary (in local currency)]]*VLOOKUP(tblSalaries[[#This Row],[Currency]],tblXrate[],2,FALSE)","v":80000},"Informatics Research Analyst","Analyst","USA",{"$f":"VLOOKUP(tblSalaries[[#This Row],[Where do you work]],tblCountries[[Actual]:[Mapping]],2,FALSE)","v":"USA"},{"$f":"VLOOKUP(tblSalaries[[#This Row],[clean Country]]&\"*\",Cont_Table,2,0)","v":"North America"},"2 to 3 hours per day"]
[null,"ID0149","2012-05-26T00:44:22",{"$f":"LEFT(tblSalaries[[#This Row],[Timestamp]],FIND(\".\",tblSalaries[[#This Row],[Timestamp]],1))","v":"41055."},69000,69000,"USD",{"$f":"tblSalaries[[#This Row],[clean Salary (in local currency)]]*VLOOKUP(tblSalaries[[#This Row],[Currency]],tblXrate[],2,FALSE)","v":69000},"Business Technical Consultant","Consultant","USA",{"$f":"VLOOKUP(tblSalaries[[#This Row],[Where do you work]],tblCountries[[Actual]:[Mapping]],2,FALSE)","v":"USA"},{"$f":"VLOOKUP(tblSalaries[[#This Row],[clean Country]]&\"*\",Cont_Table,2,0)","v":"North America"},"4 to 6 hours a day"]
[null,"ID0150","2012-05-26T00:44:23",{"$f":"LEFT(tblSalaries[[#This Row],[Timestamp]],FIND(\".\",tblSalaries[[#This Row],[Timestamp]],1))","v":"41055."},50000,50000,"USD",{"$f":"tblSalaries[[#This Row],[clean Salary (in local currency)]]*VLOOKUP(tblSalaries[[#This Row],[Currency]],tblXrate[],2,FALSE)","v":50000},"Business Operations Reporting Analyst","Analyst","Mexico",{"$f":"VLOOKUP(tblSalaries[[#This Row],[Where do you work]],tblCountries[[Actual]:[Mapping]],2,FALSE)","v":"Mexico"},{"$f":"VLOOKUP(tblSalaries[[#This Row],[clean Country]]&\"*\",Cont_Table,2,0)","v":"North America"},"All the 8 hours baby, all the 8!"]
[null,"ID0151","2012-05-26T00:44:40",{"$f":"LEFT(tblSalaries[[#This Row],[Timestamp]],FIND(\".\",tblSalaries[[#This Row],[Timestamp]],1))","v":"41055."},35000,35000,"USD",{"$f":"tblSalaries[[#This Row],[clean Salary (in local currency)]]*VLOOKUP(tblSalaries[[#This Row],[Currency]],tblXrate[],2,FALSE)","v":35000},"Program Services Coordinator","Manager","USA",{"$f":"VLOOKUP(tblSalaries[[#This Row],[Where do you work]],tblCountries[[Actual]:[Mapping]],2,FALSE)","v":"USA"},{"$f":"VLOOKUP(tblSalaries[[#This Row],[clean Country]]&\"*\",Cont_Table,2,0)","v":"North America"},"2 to 3 hours per day"]
[null,"ID0152","2012-05-26T00:44:59",{"$f":"LEFT(tblSalaries[[#This Row],[Timestamp]],FIND(\".\",tblSalaries[[#This Row],[Timestamp]],1))","v":"41055."},96000,96000,"USD",{"$f":"tblSalaries[[#This Row],[clean Salary (in local currency)]]*VLOOKUP(tblSalaries[[#This Row],[Currency]],tblXrate[],2,FALSE)","v":96000},"Specialist - Finance Planning and Analysis","Analyst","USA",{"$f":"VLOOKUP(tblSalaries[[#This Row],[Where do you work]],tblCountries[[Actual]:[Mapping]],2,FALSE)","v":"USA"},{"$f":"VLOOKUP(tblSalaries[[#This Row],[clean Country]]&\"*\",Cont_Table,2,0)","v":"North America"},"4 to 6 hours a day"]
[null,"ID0153","2012-05-26T00:45:00",{"$f":"LEFT(tblSalaries[[#This Row],[Timestamp]],FIND(\".\",tblSalaries[[#This Row],[Timestamp]],1))","v":"41055."},65000,65000,"USD",{"$f":"tblSalaries[[#This Row],[clean Salary (in local currency)]]*VLOOKUP(tblSalaries[[#This Row],[Currency]],tblXrate[],2,FALSE)","v":65000},"Sr Accountant","Accountant","USA",{"$f":"VLOOKUP(tblSalaries[[#This Row],[Where do you work]],tblCountries[[Actual]:[Mapping]],2,FALSE)","v":"USA"},{"$f":"VLOOKUP(tblSalaries[[#This Row],[clean Country]]&\"*\",Cont_Table,2,0)","v":"North America"},"All the 8 hours baby, all the 8!"]
[null,"ID0154","2012-05-26T00:45:06",{"$f":"LEFT(tblSalaries[[#This Row],[Timestamp]],FIND(\".\",tblSalaries[[#This Row],[Timestamp]],1))","v":"41055."},37440,37440,"USD",{"$f":"tblSalaries[[#This Row],[clean Salary (in local currency)]]*VLOOKUP(tblSalaries[[#This Row],[Currency]],tblXrate[],2,FALSE)","v":37440},"sales analyst","Analyst","USA",{"$f":"VLOOKUP(tblSalaries[[#This Row],[Where do you work]],tblCountries[[Actual]:[Mapping]],2,FALSE)","v":"USA"},{"$f":"VLOOKUP(tblSalaries[[#This Row],[clean Country]]&\"*\",Cont_Table,2,0)","v":"North America"},"All the 8 hours baby, all the 8!"]
[null,"ID0155","2012-05-26T00:45:11",{"$f":"LEFT(tblSalaries[[#This Row],[Timestamp]],FIND(\".\",tblSalaries[[#This Row],[Timestamp]],1))","v":"41055."},15500,15500,"USD",{"$f":"tblSalaries[[#This Row],[clean Salary (in local currency)]]*VLOOKUP(tblSalaries[[#This Row],[Currency]],tblXrate[],2,FALSE)","v":15500},"Proces auditor","Accountant","Mexico",{"$f":"VLOOKUP(tblSalaries[[#This Row],[Where do you work]],tblCountries[[Actual]:[Mapping]],2,FALSE)","v":"Mexico"},{"$f":"VLOOKUP(tblSalaries[[#This Row],[clean Country]]&\"*\",Cont_Table,2,0)","v":"North America"},"All the 8 hours baby, all the 8!"]
[null,"ID0156","2012-05-26T00:45:17",{"$f":"LEFT(tblSalaries[[#This Row],[Timestamp]],FIND(\".\",tblSalaries[[#This Row],[Timestamp]],1))","v":"41055."},"90000 USD",90000,"USD",{"$f":"tblSalaries[[#This Row],[clean Salary (in local currency)]]*VLOOKUP(tblSalaries[[#This Row],[Currency]],tblXrate[],2,FALSE)","v":90000},"Senior Data Quality Analyst","Analyst","USA",{"$f":"VLOOKUP(tblSalaries[[#This Row],[Where do you work]],tblCountries[[Actual]:[Mapping]],2,FALSE)","v":"USA"},{"$f":"VLOOKUP(tblSalaries[[#This Row],[clean Country]]&\"*\",Cont_Table,2,0)","v":"North America"},"2 to 3 hours per day"]
[null,"ID0157","2012-05-26T00:45:46",{"$f":"LEFT(tblSalaries[[#This Row],[Timestamp]],FIND(\".\",tblSalaries[[#This Row],[Timestamp]],1))","v":"41055."},66500,66500,"USD",{"$f":"tblSalaries[[#This Row],[clean Salary (in local currency)]]*VLOOKUP(tblSalaries[[#This Row],[Currency]],tblXrate[],2,FALSE)","v":66500},"Sr Business Analyst","Analyst","USA",{"$f":"VLOOKUP(tblSalaries[[#This Row],[Where do you work]],tblCountries[[Actual]:[Mapping]],2,FALSE)","v":"USA"},{"$f":"VLOOKUP(tblSalaries[[#This Row],[clean Country]]&\"*\",Cont_Table,2,0)","v":"North America"},"All the 8 hours baby, all the 8!"]
[null,"ID0158","2012-05-26T00:45:49",{"$f":"LEFT(tblSalaries[[#This Row],[Timestamp]],FIND(\".\",tblSalaries[[#This Row],[Timestamp]],1))","v":"41055."},100000,100000,"USD",{"$f":"tblSalaries[[#This Row],[clean Salary (in local currency)]]*VLOOKUP(tblSalaries[[#This Row],[Currency]],tblXrate[],2,FALSE)","v":100000},"COST ACCOUNTANT","Accountant","USA",{"$f":"VLOOKUP(tblSalaries[[#This Row],[Where do you work]],tblCountries[[Actual]:[Mapping]],2,FALSE)","v":"USA"},{"$f":"VLOOKUP(tblSalaries[[#This Row],[clean Country]]&\"*\",Cont_Table,2,0)","v":"North America"},"All the 8 hours baby, all the 8!"]
[null,"ID0159","2012-05-26T00:45:51",{"$f":"LEFT(tblSalaries[[#This Row],[Timestamp]],FIND(\".\",tblSalaries[[#This Row],[Timestamp]],1))","v":"41055."},"Â£32250",32250,"GBP",{"$f":"tblSalaries[[#This Row],[clean Salary (in local currency)]]*VLOOKUP(tblSalaries[[#This Row],[Currency]],tblXrate[],2,FALSE)","v":50831.74927416991},"project Support","Manager","UK",{"$f":"VLOOKUP(tblSalaries[[#This Row],[Where do you work]],tblCountries[[Actual]:[Mapping]],2,FALSE)","v":"UK"},{"$f":"VLOOKUP(tblSalaries[[#This Row],[clean Country]]&\"*\",Cont_Table,2,0)","v":"Europe"},"4 to 6 hours a day"]
[null,"ID0160","2012-05-26T00:45:53",{"$f":"LEFT(tblSalaries[[#This Row],[Timestamp]],FIND(\".\",tblSalaries[[#This Row],[Timestamp]],1))","v":"41055."},420000,420000,"INR",{"$f":"tblSalaries[[#This Row],[clean Salary (in local currency)]]*VLOOKUP(tblSalaries[[#This Row],[Currency]],tblXrate[],2,FALSE)","v":7479.3250087258784},"managerial","Manager","India",{"$f":"VLOOKUP(tblSalaries[[#This Row],[Where do you work]],tblCountries[[Actual]:[Mapping]],2,FALSE)","v":"India"},{"$f":"VLOOKUP(tblSalaries[[#This Row],[clean Country]]&\"*\",Cont_Table,2,0)","v":"Asia"},"1 or 2 hours a day"]
[null,"ID0161","2012-05-26T00:46:00",{"$f":"LEFT(tblSalaries[[#This Row],[Timestamp]],FIND(\".\",tblSalaries[[#This Row],[Timestamp]],1))","v":"41055."},75000,75000,"USD",{"$f":"tblSalaries[[#This Row],[clean Salary (in local currency)]]*VLOOKUP(tblSalaries[[#This Row],[Currency]],tblXrate[],2,FALSE)","v":75000},"Program Analyst","Analyst","USA",{"$f":"VLOOKUP(tblSalaries[[#This Row],[Where do you work]],tblCountries[[Actual]:[Mapping]],2,FALSE)","v":"USA"},{"$f":"VLOOKUP(tblSalaries[[#This Row],[clean Country]]&\"*\",Cont_Table,2,0)","v":"North America"},"1 or 2 hours a day"]
[null,"ID0162","2012-05-26T00:46:25",{"$f":"LEFT(tblSalaries[[#This Row],[Timestamp]],FIND(\".\",tblSalaries[[#This Row],[Timestamp]],1))","v":"41055."},58,58000,"USD",{"$f":"tblSalaries[[#This Row],[clean Salary (in local currency)]]*VLOOKUP(tblSalaries[[#This Row],[Currency]],tblXrate[],2,FALSE)","v":58000},"Team Lead - Computer Discounts","Manager","Canada",{"$f":"VLOOKUP(tblSalaries[[#This Row],[Where do you work]],tblCountries[[Actual]:[Mapping]],2,FALSE)","v":"Canada"},{"$f":"VLOOKUP(tblSalaries[[#This Row],[clean Country]]&\"*\",Cont_Table,2,0)","v":"North America"},"1 or 2 hours a day"]
[null,"ID0163","2012-05-26T00:46:29",{"$f":"LEFT(tblSalaries[[#This Row],[Timestamp]],FIND(\".\",tblSalaries[[#This Row],[Timestamp]],1))","v":"41055."},55000,55000,"USD",{"$f":"tblSalaries[[#This Row],[clean Salary (in local currency)]]*VLOOKUP(tblSalaries[[#This Row],[Currency]],tblXrate[],2,FALSE)","v":55000},"Change Architect","Manager","USA",{"$f":"VLOOKUP(tblSalaries[[#This Row],[Where do you work]],tblCountries[[Actual]:[Mapping]],2,FALSE)","v":"USA"},{"$f":"VLOOKUP(tblSalaries[[#This Row],[clean Country]]&\"*\",Cont_Table,2,0)","v":"North America"},"2 to 3 hours per day"]
[null,"ID0164","2012-05-26T00:47:42",{"$f":"LEFT(tblSalaries[[#This Row],[Timestamp]],FIND(\".\",tblSalaries[[#This Row],[Timestamp]],1))","v":"41055."},60000,60000,"USD",{"$f":"tblSalaries[[#This Row],[clean Salary (in local currency)]]*VLOOKUP(tblSalaries[[#This Row],[Currency]],tblXrate[],2,FALSE)","v":60000},"Telecom Technician","Analyst","USA",{"$f":"VLOOKUP(tblSalaries[[#This Row],[Where do you work]],tblCountries[[Actual]:[Mapping]],2,FALSE)","v":"USA"},{"$f":"VLOOKUP(tblSalaries[[#This Row],[clean Country]]&\"*\",Cont_Table,2,0)","v":"North America"},"4 to 6 hours a day"]
[null,"ID0165","2012-05-26T00:47:45",{"$f":"LEFT(tblSalaries[[#This Row],[Timestamp]],FIND(\".\",tblSalaries[[#This Row],[Timestamp]],1))","v":"41055."},"Rs. 1300000",1300000,"INR",{"$f":"tblSalaries[[#This Row],[clean Salary (in local currency)]]*VLOOKUP(tblSalaries[[#This Row],[Currency]],tblXrate[],2,FALSE)","v":23150.291693675339},"Manager","Manager","India",{"$f":"VLOOKUP(tblSalaries[[#This Row],[Where do you work]],tblCountries[[Actual]:[Mapping]],2,FALSE)","v":"India"},{"$f":"VLOOKUP(tblSalaries[[#This Row],[clean Country]]&\"*\",Cont_Table,2,0)","v":"Asia"},"4 to 6 hours a day"]
[null,"ID0166","2012-05-26T00:47:50",{"$f":"LEFT(tblSalaries[[#This Row],[Timestamp]],FIND(\".\",tblSalaries[[#This Row],[Timestamp]],1))","v":"41055."},107000,107000,"CAD",{"$f":"tblSalaries[[#This Row],[clean Salary (in local currency)]]*VLOOKUP(tblSalaries[[#This Row],[Currency]],tblXrate[],2,FALSE)","v":105219.68296424497},"Manager, Asset Optimization","Manager","Canada",{"$f":"VLOOKUP(tblSalaries[[#This Row],[Where do you work]],tblCountries[[Actual]:[Mapping]],2,FALSE)","v":"Canada"},{"$f":"VLOOKUP(tblSalaries[[#This Row],[clean Country]]&\"*\",Cont_Table,2,0)","v":"North America"},"2 to 3 hours per day"]
[null,"ID0167","2012-05-26T00:47:57",{"$f":"LEFT(tblSalaries[[#This Row],[Timestamp]],FIND(\".\",tblSalaries[[#This Row],[Timestamp]],1))","v":"41055."},145000,145000,"USD",{"$f":"tblSalaries[[#This Row],[clean Salary (in local currency)]]*VLOOKUP(tblSalaries[[#This Row],[Currency]],tblXrate[],2,FALSE)","v":145000},"Financialcontroller","Controller","Switzerland",{"$f":"VLOOKUP(tblSalaries[[#This Row],[Where do you work]],tblCountries[[Actual]:[Mapping]],2,FALSE)","v":"Switzerland"},{"$f":"VLOOKUP(tblSalaries[[#This Row],[clean Country]]&\"*\",Cont_Table,2,0)","v":"Europe"},"All the 8 hours baby, all the 8!"]
[null,"ID0168","2012-05-26T00:48:04",{"$f":"LEFT(tblSalaries[[#This Row],[Timestamp]],FIND(\".\",tblSalaries[[#This Row],[Timestamp]],1))","v":"41055."},22880,22880,"USD",{"$f":"tblSalaries[[#This Row],[clean Salary (in local currency)]]*VLOOKUP(tblSalaries[[#This Row],[Currency]],tblXrate[],2,FALSE)","v":22880},"Accounting ","Accountant","USA",{"$f":"VLOOKUP(tblSalaries[[#This Row],[Where do you work]],tblCountries[[Actual]:[Mapping]],2,FALSE)","v":"USA"},{"$f":"VLOOKUP(tblSalaries[[#This Row],[clean Country]]&\"*\",Cont_Table,2,0)","v":"North America"},"4 to 6 hours a day"]
[null,"ID0169","2012-05-26T00:48:07",{"$f":"LEFT(tblSalaries[[#This Row],[Timestamp]],FIND(\".\",tblSalaries[[#This Row],[Timestamp]],1))","v":"41055."},80000,80000,"USD",{"$f":"tblSalaries[[#This Row],[clean Salary (in local currency)]]*VLOOKUP(tblSalaries[[#This Row],[Currency]],tblXrate[],2,FALSE)","v":80000},"Consultant, HR Services & Governance","Consultant","USA",{"$f":"VLOOKUP(tblSalaries[[#This Row],[Where do you work]],tblCountries[[Actual]:[Mapping]],2,FALSE)","v":"USA"},{"$f":"VLOOKUP(tblSalaries[[#This Row],[clean Country]]&\"*\",Cont_Table,2,0)","v":"North America"},"4 to 6 hours a day"]
[null,"ID0170","2012-05-26T00:48:11",{"$f":"LEFT(tblSalaries[[#This Row],[Timestamp]],FIND(\".\",tblSalaries[[#This Row],[Timestamp]],1))","v":"41055."},"Rs 5 lakh",500000,"INR",{"$f":"tblSalaries[[#This Row],[clean Salary (in local currency)]]*VLOOKUP(tblSalaries[[#This Row],[Currency]],tblXrate[],2,FALSE)","v":8903.9583437212841},"QA Executive","Analyst","India",{"$f":"VLOOKUP(tblSalaries[[#This Row],[Where do you work]],tblCountries[[Actual]:[Mapping]],2,FALSE)","v":"India"},{"$f":"VLOOKUP(tblSalaries[[#This Row],[clean Country]]&\"*\",Cont_Table,2,0)","v":"Asia"},"2 to 3 hours per day"]
[null,"ID0171","2012-05-26T00:48:46",{"$f":"LEFT(tblSalaries[[#This Row],[Timestamp]],FIND(\".\",tblSalaries[[#This Row],[Timestamp]],1))","v":"41055."},90000,90000,"CAD",{"$f":"tblSalaries[[#This Row],[clean Salary (in local currency)]]*VLOOKUP(tblSalaries[[#This Row],[Currency]],tblXrate[],2,FALSE)","v":88502.537072729421},"Senior Actuarial Analyst","Analyst","Canada",{"$f":"VLOOKUP(tblSalaries[[#This Row],[Where do you work]],tblCountries[[Actual]:[Mapping]],2,FALSE)","v":"Canada"},{"$f":"VLOOKUP(tblSalaries[[#This Row],[clean Country]]&\"*\",Cont_Table,2,0)","v":"North America"},"4 to 6 hours a day"]
[null,"ID0172","2012-05-26T00:48:48",{"$f":"LEFT(tblSalaries[[#This Row],[Timestamp]],FIND(\".\",tblSalaries[[#This Row],[Timestamp]],1))","v":"41055."},180000,180000,"INR",{"$f":"tblSalaries[[#This Row],[clean Salary (in local currency)]]*VLOOKUP(tblSalaries[[#This Row],[Currency]],tblXrate[],2,FALSE)","v":3205.4250037396623},"Sr. Associate","Analyst","India",{"$f":"VLOOKUP(tblSalaries[[#This Row],[Where do you work]],tblCountries[[Actual]:[Mapping]],2,FALSE)","v":"India"},{"$f":"VLOOKUP(tblSalaries[[#This Row],[clean Country]]&\"*\",Cont_Table,2,0)","v":"Asia"},"4 to 6 hours a day"]
[null,"ID0173","2012-05-26T00:48:48",{"$f":"LEFT(tblSalaries[[#This Row],[Timestamp]],FIND(\".\",tblSalaries[[#This Row],[Timestamp]],1))","v":"41055."},46584,46584,"USD",{"$f":"tblSalaries[[#This Row],[clean Salary (in local currency)]]*VLOOKUP(tblSalaries[[#This Row],[Currency]],tblXrate[],2,FALSE)","v":46584},"Budget Analyst","Analyst","USA",{"$f":"VLOOKUP(tblSalaries[[#This Row],[Where do you work]],tblCountries[[Actual]:[Mapping]],2,FALSE)","v":"USA"},{"$f":"VLOOKUP(tblSalaries[[#This Row],[clean Country]]&\"*\",Cont_Table,2,0)","v":"North America"},"4 to 6 hours a day"]
[null,"ID0174","2012-05-26T00:48:48",{"$f":"LEFT(tblSalaries[[#This Row],[Timestamp]],FIND(\".\",tblSalaries[[#This Row],[Timestamp]],1))","v":"41055."},67000,67000,"USD",{"$f":"tblSalaries[[#This Row],[clean Salary (in local currency)]]*VLOOKUP(tblSalaries[[#This Row],[Currency]],tblXrate[],2,FALSE)","v":67000},"B.I. Data Analyst II","Analyst","USA",{"$f":"VLOOKUP(tblSalaries[[#This Row],[Where do you work]],tblCountries[[Actual]:[Mapping]],2,FALSE)","v":"USA"},{"$f":"VLOOKUP(tblSalaries[[#This Row],[clean Country]]&\"*\",Cont_Table,2,0)","v":"North America"},"4 to 6 hours a day"]
[null,"ID0175","2012-05-26T00:48:57",{"$f":"LEFT(tblSalaries[[#This Row],[Timestamp]],FIND(\".\",tblSalaries[[#This Row],[Timestamp]],1))","v":"41055."},"Rd. 11 lakhs",1100000,"INR",{"$f":"tblSalaries[[#This Row],[clean Salary (in local currency)]]*VLOOKUP(tblSalaries[[#This Row],[Currency]],tblXrate[],2,FALSE)","v":19588.708356186824},"Asst manager investor relations and business analytics","Manager","India",{"$f":"VLOOKUP(tblSalaries[[#This Row],[Where do you work]],tblCountries[[Actual]:[Mapping]],2,FALSE)","v":"India"},{"$f":"VLOOKUP(tblSalaries[[#This Row],[clean Country]]&\"*\",Cont_Table,2,0)","v":"Asia"},"4 to 6 hours a day"]
[null,"ID0176","2012-05-26T00:49:18",{"$f":"LEFT(tblSalaries[[#This Row],[Timestamp]],FIND(\".\",tblSalaries[[#This Row],[Timestamp]],1))","v":"41055."},92000,92000,"USD",{"$f":"tblSalaries[[#This Row],[clean Salary (in local currency)]]*VLOOKUP(tblSalaries[[#This Row],[Currency]],tblXrate[],2,FALSE)","v":92000},"Industrial Engineer (Fed)","Engineer","USA",{"$f":"VLOOKUP(tblSalaries[[#This Row],[Where do you work]],tblCountries[[Actual]:[Mapping]],2,FALSE)","v":"USA"},{"$f":"VLOOKUP(tblSalaries[[#This Row],[clean Country]]&\"*\",Cont_Table,2,0)","v":"North America"},"4 to 6 hours a day"]
[null,"ID0177","2012-05-26T00:49:21",{"$f":"LEFT(tblSalaries[[#This Row],[Timestamp]],FIND(\".\",tblSalaries[[#This Row],[Timestamp]],1))","v":"41055."},75000,75000,"USD",{"$f":"tblSalaries[[#This Row],[clean Salary (in local currency)]]*VLOOKUP(tblSalaries[[#This Row],[Currency]],tblXrate[],2,FALSE)","v":75000},"Informatics specialist","Specialist","USA",{"$f":"VLOOKUP(tblSalaries[[#This Row],[Where do you work]],tblCountries[[Actual]:[Mapping]],2,FALSE)","v":"USA"},{"$f":"VLOOKUP(tblSalaries[[#This Row],[clean Country]]&\"*\",Cont_Table,2,0)","v":"North America"},"All the 8 hours baby, all the 8!"]
[null,"ID0178","2012-05-26T00:49:35",{"$f":"LEFT(tblSalaries[[#This Row],[Timestamp]],FIND(\".\",tblSalaries[[#This Row],[Timestamp]],1))","v":"41055."},180000,180000,"INR",{"$f":"tblSalaries[[#This Row],[clean Salary (in local currency)]]*VLOOKUP(tblSalaries[[#This Row],[Currency]],tblXrate[],2,FALSE)","v":3205.4250037396623},"Sr. Associate","Analyst","India",{"$f":"VLOOKUP(tblSalaries[[#This Row],[Where do you work]],tblCountries[[Actual]:[Mapping]],2,FALSE)","v":"India"},{"$f":"VLOOKUP(tblSalaries[[#This Row],[clean Country]]&\"*\",Cont_Table,2,0)","v":"Asia"},"4 to 6 hours a day"]
[null,"ID0179","2012-05-26T00:49:48",{"$f":"LEFT(tblSalaries[[#This Row],[Timestamp]],FIND(\".\",tblSalaries[[#This Row],[Timestamp]],1))","v":"41055."},18500,18500,"GBP",{"$f":"tblSalaries[[#This Row],[clean Salary (in local currency)]]*VLOOKUP(tblSalaries[[#This Row],[Currency]],tblXrate[],2,FALSE)","v":29159.298033244755},"Trainee Management Accountant","Manager","UK",{"$f":"VLOOKUP(tblSalaries[[#This Row],[Where do you work]],tblCountries[[Actual]:[Mapping]],2,FALSE)","v":"UK"},{"$f":"VLOOKUP(tblSalaries[[#This Row],[clean Country]]&\"*\",Cont_Table,2,0)","v":"Europe"},"All the 8 hours baby, all the 8!"]
[null,"ID0180","2012-05-26T00:49:50",{"$f":"LEFT(tblSalaries[[#This Row],[Timestamp]],FIND(\".\",tblSalaries[[#This Row],[Timestamp]],1))","v":"41055."},40000,40000,"USD",{"$f":"tblSalaries[[#This Row],[clean Salary (in local currency)]]*VLOOKUP(tblSalaries[[#This Row],[Currency]],tblXrate[],2,FALSE)","v":40000},"Senior analyst","Analyst","USA",{"$f":"VLOOKUP(tblSalaries[[#This Row],[Where do you work]],tblCountries[[Actual]:[Mapping]],2,FALSE)","v":"USA"},{"$f":"VLOOKUP(tblSalaries[[#This Row],[clean Country]]&\"*\",Cont_Table,2,0)","v":"North America"},"All the 8 hours baby, all the 8!"]
[null,"ID0181","2012-05-26T00:49:59",{"$f":"LEFT(tblSalaries[[#This Row],[Timestamp]],FIND(\".\",tblSalaries[[#This Row],[Timestamp]],1))","v":"41055."},111680,111680,"USD",{"$f":"tblSalaries[[#This Row],[clean Salary (in local currency)]]*VLOOKUP(tblSalaries[[#This Row],[Currency]],tblXrate[],2,FALSE)","v":111680},"Director of Analytics","Analyst","USA",{"$f":"VLOOKUP(tblSalaries[[#This Row],[Where do you work]],tblCountries[[Actual]:[Mapping]],2,FALSE)","v":"USA"},{"$f":"VLOOKUP(tblSalaries[[#This Row],[clean Country]]&\"*\",Cont_Table,2,0)","v":"North America"},"2 to 3 hours per day"]
[null,"ID0182","2012-05-26T00:50:11",{"$f":"LEFT(tblSalaries[[#This Row],[Timestamp]],FIND(\".\",tblSalaries[[#This Row],[Timestamp]],1))","v":"41055."},41.405999999999999,41406,"USD",{"$f":"tblSalaries[[#This Row],[clean Salary (in local currency)]]*VLOOKUP(tblSalaries[[#This Row],[Currency]],tblXrate[],2,FALSE)","v":41406},"Executive Assistant","Analyst","Canada",{"$f":"VLOOKUP(tblSalaries[[#This Row],[Where do you work]],tblCountries[[Actual]:[Mapping]],2,FALSE)","v":"Canada"},{"$f":"VLOOKUP(tblSalaries[[#This Row],[clean Country]]&\"*\",Cont_Table,2,0)","v":"North America"},"1 or 2 hours a day"]
[null,"ID0183","2012-05-26T00:50:15",{"$f":"LEFT(tblSalaries[[#This Row],[Timestamp]],FIND(\".\",tblSalaries[[#This Row],[Timestamp]],1))","v":"41055."},70000,70000,"USD",{"$f":"tblSalaries[[#This Row],[clean Salary (in local currency)]]*VLOOKUP(tblSalaries[[#This Row],[Currency]],tblXrate[],2,FALSE)","v":70000},"Project Speciast","Manager","USA",{"$f":"VLOOKUP(tblSalaries[[#This Row],[Where do you work]],tblCountries[[Actual]:[Mapping]],2,FALSE)","v":"USA"},{"$f":"VLOOKUP(tblSalaries[[#This Row],[clean Country]]&\"*\",Cont_Table,2,0)","v":"North America"},"4 to 6 hours a day"]
[null,"ID0184","2012-05-26T00:50:31",{"$f":"LEFT(tblSalaries[[#This Row],[Timestamp]],FIND(\".\",tblSalaries[[#This Row],[Timestamp]],1))","v":"41055."},40700,40700,"USD",{"$f":"tblSalaries[[#This Row],[clean Salary (in local currency)]]*VLOOKUP(tblSalaries[[#This Row],[Currency]],tblXrate[],2,FALSE)","v":40700},"Sales Coordinator & Analytical Support","Analyst","USA",{"$f":"VLOOKUP(tblSalaries[[#This Row],[Where do you work]],tblCountries[[Actual]:[Mapping]],2,FALSE)","v":"USA"},{"$f":"VLOOKUP(tblSalaries[[#This Row],[clean Country]]&\"*\",Cont_Table,2,0)","v":"North America"},"1 or 2 hours a day"]
[null,"ID0185","2012-05-26T00:50:32",{"$f":"LEFT(tblSalaries[[#This Row],[Timestamp]],FIND(\".\",tblSalaries[[#This Row],[Timestamp]],1))","v":"41055."},40000,40000,"USD",{"$f":"tblSalaries[[#This Row],[clean Salary (in local currency)]]*VLOOKUP(tblSalaries[[#This Row],[Currency]],tblXrate[],2,FALSE)","v":40000},"analyst","Analyst","USA",{"$f":"VLOOKUP(tblSalaries[[#This Row],[Where do you work]],tblCountries[[Actual]:[Mapping]],2,FALSE)","v":"USA"},{"$f":"VLOOKUP(tblSalaries[[#This Row],[clean Country]]&\"*\",Cont_Table,2,0)","v":"North America"},"4 to 6 hours a day"]
[null,"ID0186","2012-05-26T00:50:38",{"$f":"LEFT(tblSalaries[[#This Row],[Timestamp]],FIND(\".\",tblSalaries[[#This Row],[Timestamp]],1))","v":"41055."},60000,60000,"USD",{"$f":"tblSalaries[[#This Row],[clean Salary (in local currency)]]*VLOOKUP(tblSalaries[[#This Row],[Currency]],tblXrate[],2,FALSE)","v":60000},"Senior Staff Accountant","Accountant","USA",{"$f":"VLOOKUP(tblSalaries[[#This Row],[Where do you work]],tblCountries[[Actual]:[Mapping]],2,FALSE)","v":"USA"},{"$f":"VLOOKUP(tblSalaries[[#This Row],[clean Country]]&\"*\",Cont_Table,2,0)","v":"North America"},"4 to 6 hours a day"]
[null,"ID0187","2012-05-26T00:50:41",{"$f":"LEFT(tblSalaries[[#This Row],[Timestamp]],FIND(\".\",tblSalaries[[#This Row],[Timestamp]],1))","v":"41055."},92000,92000,"CAD",{"$f":"tblSalaries[[#This Row],[clean Salary (in local currency)]]*VLOOKUP(tblSalaries[[#This Row],[Currency]],tblXrate[],2,FALSE)","v":90469.260118790073},"Consultant - Retail Mkts","Consultant","Canada",{"$f":"VLOOKUP(tblSalaries[[#This Row],[Where do you work]],tblCountries[[Actual]:[Mapping]],2,FALSE)","v":"Canada"},{"$f":"VLOOKUP(tblSalaries[[#This Row],[clean Country]]&\"*\",Cont_Table,2,0)","v":"North America"},"All the 8 hours baby, all the 8!"]
[null,"ID0188","2012-05-26T00:50:43",{"$f":"LEFT(tblSalaries[[#This Row],[Timestamp]],FIND(\".\",tblSalaries[[#This Row],[Timestamp]],1))","v":"41055."},13636.36,13636,"USD",{"$f":"tblSalaries[[#This Row],[clean Salary (in local currency)]]*VLOOKUP(tblSalaries[[#This Row],[Currency]],tblXrate[],2,FALSE)","v":13636},"Process Manager","Manager","India",{"$f":"VLOOKUP(tblSalaries[[#This Row],[Where do you work]],tblCountries[[Actual]:[Mapping]],2,FALSE)","v":"India"},{"$f":"VLOOKUP(tblSalaries[[#This Row],[clean Country]]&\"*\",Cont_Table,2,0)","v":"Asia"},"All the 8 hours baby, all the 8!"]
[null,"ID0189","2012-05-26T00:50:43",{"$f":"LEFT(tblSalaries[[#This Row],[Timestamp]],FIND(\".\",tblSalaries[[#This Row],[Timestamp]],1))","v":"41055."},80000,80000,"USD",{"$f":"tblSalaries[[#This Row],[clean Salary (in local currency)]]*VLOOKUP(tblSalaries[[#This Row],[Currency]],tblXrate[],2,FALSE)","v":80000},"Project Manager (Process Owner)","Manager","USA",{"$f":"VLOOKUP(tblSalaries[[#This Row],[Where do you work]],tblCountries[[Actual]:[Mapping]],2,FALSE)","v":"USA"},{"$f":"VLOOKUP(tblSalaries[[#This Row],[clean Country]]&\"*\",Cont_Table,2,0)","v":"North America"},"2 to 3 hours per day"]
[null,"ID0190","2012-05-26T00:51:00",{"$f":"LEFT(tblSalaries[[#This Row],[Timestamp]],FIND(\".\",tblSalaries[[#This Row],[Timestamp]],1))","v":"41055."},"60000 CAD$",60000,"CAD",{"$f":"tblSalaries[[#This Row],[clean Salary (in local currency)]]*VLOOKUP(tblSalaries[[#This Row],[Currency]],tblXrate[],2,FALSE)","v":59001.691381819612},"Demographer","Analyst","Canada",{"$f":"VLOOKUP(tblSalaries[[#This Row],[Where do you work]],tblCountries[[Actual]:[Mapping]],2,FALSE)","v":"Canada"},{"$f":"VLOOKUP(tblSalaries[[#This Row],[clean Country]]&\"*\",Cont_Table,2,0)","v":"North America"},"2 to 3 hours per day"]
[null,"ID0192","2012-05-26T00:51:43",{"$f":"LEFT(tblSalaries[[#This Row],[Timestamp]],FIND(\".\",tblSalaries[[#This Row],[Timestamp]],1))","v":"41055."},28000,28000,"USD",{"$f":"tblSalaries[[#This Row],[clean Salary (in local currency)]]*VLOOKUP(tblSalaries[[#This Row],[Currency]],tblXrate[],2,FALSE)","v":28000},"Administrative Assistant","Analyst","USA",{"$f":"VLOOKUP(tblSalaries[[#This Row],[Where do you work]],tblCountries[[Actual]:[Mapping]],2,FALSE)","v":"USA"},{"$f":"VLOOKUP(tblSalaries[[#This Row],[clean Country]]&\"*\",Cont_Table,2,0)","v":"North America"},"4 to 6 hours a day"]
[null,"ID0193","2012-05-26T00:51:55",{"$f":"LEFT(tblSalaries[[#This Row],[Timestamp]],FIND(\".\",tblSalaries[[#This Row],[Timestamp]],1))","v":"41055."},60000,60000,"USD",{"$f":"tblSalaries[[#This Row],[clean Salary (in local currency)]]*VLOOKUP(tblSalaries[[#This Row],[Currency]],tblXrate[],2,FALSE)","v":60000},"Accounting/Financial Analyst","Analyst","USA",{"$f":"VLOOKUP(tblSalaries[[#This Row],[Where do you work]],tblCountries[[Actual]:[Mapping]],2,FALSE)","v":"USA"},{"$f":"VLOOKUP(tblSalaries[[#This Row],[clean Country]]&\"*\",Cont_Table,2,0)","v":"North America"},"4 to 6 hours a day"]
[null,"ID0194","2012-05-26T00:51:59",{"$f":"LEFT(tblSalaries[[#This Row],[Timestamp]],FIND(\".\",tblSalaries[[#This Row],[Timestamp]],1))","v":"41055."},96000,96000,"USD",{"$f":"tblSalaries[[#This Row],[clean Salary (in local currency)]]*VLOOKUP(tblSalaries[[#This Row],[Currency]],tblXrate[],2,FALSE)","v":96000},"Business Process Specialist","Specialist","USA",{"$f":"VLOOKUP(tblSalaries[[#This Row],[Where do you work]],tblCountries[[Actual]:[Mapping]],2,FALSE)","v":"USA"},{"$f":"VLOOKUP(tblSalaries[[#This Row],[clean Country]]&\"*\",Cont_Table,2,0)","v":"North America"},"2 to 3 hours per day"]
[null,"ID0195","2012-05-26T00:52:21",{"$f":"LEFT(tblSalaries[[#This Row],[Timestamp]],FIND(\".\",tblSalaries[[#This Row],[Timestamp]],1))","v":"41055."},67000,67000,"USD",{"$f":"tblSalaries[[#This Row],[clean Salary (in local currency)]]*VLOOKUP(tblSalaries[[#This Row],[Currency]],tblXrate[],2,FALSE)","v":67000},"Financial Analyst","Analyst","USA",{"$f":"VLOOKUP(tblSalaries[[#This Row],[Where do you work]],tblCountries[[Actual]:[Mapping]],2,FALSE)","v":"USA"},{"$f":"VLOOKUP(tblSalaries[[#This Row],[clean Country]]&\"*\",Cont_Table,2,0)","v":"North America"},"4 to 6 hours a day"]
[null,"ID0196","2012-05-26T00:52:25",{"$f":"LEFT(tblSalaries[[#This Row],[Timestamp]],FIND(\".\",tblSalaries[[#This Row],[Timestamp]],1))","v":"41055."},70000,70000,"USD",{"$f":"tblSalaries[[#This Row],[clean Salary (in local currency)]]*VLOOKUP(tblSalaries[[#This Row],[Currency]],tblXrate[],2,FALSE)","v":70000},"Sr Financial Analyst","Analyst","USA",{"$f":"VLOOKUP(tblSalaries[[#This Row],[Where do you work]],tblCountries[[Actual]:[Mapping]],2,FALSE)","v":"USA"},{"$f":"VLOOKUP(tblSalaries[[#This Row],[clean Country]]&\"*\",Cont_Table,2,0)","v":"North America"},"4 to 6 hours a day"]
[null,"ID0197","2012-05-26T00:52:30",{"$f":"LEFT(tblSalaries[[#This Row],[Timestamp]],FIND(\".\",tblSalaries[[#This Row],[Timestamp]],1))","v":"41055."},233000,233000,"INR",{"$f":"tblSalaries[[#This Row],[clean Salary (in local currency)]]*VLOOKUP(tblSalaries[[#This Row],[Currency]],tblXrate[],2,FALSE)","v":4149.2445881741187},"Asst. Manager (MIS)","Manager","India",{"$f":"VLOOKUP(tblSalaries[[#This Row],[Where do you work]],tblCountries[[Actual]:[Mapping]],2,FALSE)","v":"India"},{"$f":"VLOOKUP(tblSalaries[[#This Row],[clean Country]]&\"*\",Cont_Table,2,0)","v":"Asia"},"All the 8 hours baby, all the 8!"]
[null,"ID0198","2012-05-26T00:52:37",{"$f":"LEFT(tblSalaries[[#This Row],[Timestamp]],FIND(\".\",tblSalaries[[#This Row],[Timestamp]],1))","v":"41055."},"US$ 99000",99000,"USD",{"$f":"tblSalaries[[#This Row],[clean Salary (in local currency)]]*VLOOKUP(tblSalaries[[#This Row],[Currency]],tblXrate[],2,FALSE)","v":99000},"Business Controller","Controller","USA",{"$f":"VLOOKUP(tblSalaries[[#This Row],[Where do you work]],tblCountries[[Actual]:[Mapping]],2,FALSE)","v":"USA"},{"$f":"VLOOKUP(tblSalaries[[#This Row],[clean Country]]&\"*\",Cont_Table,2,0)","v":"North America"},"4 to 6 hours a day"]
[null,"ID0200","2012-05-26T00:53:00",{"$f":"LEFT(tblSalaries[[#This Row],[Timestamp]],FIND(\".\",tblSalaries[[#This Row],[Timestamp]],1))","v":"41055."},90000,90000,"USD",{"$f":"tblSalaries[[#This Row],[clean Salary (in local currency)]]*VLOOKUP(tblSalaries[[#This Row],[Currency]],tblXrate[],2,FALSE)","v":90000},"Project Manager","Manager","USA",{"$f":"VLOOKUP(tblSalaries[[#This Row],[Where do you work]],tblCountries[[Actual]:[Mapping]],2,FALSE)","v":"USA"},{"$f":"VLOOKUP(tblSalaries[[#This Row],[clean Country]]&\"*\",Cont_Table,2,0)","v":"North America"},"2 to 3 hours per day"]
[null,"ID0201","2012-05-26T00:53:02",{"$f":"LEFT(tblSalaries[[#This Row],[Timestamp]],FIND(\".\",tblSalaries[[#This Row],[Timestamp]],1))","v":"41055."},"Rs. 275000",275000,"INR",{"$f":"tblSalaries[[#This Row],[clean Salary (in local currency)]]*VLOOKUP(tblSalaries[[#This Row],[Currency]],tblXrate[],2,FALSE)","v":4897.177089046706},"low level monitoring","Analyst","India",{"$f":"VLOOKUP(tblSalaries[[#This Row],[Where do you work]],tblCountries[[Actual]:[Mapping]],2,FALSE)","v":"India"},{"$f":"VLOOKUP(tblSalaries[[#This Row],[clean Country]]&\"*\",Cont_Table,2,0)","v":"Asia"},"2 to 3 hours per day"]
[null,"ID0202","2012-05-26T00:53:18",{"$f":"LEFT(tblSalaries[[#This Row],[Timestamp]],FIND(\".\",tblSalaries[[#This Row],[Timestamp]],1))","v":"41055."},"INR 16000",192000,"INR",{"$f":"tblSalaries[[#This Row],[clean Salary (in local currency)]]*VLOOKUP(tblSalaries[[#This Row],[Currency]],tblXrate[],2,FALSE)","v":3419.1200039889732},"Administrative","Analyst","India",{"$f":"VLOOKUP(tblSalaries[[#This Row],[Where do you work]],tblCountries[[Actual]:[Mapping]],2,FALSE)","v":"India"},{"$f":"VLOOKUP(tblSalaries[[#This Row],[clean Country]]&\"*\",Cont_Table,2,0)","v":"Asia"},"All the 8 hours baby, all the 8!"]
[null,"ID0203","2012-05-26T00:53:37",{"$f":"LEFT(tblSalaries[[#This Row],[Timestamp]],FIND(\".\",tblSalaries[[#This Row],[Timestamp]],1))","v":"41055."},51000,51000,"USD",{"$f":"tblSalaries[[#This Row],[clean Salary (in local currency)]]*VLOOKUP(tblSalaries[[#This Row],[Currency]],tblXrate[],2,FALSE)","v":51000},"Service Line Coordinator","Manager","USA",{"$f":"VLOOKUP(tblSalaries[[#This Row],[Where do you work]],tblCountries[[Actual]:[Mapping]],2,FALSE)","v":"USA"},{"$f":"VLOOKUP(tblSalaries[[#This Row],[clean Country]]&\"*\",Cont_Table,2,0)","v":"North America"},"4 to 6 hours a day"]
[null,"ID0204","2012-05-26T00:53:42",{"$f":"LEFT(tblSalaries[[#This Row],[Timestamp]],FIND(\".\",tblSalaries[[#This Row],[Timestamp]],1))","v":"41055."},100000,100000,"USD",{"$f":"tblSalaries[[#This Row],[clean Salary (in local currency)]]*VLOOKUP(tblSalaries[[#This Row],[Currency]],tblXrate[],2,FALSE)","v":100000},"Strategic Sourcing Manager","Manager","USA",{"$f":"VLOOKUP(tblSalaries[[#This Row],[Where do you work]],tblCountries[[Actual]:[Mapping]],2,FALSE)","v":"USA"},{"$f":"VLOOKUP(tblSalaries[[#This Row],[clean Country]]&\"*\",Cont_Table,2,0)","v":"North America"},"All the 8 hours baby, all the 8!"]
[null,"ID0205","2012-05-26T00:53:46",{"$f":"LEFT(tblSalaries[[#This Row],[Timestamp]],FIND(\".\",tblSalaries[[#This Row],[Timestamp]],1))","v":"41055."},"INR18Lacs or US$36000",1800000,"INR",{"$f":"tblSalaries[[#This Row],[clean Salary (in local currency)]]*VLOOKUP(tblSalaries[[#This Row],[Currency]],tblXrate[],2,FALSE)","v":32054.250037396621},"Chief Manager","Manager","India",{"$f":"VLOOKUP(tblSalaries[[#This Row],[Where do you work]],tblCountries[[Actual]:[Mapping]],2,FALSE)","v":"India"},{"$f":"VLOOKUP(tblSalaries[[#This Row],[clean Country]]&\"*\",Cont_Table,2,0)","v":"Asia"},"1 or 2 hours a day"]
[null,"ID0207","2012-05-26T00:54:12",{"$f":"LEFT(tblSalaries[[#This Row],[Timestamp]],FIND(\".\",tblSalaries[[#This Row],[Timestamp]],1))","v":"41055."},"Â£30000",30000,"GBP",{"$f":"tblSalaries[[#This Row],[clean Salary (in local currency)]]*VLOOKUP(tblSalaries[[#This Row],[Currency]],tblXrate[],2,FALSE)","v":47285.348162018527},"Business Intelligence Analyst","Analyst","UK",{"$f":"VLOOKUP(tblSalaries[[#This Row],[Where do you work]],tblCountries[[Actual]:[Mapping]],2,FALSE)","v":"UK"},{"$f":"VLOOKUP(tblSalaries[[#This Row],[clean Country]]&\"*\",Cont_Table,2,0)","v":"Europe"},"2 to 3 hours per day"]
[null,"ID0208","2012-05-26T00:54:14",{"$f":"LEFT(tblSalaries[[#This Row],[Timestamp]],FIND(\".\",tblSalaries[[#This Row],[Timestamp]],1))","v":"41055."},"â‚¬ 50000",50000,"EUR",{"$f":"tblSalaries[[#This Row],[clean Salary (in local currency)]]*VLOOKUP(tblSalaries[[#This Row],[Currency]],tblXrate[],2,FALSE)","v":63519.971949580387},"Data Analyst","Analyst","Ireland",{"$f":"VLOOKUP(tblSalaries[[#This Row],[Where do you work]],tblCountries[[Actual]:[Mapping]],2,FALSE)","v":"Ireland"},{"$f":"VLOOKUP(tblSalaries[[#This Row],[clean Country]]&\"*\",Cont_Table,2,0)","v":"Europe"},"4 to 6 hours a day"]
[null,"ID0209","2012-05-26T00:54:16",{"$f":"LEFT(tblSalaries[[#This Row],[Timestamp]],FIND(\".\",tblSalaries[[#This Row],[Timestamp]],1))","v":"41055."},108160,108160,"USD",{"$f":"tblSalaries[[#This Row],[clean Salary (in local currency)]]*VLOOKUP(tblSalaries[[#This Row],[Currency]],tblXrate[],2,FALSE)","v":108160},"Sr. Financial Analyst","Analyst","USA",{"$f":"VLOOKUP(tblSalaries[[#This Row],[Where do you work]],tblCountries[[Actual]:[Mapping]],2,FALSE)","v":"USA"},{"$f":"VLOOKUP(tblSalaries[[#This Row],[clean Country]]&\"*\",Cont_Table,2,0)","v":"North America"},"4 to 6 hours a day"]
[null,"ID0210","2012-05-26T00:54:27",{"$f":"LEFT(tblSalaries[[#This Row],[Timestamp]],FIND(\".\",tblSalaries[[#This Row],[Timestamp]],1))","v":"41055."},50000,50000,"USD",{"$f":"tblSalaries[[#This Row],[clean Salary (in local currency)]]*VLOOKUP(tblSalaries[[#This Row],[Currency]],tblXrate[],2,FALSE)","v":50000},"Buyer","Manager","USA",{"$f":"VLOOKUP(tblSalaries[[#This Row],[Where do you work]],tblCountries[[Actual]:[Mapping]],2,FALSE)","v":"USA"},{"$f":"VLOOKUP(tblSalaries[[#This Row],[clean Country]]&\"*\",Cont_Table,2,0)","v":"North America"},"4 to 6 hours a day"]
[null,"ID0211","2012-05-26T00:54:28",{"$f":"LEFT(tblSalaries[[#This Row],[Timestamp]],FIND(\".\",tblSalaries[[#This Row],[Timestamp]],1))","v":"41055."},400000,400000,"USD",{"$f":"tblSalaries[[#This Row],[clean Salary (in local currency)]]*VLOOKUP(tblSalaries[[#This Row],[Currency]],tblXrate[],2,FALSE)","v":400000},"program manager","Manager","USA",{"$f":"VLOOKUP(tblSalaries[[#This Row],[Where do you work]],tblCountries[[Actual]:[Mapping]],2,FALSE)","v":"USA"},{"$f":"VLOOKUP(tblSalaries[[#This Row],[clean Country]]&\"*\",Cont_Table,2,0)","v":"North America"},"1 or 2 hours a day"]
[null,"ID0212","2012-05-26T00:54:41",{"$f":"LEFT(tblSalaries[[#This Row],[Timestamp]],FIND(\".\",tblSalaries[[#This Row],[Timestamp]],1))","v":"41055."},43000,43000,"USD",{"$f":"tblSalaries[[#This Row],[clean Salary (in local currency)]]*VLOOKUP(tblSalaries[[#This Row],[Currency]],tblXrate[],2,FALSE)","v":43000},"Reporting Analyst Team Lead","Analyst","USA",{"$f":"VLOOKUP(tblSalaries[[#This Row],[Where do you work]],tblCountries[[Actual]:[Mapping]],2,FALSE)","v":"USA"},{"$f":"VLOOKUP(tblSalaries[[#This Row],[clean Country]]&\"*\",Cont_Table,2,0)","v":"North America"},"All the 8 hours baby, all the 8!"]
[null,"ID0213","2012-05-26T00:54:46",{"$f":"LEFT(tblSalaries[[#This Row],[Timestamp]],FIND(\".\",tblSalaries[[#This Row],[Timestamp]],1))","v":"41055."},27000,27000,"USD",{"$f":"tblSalaries[[#This Row],[clean Salary (in local currency)]]*VLOOKUP(tblSalaries[[#This Row],[Currency]],tblXrate[],2,FALSE)","v":27000},"Innovation Analyst","Analyst","Singapore",{"$f":"VLOOKUP(tblSalaries[[#This Row],[Where do you work]],tblCountries[[Actual]:[Mapping]],2,FALSE)","v":"Singapore"},{"$f":"VLOOKUP(tblSalaries[[#This Row],[clean Country]]&\"*\",Cont_Table,2,0)","v":"Asia"},"All the 8 hours baby, all the 8!"]
[null,"ID0214","2012-05-26T00:54:56",{"$f":"LEFT(tblSalaries[[#This Row],[Timestamp]],FIND(\".\",tblSalaries[[#This Row],[Timestamp]],1))","v":"41055."},41000,41000,"USD",{"$f":"tblSalaries[[#This Row],[clean Salary (in local currency)]]*VLOOKUP(tblSalaries[[#This Row],[Currency]],tblXrate[],2,FALSE)","v":41000},"Operations Expert","Manager","USA",{"$f":"VLOOKUP(tblSalaries[[#This Row],[Where do you work]],tblCountries[[Actual]:[Mapping]],2,FALSE)","v":"USA"},{"$f":"VLOOKUP(tblSalaries[[#This Row],[clean Country]]&\"*\",Cont_Table,2,0)","v":"North America"},"All the 8 hours baby, all the 8!"]
[null,"ID0215","2012-05-26T00:55:06",{"$f":"LEFT(tblSalaries[[#This Row],[Timestamp]],FIND(\".\",tblSalaries[[#This Row],[Timestamp]],1))","v":"41055."},100000,100000,"USD",{"$f":"tblSalaries[[#This Row],[clean Salary (in local currency)]]*VLOOKUP(tblSalaries[[#This Row],[Currency]],tblXrate[],2,FALSE)","v":100000},"Director of Finance","CXO or Top Mgmt.","USA",{"$f":"VLOOKUP(tblSalaries[[#This Row],[Where do you work]],tblCountries[[Actual]:[Mapping]],2,FALSE)","v":"USA"},{"$f":"VLOOKUP(tblSalaries[[#This Row],[clean Country]]&\"*\",Cont_Table,2,0)","v":"North America"},"4 to 6 hours a day"]
[null,"ID0216","2012-05-26T00:55:50",{"$f":"LEFT(tblSalaries[[#This Row],[Timestamp]],FIND(\".\",tblSalaries[[#This Row],[Timestamp]],1))","v":"41055."},42140,42140,"USD",{"$f":"tblSalaries[[#This Row],[clean Salary (in local currency)]]*VLOOKUP(tblSalaries[[#This Row],[Currency]],tblXrate[],2,FALSE)","v":42140},"Information Analyst II","Analyst","USA",{"$f":"VLOOKUP(tblSalaries[[#This Row],[Where do you work]],tblCountries[[Actual]:[Mapping]],2,FALSE)","v":"USA"},{"$f":"VLOOKUP(tblSalaries[[#This Row],[clean Country]]&\"*\",Cont_Table,2,0)","v":"North America"},"4 to 6 hours a day"]
[null,"ID0217","2012-05-26T00:56:06",{"$f":"LEFT(tblSalaries[[#This Row],[Timestamp]],FIND(\".\",tblSalaries[[#This Row],[Timestamp]],1))","v":"41055."},80000,80000,"USD",{"$f":"tblSalaries[[#This Row],[clean Salary (in local currency)]]*VLOOKUP(tblSalaries[[#This Row],[Currency]],tblXrate[],2,FALSE)","v":80000},"Marketing Analyst","Analyst","USA",{"$f":"VLOOKUP(tblSalaries[[#This Row],[Where do you work]],tblCountries[[Actual]:[Mapping]],2,FALSE)","v":"USA"},{"$f":"VLOOKUP(tblSalaries[[#This Row],[clean Country]]&\"*\",Cont_Table,2,0)","v":"North America"},"4 to 6 hours a day"]
[null,"ID0218","2012-05-26T00:56:37",{"$f":"LEFT(tblSalaries[[#This Row],[Timestamp]],FIND(\".\",tblSalaries[[#This Row],[Timestamp]],1))","v":"41055."},41600,41600,"USD",{"$f":"tblSalaries[[#This Row],[clean Salary (in local currency)]]*VLOOKUP(tblSalaries[[#This Row],[Currency]],tblXrate[],2,FALSE)","v":41600},"Project Manager","Manager","USA",{"$f":"VLOOKUP(tblSalaries[[#This Row],[Where do you work]],tblCountries[[Actual]:[Mapping]],2,FALSE)","v":"USA"},{"$f":"VLOOKUP(tblSalaries[[#This Row],[clean Country]]&\"*\",Cont_Table,2,0)","v":"North America"},"4 to 6 hours a day"]
[null,"ID0219","2012-05-26T00:56:37",{"$f":"LEFT(tblSalaries[[#This Row],[Timestamp]],FIND(\".\",tblSalaries[[#This Row],[Timestamp]],1))","v":"41055."},"45k",45000,"USD",{"$f":"tblSalaries[[#This Row],[clean Salary (in local currency)]]*VLOOKUP(tblSalaries[[#This Row],[Currency]],tblXrate[],2,FALSE)","v":45000},"Accounting Assistant","Accountant","USA",{"$f":"VLOOKUP(tblSalaries[[#This Row],[Where do you work]],tblCountries[[Actual]:[Mapping]],2,FALSE)","v":"USA"},{"$f":"VLOOKUP(tblSalaries[[#This Row],[clean Country]]&\"*\",Cont_Table,2,0)","v":"North America"},"2 to 3 hours per day"]
[null,"ID0220","2012-05-26T00:56:54",{"$f":"LEFT(tblSalaries[[#This Row],[Timestamp]],FIND(\".\",tblSalaries[[#This Row],[Timestamp]],1))","v":"41055."},78000,78000,"USD",{"$f":"tblSalaries[[#This Row],[clean Salary (in local currency)]]*VLOOKUP(tblSalaries[[#This Row],[Currency]],tblXrate[],2,FALSE)","v":78000},"Tax Professional","Accountant","Bermuda",{"$f":"VLOOKUP(tblSalaries[[#This Row],[Where do you work]],tblCountries[[Actual]:[Mapping]],2,FALSE)","v":"Bermuda"},{"$f":"VLOOKUP(tblSalaries[[#This Row],[clean Country]]&\"*\",Cont_Table,2,0)","v":"North America"},"4 to 6 hours a day"]
[null,"ID0221","2012-05-26T00:57:21",{"$f":"LEFT(tblSalaries[[#This Row],[Timestamp]],FIND(\".\",tblSalaries[[#This Row],[Timestamp]],1))","v":"41055."},"INR 500000",500000,"INR",{"$f":"tblSalaries[[#This Row],[clean Salary (in local currency)]]*VLOOKUP(tblSalaries[[#This Row],[Currency]],tblXrate[],2,FALSE)","v":8903.9583437212841},"Project Manager","Manager","India",{"$f":"VLOOKUP(tblSalaries[[#This Row],[Where do you work]],tblCountries[[Actual]:[Mapping]],2,FALSE)","v":"India"},{"$f":"VLOOKUP(tblSalaries[[#This Row],[clean Country]]&\"*\",Cont_Table,2,0)","v":"Asia"},"4 to 6 hours a day"]
[null,"ID0222","2012-05-26T00:57:35",{"$f":"LEFT(tblSalaries[[#This Row],[Timestamp]],FIND(\".\",tblSalaries[[#This Row],[Timestamp]],1))","v":"41055."},"INR 350k",350000,"INR",{"$f":"tblSalaries[[#This Row],[clean Salary (in local currency)]]*VLOOKUP(tblSalaries[[#This Row],[Currency]],tblXrate[],2,FALSE)","v":6232.7708406048987},"Jr. Executive Finance","Accountant","India",{"$f":"VLOOKUP(tblSalaries[[#This Row],[Where do you work]],tblCountries[[Actual]:[Mapping]],2,FALSE)","v":"India"},{"$f":"VLOOKUP(tblSalaries[[#This Row],[clean Country]]&\"*\",Cont_Table,2,0)","v":"Asia"},"4 to 6 hours a day"]
[null,"ID0223","2012-05-26T00:57:44",{"$f":"LEFT(tblSalaries[[#This Row],[Timestamp]],FIND(\".\",tblSalaries[[#This Row],[Timestamp]],1))","v":"41055."},72500,72500,"USD",{"$f":"tblSalaries[[#This Row],[clean Salary (in local currency)]]*VLOOKUP(tblSalaries[[#This Row],[Currency]],tblXrate[],2,FALSE)","v":72500},"Assistant Controller","Controller","USA",{"$f":"VLOOKUP(tblSalaries[[#This Row],[Where do you work]],tblCountries[[Actual]:[Mapping]],2,FALSE)","v":"USA"},{"$f":"VLOOKUP(tblSalaries[[#This Row],[clean Country]]&\"*\",Cont_Table,2,0)","v":"North America"},"4 to 6 hours a day"]
[null,"ID0224","2012-05-26T00:57:52",{"$f":"LEFT(tblSalaries[[#This Row],[Timestamp]],FIND(\".\",tblSalaries[[#This Row],[Timestamp]],1))","v":"41055."},"US$ 138K",138000,"USD",{"$f":"tblSalaries[[#This Row],[clean Salary (in local currency)]]*VLOOKUP(tblSalaries[[#This Row],[Currency]],tblXrate[],2,FALSE)","v":138000},"Project engineer","Engineer","Thailand",{"$f":"VLOOKUP(tblSalaries[[#This Row],[Where do you work]],tblCountries[[Actual]:[Mapping]],2,FALSE)","v":"Thailand"},{"$f":"VLOOKUP(tblSalaries[[#This Row],[clean Country]]&\"*\",Cont_Table,2,0)","v":"Asia"},"4 to 6 hours a day"]
[null,"ID0225","2012-05-26T00:58:03",{"$f":"LEFT(tblSalaries[[#This Row],[Timestamp]],FIND(\".\",tblSalaries[[#This Row],[Timestamp]],1))","v":"41055."},480000,480000,"INR",{"$f":"tblSalaries[[#This Row],[clean Salary (in local currency)]]*VLOOKUP(tblSalaries[[#This Row],[Currency]],tblXrate[],2,FALSE)","v":8547.8000099724322},"Cash Officer","Manager","India",{"$f":"VLOOKUP(tblSalaries[[#This Row],[Where do you work]],tblCountries[[Actual]:[Mapping]],2,FALSE)","v":"India"},{"$f":"VLOOKUP(tblSalaries[[#This Row],[clean Country]]&\"*\",Cont_Table,2,0)","v":"Asia"},"4 to 6 hours a day"]
[null,"ID0226","2012-05-26T00:58:05",{"$f":"LEFT(tblSalaries[[#This Row],[Timestamp]],FIND(\".\",tblSalaries[[#This Row],[Timestamp]],1))","v":"41055."},80000,80000,"USD",{"$f":"tblSalaries[[#This Row],[clean Salary (in local currency)]]*VLOOKUP(tblSalaries[[#This Row],[Currency]],tblXrate[],2,FALSE)","v":80000},"Senior Analyst","Analyst","USA",{"$f":"VLOOKUP(tblSalaries[[#This Row],[Where do you work]],tblCountries[[Actual]:[Mapping]],2,FALSE)","v":"USA"},{"$f":"VLOOKUP(tblSalaries[[#This Row],[clean Country]]&\"*\",Cont_Table,2,0)","v":"North America"},"4 to 6 hours a day"]
[null,"ID0227","2012-05-26T00:58:06",{"$f":"LEFT(tblSalaries[[#This Row],[Timestamp]],FIND(\".\",tblSalaries[[#This Row],[Timestamp]],1))","v":"41055."},50000,50000,"USD",{"$f":"tblSalaries[[#This Row],[clean Salary (in local currency)]]*VLOOKUP(tblSalaries[[#This Row],[Currency]],tblXrate[],2,FALSE)","v":50000},"Project Manager","Manager","USA",{"$f":"VLOOKUP(tblSalaries[[#This Row],[Where do you work]],tblCountries[[Actual]:[Mapping]],2,FALSE)","v":"USA"},{"$f":"VLOOKUP(tblSalaries[[#This Row],[clean Country]]&\"*\",Cont_Table,2,0)","v":"North America"},"4 to 6 hours a day"]
[null,"ID0228","2012-05-26T00:58:10",{"$f":"LEFT(tblSalaries[[#This Row],[Timestamp]],FIND(\".\",tblSalaries[[#This Row],[Timestamp]],1))","v":"41055."},45000,45000,"CAD",{"$f":"tblSalaries[[#This Row],[clean Salary (in local currency)]]*VLOOKUP(tblSalaries[[#This Row],[Currency]],tblXrate[],2,FALSE)","v":44251.268536364711},"Technical support specialist","Specialist","Canada",{"$f":"VLOOKUP(tblSalaries[[#This Row],[Where do you work]],tblCountries[[Actual]:[Mapping]],2,FALSE)","v":"Canada"},{"$f":"VLOOKUP(tblSalaries[[#This Row],[clean Country]]&\"*\",Cont_Table,2,0)","v":"North America"},"1 or 2 hours a day"]
[null,"ID0229","2012-05-26T00:58:22",{"$f":"LEFT(tblSalaries[[#This Row],[Timestamp]],FIND(\".\",tblSalaries[[#This Row],[Timestamp]],1))","v":"41055."},43000,43000,"GBP",{"$f":"tblSalaries[[#This Row],[clean Salary (in local currency)]]*VLOOKUP(tblSalaries[[#This Row],[Currency]],tblXrate[],2,FALSE)","v":67775.665698893223},"ServiceDesk Supervisor","Manager","UK",{"$f":"VLOOKUP(tblSalaries[[#This Row],[Where do you work]],tblCountries[[Actual]:[Mapping]],2,FALSE)","v":"UK"},{"$f":"VLOOKUP(tblSalaries[[#This Row],[clean Country]]&\"*\",Cont_Table,2,0)","v":"Europe"},"2 to 3 hours per day"]
[null,"ID0230","2012-05-26T00:58:56",{"$f":"LEFT(tblSalaries[[#This Row],[Timestamp]],FIND(\".\",tblSalaries[[#This Row],[Timestamp]],1))","v":"41055."},200000,200000,"INR",{"$f":"tblSalaries[[#This Row],[clean Salary (in local currency)]]*VLOOKUP(tblSalaries[[#This Row],[Currency]],tblXrate[],2,FALSE)","v":3561.5833374885137},"medical biller","Analyst","India",{"$f":"VLOOKUP(tblSalaries[[#This Row],[Where do you work]],tblCountries[[Actual]:[Mapping]],2,FALSE)","v":"India"},{"$f":"VLOOKUP(tblSalaries[[#This Row],[clean Country]]&\"*\",Cont_Table,2,0)","v":"Asia"},"1 or 2 hours a day"]
[null,"ID0231","2012-05-26T00:59:03",{"$f":"LEFT(tblSalaries[[#This Row],[Timestamp]],FIND(\".\",tblSalaries[[#This Row],[Timestamp]],1))","v":"41055."},65000,65000,"USD",{"$f":"tblSalaries[[#This Row],[clean Salary (in local currency)]]*VLOOKUP(tblSalaries[[#This Row],[Currency]],tblXrate[],2,FALSE)","v":65000},"Sr. Strategic Development Specialist","Specialist","USA",{"$f":"VLOOKUP(tblSalaries[[#This Row],[Where do you work]],tblCountries[[Actual]:[Mapping]],2,FALSE)","v":"USA"},{"$f":"VLOOKUP(tblSalaries[[#This Row],[clean Country]]&\"*\",Cont_Table,2,0)","v":"North America"},"2 to 3 hours per day"]
[null,"ID0232","2012-05-26T00:59:09",{"$f":"LEFT(tblSalaries[[#This Row],[Timestamp]],FIND(\".\",tblSalaries[[#This Row],[Timestamp]],1))","v":"41055."},114000,114000,"USD",{"$f":"tblSalaries[[#This Row],[clean Salary (in local currency)]]*VLOOKUP(tblSalaries[[#This Row],[Currency]],tblXrate[],2,FALSE)","v":114000},"Director","CXO or Top Mgmt.","USA",{"$f":"VLOOKUP(tblSalaries[[#This Row],[Where do you work]],tblCountries[[Actual]:[Mapping]],2,FALSE)","v":"USA"},{"$f":"VLOOKUP(tblSalaries[[#This Row],[clean Country]]&\"*\",Cont_Table,2,0)","v":"North America"},"2 to 3 hours per day"]
[null,"ID0233","2012-05-26T00:59:27",{"$f":"LEFT(tblSalaries[[#This Row],[Timestamp]],FIND(\".\",tblSalaries[[#This Row],[Timestamp]],1))","v":"41055."},95000,95000,"USD",{"$f":"tblSalaries[[#This Row],[clean Salary (in local currency)]]*VLOOKUP(tblSalaries[[#This Row],[Currency]],tblXrate[],2,FALSE)","v":95000},"VP - Procurment","CXO or Top Mgmt.","USA",{"$f":"VLOOKUP(tblSalaries[[#This Row],[Where do you work]],tblCountries[[Actual]:[Mapping]],2,FALSE)","v":"USA"},{"$f":"VLOOKUP(tblSalaries[[#This Row],[clean Country]]&\"*\",Cont_Table,2,0)","v":"North America"},"4 to 6 hours a day"]
[null,"ID0234","2012-05-26T01:00:51",{"$f":"LEFT(tblSalaries[[#This Row],[Timestamp]],FIND(\".\",tblSalaries[[#This Row],[Timestamp]],1))","v":"41055."},"52500.00 USD",52500,"USD",{"$f":"tblSalaries[[#This Row],[clean Salary (in local currency)]]*VLOOKUP(tblSalaries[[#This Row],[Currency]],tblXrate[],2,FALSE)","v":52500},"HRIS Analyst","Analyst","USA",{"$f":"VLOOKUP(tblSalaries[[#This Row],[Where do you work]],tblCountries[[Actual]:[Mapping]],2,FALSE)","v":"USA"},{"$f":"VLOOKUP(tblSalaries[[#This Row],[clean Country]]&\"*\",Cont_Table,2,0)","v":"North America"},"4 to 6 hours a day"]
[null,"ID0235","2012-05-26T01:01:03",{"$f":"LEFT(tblSalaries[[#This Row],[Timestamp]],FIND(\".\",tblSalaries[[#This Row],[Timestamp]],1))","v":"41055."},45000,45000,"GBP",{"$f":"tblSalaries[[#This Row],[clean Salary (in local currency)]]*VLOOKUP(tblSalaries[[#This Row],[Currency]],tblXrate[],2,FALSE)","v":70928.022243027779},"Procurement manager","Manager","UK",{"$f":"VLOOKUP(tblSalaries[[#This Row],[Where do you work]],tblCountries[[Actual]:[Mapping]],2,FALSE)","v":"UK"},{"$f":"VLOOKUP(tblSalaries[[#This Row],[clean Country]]&\"*\",Cont_Table,2,0)","v":"Europe"},"2 to 3 hours per day"]
[null,"ID0236","2012-05-26T01:01:32",{"$f":"LEFT(tblSalaries[[#This Row],[Timestamp]],FIND(\".\",tblSalaries[[#This Row],[Timestamp]],1))","v":"41055."},60000,60000,"USD",{"$f":"tblSalaries[[#This Row],[clean Salary (in local currency)]]*VLOOKUP(tblSalaries[[#This Row],[Currency]],tblXrate[],2,FALSE)","v":60000},"Energy Analyst","Analyst","USA",{"$f":"VLOOKUP(tblSalaries[[#This Row],[Where do you work]],tblCountries[[Actual]:[Mapping]],2,FALSE)","v":"USA"},{"$f":"VLOOKUP(tblSalaries[[#This Row],[clean Country]]&\"*\",Cont_Table,2,0)","v":"North America"},"4 to 6 hours a day"]
[null,"ID0237","2012-05-26T01:02:04",{"$f":"LEFT(tblSalaries[[#This Row],[Timestamp]],FIND(\".\",tblSalaries[[#This Row],[Timestamp]],1))","v":"41055."},65250,65250,"USD",{"$f":"tblSalaries[[#This Row],[clean Salary (in local currency)]]*VLOOKUP(tblSalaries[[#This Row],[Currency]],tblXrate[],2,FALSE)","v":65250},"Accountant","Accountant","USA",{"$f":"VLOOKUP(tblSalaries[[#This Row],[Where do you work]],tblCountries[[Actual]:[Mapping]],2,FALSE)","v":"USA"},{"$f":"VLOOKUP(tblSalaries[[#This Row],[clean Country]]&\"*\",Cont_Table,2,0)","v":"North America"},"4 to 6 hours a day"]
[null,"ID0238","2012-05-26T01:02:07",{"$f":"LEFT(tblSalaries[[#This Row],[Timestamp]],FIND(\".\",tblSalaries[[#This Row],[Timestamp]],1))","v":"41055."},1200000,1200000,"INR",{"$f":"tblSalaries[[#This Row],[clean Salary (in local currency)]]*VLOOKUP(tblSalaries[[#This Row],[Currency]],tblXrate[],2,FALSE)","v":21369.500024931083},"Branch head -sales","Manager","India",{"$f":"VLOOKUP(tblSalaries[[#This Row],[Where do you work]],tblCountries[[Actual]:[Mapping]],2,FALSE)","v":"India"},{"$f":"VLOOKUP(tblSalaries[[#This Row],[clean Country]]&\"*\",Cont_Table,2,0)","v":"Asia"},"2 to 3 hours per day"]
[null,"ID0239","2012-05-26T01:02:10",{"$f":"LEFT(tblSalaries[[#This Row],[Timestamp]],FIND(\".\",tblSalaries[[#This Row],[Timestamp]],1))","v":"41055."},100000,100000,"CAD",{"$f":"tblSalaries[[#This Row],[clean Salary (in local currency)]]*VLOOKUP(tblSalaries[[#This Row],[Currency]],tblXrate[],2,FALSE)","v":98336.152303032693},"retail buyer","Manager","Canada",{"$f":"VLOOKUP(tblSalaries[[#This Row],[Where do you work]],tblCountries[[Actual]:[Mapping]],2,FALSE)","v":"Canada"},{"$f":"VLOOKUP(tblSalaries[[#This Row],[clean Country]]&\"*\",Cont_Table,2,0)","v":"North America"},"2 to 3 hours per day"]
[null,"ID0240","2012-05-26T01:02:16",{"$f":"LEFT(tblSalaries[[#This Row],[Timestamp]],FIND(\".\",tblSalaries[[#This Row],[Timestamp]],1))","v":"41055."},"1000 â‚¬",12000,"EUR",{"$f":"tblSalaries[[#This Row],[clean Salary (in local currency)]]*VLOOKUP(tblSalaries[[#This Row],[Currency]],tblXrate[],2,FALSE)","v":15244.793267899293},"HR Specialist","Specialist","Portugal",{"$f":"VLOOKUP(tblSalaries[[#This Row],[Where do you work]],tblCountries[[Actual]:[Mapping]],2,FALSE)","v":"Portugal"},{"$f":"VLOOKUP(tblSalaries[[#This Row],[clean Country]]&\"*\",Cont_Table,2,0)","v":"Europe"},"All the 8 hours baby, all the 8!"]
[null,"ID0241","2012-05-26T01:02:21",{"$f":"LEFT(tblSalaries[[#This Row],[Timestamp]],FIND(\".\",tblSalaries[[#This Row],[Timestamp]],1))","v":"41055."},73000,73000,"USD",{"$f":"tblSalaries[[#This Row],[clean Salary (in local currency)]]*VLOOKUP(tblSalaries[[#This Row],[Currency]],tblXrate[],2,FALSE)","v":73000},"Financial Analyst","Analyst","USA",{"$f":"VLOOKUP(tblSalaries[[#This Row],[Where do you work]],tblCountries[[Actual]:[Mapping]],2,FALSE)","v":"USA"},{"$f":"VLOOKUP(tblSalaries[[#This Row],[clean Country]]&\"*\",Cont_Table,2,0)","v":"North America"},"4 to 6 hours a day"]
[null,"ID0242","2012-05-26T01:02:47",{"$f":"LEFT(tblSalaries[[#This Row],[Timestamp]],FIND(\".\",tblSalaries[[#This Row],[Timestamp]],1))","v":"41055."},50000,50000,"USD",{"$f":"tblSalaries[[#This Row],[clean Salary (in local currency)]]*VLOOKUP(tblSalaries[[#This Row],[Currency]],tblXrate[],2,FALSE)","v":50000},"data analyst","Analyst","USA",{"$f":"VLOOKUP(tblSalaries[[#This Row],[Where do you work]],tblCountries[[Actual]:[Mapping]],2,FALSE)","v":"USA"},{"$f":"VLOOKUP(tblSalaries[[#This Row],[clean Country]]&\"*\",Cont_Table,2,0)","v":"North America"},"All the 8 hours baby, all the 8!"]
[null,"ID0243","2012-05-26T01:02:51",{"$f":"LEFT(tblSalaries[[#This Row],[Timestamp]],FIND(\".\",tblSalaries[[#This Row],[Timestamp]],1))","v":"41055."},79000,79000,"USD",{"$f":"tblSalaries[[#This Row],[clean Salary (in local currency)]]*VLOOKUP(tblSalaries[[#This Row],[Currency]],tblXrate[],2,FALSE)","v":79000},"Director of Finance and Accounting","Accountant","USA",{"$f":"VLOOKUP(tblSalaries[[#This Row],[Where do you work]],tblCountries[[Actual]:[Mapping]],2,FALSE)","v":"USA"},{"$f":"VLOOKUP(tblSalaries[[#This Row],[clean Country]]&\"*\",Cont_Table,2,0)","v":"North America"},"2 to 3 hours per day"]
[null,"ID0244","2012-05-26T01:03:07",{"$f":"LEFT(tblSalaries[[#This Row],[Timestamp]],FIND(\".\",tblSalaries[[#This Row],[Timestamp]],1))","v":"41055."},90000,90000,"USD",{"$f":"tblSalaries[[#This Row],[clean Salary (in local currency)]]*VLOOKUP(tblSalaries[[#This Row],[Currency]],tblXrate[],2,FALSE)","v":90000},"Manager Business Control","Manager","USA",{"$f":"VLOOKUP(tblSalaries[[#This Row],[Where do you work]],tblCountries[[Actual]:[Mapping]],2,FALSE)","v":"USA"},{"$f":"VLOOKUP(tblSalaries[[#This Row],[clean Country]]&\"*\",Cont_Table,2,0)","v":"North America"},"4 to 6 hours a day"]
[null,"ID0245","2012-05-26T01:03:28",{"$f":"LEFT(tblSalaries[[#This Row],[Timestamp]],FIND(\".\",tblSalaries[[#This Row],[Timestamp]],1))","v":"41055."},70000,70000,"USD",{"$f":"tblSalaries[[#This Row],[clean Salary (in local currency)]]*VLOOKUP(tblSalaries[[#This Row],[Currency]],tblXrate[],2,FALSE)","v":70000},"Manager Pricing","Manager","USA",{"$f":"VLOOKUP(tblSalaries[[#This Row],[Where do you work]],tblCountries[[Actual]:[Mapping]],2,FALSE)","v":"USA"},{"$f":"VLOOKUP(tblSalaries[[#This Row],[clean Country]]&\"*\",Cont_Table,2,0)","v":"North America"},"2 to 3 hours per day"]
[null,"ID0246","2012-05-26T01:03:34",{"$f":"LEFT(tblSalaries[[#This Row],[Timestamp]],FIND(\".\",tblSalaries[[#This Row],[Timestamp]],1))","v":"41055."},65000,65000,"CAD",{"$f":"tblSalaries[[#This Row],[clean Salary (in local currency)]]*VLOOKUP(tblSalaries[[#This Row],[Currency]],tblXrate[],2,FALSE)","v":63918.498996971248},"Insurance Manager","Manager","Canada",{"$f":"VLOOKUP(tblSalaries[[#This Row],[Where do you work]],tblCountries[[Actual]:[Mapping]],2,FALSE)","v":"Canada"},{"$f":"VLOOKUP(tblSalaries[[#This Row],[clean Country]]&\"*\",Cont_Table,2,0)","v":"North America"},"4 to 6 hours a day"]
[null,"ID0247","2012-05-26T01:03:52",{"$f":"LEFT(tblSalaries[[#This Row],[Timestamp]],FIND(\".\",tblSalaries[[#This Row],[Timestamp]],1))","v":"41055."},80000,80000,"USD",{"$f":"tblSalaries[[#This Row],[clean Salary (in local currency)]]*VLOOKUP(tblSalaries[[#This Row],[Currency]],tblXrate[],2,FALSE)","v":80000},"Analyst","Analyst","USA",{"$f":"VLOOKUP(tblSalaries[[#This Row],[Where do you work]],tblCountries[[Actual]:[Mapping]],2,FALSE)","v":"USA"},{"$f":"VLOOKUP(tblSalaries[[#This Row],[clean Country]]&\"*\",Cont_Table,2,0)","v":"North America"},"4 to 6 hours a day"]
[null,"ID0248","2012-05-26T01:03:54",{"$f":"LEFT(tblSalaries[[#This Row],[Timestamp]],FIND(\".\",tblSalaries[[#This Row],[Timestamp]],1))","v":"41055."},140000,140000,"USD",{"$f":"tblSalaries[[#This Row],[clean Salary (in local currency)]]*VLOOKUP(tblSalaries[[#This Row],[Currency]],tblXrate[],2,FALSE)","v":140000},"Manager","Manager","USA",{"$f":"VLOOKUP(tblSalaries[[#This Row],[Where do you work]],tblCountries[[Actual]:[Mapping]],2,FALSE)","v":"USA"},{"$f":"VLOOKUP(tblSalaries[[#This Row],[clean Country]]&\"*\",Cont_Table,2,0)","v":"North America"},"4 to 6 hours a day"]
[null,"ID0249","2012-05-26T01:04:13",{"$f":"LEFT(tblSalaries[[#This Row],[Timestamp]],FIND(\".\",tblSalaries[[#This Row],[Timestamp]],1))","v":"41055."},"US$ 96k",96000,"USD",{"$f":"tblSalaries[[#This Row],[clean Salary (in local currency)]]*VLOOKUP(tblSalaries[[#This Row],[Currency]],tblXrate[],2,FALSE)","v":96000},"Freellance","Consultant","Poland",{"$f":"VLOOKUP(tblSalaries[[#This Row],[Where do you work]],tblCountries[[Actual]:[Mapping]],2,FALSE)","v":"Poland"},{"$f":"VLOOKUP(tblSalaries[[#This Row],[clean Country]]&\"*\",Cont_Table,2,0)","v":"Europe"},"2 to 3 hours per day"]
[null,"ID0250","2012-05-26T01:04:17",{"$f":"LEFT(tblSalaries[[#This Row],[Timestamp]],FIND(\".\",tblSalaries[[#This Row],[Timestamp]],1))","v":"41055."},20000,20000,"USD",{"$f":"tblSalaries[[#This Row],[clean Salary (in local currency)]]*VLOOKUP(tblSalaries[[#This Row],[Currency]],tblXrate[],2,FALSE)","v":20000},"category manager","Manager","India",{"$f":"VLOOKUP(tblSalaries[[#This Row],[Where do you work]],tblCountries[[Actual]:[Mapping]],2,FALSE)","v":"India"},{"$f":"VLOOKUP(tblSalaries[[#This Row],[clean Country]]&\"*\",Cont_Table,2,0)","v":"Asia"},"4 to 6 hours a day"]
[null,"ID0251","2012-05-26T01:04:50",{"$f":"LEFT(tblSalaries[[#This Row],[Timestamp]],FIND(\".\",tblSalaries[[#This Row],[Timestamp]],1))","v":"41055."},47700,47700,"USD",{"$f":"tblSalaries[[#This Row],[clean Salary (in local currency)]]*VLOOKUP(tblSalaries[[#This Row],[Currency]],tblXrate[],2,FALSE)","v":47700},"Customer Operations Analyst","Analyst","USA",{"$f":"VLOOKUP(tblSalaries[[#This Row],[Where do you work]],tblCountries[[Actual]:[Mapping]],2,FALSE)","v":"USA"},{"$f":"VLOOKUP(tblSalaries[[#This Row],[clean Country]]&\"*\",Cont_Table,2,0)","v":"North America"},"4 to 6 hours a day"]
[null,"ID0252","2012-05-26T01:05:14",{"$f":"LEFT(tblSalaries[[#This Row],[Timestamp]],FIND(\".\",tblSalaries[[#This Row],[Timestamp]],1))","v":"41055."},25000,25000,"USD",{"$f":"tblSalaries[[#This Row],[clean Salary (in local currency)]]*VLOOKUP(tblSalaries[[#This Row],[Currency]],tblXrate[],2,FALSE)","v":25000},"Team Lead","Manager","India",{"$f":"VLOOKUP(tblSalaries[[#This Row],[Where do you work]],tblCountries[[Actual]:[Mapping]],2,FALSE)","v":"India"},{"$f":"VLOOKUP(tblSalaries[[#This Row],[clean Country]]&\"*\",Cont_Table,2,0)","v":"Asia"},"1 or 2 hours a day"]
[null,"ID0253","2012-05-26T01:05:18",{"$f":"LEFT(tblSalaries[[#This Row],[Timestamp]],FIND(\".\",tblSalaries[[#This Row],[Timestamp]],1))","v":"41055."},52500,52500,"USD",{"$f":"tblSalaries[[#This Row],[clean Salary (in local currency)]]*VLOOKUP(tblSalaries[[#This Row],[Currency]],tblXrate[],2,FALSE)","v":52500},"Analyst","Analyst","USA",{"$f":"VLOOKUP(tblSalaries[[#This Row],[Where do you work]],tblCountries[[Actual]:[Mapping]],2,FALSE)","v":"USA"},{"$f":"VLOOKUP(tblSalaries[[#This Row],[clean Country]]&\"*\",Cont_Table,2,0)","v":"North America"},"4 to 6 hours a day"]
[null,"ID0254","2012-05-26T01:05:27",{"$f":"LEFT(tblSalaries[[#This Row],[Timestamp]],FIND(\".\",tblSalaries[[#This Row],[Timestamp]],1))","v":"41055."},40000,40000,"USD",{"$f":"tblSalaries[[#This Row],[clean Salary (in local currency)]]*VLOOKUP(tblSalaries[[#This Row],[Currency]],tblXrate[],2,FALSE)","v":40000},"Business Analyst","Analyst","USA",{"$f":"VLOOKUP(tblSalaries[[#This Row],[Where do you work]],tblCountries[[Actual]:[Mapping]],2,FALSE)","v":"USA"},{"$f":"VLOOKUP(tblSalaries[[#This Row],[clean Country]]&\"*\",Cont_Table,2,0)","v":"North America"},"All the 8 hours baby, all the 8!"]
[null,"ID0255","2012-05-26T01:06:02",{"$f":"LEFT(tblSalaries[[#This Row],[Timestamp]],FIND(\".\",tblSalaries[[#This Row],[Timestamp]],1))","v":"41055."},"$31,000 USD",31000,"USD",{"$f":"tblSalaries[[#This Row],[clean Salary (in local currency)]]*VLOOKUP(tblSalaries[[#This Row],[Currency]],tblXrate[],2,FALSE)","v":31000},"Site Technician","Analyst","USA",{"$f":"VLOOKUP(tblSalaries[[#This Row],[Where do you work]],tblCountries[[Actual]:[Mapping]],2,FALSE)","v":"USA"},{"$f":"VLOOKUP(tblSalaries[[#This Row],[clean Country]]&\"*\",Cont_Table,2,0)","v":"North America"},"4 to 6 hours a day"]
[null,"ID0256","2012-05-26T01:06:12",{"$f":"LEFT(tblSalaries[[#This Row],[Timestamp]],FIND(\".\",tblSalaries[[#This Row],[Timestamp]],1))","v":"41055."},4390,52680,"GBP",{"$f":"tblSalaries[[#This Row],[clean Salary (in local currency)]]*VLOOKUP(tblSalaries[[#This Row],[Currency]],tblXrate[],2,FALSE)","v":83033.071372504521},"Excel Consultant","Consultant","UK",{"$f":"VLOOKUP(tblSalaries[[#This Row],[Where do you work]],tblCountries[[Actual]:[Mapping]],2,FALSE)","v":"UK"},{"$f":"VLOOKUP(tblSalaries[[#This Row],[clean Country]]&\"*\",Cont_Table,2,0)","v":"Europe"},"All the 8 hours baby, all the 8!"]
[null,"ID0257","2012-05-26T01:06:31",{"$f":"LEFT(tblSalaries[[#This Row],[Timestamp]],FIND(\".\",tblSalaries[[#This Row],[Timestamp]],1))","v":"41055."},130000,130000,"USD",{"$f":"tblSalaries[[#This Row],[clean Salary (in local currency)]]*VLOOKUP(tblSalaries[[#This Row],[Currency]],tblXrate[],2,FALSE)","v":130000},"Senior Project Manager","Manager","USA",{"$f":"VLOOKUP(tblSalaries[[#This Row],[Where do you work]],tblCountries[[Actual]:[Mapping]],2,FALSE)","v":"USA"},{"$f":"VLOOKUP(tblSalaries[[#This Row],[clean Country]]&\"*\",Cont_Table,2,0)","v":"North America"},"4 to 6 hours a day"]
[null,"ID0258","2012-05-26T01:06:38",{"$f":"LEFT(tblSalaries[[#This Row],[Timestamp]],FIND(\".\",tblSalaries[[#This Row],[Timestamp]],1))","v":"41055."},"Rs 470000",470000,"INR",{"$f":"tblSalaries[[#This Row],[clean Salary (in local currency)]]*VLOOKUP(tblSalaries[[#This Row],[Currency]],tblXrate[],2,FALSE)","v":8369.7208430980063},"Web Statistics Analyst","Analyst","India",{"$f":"VLOOKUP(tblSalaries[[#This Row],[Where do you work]],tblCountries[[Actual]:[Mapping]],2,FALSE)","v":"India"},{"$f":"VLOOKUP(tblSalaries[[#This Row],[clean Country]]&\"*\",Cont_Table,2,0)","v":"Asia"},"All the 8 hours baby, all the 8!"]
[null,"ID0259","2012-05-26T01:07:02",{"$f":"LEFT(tblSalaries[[#This Row],[Timestamp]],FIND(\".\",tblSalaries[[#This Row],[Timestamp]],1))","v":"41055."},51000,51000,"USD",{"$f":"tblSalaries[[#This Row],[clean Salary (in local currency)]]*VLOOKUP(tblSalaries[[#This Row],[Currency]],tblXrate[],2,FALSE)","v":51000},"Business Data Analyst I","Analyst","USA",{"$f":"VLOOKUP(tblSalaries[[#This Row],[Where do you work]],tblCountries[[Actual]:[Mapping]],2,FALSE)","v":"USA"},{"$f":"VLOOKUP(tblSalaries[[#This Row],[clean Country]]&\"*\",Cont_Table,2,0)","v":"North America"},"2 to 3 hours per day"]
[null,"ID0260","2012-05-26T01:07:18",{"$f":"LEFT(tblSalaries[[#This Row],[Timestamp]],FIND(\".\",tblSalaries[[#This Row],[Timestamp]],1))","v":"41055."},"Â£60000",60000,"GBP",{"$f":"tblSalaries[[#This Row],[clean Salary (in local currency)]]*VLOOKUP(tblSalaries[[#This Row],[Currency]],tblXrate[],2,FALSE)","v":94570.696324037053},"Decision Analyst & Modeller","Analyst","UK",{"$f":"VLOOKUP(tblSalaries[[#This Row],[Where do you work]],tblCountries[[Actual]:[Mapping]],2,FALSE)","v":"UK"},{"$f":"VLOOKUP(tblSalaries[[#This Row],[clean Country]]&\"*\",Cont_Table,2,0)","v":"Europe"},"All the 8 hours baby, all the 8!"]
[null,"ID0261","2012-05-26T01:07:42",{"$f":"LEFT(tblSalaries[[#This Row],[Timestamp]],FIND(\".\",tblSalaries[[#This Row],[Timestamp]],1))","v":"41055."},1920000,1920000,"INR",{"$f":"tblSalaries[[#This Row],[clean Salary (in local currency)]]*VLOOKUP(tblSalaries[[#This Row],[Currency]],tblXrate[],2,FALSE)","v":34191.200039889729},"Project Manager","Manager","India",{"$f":"VLOOKUP(tblSalaries[[#This Row],[Where do you work]],tblCountries[[Actual]:[Mapping]],2,FALSE)","v":"India"},{"$f":"VLOOKUP(tblSalaries[[#This Row],[clean Country]]&\"*\",Cont_Table,2,0)","v":"Asia"},"2 to 3 hours per day"]
[null,"ID0262","2012-05-26T01:08:00",{"$f":"LEFT(tblSalaries[[#This Row],[Timestamp]],FIND(\".\",tblSalaries[[#This Row],[Timestamp]],1))","v":"41055."},28000,28000,"GBP",{"$f":"tblSalaries[[#This Row],[clean Salary (in local currency)]]*VLOOKUP(tblSalaries[[#This Row],[Currency]],tblXrate[],2,FALSE)","v":44132.991617883956},"Ops Adminstrator","Analyst","UK",{"$f":"VLOOKUP(tblSalaries[[#This Row],[Where do you work]],tblCountries[[Actual]:[Mapping]],2,FALSE)","v":"UK"},{"$f":"VLOOKUP(tblSalaries[[#This Row],[clean Country]]&\"*\",Cont_Table,2,0)","v":"Europe"},"All the 8 hours baby, all the 8!"]
[null,"ID0263","2012-05-26T01:08:04",{"$f":"LEFT(tblSalaries[[#This Row],[Timestamp]],FIND(\".\",tblSalaries[[#This Row],[Timestamp]],1))","v":"41055."},73000,73000,"USD",{"$f":"tblSalaries[[#This Row],[clean Salary (in local currency)]]*VLOOKUP(tblSalaries[[#This Row],[Currency]],tblXrate[],2,FALSE)","v":73000},"Sr. Global marketing Specialist","Specialist","USA",{"$f":"VLOOKUP(tblSalaries[[#This Row],[Where do you work]],tblCountries[[Actual]:[Mapping]],2,FALSE)","v":"USA"},{"$f":"VLOOKUP(tblSalaries[[#This Row],[clean Country]]&\"*\",Cont_Table,2,0)","v":"North America"},"4 to 6 hours a day"]
[null,"ID0264","2012-05-26T01:08:19",{"$f":"LEFT(tblSalaries[[#This Row],[Timestamp]],FIND(\".\",tblSalaries[[#This Row],[Timestamp]],1))","v":"41055."},62400,62400,"USD",{"$f":"tblSalaries[[#This Row],[clean Salary (in local currency)]]*VLOOKUP(tblSalaries[[#This Row],[Currency]],tblXrate[],2,FALSE)","v":62400},"financial accountant","Accountant","USA",{"$f":"VLOOKUP(tblSalaries[[#This Row],[Where do you work]],tblCountries[[Actual]:[Mapping]],2,FALSE)","v":"USA"},{"$f":"VLOOKUP(tblSalaries[[#This Row],[clean Country]]&\"*\",Cont_Table,2,0)","v":"North America"},"All the 8 hours baby, all the 8!"]
[null,"ID0265","2012-05-26T01:08:21",{"$f":"LEFT(tblSalaries[[#This Row],[Timestamp]],FIND(\".\",tblSalaries[[#This Row],[Timestamp]],1))","v":"41055."},2300,27600,"USD",{"$f":"tblSalaries[[#This Row],[clean Salary (in local currency)]]*VLOOKUP(tblSalaries[[#This Row],[Currency]],tblXrate[],2,FALSE)","v":27600},"Software Consultant","Consultant","Singapore",{"$f":"VLOOKUP(tblSalaries[[#This Row],[Where do you work]],tblCountries[[Actual]:[Mapping]],2,FALSE)","v":"Singapore"},{"$f":"VLOOKUP(tblSalaries[[#This Row],[clean Country]]&\"*\",Cont_Table,2,0)","v":"Asia"},"All the 8 hours baby, all the 8!"]
[null,"ID0266","2012-05-26T01:08:35",{"$f":"LEFT(tblSalaries[[#This Row],[Timestamp]],FIND(\".\",tblSalaries[[#This Row],[Timestamp]],1))","v":"41055."},54000,54000,"USD",{"$f":"tblSalaries[[#This Row],[clean Salary (in local currency)]]*VLOOKUP(tblSalaries[[#This Row],[Currency]],tblXrate[],2,FALSE)","v":54000},"Anaylst","Manager","USA",{"$f":"VLOOKUP(tblSalaries[[#This Row],[Where do you work]],tblCountries[[Actual]:[Mapping]],2,FALSE)","v":"USA"},{"$f":"VLOOKUP(tblSalaries[[#This Row],[clean Country]]&\"*\",Cont_Table,2,0)","v":"North America"},"All the 8 hours baby, all the 8!"]
[null,"ID0267","2012-05-26T01:08:39",{"$f":"LEFT(tblSalaries[[#This Row],[Timestamp]],FIND(\".\",tblSalaries[[#This Row],[Timestamp]],1))","v":"41055."},"rs 2.76 lakhs per year",276000,"INR",{"$f":"tblSalaries[[#This Row],[clean Salary (in local currency)]]*VLOOKUP(tblSalaries[[#This Row],[Currency]],tblXrate[],2,FALSE)","v":4914.9850057341491},"analyst","Analyst","India",{"$f":"VLOOKUP(tblSalaries[[#This Row],[Where do you work]],tblCountries[[Actual]:[Mapping]],2,FALSE)","v":"India"},{"$f":"VLOOKUP(tblSalaries[[#This Row],[clean Country]]&\"*\",Cont_Table,2,0)","v":"Asia"},"All the 8 hours baby, all the 8!"]
[null,"ID0268","2012-05-26T01:08:42",{"$f":"LEFT(tblSalaries[[#This Row],[Timestamp]],FIND(\".\",tblSalaries[[#This Row],[Timestamp]],1))","v":"41055."},"$77,000 USD",77000,"USD",{"$f":"tblSalaries[[#This Row],[clean Salary (in local currency)]]*VLOOKUP(tblSalaries[[#This Row],[Currency]],tblXrate[],2,FALSE)","v":77000},"senior accounting coordinator","Accountant","USA",{"$f":"VLOOKUP(tblSalaries[[#This Row],[Where do you work]],tblCountries[[Actual]:[Mapping]],2,FALSE)","v":"USA"},{"$f":"VLOOKUP(tblSalaries[[#This Row],[clean Country]]&\"*\",Cont_Table,2,0)","v":"North America"},"4 to 6 hours a day"]
[null,"ID0269","2012-05-26T01:09:01",{"$f":"LEFT(tblSalaries[[#This Row],[Timestamp]],FIND(\".\",tblSalaries[[#This Row],[Timestamp]],1))","v":"41055."},76000,76000,"USD",{"$f":"tblSalaries[[#This Row],[clean Salary (in local currency)]]*VLOOKUP(tblSalaries[[#This Row],[Currency]],tblXrate[],2,FALSE)","v":76000},"Demand Planning Mgr","Manager","USA",{"$f":"VLOOKUP(tblSalaries[[#This Row],[Where do you work]],tblCountries[[Actual]:[Mapping]],2,FALSE)","v":"USA"},{"$f":"VLOOKUP(tblSalaries[[#This Row],[clean Country]]&\"*\",Cont_Table,2,0)","v":"North America"},"All the 8 hours baby, all the 8!"]
[null,"ID0270","2012-05-26T01:09:32",{"$f":"LEFT(tblSalaries[[#This Row],[Timestamp]],FIND(\".\",tblSalaries[[#This Row],[Timestamp]],1))","v":"41055."},103000,103000,"USD",{"$f":"tblSalaries[[#This Row],[clean Salary (in local currency)]]*VLOOKUP(tblSalaries[[#This Row],[Currency]],tblXrate[],2,FALSE)","v":103000},"VP / Credit Administrator","CXO or Top Mgmt.","USA",{"$f":"VLOOKUP(tblSalaries[[#This Row],[Where do you work]],tblCountries[[Actual]:[Mapping]],2,FALSE)","v":"USA"},{"$f":"VLOOKUP(tblSalaries[[#This Row],[clean Country]]&\"*\",Cont_Table,2,0)","v":"North America"},"2 to 3 hours per day"]
[null,"ID0271","2012-05-26T01:09:34",{"$f":"LEFT(tblSalaries[[#This Row],[Timestamp]],FIND(\".\",tblSalaries[[#This Row],[Timestamp]],1))","v":"41055."},7600,7600,"USD",{"$f":"tblSalaries[[#This Row],[clean Salary (in local currency)]]*VLOOKUP(tblSalaries[[#This Row],[Currency]],tblXrate[],2,FALSE)","v":7600},"DP specialist","Specialist","Ukraine",{"$f":"VLOOKUP(tblSalaries[[#This Row],[Where do you work]],tblCountries[[Actual]:[Mapping]],2,FALSE)","v":"Ukraine"},{"$f":"VLOOKUP(tblSalaries[[#This Row],[clean Country]]&\"*\",Cont_Table,2,0)","v":"Europe"},"1 or 2 hours a day"]
[null,"ID0272","2012-05-26T01:09:56",{"$f":"LEFT(tblSalaries[[#This Row],[Timestamp]],FIND(\".\",tblSalaries[[#This Row],[Timestamp]],1))","v":"41055."},40000,40000,"USD",{"$f":"tblSalaries[[#This Row],[clean Salary (in local currency)]]*VLOOKUP(tblSalaries[[#This Row],[Currency]],tblXrate[],2,FALSE)","v":40000},"Analyst 2","Analyst","USA",{"$f":"VLOOKUP(tblSalaries[[#This Row],[Where do you work]],tblCountries[[Actual]:[Mapping]],2,FALSE)","v":"USA"},{"$f":"VLOOKUP(tblSalaries[[#This Row],[clean Country]]&\"*\",Cont_Table,2,0)","v":"North America"},"4 to 6 hours a day"]
[null,"ID0273","2012-05-26T01:10:20",{"$f":"LEFT(tblSalaries[[#This Row],[Timestamp]],FIND(\".\",tblSalaries[[#This Row],[Timestamp]],1))","v":"41055."},80000,80000,"USD",{"$f":"tblSalaries[[#This Row],[clean Salary (in local currency)]]*VLOOKUP(tblSalaries[[#This Row],[Currency]],tblXrate[],2,FALSE)","v":80000},"VP","CXO or Top Mgmt.","USA",{"$f":"VLOOKUP(tblSalaries[[#This Row],[Where do you work]],tblCountries[[Actual]:[Mapping]],2,FALSE)","v":"USA"},{"$f":"VLOOKUP(tblSalaries[[#This Row],[clean Country]]&\"*\",Cont_Table,2,0)","v":"North America"},"2 to 3 hours per day"]
[null,"ID0274","2012-05-26T01:10:24",{"$f":"LEFT(tblSalaries[[#This Row],[Timestamp]],FIND(\".\",tblSalaries[[#This Row],[Timestamp]],1))","v":"41055."},55000,55000,"USD",{"$f":"tblSalaries[[#This Row],[clean Salary (in local currency)]]*VLOOKUP(tblSalaries[[#This Row],[Currency]],tblXrate[],2,FALSE)","v":55000},"data analyst","Analyst","USA",{"$f":"VLOOKUP(tblSalaries[[#This Row],[Where do you work]],tblCountries[[Actual]:[Mapping]],2,FALSE)","v":"USA"},{"$f":"VLOOKUP(tblSalaries[[#This Row],[clean Country]]&\"*\",Cont_Table,2,0)","v":"North America"},"All the 8 hours baby, all the 8!"]
[null,"ID0275","2012-05-26T01:10:55",{"$f":"LEFT(tblSalaries[[#This Row],[Timestamp]],FIND(\".\",tblSalaries[[#This Row],[Timestamp]],1))","v":"41055."},99000,99000,"USD",{"$f":"tblSalaries[[#This Row],[clean Salary (in local currency)]]*VLOOKUP(tblSalaries[[#This Row],[Currency]],tblXrate[],2,FALSE)","v":99000},"Business Analyst","Analyst","USA",{"$f":"VLOOKUP(tblSalaries[[#This Row],[Where do you work]],tblCountries[[Actual]:[Mapping]],2,FALSE)","v":"USA"},{"$f":"VLOOKUP(tblSalaries[[#This Row],[clean Country]]&\"*\",Cont_Table,2,0)","v":"North America"},"2 to 3 hours per day"]
[null,"ID0276","2012-05-26T01:10:56",{"$f":"LEFT(tblSalaries[[#This Row],[Timestamp]],FIND(\".\",tblSalaries[[#This Row],[Timestamp]],1))","v":"41055."},"35,000 Philippine Peso",420000,"PHP",{"$f":"tblSalaries[[#This Row],[clean Salary (in local currency)]]*VLOOKUP(tblSalaries[[#This Row],[Currency]],tblXrate[],2,FALSE)","v":9956.1219482708348},"Global Problem Management - IT","Manager","Philippines",{"$f":"VLOOKUP(tblSalaries[[#This Row],[Where do you work]],tblCountries[[Actual]:[Mapping]],2,FALSE)","v":"Philippines"},{"$f":"VLOOKUP(tblSalaries[[#This Row],[clean Country]]&\"*\",Cont_Table,2,0)","v":"Asia"},"4 to 6 hours a day"]
[null,"ID0277","2012-05-26T01:11:12",{"$f":"LEFT(tblSalaries[[#This Row],[Timestamp]],FIND(\".\",tblSalaries[[#This Row],[Timestamp]],1))","v":"41055."},75000,75000,"USD",{"$f":"tblSalaries[[#This Row],[clean Salary (in local currency)]]*VLOOKUP(tblSalaries[[#This Row],[Currency]],tblXrate[],2,FALSE)","v":75000},"financial analyst","Analyst","USA",{"$f":"VLOOKUP(tblSalaries[[#This Row],[Where do you work]],tblCountries[[Actual]:[Mapping]],2,FALSE)","v":"USA"},{"$f":"VLOOKUP(tblSalaries[[#This Row],[clean Country]]&\"*\",Cont_Table,2,0)","v":"North America"},"4 to 6 hours a day"]
[null,"ID0278","2012-05-26T01:11:54",{"$f":"LEFT(tblSalaries[[#This Row],[Timestamp]],FIND(\".\",tblSalaries[[#This Row],[Timestamp]],1))","v":"41055."},80000,80000,"USD",{"$f":"tblSalaries[[#This Row],[clean Salary (in local currency)]]*VLOOKUP(tblSalaries[[#This Row],[Currency]],tblXrate[],2,FALSE)","v":80000},"Enterprise Performance Metrics Manager","Manager","USA",{"$f":"VLOOKUP(tblSalaries[[#This Row],[Where do you work]],tblCountries[[Actual]:[Mapping]],2,FALSE)","v":"USA"},{"$f":"VLOOKUP(tblSalaries[[#This Row],[clean Country]]&\"*\",Cont_Table,2,0)","v":"North America"},"2 to 3 hours per day"]
[null,"ID0279","2012-05-26T01:12:41",{"$f":"LEFT(tblSalaries[[#This Row],[Timestamp]],FIND(\".\",tblSalaries[[#This Row],[Timestamp]],1))","v":"41055."},20000,20000,"USD",{"$f":"tblSalaries[[#This Row],[clean Salary (in local currency)]]*VLOOKUP(tblSalaries[[#This Row],[Currency]],tblXrate[],2,FALSE)","v":20000},"Analyst","Analyst","India",{"$f":"VLOOKUP(tblSalaries[[#This Row],[Where do you work]],tblCountries[[Actual]:[Mapping]],2,FALSE)","v":"India"},{"$f":"VLOOKUP(tblSalaries[[#This Row],[clean Country]]&\"*\",Cont_Table,2,0)","v":"Asia"},"All the 8 hours baby, all the 8!"]
[null,"ID0280","2012-05-26T01:13:50",{"$f":"LEFT(tblSalaries[[#This Row],[Timestamp]],FIND(\".\",tblSalaries[[#This Row],[Timestamp]],1))","v":"41055."},40000,40000,"USD",{"$f":"tblSalaries[[#This Row],[clean Salary (in local currency)]]*VLOOKUP(tblSalaries[[#This Row],[Currency]],tblXrate[],2,FALSE)","v":40000},"Business Analyst","Analyst","USA",{"$f":"VLOOKUP(tblSalaries[[#This Row],[Where do you work]],tblCountries[[Actual]:[Mapping]],2,FALSE)","v":"USA"},{"$f":"VLOOKUP(tblSalaries[[#This Row],[clean Country]]&\"*\",Cont_Table,2,0)","v":"North America"},"All the 8 hours baby, all the 8!"]
[null,"ID0281","2012-05-26T01:14:27",{"$f":"LEFT(tblSalaries[[#This Row],[Timestamp]],FIND(\".\",tblSalaries[[#This Row],[Timestamp]],1))","v":"41055."},46000,46000,"USD",{"$f":"tblSalaries[[#This Row],[clean Salary (in local currency)]]*VLOOKUP(tblSalaries[[#This Row],[Currency]],tblXrate[],2,FALSE)","v":46000},"University Relations Intern","Analyst","USA",{"$f":"VLOOKUP(tblSalaries[[#This Row],[Where do you work]],tblCountries[[Actual]:[Mapping]],2,FALSE)","v":"USA"},{"$f":"VLOOKUP(tblSalaries[[#This Row],[clean Country]]&\"*\",Cont_Table,2,0)","v":"North America"},"All the 8 hours baby, all the 8!"]
[null,"ID0282","2012-05-26T01:14:55",{"$f":"LEFT(tblSalaries[[#This Row],[Timestamp]],FIND(\".\",tblSalaries[[#This Row],[Timestamp]],1))","v":"41055."},14000,14000,"USD",{"$f":"tblSalaries[[#This Row],[clean Salary (in local currency)]]*VLOOKUP(tblSalaries[[#This Row],[Currency]],tblXrate[],2,FALSE)","v":14000},"Auxiliar Administrativo","Analyst","Brazil",{"$f":"VLOOKUP(tblSalaries[[#This Row],[Where do you work]],tblCountries[[Actual]:[Mapping]],2,FALSE)","v":"Brazil"},{"$f":"VLOOKUP(tblSalaries[[#This Row],[clean Country]]&\"*\",Cont_Table,2,0)","v":"South America"},"1 or 2 hours a day"]
[null,"ID0283","2012-05-26T01:15:05",{"$f":"LEFT(tblSalaries[[#This Row],[Timestamp]],FIND(\".\",tblSalaries[[#This Row],[Timestamp]],1))","v":"41055."},70000,70000,"USD",{"$f":"tblSalaries[[#This Row],[clean Salary (in local currency)]]*VLOOKUP(tblSalaries[[#This Row],[Currency]],tblXrate[],2,FALSE)","v":70000},"Engineering Tech Sr.","Engineer","USA",{"$f":"VLOOKUP(tblSalaries[[#This Row],[Where do you work]],tblCountries[[Actual]:[Mapping]],2,FALSE)","v":"USA"},{"$f":"VLOOKUP(tblSalaries[[#This Row],[clean Country]]&\"*\",Cont_Table,2,0)","v":"North America"},"All the 8 hours baby, all the 8!"]
[null,"ID0284","2012-05-26T01:15:12",{"$f":"LEFT(tblSalaries[[#This Row],[Timestamp]],FIND(\".\",tblSalaries[[#This Row],[Timestamp]],1))","v":"41055."},"36000 $",36000,"USD",{"$f":"tblSalaries[[#This Row],[clean Salary (in local currency)]]*VLOOKUP(tblSalaries[[#This Row],[Currency]],tblXrate[],2,FALSE)","v":36000},"Senior Specialist","Specialist","Russia",{"$f":"VLOOKUP(tblSalaries[[#This Row],[Where do you work]],tblCountries[[Actual]:[Mapping]],2,FALSE)","v":"Russia"},{"$f":"VLOOKUP(tblSalaries[[#This Row],[clean Country]]&\"*\",Cont_Table,2,0)","v":"Asia"},"4 to 6 hours a day"]
[null,"ID0285","2012-05-26T01:15:25",{"$f":"LEFT(tblSalaries[[#This Row],[Timestamp]],FIND(\".\",tblSalaries[[#This Row],[Timestamp]],1))","v":"41055."},15000,15000,"USD",{"$f":"tblSalaries[[#This Row],[clean Salary (in local currency)]]*VLOOKUP(tblSalaries[[#This Row],[Currency]],tblXrate[],2,FALSE)","v":15000},"moneymaker","Manager","USA",{"$f":"VLOOKUP(tblSalaries[[#This Row],[Where do you work]],tblCountries[[Actual]:[Mapping]],2,FALSE)","v":"USA"},{"$f":"VLOOKUP(tblSalaries[[#This Row],[clean Country]]&\"*\",Cont_Table,2,0)","v":"North America"},"2 to 3 hours per day"]
[null,"ID0286","2012-05-26T01:16:18",{"$f":"LEFT(tblSalaries[[#This Row],[Timestamp]],FIND(\".\",tblSalaries[[#This Row],[Timestamp]],1))","v":"41055."},"INR 15,00,000",1500000,"INR",{"$f":"tblSalaries[[#This Row],[clean Salary (in local currency)]]*VLOOKUP(tblSalaries[[#This Row],[Currency]],tblXrate[],2,FALSE)","v":26711.875031163851},"Consultant","Consultant","India",{"$f":"VLOOKUP(tblSalaries[[#This Row],[Where do you work]],tblCountries[[Actual]:[Mapping]],2,FALSE)","v":"India"},{"$f":"VLOOKUP(tblSalaries[[#This Row],[clean Country]]&\"*\",Cont_Table,2,0)","v":"Asia"},"All the 8 hours baby, all the 8!"]
[null,"ID0287","2012-05-26T01:17:11",{"$f":"LEFT(tblSalaries[[#This Row],[Timestamp]],FIND(\".\",tblSalaries[[#This Row],[Timestamp]],1))","v":"41055."},"AED100000",100000,"AED",{"$f":"tblSalaries[[#This Row],[clean Salary (in local currency)]]*VLOOKUP(tblSalaries[[#This Row],[Currency]],tblXrate[],2,FALSE)","v":27221.92126875931},"Accountant","Accountant","Dubai",{"$f":"VLOOKUP(tblSalaries[[#This Row],[Where do you work]],tblCountries[[Actual]:[Mapping]],2,FALSE)","v":"Dubai"},{"$f":"VLOOKUP(tblSalaries[[#This Row],[clean Country]]&\"*\",Cont_Table,2,0)","v":"Asia"},"4 to 6 hours a day"]
[null,"ID0288","2012-05-26T01:17:50",{"$f":"LEFT(tblSalaries[[#This Row],[Timestamp]],FIND(\".\",tblSalaries[[#This Row],[Timestamp]],1))","v":"41055."},22000,22000,"USD",{"$f":"tblSalaries[[#This Row],[clean Salary (in local currency)]]*VLOOKUP(tblSalaries[[#This Row],[Currency]],tblXrate[],2,FALSE)","v":22000},"MIS","Reporting","India",{"$f":"VLOOKUP(tblSalaries[[#This Row],[Where do you work]],tblCountries[[Actual]:[Mapping]],2,FALSE)","v":"India"},{"$f":"VLOOKUP(tblSalaries[[#This Row],[clean Country]]&\"*\",Cont_Table,2,0)","v":"Asia"},"All the 8 hours baby, all the 8!"]
[null,"ID0289","2012-05-26T01:17:56",{"$f":"LEFT(tblSalaries[[#This Row],[Timestamp]],FIND(\".\",tblSalaries[[#This Row],[Timestamp]],1))","v":"41055."},68000,68000,"USD",{"$f":"tblSalaries[[#This Row],[clean Salary (in local currency)]]*VLOOKUP(tblSalaries[[#This Row],[Currency]],tblXrate[],2,FALSE)","v":68000},"management accountant","Manager","USA",{"$f":"VLOOKUP(tblSalaries[[#This Row],[Where do you work]],tblCountries[[Actual]:[Mapping]],2,FALSE)","v":"USA"},{"$f":"VLOOKUP(tblSalaries[[#This Row],[clean Country]]&\"*\",Cont_Table,2,0)","v":"North America"},"All the 8 hours baby, all the 8!"]
[null,"ID0290","2012-05-26T01:17:57",{"$f":"LEFT(tblSalaries[[#This Row],[Timestamp]],FIND(\".\",tblSalaries[[#This Row],[Timestamp]],1))","v":"41055."},97000,97000,"USD",{"$f":"tblSalaries[[#This Row],[clean Salary (in local currency)]]*VLOOKUP(tblSalaries[[#This Row],[Currency]],tblXrate[],2,FALSE)","v":97000},"business analyst","Analyst","USA",{"$f":"VLOOKUP(tblSalaries[[#This Row],[Where do you work]],tblCountries[[Actual]:[Mapping]],2,FALSE)","v":"USA"},{"$f":"VLOOKUP(tblSalaries[[#This Row],[clean Country]]&\"*\",Cont_Table,2,0)","v":"North America"},"All the 8 hours baby, all the 8!"]
[null,"ID0291","2012-05-26T01:18:35",{"$f":"LEFT(tblSalaries[[#This Row],[Timestamp]],FIND(\".\",tblSalaries[[#This Row],[Timestamp]],1))","v":"41055."},"Â£31000",31000,"GBP",{"$f":"tblSalaries[[#This Row],[clean Salary (in local currency)]]*VLOOKUP(tblSalaries[[#This Row],[Currency]],tblXrate[],2,FALSE)","v":48861.526434085805},"Telecoms Engineer","Engineer","UK",{"$f":"VLOOKUP(tblSalaries[[#This Row],[Where do you work]],tblCountries[[Actual]:[Mapping]],2,FALSE)","v":"UK"},{"$f":"VLOOKUP(tblSalaries[[#This Row],[clean Country]]&\"*\",Cont_Table,2,0)","v":"Europe"},"2 to 3 hours per day"]
[null,"ID0292","2012-05-26T01:18:49",{"$f":"LEFT(tblSalaries[[#This Row],[Timestamp]],FIND(\".\",tblSalaries[[#This Row],[Timestamp]],1))","v":"41055."},65000,65000,"USD",{"$f":"tblSalaries[[#This Row],[clean Salary (in local currency)]]*VLOOKUP(tblSalaries[[#This Row],[Currency]],tblXrate[],2,FALSE)","v":65000},"Software Support","Analyst","USA",{"$f":"VLOOKUP(tblSalaries[[#This Row],[Where do you work]],tblCountries[[Actual]:[Mapping]],2,FALSE)","v":"USA"},{"$f":"VLOOKUP(tblSalaries[[#This Row],[clean Country]]&\"*\",Cont_Table,2,0)","v":"North America"},"4 to 6 hours a day"]
[null,"ID0293","2012-05-26T01:18:58",{"$f":"LEFT(tblSalaries[[#This Row],[Timestamp]],FIND(\".\",tblSalaries[[#This Row],[Timestamp]],1))","v":"41055."},3600,43200,"USD",{"$f":"tblSalaries[[#This Row],[clean Salary (in local currency)]]*VLOOKUP(tblSalaries[[#This Row],[Currency]],tblXrate[],2,FALSE)","v":43200},"Projects Planner","Manager","Saudi Arabia",{"$f":"VLOOKUP(tblSalaries[[#This Row],[Where do you work]],tblCountries[[Actual]:[Mapping]],2,FALSE)","v":"Saudi Arabia"},{"$f":"VLOOKUP(tblSalaries[[#This Row],[clean Country]]&\"*\",Cont_Table,2,0)","v":"Asia"},"4 to 6 hours a day"]
[null,"ID0294","2012-05-26T01:19:09",{"$f":"LEFT(tblSalaries[[#This Row],[Timestamp]],FIND(\".\",tblSalaries[[#This Row],[Timestamp]],1))","v":"41055."},"4.5 lakh INR",450000,"INR",{"$f":"tblSalaries[[#This Row],[clean Salary (in local currency)]]*VLOOKUP(tblSalaries[[#This Row],[Currency]],tblXrate[],2,FALSE)","v":8013.5625093491553},"Business Analyst","Analyst","India",{"$f":"VLOOKUP(tblSalaries[[#This Row],[Where do you work]],tblCountries[[Actual]:[Mapping]],2,FALSE)","v":"India"},{"$f":"VLOOKUP(tblSalaries[[#This Row],[clean Country]]&\"*\",Cont_Table,2,0)","v":"Asia"},"4 to 6 hours a day"]
[null,"ID0295","2012-05-26T01:19:09",{"$f":"LEFT(tblSalaries[[#This Row],[Timestamp]],FIND(\".\",tblSalaries[[#This Row],[Timestamp]],1))","v":"41055."},50000,50000,"USD",{"$f":"tblSalaries[[#This Row],[clean Salary (in local currency)]]*VLOOKUP(tblSalaries[[#This Row],[Currency]],tblXrate[],2,FALSE)","v":50000},"Mathematical Data Analyist","Analyst","USA",{"$f":"VLOOKUP(tblSalaries[[#This Row],[Where do you work]],tblCountries[[Actual]:[Mapping]],2,FALSE)","v":"USA"},{"$f":"VLOOKUP(tblSalaries[[#This Row],[clean Country]]&\"*\",Cont_Table,2,0)","v":"North America"},"All the 8 hours baby, all the 8!"]
[null,"ID0296","2012-05-26T01:19:22",{"$f":"LEFT(tblSalaries[[#This Row],[Timestamp]],FIND(\".\",tblSalaries[[#This Row],[Timestamp]],1))","v":"41055."},45000,45000,"USD",{"$f":"tblSalaries[[#This Row],[clean Salary (in local currency)]]*VLOOKUP(tblSalaries[[#This Row],[Currency]],tblXrate[],2,FALSE)","v":45000},"sales support","Analyst","USA",{"$f":"VLOOKUP(tblSalaries[[#This Row],[Where do you work]],tblCountries[[Actual]:[Mapping]],2,FALSE)","v":"USA"},{"$f":"VLOOKUP(tblSalaries[[#This Row],[clean Country]]&\"*\",Cont_Table,2,0)","v":"North America"},"4 to 6 hours a day"]
[null,"ID0297","2012-05-26T01:19:37",{"$f":"LEFT(tblSalaries[[#This Row],[Timestamp]],FIND(\".\",tblSalaries[[#This Row],[Timestamp]],1))","v":"41055."},"Rs.1.8 lakhs ",180000,"INR",{"$f":"tblSalaries[[#This Row],[clean Salary (in local currency)]]*VLOOKUP(tblSalaries[[#This Row],[Currency]],tblXrate[],2,FALSE)","v":3205.4250037396623},"Administrative Officer","Manager","India",{"$f":"VLOOKUP(tblSalaries[[#This Row],[Where do you work]],tblCountries[[Actual]:[Mapping]],2,FALSE)","v":"India"},{"$f":"VLOOKUP(tblSalaries[[#This Row],[clean Country]]&\"*\",Cont_Table,2,0)","v":"Asia"},"4 to 6 hours a day"]
[null,"ID0298","2012-05-26T01:20:01",{"$f":"LEFT(tblSalaries[[#This Row],[Timestamp]],FIND(\".\",tblSalaries[[#This Row],[Timestamp]],1))","v":"41055."},60000,60000,"USD",{"$f":"tblSalaries[[#This Row],[clean Salary (in local currency)]]*VLOOKUP(tblSalaries[[#This Row],[Currency]],tblXrate[],2,FALSE)","v":60000},"IS Manager","Manager","USA",{"$f":"VLOOKUP(tblSalaries[[#This Row],[Where do you work]],tblCountries[[Actual]:[Mapping]],2,FALSE)","v":"USA"},{"$f":"VLOOKUP(tblSalaries[[#This Row],[clean Country]]&\"*\",Cont_Table,2,0)","v":"North America"},"All the 8 hours baby, all the 8!"]
[null,"ID0299","2012-05-26T01:20:46",{"$f":"LEFT(tblSalaries[[#This Row],[Timestamp]],FIND(\".\",tblSalaries[[#This Row],[Timestamp]],1))","v":"41055."},31000,31000,"USD",{"$f":"tblSalaries[[#This Row],[clean Salary (in local currency)]]*VLOOKUP(tblSalaries[[#This Row],[Currency]],tblXrate[],2,FALSE)","v":31000},"Support Specialist ","Specialist","USA",{"$f":"VLOOKUP(tblSalaries[[#This Row],[Where do you work]],tblCountries[[Actual]:[Mapping]],2,FALSE)","v":"USA"},{"$f":"VLOOKUP(tblSalaries[[#This Row],[clean Country]]&\"*\",Cont_Table,2,0)","v":"North America"},"2 to 3 hours per day"]
[null,"ID0300","2012-05-26T01:21:06",{"$f":"LEFT(tblSalaries[[#This Row],[Timestamp]],FIND(\".\",tblSalaries[[#This Row],[Timestamp]],1))","v":"41055."},75000,75000,"USD",{"$f":"tblSalaries[[#This Row],[clean Salary (in local currency)]]*VLOOKUP(tblSalaries[[#This Row],[Currency]],tblXrate[],2,FALSE)","v":75000},"FA","Analyst","USA",{"$f":"VLOOKUP(tblSalaries[[#This Row],[Where do you work]],tblCountries[[Actual]:[Mapping]],2,FALSE)","v":"USA"},{"$f":"VLOOKUP(tblSalaries[[#This Row],[clean Country]]&\"*\",Cont_Table,2,0)","v":"North America"},"4 to 6 hours a day"]
[null,"ID0301","2012-05-26T01:22:09",{"$f":"LEFT(tblSalaries[[#This Row],[Timestamp]],FIND(\".\",tblSalaries[[#This Row],[Timestamp]],1))","v":"41055."},16000,16000,"USD",{"$f":"tblSalaries[[#This Row],[clean Salary (in local currency)]]*VLOOKUP(tblSalaries[[#This Row],[Currency]],tblXrate[],2,FALSE)","v":16000},"VP of Finance","CXO or Top Mgmt.","USA",{"$f":"VLOOKUP(tblSalaries[[#This Row],[Where do you work]],tblCountries[[Actual]:[Mapping]],2,FALSE)","v":"USA"},{"$f":"VLOOKUP(tblSalaries[[#This Row],[clean Country]]&\"*\",Cont_Table,2,0)","v":"North America"},"1 or 2 hours a day"]
[null,"ID0302","2012-05-26T01:22:22",{"$f":"LEFT(tblSalaries[[#This Row],[Timestamp]],FIND(\".\",tblSalaries[[#This Row],[Timestamp]],1))","v":"41055."},"36,000 USD",36000,"USD",{"$f":"tblSalaries[[#This Row],[clean Salary (in local currency)]]*VLOOKUP(tblSalaries[[#This Row],[Currency]],tblXrate[],2,FALSE)","v":36000},"PRODUCTION ASSISTANT","Analyst","USA",{"$f":"VLOOKUP(tblSalaries[[#This Row],[Where do you work]],tblCountries[[Actual]:[Mapping]],2,FALSE)","v":"USA"},{"$f":"VLOOKUP(tblSalaries[[#This Row],[clean Country]]&\"*\",Cont_Table,2,0)","v":"North America"},"All the 8 hours baby, all the 8!"]
[null,"ID0303","2012-05-26T01:22:40",{"$f":"LEFT(tblSalaries[[#This Row],[Timestamp]],FIND(\".\",tblSalaries[[#This Row],[Timestamp]],1))","v":"41055."},42000,42000,"CAD",{"$f":"tblSalaries[[#This Row],[clean Salary (in local currency)]]*VLOOKUP(tblSalaries[[#This Row],[Currency]],tblXrate[],2,FALSE)","v":41301.183967273726},"Financial Analyst","Analyst","Canada",{"$f":"VLOOKUP(tblSalaries[[#This Row],[Where do you work]],tblCountries[[Actual]:[Mapping]],2,FALSE)","v":"Canada"},{"$f":"VLOOKUP(tblSalaries[[#This Row],[clean Country]]&\"*\",Cont_Table,2,0)","v":"North America"},"All the 8 hours baby, all the 8!"]
[null,"ID0304","2012-05-26T01:22:45",{"$f":"LEFT(tblSalaries[[#This Row],[Timestamp]],FIND(\".\",tblSalaries[[#This Row],[Timestamp]],1))","v":"41055."},53000,53000,"USD",{"$f":"tblSalaries[[#This Row],[clean Salary (in local currency)]]*VLOOKUP(tblSalaries[[#This Row],[Currency]],tblXrate[],2,FALSE)","v":53000},"Data Analyst","Analyst","USA",{"$f":"VLOOKUP(tblSalaries[[#This Row],[Where do you work]],tblCountries[[Actual]:[Mapping]],2,FALSE)","v":"USA"},{"$f":"VLOOKUP(tblSalaries[[#This Row],[clean Country]]&\"*\",Cont_Table,2,0)","v":"North America"},"4 to 6 hours a day"]
[null,"ID0305","2012-05-26T01:22:48",{"$f":"LEFT(tblSalaries[[#This Row],[Timestamp]],FIND(\".\",tblSalaries[[#This Row],[Timestamp]],1))","v":"41055."},"65000 euro",65000,"EUR",{"$f":"tblSalaries[[#This Row],[clean Salary (in local currency)]]*VLOOKUP(tblSalaries[[#This Row],[Currency]],tblXrate[],2,FALSE)","v":82575.963534454509},"controller","Controller","germany",{"$f":"VLOOKUP(tblSalaries[[#This Row],[Where do you work]],tblCountries[[Actual]:[Mapping]],2,FALSE)","v":"Germany"},{"$f":"VLOOKUP(tblSalaries[[#This Row],[clean Country]]&\"*\",Cont_Table,2,0)","v":"Europe"},"All the 8 hours baby, all the 8!"]
[null,"ID0306","2012-05-26T01:22:56",{"$f":"LEFT(tblSalaries[[#This Row],[Timestamp]],FIND(\".\",tblSalaries[[#This Row],[Timestamp]],1))","v":"41055."},67000,67000,"USD",{"$f":"tblSalaries[[#This Row],[clean Salary (in local currency)]]*VLOOKUP(tblSalaries[[#This Row],[Currency]],tblXrate[],2,FALSE)","v":67000},"HR Analyst","Analyst","USA",{"$f":"VLOOKUP(tblSalaries[[#This Row],[Where do you work]],tblCountries[[Actual]:[Mapping]],2,FALSE)","v":"USA"},{"$f":"VLOOKUP(tblSalaries[[#This Row],[clean Country]]&\"*\",Cont_Table,2,0)","v":"North America"},"4 to 6 hours a day"]
[null,"ID0307","2012-05-26T01:23:21",{"$f":"LEFT(tblSalaries[[#This Row],[Timestamp]],FIND(\".\",tblSalaries[[#This Row],[Timestamp]],1))","v":"41055."},12000,12000,"USD",{"$f":"tblSalaries[[#This Row],[clean Salary (in local currency)]]*VLOOKUP(tblSalaries[[#This Row],[Currency]],tblXrate[],2,FALSE)","v":12000},"Analyst","Analyst","India",{"$f":"VLOOKUP(tblSalaries[[#This Row],[Where do you work]],tblCountries[[Actual]:[Mapping]],2,FALSE)","v":"India"},{"$f":"VLOOKUP(tblSalaries[[#This Row],[clean Country]]&\"*\",Cont_Table,2,0)","v":"Asia"},"All the 8 hours baby, all the 8!"]
[null,"ID0308","2012-05-26T01:23:43",{"$f":"LEFT(tblSalaries[[#This Row],[Timestamp]],FIND(\".\",tblSalaries[[#This Row],[Timestamp]],1))","v":"41055."},85000,85000,"USD",{"$f":"tblSalaries[[#This Row],[clean Salary (in local currency)]]*VLOOKUP(tblSalaries[[#This Row],[Currency]],tblXrate[],2,FALSE)","v":85000},"Plant Controller","Controller","USA",{"$f":"VLOOKUP(tblSalaries[[#This Row],[Where do you work]],tblCountries[[Actual]:[Mapping]],2,FALSE)","v":"USA"},{"$f":"VLOOKUP(tblSalaries[[#This Row],[clean Country]]&\"*\",Cont_Table,2,0)","v":"North America"},"All the 8 hours baby, all the 8!"]
[null,"ID0309","2012-05-26T01:23:50",{"$f":"LEFT(tblSalaries[[#This Row],[Timestamp]],FIND(\".\",tblSalaries[[#This Row],[Timestamp]],1))","v":"41055."},200000,200000,"EUR",{"$f":"tblSalaries[[#This Row],[clean Salary (in local currency)]]*VLOOKUP(tblSalaries[[#This Row],[Currency]],tblXrate[],2,FALSE)","v":254079.88779832155},"consultant bi","Reporting","The netherlands",{"$f":"VLOOKUP(tblSalaries[[#This Row],[Where do you work]],tblCountries[[Actual]:[Mapping]],2,FALSE)","v":"Netherlands"},{"$f":"VLOOKUP(tblSalaries[[#This Row],[clean Country]]&\"*\",Cont_Table,2,0)","v":"Europe"},"All the 8 hours baby, all the 8!"]
[null,"ID0310","2012-05-26T01:23:57",{"$f":"LEFT(tblSalaries[[#This Row],[Timestamp]],FIND(\".\",tblSalaries[[#This Row],[Timestamp]],1))","v":"41055."},40000,40000,"USD",{"$f":"tblSalaries[[#This Row],[clean Salary (in local currency)]]*VLOOKUP(tblSalaries[[#This Row],[Currency]],tblXrate[],2,FALSE)","v":40000},"Royalties Coordinator","Manager","USA",{"$f":"VLOOKUP(tblSalaries[[#This Row],[Where do you work]],tblCountries[[Actual]:[Mapping]],2,FALSE)","v":"USA"},{"$f":"VLOOKUP(tblSalaries[[#This Row],[clean Country]]&\"*\",Cont_Table,2,0)","v":"North America"},"4 to 6 hours a day"]
[null,"ID0311","2012-05-26T01:24:03",{"$f":"LEFT(tblSalaries[[#This Row],[Timestamp]],FIND(\".\",tblSalaries[[#This Row],[Timestamp]],1))","v":"41055."},"Â£20000/year but i work part time 30h/week",20000,"GBP",{"$f":"tblSalaries[[#This Row],[clean Salary (in local currency)]]*VLOOKUP(tblSalaries[[#This Row],[Currency]],tblXrate[],2,FALSE)","v":31523.565441345683},"Graduate Structural Engineer","Engineer","UK",{"$f":"VLOOKUP(tblSalaries[[#This Row],[Where do you work]],tblCountries[[Actual]:[Mapping]],2,FALSE)","v":"UK"},{"$f":"VLOOKUP(tblSalaries[[#This Row],[clean Country]]&\"*\",Cont_Table,2,0)","v":"Europe"},"1 or 2 hours a day"]
[null,"ID0312","2012-05-26T01:25:05",{"$f":"LEFT(tblSalaries[[#This Row],[Timestamp]],FIND(\".\",tblSalaries[[#This Row],[Timestamp]],1))","v":"41055."},41000,41000,"USD",{"$f":"tblSalaries[[#This Row],[clean Salary (in local currency)]]*VLOOKUP(tblSalaries[[#This Row],[Currency]],tblXrate[],2,FALSE)","v":41000},"Operations Analyst","Analyst","USA",{"$f":"VLOOKUP(tblSalaries[[#This Row],[Where do you work]],tblCountries[[Actual]:[Mapping]],2,FALSE)","v":"USA"},{"$f":"VLOOKUP(tblSalaries[[#This Row],[clean Country]]&\"*\",Cont_Table,2,0)","v":"North America"},"4 to 6 hours a day"]
[null,"ID0313","2012-05-26T01:25:06",{"$f":"LEFT(tblSalaries[[#This Row],[Timestamp]],FIND(\".\",tblSalaries[[#This Row],[Timestamp]],1))","v":"41055."},1400000,1400000,"INR",{"$f":"tblSalaries[[#This Row],[clean Salary (in local currency)]]*VLOOKUP(tblSalaries[[#This Row],[Currency]],tblXrate[],2,FALSE)","v":24931.083362419595},"Marketing","Manager","India",{"$f":"VLOOKUP(tblSalaries[[#This Row],[Where do you work]],tblCountries[[Actual]:[Mapping]],2,FALSE)","v":"India"},{"$f":"VLOOKUP(tblSalaries[[#This Row],[clean Country]]&\"*\",Cont_Table,2,0)","v":"Asia"},"1 or 2 hours a day"]
[null,"ID0314","2012-05-26T01:25:30",{"$f":"LEFT(tblSalaries[[#This Row],[Timestamp]],FIND(\".\",tblSalaries[[#This Row],[Timestamp]],1))","v":"41055."},125000,125000,"USD",{"$f":"tblSalaries[[#This Row],[clean Salary (in local currency)]]*VLOOKUP(tblSalaries[[#This Row],[Currency]],tblXrate[],2,FALSE)","v":125000},"Finance, Manager ","Manager","USA",{"$f":"VLOOKUP(tblSalaries[[#This Row],[Where do you work]],tblCountries[[Actual]:[Mapping]],2,FALSE)","v":"USA"},{"$f":"VLOOKUP(tblSalaries[[#This Row],[clean Country]]&\"*\",Cont_Table,2,0)","v":"North America"},"4 to 6 hours a day"]
[null,"ID0315","2012-05-26T01:26:26",{"$f":"LEFT(tblSalaries[[#This Row],[Timestamp]],FIND(\".\",tblSalaries[[#This Row],[Timestamp]],1))","v":"41055."},60000,60000,"CAD",{"$f":"tblSalaries[[#This Row],[clean Salary (in local currency)]]*VLOOKUP(tblSalaries[[#This Row],[Currency]],tblXrate[],2,FALSE)","v":59001.691381819612},"Sr. Business Analyst","Analyst","Canada",{"$f":"VLOOKUP(tblSalaries[[#This Row],[Where do you work]],tblCountries[[Actual]:[Mapping]],2,FALSE)","v":"Canada"},{"$f":"VLOOKUP(tblSalaries[[#This Row],[clean Country]]&\"*\",Cont_Table,2,0)","v":"North America"},"All the 8 hours baby, all the 8!"]
[null,"ID0316","2012-05-26T01:26:37",{"$f":"LEFT(tblSalaries[[#This Row],[Timestamp]],FIND(\".\",tblSalaries[[#This Row],[Timestamp]],1))","v":"41055."},"150000 MXN",150000,"MXN",{"$f":"tblSalaries[[#This Row],[clean Salary (in local currency)]]*VLOOKUP(tblSalaries[[#This Row],[Currency]],tblXrate[],2,FALSE)","v":10956.982885192734},"Information Analyst","Analyst","Mexico",{"$f":"VLOOKUP(tblSalaries[[#This Row],[Where do you work]],tblCountries[[Actual]:[Mapping]],2,FALSE)","v":"Mexico"},{"$f":"VLOOKUP(tblSalaries[[#This Row],[clean Country]]&\"*\",Cont_Table,2,0)","v":"North America"},"All the 8 hours baby, all the 8!"]
[null,"ID0317","2012-05-26T01:26:52",{"$f":"LEFT(tblSalaries[[#This Row],[Timestamp]],FIND(\".\",tblSalaries[[#This Row],[Timestamp]],1))","v":"41055."},70000,70000,"USD",{"$f":"tblSalaries[[#This Row],[clean Salary (in local currency)]]*VLOOKUP(tblSalaries[[#This Row],[Currency]],tblXrate[],2,FALSE)","v":70000},"Analyst","Analyst","USA",{"$f":"VLOOKUP(tblSalaries[[#This Row],[Where do you work]],tblCountries[[Actual]:[Mapping]],2,FALSE)","v":"USA"},{"$f":"VLOOKUP(tblSalaries[[#This Row],[clean Country]]&\"*\",Cont_Table,2,0)","v":"North America"},"2 to 3 hours per day"]
[null,"ID0318","2012-05-26T01:27:03",{"$f":"LEFT(tblSalaries[[#This Row],[Timestamp]],FIND(\".\",tblSalaries[[#This Row],[Timestamp]],1))","v":"41055."},400000,400000,"USD",{"$f":"tblSalaries[[#This Row],[clean Salary (in local currency)]]*VLOOKUP(tblSalaries[[#This Row],[Currency]],tblXrate[],2,FALSE)","v":400000},"Financial Specialist","Specialist","USA",{"$f":"VLOOKUP(tblSalaries[[#This Row],[Where do you work]],tblCountries[[Actual]:[Mapping]],2,FALSE)","v":"USA"},{"$f":"VLOOKUP(tblSalaries[[#This Row],[clean Country]]&\"*\",Cont_Table,2,0)","v":"North America"},"All the 8 hours baby, all the 8!"]
[null,"ID0319","2012-05-26T01:27:26",{"$f":"LEFT(tblSalaries[[#This Row],[Timestamp]],FIND(\".\",tblSalaries[[#This Row],[Timestamp]],1))","v":"41055."},55,55000,"USD",{"$f":"tblSalaries[[#This Row],[clean Salary (in local currency)]]*VLOOKUP(tblSalaries[[#This Row],[Currency]],tblXrate[],2,FALSE)","v":55000},"Business Analyst","Analyst","USA",{"$f":"VLOOKUP(tblSalaries[[#This Row],[Where do you work]],tblCountries[[Actual]:[Mapping]],2,FALSE)","v":"USA"},{"$f":"VLOOKUP(tblSalaries[[#This Row],[clean Country]]&\"*\",Cont_Table,2,0)","v":"North America"},"4 to 6 hours a day"]
[null,"ID0320","2012-05-26T01:27:29",{"$f":"LEFT(tblSalaries[[#This Row],[Timestamp]],FIND(\".\",tblSalaries[[#This Row],[Timestamp]],1))","v":"41055."},60000,60000,"USD",{"$f":"tblSalaries[[#This Row],[clean Salary (in local currency)]]*VLOOKUP(tblSalaries[[#This Row],[Currency]],tblXrate[],2,FALSE)","v":60000},"Management Analyst","Analyst","USA",{"$f":"VLOOKUP(tblSalaries[[#This Row],[Where do you work]],tblCountries[[Actual]:[Mapping]],2,FALSE)","v":"USA"},{"$f":"VLOOKUP(tblSalaries[[#This Row],[clean Country]]&\"*\",Cont_Table,2,0)","v":"North America"},"4 to 6 hours a day"]
[null,"ID0321","2012-05-26T01:27:44",{"$f":"LEFT(tblSalaries[[#This Row],[Timestamp]],FIND(\".\",tblSalaries[[#This Row],[Timestamp]],1))","v":"41055."},"INR 1000000",1000000,"INR",{"$f":"tblSalaries[[#This Row],[clean Salary (in local currency)]]*VLOOKUP(tblSalaries[[#This Row],[Currency]],tblXrate[],2,FALSE)","v":17807.916687442568},"Manager","Manager","India",{"$f":"VLOOKUP(tblSalaries[[#This Row],[Where do you work]],tblCountries[[Actual]:[Mapping]],2,FALSE)","v":"India"},{"$f":"VLOOKUP(tblSalaries[[#This Row],[clean Country]]&\"*\",Cont_Table,2,0)","v":"Asia"},"4 to 6 hours a day"]
[null,"ID0322","2012-05-26T01:27:52",{"$f":"LEFT(tblSalaries[[#This Row],[Timestamp]],FIND(\".\",tblSalaries[[#This Row],[Timestamp]],1))","v":"41055."},40000,40000,"USD",{"$f":"tblSalaries[[#This Row],[clean Salary (in local currency)]]*VLOOKUP(tblSalaries[[#This Row],[Currency]],tblXrate[],2,FALSE)","v":40000},"Dp manager","Manager","Hungary",{"$f":"VLOOKUP(tblSalaries[[#This Row],[Where do you work]],tblCountries[[Actual]:[Mapping]],2,FALSE)","v":"Hungary"},{"$f":"VLOOKUP(tblSalaries[[#This Row],[clean Country]]&\"*\",Cont_Table,2,0)","v":"Europe"},"4 to 6 hours a day"]
[null,"ID0323","2012-05-26T01:28:37",{"$f":"LEFT(tblSalaries[[#This Row],[Timestamp]],FIND(\".\",tblSalaries[[#This Row],[Timestamp]],1))","v":"41055."},137500,137500,"USD",{"$f":"tblSalaries[[#This Row],[clean Salary (in local currency)]]*VLOOKUP(tblSalaries[[#This Row],[Currency]],tblXrate[],2,FALSE)","v":137500},"director of analytics","Analyst","USA",{"$f":"VLOOKUP(tblSalaries[[#This Row],[Where do you work]],tblCountries[[Actual]:[Mapping]],2,FALSE)","v":"USA"},{"$f":"VLOOKUP(tblSalaries[[#This Row],[clean Country]]&\"*\",Cont_Table,2,0)","v":"North America"},"4 to 6 hours a day"]
[null,"ID0324","2012-05-26T01:29:32",{"$f":"LEFT(tblSalaries[[#This Row],[Timestamp]],FIND(\".\",tblSalaries[[#This Row],[Timestamp]],1))","v":"41055."},"US$ 4.545",4545,"USD",{"$f":"tblSalaries[[#This Row],[clean Salary (in local currency)]]*VLOOKUP(tblSalaries[[#This Row],[Currency]],tblXrate[],2,FALSE)","v":4545},"Supply Processes Analyst","Analyst","Brasil",{"$f":"VLOOKUP(tblSalaries[[#This Row],[Where do you work]],tblCountries[[Actual]:[Mapping]],2,FALSE)","v":"Brasil"},{"$f":"VLOOKUP(tblSalaries[[#This Row],[clean Country]]&\"*\",Cont_Table,2,0)","v":"South America"},"All the 8 hours baby, all the 8!"]
[null,"ID0325","2012-05-26T01:29:37",{"$f":"LEFT(tblSalaries[[#This Row],[Timestamp]],FIND(\".\",tblSalaries[[#This Row],[Timestamp]],1))","v":"41055."},"Â£29000",29000,"GBP",{"$f":"tblSalaries[[#This Row],[clean Salary (in local currency)]]*VLOOKUP(tblSalaries[[#This Row],[Currency]],tblXrate[],2,FALSE)","v":45709.169889951241},"ICT Technical Analyst","Analyst","UK",{"$f":"VLOOKUP(tblSalaries[[#This Row],[Where do you work]],tblCountries[[Actual]:[Mapping]],2,FALSE)","v":"UK"},{"$f":"VLOOKUP(tblSalaries[[#This Row],[clean Country]]&\"*\",Cont_Table,2,0)","v":"Europe"},"4 to 6 hours a day"]
[null,"ID0326","2012-05-26T01:30:12",{"$f":"LEFT(tblSalaries[[#This Row],[Timestamp]],FIND(\".\",tblSalaries[[#This Row],[Timestamp]],1))","v":"41055."},47000,47000,"USD",{"$f":"tblSalaries[[#This Row],[clean Salary (in local currency)]]*VLOOKUP(tblSalaries[[#This Row],[Currency]],tblXrate[],2,FALSE)","v":47000},"Sourcing Specialist","Specialist","USA",{"$f":"VLOOKUP(tblSalaries[[#This Row],[Where do you work]],tblCountries[[Actual]:[Mapping]],2,FALSE)","v":"USA"},{"$f":"VLOOKUP(tblSalaries[[#This Row],[clean Country]]&\"*\",Cont_Table,2,0)","v":"North America"},"4 to 6 hours a day"]
[null,"ID0327","2012-05-26T01:30:39",{"$f":"LEFT(tblSalaries[[#This Row],[Timestamp]],FIND(\".\",tblSalaries[[#This Row],[Timestamp]],1))","v":"41055."},65000,65000,"USD",{"$f":"tblSalaries[[#This Row],[clean Salary (in local currency)]]*VLOOKUP(tblSalaries[[#This Row],[Currency]],tblXrate[],2,FALSE)","v":65000},"business analyst","Analyst","USA",{"$f":"VLOOKUP(tblSalaries[[#This Row],[Where do you work]],tblCountries[[Actual]:[Mapping]],2,FALSE)","v":"USA"},{"$f":"VLOOKUP(tblSalaries[[#This Row],[clean Country]]&\"*\",Cont_Table,2,0)","v":"North America"},"All the 8 hours baby, all the 8!"]
[null,"ID0328","2012-05-26T01:30:56",{"$f":"LEFT(tblSalaries[[#This Row],[Timestamp]],FIND(\".\",tblSalaries[[#This Row],[Timestamp]],1))","v":"41055."},"PhP 456,000",456000,"PHP",{"$f":"tblSalaries[[#This Row],[clean Salary (in local currency)]]*VLOOKUP(tblSalaries[[#This Row],[Currency]],tblXrate[],2,FALSE)","v":10809.503829551191},"Reporting Shared Services Oferring Lead","Reporting","Philippines",{"$f":"VLOOKUP(tblSalaries[[#This Row],[Where do you work]],tblCountries[[Actual]:[Mapping]],2,FALSE)","v":"Philippines"},{"$f":"VLOOKUP(tblSalaries[[#This Row],[clean Country]]&\"*\",Cont_Table,2,0)","v":"Asia"},"4 to 6 hours a day"]
[null,"ID0329","2012-05-26T01:31:26",{"$f":"LEFT(tblSalaries[[#This Row],[Timestamp]],FIND(\".\",tblSalaries[[#This Row],[Timestamp]],1))","v":"41055."},92000,92000,"USD",{"$f":"tblSalaries[[#This Row],[clean Salary (in local currency)]]*VLOOKUP(tblSalaries[[#This Row],[Currency]],tblXrate[],2,FALSE)","v":92000},"Sales Analytics Manager","Manager","USA",{"$f":"VLOOKUP(tblSalaries[[#This Row],[Where do you work]],tblCountries[[Actual]:[Mapping]],2,FALSE)","v":"USA"},{"$f":"VLOOKUP(tblSalaries[[#This Row],[clean Country]]&\"*\",Cont_Table,2,0)","v":"North America"},"4 to 6 hours a day"]
[null,"ID0330","2012-05-26T01:31:42",{"$f":"LEFT(tblSalaries[[#This Row],[Timestamp]],FIND(\".\",tblSalaries[[#This Row],[Timestamp]],1))","v":"41055."},"22000 usd",22000,"USD",{"$f":"tblSalaries[[#This Row],[clean Salary (in local currency)]]*VLOOKUP(tblSalaries[[#This Row],[Currency]],tblXrate[],2,FALSE)","v":22000},"Product Manager Sr","Manager","Mexico",{"$f":"VLOOKUP(tblSalaries[[#This Row],[Where do you work]],tblCountries[[Actual]:[Mapping]],2,FALSE)","v":"Mexico"},{"$f":"VLOOKUP(tblSalaries[[#This Row],[clean Country]]&\"*\",Cont_Table,2,0)","v":"North America"},"4 to 6 hours a day"]
[null,"ID0331","2012-05-26T01:31:58",{"$f":"LEFT(tblSalaries[[#This Row],[Timestamp]],FIND(\".\",tblSalaries[[#This Row],[Timestamp]],1))","v":"41055."},108000,108000,"USD",{"$f":"tblSalaries[[#This Row],[clean Salary (in local currency)]]*VLOOKUP(tblSalaries[[#This Row],[Currency]],tblXrate[],2,FALSE)","v":108000},"Database Architect","Manager","USA",{"$f":"VLOOKUP(tblSalaries[[#This Row],[Where do you work]],tblCountries[[Actual]:[Mapping]],2,FALSE)","v":"USA"},{"$f":"VLOOKUP(tblSalaries[[#This Row],[clean Country]]&\"*\",Cont_Table,2,0)","v":"North America"},"2 to 3 hours per day"]
[null,"ID0332","2012-05-26T01:32:08",{"$f":"LEFT(tblSalaries[[#This Row],[Timestamp]],FIND(\".\",tblSalaries[[#This Row],[Timestamp]],1))","v":"41055."},61000,61000,"USD",{"$f":"tblSalaries[[#This Row],[clean Salary (in local currency)]]*VLOOKUP(tblSalaries[[#This Row],[Currency]],tblXrate[],2,FALSE)","v":61000},"Data Analyst","Analyst","USA",{"$f":"VLOOKUP(tblSalaries[[#This Row],[Where do you work]],tblCountries[[Actual]:[Mapping]],2,FALSE)","v":"USA"},{"$f":"VLOOKUP(tblSalaries[[#This Row],[clean Country]]&\"*\",Cont_Table,2,0)","v":"North America"},"1 or 2 hours a day"]
[null,"ID0333","2012-05-26T01:32:14",{"$f":"LEFT(tblSalaries[[#This Row],[Timestamp]],FIND(\".\",tblSalaries[[#This Row],[Timestamp]],1))","v":"41055."},"CAD 65000",65000,"CAD",{"$f":"tblSalaries[[#This Row],[clean Salary (in local currency)]]*VLOOKUP(tblSalaries[[#This Row],[Currency]],tblXrate[],2,FALSE)","v":63918.498996971248},"Product developer","Manager","CANADA",{"$f":"VLOOKUP(tblSalaries[[#This Row],[Where do you work]],tblCountries[[Actual]:[Mapping]],2,FALSE)","v":"Canada"},{"$f":"VLOOKUP(tblSalaries[[#This Row],[clean Country]]&\"*\",Cont_Table,2,0)","v":"North America"},"2 to 3 hours per day"]
[null,"ID0334","2012-05-26T01:32:26",{"$f":"LEFT(tblSalaries[[#This Row],[Timestamp]],FIND(\".\",tblSalaries[[#This Row],[Timestamp]],1))","v":"41055."},50000,50000,"USD",{"$f":"tblSalaries[[#This Row],[clean Salary (in local currency)]]*VLOOKUP(tblSalaries[[#This Row],[Currency]],tblXrate[],2,FALSE)","v":50000},"Supply Chain Analyst","Analyst","USA",{"$f":"VLOOKUP(tblSalaries[[#This Row],[Where do you work]],tblCountries[[Actual]:[Mapping]],2,FALSE)","v":"USA"},{"$f":"VLOOKUP(tblSalaries[[#This Row],[clean Country]]&\"*\",Cont_Table,2,0)","v":"North America"},"All the 8 hours baby, all the 8!"]
[null,"ID0335","2012-05-26T01:33:03",{"$f":"LEFT(tblSalaries[[#This Row],[Timestamp]],FIND(\".\",tblSalaries[[#This Row],[Timestamp]],1))","v":"41055."},150000,150000,"USD",{"$f":"tblSalaries[[#This Row],[clean Salary (in local currency)]]*VLOOKUP(tblSalaries[[#This Row],[Currency]],tblXrate[],2,FALSE)","v":150000},"financial planning","Accountant","USA",{"$f":"VLOOKUP(tblSalaries[[#This Row],[Where do you work]],tblCountries[[Actual]:[Mapping]],2,FALSE)","v":"USA"},{"$f":"VLOOKUP(tblSalaries[[#This Row],[clean Country]]&\"*\",Cont_Table,2,0)","v":"North America"},"All the 8 hours baby, all the 8!"]
[null,"ID0336","2012-05-26T01:33:37",{"$f":"LEFT(tblSalaries[[#This Row],[Timestamp]],FIND(\".\",tblSalaries[[#This Row],[Timestamp]],1))","v":"41055."},"400000 INR",400000,"INR",{"$f":"tblSalaries[[#This Row],[clean Salary (in local currency)]]*VLOOKUP(tblSalaries[[#This Row],[Currency]],tblXrate[],2,FALSE)","v":7123.1666749770275},"Test Analyst","Analyst","India",{"$f":"VLOOKUP(tblSalaries[[#This Row],[Where do you work]],tblCountries[[Actual]:[Mapping]],2,FALSE)","v":"India"},{"$f":"VLOOKUP(tblSalaries[[#This Row],[clean Country]]&\"*\",Cont_Table,2,0)","v":"Asia"},"4 to 6 hours a day"]
[null,"ID0337","2012-05-26T01:33:45",{"$f":"LEFT(tblSalaries[[#This Row],[Timestamp]],FIND(\".\",tblSalaries[[#This Row],[Timestamp]],1))","v":"41055."},150000,150000,"USD",{"$f":"tblSalaries[[#This Row],[clean Salary (in local currency)]]*VLOOKUP(tblSalaries[[#This Row],[Currency]],tblXrate[],2,FALSE)","v":150000},"project manager, project finance consultant","Manager","Israel",{"$f":"VLOOKUP(tblSalaries[[#This Row],[Where do you work]],tblCountries[[Actual]:[Mapping]],2,FALSE)","v":"Israel"},{"$f":"VLOOKUP(tblSalaries[[#This Row],[clean Country]]&\"*\",Cont_Table,2,0)","v":"Asia"},"4 to 6 hours a day"]
[null,"ID0338","2012-05-26T01:34:56",{"$f":"LEFT(tblSalaries[[#This Row],[Timestamp]],FIND(\".\",tblSalaries[[#This Row],[Timestamp]],1))","v":"41055."},45000,45000,"USD",{"$f":"tblSalaries[[#This Row],[clean Salary (in local currency)]]*VLOOKUP(tblSalaries[[#This Row],[Currency]],tblXrate[],2,FALSE)","v":45000},"QC Fabrication Inspector","Specialist","USA",{"$f":"VLOOKUP(tblSalaries[[#This Row],[Where do you work]],tblCountries[[Actual]:[Mapping]],2,FALSE)","v":"USA"},{"$f":"VLOOKUP(tblSalaries[[#This Row],[clean Country]]&\"*\",Cont_Table,2,0)","v":"North America"},"4 to 6 hours a day"]
[null,"ID0339","2012-05-26T01:35:02",{"$f":"LEFT(tblSalaries[[#This Row],[Timestamp]],FIND(\".\",tblSalaries[[#This Row],[Timestamp]],1))","v":"41055."},135000,135000,"USD",{"$f":"tblSalaries[[#This Row],[clean Salary (in local currency)]]*VLOOKUP(tblSalaries[[#This Row],[Currency]],tblXrate[],2,FALSE)","v":135000},"Manager of Trade Investment & Analysis","Manager","USA",{"$f":"VLOOKUP(tblSalaries[[#This Row],[Where do you work]],tblCountries[[Actual]:[Mapping]],2,FALSE)","v":"USA"},{"$f":"VLOOKUP(tblSalaries[[#This Row],[clean Country]]&\"*\",Cont_Table,2,0)","v":"North America"},"All the 8 hours baby, all the 8!"]
[null,"ID0340","2012-05-26T01:35:18",{"$f":"LEFT(tblSalaries[[#This Row],[Timestamp]],FIND(\".\",tblSalaries[[#This Row],[Timestamp]],1))","v":"41055."},"30000 Rs",360000,"INR",{"$f":"tblSalaries[[#This Row],[clean Salary (in local currency)]]*VLOOKUP(tblSalaries[[#This Row],[Currency]],tblXrate[],2,FALSE)","v":6410.8500074793246},"Business Analysit","Analyst","India",{"$f":"VLOOKUP(tblSalaries[[#This Row],[Where do you work]],tblCountries[[Actual]:[Mapping]],2,FALSE)","v":"India"},{"$f":"VLOOKUP(tblSalaries[[#This Row],[clean Country]]&\"*\",Cont_Table,2,0)","v":"Asia"},"2 to 3 hours per day"]
[null,"ID0341","2012-05-26T01:35:35",{"$f":"LEFT(tblSalaries[[#This Row],[Timestamp]],FIND(\".\",tblSalaries[[#This Row],[Timestamp]],1))","v":"41055."},29000,29000,"USD",{"$f":"tblSalaries[[#This Row],[clean Salary (in local currency)]]*VLOOKUP(tblSalaries[[#This Row],[Currency]],tblXrate[],2,FALSE)","v":29000},"Assistant Outside Plant Project Manager","Manager","USA",{"$f":"VLOOKUP(tblSalaries[[#This Row],[Where do you work]],tblCountries[[Actual]:[Mapping]],2,FALSE)","v":"USA"},{"$f":"VLOOKUP(tblSalaries[[#This Row],[clean Country]]&\"*\",Cont_Table,2,0)","v":"North America"},"4 to 6 hours a day"]
[null,"ID0342","2012-05-26T01:37:33",{"$f":"LEFT(tblSalaries[[#This Row],[Timestamp]],FIND(\".\",tblSalaries[[#This Row],[Timestamp]],1))","v":"41055."},13000,13000,"USD",{"$f":"tblSalaries[[#This Row],[clean Salary (in local currency)]]*VLOOKUP(tblSalaries[[#This Row],[Currency]],tblXrate[],2,FALSE)","v":13000},"operation-manager","Manager","India",{"$f":"VLOOKUP(tblSalaries[[#This Row],[Where do you work]],tblCountries[[Actual]:[Mapping]],2,FALSE)","v":"India"},{"$f":"VLOOKUP(tblSalaries[[#This Row],[clean Country]]&\"*\",Cont_Table,2,0)","v":"Asia"},"All the 8 hours baby, all the 8!"]
[null,"ID0343","2012-05-26T01:38:06",{"$f":"LEFT(tblSalaries[[#This Row],[Timestamp]],FIND(\".\",tblSalaries[[#This Row],[Timestamp]],1))","v":"41055."},"63000 USD",63000,"USD",{"$f":"tblSalaries[[#This Row],[clean Salary (in local currency)]]*VLOOKUP(tblSalaries[[#This Row],[Currency]],tblXrate[],2,FALSE)","v":63000},"Sales Analyst","Analyst","USA",{"$f":"VLOOKUP(tblSalaries[[#This Row],[Where do you work]],tblCountries[[Actual]:[Mapping]],2,FALSE)","v":"USA"},{"$f":"VLOOKUP(tblSalaries[[#This Row],[clean Country]]&\"*\",Cont_Table,2,0)","v":"North America"},"All the 8 hours baby, all the 8!"]
[null,"ID0344","2012-05-26T01:38:06",{"$f":"LEFT(tblSalaries[[#This Row],[Timestamp]],FIND(\".\",tblSalaries[[#This Row],[Timestamp]],1))","v":"41055."},95000,95000,"USD",{"$f":"tblSalaries[[#This Row],[clean Salary (in local currency)]]*VLOOKUP(tblSalaries[[#This Row],[Currency]],tblXrate[],2,FALSE)","v":95000},"Senior Financial Analyst","Analyst","USA",{"$f":"VLOOKUP(tblSalaries[[#This Row],[Where do you work]],tblCountries[[Actual]:[Mapping]],2,FALSE)","v":"USA"},{"$f":"VLOOKUP(tblSalaries[[#This Row],[clean Country]]&\"*\",Cont_Table,2,0)","v":"North America"},"4 to 6 hours a day"]
[null,"ID0346","2012-05-26T01:38:51",{"$f":"LEFT(tblSalaries[[#This Row],[Timestamp]],FIND(\".\",tblSalaries[[#This Row],[Timestamp]],1))","v":"41055."},"100,000 US$ equiv",100000,"USD",{"$f":"tblSalaries[[#This Row],[clean Salary (in local currency)]]*VLOOKUP(tblSalaries[[#This Row],[Currency]],tblXrate[],2,FALSE)","v":100000},"Senior Data Analyst","Analyst","UK",{"$f":"VLOOKUP(tblSalaries[[#This Row],[Where do you work]],tblCountries[[Actual]:[Mapping]],2,FALSE)","v":"UK"},{"$f":"VLOOKUP(tblSalaries[[#This Row],[clean Country]]&\"*\",Cont_Table,2,0)","v":"Europe"},"4 to 6 hours a day"]
[null,"ID0347","2012-05-26T01:39:37",{"$f":"LEFT(tblSalaries[[#This Row],[Timestamp]],FIND(\".\",tblSalaries[[#This Row],[Timestamp]],1))","v":"41055."},"3.8 k",3800,"USD",{"$f":"tblSalaries[[#This Row],[clean Salary (in local currency)]]*VLOOKUP(tblSalaries[[#This Row],[Currency]],tblXrate[],2,FALSE)","v":3800},"MIS EXCUTIVE","Reporting","India",{"$f":"VLOOKUP(tblSalaries[[#This Row],[Where do you work]],tblCountries[[Actual]:[Mapping]],2,FALSE)","v":"India"},{"$f":"VLOOKUP(tblSalaries[[#This Row],[clean Country]]&\"*\",Cont_Table,2,0)","v":"Asia"},"4 to 6 hours a day"]
[null,"ID0348","2012-05-26T01:40:05",{"$f":"LEFT(tblSalaries[[#This Row],[Timestamp]],FIND(\".\",tblSalaries[[#This Row],[Timestamp]],1))","v":"41055."},950,11400,"USD",{"$f":"tblSalaries[[#This Row],[clean Salary (in local currency)]]*VLOOKUP(tblSalaries[[#This Row],[Currency]],tblXrate[],2,FALSE)","v":11400},"Advisor","Consultant","Brazil",{"$f":"VLOOKUP(tblSalaries[[#This Row],[Where do you work]],tblCountries[[Actual]:[Mapping]],2,FALSE)","v":"Brazil"},{"$f":"VLOOKUP(tblSalaries[[#This Row],[clean Country]]&\"*\",Cont_Table,2,0)","v":"South America"},"4 to 6 hours a day"]
[null,"ID0349","2012-05-26T01:40:18",{"$f":"LEFT(tblSalaries[[#This Row],[Timestamp]],FIND(\".\",tblSalaries[[#This Row],[Timestamp]],1))","v":"41055."},56000,56000,"CAD",{"$f":"tblSalaries[[#This Row],[clean Salary (in local currency)]]*VLOOKUP(tblSalaries[[#This Row],[Currency]],tblXrate[],2,FALSE)","v":55068.245289698301},"Online Analyst","Analyst","Canada",{"$f":"VLOOKUP(tblSalaries[[#This Row],[Where do you work]],tblCountries[[Actual]:[Mapping]],2,FALSE)","v":"Canada"},{"$f":"VLOOKUP(tblSalaries[[#This Row],[clean Country]]&\"*\",Cont_Table,2,0)","v":"North America"},"4 to 6 hours a day"]
[null,"ID0350","2012-05-26T01:40:28",{"$f":"LEFT(tblSalaries[[#This Row],[Timestamp]],FIND(\".\",tblSalaries[[#This Row],[Timestamp]],1))","v":"41055."},53000,53000,"USD",{"$f":"tblSalaries[[#This Row],[clean Salary (in local currency)]]*VLOOKUP(tblSalaries[[#This Row],[Currency]],tblXrate[],2,FALSE)","v":53000},"General Manager","Manager","USA",{"$f":"VLOOKUP(tblSalaries[[#This Row],[Where do you work]],tblCountries[[Actual]:[Mapping]],2,FALSE)","v":"USA"},{"$f":"VLOOKUP(tblSalaries[[#This Row],[clean Country]]&\"*\",Cont_Table,2,0)","v":"North America"},"2 to 3 hours per day"]
[null,"ID0351","2012-05-26T01:40:51",{"$f":"LEFT(tblSalaries[[#This Row],[Timestamp]],FIND(\".\",tblSalaries[[#This Row],[Timestamp]],1))","v":"41055."},130000,130000,"USD",{"$f":"tblSalaries[[#This Row],[clean Salary (in local currency)]]*VLOOKUP(tblSalaries[[#This Row],[Currency]],tblXrate[],2,FALSE)","v":130000},"Sr Staff Engineer","Engineer","USA",{"$f":"VLOOKUP(tblSalaries[[#This Row],[Where do you work]],tblCountries[[Actual]:[Mapping]],2,FALSE)","v":"USA"},{"$f":"VLOOKUP(tblSalaries[[#This Row],[clean Country]]&\"*\",Cont_Table,2,0)","v":"North America"},"4 to 6 hours a day"]
[null,"ID0352","2012-05-26T01:41:32",{"$f":"LEFT(tblSalaries[[#This Row],[Timestamp]],FIND(\".\",tblSalaries[[#This Row],[Timestamp]],1))","v":"41055."},"3,70,000",370000,"INR",{"$f":"tblSalaries[[#This Row],[clean Salary (in local currency)]]*VLOOKUP(tblSalaries[[#This Row],[Currency]],tblXrate[],2,FALSE)","v":6588.9291743537506},"Senior Design Associate","Analyst","India",{"$f":"VLOOKUP(tblSalaries[[#This Row],[Where do you work]],tblCountries[[Actual]:[Mapping]],2,FALSE)","v":"India"},{"$f":"VLOOKUP(tblSalaries[[#This Row],[clean Country]]&\"*\",Cont_Table,2,0)","v":"Asia"},"All the 8 hours baby, all the 8!"]
[null,"ID0353","2012-05-26T01:41:53",{"$f":"LEFT(tblSalaries[[#This Row],[Timestamp]],FIND(\".\",tblSalaries[[#This Row],[Timestamp]],1))","v":"41055."},160000,160000,"CAD",{"$f":"tblSalaries[[#This Row],[clean Salary (in local currency)]]*VLOOKUP(tblSalaries[[#This Row],[Currency]],tblXrate[],2,FALSE)","v":157337.8436848523},"Consultant","Consultant","Canada",{"$f":"VLOOKUP(tblSalaries[[#This Row],[Where do you work]],tblCountries[[Actual]:[Mapping]],2,FALSE)","v":"Canada"},{"$f":"VLOOKUP(tblSalaries[[#This Row],[clean Country]]&\"*\",Cont_Table,2,0)","v":"North America"},"2 to 3 hours per day"]
[null,"ID0354","2012-05-26T01:41:54",{"$f":"LEFT(tblSalaries[[#This Row],[Timestamp]],FIND(\".\",tblSalaries[[#This Row],[Timestamp]],1))","v":"41055."},44200,44200,"USD",{"$f":"tblSalaries[[#This Row],[clean Salary (in local currency)]]*VLOOKUP(tblSalaries[[#This Row],[Currency]],tblXrate[],2,FALSE)","v":44200},"Planning and Analysis Supervisor","Analyst","USA",{"$f":"VLOOKUP(tblSalaries[[#This Row],[Where do you work]],tblCountries[[Actual]:[Mapping]],2,FALSE)","v":"USA"},{"$f":"VLOOKUP(tblSalaries[[#This Row],[clean Country]]&\"*\",Cont_Table,2,0)","v":"North America"},"All the 8 hours baby, all the 8!"]
[null,"ID0355","2012-05-26T01:42:07",{"$f":"LEFT(tblSalaries[[#This Row],[Timestamp]],FIND(\".\",tblSalaries[[#This Row],[Timestamp]],1))","v":"41055."},56000,56000,"USD",{"$f":"tblSalaries[[#This Row],[clean Salary (in local currency)]]*VLOOKUP(tblSalaries[[#This Row],[Currency]],tblXrate[],2,FALSE)","v":56000},"asset manager","Manager","USA",{"$f":"VLOOKUP(tblSalaries[[#This Row],[Where do you work]],tblCountries[[Actual]:[Mapping]],2,FALSE)","v":"USA"},{"$f":"VLOOKUP(tblSalaries[[#This Row],[clean Country]]&\"*\",Cont_Table,2,0)","v":"North America"},"2 to 3 hours per day"]
[null,"ID0356","2012-05-26T01:42:27",{"$f":"LEFT(tblSalaries[[#This Row],[Timestamp]],FIND(\".\",tblSalaries[[#This Row],[Timestamp]],1))","v":"41055."},72500,72500,"USD",{"$f":"tblSalaries[[#This Row],[clean Salary (in local currency)]]*VLOOKUP(tblSalaries[[#This Row],[Currency]],tblXrate[],2,FALSE)","v":72500},"Transportation Engineer","Engineer","USA",{"$f":"VLOOKUP(tblSalaries[[#This Row],[Where do you work]],tblCountries[[Actual]:[Mapping]],2,FALSE)","v":"USA"},{"$f":"VLOOKUP(tblSalaries[[#This Row],[clean Country]]&\"*\",Cont_Table,2,0)","v":"North America"},"2 to 3 hours per day"]
[null,"ID0357","2012-05-26T01:42:31",{"$f":"LEFT(tblSalaries[[#This Row],[Timestamp]],FIND(\".\",tblSalaries[[#This Row],[Timestamp]],1))","v":"41055."},75000,75000,"CAD",{"$f":"tblSalaries[[#This Row],[clean Salary (in local currency)]]*VLOOKUP(tblSalaries[[#This Row],[Currency]],tblXrate[],2,FALSE)","v":73752.11422727452},"web marketing analyst","Analyst","canada",{"$f":"VLOOKUP(tblSalaries[[#This Row],[Where do you work]],tblCountries[[Actual]:[Mapping]],2,FALSE)","v":"Canada"},{"$f":"VLOOKUP(tblSalaries[[#This Row],[clean Country]]&\"*\",Cont_Table,2,0)","v":"North America"},"4 to 6 hours a day"]
[null,"ID0358","2012-05-26T01:42:53",{"$f":"LEFT(tblSalaries[[#This Row],[Timestamp]],FIND(\".\",tblSalaries[[#This Row],[Timestamp]],1))","v":"41055."},"170000 usd",170000,"USD",{"$f":"tblSalaries[[#This Row],[clean Salary (in local currency)]]*VLOOKUP(tblSalaries[[#This Row],[Currency]],tblXrate[],2,FALSE)","v":170000},"RS","Analyst","UK",{"$f":"VLOOKUP(tblSalaries[[#This Row],[Where do you work]],tblCountries[[Actual]:[Mapping]],2,FALSE)","v":"UK"},{"$f":"VLOOKUP(tblSalaries[[#This Row],[clean Country]]&\"*\",Cont_Table,2,0)","v":"Europe"},"Excel ?!? What Excel?"]
[null,"ID0359","2012-05-26T01:43:48",{"$f":"LEFT(tblSalaries[[#This Row],[Timestamp]],FIND(\".\",tblSalaries[[#This Row],[Timestamp]],1))","v":"41055."},68000,68000,"USD",{"$f":"tblSalaries[[#This Row],[clean Salary (in local currency)]]*VLOOKUP(tblSalaries[[#This Row],[Currency]],tblXrate[],2,FALSE)","v":68000},"Project Manager","Manager","USA",{"$f":"VLOOKUP(tblSalaries[[#This Row],[Where do you work]],tblCountries[[Actual]:[Mapping]],2,FALSE)","v":"USA"},{"$f":"VLOOKUP(tblSalaries[[#This Row],[clean Country]]&\"*\",Cont_Table,2,0)","v":"North America"},"2 to 3 hours per day"]
[null,"ID0360","2012-05-26T01:44:59",{"$f":"LEFT(tblSalaries[[#This Row],[Timestamp]],FIND(\".\",tblSalaries[[#This Row],[Timestamp]],1))","v":"41055."},75000,75000,"USD",{"$f":"tblSalaries[[#This Row],[clean Salary (in local currency)]]*VLOOKUP(tblSalaries[[#This Row],[Currency]],tblXrate[],2,FALSE)","v":75000},"Sr. Financial Analyst","Analyst","USA",{"$f":"VLOOKUP(tblSalaries[[#This Row],[Where do you work]],tblCountries[[Actual]:[Mapping]],2,FALSE)","v":"USA"},{"$f":"VLOOKUP(tblSalaries[[#This Row],[clean Country]]&\"*\",Cont_Table,2,0)","v":"North America"},"All the 8 hours baby, all the 8!"]
[null,"ID0361","2012-05-26T01:45:50",{"$f":"LEFT(tblSalaries[[#This Row],[Timestamp]],FIND(\".\",tblSalaries[[#This Row],[Timestamp]],1))","v":"41055."},"62500.00 USD",62500,"USD",{"$f":"tblSalaries[[#This Row],[clean Salary (in local currency)]]*VLOOKUP(tblSalaries[[#This Row],[Currency]],tblXrate[],2,FALSE)","v":62500},"Director of Payroll","CXO or Top Mgmt.","USA",{"$f":"VLOOKUP(tblSalaries[[#This Row],[Where do you work]],tblCountries[[Actual]:[Mapping]],2,FALSE)","v":"USA"},{"$f":"VLOOKUP(tblSalaries[[#This Row],[clean Country]]&\"*\",Cont_Table,2,0)","v":"North America"},"All the 8 hours baby, all the 8!"]
[null,"ID0362","2012-05-26T01:45:58",{"$f":"LEFT(tblSalaries[[#This Row],[Timestamp]],FIND(\".\",tblSalaries[[#This Row],[Timestamp]],1))","v":"41055."},25000,25000,"USD",{"$f":"tblSalaries[[#This Row],[clean Salary (in local currency)]]*VLOOKUP(tblSalaries[[#This Row],[Currency]],tblXrate[],2,FALSE)","v":25000},"Manager","Manager","India",{"$f":"VLOOKUP(tblSalaries[[#This Row],[Where do you work]],tblCountries[[Actual]:[Mapping]],2,FALSE)","v":"India"},{"$f":"VLOOKUP(tblSalaries[[#This Row],[clean Country]]&\"*\",Cont_Table,2,0)","v":"Asia"},"4 to 6 hours a day"]
[null,"ID0363","2012-05-26T01:46:24",{"$f":"LEFT(tblSalaries[[#This Row],[Timestamp]],FIND(\".\",tblSalaries[[#This Row],[Timestamp]],1))","v":"41055."},"480 000 SEK / 70000 US$",480000,"SEK",{"$f":"tblSalaries[[#This Row],[clean Salary (in local currency)]]*VLOOKUP(tblSalaries[[#This Row],[Currency]],tblXrate[],2,FALSE)","v":68954.520184280962},"IT consultant","Consultant","Sweden",{"$f":"VLOOKUP(tblSalaries[[#This Row],[Where do you work]],tblCountries[[Actual]:[Mapping]],2,FALSE)","v":"Sweden"},{"$f":"VLOOKUP(tblSalaries[[#This Row],[clean Country]]&\"*\",Cont_Table,2,0)","v":"Europe"},"1 or 2 hours a day"]
[null,"ID0365","2012-05-26T01:49:19",{"$f":"LEFT(tblSalaries[[#This Row],[Timestamp]],FIND(\".\",tblSalaries[[#This Row],[Timestamp]],1))","v":"41055."},85000,85000,"USD",{"$f":"tblSalaries[[#This Row],[clean Salary (in local currency)]]*VLOOKUP(tblSalaries[[#This Row],[Currency]],tblXrate[],2,FALSE)","v":85000},"Sr. Financial Analyst","Analyst","USA",{"$f":"VLOOKUP(tblSalaries[[#This Row],[Where do you work]],tblCountries[[Actual]:[Mapping]],2,FALSE)","v":"USA"},{"$f":"VLOOKUP(tblSalaries[[#This Row],[clean Country]]&\"*\",Cont_Table,2,0)","v":"North America"},"4 to 6 hours a day"]
[null,"ID0366","2012-05-26T01:49:55",{"$f":"LEFT(tblSalaries[[#This Row],[Timestamp]],FIND(\".\",tblSalaries[[#This Row],[Timestamp]],1))","v":"41055."},43000,43000,"GBP",{"$f":"tblSalaries[[#This Row],[clean Salary (in local currency)]]*VLOOKUP(tblSalaries[[#This Row],[Currency]],tblXrate[],2,FALSE)","v":67775.665698893223},"Commercial Manager","Manager","UK",{"$f":"VLOOKUP(tblSalaries[[#This Row],[Where do you work]],tblCountries[[Actual]:[Mapping]],2,FALSE)","v":"UK"},{"$f":"VLOOKUP(tblSalaries[[#This Row],[clean Country]]&\"*\",Cont_Table,2,0)","v":"Europe"},"4 to 6 hours a day"]
[null,"ID0367","2012-05-26T01:49:56",{"$f":"LEFT(tblSalaries[[#This Row],[Timestamp]],FIND(\".\",tblSalaries[[#This Row],[Timestamp]],1))","v":"41055."},89000,89000,"USD",{"$f":"tblSalaries[[#This Row],[clean Salary (in local currency)]]*VLOOKUP(tblSalaries[[#This Row],[Currency]],tblXrate[],2,FALSE)","v":89000},"Quality Assurance Officer","Manager","USA",{"$f":"VLOOKUP(tblSalaries[[#This Row],[Where do you work]],tblCountries[[Actual]:[Mapping]],2,FALSE)","v":"USA"},{"$f":"VLOOKUP(tblSalaries[[#This Row],[clean Country]]&\"*\",Cont_Table,2,0)","v":"North America"},"4 to 6 hours a day"]
[null,"ID0368","2012-05-26T01:50:00",{"$f":"LEFT(tblSalaries[[#This Row],[Timestamp]],FIND(\".\",tblSalaries[[#This Row],[Timestamp]],1))","v":"41055."},35000,35000,"USD",{"$f":"tblSalaries[[#This Row],[clean Salary (in local currency)]]*VLOOKUP(tblSalaries[[#This Row],[Currency]],tblXrate[],2,FALSE)","v":35000},"Senior Treasury Analyst","Analyst","Brasil",{"$f":"VLOOKUP(tblSalaries[[#This Row],[Where do you work]],tblCountries[[Actual]:[Mapping]],2,FALSE)","v":"Brasil"},{"$f":"VLOOKUP(tblSalaries[[#This Row],[clean Country]]&\"*\",Cont_Table,2,0)","v":"South America"},"All the 8 hours baby, all the 8!"]
[null,"ID0369","2012-05-26T01:50:28",{"$f":"LEFT(tblSalaries[[#This Row],[Timestamp]],FIND(\".\",tblSalaries[[#This Row],[Timestamp]],1))","v":"41055."},47500,47500,"USD",{"$f":"tblSalaries[[#This Row],[clean Salary (in local currency)]]*VLOOKUP(tblSalaries[[#This Row],[Currency]],tblXrate[],2,FALSE)","v":47500},"Supervisor, Contracts, Rebates, Chargebacks and Returns","Manager","USA",{"$f":"VLOOKUP(tblSalaries[[#This Row],[Where do you work]],tblCountries[[Actual]:[Mapping]],2,FALSE)","v":"USA"},{"$f":"VLOOKUP(tblSalaries[[#This Row],[clean Country]]&\"*\",Cont_Table,2,0)","v":"North America"},"All the 8 hours baby, all the 8!"]
[null,"ID0370","2012-05-26T01:50:30",{"$f":"LEFT(tblSalaries[[#This Row],[Timestamp]],FIND(\".\",tblSalaries[[#This Row],[Timestamp]],1))","v":"41055."},130000,130000,"USD",{"$f":"tblSalaries[[#This Row],[clean Salary (in local currency)]]*VLOOKUP(tblSalaries[[#This Row],[Currency]],tblXrate[],2,FALSE)","v":130000},"Project Manager","Manager","USA",{"$f":"VLOOKUP(tblSalaries[[#This Row],[Where do you work]],tblCountries[[Actual]:[Mapping]],2,FALSE)","v":"USA"},{"$f":"VLOOKUP(tblSalaries[[#This Row],[clean Country]]&\"*\",Cont_Table,2,0)","v":"North America"},"2 to 3 hours per day"]
[null,"ID0371","2012-05-26T01:50:56",{"$f":"LEFT(tblSalaries[[#This Row],[Timestamp]],FIND(\".\",tblSalaries[[#This Row],[Timestamp]],1))","v":"41055."},18000,18000,"USD",{"$f":"tblSalaries[[#This Row],[clean Salary (in local currency)]]*VLOOKUP(tblSalaries[[#This Row],[Currency]],tblXrate[],2,FALSE)","v":18000},"ceo","CXO or Top Mgmt.","India",{"$f":"VLOOKUP(tblSalaries[[#This Row],[Where do you work]],tblCountries[[Actual]:[Mapping]],2,FALSE)","v":"India"},{"$f":"VLOOKUP(tblSalaries[[#This Row],[clean Country]]&\"*\",Cont_Table,2,0)","v":"Asia"},"2 to 3 hours per day"]
[null,"ID0372","2012-05-26T01:50:59",{"$f":"LEFT(tblSalaries[[#This Row],[Timestamp]],FIND(\".\",tblSalaries[[#This Row],[Timestamp]],1))","v":"41055."},"480000 Rs.",480000,"INR",{"$f":"tblSalaries[[#This Row],[clean Salary (in local currency)]]*VLOOKUP(tblSalaries[[#This Row],[Currency]],tblXrate[],2,FALSE)","v":8547.8000099724322},"System Manager","Manager","India",{"$f":"VLOOKUP(tblSalaries[[#This Row],[Where do you work]],tblCountries[[Actual]:[Mapping]],2,FALSE)","v":"India"},{"$f":"VLOOKUP(tblSalaries[[#This Row],[clean Country]]&\"*\",Cont_Table,2,0)","v":"Asia"},"1 or 2 hours a day"]
[null,"ID0373","2012-05-26T01:51:24",{"$f":"LEFT(tblSalaries[[#This Row],[Timestamp]],FIND(\".\",tblSalaries[[#This Row],[Timestamp]],1))","v":"41055."},41932,41932,"USD",{"$f":"tblSalaries[[#This Row],[clean Salary (in local currency)]]*VLOOKUP(tblSalaries[[#This Row],[Currency]],tblXrate[],2,FALSE)","v":41932},"Buyer","Manager","USA",{"$f":"VLOOKUP(tblSalaries[[#This Row],[Where do you work]],tblCountries[[Actual]:[Mapping]],2,FALSE)","v":"USA"},{"$f":"VLOOKUP(tblSalaries[[#This Row],[clean Country]]&\"*\",Cont_Table,2,0)","v":"North America"},"2 to 3 hours per day"]
[null,"ID0374","2012-05-26T01:52:01",{"$f":"LEFT(tblSalaries[[#This Row],[Timestamp]],FIND(\".\",tblSalaries[[#This Row],[Timestamp]],1))","v":"41055."},"2207,00",220700,"USD",{"$f":"tblSalaries[[#This Row],[clean Salary (in local currency)]]*VLOOKUP(tblSalaries[[#This Row],[Currency]],tblXrate[],2,FALSE)","v":220700},"Consultant","Consultant","Brazil",{"$f":"VLOOKUP(tblSalaries[[#This Row],[Where do you work]],tblCountries[[Actual]:[Mapping]],2,FALSE)","v":"Brazil"},{"$f":"VLOOKUP(tblSalaries[[#This Row],[clean Country]]&\"*\",Cont_Table,2,0)","v":"South America"},"All the 8 hours baby, all the 8!"]
[null,"ID0375","2012-05-26T01:52:04",{"$f":"LEFT(tblSalaries[[#This Row],[Timestamp]],FIND(\".\",tblSalaries[[#This Row],[Timestamp]],1))","v":"41055."},194000,194000,"USD",{"$f":"tblSalaries[[#This Row],[clean Salary (in local currency)]]*VLOOKUP(tblSalaries[[#This Row],[Currency]],tblXrate[],2,FALSE)","v":194000},"director","CXO or Top Mgmt.","USA",{"$f":"VLOOKUP(tblSalaries[[#This Row],[Where do you work]],tblCountries[[Actual]:[Mapping]],2,FALSE)","v":"USA"},{"$f":"VLOOKUP(tblSalaries[[#This Row],[clean Country]]&\"*\",Cont_Table,2,0)","v":"North America"},"2 to 3 hours per day"]
[null,"ID0376","2012-05-26T01:54:28",{"$f":"LEFT(tblSalaries[[#This Row],[Timestamp]],FIND(\".\",tblSalaries[[#This Row],[Timestamp]],1))","v":"41055."},9000000,9000000,"INR",{"$f":"tblSalaries[[#This Row],[clean Salary (in local currency)]]*VLOOKUP(tblSalaries[[#This Row],[Currency]],tblXrate[],2,FALSE)","v":160271.25018698312},"Financial Analyst","Analyst","India",{"$f":"VLOOKUP(tblSalaries[[#This Row],[Where do you work]],tblCountries[[Actual]:[Mapping]],2,FALSE)","v":"India"},{"$f":"VLOOKUP(tblSalaries[[#This Row],[clean Country]]&\"*\",Cont_Table,2,0)","v":"Asia"},"4 to 6 hours a day"]
[null,"ID0377","2012-05-26T01:54:47",{"$f":"LEFT(tblSalaries[[#This Row],[Timestamp]],FIND(\".\",tblSalaries[[#This Row],[Timestamp]],1))","v":"41055."},"Rs. 500000",500000,"INR",{"$f":"tblSalaries[[#This Row],[clean Salary (in local currency)]]*VLOOKUP(tblSalaries[[#This Row],[Currency]],tblXrate[],2,FALSE)","v":8903.9583437212841},"Owner","Manager","India",{"$f":"VLOOKUP(tblSalaries[[#This Row],[Where do you work]],tblCountries[[Actual]:[Mapping]],2,FALSE)","v":"India"},{"$f":"VLOOKUP(tblSalaries[[#This Row],[clean Country]]&\"*\",Cont_Table,2,0)","v":"Asia"},"2 to 3 hours per day"]
[null,"ID0378","2012-05-26T01:57:23",{"$f":"LEFT(tblSalaries[[#This Row],[Timestamp]],FIND(\".\",tblSalaries[[#This Row],[Timestamp]],1))","v":"41055."},80000,80000,"CAD",{"$f":"tblSalaries[[#This Row],[clean Salary (in local currency)]]*VLOOKUP(tblSalaries[[#This Row],[Currency]],tblXrate[],2,FALSE)","v":78668.921842426149},"Senior Business Analyst","Analyst","Canada",{"$f":"VLOOKUP(tblSalaries[[#This Row],[Where do you work]],tblCountries[[Actual]:[Mapping]],2,FALSE)","v":"Canada"},{"$f":"VLOOKUP(tblSalaries[[#This Row],[clean Country]]&\"*\",Cont_Table,2,0)","v":"North America"},"4 to 6 hours a day"]
[null,"ID0379","2012-05-26T01:57:40",{"$f":"LEFT(tblSalaries[[#This Row],[Timestamp]],FIND(\".\",tblSalaries[[#This Row],[Timestamp]],1))","v":"41055."},1500,18000,"EUR",{"$f":"tblSalaries[[#This Row],[clean Salary (in local currency)]]*VLOOKUP(tblSalaries[[#This Row],[Currency]],tblXrate[],2,FALSE)","v":22867.189901848938},"marketing and sales ","Manager","Portugal",{"$f":"VLOOKUP(tblSalaries[[#This Row],[Where do you work]],tblCountries[[Actual]:[Mapping]],2,FALSE)","v":"Portugal"},{"$f":"VLOOKUP(tblSalaries[[#This Row],[clean Country]]&\"*\",Cont_Table,2,0)","v":"Europe"},"2 to 3 hours per day"]
[null,"ID0380","2012-05-26T01:58:19",{"$f":"LEFT(tblSalaries[[#This Row],[Timestamp]],FIND(\".\",tblSalaries[[#This Row],[Timestamp]],1))","v":"41055."},"Â£60000",60000,"GBP",{"$f":"tblSalaries[[#This Row],[clean Salary (in local currency)]]*VLOOKUP(tblSalaries[[#This Row],[Currency]],tblXrate[],2,FALSE)","v":94570.696324037053},"Managing Director","CXO or Top Mgmt.","UK",{"$f":"VLOOKUP(tblSalaries[[#This Row],[Where do you work]],tblCountries[[Actual]:[Mapping]],2,FALSE)","v":"UK"},{"$f":"VLOOKUP(tblSalaries[[#This Row],[clean Country]]&\"*\",Cont_Table,2,0)","v":"Europe"},"2 to 3 hours per day"]
[null,"ID0381","2012-05-26T01:58:42",{"$f":"LEFT(tblSalaries[[#This Row],[Timestamp]],FIND(\".\",tblSalaries[[#This Row],[Timestamp]],1))","v":"41055."},95000,95000,"USD",{"$f":"tblSalaries[[#This Row],[clean Salary (in local currency)]]*VLOOKUP(tblSalaries[[#This Row],[Currency]],tblXrate[],2,FALSE)","v":95000},"Senior Financial Analyst","Analyst","USA",{"$f":"VLOOKUP(tblSalaries[[#This Row],[Where do you work]],tblCountries[[Actual]:[Mapping]],2,FALSE)","v":"USA"},{"$f":"VLOOKUP(tblSalaries[[#This Row],[clean Country]]&\"*\",Cont_Table,2,0)","v":"North America"},"All the 8 hours baby, all the 8!"]
[null,"ID0382","2012-05-26T01:59:21",{"$f":"LEFT(tblSalaries[[#This Row],[Timestamp]],FIND(\".\",tblSalaries[[#This Row],[Timestamp]],1))","v":"41055."},"INR 5,40,000",540000,"INR",{"$f":"tblSalaries[[#This Row],[clean Salary (in local currency)]]*VLOOKUP(tblSalaries[[#This Row],[Currency]],tblXrate[],2,FALSE)","v":9616.275011218986},"Senior Billing Engineer","Engineer","India",{"$f":"VLOOKUP(tblSalaries[[#This Row],[Where do you work]],tblCountries[[Actual]:[Mapping]],2,FALSE)","v":"India"},{"$f":"VLOOKUP(tblSalaries[[#This Row],[clean Country]]&\"*\",Cont_Table,2,0)","v":"Asia"},"4 to 6 hours a day"]
[null,"ID0383","2012-05-26T01:59:40",{"$f":"LEFT(tblSalaries[[#This Row],[Timestamp]],FIND(\".\",tblSalaries[[#This Row],[Timestamp]],1))","v":"41055."},48000,48000,"USD",{"$f":"tblSalaries[[#This Row],[clean Salary (in local currency)]]*VLOOKUP(tblSalaries[[#This Row],[Currency]],tblXrate[],2,FALSE)","v":48000},"Quality Analyst","Analyst","USA",{"$f":"VLOOKUP(tblSalaries[[#This Row],[Where do you work]],tblCountries[[Actual]:[Mapping]],2,FALSE)","v":"USA"},{"$f":"VLOOKUP(tblSalaries[[#This Row],[clean Country]]&\"*\",Cont_Table,2,0)","v":"North America"},"1 or 2 hours a day"]
[null,"ID0384","2012-05-26T01:59:45",{"$f":"LEFT(tblSalaries[[#This Row],[Timestamp]],FIND(\".\",tblSalaries[[#This Row],[Timestamp]],1))","v":"41055."},"46000 usd",46000,"USD",{"$f":"tblSalaries[[#This Row],[clean Salary (in local currency)]]*VLOOKUP(tblSalaries[[#This Row],[Currency]],tblXrate[],2,FALSE)","v":46000},"Financial analyst","Analyst","USA",{"$f":"VLOOKUP(tblSalaries[[#This Row],[Where do you work]],tblCountries[[Actual]:[Mapping]],2,FALSE)","v":"USA"},{"$f":"VLOOKUP(tblSalaries[[#This Row],[clean Country]]&\"*\",Cont_Table,2,0)","v":"North America"},"4 to 6 hours a day"]
[null,"ID0385","2012-05-26T01:59:48",{"$f":"LEFT(tblSalaries[[#This Row],[Timestamp]],FIND(\".\",tblSalaries[[#This Row],[Timestamp]],1))","v":"41055."},15000,15000,"USD",{"$f":"tblSalaries[[#This Row],[clean Salary (in local currency)]]*VLOOKUP(tblSalaries[[#This Row],[Currency]],tblXrate[],2,FALSE)","v":15000},"Economist","Reporting","Ukraine",{"$f":"VLOOKUP(tblSalaries[[#This Row],[Where do you work]],tblCountries[[Actual]:[Mapping]],2,FALSE)","v":"Ukraine"},{"$f":"VLOOKUP(tblSalaries[[#This Row],[clean Country]]&\"*\",Cont_Table,2,0)","v":"Europe"},"2 to 3 hours per day"]
[null,"ID0386","2012-05-26T02:00:04",{"$f":"LEFT(tblSalaries[[#This Row],[Timestamp]],FIND(\".\",tblSalaries[[#This Row],[Timestamp]],1))","v":"41055."},"Rs 6.2 lakhs",620000,"INR",{"$f":"tblSalaries[[#This Row],[clean Salary (in local currency)]]*VLOOKUP(tblSalaries[[#This Row],[Currency]],tblXrate[],2,FALSE)","v":11040.908346214392},"assistant manager (finance)","Manager","India",{"$f":"VLOOKUP(tblSalaries[[#This Row],[Where do you work]],tblCountries[[Actual]:[Mapping]],2,FALSE)","v":"India"},{"$f":"VLOOKUP(tblSalaries[[#This Row],[clean Country]]&\"*\",Cont_Table,2,0)","v":"Asia"},"1 or 2 hours a day"]
[null,"ID0387","2012-05-26T02:00:10",{"$f":"LEFT(tblSalaries[[#This Row],[Timestamp]],FIND(\".\",tblSalaries[[#This Row],[Timestamp]],1))","v":"41055."},"Â£28000",28000,"GBP",{"$f":"tblSalaries[[#This Row],[clean Salary (in local currency)]]*VLOOKUP(tblSalaries[[#This Row],[Currency]],tblXrate[],2,FALSE)","v":44132.991617883956},"Central Services Manager","Manager","UK",{"$f":"VLOOKUP(tblSalaries[[#This Row],[Where do you work]],tblCountries[[Actual]:[Mapping]],2,FALSE)","v":"UK"},{"$f":"VLOOKUP(tblSalaries[[#This Row],[clean Country]]&\"*\",Cont_Table,2,0)","v":"Europe"},"2 to 3 hours per day"]
[null,"ID0388","2012-05-26T02:00:14",{"$f":"LEFT(tblSalaries[[#This Row],[Timestamp]],FIND(\".\",tblSalaries[[#This Row],[Timestamp]],1))","v":"41055."},47000,47000,"USD",{"$f":"tblSalaries[[#This Row],[clean Salary (in local currency)]]*VLOOKUP(tblSalaries[[#This Row],[Currency]],tblXrate[],2,FALSE)","v":47000},"Trainer ","Manager","USA",{"$f":"VLOOKUP(tblSalaries[[#This Row],[Where do you work]],tblCountries[[Actual]:[Mapping]],2,FALSE)","v":"USA"},{"$f":"VLOOKUP(tblSalaries[[#This Row],[clean Country]]&\"*\",Cont_Table,2,0)","v":"North America"},"2 to 3 hours per day"]
[null,"ID0389","2012-05-26T02:00:42",{"$f":"LEFT(tblSalaries[[#This Row],[Timestamp]],FIND(\".\",tblSalaries[[#This Row],[Timestamp]],1))","v":"41055."},44000,44000,"USD",{"$f":"tblSalaries[[#This Row],[clean Salary (in local currency)]]*VLOOKUP(tblSalaries[[#This Row],[Currency]],tblXrate[],2,FALSE)","v":44000},"continuous improvement team member","Analyst","USA",{"$f":"VLOOKUP(tblSalaries[[#This Row],[Where do you work]],tblCountries[[Actual]:[Mapping]],2,FALSE)","v":"USA"},{"$f":"VLOOKUP(tblSalaries[[#This Row],[clean Country]]&\"*\",Cont_Table,2,0)","v":"North America"},"2 to 3 hours per day"]
[null,"ID0390","2012-05-26T02:00:46",{"$f":"LEFT(tblSalaries[[#This Row],[Timestamp]],FIND(\".\",tblSalaries[[#This Row],[Timestamp]],1))","v":"41055."},55000,55000,"USD",{"$f":"tblSalaries[[#This Row],[clean Salary (in local currency)]]*VLOOKUP(tblSalaries[[#This Row],[Currency]],tblXrate[],2,FALSE)","v":55000},"Accountant","Accountant","USA",{"$f":"VLOOKUP(tblSalaries[[#This Row],[Where do you work]],tblCountries[[Actual]:[Mapping]],2,FALSE)","v":"USA"},{"$f":"VLOOKUP(tblSalaries[[#This Row],[clean Country]]&\"*\",Cont_Table,2,0)","v":"North America"},"4 to 6 hours a day"]
[null,"ID0391","2012-05-26T02:00:54",{"$f":"LEFT(tblSalaries[[#This Row],[Timestamp]],FIND(\".\",tblSalaries[[#This Row],[Timestamp]],1))","v":"41055."},12000,12000,"USD",{"$f":"tblSalaries[[#This Row],[clean Salary (in local currency)]]*VLOOKUP(tblSalaries[[#This Row],[Currency]],tblXrate[],2,FALSE)","v":12000},"MIS Officer","Reporting","South Africa",{"$f":"VLOOKUP(tblSalaries[[#This Row],[Where do you work]],tblCountries[[Actual]:[Mapping]],2,FALSE)","v":"South Africa"},{"$f":"VLOOKUP(tblSalaries[[#This Row],[clean Country]]&\"*\",Cont_Table,2,0)","v":"Africa"},"4 to 6 hours a day"]
[null,"ID0392","2012-05-26T02:01:07",{"$f":"LEFT(tblSalaries[[#This Row],[Timestamp]],FIND(\".\",tblSalaries[[#This Row],[Timestamp]],1))","v":"41055."},50000,50000,"USD",{"$f":"tblSalaries[[#This Row],[clean Salary (in local currency)]]*VLOOKUP(tblSalaries[[#This Row],[Currency]],tblXrate[],2,FALSE)","v":50000},"IR Manager","Manager","USA",{"$f":"VLOOKUP(tblSalaries[[#This Row],[Where do you work]],tblCountries[[Actual]:[Mapping]],2,FALSE)","v":"USA"},{"$f":"VLOOKUP(tblSalaries[[#This Row],[clean Country]]&\"*\",Cont_Table,2,0)","v":"North America"},"2 to 3 hours per day"]
[null,"ID0393","2012-05-26T02:01:31",{"$f":"LEFT(tblSalaries[[#This Row],[Timestamp]],FIND(\".\",tblSalaries[[#This Row],[Timestamp]],1))","v":"41055."},"7,50,000 INR",750000,"INR",{"$f":"tblSalaries[[#This Row],[clean Salary (in local currency)]]*VLOOKUP(tblSalaries[[#This Row],[Currency]],tblXrate[],2,FALSE)","v":13355.937515581925},"Business Analyst","Analyst","India",{"$f":"VLOOKUP(tblSalaries[[#This Row],[Where do you work]],tblCountries[[Actual]:[Mapping]],2,FALSE)","v":"India"},{"$f":"VLOOKUP(tblSalaries[[#This Row],[clean Country]]&\"*\",Cont_Table,2,0)","v":"Asia"},"1 or 2 hours a day"]
[null,"ID0394","2012-05-26T02:02:02",{"$f":"LEFT(tblSalaries[[#This Row],[Timestamp]],FIND(\".\",tblSalaries[[#This Row],[Timestamp]],1))","v":"41055."},"99147 $",99147,"USD",{"$f":"tblSalaries[[#This Row],[clean Salary (in local currency)]]*VLOOKUP(tblSalaries[[#This Row],[Currency]],tblXrate[],2,FALSE)","v":99147},"Chief Specialist of Economics & Planning","Specialist","Russia",{"$f":"VLOOKUP(tblSalaries[[#This Row],[Where do you work]],tblCountries[[Actual]:[Mapping]],2,FALSE)","v":"Russia"},{"$f":"VLOOKUP(tblSalaries[[#This Row],[clean Country]]&\"*\",Cont_Table,2,0)","v":"Asia"},"4 to 6 hours a day"]
[null,"ID0395","2012-05-26T02:03:35",{"$f":"LEFT(tblSalaries[[#This Row],[Timestamp]],FIND(\".\",tblSalaries[[#This Row],[Timestamp]],1))","v":"41055."},45880,45880,"USD",{"$f":"tblSalaries[[#This Row],[clean Salary (in local currency)]]*VLOOKUP(tblSalaries[[#This Row],[Currency]],tblXrate[],2,FALSE)","v":45880},"Campus Budget Officer","Manager","USA",{"$f":"VLOOKUP(tblSalaries[[#This Row],[Where do you work]],tblCountries[[Actual]:[Mapping]],2,FALSE)","v":"USA"},{"$f":"VLOOKUP(tblSalaries[[#This Row],[clean Country]]&\"*\",Cont_Table,2,0)","v":"North America"},"All the 8 hours baby, all the 8!"]
[null,"ID0396","2012-05-26T02:03:45",{"$f":"LEFT(tblSalaries[[#This Row],[Timestamp]],FIND(\".\",tblSalaries[[#This Row],[Timestamp]],1))","v":"41055."},70000,70000,"USD",{"$f":"tblSalaries[[#This Row],[clean Salary (in local currency)]]*VLOOKUP(tblSalaries[[#This Row],[Currency]],tblXrate[],2,FALSE)","v":70000},"Management Ananlyst","Manager","USA",{"$f":"VLOOKUP(tblSalaries[[#This Row],[Where do you work]],tblCountries[[Actual]:[Mapping]],2,FALSE)","v":"USA"},{"$f":"VLOOKUP(tblSalaries[[#This Row],[clean Country]]&\"*\",Cont_Table,2,0)","v":"North America"},"4 to 6 hours a day"]
[null,"ID0397","2012-05-26T02:04:01",{"$f":"LEFT(tblSalaries[[#This Row],[Timestamp]],FIND(\".\",tblSalaries[[#This Row],[Timestamp]],1))","v":"41055."},100000,100000,"USD",{"$f":"tblSalaries[[#This Row],[clean Salary (in local currency)]]*VLOOKUP(tblSalaries[[#This Row],[Currency]],tblXrate[],2,FALSE)","v":100000},"Sales Operations Analyst","Analyst","USA",{"$f":"VLOOKUP(tblSalaries[[#This Row],[Where do you work]],tblCountries[[Actual]:[Mapping]],2,FALSE)","v":"USA"},{"$f":"VLOOKUP(tblSalaries[[#This Row],[clean Country]]&\"*\",Cont_Table,2,0)","v":"North America"},"All the 8 hours baby, all the 8!"]
[null,"ID0398","2012-05-26T02:04:05",{"$f":"LEFT(tblSalaries[[#This Row],[Timestamp]],FIND(\".\",tblSalaries[[#This Row],[Timestamp]],1))","v":"41055."},"120000 BDT",1440000,"BDT",{"$f":"tblSalaries[[#This Row],[clean Salary (in local currency)]]*VLOOKUP(tblSalaries[[#This Row],[Currency]],tblXrate[],2,FALSE)","v":17598.017290051986},"Computer Operator","Analyst","Bangladesh",{"$f":"VLOOKUP(tblSalaries[[#This Row],[Where do you work]],tblCountries[[Actual]:[Mapping]],2,FALSE)","v":"Bangladesh"},{"$f":"VLOOKUP(tblSalaries[[#This Row],[clean Country]]&\"*\",Cont_Table,2,0)","v":"Asia"},"2 to 3 hours per day"]
[null,"ID0399","2012-05-26T02:05:06",{"$f":"LEFT(tblSalaries[[#This Row],[Timestamp]],FIND(\".\",tblSalaries[[#This Row],[Timestamp]],1))","v":"41055."},85000,85000,"USD",{"$f":"tblSalaries[[#This Row],[clean Salary (in local currency)]]*VLOOKUP(tblSalaries[[#This Row],[Currency]],tblXrate[],2,FALSE)","v":85000},"ENGINEER","Engineer","USA",{"$f":"VLOOKUP(tblSalaries[[#This Row],[Where do you work]],tblCountries[[Actual]:[Mapping]],2,FALSE)","v":"USA"},{"$f":"VLOOKUP(tblSalaries[[#This Row],[clean Country]]&\"*\",Cont_Table,2,0)","v":"North America"},"2 to 3 hours per day"]
[null,"ID0400","2012-05-26T02:05:49",{"$f":"LEFT(tblSalaries[[#This Row],[Timestamp]],FIND(\".\",tblSalaries[[#This Row],[Timestamp]],1))","v":"41055."},47000,47000,"USD",{"$f":"tblSalaries[[#This Row],[clean Salary (in local currency)]]*VLOOKUP(tblSalaries[[#This Row],[Currency]],tblXrate[],2,FALSE)","v":47000},"Sr Management Analytst 2","Manager","USA",{"$f":"VLOOKUP(tblSalaries[[#This Row],[Where do you work]],tblCountries[[Actual]:[Mapping]],2,FALSE)","v":"USA"},{"$f":"VLOOKUP(tblSalaries[[#This Row],[clean Country]]&\"*\",Cont_Table,2,0)","v":"North America"},"4 to 6 hours a day"]
[null,"ID0401","2012-05-26T02:05:58",{"$f":"LEFT(tblSalaries[[#This Row],[Timestamp]],FIND(\".\",tblSalaries[[#This Row],[Timestamp]],1))","v":"41055."},40000,40000,"USD",{"$f":"tblSalaries[[#This Row],[clean Salary (in local currency)]]*VLOOKUP(tblSalaries[[#This Row],[Currency]],tblXrate[],2,FALSE)","v":40000},"Accounting Manager","Manager","USA",{"$f":"VLOOKUP(tblSalaries[[#This Row],[Where do you work]],tblCountries[[Actual]:[Mapping]],2,FALSE)","v":"USA"},{"$f":"VLOOKUP(tblSalaries[[#This Row],[clean Country]]&\"*\",Cont_Table,2,0)","v":"North America"},"2 to 3 hours per day"]
[null,"ID0402","2012-05-26T02:06:38",{"$f":"LEFT(tblSalaries[[#This Row],[Timestamp]],FIND(\".\",tblSalaries[[#This Row],[Timestamp]],1))","v":"41055."},30000,30000,"USD",{"$f":"tblSalaries[[#This Row],[clean Salary (in local currency)]]*VLOOKUP(tblSalaries[[#This Row],[Currency]],tblXrate[],2,FALSE)","v":30000},"ceo","CXO or Top Mgmt.","India",{"$f":"VLOOKUP(tblSalaries[[#This Row],[Where do you work]],tblCountries[[Actual]:[Mapping]],2,FALSE)","v":"India"},{"$f":"VLOOKUP(tblSalaries[[#This Row],[clean Country]]&\"*\",Cont_Table,2,0)","v":"Asia"},"2 to 3 hours per day"]
[null,"ID0403","2012-05-26T02:06:56",{"$f":"LEFT(tblSalaries[[#This Row],[Timestamp]],FIND(\".\",tblSalaries[[#This Row],[Timestamp]],1))","v":"41055."},72000,72000,"CAD",{"$f":"tblSalaries[[#This Row],[clean Salary (in local currency)]]*VLOOKUP(tblSalaries[[#This Row],[Currency]],tblXrate[],2,FALSE)","v":70802.029658183528},"Controller","Controller","Canada",{"$f":"VLOOKUP(tblSalaries[[#This Row],[Where do you work]],tblCountries[[Actual]:[Mapping]],2,FALSE)","v":"Canada"},{"$f":"VLOOKUP(tblSalaries[[#This Row],[clean Country]]&\"*\",Cont_Table,2,0)","v":"North America"},"4 to 6 hours a day"]
[null,"ID0404","2012-05-26T02:07:28",{"$f":"LEFT(tblSalaries[[#This Row],[Timestamp]],FIND(\".\",tblSalaries[[#This Row],[Timestamp]],1))","v":"41055."},34000,34000,"USD",{"$f":"tblSalaries[[#This Row],[clean Salary (in local currency)]]*VLOOKUP(tblSalaries[[#This Row],[Currency]],tblXrate[],2,FALSE)","v":34000},"Information Research Technician II","Analyst","USA",{"$f":"VLOOKUP(tblSalaries[[#This Row],[Where do you work]],tblCountries[[Actual]:[Mapping]],2,FALSE)","v":"USA"},{"$f":"VLOOKUP(tblSalaries[[#This Row],[clean Country]]&\"*\",Cont_Table,2,0)","v":"North America"},"4 to 6 hours a day"]
[null,"ID0405","2012-05-26T02:07:49",{"$f":"LEFT(tblSalaries[[#This Row],[Timestamp]],FIND(\".\",tblSalaries[[#This Row],[Timestamp]],1))","v":"41055."},52000,52000,"USD",{"$f":"tblSalaries[[#This Row],[clean Salary (in local currency)]]*VLOOKUP(tblSalaries[[#This Row],[Currency]],tblXrate[],2,FALSE)","v":52000},"Data Analyst","Analyst","USA",{"$f":"VLOOKUP(tblSalaries[[#This Row],[Where do you work]],tblCountries[[Actual]:[Mapping]],2,FALSE)","v":"USA"},{"$f":"VLOOKUP(tblSalaries[[#This Row],[clean Country]]&\"*\",Cont_Table,2,0)","v":"North America"},"4 to 6 hours a day"]
[null,"ID0406","2012-05-26T02:08:10",{"$f":"LEFT(tblSalaries[[#This Row],[Timestamp]],FIND(\".\",tblSalaries[[#This Row],[Timestamp]],1))","v":"41055."},300000,300000,"INR",{"$f":"tblSalaries[[#This Row],[clean Salary (in local currency)]]*VLOOKUP(tblSalaries[[#This Row],[Currency]],tblXrate[],2,FALSE)","v":5342.3750062327708},"Sr. Systems Engineer","Engineer","India",{"$f":"VLOOKUP(tblSalaries[[#This Row],[Where do you work]],tblCountries[[Actual]:[Mapping]],2,FALSE)","v":"India"},{"$f":"VLOOKUP(tblSalaries[[#This Row],[clean Country]]&\"*\",Cont_Table,2,0)","v":"Asia"},"1 or 2 hours a day"]
[null,"ID0407","2012-05-26T02:09:57",{"$f":"LEFT(tblSalaries[[#This Row],[Timestamp]],FIND(\".\",tblSalaries[[#This Row],[Timestamp]],1))","v":"41055."},400000,400000,"INR",{"$f":"tblSalaries[[#This Row],[clean Salary (in local currency)]]*VLOOKUP(tblSalaries[[#This Row],[Currency]],tblXrate[],2,FALSE)","v":7123.1666749770275},"Analyst","Analyst","India",{"$f":"VLOOKUP(tblSalaries[[#This Row],[Where do you work]],tblCountries[[Actual]:[Mapping]],2,FALSE)","v":"India"},{"$f":"VLOOKUP(tblSalaries[[#This Row],[clean Country]]&\"*\",Cont_Table,2,0)","v":"Asia"},"4 to 6 hours a day"]
[null,"ID0408","2012-05-26T02:10:35",{"$f":"LEFT(tblSalaries[[#This Row],[Timestamp]],FIND(\".\",tblSalaries[[#This Row],[Timestamp]],1))","v":"41055."},63586.95,63586,"USD",{"$f":"tblSalaries[[#This Row],[clean Salary (in local currency)]]*VLOOKUP(tblSalaries[[#This Row],[Currency]],tblXrate[],2,FALSE)","v":63586},"Senior Purchasing Officer","Manager","United Arab Emriate",{"$f":"VLOOKUP(tblSalaries[[#This Row],[Where do you work]],tblCountries[[Actual]:[Mapping]],2,FALSE)","v":"UAE"},{"$f":"VLOOKUP(tblSalaries[[#This Row],[clean Country]]&\"*\",Cont_Table,2,0)","v":"Asia"},"2 to 3 hours per day"]
[null,"ID0409","2012-05-26T02:11:40",{"$f":"LEFT(tblSalaries[[#This Row],[Timestamp]],FIND(\".\",tblSalaries[[#This Row],[Timestamp]],1))","v":"41055."},"Â£35000",35000,"GBP",{"$f":"tblSalaries[[#This Row],[clean Salary (in local currency)]]*VLOOKUP(tblSalaries[[#This Row],[Currency]],tblXrate[],2,FALSE)","v":55166.239522354947},"Mgmt Accountant","Accountant","UK",{"$f":"VLOOKUP(tblSalaries[[#This Row],[Where do you work]],tblCountries[[Actual]:[Mapping]],2,FALSE)","v":"UK"},{"$f":"VLOOKUP(tblSalaries[[#This Row],[clean Country]]&\"*\",Cont_Table,2,0)","v":"Europe"},"4 to 6 hours a day"]
[null,"ID0410","2012-05-26T02:12:58",{"$f":"LEFT(tblSalaries[[#This Row],[Timestamp]],FIND(\".\",tblSalaries[[#This Row],[Timestamp]],1))","v":"41055."},60000,60000,"USD",{"$f":"tblSalaries[[#This Row],[clean Salary (in local currency)]]*VLOOKUP(tblSalaries[[#This Row],[Currency]],tblXrate[],2,FALSE)","v":60000},"Sr financial analyst ","Analyst","USA",{"$f":"VLOOKUP(tblSalaries[[#This Row],[Where do you work]],tblCountries[[Actual]:[Mapping]],2,FALSE)","v":"USA"},{"$f":"VLOOKUP(tblSalaries[[#This Row],[clean Country]]&\"*\",Cont_Table,2,0)","v":"North America"},"4 to 6 hours a day"]
[null,"ID0411","2012-05-26T02:13:57",{"$f":"LEFT(tblSalaries[[#This Row],[Timestamp]],FIND(\".\",tblSalaries[[#This Row],[Timestamp]],1))","v":"41055."},19200,19200,"USD",{"$f":"tblSalaries[[#This Row],[clean Salary (in local currency)]]*VLOOKUP(tblSalaries[[#This Row],[Currency]],tblXrate[],2,FALSE)","v":19200},"Department Manager","Manager","Romania",{"$f":"VLOOKUP(tblSalaries[[#This Row],[Where do you work]],tblCountries[[Actual]:[Mapping]],2,FALSE)","v":"Romania"},{"$f":"VLOOKUP(tblSalaries[[#This Row],[clean Country]]&\"*\",Cont_Table,2,0)","v":"Europe"},"All the 8 hours baby, all the 8!"]
[null,"ID0412","2012-05-26T02:14:05",{"$f":"LEFT(tblSalaries[[#This Row],[Timestamp]],FIND(\".\",tblSalaries[[#This Row],[Timestamp]],1))","v":"41055."},"Â¢ 14.000.000,00",14000000,"COSTARICAN",{"$f":"tblSalaries[[#This Row],[clean Salary (in local currency)]]*VLOOKUP(tblSalaries[[#This Row],[Currency]],tblXrate[],2,FALSE)","v":28109.627547434993},"Businees Adminstratot","Analyst","Costa Rica",{"$f":"VLOOKUP(tblSalaries[[#This Row],[Where do you work]],tblCountries[[Actual]:[Mapping]],2,FALSE)","v":"Costa Rica"},{"$f":"VLOOKUP(tblSalaries[[#This Row],[clean Country]]&\"*\",Cont_Table,2,0)","v":"North America"},"All the 8 hours baby, all the 8!"]
[null,"ID0413","2012-05-26T02:14:29",{"$f":"LEFT(tblSalaries[[#This Row],[Timestamp]],FIND(\".\",tblSalaries[[#This Row],[Timestamp]],1))","v":"41055."},56000,56000,"USD",{"$f":"tblSalaries[[#This Row],[clean Salary (in local currency)]]*VLOOKUP(tblSalaries[[#This Row],[Currency]],tblXrate[],2,FALSE)","v":56000},"Staff assistant ","Analyst","USA",{"$f":"VLOOKUP(tblSalaries[[#This Row],[Where do you work]],tblCountries[[Actual]:[Mapping]],2,FALSE)","v":"USA"},{"$f":"VLOOKUP(tblSalaries[[#This Row],[clean Country]]&\"*\",Cont_Table,2,0)","v":"North America"},"4 to 6 hours a day"]
[null,"ID0414","2012-05-26T02:14:48",{"$f":"LEFT(tblSalaries[[#This Row],[Timestamp]],FIND(\".\",tblSalaries[[#This Row],[Timestamp]],1))","v":"41055."},52000,52000,"USD",{"$f":"tblSalaries[[#This Row],[clean Salary (in local currency)]]*VLOOKUP(tblSalaries[[#This Row],[Currency]],tblXrate[],2,FALSE)","v":52000},"Sr. Accountant","Accountant","USA",{"$f":"VLOOKUP(tblSalaries[[#This Row],[Where do you work]],tblCountries[[Actual]:[Mapping]],2,FALSE)","v":"USA"},{"$f":"VLOOKUP(tblSalaries[[#This Row],[clean Country]]&\"*\",Cont_Table,2,0)","v":"North America"},"4 to 6 hours a day"]
[null,"ID0415","2012-05-26T02:15:19",{"$f":"LEFT(tblSalaries[[#This Row],[Timestamp]],FIND(\".\",tblSalaries[[#This Row],[Timestamp]],1))","v":"41055."},51613,51613,"USD",{"$f":"tblSalaries[[#This Row],[clean Salary (in local currency)]]*VLOOKUP(tblSalaries[[#This Row],[Currency]],tblXrate[],2,FALSE)","v":51613},"Air Planning Analyst","Analyst","USA",{"$f":"VLOOKUP(tblSalaries[[#This Row],[Where do you work]],tblCountries[[Actual]:[Mapping]],2,FALSE)","v":"USA"},{"$f":"VLOOKUP(tblSalaries[[#This Row],[clean Country]]&\"*\",Cont_Table,2,0)","v":"North America"},"All the 8 hours baby, all the 8!"]
[null,"ID0416","2012-05-26T02:17:01",{"$f":"LEFT(tblSalaries[[#This Row],[Timestamp]],FIND(\".\",tblSalaries[[#This Row],[Timestamp]],1))","v":"41055."},35000,35000,"USD",{"$f":"tblSalaries[[#This Row],[clean Salary (in local currency)]]*VLOOKUP(tblSalaries[[#This Row],[Currency]],tblXrate[],2,FALSE)","v":35000},"Credit Analyst","Analyst","Russia",{"$f":"VLOOKUP(tblSalaries[[#This Row],[Where do you work]],tblCountries[[Actual]:[Mapping]],2,FALSE)","v":"Russia"},{"$f":"VLOOKUP(tblSalaries[[#This Row],[clean Country]]&\"*\",Cont_Table,2,0)","v":"Asia"},"4 to 6 hours a day"]
[null,"ID0417","2012-05-26T02:17:18",{"$f":"LEFT(tblSalaries[[#This Row],[Timestamp]],FIND(\".\",tblSalaries[[#This Row],[Timestamp]],1))","v":"41055."},56000,56000,"USD",{"$f":"tblSalaries[[#This Row],[clean Salary (in local currency)]]*VLOOKUP(tblSalaries[[#This Row],[Currency]],tblXrate[],2,FALSE)","v":56000},"financial management consultant","Manager","USA",{"$f":"VLOOKUP(tblSalaries[[#This Row],[Where do you work]],tblCountries[[Actual]:[Mapping]],2,FALSE)","v":"USA"},{"$f":"VLOOKUP(tblSalaries[[#This Row],[clean Country]]&\"*\",Cont_Table,2,0)","v":"North America"},"All the 8 hours baby, all the 8!"]
[null,"ID0418","2012-05-26T02:17:38",{"$f":"LEFT(tblSalaries[[#This Row],[Timestamp]],FIND(\".\",tblSalaries[[#This Row],[Timestamp]],1))","v":"41055."},"US$115000",115000,"USD",{"$f":"tblSalaries[[#This Row],[clean Salary (in local currency)]]*VLOOKUP(tblSalaries[[#This Row],[Currency]],tblXrate[],2,FALSE)","v":115000},"Consultant","Consultant","USA",{"$f":"VLOOKUP(tblSalaries[[#This Row],[Where do you work]],tblCountries[[Actual]:[Mapping]],2,FALSE)","v":"USA"},{"$f":"VLOOKUP(tblSalaries[[#This Row],[clean Country]]&\"*\",Cont_Table,2,0)","v":"North America"},"2 to 3 hours per day"]
[null,"ID0419","2012-05-26T02:18:03",{"$f":"LEFT(tblSalaries[[#This Row],[Timestamp]],FIND(\".\",tblSalaries[[#This Row],[Timestamp]],1))","v":"41055."},"Â£66000",66000,"GBP",{"$f":"tblSalaries[[#This Row],[clean Salary (in local currency)]]*VLOOKUP(tblSalaries[[#This Row],[Currency]],tblXrate[],2,FALSE)","v":104027.76595644075},"IT Project Manager, EMEA","Manager","UK",{"$f":"VLOOKUP(tblSalaries[[#This Row],[Where do you work]],tblCountries[[Actual]:[Mapping]],2,FALSE)","v":"UK"},{"$f":"VLOOKUP(tblSalaries[[#This Row],[clean Country]]&\"*\",Cont_Table,2,0)","v":"Europe"},"1 or 2 hours a day"]
[null,"ID0420","2012-05-26T02:19:12",{"$f":"LEFT(tblSalaries[[#This Row],[Timestamp]],FIND(\".\",tblSalaries[[#This Row],[Timestamp]],1))","v":"41055."},"INR 200000",200000,"INR",{"$f":"tblSalaries[[#This Row],[clean Salary (in local currency)]]*VLOOKUP(tblSalaries[[#This Row],[Currency]],tblXrate[],2,FALSE)","v":3561.5833374885137},"Consultant","Consultant","India",{"$f":"VLOOKUP(tblSalaries[[#This Row],[Where do you work]],tblCountries[[Actual]:[Mapping]],2,FALSE)","v":"India"},{"$f":"VLOOKUP(tblSalaries[[#This Row],[clean Country]]&\"*\",Cont_Table,2,0)","v":"Asia"},"1 or 2 hours a day"]
[null,"ID0421","2012-05-26T02:19:48",{"$f":"LEFT(tblSalaries[[#This Row],[Timestamp]],FIND(\".\",tblSalaries[[#This Row],[Timestamp]],1))","v":"41055."},72000,72000,"USD",{"$f":"tblSalaries[[#This Row],[clean Salary (in local currency)]]*VLOOKUP(tblSalaries[[#This Row],[Currency]],tblXrate[],2,FALSE)","v":72000},"IS Director","CXO or Top Mgmt.","USA",{"$f":"VLOOKUP(tblSalaries[[#This Row],[Where do you work]],tblCountries[[Actual]:[Mapping]],2,FALSE)","v":"USA"},{"$f":"VLOOKUP(tblSalaries[[#This Row],[clean Country]]&\"*\",Cont_Table,2,0)","v":"North America"},"4 to 6 hours a day"]
[null,"ID0422","2012-05-26T02:19:52",{"$f":"LEFT(tblSalaries[[#This Row],[Timestamp]],FIND(\".\",tblSalaries[[#This Row],[Timestamp]],1))","v":"41055."},90000,90000,"USD",{"$f":"tblSalaries[[#This Row],[clean Salary (in local currency)]]*VLOOKUP(tblSalaries[[#This Row],[Currency]],tblXrate[],2,FALSE)","v":90000},"Financial Analyst","Analyst","USA",{"$f":"VLOOKUP(tblSalaries[[#This Row],[Where do you work]],tblCountries[[Actual]:[Mapping]],2,FALSE)","v":"USA"},{"$f":"VLOOKUP(tblSalaries[[#This Row],[clean Country]]&\"*\",Cont_Table,2,0)","v":"North America"},"All the 8 hours baby, all the 8!"]
[null,"ID0423","2012-05-26T02:20:15",{"$f":"LEFT(tblSalaries[[#This Row],[Timestamp]],FIND(\".\",tblSalaries[[#This Row],[Timestamp]],1))","v":"41055."},"8500 USD",8500,"USD",{"$f":"tblSalaries[[#This Row],[clean Salary (in local currency)]]*VLOOKUP(tblSalaries[[#This Row],[Currency]],tblXrate[],2,FALSE)","v":8500},"Accounting Coordinator","Accountant","Romania",{"$f":"VLOOKUP(tblSalaries[[#This Row],[Where do you work]],tblCountries[[Actual]:[Mapping]],2,FALSE)","v":"Romania"},{"$f":"VLOOKUP(tblSalaries[[#This Row],[clean Country]]&\"*\",Cont_Table,2,0)","v":"Europe"},"2 to 3 hours per day"]
[null,"ID0424","2012-05-26T02:20:22",{"$f":"LEFT(tblSalaries[[#This Row],[Timestamp]],FIND(\".\",tblSalaries[[#This Row],[Timestamp]],1))","v":"41055."},12000,12000,"USD",{"$f":"tblSalaries[[#This Row],[clean Salary (in local currency)]]*VLOOKUP(tblSalaries[[#This Row],[Currency]],tblXrate[],2,FALSE)","v":12000},"teacher","Analyst","iran",{"$f":"VLOOKUP(tblSalaries[[#This Row],[Where do you work]],tblCountries[[Actual]:[Mapping]],2,FALSE)","v":"iran"},{"$f":"VLOOKUP(tblSalaries[[#This Row],[clean Country]]&\"*\",Cont_Table,2,0)","v":"Asia"},"2 to 3 hours per day"]
[null,"ID0425","2012-05-26T02:22:17",{"$f":"LEFT(tblSalaries[[#This Row],[Timestamp]],FIND(\".\",tblSalaries[[#This Row],[Timestamp]],1))","v":"41055."},"250000 to 270000",250000,"USD",{"$f":"tblSalaries[[#This Row],[clean Salary (in local currency)]]*VLOOKUP(tblSalaries[[#This Row],[Currency]],tblXrate[],2,FALSE)","v":250000},"consultant","Consultant","USA",{"$f":"VLOOKUP(tblSalaries[[#This Row],[Where do you work]],tblCountries[[Actual]:[Mapping]],2,FALSE)","v":"USA"},{"$f":"VLOOKUP(tblSalaries[[#This Row],[clean Country]]&\"*\",Cont_Table,2,0)","v":"North America"},"All the 8 hours baby, all the 8!"]
[null,"ID0426","2012-05-26T02:24:24",{"$f":"LEFT(tblSalaries[[#This Row],[Timestamp]],FIND(\".\",tblSalaries[[#This Row],[Timestamp]],1))","v":"41055."},5900,70800,"EUR",{"$f":"tblSalaries[[#This Row],[clean Salary (in local currency)]]*VLOOKUP(tblSalaries[[#This Row],[Currency]],tblXrate[],2,FALSE)","v":89944.280280605832},"Excel trainer","Analyst","Finland",{"$f":"VLOOKUP(tblSalaries[[#This Row],[Where do you work]],tblCountries[[Actual]:[Mapping]],2,FALSE)","v":"Finland"},{"$f":"VLOOKUP(tblSalaries[[#This Row],[clean Country]]&\"*\",Cont_Table,2,0)","v":"Europe"},"All the 8 hours baby, all the 8!"]
[null,"ID0427","2012-05-26T02:25:10",{"$f":"LEFT(tblSalaries[[#This Row],[Timestamp]],FIND(\".\",tblSalaries[[#This Row],[Timestamp]],1))","v":"41055."},"20000 RS",240000,"INR",{"$f":"tblSalaries[[#This Row],[clean Salary (in local currency)]]*VLOOKUP(tblSalaries[[#This Row],[Currency]],tblXrate[],2,FALSE)","v":4273.9000049862161},"WFM Team Lead","Manager","India",{"$f":"VLOOKUP(tblSalaries[[#This Row],[Where do you work]],tblCountries[[Actual]:[Mapping]],2,FALSE)","v":"India"},{"$f":"VLOOKUP(tblSalaries[[#This Row],[clean Country]]&\"*\",Cont_Table,2,0)","v":"Asia"},"All the 8 hours baby, all the 8!"]
[null,"ID0428","2012-05-26T02:27:50",{"$f":"LEFT(tblSalaries[[#This Row],[Timestamp]],FIND(\".\",tblSalaries[[#This Row],[Timestamp]],1))","v":"41055."},"US $30,000.00 ",30000,"USD",{"$f":"tblSalaries[[#This Row],[clean Salary (in local currency)]]*VLOOKUP(tblSalaries[[#This Row],[Currency]],tblXrate[],2,FALSE)","v":30000},"Supervisor","Manager","USA",{"$f":"VLOOKUP(tblSalaries[[#This Row],[Where do you work]],tblCountries[[Actual]:[Mapping]],2,FALSE)","v":"USA"},{"$f":"VLOOKUP(tblSalaries[[#This Row],[clean Country]]&\"*\",Cont_Table,2,0)","v":"North America"},"2 to 3 hours per day"]
[null,"ID0429","2012-05-26T02:29:37",{"$f":"LEFT(tblSalaries[[#This Row],[Timestamp]],FIND(\".\",tblSalaries[[#This Row],[Timestamp]],1))","v":"41055."},"30000 $",30000,"USD",{"$f":"tblSalaries[[#This Row],[clean Salary (in local currency)]]*VLOOKUP(tblSalaries[[#This Row],[Currency]],tblXrate[],2,FALSE)","v":30000},"BI Developer","Reporting","Romania",{"$f":"VLOOKUP(tblSalaries[[#This Row],[Where do you work]],tblCountries[[Actual]:[Mapping]],2,FALSE)","v":"Romania"},{"$f":"VLOOKUP(tblSalaries[[#This Row],[clean Country]]&\"*\",Cont_Table,2,0)","v":"Europe"},"1 or 2 hours a day"]
[null,"ID0430","2012-05-26T02:31:24",{"$f":"LEFT(tblSalaries[[#This Row],[Timestamp]],FIND(\".\",tblSalaries[[#This Row],[Timestamp]],1))","v":"41055."},24,24000,"USD",{"$f":"tblSalaries[[#This Row],[clean Salary (in local currency)]]*VLOOKUP(tblSalaries[[#This Row],[Currency]],tblXrate[],2,FALSE)","v":24000},"engineer","Engineer","USA",{"$f":"VLOOKUP(tblSalaries[[#This Row],[Where do you work]],tblCountries[[Actual]:[Mapping]],2,FALSE)","v":"USA"},{"$f":"VLOOKUP(tblSalaries[[#This Row],[clean Country]]&\"*\",Cont_Table,2,0)","v":"North America"},"1 or 2 hours a day"]
[null,"ID0431","2012-05-26T02:33:00",{"$f":"LEFT(tblSalaries[[#This Row],[Timestamp]],FIND(\".\",tblSalaries[[#This Row],[Timestamp]],1))","v":"41055."},60000,60000,"USD",{"$f":"tblSalaries[[#This Row],[clean Salary (in local currency)]]*VLOOKUP(tblSalaries[[#This Row],[Currency]],tblXrate[],2,FALSE)","v":60000},"Planner","Manager","USA",{"$f":"VLOOKUP(tblSalaries[[#This Row],[Where do you work]],tblCountries[[Actual]:[Mapping]],2,FALSE)","v":"USA"},{"$f":"VLOOKUP(tblSalaries[[#This Row],[clean Country]]&\"*\",Cont_Table,2,0)","v":"North America"},"4 to 6 hours a day"]
[null,"ID0432","2012-05-26T02:33:06",{"$f":"LEFT(tblSalaries[[#This Row],[Timestamp]],FIND(\".\",tblSalaries[[#This Row],[Timestamp]],1))","v":"41055."},76600,76600,"USD",{"$f":"tblSalaries[[#This Row],[clean Salary (in local currency)]]*VLOOKUP(tblSalaries[[#This Row],[Currency]],tblXrate[],2,FALSE)","v":76600},"Analyst","Analyst","USA",{"$f":"VLOOKUP(tblSalaries[[#This Row],[Where do you work]],tblCountries[[Actual]:[Mapping]],2,FALSE)","v":"USA"},{"$f":"VLOOKUP(tblSalaries[[#This Row],[clean Country]]&\"*\",Cont_Table,2,0)","v":"North America"},"2 to 3 hours per day"]
[null,"ID0433","2012-05-26T02:33:10",{"$f":"LEFT(tblSalaries[[#This Row],[Timestamp]],FIND(\".\",tblSalaries[[#This Row],[Timestamp]],1))","v":"41055."},"Â£65000",65000,"GBP",{"$f":"tblSalaries[[#This Row],[clean Salary (in local currency)]]*VLOOKUP(tblSalaries[[#This Row],[Currency]],tblXrate[],2,FALSE)","v":102451.58768437347},"Financial Controller","Controller","UK",{"$f":"VLOOKUP(tblSalaries[[#This Row],[Where do you work]],tblCountries[[Actual]:[Mapping]],2,FALSE)","v":"UK"},{"$f":"VLOOKUP(tblSalaries[[#This Row],[clean Country]]&\"*\",Cont_Table,2,0)","v":"Europe"},"2 to 3 hours per day"]
[null,"ID0434","2012-05-26T02:34:00",{"$f":"LEFT(tblSalaries[[#This Row],[Timestamp]],FIND(\".\",tblSalaries[[#This Row],[Timestamp]],1))","v":"41055."},"US $6,629.00",6629,"USD",{"$f":"tblSalaries[[#This Row],[clean Salary (in local currency)]]*VLOOKUP(tblSalaries[[#This Row],[Currency]],tblXrate[],2,FALSE)","v":6629},"Engineer","Engineer","Dominican Republic",{"$f":"VLOOKUP(tblSalaries[[#This Row],[Where do you work]],tblCountries[[Actual]:[Mapping]],2,FALSE)","v":"Dominican Republic"},{"$f":"VLOOKUP(tblSalaries[[#This Row],[clean Country]]&\"*\",Cont_Table,2,0)","v":"North America"},"All the 8 hours baby, all the 8!"]
[null,"ID0435","2012-05-26T02:34:37",{"$f":"LEFT(tblSalaries[[#This Row],[Timestamp]],FIND(\".\",tblSalaries[[#This Row],[Timestamp]],1))","v":"41055."},90000,90000,"USD",{"$f":"tblSalaries[[#This Row],[clean Salary (in local currency)]]*VLOOKUP(tblSalaries[[#This Row],[Currency]],tblXrate[],2,FALSE)","v":90000},"senior analyst","Analyst","USA",{"$f":"VLOOKUP(tblSalaries[[#This Row],[Where do you work]],tblCountries[[Actual]:[Mapping]],2,FALSE)","v":"USA"},{"$f":"VLOOKUP(tblSalaries[[#This Row],[clean Country]]&\"*\",Cont_Table,2,0)","v":"North America"},"1 or 2 hours a day"]
[null,"ID0436","2012-05-26T02:35:10",{"$f":"LEFT(tblSalaries[[#This Row],[Timestamp]],FIND(\".\",tblSalaries[[#This Row],[Timestamp]],1))","v":"41055."},8500,8500,"USD",{"$f":"tblSalaries[[#This Row],[clean Salary (in local currency)]]*VLOOKUP(tblSalaries[[#This Row],[Currency]],tblXrate[],2,FALSE)","v":8500},"Assesor","Analyst","Colombia",{"$f":"VLOOKUP(tblSalaries[[#This Row],[Where do you work]],tblCountries[[Actual]:[Mapping]],2,FALSE)","v":"Colombia"},{"$f":"VLOOKUP(tblSalaries[[#This Row],[clean Country]]&\"*\",Cont_Table,2,0)","v":"South America"},"1 or 2 hours a day"]
[null,"ID0437","2012-05-26T02:35:11",{"$f":"LEFT(tblSalaries[[#This Row],[Timestamp]],FIND(\".\",tblSalaries[[#This Row],[Timestamp]],1))","v":"41055."},75000,75000,"USD",{"$f":"tblSalaries[[#This Row],[clean Salary (in local currency)]]*VLOOKUP(tblSalaries[[#This Row],[Currency]],tblXrate[],2,FALSE)","v":75000},"Financial Analys","Analyst","USA",{"$f":"VLOOKUP(tblSalaries[[#This Row],[Where do you work]],tblCountries[[Actual]:[Mapping]],2,FALSE)","v":"USA"},{"$f":"VLOOKUP(tblSalaries[[#This Row],[clean Country]]&\"*\",Cont_Table,2,0)","v":"North America"},"4 to 6 hours a day"]
[null,"ID0438","2012-05-26T02:37:50",{"$f":"LEFT(tblSalaries[[#This Row],[Timestamp]],FIND(\".\",tblSalaries[[#This Row],[Timestamp]],1))","v":"41055."},72000,72000,"USD",{"$f":"tblSalaries[[#This Row],[clean Salary (in local currency)]]*VLOOKUP(tblSalaries[[#This Row],[Currency]],tblXrate[],2,FALSE)","v":72000},"Sr. Information Systems Analyst","Analyst","USA",{"$f":"VLOOKUP(tblSalaries[[#This Row],[Where do you work]],tblCountries[[Actual]:[Mapping]],2,FALSE)","v":"USA"},{"$f":"VLOOKUP(tblSalaries[[#This Row],[clean Country]]&\"*\",Cont_Table,2,0)","v":"North America"},"2 to 3 hours per day"]
[null,"ID0439","2012-05-26T02:38:34",{"$f":"LEFT(tblSalaries[[#This Row],[Timestamp]],FIND(\".\",tblSalaries[[#This Row],[Timestamp]],1))","v":"41055."},65000,65000,"USD",{"$f":"tblSalaries[[#This Row],[clean Salary (in local currency)]]*VLOOKUP(tblSalaries[[#This Row],[Currency]],tblXrate[],2,FALSE)","v":65000},"Senior Claims Analyst","Analyst","USA",{"$f":"VLOOKUP(tblSalaries[[#This Row],[Where do you work]],tblCountries[[Actual]:[Mapping]],2,FALSE)","v":"USA"},{"$f":"VLOOKUP(tblSalaries[[#This Row],[clean Country]]&\"*\",Cont_Table,2,0)","v":"North America"},"4 to 6 hours a day"]
[null,"ID0440","2012-05-26T02:39:56",{"$f":"LEFT(tblSalaries[[#This Row],[Timestamp]],FIND(\".\",tblSalaries[[#This Row],[Timestamp]],1))","v":"41055."},120000,120000,"USD",{"$f":"tblSalaries[[#This Row],[clean Salary (in local currency)]]*VLOOKUP(tblSalaries[[#This Row],[Currency]],tblXrate[],2,FALSE)","v":120000},"Director","CXO or Top Mgmt.","USA",{"$f":"VLOOKUP(tblSalaries[[#This Row],[Where do you work]],tblCountries[[Actual]:[Mapping]],2,FALSE)","v":"USA"},{"$f":"VLOOKUP(tblSalaries[[#This Row],[clean Country]]&\"*\",Cont_Table,2,0)","v":"North America"},"1 or 2 hours a day"]
[null,"ID0441","2012-05-26T02:40:39",{"$f":"LEFT(tblSalaries[[#This Row],[Timestamp]],FIND(\".\",tblSalaries[[#This Row],[Timestamp]],1))","v":"41055."},"INR 40L",4000000,"INR",{"$f":"tblSalaries[[#This Row],[clean Salary (in local currency)]]*VLOOKUP(tblSalaries[[#This Row],[Currency]],tblXrate[],2,FALSE)","v":71231.666749770273},"Sr Mgr Finance","Accountant","India",{"$f":"VLOOKUP(tblSalaries[[#This Row],[Where do you work]],tblCountries[[Actual]:[Mapping]],2,FALSE)","v":"India"},{"$f":"VLOOKUP(tblSalaries[[#This Row],[clean Country]]&\"*\",Cont_Table,2,0)","v":"Asia"},"All the 8 hours baby, all the 8!"]
[null,"ID0442","2012-05-26T02:42:20",{"$f":"LEFT(tblSalaries[[#This Row],[Timestamp]],FIND(\".\",tblSalaries[[#This Row],[Timestamp]],1))","v":"41055."},"Rs. 300000",300000,"INR",{"$f":"tblSalaries[[#This Row],[clean Salary (in local currency)]]*VLOOKUP(tblSalaries[[#This Row],[Currency]],tblXrate[],2,FALSE)","v":5342.3750062327708},"Web Portal Manager","Manager","India",{"$f":"VLOOKUP(tblSalaries[[#This Row],[Where do you work]],tblCountries[[Actual]:[Mapping]],2,FALSE)","v":"India"},{"$f":"VLOOKUP(tblSalaries[[#This Row],[clean Country]]&\"*\",Cont_Table,2,0)","v":"Asia"},"4 to 6 hours a day"]
[null,"ID0443","2012-05-26T02:43:21",{"$f":"LEFT(tblSalaries[[#This Row],[Timestamp]],FIND(\".\",tblSalaries[[#This Row],[Timestamp]],1))","v":"41055."},1100000,1100000,"INR",{"$f":"tblSalaries[[#This Row],[clean Salary (in local currency)]]*VLOOKUP(tblSalaries[[#This Row],[Currency]],tblXrate[],2,FALSE)","v":19588.708356186824},"manager - MIS & operations planning","Manager","India",{"$f":"VLOOKUP(tblSalaries[[#This Row],[Where do you work]],tblCountries[[Actual]:[Mapping]],2,FALSE)","v":"India"},{"$f":"VLOOKUP(tblSalaries[[#This Row],[clean Country]]&\"*\",Cont_Table,2,0)","v":"Asia"},"4 to 6 hours a day"]
[null,"ID0444","2012-05-26T02:46:18",{"$f":"LEFT(tblSalaries[[#This Row],[Timestamp]],FIND(\".\",tblSalaries[[#This Row],[Timestamp]],1))","v":"41055."},80000,80000,"USD",{"$f":"tblSalaries[[#This Row],[clean Salary (in local currency)]]*VLOOKUP(tblSalaries[[#This Row],[Currency]],tblXrate[],2,FALSE)","v":80000},"web analyst","Analyst","USA",{"$f":"VLOOKUP(tblSalaries[[#This Row],[Where do you work]],tblCountries[[Actual]:[Mapping]],2,FALSE)","v":"USA"},{"$f":"VLOOKUP(tblSalaries[[#This Row],[clean Country]]&\"*\",Cont_Table,2,0)","v":"North America"},"4 to 6 hours a day"]
[null,"ID0445","2012-05-26T02:46:56",{"$f":"LEFT(tblSalaries[[#This Row],[Timestamp]],FIND(\".\",tblSalaries[[#This Row],[Timestamp]],1))","v":"41055."},"INR 30,00,000",3000000,"INR",{"$f":"tblSalaries[[#This Row],[clean Salary (in local currency)]]*VLOOKUP(tblSalaries[[#This Row],[Currency]],tblXrate[],2,FALSE)","v":53423.750062327701},"Management Consultant","Manager","India",{"$f":"VLOOKUP(tblSalaries[[#This Row],[Where do you work]],tblCountries[[Actual]:[Mapping]],2,FALSE)","v":"India"},{"$f":"VLOOKUP(tblSalaries[[#This Row],[clean Country]]&\"*\",Cont_Table,2,0)","v":"Asia"},"4 to 6 hours a day"]
[null,"ID0446","2012-05-26T02:48:32",{"$f":"LEFT(tblSalaries[[#This Row],[Timestamp]],FIND(\".\",tblSalaries[[#This Row],[Timestamp]],1))","v":"41055."},110000,110000,"CAD",{"$f":"tblSalaries[[#This Row],[clean Salary (in local currency)]]*VLOOKUP(tblSalaries[[#This Row],[Currency]],tblXrate[],2,FALSE)","v":108169.76753333595},"Continuos improvment","Controller","Canad",{"$f":"VLOOKUP(tblSalaries[[#This Row],[Where do you work]],tblCountries[[Actual]:[Mapping]],2,FALSE)","v":"Canada"},{"$f":"VLOOKUP(tblSalaries[[#This Row],[clean Country]]&\"*\",Cont_Table,2,0)","v":"North America"},"2 to 3 hours per day"]
[null,"ID0447","2012-05-26T02:49:24",{"$f":"LEFT(tblSalaries[[#This Row],[Timestamp]],FIND(\".\",tblSalaries[[#This Row],[Timestamp]],1))","v":"41055."},51000,51000,"USD",{"$f":"tblSalaries[[#This Row],[clean Salary (in local currency)]]*VLOOKUP(tblSalaries[[#This Row],[Currency]],tblXrate[],2,FALSE)","v":51000},"Direct marketing manager","Manager","USA",{"$f":"VLOOKUP(tblSalaries[[#This Row],[Where do you work]],tblCountries[[Actual]:[Mapping]],2,FALSE)","v":"USA"},{"$f":"VLOOKUP(tblSalaries[[#This Row],[clean Country]]&\"*\",Cont_Table,2,0)","v":"North America"},"2 to 3 hours per day"]
[null,"ID0448","2012-05-26T02:50:16",{"$f":"LEFT(tblSalaries[[#This Row],[Timestamp]],FIND(\".\",tblSalaries[[#This Row],[Timestamp]],1))","v":"41055."},"5000 $",5000,"USD",{"$f":"tblSalaries[[#This Row],[clean Salary (in local currency)]]*VLOOKUP(tblSalaries[[#This Row],[Currency]],tblXrate[],2,FALSE)","v":5000},"mis","Reporting","India",{"$f":"VLOOKUP(tblSalaries[[#This Row],[Where do you work]],tblCountries[[Actual]:[Mapping]],2,FALSE)","v":"India"},{"$f":"VLOOKUP(tblSalaries[[#This Row],[clean Country]]&\"*\",Cont_Table,2,0)","v":"Asia"},"4 to 6 hours a day"]
[null,"ID0449","2012-05-26T02:53:29",{"$f":"LEFT(tblSalaries[[#This Row],[Timestamp]],FIND(\".\",tblSalaries[[#This Row],[Timestamp]],1))","v":"41055."},74000,74000,"USD",{"$f":"tblSalaries[[#This Row],[clean Salary (in local currency)]]*VLOOKUP(tblSalaries[[#This Row],[Currency]],tblXrate[],2,FALSE)","v":74000},"Engineer","Engineer","USA",{"$f":"VLOOKUP(tblSalaries[[#This Row],[Where do you work]],tblCountries[[Actual]:[Mapping]],2,FALSE)","v":"USA"},{"$f":"VLOOKUP(tblSalaries[[#This Row],[clean Country]]&\"*\",Cont_Table,2,0)","v":"North America"},"4 to 6 hours a day"]
[null,"ID0450","2012-05-26T02:53:48",{"$f":"LEFT(tblSalaries[[#This Row],[Timestamp]],FIND(\".\",tblSalaries[[#This Row],[Timestamp]],1))","v":"41055."},"Â£60000",60000,"GBP",{"$f":"tblSalaries[[#This Row],[clean Salary (in local currency)]]*VLOOKUP(tblSalaries[[#This Row],[Currency]],tblXrate[],2,FALSE)","v":94570.696324037053},"Excel Consultant","Consultant","UK",{"$f":"VLOOKUP(tblSalaries[[#This Row],[Where do you work]],tblCountries[[Actual]:[Mapping]],2,FALSE)","v":"UK"},{"$f":"VLOOKUP(tblSalaries[[#This Row],[clean Country]]&\"*\",Cont_Table,2,0)","v":"Europe"},"4 to 6 hours a day"]
[null,"ID0451","2012-05-26T02:55:27",{"$f":"LEFT(tblSalaries[[#This Row],[Timestamp]],FIND(\".\",tblSalaries[[#This Row],[Timestamp]],1))","v":"41055."},50000,50000,"USD",{"$f":"tblSalaries[[#This Row],[clean Salary (in local currency)]]*VLOOKUP(tblSalaries[[#This Row],[Currency]],tblXrate[],2,FALSE)","v":50000},"Wine Analyst","Analyst","USA",{"$f":"VLOOKUP(tblSalaries[[#This Row],[Where do you work]],tblCountries[[Actual]:[Mapping]],2,FALSE)","v":"USA"},{"$f":"VLOOKUP(tblSalaries[[#This Row],[clean Country]]&\"*\",Cont_Table,2,0)","v":"North America"},"4 to 6 hours a day"]
[null,"ID0452","2012-05-26T02:55:29",{"$f":"LEFT(tblSalaries[[#This Row],[Timestamp]],FIND(\".\",tblSalaries[[#This Row],[Timestamp]],1))","v":"41055."},"500000 rupees",500000,"INR",{"$f":"tblSalaries[[#This Row],[clean Salary (in local currency)]]*VLOOKUP(tblSalaries[[#This Row],[Currency]],tblXrate[],2,FALSE)","v":8903.9583437212841},"Business Analyst","Analyst","India",{"$f":"VLOOKUP(tblSalaries[[#This Row],[Where do you work]],tblCountries[[Actual]:[Mapping]],2,FALSE)","v":"India"},{"$f":"VLOOKUP(tblSalaries[[#This Row],[clean Country]]&\"*\",Cont_Table,2,0)","v":"Asia"},"4 to 6 hours a day"]
[null,"ID0453","2012-05-26T02:57:32",{"$f":"LEFT(tblSalaries[[#This Row],[Timestamp]],FIND(\".\",tblSalaries[[#This Row],[Timestamp]],1))","v":"41055."},78000,78000,"USD",{"$f":"tblSalaries[[#This Row],[clean Salary (in local currency)]]*VLOOKUP(tblSalaries[[#This Row],[Currency]],tblXrate[],2,FALSE)","v":78000},"FinanceManager","Manager","Somalia",{"$f":"VLOOKUP(tblSalaries[[#This Row],[Where do you work]],tblCountries[[Actual]:[Mapping]],2,FALSE)","v":"Somalia"},{"$f":"VLOOKUP(tblSalaries[[#This Row],[clean Country]]&\"*\",Cont_Table,2,0)","v":"Africa"},"4 to 6 hours a day"]
[null,"ID0454","2012-05-26T02:57:47",{"$f":"LEFT(tblSalaries[[#This Row],[Timestamp]],FIND(\".\",tblSalaries[[#This Row],[Timestamp]],1))","v":"41055."},900000,900000,"INR",{"$f":"tblSalaries[[#This Row],[clean Salary (in local currency)]]*VLOOKUP(tblSalaries[[#This Row],[Currency]],tblXrate[],2,FALSE)","v":16027.125018698311},"Regional Manager","Manager","India",{"$f":"VLOOKUP(tblSalaries[[#This Row],[Where do you work]],tblCountries[[Actual]:[Mapping]],2,FALSE)","v":"India"},{"$f":"VLOOKUP(tblSalaries[[#This Row],[clean Country]]&\"*\",Cont_Table,2,0)","v":"Asia"},"1 or 2 hours a day"]
[null,"ID0455","2012-05-26T03:01:31",{"$f":"LEFT(tblSalaries[[#This Row],[Timestamp]],FIND(\".\",tblSalaries[[#This Row],[Timestamp]],1))","v":"41055."},"7500 USD",7500,"USD",{"$f":"tblSalaries[[#This Row],[clean Salary (in local currency)]]*VLOOKUP(tblSalaries[[#This Row],[Currency]],tblXrate[],2,FALSE)","v":7500},"HR reporting analyst","Analyst","Romania",{"$f":"VLOOKUP(tblSalaries[[#This Row],[Where do you work]],tblCountries[[Actual]:[Mapping]],2,FALSE)","v":"Romania"},{"$f":"VLOOKUP(tblSalaries[[#This Row],[clean Country]]&\"*\",Cont_Table,2,0)","v":"Europe"},"All the 8 hours baby, all the 8!"]
[null,"ID0456","2012-05-26T03:01:42",{"$f":"LEFT(tblSalaries[[#This Row],[Timestamp]],FIND(\".\",tblSalaries[[#This Row],[Timestamp]],1))","v":"41055."},60000,60000,"USD",{"$f":"tblSalaries[[#This Row],[clean Salary (in local currency)]]*VLOOKUP(tblSalaries[[#This Row],[Currency]],tblXrate[],2,FALSE)","v":60000},"Finalcial Reporting Analyst","Analyst","USA",{"$f":"VLOOKUP(tblSalaries[[#This Row],[Where do you work]],tblCountries[[Actual]:[Mapping]],2,FALSE)","v":"USA"},{"$f":"VLOOKUP(tblSalaries[[#This Row],[clean Country]]&\"*\",Cont_Table,2,0)","v":"North America"},"All the 8 hours baby, all the 8!"]
[null,"ID0457","2012-05-26T03:02:42",{"$f":"LEFT(tblSalaries[[#This Row],[Timestamp]],FIND(\".\",tblSalaries[[#This Row],[Timestamp]],1))","v":"41055."},"800000 rupees",800000,"INR",{"$f":"tblSalaries[[#This Row],[clean Salary (in local currency)]]*VLOOKUP(tblSalaries[[#This Row],[Currency]],tblXrate[],2,FALSE)","v":14246.333349954055},"Partner","CXO or Top Mgmt.","India",{"$f":"VLOOKUP(tblSalaries[[#This Row],[Where do you work]],tblCountries[[Actual]:[Mapping]],2,FALSE)","v":"India"},{"$f":"VLOOKUP(tblSalaries[[#This Row],[clean Country]]&\"*\",Cont_Table,2,0)","v":"Asia"},"All the 8 hours baby, all the 8!"]
[null,"ID0458","2012-05-26T03:03:09",{"$f":"LEFT(tblSalaries[[#This Row],[Timestamp]],FIND(\".\",tblSalaries[[#This Row],[Timestamp]],1))","v":"41055."},80000,80000,"USD",{"$f":"tblSalaries[[#This Row],[clean Salary (in local currency)]]*VLOOKUP(tblSalaries[[#This Row],[Currency]],tblXrate[],2,FALSE)","v":80000},"operations tech","Manager","USA",{"$f":"VLOOKUP(tblSalaries[[#This Row],[Where do you work]],tblCountries[[Actual]:[Mapping]],2,FALSE)","v":"USA"},{"$f":"VLOOKUP(tblSalaries[[#This Row],[clean Country]]&\"*\",Cont_Table,2,0)","v":"North America"},"1 or 2 hours a day"]
[null,"ID0459","2012-05-26T03:03:29",{"$f":"LEFT(tblSalaries[[#This Row],[Timestamp]],FIND(\".\",tblSalaries[[#This Row],[Timestamp]],1))","v":"41055."},"Â£38000",38000,"GBP",{"$f":"tblSalaries[[#This Row],[clean Salary (in local currency)]]*VLOOKUP(tblSalaries[[#This Row],[Currency]],tblXrate[],2,FALSE)","v":59894.774338556796},"Commercial Accountant","Accountant","UK",{"$f":"VLOOKUP(tblSalaries[[#This Row],[Where do you work]],tblCountries[[Actual]:[Mapping]],2,FALSE)","v":"UK"},{"$f":"VLOOKUP(tblSalaries[[#This Row],[clean Country]]&\"*\",Cont_Table,2,0)","v":"Europe"},"4 to 6 hours a day"]
[null,"ID0460","2012-05-26T03:04:06",{"$f":"LEFT(tblSalaries[[#This Row],[Timestamp]],FIND(\".\",tblSalaries[[#This Row],[Timestamp]],1))","v":"41055."},"52,000 Cdn",52000,"CAD",{"$f":"tblSalaries[[#This Row],[clean Salary (in local currency)]]*VLOOKUP(tblSalaries[[#This Row],[Currency]],tblXrate[],2,FALSE)","v":51134.799197576998},"Office Manager","Manager","Canada",{"$f":"VLOOKUP(tblSalaries[[#This Row],[Where do you work]],tblCountries[[Actual]:[Mapping]],2,FALSE)","v":"Canada"},{"$f":"VLOOKUP(tblSalaries[[#This Row],[clean Country]]&\"*\",Cont_Table,2,0)","v":"North America"},"4 to 6 hours a day"]
[null,"ID0461","2012-05-26T03:06:16",{"$f":"LEFT(tblSalaries[[#This Row],[Timestamp]],FIND(\".\",tblSalaries[[#This Row],[Timestamp]],1))","v":"41055."},125000,125000,"USD",{"$f":"tblSalaries[[#This Row],[clean Salary (in local currency)]]*VLOOKUP(tblSalaries[[#This Row],[Currency]],tblXrate[],2,FALSE)","v":125000},"Prod Mgr","Manager","USA",{"$f":"VLOOKUP(tblSalaries[[#This Row],[Where do you work]],tblCountries[[Actual]:[Mapping]],2,FALSE)","v":"USA"},{"$f":"VLOOKUP(tblSalaries[[#This Row],[clean Country]]&\"*\",Cont_Table,2,0)","v":"North America"},"2 to 3 hours per day"]
[null,"ID0462","2012-05-26T03:06:37",{"$f":"LEFT(tblSalaries[[#This Row],[Timestamp]],FIND(\".\",tblSalaries[[#This Row],[Timestamp]],1))","v":"41055."},52000,52000,"USD",{"$f":"tblSalaries[[#This Row],[clean Salary (in local currency)]]*VLOOKUP(tblSalaries[[#This Row],[Currency]],tblXrate[],2,FALSE)","v":52000},"Graphics/Web Document Designer","Analyst","USA",{"$f":"VLOOKUP(tblSalaries[[#This Row],[Where do you work]],tblCountries[[Actual]:[Mapping]],2,FALSE)","v":"USA"},{"$f":"VLOOKUP(tblSalaries[[#This Row],[clean Country]]&\"*\",Cont_Table,2,0)","v":"North America"},"2 to 3 hours per day"]
[null,"ID0463","2012-05-26T03:07:46",{"$f":"LEFT(tblSalaries[[#This Row],[Timestamp]],FIND(\".\",tblSalaries[[#This Row],[Timestamp]],1))","v":"41055."},45000,45000,"USD",{"$f":"tblSalaries[[#This Row],[clean Salary (in local currency)]]*VLOOKUP(tblSalaries[[#This Row],[Currency]],tblXrate[],2,FALSE)","v":45000},"Analyst","Analyst","USA",{"$f":"VLOOKUP(tblSalaries[[#This Row],[Where do you work]],tblCountries[[Actual]:[Mapping]],2,FALSE)","v":"USA"},{"$f":"VLOOKUP(tblSalaries[[#This Row],[clean Country]]&\"*\",Cont_Table,2,0)","v":"North America"},"4 to 6 hours a day"]
[null,"ID0464","2012-05-26T03:08:28",{"$f":"LEFT(tblSalaries[[#This Row],[Timestamp]],FIND(\".\",tblSalaries[[#This Row],[Timestamp]],1))","v":"41055."},25000,25000,"GBP",{"$f":"tblSalaries[[#This Row],[clean Salary (in local currency)]]*VLOOKUP(tblSalaries[[#This Row],[Currency]],tblXrate[],2,FALSE)","v":39404.456801682099},"Analyst","Analyst","UK",{"$f":"VLOOKUP(tblSalaries[[#This Row],[Where do you work]],tblCountries[[Actual]:[Mapping]],2,FALSE)","v":"UK"},{"$f":"VLOOKUP(tblSalaries[[#This Row],[clean Country]]&\"*\",Cont_Table,2,0)","v":"Europe"},"4 to 6 hours a day"]
[null,"ID0465","2012-05-26T03:09:43",{"$f":"LEFT(tblSalaries[[#This Row],[Timestamp]],FIND(\".\",tblSalaries[[#This Row],[Timestamp]],1))","v":"41055."},60000,60000,"USD",{"$f":"tblSalaries[[#This Row],[clean Salary (in local currency)]]*VLOOKUP(tblSalaries[[#This Row],[Currency]],tblXrate[],2,FALSE)","v":60000},"Business intelligence manager","Manager","USA",{"$f":"VLOOKUP(tblSalaries[[#This Row],[Where do you work]],tblCountries[[Actual]:[Mapping]],2,FALSE)","v":"USA"},{"$f":"VLOOKUP(tblSalaries[[#This Row],[clean Country]]&\"*\",Cont_Table,2,0)","v":"North America"},"All the 8 hours baby, all the 8!"]
[null,"ID0466","2012-05-26T03:09:49",{"$f":"LEFT(tblSalaries[[#This Row],[Timestamp]],FIND(\".\",tblSalaries[[#This Row],[Timestamp]],1))","v":"41055."},"CDN $70,000",70000,"CAD",{"$f":"tblSalaries[[#This Row],[clean Salary (in local currency)]]*VLOOKUP(tblSalaries[[#This Row],[Currency]],tblXrate[],2,FALSE)","v":68835.306612122877},"Program Manager","Manager","Canada",{"$f":"VLOOKUP(tblSalaries[[#This Row],[Where do you work]],tblCountries[[Actual]:[Mapping]],2,FALSE)","v":"Canada"},{"$f":"VLOOKUP(tblSalaries[[#This Row],[clean Country]]&\"*\",Cont_Table,2,0)","v":"North America"},"1 or 2 hours a day"]
[null,"ID0467","2012-05-26T03:11:21",{"$f":"LEFT(tblSalaries[[#This Row],[Timestamp]],FIND(\".\",tblSalaries[[#This Row],[Timestamp]],1))","v":"41055."},"5250 $",5250,"USD",{"$f":"tblSalaries[[#This Row],[clean Salary (in local currency)]]*VLOOKUP(tblSalaries[[#This Row],[Currency]],tblXrate[],2,FALSE)","v":5250},"Treasure Specialist","Specialist","Republic of Georgia",{"$f":"VLOOKUP(tblSalaries[[#This Row],[Where do you work]],tblCountries[[Actual]:[Mapping]],2,FALSE)","v":"Republic of Georgia"},{"$f":"VLOOKUP(tblSalaries[[#This Row],[clean Country]]&\"*\",Cont_Table,2,0)","v":"Europe"},"4 to 6 hours a day"]
[null,"ID0468","2012-05-26T03:11:44",{"$f":"LEFT(tblSalaries[[#This Row],[Timestamp]],FIND(\".\",tblSalaries[[#This Row],[Timestamp]],1))","v":"41055."},87000,87000,"CAD",{"$f":"tblSalaries[[#This Row],[clean Salary (in local currency)]]*VLOOKUP(tblSalaries[[#This Row],[Currency]],tblXrate[],2,FALSE)","v":85552.452503638444},"Business Manager","Manager","Canada",{"$f":"VLOOKUP(tblSalaries[[#This Row],[Where do you work]],tblCountries[[Actual]:[Mapping]],2,FALSE)","v":"Canada"},{"$f":"VLOOKUP(tblSalaries[[#This Row],[clean Country]]&\"*\",Cont_Table,2,0)","v":"North America"},"4 to 6 hours a day"]
[null,"ID0469","2012-05-26T03:13:13",{"$f":"LEFT(tblSalaries[[#This Row],[Timestamp]],FIND(\".\",tblSalaries[[#This Row],[Timestamp]],1))","v":"41055."},125000,125000,"INR",{"$f":"tblSalaries[[#This Row],[clean Salary (in local currency)]]*VLOOKUP(tblSalaries[[#This Row],[Currency]],tblXrate[],2,FALSE)","v":2225.989585930321},"clerk","Analyst","India",{"$f":"VLOOKUP(tblSalaries[[#This Row],[Where do you work]],tblCountries[[Actual]:[Mapping]],2,FALSE)","v":"India"},{"$f":"VLOOKUP(tblSalaries[[#This Row],[clean Country]]&\"*\",Cont_Table,2,0)","v":"Asia"},"4 to 6 hours a day"]
[null,"ID0470","2012-05-26T03:14:44",{"$f":"LEFT(tblSalaries[[#This Row],[Timestamp]],FIND(\".\",tblSalaries[[#This Row],[Timestamp]],1))","v":"41055."},150000,150000,"USD",{"$f":"tblSalaries[[#This Row],[clean Salary (in local currency)]]*VLOOKUP(tblSalaries[[#This Row],[Currency]],tblXrate[],2,FALSE)","v":150000},"CFO","CXO or Top Mgmt.","USA",{"$f":"VLOOKUP(tblSalaries[[#This Row],[Where do you work]],tblCountries[[Actual]:[Mapping]],2,FALSE)","v":"USA"},{"$f":"VLOOKUP(tblSalaries[[#This Row],[clean Country]]&\"*\",Cont_Table,2,0)","v":"North America"},"2 to 3 hours per day"]
[null,"ID0471","2012-05-26T03:15:01",{"$f":"LEFT(tblSalaries[[#This Row],[Timestamp]],FIND(\".\",tblSalaries[[#This Row],[Timestamp]],1))","v":"41055."},50000,50000,"USD",{"$f":"tblSalaries[[#This Row],[clean Salary (in local currency)]]*VLOOKUP(tblSalaries[[#This Row],[Currency]],tblXrate[],2,FALSE)","v":50000},"Researcher & Data Analyst","Analyst","USA",{"$f":"VLOOKUP(tblSalaries[[#This Row],[Where do you work]],tblCountries[[Actual]:[Mapping]],2,FALSE)","v":"USA"},{"$f":"VLOOKUP(tblSalaries[[#This Row],[clean Country]]&\"*\",Cont_Table,2,0)","v":"North America"},"4 to 6 hours a day"]
[null,"ID0472","2012-05-26T03:15:04",{"$f":"LEFT(tblSalaries[[#This Row],[Timestamp]],FIND(\".\",tblSalaries[[#This Row],[Timestamp]],1))","v":"41055."},70000,70000,"USD",{"$f":"tblSalaries[[#This Row],[clean Salary (in local currency)]]*VLOOKUP(tblSalaries[[#This Row],[Currency]],tblXrate[],2,FALSE)","v":70000},"Analyst","Analyst","USA",{"$f":"VLOOKUP(tblSalaries[[#This Row],[Where do you work]],tblCountries[[Actual]:[Mapping]],2,FALSE)","v":"USA"},{"$f":"VLOOKUP(tblSalaries[[#This Row],[clean Country]]&\"*\",Cont_Table,2,0)","v":"North America"},"4 to 6 hours a day"]
[null,"ID0473","2012-05-26T03:15:30",{"$f":"LEFT(tblSalaries[[#This Row],[Timestamp]],FIND(\".\",tblSalaries[[#This Row],[Timestamp]],1))","v":"41055."},"Â£28500",28500,"GBP",{"$f":"tblSalaries[[#This Row],[clean Salary (in local currency)]]*VLOOKUP(tblSalaries[[#This Row],[Currency]],tblXrate[],2,FALSE)","v":44921.080753917595},"Data Quality & Analysis Manager","Manager","UK",{"$f":"VLOOKUP(tblSalaries[[#This Row],[Where do you work]],tblCountries[[Actual]:[Mapping]],2,FALSE)","v":"UK"},{"$f":"VLOOKUP(tblSalaries[[#This Row],[clean Country]]&\"*\",Cont_Table,2,0)","v":"Europe"},"2 to 3 hours per day"]
[null,"ID0474","2012-05-26T03:15:50",{"$f":"LEFT(tblSalaries[[#This Row],[Timestamp]],FIND(\".\",tblSalaries[[#This Row],[Timestamp]],1))","v":"41055."},20000,20000,"USD",{"$f":"tblSalaries[[#This Row],[clean Salary (in local currency)]]*VLOOKUP(tblSalaries[[#This Row],[Currency]],tblXrate[],2,FALSE)","v":20000},"Specialist","Specialist","India",{"$f":"VLOOKUP(tblSalaries[[#This Row],[Where do you work]],tblCountries[[Actual]:[Mapping]],2,FALSE)","v":"India"},{"$f":"VLOOKUP(tblSalaries[[#This Row],[clean Country]]&\"*\",Cont_Table,2,0)","v":"Asia"},"4 to 6 hours a day"]
[null,"ID0476","2012-05-26T03:16:58",{"$f":"LEFT(tblSalaries[[#This Row],[Timestamp]],FIND(\".\",tblSalaries[[#This Row],[Timestamp]],1))","v":"41055."},12000,12000,"USD",{"$f":"tblSalaries[[#This Row],[clean Salary (in local currency)]]*VLOOKUP(tblSalaries[[#This Row],[Currency]],tblXrate[],2,FALSE)","v":12000},"Resource managment Analyst","Analyst","Estonia",{"$f":"VLOOKUP(tblSalaries[[#This Row],[Where do you work]],tblCountries[[Actual]:[Mapping]],2,FALSE)","v":"Estonia"},{"$f":"VLOOKUP(tblSalaries[[#This Row],[clean Country]]&\"*\",Cont_Table,2,0)","v":"Europe"},"All the 8 hours baby, all the 8!"]
[null,"ID0477","2012-05-26T03:17:19",{"$f":"LEFT(tblSalaries[[#This Row],[Timestamp]],FIND(\".\",tblSalaries[[#This Row],[Timestamp]],1))","v":"41055."},1250000,1250000,"CAD",{"$f":"tblSalaries[[#This Row],[clean Salary (in local currency)]]*VLOOKUP(tblSalaries[[#This Row],[Currency]],tblXrate[],2,FALSE)","v":1229201.9037879086},"Account Executive","Accountant","Canada",{"$f":"VLOOKUP(tblSalaries[[#This Row],[Where do you work]],tblCountries[[Actual]:[Mapping]],2,FALSE)","v":"Canada"},{"$f":"VLOOKUP(tblSalaries[[#This Row],[clean Country]]&\"*\",Cont_Table,2,0)","v":"North America"},"4 to 6 hours a day"]
[null,"ID0478","2012-05-26T03:19:00",{"$f":"LEFT(tblSalaries[[#This Row],[Timestamp]],FIND(\".\",tblSalaries[[#This Row],[Timestamp]],1))","v":"41055."},30000,30000,"USD",{"$f":"tblSalaries[[#This Row],[clean Salary (in local currency)]]*VLOOKUP(tblSalaries[[#This Row],[Currency]],tblXrate[],2,FALSE)","v":30000},"video production","Analyst","USA",{"$f":"VLOOKUP(tblSalaries[[#This Row],[Where do you work]],tblCountries[[Actual]:[Mapping]],2,FALSE)","v":"USA"},{"$f":"VLOOKUP(tblSalaries[[#This Row],[clean Country]]&\"*\",Cont_Table,2,0)","v":"North America"},"Excel ?!? What Excel?"]
[null,"ID0479","2012-05-26T03:21:26",{"$f":"LEFT(tblSalaries[[#This Row],[Timestamp]],FIND(\".\",tblSalaries[[#This Row],[Timestamp]],1))","v":"41055."},2000,24000,"USD",{"$f":"tblSalaries[[#This Row],[clean Salary (in local currency)]]*VLOOKUP(tblSalaries[[#This Row],[Currency]],tblXrate[],2,FALSE)","v":24000},"engineer","Engineer","mozambique",{"$f":"VLOOKUP(tblSalaries[[#This Row],[Where do you work]],tblCountries[[Actual]:[Mapping]],2,FALSE)","v":"mozambique"},{"$f":"VLOOKUP(tblSalaries[[#This Row],[clean Country]]&\"*\",Cont_Table,2,0)","v":"Africa"},"2 to 3 hours per day"]
[null,"ID0480","2012-05-26T03:21:55",{"$f":"LEFT(tblSalaries[[#This Row],[Timestamp]],FIND(\".\",tblSalaries[[#This Row],[Timestamp]],1))","v":"41055."},92000,92000,"USD",{"$f":"tblSalaries[[#This Row],[clean Salary (in local currency)]]*VLOOKUP(tblSalaries[[#This Row],[Currency]],tblXrate[],2,FALSE)","v":92000},"principal engineer","Engineer","USA",{"$f":"VLOOKUP(tblSalaries[[#This Row],[Where do you work]],tblCountries[[Actual]:[Mapping]],2,FALSE)","v":"USA"},{"$f":"VLOOKUP(tblSalaries[[#This Row],[clean Country]]&\"*\",Cont_Table,2,0)","v":"North America"},"1 or 2 hours a day"]
[null,"ID0481","2012-05-26T03:22:33",{"$f":"LEFT(tblSalaries[[#This Row],[Timestamp]],FIND(\".\",tblSalaries[[#This Row],[Timestamp]],1))","v":"41055."},52000,52000,"USD",{"$f":"tblSalaries[[#This Row],[clean Salary (in local currency)]]*VLOOKUP(tblSalaries[[#This Row],[Currency]],tblXrate[],2,FALSE)","v":52000},"budget analyst","Analyst","USA",{"$f":"VLOOKUP(tblSalaries[[#This Row],[Where do you work]],tblCountries[[Actual]:[Mapping]],2,FALSE)","v":"USA"},{"$f":"VLOOKUP(tblSalaries[[#This Row],[clean Country]]&\"*\",Cont_Table,2,0)","v":"North America"},"4 to 6 hours a day"]
[null,"ID0482","2012-05-26T03:23:51",{"$f":"LEFT(tblSalaries[[#This Row],[Timestamp]],FIND(\".\",tblSalaries[[#This Row],[Timestamp]],1))","v":"41055."},"US$169,000",169000,"USD",{"$f":"tblSalaries[[#This Row],[clean Salary (in local currency)]]*VLOOKUP(tblSalaries[[#This Row],[Currency]],tblXrate[],2,FALSE)","v":169000},"Category Director (Marketing)","CXO or Top Mgmt.","USA",{"$f":"VLOOKUP(tblSalaries[[#This Row],[Where do you work]],tblCountries[[Actual]:[Mapping]],2,FALSE)","v":"USA"},{"$f":"VLOOKUP(tblSalaries[[#This Row],[clean Country]]&\"*\",Cont_Table,2,0)","v":"North America"},"2 to 3 hours per day"]
[null,"ID0484","2012-05-26T03:25:57",{"$f":"LEFT(tblSalaries[[#This Row],[Timestamp]],FIND(\".\",tblSalaries[[#This Row],[Timestamp]],1))","v":"41055."},110000,110000,"USD",{"$f":"tblSalaries[[#This Row],[clean Salary (in local currency)]]*VLOOKUP(tblSalaries[[#This Row],[Currency]],tblXrate[],2,FALSE)","v":110000},"Senior consultant accounting","Accountant","Norway",{"$f":"VLOOKUP(tblSalaries[[#This Row],[Where do you work]],tblCountries[[Actual]:[Mapping]],2,FALSE)","v":"Norway"},{"$f":"VLOOKUP(tblSalaries[[#This Row],[clean Country]]&\"*\",Cont_Table,2,0)","v":"Europe"},"2 to 3 hours per day"]
[null,"ID0485","2012-05-26T03:27:56",{"$f":"LEFT(tblSalaries[[#This Row],[Timestamp]],FIND(\".\",tblSalaries[[#This Row],[Timestamp]],1))","v":"41055."},"Zar 1080000",1080000,"ZAR",{"$f":"tblSalaries[[#This Row],[clean Salary (in local currency)]]*VLOOKUP(tblSalaries[[#This Row],[Currency]],tblXrate[],2,FALSE)","v":131675.52225194403},"Finance manager","Manager","South africa",{"$f":"VLOOKUP(tblSalaries[[#This Row],[Where do you work]],tblCountries[[Actual]:[Mapping]],2,FALSE)","v":"South Africa"},{"$f":"VLOOKUP(tblSalaries[[#This Row],[clean Country]]&\"*\",Cont_Table,2,0)","v":"Africa"},"2 to 3 hours per day"]
[null,"ID0486","2012-05-26T03:30:42",{"$f":"LEFT(tblSalaries[[#This Row],[Timestamp]],FIND(\".\",tblSalaries[[#This Row],[Timestamp]],1))","v":"41055."},"GB Sterling 59k",59000,"GBP",{"$f":"tblSalaries[[#This Row],[clean Salary (in local currency)]]*VLOOKUP(tblSalaries[[#This Row],[Currency]],tblXrate[],2,FALSE)","v":92994.518051969761},"Health and safety advisor","Consultant","UK",{"$f":"VLOOKUP(tblSalaries[[#This Row],[Where do you work]],tblCountries[[Actual]:[Mapping]],2,FALSE)","v":"UK"},{"$f":"VLOOKUP(tblSalaries[[#This Row],[clean Country]]&\"*\",Cont_Table,2,0)","v":"Europe"},"2 to 3 hours per day"]
[null,"ID0487","2012-05-26T03:31:34",{"$f":"LEFT(tblSalaries[[#This Row],[Timestamp]],FIND(\".\",tblSalaries[[#This Row],[Timestamp]],1))","v":"41055."},50000,50000,"USD",{"$f":"tblSalaries[[#This Row],[clean Salary (in local currency)]]*VLOOKUP(tblSalaries[[#This Row],[Currency]],tblXrate[],2,FALSE)","v":50000},"Workforce Analyst","Analyst","USA",{"$f":"VLOOKUP(tblSalaries[[#This Row],[Where do you work]],tblCountries[[Actual]:[Mapping]],2,FALSE)","v":"USA"},{"$f":"VLOOKUP(tblSalaries[[#This Row],[clean Country]]&\"*\",Cont_Table,2,0)","v":"North America"},"4 to 6 hours a day"]
[null,"ID0488","2012-05-26T03:32:13",{"$f":"LEFT(tblSalaries[[#This Row],[Timestamp]],FIND(\".\",tblSalaries[[#This Row],[Timestamp]],1))","v":"41055."},65000,65000,"USD",{"$f":"tblSalaries[[#This Row],[clean Salary (in local currency)]]*VLOOKUP(tblSalaries[[#This Row],[Currency]],tblXrate[],2,FALSE)","v":65000},"Business Systems Analyst","Analyst","USA",{"$f":"VLOOKUP(tblSalaries[[#This Row],[Where do you work]],tblCountries[[Actual]:[Mapping]],2,FALSE)","v":"USA"},{"$f":"VLOOKUP(tblSalaries[[#This Row],[clean Country]]&\"*\",Cont_Table,2,0)","v":"North America"},"2 to 3 hours per day"]
[null,"ID0489","2012-05-26T03:32:53",{"$f":"LEFT(tblSalaries[[#This Row],[Timestamp]],FIND(\".\",tblSalaries[[#This Row],[Timestamp]],1))","v":"41055."},46000,46000,"CAD",{"$f":"tblSalaries[[#This Row],[clean Salary (in local currency)]]*VLOOKUP(tblSalaries[[#This Row],[Currency]],tblXrate[],2,FALSE)","v":45234.630059395036},"Sr. Marketing Solutions Analyst","Analyst","Canada",{"$f":"VLOOKUP(tblSalaries[[#This Row],[Where do you work]],tblCountries[[Actual]:[Mapping]],2,FALSE)","v":"Canada"},{"$f":"VLOOKUP(tblSalaries[[#This Row],[clean Country]]&\"*\",Cont_Table,2,0)","v":"North America"},"All the 8 hours baby, all the 8!"]
[null,"ID0490","2012-05-26T03:33:32",{"$f":"LEFT(tblSalaries[[#This Row],[Timestamp]],FIND(\".\",tblSalaries[[#This Row],[Timestamp]],1))","v":"41055."},55000,55000,"USD",{"$f":"tblSalaries[[#This Row],[clean Salary (in local currency)]]*VLOOKUP(tblSalaries[[#This Row],[Currency]],tblXrate[],2,FALSE)","v":55000},"Analyst","Analyst","USA",{"$f":"VLOOKUP(tblSalaries[[#This Row],[Where do you work]],tblCountries[[Actual]:[Mapping]],2,FALSE)","v":"USA"},{"$f":"VLOOKUP(tblSalaries[[#This Row],[clean Country]]&\"*\",Cont_Table,2,0)","v":"North America"},"2 to 3 hours per day"]
[null,"ID0491","2012-05-26T03:34:04",{"$f":"LEFT(tblSalaries[[#This Row],[Timestamp]],FIND(\".\",tblSalaries[[#This Row],[Timestamp]],1))","v":"41055."},"20000 US$",20000,"USD",{"$f":"tblSalaries[[#This Row],[clean Salary (in local currency)]]*VLOOKUP(tblSalaries[[#This Row],[Currency]],tblXrate[],2,FALSE)","v":20000},"Consultant","Consultant","India",{"$f":"VLOOKUP(tblSalaries[[#This Row],[Where do you work]],tblCountries[[Actual]:[Mapping]],2,FALSE)","v":"India"},{"$f":"VLOOKUP(tblSalaries[[#This Row],[clean Country]]&\"*\",Cont_Table,2,0)","v":"Asia"},"2 to 3 hours per day"]
[null,"ID0492","2012-05-26T03:34:15",{"$f":"LEFT(tblSalaries[[#This Row],[Timestamp]],FIND(\".\",tblSalaries[[#This Row],[Timestamp]],1))","v":"41055."},6000,6000,"USD",{"$f":"tblSalaries[[#This Row],[clean Salary (in local currency)]]*VLOOKUP(tblSalaries[[#This Row],[Currency]],tblXrate[],2,FALSE)","v":6000},"MIS","Reporting","India",{"$f":"VLOOKUP(tblSalaries[[#This Row],[Where do you work]],tblCountries[[Actual]:[Mapping]],2,FALSE)","v":"India"},{"$f":"VLOOKUP(tblSalaries[[#This Row],[clean Country]]&\"*\",Cont_Table,2,0)","v":"Asia"},"All the 8 hours baby, all the 8!"]
[null,"ID0493","2012-05-26T03:37:33",{"$f":"LEFT(tblSalaries[[#This Row],[Timestamp]],FIND(\".\",tblSalaries[[#This Row],[Timestamp]],1))","v":"41055."},190000,190000,"GBP",{"$f":"tblSalaries[[#This Row],[clean Salary (in local currency)]]*VLOOKUP(tblSalaries[[#This Row],[Currency]],tblXrate[],2,FALSE)","v":299473.87169278396},"Managing Partner","CXO or Top Mgmt.","UK",{"$f":"VLOOKUP(tblSalaries[[#This Row],[Where do you work]],tblCountries[[Actual]:[Mapping]],2,FALSE)","v":"UK"},{"$f":"VLOOKUP(tblSalaries[[#This Row],[clean Country]]&\"*\",Cont_Table,2,0)","v":"Europe"},"4 to 6 hours a day"]
[null,"ID0494","2012-05-26T03:37:46",{"$f":"LEFT(tblSalaries[[#This Row],[Timestamp]],FIND(\".\",tblSalaries[[#This Row],[Timestamp]],1))","v":"41055."},28164,28164,"GBP",{"$f":"tblSalaries[[#This Row],[clean Salary (in local currency)]]*VLOOKUP(tblSalaries[[#This Row],[Currency]],tblXrate[],2,FALSE)","v":44391.484854502989},"Administration Officer","Manager","UK",{"$f":"VLOOKUP(tblSalaries[[#This Row],[Where do you work]],tblCountries[[Actual]:[Mapping]],2,FALSE)","v":"UK"},{"$f":"VLOOKUP(tblSalaries[[#This Row],[clean Country]]&\"*\",Cont_Table,2,0)","v":"Europe"},"4 to 6 hours a day"]
[null,"ID0495","2012-05-26T03:40:26",{"$f":"LEFT(tblSalaries[[#This Row],[Timestamp]],FIND(\".\",tblSalaries[[#This Row],[Timestamp]],1))","v":"41055."},40000,40000,"USD",{"$f":"tblSalaries[[#This Row],[clean Salary (in local currency)]]*VLOOKUP(tblSalaries[[#This Row],[Currency]],tblXrate[],2,FALSE)","v":40000},"BAS","Analyst","USA",{"$f":"VLOOKUP(tblSalaries[[#This Row],[Where do you work]],tblCountries[[Actual]:[Mapping]],2,FALSE)","v":"USA"},{"$f":"VLOOKUP(tblSalaries[[#This Row],[clean Country]]&\"*\",Cont_Table,2,0)","v":"North America"},"2 to 3 hours per day"]
[null,"ID0496","2012-05-26T03:48:42",{"$f":"LEFT(tblSalaries[[#This Row],[Timestamp]],FIND(\".\",tblSalaries[[#This Row],[Timestamp]],1))","v":"41055."},"USD 108,000",108000,"USD",{"$f":"tblSalaries[[#This Row],[clean Salary (in local currency)]]*VLOOKUP(tblSalaries[[#This Row],[Currency]],tblXrate[],2,FALSE)","v":108000},"Manager","Manager","Norway",{"$f":"VLOOKUP(tblSalaries[[#This Row],[Where do you work]],tblCountries[[Actual]:[Mapping]],2,FALSE)","v":"Norway"},{"$f":"VLOOKUP(tblSalaries[[#This Row],[clean Country]]&\"*\",Cont_Table,2,0)","v":"Europe"},"4 to 6 hours a day"]
[null,"ID0497","2012-05-26T03:49:21",{"$f":"LEFT(tblSalaries[[#This Row],[Timestamp]],FIND(\".\",tblSalaries[[#This Row],[Timestamp]],1))","v":"41055."},"200000 Rupees",200000,"INR",{"$f":"tblSalaries[[#This Row],[clean Salary (in local currency)]]*VLOOKUP(tblSalaries[[#This Row],[Currency]],tblXrate[],2,FALSE)","v":3561.5833374885137},"chemist","Analyst","India",{"$f":"VLOOKUP(tblSalaries[[#This Row],[Where do you work]],tblCountries[[Actual]:[Mapping]],2,FALSE)","v":"India"},{"$f":"VLOOKUP(tblSalaries[[#This Row],[clean Country]]&\"*\",Cont_Table,2,0)","v":"Asia"},"2 to 3 hours per day"]
[null,"ID0498","2012-05-26T03:50:24",{"$f":"LEFT(tblSalaries[[#This Row],[Timestamp]],FIND(\".\",tblSalaries[[#This Row],[Timestamp]],1))","v":"41055."},84000,84000,"USD",{"$f":"tblSalaries[[#This Row],[clean Salary (in local currency)]]*VLOOKUP(tblSalaries[[#This Row],[Currency]],tblXrate[],2,FALSE)","v":84000},"Senior Analyst","Analyst","USA",{"$f":"VLOOKUP(tblSalaries[[#This Row],[Where do you work]],tblCountries[[Actual]:[Mapping]],2,FALSE)","v":"USA"},{"$f":"VLOOKUP(tblSalaries[[#This Row],[clean Country]]&\"*\",Cont_Table,2,0)","v":"North America"},"All the 8 hours baby, all the 8!"]
[null,"ID0499","2012-05-26T03:52:24",{"$f":"LEFT(tblSalaries[[#This Row],[Timestamp]],FIND(\".\",tblSalaries[[#This Row],[Timestamp]],1))","v":"41055."},33000,33000,"GBP",{"$f":"tblSalaries[[#This Row],[clean Salary (in local currency)]]*VLOOKUP(tblSalaries[[#This Row],[Currency]],tblXrate[],2,FALSE)","v":52013.882978220376},"LOGISTIC MANAGER","Manager","UK",{"$f":"VLOOKUP(tblSalaries[[#This Row],[Where do you work]],tblCountries[[Actual]:[Mapping]],2,FALSE)","v":"UK"},{"$f":"VLOOKUP(tblSalaries[[#This Row],[clean Country]]&\"*\",Cont_Table,2,0)","v":"Europe"},"4 to 6 hours a day"]
[null,"ID0500","2012-05-26T03:53:29",{"$f":"LEFT(tblSalaries[[#This Row],[Timestamp]],FIND(\".\",tblSalaries[[#This Row],[Timestamp]],1))","v":"41055."},"Rs. 7,20,000/-",720000,"INR",{"$f":"tblSalaries[[#This Row],[clean Salary (in local currency)]]*VLOOKUP(tblSalaries[[#This Row],[Currency]],tblXrate[],2,FALSE)","v":12821.700014958649},"Manager Finance","Manager","India",{"$f":"VLOOKUP(tblSalaries[[#This Row],[Where do you work]],tblCountries[[Actual]:[Mapping]],2,FALSE)","v":"India"},{"$f":"VLOOKUP(tblSalaries[[#This Row],[clean Country]]&\"*\",Cont_Table,2,0)","v":"Asia"},"2 to 3 hours per day"]
[null,"ID0501","2012-05-26T04:00:21",{"$f":"LEFT(tblSalaries[[#This Row],[Timestamp]],FIND(\".\",tblSalaries[[#This Row],[Timestamp]],1))","v":"41055."},68500,68500,"CAD",{"$f":"tblSalaries[[#This Row],[clean Salary (in local currency)]]*VLOOKUP(tblSalaries[[#This Row],[Currency]],tblXrate[],2,FALSE)","v":67360.264327577388},"Financial Analyst","Analyst","Canada",{"$f":"VLOOKUP(tblSalaries[[#This Row],[Where do you work]],tblCountries[[Actual]:[Mapping]],2,FALSE)","v":"Canada"},{"$f":"VLOOKUP(tblSalaries[[#This Row],[clean Country]]&\"*\",Cont_Table,2,0)","v":"North America"},"4 to 6 hours a day"]
[null,"ID0502","2012-05-26T04:01:45",{"$f":"LEFT(tblSalaries[[#This Row],[Timestamp]],FIND(\".\",tblSalaries[[#This Row],[Timestamp]],1))","v":"41055."},"23000 USD",23000,"USD",{"$f":"tblSalaries[[#This Row],[clean Salary (in local currency)]]*VLOOKUP(tblSalaries[[#This Row],[Currency]],tblXrate[],2,FALSE)","v":23000},"IT solutions coordinator","Manager","Hungary",{"$f":"VLOOKUP(tblSalaries[[#This Row],[Where do you work]],tblCountries[[Actual]:[Mapping]],2,FALSE)","v":"Hungary"},{"$f":"VLOOKUP(tblSalaries[[#This Row],[clean Country]]&\"*\",Cont_Table,2,0)","v":"Europe"},"4 to 6 hours a day"]
[null,"ID0503","2012-05-26T04:01:59",{"$f":"LEFT(tblSalaries[[#This Row],[Timestamp]],FIND(\".\",tblSalaries[[#This Row],[Timestamp]],1))","v":"41055."},58000,58000,"GBP",{"$f":"tblSalaries[[#This Row],[clean Salary (in local currency)]]*VLOOKUP(tblSalaries[[#This Row],[Currency]],tblXrate[],2,FALSE)","v":91418.339779902482},"Business Modeller","Manager","UK",{"$f":"VLOOKUP(tblSalaries[[#This Row],[Where do you work]],tblCountries[[Actual]:[Mapping]],2,FALSE)","v":"UK"},{"$f":"VLOOKUP(tblSalaries[[#This Row],[clean Country]]&\"*\",Cont_Table,2,0)","v":"Europe"},"All the 8 hours baby, all the 8!"]
[null,"ID0504","2012-05-26T04:03:33",{"$f":"LEFT(tblSalaries[[#This Row],[Timestamp]],FIND(\".\",tblSalaries[[#This Row],[Timestamp]],1))","v":"41055."},77000,77000,"USD",{"$f":"tblSalaries[[#This Row],[clean Salary (in local currency)]]*VLOOKUP(tblSalaries[[#This Row],[Currency]],tblXrate[],2,FALSE)","v":77000},"Senior Financial Analyst","Analyst","USA",{"$f":"VLOOKUP(tblSalaries[[#This Row],[Where do you work]],tblCountries[[Actual]:[Mapping]],2,FALSE)","v":"USA"},{"$f":"VLOOKUP(tblSalaries[[#This Row],[clean Country]]&\"*\",Cont_Table,2,0)","v":"North America"},"All the 8 hours baby, all the 8!"]
[null,"ID0505","2012-05-26T04:05:08",{"$f":"LEFT(tblSalaries[[#This Row],[Timestamp]],FIND(\".\",tblSalaries[[#This Row],[Timestamp]],1))","v":"41055."},100000,100000,"USD",{"$f":"tblSalaries[[#This Row],[clean Salary (in local currency)]]*VLOOKUP(tblSalaries[[#This Row],[Currency]],tblXrate[],2,FALSE)","v":100000},"Analyst","Analyst","USA",{"$f":"VLOOKUP(tblSalaries[[#This Row],[Where do you work]],tblCountries[[Actual]:[Mapping]],2,FALSE)","v":"USA"},{"$f":"VLOOKUP(tblSalaries[[#This Row],[clean Country]]&\"*\",Cont_Table,2,0)","v":"North America"},"4 to 6 hours a day"]
[null,"ID0506","2012-05-26T04:10:53",{"$f":"LEFT(tblSalaries[[#This Row],[Timestamp]],FIND(\".\",tblSalaries[[#This Row],[Timestamp]],1))","v":"41055."},55500,55500,"USD",{"$f":"tblSalaries[[#This Row],[clean Salary (in local currency)]]*VLOOKUP(tblSalaries[[#This Row],[Currency]],tblXrate[],2,FALSE)","v":55500},"Sr QS","Controller","UAE",{"$f":"VLOOKUP(tblSalaries[[#This Row],[Where do you work]],tblCountries[[Actual]:[Mapping]],2,FALSE)","v":"UAE"},{"$f":"VLOOKUP(tblSalaries[[#This Row],[clean Country]]&\"*\",Cont_Table,2,0)","v":"Asia"},"4 to 6 hours a day"]
[null,"ID0507","2012-05-26T04:12:16",{"$f":"LEFT(tblSalaries[[#This Row],[Timestamp]],FIND(\".\",tblSalaries[[#This Row],[Timestamp]],1))","v":"41055."},"15000 â‚¬",15000,"EUR",{"$f":"tblSalaries[[#This Row],[clean Salary (in local currency)]]*VLOOKUP(tblSalaries[[#This Row],[Currency]],tblXrate[],2,FALSE)","v":19055.991584874118},"Report Analyst","Analyst","Spain",{"$f":"VLOOKUP(tblSalaries[[#This Row],[Where do you work]],tblCountries[[Actual]:[Mapping]],2,FALSE)","v":"Spain"},{"$f":"VLOOKUP(tblSalaries[[#This Row],[clean Country]]&\"*\",Cont_Table,2,0)","v":"Europe"},"All the 8 hours baby, all the 8!"]
[null,"ID0508","2012-05-26T04:13:54",{"$f":"LEFT(tblSalaries[[#This Row],[Timestamp]],FIND(\".\",tblSalaries[[#This Row],[Timestamp]],1))","v":"41055."},"Rs 6L",600000,"INR",{"$f":"tblSalaries[[#This Row],[clean Salary (in local currency)]]*VLOOKUP(tblSalaries[[#This Row],[Currency]],tblXrate[],2,FALSE)","v":10684.750012465542},"Business Co ordinator","Manager","India",{"$f":"VLOOKUP(tblSalaries[[#This Row],[Where do you work]],tblCountries[[Actual]:[Mapping]],2,FALSE)","v":"India"},{"$f":"VLOOKUP(tblSalaries[[#This Row],[clean Country]]&\"*\",Cont_Table,2,0)","v":"Asia"},"4 to 6 hours a day"]
[null,"ID0509","2012-05-26T04:14:27",{"$f":"LEFT(tblSalaries[[#This Row],[Timestamp]],FIND(\".\",tblSalaries[[#This Row],[Timestamp]],1))","v":"41055."},8400,8400,"USD",{"$f":"tblSalaries[[#This Row],[clean Salary (in local currency)]]*VLOOKUP(tblSalaries[[#This Row],[Currency]],tblXrate[],2,FALSE)","v":8400},"Manager","Manager","India",{"$f":"VLOOKUP(tblSalaries[[#This Row],[Where do you work]],tblCountries[[Actual]:[Mapping]],2,FALSE)","v":"India"},{"$f":"VLOOKUP(tblSalaries[[#This Row],[clean Country]]&\"*\",Cont_Table,2,0)","v":"Asia"},"4 to 6 hours a day"]
[null,"ID0510","2012-05-26T04:16:16",{"$f":"LEFT(tblSalaries[[#This Row],[Timestamp]],FIND(\".\",tblSalaries[[#This Row],[Timestamp]],1))","v":"41055."},"Rs 500000",500000,"INR",{"$f":"tblSalaries[[#This Row],[clean Salary (in local currency)]]*VLOOKUP(tblSalaries[[#This Row],[Currency]],tblXrate[],2,FALSE)","v":8903.9583437212841},"duty manager","Manager","India",{"$f":"VLOOKUP(tblSalaries[[#This Row],[Where do you work]],tblCountries[[Actual]:[Mapping]],2,FALSE)","v":"India"},{"$f":"VLOOKUP(tblSalaries[[#This Row],[clean Country]]&\"*\",Cont_Table,2,0)","v":"Asia"},"2 to 3 hours per day"]
[null,"ID0511","2012-05-26T04:17:20",{"$f":"LEFT(tblSalaries[[#This Row],[Timestamp]],FIND(\".\",tblSalaries[[#This Row],[Timestamp]],1))","v":"41055."},12000,12000,"USD",{"$f":"tblSalaries[[#This Row],[clean Salary (in local currency)]]*VLOOKUP(tblSalaries[[#This Row],[Currency]],tblXrate[],2,FALSE)","v":12000},"Report Analyst","Analyst","Brazil",{"$f":"VLOOKUP(tblSalaries[[#This Row],[Where do you work]],tblCountries[[Actual]:[Mapping]],2,FALSE)","v":"Brazil"},{"$f":"VLOOKUP(tblSalaries[[#This Row],[clean Country]]&\"*\",Cont_Table,2,0)","v":"South America"},"All the 8 hours baby, all the 8!"]
[null,"ID0512","2012-05-26T04:18:15",{"$f":"LEFT(tblSalaries[[#This Row],[Timestamp]],FIND(\".\",tblSalaries[[#This Row],[Timestamp]],1))","v":"41055."},65000,65000,"USD",{"$f":"tblSalaries[[#This Row],[clean Salary (in local currency)]]*VLOOKUP(tblSalaries[[#This Row],[Currency]],tblXrate[],2,FALSE)","v":65000},"Retail Store Manager","Manager","USA",{"$f":"VLOOKUP(tblSalaries[[#This Row],[Where do you work]],tblCountries[[Actual]:[Mapping]],2,FALSE)","v":"USA"},{"$f":"VLOOKUP(tblSalaries[[#This Row],[clean Country]]&\"*\",Cont_Table,2,0)","v":"North America"},"All the 8 hours baby, all the 8!"]
[null,"ID0513","2012-05-26T04:19:05",{"$f":"LEFT(tblSalaries[[#This Row],[Timestamp]],FIND(\".\",tblSalaries[[#This Row],[Timestamp]],1))","v":"41055."},"Â£16400",16400,"GBP",{"$f":"tblSalaries[[#This Row],[clean Salary (in local currency)]]*VLOOKUP(tblSalaries[[#This Row],[Currency]],tblXrate[],2,FALSE)","v":25849.323661903458},"Job Build analyst","Analyst","UK",{"$f":"VLOOKUP(tblSalaries[[#This Row],[Where do you work]],tblCountries[[Actual]:[Mapping]],2,FALSE)","v":"UK"},{"$f":"VLOOKUP(tblSalaries[[#This Row],[clean Country]]&\"*\",Cont_Table,2,0)","v":"Europe"},"4 to 6 hours a day"]
[null,"ID0514","2012-05-26T04:20:17",{"$f":"LEFT(tblSalaries[[#This Row],[Timestamp]],FIND(\".\",tblSalaries[[#This Row],[Timestamp]],1))","v":"41055."},78000,78000,"GBP",{"$f":"tblSalaries[[#This Row],[clean Salary (in local currency)]]*VLOOKUP(tblSalaries[[#This Row],[Currency]],tblXrate[],2,FALSE)","v":122941.90522124816},"Associate","Analyst","UK",{"$f":"VLOOKUP(tblSalaries[[#This Row],[Where do you work]],tblCountries[[Actual]:[Mapping]],2,FALSE)","v":"UK"},{"$f":"VLOOKUP(tblSalaries[[#This Row],[clean Country]]&\"*\",Cont_Table,2,0)","v":"Europe"},"1 or 2 hours a day"]
[null,"ID0515","2012-05-26T04:25:24",{"$f":"LEFT(tblSalaries[[#This Row],[Timestamp]],FIND(\".\",tblSalaries[[#This Row],[Timestamp]],1))","v":"41055."},76000,76000,"USD",{"$f":"tblSalaries[[#This Row],[clean Salary (in local currency)]]*VLOOKUP(tblSalaries[[#This Row],[Currency]],tblXrate[],2,FALSE)","v":76000},"Accounting Manager","Manager","USA",{"$f":"VLOOKUP(tblSalaries[[#This Row],[Where do you work]],tblCountries[[Actual]:[Mapping]],2,FALSE)","v":"USA"},{"$f":"VLOOKUP(tblSalaries[[#This Row],[clean Country]]&\"*\",Cont_Table,2,0)","v":"North America"},"2 to 3 hours per day"]
[null,"ID0516","2012-05-26T04:26:10",{"$f":"LEFT(tblSalaries[[#This Row],[Timestamp]],FIND(\".\",tblSalaries[[#This Row],[Timestamp]],1))","v":"41055."},"$150000pa",150000,"USD",{"$f":"tblSalaries[[#This Row],[clean Salary (in local currency)]]*VLOOKUP(tblSalaries[[#This Row],[Currency]],tblXrate[],2,FALSE)","v":150000},"Consultant","Consultant","USA",{"$f":"VLOOKUP(tblSalaries[[#This Row],[Where do you work]],tblCountries[[Actual]:[Mapping]],2,FALSE)","v":"USA"},{"$f":"VLOOKUP(tblSalaries[[#This Row],[clean Country]]&\"*\",Cont_Table,2,0)","v":"North America"},"All the 8 hours baby, all the 8!"]
[null,"ID0517","2012-05-26T04:27:12",{"$f":"LEFT(tblSalaries[[#This Row],[Timestamp]],FIND(\".\",tblSalaries[[#This Row],[Timestamp]],1))","v":"41055."},54000,54000,"USD",{"$f":"tblSalaries[[#This Row],[clean Salary (in local currency)]]*VLOOKUP(tblSalaries[[#This Row],[Currency]],tblXrate[],2,FALSE)","v":54000},"Business Analyst","Analyst","USA",{"$f":"VLOOKUP(tblSalaries[[#This Row],[Where do you work]],tblCountries[[Actual]:[Mapping]],2,FALSE)","v":"USA"},{"$f":"VLOOKUP(tblSalaries[[#This Row],[clean Country]]&\"*\",Cont_Table,2,0)","v":"North America"},"4 to 6 hours a day"]
[null,"ID0518","2012-05-26T04:33:03",{"$f":"LEFT(tblSalaries[[#This Row],[Timestamp]],FIND(\".\",tblSalaries[[#This Row],[Timestamp]],1))","v":"41055."},"57000 USD",57000,"USD",{"$f":"tblSalaries[[#This Row],[clean Salary (in local currency)]]*VLOOKUP(tblSalaries[[#This Row],[Currency]],tblXrate[],2,FALSE)","v":57000},"project finance manager","Manager","israel",{"$f":"VLOOKUP(tblSalaries[[#This Row],[Where do you work]],tblCountries[[Actual]:[Mapping]],2,FALSE)","v":"Israel"},{"$f":"VLOOKUP(tblSalaries[[#This Row],[clean Country]]&\"*\",Cont_Table,2,0)","v":"Asia"},"4 to 6 hours a day"]
[null,"ID0519","2012-05-26T04:33:27",{"$f":"LEFT(tblSalaries[[#This Row],[Timestamp]],FIND(\".\",tblSalaries[[#This Row],[Timestamp]],1))","v":"41055."},61000,61000,"USD",{"$f":"tblSalaries[[#This Row],[clean Salary (in local currency)]]*VLOOKUP(tblSalaries[[#This Row],[Currency]],tblXrate[],2,FALSE)","v":61000},"Senior Accountant","Accountant","USA",{"$f":"VLOOKUP(tblSalaries[[#This Row],[Where do you work]],tblCountries[[Actual]:[Mapping]],2,FALSE)","v":"USA"},{"$f":"VLOOKUP(tblSalaries[[#This Row],[clean Country]]&\"*\",Cont_Table,2,0)","v":"North America"},"4 to 6 hours a day"]
[null,"ID0520","2012-05-26T04:34:41",{"$f":"LEFT(tblSalaries[[#This Row],[Timestamp]],FIND(\".\",tblSalaries[[#This Row],[Timestamp]],1))","v":"41055."},70000,70000,"USD",{"$f":"tblSalaries[[#This Row],[clean Salary (in local currency)]]*VLOOKUP(tblSalaries[[#This Row],[Currency]],tblXrate[],2,FALSE)","v":70000},"Metrics Analyst","Analyst","USA",{"$f":"VLOOKUP(tblSalaries[[#This Row],[Where do you work]],tblCountries[[Actual]:[Mapping]],2,FALSE)","v":"USA"},{"$f":"VLOOKUP(tblSalaries[[#This Row],[clean Country]]&\"*\",Cont_Table,2,0)","v":"North America"},"All the 8 hours baby, all the 8!"]
[null,"ID0521","2012-05-26T04:36:43",{"$f":"LEFT(tblSalaries[[#This Row],[Timestamp]],FIND(\".\",tblSalaries[[#This Row],[Timestamp]],1))","v":"41055."},15000,15000,"USD",{"$f":"tblSalaries[[#This Row],[clean Salary (in local currency)]]*VLOOKUP(tblSalaries[[#This Row],[Currency]],tblXrate[],2,FALSE)","v":15000},"Asst.Manager","Manager","India",{"$f":"VLOOKUP(tblSalaries[[#This Row],[Where do you work]],tblCountries[[Actual]:[Mapping]],2,FALSE)","v":"India"},{"$f":"VLOOKUP(tblSalaries[[#This Row],[clean Country]]&\"*\",Cont_Table,2,0)","v":"Asia"},"4 to 6 hours a day"]
[null,"ID0522","2012-05-26T04:39:11",{"$f":"LEFT(tblSalaries[[#This Row],[Timestamp]],FIND(\".\",tblSalaries[[#This Row],[Timestamp]],1))","v":"41055."},87550,87550,"CAD",{"$f":"tblSalaries[[#This Row],[clean Salary (in local currency)]]*VLOOKUP(tblSalaries[[#This Row],[Currency]],tblXrate[],2,FALSE)","v":86093.301341305123},"Manager","Manager","Canada",{"$f":"VLOOKUP(tblSalaries[[#This Row],[Where do you work]],tblCountries[[Actual]:[Mapping]],2,FALSE)","v":"Canada"},{"$f":"VLOOKUP(tblSalaries[[#This Row],[clean Country]]&\"*\",Cont_Table,2,0)","v":"North America"},"4 to 6 hours a day"]
[null,"ID0523","2012-05-26T04:40:36",{"$f":"LEFT(tblSalaries[[#This Row],[Timestamp]],FIND(\".\",tblSalaries[[#This Row],[Timestamp]],1))","v":"41055."},72600,72600,"USD",{"$f":"tblSalaries[[#This Row],[clean Salary (in local currency)]]*VLOOKUP(tblSalaries[[#This Row],[Currency]],tblXrate[],2,FALSE)","v":72600},"Accounting Operations Manager","Manager","USA",{"$f":"VLOOKUP(tblSalaries[[#This Row],[Where do you work]],tblCountries[[Actual]:[Mapping]],2,FALSE)","v":"USA"},{"$f":"VLOOKUP(tblSalaries[[#This Row],[clean Country]]&\"*\",Cont_Table,2,0)","v":"North America"},"2 to 3 hours per day"]
[null,"ID0524","2012-05-26T04:41:20",{"$f":"LEFT(tblSalaries[[#This Row],[Timestamp]],FIND(\".\",tblSalaries[[#This Row],[Timestamp]],1))","v":"41055."},100000,100000,"USD",{"$f":"tblSalaries[[#This Row],[clean Salary (in local currency)]]*VLOOKUP(tblSalaries[[#This Row],[Currency]],tblXrate[],2,FALSE)","v":100000},"Director","CXO or Top Mgmt.","USA",{"$f":"VLOOKUP(tblSalaries[[#This Row],[Where do you work]],tblCountries[[Actual]:[Mapping]],2,FALSE)","v":"USA"},{"$f":"VLOOKUP(tblSalaries[[#This Row],[clean Country]]&\"*\",Cont_Table,2,0)","v":"North America"},"2 to 3 hours per day"]
[null,"ID0525","2012-05-26T04:44:26",{"$f":"LEFT(tblSalaries[[#This Row],[Timestamp]],FIND(\".\",tblSalaries[[#This Row],[Timestamp]],1))","v":"41055."},104000,104000,"USD",{"$f":"tblSalaries[[#This Row],[clean Salary (in local currency)]]*VLOOKUP(tblSalaries[[#This Row],[Currency]],tblXrate[],2,FALSE)","v":104000},"Vice President, Analyst","Analyst","USA",{"$f":"VLOOKUP(tblSalaries[[#This Row],[Where do you work]],tblCountries[[Actual]:[Mapping]],2,FALSE)","v":"USA"},{"$f":"VLOOKUP(tblSalaries[[#This Row],[clean Country]]&\"*\",Cont_Table,2,0)","v":"North America"},"4 to 6 hours a day"]
[null,"ID0526","2012-05-26T04:48:35",{"$f":"LEFT(tblSalaries[[#This Row],[Timestamp]],FIND(\".\",tblSalaries[[#This Row],[Timestamp]],1))","v":"41055."},600000,600000,"INR",{"$f":"tblSalaries[[#This Row],[clean Salary (in local currency)]]*VLOOKUP(tblSalaries[[#This Row],[Currency]],tblXrate[],2,FALSE)","v":10684.750012465542},"Project Manager","Manager","India",{"$f":"VLOOKUP(tblSalaries[[#This Row],[Where do you work]],tblCountries[[Actual]:[Mapping]],2,FALSE)","v":"India"},{"$f":"VLOOKUP(tblSalaries[[#This Row],[clean Country]]&\"*\",Cont_Table,2,0)","v":"Asia"},"4 to 6 hours a day"]
[null,"ID0527","2012-05-26T04:48:54",{"$f":"LEFT(tblSalaries[[#This Row],[Timestamp]],FIND(\".\",tblSalaries[[#This Row],[Timestamp]],1))","v":"41055."},200000,200000,"USD",{"$f":"tblSalaries[[#This Row],[clean Salary (in local currency)]]*VLOOKUP(tblSalaries[[#This Row],[Currency]],tblXrate[],2,FALSE)","v":200000},"COO","CXO or Top Mgmt.","USA",{"$f":"VLOOKUP(tblSalaries[[#This Row],[Where do you work]],tblCountries[[Actual]:[Mapping]],2,FALSE)","v":"USA"},{"$f":"VLOOKUP(tblSalaries[[#This Row],[clean Country]]&\"*\",Cont_Table,2,0)","v":"North America"},"2 to 3 hours per day"]
[null,"ID0528","2012-05-26T04:50:21",{"$f":"LEFT(tblSalaries[[#This Row],[Timestamp]],FIND(\".\",tblSalaries[[#This Row],[Timestamp]],1))","v":"41055."},"EUR 49248",49248,"EUR",{"$f":"tblSalaries[[#This Row],[clean Salary (in local currency)]]*VLOOKUP(tblSalaries[[#This Row],[Currency]],tblXrate[],2,FALSE)","v":62564.631571458704},"Financial Advisor","Accountant","Netherlands",{"$f":"VLOOKUP(tblSalaries[[#This Row],[Where do you work]],tblCountries[[Actual]:[Mapping]],2,FALSE)","v":"Netherlands"},{"$f":"VLOOKUP(tblSalaries[[#This Row],[clean Country]]&\"*\",Cont_Table,2,0)","v":"Europe"},"All the 8 hours baby, all the 8!"]
[null,"ID0529","2012-05-26T04:50:47",{"$f":"LEFT(tblSalaries[[#This Row],[Timestamp]],FIND(\".\",tblSalaries[[#This Row],[Timestamp]],1))","v":"41055."},36500,36500,"GBP",{"$f":"tblSalaries[[#This Row],[clean Salary (in local currency)]]*VLOOKUP(tblSalaries[[#This Row],[Currency]],tblXrate[],2,FALSE)","v":57530.506930455871},"Production Manager","Manager","UK",{"$f":"VLOOKUP(tblSalaries[[#This Row],[Where do you work]],tblCountries[[Actual]:[Mapping]],2,FALSE)","v":"UK"},{"$f":"VLOOKUP(tblSalaries[[#This Row],[clean Country]]&\"*\",Cont_Table,2,0)","v":"Europe"},"2 to 3 hours per day"]
[null,"ID0530","2012-05-26T05:00:21",{"$f":"LEFT(tblSalaries[[#This Row],[Timestamp]],FIND(\".\",tblSalaries[[#This Row],[Timestamp]],1))","v":"41055."},82300,82300,"USD",{"$f":"tblSalaries[[#This Row],[clean Salary (in local currency)]]*VLOOKUP(tblSalaries[[#This Row],[Currency]],tblXrate[],2,FALSE)","v":82300},"Manager - Finance","Manager","USA",{"$f":"VLOOKUP(tblSalaries[[#This Row],[Where do you work]],tblCountries[[Actual]:[Mapping]],2,FALSE)","v":"USA"},{"$f":"VLOOKUP(tblSalaries[[#This Row],[clean Country]]&\"*\",Cont_Table,2,0)","v":"North America"},"2 to 3 hours per day"]
[null,"ID0531","2012-05-26T05:04:49",{"$f":"LEFT(tblSalaries[[#This Row],[Timestamp]],FIND(\".\",tblSalaries[[#This Row],[Timestamp]],1))","v":"41055."},95000,95000,"USD",{"$f":"tblSalaries[[#This Row],[clean Salary (in local currency)]]*VLOOKUP(tblSalaries[[#This Row],[Currency]],tblXrate[],2,FALSE)","v":95000},"Process Design Consultant","Consultant","USA",{"$f":"VLOOKUP(tblSalaries[[#This Row],[Where do you work]],tblCountries[[Actual]:[Mapping]],2,FALSE)","v":"USA"},{"$f":"VLOOKUP(tblSalaries[[#This Row],[clean Country]]&\"*\",Cont_Table,2,0)","v":"North America"},"4 to 6 hours a day"]
[null,"ID0532","2012-05-26T05:07:30",{"$f":"LEFT(tblSalaries[[#This Row],[Timestamp]],FIND(\".\",tblSalaries[[#This Row],[Timestamp]],1))","v":"41055."},140000,140000,"GBP",{"$f":"tblSalaries[[#This Row],[clean Salary (in local currency)]]*VLOOKUP(tblSalaries[[#This Row],[Currency]],tblXrate[],2,FALSE)","v":220664.95808941979},"vba specialist","Specialist","UK",{"$f":"VLOOKUP(tblSalaries[[#This Row],[Where do you work]],tblCountries[[Actual]:[Mapping]],2,FALSE)","v":"UK"},{"$f":"VLOOKUP(tblSalaries[[#This Row],[clean Country]]&\"*\",Cont_Table,2,0)","v":"Europe"},"All the 8 hours baby, all the 8!"]
[null,"ID0533","2012-05-26T05:13:03",{"$f":"LEFT(tblSalaries[[#This Row],[Timestamp]],FIND(\".\",tblSalaries[[#This Row],[Timestamp]],1))","v":"41055."},72000,72000,"USD",{"$f":"tblSalaries[[#This Row],[clean Salary (in local currency)]]*VLOOKUP(tblSalaries[[#This Row],[Currency]],tblXrate[],2,FALSE)","v":72000},"Analytical Department Director ","Analyst","Russia",{"$f":"VLOOKUP(tblSalaries[[#This Row],[Where do you work]],tblCountries[[Actual]:[Mapping]],2,FALSE)","v":"Russia"},{"$f":"VLOOKUP(tblSalaries[[#This Row],[clean Country]]&\"*\",Cont_Table,2,0)","v":"Asia"},"2 to 3 hours per day"]
[null,"ID0534","2012-05-26T05:15:54",{"$f":"LEFT(tblSalaries[[#This Row],[Timestamp]],FIND(\".\",tblSalaries[[#This Row],[Timestamp]],1))","v":"41055."},60000,60000,"AUD",{"$f":"tblSalaries[[#This Row],[clean Salary (in local currency)]]*VLOOKUP(tblSalaries[[#This Row],[Currency]],tblXrate[],2,FALSE)","v":61194.579384158147},"Analyst","Analyst","Australia",{"$f":"VLOOKUP(tblSalaries[[#This Row],[Where do you work]],tblCountries[[Actual]:[Mapping]],2,FALSE)","v":"Australia"},{"$f":"VLOOKUP(tblSalaries[[#This Row],[clean Country]]&\"*\",Cont_Table,2,0)","v":"Australia"},"2 to 3 hours per day"]
[null,"ID0535","2012-05-26T05:18:12",{"$f":"LEFT(tblSalaries[[#This Row],[Timestamp]],FIND(\".\",tblSalaries[[#This Row],[Timestamp]],1))","v":"41055."},"120k",120000,"USD",{"$f":"tblSalaries[[#This Row],[clean Salary (in local currency)]]*VLOOKUP(tblSalaries[[#This Row],[Currency]],tblXrate[],2,FALSE)","v":120000},"manager","Manager","nz",{"$f":"VLOOKUP(tblSalaries[[#This Row],[Where do you work]],tblCountries[[Actual]:[Mapping]],2,FALSE)","v":"New Zealand"},{"$f":"VLOOKUP(tblSalaries[[#This Row],[clean Country]]&\"*\",Cont_Table,2,0)","v":"Australia"},"2 to 3 hours per day"]
[null,"ID0536","2012-05-26T05:18:27",{"$f":"LEFT(tblSalaries[[#This Row],[Timestamp]],FIND(\".\",tblSalaries[[#This Row],[Timestamp]],1))","v":"41055."},"US$95K",95000,"USD",{"$f":"tblSalaries[[#This Row],[clean Salary (in local currency)]]*VLOOKUP(tblSalaries[[#This Row],[Currency]],tblXrate[],2,FALSE)","v":95000},"Director of Supply Chain","CXO or Top Mgmt.","Central America",{"$f":"VLOOKUP(tblSalaries[[#This Row],[Where do you work]],tblCountries[[Actual]:[Mapping]],2,FALSE)","v":"Central America"},{"$f":"VLOOKUP(tblSalaries[[#This Row],[clean Country]]&\"*\",Cont_Table,2,0)","v":"North America"},"2 to 3 hours per day"]
[null,"ID0537","2012-05-26T05:20:43",{"$f":"LEFT(tblSalaries[[#This Row],[Timestamp]],FIND(\".\",tblSalaries[[#This Row],[Timestamp]],1))","v":"41055."},50000,50000,"USD",{"$f":"tblSalaries[[#This Row],[clean Salary (in local currency)]]*VLOOKUP(tblSalaries[[#This Row],[Currency]],tblXrate[],2,FALSE)","v":50000},"Research Assistant","Analyst","USA",{"$f":"VLOOKUP(tblSalaries[[#This Row],[Where do you work]],tblCountries[[Actual]:[Mapping]],2,FALSE)","v":"USA"},{"$f":"VLOOKUP(tblSalaries[[#This Row],[clean Country]]&\"*\",Cont_Table,2,0)","v":"North America"},"2 to 3 hours per day"]
[null,"ID0538","2012-05-26T05:23:20",{"$f":"LEFT(tblSalaries[[#This Row],[Timestamp]],FIND(\".\",tblSalaries[[#This Row],[Timestamp]],1))","v":"41055."},"73,000 GBP",73000,"GBP",{"$f":"tblSalaries[[#This Row],[clean Salary (in local currency)]]*VLOOKUP(tblSalaries[[#This Row],[Currency]],tblXrate[],2,FALSE)","v":115061.01386091174},"Finance Manager","Manager","UK",{"$f":"VLOOKUP(tblSalaries[[#This Row],[Where do you work]],tblCountries[[Actual]:[Mapping]],2,FALSE)","v":"UK"},{"$f":"VLOOKUP(tblSalaries[[#This Row],[clean Country]]&\"*\",Cont_Table,2,0)","v":"Europe"},"4 to 6 hours a day"]
[null,"ID0539","2012-05-26T05:24:16",{"$f":"LEFT(tblSalaries[[#This Row],[Timestamp]],FIND(\".\",tblSalaries[[#This Row],[Timestamp]],1))","v":"41055."},50000,50000,"USD",{"$f":"tblSalaries[[#This Row],[clean Salary (in local currency)]]*VLOOKUP(tblSalaries[[#This Row],[Currency]],tblXrate[],2,FALSE)","v":50000},"Excel professional","Analyst","self-employed",{"$f":"VLOOKUP(tblSalaries[[#This Row],[Where do you work]],tblCountries[[Actual]:[Mapping]],2,FALSE)","v":"self-employed"},{"$f":"VLOOKUP(tblSalaries[[#This Row],[clean Country]]&\"*\",Cont_Table,2,0)","v":{"$error":"#N/A"}},"4 to 6 hours a day"]
[null,"ID0540","2012-05-26T05:27:14",{"$f":"LEFT(tblSalaries[[#This Row],[Timestamp]],FIND(\".\",tblSalaries[[#This Row],[Timestamp]],1))","v":"41055."},46000,46000,"USD",{"$f":"tblSalaries[[#This Row],[clean Salary (in local currency)]]*VLOOKUP(tblSalaries[[#This Row],[Currency]],tblXrate[],2,FALSE)","v":46000},"Research Analyst","Analyst","USA",{"$f":"VLOOKUP(tblSalaries[[#This Row],[Where do you work]],tblCountries[[Actual]:[Mapping]],2,FALSE)","v":"USA"},{"$f":"VLOOKUP(tblSalaries[[#This Row],[clean Country]]&\"*\",Cont_Table,2,0)","v":"North America"},"2 to 3 hours per day"]
[null,"ID0541","2012-05-26T05:27:37",{"$f":"LEFT(tblSalaries[[#This Row],[Timestamp]],FIND(\".\",tblSalaries[[#This Row],[Timestamp]],1))","v":"41055."},"PKR 50,000",600000,"PKR",{"$f":"tblSalaries[[#This Row],[clean Salary (in local currency)]]*VLOOKUP(tblSalaries[[#This Row],[Currency]],tblXrate[],2,FALSE)","v":6368.453230079479},"Trainer","Consultant","Pakistan",{"$f":"VLOOKUP(tblSalaries[[#This Row],[Where do you work]],tblCountries[[Actual]:[Mapping]],2,FALSE)","v":"Pakistan"},{"$f":"VLOOKUP(tblSalaries[[#This Row],[clean Country]]&\"*\",Cont_Table,2,0)","v":"Asia"},"4 to 6 hours a day"]
[null,"ID0543","2012-05-26T05:28:46",{"$f":"LEFT(tblSalaries[[#This Row],[Timestamp]],FIND(\".\",tblSalaries[[#This Row],[Timestamp]],1))","v":"41055."},85000,85000,"AUD",{"$f":"tblSalaries[[#This Row],[clean Salary (in local currency)]]*VLOOKUP(tblSalaries[[#This Row],[Currency]],tblXrate[],2,FALSE)","v":86692.320794224041},"Business analyst","Analyst","Australia",{"$f":"VLOOKUP(tblSalaries[[#This Row],[Where do you work]],tblCountries[[Actual]:[Mapping]],2,FALSE)","v":"Australia"},{"$f":"VLOOKUP(tblSalaries[[#This Row],[clean Country]]&\"*\",Cont_Table,2,0)","v":"Australia"},"4 to 6 hours a day"]
[null,"ID0544","2012-05-26T05:29:55",{"$f":"LEFT(tblSalaries[[#This Row],[Timestamp]],FIND(\".\",tblSalaries[[#This Row],[Timestamp]],1))","v":"41055."},450000,450000,"INR",{"$f":"tblSalaries[[#This Row],[clean Salary (in local currency)]]*VLOOKUP(tblSalaries[[#This Row],[Currency]],tblXrate[],2,FALSE)","v":8013.5625093491553},"deputy manager","Manager","India",{"$f":"VLOOKUP(tblSalaries[[#This Row],[Where do you work]],tblCountries[[Actual]:[Mapping]],2,FALSE)","v":"India"},{"$f":"VLOOKUP(tblSalaries[[#This Row],[clean Country]]&\"*\",Cont_Table,2,0)","v":"Asia"},"All the 8 hours baby, all the 8!"]
[null,"ID0545","2012-05-26T05:29:58",{"$f":"LEFT(tblSalaries[[#This Row],[Timestamp]],FIND(\".\",tblSalaries[[#This Row],[Timestamp]],1))","v":"41055."},43000,43000,"USD",{"$f":"tblSalaries[[#This Row],[clean Salary (in local currency)]]*VLOOKUP(tblSalaries[[#This Row],[Currency]],tblXrate[],2,FALSE)","v":43000},"Accountant","Accountant","USA",{"$f":"VLOOKUP(tblSalaries[[#This Row],[Where do you work]],tblCountries[[Actual]:[Mapping]],2,FALSE)","v":"USA"},{"$f":"VLOOKUP(tblSalaries[[#This Row],[clean Country]]&\"*\",Cont_Table,2,0)","v":"North America"},"All the 8 hours baby, all the 8!"]
[null,"ID0546","2012-05-26T05:30:12",{"$f":"LEFT(tblSalaries[[#This Row],[Timestamp]],FIND(\".\",tblSalaries[[#This Row],[Timestamp]],1))","v":"41055."},1500,18000,"USD",{"$f":"tblSalaries[[#This Row],[clean Salary (in local currency)]]*VLOOKUP(tblSalaries[[#This Row],[Currency]],tblXrate[],2,FALSE)","v":18000},"Engineer","Engineer","Brazil",{"$f":"VLOOKUP(tblSalaries[[#This Row],[Where do you work]],tblCountries[[Actual]:[Mapping]],2,FALSE)","v":"Brazil"},{"$f":"VLOOKUP(tblSalaries[[#This Row],[clean Country]]&\"*\",Cont_Table,2,0)","v":"South America"},"4 to 6 hours a day"]
[null,"ID0547","2012-05-26T05:31:06",{"$f":"LEFT(tblSalaries[[#This Row],[Timestamp]],FIND(\".\",tblSalaries[[#This Row],[Timestamp]],1))","v":"41055."},55000,55000,"USD",{"$f":"tblSalaries[[#This Row],[clean Salary (in local currency)]]*VLOOKUP(tblSalaries[[#This Row],[Currency]],tblXrate[],2,FALSE)","v":55000},"Marketing","Analyst","USA",{"$f":"VLOOKUP(tblSalaries[[#This Row],[Where do you work]],tblCountries[[Actual]:[Mapping]],2,FALSE)","v":"USA"},{"$f":"VLOOKUP(tblSalaries[[#This Row],[clean Country]]&\"*\",Cont_Table,2,0)","v":"North America"},"2 to 3 hours per day"]
[null,"ID0548","2012-05-26T05:31:25",{"$f":"LEFT(tblSalaries[[#This Row],[Timestamp]],FIND(\".\",tblSalaries[[#This Row],[Timestamp]],1))","v":"41055."},"Rs. 500000",500000,"INR",{"$f":"tblSalaries[[#This Row],[clean Salary (in local currency)]]*VLOOKUP(tblSalaries[[#This Row],[Currency]],tblXrate[],2,FALSE)","v":8903.9583437212841},"Research Associate","Analyst","India",{"$f":"VLOOKUP(tblSalaries[[#This Row],[Where do you work]],tblCountries[[Actual]:[Mapping]],2,FALSE)","v":"India"},{"$f":"VLOOKUP(tblSalaries[[#This Row],[clean Country]]&\"*\",Cont_Table,2,0)","v":"Asia"},"All the 8 hours baby, all the 8!"]
[null,"ID0549","2012-05-26T05:33:43",{"$f":"LEFT(tblSalaries[[#This Row],[Timestamp]],FIND(\".\",tblSalaries[[#This Row],[Timestamp]],1))","v":"41055."},45000,45000,"USD",{"$f":"tblSalaries[[#This Row],[clean Salary (in local currency)]]*VLOOKUP(tblSalaries[[#This Row],[Currency]],tblXrate[],2,FALSE)","v":45000},"Reports Coordinator","Reporting","USA",{"$f":"VLOOKUP(tblSalaries[[#This Row],[Where do you work]],tblCountries[[Actual]:[Mapping]],2,FALSE)","v":"USA"},{"$f":"VLOOKUP(tblSalaries[[#This Row],[clean Country]]&\"*\",Cont_Table,2,0)","v":"North America"},"All the 8 hours baby, all the 8!"]
[null,"ID0550","2012-05-26T05:35:00",{"$f":"LEFT(tblSalaries[[#This Row],[Timestamp]],FIND(\".\",tblSalaries[[#This Row],[Timestamp]],1))","v":"41055."},50000,50000,"USD",{"$f":"tblSalaries[[#This Row],[clean Salary (in local currency)]]*VLOOKUP(tblSalaries[[#This Row],[Currency]],tblXrate[],2,FALSE)","v":50000},"Quality Compliance Manager","Manager","USA",{"$f":"VLOOKUP(tblSalaries[[#This Row],[Where do you work]],tblCountries[[Actual]:[Mapping]],2,FALSE)","v":"USA"},{"$f":"VLOOKUP(tblSalaries[[#This Row],[clean Country]]&\"*\",Cont_Table,2,0)","v":"North America"},"4 to 6 hours a day"]
[null,"ID0551","2012-05-26T05:44:42",{"$f":"LEFT(tblSalaries[[#This Row],[Timestamp]],FIND(\".\",tblSalaries[[#This Row],[Timestamp]],1))","v":"41055."},"80,000 USD",80000,"USD",{"$f":"tblSalaries[[#This Row],[clean Salary (in local currency)]]*VLOOKUP(tblSalaries[[#This Row],[Currency]],tblXrate[],2,FALSE)","v":80000},"Cost Analyst","Analyst","USA",{"$f":"VLOOKUP(tblSalaries[[#This Row],[Where do you work]],tblCountries[[Actual]:[Mapping]],2,FALSE)","v":"USA"},{"$f":"VLOOKUP(tblSalaries[[#This Row],[clean Country]]&\"*\",Cont_Table,2,0)","v":"North America"},"All the 8 hours baby, all the 8!"]
[null,"ID0552","2012-05-26T05:46:02",{"$f":"LEFT(tblSalaries[[#This Row],[Timestamp]],FIND(\".\",tblSalaries[[#This Row],[Timestamp]],1))","v":"41055."},67000,67000,"USD",{"$f":"tblSalaries[[#This Row],[clean Salary (in local currency)]]*VLOOKUP(tblSalaries[[#This Row],[Currency]],tblXrate[],2,FALSE)","v":67000},"Management Analyst","Analyst","USA",{"$f":"VLOOKUP(tblSalaries[[#This Row],[Where do you work]],tblCountries[[Actual]:[Mapping]],2,FALSE)","v":"USA"},{"$f":"VLOOKUP(tblSalaries[[#This Row],[clean Country]]&\"*\",Cont_Table,2,0)","v":"North America"},"4 to 6 hours a day"]
[null,"ID0553","2012-05-26T05:46:42",{"$f":"LEFT(tblSalaries[[#This Row],[Timestamp]],FIND(\".\",tblSalaries[[#This Row],[Timestamp]],1))","v":"41055."},111000,111000,"USD",{"$f":"tblSalaries[[#This Row],[clean Salary (in local currency)]]*VLOOKUP(tblSalaries[[#This Row],[Currency]],tblXrate[],2,FALSE)","v":111000},"Senior Financial Analyst","Analyst","Japan",{"$f":"VLOOKUP(tblSalaries[[#This Row],[Where do you work]],tblCountries[[Actual]:[Mapping]],2,FALSE)","v":"Japan"},{"$f":"VLOOKUP(tblSalaries[[#This Row],[clean Country]]&\"*\",Cont_Table,2,0)","v":"Asia"},"All the 8 hours baby, all the 8!"]
[null,"ID0554","2012-05-26T05:48:10",{"$f":"LEFT(tblSalaries[[#This Row],[Timestamp]],FIND(\".\",tblSalaries[[#This Row],[Timestamp]],1))","v":"41055."},120000,120000,"USD",{"$f":"tblSalaries[[#This Row],[clean Salary (in local currency)]]*VLOOKUP(tblSalaries[[#This Row],[Currency]],tblXrate[],2,FALSE)","v":120000},"Director","CXO or Top Mgmt.","USA",{"$f":"VLOOKUP(tblSalaries[[#This Row],[Where do you work]],tblCountries[[Actual]:[Mapping]],2,FALSE)","v":"USA"},{"$f":"VLOOKUP(tblSalaries[[#This Row],[clean Country]]&\"*\",Cont_Table,2,0)","v":"North America"},"4 to 6 hours a day"]
[null,"ID0555","2012-05-26T05:48:12",{"$f":"LEFT(tblSalaries[[#This Row],[Timestamp]],FIND(\".\",tblSalaries[[#This Row],[Timestamp]],1))","v":"41055."},"Â£20000",20000,"GBP",{"$f":"tblSalaries[[#This Row],[clean Salary (in local currency)]]*VLOOKUP(tblSalaries[[#This Row],[Currency]],tblXrate[],2,FALSE)","v":31523.565441345683},"IT Consultant","Consultant","UK",{"$f":"VLOOKUP(tblSalaries[[#This Row],[Where do you work]],tblCountries[[Actual]:[Mapping]],2,FALSE)","v":"UK"},{"$f":"VLOOKUP(tblSalaries[[#This Row],[clean Country]]&\"*\",Cont_Table,2,0)","v":"Europe"},"4 to 6 hours a day"]
[null,"ID0556","2012-05-26T05:50:21",{"$f":"LEFT(tblSalaries[[#This Row],[Timestamp]],FIND(\".\",tblSalaries[[#This Row],[Timestamp]],1))","v":"41055."},77000,77000,"AUD",{"$f":"tblSalaries[[#This Row],[clean Salary (in local currency)]]*VLOOKUP(tblSalaries[[#This Row],[Currency]],tblXrate[],2,FALSE)","v":78533.043543002947},"Intelligence Analyst","Analyst","Australia",{"$f":"VLOOKUP(tblSalaries[[#This Row],[Where do you work]],tblCountries[[Actual]:[Mapping]],2,FALSE)","v":"Australia"},{"$f":"VLOOKUP(tblSalaries[[#This Row],[clean Country]]&\"*\",Cont_Table,2,0)","v":"Australia"},"2 to 3 hours per day"]
[null,"ID0557","2012-05-26T05:50:23",{"$f":"LEFT(tblSalaries[[#This Row],[Timestamp]],FIND(\".\",tblSalaries[[#This Row],[Timestamp]],1))","v":"41055."},60000,60000,"USD",{"$f":"tblSalaries[[#This Row],[clean Salary (in local currency)]]*VLOOKUP(tblSalaries[[#This Row],[Currency]],tblXrate[],2,FALSE)","v":60000},"Marketing Specialist","Specialist","USA",{"$f":"VLOOKUP(tblSalaries[[#This Row],[Where do you work]],tblCountries[[Actual]:[Mapping]],2,FALSE)","v":"USA"},{"$f":"VLOOKUP(tblSalaries[[#This Row],[clean Country]]&\"*\",Cont_Table,2,0)","v":"North America"},"1 or 2 hours a day"]
[null,"ID0558","2012-05-26T05:50:26",{"$f":"LEFT(tblSalaries[[#This Row],[Timestamp]],FIND(\".\",tblSalaries[[#This Row],[Timestamp]],1))","v":"41055."},35000,35000,"USD",{"$f":"tblSalaries[[#This Row],[clean Salary (in local currency)]]*VLOOKUP(tblSalaries[[#This Row],[Currency]],tblXrate[],2,FALSE)","v":35000},"Analyst","Analyst","USA",{"$f":"VLOOKUP(tblSalaries[[#This Row],[Where do you work]],tblCountries[[Actual]:[Mapping]],2,FALSE)","v":"USA"},{"$f":"VLOOKUP(tblSalaries[[#This Row],[clean Country]]&\"*\",Cont_Table,2,0)","v":"North America"},"2 to 3 hours per day"]
[null,"ID0559","2012-05-26T05:52:47",{"$f":"LEFT(tblSalaries[[#This Row],[Timestamp]],FIND(\".\",tblSalaries[[#This Row],[Timestamp]],1))","v":"41055."},50000,50000,"EUR",{"$f":"tblSalaries[[#This Row],[clean Salary (in local currency)]]*VLOOKUP(tblSalaries[[#This Row],[Currency]],tblXrate[],2,FALSE)","v":63519.971949580387},"Proyect Manager","Manager","Panama",{"$f":"VLOOKUP(tblSalaries[[#This Row],[Where do you work]],tblCountries[[Actual]:[Mapping]],2,FALSE)","v":"Panama"},{"$f":"VLOOKUP(tblSalaries[[#This Row],[clean Country]]&\"*\",Cont_Table,2,0)","v":"North America"},"2 to 3 hours per day"]
[null,"ID0560","2012-05-26T05:55:22",{"$f":"LEFT(tblSalaries[[#This Row],[Timestamp]],FIND(\".\",tblSalaries[[#This Row],[Timestamp]],1))","v":"41055."},54000,54000,"USD",{"$f":"tblSalaries[[#This Row],[clean Salary (in local currency)]]*VLOOKUP(tblSalaries[[#This Row],[Currency]],tblXrate[],2,FALSE)","v":54000},"IT Specialist","Specialist","USA",{"$f":"VLOOKUP(tblSalaries[[#This Row],[Where do you work]],tblCountries[[Actual]:[Mapping]],2,FALSE)","v":"USA"},{"$f":"VLOOKUP(tblSalaries[[#This Row],[clean Country]]&\"*\",Cont_Table,2,0)","v":"North America"},"All the 8 hours baby, all the 8!",5]
[null,"ID0561","2012-05-26T06:01:57",{"$f":"LEFT(tblSalaries[[#This Row],[Timestamp]],FIND(\".\",tblSalaries[[#This Row],[Timestamp]],1))","v":"41055."},1300,15600,"USD",{"$f":"tblSalaries[[#This Row],[clean Salary (in local currency)]]*VLOOKUP(tblSalaries[[#This Row],[Currency]],tblXrate[],2,FALSE)","v":15600},"CONTROLLER","Controller","BRA",{"$f":"VLOOKUP(tblSalaries[[#This Row],[Where do you work]],tblCountries[[Actual]:[Mapping]],2,FALSE)","v":"Brazil"},{"$f":"VLOOKUP(tblSalaries[[#This Row],[clean Country]]&\"*\",Cont_Table,2,0)","v":"South America"},"4 to 6 hours a day",20]
[null,"ID0562","2012-05-26T06:08:23",{"$f":"LEFT(tblSalaries[[#This Row],[Timestamp]],FIND(\".\",tblSalaries[[#This Row],[Timestamp]],1))","v":"41055."},35000,35000,"USD",{"$f":"tblSalaries[[#This Row],[clean Salary (in local currency)]]*VLOOKUP(tblSalaries[[#This Row],[Currency]],tblXrate[],2,FALSE)","v":35000},"Technical Support Technician","Analyst","USA",{"$f":"VLOOKUP(tblSalaries[[#This Row],[Where do you work]],tblCountries[[Actual]:[Mapping]],2,FALSE)","v":"USA"},{"$f":"VLOOKUP(tblSalaries[[#This Row],[clean Country]]&\"*\",Cont_Table,2,0)","v":"North America"},"1 or 2 hours a day",7]
[null,"ID0563","2012-05-26T06:10:08",{"$f":"LEFT(tblSalaries[[#This Row],[Timestamp]],FIND(\".\",tblSalaries[[#This Row],[Timestamp]],1))","v":"41055."},188000,188000,"USD",{"$f":"tblSalaries[[#This Row],[clean Salary (in local currency)]]*VLOOKUP(tblSalaries[[#This Row],[Currency]],tblXrate[],2,FALSE)","v":188000},"Director, Supply Chain Operations","CXO or Top Mgmt.","USA",{"$f":"VLOOKUP(tblSalaries[[#This Row],[Where do you work]],tblCountries[[Actual]:[Mapping]],2,FALSE)","v":"USA"},{"$f":"VLOOKUP(tblSalaries[[#This Row],[clean Country]]&\"*\",Cont_Table,2,0)","v":"North America"},"1 or 2 hours a day",20]
[null,"ID0564","2012-05-26T06:14:13",{"$f":"LEFT(tblSalaries[[#This Row],[Timestamp]],FIND(\".\",tblSalaries[[#This Row],[Timestamp]],1))","v":"41055."},27500,27500,"USD",{"$f":"tblSalaries[[#This Row],[clean Salary (in local currency)]]*VLOOKUP(tblSalaries[[#This Row],[Currency]],tblXrate[],2,FALSE)","v":27500},"Associate","Analyst","USA",{"$f":"VLOOKUP(tblSalaries[[#This Row],[Where do you work]],tblCountries[[Actual]:[Mapping]],2,FALSE)","v":"USA"},{"$f":"VLOOKUP(tblSalaries[[#This Row],[clean Country]]&\"*\",Cont_Table,2,0)","v":"North America"},"All the 8 hours baby, all the 8!",1]
[null,"ID0565","2012-05-26T06:20:38",{"$f":"LEFT(tblSalaries[[#This Row],[Timestamp]],FIND(\".\",tblSalaries[[#This Row],[Timestamp]],1))","v":"41055."},140000,140000,"USD",{"$f":"tblSalaries[[#This Row],[clean Salary (in local currency)]]*VLOOKUP(tblSalaries[[#This Row],[Currency]],tblXrate[],2,FALSE)","v":140000},"controller","Controller","USA",{"$f":"VLOOKUP(tblSalaries[[#This Row],[Where do you work]],tblCountries[[Actual]:[Mapping]],2,FALSE)","v":"USA"},{"$f":"VLOOKUP(tblSalaries[[#This Row],[clean Country]]&\"*\",Cont_Table,2,0)","v":"North America"},"2 to 3 hours per day",10]
[null,"ID0566","2012-05-26T06:24:03",{"$f":"LEFT(tblSalaries[[#This Row],[Timestamp]],FIND(\".\",tblSalaries[[#This Row],[Timestamp]],1))","v":"41055."},55000,55000,"EUR",{"$f":"tblSalaries[[#This Row],[clean Salary (in local currency)]]*VLOOKUP(tblSalaries[[#This Row],[Currency]],tblXrate[],2,FALSE)","v":69871.969144538423},"Business analyst","Analyst","Netherlands",{"$f":"VLOOKUP(tblSalaries[[#This Row],[Where do you work]],tblCountries[[Actual]:[Mapping]],2,FALSE)","v":"Netherlands"},{"$f":"VLOOKUP(tblSalaries[[#This Row],[clean Country]]&\"*\",Cont_Table,2,0)","v":"Europe"},"All the 8 hours baby, all the 8!",6]
[null,"ID0567","2012-05-26T06:40:59",{"$f":"LEFT(tblSalaries[[#This Row],[Timestamp]],FIND(\".\",tblSalaries[[#This Row],[Timestamp]],1))","v":"41055."},45000,45000,"USD",{"$f":"tblSalaries[[#This Row],[clean Salary (in local currency)]]*VLOOKUP(tblSalaries[[#This Row],[Currency]],tblXrate[],2,FALSE)","v":45000},"Workflow Analyst","Analyst","USA",{"$f":"VLOOKUP(tblSalaries[[#This Row],[Where do you work]],tblCountries[[Actual]:[Mapping]],2,FALSE)","v":"USA"},{"$f":"VLOOKUP(tblSalaries[[#This Row],[clean Country]]&\"*\",Cont_Table,2,0)","v":"North America"},"4 to 6 hours a day",2]
[null,"ID0568","2012-05-26T06:46:03",{"$f":"LEFT(tblSalaries[[#This Row],[Timestamp]],FIND(\".\",tblSalaries[[#This Row],[Timestamp]],1))","v":"41055."},"95000 USD",95000,"USD",{"$f":"tblSalaries[[#This Row],[clean Salary (in local currency)]]*VLOOKUP(tblSalaries[[#This Row],[Currency]],tblXrate[],2,FALSE)","v":95000},"Business Analyst","Analyst","Australia",{"$f":"VLOOKUP(tblSalaries[[#This Row],[Where do you work]],tblCountries[[Actual]:[Mapping]],2,FALSE)","v":"Australia"},{"$f":"VLOOKUP(tblSalaries[[#This Row],[clean Country]]&\"*\",Cont_Table,2,0)","v":"Australia"},"2 to 3 hours per day",11]
[null,"ID0569","2012-05-26T06:47:00",{"$f":"LEFT(tblSalaries[[#This Row],[Timestamp]],FIND(\".\",tblSalaries[[#This Row],[Timestamp]],1))","v":"41055."},"AUD $155,000",155000,"AUD",{"$f":"tblSalaries[[#This Row],[clean Salary (in local currency)]]*VLOOKUP(tblSalaries[[#This Row],[Currency]],tblXrate[],2,FALSE)","v":158085.99674240855},"Finance Manager Business Services","Manager","Australia",{"$f":"VLOOKUP(tblSalaries[[#This Row],[Where do you work]],tblCountries[[Actual]:[Mapping]],2,FALSE)","v":"Australia"},{"$f":"VLOOKUP(tblSalaries[[#This Row],[clean Country]]&\"*\",Cont_Table,2,0)","v":"Australia"},"4 to 6 hours a day",20]
[null,"ID0570","2012-05-26T06:47:59",{"$f":"LEFT(tblSalaries[[#This Row],[Timestamp]],FIND(\".\",tblSalaries[[#This Row],[Timestamp]],1))","v":"41055."},"NZ $80,000",80000,"NZD",{"$f":"tblSalaries[[#This Row],[clean Salary (in local currency)]]*VLOOKUP(tblSalaries[[#This Row],[Currency]],tblXrate[],2,FALSE)","v":63807.047488395103},"Accountant/Analyst","Analyst","New Zealand",{"$f":"VLOOKUP(tblSalaries[[#This Row],[Where do you work]],tblCountries[[Actual]:[Mapping]],2,FALSE)","v":"New Zealand"},{"$f":"VLOOKUP(tblSalaries[[#This Row],[clean Country]]&\"*\",Cont_Table,2,0)","v":"Australia"},"4 to 6 hours a day",23]
[null,"ID0572","2012-05-26T06:50:23",{"$f":"LEFT(tblSalaries[[#This Row],[Timestamp]],FIND(\".\",tblSalaries[[#This Row],[Timestamp]],1))","v":"41055."},38000,38000,"USD",{"$f":"tblSalaries[[#This Row],[clean Salary (in local currency)]]*VLOOKUP(tblSalaries[[#This Row],[Currency]],tblXrate[],2,FALSE)","v":38000},"Costing Analysis","Analyst","USA",{"$f":"VLOOKUP(tblSalaries[[#This Row],[Where do you work]],tblCountries[[Actual]:[Mapping]],2,FALSE)","v":"USA"},{"$f":"VLOOKUP(tblSalaries[[#This Row],[clean Country]]&\"*\",Cont_Table,2,0)","v":"North America"},"All the 8 hours baby, all the 8!",11]
[null,"ID0573","2012-05-26T06:54:40",{"$f":"LEFT(tblSalaries[[#This Row],[Timestamp]],FIND(\".\",tblSalaries[[#This Row],[Timestamp]],1))","v":"41055."},90000,90000,"USD",{"$f":"tblSalaries[[#This Row],[clean Salary (in local currency)]]*VLOOKUP(tblSalaries[[#This Row],[Currency]],tblXrate[],2,FALSE)","v":90000},"Sales Operations Supervisor","Manager","USA",{"$f":"VLOOKUP(tblSalaries[[#This Row],[Where do you work]],tblCountries[[Actual]:[Mapping]],2,FALSE)","v":"USA"},{"$f":"VLOOKUP(tblSalaries[[#This Row],[clean Country]]&\"*\",Cont_Table,2,0)","v":"North America"},"4 to 6 hours a day",6]
[null,"ID0574","2012-05-26T06:57:09",{"$f":"LEFT(tblSalaries[[#This Row],[Timestamp]],FIND(\".\",tblSalaries[[#This Row],[Timestamp]],1))","v":"41055."},"Â£28800",28800,"GBP",{"$f":"tblSalaries[[#This Row],[clean Salary (in local currency)]]*VLOOKUP(tblSalaries[[#This Row],[Currency]],tblXrate[],2,FALSE)","v":45393.934235537781},"Finance Manager","Manager","UK",{"$f":"VLOOKUP(tblSalaries[[#This Row],[Where do you work]],tblCountries[[Actual]:[Mapping]],2,FALSE)","v":"UK"},{"$f":"VLOOKUP(tblSalaries[[#This Row],[clean Country]]&\"*\",Cont_Table,2,0)","v":"Europe"},"4 to 6 hours a day",27]
[null,"ID0575","2012-05-26T07:01:10",{"$f":"LEFT(tblSalaries[[#This Row],[Timestamp]],FIND(\".\",tblSalaries[[#This Row],[Timestamp]],1))","v":"41055."},"Â£21000",21000,"GBP",{"$f":"tblSalaries[[#This Row],[clean Salary (in local currency)]]*VLOOKUP(tblSalaries[[#This Row],[Currency]],tblXrate[],2,FALSE)","v":33099.743713412965},"Sales Analyst","Analyst","UK",{"$f":"VLOOKUP(tblSalaries[[#This Row],[Where do you work]],tblCountries[[Actual]:[Mapping]],2,FALSE)","v":"UK"},{"$f":"VLOOKUP(tblSalaries[[#This Row],[clean Country]]&\"*\",Cont_Table,2,0)","v":"Europe"},"All the 8 hours baby, all the 8!",10]
[null,"ID0576","2012-05-26T07:06:50",{"$f":"LEFT(tblSalaries[[#This Row],[Timestamp]],FIND(\".\",tblSalaries[[#This Row],[Timestamp]],1))","v":"41055."},"USD 4285.00",4285,"USD",{"$f":"tblSalaries[[#This Row],[clean Salary (in local currency)]]*VLOOKUP(tblSalaries[[#This Row],[Currency]],tblXrate[],2,FALSE)","v":4285},"Assistant","Analyst","India",{"$f":"VLOOKUP(tblSalaries[[#This Row],[Where do you work]],tblCountries[[Actual]:[Mapping]],2,FALSE)","v":"India"},{"$f":"VLOOKUP(tblSalaries[[#This Row],[clean Country]]&\"*\",Cont_Table,2,0)","v":"Asia"},"All the 8 hours baby, all the 8!",6]
[null,"ID0577","2012-05-26T07:14:02",{"$f":"LEFT(tblSalaries[[#This Row],[Timestamp]],FIND(\".\",tblSalaries[[#This Row],[Timestamp]],1))","v":"41055."},6000,6000,"USD",{"$f":"tblSalaries[[#This Row],[clean Salary (in local currency)]]*VLOOKUP(tblSalaries[[#This Row],[Currency]],tblXrate[],2,FALSE)","v":6000},"In Charge","Manager","Guyana",{"$f":"VLOOKUP(tblSalaries[[#This Row],[Where do you work]],tblCountries[[Actual]:[Mapping]],2,FALSE)","v":"Guyana"},{"$f":"VLOOKUP(tblSalaries[[#This Row],[clean Country]]&\"*\",Cont_Table,2,0)","v":"South America"},"1 or 2 hours a day",20]
[null,"ID0578","2012-05-26T07:15:48",{"$f":"LEFT(tblSalaries[[#This Row],[Timestamp]],FIND(\".\",tblSalaries[[#This Row],[Timestamp]],1))","v":"41055."},"$22,000 AUD",22000,"AUD",{"$f":"tblSalaries[[#This Row],[clean Salary (in local currency)]]*VLOOKUP(tblSalaries[[#This Row],[Currency]],tblXrate[],2,FALSE)","v":22438.012440857987},"Sales Analyst","Analyst","Australia",{"$f":"VLOOKUP(tblSalaries[[#This Row],[Where do you work]],tblCountries[[Actual]:[Mapping]],2,FALSE)","v":"Australia"},{"$f":"VLOOKUP(tblSalaries[[#This Row],[clean Country]]&\"*\",Cont_Table,2,0)","v":"Australia"},"4 to 6 hours a day",8]
[null,"ID0579","2012-05-26T07:18:57",{"$f":"LEFT(tblSalaries[[#This Row],[Timestamp]],FIND(\".\",tblSalaries[[#This Row],[Timestamp]],1))","v":"41055."},90000,90000,"USD",{"$f":"tblSalaries[[#This Row],[clean Salary (in local currency)]]*VLOOKUP(tblSalaries[[#This Row],[Currency]],tblXrate[],2,FALSE)","v":90000},"Manager","Manager","USA",{"$f":"VLOOKUP(tblSalaries[[#This Row],[Where do you work]],tblCountries[[Actual]:[Mapping]],2,FALSE)","v":"USA"},{"$f":"VLOOKUP(tblSalaries[[#This Row],[clean Country]]&\"*\",Cont_Table,2,0)","v":"North America"},"2 to 3 hours per day",15]
[null,"ID0580","2012-05-26T07:23:11",{"$f":"LEFT(tblSalaries[[#This Row],[Timestamp]],FIND(\".\",tblSalaries[[#This Row],[Timestamp]],1))","v":"41055."},150000,150000,"USD",{"$f":"tblSalaries[[#This Row],[clean Salary (in local currency)]]*VLOOKUP(tblSalaries[[#This Row],[Currency]],tblXrate[],2,FALSE)","v":150000},"CFO","CXO or Top Mgmt.","USA",{"$f":"VLOOKUP(tblSalaries[[#This Row],[Where do you work]],tblCountries[[Actual]:[Mapping]],2,FALSE)","v":"USA"},{"$f":"VLOOKUP(tblSalaries[[#This Row],[clean Country]]&\"*\",Cont_Table,2,0)","v":"North America"},"4 to 6 hours a day",22]
[null,"ID0581","2012-05-26T07:32:19",{"$f":"LEFT(tblSalaries[[#This Row],[Timestamp]],FIND(\".\",tblSalaries[[#This Row],[Timestamp]],1))","v":"41055."},130000,130000,"AUD",{"$f":"tblSalaries[[#This Row],[clean Salary (in local currency)]]*VLOOKUP(tblSalaries[[#This Row],[Currency]],tblXrate[],2,FALSE)","v":132588.25533234264},"Accountant","Accountant","Australia",{"$f":"VLOOKUP(tblSalaries[[#This Row],[Where do you work]],tblCountries[[Actual]:[Mapping]],2,FALSE)","v":"Australia"},{"$f":"VLOOKUP(tblSalaries[[#This Row],[clean Country]]&\"*\",Cont_Table,2,0)","v":"Australia"},"2 to 3 hours per day",27]
[null,"ID0582","2012-05-26T07:36:23",{"$f":"LEFT(tblSalaries[[#This Row],[Timestamp]],FIND(\".\",tblSalaries[[#This Row],[Timestamp]],1))","v":"41055."},45000,45000,"USD",{"$f":"tblSalaries[[#This Row],[clean Salary (in local currency)]]*VLOOKUP(tblSalaries[[#This Row],[Currency]],tblXrate[],2,FALSE)","v":45000},"business analyst","Analyst","USA",{"$f":"VLOOKUP(tblSalaries[[#This Row],[Where do you work]],tblCountries[[Actual]:[Mapping]],2,FALSE)","v":"USA"},{"$f":"VLOOKUP(tblSalaries[[#This Row],[clean Country]]&\"*\",Cont_Table,2,0)","v":"North America"},"4 to 6 hours a day",3]
[null,"ID0583","2012-05-26T07:37:53",{"$f":"LEFT(tblSalaries[[#This Row],[Timestamp]],FIND(\".\",tblSalaries[[#This Row],[Timestamp]],1))","v":"41055."},50000,50000,"USD",{"$f":"tblSalaries[[#This Row],[clean Salary (in local currency)]]*VLOOKUP(tblSalaries[[#This Row],[Currency]],tblXrate[],2,FALSE)","v":50000},"IT Specialist","Specialist","USA",{"$f":"VLOOKUP(tblSalaries[[#This Row],[Where do you work]],tblCountries[[Actual]:[Mapping]],2,FALSE)","v":"USA"},{"$f":"VLOOKUP(tblSalaries[[#This Row],[clean Country]]&\"*\",Cont_Table,2,0)","v":"North America"},"2 to 3 hours per day",10]
[null,"ID0584","2012-05-26T07:44:04",{"$f":"LEFT(tblSalaries[[#This Row],[Timestamp]],FIND(\".\",tblSalaries[[#This Row],[Timestamp]],1))","v":"41055."},300000,300000,"USD",{"$f":"tblSalaries[[#This Row],[clean Salary (in local currency)]]*VLOOKUP(tblSalaries[[#This Row],[Currency]],tblXrate[],2,FALSE)","v":300000},"CEO","CXO or Top Mgmt.","USA",{"$f":"VLOOKUP(tblSalaries[[#This Row],[Where do you work]],tblCountries[[Actual]:[Mapping]],2,FALSE)","v":"USA"},{"$f":"VLOOKUP(tblSalaries[[#This Row],[clean Country]]&\"*\",Cont_Table,2,0)","v":"North America"},"2 to 3 hours per day",30]
[null,"ID0585","2012-05-26T07:48:29",{"$f":"LEFT(tblSalaries[[#This Row],[Timestamp]],FIND(\".\",tblSalaries[[#This Row],[Timestamp]],1))","v":"41055."},102000,102000,"AUD",{"$f":"tblSalaries[[#This Row],[clean Salary (in local currency)]]*VLOOKUP(tblSalaries[[#This Row],[Currency]],tblXrate[],2,FALSE)","v":104030.78495306884},"coordinator lismore regional airport","Manager","Australia",{"$f":"VLOOKUP(tblSalaries[[#This Row],[Where do you work]],tblCountries[[Actual]:[Mapping]],2,FALSE)","v":"Australia"},{"$f":"VLOOKUP(tblSalaries[[#This Row],[clean Country]]&\"*\",Cont_Table,2,0)","v":"Australia"},"1 or 2 hours a day",10]
[null,"ID0586","2012-05-26T07:50:50",{"$f":"LEFT(tblSalaries[[#This Row],[Timestamp]],FIND(\".\",tblSalaries[[#This Row],[Timestamp]],1))","v":"41055."},115000,115000,"USD",{"$f":"tblSalaries[[#This Row],[clean Salary (in local currency)]]*VLOOKUP(tblSalaries[[#This Row],[Currency]],tblXrate[],2,FALSE)","v":115000},"Mgr Op Excellence","Manager","USA",{"$f":"VLOOKUP(tblSalaries[[#This Row],[Where do you work]],tblCountries[[Actual]:[Mapping]],2,FALSE)","v":"USA"},{"$f":"VLOOKUP(tblSalaries[[#This Row],[clean Country]]&\"*\",Cont_Table,2,0)","v":"North America"},"4 to 6 hours a day",15]
[null,"ID0587","2012-05-26T07:53:13",{"$f":"LEFT(tblSalaries[[#This Row],[Timestamp]],FIND(\".\",tblSalaries[[#This Row],[Timestamp]],1))","v":"41055."},70000,70000,"USD",{"$f":"tblSalaries[[#This Row],[clean Salary (in local currency)]]*VLOOKUP(tblSalaries[[#This Row],[Currency]],tblXrate[],2,FALSE)","v":70000},"Financial Analyst","Analyst","USA",{"$f":"VLOOKUP(tblSalaries[[#This Row],[Where do you work]],tblCountries[[Actual]:[Mapping]],2,FALSE)","v":"USA"},{"$f":"VLOOKUP(tblSalaries[[#This Row],[clean Country]]&\"*\",Cont_Table,2,0)","v":"North America"},"4 to 6 hours a day",3]
[null,"ID0588","2012-05-26T07:57:04",{"$f":"LEFT(tblSalaries[[#This Row],[Timestamp]],FIND(\".\",tblSalaries[[#This Row],[Timestamp]],1))","v":"41055."},106000,106000,"AUD",{"$f":"tblSalaries[[#This Row],[clean Salary (in local currency)]]*VLOOKUP(tblSalaries[[#This Row],[Currency]],tblXrate[],2,FALSE)","v":108110.42357867939},"Pricing and Strategy Specialist","Specialist","Australia",{"$f":"VLOOKUP(tblSalaries[[#This Row],[Where do you work]],tblCountries[[Actual]:[Mapping]],2,FALSE)","v":"Australia"},{"$f":"VLOOKUP(tblSalaries[[#This Row],[clean Country]]&\"*\",Cont_Table,2,0)","v":"Australia"},"4 to 6 hours a day",16]
[null,"ID0589","2012-05-26T08:01:44",{"$f":"LEFT(tblSalaries[[#This Row],[Timestamp]],FIND(\".\",tblSalaries[[#This Row],[Timestamp]],1))","v":"41055."},75000,75000,"USD",{"$f":"tblSalaries[[#This Row],[clean Salary (in local currency)]]*VLOOKUP(tblSalaries[[#This Row],[Currency]],tblXrate[],2,FALSE)","v":75000},"Sr. Human Resources Analyst","Analyst","USA",{"$f":"VLOOKUP(tblSalaries[[#This Row],[Where do you work]],tblCountries[[Actual]:[Mapping]],2,FALSE)","v":"USA"},{"$f":"VLOOKUP(tblSalaries[[#This Row],[clean Country]]&\"*\",Cont_Table,2,0)","v":"North America"},"2 to 3 hours per day",25]
[null,"ID0590","2012-05-26T08:05:23",{"$f":"LEFT(tblSalaries[[#This Row],[Timestamp]],FIND(\".\",tblSalaries[[#This Row],[Timestamp]],1))","v":"41055."},40414,40414,"USD",{"$f":"tblSalaries[[#This Row],[clean Salary (in local currency)]]*VLOOKUP(tblSalaries[[#This Row],[Currency]],tblXrate[],2,FALSE)","v":40414},"Performance Improvement Analyst","Analyst","USA",{"$f":"VLOOKUP(tblSalaries[[#This Row],[Where do you work]],tblCountries[[Actual]:[Mapping]],2,FALSE)","v":"USA"},{"$f":"VLOOKUP(tblSalaries[[#This Row],[clean Country]]&\"*\",Cont_Table,2,0)","v":"North America"},"4 to 6 hours a day",8]
[null,"ID0591","2012-05-26T08:05:39",{"$f":"LEFT(tblSalaries[[#This Row],[Timestamp]],FIND(\".\",tblSalaries[[#This Row],[Timestamp]],1))","v":"41055."},65000,65000,"USD",{"$f":"tblSalaries[[#This Row],[clean Salary (in local currency)]]*VLOOKUP(tblSalaries[[#This Row],[Currency]],tblXrate[],2,FALSE)","v":65000},"Data Analyst","Analyst","USA",{"$f":"VLOOKUP(tblSalaries[[#This Row],[Where do you work]],tblCountries[[Actual]:[Mapping]],2,FALSE)","v":"USA"},{"$f":"VLOOKUP(tblSalaries[[#This Row],[clean Country]]&\"*\",Cont_Table,2,0)","v":"North America"},"4 to 6 hours a day",3]
[null,"ID0592","2012-05-26T08:08:43",{"$f":"LEFT(tblSalaries[[#This Row],[Timestamp]],FIND(\".\",tblSalaries[[#This Row],[Timestamp]],1))","v":"41055."},120000,120000,"USD",{"$f":"tblSalaries[[#This Row],[clean Salary (in local currency)]]*VLOOKUP(tblSalaries[[#This Row],[Currency]],tblXrate[],2,FALSE)","v":120000},"Sr. Analyst","Analyst","USA",{"$f":"VLOOKUP(tblSalaries[[#This Row],[Where do you work]],tblCountries[[Actual]:[Mapping]],2,FALSE)","v":"USA"},{"$f":"VLOOKUP(tblSalaries[[#This Row],[clean Country]]&\"*\",Cont_Table,2,0)","v":"North America"},"All the 8 hours baby, all the 8!",7]
[null,"ID0593","2012-05-26T08:10:43",{"$f":"LEFT(tblSalaries[[#This Row],[Timestamp]],FIND(\".\",tblSalaries[[#This Row],[Timestamp]],1))","v":"41055."},8000,96000,"CNY",{"$f":"tblSalaries[[#This Row],[clean Salary (in local currency)]]*VLOOKUP(tblSalaries[[#This Row],[Currency]],tblXrate[],2,FALSE)","v":15092.18020692008},"finance","Accountant","china",{"$f":"VLOOKUP(tblSalaries[[#This Row],[Where do you work]],tblCountries[[Actual]:[Mapping]],2,FALSE)","v":"china"},{"$f":"VLOOKUP(tblSalaries[[#This Row],[clean Country]]&\"*\",Cont_Table,2,0)","v":"Asia"},"4 to 6 hours a day",10]
[null,"ID0594","2012-05-26T08:17:53",{"$f":"LEFT(tblSalaries[[#This Row],[Timestamp]],FIND(\".\",tblSalaries[[#This Row],[Timestamp]],1))","v":"41055."},"$36 000",36000,"USD",{"$f":"tblSalaries[[#This Row],[clean Salary (in local currency)]]*VLOOKUP(tblSalaries[[#This Row],[Currency]],tblXrate[],2,FALSE)","v":36000},"Consulting","Consultant","Russia",{"$f":"VLOOKUP(tblSalaries[[#This Row],[Where do you work]],tblCountries[[Actual]:[Mapping]],2,FALSE)","v":"Russia"},{"$f":"VLOOKUP(tblSalaries[[#This Row],[clean Country]]&\"*\",Cont_Table,2,0)","v":"Asia"},"All the 8 hours baby, all the 8!",10]
[null,"ID0595","2012-05-26T08:30:00",{"$f":"LEFT(tblSalaries[[#This Row],[Timestamp]],FIND(\".\",tblSalaries[[#This Row],[Timestamp]],1))","v":"41055."},"â‚¬ 50000",50000,"EUR",{"$f":"tblSalaries[[#This Row],[clean Salary (in local currency)]]*VLOOKUP(tblSalaries[[#This Row],[Currency]],tblXrate[],2,FALSE)","v":63519.971949580387},"Analyst","Analyst","Germany",{"$f":"VLOOKUP(tblSalaries[[#This Row],[Where do you work]],tblCountries[[Actual]:[Mapping]],2,FALSE)","v":"Germany"},{"$f":"VLOOKUP(tblSalaries[[#This Row],[clean Country]]&\"*\",Cont_Table,2,0)","v":"Europe"},"2 to 3 hours per day",4]
[null,"ID0596","2012-05-26T08:43:07",{"$f":"LEFT(tblSalaries[[#This Row],[Timestamp]],FIND(\".\",tblSalaries[[#This Row],[Timestamp]],1))","v":"41055."},108000,108000,"USD",{"$f":"tblSalaries[[#This Row],[clean Salary (in local currency)]]*VLOOKUP(tblSalaries[[#This Row],[Currency]],tblXrate[],2,FALSE)","v":108000},"Technology consultant ","Consultant","USA",{"$f":"VLOOKUP(tblSalaries[[#This Row],[Where do you work]],tblCountries[[Actual]:[Mapping]],2,FALSE)","v":"USA"},{"$f":"VLOOKUP(tblSalaries[[#This Row],[clean Country]]&\"*\",Cont_Table,2,0)","v":"North America"},"2 to 3 hours per day",7]
[null,"ID0597","2012-05-26T08:45:34",{"$f":"LEFT(tblSalaries[[#This Row],[Timestamp]],FIND(\".\",tblSalaries[[#This Row],[Timestamp]],1))","v":"41055."},75000,75000,"USD",{"$f":"tblSalaries[[#This Row],[clean Salary (in local currency)]]*VLOOKUP(tblSalaries[[#This Row],[Currency]],tblXrate[],2,FALSE)","v":75000},"Financial Analyst","Analyst","USA",{"$f":"VLOOKUP(tblSalaries[[#This Row],[Where do you work]],tblCountries[[Actual]:[Mapping]],2,FALSE)","v":"USA"},{"$f":"VLOOKUP(tblSalaries[[#This Row],[clean Country]]&\"*\",Cont_Table,2,0)","v":"North America"},"4 to 6 hours a day",5]
[null,"ID0598","2012-05-26T08:51:04",{"$f":"LEFT(tblSalaries[[#This Row],[Timestamp]],FIND(\".\",tblSalaries[[#This Row],[Timestamp]],1))","v":"41055."},"4,00,000",400000,"INR",{"$f":"tblSalaries[[#This Row],[clean Salary (in local currency)]]*VLOOKUP(tblSalaries[[#This Row],[Currency]],tblXrate[],2,FALSE)","v":7123.1666749770275},"BPO","Manager","India",{"$f":"VLOOKUP(tblSalaries[[#This Row],[Where do you work]],tblCountries[[Actual]:[Mapping]],2,FALSE)","v":"India"},{"$f":"VLOOKUP(tblSalaries[[#This Row],[clean Country]]&\"*\",Cont_Table,2,0)","v":"Asia"},"1 or 2 hours a day",3]
[null,"ID0599","2012-05-26T08:52:00",{"$f":"LEFT(tblSalaries[[#This Row],[Timestamp]],FIND(\".\",tblSalaries[[#This Row],[Timestamp]],1))","v":"41055."},50000,50000,"USD",{"$f":"tblSalaries[[#This Row],[clean Salary (in local currency)]]*VLOOKUP(tblSalaries[[#This Row],[Currency]],tblXrate[],2,FALSE)","v":50000},"General manager","Manager","India",{"$f":"VLOOKUP(tblSalaries[[#This Row],[Where do you work]],tblCountries[[Actual]:[Mapping]],2,FALSE)","v":"India"},{"$f":"VLOOKUP(tblSalaries[[#This Row],[clean Country]]&\"*\",Cont_Table,2,0)","v":"Asia"},"1 or 2 hours a day",25]
[null,"ID0600","2012-05-26T08:55:12",{"$f":"LEFT(tblSalaries[[#This Row],[Timestamp]],FIND(\".\",tblSalaries[[#This Row],[Timestamp]],1))","v":"41055."},45000,45000,"USD",{"$f":"tblSalaries[[#This Row],[clean Salary (in local currency)]]*VLOOKUP(tblSalaries[[#This Row],[Currency]],tblXrate[],2,FALSE)","v":45000},"Technical Analyst","Analyst","USA",{"$f":"VLOOKUP(tblSalaries[[#This Row],[Where do you work]],tblCountries[[Actual]:[Mapping]],2,FALSE)","v":"USA"},{"$f":"VLOOKUP(tblSalaries[[#This Row],[clean Country]]&\"*\",Cont_Table,2,0)","v":"North America"},"4 to 6 hours a day",15]
[null,"ID0601","2012-05-26T08:55:17",{"$f":"LEFT(tblSalaries[[#This Row],[Timestamp]],FIND(\".\",tblSalaries[[#This Row],[Timestamp]],1))","v":"41055."},45000,45000,"USD",{"$f":"tblSalaries[[#This Row],[clean Salary (in local currency)]]*VLOOKUP(tblSalaries[[#This Row],[Currency]],tblXrate[],2,FALSE)","v":45000},"Head Accounts","Accountant","USA",{"$f":"VLOOKUP(tblSalaries[[#This Row],[Where do you work]],tblCountries[[Actual]:[Mapping]],2,FALSE)","v":"USA"},{"$f":"VLOOKUP(tblSalaries[[#This Row],[clean Country]]&\"*\",Cont_Table,2,0)","v":"North America"},"4 to 6 hours a day",7]
[null,"ID0602","2012-05-26T08:56:13",{"$f":"LEFT(tblSalaries[[#This Row],[Timestamp]],FIND(\".\",tblSalaries[[#This Row],[Timestamp]],1))","v":"41055."},"90 k",90000,"USD",{"$f":"tblSalaries[[#This Row],[clean Salary (in local currency)]]*VLOOKUP(tblSalaries[[#This Row],[Currency]],tblXrate[],2,FALSE)","v":90000},"Operations","Manager","USA",{"$f":"VLOOKUP(tblSalaries[[#This Row],[Where do you work]],tblCountries[[Actual]:[Mapping]],2,FALSE)","v":"USA"},{"$f":"VLOOKUP(tblSalaries[[#This Row],[clean Country]]&\"*\",Cont_Table,2,0)","v":"North America"},"2 to 3 hours per day",20]
[null,"ID0603","2012-05-26T08:58:55",{"$f":"LEFT(tblSalaries[[#This Row],[Timestamp]],FIND(\".\",tblSalaries[[#This Row],[Timestamp]],1))","v":"41055."},"Rs. 20000",240000,"INR",{"$f":"tblSalaries[[#This Row],[clean Salary (in local currency)]]*VLOOKUP(tblSalaries[[#This Row],[Currency]],tblXrate[],2,FALSE)","v":4273.9000049862161},"Talati","Analyst","India",{"$f":"VLOOKUP(tblSalaries[[#This Row],[Where do you work]],tblCountries[[Actual]:[Mapping]],2,FALSE)","v":"India"},{"$f":"VLOOKUP(tblSalaries[[#This Row],[clean Country]]&\"*\",Cont_Table,2,0)","v":"Asia"},"2 to 3 hours per day",5]
[null,"ID0604","2012-05-26T09:28:32",{"$f":"LEFT(tblSalaries[[#This Row],[Timestamp]],FIND(\".\",tblSalaries[[#This Row],[Timestamp]],1))","v":"41055."},50000,50000,"USD",{"$f":"tblSalaries[[#This Row],[clean Salary (in local currency)]]*VLOOKUP(tblSalaries[[#This Row],[Currency]],tblXrate[],2,FALSE)","v":50000},"Product manager","Manager","India",{"$f":"VLOOKUP(tblSalaries[[#This Row],[Where do you work]],tblCountries[[Actual]:[Mapping]],2,FALSE)","v":"India"},{"$f":"VLOOKUP(tblSalaries[[#This Row],[clean Country]]&\"*\",Cont_Table,2,0)","v":"Asia"},"1 or 2 hours a day",10]
[null,"ID0605","2012-05-26T09:28:50",{"$f":"LEFT(tblSalaries[[#This Row],[Timestamp]],FIND(\".\",tblSalaries[[#This Row],[Timestamp]],1))","v":"41055."},65000,65000,"USD",{"$f":"tblSalaries[[#This Row],[clean Salary (in local currency)]]*VLOOKUP(tblSalaries[[#This Row],[Currency]],tblXrate[],2,FALSE)","v":65000},"Helicopter Mechanic","Analyst","USA",{"$f":"VLOOKUP(tblSalaries[[#This Row],[Where do you work]],tblCountries[[Actual]:[Mapping]],2,FALSE)","v":"USA"},{"$f":"VLOOKUP(tblSalaries[[#This Row],[clean Country]]&\"*\",Cont_Table,2,0)","v":"North America"},"2 to 3 hours per day",17]
[null,"ID0606","2012-05-26T09:36:28",{"$f":"LEFT(tblSalaries[[#This Row],[Timestamp]],FIND(\".\",tblSalaries[[#This Row],[Timestamp]],1))","v":"41055."},70000,70000,"USD",{"$f":"tblSalaries[[#This Row],[clean Salary (in local currency)]]*VLOOKUP(tblSalaries[[#This Row],[Currency]],tblXrate[],2,FALSE)","v":70000},"Program/Mgt Analyst","Analyst","USA",{"$f":"VLOOKUP(tblSalaries[[#This Row],[Where do you work]],tblCountries[[Actual]:[Mapping]],2,FALSE)","v":"USA"},{"$f":"VLOOKUP(tblSalaries[[#This Row],[clean Country]]&\"*\",Cont_Table,2,0)","v":"North America"},"2 to 3 hours per day",18]
[null,"ID0608","2012-05-26T09:51:47",{"$f":"LEFT(tblSalaries[[#This Row],[Timestamp]],FIND(\".\",tblSalaries[[#This Row],[Timestamp]],1))","v":"41055."},160000,160000,"USD",{"$f":"tblSalaries[[#This Row],[clean Salary (in local currency)]]*VLOOKUP(tblSalaries[[#This Row],[Currency]],tblXrate[],2,FALSE)","v":160000},"Director, Analytics","Analyst","USA",{"$f":"VLOOKUP(tblSalaries[[#This Row],[Where do you work]],tblCountries[[Actual]:[Mapping]],2,FALSE)","v":"USA"},{"$f":"VLOOKUP(tblSalaries[[#This Row],[clean Country]]&\"*\",Cont_Table,2,0)","v":"North America"},"4 to 6 hours a day",5]
[null,"ID0609","2012-05-26T09:52:22",{"$f":"LEFT(tblSalaries[[#This Row],[Timestamp]],FIND(\".\",tblSalaries[[#This Row],[Timestamp]],1))","v":"41055."},100000,100000,"AUD",{"$f":"tblSalaries[[#This Row],[clean Salary (in local currency)]]*VLOOKUP(tblSalaries[[#This Row],[Currency]],tblXrate[],2,FALSE)","v":101990.96564026357},"Purchasing Manager","Manager","Australia",{"$f":"VLOOKUP(tblSalaries[[#This Row],[Where do you work]],tblCountries[[Actual]:[Mapping]],2,FALSE)","v":"Australia"},{"$f":"VLOOKUP(tblSalaries[[#This Row],[clean Country]]&\"*\",Cont_Table,2,0)","v":"Australia"},"2 to 3 hours per day",20]
[null,"ID0611","2012-05-26T10:01:28",{"$f":"LEFT(tblSalaries[[#This Row],[Timestamp]],FIND(\".\",tblSalaries[[#This Row],[Timestamp]],1))","v":"41055."},380000,380000,"INR",{"$f":"tblSalaries[[#This Row],[clean Salary (in local currency)]]*VLOOKUP(tblSalaries[[#This Row],[Currency]],tblXrate[],2,FALSE)","v":6767.0083412281756},"Incharge","Manager","India",{"$f":"VLOOKUP(tblSalaries[[#This Row],[Where do you work]],tblCountries[[Actual]:[Mapping]],2,FALSE)","v":"India"},{"$f":"VLOOKUP(tblSalaries[[#This Row],[clean Country]]&\"*\",Cont_Table,2,0)","v":"Asia"},"4 to 6 hours a day",10]
[null,"ID0612","2012-05-26T10:20:35",{"$f":"LEFT(tblSalaries[[#This Row],[Timestamp]],FIND(\".\",tblSalaries[[#This Row],[Timestamp]],1))","v":"41055."},30000,30000,"USD",{"$f":"tblSalaries[[#This Row],[clean Salary (in local currency)]]*VLOOKUP(tblSalaries[[#This Row],[Currency]],tblXrate[],2,FALSE)","v":30000},"Sales Assistant","Analyst","USA",{"$f":"VLOOKUP(tblSalaries[[#This Row],[Where do you work]],tblCountries[[Actual]:[Mapping]],2,FALSE)","v":"USA"},{"$f":"VLOOKUP(tblSalaries[[#This Row],[clean Country]]&\"*\",Cont_Table,2,0)","v":"North America"},"2 to 3 hours per day",8]
[null,"ID0613","2012-05-26T10:22:45",{"$f":"LEFT(tblSalaries[[#This Row],[Timestamp]],FIND(\".\",tblSalaries[[#This Row],[Timestamp]],1))","v":"41055."},"INR 420000",420000,"INR",{"$f":"tblSalaries[[#This Row],[clean Salary (in local currency)]]*VLOOKUP(tblSalaries[[#This Row],[Currency]],tblXrate[],2,FALSE)","v":7479.3250087258784},"Assistant EDP","Analyst","India",{"$f":"VLOOKUP(tblSalaries[[#This Row],[Where do you work]],tblCountries[[Actual]:[Mapping]],2,FALSE)","v":"India"},{"$f":"VLOOKUP(tblSalaries[[#This Row],[clean Country]]&\"*\",Cont_Table,2,0)","v":"Asia"},"4 to 6 hours a day",3]
[null,"ID0614","2012-05-26T10:31:42",{"$f":"LEFT(tblSalaries[[#This Row],[Timestamp]],FIND(\".\",tblSalaries[[#This Row],[Timestamp]],1))","v":"41055."},61000,61000,"USD",{"$f":"tblSalaries[[#This Row],[clean Salary (in local currency)]]*VLOOKUP(tblSalaries[[#This Row],[Currency]],tblXrate[],2,FALSE)","v":61000},"Sales ops","Manager","USA",{"$f":"VLOOKUP(tblSalaries[[#This Row],[Where do you work]],tblCountries[[Actual]:[Mapping]],2,FALSE)","v":"USA"},{"$f":"VLOOKUP(tblSalaries[[#This Row],[clean Country]]&\"*\",Cont_Table,2,0)","v":"North America"},"4 to 6 hours a day",5]
[null,"ID0615","2012-05-26T10:32:07",{"$f":"LEFT(tblSalaries[[#This Row],[Timestamp]],FIND(\".\",tblSalaries[[#This Row],[Timestamp]],1))","v":"41055."},"1150 $",13800,"USD",{"$f":"tblSalaries[[#This Row],[clean Salary (in local currency)]]*VLOOKUP(tblSalaries[[#This Row],[Currency]],tblXrate[],2,FALSE)","v":13800},"QS","Controller","Sri Lanka",{"$f":"VLOOKUP(tblSalaries[[#This Row],[Where do you work]],tblCountries[[Actual]:[Mapping]],2,FALSE)","v":"Sri Lanka"},{"$f":"VLOOKUP(tblSalaries[[#This Row],[clean Country]]&\"*\",Cont_Table,2,0)","v":"Asia"},"4 to 6 hours a day",20]
[null,"ID0616","2012-05-26T10:41:11",{"$f":"LEFT(tblSalaries[[#This Row],[Timestamp]],FIND(\".\",tblSalaries[[#This Row],[Timestamp]],1))","v":"41055."},"INR 850,000",850000,"INR",{"$f":"tblSalaries[[#This Row],[clean Salary (in local currency)]]*VLOOKUP(tblSalaries[[#This Row],[Currency]],tblXrate[],2,FALSE)","v":15136.729184326183},"Sales Analyst","Analyst","India",{"$f":"VLOOKUP(tblSalaries[[#This Row],[Where do you work]],tblCountries[[Actual]:[Mapping]],2,FALSE)","v":"India"},{"$f":"VLOOKUP(tblSalaries[[#This Row],[clean Country]]&\"*\",Cont_Table,2,0)","v":"Asia"},"4 to 6 hours a day",6]
[null,"ID0617","2012-05-26T10:43:53",{"$f":"LEFT(tblSalaries[[#This Row],[Timestamp]],FIND(\".\",tblSalaries[[#This Row],[Timestamp]],1))","v":"41055."},1800000,1800000,"INR",{"$f":"tblSalaries[[#This Row],[clean Salary (in local currency)]]*VLOOKUP(tblSalaries[[#This Row],[Currency]],tblXrate[],2,FALSE)","v":32054.250037396621},"AGM Finance","Manager","India",{"$f":"VLOOKUP(tblSalaries[[#This Row],[Where do you work]],tblCountries[[Actual]:[Mapping]],2,FALSE)","v":"India"},{"$f":"VLOOKUP(tblSalaries[[#This Row],[clean Country]]&\"*\",Cont_Table,2,0)","v":"Asia"},"2 to 3 hours per day",10]
[null,"ID0618","2012-05-26T10:51:05",{"$f":"LEFT(tblSalaries[[#This Row],[Timestamp]],FIND(\".\",tblSalaries[[#This Row],[Timestamp]],1))","v":"41055."},80000,80000,"USD",{"$f":"tblSalaries[[#This Row],[clean Salary (in local currency)]]*VLOOKUP(tblSalaries[[#This Row],[Currency]],tblXrate[],2,FALSE)","v":80000},"Sales Controller","Controller","USA",{"$f":"VLOOKUP(tblSalaries[[#This Row],[Where do you work]],tblCountries[[Actual]:[Mapping]],2,FALSE)","v":"USA"},{"$f":"VLOOKUP(tblSalaries[[#This Row],[clean Country]]&\"*\",Cont_Table,2,0)","v":"North America"},"4 to 6 hours a day",15]
[null,"ID0619","2012-05-26T10:54:22",{"$f":"LEFT(tblSalaries[[#This Row],[Timestamp]],FIND(\".\",tblSalaries[[#This Row],[Timestamp]],1))","v":"41055."},21000,21000,"USD",{"$f":"tblSalaries[[#This Row],[clean Salary (in local currency)]]*VLOOKUP(tblSalaries[[#This Row],[Currency]],tblXrate[],2,FALSE)","v":21000},"Manager","Manager","India",{"$f":"VLOOKUP(tblSalaries[[#This Row],[Where do you work]],tblCountries[[Actual]:[Mapping]],2,FALSE)","v":"India"},{"$f":"VLOOKUP(tblSalaries[[#This Row],[clean Country]]&\"*\",Cont_Table,2,0)","v":"Asia"},"All the 8 hours baby, all the 8!",23]
[null,"ID0620","2012-05-26T10:59:10",{"$f":"LEFT(tblSalaries[[#This Row],[Timestamp]],FIND(\".\",tblSalaries[[#This Row],[Timestamp]],1))","v":"41055."},250000,250000,"CAD",{"$f":"tblSalaries[[#This Row],[clean Salary (in local currency)]]*VLOOKUP(tblSalaries[[#This Row],[Currency]],tblXrate[],2,FALSE)","v":245840.3807575817},"Business Analyst","Analyst","Canada",{"$f":"VLOOKUP(tblSalaries[[#This Row],[Where do you work]],tblCountries[[Actual]:[Mapping]],2,FALSE)","v":"Canada"},{"$f":"VLOOKUP(tblSalaries[[#This Row],[clean Country]]&\"*\",Cont_Table,2,0)","v":"North America"},"4 to 6 hours a day",32]
[null,"ID0621","2012-05-26T10:59:39",{"$f":"LEFT(tblSalaries[[#This Row],[Timestamp]],FIND(\".\",tblSalaries[[#This Row],[Timestamp]],1))","v":"41055."},"1 lakh 60 thousand INR/Year",160000,"INR",{"$f":"tblSalaries[[#This Row],[clean Salary (in local currency)]]*VLOOKUP(tblSalaries[[#This Row],[Currency]],tblXrate[],2,FALSE)","v":2849.2666699908109},"MIS Executive","Reporting","India",{"$f":"VLOOKUP(tblSalaries[[#This Row],[Where do you work]],tblCountries[[Actual]:[Mapping]],2,FALSE)","v":"India"},{"$f":"VLOOKUP(tblSalaries[[#This Row],[clean Country]]&\"*\",Cont_Table,2,0)","v":"Asia"},"All the 8 hours baby, all the 8!",3]
[null,"ID0622","2012-05-26T11:01:56",{"$f":"LEFT(tblSalaries[[#This Row],[Timestamp]],FIND(\".\",tblSalaries[[#This Row],[Timestamp]],1))","v":"41055."},700,8400,"USD",{"$f":"tblSalaries[[#This Row],[clean Salary (in local currency)]]*VLOOKUP(tblSalaries[[#This Row],[Currency]],tblXrate[],2,FALSE)","v":8400},"SYSTEM MANAGER","Manager","India",{"$f":"VLOOKUP(tblSalaries[[#This Row],[Where do you work]],tblCountries[[Actual]:[Mapping]],2,FALSE)","v":"India"},{"$f":"VLOOKUP(tblSalaries[[#This Row],[clean Country]]&\"*\",Cont_Table,2,0)","v":"Asia"},"All the 8 hours baby, all the 8!",26]
[null,"ID0623","2012-05-26T11:03:02",{"$f":"LEFT(tblSalaries[[#This Row],[Timestamp]],FIND(\".\",tblSalaries[[#This Row],[Timestamp]],1))","v":"41055."},"A$85000",85000,"AUD",{"$f":"tblSalaries[[#This Row],[clean Salary (in local currency)]]*VLOOKUP(tblSalaries[[#This Row],[Currency]],tblXrate[],2,FALSE)","v":86692.320794224041},"Trainer","Consultant","Australia",{"$f":"VLOOKUP(tblSalaries[[#This Row],[Where do you work]],tblCountries[[Actual]:[Mapping]],2,FALSE)","v":"Australia"},{"$f":"VLOOKUP(tblSalaries[[#This Row],[clean Country]]&\"*\",Cont_Table,2,0)","v":"Australia"},"1 or 2 hours a day",20]
[null,"ID0624","2012-05-26T11:03:06",{"$f":"LEFT(tblSalaries[[#This Row],[Timestamp]],FIND(\".\",tblSalaries[[#This Row],[Timestamp]],1))","v":"41055."},50000,50000,"USD",{"$f":"tblSalaries[[#This Row],[clean Salary (in local currency)]]*VLOOKUP(tblSalaries[[#This Row],[Currency]],tblXrate[],2,FALSE)","v":50000},"Project coordinator","Manager","USA",{"$f":"VLOOKUP(tblSalaries[[#This Row],[Where do you work]],tblCountries[[Actual]:[Mapping]],2,FALSE)","v":"USA"},{"$f":"VLOOKUP(tblSalaries[[#This Row],[clean Country]]&\"*\",Cont_Table,2,0)","v":"North America"},"4 to 6 hours a day",20]
[null,"ID0625","2012-05-26T11:03:48",{"$f":"LEFT(tblSalaries[[#This Row],[Timestamp]],FIND(\".\",tblSalaries[[#This Row],[Timestamp]],1))","v":"41055."},4000,4000,"USD",{"$f":"tblSalaries[[#This Row],[clean Salary (in local currency)]]*VLOOKUP(tblSalaries[[#This Row],[Currency]],tblXrate[],2,FALSE)","v":4000},"MIS Executive","Reporting","India",{"$f":"VLOOKUP(tblSalaries[[#This Row],[Where do you work]],tblCountries[[Actual]:[Mapping]],2,FALSE)","v":"India"},{"$f":"VLOOKUP(tblSalaries[[#This Row],[clean Country]]&\"*\",Cont_Table,2,0)","v":"Asia"},"All the 8 hours baby, all the 8!",6]
[null,"ID0626","2012-05-26T11:05:45",{"$f":"LEFT(tblSalaries[[#This Row],[Timestamp]],FIND(\".\",tblSalaries[[#This Row],[Timestamp]],1))","v":"41055."},100000,100000,"AUD",{"$f":"tblSalaries[[#This Row],[clean Salary (in local currency)]]*VLOOKUP(tblSalaries[[#This Row],[Currency]],tblXrate[],2,FALSE)","v":101990.96564026357},"Business Analyst","Analyst","Australia",{"$f":"VLOOKUP(tblSalaries[[#This Row],[Where do you work]],tblCountries[[Actual]:[Mapping]],2,FALSE)","v":"Australia"},{"$f":"VLOOKUP(tblSalaries[[#This Row],[clean Country]]&\"*\",Cont_Table,2,0)","v":"Australia"},"All the 8 hours baby, all the 8!",1]
[null,"ID0627","2012-05-26T11:05:58",{"$f":"LEFT(tblSalaries[[#This Row],[Timestamp]],FIND(\".\",tblSalaries[[#This Row],[Timestamp]],1))","v":"41055."},95000,95000,"USD",{"$f":"tblSalaries[[#This Row],[clean Salary (in local currency)]]*VLOOKUP(tblSalaries[[#This Row],[Currency]],tblXrate[],2,FALSE)","v":95000},"Program Manager","Manager","USA",{"$f":"VLOOKUP(tblSalaries[[#This Row],[Where do you work]],tblCountries[[Actual]:[Mapping]],2,FALSE)","v":"USA"},{"$f":"VLOOKUP(tblSalaries[[#This Row],[clean Country]]&\"*\",Cont_Table,2,0)","v":"North America"},"1 or 2 hours a day",10]
[null,"ID0628","2012-05-26T11:07:01",{"$f":"LEFT(tblSalaries[[#This Row],[Timestamp]],FIND(\".\",tblSalaries[[#This Row],[Timestamp]],1))","v":"41055."},10000,10000,"USD",{"$f":"tblSalaries[[#This Row],[clean Salary (in local currency)]]*VLOOKUP(tblSalaries[[#This Row],[Currency]],tblXrate[],2,FALSE)","v":10000},"executive","Manager","Indonesia",{"$f":"VLOOKUP(tblSalaries[[#This Row],[Where do you work]],tblCountries[[Actual]:[Mapping]],2,FALSE)","v":"Indonesia"},{"$f":"VLOOKUP(tblSalaries[[#This Row],[clean Country]]&\"*\",Cont_Table,2,0)","v":"Asia"},"2 to 3 hours per day",5]
[null,"ID0629","2012-05-26T11:09:27",{"$f":"LEFT(tblSalaries[[#This Row],[Timestamp]],FIND(\".\",tblSalaries[[#This Row],[Timestamp]],1))","v":"41055."},4200,4200,"USD",{"$f":"tblSalaries[[#This Row],[clean Salary (in local currency)]]*VLOOKUP(tblSalaries[[#This Row],[Currency]],tblXrate[],2,FALSE)","v":4200},"MIS Executive","Reporting","India",{"$f":"VLOOKUP(tblSalaries[[#This Row],[Where do you work]],tblCountries[[Actual]:[Mapping]],2,FALSE)","v":"India"},{"$f":"VLOOKUP(tblSalaries[[#This Row],[clean Country]]&\"*\",Cont_Table,2,0)","v":"Asia"},"All the 8 hours baby, all the 8!",4]
[null,"ID0630","2012-05-26T11:10:23",{"$f":"LEFT(tblSalaries[[#This Row],[Timestamp]],FIND(\".\",tblSalaries[[#This Row],[Timestamp]],1))","v":"41055."},"Rs60000",720000,"INR",{"$f":"tblSalaries[[#This Row],[clean Salary (in local currency)]]*VLOOKUP(tblSalaries[[#This Row],[Currency]],tblXrate[],2,FALSE)","v":12821.700014958649},"Quantity Surveyor","Manager","India",{"$f":"VLOOKUP(tblSalaries[[#This Row],[Where do you work]],tblCountries[[Actual]:[Mapping]],2,FALSE)","v":"India"},{"$f":"VLOOKUP(tblSalaries[[#This Row],[clean Country]]&\"*\",Cont_Table,2,0)","v":"Asia"},"4 to 6 hours a day",12]
[null,"ID0631","2012-05-26T11:17:56",{"$f":"LEFT(tblSalaries[[#This Row],[Timestamp]],FIND(\".\",tblSalaries[[#This Row],[Timestamp]],1))","v":"41055."},39000,39000,"USD",{"$f":"tblSalaries[[#This Row],[clean Salary (in local currency)]]*VLOOKUP(tblSalaries[[#This Row],[Currency]],tblXrate[],2,FALSE)","v":39000},"Content Analyst ","Analyst","USA",{"$f":"VLOOKUP(tblSalaries[[#This Row],[Where do you work]],tblCountries[[Actual]:[Mapping]],2,FALSE)","v":"USA"},{"$f":"VLOOKUP(tblSalaries[[#This Row],[clean Country]]&\"*\",Cont_Table,2,0)","v":"North America"},"All the 8 hours baby, all the 8!",3]
[null,"ID0632","2012-05-26T11:26:46",{"$f":"LEFT(tblSalaries[[#This Row],[Timestamp]],FIND(\".\",tblSalaries[[#This Row],[Timestamp]],1))","v":"41055."},60000,60000,"USD",{"$f":"tblSalaries[[#This Row],[clean Salary (in local currency)]]*VLOOKUP(tblSalaries[[#This Row],[Currency]],tblXrate[],2,FALSE)","v":60000},"business analyst","Analyst","USA",{"$f":"VLOOKUP(tblSalaries[[#This Row],[Where do you work]],tblCountries[[Actual]:[Mapping]],2,FALSE)","v":"USA"},{"$f":"VLOOKUP(tblSalaries[[#This Row],[clean Country]]&\"*\",Cont_Table,2,0)","v":"North America"},"4 to 6 hours a day",12]
[null,"ID0633","2012-05-26T11:30:39",{"$f":"LEFT(tblSalaries[[#This Row],[Timestamp]],FIND(\".\",tblSalaries[[#This Row],[Timestamp]],1))","v":"41055."},"A$170000",170000,"AUD",{"$f":"tblSalaries[[#This Row],[clean Salary (in local currency)]]*VLOOKUP(tblSalaries[[#This Row],[Currency]],tblXrate[],2,FALSE)","v":173384.64158844808},"senior business analyst","Analyst","Australia",{"$f":"VLOOKUP(tblSalaries[[#This Row],[Where do you work]],tblCountries[[Actual]:[Mapping]],2,FALSE)","v":"Australia"},{"$f":"VLOOKUP(tblSalaries[[#This Row],[clean Country]]&\"*\",Cont_Table,2,0)","v":"Australia"},"All the 8 hours baby, all the 8!",10]
[null,"ID0634","2012-05-26T11:31:08",{"$f":"LEFT(tblSalaries[[#This Row],[Timestamp]],FIND(\".\",tblSalaries[[#This Row],[Timestamp]],1))","v":"41055."},125000,125000,"USD",{"$f":"tblSalaries[[#This Row],[clean Salary (in local currency)]]*VLOOKUP(tblSalaries[[#This Row],[Currency]],tblXrate[],2,FALSE)","v":125000},"Analyst","Analyst","USA",{"$f":"VLOOKUP(tblSalaries[[#This Row],[Where do you work]],tblCountries[[Actual]:[Mapping]],2,FALSE)","v":"USA"},{"$f":"VLOOKUP(tblSalaries[[#This Row],[clean Country]]&\"*\",Cont_Table,2,0)","v":"North America"},"2 to 3 hours per day",20]
[null,"ID0635","2012-05-26T11:31:52",{"$f":"LEFT(tblSalaries[[#This Row],[Timestamp]],FIND(\".\",tblSalaries[[#This Row],[Timestamp]],1))","v":"41055."},78000,78000,"AUD",{"$f":"tblSalaries[[#This Row],[clean Salary (in local currency)]]*VLOOKUP(tblSalaries[[#This Row],[Currency]],tblXrate[],2,FALSE)","v":79552.953199405587},"Corporate Accountant","Accountant","Australia",{"$f":"VLOOKUP(tblSalaries[[#This Row],[Where do you work]],tblCountries[[Actual]:[Mapping]],2,FALSE)","v":"Australia"},{"$f":"VLOOKUP(tblSalaries[[#This Row],[clean Country]]&\"*\",Cont_Table,2,0)","v":"Australia"},"All the 8 hours baby, all the 8!",4]
[null,"ID0636","2012-05-26T11:36:04",{"$f":"LEFT(tblSalaries[[#This Row],[Timestamp]],FIND(\".\",tblSalaries[[#This Row],[Timestamp]],1))","v":"41055."},"Rs. 200000",200000,"INR",{"$f":"tblSalaries[[#This Row],[clean Salary (in local currency)]]*VLOOKUP(tblSalaries[[#This Row],[Currency]],tblXrate[],2,FALSE)","v":3561.5833374885137},"Auditor","Accountant","India",{"$f":"VLOOKUP(tblSalaries[[#This Row],[Where do you work]],tblCountries[[Actual]:[Mapping]],2,FALSE)","v":"India"},{"$f":"VLOOKUP(tblSalaries[[#This Row],[clean Country]]&\"*\",Cont_Table,2,0)","v":"Asia"},"4 to 6 hours a day",3]
[null,"ID0637","2012-05-26T11:37:26",{"$f":"LEFT(tblSalaries[[#This Row],[Timestamp]],FIND(\".\",tblSalaries[[#This Row],[Timestamp]],1))","v":"41055."},80000,80000,"USD",{"$f":"tblSalaries[[#This Row],[clean Salary (in local currency)]]*VLOOKUP(tblSalaries[[#This Row],[Currency]],tblXrate[],2,FALSE)","v":80000},"program coordinator - automotive","Manager","USA",{"$f":"VLOOKUP(tblSalaries[[#This Row],[Where do you work]],tblCountries[[Actual]:[Mapping]],2,FALSE)","v":"USA"},{"$f":"VLOOKUP(tblSalaries[[#This Row],[clean Country]]&\"*\",Cont_Table,2,0)","v":"North America"},"4 to 6 hours a day",8]
[null,"ID0638","2012-05-26T11:37:53",{"$f":"LEFT(tblSalaries[[#This Row],[Timestamp]],FIND(\".\",tblSalaries[[#This Row],[Timestamp]],1))","v":"41055."},600000,600000,"INR",{"$f":"tblSalaries[[#This Row],[clean Salary (in local currency)]]*VLOOKUP(tblSalaries[[#This Row],[Currency]],tblXrate[],2,FALSE)","v":10684.750012465542},"Financial Analyst","Analyst","India",{"$f":"VLOOKUP(tblSalaries[[#This Row],[Where do you work]],tblCountries[[Actual]:[Mapping]],2,FALSE)","v":"India"},{"$f":"VLOOKUP(tblSalaries[[#This Row],[clean Country]]&\"*\",Cont_Table,2,0)","v":"Asia"},"2 to 3 hours per day",3]
[null,"ID0639","2012-05-26T11:39:48",{"$f":"LEFT(tblSalaries[[#This Row],[Timestamp]],FIND(\".\",tblSalaries[[#This Row],[Timestamp]],1))","v":"41055."},"Rs 300000",300000,"INR",{"$f":"tblSalaries[[#This Row],[clean Salary (in local currency)]]*VLOOKUP(tblSalaries[[#This Row],[Currency]],tblXrate[],2,FALSE)","v":5342.3750062327708},"Planning Engineer","Engineer","India",{"$f":"VLOOKUP(tblSalaries[[#This Row],[Where do you work]],tblCountries[[Actual]:[Mapping]],2,FALSE)","v":"India"},{"$f":"VLOOKUP(tblSalaries[[#This Row],[clean Country]]&\"*\",Cont_Table,2,0)","v":"Asia"},"All the 8 hours baby, all the 8!",2]
[null,"ID0640","2012-05-26T11:40:34",{"$f":"LEFT(tblSalaries[[#This Row],[Timestamp]],FIND(\".\",tblSalaries[[#This Row],[Timestamp]],1))","v":"41055."},"4000000 INR",4000000,"INR",{"$f":"tblSalaries[[#This Row],[clean Salary (in local currency)]]*VLOOKUP(tblSalaries[[#This Row],[Currency]],tblXrate[],2,FALSE)","v":71231.666749770273},"Senior Executive","Manager","India",{"$f":"VLOOKUP(tblSalaries[[#This Row],[Where do you work]],tblCountries[[Actual]:[Mapping]],2,FALSE)","v":"India"},{"$f":"VLOOKUP(tblSalaries[[#This Row],[clean Country]]&\"*\",Cont_Table,2,0)","v":"Asia"},"4 to 6 hours a day",1.5]
[null,"ID0641","2012-05-26T11:45:37",{"$f":"LEFT(tblSalaries[[#This Row],[Timestamp]],FIND(\".\",tblSalaries[[#This Row],[Timestamp]],1))","v":"41055."},"4500000 inr/pa",4500000,"INR",{"$f":"tblSalaries[[#This Row],[clean Salary (in local currency)]]*VLOOKUP(tblSalaries[[#This Row],[Currency]],tblXrate[],2,FALSE)","v":80135.625093491559},"cmo","CXO or Top Mgmt.","India",{"$f":"VLOOKUP(tblSalaries[[#This Row],[Where do you work]],tblCountries[[Actual]:[Mapping]],2,FALSE)","v":"India"},{"$f":"VLOOKUP(tblSalaries[[#This Row],[clean Country]]&\"*\",Cont_Table,2,0)","v":"Asia"},"1 or 2 hours a day",6]
[null,"ID0642","2012-05-26T11:46:20",{"$f":"LEFT(tblSalaries[[#This Row],[Timestamp]],FIND(\".\",tblSalaries[[#This Row],[Timestamp]],1))","v":"41055."},55000,55000,"CAD",{"$f":"tblSalaries[[#This Row],[clean Salary (in local currency)]]*VLOOKUP(tblSalaries[[#This Row],[Currency]],tblXrate[],2,FALSE)","v":54084.883766667976},"Project coordinator","Manager","Canada",{"$f":"VLOOKUP(tblSalaries[[#This Row],[Where do you work]],tblCountries[[Actual]:[Mapping]],2,FALSE)","v":"Canada"},{"$f":"VLOOKUP(tblSalaries[[#This Row],[clean Country]]&\"*\",Cont_Table,2,0)","v":"North America"},"4 to 6 hours a day",5]
[null,"ID0643","2012-05-26T11:47:18",{"$f":"LEFT(tblSalaries[[#This Row],[Timestamp]],FIND(\".\",tblSalaries[[#This Row],[Timestamp]],1))","v":"41055."},53000,53000,"USD",{"$f":"tblSalaries[[#This Row],[clean Salary (in local currency)]]*VLOOKUP(tblSalaries[[#This Row],[Currency]],tblXrate[],2,FALSE)","v":53000},"Financial Analyst","Analyst","USA",{"$f":"VLOOKUP(tblSalaries[[#This Row],[Where do you work]],tblCountries[[Actual]:[Mapping]],2,FALSE)","v":"USA"},{"$f":"VLOOKUP(tblSalaries[[#This Row],[clean Country]]&\"*\",Cont_Table,2,0)","v":"North America"},"4 to 6 hours a day",30]
[null,"ID0644","2012-05-26T11:47:38",{"$f":"LEFT(tblSalaries[[#This Row],[Timestamp]],FIND(\".\",tblSalaries[[#This Row],[Timestamp]],1))","v":"41055."},"25000 INR",300000,"INR",{"$f":"tblSalaries[[#This Row],[clean Salary (in local currency)]]*VLOOKUP(tblSalaries[[#This Row],[Currency]],tblXrate[],2,FALSE)","v":5342.3750062327708},"MIS","Reporting","India",{"$f":"VLOOKUP(tblSalaries[[#This Row],[Where do you work]],tblCountries[[Actual]:[Mapping]],2,FALSE)","v":"India"},{"$f":"VLOOKUP(tblSalaries[[#This Row],[clean Country]]&\"*\",Cont_Table,2,0)","v":"Asia"},"4 to 6 hours a day",1]
[null,"ID0645","2012-05-26T11:50:03",{"$f":"LEFT(tblSalaries[[#This Row],[Timestamp]],FIND(\".\",tblSalaries[[#This Row],[Timestamp]],1))","v":"41055."},"Rs 4,00,000",400000,"INR",{"$f":"tblSalaries[[#This Row],[clean Salary (in local currency)]]*VLOOKUP(tblSalaries[[#This Row],[Currency]],tblXrate[],2,FALSE)","v":7123.1666749770275},"Sr Processor","Manager","India",{"$f":"VLOOKUP(tblSalaries[[#This Row],[Where do you work]],tblCountries[[Actual]:[Mapping]],2,FALSE)","v":"India"},{"$f":"VLOOKUP(tblSalaries[[#This Row],[clean Country]]&\"*\",Cont_Table,2,0)","v":"Asia"},"1 or 2 hours a day",5]
[null,"ID0646","2012-05-26T11:50:34",{"$f":"LEFT(tblSalaries[[#This Row],[Timestamp]],FIND(\".\",tblSalaries[[#This Row],[Timestamp]],1))","v":"41055."},"6,00,000",600000,"INR",{"$f":"tblSalaries[[#This Row],[clean Salary (in local currency)]]*VLOOKUP(tblSalaries[[#This Row],[Currency]],tblXrate[],2,FALSE)","v":10684.750012465542},"Organiser","Manager","India",{"$f":"VLOOKUP(tblSalaries[[#This Row],[Where do you work]],tblCountries[[Actual]:[Mapping]],2,FALSE)","v":"India"},{"$f":"VLOOKUP(tblSalaries[[#This Row],[clean Country]]&\"*\",Cont_Table,2,0)","v":"Asia"},"4 to 6 hours a day",11]
[null,"ID0647","2012-05-26T11:55:17",{"$f":"LEFT(tblSalaries[[#This Row],[Timestamp]],FIND(\".\",tblSalaries[[#This Row],[Timestamp]],1))","v":"41055."},4000,4000,"USD",{"$f":"tblSalaries[[#This Row],[clean Salary (in local currency)]]*VLOOKUP(tblSalaries[[#This Row],[Currency]],tblXrate[],2,FALSE)","v":4000},"MIS Executive","Reporting","India",{"$f":"VLOOKUP(tblSalaries[[#This Row],[Where do you work]],tblCountries[[Actual]:[Mapping]],2,FALSE)","v":"India"},{"$f":"VLOOKUP(tblSalaries[[#This Row],[clean Country]]&\"*\",Cont_Table,2,0)","v":"Asia"},"All the 8 hours baby, all the 8!",4]
[null,"ID0648","2012-05-26T11:58:23",{"$f":"LEFT(tblSalaries[[#This Row],[Timestamp]],FIND(\".\",tblSalaries[[#This Row],[Timestamp]],1))","v":"41055."},8000,8000,"USD",{"$f":"tblSalaries[[#This Row],[clean Salary (in local currency)]]*VLOOKUP(tblSalaries[[#This Row],[Currency]],tblXrate[],2,FALSE)","v":8000},"Quality officer","Manager","bangkok",{"$f":"VLOOKUP(tblSalaries[[#This Row],[Where do you work]],tblCountries[[Actual]:[Mapping]],2,FALSE)","v":"Thailand"},{"$f":"VLOOKUP(tblSalaries[[#This Row],[clean Country]]&\"*\",Cont_Table,2,0)","v":"Asia"},"All the 8 hours baby, all the 8!",1]
[null,"ID0649","2012-05-26T12:05:35",{"$f":"LEFT(tblSalaries[[#This Row],[Timestamp]],FIND(\".\",tblSalaries[[#This Row],[Timestamp]],1))","v":"41055."},150000,150000,"INR",{"$f":"tblSalaries[[#This Row],[clean Salary (in local currency)]]*VLOOKUP(tblSalaries[[#This Row],[Currency]],tblXrate[],2,FALSE)","v":2671.1875031163854},"Executive","Manager","India",{"$f":"VLOOKUP(tblSalaries[[#This Row],[Where do you work]],tblCountries[[Actual]:[Mapping]],2,FALSE)","v":"India"},{"$f":"VLOOKUP(tblSalaries[[#This Row],[clean Country]]&\"*\",Cont_Table,2,0)","v":"Asia"},"2 to 3 hours per day",5]
[null,"ID0650","2012-05-26T12:14:07",{"$f":"LEFT(tblSalaries[[#This Row],[Timestamp]],FIND(\".\",tblSalaries[[#This Row],[Timestamp]],1))","v":"41055."},"Rs 800000",800000,"INR",{"$f":"tblSalaries[[#This Row],[clean Salary (in local currency)]]*VLOOKUP(tblSalaries[[#This Row],[Currency]],tblXrate[],2,FALSE)","v":14246.333349954055},"Engineer","Engineer","India",{"$f":"VLOOKUP(tblSalaries[[#This Row],[Where do you work]],tblCountries[[Actual]:[Mapping]],2,FALSE)","v":"India"},{"$f":"VLOOKUP(tblSalaries[[#This Row],[clean Country]]&\"*\",Cont_Table,2,0)","v":"Asia"},"2 to 3 hours per day",3]
[null,"ID0651","2012-05-26T12:17:01",{"$f":"LEFT(tblSalaries[[#This Row],[Timestamp]],FIND(\".\",tblSalaries[[#This Row],[Timestamp]],1))","v":"41055."},480000,480000,"INR",{"$f":"tblSalaries[[#This Row],[clean Salary (in local currency)]]*VLOOKUP(tblSalaries[[#This Row],[Currency]],tblXrate[],2,FALSE)","v":8547.8000099724322},"BI Consultant","Reporting","India",{"$f":"VLOOKUP(tblSalaries[[#This Row],[Where do you work]],tblCountries[[Actual]:[Mapping]],2,FALSE)","v":"India"},{"$f":"VLOOKUP(tblSalaries[[#This Row],[clean Country]]&\"*\",Cont_Table,2,0)","v":"Asia"},"1 or 2 hours a day",3]
[null,"ID0652","2012-05-26T12:19:47",{"$f":"LEFT(tblSalaries[[#This Row],[Timestamp]],FIND(\".\",tblSalaries[[#This Row],[Timestamp]],1))","v":"41055."},"Rs. 4.32 Lakhs",432000,"INR",{"$f":"tblSalaries[[#This Row],[clean Salary (in local currency)]]*VLOOKUP(tblSalaries[[#This Row],[Currency]],tblXrate[],2,FALSE)","v":7693.0200089751897},"Assistant Manager - IT","Manager","India",{"$f":"VLOOKUP(tblSalaries[[#This Row],[Where do you work]],tblCountries[[Actual]:[Mapping]],2,FALSE)","v":"India"},{"$f":"VLOOKUP(tblSalaries[[#This Row],[clean Country]]&\"*\",Cont_Table,2,0)","v":"Asia"},"2 to 3 hours per day",5]
[null,"ID0653","2012-05-26T12:19:53",{"$f":"LEFT(tblSalaries[[#This Row],[Timestamp]],FIND(\".\",tblSalaries[[#This Row],[Timestamp]],1))","v":"41055."},4000,4000,"USD",{"$f":"tblSalaries[[#This Row],[clean Salary (in local currency)]]*VLOOKUP(tblSalaries[[#This Row],[Currency]],tblXrate[],2,FALSE)","v":4000},"Coordinator","Manager","India",{"$f":"VLOOKUP(tblSalaries[[#This Row],[Where do you work]],tblCountries[[Actual]:[Mapping]],2,FALSE)","v":"India"},{"$f":"VLOOKUP(tblSalaries[[#This Row],[clean Country]]&\"*\",Cont_Table,2,0)","v":"Asia"},"All the 8 hours baby, all the 8!",8]
[null,"ID0654","2012-05-26T12:20:07",{"$f":"LEFT(tblSalaries[[#This Row],[Timestamp]],FIND(\".\",tblSalaries[[#This Row],[Timestamp]],1))","v":"41055."},450,5400,"USD",{"$f":"tblSalaries[[#This Row],[clean Salary (in local currency)]]*VLOOKUP(tblSalaries[[#This Row],[Currency]],tblXrate[],2,FALSE)","v":5400},"manager","Manager","India",{"$f":"VLOOKUP(tblSalaries[[#This Row],[Where do you work]],tblCountries[[Actual]:[Mapping]],2,FALSE)","v":"India"},{"$f":"VLOOKUP(tblSalaries[[#This Row],[clean Country]]&\"*\",Cont_Table,2,0)","v":"Asia"},"All the 8 hours baby, all the 8!",3]
[null,"ID0655","2012-05-26T12:23:14",{"$f":"LEFT(tblSalaries[[#This Row],[Timestamp]],FIND(\".\",tblSalaries[[#This Row],[Timestamp]],1))","v":"41055."},10500000,10500000,"INR",{"$f":"tblSalaries[[#This Row],[clean Salary (in local currency)]]*VLOOKUP(tblSalaries[[#This Row],[Currency]],tblXrate[],2,FALSE)","v":186983.12521814698},"MANAGER","Manager","India",{"$f":"VLOOKUP(tblSalaries[[#This Row],[Where do you work]],tblCountries[[Actual]:[Mapping]],2,FALSE)","v":"India"},{"$f":"VLOOKUP(tblSalaries[[#This Row],[clean Country]]&\"*\",Cont_Table,2,0)","v":"Asia"},"2 to 3 hours per day",10]
[null,"ID0657","2012-05-26T12:25:09",{"$f":"LEFT(tblSalaries[[#This Row],[Timestamp]],FIND(\".\",tblSalaries[[#This Row],[Timestamp]],1))","v":"41055."},21500,21500,"USD",{"$f":"tblSalaries[[#This Row],[clean Salary (in local currency)]]*VLOOKUP(tblSalaries[[#This Row],[Currency]],tblXrate[],2,FALSE)","v":21500},"Asst Mgr","Analyst","India",{"$f":"VLOOKUP(tblSalaries[[#This Row],[Where do you work]],tblCountries[[Actual]:[Mapping]],2,FALSE)","v":"India"},{"$f":"VLOOKUP(tblSalaries[[#This Row],[clean Country]]&\"*\",Cont_Table,2,0)","v":"Asia"},"4 to 6 hours a day",9]
[null,"ID0658","2012-05-26T12:26:33",{"$f":"LEFT(tblSalaries[[#This Row],[Timestamp]],FIND(\".\",tblSalaries[[#This Row],[Timestamp]],1))","v":"41055."},15000,15000,"USD",{"$f":"tblSalaries[[#This Row],[clean Salary (in local currency)]]*VLOOKUP(tblSalaries[[#This Row],[Currency]],tblXrate[],2,FALSE)","v":15000},"MIS Executive","Reporting","India",{"$f":"VLOOKUP(tblSalaries[[#This Row],[Where do you work]],tblCountries[[Actual]:[Mapping]],2,FALSE)","v":"India"},{"$f":"VLOOKUP(tblSalaries[[#This Row],[clean Country]]&\"*\",Cont_Table,2,0)","v":"Asia"},"All the 8 hours baby, all the 8!",2]
[null,"ID0659","2012-05-26T12:27:20",{"$f":"LEFT(tblSalaries[[#This Row],[Timestamp]],FIND(\".\",tblSalaries[[#This Row],[Timestamp]],1))","v":"41055."},200000,200000,"PKR",{"$f":"tblSalaries[[#This Row],[clean Salary (in local currency)]]*VLOOKUP(tblSalaries[[#This Row],[Currency]],tblXrate[],2,FALSE)","v":2122.8177433598262},"Accounts Officer","Accountant","Pakistan",{"$f":"VLOOKUP(tblSalaries[[#This Row],[Where do you work]],tblCountries[[Actual]:[Mapping]],2,FALSE)","v":"Pakistan"},{"$f":"VLOOKUP(tblSalaries[[#This Row],[clean Country]]&\"*\",Cont_Table,2,0)","v":"Asia"},"2 to 3 hours per day",2]
[null,"ID0660","2012-05-26T12:28:05",{"$f":"LEFT(tblSalaries[[#This Row],[Timestamp]],FIND(\".\",tblSalaries[[#This Row],[Timestamp]],1))","v":"41055."},"INR 9,50,000",950000,"INR",{"$f":"tblSalaries[[#This Row],[clean Salary (in local currency)]]*VLOOKUP(tblSalaries[[#This Row],[Currency]],tblXrate[],2,FALSE)","v":16917.52085307044},"Investment Banker","Manager","India",{"$f":"VLOOKUP(tblSalaries[[#This Row],[Where do you work]],tblCountries[[Actual]:[Mapping]],2,FALSE)","v":"India"},{"$f":"VLOOKUP(tblSalaries[[#This Row],[clean Country]]&\"*\",Cont_Table,2,0)","v":"Asia"},"4 to 6 hours a day",3]
[null,"ID0661","2012-05-26T12:28:11",{"$f":"LEFT(tblSalaries[[#This Row],[Timestamp]],FIND(\".\",tblSalaries[[#This Row],[Timestamp]],1))","v":"41055."},"INR 165000",165000,"INR",{"$f":"tblSalaries[[#This Row],[clean Salary (in local currency)]]*VLOOKUP(tblSalaries[[#This Row],[Currency]],tblXrate[],2,FALSE)","v":2938.3062534280239},"Co-operative bank","Manager","India",{"$f":"VLOOKUP(tblSalaries[[#This Row],[Where do you work]],tblCountries[[Actual]:[Mapping]],2,FALSE)","v":"India"},{"$f":"VLOOKUP(tblSalaries[[#This Row],[clean Country]]&\"*\",Cont_Table,2,0)","v":"Asia"},"All the 8 hours baby, all the 8!",11]
[null,"ID0662","2012-05-26T12:30:22",{"$f":"LEFT(tblSalaries[[#This Row],[Timestamp]],FIND(\".\",tblSalaries[[#This Row],[Timestamp]],1))","v":"41055."},1400,16800,"USD",{"$f":"tblSalaries[[#This Row],[clean Salary (in local currency)]]*VLOOKUP(tblSalaries[[#This Row],[Currency]],tblXrate[],2,FALSE)","v":16800},"Assistant","Analyst","Pakistan",{"$f":"VLOOKUP(tblSalaries[[#This Row],[Where do you work]],tblCountries[[Actual]:[Mapping]],2,FALSE)","v":"Pakistan"},{"$f":"VLOOKUP(tblSalaries[[#This Row],[clean Country]]&\"*\",Cont_Table,2,0)","v":"Asia"},"4 to 6 hours a day",12]
[null,"ID0663","2012-05-26T12:31:29",{"$f":"LEFT(tblSalaries[[#This Row],[Timestamp]],FIND(\".\",tblSalaries[[#This Row],[Timestamp]],1))","v":"41055."},37000,37000,"USD",{"$f":"tblSalaries[[#This Row],[clean Salary (in local currency)]]*VLOOKUP(tblSalaries[[#This Row],[Currency]],tblXrate[],2,FALSE)","v":37000},"Cad Engineer","Engineer","India",{"$f":"VLOOKUP(tblSalaries[[#This Row],[Where do you work]],tblCountries[[Actual]:[Mapping]],2,FALSE)","v":"India"},{"$f":"VLOOKUP(tblSalaries[[#This Row],[clean Country]]&\"*\",Cont_Table,2,0)","v":"Asia"},"4 to 6 hours a day",10]
[null,"ID0664","2012-05-26T12:33:48",{"$f":"LEFT(tblSalaries[[#This Row],[Timestamp]],FIND(\".\",tblSalaries[[#This Row],[Timestamp]],1))","v":"41055."},"Rs 300000",300000,"INR",{"$f":"tblSalaries[[#This Row],[clean Salary (in local currency)]]*VLOOKUP(tblSalaries[[#This Row],[Currency]],tblXrate[],2,FALSE)","v":5342.3750062327708},"Mis Analyst","Analyst","India",{"$f":"VLOOKUP(tblSalaries[[#This Row],[Where do you work]],tblCountries[[Actual]:[Mapping]],2,FALSE)","v":"India"},{"$f":"VLOOKUP(tblSalaries[[#This Row],[clean Country]]&\"*\",Cont_Table,2,0)","v":"Asia"},"4 to 6 hours a day",4.5]
[null,"ID0665","2012-05-26T12:35:42",{"$f":"LEFT(tblSalaries[[#This Row],[Timestamp]],FIND(\".\",tblSalaries[[#This Row],[Timestamp]],1))","v":"41055."},"INR 2 l;acks",200000,"INR",{"$f":"tblSalaries[[#This Row],[clean Salary (in local currency)]]*VLOOKUP(tblSalaries[[#This Row],[Currency]],tblXrate[],2,FALSE)","v":3561.5833374885137},"MIS EXECUTIVE","Reporting","India",{"$f":"VLOOKUP(tblSalaries[[#This Row],[Where do you work]],tblCountries[[Actual]:[Mapping]],2,FALSE)","v":"India"},{"$f":"VLOOKUP(tblSalaries[[#This Row],[clean Country]]&\"*\",Cont_Table,2,0)","v":"Asia"},"All the 8 hours baby, all the 8!",3]
[null,"ID0666","2012-05-26T12:36:53",{"$f":"LEFT(tblSalaries[[#This Row],[Timestamp]],FIND(\".\",tblSalaries[[#This Row],[Timestamp]],1))","v":"41055."},"Rs 480000",480000,"INR",{"$f":"tblSalaries[[#This Row],[clean Salary (in local currency)]]*VLOOKUP(tblSalaries[[#This Row],[Currency]],tblXrate[],2,FALSE)","v":8547.8000099724322},"PMO","Manager","India",{"$f":"VLOOKUP(tblSalaries[[#This Row],[Where do you work]],tblCountries[[Actual]:[Mapping]],2,FALSE)","v":"India"},{"$f":"VLOOKUP(tblSalaries[[#This Row],[clean Country]]&\"*\",Cont_Table,2,0)","v":"Asia"},"2 to 3 hours per day",8]
[null,"ID0667","2012-05-26T12:46:26",{"$f":"LEFT(tblSalaries[[#This Row],[Timestamp]],FIND(\".\",tblSalaries[[#This Row],[Timestamp]],1))","v":"41055."},5800,5800,"USD",{"$f":"tblSalaries[[#This Row],[clean Salary (in local currency)]]*VLOOKUP(tblSalaries[[#This Row],[Currency]],tblXrate[],2,FALSE)","v":5800},"Asst. Manager(Commercial)","Manager","India",{"$f":"VLOOKUP(tblSalaries[[#This Row],[Where do you work]],tblCountries[[Actual]:[Mapping]],2,FALSE)","v":"India"},{"$f":"VLOOKUP(tblSalaries[[#This Row],[clean Country]]&\"*\",Cont_Table,2,0)","v":"Asia"},"All the 8 hours baby, all the 8!",8]
[null,"ID0668","2012-05-26T12:48:19",{"$f":"LEFT(tblSalaries[[#This Row],[Timestamp]],FIND(\".\",tblSalaries[[#This Row],[Timestamp]],1))","v":"41055."},"230000 INR",230000,"INR",{"$f":"tblSalaries[[#This Row],[clean Salary (in local currency)]]*VLOOKUP(tblSalaries[[#This Row],[Currency]],tblXrate[],2,FALSE)","v":4095.8208381117906},"MIS Executive","Reporting","India",{"$f":"VLOOKUP(tblSalaries[[#This Row],[Where do you work]],tblCountries[[Actual]:[Mapping]],2,FALSE)","v":"India"},{"$f":"VLOOKUP(tblSalaries[[#This Row],[clean Country]]&\"*\",Cont_Table,2,0)","v":"Asia"},"All the 8 hours baby, all the 8!",3]
[null,"ID0669","2012-05-26T12:50:08",{"$f":"LEFT(tblSalaries[[#This Row],[Timestamp]],FIND(\".\",tblSalaries[[#This Row],[Timestamp]],1))","v":"41055."},"23000 Rupees",276000,"INR",{"$f":"tblSalaries[[#This Row],[clean Salary (in local currency)]]*VLOOKUP(tblSalaries[[#This Row],[Currency]],tblXrate[],2,FALSE)","v":4914.9850057341491},"Education Officer","Manager","Pakistan",{"$f":"VLOOKUP(tblSalaries[[#This Row],[Where do you work]],tblCountries[[Actual]:[Mapping]],2,FALSE)","v":"Pakistan"},{"$f":"VLOOKUP(tblSalaries[[#This Row],[clean Country]]&\"*\",Cont_Table,2,0)","v":"Asia"},"1 or 2 hours a day",3]
[null,"ID0670","2012-05-26T12:52:37",{"$f":"LEFT(tblSalaries[[#This Row],[Timestamp]],FIND(\".\",tblSalaries[[#This Row],[Timestamp]],1))","v":"41055."},24000,24000,"USD",{"$f":"tblSalaries[[#This Row],[clean Salary (in local currency)]]*VLOOKUP(tblSalaries[[#This Row],[Currency]],tblXrate[],2,FALSE)","v":24000},"Management Accountant","Manager","Saudi Arabai",{"$f":"VLOOKUP(tblSalaries[[#This Row],[Where do you work]],tblCountries[[Actual]:[Mapping]],2,FALSE)","v":"Saudi Arabia"},{"$f":"VLOOKUP(tblSalaries[[#This Row],[clean Country]]&\"*\",Cont_Table,2,0)","v":"Asia"},"4 to 6 hours a day",12]
[null,"ID0671","2012-05-26T12:53:43",{"$f":"LEFT(tblSalaries[[#This Row],[Timestamp]],FIND(\".\",tblSalaries[[#This Row],[Timestamp]],1))","v":"41055."},"Us$24000",24000,"USD",{"$f":"tblSalaries[[#This Row],[clean Salary (in local currency)]]*VLOOKUP(tblSalaries[[#This Row],[Currency]],tblXrate[],2,FALSE)","v":24000},"Accountant","Accountant","UAE",{"$f":"VLOOKUP(tblSalaries[[#This Row],[Where do you work]],tblCountries[[Actual]:[Mapping]],2,FALSE)","v":"UAE"},{"$f":"VLOOKUP(tblSalaries[[#This Row],[clean Country]]&\"*\",Cont_Table,2,0)","v":"Asia"},"2 to 3 hours per day",15]
[null,"ID0672","2012-05-26T12:54:15",{"$f":"LEFT(tblSalaries[[#This Row],[Timestamp]],FIND(\".\",tblSalaries[[#This Row],[Timestamp]],1))","v":"41055."},8738,8738,"USD",{"$f":"tblSalaries[[#This Row],[clean Salary (in local currency)]]*VLOOKUP(tblSalaries[[#This Row],[Currency]],tblXrate[],2,FALSE)","v":8738},"Sales Coordinator","Manager","India",{"$f":"VLOOKUP(tblSalaries[[#This Row],[Where do you work]],tblCountries[[Actual]:[Mapping]],2,FALSE)","v":"India"},{"$f":"VLOOKUP(tblSalaries[[#This Row],[clean Country]]&\"*\",Cont_Table,2,0)","v":"Asia"},"All the 8 hours baby, all the 8!",7.3]
[null,"ID0673","2012-05-26T12:54:36",{"$f":"LEFT(tblSalaries[[#This Row],[Timestamp]],FIND(\".\",tblSalaries[[#This Row],[Timestamp]],1))","v":"41055."},15000,15000,"USD",{"$f":"tblSalaries[[#This Row],[clean Salary (in local currency)]]*VLOOKUP(tblSalaries[[#This Row],[Currency]],tblXrate[],2,FALSE)","v":15000},"TA","Analyst","Indonesia",{"$f":"VLOOKUP(tblSalaries[[#This Row],[Where do you work]],tblCountries[[Actual]:[Mapping]],2,FALSE)","v":"Indonesia"},{"$f":"VLOOKUP(tblSalaries[[#This Row],[clean Country]]&\"*\",Cont_Table,2,0)","v":"Asia"},"4 to 6 hours a day",1]
[null,"ID0674","2012-05-26T12:55:09",{"$f":"LEFT(tblSalaries[[#This Row],[Timestamp]],FIND(\".\",tblSalaries[[#This Row],[Timestamp]],1))","v":"41055."},4700,56400,"USD",{"$f":"tblSalaries[[#This Row],[clean Salary (in local currency)]]*VLOOKUP(tblSalaries[[#This Row],[Currency]],tblXrate[],2,FALSE)","v":56400},"Finance Manager","Manager","UAE",{"$f":"VLOOKUP(tblSalaries[[#This Row],[Where do you work]],tblCountries[[Actual]:[Mapping]],2,FALSE)","v":"UAE"},{"$f":"VLOOKUP(tblSalaries[[#This Row],[clean Country]]&\"*\",Cont_Table,2,0)","v":"Asia"},"2 to 3 hours per day",6]
[null,"ID0675","2012-05-26T12:59:13",{"$f":"LEFT(tblSalaries[[#This Row],[Timestamp]],FIND(\".\",tblSalaries[[#This Row],[Timestamp]],1))","v":"41055."},10200,10200,"USD",{"$f":"tblSalaries[[#This Row],[clean Salary (in local currency)]]*VLOOKUP(tblSalaries[[#This Row],[Currency]],tblXrate[],2,FALSE)","v":10200},"business analyst","Analyst","India",{"$f":"VLOOKUP(tblSalaries[[#This Row],[Where do you work]],tblCountries[[Actual]:[Mapping]],2,FALSE)","v":"India"},{"$f":"VLOOKUP(tblSalaries[[#This Row],[clean Country]]&\"*\",Cont_Table,2,0)","v":"Asia"},"4 to 6 hours a day",4.5]
[null,"ID0676","2012-05-26T12:59:41",{"$f":"LEFT(tblSalaries[[#This Row],[Timestamp]],FIND(\".\",tblSalaries[[#This Row],[Timestamp]],1))","v":"41055."},325000,325000,"INR",{"$f":"tblSalaries[[#This Row],[clean Salary (in local currency)]]*VLOOKUP(tblSalaries[[#This Row],[Currency]],tblXrate[],2,FALSE)","v":5787.5729234188348},"MIS Executive","Reporting","India",{"$f":"VLOOKUP(tblSalaries[[#This Row],[Where do you work]],tblCountries[[Actual]:[Mapping]],2,FALSE)","v":"India"},{"$f":"VLOOKUP(tblSalaries[[#This Row],[clean Country]]&\"*\",Cont_Table,2,0)","v":"Asia"},"All the 8 hours baby, all the 8!",4.5]
[null,"ID0677","2012-05-26T13:01:44",{"$f":"LEFT(tblSalaries[[#This Row],[Timestamp]],FIND(\".\",tblSalaries[[#This Row],[Timestamp]],1))","v":"41055."},105000,105000,"USD",{"$f":"tblSalaries[[#This Row],[clean Salary (in local currency)]]*VLOOKUP(tblSalaries[[#This Row],[Currency]],tblXrate[],2,FALSE)","v":105000},"Senior Consultant","Consultant","USA",{"$f":"VLOOKUP(tblSalaries[[#This Row],[Where do you work]],tblCountries[[Actual]:[Mapping]],2,FALSE)","v":"USA"},{"$f":"VLOOKUP(tblSalaries[[#This Row],[clean Country]]&\"*\",Cont_Table,2,0)","v":"North America"},"2 to 3 hours per day",15]
[null,"ID0678","2012-05-26T13:01:53",{"$f":"LEFT(tblSalaries[[#This Row],[Timestamp]],FIND(\".\",tblSalaries[[#This Row],[Timestamp]],1))","v":"41055."},"2.5lakh",250000,"INR",{"$f":"tblSalaries[[#This Row],[clean Salary (in local currency)]]*VLOOKUP(tblSalaries[[#This Row],[Currency]],tblXrate[],2,FALSE)","v":4451.9791718606421},"ASM","Manager","India",{"$f":"VLOOKUP(tblSalaries[[#This Row],[Where do you work]],tblCountries[[Actual]:[Mapping]],2,FALSE)","v":"India"},{"$f":"VLOOKUP(tblSalaries[[#This Row],[clean Country]]&\"*\",Cont_Table,2,0)","v":"Asia"},"2 to 3 hours per day",5]
[null,"ID0679","2012-05-26T13:02:50",{"$f":"LEFT(tblSalaries[[#This Row],[Timestamp]],FIND(\".\",tblSalaries[[#This Row],[Timestamp]],1))","v":"41055."},470000,470000,"INR",{"$f":"tblSalaries[[#This Row],[clean Salary (in local currency)]]*VLOOKUP(tblSalaries[[#This Row],[Currency]],tblXrate[],2,FALSE)","v":8369.7208430980063},"Consultant","Consultant","India",{"$f":"VLOOKUP(tblSalaries[[#This Row],[Where do you work]],tblCountries[[Actual]:[Mapping]],2,FALSE)","v":"India"},{"$f":"VLOOKUP(tblSalaries[[#This Row],[clean Country]]&\"*\",Cont_Table,2,0)","v":"Asia"},"All the 8 hours baby, all the 8!",4]
[null,"ID0680","2012-05-26T13:03:32",{"$f":"LEFT(tblSalaries[[#This Row],[Timestamp]],FIND(\".\",tblSalaries[[#This Row],[Timestamp]],1))","v":"41055."},720000,720000,"PHP",{"$f":"tblSalaries[[#This Row],[clean Salary (in local currency)]]*VLOOKUP(tblSalaries[[#This Row],[Currency]],tblXrate[],2,FALSE)","v":17067.637625607145},"System Manager","Manager","Philippines",{"$f":"VLOOKUP(tblSalaries[[#This Row],[Where do you work]],tblCountries[[Actual]:[Mapping]],2,FALSE)","v":"Philippines"},{"$f":"VLOOKUP(tblSalaries[[#This Row],[clean Country]]&\"*\",Cont_Table,2,0)","v":"Asia"},"4 to 6 hours a day",9]
[null,"ID0681","2012-05-26T13:03:58",{"$f":"LEFT(tblSalaries[[#This Row],[Timestamp]],FIND(\".\",tblSalaries[[#This Row],[Timestamp]],1))","v":"41055."},100000,100000,"AUD",{"$f":"tblSalaries[[#This Row],[clean Salary (in local currency)]]*VLOOKUP(tblSalaries[[#This Row],[Currency]],tblXrate[],2,FALSE)","v":101990.96564026357},"principal developer","Manager","Australia",{"$f":"VLOOKUP(tblSalaries[[#This Row],[Where do you work]],tblCountries[[Actual]:[Mapping]],2,FALSE)","v":"Australia"},{"$f":"VLOOKUP(tblSalaries[[#This Row],[clean Country]]&\"*\",Cont_Table,2,0)","v":"Australia"},"1 or 2 hours a day",20]
[null,"ID0682","2012-05-26T13:05:03",{"$f":"LEFT(tblSalaries[[#This Row],[Timestamp]],FIND(\".\",tblSalaries[[#This Row],[Timestamp]],1))","v":"41055."},"220000 in INR",220000,"INR",{"$f":"tblSalaries[[#This Row],[clean Salary (in local currency)]]*VLOOKUP(tblSalaries[[#This Row],[Currency]],tblXrate[],2,FALSE)","v":3917.7416712373652},"Accounts Payable Analyst","Analyst","India",{"$f":"VLOOKUP(tblSalaries[[#This Row],[Where do you work]],tblCountries[[Actual]:[Mapping]],2,FALSE)","v":"India"},{"$f":"VLOOKUP(tblSalaries[[#This Row],[clean Country]]&\"*\",Cont_Table,2,0)","v":"Asia"},"2 to 3 hours per day",3]
[null,"ID0683","2012-05-26T13:08:39",{"$f":"LEFT(tblSalaries[[#This Row],[Timestamp]],FIND(\".\",tblSalaries[[#This Row],[Timestamp]],1))","v":"41055."},52000,52000,"USD",{"$f":"tblSalaries[[#This Row],[clean Salary (in local currency)]]*VLOOKUP(tblSalaries[[#This Row],[Currency]],tblXrate[],2,FALSE)","v":52000},"Maint Sys Support Specialist","Specialist","USA",{"$f":"VLOOKUP(tblSalaries[[#This Row],[Where do you work]],tblCountries[[Actual]:[Mapping]],2,FALSE)","v":"USA"},{"$f":"VLOOKUP(tblSalaries[[#This Row],[clean Country]]&\"*\",Cont_Table,2,0)","v":"North America"},"4 to 6 hours a day",18]
[null,"ID0684","2012-05-26T13:11:01",{"$f":"LEFT(tblSalaries[[#This Row],[Timestamp]],FIND(\".\",tblSalaries[[#This Row],[Timestamp]],1))","v":"41055."},"Rs. 260000",260000,"INR",{"$f":"tblSalaries[[#This Row],[clean Salary (in local currency)]]*VLOOKUP(tblSalaries[[#This Row],[Currency]],tblXrate[],2,FALSE)","v":4630.058338735068},"Analyst","Analyst","India",{"$f":"VLOOKUP(tblSalaries[[#This Row],[Where do you work]],tblCountries[[Actual]:[Mapping]],2,FALSE)","v":"India"},{"$f":"VLOOKUP(tblSalaries[[#This Row],[clean Country]]&\"*\",Cont_Table,2,0)","v":"Asia"},"4 to 6 hours a day",2]
[null,"ID0685","2012-05-26T13:12:48",{"$f":"LEFT(tblSalaries[[#This Row],[Timestamp]],FIND(\".\",tblSalaries[[#This Row],[Timestamp]],1))","v":"41055."},"1,20,000 INR",120000,"INR",{"$f":"tblSalaries[[#This Row],[clean Salary (in local currency)]]*VLOOKUP(tblSalaries[[#This Row],[Currency]],tblXrate[],2,FALSE)","v":2136.9500024931081},"Data Analyst","Analyst","India",{"$f":"VLOOKUP(tblSalaries[[#This Row],[Where do you work]],tblCountries[[Actual]:[Mapping]],2,FALSE)","v":"India"},{"$f":"VLOOKUP(tblSalaries[[#This Row],[clean Country]]&\"*\",Cont_Table,2,0)","v":"Asia"},"2 to 3 hours per day",3]
[null,"ID0686","2012-05-26T13:16:21",{"$f":"LEFT(tblSalaries[[#This Row],[Timestamp]],FIND(\".\",tblSalaries[[#This Row],[Timestamp]],1))","v":"41055."},13000,13000,"USD",{"$f":"tblSalaries[[#This Row],[clean Salary (in local currency)]]*VLOOKUP(tblSalaries[[#This Row],[Currency]],tblXrate[],2,FALSE)","v":13000},"Analyst","Analyst","India",{"$f":"VLOOKUP(tblSalaries[[#This Row],[Where do you work]],tblCountries[[Actual]:[Mapping]],2,FALSE)","v":"India"},{"$f":"VLOOKUP(tblSalaries[[#This Row],[clean Country]]&\"*\",Cont_Table,2,0)","v":"Asia"},"1 or 2 hours a day",4]
[null,"ID0687","2012-05-26T13:17:36",{"$f":"LEFT(tblSalaries[[#This Row],[Timestamp]],FIND(\".\",tblSalaries[[#This Row],[Timestamp]],1))","v":"41055."},"Rs. 144000",144000,"INR",{"$f":"tblSalaries[[#This Row],[clean Salary (in local currency)]]*VLOOKUP(tblSalaries[[#This Row],[Currency]],tblXrate[],2,FALSE)","v":2564.3400029917298},"Team Leader","Manager","India",{"$f":"VLOOKUP(tblSalaries[[#This Row],[Where do you work]],tblCountries[[Actual]:[Mapping]],2,FALSE)","v":"India"},{"$f":"VLOOKUP(tblSalaries[[#This Row],[clean Country]]&\"*\",Cont_Table,2,0)","v":"Asia"},"2 to 3 hours per day",7]
[null,"ID0688","2012-05-26T13:18:03",{"$f":"LEFT(tblSalaries[[#This Row],[Timestamp]],FIND(\".\",tblSalaries[[#This Row],[Timestamp]],1))","v":"41055."},"inr 11.5",1150000,"INR",{"$f":"tblSalaries[[#This Row],[clean Salary (in local currency)]]*VLOOKUP(tblSalaries[[#This Row],[Currency]],tblXrate[],2,FALSE)","v":20479.104190558952},"manager portfolio monitoring","Manager","India",{"$f":"VLOOKUP(tblSalaries[[#This Row],[Where do you work]],tblCountries[[Actual]:[Mapping]],2,FALSE)","v":"India"},{"$f":"VLOOKUP(tblSalaries[[#This Row],[clean Country]]&\"*\",Cont_Table,2,0)","v":"Asia"},"2 to 3 hours per day",7]
[null,"ID0689","2012-05-26T13:18:32",{"$f":"LEFT(tblSalaries[[#This Row],[Timestamp]],FIND(\".\",tblSalaries[[#This Row],[Timestamp]],1))","v":"41055."},"33,500 US $",33500,"USD",{"$f":"tblSalaries[[#This Row],[clean Salary (in local currency)]]*VLOOKUP(tblSalaries[[#This Row],[Currency]],tblXrate[],2,FALSE)","v":33500},"Sr. Executive Finance & Accounts","Accountant","Dubai",{"$f":"VLOOKUP(tblSalaries[[#This Row],[Where do you work]],tblCountries[[Actual]:[Mapping]],2,FALSE)","v":"Dubai"},{"$f":"VLOOKUP(tblSalaries[[#This Row],[clean Country]]&\"*\",Cont_Table,2,0)","v":"Asia"},"1 or 2 hours a day",10]
[null,"ID0690","2012-05-26T13:19:42",{"$f":"LEFT(tblSalaries[[#This Row],[Timestamp]],FIND(\".\",tblSalaries[[#This Row],[Timestamp]],1))","v":"41055."},50000,50000,"USD",{"$f":"tblSalaries[[#This Row],[clean Salary (in local currency)]]*VLOOKUP(tblSalaries[[#This Row],[Currency]],tblXrate[],2,FALSE)","v":50000},"AREA SALES MANAGER","Manager","India",{"$f":"VLOOKUP(tblSalaries[[#This Row],[Where do you work]],tblCountries[[Actual]:[Mapping]],2,FALSE)","v":"India"},{"$f":"VLOOKUP(tblSalaries[[#This Row],[clean Country]]&\"*\",Cont_Table,2,0)","v":"Asia"},"2 to 3 hours per day",20]
[null,"ID0691","2012-05-26T13:22:43",{"$f":"LEFT(tblSalaries[[#This Row],[Timestamp]],FIND(\".\",tblSalaries[[#This Row],[Timestamp]],1))","v":"41055."},300000,300000,"INR",{"$f":"tblSalaries[[#This Row],[clean Salary (in local currency)]]*VLOOKUP(tblSalaries[[#This Row],[Currency]],tblXrate[],2,FALSE)","v":5342.3750062327708},"govt","Manager","India",{"$f":"VLOOKUP(tblSalaries[[#This Row],[Where do you work]],tblCountries[[Actual]:[Mapping]],2,FALSE)","v":"India"},{"$f":"VLOOKUP(tblSalaries[[#This Row],[clean Country]]&\"*\",Cont_Table,2,0)","v":"Asia"},"2 to 3 hours per day",3]
[null,"ID0692","2012-05-26T13:24:05",{"$f":"LEFT(tblSalaries[[#This Row],[Timestamp]],FIND(\".\",tblSalaries[[#This Row],[Timestamp]],1))","v":"41055."},"4500 rs. per month",648000,"INR",{"$f":"tblSalaries[[#This Row],[clean Salary (in local currency)]]*VLOOKUP(tblSalaries[[#This Row],[Currency]],tblXrate[],2,FALSE)","v":11539.530013462785},"COMPUTER OPERATOR","Analyst","India",{"$f":"VLOOKUP(tblSalaries[[#This Row],[Where do you work]],tblCountries[[Actual]:[Mapping]],2,FALSE)","v":"India"},{"$f":"VLOOKUP(tblSalaries[[#This Row],[clean Country]]&\"*\",Cont_Table,2,0)","v":"Asia"},"All the 8 hours baby, all the 8!",2]
[null,"ID0693","2012-05-26T13:24:14",{"$f":"LEFT(tblSalaries[[#This Row],[Timestamp]],FIND(\".\",tblSalaries[[#This Row],[Timestamp]],1))","v":"41055."},7000,7000,"USD",{"$f":"tblSalaries[[#This Row],[clean Salary (in local currency)]]*VLOOKUP(tblSalaries[[#This Row],[Currency]],tblXrate[],2,FALSE)","v":7000},"Business Executive","Manager","India",{"$f":"VLOOKUP(tblSalaries[[#This Row],[Where do you work]],tblCountries[[Actual]:[Mapping]],2,FALSE)","v":"India"},{"$f":"VLOOKUP(tblSalaries[[#This Row],[clean Country]]&\"*\",Cont_Table,2,0)","v":"Asia"},"4 to 6 hours a day",23]
[null,"ID0694","2012-05-26T13:24:36",{"$f":"LEFT(tblSalaries[[#This Row],[Timestamp]],FIND(\".\",tblSalaries[[#This Row],[Timestamp]],1))","v":"41055."},380000,380000,"INR",{"$f":"tblSalaries[[#This Row],[clean Salary (in local currency)]]*VLOOKUP(tblSalaries[[#This Row],[Currency]],tblXrate[],2,FALSE)","v":6767.0083412281756},"Team Lead Mis","Reporting","India",{"$f":"VLOOKUP(tblSalaries[[#This Row],[Where do you work]],tblCountries[[Actual]:[Mapping]],2,FALSE)","v":"India"},{"$f":"VLOOKUP(tblSalaries[[#This Row],[clean Country]]&\"*\",Cont_Table,2,0)","v":"Asia"},"2 to 3 hours per day",6]
[null,"ID0695","2012-05-26T13:29:12",{"$f":"LEFT(tblSalaries[[#This Row],[Timestamp]],FIND(\".\",tblSalaries[[#This Row],[Timestamp]],1))","v":"41055."},"3000 $",3000,"USD",{"$f":"tblSalaries[[#This Row],[clean Salary (in local currency)]]*VLOOKUP(tblSalaries[[#This Row],[Currency]],tblXrate[],2,FALSE)","v":3000},"Call Centre Consultant","Consultant","Cambodia",{"$f":"VLOOKUP(tblSalaries[[#This Row],[Where do you work]],tblCountries[[Actual]:[Mapping]],2,FALSE)","v":"Cambodia"},{"$f":"VLOOKUP(tblSalaries[[#This Row],[clean Country]]&\"*\",Cont_Table,2,0)","v":"Asia"},"2 to 3 hours per day",2]
[null,"ID0696","2012-05-26T13:29:35",{"$f":"LEFT(tblSalaries[[#This Row],[Timestamp]],FIND(\".\",tblSalaries[[#This Row],[Timestamp]],1))","v":"41055."},"250000 rupees",250000,"INR",{"$f":"tblSalaries[[#This Row],[clean Salary (in local currency)]]*VLOOKUP(tblSalaries[[#This Row],[Currency]],tblXrate[],2,FALSE)","v":4451.9791718606421},"MIS executive","Reporting","India",{"$f":"VLOOKUP(tblSalaries[[#This Row],[Where do you work]],tblCountries[[Actual]:[Mapping]],2,FALSE)","v":"India"},{"$f":"VLOOKUP(tblSalaries[[#This Row],[clean Country]]&\"*\",Cont_Table,2,0)","v":"Asia"},"All the 8 hours baby, all the 8!",4]
[null,"ID0697","2012-05-26T13:31:20",{"$f":"LEFT(tblSalaries[[#This Row],[Timestamp]],FIND(\".\",tblSalaries[[#This Row],[Timestamp]],1))","v":"41055."},"Rs. 150000",150000,"INR",{"$f":"tblSalaries[[#This Row],[clean Salary (in local currency)]]*VLOOKUP(tblSalaries[[#This Row],[Currency]],tblXrate[],2,FALSE)","v":2671.1875031163854},"Oprations head","CXO or Top Mgmt.","India",{"$f":"VLOOKUP(tblSalaries[[#This Row],[Where do you work]],tblCountries[[Actual]:[Mapping]],2,FALSE)","v":"India"},{"$f":"VLOOKUP(tblSalaries[[#This Row],[clean Country]]&\"*\",Cont_Table,2,0)","v":"Asia"},"4 to 6 hours a day",4.5]
[null,"ID0698","2012-05-26T13:37:50",{"$f":"LEFT(tblSalaries[[#This Row],[Timestamp]],FIND(\".\",tblSalaries[[#This Row],[Timestamp]],1))","v":"41055."},278400,278400,"INR",{"$f":"tblSalaries[[#This Row],[clean Salary (in local currency)]]*VLOOKUP(tblSalaries[[#This Row],[Currency]],tblXrate[],2,FALSE)","v":4957.7240057840108},"Asst. Manager","Manager","India",{"$f":"VLOOKUP(tblSalaries[[#This Row],[Where do you work]],tblCountries[[Actual]:[Mapping]],2,FALSE)","v":"India"},{"$f":"VLOOKUP(tblSalaries[[#This Row],[clean Country]]&\"*\",Cont_Table,2,0)","v":"Asia"},"4 to 6 hours a day",5]
[null,"ID0699","2012-05-26T13:42:21",{"$f":"LEFT(tblSalaries[[#This Row],[Timestamp]],FIND(\".\",tblSalaries[[#This Row],[Timestamp]],1))","v":"41055."},180000,180000,"INR",{"$f":"tblSalaries[[#This Row],[clean Salary (in local currency)]]*VLOOKUP(tblSalaries[[#This Row],[Currency]],tblXrate[],2,FALSE)","v":3205.4250037396623},"accounts","Accountant","India",{"$f":"VLOOKUP(tblSalaries[[#This Row],[Where do you work]],tblCountries[[Actual]:[Mapping]],2,FALSE)","v":"India"},{"$f":"VLOOKUP(tblSalaries[[#This Row],[clean Country]]&\"*\",Cont_Table,2,0)","v":"Asia"},"2 to 3 hours per day",14]
[null,"ID0700","2012-05-26T13:42:58",{"$f":"LEFT(tblSalaries[[#This Row],[Timestamp]],FIND(\".\",tblSalaries[[#This Row],[Timestamp]],1))","v":"41055."},800000,800000,"INR",{"$f":"tblSalaries[[#This Row],[clean Salary (in local currency)]]*VLOOKUP(tblSalaries[[#This Row],[Currency]],tblXrate[],2,FALSE)","v":14246.333349954055},"Manager","Manager","India",{"$f":"VLOOKUP(tblSalaries[[#This Row],[Where do you work]],tblCountries[[Actual]:[Mapping]],2,FALSE)","v":"India"},{"$f":"VLOOKUP(tblSalaries[[#This Row],[clean Country]]&\"*\",Cont_Table,2,0)","v":"Asia"},"4 to 6 hours a day",7]
[null,"ID0701","2012-05-26T13:44:53",{"$f":"LEFT(tblSalaries[[#This Row],[Timestamp]],FIND(\".\",tblSalaries[[#This Row],[Timestamp]],1))","v":"41055."},"25000 rupess",300000,"INR",{"$f":"tblSalaries[[#This Row],[clean Salary (in local currency)]]*VLOOKUP(tblSalaries[[#This Row],[Currency]],tblXrate[],2,FALSE)","v":5342.3750062327708},"Analyst","Analyst","India",{"$f":"VLOOKUP(tblSalaries[[#This Row],[Where do you work]],tblCountries[[Actual]:[Mapping]],2,FALSE)","v":"India"},{"$f":"VLOOKUP(tblSalaries[[#This Row],[clean Country]]&\"*\",Cont_Table,2,0)","v":"Asia"},"All the 8 hours baby, all the 8!",7]
[null,"ID0702","2012-05-26T13:46:52",{"$f":"LEFT(tblSalaries[[#This Row],[Timestamp]],FIND(\".\",tblSalaries[[#This Row],[Timestamp]],1))","v":"41055."},"370000 inr",370000,"INR",{"$f":"tblSalaries[[#This Row],[clean Salary (in local currency)]]*VLOOKUP(tblSalaries[[#This Row],[Currency]],tblXrate[],2,FALSE)","v":6588.9291743537506},"Operations Analyst","Analyst","India",{"$f":"VLOOKUP(tblSalaries[[#This Row],[Where do you work]],tblCountries[[Actual]:[Mapping]],2,FALSE)","v":"India"},{"$f":"VLOOKUP(tblSalaries[[#This Row],[clean Country]]&\"*\",Cont_Table,2,0)","v":"Asia"},"All the 8 hours baby, all the 8!",2]
[null,"ID0703","2012-05-26T13:47:06",{"$f":"LEFT(tblSalaries[[#This Row],[Timestamp]],FIND(\".\",tblSalaries[[#This Row],[Timestamp]],1))","v":"41055."},"370000 inr",370000,"INR",{"$f":"tblSalaries[[#This Row],[clean Salary (in local currency)]]*VLOOKUP(tblSalaries[[#This Row],[Currency]],tblXrate[],2,FALSE)","v":6588.9291743537506},"Operations Analyst","Analyst","India",{"$f":"VLOOKUP(tblSalaries[[#This Row],[Where do you work]],tblCountries[[Actual]:[Mapping]],2,FALSE)","v":"India"},{"$f":"VLOOKUP(tblSalaries[[#This Row],[clean Country]]&\"*\",Cont_Table,2,0)","v":"Asia"},"All the 8 hours baby, all the 8!",2]
[null,"ID0704","2012-05-26T13:49:54",{"$f":"LEFT(tblSalaries[[#This Row],[Timestamp]],FIND(\".\",tblSalaries[[#This Row],[Timestamp]],1))","v":"41055."},35000,35000,"USD",{"$f":"tblSalaries[[#This Row],[clean Salary (in local currency)]]*VLOOKUP(tblSalaries[[#This Row],[Currency]],tblXrate[],2,FALSE)","v":35000},"IT Specialist","Specialist","USA",{"$f":"VLOOKUP(tblSalaries[[#This Row],[Where do you work]],tblCountries[[Actual]:[Mapping]],2,FALSE)","v":"USA"},{"$f":"VLOOKUP(tblSalaries[[#This Row],[clean Country]]&\"*\",Cont_Table,2,0)","v":"North America"},"4 to 6 hours a day",10]
[null,"ID0705","2012-05-26T13:57:11",{"$f":"LEFT(tblSalaries[[#This Row],[Timestamp]],FIND(\".\",tblSalaries[[#This Row],[Timestamp]],1))","v":"41055."},720000,720000,"INR",{"$f":"tblSalaries[[#This Row],[clean Salary (in local currency)]]*VLOOKUP(tblSalaries[[#This Row],[Currency]],tblXrate[],2,FALSE)","v":12821.700014958649},"Cost Accountant","Accountant","India",{"$f":"VLOOKUP(tblSalaries[[#This Row],[Where do you work]],tblCountries[[Actual]:[Mapping]],2,FALSE)","v":"India"},{"$f":"VLOOKUP(tblSalaries[[#This Row],[clean Country]]&\"*\",Cont_Table,2,0)","v":"Asia"},"4 to 6 hours a day",4]
[null,"ID0706","2012-05-26T14:01:00",{"$f":"LEFT(tblSalaries[[#This Row],[Timestamp]],FIND(\".\",tblSalaries[[#This Row],[Timestamp]],1))","v":"41055."},600000,600000,"INR",{"$f":"tblSalaries[[#This Row],[clean Salary (in local currency)]]*VLOOKUP(tblSalaries[[#This Row],[Currency]],tblXrate[],2,FALSE)","v":10684.750012465542},"senior executive","Manager","India",{"$f":"VLOOKUP(tblSalaries[[#This Row],[Where do you work]],tblCountries[[Actual]:[Mapping]],2,FALSE)","v":"India"},{"$f":"VLOOKUP(tblSalaries[[#This Row],[clean Country]]&\"*\",Cont_Table,2,0)","v":"Asia"},"1 or 2 hours a day",2]
[null,"ID0707","2012-05-26T14:01:09",{"$f":"LEFT(tblSalaries[[#This Row],[Timestamp]],FIND(\".\",tblSalaries[[#This Row],[Timestamp]],1))","v":"41055."},10000,10000,"USD",{"$f":"tblSalaries[[#This Row],[clean Salary (in local currency)]]*VLOOKUP(tblSalaries[[#This Row],[Currency]],tblXrate[],2,FALSE)","v":10000},"Executive","Manager","India",{"$f":"VLOOKUP(tblSalaries[[#This Row],[Where do you work]],tblCountries[[Actual]:[Mapping]],2,FALSE)","v":"India"},{"$f":"VLOOKUP(tblSalaries[[#This Row],[clean Country]]&\"*\",Cont_Table,2,0)","v":"Asia"},"4 to 6 hours a day",2]
[null,"ID0708","2012-05-26T14:04:35",{"$f":"LEFT(tblSalaries[[#This Row],[Timestamp]],FIND(\".\",tblSalaries[[#This Row],[Timestamp]],1))","v":"41055."},"Rs 10000",120000,"INR",{"$f":"tblSalaries[[#This Row],[clean Salary (in local currency)]]*VLOOKUP(tblSalaries[[#This Row],[Currency]],tblXrate[],2,FALSE)","v":2136.9500024931081},"Intern","Analyst","India",{"$f":"VLOOKUP(tblSalaries[[#This Row],[Where do you work]],tblCountries[[Actual]:[Mapping]],2,FALSE)","v":"India"},{"$f":"VLOOKUP(tblSalaries[[#This Row],[clean Country]]&\"*\",Cont_Table,2,0)","v":"Asia"},"1 or 2 hours a day",0]
[null,"ID0709","2012-05-26T14:10:51",{"$f":"LEFT(tblSalaries[[#This Row],[Timestamp]],FIND(\".\",tblSalaries[[#This Row],[Timestamp]],1))","v":"41055."},"4,80,000 Ruppes",480000,"INR",{"$f":"tblSalaries[[#This Row],[clean Salary (in local currency)]]*VLOOKUP(tblSalaries[[#This Row],[Currency]],tblXrate[],2,FALSE)","v":8547.8000099724322},"Business Analyst","Analyst","India",{"$f":"VLOOKUP(tblSalaries[[#This Row],[Where do you work]],tblCountries[[Actual]:[Mapping]],2,FALSE)","v":"India"},{"$f":"VLOOKUP(tblSalaries[[#This Row],[clean Country]]&\"*\",Cont_Table,2,0)","v":"Asia"},"4 to 6 hours a day",4]
[null,"ID0710","2012-05-26T14:11:52",{"$f":"LEFT(tblSalaries[[#This Row],[Timestamp]],FIND(\".\",tblSalaries[[#This Row],[Timestamp]],1))","v":"41055."},"Re. 4.5 Lacs Per Annum",450000,"INR",{"$f":"tblSalaries[[#This Row],[clean Salary (in local currency)]]*VLOOKUP(tblSalaries[[#This Row],[Currency]],tblXrate[],2,FALSE)","v":8013.5625093491553},"Data Analyst","Analyst","India",{"$f":"VLOOKUP(tblSalaries[[#This Row],[Where do you work]],tblCountries[[Actual]:[Mapping]],2,FALSE)","v":"India"},{"$f":"VLOOKUP(tblSalaries[[#This Row],[clean Country]]&\"*\",Cont_Table,2,0)","v":"Asia"},"All the 8 hours baby, all the 8!",8]
[null,"ID0711","2012-05-26T14:14:35",{"$f":"LEFT(tblSalaries[[#This Row],[Timestamp]],FIND(\".\",tblSalaries[[#This Row],[Timestamp]],1))","v":"41055."},400000,400000,"INR",{"$f":"tblSalaries[[#This Row],[clean Salary (in local currency)]]*VLOOKUP(tblSalaries[[#This Row],[Currency]],tblXrate[],2,FALSE)","v":7123.1666749770275},"Consultant","Consultant","India",{"$f":"VLOOKUP(tblSalaries[[#This Row],[Where do you work]],tblCountries[[Actual]:[Mapping]],2,FALSE)","v":"India"},{"$f":"VLOOKUP(tblSalaries[[#This Row],[clean Country]]&\"*\",Cont_Table,2,0)","v":"Asia"},"4 to 6 hours a day",0]
[null,"ID0712","2012-05-26T14:16:14",{"$f":"LEFT(tblSalaries[[#This Row],[Timestamp]],FIND(\".\",tblSalaries[[#This Row],[Timestamp]],1))","v":"41055."},"inr 2300000",2300000,"INR",{"$f":"tblSalaries[[#This Row],[clean Salary (in local currency)]]*VLOOKUP(tblSalaries[[#This Row],[Currency]],tblXrate[],2,FALSE)","v":40958.208381117904},"analyst","Analyst","India",{"$f":"VLOOKUP(tblSalaries[[#This Row],[Where do you work]],tblCountries[[Actual]:[Mapping]],2,FALSE)","v":"India"},{"$f":"VLOOKUP(tblSalaries[[#This Row],[clean Country]]&\"*\",Cont_Table,2,0)","v":"Asia"},"All the 8 hours baby, all the 8!",5]
[null,"ID0713","2012-05-26T14:18:11",{"$f":"LEFT(tblSalaries[[#This Row],[Timestamp]],FIND(\".\",tblSalaries[[#This Row],[Timestamp]],1))","v":"41055."},636000,636000,"INR",{"$f":"tblSalaries[[#This Row],[clean Salary (in local currency)]]*VLOOKUP(tblSalaries[[#This Row],[Currency]],tblXrate[],2,FALSE)","v":11325.835013213473},"Audit Manager","Manager","India",{"$f":"VLOOKUP(tblSalaries[[#This Row],[Where do you work]],tblCountries[[Actual]:[Mapping]],2,FALSE)","v":"India"},{"$f":"VLOOKUP(tblSalaries[[#This Row],[clean Country]]&\"*\",Cont_Table,2,0)","v":"Asia"},"4 to 6 hours a day",2]
[null,"ID0714","2012-05-26T14:20:23",{"$f":"LEFT(tblSalaries[[#This Row],[Timestamp]],FIND(\".\",tblSalaries[[#This Row],[Timestamp]],1))","v":"41055."},"15000 USD",15000,"USD",{"$f":"tblSalaries[[#This Row],[clean Salary (in local currency)]]*VLOOKUP(tblSalaries[[#This Row],[Currency]],tblXrate[],2,FALSE)","v":15000},"Audit - senior assistant","Accountant","Lithuania",{"$f":"VLOOKUP(tblSalaries[[#This Row],[Where do you work]],tblCountries[[Actual]:[Mapping]],2,FALSE)","v":"Lithuania"},{"$f":"VLOOKUP(tblSalaries[[#This Row],[clean Country]]&\"*\",Cont_Table,2,0)","v":"Europe"},"4 to 6 hours a day",2]
[null,"ID0715","2012-05-26T14:22:05",{"$f":"LEFT(tblSalaries[[#This Row],[Timestamp]],FIND(\".\",tblSalaries[[#This Row],[Timestamp]],1))","v":"41055."},1000,12000,"USD",{"$f":"tblSalaries[[#This Row],[clean Salary (in local currency)]]*VLOOKUP(tblSalaries[[#This Row],[Currency]],tblXrate[],2,FALSE)","v":12000},"tech operator (oil)","Analyst","uae",{"$f":"VLOOKUP(tblSalaries[[#This Row],[Where do you work]],tblCountries[[Actual]:[Mapping]],2,FALSE)","v":"UAE"},{"$f":"VLOOKUP(tblSalaries[[#This Row],[clean Country]]&\"*\",Cont_Table,2,0)","v":"Asia"},"4 to 6 hours a day",12]
[null,"ID0716","2012-05-26T14:23:48",{"$f":"LEFT(tblSalaries[[#This Row],[Timestamp]],FIND(\".\",tblSalaries[[#This Row],[Timestamp]],1))","v":"41055."},500000,500000,"INR",{"$f":"tblSalaries[[#This Row],[clean Salary (in local currency)]]*VLOOKUP(tblSalaries[[#This Row],[Currency]],tblXrate[],2,FALSE)","v":8903.9583437212841},"mis ","Reporting","India",{"$f":"VLOOKUP(tblSalaries[[#This Row],[Where do you work]],tblCountries[[Actual]:[Mapping]],2,FALSE)","v":"India"},{"$f":"VLOOKUP(tblSalaries[[#This Row],[clean Country]]&\"*\",Cont_Table,2,0)","v":"Asia"},"2 to 3 hours per day",1]
[null,"ID0717","2012-05-26T14:33:11",{"$f":"LEFT(tblSalaries[[#This Row],[Timestamp]],FIND(\".\",tblSalaries[[#This Row],[Timestamp]],1))","v":"41055."},500000,500000,"INR",{"$f":"tblSalaries[[#This Row],[clean Salary (in local currency)]]*VLOOKUP(tblSalaries[[#This Row],[Currency]],tblXrate[],2,FALSE)","v":8903.9583437212841},"Engineer","Engineer","India",{"$f":"VLOOKUP(tblSalaries[[#This Row],[Where do you work]],tblCountries[[Actual]:[Mapping]],2,FALSE)","v":"India"},{"$f":"VLOOKUP(tblSalaries[[#This Row],[clean Country]]&\"*\",Cont_Table,2,0)","v":"Asia"},"All the 8 hours baby, all the 8!",2]
[null,"ID0718","2012-05-26T14:35:48",{"$f":"LEFT(tblSalaries[[#This Row],[Timestamp]],FIND(\".\",tblSalaries[[#This Row],[Timestamp]],1))","v":"41055."},"Inr 60000",720000,"INR",{"$f":"tblSalaries[[#This Row],[clean Salary (in local currency)]]*VLOOKUP(tblSalaries[[#This Row],[Currency]],tblXrate[],2,FALSE)","v":12821.700014958649},"Asstt manager","Manager","India",{"$f":"VLOOKUP(tblSalaries[[#This Row],[Where do you work]],tblCountries[[Actual]:[Mapping]],2,FALSE)","v":"India"},{"$f":"VLOOKUP(tblSalaries[[#This Row],[clean Country]]&\"*\",Cont_Table,2,0)","v":"Asia"},"All the 8 hours baby, all the 8!",10]
[null,"ID0719","2012-05-26T14:41:00",{"$f":"LEFT(tblSalaries[[#This Row],[Timestamp]],FIND(\".\",tblSalaries[[#This Row],[Timestamp]],1))","v":"41055."},"Rs 15000",180000,"INR",{"$f":"tblSalaries[[#This Row],[clean Salary (in local currency)]]*VLOOKUP(tblSalaries[[#This Row],[Currency]],tblXrate[],2,FALSE)","v":3205.4250037396623},"Import & Export Documentation Executive","Manager","India",{"$f":"VLOOKUP(tblSalaries[[#This Row],[Where do you work]],tblCountries[[Actual]:[Mapping]],2,FALSE)","v":"India"},{"$f":"VLOOKUP(tblSalaries[[#This Row],[clean Country]]&\"*\",Cont_Table,2,0)","v":"Asia"},"All the 8 hours baby, all the 8!",7]
[null,"ID0720","2012-05-26T14:46:55",{"$f":"LEFT(tblSalaries[[#This Row],[Timestamp]],FIND(\".\",tblSalaries[[#This Row],[Timestamp]],1))","v":"41055."},375000,375000,"INR",{"$f":"tblSalaries[[#This Row],[clean Salary (in local currency)]]*VLOOKUP(tblSalaries[[#This Row],[Currency]],tblXrate[],2,FALSE)","v":6677.9687577909626},"Team Lead","Manager","India",{"$f":"VLOOKUP(tblSalaries[[#This Row],[Where do you work]],tblCountries[[Actual]:[Mapping]],2,FALSE)","v":"India"},{"$f":"VLOOKUP(tblSalaries[[#This Row],[clean Country]]&\"*\",Cont_Table,2,0)","v":"Asia"},"2 to 3 hours per day",6]
[null,"ID0721","2012-05-26T14:51:02",{"$f":"LEFT(tblSalaries[[#This Row],[Timestamp]],FIND(\".\",tblSalaries[[#This Row],[Timestamp]],1))","v":"41055."},85000,85000,"NZD",{"$f":"tblSalaries[[#This Row],[clean Salary (in local currency)]]*VLOOKUP(tblSalaries[[#This Row],[Currency]],tblXrate[],2,FALSE)","v":67794.987956419791},"Systems Manager","Manager","New Zealand",{"$f":"VLOOKUP(tblSalaries[[#This Row],[Where do you work]],tblCountries[[Actual]:[Mapping]],2,FALSE)","v":"New Zealand"},{"$f":"VLOOKUP(tblSalaries[[#This Row],[clean Country]]&\"*\",Cont_Table,2,0)","v":"Australia"},"4 to 6 hours a day",15]
[null,"ID0722","2012-05-26T14:57:39",{"$f":"LEFT(tblSalaries[[#This Row],[Timestamp]],FIND(\".\",tblSalaries[[#This Row],[Timestamp]],1))","v":"41055."},31250,31250,"USD",{"$f":"tblSalaries[[#This Row],[clean Salary (in local currency)]]*VLOOKUP(tblSalaries[[#This Row],[Currency]],tblXrate[],2,FALSE)","v":31250},"Program management","Manager","India",{"$f":"VLOOKUP(tblSalaries[[#This Row],[Where do you work]],tblCountries[[Actual]:[Mapping]],2,FALSE)","v":"India"},{"$f":"VLOOKUP(tblSalaries[[#This Row],[clean Country]]&\"*\",Cont_Table,2,0)","v":"Asia"},"2 to 3 hours per day",6]
[null,"ID0723","2012-05-26T14:57:45",{"$f":"LEFT(tblSalaries[[#This Row],[Timestamp]],FIND(\".\",tblSalaries[[#This Row],[Timestamp]],1))","v":"41055."},"PKR 17000",204000,"PKR",{"$f":"tblSalaries[[#This Row],[clean Salary (in local currency)]]*VLOOKUP(tblSalaries[[#This Row],[Currency]],tblXrate[],2,FALSE)","v":2165.2740982270229},"Accounts Manager","Manager","Pakistan",{"$f":"VLOOKUP(tblSalaries[[#This Row],[Where do you work]],tblCountries[[Actual]:[Mapping]],2,FALSE)","v":"Pakistan"},{"$f":"VLOOKUP(tblSalaries[[#This Row],[clean Country]]&\"*\",Cont_Table,2,0)","v":"Asia"},"All the 8 hours baby, all the 8!",2]
[null,"ID0724","2012-05-26T14:58:24",{"$f":"LEFT(tblSalaries[[#This Row],[Timestamp]],FIND(\".\",tblSalaries[[#This Row],[Timestamp]],1))","v":"41055."},"Rs.4lk ",400000,"INR",{"$f":"tblSalaries[[#This Row],[clean Salary (in local currency)]]*VLOOKUP(tblSalaries[[#This Row],[Currency]],tblXrate[],2,FALSE)","v":7123.1666749770275},"sr. mis executive","Reporting","India",{"$f":"VLOOKUP(tblSalaries[[#This Row],[Where do you work]],tblCountries[[Actual]:[Mapping]],2,FALSE)","v":"India"},{"$f":"VLOOKUP(tblSalaries[[#This Row],[clean Country]]&\"*\",Cont_Table,2,0)","v":"Asia"},"All the 8 hours baby, all the 8!",4]
[null,"ID0725","2012-05-26T15:01:00",{"$f":"LEFT(tblSalaries[[#This Row],[Timestamp]],FIND(\".\",tblSalaries[[#This Row],[Timestamp]],1))","v":"41055."},"USD130000",130000,"USD",{"$f":"tblSalaries[[#This Row],[clean Salary (in local currency)]]*VLOOKUP(tblSalaries[[#This Row],[Currency]],tblXrate[],2,FALSE)","v":130000},"Modeller","Manager","Australia",{"$f":"VLOOKUP(tblSalaries[[#This Row],[Where do you work]],tblCountries[[Actual]:[Mapping]],2,FALSE)","v":"Australia"},{"$f":"VLOOKUP(tblSalaries[[#This Row],[clean Country]]&\"*\",Cont_Table,2,0)","v":"Australia"},"4 to 6 hours a day",3]
[null,"ID0726","2012-05-26T15:01:41",{"$f":"LEFT(tblSalaries[[#This Row],[Timestamp]],FIND(\".\",tblSalaries[[#This Row],[Timestamp]],1))","v":"41055."},"Rs. 250000",250000,"INR",{"$f":"tblSalaries[[#This Row],[clean Salary (in local currency)]]*VLOOKUP(tblSalaries[[#This Row],[Currency]],tblXrate[],2,FALSE)","v":4451.9791718606421},"Asst. Manager","Manager","India",{"$f":"VLOOKUP(tblSalaries[[#This Row],[Where do you work]],tblCountries[[Actual]:[Mapping]],2,FALSE)","v":"India"},{"$f":"VLOOKUP(tblSalaries[[#This Row],[clean Country]]&\"*\",Cont_Table,2,0)","v":"Asia"},"4 to 6 hours a day",6]
[null,"ID0727","2012-05-26T15:02:34",{"$f":"LEFT(tblSalaries[[#This Row],[Timestamp]],FIND(\".\",tblSalaries[[#This Row],[Timestamp]],1))","v":"41055."},800,9600,"USD",{"$f":"tblSalaries[[#This Row],[clean Salary (in local currency)]]*VLOOKUP(tblSalaries[[#This Row],[Currency]],tblXrate[],2,FALSE)","v":9600},"Admin","Analyst","South Africa",{"$f":"VLOOKUP(tblSalaries[[#This Row],[Where do you work]],tblCountries[[Actual]:[Mapping]],2,FALSE)","v":"South Africa"},{"$f":"VLOOKUP(tblSalaries[[#This Row],[clean Country]]&\"*\",Cont_Table,2,0)","v":"Africa"},"4 to 6 hours a day",2]
[null,"ID0728","2012-05-26T15:04:33",{"$f":"LEFT(tblSalaries[[#This Row],[Timestamp]],FIND(\".\",tblSalaries[[#This Row],[Timestamp]],1))","v":"41055."},"INR 390000 PA",390000,"INR",{"$f":"tblSalaries[[#This Row],[clean Salary (in local currency)]]*VLOOKUP(tblSalaries[[#This Row],[Currency]],tblXrate[],2,FALSE)","v":6945.0875081026015},"Business Analyst","Analyst","India",{"$f":"VLOOKUP(tblSalaries[[#This Row],[Where do you work]],tblCountries[[Actual]:[Mapping]],2,FALSE)","v":"India"},{"$f":"VLOOKUP(tblSalaries[[#This Row],[clean Country]]&\"*\",Cont_Table,2,0)","v":"Asia"},"4 to 6 hours a day",1]
[null,"ID0729","2012-05-26T15:05:42",{"$f":"LEFT(tblSalaries[[#This Row],[Timestamp]],FIND(\".\",tblSalaries[[#This Row],[Timestamp]],1))","v":"41055."},600000,600000,"INR",{"$f":"tblSalaries[[#This Row],[clean Salary (in local currency)]]*VLOOKUP(tblSalaries[[#This Row],[Currency]],tblXrate[],2,FALSE)","v":10684.750012465542},"Sr Financial Execative","Accountant","India",{"$f":"VLOOKUP(tblSalaries[[#This Row],[Where do you work]],tblCountries[[Actual]:[Mapping]],2,FALSE)","v":"India"},{"$f":"VLOOKUP(tblSalaries[[#This Row],[clean Country]]&\"*\",Cont_Table,2,0)","v":"Asia"},"All the 8 hours baby, all the 8!",7]
[null,"ID0730","2012-05-26T15:06:00",{"$f":"LEFT(tblSalaries[[#This Row],[Timestamp]],FIND(\".\",tblSalaries[[#This Row],[Timestamp]],1))","v":"41055."},4.8,480000,"INR",{"$f":"tblSalaries[[#This Row],[clean Salary (in local currency)]]*VLOOKUP(tblSalaries[[#This Row],[Currency]],tblXrate[],2,FALSE)","v":8547.8000099724322},"Asst Mngr","Analyst","India",{"$f":"VLOOKUP(tblSalaries[[#This Row],[Where do you work]],tblCountries[[Actual]:[Mapping]],2,FALSE)","v":"India"},{"$f":"VLOOKUP(tblSalaries[[#This Row],[clean Country]]&\"*\",Cont_Table,2,0)","v":"Asia"},"2 to 3 hours per day",3.5]
[null,"ID0731","2012-05-26T15:07:39",{"$f":"LEFT(tblSalaries[[#This Row],[Timestamp]],FIND(\".\",tblSalaries[[#This Row],[Timestamp]],1))","v":"41055."},35000,35000,"USD",{"$f":"tblSalaries[[#This Row],[clean Salary (in local currency)]]*VLOOKUP(tblSalaries[[#This Row],[Currency]],tblXrate[],2,FALSE)","v":35000},"Associate","Analyst","India",{"$f":"VLOOKUP(tblSalaries[[#This Row],[Where do you work]],tblCountries[[Actual]:[Mapping]],2,FALSE)","v":"India"},{"$f":"VLOOKUP(tblSalaries[[#This Row],[clean Country]]&\"*\",Cont_Table,2,0)","v":"Asia"},"4 to 6 hours a day",10]
[null,"ID0732","2012-05-26T15:09:27",{"$f":"LEFT(tblSalaries[[#This Row],[Timestamp]],FIND(\".\",tblSalaries[[#This Row],[Timestamp]],1))","v":"41055."},"Ind Rs.10,00,000.00",1000000,"INR",{"$f":"tblSalaries[[#This Row],[clean Salary (in local currency)]]*VLOOKUP(tblSalaries[[#This Row],[Currency]],tblXrate[],2,FALSE)","v":17807.916687442568},"Sr Associate","Analyst","India",{"$f":"VLOOKUP(tblSalaries[[#This Row],[Where do you work]],tblCountries[[Actual]:[Mapping]],2,FALSE)","v":"India"},{"$f":"VLOOKUP(tblSalaries[[#This Row],[clean Country]]&\"*\",Cont_Table,2,0)","v":"Asia"},"2 to 3 hours per day",12]
[null,"ID0733","2012-05-26T15:21:41",{"$f":"LEFT(tblSalaries[[#This Row],[Timestamp]],FIND(\".\",tblSalaries[[#This Row],[Timestamp]],1))","v":"41055."},180000,180000,"INR",{"$f":"tblSalaries[[#This Row],[clean Salary (in local currency)]]*VLOOKUP(tblSalaries[[#This Row],[Currency]],tblXrate[],2,FALSE)","v":3205.4250037396623},"Accountant","Accountant","India",{"$f":"VLOOKUP(tblSalaries[[#This Row],[Where do you work]],tblCountries[[Actual]:[Mapping]],2,FALSE)","v":"India"},{"$f":"VLOOKUP(tblSalaries[[#This Row],[clean Country]]&\"*\",Cont_Table,2,0)","v":"Asia"},"All the 8 hours baby, all the 8!",4]
[null,"ID0734","2012-05-26T15:24:32",{"$f":"LEFT(tblSalaries[[#This Row],[Timestamp]],FIND(\".\",tblSalaries[[#This Row],[Timestamp]],1))","v":"41055."},5000,60000,"USD",{"$f":"tblSalaries[[#This Row],[clean Salary (in local currency)]]*VLOOKUP(tblSalaries[[#This Row],[Currency]],tblXrate[],2,FALSE)","v":60000},"Manager","Manager","Russia",{"$f":"VLOOKUP(tblSalaries[[#This Row],[Where do you work]],tblCountries[[Actual]:[Mapping]],2,FALSE)","v":"Russia"},{"$f":"VLOOKUP(tblSalaries[[#This Row],[clean Country]]&\"*\",Cont_Table,2,0)","v":"Asia"},"4 to 6 hours a day",10]
[null,"ID0735","2012-05-26T15:27:48",{"$f":"LEFT(tblSalaries[[#This Row],[Timestamp]],FIND(\".\",tblSalaries[[#This Row],[Timestamp]],1))","v":"41055."},"8 Lakhs",800000,"INR",{"$f":"tblSalaries[[#This Row],[clean Salary (in local currency)]]*VLOOKUP(tblSalaries[[#This Row],[Currency]],tblXrate[],2,FALSE)","v":14246.333349954055},"Manager","Manager","India",{"$f":"VLOOKUP(tblSalaries[[#This Row],[Where do you work]],tblCountries[[Actual]:[Mapping]],2,FALSE)","v":"India"},{"$f":"VLOOKUP(tblSalaries[[#This Row],[clean Country]]&\"*\",Cont_Table,2,0)","v":"Asia"},"2 to 3 hours per day",13]
[null,"ID0736","2012-05-26T15:30:23",{"$f":"LEFT(tblSalaries[[#This Row],[Timestamp]],FIND(\".\",tblSalaries[[#This Row],[Timestamp]],1))","v":"41055."},"6 Lac Rs",600000,"INR",{"$f":"tblSalaries[[#This Row],[clean Salary (in local currency)]]*VLOOKUP(tblSalaries[[#This Row],[Currency]],tblXrate[],2,FALSE)","v":10684.750012465542},"ERP Co-Ordinator","Manager","India",{"$f":"VLOOKUP(tblSalaries[[#This Row],[Where do you work]],tblCountries[[Actual]:[Mapping]],2,FALSE)","v":"India"},{"$f":"VLOOKUP(tblSalaries[[#This Row],[clean Country]]&\"*\",Cont_Table,2,0)","v":"Asia"},"2 to 3 hours per day",8]
[null,"ID0737","2012-05-26T15:35:43",{"$f":"LEFT(tblSalaries[[#This Row],[Timestamp]],FIND(\".\",tblSalaries[[#This Row],[Timestamp]],1))","v":"41055."},40000,40000,"USD",{"$f":"tblSalaries[[#This Row],[clean Salary (in local currency)]]*VLOOKUP(tblSalaries[[#This Row],[Currency]],tblXrate[],2,FALSE)","v":40000},"Revenue Manager","Manager","India",{"$f":"VLOOKUP(tblSalaries[[#This Row],[Where do you work]],tblCountries[[Actual]:[Mapping]],2,FALSE)","v":"India"},{"$f":"VLOOKUP(tblSalaries[[#This Row],[clean Country]]&\"*\",Cont_Table,2,0)","v":"Asia"},"All the 8 hours baby, all the 8!",15]
[null,"ID0738","2012-05-26T15:44:32",{"$f":"LEFT(tblSalaries[[#This Row],[Timestamp]],FIND(\".\",tblSalaries[[#This Row],[Timestamp]],1))","v":"41055."},5022,5022,"USD",{"$f":"tblSalaries[[#This Row],[clean Salary (in local currency)]]*VLOOKUP(tblSalaries[[#This Row],[Currency]],tblXrate[],2,FALSE)","v":5022},"Accounts analyst","Analyst","Pakistan",{"$f":"VLOOKUP(tblSalaries[[#This Row],[Where do you work]],tblCountries[[Actual]:[Mapping]],2,FALSE)","v":"Pakistan"},{"$f":"VLOOKUP(tblSalaries[[#This Row],[clean Country]]&\"*\",Cont_Table,2,0)","v":"Asia"},"4 to 6 hours a day",15]
[null,"ID0739","2012-05-26T15:51:11",{"$f":"LEFT(tblSalaries[[#This Row],[Timestamp]],FIND(\".\",tblSalaries[[#This Row],[Timestamp]],1))","v":"41055."},410000,410000,"INR",{"$f":"tblSalaries[[#This Row],[clean Salary (in local currency)]]*VLOOKUP(tblSalaries[[#This Row],[Currency]],tblXrate[],2,FALSE)","v":7301.2458418514525},"MIS Analyst","Analyst","India",{"$f":"VLOOKUP(tblSalaries[[#This Row],[Where do you work]],tblCountries[[Actual]:[Mapping]],2,FALSE)","v":"India"},{"$f":"VLOOKUP(tblSalaries[[#This Row],[clean Country]]&\"*\",Cont_Table,2,0)","v":"Asia"},"All the 8 hours baby, all the 8!",5]
[null,"ID0740","2012-05-26T15:53:10",{"$f":"LEFT(tblSalaries[[#This Row],[Timestamp]],FIND(\".\",tblSalaries[[#This Row],[Timestamp]],1))","v":"41055."},10000,120000,"EGYPT",{"$f":"tblSalaries[[#This Row],[clean Salary (in local currency)]]*VLOOKUP(tblSalaries[[#This Row],[Currency]],tblXrate[],2,FALSE)","v":19831.432821021317},"Estimator","Analyst","Egypt",{"$f":"VLOOKUP(tblSalaries[[#This Row],[Where do you work]],tblCountries[[Actual]:[Mapping]],2,FALSE)","v":"Egypt"},{"$f":"VLOOKUP(tblSalaries[[#This Row],[clean Country]]&\"*\",Cont_Table,2,0)","v":"Africa"},"All the 8 hours baby, all the 8!",5]
[null,"ID0741","2012-05-26T15:54:00",{"$f":"LEFT(tblSalaries[[#This Row],[Timestamp]],FIND(\".\",tblSalaries[[#This Row],[Timestamp]],1))","v":"41055."},"50 k per month",600000,"INR",{"$f":"tblSalaries[[#This Row],[clean Salary (in local currency)]]*VLOOKUP(tblSalaries[[#This Row],[Currency]],tblXrate[],2,FALSE)","v":10684.750012465542},"Finance Manager","Manager","India",{"$f":"VLOOKUP(tblSalaries[[#This Row],[Where do you work]],tblCountries[[Actual]:[Mapping]],2,FALSE)","v":"India"},{"$f":"VLOOKUP(tblSalaries[[#This Row],[clean Country]]&\"*\",Cont_Table,2,0)","v":"Asia"},"4 to 6 hours a day",5]
[null,"ID0742","2012-05-26T15:56:57",{"$f":"LEFT(tblSalaries[[#This Row],[Timestamp]],FIND(\".\",tblSalaries[[#This Row],[Timestamp]],1))","v":"41055."},"4800 $",4800,"USD",{"$f":"tblSalaries[[#This Row],[clean Salary (in local currency)]]*VLOOKUP(tblSalaries[[#This Row],[Currency]],tblXrate[],2,FALSE)","v":4800},"Data Analysis","Analyst","Bhutan",{"$f":"VLOOKUP(tblSalaries[[#This Row],[Where do you work]],tblCountries[[Actual]:[Mapping]],2,FALSE)","v":"Bhutan"},{"$f":"VLOOKUP(tblSalaries[[#This Row],[clean Country]]&\"*\",Cont_Table,2,0)","v":"Asia"},"4 to 6 hours a day",2]
[null,"ID0743","2012-05-26T15:59:44",{"$f":"LEFT(tblSalaries[[#This Row],[Timestamp]],FIND(\".\",tblSalaries[[#This Row],[Timestamp]],1))","v":"41055."},"66000 â‚¬",66000,"EUR",{"$f":"tblSalaries[[#This Row],[clean Salary (in local currency)]]*VLOOKUP(tblSalaries[[#This Row],[Currency]],tblXrate[],2,FALSE)","v":83846.362973446114},"Logistics Analyst","Analyst","germany",{"$f":"VLOOKUP(tblSalaries[[#This Row],[Where do you work]],tblCountries[[Actual]:[Mapping]],2,FALSE)","v":"Germany"},{"$f":"VLOOKUP(tblSalaries[[#This Row],[clean Country]]&\"*\",Cont_Table,2,0)","v":"Europe"},"4 to 6 hours a day",7]
[null,"ID0744","2012-05-26T16:01:54",{"$f":"LEFT(tblSalaries[[#This Row],[Timestamp]],FIND(\".\",tblSalaries[[#This Row],[Timestamp]],1))","v":"41055."},15000,15000,"USD",{"$f":"tblSalaries[[#This Row],[clean Salary (in local currency)]]*VLOOKUP(tblSalaries[[#This Row],[Currency]],tblXrate[],2,FALSE)","v":15000},"PROCSS ASOCIATE","Controller","India",{"$f":"VLOOKUP(tblSalaries[[#This Row],[Where do you work]],tblCountries[[Actual]:[Mapping]],2,FALSE)","v":"India"},{"$f":"VLOOKUP(tblSalaries[[#This Row],[clean Country]]&\"*\",Cont_Table,2,0)","v":"Asia"},"2 to 3 hours per day",2]
[null,"ID0745","2012-05-26T16:05:02",{"$f":"LEFT(tblSalaries[[#This Row],[Timestamp]],FIND(\".\",tblSalaries[[#This Row],[Timestamp]],1))","v":"41055."},10000,10000,"USD",{"$f":"tblSalaries[[#This Row],[clean Salary (in local currency)]]*VLOOKUP(tblSalaries[[#This Row],[Currency]],tblXrate[],2,FALSE)","v":10000},"Reporting Analyst","Analyst","India",{"$f":"VLOOKUP(tblSalaries[[#This Row],[Where do you work]],tblCountries[[Actual]:[Mapping]],2,FALSE)","v":"India"},{"$f":"VLOOKUP(tblSalaries[[#This Row],[clean Country]]&\"*\",Cont_Table,2,0)","v":"Asia"},"4 to 6 hours a day",12]
[null,"ID0746","2012-05-26T16:10:08",{"$f":"LEFT(tblSalaries[[#This Row],[Timestamp]],FIND(\".\",tblSalaries[[#This Row],[Timestamp]],1))","v":"41055."},74000,74000,"GBP",{"$f":"tblSalaries[[#This Row],[clean Salary (in local currency)]]*VLOOKUP(tblSalaries[[#This Row],[Currency]],tblXrate[],2,FALSE)","v":116637.19213297902},"Corporate Finance Manager","Manager","UK",{"$f":"VLOOKUP(tblSalaries[[#This Row],[Where do you work]],tblCountries[[Actual]:[Mapping]],2,FALSE)","v":"UK"},{"$f":"VLOOKUP(tblSalaries[[#This Row],[clean Country]]&\"*\",Cont_Table,2,0)","v":"Europe"},"4 to 6 hours a day",5]
[null,"ID0747","2012-05-26T16:12:09",{"$f":"LEFT(tblSalaries[[#This Row],[Timestamp]],FIND(\".\",tblSalaries[[#This Row],[Timestamp]],1))","v":"41055."},"GBP21798",21798,"GBP",{"$f":"tblSalaries[[#This Row],[clean Salary (in local currency)]]*VLOOKUP(tblSalaries[[#This Row],[Currency]],tblXrate[],2,FALSE)","v":34357.533974522659},"Data Analyst","Analyst","UK",{"$f":"VLOOKUP(tblSalaries[[#This Row],[Where do you work]],tblCountries[[Actual]:[Mapping]],2,FALSE)","v":"UK"},{"$f":"VLOOKUP(tblSalaries[[#This Row],[clean Country]]&\"*\",Cont_Table,2,0)","v":"Europe"},"All the 8 hours baby, all the 8!",1.5]
[null,"ID0748","2012-05-26T16:16:39",{"$f":"LEFT(tblSalaries[[#This Row],[Timestamp]],FIND(\".\",tblSalaries[[#This Row],[Timestamp]],1))","v":"41055."},65000,65000,"GBP",{"$f":"tblSalaries[[#This Row],[clean Salary (in local currency)]]*VLOOKUP(tblSalaries[[#This Row],[Currency]],tblXrate[],2,FALSE)","v":102451.58768437347},"compliance manager","Manager","UK",{"$f":"VLOOKUP(tblSalaries[[#This Row],[Where do you work]],tblCountries[[Actual]:[Mapping]],2,FALSE)","v":"UK"},{"$f":"VLOOKUP(tblSalaries[[#This Row],[clean Country]]&\"*\",Cont_Table,2,0)","v":"Europe"},"4 to 6 hours a day",15]
[null,"ID0749","2012-05-26T16:23:30",{"$f":"LEFT(tblSalaries[[#This Row],[Timestamp]],FIND(\".\",tblSalaries[[#This Row],[Timestamp]],1))","v":"41055."},16000,16000,"USD",{"$f":"tblSalaries[[#This Row],[clean Salary (in local currency)]]*VLOOKUP(tblSalaries[[#This Row],[Currency]],tblXrate[],2,FALSE)","v":16000},"Engineer","Engineer","India",{"$f":"VLOOKUP(tblSalaries[[#This Row],[Where do you work]],tblCountries[[Actual]:[Mapping]],2,FALSE)","v":"India"},{"$f":"VLOOKUP(tblSalaries[[#This Row],[clean Country]]&\"*\",Cont_Table,2,0)","v":"Asia"},"2 to 3 hours per day",5]
[null,"ID0750","2012-05-26T16:25:53",{"$f":"LEFT(tblSalaries[[#This Row],[Timestamp]],FIND(\".\",tblSalaries[[#This Row],[Timestamp]],1))","v":"41055."},6000,6000,"USD",{"$f":"tblSalaries[[#This Row],[clean Salary (in local currency)]]*VLOOKUP(tblSalaries[[#This Row],[Currency]],tblXrate[],2,FALSE)","v":6000},"Merchandiser","Manager","India",{"$f":"VLOOKUP(tblSalaries[[#This Row],[Where do you work]],tblCountries[[Actual]:[Mapping]],2,FALSE)","v":"India"},{"$f":"VLOOKUP(tblSalaries[[#This Row],[clean Country]]&\"*\",Cont_Table,2,0)","v":"Asia"},"2 to 3 hours per day",6]
[null,"ID0751","2012-05-26T16:26:35",{"$f":"LEFT(tblSalaries[[#This Row],[Timestamp]],FIND(\".\",tblSalaries[[#This Row],[Timestamp]],1))","v":"41055."},"INR 30000",360000,"INR",{"$f":"tblSalaries[[#This Row],[clean Salary (in local currency)]]*VLOOKUP(tblSalaries[[#This Row],[Currency]],tblXrate[],2,FALSE)","v":6410.8500074793246},"Project Lead","Manager","India",{"$f":"VLOOKUP(tblSalaries[[#This Row],[Where do you work]],tblCountries[[Actual]:[Mapping]],2,FALSE)","v":"India"},{"$f":"VLOOKUP(tblSalaries[[#This Row],[clean Country]]&\"*\",Cont_Table,2,0)","v":"Asia"},"All the 8 hours baby, all the 8!",6]
[null,"ID0752","2012-05-26T16:29:36",{"$f":"LEFT(tblSalaries[[#This Row],[Timestamp]],FIND(\".\",tblSalaries[[#This Row],[Timestamp]],1))","v":"41055."},36000,36000,"USD",{"$f":"tblSalaries[[#This Row],[clean Salary (in local currency)]]*VLOOKUP(tblSalaries[[#This Row],[Currency]],tblXrate[],2,FALSE)","v":36000},"ENGINEER","Engineer","uae",{"$f":"VLOOKUP(tblSalaries[[#This Row],[Where do you work]],tblCountries[[Actual]:[Mapping]],2,FALSE)","v":"UAE"},{"$f":"VLOOKUP(tblSalaries[[#This Row],[clean Country]]&\"*\",Cont_Table,2,0)","v":"Asia"},"1 or 2 hours a day",7]
[null,"ID0753","2012-05-26T16:33:58",{"$f":"LEFT(tblSalaries[[#This Row],[Timestamp]],FIND(\".\",tblSalaries[[#This Row],[Timestamp]],1))","v":"41055."},20000,20000,"USD",{"$f":"tblSalaries[[#This Row],[clean Salary (in local currency)]]*VLOOKUP(tblSalaries[[#This Row],[Currency]],tblXrate[],2,FALSE)","v":20000},"engineer","Engineer","India",{"$f":"VLOOKUP(tblSalaries[[#This Row],[Where do you work]],tblCountries[[Actual]:[Mapping]],2,FALSE)","v":"India"},{"$f":"VLOOKUP(tblSalaries[[#This Row],[clean Country]]&\"*\",Cont_Table,2,0)","v":"Asia"},"1 or 2 hours a day",7]
[null,"ID0754","2012-05-26T16:34:18",{"$f":"LEFT(tblSalaries[[#This Row],[Timestamp]],FIND(\".\",tblSalaries[[#This Row],[Timestamp]],1))","v":"41055."},"INR240000",240000,"INR",{"$f":"tblSalaries[[#This Row],[clean Salary (in local currency)]]*VLOOKUP(tblSalaries[[#This Row],[Currency]],tblXrate[],2,FALSE)","v":4273.9000049862161},"SR. ACCOUNTS EXECUTIVE","Accountant","India",{"$f":"VLOOKUP(tblSalaries[[#This Row],[Where do you work]],tblCountries[[Actual]:[Mapping]],2,FALSE)","v":"India"},{"$f":"VLOOKUP(tblSalaries[[#This Row],[clean Country]]&\"*\",Cont_Table,2,0)","v":"Asia"},"4 to 6 hours a day",8]
[null,"ID0755","2012-05-26T16:34:57",{"$f":"LEFT(tblSalaries[[#This Row],[Timestamp]],FIND(\".\",tblSalaries[[#This Row],[Timestamp]],1))","v":"41055."},"Â£ 24000",24000,"GBP",{"$f":"tblSalaries[[#This Row],[clean Salary (in local currency)]]*VLOOKUP(tblSalaries[[#This Row],[Currency]],tblXrate[],2,FALSE)","v":37828.278529614821},"Business Support Specialist","Specialist","UK",{"$f":"VLOOKUP(tblSalaries[[#This Row],[Where do you work]],tblCountries[[Actual]:[Mapping]],2,FALSE)","v":"UK"},{"$f":"VLOOKUP(tblSalaries[[#This Row],[clean Country]]&\"*\",Cont_Table,2,0)","v":"Europe"},"All the 8 hours baby, all the 8!",8]
[null,"ID0756","2012-05-26T16:50:08",{"$f":"LEFT(tblSalaries[[#This Row],[Timestamp]],FIND(\".\",tblSalaries[[#This Row],[Timestamp]],1))","v":"41055."},"US $ 11,000",11000,"USD",{"$f":"tblSalaries[[#This Row],[clean Salary (in local currency)]]*VLOOKUP(tblSalaries[[#This Row],[Currency]],tblXrate[],2,FALSE)","v":11000},"Assistant Manager - Group MIS","Manager","Sri Lanka",{"$f":"VLOOKUP(tblSalaries[[#This Row],[Where do you work]],tblCountries[[Actual]:[Mapping]],2,FALSE)","v":"Sri Lanka"},{"$f":"VLOOKUP(tblSalaries[[#This Row],[clean Country]]&\"*\",Cont_Table,2,0)","v":"Asia"},"All the 8 hours baby, all the 8!",4.5]
[null,"ID0757","2012-05-26T16:50:46",{"$f":"LEFT(tblSalaries[[#This Row],[Timestamp]],FIND(\".\",tblSalaries[[#This Row],[Timestamp]],1))","v":"41055."},8000,8000,"USD",{"$f":"tblSalaries[[#This Row],[clean Salary (in local currency)]]*VLOOKUP(tblSalaries[[#This Row],[Currency]],tblXrate[],2,FALSE)","v":8000},"Business Analyst","Analyst","India",{"$f":"VLOOKUP(tblSalaries[[#This Row],[Where do you work]],tblCountries[[Actual]:[Mapping]],2,FALSE)","v":"India"},{"$f":"VLOOKUP(tblSalaries[[#This Row],[clean Country]]&\"*\",Cont_Table,2,0)","v":"Asia"},"2 to 3 hours per day",6]
[null,"ID0758","2012-05-26T17:02:46",{"$f":"LEFT(tblSalaries[[#This Row],[Timestamp]],FIND(\".\",tblSalaries[[#This Row],[Timestamp]],1))","v":"41055."},"Rs. 225000",225000,"INR",{"$f":"tblSalaries[[#This Row],[clean Salary (in local currency)]]*VLOOKUP(tblSalaries[[#This Row],[Currency]],tblXrate[],2,FALSE)","v":4006.7812546745777},"MIS Executive","Reporting","India",{"$f":"VLOOKUP(tblSalaries[[#This Row],[Where do you work]],tblCountries[[Actual]:[Mapping]],2,FALSE)","v":"India"},{"$f":"VLOOKUP(tblSalaries[[#This Row],[clean Country]]&\"*\",Cont_Table,2,0)","v":"Asia"},"All the 8 hours baby, all the 8!",5.5]
[null,"ID0759","2012-05-26T17:03:02",{"$f":"LEFT(tblSalaries[[#This Row],[Timestamp]],FIND(\".\",tblSalaries[[#This Row],[Timestamp]],1))","v":"41055."},1488000,1488000,"NAIRA",{"$f":"tblSalaries[[#This Row],[clean Salary (in local currency)]]*VLOOKUP(tblSalaries[[#This Row],[Currency]],tblXrate[],2,FALSE)","v":9171.0323574730355},"Company Systems Integration Manager","Manager","Nigeria",{"$f":"VLOOKUP(tblSalaries[[#This Row],[Where do you work]],tblCountries[[Actual]:[Mapping]],2,FALSE)","v":"Nigeria"},{"$f":"VLOOKUP(tblSalaries[[#This Row],[clean Country]]&\"*\",Cont_Table,2,0)","v":"Africa"},"2 to 3 hours per day",5]
[null,"ID0760","2012-05-26T17:03:26",{"$f":"LEFT(tblSalaries[[#This Row],[Timestamp]],FIND(\".\",tblSalaries[[#This Row],[Timestamp]],1))","v":"41055."},"INR 20000",240000,"INR",{"$f":"tblSalaries[[#This Row],[clean Salary (in local currency)]]*VLOOKUP(tblSalaries[[#This Row],[Currency]],tblXrate[],2,FALSE)","v":4273.9000049862161},"EXECUTIVE","Analyst","India",{"$f":"VLOOKUP(tblSalaries[[#This Row],[Where do you work]],tblCountries[[Actual]:[Mapping]],2,FALSE)","v":"India"},{"$f":"VLOOKUP(tblSalaries[[#This Row],[clean Country]]&\"*\",Cont_Table,2,0)","v":"Asia"},"2 to 3 hours per day",20]
[null,"ID0761","2012-05-26T17:04:23",{"$f":"LEFT(tblSalaries[[#This Row],[Timestamp]],FIND(\".\",tblSalaries[[#This Row],[Timestamp]],1))","v":"41055."},"INR 700000",700000,"INR",{"$f":"tblSalaries[[#This Row],[clean Salary (in local currency)]]*VLOOKUP(tblSalaries[[#This Row],[Currency]],tblXrate[],2,FALSE)","v":12465.541681209797},"Sales Management Analyst","Analyst","India",{"$f":"VLOOKUP(tblSalaries[[#This Row],[Where do you work]],tblCountries[[Actual]:[Mapping]],2,FALSE)","v":"India"},{"$f":"VLOOKUP(tblSalaries[[#This Row],[clean Country]]&\"*\",Cont_Table,2,0)","v":"Asia"},"All the 8 hours baby, all the 8!",5]
[null,"ID0762","2012-05-26T17:06:48",{"$f":"LEFT(tblSalaries[[#This Row],[Timestamp]],FIND(\".\",tblSalaries[[#This Row],[Timestamp]],1))","v":"41055."},2000,24000,"USD",{"$f":"tblSalaries[[#This Row],[clean Salary (in local currency)]]*VLOOKUP(tblSalaries[[#This Row],[Currency]],tblXrate[],2,FALSE)","v":24000},"Asst Production Planner","Analyst","India",{"$f":"VLOOKUP(tblSalaries[[#This Row],[Where do you work]],tblCountries[[Actual]:[Mapping]],2,FALSE)","v":"India"},{"$f":"VLOOKUP(tblSalaries[[#This Row],[clean Country]]&\"*\",Cont_Table,2,0)","v":"Asia"},"2 to 3 hours per day",1]
[null,"ID0763","2012-05-26T17:07:30",{"$f":"LEFT(tblSalaries[[#This Row],[Timestamp]],FIND(\".\",tblSalaries[[#This Row],[Timestamp]],1))","v":"41055."},20000,20000,"USD",{"$f":"tblSalaries[[#This Row],[clean Salary (in local currency)]]*VLOOKUP(tblSalaries[[#This Row],[Currency]],tblXrate[],2,FALSE)","v":20000},"Consultat","Consultant","Denmark",{"$f":"VLOOKUP(tblSalaries[[#This Row],[Where do you work]],tblCountries[[Actual]:[Mapping]],2,FALSE)","v":"Denmark"},{"$f":"VLOOKUP(tblSalaries[[#This Row],[clean Country]]&\"*\",Cont_Table,2,0)","v":"Europe"},"2 to 3 hours per day",15]
[null,"ID0764","2012-05-26T17:08:09",{"$f":"LEFT(tblSalaries[[#This Row],[Timestamp]],FIND(\".\",tblSalaries[[#This Row],[Timestamp]],1))","v":"41055."},62000,62000,"USD",{"$f":"tblSalaries[[#This Row],[clean Salary (in local currency)]]*VLOOKUP(tblSalaries[[#This Row],[Currency]],tblXrate[],2,FALSE)","v":62000},"System Analyst ","Analyst","USA",{"$f":"VLOOKUP(tblSalaries[[#This Row],[Where do you work]],tblCountries[[Actual]:[Mapping]],2,FALSE)","v":"USA"},{"$f":"VLOOKUP(tblSalaries[[#This Row],[clean Country]]&\"*\",Cont_Table,2,0)","v":"North America"},"2 to 3 hours per day",20]
[null,"ID0765","2012-05-26T17:09:24",{"$f":"LEFT(tblSalaries[[#This Row],[Timestamp]],FIND(\".\",tblSalaries[[#This Row],[Timestamp]],1))","v":"41055."},"14960 $",14960,"USD",{"$f":"tblSalaries[[#This Row],[clean Salary (in local currency)]]*VLOOKUP(tblSalaries[[#This Row],[Currency]],tblXrate[],2,FALSE)","v":14960},"Stock Controller","Controller","Saudi Arabia",{"$f":"VLOOKUP(tblSalaries[[#This Row],[Where do you work]],tblCountries[[Actual]:[Mapping]],2,FALSE)","v":"Saudi Arabia"},{"$f":"VLOOKUP(tblSalaries[[#This Row],[clean Country]]&\"*\",Cont_Table,2,0)","v":"Asia"},"All the 8 hours baby, all the 8!",2]
[null,"ID0766","2012-05-26T17:10:20",{"$f":"LEFT(tblSalaries[[#This Row],[Timestamp]],FIND(\".\",tblSalaries[[#This Row],[Timestamp]],1))","v":"41055."},120000,120000,"INR",{"$f":"tblSalaries[[#This Row],[clean Salary (in local currency)]]*VLOOKUP(tblSalaries[[#This Row],[Currency]],tblXrate[],2,FALSE)","v":2136.9500024931081},"ACCOUNTANT","Accountant","India",{"$f":"VLOOKUP(tblSalaries[[#This Row],[Where do you work]],tblCountries[[Actual]:[Mapping]],2,FALSE)","v":"India"},{"$f":"VLOOKUP(tblSalaries[[#This Row],[clean Country]]&\"*\",Cont_Table,2,0)","v":"Asia"},"2 to 3 hours per day",2]
[null,"ID0767","2012-05-26T17:24:41",{"$f":"LEFT(tblSalaries[[#This Row],[Timestamp]],FIND(\".\",tblSalaries[[#This Row],[Timestamp]],1))","v":"41055."},30232,30232,"USD",{"$f":"tblSalaries[[#This Row],[clean Salary (in local currency)]]*VLOOKUP(tblSalaries[[#This Row],[Currency]],tblXrate[],2,FALSE)","v":30232},"Accounts Supervisor","Accountant","KSA",{"$f":"VLOOKUP(tblSalaries[[#This Row],[Where do you work]],tblCountries[[Actual]:[Mapping]],2,FALSE)","v":"USA"},{"$f":"VLOOKUP(tblSalaries[[#This Row],[clean Country]]&\"*\",Cont_Table,2,0)","v":"North America"},"2 to 3 hours per day",5]
[null,"ID0768","2012-05-26T17:24:41",{"$f":"LEFT(tblSalaries[[#This Row],[Timestamp]],FIND(\".\",tblSalaries[[#This Row],[Timestamp]],1))","v":"41055."},41000,41000,"USD",{"$f":"tblSalaries[[#This Row],[clean Salary (in local currency)]]*VLOOKUP(tblSalaries[[#This Row],[Currency]],tblXrate[],2,FALSE)","v":41000},"Business Analyst","Analyst","USA",{"$f":"VLOOKUP(tblSalaries[[#This Row],[Where do you work]],tblCountries[[Actual]:[Mapping]],2,FALSE)","v":"USA"},{"$f":"VLOOKUP(tblSalaries[[#This Row],[clean Country]]&\"*\",Cont_Table,2,0)","v":"North America"},"All the 8 hours baby, all the 8!",4]
[null,"ID0769","2012-05-26T17:31:56",{"$f":"LEFT(tblSalaries[[#This Row],[Timestamp]],FIND(\".\",tblSalaries[[#This Row],[Timestamp]],1))","v":"41055."},"95000 AUD",95000,"AUD",{"$f":"tblSalaries[[#This Row],[clean Salary (in local currency)]]*VLOOKUP(tblSalaries[[#This Row],[Currency]],tblXrate[],2,FALSE)","v":96891.417358250401},"Data Analyst - Report Writer","Analyst","Australia",{"$f":"VLOOKUP(tblSalaries[[#This Row],[Where do you work]],tblCountries[[Actual]:[Mapping]],2,FALSE)","v":"Australia"},{"$f":"VLOOKUP(tblSalaries[[#This Row],[clean Country]]&\"*\",Cont_Table,2,0)","v":"Australia"},"2 to 3 hours per day",11]
[null,"ID0770","2012-05-26T17:44:34",{"$f":"LEFT(tblSalaries[[#This Row],[Timestamp]],FIND(\".\",tblSalaries[[#This Row],[Timestamp]],1))","v":"41055."},"Rs 1200000",1200000,"INR",{"$f":"tblSalaries[[#This Row],[clean Salary (in local currency)]]*VLOOKUP(tblSalaries[[#This Row],[Currency]],tblXrate[],2,FALSE)","v":21369.500024931083},"Regional Formwork Head ","Manager","India",{"$f":"VLOOKUP(tblSalaries[[#This Row],[Where do you work]],tblCountries[[Actual]:[Mapping]],2,FALSE)","v":"India"},{"$f":"VLOOKUP(tblSalaries[[#This Row],[clean Country]]&\"*\",Cont_Table,2,0)","v":"Asia"},"All the 8 hours baby, all the 8!",14]
[null,"ID0771","2012-05-26T17:47:00",{"$f":"LEFT(tblSalaries[[#This Row],[Timestamp]],FIND(\".\",tblSalaries[[#This Row],[Timestamp]],1))","v":"41055."},205000,205000,"INR",{"$f":"tblSalaries[[#This Row],[clean Salary (in local currency)]]*VLOOKUP(tblSalaries[[#This Row],[Currency]],tblXrate[],2,FALSE)","v":3650.6229209257262},"BRANCH ACCOUNTANT","Accountant","India",{"$f":"VLOOKUP(tblSalaries[[#This Row],[Where do you work]],tblCountries[[Actual]:[Mapping]],2,FALSE)","v":"India"},{"$f":"VLOOKUP(tblSalaries[[#This Row],[clean Country]]&\"*\",Cont_Table,2,0)","v":"Asia"},"All the 8 hours baby, all the 8!",10]
[null,"ID0772","2012-05-26T17:47:10",{"$f":"LEFT(tblSalaries[[#This Row],[Timestamp]],FIND(\".\",tblSalaries[[#This Row],[Timestamp]],1))","v":"41055."},"$1,589.00/per month",19068,"USD",{"$f":"tblSalaries[[#This Row],[clean Salary (in local currency)]]*VLOOKUP(tblSalaries[[#This Row],[Currency]],tblXrate[],2,FALSE)","v":19068},"Accounting Head","Accountant","Philippines",{"$f":"VLOOKUP(tblSalaries[[#This Row],[Where do you work]],tblCountries[[Actual]:[Mapping]],2,FALSE)","v":"Philippines"},{"$f":"VLOOKUP(tblSalaries[[#This Row],[clean Country]]&\"*\",Cont_Table,2,0)","v":"Asia"},"All the 8 hours baby, all the 8!",20]
[null,"ID0773","2012-05-26T17:49:17",{"$f":"LEFT(tblSalaries[[#This Row],[Timestamp]],FIND(\".\",tblSalaries[[#This Row],[Timestamp]],1))","v":"41055."},"Rs. 300000",300000,"INR",{"$f":"tblSalaries[[#This Row],[clean Salary (in local currency)]]*VLOOKUP(tblSalaries[[#This Row],[Currency]],tblXrate[],2,FALSE)","v":5342.3750062327708},"OPEX CONTROL","Controller","India",{"$f":"VLOOKUP(tblSalaries[[#This Row],[Where do you work]],tblCountries[[Actual]:[Mapping]],2,FALSE)","v":"India"},{"$f":"VLOOKUP(tblSalaries[[#This Row],[clean Country]]&\"*\",Cont_Table,2,0)","v":"Asia"},"All the 8 hours baby, all the 8!",4]
[null,"ID0774","2012-05-26T17:51:27",{"$f":"LEFT(tblSalaries[[#This Row],[Timestamp]],FIND(\".\",tblSalaries[[#This Row],[Timestamp]],1))","v":"41055."},48000,48000,"USD",{"$f":"tblSalaries[[#This Row],[clean Salary (in local currency)]]*VLOOKUP(tblSalaries[[#This Row],[Currency]],tblXrate[],2,FALSE)","v":48000},"Consultant","Consultant","Singapore",{"$f":"VLOOKUP(tblSalaries[[#This Row],[Where do you work]],tblCountries[[Actual]:[Mapping]],2,FALSE)","v":"Singapore"},{"$f":"VLOOKUP(tblSalaries[[#This Row],[clean Country]]&\"*\",Cont_Table,2,0)","v":"Asia"},"All the 8 hours baby, all the 8!",3]
[null,"ID0775","2012-05-26T18:19:49",{"$f":"LEFT(tblSalaries[[#This Row],[Timestamp]],FIND(\".\",tblSalaries[[#This Row],[Timestamp]],1))","v":"41055."},"2.2 lakhs per annum",220000,"INR",{"$f":"tblSalaries[[#This Row],[clean Salary (in local currency)]]*VLOOKUP(tblSalaries[[#This Row],[Currency]],tblXrate[],2,FALSE)","v":3917.7416712373652},"Associate Software Engineer","Engineer","India",{"$f":"VLOOKUP(tblSalaries[[#This Row],[Where do you work]],tblCountries[[Actual]:[Mapping]],2,FALSE)","v":"India"},{"$f":"VLOOKUP(tblSalaries[[#This Row],[clean Country]]&\"*\",Cont_Table,2,0)","v":"Asia"},"4 to 6 hours a day",2]
[null,"ID0776","2012-05-26T18:29:06",{"$f":"LEFT(tblSalaries[[#This Row],[Timestamp]],FIND(\".\",tblSalaries[[#This Row],[Timestamp]],1))","v":"41055."},13500,13500,"USD",{"$f":"tblSalaries[[#This Row],[clean Salary (in local currency)]]*VLOOKUP(tblSalaries[[#This Row],[Currency]],tblXrate[],2,FALSE)","v":13500},"MIS","Reporting","India",{"$f":"VLOOKUP(tblSalaries[[#This Row],[Where do you work]],tblCountries[[Actual]:[Mapping]],2,FALSE)","v":"India"},{"$f":"VLOOKUP(tblSalaries[[#This Row],[clean Country]]&\"*\",Cont_Table,2,0)","v":"Asia"},"All the 8 hours baby, all the 8!",2.5]
[null,"ID0777","2012-05-26T18:35:20",{"$f":"LEFT(tblSalaries[[#This Row],[Timestamp]],FIND(\".\",tblSalaries[[#This Row],[Timestamp]],1))","v":"41055."},"45000 $",45000,"USD",{"$f":"tblSalaries[[#This Row],[clean Salary (in local currency)]]*VLOOKUP(tblSalaries[[#This Row],[Currency]],tblXrate[],2,FALSE)","v":45000},"AGM","Manager","India",{"$f":"VLOOKUP(tblSalaries[[#This Row],[Where do you work]],tblCountries[[Actual]:[Mapping]],2,FALSE)","v":"India"},{"$f":"VLOOKUP(tblSalaries[[#This Row],[clean Country]]&\"*\",Cont_Table,2,0)","v":"Asia"},"1 or 2 hours a day",15]
[null,"ID0778","2012-05-26T18:38:41",{"$f":"LEFT(tblSalaries[[#This Row],[Timestamp]],FIND(\".\",tblSalaries[[#This Row],[Timestamp]],1))","v":"41055."},55000,55000,"EUR",{"$f":"tblSalaries[[#This Row],[clean Salary (in local currency)]]*VLOOKUP(tblSalaries[[#This Row],[Currency]],tblXrate[],2,FALSE)","v":69871.969144538423},"CFO","CXO or Top Mgmt.","italy",{"$f":"VLOOKUP(tblSalaries[[#This Row],[Where do you work]],tblCountries[[Actual]:[Mapping]],2,FALSE)","v":"italy"},{"$f":"VLOOKUP(tblSalaries[[#This Row],[clean Country]]&\"*\",Cont_Table,2,0)","v":"Europe"},"2 to 3 hours per day",18]
[null,"ID0779","2012-05-26T18:41:31",{"$f":"LEFT(tblSalaries[[#This Row],[Timestamp]],FIND(\".\",tblSalaries[[#This Row],[Timestamp]],1))","v":"41055."},"Rs 40000",480000,"INR",{"$f":"tblSalaries[[#This Row],[clean Salary (in local currency)]]*VLOOKUP(tblSalaries[[#This Row],[Currency]],tblXrate[],2,FALSE)","v":8547.8000099724322},"Banker","Manager","India",{"$f":"VLOOKUP(tblSalaries[[#This Row],[Where do you work]],tblCountries[[Actual]:[Mapping]],2,FALSE)","v":"India"},{"$f":"VLOOKUP(tblSalaries[[#This Row],[clean Country]]&\"*\",Cont_Table,2,0)","v":"Asia"},"4 to 6 hours a day",11]
[null,"ID0780","2012-05-26T18:44:00",{"$f":"LEFT(tblSalaries[[#This Row],[Timestamp]],FIND(\".\",tblSalaries[[#This Row],[Timestamp]],1))","v":"41055."},"Dhs 2800 + Accomodation",33600,"AED",{"$f":"tblSalaries[[#This Row],[clean Salary (in local currency)]]*VLOOKUP(tblSalaries[[#This Row],[Currency]],tblXrate[],2,FALSE)","v":9146.5655463031271},"Accountant","Accountant","Dubai",{"$f":"VLOOKUP(tblSalaries[[#This Row],[Where do you work]],tblCountries[[Actual]:[Mapping]],2,FALSE)","v":"Dubai"},{"$f":"VLOOKUP(tblSalaries[[#This Row],[clean Country]]&\"*\",Cont_Table,2,0)","v":"Asia"},"1 or 2 hours a day",7]
[null,"ID0781","2012-05-26T18:56:52",{"$f":"LEFT(tblSalaries[[#This Row],[Timestamp]],FIND(\".\",tblSalaries[[#This Row],[Timestamp]],1))","v":"41055."},570000,570000,"INR",{"$f":"tblSalaries[[#This Row],[clean Salary (in local currency)]]*VLOOKUP(tblSalaries[[#This Row],[Currency]],tblXrate[],2,FALSE)","v":10150.512511842264},"Analyst","Analyst","India",{"$f":"VLOOKUP(tblSalaries[[#This Row],[Where do you work]],tblCountries[[Actual]:[Mapping]],2,FALSE)","v":"India"},{"$f":"VLOOKUP(tblSalaries[[#This Row],[clean Country]]&\"*\",Cont_Table,2,0)","v":"Asia"},"All the 8 hours baby, all the 8!",2.4]
[null,"ID0782","2012-05-26T19:07:55",{"$f":"LEFT(tblSalaries[[#This Row],[Timestamp]],FIND(\".\",tblSalaries[[#This Row],[Timestamp]],1))","v":"41055."},636000,636000,"INR",{"$f":"tblSalaries[[#This Row],[clean Salary (in local currency)]]*VLOOKUP(tblSalaries[[#This Row],[Currency]],tblXrate[],2,FALSE)","v":11325.835013213473},"Program Manager","Manager","India",{"$f":"VLOOKUP(tblSalaries[[#This Row],[Where do you work]],tblCountries[[Actual]:[Mapping]],2,FALSE)","v":"India"},{"$f":"VLOOKUP(tblSalaries[[#This Row],[clean Country]]&\"*\",Cont_Table,2,0)","v":"Asia"},"4 to 6 hours a day",7]
[null,"ID0783","2012-05-26T19:13:39",{"$f":"LEFT(tblSalaries[[#This Row],[Timestamp]],FIND(\".\",tblSalaries[[#This Row],[Timestamp]],1))","v":"41055."},"180000 PKR",180000,"PKR",{"$f":"tblSalaries[[#This Row],[clean Salary (in local currency)]]*VLOOKUP(tblSalaries[[#This Row],[Currency]],tblXrate[],2,FALSE)","v":1910.5359690238436},"S&D Reporting & Analysis Team Leader","Reporting","Pakistan",{"$f":"VLOOKUP(tblSalaries[[#This Row],[Where do you work]],tblCountries[[Actual]:[Mapping]],2,FALSE)","v":"Pakistan"},{"$f":"VLOOKUP(tblSalaries[[#This Row],[clean Country]]&\"*\",Cont_Table,2,0)","v":"Asia"},"All the 8 hours baby, all the 8!",7]
[null,"ID0784","2012-05-26T19:22:53",{"$f":"LEFT(tblSalaries[[#This Row],[Timestamp]],FIND(\".\",tblSalaries[[#This Row],[Timestamp]],1))","v":"41055."},"AUS$36000",36000,"USD",{"$f":"tblSalaries[[#This Row],[clean Salary (in local currency)]]*VLOOKUP(tblSalaries[[#This Row],[Currency]],tblXrate[],2,FALSE)","v":36000},"Key Expert User","Manager","Australia",{"$f":"VLOOKUP(tblSalaries[[#This Row],[Where do you work]],tblCountries[[Actual]:[Mapping]],2,FALSE)","v":"Australia"},{"$f":"VLOOKUP(tblSalaries[[#This Row],[clean Country]]&\"*\",Cont_Table,2,0)","v":"Australia"},"2 to 3 hours per day",12]
[null,"ID0785","2012-05-26T19:29:23",{"$f":"LEFT(tblSalaries[[#This Row],[Timestamp]],FIND(\".\",tblSalaries[[#This Row],[Timestamp]],1))","v":"41055."},"2.25 lakhs per year(prof income)",2250000,"INR",{"$f":"tblSalaries[[#This Row],[clean Salary (in local currency)]]*VLOOKUP(tblSalaries[[#This Row],[Currency]],tblXrate[],2,FALSE)","v":40067.812546745779},"company secretary","Accountant","India",{"$f":"VLOOKUP(tblSalaries[[#This Row],[Where do you work]],tblCountries[[Actual]:[Mapping]],2,FALSE)","v":"India"},{"$f":"VLOOKUP(tblSalaries[[#This Row],[clean Country]]&\"*\",Cont_Table,2,0)","v":"Asia"},"1 or 2 hours a day",5]
[null,"ID0786","2012-05-26T19:29:34",{"$f":"LEFT(tblSalaries[[#This Row],[Timestamp]],FIND(\".\",tblSalaries[[#This Row],[Timestamp]],1))","v":"41055."},16000,16000,"USD",{"$f":"tblSalaries[[#This Row],[clean Salary (in local currency)]]*VLOOKUP(tblSalaries[[#This Row],[Currency]],tblXrate[],2,FALSE)","v":16000},"Mis executiv","Reporting","India",{"$f":"VLOOKUP(tblSalaries[[#This Row],[Where do you work]],tblCountries[[Actual]:[Mapping]],2,FALSE)","v":"India"},{"$f":"VLOOKUP(tblSalaries[[#This Row],[clean Country]]&\"*\",Cont_Table,2,0)","v":"Asia"},"All the 8 hours baby, all the 8!",1]
[null,"ID0787","2012-05-26T19:34:12",{"$f":"LEFT(tblSalaries[[#This Row],[Timestamp]],FIND(\".\",tblSalaries[[#This Row],[Timestamp]],1))","v":"41055."},240000,240000,"INR",{"$f":"tblSalaries[[#This Row],[clean Salary (in local currency)]]*VLOOKUP(tblSalaries[[#This Row],[Currency]],tblXrate[],2,FALSE)","v":4273.9000049862161},"Analyst","Analyst","India",{"$f":"VLOOKUP(tblSalaries[[#This Row],[Where do you work]],tblCountries[[Actual]:[Mapping]],2,FALSE)","v":"India"},{"$f":"VLOOKUP(tblSalaries[[#This Row],[clean Country]]&\"*\",Cont_Table,2,0)","v":"Asia"},"All the 8 hours baby, all the 8!",4]
[null,"ID0788","2012-05-26T19:43:36",{"$f":"LEFT(tblSalaries[[#This Row],[Timestamp]],FIND(\".\",tblSalaries[[#This Row],[Timestamp]],1))","v":"41055."},"INR 400000",400000,"INR",{"$f":"tblSalaries[[#This Row],[clean Salary (in local currency)]]*VLOOKUP(tblSalaries[[#This Row],[Currency]],tblXrate[],2,FALSE)","v":7123.1666749770275},"Asst.Manager","Manager","India",{"$f":"VLOOKUP(tblSalaries[[#This Row],[Where do you work]],tblCountries[[Actual]:[Mapping]],2,FALSE)","v":"India"},{"$f":"VLOOKUP(tblSalaries[[#This Row],[clean Country]]&\"*\",Cont_Table,2,0)","v":"Asia"},"4 to 6 hours a day",7]
[null,"ID0789","2012-05-26T20:08:21",{"$f":"LEFT(tblSalaries[[#This Row],[Timestamp]],FIND(\".\",tblSalaries[[#This Row],[Timestamp]],1))","v":"41055."},10000,10000,"USD",{"$f":"tblSalaries[[#This Row],[clean Salary (in local currency)]]*VLOOKUP(tblSalaries[[#This Row],[Currency]],tblXrate[],2,FALSE)","v":10000},"BDM","Manager","India",{"$f":"VLOOKUP(tblSalaries[[#This Row],[Where do you work]],tblCountries[[Actual]:[Mapping]],2,FALSE)","v":"India"},{"$f":"VLOOKUP(tblSalaries[[#This Row],[clean Country]]&\"*\",Cont_Table,2,0)","v":"Asia"},"1 or 2 hours a day",12]
[null,"ID0790","2012-05-26T20:16:28",{"$f":"LEFT(tblSalaries[[#This Row],[Timestamp]],FIND(\".\",tblSalaries[[#This Row],[Timestamp]],1))","v":"41055."},"CA$66000",66000,"CAD",{"$f":"tblSalaries[[#This Row],[clean Salary (in local currency)]]*VLOOKUP(tblSalaries[[#This Row],[Currency]],tblXrate[],2,FALSE)","v":64901.860520001574},"Programmer-analyst","Analyst","Canada",{"$f":"VLOOKUP(tblSalaries[[#This Row],[Where do you work]],tblCountries[[Actual]:[Mapping]],2,FALSE)","v":"Canada"},{"$f":"VLOOKUP(tblSalaries[[#This Row],[clean Country]]&\"*\",Cont_Table,2,0)","v":"North America"},"2 to 3 hours per day",20]
[null,"ID0791","2012-05-26T20:19:36",{"$f":"LEFT(tblSalaries[[#This Row],[Timestamp]],FIND(\".\",tblSalaries[[#This Row],[Timestamp]],1))","v":"41055."},65000,65000,"USD",{"$f":"tblSalaries[[#This Row],[clean Salary (in local currency)]]*VLOOKUP(tblSalaries[[#This Row],[Currency]],tblXrate[],2,FALSE)","v":65000},"security analyst","Analyst","USA",{"$f":"VLOOKUP(tblSalaries[[#This Row],[Where do you work]],tblCountries[[Actual]:[Mapping]],2,FALSE)","v":"USA"},{"$f":"VLOOKUP(tblSalaries[[#This Row],[clean Country]]&\"*\",Cont_Table,2,0)","v":"North America"},"2 to 3 hours per day",10]
[null,"ID0792","2012-05-26T20:20:34",{"$f":"LEFT(tblSalaries[[#This Row],[Timestamp]],FIND(\".\",tblSalaries[[#This Row],[Timestamp]],1))","v":"41055."},"Rs 450000",450000,"INR",{"$f":"tblSalaries[[#This Row],[clean Salary (in local currency)]]*VLOOKUP(tblSalaries[[#This Row],[Currency]],tblXrate[],2,FALSE)","v":8013.5625093491553},"Material Planner","Manager","India",{"$f":"VLOOKUP(tblSalaries[[#This Row],[Where do you work]],tblCountries[[Actual]:[Mapping]],2,FALSE)","v":"India"},{"$f":"VLOOKUP(tblSalaries[[#This Row],[clean Country]]&\"*\",Cont_Table,2,0)","v":"Asia"},"All the 8 hours baby, all the 8!",1.5]
[null,"ID0793","2012-05-26T20:27:19",{"$f":"LEFT(tblSalaries[[#This Row],[Timestamp]],FIND(\".\",tblSalaries[[#This Row],[Timestamp]],1))","v":"41055."},100000,100000,"CAD",{"$f":"tblSalaries[[#This Row],[clean Salary (in local currency)]]*VLOOKUP(tblSalaries[[#This Row],[Currency]],tblXrate[],2,FALSE)","v":98336.152303032693},"VP Infrastructure","CXO or Top Mgmt.","Canada",{"$f":"VLOOKUP(tblSalaries[[#This Row],[Where do you work]],tblCountries[[Actual]:[Mapping]],2,FALSE)","v":"Canada"},{"$f":"VLOOKUP(tblSalaries[[#This Row],[clean Country]]&\"*\",Cont_Table,2,0)","v":"North America"},"4 to 6 hours a day",5]
[null,"ID0794","2012-05-26T20:31:30",{"$f":"LEFT(tblSalaries[[#This Row],[Timestamp]],FIND(\".\",tblSalaries[[#This Row],[Timestamp]],1))","v":"41055."},"ONE LACK FIFTY THOUSAND(INR)",150000,"INR",{"$f":"tblSalaries[[#This Row],[clean Salary (in local currency)]]*VLOOKUP(tblSalaries[[#This Row],[Currency]],tblXrate[],2,FALSE)","v":2671.1875031163854},"WORKING WITH PRODUCT TEAM OF MAKEMYTRIP.COM","Analyst","India",{"$f":"VLOOKUP(tblSalaries[[#This Row],[Where do you work]],tblCountries[[Actual]:[Mapping]],2,FALSE)","v":"India"},{"$f":"VLOOKUP(tblSalaries[[#This Row],[clean Country]]&\"*\",Cont_Table,2,0)","v":"Asia"},"4 to 6 hours a day",2]
[null,"ID0795","2012-05-26T20:50:07",{"$f":"LEFT(tblSalaries[[#This Row],[Timestamp]],FIND(\".\",tblSalaries[[#This Row],[Timestamp]],1))","v":"41055."},96000,96000,"USD",{"$f":"tblSalaries[[#This Row],[clean Salary (in local currency)]]*VLOOKUP(tblSalaries[[#This Row],[Currency]],tblXrate[],2,FALSE)","v":96000},"MIS Executive","Reporting","India",{"$f":"VLOOKUP(tblSalaries[[#This Row],[Where do you work]],tblCountries[[Actual]:[Mapping]],2,FALSE)","v":"India"},{"$f":"VLOOKUP(tblSalaries[[#This Row],[clean Country]]&\"*\",Cont_Table,2,0)","v":"Asia"},"All the 8 hours baby, all the 8!",8]
[null,"ID0796","2012-05-26T20:57:13",{"$f":"LEFT(tblSalaries[[#This Row],[Timestamp]],FIND(\".\",tblSalaries[[#This Row],[Timestamp]],1))","v":"41055."},"Rs. 8000",1152000,"INR",{"$f":"tblSalaries[[#This Row],[clean Salary (in local currency)]]*VLOOKUP(tblSalaries[[#This Row],[Currency]],tblXrate[],2,FALSE)","v":20514.720023933838},"Cashier","Accountant","India",{"$f":"VLOOKUP(tblSalaries[[#This Row],[Where do you work]],tblCountries[[Actual]:[Mapping]],2,FALSE)","v":"India"},{"$f":"VLOOKUP(tblSalaries[[#This Row],[clean Country]]&\"*\",Cont_Table,2,0)","v":"Asia"},"4 to 6 hours a day",6]
[null,"ID0797","2012-05-26T20:57:17",{"$f":"LEFT(tblSalaries[[#This Row],[Timestamp]],FIND(\".\",tblSalaries[[#This Row],[Timestamp]],1))","v":"41055."},15000,15000,"EUR",{"$f":"tblSalaries[[#This Row],[clean Salary (in local currency)]]*VLOOKUP(tblSalaries[[#This Row],[Currency]],tblXrate[],2,FALSE)","v":19055.991584874118},"Technician","Analyst","Spain",{"$f":"VLOOKUP(tblSalaries[[#This Row],[Where do you work]],tblCountries[[Actual]:[Mapping]],2,FALSE)","v":"Spain"},{"$f":"VLOOKUP(tblSalaries[[#This Row],[clean Country]]&\"*\",Cont_Table,2,0)","v":"Europe"},"2 to 3 hours per day",10]
[null,"ID0798","2012-05-26T21:00:40",{"$f":"LEFT(tblSalaries[[#This Row],[Timestamp]],FIND(\".\",tblSalaries[[#This Row],[Timestamp]],1))","v":"41055."},"Aud 65000",65000,"AUD",{"$f":"tblSalaries[[#This Row],[clean Salary (in local currency)]]*VLOOKUP(tblSalaries[[#This Row],[Currency]],tblXrate[],2,FALSE)","v":66294.12766617132},"Market analyst","Analyst","Australia",{"$f":"VLOOKUP(tblSalaries[[#This Row],[Where do you work]],tblCountries[[Actual]:[Mapping]],2,FALSE)","v":"Australia"},{"$f":"VLOOKUP(tblSalaries[[#This Row],[clean Country]]&\"*\",Cont_Table,2,0)","v":"Australia"},"All the 8 hours baby, all the 8!",10]
[null,"ID0799","2012-05-26T21:05:35",{"$f":"LEFT(tblSalaries[[#This Row],[Timestamp]],FIND(\".\",tblSalaries[[#This Row],[Timestamp]],1))","v":"41055."},"Rs. 377000",377000,"INR",{"$f":"tblSalaries[[#This Row],[clean Salary (in local currency)]]*VLOOKUP(tblSalaries[[#This Row],[Currency]],tblXrate[],2,FALSE)","v":6713.584591165848},"Team Developer","Analyst","India",{"$f":"VLOOKUP(tblSalaries[[#This Row],[Where do you work]],tblCountries[[Actual]:[Mapping]],2,FALSE)","v":"India"},{"$f":"VLOOKUP(tblSalaries[[#This Row],[clean Country]]&\"*\",Cont_Table,2,0)","v":"Asia"},"1 or 2 hours a day",7]
[null,"ID0800","2012-05-26T21:07:14",{"$f":"LEFT(tblSalaries[[#This Row],[Timestamp]],FIND(\".\",tblSalaries[[#This Row],[Timestamp]],1))","v":"41055."},"Â£29000",29000,"GBP",{"$f":"tblSalaries[[#This Row],[clean Salary (in local currency)]]*VLOOKUP(tblSalaries[[#This Row],[Currency]],tblXrate[],2,FALSE)","v":45709.169889951241},"Reporting Assistant","Reporting","UK",{"$f":"VLOOKUP(tblSalaries[[#This Row],[Where do you work]],tblCountries[[Actual]:[Mapping]],2,FALSE)","v":"UK"},{"$f":"VLOOKUP(tblSalaries[[#This Row],[clean Country]]&\"*\",Cont_Table,2,0)","v":"Europe"},"2 to 3 hours per day",15]
[null,"ID0801","2012-05-26T21:10:20",{"$f":"LEFT(tblSalaries[[#This Row],[Timestamp]],FIND(\".\",tblSalaries[[#This Row],[Timestamp]],1))","v":"41055."},48500,48500,"USD",{"$f":"tblSalaries[[#This Row],[clean Salary (in local currency)]]*VLOOKUP(tblSalaries[[#This Row],[Currency]],tblXrate[],2,FALSE)","v":48500},"Loss Prevention Finance Coordinator","Manager","USA",{"$f":"VLOOKUP(tblSalaries[[#This Row],[Where do you work]],tblCountries[[Actual]:[Mapping]],2,FALSE)","v":"USA"},{"$f":"VLOOKUP(tblSalaries[[#This Row],[clean Country]]&\"*\",Cont_Table,2,0)","v":"North America"},"2 to 3 hours per day",10]
[null,"ID0802","2012-05-26T21:13:02",{"$f":"LEFT(tblSalaries[[#This Row],[Timestamp]],FIND(\".\",tblSalaries[[#This Row],[Timestamp]],1))","v":"41055."},600000,600000,"INR",{"$f":"tblSalaries[[#This Row],[clean Salary (in local currency)]]*VLOOKUP(tblSalaries[[#This Row],[Currency]],tblXrate[],2,FALSE)","v":10684.750012465542},"MIS Analyst","Analyst","India",{"$f":"VLOOKUP(tblSalaries[[#This Row],[Where do you work]],tblCountries[[Actual]:[Mapping]],2,FALSE)","v":"India"},{"$f":"VLOOKUP(tblSalaries[[#This Row],[clean Country]]&\"*\",Cont_Table,2,0)","v":"Asia"},"All the 8 hours baby, all the 8!",4]
[null,"ID0803","2012-05-26T21:13:51",{"$f":"LEFT(tblSalaries[[#This Row],[Timestamp]],FIND(\".\",tblSalaries[[#This Row],[Timestamp]],1))","v":"41055."},33900,33900,"USD",{"$f":"tblSalaries[[#This Row],[clean Salary (in local currency)]]*VLOOKUP(tblSalaries[[#This Row],[Currency]],tblXrate[],2,FALSE)","v":33900},"Administrative Assistant","Analyst","USA",{"$f":"VLOOKUP(tblSalaries[[#This Row],[Where do you work]],tblCountries[[Actual]:[Mapping]],2,FALSE)","v":"USA"},{"$f":"VLOOKUP(tblSalaries[[#This Row],[clean Country]]&\"*\",Cont_Table,2,0)","v":"North America"},"2 to 3 hours per day",10]
[null,"ID0804","2012-05-26T21:24:39",{"$f":"LEFT(tblSalaries[[#This Row],[Timestamp]],FIND(\".\",tblSalaries[[#This Row],[Timestamp]],1))","v":"41055."},"ZAR900,000",900000,"ZAR",{"$f":"tblSalaries[[#This Row],[clean Salary (in local currency)]]*VLOOKUP(tblSalaries[[#This Row],[Currency]],tblXrate[],2,FALSE)","v":109729.60187662003},"Business Analyst","Analyst","South Africa",{"$f":"VLOOKUP(tblSalaries[[#This Row],[Where do you work]],tblCountries[[Actual]:[Mapping]],2,FALSE)","v":"South Africa"},{"$f":"VLOOKUP(tblSalaries[[#This Row],[clean Country]]&\"*\",Cont_Table,2,0)","v":"Africa"},"All the 8 hours baby, all the 8!",40]
[null,"ID0805","2012-05-26T21:27:01",{"$f":"LEFT(tblSalaries[[#This Row],[Timestamp]],FIND(\".\",tblSalaries[[#This Row],[Timestamp]],1))","v":"41055."},850000,850000,"INR",{"$f":"tblSalaries[[#This Row],[clean Salary (in local currency)]]*VLOOKUP(tblSalaries[[#This Row],[Currency]],tblXrate[],2,FALSE)","v":15136.729184326183},"Senior Research Analyst","Analyst","India",{"$f":"VLOOKUP(tblSalaries[[#This Row],[Where do you work]],tblCountries[[Actual]:[Mapping]],2,FALSE)","v":"India"},{"$f":"VLOOKUP(tblSalaries[[#This Row],[clean Country]]&\"*\",Cont_Table,2,0)","v":"Asia"},"4 to 6 hours a day",2]
[null,"ID0806","2012-05-26T21:27:17",{"$f":"LEFT(tblSalaries[[#This Row],[Timestamp]],FIND(\".\",tblSalaries[[#This Row],[Timestamp]],1))","v":"41055."},85000,85000,"USD",{"$f":"tblSalaries[[#This Row],[clean Salary (in local currency)]]*VLOOKUP(tblSalaries[[#This Row],[Currency]],tblXrate[],2,FALSE)","v":85000},"Director, IT/Operations","CXO or Top Mgmt.","USA",{"$f":"VLOOKUP(tblSalaries[[#This Row],[Where do you work]],tblCountries[[Actual]:[Mapping]],2,FALSE)","v":"USA"},{"$f":"VLOOKUP(tblSalaries[[#This Row],[clean Country]]&\"*\",Cont_Table,2,0)","v":"North America"},"4 to 6 hours a day",15]
[null,"ID0807","2012-05-26T21:40:49",{"$f":"LEFT(tblSalaries[[#This Row],[Timestamp]],FIND(\".\",tblSalaries[[#This Row],[Timestamp]],1))","v":"41055."},"Rs. 450000",450000,"INR",{"$f":"tblSalaries[[#This Row],[clean Salary (in local currency)]]*VLOOKUP(tblSalaries[[#This Row],[Currency]],tblXrate[],2,FALSE)","v":8013.5625093491553},"Sr. Executive","Manager","India",{"$f":"VLOOKUP(tblSalaries[[#This Row],[Where do you work]],tblCountries[[Actual]:[Mapping]],2,FALSE)","v":"India"},{"$f":"VLOOKUP(tblSalaries[[#This Row],[clean Country]]&\"*\",Cont_Table,2,0)","v":"Asia"},"4 to 6 hours a day",6]
[null,"ID0808","2012-05-26T21:43:54",{"$f":"LEFT(tblSalaries[[#This Row],[Timestamp]],FIND(\".\",tblSalaries[[#This Row],[Timestamp]],1))","v":"41055."},48000,48000,"USD",{"$f":"tblSalaries[[#This Row],[clean Salary (in local currency)]]*VLOOKUP(tblSalaries[[#This Row],[Currency]],tblXrate[],2,FALSE)","v":48000},"Operations Support Coordinator","Manager","USA",{"$f":"VLOOKUP(tblSalaries[[#This Row],[Where do you work]],tblCountries[[Actual]:[Mapping]],2,FALSE)","v":"USA"},{"$f":"VLOOKUP(tblSalaries[[#This Row],[clean Country]]&\"*\",Cont_Table,2,0)","v":"North America"},"2 to 3 hours per day",16]
[null,"ID0809","2012-05-26T21:56:36",{"$f":"LEFT(tblSalaries[[#This Row],[Timestamp]],FIND(\".\",tblSalaries[[#This Row],[Timestamp]],1))","v":"41055."},170000,170000,"INR",{"$f":"tblSalaries[[#This Row],[clean Salary (in local currency)]]*VLOOKUP(tblSalaries[[#This Row],[Currency]],tblXrate[],2,FALSE)","v":3027.3458368652364},"Sr. Executive MIS","Reporting","India",{"$f":"VLOOKUP(tblSalaries[[#This Row],[Where do you work]],tblCountries[[Actual]:[Mapping]],2,FALSE)","v":"India"},{"$f":"VLOOKUP(tblSalaries[[#This Row],[clean Country]]&\"*\",Cont_Table,2,0)","v":"Asia"},"4 to 6 hours a day",2]
[null,"ID0810","2012-05-26T21:56:49",{"$f":"LEFT(tblSalaries[[#This Row],[Timestamp]],FIND(\".\",tblSalaries[[#This Row],[Timestamp]],1))","v":"41055."},13100,13100,"USD",{"$f":"tblSalaries[[#This Row],[clean Salary (in local currency)]]*VLOOKUP(tblSalaries[[#This Row],[Currency]],tblXrate[],2,FALSE)","v":13100},"accountant","Accountant","India",{"$f":"VLOOKUP(tblSalaries[[#This Row],[Where do you work]],tblCountries[[Actual]:[Mapping]],2,FALSE)","v":"India"},{"$f":"VLOOKUP(tblSalaries[[#This Row],[clean Country]]&\"*\",Cont_Table,2,0)","v":"Asia"},"2 to 3 hours per day",5]
[null,"ID0811","2012-05-26T22:02:53",{"$f":"LEFT(tblSalaries[[#This Row],[Timestamp]],FIND(\".\",tblSalaries[[#This Row],[Timestamp]],1))","v":"41055."},5000,60000,"USD",{"$f":"tblSalaries[[#This Row],[clean Salary (in local currency)]]*VLOOKUP(tblSalaries[[#This Row],[Currency]],tblXrate[],2,FALSE)","v":60000},"Audit Manager","Manager","UAE",{"$f":"VLOOKUP(tblSalaries[[#This Row],[Where do you work]],tblCountries[[Actual]:[Mapping]],2,FALSE)","v":"UAE"},{"$f":"VLOOKUP(tblSalaries[[#This Row],[clean Country]]&\"*\",Cont_Table,2,0)","v":"Asia"},"2 to 3 hours per day",15]
[null,"ID0812","2012-05-26T22:07:39",{"$f":"LEFT(tblSalaries[[#This Row],[Timestamp]],FIND(\".\",tblSalaries[[#This Row],[Timestamp]],1))","v":"41055."},"24000 $",24000,"USD",{"$f":"tblSalaries[[#This Row],[clean Salary (in local currency)]]*VLOOKUP(tblSalaries[[#This Row],[Currency]],tblXrate[],2,FALSE)","v":24000},"Logistic KA Manager","Manager","Croatia",{"$f":"VLOOKUP(tblSalaries[[#This Row],[Where do you work]],tblCountries[[Actual]:[Mapping]],2,FALSE)","v":"Croatia"},{"$f":"VLOOKUP(tblSalaries[[#This Row],[clean Country]]&\"*\",Cont_Table,2,0)","v":"Europe"},"2 to 3 hours per day",5]
[null,"ID0813","2012-05-26T22:08:56",{"$f":"LEFT(tblSalaries[[#This Row],[Timestamp]],FIND(\".\",tblSalaries[[#This Row],[Timestamp]],1))","v":"41055."},"Rs 20000",240000,"INR",{"$f":"tblSalaries[[#This Row],[clean Salary (in local currency)]]*VLOOKUP(tblSalaries[[#This Row],[Currency]],tblXrate[],2,FALSE)","v":4273.9000049862161},"MANAGER","Manager","India",{"$f":"VLOOKUP(tblSalaries[[#This Row],[Where do you work]],tblCountries[[Actual]:[Mapping]],2,FALSE)","v":"India"},{"$f":"VLOOKUP(tblSalaries[[#This Row],[clean Country]]&\"*\",Cont_Table,2,0)","v":"Asia"},"2 to 3 hours per day",3]
[null,"ID0814","2012-05-26T22:16:10",{"$f":"LEFT(tblSalaries[[#This Row],[Timestamp]],FIND(\".\",tblSalaries[[#This Row],[Timestamp]],1))","v":"41055."},"INR 650000",650000,"INR",{"$f":"tblSalaries[[#This Row],[clean Salary (in local currency)]]*VLOOKUP(tblSalaries[[#This Row],[Currency]],tblXrate[],2,FALSE)","v":11575.14584683767},"Deputy Manager","Manager","India",{"$f":"VLOOKUP(tblSalaries[[#This Row],[Where do you work]],tblCountries[[Actual]:[Mapping]],2,FALSE)","v":"India"},{"$f":"VLOOKUP(tblSalaries[[#This Row],[clean Country]]&\"*\",Cont_Table,2,0)","v":"Asia"},"2 to 3 hours per day",5]
[null,"ID0815","2012-05-26T22:22:58",{"$f":"LEFT(tblSalaries[[#This Row],[Timestamp]],FIND(\".\",tblSalaries[[#This Row],[Timestamp]],1))","v":"41055."},95000,95000,"USD",{"$f":"tblSalaries[[#This Row],[clean Salary (in local currency)]]*VLOOKUP(tblSalaries[[#This Row],[Currency]],tblXrate[],2,FALSE)","v":95000},"Business Analyst","Analyst","USA",{"$f":"VLOOKUP(tblSalaries[[#This Row],[Where do you work]],tblCountries[[Actual]:[Mapping]],2,FALSE)","v":"USA"},{"$f":"VLOOKUP(tblSalaries[[#This Row],[clean Country]]&\"*\",Cont_Table,2,0)","v":"North America"},"2 to 3 hours per day",13]
[null,"ID0816","2012-05-26T22:23:38",{"$f":"LEFT(tblSalaries[[#This Row],[Timestamp]],FIND(\".\",tblSalaries[[#This Row],[Timestamp]],1))","v":"41055."},516000,516000,"INR",{"$f":"tblSalaries[[#This Row],[clean Salary (in local currency)]]*VLOOKUP(tblSalaries[[#This Row],[Currency]],tblXrate[],2,FALSE)","v":9188.8850107203652},"Management Trainee","Manager","India",{"$f":"VLOOKUP(tblSalaries[[#This Row],[Where do you work]],tblCountries[[Actual]:[Mapping]],2,FALSE)","v":"India"},{"$f":"VLOOKUP(tblSalaries[[#This Row],[clean Country]]&\"*\",Cont_Table,2,0)","v":"Asia"},"4 to 6 hours a day",0]
[null,"ID0817","2012-05-26T22:29:16",{"$f":"LEFT(tblSalaries[[#This Row],[Timestamp]],FIND(\".\",tblSalaries[[#This Row],[Timestamp]],1))","v":"41055."},"3500 Rs",504000,"INR",{"$f":"tblSalaries[[#This Row],[clean Salary (in local currency)]]*VLOOKUP(tblSalaries[[#This Row],[Currency]],tblXrate[],2,FALSE)","v":8975.1900104710548},"MNR","Manager","India",{"$f":"VLOOKUP(tblSalaries[[#This Row],[Where do you work]],tblCountries[[Actual]:[Mapping]],2,FALSE)","v":"India"},{"$f":"VLOOKUP(tblSalaries[[#This Row],[clean Country]]&\"*\",Cont_Table,2,0)","v":"Asia"},"All the 8 hours baby, all the 8!",3]
[null,"ID0818","2012-05-26T22:29:21",{"$f":"LEFT(tblSalaries[[#This Row],[Timestamp]],FIND(\".\",tblSalaries[[#This Row],[Timestamp]],1))","v":"41055."},144000,144000,"INR",{"$f":"tblSalaries[[#This Row],[clean Salary (in local currency)]]*VLOOKUP(tblSalaries[[#This Row],[Currency]],tblXrate[],2,FALSE)","v":2564.3400029917298},"BPO information process enabler","Analyst","India",{"$f":"VLOOKUP(tblSalaries[[#This Row],[Where do you work]],tblCountries[[Actual]:[Mapping]],2,FALSE)","v":"India"},{"$f":"VLOOKUP(tblSalaries[[#This Row],[clean Country]]&\"*\",Cont_Table,2,0)","v":"Asia"},"All the 8 hours baby, all the 8!",1]
[null,"ID0820","2012-05-26T22:43:11",{"$f":"LEFT(tblSalaries[[#This Row],[Timestamp]],FIND(\".\",tblSalaries[[#This Row],[Timestamp]],1))","v":"41055."},"Â£55000",55000,"GBP",{"$f":"tblSalaries[[#This Row],[clean Salary (in local currency)]]*VLOOKUP(tblSalaries[[#This Row],[Currency]],tblXrate[],2,FALSE)","v":86689.804963700633},"Financial controller","Controller","UK",{"$f":"VLOOKUP(tblSalaries[[#This Row],[Where do you work]],tblCountries[[Actual]:[Mapping]],2,FALSE)","v":"UK"},{"$f":"VLOOKUP(tblSalaries[[#This Row],[clean Country]]&\"*\",Cont_Table,2,0)","v":"Europe"},"4 to 6 hours a day",12]
[null,"ID0821","2012-05-26T22:43:12",{"$f":"LEFT(tblSalaries[[#This Row],[Timestamp]],FIND(\".\",tblSalaries[[#This Row],[Timestamp]],1))","v":"41055."},15500,15500,"USD",{"$f":"tblSalaries[[#This Row],[clean Salary (in local currency)]]*VLOOKUP(tblSalaries[[#This Row],[Currency]],tblXrate[],2,FALSE)","v":15500},"Engineer","Engineer","India",{"$f":"VLOOKUP(tblSalaries[[#This Row],[Where do you work]],tblCountries[[Actual]:[Mapping]],2,FALSE)","v":"India"},{"$f":"VLOOKUP(tblSalaries[[#This Row],[clean Country]]&\"*\",Cont_Table,2,0)","v":"Asia"},"1 or 2 hours a day",3]
[null,"ID0822","2012-05-26T22:45:14",{"$f":"LEFT(tblSalaries[[#This Row],[Timestamp]],FIND(\".\",tblSalaries[[#This Row],[Timestamp]],1))","v":"41055."},"R$3.000,00",300000,"BRL",{"$f":"tblSalaries[[#This Row],[clean Salary (in local currency)]]*VLOOKUP(tblSalaries[[#This Row],[Currency]],tblXrate[],2,FALSE)","v":148284.35006969364},"Market Intelligence Analyst","Analyst","Brazil",{"$f":"VLOOKUP(tblSalaries[[#This Row],[Where do you work]],tblCountries[[Actual]:[Mapping]],2,FALSE)","v":"Brazil"},{"$f":"VLOOKUP(tblSalaries[[#This Row],[clean Country]]&\"*\",Cont_Table,2,0)","v":"South America"},"All the 8 hours baby, all the 8!",3]
[null,"ID0823","2012-05-26T22:48:11",{"$f":"LEFT(tblSalaries[[#This Row],[Timestamp]],FIND(\".\",tblSalaries[[#This Row],[Timestamp]],1))","v":"41055."},600000,600000,"INR",{"$f":"tblSalaries[[#This Row],[clean Salary (in local currency)]]*VLOOKUP(tblSalaries[[#This Row],[Currency]],tblXrate[],2,FALSE)","v":10684.750012465542},"Reporting Analyst","Analyst","India",{"$f":"VLOOKUP(tblSalaries[[#This Row],[Where do you work]],tblCountries[[Actual]:[Mapping]],2,FALSE)","v":"India"},{"$f":"VLOOKUP(tblSalaries[[#This Row],[clean Country]]&\"*\",Cont_Table,2,0)","v":"Asia"},"All the 8 hours baby, all the 8!",5]
[null,"ID0824","2012-05-26T22:49:34",{"$f":"LEFT(tblSalaries[[#This Row],[Timestamp]],FIND(\".\",tblSalaries[[#This Row],[Timestamp]],1))","v":"41055."},75000,75000,"USD",{"$f":"tblSalaries[[#This Row],[clean Salary (in local currency)]]*VLOOKUP(tblSalaries[[#This Row],[Currency]],tblXrate[],2,FALSE)","v":75000},"sr financial analyst","Analyst","USA",{"$f":"VLOOKUP(tblSalaries[[#This Row],[Where do you work]],tblCountries[[Actual]:[Mapping]],2,FALSE)","v":"USA"},{"$f":"VLOOKUP(tblSalaries[[#This Row],[clean Country]]&\"*\",Cont_Table,2,0)","v":"North America"},"2 to 3 hours per day",27]
[null,"ID0825","2012-05-26T22:53:35",{"$f":"LEFT(tblSalaries[[#This Row],[Timestamp]],FIND(\".\",tblSalaries[[#This Row],[Timestamp]],1))","v":"41055."},"12000 $",12000,"USD",{"$f":"tblSalaries[[#This Row],[clean Salary (in local currency)]]*VLOOKUP(tblSalaries[[#This Row],[Currency]],tblXrate[],2,FALSE)","v":12000},"Investment manager","Manager","Ukraine",{"$f":"VLOOKUP(tblSalaries[[#This Row],[Where do you work]],tblCountries[[Actual]:[Mapping]],2,FALSE)","v":"Ukraine"},{"$f":"VLOOKUP(tblSalaries[[#This Row],[clean Country]]&\"*\",Cont_Table,2,0)","v":"Europe"},"4 to 6 hours a day",5]
[null,"ID0826","2012-05-26T23:02:00",{"$f":"LEFT(tblSalaries[[#This Row],[Timestamp]],FIND(\".\",tblSalaries[[#This Row],[Timestamp]],1))","v":"41055."},"INR 1700000",1700000,"INR",{"$f":"tblSalaries[[#This Row],[clean Salary (in local currency)]]*VLOOKUP(tblSalaries[[#This Row],[Currency]],tblXrate[],2,FALSE)","v":30273.458368652366},"Operations Lead","Manager","India",{"$f":"VLOOKUP(tblSalaries[[#This Row],[Where do you work]],tblCountries[[Actual]:[Mapping]],2,FALSE)","v":"India"},{"$f":"VLOOKUP(tblSalaries[[#This Row],[clean Country]]&\"*\",Cont_Table,2,0)","v":"Asia"},"All the 8 hours baby, all the 8!",1.1000000000000001]
[null,"ID0827","2012-05-26T23:03:21",{"$f":"LEFT(tblSalaries[[#This Row],[Timestamp]],FIND(\".\",tblSalaries[[#This Row],[Timestamp]],1))","v":"41055."},"US$30,000",30000,"USD",{"$f":"tblSalaries[[#This Row],[clean Salary (in local currency)]]*VLOOKUP(tblSalaries[[#This Row],[Currency]],tblXrate[],2,FALSE)","v":30000},"Financial Control Section Headm","Controller","Inonesia",{"$f":"VLOOKUP(tblSalaries[[#This Row],[Where do you work]],tblCountries[[Actual]:[Mapping]],2,FALSE)","v":"Indonesia"},{"$f":"VLOOKUP(tblSalaries[[#This Row],[clean Country]]&\"*\",Cont_Table,2,0)","v":"Asia"},"4 to 6 hours a day",7]
[null,"ID0828","2012-05-26T23:03:59",{"$f":"LEFT(tblSalaries[[#This Row],[Timestamp]],FIND(\".\",tblSalaries[[#This Row],[Timestamp]],1))","v":"41055."},"30000 Rs",360000,"INR",{"$f":"tblSalaries[[#This Row],[clean Salary (in local currency)]]*VLOOKUP(tblSalaries[[#This Row],[Currency]],tblXrate[],2,FALSE)","v":6410.8500074793246},"Application Developer","Analyst","India",{"$f":"VLOOKUP(tblSalaries[[#This Row],[Where do you work]],tblCountries[[Actual]:[Mapping]],2,FALSE)","v":"India"},{"$f":"VLOOKUP(tblSalaries[[#This Row],[clean Country]]&\"*\",Cont_Table,2,0)","v":"Asia"},"All the 8 hours baby, all the 8!",4]
[null,"ID0829","2012-05-26T23:04:02",{"$f":"LEFT(tblSalaries[[#This Row],[Timestamp]],FIND(\".\",tblSalaries[[#This Row],[Timestamp]],1))","v":"41055."},100000,100000,"USD",{"$f":"tblSalaries[[#This Row],[clean Salary (in local currency)]]*VLOOKUP(tblSalaries[[#This Row],[Currency]],tblXrate[],2,FALSE)","v":100000},"director","CXO or Top Mgmt.","USA",{"$f":"VLOOKUP(tblSalaries[[#This Row],[Where do you work]],tblCountries[[Actual]:[Mapping]],2,FALSE)","v":"USA"},{"$f":"VLOOKUP(tblSalaries[[#This Row],[clean Country]]&\"*\",Cont_Table,2,0)","v":"North America"},"4 to 6 hours a day",10]
[null,"ID0830","2012-05-26T23:04:53",{"$f":"LEFT(tblSalaries[[#This Row],[Timestamp]],FIND(\".\",tblSalaries[[#This Row],[Timestamp]],1))","v":"41055."},42000,42000,"EUR",{"$f":"tblSalaries[[#This Row],[clean Salary (in local currency)]]*VLOOKUP(tblSalaries[[#This Row],[Currency]],tblXrate[],2,FALSE)","v":53356.776437647524},"Project Engineer","Engineer","The Netherlands",{"$f":"VLOOKUP(tblSalaries[[#This Row],[Where do you work]],tblCountries[[Actual]:[Mapping]],2,FALSE)","v":"Netherlands"},{"$f":"VLOOKUP(tblSalaries[[#This Row],[clean Country]]&\"*\",Cont_Table,2,0)","v":"Europe"},"4 to 6 hours a day",2]
[null,"ID0831","2012-05-26T23:05:15",{"$f":"LEFT(tblSalaries[[#This Row],[Timestamp]],FIND(\".\",tblSalaries[[#This Row],[Timestamp]],1))","v":"41055."},40000,40000,"USD",{"$f":"tblSalaries[[#This Row],[clean Salary (in local currency)]]*VLOOKUP(tblSalaries[[#This Row],[Currency]],tblXrate[],2,FALSE)","v":40000},"High School Teacher","Manager","USA",{"$f":"VLOOKUP(tblSalaries[[#This Row],[Where do you work]],tblCountries[[Actual]:[Mapping]],2,FALSE)","v":"USA"},{"$f":"VLOOKUP(tblSalaries[[#This Row],[clean Country]]&\"*\",Cont_Table,2,0)","v":"North America"},"2 to 3 hours per day",20]
[null,"ID0832","2012-05-26T23:14:58",{"$f":"LEFT(tblSalaries[[#This Row],[Timestamp]],FIND(\".\",tblSalaries[[#This Row],[Timestamp]],1))","v":"41055."},"5.5 lakhs",550000,"INR",{"$f":"tblSalaries[[#This Row],[clean Salary (in local currency)]]*VLOOKUP(tblSalaries[[#This Row],[Currency]],tblXrate[],2,FALSE)","v":9794.354178093412},"web analyst","Analyst","India",{"$f":"VLOOKUP(tblSalaries[[#This Row],[Where do you work]],tblCountries[[Actual]:[Mapping]],2,FALSE)","v":"India"},{"$f":"VLOOKUP(tblSalaries[[#This Row],[clean Country]]&\"*\",Cont_Table,2,0)","v":"Asia"},"4 to 6 hours a day",1]
[null,"ID0833","2012-05-26T23:15:18",{"$f":"LEFT(tblSalaries[[#This Row],[Timestamp]],FIND(\".\",tblSalaries[[#This Row],[Timestamp]],1))","v":"41055."},"65000 ron",65000,"RON",{"$f":"tblSalaries[[#This Row],[clean Salary (in local currency)]]*VLOOKUP(tblSalaries[[#This Row],[Currency]],tblXrate[],2,FALSE)","v":18499.860539512854},"HR Planning Specialist","Specialist","Romania",{"$f":"VLOOKUP(tblSalaries[[#This Row],[Where do you work]],tblCountries[[Actual]:[Mapping]],2,FALSE)","v":"Romania"},{"$f":"VLOOKUP(tblSalaries[[#This Row],[clean Country]]&\"*\",Cont_Table,2,0)","v":"Europe"},"4 to 6 hours a day",6]
[null,"ID0834","2012-05-26T23:17:09",{"$f":"LEFT(tblSalaries[[#This Row],[Timestamp]],FIND(\".\",tblSalaries[[#This Row],[Timestamp]],1))","v":"41055."},"15600 â‚¬",15600,"EUR",{"$f":"tblSalaries[[#This Row],[clean Salary (in local currency)]]*VLOOKUP(tblSalaries[[#This Row],[Currency]],tblXrate[],2,FALSE)","v":19818.231248269083},"Managment controller","Controller","Portugal",{"$f":"VLOOKUP(tblSalaries[[#This Row],[Where do you work]],tblCountries[[Actual]:[Mapping]],2,FALSE)","v":"Portugal"},{"$f":"VLOOKUP(tblSalaries[[#This Row],[clean Country]]&\"*\",Cont_Table,2,0)","v":"Europe"},"4 to 6 hours a day",5]
[null,"ID0835","2012-05-26T23:21:57",{"$f":"LEFT(tblSalaries[[#This Row],[Timestamp]],FIND(\".\",tblSalaries[[#This Row],[Timestamp]],1))","v":"41055."},"Rs.6,00,000/-",600000,"INR",{"$f":"tblSalaries[[#This Row],[clean Salary (in local currency)]]*VLOOKUP(tblSalaries[[#This Row],[Currency]],tblXrate[],2,FALSE)","v":10684.750012465542},"AO","Manager","India",{"$f":"VLOOKUP(tblSalaries[[#This Row],[Where do you work]],tblCountries[[Actual]:[Mapping]],2,FALSE)","v":"India"},{"$f":"VLOOKUP(tblSalaries[[#This Row],[clean Country]]&\"*\",Cont_Table,2,0)","v":"Asia"},"All the 8 hours baby, all the 8!",20]
[null,"ID0836","2012-05-26T23:36:14",{"$f":"LEFT(tblSalaries[[#This Row],[Timestamp]],FIND(\".\",tblSalaries[[#This Row],[Timestamp]],1))","v":"41055."},"Rs. 6,00,000",600000,"INR",{"$f":"tblSalaries[[#This Row],[clean Salary (in local currency)]]*VLOOKUP(tblSalaries[[#This Row],[Currency]],tblXrate[],2,FALSE)","v":10684.750012465542},"Project Manager","Manager","India",{"$f":"VLOOKUP(tblSalaries[[#This Row],[Where do you work]],tblCountries[[Actual]:[Mapping]],2,FALSE)","v":"India"},{"$f":"VLOOKUP(tblSalaries[[#This Row],[clean Country]]&\"*\",Cont_Table,2,0)","v":"Asia"},"2 to 3 hours per day",18]
[null,"ID0837","2012-05-26T23:38:24",{"$f":"LEFT(tblSalaries[[#This Row],[Timestamp]],FIND(\".\",tblSalaries[[#This Row],[Timestamp]],1))","v":"41055."},1000000,1000000,"INR",{"$f":"tblSalaries[[#This Row],[clean Salary (in local currency)]]*VLOOKUP(tblSalaries[[#This Row],[Currency]],tblXrate[],2,FALSE)","v":17807.916687442568},"business analyist","Analyst","India",{"$f":"VLOOKUP(tblSalaries[[#This Row],[Where do you work]],tblCountries[[Actual]:[Mapping]],2,FALSE)","v":"India"},{"$f":"VLOOKUP(tblSalaries[[#This Row],[clean Country]]&\"*\",Cont_Table,2,0)","v":"Asia"},"4 to 6 hours a day",10]
[null,"ID0838","2012-05-26T23:47:34",{"$f":"LEFT(tblSalaries[[#This Row],[Timestamp]],FIND(\".\",tblSalaries[[#This Row],[Timestamp]],1))","v":"41055."},"13000 USD",13000,"USD",{"$f":"tblSalaries[[#This Row],[clean Salary (in local currency)]]*VLOOKUP(tblSalaries[[#This Row],[Currency]],tblXrate[],2,FALSE)","v":13000},"Business Analyst","Analyst","India",{"$f":"VLOOKUP(tblSalaries[[#This Row],[Where do you work]],tblCountries[[Actual]:[Mapping]],2,FALSE)","v":"India"},{"$f":"VLOOKUP(tblSalaries[[#This Row],[clean Country]]&\"*\",Cont_Table,2,0)","v":"Asia"},"All the 8 hours baby, all the 8!",6]
[null,"ID0839","2012-05-26T23:58:53",{"$f":"LEFT(tblSalaries[[#This Row],[Timestamp]],FIND(\".\",tblSalaries[[#This Row],[Timestamp]],1))","v":"41055."},"900000 Rs",900000,"INR",{"$f":"tblSalaries[[#This Row],[clean Salary (in local currency)]]*VLOOKUP(tblSalaries[[#This Row],[Currency]],tblXrate[],2,FALSE)","v":16027.125018698311},"Deputy Manager","Manager","India",{"$f":"VLOOKUP(tblSalaries[[#This Row],[Where do you work]],tblCountries[[Actual]:[Mapping]],2,FALSE)","v":"India"},{"$f":"VLOOKUP(tblSalaries[[#This Row],[clean Country]]&\"*\",Cont_Table,2,0)","v":"Asia"},"1 or 2 hours a day",9]
[null,"ID0840","2012-05-27T00:02:45",{"$f":"LEFT(tblSalaries[[#This Row],[Timestamp]],FIND(\".\",tblSalaries[[#This Row],[Timestamp]],1))","v":"41056."},85000,85000,"USD",{"$f":"tblSalaries[[#This Row],[clean Salary (in local currency)]]*VLOOKUP(tblSalaries[[#This Row],[Currency]],tblXrate[],2,FALSE)","v":85000},"actuary","Accountant","USA",{"$f":"VLOOKUP(tblSalaries[[#This Row],[Where do you work]],tblCountries[[Actual]:[Mapping]],2,FALSE)","v":"USA"},{"$f":"VLOOKUP(tblSalaries[[#This Row],[clean Country]]&\"*\",Cont_Table,2,0)","v":"North America"},"All the 8 hours baby, all the 8!",1]
[null,"ID0841","2012-05-27T00:07:52",{"$f":"LEFT(tblSalaries[[#This Row],[Timestamp]],FIND(\".\",tblSalaries[[#This Row],[Timestamp]],1))","v":"41056."},6000,6000,"USD",{"$f":"tblSalaries[[#This Row],[clean Salary (in local currency)]]*VLOOKUP(tblSalaries[[#This Row],[Currency]],tblXrate[],2,FALSE)","v":6000},"Analysis Quality","Analyst","Colombia - South America",{"$f":"VLOOKUP(tblSalaries[[#This Row],[Where do you work]],tblCountries[[Actual]:[Mapping]],2,FALSE)","v":"Colombia"},{"$f":"VLOOKUP(tblSalaries[[#This Row],[clean Country]]&\"*\",Cont_Table,2,0)","v":"South America"},"1 or 2 hours a day",10]
[null,"ID0842","2012-05-27T00:12:53",{"$f":"LEFT(tblSalaries[[#This Row],[Timestamp]],FIND(\".\",tblSalaries[[#This Row],[Timestamp]],1))","v":"41056."},30000,30000,"USD",{"$f":"tblSalaries[[#This Row],[clean Salary (in local currency)]]*VLOOKUP(tblSalaries[[#This Row],[Currency]],tblXrate[],2,FALSE)","v":30000},"MIS Executive","Reporting","India",{"$f":"VLOOKUP(tblSalaries[[#This Row],[Where do you work]],tblCountries[[Actual]:[Mapping]],2,FALSE)","v":"India"},{"$f":"VLOOKUP(tblSalaries[[#This Row],[clean Country]]&\"*\",Cont_Table,2,0)","v":"Asia"},"4 to 6 hours a day",2]
[null,"ID0844","2012-05-27T00:19:04",{"$f":"LEFT(tblSalaries[[#This Row],[Timestamp]],FIND(\".\",tblSalaries[[#This Row],[Timestamp]],1))","v":"41056."},100000,100000,"GBP",{"$f":"tblSalaries[[#This Row],[clean Salary (in local currency)]]*VLOOKUP(tblSalaries[[#This Row],[Currency]],tblXrate[],2,FALSE)","v":157617.8272067284},"Financial Controller","Controller","UK",{"$f":"VLOOKUP(tblSalaries[[#This Row],[Where do you work]],tblCountries[[Actual]:[Mapping]],2,FALSE)","v":"UK"},{"$f":"VLOOKUP(tblSalaries[[#This Row],[clean Country]]&\"*\",Cont_Table,2,0)","v":"Europe"},"2 to 3 hours per day",20]
[null,"ID0845","2012-05-27T00:33:06",{"$f":"LEFT(tblSalaries[[#This Row],[Timestamp]],FIND(\".\",tblSalaries[[#This Row],[Timestamp]],1))","v":"41056."},"1200000 Rs",1200000,"INR",{"$f":"tblSalaries[[#This Row],[clean Salary (in local currency)]]*VLOOKUP(tblSalaries[[#This Row],[Currency]],tblXrate[],2,FALSE)","v":21369.500024931083},"project manager","Manager","India",{"$f":"VLOOKUP(tblSalaries[[#This Row],[Where do you work]],tblCountries[[Actual]:[Mapping]],2,FALSE)","v":"India"},{"$f":"VLOOKUP(tblSalaries[[#This Row],[clean Country]]&\"*\",Cont_Table,2,0)","v":"Asia"},"1 or 2 hours a day",18]
[null,"ID0846","2012-05-27T00:53:20",{"$f":"LEFT(tblSalaries[[#This Row],[Timestamp]],FIND(\".\",tblSalaries[[#This Row],[Timestamp]],1))","v":"41056."},"2 lac",200000,"INR",{"$f":"tblSalaries[[#This Row],[clean Salary (in local currency)]]*VLOOKUP(tblSalaries[[#This Row],[Currency]],tblXrate[],2,FALSE)","v":3561.5833374885137},"Bio-Statiscian","Reporting","India",{"$f":"VLOOKUP(tblSalaries[[#This Row],[Where do you work]],tblCountries[[Actual]:[Mapping]],2,FALSE)","v":"India"},{"$f":"VLOOKUP(tblSalaries[[#This Row],[clean Country]]&\"*\",Cont_Table,2,0)","v":"Asia"},"4 to 6 hours a day",1]
[null,"ID0847","2012-05-27T01:04:46",{"$f":"LEFT(tblSalaries[[#This Row],[Timestamp]],FIND(\".\",tblSalaries[[#This Row],[Timestamp]],1))","v":"41056."},5000,5000,"USD",{"$f":"tblSalaries[[#This Row],[clean Salary (in local currency)]]*VLOOKUP(tblSalaries[[#This Row],[Currency]],tblXrate[],2,FALSE)","v":5000},"Management Intern","Manager","India",{"$f":"VLOOKUP(tblSalaries[[#This Row],[Where do you work]],tblCountries[[Actual]:[Mapping]],2,FALSE)","v":"India"},{"$f":"VLOOKUP(tblSalaries[[#This Row],[clean Country]]&\"*\",Cont_Table,2,0)","v":"Asia"},"4 to 6 hours a day",1]
[null,"ID0848","2012-05-27T01:22:06",{"$f":"LEFT(tblSalaries[[#This Row],[Timestamp]],FIND(\".\",tblSalaries[[#This Row],[Timestamp]],1))","v":"41056."},"INR 2,00,000",200000,"INR",{"$f":"tblSalaries[[#This Row],[clean Salary (in local currency)]]*VLOOKUP(tblSalaries[[#This Row],[Currency]],tblXrate[],2,FALSE)","v":3561.5833374885137},"Sales Analyst","Analyst","India",{"$f":"VLOOKUP(tblSalaries[[#This Row],[Where do you work]],tblCountries[[Actual]:[Mapping]],2,FALSE)","v":"India"},{"$f":"VLOOKUP(tblSalaries[[#This Row],[clean Country]]&\"*\",Cont_Table,2,0)","v":"Asia"},"4 to 6 hours a day",2]
[null,"ID0849","2012-05-27T01:30:55",{"$f":"LEFT(tblSalaries[[#This Row],[Timestamp]],FIND(\".\",tblSalaries[[#This Row],[Timestamp]],1))","v":"41056."},"30000 eur",30000,"EUR",{"$f":"tblSalaries[[#This Row],[clean Salary (in local currency)]]*VLOOKUP(tblSalaries[[#This Row],[Currency]],tblXrate[],2,FALSE)","v":38111.983169748237},"financialcotroller","Accountant","portugal",{"$f":"VLOOKUP(tblSalaries[[#This Row],[Where do you work]],tblCountries[[Actual]:[Mapping]],2,FALSE)","v":"Portugal"},{"$f":"VLOOKUP(tblSalaries[[#This Row],[clean Country]]&\"*\",Cont_Table,2,0)","v":"Europe"},"All the 8 hours baby, all the 8!",8]
[null,"ID0850","2012-05-27T01:41:11",{"$f":"LEFT(tblSalaries[[#This Row],[Timestamp]],FIND(\".\",tblSalaries[[#This Row],[Timestamp]],1))","v":"41056."},"Rs. 10,00,000",1000000,"INR",{"$f":"tblSalaries[[#This Row],[clean Salary (in local currency)]]*VLOOKUP(tblSalaries[[#This Row],[Currency]],tblXrate[],2,FALSE)","v":17807.916687442568},"HR Analyst","Analyst","India",{"$f":"VLOOKUP(tblSalaries[[#This Row],[Where do you work]],tblCountries[[Actual]:[Mapping]],2,FALSE)","v":"India"},{"$f":"VLOOKUP(tblSalaries[[#This Row],[clean Country]]&\"*\",Cont_Table,2,0)","v":"Asia"},"4 to 6 hours a day",6.5]
[null,"ID0851","2012-05-27T01:46:00",{"$f":"LEFT(tblSalaries[[#This Row],[Timestamp]],FIND(\".\",tblSalaries[[#This Row],[Timestamp]],1))","v":"41056."},650000,650000,"INR",{"$f":"tblSalaries[[#This Row],[clean Salary (in local currency)]]*VLOOKUP(tblSalaries[[#This Row],[Currency]],tblXrate[],2,FALSE)","v":11575.14584683767},"Financial Analyist","Analyst","India",{"$f":"VLOOKUP(tblSalaries[[#This Row],[Where do you work]],tblCountries[[Actual]:[Mapping]],2,FALSE)","v":"India"},{"$f":"VLOOKUP(tblSalaries[[#This Row],[clean Country]]&\"*\",Cont_Table,2,0)","v":"Asia"},"All the 8 hours baby, all the 8!",3.5]
[null,"ID0852","2012-05-27T02:33:22",{"$f":"LEFT(tblSalaries[[#This Row],[Timestamp]],FIND(\".\",tblSalaries[[#This Row],[Timestamp]],1))","v":"41056."},100000,100000,"CAD",{"$f":"tblSalaries[[#This Row],[clean Salary (in local currency)]]*VLOOKUP(tblSalaries[[#This Row],[Currency]],tblXrate[],2,FALSE)","v":98336.152303032693},"Marketing Manager","Manager","Canada",{"$f":"VLOOKUP(tblSalaries[[#This Row],[Where do you work]],tblCountries[[Actual]:[Mapping]],2,FALSE)","v":"Canada"},{"$f":"VLOOKUP(tblSalaries[[#This Row],[clean Country]]&\"*\",Cont_Table,2,0)","v":"North America"},"2 to 3 hours per day",10]
[null,"ID0854","2012-05-27T03:06:02",{"$f":"LEFT(tblSalaries[[#This Row],[Timestamp]],FIND(\".\",tblSalaries[[#This Row],[Timestamp]],1))","v":"41056."},92500,92500,"USD",{"$f":"tblSalaries[[#This Row],[clean Salary (in local currency)]]*VLOOKUP(tblSalaries[[#This Row],[Currency]],tblXrate[],2,FALSE)","v":92500},"Dir of Analytics","Analyst","USA",{"$f":"VLOOKUP(tblSalaries[[#This Row],[Where do you work]],tblCountries[[Actual]:[Mapping]],2,FALSE)","v":"USA"},{"$f":"VLOOKUP(tblSalaries[[#This Row],[clean Country]]&\"*\",Cont_Table,2,0)","v":"North America"},"2 to 3 hours per day",15]
[null,"ID0855","2012-05-27T03:16:05",{"$f":"LEFT(tblSalaries[[#This Row],[Timestamp]],FIND(\".\",tblSalaries[[#This Row],[Timestamp]],1))","v":"41056."},"Rs. 550000",550000,"INR",{"$f":"tblSalaries[[#This Row],[clean Salary (in local currency)]]*VLOOKUP(tblSalaries[[#This Row],[Currency]],tblXrate[],2,FALSE)","v":9794.354178093412},"Analyst","Analyst","India",{"$f":"VLOOKUP(tblSalaries[[#This Row],[Where do you work]],tblCountries[[Actual]:[Mapping]],2,FALSE)","v":"India"},{"$f":"VLOOKUP(tblSalaries[[#This Row],[clean Country]]&\"*\",Cont_Table,2,0)","v":"Asia"},"4 to 6 hours a day",1]
[null,"ID0856","2012-05-27T03:19:29",{"$f":"LEFT(tblSalaries[[#This Row],[Timestamp]],FIND(\".\",tblSalaries[[#This Row],[Timestamp]],1))","v":"41056."},32000,32000,"USD",{"$f":"tblSalaries[[#This Row],[clean Salary (in local currency)]]*VLOOKUP(tblSalaries[[#This Row],[Currency]],tblXrate[],2,FALSE)","v":32000},"Reporting Manager","Manager","USA",{"$f":"VLOOKUP(tblSalaries[[#This Row],[Where do you work]],tblCountries[[Actual]:[Mapping]],2,FALSE)","v":"USA"},{"$f":"VLOOKUP(tblSalaries[[#This Row],[clean Country]]&\"*\",Cont_Table,2,0)","v":"North America"},"4 to 6 hours a day",1]
[null,"ID0857","2012-05-27T03:25:05",{"$f":"LEFT(tblSalaries[[#This Row],[Timestamp]],FIND(\".\",tblSalaries[[#This Row],[Timestamp]],1))","v":"41056."},55000,55000,"USD",{"$f":"tblSalaries[[#This Row],[clean Salary (in local currency)]]*VLOOKUP(tblSalaries[[#This Row],[Currency]],tblXrate[],2,FALSE)","v":55000},"Analyst","Analyst","USA",{"$f":"VLOOKUP(tblSalaries[[#This Row],[Where do you work]],tblCountries[[Actual]:[Mapping]],2,FALSE)","v":"USA"},{"$f":"VLOOKUP(tblSalaries[[#This Row],[clean Country]]&\"*\",Cont_Table,2,0)","v":"North America"},"4 to 6 hours a day",10]
[null,"ID0858","2012-05-27T03:25:53",{"$f":"LEFT(tblSalaries[[#This Row],[Timestamp]],FIND(\".\",tblSalaries[[#This Row],[Timestamp]],1))","v":"41056."},40000,40000,"USD",{"$f":"tblSalaries[[#This Row],[clean Salary (in local currency)]]*VLOOKUP(tblSalaries[[#This Row],[Currency]],tblXrate[],2,FALSE)","v":40000},"Data Research Assistant","Analyst","USA",{"$f":"VLOOKUP(tblSalaries[[#This Row],[Where do you work]],tblCountries[[Actual]:[Mapping]],2,FALSE)","v":"USA"},{"$f":"VLOOKUP(tblSalaries[[#This Row],[clean Country]]&\"*\",Cont_Table,2,0)","v":"North America"},"All the 8 hours baby, all the 8!",4]
[null,"ID0859","2012-05-27T03:37:32",{"$f":"LEFT(tblSalaries[[#This Row],[Timestamp]],FIND(\".\",tblSalaries[[#This Row],[Timestamp]],1))","v":"41056."},"3000 $",3000,"USD",{"$f":"tblSalaries[[#This Row],[clean Salary (in local currency)]]*VLOOKUP(tblSalaries[[#This Row],[Currency]],tblXrate[],2,FALSE)","v":3000},"Statistical Analyst","Analyst","Pakistan",{"$f":"VLOOKUP(tblSalaries[[#This Row],[Where do you work]],tblCountries[[Actual]:[Mapping]],2,FALSE)","v":"Pakistan"},{"$f":"VLOOKUP(tblSalaries[[#This Row],[clean Country]]&\"*\",Cont_Table,2,0)","v":"Asia"},"2 to 3 hours per day",2]
[null,"ID0860","2012-05-27T03:37:36",{"$f":"LEFT(tblSalaries[[#This Row],[Timestamp]],FIND(\".\",tblSalaries[[#This Row],[Timestamp]],1))","v":"41056."},43600,43600,"USD",{"$f":"tblSalaries[[#This Row],[clean Salary (in local currency)]]*VLOOKUP(tblSalaries[[#This Row],[Currency]],tblXrate[],2,FALSE)","v":43600},"Data Analyst","Analyst","USA",{"$f":"VLOOKUP(tblSalaries[[#This Row],[Where do you work]],tblCountries[[Actual]:[Mapping]],2,FALSE)","v":"USA"},{"$f":"VLOOKUP(tblSalaries[[#This Row],[clean Country]]&\"*\",Cont_Table,2,0)","v":"North America"},"4 to 6 hours a day",5]
[null,"ID0861","2012-05-27T04:00:14",{"$f":"LEFT(tblSalaries[[#This Row],[Timestamp]],FIND(\".\",tblSalaries[[#This Row],[Timestamp]],1))","v":"41056."},"Rs. 45000",540000,"INR",{"$f":"tblSalaries[[#This Row],[clean Salary (in local currency)]]*VLOOKUP(tblSalaries[[#This Row],[Currency]],tblXrate[],2,FALSE)","v":9616.275011218986},"Senior analyst","Analyst","India",{"$f":"VLOOKUP(tblSalaries[[#This Row],[Where do you work]],tblCountries[[Actual]:[Mapping]],2,FALSE)","v":"India"},{"$f":"VLOOKUP(tblSalaries[[#This Row],[clean Country]]&\"*\",Cont_Table,2,0)","v":"Asia"},"All the 8 hours baby, all the 8!",8]
[null,"ID0862","2012-05-27T04:05:28",{"$f":"LEFT(tblSalaries[[#This Row],[Timestamp]],FIND(\".\",tblSalaries[[#This Row],[Timestamp]],1))","v":"41056."},35000,35000,"USD",{"$f":"tblSalaries[[#This Row],[clean Salary (in local currency)]]*VLOOKUP(tblSalaries[[#This Row],[Currency]],tblXrate[],2,FALSE)","v":35000},"Purchasing Manager","Manager","Uruguay",{"$f":"VLOOKUP(tblSalaries[[#This Row],[Where do you work]],tblCountries[[Actual]:[Mapping]],2,FALSE)","v":"Uruguay"},{"$f":"VLOOKUP(tblSalaries[[#This Row],[clean Country]]&\"*\",Cont_Table,2,0)","v":"South America"},"All the 8 hours baby, all the 8!",10]
[null,"ID0863","2012-05-27T04:07:07",{"$f":"LEFT(tblSalaries[[#This Row],[Timestamp]],FIND(\".\",tblSalaries[[#This Row],[Timestamp]],1))","v":"41056."},12000,12000,"USD",{"$f":"tblSalaries[[#This Row],[clean Salary (in local currency)]]*VLOOKUP(tblSalaries[[#This Row],[Currency]],tblXrate[],2,FALSE)","v":12000},"Guide for About.com","Consultant","Spain",{"$f":"VLOOKUP(tblSalaries[[#This Row],[Where do you work]],tblCountries[[Actual]:[Mapping]],2,FALSE)","v":"Spain"},{"$f":"VLOOKUP(tblSalaries[[#This Row],[clean Country]]&\"*\",Cont_Table,2,0)","v":"Europe"},"2 to 3 hours per day",15]
[null,"ID0864","2012-05-27T04:12:04",{"$f":"LEFT(tblSalaries[[#This Row],[Timestamp]],FIND(\".\",tblSalaries[[#This Row],[Timestamp]],1))","v":"41056."},5000,5000,"USD",{"$f":"tblSalaries[[#This Row],[clean Salary (in local currency)]]*VLOOKUP(tblSalaries[[#This Row],[Currency]],tblXrate[],2,FALSE)","v":5000},"Policy advisor","Consultant","Aruba",{"$f":"VLOOKUP(tblSalaries[[#This Row],[Where do you work]],tblCountries[[Actual]:[Mapping]],2,FALSE)","v":"Aruba"},{"$f":"VLOOKUP(tblSalaries[[#This Row],[clean Country]]&\"*\",Cont_Table,2,0)","v":"North America"},"1 or 2 hours a day",13]
[null,"ID0865","2012-05-27T04:31:08",{"$f":"LEFT(tblSalaries[[#This Row],[Timestamp]],FIND(\".\",tblSalaries[[#This Row],[Timestamp]],1))","v":"41056."},"R134000",134000,"ZAR",{"$f":"tblSalaries[[#This Row],[clean Salary (in local currency)]]*VLOOKUP(tblSalaries[[#This Row],[Currency]],tblXrate[],2,FALSE)","v":16337.518501630093},"Data Analyst","Analyst","South Africa",{"$f":"VLOOKUP(tblSalaries[[#This Row],[Where do you work]],tblCountries[[Actual]:[Mapping]],2,FALSE)","v":"South Africa"},{"$f":"VLOOKUP(tblSalaries[[#This Row],[clean Country]]&\"*\",Cont_Table,2,0)","v":"Africa"},"4 to 6 hours a day",2]
[null,"ID0866","2012-05-27T04:40:33",{"$f":"LEFT(tblSalaries[[#This Row],[Timestamp]],FIND(\".\",tblSalaries[[#This Row],[Timestamp]],1))","v":"41056."},65000,65000,"USD",{"$f":"tblSalaries[[#This Row],[clean Salary (in local currency)]]*VLOOKUP(tblSalaries[[#This Row],[Currency]],tblXrate[],2,FALSE)","v":65000},"Security Access Governance Analyst","Analyst","USA",{"$f":"VLOOKUP(tblSalaries[[#This Row],[Where do you work]],tblCountries[[Actual]:[Mapping]],2,FALSE)","v":"USA"},{"$f":"VLOOKUP(tblSalaries[[#This Row],[clean Country]]&\"*\",Cont_Table,2,0)","v":"North America"},"1 or 2 hours a day",8]
[null,"ID0867","2012-05-27T06:17:41",{"$f":"LEFT(tblSalaries[[#This Row],[Timestamp]],FIND(\".\",tblSalaries[[#This Row],[Timestamp]],1))","v":"41056."},40000,40000,"USD",{"$f":"tblSalaries[[#This Row],[clean Salary (in local currency)]]*VLOOKUP(tblSalaries[[#This Row],[Currency]],tblXrate[],2,FALSE)","v":40000},"IT Capacity Planner","Analyst","USA",{"$f":"VLOOKUP(tblSalaries[[#This Row],[Where do you work]],tblCountries[[Actual]:[Mapping]],2,FALSE)","v":"USA"},{"$f":"VLOOKUP(tblSalaries[[#This Row],[clean Country]]&\"*\",Cont_Table,2,0)","v":"North America"},"All the 8 hours baby, all the 8!",2]
[null,"ID0868","2012-05-27T06:37:13",{"$f":"LEFT(tblSalaries[[#This Row],[Timestamp]],FIND(\".\",tblSalaries[[#This Row],[Timestamp]],1))","v":"41056."},98000,98000,"USD",{"$f":"tblSalaries[[#This Row],[clean Salary (in local currency)]]*VLOOKUP(tblSalaries[[#This Row],[Currency]],tblXrate[],2,FALSE)","v":98000},"supply chain manager","Manager","indonesia",{"$f":"VLOOKUP(tblSalaries[[#This Row],[Where do you work]],tblCountries[[Actual]:[Mapping]],2,FALSE)","v":"Indonesia"},{"$f":"VLOOKUP(tblSalaries[[#This Row],[clean Country]]&\"*\",Cont_Table,2,0)","v":"Asia"},"2 to 3 hours per day",14]
[null,"ID0869","2012-05-27T06:37:15",{"$f":"LEFT(tblSalaries[[#This Row],[Timestamp]],FIND(\".\",tblSalaries[[#This Row],[Timestamp]],1))","v":"41056."},50000,50000,"USD",{"$f":"tblSalaries[[#This Row],[clean Salary (in local currency)]]*VLOOKUP(tblSalaries[[#This Row],[Currency]],tblXrate[],2,FALSE)","v":50000},"Boss","CXO or Top Mgmt.","USA",{"$f":"VLOOKUP(tblSalaries[[#This Row],[Where do you work]],tblCountries[[Actual]:[Mapping]],2,FALSE)","v":"USA"},{"$f":"VLOOKUP(tblSalaries[[#This Row],[clean Country]]&\"*\",Cont_Table,2,0)","v":"North America"},"All the 8 hours baby, all the 8!",15]
[null,"ID0870","2012-05-27T07:19:14",{"$f":"LEFT(tblSalaries[[#This Row],[Timestamp]],FIND(\".\",tblSalaries[[#This Row],[Timestamp]],1))","v":"41056."},135000,135000,"USD",{"$f":"tblSalaries[[#This Row],[clean Salary (in local currency)]]*VLOOKUP(tblSalaries[[#This Row],[Currency]],tblXrate[],2,FALSE)","v":135000},"Director, P&A","CXO or Top Mgmt.","USA",{"$f":"VLOOKUP(tblSalaries[[#This Row],[Where do you work]],tblCountries[[Actual]:[Mapping]],2,FALSE)","v":"USA"},{"$f":"VLOOKUP(tblSalaries[[#This Row],[clean Country]]&\"*\",Cont_Table,2,0)","v":"North America"},"4 to 6 hours a day",25]
[null,"ID0871","2012-05-27T08:07:40",{"$f":"LEFT(tblSalaries[[#This Row],[Timestamp]],FIND(\".\",tblSalaries[[#This Row],[Timestamp]],1))","v":"41056."},"125 $",125000,"USD",{"$f":"tblSalaries[[#This Row],[clean Salary (in local currency)]]*VLOOKUP(tblSalaries[[#This Row],[Currency]],tblXrate[],2,FALSE)","v":125000},"Project controls manager","Manager","Norway",{"$f":"VLOOKUP(tblSalaries[[#This Row],[Where do you work]],tblCountries[[Actual]:[Mapping]],2,FALSE)","v":"Norway"},{"$f":"VLOOKUP(tblSalaries[[#This Row],[clean Country]]&\"*\",Cont_Table,2,0)","v":"Europe"},"4 to 6 hours a day",6]
[null,"ID0872","2012-05-27T08:54:28",{"$f":"LEFT(tblSalaries[[#This Row],[Timestamp]],FIND(\".\",tblSalaries[[#This Row],[Timestamp]],1))","v":"41056."},4500,4500,"USD",{"$f":"tblSalaries[[#This Row],[clean Salary (in local currency)]]*VLOOKUP(tblSalaries[[#This Row],[Currency]],tblXrate[],2,FALSE)","v":4500},"senior associate","Analyst","indonesia",{"$f":"VLOOKUP(tblSalaries[[#This Row],[Where do you work]],tblCountries[[Actual]:[Mapping]],2,FALSE)","v":"Indonesia"},{"$f":"VLOOKUP(tblSalaries[[#This Row],[clean Country]]&\"*\",Cont_Table,2,0)","v":"Asia"},"2 to 3 hours per day",4]
[null,"ID0873","2012-05-27T08:55:36",{"$f":"LEFT(tblSalaries[[#This Row],[Timestamp]],FIND(\".\",tblSalaries[[#This Row],[Timestamp]],1))","v":"41056."},115000,115000,"USD",{"$f":"tblSalaries[[#This Row],[clean Salary (in local currency)]]*VLOOKUP(tblSalaries[[#This Row],[Currency]],tblXrate[],2,FALSE)","v":115000},"Principal Financial Analyst","Analyst","USA",{"$f":"VLOOKUP(tblSalaries[[#This Row],[Where do you work]],tblCountries[[Actual]:[Mapping]],2,FALSE)","v":"USA"},{"$f":"VLOOKUP(tblSalaries[[#This Row],[clean Country]]&\"*\",Cont_Table,2,0)","v":"North America"},"4 to 6 hours a day",10]
[null,"ID0874","2012-05-27T09:17:47",{"$f":"LEFT(tblSalaries[[#This Row],[Timestamp]],FIND(\".\",tblSalaries[[#This Row],[Timestamp]],1))","v":"41056."},70000,70000,"USD",{"$f":"tblSalaries[[#This Row],[clean Salary (in local currency)]]*VLOOKUP(tblSalaries[[#This Row],[Currency]],tblXrate[],2,FALSE)","v":70000},"Financial Analyst","Analyst","USA",{"$f":"VLOOKUP(tblSalaries[[#This Row],[Where do you work]],tblCountries[[Actual]:[Mapping]],2,FALSE)","v":"USA"},{"$f":"VLOOKUP(tblSalaries[[#This Row],[clean Country]]&\"*\",Cont_Table,2,0)","v":"North America"},"All the 8 hours baby, all the 8!",15]
[null,"ID0875","2012-05-27T09:49:30",{"$f":"LEFT(tblSalaries[[#This Row],[Timestamp]],FIND(\".\",tblSalaries[[#This Row],[Timestamp]],1))","v":"41056."},5000,60000,"USD",{"$f":"tblSalaries[[#This Row],[clean Salary (in local currency)]]*VLOOKUP(tblSalaries[[#This Row],[Currency]],tblXrate[],2,FALSE)","v":60000},"Store keeper","Analyst","USA",{"$f":"VLOOKUP(tblSalaries[[#This Row],[Where do you work]],tblCountries[[Actual]:[Mapping]],2,FALSE)","v":"USA"},{"$f":"VLOOKUP(tblSalaries[[#This Row],[clean Country]]&\"*\",Cont_Table,2,0)","v":"North America"},"2 to 3 hours per day",8]
[null,"ID0876","2012-05-27T10:13:27",{"$f":"LEFT(tblSalaries[[#This Row],[Timestamp]],FIND(\".\",tblSalaries[[#This Row],[Timestamp]],1))","v":"41056."},87456,87456,"USD",{"$f":"tblSalaries[[#This Row],[clean Salary (in local currency)]]*VLOOKUP(tblSalaries[[#This Row],[Currency]],tblXrate[],2,FALSE)","v":87456},"qa team supervisor ","Manager","USA",{"$f":"VLOOKUP(tblSalaries[[#This Row],[Where do you work]],tblCountries[[Actual]:[Mapping]],2,FALSE)","v":"USA"},{"$f":"VLOOKUP(tblSalaries[[#This Row],[clean Country]]&\"*\",Cont_Table,2,0)","v":"North America"},"2 to 3 hours per day",12]
[null,"ID0877","2012-05-27T11:32:17",{"$f":"LEFT(tblSalaries[[#This Row],[Timestamp]],FIND(\".\",tblSalaries[[#This Row],[Timestamp]],1))","v":"41056."},26400,26400,"USD",{"$f":"tblSalaries[[#This Row],[clean Salary (in local currency)]]*VLOOKUP(tblSalaries[[#This Row],[Currency]],tblXrate[],2,FALSE)","v":26400},"Supply Chain Administrator","Analyst","UAE",{"$f":"VLOOKUP(tblSalaries[[#This Row],[Where do you work]],tblCountries[[Actual]:[Mapping]],2,FALSE)","v":"UAE"},{"$f":"VLOOKUP(tblSalaries[[#This Row],[clean Country]]&\"*\",Cont_Table,2,0)","v":"Asia"},"All the 8 hours baby, all the 8!",6]
[null,"ID0878","2012-05-27T11:50:16",{"$f":"LEFT(tblSalaries[[#This Row],[Timestamp]],FIND(\".\",tblSalaries[[#This Row],[Timestamp]],1))","v":"41056."},1000,12000,"USD",{"$f":"tblSalaries[[#This Row],[clean Salary (in local currency)]]*VLOOKUP(tblSalaries[[#This Row],[Currency]],tblXrate[],2,FALSE)","v":12000},"sup","Manager","UAE",{"$f":"VLOOKUP(tblSalaries[[#This Row],[Where do you work]],tblCountries[[Actual]:[Mapping]],2,FALSE)","v":"UAE"},{"$f":"VLOOKUP(tblSalaries[[#This Row],[clean Country]]&\"*\",Cont_Table,2,0)","v":"Asia"},"All the 8 hours baby, all the 8!",18]
[null,"ID0879","2012-05-27T12:03:51",{"$f":"LEFT(tblSalaries[[#This Row],[Timestamp]],FIND(\".\",tblSalaries[[#This Row],[Timestamp]],1))","v":"41056."},144000,144000,"INR",{"$f":"tblSalaries[[#This Row],[clean Salary (in local currency)]]*VLOOKUP(tblSalaries[[#This Row],[Currency]],tblXrate[],2,FALSE)","v":2564.3400029917298},"Cost Trainee","Analyst","India",{"$f":"VLOOKUP(tblSalaries[[#This Row],[Where do you work]],tblCountries[[Actual]:[Mapping]],2,FALSE)","v":"India"},{"$f":"VLOOKUP(tblSalaries[[#This Row],[clean Country]]&\"*\",Cont_Table,2,0)","v":"Asia"},"4 to 6 hours a day",1]
[null,"ID0880","2012-05-27T12:32:45",{"$f":"LEFT(tblSalaries[[#This Row],[Timestamp]],FIND(\".\",tblSalaries[[#This Row],[Timestamp]],1))","v":"41056."},"62000 USD",62000,"USD",{"$f":"tblSalaries[[#This Row],[clean Salary (in local currency)]]*VLOOKUP(tblSalaries[[#This Row],[Currency]],tblXrate[],2,FALSE)","v":62000},"Deputy Manager Finance","Manager","Qatar",{"$f":"VLOOKUP(tblSalaries[[#This Row],[Where do you work]],tblCountries[[Actual]:[Mapping]],2,FALSE)","v":"Qatar"},{"$f":"VLOOKUP(tblSalaries[[#This Row],[clean Country]]&\"*\",Cont_Table,2,0)","v":"Asia"},"All the 8 hours baby, all the 8!",11]
[null,"ID0881","2012-05-27T12:35:15",{"$f":"LEFT(tblSalaries[[#This Row],[Timestamp]],FIND(\".\",tblSalaries[[#This Row],[Timestamp]],1))","v":"41056."},"3 lacs P.A",300000,"INR",{"$f":"tblSalaries[[#This Row],[clean Salary (in local currency)]]*VLOOKUP(tblSalaries[[#This Row],[Currency]],tblXrate[],2,FALSE)","v":5342.3750062327708},"Sales","Analyst","India",{"$f":"VLOOKUP(tblSalaries[[#This Row],[Where do you work]],tblCountries[[Actual]:[Mapping]],2,FALSE)","v":"India"},{"$f":"VLOOKUP(tblSalaries[[#This Row],[clean Country]]&\"*\",Cont_Table,2,0)","v":"Asia"},"1 or 2 hours a day",10]
[null,"ID0882","2012-05-27T12:37:02",{"$f":"LEFT(tblSalaries[[#This Row],[Timestamp]],FIND(\".\",tblSalaries[[#This Row],[Timestamp]],1))","v":"41056."},40000,40000,"EUR",{"$f":"tblSalaries[[#This Row],[clean Salary (in local currency)]]*VLOOKUP(tblSalaries[[#This Row],[Currency]],tblXrate[],2,FALSE)","v":50815.977559664309},"Medical information analist","Analyst","Netherlands",{"$f":"VLOOKUP(tblSalaries[[#This Row],[Where do you work]],tblCountries[[Actual]:[Mapping]],2,FALSE)","v":"Netherlands"},{"$f":"VLOOKUP(tblSalaries[[#This Row],[clean Country]]&\"*\",Cont_Table,2,0)","v":"Europe"},"4 to 6 hours a day",4]
[null,"ID0883","2012-05-27T12:41:29",{"$f":"LEFT(tblSalaries[[#This Row],[Timestamp]],FIND(\".\",tblSalaries[[#This Row],[Timestamp]],1))","v":"41056."},"US 2130",25560,"USD",{"$f":"tblSalaries[[#This Row],[clean Salary (in local currency)]]*VLOOKUP(tblSalaries[[#This Row],[Currency]],tblXrate[],2,FALSE)","v":25560},"Training Coordinator","Manager","saudi arabia",{"$f":"VLOOKUP(tblSalaries[[#This Row],[Where do you work]],tblCountries[[Actual]:[Mapping]],2,FALSE)","v":"Saudi Arabia"},{"$f":"VLOOKUP(tblSalaries[[#This Row],[clean Country]]&\"*\",Cont_Table,2,0)","v":"Asia"},"4 to 6 hours a day",3]
[null,"ID0884","2012-05-27T12:57:51",{"$f":"LEFT(tblSalaries[[#This Row],[Timestamp]],FIND(\".\",tblSalaries[[#This Row],[Timestamp]],1))","v":"41056."},"Rs.60000/-",720000,"INR",{"$f":"tblSalaries[[#This Row],[clean Salary (in local currency)]]*VLOOKUP(tblSalaries[[#This Row],[Currency]],tblXrate[],2,FALSE)","v":12821.700014958649},"Article (Internship) - CA","Accountant","India",{"$f":"VLOOKUP(tblSalaries[[#This Row],[Where do you work]],tblCountries[[Actual]:[Mapping]],2,FALSE)","v":"India"},{"$f":"VLOOKUP(tblSalaries[[#This Row],[clean Country]]&\"*\",Cont_Table,2,0)","v":"Asia"},"4 to 6 hours a day",3]
[null,"ID0885","2012-05-27T13:06:50",{"$f":"LEFT(tblSalaries[[#This Row],[Timestamp]],FIND(\".\",tblSalaries[[#This Row],[Timestamp]],1))","v":"41056."},600000,600000,"INR",{"$f":"tblSalaries[[#This Row],[clean Salary (in local currency)]]*VLOOKUP(tblSalaries[[#This Row],[Currency]],tblXrate[],2,FALSE)","v":10684.750012465542},"Asst Manager","Manager","India",{"$f":"VLOOKUP(tblSalaries[[#This Row],[Where do you work]],tblCountries[[Actual]:[Mapping]],2,FALSE)","v":"India"},{"$f":"VLOOKUP(tblSalaries[[#This Row],[clean Country]]&\"*\",Cont_Table,2,0)","v":"Asia"},"All the 8 hours baby, all the 8!",5]
[null,"ID0886","2012-05-27T13:27:19",{"$f":"LEFT(tblSalaries[[#This Row],[Timestamp]],FIND(\".\",tblSalaries[[#This Row],[Timestamp]],1))","v":"41056."},"Rs. 35000",420000,"PKR",{"$f":"tblSalaries[[#This Row],[clean Salary (in local currency)]]*VLOOKUP(tblSalaries[[#This Row],[Currency]],tblXrate[],2,FALSE)","v":4457.9172610556352},"Assistant Manager","Manager","Pakistan",{"$f":"VLOOKUP(tblSalaries[[#This Row],[Where do you work]],tblCountries[[Actual]:[Mapping]],2,FALSE)","v":"Pakistan"},{"$f":"VLOOKUP(tblSalaries[[#This Row],[clean Country]]&\"*\",Cont_Table,2,0)","v":"Asia"},"All the 8 hours baby, all the 8!",4]
[null,"ID0887","2012-05-27T13:29:52",{"$f":"LEFT(tblSalaries[[#This Row],[Timestamp]],FIND(\".\",tblSalaries[[#This Row],[Timestamp]],1))","v":"41056."},"$125000 / a excl bonus",125000,"USD",{"$f":"tblSalaries[[#This Row],[clean Salary (in local currency)]]*VLOOKUP(tblSalaries[[#This Row],[Currency]],tblXrate[],2,FALSE)","v":125000},"Commercial Director","CXO or Top Mgmt.","South Africa",{"$f":"VLOOKUP(tblSalaries[[#This Row],[Where do you work]],tblCountries[[Actual]:[Mapping]],2,FALSE)","v":"South Africa"},{"$f":"VLOOKUP(tblSalaries[[#This Row],[clean Country]]&\"*\",Cont_Table,2,0)","v":"Africa"},"4 to 6 hours a day",20]
[null,"ID0888","2012-05-27T13:34:12",{"$f":"LEFT(tblSalaries[[#This Row],[Timestamp]],FIND(\".\",tblSalaries[[#This Row],[Timestamp]],1))","v":"41056."},43000,43000,"USD",{"$f":"tblSalaries[[#This Row],[clean Salary (in local currency)]]*VLOOKUP(tblSalaries[[#This Row],[Currency]],tblXrate[],2,FALSE)","v":43000},"Financial Analyst","Analyst","USA",{"$f":"VLOOKUP(tblSalaries[[#This Row],[Where do you work]],tblCountries[[Actual]:[Mapping]],2,FALSE)","v":"USA"},{"$f":"VLOOKUP(tblSalaries[[#This Row],[clean Country]]&\"*\",Cont_Table,2,0)","v":"North America"},"4 to 6 hours a day",1]
[null,"ID0889","2012-05-27T13:41:04",{"$f":"LEFT(tblSalaries[[#This Row],[Timestamp]],FIND(\".\",tblSalaries[[#This Row],[Timestamp]],1))","v":"41056."},"400000 Rs",400000,"INR",{"$f":"tblSalaries[[#This Row],[clean Salary (in local currency)]]*VLOOKUP(tblSalaries[[#This Row],[Currency]],tblXrate[],2,FALSE)","v":7123.1666749770275},"engineer","Engineer","India",{"$f":"VLOOKUP(tblSalaries[[#This Row],[Where do you work]],tblCountries[[Actual]:[Mapping]],2,FALSE)","v":"India"},{"$f":"VLOOKUP(tblSalaries[[#This Row],[clean Country]]&\"*\",Cont_Table,2,0)","v":"Asia"},"2 to 3 hours per day",6]
[null,"ID0890","2012-05-27T13:41:05",{"$f":"LEFT(tblSalaries[[#This Row],[Timestamp]],FIND(\".\",tblSalaries[[#This Row],[Timestamp]],1))","v":"41056."},10000,10000,"USD",{"$f":"tblSalaries[[#This Row],[clean Salary (in local currency)]]*VLOOKUP(tblSalaries[[#This Row],[Currency]],tblXrate[],2,FALSE)","v":10000},"Finance Staff","Accountant","Vietnam",{"$f":"VLOOKUP(tblSalaries[[#This Row],[Where do you work]],tblCountries[[Actual]:[Mapping]],2,FALSE)","v":"Vietnam"},{"$f":"VLOOKUP(tblSalaries[[#This Row],[clean Country]]&\"*\",Cont_Table,2,0)","v":"Asia"},"4 to 6 hours a day",4]
[null,"ID0891","2012-05-27T13:42:15",{"$f":"LEFT(tblSalaries[[#This Row],[Timestamp]],FIND(\".\",tblSalaries[[#This Row],[Timestamp]],1))","v":"41056."},"inr 500000",500000,"INR",{"$f":"tblSalaries[[#This Row],[clean Salary (in local currency)]]*VLOOKUP(tblSalaries[[#This Row],[Currency]],tblXrate[],2,FALSE)","v":8903.9583437212841},"team coach","Manager","India",{"$f":"VLOOKUP(tblSalaries[[#This Row],[Where do you work]],tblCountries[[Actual]:[Mapping]],2,FALSE)","v":"India"},{"$f":"VLOOKUP(tblSalaries[[#This Row],[clean Country]]&\"*\",Cont_Table,2,0)","v":"Asia"},"1 or 2 hours a day",5]
[null,"ID0892","2012-05-27T13:45:47",{"$f":"LEFT(tblSalaries[[#This Row],[Timestamp]],FIND(\".\",tblSalaries[[#This Row],[Timestamp]],1))","v":"41056."},36500,36500,"USD",{"$f":"tblSalaries[[#This Row],[clean Salary (in local currency)]]*VLOOKUP(tblSalaries[[#This Row],[Currency]],tblXrate[],2,FALSE)","v":36500},"Accountant","Accountant","Saudi Arabia",{"$f":"VLOOKUP(tblSalaries[[#This Row],[Where do you work]],tblCountries[[Actual]:[Mapping]],2,FALSE)","v":"Saudi Arabia"},{"$f":"VLOOKUP(tblSalaries[[#This Row],[clean Country]]&\"*\",Cont_Table,2,0)","v":"Asia"},"4 to 6 hours a day",15]
[null,"ID0893","2012-05-27T13:52:53",{"$f":"LEFT(tblSalaries[[#This Row],[Timestamp]],FIND(\".\",tblSalaries[[#This Row],[Timestamp]],1))","v":"41056."},"100,000 usd",100000,"USD",{"$f":"tblSalaries[[#This Row],[clean Salary (in local currency)]]*VLOOKUP(tblSalaries[[#This Row],[Currency]],tblXrate[],2,FALSE)","v":100000},"Director","CXO or Top Mgmt.","MÃ©xico",{"$f":"VLOOKUP(tblSalaries[[#This Row],[Where do you work]],tblCountries[[Actual]:[Mapping]],2,FALSE)","v":"Mexico"},{"$f":"VLOOKUP(tblSalaries[[#This Row],[clean Country]]&\"*\",Cont_Table,2,0)","v":"North America"},"All the 8 hours baby, all the 8!",10]
[null,"ID0894","2012-05-27T14:04:31",{"$f":"LEFT(tblSalaries[[#This Row],[Timestamp]],FIND(\".\",tblSalaries[[#This Row],[Timestamp]],1))","v":"41056."},"Rs. 400000",400000,"INR",{"$f":"tblSalaries[[#This Row],[clean Salary (in local currency)]]*VLOOKUP(tblSalaries[[#This Row],[Currency]],tblXrate[],2,FALSE)","v":7123.1666749770275},"Accountancy","Accountant","India",{"$f":"VLOOKUP(tblSalaries[[#This Row],[Where do you work]],tblCountries[[Actual]:[Mapping]],2,FALSE)","v":"India"},{"$f":"VLOOKUP(tblSalaries[[#This Row],[clean Country]]&\"*\",Cont_Table,2,0)","v":"Asia"},"2 to 3 hours per day",8]
[null,"ID0895","2012-05-27T14:22:11",{"$f":"LEFT(tblSalaries[[#This Row],[Timestamp]],FIND(\".\",tblSalaries[[#This Row],[Timestamp]],1))","v":"41056."},"INR 23 L",2300000,"INR",{"$f":"tblSalaries[[#This Row],[clean Salary (in local currency)]]*VLOOKUP(tblSalaries[[#This Row],[Currency]],tblXrate[],2,FALSE)","v":40958.208381117904},"Manager - Business Planning & Reporting","Manager","India",{"$f":"VLOOKUP(tblSalaries[[#This Row],[Where do you work]],tblCountries[[Actual]:[Mapping]],2,FALSE)","v":"India"},{"$f":"VLOOKUP(tblSalaries[[#This Row],[clean Country]]&\"*\",Cont_Table,2,0)","v":"Asia"},"2 to 3 hours per day",8]
[null,"ID0896","2012-05-27T14:27:33",{"$f":"LEFT(tblSalaries[[#This Row],[Timestamp]],FIND(\".\",tblSalaries[[#This Row],[Timestamp]],1))","v":"41056."},"rs 100000",1200000,"INR",{"$f":"tblSalaries[[#This Row],[clean Salary (in local currency)]]*VLOOKUP(tblSalaries[[#This Row],[Currency]],tblXrate[],2,FALSE)","v":21369.500024931083},"ASST VICE PREDISDENT","CXO or Top Mgmt.","India",{"$f":"VLOOKUP(tblSalaries[[#This Row],[Where do you work]],tblCountries[[Actual]:[Mapping]],2,FALSE)","v":"India"},{"$f":"VLOOKUP(tblSalaries[[#This Row],[clean Country]]&\"*\",Cont_Table,2,0)","v":"Asia"},"4 to 6 hours a day",17]
[null,"ID0897","2012-05-27T14:47:21",{"$f":"LEFT(tblSalaries[[#This Row],[Timestamp]],FIND(\".\",tblSalaries[[#This Row],[Timestamp]],1))","v":"41056."},120000,120000,"INR",{"$f":"tblSalaries[[#This Row],[clean Salary (in local currency)]]*VLOOKUP(tblSalaries[[#This Row],[Currency]],tblXrate[],2,FALSE)","v":2136.9500024931081},"co ordinator","Manager","India",{"$f":"VLOOKUP(tblSalaries[[#This Row],[Where do you work]],tblCountries[[Actual]:[Mapping]],2,FALSE)","v":"India"},{"$f":"VLOOKUP(tblSalaries[[#This Row],[clean Country]]&\"*\",Cont_Table,2,0)","v":"Asia"},"4 to 6 hours a day",5]
[null,"ID0898","2012-05-27T14:49:12",{"$f":"LEFT(tblSalaries[[#This Row],[Timestamp]],FIND(\".\",tblSalaries[[#This Row],[Timestamp]],1))","v":"41056."},"5,00,000 INR",500000,"INR",{"$f":"tblSalaries[[#This Row],[clean Salary (in local currency)]]*VLOOKUP(tblSalaries[[#This Row],[Currency]],tblXrate[],2,FALSE)","v":8903.9583437212841},"Planning Engineer","Engineer","India",{"$f":"VLOOKUP(tblSalaries[[#This Row],[Where do you work]],tblCountries[[Actual]:[Mapping]],2,FALSE)","v":"India"},{"$f":"VLOOKUP(tblSalaries[[#This Row],[clean Country]]&\"*\",Cont_Table,2,0)","v":"Asia"},"2 to 3 hours per day",3]
[null,"ID0899","2012-05-27T14:50:56",{"$f":"LEFT(tblSalaries[[#This Row],[Timestamp]],FIND(\".\",tblSalaries[[#This Row],[Timestamp]],1))","v":"41056."},1000000,1000000,"INR",{"$f":"tblSalaries[[#This Row],[clean Salary (in local currency)]]*VLOOKUP(tblSalaries[[#This Row],[Currency]],tblXrate[],2,FALSE)","v":17807.916687442568},"Engagement Lead","Manager","India",{"$f":"VLOOKUP(tblSalaries[[#This Row],[Where do you work]],tblCountries[[Actual]:[Mapping]],2,FALSE)","v":"India"},{"$f":"VLOOKUP(tblSalaries[[#This Row],[clean Country]]&\"*\",Cont_Table,2,0)","v":"Asia"},"4 to 6 hours a day",5]
[null,"ID0900","2012-05-27T14:55:30",{"$f":"LEFT(tblSalaries[[#This Row],[Timestamp]],FIND(\".\",tblSalaries[[#This Row],[Timestamp]],1))","v":"41056."},"INR 850,000",850000,"INR",{"$f":"tblSalaries[[#This Row],[clean Salary (in local currency)]]*VLOOKUP(tblSalaries[[#This Row],[Currency]],tblXrate[],2,FALSE)","v":15136.729184326183},"Assistant Manager","Manager","India",{"$f":"VLOOKUP(tblSalaries[[#This Row],[Where do you work]],tblCountries[[Actual]:[Mapping]],2,FALSE)","v":"India"},{"$f":"VLOOKUP(tblSalaries[[#This Row],[clean Country]]&\"*\",Cont_Table,2,0)","v":"Asia"},"2 to 3 hours per day",3]
[null,"ID0901","2012-05-27T15:01:02",{"$f":"LEFT(tblSalaries[[#This Row],[Timestamp]],FIND(\".\",tblSalaries[[#This Row],[Timestamp]],1))","v":"41056."},"PhP168000",168000,"PHP",{"$f":"tblSalaries[[#This Row],[clean Salary (in local currency)]]*VLOOKUP(tblSalaries[[#This Row],[Currency]],tblXrate[],2,FALSE)","v":3982.448779308334},"Clerk","Analyst","Philippines",{"$f":"VLOOKUP(tblSalaries[[#This Row],[Where do you work]],tblCountries[[Actual]:[Mapping]],2,FALSE)","v":"Philippines"},{"$f":"VLOOKUP(tblSalaries[[#This Row],[clean Country]]&\"*\",Cont_Table,2,0)","v":"Asia"},"4 to 6 hours a day",10]
[null,"ID0903","2012-05-27T15:25:40",{"$f":"LEFT(tblSalaries[[#This Row],[Timestamp]],FIND(\".\",tblSalaries[[#This Row],[Timestamp]],1))","v":"41056."},1300,15600,"USD",{"$f":"tblSalaries[[#This Row],[clean Salary (in local currency)]]*VLOOKUP(tblSalaries[[#This Row],[Currency]],tblXrate[],2,FALSE)","v":15600},"Document controller ","Controller","Kuwait ",{"$f":"VLOOKUP(tblSalaries[[#This Row],[Where do you work]],tblCountries[[Actual]:[Mapping]],2,FALSE)","v":"Kuwait "},{"$f":"VLOOKUP(tblSalaries[[#This Row],[clean Country]]&\"*\",Cont_Table,2,0)","v":"Asia"},"4 to 6 hours a day",13]
[null,"ID0904","2012-05-27T15:26:34",{"$f":"LEFT(tblSalaries[[#This Row],[Timestamp]],FIND(\".\",tblSalaries[[#This Row],[Timestamp]],1))","v":"41056."},"180000 INR",180000,"INR",{"$f":"tblSalaries[[#This Row],[clean Salary (in local currency)]]*VLOOKUP(tblSalaries[[#This Row],[Currency]],tblXrate[],2,FALSE)","v":3205.4250037396623},"Executive","Analyst","India",{"$f":"VLOOKUP(tblSalaries[[#This Row],[Where do you work]],tblCountries[[Actual]:[Mapping]],2,FALSE)","v":"India"},{"$f":"VLOOKUP(tblSalaries[[#This Row],[clean Country]]&\"*\",Cont_Table,2,0)","v":"Asia"},"2 to 3 hours per day",3.5]
[null,"ID0905","2012-05-27T15:32:10",{"$f":"LEFT(tblSalaries[[#This Row],[Timestamp]],FIND(\".\",tblSalaries[[#This Row],[Timestamp]],1))","v":"41056."},10000,10000,"USD",{"$f":"tblSalaries[[#This Row],[clean Salary (in local currency)]]*VLOOKUP(tblSalaries[[#This Row],[Currency]],tblXrate[],2,FALSE)","v":10000},"Planner","Manager","India",{"$f":"VLOOKUP(tblSalaries[[#This Row],[Where do you work]],tblCountries[[Actual]:[Mapping]],2,FALSE)","v":"India"},{"$f":"VLOOKUP(tblSalaries[[#This Row],[clean Country]]&\"*\",Cont_Table,2,0)","v":"Asia"},"4 to 6 hours a day",6]
[null,"ID0906","2012-05-27T15:44:07",{"$f":"LEFT(tblSalaries[[#This Row],[Timestamp]],FIND(\".\",tblSalaries[[#This Row],[Timestamp]],1))","v":"41056."},75010,75010,"USD",{"$f":"tblSalaries[[#This Row],[clean Salary (in local currency)]]*VLOOKUP(tblSalaries[[#This Row],[Currency]],tblXrate[],2,FALSE)","v":75010},"Senior Business Analyst","Analyst","USA",{"$f":"VLOOKUP(tblSalaries[[#This Row],[Where do you work]],tblCountries[[Actual]:[Mapping]],2,FALSE)","v":"USA"},{"$f":"VLOOKUP(tblSalaries[[#This Row],[clean Country]]&\"*\",Cont_Table,2,0)","v":"North America"},"2 to 3 hours per day",6]
[null,"ID0907","2012-05-27T15:44:52",{"$f":"LEFT(tblSalaries[[#This Row],[Timestamp]],FIND(\".\",tblSalaries[[#This Row],[Timestamp]],1))","v":"41056."},"Rs 600000/-",600000,"INR",{"$f":"tblSalaries[[#This Row],[clean Salary (in local currency)]]*VLOOKUP(tblSalaries[[#This Row],[Currency]],tblXrate[],2,FALSE)","v":10684.750012465542},"Manager","Manager","India",{"$f":"VLOOKUP(tblSalaries[[#This Row],[Where do you work]],tblCountries[[Actual]:[Mapping]],2,FALSE)","v":"India"},{"$f":"VLOOKUP(tblSalaries[[#This Row],[clean Country]]&\"*\",Cont_Table,2,0)","v":"Asia"},"All the 8 hours baby, all the 8!",9]
[null,"ID0908","2012-05-27T15:48:03",{"$f":"LEFT(tblSalaries[[#This Row],[Timestamp]],FIND(\".\",tblSalaries[[#This Row],[Timestamp]],1))","v":"41056."},16350,16350,"USD",{"$f":"tblSalaries[[#This Row],[clean Salary (in local currency)]]*VLOOKUP(tblSalaries[[#This Row],[Currency]],tblXrate[],2,FALSE)","v":16350},"Estimator","Manager","India",{"$f":"VLOOKUP(tblSalaries[[#This Row],[Where do you work]],tblCountries[[Actual]:[Mapping]],2,FALSE)","v":"India"},{"$f":"VLOOKUP(tblSalaries[[#This Row],[clean Country]]&\"*\",Cont_Table,2,0)","v":"Asia"},"4 to 6 hours a day",5]
[null,"ID0909","2012-05-27T16:10:04",{"$f":"LEFT(tblSalaries[[#This Row],[Timestamp]],FIND(\".\",tblSalaries[[#This Row],[Timestamp]],1))","v":"41056."},80000,80000,"GBP",{"$f":"tblSalaries[[#This Row],[clean Salary (in local currency)]]*VLOOKUP(tblSalaries[[#This Row],[Currency]],tblXrate[],2,FALSE)","v":126094.26176538273},"Financial Modeller","Accountant","UK",{"$f":"VLOOKUP(tblSalaries[[#This Row],[Where do you work]],tblCountries[[Actual]:[Mapping]],2,FALSE)","v":"UK"},{"$f":"VLOOKUP(tblSalaries[[#This Row],[clean Country]]&\"*\",Cont_Table,2,0)","v":"Europe"},"4 to 6 hours a day",10]
[null,"ID0910","2012-05-27T16:10:27",{"$f":"LEFT(tblSalaries[[#This Row],[Timestamp]],FIND(\".\",tblSalaries[[#This Row],[Timestamp]],1))","v":"41056."},60000,60000,"USD",{"$f":"tblSalaries[[#This Row],[clean Salary (in local currency)]]*VLOOKUP(tblSalaries[[#This Row],[Currency]],tblXrate[],2,FALSE)","v":60000},"Cost accountant","Accountant","Singapore",{"$f":"VLOOKUP(tblSalaries[[#This Row],[Where do you work]],tblCountries[[Actual]:[Mapping]],2,FALSE)","v":"Singapore"},{"$f":"VLOOKUP(tblSalaries[[#This Row],[clean Country]]&\"*\",Cont_Table,2,0)","v":"Asia"},"All the 8 hours baby, all the 8!",10]
[null,"ID0911","2012-05-27T16:24:50",{"$f":"LEFT(tblSalaries[[#This Row],[Timestamp]],FIND(\".\",tblSalaries[[#This Row],[Timestamp]],1))","v":"41056."},1300000,1300000,"INR",{"$f":"tblSalaries[[#This Row],[clean Salary (in local currency)]]*VLOOKUP(tblSalaries[[#This Row],[Currency]],tblXrate[],2,FALSE)","v":23150.291693675339},"banker","Manager","India",{"$f":"VLOOKUP(tblSalaries[[#This Row],[Where do you work]],tblCountries[[Actual]:[Mapping]],2,FALSE)","v":"India"},{"$f":"VLOOKUP(tblSalaries[[#This Row],[clean Country]]&\"*\",Cont_Table,2,0)","v":"Asia"},"1 or 2 hours a day",3]
[null,"ID0912","2012-05-27T16:30:54",{"$f":"LEFT(tblSalaries[[#This Row],[Timestamp]],FIND(\".\",tblSalaries[[#This Row],[Timestamp]],1))","v":"41056."},775000,775000,"INR",{"$f":"tblSalaries[[#This Row],[clean Salary (in local currency)]]*VLOOKUP(tblSalaries[[#This Row],[Currency]],tblXrate[],2,FALSE)","v":13801.135432767991},"Analyst","Analyst","India",{"$f":"VLOOKUP(tblSalaries[[#This Row],[Where do you work]],tblCountries[[Actual]:[Mapping]],2,FALSE)","v":"India"},{"$f":"VLOOKUP(tblSalaries[[#This Row],[clean Country]]&\"*\",Cont_Table,2,0)","v":"Asia"},"4 to 6 hours a day",2]
[null,"ID0913","2012-05-27T16:50:50",{"$f":"LEFT(tblSalaries[[#This Row],[Timestamp]],FIND(\".\",tblSalaries[[#This Row],[Timestamp]],1))","v":"41056."},"1050000 INR",1050000,"INR",{"$f":"tblSalaries[[#This Row],[clean Salary (in local currency)]]*VLOOKUP(tblSalaries[[#This Row],[Currency]],tblXrate[],2,FALSE)","v":18698.312521814696},"Manager Market Reesrach","Manager","India",{"$f":"VLOOKUP(tblSalaries[[#This Row],[Where do you work]],tblCountries[[Actual]:[Mapping]],2,FALSE)","v":"India"},{"$f":"VLOOKUP(tblSalaries[[#This Row],[clean Country]]&\"*\",Cont_Table,2,0)","v":"Asia"},"All the 8 hours baby, all the 8!",5]
[null,"ID0914","2012-05-27T17:10:36",{"$f":"LEFT(tblSalaries[[#This Row],[Timestamp]],FIND(\".\",tblSalaries[[#This Row],[Timestamp]],1))","v":"41056."},36000,36000,"USD",{"$f":"tblSalaries[[#This Row],[clean Salary (in local currency)]]*VLOOKUP(tblSalaries[[#This Row],[Currency]],tblXrate[],2,FALSE)","v":36000},"QA Supervisor","Controller","Czech Republic",{"$f":"VLOOKUP(tblSalaries[[#This Row],[Where do you work]],tblCountries[[Actual]:[Mapping]],2,FALSE)","v":"Czech Republic"},{"$f":"VLOOKUP(tblSalaries[[#This Row],[clean Country]]&\"*\",Cont_Table,2,0)","v":"Europe"},"2 to 3 hours per day",9]
[null,"ID0915","2012-05-27T17:16:55",{"$f":"LEFT(tblSalaries[[#This Row],[Timestamp]],FIND(\".\",tblSalaries[[#This Row],[Timestamp]],1))","v":"41056."},"486000 INR",486000,"INR",{"$f":"tblSalaries[[#This Row],[clean Salary (in local currency)]]*VLOOKUP(tblSalaries[[#This Row],[Currency]],tblXrate[],2,FALSE)","v":8654.6475100970874},"Assistant manager","Manager","India",{"$f":"VLOOKUP(tblSalaries[[#This Row],[Where do you work]],tblCountries[[Actual]:[Mapping]],2,FALSE)","v":"India"},{"$f":"VLOOKUP(tblSalaries[[#This Row],[clean Country]]&\"*\",Cont_Table,2,0)","v":"Asia"},"All the 8 hours baby, all the 8!",6]
[null,"ID0916","2012-05-27T17:17:24",{"$f":"LEFT(tblSalaries[[#This Row],[Timestamp]],FIND(\".\",tblSalaries[[#This Row],[Timestamp]],1))","v":"41056."},"Â£65000",65000,"GBP",{"$f":"tblSalaries[[#This Row],[clean Salary (in local currency)]]*VLOOKUP(tblSalaries[[#This Row],[Currency]],tblXrate[],2,FALSE)","v":102451.58768437347},"Manager","Manager","UK",{"$f":"VLOOKUP(tblSalaries[[#This Row],[Where do you work]],tblCountries[[Actual]:[Mapping]],2,FALSE)","v":"UK"},{"$f":"VLOOKUP(tblSalaries[[#This Row],[clean Country]]&\"*\",Cont_Table,2,0)","v":"Europe"},"1 or 2 hours a day",15]
[null,"ID0917","2012-05-27T17:24:09",{"$f":"LEFT(tblSalaries[[#This Row],[Timestamp]],FIND(\".\",tblSalaries[[#This Row],[Timestamp]],1))","v":"41056."},36400,36400,"USD",{"$f":"tblSalaries[[#This Row],[clean Salary (in local currency)]]*VLOOKUP(tblSalaries[[#This Row],[Currency]],tblXrate[],2,FALSE)","v":36400},"Analyst","Analyst","Zimbabwe",{"$f":"VLOOKUP(tblSalaries[[#This Row],[Where do you work]],tblCountries[[Actual]:[Mapping]],2,FALSE)","v":"Zimbabwe"},{"$f":"VLOOKUP(tblSalaries[[#This Row],[clean Country]]&\"*\",Cont_Table,2,0)","v":"Africa"},"4 to 6 hours a day",20]
[null,"ID0918","2012-05-27T18:19:31",{"$f":"LEFT(tblSalaries[[#This Row],[Timestamp]],FIND(\".\",tblSalaries[[#This Row],[Timestamp]],1))","v":"41056."},64210.1,64210,"GBP",{"$f":"tblSalaries[[#This Row],[clean Salary (in local currency)]]*VLOOKUP(tblSalaries[[#This Row],[Currency]],tblXrate[],2,FALSE)","v":101206.40684944032},"HR Advisor - Systems & MI","Consultant","UK",{"$f":"VLOOKUP(tblSalaries[[#This Row],[Where do you work]],tblCountries[[Actual]:[Mapping]],2,FALSE)","v":"UK"},{"$f":"VLOOKUP(tblSalaries[[#This Row],[clean Country]]&\"*\",Cont_Table,2,0)","v":"Europe"},"4 to 6 hours a day",16]
[null,"ID0919","2012-05-27T18:33:51",{"$f":"LEFT(tblSalaries[[#This Row],[Timestamp]],FIND(\".\",tblSalaries[[#This Row],[Timestamp]],1))","v":"41056."},"300000RS",300000,"INR",{"$f":"tblSalaries[[#This Row],[clean Salary (in local currency)]]*VLOOKUP(tblSalaries[[#This Row],[Currency]],tblXrate[],2,FALSE)","v":5342.3750062327708},"ANALYST","Analyst","India",{"$f":"VLOOKUP(tblSalaries[[#This Row],[Where do you work]],tblCountries[[Actual]:[Mapping]],2,FALSE)","v":"India"},{"$f":"VLOOKUP(tblSalaries[[#This Row],[clean Country]]&\"*\",Cont_Table,2,0)","v":"Asia"},"4 to 6 hours a day",0.5]
[null,"ID0920","2012-05-27T19:39:26",{"$f":"LEFT(tblSalaries[[#This Row],[Timestamp]],FIND(\".\",tblSalaries[[#This Row],[Timestamp]],1))","v":"41056."},104000,104000,"AED",{"$f":"tblSalaries[[#This Row],[clean Salary (in local currency)]]*VLOOKUP(tblSalaries[[#This Row],[Currency]],tblXrate[],2,FALSE)","v":28310.79811950968},"Financial Analyst","Analyst","UAE",{"$f":"VLOOKUP(tblSalaries[[#This Row],[Where do you work]],tblCountries[[Actual]:[Mapping]],2,FALSE)","v":"UAE"},{"$f":"VLOOKUP(tblSalaries[[#This Row],[clean Country]]&\"*\",Cont_Table,2,0)","v":"Asia"},"4 to 6 hours a day",11]
[null,"ID0921","2012-05-27T19:41:55",{"$f":"LEFT(tblSalaries[[#This Row],[Timestamp]],FIND(\".\",tblSalaries[[#This Row],[Timestamp]],1))","v":"41056."},20500,20500,"EUR",{"$f":"tblSalaries[[#This Row],[clean Salary (in local currency)]]*VLOOKUP(tblSalaries[[#This Row],[Currency]],tblXrate[],2,FALSE)","v":26043.18849932796},"C&B Manager","Manager","Poland",{"$f":"VLOOKUP(tblSalaries[[#This Row],[Where do you work]],tblCountries[[Actual]:[Mapping]],2,FALSE)","v":"Poland"},{"$f":"VLOOKUP(tblSalaries[[#This Row],[clean Country]]&\"*\",Cont_Table,2,0)","v":"Europe"},"4 to 6 hours a day",8]
[null,"ID0922","2012-05-27T20:18:50",{"$f":"LEFT(tblSalaries[[#This Row],[Timestamp]],FIND(\".\",tblSalaries[[#This Row],[Timestamp]],1))","v":"41056."},"95000 AUD",95000,"AUD",{"$f":"tblSalaries[[#This Row],[clean Salary (in local currency)]]*VLOOKUP(tblSalaries[[#This Row],[Currency]],tblXrate[],2,FALSE)","v":96891.417358250401},"Senior Marketing Analyst","Analyst","Australia",{"$f":"VLOOKUP(tblSalaries[[#This Row],[Where do you work]],tblCountries[[Actual]:[Mapping]],2,FALSE)","v":"Australia"},{"$f":"VLOOKUP(tblSalaries[[#This Row],[clean Country]]&\"*\",Cont_Table,2,0)","v":"Australia"},"1 or 2 hours a day",7]
[null,"ID0923","2012-05-27T20:43:13",{"$f":"LEFT(tblSalaries[[#This Row],[Timestamp]],FIND(\".\",tblSalaries[[#This Row],[Timestamp]],1))","v":"41056."},"Rs. 144000",144000,"INR",{"$f":"tblSalaries[[#This Row],[clean Salary (in local currency)]]*VLOOKUP(tblSalaries[[#This Row],[Currency]],tblXrate[],2,FALSE)","v":2564.3400029917298},"operation supervisor","Controller","India",{"$f":"VLOOKUP(tblSalaries[[#This Row],[Where do you work]],tblCountries[[Actual]:[Mapping]],2,FALSE)","v":"India"},{"$f":"VLOOKUP(tblSalaries[[#This Row],[clean Country]]&\"*\",Cont_Table,2,0)","v":"Asia"},"4 to 6 hours a day",4]
[null,"ID0924","2012-05-27T20:51:55",{"$f":"LEFT(tblSalaries[[#This Row],[Timestamp]],FIND(\".\",tblSalaries[[#This Row],[Timestamp]],1))","v":"41056."},180000,180000,"INR",{"$f":"tblSalaries[[#This Row],[clean Salary (in local currency)]]*VLOOKUP(tblSalaries[[#This Row],[Currency]],tblXrate[],2,FALSE)","v":3205.4250037396623},"MIS TEAM MEMBER","Reporting","India",{"$f":"VLOOKUP(tblSalaries[[#This Row],[Where do you work]],tblCountries[[Actual]:[Mapping]],2,FALSE)","v":"India"},{"$f":"VLOOKUP(tblSalaries[[#This Row],[clean Country]]&\"*\",Cont_Table,2,0)","v":"Asia"},"All the 8 hours baby, all the 8!",8]
[null,"ID0925","2012-05-27T21:04:07",{"$f":"LEFT(tblSalaries[[#This Row],[Timestamp]],FIND(\".\",tblSalaries[[#This Row],[Timestamp]],1))","v":"41056."},600000,600000,"INR",{"$f":"tblSalaries[[#This Row],[clean Salary (in local currency)]]*VLOOKUP(tblSalaries[[#This Row],[Currency]],tblXrate[],2,FALSE)","v":10684.750012465542},"Sales Analyst","Analyst","India",{"$f":"VLOOKUP(tblSalaries[[#This Row],[Where do you work]],tblCountries[[Actual]:[Mapping]],2,FALSE)","v":"India"},{"$f":"VLOOKUP(tblSalaries[[#This Row],[clean Country]]&\"*\",Cont_Table,2,0)","v":"Asia"},"All the 8 hours baby, all the 8!",8]
[null,"ID0927","2012-05-27T21:21:41",{"$f":"LEFT(tblSalaries[[#This Row],[Timestamp]],FIND(\".\",tblSalaries[[#This Row],[Timestamp]],1))","v":"41056."},150000,150000,"USD",{"$f":"tblSalaries[[#This Row],[clean Salary (in local currency)]]*VLOOKUP(tblSalaries[[#This Row],[Currency]],tblXrate[],2,FALSE)","v":150000},"Controller","Controller","USA",{"$f":"VLOOKUP(tblSalaries[[#This Row],[Where do you work]],tblCountries[[Actual]:[Mapping]],2,FALSE)","v":"USA"},{"$f":"VLOOKUP(tblSalaries[[#This Row],[clean Country]]&\"*\",Cont_Table,2,0)","v":"North America"},"4 to 6 hours a day",25]
[null,"ID0928","2012-05-27T21:24:42",{"$f":"LEFT(tblSalaries[[#This Row],[Timestamp]],FIND(\".\",tblSalaries[[#This Row],[Timestamp]],1))","v":"41056."},"7 Lakhs",700000,"INR",{"$f":"tblSalaries[[#This Row],[clean Salary (in local currency)]]*VLOOKUP(tblSalaries[[#This Row],[Currency]],tblXrate[],2,FALSE)","v":12465.541681209797},"Business Support Executive","Manager","India",{"$f":"VLOOKUP(tblSalaries[[#This Row],[Where do you work]],tblCountries[[Actual]:[Mapping]],2,FALSE)","v":"India"},{"$f":"VLOOKUP(tblSalaries[[#This Row],[clean Country]]&\"*\",Cont_Table,2,0)","v":"Asia"},"4 to 6 hours a day",3]
[null,"ID0929","2012-05-27T21:44:39",{"$f":"LEFT(tblSalaries[[#This Row],[Timestamp]],FIND(\".\",tblSalaries[[#This Row],[Timestamp]],1))","v":"41056."},"15000 â‚¬",15000,"EUR",{"$f":"tblSalaries[[#This Row],[clean Salary (in local currency)]]*VLOOKUP(tblSalaries[[#This Row],[Currency]],tblXrate[],2,FALSE)","v":19055.991584874118},"analytic","Analyst","Slovenia",{"$f":"VLOOKUP(tblSalaries[[#This Row],[Where do you work]],tblCountries[[Actual]:[Mapping]],2,FALSE)","v":"Slovenia"},{"$f":"VLOOKUP(tblSalaries[[#This Row],[clean Country]]&\"*\",Cont_Table,2,0)","v":"Europe"},"4 to 6 hours a day",4]
[null,"ID0930","2012-05-27T21:49:55",{"$f":"LEFT(tblSalaries[[#This Row],[Timestamp]],FIND(\".\",tblSalaries[[#This Row],[Timestamp]],1))","v":"41056."},105000,105000,"USD",{"$f":"tblSalaries[[#This Row],[clean Salary (in local currency)]]*VLOOKUP(tblSalaries[[#This Row],[Currency]],tblXrate[],2,FALSE)","v":105000},"business analyst","Analyst","USA",{"$f":"VLOOKUP(tblSalaries[[#This Row],[Where do you work]],tblCountries[[Actual]:[Mapping]],2,FALSE)","v":"USA"},{"$f":"VLOOKUP(tblSalaries[[#This Row],[clean Country]]&\"*\",Cont_Table,2,0)","v":"North America"},"4 to 6 hours a day",20]
[null,"ID0931","2012-05-27T22:05:15",{"$f":"LEFT(tblSalaries[[#This Row],[Timestamp]],FIND(\".\",tblSalaries[[#This Row],[Timestamp]],1))","v":"41056."},24000,24000,"USD",{"$f":"tblSalaries[[#This Row],[clean Salary (in local currency)]]*VLOOKUP(tblSalaries[[#This Row],[Currency]],tblXrate[],2,FALSE)","v":24000},"business analyst","Analyst","India",{"$f":"VLOOKUP(tblSalaries[[#This Row],[Where do you work]],tblCountries[[Actual]:[Mapping]],2,FALSE)","v":"India"},{"$f":"VLOOKUP(tblSalaries[[#This Row],[clean Country]]&\"*\",Cont_Table,2,0)","v":"Asia"},"4 to 6 hours a day",3]
[null,"ID0932","2012-05-27T22:22:01",{"$f":"LEFT(tblSalaries[[#This Row],[Timestamp]],FIND(\".\",tblSalaries[[#This Row],[Timestamp]],1))","v":"41056."},"50000 GBP",50000,"GBP",{"$f":"tblSalaries[[#This Row],[clean Salary (in local currency)]]*VLOOKUP(tblSalaries[[#This Row],[Currency]],tblXrate[],2,FALSE)","v":78808.913603364199},"Finance Analyst","Analyst","UK",{"$f":"VLOOKUP(tblSalaries[[#This Row],[Where do you work]],tblCountries[[Actual]:[Mapping]],2,FALSE)","v":"UK"},{"$f":"VLOOKUP(tblSalaries[[#This Row],[clean Country]]&\"*\",Cont_Table,2,0)","v":"Europe"},"All the 8 hours baby, all the 8!",10]
[null,"ID0933","2012-05-27T22:35:22",{"$f":"LEFT(tblSalaries[[#This Row],[Timestamp]],FIND(\".\",tblSalaries[[#This Row],[Timestamp]],1))","v":"41056."},42000,42000,"USD",{"$f":"tblSalaries[[#This Row],[clean Salary (in local currency)]]*VLOOKUP(tblSalaries[[#This Row],[Currency]],tblXrate[],2,FALSE)","v":42000},"Credit Controller","Controller","Saudi Arabia",{"$f":"VLOOKUP(tblSalaries[[#This Row],[Where do you work]],tblCountries[[Actual]:[Mapping]],2,FALSE)","v":"Saudi Arabia"},{"$f":"VLOOKUP(tblSalaries[[#This Row],[clean Country]]&\"*\",Cont_Table,2,0)","v":"Asia"},"All the 8 hours baby, all the 8!",15]
[null,"ID0934","2012-05-27T22:40:38",{"$f":"LEFT(tblSalaries[[#This Row],[Timestamp]],FIND(\".\",tblSalaries[[#This Row],[Timestamp]],1))","v":"41056."},"R$ 19.200,00",19200,"BRL",{"$f":"tblSalaries[[#This Row],[clean Salary (in local currency)]]*VLOOKUP(tblSalaries[[#This Row],[Currency]],tblXrate[],2,FALSE)","v":9490.1984044603923},"Programmer","Analyst","Brazil",{"$f":"VLOOKUP(tblSalaries[[#This Row],[Where do you work]],tblCountries[[Actual]:[Mapping]],2,FALSE)","v":"Brazil"},{"$f":"VLOOKUP(tblSalaries[[#This Row],[clean Country]]&\"*\",Cont_Table,2,0)","v":"South America"},"All the 8 hours baby, all the 8!",8]
[null,"ID0935","2012-05-27T22:58:39",{"$f":"LEFT(tblSalaries[[#This Row],[Timestamp]],FIND(\".\",tblSalaries[[#This Row],[Timestamp]],1))","v":"41056."},60000,60000,"USD",{"$f":"tblSalaries[[#This Row],[clean Salary (in local currency)]]*VLOOKUP(tblSalaries[[#This Row],[Currency]],tblXrate[],2,FALSE)","v":60000},"Consultant","Consultant","Singapore",{"$f":"VLOOKUP(tblSalaries[[#This Row],[Where do you work]],tblCountries[[Actual]:[Mapping]],2,FALSE)","v":"Singapore"},{"$f":"VLOOKUP(tblSalaries[[#This Row],[clean Country]]&\"*\",Cont_Table,2,0)","v":"Asia"},"4 to 6 hours a day",5]
[null,"ID0936","2012-05-27T23:03:21",{"$f":"LEFT(tblSalaries[[#This Row],[Timestamp]],FIND(\".\",tblSalaries[[#This Row],[Timestamp]],1))","v":"41056."},1000000,1000000,"INR",{"$f":"tblSalaries[[#This Row],[clean Salary (in local currency)]]*VLOOKUP(tblSalaries[[#This Row],[Currency]],tblXrate[],2,FALSE)","v":17807.916687442568},"business","Manager","India",{"$f":"VLOOKUP(tblSalaries[[#This Row],[Where do you work]],tblCountries[[Actual]:[Mapping]],2,FALSE)","v":"India"},{"$f":"VLOOKUP(tblSalaries[[#This Row],[clean Country]]&\"*\",Cont_Table,2,0)","v":"Asia"},"All the 8 hours baby, all the 8!",8]
[null,"ID0937","2012-05-27T23:10:01",{"$f":"LEFT(tblSalaries[[#This Row],[Timestamp]],FIND(\".\",tblSalaries[[#This Row],[Timestamp]],1))","v":"41056."},"Rs.7,00,000",700000,"INR",{"$f":"tblSalaries[[#This Row],[clean Salary (in local currency)]]*VLOOKUP(tblSalaries[[#This Row],[Currency]],tblXrate[],2,FALSE)","v":12465.541681209797},"Business Analyst","Analyst","India",{"$f":"VLOOKUP(tblSalaries[[#This Row],[Where do you work]],tblCountries[[Actual]:[Mapping]],2,FALSE)","v":"India"},{"$f":"VLOOKUP(tblSalaries[[#This Row],[clean Country]]&\"*\",Cont_Table,2,0)","v":"Asia"},"All the 8 hours baby, all the 8!",1]
[null,"ID0938","2012-05-27T23:32:30",{"$f":"LEFT(tblSalaries[[#This Row],[Timestamp]],FIND(\".\",tblSalaries[[#This Row],[Timestamp]],1))","v":"41056."},20571,20571,"USD",{"$f":"tblSalaries[[#This Row],[clean Salary (in local currency)]]*VLOOKUP(tblSalaries[[#This Row],[Currency]],tblXrate[],2,FALSE)","v":20571},"CFO","CXO or Top Mgmt.","Albania",{"$f":"VLOOKUP(tblSalaries[[#This Row],[Where do you work]],tblCountries[[Actual]:[Mapping]],2,FALSE)","v":"Albania"},{"$f":"VLOOKUP(tblSalaries[[#This Row],[clean Country]]&\"*\",Cont_Table,2,0)","v":"Europe"},"4 to 6 hours a day",8]
[null,"ID0939","2012-05-27T23:43:21",{"$f":"LEFT(tblSalaries[[#This Row],[Timestamp]],FIND(\".\",tblSalaries[[#This Row],[Timestamp]],1))","v":"41056."},290,3480,"USD",{"$f":"tblSalaries[[#This Row],[clean Salary (in local currency)]]*VLOOKUP(tblSalaries[[#This Row],[Currency]],tblXrate[],2,FALSE)","v":3480},"Reconciliation Manager in Textile Mill","Manager","Pakistan",{"$f":"VLOOKUP(tblSalaries[[#This Row],[Where do you work]],tblCountries[[Actual]:[Mapping]],2,FALSE)","v":"Pakistan"},{"$f":"VLOOKUP(tblSalaries[[#This Row],[clean Country]]&\"*\",Cont_Table,2,0)","v":"Asia"},"All the 8 hours baby, all the 8!",6]
[null,"ID0940","2012-05-27T23:46:03",{"$f":"LEFT(tblSalaries[[#This Row],[Timestamp]],FIND(\".\",tblSalaries[[#This Row],[Timestamp]],1))","v":"41056."},18060,18060,"USD",{"$f":"tblSalaries[[#This Row],[clean Salary (in local currency)]]*VLOOKUP(tblSalaries[[#This Row],[Currency]],tblXrate[],2,FALSE)","v":18060},"Reporting Supervisor","Reporting","Philippines",{"$f":"VLOOKUP(tblSalaries[[#This Row],[Where do you work]],tblCountries[[Actual]:[Mapping]],2,FALSE)","v":"Philippines"},{"$f":"VLOOKUP(tblSalaries[[#This Row],[clean Country]]&\"*\",Cont_Table,2,0)","v":"Asia"},"4 to 6 hours a day",12]
[null,"ID0941","2012-05-27T23:47:25",{"$f":"LEFT(tblSalaries[[#This Row],[Timestamp]],FIND(\".\",tblSalaries[[#This Row],[Timestamp]],1))","v":"41056."},"30000 $",30000,"USD",{"$f":"tblSalaries[[#This Row],[clean Salary (in local currency)]]*VLOOKUP(tblSalaries[[#This Row],[Currency]],tblXrate[],2,FALSE)","v":30000},"Financial Expert","Accountant","Iran",{"$f":"VLOOKUP(tblSalaries[[#This Row],[Where do you work]],tblCountries[[Actual]:[Mapping]],2,FALSE)","v":"iran"},{"$f":"VLOOKUP(tblSalaries[[#This Row],[clean Country]]&\"*\",Cont_Table,2,0)","v":"Asia"},"2 to 3 hours per day",30]
[null,"ID0943","2012-05-27T23:52:48",{"$f":"LEFT(tblSalaries[[#This Row],[Timestamp]],FIND(\".\",tblSalaries[[#This Row],[Timestamp]],1))","v":"41056."},"usd 2000 per month",24000,"USD",{"$f":"tblSalaries[[#This Row],[clean Salary (in local currency)]]*VLOOKUP(tblSalaries[[#This Row],[Currency]],tblXrate[],2,FALSE)","v":24000},"sr manager","Manager","India",{"$f":"VLOOKUP(tblSalaries[[#This Row],[Where do you work]],tblCountries[[Actual]:[Mapping]],2,FALSE)","v":"India"},{"$f":"VLOOKUP(tblSalaries[[#This Row],[clean Country]]&\"*\",Cont_Table,2,0)","v":"Asia"},"4 to 6 hours a day",10]
[null,"ID0944","2012-05-28T00:10:43",{"$f":"LEFT(tblSalaries[[#This Row],[Timestamp]],FIND(\".\",tblSalaries[[#This Row],[Timestamp]],1))","v":"41057."},63200,63200,"EUR",{"$f":"tblSalaries[[#This Row],[clean Salary (in local currency)]]*VLOOKUP(tblSalaries[[#This Row],[Currency]],tblXrate[],2,FALSE)","v":80289.244544269619},"Consultant","Consultant","France",{"$f":"VLOOKUP(tblSalaries[[#This Row],[Where do you work]],tblCountries[[Actual]:[Mapping]],2,FALSE)","v":"France"},{"$f":"VLOOKUP(tblSalaries[[#This Row],[clean Country]]&\"*\",Cont_Table,2,0)","v":"Europe"},"4 to 6 hours a day",3]
[null,"ID0945","2012-05-28T00:17:26",{"$f":"LEFT(tblSalaries[[#This Row],[Timestamp]],FIND(\".\",tblSalaries[[#This Row],[Timestamp]],1))","v":"41057."},70000,70000,"USD",{"$f":"tblSalaries[[#This Row],[clean Salary (in local currency)]]*VLOOKUP(tblSalaries[[#This Row],[Currency]],tblXrate[],2,FALSE)","v":70000},"Client Manager","Manager","USA",{"$f":"VLOOKUP(tblSalaries[[#This Row],[Where do you work]],tblCountries[[Actual]:[Mapping]],2,FALSE)","v":"USA"},{"$f":"VLOOKUP(tblSalaries[[#This Row],[clean Country]]&\"*\",Cont_Table,2,0)","v":"North America"},"4 to 6 hours a day",4]
[null,"ID0946","2012-05-28T00:28:56",{"$f":"LEFT(tblSalaries[[#This Row],[Timestamp]],FIND(\".\",tblSalaries[[#This Row],[Timestamp]],1))","v":"41057."},"Rs 40000",480000,"INR",{"$f":"tblSalaries[[#This Row],[clean Salary (in local currency)]]*VLOOKUP(tblSalaries[[#This Row],[Currency]],tblXrate[],2,FALSE)","v":8547.8000099724322},"Manager","Manager","India",{"$f":"VLOOKUP(tblSalaries[[#This Row],[Where do you work]],tblCountries[[Actual]:[Mapping]],2,FALSE)","v":"India"},{"$f":"VLOOKUP(tblSalaries[[#This Row],[clean Country]]&\"*\",Cont_Table,2,0)","v":"Asia"},"2 to 3 hours per day",2]
[null,"ID0948","2012-05-28T00:36:20",{"$f":"LEFT(tblSalaries[[#This Row],[Timestamp]],FIND(\".\",tblSalaries[[#This Row],[Timestamp]],1))","v":"41057."},"INR 600K",600000,"INR",{"$f":"tblSalaries[[#This Row],[clean Salary (in local currency)]]*VLOOKUP(tblSalaries[[#This Row],[Currency]],tblXrate[],2,FALSE)","v":10684.750012465542},"Asst. Mgr. Finance","Analyst","India",{"$f":"VLOOKUP(tblSalaries[[#This Row],[Where do you work]],tblCountries[[Actual]:[Mapping]],2,FALSE)","v":"India"},{"$f":"VLOOKUP(tblSalaries[[#This Row],[clean Country]]&\"*\",Cont_Table,2,0)","v":"Asia"},"4 to 6 hours a day",11]
[null,"ID0949","2012-05-28T00:43:40",{"$f":"LEFT(tblSalaries[[#This Row],[Timestamp]],FIND(\".\",tblSalaries[[#This Row],[Timestamp]],1))","v":"41057."},"600000 INR",600000,"INR",{"$f":"tblSalaries[[#This Row],[clean Salary (in local currency)]]*VLOOKUP(tblSalaries[[#This Row],[Currency]],tblXrate[],2,FALSE)","v":10684.750012465542},"Executive","Analyst","India",{"$f":"VLOOKUP(tblSalaries[[#This Row],[Where do you work]],tblCountries[[Actual]:[Mapping]],2,FALSE)","v":"India"},{"$f":"VLOOKUP(tblSalaries[[#This Row],[clean Country]]&\"*\",Cont_Table,2,0)","v":"Asia"},"2 to 3 hours per day",4]
[null,"ID0950","2012-05-28T00:48:23",{"$f":"LEFT(tblSalaries[[#This Row],[Timestamp]],FIND(\".\",tblSalaries[[#This Row],[Timestamp]],1))","v":"41057."},20000,20000,"USD",{"$f":"tblSalaries[[#This Row],[clean Salary (in local currency)]]*VLOOKUP(tblSalaries[[#This Row],[Currency]],tblXrate[],2,FALSE)","v":20000},"Financial Modeller","Accountant","Zambia",{"$f":"VLOOKUP(tblSalaries[[#This Row],[Where do you work]],tblCountries[[Actual]:[Mapping]],2,FALSE)","v":"Zambia"},{"$f":"VLOOKUP(tblSalaries[[#This Row],[clean Country]]&\"*\",Cont_Table,2,0)","v":"Africa"},"All the 8 hours baby, all the 8!",2]
[null,"ID0951","2012-05-28T01:17:17",{"$f":"LEFT(tblSalaries[[#This Row],[Timestamp]],FIND(\".\",tblSalaries[[#This Row],[Timestamp]],1))","v":"41057."},"42000 â‚¬",42000,"EUR",{"$f":"tblSalaries[[#This Row],[clean Salary (in local currency)]]*VLOOKUP(tblSalaries[[#This Row],[Currency]],tblXrate[],2,FALSE)","v":53356.776437647524},"Consultant","Consultant","Germany",{"$f":"VLOOKUP(tblSalaries[[#This Row],[Where do you work]],tblCountries[[Actual]:[Mapping]],2,FALSE)","v":"Germany"},{"$f":"VLOOKUP(tblSalaries[[#This Row],[clean Country]]&\"*\",Cont_Table,2,0)","v":"Europe"},"2 to 3 hours per day",3]
[null,"ID0952","2012-05-28T01:29:19",{"$f":"LEFT(tblSalaries[[#This Row],[Timestamp]],FIND(\".\",tblSalaries[[#This Row],[Timestamp]],1))","v":"41057."},3000,36000,"USD",{"$f":"tblSalaries[[#This Row],[clean Salary (in local currency)]]*VLOOKUP(tblSalaries[[#This Row],[Currency]],tblXrate[],2,FALSE)","v":36000},"Accountant","Accountant","United Arab Emirates",{"$f":"VLOOKUP(tblSalaries[[#This Row],[Where do you work]],tblCountries[[Actual]:[Mapping]],2,FALSE)","v":"UAE"},{"$f":"VLOOKUP(tblSalaries[[#This Row],[clean Country]]&\"*\",Cont_Table,2,0)","v":"Asia"},"4 to 6 hours a day",4.5]
[null,"ID0953","2012-05-28T01:30:29",{"$f":"LEFT(tblSalaries[[#This Row],[Timestamp]],FIND(\".\",tblSalaries[[#This Row],[Timestamp]],1))","v":"41057."},57000,57000,"USD",{"$f":"tblSalaries[[#This Row],[clean Salary (in local currency)]]*VLOOKUP(tblSalaries[[#This Row],[Currency]],tblXrate[],2,FALSE)","v":57000},"Construction Engineer","Engineer","USA",{"$f":"VLOOKUP(tblSalaries[[#This Row],[Where do you work]],tblCountries[[Actual]:[Mapping]],2,FALSE)","v":"USA"},{"$f":"VLOOKUP(tblSalaries[[#This Row],[clean Country]]&\"*\",Cont_Table,2,0)","v":"North America"},"2 to 3 hours per day",4]
[null,"ID0954","2012-05-28T01:47:29",{"$f":"LEFT(tblSalaries[[#This Row],[Timestamp]],FIND(\".\",tblSalaries[[#This Row],[Timestamp]],1))","v":"41057."},135000,135000,"USD",{"$f":"tblSalaries[[#This Row],[clean Salary (in local currency)]]*VLOOKUP(tblSalaries[[#This Row],[Currency]],tblXrate[],2,FALSE)","v":135000},"Marketing Insights Manager","Manager","USA",{"$f":"VLOOKUP(tblSalaries[[#This Row],[Where do you work]],tblCountries[[Actual]:[Mapping]],2,FALSE)","v":"USA"},{"$f":"VLOOKUP(tblSalaries[[#This Row],[clean Country]]&\"*\",Cont_Table,2,0)","v":"North America"},"All the 8 hours baby, all the 8!",15]
[null,"ID0955","2012-05-28T02:25:13",{"$f":"LEFT(tblSalaries[[#This Row],[Timestamp]],FIND(\".\",tblSalaries[[#This Row],[Timestamp]],1))","v":"41057."},75000,75000,"EUR",{"$f":"tblSalaries[[#This Row],[clean Salary (in local currency)]]*VLOOKUP(tblSalaries[[#This Row],[Currency]],tblXrate[],2,FALSE)","v":95279.957924370581},"Risk analyst","Analyst","Netherlands",{"$f":"VLOOKUP(tblSalaries[[#This Row],[Where do you work]],tblCountries[[Actual]:[Mapping]],2,FALSE)","v":"Netherlands"},{"$f":"VLOOKUP(tblSalaries[[#This Row],[clean Country]]&\"*\",Cont_Table,2,0)","v":"Europe"},"4 to 6 hours a day",4]
[null,"ID0957","2012-05-28T03:34:14",{"$f":"LEFT(tblSalaries[[#This Row],[Timestamp]],FIND(\".\",tblSalaries[[#This Row],[Timestamp]],1))","v":"41057."},45000,45000,"EUR",{"$f":"tblSalaries[[#This Row],[clean Salary (in local currency)]]*VLOOKUP(tblSalaries[[#This Row],[Currency]],tblXrate[],2,FALSE)","v":57167.974754622352},"data analist","Analyst","netherlands",{"$f":"VLOOKUP(tblSalaries[[#This Row],[Where do you work]],tblCountries[[Actual]:[Mapping]],2,FALSE)","v":"Netherlands"},{"$f":"VLOOKUP(tblSalaries[[#This Row],[clean Country]]&\"*\",Cont_Table,2,0)","v":"Europe"},"2 to 3 hours per day",10]
[null,"ID0958","2012-05-28T03:44:00",{"$f":"LEFT(tblSalaries[[#This Row],[Timestamp]],FIND(\".\",tblSalaries[[#This Row],[Timestamp]],1))","v":"41057."},"2,000,000 Naira",2000000,"NAIRA",{"$f":"tblSalaries[[#This Row],[clean Salary (in local currency)]]*VLOOKUP(tblSalaries[[#This Row],[Currency]],tblXrate[],2,FALSE)","v":12326.656394453004},"Head Business Advisory","Manager","Nigeria",{"$f":"VLOOKUP(tblSalaries[[#This Row],[Where do you work]],tblCountries[[Actual]:[Mapping]],2,FALSE)","v":"Nigeria"},{"$f":"VLOOKUP(tblSalaries[[#This Row],[clean Country]]&\"*\",Cont_Table,2,0)","v":"Africa"},"4 to 6 hours a day",5]
[null,"ID0959","2012-05-28T04:05:14",{"$f":"LEFT(tblSalaries[[#This Row],[Timestamp]],FIND(\".\",tblSalaries[[#This Row],[Timestamp]],1))","v":"41057."},8000,8000,"USD",{"$f":"tblSalaries[[#This Row],[clean Salary (in local currency)]]*VLOOKUP(tblSalaries[[#This Row],[Currency]],tblXrate[],2,FALSE)","v":8000},"IT Analyst","Analyst","India",{"$f":"VLOOKUP(tblSalaries[[#This Row],[Where do you work]],tblCountries[[Actual]:[Mapping]],2,FALSE)","v":"India"},{"$f":"VLOOKUP(tblSalaries[[#This Row],[clean Country]]&\"*\",Cont_Table,2,0)","v":"Asia"},"1 or 2 hours a day",5]
[null,"ID0960","2012-05-28T04:40:41",{"$f":"LEFT(tblSalaries[[#This Row],[Timestamp]],FIND(\".\",tblSalaries[[#This Row],[Timestamp]],1))","v":"41057."},"48000 $",48000,"USD",{"$f":"tblSalaries[[#This Row],[clean Salary (in local currency)]]*VLOOKUP(tblSalaries[[#This Row],[Currency]],tblXrate[],2,FALSE)","v":48000},"Merchandise planner","Manager","France",{"$f":"VLOOKUP(tblSalaries[[#This Row],[Where do you work]],tblCountries[[Actual]:[Mapping]],2,FALSE)","v":"France"},{"$f":"VLOOKUP(tblSalaries[[#This Row],[clean Country]]&\"*\",Cont_Table,2,0)","v":"Europe"},"4 to 6 hours a day",5]
[null,"ID0961","2012-05-28T05:07:44",{"$f":"LEFT(tblSalaries[[#This Row],[Timestamp]],FIND(\".\",tblSalaries[[#This Row],[Timestamp]],1))","v":"41057."},40000,40000,"USD",{"$f":"tblSalaries[[#This Row],[clean Salary (in local currency)]]*VLOOKUP(tblSalaries[[#This Row],[Currency]],tblXrate[],2,FALSE)","v":40000},"analyst","Analyst","NZ",{"$f":"VLOOKUP(tblSalaries[[#This Row],[Where do you work]],tblCountries[[Actual]:[Mapping]],2,FALSE)","v":"New Zealand"},{"$f":"VLOOKUP(tblSalaries[[#This Row],[clean Country]]&\"*\",Cont_Table,2,0)","v":"Australia"},"4 to 6 hours a day",5]
[null,"ID0962","2012-05-28T05:09:12",{"$f":"LEFT(tblSalaries[[#This Row],[Timestamp]],FIND(\".\",tblSalaries[[#This Row],[Timestamp]],1))","v":"41057."},"NZ$ 75000",75000,"NZD",{"$f":"tblSalaries[[#This Row],[clean Salary (in local currency)]]*VLOOKUP(tblSalaries[[#This Row],[Currency]],tblXrate[],2,FALSE)","v":59819.107020370408},"Information Analyst","Analyst","New  Zealand",{"$f":"VLOOKUP(tblSalaries[[#This Row],[Where do you work]],tblCountries[[Actual]:[Mapping]],2,FALSE)","v":"New Zealand"},{"$f":"VLOOKUP(tblSalaries[[#This Row],[clean Country]]&\"*\",Cont_Table,2,0)","v":"Australia"},"4 to 6 hours a day",10]
[null,"ID0963","2012-05-28T05:12:38",{"$f":"LEFT(tblSalaries[[#This Row],[Timestamp]],FIND(\".\",tblSalaries[[#This Row],[Timestamp]],1))","v":"41057."},150000,150000,"USD",{"$f":"tblSalaries[[#This Row],[clean Salary (in local currency)]]*VLOOKUP(tblSalaries[[#This Row],[Currency]],tblXrate[],2,FALSE)","v":150000},"Software Tester","Analyst","Switzerland",{"$f":"VLOOKUP(tblSalaries[[#This Row],[Where do you work]],tblCountries[[Actual]:[Mapping]],2,FALSE)","v":"Switzerland"},{"$f":"VLOOKUP(tblSalaries[[#This Row],[clean Country]]&\"*\",Cont_Table,2,0)","v":"Europe"},"1 or 2 hours a day",20]
[null,"ID0964","2012-05-28T05:20:41",{"$f":"LEFT(tblSalaries[[#This Row],[Timestamp]],FIND(\".\",tblSalaries[[#This Row],[Timestamp]],1))","v":"41057."},80000,80000,"AUD",{"$f":"tblSalaries[[#This Row],[clean Salary (in local currency)]]*VLOOKUP(tblSalaries[[#This Row],[Currency]],tblXrate[],2,FALSE)","v":81592.772512210868},"Billing manager","Manager","Australia",{"$f":"VLOOKUP(tblSalaries[[#This Row],[Where do you work]],tblCountries[[Actual]:[Mapping]],2,FALSE)","v":"Australia"},{"$f":"VLOOKUP(tblSalaries[[#This Row],[clean Country]]&\"*\",Cont_Table,2,0)","v":"Australia"},"4 to 6 hours a day",25]
[null,"ID0965","2012-05-28T05:48:56",{"$f":"LEFT(tblSalaries[[#This Row],[Timestamp]],FIND(\".\",tblSalaries[[#This Row],[Timestamp]],1))","v":"41057."},95000,95000,"AUD",{"$f":"tblSalaries[[#This Row],[clean Salary (in local currency)]]*VLOOKUP(tblSalaries[[#This Row],[Currency]],tblXrate[],2,FALSE)","v":96891.417358250401},"financial analyst","Analyst","Australia",{"$f":"VLOOKUP(tblSalaries[[#This Row],[Where do you work]],tblCountries[[Actual]:[Mapping]],2,FALSE)","v":"Australia"},{"$f":"VLOOKUP(tblSalaries[[#This Row],[clean Country]]&\"*\",Cont_Table,2,0)","v":"Australia"},"2 to 3 hours per day",20]
[null,"ID0966","2012-05-28T05:51:10",{"$f":"LEFT(tblSalaries[[#This Row],[Timestamp]],FIND(\".\",tblSalaries[[#This Row],[Timestamp]],1))","v":"41057."},"AUD90000",90000,"AUD",{"$f":"tblSalaries[[#This Row],[clean Salary (in local currency)]]*VLOOKUP(tblSalaries[[#This Row],[Currency]],tblXrate[],2,FALSE)","v":91791.869076237213},"Senior Research Analyst","Analyst","Australia",{"$f":"VLOOKUP(tblSalaries[[#This Row],[Where do you work]],tblCountries[[Actual]:[Mapping]],2,FALSE)","v":"Australia"},{"$f":"VLOOKUP(tblSalaries[[#This Row],[clean Country]]&\"*\",Cont_Table,2,0)","v":"Australia"},"4 to 6 hours a day",13]
[null,"ID0967","2012-05-28T05:51:20",{"$f":"LEFT(tblSalaries[[#This Row],[Timestamp]],FIND(\".\",tblSalaries[[#This Row],[Timestamp]],1))","v":"41057."},15000,15000,"USD",{"$f":"tblSalaries[[#This Row],[clean Salary (in local currency)]]*VLOOKUP(tblSalaries[[#This Row],[Currency]],tblXrate[],2,FALSE)","v":15000},"Quality Executive","Analyst","India",{"$f":"VLOOKUP(tblSalaries[[#This Row],[Where do you work]],tblCountries[[Actual]:[Mapping]],2,FALSE)","v":"India"},{"$f":"VLOOKUP(tblSalaries[[#This Row],[clean Country]]&\"*\",Cont_Table,2,0)","v":"Asia"},"2 to 3 hours per day",2]
[null,"ID0968","2012-05-28T06:25:36",{"$f":"LEFT(tblSalaries[[#This Row],[Timestamp]],FIND(\".\",tblSalaries[[#This Row],[Timestamp]],1))","v":"41057."},"AU$65",65000,"AUD",{"$f":"tblSalaries[[#This Row],[clean Salary (in local currency)]]*VLOOKUP(tblSalaries[[#This Row],[Currency]],tblXrate[],2,FALSE)","v":66294.12766617132},"Business Support ","Manager","Australia",{"$f":"VLOOKUP(tblSalaries[[#This Row],[Where do you work]],tblCountries[[Actual]:[Mapping]],2,FALSE)","v":"Australia"},{"$f":"VLOOKUP(tblSalaries[[#This Row],[clean Country]]&\"*\",Cont_Table,2,0)","v":"Australia"},"2 to 3 hours per day",5]
[null,"ID0969","2012-05-28T06:35:50",{"$f":"LEFT(tblSalaries[[#This Row],[Timestamp]],FIND(\".\",tblSalaries[[#This Row],[Timestamp]],1))","v":"41057."},100000,100000,"AUD",{"$f":"tblSalaries[[#This Row],[clean Salary (in local currency)]]*VLOOKUP(tblSalaries[[#This Row],[Currency]],tblXrate[],2,FALSE)","v":101990.96564026357},"Senior Consultant","Consultant","Australia",{"$f":"VLOOKUP(tblSalaries[[#This Row],[Where do you work]],tblCountries[[Actual]:[Mapping]],2,FALSE)","v":"Australia"},{"$f":"VLOOKUP(tblSalaries[[#This Row],[clean Country]]&\"*\",Cont_Table,2,0)","v":"Australia"},"All the 8 hours baby, all the 8!",6]
[null,"ID0970","2012-05-28T06:51:54",{"$f":"LEFT(tblSalaries[[#This Row],[Timestamp]],FIND(\".\",tblSalaries[[#This Row],[Timestamp]],1))","v":"41057."},60000,60000,"USD",{"$f":"tblSalaries[[#This Row],[clean Salary (in local currency)]]*VLOOKUP(tblSalaries[[#This Row],[Currency]],tblXrate[],2,FALSE)","v":60000},"Sales Manager","Manager","USA",{"$f":"VLOOKUP(tblSalaries[[#This Row],[Where do you work]],tblCountries[[Actual]:[Mapping]],2,FALSE)","v":"USA"},{"$f":"VLOOKUP(tblSalaries[[#This Row],[clean Country]]&\"*\",Cont_Table,2,0)","v":"North America"},"2 to 3 hours per day",3]
[null,"ID0971","2012-05-28T06:52:05",{"$f":"LEFT(tblSalaries[[#This Row],[Timestamp]],FIND(\".\",tblSalaries[[#This Row],[Timestamp]],1))","v":"41057."},43000,43000,"AUD",{"$f":"tblSalaries[[#This Row],[clean Salary (in local currency)]]*VLOOKUP(tblSalaries[[#This Row],[Currency]],tblXrate[],2,FALSE)","v":43856.11522531334},"Finance Officer","Manager","Australia",{"$f":"VLOOKUP(tblSalaries[[#This Row],[Where do you work]],tblCountries[[Actual]:[Mapping]],2,FALSE)","v":"Australia"},{"$f":"VLOOKUP(tblSalaries[[#This Row],[clean Country]]&\"*\",Cont_Table,2,0)","v":"Australia"},"All the 8 hours baby, all the 8!",1]
[null,"ID0972","2012-05-28T06:52:05",{"$f":"LEFT(tblSalaries[[#This Row],[Timestamp]],FIND(\".\",tblSalaries[[#This Row],[Timestamp]],1))","v":"41057."},45616,45616,"USD",{"$f":"tblSalaries[[#This Row],[clean Salary (in local currency)]]*VLOOKUP(tblSalaries[[#This Row],[Currency]],tblXrate[],2,FALSE)","v":45616},"Assistant Fleet Analyst","Analyst","Australia",{"$f":"VLOOKUP(tblSalaries[[#This Row],[Where do you work]],tblCountries[[Actual]:[Mapping]],2,FALSE)","v":"Australia"},{"$f":"VLOOKUP(tblSalaries[[#This Row],[clean Country]]&\"*\",Cont_Table,2,0)","v":"Australia"},"4 to 6 hours a day",1.5]
[null,"ID0973","2012-05-28T07:00:25",{"$f":"LEFT(tblSalaries[[#This Row],[Timestamp]],FIND(\".\",tblSalaries[[#This Row],[Timestamp]],1))","v":"41057."},95000,95000,"NZD",{"$f":"tblSalaries[[#This Row],[clean Salary (in local currency)]]*VLOOKUP(tblSalaries[[#This Row],[Currency]],tblXrate[],2,FALSE)","v":75770.868892469181},"Cost Accountant","Accountant","New Zealand",{"$f":"VLOOKUP(tblSalaries[[#This Row],[Where do you work]],tblCountries[[Actual]:[Mapping]],2,FALSE)","v":"New Zealand"},{"$f":"VLOOKUP(tblSalaries[[#This Row],[clean Country]]&\"*\",Cont_Table,2,0)","v":"Australia"},"4 to 6 hours a day",20]
[null,"ID0974","2012-05-28T07:21:12",{"$f":"LEFT(tblSalaries[[#This Row],[Timestamp]],FIND(\".\",tblSalaries[[#This Row],[Timestamp]],1))","v":"41057."},56600,56600,"AUD",{"$f":"tblSalaries[[#This Row],[clean Salary (in local currency)]]*VLOOKUP(tblSalaries[[#This Row],[Currency]],tblXrate[],2,FALSE)","v":57726.886552389187},"Operations Coordinator","Manager","Australia",{"$f":"VLOOKUP(tblSalaries[[#This Row],[Where do you work]],tblCountries[[Actual]:[Mapping]],2,FALSE)","v":"Australia"},{"$f":"VLOOKUP(tblSalaries[[#This Row],[clean Country]]&\"*\",Cont_Table,2,0)","v":"Australia"},"2 to 3 hours per day",2]
[null,"ID0975","2012-05-28T07:23:07",{"$f":"LEFT(tblSalaries[[#This Row],[Timestamp]],FIND(\".\",tblSalaries[[#This Row],[Timestamp]],1))","v":"41057."},20000,20000,"USD",{"$f":"tblSalaries[[#This Row],[clean Salary (in local currency)]]*VLOOKUP(tblSalaries[[#This Row],[Currency]],tblXrate[],2,FALSE)","v":20000},"data analyst","Analyst","Australia",{"$f":"VLOOKUP(tblSalaries[[#This Row],[Where do you work]],tblCountries[[Actual]:[Mapping]],2,FALSE)","v":"Australia"},{"$f":"VLOOKUP(tblSalaries[[#This Row],[clean Country]]&\"*\",Cont_Table,2,0)","v":"Australia"},"2 to 3 hours per day",2]
[null,"ID0976","2012-05-28T07:28:07",{"$f":"LEFT(tblSalaries[[#This Row],[Timestamp]],FIND(\".\",tblSalaries[[#This Row],[Timestamp]],1))","v":"41057."},"AUD$200,000",200000,"AUD",{"$f":"tblSalaries[[#This Row],[clean Salary (in local currency)]]*VLOOKUP(tblSalaries[[#This Row],[Currency]],tblXrate[],2,FALSE)","v":203981.93128052715},"Corporate Finance Manager","Manager","Australia",{"$f":"VLOOKUP(tblSalaries[[#This Row],[Where do you work]],tblCountries[[Actual]:[Mapping]],2,FALSE)","v":"Australia"},{"$f":"VLOOKUP(tblSalaries[[#This Row],[clean Country]]&\"*\",Cont_Table,2,0)","v":"Australia"},"4 to 6 hours a day",15]
[null,"ID0977","2012-05-28T07:28:34",{"$f":"LEFT(tblSalaries[[#This Row],[Timestamp]],FIND(\".\",tblSalaries[[#This Row],[Timestamp]],1))","v":"41057."},50000,50000,"AUD",{"$f":"tblSalaries[[#This Row],[clean Salary (in local currency)]]*VLOOKUP(tblSalaries[[#This Row],[Currency]],tblXrate[],2,FALSE)","v":50995.482820131787},"Operations","Controller","Australia",{"$f":"VLOOKUP(tblSalaries[[#This Row],[Where do you work]],tblCountries[[Actual]:[Mapping]],2,FALSE)","v":"Australia"},{"$f":"VLOOKUP(tblSalaries[[#This Row],[clean Country]]&\"*\",Cont_Table,2,0)","v":"Australia"},"1 or 2 hours a day",5]
[null,"ID0978","2012-05-28T07:29:43",{"$f":"LEFT(tblSalaries[[#This Row],[Timestamp]],FIND(\".\",tblSalaries[[#This Row],[Timestamp]],1))","v":"41057."},125000,125000,"AUD",{"$f":"tblSalaries[[#This Row],[clean Salary (in local currency)]]*VLOOKUP(tblSalaries[[#This Row],[Currency]],tblXrate[],2,FALSE)","v":127488.70705032947},"Director, Informatics","CXO or Top Mgmt.","Australia",{"$f":"VLOOKUP(tblSalaries[[#This Row],[Where do you work]],tblCountries[[Actual]:[Mapping]],2,FALSE)","v":"Australia"},{"$f":"VLOOKUP(tblSalaries[[#This Row],[clean Country]]&\"*\",Cont_Table,2,0)","v":"Australia"},"4 to 6 hours a day",15]
[null,"ID0979","2012-05-28T07:33:29",{"$f":"LEFT(tblSalaries[[#This Row],[Timestamp]],FIND(\".\",tblSalaries[[#This Row],[Timestamp]],1))","v":"41057."},65000,65000,"AUD",{"$f":"tblSalaries[[#This Row],[clean Salary (in local currency)]]*VLOOKUP(tblSalaries[[#This Row],[Currency]],tblXrate[],2,FALSE)","v":66294.12766617132},"Data Analyst","Analyst","Australia",{"$f":"VLOOKUP(tblSalaries[[#This Row],[Where do you work]],tblCountries[[Actual]:[Mapping]],2,FALSE)","v":"Australia"},{"$f":"VLOOKUP(tblSalaries[[#This Row],[clean Country]]&\"*\",Cont_Table,2,0)","v":"Australia"},"4 to 6 hours a day",4]
[null,"ID0980","2012-05-28T07:39:22",{"$f":"LEFT(tblSalaries[[#This Row],[Timestamp]],FIND(\".\",tblSalaries[[#This Row],[Timestamp]],1))","v":"41057."},62000,62000,"AUD",{"$f":"tblSalaries[[#This Row],[clean Salary (in local currency)]]*VLOOKUP(tblSalaries[[#This Row],[Currency]],tblXrate[],2,FALSE)","v":63234.398696963413},"Business Analyst","Analyst","Australia",{"$f":"VLOOKUP(tblSalaries[[#This Row],[Where do you work]],tblCountries[[Actual]:[Mapping]],2,FALSE)","v":"Australia"},{"$f":"VLOOKUP(tblSalaries[[#This Row],[clean Country]]&\"*\",Cont_Table,2,0)","v":"Australia"},"4 to 6 hours a day",3]
[null,"ID0981","2012-05-28T07:46:28",{"$f":"LEFT(tblSalaries[[#This Row],[Timestamp]],FIND(\".\",tblSalaries[[#This Row],[Timestamp]],1))","v":"41057."},260000,260000,"USD",{"$f":"tblSalaries[[#This Row],[clean Salary (in local currency)]]*VLOOKUP(tblSalaries[[#This Row],[Currency]],tblXrate[],2,FALSE)","v":260000},"CFO","CXO or Top Mgmt.","USA",{"$f":"VLOOKUP(tblSalaries[[#This Row],[Where do you work]],tblCountries[[Actual]:[Mapping]],2,FALSE)","v":"USA"},{"$f":"VLOOKUP(tblSalaries[[#This Row],[clean Country]]&\"*\",Cont_Table,2,0)","v":"North America"},"2 to 3 hours per day",10]
[null,"ID0983","2012-05-28T07:59:49",{"$f":"LEFT(tblSalaries[[#This Row],[Timestamp]],FIND(\".\",tblSalaries[[#This Row],[Timestamp]],1))","v":"41057."},110000,110000,"AUD",{"$f":"tblSalaries[[#This Row],[clean Salary (in local currency)]]*VLOOKUP(tblSalaries[[#This Row],[Currency]],tblXrate[],2,FALSE)","v":112190.06220428993},"Sustainability Strategy Advisor","Manager","Australia",{"$f":"VLOOKUP(tblSalaries[[#This Row],[Where do you work]],tblCountries[[Actual]:[Mapping]],2,FALSE)","v":"Australia"},{"$f":"VLOOKUP(tblSalaries[[#This Row],[clean Country]]&\"*\",Cont_Table,2,0)","v":"Australia"},"2 to 3 hours per day",8]
[null,"ID0984","2012-05-28T08:03:10",{"$f":"LEFT(tblSalaries[[#This Row],[Timestamp]],FIND(\".\",tblSalaries[[#This Row],[Timestamp]],1))","v":"41057."},"AUD$70,000",70000,"AUD",{"$f":"tblSalaries[[#This Row],[clean Salary (in local currency)]]*VLOOKUP(tblSalaries[[#This Row],[Currency]],tblXrate[],2,FALSE)","v":71393.675948184507},"Business Development","Manager","Australia",{"$f":"VLOOKUP(tblSalaries[[#This Row],[Where do you work]],tblCountries[[Actual]:[Mapping]],2,FALSE)","v":"Australia"},{"$f":"VLOOKUP(tblSalaries[[#This Row],[clean Country]]&\"*\",Cont_Table,2,0)","v":"Australia"},"4 to 6 hours a day",7]
[null,"ID0985","2012-05-28T08:22:44",{"$f":"LEFT(tblSalaries[[#This Row],[Timestamp]],FIND(\".\",tblSalaries[[#This Row],[Timestamp]],1))","v":"41057."},"USD 85000.00",85000,"USD",{"$f":"tblSalaries[[#This Row],[clean Salary (in local currency)]]*VLOOKUP(tblSalaries[[#This Row],[Currency]],tblXrate[],2,FALSE)","v":85000},"Reporting and DB Analyist","Reporting","Australia",{"$f":"VLOOKUP(tblSalaries[[#This Row],[Where do you work]],tblCountries[[Actual]:[Mapping]],2,FALSE)","v":"Australia"},{"$f":"VLOOKUP(tblSalaries[[#This Row],[clean Country]]&\"*\",Cont_Table,2,0)","v":"Australia"},"4 to 6 hours a day",8]
[null,"ID0986","2012-05-28T08:26:43",{"$f":"LEFT(tblSalaries[[#This Row],[Timestamp]],FIND(\".\",tblSalaries[[#This Row],[Timestamp]],1))","v":"41057."},94000,94000,"AUD",{"$f":"tblSalaries[[#This Row],[clean Salary (in local currency)]]*VLOOKUP(tblSalaries[[#This Row],[Currency]],tblXrate[],2,FALSE)","v":95871.50770184776},"Business Analyst","Analyst","Australia",{"$f":"VLOOKUP(tblSalaries[[#This Row],[Where do you work]],tblCountries[[Actual]:[Mapping]],2,FALSE)","v":"Australia"},{"$f":"VLOOKUP(tblSalaries[[#This Row],[clean Country]]&\"*\",Cont_Table,2,0)","v":"Australia"},"2 to 3 hours per day",2.5]
[null,"ID0987","2012-05-28T08:35:32",{"$f":"LEFT(tblSalaries[[#This Row],[Timestamp]],FIND(\".\",tblSalaries[[#This Row],[Timestamp]],1))","v":"41057."},"A$107000",107000,"AUD",{"$f":"tblSalaries[[#This Row],[clean Salary (in local currency)]]*VLOOKUP(tblSalaries[[#This Row],[Currency]],tblXrate[],2,FALSE)","v":109130.33323508203},"Management Accountant","Manager","Australia",{"$f":"VLOOKUP(tblSalaries[[#This Row],[Where do you work]],tblCountries[[Actual]:[Mapping]],2,FALSE)","v":"Australia"},{"$f":"VLOOKUP(tblSalaries[[#This Row],[clean Country]]&\"*\",Cont_Table,2,0)","v":"Australia"},"4 to 6 hours a day",35]
[null,"ID0988","2012-05-28T08:39:53",{"$f":"LEFT(tblSalaries[[#This Row],[Timestamp]],FIND(\".\",tblSalaries[[#This Row],[Timestamp]],1))","v":"41057."},3000,36000,"USD",{"$f":"tblSalaries[[#This Row],[clean Salary (in local currency)]]*VLOOKUP(tblSalaries[[#This Row],[Currency]],tblXrate[],2,FALSE)","v":36000},"Project manager","Manager","malaysia",{"$f":"VLOOKUP(tblSalaries[[#This Row],[Where do you work]],tblCountries[[Actual]:[Mapping]],2,FALSE)","v":"malaysia"},{"$f":"VLOOKUP(tblSalaries[[#This Row],[clean Country]]&\"*\",Cont_Table,2,0)","v":"Asia"},"1 or 2 hours a day",3]
[null,"ID0989","2012-05-28T08:41:13",{"$f":"LEFT(tblSalaries[[#This Row],[Timestamp]],FIND(\".\",tblSalaries[[#This Row],[Timestamp]],1))","v":"41057."},120000,120000,"AUD",{"$f":"tblSalaries[[#This Row],[clean Salary (in local currency)]]*VLOOKUP(tblSalaries[[#This Row],[Currency]],tblXrate[],2,FALSE)","v":122389.15876831629},"analyst","Analyst","Australia",{"$f":"VLOOKUP(tblSalaries[[#This Row],[Where do you work]],tblCountries[[Actual]:[Mapping]],2,FALSE)","v":"Australia"},{"$f":"VLOOKUP(tblSalaries[[#This Row],[clean Country]]&\"*\",Cont_Table,2,0)","v":"Australia"},"4 to 6 hours a day",2]
[null,"ID0990","2012-05-28T08:47:39",{"$f":"LEFT(tblSalaries[[#This Row],[Timestamp]],FIND(\".\",tblSalaries[[#This Row],[Timestamp]],1))","v":"41057."},"AU$52.000",52000,"AUD",{"$f":"tblSalaries[[#This Row],[clean Salary (in local currency)]]*VLOOKUP(tblSalaries[[#This Row],[Currency]],tblXrate[],2,FALSE)","v":53035.30213293706},"Shipping Administrator","Analyst","Australia",{"$f":"VLOOKUP(tblSalaries[[#This Row],[Where do you work]],tblCountries[[Actual]:[Mapping]],2,FALSE)","v":"Australia"},{"$f":"VLOOKUP(tblSalaries[[#This Row],[clean Country]]&\"*\",Cont_Table,2,0)","v":"Australia"},"4 to 6 hours a day",4]
[null,"ID0991","2012-05-28T08:48:56",{"$f":"LEFT(tblSalaries[[#This Row],[Timestamp]],FIND(\".\",tblSalaries[[#This Row],[Timestamp]],1))","v":"41057."},125000,125000,"USD",{"$f":"tblSalaries[[#This Row],[clean Salary (in local currency)]]*VLOOKUP(tblSalaries[[#This Row],[Currency]],tblXrate[],2,FALSE)","v":125000},"VP, Operational Analytics","CXO or Top Mgmt.","USA",{"$f":"VLOOKUP(tblSalaries[[#This Row],[Where do you work]],tblCountries[[Actual]:[Mapping]],2,FALSE)","v":"USA"},{"$f":"VLOOKUP(tblSalaries[[#This Row],[clean Country]]&\"*\",Cont_Table,2,0)","v":"North America"},"4 to 6 hours a day",10]
[null,"ID0992","2012-05-28T09:03:56",{"$f":"LEFT(tblSalaries[[#This Row],[Timestamp]],FIND(\".\",tblSalaries[[#This Row],[Timestamp]],1))","v":"41057."},19000,19000,"USD",{"$f":"tblSalaries[[#This Row],[clean Salary (in local currency)]]*VLOOKUP(tblSalaries[[#This Row],[Currency]],tblXrate[],2,FALSE)","v":19000},"Finance analyst","Analyst","China",{"$f":"VLOOKUP(tblSalaries[[#This Row],[Where do you work]],tblCountries[[Actual]:[Mapping]],2,FALSE)","v":"china"},{"$f":"VLOOKUP(tblSalaries[[#This Row],[clean Country]]&\"*\",Cont_Table,2,0)","v":"Asia"},"4 to 6 hours a day",6]
[null,"ID0993","2012-05-28T09:12:27",{"$f":"LEFT(tblSalaries[[#This Row],[Timestamp]],FIND(\".\",tblSalaries[[#This Row],[Timestamp]],1))","v":"41057."},92000,92000,"AUD",{"$f":"tblSalaries[[#This Row],[clean Salary (in local currency)]]*VLOOKUP(tblSalaries[[#This Row],[Currency]],tblXrate[],2,FALSE)","v":93831.688389042494},"Finance analyst","Analyst","Australia",{"$f":"VLOOKUP(tblSalaries[[#This Row],[Where do you work]],tblCountries[[Actual]:[Mapping]],2,FALSE)","v":"Australia"},{"$f":"VLOOKUP(tblSalaries[[#This Row],[clean Country]]&\"*\",Cont_Table,2,0)","v":"Australia"},"All the 8 hours baby, all the 8!",6]
[null,"ID0994","2012-05-28T09:21:56",{"$f":"LEFT(tblSalaries[[#This Row],[Timestamp]],FIND(\".\",tblSalaries[[#This Row],[Timestamp]],1))","v":"41057."},100000,100000,"AUD",{"$f":"tblSalaries[[#This Row],[clean Salary (in local currency)]]*VLOOKUP(tblSalaries[[#This Row],[Currency]],tblXrate[],2,FALSE)","v":101990.96564026357},"Reporting Analyst","Analyst","Australia",{"$f":"VLOOKUP(tblSalaries[[#This Row],[Where do you work]],tblCountries[[Actual]:[Mapping]],2,FALSE)","v":"Australia"},{"$f":"VLOOKUP(tblSalaries[[#This Row],[clean Country]]&\"*\",Cont_Table,2,0)","v":"Australia"},"4 to 6 hours a day",20]
[null,"ID0995","2012-05-28T09:26:10",{"$f":"LEFT(tblSalaries[[#This Row],[Timestamp]],FIND(\".\",tblSalaries[[#This Row],[Timestamp]],1))","v":"41057."},120000,120000,"AUD",{"$f":"tblSalaries[[#This Row],[clean Salary (in local currency)]]*VLOOKUP(tblSalaries[[#This Row],[Currency]],tblXrate[],2,FALSE)","v":122389.15876831629},"HSLP Data Analyst","Analyst","Australia",{"$f":"VLOOKUP(tblSalaries[[#This Row],[Where do you work]],tblCountries[[Actual]:[Mapping]],2,FALSE)","v":"Australia"},{"$f":"VLOOKUP(tblSalaries[[#This Row],[clean Country]]&\"*\",Cont_Table,2,0)","v":"Australia"},"4 to 6 hours a day",5]
[null,"ID0996","2012-05-28T09:38:29",{"$f":"LEFT(tblSalaries[[#This Row],[Timestamp]],FIND(\".\",tblSalaries[[#This Row],[Timestamp]],1))","v":"41057."},35000,35000,"CAD",{"$f":"tblSalaries[[#This Row],[clean Salary (in local currency)]]*VLOOKUP(tblSalaries[[#This Row],[Currency]],tblXrate[],2,FALSE)","v":34417.653306061438},"Reporting Analyst","Analyst","Canada",{"$f":"VLOOKUP(tblSalaries[[#This Row],[Where do you work]],tblCountries[[Actual]:[Mapping]],2,FALSE)","v":"Canada"},{"$f":"VLOOKUP(tblSalaries[[#This Row],[clean Country]]&\"*\",Cont_Table,2,0)","v":"North America"},"All the 8 hours baby, all the 8!",4]
[null,"ID0997","2012-05-28T09:40:10",{"$f":"LEFT(tblSalaries[[#This Row],[Timestamp]],FIND(\".\",tblSalaries[[#This Row],[Timestamp]],1))","v":"41057."},"US$12,000/year",12000,"USD",{"$f":"tblSalaries[[#This Row],[clean Salary (in local currency)]]*VLOOKUP(tblSalaries[[#This Row],[Currency]],tblXrate[],2,FALSE)","v":12000},"Manager","Manager","Asia",{"$f":"VLOOKUP(tblSalaries[[#This Row],[Where do you work]],tblCountries[[Actual]:[Mapping]],2,FALSE)","v":"Asia"},{"$f":"VLOOKUP(tblSalaries[[#This Row],[clean Country]]&\"*\",Cont_Table,2,0)","v":"Asia"},"All the 8 hours baby, all the 8!",3]
[null,"ID0998","2012-05-28T09:41:04",{"$f":"LEFT(tblSalaries[[#This Row],[Timestamp]],FIND(\".\",tblSalaries[[#This Row],[Timestamp]],1))","v":"41057."},204000,204000,"INR",{"$f":"tblSalaries[[#This Row],[clean Salary (in local currency)]]*VLOOKUP(tblSalaries[[#This Row],[Currency]],tblXrate[],2,FALSE)","v":3632.815004238284},"Retired Government Officer, having knowledge in excel.","Manager","India",{"$f":"VLOOKUP(tblSalaries[[#This Row],[Where do you work]],tblCountries[[Actual]:[Mapping]],2,FALSE)","v":"India"},{"$f":"VLOOKUP(tblSalaries[[#This Row],[clean Country]]&\"*\",Cont_Table,2,0)","v":"Asia"},"4 to 6 hours a day",0]
[null,"ID0999","2012-05-28T09:43:33",{"$f":"LEFT(tblSalaries[[#This Row],[Timestamp]],FIND(\".\",tblSalaries[[#This Row],[Timestamp]],1))","v":"41057."},"1200000 INR",1200000,"INR",{"$f":"tblSalaries[[#This Row],[clean Salary (in local currency)]]*VLOOKUP(tblSalaries[[#This Row],[Currency]],tblXrate[],2,FALSE)","v":21369.500024931083},"Senior Consultant","Consultant","India",{"$f":"VLOOKUP(tblSalaries[[#This Row],[Where do you work]],tblCountries[[Actual]:[Mapping]],2,FALSE)","v":"India"},{"$f":"VLOOKUP(tblSalaries[[#This Row],[clean Country]]&\"*\",Cont_Table,2,0)","v":"Asia"},"All the 8 hours baby, all the 8!",6]
[null,"ID1000","2012-05-28T09:51:24",{"$f":"LEFT(tblSalaries[[#This Row],[Timestamp]],FIND(\".\",tblSalaries[[#This Row],[Timestamp]],1))","v":"41057."},"Rs. 500000",500000,"INR",{"$f":"tblSalaries[[#This Row],[clean Salary (in local currency)]]*VLOOKUP(tblSalaries[[#This Row],[Currency]],tblXrate[],2,FALSE)","v":8903.9583437212841},"Business Analyst","Analyst","India",{"$f":"VLOOKUP(tblSalaries[[#This Row],[Where do you work]],tblCountries[[Actual]:[Mapping]],2,FALSE)","v":"India"},{"$f":"VLOOKUP(tblSalaries[[#This Row],[clean Country]]&\"*\",Cont_Table,2,0)","v":"Asia"},"4 to 6 hours a day",7]
[null,"ID1001","2012-05-28T10:15:27",{"$f":"LEFT(tblSalaries[[#This Row],[Timestamp]],FIND(\".\",tblSalaries[[#This Row],[Timestamp]],1))","v":"41057."},"RM48,000",48000,"MYR",{"$f":"tblSalaries[[#This Row],[clean Salary (in local currency)]]*VLOOKUP(tblSalaries[[#This Row],[Currency]],tblXrate[],2,FALSE)","v":15206.427249917633},"Credit Risk Manager","Manager","Malaysia",{"$f":"VLOOKUP(tblSalaries[[#This Row],[Where do you work]],tblCountries[[Actual]:[Mapping]],2,FALSE)","v":"malaysia"},{"$f":"VLOOKUP(tblSalaries[[#This Row],[clean Country]]&\"*\",Cont_Table,2,0)","v":"Asia"},"4 to 6 hours a day",2]
[null,"ID1002","2012-05-28T10:21:58",{"$f":"LEFT(tblSalaries[[#This Row],[Timestamp]],FIND(\".\",tblSalaries[[#This Row],[Timestamp]],1))","v":"41057."},"NZD 180000",180000,"NZD",{"$f":"tblSalaries[[#This Row],[clean Salary (in local currency)]]*VLOOKUP(tblSalaries[[#This Row],[Currency]],tblXrate[],2,FALSE)","v":143565.85684888897},"Commercial Manager","Manager","New Zealand",{"$f":"VLOOKUP(tblSalaries[[#This Row],[Where do you work]],tblCountries[[Actual]:[Mapping]],2,FALSE)","v":"New Zealand"},{"$f":"VLOOKUP(tblSalaries[[#This Row],[clean Country]]&\"*\",Cont_Table,2,0)","v":"Australia"},"4 to 6 hours a day",25]
[null,"ID1003","2012-05-28T10:25:51",{"$f":"LEFT(tblSalaries[[#This Row],[Timestamp]],FIND(\".\",tblSalaries[[#This Row],[Timestamp]],1))","v":"41057."},"Rs.5,45,000",545000,"INR",{"$f":"tblSalaries[[#This Row],[clean Salary (in local currency)]]*VLOOKUP(tblSalaries[[#This Row],[Currency]],tblXrate[],2,FALSE)","v":9705.3145946561999},"Assistant Manager","Manager","India",{"$f":"VLOOKUP(tblSalaries[[#This Row],[Where do you work]],tblCountries[[Actual]:[Mapping]],2,FALSE)","v":"India"},{"$f":"VLOOKUP(tblSalaries[[#This Row],[clean Country]]&\"*\",Cont_Table,2,0)","v":"Asia"},"2 to 3 hours per day",6]
[null,"ID1004","2012-05-28T10:27:45",{"$f":"LEFT(tblSalaries[[#This Row],[Timestamp]],FIND(\".\",tblSalaries[[#This Row],[Timestamp]],1))","v":"41057."},"Rs.10,00,000",1000000,"INR",{"$f":"tblSalaries[[#This Row],[clean Salary (in local currency)]]*VLOOKUP(tblSalaries[[#This Row],[Currency]],tblXrate[],2,FALSE)","v":17807.916687442568},"Credit Manager - Loans","Manager","India",{"$f":"VLOOKUP(tblSalaries[[#This Row],[Where do you work]],tblCountries[[Actual]:[Mapping]],2,FALSE)","v":"India"},{"$f":"VLOOKUP(tblSalaries[[#This Row],[clean Country]]&\"*\",Cont_Table,2,0)","v":"Asia"},"All the 8 hours baby, all the 8!",8]
[null,"ID1005","2012-05-28T10:27:48",{"$f":"LEFT(tblSalaries[[#This Row],[Timestamp]],FIND(\".\",tblSalaries[[#This Row],[Timestamp]],1))","v":"41057."},180000,180000,"INR",{"$f":"tblSalaries[[#This Row],[clean Salary (in local currency)]]*VLOOKUP(tblSalaries[[#This Row],[Currency]],tblXrate[],2,FALSE)","v":3205.4250037396623},"Audit executive","Analyst","INDIA",{"$f":"VLOOKUP(tblSalaries[[#This Row],[Where do you work]],tblCountries[[Actual]:[Mapping]],2,FALSE)","v":"India"},{"$f":"VLOOKUP(tblSalaries[[#This Row],[clean Country]]&\"*\",Cont_Table,2,0)","v":"Asia"},"4 to 6 hours a day",10]
[null,"ID1006","2012-05-28T10:29:41",{"$f":"LEFT(tblSalaries[[#This Row],[Timestamp]],FIND(\".\",tblSalaries[[#This Row],[Timestamp]],1))","v":"41057."},"$45,000  USD",45000,"USD",{"$f":"tblSalaries[[#This Row],[clean Salary (in local currency)]]*VLOOKUP(tblSalaries[[#This Row],[Currency]],tblXrate[],2,FALSE)","v":45000},"Staff accountant -- Auditing","Accountant","USA",{"$f":"VLOOKUP(tblSalaries[[#This Row],[Where do you work]],tblCountries[[Actual]:[Mapping]],2,FALSE)","v":"USA"},{"$f":"VLOOKUP(tblSalaries[[#This Row],[clean Country]]&\"*\",Cont_Table,2,0)","v":"North America"},"All the 8 hours baby, all the 8!",3]
[null,"ID1007","2012-05-28T10:38:53",{"$f":"LEFT(tblSalaries[[#This Row],[Timestamp]],FIND(\".\",tblSalaries[[#This Row],[Timestamp]],1))","v":"41057."},700000,700000,"INR",{"$f":"tblSalaries[[#This Row],[clean Salary (in local currency)]]*VLOOKUP(tblSalaries[[#This Row],[Currency]],tblXrate[],2,FALSE)","v":12465.541681209797},"Asst Manager - Quality","Manager","India",{"$f":"VLOOKUP(tblSalaries[[#This Row],[Where do you work]],tblCountries[[Actual]:[Mapping]],2,FALSE)","v":"India"},{"$f":"VLOOKUP(tblSalaries[[#This Row],[clean Country]]&\"*\",Cont_Table,2,0)","v":"Asia"},"2 to 3 hours per day",7]
[null,"ID1008","2012-05-28T10:41:38",{"$f":"LEFT(tblSalaries[[#This Row],[Timestamp]],FIND(\".\",tblSalaries[[#This Row],[Timestamp]],1))","v":"41057."},94000,94000,"AUD",{"$f":"tblSalaries[[#This Row],[clean Salary (in local currency)]]*VLOOKUP(tblSalaries[[#This Row],[Currency]],tblXrate[],2,FALSE)","v":95871.50770184776},"Principal Analyst","Analyst","Australia",{"$f":"VLOOKUP(tblSalaries[[#This Row],[Where do you work]],tblCountries[[Actual]:[Mapping]],2,FALSE)","v":"Australia"},{"$f":"VLOOKUP(tblSalaries[[#This Row],[clean Country]]&\"*\",Cont_Table,2,0)","v":"Australia"},"2 to 3 hours per day",14]
[null,"ID1009","2012-05-28T10:42:08",{"$f":"LEFT(tblSalaries[[#This Row],[Timestamp]],FIND(\".\",tblSalaries[[#This Row],[Timestamp]],1))","v":"41057."},170000,170000,"AUD",{"$f":"tblSalaries[[#This Row],[clean Salary (in local currency)]]*VLOOKUP(tblSalaries[[#This Row],[Currency]],tblXrate[],2,FALSE)","v":173384.64158844808},"Business Consultant","Consultant","Australia",{"$f":"VLOOKUP(tblSalaries[[#This Row],[Where do you work]],tblCountries[[Actual]:[Mapping]],2,FALSE)","v":"Australia"},{"$f":"VLOOKUP(tblSalaries[[#This Row],[clean Country]]&\"*\",Cont_Table,2,0)","v":"Australia"},"2 to 3 hours per day",8]
[null,"ID1010","2012-05-28T11:11:53",{"$f":"LEFT(tblSalaries[[#This Row],[Timestamp]],FIND(\".\",tblSalaries[[#This Row],[Timestamp]],1))","v":"41057."},650000,650000,"INR",{"$f":"tblSalaries[[#This Row],[clean Salary (in local currency)]]*VLOOKUP(tblSalaries[[#This Row],[Currency]],tblXrate[],2,FALSE)","v":11575.14584683767},"Ass Research  Manager","Manager","India",{"$f":"VLOOKUP(tblSalaries[[#This Row],[Where do you work]],tblCountries[[Actual]:[Mapping]],2,FALSE)","v":"India"},{"$f":"VLOOKUP(tblSalaries[[#This Row],[clean Country]]&\"*\",Cont_Table,2,0)","v":"Asia"},"2 to 3 hours per day",1]
[null,"ID1011","2012-05-28T11:31:20",{"$f":"LEFT(tblSalaries[[#This Row],[Timestamp]],FIND(\".\",tblSalaries[[#This Row],[Timestamp]],1))","v":"41057."},18000,18000,"USD",{"$f":"tblSalaries[[#This Row],[clean Salary (in local currency)]]*VLOOKUP(tblSalaries[[#This Row],[Currency]],tblXrate[],2,FALSE)","v":18000},"Data Specialist","Specialist","India",{"$f":"VLOOKUP(tblSalaries[[#This Row],[Where do you work]],tblCountries[[Actual]:[Mapping]],2,FALSE)","v":"India"},{"$f":"VLOOKUP(tblSalaries[[#This Row],[clean Country]]&\"*\",Cont_Table,2,0)","v":"Asia"},"All the 8 hours baby, all the 8!",8]
[null,"ID1012","2012-05-28T11:33:05",{"$f":"LEFT(tblSalaries[[#This Row],[Timestamp]],FIND(\".\",tblSalaries[[#This Row],[Timestamp]],1))","v":"41057."},"AUD$70,000",70000,"AUD",{"$f":"tblSalaries[[#This Row],[clean Salary (in local currency)]]*VLOOKUP(tblSalaries[[#This Row],[Currency]],tblXrate[],2,FALSE)","v":71393.675948184507},"Director","CXO or Top Mgmt.","Australia",{"$f":"VLOOKUP(tblSalaries[[#This Row],[Where do you work]],tblCountries[[Actual]:[Mapping]],2,FALSE)","v":"Australia"},{"$f":"VLOOKUP(tblSalaries[[#This Row],[clean Country]]&\"*\",Cont_Table,2,0)","v":"Australia"},"All the 8 hours baby, all the 8!",2]
[null,"ID1013","2012-05-28T11:33:07",{"$f":"LEFT(tblSalaries[[#This Row],[Timestamp]],FIND(\".\",tblSalaries[[#This Row],[Timestamp]],1))","v":"41057."},"350000 Rs",350000,"INR",{"$f":"tblSalaries[[#This Row],[clean Salary (in local currency)]]*VLOOKUP(tblSalaries[[#This Row],[Currency]],tblXrate[],2,FALSE)","v":6232.7708406048987},"Data Analyst","Analyst","India",{"$f":"VLOOKUP(tblSalaries[[#This Row],[Where do you work]],tblCountries[[Actual]:[Mapping]],2,FALSE)","v":"India"},{"$f":"VLOOKUP(tblSalaries[[#This Row],[clean Country]]&\"*\",Cont_Table,2,0)","v":"Asia"},"4 to 6 hours a day",2.5]
[null,"ID1014","2012-05-28T11:37:17",{"$f":"LEFT(tblSalaries[[#This Row],[Timestamp]],FIND(\".\",tblSalaries[[#This Row],[Timestamp]],1))","v":"41057."},"LKR 240000",240000,"LKR",{"$f":"tblSalaries[[#This Row],[clean Salary (in local currency)]]*VLOOKUP(tblSalaries[[#This Row],[Currency]],tblXrate[],2,FALSE)","v":1805.7739622442759},"Management Trainee","Manager","Sri Lanka",{"$f":"VLOOKUP(tblSalaries[[#This Row],[Where do you work]],tblCountries[[Actual]:[Mapping]],2,FALSE)","v":"Sri Lanka"},{"$f":"VLOOKUP(tblSalaries[[#This Row],[clean Country]]&\"*\",Cont_Table,2,0)","v":"Asia"},"4 to 6 hours a day",3]
[null,"ID1015","2012-05-28T11:39:01",{"$f":"LEFT(tblSalaries[[#This Row],[Timestamp]],FIND(\".\",tblSalaries[[#This Row],[Timestamp]],1))","v":"41057."},"Rs.6.4 lakhs",640000,"INR",{"$f":"tblSalaries[[#This Row],[clean Salary (in local currency)]]*VLOOKUP(tblSalaries[[#This Row],[Currency]],tblXrate[],2,FALSE)","v":11397.066679963244},"Sr.Analyst - Process Excellence","Analyst","India",{"$f":"VLOOKUP(tblSalaries[[#This Row],[Where do you work]],tblCountries[[Actual]:[Mapping]],2,FALSE)","v":"India"},{"$f":"VLOOKUP(tblSalaries[[#This Row],[clean Country]]&\"*\",Cont_Table,2,0)","v":"Asia"},"All the 8 hours baby, all the 8!",6]
[null,"ID1016","2012-05-28T11:41:11",{"$f":"LEFT(tblSalaries[[#This Row],[Timestamp]],FIND(\".\",tblSalaries[[#This Row],[Timestamp]],1))","v":"41057."},15000,15000,"USD",{"$f":"tblSalaries[[#This Row],[clean Salary (in local currency)]]*VLOOKUP(tblSalaries[[#This Row],[Currency]],tblXrate[],2,FALSE)","v":15000},"Operations Management","Manager","India",{"$f":"VLOOKUP(tblSalaries[[#This Row],[Where do you work]],tblCountries[[Actual]:[Mapping]],2,FALSE)","v":"India"},{"$f":"VLOOKUP(tblSalaries[[#This Row],[clean Country]]&\"*\",Cont_Table,2,0)","v":"Asia"},"4 to 6 hours a day",4]
[null,"ID1017","2012-05-28T11:58:39",{"$f":"LEFT(tblSalaries[[#This Row],[Timestamp]],FIND(\".\",tblSalaries[[#This Row],[Timestamp]],1))","v":"41057."},"R308 500",308500,"ZAR",{"$f":"tblSalaries[[#This Row],[clean Salary (in local currency)]]*VLOOKUP(tblSalaries[[#This Row],[Currency]],tblXrate[],2,FALSE)","v":37612.869087708088},"Management Information Consultant","Manager","South Africa",{"$f":"VLOOKUP(tblSalaries[[#This Row],[Where do you work]],tblCountries[[Actual]:[Mapping]],2,FALSE)","v":"South Africa"},{"$f":"VLOOKUP(tblSalaries[[#This Row],[clean Country]]&\"*\",Cont_Table,2,0)","v":"Africa"},"All the 8 hours baby, all the 8!",3]
[null,"ID1018","2012-05-28T12:00:14",{"$f":"LEFT(tblSalaries[[#This Row],[Timestamp]],FIND(\".\",tblSalaries[[#This Row],[Timestamp]],1))","v":"41057."},3.65,365000,"INR",{"$f":"tblSalaries[[#This Row],[clean Salary (in local currency)]]*VLOOKUP(tblSalaries[[#This Row],[Currency]],tblXrate[],2,FALSE)","v":6499.8895909165376},"associate analyst","Analyst","India",{"$f":"VLOOKUP(tblSalaries[[#This Row],[Where do you work]],tblCountries[[Actual]:[Mapping]],2,FALSE)","v":"India"},{"$f":"VLOOKUP(tblSalaries[[#This Row],[clean Country]]&\"*\",Cont_Table,2,0)","v":"Asia"},"4 to 6 hours a day",3]
[null,"ID1019","2012-05-28T12:09:37",{"$f":"LEFT(tblSalaries[[#This Row],[Timestamp]],FIND(\".\",tblSalaries[[#This Row],[Timestamp]],1))","v":"41057."},"usd 20.000",20000,"USD",{"$f":"tblSalaries[[#This Row],[clean Salary (in local currency)]]*VLOOKUP(tblSalaries[[#This Row],[Currency]],tblXrate[],2,FALSE)","v":20000},"Head of Financial Reporting","Reporting","Paraguay",{"$f":"VLOOKUP(tblSalaries[[#This Row],[Where do you work]],tblCountries[[Actual]:[Mapping]],2,FALSE)","v":"Paraguay"},{"$f":"VLOOKUP(tblSalaries[[#This Row],[clean Country]]&\"*\",Cont_Table,2,0)","v":"South America"},"All the 8 hours baby, all the 8!",6]
[null,"ID1020","2012-05-28T12:10:09",{"$f":"LEFT(tblSalaries[[#This Row],[Timestamp]],FIND(\".\",tblSalaries[[#This Row],[Timestamp]],1))","v":"41057."},7265,7265,"USD",{"$f":"tblSalaries[[#This Row],[clean Salary (in local currency)]]*VLOOKUP(tblSalaries[[#This Row],[Currency]],tblXrate[],2,FALSE)","v":7265},"Softwar Engineer","Engineer","India",{"$f":"VLOOKUP(tblSalaries[[#This Row],[Where do you work]],tblCountries[[Actual]:[Mapping]],2,FALSE)","v":"India"},{"$f":"VLOOKUP(tblSalaries[[#This Row],[clean Country]]&\"*\",Cont_Table,2,0)","v":"Asia"},"4 to 6 hours a day",6]
[null,"ID1021","2012-05-28T12:15:53",{"$f":"LEFT(tblSalaries[[#This Row],[Timestamp]],FIND(\".\",tblSalaries[[#This Row],[Timestamp]],1))","v":"41057."},"SGD92,000",92000,"SGD",{"$f":"tblSalaries[[#This Row],[clean Salary (in local currency)]]*VLOOKUP(tblSalaries[[#This Row],[Currency]],tblXrate[],2,FALSE)","v":72571.80269935554},"Finance Manager","Manager","Singapore",{"$f":"VLOOKUP(tblSalaries[[#This Row],[Where do you work]],tblCountries[[Actual]:[Mapping]],2,FALSE)","v":"Singapore"},{"$f":"VLOOKUP(tblSalaries[[#This Row],[clean Country]]&\"*\",Cont_Table,2,0)","v":"Asia"},"All the 8 hours baby, all the 8!",15]
[null,"ID1023","2012-05-28T12:20:48",{"$f":"LEFT(tblSalaries[[#This Row],[Timestamp]],FIND(\".\",tblSalaries[[#This Row],[Timestamp]],1))","v":"41057."},"INR 4.5 Lac",450000,"INR",{"$f":"tblSalaries[[#This Row],[clean Salary (in local currency)]]*VLOOKUP(tblSalaries[[#This Row],[Currency]],tblXrate[],2,FALSE)","v":8013.5625093491553},"Asst. Manager","Manager","India",{"$f":"VLOOKUP(tblSalaries[[#This Row],[Where do you work]],tblCountries[[Actual]:[Mapping]],2,FALSE)","v":"India"},{"$f":"VLOOKUP(tblSalaries[[#This Row],[clean Country]]&\"*\",Cont_Table,2,0)","v":"Asia"},"All the 8 hours baby, all the 8!",15]
[null,"ID1024","2012-05-28T12:26:01",{"$f":"LEFT(tblSalaries[[#This Row],[Timestamp]],FIND(\".\",tblSalaries[[#This Row],[Timestamp]],1))","v":"41057."},"Rs.5.7 lacs",570000,"INR",{"$f":"tblSalaries[[#This Row],[clean Salary (in local currency)]]*VLOOKUP(tblSalaries[[#This Row],[Currency]],tblXrate[],2,FALSE)","v":10150.512511842264},"MIS & Analysis","Analyst","India",{"$f":"VLOOKUP(tblSalaries[[#This Row],[Where do you work]],tblCountries[[Actual]:[Mapping]],2,FALSE)","v":"India"},{"$f":"VLOOKUP(tblSalaries[[#This Row],[clean Country]]&\"*\",Cont_Table,2,0)","v":"Asia"},"4 to 6 hours a day",5]
[null,"ID1025","2012-05-28T12:26:42",{"$f":"LEFT(tblSalaries[[#This Row],[Timestamp]],FIND(\".\",tblSalaries[[#This Row],[Timestamp]],1))","v":"41057."},65000,65000,"USD",{"$f":"tblSalaries[[#This Row],[clean Salary (in local currency)]]*VLOOKUP(tblSalaries[[#This Row],[Currency]],tblXrate[],2,FALSE)","v":65000},"Controller","Controller","USA",{"$f":"VLOOKUP(tblSalaries[[#This Row],[Where do you work]],tblCountries[[Actual]:[Mapping]],2,FALSE)","v":"USA"},{"$f":"VLOOKUP(tblSalaries[[#This Row],[clean Country]]&\"*\",Cont_Table,2,0)","v":"North America"},"4 to 6 hours a day",9]
[null,"ID1026","2012-05-28T12:32:12",{"$f":"LEFT(tblSalaries[[#This Row],[Timestamp]],FIND(\".\",tblSalaries[[#This Row],[Timestamp]],1))","v":"41057."},300000,300000,"PKR",{"$f":"tblSalaries[[#This Row],[clean Salary (in local currency)]]*VLOOKUP(tblSalaries[[#This Row],[Currency]],tblXrate[],2,FALSE)","v":3184.2266150397395},"Banker","Manager","Pakistan",{"$f":"VLOOKUP(tblSalaries[[#This Row],[Where do you work]],tblCountries[[Actual]:[Mapping]],2,FALSE)","v":"Pakistan"},{"$f":"VLOOKUP(tblSalaries[[#This Row],[clean Country]]&\"*\",Cont_Table,2,0)","v":"Asia"},"4 to 6 hours a day",4]
[null,"ID1027","2012-05-28T12:35:38",{"$f":"LEFT(tblSalaries[[#This Row],[Timestamp]],FIND(\".\",tblSalaries[[#This Row],[Timestamp]],1))","v":"41057."},"Net- 56000Rs, Gross - 61000Rs",612000,"INR",{"$f":"tblSalaries[[#This Row],[clean Salary (in local currency)]]*VLOOKUP(tblSalaries[[#This Row],[Currency]],tblXrate[],2,FALSE)","v":10898.445012714852},"Asst. Manager ","Manager","India",{"$f":"VLOOKUP(tblSalaries[[#This Row],[Where do you work]],tblCountries[[Actual]:[Mapping]],2,FALSE)","v":"India"},{"$f":"VLOOKUP(tblSalaries[[#This Row],[clean Country]]&\"*\",Cont_Table,2,0)","v":"Asia"},"2 to 3 hours per day",13]
[null,"ID1028","2012-05-28T12:40:26",{"$f":"LEFT(tblSalaries[[#This Row],[Timestamp]],FIND(\".\",tblSalaries[[#This Row],[Timestamp]],1))","v":"41057."},900,10800,"USD",{"$f":"tblSalaries[[#This Row],[clean Salary (in local currency)]]*VLOOKUP(tblSalaries[[#This Row],[Currency]],tblXrate[],2,FALSE)","v":10800},"Project Managment Office","Manager","Pakistan",{"$f":"VLOOKUP(tblSalaries[[#This Row],[Where do you work]],tblCountries[[Actual]:[Mapping]],2,FALSE)","v":"Pakistan"},{"$f":"VLOOKUP(tblSalaries[[#This Row],[clean Country]]&\"*\",Cont_Table,2,0)","v":"Asia"},"All the 8 hours baby, all the 8!",5]
[null,"ID1029","2012-05-28T12:47:20",{"$f":"LEFT(tblSalaries[[#This Row],[Timestamp]],FIND(\".\",tblSalaries[[#This Row],[Timestamp]],1))","v":"41057."},120000,120000,"INR",{"$f":"tblSalaries[[#This Row],[clean Salary (in local currency)]]*VLOOKUP(tblSalaries[[#This Row],[Currency]],tblXrate[],2,FALSE)","v":2136.9500024931081},"Audit Assistant","Analyst","India",{"$f":"VLOOKUP(tblSalaries[[#This Row],[Where do you work]],tblCountries[[Actual]:[Mapping]],2,FALSE)","v":"India"},{"$f":"VLOOKUP(tblSalaries[[#This Row],[clean Country]]&\"*\",Cont_Table,2,0)","v":"Asia"},"2 to 3 hours per day",3.5]
[null,"ID1030","2012-05-28T12:51:53",{"$f":"LEFT(tblSalaries[[#This Row],[Timestamp]],FIND(\".\",tblSalaries[[#This Row],[Timestamp]],1))","v":"41057."},45000,45000,"USD",{"$f":"tblSalaries[[#This Row],[clean Salary (in local currency)]]*VLOOKUP(tblSalaries[[#This Row],[Currency]],tblXrate[],2,FALSE)","v":45000},"Engineer","Engineer","singapore",{"$f":"VLOOKUP(tblSalaries[[#This Row],[Where do you work]],tblCountries[[Actual]:[Mapping]],2,FALSE)","v":"Singapore"},{"$f":"VLOOKUP(tblSalaries[[#This Row],[clean Country]]&\"*\",Cont_Table,2,0)","v":"Asia"},"2 to 3 hours per day",4]
[null,"ID1031","2012-05-28T12:57:13",{"$f":"LEFT(tblSalaries[[#This Row],[Timestamp]],FIND(\".\",tblSalaries[[#This Row],[Timestamp]],1))","v":"41057."},"Rs. 4,00,000/-",400000,"INR",{"$f":"tblSalaries[[#This Row],[clean Salary (in local currency)]]*VLOOKUP(tblSalaries[[#This Row],[Currency]],tblXrate[],2,FALSE)","v":7123.1666749770275},"Sr. Executive","Manager","India",{"$f":"VLOOKUP(tblSalaries[[#This Row],[Where do you work]],tblCountries[[Actual]:[Mapping]],2,FALSE)","v":"India"},{"$f":"VLOOKUP(tblSalaries[[#This Row],[clean Country]]&\"*\",Cont_Table,2,0)","v":"Asia"},"2 to 3 hours per day",5]
[null,"ID1032","2012-05-28T12:58:44",{"$f":"LEFT(tblSalaries[[#This Row],[Timestamp]],FIND(\".\",tblSalaries[[#This Row],[Timestamp]],1))","v":"41057."},"3 Lakh ",300000,"INR",{"$f":"tblSalaries[[#This Row],[clean Salary (in local currency)]]*VLOOKUP(tblSalaries[[#This Row],[Currency]],tblXrate[],2,FALSE)","v":5342.3750062327708},"ACCOUNTS","Accountant","India",{"$f":"VLOOKUP(tblSalaries[[#This Row],[Where do you work]],tblCountries[[Actual]:[Mapping]],2,FALSE)","v":"India"},{"$f":"VLOOKUP(tblSalaries[[#This Row],[clean Country]]&\"*\",Cont_Table,2,0)","v":"Asia"},"2 to 3 hours per day",5]
[null,"ID1033","2012-05-28T12:59:59",{"$f":"LEFT(tblSalaries[[#This Row],[Timestamp]],FIND(\".\",tblSalaries[[#This Row],[Timestamp]],1))","v":"41057."},18000,18000,"USD",{"$f":"tblSalaries[[#This Row],[clean Salary (in local currency)]]*VLOOKUP(tblSalaries[[#This Row],[Currency]],tblXrate[],2,FALSE)","v":18000},"Area Sales Manager","Manager","India",{"$f":"VLOOKUP(tblSalaries[[#This Row],[Where do you work]],tblCountries[[Actual]:[Mapping]],2,FALSE)","v":"India"},{"$f":"VLOOKUP(tblSalaries[[#This Row],[clean Country]]&\"*\",Cont_Table,2,0)","v":"Asia"},"2 to 3 hours per day",4.5999999999999996]
[null,"ID1034","2012-05-28T13:01:42",{"$f":"LEFT(tblSalaries[[#This Row],[Timestamp]],FIND(\".\",tblSalaries[[#This Row],[Timestamp]],1))","v":"41057."},"PK RS 456000",456000,"PKR",{"$f":"tblSalaries[[#This Row],[clean Salary (in local currency)]]*VLOOKUP(tblSalaries[[#This Row],[Currency]],tblXrate[],2,FALSE)","v":4840.0244548604041},"Strategic Planning Executive","Manager","Pakistan",{"$f":"VLOOKUP(tblSalaries[[#This Row],[Where do you work]],tblCountries[[Actual]:[Mapping]],2,FALSE)","v":"Pakistan"},{"$f":"VLOOKUP(tblSalaries[[#This Row],[clean Country]]&\"*\",Cont_Table,2,0)","v":"Asia"},"4 to 6 hours a day",2]
[null,"ID1035","2012-05-28T13:02:56",{"$f":"LEFT(tblSalaries[[#This Row],[Timestamp]],FIND(\".\",tblSalaries[[#This Row],[Timestamp]],1))","v":"41057."},"Rs 4,20,000 ",420000,"INR",{"$f":"tblSalaries[[#This Row],[clean Salary (in local currency)]]*VLOOKUP(tblSalaries[[#This Row],[Currency]],tblXrate[],2,FALSE)","v":7479.3250087258784},"Analyst","Analyst","India",{"$f":"VLOOKUP(tblSalaries[[#This Row],[Where do you work]],tblCountries[[Actual]:[Mapping]],2,FALSE)","v":"India"},{"$f":"VLOOKUP(tblSalaries[[#This Row],[clean Country]]&\"*\",Cont_Table,2,0)","v":"Asia"},"2 to 3 hours per day",10]
[null,"ID1036","2012-05-28T13:05:39",{"$f":"LEFT(tblSalaries[[#This Row],[Timestamp]],FIND(\".\",tblSalaries[[#This Row],[Timestamp]],1))","v":"41057."},210000,210000,"INR",{"$f":"tblSalaries[[#This Row],[clean Salary (in local currency)]]*VLOOKUP(tblSalaries[[#This Row],[Currency]],tblXrate[],2,FALSE)","v":3739.6625043629392},"MIS executive","Reporting","India",{"$f":"VLOOKUP(tblSalaries[[#This Row],[Where do you work]],tblCountries[[Actual]:[Mapping]],2,FALSE)","v":"India"},{"$f":"VLOOKUP(tblSalaries[[#This Row],[clean Country]]&\"*\",Cont_Table,2,0)","v":"Asia"},"All the 8 hours baby, all the 8!",3.5]
[null,"ID1037","2012-05-28T13:06:37",{"$f":"LEFT(tblSalaries[[#This Row],[Timestamp]],FIND(\".\",tblSalaries[[#This Row],[Timestamp]],1))","v":"41057."},3500,42000,"USD",{"$f":"tblSalaries[[#This Row],[clean Salary (in local currency)]]*VLOOKUP(tblSalaries[[#This Row],[Currency]],tblXrate[],2,FALSE)","v":42000},"Category Operations Supv.","Manager","Kuwait",{"$f":"VLOOKUP(tblSalaries[[#This Row],[Where do you work]],tblCountries[[Actual]:[Mapping]],2,FALSE)","v":"Kuwait"},{"$f":"VLOOKUP(tblSalaries[[#This Row],[clean Country]]&\"*\",Cont_Table,2,0)","v":"Asia"},"All the 8 hours baby, all the 8!",5]
[null,"ID1038","2012-05-28T13:10:02",{"$f":"LEFT(tblSalaries[[#This Row],[Timestamp]],FIND(\".\",tblSalaries[[#This Row],[Timestamp]],1))","v":"41057."},28000,28000,"USD",{"$f":"tblSalaries[[#This Row],[clean Salary (in local currency)]]*VLOOKUP(tblSalaries[[#This Row],[Currency]],tblXrate[],2,FALSE)","v":28000},"BI","Reporting","India",{"$f":"VLOOKUP(tblSalaries[[#This Row],[Where do you work]],tblCountries[[Actual]:[Mapping]],2,FALSE)","v":"India"},{"$f":"VLOOKUP(tblSalaries[[#This Row],[clean Country]]&\"*\",Cont_Table,2,0)","v":"Asia"},"2 to 3 hours per day",3]
[null,"ID1039","2012-05-28T13:11:42",{"$f":"LEFT(tblSalaries[[#This Row],[Timestamp]],FIND(\".\",tblSalaries[[#This Row],[Timestamp]],1))","v":"41057."},6000,6000,"USD",{"$f":"tblSalaries[[#This Row],[clean Salary (in local currency)]]*VLOOKUP(tblSalaries[[#This Row],[Currency]],tblXrate[],2,FALSE)","v":6000},"Manager","Manager","India",{"$f":"VLOOKUP(tblSalaries[[#This Row],[Where do you work]],tblCountries[[Actual]:[Mapping]],2,FALSE)","v":"India"},{"$f":"VLOOKUP(tblSalaries[[#This Row],[clean Country]]&\"*\",Cont_Table,2,0)","v":"Asia"},"4 to 6 hours a day",5]
[null,"ID1040","2012-05-28T13:26:22",{"$f":"LEFT(tblSalaries[[#This Row],[Timestamp]],FIND(\".\",tblSalaries[[#This Row],[Timestamp]],1))","v":"41057."},55,55000,"NZD",{"$f":"tblSalaries[[#This Row],[clean Salary (in local currency)]]*VLOOKUP(tblSalaries[[#This Row],[Currency]],tblXrate[],2,FALSE)","v":43867.345148271634},"Financial Analyst","Analyst","New Zealand",{"$f":"VLOOKUP(tblSalaries[[#This Row],[Where do you work]],tblCountries[[Actual]:[Mapping]],2,FALSE)","v":"New Zealand"},{"$f":"VLOOKUP(tblSalaries[[#This Row],[clean Country]]&\"*\",Cont_Table,2,0)","v":"Australia"},"All the 8 hours baby, all the 8!",10]
[null,"ID1041","2012-05-28T13:27:46",{"$f":"LEFT(tblSalaries[[#This Row],[Timestamp]],FIND(\".\",tblSalaries[[#This Row],[Timestamp]],1))","v":"41057."},"10 Lakh",1000000,"INR",{"$f":"tblSalaries[[#This Row],[clean Salary (in local currency)]]*VLOOKUP(tblSalaries[[#This Row],[Currency]],tblXrate[],2,FALSE)","v":17807.916687442568},"Teaching","Analyst","India",{"$f":"VLOOKUP(tblSalaries[[#This Row],[Where do you work]],tblCountries[[Actual]:[Mapping]],2,FALSE)","v":"India"},{"$f":"VLOOKUP(tblSalaries[[#This Row],[clean Country]]&\"*\",Cont_Table,2,0)","v":"Asia"},"1 or 2 hours a day",25]
[null,"ID1042","2012-05-28T13:37:10",{"$f":"LEFT(tblSalaries[[#This Row],[Timestamp]],FIND(\".\",tblSalaries[[#This Row],[Timestamp]],1))","v":"41057."},600000,600000,"INR",{"$f":"tblSalaries[[#This Row],[clean Salary (in local currency)]]*VLOOKUP(tblSalaries[[#This Row],[Currency]],tblXrate[],2,FALSE)","v":10684.750012465542},"Business Analyst","Analyst","India",{"$f":"VLOOKUP(tblSalaries[[#This Row],[Where do you work]],tblCountries[[Actual]:[Mapping]],2,FALSE)","v":"India"},{"$f":"VLOOKUP(tblSalaries[[#This Row],[clean Country]]&\"*\",Cont_Table,2,0)","v":"Asia"},"All the 8 hours baby, all the 8!",12]
[null,"ID1043","2012-05-28T13:40:58",{"$f":"LEFT(tblSalaries[[#This Row],[Timestamp]],FIND(\".\",tblSalaries[[#This Row],[Timestamp]],1))","v":"41057."},"USD 60000",60000,"USD",{"$f":"tblSalaries[[#This Row],[clean Salary (in local currency)]]*VLOOKUP(tblSalaries[[#This Row],[Currency]],tblXrate[],2,FALSE)","v":60000},"Excel Developer","Consultant","Finland",{"$f":"VLOOKUP(tblSalaries[[#This Row],[Where do you work]],tblCountries[[Actual]:[Mapping]],2,FALSE)","v":"Finland"},{"$f":"VLOOKUP(tblSalaries[[#This Row],[clean Country]]&\"*\",Cont_Table,2,0)","v":"Europe"},"All the 8 hours baby, all the 8!",5]
[null,"ID1044","2012-05-28T13:41:33",{"$f":"LEFT(tblSalaries[[#This Row],[Timestamp]],FIND(\".\",tblSalaries[[#This Row],[Timestamp]],1))","v":"41057."},476000,476000,"INR",{"$f":"tblSalaries[[#This Row],[clean Salary (in local currency)]]*VLOOKUP(tblSalaries[[#This Row],[Currency]],tblXrate[],2,FALSE)","v":8476.5683432226633},"Report Specialist","Reporting","India",{"$f":"VLOOKUP(tblSalaries[[#This Row],[Where do you work]],tblCountries[[Actual]:[Mapping]],2,FALSE)","v":"India"},{"$f":"VLOOKUP(tblSalaries[[#This Row],[clean Country]]&\"*\",Cont_Table,2,0)","v":"Asia"},"4 to 6 hours a day",8]
[null,"ID1045","2012-05-28T13:42:12",{"$f":"LEFT(tblSalaries[[#This Row],[Timestamp]],FIND(\".\",tblSalaries[[#This Row],[Timestamp]],1))","v":"41057."},725,8700,"USD",{"$f":"tblSalaries[[#This Row],[clean Salary (in local currency)]]*VLOOKUP(tblSalaries[[#This Row],[Currency]],tblXrate[],2,FALSE)","v":8700},"Project Controlling (MIS Reports)","Controller","India",{"$f":"VLOOKUP(tblSalaries[[#This Row],[Where do you work]],tblCountries[[Actual]:[Mapping]],2,FALSE)","v":"India"},{"$f":"VLOOKUP(tblSalaries[[#This Row],[clean Country]]&\"*\",Cont_Table,2,0)","v":"Asia"},"2 to 3 hours per day",7]
[null,"ID1046","2012-05-28T13:42:35",{"$f":"LEFT(tblSalaries[[#This Row],[Timestamp]],FIND(\".\",tblSalaries[[#This Row],[Timestamp]],1))","v":"41057."},"2,00,000 INR",200000,"INR",{"$f":"tblSalaries[[#This Row],[clean Salary (in local currency)]]*VLOOKUP(tblSalaries[[#This Row],[Currency]],tblXrate[],2,FALSE)","v":3561.5833374885137},"Monitoring & evaluation officer","Manager","India",{"$f":"VLOOKUP(tblSalaries[[#This Row],[Where do you work]],tblCountries[[Actual]:[Mapping]],2,FALSE)","v":"India"},{"$f":"VLOOKUP(tblSalaries[[#This Row],[clean Country]]&\"*\",Cont_Table,2,0)","v":"Asia"},"All the 8 hours baby, all the 8!",8]
[null,"ID1047","2012-05-28T13:43:01",{"$f":"LEFT(tblSalaries[[#This Row],[Timestamp]],FIND(\".\",tblSalaries[[#This Row],[Timestamp]],1))","v":"41057."},1.8,180000,"INR",{"$f":"tblSalaries[[#This Row],[clean Salary (in local currency)]]*VLOOKUP(tblSalaries[[#This Row],[Currency]],tblXrate[],2,FALSE)","v":3205.4250037396623},"MIS EXCUTIVE","Reporting","India",{"$f":"VLOOKUP(tblSalaries[[#This Row],[Where do you work]],tblCountries[[Actual]:[Mapping]],2,FALSE)","v":"India"},{"$f":"VLOOKUP(tblSalaries[[#This Row],[clean Country]]&\"*\",Cont_Table,2,0)","v":"Asia"},"All the 8 hours baby, all the 8!",4]
[null,"ID1048","2012-05-28T13:46:17",{"$f":"LEFT(tblSalaries[[#This Row],[Timestamp]],FIND(\".\",tblSalaries[[#This Row],[Timestamp]],1))","v":"41057."},252000,252000,"INR",{"$f":"tblSalaries[[#This Row],[clean Salary (in local currency)]]*VLOOKUP(tblSalaries[[#This Row],[Currency]],tblXrate[],2,FALSE)","v":4487.5950052355274},"Accounts Exec","Accountant","India",{"$f":"VLOOKUP(tblSalaries[[#This Row],[Where do you work]],tblCountries[[Actual]:[Mapping]],2,FALSE)","v":"India"},{"$f":"VLOOKUP(tblSalaries[[#This Row],[clean Country]]&\"*\",Cont_Table,2,0)","v":"Asia"},"1 or 2 hours a day",5]
[null,"ID1049","2012-05-28T13:54:57",{"$f":"LEFT(tblSalaries[[#This Row],[Timestamp]],FIND(\".\",tblSalaries[[#This Row],[Timestamp]],1))","v":"41057."},"Rs. 700000",700000,"INR",{"$f":"tblSalaries[[#This Row],[clean Salary (in local currency)]]*VLOOKUP(tblSalaries[[#This Row],[Currency]],tblXrate[],2,FALSE)","v":12465.541681209797},"Credit Analyst","Analyst","India",{"$f":"VLOOKUP(tblSalaries[[#This Row],[Where do you work]],tblCountries[[Actual]:[Mapping]],2,FALSE)","v":"India"},{"$f":"VLOOKUP(tblSalaries[[#This Row],[clean Country]]&\"*\",Cont_Table,2,0)","v":"Asia"},"4 to 6 hours a day",5]
[null,"ID1050","2012-05-28T14:00:56",{"$f":"LEFT(tblSalaries[[#This Row],[Timestamp]],FIND(\".\",tblSalaries[[#This Row],[Timestamp]],1))","v":"41057."},194,2400,"USD",{"$f":"tblSalaries[[#This Row],[clean Salary (in local currency)]]*VLOOKUP(tblSalaries[[#This Row],[Currency]],tblXrate[],2,FALSE)","v":2400},"Accounts Officer","Accountant","Pakistan",{"$f":"VLOOKUP(tblSalaries[[#This Row],[Where do you work]],tblCountries[[Actual]:[Mapping]],2,FALSE)","v":"Pakistan"},{"$f":"VLOOKUP(tblSalaries[[#This Row],[clean Country]]&\"*\",Cont_Table,2,0)","v":"Asia"},"2 to 3 hours per day",15]
[null,"ID1051","2012-05-28T14:11:34",{"$f":"LEFT(tblSalaries[[#This Row],[Timestamp]],FIND(\".\",tblSalaries[[#This Row],[Timestamp]],1))","v":"41057."},"55000 usd",55000,"USD",{"$f":"tblSalaries[[#This Row],[clean Salary (in local currency)]]*VLOOKUP(tblSalaries[[#This Row],[Currency]],tblXrate[],2,FALSE)","v":55000},"Economist","Reporting","Israel",{"$f":"VLOOKUP(tblSalaries[[#This Row],[Where do you work]],tblCountries[[Actual]:[Mapping]],2,FALSE)","v":"Israel"},{"$f":"VLOOKUP(tblSalaries[[#This Row],[clean Country]]&\"*\",Cont_Table,2,0)","v":"Asia"},"4 to 6 hours a day",6]
[null,"ID1052","2012-05-28T14:12:35",{"$f":"LEFT(tblSalaries[[#This Row],[Timestamp]],FIND(\".\",tblSalaries[[#This Row],[Timestamp]],1))","v":"41057."},"12000 $",12000,"USD",{"$f":"tblSalaries[[#This Row],[clean Salary (in local currency)]]*VLOOKUP(tblSalaries[[#This Row],[Currency]],tblXrate[],2,FALSE)","v":12000},"planning & Sales Control emploee","Controller","Iran",{"$f":"VLOOKUP(tblSalaries[[#This Row],[Where do you work]],tblCountries[[Actual]:[Mapping]],2,FALSE)","v":"iran"},{"$f":"VLOOKUP(tblSalaries[[#This Row],[clean Country]]&\"*\",Cont_Table,2,0)","v":"Asia"},"4 to 6 hours a day",3]
[null,"ID1053","2012-05-28T14:12:50",{"$f":"LEFT(tblSalaries[[#This Row],[Timestamp]],FIND(\".\",tblSalaries[[#This Row],[Timestamp]],1))","v":"41057."},43500,43500,"EUR",{"$f":"tblSalaries[[#This Row],[clean Salary (in local currency)]]*VLOOKUP(tblSalaries[[#This Row],[Currency]],tblXrate[],2,FALSE)","v":55262.375596134938},"RRHH","Manager","SPAIN",{"$f":"VLOOKUP(tblSalaries[[#This Row],[Where do you work]],tblCountries[[Actual]:[Mapping]],2,FALSE)","v":"Spain"},{"$f":"VLOOKUP(tblSalaries[[#This Row],[clean Country]]&\"*\",Cont_Table,2,0)","v":"Europe"},"2 to 3 hours per day",10]
[null,"ID1054","2012-05-28T14:12:52",{"$f":"LEFT(tblSalaries[[#This Row],[Timestamp]],FIND(\".\",tblSalaries[[#This Row],[Timestamp]],1))","v":"41057."},"Rs. 1200000",1200000,"INR",{"$f":"tblSalaries[[#This Row],[clean Salary (in local currency)]]*VLOOKUP(tblSalaries[[#This Row],[Currency]],tblXrate[],2,FALSE)","v":21369.500024931083},"Management Trainee","Manager","India",{"$f":"VLOOKUP(tblSalaries[[#This Row],[Where do you work]],tblCountries[[Actual]:[Mapping]],2,FALSE)","v":"India"},{"$f":"VLOOKUP(tblSalaries[[#This Row],[clean Country]]&\"*\",Cont_Table,2,0)","v":"Asia"},"2 to 3 hours per day",2]
[null,"ID1055","2012-05-28T14:18:40",{"$f":"LEFT(tblSalaries[[#This Row],[Timestamp]],FIND(\".\",tblSalaries[[#This Row],[Timestamp]],1))","v":"41057."},26000,26000,"GBP",{"$f":"tblSalaries[[#This Row],[clean Salary (in local currency)]]*VLOOKUP(tblSalaries[[#This Row],[Currency]],tblXrate[],2,FALSE)","v":40980.635073749385},"Consultant","Consultant","UK",{"$f":"VLOOKUP(tblSalaries[[#This Row],[Where do you work]],tblCountries[[Actual]:[Mapping]],2,FALSE)","v":"UK"},{"$f":"VLOOKUP(tblSalaries[[#This Row],[clean Country]]&\"*\",Cont_Table,2,0)","v":"Europe"},"All the 8 hours baby, all the 8!",8]
[null,"ID1056","2012-05-28T14:21:27",{"$f":"LEFT(tblSalaries[[#This Row],[Timestamp]],FIND(\".\",tblSalaries[[#This Row],[Timestamp]],1))","v":"41057."},50000,50000,"AUD",{"$f":"tblSalaries[[#This Row],[clean Salary (in local currency)]]*VLOOKUP(tblSalaries[[#This Row],[Currency]],tblXrate[],2,FALSE)","v":50995.482820131787},"BA","Analyst","Australia",{"$f":"VLOOKUP(tblSalaries[[#This Row],[Where do you work]],tblCountries[[Actual]:[Mapping]],2,FALSE)","v":"Australia"},{"$f":"VLOOKUP(tblSalaries[[#This Row],[clean Country]]&\"*\",Cont_Table,2,0)","v":"Australia"},"4 to 6 hours a day",4]
[null,"ID1057","2012-05-28T14:22:02",{"$f":"LEFT(tblSalaries[[#This Row],[Timestamp]],FIND(\".\",tblSalaries[[#This Row],[Timestamp]],1))","v":"41057."},"16000 euro",16000,"EUR",{"$f":"tblSalaries[[#This Row],[clean Salary (in local currency)]]*VLOOKUP(tblSalaries[[#This Row],[Currency]],tblXrate[],2,FALSE)","v":20326.391023865726},"Management Information Systems","Manager","Greece",{"$f":"VLOOKUP(tblSalaries[[#This Row],[Where do you work]],tblCountries[[Actual]:[Mapping]],2,FALSE)","v":"Greece"},{"$f":"VLOOKUP(tblSalaries[[#This Row],[clean Country]]&\"*\",Cont_Table,2,0)","v":"Europe"},"All the 8 hours baby, all the 8!",16]
[null,"ID1058","2012-05-28T14:23:57",{"$f":"LEFT(tblSalaries[[#This Row],[Timestamp]],FIND(\".\",tblSalaries[[#This Row],[Timestamp]],1))","v":"41057."},1000,12000,"USD",{"$f":"tblSalaries[[#This Row],[clean Salary (in local currency)]]*VLOOKUP(tblSalaries[[#This Row],[Currency]],tblXrate[],2,FALSE)","v":12000},"consultant","Consultant","India",{"$f":"VLOOKUP(tblSalaries[[#This Row],[Where do you work]],tblCountries[[Actual]:[Mapping]],2,FALSE)","v":"India"},{"$f":"VLOOKUP(tblSalaries[[#This Row],[clean Country]]&\"*\",Cont_Table,2,0)","v":"Asia"},"2 to 3 hours per day",8]
[null,"ID1059","2012-05-28T14:30:05",{"$f":"LEFT(tblSalaries[[#This Row],[Timestamp]],FIND(\".\",tblSalaries[[#This Row],[Timestamp]],1))","v":"41057."},"ZAR240000",240000,"ZAR",{"$f":"tblSalaries[[#This Row],[clean Salary (in local currency)]]*VLOOKUP(tblSalaries[[#This Row],[Currency]],tblXrate[],2,FALSE)","v":29261.227167098674},"Bookkeeper","Accountant","South Africa",{"$f":"VLOOKUP(tblSalaries[[#This Row],[Where do you work]],tblCountries[[Actual]:[Mapping]],2,FALSE)","v":"South Africa"},{"$f":"VLOOKUP(tblSalaries[[#This Row],[clean Country]]&\"*\",Cont_Table,2,0)","v":"Africa"},"2 to 3 hours per day",20]
[null,"ID1060","2012-05-28T14:32:11",{"$f":"LEFT(tblSalaries[[#This Row],[Timestamp]],FIND(\".\",tblSalaries[[#This Row],[Timestamp]],1))","v":"41057."},120000,120000,"ZAR",{"$f":"tblSalaries[[#This Row],[clean Salary (in local currency)]]*VLOOKUP(tblSalaries[[#This Row],[Currency]],tblXrate[],2,FALSE)","v":14630.613583549337},"VP","CXO or Top Mgmt.","South Africa",{"$f":"VLOOKUP(tblSalaries[[#This Row],[Where do you work]],tblCountries[[Actual]:[Mapping]],2,FALSE)","v":"South Africa"},{"$f":"VLOOKUP(tblSalaries[[#This Row],[clean Country]]&\"*\",Cont_Table,2,0)","v":"Africa"},"4 to 6 hours a day",10]
[null,"ID1061","2012-05-28T14:34:34",{"$f":"LEFT(tblSalaries[[#This Row],[Timestamp]],FIND(\".\",tblSalaries[[#This Row],[Timestamp]],1))","v":"41057."},408000,408000,"INR",{"$f":"tblSalaries[[#This Row],[clean Salary (in local currency)]]*VLOOKUP(tblSalaries[[#This Row],[Currency]],tblXrate[],2,FALSE)","v":7265.630008476568},"Sr Exec - Finance","Accountant","India",{"$f":"VLOOKUP(tblSalaries[[#This Row],[Where do you work]],tblCountries[[Actual]:[Mapping]],2,FALSE)","v":"India"},{"$f":"VLOOKUP(tblSalaries[[#This Row],[clean Country]]&\"*\",Cont_Table,2,0)","v":"Asia"},"All the 8 hours baby, all the 8!",5]
[null,"ID1062","2012-05-28T14:34:37",{"$f":"LEFT(tblSalaries[[#This Row],[Timestamp]],FIND(\".\",tblSalaries[[#This Row],[Timestamp]],1))","v":"41057."},"Â£28000",28000,"GBP",{"$f":"tblSalaries[[#This Row],[clean Salary (in local currency)]]*VLOOKUP(tblSalaries[[#This Row],[Currency]],tblXrate[],2,FALSE)","v":44132.991617883956},"Modeller","Analyst","UK",{"$f":"VLOOKUP(tblSalaries[[#This Row],[Where do you work]],tblCountries[[Actual]:[Mapping]],2,FALSE)","v":"UK"},{"$f":"VLOOKUP(tblSalaries[[#This Row],[clean Country]]&\"*\",Cont_Table,2,0)","v":"Europe"},"2 to 3 hours per day",16]
[null,"ID1063","2012-05-28T14:40:54",{"$f":"LEFT(tblSalaries[[#This Row],[Timestamp]],FIND(\".\",tblSalaries[[#This Row],[Timestamp]],1))","v":"41057."},"INR 530000 ",530000,"INR",{"$f":"tblSalaries[[#This Row],[clean Salary (in local currency)]]*VLOOKUP(tblSalaries[[#This Row],[Currency]],tblXrate[],2,FALSE)","v":9438.1958443445619},"Project Administrator","Analyst","India",{"$f":"VLOOKUP(tblSalaries[[#This Row],[Where do you work]],tblCountries[[Actual]:[Mapping]],2,FALSE)","v":"India"},{"$f":"VLOOKUP(tblSalaries[[#This Row],[clean Country]]&\"*\",Cont_Table,2,0)","v":"Asia"},"2 to 3 hours per day",7]
[null,"ID1064","2012-05-28T14:43:40",{"$f":"LEFT(tblSalaries[[#This Row],[Timestamp]],FIND(\".\",tblSalaries[[#This Row],[Timestamp]],1))","v":"41057."},"1500 $",18000,"USD",{"$f":"tblSalaries[[#This Row],[clean Salary (in local currency)]]*VLOOKUP(tblSalaries[[#This Row],[Currency]],tblXrate[],2,FALSE)","v":18000},"Analyst","Analyst","Poland",{"$f":"VLOOKUP(tblSalaries[[#This Row],[Where do you work]],tblCountries[[Actual]:[Mapping]],2,FALSE)","v":"Poland"},{"$f":"VLOOKUP(tblSalaries[[#This Row],[clean Country]]&\"*\",Cont_Table,2,0)","v":"Europe"},"4 to 6 hours a day",7]
[null,"ID1065","2012-05-28T14:44:26",{"$f":"LEFT(tblSalaries[[#This Row],[Timestamp]],FIND(\".\",tblSalaries[[#This Row],[Timestamp]],1))","v":"41057."},"Rs 200000",200000,"INR",{"$f":"tblSalaries[[#This Row],[clean Salary (in local currency)]]*VLOOKUP(tblSalaries[[#This Row],[Currency]],tblXrate[],2,FALSE)","v":3561.5833374885137},"Business Development Executive","Manager","India",{"$f":"VLOOKUP(tblSalaries[[#This Row],[Where do you work]],tblCountries[[Actual]:[Mapping]],2,FALSE)","v":"India"},{"$f":"VLOOKUP(tblSalaries[[#This Row],[clean Country]]&\"*\",Cont_Table,2,0)","v":"Asia"},"2 to 3 hours per day",5]
[null,"ID1066","2012-05-28T14:45:04",{"$f":"LEFT(tblSalaries[[#This Row],[Timestamp]],FIND(\".\",tblSalaries[[#This Row],[Timestamp]],1))","v":"41057."},"2LAKHS",200000,"INR",{"$f":"tblSalaries[[#This Row],[clean Salary (in local currency)]]*VLOOKUP(tblSalaries[[#This Row],[Currency]],tblXrate[],2,FALSE)","v":3561.5833374885137},"MIS Executive","Reporting","India",{"$f":"VLOOKUP(tblSalaries[[#This Row],[Where do you work]],tblCountries[[Actual]:[Mapping]],2,FALSE)","v":"India"},{"$f":"VLOOKUP(tblSalaries[[#This Row],[clean Country]]&\"*\",Cont_Table,2,0)","v":"Asia"},"4 to 6 hours a day",3]
[null,"ID1067","2012-05-28T14:46:42",{"$f":"LEFT(tblSalaries[[#This Row],[Timestamp]],FIND(\".\",tblSalaries[[#This Row],[Timestamp]],1))","v":"41057."},5100,5100,"USD",{"$f":"tblSalaries[[#This Row],[clean Salary (in local currency)]]*VLOOKUP(tblSalaries[[#This Row],[Currency]],tblXrate[],2,FALSE)","v":5100},"MIS Executive","Reporting","India",{"$f":"VLOOKUP(tblSalaries[[#This Row],[Where do you work]],tblCountries[[Actual]:[Mapping]],2,FALSE)","v":"India"},{"$f":"VLOOKUP(tblSalaries[[#This Row],[clean Country]]&\"*\",Cont_Table,2,0)","v":"Asia"},"All the 8 hours baby, all the 8!",8]
[null,"ID1068","2012-05-28T14:50:03",{"$f":"LEFT(tblSalaries[[#This Row],[Timestamp]],FIND(\".\",tblSalaries[[#This Row],[Timestamp]],1))","v":"41057."},100000,1200000,"INR",{"$f":"tblSalaries[[#This Row],[clean Salary (in local currency)]]*VLOOKUP(tblSalaries[[#This Row],[Currency]],tblXrate[],2,FALSE)","v":21369.500024931083},"executive","Analyst","India",{"$f":"VLOOKUP(tblSalaries[[#This Row],[Where do you work]],tblCountries[[Actual]:[Mapping]],2,FALSE)","v":"India"},{"$f":"VLOOKUP(tblSalaries[[#This Row],[clean Country]]&\"*\",Cont_Table,2,0)","v":"Asia"},"4 to 6 hours a day",7]
[null,"ID1069","2012-05-28T14:52:45",{"$f":"LEFT(tblSalaries[[#This Row],[Timestamp]],FIND(\".\",tblSalaries[[#This Row],[Timestamp]],1))","v":"41057."},"Rs. 25000",300000,"INR",{"$f":"tblSalaries[[#This Row],[clean Salary (in local currency)]]*VLOOKUP(tblSalaries[[#This Row],[Currency]],tblXrate[],2,FALSE)","v":5342.3750062327708},"Professional consultant-Finance","Consultant","India",{"$f":"VLOOKUP(tblSalaries[[#This Row],[Where do you work]],tblCountries[[Actual]:[Mapping]],2,FALSE)","v":"India"},{"$f":"VLOOKUP(tblSalaries[[#This Row],[clean Country]]&\"*\",Cont_Table,2,0)","v":"Asia"},"2 to 3 hours per day",1]
[null,"ID1070","2012-05-28T14:53:02",{"$f":"LEFT(tblSalaries[[#This Row],[Timestamp]],FIND(\".\",tblSalaries[[#This Row],[Timestamp]],1))","v":"41057."},50000,50000,"USD",{"$f":"tblSalaries[[#This Row],[clean Salary (in local currency)]]*VLOOKUP(tblSalaries[[#This Row],[Currency]],tblXrate[],2,FALSE)","v":50000},"Managing Partner","CXO or Top Mgmt.","India",{"$f":"VLOOKUP(tblSalaries[[#This Row],[Where do you work]],tblCountries[[Actual]:[Mapping]],2,FALSE)","v":"India"},{"$f":"VLOOKUP(tblSalaries[[#This Row],[clean Country]]&\"*\",Cont_Table,2,0)","v":"Asia"},"1 or 2 hours a day",26]
[null,"ID1071","2012-05-28T14:53:44",{"$f":"LEFT(tblSalaries[[#This Row],[Timestamp]],FIND(\".\",tblSalaries[[#This Row],[Timestamp]],1))","v":"41057."},"1600000Rs",1600000,"INR",{"$f":"tblSalaries[[#This Row],[clean Salary (in local currency)]]*VLOOKUP(tblSalaries[[#This Row],[Currency]],tblXrate[],2,FALSE)","v":28492.66669990811},"Manager Fin","Manager","India",{"$f":"VLOOKUP(tblSalaries[[#This Row],[Where do you work]],tblCountries[[Actual]:[Mapping]],2,FALSE)","v":"India"},{"$f":"VLOOKUP(tblSalaries[[#This Row],[clean Country]]&\"*\",Cont_Table,2,0)","v":"Asia"},"All the 8 hours baby, all the 8!",9]
[null,"ID1072","2012-05-28T14:56:27",{"$f":"LEFT(tblSalaries[[#This Row],[Timestamp]],FIND(\".\",tblSalaries[[#This Row],[Timestamp]],1))","v":"41057."},15600,15600,"GBP",{"$f":"tblSalaries[[#This Row],[clean Salary (in local currency)]]*VLOOKUP(tblSalaries[[#This Row],[Currency]],tblXrate[],2,FALSE)","v":24588.381044249632},"business data analyst","Analyst","UK",{"$f":"VLOOKUP(tblSalaries[[#This Row],[Where do you work]],tblCountries[[Actual]:[Mapping]],2,FALSE)","v":"UK"},{"$f":"VLOOKUP(tblSalaries[[#This Row],[clean Country]]&\"*\",Cont_Table,2,0)","v":"Europe"},"All the 8 hours baby, all the 8!",0]
[null,"ID1074","2012-05-28T15:12:38",{"$f":"LEFT(tblSalaries[[#This Row],[Timestamp]],FIND(\".\",tblSalaries[[#This Row],[Timestamp]],1))","v":"41057."},7000,7000,"USD",{"$f":"tblSalaries[[#This Row],[clean Salary (in local currency)]]*VLOOKUP(tblSalaries[[#This Row],[Currency]],tblXrate[],2,FALSE)","v":7000},"MIS Executive","Reporting","India",{"$f":"VLOOKUP(tblSalaries[[#This Row],[Where do you work]],tblCountries[[Actual]:[Mapping]],2,FALSE)","v":"India"},{"$f":"VLOOKUP(tblSalaries[[#This Row],[clean Country]]&\"*\",Cont_Table,2,0)","v":"Asia"},"All the 8 hours baby, all the 8!",5]
[null,"ID1075","2012-05-28T15:16:20",{"$f":"LEFT(tblSalaries[[#This Row],[Timestamp]],FIND(\".\",tblSalaries[[#This Row],[Timestamp]],1))","v":"41057."},"Rs. 438000",438000,"INR",{"$f":"tblSalaries[[#This Row],[clean Salary (in local currency)]]*VLOOKUP(tblSalaries[[#This Row],[Currency]],tblXrate[],2,FALSE)","v":7799.8675090998449},"Assistant Professor","Analyst","India",{"$f":"VLOOKUP(tblSalaries[[#This Row],[Where do you work]],tblCountries[[Actual]:[Mapping]],2,FALSE)","v":"India"},{"$f":"VLOOKUP(tblSalaries[[#This Row],[clean Country]]&\"*\",Cont_Table,2,0)","v":"Asia"},"1 or 2 hours a day",10]
[null,"ID1076","2012-05-28T15:21:51",{"$f":"LEFT(tblSalaries[[#This Row],[Timestamp]],FIND(\".\",tblSalaries[[#This Row],[Timestamp]],1))","v":"41057."},"Â£50",50000,"GBP",{"$f":"tblSalaries[[#This Row],[clean Salary (in local currency)]]*VLOOKUP(tblSalaries[[#This Row],[Currency]],tblXrate[],2,FALSE)","v":78808.913603364199},"Production manager","Manager","UK",{"$f":"VLOOKUP(tblSalaries[[#This Row],[Where do you work]],tblCountries[[Actual]:[Mapping]],2,FALSE)","v":"UK"},{"$f":"VLOOKUP(tblSalaries[[#This Row],[clean Country]]&\"*\",Cont_Table,2,0)","v":"Europe"},"2 to 3 hours per day",12]
[null,"ID1077","2012-05-28T15:27:59",{"$f":"LEFT(tblSalaries[[#This Row],[Timestamp]],FIND(\".\",tblSalaries[[#This Row],[Timestamp]],1))","v":"41057."},560,6720,"USD",{"$f":"tblSalaries[[#This Row],[clean Salary (in local currency)]]*VLOOKUP(tblSalaries[[#This Row],[Currency]],tblXrate[],2,FALSE)","v":6720},"MIS Executive","Reporting","India",{"$f":"VLOOKUP(tblSalaries[[#This Row],[Where do you work]],tblCountries[[Actual]:[Mapping]],2,FALSE)","v":"India"},{"$f":"VLOOKUP(tblSalaries[[#This Row],[clean Country]]&\"*\",Cont_Table,2,0)","v":"Asia"},"4 to 6 hours a day",6]
[null,"ID1078","2012-05-28T15:29:24",{"$f":"LEFT(tblSalaries[[#This Row],[Timestamp]],FIND(\".\",tblSalaries[[#This Row],[Timestamp]],1))","v":"41057."},"INR 2.5 Lakh",250000,"INR",{"$f":"tblSalaries[[#This Row],[clean Salary (in local currency)]]*VLOOKUP(tblSalaries[[#This Row],[Currency]],tblXrate[],2,FALSE)","v":4451.9791718606421},"SR. MIS ","Reporting","India",{"$f":"VLOOKUP(tblSalaries[[#This Row],[Where do you work]],tblCountries[[Actual]:[Mapping]],2,FALSE)","v":"India"},{"$f":"VLOOKUP(tblSalaries[[#This Row],[clean Country]]&\"*\",Cont_Table,2,0)","v":"Asia"},"All the 8 hours baby, all the 8!",3.5]
[null,"ID1079","2012-05-28T15:29:53",{"$f":"LEFT(tblSalaries[[#This Row],[Timestamp]],FIND(\".\",tblSalaries[[#This Row],[Timestamp]],1))","v":"41057."},"Â£30000",30000,"GBP",{"$f":"tblSalaries[[#This Row],[clean Salary (in local currency)]]*VLOOKUP(tblSalaries[[#This Row],[Currency]],tblXrate[],2,FALSE)","v":47285.348162018527},"Data Analyst","Analyst","UK",{"$f":"VLOOKUP(tblSalaries[[#This Row],[Where do you work]],tblCountries[[Actual]:[Mapping]],2,FALSE)","v":"UK"},{"$f":"VLOOKUP(tblSalaries[[#This Row],[clean Country]]&\"*\",Cont_Table,2,0)","v":"Europe"},"All the 8 hours baby, all the 8!",15]
[null,"ID1080","2012-05-28T15:33:23",{"$f":"LEFT(tblSalaries[[#This Row],[Timestamp]],FIND(\".\",tblSalaries[[#This Row],[Timestamp]],1))","v":"41057."},600,7200,"USD",{"$f":"tblSalaries[[#This Row],[clean Salary (in local currency)]]*VLOOKUP(tblSalaries[[#This Row],[Currency]],tblXrate[],2,FALSE)","v":7200},"Data Entry Operator","Analyst","India",{"$f":"VLOOKUP(tblSalaries[[#This Row],[Where do you work]],tblCountries[[Actual]:[Mapping]],2,FALSE)","v":"India"},{"$f":"VLOOKUP(tblSalaries[[#This Row],[clean Country]]&\"*\",Cont_Table,2,0)","v":"Asia"},"All the 8 hours baby, all the 8!",10]
[null,"ID1081","2012-05-28T15:33:37",{"$f":"LEFT(tblSalaries[[#This Row],[Timestamp]],FIND(\".\",tblSalaries[[#This Row],[Timestamp]],1))","v":"41057."},"INR 2500000",2500000,"INR",{"$f":"tblSalaries[[#This Row],[clean Salary (in local currency)]]*VLOOKUP(tblSalaries[[#This Row],[Currency]],tblXrate[],2,FALSE)","v":44519.791718606422},"Vice President","CXO or Top Mgmt.","India",{"$f":"VLOOKUP(tblSalaries[[#This Row],[Where do you work]],tblCountries[[Actual]:[Mapping]],2,FALSE)","v":"India"},{"$f":"VLOOKUP(tblSalaries[[#This Row],[clean Country]]&\"*\",Cont_Table,2,0)","v":"Asia"},"4 to 6 hours a day",9]
[null,"ID1082","2012-05-28T15:34:12",{"$f":"LEFT(tblSalaries[[#This Row],[Timestamp]],FIND(\".\",tblSalaries[[#This Row],[Timestamp]],1))","v":"41057."},140000,140000,"INR",{"$f":"tblSalaries[[#This Row],[clean Salary (in local currency)]]*VLOOKUP(tblSalaries[[#This Row],[Currency]],tblXrate[],2,FALSE)","v":2493.1083362419595},"Accountant","Accountant","India",{"$f":"VLOOKUP(tblSalaries[[#This Row],[Where do you work]],tblCountries[[Actual]:[Mapping]],2,FALSE)","v":"India"},{"$f":"VLOOKUP(tblSalaries[[#This Row],[clean Country]]&\"*\",Cont_Table,2,0)","v":"Asia"},"4 to 6 hours a day",4]
[null,"ID1083","2012-05-28T15:35:32",{"$f":"LEFT(tblSalaries[[#This Row],[Timestamp]],FIND(\".\",tblSalaries[[#This Row],[Timestamp]],1))","v":"41057."},20000,20000,"GBP",{"$f":"tblSalaries[[#This Row],[clean Salary (in local currency)]]*VLOOKUP(tblSalaries[[#This Row],[Currency]],tblXrate[],2,FALSE)","v":31523.565441345683},"finance assistant","Analyst","UK",{"$f":"VLOOKUP(tblSalaries[[#This Row],[Where do you work]],tblCountries[[Actual]:[Mapping]],2,FALSE)","v":"UK"},{"$f":"VLOOKUP(tblSalaries[[#This Row],[clean Country]]&\"*\",Cont_Table,2,0)","v":"Europe"},"4 to 6 hours a day",1]
[null,"ID1084","2012-05-28T15:37:23",{"$f":"LEFT(tblSalaries[[#This Row],[Timestamp]],FIND(\".\",tblSalaries[[#This Row],[Timestamp]],1))","v":"41057."},1200000,1200000,"INR",{"$f":"tblSalaries[[#This Row],[clean Salary (in local currency)]]*VLOOKUP(tblSalaries[[#This Row],[Currency]],tblXrate[],2,FALSE)","v":21369.500024931083},"finance controller","Controller","India",{"$f":"VLOOKUP(tblSalaries[[#This Row],[Where do you work]],tblCountries[[Actual]:[Mapping]],2,FALSE)","v":"India"},{"$f":"VLOOKUP(tblSalaries[[#This Row],[clean Country]]&\"*\",Cont_Table,2,0)","v":"Asia"},"4 to 6 hours a day",8]
[null,"ID1085","2012-05-28T15:42:04",{"$f":"LEFT(tblSalaries[[#This Row],[Timestamp]],FIND(\".\",tblSalaries[[#This Row],[Timestamp]],1))","v":"41057."},80000,80000,"GBP",{"$f":"tblSalaries[[#This Row],[clean Salary (in local currency)]]*VLOOKUP(tblSalaries[[#This Row],[Currency]],tblXrate[],2,FALSE)","v":126094.26176538273},"Manufacturing consultant","Consultant","UK",{"$f":"VLOOKUP(tblSalaries[[#This Row],[Where do you work]],tblCountries[[Actual]:[Mapping]],2,FALSE)","v":"UK"},{"$f":"VLOOKUP(tblSalaries[[#This Row],[clean Country]]&\"*\",Cont_Table,2,0)","v":"Europe"},"4 to 6 hours a day",10]
[null,"ID1086","2012-05-28T15:44:12",{"$f":"LEFT(tblSalaries[[#This Row],[Timestamp]],FIND(\".\",tblSalaries[[#This Row],[Timestamp]],1))","v":"41057."},"Â£63000",63000,"GBP",{"$f":"tblSalaries[[#This Row],[clean Salary (in local currency)]]*VLOOKUP(tblSalaries[[#This Row],[Currency]],tblXrate[],2,FALSE)","v":99299.231140238902},"Business Improvement Specialist","Specialist","UK",{"$f":"VLOOKUP(tblSalaries[[#This Row],[Where do you work]],tblCountries[[Actual]:[Mapping]],2,FALSE)","v":"UK"},{"$f":"VLOOKUP(tblSalaries[[#This Row],[clean Country]]&\"*\",Cont_Table,2,0)","v":"Europe"},"2 to 3 hours per day",1]
[null,"ID1087","2012-05-28T15:47:46",{"$f":"LEFT(tblSalaries[[#This Row],[Timestamp]],FIND(\".\",tblSalaries[[#This Row],[Timestamp]],1))","v":"41057."},"Â£55000",55000,"GBP",{"$f":"tblSalaries[[#This Row],[clean Salary (in local currency)]]*VLOOKUP(tblSalaries[[#This Row],[Currency]],tblXrate[],2,FALSE)","v":86689.804963700633},"Finance Director","CXO or Top Mgmt.","UK",{"$f":"VLOOKUP(tblSalaries[[#This Row],[Where do you work]],tblCountries[[Actual]:[Mapping]],2,FALSE)","v":"UK"},{"$f":"VLOOKUP(tblSalaries[[#This Row],[clean Country]]&\"*\",Cont_Table,2,0)","v":"Europe"},"2 to 3 hours per day",22]
[null,"ID1088","2012-05-28T15:48:23",{"$f":"LEFT(tblSalaries[[#This Row],[Timestamp]],FIND(\".\",tblSalaries[[#This Row],[Timestamp]],1))","v":"41057."},"50000 US $ per year",50000,"USD",{"$f":"tblSalaries[[#This Row],[clean Salary (in local currency)]]*VLOOKUP(tblSalaries[[#This Row],[Currency]],tblXrate[],2,FALSE)","v":50000},"Sr. Manager MIS","Manager","India",{"$f":"VLOOKUP(tblSalaries[[#This Row],[Where do you work]],tblCountries[[Actual]:[Mapping]],2,FALSE)","v":"India"},{"$f":"VLOOKUP(tblSalaries[[#This Row],[clean Country]]&\"*\",Cont_Table,2,0)","v":"Asia"},"2 to 3 hours per day",30]
[null,"ID1089","2012-05-28T15:49:22",{"$f":"LEFT(tblSalaries[[#This Row],[Timestamp]],FIND(\".\",tblSalaries[[#This Row],[Timestamp]],1))","v":"41057."},240000,240000,"INR",{"$f":"tblSalaries[[#This Row],[clean Salary (in local currency)]]*VLOOKUP(tblSalaries[[#This Row],[Currency]],tblXrate[],2,FALSE)","v":4273.9000049862161},"Executive","Analyst","India",{"$f":"VLOOKUP(tblSalaries[[#This Row],[Where do you work]],tblCountries[[Actual]:[Mapping]],2,FALSE)","v":"India"},{"$f":"VLOOKUP(tblSalaries[[#This Row],[clean Country]]&\"*\",Cont_Table,2,0)","v":"Asia"},"2 to 3 hours per day",3]
[null,"ID1090","2012-05-28T15:49:54",{"$f":"LEFT(tblSalaries[[#This Row],[Timestamp]],FIND(\".\",tblSalaries[[#This Row],[Timestamp]],1))","v":"41057."},"Rs. 250000",250000,"INR",{"$f":"tblSalaries[[#This Row],[clean Salary (in local currency)]]*VLOOKUP(tblSalaries[[#This Row],[Currency]],tblXrate[],2,FALSE)","v":4451.9791718606421},"MIS Executive","Reporting","India",{"$f":"VLOOKUP(tblSalaries[[#This Row],[Where do you work]],tblCountries[[Actual]:[Mapping]],2,FALSE)","v":"India"},{"$f":"VLOOKUP(tblSalaries[[#This Row],[clean Country]]&\"*\",Cont_Table,2,0)","v":"Asia"},"2 to 3 hours per day",3]
[null,"ID1091","2012-05-28T15:51:32",{"$f":"LEFT(tblSalaries[[#This Row],[Timestamp]],FIND(\".\",tblSalaries[[#This Row],[Timestamp]],1))","v":"41057."},"50000 INR",600000,"INR",{"$f":"tblSalaries[[#This Row],[clean Salary (in local currency)]]*VLOOKUP(tblSalaries[[#This Row],[Currency]],tblXrate[],2,FALSE)","v":10684.750012465542},"Sr.Supervisor","Analyst","India",{"$f":"VLOOKUP(tblSalaries[[#This Row],[Where do you work]],tblCountries[[Actual]:[Mapping]],2,FALSE)","v":"India"},{"$f":"VLOOKUP(tblSalaries[[#This Row],[clean Country]]&\"*\",Cont_Table,2,0)","v":"Asia"},"4 to 6 hours a day",10]
[null,"ID1092","2012-05-28T15:59:46",{"$f":"LEFT(tblSalaries[[#This Row],[Timestamp]],FIND(\".\",tblSalaries[[#This Row],[Timestamp]],1))","v":"41057."},40500,40500,"GBP",{"$f":"tblSalaries[[#This Row],[clean Salary (in local currency)]]*VLOOKUP(tblSalaries[[#This Row],[Currency]],tblXrate[],2,FALSE)","v":63835.220018725006},"Policy, Performance and Research Officer","Manager","UK",{"$f":"VLOOKUP(tblSalaries[[#This Row],[Where do you work]],tblCountries[[Actual]:[Mapping]],2,FALSE)","v":"UK"},{"$f":"VLOOKUP(tblSalaries[[#This Row],[clean Country]]&\"*\",Cont_Table,2,0)","v":"Europe"},"2 to 3 hours per day",25]
[null,"ID1093","2012-05-28T16:01:05",{"$f":"LEFT(tblSalaries[[#This Row],[Timestamp]],FIND(\".\",tblSalaries[[#This Row],[Timestamp]],1))","v":"41057."},"Â£23000",23000,"GBP",{"$f":"tblSalaries[[#This Row],[clean Salary (in local currency)]]*VLOOKUP(tblSalaries[[#This Row],[Currency]],tblXrate[],2,FALSE)","v":36252.100257547536},"Data Analyst","Analyst","UK",{"$f":"VLOOKUP(tblSalaries[[#This Row],[Where do you work]],tblCountries[[Actual]:[Mapping]],2,FALSE)","v":"UK"},{"$f":"VLOOKUP(tblSalaries[[#This Row],[clean Country]]&\"*\",Cont_Table,2,0)","v":"Europe"},"All the 8 hours baby, all the 8!",5]
[null,"ID1094","2012-05-28T16:03:18",{"$f":"LEFT(tblSalaries[[#This Row],[Timestamp]],FIND(\".\",tblSalaries[[#This Row],[Timestamp]],1))","v":"41057."},7960,7960,"USD",{"$f":"tblSalaries[[#This Row],[clean Salary (in local currency)]]*VLOOKUP(tblSalaries[[#This Row],[Currency]],tblXrate[],2,FALSE)","v":7960},"Team Leader","Manager","India",{"$f":"VLOOKUP(tblSalaries[[#This Row],[Where do you work]],tblCountries[[Actual]:[Mapping]],2,FALSE)","v":"India"},{"$f":"VLOOKUP(tblSalaries[[#This Row],[clean Country]]&\"*\",Cont_Table,2,0)","v":"Asia"},"4 to 6 hours a day",7]
[null,"ID1095","2012-05-28T16:03:45",{"$f":"LEFT(tblSalaries[[#This Row],[Timestamp]],FIND(\".\",tblSalaries[[#This Row],[Timestamp]],1))","v":"41057."},"Rs500000",500000,"INR",{"$f":"tblSalaries[[#This Row],[clean Salary (in local currency)]]*VLOOKUP(tblSalaries[[#This Row],[Currency]],tblXrate[],2,FALSE)","v":8903.9583437212841},"Executive","Analyst","India",{"$f":"VLOOKUP(tblSalaries[[#This Row],[Where do you work]],tblCountries[[Actual]:[Mapping]],2,FALSE)","v":"India"},{"$f":"VLOOKUP(tblSalaries[[#This Row],[clean Country]]&\"*\",Cont_Table,2,0)","v":"Asia"},"2 to 3 hours per day",23]
[null,"ID1096","2012-05-28T16:05:43",{"$f":"LEFT(tblSalaries[[#This Row],[Timestamp]],FIND(\".\",tblSalaries[[#This Row],[Timestamp]],1))","v":"41057."},"40000 euro",40000,"EUR",{"$f":"tblSalaries[[#This Row],[clean Salary (in local currency)]]*VLOOKUP(tblSalaries[[#This Row],[Currency]],tblXrate[],2,FALSE)","v":50815.977559664309},"Accounting analyst","Analyst","Netherlands",{"$f":"VLOOKUP(tblSalaries[[#This Row],[Where do you work]],tblCountries[[Actual]:[Mapping]],2,FALSE)","v":"Netherlands"},{"$f":"VLOOKUP(tblSalaries[[#This Row],[clean Country]]&\"*\",Cont_Table,2,0)","v":"Europe"},"4 to 6 hours a day",3]
[null,"ID1097","2012-05-28T16:07:51",{"$f":"LEFT(tblSalaries[[#This Row],[Timestamp]],FIND(\".\",tblSalaries[[#This Row],[Timestamp]],1))","v":"41057."},"Â£30000",30000,"GBP",{"$f":"tblSalaries[[#This Row],[clean Salary (in local currency)]]*VLOOKUP(tblSalaries[[#This Row],[Currency]],tblXrate[],2,FALSE)","v":47285.348162018527},"Information Analyst","Analyst","UK",{"$f":"VLOOKUP(tblSalaries[[#This Row],[Where do you work]],tblCountries[[Actual]:[Mapping]],2,FALSE)","v":"UK"},{"$f":"VLOOKUP(tblSalaries[[#This Row],[clean Country]]&\"*\",Cont_Table,2,0)","v":"Europe"},"4 to 6 hours a day",4]
[null,"ID1098","2012-05-28T16:07:51",{"$f":"LEFT(tblSalaries[[#This Row],[Timestamp]],FIND(\".\",tblSalaries[[#This Row],[Timestamp]],1))","v":"41057."},48000,48000,"GBP",{"$f":"tblSalaries[[#This Row],[clean Salary (in local currency)]]*VLOOKUP(tblSalaries[[#This Row],[Currency]],tblXrate[],2,FALSE)","v":75656.557059229643},"Business Operations Co-ordinator","Manager","UK",{"$f":"VLOOKUP(tblSalaries[[#This Row],[Where do you work]],tblCountries[[Actual]:[Mapping]],2,FALSE)","v":"UK"},{"$f":"VLOOKUP(tblSalaries[[#This Row],[clean Country]]&\"*\",Cont_Table,2,0)","v":"Europe"},"2 to 3 hours per day",10]
[null,"ID1099","2012-05-28T16:10:52",{"$f":"LEFT(tblSalaries[[#This Row],[Timestamp]],FIND(\".\",tblSalaries[[#This Row],[Timestamp]],1))","v":"41057."},"Rs. 20000",240000,"INR",{"$f":"tblSalaries[[#This Row],[clean Salary (in local currency)]]*VLOOKUP(tblSalaries[[#This Row],[Currency]],tblXrate[],2,FALSE)","v":4273.9000049862161},"Accountant","Accountant","India",{"$f":"VLOOKUP(tblSalaries[[#This Row],[Where do you work]],tblCountries[[Actual]:[Mapping]],2,FALSE)","v":"India"},{"$f":"VLOOKUP(tblSalaries[[#This Row],[clean Country]]&\"*\",Cont_Table,2,0)","v":"Asia"},"All the 8 hours baby, all the 8!",20]
[null,"ID1100","2012-05-28T16:19:21",{"$f":"LEFT(tblSalaries[[#This Row],[Timestamp]],FIND(\".\",tblSalaries[[#This Row],[Timestamp]],1))","v":"41057."},37000,37000,"EUR",{"$f":"tblSalaries[[#This Row],[clean Salary (in local currency)]]*VLOOKUP(tblSalaries[[#This Row],[Currency]],tblXrate[],2,FALSE)","v":47004.779242689488},"Project Control Analyst","Analyst","Spain",{"$f":"VLOOKUP(tblSalaries[[#This Row],[Where do you work]],tblCountries[[Actual]:[Mapping]],2,FALSE)","v":"Spain"},{"$f":"VLOOKUP(tblSalaries[[#This Row],[clean Country]]&\"*\",Cont_Table,2,0)","v":"Europe"},"4 to 6 hours a day",11]
[null,"ID1101","2012-05-28T16:19:41",{"$f":"LEFT(tblSalaries[[#This Row],[Timestamp]],FIND(\".\",tblSalaries[[#This Row],[Timestamp]],1))","v":"41057."},"Â£30000",30000,"GBP",{"$f":"tblSalaries[[#This Row],[clean Salary (in local currency)]]*VLOOKUP(tblSalaries[[#This Row],[Currency]],tblXrate[],2,FALSE)","v":47285.348162018527},"MDM Executive (Business Analyst)","Analyst","UK",{"$f":"VLOOKUP(tblSalaries[[#This Row],[Where do you work]],tblCountries[[Actual]:[Mapping]],2,FALSE)","v":"UK"},{"$f":"VLOOKUP(tblSalaries[[#This Row],[clean Country]]&\"*\",Cont_Table,2,0)","v":"Europe"},"All the 8 hours baby, all the 8!",10]
[null,"ID1102","2012-05-28T16:20:52",{"$f":"LEFT(tblSalaries[[#This Row],[Timestamp]],FIND(\".\",tblSalaries[[#This Row],[Timestamp]],1))","v":"41057."},58000,58000,"GBP",{"$f":"tblSalaries[[#This Row],[clean Salary (in local currency)]]*VLOOKUP(tblSalaries[[#This Row],[Currency]],tblXrate[],2,FALSE)","v":91418.339779902482},"Data analyst","Analyst","UK",{"$f":"VLOOKUP(tblSalaries[[#This Row],[Where do you work]],tblCountries[[Actual]:[Mapping]],2,FALSE)","v":"UK"},{"$f":"VLOOKUP(tblSalaries[[#This Row],[clean Country]]&\"*\",Cont_Table,2,0)","v":"Europe"},"All the 8 hours baby, all the 8!",8]
[null,"ID1103","2012-05-28T16:21:27",{"$f":"LEFT(tblSalaries[[#This Row],[Timestamp]],FIND(\".\",tblSalaries[[#This Row],[Timestamp]],1))","v":"41057."},79000,79000,"GBP",{"$f":"tblSalaries[[#This Row],[clean Salary (in local currency)]]*VLOOKUP(tblSalaries[[#This Row],[Currency]],tblXrate[],2,FALSE)","v":124518.08349331544},"Market Analyst","Analyst","UK",{"$f":"VLOOKUP(tblSalaries[[#This Row],[Where do you work]],tblCountries[[Actual]:[Mapping]],2,FALSE)","v":"UK"},{"$f":"VLOOKUP(tblSalaries[[#This Row],[clean Country]]&\"*\",Cont_Table,2,0)","v":"Europe"},"2 to 3 hours per day",14]
[null,"ID1104","2012-05-28T16:26:14",{"$f":"LEFT(tblSalaries[[#This Row],[Timestamp]],FIND(\".\",tblSalaries[[#This Row],[Timestamp]],1))","v":"41057."},43912.03,43912,"GBP",{"$f":"tblSalaries[[#This Row],[clean Salary (in local currency)]]*VLOOKUP(tblSalaries[[#This Row],[Currency]],tblXrate[],2,FALSE)","v":69213.140283018583},"Senior Data Analyst","Analyst","UK",{"$f":"VLOOKUP(tblSalaries[[#This Row],[Where do you work]],tblCountries[[Actual]:[Mapping]],2,FALSE)","v":"UK"},{"$f":"VLOOKUP(tblSalaries[[#This Row],[clean Country]]&\"*\",Cont_Table,2,0)","v":"Europe"},"All the 8 hours baby, all the 8!",3]
[null,"ID1105","2012-05-28T16:28:25",{"$f":"LEFT(tblSalaries[[#This Row],[Timestamp]],FIND(\".\",tblSalaries[[#This Row],[Timestamp]],1))","v":"41057."},3500,3500,"USD",{"$f":"tblSalaries[[#This Row],[clean Salary (in local currency)]]*VLOOKUP(tblSalaries[[#This Row],[Currency]],tblXrate[],2,FALSE)","v":3500},"OFFICER","Manager","PAKISTAN",{"$f":"VLOOKUP(tblSalaries[[#This Row],[Where do you work]],tblCountries[[Actual]:[Mapping]],2,FALSE)","v":"Pakistan"},{"$f":"VLOOKUP(tblSalaries[[#This Row],[clean Country]]&\"*\",Cont_Table,2,0)","v":"Asia"},"4 to 6 hours a day",4]
[null,"ID1107","2012-05-28T16:34:48",{"$f":"LEFT(tblSalaries[[#This Row],[Timestamp]],FIND(\".\",tblSalaries[[#This Row],[Timestamp]],1))","v":"41057."},"Â£40000",40000,"GBP",{"$f":"tblSalaries[[#This Row],[clean Salary (in local currency)]]*VLOOKUP(tblSalaries[[#This Row],[Currency]],tblXrate[],2,FALSE)","v":63047.130882691366},"Buyer","Manager","UK",{"$f":"VLOOKUP(tblSalaries[[#This Row],[Where do you work]],tblCountries[[Actual]:[Mapping]],2,FALSE)","v":"UK"},{"$f":"VLOOKUP(tblSalaries[[#This Row],[clean Country]]&\"*\",Cont_Table,2,0)","v":"Europe"},"1 or 2 hours a day",20]
[null,"ID1108","2012-05-28T16:35:19",{"$f":"LEFT(tblSalaries[[#This Row],[Timestamp]],FIND(\".\",tblSalaries[[#This Row],[Timestamp]],1))","v":"41057."},57000,57000,"EUR",{"$f":"tblSalaries[[#This Row],[clean Salary (in local currency)]]*VLOOKUP(tblSalaries[[#This Row],[Currency]],tblXrate[],2,FALSE)","v":72412.768022521646},"Spare Part Coordinator","Manager","Norway",{"$f":"VLOOKUP(tblSalaries[[#This Row],[Where do you work]],tblCountries[[Actual]:[Mapping]],2,FALSE)","v":"Norway"},{"$f":"VLOOKUP(tblSalaries[[#This Row],[clean Country]]&\"*\",Cont_Table,2,0)","v":"Europe"},"1 or 2 hours a day",15]
[null,"ID1109","2012-05-28T16:41:27",{"$f":"LEFT(tblSalaries[[#This Row],[Timestamp]],FIND(\".\",tblSalaries[[#This Row],[Timestamp]],1))","v":"41057."},40000,40000,"EUR",{"$f":"tblSalaries[[#This Row],[clean Salary (in local currency)]]*VLOOKUP(tblSalaries[[#This Row],[Currency]],tblXrate[],2,FALSE)","v":50815.977559664309},"Actuary","Accountant","Portugal",{"$f":"VLOOKUP(tblSalaries[[#This Row],[Where do you work]],tblCountries[[Actual]:[Mapping]],2,FALSE)","v":"Portugal"},{"$f":"VLOOKUP(tblSalaries[[#This Row],[clean Country]]&\"*\",Cont_Table,2,0)","v":"Europe"},"2 to 3 hours per day",10]
[null,"ID1110","2012-05-28T16:45:28",{"$f":"LEFT(tblSalaries[[#This Row],[Timestamp]],FIND(\".\",tblSalaries[[#This Row],[Timestamp]],1))","v":"41057."},100000,1200000,"INR",{"$f":"tblSalaries[[#This Row],[clean Salary (in local currency)]]*VLOOKUP(tblSalaries[[#This Row],[Currency]],tblXrate[],2,FALSE)","v":21369.500024931083},"coordinator","Manager","India",{"$f":"VLOOKUP(tblSalaries[[#This Row],[Where do you work]],tblCountries[[Actual]:[Mapping]],2,FALSE)","v":"India"},{"$f":"VLOOKUP(tblSalaries[[#This Row],[clean Country]]&\"*\",Cont_Table,2,0)","v":"Asia"},"2 to 3 hours per day",5]
[null,"ID1111","2012-05-28T16:45:32",{"$f":"LEFT(tblSalaries[[#This Row],[Timestamp]],FIND(\".\",tblSalaries[[#This Row],[Timestamp]],1))","v":"41057."},"Â£35000",35000,"GBP",{"$f":"tblSalaries[[#This Row],[clean Salary (in local currency)]]*VLOOKUP(tblSalaries[[#This Row],[Currency]],tblXrate[],2,FALSE)","v":55166.239522354947},"Systems Analyst","Analyst","UK",{"$f":"VLOOKUP(tblSalaries[[#This Row],[Where do you work]],tblCountries[[Actual]:[Mapping]],2,FALSE)","v":"UK"},{"$f":"VLOOKUP(tblSalaries[[#This Row],[clean Country]]&\"*\",Cont_Table,2,0)","v":"Europe"},"2 to 3 hours per day",6]
[null,"ID1112","2012-05-28T16:53:13",{"$f":"LEFT(tblSalaries[[#This Row],[Timestamp]],FIND(\".\",tblSalaries[[#This Row],[Timestamp]],1))","v":"41057."},"Rs. 15000",180000,"INR",{"$f":"tblSalaries[[#This Row],[clean Salary (in local currency)]]*VLOOKUP(tblSalaries[[#This Row],[Currency]],tblXrate[],2,FALSE)","v":3205.4250037396623},"Logistics Operation Analyst","Analyst","India",{"$f":"VLOOKUP(tblSalaries[[#This Row],[Where do you work]],tblCountries[[Actual]:[Mapping]],2,FALSE)","v":"India"},{"$f":"VLOOKUP(tblSalaries[[#This Row],[clean Country]]&\"*\",Cont_Table,2,0)","v":"Asia"},"All the 8 hours baby, all the 8!",3]
[null,"ID1113","2012-05-28T16:58:03",{"$f":"LEFT(tblSalaries[[#This Row],[Timestamp]],FIND(\".\",tblSalaries[[#This Row],[Timestamp]],1))","v":"41057."},"Rs. 600000",600000,"INR",{"$f":"tblSalaries[[#This Row],[clean Salary (in local currency)]]*VLOOKUP(tblSalaries[[#This Row],[Currency]],tblXrate[],2,FALSE)","v":10684.750012465542},"Company Secretary","Accountant","India",{"$f":"VLOOKUP(tblSalaries[[#This Row],[Where do you work]],tblCountries[[Actual]:[Mapping]],2,FALSE)","v":"India"},{"$f":"VLOOKUP(tblSalaries[[#This Row],[clean Country]]&\"*\",Cont_Table,2,0)","v":"Asia"},"2 to 3 hours per day",8]
[null,"ID1114","2012-05-28T16:59:48",{"$f":"LEFT(tblSalaries[[#This Row],[Timestamp]],FIND(\".\",tblSalaries[[#This Row],[Timestamp]],1))","v":"41057."},"INR 300000",300000,"INR",{"$f":"tblSalaries[[#This Row],[clean Salary (in local currency)]]*VLOOKUP(tblSalaries[[#This Row],[Currency]],tblXrate[],2,FALSE)","v":5342.3750062327708},"Analyst","Analyst","India",{"$f":"VLOOKUP(tblSalaries[[#This Row],[Where do you work]],tblCountries[[Actual]:[Mapping]],2,FALSE)","v":"India"},{"$f":"VLOOKUP(tblSalaries[[#This Row],[clean Country]]&\"*\",Cont_Table,2,0)","v":"Asia"},"4 to 6 hours a day",5]
[null,"ID1115","2012-05-28T17:02:43",{"$f":"LEFT(tblSalaries[[#This Row],[Timestamp]],FIND(\".\",tblSalaries[[#This Row],[Timestamp]],1))","v":"41057."},75000,75000,"GBP",{"$f":"tblSalaries[[#This Row],[clean Salary (in local currency)]]*VLOOKUP(tblSalaries[[#This Row],[Currency]],tblXrate[],2,FALSE)","v":118213.37040504631},"Management Consultant","Manager","UK",{"$f":"VLOOKUP(tblSalaries[[#This Row],[Where do you work]],tblCountries[[Actual]:[Mapping]],2,FALSE)","v":"UK"},{"$f":"VLOOKUP(tblSalaries[[#This Row],[clean Country]]&\"*\",Cont_Table,2,0)","v":"Europe"},"2 to 3 hours per day",10]
[null,"ID1116","2012-05-28T17:04:04",{"$f":"LEFT(tblSalaries[[#This Row],[Timestamp]],FIND(\".\",tblSalaries[[#This Row],[Timestamp]],1))","v":"41057."},"R100,000",100000,"ZAR",{"$f":"tblSalaries[[#This Row],[clean Salary (in local currency)]]*VLOOKUP(tblSalaries[[#This Row],[Currency]],tblXrate[],2,FALSE)","v":12192.177986291113},"Q.A.Officer","Manager","South Africa",{"$f":"VLOOKUP(tblSalaries[[#This Row],[Where do you work]],tblCountries[[Actual]:[Mapping]],2,FALSE)","v":"South Africa"},{"$f":"VLOOKUP(tblSalaries[[#This Row],[clean Country]]&\"*\",Cont_Table,2,0)","v":"Africa"},"All the 8 hours baby, all the 8!",15]
[null,"ID1117","2012-05-28T17:05:07",{"$f":"LEFT(tblSalaries[[#This Row],[Timestamp]],FIND(\".\",tblSalaries[[#This Row],[Timestamp]],1))","v":"41057."},"Â£45000",45000,"GBP",{"$f":"tblSalaries[[#This Row],[clean Salary (in local currency)]]*VLOOKUP(tblSalaries[[#This Row],[Currency]],tblXrate[],2,FALSE)","v":70928.022243027779},"Assistant Director - Performance Information","CXO or Top Mgmt.","UK",{"$f":"VLOOKUP(tblSalaries[[#This Row],[Where do you work]],tblCountries[[Actual]:[Mapping]],2,FALSE)","v":"UK"},{"$f":"VLOOKUP(tblSalaries[[#This Row],[clean Country]]&\"*\",Cont_Table,2,0)","v":"Europe"},"4 to 6 hours a day",8]
[null,"ID1118","2012-05-28T17:09:40",{"$f":"LEFT(tblSalaries[[#This Row],[Timestamp]],FIND(\".\",tblSalaries[[#This Row],[Timestamp]],1))","v":"41057."},"Â£25000",25000,"GBP",{"$f":"tblSalaries[[#This Row],[clean Salary (in local currency)]]*VLOOKUP(tblSalaries[[#This Row],[Currency]],tblXrate[],2,FALSE)","v":39404.456801682099},"Developer","Analyst","UK",{"$f":"VLOOKUP(tblSalaries[[#This Row],[Where do you work]],tblCountries[[Actual]:[Mapping]],2,FALSE)","v":"UK"},{"$f":"VLOOKUP(tblSalaries[[#This Row],[clean Country]]&\"*\",Cont_Table,2,0)","v":"Europe"},"4 to 6 hours a day",3]
[null,"ID1119","2012-05-28T17:12:47",{"$f":"LEFT(tblSalaries[[#This Row],[Timestamp]],FIND(\".\",tblSalaries[[#This Row],[Timestamp]],1))","v":"41057."},18987,18987,"USD",{"$f":"tblSalaries[[#This Row],[clean Salary (in local currency)]]*VLOOKUP(tblSalaries[[#This Row],[Currency]],tblXrate[],2,FALSE)","v":18987},"Business Analyst","Analyst","Nigeria",{"$f":"VLOOKUP(tblSalaries[[#This Row],[Where do you work]],tblCountries[[Actual]:[Mapping]],2,FALSE)","v":"Nigeria"},{"$f":"VLOOKUP(tblSalaries[[#This Row],[clean Country]]&\"*\",Cont_Table,2,0)","v":"Africa"},"All the 8 hours baby, all the 8!",7]
[null,"ID1120","2012-05-28T17:15:29",{"$f":"LEFT(tblSalaries[[#This Row],[Timestamp]],FIND(\".\",tblSalaries[[#This Row],[Timestamp]],1))","v":"41057."},"Â£28500",28500,"GBP",{"$f":"tblSalaries[[#This Row],[clean Salary (in local currency)]]*VLOOKUP(tblSalaries[[#This Row],[Currency]],tblXrate[],2,FALSE)","v":44921.080753917595},"Development (Project & Planning) Manager","Manager","UK",{"$f":"VLOOKUP(tblSalaries[[#This Row],[Where do you work]],tblCountries[[Actual]:[Mapping]],2,FALSE)","v":"UK"},{"$f":"VLOOKUP(tblSalaries[[#This Row],[clean Country]]&\"*\",Cont_Table,2,0)","v":"Europe"},"1 or 2 hours a day",15]
[null,"ID1121","2012-05-28T17:17:39",{"$f":"LEFT(tblSalaries[[#This Row],[Timestamp]],FIND(\".\",tblSalaries[[#This Row],[Timestamp]],1))","v":"41057."},60000,60000,"USD",{"$f":"tblSalaries[[#This Row],[clean Salary (in local currency)]]*VLOOKUP(tblSalaries[[#This Row],[Currency]],tblXrate[],2,FALSE)","v":60000},"manager","Manager","India",{"$f":"VLOOKUP(tblSalaries[[#This Row],[Where do you work]],tblCountries[[Actual]:[Mapping]],2,FALSE)","v":"India"},{"$f":"VLOOKUP(tblSalaries[[#This Row],[clean Country]]&\"*\",Cont_Table,2,0)","v":"Asia"},"All the 8 hours baby, all the 8!",14]
[null,"ID1122","2012-05-28T17:18:47",{"$f":"LEFT(tblSalaries[[#This Row],[Timestamp]],FIND(\".\",tblSalaries[[#This Row],[Timestamp]],1))","v":"41057."},"GBP Â£45200",45200,"GBP",{"$f":"tblSalaries[[#This Row],[clean Salary (in local currency)]]*VLOOKUP(tblSalaries[[#This Row],[Currency]],tblXrate[],2,FALSE)","v":71243.257897441246},"Clinical audit manager","Manager","UK",{"$f":"VLOOKUP(tblSalaries[[#This Row],[Where do you work]],tblCountries[[Actual]:[Mapping]],2,FALSE)","v":"UK"},{"$f":"VLOOKUP(tblSalaries[[#This Row],[clean Country]]&\"*\",Cont_Table,2,0)","v":"Europe"},"2 to 3 hours per day",5]
[null,"ID1123","2012-05-28T17:22:19",{"$f":"LEFT(tblSalaries[[#This Row],[Timestamp]],FIND(\".\",tblSalaries[[#This Row],[Timestamp]],1))","v":"41057."},"252000 INR",252000,"INR",{"$f":"tblSalaries[[#This Row],[clean Salary (in local currency)]]*VLOOKUP(tblSalaries[[#This Row],[Currency]],tblXrate[],2,FALSE)","v":4487.5950052355274},"Inventory Manager","Manager","India",{"$f":"VLOOKUP(tblSalaries[[#This Row],[Where do you work]],tblCountries[[Actual]:[Mapping]],2,FALSE)","v":"India"},{"$f":"VLOOKUP(tblSalaries[[#This Row],[clean Country]]&\"*\",Cont_Table,2,0)","v":"Asia"},"1 or 2 hours a day",16]
[null,"ID1124","2012-05-28T17:34:16",{"$f":"LEFT(tblSalaries[[#This Row],[Timestamp]],FIND(\".\",tblSalaries[[#This Row],[Timestamp]],1))","v":"41057."},242304,242304,"INR",{"$f":"tblSalaries[[#This Row],[clean Salary (in local currency)]]*VLOOKUP(tblSalaries[[#This Row],[Currency]],tblXrate[],2,FALSE)","v":4314.929445034084},"accountant","Accountant","India",{"$f":"VLOOKUP(tblSalaries[[#This Row],[Where do you work]],tblCountries[[Actual]:[Mapping]],2,FALSE)","v":"India"},{"$f":"VLOOKUP(tblSalaries[[#This Row],[clean Country]]&\"*\",Cont_Table,2,0)","v":"Asia"},"4 to 6 hours a day",7]
[null,"ID1125","2012-05-28T17:38:46",{"$f":"LEFT(tblSalaries[[#This Row],[Timestamp]],FIND(\".\",tblSalaries[[#This Row],[Timestamp]],1))","v":"41057."},210000,210000,"INR",{"$f":"tblSalaries[[#This Row],[clean Salary (in local currency)]]*VLOOKUP(tblSalaries[[#This Row],[Currency]],tblXrate[],2,FALSE)","v":3739.6625043629392},"information Analyst","Analyst","India",{"$f":"VLOOKUP(tblSalaries[[#This Row],[Where do you work]],tblCountries[[Actual]:[Mapping]],2,FALSE)","v":"India"},{"$f":"VLOOKUP(tblSalaries[[#This Row],[clean Country]]&\"*\",Cont_Table,2,0)","v":"Asia"},"All the 8 hours baby, all the 8!",1]
[null,"ID1126","2012-05-28T17:42:11",{"$f":"LEFT(tblSalaries[[#This Row],[Timestamp]],FIND(\".\",tblSalaries[[#This Row],[Timestamp]],1))","v":"41057."},5000,60000,"EUR",{"$f":"tblSalaries[[#This Row],[clean Salary (in local currency)]]*VLOOKUP(tblSalaries[[#This Row],[Currency]],tblXrate[],2,FALSE)","v":76223.966339496474},"Development Manager","Manager","Finland",{"$f":"VLOOKUP(tblSalaries[[#This Row],[Where do you work]],tblCountries[[Actual]:[Mapping]],2,FALSE)","v":"Finland"},{"$f":"VLOOKUP(tblSalaries[[#This Row],[clean Country]]&\"*\",Cont_Table,2,0)","v":"Europe"},"1 or 2 hours a day",4]
[null,"ID1127","2012-05-28T17:42:22",{"$f":"LEFT(tblSalaries[[#This Row],[Timestamp]],FIND(\".\",tblSalaries[[#This Row],[Timestamp]],1))","v":"41057."},"AED 120000",120000,"AED",{"$f":"tblSalaries[[#This Row],[clean Salary (in local currency)]]*VLOOKUP(tblSalaries[[#This Row],[Currency]],tblXrate[],2,FALSE)","v":32666.305522511171},"Finance Manager","Manager","UAE",{"$f":"VLOOKUP(tblSalaries[[#This Row],[Where do you work]],tblCountries[[Actual]:[Mapping]],2,FALSE)","v":"UAE"},{"$f":"VLOOKUP(tblSalaries[[#This Row],[clean Country]]&\"*\",Cont_Table,2,0)","v":"Asia"},"2 to 3 hours per day",12]
[null,"ID1128","2012-05-28T17:42:51",{"$f":"LEFT(tblSalaries[[#This Row],[Timestamp]],FIND(\".\",tblSalaries[[#This Row],[Timestamp]],1))","v":"41057."},19000,19000,"USD",{"$f":"tblSalaries[[#This Row],[clean Salary (in local currency)]]*VLOOKUP(tblSalaries[[#This Row],[Currency]],tblXrate[],2,FALSE)","v":19000},"MI Specialist","Reporting","UK",{"$f":"VLOOKUP(tblSalaries[[#This Row],[Where do you work]],tblCountries[[Actual]:[Mapping]],2,FALSE)","v":"UK"},{"$f":"VLOOKUP(tblSalaries[[#This Row],[clean Country]]&\"*\",Cont_Table,2,0)","v":"Europe"},"All the 8 hours baby, all the 8!",8]
[null,"ID1129","2012-05-28T17:42:57",{"$f":"LEFT(tblSalaries[[#This Row],[Timestamp]],FIND(\".\",tblSalaries[[#This Row],[Timestamp]],1))","v":"41057."},50000,50000,"EUR",{"$f":"tblSalaries[[#This Row],[clean Salary (in local currency)]]*VLOOKUP(tblSalaries[[#This Row],[Currency]],tblXrate[],2,FALSE)","v":63519.971949580387},"Network Enginer","Engineer","Portugal",{"$f":"VLOOKUP(tblSalaries[[#This Row],[Where do you work]],tblCountries[[Actual]:[Mapping]],2,FALSE)","v":"Portugal"},{"$f":"VLOOKUP(tblSalaries[[#This Row],[clean Country]]&\"*\",Cont_Table,2,0)","v":"Europe"},"2 to 3 hours per day",14]
[null,"ID1130","2012-05-28T17:53:43",{"$f":"LEFT(tblSalaries[[#This Row],[Timestamp]],FIND(\".\",tblSalaries[[#This Row],[Timestamp]],1))","v":"41057."},"Rs. 900000",900000,"INR",{"$f":"tblSalaries[[#This Row],[clean Salary (in local currency)]]*VLOOKUP(tblSalaries[[#This Row],[Currency]],tblXrate[],2,FALSE)","v":16027.125018698311},"officer","Manager","India",{"$f":"VLOOKUP(tblSalaries[[#This Row],[Where do you work]],tblCountries[[Actual]:[Mapping]],2,FALSE)","v":"India"},{"$f":"VLOOKUP(tblSalaries[[#This Row],[clean Country]]&\"*\",Cont_Table,2,0)","v":"Asia"},"4 to 6 hours a day",22]
[null,"ID1131","2012-05-28T18:02:44",{"$f":"LEFT(tblSalaries[[#This Row],[Timestamp]],FIND(\".\",tblSalaries[[#This Row],[Timestamp]],1))","v":"41057."},"4,00,000",400000,"INR",{"$f":"tblSalaries[[#This Row],[clean Salary (in local currency)]]*VLOOKUP(tblSalaries[[#This Row],[Currency]],tblXrate[],2,FALSE)","v":7123.1666749770275},"Sr. Team Lead - MIS","Reporting","India",{"$f":"VLOOKUP(tblSalaries[[#This Row],[Where do you work]],tblCountries[[Actual]:[Mapping]],2,FALSE)","v":"India"},{"$f":"VLOOKUP(tblSalaries[[#This Row],[clean Country]]&\"*\",Cont_Table,2,0)","v":"Asia"},"4 to 6 hours a day",9]
[null,"ID1132","2012-05-28T18:05:13",{"$f":"LEFT(tblSalaries[[#This Row],[Timestamp]],FIND(\".\",tblSalaries[[#This Row],[Timestamp]],1))","v":"41057."},150252,150252,"INR",{"$f":"tblSalaries[[#This Row],[clean Salary (in local currency)]]*VLOOKUP(tblSalaries[[#This Row],[Currency]],tblXrate[],2,FALSE)","v":2675.675098121621},"KEY","Manager","India",{"$f":"VLOOKUP(tblSalaries[[#This Row],[Where do you work]],tblCountries[[Actual]:[Mapping]],2,FALSE)","v":"India"},{"$f":"VLOOKUP(tblSalaries[[#This Row],[clean Country]]&\"*\",Cont_Table,2,0)","v":"Asia"},"2 to 3 hours per day",5]
[null,"ID1133","2012-05-28T18:05:16",{"$f":"LEFT(tblSalaries[[#This Row],[Timestamp]],FIND(\".\",tblSalaries[[#This Row],[Timestamp]],1))","v":"41057."},"Â£15000",15000,"GBP",{"$f":"tblSalaries[[#This Row],[clean Salary (in local currency)]]*VLOOKUP(tblSalaries[[#This Row],[Currency]],tblXrate[],2,FALSE)","v":23642.674081009263},"MI Specialist","Reporting","UK",{"$f":"VLOOKUP(tblSalaries[[#This Row],[Where do you work]],tblCountries[[Actual]:[Mapping]],2,FALSE)","v":"UK"},{"$f":"VLOOKUP(tblSalaries[[#This Row],[clean Country]]&\"*\",Cont_Table,2,0)","v":"Europe"},"All the 8 hours baby, all the 8!",2]
[null,"ID1134","2012-05-28T18:11:36",{"$f":"LEFT(tblSalaries[[#This Row],[Timestamp]],FIND(\".\",tblSalaries[[#This Row],[Timestamp]],1))","v":"41057."},"â‚¬ 45000",45000,"EUR",{"$f":"tblSalaries[[#This Row],[clean Salary (in local currency)]]*VLOOKUP(tblSalaries[[#This Row],[Currency]],tblXrate[],2,FALSE)","v":57167.974754622352},"Sales Planning","Manager","Spain",{"$f":"VLOOKUP(tblSalaries[[#This Row],[Where do you work]],tblCountries[[Actual]:[Mapping]],2,FALSE)","v":"Spain"},{"$f":"VLOOKUP(tblSalaries[[#This Row],[clean Country]]&\"*\",Cont_Table,2,0)","v":"Europe"},"4 to 6 hours a day",14]
[null,"ID1135","2012-05-28T18:30:51",{"$f":"LEFT(tblSalaries[[#This Row],[Timestamp]],FIND(\".\",tblSalaries[[#This Row],[Timestamp]],1))","v":"41057."},"Rs 2400000",2400000,"INR",{"$f":"tblSalaries[[#This Row],[clean Salary (in local currency)]]*VLOOKUP(tblSalaries[[#This Row],[Currency]],tblXrate[],2,FALSE)","v":42739.000049862167},"GM Finance","Manager","India",{"$f":"VLOOKUP(tblSalaries[[#This Row],[Where do you work]],tblCountries[[Actual]:[Mapping]],2,FALSE)","v":"India"},{"$f":"VLOOKUP(tblSalaries[[#This Row],[clean Country]]&\"*\",Cont_Table,2,0)","v":"Asia"},"All the 8 hours baby, all the 8!",10]
[null,"ID1136","2012-05-28T18:34:12",{"$f":"LEFT(tblSalaries[[#This Row],[Timestamp]],FIND(\".\",tblSalaries[[#This Row],[Timestamp]],1))","v":"41057."},"PhP 216,000",216000,"PHP",{"$f":"tblSalaries[[#This Row],[clean Salary (in local currency)]]*VLOOKUP(tblSalaries[[#This Row],[Currency]],tblXrate[],2,FALSE)","v":5120.2912876821438},"Planner","Manager","Philippines",{"$f":"VLOOKUP(tblSalaries[[#This Row],[Where do you work]],tblCountries[[Actual]:[Mapping]],2,FALSE)","v":"Philippines"},{"$f":"VLOOKUP(tblSalaries[[#This Row],[clean Country]]&\"*\",Cont_Table,2,0)","v":"Asia"},"4 to 6 hours a day",2]
[null,"ID1137","2012-05-28T18:38:06",{"$f":"LEFT(tblSalaries[[#This Row],[Timestamp]],FIND(\".\",tblSalaries[[#This Row],[Timestamp]],1))","v":"41057."},100000,100000,"EUR",{"$f":"tblSalaries[[#This Row],[clean Salary (in local currency)]]*VLOOKUP(tblSalaries[[#This Row],[Currency]],tblXrate[],2,FALSE)","v":127039.94389916077},"Finance Director","CXO or Top Mgmt.","Spain",{"$f":"VLOOKUP(tblSalaries[[#This Row],[Where do you work]],tblCountries[[Actual]:[Mapping]],2,FALSE)","v":"Spain"},{"$f":"VLOOKUP(tblSalaries[[#This Row],[clean Country]]&\"*\",Cont_Table,2,0)","v":"Europe"},"1 or 2 hours a day",20]
[null,"ID1138","2012-05-28T18:39:19",{"$f":"LEFT(tblSalaries[[#This Row],[Timestamp]],FIND(\".\",tblSalaries[[#This Row],[Timestamp]],1))","v":"41057."},90000,90000,"USD",{"$f":"tblSalaries[[#This Row],[clean Salary (in local currency)]]*VLOOKUP(tblSalaries[[#This Row],[Currency]],tblXrate[],2,FALSE)","v":90000},"Performance manager","Manager","USA",{"$f":"VLOOKUP(tblSalaries[[#This Row],[Where do you work]],tblCountries[[Actual]:[Mapping]],2,FALSE)","v":"USA"},{"$f":"VLOOKUP(tblSalaries[[#This Row],[clean Country]]&\"*\",Cont_Table,2,0)","v":"North America"},"4 to 6 hours a day",5]
[null,"ID1139","2012-05-28T18:40:08",{"$f":"LEFT(tblSalaries[[#This Row],[Timestamp]],FIND(\".\",tblSalaries[[#This Row],[Timestamp]],1))","v":"41057."},400000,400000,"INR",{"$f":"tblSalaries[[#This Row],[clean Salary (in local currency)]]*VLOOKUP(tblSalaries[[#This Row],[Currency]],tblXrate[],2,FALSE)","v":7123.1666749770275},"software engineer","Engineer","India",{"$f":"VLOOKUP(tblSalaries[[#This Row],[Where do you work]],tblCountries[[Actual]:[Mapping]],2,FALSE)","v":"India"},{"$f":"VLOOKUP(tblSalaries[[#This Row],[clean Country]]&\"*\",Cont_Table,2,0)","v":"Asia"},"1 or 2 hours a day",2]
[null,"ID1140","2012-05-28T18:45:00",{"$f":"LEFT(tblSalaries[[#This Row],[Timestamp]],FIND(\".\",tblSalaries[[#This Row],[Timestamp]],1))","v":"41057."},10000,10000,"USD",{"$f":"tblSalaries[[#This Row],[clean Salary (in local currency)]]*VLOOKUP(tblSalaries[[#This Row],[Currency]],tblXrate[],2,FALSE)","v":10000},"Business analyst","Analyst","India",{"$f":"VLOOKUP(tblSalaries[[#This Row],[Where do you work]],tblCountries[[Actual]:[Mapping]],2,FALSE)","v":"India"},{"$f":"VLOOKUP(tblSalaries[[#This Row],[clean Country]]&\"*\",Cont_Table,2,0)","v":"Asia"},"2 to 3 hours per day",5]
[null,"ID1141","2012-05-28T18:50:35",{"$f":"LEFT(tblSalaries[[#This Row],[Timestamp]],FIND(\".\",tblSalaries[[#This Row],[Timestamp]],1))","v":"41057."},29000,29000,"GBP",{"$f":"tblSalaries[[#This Row],[clean Salary (in local currency)]]*VLOOKUP(tblSalaries[[#This Row],[Currency]],tblXrate[],2,FALSE)","v":45709.169889951241},"Financial Analyst","Analyst","UK",{"$f":"VLOOKUP(tblSalaries[[#This Row],[Where do you work]],tblCountries[[Actual]:[Mapping]],2,FALSE)","v":"UK"},{"$f":"VLOOKUP(tblSalaries[[#This Row],[clean Country]]&\"*\",Cont_Table,2,0)","v":"Europe"},"4 to 6 hours a day",14]
[null,"ID1142","2012-05-28T19:05:22",{"$f":"LEFT(tblSalaries[[#This Row],[Timestamp]],FIND(\".\",tblSalaries[[#This Row],[Timestamp]],1))","v":"41057."},"200000 rupees",200000,"INR",{"$f":"tblSalaries[[#This Row],[clean Salary (in local currency)]]*VLOOKUP(tblSalaries[[#This Row],[Currency]],tblXrate[],2,FALSE)","v":3561.5833374885137},"MIS Sr. Executive","Reporting","India",{"$f":"VLOOKUP(tblSalaries[[#This Row],[Where do you work]],tblCountries[[Actual]:[Mapping]],2,FALSE)","v":"India"},{"$f":"VLOOKUP(tblSalaries[[#This Row],[clean Country]]&\"*\",Cont_Table,2,0)","v":"Asia"},"All the 8 hours baby, all the 8!",5]
[null,"ID1143","2012-05-28T19:09:37",{"$f":"LEFT(tblSalaries[[#This Row],[Timestamp]],FIND(\".\",tblSalaries[[#This Row],[Timestamp]],1))","v":"41057."},30000,30000,"EUR",{"$f":"tblSalaries[[#This Row],[clean Salary (in local currency)]]*VLOOKUP(tblSalaries[[#This Row],[Currency]],tblXrate[],2,FALSE)","v":38111.983169748237},"Translator","Analyst","Belgium",{"$f":"VLOOKUP(tblSalaries[[#This Row],[Where do you work]],tblCountries[[Actual]:[Mapping]],2,FALSE)","v":"Belgium"},{"$f":"VLOOKUP(tblSalaries[[#This Row],[clean Country]]&\"*\",Cont_Table,2,0)","v":"Europe"},"1 or 2 hours a day",15]
[null,"ID1144","2012-05-28T19:19:51",{"$f":"LEFT(tblSalaries[[#This Row],[Timestamp]],FIND(\".\",tblSalaries[[#This Row],[Timestamp]],1))","v":"41057."},5000,60000,"USD",{"$f":"tblSalaries[[#This Row],[clean Salary (in local currency)]]*VLOOKUP(tblSalaries[[#This Row],[Currency]],tblXrate[],2,FALSE)","v":60000},"Business Anaylyst","Analyst","USA",{"$f":"VLOOKUP(tblSalaries[[#This Row],[Where do you work]],tblCountries[[Actual]:[Mapping]],2,FALSE)","v":"USA"},{"$f":"VLOOKUP(tblSalaries[[#This Row],[clean Country]]&\"*\",Cont_Table,2,0)","v":"North America"},"2 to 3 hours per day",4]
[null,"ID1145","2012-05-28T19:23:29",{"$f":"LEFT(tblSalaries[[#This Row],[Timestamp]],FIND(\".\",tblSalaries[[#This Row],[Timestamp]],1))","v":"41057."},40000,40000,"USD",{"$f":"tblSalaries[[#This Row],[clean Salary (in local currency)]]*VLOOKUP(tblSalaries[[#This Row],[Currency]],tblXrate[],2,FALSE)","v":40000},"Engineer","Engineer","India",{"$f":"VLOOKUP(tblSalaries[[#This Row],[Where do you work]],tblCountries[[Actual]:[Mapping]],2,FALSE)","v":"India"},{"$f":"VLOOKUP(tblSalaries[[#This Row],[clean Country]]&\"*\",Cont_Table,2,0)","v":"Asia"},"2 to 3 hours per day",2]
[null,"ID1146","2012-05-28T19:25:04",{"$f":"LEFT(tblSalaries[[#This Row],[Timestamp]],FIND(\".\",tblSalaries[[#This Row],[Timestamp]],1))","v":"41057."},"INR 853000",853000,"INR",{"$f":"tblSalaries[[#This Row],[clean Salary (in local currency)]]*VLOOKUP(tblSalaries[[#This Row],[Currency]],tblXrate[],2,FALSE)","v":15190.15293438851},"Lead Research Analyst","Analyst","India",{"$f":"VLOOKUP(tblSalaries[[#This Row],[Where do you work]],tblCountries[[Actual]:[Mapping]],2,FALSE)","v":"India"},{"$f":"VLOOKUP(tblSalaries[[#This Row],[clean Country]]&\"*\",Cont_Table,2,0)","v":"Asia"},"2 to 3 hours per day",6]
[null,"ID1147","2012-05-28T19:25:35",{"$f":"LEFT(tblSalaries[[#This Row],[Timestamp]],FIND(\".\",tblSalaries[[#This Row],[Timestamp]],1))","v":"41057."},90000,90000,"EUR",{"$f":"tblSalaries[[#This Row],[clean Salary (in local currency)]]*VLOOKUP(tblSalaries[[#This Row],[Currency]],tblXrate[],2,FALSE)","v":114335.9495092447},"Management Information Manager","Manager","Continental Europe",{"$f":"VLOOKUP(tblSalaries[[#This Row],[Where do you work]],tblCountries[[Actual]:[Mapping]],2,FALSE)","v":"CEE"},{"$f":"VLOOKUP(tblSalaries[[#This Row],[clean Country]]&\"*\",Cont_Table,2,0)","v":"Europe"},"2 to 3 hours per day",20]
[null,"ID1148","2012-05-28T19:32:15",{"$f":"LEFT(tblSalaries[[#This Row],[Timestamp]],FIND(\".\",tblSalaries[[#This Row],[Timestamp]],1))","v":"41057."},"Â£23000",23000,"GBP",{"$f":"tblSalaries[[#This Row],[clean Salary (in local currency)]]*VLOOKUP(tblSalaries[[#This Row],[Currency]],tblXrate[],2,FALSE)","v":36252.100257547536},"Data Management Officer","Manager","UK",{"$f":"VLOOKUP(tblSalaries[[#This Row],[Where do you work]],tblCountries[[Actual]:[Mapping]],2,FALSE)","v":"UK"},{"$f":"VLOOKUP(tblSalaries[[#This Row],[clean Country]]&\"*\",Cont_Table,2,0)","v":"Europe"},"4 to 6 hours a day",10]
[null,"ID1149","2012-05-28T19:53:14",{"$f":"LEFT(tblSalaries[[#This Row],[Timestamp]],FIND(\".\",tblSalaries[[#This Row],[Timestamp]],1))","v":"41057."},"Â£30000",30000,"GBP",{"$f":"tblSalaries[[#This Row],[clean Salary (in local currency)]]*VLOOKUP(tblSalaries[[#This Row],[Currency]],tblXrate[],2,FALSE)","v":47285.348162018527},"Reporting Accountant","Accountant","UK",{"$f":"VLOOKUP(tblSalaries[[#This Row],[Where do you work]],tblCountries[[Actual]:[Mapping]],2,FALSE)","v":"UK"},{"$f":"VLOOKUP(tblSalaries[[#This Row],[clean Country]]&\"*\",Cont_Table,2,0)","v":"Europe"},"2 to 3 hours per day",5]
[null,"ID1150","2012-05-28T20:05:20",{"$f":"LEFT(tblSalaries[[#This Row],[Timestamp]],FIND(\".\",tblSalaries[[#This Row],[Timestamp]],1))","v":"41057."},"â‚¬70k",70000,"EUR",{"$f":"tblSalaries[[#This Row],[clean Salary (in local currency)]]*VLOOKUP(tblSalaries[[#This Row],[Currency]],tblXrate[],2,FALSE)","v":88927.960729412545},"Construction Planner","Consultant","Ireland",{"$f":"VLOOKUP(tblSalaries[[#This Row],[Where do you work]],tblCountries[[Actual]:[Mapping]],2,FALSE)","v":"Ireland"},{"$f":"VLOOKUP(tblSalaries[[#This Row],[clean Country]]&\"*\",Cont_Table,2,0)","v":"Europe"},"2 to 3 hours per day",20]
[null,"ID1151","2012-05-28T20:19:57",{"$f":"LEFT(tblSalaries[[#This Row],[Timestamp]],FIND(\".\",tblSalaries[[#This Row],[Timestamp]],1))","v":"41057."},6000,6000,"USD",{"$f":"tblSalaries[[#This Row],[clean Salary (in local currency)]]*VLOOKUP(tblSalaries[[#This Row],[Currency]],tblXrate[],2,FALSE)","v":6000},"Assistant Accountant","Accountant","Zambia",{"$f":"VLOOKUP(tblSalaries[[#This Row],[Where do you work]],tblCountries[[Actual]:[Mapping]],2,FALSE)","v":"Zambia"},{"$f":"VLOOKUP(tblSalaries[[#This Row],[clean Country]]&\"*\",Cont_Table,2,0)","v":"Africa"},"All the 8 hours baby, all the 8!",5]
[null,"ID1152","2012-05-28T20:20:54",{"$f":"LEFT(tblSalaries[[#This Row],[Timestamp]],FIND(\".\",tblSalaries[[#This Row],[Timestamp]],1))","v":"41057."},35000,35000,"USD",{"$f":"tblSalaries[[#This Row],[clean Salary (in local currency)]]*VLOOKUP(tblSalaries[[#This Row],[Currency]],tblXrate[],2,FALSE)","v":35000},"BI Analyst","Analyst","USA",{"$f":"VLOOKUP(tblSalaries[[#This Row],[Where do you work]],tblCountries[[Actual]:[Mapping]],2,FALSE)","v":"USA"},{"$f":"VLOOKUP(tblSalaries[[#This Row],[clean Country]]&\"*\",Cont_Table,2,0)","v":"North America"},"All the 8 hours baby, all the 8!",20]
[null,"ID1153","2012-05-28T20:35:30",{"$f":"LEFT(tblSalaries[[#This Row],[Timestamp]],FIND(\".\",tblSalaries[[#This Row],[Timestamp]],1))","v":"41057."},"Â£35000",35000,"GBP",{"$f":"tblSalaries[[#This Row],[clean Salary (in local currency)]]*VLOOKUP(tblSalaries[[#This Row],[Currency]],tblXrate[],2,FALSE)","v":55166.239522354947},"MI Analyst","Analyst","UK",{"$f":"VLOOKUP(tblSalaries[[#This Row],[Where do you work]],tblCountries[[Actual]:[Mapping]],2,FALSE)","v":"UK"},{"$f":"VLOOKUP(tblSalaries[[#This Row],[clean Country]]&\"*\",Cont_Table,2,0)","v":"Europe"},"4 to 6 hours a day",10]
[null,"ID1154","2012-05-28T20:43:31",{"$f":"LEFT(tblSalaries[[#This Row],[Timestamp]],FIND(\".\",tblSalaries[[#This Row],[Timestamp]],1))","v":"41057."},168000,168000,"PKR",{"$f":"tblSalaries[[#This Row],[clean Salary (in local currency)]]*VLOOKUP(tblSalaries[[#This Row],[Currency]],tblXrate[],2,FALSE)","v":1783.166904422254},"Accounts Assistant","Accountant","Pakistan",{"$f":"VLOOKUP(tblSalaries[[#This Row],[Where do you work]],tblCountries[[Actual]:[Mapping]],2,FALSE)","v":"Pakistan"},{"$f":"VLOOKUP(tblSalaries[[#This Row],[clean Country]]&\"*\",Cont_Table,2,0)","v":"Asia"},"4 to 6 hours a day",10]
[null,"ID1155","2012-05-28T20:45:35",{"$f":"LEFT(tblSalaries[[#This Row],[Timestamp]],FIND(\".\",tblSalaries[[#This Row],[Timestamp]],1))","v":"41057."},13.5,13500,"USD",{"$f":"tblSalaries[[#This Row],[clean Salary (in local currency)]]*VLOOKUP(tblSalaries[[#This Row],[Currency]],tblXrate[],2,FALSE)","v":13500},"Project manager","Manager","Montenegro",{"$f":"VLOOKUP(tblSalaries[[#This Row],[Where do you work]],tblCountries[[Actual]:[Mapping]],2,FALSE)","v":"Montenegro"},{"$f":"VLOOKUP(tblSalaries[[#This Row],[clean Country]]&\"*\",Cont_Table,2,0)","v":"Europe"},"4 to 6 hours a day",13]
[null,"ID1156","2012-05-28T20:51:37",{"$f":"LEFT(tblSalaries[[#This Row],[Timestamp]],FIND(\".\",tblSalaries[[#This Row],[Timestamp]],1))","v":"41057."},"Â£37500",37500,"GBP",{"$f":"tblSalaries[[#This Row],[clean Salary (in local currency)]]*VLOOKUP(tblSalaries[[#This Row],[Currency]],tblXrate[],2,FALSE)","v":59106.685202523156},"Corporate Finance Executive","Accountant","UK",{"$f":"VLOOKUP(tblSalaries[[#This Row],[Where do you work]],tblCountries[[Actual]:[Mapping]],2,FALSE)","v":"UK"},{"$f":"VLOOKUP(tblSalaries[[#This Row],[clean Country]]&\"*\",Cont_Table,2,0)","v":"Europe"},"2 to 3 hours per day",5]
[null,"ID1157","2012-05-28T20:54:29",{"$f":"LEFT(tblSalaries[[#This Row],[Timestamp]],FIND(\".\",tblSalaries[[#This Row],[Timestamp]],1))","v":"41057."},"Rs. 59,000 (Per Month)",708000,"INR",{"$f":"tblSalaries[[#This Row],[clean Salary (in local currency)]]*VLOOKUP(tblSalaries[[#This Row],[Currency]],tblXrate[],2,FALSE)","v":12608.005014709339},"Manager-Operation","Manager","India",{"$f":"VLOOKUP(tblSalaries[[#This Row],[Where do you work]],tblCountries[[Actual]:[Mapping]],2,FALSE)","v":"India"},{"$f":"VLOOKUP(tblSalaries[[#This Row],[clean Country]]&\"*\",Cont_Table,2,0)","v":"Asia"},"4 to 6 hours a day",5]
[null,"ID1158","2012-05-28T21:14:25",{"$f":"LEFT(tblSalaries[[#This Row],[Timestamp]],FIND(\".\",tblSalaries[[#This Row],[Timestamp]],1))","v":"41057."},"R366252",366252,"ZAR",{"$f":"tblSalaries[[#This Row],[clean Salary (in local currency)]]*VLOOKUP(tblSalaries[[#This Row],[Currency]],tblXrate[],2,FALSE)","v":44654.095718350931},"Accountant","Accountant","South Africa",{"$f":"VLOOKUP(tblSalaries[[#This Row],[Where do you work]],tblCountries[[Actual]:[Mapping]],2,FALSE)","v":"South Africa"},{"$f":"VLOOKUP(tblSalaries[[#This Row],[clean Country]]&\"*\",Cont_Table,2,0)","v":"Africa"},"All the 8 hours baby, all the 8!",15]
[null,"ID1159","2012-05-28T21:17:04",{"$f":"LEFT(tblSalaries[[#This Row],[Timestamp]],FIND(\".\",tblSalaries[[#This Row],[Timestamp]],1))","v":"41057."},69000,69000,"USD",{"$f":"tblSalaries[[#This Row],[clean Salary (in local currency)]]*VLOOKUP(tblSalaries[[#This Row],[Currency]],tblXrate[],2,FALSE)","v":69000},"Financial Analysist","Analyst","USA",{"$f":"VLOOKUP(tblSalaries[[#This Row],[Where do you work]],tblCountries[[Actual]:[Mapping]],2,FALSE)","v":"USA"},{"$f":"VLOOKUP(tblSalaries[[#This Row],[clean Country]]&\"*\",Cont_Table,2,0)","v":"North America"},"2 to 3 hours per day",20]
[null,"ID1160","2012-05-28T21:55:25",{"$f":"LEFT(tblSalaries[[#This Row],[Timestamp]],FIND(\".\",tblSalaries[[#This Row],[Timestamp]],1))","v":"41057."},500,6000,"USD",{"$f":"tblSalaries[[#This Row],[clean Salary (in local currency)]]*VLOOKUP(tblSalaries[[#This Row],[Currency]],tblXrate[],2,FALSE)","v":6000},"AM Ops","Manager","India",{"$f":"VLOOKUP(tblSalaries[[#This Row],[Where do you work]],tblCountries[[Actual]:[Mapping]],2,FALSE)","v":"India"},{"$f":"VLOOKUP(tblSalaries[[#This Row],[clean Country]]&\"*\",Cont_Table,2,0)","v":"Asia"},"4 to 6 hours a day",6]
[null,"ID1161","2012-05-28T22:08:12",{"$f":"LEFT(tblSalaries[[#This Row],[Timestamp]],FIND(\".\",tblSalaries[[#This Row],[Timestamp]],1))","v":"41057."},"Rs.5,00,000",500000,"INR",{"$f":"tblSalaries[[#This Row],[clean Salary (in local currency)]]*VLOOKUP(tblSalaries[[#This Row],[Currency]],tblXrate[],2,FALSE)","v":8903.9583437212841},"Deputy Manager","Manager","India",{"$f":"VLOOKUP(tblSalaries[[#This Row],[Where do you work]],tblCountries[[Actual]:[Mapping]],2,FALSE)","v":"India"},{"$f":"VLOOKUP(tblSalaries[[#This Row],[clean Country]]&\"*\",Cont_Table,2,0)","v":"Asia"},"1 or 2 hours a day",25]
[null,"ID1162","2012-05-28T22:10:12",{"$f":"LEFT(tblSalaries[[#This Row],[Timestamp]],FIND(\".\",tblSalaries[[#This Row],[Timestamp]],1))","v":"41057."},30000,30000,"USD",{"$f":"tblSalaries[[#This Row],[clean Salary (in local currency)]]*VLOOKUP(tblSalaries[[#This Row],[Currency]],tblXrate[],2,FALSE)","v":30000},"pricing and cost manager","Manager","mexico",{"$f":"VLOOKUP(tblSalaries[[#This Row],[Where do you work]],tblCountries[[Actual]:[Mapping]],2,FALSE)","v":"Mexico"},{"$f":"VLOOKUP(tblSalaries[[#This Row],[clean Country]]&\"*\",Cont_Table,2,0)","v":"North America"},"All the 8 hours baby, all the 8!",17]
[null,"ID1163","2012-05-28T22:13:24",{"$f":"LEFT(tblSalaries[[#This Row],[Timestamp]],FIND(\".\",tblSalaries[[#This Row],[Timestamp]],1))","v":"41057."},8600,8600,"USD",{"$f":"tblSalaries[[#This Row],[clean Salary (in local currency)]]*VLOOKUP(tblSalaries[[#This Row],[Currency]],tblXrate[],2,FALSE)","v":8600},"Catlog associates","Analyst","India",{"$f":"VLOOKUP(tblSalaries[[#This Row],[Where do you work]],tblCountries[[Actual]:[Mapping]],2,FALSE)","v":"India"},{"$f":"VLOOKUP(tblSalaries[[#This Row],[clean Country]]&\"*\",Cont_Table,2,0)","v":"Asia"},"4 to 6 hours a day",2]
[null,"ID1164","2012-05-28T22:25:04",{"$f":"LEFT(tblSalaries[[#This Row],[Timestamp]],FIND(\".\",tblSalaries[[#This Row],[Timestamp]],1))","v":"41057."},"Â£51,000/$81,600",81600,"USD",{"$f":"tblSalaries[[#This Row],[clean Salary (in local currency)]]*VLOOKUP(tblSalaries[[#This Row],[Currency]],tblXrate[],2,FALSE)","v":81600},"Business Analyst - Central Finance","Analyst","UK",{"$f":"VLOOKUP(tblSalaries[[#This Row],[Where do you work]],tblCountries[[Actual]:[Mapping]],2,FALSE)","v":"UK"},{"$f":"VLOOKUP(tblSalaries[[#This Row],[clean Country]]&\"*\",Cont_Table,2,0)","v":"Europe"},"4 to 6 hours a day",4]
[null,"ID1165","2012-05-28T22:33:29",{"$f":"LEFT(tblSalaries[[#This Row],[Timestamp]],FIND(\".\",tblSalaries[[#This Row],[Timestamp]],1))","v":"41057."},600000,600000,"DOP",{"$f":"tblSalaries[[#This Row],[clean Salary (in local currency)]]*VLOOKUP(tblSalaries[[#This Row],[Currency]],tblXrate[],2,FALSE)","v":15404.364569961488},"Analista de Produccion","Analyst","Republica Dominicana",{"$f":"VLOOKUP(tblSalaries[[#This Row],[Where do you work]],tblCountries[[Actual]:[Mapping]],2,FALSE)","v":"Republica Dominicana"},{"$f":"VLOOKUP(tblSalaries[[#This Row],[clean Country]]&\"*\",Cont_Table,2,0)","v":"North America"},"All the 8 hours baby, all the 8!",3]
[null,"ID1166","2012-05-28T22:35:56",{"$f":"LEFT(tblSalaries[[#This Row],[Timestamp]],FIND(\".\",tblSalaries[[#This Row],[Timestamp]],1))","v":"41057."},"CAD$65000",65000,"CAD",{"$f":"tblSalaries[[#This Row],[clean Salary (in local currency)]]*VLOOKUP(tblSalaries[[#This Row],[Currency]],tblXrate[],2,FALSE)","v":63918.498996971248},"IT Analyst (Reporting)","Analyst","Canada",{"$f":"VLOOKUP(tblSalaries[[#This Row],[Where do you work]],tblCountries[[Actual]:[Mapping]],2,FALSE)","v":"Canada"},{"$f":"VLOOKUP(tblSalaries[[#This Row],[clean Country]]&\"*\",Cont_Table,2,0)","v":"North America"},"4 to 6 hours a day",20]
[null,"ID1167","2012-05-28T22:36:22",{"$f":"LEFT(tblSalaries[[#This Row],[Timestamp]],FIND(\".\",tblSalaries[[#This Row],[Timestamp]],1))","v":"41057."},75000,75000,"USD",{"$f":"tblSalaries[[#This Row],[clean Salary (in local currency)]]*VLOOKUP(tblSalaries[[#This Row],[Currency]],tblXrate[],2,FALSE)","v":75000},"Controller","Controller","USA",{"$f":"VLOOKUP(tblSalaries[[#This Row],[Where do you work]],tblCountries[[Actual]:[Mapping]],2,FALSE)","v":"USA"},{"$f":"VLOOKUP(tblSalaries[[#This Row],[clean Country]]&\"*\",Cont_Table,2,0)","v":"North America"},"2 to 3 hours per day",20]
[null,"ID1168","2012-05-28T22:36:47",{"$f":"LEFT(tblSalaries[[#This Row],[Timestamp]],FIND(\".\",tblSalaries[[#This Row],[Timestamp]],1))","v":"41057."},59000,59000,"USD",{"$f":"tblSalaries[[#This Row],[clean Salary (in local currency)]]*VLOOKUP(tblSalaries[[#This Row],[Currency]],tblXrate[],2,FALSE)","v":59000},"Management Analyst","Analyst","USA",{"$f":"VLOOKUP(tblSalaries[[#This Row],[Where do you work]],tblCountries[[Actual]:[Mapping]],2,FALSE)","v":"USA"},{"$f":"VLOOKUP(tblSalaries[[#This Row],[clean Country]]&\"*\",Cont_Table,2,0)","v":"North America"},"4 to 6 hours a day",14]
[null,"ID1169","2012-05-28T22:38:37",{"$f":"LEFT(tblSalaries[[#This Row],[Timestamp]],FIND(\".\",tblSalaries[[#This Row],[Timestamp]],1))","v":"41057."},"$50,000 U.S.",50000,"USD",{"$f":"tblSalaries[[#This Row],[clean Salary (in local currency)]]*VLOOKUP(tblSalaries[[#This Row],[Currency]],tblXrate[],2,FALSE)","v":50000},"Program Manager","Manager","Canada",{"$f":"VLOOKUP(tblSalaries[[#This Row],[Where do you work]],tblCountries[[Actual]:[Mapping]],2,FALSE)","v":"Canada"},{"$f":"VLOOKUP(tblSalaries[[#This Row],[clean Country]]&\"*\",Cont_Table,2,0)","v":"North America"},"1 or 2 hours a day",5]
[null,"ID1170","2012-05-28T22:39:09",{"$f":"LEFT(tblSalaries[[#This Row],[Timestamp]],FIND(\".\",tblSalaries[[#This Row],[Timestamp]],1))","v":"41057."},"Â£80000",80000,"GBP",{"$f":"tblSalaries[[#This Row],[clean Salary (in local currency)]]*VLOOKUP(tblSalaries[[#This Row],[Currency]],tblXrate[],2,FALSE)","v":126094.26176538273},"Financial Controller","Controller","UK",{"$f":"VLOOKUP(tblSalaries[[#This Row],[Where do you work]],tblCountries[[Actual]:[Mapping]],2,FALSE)","v":"UK"},{"$f":"VLOOKUP(tblSalaries[[#This Row],[clean Country]]&\"*\",Cont_Table,2,0)","v":"Europe"},"4 to 6 hours a day",15]
[null,"ID1171","2012-05-28T22:41:01",{"$f":"LEFT(tblSalaries[[#This Row],[Timestamp]],FIND(\".\",tblSalaries[[#This Row],[Timestamp]],1))","v":"41057."},"R$ 54000",54000,"BRL",{"$f":"tblSalaries[[#This Row],[clean Salary (in local currency)]]*VLOOKUP(tblSalaries[[#This Row],[Currency]],tblXrate[],2,FALSE)","v":26691.183012544854},"Logistics Coordinator","Manager","Brazil",{"$f":"VLOOKUP(tblSalaries[[#This Row],[Where do you work]],tblCountries[[Actual]:[Mapping]],2,FALSE)","v":"Brazil"},{"$f":"VLOOKUP(tblSalaries[[#This Row],[clean Country]]&\"*\",Cont_Table,2,0)","v":"South America"},"1 or 2 hours a day",7]
[null,"ID1172","2012-05-28T22:41:15",{"$f":"LEFT(tblSalaries[[#This Row],[Timestamp]],FIND(\".\",tblSalaries[[#This Row],[Timestamp]],1))","v":"41057."},500000,500000,"INR",{"$f":"tblSalaries[[#This Row],[clean Salary (in local currency)]]*VLOOKUP(tblSalaries[[#This Row],[Currency]],tblXrate[],2,FALSE)","v":8903.9583437212841},"Business Analyst","Analyst","India",{"$f":"VLOOKUP(tblSalaries[[#This Row],[Where do you work]],tblCountries[[Actual]:[Mapping]],2,FALSE)","v":"India"},{"$f":"VLOOKUP(tblSalaries[[#This Row],[clean Country]]&\"*\",Cont_Table,2,0)","v":"Asia"},"4 to 6 hours a day",0.8]
[null,"ID1173","2012-05-28T22:41:26",{"$f":"LEFT(tblSalaries[[#This Row],[Timestamp]],FIND(\".\",tblSalaries[[#This Row],[Timestamp]],1))","v":"41057."},"8725 $",8725,"USD",{"$f":"tblSalaries[[#This Row],[clean Salary (in local currency)]]*VLOOKUP(tblSalaries[[#This Row],[Currency]],tblXrate[],2,FALSE)","v":8725},"Administration Officer","Manager","Pakistan",{"$f":"VLOOKUP(tblSalaries[[#This Row],[Where do you work]],tblCountries[[Actual]:[Mapping]],2,FALSE)","v":"Pakistan"},{"$f":"VLOOKUP(tblSalaries[[#This Row],[clean Country]]&\"*\",Cont_Table,2,0)","v":"Asia"},"2 to 3 hours per day",18]
[null,"ID1175","2012-05-28T22:44:48",{"$f":"LEFT(tblSalaries[[#This Row],[Timestamp]],FIND(\".\",tblSalaries[[#This Row],[Timestamp]],1))","v":"41057."},"Â£32000",32000,"GBP",{"$f":"tblSalaries[[#This Row],[clean Salary (in local currency)]]*VLOOKUP(tblSalaries[[#This Row],[Currency]],tblXrate[],2,FALSE)","v":50437.70470615309},"Service Analyst","Analyst","UK",{"$f":"VLOOKUP(tblSalaries[[#This Row],[Where do you work]],tblCountries[[Actual]:[Mapping]],2,FALSE)","v":"UK"},{"$f":"VLOOKUP(tblSalaries[[#This Row],[clean Country]]&\"*\",Cont_Table,2,0)","v":"Europe"},"4 to 6 hours a day",4]
[null,"ID1176","2012-05-28T22:45:49",{"$f":"LEFT(tblSalaries[[#This Row],[Timestamp]],FIND(\".\",tblSalaries[[#This Row],[Timestamp]],1))","v":"41057."},"Â£43000",43000,"GBP",{"$f":"tblSalaries[[#This Row],[clean Salary (in local currency)]]*VLOOKUP(tblSalaries[[#This Row],[Currency]],tblXrate[],2,FALSE)","v":67775.665698893223},"Head of Finance","Accountant","UK",{"$f":"VLOOKUP(tblSalaries[[#This Row],[Where do you work]],tblCountries[[Actual]:[Mapping]],2,FALSE)","v":"UK"},{"$f":"VLOOKUP(tblSalaries[[#This Row],[clean Country]]&\"*\",Cont_Table,2,0)","v":"Europe"},"All the 8 hours baby, all the 8!",15]
[null,"ID1177","2012-05-28T22:46:37",{"$f":"LEFT(tblSalaries[[#This Row],[Timestamp]],FIND(\".\",tblSalaries[[#This Row],[Timestamp]],1))","v":"41057."},"CAD $53,000/-",53000,"CAD",{"$f":"tblSalaries[[#This Row],[clean Salary (in local currency)]]*VLOOKUP(tblSalaries[[#This Row],[Currency]],tblXrate[],2,FALSE)","v":52118.160720607324},"Data Analyst","Analyst","Canada",{"$f":"VLOOKUP(tblSalaries[[#This Row],[Where do you work]],tblCountries[[Actual]:[Mapping]],2,FALSE)","v":"Canada"},{"$f":"VLOOKUP(tblSalaries[[#This Row],[clean Country]]&\"*\",Cont_Table,2,0)","v":"North America"},"4 to 6 hours a day",6]
[null,"ID1178","2012-05-28T22:48:32",{"$f":"LEFT(tblSalaries[[#This Row],[Timestamp]],FIND(\".\",tblSalaries[[#This Row],[Timestamp]],1))","v":"41057."},"INR 20 Lakhs p.a.",200000,"INR",{"$f":"tblSalaries[[#This Row],[clean Salary (in local currency)]]*VLOOKUP(tblSalaries[[#This Row],[Currency]],tblXrate[],2,FALSE)","v":3561.5833374885137},"Associate","Analyst","India",{"$f":"VLOOKUP(tblSalaries[[#This Row],[Where do you work]],tblCountries[[Actual]:[Mapping]],2,FALSE)","v":"India"},{"$f":"VLOOKUP(tblSalaries[[#This Row],[clean Country]]&\"*\",Cont_Table,2,0)","v":"Asia"},"1 or 2 hours a day",6]
[null,"ID1179","2012-05-28T22:49:15",{"$f":"LEFT(tblSalaries[[#This Row],[Timestamp]],FIND(\".\",tblSalaries[[#This Row],[Timestamp]],1))","v":"41057."},"4.5 laks",450000,"INR",{"$f":"tblSalaries[[#This Row],[clean Salary (in local currency)]]*VLOOKUP(tblSalaries[[#This Row],[Currency]],tblXrate[],2,FALSE)","v":8013.5625093491553},"Production Manager","Manager","India",{"$f":"VLOOKUP(tblSalaries[[#This Row],[Where do you work]],tblCountries[[Actual]:[Mapping]],2,FALSE)","v":"India"},{"$f":"VLOOKUP(tblSalaries[[#This Row],[clean Country]]&\"*\",Cont_Table,2,0)","v":"Asia"},"4 to 6 hours a day",21]
[null,"ID1180","2012-05-28T22:50:51",{"$f":"LEFT(tblSalaries[[#This Row],[Timestamp]],FIND(\".\",tblSalaries[[#This Row],[Timestamp]],1))","v":"41057."},28000,28000,"USD",{"$f":"tblSalaries[[#This Row],[clean Salary (in local currency)]]*VLOOKUP(tblSalaries[[#This Row],[Currency]],tblXrate[],2,FALSE)","v":28000},"Business Intelligence Manager","Manager","Poland",{"$f":"VLOOKUP(tblSalaries[[#This Row],[Where do you work]],tblCountries[[Actual]:[Mapping]],2,FALSE)","v":"Poland"},{"$f":"VLOOKUP(tblSalaries[[#This Row],[clean Country]]&\"*\",Cont_Table,2,0)","v":"Europe"},"4 to 6 hours a day",5]
[null,"ID1181","2012-05-28T22:51:27",{"$f":"LEFT(tblSalaries[[#This Row],[Timestamp]],FIND(\".\",tblSalaries[[#This Row],[Timestamp]],1))","v":"41057."},31763,31763,"GBP",{"$f":"tblSalaries[[#This Row],[clean Salary (in local currency)]]*VLOOKUP(tblSalaries[[#This Row],[Currency]],tblXrate[],2,FALSE)","v":50064.150455673145},"Network Administrator","Analyst","UK",{"$f":"VLOOKUP(tblSalaries[[#This Row],[Where do you work]],tblCountries[[Actual]:[Mapping]],2,FALSE)","v":"UK"},{"$f":"VLOOKUP(tblSalaries[[#This Row],[clean Country]]&\"*\",Cont_Table,2,0)","v":"Europe"},"2 to 3 hours per day",2]
[null,"ID1182","2012-05-28T22:52:19",{"$f":"LEFT(tblSalaries[[#This Row],[Timestamp]],FIND(\".\",tblSalaries[[#This Row],[Timestamp]],1))","v":"41057."},"GBPÂ£32000",32000,"GBP",{"$f":"tblSalaries[[#This Row],[clean Salary (in local currency)]]*VLOOKUP(tblSalaries[[#This Row],[Currency]],tblXrate[],2,FALSE)","v":50437.70470615309},"Performance Analyst","Analyst","Canada",{"$f":"VLOOKUP(tblSalaries[[#This Row],[Where do you work]],tblCountries[[Actual]:[Mapping]],2,FALSE)","v":"Canada"},{"$f":"VLOOKUP(tblSalaries[[#This Row],[clean Country]]&\"*\",Cont_Table,2,0)","v":"North America"},"4 to 6 hours a day",9]
[null,"ID1183","2012-05-28T22:53:03",{"$f":"LEFT(tblSalaries[[#This Row],[Timestamp]],FIND(\".\",tblSalaries[[#This Row],[Timestamp]],1))","v":"41057."},27840,27840,"USD",{"$f":"tblSalaries[[#This Row],[clean Salary (in local currency)]]*VLOOKUP(tblSalaries[[#This Row],[Currency]],tblXrate[],2,FALSE)","v":27840},"Data Entry Clerk III","Analyst","USA",{"$f":"VLOOKUP(tblSalaries[[#This Row],[Where do you work]],tblCountries[[Actual]:[Mapping]],2,FALSE)","v":"USA"},{"$f":"VLOOKUP(tblSalaries[[#This Row],[clean Country]]&\"*\",Cont_Table,2,0)","v":"North America"},"2 to 3 hours per day",1]
[null,"ID1184","2012-05-28T22:54:24",{"$f":"LEFT(tblSalaries[[#This Row],[Timestamp]],FIND(\".\",tblSalaries[[#This Row],[Timestamp]],1))","v":"41057."},"Rs. 350000",350000,"INR",{"$f":"tblSalaries[[#This Row],[clean Salary (in local currency)]]*VLOOKUP(tblSalaries[[#This Row],[Currency]],tblXrate[],2,FALSE)","v":6232.7708406048987},"officer accounts","Accountant","India",{"$f":"VLOOKUP(tblSalaries[[#This Row],[Where do you work]],tblCountries[[Actual]:[Mapping]],2,FALSE)","v":"India"},{"$f":"VLOOKUP(tblSalaries[[#This Row],[clean Country]]&\"*\",Cont_Table,2,0)","v":"Asia"},"2 to 3 hours per day",1.5]
[null,"ID1185","2012-05-28T22:55:40",{"$f":"LEFT(tblSalaries[[#This Row],[Timestamp]],FIND(\".\",tblSalaries[[#This Row],[Timestamp]],1))","v":"41057."},"S$50000",50000,"USD",{"$f":"tblSalaries[[#This Row],[clean Salary (in local currency)]]*VLOOKUP(tblSalaries[[#This Row],[Currency]],tblXrate[],2,FALSE)","v":50000},"Engineer","Engineer","Singapore",{"$f":"VLOOKUP(tblSalaries[[#This Row],[Where do you work]],tblCountries[[Actual]:[Mapping]],2,FALSE)","v":"Singapore"},{"$f":"VLOOKUP(tblSalaries[[#This Row],[clean Country]]&\"*\",Cont_Table,2,0)","v":"Asia"},"2 to 3 hours per day",25]
[null,"ID1186","2012-05-28T22:58:25",{"$f":"LEFT(tblSalaries[[#This Row],[Timestamp]],FIND(\".\",tblSalaries[[#This Row],[Timestamp]],1))","v":"41057."},48000,48000,"USD",{"$f":"tblSalaries[[#This Row],[clean Salary (in local currency)]]*VLOOKUP(tblSalaries[[#This Row],[Currency]],tblXrate[],2,FALSE)","v":48000},"Cost Controlling Executive","Controller","Qatar",{"$f":"VLOOKUP(tblSalaries[[#This Row],[Where do you work]],tblCountries[[Actual]:[Mapping]],2,FALSE)","v":"Qatar"},{"$f":"VLOOKUP(tblSalaries[[#This Row],[clean Country]]&\"*\",Cont_Table,2,0)","v":"Asia"},"2 to 3 hours per day",10]
[null,"ID1187","2012-05-28T22:59:16",{"$f":"LEFT(tblSalaries[[#This Row],[Timestamp]],FIND(\".\",tblSalaries[[#This Row],[Timestamp]],1))","v":"41057."},2000,24000,"USD",{"$f":"tblSalaries[[#This Row],[clean Salary (in local currency)]]*VLOOKUP(tblSalaries[[#This Row],[Currency]],tblXrate[],2,FALSE)","v":24000},"Administration Manager","Manager","Argentina",{"$f":"VLOOKUP(tblSalaries[[#This Row],[Where do you work]],tblCountries[[Actual]:[Mapping]],2,FALSE)","v":"Argentina"},{"$f":"VLOOKUP(tblSalaries[[#This Row],[clean Country]]&\"*\",Cont_Table,2,0)","v":"South America"},"4 to 6 hours a day",21]
[null,"ID1188","2012-05-28T23:02:08",{"$f":"LEFT(tblSalaries[[#This Row],[Timestamp]],FIND(\".\",tblSalaries[[#This Row],[Timestamp]],1))","v":"41057."},75000,75000,"USD",{"$f":"tblSalaries[[#This Row],[clean Salary (in local currency)]]*VLOOKUP(tblSalaries[[#This Row],[Currency]],tblXrate[],2,FALSE)","v":75000},"Financial Analyst","Analyst","USA",{"$f":"VLOOKUP(tblSalaries[[#This Row],[Where do you work]],tblCountries[[Actual]:[Mapping]],2,FALSE)","v":"USA"},{"$f":"VLOOKUP(tblSalaries[[#This Row],[clean Country]]&\"*\",Cont_Table,2,0)","v":"North America"},"4 to 6 hours a day",12]
[null,"ID1189","2012-05-28T23:05:03",{"$f":"LEFT(tblSalaries[[#This Row],[Timestamp]],FIND(\".\",tblSalaries[[#This Row],[Timestamp]],1))","v":"41057."},"216000 AED",216000,"AED",{"$f":"tblSalaries[[#This Row],[clean Salary (in local currency)]]*VLOOKUP(tblSalaries[[#This Row],[Currency]],tblXrate[],2,FALSE)","v":58799.349940520107},"Financial analyst","Analyst","Dubai",{"$f":"VLOOKUP(tblSalaries[[#This Row],[Where do you work]],tblCountries[[Actual]:[Mapping]],2,FALSE)","v":"Dubai"},{"$f":"VLOOKUP(tblSalaries[[#This Row],[clean Country]]&\"*\",Cont_Table,2,0)","v":"Asia"},"4 to 6 hours a day",2]
[null,"ID1190","2012-05-28T23:06:22",{"$f":"LEFT(tblSalaries[[#This Row],[Timestamp]],FIND(\".\",tblSalaries[[#This Row],[Timestamp]],1))","v":"41057."},"Rupees : 2,000,000",2000000,"PKR",{"$f":"tblSalaries[[#This Row],[clean Salary (in local currency)]]*VLOOKUP(tblSalaries[[#This Row],[Currency]],tblXrate[],2,FALSE)","v":21228.177433598263},"Excel Corporate Trainer","Consultant","Pakistan",{"$f":"VLOOKUP(tblSalaries[[#This Row],[Where do you work]],tblCountries[[Actual]:[Mapping]],2,FALSE)","v":"Pakistan"},{"$f":"VLOOKUP(tblSalaries[[#This Row],[clean Country]]&\"*\",Cont_Table,2,0)","v":"Asia"},"All the 8 hours baby, all the 8!",8]
[null,"ID1191","2012-05-28T23:13:24",{"$f":"LEFT(tblSalaries[[#This Row],[Timestamp]],FIND(\".\",tblSalaries[[#This Row],[Timestamp]],1))","v":"41057."},60000,60000,"USD",{"$f":"tblSalaries[[#This Row],[clean Salary (in local currency)]]*VLOOKUP(tblSalaries[[#This Row],[Currency]],tblXrate[],2,FALSE)","v":60000},"Quality Management","Manager","USA",{"$f":"VLOOKUP(tblSalaries[[#This Row],[Where do you work]],tblCountries[[Actual]:[Mapping]],2,FALSE)","v":"USA"},{"$f":"VLOOKUP(tblSalaries[[#This Row],[clean Country]]&\"*\",Cont_Table,2,0)","v":"North America"},"2 to 3 hours per day",10]
[null,"ID1192","2012-05-28T23:13:31",{"$f":"LEFT(tblSalaries[[#This Row],[Timestamp]],FIND(\".\",tblSalaries[[#This Row],[Timestamp]],1))","v":"41057."},"5000  PLN   net",60000,"PLN",{"$f":"tblSalaries[[#This Row],[clean Salary (in local currency)]]*VLOOKUP(tblSalaries[[#This Row],[Currency]],tblXrate[],2,FALSE)","v":18018.883790212141},"Sales Analyst","Analyst","Poland",{"$f":"VLOOKUP(tblSalaries[[#This Row],[Where do you work]],tblCountries[[Actual]:[Mapping]],2,FALSE)","v":"Poland"},{"$f":"VLOOKUP(tblSalaries[[#This Row],[clean Country]]&\"*\",Cont_Table,2,0)","v":"Europe"},"All the 8 hours baby, all the 8!",10]
[null,"ID1193","2012-05-28T23:17:12",{"$f":"LEFT(tblSalaries[[#This Row],[Timestamp]],FIND(\".\",tblSalaries[[#This Row],[Timestamp]],1))","v":"41057."},"US$ 7,200",7200,"USD",{"$f":"tblSalaries[[#This Row],[clean Salary (in local currency)]]*VLOOKUP(tblSalaries[[#This Row],[Currency]],tblXrate[],2,FALSE)","v":7200},"Supervisor MIS","Reporting","India",{"$f":"VLOOKUP(tblSalaries[[#This Row],[Where do you work]],tblCountries[[Actual]:[Mapping]],2,FALSE)","v":"India"},{"$f":"VLOOKUP(tblSalaries[[#This Row],[clean Country]]&\"*\",Cont_Table,2,0)","v":"Asia"},"4 to 6 hours a day",7]
[null,"ID1194","2012-05-28T23:17:31",{"$f":"LEFT(tblSalaries[[#This Row],[Timestamp]],FIND(\".\",tblSalaries[[#This Row],[Timestamp]],1))","v":"41057."},56000,56000,"USD",{"$f":"tblSalaries[[#This Row],[clean Salary (in local currency)]]*VLOOKUP(tblSalaries[[#This Row],[Currency]],tblXrate[],2,FALSE)","v":56000},"Analyst","Analyst","USA",{"$f":"VLOOKUP(tblSalaries[[#This Row],[Where do you work]],tblCountries[[Actual]:[Mapping]],2,FALSE)","v":"USA"},{"$f":"VLOOKUP(tblSalaries[[#This Row],[clean Country]]&\"*\",Cont_Table,2,0)","v":"North America"},"1 or 2 hours a day",2]
[null,"ID1195","2012-05-28T23:19:36",{"$f":"LEFT(tblSalaries[[#This Row],[Timestamp]],FIND(\".\",tblSalaries[[#This Row],[Timestamp]],1))","v":"41057."},"Rs 5,40,000",540000,"INR",{"$f":"tblSalaries[[#This Row],[clean Salary (in local currency)]]*VLOOKUP(tblSalaries[[#This Row],[Currency]],tblXrate[],2,FALSE)","v":9616.275011218986},"Business Analyst - Solutions","Analyst","India",{"$f":"VLOOKUP(tblSalaries[[#This Row],[Where do you work]],tblCountries[[Actual]:[Mapping]],2,FALSE)","v":"India"},{"$f":"VLOOKUP(tblSalaries[[#This Row],[clean Country]]&\"*\",Cont_Table,2,0)","v":"Asia"},"4 to 6 hours a day",7.9]
[null,"ID1196","2012-05-28T23:21:02",{"$f":"LEFT(tblSalaries[[#This Row],[Timestamp]],FIND(\".\",tblSalaries[[#This Row],[Timestamp]],1))","v":"41057."},"KES 4.3 million",4300000,"KENYA",{"$f":"tblSalaries[[#This Row],[clean Salary (in local currency)]]*VLOOKUP(tblSalaries[[#This Row],[Currency]],tblXrate[],2,FALSE)","v":51497.005988023957},"Finance Manager","Manager","Kenya",{"$f":"VLOOKUP(tblSalaries[[#This Row],[Where do you work]],tblCountries[[Actual]:[Mapping]],2,FALSE)","v":"Kenya"},{"$f":"VLOOKUP(tblSalaries[[#This Row],[clean Country]]&\"*\",Cont_Table,2,0)","v":"Africa"},"4 to 6 hours a day",9]
[null,"ID1197","2012-05-28T23:25:32",{"$f":"LEFT(tblSalaries[[#This Row],[Timestamp]],FIND(\".\",tblSalaries[[#This Row],[Timestamp]],1))","v":"41057."},"82.000 Euro (pre-tax)",82000,"EUR",{"$f":"tblSalaries[[#This Row],[clean Salary (in local currency)]]*VLOOKUP(tblSalaries[[#This Row],[Currency]],tblXrate[],2,FALSE)","v":104172.75399731184},"Finance Project Manager","Manager","Netherlands",{"$f":"VLOOKUP(tblSalaries[[#This Row],[Where do you work]],tblCountries[[Actual]:[Mapping]],2,FALSE)","v":"Netherlands"},{"$f":"VLOOKUP(tblSalaries[[#This Row],[clean Country]]&\"*\",Cont_Table,2,0)","v":"Europe"},"All the 8 hours baby, all the 8!",25]
[null,"ID1198","2012-05-28T23:33:59",{"$f":"LEFT(tblSalaries[[#This Row],[Timestamp]],FIND(\".\",tblSalaries[[#This Row],[Timestamp]],1))","v":"41057."},88000,88000,"USD",{"$f":"tblSalaries[[#This Row],[clean Salary (in local currency)]]*VLOOKUP(tblSalaries[[#This Row],[Currency]],tblXrate[],2,FALSE)","v":88000},"Manager, Strategy & Insights","Manager","USA",{"$f":"VLOOKUP(tblSalaries[[#This Row],[Where do you work]],tblCountries[[Actual]:[Mapping]],2,FALSE)","v":"USA"},{"$f":"VLOOKUP(tblSalaries[[#This Row],[clean Country]]&\"*\",Cont_Table,2,0)","v":"North America"},"4 to 6 hours a day",2]
[null,"ID1199","2012-05-28T23:38:52",{"$f":"LEFT(tblSalaries[[#This Row],[Timestamp]],FIND(\".\",tblSalaries[[#This Row],[Timestamp]],1))","v":"41057."},80000,80000,"USD",{"$f":"tblSalaries[[#This Row],[clean Salary (in local currency)]]*VLOOKUP(tblSalaries[[#This Row],[Currency]],tblXrate[],2,FALSE)","v":80000},"Financial/Data Analyst","Analyst","USA",{"$f":"VLOOKUP(tblSalaries[[#This Row],[Where do you work]],tblCountries[[Actual]:[Mapping]],2,FALSE)","v":"USA"},{"$f":"VLOOKUP(tblSalaries[[#This Row],[clean Country]]&\"*\",Cont_Table,2,0)","v":"North America"},"4 to 6 hours a day",6]
[null,"ID1200","2012-05-28T23:47:10",{"$f":"LEFT(tblSalaries[[#This Row],[Timestamp]],FIND(\".\",tblSalaries[[#This Row],[Timestamp]],1))","v":"41057."},19000,19000,"USD",{"$f":"tblSalaries[[#This Row],[clean Salary (in local currency)]]*VLOOKUP(tblSalaries[[#This Row],[Currency]],tblXrate[],2,FALSE)","v":19000},"Accountant","Accountant","UK",{"$f":"VLOOKUP(tblSalaries[[#This Row],[Where do you work]],tblCountries[[Actual]:[Mapping]],2,FALSE)","v":"UK"},{"$f":"VLOOKUP(tblSalaries[[#This Row],[clean Country]]&\"*\",Cont_Table,2,0)","v":"Europe"},"4 to 6 hours a day",20]
[null,"ID1201","2012-05-28T23:51:37",{"$f":"LEFT(tblSalaries[[#This Row],[Timestamp]],FIND(\".\",tblSalaries[[#This Row],[Timestamp]],1))","v":"41057."},"Euro 15.000",15000,"EUR",{"$f":"tblSalaries[[#This Row],[clean Salary (in local currency)]]*VLOOKUP(tblSalaries[[#This Row],[Currency]],tblXrate[],2,FALSE)","v":19055.991584874118},"business consultant","Consultant","Italy",{"$f":"VLOOKUP(tblSalaries[[#This Row],[Where do you work]],tblCountries[[Actual]:[Mapping]],2,FALSE)","v":"italy"},{"$f":"VLOOKUP(tblSalaries[[#This Row],[clean Country]]&\"*\",Cont_Table,2,0)","v":"Europe"},"4 to 6 hours a day",3]
[null,"ID1202","2012-05-28T23:52:42",{"$f":"LEFT(tblSalaries[[#This Row],[Timestamp]],FIND(\".\",tblSalaries[[#This Row],[Timestamp]],1))","v":"41057."},480000,480000,"INR",{"$f":"tblSalaries[[#This Row],[clean Salary (in local currency)]]*VLOOKUP(tblSalaries[[#This Row],[Currency]],tblXrate[],2,FALSE)","v":8547.8000099724322},"Documentation Consultant","Consultant","India",{"$f":"VLOOKUP(tblSalaries[[#This Row],[Where do you work]],tblCountries[[Actual]:[Mapping]],2,FALSE)","v":"India"},{"$f":"VLOOKUP(tblSalaries[[#This Row],[clean Country]]&\"*\",Cont_Table,2,0)","v":"Asia"},"All the 8 hours baby, all the 8!",15]
[null,"ID1203","2012-05-28T23:53:02",{"$f":"LEFT(tblSalaries[[#This Row],[Timestamp]],FIND(\".\",tblSalaries[[#This Row],[Timestamp]],1))","v":"41057."},1100000,1100000,"INR",{"$f":"tblSalaries[[#This Row],[clean Salary (in local currency)]]*VLOOKUP(tblSalaries[[#This Row],[Currency]],tblXrate[],2,FALSE)","v":19588.708356186824},"Sr. Consultant","Consultant","India",{"$f":"VLOOKUP(tblSalaries[[#This Row],[Where do you work]],tblCountries[[Actual]:[Mapping]],2,FALSE)","v":"India"},{"$f":"VLOOKUP(tblSalaries[[#This Row],[clean Country]]&\"*\",Cont_Table,2,0)","v":"Asia"},"All the 8 hours baby, all the 8!",13]
[null,"ID1204","2012-05-29T00:00:21",{"$f":"LEFT(tblSalaries[[#This Row],[Timestamp]],FIND(\".\",tblSalaries[[#This Row],[Timestamp]],1))","v":"41058."},61000,61000,"USD",{"$f":"tblSalaries[[#This Row],[clean Salary (in local currency)]]*VLOOKUP(tblSalaries[[#This Row],[Currency]],tblXrate[],2,FALSE)","v":61000},"Financial Analyst","Analyst","USA",{"$f":"VLOOKUP(tblSalaries[[#This Row],[Where do you work]],tblCountries[[Actual]:[Mapping]],2,FALSE)","v":"USA"},{"$f":"VLOOKUP(tblSalaries[[#This Row],[clean Country]]&\"*\",Cont_Table,2,0)","v":"North America"},"4 to 6 hours a day",1.5]
[null,"ID1205","2012-05-29T00:03:43",{"$f":"LEFT(tblSalaries[[#This Row],[Timestamp]],FIND(\".\",tblSalaries[[#This Row],[Timestamp]],1))","v":"41058."},34000,34000,"GBP",{"$f":"tblSalaries[[#This Row],[clean Salary (in local currency)]]*VLOOKUP(tblSalaries[[#This Row],[Currency]],tblXrate[],2,FALSE)","v":53590.061250287661},"investment accountant","Accountant","UK",{"$f":"VLOOKUP(tblSalaries[[#This Row],[Where do you work]],tblCountries[[Actual]:[Mapping]],2,FALSE)","v":"UK"},{"$f":"VLOOKUP(tblSalaries[[#This Row],[clean Country]]&\"*\",Cont_Table,2,0)","v":"Europe"},"All the 8 hours baby, all the 8!",10]
[null,"ID1206","2012-05-29T00:03:48",{"$f":"LEFT(tblSalaries[[#This Row],[Timestamp]],FIND(\".\",tblSalaries[[#This Row],[Timestamp]],1))","v":"41058."},34000,34000,"GBP",{"$f":"tblSalaries[[#This Row],[clean Salary (in local currency)]]*VLOOKUP(tblSalaries[[#This Row],[Currency]],tblXrate[],2,FALSE)","v":53590.061250287661},"investment accountant","Accountant","UK",{"$f":"VLOOKUP(tblSalaries[[#This Row],[Where do you work]],tblCountries[[Actual]:[Mapping]],2,FALSE)","v":"UK"},{"$f":"VLOOKUP(tblSalaries[[#This Row],[clean Country]]&\"*\",Cont_Table,2,0)","v":"Europe"},"All the 8 hours baby, all the 8!",10]
[null,"ID1207","2012-05-29T00:07:00",{"$f":"LEFT(tblSalaries[[#This Row],[Timestamp]],FIND(\".\",tblSalaries[[#This Row],[Timestamp]],1))","v":"41058."},250000,250000,"INR",{"$f":"tblSalaries[[#This Row],[clean Salary (in local currency)]]*VLOOKUP(tblSalaries[[#This Row],[Currency]],tblXrate[],2,FALSE)","v":4451.9791718606421},"Officer Production","Manager","India",{"$f":"VLOOKUP(tblSalaries[[#This Row],[Where do you work]],tblCountries[[Actual]:[Mapping]],2,FALSE)","v":"India"},{"$f":"VLOOKUP(tblSalaries[[#This Row],[clean Country]]&\"*\",Cont_Table,2,0)","v":"Asia"},"4 to 6 hours a day",1]
[null,"ID1208","2012-05-29T00:07:36",{"$f":"LEFT(tblSalaries[[#This Row],[Timestamp]],FIND(\".\",tblSalaries[[#This Row],[Timestamp]],1))","v":"41058."},20000,20000,"EUR",{"$f":"tblSalaries[[#This Row],[clean Salary (in local currency)]]*VLOOKUP(tblSalaries[[#This Row],[Currency]],tblXrate[],2,FALSE)","v":25407.988779832154},"warehouse management","Manager","GREECE",{"$f":"VLOOKUP(tblSalaries[[#This Row],[Where do you work]],tblCountries[[Actual]:[Mapping]],2,FALSE)","v":"Greece"},{"$f":"VLOOKUP(tblSalaries[[#This Row],[clean Country]]&\"*\",Cont_Table,2,0)","v":"Europe"},"1 or 2 hours a day",12]
[null,"ID1209","2012-05-29T00:12:23",{"$f":"LEFT(tblSalaries[[#This Row],[Timestamp]],FIND(\".\",tblSalaries[[#This Row],[Timestamp]],1))","v":"41058."},23000,23000,"USD",{"$f":"tblSalaries[[#This Row],[clean Salary (in local currency)]]*VLOOKUP(tblSalaries[[#This Row],[Currency]],tblXrate[],2,FALSE)","v":23000},"Chief Accountant","Accountant","Saudi Arabia",{"$f":"VLOOKUP(tblSalaries[[#This Row],[Where do you work]],tblCountries[[Actual]:[Mapping]],2,FALSE)","v":"Saudi Arabia"},{"$f":"VLOOKUP(tblSalaries[[#This Row],[clean Country]]&\"*\",Cont_Table,2,0)","v":"Asia"},"All the 8 hours baby, all the 8!",14]
[null,"ID1210","2012-05-29T00:16:55",{"$f":"LEFT(tblSalaries[[#This Row],[Timestamp]],FIND(\".\",tblSalaries[[#This Row],[Timestamp]],1))","v":"41058."},"Rs. 900000",900000,"INR",{"$f":"tblSalaries[[#This Row],[clean Salary (in local currency)]]*VLOOKUP(tblSalaries[[#This Row],[Currency]],tblXrate[],2,FALSE)","v":16027.125018698311},"Manager F & A","Manager","India",{"$f":"VLOOKUP(tblSalaries[[#This Row],[Where do you work]],tblCountries[[Actual]:[Mapping]],2,FALSE)","v":"India"},{"$f":"VLOOKUP(tblSalaries[[#This Row],[clean Country]]&\"*\",Cont_Table,2,0)","v":"Asia"},"1 or 2 hours a day",13]
[null,"ID1211","2012-05-29T00:25:39",{"$f":"LEFT(tblSalaries[[#This Row],[Timestamp]],FIND(\".\",tblSalaries[[#This Row],[Timestamp]],1))","v":"41058."},60000,60000,"USD",{"$f":"tblSalaries[[#This Row],[clean Salary (in local currency)]]*VLOOKUP(tblSalaries[[#This Row],[Currency]],tblXrate[],2,FALSE)","v":60000},"Quality Assurance Engineer","Engineer","USA",{"$f":"VLOOKUP(tblSalaries[[#This Row],[Where do you work]],tblCountries[[Actual]:[Mapping]],2,FALSE)","v":"USA"},{"$f":"VLOOKUP(tblSalaries[[#This Row],[clean Country]]&\"*\",Cont_Table,2,0)","v":"North America"},"1 or 2 hours a day",6]
[null,"ID1212","2012-05-29T00:25:46",{"$f":"LEFT(tblSalaries[[#This Row],[Timestamp]],FIND(\".\",tblSalaries[[#This Row],[Timestamp]],1))","v":"41058."},800,4800,"USD",{"$f":"tblSalaries[[#This Row],[clean Salary (in local currency)]]*VLOOKUP(tblSalaries[[#This Row],[Currency]],tblXrate[],2,FALSE)","v":4800},"Financial Analyst","Analyst","India",{"$f":"VLOOKUP(tblSalaries[[#This Row],[Where do you work]],tblCountries[[Actual]:[Mapping]],2,FALSE)","v":"India"},{"$f":"VLOOKUP(tblSalaries[[#This Row],[clean Country]]&\"*\",Cont_Table,2,0)","v":"Asia"},"4 to 6 hours a day",5]
[null,"ID1213","2012-05-29T00:26:21",{"$f":"LEFT(tblSalaries[[#This Row],[Timestamp]],FIND(\".\",tblSalaries[[#This Row],[Timestamp]],1))","v":"41058."},"DKK 625000",625000,"DKK",{"$f":"tblSalaries[[#This Row],[clean Salary (in local currency)]]*VLOOKUP(tblSalaries[[#This Row],[Currency]],tblXrate[],2,FALSE)","v":106815.148267971},"Manager Business Controlling","Manager","Denmark",{"$f":"VLOOKUP(tblSalaries[[#This Row],[Where do you work]],tblCountries[[Actual]:[Mapping]],2,FALSE)","v":"Denmark"},{"$f":"VLOOKUP(tblSalaries[[#This Row],[clean Country]]&\"*\",Cont_Table,2,0)","v":"Europe"},"4 to 6 hours a day",25]
[null,"ID1214","2012-05-29T00:28:38",{"$f":"LEFT(tblSalaries[[#This Row],[Timestamp]],FIND(\".\",tblSalaries[[#This Row],[Timestamp]],1))","v":"41058."},500000,500000,"INR",{"$f":"tblSalaries[[#This Row],[clean Salary (in local currency)]]*VLOOKUP(tblSalaries[[#This Row],[Currency]],tblXrate[],2,FALSE)","v":8903.9583437212841},"Consultant","Consultant","India",{"$f":"VLOOKUP(tblSalaries[[#This Row],[Where do you work]],tblCountries[[Actual]:[Mapping]],2,FALSE)","v":"India"},{"$f":"VLOOKUP(tblSalaries[[#This Row],[clean Country]]&\"*\",Cont_Table,2,0)","v":"Asia"},"2 to 3 hours per day",3]
[null,"ID1215","2012-05-29T00:29:32",{"$f":"LEFT(tblSalaries[[#This Row],[Timestamp]],FIND(\".\",tblSalaries[[#This Row],[Timestamp]],1))","v":"41058."},60000,60000,"USD",{"$f":"tblSalaries[[#This Row],[clean Salary (in local currency)]]*VLOOKUP(tblSalaries[[#This Row],[Currency]],tblXrate[],2,FALSE)","v":60000},"sample manager","Manager","USA",{"$f":"VLOOKUP(tblSalaries[[#This Row],[Where do you work]],tblCountries[[Actual]:[Mapping]],2,FALSE)","v":"USA"},{"$f":"VLOOKUP(tblSalaries[[#This Row],[clean Country]]&\"*\",Cont_Table,2,0)","v":"North America"},"4 to 6 hours a day",12]
[null,"ID1216","2012-05-29T00:30:42",{"$f":"LEFT(tblSalaries[[#This Row],[Timestamp]],FIND(\".\",tblSalaries[[#This Row],[Timestamp]],1))","v":"41058."},2600000,2600000,"INR",{"$f":"tblSalaries[[#This Row],[clean Salary (in local currency)]]*VLOOKUP(tblSalaries[[#This Row],[Currency]],tblXrate[],2,FALSE)","v":46300.583387350678},"Practice Manager","Manager","India",{"$f":"VLOOKUP(tblSalaries[[#This Row],[Where do you work]],tblCountries[[Actual]:[Mapping]],2,FALSE)","v":"India"},{"$f":"VLOOKUP(tblSalaries[[#This Row],[clean Country]]&\"*\",Cont_Table,2,0)","v":"Asia"},"4 to 6 hours a day",4]
[null,"ID1217","2012-05-29T00:32:35",{"$f":"LEFT(tblSalaries[[#This Row],[Timestamp]],FIND(\".\",tblSalaries[[#This Row],[Timestamp]],1))","v":"41058."},"INR 750,000",750000,"INR",{"$f":"tblSalaries[[#This Row],[clean Salary (in local currency)]]*VLOOKUP(tblSalaries[[#This Row],[Currency]],tblXrate[],2,FALSE)","v":13355.937515581925},"Assistant Manager","Manager","India",{"$f":"VLOOKUP(tblSalaries[[#This Row],[Where do you work]],tblCountries[[Actual]:[Mapping]],2,FALSE)","v":"India"},{"$f":"VLOOKUP(tblSalaries[[#This Row],[clean Country]]&\"*\",Cont_Table,2,0)","v":"Asia"},"2 to 3 hours per day",3]
[null,"ID1218","2012-05-29T00:36:21",{"$f":"LEFT(tblSalaries[[#This Row],[Timestamp]],FIND(\".\",tblSalaries[[#This Row],[Timestamp]],1))","v":"41058."},74000,74000,"USD",{"$f":"tblSalaries[[#This Row],[clean Salary (in local currency)]]*VLOOKUP(tblSalaries[[#This Row],[Currency]],tblXrate[],2,FALSE)","v":74000},"marketing specialist","Specialist","USA",{"$f":"VLOOKUP(tblSalaries[[#This Row],[Where do you work]],tblCountries[[Actual]:[Mapping]],2,FALSE)","v":"USA"},{"$f":"VLOOKUP(tblSalaries[[#This Row],[clean Country]]&\"*\",Cont_Table,2,0)","v":"North America"},"4 to 6 hours a day",10]
[null,"ID1219","2012-05-29T00:47:17",{"$f":"LEFT(tblSalaries[[#This Row],[Timestamp]],FIND(\".\",tblSalaries[[#This Row],[Timestamp]],1))","v":"41058."},95856,95856,"USD",{"$f":"tblSalaries[[#This Row],[clean Salary (in local currency)]]*VLOOKUP(tblSalaries[[#This Row],[Currency]],tblXrate[],2,FALSE)","v":95856},"Analyst","Analyst","USA",{"$f":"VLOOKUP(tblSalaries[[#This Row],[Where do you work]],tblCountries[[Actual]:[Mapping]],2,FALSE)","v":"USA"},{"$f":"VLOOKUP(tblSalaries[[#This Row],[clean Country]]&\"*\",Cont_Table,2,0)","v":"North America"},"2 to 3 hours per day",13]
[null,"ID1220","2012-05-29T01:03:19",{"$f":"LEFT(tblSalaries[[#This Row],[Timestamp]],FIND(\".\",tblSalaries[[#This Row],[Timestamp]],1))","v":"41058."},"40,000 US",40000,"USD",{"$f":"tblSalaries[[#This Row],[clean Salary (in local currency)]]*VLOOKUP(tblSalaries[[#This Row],[Currency]],tblXrate[],2,FALSE)","v":40000},"Staff Accountant","Accountant","USA",{"$f":"VLOOKUP(tblSalaries[[#This Row],[Where do you work]],tblCountries[[Actual]:[Mapping]],2,FALSE)","v":"USA"},{"$f":"VLOOKUP(tblSalaries[[#This Row],[clean Country]]&\"*\",Cont_Table,2,0)","v":"North America"},"2 to 3 hours per day",15]
[null,"ID1221","2012-05-29T01:06:44",{"$f":"LEFT(tblSalaries[[#This Row],[Timestamp]],FIND(\".\",tblSalaries[[#This Row],[Timestamp]],1))","v":"41058."},4400,4400,"USD",{"$f":"tblSalaries[[#This Row],[clean Salary (in local currency)]]*VLOOKUP(tblSalaries[[#This Row],[Currency]],tblXrate[],2,FALSE)","v":4400},"Manager Corporate Finance","Manager","Latin America",{"$f":"VLOOKUP(tblSalaries[[#This Row],[Where do you work]],tblCountries[[Actual]:[Mapping]],2,FALSE)","v":"Latin America"},{"$f":"VLOOKUP(tblSalaries[[#This Row],[clean Country]]&\"*\",Cont_Table,2,0)","v":"South America"},"2 to 3 hours per day",5]
[null,"ID1222","2012-05-29T01:12:28",{"$f":"LEFT(tblSalaries[[#This Row],[Timestamp]],FIND(\".\",tblSalaries[[#This Row],[Timestamp]],1))","v":"41058."},90000,90000,"USD",{"$f":"tblSalaries[[#This Row],[clean Salary (in local currency)]]*VLOOKUP(tblSalaries[[#This Row],[Currency]],tblXrate[],2,FALSE)","v":90000},"Senior Analyst","Analyst","USA",{"$f":"VLOOKUP(tblSalaries[[#This Row],[Where do you work]],tblCountries[[Actual]:[Mapping]],2,FALSE)","v":"USA"},{"$f":"VLOOKUP(tblSalaries[[#This Row],[clean Country]]&\"*\",Cont_Table,2,0)","v":"North America"},"4 to 6 hours a day",30]
[null,"ID1223","2012-05-29T01:19:26",{"$f":"LEFT(tblSalaries[[#This Row],[Timestamp]],FIND(\".\",tblSalaries[[#This Row],[Timestamp]],1))","v":"41058."},"INR 450000",450000,"INR",{"$f":"tblSalaries[[#This Row],[clean Salary (in local currency)]]*VLOOKUP(tblSalaries[[#This Row],[Currency]],tblXrate[],2,FALSE)","v":8013.5625093491553},"ASSISTANT MANAGER","Manager","India",{"$f":"VLOOKUP(tblSalaries[[#This Row],[Where do you work]],tblCountries[[Actual]:[Mapping]],2,FALSE)","v":"India"},{"$f":"VLOOKUP(tblSalaries[[#This Row],[clean Country]]&\"*\",Cont_Table,2,0)","v":"Asia"},"All the 8 hours baby, all the 8!",2]
[null,"ID1224","2012-05-29T01:22:59",{"$f":"LEFT(tblSalaries[[#This Row],[Timestamp]],FIND(\".\",tblSalaries[[#This Row],[Timestamp]],1))","v":"41058."},"INR 1000000",1000000,"INR",{"$f":"tblSalaries[[#This Row],[clean Salary (in local currency)]]*VLOOKUP(tblSalaries[[#This Row],[Currency]],tblXrate[],2,FALSE)","v":17807.916687442568},"Asst Manager","Manager","India",{"$f":"VLOOKUP(tblSalaries[[#This Row],[Where do you work]],tblCountries[[Actual]:[Mapping]],2,FALSE)","v":"India"},{"$f":"VLOOKUP(tblSalaries[[#This Row],[clean Country]]&\"*\",Cont_Table,2,0)","v":"Asia"},"4 to 6 hours a day",8.5]
[null,"ID1225","2012-05-29T01:31:39",{"$f":"LEFT(tblSalaries[[#This Row],[Timestamp]],FIND(\".\",tblSalaries[[#This Row],[Timestamp]],1))","v":"41058."},"700000 INR",700000,"INR",{"$f":"tblSalaries[[#This Row],[clean Salary (in local currency)]]*VLOOKUP(tblSalaries[[#This Row],[Currency]],tblXrate[],2,FALSE)","v":12465.541681209797},"Lead Executive MIS","Reporting","India",{"$f":"VLOOKUP(tblSalaries[[#This Row],[Where do you work]],tblCountries[[Actual]:[Mapping]],2,FALSE)","v":"India"},{"$f":"VLOOKUP(tblSalaries[[#This Row],[clean Country]]&\"*\",Cont_Table,2,0)","v":"Asia"},"4 to 6 hours a day",6]
[null,"ID1226","2012-05-29T01:41:00",{"$f":"LEFT(tblSalaries[[#This Row],[Timestamp]],FIND(\".\",tblSalaries[[#This Row],[Timestamp]],1))","v":"41058."},80000,80000,"USD",{"$f":"tblSalaries[[#This Row],[clean Salary (in local currency)]]*VLOOKUP(tblSalaries[[#This Row],[Currency]],tblXrate[],2,FALSE)","v":80000},"Snr Business Analyst","Analyst","Singapore",{"$f":"VLOOKUP(tblSalaries[[#This Row],[Where do you work]],tblCountries[[Actual]:[Mapping]],2,FALSE)","v":"Singapore"},{"$f":"VLOOKUP(tblSalaries[[#This Row],[clean Country]]&\"*\",Cont_Table,2,0)","v":"Asia"},"1 or 2 hours a day",6]
[null,"ID1227","2012-05-29T01:44:03",{"$f":"LEFT(tblSalaries[[#This Row],[Timestamp]],FIND(\".\",tblSalaries[[#This Row],[Timestamp]],1))","v":"41058."},100000,100000,"USD",{"$f":"tblSalaries[[#This Row],[clean Salary (in local currency)]]*VLOOKUP(tblSalaries[[#This Row],[Currency]],tblXrate[],2,FALSE)","v":100000},"Finance Manager","Manager","USA",{"$f":"VLOOKUP(tblSalaries[[#This Row],[Where do you work]],tblCountries[[Actual]:[Mapping]],2,FALSE)","v":"USA"},{"$f":"VLOOKUP(tblSalaries[[#This Row],[clean Country]]&\"*\",Cont_Table,2,0)","v":"North America"},"4 to 6 hours a day",11]
[null,"ID1228","2012-05-29T01:45:13",{"$f":"LEFT(tblSalaries[[#This Row],[Timestamp]],FIND(\".\",tblSalaries[[#This Row],[Timestamp]],1))","v":"41058."},4100,49200,"USD",{"$f":"tblSalaries[[#This Row],[clean Salary (in local currency)]]*VLOOKUP(tblSalaries[[#This Row],[Currency]],tblXrate[],2,FALSE)","v":49200},"Chief Accountant","Accountant","QATAR",{"$f":"VLOOKUP(tblSalaries[[#This Row],[Where do you work]],tblCountries[[Actual]:[Mapping]],2,FALSE)","v":"Qatar"},{"$f":"VLOOKUP(tblSalaries[[#This Row],[clean Country]]&\"*\",Cont_Table,2,0)","v":"Asia"},"2 to 3 hours per day",25]
[null,"ID1229","2012-05-29T01:47:39",{"$f":"LEFT(tblSalaries[[#This Row],[Timestamp]],FIND(\".\",tblSalaries[[#This Row],[Timestamp]],1))","v":"41058."},750,9000,"USD",{"$f":"tblSalaries[[#This Row],[clean Salary (in local currency)]]*VLOOKUP(tblSalaries[[#This Row],[Currency]],tblXrate[],2,FALSE)","v":9000},"assurance manager","Manager","India",{"$f":"VLOOKUP(tblSalaries[[#This Row],[Where do you work]],tblCountries[[Actual]:[Mapping]],2,FALSE)","v":"India"},{"$f":"VLOOKUP(tblSalaries[[#This Row],[clean Country]]&\"*\",Cont_Table,2,0)","v":"Asia"},"4 to 6 hours a day",1]
[null,"ID1230","2012-05-29T01:50:01",{"$f":"LEFT(tblSalaries[[#This Row],[Timestamp]],FIND(\".\",tblSalaries[[#This Row],[Timestamp]],1))","v":"41058."},300000,300000,"INR",{"$f":"tblSalaries[[#This Row],[clean Salary (in local currency)]]*VLOOKUP(tblSalaries[[#This Row],[Currency]],tblXrate[],2,FALSE)","v":5342.3750062327708},"Finance Analyst","Analyst","India",{"$f":"VLOOKUP(tblSalaries[[#This Row],[Where do you work]],tblCountries[[Actual]:[Mapping]],2,FALSE)","v":"India"},{"$f":"VLOOKUP(tblSalaries[[#This Row],[clean Country]]&\"*\",Cont_Table,2,0)","v":"Asia"},"4 to 6 hours a day",6]
[null,"ID1231","2012-05-29T02:02:39",{"$f":"LEFT(tblSalaries[[#This Row],[Timestamp]],FIND(\".\",tblSalaries[[#This Row],[Timestamp]],1))","v":"41058."},"$40K",40000,"USD",{"$f":"tblSalaries[[#This Row],[clean Salary (in local currency)]]*VLOOKUP(tblSalaries[[#This Row],[Currency]],tblXrate[],2,FALSE)","v":40000},"SOX,SAP, Insurance Coordinator","Manager","Pakistan, Angola",{"$f":"VLOOKUP(tblSalaries[[#This Row],[Where do you work]],tblCountries[[Actual]:[Mapping]],2,FALSE)","v":"Pakistan"},{"$f":"VLOOKUP(tblSalaries[[#This Row],[clean Country]]&\"*\",Cont_Table,2,0)","v":"Asia"},"4 to 6 hours a day",15]
[null,"ID1232","2012-05-29T02:12:32",{"$f":"LEFT(tblSalaries[[#This Row],[Timestamp]],FIND(\".\",tblSalaries[[#This Row],[Timestamp]],1))","v":"41058."},"Â£26000",26000,"GBP",{"$f":"tblSalaries[[#This Row],[clean Salary (in local currency)]]*VLOOKUP(tblSalaries[[#This Row],[Currency]],tblXrate[],2,FALSE)","v":40980.635073749385},"Business Analyst","Analyst","UK",{"$f":"VLOOKUP(tblSalaries[[#This Row],[Where do you work]],tblCountries[[Actual]:[Mapping]],2,FALSE)","v":"UK"},{"$f":"VLOOKUP(tblSalaries[[#This Row],[clean Country]]&\"*\",Cont_Table,2,0)","v":"Europe"},"4 to 6 hours a day",2]
[null,"ID1233","2012-05-29T02:19:27",{"$f":"LEFT(tblSalaries[[#This Row],[Timestamp]],FIND(\".\",tblSalaries[[#This Row],[Timestamp]],1))","v":"41058."},"Â£29000",29000,"GBP",{"$f":"tblSalaries[[#This Row],[clean Salary (in local currency)]]*VLOOKUP(tblSalaries[[#This Row],[Currency]],tblXrate[],2,FALSE)","v":45709.169889951241},"Financial Accountant","Accountant","UK",{"$f":"VLOOKUP(tblSalaries[[#This Row],[Where do you work]],tblCountries[[Actual]:[Mapping]],2,FALSE)","v":"UK"},{"$f":"VLOOKUP(tblSalaries[[#This Row],[clean Country]]&\"*\",Cont_Table,2,0)","v":"Europe"},"2 to 3 hours per day",8]
[null,"ID1234","2012-05-29T02:22:13",{"$f":"LEFT(tblSalaries[[#This Row],[Timestamp]],FIND(\".\",tblSalaries[[#This Row],[Timestamp]],1))","v":"41058."},400000,400000,"INR",{"$f":"tblSalaries[[#This Row],[clean Salary (in local currency)]]*VLOOKUP(tblSalaries[[#This Row],[Currency]],tblXrate[],2,FALSE)","v":7123.1666749770275},"Pmo","Manager","India",{"$f":"VLOOKUP(tblSalaries[[#This Row],[Where do you work]],tblCountries[[Actual]:[Mapping]],2,FALSE)","v":"India"},{"$f":"VLOOKUP(tblSalaries[[#This Row],[clean Country]]&\"*\",Cont_Table,2,0)","v":"Asia"},"4 to 6 hours a day",1]
[null,"ID1235","2012-05-29T02:26:28",{"$f":"LEFT(tblSalaries[[#This Row],[Timestamp]],FIND(\".\",tblSalaries[[#This Row],[Timestamp]],1))","v":"41058."},"100000 USD",100000,"USD",{"$f":"tblSalaries[[#This Row],[clean Salary (in local currency)]]*VLOOKUP(tblSalaries[[#This Row],[Currency]],tblXrate[],2,FALSE)","v":100000},"Controller","Controller","Norway",{"$f":"VLOOKUP(tblSalaries[[#This Row],[Where do you work]],tblCountries[[Actual]:[Mapping]],2,FALSE)","v":"Norway"},{"$f":"VLOOKUP(tblSalaries[[#This Row],[clean Country]]&\"*\",Cont_Table,2,0)","v":"Europe"},"4 to 6 hours a day",12]
[null,"ID1236","2012-05-29T02:43:44",{"$f":"LEFT(tblSalaries[[#This Row],[Timestamp]],FIND(\".\",tblSalaries[[#This Row],[Timestamp]],1))","v":"41058."},"62.000 euro",62000,"EUR",{"$f":"tblSalaries[[#This Row],[clean Salary (in local currency)]]*VLOOKUP(tblSalaries[[#This Row],[Currency]],tblXrate[],2,FALSE)","v":78764.765217479682},"Stafmember","Analyst","Netherlands",{"$f":"VLOOKUP(tblSalaries[[#This Row],[Where do you work]],tblCountries[[Actual]:[Mapping]],2,FALSE)","v":"Netherlands"},{"$f":"VLOOKUP(tblSalaries[[#This Row],[clean Country]]&\"*\",Cont_Table,2,0)","v":"Europe"},"4 to 6 hours a day",15]
[null,"ID1237","2012-05-29T03:16:02",{"$f":"LEFT(tblSalaries[[#This Row],[Timestamp]],FIND(\".\",tblSalaries[[#This Row],[Timestamp]],1))","v":"41058."},150000,150000,"AUD",{"$f":"tblSalaries[[#This Row],[clean Salary (in local currency)]]*VLOOKUP(tblSalaries[[#This Row],[Currency]],tblXrate[],2,FALSE)","v":152986.44846039536},"Analyst","Analyst","Australia",{"$f":"VLOOKUP(tblSalaries[[#This Row],[Where do you work]],tblCountries[[Actual]:[Mapping]],2,FALSE)","v":"Australia"},{"$f":"VLOOKUP(tblSalaries[[#This Row],[clean Country]]&\"*\",Cont_Table,2,0)","v":"Australia"},"2 to 3 hours per day",10]
[null,"ID1238","2012-05-29T03:28:37",{"$f":"LEFT(tblSalaries[[#This Row],[Timestamp]],FIND(\".\",tblSalaries[[#This Row],[Timestamp]],1))","v":"41058."},"â‚¬35,000 / â‚¬44,000",35000,"EUR",{"$f":"tblSalaries[[#This Row],[clean Salary (in local currency)]]*VLOOKUP(tblSalaries[[#This Row],[Currency]],tblXrate[],2,FALSE)","v":44463.980364706273},"Business Analyst","Analyst","Ireland",{"$f":"VLOOKUP(tblSalaries[[#This Row],[Where do you work]],tblCountries[[Actual]:[Mapping]],2,FALSE)","v":"Ireland"},{"$f":"VLOOKUP(tblSalaries[[#This Row],[clean Country]]&\"*\",Cont_Table,2,0)","v":"Europe"},"All the 8 hours baby, all the 8!",12]
[null,"ID1239","2012-05-29T03:51:09",{"$f":"LEFT(tblSalaries[[#This Row],[Timestamp]],FIND(\".\",tblSalaries[[#This Row],[Timestamp]],1))","v":"41058."},30,30000,"EUR",{"$f":"tblSalaries[[#This Row],[clean Salary (in local currency)]]*VLOOKUP(tblSalaries[[#This Row],[Currency]],tblXrate[],2,FALSE)","v":38111.983169748237},"education advisor","Consultant","the Netherlands",{"$f":"VLOOKUP(tblSalaries[[#This Row],[Where do you work]],tblCountries[[Actual]:[Mapping]],2,FALSE)","v":"Netherlands"},{"$f":"VLOOKUP(tblSalaries[[#This Row],[clean Country]]&\"*\",Cont_Table,2,0)","v":"Europe"},"1 or 2 hours a day",8]
[null,"ID1240","2012-05-29T03:51:28",{"$f":"LEFT(tblSalaries[[#This Row],[Timestamp]],FIND(\".\",tblSalaries[[#This Row],[Timestamp]],1))","v":"41058."},75000,75000,"GBP",{"$f":"tblSalaries[[#This Row],[clean Salary (in local currency)]]*VLOOKUP(tblSalaries[[#This Row],[Currency]],tblXrate[],2,FALSE)","v":118213.37040504631},"Finance Manager","Manager","UK",{"$f":"VLOOKUP(tblSalaries[[#This Row],[Where do you work]],tblCountries[[Actual]:[Mapping]],2,FALSE)","v":"UK"},{"$f":"VLOOKUP(tblSalaries[[#This Row],[clean Country]]&\"*\",Cont_Table,2,0)","v":"Europe"},"4 to 6 hours a day",20]
[null,"ID1241","2012-05-29T04:03:07",{"$f":"LEFT(tblSalaries[[#This Row],[Timestamp]],FIND(\".\",tblSalaries[[#This Row],[Timestamp]],1))","v":"41058."},25000,25000,"GBP",{"$f":"tblSalaries[[#This Row],[clean Salary (in local currency)]]*VLOOKUP(tblSalaries[[#This Row],[Currency]],tblXrate[],2,FALSE)","v":39404.456801682099},"Senior Accounts Clerk","Accountant","UK",{"$f":"VLOOKUP(tblSalaries[[#This Row],[Where do you work]],tblCountries[[Actual]:[Mapping]],2,FALSE)","v":"UK"},{"$f":"VLOOKUP(tblSalaries[[#This Row],[clean Country]]&\"*\",Cont_Table,2,0)","v":"Europe"},"2 to 3 hours per day",10]
[null,"ID1242","2012-05-29T04:08:45",{"$f":"LEFT(tblSalaries[[#This Row],[Timestamp]],FIND(\".\",tblSalaries[[#This Row],[Timestamp]],1))","v":"41058."},71000,71000,"EUR",{"$f":"tblSalaries[[#This Row],[clean Salary (in local currency)]]*VLOOKUP(tblSalaries[[#This Row],[Currency]],tblXrate[],2,FALSE)","v":90198.36016840415},"Consultant","Consultant","Germany",{"$f":"VLOOKUP(tblSalaries[[#This Row],[Where do you work]],tblCountries[[Actual]:[Mapping]],2,FALSE)","v":"Germany"},{"$f":"VLOOKUP(tblSalaries[[#This Row],[clean Country]]&\"*\",Cont_Table,2,0)","v":"Europe"},"1 or 2 hours a day",3]
[null,"ID1243","2012-05-29T04:11:58",{"$f":"LEFT(tblSalaries[[#This Row],[Timestamp]],FIND(\".\",tblSalaries[[#This Row],[Timestamp]],1))","v":"41058."},"Â£30000",30000,"GBP",{"$f":"tblSalaries[[#This Row],[clean Salary (in local currency)]]*VLOOKUP(tblSalaries[[#This Row],[Currency]],tblXrate[],2,FALSE)","v":47285.348162018527},"Infection Prevention Surveillance Specialist","Specialist","UK",{"$f":"VLOOKUP(tblSalaries[[#This Row],[Where do you work]],tblCountries[[Actual]:[Mapping]],2,FALSE)","v":"UK"},{"$f":"VLOOKUP(tblSalaries[[#This Row],[clean Country]]&\"*\",Cont_Table,2,0)","v":"Europe"},"4 to 6 hours a day",14]
[null,"ID1244","2012-05-29T04:25:02",{"$f":"LEFT(tblSalaries[[#This Row],[Timestamp]],FIND(\".\",tblSalaries[[#This Row],[Timestamp]],1))","v":"41058."},56000,56000,"USD",{"$f":"tblSalaries[[#This Row],[clean Salary (in local currency)]]*VLOOKUP(tblSalaries[[#This Row],[Currency]],tblXrate[],2,FALSE)","v":56000},"Accountant","Accountant","USA",{"$f":"VLOOKUP(tblSalaries[[#This Row],[Where do you work]],tblCountries[[Actual]:[Mapping]],2,FALSE)","v":"USA"},{"$f":"VLOOKUP(tblSalaries[[#This Row],[clean Country]]&\"*\",Cont_Table,2,0)","v":"North America"},"4 to 6 hours a day",1]
[null,"ID1245","2012-05-29T04:30:10",{"$f":"LEFT(tblSalaries[[#This Row],[Timestamp]],FIND(\".\",tblSalaries[[#This Row],[Timestamp]],1))","v":"41058."},"IDR 4000000",48000000,"IDR",{"$f":"tblSalaries[[#This Row],[clean Salary (in local currency)]]*VLOOKUP(tblSalaries[[#This Row],[Currency]],tblXrate[],2,FALSE)","v":5082.6943786459069},"Office Instructor","Analyst","Indonesia",{"$f":"VLOOKUP(tblSalaries[[#This Row],[Where do you work]],tblCountries[[Actual]:[Mapping]],2,FALSE)","v":"Indonesia"},{"$f":"VLOOKUP(tblSalaries[[#This Row],[clean Country]]&\"*\",Cont_Table,2,0)","v":"Asia"},"1 or 2 hours a day",2]
[null,"ID1246","2012-05-29T04:33:37",{"$f":"LEFT(tblSalaries[[#This Row],[Timestamp]],FIND(\".\",tblSalaries[[#This Row],[Timestamp]],1))","v":"41058."},"GBP 34000",34000,"GBP",{"$f":"tblSalaries[[#This Row],[clean Salary (in local currency)]]*VLOOKUP(tblSalaries[[#This Row],[Currency]],tblXrate[],2,FALSE)","v":53590.061250287661},"Investment Accountant","Accountant","UK",{"$f":"VLOOKUP(tblSalaries[[#This Row],[Where do you work]],tblCountries[[Actual]:[Mapping]],2,FALSE)","v":"UK"},{"$f":"VLOOKUP(tblSalaries[[#This Row],[clean Country]]&\"*\",Cont_Table,2,0)","v":"Europe"},"All the 8 hours baby, all the 8!",10]
[null,"ID1247","2012-05-29T05:03:26",{"$f":"LEFT(tblSalaries[[#This Row],[Timestamp]],FIND(\".\",tblSalaries[[#This Row],[Timestamp]],1))","v":"41058."},"dkk 450000",450000,"DKK",{"$f":"tblSalaries[[#This Row],[clean Salary (in local currency)]]*VLOOKUP(tblSalaries[[#This Row],[Currency]],tblXrate[],2,FALSE)","v":76906.906752939132},"owner","CXO or Top Mgmt.","Denmark",{"$f":"VLOOKUP(tblSalaries[[#This Row],[Where do you work]],tblCountries[[Actual]:[Mapping]],2,FALSE)","v":"Denmark"},{"$f":"VLOOKUP(tblSalaries[[#This Row],[clean Country]]&\"*\",Cont_Table,2,0)","v":"Europe"},"All the 8 hours baby, all the 8!",17]
[null,"ID1248","2012-05-29T05:08:57",{"$f":"LEFT(tblSalaries[[#This Row],[Timestamp]],FIND(\".\",tblSalaries[[#This Row],[Timestamp]],1))","v":"41058."},"85000 USD",85000,"USD",{"$f":"tblSalaries[[#This Row],[clean Salary (in local currency)]]*VLOOKUP(tblSalaries[[#This Row],[Currency]],tblXrate[],2,FALSE)","v":85000},"Senior Executive Compensation Analyst ","Analyst","USA",{"$f":"VLOOKUP(tblSalaries[[#This Row],[Where do you work]],tblCountries[[Actual]:[Mapping]],2,FALSE)","v":"USA"},{"$f":"VLOOKUP(tblSalaries[[#This Row],[clean Country]]&\"*\",Cont_Table,2,0)","v":"North America"},"4 to 6 hours a day",5]
[null,"ID1249","2012-05-29T05:11:03",{"$f":"LEFT(tblSalaries[[#This Row],[Timestamp]],FIND(\".\",tblSalaries[[#This Row],[Timestamp]],1))","v":"41058."},"USD72000",72000,"USD",{"$f":"tblSalaries[[#This Row],[clean Salary (in local currency)]]*VLOOKUP(tblSalaries[[#This Row],[Currency]],tblXrate[],2,FALSE)","v":72000},"Markets Adviser","Consultant","New Zealand",{"$f":"VLOOKUP(tblSalaries[[#This Row],[Where do you work]],tblCountries[[Actual]:[Mapping]],2,FALSE)","v":"New Zealand"},{"$f":"VLOOKUP(tblSalaries[[#This Row],[clean Country]]&\"*\",Cont_Table,2,0)","v":"Australia"},"2 to 3 hours per day",10]
[null,"ID1250","2012-05-29T05:21:39",{"$f":"LEFT(tblSalaries[[#This Row],[Timestamp]],FIND(\".\",tblSalaries[[#This Row],[Timestamp]],1))","v":"41058."},55000,55000,"USD",{"$f":"tblSalaries[[#This Row],[clean Salary (in local currency)]]*VLOOKUP(tblSalaries[[#This Row],[Currency]],tblXrate[],2,FALSE)","v":55000},"Systems Analyst","Analyst","USA",{"$f":"VLOOKUP(tblSalaries[[#This Row],[Where do you work]],tblCountries[[Actual]:[Mapping]],2,FALSE)","v":"USA"},{"$f":"VLOOKUP(tblSalaries[[#This Row],[clean Country]]&\"*\",Cont_Table,2,0)","v":"North America"},"1 or 2 hours a day",7]
[null,"ID1251","2012-05-29T05:47:34",{"$f":"LEFT(tblSalaries[[#This Row],[Timestamp]],FIND(\".\",tblSalaries[[#This Row],[Timestamp]],1))","v":"41058."},"GBP 43,000",43000,"GBP",{"$f":"tblSalaries[[#This Row],[clean Salary (in local currency)]]*VLOOKUP(tblSalaries[[#This Row],[Currency]],tblXrate[],2,FALSE)","v":67775.665698893223},"Financial Controller","Controller","UK",{"$f":"VLOOKUP(tblSalaries[[#This Row],[Where do you work]],tblCountries[[Actual]:[Mapping]],2,FALSE)","v":"UK"},{"$f":"VLOOKUP(tblSalaries[[#This Row],[clean Country]]&\"*\",Cont_Table,2,0)","v":"Europe"},"4 to 6 hours a day",25]
[null,"ID1252","2012-05-29T05:53:42",{"$f":"LEFT(tblSalaries[[#This Row],[Timestamp]],FIND(\".\",tblSalaries[[#This Row],[Timestamp]],1))","v":"41058."},"Â£25750",25750,"GBP",{"$f":"tblSalaries[[#This Row],[clean Salary (in local currency)]]*VLOOKUP(tblSalaries[[#This Row],[Currency]],tblXrate[],2,FALSE)","v":40586.590505732565},"Energy Analyst","Analyst","UK",{"$f":"VLOOKUP(tblSalaries[[#This Row],[Where do you work]],tblCountries[[Actual]:[Mapping]],2,FALSE)","v":"UK"},{"$f":"VLOOKUP(tblSalaries[[#This Row],[clean Country]]&\"*\",Cont_Table,2,0)","v":"Europe"},"4 to 6 hours a day",1]
[null,"ID1253","2012-05-29T06:08:12",{"$f":"LEFT(tblSalaries[[#This Row],[Timestamp]],FIND(\".\",tblSalaries[[#This Row],[Timestamp]],1))","v":"41058."},50846,50846,"USD",{"$f":"tblSalaries[[#This Row],[clean Salary (in local currency)]]*VLOOKUP(tblSalaries[[#This Row],[Currency]],tblXrate[],2,FALSE)","v":50846},"Program & Policy Analyst-Advanced","Analyst","USA",{"$f":"VLOOKUP(tblSalaries[[#This Row],[Where do you work]],tblCountries[[Actual]:[Mapping]],2,FALSE)","v":"USA"},{"$f":"VLOOKUP(tblSalaries[[#This Row],[clean Country]]&\"*\",Cont_Table,2,0)","v":"North America"},"4 to 6 hours a day",25]
[null,"ID1254","2012-05-29T06:24:36",{"$f":"LEFT(tblSalaries[[#This Row],[Timestamp]],FIND(\".\",tblSalaries[[#This Row],[Timestamp]],1))","v":"41058."},63000,63000,"USD",{"$f":"tblSalaries[[#This Row],[clean Salary (in local currency)]]*VLOOKUP(tblSalaries[[#This Row],[Currency]],tblXrate[],2,FALSE)","v":63000},"Senior Staff Accountant","Accountant","USA",{"$f":"VLOOKUP(tblSalaries[[#This Row],[Where do you work]],tblCountries[[Actual]:[Mapping]],2,FALSE)","v":"USA"},{"$f":"VLOOKUP(tblSalaries[[#This Row],[clean Country]]&\"*\",Cont_Table,2,0)","v":"North America"},"All the 8 hours baby, all the 8!",16]
[null,"ID1255","2012-05-29T06:26:05",{"$f":"LEFT(tblSalaries[[#This Row],[Timestamp]],FIND(\".\",tblSalaries[[#This Row],[Timestamp]],1))","v":"41058."},80000,80000,"AUD",{"$f":"tblSalaries[[#This Row],[clean Salary (in local currency)]]*VLOOKUP(tblSalaries[[#This Row],[Currency]],tblXrate[],2,FALSE)","v":81592.772512210868},"systems accountant","Accountant","Australia",{"$f":"VLOOKUP(tblSalaries[[#This Row],[Where do you work]],tblCountries[[Actual]:[Mapping]],2,FALSE)","v":"Australia"},{"$f":"VLOOKUP(tblSalaries[[#This Row],[clean Country]]&\"*\",Cont_Table,2,0)","v":"Australia"},"4 to 6 hours a day",5]
[null,"ID1256","2012-05-29T07:21:41",{"$f":"LEFT(tblSalaries[[#This Row],[Timestamp]],FIND(\".\",tblSalaries[[#This Row],[Timestamp]],1))","v":"41058."},50700,50700,"USD",{"$f":"tblSalaries[[#This Row],[clean Salary (in local currency)]]*VLOOKUP(tblSalaries[[#This Row],[Currency]],tblXrate[],2,FALSE)","v":50700},"Sr. Systems Analyst","Analyst","Brazil",{"$f":"VLOOKUP(tblSalaries[[#This Row],[Where do you work]],tblCountries[[Actual]:[Mapping]],2,FALSE)","v":"Brazil"},{"$f":"VLOOKUP(tblSalaries[[#This Row],[clean Country]]&\"*\",Cont_Table,2,0)","v":"South America"},"1 or 2 hours a day",15]
[null,"ID1257","2012-05-29T07:28:41",{"$f":"LEFT(tblSalaries[[#This Row],[Timestamp]],FIND(\".\",tblSalaries[[#This Row],[Timestamp]],1))","v":"41058."},20000,20000,"GBP",{"$f":"tblSalaries[[#This Row],[clean Salary (in local currency)]]*VLOOKUP(tblSalaries[[#This Row],[Currency]],tblXrate[],2,FALSE)","v":31523.565441345683},"Environmental Information Analyst","Analyst","UK",{"$f":"VLOOKUP(tblSalaries[[#This Row],[Where do you work]],tblCountries[[Actual]:[Mapping]],2,FALSE)","v":"UK"},{"$f":"VLOOKUP(tblSalaries[[#This Row],[clean Country]]&\"*\",Cont_Table,2,0)","v":"Europe"},"4 to 6 hours a day",1]
[null,"ID1258","2012-05-29T07:46:56",{"$f":"LEFT(tblSalaries[[#This Row],[Timestamp]],FIND(\".\",tblSalaries[[#This Row],[Timestamp]],1))","v":"41058."},70000,70000,"USD",{"$f":"tblSalaries[[#This Row],[clean Salary (in local currency)]]*VLOOKUP(tblSalaries[[#This Row],[Currency]],tblXrate[],2,FALSE)","v":70000},"Develope","Analyst","USA",{"$f":"VLOOKUP(tblSalaries[[#This Row],[Where do you work]],tblCountries[[Actual]:[Mapping]],2,FALSE)","v":"USA"},{"$f":"VLOOKUP(tblSalaries[[#This Row],[clean Country]]&\"*\",Cont_Table,2,0)","v":"North America"},"1 or 2 hours a day",6]
[null,"ID1259","2012-05-29T07:52:56",{"$f":"LEFT(tblSalaries[[#This Row],[Timestamp]],FIND(\".\",tblSalaries[[#This Row],[Timestamp]],1))","v":"41058."},65000,65000,"CAD",{"$f":"tblSalaries[[#This Row],[clean Salary (in local currency)]]*VLOOKUP(tblSalaries[[#This Row],[Currency]],tblXrate[],2,FALSE)","v":63918.498996971248},"it manager","Manager","Canada",{"$f":"VLOOKUP(tblSalaries[[#This Row],[Where do you work]],tblCountries[[Actual]:[Mapping]],2,FALSE)","v":"Canada"},{"$f":"VLOOKUP(tblSalaries[[#This Row],[clean Country]]&\"*\",Cont_Table,2,0)","v":"North America"},"2 to 3 hours per day",15]
[null,"ID1260","2012-05-29T07:57:04",{"$f":"LEFT(tblSalaries[[#This Row],[Timestamp]],FIND(\".\",tblSalaries[[#This Row],[Timestamp]],1))","v":"41058."},800000,9600000,"MONGOLIAN",{"$f":"tblSalaries[[#This Row],[clean Salary (in local currency)]]*VLOOKUP(tblSalaries[[#This Row],[Currency]],tblXrate[],2,FALSE)","v":7261.724659606657},"Analyst","Analyst","Mongolia",{"$f":"VLOOKUP(tblSalaries[[#This Row],[Where do you work]],tblCountries[[Actual]:[Mapping]],2,FALSE)","v":"Mongolia"},{"$f":"VLOOKUP(tblSalaries[[#This Row],[clean Country]]&\"*\",Cont_Table,2,0)","v":"Asia"},"All the 8 hours baby, all the 8!",2]
[null,"ID1261","2012-05-29T08:13:06",{"$f":"LEFT(tblSalaries[[#This Row],[Timestamp]],FIND(\".\",tblSalaries[[#This Row],[Timestamp]],1))","v":"41058."},"RM3000",36000,"MYR",{"$f":"tblSalaries[[#This Row],[clean Salary (in local currency)]]*VLOOKUP(tblSalaries[[#This Row],[Currency]],tblXrate[],2,FALSE)","v":11404.820437438224},"Process Engineering","Engineer","Malaysia",{"$f":"VLOOKUP(tblSalaries[[#This Row],[Where do you work]],tblCountries[[Actual]:[Mapping]],2,FALSE)","v":"malaysia"},{"$f":"VLOOKUP(tblSalaries[[#This Row],[clean Country]]&\"*\",Cont_Table,2,0)","v":"Asia"},"4 to 6 hours a day",2]
[null,"ID1262","2012-05-29T08:25:51",{"$f":"LEFT(tblSalaries[[#This Row],[Timestamp]],FIND(\".\",tblSalaries[[#This Row],[Timestamp]],1))","v":"41058."},"120,000  US$",120000,"USD",{"$f":"tblSalaries[[#This Row],[clean Salary (in local currency)]]*VLOOKUP(tblSalaries[[#This Row],[Currency]],tblXrate[],2,FALSE)","v":120000},"Consultant - Process Improvement","Consultant","Singapore",{"$f":"VLOOKUP(tblSalaries[[#This Row],[Where do you work]],tblCountries[[Actual]:[Mapping]],2,FALSE)","v":"Singapore"},{"$f":"VLOOKUP(tblSalaries[[#This Row],[clean Country]]&\"*\",Cont_Table,2,0)","v":"Asia"},"1 or 2 hours a day",5]
[null,"ID1263","2012-05-29T08:41:02",{"$f":"LEFT(tblSalaries[[#This Row],[Timestamp]],FIND(\".\",tblSalaries[[#This Row],[Timestamp]],1))","v":"41058."},90000,90000,"AUD",{"$f":"tblSalaries[[#This Row],[clean Salary (in local currency)]]*VLOOKUP(tblSalaries[[#This Row],[Currency]],tblXrate[],2,FALSE)","v":91791.869076237213},"Business Analyst","Analyst","Australia",{"$f":"VLOOKUP(tblSalaries[[#This Row],[Where do you work]],tblCountries[[Actual]:[Mapping]],2,FALSE)","v":"Australia"},{"$f":"VLOOKUP(tblSalaries[[#This Row],[clean Country]]&\"*\",Cont_Table,2,0)","v":"Australia"},"4 to 6 hours a day",5]
[null,"ID1264","2012-05-29T08:41:14",{"$f":"LEFT(tblSalaries[[#This Row],[Timestamp]],FIND(\".\",tblSalaries[[#This Row],[Timestamp]],1))","v":"41058."},110000,110000,"AUD",{"$f":"tblSalaries[[#This Row],[clean Salary (in local currency)]]*VLOOKUP(tblSalaries[[#This Row],[Currency]],tblXrate[],2,FALSE)","v":112190.06220428993},"Analyst","Analyst","Australia",{"$f":"VLOOKUP(tblSalaries[[#This Row],[Where do you work]],tblCountries[[Actual]:[Mapping]],2,FALSE)","v":"Australia"},{"$f":"VLOOKUP(tblSalaries[[#This Row],[clean Country]]&\"*\",Cont_Table,2,0)","v":"Australia"},"2 to 3 hours per day",7]
[null,"ID1265","2012-05-29T08:47:48",{"$f":"LEFT(tblSalaries[[#This Row],[Timestamp]],FIND(\".\",tblSalaries[[#This Row],[Timestamp]],1))","v":"41058."},40000,40000,"USD",{"$f":"tblSalaries[[#This Row],[clean Salary (in local currency)]]*VLOOKUP(tblSalaries[[#This Row],[Currency]],tblXrate[],2,FALSE)","v":40000},"Senior Materials Handler","Manager","USA",{"$f":"VLOOKUP(tblSalaries[[#This Row],[Where do you work]],tblCountries[[Actual]:[Mapping]],2,FALSE)","v":"USA"},{"$f":"VLOOKUP(tblSalaries[[#This Row],[clean Country]]&\"*\",Cont_Table,2,0)","v":"North America"},"2 to 3 hours per day",18]
[null,"ID1266","2012-05-29T08:59:41",{"$f":"LEFT(tblSalaries[[#This Row],[Timestamp]],FIND(\".\",tblSalaries[[#This Row],[Timestamp]],1))","v":"41058."},107000,107000,"USD",{"$f":"tblSalaries[[#This Row],[clean Salary (in local currency)]]*VLOOKUP(tblSalaries[[#This Row],[Currency]],tblXrate[],2,FALSE)","v":107000},"Certified Public Accountant","Accountant","USA",{"$f":"VLOOKUP(tblSalaries[[#This Row],[Where do you work]],tblCountries[[Actual]:[Mapping]],2,FALSE)","v":"USA"},{"$f":"VLOOKUP(tblSalaries[[#This Row],[clean Country]]&\"*\",Cont_Table,2,0)","v":"North America"},"4 to 6 hours a day",12]
[null,"ID1267","2012-05-29T09:15:09",{"$f":"LEFT(tblSalaries[[#This Row],[Timestamp]],FIND(\".\",tblSalaries[[#This Row],[Timestamp]],1))","v":"41058."},82000,82000,"USD",{"$f":"tblSalaries[[#This Row],[clean Salary (in local currency)]]*VLOOKUP(tblSalaries[[#This Row],[Currency]],tblXrate[],2,FALSE)","v":82000},"Manager - Marketing Analytics","Manager","USA",{"$f":"VLOOKUP(tblSalaries[[#This Row],[Where do you work]],tblCountries[[Actual]:[Mapping]],2,FALSE)","v":"USA"},{"$f":"VLOOKUP(tblSalaries[[#This Row],[clean Country]]&\"*\",Cont_Table,2,0)","v":"North America"},"4 to 6 hours a day",10]
[null,"ID1268","2012-05-29T09:25:31",{"$f":"LEFT(tblSalaries[[#This Row],[Timestamp]],FIND(\".\",tblSalaries[[#This Row],[Timestamp]],1))","v":"41058."},100000,100000,"AUD",{"$f":"tblSalaries[[#This Row],[clean Salary (in local currency)]]*VLOOKUP(tblSalaries[[#This Row],[Currency]],tblXrate[],2,FALSE)","v":101990.96564026357},"Contractor/Consultant","Consultant","Australia",{"$f":"VLOOKUP(tblSalaries[[#This Row],[Where do you work]],tblCountries[[Actual]:[Mapping]],2,FALSE)","v":"Australia"},{"$f":"VLOOKUP(tblSalaries[[#This Row],[clean Country]]&\"*\",Cont_Table,2,0)","v":"Australia"},"4 to 6 hours a day",15]
[null,"ID1270","2012-05-29T09:37:40",{"$f":"LEFT(tblSalaries[[#This Row],[Timestamp]],FIND(\".\",tblSalaries[[#This Row],[Timestamp]],1))","v":"41058."},"AUD $43000",43000,"USD",{"$f":"tblSalaries[[#This Row],[clean Salary (in local currency)]]*VLOOKUP(tblSalaries[[#This Row],[Currency]],tblXrate[],2,FALSE)","v":43000},"Operations Support Officer","Manager","Australia",{"$f":"VLOOKUP(tblSalaries[[#This Row],[Where do you work]],tblCountries[[Actual]:[Mapping]],2,FALSE)","v":"Australia"},{"$f":"VLOOKUP(tblSalaries[[#This Row],[clean Country]]&\"*\",Cont_Table,2,0)","v":"Australia"},"2 to 3 hours per day",4]
[null,"ID1271","2012-05-29T09:38:14",{"$f":"LEFT(tblSalaries[[#This Row],[Timestamp]],FIND(\".\",tblSalaries[[#This Row],[Timestamp]],1))","v":"41058."},69000,69000,"USD",{"$f":"tblSalaries[[#This Row],[clean Salary (in local currency)]]*VLOOKUP(tblSalaries[[#This Row],[Currency]],tblXrate[],2,FALSE)","v":69000},"master scheduler","Controller","USA",{"$f":"VLOOKUP(tblSalaries[[#This Row],[Where do you work]],tblCountries[[Actual]:[Mapping]],2,FALSE)","v":"USA"},{"$f":"VLOOKUP(tblSalaries[[#This Row],[clean Country]]&\"*\",Cont_Table,2,0)","v":"North America"},"4 to 6 hours a day",20]
[null,"ID1273","2012-05-29T09:47:47",{"$f":"LEFT(tblSalaries[[#This Row],[Timestamp]],FIND(\".\",tblSalaries[[#This Row],[Timestamp]],1))","v":"41058."},30000,30000,"USD",{"$f":"tblSalaries[[#This Row],[clean Salary (in local currency)]]*VLOOKUP(tblSalaries[[#This Row],[Currency]],tblXrate[],2,FALSE)","v":30000},"Practice Manager - Business Operations","Manager","India",{"$f":"VLOOKUP(tblSalaries[[#This Row],[Where do you work]],tblCountries[[Actual]:[Mapping]],2,FALSE)","v":"India"},{"$f":"VLOOKUP(tblSalaries[[#This Row],[clean Country]]&\"*\",Cont_Table,2,0)","v":"Asia"},"2 to 3 hours per day",3]
[null,"ID1274","2012-05-29T09:52:02",{"$f":"LEFT(tblSalaries[[#This Row],[Timestamp]],FIND(\".\",tblSalaries[[#This Row],[Timestamp]],1))","v":"41058."},"48000 $AUD",48000,"AUD",{"$f":"tblSalaries[[#This Row],[clean Salary (in local currency)]]*VLOOKUP(tblSalaries[[#This Row],[Currency]],tblXrate[],2,FALSE)","v":48955.663507326513},"Research Assistant","Analyst","Australia",{"$f":"VLOOKUP(tblSalaries[[#This Row],[Where do you work]],tblCountries[[Actual]:[Mapping]],2,FALSE)","v":"Australia"},{"$f":"VLOOKUP(tblSalaries[[#This Row],[clean Country]]&\"*\",Cont_Table,2,0)","v":"Australia"},"1 or 2 hours a day",2]
[null,"ID1275","2012-05-29T10:08:21",{"$f":"LEFT(tblSalaries[[#This Row],[Timestamp]],FIND(\".\",tblSalaries[[#This Row],[Timestamp]],1))","v":"41058."},70000,70000,"USD",{"$f":"tblSalaries[[#This Row],[clean Salary (in local currency)]]*VLOOKUP(tblSalaries[[#This Row],[Currency]],tblXrate[],2,FALSE)","v":70000},"Project Manager","Manager","USA",{"$f":"VLOOKUP(tblSalaries[[#This Row],[Where do you work]],tblCountries[[Actual]:[Mapping]],2,FALSE)","v":"USA"},{"$f":"VLOOKUP(tblSalaries[[#This Row],[clean Country]]&\"*\",Cont_Table,2,0)","v":"North America"},"4 to 6 hours a day",8]
[null,"ID1276","2012-05-29T10:09:37",{"$f":"LEFT(tblSalaries[[#This Row],[Timestamp]],FIND(\".\",tblSalaries[[#This Row],[Timestamp]],1))","v":"41058."},45000,45000,"USD",{"$f":"tblSalaries[[#This Row],[clean Salary (in local currency)]]*VLOOKUP(tblSalaries[[#This Row],[Currency]],tblXrate[],2,FALSE)","v":45000},"Staff Assistant","Analyst","USA",{"$f":"VLOOKUP(tblSalaries[[#This Row],[Where do you work]],tblCountries[[Actual]:[Mapping]],2,FALSE)","v":"USA"},{"$f":"VLOOKUP(tblSalaries[[#This Row],[clean Country]]&\"*\",Cont_Table,2,0)","v":"North America"},"4 to 6 hours a day",7]
[null,"ID1277","2012-05-29T10:11:28",{"$f":"LEFT(tblSalaries[[#This Row],[Timestamp]],FIND(\".\",tblSalaries[[#This Row],[Timestamp]],1))","v":"41058."},35000,35000,"USD",{"$f":"tblSalaries[[#This Row],[clean Salary (in local currency)]]*VLOOKUP(tblSalaries[[#This Row],[Currency]],tblXrate[],2,FALSE)","v":35000},"AVP Securitisation","CXO or Top Mgmt.","Malaysia",{"$f":"VLOOKUP(tblSalaries[[#This Row],[Where do you work]],tblCountries[[Actual]:[Mapping]],2,FALSE)","v":"malaysia"},{"$f":"VLOOKUP(tblSalaries[[#This Row],[clean Country]]&\"*\",Cont_Table,2,0)","v":"Asia"},"All the 8 hours baby, all the 8!",12]
[null,"ID1278","2012-05-29T10:43:49",{"$f":"LEFT(tblSalaries[[#This Row],[Timestamp]],FIND(\".\",tblSalaries[[#This Row],[Timestamp]],1))","v":"41058."},500000,500000,"INR",{"$f":"tblSalaries[[#This Row],[clean Salary (in local currency)]]*VLOOKUP(tblSalaries[[#This Row],[Currency]],tblXrate[],2,FALSE)","v":8903.9583437212841},"Asstt. Manager","Manager","India",{"$f":"VLOOKUP(tblSalaries[[#This Row],[Where do you work]],tblCountries[[Actual]:[Mapping]],2,FALSE)","v":"India"},{"$f":"VLOOKUP(tblSalaries[[#This Row],[clean Country]]&\"*\",Cont_Table,2,0)","v":"Asia"},"2 to 3 hours per day",29]
[null,"ID1279","2012-05-29T10:45:46",{"$f":"LEFT(tblSalaries[[#This Row],[Timestamp]],FIND(\".\",tblSalaries[[#This Row],[Timestamp]],1))","v":"41058."},"MYR89500",89500,"MYR",{"$f":"tblSalaries[[#This Row],[clean Salary (in local currency)]]*VLOOKUP(tblSalaries[[#This Row],[Currency]],tblXrate[],2,FALSE)","v":28353.650809742252},"Manager","Manager","Malaysia",{"$f":"VLOOKUP(tblSalaries[[#This Row],[Where do you work]],tblCountries[[Actual]:[Mapping]],2,FALSE)","v":"malaysia"},{"$f":"VLOOKUP(tblSalaries[[#This Row],[clean Country]]&\"*\",Cont_Table,2,0)","v":"Asia"},"2 to 3 hours per day",20]
[null,"ID1280","2012-05-29T10:48:33",{"$f":"LEFT(tblSalaries[[#This Row],[Timestamp]],FIND(\".\",tblSalaries[[#This Row],[Timestamp]],1))","v":"41058."},"USD 11800 (INR 650000)",11800,"USD",{"$f":"tblSalaries[[#This Row],[clean Salary (in local currency)]]*VLOOKUP(tblSalaries[[#This Row],[Currency]],tblXrate[],2,FALSE)","v":11800},"Assistant Data Analyst","Analyst","India",{"$f":"VLOOKUP(tblSalaries[[#This Row],[Where do you work]],tblCountries[[Actual]:[Mapping]],2,FALSE)","v":"India"},{"$f":"VLOOKUP(tblSalaries[[#This Row],[clean Country]]&\"*\",Cont_Table,2,0)","v":"Asia"},"4 to 6 hours a day",10]
[null,"ID1281","2012-05-29T10:51:02",{"$f":"LEFT(tblSalaries[[#This Row],[Timestamp]],FIND(\".\",tblSalaries[[#This Row],[Timestamp]],1))","v":"41058."},"Rs.3.6 Lakhs pa",360000,"INR",{"$f":"tblSalaries[[#This Row],[clean Salary (in local currency)]]*VLOOKUP(tblSalaries[[#This Row],[Currency]],tblXrate[],2,FALSE)","v":6410.8500074793246},"Team Leader WFM","Manager","India",{"$f":"VLOOKUP(tblSalaries[[#This Row],[Where do you work]],tblCountries[[Actual]:[Mapping]],2,FALSE)","v":"India"},{"$f":"VLOOKUP(tblSalaries[[#This Row],[clean Country]]&\"*\",Cont_Table,2,0)","v":"Asia"},"All the 8 hours baby, all the 8!",6]
[null,"ID1282","2012-05-29T10:51:31",{"$f":"LEFT(tblSalaries[[#This Row],[Timestamp]],FIND(\".\",tblSalaries[[#This Row],[Timestamp]],1))","v":"41058."},50000,50000,"USD",{"$f":"tblSalaries[[#This Row],[clean Salary (in local currency)]]*VLOOKUP(tblSalaries[[#This Row],[Currency]],tblXrate[],2,FALSE)","v":50000},"Data Analyst","Analyst","USA",{"$f":"VLOOKUP(tblSalaries[[#This Row],[Where do you work]],tblCountries[[Actual]:[Mapping]],2,FALSE)","v":"USA"},{"$f":"VLOOKUP(tblSalaries[[#This Row],[clean Country]]&\"*\",Cont_Table,2,0)","v":"North America"},"4 to 6 hours a day",3]
[null,"ID1283","2012-05-29T11:00:32",{"$f":"LEFT(tblSalaries[[#This Row],[Timestamp]],FIND(\".\",tblSalaries[[#This Row],[Timestamp]],1))","v":"41058."},85000,85000,"USD",{"$f":"tblSalaries[[#This Row],[clean Salary (in local currency)]]*VLOOKUP(tblSalaries[[#This Row],[Currency]],tblXrate[],2,FALSE)","v":85000},"manager operation","Manager","srilanka",{"$f":"VLOOKUP(tblSalaries[[#This Row],[Where do you work]],tblCountries[[Actual]:[Mapping]],2,FALSE)","v":"Sri Lanka"},{"$f":"VLOOKUP(tblSalaries[[#This Row],[clean Country]]&\"*\",Cont_Table,2,0)","v":"Asia"},"All the 8 hours baby, all the 8!",10]
[null,"ID1284","2012-05-29T11:35:53",{"$f":"LEFT(tblSalaries[[#This Row],[Timestamp]],FIND(\".\",tblSalaries[[#This Row],[Timestamp]],1))","v":"41058."},"Indian Rs 10 Lakhs",1000000,"INR",{"$f":"tblSalaries[[#This Row],[clean Salary (in local currency)]]*VLOOKUP(tblSalaries[[#This Row],[Currency]],tblXrate[],2,FALSE)","v":17807.916687442568},"Manager","Manager","India",{"$f":"VLOOKUP(tblSalaries[[#This Row],[Where do you work]],tblCountries[[Actual]:[Mapping]],2,FALSE)","v":"India"},{"$f":"VLOOKUP(tblSalaries[[#This Row],[clean Country]]&\"*\",Cont_Table,2,0)","v":"Asia"},"2 to 3 hours per day",10]
[null,"ID1285","2012-05-29T11:46:47",{"$f":"LEFT(tblSalaries[[#This Row],[Timestamp]],FIND(\".\",tblSalaries[[#This Row],[Timestamp]],1))","v":"41058."},"INR 900000",900000,"INR",{"$f":"tblSalaries[[#This Row],[clean Salary (in local currency)]]*VLOOKUP(tblSalaries[[#This Row],[Currency]],tblXrate[],2,FALSE)","v":16027.125018698311},"RENTAL INVENTORY CONTROLLER","Controller","India",{"$f":"VLOOKUP(tblSalaries[[#This Row],[Where do you work]],tblCountries[[Actual]:[Mapping]],2,FALSE)","v":"India"},{"$f":"VLOOKUP(tblSalaries[[#This Row],[clean Country]]&\"*\",Cont_Table,2,0)","v":"Asia"},"All the 8 hours baby, all the 8!",8]
[null,"ID1286","2012-05-29T11:51:35",{"$f":"LEFT(tblSalaries[[#This Row],[Timestamp]],FIND(\".\",tblSalaries[[#This Row],[Timestamp]],1))","v":"41058."},192000,192000,"USD",{"$f":"tblSalaries[[#This Row],[clean Salary (in local currency)]]*VLOOKUP(tblSalaries[[#This Row],[Currency]],tblXrate[],2,FALSE)","v":192000},"Publisher","CXO or Top Mgmt.","USA",{"$f":"VLOOKUP(tblSalaries[[#This Row],[Where do you work]],tblCountries[[Actual]:[Mapping]],2,FALSE)","v":"USA"},{"$f":"VLOOKUP(tblSalaries[[#This Row],[clean Country]]&\"*\",Cont_Table,2,0)","v":"North America"},"All the 8 hours baby, all the 8!",27]
[null,"ID1287","2012-05-29T12:14:02",{"$f":"LEFT(tblSalaries[[#This Row],[Timestamp]],FIND(\".\",tblSalaries[[#This Row],[Timestamp]],1))","v":"41058."},54000,54000,"USD",{"$f":"tblSalaries[[#This Row],[clean Salary (in local currency)]]*VLOOKUP(tblSalaries[[#This Row],[Currency]],tblXrate[],2,FALSE)","v":54000},"Resource Planning Analyst","Analyst","USA",{"$f":"VLOOKUP(tblSalaries[[#This Row],[Where do you work]],tblCountries[[Actual]:[Mapping]],2,FALSE)","v":"USA"},{"$f":"VLOOKUP(tblSalaries[[#This Row],[clean Country]]&\"*\",Cont_Table,2,0)","v":"North America"},"All the 8 hours baby, all the 8!",6]
[null,"ID1288","2012-05-29T12:17:07",{"$f":"LEFT(tblSalaries[[#This Row],[Timestamp]],FIND(\".\",tblSalaries[[#This Row],[Timestamp]],1))","v":"41058."},18000,18000,"USD",{"$f":"tblSalaries[[#This Row],[clean Salary (in local currency)]]*VLOOKUP(tblSalaries[[#This Row],[Currency]],tblXrate[],2,FALSE)","v":18000},"Manager","Manager","India",{"$f":"VLOOKUP(tblSalaries[[#This Row],[Where do you work]],tblCountries[[Actual]:[Mapping]],2,FALSE)","v":"India"},{"$f":"VLOOKUP(tblSalaries[[#This Row],[clean Country]]&\"*\",Cont_Table,2,0)","v":"Asia"},"4 to 6 hours a day",12]
[null,"ID1289","2012-05-29T12:19:39",{"$f":"LEFT(tblSalaries[[#This Row],[Timestamp]],FIND(\".\",tblSalaries[[#This Row],[Timestamp]],1))","v":"41058."},"3,00,000.00",300000,"INR",{"$f":"tblSalaries[[#This Row],[clean Salary (in local currency)]]*VLOOKUP(tblSalaries[[#This Row],[Currency]],tblXrate[],2,FALSE)","v":5342.3750062327708},"MIS OFFICER","Reporting","India",{"$f":"VLOOKUP(tblSalaries[[#This Row],[Where do you work]],tblCountries[[Actual]:[Mapping]],2,FALSE)","v":"India"},{"$f":"VLOOKUP(tblSalaries[[#This Row],[clean Country]]&\"*\",Cont_Table,2,0)","v":"Asia"},"2 to 3 hours per day",5]
[null,"ID1290","2012-05-29T12:20:32",{"$f":"LEFT(tblSalaries[[#This Row],[Timestamp]],FIND(\".\",tblSalaries[[#This Row],[Timestamp]],1))","v":"41058."},"400000INR",400000,"INR",{"$f":"tblSalaries[[#This Row],[clean Salary (in local currency)]]*VLOOKUP(tblSalaries[[#This Row],[Currency]],tblXrate[],2,FALSE)","v":7123.1666749770275},"PMO","Manager","India",{"$f":"VLOOKUP(tblSalaries[[#This Row],[Where do you work]],tblCountries[[Actual]:[Mapping]],2,FALSE)","v":"India"},{"$f":"VLOOKUP(tblSalaries[[#This Row],[clean Country]]&\"*\",Cont_Table,2,0)","v":"Asia"},"All the 8 hours baby, all the 8!",3]
[null,"ID1291","2012-05-29T12:28:41",{"$f":"LEFT(tblSalaries[[#This Row],[Timestamp]],FIND(\".\",tblSalaries[[#This Row],[Timestamp]],1))","v":"41058."},15000,15000,"USD",{"$f":"tblSalaries[[#This Row],[clean Salary (in local currency)]]*VLOOKUP(tblSalaries[[#This Row],[Currency]],tblXrate[],2,FALSE)","v":15000},"Monitoring & Evaluation officer","Manager","Myanmar",{"$f":"VLOOKUP(tblSalaries[[#This Row],[Where do you work]],tblCountries[[Actual]:[Mapping]],2,FALSE)","v":"Myanmar"},{"$f":"VLOOKUP(tblSalaries[[#This Row],[clean Country]]&\"*\",Cont_Table,2,0)","v":"Asia"},"4 to 6 hours a day",10]
[null,"ID1292","2012-05-29T12:29:12",{"$f":"LEFT(tblSalaries[[#This Row],[Timestamp]],FIND(\".\",tblSalaries[[#This Row],[Timestamp]],1))","v":"41058."},"us $ 14000",14000,"USD",{"$f":"tblSalaries[[#This Row],[clean Salary (in local currency)]]*VLOOKUP(tblSalaries[[#This Row],[Currency]],tblXrate[],2,FALSE)","v":14000},"Pricing Analyst","Analyst","India",{"$f":"VLOOKUP(tblSalaries[[#This Row],[Where do you work]],tblCountries[[Actual]:[Mapping]],2,FALSE)","v":"India"},{"$f":"VLOOKUP(tblSalaries[[#This Row],[clean Country]]&\"*\",Cont_Table,2,0)","v":"Asia"},"4 to 6 hours a day",12]
[null,"ID1294","2012-05-29T13:06:30",{"$f":"LEFT(tblSalaries[[#This Row],[Timestamp]],FIND(\".\",tblSalaries[[#This Row],[Timestamp]],1))","v":"41058."},8000,8000,"USD",{"$f":"tblSalaries[[#This Row],[clean Salary (in local currency)]]*VLOOKUP(tblSalaries[[#This Row],[Currency]],tblXrate[],2,FALSE)","v":8000},"Data Analyst","Analyst","India",{"$f":"VLOOKUP(tblSalaries[[#This Row],[Where do you work]],tblCountries[[Actual]:[Mapping]],2,FALSE)","v":"India"},{"$f":"VLOOKUP(tblSalaries[[#This Row],[clean Country]]&\"*\",Cont_Table,2,0)","v":"Asia"},"All the 8 hours baby, all the 8!",4]
[null,"ID1295","2012-05-29T13:13:56",{"$f":"LEFT(tblSalaries[[#This Row],[Timestamp]],FIND(\".\",tblSalaries[[#This Row],[Timestamp]],1))","v":"41058."},12500,12500,"USD",{"$f":"tblSalaries[[#This Row],[clean Salary (in local currency)]]*VLOOKUP(tblSalaries[[#This Row],[Currency]],tblXrate[],2,FALSE)","v":12500},"Specialist","Specialist","Philippines",{"$f":"VLOOKUP(tblSalaries[[#This Row],[Where do you work]],tblCountries[[Actual]:[Mapping]],2,FALSE)","v":"Philippines"},{"$f":"VLOOKUP(tblSalaries[[#This Row],[clean Country]]&\"*\",Cont_Table,2,0)","v":"Asia"},"2 to 3 hours per day",7]
[null,"ID1296","2012-05-29T13:15:17",{"$f":"LEFT(tblSalaries[[#This Row],[Timestamp]],FIND(\".\",tblSalaries[[#This Row],[Timestamp]],1))","v":"41058."},140000,140000,"USD",{"$f":"tblSalaries[[#This Row],[clean Salary (in local currency)]]*VLOOKUP(tblSalaries[[#This Row],[Currency]],tblXrate[],2,FALSE)","v":140000},"Senior Accountant","Accountant","USA",{"$f":"VLOOKUP(tblSalaries[[#This Row],[Where do you work]],tblCountries[[Actual]:[Mapping]],2,FALSE)","v":"USA"},{"$f":"VLOOKUP(tblSalaries[[#This Row],[clean Country]]&\"*\",Cont_Table,2,0)","v":"North America"},"4 to 6 hours a day",12]
[null,"ID1297","2012-05-29T13:16:45",{"$f":"LEFT(tblSalaries[[#This Row],[Timestamp]],FIND(\".\",tblSalaries[[#This Row],[Timestamp]],1))","v":"41058."},1000,12000,"USD",{"$f":"tblSalaries[[#This Row],[clean Salary (in local currency)]]*VLOOKUP(tblSalaries[[#This Row],[Currency]],tblXrate[],2,FALSE)","v":12000},"excel prof","Consultant","pakistan",{"$f":"VLOOKUP(tblSalaries[[#This Row],[Where do you work]],tblCountries[[Actual]:[Mapping]],2,FALSE)","v":"Pakistan"},{"$f":"VLOOKUP(tblSalaries[[#This Row],[clean Country]]&\"*\",Cont_Table,2,0)","v":"Asia"},"4 to 6 hours a day",1]
[null,"ID1298","2012-05-29T13:16:59",{"$f":"LEFT(tblSalaries[[#This Row],[Timestamp]],FIND(\".\",tblSalaries[[#This Row],[Timestamp]],1))","v":"41058."},"30000 EUR",30000,"EUR",{"$f":"tblSalaries[[#This Row],[clean Salary (in local currency)]]*VLOOKUP(tblSalaries[[#This Row],[Currency]],tblXrate[],2,FALSE)","v":38111.983169748237},"Employee","Analyst","Belgium",{"$f":"VLOOKUP(tblSalaries[[#This Row],[Where do you work]],tblCountries[[Actual]:[Mapping]],2,FALSE)","v":"Belgium"},{"$f":"VLOOKUP(tblSalaries[[#This Row],[clean Country]]&\"*\",Cont_Table,2,0)","v":"Europe"},"2 to 3 hours per day",15]
[null,"ID1299","2012-05-29T13:23:45",{"$f":"LEFT(tblSalaries[[#This Row],[Timestamp]],FIND(\".\",tblSalaries[[#This Row],[Timestamp]],1))","v":"41058."},"6,00,000 INR",600000,"INR",{"$f":"tblSalaries[[#This Row],[clean Salary (in local currency)]]*VLOOKUP(tblSalaries[[#This Row],[Currency]],tblXrate[],2,FALSE)","v":10684.750012465542},"Senior Business Executive","Manager","India",{"$f":"VLOOKUP(tblSalaries[[#This Row],[Where do you work]],tblCountries[[Actual]:[Mapping]],2,FALSE)","v":"India"},{"$f":"VLOOKUP(tblSalaries[[#This Row],[clean Country]]&\"*\",Cont_Table,2,0)","v":"Asia"},"2 to 3 hours per day",2]
[null,"ID1301","2012-05-29T13:40:09",{"$f":"LEFT(tblSalaries[[#This Row],[Timestamp]],FIND(\".\",tblSalaries[[#This Row],[Timestamp]],1))","v":"41058."},"3.5 lakhs p.a",350000,"INR",{"$f":"tblSalaries[[#This Row],[clean Salary (in local currency)]]*VLOOKUP(tblSalaries[[#This Row],[Currency]],tblXrate[],2,FALSE)","v":6232.7708406048987},"I dont know","Analyst","India",{"$f":"VLOOKUP(tblSalaries[[#This Row],[Where do you work]],tblCountries[[Actual]:[Mapping]],2,FALSE)","v":"India"},{"$f":"VLOOKUP(tblSalaries[[#This Row],[clean Country]]&\"*\",Cont_Table,2,0)","v":"Asia"},"4 to 6 hours a day",1.5]
[null,"ID1302","2012-05-29T13:52:13",{"$f":"LEFT(tblSalaries[[#This Row],[Timestamp]],FIND(\".\",tblSalaries[[#This Row],[Timestamp]],1))","v":"41058."},45000,45000,"USD",{"$f":"tblSalaries[[#This Row],[clean Salary (in local currency)]]*VLOOKUP(tblSalaries[[#This Row],[Currency]],tblXrate[],2,FALSE)","v":45000},"Financial Analysis","Analyst","Pakistan",{"$f":"VLOOKUP(tblSalaries[[#This Row],[Where do you work]],tblCountries[[Actual]:[Mapping]],2,FALSE)","v":"Pakistan"},{"$f":"VLOOKUP(tblSalaries[[#This Row],[clean Country]]&\"*\",Cont_Table,2,0)","v":"Asia"},"All the 8 hours baby, all the 8!",8]
[null,"ID1303","2012-05-29T13:53:59",{"$f":"LEFT(tblSalaries[[#This Row],[Timestamp]],FIND(\".\",tblSalaries[[#This Row],[Timestamp]],1))","v":"41058."},80000,80000,"USD",{"$f":"tblSalaries[[#This Row],[clean Salary (in local currency)]]*VLOOKUP(tblSalaries[[#This Row],[Currency]],tblXrate[],2,FALSE)","v":80000},"Manager","Manager","USA",{"$f":"VLOOKUP(tblSalaries[[#This Row],[Where do you work]],tblCountries[[Actual]:[Mapping]],2,FALSE)","v":"USA"},{"$f":"VLOOKUP(tblSalaries[[#This Row],[clean Country]]&\"*\",Cont_Table,2,0)","v":"North America"},"1 or 2 hours a day",6]
[null,"ID1304","2012-05-29T13:54:38",{"$f":"LEFT(tblSalaries[[#This Row],[Timestamp]],FIND(\".\",tblSalaries[[#This Row],[Timestamp]],1))","v":"41058."},"Rs 1500000",1500000,"INR",{"$f":"tblSalaries[[#This Row],[clean Salary (in local currency)]]*VLOOKUP(tblSalaries[[#This Row],[Currency]],tblXrate[],2,FALSE)","v":26711.875031163851},"Analyst","Analyst","India",{"$f":"VLOOKUP(tblSalaries[[#This Row],[Where do you work]],tblCountries[[Actual]:[Mapping]],2,FALSE)","v":"India"},{"$f":"VLOOKUP(tblSalaries[[#This Row],[clean Country]]&\"*\",Cont_Table,2,0)","v":"Asia"},"4 to 6 hours a day",7]
[null,"ID1305","2012-05-29T13:58:30",{"$f":"LEFT(tblSalaries[[#This Row],[Timestamp]],FIND(\".\",tblSalaries[[#This Row],[Timestamp]],1))","v":"41058."},"US$ 100,000",100000,"USD",{"$f":"tblSalaries[[#This Row],[clean Salary (in local currency)]]*VLOOKUP(tblSalaries[[#This Row],[Currency]],tblXrate[],2,FALSE)","v":100000},"Business Analyst","Analyst","Uganda",{"$f":"VLOOKUP(tblSalaries[[#This Row],[Where do you work]],tblCountries[[Actual]:[Mapping]],2,FALSE)","v":"Uganda"},{"$f":"VLOOKUP(tblSalaries[[#This Row],[clean Country]]&\"*\",Cont_Table,2,0)","v":"Africa"},"4 to 6 hours a day",17]
[null,"ID1306","2012-05-29T13:59:14",{"$f":"LEFT(tblSalaries[[#This Row],[Timestamp]],FIND(\".\",tblSalaries[[#This Row],[Timestamp]],1))","v":"41058."},68000,68000,"AUD",{"$f":"tblSalaries[[#This Row],[clean Salary (in local currency)]]*VLOOKUP(tblSalaries[[#This Row],[Currency]],tblXrate[],2,FALSE)","v":69353.856635379227},"Project Support Officer","Manager","Australia",{"$f":"VLOOKUP(tblSalaries[[#This Row],[Where do you work]],tblCountries[[Actual]:[Mapping]],2,FALSE)","v":"Australia"},{"$f":"VLOOKUP(tblSalaries[[#This Row],[clean Country]]&\"*\",Cont_Table,2,0)","v":"Australia"},"4 to 6 hours a day",10]
[null,"ID1307","2012-05-29T14:10:28",{"$f":"LEFT(tblSalaries[[#This Row],[Timestamp]],FIND(\".\",tblSalaries[[#This Row],[Timestamp]],1))","v":"41058."},"AUS 49,000",49000,"AUD",{"$f":"tblSalaries[[#This Row],[clean Salary (in local currency)]]*VLOOKUP(tblSalaries[[#This Row],[Currency]],tblXrate[],2,FALSE)","v":49975.573163729154},"Document Control","Controller","Australia",{"$f":"VLOOKUP(tblSalaries[[#This Row],[Where do you work]],tblCountries[[Actual]:[Mapping]],2,FALSE)","v":"Australia"},{"$f":"VLOOKUP(tblSalaries[[#This Row],[clean Country]]&\"*\",Cont_Table,2,0)","v":"Australia"},"4 to 6 hours a day",30]
[null,"ID1308","2012-05-29T14:16:06",{"$f":"LEFT(tblSalaries[[#This Row],[Timestamp]],FIND(\".\",tblSalaries[[#This Row],[Timestamp]],1))","v":"41058."},"5,75,000",575000,"INR",{"$f":"tblSalaries[[#This Row],[clean Salary (in local currency)]]*VLOOKUP(tblSalaries[[#This Row],[Currency]],tblXrate[],2,FALSE)","v":10239.552095279476},"Asst Manager HR","Manager","India",{"$f":"VLOOKUP(tblSalaries[[#This Row],[Where do you work]],tblCountries[[Actual]:[Mapping]],2,FALSE)","v":"India"},{"$f":"VLOOKUP(tblSalaries[[#This Row],[clean Country]]&\"*\",Cont_Table,2,0)","v":"Asia"},"2 to 3 hours per day",5]
[null,"ID1309","2012-05-29T14:34:42",{"$f":"LEFT(tblSalaries[[#This Row],[Timestamp]],FIND(\".\",tblSalaries[[#This Row],[Timestamp]],1))","v":"41058."},"500000 Rupees",500000,"INR",{"$f":"tblSalaries[[#This Row],[clean Salary (in local currency)]]*VLOOKUP(tblSalaries[[#This Row],[Currency]],tblXrate[],2,FALSE)","v":8903.9583437212841},"Senior software engineer","Engineer","India",{"$f":"VLOOKUP(tblSalaries[[#This Row],[Where do you work]],tblCountries[[Actual]:[Mapping]],2,FALSE)","v":"India"},{"$f":"VLOOKUP(tblSalaries[[#This Row],[clean Country]]&\"*\",Cont_Table,2,0)","v":"Asia"},"4 to 6 hours a day",2]
[null,"ID1310","2012-05-29T14:55:21",{"$f":"LEFT(tblSalaries[[#This Row],[Timestamp]],FIND(\".\",tblSalaries[[#This Row],[Timestamp]],1))","v":"41058."},"36K",36000,"USD",{"$f":"tblSalaries[[#This Row],[clean Salary (in local currency)]]*VLOOKUP(tblSalaries[[#This Row],[Currency]],tblXrate[],2,FALSE)","v":36000},"Administrative Assistant","Analyst","Kuwait",{"$f":"VLOOKUP(tblSalaries[[#This Row],[Where do you work]],tblCountries[[Actual]:[Mapping]],2,FALSE)","v":"Kuwait"},{"$f":"VLOOKUP(tblSalaries[[#This Row],[clean Country]]&\"*\",Cont_Table,2,0)","v":"Asia"},"2 to 3 hours per day",10]
[null,"ID1311","2012-05-29T14:55:29",{"$f":"LEFT(tblSalaries[[#This Row],[Timestamp]],FIND(\".\",tblSalaries[[#This Row],[Timestamp]],1))","v":"41058."},"210000 per annum",210000,"INR",{"$f":"tblSalaries[[#This Row],[clean Salary (in local currency)]]*VLOOKUP(tblSalaries[[#This Row],[Currency]],tblXrate[],2,FALSE)","v":3739.6625043629392},"MIS cum Purchase Executive","Reporting","India",{"$f":"VLOOKUP(tblSalaries[[#This Row],[Where do you work]],tblCountries[[Actual]:[Mapping]],2,FALSE)","v":"India"},{"$f":"VLOOKUP(tblSalaries[[#This Row],[clean Country]]&\"*\",Cont_Table,2,0)","v":"Asia"},"1 or 2 hours a day",4.5]
[null,"ID1312","2012-05-29T14:59:11",{"$f":"LEFT(tblSalaries[[#This Row],[Timestamp]],FIND(\".\",tblSalaries[[#This Row],[Timestamp]],1))","v":"41058."},"â‚¬ 48500",48500,"EUR",{"$f":"tblSalaries[[#This Row],[clean Salary (in local currency)]]*VLOOKUP(tblSalaries[[#This Row],[Currency]],tblXrate[],2,FALSE)","v":61614.372791092981},"Information analyst","Analyst","Netherlands",{"$f":"VLOOKUP(tblSalaries[[#This Row],[Where do you work]],tblCountries[[Actual]:[Mapping]],2,FALSE)","v":"Netherlands"},{"$f":"VLOOKUP(tblSalaries[[#This Row],[clean Country]]&\"*\",Cont_Table,2,0)","v":"Europe"},"4 to 6 hours a day",8]
[null,"ID1313","2012-05-29T15:02:56",{"$f":"LEFT(tblSalaries[[#This Row],[Timestamp]],FIND(\".\",tblSalaries[[#This Row],[Timestamp]],1))","v":"41058."},"2 LPA",200000,"INR",{"$f":"tblSalaries[[#This Row],[clean Salary (in local currency)]]*VLOOKUP(tblSalaries[[#This Row],[Currency]],tblXrate[],2,FALSE)","v":3561.5833374885137},"MIS","Reporting","India",{"$f":"VLOOKUP(tblSalaries[[#This Row],[Where do you work]],tblCountries[[Actual]:[Mapping]],2,FALSE)","v":"India"},{"$f":"VLOOKUP(tblSalaries[[#This Row],[clean Country]]&\"*\",Cont_Table,2,0)","v":"Asia"},"2 to 3 hours per day",3]
[null,"ID1314","2012-05-29T15:04:11",{"$f":"LEFT(tblSalaries[[#This Row],[Timestamp]],FIND(\".\",tblSalaries[[#This Row],[Timestamp]],1))","v":"41058."},"INR360000",360000,"INR",{"$f":"tblSalaries[[#This Row],[clean Salary (in local currency)]]*VLOOKUP(tblSalaries[[#This Row],[Currency]],tblXrate[],2,FALSE)","v":6410.8500074793246},"Sr. Executive -HR","Analyst","India",{"$f":"VLOOKUP(tblSalaries[[#This Row],[Where do you work]],tblCountries[[Actual]:[Mapping]],2,FALSE)","v":"India"},{"$f":"VLOOKUP(tblSalaries[[#This Row],[clean Country]]&\"*\",Cont_Table,2,0)","v":"Asia"},"All the 8 hours baby, all the 8!",6]
[null,"ID1315","2012-05-29T15:08:12",{"$f":"LEFT(tblSalaries[[#This Row],[Timestamp]],FIND(\".\",tblSalaries[[#This Row],[Timestamp]],1))","v":"41058."},"â‚¬ 28500",28500,"EUR",{"$f":"tblSalaries[[#This Row],[clean Salary (in local currency)]]*VLOOKUP(tblSalaries[[#This Row],[Currency]],tblXrate[],2,FALSE)","v":36206.384011260823},"Salary Professsional","Analyst","Netherlands",{"$f":"VLOOKUP(tblSalaries[[#This Row],[Where do you work]],tblCountries[[Actual]:[Mapping]],2,FALSE)","v":"Netherlands"},{"$f":"VLOOKUP(tblSalaries[[#This Row],[clean Country]]&\"*\",Cont_Table,2,0)","v":"Europe"},"1 or 2 hours a day",5]
[null,"ID1316","2012-05-29T15:10:24",{"$f":"LEFT(tblSalaries[[#This Row],[Timestamp]],FIND(\".\",tblSalaries[[#This Row],[Timestamp]],1))","v":"41058."},13500,13500,"USD",{"$f":"tblSalaries[[#This Row],[clean Salary (in local currency)]]*VLOOKUP(tblSalaries[[#This Row],[Currency]],tblXrate[],2,FALSE)","v":13500},"Asst. Manager","Manager","India",{"$f":"VLOOKUP(tblSalaries[[#This Row],[Where do you work]],tblCountries[[Actual]:[Mapping]],2,FALSE)","v":"India"},{"$f":"VLOOKUP(tblSalaries[[#This Row],[clean Country]]&\"*\",Cont_Table,2,0)","v":"Asia"},"2 to 3 hours per day",20]
[null,"ID1317","2012-05-29T15:18:45",{"$f":"LEFT(tblSalaries[[#This Row],[Timestamp]],FIND(\".\",tblSalaries[[#This Row],[Timestamp]],1))","v":"41058."},250,3000,"USD",{"$f":"tblSalaries[[#This Row],[clean Salary (in local currency)]]*VLOOKUP(tblSalaries[[#This Row],[Currency]],tblXrate[],2,FALSE)","v":3000},"FANANCE","Accountant","SRI LANKA",{"$f":"VLOOKUP(tblSalaries[[#This Row],[Where do you work]],tblCountries[[Actual]:[Mapping]],2,FALSE)","v":"Sri Lanka"},{"$f":"VLOOKUP(tblSalaries[[#This Row],[clean Country]]&\"*\",Cont_Table,2,0)","v":"Asia"},"4 to 6 hours a day",2]
[null,"ID1318","2012-05-29T15:24:45",{"$f":"LEFT(tblSalaries[[#This Row],[Timestamp]],FIND(\".\",tblSalaries[[#This Row],[Timestamp]],1))","v":"41058."},1200000,1200000,"INR",{"$f":"tblSalaries[[#This Row],[clean Salary (in local currency)]]*VLOOKUP(tblSalaries[[#This Row],[Currency]],tblXrate[],2,FALSE)","v":21369.500024931083},"Manager - Corporate strategy and Planning","Manager","India",{"$f":"VLOOKUP(tblSalaries[[#This Row],[Where do you work]],tblCountries[[Actual]:[Mapping]],2,FALSE)","v":"India"},{"$f":"VLOOKUP(tblSalaries[[#This Row],[clean Country]]&\"*\",Cont_Table,2,0)","v":"Asia"},"4 to 6 hours a day",9]
[null,"ID1319","2012-05-29T15:36:25",{"$f":"LEFT(tblSalaries[[#This Row],[Timestamp]],FIND(\".\",tblSalaries[[#This Row],[Timestamp]],1))","v":"41058."},"6lakhs",600000,"INR",{"$f":"tblSalaries[[#This Row],[clean Salary (in local currency)]]*VLOOKUP(tblSalaries[[#This Row],[Currency]],tblXrate[],2,FALSE)","v":10684.750012465542},"General Manager","Manager","India",{"$f":"VLOOKUP(tblSalaries[[#This Row],[Where do you work]],tblCountries[[Actual]:[Mapping]],2,FALSE)","v":"India"},{"$f":"VLOOKUP(tblSalaries[[#This Row],[clean Country]]&\"*\",Cont_Table,2,0)","v":"Asia"},"2 to 3 hours per day",28]
[null,"ID1320","2012-05-29T15:36:42",{"$f":"LEFT(tblSalaries[[#This Row],[Timestamp]],FIND(\".\",tblSalaries[[#This Row],[Timestamp]],1))","v":"41058."},139000,139000,"EUR",{"$f":"tblSalaries[[#This Row],[clean Salary (in local currency)]]*VLOOKUP(tblSalaries[[#This Row],[Currency]],tblXrate[],2,FALSE)","v":176585.52201983347},"NAF Support Manager","Manager","Germany",{"$f":"VLOOKUP(tblSalaries[[#This Row],[Where do you work]],tblCountries[[Actual]:[Mapping]],2,FALSE)","v":"Germany"},{"$f":"VLOOKUP(tblSalaries[[#This Row],[clean Country]]&\"*\",Cont_Table,2,0)","v":"Europe"},"1 or 2 hours a day",25]
[null,"ID1322","2012-05-29T15:38:40",{"$f":"LEFT(tblSalaries[[#This Row],[Timestamp]],FIND(\".\",tblSalaries[[#This Row],[Timestamp]],1))","v":"41058."},"43000 EUR",43000,"EUR",{"$f":"tblSalaries[[#This Row],[clean Salary (in local currency)]]*VLOOKUP(tblSalaries[[#This Row],[Currency]],tblXrate[],2,FALSE)","v":54627.175876639136},"Project manager of IT infrastructure","Manager","France",{"$f":"VLOOKUP(tblSalaries[[#This Row],[Where do you work]],tblCountries[[Actual]:[Mapping]],2,FALSE)","v":"France"},{"$f":"VLOOKUP(tblSalaries[[#This Row],[clean Country]]&\"*\",Cont_Table,2,0)","v":"Europe"},"All the 8 hours baby, all the 8!",7]
[null,"ID1323","2012-05-29T15:46:17",{"$f":"LEFT(tblSalaries[[#This Row],[Timestamp]],FIND(\".\",tblSalaries[[#This Row],[Timestamp]],1))","v":"41058."},"about 24.000 â‚¬",24000,"EUR",{"$f":"tblSalaries[[#This Row],[clean Salary (in local currency)]]*VLOOKUP(tblSalaries[[#This Row],[Currency]],tblXrate[],2,FALSE)","v":30489.586535798586},"Controller","Controller","Italy",{"$f":"VLOOKUP(tblSalaries[[#This Row],[Where do you work]],tblCountries[[Actual]:[Mapping]],2,FALSE)","v":"italy"},{"$f":"VLOOKUP(tblSalaries[[#This Row],[clean Country]]&\"*\",Cont_Table,2,0)","v":"Europe"},"4 to 6 hours a day",10]
[null,"ID1324","2012-05-29T15:49:41",{"$f":"LEFT(tblSalaries[[#This Row],[Timestamp]],FIND(\".\",tblSalaries[[#This Row],[Timestamp]],1))","v":"41058."},314000,314000,"INR",{"$f":"tblSalaries[[#This Row],[clean Salary (in local currency)]]*VLOOKUP(tblSalaries[[#This Row],[Currency]],tblXrate[],2,FALSE)","v":5591.6858398569666},"relationship manager","Manager","India",{"$f":"VLOOKUP(tblSalaries[[#This Row],[Where do you work]],tblCountries[[Actual]:[Mapping]],2,FALSE)","v":"India"},{"$f":"VLOOKUP(tblSalaries[[#This Row],[clean Country]]&\"*\",Cont_Table,2,0)","v":"Asia"},"1 or 2 hours a day",0.1]
[null,"ID1325","2012-05-29T15:51:21",{"$f":"LEFT(tblSalaries[[#This Row],[Timestamp]],FIND(\".\",tblSalaries[[#This Row],[Timestamp]],1))","v":"41058."},"82000 USD",82000,"USD",{"$f":"tblSalaries[[#This Row],[clean Salary (in local currency)]]*VLOOKUP(tblSalaries[[#This Row],[Currency]],tblXrate[],2,FALSE)","v":82000},"Consultant","Consultant","South Africa",{"$f":"VLOOKUP(tblSalaries[[#This Row],[Where do you work]],tblCountries[[Actual]:[Mapping]],2,FALSE)","v":"South Africa"},{"$f":"VLOOKUP(tblSalaries[[#This Row],[clean Country]]&\"*\",Cont_Table,2,0)","v":"Africa"},"4 to 6 hours a day",10]
[null,"ID1326","2012-05-29T15:53:14",{"$f":"LEFT(tblSalaries[[#This Row],[Timestamp]],FIND(\".\",tblSalaries[[#This Row],[Timestamp]],1))","v":"41058."},10000,10000,"USD",{"$f":"tblSalaries[[#This Row],[clean Salary (in local currency)]]*VLOOKUP(tblSalaries[[#This Row],[Currency]],tblXrate[],2,FALSE)","v":10000},"MIS","Reporting","India",{"$f":"VLOOKUP(tblSalaries[[#This Row],[Where do you work]],tblCountries[[Actual]:[Mapping]],2,FALSE)","v":"India"},{"$f":"VLOOKUP(tblSalaries[[#This Row],[clean Country]]&\"*\",Cont_Table,2,0)","v":"Asia"},"1 or 2 hours a day",0.5]
[null,"ID1327","2012-05-29T16:07:59",{"$f":"LEFT(tblSalaries[[#This Row],[Timestamp]],FIND(\".\",tblSalaries[[#This Row],[Timestamp]],1))","v":"41058."},9000,9000,"USD",{"$f":"tblSalaries[[#This Row],[clean Salary (in local currency)]]*VLOOKUP(tblSalaries[[#This Row],[Currency]],tblXrate[],2,FALSE)","v":9000},"Data Analyst","Analyst","India",{"$f":"VLOOKUP(tblSalaries[[#This Row],[Where do you work]],tblCountries[[Actual]:[Mapping]],2,FALSE)","v":"India"},{"$f":"VLOOKUP(tblSalaries[[#This Row],[clean Country]]&\"*\",Cont_Table,2,0)","v":"Asia"},"All the 8 hours baby, all the 8!",0.6]
[null,"ID1328","2012-05-29T16:08:40",{"$f":"LEFT(tblSalaries[[#This Row],[Timestamp]],FIND(\".\",tblSalaries[[#This Row],[Timestamp]],1))","v":"41058."},9000,9000,"USD",{"$f":"tblSalaries[[#This Row],[clean Salary (in local currency)]]*VLOOKUP(tblSalaries[[#This Row],[Currency]],tblXrate[],2,FALSE)","v":9000},"Data Analyst","Analyst","India",{"$f":"VLOOKUP(tblSalaries[[#This Row],[Where do you work]],tblCountries[[Actual]:[Mapping]],2,FALSE)","v":"India"},{"$f":"VLOOKUP(tblSalaries[[#This Row],[clean Country]]&\"*\",Cont_Table,2,0)","v":"Asia"},"4 to 6 hours a day",1]
[null,"ID1329","2012-05-29T16:18:59",{"$f":"LEFT(tblSalaries[[#This Row],[Timestamp]],FIND(\".\",tblSalaries[[#This Row],[Timestamp]],1))","v":"41058."},"6.6 Lacs",660000,"INR",{"$f":"tblSalaries[[#This Row],[clean Salary (in local currency)]]*VLOOKUP(tblSalaries[[#This Row],[Currency]],tblXrate[],2,FALSE)","v":11753.225013712095},"AM business Intelligence","Manager","India",{"$f":"VLOOKUP(tblSalaries[[#This Row],[Where do you work]],tblCountries[[Actual]:[Mapping]],2,FALSE)","v":"India"},{"$f":"VLOOKUP(tblSalaries[[#This Row],[clean Country]]&\"*\",Cont_Table,2,0)","v":"Asia"},"All the 8 hours baby, all the 8!",7]
[null,"ID1330","2012-05-29T16:26:15",{"$f":"LEFT(tblSalaries[[#This Row],[Timestamp]],FIND(\".\",tblSalaries[[#This Row],[Timestamp]],1))","v":"41058."},"17000 Rs",204000,"INR",{"$f":"tblSalaries[[#This Row],[clean Salary (in local currency)]]*VLOOKUP(tblSalaries[[#This Row],[Currency]],tblXrate[],2,FALSE)","v":3632.815004238284},"MIS Associate","Reporting","India",{"$f":"VLOOKUP(tblSalaries[[#This Row],[Where do you work]],tblCountries[[Actual]:[Mapping]],2,FALSE)","v":"India"},{"$f":"VLOOKUP(tblSalaries[[#This Row],[clean Country]]&\"*\",Cont_Table,2,0)","v":"Asia"},"All the 8 hours baby, all the 8!",2]
[null,"ID1331","2012-05-29T16:31:06",{"$f":"LEFT(tblSalaries[[#This Row],[Timestamp]],FIND(\".\",tblSalaries[[#This Row],[Timestamp]],1))","v":"41058."},75000,75000,"EUR",{"$f":"tblSalaries[[#This Row],[clean Salary (in local currency)]]*VLOOKUP(tblSalaries[[#This Row],[Currency]],tblXrate[],2,FALSE)","v":95279.957924370581},"Financial Analyst","Analyst","Netherlands",{"$f":"VLOOKUP(tblSalaries[[#This Row],[Where do you work]],tblCountries[[Actual]:[Mapping]],2,FALSE)","v":"Netherlands"},{"$f":"VLOOKUP(tblSalaries[[#This Row],[clean Country]]&\"*\",Cont_Table,2,0)","v":"Europe"},"All the 8 hours baby, all the 8!",16]
[null,"ID1332","2012-05-29T16:39:11",{"$f":"LEFT(tblSalaries[[#This Row],[Timestamp]],FIND(\".\",tblSalaries[[#This Row],[Timestamp]],1))","v":"41058."},"Â£45000",45000,"GBP",{"$f":"tblSalaries[[#This Row],[clean Salary (in local currency)]]*VLOOKUP(tblSalaries[[#This Row],[Currency]],tblXrate[],2,FALSE)","v":70928.022243027779},"Senior Consultant","Consultant","UK",{"$f":"VLOOKUP(tblSalaries[[#This Row],[Where do you work]],tblCountries[[Actual]:[Mapping]],2,FALSE)","v":"UK"},{"$f":"VLOOKUP(tblSalaries[[#This Row],[clean Country]]&\"*\",Cont_Table,2,0)","v":"Europe"},"2 to 3 hours per day",4]
[null,"ID1333","2012-05-29T16:41:19",{"$f":"LEFT(tblSalaries[[#This Row],[Timestamp]],FIND(\".\",tblSalaries[[#This Row],[Timestamp]],1))","v":"41058."},"41000 â‚¬",41000,"EUR",{"$f":"tblSalaries[[#This Row],[clean Salary (in local currency)]]*VLOOKUP(tblSalaries[[#This Row],[Currency]],tblXrate[],2,FALSE)","v":52086.37699865592},"engineer","Engineer","Spain",{"$f":"VLOOKUP(tblSalaries[[#This Row],[Where do you work]],tblCountries[[Actual]:[Mapping]],2,FALSE)","v":"Spain"},{"$f":"VLOOKUP(tblSalaries[[#This Row],[clean Country]]&\"*\",Cont_Table,2,0)","v":"Europe"},"4 to 6 hours a day",12]
[null,"ID1334","2012-05-29T16:49:44",{"$f":"LEFT(tblSalaries[[#This Row],[Timestamp]],FIND(\".\",tblSalaries[[#This Row],[Timestamp]],1))","v":"41058."},275000,275000,"INR",{"$f":"tblSalaries[[#This Row],[clean Salary (in local currency)]]*VLOOKUP(tblSalaries[[#This Row],[Currency]],tblXrate[],2,FALSE)","v":4897.177089046706},"TL WFM","Manager","India",{"$f":"VLOOKUP(tblSalaries[[#This Row],[Where do you work]],tblCountries[[Actual]:[Mapping]],2,FALSE)","v":"India"},{"$f":"VLOOKUP(tblSalaries[[#This Row],[clean Country]]&\"*\",Cont_Table,2,0)","v":"Asia"},"All the 8 hours baby, all the 8!",4]
[null,"ID1335","2012-05-29T16:55:43",{"$f":"LEFT(tblSalaries[[#This Row],[Timestamp]],FIND(\".\",tblSalaries[[#This Row],[Timestamp]],1))","v":"41058."},80000,80000,"NZD",{"$f":"tblSalaries[[#This Row],[clean Salary (in local currency)]]*VLOOKUP(tblSalaries[[#This Row],[Currency]],tblXrate[],2,FALSE)","v":63807.047488395103},"accountant","Accountant","new zealand",{"$f":"VLOOKUP(tblSalaries[[#This Row],[Where do you work]],tblCountries[[Actual]:[Mapping]],2,FALSE)","v":"New Zealand"},{"$f":"VLOOKUP(tblSalaries[[#This Row],[clean Country]]&\"*\",Cont_Table,2,0)","v":"Australia"},"All the 8 hours baby, all the 8!",15]
[null,"ID1336","2012-05-29T17:05:31",{"$f":"LEFT(tblSalaries[[#This Row],[Timestamp]],FIND(\".\",tblSalaries[[#This Row],[Timestamp]],1))","v":"41058."},24000,24000,"USD",{"$f":"tblSalaries[[#This Row],[clean Salary (in local currency)]]*VLOOKUP(tblSalaries[[#This Row],[Currency]],tblXrate[],2,FALSE)","v":24000},"Dir. Revenue Mgt","Manager","Kingdom of Saudi Arabia",{"$f":"VLOOKUP(tblSalaries[[#This Row],[Where do you work]],tblCountries[[Actual]:[Mapping]],2,FALSE)","v":"Saudi Arabia"},{"$f":"VLOOKUP(tblSalaries[[#This Row],[clean Country]]&\"*\",Cont_Table,2,0)","v":"Asia"},"4 to 6 hours a day",5]
[null,"ID1337","2012-05-29T17:09:02",{"$f":"LEFT(tblSalaries[[#This Row],[Timestamp]],FIND(\".\",tblSalaries[[#This Row],[Timestamp]],1))","v":"41058."},"60000 USD p.a.",60000,"USD",{"$f":"tblSalaries[[#This Row],[clean Salary (in local currency)]]*VLOOKUP(tblSalaries[[#This Row],[Currency]],tblXrate[],2,FALSE)","v":60000},"Controlling Manager","Manager","CEE",{"$f":"VLOOKUP(tblSalaries[[#This Row],[Where do you work]],tblCountries[[Actual]:[Mapping]],2,FALSE)","v":"CEE"},{"$f":"VLOOKUP(tblSalaries[[#This Row],[clean Country]]&\"*\",Cont_Table,2,0)","v":"Europe"},"All the 8 hours baby, all the 8!",20]
[null,"ID1338","2012-05-29T17:09:52",{"$f":"LEFT(tblSalaries[[#This Row],[Timestamp]],FIND(\".\",tblSalaries[[#This Row],[Timestamp]],1))","v":"41058."},300000,300000,"INR",{"$f":"tblSalaries[[#This Row],[clean Salary (in local currency)]]*VLOOKUP(tblSalaries[[#This Row],[Currency]],tblXrate[],2,FALSE)","v":5342.3750062327708},"Financial Modelling Analyst","Analyst","India",{"$f":"VLOOKUP(tblSalaries[[#This Row],[Where do you work]],tblCountries[[Actual]:[Mapping]],2,FALSE)","v":"India"},{"$f":"VLOOKUP(tblSalaries[[#This Row],[clean Country]]&\"*\",Cont_Table,2,0)","v":"Asia"},"All the 8 hours baby, all the 8!",3]
[null,"ID1339","2012-05-29T17:16:20",{"$f":"LEFT(tblSalaries[[#This Row],[Timestamp]],FIND(\".\",tblSalaries[[#This Row],[Timestamp]],1))","v":"41058."},500000,500000,"INR",{"$f":"tblSalaries[[#This Row],[clean Salary (in local currency)]]*VLOOKUP(tblSalaries[[#This Row],[Currency]],tblXrate[],2,FALSE)","v":8903.9583437212841},"support manager","Manager","India",{"$f":"VLOOKUP(tblSalaries[[#This Row],[Where do you work]],tblCountries[[Actual]:[Mapping]],2,FALSE)","v":"India"},{"$f":"VLOOKUP(tblSalaries[[#This Row],[clean Country]]&\"*\",Cont_Table,2,0)","v":"Asia"},"2 to 3 hours per day",5]
[null,"ID1340","2012-05-29T17:17:13",{"$f":"LEFT(tblSalaries[[#This Row],[Timestamp]],FIND(\".\",tblSalaries[[#This Row],[Timestamp]],1))","v":"41058."},"Â£26000",26000,"GBP",{"$f":"tblSalaries[[#This Row],[clean Salary (in local currency)]]*VLOOKUP(tblSalaries[[#This Row],[Currency]],tblXrate[],2,FALSE)","v":40980.635073749385},"Web Analyst","Analyst","UK",{"$f":"VLOOKUP(tblSalaries[[#This Row],[Where do you work]],tblCountries[[Actual]:[Mapping]],2,FALSE)","v":"UK"},{"$f":"VLOOKUP(tblSalaries[[#This Row],[clean Country]]&\"*\",Cont_Table,2,0)","v":"Europe"},"4 to 6 hours a day",2]
[null,"ID1341","2012-05-29T17:17:46",{"$f":"LEFT(tblSalaries[[#This Row],[Timestamp]],FIND(\".\",tblSalaries[[#This Row],[Timestamp]],1))","v":"41058."},"Rs.6,00,000",600000,"INR",{"$f":"tblSalaries[[#This Row],[clean Salary (in local currency)]]*VLOOKUP(tblSalaries[[#This Row],[Currency]],tblXrate[],2,FALSE)","v":10684.750012465542},"Assistant Manager","Manager","India",{"$f":"VLOOKUP(tblSalaries[[#This Row],[Where do you work]],tblCountries[[Actual]:[Mapping]],2,FALSE)","v":"India"},{"$f":"VLOOKUP(tblSalaries[[#This Row],[clean Country]]&\"*\",Cont_Table,2,0)","v":"Asia"},"1 or 2 hours a day",7]
[null,"ID1342","2012-05-29T17:30:43",{"$f":"LEFT(tblSalaries[[#This Row],[Timestamp]],FIND(\".\",tblSalaries[[#This Row],[Timestamp]],1))","v":"41058."},1200000,1200000,"INR",{"$f":"tblSalaries[[#This Row],[clean Salary (in local currency)]]*VLOOKUP(tblSalaries[[#This Row],[Currency]],tblXrate[],2,FALSE)","v":21369.500024931083},"Consultant","Consultant","India",{"$f":"VLOOKUP(tblSalaries[[#This Row],[Where do you work]],tblCountries[[Actual]:[Mapping]],2,FALSE)","v":"India"},{"$f":"VLOOKUP(tblSalaries[[#This Row],[clean Country]]&\"*\",Cont_Table,2,0)","v":"Asia"},"2 to 3 hours per day",21]
[null,"ID1343","2012-05-29T17:36:13",{"$f":"LEFT(tblSalaries[[#This Row],[Timestamp]],FIND(\".\",tblSalaries[[#This Row],[Timestamp]],1))","v":"41058."},18000,18000,"USD",{"$f":"tblSalaries[[#This Row],[clean Salary (in local currency)]]*VLOOKUP(tblSalaries[[#This Row],[Currency]],tblXrate[],2,FALSE)","v":18000},"liquidity manager","Manager","Ghana",{"$f":"VLOOKUP(tblSalaries[[#This Row],[Where do you work]],tblCountries[[Actual]:[Mapping]],2,FALSE)","v":"Ghana"},{"$f":"VLOOKUP(tblSalaries[[#This Row],[clean Country]]&\"*\",Cont_Table,2,0)","v":"Africa"},"4 to 6 hours a day",12]
[null,"ID1344","2012-05-29T17:39:55",{"$f":"LEFT(tblSalaries[[#This Row],[Timestamp]],FIND(\".\",tblSalaries[[#This Row],[Timestamp]],1))","v":"41058."},"41000 $",41000,"USD",{"$f":"tblSalaries[[#This Row],[clean Salary (in local currency)]]*VLOOKUP(tblSalaries[[#This Row],[Currency]],tblXrate[],2,FALSE)","v":41000},"PO/PMO/Planner/PM","Manager","Israel",{"$f":"VLOOKUP(tblSalaries[[#This Row],[Where do you work]],tblCountries[[Actual]:[Mapping]],2,FALSE)","v":"Israel"},{"$f":"VLOOKUP(tblSalaries[[#This Row],[clean Country]]&\"*\",Cont_Table,2,0)","v":"Asia"},"2 to 3 hours per day",4]
[null,"ID1345","2012-05-29T17:45:59",{"$f":"LEFT(tblSalaries[[#This Row],[Timestamp]],FIND(\".\",tblSalaries[[#This Row],[Timestamp]],1))","v":"41058."},"16,00,000",1600000,"INR",{"$f":"tblSalaries[[#This Row],[clean Salary (in local currency)]]*VLOOKUP(tblSalaries[[#This Row],[Currency]],tblXrate[],2,FALSE)","v":28492.66669990811},"Senior Associate ","Analyst","India",{"$f":"VLOOKUP(tblSalaries[[#This Row],[Where do you work]],tblCountries[[Actual]:[Mapping]],2,FALSE)","v":"India"},{"$f":"VLOOKUP(tblSalaries[[#This Row],[clean Country]]&\"*\",Cont_Table,2,0)","v":"Asia"},"2 to 3 hours per day",4]
[null,"ID1346","2012-05-29T17:48:04",{"$f":"LEFT(tblSalaries[[#This Row],[Timestamp]],FIND(\".\",tblSalaries[[#This Row],[Timestamp]],1))","v":"41058."},49500,49500,"USD",{"$f":"tblSalaries[[#This Row],[clean Salary (in local currency)]]*VLOOKUP(tblSalaries[[#This Row],[Currency]],tblXrate[],2,FALSE)","v":49500},"Financial Analyst II","Analyst","USA",{"$f":"VLOOKUP(tblSalaries[[#This Row],[Where do you work]],tblCountries[[Actual]:[Mapping]],2,FALSE)","v":"USA"},{"$f":"VLOOKUP(tblSalaries[[#This Row],[clean Country]]&\"*\",Cont_Table,2,0)","v":"North America"},"4 to 6 hours a day",4.5]
[null,"ID1347","2012-05-29T18:00:19",{"$f":"LEFT(tblSalaries[[#This Row],[Timestamp]],FIND(\".\",tblSalaries[[#This Row],[Timestamp]],1))","v":"41058."},6600,6600,"USD",{"$f":"tblSalaries[[#This Row],[clean Salary (in local currency)]]*VLOOKUP(tblSalaries[[#This Row],[Currency]],tblXrate[],2,FALSE)","v":6600},"MIS HR,HRIS","Reporting","India",{"$f":"VLOOKUP(tblSalaries[[#This Row],[Where do you work]],tblCountries[[Actual]:[Mapping]],2,FALSE)","v":"India"},{"$f":"VLOOKUP(tblSalaries[[#This Row],[clean Country]]&\"*\",Cont_Table,2,0)","v":"Asia"},"2 to 3 hours per day",6.4]
[null,"ID1348","2012-05-29T18:05:50",{"$f":"LEFT(tblSalaries[[#This Row],[Timestamp]],FIND(\".\",tblSalaries[[#This Row],[Timestamp]],1))","v":"41058."},"Â£70000",70000,"GBP",{"$f":"tblSalaries[[#This Row],[clean Salary (in local currency)]]*VLOOKUP(tblSalaries[[#This Row],[Currency]],tblXrate[],2,FALSE)","v":110332.47904470989},"Consultant","Consultant","UK",{"$f":"VLOOKUP(tblSalaries[[#This Row],[Where do you work]],tblCountries[[Actual]:[Mapping]],2,FALSE)","v":"UK"},{"$f":"VLOOKUP(tblSalaries[[#This Row],[clean Country]]&\"*\",Cont_Table,2,0)","v":"Europe"},"4 to 6 hours a day",15]
[null,"ID1349","2012-05-29T18:14:48",{"$f":"LEFT(tblSalaries[[#This Row],[Timestamp]],FIND(\".\",tblSalaries[[#This Row],[Timestamp]],1))","v":"41058."},"Â£30000",30000,"GBP",{"$f":"tblSalaries[[#This Row],[clean Salary (in local currency)]]*VLOOKUP(tblSalaries[[#This Row],[Currency]],tblXrate[],2,FALSE)","v":47285.348162018527},"Market Analyst","Analyst","UK",{"$f":"VLOOKUP(tblSalaries[[#This Row],[Where do you work]],tblCountries[[Actual]:[Mapping]],2,FALSE)","v":"UK"},{"$f":"VLOOKUP(tblSalaries[[#This Row],[clean Country]]&\"*\",Cont_Table,2,0)","v":"Europe"},"All the 8 hours baby, all the 8!",6]
[null,"ID1350","2012-05-29T18:14:53",{"$f":"LEFT(tblSalaries[[#This Row],[Timestamp]],FIND(\".\",tblSalaries[[#This Row],[Timestamp]],1))","v":"41058."},"USD 5300",5300,"USD",{"$f":"tblSalaries[[#This Row],[clean Salary (in local currency)]]*VLOOKUP(tblSalaries[[#This Row],[Currency]],tblXrate[],2,FALSE)","v":5300},"Asst. Production Manager","Manager","Pakistan",{"$f":"VLOOKUP(tblSalaries[[#This Row],[Where do you work]],tblCountries[[Actual]:[Mapping]],2,FALSE)","v":"Pakistan"},{"$f":"VLOOKUP(tblSalaries[[#This Row],[clean Country]]&\"*\",Cont_Table,2,0)","v":"Asia"},"4 to 6 hours a day",5]
[null,"ID1351","2012-05-29T18:21:13",{"$f":"LEFT(tblSalaries[[#This Row],[Timestamp]],FIND(\".\",tblSalaries[[#This Row],[Timestamp]],1))","v":"41058."},34500,34500,"EUR",{"$f":"tblSalaries[[#This Row],[clean Salary (in local currency)]]*VLOOKUP(tblSalaries[[#This Row],[Currency]],tblXrate[],2,FALSE)","v":43828.780645210471},"Analyst","Analyst","Netherlands",{"$f":"VLOOKUP(tblSalaries[[#This Row],[Where do you work]],tblCountries[[Actual]:[Mapping]],2,FALSE)","v":"Netherlands"},{"$f":"VLOOKUP(tblSalaries[[#This Row],[clean Country]]&\"*\",Cont_Table,2,0)","v":"Europe"},"4 to 6 hours a day",15]
[null,"ID1352","2012-05-29T18:33:08",{"$f":"LEFT(tblSalaries[[#This Row],[Timestamp]],FIND(\".\",tblSalaries[[#This Row],[Timestamp]],1))","v":"41058."},80000,80000,"USD",{"$f":"tblSalaries[[#This Row],[clean Salary (in local currency)]]*VLOOKUP(tblSalaries[[#This Row],[Currency]],tblXrate[],2,FALSE)","v":80000},"Developer","Analyst","USA",{"$f":"VLOOKUP(tblSalaries[[#This Row],[Where do you work]],tblCountries[[Actual]:[Mapping]],2,FALSE)","v":"USA"},{"$f":"VLOOKUP(tblSalaries[[#This Row],[clean Country]]&\"*\",Cont_Table,2,0)","v":"North America"},"1 or 2 hours a day",14]
[null,"ID1353","2012-05-29T18:35:10",{"$f":"LEFT(tblSalaries[[#This Row],[Timestamp]],FIND(\".\",tblSalaries[[#This Row],[Timestamp]],1))","v":"41058."},"9 067",9067,"EUR",{"$f":"tblSalaries[[#This Row],[clean Salary (in local currency)]]*VLOOKUP(tblSalaries[[#This Row],[Currency]],tblXrate[],2,FALSE)","v":11518.711713336908},"assistant","Analyst","Hungary",{"$f":"VLOOKUP(tblSalaries[[#This Row],[Where do you work]],tblCountries[[Actual]:[Mapping]],2,FALSE)","v":"Hungary"},{"$f":"VLOOKUP(tblSalaries[[#This Row],[clean Country]]&\"*\",Cont_Table,2,0)","v":"Europe"},"2 to 3 hours per day",3]
[null,"ID1354","2012-05-29T18:35:31",{"$f":"LEFT(tblSalaries[[#This Row],[Timestamp]],FIND(\".\",tblSalaries[[#This Row],[Timestamp]],1))","v":"41058."},"A$150000",150000,"AUD",{"$f":"tblSalaries[[#This Row],[clean Salary (in local currency)]]*VLOOKUP(tblSalaries[[#This Row],[Currency]],tblXrate[],2,FALSE)","v":152986.44846039536},"Bus Analyst","Analyst","Australia",{"$f":"VLOOKUP(tblSalaries[[#This Row],[Where do you work]],tblCountries[[Actual]:[Mapping]],2,FALSE)","v":"Australia"},{"$f":"VLOOKUP(tblSalaries[[#This Row],[clean Country]]&\"*\",Cont_Table,2,0)","v":"Australia"},"1 or 2 hours a day",5.5]
[null,"ID1355","2012-05-29T18:38:51",{"$f":"LEFT(tblSalaries[[#This Row],[Timestamp]],FIND(\".\",tblSalaries[[#This Row],[Timestamp]],1))","v":"41058."},125000,125000,"USD",{"$f":"tblSalaries[[#This Row],[clean Salary (in local currency)]]*VLOOKUP(tblSalaries[[#This Row],[Currency]],tblXrate[],2,FALSE)","v":125000},"Vice President of Performance Management","Manager","USA",{"$f":"VLOOKUP(tblSalaries[[#This Row],[Where do you work]],tblCountries[[Actual]:[Mapping]],2,FALSE)","v":"USA"},{"$f":"VLOOKUP(tblSalaries[[#This Row],[clean Country]]&\"*\",Cont_Table,2,0)","v":"North America"},"4 to 6 hours a day",2]
[null,"ID1356","2012-05-29T18:55:18",{"$f":"LEFT(tblSalaries[[#This Row],[Timestamp]],FIND(\".\",tblSalaries[[#This Row],[Timestamp]],1))","v":"41058."},100000,100000,"AUD",{"$f":"tblSalaries[[#This Row],[clean Salary (in local currency)]]*VLOOKUP(tblSalaries[[#This Row],[Currency]],tblXrate[],2,FALSE)","v":101990.96564026357},"Principal advisor","Consultant","Australia",{"$f":"VLOOKUP(tblSalaries[[#This Row],[Where do you work]],tblCountries[[Actual]:[Mapping]],2,FALSE)","v":"Australia"},{"$f":"VLOOKUP(tblSalaries[[#This Row],[clean Country]]&\"*\",Cont_Table,2,0)","v":"Australia"},"1 or 2 hours a day",30]
[null,"ID1357","2012-05-29T18:55:20",{"$f":"LEFT(tblSalaries[[#This Row],[Timestamp]],FIND(\".\",tblSalaries[[#This Row],[Timestamp]],1))","v":"41058."},105000,105000,"USD",{"$f":"tblSalaries[[#This Row],[clean Salary (in local currency)]]*VLOOKUP(tblSalaries[[#This Row],[Currency]],tblXrate[],2,FALSE)","v":105000},"Director of Technology","CXO or Top Mgmt.","USA",{"$f":"VLOOKUP(tblSalaries[[#This Row],[Where do you work]],tblCountries[[Actual]:[Mapping]],2,FALSE)","v":"USA"},{"$f":"VLOOKUP(tblSalaries[[#This Row],[clean Country]]&\"*\",Cont_Table,2,0)","v":"North America"},"1 or 2 hours a day",15]
[null,"ID1358","2012-05-29T19:01:05",{"$f":"LEFT(tblSalaries[[#This Row],[Timestamp]],FIND(\".\",tblSalaries[[#This Row],[Timestamp]],1))","v":"41058."},40000,40000,"EUR",{"$f":"tblSalaries[[#This Row],[clean Salary (in local currency)]]*VLOOKUP(tblSalaries[[#This Row],[Currency]],tblXrate[],2,FALSE)","v":50815.977559664309},"officer","Manager","Austria",{"$f":"VLOOKUP(tblSalaries[[#This Row],[Where do you work]],tblCountries[[Actual]:[Mapping]],2,FALSE)","v":"Austria"},{"$f":"VLOOKUP(tblSalaries[[#This Row],[clean Country]]&\"*\",Cont_Table,2,0)","v":"Europe"},"4 to 6 hours a day",20]
[null,"ID1359","2012-05-29T19:01:48",{"$f":"LEFT(tblSalaries[[#This Row],[Timestamp]],FIND(\".\",tblSalaries[[#This Row],[Timestamp]],1))","v":"41058."},75000,75000,"USD",{"$f":"tblSalaries[[#This Row],[clean Salary (in local currency)]]*VLOOKUP(tblSalaries[[#This Row],[Currency]],tblXrate[],2,FALSE)","v":75000},"Financial Analyst","Analyst","USA",{"$f":"VLOOKUP(tblSalaries[[#This Row],[Where do you work]],tblCountries[[Actual]:[Mapping]],2,FALSE)","v":"USA"},{"$f":"VLOOKUP(tblSalaries[[#This Row],[clean Country]]&\"*\",Cont_Table,2,0)","v":"North America"},"4 to 6 hours a day",7]
[null,"ID1360","2012-05-29T19:06:14",{"$f":"LEFT(tblSalaries[[#This Row],[Timestamp]],FIND(\".\",tblSalaries[[#This Row],[Timestamp]],1))","v":"41058."},"2.5 per lacks",250000,"INR",{"$f":"tblSalaries[[#This Row],[clean Salary (in local currency)]]*VLOOKUP(tblSalaries[[#This Row],[Currency]],tblXrate[],2,FALSE)","v":4451.9791718606421},"Credit Executive","Analyst","India",{"$f":"VLOOKUP(tblSalaries[[#This Row],[Where do you work]],tblCountries[[Actual]:[Mapping]],2,FALSE)","v":"India"},{"$f":"VLOOKUP(tblSalaries[[#This Row],[clean Country]]&\"*\",Cont_Table,2,0)","v":"Asia"},"All the 8 hours baby, all the 8!",8]
[null,"ID1361","2012-05-29T19:08:37",{"$f":"LEFT(tblSalaries[[#This Row],[Timestamp]],FIND(\".\",tblSalaries[[#This Row],[Timestamp]],1))","v":"41058."},110000,110000,"USD",{"$f":"tblSalaries[[#This Row],[clean Salary (in local currency)]]*VLOOKUP(tblSalaries[[#This Row],[Currency]],tblXrate[],2,FALSE)","v":110000},"Business Analytics Associate","Analyst","USA",{"$f":"VLOOKUP(tblSalaries[[#This Row],[Where do you work]],tblCountries[[Actual]:[Mapping]],2,FALSE)","v":"USA"},{"$f":"VLOOKUP(tblSalaries[[#This Row],[clean Country]]&\"*\",Cont_Table,2,0)","v":"North America"},"1 or 2 hours a day",10]
[null,"ID1362","2012-05-29T19:10:05",{"$f":"LEFT(tblSalaries[[#This Row],[Timestamp]],FIND(\".\",tblSalaries[[#This Row],[Timestamp]],1))","v":"41058."},"27,000.GBP 42,353 USD ",27000,"GBP",{"$f":"tblSalaries[[#This Row],[clean Salary (in local currency)]]*VLOOKUP(tblSalaries[[#This Row],[Currency]],tblXrate[],2,FALSE)","v":42556.81334581667},"Engineering Tech","Engineer","UK",{"$f":"VLOOKUP(tblSalaries[[#This Row],[Where do you work]],tblCountries[[Actual]:[Mapping]],2,FALSE)","v":"UK"},{"$f":"VLOOKUP(tblSalaries[[#This Row],[clean Country]]&\"*\",Cont_Table,2,0)","v":"Europe"},"4 to 6 hours a day",1]
[null,"ID1363","2012-05-29T19:11:31",{"$f":"LEFT(tblSalaries[[#This Row],[Timestamp]],FIND(\".\",tblSalaries[[#This Row],[Timestamp]],1))","v":"41058."},"Rs. 4.5 lakhs ",450000,"INR",{"$f":"tblSalaries[[#This Row],[clean Salary (in local currency)]]*VLOOKUP(tblSalaries[[#This Row],[Currency]],tblXrate[],2,FALSE)","v":8013.5625093491553},"Mechanical Design engineer","Engineer","India",{"$f":"VLOOKUP(tblSalaries[[#This Row],[Where do you work]],tblCountries[[Actual]:[Mapping]],2,FALSE)","v":"India"},{"$f":"VLOOKUP(tblSalaries[[#This Row],[clean Country]]&\"*\",Cont_Table,2,0)","v":"Asia"},"1 or 2 hours a day",7]
[null,"ID1364","2012-05-29T19:12:19",{"$f":"LEFT(tblSalaries[[#This Row],[Timestamp]],FIND(\".\",tblSalaries[[#This Row],[Timestamp]],1))","v":"41058."},125000,125000,"USD",{"$f":"tblSalaries[[#This Row],[clean Salary (in local currency)]]*VLOOKUP(tblSalaries[[#This Row],[Currency]],tblXrate[],2,FALSE)","v":125000},"Finance Manager","Manager","USA",{"$f":"VLOOKUP(tblSalaries[[#This Row],[Where do you work]],tblCountries[[Actual]:[Mapping]],2,FALSE)","v":"USA"},{"$f":"VLOOKUP(tblSalaries[[#This Row],[clean Country]]&\"*\",Cont_Table,2,0)","v":"North America"},"4 to 6 hours a day",25]
[null,"ID1365","2012-05-29T19:23:32",{"$f":"LEFT(tblSalaries[[#This Row],[Timestamp]],FIND(\".\",tblSalaries[[#This Row],[Timestamp]],1))","v":"41058."},60000,60000,"USD",{"$f":"tblSalaries[[#This Row],[clean Salary (in local currency)]]*VLOOKUP(tblSalaries[[#This Row],[Currency]],tblXrate[],2,FALSE)","v":60000},"Business Information Analyst","Analyst","USA",{"$f":"VLOOKUP(tblSalaries[[#This Row],[Where do you work]],tblCountries[[Actual]:[Mapping]],2,FALSE)","v":"USA"},{"$f":"VLOOKUP(tblSalaries[[#This Row],[clean Country]]&\"*\",Cont_Table,2,0)","v":"North America"},"All the 8 hours baby, all the 8!",12]
[null,"ID1366","2012-05-29T19:31:32",{"$f":"LEFT(tblSalaries[[#This Row],[Timestamp]],FIND(\".\",tblSalaries[[#This Row],[Timestamp]],1))","v":"41058."},"2.21Lac",2210000,"INR",{"$f":"tblSalaries[[#This Row],[clean Salary (in local currency)]]*VLOOKUP(tblSalaries[[#This Row],[Currency]],tblXrate[],2,FALSE)","v":39355.495879248076},"Marketing","Analyst","India",{"$f":"VLOOKUP(tblSalaries[[#This Row],[Where do you work]],tblCountries[[Actual]:[Mapping]],2,FALSE)","v":"India"},{"$f":"VLOOKUP(tblSalaries[[#This Row],[clean Country]]&\"*\",Cont_Table,2,0)","v":"Asia"},"1 or 2 hours a day",5.6]
[null,"ID1367","2012-05-29T19:33:07",{"$f":"LEFT(tblSalaries[[#This Row],[Timestamp]],FIND(\".\",tblSalaries[[#This Row],[Timestamp]],1))","v":"41058."},45000,45000,"EUR",{"$f":"tblSalaries[[#This Row],[clean Salary (in local currency)]]*VLOOKUP(tblSalaries[[#This Row],[Currency]],tblXrate[],2,FALSE)","v":57167.974754622352},"Junior Controller","Controller","Germany",{"$f":"VLOOKUP(tblSalaries[[#This Row],[Where do you work]],tblCountries[[Actual]:[Mapping]],2,FALSE)","v":"Germany"},{"$f":"VLOOKUP(tblSalaries[[#This Row],[clean Country]]&\"*\",Cont_Table,2,0)","v":"Europe"},"4 to 6 hours a day",12]
[null,"ID1368","2012-05-29T19:39:35",{"$f":"LEFT(tblSalaries[[#This Row],[Timestamp]],FIND(\".\",tblSalaries[[#This Row],[Timestamp]],1))","v":"41058."},"4000000 JPY",4000000,"JPY",{"$f":"tblSalaries[[#This Row],[clean Salary (in local currency)]]*VLOOKUP(tblSalaries[[#This Row],[Currency]],tblXrate[],2,FALSE)","v":50694.322109187968},"System Analyst (Configuration Mgmt)","Analyst","Japan",{"$f":"VLOOKUP(tblSalaries[[#This Row],[Where do you work]],tblCountries[[Actual]:[Mapping]],2,FALSE)","v":"Japan"},{"$f":"VLOOKUP(tblSalaries[[#This Row],[clean Country]]&\"*\",Cont_Table,2,0)","v":"Asia"},"4 to 6 hours a day",8]
[null,"ID1369","2012-05-29T19:47:18",{"$f":"LEFT(tblSalaries[[#This Row],[Timestamp]],FIND(\".\",tblSalaries[[#This Row],[Timestamp]],1))","v":"41058."},57500,57500,"USD",{"$f":"tblSalaries[[#This Row],[clean Salary (in local currency)]]*VLOOKUP(tblSalaries[[#This Row],[Currency]],tblXrate[],2,FALSE)","v":57500},"Planning Supervisor","Manager","USA",{"$f":"VLOOKUP(tblSalaries[[#This Row],[Where do you work]],tblCountries[[Actual]:[Mapping]],2,FALSE)","v":"USA"},{"$f":"VLOOKUP(tblSalaries[[#This Row],[clean Country]]&\"*\",Cont_Table,2,0)","v":"North America"},"4 to 6 hours a day",30]
[null,"ID1370","2012-05-29T19:50:25",{"$f":"LEFT(tblSalaries[[#This Row],[Timestamp]],FIND(\".\",tblSalaries[[#This Row],[Timestamp]],1))","v":"41058."},62000,62000,"EUR",{"$f":"tblSalaries[[#This Row],[clean Salary (in local currency)]]*VLOOKUP(tblSalaries[[#This Row],[Currency]],tblXrate[],2,FALSE)","v":78764.765217479682},"Controller","Controller","Netherlands",{"$f":"VLOOKUP(tblSalaries[[#This Row],[Where do you work]],tblCountries[[Actual]:[Mapping]],2,FALSE)","v":"Netherlands"},{"$f":"VLOOKUP(tblSalaries[[#This Row],[clean Country]]&\"*\",Cont_Table,2,0)","v":"Europe"},"4 to 6 hours a day",15]
[null,"ID1371","2012-05-29T19:52:35",{"$f":"LEFT(tblSalaries[[#This Row],[Timestamp]],FIND(\".\",tblSalaries[[#This Row],[Timestamp]],1))","v":"41058."},"$80,000 USD",80000,"USD",{"$f":"tblSalaries[[#This Row],[clean Salary (in local currency)]]*VLOOKUP(tblSalaries[[#This Row],[Currency]],tblXrate[],2,FALSE)","v":80000},"Manager of Data Analytics","Manager","USA",{"$f":"VLOOKUP(tblSalaries[[#This Row],[Where do you work]],tblCountries[[Actual]:[Mapping]],2,FALSE)","v":"USA"},{"$f":"VLOOKUP(tblSalaries[[#This Row],[clean Country]]&\"*\",Cont_Table,2,0)","v":"North America"},"4 to 6 hours a day",10]
[null,"ID1372","2012-05-29T19:54:38",{"$f":"LEFT(tblSalaries[[#This Row],[Timestamp]],FIND(\".\",tblSalaries[[#This Row],[Timestamp]],1))","v":"41058."},"Â£45000",45000,"GBP",{"$f":"tblSalaries[[#This Row],[clean Salary (in local currency)]]*VLOOKUP(tblSalaries[[#This Row],[Currency]],tblXrate[],2,FALSE)","v":70928.022243027779},"Management Accountant","Manager","UK",{"$f":"VLOOKUP(tblSalaries[[#This Row],[Where do you work]],tblCountries[[Actual]:[Mapping]],2,FALSE)","v":"UK"},{"$f":"VLOOKUP(tblSalaries[[#This Row],[clean Country]]&\"*\",Cont_Table,2,0)","v":"Europe"},"2 to 3 hours per day",15]
[null,"ID1373","2012-05-29T20:03:07",{"$f":"LEFT(tblSalaries[[#This Row],[Timestamp]],FIND(\".\",tblSalaries[[#This Row],[Timestamp]],1))","v":"41058."},33000,33000,"USD",{"$f":"tblSalaries[[#This Row],[clean Salary (in local currency)]]*VLOOKUP(tblSalaries[[#This Row],[Currency]],tblXrate[],2,FALSE)","v":33000},"Quality Control Supervisor","Controller","USA",{"$f":"VLOOKUP(tblSalaries[[#This Row],[Where do you work]],tblCountries[[Actual]:[Mapping]],2,FALSE)","v":"USA"},{"$f":"VLOOKUP(tblSalaries[[#This Row],[clean Country]]&\"*\",Cont_Table,2,0)","v":"North America"},"4 to 6 hours a day",3]
[null,"ID1374","2012-05-29T20:20:21",{"$f":"LEFT(tblSalaries[[#This Row],[Timestamp]],FIND(\".\",tblSalaries[[#This Row],[Timestamp]],1))","v":"41058."},"$100,000 US",100000,"USD",{"$f":"tblSalaries[[#This Row],[clean Salary (in local currency)]]*VLOOKUP(tblSalaries[[#This Row],[Currency]],tblXrate[],2,FALSE)","v":100000},"Senior Financial Analyst","Analyst","USA",{"$f":"VLOOKUP(tblSalaries[[#This Row],[Where do you work]],tblCountries[[Actual]:[Mapping]],2,FALSE)","v":"USA"},{"$f":"VLOOKUP(tblSalaries[[#This Row],[clean Country]]&\"*\",Cont_Table,2,0)","v":"North America"},"4 to 6 hours a day",1]
[null,"ID1375","2012-05-29T20:40:12",{"$f":"LEFT(tblSalaries[[#This Row],[Timestamp]],FIND(\".\",tblSalaries[[#This Row],[Timestamp]],1))","v":"41058."},"$60,000 USD",60000,"USD",{"$f":"tblSalaries[[#This Row],[clean Salary (in local currency)]]*VLOOKUP(tblSalaries[[#This Row],[Currency]],tblXrate[],2,FALSE)","v":60000},"project manager","Manager","USA",{"$f":"VLOOKUP(tblSalaries[[#This Row],[Where do you work]],tblCountries[[Actual]:[Mapping]],2,FALSE)","v":"USA"},{"$f":"VLOOKUP(tblSalaries[[#This Row],[clean Country]]&\"*\",Cont_Table,2,0)","v":"North America"},"2 to 3 hours per day",20]
[null,"ID1376","2012-05-29T20:53:43",{"$f":"LEFT(tblSalaries[[#This Row],[Timestamp]],FIND(\".\",tblSalaries[[#This Row],[Timestamp]],1))","v":"41058."},95000,95000,"USD",{"$f":"tblSalaries[[#This Row],[clean Salary (in local currency)]]*VLOOKUP(tblSalaries[[#This Row],[Currency]],tblXrate[],2,FALSE)","v":95000},"Cost Analyst","Analyst","USA",{"$f":"VLOOKUP(tblSalaries[[#This Row],[Where do you work]],tblCountries[[Actual]:[Mapping]],2,FALSE)","v":"USA"},{"$f":"VLOOKUP(tblSalaries[[#This Row],[clean Country]]&\"*\",Cont_Table,2,0)","v":"North America"},"2 to 3 hours per day",7]
[null,"ID1377","2012-05-29T21:07:27",{"$f":"LEFT(tblSalaries[[#This Row],[Timestamp]],FIND(\".\",tblSalaries[[#This Row],[Timestamp]],1))","v":"41058."},24000,24000,"USD",{"$f":"tblSalaries[[#This Row],[clean Salary (in local currency)]]*VLOOKUP(tblSalaries[[#This Row],[Currency]],tblXrate[],2,FALSE)","v":24000},"clerk 24 hrs per week","Analyst","USA",{"$f":"VLOOKUP(tblSalaries[[#This Row],[Where do you work]],tblCountries[[Actual]:[Mapping]],2,FALSE)","v":"USA"},{"$f":"VLOOKUP(tblSalaries[[#This Row],[clean Country]]&\"*\",Cont_Table,2,0)","v":"North America"},"1 or 2 hours a day",33]
[null,"ID1378","2012-05-29T21:17:26",{"$f":"LEFT(tblSalaries[[#This Row],[Timestamp]],FIND(\".\",tblSalaries[[#This Row],[Timestamp]],1))","v":"41058."},50000,50000,"USD",{"$f":"tblSalaries[[#This Row],[clean Salary (in local currency)]]*VLOOKUP(tblSalaries[[#This Row],[Currency]],tblXrate[],2,FALSE)","v":50000},"Engineering Intern","Engineer","USA",{"$f":"VLOOKUP(tblSalaries[[#This Row],[Where do you work]],tblCountries[[Actual]:[Mapping]],2,FALSE)","v":"USA"},{"$f":"VLOOKUP(tblSalaries[[#This Row],[clean Country]]&\"*\",Cont_Table,2,0)","v":"North America"},"4 to 6 hours a day",0.5]
[null,"ID1379","2012-05-29T21:25:03",{"$f":"LEFT(tblSalaries[[#This Row],[Timestamp]],FIND(\".\",tblSalaries[[#This Row],[Timestamp]],1))","v":"41058."},103000,103000,"USD",{"$f":"tblSalaries[[#This Row],[clean Salary (in local currency)]]*VLOOKUP(tblSalaries[[#This Row],[Currency]],tblXrate[],2,FALSE)","v":103000},"Controller","Controller","USA",{"$f":"VLOOKUP(tblSalaries[[#This Row],[Where do you work]],tblCountries[[Actual]:[Mapping]],2,FALSE)","v":"USA"},{"$f":"VLOOKUP(tblSalaries[[#This Row],[clean Country]]&\"*\",Cont_Table,2,0)","v":"North America"},"4 to 6 hours a day",22]
[null,"ID1380","2012-05-29T21:27:23",{"$f":"LEFT(tblSalaries[[#This Row],[Timestamp]],FIND(\".\",tblSalaries[[#This Row],[Timestamp]],1))","v":"41058."},36000,36000,"USD",{"$f":"tblSalaries[[#This Row],[clean Salary (in local currency)]]*VLOOKUP(tblSalaries[[#This Row],[Currency]],tblXrate[],2,FALSE)","v":36000},"Data Specialist","Specialist","USA",{"$f":"VLOOKUP(tblSalaries[[#This Row],[Where do you work]],tblCountries[[Actual]:[Mapping]],2,FALSE)","v":"USA"},{"$f":"VLOOKUP(tblSalaries[[#This Row],[clean Country]]&\"*\",Cont_Table,2,0)","v":"North America"},"All the 8 hours baby, all the 8!",8]
[null,"ID1381","2012-05-29T21:28:07",{"$f":"LEFT(tblSalaries[[#This Row],[Timestamp]],FIND(\".\",tblSalaries[[#This Row],[Timestamp]],1))","v":"41058."},85000,85000,"USD",{"$f":"tblSalaries[[#This Row],[clean Salary (in local currency)]]*VLOOKUP(tblSalaries[[#This Row],[Currency]],tblXrate[],2,FALSE)","v":85000},"Senior Analyst","Analyst","USA",{"$f":"VLOOKUP(tblSalaries[[#This Row],[Where do you work]],tblCountries[[Actual]:[Mapping]],2,FALSE)","v":"USA"},{"$f":"VLOOKUP(tblSalaries[[#This Row],[clean Country]]&\"*\",Cont_Table,2,0)","v":"North America"},"4 to 6 hours a day",17]
[null,"ID1382","2012-05-29T21:29:36",{"$f":"LEFT(tblSalaries[[#This Row],[Timestamp]],FIND(\".\",tblSalaries[[#This Row],[Timestamp]],1))","v":"41058."},100000,100000,"USD",{"$f":"tblSalaries[[#This Row],[clean Salary (in local currency)]]*VLOOKUP(tblSalaries[[#This Row],[Currency]],tblXrate[],2,FALSE)","v":100000},"Vice Head of Dpt in Education","CXO or Top Mgmt.","Sweden",{"$f":"VLOOKUP(tblSalaries[[#This Row],[Where do you work]],tblCountries[[Actual]:[Mapping]],2,FALSE)","v":"Sweden"},{"$f":"VLOOKUP(tblSalaries[[#This Row],[clean Country]]&\"*\",Cont_Table,2,0)","v":"Europe"},"2 to 3 hours per day",20]
[null,"ID1383","2012-05-29T21:33:42",{"$f":"LEFT(tblSalaries[[#This Row],[Timestamp]],FIND(\".\",tblSalaries[[#This Row],[Timestamp]],1))","v":"41058."},"$83000 USD ",83000,"USD",{"$f":"tblSalaries[[#This Row],[clean Salary (in local currency)]]*VLOOKUP(tblSalaries[[#This Row],[Currency]],tblXrate[],2,FALSE)","v":83000},"Senior Planning Analyst","Analyst","Canada",{"$f":"VLOOKUP(tblSalaries[[#This Row],[Where do you work]],tblCountries[[Actual]:[Mapping]],2,FALSE)","v":"Canada"},{"$f":"VLOOKUP(tblSalaries[[#This Row],[clean Country]]&\"*\",Cont_Table,2,0)","v":"North America"},"4 to 6 hours a day",12]
[null,"ID1384","2012-05-29T21:38:10",{"$f":"LEFT(tblSalaries[[#This Row],[Timestamp]],FIND(\".\",tblSalaries[[#This Row],[Timestamp]],1))","v":"41058."},85000,85000,"USD",{"$f":"tblSalaries[[#This Row],[clean Salary (in local currency)]]*VLOOKUP(tblSalaries[[#This Row],[Currency]],tblXrate[],2,FALSE)","v":85000},"energy engineer","Engineer","USA",{"$f":"VLOOKUP(tblSalaries[[#This Row],[Where do you work]],tblCountries[[Actual]:[Mapping]],2,FALSE)","v":"USA"},{"$f":"VLOOKUP(tblSalaries[[#This Row],[clean Country]]&\"*\",Cont_Table,2,0)","v":"North America"},"2 to 3 hours per day",25]
[null,"ID1385","2012-05-29T21:42:44",{"$f":"LEFT(tblSalaries[[#This Row],[Timestamp]],FIND(\".\",tblSalaries[[#This Row],[Timestamp]],1))","v":"41058."},120000,120000,"USD",{"$f":"tblSalaries[[#This Row],[clean Salary (in local currency)]]*VLOOKUP(tblSalaries[[#This Row],[Currency]],tblXrate[],2,FALSE)","v":120000},"Finance Manager","Manager","USA",{"$f":"VLOOKUP(tblSalaries[[#This Row],[Where do you work]],tblCountries[[Actual]:[Mapping]],2,FALSE)","v":"USA"},{"$f":"VLOOKUP(tblSalaries[[#This Row],[clean Country]]&\"*\",Cont_Table,2,0)","v":"North America"},"2 to 3 hours per day",5]
[null,"ID1386","2012-05-29T21:44:00",{"$f":"LEFT(tblSalaries[[#This Row],[Timestamp]],FIND(\".\",tblSalaries[[#This Row],[Timestamp]],1))","v":"41058."},69960,69960,"USD",{"$f":"tblSalaries[[#This Row],[clean Salary (in local currency)]]*VLOOKUP(tblSalaries[[#This Row],[Currency]],tblXrate[],2,FALSE)","v":69960},"Measurement & Verification Engineer","Engineer","USA",{"$f":"VLOOKUP(tblSalaries[[#This Row],[Where do you work]],tblCountries[[Actual]:[Mapping]],2,FALSE)","v":"USA"},{"$f":"VLOOKUP(tblSalaries[[#This Row],[clean Country]]&\"*\",Cont_Table,2,0)","v":"North America"},"2 to 3 hours per day",22]
[null,"ID1387","2012-05-29T21:46:28",{"$f":"LEFT(tblSalaries[[#This Row],[Timestamp]],FIND(\".\",tblSalaries[[#This Row],[Timestamp]],1))","v":"41058."},"97,000 USD",97000,"USD",{"$f":"tblSalaries[[#This Row],[clean Salary (in local currency)]]*VLOOKUP(tblSalaries[[#This Row],[Currency]],tblXrate[],2,FALSE)","v":97000},"Sr. Manager of Finance","Manager","USA",{"$f":"VLOOKUP(tblSalaries[[#This Row],[Where do you work]],tblCountries[[Actual]:[Mapping]],2,FALSE)","v":"USA"},{"$f":"VLOOKUP(tblSalaries[[#This Row],[clean Country]]&\"*\",Cont_Table,2,0)","v":"North America"},"4 to 6 hours a day",14]
[null,"ID1388","2012-05-29T21:48:13",{"$f":"LEFT(tblSalaries[[#This Row],[Timestamp]],FIND(\".\",tblSalaries[[#This Row],[Timestamp]],1))","v":"41058."},"60000 $",60000,"GBP",{"$f":"tblSalaries[[#This Row],[clean Salary (in local currency)]]*VLOOKUP(tblSalaries[[#This Row],[Currency]],tblXrate[],2,FALSE)","v":94570.696324037053},"Analyst","Analyst","UK",{"$f":"VLOOKUP(tblSalaries[[#This Row],[Where do you work]],tblCountries[[Actual]:[Mapping]],2,FALSE)","v":"UK"},{"$f":"VLOOKUP(tblSalaries[[#This Row],[clean Country]]&\"*\",Cont_Table,2,0)","v":"Europe"},"4 to 6 hours a day",7]
[null,"ID1389","2012-05-29T21:50:30",{"$f":"LEFT(tblSalaries[[#This Row],[Timestamp]],FIND(\".\",tblSalaries[[#This Row],[Timestamp]],1))","v":"41058."},39000,39000,"USD",{"$f":"tblSalaries[[#This Row],[clean Salary (in local currency)]]*VLOOKUP(tblSalaries[[#This Row],[Currency]],tblXrate[],2,FALSE)","v":39000},"I.T Manager","Manager","South Africa",{"$f":"VLOOKUP(tblSalaries[[#This Row],[Where do you work]],tblCountries[[Actual]:[Mapping]],2,FALSE)","v":"South Africa"},{"$f":"VLOOKUP(tblSalaries[[#This Row],[clean Country]]&\"*\",Cont_Table,2,0)","v":"Africa"},"All the 8 hours baby, all the 8!",6]
[null,"ID1390","2012-05-29T21:50:45",{"$f":"LEFT(tblSalaries[[#This Row],[Timestamp]],FIND(\".\",tblSalaries[[#This Row],[Timestamp]],1))","v":"41058."},"Rs 250000",250000,"INR",{"$f":"tblSalaries[[#This Row],[clean Salary (in local currency)]]*VLOOKUP(tblSalaries[[#This Row],[Currency]],tblXrate[],2,FALSE)","v":4451.9791718606421},"Manager","Manager","India",{"$f":"VLOOKUP(tblSalaries[[#This Row],[Where do you work]],tblCountries[[Actual]:[Mapping]],2,FALSE)","v":"India"},{"$f":"VLOOKUP(tblSalaries[[#This Row],[clean Country]]&\"*\",Cont_Table,2,0)","v":"Asia"},"1 or 2 hours a day",15]
[null,"ID1391","2012-05-29T21:54:33",{"$f":"LEFT(tblSalaries[[#This Row],[Timestamp]],FIND(\".\",tblSalaries[[#This Row],[Timestamp]],1))","v":"41058."},62000,62000,"USD",{"$f":"tblSalaries[[#This Row],[clean Salary (in local currency)]]*VLOOKUP(tblSalaries[[#This Row],[Currency]],tblXrate[],2,FALSE)","v":62000},"Measurement Specialist","Specialist","USA",{"$f":"VLOOKUP(tblSalaries[[#This Row],[Where do you work]],tblCountries[[Actual]:[Mapping]],2,FALSE)","v":"USA"},{"$f":"VLOOKUP(tblSalaries[[#This Row],[clean Country]]&\"*\",Cont_Table,2,0)","v":"North America"},"All the 8 hours baby, all the 8!",25]
[null,"ID1392","2012-05-29T21:59:35",{"$f":"LEFT(tblSalaries[[#This Row],[Timestamp]],FIND(\".\",tblSalaries[[#This Row],[Timestamp]],1))","v":"41058."},44000,44000,"USD",{"$f":"tblSalaries[[#This Row],[clean Salary (in local currency)]]*VLOOKUP(tblSalaries[[#This Row],[Currency]],tblXrate[],2,FALSE)","v":44000},"Test engineer","Engineer","USA",{"$f":"VLOOKUP(tblSalaries[[#This Row],[Where do you work]],tblCountries[[Actual]:[Mapping]],2,FALSE)","v":"USA"},{"$f":"VLOOKUP(tblSalaries[[#This Row],[clean Country]]&\"*\",Cont_Table,2,0)","v":"North America"},"4 to 6 hours a day",15]
[null,"ID1393","2012-05-29T22:02:31",{"$f":"LEFT(tblSalaries[[#This Row],[Timestamp]],FIND(\".\",tblSalaries[[#This Row],[Timestamp]],1))","v":"41058."},150000,150000,"USD",{"$f":"tblSalaries[[#This Row],[clean Salary (in local currency)]]*VLOOKUP(tblSalaries[[#This Row],[Currency]],tblXrate[],2,FALSE)","v":150000},"VP, Business Management","Manager","USA",{"$f":"VLOOKUP(tblSalaries[[#This Row],[Where do you work]],tblCountries[[Actual]:[Mapping]],2,FALSE)","v":"USA"},{"$f":"VLOOKUP(tblSalaries[[#This Row],[clean Country]]&\"*\",Cont_Table,2,0)","v":"North America"},"2 to 3 hours per day",30]
[null,"ID1394","2012-05-29T22:04:09",{"$f":"LEFT(tblSalaries[[#This Row],[Timestamp]],FIND(\".\",tblSalaries[[#This Row],[Timestamp]],1))","v":"41058."},180000,180000,"EUR",{"$f":"tblSalaries[[#This Row],[clean Salary (in local currency)]]*VLOOKUP(tblSalaries[[#This Row],[Currency]],tblXrate[],2,FALSE)","v":228671.89901848941},"MIS Controller","Controller","Europe",{"$f":"VLOOKUP(tblSalaries[[#This Row],[Where do you work]],tblCountries[[Actual]:[Mapping]],2,FALSE)","v":"Europe"},{"$f":"VLOOKUP(tblSalaries[[#This Row],[clean Country]]&\"*\",Cont_Table,2,0)","v":"Europe"},"4 to 6 hours a day",15]
[null,"ID1395","2012-05-29T22:13:08",{"$f":"LEFT(tblSalaries[[#This Row],[Timestamp]],FIND(\".\",tblSalaries[[#This Row],[Timestamp]],1))","v":"41058."},73500,73500,"USD",{"$f":"tblSalaries[[#This Row],[clean Salary (in local currency)]]*VLOOKUP(tblSalaries[[#This Row],[Currency]],tblXrate[],2,FALSE)","v":73500},"Senior Underwriting Analyst","Analyst","USA",{"$f":"VLOOKUP(tblSalaries[[#This Row],[Where do you work]],tblCountries[[Actual]:[Mapping]],2,FALSE)","v":"USA"},{"$f":"VLOOKUP(tblSalaries[[#This Row],[clean Country]]&\"*\",Cont_Table,2,0)","v":"North America"},"All the 8 hours baby, all the 8!",6]
[null,"ID1396","2012-05-29T22:14:19",{"$f":"LEFT(tblSalaries[[#This Row],[Timestamp]],FIND(\".\",tblSalaries[[#This Row],[Timestamp]],1))","v":"41058."},77500,77500,"USD",{"$f":"tblSalaries[[#This Row],[clean Salary (in local currency)]]*VLOOKUP(tblSalaries[[#This Row],[Currency]],tblXrate[],2,FALSE)","v":77500},"Sr Financial Analyst","Analyst","USA",{"$f":"VLOOKUP(tblSalaries[[#This Row],[Where do you work]],tblCountries[[Actual]:[Mapping]],2,FALSE)","v":"USA"},{"$f":"VLOOKUP(tblSalaries[[#This Row],[clean Country]]&\"*\",Cont_Table,2,0)","v":"North America"},"4 to 6 hours a day",7]
[null,"ID1397","2012-05-29T22:18:48",{"$f":"LEFT(tblSalaries[[#This Row],[Timestamp]],FIND(\".\",tblSalaries[[#This Row],[Timestamp]],1))","v":"41058."},60800,60800,"USD",{"$f":"tblSalaries[[#This Row],[clean Salary (in local currency)]]*VLOOKUP(tblSalaries[[#This Row],[Currency]],tblXrate[],2,FALSE)","v":60800},"Data Integrity & Reporting Tool Analyst","Analyst","USA",{"$f":"VLOOKUP(tblSalaries[[#This Row],[Where do you work]],tblCountries[[Actual]:[Mapping]],2,FALSE)","v":"USA"},{"$f":"VLOOKUP(tblSalaries[[#This Row],[clean Country]]&\"*\",Cont_Table,2,0)","v":"North America"},"All the 8 hours baby, all the 8!",10]
[null,"ID1398","2012-05-29T22:24:28",{"$f":"LEFT(tblSalaries[[#This Row],[Timestamp]],FIND(\".\",tblSalaries[[#This Row],[Timestamp]],1))","v":"41058."},136000,136000,"USD",{"$f":"tblSalaries[[#This Row],[clean Salary (in local currency)]]*VLOOKUP(tblSalaries[[#This Row],[Currency]],tblXrate[],2,FALSE)","v":136000},"Manager FP and A","Manager","USA",{"$f":"VLOOKUP(tblSalaries[[#This Row],[Where do you work]],tblCountries[[Actual]:[Mapping]],2,FALSE)","v":"USA"},{"$f":"VLOOKUP(tblSalaries[[#This Row],[clean Country]]&\"*\",Cont_Table,2,0)","v":"North America"},"4 to 6 hours a day",10]
[null,"ID1399","2012-05-29T22:32:16",{"$f":"LEFT(tblSalaries[[#This Row],[Timestamp]],FIND(\".\",tblSalaries[[#This Row],[Timestamp]],1))","v":"41058."},20000,20000,"USD",{"$f":"tblSalaries[[#This Row],[clean Salary (in local currency)]]*VLOOKUP(tblSalaries[[#This Row],[Currency]],tblXrate[],2,FALSE)","v":20000},"Business Operation Specialist","Specialist","India",{"$f":"VLOOKUP(tblSalaries[[#This Row],[Where do you work]],tblCountries[[Actual]:[Mapping]],2,FALSE)","v":"India"},{"$f":"VLOOKUP(tblSalaries[[#This Row],[clean Country]]&\"*\",Cont_Table,2,0)","v":"Asia"},"4 to 6 hours a day",6]
[null,"ID1400","2012-05-29T22:35:17",{"$f":"LEFT(tblSalaries[[#This Row],[Timestamp]],FIND(\".\",tblSalaries[[#This Row],[Timestamp]],1))","v":"41058."},95000,95000,"USD",{"$f":"tblSalaries[[#This Row],[clean Salary (in local currency)]]*VLOOKUP(tblSalaries[[#This Row],[Currency]],tblXrate[],2,FALSE)","v":95000},"Stress Engineer","Engineer","USA",{"$f":"VLOOKUP(tblSalaries[[#This Row],[Where do you work]],tblCountries[[Actual]:[Mapping]],2,FALSE)","v":"USA"},{"$f":"VLOOKUP(tblSalaries[[#This Row],[clean Country]]&\"*\",Cont_Table,2,0)","v":"North America"},"4 to 6 hours a day",14]
[null,"ID1401","2012-05-29T22:47:10",{"$f":"LEFT(tblSalaries[[#This Row],[Timestamp]],FIND(\".\",tblSalaries[[#This Row],[Timestamp]],1))","v":"41058."},130000,130000,"USD",{"$f":"tblSalaries[[#This Row],[clean Salary (in local currency)]]*VLOOKUP(tblSalaries[[#This Row],[Currency]],tblXrate[],2,FALSE)","v":130000},"Manager","Manager","USA",{"$f":"VLOOKUP(tblSalaries[[#This Row],[Where do you work]],tblCountries[[Actual]:[Mapping]],2,FALSE)","v":"USA"},{"$f":"VLOOKUP(tblSalaries[[#This Row],[clean Country]]&\"*\",Cont_Table,2,0)","v":"North America"},"1 or 2 hours a day",25]
[null,"ID1402","2012-05-29T22:50:16",{"$f":"LEFT(tblSalaries[[#This Row],[Timestamp]],FIND(\".\",tblSalaries[[#This Row],[Timestamp]],1))","v":"41058."},65000,65000,"USD",{"$f":"tblSalaries[[#This Row],[clean Salary (in local currency)]]*VLOOKUP(tblSalaries[[#This Row],[Currency]],tblXrate[],2,FALSE)","v":65000},"eeo analyst","Analyst","USA",{"$f":"VLOOKUP(tblSalaries[[#This Row],[Where do you work]],tblCountries[[Actual]:[Mapping]],2,FALSE)","v":"USA"},{"$f":"VLOOKUP(tblSalaries[[#This Row],[clean Country]]&\"*\",Cont_Table,2,0)","v":"North America"},"2 to 3 hours per day",10]
[null,"ID1403","2012-05-29T22:50:20",{"$f":"LEFT(tblSalaries[[#This Row],[Timestamp]],FIND(\".\",tblSalaries[[#This Row],[Timestamp]],1))","v":"41058."},80000,80000,"USD",{"$f":"tblSalaries[[#This Row],[clean Salary (in local currency)]]*VLOOKUP(tblSalaries[[#This Row],[Currency]],tblXrate[],2,FALSE)","v":80000},"Sr Process Consultant","Consultant","USA",{"$f":"VLOOKUP(tblSalaries[[#This Row],[Where do you work]],tblCountries[[Actual]:[Mapping]],2,FALSE)","v":"USA"},{"$f":"VLOOKUP(tblSalaries[[#This Row],[clean Country]]&\"*\",Cont_Table,2,0)","v":"North America"},"2 to 3 hours per day",8]
[null,"ID1404","2012-05-29T22:56:24",{"$f":"LEFT(tblSalaries[[#This Row],[Timestamp]],FIND(\".\",tblSalaries[[#This Row],[Timestamp]],1))","v":"41058."},"37K",37000,"USD",{"$f":"tblSalaries[[#This Row],[clean Salary (in local currency)]]*VLOOKUP(tblSalaries[[#This Row],[Currency]],tblXrate[],2,FALSE)","v":37000},"Credentialing Coordinator & Productivity Reports \"Guru\"","Reporting","USA",{"$f":"VLOOKUP(tblSalaries[[#This Row],[Where do you work]],tblCountries[[Actual]:[Mapping]],2,FALSE)","v":"USA"},{"$f":"VLOOKUP(tblSalaries[[#This Row],[clean Country]]&\"*\",Cont_Table,2,0)","v":"North America"},"2 to 3 hours per day",30]
[null,"ID1405","2012-05-29T23:06:00",{"$f":"LEFT(tblSalaries[[#This Row],[Timestamp]],FIND(\".\",tblSalaries[[#This Row],[Timestamp]],1))","v":"41058."},40000,40000,"USD",{"$f":"tblSalaries[[#This Row],[clean Salary (in local currency)]]*VLOOKUP(tblSalaries[[#This Row],[Currency]],tblXrate[],2,FALSE)","v":40000},"Transportation Planner","Manager","USA",{"$f":"VLOOKUP(tblSalaries[[#This Row],[Where do you work]],tblCountries[[Actual]:[Mapping]],2,FALSE)","v":"USA"},{"$f":"VLOOKUP(tblSalaries[[#This Row],[clean Country]]&\"*\",Cont_Table,2,0)","v":"North America"},"1 or 2 hours a day",8]
[null,"ID1406","2012-05-29T23:08:45",{"$f":"LEFT(tblSalaries[[#This Row],[Timestamp]],FIND(\".\",tblSalaries[[#This Row],[Timestamp]],1))","v":"41058."},49000,49000,"USD",{"$f":"tblSalaries[[#This Row],[clean Salary (in local currency)]]*VLOOKUP(tblSalaries[[#This Row],[Currency]],tblXrate[],2,FALSE)","v":49000},"Research Analyst","Analyst","USA",{"$f":"VLOOKUP(tblSalaries[[#This Row],[Where do you work]],tblCountries[[Actual]:[Mapping]],2,FALSE)","v":"USA"},{"$f":"VLOOKUP(tblSalaries[[#This Row],[clean Country]]&\"*\",Cont_Table,2,0)","v":"North America"},"4 to 6 hours a day",10]
[null,"ID1407","2012-05-29T23:09:29",{"$f":"LEFT(tblSalaries[[#This Row],[Timestamp]],FIND(\".\",tblSalaries[[#This Row],[Timestamp]],1))","v":"41058."},65000,65000,"USD",{"$f":"tblSalaries[[#This Row],[clean Salary (in local currency)]]*VLOOKUP(tblSalaries[[#This Row],[Currency]],tblXrate[],2,FALSE)","v":65000},"Data Analyst","Analyst","USA",{"$f":"VLOOKUP(tblSalaries[[#This Row],[Where do you work]],tblCountries[[Actual]:[Mapping]],2,FALSE)","v":"USA"},{"$f":"VLOOKUP(tblSalaries[[#This Row],[clean Country]]&\"*\",Cont_Table,2,0)","v":"North America"},"All the 8 hours baby, all the 8!",14]
[null,"ID1408","2012-05-29T23:13:32",{"$f":"LEFT(tblSalaries[[#This Row],[Timestamp]],FIND(\".\",tblSalaries[[#This Row],[Timestamp]],1))","v":"41058."},55000,55000,"USD",{"$f":"tblSalaries[[#This Row],[clean Salary (in local currency)]]*VLOOKUP(tblSalaries[[#This Row],[Currency]],tblXrate[],2,FALSE)","v":55000},"Risk Analyst","Analyst","USA",{"$f":"VLOOKUP(tblSalaries[[#This Row],[Where do you work]],tblCountries[[Actual]:[Mapping]],2,FALSE)","v":"USA"},{"$f":"VLOOKUP(tblSalaries[[#This Row],[clean Country]]&\"*\",Cont_Table,2,0)","v":"North America"},"All the 8 hours baby, all the 8!",1]
[null,"ID1409","2012-05-29T23:20:41",{"$f":"LEFT(tblSalaries[[#This Row],[Timestamp]],FIND(\".\",tblSalaries[[#This Row],[Timestamp]],1))","v":"41058."},40000,40000,"USD",{"$f":"tblSalaries[[#This Row],[clean Salary (in local currency)]]*VLOOKUP(tblSalaries[[#This Row],[Currency]],tblXrate[],2,FALSE)","v":40000},"Project Coordinator","Manager","USA",{"$f":"VLOOKUP(tblSalaries[[#This Row],[Where do you work]],tblCountries[[Actual]:[Mapping]],2,FALSE)","v":"USA"},{"$f":"VLOOKUP(tblSalaries[[#This Row],[clean Country]]&\"*\",Cont_Table,2,0)","v":"North America"},"4 to 6 hours a day",1]
[null,"ID1410","2012-05-29T23:21:25",{"$f":"LEFT(tblSalaries[[#This Row],[Timestamp]],FIND(\".\",tblSalaries[[#This Row],[Timestamp]],1))","v":"41058."},60000,60000,"USD",{"$f":"tblSalaries[[#This Row],[clean Salary (in local currency)]]*VLOOKUP(tblSalaries[[#This Row],[Currency]],tblXrate[],2,FALSE)","v":60000},"business analyst","Analyst","USA",{"$f":"VLOOKUP(tblSalaries[[#This Row],[Where do you work]],tblCountries[[Actual]:[Mapping]],2,FALSE)","v":"USA"},{"$f":"VLOOKUP(tblSalaries[[#This Row],[clean Country]]&\"*\",Cont_Table,2,0)","v":"North America"},"4 to 6 hours a day",15]
[null,"ID1411","2012-05-29T23:31:03",{"$f":"LEFT(tblSalaries[[#This Row],[Timestamp]],FIND(\".\",tblSalaries[[#This Row],[Timestamp]],1))","v":"41058."},"36000 euros",36000,"EUR",{"$f":"tblSalaries[[#This Row],[clean Salary (in local currency)]]*VLOOKUP(tblSalaries[[#This Row],[Currency]],tblXrate[],2,FALSE)","v":45734.379803697877},"Data Analytics Consultant","Analyst","Ireland",{"$f":"VLOOKUP(tblSalaries[[#This Row],[Where do you work]],tblCountries[[Actual]:[Mapping]],2,FALSE)","v":"Ireland"},{"$f":"VLOOKUP(tblSalaries[[#This Row],[clean Country]]&\"*\",Cont_Table,2,0)","v":"Europe"},"2 to 3 hours per day",4]
[null,"ID1412","2012-05-29T23:39:13",{"$f":"LEFT(tblSalaries[[#This Row],[Timestamp]],FIND(\".\",tblSalaries[[#This Row],[Timestamp]],1))","v":"41058."},150000,150000,"USD",{"$f":"tblSalaries[[#This Row],[clean Salary (in local currency)]]*VLOOKUP(tblSalaries[[#This Row],[Currency]],tblXrate[],2,FALSE)","v":150000},"Senior Analyst","Analyst","USA",{"$f":"VLOOKUP(tblSalaries[[#This Row],[Where do you work]],tblCountries[[Actual]:[Mapping]],2,FALSE)","v":"USA"},{"$f":"VLOOKUP(tblSalaries[[#This Row],[clean Country]]&\"*\",Cont_Table,2,0)","v":"North America"},"2 to 3 hours per day",30]
[null,"ID1413","2012-05-29T23:44:26",{"$f":"LEFT(tblSalaries[[#This Row],[Timestamp]],FIND(\".\",tblSalaries[[#This Row],[Timestamp]],1))","v":"41058."},88000,88000,"USD",{"$f":"tblSalaries[[#This Row],[clean Salary (in local currency)]]*VLOOKUP(tblSalaries[[#This Row],[Currency]],tblXrate[],2,FALSE)","v":88000},"Manager, Financial Planning & Analysis","Manager","USA",{"$f":"VLOOKUP(tblSalaries[[#This Row],[Where do you work]],tblCountries[[Actual]:[Mapping]],2,FALSE)","v":"USA"},{"$f":"VLOOKUP(tblSalaries[[#This Row],[clean Country]]&\"*\",Cont_Table,2,0)","v":"North America"},"4 to 6 hours a day",21]
[null,"ID1414","2012-05-30T00:02:08",{"$f":"LEFT(tblSalaries[[#This Row],[Timestamp]],FIND(\".\",tblSalaries[[#This Row],[Timestamp]],1))","v":"41059."},64500,64500,"USD",{"$f":"tblSalaries[[#This Row],[clean Salary (in local currency)]]*VLOOKUP(tblSalaries[[#This Row],[Currency]],tblXrate[],2,FALSE)","v":64500},"Lead Budget/Financial Analyst","Analyst","USA",{"$f":"VLOOKUP(tblSalaries[[#This Row],[Where do you work]],tblCountries[[Actual]:[Mapping]],2,FALSE)","v":"USA"},{"$f":"VLOOKUP(tblSalaries[[#This Row],[clean Country]]&\"*\",Cont_Table,2,0)","v":"North America"},"4 to 6 hours a day",13]
[null,"ID1415","2012-05-30T00:13:07",{"$f":"LEFT(tblSalaries[[#This Row],[Timestamp]],FIND(\".\",tblSalaries[[#This Row],[Timestamp]],1))","v":"41059."},"216000.00 Saudi Riyak",216000,"SAR",{"$f":"tblSalaries[[#This Row],[clean Salary (in local currency)]]*VLOOKUP(tblSalaries[[#This Row],[Currency]],tblXrate[],2,FALSE)","v":57600},"Senior Electrical Engineer","Engineer","Saudi Arabia",{"$f":"VLOOKUP(tblSalaries[[#This Row],[Where do you work]],tblCountries[[Actual]:[Mapping]],2,FALSE)","v":"Saudi Arabia"},{"$f":"VLOOKUP(tblSalaries[[#This Row],[clean Country]]&\"*\",Cont_Table,2,0)","v":"Asia"},"4 to 6 hours a day",20]
[null,"ID1416","2012-05-30T00:22:28",{"$f":"LEFT(tblSalaries[[#This Row],[Timestamp]],FIND(\".\",tblSalaries[[#This Row],[Timestamp]],1))","v":"41059."},50000,50000,"USD",{"$f":"tblSalaries[[#This Row],[clean Salary (in local currency)]]*VLOOKUP(tblSalaries[[#This Row],[Currency]],tblXrate[],2,FALSE)","v":50000},"Accounting Supervisor","Accountant","USA",{"$f":"VLOOKUP(tblSalaries[[#This Row],[Where do you work]],tblCountries[[Actual]:[Mapping]],2,FALSE)","v":"USA"},{"$f":"VLOOKUP(tblSalaries[[#This Row],[clean Country]]&\"*\",Cont_Table,2,0)","v":"North America"},"4 to 6 hours a day",15]
[null,"ID1417","2012-05-30T00:25:43",{"$f":"LEFT(tblSalaries[[#This Row],[Timestamp]],FIND(\".\",tblSalaries[[#This Row],[Timestamp]],1))","v":"41059."},120000,120000,"USD",{"$f":"tblSalaries[[#This Row],[clean Salary (in local currency)]]*VLOOKUP(tblSalaries[[#This Row],[Currency]],tblXrate[],2,FALSE)","v":120000},"Finance Manager","Manager","USA",{"$f":"VLOOKUP(tblSalaries[[#This Row],[Where do you work]],tblCountries[[Actual]:[Mapping]],2,FALSE)","v":"USA"},{"$f":"VLOOKUP(tblSalaries[[#This Row],[clean Country]]&\"*\",Cont_Table,2,0)","v":"North America"},"2 to 3 hours per day",10]
[null,"ID1418","2012-05-30T00:34:53",{"$f":"LEFT(tblSalaries[[#This Row],[Timestamp]],FIND(\".\",tblSalaries[[#This Row],[Timestamp]],1))","v":"41059."},107000,107000,"USD",{"$f":"tblSalaries[[#This Row],[clean Salary (in local currency)]]*VLOOKUP(tblSalaries[[#This Row],[Currency]],tblXrate[],2,FALSE)","v":107000},"Tax Manager","Manager","USA",{"$f":"VLOOKUP(tblSalaries[[#This Row],[Where do you work]],tblCountries[[Actual]:[Mapping]],2,FALSE)","v":"USA"},{"$f":"VLOOKUP(tblSalaries[[#This Row],[clean Country]]&\"*\",Cont_Table,2,0)","v":"North America"},"All the 8 hours baby, all the 8!",29]
[null,"ID1419","2012-05-30T00:42:50",{"$f":"LEFT(tblSalaries[[#This Row],[Timestamp]],FIND(\".\",tblSalaries[[#This Row],[Timestamp]],1))","v":"41059."},40000,40000,"USD",{"$f":"tblSalaries[[#This Row],[clean Salary (in local currency)]]*VLOOKUP(tblSalaries[[#This Row],[Currency]],tblXrate[],2,FALSE)","v":40000},"Metrics Analyst","Analyst","USA",{"$f":"VLOOKUP(tblSalaries[[#This Row],[Where do you work]],tblCountries[[Actual]:[Mapping]],2,FALSE)","v":"USA"},{"$f":"VLOOKUP(tblSalaries[[#This Row],[clean Country]]&\"*\",Cont_Table,2,0)","v":"North America"},"2 to 3 hours per day",6]
[null,"ID1420","2012-05-30T00:50:03",{"$f":"LEFT(tblSalaries[[#This Row],[Timestamp]],FIND(\".\",tblSalaries[[#This Row],[Timestamp]],1))","v":"41059."},81000,81000,"USD",{"$f":"tblSalaries[[#This Row],[clean Salary (in local currency)]]*VLOOKUP(tblSalaries[[#This Row],[Currency]],tblXrate[],2,FALSE)","v":81000},"Finance & IT Manager","Manager","USA",{"$f":"VLOOKUP(tblSalaries[[#This Row],[Where do you work]],tblCountries[[Actual]:[Mapping]],2,FALSE)","v":"USA"},{"$f":"VLOOKUP(tblSalaries[[#This Row],[clean Country]]&\"*\",Cont_Table,2,0)","v":"North America"},"1 or 2 hours a day",12]
[null,"ID1421","2012-05-30T01:05:26",{"$f":"LEFT(tblSalaries[[#This Row],[Timestamp]],FIND(\".\",tblSalaries[[#This Row],[Timestamp]],1))","v":"41059."},45000,45000,"USD",{"$f":"tblSalaries[[#This Row],[clean Salary (in local currency)]]*VLOOKUP(tblSalaries[[#This Row],[Currency]],tblXrate[],2,FALSE)","v":45000},"Technical Support Specialist","Specialist","USA",{"$f":"VLOOKUP(tblSalaries[[#This Row],[Where do you work]],tblCountries[[Actual]:[Mapping]],2,FALSE)","v":"USA"},{"$f":"VLOOKUP(tblSalaries[[#This Row],[clean Country]]&\"*\",Cont_Table,2,0)","v":"North America"},"4 to 6 hours a day",20]
[null,"ID1422","2012-05-30T01:12:04",{"$f":"LEFT(tblSalaries[[#This Row],[Timestamp]],FIND(\".\",tblSalaries[[#This Row],[Timestamp]],1))","v":"41059."},49000,49000,"USD",{"$f":"tblSalaries[[#This Row],[clean Salary (in local currency)]]*VLOOKUP(tblSalaries[[#This Row],[Currency]],tblXrate[],2,FALSE)","v":49000},"Clinical Data Specialist","Specialist","USA",{"$f":"VLOOKUP(tblSalaries[[#This Row],[Where do you work]],tblCountries[[Actual]:[Mapping]],2,FALSE)","v":"USA"},{"$f":"VLOOKUP(tblSalaries[[#This Row],[clean Country]]&\"*\",Cont_Table,2,0)","v":"North America"},"4 to 6 hours a day",5]
[null,"ID1423","2012-05-30T01:12:35",{"$f":"LEFT(tblSalaries[[#This Row],[Timestamp]],FIND(\".\",tblSalaries[[#This Row],[Timestamp]],1))","v":"41059."},"INR 750000",750000,"INR",{"$f":"tblSalaries[[#This Row],[clean Salary (in local currency)]]*VLOOKUP(tblSalaries[[#This Row],[Currency]],tblXrate[],2,FALSE)","v":13355.937515581925},"Associate - Indirect Tax","CXO or Top Mgmt.","India",{"$f":"VLOOKUP(tblSalaries[[#This Row],[Where do you work]],tblCountries[[Actual]:[Mapping]],2,FALSE)","v":"India"},{"$f":"VLOOKUP(tblSalaries[[#This Row],[clean Country]]&\"*\",Cont_Table,2,0)","v":"Asia"},"1 or 2 hours a day",1]
[null,"ID1424","2012-05-30T01:15:32",{"$f":"LEFT(tblSalaries[[#This Row],[Timestamp]],FIND(\".\",tblSalaries[[#This Row],[Timestamp]],1))","v":"41059."},72000,72000,"USD",{"$f":"tblSalaries[[#This Row],[clean Salary (in local currency)]]*VLOOKUP(tblSalaries[[#This Row],[Currency]],tblXrate[],2,FALSE)","v":72000},"Manager","Manager","USA",{"$f":"VLOOKUP(tblSalaries[[#This Row],[Where do you work]],tblCountries[[Actual]:[Mapping]],2,FALSE)","v":"USA"},{"$f":"VLOOKUP(tblSalaries[[#This Row],[clean Country]]&\"*\",Cont_Table,2,0)","v":"North America"},"1 or 2 hours a day",20]
[null,"ID1425","2012-05-30T01:25:17",{"$f":"LEFT(tblSalaries[[#This Row],[Timestamp]],FIND(\".\",tblSalaries[[#This Row],[Timestamp]],1))","v":"41059."},50000,50000,"USD",{"$f":"tblSalaries[[#This Row],[clean Salary (in local currency)]]*VLOOKUP(tblSalaries[[#This Row],[Currency]],tblXrate[],2,FALSE)","v":50000},"Digital Analyst","Analyst","USA",{"$f":"VLOOKUP(tblSalaries[[#This Row],[Where do you work]],tblCountries[[Actual]:[Mapping]],2,FALSE)","v":"USA"},{"$f":"VLOOKUP(tblSalaries[[#This Row],[clean Country]]&\"*\",Cont_Table,2,0)","v":"North America"},"4 to 6 hours a day",7]
[null,"ID1426","2012-05-30T01:25:26",{"$f":"LEFT(tblSalaries[[#This Row],[Timestamp]],FIND(\".\",tblSalaries[[#This Row],[Timestamp]],1))","v":"41059."},57678.400000000001,57678,"USD",{"$f":"tblSalaries[[#This Row],[clean Salary (in local currency)]]*VLOOKUP(tblSalaries[[#This Row],[Currency]],tblXrate[],2,FALSE)","v":57678},"Financial Analyst","Analyst","USA",{"$f":"VLOOKUP(tblSalaries[[#This Row],[Where do you work]],tblCountries[[Actual]:[Mapping]],2,FALSE)","v":"USA"},{"$f":"VLOOKUP(tblSalaries[[#This Row],[clean Country]]&\"*\",Cont_Table,2,0)","v":"North America"},"4 to 6 hours a day",2]
[null,"ID1427","2012-05-30T01:29:51",{"$f":"LEFT(tblSalaries[[#This Row],[Timestamp]],FIND(\".\",tblSalaries[[#This Row],[Timestamp]],1))","v":"41059."},80442,80442,"USD",{"$f":"tblSalaries[[#This Row],[clean Salary (in local currency)]]*VLOOKUP(tblSalaries[[#This Row],[Currency]],tblXrate[],2,FALSE)","v":80442},"Senior Budget Analyst","Analyst","USA",{"$f":"VLOOKUP(tblSalaries[[#This Row],[Where do you work]],tblCountries[[Actual]:[Mapping]],2,FALSE)","v":"USA"},{"$f":"VLOOKUP(tblSalaries[[#This Row],[clean Country]]&\"*\",Cont_Table,2,0)","v":"North America"},"4 to 6 hours a day",16]
[null,"ID1428","2012-05-30T01:48:18",{"$f":"LEFT(tblSalaries[[#This Row],[Timestamp]],FIND(\".\",tblSalaries[[#This Row],[Timestamp]],1))","v":"41059."},75000,75000,"USD",{"$f":"tblSalaries[[#This Row],[clean Salary (in local currency)]]*VLOOKUP(tblSalaries[[#This Row],[Currency]],tblXrate[],2,FALSE)","v":75000},"HR Cordinator","Manager","USA",{"$f":"VLOOKUP(tblSalaries[[#This Row],[Where do you work]],tblCountries[[Actual]:[Mapping]],2,FALSE)","v":"USA"},{"$f":"VLOOKUP(tblSalaries[[#This Row],[clean Country]]&\"*\",Cont_Table,2,0)","v":"North America"},"1 or 2 hours a day",9]
[null,"ID1429","2012-05-30T01:52:33",{"$f":"LEFT(tblSalaries[[#This Row],[Timestamp]],FIND(\".\",tblSalaries[[#This Row],[Timestamp]],1))","v":"41059."},61000,61000,"USD",{"$f":"tblSalaries[[#This Row],[clean Salary (in local currency)]]*VLOOKUP(tblSalaries[[#This Row],[Currency]],tblXrate[],2,FALSE)","v":61000},"Treasury Analyst","Analyst","USA",{"$f":"VLOOKUP(tblSalaries[[#This Row],[Where do you work]],tblCountries[[Actual]:[Mapping]],2,FALSE)","v":"USA"},{"$f":"VLOOKUP(tblSalaries[[#This Row],[clean Country]]&\"*\",Cont_Table,2,0)","v":"North America"},"4 to 6 hours a day",12]
[null,"ID1430","2012-05-30T01:57:58",{"$f":"LEFT(tblSalaries[[#This Row],[Timestamp]],FIND(\".\",tblSalaries[[#This Row],[Timestamp]],1))","v":"41059."},77000,77000,"USD",{"$f":"tblSalaries[[#This Row],[clean Salary (in local currency)]]*VLOOKUP(tblSalaries[[#This Row],[Currency]],tblXrate[],2,FALSE)","v":77000},"Assistant Engineer","Engineer","USA",{"$f":"VLOOKUP(tblSalaries[[#This Row],[Where do you work]],tblCountries[[Actual]:[Mapping]],2,FALSE)","v":"USA"},{"$f":"VLOOKUP(tblSalaries[[#This Row],[clean Country]]&\"*\",Cont_Table,2,0)","v":"North America"},"4 to 6 hours a day",10]
[null,"ID1431","2012-05-30T02:18:02",{"$f":"LEFT(tblSalaries[[#This Row],[Timestamp]],FIND(\".\",tblSalaries[[#This Row],[Timestamp]],1))","v":"41059."},"92000 USD",92000,"USD",{"$f":"tblSalaries[[#This Row],[clean Salary (in local currency)]]*VLOOKUP(tblSalaries[[#This Row],[Currency]],tblXrate[],2,FALSE)","v":92000},"Controller","Controller","USA",{"$f":"VLOOKUP(tblSalaries[[#This Row],[Where do you work]],tblCountries[[Actual]:[Mapping]],2,FALSE)","v":"USA"},{"$f":"VLOOKUP(tblSalaries[[#This Row],[clean Country]]&\"*\",Cont_Table,2,0)","v":"North America"},"2 to 3 hours per day",9]
[null,"ID1432","2012-05-30T02:18:30",{"$f":"LEFT(tblSalaries[[#This Row],[Timestamp]],FIND(\".\",tblSalaries[[#This Row],[Timestamp]],1))","v":"41059."},72000,72000,"USD",{"$f":"tblSalaries[[#This Row],[clean Salary (in local currency)]]*VLOOKUP(tblSalaries[[#This Row],[Currency]],tblXrate[],2,FALSE)","v":72000},"sr. senior analyst","Analyst","USA",{"$f":"VLOOKUP(tblSalaries[[#This Row],[Where do you work]],tblCountries[[Actual]:[Mapping]],2,FALSE)","v":"USA"},{"$f":"VLOOKUP(tblSalaries[[#This Row],[clean Country]]&\"*\",Cont_Table,2,0)","v":"North America"},"All the 8 hours baby, all the 8!",10]
[null,"ID1433","2012-05-30T02:22:39",{"$f":"LEFT(tblSalaries[[#This Row],[Timestamp]],FIND(\".\",tblSalaries[[#This Row],[Timestamp]],1))","v":"41059."},14000,14000,"USD",{"$f":"tblSalaries[[#This Row],[clean Salary (in local currency)]]*VLOOKUP(tblSalaries[[#This Row],[Currency]],tblXrate[],2,FALSE)","v":14000},"Consultant","Consultant","India",{"$f":"VLOOKUP(tblSalaries[[#This Row],[Where do you work]],tblCountries[[Actual]:[Mapping]],2,FALSE)","v":"India"},{"$f":"VLOOKUP(tblSalaries[[#This Row],[clean Country]]&\"*\",Cont_Table,2,0)","v":"Asia"},"4 to 6 hours a day",3]
[null,"ID1434","2012-05-30T02:22:59",{"$f":"LEFT(tblSalaries[[#This Row],[Timestamp]],FIND(\".\",tblSalaries[[#This Row],[Timestamp]],1))","v":"41059."},111000,111000,"USD",{"$f":"tblSalaries[[#This Row],[clean Salary (in local currency)]]*VLOOKUP(tblSalaries[[#This Row],[Currency]],tblXrate[],2,FALSE)","v":111000},"Project Manager - Finance","Manager","USA",{"$f":"VLOOKUP(tblSalaries[[#This Row],[Where do you work]],tblCountries[[Actual]:[Mapping]],2,FALSE)","v":"USA"},{"$f":"VLOOKUP(tblSalaries[[#This Row],[clean Country]]&\"*\",Cont_Table,2,0)","v":"North America"},"2 to 3 hours per day",10]
[null,"ID1435","2012-05-30T02:32:17",{"$f":"LEFT(tblSalaries[[#This Row],[Timestamp]],FIND(\".\",tblSalaries[[#This Row],[Timestamp]],1))","v":"41059."},80000,80000,"USD",{"$f":"tblSalaries[[#This Row],[clean Salary (in local currency)]]*VLOOKUP(tblSalaries[[#This Row],[Currency]],tblXrate[],2,FALSE)","v":80000},"Senior analyst, ops support","Analyst","USA",{"$f":"VLOOKUP(tblSalaries[[#This Row],[Where do you work]],tblCountries[[Actual]:[Mapping]],2,FALSE)","v":"USA"},{"$f":"VLOOKUP(tblSalaries[[#This Row],[clean Country]]&\"*\",Cont_Table,2,0)","v":"North America"},"4 to 6 hours a day",20]
[null,"ID1436","2012-05-30T02:35:40",{"$f":"LEFT(tblSalaries[[#This Row],[Timestamp]],FIND(\".\",tblSalaries[[#This Row],[Timestamp]],1))","v":"41059."},"Rs 3.25 Lacs",3250000,"INR",{"$f":"tblSalaries[[#This Row],[clean Salary (in local currency)]]*VLOOKUP(tblSalaries[[#This Row],[Currency]],tblXrate[],2,FALSE)","v":57875.729234188344},"ISO TS Documentation","Analyst","India",{"$f":"VLOOKUP(tblSalaries[[#This Row],[Where do you work]],tblCountries[[Actual]:[Mapping]],2,FALSE)","v":"India"},{"$f":"VLOOKUP(tblSalaries[[#This Row],[clean Country]]&\"*\",Cont_Table,2,0)","v":"Asia"},"4 to 6 hours a day",5.5]
[null,"ID1437","2012-05-30T02:39:50",{"$f":"LEFT(tblSalaries[[#This Row],[Timestamp]],FIND(\".\",tblSalaries[[#This Row],[Timestamp]],1))","v":"41059."},25000,25000,"USD",{"$f":"tblSalaries[[#This Row],[clean Salary (in local currency)]]*VLOOKUP(tblSalaries[[#This Row],[Currency]],tblXrate[],2,FALSE)","v":25000},"Accountant","Accountant","India",{"$f":"VLOOKUP(tblSalaries[[#This Row],[Where do you work]],tblCountries[[Actual]:[Mapping]],2,FALSE)","v":"India"},{"$f":"VLOOKUP(tblSalaries[[#This Row],[clean Country]]&\"*\",Cont_Table,2,0)","v":"Asia"},"2 to 3 hours per day",8]
[null,"ID1438","2012-05-30T03:20:17",{"$f":"LEFT(tblSalaries[[#This Row],[Timestamp]],FIND(\".\",tblSalaries[[#This Row],[Timestamp]],1))","v":"41059."},"24000 USD",24000,"USD",{"$f":"tblSalaries[[#This Row],[clean Salary (in local currency)]]*VLOOKUP(tblSalaries[[#This Row],[Currency]],tblXrate[],2,FALSE)","v":24000},"inventory controller","Controller","USA",{"$f":"VLOOKUP(tblSalaries[[#This Row],[Where do you work]],tblCountries[[Actual]:[Mapping]],2,FALSE)","v":"USA"},{"$f":"VLOOKUP(tblSalaries[[#This Row],[clean Country]]&\"*\",Cont_Table,2,0)","v":"North America"},"1 or 2 hours a day",2]
[null,"ID1439","2012-05-30T04:13:50",{"$f":"LEFT(tblSalaries[[#This Row],[Timestamp]],FIND(\".\",tblSalaries[[#This Row],[Timestamp]],1))","v":"41059."},61000,61000,"USD",{"$f":"tblSalaries[[#This Row],[clean Salary (in local currency)]]*VLOOKUP(tblSalaries[[#This Row],[Currency]],tblXrate[],2,FALSE)","v":61000},"Accounting manager","Manager","USA",{"$f":"VLOOKUP(tblSalaries[[#This Row],[Where do you work]],tblCountries[[Actual]:[Mapping]],2,FALSE)","v":"USA"},{"$f":"VLOOKUP(tblSalaries[[#This Row],[clean Country]]&\"*\",Cont_Table,2,0)","v":"North America"},"2 to 3 hours per day",25]
[null,"ID1440","2012-05-30T08:05:16",{"$f":"LEFT(tblSalaries[[#This Row],[Timestamp]],FIND(\".\",tblSalaries[[#This Row],[Timestamp]],1))","v":"41059."},"AUD55,000",55000,"AUD",{"$f":"tblSalaries[[#This Row],[clean Salary (in local currency)]]*VLOOKUP(tblSalaries[[#This Row],[Currency]],tblXrate[],2,FALSE)","v":56095.031102144967},"PA","Analyst","Australia",{"$f":"VLOOKUP(tblSalaries[[#This Row],[Where do you work]],tblCountries[[Actual]:[Mapping]],2,FALSE)","v":"Australia"},{"$f":"VLOOKUP(tblSalaries[[#This Row],[clean Country]]&\"*\",Cont_Table,2,0)","v":"Australia"},"2 to 3 hours per day",11]
[null,"ID1442","2012-05-30T09:42:01",{"$f":"LEFT(tblSalaries[[#This Row],[Timestamp]],FIND(\".\",tblSalaries[[#This Row],[Timestamp]],1))","v":"41059."},70000,70000,"AUD",{"$f":"tblSalaries[[#This Row],[clean Salary (in local currency)]]*VLOOKUP(tblSalaries[[#This Row],[Currency]],tblXrate[],2,FALSE)","v":71393.675948184507},"Assistant Accountant","Accountant","Australia",{"$f":"VLOOKUP(tblSalaries[[#This Row],[Where do you work]],tblCountries[[Actual]:[Mapping]],2,FALSE)","v":"Australia"},{"$f":"VLOOKUP(tblSalaries[[#This Row],[clean Country]]&\"*\",Cont_Table,2,0)","v":"Australia"},"2 to 3 hours per day",5]
[null,"ID1443","2012-05-30T10:11:19",{"$f":"LEFT(tblSalaries[[#This Row],[Timestamp]],FIND(\".\",tblSalaries[[#This Row],[Timestamp]],1))","v":"41059."},96230,96230,"USD",{"$f":"tblSalaries[[#This Row],[clean Salary (in local currency)]]*VLOOKUP(tblSalaries[[#This Row],[Currency]],tblXrate[],2,FALSE)","v":96230},"Manager, Data Management","Manager","USA",{"$f":"VLOOKUP(tblSalaries[[#This Row],[Where do you work]],tblCountries[[Actual]:[Mapping]],2,FALSE)","v":"USA"},{"$f":"VLOOKUP(tblSalaries[[#This Row],[clean Country]]&\"*\",Cont_Table,2,0)","v":"North America"},"4 to 6 hours a day",18]
[null,"ID1444","2012-05-30T10:40:24",{"$f":"LEFT(tblSalaries[[#This Row],[Timestamp]],FIND(\".\",tblSalaries[[#This Row],[Timestamp]],1))","v":"41059."},75000,75000,"USD",{"$f":"tblSalaries[[#This Row],[clean Salary (in local currency)]]*VLOOKUP(tblSalaries[[#This Row],[Currency]],tblXrate[],2,FALSE)","v":75000},"Business Analyst","Analyst","USA",{"$f":"VLOOKUP(tblSalaries[[#This Row],[Where do you work]],tblCountries[[Actual]:[Mapping]],2,FALSE)","v":"USA"},{"$f":"VLOOKUP(tblSalaries[[#This Row],[clean Country]]&\"*\",Cont_Table,2,0)","v":"North America"},"2 to 3 hours per day",1.5]
[null,"ID1445","2012-05-30T10:57:38",{"$f":"LEFT(tblSalaries[[#This Row],[Timestamp]],FIND(\".\",tblSalaries[[#This Row],[Timestamp]],1))","v":"41059."},8500,102000,"USD",{"$f":"tblSalaries[[#This Row],[clean Salary (in local currency)]]*VLOOKUP(tblSalaries[[#This Row],[Currency]],tblXrate[],2,FALSE)","v":102000},"Sales Analyst","Analyst","USA",{"$f":"VLOOKUP(tblSalaries[[#This Row],[Where do you work]],tblCountries[[Actual]:[Mapping]],2,FALSE)","v":"USA"},{"$f":"VLOOKUP(tblSalaries[[#This Row],[clean Country]]&\"*\",Cont_Table,2,0)","v":"North America"},"4 to 6 hours a day",5]
[null,"ID1446","2012-05-30T11:20:33",{"$f":"LEFT(tblSalaries[[#This Row],[Timestamp]],FIND(\".\",tblSalaries[[#This Row],[Timestamp]],1))","v":"41059."},"MYR60000",60000,"MYR",{"$f":"tblSalaries[[#This Row],[clean Salary (in local currency)]]*VLOOKUP(tblSalaries[[#This Row],[Currency]],tblXrate[],2,FALSE)","v":19008.034062397041},"Liquidity Management Executive","Manager","Malaysia",{"$f":"VLOOKUP(tblSalaries[[#This Row],[Where do you work]],tblCountries[[Actual]:[Mapping]],2,FALSE)","v":"malaysia"},{"$f":"VLOOKUP(tblSalaries[[#This Row],[clean Country]]&\"*\",Cont_Table,2,0)","v":"Asia"},"4 to 6 hours a day",3]
[null,"ID1447","2012-05-30T11:38:53",{"$f":"LEFT(tblSalaries[[#This Row],[Timestamp]],FIND(\".\",tblSalaries[[#This Row],[Timestamp]],1))","v":"41059."},363,4356,"USD",{"$f":"tblSalaries[[#This Row],[clean Salary (in local currency)]]*VLOOKUP(tblSalaries[[#This Row],[Currency]],tblXrate[],2,FALSE)","v":4356},"Business Analyst","Analyst","India",{"$f":"VLOOKUP(tblSalaries[[#This Row],[Where do you work]],tblCountries[[Actual]:[Mapping]],2,FALSE)","v":"India"},{"$f":"VLOOKUP(tblSalaries[[#This Row],[clean Country]]&\"*\",Cont_Table,2,0)","v":"Asia"},"4 to 6 hours a day",5]
[null,"ID1448","2012-05-30T11:43:50",{"$f":"LEFT(tblSalaries[[#This Row],[Timestamp]],FIND(\".\",tblSalaries[[#This Row],[Timestamp]],1))","v":"41059."},300000,300000,"INR",{"$f":"tblSalaries[[#This Row],[clean Salary (in local currency)]]*VLOOKUP(tblSalaries[[#This Row],[Currency]],tblXrate[],2,FALSE)","v":5342.3750062327708},"accountant","Accountant","India",{"$f":"VLOOKUP(tblSalaries[[#This Row],[Where do you work]],tblCountries[[Actual]:[Mapping]],2,FALSE)","v":"India"},{"$f":"VLOOKUP(tblSalaries[[#This Row],[clean Country]]&\"*\",Cont_Table,2,0)","v":"Asia"},"4 to 6 hours a day",4]
[null,"ID1449","2012-05-30T12:12:38",{"$f":"LEFT(tblSalaries[[#This Row],[Timestamp]],FIND(\".\",tblSalaries[[#This Row],[Timestamp]],1))","v":"41059."},67000,67000,"USD",{"$f":"tblSalaries[[#This Row],[clean Salary (in local currency)]]*VLOOKUP(tblSalaries[[#This Row],[Currency]],tblXrate[],2,FALSE)","v":67000},"accounting systems manager ","Manager","USA",{"$f":"VLOOKUP(tblSalaries[[#This Row],[Where do you work]],tblCountries[[Actual]:[Mapping]],2,FALSE)","v":"USA"},{"$f":"VLOOKUP(tblSalaries[[#This Row],[clean Country]]&\"*\",Cont_Table,2,0)","v":"North America"},"2 to 3 hours per day",20]
[null,"ID1450","2012-05-30T12:25:23",{"$f":"LEFT(tblSalaries[[#This Row],[Timestamp]],FIND(\".\",tblSalaries[[#This Row],[Timestamp]],1))","v":"41059."},480000,480000,"INR",{"$f":"tblSalaries[[#This Row],[clean Salary (in local currency)]]*VLOOKUP(tblSalaries[[#This Row],[Currency]],tblXrate[],2,FALSE)","v":8547.8000099724322},"Performance Analyst","Analyst","India",{"$f":"VLOOKUP(tblSalaries[[#This Row],[Where do you work]],tblCountries[[Actual]:[Mapping]],2,FALSE)","v":"India"},{"$f":"VLOOKUP(tblSalaries[[#This Row],[clean Country]]&\"*\",Cont_Table,2,0)","v":"Asia"},"4 to 6 hours a day",7]
[null,"ID1451","2012-05-30T12:35:08",{"$f":"LEFT(tblSalaries[[#This Row],[Timestamp]],FIND(\".\",tblSalaries[[#This Row],[Timestamp]],1))","v":"41059."},"Rs. 900000 per annum",900000,"INR",{"$f":"tblSalaries[[#This Row],[clean Salary (in local currency)]]*VLOOKUP(tblSalaries[[#This Row],[Currency]],tblXrate[],2,FALSE)","v":16027.125018698311},"Data Analyst","Analyst","India",{"$f":"VLOOKUP(tblSalaries[[#This Row],[Where do you work]],tblCountries[[Actual]:[Mapping]],2,FALSE)","v":"India"},{"$f":"VLOOKUP(tblSalaries[[#This Row],[clean Country]]&\"*\",Cont_Table,2,0)","v":"Asia"},"4 to 6 hours a day",4]
[null,"ID1452","2012-05-30T12:56:38",{"$f":"LEFT(tblSalaries[[#This Row],[Timestamp]],FIND(\".\",tblSalaries[[#This Row],[Timestamp]],1))","v":"41059."},"Rs  6 lakhs/annum",600000,"INR",{"$f":"tblSalaries[[#This Row],[clean Salary (in local currency)]]*VLOOKUP(tblSalaries[[#This Row],[Currency]],tblXrate[],2,FALSE)","v":10684.750012465542},"consultant","Consultant","India",{"$f":"VLOOKUP(tblSalaries[[#This Row],[Where do you work]],tblCountries[[Actual]:[Mapping]],2,FALSE)","v":"India"},{"$f":"VLOOKUP(tblSalaries[[#This Row],[clean Country]]&\"*\",Cont_Table,2,0)","v":"Asia"},"2 to 3 hours per day",36]
[null,"ID1453","2012-05-30T13:06:12",{"$f":"LEFT(tblSalaries[[#This Row],[Timestamp]],FIND(\".\",tblSalaries[[#This Row],[Timestamp]],1))","v":"41059."},30000,30000,"USD",{"$f":"tblSalaries[[#This Row],[clean Salary (in local currency)]]*VLOOKUP(tblSalaries[[#This Row],[Currency]],tblXrate[],2,FALSE)","v":30000},"Accounting Specialist","Accountant","UAE",{"$f":"VLOOKUP(tblSalaries[[#This Row],[Where do you work]],tblCountries[[Actual]:[Mapping]],2,FALSE)","v":"UAE"},{"$f":"VLOOKUP(tblSalaries[[#This Row],[clean Country]]&\"*\",Cont_Table,2,0)","v":"Asia"},"4 to 6 hours a day",8]
[null,"ID1454","2012-05-30T13:21:06",{"$f":"LEFT(tblSalaries[[#This Row],[Timestamp]],FIND(\".\",tblSalaries[[#This Row],[Timestamp]],1))","v":"41059."},500000,500000,"INR",{"$f":"tblSalaries[[#This Row],[clean Salary (in local currency)]]*VLOOKUP(tblSalaries[[#This Row],[Currency]],tblXrate[],2,FALSE)","v":8903.9583437212841},"Project Management","Manager","India",{"$f":"VLOOKUP(tblSalaries[[#This Row],[Where do you work]],tblCountries[[Actual]:[Mapping]],2,FALSE)","v":"India"},{"$f":"VLOOKUP(tblSalaries[[#This Row],[clean Country]]&\"*\",Cont_Table,2,0)","v":"Asia"},"2 to 3 hours per day",0]
[null,"ID1455","2012-05-30T13:25:12",{"$f":"LEFT(tblSalaries[[#This Row],[Timestamp]],FIND(\".\",tblSalaries[[#This Row],[Timestamp]],1))","v":"41059."},20000,20000,"USD",{"$f":"tblSalaries[[#This Row],[clean Salary (in local currency)]]*VLOOKUP(tblSalaries[[#This Row],[Currency]],tblXrate[],2,FALSE)","v":20000},"manager","Manager","India",{"$f":"VLOOKUP(tblSalaries[[#This Row],[Where do you work]],tblCountries[[Actual]:[Mapping]],2,FALSE)","v":"India"},{"$f":"VLOOKUP(tblSalaries[[#This Row],[clean Country]]&\"*\",Cont_Table,2,0)","v":"Asia"},"Excel ?!? What Excel?",10]
[null,"ID1456","2012-05-30T13:31:35",{"$f":"LEFT(tblSalaries[[#This Row],[Timestamp]],FIND(\".\",tblSalaries[[#This Row],[Timestamp]],1))","v":"41059."},86000,86000,"AUD",{"$f":"tblSalaries[[#This Row],[clean Salary (in local currency)]]*VLOOKUP(tblSalaries[[#This Row],[Currency]],tblXrate[],2,FALSE)","v":87712.230450626681},"data analyst","Analyst","Australia",{"$f":"VLOOKUP(tblSalaries[[#This Row],[Where do you work]],tblCountries[[Actual]:[Mapping]],2,FALSE)","v":"Australia"},{"$f":"VLOOKUP(tblSalaries[[#This Row],[clean Country]]&\"*\",Cont_Table,2,0)","v":"Australia"},"4 to 6 hours a day",10]
[null,"ID1457","2012-05-30T13:36:42",{"$f":"LEFT(tblSalaries[[#This Row],[Timestamp]],FIND(\".\",tblSalaries[[#This Row],[Timestamp]],1))","v":"41059."},1000000,1000000,"INR",{"$f":"tblSalaries[[#This Row],[clean Salary (in local currency)]]*VLOOKUP(tblSalaries[[#This Row],[Currency]],tblXrate[],2,FALSE)","v":17807.916687442568},"project management","Manager","India",{"$f":"VLOOKUP(tblSalaries[[#This Row],[Where do you work]],tblCountries[[Actual]:[Mapping]],2,FALSE)","v":"India"},{"$f":"VLOOKUP(tblSalaries[[#This Row],[clean Country]]&\"*\",Cont_Table,2,0)","v":"Asia"},"All the 8 hours baby, all the 8!",6]
[null,"ID1458","2012-05-30T13:36:48",{"$f":"LEFT(tblSalaries[[#This Row],[Timestamp]],FIND(\".\",tblSalaries[[#This Row],[Timestamp]],1))","v":"41059."},41000,41000,"USD",{"$f":"tblSalaries[[#This Row],[clean Salary (in local currency)]]*VLOOKUP(tblSalaries[[#This Row],[Currency]],tblXrate[],2,FALSE)","v":41000},"Marketing Analyst","Analyst","Japan",{"$f":"VLOOKUP(tblSalaries[[#This Row],[Where do you work]],tblCountries[[Actual]:[Mapping]],2,FALSE)","v":"Japan"},{"$f":"VLOOKUP(tblSalaries[[#This Row],[clean Country]]&\"*\",Cont_Table,2,0)","v":"Asia"},"2 to 3 hours per day",2]
[null,"ID1459","2012-05-30T13:41:41",{"$f":"LEFT(tblSalaries[[#This Row],[Timestamp]],FIND(\".\",tblSalaries[[#This Row],[Timestamp]],1))","v":"41059."},60000,60000,"USD",{"$f":"tblSalaries[[#This Row],[clean Salary (in local currency)]]*VLOOKUP(tblSalaries[[#This Row],[Currency]],tblXrate[],2,FALSE)","v":60000},"Business Intelligence Supervisor","Manager","USA",{"$f":"VLOOKUP(tblSalaries[[#This Row],[Where do you work]],tblCountries[[Actual]:[Mapping]],2,FALSE)","v":"USA"},{"$f":"VLOOKUP(tblSalaries[[#This Row],[clean Country]]&\"*\",Cont_Table,2,0)","v":"North America"},"2 to 3 hours per day",4]
[null,"ID1460","2012-05-30T13:47:51",{"$f":"LEFT(tblSalaries[[#This Row],[Timestamp]],FIND(\".\",tblSalaries[[#This Row],[Timestamp]],1))","v":"41059."},"zar22000",264000,"ZAR",{"$f":"tblSalaries[[#This Row],[clean Salary (in local currency)]]*VLOOKUP(tblSalaries[[#This Row],[Currency]],tblXrate[],2,FALSE)","v":32187.34988380854},"Analyst","Analyst","SouthAfrica",{"$f":"VLOOKUP(tblSalaries[[#This Row],[Where do you work]],tblCountries[[Actual]:[Mapping]],2,FALSE)","v":"South Africa"},{"$f":"VLOOKUP(tblSalaries[[#This Row],[clean Country]]&\"*\",Cont_Table,2,0)","v":"Africa"},"All the 8 hours baby, all the 8!",2]
[null,"ID1461","2012-05-30T13:56:27",{"$f":"LEFT(tblSalaries[[#This Row],[Timestamp]],FIND(\".\",tblSalaries[[#This Row],[Timestamp]],1))","v":"41059."},50000,50000,"NZD",{"$f":"tblSalaries[[#This Row],[clean Salary (in local currency)]]*VLOOKUP(tblSalaries[[#This Row],[Currency]],tblXrate[],2,FALSE)","v":39879.404680246938},"stress engineer","Engineer","nld",{"$f":"VLOOKUP(tblSalaries[[#This Row],[Where do you work]],tblCountries[[Actual]:[Mapping]],2,FALSE)","v":"New Zealand"},{"$f":"VLOOKUP(tblSalaries[[#This Row],[clean Country]]&\"*\",Cont_Table,2,0)","v":"Australia"},"4 to 6 hours a day",5]
[null,"ID1462","2012-05-30T13:56:48",{"$f":"LEFT(tblSalaries[[#This Row],[Timestamp]],FIND(\".\",tblSalaries[[#This Row],[Timestamp]],1))","v":"41059."},"320000 INR",320000,"INR",{"$f":"tblSalaries[[#This Row],[clean Salary (in local currency)]]*VLOOKUP(tblSalaries[[#This Row],[Currency]],tblXrate[],2,FALSE)","v":5698.5333399816218},"Analyst","Analyst","India",{"$f":"VLOOKUP(tblSalaries[[#This Row],[Where do you work]],tblCountries[[Actual]:[Mapping]],2,FALSE)","v":"India"},{"$f":"VLOOKUP(tblSalaries[[#This Row],[clean Country]]&\"*\",Cont_Table,2,0)","v":"Asia"},"2 to 3 hours per day",2]
[null,"ID1463","2012-05-30T14:09:10",{"$f":"LEFT(tblSalaries[[#This Row],[Timestamp]],FIND(\".\",tblSalaries[[#This Row],[Timestamp]],1))","v":"41059."},"4 Lakhs INR p.a",400000,"INR",{"$f":"tblSalaries[[#This Row],[clean Salary (in local currency)]]*VLOOKUP(tblSalaries[[#This Row],[Currency]],tblXrate[],2,FALSE)","v":7123.1666749770275},"Reporting Manager","Manager","India",{"$f":"VLOOKUP(tblSalaries[[#This Row],[Where do you work]],tblCountries[[Actual]:[Mapping]],2,FALSE)","v":"India"},{"$f":"VLOOKUP(tblSalaries[[#This Row],[clean Country]]&\"*\",Cont_Table,2,0)","v":"Asia"},"4 to 6 hours a day",6]
[null,"ID1464","2012-05-30T14:19:07",{"$f":"LEFT(tblSalaries[[#This Row],[Timestamp]],FIND(\".\",tblSalaries[[#This Row],[Timestamp]],1))","v":"41059."},"Rs.2,50,000.00",250000,"INR",{"$f":"tblSalaries[[#This Row],[clean Salary (in local currency)]]*VLOOKUP(tblSalaries[[#This Row],[Currency]],tblXrate[],2,FALSE)","v":4451.9791718606421},"Manager Commercial","Manager","India",{"$f":"VLOOKUP(tblSalaries[[#This Row],[Where do you work]],tblCountries[[Actual]:[Mapping]],2,FALSE)","v":"India"},{"$f":"VLOOKUP(tblSalaries[[#This Row],[clean Country]]&\"*\",Cont_Table,2,0)","v":"Asia"},"2 to 3 hours per day",15]
[null,"ID1465","2012-05-30T14:21:57",{"$f":"LEFT(tblSalaries[[#This Row],[Timestamp]],FIND(\".\",tblSalaries[[#This Row],[Timestamp]],1))","v":"41059."},360000,360000,"INR",{"$f":"tblSalaries[[#This Row],[clean Salary (in local currency)]]*VLOOKUP(tblSalaries[[#This Row],[Currency]],tblXrate[],2,FALSE)","v":6410.8500074793246},"analyst","Analyst","India",{"$f":"VLOOKUP(tblSalaries[[#This Row],[Where do you work]],tblCountries[[Actual]:[Mapping]],2,FALSE)","v":"India"},{"$f":"VLOOKUP(tblSalaries[[#This Row],[clean Country]]&\"*\",Cont_Table,2,0)","v":"Asia"},"2 to 3 hours per day",6]
[null,"ID1466","2012-05-30T14:28:57",{"$f":"LEFT(tblSalaries[[#This Row],[Timestamp]],FIND(\".\",tblSalaries[[#This Row],[Timestamp]],1))","v":"41059."},"Rs. 1150000/-",1150000,"INR",{"$f":"tblSalaries[[#This Row],[clean Salary (in local currency)]]*VLOOKUP(tblSalaries[[#This Row],[Currency]],tblXrate[],2,FALSE)","v":20479.104190558952},"Project Manager","Manager","India",{"$f":"VLOOKUP(tblSalaries[[#This Row],[Where do you work]],tblCountries[[Actual]:[Mapping]],2,FALSE)","v":"India"},{"$f":"VLOOKUP(tblSalaries[[#This Row],[clean Country]]&\"*\",Cont_Table,2,0)","v":"Asia"},"All the 8 hours baby, all the 8!",12]
[null,"ID1467","2012-05-30T14:31:33",{"$f":"LEFT(tblSalaries[[#This Row],[Timestamp]],FIND(\".\",tblSalaries[[#This Row],[Timestamp]],1))","v":"41059."},620000,620000,"INR",{"$f":"tblSalaries[[#This Row],[clean Salary (in local currency)]]*VLOOKUP(tblSalaries[[#This Row],[Currency]],tblXrate[],2,FALSE)","v":11040.908346214392},"Catalog Auditor","Analyst","India",{"$f":"VLOOKUP(tblSalaries[[#This Row],[Where do you work]],tblCountries[[Actual]:[Mapping]],2,FALSE)","v":"India"},{"$f":"VLOOKUP(tblSalaries[[#This Row],[clean Country]]&\"*\",Cont_Table,2,0)","v":"Asia"},"1 or 2 hours a day",5]
[null,"ID1468","2012-05-30T15:59:01",{"$f":"LEFT(tblSalaries[[#This Row],[Timestamp]],FIND(\".\",tblSalaries[[#This Row],[Timestamp]],1))","v":"41059."},"Rs 10,00,000",1000000,"INR",{"$f":"tblSalaries[[#This Row],[clean Salary (in local currency)]]*VLOOKUP(tblSalaries[[#This Row],[Currency]],tblXrate[],2,FALSE)","v":17807.916687442568},"Marketing Specialist","Specialist","India",{"$f":"VLOOKUP(tblSalaries[[#This Row],[Where do you work]],tblCountries[[Actual]:[Mapping]],2,FALSE)","v":"India"},{"$f":"VLOOKUP(tblSalaries[[#This Row],[clean Country]]&\"*\",Cont_Table,2,0)","v":"Asia"},"2 to 3 hours per day",7]
[null,"ID1469","2012-05-30T16:12:34",{"$f":"LEFT(tblSalaries[[#This Row],[Timestamp]],FIND(\".\",tblSalaries[[#This Row],[Timestamp]],1))","v":"41059."},"Rs. 200000",200000,"INR",{"$f":"tblSalaries[[#This Row],[clean Salary (in local currency)]]*VLOOKUP(tblSalaries[[#This Row],[Currency]],tblXrate[],2,FALSE)","v":3561.5833374885137},"Executive","Analyst","India",{"$f":"VLOOKUP(tblSalaries[[#This Row],[Where do you work]],tblCountries[[Actual]:[Mapping]],2,FALSE)","v":"India"},{"$f":"VLOOKUP(tblSalaries[[#This Row],[clean Country]]&\"*\",Cont_Table,2,0)","v":"Asia"},"4 to 6 hours a day",11]
[null,"ID1470","2012-05-30T16:22:19",{"$f":"LEFT(tblSalaries[[#This Row],[Timestamp]],FIND(\".\",tblSalaries[[#This Row],[Timestamp]],1))","v":"41059."},"Â£17000",17000,"GBP",{"$f":"tblSalaries[[#This Row],[clean Salary (in local currency)]]*VLOOKUP(tblSalaries[[#This Row],[Currency]],tblXrate[],2,FALSE)","v":26795.030625143831},"Verification Agent","Analyst","UK",{"$f":"VLOOKUP(tblSalaries[[#This Row],[Where do you work]],tblCountries[[Actual]:[Mapping]],2,FALSE)","v":"UK"},{"$f":"VLOOKUP(tblSalaries[[#This Row],[clean Country]]&\"*\",Cont_Table,2,0)","v":"Europe"},"2 to 3 hours per day",5]
[null,"ID1471","2012-05-30T16:48:32",{"$f":"LEFT(tblSalaries[[#This Row],[Timestamp]],FIND(\".\",tblSalaries[[#This Row],[Timestamp]],1))","v":"41059."},1700,20400,"USD",{"$f":"tblSalaries[[#This Row],[clean Salary (in local currency)]]*VLOOKUP(tblSalaries[[#This Row],[Currency]],tblXrate[],2,FALSE)","v":20400},"M & E Officer","Manager","Myanmar [Burma]",{"$f":"VLOOKUP(tblSalaries[[#This Row],[Where do you work]],tblCountries[[Actual]:[Mapping]],2,FALSE)","v":"Myanmar"},{"$f":"VLOOKUP(tblSalaries[[#This Row],[clean Country]]&\"*\",Cont_Table,2,0)","v":"Asia"},"1 or 2 hours a day",10]
[null,"ID1472","2012-05-30T16:49:15",{"$f":"LEFT(tblSalaries[[#This Row],[Timestamp]],FIND(\".\",tblSalaries[[#This Row],[Timestamp]],1))","v":"41059."},"Â£25000",25000,"GBP",{"$f":"tblSalaries[[#This Row],[clean Salary (in local currency)]]*VLOOKUP(tblSalaries[[#This Row],[Currency]],tblXrate[],2,FALSE)","v":39404.456801682099},"Assistant Financial Accountant","Accountant","UK",{"$f":"VLOOKUP(tblSalaries[[#This Row],[Where do you work]],tblCountries[[Actual]:[Mapping]],2,FALSE)","v":"UK"},{"$f":"VLOOKUP(tblSalaries[[#This Row],[clean Country]]&\"*\",Cont_Table,2,0)","v":"Europe"},"4 to 6 hours a day",35]
[null,"ID1473","2012-05-30T16:55:51",{"$f":"LEFT(tblSalaries[[#This Row],[Timestamp]],FIND(\".\",tblSalaries[[#This Row],[Timestamp]],1))","v":"41059."},118000,118000,"EUR",{"$f":"tblSalaries[[#This Row],[clean Salary (in local currency)]]*VLOOKUP(tblSalaries[[#This Row],[Currency]],tblXrate[],2,FALSE)","v":149907.13380100971},"Support","Analyst","EU",{"$f":"VLOOKUP(tblSalaries[[#This Row],[Where do you work]],tblCountries[[Actual]:[Mapping]],2,FALSE)","v":"Europe"},{"$f":"VLOOKUP(tblSalaries[[#This Row],[clean Country]]&\"*\",Cont_Table,2,0)","v":"Europe"},"4 to 6 hours a day",7]
[null,"ID1474","2012-05-30T17:01:10",{"$f":"LEFT(tblSalaries[[#This Row],[Timestamp]],FIND(\".\",tblSalaries[[#This Row],[Timestamp]],1))","v":"41059."},230000,230000,"INR",{"$f":"tblSalaries[[#This Row],[clean Salary (in local currency)]]*VLOOKUP(tblSalaries[[#This Row],[Currency]],tblXrate[],2,FALSE)","v":4095.8208381117906},"Process Assocaite","Analyst","India",{"$f":"VLOOKUP(tblSalaries[[#This Row],[Where do you work]],tblCountries[[Actual]:[Mapping]],2,FALSE)","v":"India"},{"$f":"VLOOKUP(tblSalaries[[#This Row],[clean Country]]&\"*\",Cont_Table,2,0)","v":"Asia"},"4 to 6 hours a day",1.6]
[null,"ID1475","2012-05-30T17:04:53",{"$f":"LEFT(tblSalaries[[#This Row],[Timestamp]],FIND(\".\",tblSalaries[[#This Row],[Timestamp]],1))","v":"41059."},"$AUD 125,000 +",125000,"AUD",{"$f":"tblSalaries[[#This Row],[clean Salary (in local currency)]]*VLOOKUP(tblSalaries[[#This Row],[Currency]],tblXrate[],2,FALSE)","v":127488.70705032947},"Financial Application Developer","Accountant","Australia",{"$f":"VLOOKUP(tblSalaries[[#This Row],[Where do you work]],tblCountries[[Actual]:[Mapping]],2,FALSE)","v":"Australia"},{"$f":"VLOOKUP(tblSalaries[[#This Row],[clean Country]]&\"*\",Cont_Table,2,0)","v":"Australia"},"4 to 6 hours a day",7]
[null,"ID1476","2012-05-30T17:07:47",{"$f":"LEFT(tblSalaries[[#This Row],[Timestamp]],FIND(\".\",tblSalaries[[#This Row],[Timestamp]],1))","v":"41059."},"Â£37000",37000,"GBP",{"$f":"tblSalaries[[#This Row],[clean Salary (in local currency)]]*VLOOKUP(tblSalaries[[#This Row],[Currency]],tblXrate[],2,FALSE)","v":58318.59606648951},"Planning & Scheduling Manager","Manager","UK",{"$f":"VLOOKUP(tblSalaries[[#This Row],[Where do you work]],tblCountries[[Actual]:[Mapping]],2,FALSE)","v":"UK"},{"$f":"VLOOKUP(tblSalaries[[#This Row],[clean Country]]&\"*\",Cont_Table,2,0)","v":"Europe"},"All the 8 hours baby, all the 8!",20]
[null,"ID1477","2012-05-30T17:14:27",{"$f":"LEFT(tblSalaries[[#This Row],[Timestamp]],FIND(\".\",tblSalaries[[#This Row],[Timestamp]],1))","v":"41059."},"ZAR6500",78000,"ZAR",{"$f":"tblSalaries[[#This Row],[clean Salary (in local currency)]]*VLOOKUP(tblSalaries[[#This Row],[Currency]],tblXrate[],2,FALSE)","v":9509.8988293070688},"Online Stats Controller","Controller","South Africa",{"$f":"VLOOKUP(tblSalaries[[#This Row],[Where do you work]],tblCountries[[Actual]:[Mapping]],2,FALSE)","v":"South Africa"},{"$f":"VLOOKUP(tblSalaries[[#This Row],[clean Country]]&\"*\",Cont_Table,2,0)","v":"Africa"},"4 to 6 hours a day",2]
[null,"ID1478","2012-05-30T17:18:38",{"$f":"LEFT(tblSalaries[[#This Row],[Timestamp]],FIND(\".\",tblSalaries[[#This Row],[Timestamp]],1))","v":"41059."},"INR 60000",720000,"INR",{"$f":"tblSalaries[[#This Row],[clean Salary (in local currency)]]*VLOOKUP(tblSalaries[[#This Row],[Currency]],tblXrate[],2,FALSE)","v":12821.700014958649},"DEO","Analyst","India",{"$f":"VLOOKUP(tblSalaries[[#This Row],[Where do you work]],tblCountries[[Actual]:[Mapping]],2,FALSE)","v":"India"},{"$f":"VLOOKUP(tblSalaries[[#This Row],[clean Country]]&\"*\",Cont_Table,2,0)","v":"Asia"},"4 to 6 hours a day",3]
[null,"ID1479","2012-05-30T18:15:28",{"$f":"LEFT(tblSalaries[[#This Row],[Timestamp]],FIND(\".\",tblSalaries[[#This Row],[Timestamp]],1))","v":"41059."},4000,4000,"USD",{"$f":"tblSalaries[[#This Row],[clean Salary (in local currency)]]*VLOOKUP(tblSalaries[[#This Row],[Currency]],tblXrate[],2,FALSE)","v":4000},"M I S Executive","Analyst","India",{"$f":"VLOOKUP(tblSalaries[[#This Row],[Where do you work]],tblCountries[[Actual]:[Mapping]],2,FALSE)","v":"India"},{"$f":"VLOOKUP(tblSalaries[[#This Row],[clean Country]]&\"*\",Cont_Table,2,0)","v":"Asia"},"All the 8 hours baby, all the 8!",6]
[null,"ID1480","2012-05-30T18:16:05",{"$f":"LEFT(tblSalaries[[#This Row],[Timestamp]],FIND(\".\",tblSalaries[[#This Row],[Timestamp]],1))","v":"41059."},42000,42000,"USD",{"$f":"tblSalaries[[#This Row],[clean Salary (in local currency)]]*VLOOKUP(tblSalaries[[#This Row],[Currency]],tblXrate[],2,FALSE)","v":42000},"Service Solution Rep","Analyst","USA",{"$f":"VLOOKUP(tblSalaries[[#This Row],[Where do you work]],tblCountries[[Actual]:[Mapping]],2,FALSE)","v":"USA"},{"$f":"VLOOKUP(tblSalaries[[#This Row],[clean Country]]&\"*\",Cont_Table,2,0)","v":"North America"},"All the 8 hours baby, all the 8!",2]
[null,"ID1481","2012-05-30T18:47:17",{"$f":"LEFT(tblSalaries[[#This Row],[Timestamp]],FIND(\".\",tblSalaries[[#This Row],[Timestamp]],1))","v":"41059."},"US $ 3200",3200,"USD",{"$f":"tblSalaries[[#This Row],[clean Salary (in local currency)]]*VLOOKUP(tblSalaries[[#This Row],[Currency]],tblXrate[],2,FALSE)","v":3200},"Regional Business Manager ","Manager","India",{"$f":"VLOOKUP(tblSalaries[[#This Row],[Where do you work]],tblCountries[[Actual]:[Mapping]],2,FALSE)","v":"India"},{"$f":"VLOOKUP(tblSalaries[[#This Row],[clean Country]]&\"*\",Cont_Table,2,0)","v":"Asia"},"All the 8 hours baby, all the 8!",19]
[null,"ID1482","2012-05-30T18:51:57",{"$f":"LEFT(tblSalaries[[#This Row],[Timestamp]],FIND(\".\",tblSalaries[[#This Row],[Timestamp]],1))","v":"41059."},60000,60000,"USD",{"$f":"tblSalaries[[#This Row],[clean Salary (in local currency)]]*VLOOKUP(tblSalaries[[#This Row],[Currency]],tblXrate[],2,FALSE)","v":60000},"sales&marketing","Analyst","turkey",{"$f":"VLOOKUP(tblSalaries[[#This Row],[Where do you work]],tblCountries[[Actual]:[Mapping]],2,FALSE)","v":"Turkey"},{"$f":"VLOOKUP(tblSalaries[[#This Row],[clean Country]]&\"*\",Cont_Table,2,0)","v":"Asia"},"2 to 3 hours per day",10]
[null,"ID1483","2012-05-30T19:01:20",{"$f":"LEFT(tblSalaries[[#This Row],[Timestamp]],FIND(\".\",tblSalaries[[#This Row],[Timestamp]],1))","v":"41059."},85000,85000,"USD",{"$f":"tblSalaries[[#This Row],[clean Salary (in local currency)]]*VLOOKUP(tblSalaries[[#This Row],[Currency]],tblXrate[],2,FALSE)","v":85000},"sr analyst","Analyst","USA",{"$f":"VLOOKUP(tblSalaries[[#This Row],[Where do you work]],tblCountries[[Actual]:[Mapping]],2,FALSE)","v":"USA"},{"$f":"VLOOKUP(tblSalaries[[#This Row],[clean Country]]&\"*\",Cont_Table,2,0)","v":"North America"},"4 to 6 hours a day",9]
[null,"ID1484","2012-05-30T19:04:44",{"$f":"LEFT(tblSalaries[[#This Row],[Timestamp]],FIND(\".\",tblSalaries[[#This Row],[Timestamp]],1))","v":"41059."},109000,109000,"USD",{"$f":"tblSalaries[[#This Row],[clean Salary (in local currency)]]*VLOOKUP(tblSalaries[[#This Row],[Currency]],tblXrate[],2,FALSE)","v":109000},"Mgr Technology","Manager","USA",{"$f":"VLOOKUP(tblSalaries[[#This Row],[Where do you work]],tblCountries[[Actual]:[Mapping]],2,FALSE)","v":"USA"},{"$f":"VLOOKUP(tblSalaries[[#This Row],[clean Country]]&\"*\",Cont_Table,2,0)","v":"North America"},"4 to 6 hours a day",15]
[null,"ID1485","2012-05-30T19:27:35",{"$f":"LEFT(tblSalaries[[#This Row],[Timestamp]],FIND(\".\",tblSalaries[[#This Row],[Timestamp]],1))","v":"41059."},"60000 Euros",60000,"EUR",{"$f":"tblSalaries[[#This Row],[clean Salary (in local currency)]]*VLOOKUP(tblSalaries[[#This Row],[Currency]],tblXrate[],2,FALSE)","v":76223.966339496474},"Sales Analyst","Analyst","Italy",{"$f":"VLOOKUP(tblSalaries[[#This Row],[Where do you work]],tblCountries[[Actual]:[Mapping]],2,FALSE)","v":"italy"},{"$f":"VLOOKUP(tblSalaries[[#This Row],[clean Country]]&\"*\",Cont_Table,2,0)","v":"Europe"},"All the 8 hours baby, all the 8!",14]
[null,"ID1486","2012-05-30T19:42:50",{"$f":"LEFT(tblSalaries[[#This Row],[Timestamp]],FIND(\".\",tblSalaries[[#This Row],[Timestamp]],1))","v":"41059."},77000,77000,"USD",{"$f":"tblSalaries[[#This Row],[clean Salary (in local currency)]]*VLOOKUP(tblSalaries[[#This Row],[Currency]],tblXrate[],2,FALSE)","v":77000},"Chemical Engineer","Engineer","USA",{"$f":"VLOOKUP(tblSalaries[[#This Row],[Where do you work]],tblCountries[[Actual]:[Mapping]],2,FALSE)","v":"USA"},{"$f":"VLOOKUP(tblSalaries[[#This Row],[clean Country]]&\"*\",Cont_Table,2,0)","v":"North America"},"2 to 3 hours per day",13]
[null,"ID1487","2012-05-30T19:43:43",{"$f":"LEFT(tblSalaries[[#This Row],[Timestamp]],FIND(\".\",tblSalaries[[#This Row],[Timestamp]],1))","v":"41059."},25000,25000,"USD",{"$f":"tblSalaries[[#This Row],[clean Salary (in local currency)]]*VLOOKUP(tblSalaries[[#This Row],[Currency]],tblXrate[],2,FALSE)","v":25000},"data analyst","Analyst","India",{"$f":"VLOOKUP(tblSalaries[[#This Row],[Where do you work]],tblCountries[[Actual]:[Mapping]],2,FALSE)","v":"India"},{"$f":"VLOOKUP(tblSalaries[[#This Row],[clean Country]]&\"*\",Cont_Table,2,0)","v":"Asia"},"All the 8 hours baby, all the 8!",4]
[null,"ID1488","2012-05-30T20:19:51",{"$f":"LEFT(tblSalaries[[#This Row],[Timestamp]],FIND(\".\",tblSalaries[[#This Row],[Timestamp]],1))","v":"41059."},64000,64000,"USD",{"$f":"tblSalaries[[#This Row],[clean Salary (in local currency)]]*VLOOKUP(tblSalaries[[#This Row],[Currency]],tblXrate[],2,FALSE)","v":64000},"Program Manager","Manager","USA",{"$f":"VLOOKUP(tblSalaries[[#This Row],[Where do you work]],tblCountries[[Actual]:[Mapping]],2,FALSE)","v":"USA"},{"$f":"VLOOKUP(tblSalaries[[#This Row],[clean Country]]&\"*\",Cont_Table,2,0)","v":"North America"},"2 to 3 hours per day",12]
[null,"ID1489","2012-05-30T20:26:10",{"$f":"LEFT(tblSalaries[[#This Row],[Timestamp]],FIND(\".\",tblSalaries[[#This Row],[Timestamp]],1))","v":"41059."},146633,146633,"GBP",{"$f":"tblSalaries[[#This Row],[clean Salary (in local currency)]]*VLOOKUP(tblSalaries[[#This Row],[Currency]],tblXrate[],2,FALSE)","v":231119.74856804207},"Senior Planning Engineer","Engineer","UK",{"$f":"VLOOKUP(tblSalaries[[#This Row],[Where do you work]],tblCountries[[Actual]:[Mapping]],2,FALSE)","v":"UK"},{"$f":"VLOOKUP(tblSalaries[[#This Row],[clean Country]]&\"*\",Cont_Table,2,0)","v":"Europe"},"2 to 3 hours per day",10]
[null,"ID1490","2012-05-30T20:40:45",{"$f":"LEFT(tblSalaries[[#This Row],[Timestamp]],FIND(\".\",tblSalaries[[#This Row],[Timestamp]],1))","v":"41059."},76000,76000,"USD",{"$f":"tblSalaries[[#This Row],[clean Salary (in local currency)]]*VLOOKUP(tblSalaries[[#This Row],[Currency]],tblXrate[],2,FALSE)","v":76000},"Sr. Analyst","Analyst","USA",{"$f":"VLOOKUP(tblSalaries[[#This Row],[Where do you work]],tblCountries[[Actual]:[Mapping]],2,FALSE)","v":"USA"},{"$f":"VLOOKUP(tblSalaries[[#This Row],[clean Country]]&\"*\",Cont_Table,2,0)","v":"North America"},"All the 8 hours baby, all the 8!",10]
[null,"ID1491","2012-05-30T20:42:27",{"$f":"LEFT(tblSalaries[[#This Row],[Timestamp]],FIND(\".\",tblSalaries[[#This Row],[Timestamp]],1))","v":"41059."},10000,10000,"GBP",{"$f":"tblSalaries[[#This Row],[clean Salary (in local currency)]]*VLOOKUP(tblSalaries[[#This Row],[Currency]],tblXrate[],2,FALSE)","v":15761.782720672842},"Analyst","Analyst","UK",{"$f":"VLOOKUP(tblSalaries[[#This Row],[Where do you work]],tblCountries[[Actual]:[Mapping]],2,FALSE)","v":"UK"},{"$f":"VLOOKUP(tblSalaries[[#This Row],[clean Country]]&\"*\",Cont_Table,2,0)","v":"Europe"},"2 to 3 hours per day",8]
[null,"ID1492","2012-05-30T20:42:47",{"$f":"LEFT(tblSalaries[[#This Row],[Timestamp]],FIND(\".\",tblSalaries[[#This Row],[Timestamp]],1))","v":"41059."},"AUD 165000",165000,"AUD",{"$f":"tblSalaries[[#This Row],[clean Salary (in local currency)]]*VLOOKUP(tblSalaries[[#This Row],[Currency]],tblXrate[],2,FALSE)","v":168285.09330643489},"Engineer","Engineer","Australia",{"$f":"VLOOKUP(tblSalaries[[#This Row],[Where do you work]],tblCountries[[Actual]:[Mapping]],2,FALSE)","v":"Australia"},{"$f":"VLOOKUP(tblSalaries[[#This Row],[clean Country]]&\"*\",Cont_Table,2,0)","v":"Australia"},"2 to 3 hours per day",17]
[null,"ID1493","2012-05-30T20:47:55",{"$f":"LEFT(tblSalaries[[#This Row],[Timestamp]],FIND(\".\",tblSalaries[[#This Row],[Timestamp]],1))","v":"41059."},"50000 US$",50000,"USD",{"$f":"tblSalaries[[#This Row],[clean Salary (in local currency)]]*VLOOKUP(tblSalaries[[#This Row],[Currency]],tblXrate[],2,FALSE)","v":50000},"Sr. Financial Analyst","Analyst","Kuwait",{"$f":"VLOOKUP(tblSalaries[[#This Row],[Where do you work]],tblCountries[[Actual]:[Mapping]],2,FALSE)","v":"Kuwait"},{"$f":"VLOOKUP(tblSalaries[[#This Row],[clean Country]]&\"*\",Cont_Table,2,0)","v":"Asia"},"4 to 6 hours a day",13]
[null,"ID1494","2012-05-30T20:53:12",{"$f":"LEFT(tblSalaries[[#This Row],[Timestamp]],FIND(\".\",tblSalaries[[#This Row],[Timestamp]],1))","v":"41059."},"7200 USD per year aprox",7200,"USD",{"$f":"tblSalaries[[#This Row],[clean Salary (in local currency)]]*VLOOKUP(tblSalaries[[#This Row],[Currency]],tblXrate[],2,FALSE)","v":7200},"control process auxiliary","Controller","Colombia",{"$f":"VLOOKUP(tblSalaries[[#This Row],[Where do you work]],tblCountries[[Actual]:[Mapping]],2,FALSE)","v":"Colombia"},{"$f":"VLOOKUP(tblSalaries[[#This Row],[clean Country]]&\"*\",Cont_Table,2,0)","v":"South America"},"4 to 6 hours a day",8]
[null,"ID1495","2012-05-30T21:07:54",{"$f":"LEFT(tblSalaries[[#This Row],[Timestamp]],FIND(\".\",tblSalaries[[#This Row],[Timestamp]],1))","v":"41059."},42000,42000,"EUR",{"$f":"tblSalaries[[#This Row],[clean Salary (in local currency)]]*VLOOKUP(tblSalaries[[#This Row],[Currency]],tblXrate[],2,FALSE)","v":53356.776437647524},"Business Intelligence Consultant","Consultant","Germany",{"$f":"VLOOKUP(tblSalaries[[#This Row],[Where do you work]],tblCountries[[Actual]:[Mapping]],2,FALSE)","v":"Germany"},{"$f":"VLOOKUP(tblSalaries[[#This Row],[clean Country]]&\"*\",Cont_Table,2,0)","v":"Europe"},"All the 8 hours baby, all the 8!",7]
[null,"ID1496","2012-05-30T21:19:31",{"$f":"LEFT(tblSalaries[[#This Row],[Timestamp]],FIND(\".\",tblSalaries[[#This Row],[Timestamp]],1))","v":"41059."},45000,45000,"USD",{"$f":"tblSalaries[[#This Row],[clean Salary (in local currency)]]*VLOOKUP(tblSalaries[[#This Row],[Currency]],tblXrate[],2,FALSE)","v":45000},"Data Specialist","Specialist","USA",{"$f":"VLOOKUP(tblSalaries[[#This Row],[Where do you work]],tblCountries[[Actual]:[Mapping]],2,FALSE)","v":"USA"},{"$f":"VLOOKUP(tblSalaries[[#This Row],[clean Country]]&\"*\",Cont_Table,2,0)","v":"North America"},"2 to 3 hours per day",10]
[null,"ID1497","2012-05-30T21:26:04",{"$f":"LEFT(tblSalaries[[#This Row],[Timestamp]],FIND(\".\",tblSalaries[[#This Row],[Timestamp]],1))","v":"41059."},5000,5000,"USD",{"$f":"tblSalaries[[#This Row],[clean Salary (in local currency)]]*VLOOKUP(tblSalaries[[#This Row],[Currency]],tblXrate[],2,FALSE)","v":5000},"Officer MIS","Manager","India",{"$f":"VLOOKUP(tblSalaries[[#This Row],[Where do you work]],tblCountries[[Actual]:[Mapping]],2,FALSE)","v":"India"},{"$f":"VLOOKUP(tblSalaries[[#This Row],[clean Country]]&\"*\",Cont_Table,2,0)","v":"Asia"},"All the 8 hours baby, all the 8!",4]
[null,"ID1498","2012-05-30T21:45:06",{"$f":"LEFT(tblSalaries[[#This Row],[Timestamp]],FIND(\".\",tblSalaries[[#This Row],[Timestamp]],1))","v":"41059."},74000,74000,"AUD",{"$f":"tblSalaries[[#This Row],[clean Salary (in local currency)]]*VLOOKUP(tblSalaries[[#This Row],[Currency]],tblXrate[],2,FALSE)","v":75473.31457379504},"operations Administrator","Analyst","Australia",{"$f":"VLOOKUP(tblSalaries[[#This Row],[Where do you work]],tblCountries[[Actual]:[Mapping]],2,FALSE)","v":"Australia"},{"$f":"VLOOKUP(tblSalaries[[#This Row],[clean Country]]&\"*\",Cont_Table,2,0)","v":"Australia"},"All the 8 hours baby, all the 8!",20]
[null,"ID1499","2012-05-30T22:11:21",{"$f":"LEFT(tblSalaries[[#This Row],[Timestamp]],FIND(\".\",tblSalaries[[#This Row],[Timestamp]],1))","v":"41059."},"15000 USD",15000,"USD",{"$f":"tblSalaries[[#This Row],[clean Salary (in local currency)]]*VLOOKUP(tblSalaries[[#This Row],[Currency]],tblXrate[],2,FALSE)","v":15000},"Manager","Manager","Romania",{"$f":"VLOOKUP(tblSalaries[[#This Row],[Where do you work]],tblCountries[[Actual]:[Mapping]],2,FALSE)","v":"Romania"},{"$f":"VLOOKUP(tblSalaries[[#This Row],[clean Country]]&\"*\",Cont_Table,2,0)","v":"Europe"},"2 to 3 hours per day",5]
[null,"ID1500","2012-05-30T22:31:33",{"$f":"LEFT(tblSalaries[[#This Row],[Timestamp]],FIND(\".\",tblSalaries[[#This Row],[Timestamp]],1))","v":"41059."},"33500 â‚¬",33500,"EUR",{"$f":"tblSalaries[[#This Row],[clean Salary (in local currency)]]*VLOOKUP(tblSalaries[[#This Row],[Currency]],tblXrate[],2,FALSE)","v":42558.381206218859},"Controller / VBA Developet","Controller","Germany",{"$f":"VLOOKUP(tblSalaries[[#This Row],[Where do you work]],tblCountries[[Actual]:[Mapping]],2,FALSE)","v":"Germany"},{"$f":"VLOOKUP(tblSalaries[[#This Row],[clean Country]]&\"*\",Cont_Table,2,0)","v":"Europe"},"All the 8 hours baby, all the 8!",8]
[null,"ID1501","2012-05-30T22:31:35",{"$f":"LEFT(tblSalaries[[#This Row],[Timestamp]],FIND(\".\",tblSalaries[[#This Row],[Timestamp]],1))","v":"41059."},"61K",61000,"USD",{"$f":"tblSalaries[[#This Row],[clean Salary (in local currency)]]*VLOOKUP(tblSalaries[[#This Row],[Currency]],tblXrate[],2,FALSE)","v":61000},"Financial Analyst","Analyst","USA",{"$f":"VLOOKUP(tblSalaries[[#This Row],[Where do you work]],tblCountries[[Actual]:[Mapping]],2,FALSE)","v":"USA"},{"$f":"VLOOKUP(tblSalaries[[#This Row],[clean Country]]&\"*\",Cont_Table,2,0)","v":"North America"},"4 to 6 hours a day",5]
[null,"ID1502","2012-05-30T22:32:21",{"$f":"LEFT(tblSalaries[[#This Row],[Timestamp]],FIND(\".\",tblSalaries[[#This Row],[Timestamp]],1))","v":"41059."},66000,66000,"USD",{"$f":"tblSalaries[[#This Row],[clean Salary (in local currency)]]*VLOOKUP(tblSalaries[[#This Row],[Currency]],tblXrate[],2,FALSE)","v":66000},"Director of Business Analytics","Analyst","USA",{"$f":"VLOOKUP(tblSalaries[[#This Row],[Where do you work]],tblCountries[[Actual]:[Mapping]],2,FALSE)","v":"USA"},{"$f":"VLOOKUP(tblSalaries[[#This Row],[clean Country]]&\"*\",Cont_Table,2,0)","v":"North America"},"4 to 6 hours a day",2]
[null,"ID1503","2012-05-30T22:59:44",{"$f":"LEFT(tblSalaries[[#This Row],[Timestamp]],FIND(\".\",tblSalaries[[#This Row],[Timestamp]],1))","v":"41059."},"278000 PA",278000,"INR",{"$f":"tblSalaries[[#This Row],[clean Salary (in local currency)]]*VLOOKUP(tblSalaries[[#This Row],[Currency]],tblXrate[],2,FALSE)","v":4950.6008391090336},"MIS Executive","Reporting","India",{"$f":"VLOOKUP(tblSalaries[[#This Row],[Where do you work]],tblCountries[[Actual]:[Mapping]],2,FALSE)","v":"India"},{"$f":"VLOOKUP(tblSalaries[[#This Row],[clean Country]]&\"*\",Cont_Table,2,0)","v":"Asia"},"All the 8 hours baby, all the 8!",8]
[null,"ID1504","2012-05-30T23:01:48",{"$f":"LEFT(tblSalaries[[#This Row],[Timestamp]],FIND(\".\",tblSalaries[[#This Row],[Timestamp]],1))","v":"41059."},55000,55000,"USD",{"$f":"tblSalaries[[#This Row],[clean Salary (in local currency)]]*VLOOKUP(tblSalaries[[#This Row],[Currency]],tblXrate[],2,FALSE)","v":55000},"Supplier Manager","Manager","USA",{"$f":"VLOOKUP(tblSalaries[[#This Row],[Where do you work]],tblCountries[[Actual]:[Mapping]],2,FALSE)","v":"USA"},{"$f":"VLOOKUP(tblSalaries[[#This Row],[clean Country]]&\"*\",Cont_Table,2,0)","v":"North America"},"2 to 3 hours per day",14]
[null,"ID1505","2012-05-30T23:26:00",{"$f":"LEFT(tblSalaries[[#This Row],[Timestamp]],FIND(\".\",tblSalaries[[#This Row],[Timestamp]],1))","v":"41059."},32000,32000,"USD",{"$f":"tblSalaries[[#This Row],[clean Salary (in local currency)]]*VLOOKUP(tblSalaries[[#This Row],[Currency]],tblXrate[],2,FALSE)","v":32000},"Reports Writer","Reporting","USA",{"$f":"VLOOKUP(tblSalaries[[#This Row],[Where do you work]],tblCountries[[Actual]:[Mapping]],2,FALSE)","v":"USA"},{"$f":"VLOOKUP(tblSalaries[[#This Row],[clean Country]]&\"*\",Cont_Table,2,0)","v":"North America"},"4 to 6 hours a day",10]
[null,"ID1506","2012-05-30T23:29:58",{"$f":"LEFT(tblSalaries[[#This Row],[Timestamp]],FIND(\".\",tblSalaries[[#This Row],[Timestamp]],1))","v":"41059."},18000,18000,"USD",{"$f":"tblSalaries[[#This Row],[clean Salary (in local currency)]]*VLOOKUP(tblSalaries[[#This Row],[Currency]],tblXrate[],2,FALSE)","v":18000},"Process Associate","Analyst","India",{"$f":"VLOOKUP(tblSalaries[[#This Row],[Where do you work]],tblCountries[[Actual]:[Mapping]],2,FALSE)","v":"India"},{"$f":"VLOOKUP(tblSalaries[[#This Row],[clean Country]]&\"*\",Cont_Table,2,0)","v":"Asia"},"All the 8 hours baby, all the 8!",6]
[null,"ID1507","2012-05-30T23:59:22",{"$f":"LEFT(tblSalaries[[#This Row],[Timestamp]],FIND(\".\",tblSalaries[[#This Row],[Timestamp]],1))","v":"41059."},"6.5 LAKHS",650000,"INR",{"$f":"tblSalaries[[#This Row],[clean Salary (in local currency)]]*VLOOKUP(tblSalaries[[#This Row],[Currency]],tblXrate[],2,FALSE)","v":11575.14584683767},"HR/ADMINISTRATION","Analyst","India",{"$f":"VLOOKUP(tblSalaries[[#This Row],[Where do you work]],tblCountries[[Actual]:[Mapping]],2,FALSE)","v":"India"},{"$f":"VLOOKUP(tblSalaries[[#This Row],[clean Country]]&\"*\",Cont_Table,2,0)","v":"Asia"},"4 to 6 hours a day",21]
[null,"ID1508","2012-05-31T00:36:30",{"$f":"LEFT(tblSalaries[[#This Row],[Timestamp]],FIND(\".\",tblSalaries[[#This Row],[Timestamp]],1))","v":"41060."},50000,50000,"EUR",{"$f":"tblSalaries[[#This Row],[clean Salary (in local currency)]]*VLOOKUP(tblSalaries[[#This Row],[Currency]],tblXrate[],2,FALSE)","v":63519.971949580387},"accountant","Accountant","italy",{"$f":"VLOOKUP(tblSalaries[[#This Row],[Where do you work]],tblCountries[[Actual]:[Mapping]],2,FALSE)","v":"italy"},{"$f":"VLOOKUP(tblSalaries[[#This Row],[clean Country]]&\"*\",Cont_Table,2,0)","v":"Europe"},"All the 8 hours baby, all the 8!",15]
[null,"ID1509","2012-05-31T00:46:55",{"$f":"LEFT(tblSalaries[[#This Row],[Timestamp]],FIND(\".\",tblSalaries[[#This Row],[Timestamp]],1))","v":"41060."},"4.00 lac",4000000,"INR",{"$f":"tblSalaries[[#This Row],[clean Salary (in local currency)]]*VLOOKUP(tblSalaries[[#This Row],[Currency]],tblXrate[],2,FALSE)","v":71231.666749770273},"Operational Specialist","Specialist","India",{"$f":"VLOOKUP(tblSalaries[[#This Row],[Where do you work]],tblCountries[[Actual]:[Mapping]],2,FALSE)","v":"India"},{"$f":"VLOOKUP(tblSalaries[[#This Row],[clean Country]]&\"*\",Cont_Table,2,0)","v":"Asia"},"All the 8 hours baby, all the 8!",5]
[null,"ID1510","2012-05-31T01:09:06",{"$f":"LEFT(tblSalaries[[#This Row],[Timestamp]],FIND(\".\",tblSalaries[[#This Row],[Timestamp]],1))","v":"41060."},"US$ 10000",10000,"USD",{"$f":"tblSalaries[[#This Row],[clean Salary (in local currency)]]*VLOOKUP(tblSalaries[[#This Row],[Currency]],tblXrate[],2,FALSE)","v":10000},"Trainee","Analyst","Brazil",{"$f":"VLOOKUP(tblSalaries[[#This Row],[Where do you work]],tblCountries[[Actual]:[Mapping]],2,FALSE)","v":"Brazil"},{"$f":"VLOOKUP(tblSalaries[[#This Row],[clean Country]]&\"*\",Cont_Table,2,0)","v":"South America"},"4 to 6 hours a day",1]
[null,"ID1511","2012-05-31T01:17:16",{"$f":"LEFT(tblSalaries[[#This Row],[Timestamp]],FIND(\".\",tblSalaries[[#This Row],[Timestamp]],1))","v":"41060."},74300,74300,"USD",{"$f":"tblSalaries[[#This Row],[clean Salary (in local currency)]]*VLOOKUP(tblSalaries[[#This Row],[Currency]],tblXrate[],2,FALSE)","v":74300},"Senior Business Research Analyst","Analyst","USA",{"$f":"VLOOKUP(tblSalaries[[#This Row],[Where do you work]],tblCountries[[Actual]:[Mapping]],2,FALSE)","v":"USA"},{"$f":"VLOOKUP(tblSalaries[[#This Row],[clean Country]]&\"*\",Cont_Table,2,0)","v":"North America"},"4 to 6 hours a day",3]
[null,"ID1512","2012-05-31T01:17:48",{"$f":"LEFT(tblSalaries[[#This Row],[Timestamp]],FIND(\".\",tblSalaries[[#This Row],[Timestamp]],1))","v":"41060."},1500000,1500000,"INR",{"$f":"tblSalaries[[#This Row],[clean Salary (in local currency)]]*VLOOKUP(tblSalaries[[#This Row],[Currency]],tblXrate[],2,FALSE)","v":26711.875031163851},"Senior Consultant - PMO","Consultant","India",{"$f":"VLOOKUP(tblSalaries[[#This Row],[Where do you work]],tblCountries[[Actual]:[Mapping]],2,FALSE)","v":"India"},{"$f":"VLOOKUP(tblSalaries[[#This Row],[clean Country]]&\"*\",Cont_Table,2,0)","v":"Asia"},"4 to 6 hours a day",10]
[null,"ID1513","2012-05-31T01:45:48",{"$f":"LEFT(tblSalaries[[#This Row],[Timestamp]],FIND(\".\",tblSalaries[[#This Row],[Timestamp]],1))","v":"41060."},"Rs 5,36,000",536000,"INR",{"$f":"tblSalaries[[#This Row],[clean Salary (in local currency)]]*VLOOKUP(tblSalaries[[#This Row],[Currency]],tblXrate[],2,FALSE)","v":9545.0433444692171},"Team Lead","Manager","India",{"$f":"VLOOKUP(tblSalaries[[#This Row],[Where do you work]],tblCountries[[Actual]:[Mapping]],2,FALSE)","v":"India"},{"$f":"VLOOKUP(tblSalaries[[#This Row],[clean Country]]&\"*\",Cont_Table,2,0)","v":"Asia"},"4 to 6 hours a day",4]
[null,"ID1514","2012-05-31T01:50:26",{"$f":"LEFT(tblSalaries[[#This Row],[Timestamp]],FIND(\".\",tblSalaries[[#This Row],[Timestamp]],1))","v":"41060."},95000,95000,"USD",{"$f":"tblSalaries[[#This Row],[clean Salary (in local currency)]]*VLOOKUP(tblSalaries[[#This Row],[Currency]],tblXrate[],2,FALSE)","v":95000},"Sr Financial Analyst","Analyst","USA",{"$f":"VLOOKUP(tblSalaries[[#This Row],[Where do you work]],tblCountries[[Actual]:[Mapping]],2,FALSE)","v":"USA"},{"$f":"VLOOKUP(tblSalaries[[#This Row],[clean Country]]&\"*\",Cont_Table,2,0)","v":"North America"},"4 to 6 hours a day",15]
[null,"ID1515","2012-05-31T02:24:37",{"$f":"LEFT(tblSalaries[[#This Row],[Timestamp]],FIND(\".\",tblSalaries[[#This Row],[Timestamp]],1))","v":"41060."},64300,64300,"USD",{"$f":"tblSalaries[[#This Row],[clean Salary (in local currency)]]*VLOOKUP(tblSalaries[[#This Row],[Currency]],tblXrate[],2,FALSE)","v":64300},"Financial Analst","Accountant","USA",{"$f":"VLOOKUP(tblSalaries[[#This Row],[Where do you work]],tblCountries[[Actual]:[Mapping]],2,FALSE)","v":"USA"},{"$f":"VLOOKUP(tblSalaries[[#This Row],[clean Country]]&\"*\",Cont_Table,2,0)","v":"North America"},"4 to 6 hours a day",15]
[null,"ID1516","2012-05-31T02:37:09",{"$f":"LEFT(tblSalaries[[#This Row],[Timestamp]],FIND(\".\",tblSalaries[[#This Row],[Timestamp]],1))","v":"41060."},250000,250000,"USD",{"$f":"tblSalaries[[#This Row],[clean Salary (in local currency)]]*VLOOKUP(tblSalaries[[#This Row],[Currency]],tblXrate[],2,FALSE)","v":250000},"consultant","Consultant","USA",{"$f":"VLOOKUP(tblSalaries[[#This Row],[Where do you work]],tblCountries[[Actual]:[Mapping]],2,FALSE)","v":"USA"},{"$f":"VLOOKUP(tblSalaries[[#This Row],[clean Country]]&\"*\",Cont_Table,2,0)","v":"North America"},"All the 8 hours baby, all the 8!",20]
[null,"ID1519","2012-05-31T03:07:09",{"$f":"LEFT(tblSalaries[[#This Row],[Timestamp]],FIND(\".\",tblSalaries[[#This Row],[Timestamp]],1))","v":"41060."},89000,89000,"USD",{"$f":"tblSalaries[[#This Row],[clean Salary (in local currency)]]*VLOOKUP(tblSalaries[[#This Row],[Currency]],tblXrate[],2,FALSE)","v":89000},"Finance Manager","Manager","USA",{"$f":"VLOOKUP(tblSalaries[[#This Row],[Where do you work]],tblCountries[[Actual]:[Mapping]],2,FALSE)","v":"USA"},{"$f":"VLOOKUP(tblSalaries[[#This Row],[clean Country]]&\"*\",Cont_Table,2,0)","v":"North America"},"2 to 3 hours per day",10]
[null,"ID1520","2012-05-31T04:12:19",{"$f":"LEFT(tblSalaries[[#This Row],[Timestamp]],FIND(\".\",tblSalaries[[#This Row],[Timestamp]],1))","v":"41060."},75000,75000,"USD",{"$f":"tblSalaries[[#This Row],[clean Salary (in local currency)]]*VLOOKUP(tblSalaries[[#This Row],[Currency]],tblXrate[],2,FALSE)","v":75000},"Financial Analyst","Analyst","USA",{"$f":"VLOOKUP(tblSalaries[[#This Row],[Where do you work]],tblCountries[[Actual]:[Mapping]],2,FALSE)","v":"USA"},{"$f":"VLOOKUP(tblSalaries[[#This Row],[clean Country]]&\"*\",Cont_Table,2,0)","v":"North America"},"All the 8 hours baby, all the 8!",1.5]
[null,"ID1521","2012-05-31T05:02:59",{"$f":"LEFT(tblSalaries[[#This Row],[Timestamp]],FIND(\".\",tblSalaries[[#This Row],[Timestamp]],1))","v":"41060."},45000,45000,"USD",{"$f":"tblSalaries[[#This Row],[clean Salary (in local currency)]]*VLOOKUP(tblSalaries[[#This Row],[Currency]],tblXrate[],2,FALSE)","v":45000},"Excel Business Analyst","Analyst","USA",{"$f":"VLOOKUP(tblSalaries[[#This Row],[Where do you work]],tblCountries[[Actual]:[Mapping]],2,FALSE)","v":"USA"},{"$f":"VLOOKUP(tblSalaries[[#This Row],[clean Country]]&\"*\",Cont_Table,2,0)","v":"North America"},"All the 8 hours baby, all the 8!",5]
[null,"ID1522","2012-05-31T05:23:58",{"$f":"LEFT(tblSalaries[[#This Row],[Timestamp]],FIND(\".\",tblSalaries[[#This Row],[Timestamp]],1))","v":"41060."},127500,127500,"USD",{"$f":"tblSalaries[[#This Row],[clean Salary (in local currency)]]*VLOOKUP(tblSalaries[[#This Row],[Currency]],tblXrate[],2,FALSE)","v":127500},"SVP","CXO or Top Mgmt.","USA",{"$f":"VLOOKUP(tblSalaries[[#This Row],[Where do you work]],tblCountries[[Actual]:[Mapping]],2,FALSE)","v":"USA"},{"$f":"VLOOKUP(tblSalaries[[#This Row],[clean Country]]&\"*\",Cont_Table,2,0)","v":"North America"},"All the 8 hours baby, all the 8!",22]
[null,"ID1523","2012-05-31T05:31:54",{"$f":"LEFT(tblSalaries[[#This Row],[Timestamp]],FIND(\".\",tblSalaries[[#This Row],[Timestamp]],1))","v":"41060."},170000,170000,"USD",{"$f":"tblSalaries[[#This Row],[clean Salary (in local currency)]]*VLOOKUP(tblSalaries[[#This Row],[Currency]],tblXrate[],2,FALSE)","v":170000},"CFO","CXO or Top Mgmt.","USA",{"$f":"VLOOKUP(tblSalaries[[#This Row],[Where do you work]],tblCountries[[Actual]:[Mapping]],2,FALSE)","v":"USA"},{"$f":"VLOOKUP(tblSalaries[[#This Row],[clean Country]]&\"*\",Cont_Table,2,0)","v":"North America"},"2 to 3 hours per day",18]
[null,"ID1524","2012-05-31T05:37:29",{"$f":"LEFT(tblSalaries[[#This Row],[Timestamp]],FIND(\".\",tblSalaries[[#This Row],[Timestamp]],1))","v":"41060."},800,9600,"USD",{"$f":"tblSalaries[[#This Row],[clean Salary (in local currency)]]*VLOOKUP(tblSalaries[[#This Row],[Currency]],tblXrate[],2,FALSE)","v":9600},"Reporting Analyst","Analyst","Bolivia",{"$f":"VLOOKUP(tblSalaries[[#This Row],[Where do you work]],tblCountries[[Actual]:[Mapping]],2,FALSE)","v":"Bolivia"},{"$f":"VLOOKUP(tblSalaries[[#This Row],[clean Country]]&\"*\",Cont_Table,2,0)","v":"South America"},"All the 8 hours baby, all the 8!",2]
[null,"ID1525","2012-05-31T06:13:42",{"$f":"LEFT(tblSalaries[[#This Row],[Timestamp]],FIND(\".\",tblSalaries[[#This Row],[Timestamp]],1))","v":"41060."},62000,62000,"USD",{"$f":"tblSalaries[[#This Row],[clean Salary (in local currency)]]*VLOOKUP(tblSalaries[[#This Row],[Currency]],tblXrate[],2,FALSE)","v":62000},"info analyst","Analyst","USA",{"$f":"VLOOKUP(tblSalaries[[#This Row],[Where do you work]],tblCountries[[Actual]:[Mapping]],2,FALSE)","v":"USA"},{"$f":"VLOOKUP(tblSalaries[[#This Row],[clean Country]]&\"*\",Cont_Table,2,0)","v":"North America"},"All the 8 hours baby, all the 8!",27]
[null,"ID1526","2012-05-31T06:23:09",{"$f":"LEFT(tblSalaries[[#This Row],[Timestamp]],FIND(\".\",tblSalaries[[#This Row],[Timestamp]],1))","v":"41060."},22000,22000,"USD",{"$f":"tblSalaries[[#This Row],[clean Salary (in local currency)]]*VLOOKUP(tblSalaries[[#This Row],[Currency]],tblXrate[],2,FALSE)","v":22000},"Data Manager","Manager","USA",{"$f":"VLOOKUP(tblSalaries[[#This Row],[Where do you work]],tblCountries[[Actual]:[Mapping]],2,FALSE)","v":"USA"},{"$f":"VLOOKUP(tblSalaries[[#This Row],[clean Country]]&\"*\",Cont_Table,2,0)","v":"North America"},"4 to 6 hours a day",3]
[null,"ID1527","2012-05-31T06:23:55",{"$f":"LEFT(tblSalaries[[#This Row],[Timestamp]],FIND(\".\",tblSalaries[[#This Row],[Timestamp]],1))","v":"41060."},45000,45000,"USD",{"$f":"tblSalaries[[#This Row],[clean Salary (in local currency)]]*VLOOKUP(tblSalaries[[#This Row],[Currency]],tblXrate[],2,FALSE)","v":45000},"Business Analyst","Analyst","USA",{"$f":"VLOOKUP(tblSalaries[[#This Row],[Where do you work]],tblCountries[[Actual]:[Mapping]],2,FALSE)","v":"USA"},{"$f":"VLOOKUP(tblSalaries[[#This Row],[clean Country]]&\"*\",Cont_Table,2,0)","v":"North America"},"4 to 6 hours a day",8]
[null,"ID1528","2012-05-31T07:17:36",{"$f":"LEFT(tblSalaries[[#This Row],[Timestamp]],FIND(\".\",tblSalaries[[#This Row],[Timestamp]],1))","v":"41060."},145000,145000,"USD",{"$f":"tblSalaries[[#This Row],[clean Salary (in local currency)]]*VLOOKUP(tblSalaries[[#This Row],[Currency]],tblXrate[],2,FALSE)","v":145000},"Associate","Analyst","USA",{"$f":"VLOOKUP(tblSalaries[[#This Row],[Where do you work]],tblCountries[[Actual]:[Mapping]],2,FALSE)","v":"USA"},{"$f":"VLOOKUP(tblSalaries[[#This Row],[clean Country]]&\"*\",Cont_Table,2,0)","v":"North America"},"4 to 6 hours a day",6]
[null,"ID1529","2012-05-31T08:20:03",{"$f":"LEFT(tblSalaries[[#This Row],[Timestamp]],FIND(\".\",tblSalaries[[#This Row],[Timestamp]],1))","v":"41060."},89000,89000,"USD",{"$f":"tblSalaries[[#This Row],[clean Salary (in local currency)]]*VLOOKUP(tblSalaries[[#This Row],[Currency]],tblXrate[],2,FALSE)","v":89000},"BI Analyst","Analyst","USA",{"$f":"VLOOKUP(tblSalaries[[#This Row],[Where do you work]],tblCountries[[Actual]:[Mapping]],2,FALSE)","v":"USA"},{"$f":"VLOOKUP(tblSalaries[[#This Row],[clean Country]]&\"*\",Cont_Table,2,0)","v":"North America"},"All the 8 hours baby, all the 8!",14]
[null,"ID1530","2012-05-31T09:28:05",{"$f":"LEFT(tblSalaries[[#This Row],[Timestamp]],FIND(\".\",tblSalaries[[#This Row],[Timestamp]],1))","v":"41060."},38000,38000,"USD",{"$f":"tblSalaries[[#This Row],[clean Salary (in local currency)]]*VLOOKUP(tblSalaries[[#This Row],[Currency]],tblXrate[],2,FALSE)","v":38000},"Accountant","Accountant","USA",{"$f":"VLOOKUP(tblSalaries[[#This Row],[Where do you work]],tblCountries[[Actual]:[Mapping]],2,FALSE)","v":"USA"},{"$f":"VLOOKUP(tblSalaries[[#This Row],[clean Country]]&\"*\",Cont_Table,2,0)","v":"North America"},"4 to 6 hours a day",11]
[null,"ID1531","2012-05-31T09:45:09",{"$f":"LEFT(tblSalaries[[#This Row],[Timestamp]],FIND(\".\",tblSalaries[[#This Row],[Timestamp]],1))","v":"41060."},50000,50000,"CAD",{"$f":"tblSalaries[[#This Row],[clean Salary (in local currency)]]*VLOOKUP(tblSalaries[[#This Row],[Currency]],tblXrate[],2,FALSE)","v":49168.076151516347},"Business Analyst","Analyst","Canada",{"$f":"VLOOKUP(tblSalaries[[#This Row],[Where do you work]],tblCountries[[Actual]:[Mapping]],2,FALSE)","v":"Canada"},{"$f":"VLOOKUP(tblSalaries[[#This Row],[clean Country]]&\"*\",Cont_Table,2,0)","v":"North America"},"4 to 6 hours a day",3]
[null,"ID1532","2012-05-31T10:29:42",{"$f":"LEFT(tblSalaries[[#This Row],[Timestamp]],FIND(\".\",tblSalaries[[#This Row],[Timestamp]],1))","v":"41060."},500000,500000,"INR",{"$f":"tblSalaries[[#This Row],[clean Salary (in local currency)]]*VLOOKUP(tblSalaries[[#This Row],[Currency]],tblXrate[],2,FALSE)","v":8903.9583437212841},"Developer","Analyst","India",{"$f":"VLOOKUP(tblSalaries[[#This Row],[Where do you work]],tblCountries[[Actual]:[Mapping]],2,FALSE)","v":"India"},{"$f":"VLOOKUP(tblSalaries[[#This Row],[clean Country]]&\"*\",Cont_Table,2,0)","v":"Asia"},"4 to 6 hours a day",8]
[null,"ID1533","2012-05-31T10:33:07",{"$f":"LEFT(tblSalaries[[#This Row],[Timestamp]],FIND(\".\",tblSalaries[[#This Row],[Timestamp]],1))","v":"41060."},"10000 US$",10000,"USD",{"$f":"tblSalaries[[#This Row],[clean Salary (in local currency)]]*VLOOKUP(tblSalaries[[#This Row],[Currency]],tblXrate[],2,FALSE)","v":10000},"Project management","Manager","Vietnam",{"$f":"VLOOKUP(tblSalaries[[#This Row],[Where do you work]],tblCountries[[Actual]:[Mapping]],2,FALSE)","v":"Vietnam"},{"$f":"VLOOKUP(tblSalaries[[#This Row],[clean Country]]&\"*\",Cont_Table,2,0)","v":"Asia"},"2 to 3 hours per day",8]
[null,"ID1534","2012-05-31T10:37:38",{"$f":"LEFT(tblSalaries[[#This Row],[Timestamp]],FIND(\".\",tblSalaries[[#This Row],[Timestamp]],1))","v":"41060."},105000,105000,"USD",{"$f":"tblSalaries[[#This Row],[clean Salary (in local currency)]]*VLOOKUP(tblSalaries[[#This Row],[Currency]],tblXrate[],2,FALSE)","v":105000},"Business Banker","Manager","USA",{"$f":"VLOOKUP(tblSalaries[[#This Row],[Where do you work]],tblCountries[[Actual]:[Mapping]],2,FALSE)","v":"USA"},{"$f":"VLOOKUP(tblSalaries[[#This Row],[clean Country]]&\"*\",Cont_Table,2,0)","v":"North America"},"1 or 2 hours a day",30]
[null,"ID1535","2012-05-31T10:54:48",{"$f":"LEFT(tblSalaries[[#This Row],[Timestamp]],FIND(\".\",tblSalaries[[#This Row],[Timestamp]],1))","v":"41060."},1000,12000,"USD",{"$f":"tblSalaries[[#This Row],[clean Salary (in local currency)]]*VLOOKUP(tblSalaries[[#This Row],[Currency]],tblXrate[],2,FALSE)","v":12000},"Associate Analyst","Analyst","MYS",{"$f":"VLOOKUP(tblSalaries[[#This Row],[Where do you work]],tblCountries[[Actual]:[Mapping]],2,FALSE)","v":"MYS"},{"$f":"VLOOKUP(tblSalaries[[#This Row],[clean Country]]&\"*\",Cont_Table,2,0)","v":"Asia"},"2 to 3 hours per day",0]
[null,"ID1536","2012-05-31T11:08:38",{"$f":"LEFT(tblSalaries[[#This Row],[Timestamp]],FIND(\".\",tblSalaries[[#This Row],[Timestamp]],1))","v":"41060."},"Rs. 200000/-",200000,"INR",{"$f":"tblSalaries[[#This Row],[clean Salary (in local currency)]]*VLOOKUP(tblSalaries[[#This Row],[Currency]],tblXrate[],2,FALSE)","v":3561.5833374885137},"Accounts Executive","Accountant","India",{"$f":"VLOOKUP(tblSalaries[[#This Row],[Where do you work]],tblCountries[[Actual]:[Mapping]],2,FALSE)","v":"India"},{"$f":"VLOOKUP(tblSalaries[[#This Row],[clean Country]]&\"*\",Cont_Table,2,0)","v":"Asia"},"All the 8 hours baby, all the 8!",3]
[null,"ID1537","2012-05-31T13:25:49",{"$f":"LEFT(tblSalaries[[#This Row],[Timestamp]],FIND(\".\",tblSalaries[[#This Row],[Timestamp]],1))","v":"41060."},"85,000 AUD",85000,"AUD",{"$f":"tblSalaries[[#This Row],[clean Salary (in local currency)]]*VLOOKUP(tblSalaries[[#This Row],[Currency]],tblXrate[],2,FALSE)","v":86692.320794224041},"Demand Planner","Analyst","Australia",{"$f":"VLOOKUP(tblSalaries[[#This Row],[Where do you work]],tblCountries[[Actual]:[Mapping]],2,FALSE)","v":"Australia"},{"$f":"VLOOKUP(tblSalaries[[#This Row],[clean Country]]&\"*\",Cont_Table,2,0)","v":"Australia"},"1 or 2 hours a day",5]
[null,"ID1539","2012-05-31T16:00:16",{"$f":"LEFT(tblSalaries[[#This Row],[Timestamp]],FIND(\".\",tblSalaries[[#This Row],[Timestamp]],1))","v":"41060."},8000,8000,"USD",{"$f":"tblSalaries[[#This Row],[clean Salary (in local currency)]]*VLOOKUP(tblSalaries[[#This Row],[Currency]],tblXrate[],2,FALSE)","v":8000},"Owner","CXO or Top Mgmt.","India",{"$f":"VLOOKUP(tblSalaries[[#This Row],[Where do you work]],tblCountries[[Actual]:[Mapping]],2,FALSE)","v":"India"},{"$f":"VLOOKUP(tblSalaries[[#This Row],[clean Country]]&\"*\",Cont_Table,2,0)","v":"Asia"},"4 to 6 hours a day",18]
[null,"ID1540","2012-05-31T16:10:28",{"$f":"LEFT(tblSalaries[[#This Row],[Timestamp]],FIND(\".\",tblSalaries[[#This Row],[Timestamp]],1))","v":"41060."},"Rs. 380000",380000,"INR",{"$f":"tblSalaries[[#This Row],[clean Salary (in local currency)]]*VLOOKUP(tblSalaries[[#This Row],[Currency]],tblXrate[],2,FALSE)","v":6767.0083412281756},"reporting analyst","Analyst","India",{"$f":"VLOOKUP(tblSalaries[[#This Row],[Where do you work]],tblCountries[[Actual]:[Mapping]],2,FALSE)","v":"India"},{"$f":"VLOOKUP(tblSalaries[[#This Row],[clean Country]]&\"*\",Cont_Table,2,0)","v":"Asia"},"2 to 3 hours per day",6]
[null,"ID1541","2012-05-31T16:16:11",{"$f":"LEFT(tblSalaries[[#This Row],[Timestamp]],FIND(\".\",tblSalaries[[#This Row],[Timestamp]],1))","v":"41060."},"Â£30500",30500,"GBP",{"$f":"tblSalaries[[#This Row],[clean Salary (in local currency)]]*VLOOKUP(tblSalaries[[#This Row],[Currency]],tblXrate[],2,FALSE)","v":48073.437298052166},"Construction Estimator","Consultant","UK",{"$f":"VLOOKUP(tblSalaries[[#This Row],[Where do you work]],tblCountries[[Actual]:[Mapping]],2,FALSE)","v":"UK"},{"$f":"VLOOKUP(tblSalaries[[#This Row],[clean Country]]&\"*\",Cont_Table,2,0)","v":"Europe"},"4 to 6 hours a day",14]
[null,"ID1542","2012-05-31T16:25:23",{"$f":"LEFT(tblSalaries[[#This Row],[Timestamp]],FIND(\".\",tblSalaries[[#This Row],[Timestamp]],1))","v":"41060."},"60K â‚¬",60000,"EUR",{"$f":"tblSalaries[[#This Row],[clean Salary (in local currency)]]*VLOOKUP(tblSalaries[[#This Row],[Currency]],tblXrate[],2,FALSE)","v":76223.966339496474},"Trade Marketing","Manager","NL",{"$f":"VLOOKUP(tblSalaries[[#This Row],[Where do you work]],tblCountries[[Actual]:[Mapping]],2,FALSE)","v":"Netherlands"},{"$f":"VLOOKUP(tblSalaries[[#This Row],[clean Country]]&\"*\",Cont_Table,2,0)","v":"Europe"},"2 to 3 hours per day",15]
[null,"ID1543","2012-05-31T16:25:24",{"$f":"LEFT(tblSalaries[[#This Row],[Timestamp]],FIND(\".\",tblSalaries[[#This Row],[Timestamp]],1))","v":"41060."},320000,320000,"SAR",{"$f":"tblSalaries[[#This Row],[clean Salary (in local currency)]]*VLOOKUP(tblSalaries[[#This Row],[Currency]],tblXrate[],2,FALSE)","v":85333.333333333328},"Merchandise Planning Manager","Manager","Saudi Arabia",{"$f":"VLOOKUP(tblSalaries[[#This Row],[Where do you work]],tblCountries[[Actual]:[Mapping]],2,FALSE)","v":"Saudi Arabia"},{"$f":"VLOOKUP(tblSalaries[[#This Row],[clean Country]]&\"*\",Cont_Table,2,0)","v":"Asia"},"2 to 3 hours per day",15]
[null,"ID1544","2012-05-31T16:30:09",{"$f":"LEFT(tblSalaries[[#This Row],[Timestamp]],FIND(\".\",tblSalaries[[#This Row],[Timestamp]],1))","v":"41060."},48360,48360,"GBP",{"$f":"tblSalaries[[#This Row],[clean Salary (in local currency)]]*VLOOKUP(tblSalaries[[#This Row],[Currency]],tblXrate[],2,FALSE)","v":76223.981237173866},"pricing manager","Manager","UK",{"$f":"VLOOKUP(tblSalaries[[#This Row],[Where do you work]],tblCountries[[Actual]:[Mapping]],2,FALSE)","v":"UK"},{"$f":"VLOOKUP(tblSalaries[[#This Row],[clean Country]]&\"*\",Cont_Table,2,0)","v":"Europe"},"All the 8 hours baby, all the 8!",8]
[null,"ID1545","2012-05-31T17:08:59",{"$f":"LEFT(tblSalaries[[#This Row],[Timestamp]],FIND(\".\",tblSalaries[[#This Row],[Timestamp]],1))","v":"41060."},30000,30000,"USD",{"$f":"tblSalaries[[#This Row],[clean Salary (in local currency)]]*VLOOKUP(tblSalaries[[#This Row],[Currency]],tblXrate[],2,FALSE)","v":30000},"Marketing Services Manager","Manager","Pakistan",{"$f":"VLOOKUP(tblSalaries[[#This Row],[Where do you work]],tblCountries[[Actual]:[Mapping]],2,FALSE)","v":"Pakistan"},{"$f":"VLOOKUP(tblSalaries[[#This Row],[clean Country]]&\"*\",Cont_Table,2,0)","v":"Asia"},"4 to 6 hours a day",5]
[null,"ID1546","2012-05-31T17:21:45",{"$f":"LEFT(tblSalaries[[#This Row],[Timestamp]],FIND(\".\",tblSalaries[[#This Row],[Timestamp]],1))","v":"41060."},34000,34000,"USD",{"$f":"tblSalaries[[#This Row],[clean Salary (in local currency)]]*VLOOKUP(tblSalaries[[#This Row],[Currency]],tblXrate[],2,FALSE)","v":34000},"Sr Analyst","Analyst","India",{"$f":"VLOOKUP(tblSalaries[[#This Row],[Where do you work]],tblCountries[[Actual]:[Mapping]],2,FALSE)","v":"India"},{"$f":"VLOOKUP(tblSalaries[[#This Row],[clean Country]]&\"*\",Cont_Table,2,0)","v":"Asia"},"All the 8 hours baby, all the 8!",4]
[null,"ID1547","2012-05-31T17:34:34",{"$f":"LEFT(tblSalaries[[#This Row],[Timestamp]],FIND(\".\",tblSalaries[[#This Row],[Timestamp]],1))","v":"41060."},"Rs. 180000",180000,"INR",{"$f":"tblSalaries[[#This Row],[clean Salary (in local currency)]]*VLOOKUP(tblSalaries[[#This Row],[Currency]],tblXrate[],2,FALSE)","v":3205.4250037396623},"Asst Store Manager","Manager","India",{"$f":"VLOOKUP(tblSalaries[[#This Row],[Where do you work]],tblCountries[[Actual]:[Mapping]],2,FALSE)","v":"India"},{"$f":"VLOOKUP(tblSalaries[[#This Row],[clean Country]]&\"*\",Cont_Table,2,0)","v":"Asia"},"4 to 6 hours a day",5]
[null,"ID1548","2012-05-31T17:35:33",{"$f":"LEFT(tblSalaries[[#This Row],[Timestamp]],FIND(\".\",tblSalaries[[#This Row],[Timestamp]],1))","v":"41060."},"45.000 USD",45000,"USD",{"$f":"tblSalaries[[#This Row],[clean Salary (in local currency)]]*VLOOKUP(tblSalaries[[#This Row],[Currency]],tblXrate[],2,FALSE)","v":45000},"Junior Reporting Manager","Manager","Germany",{"$f":"VLOOKUP(tblSalaries[[#This Row],[Where do you work]],tblCountries[[Actual]:[Mapping]],2,FALSE)","v":"Germany"},{"$f":"VLOOKUP(tblSalaries[[#This Row],[clean Country]]&\"*\",Cont_Table,2,0)","v":"Europe"},"2 to 3 hours per day",5]
[null,"ID1549","2012-05-31T18:35:30",{"$f":"LEFT(tblSalaries[[#This Row],[Timestamp]],FIND(\".\",tblSalaries[[#This Row],[Timestamp]],1))","v":"41060."},24864,24864,"USD",{"$f":"tblSalaries[[#This Row],[clean Salary (in local currency)]]*VLOOKUP(tblSalaries[[#This Row],[Currency]],tblXrate[],2,FALSE)","v":24864},"Brand manager","Manager","Libya",{"$f":"VLOOKUP(tblSalaries[[#This Row],[Where do you work]],tblCountries[[Actual]:[Mapping]],2,FALSE)","v":"Libya"},{"$f":"VLOOKUP(tblSalaries[[#This Row],[clean Country]]&\"*\",Cont_Table,2,0)","v":"Africa"},"All the 8 hours baby, all the 8!",8]
[null,"ID1550","2012-05-31T19:51:29",{"$f":"LEFT(tblSalaries[[#This Row],[Timestamp]],FIND(\".\",tblSalaries[[#This Row],[Timestamp]],1))","v":"41060."},"Â£30000",30000,"GBP",{"$f":"tblSalaries[[#This Row],[clean Salary (in local currency)]]*VLOOKUP(tblSalaries[[#This Row],[Currency]],tblXrate[],2,FALSE)","v":47285.348162018527},"Cost Analyst","Analyst","UK",{"$f":"VLOOKUP(tblSalaries[[#This Row],[Where do you work]],tblCountries[[Actual]:[Mapping]],2,FALSE)","v":"UK"},{"$f":"VLOOKUP(tblSalaries[[#This Row],[clean Country]]&\"*\",Cont_Table,2,0)","v":"Europe"},"4 to 6 hours a day",7]
[null,"ID1551","2012-05-31T20:13:27",{"$f":"LEFT(tblSalaries[[#This Row],[Timestamp]],FIND(\".\",tblSalaries[[#This Row],[Timestamp]],1))","v":"41060."},1000000,1000000,"INR",{"$f":"tblSalaries[[#This Row],[clean Salary (in local currency)]]*VLOOKUP(tblSalaries[[#This Row],[Currency]],tblXrate[],2,FALSE)","v":17807.916687442568},"Financial analyst","Analyst","India",{"$f":"VLOOKUP(tblSalaries[[#This Row],[Where do you work]],tblCountries[[Actual]:[Mapping]],2,FALSE)","v":"India"},{"$f":"VLOOKUP(tblSalaries[[#This Row],[clean Country]]&\"*\",Cont_Table,2,0)","v":"Asia"},"All the 8 hours baby, all the 8!",10]
[null,"ID1552","2012-05-31T20:14:20",{"$f":"LEFT(tblSalaries[[#This Row],[Timestamp]],FIND(\".\",tblSalaries[[#This Row],[Timestamp]],1))","v":"41060."},"Â£35000",35000,"GBP",{"$f":"tblSalaries[[#This Row],[clean Salary (in local currency)]]*VLOOKUP(tblSalaries[[#This Row],[Currency]],tblXrate[],2,FALSE)","v":55166.239522354947},"Research Analyst","Analyst","UK",{"$f":"VLOOKUP(tblSalaries[[#This Row],[Where do you work]],tblCountries[[Actual]:[Mapping]],2,FALSE)","v":"UK"},{"$f":"VLOOKUP(tblSalaries[[#This Row],[clean Country]]&\"*\",Cont_Table,2,0)","v":"Europe"},"4 to 6 hours a day",3]
[null,"ID1553","2012-05-31T21:05:02",{"$f":"LEFT(tblSalaries[[#This Row],[Timestamp]],FIND(\".\",tblSalaries[[#This Row],[Timestamp]],1))","v":"41060."},"55000 EUR",55000,"EUR",{"$f":"tblSalaries[[#This Row],[clean Salary (in local currency)]]*VLOOKUP(tblSalaries[[#This Row],[Currency]],tblXrate[],2,FALSE)","v":69871.969144538423},"Risk Officer","Manager","The Netherlands",{"$f":"VLOOKUP(tblSalaries[[#This Row],[Where do you work]],tblCountries[[Actual]:[Mapping]],2,FALSE)","v":"Netherlands"},{"$f":"VLOOKUP(tblSalaries[[#This Row],[clean Country]]&\"*\",Cont_Table,2,0)","v":"Europe"},"1 or 2 hours a day",5]
[null,"ID1554","2012-05-31T21:06:45",{"$f":"LEFT(tblSalaries[[#This Row],[Timestamp]],FIND(\".\",tblSalaries[[#This Row],[Timestamp]],1))","v":"41060."},70970,70970,"USD",{"$f":"tblSalaries[[#This Row],[clean Salary (in local currency)]]*VLOOKUP(tblSalaries[[#This Row],[Currency]],tblXrate[],2,FALSE)","v":70970},"Sr. Risk Analyst","Analyst","USA",{"$f":"VLOOKUP(tblSalaries[[#This Row],[Where do you work]],tblCountries[[Actual]:[Mapping]],2,FALSE)","v":"USA"},{"$f":"VLOOKUP(tblSalaries[[#This Row],[clean Country]]&\"*\",Cont_Table,2,0)","v":"North America"},"4 to 6 hours a day",17]
[null,"ID1555","2012-05-31T21:45:03",{"$f":"LEFT(tblSalaries[[#This Row],[Timestamp]],FIND(\".\",tblSalaries[[#This Row],[Timestamp]],1))","v":"41060."},"60000 EUR",60000,"EUR",{"$f":"tblSalaries[[#This Row],[clean Salary (in local currency)]]*VLOOKUP(tblSalaries[[#This Row],[Currency]],tblXrate[],2,FALSE)","v":76223.966339496474},"Business Engineer","Engineer","Netherlands",{"$f":"VLOOKUP(tblSalaries[[#This Row],[Where do you work]],tblCountries[[Actual]:[Mapping]],2,FALSE)","v":"Netherlands"},{"$f":"VLOOKUP(tblSalaries[[#This Row],[clean Country]]&\"*\",Cont_Table,2,0)","v":"Europe"},"4 to 6 hours a day",7]
[null,"ID1556","2012-05-31T21:47:37",{"$f":"LEFT(tblSalaries[[#This Row],[Timestamp]],FIND(\".\",tblSalaries[[#This Row],[Timestamp]],1))","v":"41060."},110000,110000,"USD",{"$f":"tblSalaries[[#This Row],[clean Salary (in local currency)]]*VLOOKUP(tblSalaries[[#This Row],[Currency]],tblXrate[],2,FALSE)","v":110000},"Business Controller","Controller","Norway",{"$f":"VLOOKUP(tblSalaries[[#This Row],[Where do you work]],tblCountries[[Actual]:[Mapping]],2,FALSE)","v":"Norway"},{"$f":"VLOOKUP(tblSalaries[[#This Row],[clean Country]]&\"*\",Cont_Table,2,0)","v":"Europe"},"All the 8 hours baby, all the 8!",5]
[null,"ID1557","2012-05-31T21:48:35",{"$f":"LEFT(tblSalaries[[#This Row],[Timestamp]],FIND(\".\",tblSalaries[[#This Row],[Timestamp]],1))","v":"41060."},1200,14400,"USD",{"$f":"tblSalaries[[#This Row],[clean Salary (in local currency)]]*VLOOKUP(tblSalaries[[#This Row],[Currency]],tblXrate[],2,FALSE)","v":14400},"FA /financial Analyst","Analyst","Bulgaria",{"$f":"VLOOKUP(tblSalaries[[#This Row],[Where do you work]],tblCountries[[Actual]:[Mapping]],2,FALSE)","v":"Bulgaria"},{"$f":"VLOOKUP(tblSalaries[[#This Row],[clean Country]]&\"*\",Cont_Table,2,0)","v":"Europe"},"All the 8 hours baby, all the 8!",15]
[null,"ID1558","2012-05-31T22:05:03",{"$f":"LEFT(tblSalaries[[#This Row],[Timestamp]],FIND(\".\",tblSalaries[[#This Row],[Timestamp]],1))","v":"41060."},125000,125000,"USD",{"$f":"tblSalaries[[#This Row],[clean Salary (in local currency)]]*VLOOKUP(tblSalaries[[#This Row],[Currency]],tblXrate[],2,FALSE)","v":125000},"Consultant","Consultant","USA",{"$f":"VLOOKUP(tblSalaries[[#This Row],[Where do you work]],tblCountries[[Actual]:[Mapping]],2,FALSE)","v":"USA"},{"$f":"VLOOKUP(tblSalaries[[#This Row],[clean Country]]&\"*\",Cont_Table,2,0)","v":"North America"},"All the 8 hours baby, all the 8!",8]
[null,"ID1559","2012-05-31T22:06:59",{"$f":"LEFT(tblSalaries[[#This Row],[Timestamp]],FIND(\".\",tblSalaries[[#This Row],[Timestamp]],1))","v":"41060."},74000,74000,"CAD",{"$f":"tblSalaries[[#This Row],[clean Salary (in local currency)]]*VLOOKUP(tblSalaries[[#This Row],[Currency]],tblXrate[],2,FALSE)","v":72768.752704244194},"Operations Analyst","Analyst","Canada",{"$f":"VLOOKUP(tblSalaries[[#This Row],[Where do you work]],tblCountries[[Actual]:[Mapping]],2,FALSE)","v":"Canada"},{"$f":"VLOOKUP(tblSalaries[[#This Row],[clean Country]]&\"*\",Cont_Table,2,0)","v":"North America"},"4 to 6 hours a day",10]
[null,"ID1560","2012-05-31T22:56:21",{"$f":"LEFT(tblSalaries[[#This Row],[Timestamp]],FIND(\".\",tblSalaries[[#This Row],[Timestamp]],1))","v":"41060."},"$59,000 USD",59000,"USD",{"$f":"tblSalaries[[#This Row],[clean Salary (in local currency)]]*VLOOKUP(tblSalaries[[#This Row],[Currency]],tblXrate[],2,FALSE)","v":59000},"Operations Manager","Manager","USA",{"$f":"VLOOKUP(tblSalaries[[#This Row],[Where do you work]],tblCountries[[Actual]:[Mapping]],2,FALSE)","v":"USA"},{"$f":"VLOOKUP(tblSalaries[[#This Row],[clean Country]]&\"*\",Cont_Table,2,0)","v":"North America"},"4 to 6 hours a day",15]
[null,"ID1561","2012-05-31T23:08:12",{"$f":"LEFT(tblSalaries[[#This Row],[Timestamp]],FIND(\".\",tblSalaries[[#This Row],[Timestamp]],1))","v":"41060."},71500,71500,"USD",{"$f":"tblSalaries[[#This Row],[clean Salary (in local currency)]]*VLOOKUP(tblSalaries[[#This Row],[Currency]],tblXrate[],2,FALSE)","v":71500},"Management Reporting Analyst","Analyst","USA",{"$f":"VLOOKUP(tblSalaries[[#This Row],[Where do you work]],tblCountries[[Actual]:[Mapping]],2,FALSE)","v":"USA"},{"$f":"VLOOKUP(tblSalaries[[#This Row],[clean Country]]&\"*\",Cont_Table,2,0)","v":"North America"},"4 to 6 hours a day",5]
[null,"ID1562","2012-05-31T23:09:08",{"$f":"LEFT(tblSalaries[[#This Row],[Timestamp]],FIND(\".\",tblSalaries[[#This Row],[Timestamp]],1))","v":"41060."},"Â£25000",25000,"GBP",{"$f":"tblSalaries[[#This Row],[clean Salary (in local currency)]]*VLOOKUP(tblSalaries[[#This Row],[Currency]],tblXrate[],2,FALSE)","v":39404.456801682099},"Reporting Team Lead","Reporting","UK",{"$f":"VLOOKUP(tblSalaries[[#This Row],[Where do you work]],tblCountries[[Actual]:[Mapping]],2,FALSE)","v":"UK"},{"$f":"VLOOKUP(tblSalaries[[#This Row],[clean Country]]&\"*\",Cont_Table,2,0)","v":"Europe"},"4 to 6 hours a day",2]
[null,"ID1563","2012-05-31T23:10:44",{"$f":"LEFT(tblSalaries[[#This Row],[Timestamp]],FIND(\".\",tblSalaries[[#This Row],[Timestamp]],1))","v":"41060."},"70000 â‚¬",70000,"EUR",{"$f":"tblSalaries[[#This Row],[clean Salary (in local currency)]]*VLOOKUP(tblSalaries[[#This Row],[Currency]],tblXrate[],2,FALSE)","v":88927.960729412545},"Specialist Learning Technology","Specialist","Germany",{"$f":"VLOOKUP(tblSalaries[[#This Row],[Where do you work]],tblCountries[[Actual]:[Mapping]],2,FALSE)","v":"Germany"},{"$f":"VLOOKUP(tblSalaries[[#This Row],[clean Country]]&\"*\",Cont_Table,2,0)","v":"Europe"},"1 or 2 hours a day",5]
[null,"ID1564","2012-05-31T23:48:36",{"$f":"LEFT(tblSalaries[[#This Row],[Timestamp]],FIND(\".\",tblSalaries[[#This Row],[Timestamp]],1))","v":"41060."},"USD90,000",90000,"USD",{"$f":"tblSalaries[[#This Row],[clean Salary (in local currency)]]*VLOOKUP(tblSalaries[[#This Row],[Currency]],tblXrate[],2,FALSE)","v":90000},"Operationsl Regional Manager","Manager","USA",{"$f":"VLOOKUP(tblSalaries[[#This Row],[Where do you work]],tblCountries[[Actual]:[Mapping]],2,FALSE)","v":"USA"},{"$f":"VLOOKUP(tblSalaries[[#This Row],[clean Country]]&\"*\",Cont_Table,2,0)","v":"North America"},"4 to 6 hours a day",25]
[null,"ID1565","2012-06-01T00:02:34",{"$f":"LEFT(tblSalaries[[#This Row],[Timestamp]],FIND(\".\",tblSalaries[[#This Row],[Timestamp]],1))","v":"41061."},"Rs. 700000",700000,"INR",{"$f":"tblSalaries[[#This Row],[clean Salary (in local currency)]]*VLOOKUP(tblSalaries[[#This Row],[Currency]],tblXrate[],2,FALSE)","v":12465.541681209797},"Manager - Business Development","Manager","India",{"$f":"VLOOKUP(tblSalaries[[#This Row],[Where do you work]],tblCountries[[Actual]:[Mapping]],2,FALSE)","v":"India"},{"$f":"VLOOKUP(tblSalaries[[#This Row],[clean Country]]&\"*\",Cont_Table,2,0)","v":"Asia"},"All the 8 hours baby, all the 8!",30]
[null,"ID1566","2012-06-01T00:18:35",{"$f":"LEFT(tblSalaries[[#This Row],[Timestamp]],FIND(\".\",tblSalaries[[#This Row],[Timestamp]],1))","v":"41061."},"$40,000 USD",40000,"USD",{"$f":"tblSalaries[[#This Row],[clean Salary (in local currency)]]*VLOOKUP(tblSalaries[[#This Row],[Currency]],tblXrate[],2,FALSE)","v":40000},"QA Data Analyst","Analyst","USA",{"$f":"VLOOKUP(tblSalaries[[#This Row],[Where do you work]],tblCountries[[Actual]:[Mapping]],2,FALSE)","v":"USA"},{"$f":"VLOOKUP(tblSalaries[[#This Row],[clean Country]]&\"*\",Cont_Table,2,0)","v":"North America"},"4 to 6 hours a day",8]
[null,"ID1567","2012-06-01T00:23:54",{"$f":"LEFT(tblSalaries[[#This Row],[Timestamp]],FIND(\".\",tblSalaries[[#This Row],[Timestamp]],1))","v":"41061."},30000,30000,"USD",{"$f":"tblSalaries[[#This Row],[clean Salary (in local currency)]]*VLOOKUP(tblSalaries[[#This Row],[Currency]],tblXrate[],2,FALSE)","v":30000},"SME","Analyst","India",{"$f":"VLOOKUP(tblSalaries[[#This Row],[Where do you work]],tblCountries[[Actual]:[Mapping]],2,FALSE)","v":"India"},{"$f":"VLOOKUP(tblSalaries[[#This Row],[clean Country]]&\"*\",Cont_Table,2,0)","v":"Asia"},"All the 8 hours baby, all the 8!",4]
[null,"ID1569","2012-06-01T01:29:02",{"$f":"LEFT(tblSalaries[[#This Row],[Timestamp]],FIND(\".\",tblSalaries[[#This Row],[Timestamp]],1))","v":"41061."},46325,46325,"USD",{"$f":"tblSalaries[[#This Row],[clean Salary (in local currency)]]*VLOOKUP(tblSalaries[[#This Row],[Currency]],tblXrate[],2,FALSE)","v":46325},"Work Force Scheduler for Call Center","Controller","USA",{"$f":"VLOOKUP(tblSalaries[[#This Row],[Where do you work]],tblCountries[[Actual]:[Mapping]],2,FALSE)","v":"USA"},{"$f":"VLOOKUP(tblSalaries[[#This Row],[clean Country]]&\"*\",Cont_Table,2,0)","v":"North America"},"4 to 6 hours a day",1]
[null,"ID1570","2012-06-01T01:47:43",{"$f":"LEFT(tblSalaries[[#This Row],[Timestamp]],FIND(\".\",tblSalaries[[#This Row],[Timestamp]],1))","v":"41061."},15000,15000,"USD",{"$f":"tblSalaries[[#This Row],[clean Salary (in local currency)]]*VLOOKUP(tblSalaries[[#This Row],[Currency]],tblXrate[],2,FALSE)","v":15000},"Application Developer","Analyst","USA",{"$f":"VLOOKUP(tblSalaries[[#This Row],[Where do you work]],tblCountries[[Actual]:[Mapping]],2,FALSE)","v":"USA"},{"$f":"VLOOKUP(tblSalaries[[#This Row],[clean Country]]&\"*\",Cont_Table,2,0)","v":"North America"},"All the 8 hours baby, all the 8!",8]
[null,"ID1571","2012-06-01T02:33:02",{"$f":"LEFT(tblSalaries[[#This Row],[Timestamp]],FIND(\".\",tblSalaries[[#This Row],[Timestamp]],1))","v":"41061."},31200,31200,"USD",{"$f":"tblSalaries[[#This Row],[clean Salary (in local currency)]]*VLOOKUP(tblSalaries[[#This Row],[Currency]],tblXrate[],2,FALSE)","v":31200},"Data Analyst","Analyst","USA",{"$f":"VLOOKUP(tblSalaries[[#This Row],[Where do you work]],tblCountries[[Actual]:[Mapping]],2,FALSE)","v":"USA"},{"$f":"VLOOKUP(tblSalaries[[#This Row],[clean Country]]&\"*\",Cont_Table,2,0)","v":"North America"},"4 to 6 hours a day",15]
[null,"ID1572","2012-06-01T02:46:21",{"$f":"LEFT(tblSalaries[[#This Row],[Timestamp]],FIND(\".\",tblSalaries[[#This Row],[Timestamp]],1))","v":"41061."},"Rs. 500000",500000,"INR",{"$f":"tblSalaries[[#This Row],[clean Salary (in local currency)]]*VLOOKUP(tblSalaries[[#This Row],[Currency]],tblXrate[],2,FALSE)","v":8903.9583437212841},"Sr. Associate","Analyst","India",{"$f":"VLOOKUP(tblSalaries[[#This Row],[Where do you work]],tblCountries[[Actual]:[Mapping]],2,FALSE)","v":"India"},{"$f":"VLOOKUP(tblSalaries[[#This Row],[clean Country]]&\"*\",Cont_Table,2,0)","v":"Asia"},"4 to 6 hours a day",9]
[null,"ID1573","2012-06-01T03:01:04",{"$f":"LEFT(tblSalaries[[#This Row],[Timestamp]],FIND(\".\",tblSalaries[[#This Row],[Timestamp]],1))","v":"41061."},1320,15840,"USD",{"$f":"tblSalaries[[#This Row],[clean Salary (in local currency)]]*VLOOKUP(tblSalaries[[#This Row],[Currency]],tblXrate[],2,FALSE)","v":15840},"Asistente","Analyst","Peru",{"$f":"VLOOKUP(tblSalaries[[#This Row],[Where do you work]],tblCountries[[Actual]:[Mapping]],2,FALSE)","v":"Peru"},{"$f":"VLOOKUP(tblSalaries[[#This Row],[clean Country]]&\"*\",Cont_Table,2,0)","v":"South America"},"All the 8 hours baby, all the 8!",8]
[null,"ID1574","2012-06-01T03:07:31",{"$f":"LEFT(tblSalaries[[#This Row],[Timestamp]],FIND(\".\",tblSalaries[[#This Row],[Timestamp]],1))","v":"41061."},"INR 850000",850000,"INR",{"$f":"tblSalaries[[#This Row],[clean Salary (in local currency)]]*VLOOKUP(tblSalaries[[#This Row],[Currency]],tblXrate[],2,FALSE)","v":15136.729184326183},"Sr Business analyst","Analyst","India",{"$f":"VLOOKUP(tblSalaries[[#This Row],[Where do you work]],tblCountries[[Actual]:[Mapping]],2,FALSE)","v":"India"},{"$f":"VLOOKUP(tblSalaries[[#This Row],[clean Country]]&\"*\",Cont_Table,2,0)","v":"Asia"},"4 to 6 hours a day",5]
[null,"ID1575","2012-06-01T04:10:52",{"$f":"LEFT(tblSalaries[[#This Row],[Timestamp]],FIND(\".\",tblSalaries[[#This Row],[Timestamp]],1))","v":"41061."},41000,41000,"USD",{"$f":"tblSalaries[[#This Row],[clean Salary (in local currency)]]*VLOOKUP(tblSalaries[[#This Row],[Currency]],tblXrate[],2,FALSE)","v":41000},"Excel Developer","Consultant","USA",{"$f":"VLOOKUP(tblSalaries[[#This Row],[Where do you work]],tblCountries[[Actual]:[Mapping]],2,FALSE)","v":"USA"},{"$f":"VLOOKUP(tblSalaries[[#This Row],[clean Country]]&\"*\",Cont_Table,2,0)","v":"North America"},"4 to 6 hours a day",10]
[null,"ID1576","2012-06-01T04:44:29",{"$f":"LEFT(tblSalaries[[#This Row],[Timestamp]],FIND(\".\",tblSalaries[[#This Row],[Timestamp]],1))","v":"41061."},11000,11000,"USD",{"$f":"tblSalaries[[#This Row],[clean Salary (in local currency)]]*VLOOKUP(tblSalaries[[#This Row],[Currency]],tblXrate[],2,FALSE)","v":11000},"Coordinator","Manager","MÃ©xico",{"$f":"VLOOKUP(tblSalaries[[#This Row],[Where do you work]],tblCountries[[Actual]:[Mapping]],2,FALSE)","v":"Mexico"},{"$f":"VLOOKUP(tblSalaries[[#This Row],[clean Country]]&\"*\",Cont_Table,2,0)","v":"North America"},"4 to 6 hours a day",2]
[null,"ID1577","2012-06-01T05:32:31",{"$f":"LEFT(tblSalaries[[#This Row],[Timestamp]],FIND(\".\",tblSalaries[[#This Row],[Timestamp]],1))","v":"41061."},"35000 GBP",35000,"GBP",{"$f":"tblSalaries[[#This Row],[clean Salary (in local currency)]]*VLOOKUP(tblSalaries[[#This Row],[Currency]],tblXrate[],2,FALSE)","v":55166.239522354947},"finance director","CXO or Top Mgmt.","UK",{"$f":"VLOOKUP(tblSalaries[[#This Row],[Where do you work]],tblCountries[[Actual]:[Mapping]],2,FALSE)","v":"UK"},{"$f":"VLOOKUP(tblSalaries[[#This Row],[clean Country]]&\"*\",Cont_Table,2,0)","v":"Europe"},"2 to 3 hours per day",30]
[null,"ID1578","2012-06-01T05:37:32",{"$f":"LEFT(tblSalaries[[#This Row],[Timestamp]],FIND(\".\",tblSalaries[[#This Row],[Timestamp]],1))","v":"41061."},240000,240000,"PHP",{"$f":"tblSalaries[[#This Row],[clean Salary (in local currency)]]*VLOOKUP(tblSalaries[[#This Row],[Currency]],tblXrate[],2,FALSE)","v":5689.2125418690484},"IT Coordinator","Manager","Philippines",{"$f":"VLOOKUP(tblSalaries[[#This Row],[Where do you work]],tblCountries[[Actual]:[Mapping]],2,FALSE)","v":"Philippines"},{"$f":"VLOOKUP(tblSalaries[[#This Row],[clean Country]]&\"*\",Cont_Table,2,0)","v":"Asia"},"4 to 6 hours a day",15]
[null,"ID1579","2012-06-01T05:52:11",{"$f":"LEFT(tblSalaries[[#This Row],[Timestamp]],FIND(\".\",tblSalaries[[#This Row],[Timestamp]],1))","v":"41061."},17728.57,17728,"USD",{"$f":"tblSalaries[[#This Row],[clean Salary (in local currency)]]*VLOOKUP(tblSalaries[[#This Row],[Currency]],tblXrate[],2,FALSE)","v":17728},"Financial analyst","Analyst","Mexico",{"$f":"VLOOKUP(tblSalaries[[#This Row],[Where do you work]],tblCountries[[Actual]:[Mapping]],2,FALSE)","v":"Mexico"},{"$f":"VLOOKUP(tblSalaries[[#This Row],[clean Country]]&\"*\",Cont_Table,2,0)","v":"North America"},"4 to 6 hours a day",3]
[null,"ID1580","2012-06-01T05:56:20",{"$f":"LEFT(tblSalaries[[#This Row],[Timestamp]],FIND(\".\",tblSalaries[[#This Row],[Timestamp]],1))","v":"41061."},"120000 MAD",120000,"MAD",{"$f":"tblSalaries[[#This Row],[clean Salary (in local currency)]]*VLOOKUP(tblSalaries[[#This Row],[Currency]],tblXrate[],2,FALSE)","v":13745.704467353951},"Supply chain Controller","Controller","Morocco",{"$f":"VLOOKUP(tblSalaries[[#This Row],[Where do you work]],tblCountries[[Actual]:[Mapping]],2,FALSE)","v":"Morocco"},{"$f":"VLOOKUP(tblSalaries[[#This Row],[clean Country]]&\"*\",Cont_Table,2,0)","v":"Africa"},"All the 8 hours baby, all the 8!",8]
[null,"ID1581","2012-06-01T06:17:19",{"$f":"LEFT(tblSalaries[[#This Row],[Timestamp]],FIND(\".\",tblSalaries[[#This Row],[Timestamp]],1))","v":"41061."},50000,50000,"USD",{"$f":"tblSalaries[[#This Row],[clean Salary (in local currency)]]*VLOOKUP(tblSalaries[[#This Row],[Currency]],tblXrate[],2,FALSE)","v":50000},"Staff Accountant","Accountant","USA",{"$f":"VLOOKUP(tblSalaries[[#This Row],[Where do you work]],tblCountries[[Actual]:[Mapping]],2,FALSE)","v":"USA"},{"$f":"VLOOKUP(tblSalaries[[#This Row],[clean Country]]&\"*\",Cont_Table,2,0)","v":"North America"},"4 to 6 hours a day",15]
[null,"ID1582","2012-06-01T06:31:49",{"$f":"LEFT(tblSalaries[[#This Row],[Timestamp]],FIND(\".\",tblSalaries[[#This Row],[Timestamp]],1))","v":"41061."},80000,80000,"CAD",{"$f":"tblSalaries[[#This Row],[clean Salary (in local currency)]]*VLOOKUP(tblSalaries[[#This Row],[Currency]],tblXrate[],2,FALSE)","v":78668.921842426149},"Business Operations Analyst","Analyst","Canada",{"$f":"VLOOKUP(tblSalaries[[#This Row],[Where do you work]],tblCountries[[Actual]:[Mapping]],2,FALSE)","v":"Canada"},{"$f":"VLOOKUP(tblSalaries[[#This Row],[clean Country]]&\"*\",Cont_Table,2,0)","v":"North America"},"4 to 6 hours a day",7]
[null,"ID1583","2012-06-01T06:53:52",{"$f":"LEFT(tblSalaries[[#This Row],[Timestamp]],FIND(\".\",tblSalaries[[#This Row],[Timestamp]],1))","v":"41061."},85000,85000,"USD",{"$f":"tblSalaries[[#This Row],[clean Salary (in local currency)]]*VLOOKUP(tblSalaries[[#This Row],[Currency]],tblXrate[],2,FALSE)","v":85000},"Sr Report Developer","Reporting","USA",{"$f":"VLOOKUP(tblSalaries[[#This Row],[Where do you work]],tblCountries[[Actual]:[Mapping]],2,FALSE)","v":"USA"},{"$f":"VLOOKUP(tblSalaries[[#This Row],[clean Country]]&\"*\",Cont_Table,2,0)","v":"North America"},"4 to 6 hours a day",10]
[null,"ID1584","2012-06-01T07:22:36",{"$f":"LEFT(tblSalaries[[#This Row],[Timestamp]],FIND(\".\",tblSalaries[[#This Row],[Timestamp]],1))","v":"41061."},100000,100000,"AUD",{"$f":"tblSalaries[[#This Row],[clean Salary (in local currency)]]*VLOOKUP(tblSalaries[[#This Row],[Currency]],tblXrate[],2,FALSE)","v":101990.96564026357},"Management Accountant","Manager","Australia",{"$f":"VLOOKUP(tblSalaries[[#This Row],[Where do you work]],tblCountries[[Actual]:[Mapping]],2,FALSE)","v":"Australia"},{"$f":"VLOOKUP(tblSalaries[[#This Row],[clean Country]]&\"*\",Cont_Table,2,0)","v":"Australia"},"4 to 6 hours a day",20]
[null,"ID1585","2012-06-01T08:06:34",{"$f":"LEFT(tblSalaries[[#This Row],[Timestamp]],FIND(\".\",tblSalaries[[#This Row],[Timestamp]],1))","v":"41061."},"5.65 lac per annum",5650000,"INR",{"$f":"tblSalaries[[#This Row],[clean Salary (in local currency)]]*VLOOKUP(tblSalaries[[#This Row],[Currency]],tblXrate[],2,FALSE)","v":100614.72928405051},"MIS","Reporting","India",{"$f":"VLOOKUP(tblSalaries[[#This Row],[Where do you work]],tblCountries[[Actual]:[Mapping]],2,FALSE)","v":"India"},{"$f":"VLOOKUP(tblSalaries[[#This Row],[clean Country]]&\"*\",Cont_Table,2,0)","v":"Asia"},"2 to 3 hours per day",6]
[null,"ID1586","2012-06-01T08:52:31",{"$f":"LEFT(tblSalaries[[#This Row],[Timestamp]],FIND(\".\",tblSalaries[[#This Row],[Timestamp]],1))","v":"41061."},85000,85000,"AUD",{"$f":"tblSalaries[[#This Row],[clean Salary (in local currency)]]*VLOOKUP(tblSalaries[[#This Row],[Currency]],tblXrate[],2,FALSE)","v":86692.320794224041},"Administrator","Analyst","Australia",{"$f":"VLOOKUP(tblSalaries[[#This Row],[Where do you work]],tblCountries[[Actual]:[Mapping]],2,FALSE)","v":"Australia"},{"$f":"VLOOKUP(tblSalaries[[#This Row],[clean Country]]&\"*\",Cont_Table,2,0)","v":"Australia"},"4 to 6 hours a day",30]
[null,"ID1587","2012-06-01T10:55:27",{"$f":"LEFT(tblSalaries[[#This Row],[Timestamp]],FIND(\".\",tblSalaries[[#This Row],[Timestamp]],1))","v":"41061."},"AU $120000",120000,"AUD",{"$f":"tblSalaries[[#This Row],[clean Salary (in local currency)]]*VLOOKUP(tblSalaries[[#This Row],[Currency]],tblXrate[],2,FALSE)","v":122389.15876831629},"Reporting Analyst","Analyst","Australia",{"$f":"VLOOKUP(tblSalaries[[#This Row],[Where do you work]],tblCountries[[Actual]:[Mapping]],2,FALSE)","v":"Australia"},{"$f":"VLOOKUP(tblSalaries[[#This Row],[clean Country]]&\"*\",Cont_Table,2,0)","v":"Australia"},"2 to 3 hours per day",5]
[null,"ID1588","2012-06-01T10:57:59",{"$f":"LEFT(tblSalaries[[#This Row],[Timestamp]],FIND(\".\",tblSalaries[[#This Row],[Timestamp]],1))","v":"41061."},"30000 Rs",360000,"INR",{"$f":"tblSalaries[[#This Row],[clean Salary (in local currency)]]*VLOOKUP(tblSalaries[[#This Row],[Currency]],tblXrate[],2,FALSE)","v":6410.8500074793246},"team leader ","Manager","India",{"$f":"VLOOKUP(tblSalaries[[#This Row],[Where do you work]],tblCountries[[Actual]:[Mapping]],2,FALSE)","v":"India"},{"$f":"VLOOKUP(tblSalaries[[#This Row],[clean Country]]&\"*\",Cont_Table,2,0)","v":"Asia"},"2 to 3 hours per day",8]
[null,"ID1589","2012-06-01T13:03:18",{"$f":"LEFT(tblSalaries[[#This Row],[Timestamp]],FIND(\".\",tblSalaries[[#This Row],[Timestamp]],1))","v":"41061."},44000,44000,"USD",{"$f":"tblSalaries[[#This Row],[clean Salary (in local currency)]]*VLOOKUP(tblSalaries[[#This Row],[Currency]],tblXrate[],2,FALSE)","v":44000},"Quality Assurance Analyst","Analyst","USA",{"$f":"VLOOKUP(tblSalaries[[#This Row],[Where do you work]],tblCountries[[Actual]:[Mapping]],2,FALSE)","v":"USA"},{"$f":"VLOOKUP(tblSalaries[[#This Row],[clean Country]]&\"*\",Cont_Table,2,0)","v":"North America"},"4 to 6 hours a day",3.5]
[null,"ID1590","2012-06-01T14:32:41",{"$f":"LEFT(tblSalaries[[#This Row],[Timestamp]],FIND(\".\",tblSalaries[[#This Row],[Timestamp]],1))","v":"41061."},250000,250000,"INR",{"$f":"tblSalaries[[#This Row],[clean Salary (in local currency)]]*VLOOKUP(tblSalaries[[#This Row],[Currency]],tblXrate[],2,FALSE)","v":4451.9791718606421},"Analytics engineer","Engineer","India",{"$f":"VLOOKUP(tblSalaries[[#This Row],[Where do you work]],tblCountries[[Actual]:[Mapping]],2,FALSE)","v":"India"},{"$f":"VLOOKUP(tblSalaries[[#This Row],[clean Country]]&\"*\",Cont_Table,2,0)","v":"Asia"},"4 to 6 hours a day",2.5]
[null,"ID1591","2012-06-01T14:50:41",{"$f":"LEFT(tblSalaries[[#This Row],[Timestamp]],FIND(\".\",tblSalaries[[#This Row],[Timestamp]],1))","v":"41061."},4500,4500,"USD",{"$f":"tblSalaries[[#This Row],[clean Salary (in local currency)]]*VLOOKUP(tblSalaries[[#This Row],[Currency]],tblXrate[],2,FALSE)","v":4500},"Assistant Manger Service Quality Assurance","Analyst","Pakistan",{"$f":"VLOOKUP(tblSalaries[[#This Row],[Where do you work]],tblCountries[[Actual]:[Mapping]],2,FALSE)","v":"Pakistan"},{"$f":"VLOOKUP(tblSalaries[[#This Row],[clean Country]]&\"*\",Cont_Table,2,0)","v":"Asia"},"4 to 6 hours a day",6]
[null,"ID1592","2012-06-01T15:09:27",{"$f":"LEFT(tblSalaries[[#This Row],[Timestamp]],FIND(\".\",tblSalaries[[#This Row],[Timestamp]],1))","v":"41061."},1700000,1700000,"INR",{"$f":"tblSalaries[[#This Row],[clean Salary (in local currency)]]*VLOOKUP(tblSalaries[[#This Row],[Currency]],tblXrate[],2,FALSE)","v":30273.458368652366},"AVP","CXO or Top Mgmt.","India",{"$f":"VLOOKUP(tblSalaries[[#This Row],[Where do you work]],tblCountries[[Actual]:[Mapping]],2,FALSE)","v":"India"},{"$f":"VLOOKUP(tblSalaries[[#This Row],[clean Country]]&\"*\",Cont_Table,2,0)","v":"Asia"},"4 to 6 hours a day",6]
[null,"ID1593","2012-06-01T15:39:20",{"$f":"LEFT(tblSalaries[[#This Row],[Timestamp]],FIND(\".\",tblSalaries[[#This Row],[Timestamp]],1))","v":"41061."},"U$52,000/annual",52000,"USD",{"$f":"tblSalaries[[#This Row],[clean Salary (in local currency)]]*VLOOKUP(tblSalaries[[#This Row],[Currency]],tblXrate[],2,FALSE)","v":52000},"Planner","Analyst","USA",{"$f":"VLOOKUP(tblSalaries[[#This Row],[Where do you work]],tblCountries[[Actual]:[Mapping]],2,FALSE)","v":"USA"},{"$f":"VLOOKUP(tblSalaries[[#This Row],[clean Country]]&\"*\",Cont_Table,2,0)","v":"North America"},"All the 8 hours baby, all the 8!",5]
[null,"ID1594","2012-06-01T18:08:07",{"$f":"LEFT(tblSalaries[[#This Row],[Timestamp]],FIND(\".\",tblSalaries[[#This Row],[Timestamp]],1))","v":"41061."},"75000 $",75000,"USD",{"$f":"tblSalaries[[#This Row],[clean Salary (in local currency)]]*VLOOKUP(tblSalaries[[#This Row],[Currency]],tblXrate[],2,FALSE)","v":75000},"Consultant","Consultant","Germany",{"$f":"VLOOKUP(tblSalaries[[#This Row],[Where do you work]],tblCountries[[Actual]:[Mapping]],2,FALSE)","v":"Germany"},{"$f":"VLOOKUP(tblSalaries[[#This Row],[clean Country]]&\"*\",Cont_Table,2,0)","v":"Europe"},"2 to 3 hours per day",9]
[null,"ID1595","2012-06-01T18:18:31",{"$f":"LEFT(tblSalaries[[#This Row],[Timestamp]],FIND(\".\",tblSalaries[[#This Row],[Timestamp]],1))","v":"41061."},"Rs 1000000",1000000,"INR",{"$f":"tblSalaries[[#This Row],[clean Salary (in local currency)]]*VLOOKUP(tblSalaries[[#This Row],[Currency]],tblXrate[],2,FALSE)","v":17807.916687442568},"Senior Analyst","Analyst","India",{"$f":"VLOOKUP(tblSalaries[[#This Row],[Where do you work]],tblCountries[[Actual]:[Mapping]],2,FALSE)","v":"India"},{"$f":"VLOOKUP(tblSalaries[[#This Row],[clean Country]]&\"*\",Cont_Table,2,0)","v":"Asia"},"All the 8 hours baby, all the 8!",4]
[null,"ID1596","2012-06-01T18:58:42",{"$f":"LEFT(tblSalaries[[#This Row],[Timestamp]],FIND(\".\",tblSalaries[[#This Row],[Timestamp]],1))","v":"41061."},177600,177600,"USD",{"$f":"tblSalaries[[#This Row],[clean Salary (in local currency)]]*VLOOKUP(tblSalaries[[#This Row],[Currency]],tblXrate[],2,FALSE)","v":177600},"Accountant","Accountant","Lesotho",{"$f":"VLOOKUP(tblSalaries[[#This Row],[Where do you work]],tblCountries[[Actual]:[Mapping]],2,FALSE)","v":"Lesotho"},{"$f":"VLOOKUP(tblSalaries[[#This Row],[clean Country]]&\"*\",Cont_Table,2,0)","v":"Africa"},"4 to 6 hours a day",6]
[null,"ID1597","2012-06-01T19:42:46",{"$f":"LEFT(tblSalaries[[#This Row],[Timestamp]],FIND(\".\",tblSalaries[[#This Row],[Timestamp]],1))","v":"41061."},650000,650000,"INR",{"$f":"tblSalaries[[#This Row],[clean Salary (in local currency)]]*VLOOKUP(tblSalaries[[#This Row],[Currency]],tblXrate[],2,FALSE)","v":11575.14584683767},"Associate","Analyst","India",{"$f":"VLOOKUP(tblSalaries[[#This Row],[Where do you work]],tblCountries[[Actual]:[Mapping]],2,FALSE)","v":"India"},{"$f":"VLOOKUP(tblSalaries[[#This Row],[clean Country]]&\"*\",Cont_Table,2,0)","v":"Asia"},"4 to 6 hours a day",5]
[null,"ID1598","2012-06-01T19:46:33",{"$f":"LEFT(tblSalaries[[#This Row],[Timestamp]],FIND(\".\",tblSalaries[[#This Row],[Timestamp]],1))","v":"41061."},"21000EUR",21000,"EUR",{"$f":"tblSalaries[[#This Row],[clean Salary (in local currency)]]*VLOOKUP(tblSalaries[[#This Row],[Currency]],tblXrate[],2,FALSE)","v":26678.388218823762},"Coordenador PeÃ§as Grupo","Manager","Portugal",{"$f":"VLOOKUP(tblSalaries[[#This Row],[Where do you work]],tblCountries[[Actual]:[Mapping]],2,FALSE)","v":"Portugal"},{"$f":"VLOOKUP(tblSalaries[[#This Row],[clean Country]]&\"*\",Cont_Table,2,0)","v":"Europe"},"4 to 6 hours a day",10]
[null,"ID1600","2012-06-01T19:57:45",{"$f":"LEFT(tblSalaries[[#This Row],[Timestamp]],FIND(\".\",tblSalaries[[#This Row],[Timestamp]],1))","v":"41061."},"Â£80000",80000,"GBP",{"$f":"tblSalaries[[#This Row],[clean Salary (in local currency)]]*VLOOKUP(tblSalaries[[#This Row],[Currency]],tblXrate[],2,FALSE)","v":126094.26176538273},"Owner of Business Improvement Consultancy","Consultant","UK",{"$f":"VLOOKUP(tblSalaries[[#This Row],[Where do you work]],tblCountries[[Actual]:[Mapping]],2,FALSE)","v":"UK"},{"$f":"VLOOKUP(tblSalaries[[#This Row],[clean Country]]&\"*\",Cont_Table,2,0)","v":"Europe"},"4 to 6 hours a day",12]
[null,"ID1601","2012-06-01T20:12:22",{"$f":"LEFT(tblSalaries[[#This Row],[Timestamp]],FIND(\".\",tblSalaries[[#This Row],[Timestamp]],1))","v":"41061."},"500 USD",6000,"USD",{"$f":"tblSalaries[[#This Row],[clean Salary (in local currency)]]*VLOOKUP(tblSalaries[[#This Row],[Currency]],tblXrate[],2,FALSE)","v":6000},"Business Analyst","Analyst","India",{"$f":"VLOOKUP(tblSalaries[[#This Row],[Where do you work]],tblCountries[[Actual]:[Mapping]],2,FALSE)","v":"India"},{"$f":"VLOOKUP(tblSalaries[[#This Row],[clean Country]]&\"*\",Cont_Table,2,0)","v":"Asia"},"4 to 6 hours a day",2]
[null,"ID1602","2012-06-01T20:27:23",{"$f":"LEFT(tblSalaries[[#This Row],[Timestamp]],FIND(\".\",tblSalaries[[#This Row],[Timestamp]],1))","v":"41061."},10000,10000,"USD",{"$f":"tblSalaries[[#This Row],[clean Salary (in local currency)]]*VLOOKUP(tblSalaries[[#This Row],[Currency]],tblXrate[],2,FALSE)","v":10000},"MIS","Reporting","India",{"$f":"VLOOKUP(tblSalaries[[#This Row],[Where do you work]],tblCountries[[Actual]:[Mapping]],2,FALSE)","v":"India"},{"$f":"VLOOKUP(tblSalaries[[#This Row],[clean Country]]&\"*\",Cont_Table,2,0)","v":"Asia"},"All the 8 hours baby, all the 8!",6]
[null,"ID1603","2012-06-01T20:37:53",{"$f":"LEFT(tblSalaries[[#This Row],[Timestamp]],FIND(\".\",tblSalaries[[#This Row],[Timestamp]],1))","v":"41061."},50000,50000,"USD",{"$f":"tblSalaries[[#This Row],[clean Salary (in local currency)]]*VLOOKUP(tblSalaries[[#This Row],[Currency]],tblXrate[],2,FALSE)","v":50000},"Sales Operations Analyst","Analyst","USA",{"$f":"VLOOKUP(tblSalaries[[#This Row],[Where do you work]],tblCountries[[Actual]:[Mapping]],2,FALSE)","v":"USA"},{"$f":"VLOOKUP(tblSalaries[[#This Row],[clean Country]]&\"*\",Cont_Table,2,0)","v":"North America"},"All the 8 hours baby, all the 8!",2]
[null,"ID1604","2012-06-01T20:38:57",{"$f":"LEFT(tblSalaries[[#This Row],[Timestamp]],FIND(\".\",tblSalaries[[#This Row],[Timestamp]],1))","v":"41061."},10000,10000,"USD",{"$f":"tblSalaries[[#This Row],[clean Salary (in local currency)]]*VLOOKUP(tblSalaries[[#This Row],[Currency]],tblXrate[],2,FALSE)","v":10000},"dgm","Manager","India",{"$f":"VLOOKUP(tblSalaries[[#This Row],[Where do you work]],tblCountries[[Actual]:[Mapping]],2,FALSE)","v":"India"},{"$f":"VLOOKUP(tblSalaries[[#This Row],[clean Country]]&\"*\",Cont_Table,2,0)","v":"Asia"},"All the 8 hours baby, all the 8!",12]
[null,"ID1605","2012-06-01T20:53:08",{"$f":"LEFT(tblSalaries[[#This Row],[Timestamp]],FIND(\".\",tblSalaries[[#This Row],[Timestamp]],1))","v":"41061."},50000,50000,"USD",{"$f":"tblSalaries[[#This Row],[clean Salary (in local currency)]]*VLOOKUP(tblSalaries[[#This Row],[Currency]],tblXrate[],2,FALSE)","v":50000},"Catalog Circulation Analyst","Analyst","USA",{"$f":"VLOOKUP(tblSalaries[[#This Row],[Where do you work]],tblCountries[[Actual]:[Mapping]],2,FALSE)","v":"USA"},{"$f":"VLOOKUP(tblSalaries[[#This Row],[clean Country]]&\"*\",Cont_Table,2,0)","v":"North America"},"All the 8 hours baby, all the 8!",12]
[null,"ID1606","2012-06-01T22:20:26",{"$f":"LEFT(tblSalaries[[#This Row],[Timestamp]],FIND(\".\",tblSalaries[[#This Row],[Timestamp]],1))","v":"41061."},"20000 $",20000,"USD",{"$f":"tblSalaries[[#This Row],[clean Salary (in local currency)]]*VLOOKUP(tblSalaries[[#This Row],[Currency]],tblXrate[],2,FALSE)","v":20000},"Manager","Manager","India",{"$f":"VLOOKUP(tblSalaries[[#This Row],[Where do you work]],tblCountries[[Actual]:[Mapping]],2,FALSE)","v":"India"},{"$f":"VLOOKUP(tblSalaries[[#This Row],[clean Country]]&\"*\",Cont_Table,2,0)","v":"Asia"},"4 to 6 hours a day",1]
[null,"ID1607","2012-06-01T23:29:43",{"$f":"LEFT(tblSalaries[[#This Row],[Timestamp]],FIND(\".\",tblSalaries[[#This Row],[Timestamp]],1))","v":"41061."},"Â£20000",20000,"GBP",{"$f":"tblSalaries[[#This Row],[clean Salary (in local currency)]]*VLOOKUP(tblSalaries[[#This Row],[Currency]],tblXrate[],2,FALSE)","v":31523.565441345683},"Operations Analyst","Analyst","UK",{"$f":"VLOOKUP(tblSalaries[[#This Row],[Where do you work]],tblCountries[[Actual]:[Mapping]],2,FALSE)","v":"UK"},{"$f":"VLOOKUP(tblSalaries[[#This Row],[clean Country]]&\"*\",Cont_Table,2,0)","v":"Europe"},"All the 8 hours baby, all the 8!",3]
[null,"ID1608","2012-06-02T01:29:04",{"$f":"LEFT(tblSalaries[[#This Row],[Timestamp]],FIND(\".\",tblSalaries[[#This Row],[Timestamp]],1))","v":"41062."},"â‚¬ 50k",50000,"EUR",{"$f":"tblSalaries[[#This Row],[clean Salary (in local currency)]]*VLOOKUP(tblSalaries[[#This Row],[Currency]],tblXrate[],2,FALSE)","v":63519.971949580387},"Controller","Controller","Netherlands",{"$f":"VLOOKUP(tblSalaries[[#This Row],[Where do you work]],tblCountries[[Actual]:[Mapping]],2,FALSE)","v":"Netherlands"},{"$f":"VLOOKUP(tblSalaries[[#This Row],[clean Country]]&\"*\",Cont_Table,2,0)","v":"Europe"},"4 to 6 hours a day",10]
[null,"ID1609","2012-06-02T01:43:24",{"$f":"LEFT(tblSalaries[[#This Row],[Timestamp]],FIND(\".\",tblSalaries[[#This Row],[Timestamp]],1))","v":"41062."},2300,27600,"EUR",{"$f":"tblSalaries[[#This Row],[clean Salary (in local currency)]]*VLOOKUP(tblSalaries[[#This Row],[Currency]],tblXrate[],2,FALSE)","v":35063.024516168378},"controller","Controller","Hungary",{"$f":"VLOOKUP(tblSalaries[[#This Row],[Where do you work]],tblCountries[[Actual]:[Mapping]],2,FALSE)","v":"Hungary"},{"$f":"VLOOKUP(tblSalaries[[#This Row],[clean Country]]&\"*\",Cont_Table,2,0)","v":"Europe"},"All the 8 hours baby, all the 8!",15]
[null,"ID1610","2012-06-02T02:24:39",{"$f":"LEFT(tblSalaries[[#This Row],[Timestamp]],FIND(\".\",tblSalaries[[#This Row],[Timestamp]],1))","v":"41062."},55000,55000,"USD",{"$f":"tblSalaries[[#This Row],[clean Salary (in local currency)]]*VLOOKUP(tblSalaries[[#This Row],[Currency]],tblXrate[],2,FALSE)","v":55000},"Business Analyst","Analyst","USA",{"$f":"VLOOKUP(tblSalaries[[#This Row],[Where do you work]],tblCountries[[Actual]:[Mapping]],2,FALSE)","v":"USA"},{"$f":"VLOOKUP(tblSalaries[[#This Row],[clean Country]]&\"*\",Cont_Table,2,0)","v":"North America"},"4 to 6 hours a day",2]
[null,"ID1611","2012-06-02T02:28:30",{"$f":"LEFT(tblSalaries[[#This Row],[Timestamp]],FIND(\".\",tblSalaries[[#This Row],[Timestamp]],1))","v":"41062."},38000,38000,"USD",{"$f":"tblSalaries[[#This Row],[clean Salary (in local currency)]]*VLOOKUP(tblSalaries[[#This Row],[Currency]],tblXrate[],2,FALSE)","v":38000},"Business Analyst","Analyst","USA",{"$f":"VLOOKUP(tblSalaries[[#This Row],[Where do you work]],tblCountries[[Actual]:[Mapping]],2,FALSE)","v":"USA"},{"$f":"VLOOKUP(tblSalaries[[#This Row],[clean Country]]&\"*\",Cont_Table,2,0)","v":"North America"},"All the 8 hours baby, all the 8!",1]
[null,"ID1612","2012-06-02T03:08:50",{"$f":"LEFT(tblSalaries[[#This Row],[Timestamp]],FIND(\".\",tblSalaries[[#This Row],[Timestamp]],1))","v":"41062."},1800000,1800000,"INR",{"$f":"tblSalaries[[#This Row],[clean Salary (in local currency)]]*VLOOKUP(tblSalaries[[#This Row],[Currency]],tblXrate[],2,FALSE)","v":32054.250037396621},"analyst","Analyst","India",{"$f":"VLOOKUP(tblSalaries[[#This Row],[Where do you work]],tblCountries[[Actual]:[Mapping]],2,FALSE)","v":"India"},{"$f":"VLOOKUP(tblSalaries[[#This Row],[clean Country]]&\"*\",Cont_Table,2,0)","v":"Asia"},"All the 8 hours baby, all the 8!",1]
[null,"ID1613","2012-06-02T03:13:57",{"$f":"LEFT(tblSalaries[[#This Row],[Timestamp]],FIND(\".\",tblSalaries[[#This Row],[Timestamp]],1))","v":"41062."},35500,35500,"USD",{"$f":"tblSalaries[[#This Row],[clean Salary (in local currency)]]*VLOOKUP(tblSalaries[[#This Row],[Currency]],tblXrate[],2,FALSE)","v":35500},"SAS Adminstrator","Analyst","USA",{"$f":"VLOOKUP(tblSalaries[[#This Row],[Where do you work]],tblCountries[[Actual]:[Mapping]],2,FALSE)","v":"USA"},{"$f":"VLOOKUP(tblSalaries[[#This Row],[clean Country]]&\"*\",Cont_Table,2,0)","v":"North America"},"4 to 6 hours a day",20]
[null,"ID1614","2012-06-02T03:23:09",{"$f":"LEFT(tblSalaries[[#This Row],[Timestamp]],FIND(\".\",tblSalaries[[#This Row],[Timestamp]],1))","v":"41062."},62000,62000,"USD",{"$f":"tblSalaries[[#This Row],[clean Salary (in local currency)]]*VLOOKUP(tblSalaries[[#This Row],[Currency]],tblXrate[],2,FALSE)","v":62000},"Financial Analyst","Analyst","USA",{"$f":"VLOOKUP(tblSalaries[[#This Row],[Where do you work]],tblCountries[[Actual]:[Mapping]],2,FALSE)","v":"USA"},{"$f":"VLOOKUP(tblSalaries[[#This Row],[clean Country]]&\"*\",Cont_Table,2,0)","v":"North America"},"2 to 3 hours per day",5]
[null,"ID1615","2012-06-02T03:29:19",{"$f":"LEFT(tblSalaries[[#This Row],[Timestamp]],FIND(\".\",tblSalaries[[#This Row],[Timestamp]],1))","v":"41062."},"Â£21500Uk",21500,"GBP",{"$f":"tblSalaries[[#This Row],[clean Salary (in local currency)]]*VLOOKUP(tblSalaries[[#This Row],[Currency]],tblXrate[],2,FALSE)","v":33887.832849446611},"Data Analyst","Analyst","UK",{"$f":"VLOOKUP(tblSalaries[[#This Row],[Where do you work]],tblCountries[[Actual]:[Mapping]],2,FALSE)","v":"UK"},{"$f":"VLOOKUP(tblSalaries[[#This Row],[clean Country]]&\"*\",Cont_Table,2,0)","v":"Europe"},"All the 8 hours baby, all the 8!",1]
[null,"ID1616","2012-06-02T04:49:42",{"$f":"LEFT(tblSalaries[[#This Row],[Timestamp]],FIND(\".\",tblSalaries[[#This Row],[Timestamp]],1))","v":"41062."},60000,60000,"USD",{"$f":"tblSalaries[[#This Row],[clean Salary (in local currency)]]*VLOOKUP(tblSalaries[[#This Row],[Currency]],tblXrate[],2,FALSE)","v":60000},"Data Analyst","Analyst","USA",{"$f":"VLOOKUP(tblSalaries[[#This Row],[Where do you work]],tblCountries[[Actual]:[Mapping]],2,FALSE)","v":"USA"},{"$f":"VLOOKUP(tblSalaries[[#This Row],[clean Country]]&\"*\",Cont_Table,2,0)","v":"North America"},"2 to 3 hours per day",1]
[null,"ID1617","2012-06-02T06:21:45",{"$f":"LEFT(tblSalaries[[#This Row],[Timestamp]],FIND(\".\",tblSalaries[[#This Row],[Timestamp]],1))","v":"41062."},32884.800000000003,32884,"USD",{"$f":"tblSalaries[[#This Row],[clean Salary (in local currency)]]*VLOOKUP(tblSalaries[[#This Row],[Currency]],tblXrate[],2,FALSE)","v":32884},"Administrative Assistant","Analyst","USA",{"$f":"VLOOKUP(tblSalaries[[#This Row],[Where do you work]],tblCountries[[Actual]:[Mapping]],2,FALSE)","v":"USA"},{"$f":"VLOOKUP(tblSalaries[[#This Row],[clean Country]]&\"*\",Cont_Table,2,0)","v":"North America"},"All the 8 hours baby, all the 8!",10]
[null,"ID1618","2012-06-02T06:31:21",{"$f":"LEFT(tblSalaries[[#This Row],[Timestamp]],FIND(\".\",tblSalaries[[#This Row],[Timestamp]],1))","v":"41062."},"42000 US",42000,"USD",{"$f":"tblSalaries[[#This Row],[clean Salary (in local currency)]]*VLOOKUP(tblSalaries[[#This Row],[Currency]],tblXrate[],2,FALSE)","v":42000},"production clerk","Analyst","USA",{"$f":"VLOOKUP(tblSalaries[[#This Row],[Where do you work]],tblCountries[[Actual]:[Mapping]],2,FALSE)","v":"USA"},{"$f":"VLOOKUP(tblSalaries[[#This Row],[clean Country]]&\"*\",Cont_Table,2,0)","v":"North America"},"4 to 6 hours a day",2]
[null,"ID1619","2012-06-02T06:43:25",{"$f":"LEFT(tblSalaries[[#This Row],[Timestamp]],FIND(\".\",tblSalaries[[#This Row],[Timestamp]],1))","v":"41062."},68000,68000,"USD",{"$f":"tblSalaries[[#This Row],[clean Salary (in local currency)]]*VLOOKUP(tblSalaries[[#This Row],[Currency]],tblXrate[],2,FALSE)","v":68000},"Supply Chain Analyst","Analyst","USA",{"$f":"VLOOKUP(tblSalaries[[#This Row],[Where do you work]],tblCountries[[Actual]:[Mapping]],2,FALSE)","v":"USA"},{"$f":"VLOOKUP(tblSalaries[[#This Row],[clean Country]]&\"*\",Cont_Table,2,0)","v":"North America"},"4 to 6 hours a day",12]
[null,"ID1620","2012-06-02T07:42:02",{"$f":"LEFT(tblSalaries[[#This Row],[Timestamp]],FIND(\".\",tblSalaries[[#This Row],[Timestamp]],1))","v":"41062."},85000,85000,"USD",{"$f":"tblSalaries[[#This Row],[clean Salary (in local currency)]]*VLOOKUP(tblSalaries[[#This Row],[Currency]],tblXrate[],2,FALSE)","v":85000},"Senior Accountant","Accountant","USA",{"$f":"VLOOKUP(tblSalaries[[#This Row],[Where do you work]],tblCountries[[Actual]:[Mapping]],2,FALSE)","v":"USA"},{"$f":"VLOOKUP(tblSalaries[[#This Row],[clean Country]]&\"*\",Cont_Table,2,0)","v":"North America"},"2 to 3 hours per day",8]
[null,"ID1621","2012-06-02T11:11:18",{"$f":"LEFT(tblSalaries[[#This Row],[Timestamp]],FIND(\".\",tblSalaries[[#This Row],[Timestamp]],1))","v":"41062."},"U$13,000",13000,"USD",{"$f":"tblSalaries[[#This Row],[clean Salary (in local currency)]]*VLOOKUP(tblSalaries[[#This Row],[Currency]],tblXrate[],2,FALSE)","v":13000},"Dss Analyst","Analyst","Brazil",{"$f":"VLOOKUP(tblSalaries[[#This Row],[Where do you work]],tblCountries[[Actual]:[Mapping]],2,FALSE)","v":"Brazil"},{"$f":"VLOOKUP(tblSalaries[[#This Row],[clean Country]]&\"*\",Cont_Table,2,0)","v":"South America"},"All the 8 hours baby, all the 8!",4]
[null,"ID1623","2012-06-02T13:58:46",{"$f":"LEFT(tblSalaries[[#This Row],[Timestamp]],FIND(\".\",tblSalaries[[#This Row],[Timestamp]],1))","v":"41062."},15000,15000,"USD",{"$f":"tblSalaries[[#This Row],[clean Salary (in local currency)]]*VLOOKUP(tblSalaries[[#This Row],[Currency]],tblXrate[],2,FALSE)","v":15000},"Business Analysis & MIS ","Analyst","India",{"$f":"VLOOKUP(tblSalaries[[#This Row],[Where do you work]],tblCountries[[Actual]:[Mapping]],2,FALSE)","v":"India"},{"$f":"VLOOKUP(tblSalaries[[#This Row],[clean Country]]&\"*\",Cont_Table,2,0)","v":"Asia"},"4 to 6 hours a day",5]
[null,"ID1624","2012-06-02T17:34:20",{"$f":"LEFT(tblSalaries[[#This Row],[Timestamp]],FIND(\".\",tblSalaries[[#This Row],[Timestamp]],1))","v":"41062."},"50000USD",50000,"USD",{"$f":"tblSalaries[[#This Row],[clean Salary (in local currency)]]*VLOOKUP(tblSalaries[[#This Row],[Currency]],tblXrate[],2,FALSE)","v":50000},"Associate Vice President","CXO or Top Mgmt.","India",{"$f":"VLOOKUP(tblSalaries[[#This Row],[Where do you work]],tblCountries[[Actual]:[Mapping]],2,FALSE)","v":"India"},{"$f":"VLOOKUP(tblSalaries[[#This Row],[clean Country]]&\"*\",Cont_Table,2,0)","v":"Asia"},"1 or 2 hours a day",8]
[null,"ID1625","2012-06-02T18:47:32",{"$f":"LEFT(tblSalaries[[#This Row],[Timestamp]],FIND(\".\",tblSalaries[[#This Row],[Timestamp]],1))","v":"41062."},7000,7000,"USD",{"$f":"tblSalaries[[#This Row],[clean Salary (in local currency)]]*VLOOKUP(tblSalaries[[#This Row],[Currency]],tblXrate[],2,FALSE)","v":7000},"M.I.S","Reporting","India",{"$f":"VLOOKUP(tblSalaries[[#This Row],[Where do you work]],tblCountries[[Actual]:[Mapping]],2,FALSE)","v":"India"},{"$f":"VLOOKUP(tblSalaries[[#This Row],[clean Country]]&\"*\",Cont_Table,2,0)","v":"Asia"},"4 to 6 hours a day",1]
[null,"ID1626","2012-06-02T19:14:35",{"$f":"LEFT(tblSalaries[[#This Row],[Timestamp]],FIND(\".\",tblSalaries[[#This Row],[Timestamp]],1))","v":"41062."},140000,140000,"USD",{"$f":"tblSalaries[[#This Row],[clean Salary (in local currency)]]*VLOOKUP(tblSalaries[[#This Row],[Currency]],tblXrate[],2,FALSE)","v":140000},"sr manager","Manager","USA",{"$f":"VLOOKUP(tblSalaries[[#This Row],[Where do you work]],tblCountries[[Actual]:[Mapping]],2,FALSE)","v":"USA"},{"$f":"VLOOKUP(tblSalaries[[#This Row],[clean Country]]&\"*\",Cont_Table,2,0)","v":"North America"},"4 to 6 hours a day",12]
[null,"ID1627","2012-06-02T20:50:40",{"$f":"LEFT(tblSalaries[[#This Row],[Timestamp]],FIND(\".\",tblSalaries[[#This Row],[Timestamp]],1))","v":"41062."},400000,400000,"INR",{"$f":"tblSalaries[[#This Row],[clean Salary (in local currency)]]*VLOOKUP(tblSalaries[[#This Row],[Currency]],tblXrate[],2,FALSE)","v":7123.1666749770275},"application dev","Analyst","India",{"$f":"VLOOKUP(tblSalaries[[#This Row],[Where do you work]],tblCountries[[Actual]:[Mapping]],2,FALSE)","v":"India"},{"$f":"VLOOKUP(tblSalaries[[#This Row],[clean Country]]&\"*\",Cont_Table,2,0)","v":"Asia"},"1 or 2 hours a day",2.5]
[null,"ID1628","2012-06-02T20:52:59",{"$f":"LEFT(tblSalaries[[#This Row],[Timestamp]],FIND(\".\",tblSalaries[[#This Row],[Timestamp]],1))","v":"41062."},"37000GBP",37000,"GBP",{"$f":"tblSalaries[[#This Row],[clean Salary (in local currency)]]*VLOOKUP(tblSalaries[[#This Row],[Currency]],tblXrate[],2,FALSE)","v":58318.59606648951},"Technical Web Analyst","Analyst","UK",{"$f":"VLOOKUP(tblSalaries[[#This Row],[Where do you work]],tblCountries[[Actual]:[Mapping]],2,FALSE)","v":"UK"},{"$f":"VLOOKUP(tblSalaries[[#This Row],[clean Country]]&\"*\",Cont_Table,2,0)","v":"Europe"},"4 to 6 hours a day",9]
[null,"ID1629","2012-06-02T21:42:42",{"$f":"LEFT(tblSalaries[[#This Row],[Timestamp]],FIND(\".\",tblSalaries[[#This Row],[Timestamp]],1))","v":"41062."},"6.8 Lac INR",680000,"INR",{"$f":"tblSalaries[[#This Row],[clean Salary (in local currency)]]*VLOOKUP(tblSalaries[[#This Row],[Currency]],tblXrate[],2,FALSE)","v":12109.383347460946},"Deputy Manager","Manager","India",{"$f":"VLOOKUP(tblSalaries[[#This Row],[Where do you work]],tblCountries[[Actual]:[Mapping]],2,FALSE)","v":"India"},{"$f":"VLOOKUP(tblSalaries[[#This Row],[clean Country]]&\"*\",Cont_Table,2,0)","v":"Asia"},"1 or 2 hours a day",2]
[null,"ID1630","2012-06-02T22:33:32",{"$f":"LEFT(tblSalaries[[#This Row],[Timestamp]],FIND(\".\",tblSalaries[[#This Row],[Timestamp]],1))","v":"41062."},55000,55000,"USD",{"$f":"tblSalaries[[#This Row],[clean Salary (in local currency)]]*VLOOKUP(tblSalaries[[#This Row],[Currency]],tblXrate[],2,FALSE)","v":55000},"Supply Chain Analyst","Analyst","USA",{"$f":"VLOOKUP(tblSalaries[[#This Row],[Where do you work]],tblCountries[[Actual]:[Mapping]],2,FALSE)","v":"USA"},{"$f":"VLOOKUP(tblSalaries[[#This Row],[clean Country]]&\"*\",Cont_Table,2,0)","v":"North America"},"4 to 6 hours a day",1]
[null,"ID1631","2012-06-02T22:38:56",{"$f":"LEFT(tblSalaries[[#This Row],[Timestamp]],FIND(\".\",tblSalaries[[#This Row],[Timestamp]],1))","v":"41062."},60000,60000,"USD",{"$f":"tblSalaries[[#This Row],[clean Salary (in local currency)]]*VLOOKUP(tblSalaries[[#This Row],[Currency]],tblXrate[],2,FALSE)","v":60000},"Head of Business","Manager","Indonesia",{"$f":"VLOOKUP(tblSalaries[[#This Row],[Where do you work]],tblCountries[[Actual]:[Mapping]],2,FALSE)","v":"Indonesia"},{"$f":"VLOOKUP(tblSalaries[[#This Row],[clean Country]]&\"*\",Cont_Table,2,0)","v":"Asia"},"2 to 3 hours per day",16]
[null,"ID1632","2012-06-03T01:33:57",{"$f":"LEFT(tblSalaries[[#This Row],[Timestamp]],FIND(\".\",tblSalaries[[#This Row],[Timestamp]],1))","v":"41063."},320000,320000,"INR",{"$f":"tblSalaries[[#This Row],[clean Salary (in local currency)]]*VLOOKUP(tblSalaries[[#This Row],[Currency]],tblXrate[],2,FALSE)","v":5698.5333399816218},"senior executive","Manager","India",{"$f":"VLOOKUP(tblSalaries[[#This Row],[Where do you work]],tblCountries[[Actual]:[Mapping]],2,FALSE)","v":"India"},{"$f":"VLOOKUP(tblSalaries[[#This Row],[clean Country]]&\"*\",Cont_Table,2,0)","v":"Asia"},"4 to 6 hours a day",5]
[null,"ID1633","2012-06-03T01:36:43",{"$f":"LEFT(tblSalaries[[#This Row],[Timestamp]],FIND(\".\",tblSalaries[[#This Row],[Timestamp]],1))","v":"41063."},"24 K mauritian Rupees",288000,"MUR",{"$f":"tblSalaries[[#This Row],[clean Salary (in local currency)]]*VLOOKUP(tblSalaries[[#This Row],[Currency]],tblXrate[],2,FALSE)","v":9376.2513877177607},"IT Support Engineer","Engineer","Mauritius",{"$f":"VLOOKUP(tblSalaries[[#This Row],[Where do you work]],tblCountries[[Actual]:[Mapping]],2,FALSE)","v":"Mauritius"},{"$f":"VLOOKUP(tblSalaries[[#This Row],[clean Country]]&\"*\",Cont_Table,2,0)","v":"Africa"},"4 to 6 hours a day",7]
[null,"ID1634","2012-06-03T02:06:44",{"$f":"LEFT(tblSalaries[[#This Row],[Timestamp]],FIND(\".\",tblSalaries[[#This Row],[Timestamp]],1))","v":"41063."},"Â£60000",60000,"GBP",{"$f":"tblSalaries[[#This Row],[clean Salary (in local currency)]]*VLOOKUP(tblSalaries[[#This Row],[Currency]],tblXrate[],2,FALSE)","v":94570.696324037053},"Data Analyst","Analyst","UK",{"$f":"VLOOKUP(tblSalaries[[#This Row],[Where do you work]],tblCountries[[Actual]:[Mapping]],2,FALSE)","v":"UK"},{"$f":"VLOOKUP(tblSalaries[[#This Row],[clean Country]]&\"*\",Cont_Table,2,0)","v":"Europe"},"4 to 6 hours a day",5]
[null,"ID1635","2012-06-03T02:54:32",{"$f":"LEFT(tblSalaries[[#This Row],[Timestamp]],FIND(\".\",tblSalaries[[#This Row],[Timestamp]],1))","v":"41063."},36000,36000,"USD",{"$f":"tblSalaries[[#This Row],[clean Salary (in local currency)]]*VLOOKUP(tblSalaries[[#This Row],[Currency]],tblXrate[],2,FALSE)","v":36000},"Environmental Adviser","Consultant","Azerbaijan",{"$f":"VLOOKUP(tblSalaries[[#This Row],[Where do you work]],tblCountries[[Actual]:[Mapping]],2,FALSE)","v":"Azerbaijan"},{"$f":"VLOOKUP(tblSalaries[[#This Row],[clean Country]]&\"*\",Cont_Table,2,0)","v":"Asia"},"4 to 6 hours a day",5]
[null,"ID1636","2012-06-03T04:14:45",{"$f":"LEFT(tblSalaries[[#This Row],[Timestamp]],FIND(\".\",tblSalaries[[#This Row],[Timestamp]],1))","v":"41063."},"Rs. 3.70 lacs",3700000,"INR",{"$f":"tblSalaries[[#This Row],[clean Salary (in local currency)]]*VLOOKUP(tblSalaries[[#This Row],[Currency]],tblXrate[],2,FALSE)","v":65889.291743537498},"Senior Officer","Manager","India",{"$f":"VLOOKUP(tblSalaries[[#This Row],[Where do you work]],tblCountries[[Actual]:[Mapping]],2,FALSE)","v":"India"},{"$f":"VLOOKUP(tblSalaries[[#This Row],[clean Country]]&\"*\",Cont_Table,2,0)","v":"Asia"},"All the 8 hours baby, all the 8!",4]
[null,"ID1637","2012-06-03T04:42:54",{"$f":"LEFT(tblSalaries[[#This Row],[Timestamp]],FIND(\".\",tblSalaries[[#This Row],[Timestamp]],1))","v":"41063."},106000,106000,"USD",{"$f":"tblSalaries[[#This Row],[clean Salary (in local currency)]]*VLOOKUP(tblSalaries[[#This Row],[Currency]],tblXrate[],2,FALSE)","v":106000},"IT Developer","Analyst","Denmark",{"$f":"VLOOKUP(tblSalaries[[#This Row],[Where do you work]],tblCountries[[Actual]:[Mapping]],2,FALSE)","v":"Denmark"},{"$f":"VLOOKUP(tblSalaries[[#This Row],[clean Country]]&\"*\",Cont_Table,2,0)","v":"Europe"},"1 or 2 hours a day",7]
[null,"ID1638","2012-06-03T07:16:47",{"$f":"LEFT(tblSalaries[[#This Row],[Timestamp]],FIND(\".\",tblSalaries[[#This Row],[Timestamp]],1))","v":"41063."},"485000 DKK",485000,"DKK",{"$f":"tblSalaries[[#This Row],[clean Salary (in local currency)]]*VLOOKUP(tblSalaries[[#This Row],[Currency]],tblXrate[],2,FALSE)","v":82888.5550559455},"Controller","Controller","Denmark",{"$f":"VLOOKUP(tblSalaries[[#This Row],[Where do you work]],tblCountries[[Actual]:[Mapping]],2,FALSE)","v":"Denmark"},{"$f":"VLOOKUP(tblSalaries[[#This Row],[clean Country]]&\"*\",Cont_Table,2,0)","v":"Europe"},"4 to 6 hours a day",18]
[null,"ID1639","2012-06-03T09:42:40",{"$f":"LEFT(tblSalaries[[#This Row],[Timestamp]],FIND(\".\",tblSalaries[[#This Row],[Timestamp]],1))","v":"41063."},75000,75000,"NZD",{"$f":"tblSalaries[[#This Row],[clean Salary (in local currency)]]*VLOOKUP(tblSalaries[[#This Row],[Currency]],tblXrate[],2,FALSE)","v":59819.107020370408},"business support analyst","Analyst","New zealand",{"$f":"VLOOKUP(tblSalaries[[#This Row],[Where do you work]],tblCountries[[Actual]:[Mapping]],2,FALSE)","v":"New Zealand"},{"$f":"VLOOKUP(tblSalaries[[#This Row],[clean Country]]&\"*\",Cont_Table,2,0)","v":"Australia"},"2 to 3 hours per day",10]
[null,"ID1640","2012-06-03T10:10:43",{"$f":"LEFT(tblSalaries[[#This Row],[Timestamp]],FIND(\".\",tblSalaries[[#This Row],[Timestamp]],1))","v":"41063."},6545,6545,"USD",{"$f":"tblSalaries[[#This Row],[clean Salary (in local currency)]]*VLOOKUP(tblSalaries[[#This Row],[Currency]],tblXrate[],2,FALSE)","v":6545},"Operations","Manager","India",{"$f":"VLOOKUP(tblSalaries[[#This Row],[Where do you work]],tblCountries[[Actual]:[Mapping]],2,FALSE)","v":"India"},{"$f":"VLOOKUP(tblSalaries[[#This Row],[clean Country]]&\"*\",Cont_Table,2,0)","v":"Asia"},"All the 8 hours baby, all the 8!",9]
[null,"ID1641","2012-06-03T12:09:27",{"$f":"LEFT(tblSalaries[[#This Row],[Timestamp]],FIND(\".\",tblSalaries[[#This Row],[Timestamp]],1))","v":"41063."},"10 lacs INR",1000000,"INR",{"$f":"tblSalaries[[#This Row],[clean Salary (in local currency)]]*VLOOKUP(tblSalaries[[#This Row],[Currency]],tblXrate[],2,FALSE)","v":17807.916687442568},"Category Manager","Manager","India",{"$f":"VLOOKUP(tblSalaries[[#This Row],[Where do you work]],tblCountries[[Actual]:[Mapping]],2,FALSE)","v":"India"},{"$f":"VLOOKUP(tblSalaries[[#This Row],[clean Country]]&\"*\",Cont_Table,2,0)","v":"Asia"},"2 to 3 hours per day",13]
[null,"ID1642","2012-06-03T12:16:15",{"$f":"LEFT(tblSalaries[[#This Row],[Timestamp]],FIND(\".\",tblSalaries[[#This Row],[Timestamp]],1))","v":"41063."},54000,54000,"USD",{"$f":"tblSalaries[[#This Row],[clean Salary (in local currency)]]*VLOOKUP(tblSalaries[[#This Row],[Currency]],tblXrate[],2,FALSE)","v":54000},"assistant director of finance","CXO or Top Mgmt.","USA",{"$f":"VLOOKUP(tblSalaries[[#This Row],[Where do you work]],tblCountries[[Actual]:[Mapping]],2,FALSE)","v":"USA"},{"$f":"VLOOKUP(tblSalaries[[#This Row],[clean Country]]&\"*\",Cont_Table,2,0)","v":"North America"},"4 to 6 hours a day",10]
[null,"ID1643","2012-06-03T12:27:07",{"$f":"LEFT(tblSalaries[[#This Row],[Timestamp]],FIND(\".\",tblSalaries[[#This Row],[Timestamp]],1))","v":"41063."},100000,100000,"USD",{"$f":"tblSalaries[[#This Row],[clean Salary (in local currency)]]*VLOOKUP(tblSalaries[[#This Row],[Currency]],tblXrate[],2,FALSE)","v":100000},"Consultant","Consultant","USA",{"$f":"VLOOKUP(tblSalaries[[#This Row],[Where do you work]],tblCountries[[Actual]:[Mapping]],2,FALSE)","v":"USA"},{"$f":"VLOOKUP(tblSalaries[[#This Row],[clean Country]]&\"*\",Cont_Table,2,0)","v":"North America"},"2 to 3 hours per day",4]
[null,"ID1644","2012-06-03T13:30:47",{"$f":"LEFT(tblSalaries[[#This Row],[Timestamp]],FIND(\".\",tblSalaries[[#This Row],[Timestamp]],1))","v":"41063."},50000,50000,"CAD",{"$f":"tblSalaries[[#This Row],[clean Salary (in local currency)]]*VLOOKUP(tblSalaries[[#This Row],[Currency]],tblXrate[],2,FALSE)","v":49168.076151516347},"Application Developer","Analyst","Canada",{"$f":"VLOOKUP(tblSalaries[[#This Row],[Where do you work]],tblCountries[[Actual]:[Mapping]],2,FALSE)","v":"Canada"},{"$f":"VLOOKUP(tblSalaries[[#This Row],[clean Country]]&\"*\",Cont_Table,2,0)","v":"North America"},"4 to 6 hours a day",5]
[null,"ID1645","2012-06-03T14:27:29",{"$f":"LEFT(tblSalaries[[#This Row],[Timestamp]],FIND(\".\",tblSalaries[[#This Row],[Timestamp]],1))","v":"41063."},4019,4019,"USD",{"$f":"tblSalaries[[#This Row],[clean Salary (in local currency)]]*VLOOKUP(tblSalaries[[#This Row],[Currency]],tblXrate[],2,FALSE)","v":4019},"Clinical Intake Specialist","Specialist","Philippines",{"$f":"VLOOKUP(tblSalaries[[#This Row],[Where do you work]],tblCountries[[Actual]:[Mapping]],2,FALSE)","v":"Philippines"},{"$f":"VLOOKUP(tblSalaries[[#This Row],[clean Country]]&\"*\",Cont_Table,2,0)","v":"Asia"},"2 to 3 hours per day",3]
[null,"ID1646","2012-06-03T14:34:56",{"$f":"LEFT(tblSalaries[[#This Row],[Timestamp]],FIND(\".\",tblSalaries[[#This Row],[Timestamp]],1))","v":"41063."},15000,15000,"USD",{"$f":"tblSalaries[[#This Row],[clean Salary (in local currency)]]*VLOOKUP(tblSalaries[[#This Row],[Currency]],tblXrate[],2,FALSE)","v":15000},"Marketing services","Analyst","Pakistan",{"$f":"VLOOKUP(tblSalaries[[#This Row],[Where do you work]],tblCountries[[Actual]:[Mapping]],2,FALSE)","v":"Pakistan"},{"$f":"VLOOKUP(tblSalaries[[#This Row],[clean Country]]&\"*\",Cont_Table,2,0)","v":"Asia"},"4 to 6 hours a day",5]
[null,"ID1647","2012-06-03T14:52:21",{"$f":"LEFT(tblSalaries[[#This Row],[Timestamp]],FIND(\".\",tblSalaries[[#This Row],[Timestamp]],1))","v":"41063."},"INR 1000000",1000000,"INR",{"$f":"tblSalaries[[#This Row],[clean Salary (in local currency)]]*VLOOKUP(tblSalaries[[#This Row],[Currency]],tblXrate[],2,FALSE)","v":17807.916687442568},"Senior Associate, Finance","Analyst","India",{"$f":"VLOOKUP(tblSalaries[[#This Row],[Where do you work]],tblCountries[[Actual]:[Mapping]],2,FALSE)","v":"India"},{"$f":"VLOOKUP(tblSalaries[[#This Row],[clean Country]]&\"*\",Cont_Table,2,0)","v":"Asia"},"All the 8 hours baby, all the 8!",4]
[null,"ID1648","2012-06-03T16:48:54",{"$f":"LEFT(tblSalaries[[#This Row],[Timestamp]],FIND(\".\",tblSalaries[[#This Row],[Timestamp]],1))","v":"41063."},12000,12000,"USD",{"$f":"tblSalaries[[#This Row],[clean Salary (in local currency)]]*VLOOKUP(tblSalaries[[#This Row],[Currency]],tblXrate[],2,FALSE)","v":12000},"MIS ","Reporting","India",{"$f":"VLOOKUP(tblSalaries[[#This Row],[Where do you work]],tblCountries[[Actual]:[Mapping]],2,FALSE)","v":"India"},{"$f":"VLOOKUP(tblSalaries[[#This Row],[clean Country]]&\"*\",Cont_Table,2,0)","v":"Asia"},"All the 8 hours baby, all the 8!",3]
[null,"ID1649","2012-06-03T17:39:14",{"$f":"LEFT(tblSalaries[[#This Row],[Timestamp]],FIND(\".\",tblSalaries[[#This Row],[Timestamp]],1))","v":"41063."},"Rs. 125000",125000,"INR",{"$f":"tblSalaries[[#This Row],[clean Salary (in local currency)]]*VLOOKUP(tblSalaries[[#This Row],[Currency]],tblXrate[],2,FALSE)","v":2225.989585930321},"No","Analyst","India",{"$f":"VLOOKUP(tblSalaries[[#This Row],[Where do you work]],tblCountries[[Actual]:[Mapping]],2,FALSE)","v":"India"},{"$f":"VLOOKUP(tblSalaries[[#This Row],[clean Country]]&\"*\",Cont_Table,2,0)","v":"Asia"},"2 to 3 hours per day",4]
[null,"ID1650","2012-06-03T19:40:18",{"$f":"LEFT(tblSalaries[[#This Row],[Timestamp]],FIND(\".\",tblSalaries[[#This Row],[Timestamp]],1))","v":"41063."},86000,86000,"USD",{"$f":"tblSalaries[[#This Row],[clean Salary (in local currency)]]*VLOOKUP(tblSalaries[[#This Row],[Currency]],tblXrate[],2,FALSE)","v":86000},"Analyst","Analyst","Philippines",{"$f":"VLOOKUP(tblSalaries[[#This Row],[Where do you work]],tblCountries[[Actual]:[Mapping]],2,FALSE)","v":"Philippines"},{"$f":"VLOOKUP(tblSalaries[[#This Row],[clean Country]]&\"*\",Cont_Table,2,0)","v":"Asia"},"All the 8 hours baby, all the 8!",3]
[null,"ID1651","2012-06-04T01:45:03",{"$f":"LEFT(tblSalaries[[#This Row],[Timestamp]],FIND(\".\",tblSalaries[[#This Row],[Timestamp]],1))","v":"41064."},340000,340000,"INR",{"$f":"tblSalaries[[#This Row],[clean Salary (in local currency)]]*VLOOKUP(tblSalaries[[#This Row],[Currency]],tblXrate[],2,FALSE)","v":6054.6916737304728},"Assistant Manager","Manager","India",{"$f":"VLOOKUP(tblSalaries[[#This Row],[Where do you work]],tblCountries[[Actual]:[Mapping]],2,FALSE)","v":"India"},{"$f":"VLOOKUP(tblSalaries[[#This Row],[clean Country]]&\"*\",Cont_Table,2,0)","v":"Asia"},"4 to 6 hours a day",5]
[null,"ID1652","2012-06-04T02:03:53",{"$f":"LEFT(tblSalaries[[#This Row],[Timestamp]],FIND(\".\",tblSalaries[[#This Row],[Timestamp]],1))","v":"41064."},"280$/ month",3360,"USD",{"$f":"tblSalaries[[#This Row],[clean Salary (in local currency)]]*VLOOKUP(tblSalaries[[#This Row],[Currency]],tblXrate[],2,FALSE)","v":3360},"service executive","Analyst","India",{"$f":"VLOOKUP(tblSalaries[[#This Row],[Where do you work]],tblCountries[[Actual]:[Mapping]],2,FALSE)","v":"India"},{"$f":"VLOOKUP(tblSalaries[[#This Row],[clean Country]]&\"*\",Cont_Table,2,0)","v":"Asia"},"1 or 2 hours a day",3]
[null,"ID1653","2012-06-04T02:30:11",{"$f":"LEFT(tblSalaries[[#This Row],[Timestamp]],FIND(\".\",tblSalaries[[#This Row],[Timestamp]],1))","v":"41064."},10000,10000,"USD",{"$f":"tblSalaries[[#This Row],[clean Salary (in local currency)]]*VLOOKUP(tblSalaries[[#This Row],[Currency]],tblXrate[],2,FALSE)","v":10000},"ceo","CXO or Top Mgmt.","India",{"$f":"VLOOKUP(tblSalaries[[#This Row],[Where do you work]],tblCountries[[Actual]:[Mapping]],2,FALSE)","v":"India"},{"$f":"VLOOKUP(tblSalaries[[#This Row],[clean Country]]&\"*\",Cont_Table,2,0)","v":"Asia"},"All the 8 hours baby, all the 8!",1]
[null,"ID1654","2012-06-04T04:31:53",{"$f":"LEFT(tblSalaries[[#This Row],[Timestamp]],FIND(\".\",tblSalaries[[#This Row],[Timestamp]],1))","v":"41064."},70000,70000,"USD",{"$f":"tblSalaries[[#This Row],[clean Salary (in local currency)]]*VLOOKUP(tblSalaries[[#This Row],[Currency]],tblXrate[],2,FALSE)","v":70000},"Sr financial analyst","Analyst","USA",{"$f":"VLOOKUP(tblSalaries[[#This Row],[Where do you work]],tblCountries[[Actual]:[Mapping]],2,FALSE)","v":"USA"},{"$f":"VLOOKUP(tblSalaries[[#This Row],[clean Country]]&\"*\",Cont_Table,2,0)","v":"North America"},"4 to 6 hours a day",9]
[null,"ID1655","2012-06-04T09:49:44",{"$f":"LEFT(tblSalaries[[#This Row],[Timestamp]],FIND(\".\",tblSalaries[[#This Row],[Timestamp]],1))","v":"41064."},155000,155000,"USD",{"$f":"tblSalaries[[#This Row],[clean Salary (in local currency)]]*VLOOKUP(tblSalaries[[#This Row],[Currency]],tblXrate[],2,FALSE)","v":155000},"Consulting Practice Manager","Manager","USA",{"$f":"VLOOKUP(tblSalaries[[#This Row],[Where do you work]],tblCountries[[Actual]:[Mapping]],2,FALSE)","v":"USA"},{"$f":"VLOOKUP(tblSalaries[[#This Row],[clean Country]]&\"*\",Cont_Table,2,0)","v":"North America"},"1 or 2 hours a day",14]
[null,"ID1656","2012-06-04T10:23:27",{"$f":"LEFT(tblSalaries[[#This Row],[Timestamp]],FIND(\".\",tblSalaries[[#This Row],[Timestamp]],1))","v":"41064."},225000,225000,"USD",{"$f":"tblSalaries[[#This Row],[clean Salary (in local currency)]]*VLOOKUP(tblSalaries[[#This Row],[Currency]],tblXrate[],2,FALSE)","v":225000},"SVP of Acquisitions","CXO or Top Mgmt.","USA",{"$f":"VLOOKUP(tblSalaries[[#This Row],[Where do you work]],tblCountries[[Actual]:[Mapping]],2,FALSE)","v":"USA"},{"$f":"VLOOKUP(tblSalaries[[#This Row],[clean Country]]&\"*\",Cont_Table,2,0)","v":"North America"},"4 to 6 hours a day",15]
[null,"ID1657","2012-06-04T12:22:05",{"$f":"LEFT(tblSalaries[[#This Row],[Timestamp]],FIND(\".\",tblSalaries[[#This Row],[Timestamp]],1))","v":"41064."},10000,10000,"USD",{"$f":"tblSalaries[[#This Row],[clean Salary (in local currency)]]*VLOOKUP(tblSalaries[[#This Row],[Currency]],tblXrate[],2,FALSE)","v":10000},"MIS Executive","Reporting","India",{"$f":"VLOOKUP(tblSalaries[[#This Row],[Where do you work]],tblCountries[[Actual]:[Mapping]],2,FALSE)","v":"India"},{"$f":"VLOOKUP(tblSalaries[[#This Row],[clean Country]]&\"*\",Cont_Table,2,0)","v":"Asia"},"All the 8 hours baby, all the 8!",2]
[null,"ID1658","2012-06-04T12:58:06",{"$f":"LEFT(tblSalaries[[#This Row],[Timestamp]],FIND(\".\",tblSalaries[[#This Row],[Timestamp]],1))","v":"41064."},300000,300000,"INR",{"$f":"tblSalaries[[#This Row],[clean Salary (in local currency)]]*VLOOKUP(tblSalaries[[#This Row],[Currency]],tblXrate[],2,FALSE)","v":5342.3750062327708},"Store Inventory","Analyst","India",{"$f":"VLOOKUP(tblSalaries[[#This Row],[Where do you work]],tblCountries[[Actual]:[Mapping]],2,FALSE)","v":"India"},{"$f":"VLOOKUP(tblSalaries[[#This Row],[clean Country]]&\"*\",Cont_Table,2,0)","v":"Asia"},"4 to 6 hours a day",8]
[null,"ID1659","2012-06-04T13:30:51",{"$f":"LEFT(tblSalaries[[#This Row],[Timestamp]],FIND(\".\",tblSalaries[[#This Row],[Timestamp]],1))","v":"41064."},84000,84000,"AUD",{"$f":"tblSalaries[[#This Row],[clean Salary (in local currency)]]*VLOOKUP(tblSalaries[[#This Row],[Currency]],tblXrate[],2,FALSE)","v":85672.4111378214},"consultant","Consultant","Australia",{"$f":"VLOOKUP(tblSalaries[[#This Row],[Where do you work]],tblCountries[[Actual]:[Mapping]],2,FALSE)","v":"Australia"},{"$f":"VLOOKUP(tblSalaries[[#This Row],[clean Country]]&\"*\",Cont_Table,2,0)","v":"Australia"},"4 to 6 hours a day",6]
[null,"ID1660","2012-06-04T14:25:45",{"$f":"LEFT(tblSalaries[[#This Row],[Timestamp]],FIND(\".\",tblSalaries[[#This Row],[Timestamp]],1))","v":"41064."},"240000 INR",240000,"INR",{"$f":"tblSalaries[[#This Row],[clean Salary (in local currency)]]*VLOOKUP(tblSalaries[[#This Row],[Currency]],tblXrate[],2,FALSE)","v":4273.9000049862161},"Exicutive TQM","Controller","India",{"$f":"VLOOKUP(tblSalaries[[#This Row],[Where do you work]],tblCountries[[Actual]:[Mapping]],2,FALSE)","v":"India"},{"$f":"VLOOKUP(tblSalaries[[#This Row],[clean Country]]&\"*\",Cont_Table,2,0)","v":"Asia"},"2 to 3 hours per day",15]
[null,"ID1661","2012-06-04T16:31:09",{"$f":"LEFT(tblSalaries[[#This Row],[Timestamp]],FIND(\".\",tblSalaries[[#This Row],[Timestamp]],1))","v":"41064."},"Rs. 5 lacs",500000,"INR",{"$f":"tblSalaries[[#This Row],[clean Salary (in local currency)]]*VLOOKUP(tblSalaries[[#This Row],[Currency]],tblXrate[],2,FALSE)","v":8903.9583437212841},"Team Leader","Manager","India",{"$f":"VLOOKUP(tblSalaries[[#This Row],[Where do you work]],tblCountries[[Actual]:[Mapping]],2,FALSE)","v":"India"},{"$f":"VLOOKUP(tblSalaries[[#This Row],[clean Country]]&\"*\",Cont_Table,2,0)","v":"Asia"},"All the 8 hours baby, all the 8!",20]
[null,"ID1662","2012-06-04T18:03:21",{"$f":"LEFT(tblSalaries[[#This Row],[Timestamp]],FIND(\".\",tblSalaries[[#This Row],[Timestamp]],1))","v":"41064."},42000,42000,"GBP",{"$f":"tblSalaries[[#This Row],[clean Salary (in local currency)]]*VLOOKUP(tblSalaries[[#This Row],[Currency]],tblXrate[],2,FALSE)","v":66199.48742682593},"Management Accountant","Manager","UK",{"$f":"VLOOKUP(tblSalaries[[#This Row],[Where do you work]],tblCountries[[Actual]:[Mapping]],2,FALSE)","v":"UK"},{"$f":"VLOOKUP(tblSalaries[[#This Row],[clean Country]]&\"*\",Cont_Table,2,0)","v":"Europe"},"4 to 6 hours a day",23]
[null,"ID1663","2012-06-04T18:55:54",{"$f":"LEFT(tblSalaries[[#This Row],[Timestamp]],FIND(\".\",tblSalaries[[#This Row],[Timestamp]],1))","v":"41064."},"INR 3.2 lpa",320000,"INR",{"$f":"tblSalaries[[#This Row],[clean Salary (in local currency)]]*VLOOKUP(tblSalaries[[#This Row],[Currency]],tblXrate[],2,FALSE)","v":5698.5333399816218},"Research Associate","Analyst","India",{"$f":"VLOOKUP(tblSalaries[[#This Row],[Where do you work]],tblCountries[[Actual]:[Mapping]],2,FALSE)","v":"India"},{"$f":"VLOOKUP(tblSalaries[[#This Row],[clean Country]]&\"*\",Cont_Table,2,0)","v":"Asia"},"4 to 6 hours a day",2.5]
[null,"ID1664","2012-06-04T19:11:18",{"$f":"LEFT(tblSalaries[[#This Row],[Timestamp]],FIND(\".\",tblSalaries[[#This Row],[Timestamp]],1))","v":"41064."},"Â£22k",22000,"GBP",{"$f":"tblSalaries[[#This Row],[clean Salary (in local currency)]]*VLOOKUP(tblSalaries[[#This Row],[Currency]],tblXrate[],2,FALSE)","v":34675.92198548025},"Supply/Demand Planner","Manager","UK",{"$f":"VLOOKUP(tblSalaries[[#This Row],[Where do you work]],tblCountries[[Actual]:[Mapping]],2,FALSE)","v":"UK"},{"$f":"VLOOKUP(tblSalaries[[#This Row],[clean Country]]&\"*\",Cont_Table,2,0)","v":"Europe"},"4 to 6 hours a day",17]
[null,"ID1665","2012-06-04T19:46:09",{"$f":"LEFT(tblSalaries[[#This Row],[Timestamp]],FIND(\".\",tblSalaries[[#This Row],[Timestamp]],1))","v":"41064."},"2600 $",31200,"USD",{"$f":"tblSalaries[[#This Row],[clean Salary (in local currency)]]*VLOOKUP(tblSalaries[[#This Row],[Currency]],tblXrate[],2,FALSE)","v":31200},"Economist","Reporting","ISRAEL",{"$f":"VLOOKUP(tblSalaries[[#This Row],[Where do you work]],tblCountries[[Actual]:[Mapping]],2,FALSE)","v":"Israel"},{"$f":"VLOOKUP(tblSalaries[[#This Row],[clean Country]]&\"*\",Cont_Table,2,0)","v":"Asia"},"All the 8 hours baby, all the 8!",11]
[null,"ID1666","2012-06-04T21:43:15",{"$f":"LEFT(tblSalaries[[#This Row],[Timestamp]],FIND(\".\",tblSalaries[[#This Row],[Timestamp]],1))","v":"41064."},56000,56000,"CAD",{"$f":"tblSalaries[[#This Row],[clean Salary (in local currency)]]*VLOOKUP(tblSalaries[[#This Row],[Currency]],tblXrate[],2,FALSE)","v":55068.245289698301},"consultant","Consultant","Canada",{"$f":"VLOOKUP(tblSalaries[[#This Row],[Where do you work]],tblCountries[[Actual]:[Mapping]],2,FALSE)","v":"Canada"},{"$f":"VLOOKUP(tblSalaries[[#This Row],[clean Country]]&\"*\",Cont_Table,2,0)","v":"North America"},"All the 8 hours baby, all the 8!",1]
[null,"ID1667","2012-06-04T22:16:00",{"$f":"LEFT(tblSalaries[[#This Row],[Timestamp]],FIND(\".\",tblSalaries[[#This Row],[Timestamp]],1))","v":"41064."},13000,13000,"USD",{"$f":"tblSalaries[[#This Row],[clean Salary (in local currency)]]*VLOOKUP(tblSalaries[[#This Row],[Currency]],tblXrate[],2,FALSE)","v":13000},"logistics analyst","Analyst","Slovakia",{"$f":"VLOOKUP(tblSalaries[[#This Row],[Where do you work]],tblCountries[[Actual]:[Mapping]],2,FALSE)","v":"Slovakia"},{"$f":"VLOOKUP(tblSalaries[[#This Row],[clean Country]]&\"*\",Cont_Table,2,0)","v":"Europe"},"All the 8 hours baby, all the 8!",6]
[null,"ID1668","2012-06-04T23:00:10",{"$f":"LEFT(tblSalaries[[#This Row],[Timestamp]],FIND(\".\",tblSalaries[[#This Row],[Timestamp]],1))","v":"41064."},92000,92000,"USD",{"$f":"tblSalaries[[#This Row],[clean Salary (in local currency)]]*VLOOKUP(tblSalaries[[#This Row],[Currency]],tblXrate[],2,FALSE)","v":92000},"BI director","Reporting","USA",{"$f":"VLOOKUP(tblSalaries[[#This Row],[Where do you work]],tblCountries[[Actual]:[Mapping]],2,FALSE)","v":"USA"},{"$f":"VLOOKUP(tblSalaries[[#This Row],[clean Country]]&\"*\",Cont_Table,2,0)","v":"North America"},"2 to 3 hours per day",12]
[null,"ID1669","2012-06-04T23:18:41",{"$f":"LEFT(tblSalaries[[#This Row],[Timestamp]],FIND(\".\",tblSalaries[[#This Row],[Timestamp]],1))","v":"41064."},85000,85000,"USD",{"$f":"tblSalaries[[#This Row],[clean Salary (in local currency)]]*VLOOKUP(tblSalaries[[#This Row],[Currency]],tblXrate[],2,FALSE)","v":85000},"Sr Manager","Manager","USA",{"$f":"VLOOKUP(tblSalaries[[#This Row],[Where do you work]],tblCountries[[Actual]:[Mapping]],2,FALSE)","v":"USA"},{"$f":"VLOOKUP(tblSalaries[[#This Row],[clean Country]]&\"*\",Cont_Table,2,0)","v":"North America"},"All the 8 hours baby, all the 8!",10]
[null,"ID1670","2012-06-04T23:38:42",{"$f":"LEFT(tblSalaries[[#This Row],[Timestamp]],FIND(\".\",tblSalaries[[#This Row],[Timestamp]],1))","v":"41064."},"11000 USD",11000,"USD",{"$f":"tblSalaries[[#This Row],[clean Salary (in local currency)]]*VLOOKUP(tblSalaries[[#This Row],[Currency]],tblXrate[],2,FALSE)","v":11000},"Dataminer","Analyst","Tunisia",{"$f":"VLOOKUP(tblSalaries[[#This Row],[Where do you work]],tblCountries[[Actual]:[Mapping]],2,FALSE)","v":"Tunisia"},{"$f":"VLOOKUP(tblSalaries[[#This Row],[clean Country]]&\"*\",Cont_Table,2,0)","v":"Africa"},"4 to 6 hours a day",8]
[null,"ID1671","2012-06-04T23:38:47",{"$f":"LEFT(tblSalaries[[#This Row],[Timestamp]],FIND(\".\",tblSalaries[[#This Row],[Timestamp]],1))","v":"41064."},"30000 â‚¬",30000,"EUR",{"$f":"tblSalaries[[#This Row],[clean Salary (in local currency)]]*VLOOKUP(tblSalaries[[#This Row],[Currency]],tblXrate[],2,FALSE)","v":38111.983169748237},"Safety technician","Analyst","Spain",{"$f":"VLOOKUP(tblSalaries[[#This Row],[Where do you work]],tblCountries[[Actual]:[Mapping]],2,FALSE)","v":"Spain"},{"$f":"VLOOKUP(tblSalaries[[#This Row],[clean Country]]&\"*\",Cont_Table,2,0)","v":"Europe"},"1 or 2 hours a day",12]
[null,"ID1672","2012-06-04T23:41:47",{"$f":"LEFT(tblSalaries[[#This Row],[Timestamp]],FIND(\".\",tblSalaries[[#This Row],[Timestamp]],1))","v":"41064."},49000,49000,"USD",{"$f":"tblSalaries[[#This Row],[clean Salary (in local currency)]]*VLOOKUP(tblSalaries[[#This Row],[Currency]],tblXrate[],2,FALSE)","v":49000},"Marketing Data Analyst","Analyst","USA",{"$f":"VLOOKUP(tblSalaries[[#This Row],[Where do you work]],tblCountries[[Actual]:[Mapping]],2,FALSE)","v":"USA"},{"$f":"VLOOKUP(tblSalaries[[#This Row],[clean Country]]&\"*\",Cont_Table,2,0)","v":"North America"},"2 to 3 hours per day",3]
[null,"ID1673","2012-06-05T00:22:14",{"$f":"LEFT(tblSalaries[[#This Row],[Timestamp]],FIND(\".\",tblSalaries[[#This Row],[Timestamp]],1))","v":"41065."},59000,59000,"USD",{"$f":"tblSalaries[[#This Row],[clean Salary (in local currency)]]*VLOOKUP(tblSalaries[[#This Row],[Currency]],tblXrate[],2,FALSE)","v":59000},"Category Leader","Manager","USA",{"$f":"VLOOKUP(tblSalaries[[#This Row],[Where do you work]],tblCountries[[Actual]:[Mapping]],2,FALSE)","v":"USA"},{"$f":"VLOOKUP(tblSalaries[[#This Row],[clean Country]]&\"*\",Cont_Table,2,0)","v":"North America"},"1 or 2 hours a day",3]
[null,"ID1674","2012-06-05T02:03:48",{"$f":"LEFT(tblSalaries[[#This Row],[Timestamp]],FIND(\".\",tblSalaries[[#This Row],[Timestamp]],1))","v":"41065."},55000,55000,"USD",{"$f":"tblSalaries[[#This Row],[clean Salary (in local currency)]]*VLOOKUP(tblSalaries[[#This Row],[Currency]],tblXrate[],2,FALSE)","v":55000},"Customer Sales Analyst","Analyst","USA",{"$f":"VLOOKUP(tblSalaries[[#This Row],[Where do you work]],tblCountries[[Actual]:[Mapping]],2,FALSE)","v":"USA"},{"$f":"VLOOKUP(tblSalaries[[#This Row],[clean Country]]&\"*\",Cont_Table,2,0)","v":"North America"},"4 to 6 hours a day",15]
[null,"ID1675","2012-06-05T02:21:01",{"$f":"LEFT(tblSalaries[[#This Row],[Timestamp]],FIND(\".\",tblSalaries[[#This Row],[Timestamp]],1))","v":"41065."},75000,75000,"USD",{"$f":"tblSalaries[[#This Row],[clean Salary (in local currency)]]*VLOOKUP(tblSalaries[[#This Row],[Currency]],tblXrate[],2,FALSE)","v":75000},"Accountant","Accountant","USA",{"$f":"VLOOKUP(tblSalaries[[#This Row],[Where do you work]],tblCountries[[Actual]:[Mapping]],2,FALSE)","v":"USA"},{"$f":"VLOOKUP(tblSalaries[[#This Row],[clean Country]]&\"*\",Cont_Table,2,0)","v":"North America"},"4 to 6 hours a day",10]
[null,"ID1677","2012-06-05T03:50:02",{"$f":"LEFT(tblSalaries[[#This Row],[Timestamp]],FIND(\".\",tblSalaries[[#This Row],[Timestamp]],1))","v":"41065."},3300,39600,"EUR",{"$f":"tblSalaries[[#This Row],[clean Salary (in local currency)]]*VLOOKUP(tblSalaries[[#This Row],[Currency]],tblXrate[],2,FALSE)","v":50307.817784067665},"Maintenance Manager","Manager","Europe",{"$f":"VLOOKUP(tblSalaries[[#This Row],[Where do you work]],tblCountries[[Actual]:[Mapping]],2,FALSE)","v":"Europe"},{"$f":"VLOOKUP(tblSalaries[[#This Row],[clean Country]]&\"*\",Cont_Table,2,0)","v":"Europe"},"1 or 2 hours a day",5]
[null,"ID1678","2012-06-05T03:55:36",{"$f":"LEFT(tblSalaries[[#This Row],[Timestamp]],FIND(\".\",tblSalaries[[#This Row],[Timestamp]],1))","v":"41065."},"US$ 30500",30500,"USD",{"$f":"tblSalaries[[#This Row],[clean Salary (in local currency)]]*VLOOKUP(tblSalaries[[#This Row],[Currency]],tblXrate[],2,FALSE)","v":30500},"Financial Analyst","Analyst","Brazil",{"$f":"VLOOKUP(tblSalaries[[#This Row],[Where do you work]],tblCountries[[Actual]:[Mapping]],2,FALSE)","v":"Brazil"},{"$f":"VLOOKUP(tblSalaries[[#This Row],[clean Country]]&\"*\",Cont_Table,2,0)","v":"South America"},"All the 8 hours baby, all the 8!",8]
[null,"ID1679","2012-06-05T04:06:09",{"$f":"LEFT(tblSalaries[[#This Row],[Timestamp]],FIND(\".\",tblSalaries[[#This Row],[Timestamp]],1))","v":"41065."},80000,80000,"USD",{"$f":"tblSalaries[[#This Row],[clean Salary (in local currency)]]*VLOOKUP(tblSalaries[[#This Row],[Currency]],tblXrate[],2,FALSE)","v":80000},"Data Resource Specialist","Specialist","USA",{"$f":"VLOOKUP(tblSalaries[[#This Row],[Where do you work]],tblCountries[[Actual]:[Mapping]],2,FALSE)","v":"USA"},{"$f":"VLOOKUP(tblSalaries[[#This Row],[clean Country]]&\"*\",Cont_Table,2,0)","v":"North America"},"2 to 3 hours per day",2]
[null,"ID1680","2012-06-05T05:03:04",{"$f":"LEFT(tblSalaries[[#This Row],[Timestamp]],FIND(\".\",tblSalaries[[#This Row],[Timestamp]],1))","v":"41065."},1000,12000,"USD",{"$f":"tblSalaries[[#This Row],[clean Salary (in local currency)]]*VLOOKUP(tblSalaries[[#This Row],[Currency]],tblXrate[],2,FALSE)","v":12000},"Waiter","Analyst","USA",{"$f":"VLOOKUP(tblSalaries[[#This Row],[Where do you work]],tblCountries[[Actual]:[Mapping]],2,FALSE)","v":"USA"},{"$f":"VLOOKUP(tblSalaries[[#This Row],[clean Country]]&\"*\",Cont_Table,2,0)","v":"North America"},"2 to 3 hours per day",1]
[null,"ID1681","2012-06-05T05:03:20",{"$f":"LEFT(tblSalaries[[#This Row],[Timestamp]],FIND(\".\",tblSalaries[[#This Row],[Timestamp]],1))","v":"41065."},48500,48500,"USD",{"$f":"tblSalaries[[#This Row],[clean Salary (in local currency)]]*VLOOKUP(tblSalaries[[#This Row],[Currency]],tblXrate[],2,FALSE)","v":48500},"Business Systems Analyst I","Analyst","USA",{"$f":"VLOOKUP(tblSalaries[[#This Row],[Where do you work]],tblCountries[[Actual]:[Mapping]],2,FALSE)","v":"USA"},{"$f":"VLOOKUP(tblSalaries[[#This Row],[clean Country]]&\"*\",Cont_Table,2,0)","v":"North America"},"4 to 6 hours a day",6]
[null,"ID1682","2012-06-05T06:51:36",{"$f":"LEFT(tblSalaries[[#This Row],[Timestamp]],FIND(\".\",tblSalaries[[#This Row],[Timestamp]],1))","v":"41065."},"Â£40000",40000,"GBP",{"$f":"tblSalaries[[#This Row],[clean Salary (in local currency)]]*VLOOKUP(tblSalaries[[#This Row],[Currency]],tblXrate[],2,FALSE)","v":63047.130882691366},"Technical Specialist","Specialist","UK",{"$f":"VLOOKUP(tblSalaries[[#This Row],[Where do you work]],tblCountries[[Actual]:[Mapping]],2,FALSE)","v":"UK"},{"$f":"VLOOKUP(tblSalaries[[#This Row],[clean Country]]&\"*\",Cont_Table,2,0)","v":"Europe"},"2 to 3 hours per day",25]
[null,"ID1683","2012-06-05T07:05:12",{"$f":"LEFT(tblSalaries[[#This Row],[Timestamp]],FIND(\".\",tblSalaries[[#This Row],[Timestamp]],1))","v":"41065."},"Rs 16000",192000,"INR",{"$f":"tblSalaries[[#This Row],[clean Salary (in local currency)]]*VLOOKUP(tblSalaries[[#This Row],[Currency]],tblXrate[],2,FALSE)","v":3419.1200039889732},"Sr Associate","Analyst","India",{"$f":"VLOOKUP(tblSalaries[[#This Row],[Where do you work]],tblCountries[[Actual]:[Mapping]],2,FALSE)","v":"India"},{"$f":"VLOOKUP(tblSalaries[[#This Row],[clean Country]]&\"*\",Cont_Table,2,0)","v":"Asia"},"4 to 6 hours a day",5]
[null,"ID1684","2012-06-05T10:43:34",{"$f":"LEFT(tblSalaries[[#This Row],[Timestamp]],FIND(\".\",tblSalaries[[#This Row],[Timestamp]],1))","v":"41065."},110000,110000,"NZD",{"$f":"tblSalaries[[#This Row],[clean Salary (in local currency)]]*VLOOKUP(tblSalaries[[#This Row],[Currency]],tblXrate[],2,FALSE)","v":87734.690296543267},"Enterprise Portfolio Manager","Manager","New Zealand",{"$f":"VLOOKUP(tblSalaries[[#This Row],[Where do you work]],tblCountries[[Actual]:[Mapping]],2,FALSE)","v":"New Zealand"},{"$f":"VLOOKUP(tblSalaries[[#This Row],[clean Country]]&\"*\",Cont_Table,2,0)","v":"Australia"},"4 to 6 hours a day",6]
[null,"ID1685","2012-06-05T12:42:38",{"$f":"LEFT(tblSalaries[[#This Row],[Timestamp]],FIND(\".\",tblSalaries[[#This Row],[Timestamp]],1))","v":"41065."},"NZD$71000",71000,"NZD",{"$f":"tblSalaries[[#This Row],[clean Salary (in local currency)]]*VLOOKUP(tblSalaries[[#This Row],[Currency]],tblXrate[],2,FALSE)","v":56628.754645950656},"Business Analyst","Analyst","NZ",{"$f":"VLOOKUP(tblSalaries[[#This Row],[Where do you work]],tblCountries[[Actual]:[Mapping]],2,FALSE)","v":"New Zealand"},{"$f":"VLOOKUP(tblSalaries[[#This Row],[clean Country]]&\"*\",Cont_Table,2,0)","v":"Australia"},"All the 8 hours baby, all the 8!",6]
[null,"ID1686","2012-06-05T17:59:39",{"$f":"LEFT(tblSalaries[[#This Row],[Timestamp]],FIND(\".\",tblSalaries[[#This Row],[Timestamp]],1))","v":"41065."},"INR 450000",450000,"INR",{"$f":"tblSalaries[[#This Row],[clean Salary (in local currency)]]*VLOOKUP(tblSalaries[[#This Row],[Currency]],tblXrate[],2,FALSE)","v":8013.5625093491553},"Sr Executive - MIS","Reporting","India",{"$f":"VLOOKUP(tblSalaries[[#This Row],[Where do you work]],tblCountries[[Actual]:[Mapping]],2,FALSE)","v":"India"},{"$f":"VLOOKUP(tblSalaries[[#This Row],[clean Country]]&\"*\",Cont_Table,2,0)","v":"Asia"},"All the 8 hours baby, all the 8!",4]
[null,"ID1687","2012-06-05T18:31:59",{"$f":"LEFT(tblSalaries[[#This Row],[Timestamp]],FIND(\".\",tblSalaries[[#This Row],[Timestamp]],1))","v":"41065."},"200000 INR",200000,"INR",{"$f":"tblSalaries[[#This Row],[clean Salary (in local currency)]]*VLOOKUP(tblSalaries[[#This Row],[Currency]],tblXrate[],2,FALSE)","v":3561.5833374885137},"Executive","Analyst","India",{"$f":"VLOOKUP(tblSalaries[[#This Row],[Where do you work]],tblCountries[[Actual]:[Mapping]],2,FALSE)","v":"India"},{"$f":"VLOOKUP(tblSalaries[[#This Row],[clean Country]]&\"*\",Cont_Table,2,0)","v":"Asia"},"1 or 2 hours a day",16]
[null,"ID1688","2012-06-05T19:14:04",{"$f":"LEFT(tblSalaries[[#This Row],[Timestamp]],FIND(\".\",tblSalaries[[#This Row],[Timestamp]],1))","v":"41065."},62000,62000,"USD",{"$f":"tblSalaries[[#This Row],[clean Salary (in local currency)]]*VLOOKUP(tblSalaries[[#This Row],[Currency]],tblXrate[],2,FALSE)","v":62000},"Quality Engineer","Engineer","USA",{"$f":"VLOOKUP(tblSalaries[[#This Row],[Where do you work]],tblCountries[[Actual]:[Mapping]],2,FALSE)","v":"USA"},{"$f":"VLOOKUP(tblSalaries[[#This Row],[clean Country]]&\"*\",Cont_Table,2,0)","v":"North America"},"2 to 3 hours per day",12]
[null,"ID1689","2012-06-05T19:16:03",{"$f":"LEFT(tblSalaries[[#This Row],[Timestamp]],FIND(\".\",tblSalaries[[#This Row],[Timestamp]],1))","v":"41065."},21000,21000,"EUR",{"$f":"tblSalaries[[#This Row],[clean Salary (in local currency)]]*VLOOKUP(tblSalaries[[#This Row],[Currency]],tblXrate[],2,FALSE)","v":26678.388218823762},"Sales Planning","Analyst","Portugal",{"$f":"VLOOKUP(tblSalaries[[#This Row],[Where do you work]],tblCountries[[Actual]:[Mapping]],2,FALSE)","v":"Portugal"},{"$f":"VLOOKUP(tblSalaries[[#This Row],[clean Country]]&\"*\",Cont_Table,2,0)","v":"Europe"},"4 to 6 hours a day",5]
[null,"ID1690","2012-06-05T19:37:13",{"$f":"LEFT(tblSalaries[[#This Row],[Timestamp]],FIND(\".\",tblSalaries[[#This Row],[Timestamp]],1))","v":"41065."},"Â£45000",45000,"GBP",{"$f":"tblSalaries[[#This Row],[clean Salary (in local currency)]]*VLOOKUP(tblSalaries[[#This Row],[Currency]],tblXrate[],2,FALSE)","v":70928.022243027779},"Data Analyst","Analyst","UK",{"$f":"VLOOKUP(tblSalaries[[#This Row],[Where do you work]],tblCountries[[Actual]:[Mapping]],2,FALSE)","v":"UK"},{"$f":"VLOOKUP(tblSalaries[[#This Row],[clean Country]]&\"*\",Cont_Table,2,0)","v":"Europe"},"All the 8 hours baby, all the 8!",5]
[null,"ID1691","2012-06-05T19:59:35",{"$f":"LEFT(tblSalaries[[#This Row],[Timestamp]],FIND(\".\",tblSalaries[[#This Row],[Timestamp]],1))","v":"41065."},33000,33000,"EUR",{"$f":"tblSalaries[[#This Row],[clean Salary (in local currency)]]*VLOOKUP(tblSalaries[[#This Row],[Currency]],tblXrate[],2,FALSE)","v":41923.181486723057},"assistant","Analyst","france",{"$f":"VLOOKUP(tblSalaries[[#This Row],[Where do you work]],tblCountries[[Actual]:[Mapping]],2,FALSE)","v":"France"},{"$f":"VLOOKUP(tblSalaries[[#This Row],[clean Country]]&\"*\",Cont_Table,2,0)","v":"Europe"},"4 to 6 hours a day",6]
[null,"ID1692","2012-06-05T20:43:21",{"$f":"LEFT(tblSalaries[[#This Row],[Timestamp]],FIND(\".\",tblSalaries[[#This Row],[Timestamp]],1))","v":"41065."},90000,90000,"USD",{"$f":"tblSalaries[[#This Row],[clean Salary (in local currency)]]*VLOOKUP(tblSalaries[[#This Row],[Currency]],tblXrate[],2,FALSE)","v":90000},"Senior QA Tester","Analyst","USA",{"$f":"VLOOKUP(tblSalaries[[#This Row],[Where do you work]],tblCountries[[Actual]:[Mapping]],2,FALSE)","v":"USA"},{"$f":"VLOOKUP(tblSalaries[[#This Row],[clean Country]]&\"*\",Cont_Table,2,0)","v":"North America"},"2 to 3 hours per day",8]
[null,"ID1693","2012-06-05T21:07:16",{"$f":"LEFT(tblSalaries[[#This Row],[Timestamp]],FIND(\".\",tblSalaries[[#This Row],[Timestamp]],1))","v":"41065."},"400 000 NOK",400000,"NOK",{"$f":"tblSalaries[[#This Row],[clean Salary (in local currency)]]*VLOOKUP(tblSalaries[[#This Row],[Currency]],tblXrate[],2,FALSE)","v":67700.452577525488},"Economic analyst","Analyst","Norway",{"$f":"VLOOKUP(tblSalaries[[#This Row],[Where do you work]],tblCountries[[Actual]:[Mapping]],2,FALSE)","v":"Norway"},{"$f":"VLOOKUP(tblSalaries[[#This Row],[clean Country]]&\"*\",Cont_Table,2,0)","v":"Europe"},"All the 8 hours baby, all the 8!",5]
[null,"ID1694","2012-06-05T21:33:47",{"$f":"LEFT(tblSalaries[[#This Row],[Timestamp]],FIND(\".\",tblSalaries[[#This Row],[Timestamp]],1))","v":"41065."},85000,85000,"USD",{"$f":"tblSalaries[[#This Row],[clean Salary (in local currency)]]*VLOOKUP(tblSalaries[[#This Row],[Currency]],tblXrate[],2,FALSE)","v":85000},"Financial Analyst","Analyst","USA",{"$f":"VLOOKUP(tblSalaries[[#This Row],[Where do you work]],tblCountries[[Actual]:[Mapping]],2,FALSE)","v":"USA"},{"$f":"VLOOKUP(tblSalaries[[#This Row],[clean Country]]&\"*\",Cont_Table,2,0)","v":"North America"},"4 to 6 hours a day",12]
[null,"ID1695","2012-06-05T21:49:10",{"$f":"LEFT(tblSalaries[[#This Row],[Timestamp]],FIND(\".\",tblSalaries[[#This Row],[Timestamp]],1))","v":"41065."},50000,50000,"GBP",{"$f":"tblSalaries[[#This Row],[clean Salary (in local currency)]]*VLOOKUP(tblSalaries[[#This Row],[Currency]],tblXrate[],2,FALSE)","v":78808.913603364199},"Commercial Director","CXO or Top Mgmt.","UK",{"$f":"VLOOKUP(tblSalaries[[#This Row],[Where do you work]],tblCountries[[Actual]:[Mapping]],2,FALSE)","v":"UK"},{"$f":"VLOOKUP(tblSalaries[[#This Row],[clean Country]]&\"*\",Cont_Table,2,0)","v":"Europe"},"4 to 6 hours a day",10]
[null,"ID1696","2012-06-05T21:59:40",{"$f":"LEFT(tblSalaries[[#This Row],[Timestamp]],FIND(\".\",tblSalaries[[#This Row],[Timestamp]],1))","v":"41065."},65000,65000,"USD",{"$f":"tblSalaries[[#This Row],[clean Salary (in local currency)]]*VLOOKUP(tblSalaries[[#This Row],[Currency]],tblXrate[],2,FALSE)","v":65000},"Business Analyst","Analyst","USA",{"$f":"VLOOKUP(tblSalaries[[#This Row],[Where do you work]],tblCountries[[Actual]:[Mapping]],2,FALSE)","v":"USA"},{"$f":"VLOOKUP(tblSalaries[[#This Row],[clean Country]]&\"*\",Cont_Table,2,0)","v":"North America"},"4 to 6 hours a day",8]
[null,"ID1697","2012-06-05T22:05:10",{"$f":"LEFT(tblSalaries[[#This Row],[Timestamp]],FIND(\".\",tblSalaries[[#This Row],[Timestamp]],1))","v":"41065."},75000,75000,"USD",{"$f":"tblSalaries[[#This Row],[clean Salary (in local currency)]]*VLOOKUP(tblSalaries[[#This Row],[Currency]],tblXrate[],2,FALSE)","v":75000},"Directer of Sales Support","CXO or Top Mgmt.","USA",{"$f":"VLOOKUP(tblSalaries[[#This Row],[Where do you work]],tblCountries[[Actual]:[Mapping]],2,FALSE)","v":"USA"},{"$f":"VLOOKUP(tblSalaries[[#This Row],[clean Country]]&\"*\",Cont_Table,2,0)","v":"North America"},"2 to 3 hours per day",3]
[null,"ID1698","2012-06-05T22:44:27",{"$f":"LEFT(tblSalaries[[#This Row],[Timestamp]],FIND(\".\",tblSalaries[[#This Row],[Timestamp]],1))","v":"41065."},92000,92000,"USD",{"$f":"tblSalaries[[#This Row],[clean Salary (in local currency)]]*VLOOKUP(tblSalaries[[#This Row],[Currency]],tblXrate[],2,FALSE)","v":92000},"Anallyst","Analyst","USA",{"$f":"VLOOKUP(tblSalaries[[#This Row],[Where do you work]],tblCountries[[Actual]:[Mapping]],2,FALSE)","v":"USA"},{"$f":"VLOOKUP(tblSalaries[[#This Row],[clean Country]]&\"*\",Cont_Table,2,0)","v":"North America"},"4 to 6 hours a day",9]
[null,"ID1699","2012-06-05T22:50:20",{"$f":"LEFT(tblSalaries[[#This Row],[Timestamp]],FIND(\".\",tblSalaries[[#This Row],[Timestamp]],1))","v":"41065."},40000,40000,"EUR",{"$f":"tblSalaries[[#This Row],[clean Salary (in local currency)]]*VLOOKUP(tblSalaries[[#This Row],[Currency]],tblXrate[],2,FALSE)","v":50815.977559664309},"Financial Analyst","Analyst","Germany",{"$f":"VLOOKUP(tblSalaries[[#This Row],[Where do you work]],tblCountries[[Actual]:[Mapping]],2,FALSE)","v":"Germany"},{"$f":"VLOOKUP(tblSalaries[[#This Row],[clean Country]]&\"*\",Cont_Table,2,0)","v":"Europe"},"2 to 3 hours per day",3]
[null,"ID1700","2012-06-05T23:09:44",{"$f":"LEFT(tblSalaries[[#This Row],[Timestamp]],FIND(\".\",tblSalaries[[#This Row],[Timestamp]],1))","v":"41065."},"Â£35500",35500,"GBP",{"$f":"tblSalaries[[#This Row],[clean Salary (in local currency)]]*VLOOKUP(tblSalaries[[#This Row],[Currency]],tblXrate[],2,FALSE)","v":55954.328658388586},"Assistant Accountant","Accountant","UK",{"$f":"VLOOKUP(tblSalaries[[#This Row],[Where do you work]],tblCountries[[Actual]:[Mapping]],2,FALSE)","v":"UK"},{"$f":"VLOOKUP(tblSalaries[[#This Row],[clean Country]]&\"*\",Cont_Table,2,0)","v":"Europe"},"4 to 6 hours a day",8]
[null,"ID1701","2012-06-06T00:49:15",{"$f":"LEFT(tblSalaries[[#This Row],[Timestamp]],FIND(\".\",tblSalaries[[#This Row],[Timestamp]],1))","v":"41066."},45000,45000,"USD",{"$f":"tblSalaries[[#This Row],[clean Salary (in local currency)]]*VLOOKUP(tblSalaries[[#This Row],[Currency]],tblXrate[],2,FALSE)","v":45000},"Bussiness Analyst","Analyst","USA",{"$f":"VLOOKUP(tblSalaries[[#This Row],[Where do you work]],tblCountries[[Actual]:[Mapping]],2,FALSE)","v":"USA"},{"$f":"VLOOKUP(tblSalaries[[#This Row],[clean Country]]&\"*\",Cont_Table,2,0)","v":"North America"},"2 to 3 hours per day",4]
[null,"ID1702","2012-06-06T01:04:35",{"$f":"LEFT(tblSalaries[[#This Row],[Timestamp]],FIND(\".\",tblSalaries[[#This Row],[Timestamp]],1))","v":"41066."},"4 lacs INR",400000,"INR",{"$f":"tblSalaries[[#This Row],[clean Salary (in local currency)]]*VLOOKUP(tblSalaries[[#This Row],[Currency]],tblXrate[],2,FALSE)","v":7123.1666749770275},"Analyst","Analyst","India",{"$f":"VLOOKUP(tblSalaries[[#This Row],[Where do you work]],tblCountries[[Actual]:[Mapping]],2,FALSE)","v":"India"},{"$f":"VLOOKUP(tblSalaries[[#This Row],[clean Country]]&\"*\",Cont_Table,2,0)","v":"Asia"},"4 to 6 hours a day",4]
[null,"ID1703","2012-06-06T01:26:56",{"$f":"LEFT(tblSalaries[[#This Row],[Timestamp]],FIND(\".\",tblSalaries[[#This Row],[Timestamp]],1))","v":"41066."},"38920EUR",38920,"EUR",{"$f":"tblSalaries[[#This Row],[clean Salary (in local currency)]]*VLOOKUP(tblSalaries[[#This Row],[Currency]],tblXrate[],2,FALSE)","v":49443.946165553374},"functional analyst","Analyst","Belgium",{"$f":"VLOOKUP(tblSalaries[[#This Row],[Where do you work]],tblCountries[[Actual]:[Mapping]],2,FALSE)","v":"Belgium"},{"$f":"VLOOKUP(tblSalaries[[#This Row],[clean Country]]&\"*\",Cont_Table,2,0)","v":"Europe"},"4 to 6 hours a day",1.5]
[null,"ID1704","2012-06-06T01:41:40",{"$f":"LEFT(tblSalaries[[#This Row],[Timestamp]],FIND(\".\",tblSalaries[[#This Row],[Timestamp]],1))","v":"41066."},"US$45,000",45000,"USD",{"$f":"tblSalaries[[#This Row],[clean Salary (in local currency)]]*VLOOKUP(tblSalaries[[#This Row],[Currency]],tblXrate[],2,FALSE)","v":45000},"CFO","CXO or Top Mgmt.","Mexico",{"$f":"VLOOKUP(tblSalaries[[#This Row],[Where do you work]],tblCountries[[Actual]:[Mapping]],2,FALSE)","v":"Mexico"},{"$f":"VLOOKUP(tblSalaries[[#This Row],[clean Country]]&\"*\",Cont_Table,2,0)","v":"North America"},"4 to 6 hours a day",5]
[null,"ID1705","2012-06-06T02:11:58",{"$f":"LEFT(tblSalaries[[#This Row],[Timestamp]],FIND(\".\",tblSalaries[[#This Row],[Timestamp]],1))","v":"41066."},"US$60000",60000,"USD",{"$f":"tblSalaries[[#This Row],[clean Salary (in local currency)]]*VLOOKUP(tblSalaries[[#This Row],[Currency]],tblXrate[],2,FALSE)","v":60000},"Analyst","Analyst","USA",{"$f":"VLOOKUP(tblSalaries[[#This Row],[Where do you work]],tblCountries[[Actual]:[Mapping]],2,FALSE)","v":"USA"},{"$f":"VLOOKUP(tblSalaries[[#This Row],[clean Country]]&\"*\",Cont_Table,2,0)","v":"North America"},"All the 8 hours baby, all the 8!",1]
[null,"ID1706","2012-06-06T02:17:14",{"$f":"LEFT(tblSalaries[[#This Row],[Timestamp]],FIND(\".\",tblSalaries[[#This Row],[Timestamp]],1))","v":"41066."},65000,65000,"USD",{"$f":"tblSalaries[[#This Row],[clean Salary (in local currency)]]*VLOOKUP(tblSalaries[[#This Row],[Currency]],tblXrate[],2,FALSE)","v":65000},"Actuarial Analyst","Analyst","USA",{"$f":"VLOOKUP(tblSalaries[[#This Row],[Where do you work]],tblCountries[[Actual]:[Mapping]],2,FALSE)","v":"USA"},{"$f":"VLOOKUP(tblSalaries[[#This Row],[clean Country]]&\"*\",Cont_Table,2,0)","v":"North America"},"All the 8 hours baby, all the 8!",4]
[null,"ID1707","2012-06-06T03:14:56",{"$f":"LEFT(tblSalaries[[#This Row],[Timestamp]],FIND(\".\",tblSalaries[[#This Row],[Timestamp]],1))","v":"41066."},73000,73000,"USD",{"$f":"tblSalaries[[#This Row],[clean Salary (in local currency)]]*VLOOKUP(tblSalaries[[#This Row],[Currency]],tblXrate[],2,FALSE)","v":73000},"process coordinator","Manager","USA",{"$f":"VLOOKUP(tblSalaries[[#This Row],[Where do you work]],tblCountries[[Actual]:[Mapping]],2,FALSE)","v":"USA"},{"$f":"VLOOKUP(tblSalaries[[#This Row],[clean Country]]&\"*\",Cont_Table,2,0)","v":"North America"},"2 to 3 hours per day",6]
[null,"ID1708","2012-06-06T04:00:52",{"$f":"LEFT(tblSalaries[[#This Row],[Timestamp]],FIND(\".\",tblSalaries[[#This Row],[Timestamp]],1))","v":"41066."},54000,54000,"USD",{"$f":"tblSalaries[[#This Row],[clean Salary (in local currency)]]*VLOOKUP(tblSalaries[[#This Row],[Currency]],tblXrate[],2,FALSE)","v":54000},"Energy Analyst","Analyst","USA",{"$f":"VLOOKUP(tblSalaries[[#This Row],[Where do you work]],tblCountries[[Actual]:[Mapping]],2,FALSE)","v":"USA"},{"$f":"VLOOKUP(tblSalaries[[#This Row],[clean Country]]&\"*\",Cont_Table,2,0)","v":"North America"},"All the 8 hours baby, all the 8!",6]
[null,"ID1710","2012-06-06T05:52:59",{"$f":"LEFT(tblSalaries[[#This Row],[Timestamp]],FIND(\".\",tblSalaries[[#This Row],[Timestamp]],1))","v":"41066."},81000,81000,"USD",{"$f":"tblSalaries[[#This Row],[clean Salary (in local currency)]]*VLOOKUP(tblSalaries[[#This Row],[Currency]],tblXrate[],2,FALSE)","v":81000},"Contact Operations Analyst","Analyst","USA",{"$f":"VLOOKUP(tblSalaries[[#This Row],[Where do you work]],tblCountries[[Actual]:[Mapping]],2,FALSE)","v":"USA"},{"$f":"VLOOKUP(tblSalaries[[#This Row],[clean Country]]&\"*\",Cont_Table,2,0)","v":"North America"},"4 to 6 hours a day",6]
[null,"ID1711","2012-06-06T07:28:48",{"$f":"LEFT(tblSalaries[[#This Row],[Timestamp]],FIND(\".\",tblSalaries[[#This Row],[Timestamp]],1))","v":"41066."},10000,10000,"USD",{"$f":"tblSalaries[[#This Row],[clean Salary (in local currency)]]*VLOOKUP(tblSalaries[[#This Row],[Currency]],tblXrate[],2,FALSE)","v":10000},"Student assistant","Analyst","USA",{"$f":"VLOOKUP(tblSalaries[[#This Row],[Where do you work]],tblCountries[[Actual]:[Mapping]],2,FALSE)","v":"USA"},{"$f":"VLOOKUP(tblSalaries[[#This Row],[clean Country]]&\"*\",Cont_Table,2,0)","v":"North America"},"4 to 6 hours a day",2]
[null,"ID1712","2012-06-06T08:25:56",{"$f":"LEFT(tblSalaries[[#This Row],[Timestamp]],FIND(\".\",tblSalaries[[#This Row],[Timestamp]],1))","v":"41066."},42000,42000,"USD",{"$f":"tblSalaries[[#This Row],[clean Salary (in local currency)]]*VLOOKUP(tblSalaries[[#This Row],[Currency]],tblXrate[],2,FALSE)","v":42000},"Staff Accountant","Accountant","USA",{"$f":"VLOOKUP(tblSalaries[[#This Row],[Where do you work]],tblCountries[[Actual]:[Mapping]],2,FALSE)","v":"USA"},{"$f":"VLOOKUP(tblSalaries[[#This Row],[clean Country]]&\"*\",Cont_Table,2,0)","v":"North America"},"4 to 6 hours a day",1]
[null,"ID1713","2012-06-06T09:31:47",{"$f":"LEFT(tblSalaries[[#This Row],[Timestamp]],FIND(\".\",tblSalaries[[#This Row],[Timestamp]],1))","v":"41066."},80000,80000,"AUD",{"$f":"tblSalaries[[#This Row],[clean Salary (in local currency)]]*VLOOKUP(tblSalaries[[#This Row],[Currency]],tblXrate[],2,FALSE)","v":81592.772512210868},"PPC Search Specialist","Specialist","Australia",{"$f":"VLOOKUP(tblSalaries[[#This Row],[Where do you work]],tblCountries[[Actual]:[Mapping]],2,FALSE)","v":"Australia"},{"$f":"VLOOKUP(tblSalaries[[#This Row],[clean Country]]&\"*\",Cont_Table,2,0)","v":"Australia"},"4 to 6 hours a day",5]
[null,"ID1714","2012-06-06T11:21:08",{"$f":"LEFT(tblSalaries[[#This Row],[Timestamp]],FIND(\".\",tblSalaries[[#This Row],[Timestamp]],1))","v":"41066."},36000,36000,"CAD",{"$f":"tblSalaries[[#This Row],[clean Salary (in local currency)]]*VLOOKUP(tblSalaries[[#This Row],[Currency]],tblXrate[],2,FALSE)","v":35401.014829091764},"data organizer","Analyst","Canada",{"$f":"VLOOKUP(tblSalaries[[#This Row],[Where do you work]],tblCountries[[Actual]:[Mapping]],2,FALSE)","v":"Canada"},{"$f":"VLOOKUP(tblSalaries[[#This Row],[clean Country]]&\"*\",Cont_Table,2,0)","v":"North America"},"All the 8 hours baby, all the 8!",2]
[null,"ID1716","2012-06-06T16:03:39",{"$f":"LEFT(tblSalaries[[#This Row],[Timestamp]],FIND(\".\",tblSalaries[[#This Row],[Timestamp]],1))","v":"41066."},500000,500000,"INR",{"$f":"tblSalaries[[#This Row],[clean Salary (in local currency)]]*VLOOKUP(tblSalaries[[#This Row],[Currency]],tblXrate[],2,FALSE)","v":8903.9583437212841},"Sr. Associate","Analyst","India",{"$f":"VLOOKUP(tblSalaries[[#This Row],[Where do you work]],tblCountries[[Actual]:[Mapping]],2,FALSE)","v":"India"},{"$f":"VLOOKUP(tblSalaries[[#This Row],[clean Country]]&\"*\",Cont_Table,2,0)","v":"Asia"},"4 to 6 hours a day",4]
[null,"ID1717","2012-06-06T17:41:41",{"$f":"LEFT(tblSalaries[[#This Row],[Timestamp]],FIND(\".\",tblSalaries[[#This Row],[Timestamp]],1))","v":"41066."},600000,600000,"INR",{"$f":"tblSalaries[[#This Row],[clean Salary (in local currency)]]*VLOOKUP(tblSalaries[[#This Row],[Currency]],tblXrate[],2,FALSE)","v":10684.750012465542},"admin","Analyst","India",{"$f":"VLOOKUP(tblSalaries[[#This Row],[Where do you work]],tblCountries[[Actual]:[Mapping]],2,FALSE)","v":"India"},{"$f":"VLOOKUP(tblSalaries[[#This Row],[clean Country]]&\"*\",Cont_Table,2,0)","v":"Asia"},"All the 8 hours baby, all the 8!",5]
[null,"ID1718","2012-06-06T18:52:03",{"$f":"LEFT(tblSalaries[[#This Row],[Timestamp]],FIND(\".\",tblSalaries[[#This Row],[Timestamp]],1))","v":"41066."},700,8400,"USD",{"$f":"tblSalaries[[#This Row],[clean Salary (in local currency)]]*VLOOKUP(tblSalaries[[#This Row],[Currency]],tblXrate[],2,FALSE)","v":8400},"gov employee","Analyst","indonesia",{"$f":"VLOOKUP(tblSalaries[[#This Row],[Where do you work]],tblCountries[[Actual]:[Mapping]],2,FALSE)","v":"Indonesia"},{"$f":"VLOOKUP(tblSalaries[[#This Row],[clean Country]]&\"*\",Cont_Table,2,0)","v":"Asia"},"4 to 6 hours a day",14]
[null,"ID1719","2012-06-06T19:39:06",{"$f":"LEFT(tblSalaries[[#This Row],[Timestamp]],FIND(\".\",tblSalaries[[#This Row],[Timestamp]],1))","v":"41066."},550000,550000,"INR",{"$f":"tblSalaries[[#This Row],[clean Salary (in local currency)]]*VLOOKUP(tblSalaries[[#This Row],[Currency]],tblXrate[],2,FALSE)","v":9794.354178093412},"Accounts manager","Manager","India",{"$f":"VLOOKUP(tblSalaries[[#This Row],[Where do you work]],tblCountries[[Actual]:[Mapping]],2,FALSE)","v":"India"},{"$f":"VLOOKUP(tblSalaries[[#This Row],[clean Country]]&\"*\",Cont_Table,2,0)","v":"Asia"},"4 to 6 hours a day",13]
[null,"ID1720","2012-06-06T19:54:49",{"$f":"LEFT(tblSalaries[[#This Row],[Timestamp]],FIND(\".\",tblSalaries[[#This Row],[Timestamp]],1))","v":"41066."},1200,14400,"USD",{"$f":"tblSalaries[[#This Row],[clean Salary (in local currency)]]*VLOOKUP(tblSalaries[[#This Row],[Currency]],tblXrate[],2,FALSE)","v":14400},"Engineer","Engineer","India",{"$f":"VLOOKUP(tblSalaries[[#This Row],[Where do you work]],tblCountries[[Actual]:[Mapping]],2,FALSE)","v":"India"},{"$f":"VLOOKUP(tblSalaries[[#This Row],[clean Country]]&\"*\",Cont_Table,2,0)","v":"Asia"},"1 or 2 hours a day",8]
[null,"ID1721","2012-06-06T20:07:43",{"$f":"LEFT(tblSalaries[[#This Row],[Timestamp]],FIND(\".\",tblSalaries[[#This Row],[Timestamp]],1))","v":"41066."},"1.5 LINR",150000,"INR",{"$f":"tblSalaries[[#This Row],[clean Salary (in local currency)]]*VLOOKUP(tblSalaries[[#This Row],[Currency]],tblXrate[],2,FALSE)","v":2671.1875031163854},"MIS Executive","Reporting","India",{"$f":"VLOOKUP(tblSalaries[[#This Row],[Where do you work]],tblCountries[[Actual]:[Mapping]],2,FALSE)","v":"India"},{"$f":"VLOOKUP(tblSalaries[[#This Row],[clean Country]]&\"*\",Cont_Table,2,0)","v":"Asia"},"All the 8 hours baby, all the 8!",3]
[null,"ID1722","2012-06-06T20:41:35",{"$f":"LEFT(tblSalaries[[#This Row],[Timestamp]],FIND(\".\",tblSalaries[[#This Row],[Timestamp]],1))","v":"41066."},22000,22000,"USD",{"$f":"tblSalaries[[#This Row],[clean Salary (in local currency)]]*VLOOKUP(tblSalaries[[#This Row],[Currency]],tblXrate[],2,FALSE)","v":22000},"Manager (MIS)","Manager","India",{"$f":"VLOOKUP(tblSalaries[[#This Row],[Where do you work]],tblCountries[[Actual]:[Mapping]],2,FALSE)","v":"India"},{"$f":"VLOOKUP(tblSalaries[[#This Row],[clean Country]]&\"*\",Cont_Table,2,0)","v":"Asia"},"All the 8 hours baby, all the 8!",6]
[null,"ID1723","2012-06-06T21:18:51",{"$f":"LEFT(tblSalaries[[#This Row],[Timestamp]],FIND(\".\",tblSalaries[[#This Row],[Timestamp]],1))","v":"41066."},100000,100000,"USD",{"$f":"tblSalaries[[#This Row],[clean Salary (in local currency)]]*VLOOKUP(tblSalaries[[#This Row],[Currency]],tblXrate[],2,FALSE)","v":100000},"financial analyst (real estate)","Analyst","Russia",{"$f":"VLOOKUP(tblSalaries[[#This Row],[Where do you work]],tblCountries[[Actual]:[Mapping]],2,FALSE)","v":"Russia"},{"$f":"VLOOKUP(tblSalaries[[#This Row],[clean Country]]&\"*\",Cont_Table,2,0)","v":"Asia"},"All the 8 hours baby, all the 8!",6]
[null,"ID1724","2012-06-06T21:20:38",{"$f":"LEFT(tblSalaries[[#This Row],[Timestamp]],FIND(\".\",tblSalaries[[#This Row],[Timestamp]],1))","v":"41066."},40000,40000,"GBP",{"$f":"tblSalaries[[#This Row],[clean Salary (in local currency)]]*VLOOKUP(tblSalaries[[#This Row],[Currency]],tblXrate[],2,FALSE)","v":63047.130882691366},"project manager","Manager","UK",{"$f":"VLOOKUP(tblSalaries[[#This Row],[Where do you work]],tblCountries[[Actual]:[Mapping]],2,FALSE)","v":"UK"},{"$f":"VLOOKUP(tblSalaries[[#This Row],[clean Country]]&\"*\",Cont_Table,2,0)","v":"Europe"},"4 to 6 hours a day",15]
[null,"ID1725","2012-06-06T22:14:27",{"$f":"LEFT(tblSalaries[[#This Row],[Timestamp]],FIND(\".\",tblSalaries[[#This Row],[Timestamp]],1))","v":"41066."},"36000stg",36000,"GBP",{"$f":"tblSalaries[[#This Row],[clean Salary (in local currency)]]*VLOOKUP(tblSalaries[[#This Row],[Currency]],tblXrate[],2,FALSE)","v":56742.417794422225},"contracts officer","Manager","UK",{"$f":"VLOOKUP(tblSalaries[[#This Row],[Where do you work]],tblCountries[[Actual]:[Mapping]],2,FALSE)","v":"UK"},{"$f":"VLOOKUP(tblSalaries[[#This Row],[clean Country]]&\"*\",Cont_Table,2,0)","v":"Europe"},"1 or 2 hours a day",25]
[null,"ID1726","2012-06-06T22:42:16",{"$f":"LEFT(tblSalaries[[#This Row],[Timestamp]],FIND(\".\",tblSalaries[[#This Row],[Timestamp]],1))","v":"41066."},25000,25000,"USD",{"$f":"tblSalaries[[#This Row],[clean Salary (in local currency)]]*VLOOKUP(tblSalaries[[#This Row],[Currency]],tblXrate[],2,FALSE)","v":25000},"exe","Analyst","India",{"$f":"VLOOKUP(tblSalaries[[#This Row],[Where do you work]],tblCountries[[Actual]:[Mapping]],2,FALSE)","v":"India"},{"$f":"VLOOKUP(tblSalaries[[#This Row],[clean Country]]&\"*\",Cont_Table,2,0)","v":"Asia"},"All the 8 hours baby, all the 8!",8]
[null,"ID1727","2012-06-07T00:32:24",{"$f":"LEFT(tblSalaries[[#This Row],[Timestamp]],FIND(\".\",tblSalaries[[#This Row],[Timestamp]],1))","v":"41067."},"500000vINR",500000,"INR",{"$f":"tblSalaries[[#This Row],[clean Salary (in local currency)]]*VLOOKUP(tblSalaries[[#This Row],[Currency]],tblXrate[],2,FALSE)","v":8903.9583437212841},"Business Analyst","Analyst","India",{"$f":"VLOOKUP(tblSalaries[[#This Row],[Where do you work]],tblCountries[[Actual]:[Mapping]],2,FALSE)","v":"India"},{"$f":"VLOOKUP(tblSalaries[[#This Row],[clean Country]]&\"*\",Cont_Table,2,0)","v":"Asia"},"4 to 6 hours a day",2]
[null,"ID1729","2012-06-07T06:22:17",{"$f":"LEFT(tblSalaries[[#This Row],[Timestamp]],FIND(\".\",tblSalaries[[#This Row],[Timestamp]],1))","v":"41067."},"Â£27000",27000,"GBP",{"$f":"tblSalaries[[#This Row],[clean Salary (in local currency)]]*VLOOKUP(tblSalaries[[#This Row],[Currency]],tblXrate[],2,FALSE)","v":42556.81334581667},"Network Designer","Analyst","UK",{"$f":"VLOOKUP(tblSalaries[[#This Row],[Where do you work]],tblCountries[[Actual]:[Mapping]],2,FALSE)","v":"UK"},{"$f":"VLOOKUP(tblSalaries[[#This Row],[clean Country]]&\"*\",Cont_Table,2,0)","v":"Europe"},"4 to 6 hours a day",2]
[null,"ID1730","2012-06-07T08:36:51",{"$f":"LEFT(tblSalaries[[#This Row],[Timestamp]],FIND(\".\",tblSalaries[[#This Row],[Timestamp]],1))","v":"41067."},134000,134000,"CAD",{"$f":"tblSalaries[[#This Row],[clean Salary (in local currency)]]*VLOOKUP(tblSalaries[[#This Row],[Currency]],tblXrate[],2,FALSE)","v":131770.4440860638},"Senior Production Accountant","Accountant","Canada",{"$f":"VLOOKUP(tblSalaries[[#This Row],[Where do you work]],tblCountries[[Actual]:[Mapping]],2,FALSE)","v":"Canada"},{"$f":"VLOOKUP(tblSalaries[[#This Row],[clean Country]]&\"*\",Cont_Table,2,0)","v":"North America"},"All the 8 hours baby, all the 8!",20]
[null,"ID1731","2012-06-07T09:25:45",{"$f":"LEFT(tblSalaries[[#This Row],[Timestamp]],FIND(\".\",tblSalaries[[#This Row],[Timestamp]],1))","v":"41067."},70000,70000,"CAD",{"$f":"tblSalaries[[#This Row],[clean Salary (in local currency)]]*VLOOKUP(tblSalaries[[#This Row],[Currency]],tblXrate[],2,FALSE)","v":68835.306612122877},"Financial Analyst","Analyst","Canada",{"$f":"VLOOKUP(tblSalaries[[#This Row],[Where do you work]],tblCountries[[Actual]:[Mapping]],2,FALSE)","v":"Canada"},{"$f":"VLOOKUP(tblSalaries[[#This Row],[clean Country]]&\"*\",Cont_Table,2,0)","v":"North America"},"All the 8 hours baby, all the 8!",2]
[null,"ID1732","2012-06-07T14:06:38",{"$f":"LEFT(tblSalaries[[#This Row],[Timestamp]],FIND(\".\",tblSalaries[[#This Row],[Timestamp]],1))","v":"41067."},"6000 US",6000,"USD",{"$f":"tblSalaries[[#This Row],[clean Salary (in local currency)]]*VLOOKUP(tblSalaries[[#This Row],[Currency]],tblXrate[],2,FALSE)","v":6000},"Reporting Coordinator","Reporting","Armenia",{"$f":"VLOOKUP(tblSalaries[[#This Row],[Where do you work]],tblCountries[[Actual]:[Mapping]],2,FALSE)","v":"Armenia"},{"$f":"VLOOKUP(tblSalaries[[#This Row],[clean Country]]&\"*\",Cont_Table,2,0)","v":"Asia"},"All the 8 hours baby, all the 8!",5]
[null,"ID1733","2012-06-07T15:19:53",{"$f":"LEFT(tblSalaries[[#This Row],[Timestamp]],FIND(\".\",tblSalaries[[#This Row],[Timestamp]],1))","v":"41067."},50000,50000,"GBP",{"$f":"tblSalaries[[#This Row],[clean Salary (in local currency)]]*VLOOKUP(tblSalaries[[#This Row],[Currency]],tblXrate[],2,FALSE)","v":78808.913603364199},"Research Analyst","Analyst","UK",{"$f":"VLOOKUP(tblSalaries[[#This Row],[Where do you work]],tblCountries[[Actual]:[Mapping]],2,FALSE)","v":"UK"},{"$f":"VLOOKUP(tblSalaries[[#This Row],[clean Country]]&\"*\",Cont_Table,2,0)","v":"Europe"},"2 to 3 hours per day",2]
[null,"ID1734","2012-06-07T16:45:01",{"$f":"LEFT(tblSalaries[[#This Row],[Timestamp]],FIND(\".\",tblSalaries[[#This Row],[Timestamp]],1))","v":"41067."},421000,421000,"INR",{"$f":"tblSalaries[[#This Row],[clean Salary (in local currency)]]*VLOOKUP(tblSalaries[[#This Row],[Currency]],tblXrate[],2,FALSE)","v":7497.1329254133216},"PMO Analyst","Analyst","India",{"$f":"VLOOKUP(tblSalaries[[#This Row],[Where do you work]],tblCountries[[Actual]:[Mapping]],2,FALSE)","v":"India"},{"$f":"VLOOKUP(tblSalaries[[#This Row],[clean Country]]&\"*\",Cont_Table,2,0)","v":"Asia"},"4 to 6 hours a day",4]
[null,"ID1735","2012-06-07T16:53:54",{"$f":"LEFT(tblSalaries[[#This Row],[Timestamp]],FIND(\".\",tblSalaries[[#This Row],[Timestamp]],1))","v":"41067."},10000,10000,"USD",{"$f":"tblSalaries[[#This Row],[clean Salary (in local currency)]]*VLOOKUP(tblSalaries[[#This Row],[Currency]],tblXrate[],2,FALSE)","v":10000},"AGM - Operations & Customer Support","Manager","India",{"$f":"VLOOKUP(tblSalaries[[#This Row],[Where do you work]],tblCountries[[Actual]:[Mapping]],2,FALSE)","v":"India"},{"$f":"VLOOKUP(tblSalaries[[#This Row],[clean Country]]&\"*\",Cont_Table,2,0)","v":"Asia"},"4 to 6 hours a day",11]
[null,"ID1736","2012-06-07T17:09:18",{"$f":"LEFT(tblSalaries[[#This Row],[Timestamp]],FIND(\".\",tblSalaries[[#This Row],[Timestamp]],1))","v":"41067."},360000,360000,"INR",{"$f":"tblSalaries[[#This Row],[clean Salary (in local currency)]]*VLOOKUP(tblSalaries[[#This Row],[Currency]],tblXrate[],2,FALSE)","v":6410.8500074793246},"Baan ERP Functional Consultant","Consultant","India",{"$f":"VLOOKUP(tblSalaries[[#This Row],[Where do you work]],tblCountries[[Actual]:[Mapping]],2,FALSE)","v":"India"},{"$f":"VLOOKUP(tblSalaries[[#This Row],[clean Country]]&\"*\",Cont_Table,2,0)","v":"Asia"},"1 or 2 hours a day",2]
[null,"ID1737","2012-06-07T17:13:42",{"$f":"LEFT(tblSalaries[[#This Row],[Timestamp]],FIND(\".\",tblSalaries[[#This Row],[Timestamp]],1))","v":"41067."},40000,40000,"GBP",{"$f":"tblSalaries[[#This Row],[clean Salary (in local currency)]]*VLOOKUP(tblSalaries[[#This Row],[Currency]],tblXrate[],2,FALSE)","v":63047.130882691366},"Analyst","Analyst","UK",{"$f":"VLOOKUP(tblSalaries[[#This Row],[Where do you work]],tblCountries[[Actual]:[Mapping]],2,FALSE)","v":"UK"},{"$f":"VLOOKUP(tblSalaries[[#This Row],[clean Country]]&\"*\",Cont_Table,2,0)","v":"Europe"},"4 to 6 hours a day",5]
[null,"ID1738","2012-06-07T20:10:41",{"$f":"LEFT(tblSalaries[[#This Row],[Timestamp]],FIND(\".\",tblSalaries[[#This Row],[Timestamp]],1))","v":"41067."},60000,60000,"AUD",{"$f":"tblSalaries[[#This Row],[clean Salary (in local currency)]]*VLOOKUP(tblSalaries[[#This Row],[Currency]],tblXrate[],2,FALSE)","v":61194.579384158147},"business analyst","Analyst","Australia",{"$f":"VLOOKUP(tblSalaries[[#This Row],[Where do you work]],tblCountries[[Actual]:[Mapping]],2,FALSE)","v":"Australia"},{"$f":"VLOOKUP(tblSalaries[[#This Row],[clean Country]]&\"*\",Cont_Table,2,0)","v":"Australia"},"2 to 3 hours per day",3]
[null,"ID1739","2012-06-07T20:48:04",{"$f":"LEFT(tblSalaries[[#This Row],[Timestamp]],FIND(\".\",tblSalaries[[#This Row],[Timestamp]],1))","v":"41067."},"Â£73000",73000,"GBP",{"$f":"tblSalaries[[#This Row],[clean Salary (in local currency)]]*VLOOKUP(tblSalaries[[#This Row],[Currency]],tblXrate[],2,FALSE)","v":115061.01386091174},"Financial Controller","Controller","UK",{"$f":"VLOOKUP(tblSalaries[[#This Row],[Where do you work]],tblCountries[[Actual]:[Mapping]],2,FALSE)","v":"UK"},{"$f":"VLOOKUP(tblSalaries[[#This Row],[clean Country]]&\"*\",Cont_Table,2,0)","v":"Europe"},"4 to 6 hours a day",8]
[null,"ID1740","2012-06-07T23:33:23",{"$f":"LEFT(tblSalaries[[#This Row],[Timestamp]],FIND(\".\",tblSalaries[[#This Row],[Timestamp]],1))","v":"41067."},45000,45000,"USD",{"$f":"tblSalaries[[#This Row],[clean Salary (in local currency)]]*VLOOKUP(tblSalaries[[#This Row],[Currency]],tblXrate[],2,FALSE)","v":45000},"Sourcing Analyst","Analyst","USA",{"$f":"VLOOKUP(tblSalaries[[#This Row],[Where do you work]],tblCountries[[Actual]:[Mapping]],2,FALSE)","v":"USA"},{"$f":"VLOOKUP(tblSalaries[[#This Row],[clean Country]]&\"*\",Cont_Table,2,0)","v":"North America"},"All the 8 hours baby, all the 8!",2]
[null,"ID1741","2012-06-07T23:48:29",{"$f":"LEFT(tblSalaries[[#This Row],[Timestamp]],FIND(\".\",tblSalaries[[#This Row],[Timestamp]],1))","v":"41067."},36000,36000,"USD",{"$f":"tblSalaries[[#This Row],[clean Salary (in local currency)]]*VLOOKUP(tblSalaries[[#This Row],[Currency]],tblXrate[],2,FALSE)","v":36000},"clerk","Analyst","USA",{"$f":"VLOOKUP(tblSalaries[[#This Row],[Where do you work]],tblCountries[[Actual]:[Mapping]],2,FALSE)","v":"USA"},{"$f":"VLOOKUP(tblSalaries[[#This Row],[clean Country]]&\"*\",Cont_Table,2,0)","v":"North America"},"4 to 6 hours a day",4]
[null,"ID1742","2012-06-08T00:01:49",{"$f":"LEFT(tblSalaries[[#This Row],[Timestamp]],FIND(\".\",tblSalaries[[#This Row],[Timestamp]],1))","v":"41068."},68000,68000,"USD",{"$f":"tblSalaries[[#This Row],[clean Salary (in local currency)]]*VLOOKUP(tblSalaries[[#This Row],[Currency]],tblXrate[],2,FALSE)","v":68000},"Tax Associate","Analyst","USA",{"$f":"VLOOKUP(tblSalaries[[#This Row],[Where do you work]],tblCountries[[Actual]:[Mapping]],2,FALSE)","v":"USA"},{"$f":"VLOOKUP(tblSalaries[[#This Row],[clean Country]]&\"*\",Cont_Table,2,0)","v":"North America"},"4 to 6 hours a day",2.5]
[null,"ID1743","2012-06-08T00:21:23",{"$f":"LEFT(tblSalaries[[#This Row],[Timestamp]],FIND(\".\",tblSalaries[[#This Row],[Timestamp]],1))","v":"41068."},75000,75000,"USD",{"$f":"tblSalaries[[#This Row],[clean Salary (in local currency)]]*VLOOKUP(tblSalaries[[#This Row],[Currency]],tblXrate[],2,FALSE)","v":75000},"Senior Financial Analyst","Analyst","USA",{"$f":"VLOOKUP(tblSalaries[[#This Row],[Where do you work]],tblCountries[[Actual]:[Mapping]],2,FALSE)","v":"USA"},{"$f":"VLOOKUP(tblSalaries[[#This Row],[clean Country]]&\"*\",Cont_Table,2,0)","v":"North America"},"All the 8 hours baby, all the 8!",5]
[null,"ID1744","2012-06-08T02:27:13",{"$f":"LEFT(tblSalaries[[#This Row],[Timestamp]],FIND(\".\",tblSalaries[[#This Row],[Timestamp]],1))","v":"41068."},88000,88000,"USD",{"$f":"tblSalaries[[#This Row],[clean Salary (in local currency)]]*VLOOKUP(tblSalaries[[#This Row],[Currency]],tblXrate[],2,FALSE)","v":88000},"Senior Fiancial Analyst","Analyst","USA",{"$f":"VLOOKUP(tblSalaries[[#This Row],[Where do you work]],tblCountries[[Actual]:[Mapping]],2,FALSE)","v":"USA"},{"$f":"VLOOKUP(tblSalaries[[#This Row],[clean Country]]&\"*\",Cont_Table,2,0)","v":"North America"},"All the 8 hours baby, all the 8!",10]
[null,"ID1745","2012-06-08T02:28:45",{"$f":"LEFT(tblSalaries[[#This Row],[Timestamp]],FIND(\".\",tblSalaries[[#This Row],[Timestamp]],1))","v":"41068."},"Rs. 21500",258000,"INR",{"$f":"tblSalaries[[#This Row],[clean Salary (in local currency)]]*VLOOKUP(tblSalaries[[#This Row],[Currency]],tblXrate[],2,FALSE)","v":4594.4425053601826},"Senior Data Associate","Analyst","India",{"$f":"VLOOKUP(tblSalaries[[#This Row],[Where do you work]],tblCountries[[Actual]:[Mapping]],2,FALSE)","v":"India"},{"$f":"VLOOKUP(tblSalaries[[#This Row],[clean Country]]&\"*\",Cont_Table,2,0)","v":"Asia"},"4 to 6 hours a day",4]
[null,"ID1746","2012-06-08T03:23:20",{"$f":"LEFT(tblSalaries[[#This Row],[Timestamp]],FIND(\".\",tblSalaries[[#This Row],[Timestamp]],1))","v":"41068."},69000,69000,"USD",{"$f":"tblSalaries[[#This Row],[clean Salary (in local currency)]]*VLOOKUP(tblSalaries[[#This Row],[Currency]],tblXrate[],2,FALSE)","v":69000},"Business Analyst II","Analyst","USA",{"$f":"VLOOKUP(tblSalaries[[#This Row],[Where do you work]],tblCountries[[Actual]:[Mapping]],2,FALSE)","v":"USA"},{"$f":"VLOOKUP(tblSalaries[[#This Row],[clean Country]]&\"*\",Cont_Table,2,0)","v":"North America"},"All the 8 hours baby, all the 8!",15]
[null,"ID1747","2012-06-08T03:34:51",{"$f":"LEFT(tblSalaries[[#This Row],[Timestamp]],FIND(\".\",tblSalaries[[#This Row],[Timestamp]],1))","v":"41068."},30000,30000,"USD",{"$f":"tblSalaries[[#This Row],[clean Salary (in local currency)]]*VLOOKUP(tblSalaries[[#This Row],[Currency]],tblXrate[],2,FALSE)","v":30000},"Inventory Manager","Manager","USA",{"$f":"VLOOKUP(tblSalaries[[#This Row],[Where do you work]],tblCountries[[Actual]:[Mapping]],2,FALSE)","v":"USA"},{"$f":"VLOOKUP(tblSalaries[[#This Row],[clean Country]]&\"*\",Cont_Table,2,0)","v":"North America"},"4 to 6 hours a day",1]
[null,"ID1748","2012-06-08T04:51:45",{"$f":"LEFT(tblSalaries[[#This Row],[Timestamp]],FIND(\".\",tblSalaries[[#This Row],[Timestamp]],1))","v":"41068."},80000,80000,"USD",{"$f":"tblSalaries[[#This Row],[clean Salary (in local currency)]]*VLOOKUP(tblSalaries[[#This Row],[Currency]],tblXrate[],2,FALSE)","v":80000},"Sales / Finance Manager","Manager","USA",{"$f":"VLOOKUP(tblSalaries[[#This Row],[Where do you work]],tblCountries[[Actual]:[Mapping]],2,FALSE)","v":"USA"},{"$f":"VLOOKUP(tblSalaries[[#This Row],[clean Country]]&\"*\",Cont_Table,2,0)","v":"North America"},"4 to 6 hours a day",7]
[null,"ID1749","2012-06-08T06:42:32",{"$f":"LEFT(tblSalaries[[#This Row],[Timestamp]],FIND(\".\",tblSalaries[[#This Row],[Timestamp]],1))","v":"41068."},75000,75000,"USD",{"$f":"tblSalaries[[#This Row],[clean Salary (in local currency)]]*VLOOKUP(tblSalaries[[#This Row],[Currency]],tblXrate[],2,FALSE)","v":75000},"actuary","Accountant","USA",{"$f":"VLOOKUP(tblSalaries[[#This Row],[Where do you work]],tblCountries[[Actual]:[Mapping]],2,FALSE)","v":"USA"},{"$f":"VLOOKUP(tblSalaries[[#This Row],[clean Country]]&\"*\",Cont_Table,2,0)","v":"North America"},"All the 8 hours baby, all the 8!",1]
[null,"ID1750","2012-06-08T08:15:54",{"$f":"LEFT(tblSalaries[[#This Row],[Timestamp]],FIND(\".\",tblSalaries[[#This Row],[Timestamp]],1))","v":"41068."},31200,31200,"USD",{"$f":"tblSalaries[[#This Row],[clean Salary (in local currency)]]*VLOOKUP(tblSalaries[[#This Row],[Currency]],tblXrate[],2,FALSE)","v":31200},"Risk analyst","Analyst","Brazil",{"$f":"VLOOKUP(tblSalaries[[#This Row],[Where do you work]],tblCountries[[Actual]:[Mapping]],2,FALSE)","v":"Brazil"},{"$f":"VLOOKUP(tblSalaries[[#This Row],[clean Country]]&\"*\",Cont_Table,2,0)","v":"South America"},"4 to 6 hours a day",4]
[null,"ID1751","2012-06-08T09:46:59",{"$f":"LEFT(tblSalaries[[#This Row],[Timestamp]],FIND(\".\",tblSalaries[[#This Row],[Timestamp]],1))","v":"41068."},85000,85000,"USD",{"$f":"tblSalaries[[#This Row],[clean Salary (in local currency)]]*VLOOKUP(tblSalaries[[#This Row],[Currency]],tblXrate[],2,FALSE)","v":85000},"Actuary","Accountant","USA",{"$f":"VLOOKUP(tblSalaries[[#This Row],[Where do you work]],tblCountries[[Actual]:[Mapping]],2,FALSE)","v":"USA"},{"$f":"VLOOKUP(tblSalaries[[#This Row],[clean Country]]&\"*\",Cont_Table,2,0)","v":"North America"},"4 to 6 hours a day",20]
[null,"ID1752","2012-06-08T13:38:45",{"$f":"LEFT(tblSalaries[[#This Row],[Timestamp]],FIND(\".\",tblSalaries[[#This Row],[Timestamp]],1))","v":"41068."},"9,50,000",950000,"INR",{"$f":"tblSalaries[[#This Row],[clean Salary (in local currency)]]*VLOOKUP(tblSalaries[[#This Row],[Currency]],tblXrate[],2,FALSE)","v":16917.52085307044},"Associate Manager, Drug Safety Operations","Manager","India",{"$f":"VLOOKUP(tblSalaries[[#This Row],[Where do you work]],tblCountries[[Actual]:[Mapping]],2,FALSE)","v":"India"},{"$f":"VLOOKUP(tblSalaries[[#This Row],[clean Country]]&\"*\",Cont_Table,2,0)","v":"Asia"},"2 to 3 hours per day",9]
[null,"ID1753","2012-06-08T13:55:44",{"$f":"LEFT(tblSalaries[[#This Row],[Timestamp]],FIND(\".\",tblSalaries[[#This Row],[Timestamp]],1))","v":"41068."},"15000inr",180000,"INR",{"$f":"tblSalaries[[#This Row],[clean Salary (in local currency)]]*VLOOKUP(tblSalaries[[#This Row],[Currency]],tblXrate[],2,FALSE)","v":3205.4250037396623},"mis","Reporting","India",{"$f":"VLOOKUP(tblSalaries[[#This Row],[Where do you work]],tblCountries[[Actual]:[Mapping]],2,FALSE)","v":"India"},{"$f":"VLOOKUP(tblSalaries[[#This Row],[clean Country]]&\"*\",Cont_Table,2,0)","v":"Asia"},"4 to 6 hours a day",2]
[null,"ID1754","2012-06-08T14:43:05",{"$f":"LEFT(tblSalaries[[#This Row],[Timestamp]],FIND(\".\",tblSalaries[[#This Row],[Timestamp]],1))","v":"41068."},60000,60000,"USD",{"$f":"tblSalaries[[#This Row],[clean Salary (in local currency)]]*VLOOKUP(tblSalaries[[#This Row],[Currency]],tblXrate[],2,FALSE)","v":60000},"Project Lead ","Manager","USA",{"$f":"VLOOKUP(tblSalaries[[#This Row],[Where do you work]],tblCountries[[Actual]:[Mapping]],2,FALSE)","v":"USA"},{"$f":"VLOOKUP(tblSalaries[[#This Row],[clean Country]]&\"*\",Cont_Table,2,0)","v":"North America"},"All the 8 hours baby, all the 8!",2]
[null,"ID1755","2012-06-08T14:43:40",{"$f":"LEFT(tblSalaries[[#This Row],[Timestamp]],FIND(\".\",tblSalaries[[#This Row],[Timestamp]],1))","v":"41068."},60000,60000,"USD",{"$f":"tblSalaries[[#This Row],[clean Salary (in local currency)]]*VLOOKUP(tblSalaries[[#This Row],[Currency]],tblXrate[],2,FALSE)","v":60000},"Project Lead ","Manager","USA",{"$f":"VLOOKUP(tblSalaries[[#This Row],[Where do you work]],tblCountries[[Actual]:[Mapping]],2,FALSE)","v":"USA"},{"$f":"VLOOKUP(tblSalaries[[#This Row],[clean Country]]&\"*\",Cont_Table,2,0)","v":"North America"},"All the 8 hours baby, all the 8!",2]
[null,"ID1756","2012-06-08T15:43:16",{"$f":"LEFT(tblSalaries[[#This Row],[Timestamp]],FIND(\".\",tblSalaries[[#This Row],[Timestamp]],1))","v":"41068."},"INR800000",800000,"INR",{"$f":"tblSalaries[[#This Row],[clean Salary (in local currency)]]*VLOOKUP(tblSalaries[[#This Row],[Currency]],tblXrate[],2,FALSE)","v":14246.333349954055},"MANAGER","Manager","India",{"$f":"VLOOKUP(tblSalaries[[#This Row],[Where do you work]],tblCountries[[Actual]:[Mapping]],2,FALSE)","v":"India"},{"$f":"VLOOKUP(tblSalaries[[#This Row],[clean Country]]&\"*\",Cont_Table,2,0)","v":"Asia"},"2 to 3 hours per day",0]
[null,"ID1757","2012-06-08T15:45:14",{"$f":"LEFT(tblSalaries[[#This Row],[Timestamp]],FIND(\".\",tblSalaries[[#This Row],[Timestamp]],1))","v":"41068."},800000,800000,"INR",{"$f":"tblSalaries[[#This Row],[clean Salary (in local currency)]]*VLOOKUP(tblSalaries[[#This Row],[Currency]],tblXrate[],2,FALSE)","v":14246.333349954055},"MANAGER","Manager","India",{"$f":"VLOOKUP(tblSalaries[[#This Row],[Where do you work]],tblCountries[[Actual]:[Mapping]],2,FALSE)","v":"India"},{"$f":"VLOOKUP(tblSalaries[[#This Row],[clean Country]]&\"*\",Cont_Table,2,0)","v":"Asia"},"2 to 3 hours per day",0]
[null,"ID1758","2012-06-08T18:48:12",{"$f":"LEFT(tblSalaries[[#This Row],[Timestamp]],FIND(\".\",tblSalaries[[#This Row],[Timestamp]],1))","v":"41068."},28995,28995,"USD",{"$f":"tblSalaries[[#This Row],[clean Salary (in local currency)]]*VLOOKUP(tblSalaries[[#This Row],[Currency]],tblXrate[],2,FALSE)","v":28995},"Senior Executive","Manager","India",{"$f":"VLOOKUP(tblSalaries[[#This Row],[Where do you work]],tblCountries[[Actual]:[Mapping]],2,FALSE)","v":"India"},{"$f":"VLOOKUP(tblSalaries[[#This Row],[clean Country]]&\"*\",Cont_Table,2,0)","v":"Asia"},"4 to 6 hours a day",6]
[null,"ID1759","2012-06-08T18:52:06",{"$f":"LEFT(tblSalaries[[#This Row],[Timestamp]],FIND(\".\",tblSalaries[[#This Row],[Timestamp]],1))","v":"41068."},1230000,1230000,"INR",{"$f":"tblSalaries[[#This Row],[clean Salary (in local currency)]]*VLOOKUP(tblSalaries[[#This Row],[Currency]],tblXrate[],2,FALSE)","v":21903.737525554359},"Financial Analyst ","Analyst","India",{"$f":"VLOOKUP(tblSalaries[[#This Row],[Where do you work]],tblCountries[[Actual]:[Mapping]],2,FALSE)","v":"India"},{"$f":"VLOOKUP(tblSalaries[[#This Row],[clean Country]]&\"*\",Cont_Table,2,0)","v":"Asia"},"All the 8 hours baby, all the 8!",3]
[null,"ID1760","2012-06-08T18:52:44",{"$f":"LEFT(tblSalaries[[#This Row],[Timestamp]],FIND(\".\",tblSalaries[[#This Row],[Timestamp]],1))","v":"41068."},1130000,1130000,"INR",{"$f":"tblSalaries[[#This Row],[clean Salary (in local currency)]]*VLOOKUP(tblSalaries[[#This Row],[Currency]],tblXrate[],2,FALSE)","v":20122.945856810104},"Financial Analyst ","Analyst","India",{"$f":"VLOOKUP(tblSalaries[[#This Row],[Where do you work]],tblCountries[[Actual]:[Mapping]],2,FALSE)","v":"India"},{"$f":"VLOOKUP(tblSalaries[[#This Row],[clean Country]]&\"*\",Cont_Table,2,0)","v":"Asia"},"All the 8 hours baby, all the 8!",3]
[null,"ID1761","2012-06-08T20:47:58",{"$f":"LEFT(tblSalaries[[#This Row],[Timestamp]],FIND(\".\",tblSalaries[[#This Row],[Timestamp]],1))","v":"41068."},45000,45000,"GBP",{"$f":"tblSalaries[[#This Row],[clean Salary (in local currency)]]*VLOOKUP(tblSalaries[[#This Row],[Currency]],tblXrate[],2,FALSE)","v":70928.022243027779},"bUSINESS aNALYST","Analyst","UK",{"$f":"VLOOKUP(tblSalaries[[#This Row],[Where do you work]],tblCountries[[Actual]:[Mapping]],2,FALSE)","v":"UK"},{"$f":"VLOOKUP(tblSalaries[[#This Row],[clean Country]]&\"*\",Cont_Table,2,0)","v":"Europe"},"All the 8 hours baby, all the 8!",20]
[null,"ID1762","2012-06-08T21:00:25",{"$f":"LEFT(tblSalaries[[#This Row],[Timestamp]],FIND(\".\",tblSalaries[[#This Row],[Timestamp]],1))","v":"41068."},67000,67000,"USD",{"$f":"tblSalaries[[#This Row],[clean Salary (in local currency)]]*VLOOKUP(tblSalaries[[#This Row],[Currency]],tblXrate[],2,FALSE)","v":67000},"Manager","Manager","USA",{"$f":"VLOOKUP(tblSalaries[[#This Row],[Where do you work]],tblCountries[[Actual]:[Mapping]],2,FALSE)","v":"USA"},{"$f":"VLOOKUP(tblSalaries[[#This Row],[clean Country]]&\"*\",Cont_Table,2,0)","v":"North America"},"4 to 6 hours a day",16]
[null,"ID1763","2012-06-08T21:02:48",{"$f":"LEFT(tblSalaries[[#This Row],[Timestamp]],FIND(\".\",tblSalaries[[#This Row],[Timestamp]],1))","v":"41068."},30000,30000,"USD",{"$f":"tblSalaries[[#This Row],[clean Salary (in local currency)]]*VLOOKUP(tblSalaries[[#This Row],[Currency]],tblXrate[],2,FALSE)","v":30000},"Customer Service","Analyst","USA",{"$f":"VLOOKUP(tblSalaries[[#This Row],[Where do you work]],tblCountries[[Actual]:[Mapping]],2,FALSE)","v":"USA"},{"$f":"VLOOKUP(tblSalaries[[#This Row],[clean Country]]&\"*\",Cont_Table,2,0)","v":"North America"},"2 to 3 hours per day",4]
[null,"ID1764","2012-06-08T22:48:39",{"$f":"LEFT(tblSalaries[[#This Row],[Timestamp]],FIND(\".\",tblSalaries[[#This Row],[Timestamp]],1))","v":"41068."},"CHF140000",140000,"CHF",{"$f":"tblSalaries[[#This Row],[clean Salary (in local currency)]]*VLOOKUP(tblSalaries[[#This Row],[Currency]],tblXrate[],2,FALSE)","v":148102.22862117883},"Projektleiter","Manager","Switzerland",{"$f":"VLOOKUP(tblSalaries[[#This Row],[Where do you work]],tblCountries[[Actual]:[Mapping]],2,FALSE)","v":"Switzerland"},{"$f":"VLOOKUP(tblSalaries[[#This Row],[clean Country]]&\"*\",Cont_Table,2,0)","v":"Europe"},"2 to 3 hours per day",6]
[null,"ID1765","2012-06-08T23:20:36",{"$f":"LEFT(tblSalaries[[#This Row],[Timestamp]],FIND(\".\",tblSalaries[[#This Row],[Timestamp]],1))","v":"41068."},71500,71500,"USD",{"$f":"tblSalaries[[#This Row],[clean Salary (in local currency)]]*VLOOKUP(tblSalaries[[#This Row],[Currency]],tblXrate[],2,FALSE)","v":71500},"Pricing Manager","Manager","USA",{"$f":"VLOOKUP(tblSalaries[[#This Row],[Where do you work]],tblCountries[[Actual]:[Mapping]],2,FALSE)","v":"USA"},{"$f":"VLOOKUP(tblSalaries[[#This Row],[clean Country]]&\"*\",Cont_Table,2,0)","v":"North America"},"All the 8 hours baby, all the 8!",11]
[null,"ID1766","2012-06-08T23:46:11",{"$f":"LEFT(tblSalaries[[#This Row],[Timestamp]],FIND(\".\",tblSalaries[[#This Row],[Timestamp]],1))","v":"41068."},67000,67000,"USD",{"$f":"tblSalaries[[#This Row],[clean Salary (in local currency)]]*VLOOKUP(tblSalaries[[#This Row],[Currency]],tblXrate[],2,FALSE)","v":67000},"Manager","Manager","USA",{"$f":"VLOOKUP(tblSalaries[[#This Row],[Where do you work]],tblCountries[[Actual]:[Mapping]],2,FALSE)","v":"USA"},{"$f":"VLOOKUP(tblSalaries[[#This Row],[clean Country]]&\"*\",Cont_Table,2,0)","v":"North America"},"Excel ?!? What Excel?",6]
[null,"ID1767","2012-06-09T00:49:07",{"$f":"LEFT(tblSalaries[[#This Row],[Timestamp]],FIND(\".\",tblSalaries[[#This Row],[Timestamp]],1))","v":"41069."},40000,40000,"USD",{"$f":"tblSalaries[[#This Row],[clean Salary (in local currency)]]*VLOOKUP(tblSalaries[[#This Row],[Currency]],tblXrate[],2,FALSE)","v":40000},"Market Research Analyst","Analyst","USA",{"$f":"VLOOKUP(tblSalaries[[#This Row],[Where do you work]],tblCountries[[Actual]:[Mapping]],2,FALSE)","v":"USA"},{"$f":"VLOOKUP(tblSalaries[[#This Row],[clean Country]]&\"*\",Cont_Table,2,0)","v":"North America"},"4 to 6 hours a day",5]
[null,"ID1768","2012-06-09T01:15:44",{"$f":"LEFT(tblSalaries[[#This Row],[Timestamp]],FIND(\".\",tblSalaries[[#This Row],[Timestamp]],1))","v":"41069."},65000,65000,"USD",{"$f":"tblSalaries[[#This Row],[clean Salary (in local currency)]]*VLOOKUP(tblSalaries[[#This Row],[Currency]],tblXrate[],2,FALSE)","v":65000},"Compliance Officer","Manager","USA",{"$f":"VLOOKUP(tblSalaries[[#This Row],[Where do you work]],tblCountries[[Actual]:[Mapping]],2,FALSE)","v":"USA"},{"$f":"VLOOKUP(tblSalaries[[#This Row],[clean Country]]&\"*\",Cont_Table,2,0)","v":"North America"},"4 to 6 hours a day",2]
[null,"ID1769","2012-06-09T01:47:30",{"$f":"LEFT(tblSalaries[[#This Row],[Timestamp]],FIND(\".\",tblSalaries[[#This Row],[Timestamp]],1))","v":"41069."},72000,72000,"USD",{"$f":"tblSalaries[[#This Row],[clean Salary (in local currency)]]*VLOOKUP(tblSalaries[[#This Row],[Currency]],tblXrate[],2,FALSE)","v":72000},"Consultant","Consultant","USA",{"$f":"VLOOKUP(tblSalaries[[#This Row],[Where do you work]],tblCountries[[Actual]:[Mapping]],2,FALSE)","v":"USA"},{"$f":"VLOOKUP(tblSalaries[[#This Row],[clean Country]]&\"*\",Cont_Table,2,0)","v":"North America"},"2 to 3 hours per day",13]
[null,"ID1770","2012-06-09T03:20:15",{"$f":"LEFT(tblSalaries[[#This Row],[Timestamp]],FIND(\".\",tblSalaries[[#This Row],[Timestamp]],1))","v":"41069."},52500,52500,"USD",{"$f":"tblSalaries[[#This Row],[clean Salary (in local currency)]]*VLOOKUP(tblSalaries[[#This Row],[Currency]],tblXrate[],2,FALSE)","v":52500},"Data Management Solutions Supervisor","Manager","USA",{"$f":"VLOOKUP(tblSalaries[[#This Row],[Where do you work]],tblCountries[[Actual]:[Mapping]],2,FALSE)","v":"USA"},{"$f":"VLOOKUP(tblSalaries[[#This Row],[clean Country]]&\"*\",Cont_Table,2,0)","v":"North America"},"All the 8 hours baby, all the 8!",3]
[null,"ID1771","2012-06-09T12:01:19",{"$f":"LEFT(tblSalaries[[#This Row],[Timestamp]],FIND(\".\",tblSalaries[[#This Row],[Timestamp]],1))","v":"41069."},444,5320,"USD",{"$f":"tblSalaries[[#This Row],[clean Salary (in local currency)]]*VLOOKUP(tblSalaries[[#This Row],[Currency]],tblXrate[],2,FALSE)","v":5320},"Officer","Manager","India",{"$f":"VLOOKUP(tblSalaries[[#This Row],[Where do you work]],tblCountries[[Actual]:[Mapping]],2,FALSE)","v":"India"},{"$f":"VLOOKUP(tblSalaries[[#This Row],[clean Country]]&\"*\",Cont_Table,2,0)","v":"Asia"},"2 to 3 hours per day",5]
[null,"ID1772","2012-06-09T20:38:03",{"$f":"LEFT(tblSalaries[[#This Row],[Timestamp]],FIND(\".\",tblSalaries[[#This Row],[Timestamp]],1))","v":"41069."},1500,18000,"USD",{"$f":"tblSalaries[[#This Row],[clean Salary (in local currency)]]*VLOOKUP(tblSalaries[[#This Row],[Currency]],tblXrate[],2,FALSE)","v":18000},"accountant","Accountant","uae",{"$f":"VLOOKUP(tblSalaries[[#This Row],[Where do you work]],tblCountries[[Actual]:[Mapping]],2,FALSE)","v":"UAE"},{"$f":"VLOOKUP(tblSalaries[[#This Row],[clean Country]]&\"*\",Cont_Table,2,0)","v":"Asia"},"All the 8 hours baby, all the 8!",3]
[null,"ID1773","2012-06-10T00:50:26",{"$f":"LEFT(tblSalaries[[#This Row],[Timestamp]],FIND(\".\",tblSalaries[[#This Row],[Timestamp]],1))","v":"41070."},"1.40 lac",140000,"INR",{"$f":"tblSalaries[[#This Row],[clean Salary (in local currency)]]*VLOOKUP(tblSalaries[[#This Row],[Currency]],tblXrate[],2,FALSE)","v":2493.1083362419595},"magic","Misc.","India",{"$f":"VLOOKUP(tblSalaries[[#This Row],[Where do you work]],tblCountries[[Actual]:[Mapping]],2,FALSE)","v":"India"},{"$f":"VLOOKUP(tblSalaries[[#This Row],[clean Country]]&\"*\",Cont_Table,2,0)","v":"Asia"},"4 to 6 hours a day",5]
[null,"ID1774","2012-06-10T01:48:44",{"$f":"LEFT(tblSalaries[[#This Row],[Timestamp]],FIND(\".\",tblSalaries[[#This Row],[Timestamp]],1))","v":"41070."},1400,16800,"EUR",{"$f":"tblSalaries[[#This Row],[clean Salary (in local currency)]]*VLOOKUP(tblSalaries[[#This Row],[Currency]],tblXrate[],2,FALSE)","v":21342.710575059013},"account","Accountant","portugal",{"$f":"VLOOKUP(tblSalaries[[#This Row],[Where do you work]],tblCountries[[Actual]:[Mapping]],2,FALSE)","v":"Portugal"},{"$f":"VLOOKUP(tblSalaries[[#This Row],[clean Country]]&\"*\",Cont_Table,2,0)","v":"Europe"},"4 to 6 hours a day",15]
[null,"ID1775","2012-06-10T02:20:05",{"$f":"LEFT(tblSalaries[[#This Row],[Timestamp]],FIND(\".\",tblSalaries[[#This Row],[Timestamp]],1))","v":"41070."},85000,85000,"USD",{"$f":"tblSalaries[[#This Row],[clean Salary (in local currency)]]*VLOOKUP(tblSalaries[[#This Row],[Currency]],tblXrate[],2,FALSE)","v":85000},"purchasing manager","Manager","USA",{"$f":"VLOOKUP(tblSalaries[[#This Row],[Where do you work]],tblCountries[[Actual]:[Mapping]],2,FALSE)","v":"USA"},{"$f":"VLOOKUP(tblSalaries[[#This Row],[clean Country]]&\"*\",Cont_Table,2,0)","v":"North America"},"2 to 3 hours per day",15]
[null,"ID1776","2012-06-10T02:29:57",{"$f":"LEFT(tblSalaries[[#This Row],[Timestamp]],FIND(\".\",tblSalaries[[#This Row],[Timestamp]],1))","v":"41070."},80000,80000,"USD",{"$f":"tblSalaries[[#This Row],[clean Salary (in local currency)]]*VLOOKUP(tblSalaries[[#This Row],[Currency]],tblXrate[],2,FALSE)","v":80000},"Engineer","Engineer","Brazil",{"$f":"VLOOKUP(tblSalaries[[#This Row],[Where do you work]],tblCountries[[Actual]:[Mapping]],2,FALSE)","v":"Brazil"},{"$f":"VLOOKUP(tblSalaries[[#This Row],[clean Country]]&\"*\",Cont_Table,2,0)","v":"South America"},"1 or 2 hours a day",9]
[null,"ID1777","2012-06-10T04:16:05",{"$f":"LEFT(tblSalaries[[#This Row],[Timestamp]],FIND(\".\",tblSalaries[[#This Row],[Timestamp]],1))","v":"41070."},500000,500000,"INR",{"$f":"tblSalaries[[#This Row],[clean Salary (in local currency)]]*VLOOKUP(tblSalaries[[#This Row],[Currency]],tblXrate[],2,FALSE)","v":8903.9583437212841},"equity research trainee","Analyst","India",{"$f":"VLOOKUP(tblSalaries[[#This Row],[Where do you work]],tblCountries[[Actual]:[Mapping]],2,FALSE)","v":"India"},{"$f":"VLOOKUP(tblSalaries[[#This Row],[clean Country]]&\"*\",Cont_Table,2,0)","v":"Asia"},"All the 8 hours baby, all the 8!",0]
[null,"ID1778","2012-06-10T12:31:48",{"$f":"LEFT(tblSalaries[[#This Row],[Timestamp]],FIND(\".\",tblSalaries[[#This Row],[Timestamp]],1))","v":"41070."},125000,125000,"USD",{"$f":"tblSalaries[[#This Row],[clean Salary (in local currency)]]*VLOOKUP(tblSalaries[[#This Row],[Currency]],tblXrate[],2,FALSE)","v":125000},"project manager","Manager","USA",{"$f":"VLOOKUP(tblSalaries[[#This Row],[Where do you work]],tblCountries[[Actual]:[Mapping]],2,FALSE)","v":"USA"},{"$f":"VLOOKUP(tblSalaries[[#This Row],[clean Country]]&\"*\",Cont_Table,2,0)","v":"North America"},"All the 8 hours baby, all the 8!",10]
[null,"ID1779","2012-06-10T14:58:39",{"$f":"LEFT(tblSalaries[[#This Row],[Timestamp]],FIND(\".\",tblSalaries[[#This Row],[Timestamp]],1))","v":"41070."},1300000,1300000,"INR",{"$f":"tblSalaries[[#This Row],[clean Salary (in local currency)]]*VLOOKUP(tblSalaries[[#This Row],[Currency]],tblXrate[],2,FALSE)","v":23150.291693675339},"Manager","Manager","India",{"$f":"VLOOKUP(tblSalaries[[#This Row],[Where do you work]],tblCountries[[Actual]:[Mapping]],2,FALSE)","v":"India"},{"$f":"VLOOKUP(tblSalaries[[#This Row],[clean Country]]&\"*\",Cont_Table,2,0)","v":"Asia"},"All the 8 hours baby, all the 8!",9]
[null,"ID1780","2012-06-10T15:20:01",{"$f":"LEFT(tblSalaries[[#This Row],[Timestamp]],FIND(\".\",tblSalaries[[#This Row],[Timestamp]],1))","v":"41070."},1000,12000,"USD",{"$f":"tblSalaries[[#This Row],[clean Salary (in local currency)]]*VLOOKUP(tblSalaries[[#This Row],[Currency]],tblXrate[],2,FALSE)","v":12000},"project engineer ","Engineer","India",{"$f":"VLOOKUP(tblSalaries[[#This Row],[Where do you work]],tblCountries[[Actual]:[Mapping]],2,FALSE)","v":"India"},{"$f":"VLOOKUP(tblSalaries[[#This Row],[clean Country]]&\"*\",Cont_Table,2,0)","v":"Asia"},"2 to 3 hours per day",7]
[null,"ID1781","2012-06-10T15:59:17",{"$f":"LEFT(tblSalaries[[#This Row],[Timestamp]],FIND(\".\",tblSalaries[[#This Row],[Timestamp]],1))","v":"41070."},30000,30000,"USD",{"$f":"tblSalaries[[#This Row],[clean Salary (in local currency)]]*VLOOKUP(tblSalaries[[#This Row],[Currency]],tblXrate[],2,FALSE)","v":30000},"Teacher","Analyst","Malaysia",{"$f":"VLOOKUP(tblSalaries[[#This Row],[Where do you work]],tblCountries[[Actual]:[Mapping]],2,FALSE)","v":"malaysia"},{"$f":"VLOOKUP(tblSalaries[[#This Row],[clean Country]]&\"*\",Cont_Table,2,0)","v":"Asia"},"1 or 2 hours a day",12]
[null,"ID1782","2012-06-10T17:21:08",{"$f":"LEFT(tblSalaries[[#This Row],[Timestamp]],FIND(\".\",tblSalaries[[#This Row],[Timestamp]],1))","v":"41070."},72000,72000,"EUR",{"$f":"tblSalaries[[#This Row],[clean Salary (in local currency)]]*VLOOKUP(tblSalaries[[#This Row],[Currency]],tblXrate[],2,FALSE)","v":91468.759607395754},"regional sales manager","Manager","croatia",{"$f":"VLOOKUP(tblSalaries[[#This Row],[Where do you work]],tblCountries[[Actual]:[Mapping]],2,FALSE)","v":"Croatia"},{"$f":"VLOOKUP(tblSalaries[[#This Row],[clean Country]]&\"*\",Cont_Table,2,0)","v":"Europe"},"1 or 2 hours a day",3]
[null,"ID1783","2012-06-10T20:30:23",{"$f":"LEFT(tblSalaries[[#This Row],[Timestamp]],FIND(\".\",tblSalaries[[#This Row],[Timestamp]],1))","v":"41070."},"Â£22300",22300,"GBP",{"$f":"tblSalaries[[#This Row],[clean Salary (in local currency)]]*VLOOKUP(tblSalaries[[#This Row],[Currency]],tblXrate[],2,FALSE)","v":35148.775467100437},"Analysis & insight consultant","Analyst","UK",{"$f":"VLOOKUP(tblSalaries[[#This Row],[Where do you work]],tblCountries[[Actual]:[Mapping]],2,FALSE)","v":"UK"},{"$f":"VLOOKUP(tblSalaries[[#This Row],[clean Country]]&\"*\",Cont_Table,2,0)","v":"Europe"},"All the 8 hours baby, all the 8!",4]
[null,"ID1784","2012-06-10T21:52:30",{"$f":"LEFT(tblSalaries[[#This Row],[Timestamp]],FIND(\".\",tblSalaries[[#This Row],[Timestamp]],1))","v":"41070."},"Â£31185",31185,"GBP",{"$f":"tblSalaries[[#This Row],[clean Salary (in local currency)]]*VLOOKUP(tblSalaries[[#This Row],[Currency]],tblXrate[],2,FALSE)","v":49153.119414418252},"Data Team Leader","Manager","UK",{"$f":"VLOOKUP(tblSalaries[[#This Row],[Where do you work]],tblCountries[[Actual]:[Mapping]],2,FALSE)","v":"UK"},{"$f":"VLOOKUP(tblSalaries[[#This Row],[clean Country]]&\"*\",Cont_Table,2,0)","v":"Europe"},"4 to 6 hours a day",7]
[null,"ID1785","2012-06-11T03:11:39",{"$f":"LEFT(tblSalaries[[#This Row],[Timestamp]],FIND(\".\",tblSalaries[[#This Row],[Timestamp]],1))","v":"41071."},150000,150000,"INR",{"$f":"tblSalaries[[#This Row],[clean Salary (in local currency)]]*VLOOKUP(tblSalaries[[#This Row],[Currency]],tblXrate[],2,FALSE)","v":2671.1875031163854},"ENGINEER","Engineer","India",{"$f":"VLOOKUP(tblSalaries[[#This Row],[Where do you work]],tblCountries[[Actual]:[Mapping]],2,FALSE)","v":"India"},{"$f":"VLOOKUP(tblSalaries[[#This Row],[clean Country]]&\"*\",Cont_Table,2,0)","v":"Asia"},"2 to 3 hours per day",1]
[null,"ID1786","2012-06-11T05:59:09",{"$f":"LEFT(tblSalaries[[#This Row],[Timestamp]],FIND(\".\",tblSalaries[[#This Row],[Timestamp]],1))","v":"41071."},27000,27000,"GBP",{"$f":"tblSalaries[[#This Row],[clean Salary (in local currency)]]*VLOOKUP(tblSalaries[[#This Row],[Currency]],tblXrate[],2,FALSE)","v":42556.81334581667},"assistant account manager","Manager","UK",{"$f":"VLOOKUP(tblSalaries[[#This Row],[Where do you work]],tblCountries[[Actual]:[Mapping]],2,FALSE)","v":"UK"},{"$f":"VLOOKUP(tblSalaries[[#This Row],[clean Country]]&\"*\",Cont_Table,2,0)","v":"Europe"},"4 to 6 hours a day",3]
[null,"ID1787","2012-06-11T05:59:55",{"$f":"LEFT(tblSalaries[[#This Row],[Timestamp]],FIND(\".\",tblSalaries[[#This Row],[Timestamp]],1))","v":"41071."},27000,27000,"GBP",{"$f":"tblSalaries[[#This Row],[clean Salary (in local currency)]]*VLOOKUP(tblSalaries[[#This Row],[Currency]],tblXrate[],2,FALSE)","v":42556.81334581667},"assistant account manager","Manager","UK",{"$f":"VLOOKUP(tblSalaries[[#This Row],[Where do you work]],tblCountries[[Actual]:[Mapping]],2,FALSE)","v":"UK"},{"$f":"VLOOKUP(tblSalaries[[#This Row],[clean Country]]&\"*\",Cont_Table,2,0)","v":"Europe"},"4 to 6 hours a day",3]
[null,"ID1788","2012-06-11T10:04:43",{"$f":"LEFT(tblSalaries[[#This Row],[Timestamp]],FIND(\".\",tblSalaries[[#This Row],[Timestamp]],1))","v":"41071."},74461,74461,"USD",{"$f":"tblSalaries[[#This Row],[clean Salary (in local currency)]]*VLOOKUP(tblSalaries[[#This Row],[Currency]],tblXrate[],2,FALSE)","v":74461},"Scientist III","Misc.","USA",{"$f":"VLOOKUP(tblSalaries[[#This Row],[Where do you work]],tblCountries[[Actual]:[Mapping]],2,FALSE)","v":"USA"},{"$f":"VLOOKUP(tblSalaries[[#This Row],[clean Country]]&\"*\",Cont_Table,2,0)","v":"North America"},"1 or 2 hours a day",9]
[null,"ID1789","2012-06-11T16:55:40",{"$f":"LEFT(tblSalaries[[#This Row],[Timestamp]],FIND(\".\",tblSalaries[[#This Row],[Timestamp]],1))","v":"41071."},"Â£26500",26500,"GBP",{"$f":"tblSalaries[[#This Row],[clean Salary (in local currency)]]*VLOOKUP(tblSalaries[[#This Row],[Currency]],tblXrate[],2,FALSE)","v":41768.724209783031},"Compliance Manager","Manager","UK",{"$f":"VLOOKUP(tblSalaries[[#This Row],[Where do you work]],tblCountries[[Actual]:[Mapping]],2,FALSE)","v":"UK"},{"$f":"VLOOKUP(tblSalaries[[#This Row],[clean Country]]&\"*\",Cont_Table,2,0)","v":"Europe"},"4 to 6 hours a day",16]
[null,"ID1790","2012-06-11T17:01:58",{"$f":"LEFT(tblSalaries[[#This Row],[Timestamp]],FIND(\".\",tblSalaries[[#This Row],[Timestamp]],1))","v":"41071."},"Rs 480000",480000,"INR",{"$f":"tblSalaries[[#This Row],[clean Salary (in local currency)]]*VLOOKUP(tblSalaries[[#This Row],[Currency]],tblXrate[],2,FALSE)","v":8547.8000099724322},"Development Analyst","Analyst","India",{"$f":"VLOOKUP(tblSalaries[[#This Row],[Where do you work]],tblCountries[[Actual]:[Mapping]],2,FALSE)","v":"India"},{"$f":"VLOOKUP(tblSalaries[[#This Row],[clean Country]]&\"*\",Cont_Table,2,0)","v":"Asia"},"4 to 6 hours a day",1]
[null,"ID1791","2012-06-11T17:54:22",{"$f":"LEFT(tblSalaries[[#This Row],[Timestamp]],FIND(\".\",tblSalaries[[#This Row],[Timestamp]],1))","v":"41071."},200,2400,"USD",{"$f":"tblSalaries[[#This Row],[clean Salary (in local currency)]]*VLOOKUP(tblSalaries[[#This Row],[Currency]],tblXrate[],2,FALSE)","v":2400},"computer operator","Analyst","India",{"$f":"VLOOKUP(tblSalaries[[#This Row],[Where do you work]],tblCountries[[Actual]:[Mapping]],2,FALSE)","v":"India"},{"$f":"VLOOKUP(tblSalaries[[#This Row],[clean Country]]&\"*\",Cont_Table,2,0)","v":"Asia"},"2 to 3 hours per day",3]
[null,"ID1792","2012-06-11T19:40:47",{"$f":"LEFT(tblSalaries[[#This Row],[Timestamp]],FIND(\".\",tblSalaries[[#This Row],[Timestamp]],1))","v":"41071."},"3000 $",3000,"USD",{"$f":"tblSalaries[[#This Row],[clean Salary (in local currency)]]*VLOOKUP(tblSalaries[[#This Row],[Currency]],tblXrate[],2,FALSE)","v":3000},"executive","Analyst","Bangladesh",{"$f":"VLOOKUP(tblSalaries[[#This Row],[Where do you work]],tblCountries[[Actual]:[Mapping]],2,FALSE)","v":"Bangladesh"},{"$f":"VLOOKUP(tblSalaries[[#This Row],[clean Country]]&\"*\",Cont_Table,2,0)","v":"Asia"},"1 or 2 hours a day",12]
[null,"ID1793","2012-06-11T19:56:36",{"$f":"LEFT(tblSalaries[[#This Row],[Timestamp]],FIND(\".\",tblSalaries[[#This Row],[Timestamp]],1))","v":"41071."},11000,11000,"USD",{"$f":"tblSalaries[[#This Row],[clean Salary (in local currency)]]*VLOOKUP(tblSalaries[[#This Row],[Currency]],tblXrate[],2,FALSE)","v":11000},"Web Analyst","Analyst","India",{"$f":"VLOOKUP(tblSalaries[[#This Row],[Where do you work]],tblCountries[[Actual]:[Mapping]],2,FALSE)","v":"India"},{"$f":"VLOOKUP(tblSalaries[[#This Row],[clean Country]]&\"*\",Cont_Table,2,0)","v":"Asia"},"4 to 6 hours a day",2]
[null,"ID1794","2012-06-11T21:03:36",{"$f":"LEFT(tblSalaries[[#This Row],[Timestamp]],FIND(\".\",tblSalaries[[#This Row],[Timestamp]],1))","v":"41071."},40000,40000,"USD",{"$f":"tblSalaries[[#This Row],[clean Salary (in local currency)]]*VLOOKUP(tblSalaries[[#This Row],[Currency]],tblXrate[],2,FALSE)","v":40000},"Intern","Analyst","USA",{"$f":"VLOOKUP(tblSalaries[[#This Row],[Where do you work]],tblCountries[[Actual]:[Mapping]],2,FALSE)","v":"USA"},{"$f":"VLOOKUP(tblSalaries[[#This Row],[clean Country]]&\"*\",Cont_Table,2,0)","v":"North America"},"2 to 3 hours per day",2]
[null,"ID1795","2012-06-11T21:29:29",{"$f":"LEFT(tblSalaries[[#This Row],[Timestamp]],FIND(\".\",tblSalaries[[#This Row],[Timestamp]],1))","v":"41071."},300,3600,"USD",{"$f":"tblSalaries[[#This Row],[clean Salary (in local currency)]]*VLOOKUP(tblSalaries[[#This Row],[Currency]],tblXrate[],2,FALSE)","v":3600},"Analyst","Analyst","India",{"$f":"VLOOKUP(tblSalaries[[#This Row],[Where do you work]],tblCountries[[Actual]:[Mapping]],2,FALSE)","v":"India"},{"$f":"VLOOKUP(tblSalaries[[#This Row],[clean Country]]&\"*\",Cont_Table,2,0)","v":"Asia"},"4 to 6 hours a day",1]
[null,"ID1796","2012-06-11T21:52:14",{"$f":"LEFT(tblSalaries[[#This Row],[Timestamp]],FIND(\".\",tblSalaries[[#This Row],[Timestamp]],1))","v":"41071."},56600,56600,"USD",{"$f":"tblSalaries[[#This Row],[clean Salary (in local currency)]]*VLOOKUP(tblSalaries[[#This Row],[Currency]],tblXrate[],2,FALSE)","v":56600},"ECommerce Manager","Manager","USA",{"$f":"VLOOKUP(tblSalaries[[#This Row],[Where do you work]],tblCountries[[Actual]:[Mapping]],2,FALSE)","v":"USA"},{"$f":"VLOOKUP(tblSalaries[[#This Row],[clean Country]]&\"*\",Cont_Table,2,0)","v":"North America"},"4 to 6 hours a day",12]
[null,"ID1797","2012-06-11T22:21:25",{"$f":"LEFT(tblSalaries[[#This Row],[Timestamp]],FIND(\".\",tblSalaries[[#This Row],[Timestamp]],1))","v":"41071."},33600,33600,"USD",{"$f":"tblSalaries[[#This Row],[clean Salary (in local currency)]]*VLOOKUP(tblSalaries[[#This Row],[Currency]],tblXrate[],2,FALSE)","v":33600},"Executive","Analyst","Singapore",{"$f":"VLOOKUP(tblSalaries[[#This Row],[Where do you work]],tblCountries[[Actual]:[Mapping]],2,FALSE)","v":"Singapore"},{"$f":"VLOOKUP(tblSalaries[[#This Row],[clean Country]]&\"*\",Cont_Table,2,0)","v":"Asia"},"All the 8 hours baby, all the 8!",2]
[null,"ID1798","2012-06-11T22:22:00",{"$f":"LEFT(tblSalaries[[#This Row],[Timestamp]],FIND(\".\",tblSalaries[[#This Row],[Timestamp]],1))","v":"41071."},33600,33600,"USD",{"$f":"tblSalaries[[#This Row],[clean Salary (in local currency)]]*VLOOKUP(tblSalaries[[#This Row],[Currency]],tblXrate[],2,FALSE)","v":33600},"Executive","Analyst","Singapore",{"$f":"VLOOKUP(tblSalaries[[#This Row],[Where do you work]],tblCountries[[Actual]:[Mapping]],2,FALSE)","v":"Singapore"},{"$f":"VLOOKUP(tblSalaries[[#This Row],[clean Country]]&\"*\",Cont_Table,2,0)","v":"Asia"},"All the 8 hours baby, all the 8!",2]
[null,"ID1799","2012-06-12T00:26:07",{"$f":"LEFT(tblSalaries[[#This Row],[Timestamp]],FIND(\".\",tblSalaries[[#This Row],[Timestamp]],1))","v":"41072."},100000,100000,"USD",{"$f":"tblSalaries[[#This Row],[clean Salary (in local currency)]]*VLOOKUP(tblSalaries[[#This Row],[Currency]],tblXrate[],2,FALSE)","v":100000},"analyst","Analyst","USA",{"$f":"VLOOKUP(tblSalaries[[#This Row],[Where do you work]],tblCountries[[Actual]:[Mapping]],2,FALSE)","v":"USA"},{"$f":"VLOOKUP(tblSalaries[[#This Row],[clean Country]]&\"*\",Cont_Table,2,0)","v":"North America"},"All the 8 hours baby, all the 8!",12]
[null,"ID1800","2012-06-12T01:55:12",{"$f":"LEFT(tblSalaries[[#This Row],[Timestamp]],FIND(\".\",tblSalaries[[#This Row],[Timestamp]],1))","v":"41072."},40000,40000,"CAD",{"$f":"tblSalaries[[#This Row],[clean Salary (in local currency)]]*VLOOKUP(tblSalaries[[#This Row],[Currency]],tblXrate[],2,FALSE)","v":39334.460921213074},"Machine Scheduler","Analyst","Canada",{"$f":"VLOOKUP(tblSalaries[[#This Row],[Where do you work]],tblCountries[[Actual]:[Mapping]],2,FALSE)","v":"Canada"},{"$f":"VLOOKUP(tblSalaries[[#This Row],[clean Country]]&\"*\",Cont_Table,2,0)","v":"North America"},"1 or 2 hours a day",1]
[null,"ID1801","2012-06-12T01:58:00",{"$f":"LEFT(tblSalaries[[#This Row],[Timestamp]],FIND(\".\",tblSalaries[[#This Row],[Timestamp]],1))","v":"41072."},400000,400000,"INR",{"$f":"tblSalaries[[#This Row],[clean Salary (in local currency)]]*VLOOKUP(tblSalaries[[#This Row],[Currency]],tblXrate[],2,FALSE)","v":7123.1666749770275},"business analyst","Analyst","India",{"$f":"VLOOKUP(tblSalaries[[#This Row],[Where do you work]],tblCountries[[Actual]:[Mapping]],2,FALSE)","v":"India"},{"$f":"VLOOKUP(tblSalaries[[#This Row],[clean Country]]&\"*\",Cont_Table,2,0)","v":"Asia"},"2 to 3 hours per day",3]
[null,"ID1802","2012-06-12T02:43:17",{"$f":"LEFT(tblSalaries[[#This Row],[Timestamp]],FIND(\".\",tblSalaries[[#This Row],[Timestamp]],1))","v":"41072."},"$65,000 US",65000,"USD",{"$f":"tblSalaries[[#This Row],[clean Salary (in local currency)]]*VLOOKUP(tblSalaries[[#This Row],[Currency]],tblXrate[],2,FALSE)","v":65000},"Sr Financial Systems Analyst","Analyst","USA",{"$f":"VLOOKUP(tblSalaries[[#This Row],[Where do you work]],tblCountries[[Actual]:[Mapping]],2,FALSE)","v":"USA"},{"$f":"VLOOKUP(tblSalaries[[#This Row],[clean Country]]&\"*\",Cont_Table,2,0)","v":"North America"},"4 to 6 hours a day",14]
[null,"ID1803","2012-06-12T02:59:16",{"$f":"LEFT(tblSalaries[[#This Row],[Timestamp]],FIND(\".\",tblSalaries[[#This Row],[Timestamp]],1))","v":"41072."},65000,65000,"USD",{"$f":"tblSalaries[[#This Row],[clean Salary (in local currency)]]*VLOOKUP(tblSalaries[[#This Row],[Currency]],tblXrate[],2,FALSE)","v":65000},"Data Analyst","Analyst","USA",{"$f":"VLOOKUP(tblSalaries[[#This Row],[Where do you work]],tblCountries[[Actual]:[Mapping]],2,FALSE)","v":"USA"},{"$f":"VLOOKUP(tblSalaries[[#This Row],[clean Country]]&\"*\",Cont_Table,2,0)","v":"North America"},"2 to 3 hours per day",10]
[null,"ID1804","2012-06-12T03:32:27",{"$f":"LEFT(tblSalaries[[#This Row],[Timestamp]],FIND(\".\",tblSalaries[[#This Row],[Timestamp]],1))","v":"41072."},65000,65000,"USD",{"$f":"tblSalaries[[#This Row],[clean Salary (in local currency)]]*VLOOKUP(tblSalaries[[#This Row],[Currency]],tblXrate[],2,FALSE)","v":65000},"Assistant Controller","Controller","USA",{"$f":"VLOOKUP(tblSalaries[[#This Row],[Where do you work]],tblCountries[[Actual]:[Mapping]],2,FALSE)","v":"USA"},{"$f":"VLOOKUP(tblSalaries[[#This Row],[clean Country]]&\"*\",Cont_Table,2,0)","v":"North America"},"2 to 3 hours per day",13]
[null,"ID1805","2012-06-12T03:45:25",{"$f":"LEFT(tblSalaries[[#This Row],[Timestamp]],FIND(\".\",tblSalaries[[#This Row],[Timestamp]],1))","v":"41072."},78000,78000,"CAD",{"$f":"tblSalaries[[#This Row],[clean Salary (in local currency)]]*VLOOKUP(tblSalaries[[#This Row],[Currency]],tblXrate[],2,FALSE)","v":76702.198796365497},"SFA","Analyst","Canada",{"$f":"VLOOKUP(tblSalaries[[#This Row],[Where do you work]],tblCountries[[Actual]:[Mapping]],2,FALSE)","v":"Canada"},{"$f":"VLOOKUP(tblSalaries[[#This Row],[clean Country]]&\"*\",Cont_Table,2,0)","v":"North America"},"All the 8 hours baby, all the 8!",4]
[null,"ID1806","2012-06-12T06:36:12",{"$f":"LEFT(tblSalaries[[#This Row],[Timestamp]],FIND(\".\",tblSalaries[[#This Row],[Timestamp]],1))","v":"41072."},63000,63000,"USD",{"$f":"tblSalaries[[#This Row],[clean Salary (in local currency)]]*VLOOKUP(tblSalaries[[#This Row],[Currency]],tblXrate[],2,FALSE)","v":63000},"Sales Analyst","Analyst","USA",{"$f":"VLOOKUP(tblSalaries[[#This Row],[Where do you work]],tblCountries[[Actual]:[Mapping]],2,FALSE)","v":"USA"},{"$f":"VLOOKUP(tblSalaries[[#This Row],[clean Country]]&\"*\",Cont_Table,2,0)","v":"North America"},"All the 8 hours baby, all the 8!",10]
[null,"ID1807","2012-06-12T08:36:15",{"$f":"LEFT(tblSalaries[[#This Row],[Timestamp]],FIND(\".\",tblSalaries[[#This Row],[Timestamp]],1))","v":"41072."},87000,87000,"USD",{"$f":"tblSalaries[[#This Row],[clean Salary (in local currency)]]*VLOOKUP(tblSalaries[[#This Row],[Currency]],tblXrate[],2,FALSE)","v":87000},"Ð˜Ð¨ Ð¤Ñ‚Ñ„Ð´Ð½Ñ‹Ðµ","Misc.","USA",{"$f":"VLOOKUP(tblSalaries[[#This Row],[Where do you work]],tblCountries[[Actual]:[Mapping]],2,FALSE)","v":"USA"},{"$f":"VLOOKUP(tblSalaries[[#This Row],[clean Country]]&\"*\",Cont_Table,2,0)","v":"North America"},"4 to 6 hours a day",3]
[null,"ID1808","2012-06-12T08:46:15",{"$f":"LEFT(tblSalaries[[#This Row],[Timestamp]],FIND(\".\",tblSalaries[[#This Row],[Timestamp]],1))","v":"41072."},45000,45000,"USD",{"$f":"tblSalaries[[#This Row],[clean Salary (in local currency)]]*VLOOKUP(tblSalaries[[#This Row],[Currency]],tblXrate[],2,FALSE)","v":45000},"ba","Analyst","USA",{"$f":"VLOOKUP(tblSalaries[[#This Row],[Where do you work]],tblCountries[[Actual]:[Mapping]],2,FALSE)","v":"USA"},{"$f":"VLOOKUP(tblSalaries[[#This Row],[clean Country]]&\"*\",Cont_Table,2,0)","v":"North America"},"4 to 6 hours a day",4]
[null,"ID1809","2012-06-12T12:15:46",{"$f":"LEFT(tblSalaries[[#This Row],[Timestamp]],FIND(\".\",tblSalaries[[#This Row],[Timestamp]],1))","v":"41072."},85000,85000,"USD",{"$f":"tblSalaries[[#This Row],[clean Salary (in local currency)]]*VLOOKUP(tblSalaries[[#This Row],[Currency]],tblXrate[],2,FALSE)","v":85000},"Lead Financial Analyst","Analyst","USA",{"$f":"VLOOKUP(tblSalaries[[#This Row],[Where do you work]],tblCountries[[Actual]:[Mapping]],2,FALSE)","v":"USA"},{"$f":"VLOOKUP(tblSalaries[[#This Row],[clean Country]]&\"*\",Cont_Table,2,0)","v":"North America"},"All the 8 hours baby, all the 8!",3]
[null,"ID1810","2012-06-12T15:09:22",{"$f":"LEFT(tblSalaries[[#This Row],[Timestamp]],FIND(\".\",tblSalaries[[#This Row],[Timestamp]],1))","v":"41072."},156000,156000,"AUD",{"$f":"tblSalaries[[#This Row],[clean Salary (in local currency)]]*VLOOKUP(tblSalaries[[#This Row],[Currency]],tblXrate[],2,FALSE)","v":159105.90639881117},"Senior Associate Engineer","Engineer","Australia",{"$f":"VLOOKUP(tblSalaries[[#This Row],[Where do you work]],tblCountries[[Actual]:[Mapping]],2,FALSE)","v":"Australia"},{"$f":"VLOOKUP(tblSalaries[[#This Row],[clean Country]]&\"*\",Cont_Table,2,0)","v":"Australia"},"2 to 3 hours per day",12]
[null,"ID1811","2012-06-12T15:58:36",{"$f":"LEFT(tblSalaries[[#This Row],[Timestamp]],FIND(\".\",tblSalaries[[#This Row],[Timestamp]],1))","v":"41072."},560000,560000,"INR",{"$f":"tblSalaries[[#This Row],[clean Salary (in local currency)]]*VLOOKUP(tblSalaries[[#This Row],[Currency]],tblXrate[],2,FALSE)","v":9972.4333449678379},"Associate Manager","Manager","India",{"$f":"VLOOKUP(tblSalaries[[#This Row],[Where do you work]],tblCountries[[Actual]:[Mapping]],2,FALSE)","v":"India"},{"$f":"VLOOKUP(tblSalaries[[#This Row],[clean Country]]&\"*\",Cont_Table,2,0)","v":"Asia"},"2 to 3 hours per day",4]
[null,"ID1812","2012-06-12T16:16:25",{"$f":"LEFT(tblSalaries[[#This Row],[Timestamp]],FIND(\".\",tblSalaries[[#This Row],[Timestamp]],1))","v":"41072."},14000,14000,"USD",{"$f":"tblSalaries[[#This Row],[clean Salary (in local currency)]]*VLOOKUP(tblSalaries[[#This Row],[Currency]],tblXrate[],2,FALSE)","v":14000},"Manager","Manager","India",{"$f":"VLOOKUP(tblSalaries[[#This Row],[Where do you work]],tblCountries[[Actual]:[Mapping]],2,FALSE)","v":"India"},{"$f":"VLOOKUP(tblSalaries[[#This Row],[clean Country]]&\"*\",Cont_Table,2,0)","v":"Asia"},"4 to 6 hours a day",5]
[null,"ID1813","2012-06-12T18:09:58",{"$f":"LEFT(tblSalaries[[#This Row],[Timestamp]],FIND(\".\",tblSalaries[[#This Row],[Timestamp]],1))","v":"41072."},"Â£32000",32000,"GBP",{"$f":"tblSalaries[[#This Row],[clean Salary (in local currency)]]*VLOOKUP(tblSalaries[[#This Row],[Currency]],tblXrate[],2,FALSE)","v":50437.70470615309},"Business Analyst","Analyst","UK",{"$f":"VLOOKUP(tblSalaries[[#This Row],[Where do you work]],tblCountries[[Actual]:[Mapping]],2,FALSE)","v":"UK"},{"$f":"VLOOKUP(tblSalaries[[#This Row],[clean Country]]&\"*\",Cont_Table,2,0)","v":"Europe"},"4 to 6 hours a day",20]
[null,"ID1814","2012-06-12T18:28:39",{"$f":"LEFT(tblSalaries[[#This Row],[Timestamp]],FIND(\".\",tblSalaries[[#This Row],[Timestamp]],1))","v":"41072."},32000,32000,"GBP",{"$f":"tblSalaries[[#This Row],[clean Salary (in local currency)]]*VLOOKUP(tblSalaries[[#This Row],[Currency]],tblXrate[],2,FALSE)","v":50437.70470615309},"Financial Analyst","Analyst","UK",{"$f":"VLOOKUP(tblSalaries[[#This Row],[Where do you work]],tblCountries[[Actual]:[Mapping]],2,FALSE)","v":"UK"},{"$f":"VLOOKUP(tblSalaries[[#This Row],[clean Country]]&\"*\",Cont_Table,2,0)","v":"Europe"},"All the 8 hours baby, all the 8!",1]
[null,"ID1815","2012-06-12T20:11:24",{"$f":"LEFT(tblSalaries[[#This Row],[Timestamp]],FIND(\".\",tblSalaries[[#This Row],[Timestamp]],1))","v":"41072."},8900,1281600,"PKR",{"$f":"tblSalaries[[#This Row],[clean Salary (in local currency)]]*VLOOKUP(tblSalaries[[#This Row],[Currency]],tblXrate[],2,FALSE)","v":13603.016099449767},"Manager MIS & Analytics","Manager","pakistan",{"$f":"VLOOKUP(tblSalaries[[#This Row],[Where do you work]],tblCountries[[Actual]:[Mapping]],2,FALSE)","v":"Pakistan"},{"$f":"VLOOKUP(tblSalaries[[#This Row],[clean Country]]&\"*\",Cont_Table,2,0)","v":"Asia"},"All the 8 hours baby, all the 8!",8]
[null,"ID1816","2012-06-12T20:47:33",{"$f":"LEFT(tblSalaries[[#This Row],[Timestamp]],FIND(\".\",tblSalaries[[#This Row],[Timestamp]],1))","v":"41072."},"aud145000",145000,"AUD",{"$f":"tblSalaries[[#This Row],[clean Salary (in local currency)]]*VLOOKUP(tblSalaries[[#This Row],[Currency]],tblXrate[],2,FALSE)","v":147886.90017838217},"Financial controller","Controller","Australia",{"$f":"VLOOKUP(tblSalaries[[#This Row],[Where do you work]],tblCountries[[Actual]:[Mapping]],2,FALSE)","v":"Australia"},{"$f":"VLOOKUP(tblSalaries[[#This Row],[clean Country]]&\"*\",Cont_Table,2,0)","v":"Australia"},"2 to 3 hours per day",15]
[null,"ID1818","2012-06-12T21:47:54",{"$f":"LEFT(tblSalaries[[#This Row],[Timestamp]],FIND(\".\",tblSalaries[[#This Row],[Timestamp]],1))","v":"41072."},280000,280000,"INR",{"$f":"tblSalaries[[#This Row],[clean Salary (in local currency)]]*VLOOKUP(tblSalaries[[#This Row],[Currency]],tblXrate[],2,FALSE)","v":4986.216672483919},"Sales Cordinator","Analyst","India",{"$f":"VLOOKUP(tblSalaries[[#This Row],[Where do you work]],tblCountries[[Actual]:[Mapping]],2,FALSE)","v":"India"},{"$f":"VLOOKUP(tblSalaries[[#This Row],[clean Country]]&\"*\",Cont_Table,2,0)","v":"Asia"},"All the 8 hours baby, all the 8!",8]
[null,"ID1819","2012-06-12T21:58:21",{"$f":"LEFT(tblSalaries[[#This Row],[Timestamp]],FIND(\".\",tblSalaries[[#This Row],[Timestamp]],1))","v":"41072."},4800,4800,"USD",{"$f":"tblSalaries[[#This Row],[clean Salary (in local currency)]]*VLOOKUP(tblSalaries[[#This Row],[Currency]],tblXrate[],2,FALSE)","v":4800},"Sr Executive","Manager","India",{"$f":"VLOOKUP(tblSalaries[[#This Row],[Where do you work]],tblCountries[[Actual]:[Mapping]],2,FALSE)","v":"India"},{"$f":"VLOOKUP(tblSalaries[[#This Row],[clean Country]]&\"*\",Cont_Table,2,0)","v":"Asia"},"All the 8 hours baby, all the 8!",3]
[null,"ID1820","2012-06-13T00:20:14",{"$f":"LEFT(tblSalaries[[#This Row],[Timestamp]],FIND(\".\",tblSalaries[[#This Row],[Timestamp]],1))","v":"41073."},"4.5 Laks",450000,"INR",{"$f":"tblSalaries[[#This Row],[clean Salary (in local currency)]]*VLOOKUP(tblSalaries[[#This Row],[Currency]],tblXrate[],2,FALSE)","v":8013.5625093491553},"MIS Executive","Reporting","India",{"$f":"VLOOKUP(tblSalaries[[#This Row],[Where do you work]],tblCountries[[Actual]:[Mapping]],2,FALSE)","v":"India"},{"$f":"VLOOKUP(tblSalaries[[#This Row],[clean Country]]&\"*\",Cont_Table,2,0)","v":"Asia"},"4 to 6 hours a day",4]
[null,"ID1821","2012-06-13T00:23:31",{"$f":"LEFT(tblSalaries[[#This Row],[Timestamp]],FIND(\".\",tblSalaries[[#This Row],[Timestamp]],1))","v":"41073."},80000,80000,"USD",{"$f":"tblSalaries[[#This Row],[clean Salary (in local currency)]]*VLOOKUP(tblSalaries[[#This Row],[Currency]],tblXrate[],2,FALSE)","v":80000},"Manager, Operations","Manager","USA",{"$f":"VLOOKUP(tblSalaries[[#This Row],[Where do you work]],tblCountries[[Actual]:[Mapping]],2,FALSE)","v":"USA"},{"$f":"VLOOKUP(tblSalaries[[#This Row],[clean Country]]&\"*\",Cont_Table,2,0)","v":"North America"},"4 to 6 hours a day",2]
[null,"ID1822","2012-06-13T00:37:24",{"$f":"LEFT(tblSalaries[[#This Row],[Timestamp]],FIND(\".\",tblSalaries[[#This Row],[Timestamp]],1))","v":"41073."},"â‚¬ 45000",45000,"EUR",{"$f":"tblSalaries[[#This Row],[clean Salary (in local currency)]]*VLOOKUP(tblSalaries[[#This Row],[Currency]],tblXrate[],2,FALSE)","v":57167.974754622352},"IT Trainer","Analyst","Netherlands",{"$f":"VLOOKUP(tblSalaries[[#This Row],[Where do you work]],tblCountries[[Actual]:[Mapping]],2,FALSE)","v":"Netherlands"},{"$f":"VLOOKUP(tblSalaries[[#This Row],[clean Country]]&\"*\",Cont_Table,2,0)","v":"Europe"},"2 to 3 hours per day",14]
[null,"ID1823","2012-06-13T00:50:20",{"$f":"LEFT(tblSalaries[[#This Row],[Timestamp]],FIND(\".\",tblSalaries[[#This Row],[Timestamp]],1))","v":"41073."},20000,20000,"USD",{"$f":"tblSalaries[[#This Row],[clean Salary (in local currency)]]*VLOOKUP(tblSalaries[[#This Row],[Currency]],tblXrate[],2,FALSE)","v":20000},"administrator","Analyst","Canada",{"$f":"VLOOKUP(tblSalaries[[#This Row],[Where do you work]],tblCountries[[Actual]:[Mapping]],2,FALSE)","v":"Canada"},{"$f":"VLOOKUP(tblSalaries[[#This Row],[clean Country]]&\"*\",Cont_Table,2,0)","v":"North America"},"2 to 3 hours per day",2]
[null,"ID1824","2012-06-13T01:56:23",{"$f":"LEFT(tblSalaries[[#This Row],[Timestamp]],FIND(\".\",tblSalaries[[#This Row],[Timestamp]],1))","v":"41073."},70000,70000,"USD",{"$f":"tblSalaries[[#This Row],[clean Salary (in local currency)]]*VLOOKUP(tblSalaries[[#This Row],[Currency]],tblXrate[],2,FALSE)","v":70000},"business analyst","Analyst","USA",{"$f":"VLOOKUP(tblSalaries[[#This Row],[Where do you work]],tblCountries[[Actual]:[Mapping]],2,FALSE)","v":"USA"},{"$f":"VLOOKUP(tblSalaries[[#This Row],[clean Country]]&\"*\",Cont_Table,2,0)","v":"North America"},"2 to 3 hours per day",5]
[null,"ID1825","2012-06-13T03:23:05",{"$f":"LEFT(tblSalaries[[#This Row],[Timestamp]],FIND(\".\",tblSalaries[[#This Row],[Timestamp]],1))","v":"41073."},"$214,000  USD",214000,"USD",{"$f":"tblSalaries[[#This Row],[clean Salary (in local currency)]]*VLOOKUP(tblSalaries[[#This Row],[Currency]],tblXrate[],2,FALSE)","v":214000},"Assistant Corporate Controller","Controller","USA",{"$f":"VLOOKUP(tblSalaries[[#This Row],[Where do you work]],tblCountries[[Actual]:[Mapping]],2,FALSE)","v":"USA"},{"$f":"VLOOKUP(tblSalaries[[#This Row],[clean Country]]&\"*\",Cont_Table,2,0)","v":"North America"},"All the 8 hours baby, all the 8!",20]
[null,"ID1826","2012-06-13T03:48:39",{"$f":"LEFT(tblSalaries[[#This Row],[Timestamp]],FIND(\".\",tblSalaries[[#This Row],[Timestamp]],1))","v":"41073."},78000,78000,"USD",{"$f":"tblSalaries[[#This Row],[clean Salary (in local currency)]]*VLOOKUP(tblSalaries[[#This Row],[Currency]],tblXrate[],2,FALSE)","v":78000},"Data Integration Engenieer","Engineer","USA",{"$f":"VLOOKUP(tblSalaries[[#This Row],[Where do you work]],tblCountries[[Actual]:[Mapping]],2,FALSE)","v":"USA"},{"$f":"VLOOKUP(tblSalaries[[#This Row],[clean Country]]&\"*\",Cont_Table,2,0)","v":"North America"},"All the 8 hours baby, all the 8!",5]
[null,"ID1827","2012-06-13T04:39:37",{"$f":"LEFT(tblSalaries[[#This Row],[Timestamp]],FIND(\".\",tblSalaries[[#This Row],[Timestamp]],1))","v":"41073."},42307.199999999997,42307,"USD",{"$f":"tblSalaries[[#This Row],[clean Salary (in local currency)]]*VLOOKUP(tblSalaries[[#This Row],[Currency]],tblXrate[],2,FALSE)","v":42307},"purchasing operations administrator","Analyst","USA",{"$f":"VLOOKUP(tblSalaries[[#This Row],[Where do you work]],tblCountries[[Actual]:[Mapping]],2,FALSE)","v":"USA"},{"$f":"VLOOKUP(tblSalaries[[#This Row],[clean Country]]&\"*\",Cont_Table,2,0)","v":"North America"},"2 to 3 hours per day",25]
[null,"ID1828","2012-06-13T04:40:03",{"$f":"LEFT(tblSalaries[[#This Row],[Timestamp]],FIND(\".\",tblSalaries[[#This Row],[Timestamp]],1))","v":"41073."},33250,33250,"USD",{"$f":"tblSalaries[[#This Row],[clean Salary (in local currency)]]*VLOOKUP(tblSalaries[[#This Row],[Currency]],tblXrate[],2,FALSE)","v":33250},"Planning and Logistics Coordinator","Manager","USA",{"$f":"VLOOKUP(tblSalaries[[#This Row],[Where do you work]],tblCountries[[Actual]:[Mapping]],2,FALSE)","v":"USA"},{"$f":"VLOOKUP(tblSalaries[[#This Row],[clean Country]]&\"*\",Cont_Table,2,0)","v":"North America"},"All the 8 hours baby, all the 8!",20]
[null,"ID1829","2012-06-13T05:20:32",{"$f":"LEFT(tblSalaries[[#This Row],[Timestamp]],FIND(\".\",tblSalaries[[#This Row],[Timestamp]],1))","v":"41073."},"1600â‚¬ net monthly",19200,"EUR",{"$f":"tblSalaries[[#This Row],[clean Salary (in local currency)]]*VLOOKUP(tblSalaries[[#This Row],[Currency]],tblXrate[],2,FALSE)","v":24391.669228638868},"bank clerk","Analyst","italy",{"$f":"VLOOKUP(tblSalaries[[#This Row],[Where do you work]],tblCountries[[Actual]:[Mapping]],2,FALSE)","v":"italy"},{"$f":"VLOOKUP(tblSalaries[[#This Row],[clean Country]]&\"*\",Cont_Table,2,0)","v":"Europe"},"4 to 6 hours a day",10]
[null,"ID1830","2012-06-13T06:19:24",{"$f":"LEFT(tblSalaries[[#This Row],[Timestamp]],FIND(\".\",tblSalaries[[#This Row],[Timestamp]],1))","v":"41073."},120000,120000,"USD",{"$f":"tblSalaries[[#This Row],[clean Salary (in local currency)]]*VLOOKUP(tblSalaries[[#This Row],[Currency]],tblXrate[],2,FALSE)","v":120000},"Financial Modeler","Accountant","USA",{"$f":"VLOOKUP(tblSalaries[[#This Row],[Where do you work]],tblCountries[[Actual]:[Mapping]],2,FALSE)","v":"USA"},{"$f":"VLOOKUP(tblSalaries[[#This Row],[clean Country]]&\"*\",Cont_Table,2,0)","v":"North America"},"4 to 6 hours a day",20]
[null,"ID1831","2012-06-13T11:58:30",{"$f":"LEFT(tblSalaries[[#This Row],[Timestamp]],FIND(\".\",tblSalaries[[#This Row],[Timestamp]],1))","v":"41073."},20000,20000,"USD",{"$f":"tblSalaries[[#This Row],[clean Salary (in local currency)]]*VLOOKUP(tblSalaries[[#This Row],[Currency]],tblXrate[],2,FALSE)","v":20000},"Personal Assistant","Analyst","Hong Kong",{"$f":"VLOOKUP(tblSalaries[[#This Row],[Where do you work]],tblCountries[[Actual]:[Mapping]],2,FALSE)","v":"Hong Kong"},{"$f":"VLOOKUP(tblSalaries[[#This Row],[clean Country]]&\"*\",Cont_Table,2,0)","v":"Asia"},"1 or 2 hours a day",1]
[null,"ID1832","2012-06-13T17:22:47",{"$f":"LEFT(tblSalaries[[#This Row],[Timestamp]],FIND(\".\",tblSalaries[[#This Row],[Timestamp]],1))","v":"41073."},15000,15000,"USD",{"$f":"tblSalaries[[#This Row],[clean Salary (in local currency)]]*VLOOKUP(tblSalaries[[#This Row],[Currency]],tblXrate[],2,FALSE)","v":15000},"senior associate","Analyst","India",{"$f":"VLOOKUP(tblSalaries[[#This Row],[Where do you work]],tblCountries[[Actual]:[Mapping]],2,FALSE)","v":"India"},{"$f":"VLOOKUP(tblSalaries[[#This Row],[clean Country]]&\"*\",Cont_Table,2,0)","v":"Asia"},"2 to 3 hours per day",0.3]
[null,"ID1833","2012-06-13T18:25:00",{"$f":"LEFT(tblSalaries[[#This Row],[Timestamp]],FIND(\".\",tblSalaries[[#This Row],[Timestamp]],1))","v":"41073."},"INR 10 lacs p.a.",1000000,"INR",{"$f":"tblSalaries[[#This Row],[clean Salary (in local currency)]]*VLOOKUP(tblSalaries[[#This Row],[Currency]],tblXrate[],2,FALSE)","v":17807.916687442568},"Mnanager- Customer Project finance & recovery","Manager","India",{"$f":"VLOOKUP(tblSalaries[[#This Row],[Where do you work]],tblCountries[[Actual]:[Mapping]],2,FALSE)","v":"India"},{"$f":"VLOOKUP(tblSalaries[[#This Row],[clean Country]]&\"*\",Cont_Table,2,0)","v":"Asia"},"2 to 3 hours per day",10]
[null,"ID1834","2012-06-13T19:20:25",{"$f":"LEFT(tblSalaries[[#This Row],[Timestamp]],FIND(\".\",tblSalaries[[#This Row],[Timestamp]],1))","v":"41073."},900000,900000,"INR",{"$f":"tblSalaries[[#This Row],[clean Salary (in local currency)]]*VLOOKUP(tblSalaries[[#This Row],[Currency]],tblXrate[],2,FALSE)","v":16027.125018698311},"Lead ","Manager","India",{"$f":"VLOOKUP(tblSalaries[[#This Row],[Where do you work]],tblCountries[[Actual]:[Mapping]],2,FALSE)","v":"India"},{"$f":"VLOOKUP(tblSalaries[[#This Row],[clean Country]]&\"*\",Cont_Table,2,0)","v":"Asia"},"2 to 3 hours per day",6]
[null,"ID1835","2012-06-13T19:33:58",{"$f":"LEFT(tblSalaries[[#This Row],[Timestamp]],FIND(\".\",tblSalaries[[#This Row],[Timestamp]],1))","v":"41073."},"36000 British pounds",36000,"GBP",{"$f":"tblSalaries[[#This Row],[clean Salary (in local currency)]]*VLOOKUP(tblSalaries[[#This Row],[Currency]],tblXrate[],2,FALSE)","v":56742.417794422225},"Senior officer data reporting","Manager","UK",{"$f":"VLOOKUP(tblSalaries[[#This Row],[Where do you work]],tblCountries[[Actual]:[Mapping]],2,FALSE)","v":"UK"},{"$f":"VLOOKUP(tblSalaries[[#This Row],[clean Country]]&\"*\",Cont_Table,2,0)","v":"Europe"},"All the 8 hours baby, all the 8!",7]
[null,"ID1836","2012-06-13T19:40:16",{"$f":"LEFT(tblSalaries[[#This Row],[Timestamp]],FIND(\".\",tblSalaries[[#This Row],[Timestamp]],1))","v":"41073."},1200000,1200000,"INR",{"$f":"tblSalaries[[#This Row],[clean Salary (in local currency)]]*VLOOKUP(tblSalaries[[#This Row],[Currency]],tblXrate[],2,FALSE)","v":21369.500024931083},"AM","Manager","India",{"$f":"VLOOKUP(tblSalaries[[#This Row],[Where do you work]],tblCountries[[Actual]:[Mapping]],2,FALSE)","v":"India"},{"$f":"VLOOKUP(tblSalaries[[#This Row],[clean Country]]&\"*\",Cont_Table,2,0)","v":"Asia"},"4 to 6 hours a day",7]
[null,"ID1837","2012-06-13T20:39:18",{"$f":"LEFT(tblSalaries[[#This Row],[Timestamp]],FIND(\".\",tblSalaries[[#This Row],[Timestamp]],1))","v":"41073."},425000,425000,"INR",{"$f":"tblSalaries[[#This Row],[clean Salary (in local currency)]]*VLOOKUP(tblSalaries[[#This Row],[Currency]],tblXrate[],2,FALSE)","v":7568.3645921630914},"accountant","Accountant","India",{"$f":"VLOOKUP(tblSalaries[[#This Row],[Where do you work]],tblCountries[[Actual]:[Mapping]],2,FALSE)","v":"India"},{"$f":"VLOOKUP(tblSalaries[[#This Row],[clean Country]]&\"*\",Cont_Table,2,0)","v":"Asia"},"2 to 3 hours per day",6]
[null,"ID1838","2012-06-13T23:32:36",{"$f":"LEFT(tblSalaries[[#This Row],[Timestamp]],FIND(\".\",tblSalaries[[#This Row],[Timestamp]],1))","v":"41073."},50000,50000,"GBP",{"$f":"tblSalaries[[#This Row],[clean Salary (in local currency)]]*VLOOKUP(tblSalaries[[#This Row],[Currency]],tblXrate[],2,FALSE)","v":78808.913603364199},"Assistant Financial Accountant","Accountant","UK",{"$f":"VLOOKUP(tblSalaries[[#This Row],[Where do you work]],tblCountries[[Actual]:[Mapping]],2,FALSE)","v":"UK"},{"$f":"VLOOKUP(tblSalaries[[#This Row],[clean Country]]&\"*\",Cont_Table,2,0)","v":"Europe"},"2 to 3 hours per day",10]
[null,"ID1839","2012-06-14T01:55:13",{"$f":"LEFT(tblSalaries[[#This Row],[Timestamp]],FIND(\".\",tblSalaries[[#This Row],[Timestamp]],1))","v":"41074."},60000,60000,"USD",{"$f":"tblSalaries[[#This Row],[clean Salary (in local currency)]]*VLOOKUP(tblSalaries[[#This Row],[Currency]],tblXrate[],2,FALSE)","v":60000},"Business Analyst","Analyst","USA",{"$f":"VLOOKUP(tblSalaries[[#This Row],[Where do you work]],tblCountries[[Actual]:[Mapping]],2,FALSE)","v":"USA"},{"$f":"VLOOKUP(tblSalaries[[#This Row],[clean Country]]&\"*\",Cont_Table,2,0)","v":"North America"},"4 to 6 hours a day",15]
[null,"ID1840","2012-06-14T02:44:43",{"$f":"LEFT(tblSalaries[[#This Row],[Timestamp]],FIND(\".\",tblSalaries[[#This Row],[Timestamp]],1))","v":"41074."},57000,57000,"USD",{"$f":"tblSalaries[[#This Row],[clean Salary (in local currency)]]*VLOOKUP(tblSalaries[[#This Row],[Currency]],tblXrate[],2,FALSE)","v":57000},"Staff Accountant","Accountant","USA",{"$f":"VLOOKUP(tblSalaries[[#This Row],[Where do you work]],tblCountries[[Actual]:[Mapping]],2,FALSE)","v":"USA"},{"$f":"VLOOKUP(tblSalaries[[#This Row],[clean Country]]&\"*\",Cont_Table,2,0)","v":"North America"},"4 to 6 hours a day",9]
[null,"ID1841","2012-06-14T04:22:36",{"$f":"LEFT(tblSalaries[[#This Row],[Timestamp]],FIND(\".\",tblSalaries[[#This Row],[Timestamp]],1))","v":"41074."},40000,40000,"USD",{"$f":"tblSalaries[[#This Row],[clean Salary (in local currency)]]*VLOOKUP(tblSalaries[[#This Row],[Currency]],tblXrate[],2,FALSE)","v":40000},"Rates Analyst","Analyst","USA",{"$f":"VLOOKUP(tblSalaries[[#This Row],[Where do you work]],tblCountries[[Actual]:[Mapping]],2,FALSE)","v":"USA"},{"$f":"VLOOKUP(tblSalaries[[#This Row],[clean Country]]&\"*\",Cont_Table,2,0)","v":"North America"},"2 to 3 hours per day",0]
[null,"ID1842","2012-06-14T07:16:41",{"$f":"LEFT(tblSalaries[[#This Row],[Timestamp]],FIND(\".\",tblSalaries[[#This Row],[Timestamp]],1))","v":"41074."},80000,80000,"USD",{"$f":"tblSalaries[[#This Row],[clean Salary (in local currency)]]*VLOOKUP(tblSalaries[[#This Row],[Currency]],tblXrate[],2,FALSE)","v":80000},"Project Controller","Controller","USA",{"$f":"VLOOKUP(tblSalaries[[#This Row],[Where do you work]],tblCountries[[Actual]:[Mapping]],2,FALSE)","v":"USA"},{"$f":"VLOOKUP(tblSalaries[[#This Row],[clean Country]]&\"*\",Cont_Table,2,0)","v":"North America"},"4 to 6 hours a day",9]
[null,"ID1843","2012-06-14T12:27:30",{"$f":"LEFT(tblSalaries[[#This Row],[Timestamp]],FIND(\".\",tblSalaries[[#This Row],[Timestamp]],1))","v":"41074."},118000,118000,"USD",{"$f":"tblSalaries[[#This Row],[clean Salary (in local currency)]]*VLOOKUP(tblSalaries[[#This Row],[Currency]],tblXrate[],2,FALSE)","v":118000},"AVP","CXO or Top Mgmt.","USA",{"$f":"VLOOKUP(tblSalaries[[#This Row],[Where do you work]],tblCountries[[Actual]:[Mapping]],2,FALSE)","v":"USA"},{"$f":"VLOOKUP(tblSalaries[[#This Row],[clean Country]]&\"*\",Cont_Table,2,0)","v":"North America"},"4 to 6 hours a day",6]
[null,"ID1844","2012-06-14T14:08:58",{"$f":"LEFT(tblSalaries[[#This Row],[Timestamp]],FIND(\".\",tblSalaries[[#This Row],[Timestamp]],1))","v":"41074."},5000,60000,"USD",{"$f":"tblSalaries[[#This Row],[clean Salary (in local currency)]]*VLOOKUP(tblSalaries[[#This Row],[Currency]],tblXrate[],2,FALSE)","v":60000},"Analyst","Analyst","UAE",{"$f":"VLOOKUP(tblSalaries[[#This Row],[Where do you work]],tblCountries[[Actual]:[Mapping]],2,FALSE)","v":"UAE"},{"$f":"VLOOKUP(tblSalaries[[#This Row],[clean Country]]&\"*\",Cont_Table,2,0)","v":"Asia"},"4 to 6 hours a day",5]
[null,"ID1845","2012-06-14T18:27:04",{"$f":"LEFT(tblSalaries[[#This Row],[Timestamp]],FIND(\".\",tblSalaries[[#This Row],[Timestamp]],1))","v":"41074."},560,6720,"USD",{"$f":"tblSalaries[[#This Row],[clean Salary (in local currency)]]*VLOOKUP(tblSalaries[[#This Row],[Currency]],tblXrate[],2,FALSE)","v":6720},"accoutant","Accountant","India",{"$f":"VLOOKUP(tblSalaries[[#This Row],[Where do you work]],tblCountries[[Actual]:[Mapping]],2,FALSE)","v":"India"},{"$f":"VLOOKUP(tblSalaries[[#This Row],[clean Country]]&\"*\",Cont_Table,2,0)","v":"Asia"},"4 to 6 hours a day",5]
[null,"ID1846","2012-06-14T22:03:05",{"$f":"LEFT(tblSalaries[[#This Row],[Timestamp]],FIND(\".\",tblSalaries[[#This Row],[Timestamp]],1))","v":"41074."},1720,20640,"USD",{"$f":"tblSalaries[[#This Row],[clean Salary (in local currency)]]*VLOOKUP(tblSalaries[[#This Row],[Currency]],tblXrate[],2,FALSE)","v":20640},"Programme Officer","Manager","Singapore",{"$f":"VLOOKUP(tblSalaries[[#This Row],[Where do you work]],tblCountries[[Actual]:[Mapping]],2,FALSE)","v":"Singapore"},{"$f":"VLOOKUP(tblSalaries[[#This Row],[clean Country]]&\"*\",Cont_Table,2,0)","v":"Asia"},"4 to 6 hours a day",3]
[null,"ID1847","2012-06-15T00:35:45",{"$f":"LEFT(tblSalaries[[#This Row],[Timestamp]],FIND(\".\",tblSalaries[[#This Row],[Timestamp]],1))","v":"41075."},50000,50000,"USD",{"$f":"tblSalaries[[#This Row],[clean Salary (in local currency)]]*VLOOKUP(tblSalaries[[#This Row],[Currency]],tblXrate[],2,FALSE)","v":50000},"Digital Media Analyst","Analyst","USA",{"$f":"VLOOKUP(tblSalaries[[#This Row],[Where do you work]],tblCountries[[Actual]:[Mapping]],2,FALSE)","v":"USA"},{"$f":"VLOOKUP(tblSalaries[[#This Row],[clean Country]]&\"*\",Cont_Table,2,0)","v":"North America"},"All the 8 hours baby, all the 8!",15]
[null,"ID1848","2012-06-15T00:52:38",{"$f":"LEFT(tblSalaries[[#This Row],[Timestamp]],FIND(\".\",tblSalaries[[#This Row],[Timestamp]],1))","v":"41075."},2000,24000,"USD",{"$f":"tblSalaries[[#This Row],[clean Salary (in local currency)]]*VLOOKUP(tblSalaries[[#This Row],[Currency]],tblXrate[],2,FALSE)","v":24000},"Plant Controller","Controller","Russia",{"$f":"VLOOKUP(tblSalaries[[#This Row],[Where do you work]],tblCountries[[Actual]:[Mapping]],2,FALSE)","v":"Russia"},{"$f":"VLOOKUP(tblSalaries[[#This Row],[clean Country]]&\"*\",Cont_Table,2,0)","v":"Asia"},"All the 8 hours baby, all the 8!",23]
[null,"ID1849","2012-06-15T01:02:48",{"$f":"LEFT(tblSalaries[[#This Row],[Timestamp]],FIND(\".\",tblSalaries[[#This Row],[Timestamp]],1))","v":"41075."},60000,60000,"USD",{"$f":"tblSalaries[[#This Row],[clean Salary (in local currency)]]*VLOOKUP(tblSalaries[[#This Row],[Currency]],tblXrate[],2,FALSE)","v":60000},"Business Analyst","Analyst","USA",{"$f":"VLOOKUP(tblSalaries[[#This Row],[Where do you work]],tblCountries[[Actual]:[Mapping]],2,FALSE)","v":"USA"},{"$f":"VLOOKUP(tblSalaries[[#This Row],[clean Country]]&\"*\",Cont_Table,2,0)","v":"North America"},"2 to 3 hours per day",3]
[null,"ID1850","2012-06-15T01:10:09",{"$f":"LEFT(tblSalaries[[#This Row],[Timestamp]],FIND(\".\",tblSalaries[[#This Row],[Timestamp]],1))","v":"41075."},37500,37500,"USD",{"$f":"tblSalaries[[#This Row],[clean Salary (in local currency)]]*VLOOKUP(tblSalaries[[#This Row],[Currency]],tblXrate[],2,FALSE)","v":37500},"consultant","Consultant","India",{"$f":"VLOOKUP(tblSalaries[[#This Row],[Where do you work]],tblCountries[[Actual]:[Mapping]],2,FALSE)","v":"India"},{"$f":"VLOOKUP(tblSalaries[[#This Row],[clean Country]]&\"*\",Cont_Table,2,0)","v":"Asia"},"All the 8 hours baby, all the 8!",0]
[null,"ID1851","2012-06-15T02:24:44",{"$f":"LEFT(tblSalaries[[#This Row],[Timestamp]],FIND(\".\",tblSalaries[[#This Row],[Timestamp]],1))","v":"41075."},40000,40000,"USD",{"$f":"tblSalaries[[#This Row],[clean Salary (in local currency)]]*VLOOKUP(tblSalaries[[#This Row],[Currency]],tblXrate[],2,FALSE)","v":40000},"Research Support Specialist","Specialist","USA",{"$f":"VLOOKUP(tblSalaries[[#This Row],[Where do you work]],tblCountries[[Actual]:[Mapping]],2,FALSE)","v":"USA"},{"$f":"VLOOKUP(tblSalaries[[#This Row],[clean Country]]&\"*\",Cont_Table,2,0)","v":"North America"},"4 to 6 hours a day",1]
[null,"ID1852","2012-06-15T02:30:11",{"$f":"LEFT(tblSalaries[[#This Row],[Timestamp]],FIND(\".\",tblSalaries[[#This Row],[Timestamp]],1))","v":"41075."},"US$ 85000",85000,"USD",{"$f":"tblSalaries[[#This Row],[clean Salary (in local currency)]]*VLOOKUP(tblSalaries[[#This Row],[Currency]],tblXrate[],2,FALSE)","v":85000},"Chief Financial Officer","CXO or Top Mgmt.","USA",{"$f":"VLOOKUP(tblSalaries[[#This Row],[Where do you work]],tblCountries[[Actual]:[Mapping]],2,FALSE)","v":"USA"},{"$f":"VLOOKUP(tblSalaries[[#This Row],[clean Country]]&\"*\",Cont_Table,2,0)","v":"North America"},"2 to 3 hours per day",15]
[null,"ID1853","2012-06-15T03:00:04",{"$f":"LEFT(tblSalaries[[#This Row],[Timestamp]],FIND(\".\",tblSalaries[[#This Row],[Timestamp]],1))","v":"41075."},30000,30000,"USD",{"$f":"tblSalaries[[#This Row],[clean Salary (in local currency)]]*VLOOKUP(tblSalaries[[#This Row],[Currency]],tblXrate[],2,FALSE)","v":30000},"Trainee","Analyst","Brazil",{"$f":"VLOOKUP(tblSalaries[[#This Row],[Where do you work]],tblCountries[[Actual]:[Mapping]],2,FALSE)","v":"Brazil"},{"$f":"VLOOKUP(tblSalaries[[#This Row],[clean Country]]&\"*\",Cont_Table,2,0)","v":"South America"},"2 to 3 hours per day",1]
[null,"ID1854","2012-06-15T03:51:50",{"$f":"LEFT(tblSalaries[[#This Row],[Timestamp]],FIND(\".\",tblSalaries[[#This Row],[Timestamp]],1))","v":"41075."},"Â£33500",33500,"GBP",{"$f":"tblSalaries[[#This Row],[clean Salary (in local currency)]]*VLOOKUP(tblSalaries[[#This Row],[Currency]],tblXrate[],2,FALSE)","v":52801.972114254015},"Senior Manufacturing Engineer","Engineer","UK",{"$f":"VLOOKUP(tblSalaries[[#This Row],[Where do you work]],tblCountries[[Actual]:[Mapping]],2,FALSE)","v":"UK"},{"$f":"VLOOKUP(tblSalaries[[#This Row],[clean Country]]&\"*\",Cont_Table,2,0)","v":"Europe"},"2 to 3 hours per day",7]
[null,"ID1855","2012-06-15T05:44:30",{"$f":"LEFT(tblSalaries[[#This Row],[Timestamp]],FIND(\".\",tblSalaries[[#This Row],[Timestamp]],1))","v":"41075."},29000,29000,"USD",{"$f":"tblSalaries[[#This Row],[clean Salary (in local currency)]]*VLOOKUP(tblSalaries[[#This Row],[Currency]],tblXrate[],2,FALSE)","v":29000},"Customer Experence Engineer","Engineer","USA",{"$f":"VLOOKUP(tblSalaries[[#This Row],[Where do you work]],tblCountries[[Actual]:[Mapping]],2,FALSE)","v":"USA"},{"$f":"VLOOKUP(tblSalaries[[#This Row],[clean Country]]&\"*\",Cont_Table,2,0)","v":"North America"},"All the 8 hours baby, all the 8!",1]
[null,"ID1857","2012-06-15T09:00:08",{"$f":"LEFT(tblSalaries[[#This Row],[Timestamp]],FIND(\".\",tblSalaries[[#This Row],[Timestamp]],1))","v":"41075."},48000,48000,"USD",{"$f":"tblSalaries[[#This Row],[clean Salary (in local currency)]]*VLOOKUP(tblSalaries[[#This Row],[Currency]],tblXrate[],2,FALSE)","v":48000},"Accountant","Accountant","USA",{"$f":"VLOOKUP(tblSalaries[[#This Row],[Where do you work]],tblCountries[[Actual]:[Mapping]],2,FALSE)","v":"USA"},{"$f":"VLOOKUP(tblSalaries[[#This Row],[clean Country]]&\"*\",Cont_Table,2,0)","v":"North America"},"4 to 6 hours a day",1]
[null,"ID1858","2012-06-15T09:01:23",{"$f":"LEFT(tblSalaries[[#This Row],[Timestamp]],FIND(\".\",tblSalaries[[#This Row],[Timestamp]],1))","v":"41075."},48000,48000,"USD",{"$f":"tblSalaries[[#This Row],[clean Salary (in local currency)]]*VLOOKUP(tblSalaries[[#This Row],[Currency]],tblXrate[],2,FALSE)","v":48000},"Accountant","Accountant","USA",{"$f":"VLOOKUP(tblSalaries[[#This Row],[Where do you work]],tblCountries[[Actual]:[Mapping]],2,FALSE)","v":"USA"},{"$f":"VLOOKUP(tblSalaries[[#This Row],[clean Country]]&\"*\",Cont_Table,2,0)","v":"North America"},"4 to 6 hours a day",1]
[null,"ID1859","2012-06-15T15:07:11",{"$f":"LEFT(tblSalaries[[#This Row],[Timestamp]],FIND(\".\",tblSalaries[[#This Row],[Timestamp]],1))","v":"41075."},700,8400,"USD",{"$f":"tblSalaries[[#This Row],[clean Salary (in local currency)]]*VLOOKUP(tblSalaries[[#This Row],[Currency]],tblXrate[],2,FALSE)","v":8400},"Analyst","Analyst","Baltic",{"$f":"VLOOKUP(tblSalaries[[#This Row],[Where do you work]],tblCountries[[Actual]:[Mapping]],2,FALSE)","v":"Baltic"},{"$f":"VLOOKUP(tblSalaries[[#This Row],[clean Country]]&\"*\",Cont_Table,2,0)","v":"Europe"},"All the 8 hours baby, all the 8!",0.3]
[null,"ID1860","2012-06-15T15:43:42",{"$f":"LEFT(tblSalaries[[#This Row],[Timestamp]],FIND(\".\",tblSalaries[[#This Row],[Timestamp]],1))","v":"41075."},270000,270000,"INR",{"$f":"tblSalaries[[#This Row],[clean Salary (in local currency)]]*VLOOKUP(tblSalaries[[#This Row],[Currency]],tblXrate[],2,FALSE)","v":4808.137505609493},"Team Lead","Manager","India",{"$f":"VLOOKUP(tblSalaries[[#This Row],[Where do you work]],tblCountries[[Actual]:[Mapping]],2,FALSE)","v":"India"},{"$f":"VLOOKUP(tblSalaries[[#This Row],[clean Country]]&\"*\",Cont_Table,2,0)","v":"Asia"},"2 to 3 hours per day",5]
[null,"ID1861","2012-06-15T16:36:47",{"$f":"LEFT(tblSalaries[[#This Row],[Timestamp]],FIND(\".\",tblSalaries[[#This Row],[Timestamp]],1))","v":"41075."},1400000,1400000,"INR",{"$f":"tblSalaries[[#This Row],[clean Salary (in local currency)]]*VLOOKUP(tblSalaries[[#This Row],[Currency]],tblXrate[],2,FALSE)","v":24931.083362419595},"Manager - Controlling","Manager","India",{"$f":"VLOOKUP(tblSalaries[[#This Row],[Where do you work]],tblCountries[[Actual]:[Mapping]],2,FALSE)","v":"India"},{"$f":"VLOOKUP(tblSalaries[[#This Row],[clean Country]]&\"*\",Cont_Table,2,0)","v":"Asia"},"4 to 6 hours a day",10]
[null,"ID1862","2012-06-15T17:16:19",{"$f":"LEFT(tblSalaries[[#This Row],[Timestamp]],FIND(\".\",tblSalaries[[#This Row],[Timestamp]],1))","v":"41075."},"INR 700000",700000,"INR",{"$f":"tblSalaries[[#This Row],[clean Salary (in local currency)]]*VLOOKUP(tblSalaries[[#This Row],[Currency]],tblXrate[],2,FALSE)","v":12465.541681209797},"Sr. System Analyst","Analyst","India",{"$f":"VLOOKUP(tblSalaries[[#This Row],[Where do you work]],tblCountries[[Actual]:[Mapping]],2,FALSE)","v":"India"},{"$f":"VLOOKUP(tblSalaries[[#This Row],[clean Country]]&\"*\",Cont_Table,2,0)","v":"Asia"},"2 to 3 hours per day",4]
[null,"ID1863","2012-06-15T17:35:32",{"$f":"LEFT(tblSalaries[[#This Row],[Timestamp]],FIND(\".\",tblSalaries[[#This Row],[Timestamp]],1))","v":"41075."},20000,20000,"GBP",{"$f":"tblSalaries[[#This Row],[clean Salary (in local currency)]]*VLOOKUP(tblSalaries[[#This Row],[Currency]],tblXrate[],2,FALSE)","v":31523.565441345683},"Accountant","Accountant","UK",{"$f":"VLOOKUP(tblSalaries[[#This Row],[Where do you work]],tblCountries[[Actual]:[Mapping]],2,FALSE)","v":"UK"},{"$f":"VLOOKUP(tblSalaries[[#This Row],[clean Country]]&\"*\",Cont_Table,2,0)","v":"Europe"},"2 to 3 hours per day",10]
[null,"ID1864","2012-06-15T17:36:10",{"$f":"LEFT(tblSalaries[[#This Row],[Timestamp]],FIND(\".\",tblSalaries[[#This Row],[Timestamp]],1))","v":"41075."},"INR 1000000",1000000,"INR",{"$f":"tblSalaries[[#This Row],[clean Salary (in local currency)]]*VLOOKUP(tblSalaries[[#This Row],[Currency]],tblXrate[],2,FALSE)","v":17807.916687442568},"Sr.Manager","Manager","India",{"$f":"VLOOKUP(tblSalaries[[#This Row],[Where do you work]],tblCountries[[Actual]:[Mapping]],2,FALSE)","v":"India"},{"$f":"VLOOKUP(tblSalaries[[#This Row],[clean Country]]&\"*\",Cont_Table,2,0)","v":"Asia"},"All the 8 hours baby, all the 8!",10]
[null,"ID1865","2012-06-15T18:13:12",{"$f":"LEFT(tblSalaries[[#This Row],[Timestamp]],FIND(\".\",tblSalaries[[#This Row],[Timestamp]],1))","v":"41075."},112000,112000,"USD",{"$f":"tblSalaries[[#This Row],[clean Salary (in local currency)]]*VLOOKUP(tblSalaries[[#This Row],[Currency]],tblXrate[],2,FALSE)","v":112000},"manager","Manager","USA",{"$f":"VLOOKUP(tblSalaries[[#This Row],[Where do you work]],tblCountries[[Actual]:[Mapping]],2,FALSE)","v":"USA"},{"$f":"VLOOKUP(tblSalaries[[#This Row],[clean Country]]&\"*\",Cont_Table,2,0)","v":"North America"},"2 to 3 hours per day",8]
[null,"ID1866","2012-06-15T20:00:26",{"$f":"LEFT(tblSalaries[[#This Row],[Timestamp]],FIND(\".\",tblSalaries[[#This Row],[Timestamp]],1))","v":"41075."},11000,11000,"USD",{"$f":"tblSalaries[[#This Row],[clean Salary (in local currency)]]*VLOOKUP(tblSalaries[[#This Row],[Currency]],tblXrate[],2,FALSE)","v":11000},"AM","Manager","India",{"$f":"VLOOKUP(tblSalaries[[#This Row],[Where do you work]],tblCountries[[Actual]:[Mapping]],2,FALSE)","v":"India"},{"$f":"VLOOKUP(tblSalaries[[#This Row],[clean Country]]&\"*\",Cont_Table,2,0)","v":"Asia"},"All the 8 hours baby, all the 8!",8]
[null,"ID1867","2012-06-15T20:50:49",{"$f":"LEFT(tblSalaries[[#This Row],[Timestamp]],FIND(\".\",tblSalaries[[#This Row],[Timestamp]],1))","v":"41075."},"EUR 90000",90000,"EUR",{"$f":"tblSalaries[[#This Row],[clean Salary (in local currency)]]*VLOOKUP(tblSalaries[[#This Row],[Currency]],tblXrate[],2,FALSE)","v":114335.9495092447},"Controller","Controller","mainland Europe (Euro zone)",{"$f":"VLOOKUP(tblSalaries[[#This Row],[Where do you work]],tblCountries[[Actual]:[Mapping]],2,FALSE)","v":"Europe"},{"$f":"VLOOKUP(tblSalaries[[#This Row],[clean Country]]&\"*\",Cont_Table,2,0)","v":"Europe"},"2 to 3 hours per day",20]
[null,"ID1868","2012-06-15T21:32:16",{"$f":"LEFT(tblSalaries[[#This Row],[Timestamp]],FIND(\".\",tblSalaries[[#This Row],[Timestamp]],1))","v":"41075."},"$US16.110,72",16110,"USD",{"$f":"tblSalaries[[#This Row],[clean Salary (in local currency)]]*VLOOKUP(tblSalaries[[#This Row],[Currency]],tblXrate[],2,FALSE)","v":16110},"INFORMATION ANALIST","Analyst","COLOMBIA",{"$f":"VLOOKUP(tblSalaries[[#This Row],[Where do you work]],tblCountries[[Actual]:[Mapping]],2,FALSE)","v":"Colombia"},{"$f":"VLOOKUP(tblSalaries[[#This Row],[clean Country]]&\"*\",Cont_Table,2,0)","v":"South America"},"All the 8 hours baby, all the 8!",10]
[null,"ID1869","2012-06-15T22:36:45",{"$f":"LEFT(tblSalaries[[#This Row],[Timestamp]],FIND(\".\",tblSalaries[[#This Row],[Timestamp]],1))","v":"41075."},72000,72000,"USD",{"$f":"tblSalaries[[#This Row],[clean Salary (in local currency)]]*VLOOKUP(tblSalaries[[#This Row],[Currency]],tblXrate[],2,FALSE)","v":72000},"HR Supervisor","Manager","USA",{"$f":"VLOOKUP(tblSalaries[[#This Row],[Where do you work]],tblCountries[[Actual]:[Mapping]],2,FALSE)","v":"USA"},{"$f":"VLOOKUP(tblSalaries[[#This Row],[clean Country]]&\"*\",Cont_Table,2,0)","v":"North America"},"4 to 6 hours a day",10]
[null,"ID1870","2012-06-15T23:21:00",{"$f":"LEFT(tblSalaries[[#This Row],[Timestamp]],FIND(\".\",tblSalaries[[#This Row],[Timestamp]],1))","v":"41075."},60000,60000,"USD",{"$f":"tblSalaries[[#This Row],[clean Salary (in local currency)]]*VLOOKUP(tblSalaries[[#This Row],[Currency]],tblXrate[],2,FALSE)","v":60000},"Marketing Initatities Analyst","Analyst","USA",{"$f":"VLOOKUP(tblSalaries[[#This Row],[Where do you work]],tblCountries[[Actual]:[Mapping]],2,FALSE)","v":"USA"},{"$f":"VLOOKUP(tblSalaries[[#This Row],[clean Country]]&\"*\",Cont_Table,2,0)","v":"North America"},"All the 8 hours baby, all the 8!",10]
[null,"ID1871","2012-06-15T23:50:11",{"$f":"LEFT(tblSalaries[[#This Row],[Timestamp]],FIND(\".\",tblSalaries[[#This Row],[Timestamp]],1))","v":"41075."},67000,67000,"USD",{"$f":"tblSalaries[[#This Row],[clean Salary (in local currency)]]*VLOOKUP(tblSalaries[[#This Row],[Currency]],tblXrate[],2,FALSE)","v":67000},"Sales Compensation Analyst","Analyst","USA",{"$f":"VLOOKUP(tblSalaries[[#This Row],[Where do you work]],tblCountries[[Actual]:[Mapping]],2,FALSE)","v":"USA"},{"$f":"VLOOKUP(tblSalaries[[#This Row],[clean Country]]&\"*\",Cont_Table,2,0)","v":"North America"},"4 to 6 hours a day",6]
[null,"ID1872","2012-06-16T02:50:49",{"$f":"LEFT(tblSalaries[[#This Row],[Timestamp]],FIND(\".\",tblSalaries[[#This Row],[Timestamp]],1))","v":"41076."},54000,54000,"USD",{"$f":"tblSalaries[[#This Row],[clean Salary (in local currency)]]*VLOOKUP(tblSalaries[[#This Row],[Currency]],tblXrate[],2,FALSE)","v":54000},"materials","Analyst","USA",{"$f":"VLOOKUP(tblSalaries[[#This Row],[Where do you work]],tblCountries[[Actual]:[Mapping]],2,FALSE)","v":"USA"},{"$f":"VLOOKUP(tblSalaries[[#This Row],[clean Country]]&\"*\",Cont_Table,2,0)","v":"North America"},"4 to 6 hours a day",18]
[null,"ID1873","2012-06-16T05:23:03",{"$f":"LEFT(tblSalaries[[#This Row],[Timestamp]],FIND(\".\",tblSalaries[[#This Row],[Timestamp]],1))","v":"41076."},38666,38666,"USD",{"$f":"tblSalaries[[#This Row],[clean Salary (in local currency)]]*VLOOKUP(tblSalaries[[#This Row],[Currency]],tblXrate[],2,FALSE)","v":38666},"Actuarial Specialist","Specialist","South Africa",{"$f":"VLOOKUP(tblSalaries[[#This Row],[Where do you work]],tblCountries[[Actual]:[Mapping]],2,FALSE)","v":"South Africa"},{"$f":"VLOOKUP(tblSalaries[[#This Row],[clean Country]]&\"*\",Cont_Table,2,0)","v":"Africa"},"All the 8 hours baby, all the 8!",10]
[null,"ID1874","2012-06-16T06:17:53",{"$f":"LEFT(tblSalaries[[#This Row],[Timestamp]],FIND(\".\",tblSalaries[[#This Row],[Timestamp]],1))","v":"41076."},63000,63000,"USD",{"$f":"tblSalaries[[#This Row],[clean Salary (in local currency)]]*VLOOKUP(tblSalaries[[#This Row],[Currency]],tblXrate[],2,FALSE)","v":63000},"Marketing Database Analyst","Analyst","USA",{"$f":"VLOOKUP(tblSalaries[[#This Row],[Where do you work]],tblCountries[[Actual]:[Mapping]],2,FALSE)","v":"USA"},{"$f":"VLOOKUP(tblSalaries[[#This Row],[clean Country]]&\"*\",Cont_Table,2,0)","v":"North America"},"4 to 6 hours a day",6]
[null,"ID1875","2012-06-16T08:10:59",{"$f":"LEFT(tblSalaries[[#This Row],[Timestamp]],FIND(\".\",tblSalaries[[#This Row],[Timestamp]],1))","v":"41076."},"63000 USD",63000,"USD",{"$f":"tblSalaries[[#This Row],[clean Salary (in local currency)]]*VLOOKUP(tblSalaries[[#This Row],[Currency]],tblXrate[],2,FALSE)","v":63000},"Financial Analyst","Analyst","USA",{"$f":"VLOOKUP(tblSalaries[[#This Row],[Where do you work]],tblCountries[[Actual]:[Mapping]],2,FALSE)","v":"USA"},{"$f":"VLOOKUP(tblSalaries[[#This Row],[clean Country]]&\"*\",Cont_Table,2,0)","v":"North America"},"All the 8 hours baby, all the 8!",1]
[null,"ID1876","2012-06-16T14:10:51",{"$f":"LEFT(tblSalaries[[#This Row],[Timestamp]],FIND(\".\",tblSalaries[[#This Row],[Timestamp]],1))","v":"41076."},"INR 360000",360000,"INR",{"$f":"tblSalaries[[#This Row],[clean Salary (in local currency)]]*VLOOKUP(tblSalaries[[#This Row],[Currency]],tblXrate[],2,FALSE)","v":6410.8500074793246},"Analyst","Analyst","India",{"$f":"VLOOKUP(tblSalaries[[#This Row],[Where do you work]],tblCountries[[Actual]:[Mapping]],2,FALSE)","v":"India"},{"$f":"VLOOKUP(tblSalaries[[#This Row],[clean Country]]&\"*\",Cont_Table,2,0)","v":"Asia"},"All the 8 hours baby, all the 8!",2]
[null,"ID1877","2012-06-16T17:07:45",{"$f":"LEFT(tblSalaries[[#This Row],[Timestamp]],FIND(\".\",tblSalaries[[#This Row],[Timestamp]],1))","v":"41076."},"INR 50000",600000,"INR",{"$f":"tblSalaries[[#This Row],[clean Salary (in local currency)]]*VLOOKUP(tblSalaries[[#This Row],[Currency]],tblXrate[],2,FALSE)","v":10684.750012465542},"Manager- Customer Support","Manager","India",{"$f":"VLOOKUP(tblSalaries[[#This Row],[Where do you work]],tblCountries[[Actual]:[Mapping]],2,FALSE)","v":"India"},{"$f":"VLOOKUP(tblSalaries[[#This Row],[clean Country]]&\"*\",Cont_Table,2,0)","v":"Asia"},"4 to 6 hours a day",12]
[null,"ID1878","2012-06-16T17:14:03",{"$f":"LEFT(tblSalaries[[#This Row],[Timestamp]],FIND(\".\",tblSalaries[[#This Row],[Timestamp]],1))","v":"41076."},40000,40000,"USD",{"$f":"tblSalaries[[#This Row],[clean Salary (in local currency)]]*VLOOKUP(tblSalaries[[#This Row],[Currency]],tblXrate[],2,FALSE)","v":40000},"Assistant Manager","Manager","India",{"$f":"VLOOKUP(tblSalaries[[#This Row],[Where do you work]],tblCountries[[Actual]:[Mapping]],2,FALSE)","v":"India"},{"$f":"VLOOKUP(tblSalaries[[#This Row],[clean Country]]&\"*\",Cont_Table,2,0)","v":"Asia"},"4 to 6 hours a day",5]
[null,"ID1879","2012-06-16T17:49:27",{"$f":"LEFT(tblSalaries[[#This Row],[Timestamp]],FIND(\".\",tblSalaries[[#This Row],[Timestamp]],1))","v":"41076."},"3.5 lac",350000,"INR",{"$f":"tblSalaries[[#This Row],[clean Salary (in local currency)]]*VLOOKUP(tblSalaries[[#This Row],[Currency]],tblXrate[],2,FALSE)","v":6232.7708406048987},"Analyst","Analyst","India",{"$f":"VLOOKUP(tblSalaries[[#This Row],[Where do you work]],tblCountries[[Actual]:[Mapping]],2,FALSE)","v":"India"},{"$f":"VLOOKUP(tblSalaries[[#This Row],[clean Country]]&\"*\",Cont_Table,2,0)","v":"Asia"},"4 to 6 hours a day",6]
[null,"ID1880","2012-06-16T18:31:59",{"$f":"LEFT(tblSalaries[[#This Row],[Timestamp]],FIND(\".\",tblSalaries[[#This Row],[Timestamp]],1))","v":"41076."},2342342,2342342,"INR",{"$f":"tblSalaries[[#This Row],[clean Salary (in local currency)]]*VLOOKUP(tblSalaries[[#This Row],[Currency]],tblXrate[],2,FALSE)","v":41712.231189497601},"3r23regedf","Misc.","India",{"$f":"VLOOKUP(tblSalaries[[#This Row],[Where do you work]],tblCountries[[Actual]:[Mapping]],2,FALSE)","v":"India"},{"$f":"VLOOKUP(tblSalaries[[#This Row],[clean Country]]&\"*\",Cont_Table,2,0)","v":"Asia"},"2 to 3 hours per day",12]
[null,"ID1881","2012-06-16T18:33:25",{"$f":"LEFT(tblSalaries[[#This Row],[Timestamp]],FIND(\".\",tblSalaries[[#This Row],[Timestamp]],1))","v":"41076."},"Rs. 700000",700000,"INR",{"$f":"tblSalaries[[#This Row],[clean Salary (in local currency)]]*VLOOKUP(tblSalaries[[#This Row],[Currency]],tblXrate[],2,FALSE)","v":12465.541681209797},"Revenue Focus Manager","Manager","India",{"$f":"VLOOKUP(tblSalaries[[#This Row],[Where do you work]],tblCountries[[Actual]:[Mapping]],2,FALSE)","v":"India"},{"$f":"VLOOKUP(tblSalaries[[#This Row],[clean Country]]&\"*\",Cont_Table,2,0)","v":"Asia"},"2 to 3 hours per day",9]
[null,"ID1882","2012-06-16T22:24:30",{"$f":"LEFT(tblSalaries[[#This Row],[Timestamp]],FIND(\".\",tblSalaries[[#This Row],[Timestamp]],1))","v":"41076."},20500,20500,"GBP",{"$f":"tblSalaries[[#This Row],[clean Salary (in local currency)]]*VLOOKUP(tblSalaries[[#This Row],[Currency]],tblXrate[],2,FALSE)","v":32311.654577379326},"analyst","Analyst","UK",{"$f":"VLOOKUP(tblSalaries[[#This Row],[Where do you work]],tblCountries[[Actual]:[Mapping]],2,FALSE)","v":"UK"},{"$f":"VLOOKUP(tblSalaries[[#This Row],[clean Country]]&\"*\",Cont_Table,2,0)","v":"Europe"},"4 to 6 hours a day",20]
[null,"ID1883","2012-06-17T01:34:46",{"$f":"LEFT(tblSalaries[[#This Row],[Timestamp]],FIND(\".\",tblSalaries[[#This Row],[Timestamp]],1))","v":"41077."},"4,00,000",400000,"INR",{"$f":"tblSalaries[[#This Row],[clean Salary (in local currency)]]*VLOOKUP(tblSalaries[[#This Row],[Currency]],tblXrate[],2,FALSE)","v":7123.1666749770275},"technical analyst","Analyst","India",{"$f":"VLOOKUP(tblSalaries[[#This Row],[Where do you work]],tblCountries[[Actual]:[Mapping]],2,FALSE)","v":"India"},{"$f":"VLOOKUP(tblSalaries[[#This Row],[clean Country]]&\"*\",Cont_Table,2,0)","v":"Asia"},"1 or 2 hours a day",2]
[null,"ID1884","2012-06-17T04:02:00",{"$f":"LEFT(tblSalaries[[#This Row],[Timestamp]],FIND(\".\",tblSalaries[[#This Row],[Timestamp]],1))","v":"41077."},"US$100,000",100000,"USD",{"$f":"tblSalaries[[#This Row],[clean Salary (in local currency)]]*VLOOKUP(tblSalaries[[#This Row],[Currency]],tblXrate[],2,FALSE)","v":100000},"Senior Manager MIS","Manager","UAE",{"$f":"VLOOKUP(tblSalaries[[#This Row],[Where do you work]],tblCountries[[Actual]:[Mapping]],2,FALSE)","v":"UAE"},{"$f":"VLOOKUP(tblSalaries[[#This Row],[clean Country]]&\"*\",Cont_Table,2,0)","v":"Asia"},"All the 8 hours baby, all the 8!",15]
[null,"ID1885","2012-06-17T11:38:53",{"$f":"LEFT(tblSalaries[[#This Row],[Timestamp]],FIND(\".\",tblSalaries[[#This Row],[Timestamp]],1))","v":"41077."},75000,75000,"NZD",{"$f":"tblSalaries[[#This Row],[clean Salary (in local currency)]]*VLOOKUP(tblSalaries[[#This Row],[Currency]],tblXrate[],2,FALSE)","v":59819.107020370408},"Commercial Accountant","Accountant","New Zealand",{"$f":"VLOOKUP(tblSalaries[[#This Row],[Where do you work]],tblCountries[[Actual]:[Mapping]],2,FALSE)","v":"New Zealand"},{"$f":"VLOOKUP(tblSalaries[[#This Row],[clean Country]]&\"*\",Cont_Table,2,0)","v":"Australia"},"4 to 6 hours a day",4]
[null,"ID1886","2012-06-17T12:00:57",{"$f":"LEFT(tblSalaries[[#This Row],[Timestamp]],FIND(\".\",tblSalaries[[#This Row],[Timestamp]],1))","v":"41077."},25000,25000,"USD",{"$f":"tblSalaries[[#This Row],[clean Salary (in local currency)]]*VLOOKUP(tblSalaries[[#This Row],[Currency]],tblXrate[],2,FALSE)","v":25000},"Data Analyst","Analyst","India",{"$f":"VLOOKUP(tblSalaries[[#This Row],[Where do you work]],tblCountries[[Actual]:[Mapping]],2,FALSE)","v":"India"},{"$f":"VLOOKUP(tblSalaries[[#This Row],[clean Country]]&\"*\",Cont_Table,2,0)","v":"Asia"},"All the 8 hours baby, all the 8!",1.5]
[null,"ID1887","2012-06-17T12:48:52",{"$f":"LEFT(tblSalaries[[#This Row],[Timestamp]],FIND(\".\",tblSalaries[[#This Row],[Timestamp]],1))","v":"41077."},5000,5000,"USD",{"$f":"tblSalaries[[#This Row],[clean Salary (in local currency)]]*VLOOKUP(tblSalaries[[#This Row],[Currency]],tblXrate[],2,FALSE)","v":5000},"admin","Analyst","India",{"$f":"VLOOKUP(tblSalaries[[#This Row],[Where do you work]],tblCountries[[Actual]:[Mapping]],2,FALSE)","v":"India"},{"$f":"VLOOKUP(tblSalaries[[#This Row],[clean Country]]&\"*\",Cont_Table,2,0)","v":"Asia"},"2 to 3 hours per day",10]
[null,"ID1888","2012-06-17T13:26:38",{"$f":"LEFT(tblSalaries[[#This Row],[Timestamp]],FIND(\".\",tblSalaries[[#This Row],[Timestamp]],1))","v":"41077."},"AUD63000",63000,"AUD",{"$f":"tblSalaries[[#This Row],[clean Salary (in local currency)]]*VLOOKUP(tblSalaries[[#This Row],[Currency]],tblXrate[],2,FALSE)","v":64254.308353366054},"Financial Modelling adviser","Accountant","Australia",{"$f":"VLOOKUP(tblSalaries[[#This Row],[Where do you work]],tblCountries[[Actual]:[Mapping]],2,FALSE)","v":"Australia"},{"$f":"VLOOKUP(tblSalaries[[#This Row],[clean Country]]&\"*\",Cont_Table,2,0)","v":"Australia"},"All the 8 hours baby, all the 8!",3]
[null,"ID1889","2012-06-17T16:01:50",{"$f":"LEFT(tblSalaries[[#This Row],[Timestamp]],FIND(\".\",tblSalaries[[#This Row],[Timestamp]],1))","v":"41077."},60000,60000,"EUR",{"$f":"tblSalaries[[#This Row],[clean Salary (in local currency)]]*VLOOKUP(tblSalaries[[#This Row],[Currency]],tblXrate[],2,FALSE)","v":76223.966339496474},"pm","Manager","Germany",{"$f":"VLOOKUP(tblSalaries[[#This Row],[Where do you work]],tblCountries[[Actual]:[Mapping]],2,FALSE)","v":"Germany"},{"$f":"VLOOKUP(tblSalaries[[#This Row],[clean Country]]&\"*\",Cont_Table,2,0)","v":"Europe"},"4 to 6 hours a day",6]
[null,"ID1890","2012-06-18T05:42:18",{"$f":"LEFT(tblSalaries[[#This Row],[Timestamp]],FIND(\".\",tblSalaries[[#This Row],[Timestamp]],1))","v":"41078."},600000,600000,"DKK",{"$f":"tblSalaries[[#This Row],[clean Salary (in local currency)]]*VLOOKUP(tblSalaries[[#This Row],[Currency]],tblXrate[],2,FALSE)","v":102542.54233725216},"Engineer","Engineer","DK",{"$f":"VLOOKUP(tblSalaries[[#This Row],[Where do you work]],tblCountries[[Actual]:[Mapping]],2,FALSE)","v":"Denmark"},{"$f":"VLOOKUP(tblSalaries[[#This Row],[clean Country]]&\"*\",Cont_Table,2,0)","v":"Europe"},"2 to 3 hours per day",20]
[null,"ID1891","2012-06-18T06:14:35",{"$f":"LEFT(tblSalaries[[#This Row],[Timestamp]],FIND(\".\",tblSalaries[[#This Row],[Timestamp]],1))","v":"41078."},46000,46000,"USD",{"$f":"tblSalaries[[#This Row],[clean Salary (in local currency)]]*VLOOKUP(tblSalaries[[#This Row],[Currency]],tblXrate[],2,FALSE)","v":46000},"AML Analyst","Analyst","USA",{"$f":"VLOOKUP(tblSalaries[[#This Row],[Where do you work]],tblCountries[[Actual]:[Mapping]],2,FALSE)","v":"USA"},{"$f":"VLOOKUP(tblSalaries[[#This Row],[clean Country]]&\"*\",Cont_Table,2,0)","v":"North America"},"All the 8 hours baby, all the 8!",1]
[null,"ID1892","2012-06-18T08:19:01",{"$f":"LEFT(tblSalaries[[#This Row],[Timestamp]],FIND(\".\",tblSalaries[[#This Row],[Timestamp]],1))","v":"41078."},5000,5000,"USD",{"$f":"tblSalaries[[#This Row],[clean Salary (in local currency)]]*VLOOKUP(tblSalaries[[#This Row],[Currency]],tblXrate[],2,FALSE)","v":5000},"analyst ","Analyst","India",{"$f":"VLOOKUP(tblSalaries[[#This Row],[Where do you work]],tblCountries[[Actual]:[Mapping]],2,FALSE)","v":"India"},{"$f":"VLOOKUP(tblSalaries[[#This Row],[clean Country]]&\"*\",Cont_Table,2,0)","v":"Asia"},"All the 8 hours baby, all the 8!",2]
[null,"ID1893","2012-06-18T14:27:59",{"$f":"LEFT(tblSalaries[[#This Row],[Timestamp]],FIND(\".\",tblSalaries[[#This Row],[Timestamp]],1))","v":"41078."},"$AUD 76300",76300,"AUD",{"$f":"tblSalaries[[#This Row],[clean Salary (in local currency)]]*VLOOKUP(tblSalaries[[#This Row],[Currency]],tblXrate[],2,FALSE)","v":77819.106783521114},"Operations Analyst","Analyst","Australia",{"$f":"VLOOKUP(tblSalaries[[#This Row],[Where do you work]],tblCountries[[Actual]:[Mapping]],2,FALSE)","v":"Australia"},{"$f":"VLOOKUP(tblSalaries[[#This Row],[clean Country]]&\"*\",Cont_Table,2,0)","v":"Australia"},"All the 8 hours baby, all the 8!",3]
[null,"ID1894","2012-06-18T17:51:52",{"$f":"LEFT(tblSalaries[[#This Row],[Timestamp]],FIND(\".\",tblSalaries[[#This Row],[Timestamp]],1))","v":"41078."},"Rs. 350000",350000,"INR",{"$f":"tblSalaries[[#This Row],[clean Salary (in local currency)]]*VLOOKUP(tblSalaries[[#This Row],[Currency]],tblXrate[],2,FALSE)","v":6232.7708406048987},"manager purchase","Manager","India",{"$f":"VLOOKUP(tblSalaries[[#This Row],[Where do you work]],tblCountries[[Actual]:[Mapping]],2,FALSE)","v":"India"},{"$f":"VLOOKUP(tblSalaries[[#This Row],[clean Country]]&\"*\",Cont_Table,2,0)","v":"Asia"},"2 to 3 hours per day",27]
[null,"ID1895","2012-06-18T18:26:47",{"$f":"LEFT(tblSalaries[[#This Row],[Timestamp]],FIND(\".\",tblSalaries[[#This Row],[Timestamp]],1))","v":"41078."},"Â£35000",35000,"GBP",{"$f":"tblSalaries[[#This Row],[clean Salary (in local currency)]]*VLOOKUP(tblSalaries[[#This Row],[Currency]],tblXrate[],2,FALSE)","v":55166.239522354947},"Process Analyst","Analyst","UK",{"$f":"VLOOKUP(tblSalaries[[#This Row],[Where do you work]],tblCountries[[Actual]:[Mapping]],2,FALSE)","v":"UK"},{"$f":"VLOOKUP(tblSalaries[[#This Row],[clean Country]]&\"*\",Cont_Table,2,0)","v":"Europe"},"All the 8 hours baby, all the 8!",34]
[null,"ID1896","2012-06-19T00:23:24",{"$f":"LEFT(tblSalaries[[#This Row],[Timestamp]],FIND(\".\",tblSalaries[[#This Row],[Timestamp]],1))","v":"41079."},45000,45000,"USD",{"$f":"tblSalaries[[#This Row],[clean Salary (in local currency)]]*VLOOKUP(tblSalaries[[#This Row],[Currency]],tblXrate[],2,FALSE)","v":45000},"Senior Accountant","Accountant","USA",{"$f":"VLOOKUP(tblSalaries[[#This Row],[Where do you work]],tblCountries[[Actual]:[Mapping]],2,FALSE)","v":"USA"},{"$f":"VLOOKUP(tblSalaries[[#This Row],[clean Country]]&\"*\",Cont_Table,2,0)","v":"North America"},"2 to 3 hours per day",5]
[null,"ID1897","2012-06-19T01:49:49",{"$f":"LEFT(tblSalaries[[#This Row],[Timestamp]],FIND(\".\",tblSalaries[[#This Row],[Timestamp]],1))","v":"41079."},"60k usd",60000,"USD",{"$f":"tblSalaries[[#This Row],[clean Salary (in local currency)]]*VLOOKUP(tblSalaries[[#This Row],[Currency]],tblXrate[],2,FALSE)","v":60000},"buyer","Manager","Canada",{"$f":"VLOOKUP(tblSalaries[[#This Row],[Where do you work]],tblCountries[[Actual]:[Mapping]],2,FALSE)","v":"Canada"},{"$f":"VLOOKUP(tblSalaries[[#This Row],[clean Country]]&\"*\",Cont_Table,2,0)","v":"North America"},"2 to 3 hours per day",10]
[null,"ID1898","2012-06-19T03:25:34",{"$f":"LEFT(tblSalaries[[#This Row],[Timestamp]],FIND(\".\",tblSalaries[[#This Row],[Timestamp]],1))","v":"41079."},43000,43000,"USD",{"$f":"tblSalaries[[#This Row],[clean Salary (in local currency)]]*VLOOKUP(tblSalaries[[#This Row],[Currency]],tblXrate[],2,FALSE)","v":43000},"Performance Improvement Analyst","Analyst","USA",{"$f":"VLOOKUP(tblSalaries[[#This Row],[Where do you work]],tblCountries[[Actual]:[Mapping]],2,FALSE)","v":"USA"},{"$f":"VLOOKUP(tblSalaries[[#This Row],[clean Country]]&\"*\",Cont_Table,2,0)","v":"North America"},"4 to 6 hours a day",5]
[null,"ID1899","2012-06-19T04:55:06",{"$f":"LEFT(tblSalaries[[#This Row],[Timestamp]],FIND(\".\",tblSalaries[[#This Row],[Timestamp]],1))","v":"41079."},28000,28000,"EUR",{"$f":"tblSalaries[[#This Row],[clean Salary (in local currency)]]*VLOOKUP(tblSalaries[[#This Row],[Currency]],tblXrate[],2,FALSE)","v":35571.184291765021},"controller","Controller","Spain",{"$f":"VLOOKUP(tblSalaries[[#This Row],[Where do you work]],tblCountries[[Actual]:[Mapping]],2,FALSE)","v":"Spain"},{"$f":"VLOOKUP(tblSalaries[[#This Row],[clean Country]]&\"*\",Cont_Table,2,0)","v":"Europe"},"4 to 6 hours a day",8]
[null,"ID1900","2012-06-19T06:50:47",{"$f":"LEFT(tblSalaries[[#This Row],[Timestamp]],FIND(\".\",tblSalaries[[#This Row],[Timestamp]],1))","v":"41079."},48000,48000,"USD",{"$f":"tblSalaries[[#This Row],[clean Salary (in local currency)]]*VLOOKUP(tblSalaries[[#This Row],[Currency]],tblXrate[],2,FALSE)","v":48000},"Inventory Analyst","Analyst","USA",{"$f":"VLOOKUP(tblSalaries[[#This Row],[Where do you work]],tblCountries[[Actual]:[Mapping]],2,FALSE)","v":"USA"},{"$f":"VLOOKUP(tblSalaries[[#This Row],[clean Country]]&\"*\",Cont_Table,2,0)","v":"North America"},"4 to 6 hours a day",12]
[null,"ID1901","2012-06-19T07:59:00",{"$f":"LEFT(tblSalaries[[#This Row],[Timestamp]],FIND(\".\",tblSalaries[[#This Row],[Timestamp]],1))","v":"41079."},120000,120000,"AUD",{"$f":"tblSalaries[[#This Row],[clean Salary (in local currency)]]*VLOOKUP(tblSalaries[[#This Row],[Currency]],tblXrate[],2,FALSE)","v":122389.15876831629},"Manager","Manager","Australia",{"$f":"VLOOKUP(tblSalaries[[#This Row],[Where do you work]],tblCountries[[Actual]:[Mapping]],2,FALSE)","v":"Australia"},{"$f":"VLOOKUP(tblSalaries[[#This Row],[clean Country]]&\"*\",Cont_Table,2,0)","v":"Australia"},"1 or 2 hours a day",8]
[null,"ID1902","2012-06-19T12:39:16",{"$f":"LEFT(tblSalaries[[#This Row],[Timestamp]],FIND(\".\",tblSalaries[[#This Row],[Timestamp]],1))","v":"41079."},4000,4000,"USD",{"$f":"tblSalaries[[#This Row],[clean Salary (in local currency)]]*VLOOKUP(tblSalaries[[#This Row],[Currency]],tblXrate[],2,FALSE)","v":4000},"operator","Analyst","India",{"$f":"VLOOKUP(tblSalaries[[#This Row],[Where do you work]],tblCountries[[Actual]:[Mapping]],2,FALSE)","v":"India"},{"$f":"VLOOKUP(tblSalaries[[#This Row],[clean Country]]&\"*\",Cont_Table,2,0)","v":"Asia"},"2 to 3 hours per day",4]
[null,"ID1903","2012-06-19T15:15:38",{"$f":"LEFT(tblSalaries[[#This Row],[Timestamp]],FIND(\".\",tblSalaries[[#This Row],[Timestamp]],1))","v":"41079."},250000,250000,"INR",{"$f":"tblSalaries[[#This Row],[clean Salary (in local currency)]]*VLOOKUP(tblSalaries[[#This Row],[Currency]],tblXrate[],2,FALSE)","v":4451.9791718606421},"MIS EXECUTIVE","Reporting","India",{"$f":"VLOOKUP(tblSalaries[[#This Row],[Where do you work]],tblCountries[[Actual]:[Mapping]],2,FALSE)","v":"India"},{"$f":"VLOOKUP(tblSalaries[[#This Row],[clean Country]]&\"*\",Cont_Table,2,0)","v":"Asia"},"4 to 6 hours a day",3]
[null,"ID1904","2012-06-19T17:01:38",{"$f":"LEFT(tblSalaries[[#This Row],[Timestamp]],FIND(\".\",tblSalaries[[#This Row],[Timestamp]],1))","v":"41079."},"52,224.00ETB",52224,"ETB",{"$f":"tblSalaries[[#This Row],[clean Salary (in local currency)]]*VLOOKUP(tblSalaries[[#This Row],[Currency]],tblXrate[],2,FALSE)","v":2953.8461538461538},"Project Costing &Dashboard reporting","Reporting","Ethiopia",{"$f":"VLOOKUP(tblSalaries[[#This Row],[Where do you work]],tblCountries[[Actual]:[Mapping]],2,FALSE)","v":"Ethiopia"},{"$f":"VLOOKUP(tblSalaries[[#This Row],[clean Country]]&\"*\",Cont_Table,2,0)","v":"Africa"},"4 to 6 hours a day",3]
[null,"ID1905","2012-06-19T18:17:42",{"$f":"LEFT(tblSalaries[[#This Row],[Timestamp]],FIND(\".\",tblSalaries[[#This Row],[Timestamp]],1))","v":"41079."},25000,25000,"GBP",{"$f":"tblSalaries[[#This Row],[clean Salary (in local currency)]]*VLOOKUP(tblSalaries[[#This Row],[Currency]],tblXrate[],2,FALSE)","v":39404.456801682099},"Data Analyst","Analyst","UK",{"$f":"VLOOKUP(tblSalaries[[#This Row],[Where do you work]],tblCountries[[Actual]:[Mapping]],2,FALSE)","v":"UK"},{"$f":"VLOOKUP(tblSalaries[[#This Row],[clean Country]]&\"*\",Cont_Table,2,0)","v":"Europe"},"4 to 6 hours a day",3]
[null,"ID1906","2012-06-19T19:33:25",{"$f":"LEFT(tblSalaries[[#This Row],[Timestamp]],FIND(\".\",tblSalaries[[#This Row],[Timestamp]],1))","v":"41079."},74000,74000,"AUD",{"$f":"tblSalaries[[#This Row],[clean Salary (in local currency)]]*VLOOKUP(tblSalaries[[#This Row],[Currency]],tblXrate[],2,FALSE)","v":75473.31457379504},"Systems Analyst","Analyst","Australia",{"$f":"VLOOKUP(tblSalaries[[#This Row],[Where do you work]],tblCountries[[Actual]:[Mapping]],2,FALSE)","v":"Australia"},{"$f":"VLOOKUP(tblSalaries[[#This Row],[clean Country]]&\"*\",Cont_Table,2,0)","v":"Australia"},"4 to 6 hours a day",8]
[null,"ID1907","2012-06-19T20:16:30",{"$f":"LEFT(tblSalaries[[#This Row],[Timestamp]],FIND(\".\",tblSalaries[[#This Row],[Timestamp]],1))","v":"41079."},750000,750000,"INR",{"$f":"tblSalaries[[#This Row],[clean Salary (in local currency)]]*VLOOKUP(tblSalaries[[#This Row],[Currency]],tblXrate[],2,FALSE)","v":13355.937515581925},"Analyst","Analyst","India",{"$f":"VLOOKUP(tblSalaries[[#This Row],[Where do you work]],tblCountries[[Actual]:[Mapping]],2,FALSE)","v":"India"},{"$f":"VLOOKUP(tblSalaries[[#This Row],[clean Country]]&\"*\",Cont_Table,2,0)","v":"Asia"},"4 to 6 hours a day",5]
[null,"ID1908","2012-06-19T20:35:35",{"$f":"LEFT(tblSalaries[[#This Row],[Timestamp]],FIND(\".\",tblSalaries[[#This Row],[Timestamp]],1))","v":"41079."},25000,25000,"USD",{"$f":"tblSalaries[[#This Row],[clean Salary (in local currency)]]*VLOOKUP(tblSalaries[[#This Row],[Currency]],tblXrate[],2,FALSE)","v":25000},"Team Lead","Manager","India",{"$f":"VLOOKUP(tblSalaries[[#This Row],[Where do you work]],tblCountries[[Actual]:[Mapping]],2,FALSE)","v":"India"},{"$f":"VLOOKUP(tblSalaries[[#This Row],[clean Country]]&\"*\",Cont_Table,2,0)","v":"Asia"},"4 to 6 hours a day",10]
[null,"ID1909","2012-06-19T21:01:21",{"$f":"LEFT(tblSalaries[[#This Row],[Timestamp]],FIND(\".\",tblSalaries[[#This Row],[Timestamp]],1))","v":"41079."},420000,420000,"INR",{"$f":"tblSalaries[[#This Row],[clean Salary (in local currency)]]*VLOOKUP(tblSalaries[[#This Row],[Currency]],tblXrate[],2,FALSE)","v":7479.3250087258784},"Analyst","Analyst","India",{"$f":"VLOOKUP(tblSalaries[[#This Row],[Where do you work]],tblCountries[[Actual]:[Mapping]],2,FALSE)","v":"India"},{"$f":"VLOOKUP(tblSalaries[[#This Row],[clean Country]]&\"*\",Cont_Table,2,0)","v":"Asia"},"4 to 6 hours a day",2]
[null,"ID1910","2012-06-19T21:06:16",{"$f":"LEFT(tblSalaries[[#This Row],[Timestamp]],FIND(\".\",tblSalaries[[#This Row],[Timestamp]],1))","v":"41079."},62000,62000,"USD",{"$f":"tblSalaries[[#This Row],[clean Salary (in local currency)]]*VLOOKUP(tblSalaries[[#This Row],[Currency]],tblXrate[],2,FALSE)","v":62000},"Analyst","Analyst","USA",{"$f":"VLOOKUP(tblSalaries[[#This Row],[Where do you work]],tblCountries[[Actual]:[Mapping]],2,FALSE)","v":"USA"},{"$f":"VLOOKUP(tblSalaries[[#This Row],[clean Country]]&\"*\",Cont_Table,2,0)","v":"North America"},"4 to 6 hours a day",4]
[null,"ID1911","2012-06-19T21:32:36",{"$f":"LEFT(tblSalaries[[#This Row],[Timestamp]],FIND(\".\",tblSalaries[[#This Row],[Timestamp]],1))","v":"41079."},48000,48000,"USD",{"$f":"tblSalaries[[#This Row],[clean Salary (in local currency)]]*VLOOKUP(tblSalaries[[#This Row],[Currency]],tblXrate[],2,FALSE)","v":48000},"Marketing Analyst Co-op","Analyst","USA",{"$f":"VLOOKUP(tblSalaries[[#This Row],[Where do you work]],tblCountries[[Actual]:[Mapping]],2,FALSE)","v":"USA"},{"$f":"VLOOKUP(tblSalaries[[#This Row],[clean Country]]&\"*\",Cont_Table,2,0)","v":"North America"},"4 to 6 hours a day",1]
[null,"ID1912","2012-06-19T22:42:55",{"$f":"LEFT(tblSalaries[[#This Row],[Timestamp]],FIND(\".\",tblSalaries[[#This Row],[Timestamp]],1))","v":"41079."},5000,5000,"USD",{"$f":"tblSalaries[[#This Row],[clean Salary (in local currency)]]*VLOOKUP(tblSalaries[[#This Row],[Currency]],tblXrate[],2,FALSE)","v":5000},"abc","Misc.","India",{"$f":"VLOOKUP(tblSalaries[[#This Row],[Where do you work]],tblCountries[[Actual]:[Mapping]],2,FALSE)","v":"India"},{"$f":"VLOOKUP(tblSalaries[[#This Row],[clean Country]]&\"*\",Cont_Table,2,0)","v":"Asia"},"4 to 6 hours a day",3]
[null,"ID1914","2012-06-20T00:27:54",{"$f":"LEFT(tblSalaries[[#This Row],[Timestamp]],FIND(\".\",tblSalaries[[#This Row],[Timestamp]],1))","v":"41080."},"Rs23000/month",276000,"INR",{"$f":"tblSalaries[[#This Row],[clean Salary (in local currency)]]*VLOOKUP(tblSalaries[[#This Row],[Currency]],tblXrate[],2,FALSE)","v":4914.9850057341491},"MIS specialist","Reporting","India",{"$f":"VLOOKUP(tblSalaries[[#This Row],[Where do you work]],tblCountries[[Actual]:[Mapping]],2,FALSE)","v":"India"},{"$f":"VLOOKUP(tblSalaries[[#This Row],[clean Country]]&\"*\",Cont_Table,2,0)","v":"Asia"},"All the 8 hours baby, all the 8!",6]
[null,"ID1915","2012-06-20T00:55:28",{"$f":"LEFT(tblSalaries[[#This Row],[Timestamp]],FIND(\".\",tblSalaries[[#This Row],[Timestamp]],1))","v":"41080."},75000,75000,"USD",{"$f":"tblSalaries[[#This Row],[clean Salary (in local currency)]]*VLOOKUP(tblSalaries[[#This Row],[Currency]],tblXrate[],2,FALSE)","v":75000},"Data Analyst","Analyst","USA",{"$f":"VLOOKUP(tblSalaries[[#This Row],[Where do you work]],tblCountries[[Actual]:[Mapping]],2,FALSE)","v":"USA"},{"$f":"VLOOKUP(tblSalaries[[#This Row],[clean Country]]&\"*\",Cont_Table,2,0)","v":"North America"},"1 or 2 hours a day",3]
[null,"ID1916","2012-06-20T01:20:49",{"$f":"LEFT(tblSalaries[[#This Row],[Timestamp]],FIND(\".\",tblSalaries[[#This Row],[Timestamp]],1))","v":"41080."},250000,250000,"INR",{"$f":"tblSalaries[[#This Row],[clean Salary (in local currency)]]*VLOOKUP(tblSalaries[[#This Row],[Currency]],tblXrate[],2,FALSE)","v":4451.9791718606421},"research associate","Analyst","India",{"$f":"VLOOKUP(tblSalaries[[#This Row],[Where do you work]],tblCountries[[Actual]:[Mapping]],2,FALSE)","v":"India"},{"$f":"VLOOKUP(tblSalaries[[#This Row],[clean Country]]&\"*\",Cont_Table,2,0)","v":"Asia"},"Excel ?!? What Excel?",1.6]
[null,"ID1917","2012-06-20T01:43:12",{"$f":"LEFT(tblSalaries[[#This Row],[Timestamp]],FIND(\".\",tblSalaries[[#This Row],[Timestamp]],1))","v":"41080."},700,8400,"USD",{"$f":"tblSalaries[[#This Row],[clean Salary (in local currency)]]*VLOOKUP(tblSalaries[[#This Row],[Currency]],tblXrate[],2,FALSE)","v":8400},"Sr. Executive MIS","Reporting","India",{"$f":"VLOOKUP(tblSalaries[[#This Row],[Where do you work]],tblCountries[[Actual]:[Mapping]],2,FALSE)","v":"India"},{"$f":"VLOOKUP(tblSalaries[[#This Row],[clean Country]]&\"*\",Cont_Table,2,0)","v":"Asia"},"All the 8 hours baby, all the 8!",6]
[null,"ID1918","2012-06-20T01:54:10",{"$f":"LEFT(tblSalaries[[#This Row],[Timestamp]],FIND(\".\",tblSalaries[[#This Row],[Timestamp]],1))","v":"41080."},20000,20000,"USD",{"$f":"tblSalaries[[#This Row],[clean Salary (in local currency)]]*VLOOKUP(tblSalaries[[#This Row],[Currency]],tblXrate[],2,FALSE)","v":20000},"Monitoring and Evaluation Officer","Manager","India",{"$f":"VLOOKUP(tblSalaries[[#This Row],[Where do you work]],tblCountries[[Actual]:[Mapping]],2,FALSE)","v":"India"},{"$f":"VLOOKUP(tblSalaries[[#This Row],[clean Country]]&\"*\",Cont_Table,2,0)","v":"Asia"},"2 to 3 hours per day",5]
[null,"ID1919","2012-06-20T02:31:52",{"$f":"LEFT(tblSalaries[[#This Row],[Timestamp]],FIND(\".\",tblSalaries[[#This Row],[Timestamp]],1))","v":"41080."},110000,110000,"USD",{"$f":"tblSalaries[[#This Row],[clean Salary (in local currency)]]*VLOOKUP(tblSalaries[[#This Row],[Currency]],tblXrate[],2,FALSE)","v":110000},"Vice President - Finance","CXO or Top Mgmt.","USA",{"$f":"VLOOKUP(tblSalaries[[#This Row],[Where do you work]],tblCountries[[Actual]:[Mapping]],2,FALSE)","v":"USA"},{"$f":"VLOOKUP(tblSalaries[[#This Row],[clean Country]]&\"*\",Cont_Table,2,0)","v":"North America"},"4 to 6 hours a day",10]
[null,"ID1920","2012-06-20T03:52:40",{"$f":"LEFT(tblSalaries[[#This Row],[Timestamp]],FIND(\".\",tblSalaries[[#This Row],[Timestamp]],1))","v":"41080."},50000,50000,"USD",{"$f":"tblSalaries[[#This Row],[clean Salary (in local currency)]]*VLOOKUP(tblSalaries[[#This Row],[Currency]],tblXrate[],2,FALSE)","v":50000},"Operations Analyst ","Analyst","USA",{"$f":"VLOOKUP(tblSalaries[[#This Row],[Where do you work]],tblCountries[[Actual]:[Mapping]],2,FALSE)","v":"USA"},{"$f":"VLOOKUP(tblSalaries[[#This Row],[clean Country]]&\"*\",Cont_Table,2,0)","v":"North America"},"All the 8 hours baby, all the 8!",3.5]
[null,"ID1921","2012-06-20T03:55:55",{"$f":"LEFT(tblSalaries[[#This Row],[Timestamp]],FIND(\".\",tblSalaries[[#This Row],[Timestamp]],1))","v":"41080."},46000,46000,"USD",{"$f":"tblSalaries[[#This Row],[clean Salary (in local currency)]]*VLOOKUP(tblSalaries[[#This Row],[Currency]],tblXrate[],2,FALSE)","v":46000},"Poultry Analyst","Analyst","USA",{"$f":"VLOOKUP(tblSalaries[[#This Row],[Where do you work]],tblCountries[[Actual]:[Mapping]],2,FALSE)","v":"USA"},{"$f":"VLOOKUP(tblSalaries[[#This Row],[clean Country]]&\"*\",Cont_Table,2,0)","v":"North America"},"4 to 6 hours a day",8]
[null,"ID1922","2012-06-20T05:03:44",{"$f":"LEFT(tblSalaries[[#This Row],[Timestamp]],FIND(\".\",tblSalaries[[#This Row],[Timestamp]],1))","v":"41080."},115000,115000,"USD",{"$f":"tblSalaries[[#This Row],[clean Salary (in local currency)]]*VLOOKUP(tblSalaries[[#This Row],[Currency]],tblXrate[],2,FALSE)","v":115000},"Business Analyst","Analyst","USA",{"$f":"VLOOKUP(tblSalaries[[#This Row],[Where do you work]],tblCountries[[Actual]:[Mapping]],2,FALSE)","v":"USA"},{"$f":"VLOOKUP(tblSalaries[[#This Row],[clean Country]]&\"*\",Cont_Table,2,0)","v":"North America"},"All the 8 hours baby, all the 8!",15]
[null,"ID1924","2012-06-20T12:53:56",{"$f":"LEFT(tblSalaries[[#This Row],[Timestamp]],FIND(\".\",tblSalaries[[#This Row],[Timestamp]],1))","v":"41080."},180000,180000,"INR",{"$f":"tblSalaries[[#This Row],[clean Salary (in local currency)]]*VLOOKUP(tblSalaries[[#This Row],[Currency]],tblXrate[],2,FALSE)","v":3205.4250037396623},"Customer Resolution","Analyst","India",{"$f":"VLOOKUP(tblSalaries[[#This Row],[Where do you work]],tblCountries[[Actual]:[Mapping]],2,FALSE)","v":"India"},{"$f":"VLOOKUP(tblSalaries[[#This Row],[clean Country]]&\"*\",Cont_Table,2,0)","v":"Asia"},"4 to 6 hours a day",3]
[null,"ID1925","2012-06-20T13:05:17",{"$f":"LEFT(tblSalaries[[#This Row],[Timestamp]],FIND(\".\",tblSalaries[[#This Row],[Timestamp]],1))","v":"41080."},"60000 EUR",60000,"EUR",{"$f":"tblSalaries[[#This Row],[clean Salary (in local currency)]]*VLOOKUP(tblSalaries[[#This Row],[Currency]],tblXrate[],2,FALSE)","v":76223.966339496474},"Project Manager","Manager","Europe",{"$f":"VLOOKUP(tblSalaries[[#This Row],[Where do you work]],tblCountries[[Actual]:[Mapping]],2,FALSE)","v":"Europe"},{"$f":"VLOOKUP(tblSalaries[[#This Row],[clean Country]]&\"*\",Cont_Table,2,0)","v":"Europe"},"2 to 3 hours per day",20]
[null,"ID1927","2012-06-20T14:08:51",{"$f":"LEFT(tblSalaries[[#This Row],[Timestamp]],FIND(\".\",tblSalaries[[#This Row],[Timestamp]],1))","v":"41080."},52500,52500,"USD",{"$f":"tblSalaries[[#This Row],[clean Salary (in local currency)]]*VLOOKUP(tblSalaries[[#This Row],[Currency]],tblXrate[],2,FALSE)","v":52500},"Business Analist","Analyst","south africa",{"$f":"VLOOKUP(tblSalaries[[#This Row],[Where do you work]],tblCountries[[Actual]:[Mapping]],2,FALSE)","v":"South Africa"},{"$f":"VLOOKUP(tblSalaries[[#This Row],[clean Country]]&\"*\",Cont_Table,2,0)","v":"Africa"},"4 to 6 hours a day",21]
[null,"ID1928","2012-06-20T20:58:23",{"$f":"LEFT(tblSalaries[[#This Row],[Timestamp]],FIND(\".\",tblSalaries[[#This Row],[Timestamp]],1))","v":"41080."},8400,100800,"USD",{"$f":"tblSalaries[[#This Row],[clean Salary (in local currency)]]*VLOOKUP(tblSalaries[[#This Row],[Currency]],tblXrate[],2,FALSE)","v":100800},"AVP","CXO or Top Mgmt.","Oman",{"$f":"VLOOKUP(tblSalaries[[#This Row],[Where do you work]],tblCountries[[Actual]:[Mapping]],2,FALSE)","v":"Oman"},{"$f":"VLOOKUP(tblSalaries[[#This Row],[clean Country]]&\"*\",Cont_Table,2,0)","v":"Asia"},"4 to 6 hours a day",4]
[null,"ID1929","2012-06-21T03:46:23",{"$f":"LEFT(tblSalaries[[#This Row],[Timestamp]],FIND(\".\",tblSalaries[[#This Row],[Timestamp]],1))","v":"41081."},21000,21000,"USD",{"$f":"tblSalaries[[#This Row],[clean Salary (in local currency)]]*VLOOKUP(tblSalaries[[#This Row],[Currency]],tblXrate[],2,FALSE)","v":21000},"eorl","Misc.","India",{"$f":"VLOOKUP(tblSalaries[[#This Row],[Where do you work]],tblCountries[[Actual]:[Mapping]],2,FALSE)","v":"India"},{"$f":"VLOOKUP(tblSalaries[[#This Row],[clean Country]]&\"*\",Cont_Table,2,0)","v":"Asia"},"All the 8 hours baby, all the 8!",5]
[null,"ID1930","2012-06-21T04:06:15",{"$f":"LEFT(tblSalaries[[#This Row],[Timestamp]],FIND(\".\",tblSalaries[[#This Row],[Timestamp]],1))","v":"41081."},40000,40000,"USD",{"$f":"tblSalaries[[#This Row],[clean Salary (in local currency)]]*VLOOKUP(tblSalaries[[#This Row],[Currency]],tblXrate[],2,FALSE)","v":40000},"Corporate Trainer","Analyst","USA",{"$f":"VLOOKUP(tblSalaries[[#This Row],[Where do you work]],tblCountries[[Actual]:[Mapping]],2,FALSE)","v":"USA"},{"$f":"VLOOKUP(tblSalaries[[#This Row],[clean Country]]&\"*\",Cont_Table,2,0)","v":"North America"},"1 or 2 hours a day",3]
[null,"ID1931","2012-06-21T04:44:20",{"$f":"LEFT(tblSalaries[[#This Row],[Timestamp]],FIND(\".\",tblSalaries[[#This Row],[Timestamp]],1))","v":"41081."},46359,46359,"USD",{"$f":"tblSalaries[[#This Row],[clean Salary (in local currency)]]*VLOOKUP(tblSalaries[[#This Row],[Currency]],tblXrate[],2,FALSE)","v":46359},"Data Analyst","Analyst","USA",{"$f":"VLOOKUP(tblSalaries[[#This Row],[Where do you work]],tblCountries[[Actual]:[Mapping]],2,FALSE)","v":"USA"},{"$f":"VLOOKUP(tblSalaries[[#This Row],[clean Country]]&\"*\",Cont_Table,2,0)","v":"North America"},"All the 8 hours baby, all the 8!",5]
[null,"ID1932","2012-06-21T04:46:24",{"$f":"LEFT(tblSalaries[[#This Row],[Timestamp]],FIND(\".\",tblSalaries[[#This Row],[Timestamp]],1))","v":"41081."},70000,70000,"USD",{"$f":"tblSalaries[[#This Row],[clean Salary (in local currency)]]*VLOOKUP(tblSalaries[[#This Row],[Currency]],tblXrate[],2,FALSE)","v":70000},"Administrative Coordinator","Analyst","USA",{"$f":"VLOOKUP(tblSalaries[[#This Row],[Where do you work]],tblCountries[[Actual]:[Mapping]],2,FALSE)","v":"USA"},{"$f":"VLOOKUP(tblSalaries[[#This Row],[clean Country]]&\"*\",Cont_Table,2,0)","v":"North America"},"4 to 6 hours a day",10]

{"sheet":"Calculations","index":5,"n_rows":44,"n_cols":19,"rows_kept":44,"cut":false,"hidden":true,"merged":[]}
[]
[null,"","# Responses","Total Income","Average","Average Yrs Exp"]
[null,"Africa",{"$f":"COUNTIF(tblSalaries[[#All],[Continent]],B3)","v":37},{"$f":"SUMIF(tblSalaries[[#All],[Continent]],Calculations!B3,sal_usd)","v":1431465.2782935433},{"$f":"D3/C3","v":38688.250764690361},{"$f":"AVERAGEIF(tblSalaries[Continent],B3,tblSalaries[Years of Experience])","v":9.8387096774193541},null,null,null,null,"1 or 2 hours a day","2 to 3 hours per day","4 to 6 hours a day","All the 8 hours baby, all the 8!","Excel ?!? What Excel?"]
[null,"Asia",{"$f":"COUNTIF(tblSalaries[[#All],[Continent]],B4)","v":721},{"$f":"SUMIF(tblSalaries[[#All],[Continent]],Calculations!B4,sal_usd)","v":30156789.670329448},41826.337961621983,{"$f":"AVERAGEIF(tblSalaries[Continent],B4,tblSalaries[Years of Experience])","v":6.8341059602649006},null,null,null,"Africa",{"$f":"COUNTIFS(INDIRECT(\"tblSalaries[Continent]\"),$J5,INDIRECT(\"tblSalaries[How many hours of a day you work on Excel]\"),K$3)","v":76},170,268,205,2]
[null,"Australia",{"$f":"COUNTIF(tblSalaries[[#All],[Continent]],B5)","v":96},{"$f":"SUMIF(tblSalaries[[#All],[Continent]],Calculations!B5,sal_usd)","v":5735505.0059652179},59744.843812137689,{"$f":"AVERAGEIF(tblSalaries[Continent],B5,tblSalaries[Years of Experience])","v":10.488764044943821},null,null,null,"Asia",10,29,43,14,0]
[null,"Europe",{"$f":"COUNTIF(tblSalaries[[#All],[Continent]],B6)","v":303},{"$f":"SUMIF(tblSalaries[[#All],[Continent]],Calculations!B6,sal_usd)","v":15255651.4759675},50348.684739166667,{"$f":"AVERAGEIF(tblSalaries[Continent],B6,tblSalaries[Years of Experience])","v":10.265000000000001},null,null,null,"Australia",30,76,124,72,1]
[null,"North America",{"$f":"COUNTIF(tblSalaries[[#All],[Continent]],B7)","v":693},{"$f":"SUMIF(tblSalaries[[#All],[Continent]],Calculations!B7,sal_usd)","v":38725174.862885483},55880.483207626959,{"$f":"AVERAGEIF(tblSalaries[Continent],B7,tblSalaries[Years of Experience])","v":10.14054054054054},null,null,null,"Europe",51,170,313,155,4]
[null,"South America",{"$f":"COUNTIF(tblSalaries[[#All],[Continent]],B8)","v":32},{"$f":"SUMIF(tblSalaries[[#All],[Continent]],Calculations!B8,sal_usd)","v":1971289.8729736705},61602.808530427203,{"$f":"AVERAGEIF(tblSalaries[Continent],B8,tblSalaries[Years of Experience])","v":8.5714285714285712},null,null,null,"North America",7,2,7,16,0]
[null,"All",{"$f":"AVERAGE(C3:C8)","v":313.66666666666669},null,null,null,null,null,null,"South America",0,0,0,0,0]
[null,null,null,null,null,null,null,null,null,"Totals",{"$f":"SUM(K4:K9)","v":174},{"$f":"SUM(L4:L9)","v":447},{"$f":"SUM(M4:M9)","v":755},{"$f":"SUM(N4:N9)","v":462},{"$f":"SUM(O4:O9)","v":7}]
[null,null,{"$f":"C2","v":"# Responses"},"Average Salary","Average Yrs Exp"]
[null,"Accountant",{"$f":"COUNTIF(Job_Type,B12)","v":135},{"$f":"AVERAGEIF(Job_Type,B12,sal_usd)","v":46058.758280854316},{"$f":"AVERAGEIF(Job_Type,B12,yrs_exp)","v":9.3366336633663369}]
[null,"Analyst",743,49452.986643469259,7.3189753320683106,null,null,null,null,null,"1 or 2 hours a day","2 to 3 hours per day","4 to 6 hours a day","All the 8 hours baby, all the 8!","Excel ?!? What Excel?"]
[null,"Consultant",90,48668.601994263234,9.2241379310344822,null,null,null,null,"Accountant",{"$f":"COUNTIFS(INDIRECT(\"tblSalaries[job type]\"),$J14,INDIRECT(\"tblSalaries[How many hours of a day you work on Excel]\"),K$13)","v":4},34,58,39,0]
[null,"Controller",67,49572.83880628179,11.8,null,null,null,null,"Analyst",57,137,329,215,5]
[null,"CXO or Top Mgmt.",75,48286.939956558708,13.414893617021276,null,null,null,null,"Consultant",12,26,27,25,0]
[null,"Engineer",74,51889.070241139438,7.9387755102040813,null,null,null,null,"Controller",2,15,36,14,0]
[null,"Manager",558,48021.922120532516,9.8758883248730971,null,null,null,null,"CXO or Top Mgmt.",10,22,32,11,0]
[null,"Misc.",7,78083.271020879067,6.166666666666667,null,null,null,null,"Engineer",14,26,26,8,0]
[null,"Reporting",83,49738.453005682,5.2802816901408445,null,null,null,null,"Manager",65,166,215,110,2]
[null,"Specialist",51,82622.335129347863,9.2592592592592595,null,null,null,null,"Misc.",2,1,3,1,0]
[null,"All",null,{"$f":"AVERAGE(D12:D21)","v":55239.517719900818},{"$f":"AVERAGE(E12:E21)","v":8.9615511994634378},null,null,null,null,"Reporting",4,12,26,41,0]
[null,null,null,null,null,null,null,null,null,"Specialist",4,12,23,12,0]
[null,null,null,null,null,null,null,null,null,null,{"$f":"SUM(K14:K23)","v":174},{"$f":"SUM(L14:L23)","v":451},{"$f":"SUM(M14:M23)","v":775},{"$f":"SUM(N14:N23)","v":476},{"$f":"SUM(O14:O23)","v":7}]
[]
[]
[]
[null,null,null,null,null,null,null,null,null,"Average Income"]
[null,null,null,null,null,null,null,null,null,null,"Accountant","Analyst","Consultant","Controller","CXO or Top Mgmt.","Engineer","Manager","Misc.","Reporting"]
[null,null,null,null,null,null,null,null,null,"Africa",{"$f":"IFERROR(AVERAGEIFS(INDIRECT(\"tblSalaries[Salary in USD]\"),INDIRECT(\"tblSalaries[Continent]\"),$J30,INDIRECT(\"tblSalaries[Job Type]\"),K$29),\"N/A\")","v":55503.064577089928},40657.290308307995,82000,11627.801648330511,69815.306791774667,16688.125693858881,46758.114915081205,"N/A",19984.615384615387]
[null,null,null,null,null,null,null,null,null,"Asia",15810.03313236933,14875.577083417809,21314.985485739468,25674.291114324453,33891.455571622253,21812.749395230589,19033.838397199674,17551.33488143489,11240.380658487389]
[null,null,null,null,null,null,null,null,null,"Australia",84029.743977452657,82088.780471608159,99389.493298683607,82952.652054081045,95191.567930912672,122423.46812849767,97221.091277662927,"N/A",85000]
[null,null,null,null,null,null,null,null,null,"Europe",52752.018213808347,54349.602845128778,69873.467090866383,84048.506435566378,93668.947345492241,69872.114542379699,64910.851322128692,"N/A",60976.598367280596]
[null,null,null,null,null,null,null,null,null,"North America",90726.833649434178,61865.93091532879,94494.334049697296,87989.30511534313,121798.51516983796,69604.439521861525,75764.967167853058,83820.333333333328,58200]
[null,null,null,null,null,null,null,null,null,"South America","N/A",26449.974915230778,116050,11400,"N/A",49000,25870.169001792121,"N/A",20000]
[]
[null,null,null,null,null,null,null,null,null,"Ave Yrs Exp"]
[null,null,null,null,null,null,null,null,null,null,"Accountant","Analyst","Consultant","Controller","CXO or Top Mgmt.","Engineer","Manager","Misc.","Reporting"]
[null,null,null,null,null,null,null,null,null,"Africa",{"$f":"IFERROR(AVERAGEIFS(INDIRECT(\"tblSalaries[Years of Experience]\"),INDIRECT(\"tblSalaries[Continent]\"),$J39,INDIRECT(\"tblSalaries[Job Type]\"),K$29),\"N/A\")","v":9.6},12.4,10,5,15,7,7.875,"N/A",3]
[null,null,null,null,null,null,null,null,null,"Asia",8.295454545454545,5.3765306122448964,7.3181818181818183,9.4,9.375,5.770833333333333,8.262895927601809,6.25,4.4816666666666665]
[null,null,null,null,null,null,null,null,null,"Australia",10,8.4756097560975618,13.571428571428571,16.666666666666668,8.5,11.333333333333334,12.904761904761905,"N/A",8]
[null,null,null,null,null,null,null,null,null,"Europe",11.368421052631579,7.6865853658536576,9.4444444444444446,12.736842105263158,17,9.125,12.50909090909091,"N/A",6.75]
[null,null,null,null,null,null,null,null,null,"North America",9.3333333333333339,8.75,9.9,12.714285714285714,14.454545454545455,10.625,11.666666666666666,6,15.5]
[null,null,null,null,null,null,null,null,null,"South America","N/A",6.166666666666667,"N/A",14,"N/A",9,12.6,"N/A",6]

{"sheet":"Header Info","index":6,"n_rows":37,"n_cols":10,"rows_kept":37,"cut":false,"hidden":true,"merged":[]}
[null,null,"Total Surveys:",{"$f":"COUNTA(tblSalaries[Unique ID])","v":1883}]
[null,null,"# Of Days Survey Open",27.065879629626579,null,null,null,"Highest Average Salary:",{"$f":"OFFSET(Sheet4!A4,MATCH(J2,Sheet4!B4:B13,0)-1,,,)","v":"CXO or Top Mgmt."},{"$f":"MAX(Sheet4!B4:B13)","v":97265.875618660837}]
[null,null,"Average Surveys/Day",{"$f":"D1/D2","v":69.57098848318418},{"$f":"\"Average \"&TEXT(D3,\"#\")&\" Per Day\"","v":"Average 70 Per Day"},null,null,"Average Salary for All:",{"$f":"AVERAGE(Sheet4!B4:B13)","v":54935.560202606939}]
[null,null,"Highest Survey Amount",{"$f":"MAX(D10:D1886)","v":743},null,null,null,"Average Year Experience:",{"$f":"AVERAGE(Sheet4!C4:C13)","v":8.9615511994634378}]
[null,null,"Highest Survey Day",{"$f":"OFFSET(C9,MATCH(D4,D10:D37,0),0)","v":"2012-05-26"}]
[null,null,"Lowest Survey Amount",{"$f":"MIN(D10:D1886)","v":4}]
[null,null,"Lowest Survey Day",{"$f":"OFFSET(C9,MATCH(D6,D10:D37,0),0)","v":"2012-06-21"}]
[]
[]
[null,null,"2012-05-25",{"$f":"ROUND(COUNTIF(tblSalaries[Date Only],'Header Info'!C10),0)","v":80}]
[null,null,"2012-05-26",{"$f":"ROUND(COUNTIF(tblSalaries[Date Only],'Header Info'!C11),0)","v":743}]
[null,null,"2012-05-27",{"$f":"ROUND(COUNTIF(tblSalaries[Date Only],'Header Info'!C12),0)","v":99}]
[null,null,"2012-05-28",{"$f":"ROUND(COUNTIF(tblSalaries[Date Only],'Header Info'!C13),0)","v":253}]
[null,null,"2012-05-29",{"$f":"ROUND(COUNTIF(tblSalaries[Date Only],'Header Info'!C14),0)","v":205}]
[null,null,"2012-05-30",{"$f":"ROUND(COUNTIF(tblSalaries[Date Only],'Header Info'!C15),0)","v":93}]
[null,null,"2012-05-31",{"$f":"ROUND(COUNTIF(tblSalaries[Date Only],'Header Info'!C16),0)","v":54}]
[null,null,"2012-06-01",{"$f":"ROUND(COUNTIF(tblSalaries[Date Only],'Header Info'!C17),0)","v":41}]
[null,null,"2012-06-02",{"$f":"ROUND(COUNTIF(tblSalaries[Date Only],'Header Info'!C18),0)","v":23}]
[null,null,"2012-06-03",{"$f":"ROUND(COUNTIF(tblSalaries[Date Only],'Header Info'!C19),0)","v":19}]
[null,null,"2012-06-04",{"$f":"ROUND(COUNTIF(tblSalaries[Date Only],'Header Info'!C20),0)","v":22}]
[null,null,"2012-06-05",{"$f":"ROUND(COUNTIF(tblSalaries[Date Only],'Header Info'!C21),0)","v":27}]
[null,null,"2012-06-06",{"$f":"ROUND(COUNTIF(tblSalaries[Date Only],'Header Info'!C22),0)","v":24}]
[null,null,"2012-06-07",{"$f":"ROUND(COUNTIF(tblSalaries[Date Only],'Header Info'!C23),0)","v":14}]
[null,null,"2012-06-08",{"$f":"ROUND(COUNTIF(tblSalaries[Date Only],'Header Info'!C24),0)","v":25}]
[null,null,"2012-06-09",{"$f":"ROUND(COUNTIF(tblSalaries[Date Only],'Header Info'!C25),0)","v":6}]
[null,null,"2012-06-10",{"$f":"ROUND(COUNTIF(tblSalaries[Date Only],'Header Info'!C26),0)","v":12}]
[null,null,"2012-06-11",{"$f":"ROUND(COUNTIF(tblSalaries[Date Only],'Header Info'!C27),0)","v":14}]
[null,null,"2012-06-12",{"$f":"ROUND(COUNTIF(tblSalaries[Date Only],'Header Info'!C28),0)","v":20}]
[null,null,"2012-06-13",{"$f":"ROUND(COUNTIF(tblSalaries[Date Only],'Header Info'!C29),0)","v":19}]
[null,null,"2012-06-14",{"$f":"ROUND(COUNTIF(tblSalaries[Date Only],'Header Info'!C30),0)","v":8}]
[null,null,"2012-06-15",{"$f":"ROUND(COUNTIF(tblSalaries[Date Only],'Header Info'!C31),0)","v":24}]
[null,null,"2012-06-16",{"$f":"ROUND(COUNTIF(tblSalaries[Date Only],'Header Info'!C32),0)","v":11}]
[null,null,"2012-06-17",{"$f":"ROUND(COUNTIF(tblSalaries[Date Only],'Header Info'!C33),0)","v":7}]
[null,null,"2012-06-18",{"$f":"ROUND(COUNTIF(tblSalaries[Date Only],'Header Info'!C34),0)","v":6}]
[null,null,"2012-06-19",{"$f":"ROUND(COUNTIF(tblSalaries[Date Only],'Header Info'!C35),0)","v":17}]
[null,null,"2012-06-20",{"$f":"ROUND(COUNTIF(tblSalaries[Date Only],'Header Info'!C36),0)","v":13}]
[null,null,"2012-06-21",{"$f":"ROUND(COUNTIF(tblSalaries[Date Only],'Header Info'!C37),0)","v":4}]

{"sheet":"Sheet4","index":7,"n_rows":124,"n_cols":13,"rows_kept":124,"cut":false,"hidden":true,"merged":[]}
["Continent","(All)"]
[]
["Job Type","Average Salary","Average Years of Experience","# Responses"]
["Accountant",54196.440581630908,9.3366336633663369,135]
["Analyst",46295.769417049465,7.3189753320683106,743]
["Consultant",62950.733221147333,9.2241379310344822,90]
["Controller",65103.929025765538,11.8,67]
["CXO or Top Mgmt.",97265.875618660837,13.414893617021276,75]
["Engineer",51715.151424567106,7.9387755102040813,74]
["Manager",46488.240712802522,9.8758883248730971,558]
["Misc.",45952.334217962794,6.166666666666667,7]
["Reporting",19574.158532349131,5.2802816901408445,83]
["Specialist",59812.969274133829,9.2592592592592595,51,null,null,null,null,null,{"$f":"OFFSET(M18,M18,0)","v":87167.974754622352}]
[]
[]
["Continent","(All)"]
[]
["Continent","Average Salary","Average Yrs Exp","# Responses",null,null,null,null,null,null,null,{"$f":"p_continent_country","v":"(All)"},10]
["Lesotho",177600,6,1,null,null,null,null,null,null,null,{"$f":"IF(A19=\"\",\"\",A19)","v":"Lesotho"},{"$f":"OFFSET(A19,0,drp_Type)","v":177600}]
["Switzerland",137525.55715529469,13,4,null,null,null,null,null,null,null,"Switzerland",137525.55715529469]
["Europe",123889.35329046159,13.4,5,null,null,null,null,null,null,null,"Europe",123889.35329046159]
["Oman",100800,4,1,null,null,null,null,null,null,null,"Oman",100800]
["Uganda",100000,17,1,null,null,null,null,null,null,null,"Uganda",100000]
["Norway",99016.174371435307,8.6,7,null,null,null,null,null,null,null,"Norway",99016.174371435307]
["Central America",95000,null,1,null,null,null,null,null,null,null,"Central America",95000]
["Australia",92857.629854916348,10.26,81,null,null,null,null,null,null,null,"Australia",92857.629854916348]
["Canada",89799.526836779929,8.75,58,null,null,null,null,null,null,null,"Canada",89799.526836779929]
["CEE",87167.974754622352,20,2,null,null,null,null,null,null,null,"CEE",87167.974754622352]
["Sweden",84477.260092140481,20,2,null,null,null,null,null,null,null,{"$f":"IF(A29=\"\",\"\",A29)","v":"Sweden"},{"$f":"OFFSET(A29,0,drp_Type)","v":84477.260092140481}]
["Denmark",82525.525402351297,17,6,null,null,null,null,null,null,null,{"$f":"IF(A30=\"\",\"\",A30)","v":"Denmark"},82525.525402351297]
["Germany",79637.147017647629,7.4615384615384617,17,null,null,null,null,null,null,null,"Germany",79637.147017647629]
["Bermuda",78000,null,1,null,null,null,null,null,null,null,"Bermuda",78000]
["Somalia",78000,null,1,null,null,null,null,null,null,null,"Somalia",78000]
["Finland",75389.415540034111,4.5,3,null,null,null,null,null,null,null,"Finland",75389.415540034111]
["Netherlands",73006.431203838249,9.8421052631578956,23,null,null,null,null,null,null,null,"Netherlands",73006.431203838249]
["Thailand",73000,1,2,null,null,null,null,null,null,null,"Thailand",73000]
["USA",72738.12965964344,10.292035398230089,617,null,null,null,null,null,null,null,"USA",72738.12965964344]
["New Zealand",70287.554967112796,11.714285714285714,15,null,null,null,null,null,null,null,"New Zealand",70287.554967112796]
["Japan",67564.774036395989,5,3,null,null,null,null,null,null,null,"Japan",{"$f":"OFFSET(A39,0,drp_Type)","v":67564.774036395989}]
["UK",67240.730112795849,10.382882882882884,154,null,null,null,null,null,null,null,"UK",67240.730112795849]
["Israel",66840,7,5,null,null,null,null,null,null,null,"Israel",66840]
["Ireland",61652.484774262724,12,5,null,null,null,null,null,null,null,"Ireland",61652.484774262724]
["France",56952.725049143286,5.25,6,null,null,null,null,null,null,null,"France",56952.725049143286]
["Russia",55905.222222222219,12.25,9,null,null,null,null,null,null,null,"Russia",55905.222222222219]
["Qatar",53066.666666666664,15.333333333333334,3,null,null,null,null,null,null,null,"Qatar",53066.666666666664]
["Singapore",52154.754053796576,7.2727272727272725,13,null,null,null,null,null,null,null,"Singapore",52154.754053796576]
["Kenya",51497.005988023957,9,1,null,null,null,null,null,null,null,"Kenya",51497.005988023957]
["Austria",50815.977559664309,20,1,null,null,null,null,null,null,null,"Austria",50815.977559664309]
["self-employed",50000,null,1,null,null,null,null,null,null,null,"self-employed",50000]
["South Africa",49555.624994016209,11.866666666666667,19,null,null,null,null,null,null,null,"South Africa",49555.624994016209]
["Turkey",48000,10,2]
["italy",47258.859130487806,11.666666666666666,6]
["Spain",46235.660112252495,12.444444444444445,10]
["Panama",44759.985974790194,null,2]
["Brazil",44287.984205099929,7.2727272727272725,17]
["Croatia",43489.586535798582,4,3]
["UAE",43014.900191685309,9.8214285714285712,19]
["Kuwait",42666.666666666664,9.3333333333333339,3]
["Iceland",41731,null,1]
["Belgium",41707.21358209449,10.5,4]
["Zimbabwe",36400,20,1]
["Czech Republic",36000,9,1]
["Azerbaijan",36000,5,1]
["Saudi Arabia",35832.121212121208,11.222222222222221,11]
["Uruguay",35000,10,1]
["Poland",34210.345381590014,7.5,6]
["Brasil",33515,null,3]
["Portugal",32907.763410971675,9.5714285714285712,10]
["Dubai",32166.959188895635,6.333333333333333,4]
["Mexico",32138.498288519273,7.4,10]
["Greece",30066.120056134718,14,3]
["Indonesia",28872.83679733074,7.875,8]
["Costa Rica",28109.627547434993,null,1]
["malaysia",24996.133222785022,7.7142857142857144,7]
["Libya",24864,8,1]
["Hungary",24716.347245901055,9,5]
["Argentina",24000,21,1]
["mozambique",24000,null,1]
["Sri Lanka",22921.154792448855,7.9,5]
["arabian Gulf",21000,null,1]
["Albania",20571,8,1]
["Paraguay",20000,6,1]
["Hong Kong",20000,1,1]
["Egypt",19831.432821021317,5,1]
["Slovenia",19055.991584874118,4,1]
["iran",18000,16.5,3]
["Ghana",18000,12,1]
["Myanmar",17700,10,2]
["Philippines",17479.292364753517,9,11]
["china",17046.090103460039,8,2]
["Romania",16449.976756585475,5.5,6]
["Peru",15840,8,1]
["Kuwait ",15600,13,1]
["Republica Dominicana",15404.364569961488,3,1]
["Lithuania",15000,2,1]
["Bulgaria",14400,15,1]
["Morocco",13745.704467353951,8,1]
["India",13529.430894182482,6.4691823899371066,565]
["Montenegro",13500,13,1]
["Nigeria",13494.896250642014,5.666666666666667,3]
["Slovakia",13000,6,1]
["Zambia",13000,3.5,2]
["Colombia",12362,9.3333333333333339,5]
["MYS",12000,0,1]
["Estonia",12000,null,1]
["Asia",12000,3,1]
["Pakistan",11873.552586779413,6.88,29]
["Ukraine",11650,5,4]
["Tunisia",11000,8,1]
["Bangladesh",10299.008645025993,12,2]
["Vietnam",10000,6,2]
["Bolivia",9600,2,1]
["Mauritius",9376.2513877177607,7,1]
["Baltic",8400,0.3,1]
["Mongolia",7261.724659606657,2,1]
["Dominican Republic",6629,null,1]
["Guyana",6000,20,1]
["Armenia",6000,5,1]
["Republic of Georgia",5250,null,1]
["Aruba",5000,13,1]
["Bhutan",4800,2,1]
["Latin America",4400,5,1]
["Cambodia",3000,2,1]
["Ethiopia",2953.8461538461538,3,1]

{"sheet":"Support","index":8,"n_rows":37,"n_cols":12,"rows_kept":37,"cut":false,"hidden":true,"merged":[]}
[null,null,null,null,null,null,null,null,null,"Chart Titles"]
[null,"Drop Down Continent",7,null,"Drop Down Job Type",11,null,null,null,"Most Active Continent:",{"$f":"OFFSET(Calculations!B2,MATCH(MAX(Calculations!C3:C8),Calculations!C3:C8,0),0)","v":"Asia"},{"$f":"MAX(Calculations!C3:C8)& \" Completed\"","v":"721 Completed"}]
[null,"Continent",{"$f":"INDEX(Calculations!B3:B9,Support!C2,0)","v":"All"},{"$f":"IF(drp_Continent_Result=\"All\",\"All Continents\",drp_Continent_Result)","v":"All Continents"},"Job",{"$f":"INDEX(Calculations!B12:B22,Support!F2,0)","v":"All"},{"$f":"IF(drp_job_result=\"All\",\"All Jobs\",drp_job_result)","v":"All Jobs"},null,null,{"$f":"D3 &\" / \"&G3&\": \"&\"Daily Excel Hours\"","v":"All Continents / All Jobs: Daily Excel Hours"}]
[null,"Drop Down Type",1,null,null,null,null,null,null,{"$f":"D3&\": Top \"&drp_top_ten&\" \"&drp_Type_Result","v":"All Continents: Top 10 Average Salary"}]
[null,"Type",{"$f":"INDEX(Support!C23:C25,drp_Type,0)","v":"Average Salary"},null,null,null,null,null,null,{"$f":"\"Salary Distribution for\"&\" \"&D3&\" / \"&G3","v":"Salary Distribution for All Continents / All Jobs"}]
[null,"# Rows ",{"$f":"COUNTA(Sheet4!B4:B12)","v":9}]
[null,null,null,null,null,null,null,null,null,"Help Status",-1]
[null,"Main chart Data",null,null,null,null,null,null,null,{"$f":"IF(Help_Status=0,\"Hide Help\",\"Show Help\")","v":"Show Help"}]
[null,null,{"$f":"drp_Type_Result","v":"Average Salary"},{"$f":"D3&\": \"&C9","v":"All Continents: Average Salary"},"Average"]
[null,"Accountant",{"$f":"OFFSET(Sheet4!A4,0,drp_Type)","v":54196.440581630908},{"$f":"IF(C10=MAX($C$10:$C$15),C10,NA())","v":{"$error":"#N/A"}},{"$f":"AVERAGE(C10:C19)","v":54935.560202606939},0]
[null,"Analyst",{"$f":"OFFSET(Sheet4!A5,0,drp_Type)","v":46295.769417049465},{"$f":"IF(C11=MAX($C$10:$C$15),C11,NA())","v":{"$error":"#N/A"}},{"$f":"E10","v":54935.560202606939},{"$f":"COUNTA($B$10:$B$19)","v":10}]
[null,"Consultant",{"$f":"OFFSET(Sheet4!A6,0,drp_Type)","v":62950.733221147333},{"$error":"#N/A"},54935.560202606939,10]
[null,"Controller",{"$f":"OFFSET(Sheet4!A7,0,drp_Type)","v":65103.929025765538},{"$error":"#N/A"},54935.560202606939,10]
[null,"CXO or Top Mgmt.",{"$f":"OFFSET(Sheet4!A8,0,drp_Type)","v":97265.875618660837},97265.875618660837,54935.560202606939,10]
[null,"Engineer",{"$f":"OFFSET(Sheet4!A9,0,drp_Type)","v":51715.151424567106},{"$error":"#N/A"},54935.560202606939,10]
[null,"Manager",{"$f":"OFFSET(Sheet4!A10,0,drp_Type)","v":46488.240712802522},{"$error":"#N/A"},54935.560202606939,10]
[null,"Misc.",{"$f":"OFFSET(Sheet4!A11,0,drp_Type)","v":45952.334217962794},{"$error":"#N/A"},54935.560202606939,10]
[null,"Reporting",{"$f":"OFFSET(Sheet4!A12,0,drp_Type)","v":19574.158532349131},{"$error":"#N/A"},54935.560202606939,10]
[null,"Specialist",{"$f":"OFFSET(Sheet4!A13,0,drp_Type)","v":59812.969274133829},{"$error":"#N/A"},54935.560202606939,10]
[]
[]
[null,"Drop Down for Amount Data"]
[null,1,"Average Salary"]
[null,2,"Average Yrs Exp"]
[null,3,{"$f":"Calculations!C2","v":"# Responses"}]
[null,4]
[null,5]
[null,6]
[null,7]
[null,8]
[null,9]
[null,10]
[null,11]
[null,12]
[null,13]
[null,14]
[null,15]

{"sheet":"Hours","index":9,"n_rows":16,"n_cols":2,"rows_kept":16,"cut":false,"hidden":true,"merged":[]}
["Continent","(All)"]
["Job Type","(All)"]
[]
["Row Labels","Count of How many hours of a day you work on Excel"]
["1 or 2 hours a day",174]
["2 to 3 hours per day",451]
["4 to 6 hours a day",775]
["All the 8 hours baby, all the 8!",476]
["Excel ?!? What Excel?",7]
[]
[]
["1 or 2 hours a day",{"$f":"IFERROR(GETPIVOTDATA(\"How many hours of a day you work on Excel\",A4,\"How many hours of a day you work on Excel\",\"1 or 2 hours a day\"),0)","v":174}]
["2 to 3 hours per day",{"$f":"IFERROR(GETPIVOTDATA(\"How many hours of a day you work on Excel\",$A$4,\"How many hours of a day you work on Excel\",\"2 to 3 hours per day\"),0)","v":451}]
["4 to 6 hours a day",{"$f":"IFERROR(GETPIVOTDATA(\"How many hours of a day you work on Excel\",$A$4,\"How many hours of a day you work on Excel\",\"4 to 6 hours a day\"),0)","v":775}]
["All the 8 hours baby, all the 8!",{"$f":"IFERROR(GETPIVOTDATA(\"How many hours of a day you work on Excel\",$A$4,\"How many hours of a day you work on Excel\",\"All the 8 hours baby, all the 8!\"),0)","v":476}]
["Excel ?!? What Excel?",{"$f":"IFERROR(GETPIVOTDATA(\"How many hours of a day you work on Excel\",$A$4,\"How many hours of a day you work on Excel\",\"Excel ?!? What Excel?\"),0)","v":7}]