{"text_format":"1","workbook":"xlsx","n_sheets":7,"sheets":["mapping","Sheet4","Sheet7","Excel Salary Dashboard","Sheet2","Data","Sheet1"],"not_rendered":{"charts":5,"images":0,"macros":1,"external_links":0,"defined_names":1,"comments":0,"pivot_tables":6},"unopened":[],"bounds":{"document_bytes":16777216,"sheet_cells":100000,"rows_first":2000,"rows_last":500,"rows_between":2000,"halvings":0,"cell_chars":16384,"cell_head_chars":4096},"cells_cut":0,"cells_raw":0,"read":"whole","date_system":"1900"}

{"sheet":"mapping","index":0,"n_rows":137,"n_cols":13,"rows_kept":137,"cut":false,"hidden":true,"merged":[[0,1,0,2]]}
[null,"Mapping Sheet",null,null,null,null,"Source: Xrates on 6/21/2012","and xe.com"]
[null,"Currency Mapping",null,null,null,null,null,null,null,null,null,"Country Mapping"]
[null,"Currency","in USD",null,null,null,"Value of 1 American Dollar",null,null,null,null,"Actual","Mapping"]
[null,"USD",1,null,null,null,"     Argentine Peso ",4.4927299999999999,"ARS",null,null,"USA","USA"]
[null,"EUR",{"$f":"1/INDEX($H$4:$H$64,MATCH(tblXrate[[#This Row],[Currency]],$I$4:$I$64,0))","v":1.2703994389916078},null,null,null,"     Australian Dollar ",0.98047899999999999,"AUD",null,null,"India","India"]
[null,"PKR",{"$f":"1/INDEX($H$4:$H$64,MATCH(tblXrate[[#This Row],[Currency]],$I$4:$I$64,0))","v":1.0614088716799131E-2},null,null,null,"     Botswana Pula ",7.6569700000000003,"BWP",null,null,"UK","UK"]
[null,"INR",{"$f":"1/INDEX($H$4:$H$64,MATCH(tblXrate[[#This Row],[Currency]],$I$4:$I$64,0))","v":1.7807916687442568E-2},null,null,null,"     Brazilian Real ",2.0231400000000002,"BRL",null,null,"Australia","Australia"]
[null,"GBP",{"$f":"1/INDEX($H$4:$H$64,MATCH(tblXrate[[#This Row],[Currency]],$I$4:$I$64,0))","v":1.5761782720672841},null,null,null,"     British Pound ",0.63444599999999995,"GBP",null,null,"Canada","Canada"]
[null,"AUD",{"$f":"1/INDEX($H$4:$H$64,MATCH(tblXrate[[#This Row],[Currency]],$I$4:$I$64,0))","v":1.0199096564026358},null,null,null,"     Brunei dollar ",1.2686999999999999,"BND",null,null,"Pakistan","Pakistan"]
[null,"CAD",{"$f":"1/INDEX($H$4:$H$64,MATCH(tblXrate[[#This Row],[Currency]],$I$4:$I$64,0))","v":0.98336152303032687},null,null,null,"     Bulgarian Lev ",1.53952,"BGN",null,null,"South Africa","South Africa"]
[null,"PHP",{"$f":"1/INDEX($H$4:$H$64,MATCH(tblXrate[[#This Row],[Currency]],$I$4:$I$64,0))","v":2.3705052257787702E-2},null,null,null,"     Canadian Dollar ",1.01692,"CAD",null,null,"Germany","Germany"]
[null,"AED",{"$f":"1/INDEX($H$4:$H$64,MATCH(tblXrate[[#This Row],[Currency]],$I$4:$I$64,0))","v":0.27221921268759308},null,null,null,"     Chilean Peso ",497.26799999999997,"CLP",null,null,"UAE","UAE"]
[null,"MXN",{"$f":"1/INDEX($H$4:$H$64,MATCH(tblXrate[[#This Row],[Currency]],$I$4:$I$64,0))","v":7.3046552567951561E-2},null,null,null,"     Chinese Yuan ",6.3609099999999996,"CNY",null,null,"Brazil","Brazil"]
[null,"SEK",{"$f":"1/INDEX($H$4:$H$64,MATCH(tblXrate[[#This Row],[Currency]],$I$4:$I$64,0))","v":0.14365525038391866},null,null,null,"     Colombian Peso ",1769.79,"COP",null,null,"Netherlands","Netherlands"]
[null,"BDT",{"$f":"1/INDEX($H$4:$H$64,MATCH(tblXrate[[#This Row],[Currency]],$I$4:$I$64,0))","v":1.2220845340313881E-2},null,null,null,"     Croatian Kuna ",5.9367099999999997,"HRK",null,null,"Singapore","Singapore"]
[null,"COSTARICAN",{"$f":"1/INDEX($H$4:$H$64,MATCH(tblXrate[[#This Row],[Currency]],$I$4:$I$64,0))","v":2.0078305391024996E-3},null,null,null,"     Danish Krone ",5.8512300000000002,"DKK",null,null,"Philippines","Philippines"]
[null,"ZAR",{"$f":"1/INDEX($H$4:$H$64,MATCH(tblXrate[[#This Row],[Currency]],$I$4:$I$64,0))","v":0.12192177986291114},null,null,null,"     Euro ",0.78715400000000002,"EUR",null,null,"Portugal","Portugal"]
[null,"NZD",{"$f":"1/INDEX($H$4:$H$64,MATCH(tblXrate[[#This Row],[Currency]],$I$4:$I$64,0))","v":0.79758809360493876},null,null,null,"     Hong Kong Dollar ",7.7588900000000001,"HKD",null,null,"Spain","Spain"]
[null,"CNY",{"$f":"1/INDEX($H$4:$H$64,MATCH(tblXrate[[#This Row],[Currency]],$I$4:$I$64,0))","v":0.15721021048875083},null,null,null,"     Hungarian Forint ",225.874,"HUF",null,null,"New Zealand","New Zealand"]
[null,"EGYPT",{"$f":"1/INDEX($H$4:$H$64,MATCH(tblXrate[[#This Row],[Currency]],$I$4:$I$64,0))","v":0.16526194017517765},null,null,null,"     Iceland Krona ",124.697,"ISK",null,null,"Russia","Russia"]
[null,"NAIRA",{"$f":"1/INDEX($H$4:$H$64,MATCH(tblXrate[[#This Row],[Currency]],$I$4:$I$64,0))","v":6.1633281972265025E-3},null,null,null,"     Indian Rupee ",56.154800000000002,"INR",null,null,"Saudi Arabia","Saudi Arabia"]
[null,"AED",{"$f":"1/INDEX($H$4:$H$64,MATCH(tblXrate[[#This Row],[Currency]],$I$4:$I$64,0))","v":0.27221921268759308},null,null,null,"     Indonesian Rupiah ",9443.81,"IDR",null,null,"Mexico","Mexico"]
[null,"BRL",{"$f":"1/INDEX($H$4:$H$64,MATCH(tblXrate[[#This Row],[Currency]],$I$4:$I$64,0))","v":0.49428116689897877},null,null,null,"     Israeli New Shekel ",3.86721,"ILS",null,null,"Indonesia","Indonesia"]
[null,"RON",{"$f":"1/INDEX($H$4:$H$64,MATCH(tblXrate[[#This Row],[Currency]],$I$4:$I$64,0))","v":0.28461323906942854},null,null,null,"     Japanese Yen ",78.904300000000006,"JPY",null,null,"Norway","Norway"]
[null,"USD",1,null,null,null,"     Kazakhstani Tenge ",148.88,"KZT",null,null,"malaysia","malaysia"]
[null,"MYR",{"$f":"1/INDEX($H$4:$H$64,MATCH(tblXrate[[#This Row],[Currency]],$I$4:$I$64,0))","v":0.31680056770661735},null,null,null,"     Kuwaiti Dinar ",0.27939999999999998,"KWD",null,null,"The Netherlands","Netherlands"]
[null,"LKR",{"$f":"1/INDEX($H$4:$H$64,MATCH(tblXrate[[#This Row],[Currency]],$I$4:$I$64,0))","v":7.5240581760178168E-3},null,null,null,"     Latvian Lat ",0.548489,"LVL",null,null,"Romania","Romania"]
[null,"SGD",{"$f":"1/INDEX($H$4:$H$64,MATCH(tblXrate[[#This Row],[Currency]],$I$4:$I$64,0))","v":0.78882394238429931},null,null,null,"     Libyan Dinar ",1.9323999999999999,"LYD",null,null,"Poland","Poland"]
[null,"GBP",{"$f":"1/INDEX($H$4:$H$64,MATCH(tblXrate[[#This Row],[Currency]],$I$4:$I$64,0))","v":1.5761782720672841},null,null,null,"     Lithuanian Litas ",2.7178800000000001,"LTL",null,null,"italy","italy"]
[null,"DOP",{"$f":"1/INDEX($H$4:$H$64,MATCH(tblXrate[[#This Row],[Currency]],$I$4:$I$64,0))","v":2.5673940949935813E-2},null,null,null,"     Malaysian Ringgit ",3.1565599999999998,"MYR",null,null,"Hungary","Hungary"]
[null,"PLN",{"$f":"1/INDEX($H$4:$H$64,MATCH(tblXrate[[#This Row],[Currency]],$I$4:$I$64,0))","v":0.30031472983686902},null,null,null,"     Mauritius Rupee ",30.715900000000001,"MUR",null,null,"Denmark","Denmark"]
[null,"KENYA",{"$f":"1/INDEX($H$4:$H$64,MATCH(tblXrate[[#This Row],[Currency]],$I$4:$I$64,0))","v":1.1976047904191617E-2},null,null,null,"     Mexican Peso ",13.6899,"MXN",null,null,"Ireland","Ireland"]
[null,"DKK",{"$f":"1/INDEX($H$4:$H$64,MATCH(tblXrate[[#This Row],[Currency]],$I$4:$I$64,0))","v":0.17090423722875361},null,null,null,"     Nepalese Rupee ",89.65,"NPR",null,null,"Israel","Israel"]
[null,"IDR",{"$f":"1/INDEX($H$4:$H$64,MATCH(tblXrate[[#This Row],[Currency]],$I$4:$I$64,0))","v":1.0588946622178973E-4},null,null,null,"     New Zealand Dollar ",1.2537799999999999,"NZD",null,null,"France","France"]
[null,"MONGOLIAN",{"$f":"1/INDEX($H$4:$H$64,MATCH(tblXrate[[#This Row],[Currency]],$I$4:$I$64,0))","v":7.5642965204236008E-4},null,null,null,"     Norwegian Kroner ",5.9083800000000002,"NOK",null,null,"Colombia","Colombia"]
[null,"JPY",{"$f":"1/INDEX($H$4:$H$64,MATCH(tblXrate[[#This Row],[Currency]],$I$4:$I$64,0))","v":1.2673580527296991E-2},null,null,null,"     Omani Rial ",0.38450000000000001,"OMR",null,null,"Switzerland","Switzerland"]
[null,"SAR",{"$f":"1/INDEX($H$4:$H$64,MATCH(tblXrate[[#This Row],[Currency]],$I$4:$I$64,0))","v":0.26666666666666666},null,null,null,"     Pakistan Rupee ",94.214399999999998,"PKR",null,null,"Sri Lanka","Sri Lanka"]
[null,"MAD",{"$f":"1/INDEX($H$4:$H$64,MATCH(tblXrate[[#This Row],[Currency]],$I$4:$I$64,0))","v":0.11454753722794959},null,null,null,"     Philippine Peso ",42.185099999999998,"PHP",null,null,"Belgium","Belgium"]
[null,"MUR",{"$f":"1/INDEX($H$4:$H$64,MATCH(tblXrate[[#This Row],[Currency]],$I$4:$I$64,0))","v":3.2556428429575561E-2},null,null,null,"     Qatari Rial ",3.64,"QAR",null,null,"Dubai","Dubai"]
[null,"NOK",{"$f":"1/INDEX($H$4:$H$64,MATCH(tblXrate[[#This Row],[Currency]],$I$4:$I$64,0))","v":0.16925113144381371},null,null,null,"     Romanian Leu ",3.5135399999999999,"RON",null,null,"Ukraine","Ukraine"]
[null,"CHF",{"$f":"1/INDEX($H$4:$H$64,MATCH(tblXrate[[#This Row],[Currency]],$I$4:$I$64,0))","v":1.0578730615798488},null,null,null,"     Russian Ruble ",32.5458,"RUB",null,null,"Kuwait","Kuwait"]
[null,"ETB",{"$f":"1/INDEX($H$4:$H$64,MATCH(tblXrate[[#This Row],[Currency]],$I$4:$I$64,0))","v":5.6561085972850679E-2},null,null,null,"     Saudi Riyal ",3.75,"SAR",null,null,"iran","iran"]
[null,null,null,null,null,null,"     Singapore Dollar ",1.2677099999999999,"SGD",null,null,"Qatar","Qatar"]
[null,null,null,null,null,null,"     South African Rand ",8.2019800000000007,"ZAR",null,null,"Nigeria","Nigeria"]
[null,null,null,null,null,null,"     South Korean Won ",1151.0899999999999,"KRW",null,null,"Finland","Finland"]
[null,null,null,null,null,null,"     Sri Lanka Rupee ",132.90700000000001,"LKR",null,null,"Europe","Europe"]
[null,null,null,null,null,null,"     Swedish Krona ",6.9611099999999997,"SEK",null,null,"Japan","Japan"]
[null,null,null,null,null,null,"     Swiss Franc ",0.94529300000000005,"CHF",null,null,"Brasil","Brazil"]
[null,null,null,null,null,null,"     Taiwan Dollar ",29.859400000000001,"TWD",null,null,"nz","New Zealand"]
[null,null,null,null,null,null,"     Thai Baht ",31.500299999999999,"THB",null,null,"Greece","Greece"]
[null,null,null,null,null,null,"     Trinidad/Tobago Dollar ",6.3912199999999997,"TTD",null,null,"ksa","USA"]
[null,null,null,null,null,null,"     Turkish Lira ",1.79447,"TRY",null,null,"Panama","Panama"]
[null,null,null,null,null,null,"     Venezuelan Bolivar ",4.2940199999999997,"VEF",null,null,"Turkey","Turkey"]
[null,null,null,null,null,null,"UAE Dirham",3.6735099999999998,"AED",null,null,"Sweden","Sweden"]
[null,null,null,null,null,null,"Bangladesh Takha",81.827399999999997,"BDT",null,null,"china","china"]
[null,null,null,null,null,null,"Costarican CRC",498.05,"Costarican",null,null,"Bangladesh","Bangladesh"]
[null,null,null,null,null,null,"Egyptian Pound",6.0510000000000002,"Egypt",null,null,"Croatia","Croatia"]
[null,null,null,null,null,null,"Nigerian Naira",162.25,"NAIRA",null,null,"United Arab Emirates","UAE"]
[null,null,null,null,null,null,"Dominican Peso",38.950000000000003,"DOP",null,null,"MÃ©xico","Mexico"]
[null,null,null,null,null,null,"Polish Zloty",3.3298399999999999,"PLN",null,null,"Zambia","Zambia"]
[null,null,null,null,null,null,"Kenyan Shilling",83.5,"Kenya",null,null,"Tunisia","Tunisia"]
[null,null,null,null,null,null,"Mongolian Tughrik",1322,"Mongolian",null,null,"Saudi Arabai","Saudi Arabia"]
[null,null,null,null,null,null,"Moroccan Dirham",8.73,"MAD",null,null,"Ethiopia","Ethiopia"]
[null,null,null,null,null,null,"Ethiopian Birr",17.68,"ETB",null,null,"CEE","CEE"]
[null,null,null,null,null,null,null,null,null,null,null,"SouthAfrica","South Africa"]
[null,null,null,null,null,null,null,null,null,null,null,"Central America","Central America"]
[null,null,null,null,null,null,null,null,null,null,null,"Uruguay","Uruguay"]
[null,null,null,null,null,null,null,null,null,null,null,"Kenya","Kenya"]
[null,null,null,null,null,null,null,null,null,null,null,"Republica Dominicana","Republica Dominicana"]
[null,null,null,null,null,null,null,null,null,null,null,"Kingdom of Saudi Arabia","Saudi Arabia"]
[null,null,null,null,null,null,null,null,null,null,null,"Slovakia","Slovakia"]
[null,null,null,null,null,null,null,null,null,null,null,"Austria","Austria"]
[null,null,null,null,null,null,null,null,null,null,null,"Guyana","Guyana"]
[null,null,null,null,null,null,null,null,null,null,null,"Azerbaijan","Azerbaijan"]
[null,null,null,null,null,null,null,null,null,null,null,"Bulgaria","Bulgaria"]
[null,null,null,null,null,null,null,null,null,null,null,"Kuwait ","Kuwait "]
[null,null,null,null,null,null,null,null,null,null,null,"Peru","Peru"]
[null,null,null,null,null,null,null,null,null,null,null,"Vietnam","Vietnam"]
[null,null,null,null,null,null,null,null,null,null,null,"Armenia","Armenia"]
[null,null,null,null,null,null,null,null,null,null,null,"Zimbabwe","Zimbabwe"]
[null,null,null,null,null,null,null,null,null,null,null,"RSA","South Africa"]
[null,null,null,null,null,null,null,null,null,null,null,"Libya","Libya"]
[null,null,null,null,null,null,null,null,null,null,null,"self-employed","self-employed"]
[null,null,null,null,null,null,null,null,null,null,null,"Lithuania","Lithuania"]
[null,null,null,null,null,null,null,null,null,null,null,"Somalia","Somalia"]
[null,null,null,null,null,null,null,null,null,null,null,"Colombia - South America","Colombia"]
[null,null,null,null,null,null,null,null,null,null,null,"BRA","Brazil"]
[null,null,null,null,null,null,null,null,null,null,null,"mainland Europe (Euro zone)","Europe"]
[null,null,null,null,null,null,null,null,null,null,null,"Thailand","Thailand"]
[null,null,null,null,null,null,null,null,null,null,null,"Continental Europe","CEE"]
[null,null,null,null,null,null,null,null,null,null,null,"Asia","Asia"]
[null,null,null,null,null,null,null,null,null,null,null,"Mauritius","Mauritius"]
[null,null,null,null,null,null,null,null,null,null,null,"Cambodia","Cambodia"]
[null,null,null,null,null,null,null,null,null,null,null,"Costa Rica","Costa Rica"]
[null,null,null,null,null,null,null,null,null,null,null,"Viet Nam","Viet Nam"]
[null,null,null,null,null,null,null,null,null,null,null,"Mongolia","Mongolia"]
[null,null,null,null,null,null,null,null,null,null,null,"Estonia","Estonia"]
[null,null,null,null,null,null,null,null,null,null,null,"Montenegro","Montenegro"]
[null,null,null,null,null,null,null,null,null,null,null,"EU","Europe"]
[null,null,null,null,null,null,null,null,null,null,null,"Morocco","Morocco"]
[null,null,null,null,null,null,null,null,null,null,null,"Republic of Georgia","Republic of Georgia"]
[null,null,null,null,null,null,null,null,null,null,null,"mozambique","mozambique"]
[null,null,null,null,null,null,null,null,null,null,null,"europe/Croatia","Croatia"]
[null,null,null,null,null,null,null,null,null,null,null,"Myanmar","Myanmar"]
[null,null,null,null,null,null,null,null,null,null,null,"Bermuda","Bermuda"]
[null,null,null,null,null,null,null,null,null,null,null,"Myanmar [Burma]","Myanmar"]
[null,null,null,null,null,null,null,null,null,null,null,"FR","France"]
[null,null,null,null,null,null,null,null,null,null,null,"MYS","MYS"]
[null,null,null,null,null,null,null,null,null,null,null,"Bhutan","Bhutan"]
[null,null,null,null,null,null,null,null,null,null,null,"Baltic","Baltic"]
[null,null,null,null,null,null,null,null,null,null,null,"Slovenia","Slovenia"]
[null,null,null,null,null,null,null,null,null,null,null,"New  Zealand","New Zealand"]
[null,null,null,null,null,null,null,null,null,null,null,"Bolivia","Bolivia"]
[null,null,null,null,null,null,null,null,null,null,null,"Czech Republic","Czech Republic"]
[null,null,null,null,null,null,null,null,null,null,null,"Ghana","Ghana"]
[null,null,null,null,null,null,null,null,null,null,null,"bangkok","Thailand"]
[null,null,null,null,null,null,null,null,null,null,null,"srilanka","Sri Lanka"]
[null,null,null,null,null,null,null,null,null,null,null,"NL","Netherlands"]
[null,null,null,null,null,null,null,null,null,null,null,"Hong Kong","Hong Kong"]
[null,null,null,null,null,null,null,null,null,null,null,"nld","New Zealand"]
[null,null,null,null,null,null,null,null,null,null,null,"Aruba","Aruba"]
[null,null,null,null,null,null,null,null,null,null,null,"DK","Denmark"]
[null,null,null,null,null,null,null,null,null,null,null,"Iceland","Iceland"]
[null,null,null,null,null,null,null,null,null,null,null,"Dominican Republic","Dominican Republic"]
[null,null,null,null,null,null,null,null,null,null,null,"Uganda","Uganda"]
[null,null,null,null,null,null,null,null,null,null,null,"Oman","Oman"]
[null,null,null,null,null,null,null,null,null,null,null,"Inonesia","Indonesia"]
[null,null,null,null,null,null,null,null,null,null,null,"Argentina","Argentina"]
[null,null,null,null,null,null,null,null,null,null,null,"United Arab Emriate","UAE"]
[null,null,null,null,null,null,null,null,null,null,null,"Pakistan, Angola","Pakistan"]
[null,null,null,null,null,null,null,null,null,null,null,"Canad","Canada"]
[null,null,null,null,null,null,null,null,null,null,null,"Egypt","Egypt"]
[null,null,null,null,null,null,null,null,null,null,null,"UAE","UAE"]
[null,null,null,null,null,null,null,null,null,null,null,"Paraguay","Paraguay"]
[null,null,null,null,null,null,null,null,null,null,null,"Latin America","Latin America"]
[null,null,null,null,null,null,null,null,null,null,null,"Albania","Albania"]
[null,null,null,null,null,null,null,null,null,null,null,"Lesotho","Lesotho"]

{"sheet":"Sheet4","index":1,"n_rows":27,"n_cols":11,"rows_kept":27,"cut":false,"hidden":true,"merged":[[0,0,0,14]]}
["WORLD EXCEL SALARY DATA ANALYSIS - JUNE 2012 (Source: Chandoo.org)"]
["Continent","Sum of Salary in USD",null,null,null,null,null,null,"Job Type","Count","%"]
[" S. AMERICA",1025690.731486699,null,null,null,null,null,null,"Accountant",135,{"$f":"J3/$J$13","v":7.1694105151354229E-2}]
["AFRICA",1575309.804456197,null,null,null,null,null,null,"Analyst",743,0.394583112055231]
["ASIA",12754204.417838437,null,null,null,null,null,null,"Consultant",90,4.7796070100902817E-2]
["EUROPE",19138405.715248726,null,null,null,null,null,null,"Controller",67,3.5581518852894317E-2]
["N. AMERICA",50731496.503485441,null,null,null,null,null,null,"CXO or Top Mgmt.",75,3.9830058417419011E-2]
["OCEANIA",8575781.3427549154,null,null,null,null,null,null,"Engineer",74,3.9298990971853423E-2]
["Grand Total",93800888.515270412,null,null,null,null,null,null,"Manager",558,0.29633563462559748]
["Job Type","Sum of Salary in USD",null,null,null,null,null,null,"Misc.",7,3.7174721189591076E-3]
["Accountant",7316519.4785201726,null,null,null,null,null,null,"Reporting",83,4.4078597981943704E-2]
["Analyst",34397756.676867753,null,null,null,null,null,null,"Specialist",51,2.7084439723844927E-2]
["Consultant",5665565.98990326,null,null,null,null,null,null,"Grand Total",1883,1]
["Controller",4361963.2447262909]
["CXO or Top Mgmt.",7294940.6713995626]
["Engineer",3826921.205417966]
["Manager",25940438.317743808]
["Misc.",321666.33952573955]
["Reporting",1624655.1581849779]
["Specialist",3050461.4329808252]
["Grand Total",93800888.515270352]
["Yrs of Exp.","Sum Amt.","%"]
[">5<=10",22376146.296227001,{"$f":"B23/$B$27","v":0.23854940662512236}]
[">20",23242055.080319945,{"$f":"B24/$B$27","v":0.24778075611230743}]
[">10<=20",26656701.837653253,{"$f":"B25/$B$27","v":0.28418389483926543}]
["<=5",21525985.301070172,{"$f":"B26/$B$27","v":0.22948594242330483}]
["Total:",93800888.515270367,{"$f":"B27/$B$27","v":1}]

{"sheet":"Sheet7","index":2,"n_rows":15,"n_cols":12,"rows_kept":15,"cut":false,"hidden":false,"merged":[]}
[]
[]
[]
[]
[]
[]
[]
[null,null,null,null,null,null,null,null,"Entry for Chandoo.org's Excel Salary Data Dashboard Contest"]
[]
[]
[]
[null,null,null,null,null,null,null,null,null,null,null,"by "]
[]
[null,null,null,null,null,null,null,null,null,null,null,"Krishnasamy Mohan"]
[null,null,null,null,null,null,null,null,null,null,null,"kmohan19622010@gmail.com"]

{"sheet":"Excel Salary Dashboard","index":3,"n_rows":26,"n_cols":29,"rows_kept":26,"cut":false,"hidden":false,"merged":[[0,1,0,4],[23,3,23,4],[23,1,23,2]]}
[null,"World Excel Professionals Salary Data - Dash Board: ",null,null,null,null,"Top 10 Best  Hourly  Rate by Country:(For  Workers)"]
[null,null,null,null,null,null,"Rank#","Country","Hourly Rate (US$)"]
[null,{"$f":"Y18","v":"Total Salary"},{"$f":"Z18","v":"Head Count"},"Hour_count","Average hourly rate",null,1,{"$f":"OFFSET(Sheet1!$A$1,119-'Excel Salary Dashboard'!G3,0)","v":"Sweden"},{"$f":"VLOOKUP(H3,Sheet1!$A$17:$B$2118,2,0)","v":91.324200913242009}]
[null,{"$f":"Y26","v":93.800888515270373},{"$f":"Z26","v":1883},10215,198.55592207369722,null,{"$f":"G3+1","v":2},{"$f":"OFFSET(Sheet1!$A$1,119-'Excel Salary Dashboard'!G4,0)","v":"Central America"},{"$f":"VLOOKUP(H4,Sheet1!$A$17:$B$2118,2,0)","v":86.757990867579906}]
[null,"in USD Millions","Numbers","Hours","USD",null,{"$f":"G4+1","v":3},{"$f":"OFFSET(Sheet1!$A$1,119-'Excel Salary Dashboard'!G5,0)","v":"Lesotho"},{"$f":"VLOOKUP(H5,Sheet1!$A$17:$B$2118,2,0)","v":81.095890410958901}]
[null,{"$f":"IFERROR(HYPERLINK(highlightSeries(B3)),\"6\")","v":"6"},{"$f":"IFERROR(HYPERLINK(highlightSeries(C3)),\"6\")","v":"6"},{"$f":"IFERROR(HYPERLINK(highlightSeries(D3)),\"6\")","v":"6"},{"$f":"IFERROR(HYPERLINK(highlightSeries(E3)),\"6\")","v":"6"},null,{"$f":"G5+1","v":4},{"$f":"OFFSET(Sheet1!$A$1,119-'Excel Salary Dashboard'!G6,0)","v":"Europe"},{"$f":"VLOOKUP(H6,Sheet1!$A$17:$B$2118,2,0)","v":68.450746027858315}]
[null,null,null,null,null,null,{"$f":"G6+1","v":5},{"$f":"OFFSET(Sheet1!$A$1,119-'Excel Salary Dashboard'!G7,0)","v":"Switzerland"},{"$f":"VLOOKUP(H7,Sheet1!$A$17:$B$2118,2,0)","v":48.858447488584481}]
[null,null,null,null,null,null,{"$f":"G7+1","v":6},{"$f":"OFFSET(Sheet1!$A$1,119-'Excel Salary Dashboard'!G8,0)","v":"Oman"},{"$f":"VLOOKUP(H8,Sheet1!$A$17:$B$2118,2,0)","v":46.027397260273972}]
[null,null,null,null,null,null,{"$f":"G8+1","v":7},{"$f":"OFFSET(Sheet1!$A$1,119-'Excel Salary Dashboard'!G9,0)","v":"Uganda"},{"$f":"VLOOKUP(H9,Sheet1!$A$17:$B$2118,2,0)","v":45.662100456621005}]
[null,null,null,null,null,null,{"$f":"G9+1","v":8},{"$f":"OFFSET(Sheet1!$A$1,119-'Excel Salary Dashboard'!G10,0)","v":"Somalia"},{"$f":"VLOOKUP(H10,Sheet1!$A$17:$B$2118,2,0)","v":35.616438356164387}]
[null,null,null,null,null,null,{"$f":"G10+1","v":9},{"$f":"OFFSET(Sheet1!$A$1,119-'Excel Salary Dashboard'!G11,0)","v":"Czech Republic"},{"$f":"VLOOKUP(H11,Sheet1!$A$17:$B$2118,2,0)","v":32.87671232876712}]
[null,null,null,null,null,null,{"$f":"G11+1","v":10},{"$f":"OFFSET(Sheet1!$A$1,119-'Excel Salary Dashboard'!G12,0)","v":"Hong Kong"},{"$f":"VLOOKUP(H12,Sheet1!$A$17:$B$2118,2,0)","v":27.397260273972602}]
[]
[null,null,null,null,null,null,"Top 10 Least  Hourly  Rate by Country: (For Employers)"]
[null,null,null,null,null,null,"Rank#","Country","Hourly Rate (US$)",null,null,null,null,null,null,null,null,null,null,null,null,null,null,null,null,null,null,null,{"$f":"\"Continent-wise Breakup of \"&valSelOption","v":"Continent-wise Breakup of Head Count"}]
[null,null,null,null,null,null,1,{"$f":"OFFSET(Sheet1!$A$1,15+'Excel Salary Dashboard'!G16,0)","v":"Pakistan"},{"$f":"VLOOKUP(H16,Sheet1!$A$17:$B$2118,2,0)","v":0.65429314007665873}]
[null,null,null,null,null,null,{"$f":"G16+1","v":2},{"$f":"OFFSET(Sheet1!$A$1,15+'Excel Salary Dashboard'!G17,0)","v":"Sri Lanka"},{"$f":"VLOOKUP(H17,Sheet1!$A$17:$B$2118,2,0)","v":0.82455432065948664},null,null,null,null,null,null,null,null,null,null,null,null,null,null,null,null,null,null,null,{"$f":"MATCH(valSelOption,$Y$18:$AB$18,0)","v":2}]
[null,null,null,null,null,null,{"$f":"G17+1","v":3},{"$f":"OFFSET(Sheet1!$A$1,15+'Excel Salary Dashboard'!G18,0)","v":"India"},{"$f":"VLOOKUP(H18,Sheet1!$A$17:$B$2118,2,0)","v":0.87819863116155128},null,null,null,null,null,null,null,null,null,null,null,null,null,null,"Month","Total Salary","Head Count","Hour_count","Average hourly rate","Head Count"]
[null,null,null,null,null,null,{"$f":"G18+1","v":4},{"$f":"OFFSET(Sheet1!$A$1,15+'Excel Salary Dashboard'!G19,0)","v":"Ethiopia"},{"$f":"VLOOKUP(H19,Sheet1!$A$17:$B$2118,2,0)","v":1.3487881981032668},null,null,null,null,null,null,null,null,null,null,null,null,null,null," S. AMERICA",1.0256907314866988,31,187,18.675404483624249,{"$f":"INDEX($Y$19:$AB$24,,$AC$17)","v":31}]
[null,null,null,null,null,null,{"$f":"G19+1","v":5},{"$f":"OFFSET(Sheet1!$A$1,15+'Excel Salary Dashboard'!G20,0)","v":"Brazil"},{"$f":"VLOOKUP(H20,Sheet1!$A$17:$B$2118,2,0)","v":1.5565068493150684},null,null,null,null,null,null,null,null,null,null,null,null,null,null,"AFRICA",1.5753098044561973,37,238,20.409725142199488,37]
[null,null,null,null,null,null,{"$f":"G20+1","v":6},{"$f":"OFFSET(Sheet1!$A$1,15+'Excel Salary Dashboard'!G21,0)","v":"Philippines"},{"$f":"VLOOKUP(H21,Sheet1!$A$17:$B$2118,2,0)","v":1.8184697622412485},null,null,null,null,null,null,null,null,null,null,null,null,null,null,"OCEANIA",8.5757813427549134,96,477,11.338061582700837,96]
[null,null,null,null,null,null,{"$f":"G21+1","v":7},{"$f":"OFFSET(Sheet1!$A$1,15+'Excel Salary Dashboard'!G22,0)","v":"Zambia"},{"$f":"VLOOKUP(H22,Sheet1!$A$17:$B$2118,2,0)","v":2.0547945205479454},null,null,null,null,null,null,null,null,null,null,null,null,null,null,"ASIA",12.754204417838427,721,3922,41.412300141765883,721]
[null,null,null,null,null,null,{"$f":"G22+1","v":8},{"$f":"OFFSET(Sheet1!$A$1,15+'Excel Salary Dashboard'!G23,0)","v":"Armenia"},{"$f":"VLOOKUP(H23,Sheet1!$A$17:$B$2118,2,0)","v":2.0547945205479454},null,null,null,null,null,null,null,null,null,null,null,null,null,null,"EUROPE",19.138405715248741,304,1622,45.159147435706146,304]
[null,null,null,null,null,null,{"$f":"G23+1","v":9},{"$f":"OFFSET(Sheet1!$A$1,15+'Excel Salary Dashboard'!G24,0)","v":"Bhutan"},{"$f":"VLOOKUP(H24,Sheet1!$A$17:$B$2118,2,0)","v":2.1917808219178081},null,null,null,null,null,null,null,null,null,null,null,null,null,null,"N. AMERICA",50.731496503485403,694,3769,61.56128328770064,694]
[null,null,null,null,null,null,{"$f":"G24+1","v":10},{"$f":"OFFSET(Sheet1!$A$1,15+'Excel Salary Dashboard'!G25,0)","v":"Dominican Republic"},{"$f":"VLOOKUP(H25,Sheet1!$A$17:$B$2118,2,0)","v":2.2702054794520548}]
[null,null,null,null,null,null,null,null,null,null,null,null,null,null,null,null,null,null,null,null,null,null,null,"Total",{"$f":"SUM(Y19:Y24)","v":93.800888515270373},{"$f":"SUM(Z19:Z24)","v":1883},{"$f":"SUM(AA19:AA24)","v":10215},{"$f":"SUM(AB19:AB24)","v":198.55592207369722}]

{"sheet":"Sheet2","index":4,"n_rows":195,"n_cols":2,"rows_kept":195,"cut":false,"hidden":true,"merged":[]}
["Algeria","AFRICA"]
["Angola","AFRICA"]
["Benin","AFRICA"]
["Botswana","AFRICA"]
["Burkina","AFRICA"]
["Burundi","AFRICA"]
["Cameroon","AFRICA"]
["Cape Verde","AFRICA"]
["Central African Republic","AFRICA"]
["Chad","AFRICA"]
["Comoros","AFRICA"]
["Congo","AFRICA"]
["Congo, Democratic Republic of","AFRICA"]
["Djibouti","AFRICA"]
["Egypt","AFRICA"]
["Equatorial Guinea","AFRICA"]
["Eritrea","AFRICA"]
["Ethiopia","AFRICA"]
["Gabon","AFRICA"]
["Gambia","AFRICA"]
["Ghana","AFRICA"]
["Guinea","AFRICA"]
["Guinea-Bissau","AFRICA"]
["Ivory Coast","AFRICA"]
["Kenya","AFRICA"]
["Lesotho","AFRICA"]
["Liberia","AFRICA"]
["Libya","AFRICA"]
["Madagascar","AFRICA"]
["Malawi","AFRICA"]
["Mali","AFRICA"]
["Mauritania","AFRICA"]
["Mauritius","AFRICA"]
["Morocco","AFRICA"]
["Mozambique","AFRICA"]
["Namibia","AFRICA"]
["Niger","AFRICA"]
["Nigeria","AFRICA"]
["Rwanda","AFRICA"]
["Sao Tome and Principe ","AFRICA"]
["Senegal","AFRICA"]
["Seychelles","AFRICA"]
["Sierra Leone","AFRICA"]
["Somalia","AFRICA"]
["South Africa","AFRICA"]
["South Sudan","AFRICA"]
["Sudan","AFRICA"]
["Swaziland","AFRICA"]
["Tanzania","AFRICA"]
["Togo","AFRICA"]
["Tunisia","AFRICA"]
["Uganda","AFRICA"]
["Zambia","AFRICA"]
["Zimbabwe","AFRICA"]
["Afghanistan","ASIA"]
["Bahrain","ASIA"]
["Bangladesh","ASIA"]
["Bhutan","ASIA"]
["Brunei","ASIA"]
["Burma (Myanmar)","ASIA"]
["Cambodia","ASIA"]
["China","ASIA"]
["East Timor","ASIA"]
["India","ASIA"]
["Indonesia","ASIA"]
["Iran","ASIA"]
["Iraq","ASIA"]
["Israel","ASIA"]
["Japan","ASIA"]
["Jordan","ASIA"]
["Kazakhstan","ASIA"]
["Korea, North","ASIA"]
["Korea, South","ASIA"]
["Kuwait","ASIA"]
["Kyrgyzstan","ASIA"]
["Laos","ASIA"]
["Lebanon","ASIA"]
["Malaysia","ASIA"]
["Maldives","ASIA"]
["Mongolia","ASIA"]
["Nepal","ASIA"]
["Oman","ASIA"]
["Pakistan","ASIA"]
["Philippines","ASIA"]
["Qatar","ASIA"]
["Russia","ASIA"]
["Saudi Arabia","ASIA"]
["Singapore","ASIA"]
["Sri Lanka","ASIA"]
["Syria","ASIA"]
["Tajikistan","ASIA"]
["Thailand","ASIA"]
["Turkey","ASIA"]
["Turkmenistan","ASIA"]
["UAE","ASIA"]
["Uzbekistan","ASIA"]
["Vietnam","ASIA"]
["Yemen","ASIA"]
["Albania","EUROPE"]
["Andorra","EUROPE"]
["Armenia","EUROPE"]
["Austria","EUROPE"]
["Azerbaijan","EUROPE"]
["Belarus","EUROPE"]
["Belgium","EUROPE"]
["Bosnia and Herzegovina","EUROPE"]
["Bulgaria","EUROPE"]
["Croatia","EUROPE"]
["Cyprus","EUROPE"]
["Czech Republic","EUROPE"]
["Denmark","EUROPE"]
["Estonia","EUROPE"]
["Finland","EUROPE"]
["France","EUROPE"]
["Georgia","EUROPE"]
["Germany","EUROPE"]
["Greece","EUROPE"]
["Hungary","EUROPE"]
["Iceland","EUROPE"]
["Ireland","EUROPE"]
["Italy","EUROPE"]
["Latvia","EUROPE"]
["Liechtenstein","EUROPE"]
["Lithuania","EUROPE"]
["Luxembourg","EUROPE"]
["Macedonia","EUROPE"]
["Malta","EUROPE"]
["Moldova","EUROPE"]
["Monaco","EUROPE"]
["Montenegro","EUROPE"]
["Netherlands","EUROPE"]
["Norway","EUROPE"]
["Poland","EUROPE"]
["Portugal","EUROPE"]
["Romania","EUROPE"]
["San Marino","EUROPE"]
["Serbia","EUROPE"]
["Slovakia","EUROPE"]
["Slovenia","EUROPE"]
["Spain","EUROPE"]
["Sweden","EUROPE"]
["Switzerland","EUROPE"]
["Ukraine","EUROPE"]
["UK","EUROPE"]
["Vatican City","EUROPE"]
["Antigua and Barbuda","N. AMERICA"]
["Bahamas","N. AMERICA"]
["Barbados","N. AMERICA"]
["Belize","N. AMERICA"]
["Canada","N. AMERICA"]
["Costa Rica","N. AMERICA"]
["Cuba","N. AMERICA"]
["Dominica","N. AMERICA"]
["Dominican Republic","N. AMERICA"]
["El Salvador","N. AMERICA"]
["Grenada","N. AMERICA"]
["Guatemala","N. AMERICA"]
["Haiti","N. AMERICA"]
["Honduras","N. AMERICA"]
["Jamaica","N. AMERICA"]
["Mexico","N. AMERICA"]
["Nicaragua","N. AMERICA"]
["Panama","N. AMERICA"]
["Saint Kitts and Nevis","N. AMERICA"]
["Saint Lucia","N. AMERICA"]
["Saint Vincent and the Grenadines","N. AMERICA"]
["Trinidad and Tobago","N. AMERICA"]
["USA","N. AMERICA"]
["Australia","OCEANIA"]
["Fiji","OCEANIA"]
["Kiribati","OCEANIA"]
["Marshall Islands","OCEANIA"]
["Micronesia","OCEANIA"]
["Nauru","OCEANIA"]
["New Zealand","OCEANIA"]
["Palau","OCEANIA"]
["Papua New Guinea","OCEANIA"]
["Samoa","OCEANIA"]
["Solomon Islands","OCEANIA"]
["Tonga","OCEANIA"]
["Tuvalu","OCEANIA"]
["Vanuatu","OCEANIA"]
["Argentina"," S. AMERICA"]
["Bolivia"," S. AMERICA"]
["Brazil"," S. AMERICA"]
["Chile"," S. AMERICA"]
["Colombia"," S. AMERICA"]
["Ecuador"," S. AMERICA"]
["Guyana"," S. AMERICA"]
["Paraguay"," S. AMERICA"]
["Peru"," S. AMERICA"]
["Suriname"," S. AMERICA"]
["Uruguay"," S. AMERICA"]
["Venezuela"," S. AMERICA"]
[" "," "]

{"sheet":"Data","index":5,"n_rows":1888,"n_cols":15,"rows_kept":1888,"cut":false,"hidden":true,"merged":[[0,1,0,4]]}
[null,"Excel Salary Survey Data",null,null,null,null,12]
[]
[null,"Note: Experience data is not available for first few hundred rows."]
[]
[null,"Unique ID","Timestamp","Your Salary","clean Salary (in local currency)","Currency","Salary in USD","Your Job Title","Job Type","Where do you work","clean Country","How many hours of a day you work on Excel","Years of Experience","Continent","hourly_rate"]
[null,"ID0001","2012-05-25T03:11:32",5846,5846,"USD",{"$f":"tblSalaries[[#This Row],[clean Salary (in local currency)]]*VLOOKUP(tblSalaries[[#This Row],[Currency]],tblXrate[],2,FALSE)","v":5846},"MIS Analyst","Analyst","India",{"$f":"VLOOKUP(tblSalaries[[#This Row],[Where do you work]],tblCountries[[Actual]:[Mapping]],2,FALSE)","v":"India"},6,">10<=20","ASIA",{"$f":"(G6/365)/L6","v":2.6694063926940639}]
[null,"ID0002","2012-05-25T03:13:13","15000 usd",15000,"USD",{"$f":"tblSalaries[[#This Row],[clean Salary (in local currency)]]*VLOOKUP(tblSalaries[[#This Row],[Currency]],tblXrate[],2,FALSE)","v":15000},"cost control","Controller","europe/Croatia",{"$f":"VLOOKUP(tblSalaries[[#This Row],[Where do you work]],tblCountries[[Actual]:[Mapping]],2,FALSE)","v":"Croatia"},8,">20","EUROPE",{"$f":"(G7/365)/L7","v":5.1369863013698627}]
[null,"ID0003","2012-05-25T03:16:26",58000,58000,"USD",{"$f":"tblSalaries[[#This Row],[clean Salary (in local currency)]]*VLOOKUP(tblSalaries[[#This Row],[Currency]],tblXrate[],2,FALSE)","v":58000},"Financial Analyst","Analyst","USA",{"$f":"VLOOKUP(tblSalaries[[#This Row],[Where do you work]],tblCountries[[Actual]:[Mapping]],2,FALSE)","v":"USA"},8,"<=5","N. AMERICA",{"$f":"(G8/365)/L8","v":19.863013698630137}]
[null,"ID0004","2012-05-25T03:23:42",48000,48000,"USD",{"$f":"tblSalaries[[#This Row],[clean Salary (in local currency)]]*VLOOKUP(tblSalaries[[#This Row],[Currency]],tblXrate[],2,FALSE)","v":48000},"Quality Control","Controller","Pakistan",{"$f":"VLOOKUP(tblSalaries[[#This Row],[Where do you work]],tblCountries[[Actual]:[Mapping]],2,FALSE)","v":"Pakistan"},3,"<=5","ASIA",{"$f":"(G9/365)/L9","v":43.835616438356169}]
[null,"ID0005","2012-05-25T03:27:04",54000,54000,"USD",{"$f":"tblSalaries[[#This Row],[clean Salary (in local currency)]]*VLOOKUP(tblSalaries[[#This Row],[Currency]],tblXrate[],2,FALSE)","v":54000},"Quality Engineer","Engineer","USA",{"$f":"VLOOKUP(tblSalaries[[#This Row],[Where do you work]],tblCountries[[Actual]:[Mapping]],2,FALSE)","v":"USA"},8,">10<=20","N. AMERICA",{"$f":"(G10/365)/L10","v":18.493150684931507}]
[null,"ID0006","2012-05-25T03:28:28",41731,41731,"USD",{"$f":"tblSalaries[[#This Row],[clean Salary (in local currency)]]*VLOOKUP(tblSalaries[[#This Row],[Currency]],tblXrate[],2,FALSE)","v":41731},"Analyst","Analyst","Iceland",{"$f":"VLOOKUP(tblSalaries[[#This Row],[Where do you work]],tblCountries[[Actual]:[Mapping]],2,FALSE)","v":"Iceland"},8,"<=5","EUROPE",{"$f":"(G11/365)/L11","v":14.291438356164383}]
[null,"ID0007","2012-05-25T03:33:51",145000,145000,"EUR",{"$f":"tblSalaries[[#This Row],[clean Salary (in local currency)]]*VLOOKUP(tblSalaries[[#This Row],[Currency]],tblXrate[],2,FALSE)","v":184207.91865378313},"senior project manager","Manager","Germany",{"$f":"VLOOKUP(tblSalaries[[#This Row],[Where do you work]],tblCountries[[Actual]:[Mapping]],2,FALSE)","v":"Germany"},2,">20","EUROPE",{"$f":"(G12/365)/L12","v":252.33961459422346}]
[null,"ID0008","2012-05-25T03:36:37",12000,12000,"USD",{"$f":"tblSalaries[[#This Row],[clean Salary (in local currency)]]*VLOOKUP(tblSalaries[[#This Row],[Currency]],tblXrate[],2,FALSE)","v":12000},"Assistant SP&A","Analyst","Ukraine",{"$f":"VLOOKUP(tblSalaries[[#This Row],[Where do you work]],tblCountries[[Actual]:[Mapping]],2,FALSE)","v":"Ukraine"},8,">20","EUROPE",{"$f":"(G13/365)/L13","v":4.1095890410958908}]
[null,"ID0009","2012-05-25T03:37:17","44000 $",44000,"USD",{"$f":"tblSalaries[[#This Row],[clean Salary (in local currency)]]*VLOOKUP(tblSalaries[[#This Row],[Currency]],tblXrate[],2,FALSE)","v":44000},"CFO","CXO or Top Mgmt.","Portugal",{"$f":"VLOOKUP(tblSalaries[[#This Row],[Where do you work]],tblCountries[[Actual]:[Mapping]],2,FALSE)","v":"Portugal"},2,">20","EUROPE",{"$f":"(G14/365)/L14","v":60.273972602739725}]
[null,"ID0010","2012-05-25T03:38:57","PKR 8,000",1152000,"PKR",{"$f":"tblSalaries[[#This Row],[clean Salary (in local currency)]]*VLOOKUP(tblSalaries[[#This Row],[Currency]],tblXrate[],2,FALSE)","v":12227.430201752599},"Audit Trainee ","Accountant","Pakistan",{"$f":"VLOOKUP(tblSalaries[[#This Row],[Where do you work]],tblCountries[[Actual]:[Mapping]],2,FALSE)","v":"Pakistan"},8,">5<=10","ASIA",{"$f":"(G15/365)/L15","v":4.1874760964906157}]
[null,"ID0011","2012-05-25T03:43:45","â‚¬ 51650",51650,"EUR",{"$f":"tblSalaries[[#This Row],[clean Salary (in local currency)]]*VLOOKUP(tblSalaries[[#This Row],[Currency]],tblXrate[],2,FALSE)","v":65616.131023916547},"Training Specialist","Specialist","Ireland",{"$f":"VLOOKUP(tblSalaries[[#This Row],[Where do you work]],tblCountries[[Actual]:[Mapping]],2,FALSE)","v":"Ireland"},3,">20","EUROPE",{"$f":"(G16/365)/L16","v":59.923407327777674}]
[null,"ID0012","2012-05-25T03:43:56",14000,14000,"USD",{"$f":"tblSalaries[[#This Row],[clean Salary (in local currency)]]*VLOOKUP(tblSalaries[[#This Row],[Currency]],tblXrate[],2,FALSE)","v":14000},"quality engineer","Engineer","Hungary",{"$f":"VLOOKUP(tblSalaries[[#This Row],[Where do you work]],tblCountries[[Actual]:[Mapping]],2,FALSE)","v":"Hungary"},6,">5<=10","EUROPE",{"$f":"(G17/365)/L17","v":6.3926940639269398}]
[null,"ID0013","2012-05-25T03:48:53","749000 INR",749000,"INR",{"$f":"tblSalaries[[#This Row],[clean Salary (in local currency)]]*VLOOKUP(tblSalaries[[#This Row],[Currency]],tblXrate[],2,FALSE)","v":13338.129598894484},"Senion Analyst","Analyst","India",{"$f":"VLOOKUP(tblSalaries[[#This Row],[Where do you work]],tblCountries[[Actual]:[Mapping]],2,FALSE)","v":"India"},8,">10<=20","ASIA",{"$f":"(G18/365)/L18","v":4.5678526023611248}]
[null,"ID0014","2012-05-25T03:50:58",49000,49000,"USD",{"$f":"tblSalaries[[#This Row],[clean Salary (in local currency)]]*VLOOKUP(tblSalaries[[#This Row],[Currency]],tblXrate[],2,FALSE)","v":49000},"business analyst","Analyst","USA",{"$f":"VLOOKUP(tblSalaries[[#This Row],[Where do you work]],tblCountries[[Actual]:[Mapping]],2,FALSE)","v":"USA"},8,">10<=20","N. AMERICA",{"$f":"(G19/365)/L19","v":16.780821917808218}]
[null,"ID0015","2012-05-25T03:53:22",85000,85000,"USD",{"$f":"tblSalaries[[#This Row],[clean Salary (in local currency)]]*VLOOKUP(tblSalaries[[#This Row],[Currency]],tblXrate[],2,FALSE)","v":85000},"Project Engineer","Engineer","USA",{"$f":"VLOOKUP(tblSalaries[[#This Row],[Where do you work]],tblCountries[[Actual]:[Mapping]],2,FALSE)","v":"USA"},2,"<=5","N. AMERICA",{"$f":"(G20/365)/L20","v":116.43835616438356}]
[null,"ID0016","2012-05-25T03:56:40",75000,75000,"USD",{"$f":"tblSalaries[[#This Row],[clean Salary (in local currency)]]*VLOOKUP(tblSalaries[[#This Row],[Currency]],tblXrate[],2,FALSE)","v":75000},"Sr Project Engineer","Engineer","USA",{"$f":"VLOOKUP(tblSalaries[[#This Row],[Where do you work]],tblCountries[[Actual]:[Mapping]],2,FALSE)","v":"USA"},8,">10<=20","N. AMERICA",{"$f":"(G21/365)/L21","v":25.684931506849313}]
[null,"ID0017","2012-05-25T04:10:11",107000,107000,"USD",{"$f":"tblSalaries[[#This Row],[clean Salary (in local currency)]]*VLOOKUP(tblSalaries[[#This Row],[Currency]],tblXrate[],2,FALSE)","v":107000},"Business Development","Manager","Switzerland",{"$f":"VLOOKUP(tblSalaries[[#This Row],[Where do you work]],tblCountries[[Actual]:[Mapping]],2,FALSE)","v":"Switzerland"},6,">20","EUROPE",{"$f":"(G22/365)/L22","v":48.858447488584481}]
[null,"ID0018","2012-05-25T04:10:44",45000,45000,"USD",{"$f":"tblSalaries[[#This Row],[clean Salary (in local currency)]]*VLOOKUP(tblSalaries[[#This Row],[Currency]],tblXrate[],2,FALSE)","v":45000},"Excel Report Writer","Reporting","South Africa",{"$f":"VLOOKUP(tblSalaries[[#This Row],[Where do you work]],tblCountries[[Actual]:[Mapping]],2,FALSE)","v":"South Africa"},8,">10<=20","AFRICA",{"$f":"(G23/365)/L23","v":15.41095890410959}]
[null,"ID0019","2012-05-25T04:16:32",550000,550000,"INR",{"$f":"tblSalaries[[#This Row],[clean Salary (in local currency)]]*VLOOKUP(tblSalaries[[#This Row],[Currency]],tblXrate[],2,FALSE)","v":9794.354178093412},"AGM","Manager","India",{"$f":"VLOOKUP(tblSalaries[[#This Row],[Where do you work]],tblCountries[[Actual]:[Mapping]],2,FALSE)","v":"India"},3,">20","ASIA",{"$f":"(G24/365)/L24","v":8.9446156877565404}]
[null,"ID0020","2012-05-25T04:19:22",50000,50000,"USD",{"$f":"tblSalaries[[#This Row],[clean Salary (in local currency)]]*VLOOKUP(tblSalaries[[#This Row],[Currency]],tblXrate[],2,FALSE)","v":50000},"GM","Manager","India",{"$f":"VLOOKUP(tblSalaries[[#This Row],[Where do you work]],tblCountries[[Actual]:[Mapping]],2,FALSE)","v":"India"},2,"<=5","ASIA",{"$f":"(G25/365)/L25","v":68.493150684931507}]
[null,"ID0021","2012-05-25T04:24:01",13500,13500,"USD",{"$f":"tblSalaries[[#This Row],[clean Salary (in local currency)]]*VLOOKUP(tblSalaries[[#This Row],[Currency]],tblXrate[],2,FALSE)","v":13500},"DSE Co-ordinator","Manager","India",{"$f":"VLOOKUP(tblSalaries[[#This Row],[Where do you work]],tblCountries[[Actual]:[Mapping]],2,FALSE)","v":"India"},6,">20","ASIA",{"$f":"(G26/365)/L26","v":6.1643835616438354}]
[null,"ID0022","2012-05-25T04:24:12",96000,96000,"USD",{"$f":"tblSalaries[[#This Row],[clean Salary (in local currency)]]*VLOOKUP(tblSalaries[[#This Row],[Currency]],tblXrate[],2,FALSE)","v":96000},"Analyst","Analyst","USA",{"$f":"VLOOKUP(tblSalaries[[#This Row],[Where do you work]],tblCountries[[Actual]:[Mapping]],2,FALSE)","v":"USA"},3,">20","N. AMERICA",{"$f":"(G27/365)/L27","v":87.671232876712338}]
[null,"ID0023","2012-05-25T04:31:41",1000000,1000000,"INR",{"$f":"tblSalaries[[#This Row],[clean Salary (in local currency)]]*VLOOKUP(tblSalaries[[#This Row],[Currency]],tblXrate[],2,FALSE)","v":17807.916687442568},"Manager","Manager","India",{"$f":"VLOOKUP(tblSalaries[[#This Row],[Where do you work]],tblCountries[[Actual]:[Mapping]],2,FALSE)","v":"India"},6,">5<=10","ASIA",{"$f":"(G28/365)/L28","v":8.1314688070513998}]
[null,"ID0024","2012-05-25T04:32:49",75000,75000,"USD",{"$f":"tblSalaries[[#This Row],[clean Salary (in local currency)]]*VLOOKUP(tblSalaries[[#This Row],[Currency]],tblXrate[],2,FALSE)","v":75000},"Marketing Director","CXO or Top Mgmt.","USA",{"$f":"VLOOKUP(tblSalaries[[#This Row],[Where do you work]],tblCountries[[Actual]:[Mapping]],2,FALSE)","v":"USA"},6,"<=5","N. AMERICA",{"$f":"(G29/365)/L29","v":34.246575342465754}]
[null,"ID0025","2012-05-25T04:43:51","40000 us",40000,"USD",{"$f":"tblSalaries[[#This Row],[clean Salary (in local currency)]]*VLOOKUP(tblSalaries[[#This Row],[Currency]],tblXrate[],2,FALSE)","v":40000},"sales and marketing","Manager","USA",{"$f":"VLOOKUP(tblSalaries[[#This Row],[Where do you work]],tblCountries[[Actual]:[Mapping]],2,FALSE)","v":"USA"},3,">10<=20","N. AMERICA",{"$f":"(G30/365)/L30","v":36.529680365296805}]
[null,"ID0026","2012-05-25T04:45:01",60000,60000,"USD",{"$f":"tblSalaries[[#This Row],[clean Salary (in local currency)]]*VLOOKUP(tblSalaries[[#This Row],[Currency]],tblXrate[],2,FALSE)","v":60000},"Analyst II","Analyst","USA",{"$f":"VLOOKUP(tblSalaries[[#This Row],[Where do you work]],tblCountries[[Actual]:[Mapping]],2,FALSE)","v":"USA"},8,">20","N. AMERICA",{"$f":"(G31/365)/L31","v":20.547945205479451}]
[null,"ID0028","2012-05-25T04:48:33",2700,32400,"EUR",{"$f":"tblSalaries[[#This Row],[clean Salary (in local currency)]]*VLOOKUP(tblSalaries[[#This Row],[Currency]],tblXrate[],2,FALSE)","v":41160.941823328096},"Project Leader","Manager","Belgium",{"$f":"VLOOKUP(tblSalaries[[#This Row],[Where do you work]],tblCountries[[Actual]:[Mapping]],2,FALSE)","v":"Belgium"},6,">5<=10","EUROPE",{"$f":"(G32/365)/L32","v":18.794950604259405}]
[null,"ID0029","2012-05-25T04:52:23","900000 INR",900000,"INR",{"$f":"tblSalaries[[#This Row],[clean Salary (in local currency)]]*VLOOKUP(tblSalaries[[#This Row],[Currency]],tblXrate[],2,FALSE)","v":16027.125018698311},"Applications Engineer","Engineer","India",{"$f":"VLOOKUP(tblSalaries[[#This Row],[Where do you work]],tblCountries[[Actual]:[Mapping]],2,FALSE)","v":"India"},2,">20","ASIA",{"$f":"(G33/365)/L33","v":21.954965779038783}]
[null,"ID0030","2012-05-25T04:55:35","Rs 600000",600000,"INR",{"$f":"tblSalaries[[#This Row],[clean Salary (in local currency)]]*VLOOKUP(tblSalaries[[#This Row],[Currency]],tblXrate[],2,FALSE)","v":10684.750012465542},"strategy manager","Manager","India",{"$f":"VLOOKUP(tblSalaries[[#This Row],[Where do you work]],tblCountries[[Actual]:[Mapping]],2,FALSE)","v":"India"},6,">20","ASIA",{"$f":"(G34/365)/L34","v":4.8788812842308404}]
[null,"ID0031","2012-05-25T04:55:48",41000,41000,"USD",{"$f":"tblSalaries[[#This Row],[clean Salary (in local currency)]]*VLOOKUP(tblSalaries[[#This Row],[Currency]],tblXrate[],2,FALSE)","v":41000},"Chief of the department of public budget analisis and forecasting","Manager","Russia",{"$f":"VLOOKUP(tblSalaries[[#This Row],[Where do you work]],tblCountries[[Actual]:[Mapping]],2,FALSE)","v":"Russia"},8,">10<=20","ASIA",{"$f":"(G35/365)/L35","v":14.04109589041096}]
[null,"ID0032","2012-05-25T04:57:06","360000 INR",360000,"INR",{"$f":"tblSalaries[[#This Row],[clean Salary (in local currency)]]*VLOOKUP(tblSalaries[[#This Row],[Currency]],tblXrate[],2,FALSE)","v":6410.8500074793246},"Specialist","Specialist","India",{"$f":"VLOOKUP(tblSalaries[[#This Row],[Where do you work]],tblCountries[[Actual]:[Mapping]],2,FALSE)","v":"India"},6,">5<=10","ASIA",{"$f":"(G36/365)/L36","v":2.9273287705385047}]
[null,"ID0033","2012-05-25T04:58:45","Â£35000",35000,"GBP",{"$f":"tblSalaries[[#This Row],[clean Salary (in local currency)]]*VLOOKUP(tblSalaries[[#This Row],[Currency]],tblXrate[],2,FALSE)","v":55166.239522354947},"Management Information Analyst","Analyst","UK",{"$f":"VLOOKUP(tblSalaries[[#This Row],[Where do you work]],tblCountries[[Actual]:[Mapping]],2,FALSE)","v":"UK"},8,">20","EUROPE",{"$f":"(G37/365)/L37","v":18.892547781628405}]
[null,"ID0035","2012-05-25T05:01:09","1600 $",19200,"USD",{"$f":"tblSalaries[[#This Row],[clean Salary (in local currency)]]*VLOOKUP(tblSalaries[[#This Row],[Currency]],tblXrate[],2,FALSE)","v":19200},"Analyst","Analyst","Poland",{"$f":"VLOOKUP(tblSalaries[[#This Row],[Where do you work]],tblCountries[[Actual]:[Mapping]],2,FALSE)","v":"Poland"},3,">10<=20","EUROPE",{"$f":"(G38/365)/L38","v":17.534246575342465}]
[null,"ID0036","2012-05-25T05:04:12",500000,500000,"INR",{"$f":"tblSalaries[[#This Row],[clean Salary (in local currency)]]*VLOOKUP(tblSalaries[[#This Row],[Currency]],tblXrate[],2,FALSE)","v":8903.9583437212841},"Senior Consultant","Consultant","India",{"$f":"VLOOKUP(tblSalaries[[#This Row],[Where do you work]],tblCountries[[Actual]:[Mapping]],2,FALSE)","v":"India"},8,">20","ASIA",{"$f":"(G39/365)/L39","v":3.0493008026442752}]
[null,"ID0037","2012-05-25T05:07:31",150000,150000,"USD",{"$f":"tblSalaries[[#This Row],[clean Salary (in local currency)]]*VLOOKUP(tblSalaries[[#This Row],[Currency]],tblXrate[],2,FALSE)","v":150000},"Portfolio Manager","Manager","USA",{"$f":"VLOOKUP(tblSalaries[[#This Row],[Where do you work]],tblCountries[[Actual]:[Mapping]],2,FALSE)","v":"USA"},3,"<=5","N. AMERICA",{"$f":"(G40/365)/L40","v":136.98630136986301}]
[null,"ID0038","2012-05-25T05:10:29",69000,69000,"USD",{"$f":"tblSalaries[[#This Row],[clean Salary (in local currency)]]*VLOOKUP(tblSalaries[[#This Row],[Currency]],tblXrate[],2,FALSE)","v":69000},"Design Engineer","Engineer","USA",{"$f":"VLOOKUP(tblSalaries[[#This Row],[Where do you work]],tblCountries[[Actual]:[Mapping]],2,FALSE)","v":"USA"},6,">10<=20","N. AMERICA",{"$f":"(G41/365)/L41","v":31.506849315068493}]
[null,"ID0039","2012-05-25T05:11:37",30000,30000,"USD",{"$f":"tblSalaries[[#This Row],[clean Salary (in local currency)]]*VLOOKUP(tblSalaries[[#This Row],[Currency]],tblXrate[],2,FALSE)","v":30000},"Academic Advisor","Consultant","USA",{"$f":"VLOOKUP(tblSalaries[[#This Row],[Where do you work]],tblCountries[[Actual]:[Mapping]],2,FALSE)","v":"USA"},3,">20","N. AMERICA",{"$f":"(G42/365)/L42","v":27.397260273972602}]
[null,"ID0040","2012-05-25T05:13:50","Rs. 400000",400000,"INR",{"$f":"tblSalaries[[#This Row],[clean Salary (in local currency)]]*VLOOKUP(tblSalaries[[#This Row],[Currency]],tblXrate[],2,FALSE)","v":7123.1666749770275},"Coordination","Manager","India",{"$f":"VLOOKUP(tblSalaries[[#This Row],[Where do you work]],tblCountries[[Actual]:[Mapping]],2,FALSE)","v":"India"},6,">20","ASIA",{"$f":"(G43/365)/L43","v":3.2525875228205603}]
[null,"ID0041","2012-05-25T05:18:48",70000,70000,"AUD",{"$f":"tblSalaries[[#This Row],[clean Salary (in local currency)]]*VLOOKUP(tblSalaries[[#This Row],[Currency]],tblXrate[],2,FALSE)","v":71393.675948184507},"consultant","Consultant","Australia",{"$f":"VLOOKUP(tblSalaries[[#This Row],[Where do you work]],tblCountries[[Actual]:[Mapping]],2,FALSE)","v":"Australia"},3,">10<=20","OCEANIA",{"$f":"(G44/365)/L44","v":65.199704062268964}]
[null,"ID0042","2012-05-25T05:20:10",14500,14500,"USD",{"$f":"tblSalaries[[#This Row],[clean Salary (in local currency)]]*VLOOKUP(tblSalaries[[#This Row],[Currency]],tblXrate[],2,FALSE)","v":14500},"Business Analsyt","Analyst","India",{"$f":"VLOOKUP(tblSalaries[[#This Row],[Where do you work]],tblCountries[[Actual]:[Mapping]],2,FALSE)","v":"India"},6,">10<=20","ASIA",{"$f":"(G45/365)/L45","v":6.6210045662100461}]
[null,"ID0043","2012-05-25T05:30:39",70000,70000,"CAD",{"$f":"tblSalaries[[#This Row],[clean Salary (in local currency)]]*VLOOKUP(tblSalaries[[#This Row],[Currency]],tblXrate[],2,FALSE)","v":68835.306612122877},"Product Engineer","Engineer","Canada",{"$f":"VLOOKUP(tblSalaries[[#This Row],[Where do you work]],tblCountries[[Actual]:[Mapping]],2,FALSE)","v":"Canada"},3,">20","N. AMERICA",{"$f":"(G46/365)/L46","v":62.863293709701253}]
[null,"ID0044","2012-05-25T05:35:28",58000,58000,"USD",{"$f":"tblSalaries[[#This Row],[clean Salary (in local currency)]]*VLOOKUP(tblSalaries[[#This Row],[Currency]],tblXrate[],2,FALSE)","v":58000},"Senior Accountant","Accountant","USA",{"$f":"VLOOKUP(tblSalaries[[#This Row],[Where do you work]],tblCountries[[Actual]:[Mapping]],2,FALSE)","v":"USA"},6,">10<=20","N. AMERICA",{"$f":"(G47/365)/L47","v":26.484018264840184}]
[null,"ID0045","2012-05-25T05:45:01",90000,90000,"USD",{"$f":"tblSalaries[[#This Row],[clean Salary (in local currency)]]*VLOOKUP(tblSalaries[[#This Row],[Currency]],tblXrate[],2,FALSE)","v":90000},"Scientist","Misc.","USA",{"$f":"VLOOKUP(tblSalaries[[#This Row],[Where do you work]],tblCountries[[Actual]:[Mapping]],2,FALSE)","v":"USA"},2,">10<=20","N. AMERICA",{"$f":"(G48/365)/L48","v":123.28767123287672}]
[null,"ID0046","2012-05-25T05:46:47",800000,800000,"INR",{"$f":"tblSalaries[[#This Row],[clean Salary (in local currency)]]*VLOOKUP(tblSalaries[[#This Row],[Currency]],tblXrate[],2,FALSE)","v":14246.333349954055},"Team Lead","Manager","India",{"$f":"VLOOKUP(tblSalaries[[#This Row],[Where do you work]],tblCountries[[Actual]:[Mapping]],2,FALSE)","v":"India"},3,">20","ASIA",{"$f":"(G49/365)/L49","v":13.010350091282241}]
[null,"ID0047","2012-05-25T05:47:10",32000,32000,"GBP",{"$f":"tblSalaries[[#This Row],[clean Salary (in local currency)]]*VLOOKUP(tblSalaries[[#This Row],[Currency]],tblXrate[],2,FALSE)","v":50437.70470615309},"Senior intelligence analyst","Analyst","UK",{"$f":"VLOOKUP(tblSalaries[[#This Row],[Where do you work]],tblCountries[[Actual]:[Mapping]],2,FALSE)","v":"UK"},6,">20","EUROPE",{"$f":"(G50/365)/L50","v":23.030915390937484}]
[null,"ID0048","2012-05-25T05:47:52",1000,12000,"USD",{"$f":"tblSalaries[[#This Row],[clean Salary (in local currency)]]*VLOOKUP(tblSalaries[[#This Row],[Currency]],tblXrate[],2,FALSE)","v":12000},"Freelance consultant","Consultant","USA",{"$f":"VLOOKUP(tblSalaries[[#This Row],[Where do you work]],tblCountries[[Actual]:[Mapping]],2,FALSE)","v":"USA"},2,">20","N. AMERICA",{"$f":"(G51/365)/L51","v":16.438356164383563}]
[null,"ID0049","2012-05-25T06:04:42","â‚¬ 45",45000,"EUR",{"$f":"tblSalaries[[#This Row],[clean Salary (in local currency)]]*VLOOKUP(tblSalaries[[#This Row],[Currency]],tblXrate[],2,FALSE)","v":57167.974754622352},"Online Traffic Manager / Web Analist","Manager","The Netherlands",{"$f":"VLOOKUP(tblSalaries[[#This Row],[Where do you work]],tblCountries[[Actual]:[Mapping]],2,FALSE)","v":"Netherlands"},6,">5<=10","EUROPE",{"$f":"(G52/365)/L52","v":26.104098061471394}]
[null,"ID0050","2012-05-25T06:04:57","100000 USD",100000,"USD",{"$f":"tblSalaries[[#This Row],[clean Salary (in local currency)]]*VLOOKUP(tblSalaries[[#This Row],[Currency]],tblXrate[],2,FALSE)","v":100000},"Seinor Financial Analyst","Analyst","Germany",{"$f":"VLOOKUP(tblSalaries[[#This Row],[Where do you work]],tblCountries[[Actual]:[Mapping]],2,FALSE)","v":"Germany"},8,">20","EUROPE",{"$f":"(G53/365)/L53","v":34.246575342465754}]
[null,"ID0051","2012-05-25T06:05:17",57000,57000,"USD",{"$f":"tblSalaries[[#This Row],[clean Salary (in local currency)]]*VLOOKUP(tblSalaries[[#This Row],[Currency]],tblXrate[],2,FALSE)","v":57000},"Senior Accounting Supervisor","Accountant","USA",{"$f":"VLOOKUP(tblSalaries[[#This Row],[Where do you work]],tblCountries[[Actual]:[Mapping]],2,FALSE)","v":"USA"},3,">20","N. AMERICA",{"$f":"(G54/365)/L54","v":52.054794520547944}]
[null,"ID0052","2012-05-25T06:07:15",40000,40000,"GBP",{"$f":"tblSalaries[[#This Row],[clean Salary (in local currency)]]*VLOOKUP(tblSalaries[[#This Row],[Currency]],tblXrate[],2,FALSE)","v":63047.130882691366},"Senior Accountant","Accountant","UK",{"$f":"VLOOKUP(tblSalaries[[#This Row],[Where do you work]],tblCountries[[Actual]:[Mapping]],2,FALSE)","v":"UK"},6,">20","EUROPE",{"$f":"(G55/365)/L55","v":28.788644238671854}]
[null,"ID0053","2012-05-25T06:09:44","2000 Euros",24000,"EUR",{"$f":"tblSalaries[[#This Row],[clean Salary (in local currency)]]*VLOOKUP(tblSalaries[[#This Row],[Currency]],tblXrate[],2,FALSE)","v":30489.586535798586},"PPC Manager","Manager","Germany",{"$f":"VLOOKUP(tblSalaries[[#This Row],[Where do you work]],tblCountries[[Actual]:[Mapping]],2,FALSE)","v":"Germany"},8,">20","EUROPE",{"$f":"(G56/365)/L56","v":10.441639224588556}]
[null,"ID0054","2012-05-25T06:10:18",4320,4320,"USD",{"$f":"tblSalaries[[#This Row],[clean Salary (in local currency)]]*VLOOKUP(tblSalaries[[#This Row],[Currency]],tblXrate[],2,FALSE)","v":4320},"Financial Planner","Accountant","India",{"$f":"VLOOKUP(tblSalaries[[#This Row],[Where do you work]],tblCountries[[Actual]:[Mapping]],2,FALSE)","v":"India"},3,">5<=10","ASIA",{"$f":"(G57/365)/L57","v":3.9452054794520546}]
[null,"ID0055","2012-05-25T06:15:42",62000,62000,"USD",{"$f":"tblSalaries[[#This Row],[clean Salary (in local currency)]]*VLOOKUP(tblSalaries[[#This Row],[Currency]],tblXrate[],2,FALSE)","v":62000},"Analyst","Analyst","USA",{"$f":"VLOOKUP(tblSalaries[[#This Row],[Where do you work]],tblCountries[[Actual]:[Mapping]],2,FALSE)","v":"USA"},6,">20","N. AMERICA",{"$f":"(G58/365)/L58","v":28.310502283105023}]
[null,"ID0056","2012-05-25T06:26:44",7500,7500,"USD",{"$f":"tblSalaries[[#This Row],[clean Salary (in local currency)]]*VLOOKUP(tblSalaries[[#This Row],[Currency]],tblXrate[],2,FALSE)","v":7500},"Analyst","Analyst","India",{"$f":"VLOOKUP(tblSalaries[[#This Row],[Where do you work]],tblCountries[[Actual]:[Mapping]],2,FALSE)","v":"India"},6,"<=5","ASIA",{"$f":"(G59/365)/L59","v":3.4246575342465753}]
[null,"ID0057","2012-05-25T06:27:29","Â£18000",18000,"GBP",{"$f":"tblSalaries[[#This Row],[clean Salary (in local currency)]]*VLOOKUP(tblSalaries[[#This Row],[Currency]],tblXrate[],2,FALSE)","v":28371.208897211112},"Building Design and Performance Researcher","Manager","UK",{"$f":"VLOOKUP(tblSalaries[[#This Row],[Where do you work]],tblCountries[[Actual]:[Mapping]],2,FALSE)","v":"UK"},2,"<=5","EUROPE",{"$f":"(G60/365)/L60","v":38.864669722207005}]
[null,"ID0058","2012-05-25T06:49:25",49000,49000,"EUR",{"$f":"tblSalaries[[#This Row],[clean Salary (in local currency)]]*VLOOKUP(tblSalaries[[#This Row],[Currency]],tblXrate[],2,FALSE)","v":62249.572510588783},"Project leader","Manager","France",{"$f":"VLOOKUP(tblSalaries[[#This Row],[Where do you work]],tblCountries[[Actual]:[Mapping]],2,FALSE)","v":"France"},3,">20","EUROPE",{"$f":"(G61/365)/L61","v":56.848924667204365}]
[null,"ID0059","2012-05-25T06:57:52",38000,38000,"USD",{"$f":"tblSalaries[[#This Row],[clean Salary (in local currency)]]*VLOOKUP(tblSalaries[[#This Row],[Currency]],tblXrate[],2,FALSE)","v":38000},"Senior Analyst","Analyst","USA",{"$f":"VLOOKUP(tblSalaries[[#This Row],[Where do you work]],tblCountries[[Actual]:[Mapping]],2,FALSE)","v":"USA"},6,">10<=20","N. AMERICA",{"$f":"(G62/365)/L62","v":17.351598173515981}]
[null,"ID0060","2012-05-25T07:00:52",41000,41000,"USD",{"$f":"tblSalaries[[#This Row],[clean Salary (in local currency)]]*VLOOKUP(tblSalaries[[#This Row],[Currency]],tblXrate[],2,FALSE)","v":41000},"Specialist","Specialist","USA",{"$f":"VLOOKUP(tblSalaries[[#This Row],[Where do you work]],tblCountries[[Actual]:[Mapping]],2,FALSE)","v":"USA"},6,">10<=20","N. AMERICA",{"$f":"(G63/365)/L63","v":18.721461187214611}]
[null,"ID0061","2012-05-25T07:11:09",68000,68000,"USD",{"$f":"tblSalaries[[#This Row],[clean Salary (in local currency)]]*VLOOKUP(tblSalaries[[#This Row],[Currency]],tblXrate[],2,FALSE)","v":68000},"Engineering Data Analyst","Analyst","USA",{"$f":"VLOOKUP(tblSalaries[[#This Row],[Where do you work]],tblCountries[[Actual]:[Mapping]],2,FALSE)","v":"USA"},8,">20","N. AMERICA",{"$f":"(G64/365)/L64","v":23.287671232876711}]
[null,"ID0062","2012-05-25T07:13:31",56000,56000,"CAD",{"$f":"tblSalaries[[#This Row],[clean Salary (in local currency)]]*VLOOKUP(tblSalaries[[#This Row],[Currency]],tblXrate[],2,FALSE)","v":55068.245289698301},"Sales Analyst","Analyst","CANADA",{"$f":"VLOOKUP(tblSalaries[[#This Row],[Where do you work]],tblCountries[[Actual]:[Mapping]],2,FALSE)","v":"Canada"},8,"<=5","N. AMERICA",{"$f":"(G65/365)/L65","v":18.858988112910378}]
[null,"ID0063","2012-05-25T07:15:12",61000,61000,"USD",{"$f":"tblSalaries[[#This Row],[clean Salary (in local currency)]]*VLOOKUP(tblSalaries[[#This Row],[Currency]],tblXrate[],2,FALSE)","v":61000},"Coordinator Of Costa and Buget","Manager","Brasil",{"$f":"VLOOKUP(tblSalaries[[#This Row],[Where do you work]],tblCountries[[Actual]:[Mapping]],2,FALSE)","v":"Brazil"},8,">20"," S. AMERICA",{"$f":"(G66/365)/L66","v":20.890410958904109}]
[null,"ID0064","2012-05-25T07:18:53",43000,43000,"EUR",{"$f":"tblSalaries[[#This Row],[clean Salary (in local currency)]]*VLOOKUP(tblSalaries[[#This Row],[Currency]],tblXrate[],2,FALSE)","v":54627.175876639136},"SAP consultant","Consultant","FR",{"$f":"VLOOKUP(tblSalaries[[#This Row],[Where do you work]],tblCountries[[Actual]:[Mapping]],2,FALSE)","v":"France"},6,">20","EUROPE",{"$f":"(G67/365)/L67","v":24.943915925405999}]
[null,"ID0065","2012-05-25T07:20:08",85000,85000,"USD",{"$f":"tblSalaries[[#This Row],[clean Salary (in local currency)]]*VLOOKUP(tblSalaries[[#This Row],[Currency]],tblXrate[],2,FALSE)","v":85000},"Manager","Manager","USA",{"$f":"VLOOKUP(tblSalaries[[#This Row],[Where do you work]],tblCountries[[Actual]:[Mapping]],2,FALSE)","v":"USA"},6,">10<=20","N. AMERICA",{"$f":"(G68/365)/L68","v":38.812785388127857}]
[null,"ID0066","2012-05-25T07:21:18","â‚¬ 38000",38000,"EUR",{"$f":"tblSalaries[[#This Row],[clean Salary (in local currency)]]*VLOOKUP(tblSalaries[[#This Row],[Currency]],tblXrate[],2,FALSE)","v":48275.178681681093},"busines analist","Analyst","The Netherlands",{"$f":"VLOOKUP(tblSalaries[[#This Row],[Where do you work]],tblCountries[[Actual]:[Mapping]],2,FALSE)","v":"Netherlands"},2,"<=5","EUROPE",{"$f":"(G69/365)/L69","v":66.130381755727527}]
[null,"ID0067","2012-05-25T07:25:12",85000,85000,"AUD",{"$f":"tblSalaries[[#This Row],[clean Salary (in local currency)]]*VLOOKUP(tblSalaries[[#This Row],[Currency]],tblXrate[],2,FALSE)","v":86692.320794224041},"head of data","CXO or Top Mgmt.","Australia",{"$f":"VLOOKUP(tblSalaries[[#This Row],[Where do you work]],tblCountries[[Actual]:[Mapping]],2,FALSE)","v":"Australia"},6,">20","OCEANIA",{"$f":"(G70/365)/L70","v":39.58553460923472}]
[null,"ID0068","2012-05-25T07:29:12",85087,85087,"USD",{"$f":"tblSalaries[[#This Row],[clean Salary (in local currency)]]*VLOOKUP(tblSalaries[[#This Row],[Currency]],tblXrate[],2,FALSE)","v":85087},"Business Systems Analyst","Analyst","USA",{"$f":"VLOOKUP(tblSalaries[[#This Row],[Where do you work]],tblCountries[[Actual]:[Mapping]],2,FALSE)","v":"USA"},3,">20","N. AMERICA",{"$f":"(G71/365)/L71","v":77.705022831050229}]
[null,"ID0069","2012-05-25T07:38:22",50000,50000,"USD",{"$f":"tblSalaries[[#This Row],[clean Salary (in local currency)]]*VLOOKUP(tblSalaries[[#This Row],[Currency]],tblXrate[],2,FALSE)","v":50000},"Financial Analyst II","Analyst","USA",{"$f":"VLOOKUP(tblSalaries[[#This Row],[Where do you work]],tblCountries[[Actual]:[Mapping]],2,FALSE)","v":"USA"},8,">20","N. AMERICA",{"$f":"(G72/365)/L72","v":17.123287671232877}]
[null,"ID0070","2012-05-25T07:47:00",100000,100000,"USD",{"$f":"tblSalaries[[#This Row],[clean Salary (in local currency)]]*VLOOKUP(tblSalaries[[#This Row],[Currency]],tblXrate[],2,FALSE)","v":100000},"Mngr MI","Manager","RSA",{"$f":"VLOOKUP(tblSalaries[[#This Row],[Where do you work]],tblCountries[[Actual]:[Mapping]],2,FALSE)","v":"South Africa"},6,">10<=20","AFRICA",{"$f":"(G73/365)/L73","v":45.662100456621005}]
[null,"ID0071","2012-05-25T22:49:00",57000,57000,"USD",{"$f":"tblSalaries[[#This Row],[clean Salary (in local currency)]]*VLOOKUP(tblSalaries[[#This Row],[Currency]],tblXrate[],2,FALSE)","v":57000},"sales analyst","Analyst","USA",{"$f":"VLOOKUP(tblSalaries[[#This Row],[Where do you work]],tblCountries[[Actual]:[Mapping]],2,FALSE)","v":"USA"},6,">20","N. AMERICA",{"$f":"(G74/365)/L74","v":26.027397260273972}]
[null,"ID0072","2012-05-25T22:52:28",75000,75000,"USD",{"$f":"tblSalaries[[#This Row],[clean Salary (in local currency)]]*VLOOKUP(tblSalaries[[#This Row],[Currency]],tblXrate[],2,FALSE)","v":75000},"Consumer Research Program Manager","Manager","USA",{"$f":"VLOOKUP(tblSalaries[[#This Row],[Where do you work]],tblCountries[[Actual]:[Mapping]],2,FALSE)","v":"USA"},8,">5<=10","N. AMERICA",{"$f":"(G75/365)/L75","v":25.684931506849313}]
[null,"ID0073","2012-05-25T22:59:05","$AUD100000",100000,"AUD",{"$f":"tblSalaries[[#This Row],[clean Salary (in local currency)]]*VLOOKUP(tblSalaries[[#This Row],[Currency]],tblXrate[],2,FALSE)","v":101990.96564026357},"technical trainer","Manager","Australia",{"$f":"VLOOKUP(tblSalaries[[#This Row],[Where do you work]],tblCountries[[Actual]:[Mapping]],2,FALSE)","v":"Australia"},6,">20","OCEANIA",{"$f":"(G76/365)/L76","v":46.571217187334959}]
[null,"ID0074","2012-05-25T23:01:20",2785,33420,"USD",{"$f":"tblSalaries[[#This Row],[clean Salary (in local currency)]]*VLOOKUP(tblSalaries[[#This Row],[Currency]],tblXrate[],2,FALSE)","v":33420},"Process Flow Coordinator","Manager","United Arab Emirates",{"$f":"VLOOKUP(tblSalaries[[#This Row],[Where do you work]],tblCountries[[Actual]:[Mapping]],2,FALSE)","v":"UAE"},8,">20","ASIA",{"$f":"(G77/365)/L77","v":11.445205479452055}]
[null,"ID0075","2012-05-25T23:03:00",59450,59450,"CAD",{"$f":"tblSalaries[[#This Row],[clean Salary (in local currency)]]*VLOOKUP(tblSalaries[[#This Row],[Currency]],tblXrate[],2,FALSE)","v":58460.842544152933},"Process Improvement Specialist","Specialist","Canada",{"$f":"VLOOKUP(tblSalaries[[#This Row],[Where do you work]],tblCountries[[Actual]:[Mapping]],2,FALSE)","v":"Canada"},8,">20","N. AMERICA",{"$f":"(G78/365)/L78","v":20.020836487723606}]
[null,"ID0076","2012-05-25T23:12:29",15000,15000,"USD",{"$f":"tblSalaries[[#This Row],[clean Salary (in local currency)]]*VLOOKUP(tblSalaries[[#This Row],[Currency]],tblXrate[],2,FALSE)","v":15000},"Excel Programmer Consultant","Consultant","USA",{"$f":"VLOOKUP(tblSalaries[[#This Row],[Where do you work]],tblCountries[[Actual]:[Mapping]],2,FALSE)","v":"USA"},8,">10<=20","N. AMERICA",{"$f":"(G79/365)/L79","v":5.1369863013698627}]
[null,"ID0077","2012-05-25T23:15:34","US $60,000",60000,"USD",{"$f":"tblSalaries[[#This Row],[clean Salary (in local currency)]]*VLOOKUP(tblSalaries[[#This Row],[Currency]],tblXrate[],2,FALSE)","v":60000},"Statistical Analyst","Analyst","Canada",{"$f":"VLOOKUP(tblSalaries[[#This Row],[Where do you work]],tblCountries[[Actual]:[Mapping]],2,FALSE)","v":"Canada"},2,"<=5","N. AMERICA",{"$f":"(G80/365)/L80","v":82.191780821917803}]
[null,"ID0078","2012-05-25T23:18:45",100000,100000,"GBP",{"$f":"tblSalaries[[#This Row],[clean Salary (in local currency)]]*VLOOKUP(tblSalaries[[#This Row],[Currency]],tblXrate[],2,FALSE)","v":157617.8272067284},"Analyst","Analyst","UK",{"$f":"VLOOKUP(tblSalaries[[#This Row],[Where do you work]],tblCountries[[Actual]:[Mapping]],2,FALSE)","v":"UK"},3,">20","EUROPE",{"$f":"(G81/365)/L81","v":143.94322119335928}]
[null,"ID0079","2012-05-25T23:20:46","Us$ 18000",18000,"USD",{"$f":"tblSalaries[[#This Row],[clean Salary (in local currency)]]*VLOOKUP(tblSalaries[[#This Row],[Currency]],tblXrate[],2,FALSE)","v":18000},"Operational Analyst","Analyst","Saudi Arabia",{"$f":"VLOOKUP(tblSalaries[[#This Row],[Where do you work]],tblCountries[[Actual]:[Mapping]],2,FALSE)","v":"Saudi Arabia"},8,">10<=20","ASIA",{"$f":"(G82/365)/L82","v":6.1643835616438354}]
[null,"ID0080","2012-05-25T23:31:16",50000,50000,"USD",{"$f":"tblSalaries[[#This Row],[clean Salary (in local currency)]]*VLOOKUP(tblSalaries[[#This Row],[Currency]],tblXrate[],2,FALSE)","v":50000},"Exceler","Manager","USA",{"$f":"VLOOKUP(tblSalaries[[#This Row],[Where do you work]],tblCountries[[Actual]:[Mapping]],2,FALSE)","v":"USA"},3,">20","N. AMERICA",{"$f":"(G83/365)/L83","v":45.662100456621005}]
[null,"ID0081","2012-05-25T23:33:15",26000,26000,"USD",{"$f":"tblSalaries[[#This Row],[clean Salary (in local currency)]]*VLOOKUP(tblSalaries[[#This Row],[Currency]],tblXrate[],2,FALSE)","v":26000},"Marketing Analyst","Analyst","Panama",{"$f":"VLOOKUP(tblSalaries[[#This Row],[Where do you work]],tblCountries[[Actual]:[Mapping]],2,FALSE)","v":"Panama"},8,">20","N. AMERICA",{"$f":"(G84/365)/L84","v":8.9041095890410951}]
[null,"ID0082","2012-05-25T23:49:27","Â£30000",30000,"GBP",{"$f":"tblSalaries[[#This Row],[clean Salary (in local currency)]]*VLOOKUP(tblSalaries[[#This Row],[Currency]],tblXrate[],2,FALSE)","v":47285.348162018527},"Database Manager","Manager","UK",{"$f":"VLOOKUP(tblSalaries[[#This Row],[Where do you work]],tblCountries[[Actual]:[Mapping]],2,FALSE)","v":"UK"},6,">20","EUROPE",{"$f":"(G85/365)/L85","v":21.591483179003891}]
[null,"ID0083","2012-05-26T00:00:52",150000,150000,"USD",{"$f":"tblSalaries[[#This Row],[clean Salary (in local currency)]]*VLOOKUP(tblSalaries[[#This Row],[Currency]],tblXrate[],2,FALSE)","v":150000},"Director","CXO or Top Mgmt.","USA",{"$f":"VLOOKUP(tblSalaries[[#This Row],[Where do you work]],tblCountries[[Actual]:[Mapping]],2,FALSE)","v":"USA"},8,"<=5","N. AMERICA",{"$f":"(G86/365)/L86","v":51.369863013698627}]
[null,"ID0084","2012-05-26T00:05:45",120000,120000,"USD",{"$f":"tblSalaries[[#This Row],[clean Salary (in local currency)]]*VLOOKUP(tblSalaries[[#This Row],[Currency]],tblXrate[],2,FALSE)","v":120000},"Manager, Forecasts & Budgets","Manager","USA",{"$f":"VLOOKUP(tblSalaries[[#This Row],[Where do you work]],tblCountries[[Actual]:[Mapping]],2,FALSE)","v":"USA"},6,">20","N. AMERICA",{"$f":"(G87/365)/L87","v":54.794520547945204}]
[null,"ID0085","2012-05-26T00:10:17",500000,500000,"INR",{"$f":"tblSalaries[[#This Row],[clean Salary (in local currency)]]*VLOOKUP(tblSalaries[[#This Row],[Currency]],tblXrate[],2,FALSE)","v":8903.9583437212841},"Senior Consultant","Consultant","India",{"$f":"VLOOKUP(tblSalaries[[#This Row],[Where do you work]],tblCountries[[Actual]:[Mapping]],2,FALSE)","v":"India"},8,">20","ASIA",{"$f":"(G88/365)/L88","v":3.0493008026442752}]
[null,"ID0086","2012-05-26T00:11:21","US $ 31330.00",31330,"USD",{"$f":"tblSalaries[[#This Row],[clean Salary (in local currency)]]*VLOOKUP(tblSalaries[[#This Row],[Currency]],tblXrate[],2,FALSE)","v":31330},"VBA Analyst","Analyst","Brazil",{"$f":"VLOOKUP(tblSalaries[[#This Row],[Where do you work]],tblCountries[[Actual]:[Mapping]],2,FALSE)","v":"Brazil"},8,">20"," S. AMERICA",{"$f":"(G89/365)/L89","v":10.729452054794521}]
[null,"ID0087","2012-05-26T00:15:17",110000,110000,"USD",{"$f":"tblSalaries[[#This Row],[clean Salary (in local currency)]]*VLOOKUP(tblSalaries[[#This Row],[Currency]],tblXrate[],2,FALSE)","v":110000},"Senior Scheduling Engineer","Engineer","USA",{"$f":"VLOOKUP(tblSalaries[[#This Row],[Where do you work]],tblCountries[[Actual]:[Mapping]],2,FALSE)","v":"USA"},3,"<=5","N. AMERICA",{"$f":"(G90/365)/L90","v":100.45662100456622}]
[null,"ID0088","2012-05-26T00:22:49","81,000USD",81000,"USD",{"$f":"tblSalaries[[#This Row],[clean Salary (in local currency)]]*VLOOKUP(tblSalaries[[#This Row],[Currency]],tblXrate[],2,FALSE)","v":81000},"Strategy Consultant","Consultant","UK",{"$f":"VLOOKUP(tblSalaries[[#This Row],[Where do you work]],tblCountries[[Actual]:[Mapping]],2,FALSE)","v":"UK"},6,">10<=20","EUROPE",{"$f":"(G91/365)/L91","v":36.986301369863014}]
[null,"ID0089","2012-05-26T00:39:04",40000,40000,"USD",{"$f":"tblSalaries[[#This Row],[clean Salary (in local currency)]]*VLOOKUP(tblSalaries[[#This Row],[Currency]],tblXrate[],2,FALSE)","v":40000},"Admin","Analyst","USA",{"$f":"VLOOKUP(tblSalaries[[#This Row],[Where do you work]],tblCountries[[Actual]:[Mapping]],2,FALSE)","v":"USA"},6,">10<=20","N. AMERICA",{"$f":"(G92/365)/L92","v":18.264840182648403}]
[null,"ID0090","2012-05-26T00:39:28",42000,42000,"CAD",{"$f":"tblSalaries[[#This Row],[clean Salary (in local currency)]]*VLOOKUP(tblSalaries[[#This Row],[Currency]],tblXrate[],2,FALSE)","v":41301.183967273726},"IT Asset Administrator","Analyst","Canada",{"$f":"VLOOKUP(tblSalaries[[#This Row],[Where do you work]],tblCountries[[Actual]:[Mapping]],2,FALSE)","v":"Canada"},6,">20","N. AMERICA",{"$f":"(G93/365)/L93","v":18.858988112910378}]
[null,"ID0091","2012-05-26T00:39:36",125000,125000,"USD",{"$f":"tblSalaries[[#This Row],[clean Salary (in local currency)]]*VLOOKUP(tblSalaries[[#This Row],[Currency]],tblXrate[],2,FALSE)","v":125000},"Director of Marketing","CXO or Top Mgmt.","USA",{"$f":"VLOOKUP(tblSalaries[[#This Row],[Where do you work]],tblCountries[[Actual]:[Mapping]],2,FALSE)","v":"USA"},6,">20","N. AMERICA",{"$f":"(G94/365)/L94","v":57.077625570776256}]
[null,"ID0092","2012-05-26T00:39:38",36000,36000,"USD",{"$f":"tblSalaries[[#This Row],[clean Salary (in local currency)]]*VLOOKUP(tblSalaries[[#This Row],[Currency]],tblXrate[],2,FALSE)","v":36000},"Graphic Design Manager","Manager","USA",{"$f":"VLOOKUP(tblSalaries[[#This Row],[Where do you work]],tblCountries[[Actual]:[Mapping]],2,FALSE)","v":"USA"},3,">20","N. AMERICA",{"$f":"(G95/365)/L95","v":32.87671232876712}]
[null,"ID0093","2012-05-26T00:39:54","Rs. 12,000/-",144000,"INR",{"$f":"tblSalaries[[#This Row],[clean Salary (in local currency)]]*VLOOKUP(tblSalaries[[#This Row],[Currency]],tblXrate[],2,FALSE)","v":2564.3400029917298},"Financial Consultant","Consultant","India",{"$f":"VLOOKUP(tblSalaries[[#This Row],[Where do you work]],tblCountries[[Actual]:[Mapping]],2,FALSE)","v":"India"},2,">10<=20","ASIA",{"$f":"(G96/365)/L96","v":3.5127945246462051}]
[null,"ID0094","2012-05-26T00:40:00",75000,75000,"USD",{"$f":"tblSalaries[[#This Row],[clean Salary (in local currency)]]*VLOOKUP(tblSalaries[[#This Row],[Currency]],tblXrate[],2,FALSE)","v":75000},"Data Analyst","Analyst","USA",{"$f":"VLOOKUP(tblSalaries[[#This Row],[Where do you work]],tblCountries[[Actual]:[Mapping]],2,FALSE)","v":"USA"},2,">20","N. AMERICA",{"$f":"(G97/365)/L97","v":102.73972602739725}]
[null,"ID0095","2012-05-26T00:40:20",95000,95000,"USD",{"$f":"tblSalaries[[#This Row],[clean Salary (in local currency)]]*VLOOKUP(tblSalaries[[#This Row],[Currency]],tblXrate[],2,FALSE)","v":95000},"CFO","CXO or Top Mgmt.","USA",{"$f":"VLOOKUP(tblSalaries[[#This Row],[Where do you work]],tblCountries[[Actual]:[Mapping]],2,FALSE)","v":"USA"},6,"<=5","N. AMERICA",{"$f":"(G98/365)/L98","v":43.378995433789953}]
[null,"ID0096","2012-05-26T00:40:27",24000,24000,"USD",{"$f":"tblSalaries[[#This Row],[clean Salary (in local currency)]]*VLOOKUP(tblSalaries[[#This Row],[Currency]],tblXrate[],2,FALSE)","v":24000},"Paraeducator","Manager","USA",{"$f":"VLOOKUP(tblSalaries[[#This Row],[Where do you work]],tblCountries[[Actual]:[Mapping]],2,FALSE)","v":"USA"},3,">10<=20","N. AMERICA",{"$f":"(G99/365)/L99","v":21.917808219178085}]
[null,"ID0097","2012-05-26T00:40:31","91,000 USD",91000,"USD",{"$f":"tblSalaries[[#This Row],[clean Salary (in local currency)]]*VLOOKUP(tblSalaries[[#This Row],[Currency]],tblXrate[],2,FALSE)","v":91000},"Channel Marketing Manager","Manager","USA",{"$f":"VLOOKUP(tblSalaries[[#This Row],[Where do you work]],tblCountries[[Actual]:[Mapping]],2,FALSE)","v":"USA"},2,"<=5","N. AMERICA",{"$f":"(G100/365)/L100","v":124.65753424657534}]
[null,"ID0098","2012-05-26T00:40:39",40000,40000,"USD",{"$f":"tblSalaries[[#This Row],[clean Salary (in local currency)]]*VLOOKUP(tblSalaries[[#This Row],[Currency]],tblXrate[],2,FALSE)","v":40000},"Sales and Marketing Analyst ","Analyst","USA",{"$f":"VLOOKUP(tblSalaries[[#This Row],[Where do you work]],tblCountries[[Actual]:[Mapping]],2,FALSE)","v":"USA"},6,">5<=10","N. AMERICA",{"$f":"(G101/365)/L101","v":18.264840182648403}]
[null,"ID0099","2012-05-26T00:40:40",57000,57000,"USD",{"$f":"tblSalaries[[#This Row],[clean Salary (in local currency)]]*VLOOKUP(tblSalaries[[#This Row],[Currency]],tblXrate[],2,FALSE)","v":57000},"Production Scheduler","Manager","USA",{"$f":"VLOOKUP(tblSalaries[[#This Row],[Where do you work]],tblCountries[[Actual]:[Mapping]],2,FALSE)","v":"USA"},6,">10<=20","N. AMERICA",{"$f":"(G102/365)/L102","v":26.027397260273972}]
[null,"ID0100","2012-05-26T00:40:41",74000,74000,"USD",{"$f":"tblSalaries[[#This Row],[clean Salary (in local currency)]]*VLOOKUP(tblSalaries[[#This Row],[Currency]],tblXrate[],2,FALSE)","v":74000},"Senior Consultant","Consultant","USA",{"$f":"VLOOKUP(tblSalaries[[#This Row],[Where do you work]],tblCountries[[Actual]:[Mapping]],2,FALSE)","v":"USA"},6,">20","N. AMERICA",{"$f":"(G103/365)/L103","v":33.789954337899545}]
[null,"ID0101","2012-05-26T00:40:42","80k",80000,"USD",{"$f":"tblSalaries[[#This Row],[clean Salary (in local currency)]]*VLOOKUP(tblSalaries[[#This Row],[Currency]],tblXrate[],2,FALSE)","v":80000},"financial analyst","Analyst","USA",{"$f":"VLOOKUP(tblSalaries[[#This Row],[Where do you work]],tblCountries[[Actual]:[Mapping]],2,FALSE)","v":"USA"},6,">5<=10","N. AMERICA",{"$f":"(G104/365)/L104","v":36.529680365296805}]
[null,"ID0102","2012-05-26T00:40:46",90000,90000,"USD",{"$f":"tblSalaries[[#This Row],[clean Salary (in local currency)]]*VLOOKUP(tblSalaries[[#This Row],[Currency]],tblXrate[],2,FALSE)","v":90000},"Product Specialist","Specialist","USA",{"$f":"VLOOKUP(tblSalaries[[#This Row],[Where do you work]],tblCountries[[Actual]:[Mapping]],2,FALSE)","v":"USA"},6,">5<=10","N. AMERICA",{"$f":"(G105/365)/L105","v":41.095890410958908}]
[null,"ID0103","2012-05-26T00:40:48",21000,21000,"USD",{"$f":"tblSalaries[[#This Row],[clean Salary (in local currency)]]*VLOOKUP(tblSalaries[[#This Row],[Currency]],tblXrate[],2,FALSE)","v":21000},"IT support","Analyst","uae",{"$f":"VLOOKUP(tblSalaries[[#This Row],[Where do you work]],tblCountries[[Actual]:[Mapping]],2,FALSE)","v":"UAE"},2,">10<=20","ASIA",{"$f":"(G106/365)/L106","v":28.767123287671232}]
[null,"ID0104","2012-05-26T00:40:50",52000,52000,"USD",{"$f":"tblSalaries[[#This Row],[clean Salary (in local currency)]]*VLOOKUP(tblSalaries[[#This Row],[Currency]],tblXrate[],2,FALSE)","v":52000},"sr. project coordinator","Manager","USA",{"$f":"VLOOKUP(tblSalaries[[#This Row],[Where do you work]],tblCountries[[Actual]:[Mapping]],2,FALSE)","v":"USA"},6,">20","N. AMERICA",{"$f":"(G107/365)/L107","v":23.74429223744292}]
[null,"ID0105","2012-05-26T00:40:52",19200,19200,"USD",{"$f":"tblSalaries[[#This Row],[clean Salary (in local currency)]]*VLOOKUP(tblSalaries[[#This Row],[Currency]],tblXrate[],2,FALSE)","v":19200},"Sr Administrative Assistant","Analyst","Mexico",{"$f":"VLOOKUP(tblSalaries[[#This Row],[Where do you work]],tblCountries[[Actual]:[Mapping]],2,FALSE)","v":"Mexico"},6,">20","N. AMERICA",{"$f":"(G108/365)/L108","v":8.7671232876712324}]
[null,"ID0106","2012-05-26T00:40:57",36000,36000,"USD",{"$f":"tblSalaries[[#This Row],[clean Salary (in local currency)]]*VLOOKUP(tblSalaries[[#This Row],[Currency]],tblXrate[],2,FALSE)","v":36000},"Analyst","Analyst","USA",{"$f":"VLOOKUP(tblSalaries[[#This Row],[Where do you work]],tblCountries[[Actual]:[Mapping]],2,FALSE)","v":"USA"},6,">5<=10","N. AMERICA",{"$f":"(G109/365)/L109","v":16.43835616438356}]
[null,"ID0107","2012-05-26T00:41:02",57400,57400,"USD",{"$f":"tblSalaries[[#This Row],[clean Salary (in local currency)]]*VLOOKUP(tblSalaries[[#This Row],[Currency]],tblXrate[],2,FALSE)","v":57400},"IT Analyst","Analyst","USA",{"$f":"VLOOKUP(tblSalaries[[#This Row],[Where do you work]],tblCountries[[Actual]:[Mapping]],2,FALSE)","v":"USA"},6,">20","N. AMERICA",{"$f":"(G110/365)/L110","v":26.210045662100455}]
[null,"ID0108","2012-05-26T00:41:03",66000,66000,"USD",{"$f":"tblSalaries[[#This Row],[clean Salary (in local currency)]]*VLOOKUP(tblSalaries[[#This Row],[Currency]],tblXrate[],2,FALSE)","v":66000},"Analyst","Analyst","USA",{"$f":"VLOOKUP(tblSalaries[[#This Row],[Where do you work]],tblCountries[[Actual]:[Mapping]],2,FALSE)","v":"USA"},3,">5<=10","N. AMERICA",{"$f":"(G111/365)/L111","v":60.273972602739725}]
[null,"ID0109","2012-05-26T00:41:06",35000,35000,"EUR",{"$f":"tblSalaries[[#This Row],[clean Salary (in local currency)]]*VLOOKUP(tblSalaries[[#This Row],[Currency]],tblXrate[],2,FALSE)","v":44463.980364706273},"Project manager","Manager","Greece",{"$f":"VLOOKUP(tblSalaries[[#This Row],[Where do you work]],tblCountries[[Actual]:[Mapping]],2,FALSE)","v":"Greece"},6,">20","EUROPE",{"$f":"(G112/365)/L112","v":20.303187381144415}]
[null,"ID0111","2012-05-26T00:41:16","$85,000+",85000,"USD",{"$f":"tblSalaries[[#This Row],[clean Salary (in local currency)]]*VLOOKUP(tblSalaries[[#This Row],[Currency]],tblXrate[],2,FALSE)","v":85000},"Strategic Analyst","Analyst","USA",{"$f":"VLOOKUP(tblSalaries[[#This Row],[Where do you work]],tblCountries[[Actual]:[Mapping]],2,FALSE)","v":"USA"},6,"<=5","N. AMERICA",{"$f":"(G113/365)/L113","v":38.812785388127857}]
[null,"ID0112","2012-05-26T00:41:22",50000,50000,"USD",{"$f":"tblSalaries[[#This Row],[clean Salary (in local currency)]]*VLOOKUP(tblSalaries[[#This Row],[Currency]],tblXrate[],2,FALSE)","v":50000},"Transportation Specialist","Specialist","USA",{"$f":"VLOOKUP(tblSalaries[[#This Row],[Where do you work]],tblCountries[[Actual]:[Mapping]],2,FALSE)","v":"USA"},6,">20","N. AMERICA",{"$f":"(G114/365)/L114","v":22.831050228310502}]
[null,"ID0113","2012-05-26T00:41:27","$58,000 USD",58000,"USD",{"$f":"tblSalaries[[#This Row],[clean Salary (in local currency)]]*VLOOKUP(tblSalaries[[#This Row],[Currency]],tblXrate[],2,FALSE)","v":58000},"Operations Programs Support","Manager","USA",{"$f":"VLOOKUP(tblSalaries[[#This Row],[Where do you work]],tblCountries[[Actual]:[Mapping]],2,FALSE)","v":"USA"},6,">20","N. AMERICA",{"$f":"(G115/365)/L115","v":26.484018264840184}]
[null,"ID0114","2012-05-26T00:41:28",37900,37900,"USD",{"$f":"tblSalaries[[#This Row],[clean Salary (in local currency)]]*VLOOKUP(tblSalaries[[#This Row],[Currency]],tblXrate[],2,FALSE)","v":37900},"Accounting Coordinator","Accountant","USA",{"$f":"VLOOKUP(tblSalaries[[#This Row],[Where do you work]],tblCountries[[Actual]:[Mapping]],2,FALSE)","v":"USA"},8,">20","N. AMERICA",{"$f":"(G116/365)/L116","v":12.979452054794521}]
[null,"ID0115","2012-05-26T00:41:30",4000,48000,"USD",{"$f":"tblSalaries[[#This Row],[clean Salary (in local currency)]]*VLOOKUP(tblSalaries[[#This Row],[Currency]],tblXrate[],2,FALSE)","v":48000},"Asst.Manager Finance","Manager","UAE",{"$f":"VLOOKUP(tblSalaries[[#This Row],[Where do you work]],tblCountries[[Actual]:[Mapping]],2,FALSE)","v":"UAE"},3,">20","ASIA",{"$f":"(G117/365)/L117","v":43.835616438356169}]
[null,"ID0116","2012-05-26T00:41:32",67000,67000,"USD",{"$f":"tblSalaries[[#This Row],[clean Salary (in local currency)]]*VLOOKUP(tblSalaries[[#This Row],[Currency]],tblXrate[],2,FALSE)","v":67000},"Operations Cost Analyst","Analyst","USA",{"$f":"VLOOKUP(tblSalaries[[#This Row],[Where do you work]],tblCountries[[Actual]:[Mapping]],2,FALSE)","v":"USA"},6,">20","N. AMERICA",{"$f":"(G118/365)/L118","v":30.593607305936075}]
[null,"ID0117","2012-05-26T00:41:35",85000,85000,"USD",{"$f":"tblSalaries[[#This Row],[clean Salary (in local currency)]]*VLOOKUP(tblSalaries[[#This Row],[Currency]],tblXrate[],2,FALSE)","v":85000},"Financial Controller","Controller","UAE",{"$f":"VLOOKUP(tblSalaries[[#This Row],[Where do you work]],tblCountries[[Actual]:[Mapping]],2,FALSE)","v":"UAE"},6,">5<=10","ASIA",{"$f":"(G119/365)/L119","v":38.812785388127857}]
[null,"ID0118","2012-05-26T00:41:35",56160,56160,"USD",{"$f":"tblSalaries[[#This Row],[clean Salary (in local currency)]]*VLOOKUP(tblSalaries[[#This Row],[Currency]],tblXrate[],2,FALSE)","v":56160},"Utilization Analyst","Analyst","USA",{"$f":"VLOOKUP(tblSalaries[[#This Row],[Where do you work]],tblCountries[[Actual]:[Mapping]],2,FALSE)","v":"USA"},6,">20","N. AMERICA",{"$f":"(G120/365)/L120","v":25.643835616438356}]
[null,"ID0119","2012-05-26T00:41:38",2000,24000,"USD",{"$f":"tblSalaries[[#This Row],[clean Salary (in local currency)]]*VLOOKUP(tblSalaries[[#This Row],[Currency]],tblXrate[],2,FALSE)","v":24000},"Researcher","Manager","Colombia",{"$f":"VLOOKUP(tblSalaries[[#This Row],[Where do you work]],tblCountries[[Actual]:[Mapping]],2,FALSE)","v":"Colombia"},8,"<=5"," S. AMERICA",{"$f":"(G121/365)/L121","v":8.2191780821917817}]
[null,"ID0120","2012-05-26T00:41:38",52000,52000,"USD",{"$f":"tblSalaries[[#This Row],[clean Salary (in local currency)]]*VLOOKUP(tblSalaries[[#This Row],[Currency]],tblXrate[],2,FALSE)","v":52000},"Market Analyst","Analyst","USA",{"$f":"VLOOKUP(tblSalaries[[#This Row],[Where do you work]],tblCountries[[Actual]:[Mapping]],2,FALSE)","v":"USA"},8,">20","N. AMERICA",{"$f":"(G122/365)/L122","v":17.80821917808219}]
[null,"ID0121","2012-05-26T00:41:41",60000,60000,"CAD",{"$f":"tblSalaries[[#This Row],[clean Salary (in local currency)]]*VLOOKUP(tblSalaries[[#This Row],[Currency]],tblXrate[],2,FALSE)","v":59001.691381819612},"Web Developer","Analyst","Canada",{"$f":"VLOOKUP(tblSalaries[[#This Row],[Where do you work]],tblCountries[[Actual]:[Mapping]],2,FALSE)","v":"Canada"},8,">5<=10","N. AMERICA",{"$f":"(G123/365)/L123","v":20.206058692403978}]
[null,"ID0122","2012-05-26T00:41:43",70000,70000,"USD",{"$f":"tblSalaries[[#This Row],[clean Salary (in local currency)]]*VLOOKUP(tblSalaries[[#This Row],[Currency]],tblXrate[],2,FALSE)","v":70000},"Sr. Acct","Accountant","USA",{"$f":"VLOOKUP(tblSalaries[[#This Row],[Where do you work]],tblCountries[[Actual]:[Mapping]],2,FALSE)","v":"USA"},8,">10<=20","N. AMERICA",{"$f":"(G124/365)/L124","v":23.972602739726028}]
[null,"ID0123","2012-05-26T00:41:56",50000,50000,"USD",{"$f":"tblSalaries[[#This Row],[clean Salary (in local currency)]]*VLOOKUP(tblSalaries[[#This Row],[Currency]],tblXrate[],2,FALSE)","v":50000},"Information Systems Specialist","Specialist","USA",{"$f":"VLOOKUP(tblSalaries[[#This Row],[Where do you work]],tblCountries[[Actual]:[Mapping]],2,FALSE)","v":"USA"},6,"<=5","N. AMERICA",{"$f":"(G125/365)/L125","v":22.831050228310502}]
[null,"ID0124","2012-05-26T00:41:58",2300000,2300000,"INR",{"$f":"tblSalaries[[#This Row],[clean Salary (in local currency)]]*VLOOKUP(tblSalaries[[#This Row],[Currency]],tblXrate[],2,FALSE)","v":40958.208381117904},"Analytics lead","Analyst","India",{"$f":"VLOOKUP(tblSalaries[[#This Row],[Where do you work]],tblCountries[[Actual]:[Mapping]],2,FALSE)","v":"India"},2,"<=5","ASIA",{"$f":"(G126/365)/L126","v":56.10713476865466}]
[null,"ID0125","2012-05-26T00:42:00",80000,80000,"USD",{"$f":"tblSalaries[[#This Row],[clean Salary (in local currency)]]*VLOOKUP(tblSalaries[[#This Row],[Currency]],tblXrate[],2,FALSE)","v":80000},"Financial Analyst","Analyst","USA",{"$f":"VLOOKUP(tblSalaries[[#This Row],[Where do you work]],tblCountries[[Actual]:[Mapping]],2,FALSE)","v":"USA"},6,">20","N. AMERICA",{"$f":"(G127/365)/L127","v":36.529680365296805}]
[null,"ID0126","2012-05-26T00:42:08",128000,128000,"USD",{"$f":"tblSalaries[[#This Row],[clean Salary (in local currency)]]*VLOOKUP(tblSalaries[[#This Row],[Currency]],tblXrate[],2,FALSE)","v":128000},"Actuary","Manager","USA",{"$f":"VLOOKUP(tblSalaries[[#This Row],[Where do you work]],tblCountries[[Actual]:[Mapping]],2,FALSE)","v":"USA"},8,">20","N. AMERICA",{"$f":"(G128/365)/L128","v":43.835616438356162}]
[null,"ID0127","2012-05-26T00:42:10","US $44,000",44000,"USD",{"$f":"tblSalaries[[#This Row],[clean Salary (in local currency)]]*VLOOKUP(tblSalaries[[#This Row],[Currency]],tblXrate[],2,FALSE)","v":44000},"School Tech Coordinator","Manager","USA",{"$f":"VLOOKUP(tblSalaries[[#This Row],[Where do you work]],tblCountries[[Actual]:[Mapping]],2,FALSE)","v":"USA"},2,">10<=20","N. AMERICA",{"$f":"(G129/365)/L129","v":60.273972602739725}]
[null,"ID0128","2012-05-26T00:42:11",65000,65000,"USD",{"$f":"tblSalaries[[#This Row],[clean Salary (in local currency)]]*VLOOKUP(tblSalaries[[#This Row],[Currency]],tblXrate[],2,FALSE)","v":65000},"sr accountant","Accountant","USA",{"$f":"VLOOKUP(tblSalaries[[#This Row],[Where do you work]],tblCountries[[Actual]:[Mapping]],2,FALSE)","v":"USA"},8,">5<=10","N. AMERICA",{"$f":"(G130/365)/L130","v":22.260273972602739}]
[null,"ID0129","2012-05-26T00:42:32","36000 usd",36000,"USD",{"$f":"tblSalaries[[#This Row],[clean Salary (in local currency)]]*VLOOKUP(tblSalaries[[#This Row],[Currency]],tblXrate[],2,FALSE)","v":36000},"senior accountant","Accountant","Turkey",{"$f":"VLOOKUP(tblSalaries[[#This Row],[Where do you work]],tblCountries[[Actual]:[Mapping]],2,FALSE)","v":"Turkey"},6,">20","ASIA",{"$f":"(G131/365)/L131","v":16.43835616438356}]
[null,"ID0130","2012-05-26T00:42:34",1000,12000,"USD",{"$f":"tblSalaries[[#This Row],[clean Salary (in local currency)]]*VLOOKUP(tblSalaries[[#This Row],[Currency]],tblXrate[],2,FALSE)","v":12000},"Freelance","Consultant","Pakistan",{"$f":"VLOOKUP(tblSalaries[[#This Row],[Where do you work]],tblCountries[[Actual]:[Mapping]],2,FALSE)","v":"Pakistan"},2,">5<=10","ASIA",{"$f":"(G132/365)/L132","v":16.438356164383563}]
[null,"ID0131","2012-05-26T00:42:41",28159.200000000001,28159,"GBP",{"$f":"tblSalaries[[#This Row],[clean Salary (in local currency)]]*VLOOKUP(tblSalaries[[#This Row],[Currency]],tblXrate[],2,FALSE)","v":44383.603963142654},"Data Analyst","Analyst","UK",{"$f":"VLOOKUP(tblSalaries[[#This Row],[Where do you work]],tblCountries[[Actual]:[Mapping]],2,FALSE)","v":"UK"},8,">20","EUROPE",{"$f":"(G133/365)/L133","v":15.199864370939265}]
[null,"ID0132","2012-05-26T00:42:46",45000,45000,"USD",{"$f":"tblSalaries[[#This Row],[clean Salary (in local currency)]]*VLOOKUP(tblSalaries[[#This Row],[Currency]],tblXrate[],2,FALSE)","v":45000},"DBA","Analyst","USA",{"$f":"VLOOKUP(tblSalaries[[#This Row],[Where do you work]],tblCountries[[Actual]:[Mapping]],2,FALSE)","v":"USA"},6,">20","N. AMERICA",{"$f":"(G134/365)/L134","v":20.547945205479454}]
[null,"ID0133","2012-05-26T00:42:58",54000,54000,"USD",{"$f":"tblSalaries[[#This Row],[clean Salary (in local currency)]]*VLOOKUP(tblSalaries[[#This Row],[Currency]],tblXrate[],2,FALSE)","v":54000},"Research Analyst","Analyst","USA",{"$f":"VLOOKUP(tblSalaries[[#This Row],[Where do you work]],tblCountries[[Actual]:[Mapping]],2,FALSE)","v":"USA"},3,">10<=20","N. AMERICA",{"$f":"(G135/365)/L135","v":49.315068493150683}]
[null,"ID0134","2012-05-26T00:43:03",70000,70000,"GBP",{"$f":"tblSalaries[[#This Row],[clean Salary (in local currency)]]*VLOOKUP(tblSalaries[[#This Row],[Currency]],tblXrate[],2,FALSE)","v":110332.47904470989},"Project Manager","Manager","UK",{"$f":"VLOOKUP(tblSalaries[[#This Row],[Where do you work]],tblCountries[[Actual]:[Mapping]],2,FALSE)","v":"UK"},3,">20","EUROPE",{"$f":"(G136/365)/L136","v":100.76025483535149}]
[null,"ID0135","2012-05-26T00:43:07",71000,71000,"USD",{"$f":"tblSalaries[[#This Row],[clean Salary (in local currency)]]*VLOOKUP(tblSalaries[[#This Row],[Currency]],tblXrate[],2,FALSE)","v":71000},"Market Research Analyst","Analyst","USA",{"$f":"VLOOKUP(tblSalaries[[#This Row],[Where do you work]],tblCountries[[Actual]:[Mapping]],2,FALSE)","v":"USA"},6,">20","N. AMERICA",{"$f":"(G137/365)/L137","v":32.420091324200918}]
[null,"ID0136","2012-05-26T00:43:08",800000,800000,"INR",{"$f":"tblSalaries[[#This Row],[clean Salary (in local currency)]]*VLOOKUP(tblSalaries[[#This Row],[Currency]],tblXrate[],2,FALSE)","v":14246.333349954055},"Manager : Accounts","Manager","India",{"$f":"VLOOKUP(tblSalaries[[#This Row],[Where do you work]],tblCountries[[Actual]:[Mapping]],2,FALSE)","v":"India"},3,">20","ASIA",{"$f":"(G138/365)/L138","v":13.010350091282241}]
[null,"ID0137","2012-05-26T00:43:17",70000,70000,"CAD",{"$f":"tblSalaries[[#This Row],[clean Salary (in local currency)]]*VLOOKUP(tblSalaries[[#This Row],[Currency]],tblXrate[],2,FALSE)","v":68835.306612122877},"project manager","Manager","canada",{"$f":"VLOOKUP(tblSalaries[[#This Row],[Where do you work]],tblCountries[[Actual]:[Mapping]],2,FALSE)","v":"Canada"},6,">20","N. AMERICA",{"$f":"(G139/365)/L139","v":31.431646854850626}]
[null,"ID0138","2012-05-26T00:43:25",50000,50000,"CAD",{"$f":"tblSalaries[[#This Row],[clean Salary (in local currency)]]*VLOOKUP(tblSalaries[[#This Row],[Currency]],tblXrate[],2,FALSE)","v":49168.076151516347},"Inventory manger","Manager","Canada",{"$f":"VLOOKUP(tblSalaries[[#This Row],[Where do you work]],tblCountries[[Actual]:[Mapping]],2,FALSE)","v":"Canada"},6,">20","N. AMERICA",{"$f":"(G140/365)/L140","v":22.451176324893311}]
[null,"ID0139","2012-05-26T00:43:27",40000,40000,"USD",{"$f":"tblSalaries[[#This Row],[clean Salary (in local currency)]]*VLOOKUP(tblSalaries[[#This Row],[Currency]],tblXrate[],2,FALSE)","v":40000},"Business Analyst","Analyst","USA",{"$f":"VLOOKUP(tblSalaries[[#This Row],[Where do you work]],tblCountries[[Actual]:[Mapping]],2,FALSE)","v":"USA"},6,">5<=10","N. AMERICA",{"$f":"(G141/365)/L141","v":18.264840182648403}]
[null,"ID0140","2012-05-26T00:43:34","$62,000 CND",62000,"CAD",{"$f":"tblSalaries[[#This Row],[clean Salary (in local currency)]]*VLOOKUP(tblSalaries[[#This Row],[Currency]],tblXrate[],2,FALSE)","v":60968.414427880263},"Process Technician","Analyst","Canada",{"$f":"VLOOKUP(tblSalaries[[#This Row],[Where do you work]],tblCountries[[Actual]:[Mapping]],2,FALSE)","v":"Canada"},3,">20","N. AMERICA",{"$f":"(G142/365)/L142","v":55.678917285735402}]
[null,"ID0141","2012-05-26T00:43:36","28000rs",336000,"INR",{"$f":"tblSalaries[[#This Row],[clean Salary (in local currency)]]*VLOOKUP(tblSalaries[[#This Row],[Currency]],tblXrate[],2,FALSE)","v":5983.4600069807029},"MIS Team Leader","Reporting","India",{"$f":"VLOOKUP(tblSalaries[[#This Row],[Where do you work]],tblCountries[[Actual]:[Mapping]],2,FALSE)","v":"India"},6,">20","ASIA",{"$f":"(G143/365)/L143","v":2.7321735191692706}]
[null,"ID0142","2012-05-26T00:43:36",53000,53000,"USD",{"$f":"tblSalaries[[#This Row],[clean Salary (in local currency)]]*VLOOKUP(tblSalaries[[#This Row],[Currency]],tblXrate[],2,FALSE)","v":53000},"Data Analyst","Analyst","USA",{"$f":"VLOOKUP(tblSalaries[[#This Row],[Where do you work]],tblCountries[[Actual]:[Mapping]],2,FALSE)","v":"USA"},6,">10<=20","N. AMERICA",{"$f":"(G144/365)/L144","v":24.200913242009133}]
[null,"ID0143","2012-05-26T00:43:49",104000,104000,"USD",{"$f":"tblSalaries[[#This Row],[clean Salary (in local currency)]]*VLOOKUP(tblSalaries[[#This Row],[Currency]],tblXrate[],2,FALSE)","v":104000},"Finance Director","CXO or Top Mgmt.","USA",{"$f":"VLOOKUP(tblSalaries[[#This Row],[Where do you work]],tblCountries[[Actual]:[Mapping]],2,FALSE)","v":"USA"},3,">20","N. AMERICA",{"$f":"(G145/365)/L145","v":94.977168949771681}]
[null,"ID0144","2012-05-26T00:44:02",57000,57000,"USD",{"$f":"tblSalaries[[#This Row],[clean Salary (in local currency)]]*VLOOKUP(tblSalaries[[#This Row],[Currency]],tblXrate[],2,FALSE)","v":57000},"Industrial Engineer","Engineer","USA",{"$f":"VLOOKUP(tblSalaries[[#This Row],[Where do you work]],tblCountries[[Actual]:[Mapping]],2,FALSE)","v":"USA"},6,">20","N. AMERICA",{"$f":"(G146/365)/L146","v":26.027397260273972}]
[null,"ID0145","2012-05-26T00:44:09",45000,45000,"USD",{"$f":"tblSalaries[[#This Row],[clean Salary (in local currency)]]*VLOOKUP(tblSalaries[[#This Row],[Currency]],tblXrate[],2,FALSE)","v":45000},"data analyst","Analyst","USA",{"$f":"VLOOKUP(tblSalaries[[#This Row],[Where do you work]],tblCountries[[Actual]:[Mapping]],2,FALSE)","v":"USA"},3,">20","N. AMERICA",{"$f":"(G147/365)/L147","v":41.095890410958908}]
[null,"ID0146","2012-05-26T00:44:15",92000,92000,"USD",{"$f":"tblSalaries[[#This Row],[clean Salary (in local currency)]]*VLOOKUP(tblSalaries[[#This Row],[Currency]],tblXrate[],2,FALSE)","v":92000},"Senior Financial & Systems Analyst","Analyst","USA",{"$f":"VLOOKUP(tblSalaries[[#This Row],[Where do you work]],tblCountries[[Actual]:[Mapping]],2,FALSE)","v":"USA"},6,">5<=10","N. AMERICA",{"$f":"(G148/365)/L148","v":42.009132420091326}]
[null,"ID0147","2012-05-26T00:44:18",88000,88000,"USD",{"$f":"tblSalaries[[#This Row],[clean Salary (in local currency)]]*VLOOKUP(tblSalaries[[#This Row],[Currency]],tblXrate[],2,FALSE)","v":88000},"project manager - metrics","Manager","USA",{"$f":"VLOOKUP(tblSalaries[[#This Row],[Where do you work]],tblCountries[[Actual]:[Mapping]],2,FALSE)","v":"USA"},6,">10<=20","N. AMERICA",{"$f":"(G149/365)/L149","v":40.182648401826484}]
[null,"ID0148","2012-05-26T00:44:20",80000,80000,"USD",{"$f":"tblSalaries[[#This Row],[clean Salary (in local currency)]]*VLOOKUP(tblSalaries[[#This Row],[Currency]],tblXrate[],2,FALSE)","v":80000},"Informatics Research Analyst","Analyst","USA",{"$f":"VLOOKUP(tblSalaries[[#This Row],[Where do you work]],tblCountries[[Actual]:[Mapping]],2,FALSE)","v":"USA"},3,">5<=10","N. AMERICA",{"$f":"(G150/365)/L150","v":73.05936073059361}]
[null,"ID0149","2012-05-26T00:44:22",69000,69000,"USD",{"$f":"tblSalaries[[#This Row],[clean Salary (in local currency)]]*VLOOKUP(tblSalaries[[#This Row],[Currency]],tblXrate[],2,FALSE)","v":69000},"Business Technical Consultant","Consultant","USA",{"$f":"VLOOKUP(tblSalaries[[#This Row],[Where do you work]],tblCountries[[Actual]:[Mapping]],2,FALSE)","v":"USA"},6,">20","N. AMERICA",{"$f":"(G151/365)/L151","v":31.506849315068493}]
[null,"ID0150","2012-05-26T00:44:23",50000,50000,"USD",{"$f":"tblSalaries[[#This Row],[clean Salary (in local currency)]]*VLOOKUP(tblSalaries[[#This Row],[Currency]],tblXrate[],2,FALSE)","v":50000},"Business Operations Reporting Analyst","Analyst","Mexico",{"$f":"VLOOKUP(tblSalaries[[#This Row],[Where do you work]],tblCountries[[Actual]:[Mapping]],2,FALSE)","v":"Mexico"},8,">20","N. AMERICA",{"$f":"(G152/365)/L152","v":17.123287671232877}]
[null,"ID0151","2012-05-26T00:44:40",35000,35000,"USD",{"$f":"tblSalaries[[#This Row],[clean Salary (in local currency)]]*VLOOKUP(tblSalaries[[#This Row],[Currency]],tblXrate[],2,FALSE)","v":35000},"Program Services Coordinator","Manager","USA",{"$f":"VLOOKUP(tblSalaries[[#This Row],[Where do you work]],tblCountries[[Actual]:[Mapping]],2,FALSE)","v":"USA"},3,">20","N. AMERICA",{"$f":"(G153/365)/L153","v":31.963470319634705}]
[null,"ID0152","2012-05-26T00:44:59",96000,96000,"USD",{"$f":"tblSalaries[[#This Row],[clean Salary (in local currency)]]*VLOOKUP(tblSalaries[[#This Row],[Currency]],tblXrate[],2,FALSE)","v":96000},"Specialist - Finance Planning and Analysis","Analyst","USA",{"$f":"VLOOKUP(tblSalaries[[#This Row],[Where do you work]],tblCountries[[Actual]:[Mapping]],2,FALSE)","v":"USA"},6,">20","N. AMERICA",{"$f":"(G154/365)/L154","v":43.835616438356169}]
[null,"ID0153","2012-05-26T00:45:00",65000,65000,"USD",{"$f":"tblSalaries[[#This Row],[clean Salary (in local currency)]]*VLOOKUP(tblSalaries[[#This Row],[Currency]],tblXrate[],2,FALSE)","v":65000},"Sr Accountant","Accountant","USA",{"$f":"VLOOKUP(tblSalaries[[#This Row],[Where do you work]],tblCountries[[Actual]:[Mapping]],2,FALSE)","v":"USA"},8,">20","N. AMERICA",{"$f":"(G155/365)/L155","v":22.260273972602739}]
[null,"ID0154","2012-05-26T00:45:06",37440,37440,"USD",{"$f":"tblSalaries[[#This Row],[clean Salary (in local currency)]]*VLOOKUP(tblSalaries[[#This Row],[Currency]],tblXrate[],2,FALSE)","v":37440},"sales analyst","Analyst","USA",{"$f":"VLOOKUP(tblSalaries[[#This Row],[Where do you work]],tblCountries[[Actual]:[Mapping]],2,FALSE)","v":"USA"},8,">10<=20","N. AMERICA",{"$f":"(G156/365)/L156","v":12.821917808219178}]
[null,"ID0155","2012-05-26T00:45:11",15500,15500,"USD",{"$f":"tblSalaries[[#This Row],[clean Salary (in local currency)]]*VLOOKUP(tblSalaries[[#This Row],[Currency]],tblXrate[],2,FALSE)","v":15500},"Proces auditor","Accountant","Mexico",{"$f":"VLOOKUP(tblSalaries[[#This Row],[Where do you work]],tblCountries[[Actual]:[Mapping]],2,FALSE)","v":"Mexico"},8,">20","N. AMERICA",{"$f":"(G157/365)/L157","v":5.3082191780821919}]
[null,"ID0156","2012-05-26T00:45:17","90000 USD",90000,"USD",{"$f":"tblSalaries[[#This Row],[clean Salary (in local currency)]]*VLOOKUP(tblSalaries[[#This Row],[Currency]],tblXrate[],2,FALSE)","v":90000},"Senior Data Quality Analyst","Analyst","USA",{"$f":"VLOOKUP(tblSalaries[[#This Row],[Where do you work]],tblCountries[[Actual]:[Mapping]],2,FALSE)","v":"USA"},3,">20","N. AMERICA",{"$f":"(G158/365)/L158","v":82.191780821917817}]
[null,"ID0157","2012-05-26T00:45:46",66500,66500,"USD",{"$f":"tblSalaries[[#This Row],[clean Salary (in local currency)]]*VLOOKUP(tblSalaries[[#This Row],[Currency]],tblXrate[],2,FALSE)","v":66500},"Sr Business Analyst","Analyst","USA",{"$f":"VLOOKUP(tblSalaries[[#This Row],[Where do you work]],tblCountries[[Actual]:[Mapping]],2,FALSE)","v":"USA"},8,">10<=20","N. AMERICA",{"$f":"(G159/365)/L159","v":22.773972602739725}]
[null,"ID0158","2012-05-26T00:45:49",100000,100000,"USD",{"$f":"tblSalaries[[#This Row],[clean Salary (in local currency)]]*VLOOKUP(tblSalaries[[#This Row],[Currency]],tblXrate[],2,FALSE)","v":100000},"COST ACCOUNTANT","Accountant","USA",{"$f":"VLOOKUP(tblSalaries[[#This Row],[Where do you work]],tblCountries[[Actual]:[Mapping]],2,FALSE)","v":"USA"},8,">20","N. AMERICA",{"$f":"(G160/365)/L160","v":34.246575342465754}]
[null,"ID0159","2012-05-26T00:45:51","Â£32250",32250,"GBP",{"$f":"tblSalaries[[#This Row],[clean Salary (in local currency)]]*VLOOKUP(tblSalaries[[#This Row],[Currency]],tblXrate[],2,FALSE)","v":50831.74927416991},"project Support","Manager","UK",{"$f":"VLOOKUP(tblSalaries[[#This Row],[Where do you work]],tblCountries[[Actual]:[Mapping]],2,FALSE)","v":"UK"},6,">20","EUROPE",{"$f":"(G161/365)/L161","v":23.210844417429183}]
[null,"ID0160","2012-05-26T00:45:53",420000,420000,"INR",{"$f":"tblSalaries[[#This Row],[clean Salary (in local currency)]]*VLOOKUP(tblSalaries[[#This Row],[Currency]],tblXrate[],2,FALSE)","v":7479.3250087258784},"managerial","Manager","India",{"$f":"VLOOKUP(tblSalaries[[#This Row],[Where do you work]],tblCountries[[Actual]:[Mapping]],2,FALSE)","v":"India"},2,">10<=20","ASIA",{"$f":"(G162/365)/L162","v":10.245650696884764}]
[null,"ID0161","2012-05-26T00:46:00",75000,75000,"USD",{"$f":"tblSalaries[[#This Row],[clean Salary (in local currency)]]*VLOOKUP(tblSalaries[[#This Row],[Currency]],tblXrate[],2,FALSE)","v":75000},"Program Analyst","Analyst","USA",{"$f":"VLOOKUP(tblSalaries[[#This Row],[Where do you work]],tblCountries[[Actual]:[Mapping]],2,FALSE)","v":"USA"},2,">20","N. AMERICA",{"$f":"(G163/365)/L163","v":102.73972602739725}]
[null,"ID0162","2012-05-26T00:46:25",58,58000,"USD",{"$f":"tblSalaries[[#This Row],[clean Salary (in local currency)]]*VLOOKUP(tblSalaries[[#This Row],[Currency]],tblXrate[],2,FALSE)","v":58000},"Team Lead - Computer Discounts","Manager","Canada",{"$f":"VLOOKUP(tblSalaries[[#This Row],[Where do you work]],tblCountries[[Actual]:[Mapping]],2,FALSE)","v":"Canada"},2,">20","N. AMERICA",{"$f":"(G164/365)/L164","v":79.452054794520549}]
[null,"ID0163","2012-05-26T00:46:29",55000,55000,"USD",{"$f":"tblSalaries[[#This Row],[clean Salary (in local currency)]]*VLOOKUP(tblSalaries[[#This Row],[Currency]],tblXrate[],2,FALSE)","v":55000},"Change Architect","Manager","USA",{"$f":"VLOOKUP(tblSalaries[[#This Row],[Where do you work]],tblCountries[[Actual]:[Mapping]],2,FALSE)","v":"USA"},3,">5<=10","N. AMERICA",{"$f":"(G165/365)/L165","v":50.228310502283108}]
[null,"ID0164","2012-05-26T00:47:42",60000,60000,"USD",{"$f":"tblSalaries[[#This Row],[clean Salary (in local currency)]]*VLOOKUP(tblSalaries[[#This Row],[Currency]],tblXrate[],2,FALSE)","v":60000},"Telecom Technician","Analyst","USA",{"$f":"VLOOKUP(tblSalaries[[#This Row],[Where do you work]],tblCountries[[Actual]:[Mapping]],2,FALSE)","v":"USA"},6,">5<=10","N. AMERICA",{"$f":"(G166/365)/L166","v":27.397260273972602}]
[null,"ID0165","2012-05-26T00:47:45","Rs. 1300000",1300000,"INR",{"$f":"tblSalaries[[#This Row],[clean Salary (in local currency)]]*VLOOKUP(tblSalaries[[#This Row],[Currency]],tblXrate[],2,FALSE)","v":23150.291693675339},"Manager","Manager","India",{"$f":"VLOOKUP(tblSalaries[[#This Row],[Where do you work]],tblCountries[[Actual]:[Mapping]],2,FALSE)","v":"India"},6,">5<=10","ASIA",{"$f":"(G167/365)/L167","v":10.570909449166821}]
[null,"ID0166","2012-05-26T00:47:50",107000,107000,"CAD",{"$f":"tblSalaries[[#This Row],[clean Salary (in local currency)]]*VLOOKUP(tblSalaries[[#This Row],[Currency]],tblXrate[],2,FALSE)","v":105219.68296424497},"Manager, Asset Optimization","Manager","Canada",{"$f":"VLOOKUP(tblSalaries[[#This Row],[Where do you work]],tblCountries[[Actual]:[Mapping]],2,FALSE)","v":"Canada"},3,"<=5","N. AMERICA",{"$f":"(G168/365)/L168","v":96.091034670543351}]
[null,"ID0167","2012-05-26T00:47:57",145000,145000,"USD",{"$f":"tblSalaries[[#This Row],[clean Salary (in local currency)]]*VLOOKUP(tblSalaries[[#This Row],[Currency]],tblXrate[],2,FALSE)","v":145000},"Financialcontroller","Controller","Switzerland",{"$f":"VLOOKUP(tblSalaries[[#This Row],[Where do you work]],tblCountries[[Actual]:[Mapping]],2,FALSE)","v":"Switzerland"},8,">10<=20","EUROPE",{"$f":"(G169/365)/L169","v":49.657534246575345}]
[null,"ID0168","2012-05-26T00:48:04",22880,22880,"USD",{"$f":"tblSalaries[[#This Row],[clean Salary (in local currency)]]*VLOOKUP(tblSalaries[[#This Row],[Currency]],tblXrate[],2,FALSE)","v":22880},"Accounting ","Accountant","USA",{"$f":"VLOOKUP(tblSalaries[[#This Row],[Where do you work]],tblCountries[[Actual]:[Mapping]],2,FALSE)","v":"USA"},6,">10<=20","N. AMERICA",{"$f":"(G170/365)/L170","v":10.447488584474886}]
[null,"ID0169","2012-05-26T00:48:07",80000,80000,"USD",{"$f":"tblSalaries[[#This Row],[clean Salary (in local currency)]]*VLOOKUP(tblSalaries[[#This Row],[Currency]],tblXrate[],2,FALSE)","v":80000},"Consultant, HR Services & Governance","Consultant","USA",{"$f":"VLOOKUP(tblSalaries[[#This Row],[Where do you work]],tblCountries[[Actual]:[Mapping]],2,FALSE)","v":"USA"},6,">10<=20","N. AMERICA",{"$f":"(G171/365)/L171","v":36.529680365296805}]
[null,"ID0170","2012-05-26T00:48:11","Rs 5 lakh",500000,"INR",{"$f":"tblSalaries[[#This Row],[clean Salary (in local currency)]]*VLOOKUP(tblSalaries[[#This Row],[Currency]],tblXrate[],2,FALSE)","v":8903.9583437212841},"QA Executive","Analyst","India",{"$f":"VLOOKUP(tblSalaries[[#This Row],[Where do you work]],tblCountries[[Actual]:[Mapping]],2,FALSE)","v":"India"},3,">10<=20","ASIA",{"$f":"(G172/365)/L172","v":8.1314688070513998}]
[null,"ID0171","2012-05-26T00:48:46",90000,90000,"CAD",{"$f":"tblSalaries[[#This Row],[clean Salary (in local currency)]]*VLOOKUP(tblSalaries[[#This Row],[Currency]],tblXrate[],2,FALSE)","v":88502.537072729421},"Senior Actuarial Analyst","Analyst","Canada",{"$f":"VLOOKUP(tblSalaries[[#This Row],[Where do you work]],tblCountries[[Actual]:[Mapping]],2,FALSE)","v":"Canada"},6,">20","N. AMERICA",{"$f":"(G173/365)/L173","v":40.412117384807956}]
[null,"ID0172","2012-05-26T00:48:48",180000,180000,"INR",{"$f":"tblSalaries[[#This Row],[clean Salary (in local currency)]]*VLOOKUP(tblSalaries[[#This Row],[Currency]],tblXrate[],2,FALSE)","v":3205.4250037396623},"Sr. Associate","Analyst","India",{"$f":"VLOOKUP(tblSalaries[[#This Row],[Where do you work]],tblCountries[[Actual]:[Mapping]],2,FALSE)","v":"India"},6,">20","ASIA",{"$f":"(G174/365)/L174","v":1.4636643852692524}]
[null,"ID0173","2012-05-26T00:48:48",46584,46584,"USD",{"$f":"tblSalaries[[#This Row],[clean Salary (in local currency)]]*VLOOKUP(tblSalaries[[#This Row],[Currency]],tblXrate[],2,FALSE)","v":46584},"Budget Analyst","Analyst","USA",{"$f":"VLOOKUP(tblSalaries[[#This Row],[Where do you work]],tblCountries[[Actual]:[Mapping]],2,FALSE)","v":"USA"},6,">20","N. AMERICA",{"$f":"(G175/365)/L175","v":21.271232876712329}]
[null,"ID0174","2012-05-26T00:48:48",67000,67000,"USD",{"$f":"tblSalaries[[#This Row],[clean Salary (in local currency)]]*VLOOKUP(tblSalaries[[#This Row],[Currency]],tblXrate[],2,FALSE)","v":67000},"B.I. Data Analyst II","Analyst","USA",{"$f":"VLOOKUP(tblSalaries[[#This Row],[Where do you work]],tblCountries[[Actual]:[Mapping]],2,FALSE)","v":"USA"},6,">20","N. AMERICA",{"$f":"(G176/365)/L176","v":30.593607305936075}]
[null,"ID0175","2012-05-26T00:48:57","Rd. 11 lakhs",1100000,"INR",{"$f":"tblSalaries[[#This Row],[clean Salary (in local currency)]]*VLOOKUP(tblSalaries[[#This Row],[Currency]],tblXrate[],2,FALSE)","v":19588.708356186824},"Asst manager investor relations and business analytics","Manager","India",{"$f":"VLOOKUP(tblSalaries[[#This Row],[Where do you work]],tblCountries[[Actual]:[Mapping]],2,FALSE)","v":"India"},6,">10<=20","ASIA",{"$f":"(G177/365)/L177","v":8.9446156877565404}]
[null,"ID0176","2012-05-26T00:49:18",92000,92000,"USD",{"$f":"tblSalaries[[#This Row],[clean Salary (in local currency)]]*VLOOKUP(tblSalaries[[#This Row],[Currency]],tblXrate[],2,FALSE)","v":92000},"Industrial Engineer (Fed)","Engineer","USA",{"$f":"VLOOKUP(tblSalaries[[#This Row],[Where do you work]],tblCountries[[Actual]:[Mapping]],2,FALSE)","v":"USA"},6,">20","N. AMERICA",{"$f":"(G178/365)/L178","v":42.009132420091326}]
[null,"ID0177","2012-05-26T00:49:21",75000,75000,"USD",{"$f":"tblSalaries[[#This Row],[clean Salary (in local currency)]]*VLOOKUP(tblSalaries[[#This Row],[Currency]],tblXrate[],2,FALSE)","v":75000},"Informatics specialist","Specialist","USA",{"$f":"VLOOKUP(tblSalaries[[#This Row],[Where do you work]],tblCountries[[Actual]:[Mapping]],2,FALSE)","v":"USA"},8,"<=5","N. AMERICA",{"$f":"(G179/365)/L179","v":25.684931506849313}]
[null,"ID0178","2012-05-26T00:49:35",180000,180000,"INR",{"$f":"tblSalaries[[#This Row],[clean Salary (in local currency)]]*VLOOKUP(tblSalaries[[#This Row],[Currency]],tblXrate[],2,FALSE)","v":3205.4250037396623},"Sr. Associate","Analyst","India",{"$f":"VLOOKUP(tblSalaries[[#This Row],[Where do you work]],tblCountries[[Actual]:[Mapping]],2,FALSE)","v":"India"},6,">5<=10","ASIA",{"$f":"(G180/365)/L180","v":1.4636643852692524}]
[null,"ID0179","2012-05-26T00:49:48",18500,18500,"GBP",{"$f":"tblSalaries[[#This Row],[clean Salary (in local currency)]]*VLOOKUP(tblSalaries[[#This Row],[Currency]],tblXrate[],2,FALSE)","v":29159.298033244755},"Trainee Management Accountant","Manager","UK",{"$f":"VLOOKUP(tblSalaries[[#This Row],[Where do you work]],tblCountries[[Actual]:[Mapping]],2,FALSE)","v":"UK"},8,">20","EUROPE",{"$f":"(G181/365)/L181","v":9.9860609702892997}]
[null,"ID0180","2012-05-26T00:49:50",40000,40000,"USD",{"$f":"tblSalaries[[#This Row],[clean Salary (in local currency)]]*VLOOKUP(tblSalaries[[#This Row],[Currency]],tblXrate[],2,FALSE)","v":40000},"Senior analyst","Analyst","USA",{"$f":"VLOOKUP(tblSalaries[[#This Row],[Where do you work]],tblCountries[[Actual]:[Mapping]],2,FALSE)","v":"USA"},8,">10<=20","N. AMERICA",{"$f":"(G182/365)/L182","v":13.698630136986301}]
[null,"ID0181","2012-05-26T00:49:59",111680,111680,"USD",{"$f":"tblSalaries[[#This Row],[clean Salary (in local currency)]]*VLOOKUP(tblSalaries[[#This Row],[Currency]],tblXrate[],2,FALSE)","v":111680},"Director of Analytics","Analyst","USA",{"$f":"VLOOKUP(tblSalaries[[#This Row],[Where do you work]],tblCountries[[Actual]:[Mapping]],2,FALSE)","v":"USA"},3,"<=5","N. AMERICA",{"$f":"(G183/365)/L183","v":101.99086757990868}]
[null,"ID0182","2012-05-26T00:50:11",41.405999999999999,41406,"USD",{"$f":"tblSalaries[[#This Row],[clean Salary (in local currency)]]*VLOOKUP(tblSalaries[[#This Row],[Currency]],tblXrate[],2,FALSE)","v":41406},"Executive Assistant","Analyst","Canada",{"$f":"VLOOKUP(tblSalaries[[#This Row],[Where do you work]],tblCountries[[Actual]:[Mapping]],2,FALSE)","v":"Canada"},2,">20","N. AMERICA",{"$f":"(G184/365)/L184","v":56.720547945205482}]
[null,"ID0183","2012-05-26T00:50:15",70000,70000,"USD",{"$f":"tblSalaries[[#This Row],[clean Salary (in local currency)]]*VLOOKUP(tblSalaries[[#This Row],[Currency]],tblXrate[],2,FALSE)","v":70000},"Project Speciast","Manager","USA",{"$f":"VLOOKUP(tblSalaries[[#This Row],[Where do you work]],tblCountries[[Actual]:[Mapping]],2,FALSE)","v":"USA"},6,"<=5","N. AMERICA",{"$f":"(G185/365)/L185","v":31.963470319634705}]
[null,"ID0184","2012-05-26T00:50:31",40700,40700,"USD",{"$f":"tblSalaries[[#This Row],[clean Salary (in local currency)]]*VLOOKUP(tblSalaries[[#This Row],[Currency]],tblXrate[],2,FALSE)","v":40700},"Sales Coordinator & Analytical Support","Analyst","USA",{"$f":"VLOOKUP(tblSalaries[[#This Row],[Where do you work]],tblCountries[[Actual]:[Mapping]],2,FALSE)","v":"USA"},2,">20","N. AMERICA",{"$f":"(G186/365)/L186","v":55.753424657534246}]
[null,"ID0185","2012-05-26T00:50:32",40000,40000,"USD",{"$f":"tblSalaries[[#This Row],[clean Salary (in local currency)]]*VLOOKUP(tblSalaries[[#This Row],[Currency]],tblXrate[],2,FALSE)","v":40000},"analyst","Analyst","USA",{"$f":"VLOOKUP(tblSalaries[[#This Row],[Where do you work]],tblCountries[[Actual]:[Mapping]],2,FALSE)","v":"USA"},6,">20","N. AMERICA",{"$f":"(G187/365)/L187","v":18.264840182648403}]
[null,"ID0186","2012-05-26T00:50:38",60000,60000,"USD",{"$f":"tblSalaries[[#This Row],[clean Salary (in local currency)]]*VLOOKUP(tblSalaries[[#This Row],[Currency]],tblXrate[],2,FALSE)","v":60000},"Senior Staff Accountant","Accountant","USA",{"$f":"VLOOKUP(tblSalaries[[#This Row],[Where do you work]],tblCountries[[Actual]:[Mapping]],2,FALSE)","v":"USA"},6,">10<=20","N. AMERICA",{"$f":"(G188/365)/L188","v":27.397260273972602}]
[null,"ID0187","2012-05-26T00:50:41",92000,92000,"CAD",{"$f":"tblSalaries[[#This Row],[clean Salary (in local currency)]]*VLOOKUP(tblSalaries[[#This Row],[Currency]],tblXrate[],2,FALSE)","v":90469.260118790073},"Consultant - Retail Mkts","Consultant","Canada",{"$f":"VLOOKUP(tblSalaries[[#This Row],[Where do you work]],tblCountries[[Actual]:[Mapping]],2,FALSE)","v":"Canada"},8,">20","N. AMERICA",{"$f":"(G189/365)/L189","v":30.982623328352766}]
[null,"ID0188","2012-05-26T00:50:43",13636.36,13636,"USD",{"$f":"tblSalaries[[#This Row],[clean Salary (in local currency)]]*VLOOKUP(tblSalaries[[#This Row],[Currency]],tblXrate[],2,FALSE)","v":13636},"Process Manager","Manager","India",{"$f":"VLOOKUP(tblSalaries[[#This Row],[Where do you work]],tblCountries[[Actual]:[Mapping]],2,FALSE)","v":"India"},8,">5<=10","ASIA",{"$f":"(G190/365)/L190","v":4.6698630136986301}]
[null,"ID0189","2012-05-26T00:50:43",80000,80000,"USD",{"$f":"tblSalaries[[#This Row],[clean Salary (in local currency)]]*VLOOKUP(tblSalaries[[#This Row],[Currency]],tblXrate[],2,FALSE)","v":80000},"Project Manager (Process Owner)","Manager","USA",{"$f":"VLOOKUP(tblSalaries[[#This Row],[Where do you work]],tblCountries[[Actual]:[Mapping]],2,FALSE)","v":"USA"},3,">20","N. AMERICA",{"$f":"(G191/365)/L191","v":73.05936073059361}]
[null,"ID0190","2012-05-26T00:51:00","60000 CAD$",60000,"CAD",{"$f":"tblSalaries[[#This Row],[clean Salary (in local currency)]]*VLOOKUP(tblSalaries[[#This Row],[Currency]],tblXrate[],2,FALSE)","v":59001.691381819612},"Demographer","Analyst","Canada",{"$f":"VLOOKUP(tblSalaries[[#This Row],[Where do you work]],tblCountries[[Actual]:[Mapping]],2,FALSE)","v":"Canada"},3,">20","N. AMERICA",{"$f":"(G192/365)/L192","v":53.882823179743944}]
[null,"ID0192","2012-05-26T00:51:43",28000,28000,"USD",{"$f":"tblSalaries[[#This Row],[clean Salary (in local currency)]]*VLOOKUP(tblSalaries[[#This Row],[Currency]],tblXrate[],2,FALSE)","v":28000},"Administrative Assistant","Analyst","USA",{"$f":"VLOOKUP(tblSalaries[[#This Row],[Where do you work]],tblCountries[[Actual]:[Mapping]],2,FALSE)","v":"USA"},6,">10<=20","N. AMERICA",{"$f":"(G193/365)/L193","v":12.78538812785388}]
[null,"ID0193","2012-05-26T00:51:55",60000,60000,"USD",{"$f":"tblSalaries[[#This Row],[clean Salary (in local currency)]]*VLOOKUP(tblSalaries[[#This Row],[Currency]],tblXrate[],2,FALSE)","v":60000},"Accounting/Financial Analyst","Analyst","USA",{"$f":"VLOOKUP(tblSalaries[[#This Row],[Where do you work]],tblCountries[[Actual]:[Mapping]],2,FALSE)","v":"USA"},6,">10<=20","N. AMERICA",{"$f":"(G194/365)/L194","v":27.397260273972602}]
[null,"ID0194","2012-05-26T00:51:59",96000,96000,"USD",{"$f":"tblSalaries[[#This Row],[clean Salary (in local currency)]]*VLOOKUP(tblSalaries[[#This Row],[Currency]],tblXrate[],2,FALSE)","v":96000},"Business Process Specialist","Specialist","USA",{"$f":"VLOOKUP(tblSalaries[[#This Row],[Where do you work]],tblCountries[[Actual]:[Mapping]],2,FALSE)","v":"USA"},3,">20","N. AMERICA",{"$f":"(G195/365)/L195","v":87.671232876712338}]
[null,"ID0195","2012-05-26T00:52:21",67000,67000,"USD",{"$f":"tblSalaries[[#This Row],[clean Salary (in local currency)]]*VLOOKUP(tblSalaries[[#This Row],[Currency]],tblXrate[],2,FALSE)","v":67000},"Financial Analyst","Analyst","USA",{"$f":"VLOOKUP(tblSalaries[[#This Row],[Where do you work]],tblCountries[[Actual]:[Mapping]],2,FALSE)","v":"USA"},6,">20","N. AMERICA",{"$f":"(G196/365)/L196","v":30.593607305936075}]
[null,"ID0196","2012-05-26T00:52:25",70000,70000,"USD",{"$f":"tblSalaries[[#This Row],[clean Salary (in local currency)]]*VLOOKUP(tblSalaries[[#This Row],[Currency]],tblXrate[],2,FALSE)","v":70000},"Sr Financial Analyst","Analyst","USA",{"$f":"VLOOKUP(tblSalaries[[#This Row],[Where do you work]],tblCountries[[Actual]:[Mapping]],2,FALSE)","v":"USA"},6,"<=5","N. AMERICA",{"$f":"(G197/365)/L197","v":31.963470319634705}]
[null,"ID0197","2012-05-26T00:52:30",233000,233000,"INR",{"$f":"tblSalaries[[#This Row],[clean Salary (in local currency)]]*VLOOKUP(tblSalaries[[#This Row],[Currency]],tblXrate[],2,FALSE)","v":4149.2445881741187},"Asst. Manager (MIS)","Manager","India",{"$f":"VLOOKUP(tblSalaries[[#This Row],[Where do you work]],tblCountries[[Actual]:[Mapping]],2,FALSE)","v":"India"},8,">20","ASIA",{"$f":"(G198/365)/L198","v":1.4209741740322324}]
[null,"ID0198","2012-05-26T00:52:37","US$ 99000",99000,"USD",{"$f":"tblSalaries[[#This Row],[clean Salary (in local currency)]]*VLOOKUP(tblSalaries[[#This Row],[Currency]],tblXrate[],2,FALSE)","v":99000},"Business Controller","Controller","USA",{"$f":"VLOOKUP(tblSalaries[[#This Row],[Where do you work]],tblCountries[[Actual]:[Mapping]],2,FALSE)","v":"USA"},6,">20","N. AMERICA",{"$f":"(G199/365)/L199","v":45.205479452054796}]
[null,"ID0200","2012-05-26T00:53:00",90000,90000,"USD",{"$f":"tblSalaries[[#This Row],[clean Salary (in local currency)]]*VLOOKUP(tblSalaries[[#This Row],[Currency]],tblXrate[],2,FALSE)","v":90000},"Project Manager","Manager","USA",{"$f":"VLOOKUP(tblSalaries[[#This Row],[Where do you work]],tblCountries[[Actual]:[Mapping]],2,FALSE)","v":"USA"},3,">20","N. AMERICA",{"$f":"(G200/365)/L200","v":82.191780821917817}]
[null,"ID0201","2012-05-26T00:53:02","Rs. 275000",275000,"INR",{"$f":"tblSalaries[[#This Row],[clean Salary (in local currency)]]*VLOOKUP(tblSalaries[[#This Row],[Currency]],tblXrate[],2,FALSE)","v":4897.177089046706},"low level monitoring","Analyst","India",{"$f":"VLOOKUP(tblSalaries[[#This Row],[Where do you work]],tblCountries[[Actual]:[Mapping]],2,FALSE)","v":"India"},3,">10<=20","ASIA",{"$f":"(G201/365)/L201","v":4.4723078438782702}]
[null,"ID0202","2012-05-26T00:53:18","INR 16000",192000,"INR",{"$f":"tblSalaries[[#This Row],[clean Salary (in local currency)]]*VLOOKUP(tblSalaries[[#This Row],[Currency]],tblXrate[],2,FALSE)","v":3419.1200039889732},"Administrative","Analyst","India",{"$f":"VLOOKUP(tblSalaries[[#This Row],[Where do you work]],tblCountries[[Actual]:[Mapping]],2,FALSE)","v":"India"},8,">5<=10","ASIA",{"$f":"(G202/365)/L202","v":1.1709315082154017}]
[null,"ID0203","2012-05-26T00:53:37",51000,51000,"USD",{"$f":"tblSalaries[[#This Row],[clean Salary (in local currency)]]*VLOOKUP(tblSalaries[[#This Row],[Currency]],tblXrate[],2,FALSE)","v":51000},"Service Line Coordinator","Manager","USA",{"$f":"VLOOKUP(tblSalaries[[#This Row],[Where do you work]],tblCountries[[Actual]:[Mapping]],2,FALSE)","v":"USA"},6,">20","N. AMERICA",{"$f":"(G203/365)/L203","v":23.287671232876715}]
[null,"ID0204","2012-05-26T00:53:42",100000,100000,"USD",{"$f":"tblSalaries[[#This Row],[clean Salary (in local currency)]]*VLOOKUP(tblSalaries[[#This Row],[Currency]],tblXrate[],2,FALSE)","v":100000},"Strategic Sourcing Manager","Manager","USA",{"$f":"VLOOKUP(tblSalaries[[#This Row],[Where do you work]],tblCountries[[Actual]:[Mapping]],2,FALSE)","v":"USA"},8,">5<=10","N. AMERICA",{"$f":"(G204/365)/L204","v":34.246575342465754}]
[null,"ID0205","2012-05-26T00:53:46","INR18Lacs or US$36000",1800000,"INR",{"$f":"tblSalaries[[#This Row],[clean Salary (in local currency)]]*VLOOKUP(tblSalaries[[#This Row],[Currency]],tblXrate[],2,FALSE)","v":32054.250037396621},"Chief Manager","Manager","India",{"$f":"VLOOKUP(tblSalaries[[#This Row],[Where do you work]],tblCountries[[Actual]:[Mapping]],2,FALSE)","v":"India"},2,">10<=20","ASIA",{"$f":"(G205/365)/L205","v":43.909931558077567}]
[null,"ID0207","2012-05-26T00:54:12","Â£30000",30000,"GBP",{"$f":"tblSalaries[[#This Row],[clean Salary (in local currency)]]*VLOOKUP(tblSalaries[[#This Row],[Currency]],tblXrate[],2,FALSE)","v":47285.348162018527},"Business Intelligence Analyst","Analyst","UK",{"$f":"VLOOKUP(tblSalaries[[#This Row],[Where do you work]],tblCountries[[Actual]:[Mapping]],2,FALSE)","v":"UK"},3,"<=5","EUROPE",{"$f":"(G206/365)/L206","v":43.182966358007782}]
[null,"ID0208","2012-05-26T00:54:14","â‚¬ 50000",50000,"EUR",{"$f":"tblSalaries[[#This Row],[clean Salary (in local currency)]]*VLOOKUP(tblSalaries[[#This Row],[Currency]],tblXrate[],2,FALSE)","v":63519.971949580387},"Data Analyst","Analyst","Ireland",{"$f":"VLOOKUP(tblSalaries[[#This Row],[Where do you work]],tblCountries[[Actual]:[Mapping]],2,FALSE)","v":"Ireland"},6,">10<=20","EUROPE",{"$f":"(G207/365)/L207","v":29.00455340163488}]
[null,"ID0209","2012-05-26T00:54:16",108160,108160,"USD",{"$f":"tblSalaries[[#This Row],[clean Salary (in local currency)]]*VLOOKUP(tblSalaries[[#This Row],[Currency]],tblXrate[],2,FALSE)","v":108160},"Sr. Financial Analyst","Analyst","USA",{"$f":"VLOOKUP(tblSalaries[[#This Row],[Where do you work]],tblCountries[[Actual]:[Mapping]],2,FALSE)","v":"USA"},6,">20","N. AMERICA",{"$f":"(G208/365)/L208","v":49.388127853881279}]
[null,"ID0210","2012-05-26T00:54:27",50000,50000,"USD",{"$f":"tblSalaries[[#This Row],[clean Salary (in local currency)]]*VLOOKUP(tblSalaries[[#This Row],[Currency]],tblXrate[],2,FALSE)","v":50000},"Buyer","Manager","USA",{"$f":"VLOOKUP(tblSalaries[[#This Row],[Where do you work]],tblCountries[[Actual]:[Mapping]],2,FALSE)","v":"USA"},6,">10<=20","N. AMERICA",{"$f":"(G209/365)/L209","v":22.831050228310502}]
[null,"ID0211","2012-05-26T00:54:28",400000,400000,"USD",{"$f":"tblSalaries[[#This Row],[clean Salary (in local currency)]]*VLOOKUP(tblSalaries[[#This Row],[Currency]],tblXrate[],2,FALSE)","v":400000},"program manager","Manager","USA",{"$f":"VLOOKUP(tblSalaries[[#This Row],[Where do you work]],tblCountries[[Actual]:[Mapping]],2,FALSE)","v":"USA"},2,">20","N. AMERICA",{"$f":"(G210/365)/L210","v":547.94520547945206}]
[null,"ID0212","2012-05-26T00:54:41",43000,43000,"USD",{"$f":"tblSalaries[[#This Row],[clean Salary (in local currency)]]*VLOOKUP(tblSalaries[[#This Row],[Currency]],tblXrate[],2,FALSE)","v":43000},"Reporting Analyst Team Lead","Analyst","USA",{"$f":"VLOOKUP(tblSalaries[[#This Row],[Where do you work]],tblCountries[[Actual]:[Mapping]],2,FALSE)","v":"USA"},8,">10<=20","N. AMERICA",{"$f":"(G211/365)/L211","v":14.726027397260275}]
[null,"ID0213","2012-05-26T00:54:46",27000,27000,"USD",{"$f":"tblSalaries[[#This Row],[clean Salary (in local currency)]]*VLOOKUP(tblSalaries[[#This Row],[Currency]],tblXrate[],2,FALSE)","v":27000},"Innovation Analyst","Analyst","Singapore",{"$f":"VLOOKUP(tblSalaries[[#This Row],[Where do you work]],tblCountries[[Actual]:[Mapping]],2,FALSE)","v":"Singapore"},8,">20","ASIA",{"$f":"(G212/365)/L212","v":9.2465753424657535}]
[null,"ID0214","2012-05-26T00:54:56",41000,41000,"USD",{"$f":"tblSalaries[[#This Row],[clean Salary (in local currency)]]*VLOOKUP(tblSalaries[[#This Row],[Currency]],tblXrate[],2,FALSE)","v":41000},"Operations Expert","Manager","USA",{"$f":"VLOOKUP(tblSalaries[[#This Row],[Where do you work]],tblCountries[[Actual]:[Mapping]],2,FALSE)","v":"USA"},8,"<=5","N. AMERICA",{"$f":"(G213/365)/L213","v":14.04109589041096}]
[null,"ID0215","2012-05-26T00:55:06",100000,100000,"USD",{"$f":"tblSalaries[[#This Row],[clean Salary (in local currency)]]*VLOOKUP(tblSalaries[[#This Row],[Currency]],tblXrate[],2,FALSE)","v":100000},"Director of Finance","CXO or Top Mgmt.","USA",{"$f":"VLOOKUP(tblSalaries[[#This Row],[Where do you work]],tblCountries[[Actual]:[Mapping]],2,FALSE)","v":"USA"},6,">10<=20","N. AMERICA",{"$f":"(G214/365)/L214","v":45.662100456621005}]
[null,"ID0216","2012-05-26T00:55:50",42140,42140,"USD",{"$f":"tblSalaries[[#This Row],[clean Salary (in local currency)]]*VLOOKUP(tblSalaries[[#This Row],[Currency]],tblXrate[],2,FALSE)","v":42140},"Information Analyst II","Analyst","USA",{"$f":"VLOOKUP(tblSalaries[[#This Row],[Where do you work]],tblCountries[[Actual]:[Mapping]],2,FALSE)","v":"USA"},6,">10<=20","N. AMERICA",{"$f":"(G215/365)/L215","v":19.24200913242009}]
[null,"ID0217","2012-05-26T00:56:06",80000,80000,"USD",{"$f":"tblSalaries[[#This Row],[clean Salary (in local currency)]]*VLOOKUP(tblSalaries[[#This Row],[Currency]],tblXrate[],2,FALSE)","v":80000},"Marketing Analyst","Analyst","USA",{"$f":"VLOOKUP(tblSalaries[[#This Row],[Where do you work]],tblCountries[[Actual]:[Mapping]],2,FALSE)","v":"USA"},6,">20","N. AMERICA",{"$f":"(G216/365)/L216","v":36.529680365296805}]
[null,"ID0218","2012-05-26T00:56:37",41600,41600,"USD",{"$f":"tblSalaries[[#This Row],[clean Salary (in local currency)]]*VLOOKUP(tblSalaries[[#This Row],[Currency]],tblXrate[],2,FALSE)","v":41600},"Project Manager","Manager","USA",{"$f":"VLOOKUP(tblSalaries[[#This Row],[Where do you work]],tblCountries[[Actual]:[Mapping]],2,FALSE)","v":"USA"},6,">10<=20","N. AMERICA",{"$f":"(G217/365)/L217","v":18.995433789954337}]
[null,"ID0219","2012-05-26T00:56:37","45k",45000,"USD",{"$f":"tblSalaries[[#This Row],[clean Salary (in local currency)]]*VLOOKUP(tblSalaries[[#This Row],[Currency]],tblXrate[],2,FALSE)","v":45000},"Accounting Assistant","Accountant","USA",{"$f":"VLOOKUP(tblSalaries[[#This Row],[Where do you work]],tblCountries[[Actual]:[Mapping]],2,FALSE)","v":"USA"},3,">20","N. AMERICA",{"$f":"(G218/365)/L218","v":41.095890410958908}]
[null,"ID0220","2012-05-26T00:56:54",78000,78000,"USD",{"$f":"tblSalaries[[#This Row],[clean Salary (in local currency)]]*VLOOKUP(tblSalaries[[#This Row],[Currency]],tblXrate[],2,FALSE)","v":78000},"Tax Professional","Accountant","usa",{"$f":"VLOOKUP(tblSalaries[[#This Row],[Where do you work]],tblCountries[[Actual]:[Mapping]],2,FALSE)","v":"USA"},6,">5<=10","N. AMERICA",{"$f":"(G219/365)/L219","v":35.616438356164387}]
[null,"ID0221","2012-05-26T00:57:21","INR 500000",500000,"INR",{"$f":"tblSalaries[[#This Row],[clean Salary (in local currency)]]*VLOOKUP(tblSalaries[[#This Row],[Currency]],tblXrate[],2,FALSE)","v":8903.9583437212841},"Project Manager","Manager","India",{"$f":"VLOOKUP(tblSalaries[[#This Row],[Where do you work]],tblCountries[[Actual]:[Mapping]],2,FALSE)","v":"India"},6,">20","ASIA",{"$f":"(G220/365)/L220","v":4.0657344035256999}]
[null,"ID0222","2012-05-26T00:57:35","INR 350k",350000,"INR",{"$f":"tblSalaries[[#This Row],[clean Salary (in local currency)]]*VLOOKUP(tblSalaries[[#This Row],[Currency]],tblXrate[],2,FALSE)","v":6232.7708406048987},"Jr. Executive Finance","Accountant","India",{"$f":"VLOOKUP(tblSalaries[[#This Row],[Where do you work]],tblCountries[[Actual]:[Mapping]],2,FALSE)","v":"India"},6,">10<=20","ASIA",{"$f":"(G221/365)/L221","v":2.84601408246799}]
[null,"ID0223","2012-05-26T00:57:44",72500,72500,"USD",{"$f":"tblSalaries[[#This Row],[clean Salary (in local currency)]]*VLOOKUP(tblSalaries[[#This Row],[Currency]],tblXrate[],2,FALSE)","v":72500},"Assistant Controller","Controller","USA",{"$f":"VLOOKUP(tblSalaries[[#This Row],[Where do you work]],tblCountries[[Actual]:[Mapping]],2,FALSE)","v":"USA"},6,">10<=20","N. AMERICA",{"$f":"(G222/365)/L222","v":33.105022831050228}]
[null,"ID0224","2012-05-26T00:57:52","US$ 138K",138000,"USD",{"$f":"tblSalaries[[#This Row],[clean Salary (in local currency)]]*VLOOKUP(tblSalaries[[#This Row],[Currency]],tblXrate[],2,FALSE)","v":138000},"Project engineer","Engineer","Thailand",{"$f":"VLOOKUP(tblSalaries[[#This Row],[Where do you work]],tblCountries[[Actual]:[Mapping]],2,FALSE)","v":"Thailand"},6,">20","ASIA",{"$f":"(G223/365)/L223","v":63.013698630136986}]
[null,"ID0225","2012-05-26T00:58:03",480000,480000,"INR",{"$f":"tblSalaries[[#This Row],[clean Salary (in local currency)]]*VLOOKUP(tblSalaries[[#This Row],[Currency]],tblXrate[],2,FALSE)","v":8547.8000099724322},"Cash Officer","Manager","India",{"$f":"VLOOKUP(tblSalaries[[#This Row],[Where do you work]],tblCountries[[Actual]:[Mapping]],2,FALSE)","v":"India"},6,">10<=20","ASIA",{"$f":"(G224/365)/L224","v":3.9031050273846724}]
[null,"ID0226","2012-05-26T00:58:05",80000,80000,"USD",{"$f":"tblSalaries[[#This Row],[clean Salary (in local currency)]]*VLOOKUP(tblSalaries[[#This Row],[Currency]],tblXrate[],2,FALSE)","v":80000},"Senior Analyst","Analyst","USA",{"$f":"VLOOKUP(tblSalaries[[#This Row],[Where do you work]],tblCountries[[Actual]:[Mapping]],2,FALSE)","v":"USA"},6,">10<=20","N. AMERICA",{"$f":"(G225/365)/L225","v":36.529680365296805}]
[null,"ID0227","2012-05-26T00:58:06",50000,50000,"USD",{"$f":"tblSalaries[[#This Row],[clean Salary (in local currency)]]*VLOOKUP(tblSalaries[[#This Row],[Currency]],tblXrate[],2,FALSE)","v":50000},"Project Manager","Manager","USA",{"$f":"VLOOKUP(tblSalaries[[#This Row],[Where do you work]],tblCountries[[Actual]:[Mapping]],2,FALSE)","v":"USA"},6,">20","N. AMERICA",{"$f":"(G226/365)/L226","v":22.831050228310502}]
[null,"ID0228","2012-05-26T00:58:10",45000,45000,"CAD",{"$f":"tblSalaries[[#This Row],[clean Salary (in local currency)]]*VLOOKUP(tblSalaries[[#This Row],[Currency]],tblXrate[],2,FALSE)","v":44251.268536364711},"Technical support specialist","Specialist","Canada",{"$f":"VLOOKUP(tblSalaries[[#This Row],[Where do you work]],tblCountries[[Actual]:[Mapping]],2,FALSE)","v":"Canada"},2,">20","N. AMERICA",{"$f":"(G227/365)/L227","v":60.618176077211935}]
[null,"ID0229","2012-05-26T00:58:22",43000,43000,"GBP",{"$f":"tblSalaries[[#This Row],[clean Salary (in local currency)]]*VLOOKUP(tblSalaries[[#This Row],[Currency]],tblXrate[],2,FALSE)","v":67775.665698893223},"ServiceDesk Supervisor","Manager","UK",{"$f":"VLOOKUP(tblSalaries[[#This Row],[Where do you work]],tblCountries[[Actual]:[Mapping]],2,FALSE)","v":"UK"},3,">20","EUROPE",{"$f":"(G228/365)/L228","v":61.895585113144499}]
[null,"ID0230","2012-05-26T00:58:56",200000,200000,"INR",{"$f":"tblSalaries[[#This Row],[clean Salary (in local currency)]]*VLOOKUP(tblSalaries[[#This Row],[Currency]],tblXrate[],2,FALSE)","v":3561.5833374885137},"medical biller","Analyst","India",{"$f":"VLOOKUP(tblSalaries[[#This Row],[Where do you work]],tblCountries[[Actual]:[Mapping]],2,FALSE)","v":"India"},2,">10<=20","ASIA",{"$f":"(G229/365)/L229","v":4.8788812842308404}]
[null,"ID0231","2012-05-26T00:59:03",65000,65000,"USD",{"$f":"tblSalaries[[#This Row],[clean Salary (in local currency)]]*VLOOKUP(tblSalaries[[#This Row],[Currency]],tblXrate[],2,FALSE)","v":65000},"Sr. Strategic Development Specialist","Specialist","USA",{"$f":"VLOOKUP(tblSalaries[[#This Row],[Where do you work]],tblCountries[[Actual]:[Mapping]],2,FALSE)","v":"USA"},3,">20","N. AMERICA",{"$f":"(G230/365)/L230","v":59.360730593607308}]
[null,"ID0232","2012-05-26T00:59:09",114000,114000,"USD",{"$f":"tblSalaries[[#This Row],[clean Salary (in local currency)]]*VLOOKUP(tblSalaries[[#This Row],[Currency]],tblXrate[],2,FALSE)","v":114000},"Director","CXO or Top Mgmt.","USA",{"$f":"VLOOKUP(tblSalaries[[#This Row],[Where do you work]],tblCountries[[Actual]:[Mapping]],2,FALSE)","v":"USA"},3,">20","N. AMERICA",{"$f":"(G231/365)/L231","v":104.10958904109589}]
[null,"ID0233","2012-05-26T00:59:27",95000,95000,"USD",{"$f":"tblSalaries[[#This Row],[clean Salary (in local currency)]]*VLOOKUP(tblSalaries[[#This Row],[Currency]],tblXrate[],2,FALSE)","v":95000},"VP - Procurment","CXO or Top Mgmt.","USA",{"$f":"VLOOKUP(tblSalaries[[#This Row],[Where do you work]],tblCountries[[Actual]:[Mapping]],2,FALSE)","v":"USA"},6,">5<=10","N. AMERICA",{"$f":"(G232/365)/L232","v":43.378995433789953}]
[null,"ID0234","2012-05-26T01:00:51","52500.00 USD",52500,"USD",{"$f":"tblSalaries[[#This Row],[clean Salary (in local currency)]]*VLOOKUP(tblSalaries[[#This Row],[Currency]],tblXrate[],2,FALSE)","v":52500},"HRIS Analyst","Analyst","USA",{"$f":"VLOOKUP(tblSalaries[[#This Row],[Where do you work]],tblCountries[[Actual]:[Mapping]],2,FALSE)","v":"USA"},6,">20","N. AMERICA",{"$f":"(G233/365)/L233","v":23.972602739726028}]
[null,"ID0235","2012-05-26T01:01:03",45000,45000,"GBP",{"$f":"tblSalaries[[#This Row],[clean Salary (in local currency)]]*VLOOKUP(tblSalaries[[#This Row],[Currency]],tblXrate[],2,FALSE)","v":70928.022243027779},"Procurement manager","Manager","UK",{"$f":"VLOOKUP(tblSalaries[[#This Row],[Where do you work]],tblCountries[[Actual]:[Mapping]],2,FALSE)","v":"UK"},3,">5<=10","EUROPE",{"$f":"(G234/365)/L234","v":64.774449537011677}]
[null,"ID0236","2012-05-26T01:01:32",60000,60000,"USD",{"$f":"tblSalaries[[#This Row],[clean Salary (in local currency)]]*VLOOKUP(tblSalaries[[#This Row],[Currency]],tblXrate[],2,FALSE)","v":60000},"Energy Analyst","Analyst","USA",{"$f":"VLOOKUP(tblSalaries[[#This Row],[Where do you work]],tblCountries[[Actual]:[Mapping]],2,FALSE)","v":"USA"},6,">20","N. AMERICA",{"$f":"(G235/365)/L235","v":27.397260273972602}]
[null,"ID0237","2012-05-26T01:02:04",65250,65250,"USD",{"$f":"tblSalaries[[#This Row],[clean Salary (in local currency)]]*VLOOKUP(tblSalaries[[#This Row],[Currency]],tblXrate[],2,FALSE)","v":65250},"Accountant","Accountant","USA",{"$f":"VLOOKUP(tblSalaries[[#This Row],[Where do you work]],tblCountries[[Actual]:[Mapping]],2,FALSE)","v":"USA"},6,">20","N. AMERICA",{"$f":"(G236/365)/L236","v":29.794520547945208}]
[null,"ID0238","2012-05-26T01:02:07",1200000,1200000,"INR",{"$f":"tblSalaries[[#This Row],[clean Salary (in local currency)]]*VLOOKUP(tblSalaries[[#This Row],[Currency]],tblXrate[],2,FALSE)","v":21369.500024931083},"Branch head -sales","Manager","India",{"$f":"VLOOKUP(tblSalaries[[#This Row],[Where do you work]],tblCountries[[Actual]:[Mapping]],2,FALSE)","v":"India"},3,">20","ASIA",{"$f":"(G237/365)/L237","v":19.515525136923362}]
[null,"ID0239","2012-05-26T01:02:10",100000,100000,"CAD",{"$f":"tblSalaries[[#This Row],[clean Salary (in local currency)]]*VLOOKUP(tblSalaries[[#This Row],[Currency]],tblXrate[],2,FALSE)","v":98336.152303032693},"retail buyer","Manager","Canada",{"$f":"VLOOKUP(tblSalaries[[#This Row],[Where do you work]],tblCountries[[Actual]:[Mapping]],2,FALSE)","v":"Canada"},3,">10<=20","N. AMERICA",{"$f":"(G238/365)/L238","v":89.804705299573243}]
[null,"ID0240","2012-05-26T01:02:16","1000 â‚¬",12000,"EUR",{"$f":"tblSalaries[[#This Row],[clean Salary (in local currency)]]*VLOOKUP(tblSalaries[[#This Row],[Currency]],tblXrate[],2,FALSE)","v":15244.793267899293},"HR Specialist","Specialist","Portugal",{"$f":"VLOOKUP(tblSalaries[[#This Row],[Where do you work]],tblCountries[[Actual]:[Mapping]],2,FALSE)","v":"Portugal"},8,">20","EUROPE",{"$f":"(G239/365)/L239","v":5.220819612294278}]
[null,"ID0241","2012-05-26T01:02:21",73000,73000,"USD",{"$f":"tblSalaries[[#This Row],[clean Salary (in local currency)]]*VLOOKUP(tblSalaries[[#This Row],[Currency]],tblXrate[],2,FALSE)","v":73000},"Financial Analyst","Analyst","USA",{"$f":"VLOOKUP(tblSalaries[[#This Row],[Where do you work]],tblCountries[[Actual]:[Mapping]],2,FALSE)","v":"USA"},6,">10<=20","N. AMERICA",{"$f":"(G240/365)/L240","v":33.333333333333336}]
[null,"ID0242","2012-05-26T01:02:47",50000,50000,"USD",{"$f":"tblSalaries[[#This Row],[clean Salary (in local currency)]]*VLOOKUP(tblSalaries[[#This Row],[Currency]],tblXrate[],2,FALSE)","v":50000},"data analyst","Analyst","USA",{"$f":"VLOOKUP(tblSalaries[[#This Row],[Where do you work]],tblCountries[[Actual]:[Mapping]],2,FALSE)","v":"USA"},8,">20","N. AMERICA",{"$f":"(G241/365)/L241","v":17.123287671232877}]
[null,"ID0243","2012-05-26T01:02:51",79000,79000,"USD",{"$f":"tblSalaries[[#This Row],[clean Salary (in local currency)]]*VLOOKUP(tblSalaries[[#This Row],[Currency]],tblXrate[],2,FALSE)","v":79000},"Director of Finance and Accounting","Accountant","USA",{"$f":"VLOOKUP(tblSalaries[[#This Row],[Where do you work]],tblCountries[[Actual]:[Mapping]],2,FALSE)","v":"USA"},3,">20","N. AMERICA",{"$f":"(G242/365)/L242","v":72.146118721461178}]
[null,"ID0244","2012-05-26T01:03:07",90000,90000,"USD",{"$f":"tblSalaries[[#This Row],[clean Salary (in local currency)]]*VLOOKUP(tblSalaries[[#This Row],[Currency]],tblXrate[],2,FALSE)","v":90000},"Manager Business Control","Manager","USA",{"$f":"VLOOKUP(tblSalaries[[#This Row],[Where do you work]],tblCountries[[Actual]:[Mapping]],2,FALSE)","v":"USA"},6,">10<=20","N. AMERICA",{"$f":"(G243/365)/L243","v":41.095890410958908}]
[null,"ID0245","2012-05-26T01:03:28",70000,70000,"USD",{"$f":"tblSalaries[[#This Row],[clean Salary (in local currency)]]*VLOOKUP(tblSalaries[[#This Row],[Currency]],tblXrate[],2,FALSE)","v":70000},"Manager Pricing","Manager","USA",{"$f":"VLOOKUP(tblSalaries[[#This Row],[Where do you work]],tblCountries[[Actual]:[Mapping]],2,FALSE)","v":"USA"},3,">5<=10","N. AMERICA",{"$f":"(G244/365)/L244","v":63.926940639269411}]
[null,"ID0246","2012-05-26T01:03:34",65000,65000,"CAD",{"$f":"tblSalaries[[#This Row],[clean Salary (in local currency)]]*VLOOKUP(tblSalaries[[#This Row],[Currency]],tblXrate[],2,FALSE)","v":63918.498996971248},"Insurance Manager","Manager","Canada",{"$f":"VLOOKUP(tblSalaries[[#This Row],[Where do you work]],tblCountries[[Actual]:[Mapping]],2,FALSE)","v":"Canada"},6,">10<=20","N. AMERICA",{"$f":"(G245/365)/L245","v":29.186529222361301}]
[null,"ID0247","2012-05-26T01:03:52",80000,80000,"USD",{"$f":"tblSalaries[[#This Row],[clean Salary (in local currency)]]*VLOOKUP(tblSalaries[[#This Row],[Currency]],tblXrate[],2,FALSE)","v":80000},"Analyst","Analyst","USA",{"$f":"VLOOKUP(tblSalaries[[#This Row],[Where do you work]],tblCountries[[Actual]:[Mapping]],2,FALSE)","v":"USA"},6,">10<=20","N. AMERICA",{"$f":"(G246/365)/L246","v":36.529680365296805}]
[null,"ID0248","2012-05-26T01:03:54",140000,140000,"USD",{"$f":"tblSalaries[[#This Row],[clean Salary (in local currency)]]*VLOOKUP(tblSalaries[[#This Row],[Currency]],tblXrate[],2,FALSE)","v":140000},"Manager","Manager","USA",{"$f":"VLOOKUP(tblSalaries[[#This Row],[Where do you work]],tblCountries[[Actual]:[Mapping]],2,FALSE)","v":"USA"},6,">20","N. AMERICA",{"$f":"(G247/365)/L247","v":63.926940639269411}]
[null,"ID0249","2012-05-26T01:04:13","US$ 96k",96000,"USD",{"$f":"tblSalaries[[#This Row],[clean Salary (in local currency)]]*VLOOKUP(tblSalaries[[#This Row],[Currency]],tblXrate[],2,FALSE)","v":96000},"Freellance","Consultant","Poland",{"$f":"VLOOKUP(tblSalaries[[#This Row],[Where do you work]],tblCountries[[Actual]:[Mapping]],2,FALSE)","v":"Poland"},3,">20","EUROPE",{"$f":"(G248/365)/L248","v":87.671232876712338}]
[null,"ID0250","2012-05-26T01:04:17",20000,20000,"USD",{"$f":"tblSalaries[[#This Row],[clean Salary (in local currency)]]*VLOOKUP(tblSalaries[[#This Row],[Currency]],tblXrate[],2,FALSE)","v":20000},"category manager","Manager","India",{"$f":"VLOOKUP(tblSalaries[[#This Row],[Where do you work]],tblCountries[[Actual]:[Mapping]],2,FALSE)","v":"India"},6,">5<=10","ASIA",{"$f":"(G249/365)/L249","v":9.1324200913242013}]
[null,"ID0251","2012-05-26T01:04:50",47700,47700,"USD",{"$f":"tblSalaries[[#This Row],[clean Salary (in local currency)]]*VLOOKUP(tblSalaries[[#This Row],[Currency]],tblXrate[],2,FALSE)","v":47700},"Customer Operations Analyst","Analyst","USA",{"$f":"VLOOKUP(tblSalaries[[#This Row],[Where do you work]],tblCountries[[Actual]:[Mapping]],2,FALSE)","v":"USA"},6,">5<=10","N. AMERICA",{"$f":"(G250/365)/L250","v":21.780821917808222}]
[null,"ID0252","2012-05-26T01:05:14",25000,25000,"USD",{"$f":"tblSalaries[[#This Row],[clean Salary (in local currency)]]*VLOOKUP(tblSalaries[[#This Row],[Currency]],tblXrate[],2,FALSE)","v":25000},"Team Lead","Manager","India",{"$f":"VLOOKUP(tblSalaries[[#This Row],[Where do you work]],tblCountries[[Actual]:[Mapping]],2,FALSE)","v":"India"},2,">20","ASIA",{"$f":"(G251/365)/L251","v":34.246575342465754}]
[null,"ID0253","2012-05-26T01:05:18",52500,52500,"USD",{"$f":"tblSalaries[[#This Row],[clean Salary (in local currency)]]*VLOOKUP(tblSalaries[[#This Row],[Currency]],tblXrate[],2,FALSE)","v":52500},"Analyst","Analyst","USA",{"$f":"VLOOKUP(tblSalaries[[#This Row],[Where do you work]],tblCountries[[Actual]:[Mapping]],2,FALSE)","v":"USA"},6,">20","N. AMERICA",{"$f":"(G252/365)/L252","v":23.972602739726028}]
[null,"ID0254","2012-05-26T01:05:27",40000,40000,"USD",{"$f":"tblSalaries[[#This Row],[clean Salary (in local currency)]]*VLOOKUP(tblSalaries[[#This Row],[Currency]],tblXrate[],2,FALSE)","v":40000},"Business Analyst","Analyst","USA",{"$f":"VLOOKUP(tblSalaries[[#This Row],[Where do you work]],tblCountries[[Actual]:[Mapping]],2,FALSE)","v":"USA"},8,">10<=20","N. AMERICA",{"$f":"(G253/365)/L253","v":13.698630136986301}]
[null,"ID0255","2012-05-26T01:06:02","$31,000 USD",31000,"USD",{"$f":"tblSalaries[[#This Row],[clean Salary (in local currency)]]*VLOOKUP(tblSalaries[[#This Row],[Currency]],tblXrate[],2,FALSE)","v":31000},"Site Technician","Analyst","USA",{"$f":"VLOOKUP(tblSalaries[[#This Row],[Where do you work]],tblCountries[[Actual]:[Mapping]],2,FALSE)","v":"USA"},6,">20","N. AMERICA",{"$f":"(G254/365)/L254","v":14.155251141552512}]
[null,"ID0256","2012-05-26T01:06:12",4390,52680,"GBP",{"$f":"tblSalaries[[#This Row],[clean Salary (in local currency)]]*VLOOKUP(tblSalaries[[#This Row],[Currency]],tblXrate[],2,FALSE)","v":83033.071372504521},"Excel Consultant","Consultant","UK",{"$f":"VLOOKUP(tblSalaries[[#This Row],[Where do you work]],tblCountries[[Actual]:[Mapping]],2,FALSE)","v":"UK"},8,">10<=20","EUROPE",{"$f":"(G255/365)/L255","v":28.435983346748124}]
[null,"ID0257","2012-05-26T01:06:31",130000,130000,"USD",{"$f":"tblSalaries[[#This Row],[clean Salary (in local currency)]]*VLOOKUP(tblSalaries[[#This Row],[Currency]],tblXrate[],2,FALSE)","v":130000},"Senior Project Manager","Manager","USA",{"$f":"VLOOKUP(tblSalaries[[#This Row],[Where do you work]],tblCountries[[Actual]:[Mapping]],2,FALSE)","v":"USA"},6,">20","N. AMERICA",{"$f":"(G256/365)/L256","v":59.360730593607308}]
[null,"ID0258","2012-05-26T01:06:38","Rs 470000",470000,"INR",{"$f":"tblSalaries[[#This Row],[clean Salary (in local currency)]]*VLOOKUP(tblSalaries[[#This Row],[Currency]],tblXrate[],2,FALSE)","v":8369.7208430980063},"Web Statistics Analyst","Analyst","India",{"$f":"VLOOKUP(tblSalaries[[#This Row],[Where do you work]],tblCountries[[Actual]:[Mapping]],2,FALSE)","v":"India"},8,"<=5","ASIA",{"$f":"(G257/365)/L257","v":2.8663427544856188}]
[null,"ID0259","2012-05-26T01:07:02",51000,51000,"USD",{"$f":"tblSalaries[[#This Row],[clean Salary (in local currency)]]*VLOOKUP(tblSalaries[[#This Row],[Currency]],tblXrate[],2,FALSE)","v":51000},"Business Data Analyst I","Analyst","USA",{"$f":"VLOOKUP(tblSalaries[[#This Row],[Where do you work]],tblCountries[[Actual]:[Mapping]],2,FALSE)","v":"USA"},3,">20","N. AMERICA",{"$f":"(G258/365)/L258","v":46.57534246575343}]
[null,"ID0260","2012-05-26T01:07:18","Â£60000",60000,"GBP",{"$f":"tblSalaries[[#This Row],[clean Salary (in local currency)]]*VLOOKUP(tblSalaries[[#This Row],[Currency]],tblXrate[],2,FALSE)","v":94570.696324037053},"Decision Analyst & Modeller","Analyst","UK",{"$f":"VLOOKUP(tblSalaries[[#This Row],[Where do you work]],tblCountries[[Actual]:[Mapping]],2,FALSE)","v":"UK"},8,">10<=20","EUROPE",{"$f":"(G259/365)/L259","v":32.387224768505838}]
[null,"ID0261","2012-05-26T01:07:42",1920000,1920000,"INR",{"$f":"tblSalaries[[#This Row],[clean Salary (in local currency)]]*VLOOKUP(tblSalaries[[#This Row],[Currency]],tblXrate[],2,FALSE)","v":34191.200039889729},"Project Manager","Manager","India",{"$f":"VLOOKUP(tblSalaries[[#This Row],[Where do you work]],tblCountries[[Actual]:[Mapping]],2,FALSE)","v":"India"},3,"<=5","ASIA",{"$f":"(G260/365)/L260","v":31.224840219077379}]
[null,"ID0262","2012-05-26T01:08:00",28000,28000,"GBP",{"$f":"tblSalaries[[#This Row],[clean Salary (in local currency)]]*VLOOKUP(tblSalaries[[#This Row],[Currency]],tblXrate[],2,FALSE)","v":44132.991617883956},"Ops Adminstrator","Analyst","UK",{"$f":"VLOOKUP(tblSalaries[[#This Row],[Where do you work]],tblCountries[[Actual]:[Mapping]],2,FALSE)","v":"UK"},8,">10<=20","EUROPE",{"$f":"(G261/365)/L261","v":15.114038225302725}]
[null,"ID0263","2012-05-26T01:08:04",73000,73000,"USD",{"$f":"tblSalaries[[#This Row],[clean Salary (in local currency)]]*VLOOKUP(tblSalaries[[#This Row],[Currency]],tblXrate[],2,FALSE)","v":73000},"Sr. Global marketing Specialist","Specialist","USA",{"$f":"VLOOKUP(tblSalaries[[#This Row],[Where do you work]],tblCountries[[Actual]:[Mapping]],2,FALSE)","v":"USA"},6,">20","N. AMERICA",{"$f":"(G262/365)/L262","v":33.333333333333336}]
[null,"ID0264","2012-05-26T01:08:19",62400,62400,"USD",{"$f":"tblSalaries[[#This Row],[clean Salary (in local currency)]]*VLOOKUP(tblSalaries[[#This Row],[Currency]],tblXrate[],2,FALSE)","v":62400},"financial accountant","Accountant","USA",{"$f":"VLOOKUP(tblSalaries[[#This Row],[Where do you work]],tblCountries[[Actual]:[Mapping]],2,FALSE)","v":"USA"},8,">20","N. AMERICA",{"$f":"(G263/365)/L263","v":21.36986301369863}]
[null,"ID0265","2012-05-26T01:08:21",2300,27600,"USD",{"$f":"tblSalaries[[#This Row],[clean Salary (in local currency)]]*VLOOKUP(tblSalaries[[#This Row],[Currency]],tblXrate[],2,FALSE)","v":27600},"Software Consultant","Consultant","Singapore",{"$f":"VLOOKUP(tblSalaries[[#This Row],[Where do you work]],tblCountries[[Actual]:[Mapping]],2,FALSE)","v":"Singapore"},8,">10<=20","ASIA",{"$f":"(G264/365)/L264","v":9.4520547945205475}]
[null,"ID0266","2012-05-26T01:08:35",54000,54000,"USD",{"$f":"tblSalaries[[#This Row],[clean Salary (in local currency)]]*VLOOKUP(tblSalaries[[#This Row],[Currency]],tblXrate[],2,FALSE)","v":54000},"Anaylst","Manager","USA",{"$f":"VLOOKUP(tblSalaries[[#This Row],[Where do you work]],tblCountries[[Actual]:[Mapping]],2,FALSE)","v":"USA"},8,">10<=20","N. AMERICA",{"$f":"(G265/365)/L265","v":18.493150684931507}]
[null,"ID0267","2012-05-26T01:08:39","rs 2.76 lakhs per year",276000,"INR",{"$f":"tblSalaries[[#This Row],[clean Salary (in local currency)]]*VLOOKUP(tblSalaries[[#This Row],[Currency]],tblXrate[],2,FALSE)","v":4914.9850057341491},"analyst","Analyst","India",{"$f":"VLOOKUP(tblSalaries[[#This Row],[Where do you work]],tblCountries[[Actual]:[Mapping]],2,FALSE)","v":"India"},8,">5<=10","ASIA",{"$f":"(G266/365)/L266","v":1.6832140430596401}]
[null,"ID0268","2012-05-26T01:08:42","$77,000 USD",77000,"USD",{"$f":"tblSalaries[[#This Row],[clean Salary (in local currency)]]*VLOOKUP(tblSalaries[[#This Row],[Currency]],tblXrate[],2,FALSE)","v":77000},"senior accounting coordinator","Accountant","USA",{"$f":"VLOOKUP(tblSalaries[[#This Row],[Where do you work]],tblCountries[[Actual]:[Mapping]],2,FALSE)","v":"USA"},6,">5<=10","N. AMERICA",{"$f":"(G267/365)/L267","v":35.159817351598171}]
[null,"ID0269","2012-05-26T01:09:01",76000,76000,"USD",{"$f":"tblSalaries[[#This Row],[clean Salary (in local currency)]]*VLOOKUP(tblSalaries[[#This Row],[Currency]],tblXrate[],2,FALSE)","v":76000},"Demand Planning Mgr","Manager","USA",{"$f":"VLOOKUP(tblSalaries[[#This Row],[Where do you work]],tblCountries[[Actual]:[Mapping]],2,FALSE)","v":"USA"},8,">20","N. AMERICA",{"$f":"(G268/365)/L268","v":26.027397260273972}]
[null,"ID0270","2012-05-26T01:09:32",103000,103000,"USD",{"$f":"tblSalaries[[#This Row],[clean Salary (in local currency)]]*VLOOKUP(tblSalaries[[#This Row],[Currency]],tblXrate[],2,FALSE)","v":103000},"VP / Credit Administrator","CXO or Top Mgmt.","USA",{"$f":"VLOOKUP(tblSalaries[[#This Row],[Where do you work]],tblCountries[[Actual]:[Mapping]],2,FALSE)","v":"USA"},3,">20","N. AMERICA",{"$f":"(G269/365)/L269","v":94.063926940639263}]
[null,"ID0271","2012-05-26T01:09:34",7600,7600,"USD",{"$f":"tblSalaries[[#This Row],[clean Salary (in local currency)]]*VLOOKUP(tblSalaries[[#This Row],[Currency]],tblXrate[],2,FALSE)","v":7600},"DP specialist","Specialist","Ukraine",{"$f":"VLOOKUP(tblSalaries[[#This Row],[Where do you work]],tblCountries[[Actual]:[Mapping]],2,FALSE)","v":"Ukraine"},2,"<=5","EUROPE",{"$f":"(G270/365)/L270","v":10.41095890410959}]
[null,"ID0272","2012-05-26T01:09:56",40000,40000,"USD",{"$f":"tblSalaries[[#This Row],[clean Salary (in local currency)]]*VLOOKUP(tblSalaries[[#This Row],[Currency]],tblXrate[],2,FALSE)","v":40000},"Analyst 2","Analyst","USA",{"$f":"VLOOKUP(tblSalaries[[#This Row],[Where do you work]],tblCountries[[Actual]:[Mapping]],2,FALSE)","v":"USA"},6,">5<=10","N. AMERICA",{"$f":"(G271/365)/L271","v":18.264840182648403}]
[null,"ID0273","2012-05-26T01:10:20",80000,80000,"USD",{"$f":"tblSalaries[[#This Row],[clean Salary (in local currency)]]*VLOOKUP(tblSalaries[[#This Row],[Currency]],tblXrate[],2,FALSE)","v":80000},"VP","CXO or Top Mgmt.","USA",{"$f":"VLOOKUP(tblSalaries[[#This Row],[Where do you work]],tblCountries[[Actual]:[Mapping]],2,FALSE)","v":"USA"},3,">20","N. AMERICA",{"$f":"(G272/365)/L272","v":73.05936073059361}]
[null,"ID0274","2012-05-26T01:10:24",55000,55000,"USD",{"$f":"tblSalaries[[#This Row],[clean Salary (in local currency)]]*VLOOKUP(tblSalaries[[#This Row],[Currency]],tblXrate[],2,FALSE)","v":55000},"data analyst","Analyst","USA",{"$f":"VLOOKUP(tblSalaries[[#This Row],[Where do you work]],tblCountries[[Actual]:[Mapping]],2,FALSE)","v":"USA"},8,">20","N. AMERICA",{"$f":"(G273/365)/L273","v":18.835616438356166}]
[null,"ID0275","2012-05-26T01:10:55",99000,99000,"USD",{"$f":"tblSalaries[[#This Row],[clean Salary (in local currency)]]*VLOOKUP(tblSalaries[[#This Row],[Currency]],tblXrate[],2,FALSE)","v":99000},"Business Analyst","Analyst","USA",{"$f":"VLOOKUP(tblSalaries[[#This Row],[Where do you work]],tblCountries[[Actual]:[Mapping]],2,FALSE)","v":"USA"},3,"<=5","N. AMERICA",{"$f":"(G274/365)/L274","v":90.410958904109592}]
[null,"ID0276","2012-05-26T01:10:56","35,000 Philippine Peso",420000,"PHP",{"$f":"tblSalaries[[#This Row],[clean Salary (in local currency)]]*VLOOKUP(tblSalaries[[#This Row],[Currency]],tblXrate[],2,FALSE)","v":9956.1219482708348},"Global Problem Management - IT","Manager","Philippines",{"$f":"VLOOKUP(tblSalaries[[#This Row],[Where do you work]],tblCountries[[Actual]:[Mapping]],2,FALSE)","v":"Philippines"},6,">20","ASIA",{"$f":"(G275/365)/L275","v":4.5461744056031206}]
[null,"ID0277","2012-05-26T01:11:12",75000,75000,"USD",{"$f":"tblSalaries[[#This Row],[clean Salary (in local currency)]]*VLOOKUP(tblSalaries[[#This Row],[Currency]],tblXrate[],2,FALSE)","v":75000},"financial analyst","Analyst","USA",{"$f":"VLOOKUP(tblSalaries[[#This Row],[Where do you work]],tblCountries[[Actual]:[Mapping]],2,FALSE)","v":"USA"},6,">5<=10","N. AMERICA",{"$f":"(G276/365)/L276","v":34.246575342465754}]
[null,"ID0278","2012-05-26T01:11:54",80000,80000,"USD",{"$f":"tblSalaries[[#This Row],[clean Salary (in local currency)]]*VLOOKUP(tblSalaries[[#This Row],[Currency]],tblXrate[],2,FALSE)","v":80000},"Enterprise Performance Metrics Manager","Manager","USA",{"$f":"VLOOKUP(tblSalaries[[#This Row],[Where do you work]],tblCountries[[Actual]:[Mapping]],2,FALSE)","v":"USA"},3,">20","N. AMERICA",{"$f":"(G277/365)/L277","v":73.05936073059361}]
[null,"ID0279","2012-05-26T01:12:41",20000,20000,"USD",{"$f":"tblSalaries[[#This Row],[clean Salary (in local currency)]]*VLOOKUP(tblSalaries[[#This Row],[Currency]],tblXrate[],2,FALSE)","v":20000},"Analyst","Analyst","India",{"$f":"VLOOKUP(tblSalaries[[#This Row],[Where do you work]],tblCountries[[Actual]:[Mapping]],2,FALSE)","v":"India"},8,">20","ASIA",{"$f":"(G278/365)/L278","v":6.8493150684931505}]
[null,"ID0280","2012-05-26T01:13:50",40000,40000,"USD",{"$f":"tblSalaries[[#This Row],[clean Salary (in local currency)]]*VLOOKUP(tblSalaries[[#This Row],[Currency]],tblXrate[],2,FALSE)","v":40000},"Business Analyst","Analyst","USA",{"$f":"VLOOKUP(tblSalaries[[#This Row],[Where do you work]],tblCountries[[Actual]:[Mapping]],2,FALSE)","v":"USA"},8,">20","N. AMERICA",{"$f":"(G279/365)/L279","v":13.698630136986301}]
[null,"ID0281","2012-05-26T01:14:27",46000,46000,"USD",{"$f":"tblSalaries[[#This Row],[clean Salary (in local currency)]]*VLOOKUP(tblSalaries[[#This Row],[Currency]],tblXrate[],2,FALSE)","v":46000},"University Relations Intern","Analyst","USA",{"$f":"VLOOKUP(tblSalaries[[#This Row],[Where do you work]],tblCountries[[Actual]:[Mapping]],2,FALSE)","v":"USA"},8,">20","N. AMERICA",{"$f":"(G280/365)/L280","v":15.753424657534246}]
[null,"ID0282","2012-05-26T01:14:55",14000,14000,"USD",{"$f":"tblSalaries[[#This Row],[clean Salary (in local currency)]]*VLOOKUP(tblSalaries[[#This Row],[Currency]],tblXrate[],2,FALSE)","v":14000},"Auxiliar Administrativo","Analyst","Brazil",{"$f":"VLOOKUP(tblSalaries[[#This Row],[Where do you work]],tblCountries[[Actual]:[Mapping]],2,FALSE)","v":"Brazil"},2,">20"," S. AMERICA",{"$f":"(G281/365)/L281","v":19.17808219178082}]
[null,"ID0283","2012-05-26T01:15:05",70000,70000,"USD",{"$f":"tblSalaries[[#This Row],[clean Salary (in local currency)]]*VLOOKUP(tblSalaries[[#This Row],[Currency]],tblXrate[],2,FALSE)","v":70000},"Engineering Tech Sr.","Engineer","USA",{"$f":"VLOOKUP(tblSalaries[[#This Row],[Where do you work]],tblCountries[[Actual]:[Mapping]],2,FALSE)","v":"USA"},8,">10<=20","N. AMERICA",{"$f":"(G282/365)/L282","v":23.972602739726028}]
[null,"ID0284","2012-05-26T01:15:12","36000 $",36000,"USD",{"$f":"tblSalaries[[#This Row],[clean Salary (in local currency)]]*VLOOKUP(tblSalaries[[#This Row],[Currency]],tblXrate[],2,FALSE)","v":36000},"Senior Specialist","Specialist","Russia",{"$f":"VLOOKUP(tblSalaries[[#This Row],[Where do you work]],tblCountries[[Actual]:[Mapping]],2,FALSE)","v":"Russia"},6,">10<=20","ASIA",{"$f":"(G283/365)/L283","v":16.43835616438356}]
[null,"ID0285","2012-05-26T01:15:25",15000,15000,"USD",{"$f":"tblSalaries[[#This Row],[clean Salary (in local currency)]]*VLOOKUP(tblSalaries[[#This Row],[Currency]],tblXrate[],2,FALSE)","v":15000},"moneymaker","Manager","USA",{"$f":"VLOOKUP(tblSalaries[[#This Row],[Where do you work]],tblCountries[[Actual]:[Mapping]],2,FALSE)","v":"USA"},3,">10<=20","N. AMERICA",{"$f":"(G284/365)/L284","v":13.698630136986301}]
[null,"ID0286","2012-05-26T01:16:18","INR 15,00,000",1500000,"INR",{"$f":"tblSalaries[[#This Row],[clean Salary (in local currency)]]*VLOOKUP(tblSalaries[[#This Row],[Currency]],tblXrate[],2,FALSE)","v":26711.875031163851},"Consultant","Consultant","India",{"$f":"VLOOKUP(tblSalaries[[#This Row],[Where do you work]],tblCountries[[Actual]:[Mapping]],2,FALSE)","v":"India"},8,">20","ASIA",{"$f":"(G285/365)/L285","v":9.1479024079328255}]
[null,"ID0287","2012-05-26T01:17:11","AED100000",100000,"AED",{"$f":"tblSalaries[[#This Row],[clean Salary (in local currency)]]*VLOOKUP(tblSalaries[[#This Row],[Currency]],tblXrate[],2,FALSE)","v":27221.92126875931},"Accountant","Accountant","Dubai",{"$f":"VLOOKUP(tblSalaries[[#This Row],[Where do you work]],tblCountries[[Actual]:[Mapping]],2,FALSE)","v":"Dubai"},6,">10<=20","ASIA",{"$f":"(G286/365)/L286","v":12.430101035963155}]
[null,"ID0288","2012-05-26T01:17:50",22000,22000,"USD",{"$f":"tblSalaries[[#This Row],[clean Salary (in local currency)]]*VLOOKUP(tblSalaries[[#This Row],[Currency]],tblXrate[],2,FALSE)","v":22000},"MIS","Reporting","India",{"$f":"VLOOKUP(tblSalaries[[#This Row],[Where do you work]],tblCountries[[Actual]:[Mapping]],2,FALSE)","v":"India"},8,">10<=20","ASIA",{"$f":"(G287/365)/L287","v":7.5342465753424657}]
[null,"ID0289","2012-05-26T01:17:56",68000,68000,"USD",{"$f":"tblSalaries[[#This Row],[clean Salary (in local currency)]]*VLOOKUP(tblSalaries[[#This Row],[Currency]],tblXrate[],2,FALSE)","v":68000},"management accountant","Manager","USA",{"$f":"VLOOKUP(tblSalaries[[#This Row],[Where do you work]],tblCountries[[Actual]:[Mapping]],2,FALSE)","v":"USA"},8,">20","N. AMERICA",{"$f":"(G288/365)/L288","v":23.287671232876711}]
[null,"ID0290","2012-05-26T01:17:57",97000,97000,"USD",{"$f":"tblSalaries[[#This Row],[clean Salary (in local currency)]]*VLOOKUP(tblSalaries[[#This Row],[Currency]],tblXrate[],2,FALSE)","v":97000},"business analyst","Analyst","USA",{"$f":"VLOOKUP(tblSalaries[[#This Row],[Where do you work]],tblCountries[[Actual]:[Mapping]],2,FALSE)","v":"USA"},8,">20","N. AMERICA",{"$f":"(G289/365)/L289","v":33.219178082191782}]
[null,"ID0291","2012-05-26T01:18:35","Â£31000",31000,"GBP",{"$f":"tblSalaries[[#This Row],[clean Salary (in local currency)]]*VLOOKUP(tblSalaries[[#This Row],[Currency]],tblXrate[],2,FALSE)","v":48861.526434085805},"Telecoms Engineer","Engineer","UK",{"$f":"VLOOKUP(tblSalaries[[#This Row],[Where do you work]],tblCountries[[Actual]:[Mapping]],2,FALSE)","v":"UK"},3,"<=5","EUROPE",{"$f":"(G290/365)/L290","v":44.622398569941375}]
[null,"ID0292","2012-05-26T01:18:49",65000,65000,"USD",{"$f":"tblSalaries[[#This Row],[clean Salary (in local currency)]]*VLOOKUP(tblSalaries[[#This Row],[Currency]],tblXrate[],2,FALSE)","v":65000},"Software Support","Analyst","USA",{"$f":"VLOOKUP(tblSalaries[[#This Row],[Where do you work]],tblCountries[[Actual]:[Mapping]],2,FALSE)","v":"USA"},6,">5<=10","N. AMERICA",{"$f":"(G291/365)/L291","v":29.680365296803654}]
[null,"ID0293","2012-05-26T01:18:58",3600,43200,"USD",{"$f":"tblSalaries[[#This Row],[clean Salary (in local currency)]]*VLOOKUP(tblSalaries[[#This Row],[Currency]],tblXrate[],2,FALSE)","v":43200},"Projects Planner","Manager","Saudi Arabia",{"$f":"VLOOKUP(tblSalaries[[#This Row],[Where do you work]],tblCountries[[Actual]:[Mapping]],2,FALSE)","v":"Saudi Arabia"},6,">5<=10","ASIA",{"$f":"(G292/365)/L292","v":19.726027397260275}]
[null,"ID0294","2012-05-26T01:19:09","4.5 lakh INR",450000,"INR",{"$f":"tblSalaries[[#This Row],[clean Salary (in local currency)]]*VLOOKUP(tblSalaries[[#This Row],[Currency]],tblXrate[],2,FALSE)","v":8013.5625093491553},"Business Analyst","Analyst","India",{"$f":"VLOOKUP(tblSalaries[[#This Row],[Where do you work]],tblCountries[[Actual]:[Mapping]],2,FALSE)","v":"India"},6,">20","ASIA",{"$f":"(G293/365)/L293","v":3.6591609631731306}]
[null,"ID0295","2012-05-26T01:19:09",50000,50000,"USD",{"$f":"tblSalaries[[#This Row],[clean Salary (in local currency)]]*VLOOKUP(tblSalaries[[#This Row],[Currency]],tblXrate[],2,FALSE)","v":50000},"Mathematical Data Analyist","Analyst","USA",{"$f":"VLOOKUP(tblSalaries[[#This Row],[Where do you work]],tblCountries[[Actual]:[Mapping]],2,FALSE)","v":"USA"},8,">20","N. AMERICA",{"$f":"(G294/365)/L294","v":17.123287671232877}]
[null,"ID0296","2012-05-26T01:19:22",45000,45000,"USD",{"$f":"tblSalaries[[#This Row],[clean Salary (in local currency)]]*VLOOKUP(tblSalaries[[#This Row],[Currency]],tblXrate[],2,FALSE)","v":45000},"sales support","Analyst","USA",{"$f":"VLOOKUP(tblSalaries[[#This Row],[Where do you work]],tblCountries[[Actual]:[Mapping]],2,FALSE)","v":"USA"},6,">20","N. AMERICA",{"$f":"(G295/365)/L295","v":20.547945205479454}]
[null,"ID0297","2012-05-26T01:19:37","Rs.1.8 lakhs ",180000,"INR",{"$f":"tblSalaries[[#This Row],[clean Salary (in local currency)]]*VLOOKUP(tblSalaries[[#This Row],[Currency]],tblXrate[],2,FALSE)","v":3205.4250037396623},"Administrative Officer","Manager","India",{"$f":"VLOOKUP(tblSalaries[[#This Row],[Where do you work]],tblCountries[[Actual]:[Mapping]],2,FALSE)","v":"India"},6,">20","ASIA",{"$f":"(G296/365)/L296","v":1.4636643852692524}]
[null,"ID0298","2012-05-26T01:20:01",60000,60000,"USD",{"$f":"tblSalaries[[#This Row],[clean Salary (in local currency)]]*VLOOKUP(tblSalaries[[#This Row],[Currency]],tblXrate[],2,FALSE)","v":60000},"IS Manager","Manager","USA",{"$f":"VLOOKUP(tblSalaries[[#This Row],[Where do you work]],tblCountries[[Actual]:[Mapping]],2,FALSE)","v":"USA"},8,">5<=10","N. AMERICA",{"$f":"(G297/365)/L297","v":20.547945205479451}]
[null,"ID0299","2012-05-26T01:20:46",31000,31000,"USD",{"$f":"tblSalaries[[#This Row],[clean Salary (in local currency)]]*VLOOKUP(tblSalaries[[#This Row],[Currency]],tblXrate[],2,FALSE)","v":31000},"Support Specialist ","Specialist","USA",{"$f":"VLOOKUP(tblSalaries[[#This Row],[Where do you work]],tblCountries[[Actual]:[Mapping]],2,FALSE)","v":"USA"},3,">5<=10","N. AMERICA",{"$f":"(G298/365)/L298","v":28.310502283105023}]
[null,"ID0300","2012-05-26T01:21:06",75000,75000,"USD",{"$f":"tblSalaries[[#This Row],[clean Salary (in local currency)]]*VLOOKUP(tblSalaries[[#This Row],[Currency]],tblXrate[],2,FALSE)","v":75000},"FA","Analyst","USA",{"$f":"VLOOKUP(tblSalaries[[#This Row],[Where do you work]],tblCountries[[Actual]:[Mapping]],2,FALSE)","v":"USA"},6,">20","N. AMERICA",{"$f":"(G299/365)/L299","v":34.246575342465754}]
[null,"ID0301","2012-05-26T01:22:09",16000,16000,"USD",{"$f":"tblSalaries[[#This Row],[clean Salary (in local currency)]]*VLOOKUP(tblSalaries[[#This Row],[Currency]],tblXrate[],2,FALSE)","v":16000},"VP of Finance","CXO or Top Mgmt.","USA",{"$f":"VLOOKUP(tblSalaries[[#This Row],[Where do you work]],tblCountries[[Actual]:[Mapping]],2,FALSE)","v":"USA"},2,">10<=20","N. AMERICA",{"$f":"(G300/365)/L300","v":21.917808219178081}]
[null,"ID0302","2012-05-26T01:22:22","36,000 USD",36000,"USD",{"$f":"tblSalaries[[#This Row],[clean Salary (in local currency)]]*VLOOKUP(tblSalaries[[#This Row],[Currency]],tblXrate[],2,FALSE)","v":36000},"PRODUCTION ASSISTANT","Analyst","USA",{"$f":"VLOOKUP(tblSalaries[[#This Row],[Where do you work]],tblCountries[[Actual]:[Mapping]],2,FALSE)","v":"USA"},8,">5<=10","N. AMERICA",{"$f":"(G301/365)/L301","v":12.328767123287671}]
[null,"ID0303","2012-05-26T01:22:40",42000,42000,"CAD",{"$f":"tblSalaries[[#This Row],[clean Salary (in local currency)]]*VLOOKUP(tblSalaries[[#This Row],[Currency]],tblXrate[],2,FALSE)","v":41301.183967273726},"Financial Analyst","Analyst","Canada",{"$f":"VLOOKUP(tblSalaries[[#This Row],[Where do you work]],tblCountries[[Actual]:[Mapping]],2,FALSE)","v":"Canada"},8,"<=5","N. AMERICA",{"$f":"(G302/365)/L302","v":14.144241084682783}]
[null,"ID0304","2012-05-26T01:22:45",53000,53000,"USD",{"$f":"tblSalaries[[#This Row],[clean Salary (in local currency)]]*VLOOKUP(tblSalaries[[#This Row],[Currency]],tblXrate[],2,FALSE)","v":53000},"Data Analyst","Analyst","USA",{"$f":"VLOOKUP(tblSalaries[[#This Row],[Where do you work]],tblCountries[[Actual]:[Mapping]],2,FALSE)","v":"USA"},6,">10<=20","N. AMERICA",{"$f":"(G303/365)/L303","v":24.200913242009133}]
[null,"ID0305","2012-05-26T01:22:48","65000 euro",65000,"EUR",{"$f":"tblSalaries[[#This Row],[clean Salary (in local currency)]]*VLOOKUP(tblSalaries[[#This Row],[Currency]],tblXrate[],2,FALSE)","v":82575.963534454509},"controller","Controller","germany",{"$f":"VLOOKUP(tblSalaries[[#This Row],[Where do you work]],tblCountries[[Actual]:[Mapping]],2,FALSE)","v":"Germany"},8,">20","EUROPE",{"$f":"(G304/365)/L304","v":28.279439566594011}]
[null,"ID0306","2012-05-26T01:22:56",67000,67000,"USD",{"$f":"tblSalaries[[#This Row],[clean Salary (in local currency)]]*VLOOKUP(tblSalaries[[#This Row],[Currency]],tblXrate[],2,FALSE)","v":67000},"HR Analyst","Analyst","USA",{"$f":"VLOOKUP(tblSalaries[[#This Row],[Where do you work]],tblCountries[[Actual]:[Mapping]],2,FALSE)","v":"USA"},6,"<=5","N. AMERICA",{"$f":"(G305/365)/L305","v":30.593607305936075}]
[null,"ID0307","2012-05-26T01:23:21",12000,12000,"USD",{"$f":"tblSalaries[[#This Row],[clean Salary (in local currency)]]*VLOOKUP(tblSalaries[[#This Row],[Currency]],tblXrate[],2,FALSE)","v":12000},"Analyst","Analyst","India",{"$f":"VLOOKUP(tblSalaries[[#This Row],[Where do you work]],tblCountries[[Actual]:[Mapping]],2,FALSE)","v":"India"},8,">20","ASIA",{"$f":"(G306/365)/L306","v":4.1095890410958908}]
[null,"ID0308","2012-05-26T01:23:43",85000,85000,"USD",{"$f":"tblSalaries[[#This Row],[clean Salary (in local currency)]]*VLOOKUP(tblSalaries[[#This Row],[Currency]],tblXrate[],2,FALSE)","v":85000},"Plant Controller","Controller","USA",{"$f":"VLOOKUP(tblSalaries[[#This Row],[Where do you work]],tblCountries[[Actual]:[Mapping]],2,FALSE)","v":"USA"},8,">10<=20","N. AMERICA",{"$f":"(G307/365)/L307","v":29.109589041095891}]
[null,"ID0309","2012-05-26T01:23:50",200000,200000,"EUR",{"$f":"tblSalaries[[#This Row],[clean Salary (in local currency)]]*VLOOKUP(tblSalaries[[#This Row],[Currency]],tblXrate[],2,FALSE)","v":254079.88779832155},"consultant bi","Reporting","The netherlands",{"$f":"VLOOKUP(tblSalaries[[#This Row],[Where do you work]],tblCountries[[Actual]:[Mapping]],2,FALSE)","v":"Netherlands"},8,"<=5","EUROPE",{"$f":"(G308/365)/L308","v":87.013660204904639}]
[null,"ID0310","2012-05-26T01:23:57",40000,40000,"USD",{"$f":"tblSalaries[[#This Row],[clean Salary (in local currency)]]*VLOOKUP(tblSalaries[[#This Row],[Currency]],tblXrate[],2,FALSE)","v":40000},"Royalties Coordinator","Manager","USA",{"$f":"VLOOKUP(tblSalaries[[#This Row],[Where do you work]],tblCountries[[Actual]:[Mapping]],2,FALSE)","v":"USA"},6,">10<=20","N. AMERICA",{"$f":"(G309/365)/L309","v":18.264840182648403}]
[null,"ID0311","2012-05-26T01:24:03","Â£20000/year but i work part time 30h/week",20000,"GBP",{"$f":"tblSalaries[[#This Row],[clean Salary (in local currency)]]*VLOOKUP(tblSalaries[[#This Row],[Currency]],tblXrate[],2,FALSE)","v":31523.565441345683},"Graduate Structural Engineer","Engineer","UK",{"$f":"VLOOKUP(tblSalaries[[#This Row],[Where do you work]],tblCountries[[Actual]:[Mapping]],2,FALSE)","v":"UK"},2,">20","EUROPE",{"$f":"(G310/365)/L310","v":43.182966358007782}]
[null,"ID0312","2012-05-26T01:25:05",41000,41000,"USD",{"$f":"tblSalaries[[#This Row],[clean Salary (in local currency)]]*VLOOKUP(tblSalaries[[#This Row],[Currency]],tblXrate[],2,FALSE)","v":41000},"Operations Analyst","Analyst","USA",{"$f":"VLOOKUP(tblSalaries[[#This Row],[Where do you work]],tblCountries[[Actual]:[Mapping]],2,FALSE)","v":"USA"},6,">20","N. AMERICA",{"$f":"(G311/365)/L311","v":18.721461187214611}]
[null,"ID0313","2012-05-26T01:25:06",1400000,1400000,"INR",{"$f":"tblSalaries[[#This Row],[clean Salary (in local currency)]]*VLOOKUP(tblSalaries[[#This Row],[Currency]],tblXrate[],2,FALSE)","v":24931.083362419595},"Marketing","Manager","India",{"$f":"VLOOKUP(tblSalaries[[#This Row],[Where do you work]],tblCountries[[Actual]:[Mapping]],2,FALSE)","v":"India"},2,">10<=20","ASIA",{"$f":"(G312/365)/L312","v":34.15216898961588}]
[null,"ID0314","2012-05-26T01:25:30",125000,125000,"USD",{"$f":"tblSalaries[[#This Row],[clean Salary (in local currency)]]*VLOOKUP(tblSalaries[[#This Row],[Currency]],tblXrate[],2,FALSE)","v":125000},"Finance, Manager ","Manager","USA",{"$f":"VLOOKUP(tblSalaries[[#This Row],[Where do you work]],tblCountries[[Actual]:[Mapping]],2,FALSE)","v":"USA"},6,">20","N. AMERICA",{"$f":"(G313/365)/L313","v":57.077625570776256}]
[null,"ID0315","2012-05-26T01:26:26",60000,60000,"CAD",{"$f":"tblSalaries[[#This Row],[clean Salary (in local currency)]]*VLOOKUP(tblSalaries[[#This Row],[Currency]],tblXrate[],2,FALSE)","v":59001.691381819612},"Sr. Business Analyst","Analyst","Canada",{"$f":"VLOOKUP(tblSalaries[[#This Row],[Where do you work]],tblCountries[[Actual]:[Mapping]],2,FALSE)","v":"Canada"},8,">20","N. AMERICA",{"$f":"(G314/365)/L314","v":20.206058692403978}]
[null,"ID0316","2012-05-26T01:26:37","150000 MXN",150000,"MXN",{"$f":"tblSalaries[[#This Row],[clean Salary (in local currency)]]*VLOOKUP(tblSalaries[[#This Row],[Currency]],tblXrate[],2,FALSE)","v":10956.982885192734},"Information Analyst","Analyst","Mexico",{"$f":"VLOOKUP(tblSalaries[[#This Row],[Where do you work]],tblCountries[[Actual]:[Mapping]],2,FALSE)","v":"Mexico"},8,">20","N. AMERICA",{"$f":"(G315/365)/L315","v":3.7523913990386077}]
[null,"ID0317","2012-05-26T01:26:52",70000,70000,"USD",{"$f":"tblSalaries[[#This Row],[clean Salary (in local currency)]]*VLOOKUP(tblSalaries[[#This Row],[Currency]],tblXrate[],2,FALSE)","v":70000},"Analyst","Analyst","USA",{"$f":"VLOOKUP(tblSalaries[[#This Row],[Where do you work]],tblCountries[[Actual]:[Mapping]],2,FALSE)","v":"USA"},3,">20","N. AMERICA",{"$f":"(G316/365)/L316","v":63.926940639269411}]
[null,"ID0318","2012-05-26T01:27:03",400000,400000,"USD",{"$f":"tblSalaries[[#This Row],[clean Salary (in local currency)]]*VLOOKUP(tblSalaries[[#This Row],[Currency]],tblXrate[],2,FALSE)","v":400000},"Financial Specialist","Specialist","USA",{"$f":"VLOOKUP(tblSalaries[[#This Row],[Where do you work]],tblCountries[[Actual]:[Mapping]],2,FALSE)","v":"USA"},8,">20","N. AMERICA",{"$f":"(G317/365)/L317","v":136.98630136986301}]
[null,"ID0319","2012-05-26T01:27:26",55,55000,"USD",{"$f":"tblSalaries[[#This Row],[clean Salary (in local currency)]]*VLOOKUP(tblSalaries[[#This Row],[Currency]],tblXrate[],2,FALSE)","v":55000},"Business Analyst","Analyst","USA",{"$f":"VLOOKUP(tblSalaries[[#This Row],[Where do you work]],tblCountries[[Actual]:[Mapping]],2,FALSE)","v":"USA"},6,">20","N. AMERICA",{"$f":"(G318/365)/L318","v":25.114155251141554}]
[null,"ID0320","2012-05-26T01:27:29",60000,60000,"USD",{"$f":"tblSalaries[[#This Row],[clean Salary (in local currency)]]*VLOOKUP(tblSalaries[[#This Row],[Currency]],tblXrate[],2,FALSE)","v":60000},"Management Analyst","Analyst","USA",{"$f":"VLOOKUP(tblSalaries[[#This Row],[Where do you work]],tblCountries[[Actual]:[Mapping]],2,FALSE)","v":"USA"},6,">20","N. AMERICA",{"$f":"(G319/365)/L319","v":27.397260273972602}]
[null,"ID0321","2012-05-26T01:27:44","INR 1000000",1000000,"INR",{"$f":"tblSalaries[[#This Row],[clean Salary (in local currency)]]*VLOOKUP(tblSalaries[[#This Row],[Currency]],tblXrate[],2,FALSE)","v":17807.916687442568},"Manager","Manager","India",{"$f":"VLOOKUP(tblSalaries[[#This Row],[Where do you work]],tblCountries[[Actual]:[Mapping]],2,FALSE)","v":"India"},6,">5<=10","ASIA",{"$f":"(G320/365)/L320","v":8.1314688070513998}]
[null,"ID0322","2012-05-26T01:27:52",40000,40000,"USD",{"$f":"tblSalaries[[#This Row],[clean Salary (in local currency)]]*VLOOKUP(tblSalaries[[#This Row],[Currency]],tblXrate[],2,FALSE)","v":40000},"Dp manager","Manager","Hungary",{"$f":"VLOOKUP(tblSalaries[[#This Row],[Where do you work]],tblCountries[[Actual]:[Mapping]],2,FALSE)","v":"Hungary"},6,">20","EUROPE",{"$f":"(G321/365)/L321","v":18.264840182648403}]
[null,"ID0323","2012-05-26T01:28:37",137500,137500,"USD",{"$f":"tblSalaries[[#This Row],[clean Salary (in local currency)]]*VLOOKUP(tblSalaries[[#This Row],[Currency]],tblXrate[],2,FALSE)","v":137500},"director of analytics","Analyst","USA",{"$f":"VLOOKUP(tblSalaries[[#This Row],[Where do you work]],tblCountries[[Actual]:[Mapping]],2,FALSE)","v":"USA"},6,">20","N. AMERICA",{"$f":"(G322/365)/L322","v":62.785388127853878}]
[null,"ID0324","2012-05-26T01:29:32","US$ 4.545",4545,"USD",{"$f":"tblSalaries[[#This Row],[clean Salary (in local currency)]]*VLOOKUP(tblSalaries[[#This Row],[Currency]],tblXrate[],2,FALSE)","v":4545},"Supply Processes Analyst","Analyst","Brasil",{"$f":"VLOOKUP(tblSalaries[[#This Row],[Where do you work]],tblCountries[[Actual]:[Mapping]],2,FALSE)","v":"Brazil"},8,">5<=10"," S. AMERICA",{"$f":"(G323/365)/L323","v":1.5565068493150684}]
[null,"ID0325","2012-05-26T01:29:37","Â£29000",29000,"GBP",{"$f":"tblSalaries[[#This Row],[clean Salary (in local currency)]]*VLOOKUP(tblSalaries[[#This Row],[Currency]],tblXrate[],2,FALSE)","v":45709.169889951241},"ICT Technical Analyst","Analyst","UK",{"$f":"VLOOKUP(tblSalaries[[#This Row],[Where do you work]],tblCountries[[Actual]:[Mapping]],2,FALSE)","v":"UK"},6,">20","EUROPE",{"$f":"(G324/365)/L324","v":20.871767073037095}]
[null,"ID0326","2012-05-26T01:30:12",47000,47000,"USD",{"$f":"tblSalaries[[#This Row],[clean Salary (in local currency)]]*VLOOKUP(tblSalaries[[#This Row],[Currency]],tblXrate[],2,FALSE)","v":47000},"Sourcing Specialist","Specialist","USA",{"$f":"VLOOKUP(tblSalaries[[#This Row],[Where do you work]],tblCountries[[Actual]:[Mapping]],2,FALSE)","v":"USA"},6,">20","N. AMERICA",{"$f":"(G325/365)/L325","v":21.461187214611872}]
[null,"ID0327","2012-05-26T01:30:39",65000,65000,"USD",{"$f":"tblSalaries[[#This Row],[clean Salary (in local currency)]]*VLOOKUP(tblSalaries[[#This Row],[Currency]],tblXrate[],2,FALSE)","v":65000},"business analyst","Analyst","USA",{"$f":"VLOOKUP(tblSalaries[[#This Row],[Where do you work]],tblCountries[[Actual]:[Mapping]],2,FALSE)","v":"USA"},8,">20","N. AMERICA",{"$f":"(G326/365)/L326","v":22.260273972602739}]
[null,"ID0328","2012-05-26T01:30:56","PhP 456,000",456000,"PHP",{"$f":"tblSalaries[[#This Row],[clean Salary (in local currency)]]*VLOOKUP(tblSalaries[[#This Row],[Currency]],tblXrate[],2,FALSE)","v":10809.503829551191},"Reporting Shared Services Oferring Lead","Reporting","Philippines",{"$f":"VLOOKUP(tblSalaries[[#This Row],[Where do you work]],tblCountries[[Actual]:[Mapping]],2,FALSE)","v":"Philippines"},6,">10<=20","ASIA",{"$f":"(G327/365)/L327","v":4.9358464975119594}]
[null,"ID0329","2012-05-26T01:31:26",92000,92000,"USD",{"$f":"tblSalaries[[#This Row],[clean Salary (in local currency)]]*VLOOKUP(tblSalaries[[#This Row],[Currency]],tblXrate[],2,FALSE)","v":92000},"Sales Analytics Manager","Manager","USA",{"$f":"VLOOKUP(tblSalaries[[#This Row],[Where do you work]],tblCountries[[Actual]:[Mapping]],2,FALSE)","v":"USA"},6,">20","N. AMERICA",{"$f":"(G328/365)/L328","v":42.009132420091326}]
[null,"ID0330","2012-05-26T01:31:42","22000 usd",22000,"USD",{"$f":"tblSalaries[[#This Row],[clean Salary (in local currency)]]*VLOOKUP(tblSalaries[[#This Row],[Currency]],tblXrate[],2,FALSE)","v":22000},"Product Manager Sr","Manager","Mexico",{"$f":"VLOOKUP(tblSalaries[[#This Row],[Where do you work]],tblCountries[[Actual]:[Mapping]],2,FALSE)","v":"Mexico"},6,">20","N. AMERICA",{"$f":"(G329/365)/L329","v":10.045662100456621}]
[null,"ID0331","2012-05-26T01:31:58",108000,108000,"USD",{"$f":"tblSalaries[[#This Row],[clean Salary (in local currency)]]*VLOOKUP(tblSalaries[[#This Row],[Currency]],tblXrate[],2,FALSE)","v":108000},"Database Architect","Manager","USA",{"$f":"VLOOKUP(tblSalaries[[#This Row],[Where do you work]],tblCountries[[Actual]:[Mapping]],2,FALSE)","v":"USA"},3,">5<=10","N. AMERICA",{"$f":"(G330/365)/L330","v":98.630136986301366}]
[null,"ID0332","2012-05-26T01:32:08",61000,61000,"USD",{"$f":"tblSalaries[[#This Row],[clean Salary (in local currency)]]*VLOOKUP(tblSalaries[[#This Row],[Currency]],tblXrate[],2,FALSE)","v":61000},"Data Analyst","Analyst","USA",{"$f":"VLOOKUP(tblSalaries[[#This Row],[Where do you work]],tblCountries[[Actual]:[Mapping]],2,FALSE)","v":"USA"},2,">20","N. AMERICA",{"$f":"(G331/365)/L331","v":83.561643835616437}]
[null,"ID0333","2012-05-26T01:32:14","CAD 65000",65000,"CAD",{"$f":"tblSalaries[[#This Row],[clean Salary (in local currency)]]*VLOOKUP(tblSalaries[[#This Row],[Currency]],tblXrate[],2,FALSE)","v":63918.498996971248},"Product developer","Manager","CANADA",{"$f":"VLOOKUP(tblSalaries[[#This Row],[Where do you work]],tblCountries[[Actual]:[Mapping]],2,FALSE)","v":"Canada"},3,">10<=20","N. AMERICA",{"$f":"(G332/365)/L332","v":58.373058444722602}]
[null,"ID0334","2012-05-26T01:32:26",50000,50000,"USD",{"$f":"tblSalaries[[#This Row],[clean Salary (in local currency)]]*VLOOKUP(tblSalaries[[#This Row],[Currency]],tblXrate[],2,FALSE)","v":50000},"Supply Chain Analyst","Analyst","USA",{"$f":"VLOOKUP(tblSalaries[[#This Row],[Where do you work]],tblCountries[[Actual]:[Mapping]],2,FALSE)","v":"USA"},8,">20","N. AMERICA",{"$f":"(G333/365)/L333","v":17.123287671232877}]
[null,"ID0335","2012-05-26T01:33:03",150000,150000,"USD",{"$f":"tblSalaries[[#This Row],[clean Salary (in local currency)]]*VLOOKUP(tblSalaries[[#This Row],[Currency]],tblXrate[],2,FALSE)","v":150000},"financial planning","Accountant","USA",{"$f":"VLOOKUP(tblSalaries[[#This Row],[Where do you work]],tblCountries[[Actual]:[Mapping]],2,FALSE)","v":"USA"},8,">20","N. AMERICA",{"$f":"(G334/365)/L334","v":51.369863013698627}]
[null,"ID0336","2012-05-26T01:33:37","400000 INR",400000,"INR",{"$f":"tblSalaries[[#This Row],[clean Salary (in local currency)]]*VLOOKUP(tblSalaries[[#This Row],[Currency]],tblXrate[],2,FALSE)","v":7123.1666749770275},"Test Analyst","Analyst","India",{"$f":"VLOOKUP(tblSalaries[[#This Row],[Where do you work]],tblCountries[[Actual]:[Mapping]],2,FALSE)","v":"India"},6,">20","ASIA",{"$f":"(G335/365)/L335","v":3.2525875228205603}]
[null,"ID0337","2012-05-26T01:33:45",150000,150000,"USD",{"$f":"tblSalaries[[#This Row],[clean Salary (in local currency)]]*VLOOKUP(tblSalaries[[#This Row],[Currency]],tblXrate[],2,FALSE)","v":150000},"project manager, project finance consultant","Manager","Israel",{"$f":"VLOOKUP(tblSalaries[[#This Row],[Where do you work]],tblCountries[[Actual]:[Mapping]],2,FALSE)","v":"Israel"},6,">20","ASIA",{"$f":"(G336/365)/L336","v":68.493150684931507}]
[null,"ID0338","2012-05-26T01:34:56",45000,45000,"USD",{"$f":"tblSalaries[[#This Row],[clean Salary (in local currency)]]*VLOOKUP(tblSalaries[[#This Row],[Currency]],tblXrate[],2,FALSE)","v":45000},"QC Fabrication Inspector","Specialist","USA",{"$f":"VLOOKUP(tblSalaries[[#This Row],[Where do you work]],tblCountries[[Actual]:[Mapping]],2,FALSE)","v":"USA"},6,">20","N. AMERICA",{"$f":"(G337/365)/L337","v":20.547945205479454}]
[null,"ID0339","2012-05-26T01:35:02",135000,135000,"USD",{"$f":"tblSalaries[[#This Row],[clean Salary (in local currency)]]*VLOOKUP(tblSalaries[[#This Row],[Currency]],tblXrate[],2,FALSE)","v":135000},"Manager of Trade Investment & Analysis","Manager","USA",{"$f":"VLOOKUP(tblSalaries[[#This Row],[Where do you work]],tblCountries[[Actual]:[Mapping]],2,FALSE)","v":"USA"},8,">20","N. AMERICA",{"$f":"(G338/365)/L338","v":46.232876712328768}]
[null,"ID0340","2012-05-26T01:35:18","30000 Rs",360000,"INR",{"$f":"tblSalaries[[#This Row],[clean Salary (in local currency)]]*VLOOKUP(tblSalaries[[#This Row],[Currency]],tblXrate[],2,FALSE)","v":6410.8500074793246},"Business Analysit","Analyst","India",{"$f":"VLOOKUP(tblSalaries[[#This Row],[Where do you work]],tblCountries[[Actual]:[Mapping]],2,FALSE)","v":"India"},3,"<=5","ASIA",{"$f":"(G339/365)/L339","v":5.8546575410770094}]
[null,"ID0341","2012-05-26T01:35:35",29000,29000,"USD",{"$f":"tblSalaries[[#This Row],[clean Salary (in local currency)]]*VLOOKUP(tblSalaries[[#This Row],[Currency]],tblXrate[],2,FALSE)","v":29000},"Assistant Outside Plant Project Manager","Manager","USA",{"$f":"VLOOKUP(tblSalaries[[#This Row],[Where do you work]],tblCountries[[Actual]:[Mapping]],2,FALSE)","v":"USA"},6,">20","N. AMERICA",{"$f":"(G340/365)/L340","v":13.242009132420092}]
[null,"ID0342","2012-05-26T01:37:33",13000,13000,"USD",{"$f":"tblSalaries[[#This Row],[clean Salary (in local currency)]]*VLOOKUP(tblSalaries[[#This Row],[Currency]],tblXrate[],2,FALSE)","v":13000},"operation-manager","Manager","India",{"$f":"VLOOKUP(tblSalaries[[#This Row],[Where do you work]],tblCountries[[Actual]:[Mapping]],2,FALSE)","v":"India"},8,">20","ASIA",{"$f":"(G341/365)/L341","v":4.4520547945205475}]
[null,"ID0343","2012-05-26T01:38:06","63000 USD",63000,"USD",{"$f":"tblSalaries[[#This Row],[clean Salary (in local currency)]]*VLOOKUP(tblSalaries[[#This Row],[Currency]],tblXrate[],2,FALSE)","v":63000},"Sales Analyst","Analyst","USA",{"$f":"VLOOKUP(tblSalaries[[#This Row],[Where do you work]],tblCountries[[Actual]:[Mapping]],2,FALSE)","v":"USA"},8,">10<=20","N. AMERICA",{"$f":"(G342/365)/L342","v":21.575342465753426}]
[null,"ID0344","2012-05-26T01:38:06",95000,95000,"USD",{"$f":"tblSalaries[[#This Row],[clean Salary (in local currency)]]*VLOOKUP(tblSalaries[[#This Row],[Currency]],tblXrate[],2,FALSE)","v":95000},"Senior Financial Analyst","Analyst","USA",{"$f":"VLOOKUP(tblSalaries[[#This Row],[Where do you work]],tblCountries[[Actual]:[Mapping]],2,FALSE)","v":"USA"},6,">20","N. AMERICA",{"$f":"(G343/365)/L343","v":43.378995433789953}]
[null,"ID0346","2012-05-26T01:38:51","100,000 US$ equiv",100000,"USD",{"$f":"tblSalaries[[#This Row],[clean Salary (in local currency)]]*VLOOKUP(tblSalaries[[#This Row],[Currency]],tblXrate[],2,FALSE)","v":100000},"Senior Data Analyst","Analyst","UK",{"$f":"VLOOKUP(tblSalaries[[#This Row],[Where do you work]],tblCountries[[Actual]:[Mapping]],2,FALSE)","v":"UK"},6,">5<=10","EUROPE",{"$f":"(G344/365)/L344","v":45.662100456621005}]
[null,"ID0347","2012-05-26T01:39:37","3.8 k",3800,"USD",{"$f":"tblSalaries[[#This Row],[clean Salary (in local currency)]]*VLOOKUP(tblSalaries[[#This Row],[Currency]],tblXrate[],2,FALSE)","v":3800},"MIS EXCUTIVE","Reporting","India",{"$f":"VLOOKUP(tblSalaries[[#This Row],[Where do you work]],tblCountries[[Actual]:[Mapping]],2,FALSE)","v":"India"},6,"<=5","ASIA",{"$f":"(G345/365)/L345","v":1.7351598173515983}]
[null,"ID0348","2012-05-26T01:40:05",950,11400,"USD",{"$f":"tblSalaries[[#This Row],[clean Salary (in local currency)]]*VLOOKUP(tblSalaries[[#This Row],[Currency]],tblXrate[],2,FALSE)","v":11400},"Advisor","Consultant","Brazil",{"$f":"VLOOKUP(tblSalaries[[#This Row],[Where do you work]],tblCountries[[Actual]:[Mapping]],2,FALSE)","v":"Brazil"},6,">10<=20"," S. AMERICA",{"$f":"(G346/365)/L346","v":5.2054794520547949}]
[null,"ID0349","2012-05-26T01:40:18",56000,56000,"CAD",{"$f":"tblSalaries[[#This Row],[clean Salary (in local currency)]]*VLOOKUP(tblSalaries[[#This Row],[Currency]],tblXrate[],2,FALSE)","v":55068.245289698301},"Online Analyst","Analyst","Canada",{"$f":"VLOOKUP(tblSalaries[[#This Row],[Where do you work]],tblCountries[[Actual]:[Mapping]],2,FALSE)","v":"Canada"},6,">5<=10","N. AMERICA",{"$f":"(G347/365)/L347","v":25.145317483880504}]
[null,"ID0350","2012-05-26T01:40:28",53000,53000,"USD",{"$f":"tblSalaries[[#This Row],[clean Salary (in local currency)]]*VLOOKUP(tblSalaries[[#This Row],[Currency]],tblXrate[],2,FALSE)","v":53000},"General Manager","Manager","USA",{"$f":"VLOOKUP(tblSalaries[[#This Row],[Where do you work]],tblCountries[[Actual]:[Mapping]],2,FALSE)","v":"USA"},3,"<=5","N. AMERICA",{"$f":"(G348/365)/L348","v":48.401826484018265}]
[null,"ID0351","2012-05-26T01:40:51",130000,130000,"USD",{"$f":"tblSalaries[[#This Row],[clean Salary (in local currency)]]*VLOOKUP(tblSalaries[[#This Row],[Currency]],tblXrate[],2,FALSE)","v":130000},"Sr Staff Engineer","Engineer","USA",{"$f":"VLOOKUP(tblSalaries[[#This Row],[Where do you work]],tblCountries[[Actual]:[Mapping]],2,FALSE)","v":"USA"},6,">10<=20","N. AMERICA",{"$f":"(G349/365)/L349","v":59.360730593607308}]
[null,"ID0352","2012-05-26T01:41:32","3,70,000",370000,"INR",{"$f":"tblSalaries[[#This Row],[clean Salary (in local currency)]]*VLOOKUP(tblSalaries[[#This Row],[Currency]],tblXrate[],2,FALSE)","v":6588.9291743537506},"Senior Design Associate","Analyst","India",{"$f":"VLOOKUP(tblSalaries[[#This Row],[Where do you work]],tblCountries[[Actual]:[Mapping]],2,FALSE)","v":"India"},8,">10<=20","ASIA",{"$f":"(G350/365)/L350","v":2.2564825939567639}]
[null,"ID0353","2012-05-26T01:41:53",160000,160000,"CAD",{"$f":"tblSalaries[[#This Row],[clean Salary (in local currency)]]*VLOOKUP(tblSalaries[[#This Row],[Currency]],tblXrate[],2,FALSE)","v":157337.8436848523},"Consultant","Consultant","Canada",{"$f":"VLOOKUP(tblSalaries[[#This Row],[Where do you work]],tblCountries[[Actual]:[Mapping]],2,FALSE)","v":"Canada"},3,">10<=20","N. AMERICA",{"$f":"(G351/365)/L351","v":143.68752847931717}]
[null,"ID0354","2012-05-26T01:41:54",44200,44200,"USD",{"$f":"tblSalaries[[#This Row],[clean Salary (in local currency)]]*VLOOKUP(tblSalaries[[#This Row],[Currency]],tblXrate[],2,FALSE)","v":44200},"Planning and Analysis Supervisor","Analyst","USA",{"$f":"VLOOKUP(tblSalaries[[#This Row],[Where do you work]],tblCountries[[Actual]:[Mapping]],2,FALSE)","v":"USA"},8,">20","N. AMERICA",{"$f":"(G352/365)/L352","v":15.136986301369863}]
[null,"ID0355","2012-05-26T01:42:07",56000,56000,"USD",{"$f":"tblSalaries[[#This Row],[clean Salary (in local currency)]]*VLOOKUP(tblSalaries[[#This Row],[Currency]],tblXrate[],2,FALSE)","v":56000},"asset manager","Manager","USA",{"$f":"VLOOKUP(tblSalaries[[#This Row],[Where do you work]],tblCountries[[Actual]:[Mapping]],2,FALSE)","v":"USA"},3,"<=5","N. AMERICA",{"$f":"(G353/365)/L353","v":51.141552511415519}]
[null,"ID0356","2012-05-26T01:42:27",72500,72500,"USD",{"$f":"tblSalaries[[#This Row],[clean Salary (in local currency)]]*VLOOKUP(tblSalaries[[#This Row],[Currency]],tblXrate[],2,FALSE)","v":72500},"Transportation Engineer","Engineer","USA",{"$f":"VLOOKUP(tblSalaries[[#This Row],[Where do you work]],tblCountries[[Actual]:[Mapping]],2,FALSE)","v":"USA"},3,">10<=20","N. AMERICA",{"$f":"(G354/365)/L354","v":66.210045662100455}]
[null,"ID0357","2012-05-26T01:42:31",75000,75000,"CAD",{"$f":"tblSalaries[[#This Row],[clean Salary (in local currency)]]*VLOOKUP(tblSalaries[[#This Row],[Currency]],tblXrate[],2,FALSE)","v":73752.11422727452},"web marketing analyst","Analyst","canada",{"$f":"VLOOKUP(tblSalaries[[#This Row],[Where do you work]],tblCountries[[Actual]:[Mapping]],2,FALSE)","v":"Canada"},6,">20","N. AMERICA",{"$f":"(G355/365)/L355","v":33.676764487339959}]
[null,"ID0358","2012-05-26T01:42:53","170000 usd",170000,"USD",{"$f":"tblSalaries[[#This Row],[clean Salary (in local currency)]]*VLOOKUP(tblSalaries[[#This Row],[Currency]],tblXrate[],2,FALSE)","v":170000},"RS","Analyst","UK",{"$f":"VLOOKUP(tblSalaries[[#This Row],[Where do you work]],tblCountries[[Actual]:[Mapping]],2,FALSE)","v":"UK"},8,">10<=20","EUROPE",{"$f":"(G356/365)/L356","v":58.219178082191782}]
[null,"ID0359","2012-05-26T01:43:48",68000,68000,"USD",{"$f":"tblSalaries[[#This Row],[clean Salary (in local currency)]]*VLOOKUP(tblSalaries[[#This Row],[Currency]],tblXrate[],2,FALSE)","v":68000},"Project Manager","Manager","USA",{"$f":"VLOOKUP(tblSalaries[[#This Row],[Where do you work]],tblCountries[[Actual]:[Mapping]],2,FALSE)","v":"USA"},3,">20","N. AMERICA",{"$f":"(G357/365)/L357","v":62.100456621004561}]
[null,"ID0360","2012-05-26T01:44:59",75000,75000,"USD",{"$f":"tblSalaries[[#This Row],[clean Salary (in local currency)]]*VLOOKUP(tblSalaries[[#This Row],[Currency]],tblXrate[],2,FALSE)","v":75000},"Sr. Financial Analyst","Analyst","USA",{"$f":"VLOOKUP(tblSalaries[[#This Row],[Where do you work]],tblCountries[[Actual]:[Mapping]],2,FALSE)","v":"USA"},8,">20","N. AMERICA",{"$f":"(G358/365)/L358","v":25.684931506849313}]
[null,"ID0361","2012-05-26T01:45:50","62500.00 USD",62500,"USD",{"$f":"tblSalaries[[#This Row],[clean Salary (in local currency)]]*VLOOKUP(tblSalaries[[#This Row],[Currency]],tblXrate[],2,FALSE)","v":62500},"Director of Payroll","CXO or Top Mgmt.","USA",{"$f":"VLOOKUP(tblSalaries[[#This Row],[Where do you work]],tblCountries[[Actual]:[Mapping]],2,FALSE)","v":"USA"},8,">10<=20","N. AMERICA",{"$f":"(G359/365)/L359","v":21.404109589041095}]
[null,"ID0362","2012-05-26T01:45:58",25000,25000,"USD",{"$f":"tblSalaries[[#This Row],[clean Salary (in local currency)]]*VLOOKUP(tblSalaries[[#This Row],[Currency]],tblXrate[],2,FALSE)","v":25000},"Manager","Manager","India",{"$f":"VLOOKUP(tblSalaries[[#This Row],[Where do you work]],tblCountries[[Actual]:[Mapping]],2,FALSE)","v":"India"},6,">10<=20","ASIA",{"$f":"(G360/365)/L360","v":11.415525114155251}]
[null,"ID0363","2012-05-26T01:46:24","480 000 SEK / 70000 US$",480000,"SEK",{"$f":"tblSalaries[[#This Row],[clean Salary (in local currency)]]*VLOOKUP(tblSalaries[[#This Row],[Currency]],tblXrate[],2,FALSE)","v":68954.520184280962},"IT consultant","Consultant","Sweden",{"$f":"VLOOKUP(tblSalaries[[#This Row],[Where do you work]],tblCountries[[Actual]:[Mapping]],2,FALSE)","v":"Sweden"},2,">20","EUROPE",{"$f":"(G361/365)/L361","v":94.458246827782133}]
[null,"ID0365","2012-05-26T01:49:19",85000,85000,"USD",{"$f":"tblSalaries[[#This Row],[clean Salary (in local currency)]]*VLOOKUP(tblSalaries[[#This Row],[Currency]],tblXrate[],2,FALSE)","v":85000},"Sr. Financial Analyst","Analyst","USA",{"$f":"VLOOKUP(tblSalaries[[#This Row],[Where do you work]],tblCountries[[Actual]:[Mapping]],2,FALSE)","v":"USA"},6,">20","N. AMERICA",{"$f":"(G362/365)/L362","v":38.812785388127857}]
[null,"ID0366","2012-05-26T01:49:55",43000,43000,"GBP",{"$f":"tblSalaries[[#This Row],[clean Salary (in local currency)]]*VLOOKUP(tblSalaries[[#This Row],[Currency]],tblXrate[],2,FALSE)","v":67775.665698893223},"Commercial Manager","Manager","UK",{"$f":"VLOOKUP(tblSalaries[[#This Row],[Where do you work]],tblCountries[[Actual]:[Mapping]],2,FALSE)","v":"UK"},6,">5<=10","EUROPE",{"$f":"(G363/365)/L363","v":30.947792556572249}]
[null,"ID0367","2012-05-26T01:49:56",89000,89000,"USD",{"$f":"tblSalaries[[#This Row],[clean Salary (in local currency)]]*VLOOKUP(tblSalaries[[#This Row],[Currency]],tblXrate[],2,FALSE)","v":89000},"Quality Assurance Officer","Manager","USA",{"$f":"VLOOKUP(tblSalaries[[#This Row],[Where do you work]],tblCountries[[Actual]:[Mapping]],2,FALSE)","v":"USA"},6,">20","N. AMERICA",{"$f":"(G364/365)/L364","v":40.639269406392692}]
[null,"ID0368","2012-05-26T01:50:00",35000,35000,"USD",{"$f":"tblSalaries[[#This Row],[clean Salary (in local currency)]]*VLOOKUP(tblSalaries[[#This Row],[Currency]],tblXrate[],2,FALSE)","v":35000},"Senior Treasury Analyst","Analyst","Brasil",{"$f":"VLOOKUP(tblSalaries[[#This Row],[Where do you work]],tblCountries[[Actual]:[Mapping]],2,FALSE)","v":"Brazil"},8,">10<=20"," S. AMERICA",{"$f":"(G365/365)/L365","v":11.986301369863014}]
[null,"ID0369","2012-05-26T01:50:28",47500,47500,"USD",{"$f":"tblSalaries[[#This Row],[clean Salary (in local currency)]]*VLOOKUP(tblSalaries[[#This Row],[Currency]],tblXrate[],2,FALSE)","v":47500},"Supervisor, Contracts, Rebates, Chargebacks and Returns","Manager","USA",{"$f":"VLOOKUP(tblSalaries[[#This Row],[Where do you work]],tblCountries[[Actual]:[Mapping]],2,FALSE)","v":"USA"},8,">20","N. AMERICA",{"$f":"(G366/365)/L366","v":16.267123287671232}]
[null,"ID0370","2012-05-26T01:50:30",130000,130000,"USD",{"$f":"tblSalaries[[#This Row],[clean Salary (in local currency)]]*VLOOKUP(tblSalaries[[#This Row],[Currency]],tblXrate[],2,FALSE)","v":130000},"Project Manager","Manager","USA",{"$f":"VLOOKUP(tblSalaries[[#This Row],[Where do you work]],tblCountries[[Actual]:[Mapping]],2,FALSE)","v":"USA"},3,">10<=20","N. AMERICA",{"$f":"(G367/365)/L367","v":118.72146118721462}]
[null,"ID0371","2012-05-26T01:50:56",18000,18000,"USD",{"$f":"tblSalaries[[#This Row],[clean Salary (in local currency)]]*VLOOKUP(tblSalaries[[#This Row],[Currency]],tblXrate[],2,FALSE)","v":18000},"ceo","CXO or Top Mgmt.","India",{"$f":"VLOOKUP(tblSalaries[[#This Row],[Where do you work]],tblCountries[[Actual]:[Mapping]],2,FALSE)","v":"India"},3,">5<=10","ASIA",{"$f":"(G368/365)/L368","v":16.43835616438356}]
[null,"ID0372","2012-05-26T01:50:59","480000 Rs.",480000,"INR",{"$f":"tblSalaries[[#This Row],[clean Salary (in local currency)]]*VLOOKUP(tblSalaries[[#This Row],[Currency]],tblXrate[],2,FALSE)","v":8547.8000099724322},"System Manager","Manager","India",{"$f":"VLOOKUP(tblSalaries[[#This Row],[Where do you work]],tblCountries[[Actual]:[Mapping]],2,FALSE)","v":"India"},2,">20","ASIA",{"$f":"(G369/365)/L369","v":11.709315082154017}]
[null,"ID0373","2012-05-26T01:51:24",41932,41932,"USD",{"$f":"tblSalaries[[#This Row],[clean Salary (in local currency)]]*VLOOKUP(tblSalaries[[#This Row],[Currency]],tblXrate[],2,FALSE)","v":41932},"Buyer","Manager","USA",{"$f":"VLOOKUP(tblSalaries[[#This Row],[Where do you work]],tblCountries[[Actual]:[Mapping]],2,FALSE)","v":"USA"},3,">10<=20","N. AMERICA",{"$f":"(G370/365)/L370","v":38.294063926940638}]
[null,"ID0374","2012-05-26T01:52:01","2207,00",220700,"USD",{"$f":"tblSalaries[[#This Row],[clean Salary (in local currency)]]*VLOOKUP(tblSalaries[[#This Row],[Currency]],tblXrate[],2,FALSE)","v":220700},"Consultant","Consultant","Brazil",{"$f":"VLOOKUP(tblSalaries[[#This Row],[Where do you work]],tblCountries[[Actual]:[Mapping]],2,FALSE)","v":"Brazil"},8,">20"," S. AMERICA",{"$f":"(G371/365)/L371","v":75.582191780821915}]
[null,"ID0375","2012-05-26T01:52:04",194000,194000,"USD",{"$f":"tblSalaries[[#This Row],[clean Salary (in local currency)]]*VLOOKUP(tblSalaries[[#This Row],[Currency]],tblXrate[],2,FALSE)","v":194000},"director","CXO or Top Mgmt.","USA",{"$f":"VLOOKUP(tblSalaries[[#This Row],[Where do you work]],tblCountries[[Actual]:[Mapping]],2,FALSE)","v":"USA"},3,">20","N. AMERICA",{"$f":"(G372/365)/L372","v":177.16894977168951}]
[null,"ID0376","2012-05-26T01:54:28",9000000,9000000,"INR",{"$f":"tblSalaries[[#This Row],[clean Salary (in local currency)]]*VLOOKUP(tblSalaries[[#This Row],[Currency]],tblXrate[],2,FALSE)","v":160271.25018698312},"Financial Analyst","Analyst","India",{"$f":"VLOOKUP(tblSalaries[[#This Row],[Where do you work]],tblCountries[[Actual]:[Mapping]],2,FALSE)","v":"India"},6,"<=5","ASIA",{"$f":"(G373/365)/L373","v":73.183219263462618}]
[null,"ID0377","2012-05-26T01:54:47","Rs. 500000",500000,"INR",{"$f":"tblSalaries[[#This Row],[clean Salary (in local currency)]]*VLOOKUP(tblSalaries[[#This Row],[Currency]],tblXrate[],2,FALSE)","v":8903.9583437212841},"Owner","Manager","India",{"$f":"VLOOKUP(tblSalaries[[#This Row],[Where do you work]],tblCountries[[Actual]:[Mapping]],2,FALSE)","v":"India"},3,"<=5","ASIA",{"$f":"(G374/365)/L374","v":8.1314688070513998}]
[null,"ID0378","2012-05-26T01:57:23",80000,80000,"CAD",{"$f":"tblSalaries[[#This Row],[clean Salary (in local currency)]]*VLOOKUP(tblSalaries[[#This Row],[Currency]],tblXrate[],2,FALSE)","v":78668.921842426149},"Senior Business Analyst","Analyst","Canada",{"$f":"VLOOKUP(tblSalaries[[#This Row],[Where do you work]],tblCountries[[Actual]:[Mapping]],2,FALSE)","v":"Canada"},6,"<=5","N. AMERICA",{"$f":"(G375/365)/L375","v":35.921882119829291}]
[null,"ID0379","2012-05-26T01:57:40",1500,18000,"EUR",{"$f":"tblSalaries[[#This Row],[clean Salary (in local currency)]]*VLOOKUP(tblSalaries[[#This Row],[Currency]],tblXrate[],2,FALSE)","v":22867.189901848938},"marketing and sales ","Manager","Portugal",{"$f":"VLOOKUP(tblSalaries[[#This Row],[Where do you work]],tblCountries[[Actual]:[Mapping]],2,FALSE)","v":"Portugal"},3,">10<=20","EUROPE",{"$f":"(G376/365)/L376","v":20.883278449177112}]
[null,"ID0380","2012-05-26T01:58:19","Â£60000",60000,"GBP",{"$f":"tblSalaries[[#This Row],[clean Salary (in local currency)]]*VLOOKUP(tblSalaries[[#This Row],[Currency]],tblXrate[],2,FALSE)","v":94570.696324037053},"Managing Director","CXO or Top Mgmt.","UK",{"$f":"VLOOKUP(tblSalaries[[#This Row],[Where do you work]],tblCountries[[Actual]:[Mapping]],2,FALSE)","v":"UK"},3,">20","EUROPE",{"$f":"(G377/365)/L377","v":86.365932716015564}]
[null,"ID0381","2012-05-26T01:58:42",95000,95000,"USD",{"$f":"tblSalaries[[#This Row],[clean Salary (in local currency)]]*VLOOKUP(tblSalaries[[#This Row],[Currency]],tblXrate[],2,FALSE)","v":95000},"Senior Financial Analyst","Analyst","USA",{"$f":"VLOOKUP(tblSalaries[[#This Row],[Where do you work]],tblCountries[[Actual]:[Mapping]],2,FALSE)","v":"USA"},8,">20","N. AMERICA",{"$f":"(G378/365)/L378","v":32.534246575342465}]
[null,"ID0382","2012-05-26T01:59:21","INR 5,40,000",540000,"INR",{"$f":"tblSalaries[[#This Row],[clean Salary (in local currency)]]*VLOOKUP(tblSalaries[[#This Row],[Currency]],tblXrate[],2,FALSE)","v":9616.275011218986},"Senior Billing Engineer","Engineer","India",{"$f":"VLOOKUP(tblSalaries[[#This Row],[Where do you work]],tblCountries[[Actual]:[Mapping]],2,FALSE)","v":"India"},6,">20","ASIA",{"$f":"(G379/365)/L379","v":4.390993155807756}]
[null,"ID0383","2012-05-26T01:59:40",48000,48000,"USD",{"$f":"tblSalaries[[#This Row],[clean Salary (in local currency)]]*VLOOKUP(tblSalaries[[#This Row],[Currency]],tblXrate[],2,FALSE)","v":48000},"Quality Analyst","Analyst","USA",{"$f":"VLOOKUP(tblSalaries[[#This Row],[Where do you work]],tblCountries[[Actual]:[Mapping]],2,FALSE)","v":"USA"},2,"<=5","N. AMERICA",{"$f":"(G380/365)/L380","v":65.753424657534254}]
[null,"ID0384","2012-05-26T01:59:45","46000 usd",46000,"USD",{"$f":"tblSalaries[[#This Row],[clean Salary (in local currency)]]*VLOOKUP(tblSalaries[[#This Row],[Currency]],tblXrate[],2,FALSE)","v":46000},"Financial analyst","Analyst","USA",{"$f":"VLOOKUP(tblSalaries[[#This Row],[Where do you work]],tblCountries[[Actual]:[Mapping]],2,FALSE)","v":"USA"},6,">20","N. AMERICA",{"$f":"(G381/365)/L381","v":21.004566210045663}]
[null,"ID0385","2012-05-26T01:59:48",15000,15000,"USD",{"$f":"tblSalaries[[#This Row],[clean Salary (in local currency)]]*VLOOKUP(tblSalaries[[#This Row],[Currency]],tblXrate[],2,FALSE)","v":15000},"Economist","Reporting","Ukraine",{"$f":"VLOOKUP(tblSalaries[[#This Row],[Where do you work]],tblCountries[[Actual]:[Mapping]],2,FALSE)","v":"Ukraine"},3,">10<=20","EUROPE",{"$f":"(G382/365)/L382","v":13.698630136986301}]
[null,"ID0386","2012-05-26T02:00:04","Rs 6.2 lakhs",620000,"INR",{"$f":"tblSalaries[[#This Row],[clean Salary (in local currency)]]*VLOOKUP(tblSalaries[[#This Row],[Currency]],tblXrate[],2,FALSE)","v":11040.908346214392},"assistant manager (finance)","Manager","India",{"$f":"VLOOKUP(tblSalaries[[#This Row],[Where do you work]],tblCountries[[Actual]:[Mapping]],2,FALSE)","v":"India"},2,">20","ASIA",{"$f":"(G383/365)/L383","v":15.124531981115606}]
[null,"ID0387","2012-05-26T02:00:10","Â£28000",28000,"GBP",{"$f":"tblSalaries[[#This Row],[clean Salary (in local currency)]]*VLOOKUP(tblSalaries[[#This Row],[Currency]],tblXrate[],2,FALSE)","v":44132.991617883956},"Central Services Manager","Manager","UK",{"$f":"VLOOKUP(tblSalaries[[#This Row],[Where do you work]],tblCountries[[Actual]:[Mapping]],2,FALSE)","v":"UK"},3,">20","EUROPE",{"$f":"(G384/365)/L384","v":40.304101934140597}]
[null,"ID0388","2012-05-26T02:00:14",47000,47000,"USD",{"$f":"tblSalaries[[#This Row],[clean Salary (in local currency)]]*VLOOKUP(tblSalaries[[#This Row],[Currency]],tblXrate[],2,FALSE)","v":47000},"Trainer ","Manager","USA",{"$f":"VLOOKUP(tblSalaries[[#This Row],[Where do you work]],tblCountries[[Actual]:[Mapping]],2,FALSE)","v":"USA"},3,">10<=20","N. AMERICA",{"$f":"(G385/365)/L385","v":42.922374429223744}]
[null,"ID0389","2012-05-26T02:00:42",44000,44000,"USD",{"$f":"tblSalaries[[#This Row],[clean Salary (in local currency)]]*VLOOKUP(tblSalaries[[#This Row],[Currency]],tblXrate[],2,FALSE)","v":44000},"continuous improvement team member","Analyst","USA",{"$f":"VLOOKUP(tblSalaries[[#This Row],[Where do you work]],tblCountries[[Actual]:[Mapping]],2,FALSE)","v":"USA"},3,">10<=20","N. AMERICA",{"$f":"(G386/365)/L386","v":40.182648401826484}]
[null,"ID0390","2012-05-26T02:00:46",55000,55000,"USD",{"$f":"tblSalaries[[#This Row],[clean Salary (in local currency)]]*VLOOKUP(tblSalaries[[#This Row],[Currency]],tblXrate[],2,FALSE)","v":55000},"Accountant","Accountant","USA",{"$f":"VLOOKUP(tblSalaries[[#This Row],[Where do you work]],tblCountries[[Actual]:[Mapping]],2,FALSE)","v":"USA"},6,">20","N. AMERICA",{"$f":"(G387/365)/L387","v":25.114155251141554}]
[null,"ID0391","2012-05-26T02:00:54",12000,12000,"USD",{"$f":"tblSalaries[[#This Row],[clean Salary (in local currency)]]*VLOOKUP(tblSalaries[[#This Row],[Currency]],tblXrate[],2,FALSE)","v":12000},"MIS Officer","Reporting","South Africa",{"$f":"VLOOKUP(tblSalaries[[#This Row],[Where do you work]],tblCountries[[Actual]:[Mapping]],2,FALSE)","v":"South Africa"},6,">20","AFRICA",{"$f":"(G388/365)/L388","v":5.4794520547945211}]
[null,"ID0392","2012-05-26T02:01:07",50000,50000,"USD",{"$f":"tblSalaries[[#This Row],[clean Salary (in local currency)]]*VLOOKUP(tblSalaries[[#This Row],[Currency]],tblXrate[],2,FALSE)","v":50000},"IR Manager","Manager","USA",{"$f":"VLOOKUP(tblSalaries[[#This Row],[Where do you work]],tblCountries[[Actual]:[Mapping]],2,FALSE)","v":"USA"},3,">10<=20","N. AMERICA",{"$f":"(G389/365)/L389","v":45.662100456621005}]
[null,"ID0393","2012-05-26T02:01:31","7,50,000 INR",750000,"INR",{"$f":"tblSalaries[[#This Row],[clean Salary (in local currency)]]*VLOOKUP(tblSalaries[[#This Row],[Currency]],tblXrate[],2,FALSE)","v":13355.937515581925},"Business Analyst","Analyst","India",{"$f":"VLOOKUP(tblSalaries[[#This Row],[Where do you work]],tblCountries[[Actual]:[Mapping]],2,FALSE)","v":"India"},2,">20","ASIA",{"$f":"(G390/365)/L390","v":18.295804815865651}]
[null,"ID0394","2012-05-26T02:02:02","99147 $",99147,"USD",{"$f":"tblSalaries[[#This Row],[clean Salary (in local currency)]]*VLOOKUP(tblSalaries[[#This Row],[Currency]],tblXrate[],2,FALSE)","v":99147},"Chief Specialist of Economics & Planning","Specialist","Russia",{"$f":"VLOOKUP(tblSalaries[[#This Row],[Where do you work]],tblCountries[[Actual]:[Mapping]],2,FALSE)","v":"Russia"},6,">20","ASIA",{"$f":"(G391/365)/L391","v":45.272602739726032}]
[null,"ID0395","2012-05-26T02:03:35",45880,45880,"USD",{"$f":"tblSalaries[[#This Row],[clean Salary (in local currency)]]*VLOOKUP(tblSalaries[[#This Row],[Currency]],tblXrate[],2,FALSE)","v":45880},"Campus Budget Officer","Manager","USA",{"$f":"VLOOKUP(tblSalaries[[#This Row],[Where do you work]],tblCountries[[Actual]:[Mapping]],2,FALSE)","v":"USA"},8,">10<=20","N. AMERICA",{"$f":"(G392/365)/L392","v":15.712328767123287}]
[null,"ID0396","2012-05-26T02:03:45",70000,70000,"USD",{"$f":"tblSalaries[[#This Row],[clean Salary (in local currency)]]*VLOOKUP(tblSalaries[[#This Row],[Currency]],tblXrate[],2,FALSE)","v":70000},"Management Ananlyst","Manager","USA",{"$f":"VLOOKUP(tblSalaries[[#This Row],[Where do you work]],tblCountries[[Actual]:[Mapping]],2,FALSE)","v":"USA"},6,">20","N. AMERICA",{"$f":"(G393/365)/L393","v":31.963470319634705}]
[null,"ID0397","2012-05-26T02:04:01",100000,100000,"USD",{"$f":"tblSalaries[[#This Row],[clean Salary (in local currency)]]*VLOOKUP(tblSalaries[[#This Row],[Currency]],tblXrate[],2,FALSE)","v":100000},"Sales Operations Analyst","Analyst","USA",{"$f":"VLOOKUP(tblSalaries[[#This Row],[Where do you work]],tblCountries[[Actual]:[Mapping]],2,FALSE)","v":"USA"},8,">5<=10","N. AMERICA",{"$f":"(G394/365)/L394","v":34.246575342465754}]
[null,"ID0398","2012-05-26T02:04:05","120000 BDT",1440000,"BDT",{"$f":"tblSalaries[[#This Row],[clean Salary (in local currency)]]*VLOOKUP(tblSalaries[[#This Row],[Currency]],tblXrate[],2,FALSE)","v":17598.017290051986},"Computer Operator","Analyst","Bangladesh",{"$f":"VLOOKUP(tblSalaries[[#This Row],[Where do you work]],tblCountries[[Actual]:[Mapping]],2,FALSE)","v":"Bangladesh"},3,">20","ASIA",{"$f":"(G395/365)/L395","v":16.071248666714144}]
[null,"ID0399","2012-05-26T02:05:06",85000,85000,"USD",{"$f":"tblSalaries[[#This Row],[clean Salary (in local currency)]]*VLOOKUP(tblSalaries[[#This Row],[Currency]],tblXrate[],2,FALSE)","v":85000},"ENGINEER","Engineer","USA",{"$f":"VLOOKUP(tblSalaries[[#This Row],[Where do you work]],tblCountries[[Actual]:[Mapping]],2,FALSE)","v":"USA"},3,">5<=10","N. AMERICA",{"$f":"(G396/365)/L396","v":77.625570776255714}]
[null,"ID0400","2012-05-26T02:05:49",47000,47000,"USD",{"$f":"tblSalaries[[#This Row],[clean Salary (in local currency)]]*VLOOKUP(tblSalaries[[#This Row],[Currency]],tblXrate[],2,FALSE)","v":47000},"Sr Management Analytst 2","Manager","USA",{"$f":"VLOOKUP(tblSalaries[[#This Row],[Where do you work]],tblCountries[[Actual]:[Mapping]],2,FALSE)","v":"USA"},6,">20","N. AMERICA",{"$f":"(G397/365)/L397","v":21.461187214611872}]
[null,"ID0401","2012-05-26T02:05:58",40000,40000,"USD",{"$f":"tblSalaries[[#This Row],[clean Salary (in local currency)]]*VLOOKUP(tblSalaries[[#This Row],[Currency]],tblXrate[],2,FALSE)","v":40000},"Accounting Manager","Manager","USA",{"$f":"VLOOKUP(tblSalaries[[#This Row],[Where do you work]],tblCountries[[Actual]:[Mapping]],2,FALSE)","v":"USA"},3,">5<=10","N. AMERICA",{"$f":"(G398/365)/L398","v":36.529680365296805}]
[null,"ID0402","2012-05-26T02:06:38",30000,30000,"USD",{"$f":"tblSalaries[[#This Row],[clean Salary (in local currency)]]*VLOOKUP(tblSalaries[[#This Row],[Currency]],tblXrate[],2,FALSE)","v":30000},"ceo","CXO or Top Mgmt.","India",{"$f":"VLOOKUP(tblSalaries[[#This Row],[Where do you work]],tblCountries[[Actual]:[Mapping]],2,FALSE)","v":"India"},3,">20","ASIA",{"$f":"(G399/365)/L399","v":27.397260273972602}]
[null,"ID0403","2012-05-26T02:06:56",72000,72000,"CAD",{"$f":"tblSalaries[[#This Row],[clean Salary (in local currency)]]*VLOOKUP(tblSalaries[[#This Row],[Currency]],tblXrate[],2,FALSE)","v":70802.029658183528},"Controller","Controller","Canada",{"$f":"VLOOKUP(tblSalaries[[#This Row],[Where do you work]],tblCountries[[Actual]:[Mapping]],2,FALSE)","v":"Canada"},6,">20","N. AMERICA",{"$f":"(G400/365)/L400","v":32.329693907846355}]
[null,"ID0404","2012-05-26T02:07:28",34000,34000,"USD",{"$f":"tblSalaries[[#This Row],[clean Salary (in local currency)]]*VLOOKUP(tblSalaries[[#This Row],[Currency]],tblXrate[],2,FALSE)","v":34000},"Information Research Technician II","Analyst","USA",{"$f":"VLOOKUP(tblSalaries[[#This Row],[Where do you work]],tblCountries[[Actual]:[Mapping]],2,FALSE)","v":"USA"},6,">10<=20","N. AMERICA",{"$f":"(G401/365)/L401","v":15.52511415525114}]
[null,"ID0405","2012-05-26T02:07:49",52000,52000,"USD",{"$f":"tblSalaries[[#This Row],[clean Salary (in local currency)]]*VLOOKUP(tblSalaries[[#This Row],[Currency]],tblXrate[],2,FALSE)","v":52000},"Data Analyst","Analyst","USA",{"$f":"VLOOKUP(tblSalaries[[#This Row],[Where do you work]],tblCountries[[Actual]:[Mapping]],2,FALSE)","v":"USA"},6,">10<=20","N. AMERICA",{"$f":"(G402/365)/L402","v":23.74429223744292}]
[null,"ID0406","2012-05-26T02:08:10",300000,300000,"INR",{"$f":"tblSalaries[[#This Row],[clean Salary (in local currency)]]*VLOOKUP(tblSalaries[[#This Row],[Currency]],tblXrate[],2,FALSE)","v":5342.3750062327708},"Sr. Systems Engineer","Engineer","India",{"$f":"VLOOKUP(tblSalaries[[#This Row],[Where do you work]],tblCountries[[Actual]:[Mapping]],2,FALSE)","v":"India"},2,">20","ASIA",{"$f":"(G403/365)/L403","v":7.3183219263462611}]
[null,"ID0407","2012-05-26T02:09:57",400000,400000,"INR",{"$f":"tblSalaries[[#This Row],[clean Salary (in local currency)]]*VLOOKUP(tblSalaries[[#This Row],[Currency]],tblXrate[],2,FALSE)","v":7123.1666749770275},"Analyst","Analyst","India",{"$f":"VLOOKUP(tblSalaries[[#This Row],[Where do you work]],tblCountries[[Actual]:[Mapping]],2,FALSE)","v":"India"},6,">20","ASIA",{"$f":"(G404/365)/L404","v":3.2525875228205603}]
[null,"ID0408","2012-05-26T02:10:35",63586.95,63586,"USD",{"$f":"tblSalaries[[#This Row],[clean Salary (in local currency)]]*VLOOKUP(tblSalaries[[#This Row],[Currency]],tblXrate[],2,FALSE)","v":63586},"Senior Purchasing Officer","Manager","United Arab Emriate",{"$f":"VLOOKUP(tblSalaries[[#This Row],[Where do you work]],tblCountries[[Actual]:[Mapping]],2,FALSE)","v":"UAE"},3,">20","ASIA",{"$f":"(G405/365)/L405","v":58.06940639269407}]
[null,"ID0409","2012-05-26T02:11:40","Â£35000",35000,"GBP",{"$f":"tblSalaries[[#This Row],[clean Salary (in local currency)]]*VLOOKUP(tblSalaries[[#This Row],[Currency]],tblXrate[],2,FALSE)","v":55166.239522354947},"Mgmt Accountant","Accountant","UK",{"$f":"VLOOKUP(tblSalaries[[#This Row],[Where do you work]],tblCountries[[Actual]:[Mapping]],2,FALSE)","v":"UK"},6,">10<=20","EUROPE",{"$f":"(G406/365)/L406","v":25.190063708837872}]
[null,"ID0410","2012-05-26T02:12:58",60000,60000,"USD",{"$f":"tblSalaries[[#This Row],[clean Salary (in local currency)]]*VLOOKUP(tblSalaries[[#This Row],[Currency]],tblXrate[],2,FALSE)","v":60000},"Sr financial analyst ","Analyst","USA",{"$f":"VLOOKUP(tblSalaries[[#This Row],[Where do you work]],tblCountries[[Actual]:[Mapping]],2,FALSE)","v":"USA"},6,"<=5","N. AMERICA",{"$f":"(G407/365)/L407","v":27.397260273972602}]
[null,"ID0411","2012-05-26T02:13:57",19200,19200,"USD",{"$f":"tblSalaries[[#This Row],[clean Salary (in local currency)]]*VLOOKUP(tblSalaries[[#This Row],[Currency]],tblXrate[],2,FALSE)","v":19200},"Department Manager","Manager","Romania",{"$f":"VLOOKUP(tblSalaries[[#This Row],[Where do you work]],tblCountries[[Actual]:[Mapping]],2,FALSE)","v":"Romania"},8,">20","EUROPE",{"$f":"(G408/365)/L408","v":6.5753424657534243}]
[null,"ID0412","2012-05-26T02:14:05","Â¢ 14.000.000,00",14000000,"COSTARICAN",{"$f":"tblSalaries[[#This Row],[clean Salary (in local currency)]]*VLOOKUP(tblSalaries[[#This Row],[Currency]],tblXrate[],2,FALSE)","v":28109.627547434993},"Businees Adminstratot","Analyst","Costa Rica",{"$f":"VLOOKUP(tblSalaries[[#This Row],[Where do you work]],tblCountries[[Actual]:[Mapping]],2,FALSE)","v":"Costa Rica"},8,">20","N. AMERICA",{"$f":"(G409/365)/L409","v":9.6265847765188326}]
[null,"ID0413","2012-05-26T02:14:29",56000,56000,"USD",{"$f":"tblSalaries[[#This Row],[clean Salary (in local currency)]]*VLOOKUP(tblSalaries[[#This Row],[Currency]],tblXrate[],2,FALSE)","v":56000},"Staff assistant ","Analyst","USA",{"$f":"VLOOKUP(tblSalaries[[#This Row],[Where do you work]],tblCountries[[Actual]:[Mapping]],2,FALSE)","v":"USA"},6,">20","N. AMERICA",{"$f":"(G410/365)/L410","v":25.570776255707759}]
[null,"ID0414","2012-05-26T02:14:48",52000,52000,"USD",{"$f":"tblSalaries[[#This Row],[clean Salary (in local currency)]]*VLOOKUP(tblSalaries[[#This Row],[Currency]],tblXrate[],2,FALSE)","v":52000},"Sr. Accountant","Accountant","USA",{"$f":"VLOOKUP(tblSalaries[[#This Row],[Where do you work]],tblCountries[[Actual]:[Mapping]],2,FALSE)","v":"USA"},6,"<=5","N. AMERICA",{"$f":"(G411/365)/L411","v":23.74429223744292}]
[null,"ID0415","2012-05-26T02:15:19",51613,51613,"USD",{"$f":"tblSalaries[[#This Row],[clean Salary (in local currency)]]*VLOOKUP(tblSalaries[[#This Row],[Currency]],tblXrate[],2,FALSE)","v":51613},"Air Planning Analyst","Analyst","USA",{"$f":"VLOOKUP(tblSalaries[[#This Row],[Where do you work]],tblCountries[[Actual]:[Mapping]],2,FALSE)","v":"USA"},8,">20","N. AMERICA",{"$f":"(G412/365)/L412","v":17.675684931506851}]
[null,"ID0416","2012-05-26T02:17:01",35000,35000,"USD",{"$f":"tblSalaries[[#This Row],[clean Salary (in local currency)]]*VLOOKUP(tblSalaries[[#This Row],[Currency]],tblXrate[],2,FALSE)","v":35000},"Credit Analyst","Analyst","Russia",{"$f":"VLOOKUP(tblSalaries[[#This Row],[Where do you work]],tblCountries[[Actual]:[Mapping]],2,FALSE)","v":"Russia"},6,">20","ASIA",{"$f":"(G413/365)/L413","v":15.981735159817353}]
[null,"ID0417","2012-05-26T02:17:18",56000,56000,"USD",{"$f":"tblSalaries[[#This Row],[clean Salary (in local currency)]]*VLOOKUP(tblSalaries[[#This Row],[Currency]],tblXrate[],2,FALSE)","v":56000},"financial management consultant","Manager","USA",{"$f":"VLOOKUP(tblSalaries[[#This Row],[Where do you work]],tblCountries[[Actual]:[Mapping]],2,FALSE)","v":"USA"},8,">20","N. AMERICA",{"$f":"(G414/365)/L414","v":19.17808219178082}]
[null,"ID0418","2012-05-26T02:17:38","US$115000",115000,"USD",{"$f":"tblSalaries[[#This Row],[clean Salary (in local currency)]]*VLOOKUP(tblSalaries[[#This Row],[Currency]],tblXrate[],2,FALSE)","v":115000},"Consultant","Consultant","USA",{"$f":"VLOOKUP(tblSalaries[[#This Row],[Where do you work]],tblCountries[[Actual]:[Mapping]],2,FALSE)","v":"USA"},3,">20","N. AMERICA",{"$f":"(G415/365)/L415","v":105.02283105022832}]
[null,"ID0419","2012-05-26T02:18:03","Â£66000",66000,"GBP",{"$f":"tblSalaries[[#This Row],[clean Salary (in local currency)]]*VLOOKUP(tblSalaries[[#This Row],[Currency]],tblXrate[],2,FALSE)","v":104027.76595644075},"IT Project Manager, EMEA","Manager","UK",{"$f":"VLOOKUP(tblSalaries[[#This Row],[Where do you work]],tblCountries[[Actual]:[Mapping]],2,FALSE)","v":"UK"},2,"<=5","EUROPE",{"$f":"(G416/365)/L416","v":142.50378898142569}]
[null,"ID0420","2012-05-26T02:19:12","INR 200000",200000,"INR",{"$f":"tblSalaries[[#This Row],[clean Salary (in local currency)]]*VLOOKUP(tblSalaries[[#This Row],[Currency]],tblXrate[],2,FALSE)","v":3561.5833374885137},"Consultant","Consultant","India",{"$f":"VLOOKUP(tblSalaries[[#This Row],[Where do you work]],tblCountries[[Actual]:[Mapping]],2,FALSE)","v":"India"},2,">20","ASIA",{"$f":"(G417/365)/L417","v":4.8788812842308404}]
[null,"ID0421","2012-05-26T02:19:48",72000,72000,"USD",{"$f":"tblSalaries[[#This Row],[clean Salary (in local currency)]]*VLOOKUP(tblSalaries[[#This Row],[Currency]],tblXrate[],2,FALSE)","v":72000},"IS Director","CXO or Top Mgmt.","USA",{"$f":"VLOOKUP(tblSalaries[[#This Row],[Where do you work]],tblCountries[[Actual]:[Mapping]],2,FALSE)","v":"USA"},6,">20","N. AMERICA",{"$f":"(G418/365)/L418","v":32.87671232876712}]
[null,"ID0422","2012-05-26T02:19:52",90000,90000,"USD",{"$f":"tblSalaries[[#This Row],[clean Salary (in local currency)]]*VLOOKUP(tblSalaries[[#This Row],[Currency]],tblXrate[],2,FALSE)","v":90000},"Financial Analyst","Analyst","USA",{"$f":"VLOOKUP(tblSalaries[[#This Row],[Where do you work]],tblCountries[[Actual]:[Mapping]],2,FALSE)","v":"USA"},8,">5<=10","N. AMERICA",{"$f":"(G419/365)/L419","v":30.82191780821918}]
[null,"ID0423","2012-05-26T02:20:15","8500 USD",8500,"USD",{"$f":"tblSalaries[[#This Row],[clean Salary (in local currency)]]*VLOOKUP(tblSalaries[[#This Row],[Currency]],tblXrate[],2,FALSE)","v":8500},"Accounting Coordinator","Accountant","Romania",{"$f":"VLOOKUP(tblSalaries[[#This Row],[Where do you work]],tblCountries[[Actual]:[Mapping]],2,FALSE)","v":"Romania"},3,">5<=10","EUROPE",{"$f":"(G420/365)/L420","v":7.7625570776255701}]
[null,"ID0424","2012-05-26T02:20:22",12000,12000,"USD",{"$f":"tblSalaries[[#This Row],[clean Salary (in local currency)]]*VLOOKUP(tblSalaries[[#This Row],[Currency]],tblXrate[],2,FALSE)","v":12000},"teacher","Analyst","iran",{"$f":"VLOOKUP(tblSalaries[[#This Row],[Where do you work]],tblCountries[[Actual]:[Mapping]],2,FALSE)","v":"iran"},3,">5<=10","ASIA",{"$f":"(G421/365)/L421","v":10.958904109589042}]
[null,"ID0425","2012-05-26T02:22:17","250000 to 270000",250000,"USD",{"$f":"tblSalaries[[#This Row],[clean Salary (in local currency)]]*VLOOKUP(tblSalaries[[#This Row],[Currency]],tblXrate[],2,FALSE)","v":250000},"consultant","Consultant","USA",{"$f":"VLOOKUP(tblSalaries[[#This Row],[Where do you work]],tblCountries[[Actual]:[Mapping]],2,FALSE)","v":"USA"},8,"<=5","N. AMERICA",{"$f":"(G422/365)/L422","v":85.61643835616438}]
[null,"ID0426","2012-05-26T02:24:24",5900,70800,"EUR",{"$f":"tblSalaries[[#This Row],[clean Salary (in local currency)]]*VLOOKUP(tblSalaries[[#This Row],[Currency]],tblXrate[],2,FALSE)","v":89944.280280605832},"Excel trainer","Analyst","Finland",{"$f":"VLOOKUP(tblSalaries[[#This Row],[Where do you work]],tblCountries[[Actual]:[Mapping]],2,FALSE)","v":"Finland"},8,"<=5","EUROPE",{"$f":"(G423/365)/L423","v":30.802835712536243}]
[null,"ID0427","2012-05-26T02:25:10","20000 RS",240000,"INR",{"$f":"tblSalaries[[#This Row],[clean Salary (in local currency)]]*VLOOKUP(tblSalaries[[#This Row],[Currency]],tblXrate[],2,FALSE)","v":4273.9000049862161},"WFM Team Lead","Manager","India",{"$f":"VLOOKUP(tblSalaries[[#This Row],[Where do you work]],tblCountries[[Actual]:[Mapping]],2,FALSE)","v":"India"},8,">5<=10","ASIA",{"$f":"(G424/365)/L424","v":1.4636643852692521}]
[null,"ID0428","2012-05-26T02:27:50","US $30,000.00 ",30000,"USD",{"$f":"tblSalaries[[#This Row],[clean Salary (in local currency)]]*VLOOKUP(tblSalaries[[#This Row],[Currency]],tblXrate[],2,FALSE)","v":30000},"Supervisor","Manager","USA",{"$f":"VLOOKUP(tblSalaries[[#This Row],[Where do you work]],tblCountries[[Actual]:[Mapping]],2,FALSE)","v":"USA"},3,">10<=20","N. AMERICA",{"$f":"(G425/365)/L425","v":27.397260273972602}]
[null,"ID0429","2012-05-26T02:29:37","30000 $",30000,"USD",{"$f":"tblSalaries[[#This Row],[clean Salary (in local currency)]]*VLOOKUP(tblSalaries[[#This Row],[Currency]],tblXrate[],2,FALSE)","v":30000},"BI Developer","Reporting","Romania",{"$f":"VLOOKUP(tblSalaries[[#This Row],[Where do you work]],tblCountries[[Actual]:[Mapping]],2,FALSE)","v":"Romania"},2,">5<=10","EUROPE",{"$f":"(G426/365)/L426","v":41.095890410958901}]
[null,"ID0430","2012-05-26T02:31:24",24,24000,"USD",{"$f":"tblSalaries[[#This Row],[clean Salary (in local currency)]]*VLOOKUP(tblSalaries[[#This Row],[Currency]],tblXrate[],2,FALSE)","v":24000},"engineer","Engineer","USA",{"$f":"VLOOKUP(tblSalaries[[#This Row],[Where do you work]],tblCountries[[Actual]:[Mapping]],2,FALSE)","v":"USA"},2,">20","N. AMERICA",{"$f":"(G427/365)/L427","v":32.876712328767127}]
[null,"ID0431","2012-05-26T02:33:00",60000,60000,"USD",{"$f":"tblSalaries[[#This Row],[clean Salary (in local currency)]]*VLOOKUP(tblSalaries[[#This Row],[Currency]],tblXrate[],2,FALSE)","v":60000},"Planner","Manager","USA",{"$f":"VLOOKUP(tblSalaries[[#This Row],[Where do you work]],tblCountries[[Actual]:[Mapping]],2,FALSE)","v":"USA"},6,">20","N. AMERICA",{"$f":"(G428/365)/L428","v":27.397260273972602}]
[null,"ID0432","2012-05-26T02:33:06",76600,76600,"USD",{"$f":"tblSalaries[[#This Row],[clean Salary (in local currency)]]*VLOOKUP(tblSalaries[[#This Row],[Currency]],tblXrate[],2,FALSE)","v":76600},"Analyst","Analyst","USA",{"$f":"VLOOKUP(tblSalaries[[#This Row],[Where do you work]],tblCountries[[Actual]:[Mapping]],2,FALSE)","v":"USA"},3,">10<=20","N. AMERICA",{"$f":"(G429/365)/L429","v":69.954337899543376}]
[null,"ID0433","2012-05-26T02:33:10","Â£65000",65000,"GBP",{"$f":"tblSalaries[[#This Row],[clean Salary (in local currency)]]*VLOOKUP(tblSalaries[[#This Row],[Currency]],tblXrate[],2,FALSE)","v":102451.58768437347},"Financial Controller","Controller","UK",{"$f":"VLOOKUP(tblSalaries[[#This Row],[Where do you work]],tblCountries[[Actual]:[Mapping]],2,FALSE)","v":"UK"},3,">20","EUROPE",{"$f":"(G430/365)/L430","v":93.563093775683527}]
[null,"ID0434","2012-05-26T02:34:00","US $6,629.00",6629,"USD",{"$f":"tblSalaries[[#This Row],[clean Salary (in local currency)]]*VLOOKUP(tblSalaries[[#This Row],[Currency]],tblXrate[],2,FALSE)","v":6629},"Engineer","Engineer","Dominican Republic",{"$f":"VLOOKUP(tblSalaries[[#This Row],[Where do you work]],tblCountries[[Actual]:[Mapping]],2,FALSE)","v":"Dominican Republic"},8,">10<=20","N. AMERICA",{"$f":"(G431/365)/L431","v":2.2702054794520548}]
[null,"ID0435","2012-05-26T02:34:37",90000,90000,"USD",{"$f":"tblSalaries[[#This Row],[clean Salary (in local currency)]]*VLOOKUP(tblSalaries[[#This Row],[Currency]],tblXrate[],2,FALSE)","v":90000},"senior analyst","Analyst","USA",{"$f":"VLOOKUP(tblSalaries[[#This Row],[Where do you work]],tblCountries[[Actual]:[Mapping]],2,FALSE)","v":"USA"},2,">20","N. AMERICA",{"$f":"(G432/365)/L432","v":123.28767123287672}]
[null,"ID0436","2012-05-26T02:35:10",8500,8500,"USD",{"$f":"tblSalaries[[#This Row],[clean Salary (in local currency)]]*VLOOKUP(tblSalaries[[#This Row],[Currency]],tblXrate[],2,FALSE)","v":8500},"Assesor","Analyst","Colombia",{"$f":"VLOOKUP(tblSalaries[[#This Row],[Where do you work]],tblCountries[[Actual]:[Mapping]],2,FALSE)","v":"Colombia"},2,">20"," S. AMERICA",{"$f":"(G433/365)/L433","v":11.643835616438356}]
[null,"ID0437","2012-05-26T02:35:11",75000,75000,"USD",{"$f":"tblSalaries[[#This Row],[clean Salary (in local currency)]]*VLOOKUP(tblSalaries[[#This Row],[Currency]],tblXrate[],2,FALSE)","v":75000},"Financial Analys","Analyst","USA",{"$f":"VLOOKUP(tblSalaries[[#This Row],[Where do you work]],tblCountries[[Actual]:[Mapping]],2,FALSE)","v":"USA"},6,">10<=20","N. AMERICA",{"$f":"(G434/365)/L434","v":34.246575342465754}]
[null,"ID0438","2012-05-26T02:37:50",72000,72000,"USD",{"$f":"tblSalaries[[#This Row],[clean Salary (in local currency)]]*VLOOKUP(tblSalaries[[#This Row],[Currency]],tblXrate[],2,FALSE)","v":72000},"Sr. Information Systems Analyst","Analyst","USA",{"$f":"VLOOKUP(tblSalaries[[#This Row],[Where do you work]],tblCountries[[Actual]:[Mapping]],2,FALSE)","v":"USA"},3,">10<=20","N. AMERICA",{"$f":"(G435/365)/L435","v":65.753424657534239}]
[null,"ID0439","2012-05-26T02:38:34",65000,65000,"USD",{"$f":"tblSalaries[[#This Row],[clean Salary (in local currency)]]*VLOOKUP(tblSalaries[[#This Row],[Currency]],tblXrate[],2,FALSE)","v":65000},"Senior Claims Analyst","Analyst","USA",{"$f":"VLOOKUP(tblSalaries[[#This Row],[Where do you work]],tblCountries[[Actual]:[Mapping]],2,FALSE)","v":"USA"},6,">20","N. AMERICA",{"$f":"(G436/365)/L436","v":29.680365296803654}]
[null,"ID0440","2012-05-26T02:39:56",120000,120000,"USD",{"$f":"tblSalaries[[#This Row],[clean Salary (in local currency)]]*VLOOKUP(tblSalaries[[#This Row],[Currency]],tblXrate[],2,FALSE)","v":120000},"Director","CXO or Top Mgmt.","USA",{"$f":"VLOOKUP(tblSalaries[[#This Row],[Where do you work]],tblCountries[[Actual]:[Mapping]],2,FALSE)","v":"USA"},2,">20","N. AMERICA",{"$f":"(G437/365)/L437","v":164.38356164383561}]
[null,"ID0441","2012-05-26T02:40:39","INR 40L",4000000,"INR",{"$f":"tblSalaries[[#This Row],[clean Salary (in local currency)]]*VLOOKUP(tblSalaries[[#This Row],[Currency]],tblXrate[],2,FALSE)","v":71231.666749770273},"Sr Mgr Finance","Accountant","India",{"$f":"VLOOKUP(tblSalaries[[#This Row],[Where do you work]],tblCountries[[Actual]:[Mapping]],2,FALSE)","v":"India"},8,">10<=20","ASIA",{"$f":"(G438/365)/L438","v":24.394406421154201}]
[null,"ID0442","2012-05-26T02:42:20","Rs. 300000",300000,"INR",{"$f":"tblSalaries[[#This Row],[clean Salary (in local currency)]]*VLOOKUP(tblSalaries[[#This Row],[Currency]],tblXrate[],2,FALSE)","v":5342.3750062327708},"Web Portal Manager","Manager","India",{"$f":"VLOOKUP(tblSalaries[[#This Row],[Where do you work]],tblCountries[[Actual]:[Mapping]],2,FALSE)","v":"India"},6,">20","ASIA",{"$f":"(G439/365)/L439","v":2.4394406421154202}]
[null,"ID0443","2012-05-26T02:43:21",1100000,1100000,"INR",{"$f":"tblSalaries[[#This Row],[clean Salary (in local currency)]]*VLOOKUP(tblSalaries[[#This Row],[Currency]],tblXrate[],2,FALSE)","v":19588.708356186824},"manager - MIS & operations planning","Manager","India",{"$f":"VLOOKUP(tblSalaries[[#This Row],[Where do you work]],tblCountries[[Actual]:[Mapping]],2,FALSE)","v":"India"},6,">10<=20","ASIA",{"$f":"(G440/365)/L440","v":8.9446156877565404}]
[null,"ID0444","2012-05-26T02:46:18",80000,80000,"USD",{"$f":"tblSalaries[[#This Row],[clean Salary (in local currency)]]*VLOOKUP(tblSalaries[[#This Row],[Currency]],tblXrate[],2,FALSE)","v":80000},"web analyst","Analyst","USA",{"$f":"VLOOKUP(tblSalaries[[#This Row],[Where do you work]],tblCountries[[Actual]:[Mapping]],2,FALSE)","v":"USA"},6,">10<=20","N. AMERICA",{"$f":"(G441/365)/L441","v":36.529680365296805}]
[null,"ID0445","2012-05-26T02:46:56","INR 30,00,000",3000000,"INR",{"$f":"tblSalaries[[#This Row],[clean Salary (in local currency)]]*VLOOKUP(tblSalaries[[#This Row],[Currency]],tblXrate[],2,FALSE)","v":53423.750062327701},"Management Consultant","Manager","India",{"$f":"VLOOKUP(tblSalaries[[#This Row],[Where do you work]],tblCountries[[Actual]:[Mapping]],2,FALSE)","v":"India"},6,">10<=20","ASIA",{"$f":"(G442/365)/L442","v":24.394406421154201}]
[null,"ID0446","2012-05-26T02:48:32",110000,110000,"CAD",{"$f":"tblSalaries[[#This Row],[clean Salary (in local currency)]]*VLOOKUP(tblSalaries[[#This Row],[Currency]],tblXrate[],2,FALSE)","v":108169.76753333595},"Continuos improvment","Controller","Canad",{"$f":"VLOOKUP(tblSalaries[[#This Row],[Where do you work]],tblCountries[[Actual]:[Mapping]],2,FALSE)","v":"Canada"},3,">10<=20","N. AMERICA",{"$f":"(G443/365)/L443","v":98.785175829530544}]
[null,"ID0447","2012-05-26T02:49:24",51000,51000,"USD",{"$f":"tblSalaries[[#This Row],[clean Salary (in local currency)]]*VLOOKUP(tblSalaries[[#This Row],[Currency]],tblXrate[],2,FALSE)","v":51000},"Direct marketing manager","Manager","USA",{"$f":"VLOOKUP(tblSalaries[[#This Row],[Where do you work]],tblCountries[[Actual]:[Mapping]],2,FALSE)","v":"USA"},3,"<=5","N. AMERICA",{"$f":"(G444/365)/L444","v":46.57534246575343}]
[null,"ID0448","2012-05-26T02:50:16","5000 $",5000,"USD",{"$f":"tblSalaries[[#This Row],[clean Salary (in local currency)]]*VLOOKUP(tblSalaries[[#This Row],[Currency]],tblXrate[],2,FALSE)","v":5000},"mis","Reporting","India",{"$f":"VLOOKUP(tblSalaries[[#This Row],[Where do you work]],tblCountries[[Actual]:[Mapping]],2,FALSE)","v":"India"},6,">20","ASIA",{"$f":"(G445/365)/L445","v":2.2831050228310503}]
[null,"ID0449","2012-05-26T02:53:29",74000,74000,"USD",{"$f":"tblSalaries[[#This Row],[clean Salary (in local currency)]]*VLOOKUP(tblSalaries[[#This Row],[Currency]],tblXrate[],2,FALSE)","v":74000},"Engineer","Engineer","USA",{"$f":"VLOOKUP(tblSalaries[[#This Row],[Where do you work]],tblCountries[[Actual]:[Mapping]],2,FALSE)","v":"USA"},6,">20","N. AMERICA",{"$f":"(G446/365)/L446","v":33.789954337899545}]
[null,"ID0450","2012-05-26T02:53:48","Â£60000",60000,"GBP",{"$f":"tblSalaries[[#This Row],[clean Salary (in local currency)]]*VLOOKUP(tblSalaries[[#This Row],[Currency]],tblXrate[],2,FALSE)","v":94570.696324037053},"Excel Consultant","Consultant","UK",{"$f":"VLOOKUP(tblSalaries[[#This Row],[Where do you work]],tblCountries[[Actual]:[Mapping]],2,FALSE)","v":"UK"},6,">20","EUROPE",{"$f":"(G447/365)/L447","v":43.182966358007782}]
[null,"ID0451","2012-05-26T02:55:27",50000,50000,"USD",{"$f":"tblSalaries[[#This Row],[clean Salary (in local currency)]]*VLOOKUP(tblSalaries[[#This Row],[Currency]],tblXrate[],2,FALSE)","v":50000},"Wine Analyst","Analyst","USA",{"$f":"VLOOKUP(tblSalaries[[#This Row],[Where do you work]],tblCountries[[Actual]:[Mapping]],2,FALSE)","v":"USA"},6,">20","N. AMERICA",{"$f":"(G448/365)/L448","v":22.831050228310502}]
[null,"ID0452","2012-05-26T02:55:29","500000 rupees",500000,"INR",{"$f":"tblSalaries[[#This Row],[clean Salary (in local currency)]]*VLOOKUP(tblSalaries[[#This Row],[Currency]],tblXrate[],2,FALSE)","v":8903.9583437212841},"Business Analyst","Analyst","India",{"$f":"VLOOKUP(tblSalaries[[#This Row],[Where do you work]],tblCountries[[Actual]:[Mapping]],2,FALSE)","v":"India"},6,"<=5","ASIA",{"$f":"(G449/365)/L449","v":4.0657344035256999}]
[null,"ID0453","2012-05-26T02:57:32",78000,78000,"USD",{"$f":"tblSalaries[[#This Row],[clean Salary (in local currency)]]*VLOOKUP(tblSalaries[[#This Row],[Currency]],tblXrate[],2,FALSE)","v":78000},"FinanceManager","Manager","Somalia",{"$f":"VLOOKUP(tblSalaries[[#This Row],[Where do you work]],tblCountries[[Actual]:[Mapping]],2,FALSE)","v":"Somalia"},6,">10<=20","AFRICA",{"$f":"(G450/365)/L450","v":35.616438356164387}]
[null,"ID0454","2012-05-26T02:57:47",900000,900000,"INR",{"$f":"tblSalaries[[#This Row],[clean Salary (in local currency)]]*VLOOKUP(tblSalaries[[#This Row],[Currency]],tblXrate[],2,FALSE)","v":16027.125018698311},"Regional Manager","Manager","India",{"$f":"VLOOKUP(tblSalaries[[#This Row],[Where do you work]],tblCountries[[Actual]:[Mapping]],2,FALSE)","v":"India"},2,">10<=20","ASIA",{"$f":"(G451/365)/L451","v":21.954965779038783}]
[null,"ID0455","2012-05-26T03:01:31","7500 USD",7500,"USD",{"$f":"tblSalaries[[#This Row],[clean Salary (in local currency)]]*VLOOKUP(tblSalaries[[#This Row],[Currency]],tblXrate[],2,FALSE)","v":7500},"HR reporting analyst","Analyst","Romania",{"$f":"VLOOKUP(tblSalaries[[#This Row],[Where do you work]],tblCountries[[Actual]:[Mapping]],2,FALSE)","v":"Romania"},8,">20","EUROPE",{"$f":"(G452/365)/L452","v":2.5684931506849313}]
[null,"ID0456","2012-05-26T03:01:42",60000,60000,"USD",{"$f":"tblSalaries[[#This Row],[clean Salary (in local currency)]]*VLOOKUP(tblSalaries[[#This Row],[Currency]],tblXrate[],2,FALSE)","v":60000},"Finalcial Reporting Analyst","Analyst","USA",{"$f":"VLOOKUP(tblSalaries[[#This Row],[Where do you work]],tblCountries[[Actual]:[Mapping]],2,FALSE)","v":"USA"},8,">20","N. AMERICA",{"$f":"(G453/365)/L453","v":20.547945205479451}]
[null,"ID0457","2012-05-26T03:02:42","800000 rupees",800000,"INR",{"$f":"tblSalaries[[#This Row],[clean Salary (in local currency)]]*VLOOKUP(tblSalaries[[#This Row],[Currency]],tblXrate[],2,FALSE)","v":14246.333349954055},"Partner","CXO or Top Mgmt.","India",{"$f":"VLOOKUP(tblSalaries[[#This Row],[Where do you work]],tblCountries[[Actual]:[Mapping]],2,FALSE)","v":"India"},8,">20","ASIA",{"$f":"(G454/365)/L454","v":4.8788812842308404}]
[null,"ID0458","2012-05-26T03:03:09",80000,80000,"USD",{"$f":"tblSalaries[[#This Row],[clean Salary (in local currency)]]*VLOOKUP(tblSalaries[[#This Row],[Currency]],tblXrate[],2,FALSE)","v":80000},"operations tech","Manager","USA",{"$f":"VLOOKUP(tblSalaries[[#This Row],[Where do you work]],tblCountries[[Actual]:[Mapping]],2,FALSE)","v":"USA"},2,">10<=20","N. AMERICA",{"$f":"(G455/365)/L455","v":109.58904109589041}]
[null,"ID0459","2012-05-26T03:03:29","Â£38000",38000,"GBP",{"$f":"tblSalaries[[#This Row],[clean Salary (in local currency)]]*VLOOKUP(tblSalaries[[#This Row],[Currency]],tblXrate[],2,FALSE)","v":59894.774338556796},"Commercial Accountant","Accountant","UK",{"$f":"VLOOKUP(tblSalaries[[#This Row],[Where do you work]],tblCountries[[Actual]:[Mapping]],2,FALSE)","v":"UK"},6,">5<=10","EUROPE",{"$f":"(G456/365)/L456","v":27.349212026738261}]
[null,"ID0460","2012-05-26T03:04:06","52,000 Cdn",52000,"CAD",{"$f":"tblSalaries[[#This Row],[clean Salary (in local currency)]]*VLOOKUP(tblSalaries[[#This Row],[Currency]],tblXrate[],2,FALSE)","v":51134.799197576998},"Office Manager","Manager","Canada",{"$f":"VLOOKUP(tblSalaries[[#This Row],[Where do you work]],tblCountries[[Actual]:[Mapping]],2,FALSE)","v":"Canada"},6,">20","N. AMERICA",{"$f":"(G457/365)/L457","v":23.349223377889043}]
[null,"ID0461","2012-05-26T03:06:16",125000,125000,"USD",{"$f":"tblSalaries[[#This Row],[clean Salary (in local currency)]]*VLOOKUP(tblSalaries[[#This Row],[Currency]],tblXrate[],2,FALSE)","v":125000},"Prod Mgr","Manager","USA",{"$f":"VLOOKUP(tblSalaries[[#This Row],[Where do you work]],tblCountries[[Actual]:[Mapping]],2,FALSE)","v":"USA"},3,">20","N. AMERICA",{"$f":"(G458/365)/L458","v":114.15525114155251}]
[null,"ID0462","2012-05-26T03:06:37",52000,52000,"USD",{"$f":"tblSalaries[[#This Row],[clean Salary (in local currency)]]*VLOOKUP(tblSalaries[[#This Row],[Currency]],tblXrate[],2,FALSE)","v":52000},"Graphics/Web Document Designer","Analyst","USA",{"$f":"VLOOKUP(tblSalaries[[#This Row],[Where do you work]],tblCountries[[Actual]:[Mapping]],2,FALSE)","v":"USA"},3,">20","N. AMERICA",{"$f":"(G459/365)/L459","v":47.48858447488584}]
[null,"ID0463","2012-05-26T03:07:46",45000,45000,"USD",{"$f":"tblSalaries[[#This Row],[clean Salary (in local currency)]]*VLOOKUP(tblSalaries[[#This Row],[Currency]],tblXrate[],2,FALSE)","v":45000},"Analyst","Analyst","USA",{"$f":"VLOOKUP(tblSalaries[[#This Row],[Where do you work]],tblCountries[[Actual]:[Mapping]],2,FALSE)","v":"USA"},6,">5<=10","N. AMERICA",{"$f":"(G460/365)/L460","v":20.547945205479454}]
[null,"ID0464","2012-05-26T03:08:28",25000,25000,"GBP",{"$f":"tblSalaries[[#This Row],[clean Salary (in local currency)]]*VLOOKUP(tblSalaries[[#This Row],[Currency]],tblXrate[],2,FALSE)","v":39404.456801682099},"Analyst","Analyst","UK",{"$f":"VLOOKUP(tblSalaries[[#This Row],[Where do you work]],tblCountries[[Actual]:[Mapping]],2,FALSE)","v":"UK"},6,">20","EUROPE",{"$f":"(G461/365)/L461","v":17.99290264916991}]
[null,"ID0465","2012-05-26T03:09:43",60000,60000,"USD",{"$f":"tblSalaries[[#This Row],[clean Salary (in local currency)]]*VLOOKUP(tblSalaries[[#This Row],[Currency]],tblXrate[],2,FALSE)","v":60000},"Business intelligence manager","Manager","USA",{"$f":"VLOOKUP(tblSalaries[[#This Row],[Where do you work]],tblCountries[[Actual]:[Mapping]],2,FALSE)","v":"USA"},8,">20","N. AMERICA",{"$f":"(G462/365)/L462","v":20.547945205479451}]
[null,"ID0466","2012-05-26T03:09:49","CDN $70,000",70000,"CAD",{"$f":"tblSalaries[[#This Row],[clean Salary (in local currency)]]*VLOOKUP(tblSalaries[[#This Row],[Currency]],tblXrate[],2,FALSE)","v":68835.306612122877},"Program Manager","Manager","Canada",{"$f":"VLOOKUP(tblSalaries[[#This Row],[Where do you work]],tblCountries[[Actual]:[Mapping]],2,FALSE)","v":"Canada"},2,">5<=10","N. AMERICA",{"$f":"(G463/365)/L463","v":94.294940564551879}]
[null,"ID0467","2012-05-26T03:11:21","5250 $",5250,"USD",{"$f":"tblSalaries[[#This Row],[clean Salary (in local currency)]]*VLOOKUP(tblSalaries[[#This Row],[Currency]],tblXrate[],2,FALSE)","v":5250},"Treasure Specialist","Specialist","Republic of Georgia",{"$f":"VLOOKUP(tblSalaries[[#This Row],[Where do you work]],tblCountries[[Actual]:[Mapping]],2,FALSE)","v":"Republic of Georgia"},6,">20","N. AMERICA",{"$f":"(G464/365)/L464","v":2.3972602739726026}]
[null,"ID0468","2012-05-26T03:11:44",87000,87000,"CAD",{"$f":"tblSalaries[[#This Row],[clean Salary (in local currency)]]*VLOOKUP(tblSalaries[[#This Row],[Currency]],tblXrate[],2,FALSE)","v":85552.452503638444},"Business Manager","Manager","Canada",{"$f":"VLOOKUP(tblSalaries[[#This Row],[Where do you work]],tblCountries[[Actual]:[Mapping]],2,FALSE)","v":"Canada"},6,">10<=20","N. AMERICA",{"$f":"(G465/365)/L465","v":39.06504680531436}]
[null,"ID0469","2012-05-26T03:13:13",125000,125000,"INR",{"$f":"tblSalaries[[#This Row],[clean Salary (in local currency)]]*VLOOKUP(tblSalaries[[#This Row],[Currency]],tblXrate[],2,FALSE)","v":2225.989585930321},"clerk","Analyst","India",{"$f":"VLOOKUP(tblSalaries[[#This Row],[Where do you work]],tblCountries[[Actual]:[Mapping]],2,FALSE)","v":"India"},6,"<=5","ASIA",{"$f":"(G466/365)/L466","v":1.016433600881425}]
[null,"ID0470","2012-05-26T03:14:44",150000,150000,"USD",{"$f":"tblSalaries[[#This Row],[clean Salary (in local currency)]]*VLOOKUP(tblSalaries[[#This Row],[Currency]],tblXrate[],2,FALSE)","v":150000},"CFO","CXO or Top Mgmt.","USA",{"$f":"VLOOKUP(tblSalaries[[#This Row],[Where do you work]],tblCountries[[Actual]:[Mapping]],2,FALSE)","v":"USA"},3,"<=5","N. AMERICA",{"$f":"(G467/365)/L467","v":136.98630136986301}]
[null,"ID0471","2012-05-26T03:15:01",50000,50000,"USD",{"$f":"tblSalaries[[#This Row],[clean Salary (in local currency)]]*VLOOKUP(tblSalaries[[#This Row],[Currency]],tblXrate[],2,FALSE)","v":50000},"Researcher & Data Analyst","Analyst","USA",{"$f":"VLOOKUP(tblSalaries[[#This Row],[Where do you work]],tblCountries[[Actual]:[Mapping]],2,FALSE)","v":"USA"},6,">20","N. AMERICA",{"$f":"(G468/365)/L468","v":22.831050228310502}]
[null,"ID0472","2012-05-26T03:15:04",70000,70000,"USD",{"$f":"tblSalaries[[#This Row],[clean Salary (in local currency)]]*VLOOKUP(tblSalaries[[#This Row],[Currency]],tblXrate[],2,FALSE)","v":70000},"Analyst","Analyst","USA",{"$f":"VLOOKUP(tblSalaries[[#This Row],[Where do you work]],tblCountries[[Actual]:[Mapping]],2,FALSE)","v":"USA"},6,">10<=20","N. AMERICA",{"$f":"(G469/365)/L469","v":31.963470319634705}]
[null,"ID0473","2012-05-26T03:15:30","Â£28500",28500,"GBP",{"$f":"tblSalaries[[#This Row],[clean Salary (in local currency)]]*VLOOKUP(tblSalaries[[#This Row],[Currency]],tblXrate[],2,FALSE)","v":44921.080753917595},"Data Quality & Analysis Manager","Manager","UK",{"$f":"VLOOKUP(tblSalaries[[#This Row],[Where do you work]],tblCountries[[Actual]:[Mapping]],2,FALSE)","v":"UK"},3,">20","EUROPE",{"$f":"(G470/365)/L470","v":41.023818040107393}]
[null,"ID0474","2012-05-26T03:15:50",20000,20000,"USD",{"$f":"tblSalaries[[#This Row],[clean Salary (in local currency)]]*VLOOKUP(tblSalaries[[#This Row],[Currency]],tblXrate[],2,FALSE)","v":20000},"Specialist","Specialist","India",{"$f":"VLOOKUP(tblSalaries[[#This Row],[Where do you work]],tblCountries[[Actual]:[Mapping]],2,FALSE)","v":"India"},6,">20","ASIA",{"$f":"(G471/365)/L471","v":9.1324200913242013}]
[null,"ID0476","2012-05-26T03:16:58",12000,12000,"USD",{"$f":"tblSalaries[[#This Row],[clean Salary (in local currency)]]*VLOOKUP(tblSalaries[[#This Row],[Currency]],tblXrate[],2,FALSE)","v":12000},"Resource managment Analyst","Analyst","Estonia",{"$f":"VLOOKUP(tblSalaries[[#This Row],[Where do you work]],tblCountries[[Actual]:[Mapping]],2,FALSE)","v":"Estonia"},8,"<=5","EUROPE",{"$f":"(G472/365)/L472","v":4.1095890410958908}]
[null,"ID0477","2012-05-26T03:17:19",1250000,1250000,"CAD",{"$f":"tblSalaries[[#This Row],[clean Salary (in local currency)]]*VLOOKUP(tblSalaries[[#This Row],[Currency]],tblXrate[],2,FALSE)","v":1229201.9037879086},"Account Executive","Accountant","Canada",{"$f":"VLOOKUP(tblSalaries[[#This Row],[Where do you work]],tblCountries[[Actual]:[Mapping]],2,FALSE)","v":"Canada"},6,">10<=20","N. AMERICA",{"$f":"(G473/365)/L473","v":561.27940812233271}]
[null,"ID0478","2012-05-26T03:19:00",30000,30000,"USD",{"$f":"tblSalaries[[#This Row],[clean Salary (in local currency)]]*VLOOKUP(tblSalaries[[#This Row],[Currency]],tblXrate[],2,FALSE)","v":30000},"video production","Analyst","USA",{"$f":"VLOOKUP(tblSalaries[[#This Row],[Where do you work]],tblCountries[[Actual]:[Mapping]],2,FALSE)","v":"USA"},8,">20","N. AMERICA",{"$f":"(G474/365)/L474","v":10.273972602739725}]
[null,"ID0479","2012-05-26T03:21:26",2000,24000,"USD",{"$f":"tblSalaries[[#This Row],[clean Salary (in local currency)]]*VLOOKUP(tblSalaries[[#This Row],[Currency]],tblXrate[],2,FALSE)","v":24000},"engineer","Engineer","mozambique",{"$f":"VLOOKUP(tblSalaries[[#This Row],[Where do you work]],tblCountries[[Actual]:[Mapping]],2,FALSE)","v":"mozambique"},3,">20","AFRICA",{"$f":"(G475/365)/L475","v":21.917808219178085}]
[null,"ID0480","2012-05-26T03:21:55",92000,92000,"USD",{"$f":"tblSalaries[[#This Row],[clean Salary (in local currency)]]*VLOOKUP(tblSalaries[[#This Row],[Currency]],tblXrate[],2,FALSE)","v":92000},"principal engineer","Engineer","USA",{"$f":"VLOOKUP(tblSalaries[[#This Row],[Where do you work]],tblCountries[[Actual]:[Mapping]],2,FALSE)","v":"USA"},2,">20","N. AMERICA",{"$f":"(G476/365)/L476","v":126.02739726027397}]
[null,"ID0481","2012-05-26T03:22:33",52000,52000,"USD",{"$f":"tblSalaries[[#This Row],[clean Salary (in local currency)]]*VLOOKUP(tblSalaries[[#This Row],[Currency]],tblXrate[],2,FALSE)","v":52000},"budget analyst","Analyst","USA",{"$f":"VLOOKUP(tblSalaries[[#This Row],[Where do you work]],tblCountries[[Actual]:[Mapping]],2,FALSE)","v":"USA"},6,">20","N. AMERICA",{"$f":"(G477/365)/L477","v":23.74429223744292}]
[null,"ID0482","2012-05-26T03:23:51","US$169,000",169000,"USD",{"$f":"tblSalaries[[#This Row],[clean Salary (in local currency)]]*VLOOKUP(tblSalaries[[#This Row],[Currency]],tblXrate[],2,FALSE)","v":169000},"Category Director (Marketing)","CXO or Top Mgmt.","USA",{"$f":"VLOOKUP(tblSalaries[[#This Row],[Where do you work]],tblCountries[[Actual]:[Mapping]],2,FALSE)","v":"USA"},3,">10<=20","N. AMERICA",{"$f":"(G478/365)/L478","v":154.337899543379}]
[null,"ID0484","2012-05-26T03:25:57",110000,110000,"USD",{"$f":"tblSalaries[[#This Row],[clean Salary (in local currency)]]*VLOOKUP(tblSalaries[[#This Row],[Currency]],tblXrate[],2,FALSE)","v":110000},"Senior consultant accounting","Accountant","Norway",{"$f":"VLOOKUP(tblSalaries[[#This Row],[Where do you work]],tblCountries[[Actual]:[Mapping]],2,FALSE)","v":"Norway"},3,">20","EUROPE",{"$f":"(G479/365)/L479","v":100.45662100456622}]
[null,"ID0485","2012-05-26T03:27:56","Zar 1080000",1080000,"ZAR",{"$f":"tblSalaries[[#This Row],[clean Salary (in local currency)]]*VLOOKUP(tblSalaries[[#This Row],[Currency]],tblXrate[],2,FALSE)","v":131675.52225194403},"Finance manager","Manager","South africa",{"$f":"VLOOKUP(tblSalaries[[#This Row],[Where do you work]],tblCountries[[Actual]:[Mapping]],2,FALSE)","v":"South Africa"},3,">20","AFRICA",{"$f":"(G480/365)/L480","v":120.25161849492605}]
[null,"ID0486","2012-05-26T03:30:42","GB Sterling 59k",59000,"GBP",{"$f":"tblSalaries[[#This Row],[clean Salary (in local currency)]]*VLOOKUP(tblSalaries[[#This Row],[Currency]],tblXrate[],2,FALSE)","v":92994.518051969761},"Health and safety advisor","Consultant","UK",{"$f":"VLOOKUP(tblSalaries[[#This Row],[Where do you work]],tblCountries[[Actual]:[Mapping]],2,FALSE)","v":"UK"},3,">20","EUROPE",{"$f":"(G481/365)/L481","v":84.926500504081972}]
[null,"ID0487","2012-05-26T03:31:34",50000,50000,"USD",{"$f":"tblSalaries[[#This Row],[clean Salary (in local currency)]]*VLOOKUP(tblSalaries[[#This Row],[Currency]],tblXrate[],2,FALSE)","v":50000},"Workforce Analyst","Analyst","USA",{"$f":"VLOOKUP(tblSalaries[[#This Row],[Where do you work]],tblCountries[[Actual]:[Mapping]],2,FALSE)","v":"USA"},6,">20","N. AMERICA",{"$f":"(G482/365)/L482","v":22.831050228310502}]
[null,"ID0488","2012-05-26T03:32:13",65000,65000,"USD",{"$f":"tblSalaries[[#This Row],[clean Salary (in local currency)]]*VLOOKUP(tblSalaries[[#This Row],[Currency]],tblXrate[],2,FALSE)","v":65000},"Business Systems Analyst","Analyst","USA",{"$f":"VLOOKUP(tblSalaries[[#This Row],[Where do you work]],tblCountries[[Actual]:[Mapping]],2,FALSE)","v":"USA"},3,"<=5","N. AMERICA",{"$f":"(G483/365)/L483","v":59.360730593607308}]
[null,"ID0489","2012-05-26T03:32:53",46000,46000,"CAD",{"$f":"tblSalaries[[#This Row],[clean Salary (in local currency)]]*VLOOKUP(tblSalaries[[#This Row],[Currency]],tblXrate[],2,FALSE)","v":45234.630059395036},"Sr. Marketing Solutions Analyst","Analyst","Canada",{"$f":"VLOOKUP(tblSalaries[[#This Row],[Where do you work]],tblCountries[[Actual]:[Mapping]],2,FALSE)","v":"Canada"},8,">10<=20","N. AMERICA",{"$f":"(G484/365)/L484","v":15.491311664176383}]
[null,"ID0490","2012-05-26T03:33:32",55000,55000,"USD",{"$f":"tblSalaries[[#This Row],[clean Salary (in local currency)]]*VLOOKUP(tblSalaries[[#This Row],[Currency]],tblXrate[],2,FALSE)","v":55000},"Analyst","Analyst","USA",{"$f":"VLOOKUP(tblSalaries[[#This Row],[Where do you work]],tblCountries[[Actual]:[Mapping]],2,FALSE)","v":"USA"},3,">20","N. AMERICA",{"$f":"(G485/365)/L485","v":50.228310502283108}]
[null,"ID0491","2012-05-26T03:34:04","20000 US$",20000,"USD",{"$f":"tblSalaries[[#This Row],[clean Salary (in local currency)]]*VLOOKUP(tblSalaries[[#This Row],[Currency]],tblXrate[],2,FALSE)","v":20000},"Consultant","Consultant","India",{"$f":"VLOOKUP(tblSalaries[[#This Row],[Where do you work]],tblCountries[[Actual]:[Mapping]],2,FALSE)","v":"India"},3,">20","ASIA",{"$f":"(G486/365)/L486","v":18.264840182648403}]
[null,"ID0492","2012-05-26T03:34:15",6000,6000,"USD",{"$f":"tblSalaries[[#This Row],[clean Salary (in local currency)]]*VLOOKUP(tblSalaries[[#This Row],[Currency]],tblXrate[],2,FALSE)","v":6000},"MIS","Reporting","India",{"$f":"VLOOKUP(tblSalaries[[#This Row],[Where do you work]],tblCountries[[Actual]:[Mapping]],2,FALSE)","v":"India"},8,">20","ASIA",{"$f":"(G487/365)/L487","v":2.0547945205479454}]
[null,"ID0493","2012-05-26T03:37:33",190000,190000,"GBP",{"$f":"tblSalaries[[#This Row],[clean Salary (in local currency)]]*VLOOKUP(tblSalaries[[#This Row],[Currency]],tblXrate[],2,FALSE)","v":299473.87169278396},"Managing Partner","CXO or Top Mgmt.","UK",{"$f":"VLOOKUP(tblSalaries[[#This Row],[Where do you work]],tblCountries[[Actual]:[Mapping]],2,FALSE)","v":"UK"},6,"<=5","EUROPE",{"$f":"(G488/365)/L488","v":136.74606013369132}]
[null,"ID0494","2012-05-26T03:37:46",28164,28164,"GBP",{"$f":"tblSalaries[[#This Row],[clean Salary (in local currency)]]*VLOOKUP(tblSalaries[[#This Row],[Currency]],tblXrate[],2,FALSE)","v":44391.484854502989},"Administration Officer","Manager","UK",{"$f":"VLOOKUP(tblSalaries[[#This Row],[Where do you work]],tblCountries[[Actual]:[Mapping]],2,FALSE)","v":"UK"},6,">20","EUROPE",{"$f":"(G489/365)/L489","v":20.270084408448852}]
[null,"ID0495","2012-05-26T03:40:26",40000,40000,"USD",{"$f":"tblSalaries[[#This Row],[clean Salary (in local currency)]]*VLOOKUP(tblSalaries[[#This Row],[Currency]],tblXrate[],2,FALSE)","v":40000},"BAS","Analyst","USA",{"$f":"VLOOKUP(tblSalaries[[#This Row],[Where do you work]],tblCountries[[Actual]:[Mapping]],2,FALSE)","v":"USA"},3,">20","N. AMERICA",{"$f":"(G490/365)/L490","v":36.529680365296805}]
[null,"ID0496","2012-05-26T03:48:42","USD 108,000",108000,"USD",{"$f":"tblSalaries[[#This Row],[clean Salary (in local currency)]]*VLOOKUP(tblSalaries[[#This Row],[Currency]],tblXrate[],2,FALSE)","v":108000},"Manager","Manager","Norway",{"$f":"VLOOKUP(tblSalaries[[#This Row],[Where do you work]],tblCountries[[Actual]:[Mapping]],2,FALSE)","v":"Norway"},6,">20","EUROPE",{"$f":"(G491/365)/L491","v":49.315068493150683}]
[null,"ID0497","2012-05-26T03:49:21","200000 Rupees",200000,"INR",{"$f":"tblSalaries[[#This Row],[clean Salary (in local currency)]]*VLOOKUP(tblSalaries[[#This Row],[Currency]],tblXrate[],2,FALSE)","v":3561.5833374885137},"chemist","Analyst","India",{"$f":"VLOOKUP(tblSalaries[[#This Row],[Where do you work]],tblCountries[[Actual]:[Mapping]],2,FALSE)","v":"India"},3,">20","ASIA",{"$f":"(G492/365)/L492","v":3.2525875228205603}]
[null,"ID0498","2012-05-26T03:50:24",84000,84000,"USD",{"$f":"tblSalaries[[#This Row],[clean Salary (in local currency)]]*VLOOKUP(tblSalaries[[#This Row],[Currency]],tblXrate[],2,FALSE)","v":84000},"Senior Analyst","Analyst","USA",{"$f":"VLOOKUP(tblSalaries[[#This Row],[Where do you work]],tblCountries[[Actual]:[Mapping]],2,FALSE)","v":"USA"},8,">20","N. AMERICA",{"$f":"(G493/365)/L493","v":28.767123287671232}]
[null,"ID0499","2012-05-26T03:52:24",33000,33000,"GBP",{"$f":"tblSalaries[[#This Row],[clean Salary (in local currency)]]*VLOOKUP(tblSalaries[[#This Row],[Currency]],tblXrate[],2,FALSE)","v":52013.882978220376},"LOGISTIC MANAGER","Manager","UK",{"$f":"VLOOKUP(tblSalaries[[#This Row],[Where do you work]],tblCountries[[Actual]:[Mapping]],2,FALSE)","v":"UK"},6,">20","EUROPE",{"$f":"(G494/365)/L494","v":23.75063149690428}]
[null,"ID0500","2012-05-26T03:53:29","Rs. 7,20,000/-",720000,"INR",{"$f":"tblSalaries[[#This Row],[clean Salary (in local currency)]]*VLOOKUP(tblSalaries[[#This Row],[Currency]],tblXrate[],2,FALSE)","v":12821.700014958649},"Manager Finance","Manager","India",{"$f":"VLOOKUP(tblSalaries[[#This Row],[Where do you work]],tblCountries[[Actual]:[Mapping]],2,FALSE)","v":"India"},3,">10<=20","ASIA",{"$f":"(G495/365)/L495","v":11.709315082154019}]
[null,"ID0501","2012-05-26T04:00:21",68500,68500,"CAD",{"$f":"tblSalaries[[#This Row],[clean Salary (in local currency)]]*VLOOKUP(tblSalaries[[#This Row],[Currency]],tblXrate[],2,FALSE)","v":67360.264327577388},"Financial Analyst","Analyst","Canada",{"$f":"VLOOKUP(tblSalaries[[#This Row],[Where do you work]],tblCountries[[Actual]:[Mapping]],2,FALSE)","v":"Canada"},6,"<=5","N. AMERICA",{"$f":"(G496/365)/L496","v":30.758111565103832}]
[null,"ID0502","2012-05-26T04:01:45","23000 USD",23000,"USD",{"$f":"tblSalaries[[#This Row],[clean Salary (in local currency)]]*VLOOKUP(tblSalaries[[#This Row],[Currency]],tblXrate[],2,FALSE)","v":23000},"IT solutions coordinator","Manager","Hungary",{"$f":"VLOOKUP(tblSalaries[[#This Row],[Where do you work]],tblCountries[[Actual]:[Mapping]],2,FALSE)","v":"Hungary"},6,">5<=10","EUROPE",{"$f":"(G497/365)/L497","v":10.502283105022832}]
[null,"ID0503","2012-05-26T04:01:59",58000,58000,"GBP",{"$f":"tblSalaries[[#This Row],[clean Salary (in local currency)]]*VLOOKUP(tblSalaries[[#This Row],[Currency]],tblXrate[],2,FALSE)","v":91418.339779902482},"Business Modeller","Manager","UK",{"$f":"VLOOKUP(tblSalaries[[#This Row],[Where do you work]],tblCountries[[Actual]:[Mapping]],2,FALSE)","v":"UK"},8,">10<=20","EUROPE",{"$f":"(G498/365)/L498","v":31.307650609555644}]
[null,"ID0504","2012-05-26T04:03:33",77000,77000,"USD",{"$f":"tblSalaries[[#This Row],[clean Salary (in local currency)]]*VLOOKUP(tblSalaries[[#This Row],[Currency]],tblXrate[],2,FALSE)","v":77000},"Senior Financial Analyst","Analyst","USA",{"$f":"VLOOKUP(tblSalaries[[#This Row],[Where do you work]],tblCountries[[Actual]:[Mapping]],2,FALSE)","v":"USA"},8,">20","N. AMERICA",{"$f":"(G499/365)/L499","v":26.36986301369863}]
[null,"ID0505","2012-05-26T04:05:08",100000,100000,"USD",{"$f":"tblSalaries[[#This Row],[clean Salary (in local currency)]]*VLOOKUP(tblSalaries[[#This Row],[Currency]],tblXrate[],2,FALSE)","v":100000},"Analyst","Analyst","USA",{"$f":"VLOOKUP(tblSalaries[[#This Row],[Where do you work]],tblCountries[[Actual]:[Mapping]],2,FALSE)","v":"USA"},6,">20","N. AMERICA",{"$f":"(G500/365)/L500","v":45.662100456621005}]
[null,"ID0506","2012-05-26T04:10:53",55500,55500,"USD",{"$f":"tblSalaries[[#This Row],[clean Salary (in local currency)]]*VLOOKUP(tblSalaries[[#This Row],[Currency]],tblXrate[],2,FALSE)","v":55500},"Sr QS","Controller","UAE",{"$f":"VLOOKUP(tblSalaries[[#This Row],[Where do you work]],tblCountries[[Actual]:[Mapping]],2,FALSE)","v":"UAE"},6,">20","ASIA",{"$f":"(G501/365)/L501","v":25.342465753424658}]
[null,"ID0507","2012-05-26T04:12:16","15000 â‚¬",15000,"EUR",{"$f":"tblSalaries[[#This Row],[clean Salary (in local currency)]]*VLOOKUP(tblSalaries[[#This Row],[Currency]],tblXrate[],2,FALSE)","v":19055.991584874118},"Report Analyst","Analyst","Spain",{"$f":"VLOOKUP(tblSalaries[[#This Row],[Where do you work]],tblCountries[[Actual]:[Mapping]],2,FALSE)","v":"Spain"},8,">5<=10","EUROPE",{"$f":"(G502/365)/L502","v":6.5260245153678484}]
[null,"ID0508","2012-05-26T04:13:54","Rs 6L",600000,"INR",{"$f":"tblSalaries[[#This Row],[clean Salary (in local currency)]]*VLOOKUP(tblSalaries[[#This Row],[Currency]],tblXrate[],2,FALSE)","v":10684.750012465542},"Business Co ordinator","Manager","India",{"$f":"VLOOKUP(tblSalaries[[#This Row],[Where do you work]],tblCountries[[Actual]:[Mapping]],2,FALSE)","v":"India"},6,">20","ASIA",{"$f":"(G503/365)/L503","v":4.8788812842308404}]
[null,"ID0509","2012-05-26T04:14:27",8400,8400,"USD",{"$f":"tblSalaries[[#This Row],[clean Salary (in local currency)]]*VLOOKUP(tblSalaries[[#This Row],[Currency]],tblXrate[],2,FALSE)","v":8400},"Manager","Manager","India",{"$f":"VLOOKUP(tblSalaries[[#This Row],[Where do you work]],tblCountries[[Actual]:[Mapping]],2,FALSE)","v":"India"},6,">20","ASIA",{"$f":"(G504/365)/L504","v":3.8356164383561642}]
[null,"ID0510","2012-05-26T04:16:16","Rs 500000",500000,"INR",{"$f":"tblSalaries[[#This Row],[clean Salary (in local currency)]]*VLOOKUP(tblSalaries[[#This Row],[Currency]],tblXrate[],2,FALSE)","v":8903.9583437212841},"duty manager","Manager","India",{"$f":"VLOOKUP(tblSalaries[[#This Row],[Where do you work]],tblCountries[[Actual]:[Mapping]],2,FALSE)","v":"India"},3,">20","ASIA",{"$f":"(G505/365)/L505","v":8.1314688070513998}]
[null,"ID0511","2012-05-26T04:17:20",12000,12000,"USD",{"$f":"tblSalaries[[#This Row],[clean Salary (in local currency)]]*VLOOKUP(tblSalaries[[#This Row],[Currency]],tblXrate[],2,FALSE)","v":12000},"Report Analyst","Analyst","Brazil",{"$f":"VLOOKUP(tblSalaries[[#This Row],[Where do you work]],tblCountries[[Actual]:[Mapping]],2,FALSE)","v":"Brazil"},8,">10<=20"," S. AMERICA",{"$f":"(G506/365)/L506","v":4.1095890410958908}]
[null,"ID0512","2012-05-26T04:18:15",65000,65000,"USD",{"$f":"tblSalaries[[#This Row],[clean Salary (in local currency)]]*VLOOKUP(tblSalaries[[#This Row],[Currency]],tblXrate[],2,FALSE)","v":65000},"Retail Store Manager","Manager","USA",{"$f":"VLOOKUP(tblSalaries[[#This Row],[Where do you work]],tblCountries[[Actual]:[Mapping]],2,FALSE)","v":"USA"},8,">20","N. AMERICA",{"$f":"(G507/365)/L507","v":22.260273972602739}]
[null,"ID0513","2012-05-26T04:19:05","Â£16400",16400,"GBP",{"$f":"tblSalaries[[#This Row],[clean Salary (in local currency)]]*VLOOKUP(tblSalaries[[#This Row],[Currency]],tblXrate[],2,FALSE)","v":25849.323661903458},"Job Build analyst","Analyst","UK",{"$f":"VLOOKUP(tblSalaries[[#This Row],[Where do you work]],tblCountries[[Actual]:[Mapping]],2,FALSE)","v":"UK"},6,">5<=10","EUROPE",{"$f":"(G508/365)/L508","v":11.803344137855461}]
[null,"ID0514","2012-05-26T04:20:17",78000,78000,"GBP",{"$f":"tblSalaries[[#This Row],[clean Salary (in local currency)]]*VLOOKUP(tblSalaries[[#This Row],[Currency]],tblXrate[],2,FALSE)","v":122941.90522124816},"Associate","Analyst","UK",{"$f":"VLOOKUP(tblSalaries[[#This Row],[Where do you work]],tblCountries[[Actual]:[Mapping]],2,FALSE)","v":"UK"},2,">20","EUROPE",{"$f":"(G509/365)/L509","v":168.41356879623035}]
[null,"ID0515","2012-05-26T04:25:24",76000,76000,"USD",{"$f":"tblSalaries[[#This Row],[clean Salary (in local currency)]]*VLOOKUP(tblSalaries[[#This Row],[Currency]],tblXrate[],2,FALSE)","v":76000},"Accounting Manager","Manager","USA",{"$f":"VLOOKUP(tblSalaries[[#This Row],[Where do you work]],tblCountries[[Actual]:[Mapping]],2,FALSE)","v":"USA"},3,">5<=10","N. AMERICA",{"$f":"(G510/365)/L510","v":69.406392694063925}]
[null,"ID0516","2012-05-26T04:26:10","$150000pa",150000,"USD",{"$f":"tblSalaries[[#This Row],[clean Salary (in local currency)]]*VLOOKUP(tblSalaries[[#This Row],[Currency]],tblXrate[],2,FALSE)","v":150000},"Consultant","Consultant","USA",{"$f":"VLOOKUP(tblSalaries[[#This Row],[Where do you work]],tblCountries[[Actual]:[Mapping]],2,FALSE)","v":"USA"},8,">20","N. AMERICA",{"$f":"(G511/365)/L511","v":51.369863013698627}]
[null,"ID0517","2012-05-26T04:27:12",54000,54000,"USD",{"$f":"tblSalaries[[#This Row],[clean Salary (in local currency)]]*VLOOKUP(tblSalaries[[#This Row],[Currency]],tblXrate[],2,FALSE)","v":54000},"Business Analyst","Analyst","USA",{"$f":"VLOOKUP(tblSalaries[[#This Row],[Where do you work]],tblCountries[[Actual]:[Mapping]],2,FALSE)","v":"USA"},6,">20","N. AMERICA",{"$f":"(G512/365)/L512","v":24.657534246575342}]
[null,"ID0518","2012-05-26T04:33:03","57000 USD",57000,"USD",{"$f":"tblSalaries[[#This Row],[clean Salary (in local currency)]]*VLOOKUP(tblSalaries[[#This Row],[Currency]],tblXrate[],2,FALSE)","v":57000},"project finance manager","Manager","israel",{"$f":"VLOOKUP(tblSalaries[[#This Row],[Where do you work]],tblCountries[[Actual]:[Mapping]],2,FALSE)","v":"Israel"},6,">20","ASIA",{"$f":"(G513/365)/L513","v":26.027397260273972}]
[null,"ID0519","2012-05-26T04:33:27",61000,61000,"USD",{"$f":"tblSalaries[[#This Row],[clean Salary (in local currency)]]*VLOOKUP(tblSalaries[[#This Row],[Currency]],tblXrate[],2,FALSE)","v":61000},"Senior Accountant","Accountant","USA",{"$f":"VLOOKUP(tblSalaries[[#This Row],[Where do you work]],tblCountries[[Actual]:[Mapping]],2,FALSE)","v":"USA"},6,">5<=10","N. AMERICA",{"$f":"(G514/365)/L514","v":27.853881278538811}]
[null,"ID0520","2012-05-26T04:34:41",70000,70000,"USD",{"$f":"tblSalaries[[#This Row],[clean Salary (in local currency)]]*VLOOKUP(tblSalaries[[#This Row],[Currency]],tblXrate[],2,FALSE)","v":70000},"Metrics Analyst","Analyst","USA",{"$f":"VLOOKUP(tblSalaries[[#This Row],[Where do you work]],tblCountries[[Actual]:[Mapping]],2,FALSE)","v":"USA"},8,">10<=20","N. AMERICA",{"$f":"(G515/365)/L515","v":23.972602739726028}]
[null,"ID0521","2012-05-26T04:36:43",15000,15000,"USD",{"$f":"tblSalaries[[#This Row],[clean Salary (in local currency)]]*VLOOKUP(tblSalaries[[#This Row],[Currency]],tblXrate[],2,FALSE)","v":15000},"Asst.Manager","Manager","India",{"$f":"VLOOKUP(tblSalaries[[#This Row],[Where do you work]],tblCountries[[Actual]:[Mapping]],2,FALSE)","v":"India"},6,">10<=20","ASIA",{"$f":"(G516/365)/L516","v":6.8493150684931505}]
[null,"ID0522","2012-05-26T04:39:11",87550,87550,"CAD",{"$f":"tblSalaries[[#This Row],[clean Salary (in local currency)]]*VLOOKUP(tblSalaries[[#This Row],[Currency]],tblXrate[],2,FALSE)","v":86093.301341305123},"Manager","Manager","Canada",{"$f":"VLOOKUP(tblSalaries[[#This Row],[Where do you work]],tblCountries[[Actual]:[Mapping]],2,FALSE)","v":"Canada"},6,"<=5","N. AMERICA",{"$f":"(G517/365)/L517","v":39.312009744888179}]
[null,"ID0523","2012-05-26T04:40:36",72600,72600,"USD",{"$f":"tblSalaries[[#This Row],[clean Salary (in local currency)]]*VLOOKUP(tblSalaries[[#This Row],[Currency]],tblXrate[],2,FALSE)","v":72600},"Accounting Operations Manager","Manager","USA",{"$f":"VLOOKUP(tblSalaries[[#This Row],[Where do you work]],tblCountries[[Actual]:[Mapping]],2,FALSE)","v":"USA"},3,">20","N. AMERICA",{"$f":"(G518/365)/L518","v":66.301369863013704}]
[null,"ID0524","2012-05-26T04:41:20",100000,100000,"USD",{"$f":"tblSalaries[[#This Row],[clean Salary (in local currency)]]*VLOOKUP(tblSalaries[[#This Row],[Currency]],tblXrate[],2,FALSE)","v":100000},"Director","CXO or Top Mgmt.","USA",{"$f":"VLOOKUP(tblSalaries[[#This Row],[Where do you work]],tblCountries[[Actual]:[Mapping]],2,FALSE)","v":"USA"},3,">10<=20","N. AMERICA",{"$f":"(G519/365)/L519","v":91.324200913242009}]
[null,"ID0525","2012-05-26T04:44:26",104000,104000,"USD",{"$f":"tblSalaries[[#This Row],[clean Salary (in local currency)]]*VLOOKUP(tblSalaries[[#This Row],[Currency]],tblXrate[],2,FALSE)","v":104000},"Vice President, Analyst","Analyst","USA",{"$f":"VLOOKUP(tblSalaries[[#This Row],[Where do you work]],tblCountries[[Actual]:[Mapping]],2,FALSE)","v":"USA"},6,">5<=10","N. AMERICA",{"$f":"(G520/365)/L520","v":47.48858447488584}]
[null,"ID0526","2012-05-26T04:48:35",600000,600000,"INR",{"$f":"tblSalaries[[#This Row],[clean Salary (in local currency)]]*VLOOKUP(tblSalaries[[#This Row],[Currency]],tblXrate[],2,FALSE)","v":10684.750012465542},"Project Manager","Manager","India",{"$f":"VLOOKUP(tblSalaries[[#This Row],[Where do you work]],tblCountries[[Actual]:[Mapping]],2,FALSE)","v":"India"},6,">10<=20","ASIA",{"$f":"(G521/365)/L521","v":4.8788812842308404}]
[null,"ID0527","2012-05-26T04:48:54",200000,200000,"USD",{"$f":"tblSalaries[[#This Row],[clean Salary (in local currency)]]*VLOOKUP(tblSalaries[[#This Row],[Currency]],tblXrate[],2,FALSE)","v":200000},"COO","CXO or Top Mgmt.","USA",{"$f":"VLOOKUP(tblSalaries[[#This Row],[Where do you work]],tblCountries[[Actual]:[Mapping]],2,FALSE)","v":"USA"},3,">10<=20","N. AMERICA",{"$f":"(G522/365)/L522","v":182.64840182648402}]
[null,"ID0528","2012-05-26T04:50:21","EUR 49248",49248,"EUR",{"$f":"tblSalaries[[#This Row],[clean Salary (in local currency)]]*VLOOKUP(tblSalaries[[#This Row],[Currency]],tblXrate[],2,FALSE)","v":62564.631571458704},"Financial Advisor","Accountant","Netherlands",{"$f":"VLOOKUP(tblSalaries[[#This Row],[Where do you work]],tblCountries[[Actual]:[Mapping]],2,FALSE)","v":"Netherlands"},8,">5<=10","EUROPE",{"$f":"(G523/365)/L523","v":21.42624368885572}]
[null,"ID0529","2012-05-26T04:50:47",36500,36500,"GBP",{"$f":"tblSalaries[[#This Row],[clean Salary (in local currency)]]*VLOOKUP(tblSalaries[[#This Row],[Currency]],tblXrate[],2,FALSE)","v":57530.506930455871},"Production Manager","Manager","UK",{"$f":"VLOOKUP(tblSalaries[[#This Row],[Where do you work]],tblCountries[[Actual]:[Mapping]],2,FALSE)","v":"UK"},3,">20","EUROPE",{"$f":"(G524/365)/L524","v":52.539275735576133}]
[null,"ID0530","2012-05-26T05:00:21",82300,82300,"USD",{"$f":"tblSalaries[[#This Row],[clean Salary (in local currency)]]*VLOOKUP(tblSalaries[[#This Row],[Currency]],tblXrate[],2,FALSE)","v":82300},"Manager - Finance","Manager","USA",{"$f":"VLOOKUP(tblSalaries[[#This Row],[Where do you work]],tblCountries[[Actual]:[Mapping]],2,FALSE)","v":"USA"},3,"<=5","N. AMERICA",{"$f":"(G525/365)/L525","v":75.159817351598164}]
[null,"ID0531","2012-05-26T05:04:49",95000,95000,"USD",{"$f":"tblSalaries[[#This Row],[clean Salary (in local currency)]]*VLOOKUP(tblSalaries[[#This Row],[Currency]],tblXrate[],2,FALSE)","v":95000},"Process Design Consultant","Consultant","USA",{"$f":"VLOOKUP(tblSalaries[[#This Row],[Where do you work]],tblCountries[[Actual]:[Mapping]],2,FALSE)","v":"USA"},6,"<=5","N. AMERICA",{"$f":"(G526/365)/L526","v":43.378995433789953}]
[null,"ID0532","2012-05-26T05:07:30",140000,140000,"GBP",{"$f":"tblSalaries[[#This Row],[clean Salary (in local currency)]]*VLOOKUP(tblSalaries[[#This Row],[Currency]],tblXrate[],2,FALSE)","v":220664.95808941979},"vba specialist","Specialist","UK",{"$f":"VLOOKUP(tblSalaries[[#This Row],[Where do you work]],tblCountries[[Actual]:[Mapping]],2,FALSE)","v":"UK"},8,">20","EUROPE",{"$f":"(G527/365)/L527","v":75.57019112651362}]
[null,"ID0533","2012-05-26T05:13:03",72000,72000,"USD",{"$f":"tblSalaries[[#This Row],[clean Salary (in local currency)]]*VLOOKUP(tblSalaries[[#This Row],[Currency]],tblXrate[],2,FALSE)","v":72000},"Analytical Department Director ","Analyst","Russia",{"$f":"VLOOKUP(tblSalaries[[#This Row],[Where do you work]],tblCountries[[Actual]:[Mapping]],2,FALSE)","v":"Russia"},3,">5<=10","ASIA",{"$f":"(G528/365)/L528","v":65.753424657534239}]
[null,"ID0534","2012-05-26T05:15:54",60000,60000,"AUD",{"$f":"tblSalaries[[#This Row],[clean Salary (in local currency)]]*VLOOKUP(tblSalaries[[#This Row],[Currency]],tblXrate[],2,FALSE)","v":61194.579384158147},"Analyst","Analyst","Australia",{"$f":"VLOOKUP(tblSalaries[[#This Row],[Where do you work]],tblCountries[[Actual]:[Mapping]],2,FALSE)","v":"Australia"},3,"<=5","OCEANIA",{"$f":"(G529/365)/L529","v":55.885460624801965}]
[null,"ID0535","2012-05-26T05:18:12","120k",120000,"USD",{"$f":"tblSalaries[[#This Row],[clean Salary (in local currency)]]*VLOOKUP(tblSalaries[[#This Row],[Currency]],tblXrate[],2,FALSE)","v":120000},"manager","Manager","nz",{"$f":"VLOOKUP(tblSalaries[[#This Row],[Where do you work]],tblCountries[[Actual]:[Mapping]],2,FALSE)","v":"New Zealand"},3,">20","OCEANIA",{"$f":"(G530/365)/L530","v":109.58904109589041}]
[null,"ID0536","2012-05-26T05:18:27","US$95K",95000,"USD",{"$f":"tblSalaries[[#This Row],[clean Salary (in local currency)]]*VLOOKUP(tblSalaries[[#This Row],[Currency]],tblXrate[],2,FALSE)","v":95000},"Director of Supply Chain","CXO or Top Mgmt.","Central America",{"$f":"VLOOKUP(tblSalaries[[#This Row],[Where do you work]],tblCountries[[Actual]:[Mapping]],2,FALSE)","v":"Central America"},3,">20","N. AMERICA",{"$f":"(G531/365)/L531","v":86.757990867579906}]
[null,"ID0537","2012-05-26T05:20:43",50000,50000,"USD",{"$f":"tblSalaries[[#This Row],[clean Salary (in local currency)]]*VLOOKUP(tblSalaries[[#This Row],[Currency]],tblXrate[],2,FALSE)","v":50000},"Research Assistant","Analyst","USA",{"$f":"VLOOKUP(tblSalaries[[#This Row],[Where do you work]],tblCountries[[Actual]:[Mapping]],2,FALSE)","v":"USA"},3,">20","N. AMERICA",{"$f":"(G532/365)/L532","v":45.662100456621005}]
[null,"ID0538","2012-05-26T05:23:20","73,000 GBP",73000,"GBP",{"$f":"tblSalaries[[#This Row],[clean Salary (in local currency)]]*VLOOKUP(tblSalaries[[#This Row],[Currency]],tblXrate[],2,FALSE)","v":115061.01386091174},"Finance Manager","Manager","UK",{"$f":"VLOOKUP(tblSalaries[[#This Row],[Where do you work]],tblCountries[[Actual]:[Mapping]],2,FALSE)","v":"UK"},6,">10<=20","EUROPE",{"$f":"(G533/365)/L533","v":52.539275735576133}]
[null,"ID0539","2012-05-26T05:24:16",50000,50000,"USD",{"$f":"tblSalaries[[#This Row],[clean Salary (in local currency)]]*VLOOKUP(tblSalaries[[#This Row],[Currency]],tblXrate[],2,FALSE)","v":50000},"Excel professional","Analyst","self-employed",{"$f":"VLOOKUP(tblSalaries[[#This Row],[Where do you work]],tblCountries[[Actual]:[Mapping]],2,FALSE)","v":"self-employed"},6,">20","ASIA",{"$f":"(G534/365)/L534","v":22.831050228310502}]
[null,"ID0540","2012-05-26T05:27:14",46000,46000,"USD",{"$f":"tblSalaries[[#This Row],[clean Salary (in local currency)]]*VLOOKUP(tblSalaries[[#This Row],[Currency]],tblXrate[],2,FALSE)","v":46000},"Research Analyst","Analyst","USA",{"$f":"VLOOKUP(tblSalaries[[#This Row],[Where do you work]],tblCountries[[Actual]:[Mapping]],2,FALSE)","v":"USA"},3,">10<=20","N. AMERICA",{"$f":"(G535/365)/L535","v":42.009132420091326}]
[null,"ID0541","2012-05-26T05:27:37","PKR 50,000",600000,"PKR",{"$f":"tblSalaries[[#This Row],[clean Salary (in local currency)]]*VLOOKUP(tblSalaries[[#This Row],[Currency]],tblXrate[],2,FALSE)","v":6368.453230079479},"Trainer","Consultant","Pakistan",{"$f":"VLOOKUP(tblSalaries[[#This Row],[Where do you work]],tblCountries[[Actual]:[Mapping]],2,FALSE)","v":"Pakistan"},6,">10<=20","ASIA",{"$f":"(G536/365)/L536","v":2.9079695114518169}]
[null,"ID0543","2012-05-26T05:28:46",85000,85000,"AUD",{"$f":"tblSalaries[[#This Row],[clean Salary (in local currency)]]*VLOOKUP(tblSalaries[[#This Row],[Currency]],tblXrate[],2,FALSE)","v":86692.320794224041},"Business analyst","Analyst","Australia",{"$f":"VLOOKUP(tblSalaries[[#This Row],[Where do you work]],tblCountries[[Actual]:[Mapping]],2,FALSE)","v":"Australia"},6,">10<=20","OCEANIA",{"$f":"(G537/365)/L537","v":39.58553460923472}]
[null,"ID0544","2012-05-26T05:29:55",450000,450000,"INR",{"$f":"tblSalaries[[#This Row],[clean Salary (in local currency)]]*VLOOKUP(tblSalaries[[#This Row],[Currency]],tblXrate[],2,FALSE)","v":8013.5625093491553},"deputy manager","Manager","India",{"$f":"VLOOKUP(tblSalaries[[#This Row],[Where do you work]],tblCountries[[Actual]:[Mapping]],2,FALSE)","v":"India"},8,">20","ASIA",{"$f":"(G538/365)/L538","v":2.7443707223798479}]
[null,"ID0545","2012-05-26T05:29:58",43000,43000,"USD",{"$f":"tblSalaries[[#This Row],[clean Salary (in local currency)]]*VLOOKUP(tblSalaries[[#This Row],[Currency]],tblXrate[],2,FALSE)","v":43000},"Accountant","Accountant","USA",{"$f":"VLOOKUP(tblSalaries[[#This Row],[Where do you work]],tblCountries[[Actual]:[Mapping]],2,FALSE)","v":"USA"},8,">20","N. AMERICA",{"$f":"(G539/365)/L539","v":14.726027397260275}]
[null,"ID0546","2012-05-26T05:30:12",1500,18000,"USD",{"$f":"tblSalaries[[#This Row],[clean Salary (in local currency)]]*VLOOKUP(tblSalaries[[#This Row],[Currency]],tblXrate[],2,FALSE)","v":18000},"Engineer","Engineer","Brazil",{"$f":"VLOOKUP(tblSalaries[[#This Row],[Where do you work]],tblCountries[[Actual]:[Mapping]],2,FALSE)","v":"Brazil"},6,">20"," S. AMERICA",{"$f":"(G540/365)/L540","v":8.2191780821917799}]
[null,"ID0547","2012-05-26T05:31:06",55000,55000,"USD",{"$f":"tblSalaries[[#This Row],[clean Salary (in local currency)]]*VLOOKUP(tblSalaries[[#This Row],[Currency]],tblXrate[],2,FALSE)","v":55000},"Marketing","Analyst","USA",{"$f":"VLOOKUP(tblSalaries[[#This Row],[Where do you work]],tblCountries[[Actual]:[Mapping]],2,FALSE)","v":"USA"},3,">20","N. AMERICA",{"$f":"(G541/365)/L541","v":50.228310502283108}]
[null,"ID0548","2012-05-26T05:31:25","Rs. 500000",500000,"INR",{"$f":"tblSalaries[[#This Row],[clean Salary (in local currency)]]*VLOOKUP(tblSalaries[[#This Row],[Currency]],tblXrate[],2,FALSE)","v":8903.9583437212841},"Research Associate","Analyst","India",{"$f":"VLOOKUP(tblSalaries[[#This Row],[Where do you work]],tblCountries[[Actual]:[Mapping]],2,FALSE)","v":"India"},8,">20","ASIA",{"$f":"(G542/365)/L542","v":3.0493008026442752}]
[null,"ID0549","2012-05-26T05:33:43",45000,45000,"USD",{"$f":"tblSalaries[[#This Row],[clean Salary (in local currency)]]*VLOOKUP(tblSalaries[[#This Row],[Currency]],tblXrate[],2,FALSE)","v":45000},"Reports Coordinator","Reporting","USA",{"$f":"VLOOKUP(tblSalaries[[#This Row],[Where do you work]],tblCountries[[Actual]:[Mapping]],2,FALSE)","v":"USA"},8,">20","N. AMERICA",{"$f":"(G543/365)/L543","v":15.41095890410959}]
[null,"ID0550","2012-05-26T05:35:00",50000,50000,"USD",{"$f":"tblSalaries[[#This Row],[clean Salary (in local currency)]]*VLOOKUP(tblSalaries[[#This Row],[Currency]],tblXrate[],2,FALSE)","v":50000},"Quality Compliance Manager","Manager","USA",{"$f":"VLOOKUP(tblSalaries[[#This Row],[Where do you work]],tblCountries[[Actual]:[Mapping]],2,FALSE)","v":"USA"},6,">20","N. AMERICA",{"$f":"(G544/365)/L544","v":22.831050228310502}]
[null,"ID0551","2012-05-26T05:44:42","80,000 USD",80000,"USD",{"$f":"tblSalaries[[#This Row],[clean Salary (in local currency)]]*VLOOKUP(tblSalaries[[#This Row],[Currency]],tblXrate[],2,FALSE)","v":80000},"Cost Analyst","Analyst","USA",{"$f":"VLOOKUP(tblSalaries[[#This Row],[Where do you work]],tblCountries[[Actual]:[Mapping]],2,FALSE)","v":"USA"},8,">20","N. AMERICA",{"$f":"(G545/365)/L545","v":27.397260273972602}]
[null,"ID0552","2012-05-26T05:46:02",67000,67000,"USD",{"$f":"tblSalaries[[#This Row],[clean Salary (in local currency)]]*VLOOKUP(tblSalaries[[#This Row],[Currency]],tblXrate[],2,FALSE)","v":67000},"Management Analyst","Analyst","USA",{"$f":"VLOOKUP(tblSalaries[[#This Row],[Where do you work]],tblCountries[[Actual]:[Mapping]],2,FALSE)","v":"USA"},6,">10<=20","N. AMERICA",{"$f":"(G546/365)/L546","v":30.593607305936075}]
[null,"ID0553","2012-05-26T05:46:42",111000,111000,"USD",{"$f":"tblSalaries[[#This Row],[clean Salary (in local currency)]]*VLOOKUP(tblSalaries[[#This Row],[Currency]],tblXrate[],2,FALSE)","v":111000},"Senior Financial Analyst","Analyst","Japan",{"$f":"VLOOKUP(tblSalaries[[#This Row],[Where do you work]],tblCountries[[Actual]:[Mapping]],2,FALSE)","v":"Japan"},8,">20","ASIA",{"$f":"(G547/365)/L547","v":38.013698630136986}]
[null,"ID0554","2012-05-26T05:48:10",120000,120000,"USD",{"$f":"tblSalaries[[#This Row],[clean Salary (in local currency)]]*VLOOKUP(tblSalaries[[#This Row],[Currency]],tblXrate[],2,FALSE)","v":120000},"Director","CXO or Top Mgmt.","USA",{"$f":"VLOOKUP(tblSalaries[[#This Row],[Where do you work]],tblCountries[[Actual]:[Mapping]],2,FALSE)","v":"USA"},6,">5<=10","N. AMERICA",{"$f":"(G548/365)/L548","v":54.794520547945204}]
[null,"ID0555","2012-05-26T05:48:12","Â£20000",20000,"GBP",{"$f":"tblSalaries[[#This Row],[clean Salary (in local currency)]]*VLOOKUP(tblSalaries[[#This Row],[Currency]],tblXrate[],2,FALSE)","v":31523.565441345683},"IT Consultant","Consultant","UK",{"$f":"VLOOKUP(tblSalaries[[#This Row],[Where do you work]],tblCountries[[Actual]:[Mapping]],2,FALSE)","v":"UK"},6,">20","EUROPE",{"$f":"(G549/365)/L549","v":14.394322119335927}]
[null,"ID0556","2012-05-26T05:50:21",77000,77000,"AUD",{"$f":"tblSalaries[[#This Row],[clean Salary (in local currency)]]*VLOOKUP(tblSalaries[[#This Row],[Currency]],tblXrate[],2,FALSE)","v":78533.043543002947},"Intelligence Analyst","Analyst","Australia",{"$f":"VLOOKUP(tblSalaries[[#This Row],[Where do you work]],tblCountries[[Actual]:[Mapping]],2,FALSE)","v":"Australia"},3,">20","OCEANIA",{"$f":"(G550/365)/L550","v":71.719674468495839}]
[null,"ID0557","2012-05-26T05:50:23",60000,60000,"USD",{"$f":"tblSalaries[[#This Row],[clean Salary (in local currency)]]*VLOOKUP(tblSalaries[[#This Row],[Currency]],tblXrate[],2,FALSE)","v":60000},"Marketing Specialist","Specialist","USA",{"$f":"VLOOKUP(tblSalaries[[#This Row],[Where do you work]],tblCountries[[Actual]:[Mapping]],2,FALSE)","v":"USA"},2,">20","N. AMERICA",{"$f":"(G551/365)/L551","v":82.191780821917803}]
[null,"ID0558","2012-05-26T05:50:26",35000,35000,"USD",{"$f":"tblSalaries[[#This Row],[clean Salary (in local currency)]]*VLOOKUP(tblSalaries[[#This Row],[Currency]],tblXrate[],2,FALSE)","v":35000},"Analyst","Analyst","USA",{"$f":"VLOOKUP(tblSalaries[[#This Row],[Where do you work]],tblCountries[[Actual]:[Mapping]],2,FALSE)","v":"USA"},3,">20","N. AMERICA",{"$f":"(G552/365)/L552","v":31.963470319634705}]
[null,"ID0559","2012-05-26T05:52:47",50000,50000,"EUR",{"$f":"tblSalaries[[#This Row],[clean Salary (in local currency)]]*VLOOKUP(tblSalaries[[#This Row],[Currency]],tblXrate[],2,FALSE)","v":63519.971949580387},"Proyect Manager","Manager","Panama",{"$f":"VLOOKUP(tblSalaries[[#This Row],[Where do you work]],tblCountries[[Actual]:[Mapping]],2,FALSE)","v":"Panama"},3,">20","N. AMERICA",{"$f":"(G553/365)/L553","v":58.009106803269759}]
[null,"ID0560","2012-05-26T05:55:22",54000,54000,"USD",{"$f":"tblSalaries[[#This Row],[clean Salary (in local currency)]]*VLOOKUP(tblSalaries[[#This Row],[Currency]],tblXrate[],2,FALSE)","v":54000},"IT Specialist","Specialist","USA",{"$f":"VLOOKUP(tblSalaries[[#This Row],[Where do you work]],tblCountries[[Actual]:[Mapping]],2,FALSE)","v":"USA"},8,"<=5","N. AMERICA",{"$f":"(G554/365)/L554","v":18.493150684931507}]
[null,"ID0561","2012-05-26T06:01:57",1300,15600,"USD",{"$f":"tblSalaries[[#This Row],[clean Salary (in local currency)]]*VLOOKUP(tblSalaries[[#This Row],[Currency]],tblXrate[],2,FALSE)","v":15600},"CONTROLLER","Controller","BRA",{"$f":"VLOOKUP(tblSalaries[[#This Row],[Where do you work]],tblCountries[[Actual]:[Mapping]],2,FALSE)","v":"Brazil"},6,">10<=20"," S. AMERICA",{"$f":"(G555/365)/L555","v":7.1232876712328768}]
[null,"ID0562","2012-05-26T06:08:23",35000,35000,"USD",{"$f":"tblSalaries[[#This Row],[clean Salary (in local currency)]]*VLOOKUP(tblSalaries[[#This Row],[Currency]],tblXrate[],2,FALSE)","v":35000},"Technical Support Technician","Analyst","USA",{"$f":"VLOOKUP(tblSalaries[[#This Row],[Where do you work]],tblCountries[[Actual]:[Mapping]],2,FALSE)","v":"USA"},2,">5<=10","N. AMERICA",{"$f":"(G556/365)/L556","v":47.945205479452056}]
[null,"ID0563","2012-05-26T06:10:08",188000,188000,"USD",{"$f":"tblSalaries[[#This Row],[clean Salary (in local currency)]]*VLOOKUP(tblSalaries[[#This Row],[Currency]],tblXrate[],2,FALSE)","v":188000},"Director, Supply Chain Operations","CXO or Top Mgmt.","USA",{"$f":"VLOOKUP(tblSalaries[[#This Row],[Where do you work]],tblCountries[[Actual]:[Mapping]],2,FALSE)","v":"USA"},2,">10<=20","N. AMERICA",{"$f":"(G557/365)/L557","v":257.53424657534248}]
[null,"ID0564","2012-05-26T06:14:13",27500,27500,"USD",{"$f":"tblSalaries[[#This Row],[clean Salary (in local currency)]]*VLOOKUP(tblSalaries[[#This Row],[Currency]],tblXrate[],2,FALSE)","v":27500},"Associate","Analyst","USA",{"$f":"VLOOKUP(tblSalaries[[#This Row],[Where do you work]],tblCountries[[Actual]:[Mapping]],2,FALSE)","v":"USA"},8,"<=5","N. AMERICA",{"$f":"(G558/365)/L558","v":9.4178082191780828}]
[null,"ID0565","2012-05-26T06:20:38",140000,140000,"USD",{"$f":"tblSalaries[[#This Row],[clean Salary (in local currency)]]*VLOOKUP(tblSalaries[[#This Row],[Currency]],tblXrate[],2,FALSE)","v":140000},"controller","Controller","USA",{"$f":"VLOOKUP(tblSalaries[[#This Row],[Where do you work]],tblCountries[[Actual]:[Mapping]],2,FALSE)","v":"USA"},3,">5<=10","N. AMERICA",{"$f":"(G559/365)/L559","v":127.85388127853882}]
[null,"ID0566","2012-05-26T06:24:03",55000,55000,"EUR",{"$f":"tblSalaries[[#This Row],[clean Salary (in local currency)]]*VLOOKUP(tblSalaries[[#This Row],[Currency]],tblXrate[],2,FALSE)","v":69871.969144538423},"Business analyst","Analyst","Netherlands",{"$f":"VLOOKUP(tblSalaries[[#This Row],[Where do you work]],tblCountries[[Actual]:[Mapping]],2,FALSE)","v":"Netherlands"},8,">5<=10","EUROPE",{"$f":"(G560/365)/L560","v":23.928756556348777}]
[null,"ID0567","2012-05-26T06:40:59",45000,45000,"USD",{"$f":"tblSalaries[[#This Row],[clean Salary (in local currency)]]*VLOOKUP(tblSalaries[[#This Row],[Currency]],tblXrate[],2,FALSE)","v":45000},"Workflow Analyst","Analyst","USA",{"$f":"VLOOKUP(tblSalaries[[#This Row],[Where do you work]],tblCountries[[Actual]:[Mapping]],2,FALSE)","v":"USA"},6,"<=5","N. AMERICA",{"$f":"(G561/365)/L561","v":20.547945205479454}]
[null,"ID0568","2012-05-26T06:46:03","95000 USD",95000,"USD",{"$f":"tblSalaries[[#This Row],[clean Salary (in local currency)]]*VLOOKUP(tblSalaries[[#This Row],[Currency]],tblXrate[],2,FALSE)","v":95000},"Business Analyst","Analyst","Australia",{"$f":"VLOOKUP(tblSalaries[[#This Row],[Where do you work]],tblCountries[[Actual]:[Mapping]],2,FALSE)","v":"Australia"},3,">10<=20","OCEANIA",{"$f":"(G562/365)/L562","v":86.757990867579906}]
[null,"ID0569","2012-05-26T06:47:00","AUD $155,000",155000,"AUD",{"$f":"tblSalaries[[#This Row],[clean Salary (in local currency)]]*VLOOKUP(tblSalaries[[#This Row],[Currency]],tblXrate[],2,FALSE)","v":158085.99674240855},"Finance Manager Business Services","Manager","Australia",{"$f":"VLOOKUP(tblSalaries[[#This Row],[Where do you work]],tblCountries[[Actual]:[Mapping]],2,FALSE)","v":"Australia"},6,">10<=20","OCEANIA",{"$f":"(G563/365)/L563","v":72.185386640369202}]
[null,"ID0570","2012-05-26T06:47:59","NZ $80,000",80000,"NZD",{"$f":"tblSalaries[[#This Row],[clean Salary (in local currency)]]*VLOOKUP(tblSalaries[[#This Row],[Currency]],tblXrate[],2,FALSE)","v":63807.047488395103},"Accountant/Analyst","Analyst","New Zealand",{"$f":"VLOOKUP(tblSalaries[[#This Row],[Where do you work]],tblCountries[[Actual]:[Mapping]],2,FALSE)","v":"New Zealand"},6,">20","OCEANIA",{"$f":"(G564/365)/L564","v":29.135638122554841}]
[null,"ID0572","2012-05-26T06:50:23",38000,38000,"USD",{"$f":"tblSalaries[[#This Row],[clean Salary (in local currency)]]*VLOOKUP(tblSalaries[[#This Row],[Currency]],tblXrate[],2,FALSE)","v":38000},"Costing Analysis","Analyst","USA",{"$f":"VLOOKUP(tblSalaries[[#This Row],[Where do you work]],tblCountries[[Actual]:[Mapping]],2,FALSE)","v":"USA"},8,">10<=20","N. AMERICA",{"$f":"(G565/365)/L565","v":13.013698630136986}]
[null,"ID0573","2012-05-26T06:54:40",90000,90000,"USD",{"$f":"tblSalaries[[#This Row],[clean Salary (in local currency)]]*VLOOKUP(tblSalaries[[#This Row],[Currency]],tblXrate[],2,FALSE)","v":90000},"Sales Operations Supervisor","Manager","USA",{"$f":"VLOOKUP(tblSalaries[[#This Row],[Where do you work]],tblCountries[[Actual]:[Mapping]],2,FALSE)","v":"USA"},6,">5<=10","N. AMERICA",{"$f":"(G566/365)/L566","v":41.095890410958908}]
[null,"ID0574","2012-05-26T06:57:09","Â£28800",28800,"GBP",{"$f":"tblSalaries[[#This Row],[clean Salary (in local currency)]]*VLOOKUP(tblSalaries[[#This Row],[Currency]],tblXrate[],2,FALSE)","v":45393.934235537781},"Finance Manager","Manager","UK",{"$f":"VLOOKUP(tblSalaries[[#This Row],[Where do you work]],tblCountries[[Actual]:[Mapping]],2,FALSE)","v":"UK"},6,">20","EUROPE",{"$f":"(G567/365)/L567","v":20.727823851843734}]
[null,"ID0575","2012-05-26T07:01:10","Â£21000",21000,"GBP",{"$f":"tblSalaries[[#This Row],[clean Salary (in local currency)]]*VLOOKUP(tblSalaries[[#This Row],[Currency]],tblXrate[],2,FALSE)","v":33099.743713412965},"Sales Analyst","Analyst","UK",{"$f":"VLOOKUP(tblSalaries[[#This Row],[Where do you work]],tblCountries[[Actual]:[Mapping]],2,FALSE)","v":"UK"},8,">5<=10","EUROPE",{"$f":"(G568/365)/L568","v":11.335528668977043}]
[null,"ID0576","2012-05-26T07:06:50","USD 4285.00",4285,"USD",{"$f":"tblSalaries[[#This Row],[clean Salary (in local currency)]]*VLOOKUP(tblSalaries[[#This Row],[Currency]],tblXrate[],2,FALSE)","v":4285},"Assistant","Analyst","India",{"$f":"VLOOKUP(tblSalaries[[#This Row],[Where do you work]],tblCountries[[Actual]:[Mapping]],2,FALSE)","v":"India"},8,">5<=10","ASIA",{"$f":"(G569/365)/L569","v":1.4674657534246576}]
[null,"ID0577","2012-05-26T07:14:02",6000,6000,"USD",{"$f":"tblSalaries[[#This Row],[clean Salary (in local currency)]]*VLOOKUP(tblSalaries[[#This Row],[Currency]],tblXrate[],2,FALSE)","v":6000},"In Charge","Manager","Guyana",{"$f":"VLOOKUP(tblSalaries[[#This Row],[Where do you work]],tblCountries[[Actual]:[Mapping]],2,FALSE)","v":"Guyana"},2,">10<=20"," S. AMERICA",{"$f":"(G570/365)/L570","v":8.2191780821917817}]
[null,"ID0578","2012-05-26T07:15:48","$22,000 AUD",22000,"AUD",{"$f":"tblSalaries[[#This Row],[clean Salary (in local currency)]]*VLOOKUP(tblSalaries[[#This Row],[Currency]],tblXrate[],2,FALSE)","v":22438.012440857987},"Sales Analyst","Analyst","Australia",{"$f":"VLOOKUP(tblSalaries[[#This Row],[Where do you work]],tblCountries[[Actual]:[Mapping]],2,FALSE)","v":"Australia"},6,">5<=10","OCEANIA",{"$f":"(G571/365)/L571","v":10.245667781213692}]
[null,"ID0579","2012-05-26T07:18:57",90000,90000,"USD",{"$f":"tblSalaries[[#This Row],[clean Salary (in local currency)]]*VLOOKUP(tblSalaries[[#This Row],[Currency]],tblXrate[],2,FALSE)","v":90000},"Manager","Manager","USA",{"$f":"VLOOKUP(tblSalaries[[#This Row],[Where do you work]],tblCountries[[Actual]:[Mapping]],2,FALSE)","v":"USA"},3,">10<=20","N. AMERICA",{"$f":"(G572/365)/L572","v":82.191780821917817}]
[null,"ID0580","2012-05-26T07:23:11",150000,150000,"USD",{"$f":"tblSalaries[[#This Row],[clean Salary (in local currency)]]*VLOOKUP(tblSalaries[[#This Row],[Currency]],tblXrate[],2,FALSE)","v":150000},"CFO","CXO or Top Mgmt.","USA",{"$f":"VLOOKUP(tblSalaries[[#This Row],[Where do you work]],tblCountries[[Actual]:[Mapping]],2,FALSE)","v":"USA"},6,">20","N. AMERICA",{"$f":"(G573/365)/L573","v":68.493150684931507}]
[null,"ID0581","2012-05-26T07:32:19",130000,130000,"AUD",{"$f":"tblSalaries[[#This Row],[clean Salary (in local currency)]]*VLOOKUP(tblSalaries[[#This Row],[Currency]],tblXrate[],2,FALSE)","v":132588.25533234264},"Accountant","Accountant","Australia",{"$f":"VLOOKUP(tblSalaries[[#This Row],[Where do you work]],tblCountries[[Actual]:[Mapping]],2,FALSE)","v":"Australia"},3,">20","OCEANIA",{"$f":"(G574/365)/L574","v":121.0851646870709}]
[null,"ID0582","2012-05-26T07:36:23",45000,45000,"USD",{"$f":"tblSalaries[[#This Row],[clean Salary (in local currency)]]*VLOOKUP(tblSalaries[[#This Row],[Currency]],tblXrate[],2,FALSE)","v":45000},"business analyst","Analyst","USA",{"$f":"VLOOKUP(tblSalaries[[#This Row],[Where do you work]],tblCountries[[Actual]:[Mapping]],2,FALSE)","v":"USA"},6,"<=5","N. AMERICA",{"$f":"(G575/365)/L575","v":20.547945205479454}]
[null,"ID0583","2012-05-26T07:37:53",50000,50000,"USD",{"$f":"tblSalaries[[#This Row],[clean Salary (in local currency)]]*VLOOKUP(tblSalaries[[#This Row],[Currency]],tblXrate[],2,FALSE)","v":50000},"IT Specialist","Specialist","USA",{"$f":"VLOOKUP(tblSalaries[[#This Row],[Where do you work]],tblCountries[[Actual]:[Mapping]],2,FALSE)","v":"USA"},3,">5<=10","N. AMERICA",{"$f":"(G576/365)/L576","v":45.662100456621005}]
[null,"ID0584","2012-05-26T07:44:04",300000,300000,"USD",{"$f":"tblSalaries[[#This Row],[clean Salary (in local currency)]]*VLOOKUP(tblSalaries[[#This Row],[Currency]],tblXrate[],2,FALSE)","v":300000},"CEO","CXO or Top Mgmt.","USA",{"$f":"VLOOKUP(tblSalaries[[#This Row],[Where do you work]],tblCountries[[Actual]:[Mapping]],2,FALSE)","v":"USA"},3,">20","N. AMERICA",{"$f":"(G577/365)/L577","v":273.97260273972603}]
[null,"ID0585","2012-05-26T07:48:29",102000,102000,"AUD",{"$f":"tblSalaries[[#This Row],[clean Salary (in local currency)]]*VLOOKUP(tblSalaries[[#This Row],[Currency]],tblXrate[],2,FALSE)","v":104030.78495306884},"coordinator lismore regional airport","Manager","Australia",{"$f":"VLOOKUP(tblSalaries[[#This Row],[Where do you work]],tblCountries[[Actual]:[Mapping]],2,FALSE)","v":"Australia"},2,">5<=10","OCEANIA",{"$f":"(G578/365)/L578","v":142.50792459324498}]
[null,"ID0586","2012-05-26T07:50:50",115000,115000,"USD",{"$f":"tblSalaries[[#This Row],[clean Salary (in local currency)]]*VLOOKUP(tblSalaries[[#This Row],[Currency]],tblXrate[],2,FALSE)","v":115000},"Mgr Op Excellence","Manager","USA",{"$f":"VLOOKUP(tblSalaries[[#This Row],[Where do you work]],tblCountries[[Actual]:[Mapping]],2,FALSE)","v":"USA"},6,">10<=20","N. AMERICA",{"$f":"(G579/365)/L579","v":52.51141552511416}]
[null,"ID0587","2012-05-26T07:53:13",70000,70000,"USD",{"$f":"tblSalaries[[#This Row],[clean Salary (in local currency)]]*VLOOKUP(tblSalaries[[#This Row],[Currency]],tblXrate[],2,FALSE)","v":70000},"Financial Analyst","Analyst","USA",{"$f":"VLOOKUP(tblSalaries[[#This Row],[Where do you work]],tblCountries[[Actual]:[Mapping]],2,FALSE)","v":"USA"},6,"<=5","N. AMERICA",{"$f":"(G580/365)/L580","v":31.963470319634705}]
[null,"ID0588","2012-05-26T07:57:04",106000,106000,"AUD",{"$f":"tblSalaries[[#This Row],[clean Salary (in local currency)]]*VLOOKUP(tblSalaries[[#This Row],[Currency]],tblXrate[],2,FALSE)","v":108110.42357867939},"Pricing and Strategy Specialist","Specialist","Australia",{"$f":"VLOOKUP(tblSalaries[[#This Row],[Where do you work]],tblCountries[[Actual]:[Mapping]],2,FALSE)","v":"Australia"},6,">10<=20","OCEANIA",{"$f":"(G581/365)/L581","v":49.365490218575069}]
[null,"ID0589","2012-05-26T08:01:44",75000,75000,"USD",{"$f":"tblSalaries[[#This Row],[clean Salary (in local currency)]]*VLOOKUP(tblSalaries[[#This Row],[Currency]],tblXrate[],2,FALSE)","v":75000},"Sr. Human Resources Analyst","Analyst","USA",{"$f":"VLOOKUP(tblSalaries[[#This Row],[Where do you work]],tblCountries[[Actual]:[Mapping]],2,FALSE)","v":"USA"},3,">20","N. AMERICA",{"$f":"(G582/365)/L582","v":68.493150684931507}]
[null,"ID0590","2012-05-26T08:05:23",40414,40414,"USD",{"$f":"tblSalaries[[#This Row],[clean Salary (in local currency)]]*VLOOKUP(tblSalaries[[#This Row],[Currency]],tblXrate[],2,FALSE)","v":40414},"Performance Improvement Analyst","Analyst","USA",{"$f":"VLOOKUP(tblSalaries[[#This Row],[Where do you work]],tblCountries[[Actual]:[Mapping]],2,FALSE)","v":"USA"},6,">5<=10","N. AMERICA",{"$f":"(G583/365)/L583","v":18.453881278538812}]
[null,"ID0591","2012-05-26T08:05:39",65000,65000,"USD",{"$f":"tblSalaries[[#This Row],[clean Salary (in local currency)]]*VLOOKUP(tblSalaries[[#This Row],[Currency]],tblXrate[],2,FALSE)","v":65000},"Data Analyst","Analyst","USA",{"$f":"VLOOKUP(tblSalaries[[#This Row],[Where do you work]],tblCountries[[Actual]:[Mapping]],2,FALSE)","v":"USA"},6,"<=5","N. AMERICA",{"$f":"(G584/365)/L584","v":29.680365296803654}]
[null,"ID0592","2012-05-26T08:08:43",120000,120000,"USD",{"$f":"tblSalaries[[#This Row],[clean Salary (in local currency)]]*VLOOKUP(tblSalaries[[#This Row],[Currency]],tblXrate[],2,FALSE)","v":120000},"Sr. Analyst","Analyst","USA",{"$f":"VLOOKUP(tblSalaries[[#This Row],[Where do you work]],tblCountries[[Actual]:[Mapping]],2,FALSE)","v":"USA"},8,">5<=10","N. AMERICA",{"$f":"(G585/365)/L585","v":41.095890410958901}]
[null,"ID0593","2012-05-26T08:10:43",8000,96000,"CNY",{"$f":"tblSalaries[[#This Row],[clean Salary (in local currency)]]*VLOOKUP(tblSalaries[[#This Row],[Currency]],tblXrate[],2,FALSE)","v":15092.18020692008},"finance","Accountant","china",{"$f":"VLOOKUP(tblSalaries[[#This Row],[Where do you work]],tblCountries[[Actual]:[Mapping]],2,FALSE)","v":"china"},6,">5<=10","ASIA",{"$f":"(G586/365)/L586","v":6.8914064871781191}]
[null,"ID0594","2012-05-26T08:17:53","$36 000",36000,"USD",{"$f":"tblSalaries[[#This Row],[clean Salary (in local currency)]]*VLOOKUP(tblSalaries[[#This Row],[Currency]],tblXrate[],2,FALSE)","v":36000},"Consulting","Consultant","Russia",{"$f":"VLOOKUP(tblSalaries[[#This Row],[Where do you work]],tblCountries[[Actual]:[Mapping]],2,FALSE)","v":"Russia"},8,">5<=10","ASIA",{"$f":"(G587/365)/L587","v":12.328767123287671}]
[null,"ID0595","2012-05-26T08:30:00","â‚¬ 50000",50000,"EUR",{"$f":"tblSalaries[[#This Row],[clean Salary (in local currency)]]*VLOOKUP(tblSalaries[[#This Row],[Currency]],tblXrate[],2,FALSE)","v":63519.971949580387},"Analyst","Analyst","Germany",{"$f":"VLOOKUP(tblSalaries[[#This Row],[Where do you work]],tblCountries[[Actual]:[Mapping]],2,FALSE)","v":"Germany"},3,"<=5","EUROPE",{"$f":"(G588/365)/L588","v":58.009106803269759}]
[null,"ID0596","2012-05-26T08:43:07",108000,108000,"USD",{"$f":"tblSalaries[[#This Row],[clean Salary (in local currency)]]*VLOOKUP(tblSalaries[[#This Row],[Currency]],tblXrate[],2,FALSE)","v":108000},"Technology consultant ","Consultant","USA",{"$f":"VLOOKUP(tblSalaries[[#This Row],[Where do you work]],tblCountries[[Actual]:[Mapping]],2,FALSE)","v":"USA"},3,">5<=10","N. AMERICA",{"$f":"(G589/365)/L589","v":98.630136986301366}]
[null,"ID0597","2012-05-26T08:45:34",75000,75000,"USD",{"$f":"tblSalaries[[#This Row],[clean Salary (in local currency)]]*VLOOKUP(tblSalaries[[#This Row],[Currency]],tblXrate[],2,FALSE)","v":75000},"Financial Analyst","Analyst","USA",{"$f":"VLOOKUP(tblSalaries[[#This Row],[Where do you work]],tblCountries[[Actual]:[Mapping]],2,FALSE)","v":"USA"},6,"<=5","N. AMERICA",{"$f":"(G590/365)/L590","v":34.246575342465754}]
[null,"ID0598","2012-05-26T08:51:04","4,00,000",400000,"INR",{"$f":"tblSalaries[[#This Row],[clean Salary (in local currency)]]*VLOOKUP(tblSalaries[[#This Row],[Currency]],tblXrate[],2,FALSE)","v":7123.1666749770275},"BPO","Manager","India",{"$f":"VLOOKUP(tblSalaries[[#This Row],[Where do you work]],tblCountries[[Actual]:[Mapping]],2,FALSE)","v":"India"},2,"<=5","ASIA",{"$f":"(G591/365)/L591","v":9.7577625684616809}]
[null,"ID0599","2012-05-26T08:52:00",50000,50000,"USD",{"$f":"tblSalaries[[#This Row],[clean Salary (in local currency)]]*VLOOKUP(tblSalaries[[#This Row],[Currency]],tblXrate[],2,FALSE)","v":50000},"General manager","Manager","India",{"$f":"VLOOKUP(tblSalaries[[#This Row],[Where do you work]],tblCountries[[Actual]:[Mapping]],2,FALSE)","v":"India"},2,">20","ASIA",{"$f":"(G592/365)/L592","v":68.493150684931507}]
[null,"ID0600","2012-05-26T08:55:12",45000,45000,"USD",{"$f":"tblSalaries[[#This Row],[clean Salary (in local currency)]]*VLOOKUP(tblSalaries[[#This Row],[Currency]],tblXrate[],2,FALSE)","v":45000},"Technical Analyst","Analyst","USA",{"$f":"VLOOKUP(tblSalaries[[#This Row],[Where do you work]],tblCountries[[Actual]:[Mapping]],2,FALSE)","v":"USA"},6,">10<=20","N. AMERICA",{"$f":"(G593/365)/L593","v":20.547945205479454}]
[null,"ID0601","2012-05-26T08:55:17",45000,45000,"USD",{"$f":"tblSalaries[[#This Row],[clean Salary (in local currency)]]*VLOOKUP(tblSalaries[[#This Row],[Currency]],tblXrate[],2,FALSE)","v":45000},"Head Accounts","Accountant","USA",{"$f":"VLOOKUP(tblSalaries[[#This Row],[Where do you work]],tblCountries[[Actual]:[Mapping]],2,FALSE)","v":"USA"},6,">5<=10","N. AMERICA",{"$f":"(G594/365)/L594","v":20.547945205479454}]
[null,"ID0602","2012-05-26T08:56:13","90 k",90000,"USD",{"$f":"tblSalaries[[#This Row],[clean Salary (in local currency)]]*VLOOKUP(tblSalaries[[#This Row],[Currency]],tblXrate[],2,FALSE)","v":90000},"Operations","Manager","USA",{"$f":"VLOOKUP(tblSalaries[[#This Row],[Where do you work]],tblCountries[[Actual]:[Mapping]],2,FALSE)","v":"USA"},3,">10<=20","N. AMERICA",{"$f":"(G595/365)/L595","v":82.191780821917817}]
[null,"ID0603","2012-05-26T08:58:55","Rs. 20000",240000,"INR",{"$f":"tblSalaries[[#This Row],[clean Salary (in local currency)]]*VLOOKUP(tblSalaries[[#This Row],[Currency]],tblXrate[],2,FALSE)","v":4273.9000049862161},"Talati","Analyst","India",{"$f":"VLOOKUP(tblSalaries[[#This Row],[Where do you work]],tblCountries[[Actual]:[Mapping]],2,FALSE)","v":"India"},3,"<=5","ASIA",{"$f":"(G596/365)/L596","v":3.9031050273846724}]
[null,"ID0604","2012-05-26T09:28:32",50000,50000,"USD",{"$f":"tblSalaries[[#This Row],[clean Salary (in local currency)]]*VLOOKUP(tblSalaries[[#This Row],[Currency]],tblXrate[],2,FALSE)","v":50000},"Product manager","Manager","India",{"$f":"VLOOKUP(tblSalaries[[#This Row],[Where do you work]],tblCountries[[Actual]:[Mapping]],2,FALSE)","v":"India"},2,">5<=10","ASIA",{"$f":"(G597/365)/L597","v":68.493150684931507}]
[null,"ID0605","2012-05-26T09:28:50",65000,65000,"USD",{"$f":"tblSalaries[[#This Row],[clean Salary (in local currency)]]*VLOOKUP(tblSalaries[[#This Row],[Currency]],tblXrate[],2,FALSE)","v":65000},"Helicopter Mechanic","Analyst","USA",{"$f":"VLOOKUP(tblSalaries[[#This Row],[Where do you work]],tblCountries[[Actual]:[Mapping]],2,FALSE)","v":"USA"},3,">10<=20","N. AMERICA",{"$f":"(G598/365)/L598","v":59.360730593607308}]
[null,"ID0606","2012-05-26T09:36:28",70000,70000,"USD",{"$f":"tblSalaries[[#This Row],[clean Salary (in local currency)]]*VLOOKUP(tblSalaries[[#This Row],[Currency]],tblXrate[],2,FALSE)","v":70000},"Program/Mgt Analyst","Analyst","USA",{"$f":"VLOOKUP(tblSalaries[[#This Row],[Where do you work]],tblCountries[[Actual]:[Mapping]],2,FALSE)","v":"USA"},3,">10<=20","N. AMERICA",{"$f":"(G599/365)/L599","v":63.926940639269411}]
[null,"ID0608","2012-05-26T09:51:47",160000,160000,"USD",{"$f":"tblSalaries[[#This Row],[clean Salary (in local currency)]]*VLOOKUP(tblSalaries[[#This Row],[Currency]],tblXrate[],2,FALSE)","v":160000},"Director, Analytics","Analyst","USA",{"$f":"VLOOKUP(tblSalaries[[#This Row],[Where do you work]],tblCountries[[Actual]:[Mapping]],2,FALSE)","v":"USA"},6,"<=5","N. AMERICA",{"$f":"(G600/365)/L600","v":73.05936073059361}]
[null,"ID0609","2012-05-26T09:52:22",100000,100000,"AUD",{"$f":"tblSalaries[[#This Row],[clean Salary (in local currency)]]*VLOOKUP(tblSalaries[[#This Row],[Currency]],tblXrate[],2,FALSE)","v":101990.96564026357},"Purchasing Manager","Manager","Australia",{"$f":"VLOOKUP(tblSalaries[[#This Row],[Where do you work]],tblCountries[[Actual]:[Mapping]],2,FALSE)","v":"Australia"},3,">10<=20","OCEANIA",{"$f":"(G601/365)/L601","v":93.142434374669918}]
[null,"ID0611","2012-05-26T10:01:28",380000,380000,"INR",{"$f":"tblSalaries[[#This Row],[clean Salary (in local currency)]]*VLOOKUP(tblSalaries[[#This Row],[Currency]],tblXrate[],2,FALSE)","v":6767.0083412281756},"Incharge","Manager","India",{"$f":"VLOOKUP(tblSalaries[[#This Row],[Where do you work]],tblCountries[[Actual]:[Mapping]],2,FALSE)","v":"India"},6,">5<=10","ASIA",{"$f":"(G602/365)/L602","v":3.0899581466795323}]
[null,"ID0612","2012-05-26T10:20:35",30000,30000,"USD",{"$f":"tblSalaries[[#This Row],[clean Salary (in local currency)]]*VLOOKUP(tblSalaries[[#This Row],[Currency]],tblXrate[],2,FALSE)","v":30000},"Sales Assistant","Analyst","USA",{"$f":"VLOOKUP(tblSalaries[[#This Row],[Where do you work]],tblCountries[[Actual]:[Mapping]],2,FALSE)","v":"USA"},3,">5<=10","N. AMERICA",{"$f":"(G603/365)/L603","v":27.397260273972602}]
[null,"ID0613","2012-05-26T10:22:45","INR 420000",420000,"INR",{"$f":"tblSalaries[[#This Row],[clean Salary (in local currency)]]*VLOOKUP(tblSalaries[[#This Row],[Currency]],tblXrate[],2,FALSE)","v":7479.3250087258784},"Assistant EDP","Analyst","India",{"$f":"VLOOKUP(tblSalaries[[#This Row],[Where do you work]],tblCountries[[Actual]:[Mapping]],2,FALSE)","v":"India"},6,"<=5","ASIA",{"$f":"(G604/365)/L604","v":3.4152168989615883}]
[null,"ID0614","2012-05-26T10:31:42",61000,61000,"USD",{"$f":"tblSalaries[[#This Row],[clean Salary (in local currency)]]*VLOOKUP(tblSalaries[[#This Row],[Currency]],tblXrate[],2,FALSE)","v":61000},"Sales ops","Manager","USA",{"$f":"VLOOKUP(tblSalaries[[#This Row],[Where do you work]],tblCountries[[Actual]:[Mapping]],2,FALSE)","v":"USA"},6,"<=5","N. AMERICA",{"$f":"(G605/365)/L605","v":27.853881278538811}]
[null,"ID0615","2012-05-26T10:32:07","1150 $",13800,"USD",{"$f":"tblSalaries[[#This Row],[clean Salary (in local currency)]]*VLOOKUP(tblSalaries[[#This Row],[Currency]],tblXrate[],2,FALSE)","v":13800},"QS","Controller","Sri Lanka",{"$f":"VLOOKUP(tblSalaries[[#This Row],[Where do you work]],tblCountries[[Actual]:[Mapping]],2,FALSE)","v":"Sri Lanka"},6,">10<=20","ASIA",{"$f":"(G606/365)/L606","v":6.3013698630136981}]
[null,"ID0616","2012-05-26T10:41:11","INR 850,000",850000,"INR",{"$f":"tblSalaries[[#This Row],[clean Salary (in local currency)]]*VLOOKUP(tblSalaries[[#This Row],[Currency]],tblXrate[],2,FALSE)","v":15136.729184326183},"Sales Analyst","Analyst","India",{"$f":"VLOOKUP(tblSalaries[[#This Row],[Where do you work]],tblCountries[[Actual]:[Mapping]],2,FALSE)","v":"India"},6,">5<=10","ASIA",{"$f":"(G607/365)/L607","v":6.9117484859936908}]
[null,"ID0617","2012-05-26T10:43:53",1800000,1800000,"INR",{"$f":"tblSalaries[[#This Row],[clean Salary (in local currency)]]*VLOOKUP(tblSalaries[[#This Row],[Currency]],tblXrate[],2,FALSE)","v":32054.250037396621},"AGM Finance","Manager","India",{"$f":"VLOOKUP(tblSalaries[[#This Row],[Where do you work]],tblCountries[[Actual]:[Mapping]],2,FALSE)","v":"India"},3,">5<=10","ASIA",{"$f":"(G608/365)/L608","v":29.273287705385044}]
[null,"ID0618","2012-05-26T10:51:05",80000,80000,"USD",{"$f":"tblSalaries[[#This Row],[clean Salary (in local currency)]]*VLOOKUP(tblSalaries[[#This Row],[Currency]],tblXrate[],2,FALSE)","v":80000},"Sales Controller","Controller","USA",{"$f":"VLOOKUP(tblSalaries[[#This Row],[Where do you work]],tblCountries[[Actual]:[Mapping]],2,FALSE)","v":"USA"},6,">10<=20","N. AMERICA",{"$f":"(G609/365)/L609","v":36.529680365296805}]
[null,"ID0619","2012-05-26T10:54:22",21000,21000,"USD",{"$f":"tblSalaries[[#This Row],[clean Salary (in local currency)]]*VLOOKUP(tblSalaries[[#This Row],[Currency]],tblXrate[],2,FALSE)","v":21000},"Manager","Manager","India",{"$f":"VLOOKUP(tblSalaries[[#This Row],[Where do you work]],tblCountries[[Actual]:[Mapping]],2,FALSE)","v":"India"},8,">20","ASIA",{"$f":"(G610/365)/L610","v":7.1917808219178081}]
[null,"ID0620","2012-05-26T10:59:10",250000,250000,"CAD",{"$f":"tblSalaries[[#This Row],[clean Salary (in local currency)]]*VLOOKUP(tblSalaries[[#This Row],[Currency]],tblXrate[],2,FALSE)","v":245840.3807575817},"Business Analyst","Analyst","Canada",{"$f":"VLOOKUP(tblSalaries[[#This Row],[Where do you work]],tblCountries[[Actual]:[Mapping]],2,FALSE)","v":"Canada"},6,">20","N. AMERICA",{"$f":"(G611/365)/L611","v":112.25588162446654}]
[null,"ID0621","2012-05-26T10:59:39","1 lakh 60 thousand INR/Year",160000,"INR",{"$f":"tblSalaries[[#This Row],[clean Salary (in local currency)]]*VLOOKUP(tblSalaries[[#This Row],[Currency]],tblXrate[],2,FALSE)","v":2849.2666699908109},"MIS Executive","Reporting","India",{"$f":"VLOOKUP(tblSalaries[[#This Row],[Where do you work]],tblCountries[[Actual]:[Mapping]],2,FALSE)","v":"India"},8,"<=5","ASIA",{"$f":"(G612/365)/L612","v":0.97577625684616809}]
[null,"ID0622","2012-05-26T11:01:56",700,8400,"USD",{"$f":"tblSalaries[[#This Row],[clean Salary (in local currency)]]*VLOOKUP(tblSalaries[[#This Row],[Currency]],tblXrate[],2,FALSE)","v":8400},"SYSTEM MANAGER","Manager","India",{"$f":"VLOOKUP(tblSalaries[[#This Row],[Where do you work]],tblCountries[[Actual]:[Mapping]],2,FALSE)","v":"India"},8,">20","ASIA",{"$f":"(G613/365)/L613","v":2.8767123287671232}]
[null,"ID0623","2012-05-26T11:03:02","A$85000",85000,"AUD",{"$f":"tblSalaries[[#This Row],[clean Salary (in local currency)]]*VLOOKUP(tblSalaries[[#This Row],[Currency]],tblXrate[],2,FALSE)","v":86692.320794224041},"Trainer","Consultant","Australia",{"$f":"VLOOKUP(tblSalaries[[#This Row],[Where do you work]],tblCountries[[Actual]:[Mapping]],2,FALSE)","v":"Australia"},2,">10<=20","OCEANIA",{"$f":"(G614/365)/L614","v":118.75660382770417}]
[null,"ID0624","2012-05-26T11:03:06",50000,50000,"USD",{"$f":"tblSalaries[[#This Row],[clean Salary (in local currency)]]*VLOOKUP(tblSalaries[[#This Row],[Currency]],tblXrate[],2,FALSE)","v":50000},"Project coordinator","Manager","USA",{"$f":"VLOOKUP(tblSalaries[[#This Row],[Where do you work]],tblCountries[[Actual]:[Mapping]],2,FALSE)","v":"USA"},6,">10<=20","N. AMERICA",{"$f":"(G615/365)/L615","v":22.831050228310502}]
[null,"ID0625","2012-05-26T11:03:48",4000,4000,"USD",{"$f":"tblSalaries[[#This Row],[clean Salary (in local currency)]]*VLOOKUP(tblSalaries[[#This Row],[Currency]],tblXrate[],2,FALSE)","v":4000},"MIS Executive","Reporting","India",{"$f":"VLOOKUP(tblSalaries[[#This Row],[Where do you work]],tblCountries[[Actual]:[Mapping]],2,FALSE)","v":"India"},8,">5<=10","ASIA",{"$f":"(G616/365)/L616","v":1.3698630136986301}]
[null,"ID0626","2012-05-26T11:05:45",100000,100000,"AUD",{"$f":"tblSalaries[[#This Row],[clean Salary (in local currency)]]*VLOOKUP(tblSalaries[[#This Row],[Currency]],tblXrate[],2,FALSE)","v":101990.96564026357},"Business Analyst","Analyst","Australia",{"$f":"VLOOKUP(tblSalaries[[#This Row],[Where do you work]],tblCountries[[Actual]:[Mapping]],2,FALSE)","v":"Australia"},8,"<=5","OCEANIA",{"$f":"(G617/365)/L617","v":34.928412890501221}]
[null,"ID0627","2012-05-26T11:05:58",95000,95000,"USD",{"$f":"tblSalaries[[#This Row],[clean Salary (in local currency)]]*VLOOKUP(tblSalaries[[#This Row],[Currency]],tblXrate[],2,FALSE)","v":95000},"Program Manager","Manager","USA",{"$f":"VLOOKUP(tblSalaries[[#This Row],[Where do you work]],tblCountries[[Actual]:[Mapping]],2,FALSE)","v":"USA"},2,">5<=10","N. AMERICA",{"$f":"(G618/365)/L618","v":130.13698630136986}]
[null,"ID0628","2012-05-26T11:07:01",10000,10000,"USD",{"$f":"tblSalaries[[#This Row],[clean Salary (in local currency)]]*VLOOKUP(tblSalaries[[#This Row],[Currency]],tblXrate[],2,FALSE)","v":10000},"executive","Manager","Indonesia",{"$f":"VLOOKUP(tblSalaries[[#This Row],[Where do you work]],tblCountries[[Actual]:[Mapping]],2,FALSE)","v":"Indonesia"},3,"<=5","ASIA",{"$f":"(G619/365)/L619","v":9.1324200913242013}]
[null,"ID0629","2012-05-26T11:09:27",4200,4200,"USD",{"$f":"tblSalaries[[#This Row],[clean Salary (in local currency)]]*VLOOKUP(tblSalaries[[#This Row],[Currency]],tblXrate[],2,FALSE)","v":4200},"MIS Executive","Reporting","India",{"$f":"VLOOKUP(tblSalaries[[#This Row],[Where do you work]],tblCountries[[Actual]:[Mapping]],2,FALSE)","v":"India"},8,"<=5","ASIA",{"$f":"(G620/365)/L620","v":1.4383561643835616}]
[null,"ID0630","2012-05-26T11:10:23","Rs60000",720000,"INR",{"$f":"tblSalaries[[#This Row],[clean Salary (in local currency)]]*VLOOKUP(tblSalaries[[#This Row],[Currency]],tblXrate[],2,FALSE)","v":12821.700014958649},"Quantity Surveyor","Manager","India",{"$f":"VLOOKUP(tblSalaries[[#This Row],[Where do you work]],tblCountries[[Actual]:[Mapping]],2,FALSE)","v":"India"},6,">10<=20","ASIA",{"$f":"(G621/365)/L621","v":5.8546575410770094}]
[null,"ID0631","2012-05-26T11:17:56",39000,39000,"USD",{"$f":"tblSalaries[[#This Row],[clean Salary (in local currency)]]*VLOOKUP(tblSalaries[[#This Row],[Currency]],tblXrate[],2,FALSE)","v":39000},"Content Analyst ","Analyst","USA",{"$f":"VLOOKUP(tblSalaries[[#This Row],[Where do you work]],tblCountries[[Actual]:[Mapping]],2,FALSE)","v":"USA"},8,"<=5","N. AMERICA",{"$f":"(G622/365)/L622","v":13.356164383561644}]
[null,"ID0632","2012-05-26T11:26:46",60000,60000,"USD",{"$f":"tblSalaries[[#This Row],[clean Salary (in local currency)]]*VLOOKUP(tblSalaries[[#This Row],[Currency]],tblXrate[],2,FALSE)","v":60000},"business analyst","Analyst","USA",{"$f":"VLOOKUP(tblSalaries[[#This Row],[Where do you work]],tblCountries[[Actual]:[Mapping]],2,FALSE)","v":"USA"},6,">10<=20","N. AMERICA",{"$f":"(G623/365)/L623","v":27.397260273972602}]
[null,"ID0633","2012-05-26T11:30:39","A$170000",170000,"AUD",{"$f":"tblSalaries[[#This Row],[clean Salary (in local currency)]]*VLOOKUP(tblSalaries[[#This Row],[Currency]],tblXrate[],2,FALSE)","v":173384.64158844808},"senior business analyst","Analyst","Australia",{"$f":"VLOOKUP(tblSalaries[[#This Row],[Where do you work]],tblCountries[[Actual]:[Mapping]],2,FALSE)","v":"Australia"},8,">5<=10","OCEANIA",{"$f":"(G624/365)/L624","v":59.378301913852084}]
[null,"ID0634","2012-05-26T11:31:08",125000,125000,"USD",{"$f":"tblSalaries[[#This Row],[clean Salary (in local currency)]]*VLOOKUP(tblSalaries[[#This Row],[Currency]],tblXrate[],2,FALSE)","v":125000},"Analyst","Analyst","USA",{"$f":"VLOOKUP(tblSalaries[[#This Row],[Where do you work]],tblCountries[[Actual]:[Mapping]],2,FALSE)","v":"USA"},3,">10<=20","N. AMERICA",{"$f":"(G625/365)/L625","v":114.15525114155251}]
[null,"ID0635","2012-05-26T11:31:52",78000,78000,"AUD",{"$f":"tblSalaries[[#This Row],[clean Salary (in local currency)]]*VLOOKUP(tblSalaries[[#This Row],[Currency]],tblXrate[],2,FALSE)","v":79552.953199405587},"Corporate Accountant","Accountant","Australia",{"$f":"VLOOKUP(tblSalaries[[#This Row],[Where do you work]],tblCountries[[Actual]:[Mapping]],2,FALSE)","v":"Australia"},8,"<=5","OCEANIA",{"$f":"(G626/365)/L626","v":27.244162054590955}]
[null,"ID0636","2012-05-26T11:36:04","Rs. 200000",200000,"INR",{"$f":"tblSalaries[[#This Row],[clean Salary (in local currency)]]*VLOOKUP(tblSalaries[[#This Row],[Currency]],tblXrate[],2,FALSE)","v":3561.5833374885137},"Auditor","Accountant","India",{"$f":"VLOOKUP(tblSalaries[[#This Row],[Where do you work]],tblCountries[[Actual]:[Mapping]],2,FALSE)","v":"India"},6,"<=5","ASIA",{"$f":"(G627/365)/L627","v":1.6262937614102801}]
[null,"ID0637","2012-05-26T11:37:26",80000,80000,"USD",{"$f":"tblSalaries[[#This Row],[clean Salary (in local currency)]]*VLOOKUP(tblSalaries[[#This Row],[Currency]],tblXrate[],2,FALSE)","v":80000},"program coordinator - automotive","Manager","USA",{"$f":"VLOOKUP(tblSalaries[[#This Row],[Where do you work]],tblCountries[[Actual]:[Mapping]],2,FALSE)","v":"USA"},6,">5<=10","N. AMERICA",{"$f":"(G628/365)/L628","v":36.529680365296805}]
[null,"ID0638","2012-05-26T11:37:53",600000,600000,"INR",{"$f":"tblSalaries[[#This Row],[clean Salary (in local currency)]]*VLOOKUP(tblSalaries[[#This Row],[Currency]],tblXrate[],2,FALSE)","v":10684.750012465542},"Financial Analyst","Analyst","India",{"$f":"VLOOKUP(tblSalaries[[#This Row],[Where do you work]],tblCountries[[Actual]:[Mapping]],2,FALSE)","v":"India"},3,"<=5","ASIA",{"$f":"(G629/365)/L629","v":9.7577625684616809}]
[null,"ID0639","2012-05-26T11:39:48","Rs 300000",300000,"INR",{"$f":"tblSalaries[[#This Row],[clean Salary (in local currency)]]*VLOOKUP(tblSalaries[[#This Row],[Currency]],tblXrate[],2,FALSE)","v":5342.3750062327708},"Planning Engineer","Engineer","India",{"$f":"VLOOKUP(tblSalaries[[#This Row],[Where do you work]],tblCountries[[Actual]:[Mapping]],2,FALSE)","v":"India"},8,"<=5","ASIA",{"$f":"(G630/365)/L630","v":1.8295804815865653}]
[null,"ID0640","2012-05-26T11:40:34","4000000 INR",4000000,"INR",{"$f":"tblSalaries[[#This Row],[clean Salary (in local currency)]]*VLOOKUP(tblSalaries[[#This Row],[Currency]],tblXrate[],2,FALSE)","v":71231.666749770273},"Senior Executive","Manager","India",{"$f":"VLOOKUP(tblSalaries[[#This Row],[Where do you work]],tblCountries[[Actual]:[Mapping]],2,FALSE)","v":"India"},6,"<=5","ASIA",{"$f":"(G631/365)/L631","v":32.525875228205599}]
[null,"ID0641","2012-05-26T11:45:37","4500000 inr/pa",4500000,"INR",{"$f":"tblSalaries[[#This Row],[clean Salary (in local currency)]]*VLOOKUP(tblSalaries[[#This Row],[Currency]],tblXrate[],2,FALSE)","v":80135.625093491559},"cmo","CXO or Top Mgmt.","India",{"$f":"VLOOKUP(tblSalaries[[#This Row],[Where do you work]],tblCountries[[Actual]:[Mapping]],2,FALSE)","v":"India"},2,">5<=10","ASIA",{"$f":"(G632/365)/L632","v":109.77482889519392}]
[null,"ID0642","2012-05-26T11:46:20",55000,55000,"CAD",{"$f":"tblSalaries[[#This Row],[clean Salary (in local currency)]]*VLOOKUP(tblSalaries[[#This Row],[Currency]],tblXrate[],2,FALSE)","v":54084.883766667976},"Project coordinator","Manager","Canada",{"$f":"VLOOKUP(tblSalaries[[#This Row],[Where do you work]],tblCountries[[Actual]:[Mapping]],2,FALSE)","v":"Canada"},6,"<=5","N. AMERICA",{"$f":"(G633/365)/L633","v":24.696293957382636}]
[null,"ID0643","2012-05-26T11:47:18",53000,53000,"USD",{"$f":"tblSalaries[[#This Row],[clean Salary (in local currency)]]*VLOOKUP(tblSalaries[[#This Row],[Currency]],tblXrate[],2,FALSE)","v":53000},"Financial Analyst","Analyst","USA",{"$f":"VLOOKUP(tblSalaries[[#This Row],[Where do you work]],tblCountries[[Actual]:[Mapping]],2,FALSE)","v":"USA"},6,">20","N. AMERICA",{"$f":"(G634/365)/L634","v":24.200913242009133}]
[null,"ID0644","2012-05-26T11:47:38","25000 INR",300000,"INR",{"$f":"tblSalaries[[#This Row],[clean Salary (in local currency)]]*VLOOKUP(tblSalaries[[#This Row],[Currency]],tblXrate[],2,FALSE)","v":5342.3750062327708},"MIS","Reporting","India",{"$f":"VLOOKUP(tblSalaries[[#This Row],[Where do you work]],tblCountries[[Actual]:[Mapping]],2,FALSE)","v":"India"},6,"<=5","ASIA",{"$f":"(G635/365)/L635","v":2.4394406421154202}]
[null,"ID0645","2012-05-26T11:50:03","Rs 4,00,000",400000,"INR",{"$f":"tblSalaries[[#This Row],[clean Salary (in local currency)]]*VLOOKUP(tblSalaries[[#This Row],[Currency]],tblXrate[],2,FALSE)","v":7123.1666749770275},"Sr Processor","Manager","India",{"$f":"VLOOKUP(tblSalaries[[#This Row],[Where do you work]],tblCountries[[Actual]:[Mapping]],2,FALSE)","v":"India"},2,"<=5","ASIA",{"$f":"(G636/365)/L636","v":9.7577625684616809}]
[null,"ID0646","2012-05-26T11:50:34","6,00,000",600000,"INR",{"$f":"tblSalaries[[#This Row],[clean Salary (in local currency)]]*VLOOKUP(tblSalaries[[#This Row],[Currency]],tblXrate[],2,FALSE)","v":10684.750012465542},"Organiser","Manager","India",{"$f":"VLOOKUP(tblSalaries[[#This Row],[Where do you work]],tblCountries[[Actual]:[Mapping]],2,FALSE)","v":"India"},6,">10<=20","ASIA",{"$f":"(G637/365)/L637","v":4.8788812842308404}]
[null,"ID0647","2012-05-26T11:55:17",4000,4000,"USD",{"$f":"tblSalaries[[#This Row],[clean Salary (in local currency)]]*VLOOKUP(tblSalaries[[#This Row],[Currency]],tblXrate[],2,FALSE)","v":4000},"MIS Executive","Reporting","India",{"$f":"VLOOKUP(tblSalaries[[#This Row],[Where do you work]],tblCountries[[Actual]:[Mapping]],2,FALSE)","v":"India"},8,"<=5","ASIA",{"$f":"(G638/365)/L638","v":1.3698630136986301}]
[null,"ID0648","2012-05-26T11:58:23",8000,8000,"USD",{"$f":"tblSalaries[[#This Row],[clean Salary (in local currency)]]*VLOOKUP(tblSalaries[[#This Row],[Currency]],tblXrate[],2,FALSE)","v":8000},"Quality officer","Manager","bangkok",{"$f":"VLOOKUP(tblSalaries[[#This Row],[Where do you work]],tblCountries[[Actual]:[Mapping]],2,FALSE)","v":"Thailand"},8,"<=5","ASIA",{"$f":"(G639/365)/L639","v":2.7397260273972601}]
[null,"ID0649","2012-05-26T12:05:35",150000,150000,"INR",{"$f":"tblSalaries[[#This Row],[clean Salary (in local currency)]]*VLOOKUP(tblSalaries[[#This Row],[Currency]],tblXrate[],2,FALSE)","v":2671.1875031163854},"Executive","Manager","India",{"$f":"VLOOKUP(tblSalaries[[#This Row],[Where do you work]],tblCountries[[Actual]:[Mapping]],2,FALSE)","v":"India"},3,"<=5","ASIA",{"$f":"(G640/365)/L640","v":2.4394406421154202}]
[null,"ID0650","2012-05-26T12:14:07","Rs 800000",800000,"INR",{"$f":"tblSalaries[[#This Row],[clean Salary (in local currency)]]*VLOOKUP(tblSalaries[[#This Row],[Currency]],tblXrate[],2,FALSE)","v":14246.333349954055},"Engineer","Engineer","India",{"$f":"VLOOKUP(tblSalaries[[#This Row],[Where do you work]],tblCountries[[Actual]:[Mapping]],2,FALSE)","v":"India"},3,"<=5","ASIA",{"$f":"(G641/365)/L641","v":13.010350091282241}]
[null,"ID0651","2012-05-26T12:17:01",480000,480000,"INR",{"$f":"tblSalaries[[#This Row],[clean Salary (in local currency)]]*VLOOKUP(tblSalaries[[#This Row],[Currency]],tblXrate[],2,FALSE)","v":8547.8000099724322},"BI Consultant","Reporting","India",{"$f":"VLOOKUP(tblSalaries[[#This Row],[Where do you work]],tblCountries[[Actual]:[Mapping]],2,FALSE)","v":"India"},2,"<=5","ASIA",{"$f":"(G642/365)/L642","v":11.709315082154017}]
[null,"ID0652","2012-05-26T12:19:47","Rs. 4.32 Lakhs",432000,"INR",{"$f":"tblSalaries[[#This Row],[clean Salary (in local currency)]]*VLOOKUP(tblSalaries[[#This Row],[Currency]],tblXrate[],2,FALSE)","v":7693.0200089751897},"Assistant Manager - IT","Manager","India",{"$f":"VLOOKUP(tblSalaries[[#This Row],[Where do you work]],tblCountries[[Actual]:[Mapping]],2,FALSE)","v":"India"},3,"<=5","ASIA",{"$f":"(G643/365)/L643","v":7.0255890492924102}]
[null,"ID0653","2012-05-26T12:19:53",4000,4000,"USD",{"$f":"tblSalaries[[#This Row],[clean Salary (in local currency)]]*VLOOKUP(tblSalaries[[#This Row],[Currency]],tblXrate[],2,FALSE)","v":4000},"Coordinator","Manager","India",{"$f":"VLOOKUP(tblSalaries[[#This Row],[Where do you work]],tblCountries[[Actual]:[Mapping]],2,FALSE)","v":"India"},8,">5<=10","ASIA",{"$f":"(G644/365)/L644","v":1.3698630136986301}]
[null,"ID0654","2012-05-26T12:20:07",450,5400,"USD",{"$f":"tblSalaries[[#This Row],[clean Salary (in local currency)]]*VLOOKUP(tblSalaries[[#This Row],[Currency]],tblXrate[],2,FALSE)","v":5400},"manager","Manager","India",{"$f":"VLOOKUP(tblSalaries[[#This Row],[Where do you work]],tblCountries[[Actual]:[Mapping]],2,FALSE)","v":"India"},8,"<=5","ASIA",{"$f":"(G645/365)/L645","v":1.8493150684931507}]
[null,"ID0655","2012-05-26T12:23:14",10500000,10500000,"INR",{"$f":"tblSalaries[[#This Row],[clean Salary (in local currency)]]*VLOOKUP(tblSalaries[[#This Row],[Currency]],tblXrate[],2,FALSE)","v":186983.12521814698},"MANAGER","Manager","India",{"$f":"VLOOKUP(tblSalaries[[#This Row],[Where do you work]],tblCountries[[Actual]:[Mapping]],2,FALSE)","v":"India"},3,">5<=10","ASIA",{"$f":"(G646/365)/L646","v":170.76084494807944}]
[null,"ID0657","2012-05-26T12:25:09",21500,21500,"USD",{"$f":"tblSalaries[[#This Row],[clean Salary (in local currency)]]*VLOOKUP(tblSalaries[[#This Row],[Currency]],tblXrate[],2,FALSE)","v":21500},"Asst Mgr","Analyst","India",{"$f":"VLOOKUP(tblSalaries[[#This Row],[Where do you work]],tblCountries[[Actual]:[Mapping]],2,FALSE)","v":"India"},6,">5<=10","ASIA",{"$f":"(G647/365)/L647","v":9.8173515981735164}]
[null,"ID0658","2012-05-26T12:26:33",15000,15000,"USD",{"$f":"tblSalaries[[#This Row],[clean Salary (in local currency)]]*VLOOKUP(tblSalaries[[#This Row],[Currency]],tblXrate[],2,FALSE)","v":15000},"MIS Executive","Reporting","India",{"$f":"VLOOKUP(tblSalaries[[#This Row],[Where do you work]],tblCountries[[Actual]:[Mapping]],2,FALSE)","v":"India"},8,"<=5","ASIA",{"$f":"(G648/365)/L648","v":5.1369863013698627}]
[null,"ID0659","2012-05-26T12:27:20",200000,200000,"PKR",{"$f":"tblSalaries[[#This Row],[clean Salary (in local currency)]]*VLOOKUP(tblSalaries[[#This Row],[Currency]],tblXrate[],2,FALSE)","v":2122.8177433598262},"Accounts Officer","Accountant","Pakistan",{"$f":"VLOOKUP(tblSalaries[[#This Row],[Where do you work]],tblCountries[[Actual]:[Mapping]],2,FALSE)","v":"Pakistan"},3,"<=5","ASIA",{"$f":"(G649/365)/L649","v":1.9386463409678776}]
[null,"ID0660","2012-05-26T12:28:05","INR 9,50,000",950000,"INR",{"$f":"tblSalaries[[#This Row],[clean Salary (in local currency)]]*VLOOKUP(tblSalaries[[#This Row],[Currency]],tblXrate[],2,FALSE)","v":16917.52085307044},"Investment Banker","Manager","India",{"$f":"VLOOKUP(tblSalaries[[#This Row],[Where do you work]],tblCountries[[Actual]:[Mapping]],2,FALSE)","v":"India"},6,"<=5","ASIA",{"$f":"(G650/365)/L650","v":7.7248953666988314}]
[null,"ID0661","2012-05-26T12:28:11","INR 165000",165000,"INR",{"$f":"tblSalaries[[#This Row],[clean Salary (in local currency)]]*VLOOKUP(tblSalaries[[#This Row],[Currency]],tblXrate[],2,FALSE)","v":2938.3062534280239},"Co-operative bank","Manager","India",{"$f":"VLOOKUP(tblSalaries[[#This Row],[Where do you work]],tblCountries[[Actual]:[Mapping]],2,FALSE)","v":"India"},8,">10<=20","ASIA",{"$f":"(G651/365)/L651","v":1.0062692648726108}]
[null,"ID0662","2012-05-26T12:30:22",1400,16800,"USD",{"$f":"tblSalaries[[#This Row],[clean Salary (in local currency)]]*VLOOKUP(tblSalaries[[#This Row],[Currency]],tblXrate[],2,FALSE)","v":16800},"Assistant","Analyst","Pakistan",{"$f":"VLOOKUP(tblSalaries[[#This Row],[Where do you work]],tblCountries[[Actual]:[Mapping]],2,FALSE)","v":"Pakistan"},6,">10<=20","ASIA",{"$f":"(G652/365)/L652","v":7.6712328767123283}]
[null,"ID0663","2012-05-26T12:31:29",37000,37000,"USD",{"$f":"tblSalaries[[#This Row],[clean Salary (in local currency)]]*VLOOKUP(tblSalaries[[#This Row],[Currency]],tblXrate[],2,FALSE)","v":37000},"Cad Engineer","Engineer","India",{"$f":"VLOOKUP(tblSalaries[[#This Row],[Where do you work]],tblCountries[[Actual]:[Mapping]],2,FALSE)","v":"India"},6,">5<=10","ASIA",{"$f":"(G653/365)/L653","v":16.894977168949772}]
[null,"ID0664","2012-05-26T12:33:48","Rs 300000",300000,"INR",{"$f":"tblSalaries[[#This Row],[clean Salary (in local currency)]]*VLOOKUP(tblSalaries[[#This Row],[Currency]],tblXrate[],2,FALSE)","v":5342.3750062327708},"Mis Analyst","Analyst","India",{"$f":"VLOOKUP(tblSalaries[[#This Row],[Where do you work]],tblCountries[[Actual]:[Mapping]],2,FALSE)","v":"India"},6,"<=5","ASIA",{"$f":"(G654/365)/L654","v":2.4394406421154202}]
[null,"ID0665","2012-05-26T12:35:42","INR 2 l;acks",200000,"INR",{"$f":"tblSalaries[[#This Row],[clean Salary (in local currency)]]*VLOOKUP(tblSalaries[[#This Row],[Currency]],tblXrate[],2,FALSE)","v":3561.5833374885137},"MIS EXECUTIVE","Reporting","India",{"$f":"VLOOKUP(tblSalaries[[#This Row],[Where do you work]],tblCountries[[Actual]:[Mapping]],2,FALSE)","v":"India"},8,"<=5","ASIA",{"$f":"(G655/365)/L655","v":1.2197203210577101}]
[null,"ID0666","2012-05-26T12:36:53","Rs 480000",480000,"INR",{"$f":"tblSalaries[[#This Row],[clean Salary (in local currency)]]*VLOOKUP(tblSalaries[[#This Row],[Currency]],tblXrate[],2,FALSE)","v":8547.8000099724322},"PMO","Manager","India",{"$f":"VLOOKUP(tblSalaries[[#This Row],[Where do you work]],tblCountries[[Actual]:[Mapping]],2,FALSE)","v":"India"},3,">5<=10","ASIA",{"$f":"(G656/365)/L656","v":7.8062100547693447}]
[null,"ID0667","2012-05-26T12:46:26",5800,5800,"USD",{"$f":"tblSalaries[[#This Row],[clean Salary (in local currency)]]*VLOOKUP(tblSalaries[[#This Row],[Currency]],tblXrate[],2,FALSE)","v":5800},"Asst. Manager(Commercial)","Manager","India",{"$f":"VLOOKUP(tblSalaries[[#This Row],[Where do you work]],tblCountries[[Actual]:[Mapping]],2,FALSE)","v":"India"},8,">5<=10","ASIA",{"$f":"(G657/365)/L657","v":1.9863013698630136}]
[null,"ID0668","2012-05-26T12:48:19","230000 INR",230000,"INR",{"$f":"tblSalaries[[#This Row],[clean Salary (in local currency)]]*VLOOKUP(tblSalaries[[#This Row],[Currency]],tblXrate[],2,FALSE)","v":4095.8208381117906},"MIS Executive","Reporting","India",{"$f":"VLOOKUP(tblSalaries[[#This Row],[Where do you work]],tblCountries[[Actual]:[Mapping]],2,FALSE)","v":"India"},8,"<=5","ASIA",{"$f":"(G658/365)/L658","v":1.4026783692163667}]
[null,"ID0669","2012-05-26T12:50:08","23000 Rupees",276000,"INR",{"$f":"tblSalaries[[#This Row],[clean Salary (in local currency)]]*VLOOKUP(tblSalaries[[#This Row],[Currency]],tblXrate[],2,FALSE)","v":4914.9850057341491},"Education Officer","Manager","Pakistan",{"$f":"VLOOKUP(tblSalaries[[#This Row],[Where do you work]],tblCountries[[Actual]:[Mapping]],2,FALSE)","v":"Pakistan"},2,"<=5","ASIA",{"$f":"(G659/365)/L659","v":6.7328561722385603}]
[null,"ID0670","2012-05-26T12:52:37",24000,24000,"USD",{"$f":"tblSalaries[[#This Row],[clean Salary (in local currency)]]*VLOOKUP(tblSalaries[[#This Row],[Currency]],tblXrate[],2,FALSE)","v":24000},"Management Accountant","Manager","Saudi Arabai",{"$f":"VLOOKUP(tblSalaries[[#This Row],[Where do you work]],tblCountries[[Actual]:[Mapping]],2,FALSE)","v":"Saudi Arabia"},6,">10<=20","ASIA",{"$f":"(G660/365)/L660","v":10.958904109589042}]
[null,"ID0671","2012-05-26T12:53:43","Us$24000",24000,"USD",{"$f":"tblSalaries[[#This Row],[clean Salary (in local currency)]]*VLOOKUP(tblSalaries[[#This Row],[Currency]],tblXrate[],2,FALSE)","v":24000},"Accountant","Accountant","UAE",{"$f":"VLOOKUP(tblSalaries[[#This Row],[Where do you work]],tblCountries[[Actual]:[Mapping]],2,FALSE)","v":"UAE"},3,">10<=20","ASIA",{"$f":"(G661/365)/L661","v":21.917808219178085}]
[null,"ID0672","2012-05-26T12:54:15",8738,8738,"USD",{"$f":"tblSalaries[[#This Row],[clean Salary (in local currency)]]*VLOOKUP(tblSalaries[[#This Row],[Currency]],tblXrate[],2,FALSE)","v":8738},"Sales Coordinator","Manager","India",{"$f":"VLOOKUP(tblSalaries[[#This Row],[Where do you work]],tblCountries[[Actual]:[Mapping]],2,FALSE)","v":"India"},8,">5<=10","ASIA",{"$f":"(G662/365)/L662","v":2.9924657534246575}]
[null,"ID0673","2012-05-26T12:54:36",15000,15000,"USD",{"$f":"tblSalaries[[#This Row],[clean Salary (in local currency)]]*VLOOKUP(tblSalaries[[#This Row],[Currency]],tblXrate[],2,FALSE)","v":15000},"TA","Analyst","Indonesia",{"$f":"VLOOKUP(tblSalaries[[#This Row],[Where do you work]],tblCountries[[Actual]:[Mapping]],2,FALSE)","v":"Indonesia"},6,"<=5","ASIA",{"$f":"(G663/365)/L663","v":6.8493150684931505}]
[null,"ID0674","2012-05-26T12:55:09",4700,56400,"USD",{"$f":"tblSalaries[[#This Row],[clean Salary (in local currency)]]*VLOOKUP(tblSalaries[[#This Row],[Currency]],tblXrate[],2,FALSE)","v":56400},"Finance Manager","Manager","UAE",{"$f":"VLOOKUP(tblSalaries[[#This Row],[Where do you work]],tblCountries[[Actual]:[Mapping]],2,FALSE)","v":"UAE"},3,">5<=10","ASIA",{"$f":"(G664/365)/L664","v":51.5068493150685}]
[null,"ID0675","2012-05-26T12:59:13",10200,10200,"USD",{"$f":"tblSalaries[[#This Row],[clean Salary (in local currency)]]*VLOOKUP(tblSalaries[[#This Row],[Currency]],tblXrate[],2,FALSE)","v":10200},"business analyst","Analyst","India",{"$f":"VLOOKUP(tblSalaries[[#This Row],[Where do you work]],tblCountries[[Actual]:[Mapping]],2,FALSE)","v":"India"},6,"<=5","ASIA",{"$f":"(G665/365)/L665","v":4.6575342465753424}]
[null,"ID0676","2012-05-26T12:59:41",325000,325000,"INR",{"$f":"tblSalaries[[#This Row],[clean Salary (in local currency)]]*VLOOKUP(tblSalaries[[#This Row],[Currency]],tblXrate[],2,FALSE)","v":5787.5729234188348},"MIS Executive","Reporting","India",{"$f":"VLOOKUP(tblSalaries[[#This Row],[Where do you work]],tblCountries[[Actual]:[Mapping]],2,FALSE)","v":"India"},8,"<=5","ASIA",{"$f":"(G666/365)/L666","v":1.9820455217187791}]
[null,"ID0677","2012-05-26T13:01:44",105000,105000,"USD",{"$f":"tblSalaries[[#This Row],[clean Salary (in local currency)]]*VLOOKUP(tblSalaries[[#This Row],[Currency]],tblXrate[],2,FALSE)","v":105000},"Senior Consultant","Consultant","USA",{"$f":"VLOOKUP(tblSalaries[[#This Row],[Where do you work]],tblCountries[[Actual]:[Mapping]],2,FALSE)","v":"USA"},3,">10<=20","N. AMERICA",{"$f":"(G667/365)/L667","v":95.890410958904113}]
[null,"ID0678","2012-05-26T13:01:53","2.5lakh",250000,"INR",{"$f":"tblSalaries[[#This Row],[clean Salary (in local currency)]]*VLOOKUP(tblSalaries[[#This Row],[Currency]],tblXrate[],2,FALSE)","v":4451.9791718606421},"ASM","Manager","India",{"$f":"VLOOKUP(tblSalaries[[#This Row],[Where do you work]],tblCountries[[Actual]:[Mapping]],2,FALSE)","v":"India"},3,"<=5","ASIA",{"$f":"(G668/365)/L668","v":4.0657344035256999}]
[null,"ID0679","2012-05-26T13:02:50",470000,470000,"INR",{"$f":"tblSalaries[[#This Row],[clean Salary (in local currency)]]*VLOOKUP(tblSalaries[[#This Row],[Currency]],tblXrate[],2,FALSE)","v":8369.7208430980063},"Consultant","Consultant","India",{"$f":"VLOOKUP(tblSalaries[[#This Row],[Where do you work]],tblCountries[[Actual]:[Mapping]],2,FALSE)","v":"India"},8,"<=5","ASIA",{"$f":"(G669/365)/L669","v":2.8663427544856188}]
[null,"ID0680","2012-05-26T13:03:32",720000,720000,"PHP",{"$f":"tblSalaries[[#This Row],[clean Salary (in local currency)]]*VLOOKUP(tblSalaries[[#This Row],[Currency]],tblXrate[],2,FALSE)","v":17067.637625607145},"System Manager","Manager","Philippines",{"$f":"VLOOKUP(tblSalaries[[#This Row],[Where do you work]],tblCountries[[Actual]:[Mapping]],2,FALSE)","v":"Philippines"},6,">5<=10","ASIA",{"$f":"(G670/365)/L670","v":7.7934418381767792}]
[null,"ID0681","2012-05-26T13:03:58",100000,100000,"AUD",{"$f":"tblSalaries[[#This Row],[clean Salary (in local currency)]]*VLOOKUP(tblSalaries[[#This Row],[Currency]],tblXrate[],2,FALSE)","v":101990.96564026357},"principal developer","Manager","Australia",{"$f":"VLOOKUP(tblSalaries[[#This Row],[Where do you work]],tblCountries[[Actual]:[Mapping]],2,FALSE)","v":"Australia"},2,">10<=20","OCEANIA",{"$f":"(G671/365)/L671","v":139.71365156200488}]
[null,"ID0682","2012-05-26T13:05:03","220000 in INR",220000,"INR",{"$f":"tblSalaries[[#This Row],[clean Salary (in local currency)]]*VLOOKUP(tblSalaries[[#This Row],[Currency]],tblXrate[],2,FALSE)","v":3917.7416712373652},"Accounts Payable Analyst","Analyst","India",{"$f":"VLOOKUP(tblSalaries[[#This Row],[Where do you work]],tblCountries[[Actual]:[Mapping]],2,FALSE)","v":"India"},3,"<=5","ASIA",{"$f":"(G672/365)/L672","v":3.5778462751026168}]
[null,"ID0683","2012-05-26T13:08:39",52000,52000,"USD",{"$f":"tblSalaries[[#This Row],[clean Salary (in local currency)]]*VLOOKUP(tblSalaries[[#This Row],[Currency]],tblXrate[],2,FALSE)","v":52000},"Maint Sys Support Specialist","Specialist","USA",{"$f":"VLOOKUP(tblSalaries[[#This Row],[Where do you work]],tblCountries[[Actual]:[Mapping]],2,FALSE)","v":"USA"},6,">10<=20","N. AMERICA",{"$f":"(G673/365)/L673","v":23.74429223744292}]
[null,"ID0684","2012-05-26T13:11:01","Rs. 260000",260000,"INR",{"$f":"tblSalaries[[#This Row],[clean Salary (in local currency)]]*VLOOKUP(tblSalaries[[#This Row],[Currency]],tblXrate[],2,FALSE)","v":4630.058338735068},"Analyst","Analyst","India",{"$f":"VLOOKUP(tblSalaries[[#This Row],[Where do you work]],tblCountries[[Actual]:[Mapping]],2,FALSE)","v":"India"},6,"<=5","ASIA",{"$f":"(G674/365)/L674","v":2.1141818898333642}]
[null,"ID0685","2012-05-26T13:12:48","1,20,000 INR",120000,"INR",{"$f":"tblSalaries[[#This Row],[clean Salary (in local currency)]]*VLOOKUP(tblSalaries[[#This Row],[Currency]],tblXrate[],2,FALSE)","v":2136.9500024931081},"Data Analyst","Analyst","India",{"$f":"VLOOKUP(tblSalaries[[#This Row],[Where do you work]],tblCountries[[Actual]:[Mapping]],2,FALSE)","v":"India"},3,"<=5","ASIA",{"$f":"(G675/365)/L675","v":1.9515525136923362}]
[null,"ID0686","2012-05-26T13:16:21",13000,13000,"USD",{"$f":"tblSalaries[[#This Row],[clean Salary (in local currency)]]*VLOOKUP(tblSalaries[[#This Row],[Currency]],tblXrate[],2,FALSE)","v":13000},"Analyst","Analyst","India",{"$f":"VLOOKUP(tblSalaries[[#This Row],[Where do you work]],tblCountries[[Actual]:[Mapping]],2,FALSE)","v":"India"},2,"<=5","ASIA",{"$f":"(G676/365)/L676","v":17.80821917808219}]
[null,"ID0687","2012-05-26T13:17:36","Rs. 144000",144000,"INR",{"$f":"tblSalaries[[#This Row],[clean Salary (in local currency)]]*VLOOKUP(tblSalaries[[#This Row],[Currency]],tblXrate[],2,FALSE)","v":2564.3400029917298},"Team Leader","Manager","India",{"$f":"VLOOKUP(tblSalaries[[#This Row],[Where do you work]],tblCountries[[Actual]:[Mapping]],2,FALSE)","v":"India"},3,">5<=10","ASIA",{"$f":"(G677/365)/L677","v":2.3418630164308034}]
[null,"ID0688","2012-05-26T13:18:03","inr 11.5",1150000,"INR",{"$f":"tblSalaries[[#This Row],[clean Salary (in local currency)]]*VLOOKUP(tblSalaries[[#This Row],[Currency]],tblXrate[],2,FALSE)","v":20479.104190558952},"manager portfolio monitoring","Manager","India",{"$f":"VLOOKUP(tblSalaries[[#This Row],[Where do you work]],tblCountries[[Actual]:[Mapping]],2,FALSE)","v":"India"},3,">5<=10","ASIA",{"$f":"(G678/365)/L678","v":18.702378256218221}]
[null,"ID0689","2012-05-26T13:18:32","33,500 US $",33500,"USD",{"$f":"tblSalaries[[#This Row],[clean Salary (in local currency)]]*VLOOKUP(tblSalaries[[#This Row],[Currency]],tblXrate[],2,FALSE)","v":33500},"Sr. Executive Finance & Accounts","Accountant","UAE",{"$f":"VLOOKUP(tblSalaries[[#This Row],[Where do you work]],tblCountries[[Actual]:[Mapping]],2,FALSE)","v":"UAE"},2,">5<=10","ASIA",{"$f":"(G679/365)/L679","v":45.890410958904113}]
[null,"ID0690","2012-05-26T13:19:42",50000,50000,"USD",{"$f":"tblSalaries[[#This Row],[clean Salary (in local currency)]]*VLOOKUP(tblSalaries[[#This Row],[Currency]],tblXrate[],2,FALSE)","v":50000},"AREA SALES MANAGER","Manager","India",{"$f":"VLOOKUP(tblSalaries[[#This Row],[Where do you work]],tblCountries[[Actual]:[Mapping]],2,FALSE)","v":"India"},3,">10<=20","ASIA",{"$f":"(G680/365)/L680","v":45.662100456621005}]
[null,"ID0691","2012-05-26T13:22:43",300000,300000,"INR",{"$f":"tblSalaries[[#This Row],[clean Salary (in local currency)]]*VLOOKUP(tblSalaries[[#This Row],[Currency]],tblXrate[],2,FALSE)","v":5342.3750062327708},"govt","Manager","India",{"$f":"VLOOKUP(tblSalaries[[#This Row],[Where do you work]],tblCountries[[Actual]:[Mapping]],2,FALSE)","v":"India"},3,"<=5","ASIA",{"$f":"(G681/365)/L681","v":4.8788812842308404}]
[null,"ID0692","2012-05-26T13:24:05","4500 rs. per month",648000,"INR",{"$f":"tblSalaries[[#This Row],[clean Salary (in local currency)]]*VLOOKUP(tblSalaries[[#This Row],[Currency]],tblXrate[],2,FALSE)","v":11539.530013462785},"COMPUTER OPERATOR","Analyst","India",{"$f":"VLOOKUP(tblSalaries[[#This Row],[Where do you work]],tblCountries[[Actual]:[Mapping]],2,FALSE)","v":"India"},8,"<=5","ASIA",{"$f":"(G682/365)/L682","v":3.951893840226981}]
[null,"ID0693","2012-05-26T13:24:14",7000,7000,"USD",{"$f":"tblSalaries[[#This Row],[clean Salary (in local currency)]]*VLOOKUP(tblSalaries[[#This Row],[Currency]],tblXrate[],2,FALSE)","v":7000},"Business Executive","Manager","India",{"$f":"VLOOKUP(tblSalaries[[#This Row],[Where do you work]],tblCountries[[Actual]:[Mapping]],2,FALSE)","v":"India"},6,">20","ASIA",{"$f":"(G683/365)/L683","v":3.1963470319634699}]
[null,"ID0694","2012-05-26T13:24:36",380000,380000,"INR",{"$f":"tblSalaries[[#This Row],[clean Salary (in local currency)]]*VLOOKUP(tblSalaries[[#This Row],[Currency]],tblXrate[],2,FALSE)","v":6767.0083412281756},"Team Lead Mis","Reporting","India",{"$f":"VLOOKUP(tblSalaries[[#This Row],[Where do you work]],tblCountries[[Actual]:[Mapping]],2,FALSE)","v":"India"},3,">5<=10","ASIA",{"$f":"(G684/365)/L684","v":6.1799162933590646}]
[null,"ID0695","2012-05-26T13:29:12","3000 $",3000,"USD",{"$f":"tblSalaries[[#This Row],[clean Salary (in local currency)]]*VLOOKUP(tblSalaries[[#This Row],[Currency]],tblXrate[],2,FALSE)","v":3000},"Call Centre Consultant","Consultant","Cambodia",{"$f":"VLOOKUP(tblSalaries[[#This Row],[Where do you work]],tblCountries[[Actual]:[Mapping]],2,FALSE)","v":"Cambodia"},3,"<=5","ASIA",{"$f":"(G685/365)/L685","v":2.7397260273972606}]
[null,"ID0696","2012-05-26T13:29:35","250000 rupees",250000,"INR",{"$f":"tblSalaries[[#This Row],[clean Salary (in local currency)]]*VLOOKUP(tblSalaries[[#This Row],[Currency]],tblXrate[],2,FALSE)","v":4451.9791718606421},"MIS executive","Reporting","India",{"$f":"VLOOKUP(tblSalaries[[#This Row],[Where do you work]],tblCountries[[Actual]:[Mapping]],2,FALSE)","v":"India"},8,"<=5","ASIA",{"$f":"(G686/365)/L686","v":1.5246504013221376}]
[null,"ID0697","2012-05-26T13:31:20","Rs. 150000",150000,"INR",{"$f":"tblSalaries[[#This Row],[clean Salary (in local currency)]]*VLOOKUP(tblSalaries[[#This Row],[Currency]],tblXrate[],2,FALSE)","v":2671.1875031163854},"Oprations head","CXO or Top Mgmt.","India",{"$f":"VLOOKUP(tblSalaries[[#This Row],[Where do you work]],tblCountries[[Actual]:[Mapping]],2,FALSE)","v":"India"},6,"<=5","ASIA",{"$f":"(G687/365)/L687","v":1.2197203210577101}]
[null,"ID0698","2012-05-26T13:37:50",278400,278400,"INR",{"$f":"tblSalaries[[#This Row],[clean Salary (in local currency)]]*VLOOKUP(tblSalaries[[#This Row],[Currency]],tblXrate[],2,FALSE)","v":4957.7240057840108},"Asst. Manager","Manager","India",{"$f":"VLOOKUP(tblSalaries[[#This Row],[Where do you work]],tblCountries[[Actual]:[Mapping]],2,FALSE)","v":"India"},6,"<=5","ASIA",{"$f":"(G688/365)/L688","v":2.2638009158831101}]
[null,"ID0699","2012-05-26T13:42:21",180000,180000,"INR",{"$f":"tblSalaries[[#This Row],[clean Salary (in local currency)]]*VLOOKUP(tblSalaries[[#This Row],[Currency]],tblXrate[],2,FALSE)","v":3205.4250037396623},"accounts","Accountant","India",{"$f":"VLOOKUP(tblSalaries[[#This Row],[Where do you work]],tblCountries[[Actual]:[Mapping]],2,FALSE)","v":"India"},3,">10<=20","ASIA",{"$f":"(G689/365)/L689","v":2.9273287705385047}]
[null,"ID0700","2012-05-26T13:42:58",800000,800000,"INR",{"$f":"tblSalaries[[#This Row],[clean Salary (in local currency)]]*VLOOKUP(tblSalaries[[#This Row],[Currency]],tblXrate[],2,FALSE)","v":14246.333349954055},"Manager","Manager","India",{"$f":"VLOOKUP(tblSalaries[[#This Row],[Where do you work]],tblCountries[[Actual]:[Mapping]],2,FALSE)","v":"India"},6,">5<=10","ASIA",{"$f":"(G690/365)/L690","v":6.5051750456411206}]
[null,"ID0701","2012-05-26T13:44:53","25000 rupess",300000,"INR",{"$f":"tblSalaries[[#This Row],[clean Salary (in local currency)]]*VLOOKUP(tblSalaries[[#This Row],[Currency]],tblXrate[],2,FALSE)","v":5342.3750062327708},"Analyst","Analyst","India",{"$f":"VLOOKUP(tblSalaries[[#This Row],[Where do you work]],tblCountries[[Actual]:[Mapping]],2,FALSE)","v":"India"},8,">5<=10","ASIA",{"$f":"(G691/365)/L691","v":1.8295804815865653}]
[null,"ID0702","2012-05-26T13:46:52","370000 inr",370000,"INR",{"$f":"tblSalaries[[#This Row],[clean Salary (in local currency)]]*VLOOKUP(tblSalaries[[#This Row],[Currency]],tblXrate[],2,FALSE)","v":6588.9291743537506},"Operations Analyst","Analyst","India",{"$f":"VLOOKUP(tblSalaries[[#This Row],[Where do you work]],tblCountries[[Actual]:[Mapping]],2,FALSE)","v":"India"},8,"<=5","ASIA",{"$f":"(G692/365)/L692","v":2.2564825939567639}]
[null,"ID0703","2012-05-26T13:47:06","370000 inr",370000,"INR",{"$f":"tblSalaries[[#This Row],[clean Salary (in local currency)]]*VLOOKUP(tblSalaries[[#This Row],[Currency]],tblXrate[],2,FALSE)","v":6588.9291743537506},"Operations Analyst","Analyst","India",{"$f":"VLOOKUP(tblSalaries[[#This Row],[Where do you work]],tblCountries[[Actual]:[Mapping]],2,FALSE)","v":"India"},8,"<=5","ASIA",{"$f":"(G693/365)/L693","v":2.2564825939567639}]
[null,"ID0704","2012-05-26T13:49:54",35000,35000,"USD",{"$f":"tblSalaries[[#This Row],[clean Salary (in local currency)]]*VLOOKUP(tblSalaries[[#This Row],[Currency]],tblXrate[],2,FALSE)","v":35000},"IT Specialist","Specialist","USA",{"$f":"VLOOKUP(tblSalaries[[#This Row],[Where do you work]],tblCountries[[Actual]:[Mapping]],2,FALSE)","v":"USA"},6,">5<=10","N. AMERICA",{"$f":"(G694/365)/L694","v":15.981735159817353}]
[null,"ID0705","2012-05-26T13:57:11",720000,720000,"INR",{"$f":"tblSalaries[[#This Row],[clean Salary (in local currency)]]*VLOOKUP(tblSalaries[[#This Row],[Currency]],tblXrate[],2,FALSE)","v":12821.700014958649},"Cost Accountant","Accountant","India",{"$f":"VLOOKUP(tblSalaries[[#This Row],[Where do you work]],tblCountries[[Actual]:[Mapping]],2,FALSE)","v":"India"},6,"<=5","ASIA",{"$f":"(G695/365)/L695","v":5.8546575410770094}]
[null,"ID0706","2012-05-26T14:01:00",600000,600000,"INR",{"$f":"tblSalaries[[#This Row],[clean Salary (in local currency)]]*VLOOKUP(tblSalaries[[#This Row],[Currency]],tblXrate[],2,FALSE)","v":10684.750012465542},"senior executive","Manager","India",{"$f":"VLOOKUP(tblSalaries[[#This Row],[Where do you work]],tblCountries[[Actual]:[Mapping]],2,FALSE)","v":"India"},2,"<=5","ASIA",{"$f":"(G696/365)/L696","v":14.636643852692522}]
[null,"ID0707","2012-05-26T14:01:09",10000,10000,"USD",{"$f":"tblSalaries[[#This Row],[clean Salary (in local currency)]]*VLOOKUP(tblSalaries[[#This Row],[Currency]],tblXrate[],2,FALSE)","v":10000},"Executive","Manager","India",{"$f":"VLOOKUP(tblSalaries[[#This Row],[Where do you work]],tblCountries[[Actual]:[Mapping]],2,FALSE)","v":"India"},6,"<=5","ASIA",{"$f":"(G697/365)/L697","v":4.5662100456621006}]
[null,"ID0708","2012-05-26T14:04:35","Rs 10000",120000,"INR",{"$f":"tblSalaries[[#This Row],[clean Salary (in local currency)]]*VLOOKUP(tblSalaries[[#This Row],[Currency]],tblXrate[],2,FALSE)","v":2136.9500024931081},"Intern","Analyst","India",{"$f":"VLOOKUP(tblSalaries[[#This Row],[Where do you work]],tblCountries[[Actual]:[Mapping]],2,FALSE)","v":"India"},2,"<=5","ASIA",{"$f":"(G698/365)/L698","v":2.9273287705385043}]
[null,"ID0709","2012-05-26T14:10:51","4,80,000 Ruppes",480000,"INR",{"$f":"tblSalaries[[#This Row],[clean Salary (in local currency)]]*VLOOKUP(tblSalaries[[#This Row],[Currency]],tblXrate[],2,FALSE)","v":8547.8000099724322},"Business Analyst","Analyst","India",{"$f":"VLOOKUP(tblSalaries[[#This Row],[Where do you work]],tblCountries[[Actual]:[Mapping]],2,FALSE)","v":"India"},6,"<=5","ASIA",{"$f":"(G699/365)/L699","v":3.9031050273846724}]
[null,"ID0710","2012-05-26T14:11:52","Re. 4.5 Lacs Per Annum",450000,"INR",{"$f":"tblSalaries[[#This Row],[clean Salary (in local currency)]]*VLOOKUP(tblSalaries[[#This Row],[Currency]],tblXrate[],2,FALSE)","v":8013.5625093491553},"Data Analyst","Analyst","India",{"$f":"VLOOKUP(tblSalaries[[#This Row],[Where do you work]],tblCountries[[Actual]:[Mapping]],2,FALSE)","v":"India"},8,">5<=10","ASIA",{"$f":"(G700/365)/L700","v":2.7443707223798479}]
[null,"ID0711","2012-05-26T14:14:35",400000,400000,"INR",{"$f":"tblSalaries[[#This Row],[clean Salary (in local currency)]]*VLOOKUP(tblSalaries[[#This Row],[Currency]],tblXrate[],2,FALSE)","v":7123.1666749770275},"Consultant","Consultant","India",{"$f":"VLOOKUP(tblSalaries[[#This Row],[Where do you work]],tblCountries[[Actual]:[Mapping]],2,FALSE)","v":"India"},6,"<=5","ASIA",{"$f":"(G701/365)/L701","v":3.2525875228205603}]
[null,"ID0712","2012-05-26T14:16:14","inr 2300000",2300000,"INR",{"$f":"tblSalaries[[#This Row],[clean Salary (in local currency)]]*VLOOKUP(tblSalaries[[#This Row],[Currency]],tblXrate[],2,FALSE)","v":40958.208381117904},"analyst","Analyst","India",{"$f":"VLOOKUP(tblSalaries[[#This Row],[Where do you work]],tblCountries[[Actual]:[Mapping]],2,FALSE)","v":"India"},8,"<=5","ASIA",{"$f":"(G702/365)/L702","v":14.026783692163665}]
[null,"ID0713","2012-05-26T14:18:11",636000,636000,"INR",{"$f":"tblSalaries[[#This Row],[clean Salary (in local currency)]]*VLOOKUP(tblSalaries[[#This Row],[Currency]],tblXrate[],2,FALSE)","v":11325.835013213473},"Audit Manager","Manager","India",{"$f":"VLOOKUP(tblSalaries[[#This Row],[Where do you work]],tblCountries[[Actual]:[Mapping]],2,FALSE)","v":"India"},6,"<=5","ASIA",{"$f":"(G703/365)/L703","v":5.1716141612846913}]
[null,"ID0714","2012-05-26T14:20:23","15000 USD",15000,"USD",{"$f":"tblSalaries[[#This Row],[clean Salary (in local currency)]]*VLOOKUP(tblSalaries[[#This Row],[Currency]],tblXrate[],2,FALSE)","v":15000},"Audit - senior assistant","Accountant","Lithuania",{"$f":"VLOOKUP(tblSalaries[[#This Row],[Where do you work]],tblCountries[[Actual]:[Mapping]],2,FALSE)","v":"Lithuania"},6,"<=5","EUROPE",{"$f":"(G704/365)/L704","v":6.8493150684931505}]
[null,"ID0715","2012-05-26T14:22:05",1000,12000,"USD",{"$f":"tblSalaries[[#This Row],[clean Salary (in local currency)]]*VLOOKUP(tblSalaries[[#This Row],[Currency]],tblXrate[],2,FALSE)","v":12000},"tech operator (oil)","Analyst","uae",{"$f":"VLOOKUP(tblSalaries[[#This Row],[Where do you work]],tblCountries[[Actual]:[Mapping]],2,FALSE)","v":"UAE"},6,">10<=20","ASIA",{"$f":"(G705/365)/L705","v":5.4794520547945211}]
[null,"ID0716","2012-05-26T14:23:48",500000,500000,"INR",{"$f":"tblSalaries[[#This Row],[clean Salary (in local currency)]]*VLOOKUP(tblSalaries[[#This Row],[Currency]],tblXrate[],2,FALSE)","v":8903.9583437212841},"mis ","Reporting","India",{"$f":"VLOOKUP(tblSalaries[[#This Row],[Where do you work]],tblCountries[[Actual]:[Mapping]],2,FALSE)","v":"India"},3,"<=5","ASIA",{"$f":"(G706/365)/L706","v":8.1314688070513998}]
[null,"ID0717","2012-05-26T14:33:11",500000,500000,"INR",{"$f":"tblSalaries[[#This Row],[clean Salary (in local currency)]]*VLOOKUP(tblSalaries[[#This Row],[Currency]],tblXrate[],2,FALSE)","v":8903.9583437212841},"Engineer","Engineer","India",{"$f":"VLOOKUP(tblSalaries[[#This Row],[Where do you work]],tblCountries[[Actual]:[Mapping]],2,FALSE)","v":"India"},8,"<=5","ASIA",{"$f":"(G707/365)/L707","v":3.0493008026442752}]
[null,"ID0718","2012-05-26T14:35:48","Inr 60000",720000,"INR",{"$f":"tblSalaries[[#This Row],[clean Salary (in local currency)]]*VLOOKUP(tblSalaries[[#This Row],[Currency]],tblXrate[],2,FALSE)","v":12821.700014958649},"Asstt manager","Manager","India",{"$f":"VLOOKUP(tblSalaries[[#This Row],[Where do you work]],tblCountries[[Actual]:[Mapping]],2,FALSE)","v":"India"},8,">5<=10","ASIA",{"$f":"(G708/365)/L708","v":4.3909931558077568}]
[null,"ID0719","2012-05-26T14:41:00","Rs 15000",180000,"INR",{"$f":"tblSalaries[[#This Row],[clean Salary (in local currency)]]*VLOOKUP(tblSalaries[[#This Row],[Currency]],tblXrate[],2,FALSE)","v":3205.4250037396623},"Import & Export Documentation Executive","Manager","India",{"$f":"VLOOKUP(tblSalaries[[#This Row],[Where do you work]],tblCountries[[Actual]:[Mapping]],2,FALSE)","v":"India"},8,">5<=10","ASIA",{"$f":"(G709/365)/L709","v":1.0977482889519392}]
[null,"ID0720","2012-05-26T14:46:55",375000,375000,"INR",{"$f":"tblSalaries[[#This Row],[clean Salary (in local currency)]]*VLOOKUP(tblSalaries[[#This Row],[Currency]],tblXrate[],2,FALSE)","v":6677.9687577909626},"Team Lead","Manager","India",{"$f":"VLOOKUP(tblSalaries[[#This Row],[Where do you work]],tblCountries[[Actual]:[Mapping]],2,FALSE)","v":"India"},3,">5<=10","ASIA",{"$f":"(G710/365)/L710","v":6.0986016052885503}]
[null,"ID0721","2012-05-26T14:51:02",85000,85000,"NZD",{"$f":"tblSalaries[[#This Row],[clean Salary (in local currency)]]*VLOOKUP(tblSalaries[[#This Row],[Currency]],tblXrate[],2,FALSE)","v":67794.987956419791},"Systems Manager","Manager","New Zealand",{"$f":"VLOOKUP(tblSalaries[[#This Row],[Where do you work]],tblCountries[[Actual]:[Mapping]],2,FALSE)","v":"New Zealand"},6,">10<=20","OCEANIA",{"$f":"(G711/365)/L711","v":30.956615505214515}]
[null,"ID0722","2012-05-26T14:57:39",31250,31250,"USD",{"$f":"tblSalaries[[#This Row],[clean Salary (in local currency)]]*VLOOKUP(tblSalaries[[#This Row],[Currency]],tblXrate[],2,FALSE)","v":31250},"Program management","Manager","India",{"$f":"VLOOKUP(tblSalaries[[#This Row],[Where do you work]],tblCountries[[Actual]:[Mapping]],2,FALSE)","v":"India"},3,">5<=10","ASIA",{"$f":"(G712/365)/L712","v":28.538812785388128}]
[null,"ID0723","2012-05-26T14:57:45","PKR 17000",204000,"PKR",{"$f":"tblSalaries[[#This Row],[clean Salary (in local currency)]]*VLOOKUP(tblSalaries[[#This Row],[Currency]],tblXrate[],2,FALSE)","v":2165.2740982270229},"Accounts Manager","Manager","Pakistan",{"$f":"VLOOKUP(tblSalaries[[#This Row],[Where do you work]],tblCountries[[Actual]:[Mapping]],2,FALSE)","v":"Pakistan"},8,"<=5","ASIA",{"$f":"(G713/365)/L713","v":0.74153222542021335}]
[null,"ID0724","2012-05-26T14:58:24","Rs.4lk ",400000,"INR",{"$f":"tblSalaries[[#This Row],[clean Salary (in local currency)]]*VLOOKUP(tblSalaries[[#This Row],[Currency]],tblXrate[],2,FALSE)","v":7123.1666749770275},"sr. mis executive","Reporting","India",{"$f":"VLOOKUP(tblSalaries[[#This Row],[Where do you work]],tblCountries[[Actual]:[Mapping]],2,FALSE)","v":"India"},8,"<=5","ASIA",{"$f":"(G714/365)/L714","v":2.4394406421154202}]
[null,"ID0725","2012-05-26T15:01:00","USD130000",130000,"USD",{"$f":"tblSalaries[[#This Row],[clean Salary (in local currency)]]*VLOOKUP(tblSalaries[[#This Row],[Currency]],tblXrate[],2,FALSE)","v":130000},"Modeller","Manager","Australia",{"$f":"VLOOKUP(tblSalaries[[#This Row],[Where do you work]],tblCountries[[Actual]:[Mapping]],2,FALSE)","v":"Australia"},6,"<=5","OCEANIA",{"$f":"(G715/365)/L715","v":59.360730593607308}]
[null,"ID0726","2012-05-26T15:01:41","Rs. 250000",250000,"INR",{"$f":"tblSalaries[[#This Row],[clean Salary (in local currency)]]*VLOOKUP(tblSalaries[[#This Row],[Currency]],tblXrate[],2,FALSE)","v":4451.9791718606421},"Asst. Manager","Manager","India",{"$f":"VLOOKUP(tblSalaries[[#This Row],[Where do you work]],tblCountries[[Actual]:[Mapping]],2,FALSE)","v":"India"},6,">5<=10","ASIA",{"$f":"(G716/365)/L716","v":2.03286720176285}]
[null,"ID0727","2012-05-26T15:02:34",800,9600,"USD",{"$f":"tblSalaries[[#This Row],[clean Salary (in local currency)]]*VLOOKUP(tblSalaries[[#This Row],[Currency]],tblXrate[],2,FALSE)","v":9600},"Admin","Analyst","South Africa",{"$f":"VLOOKUP(tblSalaries[[#This Row],[Where do you work]],tblCountries[[Actual]:[Mapping]],2,FALSE)","v":"South Africa"},6,"<=5","AFRICA",{"$f":"(G717/365)/L717","v":4.3835616438356162}]
[null,"ID0728","2012-05-26T15:04:33","INR 390000 PA",390000,"INR",{"$f":"tblSalaries[[#This Row],[clean Salary (in local currency)]]*VLOOKUP(tblSalaries[[#This Row],[Currency]],tblXrate[],2,FALSE)","v":6945.0875081026015},"Business Analyst","Analyst","India",{"$f":"VLOOKUP(tblSalaries[[#This Row],[Where do you work]],tblCountries[[Actual]:[Mapping]],2,FALSE)","v":"India"},6,"<=5","ASIA",{"$f":"(G718/365)/L718","v":3.1712728347500465}]
[null,"ID0729","2012-05-26T15:05:42",600000,600000,"INR",{"$f":"tblSalaries[[#This Row],[clean Salary (in local currency)]]*VLOOKUP(tblSalaries[[#This Row],[Currency]],tblXrate[],2,FALSE)","v":10684.750012465542},"Sr Financial Execative","Accountant","India",{"$f":"VLOOKUP(tblSalaries[[#This Row],[Where do you work]],tblCountries[[Actual]:[Mapping]],2,FALSE)","v":"India"},8,">5<=10","ASIA",{"$f":"(G719/365)/L719","v":3.6591609631731306}]
[null,"ID0730","2012-05-26T15:06:00",4.8,480000,"INR",{"$f":"tblSalaries[[#This Row],[clean Salary (in local currency)]]*VLOOKUP(tblSalaries[[#This Row],[Currency]],tblXrate[],2,FALSE)","v":8547.8000099724322},"Asst Mngr","Analyst","India",{"$f":"VLOOKUP(tblSalaries[[#This Row],[Where do you work]],tblCountries[[Actual]:[Mapping]],2,FALSE)","v":"India"},3,"<=5","ASIA",{"$f":"(G720/365)/L720","v":7.8062100547693447}]
[null,"ID0731","2012-05-26T15:07:39",35000,35000,"USD",{"$f":"tblSalaries[[#This Row],[clean Salary (in local currency)]]*VLOOKUP(tblSalaries[[#This Row],[Currency]],tblXrate[],2,FALSE)","v":35000},"Associate","Analyst","India",{"$f":"VLOOKUP(tblSalaries[[#This Row],[Where do you work]],tblCountries[[Actual]:[Mapping]],2,FALSE)","v":"India"},6,">5<=10","ASIA",{"$f":"(G721/365)/L721","v":15.981735159817353}]
[null,"ID0732","2012-05-26T15:09:27","Ind Rs.10,00,000.00",1000000,"INR",{"$f":"tblSalaries[[#This Row],[clean Salary (in local currency)]]*VLOOKUP(tblSalaries[[#This Row],[Currency]],tblXrate[],2,FALSE)","v":17807.916687442568},"Sr Associate","Analyst","India",{"$f":"VLOOKUP(tblSalaries[[#This Row],[Where do you work]],tblCountries[[Actual]:[Mapping]],2,FALSE)","v":"India"},3,">10<=20","ASIA",{"$f":"(G722/365)/L722","v":16.2629376141028}]
[null,"ID0733","2012-05-26T15:21:41",180000,180000,"INR",{"$f":"tblSalaries[[#This Row],[clean Salary (in local currency)]]*VLOOKUP(tblSalaries[[#This Row],[Currency]],tblXrate[],2,FALSE)","v":3205.4250037396623},"Accountant","Accountant","India",{"$f":"VLOOKUP(tblSalaries[[#This Row],[Where do you work]],tblCountries[[Actual]:[Mapping]],2,FALSE)","v":"India"},8,"<=5","ASIA",{"$f":"(G723/365)/L723","v":1.0977482889519392}]
[null,"ID0734","2012-05-26T15:24:32",5000,60000,"USD",{"$f":"tblSalaries[[#This Row],[clean Salary (in local currency)]]*VLOOKUP(tblSalaries[[#This Row],[Currency]],tblXrate[],2,FALSE)","v":60000},"Manager","Manager","Russia",{"$f":"VLOOKUP(tblSalaries[[#This Row],[Where do you work]],tblCountries[[Actual]:[Mapping]],2,FALSE)","v":"Russia"},6,">5<=10","ASIA",{"$f":"(G724/365)/L724","v":27.397260273972602}]
[null,"ID0735","2012-05-26T15:27:48","8 Lakhs",800000,"INR",{"$f":"tblSalaries[[#This Row],[clean Salary (in local currency)]]*VLOOKUP(tblSalaries[[#This Row],[Currency]],tblXrate[],2,FALSE)","v":14246.333349954055},"Manager","Manager","India",{"$f":"VLOOKUP(tblSalaries[[#This Row],[Where do you work]],tblCountries[[Actual]:[Mapping]],2,FALSE)","v":"India"},3,">10<=20","ASIA",{"$f":"(G725/365)/L725","v":13.010350091282241}]
[null,"ID0736","2012-05-26T15:30:23","6 Lac Rs",600000,"INR",{"$f":"tblSalaries[[#This Row],[clean Salary (in local currency)]]*VLOOKUP(tblSalaries[[#This Row],[Currency]],tblXrate[],2,FALSE)","v":10684.750012465542},"ERP Co-Ordinator","Manager","India",{"$f":"VLOOKUP(tblSalaries[[#This Row],[Where do you work]],tblCountries[[Actual]:[Mapping]],2,FALSE)","v":"India"},3,">5<=10","ASIA",{"$f":"(G726/365)/L726","v":9.7577625684616809}]
[null,"ID0737","2012-05-26T15:35:43",40000,40000,"USD",{"$f":"tblSalaries[[#This Row],[clean Salary (in local currency)]]*VLOOKUP(tblSalaries[[#This Row],[Currency]],tblXrate[],2,FALSE)","v":40000},"Revenue Manager","Manager","India",{"$f":"VLOOKUP(tblSalaries[[#This Row],[Where do you work]],tblCountries[[Actual]:[Mapping]],2,FALSE)","v":"India"},8,">10<=20","ASIA",{"$f":"(G727/365)/L727","v":13.698630136986301}]
[null,"ID0738","2012-05-26T15:44:32",5022,5022,"USD",{"$f":"tblSalaries[[#This Row],[clean Salary (in local currency)]]*VLOOKUP(tblSalaries[[#This Row],[Currency]],tblXrate[],2,FALSE)","v":5022},"Accounts analyst","Analyst","Pakistan",{"$f":"VLOOKUP(tblSalaries[[#This Row],[Where do you work]],tblCountries[[Actual]:[Mapping]],2,FALSE)","v":"Pakistan"},6,">10<=20","ASIA",{"$f":"(G728/365)/L728","v":2.2931506849315069}]
[null,"ID0739","2012-05-26T15:51:11",410000,410000,"INR",{"$f":"tblSalaries[[#This Row],[clean Salary (in local currency)]]*VLOOKUP(tblSalaries[[#This Row],[Currency]],tblXrate[],2,FALSE)","v":7301.2458418514525},"MIS Analyst","Analyst","India",{"$f":"VLOOKUP(tblSalaries[[#This Row],[Where do you work]],tblCountries[[Actual]:[Mapping]],2,FALSE)","v":"India"},8,"<=5","ASIA",{"$f":"(G729/365)/L729","v":2.5004266581683057}]
[null,"ID0740","2012-05-26T15:53:10",10000,120000,"EGYPT",{"$f":"tblSalaries[[#This Row],[clean Salary (in local currency)]]*VLOOKUP(tblSalaries[[#This Row],[Currency]],tblXrate[],2,FALSE)","v":19831.432821021317},"Estimator","Analyst","Egypt",{"$f":"VLOOKUP(tblSalaries[[#This Row],[Where do you work]],tblCountries[[Actual]:[Mapping]],2,FALSE)","v":"Egypt"},8,"<=5","AFRICA",{"$f":"(G730/365)/L730","v":6.7915865825415471}]
[null,"ID0741","2012-05-26T15:54:00","50 k per month",600000,"INR",{"$f":"tblSalaries[[#This Row],[clean Salary (in local currency)]]*VLOOKUP(tblSalaries[[#This Row],[Currency]],tblXrate[],2,FALSE)","v":10684.750012465542},"Finance Manager","Manager","India",{"$f":"VLOOKUP(tblSalaries[[#This Row],[Where do you work]],tblCountries[[Actual]:[Mapping]],2,FALSE)","v":"India"},6,"<=5","ASIA",{"$f":"(G731/365)/L731","v":4.8788812842308404}]
[null,"ID0742","2012-05-26T15:56:57","4800 $",4800,"USD",{"$f":"tblSalaries[[#This Row],[clean Salary (in local currency)]]*VLOOKUP(tblSalaries[[#This Row],[Currency]],tblXrate[],2,FALSE)","v":4800},"Data Analysis","Analyst","Bhutan",{"$f":"VLOOKUP(tblSalaries[[#This Row],[Where do you work]],tblCountries[[Actual]:[Mapping]],2,FALSE)","v":"Bhutan"},6,"<=5","ASIA",{"$f":"(G732/365)/L732","v":2.1917808219178081}]
[null,"ID0743","2012-05-26T15:59:44","66000 â‚¬",66000,"EUR",{"$f":"tblSalaries[[#This Row],[clean Salary (in local currency)]]*VLOOKUP(tblSalaries[[#This Row],[Currency]],tblXrate[],2,FALSE)","v":83846.362973446114},"Logistics Analyst","Analyst","germany",{"$f":"VLOOKUP(tblSalaries[[#This Row],[Where do you work]],tblCountries[[Actual]:[Mapping]],2,FALSE)","v":"Germany"},6,">5<=10","EUROPE",{"$f":"(G733/365)/L733","v":38.286010490158041}]
[null,"ID0744","2012-05-26T16:01:54",15000,15000,"USD",{"$f":"tblSalaries[[#This Row],[clean Salary (in local currency)]]*VLOOKUP(tblSalaries[[#This Row],[Currency]],tblXrate[],2,FALSE)","v":15000},"PROCSS ASOCIATE","Controller","India",{"$f":"VLOOKUP(tblSalaries[[#This Row],[Where do you work]],tblCountries[[Actual]:[Mapping]],2,FALSE)","v":"India"},3,"<=5","ASIA",{"$f":"(G734/365)/L734","v":13.698630136986301}]
[null,"ID0745","2012-05-26T16:05:02",10000,10000,"USD",{"$f":"tblSalaries[[#This Row],[clean Salary (in local currency)]]*VLOOKUP(tblSalaries[[#This Row],[Currency]],tblXrate[],2,FALSE)","v":10000},"Reporting Analyst","Analyst","India",{"$f":"VLOOKUP(tblSalaries[[#This Row],[Where do you work]],tblCountries[[Actual]:[Mapping]],2,FALSE)","v":"India"},6,">10<=20","ASIA",{"$f":"(G735/365)/L735","v":4.5662100456621006}]
[null,"ID0746","2012-05-26T16:10:08",74000,74000,"GBP",{"$f":"tblSalaries[[#This Row],[clean Salary (in local currency)]]*VLOOKUP(tblSalaries[[#This Row],[Currency]],tblXrate[],2,FALSE)","v":116637.19213297902},"Corporate Finance Manager","Manager","UK",{"$f":"VLOOKUP(tblSalaries[[#This Row],[Where do you work]],tblCountries[[Actual]:[Mapping]],2,FALSE)","v":"UK"},6,"<=5","EUROPE",{"$f":"(G736/365)/L736","v":53.25899184154293}]
[null,"ID0747","2012-05-26T16:12:09","GBP21798",21798,"GBP",{"$f":"tblSalaries[[#This Row],[clean Salary (in local currency)]]*VLOOKUP(tblSalaries[[#This Row],[Currency]],tblXrate[],2,FALSE)","v":34357.533974522659},"Data Analyst","Analyst","UK",{"$f":"VLOOKUP(tblSalaries[[#This Row],[Where do you work]],tblCountries[[Actual]:[Mapping]],2,FALSE)","v":"UK"},8,"<=5","EUROPE",{"$f":"(G737/365)/L737","v":11.766278758398171}]
[null,"ID0748","2012-05-26T16:16:39",65000,65000,"GBP",{"$f":"tblSalaries[[#This Row],[clean Salary (in local currency)]]*VLOOKUP(tblSalaries[[#This Row],[Currency]],tblXrate[],2,FALSE)","v":102451.58768437347},"compliance manager","Manager","UK",{"$f":"VLOOKUP(tblSalaries[[#This Row],[Where do you work]],tblCountries[[Actual]:[Mapping]],2,FALSE)","v":"UK"},6,">10<=20","EUROPE",{"$f":"(G738/365)/L738","v":46.781546887841763}]
[null,"ID0749","2012-05-26T16:23:30",16000,16000,"USD",{"$f":"tblSalaries[[#This Row],[clean Salary (in local currency)]]*VLOOKUP(tblSalaries[[#This Row],[Currency]],tblXrate[],2,FALSE)","v":16000},"Engineer","Engineer","India",{"$f":"VLOOKUP(tblSalaries[[#This Row],[Where do you work]],tblCountries[[Actual]:[Mapping]],2,FALSE)","v":"India"},3,"<=5","ASIA",{"$f":"(G739/365)/L739","v":14.611872146118721}]
[null,"ID0750","2012-05-26T16:25:53",6000,6000,"USD",{"$f":"tblSalaries[[#This Row],[clean Salary (in local currency)]]*VLOOKUP(tblSalaries[[#This Row],[Currency]],tblXrate[],2,FALSE)","v":6000},"Merchandiser","Manager","India",{"$f":"VLOOKUP(tblSalaries[[#This Row],[Where do you work]],tblCountries[[Actual]:[Mapping]],2,FALSE)","v":"India"},3,">5<=10","ASIA",{"$f":"(G740/365)/L740","v":5.4794520547945211}]
[null,"ID0751","2012-05-26T16:26:35","INR 30000",360000,"INR",{"$f":"tblSalaries[[#This Row],[clean Salary (in local currency)]]*VLOOKUP(tblSalaries[[#This Row],[Currency]],tblXrate[],2,FALSE)","v":6410.8500074793246},"Project Lead","Manager","India",{"$f":"VLOOKUP(tblSalaries[[#This Row],[Where do you work]],tblCountries[[Actual]:[Mapping]],2,FALSE)","v":"India"},8,">5<=10","ASIA",{"$f":"(G741/365)/L741","v":2.1954965779038784}]
[null,"ID0752","2012-05-26T16:29:36",36000,36000,"USD",{"$f":"tblSalaries[[#This Row],[clean Salary (in local currency)]]*VLOOKUP(tblSalaries[[#This Row],[Currency]],tblXrate[],2,FALSE)","v":36000},"ENGINEER","Engineer","uae",{"$f":"VLOOKUP(tblSalaries[[#This Row],[Where do you work]],tblCountries[[Actual]:[Mapping]],2,FALSE)","v":"UAE"},2,">5<=10","ASIA",{"$f":"(G742/365)/L742","v":49.315068493150683}]
[null,"ID0753","2012-05-26T16:33:58",20000,20000,"USD",{"$f":"tblSalaries[[#This Row],[clean Salary (in local currency)]]*VLOOKUP(tblSalaries[[#This Row],[Currency]],tblXrate[],2,FALSE)","v":20000},"engineer","Engineer","India",{"$f":"VLOOKUP(tblSalaries[[#This Row],[Where do you work]],tblCountries[[Actual]:[Mapping]],2,FALSE)","v":"India"},2,">5<=10","ASIA",{"$f":"(G743/365)/L743","v":27.397260273972602}]
[null,"ID0754","2012-05-26T16:34:18","INR240000",240000,"INR",{"$f":"tblSalaries[[#This Row],[clean Salary (in local currency)]]*VLOOKUP(tblSalaries[[#This Row],[Currency]],tblXrate[],2,FALSE)","v":4273.9000049862161},"SR. ACCOUNTS EXECUTIVE","Accountant","India",{"$f":"VLOOKUP(tblSalaries[[#This Row],[Where do you work]],tblCountries[[Actual]:[Mapping]],2,FALSE)","v":"India"},6,">5<=10","ASIA",{"$f":"(G744/365)/L744","v":1.9515525136923362}]
[null,"ID0755","2012-05-26T16:34:57","Â£ 24000",24000,"GBP",{"$f":"tblSalaries[[#This Row],[clean Salary (in local currency)]]*VLOOKUP(tblSalaries[[#This Row],[Currency]],tblXrate[],2,FALSE)","v":37828.278529614821},"Business Support Specialist","Specialist","UK",{"$f":"VLOOKUP(tblSalaries[[#This Row],[Where do you work]],tblCountries[[Actual]:[Mapping]],2,FALSE)","v":"UK"},8,">5<=10","EUROPE",{"$f":"(G745/365)/L745","v":12.954889907402336}]
[null,"ID0756","2012-05-26T16:50:08","US $ 11,000",11000,"USD",{"$f":"tblSalaries[[#This Row],[clean Salary (in local currency)]]*VLOOKUP(tblSalaries[[#This Row],[Currency]],tblXrate[],2,FALSE)","v":11000},"Assistant Manager - Group MIS","Manager","Sri Lanka",{"$f":"VLOOKUP(tblSalaries[[#This Row],[Where do you work]],tblCountries[[Actual]:[Mapping]],2,FALSE)","v":"Sri Lanka"},8,"<=5","ASIA",{"$f":"(G746/365)/L746","v":3.7671232876712328}]
[null,"ID0757","2012-05-26T16:50:46",8000,8000,"USD",{"$f":"tblSalaries[[#This Row],[clean Salary (in local currency)]]*VLOOKUP(tblSalaries[[#This Row],[Currency]],tblXrate[],2,FALSE)","v":8000},"Business Analyst","Analyst","India",{"$f":"VLOOKUP(tblSalaries[[#This Row],[Where do you work]],tblCountries[[Actual]:[Mapping]],2,FALSE)","v":"India"},3,">5<=10","ASIA",{"$f":"(G747/365)/L747","v":7.3059360730593603}]
[null,"ID0758","2012-05-26T17:02:46","Rs. 225000",225000,"INR",{"$f":"tblSalaries[[#This Row],[clean Salary (in local currency)]]*VLOOKUP(tblSalaries[[#This Row],[Currency]],tblXrate[],2,FALSE)","v":4006.7812546745777},"MIS Executive","Reporting","India",{"$f":"VLOOKUP(tblSalaries[[#This Row],[Where do you work]],tblCountries[[Actual]:[Mapping]],2,FALSE)","v":"India"},8,">5<=10","ASIA",{"$f":"(G748/365)/L748","v":1.372185361189924}]
[null,"ID0759","2012-05-26T17:03:02",1488000,1488000,"NAIRA",{"$f":"tblSalaries[[#This Row],[clean Salary (in local currency)]]*VLOOKUP(tblSalaries[[#This Row],[Currency]],tblXrate[],2,FALSE)","v":9171.0323574730355},"Company Systems Integration Manager","Manager","Nigeria",{"$f":"VLOOKUP(tblSalaries[[#This Row],[Where do you work]],tblCountries[[Actual]:[Mapping]],2,FALSE)","v":"Nigeria"},3,"<=5","AFRICA",{"$f":"(G749/365)/L749","v":8.3753720159571099}]
[null,"ID0760","2012-05-26T17:03:26","INR 20000",240000,"INR",{"$f":"tblSalaries[[#This Row],[clean Salary (in local currency)]]*VLOOKUP(tblSalaries[[#This Row],[Currency]],tblXrate[],2,FALSE)","v":4273.9000049862161},"EXECUTIVE","Analyst","India",{"$f":"VLOOKUP(tblSalaries[[#This Row],[Where do you work]],tblCountries[[Actual]:[Mapping]],2,FALSE)","v":"India"},3,">10<=20","ASIA",{"$f":"(G750/365)/L750","v":3.9031050273846724}]
[null,"ID0761","2012-05-26T17:04:23","INR 700000",700000,"INR",{"$f":"tblSalaries[[#This Row],[clean Salary (in local currency)]]*VLOOKUP(tblSalaries[[#This Row],[Currency]],tblXrate[],2,FALSE)","v":12465.541681209797},"Sales Management Analyst","Analyst","India",{"$f":"VLOOKUP(tblSalaries[[#This Row],[Where do you work]],tblCountries[[Actual]:[Mapping]],2,FALSE)","v":"India"},8,"<=5","ASIA",{"$f":"(G751/365)/L751","v":4.2690211237019851}]
[null,"ID0762","2012-05-26T17:06:48",2000,24000,"USD",{"$f":"tblSalaries[[#This Row],[clean Salary (in local currency)]]*VLOOKUP(tblSalaries[[#This Row],[Currency]],tblXrate[],2,FALSE)","v":24000},"Asst Production Planner","Analyst","India",{"$f":"VLOOKUP(tblSalaries[[#This Row],[Where do you work]],tblCountries[[Actual]:[Mapping]],2,FALSE)","v":"India"},3,"<=5","ASIA",{"$f":"(G752/365)/L752","v":21.917808219178085}]
[null,"ID0763","2012-05-26T17:07:30",20000,20000,"USD",{"$f":"tblSalaries[[#This Row],[clean Salary (in local currency)]]*VLOOKUP(tblSalaries[[#This Row],[Currency]],tblXrate[],2,FALSE)","v":20000},"Consultat","Consultant","Denmark",{"$f":"VLOOKUP(tblSalaries[[#This Row],[Where do you work]],tblCountries[[Actual]:[Mapping]],2,FALSE)","v":"Denmark"},3,">10<=20","EUROPE",{"$f":"(G753/365)/L753","v":18.264840182648403}]
[null,"ID0764","2012-05-26T17:08:09",62000,62000,"USD",{"$f":"tblSalaries[[#This Row],[clean Salary (in local currency)]]*VLOOKUP(tblSalaries[[#This Row],[Currency]],tblXrate[],2,FALSE)","v":62000},"System Analyst ","Analyst","USA",{"$f":"VLOOKUP(tblSalaries[[#This Row],[Where do you work]],tblCountries[[Actual]:[Mapping]],2,FALSE)","v":"USA"},3,">10<=20","N. AMERICA",{"$f":"(G754/365)/L754","v":56.621004566210047}]
[null,"ID0765","2012-05-26T17:09:24","14960 $",14960,"USD",{"$f":"tblSalaries[[#This Row],[clean Salary (in local currency)]]*VLOOKUP(tblSalaries[[#This Row],[Currency]],tblXrate[],2,FALSE)","v":14960},"Stock Controller","Controller","Saudi Arabia",{"$f":"VLOOKUP(tblSalaries[[#This Row],[Where do you work]],tblCountries[[Actual]:[Mapping]],2,FALSE)","v":"Saudi Arabia"},8,"<=5","ASIA",{"$f":"(G755/365)/L755","v":5.1232876712328768}]
[null,"ID0766","2012-05-26T17:10:20",120000,120000,"INR",{"$f":"tblSalaries[[#This Row],[clean Salary (in local currency)]]*VLOOKUP(tblSalaries[[#This Row],[Currency]],tblXrate[],2,FALSE)","v":2136.9500024931081},"ACCOUNTANT","Accountant","India",{"$f":"VLOOKUP(tblSalaries[[#This Row],[Where do you work]],tblCountries[[Actual]:[Mapping]],2,FALSE)","v":"India"},3,"<=5","ASIA",{"$f":"(G756/365)/L756","v":1.9515525136923362}]
[null,"ID0767","2012-05-26T17:24:41",30232,30232,"USD",{"$f":"tblSalaries[[#This Row],[clean Salary (in local currency)]]*VLOOKUP(tblSalaries[[#This Row],[Currency]],tblXrate[],2,FALSE)","v":30232},"Accounts Supervisor","Accountant","KSA",{"$f":"VLOOKUP(tblSalaries[[#This Row],[Where do you work]],tblCountries[[Actual]:[Mapping]],2,FALSE)","v":"USA"},3,"<=5","N. AMERICA",{"$f":"(G757/365)/L757","v":27.609132420091324}]
[null,"ID0768","2012-05-26T17:24:41",41000,41000,"USD",{"$f":"tblSalaries[[#This Row],[clean Salary (in local currency)]]*VLOOKUP(tblSalaries[[#This Row],[Currency]],tblXrate[],2,FALSE)","v":41000},"Business Analyst","Analyst","USA",{"$f":"VLOOKUP(tblSalaries[[#This Row],[Where do you work]],tblCountries[[Actual]:[Mapping]],2,FALSE)","v":"USA"},8,"<=5","N. AMERICA",{"$f":"(G758/365)/L758","v":14.04109589041096}]
[null,"ID0769","2012-05-26T17:31:56","95000 AUD",95000,"AUD",{"$f":"tblSalaries[[#This Row],[clean Salary (in local currency)]]*VLOOKUP(tblSalaries[[#This Row],[Currency]],tblXrate[],2,FALSE)","v":96891.417358250401},"Data Analyst - Report Writer","Analyst","Australia",{"$f":"VLOOKUP(tblSalaries[[#This Row],[Where do you work]],tblCountries[[Actual]:[Mapping]],2,FALSE)","v":"Australia"},3,">10<=20","OCEANIA",{"$f":"(G759/365)/L759","v":88.485312655936426}]
[null,"ID0770","2012-05-26T17:44:34","Rs 1200000",1200000,"INR",{"$f":"tblSalaries[[#This Row],[clean Salary (in local currency)]]*VLOOKUP(tblSalaries[[#This Row],[Currency]],tblXrate[],2,FALSE)","v":21369.500024931083},"Regional Formwork Head ","Manager","India",{"$f":"VLOOKUP(tblSalaries[[#This Row],[Where do you work]],tblCountries[[Actual]:[Mapping]],2,FALSE)","v":"India"},8,">10<=20","ASIA",{"$f":"(G760/365)/L760","v":7.3183219263462611}]
[null,"ID0771","2012-05-26T17:47:00",205000,205000,"INR",{"$f":"tblSalaries[[#This Row],[clean Salary (in local currency)]]*VLOOKUP(tblSalaries[[#This Row],[Currency]],tblXrate[],2,FALSE)","v":3650.6229209257262},"BRANCH ACCOUNTANT","Accountant","India",{"$f":"VLOOKUP(tblSalaries[[#This Row],[Where do you work]],tblCountries[[Actual]:[Mapping]],2,FALSE)","v":"India"},8,">5<=10","ASIA",{"$f":"(G761/365)/L761","v":1.2502133290841528}]
[null,"ID0772","2012-05-26T17:47:10","$1,589.00/per month",19068,"USD",{"$f":"tblSalaries[[#This Row],[clean Salary (in local currency)]]*VLOOKUP(tblSalaries[[#This Row],[Currency]],tblXrate[],2,FALSE)","v":19068},"Accounting Head","Accountant","Philippines",{"$f":"VLOOKUP(tblSalaries[[#This Row],[Where do you work]],tblCountries[[Actual]:[Mapping]],2,FALSE)","v":"Philippines"},8,">10<=20","ASIA",{"$f":"(G762/365)/L762","v":6.5301369863013701}]
[null,"ID0773","2012-05-26T17:49:17","Rs. 300000",300000,"INR",{"$f":"tblSalaries[[#This Row],[clean Salary (in local currency)]]*VLOOKUP(tblSalaries[[#This Row],[Currency]],tblXrate[],2,FALSE)","v":5342.3750062327708},"OPEX CONTROL","Controller","India",{"$f":"VLOOKUP(tblSalaries[[#This Row],[Where do you work]],tblCountries[[Actual]:[Mapping]],2,FALSE)","v":"India"},8,"<=5","ASIA",{"$f":"(G763/365)/L763","v":1.8295804815865653}]
[null,"ID0774","2012-05-26T17:51:27",48000,48000,"USD",{"$f":"tblSalaries[[#This Row],[clean Salary (in local currency)]]*VLOOKUP(tblSalaries[[#This Row],[Currency]],tblXrate[],2,FALSE)","v":48000},"Consultant","Consultant","Singapore",{"$f":"VLOOKUP(tblSalaries[[#This Row],[Where do you work]],tblCountries[[Actual]:[Mapping]],2,FALSE)","v":"Singapore"},8,"<=5","ASIA",{"$f":"(G764/365)/L764","v":16.438356164383563}]
[null,"ID0775","2012-05-26T18:19:49","2.2 lakhs per annum",220000,"INR",{"$f":"tblSalaries[[#This Row],[clean Salary (in local currency)]]*VLOOKUP(tblSalaries[[#This Row],[Currency]],tblXrate[],2,FALSE)","v":3917.7416712373652},"Associate Software Engineer","Engineer","India",{"$f":"VLOOKUP(tblSalaries[[#This Row],[Where do you work]],tblCountries[[Actual]:[Mapping]],2,FALSE)","v":"India"},6,"<=5","ASIA",{"$f":"(G765/365)/L765","v":1.7889231375513084}]
[null,"ID0776","2012-05-26T18:29:06",13500,13500,"USD",{"$f":"tblSalaries[[#This Row],[clean Salary (in local currency)]]*VLOOKUP(tblSalaries[[#This Row],[Currency]],tblXrate[],2,FALSE)","v":13500},"MIS","Reporting","India",{"$f":"VLOOKUP(tblSalaries[[#This Row],[Where do you work]],tblCountries[[Actual]:[Mapping]],2,FALSE)","v":"India"},8,"<=5","ASIA",{"$f":"(G766/365)/L766","v":4.6232876712328768}]
[null,"ID0777","2012-05-26T18:35:20","45000 $",45000,"USD",{"$f":"tblSalaries[[#This Row],[clean Salary (in local currency)]]*VLOOKUP(tblSalaries[[#This Row],[Currency]],tblXrate[],2,FALSE)","v":45000},"AGM","Manager","India",{"$f":"VLOOKUP(tblSalaries[[#This Row],[Where do you work]],tblCountries[[Actual]:[Mapping]],2,FALSE)","v":"India"},2,">10<=20","ASIA",{"$f":"(G767/365)/L767","v":61.643835616438359}]
[null,"ID0778","2012-05-26T18:38:41",55000,55000,"EUR",{"$f":"tblSalaries[[#This Row],[clean Salary (in local currency)]]*VLOOKUP(tblSalaries[[#This Row],[Currency]],tblXrate[],2,FALSE)","v":69871.969144538423},"CFO","CXO or Top Mgmt.","italy",{"$f":"VLOOKUP(tblSalaries[[#This Row],[Where do you work]],tblCountries[[Actual]:[Mapping]],2,FALSE)","v":"italy"},3,">10<=20","EUROPE",{"$f":"(G768/365)/L768","v":63.810017483596738}]
[null,"ID0779","2012-05-26T18:41:31","Rs 40000",480000,"INR",{"$f":"tblSalaries[[#This Row],[clean Salary (in local currency)]]*VLOOKUP(tblSalaries[[#This Row],[Currency]],tblXrate[],2,FALSE)","v":8547.8000099724322},"Banker","Manager","India",{"$f":"VLOOKUP(tblSalaries[[#This Row],[Where do you work]],tblCountries[[Actual]:[Mapping]],2,FALSE)","v":"India"},6,">10<=20","ASIA",{"$f":"(G769/365)/L769","v":3.9031050273846724}]
[null,"ID0780","2012-05-26T18:44:00","Dhs 2800 + Accomodation",33600,"AED",{"$f":"tblSalaries[[#This Row],[clean Salary (in local currency)]]*VLOOKUP(tblSalaries[[#This Row],[Currency]],tblXrate[],2,FALSE)","v":9146.5655463031271},"Accountant","Accountant","uae",{"$f":"VLOOKUP(tblSalaries[[#This Row],[Where do you work]],tblCountries[[Actual]:[Mapping]],2,FALSE)","v":"UAE"},2,">5<=10","ASIA",{"$f":"(G770/365)/L770","v":12.529541844250859}]
[null,"ID0781","2012-05-26T18:56:52",570000,570000,"INR",{"$f":"tblSalaries[[#This Row],[clean Salary (in local currency)]]*VLOOKUP(tblSalaries[[#This Row],[Currency]],tblXrate[],2,FALSE)","v":10150.512511842264},"Analyst","Analyst","India",{"$f":"VLOOKUP(tblSalaries[[#This Row],[Where do you work]],tblCountries[[Actual]:[Mapping]],2,FALSE)","v":"India"},8,"<=5","ASIA",{"$f":"(G771/365)/L771","v":3.4762029150144738}]
[null,"ID0782","2012-05-26T19:07:55",636000,636000,"INR",{"$f":"tblSalaries[[#This Row],[clean Salary (in local currency)]]*VLOOKUP(tblSalaries[[#This Row],[Currency]],tblXrate[],2,FALSE)","v":11325.835013213473},"Program Manager","Manager","India",{"$f":"VLOOKUP(tblSalaries[[#This Row],[Where do you work]],tblCountries[[Actual]:[Mapping]],2,FALSE)","v":"India"},6,">5<=10","ASIA",{"$f":"(G772/365)/L772","v":5.1716141612846913}]
[null,"ID0783","2012-05-26T19:13:39","180000 PKR",180000,"PKR",{"$f":"tblSalaries[[#This Row],[clean Salary (in local currency)]]*VLOOKUP(tblSalaries[[#This Row],[Currency]],tblXrate[],2,FALSE)","v":1910.5359690238436},"S&D Reporting & Analysis Team Leader","Reporting","Pakistan",{"$f":"VLOOKUP(tblSalaries[[#This Row],[Where do you work]],tblCountries[[Actual]:[Mapping]],2,FALSE)","v":"Pakistan"},8,">5<=10","ASIA",{"$f":"(G773/365)/L773","v":0.65429314007665873}]
[null,"ID0784","2012-05-26T19:22:53","AUS$36000",36000,"USD",{"$f":"tblSalaries[[#This Row],[clean Salary (in local currency)]]*VLOOKUP(tblSalaries[[#This Row],[Currency]],tblXrate[],2,FALSE)","v":36000},"Key Expert User","Manager","Australia",{"$f":"VLOOKUP(tblSalaries[[#This Row],[Where do you work]],tblCountries[[Actual]:[Mapping]],2,FALSE)","v":"Australia"},3,">10<=20","OCEANIA",{"$f":"(G774/365)/L774","v":32.87671232876712}]
[null,"ID0785","2012-05-26T19:29:23","2.25 lakhs per year(prof income)",2250000,"INR",{"$f":"tblSalaries[[#This Row],[clean Salary (in local currency)]]*VLOOKUP(tblSalaries[[#This Row],[Currency]],tblXrate[],2,FALSE)","v":40067.812546745779},"company secretary","Accountant","India",{"$f":"VLOOKUP(tblSalaries[[#This Row],[Where do you work]],tblCountries[[Actual]:[Mapping]],2,FALSE)","v":"India"},2,"<=5","ASIA",{"$f":"(G775/365)/L775","v":54.88741444759696}]
[null,"ID0786","2012-05-26T19:29:34",16000,16000,"USD",{"$f":"tblSalaries[[#This Row],[clean Salary (in local currency)]]*VLOOKUP(tblSalaries[[#This Row],[Currency]],tblXrate[],2,FALSE)","v":16000},"Mis executiv","Reporting","India",{"$f":"VLOOKUP(tblSalaries[[#This Row],[Where do you work]],tblCountries[[Actual]:[Mapping]],2,FALSE)","v":"India"},8,"<=5","ASIA",{"$f":"(G776/365)/L776","v":5.4794520547945202}]
[null,"ID0787","2012-05-26T19:34:12",240000,240000,"INR",{"$f":"tblSalaries[[#This Row],[clean Salary (in local currency)]]*VLOOKUP(tblSalaries[[#This Row],[Currency]],tblXrate[],2,FALSE)","v":4273.9000049862161},"Analyst","Analyst","India",{"$f":"VLOOKUP(tblSalaries[[#This Row],[Where do you work]],tblCountries[[Actual]:[Mapping]],2,FALSE)","v":"India"},8,"<=5","ASIA",{"$f":"(G777/365)/L777","v":1.4636643852692521}]
[null,"ID0788","2012-05-26T19:43:36","INR 400000",400000,"INR",{"$f":"tblSalaries[[#This Row],[clean Salary (in local currency)]]*VLOOKUP(tblSalaries[[#This Row],[Currency]],tblXrate[],2,FALSE)","v":7123.1666749770275},"Asst.Manager","Manager","India",{"$f":"VLOOKUP(tblSalaries[[#This Row],[Where do you work]],tblCountries[[Actual]:[Mapping]],2,FALSE)","v":"India"},6,">5<=10","ASIA",{"$f":"(G778/365)/L778","v":3.2525875228205603}]
[null,"ID0789","2012-05-26T20:08:21",10000,10000,"USD",{"$f":"tblSalaries[[#This Row],[clean Salary (in local currency)]]*VLOOKUP(tblSalaries[[#This Row],[Currency]],tblXrate[],2,FALSE)","v":10000},"BDM","Manager","India",{"$f":"VLOOKUP(tblSalaries[[#This Row],[Where do you work]],tblCountries[[Actual]:[Mapping]],2,FALSE)","v":"India"},2,">10<=20","ASIA",{"$f":"(G779/365)/L779","v":13.698630136986301}]
[null,"ID0790","2012-05-26T20:16:28","CA$66000",66000,"CAD",{"$f":"tblSalaries[[#This Row],[clean Salary (in local currency)]]*VLOOKUP(tblSalaries[[#This Row],[Currency]],tblXrate[],2,FALSE)","v":64901.860520001574},"Programmer-analyst","Analyst","Canada",{"$f":"VLOOKUP(tblSalaries[[#This Row],[Where do you work]],tblCountries[[Actual]:[Mapping]],2,FALSE)","v":"Canada"},3,">10<=20","N. AMERICA",{"$f":"(G780/365)/L780","v":59.271105497718331}]
[null,"ID0791","2012-05-26T20:19:36",65000,65000,"USD",{"$f":"tblSalaries[[#This Row],[clean Salary (in local currency)]]*VLOOKUP(tblSalaries[[#This Row],[Currency]],tblXrate[],2,FALSE)","v":65000},"security analyst","Analyst","USA",{"$f":"VLOOKUP(tblSalaries[[#This Row],[Where do you work]],tblCountries[[Actual]:[Mapping]],2,FALSE)","v":"USA"},3,">5<=10","N. AMERICA",{"$f":"(G781/365)/L781","v":59.360730593607308}]
[null,"ID0792","2012-05-26T20:20:34","Rs 450000",450000,"INR",{"$f":"tblSalaries[[#This Row],[clean Salary (in local currency)]]*VLOOKUP(tblSalaries[[#This Row],[Currency]],tblXrate[],2,FALSE)","v":8013.5625093491553},"Material Planner","Manager","India",{"$f":"VLOOKUP(tblSalaries[[#This Row],[Where do you work]],tblCountries[[Actual]:[Mapping]],2,FALSE)","v":"India"},8,"<=5","ASIA",{"$f":"(G782/365)/L782","v":2.7443707223798479}]
[null,"ID0793","2012-05-26T20:27:19",100000,100000,"CAD",{"$f":"tblSalaries[[#This Row],[clean Salary (in local currency)]]*VLOOKUP(tblSalaries[[#This Row],[Currency]],tblXrate[],2,FALSE)","v":98336.152303032693},"VP Infrastructure","CXO or Top Mgmt.","Canada",{"$f":"VLOOKUP(tblSalaries[[#This Row],[Where do you work]],tblCountries[[Actual]:[Mapping]],2,FALSE)","v":"Canada"},6,"<=5","N. AMERICA",{"$f":"(G783/365)/L783","v":44.902352649786621}]
[null,"ID0794","2012-05-26T20:31:30","ONE LACK FIFTY THOUSAND(INR)",150000,"INR",{"$f":"tblSalaries[[#This Row],[clean Salary (in local currency)]]*VLOOKUP(tblSalaries[[#This Row],[Currency]],tblXrate[],2,FALSE)","v":2671.1875031163854},"WORKING WITH PRODUCT TEAM OF MAKEMYTRIP.COM","Analyst","India",{"$f":"VLOOKUP(tblSalaries[[#This Row],[Where do you work]],tblCountries[[Actual]:[Mapping]],2,FALSE)","v":"India"},6,"<=5","ASIA",{"$f":"(G784/365)/L784","v":1.2197203210577101}]
[null,"ID0795","2012-05-26T20:50:07",96000,96000,"USD",{"$f":"tblSalaries[[#This Row],[clean Salary (in local currency)]]*VLOOKUP(tblSalaries[[#This Row],[Currency]],tblXrate[],2,FALSE)","v":96000},"MIS Executive","Reporting","India",{"$f":"VLOOKUP(tblSalaries[[#This Row],[Where do you work]],tblCountries[[Actual]:[Mapping]],2,FALSE)","v":"India"},8,">5<=10","ASIA",{"$f":"(G785/365)/L785","v":32.876712328767127}]
[null,"ID0796","2012-05-26T20:57:13","Rs. 8000",1152000,"INR",{"$f":"tblSalaries[[#This Row],[clean Salary (in local currency)]]*VLOOKUP(tblSalaries[[#This Row],[Currency]],tblXrate[],2,FALSE)","v":20514.720023933838},"Cashier","Accountant","India",{"$f":"VLOOKUP(tblSalaries[[#This Row],[Where do you work]],tblCountries[[Actual]:[Mapping]],2,FALSE)","v":"India"},6,">5<=10","ASIA",{"$f":"(G786/365)/L786","v":9.3674520657232137}]
[null,"ID0797","2012-05-26T20:57:17",15000,15000,"EUR",{"$f":"tblSalaries[[#This Row],[clean Salary (in local currency)]]*VLOOKUP(tblSalaries[[#This Row],[Currency]],tblXrate[],2,FALSE)","v":19055.991584874118},"Technician","Analyst","Spain",{"$f":"VLOOKUP(tblSalaries[[#This Row],[Where do you work]],tblCountries[[Actual]:[Mapping]],2,FALSE)","v":"Spain"},3,">5<=10","EUROPE",{"$f":"(G787/365)/L787","v":17.402732040980929}]
[null,"ID0798","2012-05-26T21:00:40","Aud 65000",65000,"AUD",{"$f":"tblSalaries[[#This Row],[clean Salary (in local currency)]]*VLOOKUP(tblSalaries[[#This Row],[Currency]],tblXrate[],2,FALSE)","v":66294.12766617132},"Market analyst","Analyst","Australia",{"$f":"VLOOKUP(tblSalaries[[#This Row],[Where do you work]],tblCountries[[Actual]:[Mapping]],2,FALSE)","v":"Australia"},8,">5<=10","OCEANIA",{"$f":"(G788/365)/L788","v":22.703468378825793}]
[null,"ID0799","2012-05-26T21:05:35","Rs. 377000",377000,"INR",{"$f":"tblSalaries[[#This Row],[clean Salary (in local currency)]]*VLOOKUP(tblSalaries[[#This Row],[Currency]],tblXrate[],2,FALSE)","v":6713.584591165848},"Team Developer","Analyst","India",{"$f":"VLOOKUP(tblSalaries[[#This Row],[Where do you work]],tblCountries[[Actual]:[Mapping]],2,FALSE)","v":"India"},2,">5<=10","ASIA",{"$f":"(G789/365)/L789","v":9.1966912207751346}]
[null,"ID0800","2012-05-26T21:07:14","Â£29000",29000,"GBP",{"$f":"tblSalaries[[#This Row],[clean Salary (in local currency)]]*VLOOKUP(tblSalaries[[#This Row],[Currency]],tblXrate[],2,FALSE)","v":45709.169889951241},"Reporting Assistant","Reporting","UK",{"$f":"VLOOKUP(tblSalaries[[#This Row],[Where do you work]],tblCountries[[Actual]:[Mapping]],2,FALSE)","v":"UK"},3,">10<=20","EUROPE",{"$f":"(G790/365)/L790","v":41.74353414607419}]
[null,"ID0801","2012-05-26T21:10:20",48500,48500,"USD",{"$f":"tblSalaries[[#This Row],[clean Salary (in local currency)]]*VLOOKUP(tblSalaries[[#This Row],[Currency]],tblXrate[],2,FALSE)","v":48500},"Loss Prevention Finance Coordinator","Manager","USA",{"$f":"VLOOKUP(tblSalaries[[#This Row],[Where do you work]],tblCountries[[Actual]:[Mapping]],2,FALSE)","v":"USA"},3,">5<=10","N. AMERICA",{"$f":"(G791/365)/L791","v":44.292237442922378}]
[null,"ID0802","2012-05-26T21:13:02",600000,600000,"INR",{"$f":"tblSalaries[[#This Row],[clean Salary (in local currency)]]*VLOOKUP(tblSalaries[[#This Row],[Currency]],tblXrate[],2,FALSE)","v":10684.750012465542},"MIS Analyst","Analyst","India",{"$f":"VLOOKUP(tblSalaries[[#This Row],[Where do you work]],tblCountries[[Actual]:[Mapping]],2,FALSE)","v":"India"},8,"<=5","ASIA",{"$f":"(G792/365)/L792","v":3.6591609631731306}]
[null,"ID0803","2012-05-26T21:13:51",33900,33900,"USD",{"$f":"tblSalaries[[#This Row],[clean Salary (in local currency)]]*VLOOKUP(tblSalaries[[#This Row],[Currency]],tblXrate[],2,FALSE)","v":33900},"Administrative Assistant","Analyst","USA",{"$f":"VLOOKUP(tblSalaries[[#This Row],[Where do you work]],tblCountries[[Actual]:[Mapping]],2,FALSE)","v":"USA"},3,">5<=10","N. AMERICA",{"$f":"(G793/365)/L793","v":30.958904109589042}]
[null,"ID0804","2012-05-26T21:24:39","ZAR900,000",900000,"ZAR",{"$f":"tblSalaries[[#This Row],[clean Salary (in local currency)]]*VLOOKUP(tblSalaries[[#This Row],[Currency]],tblXrate[],2,FALSE)","v":109729.60187662003},"Business Analyst","Analyst","South Africa",{"$f":"VLOOKUP(tblSalaries[[#This Row],[Where do you work]],tblCountries[[Actual]:[Mapping]],2,FALSE)","v":"South Africa"},8,">20","AFRICA",{"$f":"(G794/365)/L794","v":37.578630779664394}]
[null,"ID0805","2012-05-26T21:27:01",850000,850000,"INR",{"$f":"tblSalaries[[#This Row],[clean Salary (in local currency)]]*VLOOKUP(tblSalaries[[#This Row],[Currency]],tblXrate[],2,FALSE)","v":15136.729184326183},"Senior Research Analyst","Analyst","India",{"$f":"VLOOKUP(tblSalaries[[#This Row],[Where do you work]],tblCountries[[Actual]:[Mapping]],2,FALSE)","v":"India"},6,"<=5","ASIA",{"$f":"(G795/365)/L795","v":6.9117484859936908}]
[null,"ID0806","2012-05-26T21:27:17",85000,85000,"USD",{"$f":"tblSalaries[[#This Row],[clean Salary (in local currency)]]*VLOOKUP(tblSalaries[[#This Row],[Currency]],tblXrate[],2,FALSE)","v":85000},"Director, IT/Operations","CXO or Top Mgmt.","USA",{"$f":"VLOOKUP(tblSalaries[[#This Row],[Where do you work]],tblCountries[[Actual]:[Mapping]],2,FALSE)","v":"USA"},6,">10<=20","N. AMERICA",{"$f":"(G796/365)/L796","v":38.812785388127857}]
[null,"ID0807","2012-05-26T21:40:49","Rs. 450000",450000,"INR",{"$f":"tblSalaries[[#This Row],[clean Salary (in local currency)]]*VLOOKUP(tblSalaries[[#This Row],[Currency]],tblXrate[],2,FALSE)","v":8013.5625093491553},"Sr. Executive","Manager","India",{"$f":"VLOOKUP(tblSalaries[[#This Row],[Where do you work]],tblCountries[[Actual]:[Mapping]],2,FALSE)","v":"India"},6,">5<=10","ASIA",{"$f":"(G797/365)/L797","v":3.6591609631731306}]
[null,"ID0808","2012-05-26T21:43:54",48000,48000,"USD",{"$f":"tblSalaries[[#This Row],[clean Salary (in local currency)]]*VLOOKUP(tblSalaries[[#This Row],[Currency]],tblXrate[],2,FALSE)","v":48000},"Operations Support Coordinator","Manager","USA",{"$f":"VLOOKUP(tblSalaries[[#This Row],[Where do you work]],tblCountries[[Actual]:[Mapping]],2,FALSE)","v":"USA"},3,">10<=20","N. AMERICA",{"$f":"(G798/365)/L798","v":43.835616438356169}]
[null,"ID0809","2012-05-26T21:56:36",170000,170000,"INR",{"$f":"tblSalaries[[#This Row],[clean Salary (in local currency)]]*VLOOKUP(tblSalaries[[#This Row],[Currency]],tblXrate[],2,FALSE)","v":3027.3458368652364},"Sr. Executive MIS","Reporting","India",{"$f":"VLOOKUP(tblSalaries[[#This Row],[Where do you work]],tblCountries[[Actual]:[Mapping]],2,FALSE)","v":"India"},6,"<=5","ASIA",{"$f":"(G799/365)/L799","v":1.3823496971987381}]
[null,"ID0810","2012-05-26T21:56:49",13100,13100,"USD",{"$f":"tblSalaries[[#This Row],[clean Salary (in local currency)]]*VLOOKUP(tblSalaries[[#This Row],[Currency]],tblXrate[],2,FALSE)","v":13100},"accountant","Accountant","India",{"$f":"VLOOKUP(tblSalaries[[#This Row],[Where do you work]],tblCountries[[Actual]:[Mapping]],2,FALSE)","v":"India"},3,"<=5","ASIA",{"$f":"(G800/365)/L800","v":11.963470319634704}]
[null,"ID0811","2012-05-26T22:02:53",5000,60000,"USD",{"$f":"tblSalaries[[#This Row],[clean Salary (in local currency)]]*VLOOKUP(tblSalaries[[#This Row],[Currency]],tblXrate[],2,FALSE)","v":60000},"Audit Manager","Manager","UAE",{"$f":"VLOOKUP(tblSalaries[[#This Row],[Where do you work]],tblCountries[[Actual]:[Mapping]],2,FALSE)","v":"UAE"},3,">10<=20","ASIA",{"$f":"(G801/365)/L801","v":54.794520547945204}]
[null,"ID0812","2012-05-26T22:07:39","24000 $",24000,"USD",{"$f":"tblSalaries[[#This Row],[clean Salary (in local currency)]]*VLOOKUP(tblSalaries[[#This Row],[Currency]],tblXrate[],2,FALSE)","v":24000},"Logistic KA Manager","Manager","Croatia",{"$f":"VLOOKUP(tblSalaries[[#This Row],[Where do you work]],tblCountries[[Actual]:[Mapping]],2,FALSE)","v":"Croatia"},3,"<=5","EUROPE",{"$f":"(G802/365)/L802","v":21.917808219178085}]
[null,"ID0813","2012-05-26T22:08:56","Rs 20000",240000,"INR",{"$f":"tblSalaries[[#This Row],[clean Salary (in local currency)]]*VLOOKUP(tblSalaries[[#This Row],[Currency]],tblXrate[],2,FALSE)","v":4273.9000049862161},"MANAGER","Manager","India",{"$f":"VLOOKUP(tblSalaries[[#This Row],[Where do you work]],tblCountries[[Actual]:[Mapping]],2,FALSE)","v":"India"},3,"<=5","ASIA",{"$f":"(G803/365)/L803","v":3.9031050273846724}]
[null,"ID0814","2012-05-26T22:16:10","INR 650000",650000,"INR",{"$f":"tblSalaries[[#This Row],[clean Salary (in local currency)]]*VLOOKUP(tblSalaries[[#This Row],[Currency]],tblXrate[],2,FALSE)","v":11575.14584683767},"Deputy Manager","Manager","India",{"$f":"VLOOKUP(tblSalaries[[#This Row],[Where do you work]],tblCountries[[Actual]:[Mapping]],2,FALSE)","v":"India"},3,"<=5","ASIA",{"$f":"(G804/365)/L804","v":10.570909449166821}]
[null,"ID0815","2012-05-26T22:22:58",95000,95000,"USD",{"$f":"tblSalaries[[#This Row],[clean Salary (in local currency)]]*VLOOKUP(tblSalaries[[#This Row],[Currency]],tblXrate[],2,FALSE)","v":95000},"Business Analyst","Analyst","USA",{"$f":"VLOOKUP(tblSalaries[[#This Row],[Where do you work]],tblCountries[[Actual]:[Mapping]],2,FALSE)","v":"USA"},3,">10<=20","N. AMERICA",{"$f":"(G805/365)/L805","v":86.757990867579906}]
[null,"ID0816","2012-05-26T22:23:38",516000,516000,"INR",{"$f":"tblSalaries[[#This Row],[clean Salary (in local currency)]]*VLOOKUP(tblSalaries[[#This Row],[Currency]],tblXrate[],2,FALSE)","v":9188.8850107203652},"Management Trainee","Manager","India",{"$f":"VLOOKUP(tblSalaries[[#This Row],[Where do you work]],tblCountries[[Actual]:[Mapping]],2,FALSE)","v":"India"},6,"<=5","ASIA",{"$f":"(G806/365)/L806","v":4.1958379044385232}]
[null,"ID0817","2012-05-26T22:29:16","3500 Rs",504000,"INR",{"$f":"tblSalaries[[#This Row],[clean Salary (in local currency)]]*VLOOKUP(tblSalaries[[#This Row],[Currency]],tblXrate[],2,FALSE)","v":8975.1900104710548},"MNR","Manager","India",{"$f":"VLOOKUP(tblSalaries[[#This Row],[Where do you work]],tblCountries[[Actual]:[Mapping]],2,FALSE)","v":"India"},8,"<=5","ASIA",{"$f":"(G807/365)/L807","v":3.0736952090654297}]
[null,"ID0818","2012-05-26T22:29:21",144000,144000,"INR",{"$f":"tblSalaries[[#This Row],[clean Salary (in local currency)]]*VLOOKUP(tblSalaries[[#This Row],[Currency]],tblXrate[],2,FALSE)","v":2564.3400029917298},"BPO information process enabler","Analyst","India",{"$f":"VLOOKUP(tblSalaries[[#This Row],[Where do you work]],tblCountries[[Actual]:[Mapping]],2,FALSE)","v":"India"},8,"<=5","ASIA",{"$f":"(G808/365)/L808","v":0.87819863116155128}]
[null,"ID0820","2012-05-26T22:43:11","Â£55000",55000,"GBP",{"$f":"tblSalaries[[#This Row],[clean Salary (in local currency)]]*VLOOKUP(tblSalaries[[#This Row],[Currency]],tblXrate[],2,FALSE)","v":86689.804963700633},"Financial controller","Controller","UK",{"$f":"VLOOKUP(tblSalaries[[#This Row],[Where do you work]],tblCountries[[Actual]:[Mapping]],2,FALSE)","v":"UK"},6,">10<=20","EUROPE",{"$f":"(G809/365)/L809","v":39.584385828173801}]
[null,"ID0821","2012-05-26T22:43:12",15500,15500,"USD",{"$f":"tblSalaries[[#This Row],[clean Salary (in local currency)]]*VLOOKUP(tblSalaries[[#This Row],[Currency]],tblXrate[],2,FALSE)","v":15500},"Engineer","Engineer","India",{"$f":"VLOOKUP(tblSalaries[[#This Row],[Where do you work]],tblCountries[[Actual]:[Mapping]],2,FALSE)","v":"India"},2,"<=5","ASIA",{"$f":"(G810/365)/L810","v":21.232876712328768}]
[null,"ID0822","2012-05-26T22:45:14","R$3.000,00",300000,"BRL",{"$f":"tblSalaries[[#This Row],[clean Salary (in local currency)]]*VLOOKUP(tblSalaries[[#This Row],[Currency]],tblXrate[],2,FALSE)","v":148284.35006969364},"Market Intelligence Analyst","Analyst","Brazil",{"$f":"VLOOKUP(tblSalaries[[#This Row],[Where do you work]],tblCountries[[Actual]:[Mapping]],2,FALSE)","v":"Brazil"},8,"<=5"," S. AMERICA",{"$f":"(G811/365)/L811","v":50.782311667703304}]
[null,"ID0823","2012-05-26T22:48:11",600000,600000,"INR",{"$f":"tblSalaries[[#This Row],[clean Salary (in local currency)]]*VLOOKUP(tblSalaries[[#This Row],[Currency]],tblXrate[],2,FALSE)","v":10684.750012465542},"Reporting Analyst","Analyst","India",{"$f":"VLOOKUP(tblSalaries[[#This Row],[Where do you work]],tblCountries[[Actual]:[Mapping]],2,FALSE)","v":"India"},8,"<=5","ASIA",{"$f":"(G812/365)/L812","v":3.6591609631731306}]
[null,"ID0824","2012-05-26T22:49:34",75000,75000,"USD",{"$f":"tblSalaries[[#This Row],[clean Salary (in local currency)]]*VLOOKUP(tblSalaries[[#This Row],[Currency]],tblXrate[],2,FALSE)","v":75000},"sr financial analyst","Analyst","USA",{"$f":"VLOOKUP(tblSalaries[[#This Row],[Where do you work]],tblCountries[[Actual]:[Mapping]],2,FALSE)","v":"USA"},3,">20","N. AMERICA",{"$f":"(G813/365)/L813","v":68.493150684931507}]
[null,"ID0825","2012-05-26T22:53:35","12000 $",12000,"USD",{"$f":"tblSalaries[[#This Row],[clean Salary (in local currency)]]*VLOOKUP(tblSalaries[[#This Row],[Currency]],tblXrate[],2,FALSE)","v":12000},"Investment manager","Manager","Ukraine",{"$f":"VLOOKUP(tblSalaries[[#This Row],[Where do you work]],tblCountries[[Actual]:[Mapping]],2,FALSE)","v":"Ukraine"},6,"<=5","EUROPE",{"$f":"(G814/365)/L814","v":5.4794520547945211}]
[null,"ID0826","2012-05-26T23:02:00","INR 1700000",1700000,"INR",{"$f":"tblSalaries[[#This Row],[clean Salary (in local currency)]]*VLOOKUP(tblSalaries[[#This Row],[Currency]],tblXrate[],2,FALSE)","v":30273.458368652366},"Operations Lead","Manager","India",{"$f":"VLOOKUP(tblSalaries[[#This Row],[Where do you work]],tblCountries[[Actual]:[Mapping]],2,FALSE)","v":"India"},8,"<=5","ASIA",{"$f":"(G815/365)/L815","v":10.367622728990536}]
[null,"ID0827","2012-05-26T23:03:21","US$30,000",30000,"USD",{"$f":"tblSalaries[[#This Row],[clean Salary (in local currency)]]*VLOOKUP(tblSalaries[[#This Row],[Currency]],tblXrate[],2,FALSE)","v":30000},"Financial Control Section Headm","Controller","Inonesia",{"$f":"VLOOKUP(tblSalaries[[#This Row],[Where do you work]],tblCountries[[Actual]:[Mapping]],2,FALSE)","v":"Indonesia"},6,">5<=10","ASIA",{"$f":"(G816/365)/L816","v":13.698630136986301}]
[null,"ID0828","2012-05-26T23:03:59","30000 Rs",360000,"INR",{"$f":"tblSalaries[[#This Row],[clean Salary (in local currency)]]*VLOOKUP(tblSalaries[[#This Row],[Currency]],tblXrate[],2,FALSE)","v":6410.8500074793246},"Application Developer","Analyst","India",{"$f":"VLOOKUP(tblSalaries[[#This Row],[Where do you work]],tblCountries[[Actual]:[Mapping]],2,FALSE)","v":"India"},8,"<=5","ASIA",{"$f":"(G817/365)/L817","v":2.1954965779038784}]
[null,"ID0829","2012-05-26T23:04:02",100000,100000,"USD",{"$f":"tblSalaries[[#This Row],[clean Salary (in local currency)]]*VLOOKUP(tblSalaries[[#This Row],[Currency]],tblXrate[],2,FALSE)","v":100000},"director","CXO or Top Mgmt.","USA",{"$f":"VLOOKUP(tblSalaries[[#This Row],[Where do you work]],tblCountries[[Actual]:[Mapping]],2,FALSE)","v":"USA"},6,">5<=10","N. AMERICA",{"$f":"(G818/365)/L818","v":45.662100456621005}]
[null,"ID0830","2012-05-26T23:04:53",42000,42000,"EUR",{"$f":"tblSalaries[[#This Row],[clean Salary (in local currency)]]*VLOOKUP(tblSalaries[[#This Row],[Currency]],tblXrate[],2,FALSE)","v":53356.776437647524},"Project Engineer","Engineer","The Netherlands",{"$f":"VLOOKUP(tblSalaries[[#This Row],[Where do you work]],tblCountries[[Actual]:[Mapping]],2,FALSE)","v":"Netherlands"},6,"<=5","EUROPE",{"$f":"(G819/365)/L819","v":24.363824857373299}]
[null,"ID0831","2012-05-26T23:05:15",40000,40000,"USD",{"$f":"tblSalaries[[#This Row],[clean Salary (in local currency)]]*VLOOKUP(tblSalaries[[#This Row],[Currency]],tblXrate[],2,FALSE)","v":40000},"High School Teacher","Manager","USA",{"$f":"VLOOKUP(tblSalaries[[#This Row],[Where do you work]],tblCountries[[Actual]:[Mapping]],2,FALSE)","v":"USA"},3,">10<=20","N. AMERICA",{"$f":"(G820/365)/L820","v":36.529680365296805}]
[null,"ID0832","2012-05-26T23:14:58","5.5 lakhs",550000,"INR",{"$f":"tblSalaries[[#This Row],[clean Salary (in local currency)]]*VLOOKUP(tblSalaries[[#This Row],[Currency]],tblXrate[],2,FALSE)","v":9794.354178093412},"web analyst","Analyst","India",{"$f":"VLOOKUP(tblSalaries[[#This Row],[Where do you work]],tblCountries[[Actual]:[Mapping]],2,FALSE)","v":"India"},6,"<=5","ASIA",{"$f":"(G821/365)/L821","v":4.4723078438782702}]
[null,"ID0833","2012-05-26T23:15:18","65000 ron",65000,"RON",{"$f":"tblSalaries[[#This Row],[clean Salary (in local currency)]]*VLOOKUP(tblSalaries[[#This Row],[Currency]],tblXrate[],2,FALSE)","v":18499.860539512854},"HR Planning Specialist","Specialist","Romania",{"$f":"VLOOKUP(tblSalaries[[#This Row],[Where do you work]],tblCountries[[Actual]:[Mapping]],2,FALSE)","v":"Romania"},6,">5<=10","EUROPE",{"$f":"(G822/365)/L822","v":8.4474249038871481}]
[null,"ID0834","2012-05-26T23:17:09","15600 â‚¬",15600,"EUR",{"$f":"tblSalaries[[#This Row],[clean Salary (in local currency)]]*VLOOKUP(tblSalaries[[#This Row],[Currency]],tblXrate[],2,FALSE)","v":19818.231248269083},"Managment controller","Controller","Portugal",{"$f":"VLOOKUP(tblSalaries[[#This Row],[Where do you work]],tblCountries[[Actual]:[Mapping]],2,FALSE)","v":"Portugal"},6,"<=5","EUROPE",{"$f":"(G823/365)/L823","v":9.0494206613100836}]
[null,"ID0835","2012-05-26T23:21:57","Rs.6,00,000/-",600000,"INR",{"$f":"tblSalaries[[#This Row],[clean Salary (in local currency)]]*VLOOKUP(tblSalaries[[#This Row],[Currency]],tblXrate[],2,FALSE)","v":10684.750012465542},"AO","Manager","India",{"$f":"VLOOKUP(tblSalaries[[#This Row],[Where do you work]],tblCountries[[Actual]:[Mapping]],2,FALSE)","v":"India"},8,">10<=20","ASIA",{"$f":"(G824/365)/L824","v":3.6591609631731306}]
[null,"ID0836","2012-05-26T23:36:14","Rs. 6,00,000",600000,"INR",{"$f":"tblSalaries[[#This Row],[clean Salary (in local currency)]]*VLOOKUP(tblSalaries[[#This Row],[Currency]],tblXrate[],2,FALSE)","v":10684.750012465542},"Project Manager","Manager","India",{"$f":"VLOOKUP(tblSalaries[[#This Row],[Where do you work]],tblCountries[[Actual]:[Mapping]],2,FALSE)","v":"India"},3,">10<=20","ASIA",{"$f":"(G825/365)/L825","v":9.7577625684616809}]
[null,"ID0837","2012-05-26T23:38:24",1000000,1000000,"INR",{"$f":"tblSalaries[[#This Row],[clean Salary (in local currency)]]*VLOOKUP(tblSalaries[[#This Row],[Currency]],tblXrate[],2,FALSE)","v":17807.916687442568},"business analyist","Analyst","India",{"$f":"VLOOKUP(tblSalaries[[#This Row],[Where do you work]],tblCountries[[Actual]:[Mapping]],2,FALSE)","v":"India"},6,">5<=10","ASIA",{"$f":"(G826/365)/L826","v":8.1314688070513998}]
[null,"ID0838","2012-05-26T23:47:34","13000 USD",13000,"USD",{"$f":"tblSalaries[[#This Row],[clean Salary (in local currency)]]*VLOOKUP(tblSalaries[[#This Row],[Currency]],tblXrate[],2,FALSE)","v":13000},"Business Analyst","Analyst","India",{"$f":"VLOOKUP(tblSalaries[[#This Row],[Where do you work]],tblCountries[[Actual]:[Mapping]],2,FALSE)","v":"India"},8,">5<=10","ASIA",{"$f":"(G827/365)/L827","v":4.4520547945205475}]
[null,"ID0839","2012-05-26T23:58:53","900000 Rs",900000,"INR",{"$f":"tblSalaries[[#This Row],[clean Salary (in local currency)]]*VLOOKUP(tblSalaries[[#This Row],[Currency]],tblXrate[],2,FALSE)","v":16027.125018698311},"Deputy Manager","Manager","India",{"$f":"VLOOKUP(tblSalaries[[#This Row],[Where do you work]],tblCountries[[Actual]:[Mapping]],2,FALSE)","v":"India"},2,">5<=10","ASIA",{"$f":"(G828/365)/L828","v":21.954965779038783}]
[null,"ID0840","2012-05-27T00:02:45",85000,85000,"USD",{"$f":"tblSalaries[[#This Row],[clean Salary (in local currency)]]*VLOOKUP(tblSalaries[[#This Row],[Currency]],tblXrate[],2,FALSE)","v":85000},"actuary","Accountant","USA",{"$f":"VLOOKUP(tblSalaries[[#This Row],[Where do you work]],tblCountries[[Actual]:[Mapping]],2,FALSE)","v":"USA"},8,"<=5","N. AMERICA",{"$f":"(G829/365)/L829","v":29.109589041095891}]
[null,"ID0841","2012-05-27T00:07:52",6000,6000,"USD",{"$f":"tblSalaries[[#This Row],[clean Salary (in local currency)]]*VLOOKUP(tblSalaries[[#This Row],[Currency]],tblXrate[],2,FALSE)","v":6000},"Analysis Quality","Analyst","Colombia - South America",{"$f":"VLOOKUP(tblSalaries[[#This Row],[Where do you work]],tblCountries[[Actual]:[Mapping]],2,FALSE)","v":"Colombia"},2,">5<=10"," S. AMERICA",{"$f":"(G830/365)/L830","v":8.2191780821917817}]
[null,"ID0842","2012-05-27T00:12:53",30000,30000,"USD",{"$f":"tblSalaries[[#This Row],[clean Salary (in local currency)]]*VLOOKUP(tblSalaries[[#This Row],[Currency]],tblXrate[],2,FALSE)","v":30000},"MIS Executive","Reporting","India",{"$f":"VLOOKUP(tblSalaries[[#This Row],[Where do you work]],tblCountries[[Actual]:[Mapping]],2,FALSE)","v":"India"},6,"<=5","ASIA",{"$f":"(G831/365)/L831","v":13.698630136986301}]
[null,"ID0844","2012-05-27T00:19:04",100000,100000,"GBP",{"$f":"tblSalaries[[#This Row],[clean Salary (in local currency)]]*VLOOKUP(tblSalaries[[#This Row],[Currency]],tblXrate[],2,FALSE)","v":157617.8272067284},"Financial Controller","Controller","UK",{"$f":"VLOOKUP(tblSalaries[[#This Row],[Where do you work]],tblCountries[[Actual]:[Mapping]],2,FALSE)","v":"UK"},3,">10<=20","EUROPE",{"$f":"(G832/365)/L832","v":143.94322119335928}]
[null,"ID0845","2012-05-27T00:33:06","1200000 Rs",1200000,"INR",{"$f":"tblSalaries[[#This Row],[clean Salary (in local currency)]]*VLOOKUP(tblSalaries[[#This Row],[Currency]],tblXrate[],2,FALSE)","v":21369.500024931083},"project manager","Manager","India",{"$f":"VLOOKUP(tblSalaries[[#This Row],[Where do you work]],tblCountries[[Actual]:[Mapping]],2,FALSE)","v":"India"},2,">10<=20","ASIA",{"$f":"(G833/365)/L833","v":29.273287705385044}]
[null,"ID0846","2012-05-27T00:53:20","2 lac",200000,"INR",{"$f":"tblSalaries[[#This Row],[clean Salary (in local currency)]]*VLOOKUP(tblSalaries[[#This Row],[Currency]],tblXrate[],2,FALSE)","v":3561.5833374885137},"Bio-Statiscian","Reporting","India",{"$f":"VLOOKUP(tblSalaries[[#This Row],[Where do you work]],tblCountries[[Actual]:[Mapping]],2,FALSE)","v":"India"},6,"<=5","ASIA",{"$f":"(G834/365)/L834","v":1.6262937614102801}]
[null,"ID0847","2012-05-27T01:04:46",5000,5000,"USD",{"$f":"tblSalaries[[#This Row],[clean Salary (in local currency)]]*VLOOKUP(tblSalaries[[#This Row],[Currency]],tblXrate[],2,FALSE)","v":5000},"Management Intern","Manager","India",{"$f":"VLOOKUP(tblSalaries[[#This Row],[Where do you work]],tblCountries[[Actual]:[Mapping]],2,FALSE)","v":"India"},6,"<=5","ASIA",{"$f":"(G835/365)/L835","v":2.2831050228310503}]
[null,"ID0848","2012-05-27T01:22:06","INR 2,00,000",200000,"INR",{"$f":"tblSalaries[[#This Row],[clean Salary (in local currency)]]*VLOOKUP(tblSalaries[[#This Row],[Currency]],tblXrate[],2,FALSE)","v":3561.5833374885137},"Sales Analyst","Analyst","India",{"$f":"VLOOKUP(tblSalaries[[#This Row],[Where do you work]],tblCountries[[Actual]:[Mapping]],2,FALSE)","v":"India"},6,"<=5","ASIA",{"$f":"(G836/365)/L836","v":1.6262937614102801}]
[null,"ID0849","2012-05-27T01:30:55","30000 eur",30000,"EUR",{"$f":"tblSalaries[[#This Row],[clean Salary (in local currency)]]*VLOOKUP(tblSalaries[[#This Row],[Currency]],tblXrate[],2,FALSE)","v":38111.983169748237},"financialcotroller","Accountant","portugal",{"$f":"VLOOKUP(tblSalaries[[#This Row],[Where do you work]],tblCountries[[Actual]:[Mapping]],2,FALSE)","v":"Portugal"},8,">5<=10","EUROPE",{"$f":"(G837/365)/L837","v":13.052049030735697}]
[null,"ID0850","2012-05-27T01:41:11","Rs. 10,00,000",1000000,"INR",{"$f":"tblSalaries[[#This Row],[clean Salary (in local currency)]]*VLOOKUP(tblSalaries[[#This Row],[Currency]],tblXrate[],2,FALSE)","v":17807.916687442568},"HR Analyst","Analyst","India",{"$f":"VLOOKUP(tblSalaries[[#This Row],[Where do you work]],tblCountries[[Actual]:[Mapping]],2,FALSE)","v":"India"},6,">5<=10","ASIA",{"$f":"(G838/365)/L838","v":8.1314688070513998}]
[null,"ID0851","2012-05-27T01:46:00",650000,650000,"INR",{"$f":"tblSalaries[[#This Row],[clean Salary (in local currency)]]*VLOOKUP(tblSalaries[[#This Row],[Currency]],tblXrate[],2,FALSE)","v":11575.14584683767},"Financial Analyist","Analyst","India",{"$f":"VLOOKUP(tblSalaries[[#This Row],[Where do you work]],tblCountries[[Actual]:[Mapping]],2,FALSE)","v":"India"},8,"<=5","ASIA",{"$f":"(G839/365)/L839","v":3.9640910434375582}]
[null,"ID0852","2012-05-27T02:33:22",100000,100000,"CAD",{"$f":"tblSalaries[[#This Row],[clean Salary (in local currency)]]*VLOOKUP(tblSalaries[[#This Row],[Currency]],tblXrate[],2,FALSE)","v":98336.152303032693},"Marketing Manager","Manager","Canada",{"$f":"VLOOKUP(tblSalaries[[#This Row],[Where do you work]],tblCountries[[Actual]:[Mapping]],2,FALSE)","v":"Canada"},3,">5<=10","N. AMERICA",{"$f":"(G840/365)/L840","v":89.804705299573243}]
[null,"ID0854","2012-05-27T03:06:02",92500,92500,"USD",{"$f":"tblSalaries[[#This Row],[clean Salary (in local currency)]]*VLOOKUP(tblSalaries[[#This Row],[Currency]],tblXrate[],2,FALSE)","v":92500},"Dir of Analytics","Analyst","USA",{"$f":"VLOOKUP(tblSalaries[[#This Row],[Where do you work]],tblCountries[[Actual]:[Mapping]],2,FALSE)","v":"USA"},3,">10<=20","N. AMERICA",{"$f":"(G841/365)/L841","v":84.474885844748854}]
[null,"ID0855","2012-05-27T03:16:05","Rs. 550000",550000,"INR",{"$f":"tblSalaries[[#This Row],[clean Salary (in local currency)]]*VLOOKUP(tblSalaries[[#This Row],[Currency]],tblXrate[],2,FALSE)","v":9794.354178093412},"Analyst","Analyst","India",{"$f":"VLOOKUP(tblSalaries[[#This Row],[Where do you work]],tblCountries[[Actual]:[Mapping]],2,FALSE)","v":"India"},6,"<=5","ASIA",{"$f":"(G842/365)/L842","v":4.4723078438782702}]
[null,"ID0856","2012-05-27T03:19:29",32000,32000,"USD",{"$f":"tblSalaries[[#This Row],[clean Salary (in local currency)]]*VLOOKUP(tblSalaries[[#This Row],[Currency]],tblXrate[],2,FALSE)","v":32000},"Reporting Manager","Manager","USA",{"$f":"VLOOKUP(tblSalaries[[#This Row],[Where do you work]],tblCountries[[Actual]:[Mapping]],2,FALSE)","v":"USA"},6,"<=5","N. AMERICA",{"$f":"(G843/365)/L843","v":14.611872146118721}]
[null,"ID0857","2012-05-27T03:25:05",55000,55000,"USD",{"$f":"tblSalaries[[#This Row],[clean Salary (in local currency)]]*VLOOKUP(tblSalaries[[#This Row],[Currency]],tblXrate[],2,FALSE)","v":55000},"Analyst","Analyst","USA",{"$f":"VLOOKUP(tblSalaries[[#This Row],[Where do you work]],tblCountries[[Actual]:[Mapping]],2,FALSE)","v":"USA"},6,">5<=10","N. AMERICA",{"$f":"(G844/365)/L844","v":25.114155251141554}]
[null,"ID0858","2012-05-27T03:25:53",40000,40000,"USD",{"$f":"tblSalaries[[#This Row],[clean Salary (in local currency)]]*VLOOKUP(tblSalaries[[#This Row],[Currency]],tblXrate[],2,FALSE)","v":40000},"Data Research Assistant","Analyst","USA",{"$f":"VLOOKUP(tblSalaries[[#This Row],[Where do you work]],tblCountries[[Actual]:[Mapping]],2,FALSE)","v":"USA"},8,"<=5","N. AMERICA",{"$f":"(G845/365)/L845","v":13.698630136986301}]
[null,"ID0859","2012-05-27T03:37:32","3000 $",3000,"USD",{"$f":"tblSalaries[[#This Row],[clean Salary (in local currency)]]*VLOOKUP(tblSalaries[[#This Row],[Currency]],tblXrate[],2,FALSE)","v":3000},"Statistical Analyst","Analyst","Pakistan",{"$f":"VLOOKUP(tblSalaries[[#This Row],[Where do you work]],tblCountries[[Actual]:[Mapping]],2,FALSE)","v":"Pakistan"},3,"<=5","ASIA",{"$f":"(G846/365)/L846","v":2.7397260273972606}]
[null,"ID0860","2012-05-27T03:37:36",43600,43600,"USD",{"$f":"tblSalaries[[#This Row],[clean Salary (in local currency)]]*VLOOKUP(tblSalaries[[#This Row],[Currency]],tblXrate[],2,FALSE)","v":43600},"Data Analyst","Analyst","USA",{"$f":"VLOOKUP(tblSalaries[[#This Row],[Where do you work]],tblCountries[[Actual]:[Mapping]],2,FALSE)","v":"USA"},6,"<=5","N. AMERICA",{"$f":"(G847/365)/L847","v":19.908675799086758}]
[null,"ID0861","2012-05-27T04:00:14","Rs. 45000",540000,"INR",{"$f":"tblSalaries[[#This Row],[clean Salary (in local currency)]]*VLOOKUP(tblSalaries[[#This Row],[Currency]],tblXrate[],2,FALSE)","v":9616.275011218986},"Senior analyst","Analyst","India",{"$f":"VLOOKUP(tblSalaries[[#This Row],[Where do you work]],tblCountries[[Actual]:[Mapping]],2,FALSE)","v":"India"},8,">5<=10","ASIA",{"$f":"(G848/365)/L848","v":3.293244866855817}]
[null,"ID0862","2012-05-27T04:05:28",35000,35000,"USD",{"$f":"tblSalaries[[#This Row],[clean Salary (in local currency)]]*VLOOKUP(tblSalaries[[#This Row],[Currency]],tblXrate[],2,FALSE)","v":35000},"Purchasing Manager","Manager","Uruguay",{"$f":"VLOOKUP(tblSalaries[[#This Row],[Where do you work]],tblCountries[[Actual]:[Mapping]],2,FALSE)","v":"Uruguay"},8,">5<=10"," S. AMERICA",{"$f":"(G849/365)/L849","v":11.986301369863014}]
[null,"ID0863","2012-05-27T04:07:07",12000,12000,"USD",{"$f":"tblSalaries[[#This Row],[clean Salary (in local currency)]]*VLOOKUP(tblSalaries[[#This Row],[Currency]],tblXrate[],2,FALSE)","v":12000},"Guide for About.com","Consultant","Spain",{"$f":"VLOOKUP(tblSalaries[[#This Row],[Where do you work]],tblCountries[[Actual]:[Mapping]],2,FALSE)","v":"Spain"},3,">10<=20","EUROPE",{"$f":"(G850/365)/L850","v":10.958904109589042}]
[null,"ID0864","2012-05-27T04:12:04",5000,5000,"USD",{"$f":"tblSalaries[[#This Row],[clean Salary (in local currency)]]*VLOOKUP(tblSalaries[[#This Row],[Currency]],tblXrate[],2,FALSE)","v":5000},"Policy advisor","Consultant","Aruba",{"$f":"VLOOKUP(tblSalaries[[#This Row],[Where do you work]],tblCountries[[Actual]:[Mapping]],2,FALSE)","v":"Aruba"},2,">10<=20","ASIA",{"$f":"(G851/365)/L851","v":6.8493150684931505}]
[null,"ID0865","2012-05-27T04:31:08","R134000",134000,"ZAR",{"$f":"tblSalaries[[#This Row],[clean Salary (in local currency)]]*VLOOKUP(tblSalaries[[#This Row],[Currency]],tblXrate[],2,FALSE)","v":16337.518501630093},"Data Analyst","Analyst","South Africa",{"$f":"VLOOKUP(tblSalaries[[#This Row],[Where do you work]],tblCountries[[Actual]:[Mapping]],2,FALSE)","v":"South Africa"},6,"<=5","AFRICA",{"$f":"(G852/365)/L852","v":7.4600541103333766}]
[null,"ID0866","2012-05-27T04:40:33",65000,65000,"USD",{"$f":"tblSalaries[[#This Row],[clean Salary (in local currency)]]*VLOOKUP(tblSalaries[[#This Row],[Currency]],tblXrate[],2,FALSE)","v":65000},"Security Access Governance Analyst","Analyst","USA",{"$f":"VLOOKUP(tblSalaries[[#This Row],[Where do you work]],tblCountries[[Actual]:[Mapping]],2,FALSE)","v":"USA"},2,">5<=10","N. AMERICA",{"$f":"(G853/365)/L853","v":89.041095890410958}]
[null,"ID0867","2012-05-27T06:17:41",40000,40000,"USD",{"$f":"tblSalaries[[#This Row],[clean Salary (in local currency)]]*VLOOKUP(tblSalaries[[#This Row],[Currency]],tblXrate[],2,FALSE)","v":40000},"IT Capacity Planner","Analyst","USA",{"$f":"VLOOKUP(tblSalaries[[#This Row],[Where do you work]],tblCountries[[Actual]:[Mapping]],2,FALSE)","v":"USA"},8,"<=5","N. AMERICA",{"$f":"(G854/365)/L854","v":13.698630136986301}]
[null,"ID0868","2012-05-27T06:37:13",98000,98000,"USD",{"$f":"tblSalaries[[#This Row],[clean Salary (in local currency)]]*VLOOKUP(tblSalaries[[#This Row],[Currency]],tblXrate[],2,FALSE)","v":98000},"supply chain manager","Manager","indonesia",{"$f":"VLOOKUP(tblSalaries[[#This Row],[Where do you work]],tblCountries[[Actual]:[Mapping]],2,FALSE)","v":"Indonesia"},3,">10<=20","ASIA",{"$f":"(G855/365)/L855","v":89.49771689497716}]
[null,"ID0869","2012-05-27T06:37:15",50000,50000,"USD",{"$f":"tblSalaries[[#This Row],[clean Salary (in local currency)]]*VLOOKUP(tblSalaries[[#This Row],[Currency]],tblXrate[],2,FALSE)","v":50000},"Boss","CXO or Top Mgmt.","USA",{"$f":"VLOOKUP(tblSalaries[[#This Row],[Where do you work]],tblCountries[[Actual]:[Mapping]],2,FALSE)","v":"USA"},8,">10<=20","N. AMERICA",{"$f":"(G856/365)/L856","v":17.123287671232877}]
[null,"ID0870","2012-05-27T07:19:14",135000,135000,"USD",{"$f":"tblSalaries[[#This Row],[clean Salary (in local currency)]]*VLOOKUP(tblSalaries[[#This Row],[Currency]],tblXrate[],2,FALSE)","v":135000},"Director, P&A","CXO or Top Mgmt.","USA",{"$f":"VLOOKUP(tblSalaries[[#This Row],[Where do you work]],tblCountries[[Actual]:[Mapping]],2,FALSE)","v":"USA"},6,">20","N. AMERICA",{"$f":"(G857/365)/L857","v":61.643835616438359}]
[null,"ID0871","2012-05-27T08:07:40","125 $",125000,"USD",{"$f":"tblSalaries[[#This Row],[clean Salary (in local currency)]]*VLOOKUP(tblSalaries[[#This Row],[Currency]],tblXrate[],2,FALSE)","v":125000},"Project controls manager","Manager","Norway",{"$f":"VLOOKUP(tblSalaries[[#This Row],[Where do you work]],tblCountries[[Actual]:[Mapping]],2,FALSE)","v":"Norway"},6,">5<=10","EUROPE",{"$f":"(G858/365)/L858","v":57.077625570776256}]
[null,"ID0872","2012-05-27T08:54:28",4500,4500,"USD",{"$f":"tblSalaries[[#This Row],[clean Salary (in local currency)]]*VLOOKUP(tblSalaries[[#This Row],[Currency]],tblXrate[],2,FALSE)","v":4500},"senior associate","Analyst","indonesia",{"$f":"VLOOKUP(tblSalaries[[#This Row],[Where do you work]],tblCountries[[Actual]:[Mapping]],2,FALSE)","v":"Indonesia"},3,"<=5","ASIA",{"$f":"(G859/365)/L859","v":4.10958904109589}]
[null,"ID0873","2012-05-27T08:55:36",115000,115000,"USD",{"$f":"tblSalaries[[#This Row],[clean Salary (in local currency)]]*VLOOKUP(tblSalaries[[#This Row],[Currency]],tblXrate[],2,FALSE)","v":115000},"Principal Financial Analyst","Analyst","USA",{"$f":"VLOOKUP(tblSalaries[[#This Row],[Where do you work]],tblCountries[[Actual]:[Mapping]],2,FALSE)","v":"USA"},6,">5<=10","N. AMERICA",{"$f":"(G860/365)/L860","v":52.51141552511416}]
[null,"ID0874","2012-05-27T09:17:47",70000,70000,"USD",{"$f":"tblSalaries[[#This Row],[clean Salary (in local currency)]]*VLOOKUP(tblSalaries[[#This Row],[Currency]],tblXrate[],2,FALSE)","v":70000},"Financial Analyst","Analyst","USA",{"$f":"VLOOKUP(tblSalaries[[#This Row],[Where do you work]],tblCountries[[Actual]:[Mapping]],2,FALSE)","v":"USA"},8,">10<=20","N. AMERICA",{"$f":"(G861/365)/L861","v":23.972602739726028}]
[null,"ID0875","2012-05-27T09:49:30",5000,60000,"USD",{"$f":"tblSalaries[[#This Row],[clean Salary (in local currency)]]*VLOOKUP(tblSalaries[[#This Row],[Currency]],tblXrate[],2,FALSE)","v":60000},"Store keeper","Analyst","USA",{"$f":"VLOOKUP(tblSalaries[[#This Row],[Where do you work]],tblCountries[[Actual]:[Mapping]],2,FALSE)","v":"USA"},3,">5<=10","N. AMERICA",{"$f":"(G862/365)/L862","v":54.794520547945204}]
[null,"ID0876","2012-05-27T10:13:27",87456,87456,"USD",{"$f":"tblSalaries[[#This Row],[clean Salary (in local currency)]]*VLOOKUP(tblSalaries[[#This Row],[Currency]],tblXrate[],2,FALSE)","v":87456},"qa team supervisor ","Manager","USA",{"$f":"VLOOKUP(tblSalaries[[#This Row],[Where do you work]],tblCountries[[Actual]:[Mapping]],2,FALSE)","v":"USA"},3,">10<=20","N. AMERICA",{"$f":"(G863/365)/L863","v":79.868493150684927}]
[null,"ID0877","2012-05-27T11:32:17",26400,26400,"USD",{"$f":"tblSalaries[[#This Row],[clean Salary (in local currency)]]*VLOOKUP(tblSalaries[[#This Row],[Currency]],tblXrate[],2,FALSE)","v":26400},"Supply Chain Administrator","Analyst","UAE",{"$f":"VLOOKUP(tblSalaries[[#This Row],[Where do you work]],tblCountries[[Actual]:[Mapping]],2,FALSE)","v":"UAE"},8,">5<=10","ASIA",{"$f":"(G864/365)/L864","v":9.0410958904109595}]
[null,"ID0878","2012-05-27T11:50:16",1000,12000,"USD",{"$f":"tblSalaries[[#This Row],[clean Salary (in local currency)]]*VLOOKUP(tblSalaries[[#This Row],[Currency]],tblXrate[],2,FALSE)","v":12000},"sup","Manager","UAE",{"$f":"VLOOKUP(tblSalaries[[#This Row],[Where do you work]],tblCountries[[Actual]:[Mapping]],2,FALSE)","v":"UAE"},8,">10<=20","ASIA",{"$f":"(G865/365)/L865","v":4.1095890410958908}]
[null,"ID0879","2012-05-27T12:03:51",144000,144000,"INR",{"$f":"tblSalaries[[#This Row],[clean Salary (in local currency)]]*VLOOKUP(tblSalaries[[#This Row],[Currency]],tblXrate[],2,FALSE)","v":2564.3400029917298},"Cost Trainee","Analyst","India",{"$f":"VLOOKUP(tblSalaries[[#This Row],[Where do you work]],tblCountries[[Actual]:[Mapping]],2,FALSE)","v":"India"},6,"<=5","ASIA",{"$f":"(G866/365)/L866","v":1.1709315082154017}]
[null,"ID0880","2012-05-27T12:32:45","62000 USD",62000,"USD",{"$f":"tblSalaries[[#This Row],[clean Salary (in local currency)]]*VLOOKUP(tblSalaries[[#This Row],[Currency]],tblXrate[],2,FALSE)","v":62000},"Deputy Manager Finance","Manager","Qatar",{"$f":"VLOOKUP(tblSalaries[[#This Row],[Where do you work]],tblCountries[[Actual]:[Mapping]],2,FALSE)","v":"Qatar"},8,">10<=20","ASIA",{"$f":"(G867/365)/L867","v":21.232876712328768}]
[null,"ID0881","2012-05-27T12:35:15","3 lacs P.A",300000,"INR",{"$f":"tblSalaries[[#This Row],[clean Salary (in local currency)]]*VLOOKUP(tblSalaries[[#This Row],[Currency]],tblXrate[],2,FALSE)","v":5342.3750062327708},"Sales","Analyst","India",{"$f":"VLOOKUP(tblSalaries[[#This Row],[Where do you work]],tblCountries[[Actual]:[Mapping]],2,FALSE)","v":"India"},2,">5<=10","ASIA",{"$f":"(G868/365)/L868","v":7.3183219263462611}]
[null,"ID0882","2012-05-27T12:37:02",40000,40000,"EUR",{"$f":"tblSalaries[[#This Row],[clean Salary (in local currency)]]*VLOOKUP(tblSalaries[[#This Row],[Currency]],tblXrate[],2,FALSE)","v":50815.977559664309},"Medical information analist","Analyst","Netherlands",{"$f":"VLOOKUP(tblSalaries[[#This Row],[Where do you work]],tblCountries[[Actual]:[Mapping]],2,FALSE)","v":"Netherlands"},6,"<=5","EUROPE",{"$f":"(G869/365)/L869","v":23.203642721307904}]
[null,"ID0883","2012-05-27T12:41:29","US 2130",25560,"USD",{"$f":"tblSalaries[[#This Row],[clean Salary (in local currency)]]*VLOOKUP(tblSalaries[[#This Row],[Currency]],tblXrate[],2,FALSE)","v":25560},"Training Coordinator","Manager","saudi arabia",{"$f":"VLOOKUP(tblSalaries[[#This Row],[Where do you work]],tblCountries[[Actual]:[Mapping]],2,FALSE)","v":"Saudi Arabia"},6,"<=5","ASIA",{"$f":"(G870/365)/L870","v":11.671232876712329}]
[null,"ID0884","2012-05-27T12:57:51","Rs.60000/-",720000,"INR",{"$f":"tblSalaries[[#This Row],[clean Salary (in local currency)]]*VLOOKUP(tblSalaries[[#This Row],[Currency]],tblXrate[],2,FALSE)","v":12821.700014958649},"Article (Internship) - CA","Accountant","India",{"$f":"VLOOKUP(tblSalaries[[#This Row],[Where do you work]],tblCountries[[Actual]:[Mapping]],2,FALSE)","v":"India"},6,"<=5","ASIA",{"$f":"(G871/365)/L871","v":5.8546575410770094}]
[null,"ID0885","2012-05-27T13:06:50",600000,600000,"INR",{"$f":"tblSalaries[[#This Row],[clean Salary (in local currency)]]*VLOOKUP(tblSalaries[[#This Row],[Currency]],tblXrate[],2,FALSE)","v":10684.750012465542},"Asst Manager","Manager","India",{"$f":"VLOOKUP(tblSalaries[[#This Row],[Where do you work]],tblCountries[[Actual]:[Mapping]],2,FALSE)","v":"India"},8,"<=5","ASIA",{"$f":"(G872/365)/L872","v":3.6591609631731306}]
[null,"ID0886","2012-05-27T13:27:19","Rs. 35000",420000,"PKR",{"$f":"tblSalaries[[#This Row],[clean Salary (in local currency)]]*VLOOKUP(tblSalaries[[#This Row],[Currency]],tblXrate[],2,FALSE)","v":4457.9172610556352},"Assistant Manager","Manager","Pakistan",{"$f":"VLOOKUP(tblSalaries[[#This Row],[Where do you work]],tblCountries[[Actual]:[Mapping]],2,FALSE)","v":"Pakistan"},8,"<=5","ASIA",{"$f":"(G873/365)/L873","v":1.5266839935122039}]
[null,"ID0887","2012-05-27T13:29:52","$125000 / a excl bonus",125000,"USD",{"$f":"tblSalaries[[#This Row],[clean Salary (in local currency)]]*VLOOKUP(tblSalaries[[#This Row],[Currency]],tblXrate[],2,FALSE)","v":125000},"Commercial Director","CXO or Top Mgmt.","South Africa",{"$f":"VLOOKUP(tblSalaries[[#This Row],[Where do you work]],tblCountries[[Actual]:[Mapping]],2,FALSE)","v":"South Africa"},6,">10<=20","AFRICA",{"$f":"(G874/365)/L874","v":57.077625570776256}]
[null,"ID0888","2012-05-27T13:34:12",43000,43000,"USD",{"$f":"tblSalaries[[#This Row],[clean Salary (in local currency)]]*VLOOKUP(tblSalaries[[#This Row],[Currency]],tblXrate[],2,FALSE)","v":43000},"Financial Analyst","Analyst","USA",{"$f":"VLOOKUP(tblSalaries[[#This Row],[Where do you work]],tblCountries[[Actual]:[Mapping]],2,FALSE)","v":"USA"},6,"<=5","N. AMERICA",{"$f":"(G875/365)/L875","v":19.634703196347033}]
[null,"ID0889","2012-05-27T13:41:04","400000 Rs",400000,"INR",{"$f":"tblSalaries[[#This Row],[clean Salary (in local currency)]]*VLOOKUP(tblSalaries[[#This Row],[Currency]],tblXrate[],2,FALSE)","v":7123.1666749770275},"engineer","Engineer","India",{"$f":"VLOOKUP(tblSalaries[[#This Row],[Where do you work]],tblCountries[[Actual]:[Mapping]],2,FALSE)","v":"India"},3,">5<=10","ASIA",{"$f":"(G876/365)/L876","v":6.5051750456411206}]
[null,"ID0890","2012-05-27T13:41:05",10000,10000,"USD",{"$f":"tblSalaries[[#This Row],[clean Salary (in local currency)]]*VLOOKUP(tblSalaries[[#This Row],[Currency]],tblXrate[],2,FALSE)","v":10000},"Finance Staff","Accountant","Viet Nam",{"$f":"VLOOKUP(tblSalaries[[#This Row],[Where do you work]],tblCountries[[Actual]:[Mapping]],2,FALSE)","v":"Viet Nam"},6,"<=5","EUROPE",{"$f":"(G877/365)/L877","v":4.5662100456621006}]
[null,"ID0891","2012-05-27T13:42:15","inr 500000",500000,"INR",{"$f":"tblSalaries[[#This Row],[clean Salary (in local currency)]]*VLOOKUP(tblSalaries[[#This Row],[Currency]],tblXrate[],2,FALSE)","v":8903.9583437212841},"team coach","Manager","India",{"$f":"VLOOKUP(tblSalaries[[#This Row],[Where do you work]],tblCountries[[Actual]:[Mapping]],2,FALSE)","v":"India"},2,"<=5","ASIA",{"$f":"(G878/365)/L878","v":12.197203210577101}]
[null,"ID0892","2012-05-27T13:45:47",36500,36500,"USD",{"$f":"tblSalaries[[#This Row],[clean Salary (in local currency)]]*VLOOKUP(tblSalaries[[#This Row],[Currency]],tblXrate[],2,FALSE)","v":36500},"Accountant","Accountant","Saudi Arabia",{"$f":"VLOOKUP(tblSalaries[[#This Row],[Where do you work]],tblCountries[[Actual]:[Mapping]],2,FALSE)","v":"Saudi Arabia"},6,">10<=20","ASIA",{"$f":"(G879/365)/L879","v":16.666666666666668}]
[null,"ID0893","2012-05-27T13:52:53","100,000 usd",100000,"USD",{"$f":"tblSalaries[[#This Row],[clean Salary (in local currency)]]*VLOOKUP(tblSalaries[[#This Row],[Currency]],tblXrate[],2,FALSE)","v":100000},"Director","CXO or Top Mgmt.","MÃ©xico",{"$f":"VLOOKUP(tblSalaries[[#This Row],[Where do you work]],tblCountries[[Actual]:[Mapping]],2,FALSE)","v":"Mexico"},8,">5<=10","N. AMERICA",{"$f":"(G880/365)/L880","v":34.246575342465754}]
[null,"ID0894","2012-05-27T14:04:31","Rs. 400000",400000,"INR",{"$f":"tblSalaries[[#This Row],[clean Salary (in local currency)]]*VLOOKUP(tblSalaries[[#This Row],[Currency]],tblXrate[],2,FALSE)","v":7123.1666749770275},"Accountancy","Accountant","India",{"$f":"VLOOKUP(tblSalaries[[#This Row],[Where do you work]],tblCountries[[Actual]:[Mapping]],2,FALSE)","v":"India"},3,">5<=10","ASIA",{"$f":"(G881/365)/L881","v":6.5051750456411206}]
[null,"ID0895","2012-05-27T14:22:11","INR 23 L",2300000,"INR",{"$f":"tblSalaries[[#This Row],[clean Salary (in local currency)]]*VLOOKUP(tblSalaries[[#This Row],[Currency]],tblXrate[],2,FALSE)","v":40958.208381117904},"Manager - Business Planning & Reporting","Manager","India",{"$f":"VLOOKUP(tblSalaries[[#This Row],[Where do you work]],tblCountries[[Actual]:[Mapping]],2,FALSE)","v":"India"},3,">5<=10","ASIA",{"$f":"(G882/365)/L882","v":37.404756512436443}]
[null,"ID0896","2012-05-27T14:27:33","rs 100000",1200000,"INR",{"$f":"tblSalaries[[#This Row],[clean Salary (in local currency)]]*VLOOKUP(tblSalaries[[#This Row],[Currency]],tblXrate[],2,FALSE)","v":21369.500024931083},"ASST VICE PREDISDENT","CXO or Top Mgmt.","India",{"$f":"VLOOKUP(tblSalaries[[#This Row],[Where do you work]],tblCountries[[Actual]:[Mapping]],2,FALSE)","v":"India"},6,">10<=20","ASIA",{"$f":"(G883/365)/L883","v":9.7577625684616809}]
[null,"ID0897","2012-05-27T14:47:21",120000,120000,"INR",{"$f":"tblSalaries[[#This Row],[clean Salary (in local currency)]]*VLOOKUP(tblSalaries[[#This Row],[Currency]],tblXrate[],2,FALSE)","v":2136.9500024931081},"co ordinator","Manager","India",{"$f":"VLOOKUP(tblSalaries[[#This Row],[Where do you work]],tblCountries[[Actual]:[Mapping]],2,FALSE)","v":"India"},6,"<=5","ASIA",{"$f":"(G884/365)/L884","v":0.97577625684616809}]
[null,"ID0898","2012-05-27T14:49:12","5,00,000 INR",500000,"INR",{"$f":"tblSalaries[[#This Row],[clean Salary (in local currency)]]*VLOOKUP(tblSalaries[[#This Row],[Currency]],tblXrate[],2,FALSE)","v":8903.9583437212841},"Planning Engineer","Engineer","India",{"$f":"VLOOKUP(tblSalaries[[#This Row],[Where do you work]],tblCountries[[Actual]:[Mapping]],2,FALSE)","v":"India"},3,"<=5","ASIA",{"$f":"(G885/365)/L885","v":8.1314688070513998}]
[null,"ID0899","2012-05-27T14:50:56",1000000,1000000,"INR",{"$f":"tblSalaries[[#This Row],[clean Salary (in local currency)]]*VLOOKUP(tblSalaries[[#This Row],[Currency]],tblXrate[],2,FALSE)","v":17807.916687442568},"Engagement Lead","Manager","India",{"$f":"VLOOKUP(tblSalaries[[#This Row],[Where do you work]],tblCountries[[Actual]:[Mapping]],2,FALSE)","v":"India"},6,"<=5","ASIA",{"$f":"(G886/365)/L886","v":8.1314688070513998}]
[null,"ID0900","2012-05-27T14:55:30","INR 850,000",850000,"INR",{"$f":"tblSalaries[[#This Row],[clean Salary (in local currency)]]*VLOOKUP(tblSalaries[[#This Row],[Currency]],tblXrate[],2,FALSE)","v":15136.729184326183},"Assistant Manager","Manager","India",{"$f":"VLOOKUP(tblSalaries[[#This Row],[Where do you work]],tblCountries[[Actual]:[Mapping]],2,FALSE)","v":"India"},3,"<=5","ASIA",{"$f":"(G887/365)/L887","v":13.823496971987382}]
[null,"ID0901","2012-05-27T15:01:02","PhP168000",168000,"PHP",{"$f":"tblSalaries[[#This Row],[clean Salary (in local currency)]]*VLOOKUP(tblSalaries[[#This Row],[Currency]],tblXrate[],2,FALSE)","v":3982.448779308334},"Clerk","Analyst","Philippines",{"$f":"VLOOKUP(tblSalaries[[#This Row],[Where do you work]],tblCountries[[Actual]:[Mapping]],2,FALSE)","v":"Philippines"},6,">5<=10","ASIA",{"$f":"(G888/365)/L888","v":1.8184697622412485}]
[null,"ID0903","2012-05-27T15:25:40",1300,15600,"USD",{"$f":"tblSalaries[[#This Row],[clean Salary (in local currency)]]*VLOOKUP(tblSalaries[[#This Row],[Currency]],tblXrate[],2,FALSE)","v":15600},"Document controller ","Controller","UAE",{"$f":"VLOOKUP(tblSalaries[[#This Row],[Where do you work]],tblCountries[[Actual]:[Mapping]],2,FALSE)","v":"UAE"},6,">10<=20","ASIA",{"$f":"(G889/365)/L889","v":7.1232876712328768}]
[null,"ID0904","2012-05-27T15:26:34","180000 INR",180000,"INR",{"$f":"tblSalaries[[#This Row],[clean Salary (in local currency)]]*VLOOKUP(tblSalaries[[#This Row],[Currency]],tblXrate[],2,FALSE)","v":3205.4250037396623},"Executive","Analyst","India",{"$f":"VLOOKUP(tblSalaries[[#This Row],[Where do you work]],tblCountries[[Actual]:[Mapping]],2,FALSE)","v":"India"},3,"<=5","ASIA",{"$f":"(G890/365)/L890","v":2.9273287705385047}]
[null,"ID0905","2012-05-27T15:32:10",10000,10000,"USD",{"$f":"tblSalaries[[#This Row],[clean Salary (in local currency)]]*VLOOKUP(tblSalaries[[#This Row],[Currency]],tblXrate[],2,FALSE)","v":10000},"Planner","Manager","India",{"$f":"VLOOKUP(tblSalaries[[#This Row],[Where do you work]],tblCountries[[Actual]:[Mapping]],2,FALSE)","v":"India"},6,">5<=10","ASIA",{"$f":"(G891/365)/L891","v":4.5662100456621006}]
[null,"ID0906","2012-05-27T15:44:07",75010,75010,"USD",{"$f":"tblSalaries[[#This Row],[clean Salary (in local currency)]]*VLOOKUP(tblSalaries[[#This Row],[Currency]],tblXrate[],2,FALSE)","v":75010},"Senior Business Analyst","Analyst","USA",{"$f":"VLOOKUP(tblSalaries[[#This Row],[Where do you work]],tblCountries[[Actual]:[Mapping]],2,FALSE)","v":"USA"},3,">5<=10","N. AMERICA",{"$f":"(G892/365)/L892","v":68.50228310502284}]
[null,"ID0907","2012-05-27T15:44:52","Rs 600000/-",600000,"INR",{"$f":"tblSalaries[[#This Row],[clean Salary (in local currency)]]*VLOOKUP(tblSalaries[[#This Row],[Currency]],tblXrate[],2,FALSE)","v":10684.750012465542},"Manager","Manager","India",{"$f":"VLOOKUP(tblSalaries[[#This Row],[Where do you work]],tblCountries[[Actual]:[Mapping]],2,FALSE)","v":"India"},8,">5<=10","ASIA",{"$f":"(G893/365)/L893","v":3.6591609631731306}]
[null,"ID0908","2012-05-27T15:48:03",16350,16350,"USD",{"$f":"tblSalaries[[#This Row],[clean Salary (in local currency)]]*VLOOKUP(tblSalaries[[#This Row],[Currency]],tblXrate[],2,FALSE)","v":16350},"Estimator","Manager","India",{"$f":"VLOOKUP(tblSalaries[[#This Row],[Where do you work]],tblCountries[[Actual]:[Mapping]],2,FALSE)","v":"India"},6,"<=5","ASIA",{"$f":"(G894/365)/L894","v":7.4657534246575343}]
[null,"ID0909","2012-05-27T16:10:04",80000,80000,"GBP",{"$f":"tblSalaries[[#This Row],[clean Salary (in local currency)]]*VLOOKUP(tblSalaries[[#This Row],[Currency]],tblXrate[],2,FALSE)","v":126094.26176538273},"Financial Modeller","Accountant","UK",{"$f":"VLOOKUP(tblSalaries[[#This Row],[Where do you work]],tblCountries[[Actual]:[Mapping]],2,FALSE)","v":"UK"},6,">5<=10","EUROPE",{"$f":"(G895/365)/L895","v":57.577288477343707}]
[null,"ID0910","2012-05-27T16:10:27",60000,60000,"USD",{"$f":"tblSalaries[[#This Row],[clean Salary (in local currency)]]*VLOOKUP(tblSalaries[[#This Row],[Currency]],tblXrate[],2,FALSE)","v":60000},"Cost accountant","Accountant","Singapore",{"$f":"VLOOKUP(tblSalaries[[#This Row],[Where do you work]],tblCountries[[Actual]:[Mapping]],2,FALSE)","v":"Singapore"},8,">5<=10","ASIA",{"$f":"(G896/365)/L896","v":20.547945205479451}]
[null,"ID0911","2012-05-27T16:24:50",1300000,1300000,"INR",{"$f":"tblSalaries[[#This Row],[clean Salary (in local currency)]]*VLOOKUP(tblSalaries[[#This Row],[Currency]],tblXrate[],2,FALSE)","v":23150.291693675339},"banker","Manager","India",{"$f":"VLOOKUP(tblSalaries[[#This Row],[Where do you work]],tblCountries[[Actual]:[Mapping]],2,FALSE)","v":"India"},2,"<=5","ASIA",{"$f":"(G897/365)/L897","v":31.712728347500466}]
[null,"ID0912","2012-05-27T16:30:54",775000,775000,"INR",{"$f":"tblSalaries[[#This Row],[clean Salary (in local currency)]]*VLOOKUP(tblSalaries[[#This Row],[Currency]],tblXrate[],2,FALSE)","v":13801.135432767991},"Analyst","Analyst","India",{"$f":"VLOOKUP(tblSalaries[[#This Row],[Where do you work]],tblCountries[[Actual]:[Mapping]],2,FALSE)","v":"India"},6,"<=5","ASIA",{"$f":"(G898/365)/L898","v":6.3018883254648363}]
[null,"ID0913","2012-05-27T16:50:50","1050000 INR",1050000,"INR",{"$f":"tblSalaries[[#This Row],[clean Salary (in local currency)]]*VLOOKUP(tblSalaries[[#This Row],[Currency]],tblXrate[],2,FALSE)","v":18698.312521814696},"Manager Market Reesrach","Manager","India",{"$f":"VLOOKUP(tblSalaries[[#This Row],[Where do you work]],tblCountries[[Actual]:[Mapping]],2,FALSE)","v":"India"},8,"<=5","ASIA",{"$f":"(G899/365)/L899","v":6.403531685552978}]
[null,"ID0914","2012-05-27T17:10:36",36000,36000,"USD",{"$f":"tblSalaries[[#This Row],[clean Salary (in local currency)]]*VLOOKUP(tblSalaries[[#This Row],[Currency]],tblXrate[],2,FALSE)","v":36000},"QA Supervisor","Controller","Czech Republic",{"$f":"VLOOKUP(tblSalaries[[#This Row],[Where do you work]],tblCountries[[Actual]:[Mapping]],2,FALSE)","v":"Czech Republic"},3,">5<=10","EUROPE",{"$f":"(G900/365)/L900","v":32.87671232876712}]
[null,"ID0915","2012-05-27T17:16:55","486000 INR",486000,"INR",{"$f":"tblSalaries[[#This Row],[clean Salary (in local currency)]]*VLOOKUP(tblSalaries[[#This Row],[Currency]],tblXrate[],2,FALSE)","v":8654.6475100970874},"Assistant manager","Manager","India",{"$f":"VLOOKUP(tblSalaries[[#This Row],[Where do you work]],tblCountries[[Actual]:[Mapping]],2,FALSE)","v":"India"},8,">5<=10","ASIA",{"$f":"(G901/365)/L901","v":2.9639203801702356}]
[null,"ID0916","2012-05-27T17:17:24","Â£65000",65000,"GBP",{"$f":"tblSalaries[[#This Row],[clean Salary (in local currency)]]*VLOOKUP(tblSalaries[[#This Row],[Currency]],tblXrate[],2,FALSE)","v":102451.58768437347},"Manager","Manager","UK",{"$f":"VLOOKUP(tblSalaries[[#This Row],[Where do you work]],tblCountries[[Actual]:[Mapping]],2,FALSE)","v":"UK"},2,">10<=20","EUROPE",{"$f":"(G902/365)/L902","v":140.3446406635253}]
[null,"ID0917","2012-05-27T17:24:09",36400,36400,"USD",{"$f":"tblSalaries[[#This Row],[clean Salary (in local currency)]]*VLOOKUP(tblSalaries[[#This Row],[Currency]],tblXrate[],2,FALSE)","v":36400},"Analyst","Analyst","Zimbabwe",{"$f":"VLOOKUP(tblSalaries[[#This Row],[Where do you work]],tblCountries[[Actual]:[Mapping]],2,FALSE)","v":"Zimbabwe"},6,">10<=20","AFRICA",{"$f":"(G903/365)/L903","v":16.621004566210043}]
[null,"ID0918","2012-05-27T18:19:31",64210.1,64210,"GBP",{"$f":"tblSalaries[[#This Row],[clean Salary (in local currency)]]*VLOOKUP(tblSalaries[[#This Row],[Currency]],tblXrate[],2,FALSE)","v":101206.40684944032},"HR Advisor - Systems & MI","Consultant","UK",{"$f":"VLOOKUP(tblSalaries[[#This Row],[Where do you work]],tblCountries[[Actual]:[Mapping]],2,FALSE)","v":"UK"},6,">10<=20","EUROPE",{"$f":"(G904/365)/L904","v":46.212971164128}]
[null,"ID0919","2012-05-27T18:33:51","300000RS",300000,"INR",{"$f":"tblSalaries[[#This Row],[clean Salary (in local currency)]]*VLOOKUP(tblSalaries[[#This Row],[Currency]],tblXrate[],2,FALSE)","v":5342.3750062327708},"ANALYST","Analyst","India",{"$f":"VLOOKUP(tblSalaries[[#This Row],[Where do you work]],tblCountries[[Actual]:[Mapping]],2,FALSE)","v":"India"},6,"<=5","ASIA",{"$f":"(G905/365)/L905","v":2.4394406421154202}]
[null,"ID0920","2012-05-27T19:39:26",104000,104000,"AED",{"$f":"tblSalaries[[#This Row],[clean Salary (in local currency)]]*VLOOKUP(tblSalaries[[#This Row],[Currency]],tblXrate[],2,FALSE)","v":28310.79811950968},"Financial Analyst","Analyst","UAE",{"$f":"VLOOKUP(tblSalaries[[#This Row],[Where do you work]],tblCountries[[Actual]:[Mapping]],2,FALSE)","v":"UAE"},6,">10<=20","ASIA",{"$f":"(G906/365)/L906","v":12.927305077401682}]
[null,"ID0921","2012-05-27T19:41:55",20500,20500,"EUR",{"$f":"tblSalaries[[#This Row],[clean Salary (in local currency)]]*VLOOKUP(tblSalaries[[#This Row],[Currency]],tblXrate[],2,FALSE)","v":26043.18849932796},"C&B Manager","Manager","Poland",{"$f":"VLOOKUP(tblSalaries[[#This Row],[Where do you work]],tblCountries[[Actual]:[Mapping]],2,FALSE)","v":"Poland"},6,">5<=10","EUROPE",{"$f":"(G907/365)/L907","v":11.891866894670301}]
[null,"ID0922","2012-05-27T20:18:50","95000 AUD",95000,"AUD",{"$f":"tblSalaries[[#This Row],[clean Salary (in local currency)]]*VLOOKUP(tblSalaries[[#This Row],[Currency]],tblXrate[],2,FALSE)","v":96891.417358250401},"Senior Marketing Analyst","Analyst","Australia",{"$f":"VLOOKUP(tblSalaries[[#This Row],[Where do you work]],tblCountries[[Actual]:[Mapping]],2,FALSE)","v":"Australia"},2,">5<=10","OCEANIA",{"$f":"(G908/365)/L908","v":132.72796898390465}]
[null,"ID0923","2012-05-27T20:43:13","Rs. 144000",144000,"INR",{"$f":"tblSalaries[[#This Row],[clean Salary (in local currency)]]*VLOOKUP(tblSalaries[[#This Row],[Currency]],tblXrate[],2,FALSE)","v":2564.3400029917298},"operation supervisor","Controller","India",{"$f":"VLOOKUP(tblSalaries[[#This Row],[Where do you work]],tblCountries[[Actual]:[Mapping]],2,FALSE)","v":"India"},6,"<=5","ASIA",{"$f":"(G909/365)/L909","v":1.1709315082154017}]
[null,"ID0924","2012-05-27T20:51:55",180000,180000,"INR",{"$f":"tblSalaries[[#This Row],[clean Salary (in local currency)]]*VLOOKUP(tblSalaries[[#This Row],[Currency]],tblXrate[],2,FALSE)","v":3205.4250037396623},"MIS TEAM MEMBER","Reporting","India",{"$f":"VLOOKUP(tblSalaries[[#This Row],[Where do you work]],tblCountries[[Actual]:[Mapping]],2,FALSE)","v":"India"},8,">5<=10","ASIA",{"$f":"(G910/365)/L910","v":1.0977482889519392}]
[null,"ID0925","2012-05-27T21:04:07",600000,600000,"INR",{"$f":"tblSalaries[[#This Row],[clean Salary (in local currency)]]*VLOOKUP(tblSalaries[[#This Row],[Currency]],tblXrate[],2,FALSE)","v":10684.750012465542},"Sales Analyst","Analyst","India",{"$f":"VLOOKUP(tblSalaries[[#This Row],[Where do you work]],tblCountries[[Actual]:[Mapping]],2,FALSE)","v":"India"},8,">5<=10","ASIA",{"$f":"(G911/365)/L911","v":3.6591609631731306}]
[null,"ID0927","2012-05-27T21:21:41",150000,150000,"USD",{"$f":"tblSalaries[[#This Row],[clean Salary (in local currency)]]*VLOOKUP(tblSalaries[[#This Row],[Currency]],tblXrate[],2,FALSE)","v":150000},"Controller","Controller","USA",{"$f":"VLOOKUP(tblSalaries[[#This Row],[Where do you work]],tblCountries[[Actual]:[Mapping]],2,FALSE)","v":"USA"},6,">20","N. AMERICA",{"$f":"(G912/365)/L912","v":68.493150684931507}]
[null,"ID0928","2012-05-27T21:24:42","7 Lakhs",700000,"INR",{"$f":"tblSalaries[[#This Row],[clean Salary (in local currency)]]*VLOOKUP(tblSalaries[[#This Row],[Currency]],tblXrate[],2,FALSE)","v":12465.541681209797},"Business Support Executive","Manager","India",{"$f":"VLOOKUP(tblSalaries[[#This Row],[Where do you work]],tblCountries[[Actual]:[Mapping]],2,FALSE)","v":"India"},6,"<=5","ASIA",{"$f":"(G913/365)/L913","v":5.6920281649359801}]
[null,"ID0929","2012-05-27T21:44:39","15000 â‚¬",15000,"EUR",{"$f":"tblSalaries[[#This Row],[clean Salary (in local currency)]]*VLOOKUP(tblSalaries[[#This Row],[Currency]],tblXrate[],2,FALSE)","v":19055.991584874118},"analytic","Analyst","Slovenia",{"$f":"VLOOKUP(tblSalaries[[#This Row],[Where do you work]],tblCountries[[Actual]:[Mapping]],2,FALSE)","v":"Slovenia"},6,"<=5","EUROPE",{"$f":"(G914/365)/L914","v":8.7013660204904646}]
[null,"ID0930","2012-05-27T21:49:55",105000,105000,"USD",{"$f":"tblSalaries[[#This Row],[clean Salary (in local currency)]]*VLOOKUP(tblSalaries[[#This Row],[Currency]],tblXrate[],2,FALSE)","v":105000},"business analyst","Analyst","USA",{"$f":"VLOOKUP(tblSalaries[[#This Row],[Where do you work]],tblCountries[[Actual]:[Mapping]],2,FALSE)","v":"USA"},6,">10<=20","N. AMERICA",{"$f":"(G915/365)/L915","v":47.945205479452056}]
[null,"ID0931","2012-05-27T22:05:15",24000,24000,"USD",{"$f":"tblSalaries[[#This Row],[clean Salary (in local currency)]]*VLOOKUP(tblSalaries[[#This Row],[Currency]],tblXrate[],2,FALSE)","v":24000},"business analyst","Analyst","India",{"$f":"VLOOKUP(tblSalaries[[#This Row],[Where do you work]],tblCountries[[Actual]:[Mapping]],2,FALSE)","v":"India"},6,"<=5","ASIA",{"$f":"(G916/365)/L916","v":10.958904109589042}]
[null,"ID0932","2012-05-27T22:22:01","50000 GBP",50000,"GBP",{"$f":"tblSalaries[[#This Row],[clean Salary (in local currency)]]*VLOOKUP(tblSalaries[[#This Row],[Currency]],tblXrate[],2,FALSE)","v":78808.913603364199},"Finance Analyst","Analyst","UK",{"$f":"VLOOKUP(tblSalaries[[#This Row],[Where do you work]],tblCountries[[Actual]:[Mapping]],2,FALSE)","v":"UK"},8,">5<=10","EUROPE",{"$f":"(G917/365)/L917","v":26.989353973754863}]
[null,"ID0933","2012-05-27T22:35:22",42000,42000,"USD",{"$f":"tblSalaries[[#This Row],[clean Salary (in local currency)]]*VLOOKUP(tblSalaries[[#This Row],[Currency]],tblXrate[],2,FALSE)","v":42000},"Credit Controller","Controller","Saudi Arabia",{"$f":"VLOOKUP(tblSalaries[[#This Row],[Where do you work]],tblCountries[[Actual]:[Mapping]],2,FALSE)","v":"Saudi Arabia"},8,">10<=20","ASIA",{"$f":"(G918/365)/L918","v":14.383561643835616}]
[null,"ID0934","2012-05-27T22:40:38","R$ 19.200,00",19200,"BRL",{"$f":"tblSalaries[[#This Row],[clean Salary (in local currency)]]*VLOOKUP(tblSalaries[[#This Row],[Currency]],tblXrate[],2,FALSE)","v":9490.1984044603923},"Programmer","Analyst","Brazil",{"$f":"VLOOKUP(tblSalaries[[#This Row],[Where do you work]],tblCountries[[Actual]:[Mapping]],2,FALSE)","v":"Brazil"},8,">5<=10"," S. AMERICA",{"$f":"(G919/365)/L919","v":3.2500679467330111}]
[null,"ID0935","2012-05-27T22:58:39",60000,60000,"USD",{"$f":"tblSalaries[[#This Row],[clean Salary (in local currency)]]*VLOOKUP(tblSalaries[[#This Row],[Currency]],tblXrate[],2,FALSE)","v":60000},"Consultant","Consultant","Singapore",{"$f":"VLOOKUP(tblSalaries[[#This Row],[Where do you work]],tblCountries[[Actual]:[Mapping]],2,FALSE)","v":"Singapore"},6,"<=5","ASIA",{"$f":"(G920/365)/L920","v":27.397260273972602}]
[null,"ID0936","2012-05-27T23:03:21",1000000,1000000,"INR",{"$f":"tblSalaries[[#This Row],[clean Salary (in local currency)]]*VLOOKUP(tblSalaries[[#This Row],[Currency]],tblXrate[],2,FALSE)","v":17807.916687442568},"business","Manager","India",{"$f":"VLOOKUP(tblSalaries[[#This Row],[Where do you work]],tblCountries[[Actual]:[Mapping]],2,FALSE)","v":"India"},8,">5<=10","ASIA",{"$f":"(G921/365)/L921","v":6.0986016052885503}]
[null,"ID0937","2012-05-27T23:10:01","Rs.7,00,000",700000,"INR",{"$f":"tblSalaries[[#This Row],[clean Salary (in local currency)]]*VLOOKUP(tblSalaries[[#This Row],[Currency]],tblXrate[],2,FALSE)","v":12465.541681209797},"Business Analyst","Analyst","India",{"$f":"VLOOKUP(tblSalaries[[#This Row],[Where do you work]],tblCountries[[Actual]:[Mapping]],2,FALSE)","v":"India"},8,"<=5","ASIA",{"$f":"(G922/365)/L922","v":4.2690211237019851}]
[null,"ID0938","2012-05-27T23:32:30",20571,20571,"USD",{"$f":"tblSalaries[[#This Row],[clean Salary (in local currency)]]*VLOOKUP(tblSalaries[[#This Row],[Currency]],tblXrate[],2,FALSE)","v":20571},"CFO","CXO or Top Mgmt.","Albania",{"$f":"VLOOKUP(tblSalaries[[#This Row],[Where do you work]],tblCountries[[Actual]:[Mapping]],2,FALSE)","v":"Albania"},6,">5<=10","EUROPE",{"$f":"(G923/365)/L923","v":9.3931506849315074}]
[null,"ID0939","2012-05-27T23:43:21",290,3480,"USD",{"$f":"tblSalaries[[#This Row],[clean Salary (in local currency)]]*VLOOKUP(tblSalaries[[#This Row],[Currency]],tblXrate[],2,FALSE)","v":3480},"Reconciliation Manager in Textile Mill","Manager","Pakistan",{"$f":"VLOOKUP(tblSalaries[[#This Row],[Where do you work]],tblCountries[[Actual]:[Mapping]],2,FALSE)","v":"Pakistan"},8,">5<=10","ASIA",{"$f":"(G924/365)/L924","v":1.1917808219178083}]
[null,"ID0940","2012-05-27T23:46:03",18060,18060,"USD",{"$f":"tblSalaries[[#This Row],[clean Salary (in local currency)]]*VLOOKUP(tblSalaries[[#This Row],[Currency]],tblXrate[],2,FALSE)","v":18060},"Reporting Supervisor","Reporting","Philippines",{"$f":"VLOOKUP(tblSalaries[[#This Row],[Where do you work]],tblCountries[[Actual]:[Mapping]],2,FALSE)","v":"Philippines"},6,">10<=20","ASIA",{"$f":"(G925/365)/L925","v":8.2465753424657535}]
[null,"ID0941","2012-05-27T23:47:25","30000 $",30000,"USD",{"$f":"tblSalaries[[#This Row],[clean Salary (in local currency)]]*VLOOKUP(tblSalaries[[#This Row],[Currency]],tblXrate[],2,FALSE)","v":30000},"Financial Expert","Accountant","Iran",{"$f":"VLOOKUP(tblSalaries[[#This Row],[Where do you work]],tblCountries[[Actual]:[Mapping]],2,FALSE)","v":"iran"},3,">20","ASIA",{"$f":"(G926/365)/L926","v":27.397260273972602}]
[null,"ID0943","2012-05-27T23:52:48","usd 2000 per month",24000,"USD",{"$f":"tblSalaries[[#This Row],[clean Salary (in local currency)]]*VLOOKUP(tblSalaries[[#This Row],[Currency]],tblXrate[],2,FALSE)","v":24000},"sr manager","Manager","India",{"$f":"VLOOKUP(tblSalaries[[#This Row],[Where do you work]],tblCountries[[Actual]:[Mapping]],2,FALSE)","v":"India"},6,">5<=10","ASIA",{"$f":"(G927/365)/L927","v":10.958904109589042}]
[null,"ID0944","2012-05-28T00:10:43",63200,63200,"EUR",{"$f":"tblSalaries[[#This Row],[clean Salary (in local currency)]]*VLOOKUP(tblSalaries[[#This Row],[Currency]],tblXrate[],2,FALSE)","v":80289.244544269619},"Consultant","Consultant","France",{"$f":"VLOOKUP(tblSalaries[[#This Row],[Where do you work]],tblCountries[[Actual]:[Mapping]],2,FALSE)","v":"France"},6,"<=5","EUROPE",{"$f":"(G928/365)/L928","v":36.661755499666491}]
[null,"ID0945","2012-05-28T00:17:26",70000,70000,"USD",{"$f":"tblSalaries[[#This Row],[clean Salary (in local currency)]]*VLOOKUP(tblSalaries[[#This Row],[Currency]],tblXrate[],2,FALSE)","v":70000},"Client Manager","Manager","USA",{"$f":"VLOOKUP(tblSalaries[[#This Row],[Where do you work]],tblCountries[[Actual]:[Mapping]],2,FALSE)","v":"USA"},6,"<=5","N. AMERICA",{"$f":"(G929/365)/L929","v":31.963470319634705}]
[null,"ID0946","2012-05-28T00:28:56","Rs 40000",480000,"INR",{"$f":"tblSalaries[[#This Row],[clean Salary (in local currency)]]*VLOOKUP(tblSalaries[[#This Row],[Currency]],tblXrate[],2,FALSE)","v":8547.8000099724322},"Manager","Manager","India",{"$f":"VLOOKUP(tblSalaries[[#This Row],[Where do you work]],tblCountries[[Actual]:[Mapping]],2,FALSE)","v":"India"},3,"<=5","ASIA",{"$f":"(G930/365)/L930","v":7.8062100547693447}]
[null,"ID0948","2012-05-28T00:36:20","INR 600K",600000,"INR",{"$f":"tblSalaries[[#This Row],[clean Salary (in local currency)]]*VLOOKUP(tblSalaries[[#This Row],[Currency]],tblXrate[],2,FALSE)","v":10684.750012465542},"Asst. Mgr. Finance","Analyst","India",{"$f":"VLOOKUP(tblSalaries[[#This Row],[Where do you work]],tblCountries[[Actual]:[Mapping]],2,FALSE)","v":"India"},6,">10<=20","ASIA",{"$f":"(G931/365)/L931","v":4.8788812842308404}]
[null,"ID0949","2012-05-28T00:43:40","600000 INR",600000,"INR",{"$f":"tblSalaries[[#This Row],[clean Salary (in local currency)]]*VLOOKUP(tblSalaries[[#This Row],[Currency]],tblXrate[],2,FALSE)","v":10684.750012465542},"Executive","Analyst","India",{"$f":"VLOOKUP(tblSalaries[[#This Row],[Where do you work]],tblCountries[[Actual]:[Mapping]],2,FALSE)","v":"India"},3,"<=5","ASIA",{"$f":"(G932/365)/L932","v":9.7577625684616809}]
[null,"ID0950","2012-05-28T00:48:23",20000,20000,"USD",{"$f":"tblSalaries[[#This Row],[clean Salary (in local currency)]]*VLOOKUP(tblSalaries[[#This Row],[Currency]],tblXrate[],2,FALSE)","v":20000},"Financial Modeller","Accountant","Zambia",{"$f":"VLOOKUP(tblSalaries[[#This Row],[Where do you work]],tblCountries[[Actual]:[Mapping]],2,FALSE)","v":"Zambia"},8,"<=5","AFRICA",{"$f":"(G933/365)/L933","v":6.8493150684931505}]
[null,"ID0951","2012-05-28T01:17:17","42000 â‚¬",42000,"EUR",{"$f":"tblSalaries[[#This Row],[clean Salary (in local currency)]]*VLOOKUP(tblSalaries[[#This Row],[Currency]],tblXrate[],2,FALSE)","v":53356.776437647524},"Consultant","Consultant","Germany",{"$f":"VLOOKUP(tblSalaries[[#This Row],[Where do you work]],tblCountries[[Actual]:[Mapping]],2,FALSE)","v":"Germany"},3,"<=5","EUROPE",{"$f":"(G934/365)/L934","v":48.727649714746597}]
[null,"ID0952","2012-05-28T01:29:19",3000,36000,"USD",{"$f":"tblSalaries[[#This Row],[clean Salary (in local currency)]]*VLOOKUP(tblSalaries[[#This Row],[Currency]],tblXrate[],2,FALSE)","v":36000},"Accountant","Accountant","United Arab Emirates",{"$f":"VLOOKUP(tblSalaries[[#This Row],[Where do you work]],tblCountries[[Actual]:[Mapping]],2,FALSE)","v":"UAE"},6,"<=5","ASIA",{"$f":"(G935/365)/L935","v":16.43835616438356}]
[null,"ID0953","2012-05-28T01:30:29",57000,57000,"USD",{"$f":"tblSalaries[[#This Row],[clean Salary (in local currency)]]*VLOOKUP(tblSalaries[[#This Row],[Currency]],tblXrate[],2,FALSE)","v":57000},"Construction Engineer","Engineer","USA",{"$f":"VLOOKUP(tblSalaries[[#This Row],[Where do you work]],tblCountries[[Actual]:[Mapping]],2,FALSE)","v":"USA"},3,"<=5","N. AMERICA",{"$f":"(G936/365)/L936","v":52.054794520547944}]
[null,"ID0954","2012-05-28T01:47:29",135000,135000,"USD",{"$f":"tblSalaries[[#This Row],[clean Salary (in local currency)]]*VLOOKUP(tblSalaries[[#This Row],[Currency]],tblXrate[],2,FALSE)","v":135000},"Marketing Insights Manager","Manager","USA",{"$f":"VLOOKUP(tblSalaries[[#This Row],[Where do you work]],tblCountries[[Actual]:[Mapping]],2,FALSE)","v":"USA"},8,">10<=20","N. AMERICA",{"$f":"(G937/365)/L937","v":46.232876712328768}]
[null,"ID0955","2012-05-28T02:25:13",75000,75000,"EUR",{"$f":"tblSalaries[[#This Row],[clean Salary (in local currency)]]*VLOOKUP(tblSalaries[[#This Row],[Currency]],tblXrate[],2,FALSE)","v":95279.957924370581},"Risk analyst","Analyst","Netherlands",{"$f":"VLOOKUP(tblSalaries[[#This Row],[Where do you work]],tblCountries[[Actual]:[Mapping]],2,FALSE)","v":"Netherlands"},6,"<=5","EUROPE",{"$f":"(G938/365)/L938","v":43.506830102452319}]
[null,"ID0957","2012-05-28T03:34:14",45000,45000,"EUR",{"$f":"tblSalaries[[#This Row],[clean Salary (in local currency)]]*VLOOKUP(tblSalaries[[#This Row],[Currency]],tblXrate[],2,FALSE)","v":57167.974754622352},"data analist","Analyst","netherlands",{"$f":"VLOOKUP(tblSalaries[[#This Row],[Where do you work]],tblCountries[[Actual]:[Mapping]],2,FALSE)","v":"Netherlands"},3,">5<=10","EUROPE",{"$f":"(G939/365)/L939","v":52.208196122942788}]
[null,"ID0958","2012-05-28T03:44:00","2,000,000 Naira",2000000,"NAIRA",{"$f":"tblSalaries[[#This Row],[clean Salary (in local currency)]]*VLOOKUP(tblSalaries[[#This Row],[Currency]],tblXrate[],2,FALSE)","v":12326.656394453004},"Head Business Advisory","Manager","Nigeria",{"$f":"VLOOKUP(tblSalaries[[#This Row],[Where do you work]],tblCountries[[Actual]:[Mapping]],2,FALSE)","v":"Nigeria"},6,"<=5","AFRICA",{"$f":"(G940/365)/L940","v":5.6286102257776278}]
[null,"ID0959","2012-05-28T04:05:14",8000,8000,"USD",{"$f":"tblSalaries[[#This Row],[clean Salary (in local currency)]]*VLOOKUP(tblSalaries[[#This Row],[Currency]],tblXrate[],2,FALSE)","v":8000},"IT Analyst","Analyst","India",{"$f":"VLOOKUP(tblSalaries[[#This Row],[Where do you work]],tblCountries[[Actual]:[Mapping]],2,FALSE)","v":"India"},2,"<=5","ASIA",{"$f":"(G941/365)/L941","v":10.95890410958904}]
[null,"ID0960","2012-05-28T04:40:41","48000 $",48000,"USD",{"$f":"tblSalaries[[#This Row],[clean Salary (in local currency)]]*VLOOKUP(tblSalaries[[#This Row],[Currency]],tblXrate[],2,FALSE)","v":48000},"Merchandise planner","Manager","France",{"$f":"VLOOKUP(tblSalaries[[#This Row],[Where do you work]],tblCountries[[Actual]:[Mapping]],2,FALSE)","v":"France"},6,"<=5","EUROPE",{"$f":"(G942/365)/L942","v":21.917808219178085}]
[null,"ID0961","2012-05-28T05:07:44",40000,40000,"USD",{"$f":"tblSalaries[[#This Row],[clean Salary (in local currency)]]*VLOOKUP(tblSalaries[[#This Row],[Currency]],tblXrate[],2,FALSE)","v":40000},"analyst","Analyst","NZ",{"$f":"VLOOKUP(tblSalaries[[#This Row],[Where do you work]],tblCountries[[Actual]:[Mapping]],2,FALSE)","v":"New Zealand"},6,"<=5","OCEANIA",{"$f":"(G943/365)/L943","v":18.264840182648403}]
[null,"ID0962","2012-05-28T05:09:12","NZ$ 75000",75000,"NZD",{"$f":"tblSalaries[[#This Row],[clean Salary (in local currency)]]*VLOOKUP(tblSalaries[[#This Row],[Currency]],tblXrate[],2,FALSE)","v":59819.107020370408},"Information Analyst","Analyst","New  Zealand",{"$f":"VLOOKUP(tblSalaries[[#This Row],[Where do you work]],tblCountries[[Actual]:[Mapping]],2,FALSE)","v":"New Zealand"},6,">5<=10","OCEANIA",{"$f":"(G944/365)/L944","v":27.314660739895164}]
[null,"ID0963","2012-05-28T05:12:38",150000,150000,"USD",{"$f":"tblSalaries[[#This Row],[clean Salary (in local currency)]]*VLOOKUP(tblSalaries[[#This Row],[Currency]],tblXrate[],2,FALSE)","v":150000},"Software Tester","Analyst","Switzerland",{"$f":"VLOOKUP(tblSalaries[[#This Row],[Where do you work]],tblCountries[[Actual]:[Mapping]],2,FALSE)","v":"Switzerland"},2,">10<=20","EUROPE",{"$f":"(G945/365)/L945","v":205.47945205479451}]
[null,"ID0964","2012-05-28T05:20:41",80000,80000,"AUD",{"$f":"tblSalaries[[#This Row],[clean Salary (in local currency)]]*VLOOKUP(tblSalaries[[#This Row],[Currency]],tblXrate[],2,FALSE)","v":81592.772512210868},"Billing manager","Manager","Australia",{"$f":"VLOOKUP(tblSalaries[[#This Row],[Where do you work]],tblCountries[[Actual]:[Mapping]],2,FALSE)","v":"Australia"},6,">20","OCEANIA",{"$f":"(G946/365)/L946","v":37.256973749867974}]
[null,"ID0965","2012-05-28T05:48:56",95000,95000,"AUD",{"$f":"tblSalaries[[#This Row],[clean Salary (in local currency)]]*VLOOKUP(tblSalaries[[#This Row],[Currency]],tblXrate[],2,FALSE)","v":96891.417358250401},"financial analyst","Analyst","Australia",{"$f":"VLOOKUP(tblSalaries[[#This Row],[Where do you work]],tblCountries[[Actual]:[Mapping]],2,FALSE)","v":"Australia"},3,">10<=20","OCEANIA",{"$f":"(G947/365)/L947","v":88.485312655936426}]
[null,"ID0966","2012-05-28T05:51:10","AUD90000",90000,"AUD",{"$f":"tblSalaries[[#This Row],[clean Salary (in local currency)]]*VLOOKUP(tblSalaries[[#This Row],[Currency]],tblXrate[],2,FALSE)","v":91791.869076237213},"Senior Research Analyst","Analyst","Australia",{"$f":"VLOOKUP(tblSalaries[[#This Row],[Where do you work]],tblCountries[[Actual]:[Mapping]],2,FALSE)","v":"Australia"},6,">10<=20","OCEANIA",{"$f":"(G948/365)/L948","v":41.914095468601467}]
[null,"ID0967","2012-05-28T05:51:20",15000,15000,"USD",{"$f":"tblSalaries[[#This Row],[clean Salary (in local currency)]]*VLOOKUP(tblSalaries[[#This Row],[Currency]],tblXrate[],2,FALSE)","v":15000},"Quality Executive","Analyst","India",{"$f":"VLOOKUP(tblSalaries[[#This Row],[Where do you work]],tblCountries[[Actual]:[Mapping]],2,FALSE)","v":"India"},3,"<=5","ASIA",{"$f":"(G949/365)/L949","v":13.698630136986301}]
[null,"ID0968","2012-05-28T06:25:36","AU$65",65000,"AUD",{"$f":"tblSalaries[[#This Row],[clean Salary (in local currency)]]*VLOOKUP(tblSalaries[[#This Row],[Currency]],tblXrate[],2,FALSE)","v":66294.12766617132},"Business Support ","Manager","Australia",{"$f":"VLOOKUP(tblSalaries[[#This Row],[Where do you work]],tblCountries[[Actual]:[Mapping]],2,FALSE)","v":"Australia"},3,"<=5","OCEANIA",{"$f":"(G950/365)/L950","v":60.54258234353545}]
[null,"ID0969","2012-05-28T06:35:50",100000,100000,"AUD",{"$f":"tblSalaries[[#This Row],[clean Salary (in local currency)]]*VLOOKUP(tblSalaries[[#This Row],[Currency]],tblXrate[],2,FALSE)","v":101990.96564026357},"Senior Consultant","Consultant","Australia",{"$f":"VLOOKUP(tblSalaries[[#This Row],[Where do you work]],tblCountries[[Actual]:[Mapping]],2,FALSE)","v":"Australia"},8,">5<=10","OCEANIA",{"$f":"(G951/365)/L951","v":34.928412890501221}]
[null,"ID0970","2012-05-28T06:51:54",60000,60000,"USD",{"$f":"tblSalaries[[#This Row],[clean Salary (in local currency)]]*VLOOKUP(tblSalaries[[#This Row],[Currency]],tblXrate[],2,FALSE)","v":60000},"Sales Manager","Manager","USA",{"$f":"VLOOKUP(tblSalaries[[#This Row],[Where do you work]],tblCountries[[Actual]:[Mapping]],2,FALSE)","v":"USA"},3,"<=5","N. AMERICA",{"$f":"(G952/365)/L952","v":54.794520547945204}]
[null,"ID0971","2012-05-28T06:52:05",43000,43000,"AUD",{"$f":"tblSalaries[[#This Row],[clean Salary (in local currency)]]*VLOOKUP(tblSalaries[[#This Row],[Currency]],tblXrate[],2,FALSE)","v":43856.11522531334},"Finance Officer","Manager","Australia",{"$f":"VLOOKUP(tblSalaries[[#This Row],[Where do you work]],tblCountries[[Actual]:[Mapping]],2,FALSE)","v":"Australia"},8,"<=5","OCEANIA",{"$f":"(G953/365)/L953","v":15.019217542915527}]
[null,"ID0972","2012-05-28T06:52:05",45616,45616,"USD",{"$f":"tblSalaries[[#This Row],[clean Salary (in local currency)]]*VLOOKUP(tblSalaries[[#This Row],[Currency]],tblXrate[],2,FALSE)","v":45616},"Assistant Fleet Analyst","Analyst","Australia",{"$f":"VLOOKUP(tblSalaries[[#This Row],[Where do you work]],tblCountries[[Actual]:[Mapping]],2,FALSE)","v":"Australia"},6,"<=5","OCEANIA",{"$f":"(G954/365)/L954","v":20.829223744292239}]
[null,"ID0973","2012-05-28T07:00:25",95000,95000,"NZD",{"$f":"tblSalaries[[#This Row],[clean Salary (in local currency)]]*VLOOKUP(tblSalaries[[#This Row],[Currency]],tblXrate[],2,FALSE)","v":75770.868892469181},"Cost Accountant","Accountant","New Zealand",{"$f":"VLOOKUP(tblSalaries[[#This Row],[Where do you work]],tblCountries[[Actual]:[Mapping]],2,FALSE)","v":"New Zealand"},6,">10<=20","OCEANIA",{"$f":"(G955/365)/L955","v":34.598570270533877}]
[null,"ID0974","2012-05-28T07:21:12",56600,56600,"AUD",{"$f":"tblSalaries[[#This Row],[clean Salary (in local currency)]]*VLOOKUP(tblSalaries[[#This Row],[Currency]],tblXrate[],2,FALSE)","v":57726.886552389187},"Operations Coordinator","Manager","Australia",{"$f":"VLOOKUP(tblSalaries[[#This Row],[Where do you work]],tblCountries[[Actual]:[Mapping]],2,FALSE)","v":"Australia"},3,"<=5","OCEANIA",{"$f":"(G956/365)/L956","v":52.718617856063183}]
[null,"ID0975","2012-05-28T07:23:07",20000,20000,"USD",{"$f":"tblSalaries[[#This Row],[clean Salary (in local currency)]]*VLOOKUP(tblSalaries[[#This Row],[Currency]],tblXrate[],2,FALSE)","v":20000},"data analyst","Analyst","Australia",{"$f":"VLOOKUP(tblSalaries[[#This Row],[Where do you work]],tblCountries[[Actual]:[Mapping]],2,FALSE)","v":"Australia"},3,"<=5","OCEANIA",{"$f":"(G957/365)/L957","v":18.264840182648403}]
[null,"ID0976","2012-05-28T07:28:07","AUD$200,000",200000,"AUD",{"$f":"tblSalaries[[#This Row],[clean Salary (in local currency)]]*VLOOKUP(tblSalaries[[#This Row],[Currency]],tblXrate[],2,FALSE)","v":203981.93128052715},"Corporate Finance Manager","Manager","Australia",{"$f":"VLOOKUP(tblSalaries[[#This Row],[Where do you work]],tblCountries[[Actual]:[Mapping]],2,FALSE)","v":"Australia"},6,">10<=20","OCEANIA",{"$f":"(G958/365)/L958","v":93.142434374669918}]
[null,"ID0977","2012-05-28T07:28:34",50000,50000,"AUD",{"$f":"tblSalaries[[#This Row],[clean Salary (in local currency)]]*VLOOKUP(tblSalaries[[#This Row],[Currency]],tblXrate[],2,FALSE)","v":50995.482820131787},"Operations","Controller","Australia",{"$f":"VLOOKUP(tblSalaries[[#This Row],[Where do you work]],tblCountries[[Actual]:[Mapping]],2,FALSE)","v":"Australia"},2,"<=5","OCEANIA",{"$f":"(G959/365)/L959","v":69.856825781002442}]
[null,"ID0978","2012-05-28T07:29:43",125000,125000,"AUD",{"$f":"tblSalaries[[#This Row],[clean Salary (in local currency)]]*VLOOKUP(tblSalaries[[#This Row],[Currency]],tblXrate[],2,FALSE)","v":127488.70705032947},"Director, Informatics","CXO or Top Mgmt.","Australia",{"$f":"VLOOKUP(tblSalaries[[#This Row],[Where do you work]],tblCountries[[Actual]:[Mapping]],2,FALSE)","v":"Australia"},6,">10<=20","OCEANIA",{"$f":"(G960/365)/L960","v":58.214021484168711}]
[null,"ID0979","2012-05-28T07:33:29",65000,65000,"AUD",{"$f":"tblSalaries[[#This Row],[clean Salary (in local currency)]]*VLOOKUP(tblSalaries[[#This Row],[Currency]],tblXrate[],2,FALSE)","v":66294.12766617132},"Data Analyst","Analyst","Australia",{"$f":"VLOOKUP(tblSalaries[[#This Row],[Where do you work]],tblCountries[[Actual]:[Mapping]],2,FALSE)","v":"Australia"},6,"<=5","OCEANIA",{"$f":"(G961/365)/L961","v":30.271291171767725}]
[null,"ID0980","2012-05-28T07:39:22",62000,62000,"AUD",{"$f":"tblSalaries[[#This Row],[clean Salary (in local currency)]]*VLOOKUP(tblSalaries[[#This Row],[Currency]],tblXrate[],2,FALSE)","v":63234.398696963413},"Business Analyst","Analyst","Australia",{"$f":"VLOOKUP(tblSalaries[[#This Row],[Where do you work]],tblCountries[[Actual]:[Mapping]],2,FALSE)","v":"Australia"},6,"<=5","OCEANIA",{"$f":"(G962/365)/L962","v":28.874154656147677}]
[null,"ID0981","2012-05-28T07:46:28",260000,260000,"USD",{"$f":"tblSalaries[[#This Row],[clean Salary (in local currency)]]*VLOOKUP(tblSalaries[[#This Row],[Currency]],tblXrate[],2,FALSE)","v":260000},"CFO","CXO or Top Mgmt.","USA",{"$f":"VLOOKUP(tblSalaries[[#This Row],[Where do you work]],tblCountries[[Actual]:[Mapping]],2,FALSE)","v":"USA"},3,">5<=10","N. AMERICA",{"$f":"(G963/365)/L963","v":237.44292237442923}]
[null,"ID0983","2012-05-28T07:59:49",110000,110000,"AUD",{"$f":"tblSalaries[[#This Row],[clean Salary (in local currency)]]*VLOOKUP(tblSalaries[[#This Row],[Currency]],tblXrate[],2,FALSE)","v":112190.06220428993},"Sustainability Strategy Advisor","Manager","Australia",{"$f":"VLOOKUP(tblSalaries[[#This Row],[Where do you work]],tblCountries[[Actual]:[Mapping]],2,FALSE)","v":"Australia"},3,">5<=10","OCEANIA",{"$f":"(G964/365)/L964","v":102.45667781213693}]
[null,"ID0984","2012-05-28T08:03:10","AUD$70,000",70000,"AUD",{"$f":"tblSalaries[[#This Row],[clean Salary (in local currency)]]*VLOOKUP(tblSalaries[[#This Row],[Currency]],tblXrate[],2,FALSE)","v":71393.675948184507},"Business Development","Manager","Australia",{"$f":"VLOOKUP(tblSalaries[[#This Row],[Where do you work]],tblCountries[[Actual]:[Mapping]],2,FALSE)","v":"Australia"},6,">5<=10","OCEANIA",{"$f":"(G965/365)/L965","v":32.599852031134482}]
[null,"ID0985","2012-05-28T08:22:44","USD 85000.00",85000,"USD",{"$f":"tblSalaries[[#This Row],[clean Salary (in local currency)]]*VLOOKUP(tblSalaries[[#This Row],[Currency]],tblXrate[],2,FALSE)","v":85000},"Reporting and DB Analyist","Reporting","Australia",{"$f":"VLOOKUP(tblSalaries[[#This Row],[Where do you work]],tblCountries[[Actual]:[Mapping]],2,FALSE)","v":"Australia"},6,">5<=10","OCEANIA",{"$f":"(G966/365)/L966","v":38.812785388127857}]
[null,"ID0986","2012-05-28T08:26:43",94000,94000,"AUD",{"$f":"tblSalaries[[#This Row],[clean Salary (in local currency)]]*VLOOKUP(tblSalaries[[#This Row],[Currency]],tblXrate[],2,FALSE)","v":95871.50770184776},"Business Analyst","Analyst","Australia",{"$f":"VLOOKUP(tblSalaries[[#This Row],[Where do you work]],tblCountries[[Actual]:[Mapping]],2,FALSE)","v":"Australia"},3,"<=5","OCEANIA",{"$f":"(G967/365)/L967","v":87.553888312189727}]
[null,"ID0987","2012-05-28T08:35:32","A$107000",107000,"AUD",{"$f":"tblSalaries[[#This Row],[clean Salary (in local currency)]]*VLOOKUP(tblSalaries[[#This Row],[Currency]],tblXrate[],2,FALSE)","v":109130.33323508203},"Management Accountant","Manager","Australia",{"$f":"VLOOKUP(tblSalaries[[#This Row],[Where do you work]],tblCountries[[Actual]:[Mapping]],2,FALSE)","v":"Australia"},6,">20","OCEANIA",{"$f":"(G968/365)/L968","v":49.831202390448418}]
[null,"ID0988","2012-05-28T08:39:53",3000,36000,"USD",{"$f":"tblSalaries[[#This Row],[clean Salary (in local currency)]]*VLOOKUP(tblSalaries[[#This Row],[Currency]],tblXrate[],2,FALSE)","v":36000},"Project manager","Manager","malaysia",{"$f":"VLOOKUP(tblSalaries[[#This Row],[Where do you work]],tblCountries[[Actual]:[Mapping]],2,FALSE)","v":"malaysia"},2,"<=5","ASIA",{"$f":"(G969/365)/L969","v":49.315068493150683}]
[null,"ID0989","2012-05-28T08:41:13",120000,120000,"AUD",{"$f":"tblSalaries[[#This Row],[clean Salary (in local currency)]]*VLOOKUP(tblSalaries[[#This Row],[Currency]],tblXrate[],2,FALSE)","v":122389.15876831629},"analyst","Analyst","Australia",{"$f":"VLOOKUP(tblSalaries[[#This Row],[Where do you work]],tblCountries[[Actual]:[Mapping]],2,FALSE)","v":"Australia"},6,"<=5","OCEANIA",{"$f":"(G970/365)/L970","v":55.885460624801965}]
[null,"ID0990","2012-05-28T08:47:39","AU$52.000",52000,"AUD",{"$f":"tblSalaries[[#This Row],[clean Salary (in local currency)]]*VLOOKUP(tblSalaries[[#This Row],[Currency]],tblXrate[],2,FALSE)","v":53035.30213293706},"Shipping Administrator","Analyst","Australia",{"$f":"VLOOKUP(tblSalaries[[#This Row],[Where do you work]],tblCountries[[Actual]:[Mapping]],2,FALSE)","v":"Australia"},6,"<=5","OCEANIA",{"$f":"(G971/365)/L971","v":24.217032937414185}]
[null,"ID0991","2012-05-28T08:48:56",125000,125000,"USD",{"$f":"tblSalaries[[#This Row],[clean Salary (in local currency)]]*VLOOKUP(tblSalaries[[#This Row],[Currency]],tblXrate[],2,FALSE)","v":125000},"VP, Operational Analytics","CXO or Top Mgmt.","USA",{"$f":"VLOOKUP(tblSalaries[[#This Row],[Where do you work]],tblCountries[[Actual]:[Mapping]],2,FALSE)","v":"USA"},6,">5<=10","N. AMERICA",{"$f":"(G972/365)/L972","v":57.077625570776256}]
[null,"ID0992","2012-05-28T09:03:56",19000,19000,"USD",{"$f":"tblSalaries[[#This Row],[clean Salary (in local currency)]]*VLOOKUP(tblSalaries[[#This Row],[Currency]],tblXrate[],2,FALSE)","v":19000},"Finance analyst","Analyst","China",{"$f":"VLOOKUP(tblSalaries[[#This Row],[Where do you work]],tblCountries[[Actual]:[Mapping]],2,FALSE)","v":"china"},6,">5<=10","ASIA",{"$f":"(G973/365)/L973","v":8.6757990867579906}]
[null,"ID0993","2012-05-28T09:12:27",92000,92000,"AUD",{"$f":"tblSalaries[[#This Row],[clean Salary (in local currency)]]*VLOOKUP(tblSalaries[[#This Row],[Currency]],tblXrate[],2,FALSE)","v":93831.688389042494},"Finance analyst","Analyst","Australia",{"$f":"VLOOKUP(tblSalaries[[#This Row],[Where do you work]],tblCountries[[Actual]:[Mapping]],2,FALSE)","v":"Australia"},8,">5<=10","OCEANIA",{"$f":"(G974/365)/L974","v":32.134139859261126}]
[null,"ID0994","2012-05-28T09:21:56",100000,100000,"AUD",{"$f":"tblSalaries[[#This Row],[clean Salary (in local currency)]]*VLOOKUP(tblSalaries[[#This Row],[Currency]],tblXrate[],2,FALSE)","v":101990.96564026357},"Reporting Analyst","Analyst","Australia",{"$f":"VLOOKUP(tblSalaries[[#This Row],[Where do you work]],tblCountries[[Actual]:[Mapping]],2,FALSE)","v":"Australia"},6,">10<=20","OCEANIA",{"$f":"(G975/365)/L975","v":46.571217187334959}]
[null,"ID0995","2012-05-28T09:26:10",120000,120000,"AUD",{"$f":"tblSalaries[[#This Row],[clean Salary (in local currency)]]*VLOOKUP(tblSalaries[[#This Row],[Currency]],tblXrate[],2,FALSE)","v":122389.15876831629},"HSLP Data Analyst","Analyst","Australia",{"$f":"VLOOKUP(tblSalaries[[#This Row],[Where do you work]],tblCountries[[Actual]:[Mapping]],2,FALSE)","v":"Australia"},6,"<=5","OCEANIA",{"$f":"(G976/365)/L976","v":55.885460624801965}]
[null,"ID0996","2012-05-28T09:38:29",35000,35000,"CAD",{"$f":"tblSalaries[[#This Row],[clean Salary (in local currency)]]*VLOOKUP(tblSalaries[[#This Row],[Currency]],tblXrate[],2,FALSE)","v":34417.653306061438},"Reporting Analyst","Analyst","Canada",{"$f":"VLOOKUP(tblSalaries[[#This Row],[Where do you work]],tblCountries[[Actual]:[Mapping]],2,FALSE)","v":"Canada"},8,"<=5","N. AMERICA",{"$f":"(G977/365)/L977","v":11.786867570568985}]
[null,"ID0997","2012-05-28T09:40:10","US$12,000/year",12000,"USD",{"$f":"tblSalaries[[#This Row],[clean Salary (in local currency)]]*VLOOKUP(tblSalaries[[#This Row],[Currency]],tblXrate[],2,FALSE)","v":12000},"Manager","Manager","Asia",{"$f":"VLOOKUP(tblSalaries[[#This Row],[Where do you work]],tblCountries[[Actual]:[Mapping]],2,FALSE)","v":"Asia"},8,"<=5","ASIA",{"$f":"(G978/365)/L978","v":4.1095890410958908}]
[null,"ID0998","2012-05-28T09:41:04",204000,204000,"INR",{"$f":"tblSalaries[[#This Row],[clean Salary (in local currency)]]*VLOOKUP(tblSalaries[[#This Row],[Currency]],tblXrate[],2,FALSE)","v":3632.815004238284},"Retired Government Officer, having knowledge in excel.","Manager","India",{"$f":"VLOOKUP(tblSalaries[[#This Row],[Where do you work]],tblCountries[[Actual]:[Mapping]],2,FALSE)","v":"India"},6,"<=5","ASIA",{"$f":"(G979/365)/L979","v":1.658819636638486}]
[null,"ID0999","2012-05-28T09:43:33","1200000 INR",1200000,"INR",{"$f":"tblSalaries[[#This Row],[clean Salary (in local currency)]]*VLOOKUP(tblSalaries[[#This Row],[Currency]],tblXrate[],2,FALSE)","v":21369.500024931083},"Senior Consultant","Consultant","India",{"$f":"VLOOKUP(tblSalaries[[#This Row],[Where do you work]],tblCountries[[Actual]:[Mapping]],2,FALSE)","v":"India"},8,">5<=10","ASIA",{"$f":"(G980/365)/L980","v":7.3183219263462611}]
[null,"ID1000","2012-05-28T09:51:24","Rs. 500000",500000,"INR",{"$f":"tblSalaries[[#This Row],[clean Salary (in local currency)]]*VLOOKUP(tblSalaries[[#This Row],[Currency]],tblXrate[],2,FALSE)","v":8903.9583437212841},"Business Analyst","Analyst","India",{"$f":"VLOOKUP(tblSalaries[[#This Row],[Where do you work]],tblCountries[[Actual]:[Mapping]],2,FALSE)","v":"India"},6,">5<=10","ASIA",{"$f":"(G981/365)/L981","v":4.0657344035256999}]
[null,"ID1001","2012-05-28T10:15:27","RM48,000",48000,"MYR",{"$f":"tblSalaries[[#This Row],[clean Salary (in local currency)]]*VLOOKUP(tblSalaries[[#This Row],[Currency]],tblXrate[],2,FALSE)","v":15206.427249917633},"Credit Risk Manager","Manager","Malaysia",{"$f":"VLOOKUP(tblSalaries[[#This Row],[Where do you work]],tblCountries[[Actual]:[Mapping]],2,FALSE)","v":"malaysia"},6,"<=5","ASIA",{"$f":"(G982/365)/L982","v":6.943574086720381}]
[null,"ID1002","2012-05-28T10:21:58","NZD 180000",180000,"NZD",{"$f":"tblSalaries[[#This Row],[clean Salary (in local currency)]]*VLOOKUP(tblSalaries[[#This Row],[Currency]],tblXrate[],2,FALSE)","v":143565.85684888897},"Commercial Manager","Manager","New Zealand",{"$f":"VLOOKUP(tblSalaries[[#This Row],[Where do you work]],tblCountries[[Actual]:[Mapping]],2,FALSE)","v":"New Zealand"},6,">20","OCEANIA",{"$f":"(G983/365)/L983","v":65.555185775748384}]
[null,"ID1003","2012-05-28T10:25:51","Rs.5,45,000",545000,"INR",{"$f":"tblSalaries[[#This Row],[clean Salary (in local currency)]]*VLOOKUP(tblSalaries[[#This Row],[Currency]],tblXrate[],2,FALSE)","v":9705.3145946561999},"Assistant Manager","Manager","India",{"$f":"VLOOKUP(tblSalaries[[#This Row],[Where do you work]],tblCountries[[Actual]:[Mapping]],2,FALSE)","v":"India"},3,">5<=10","ASIA",{"$f":"(G984/365)/L984","v":8.863300999686027}]
[null,"ID1004","2012-05-28T10:27:45","Rs.10,00,000",1000000,"INR",{"$f":"tblSalaries[[#This Row],[clean Salary (in local currency)]]*VLOOKUP(tblSalaries[[#This Row],[Currency]],tblXrate[],2,FALSE)","v":17807.916687442568},"Credit Manager - Loans","Manager","India",{"$f":"VLOOKUP(tblSalaries[[#This Row],[Where do you work]],tblCountries[[Actual]:[Mapping]],2,FALSE)","v":"India"},8,">5<=10","ASIA",{"$f":"(G985/365)/L985","v":6.0986016052885503}]
[null,"ID1005","2012-05-28T10:27:48",180000,180000,"INR",{"$f":"tblSalaries[[#This Row],[clean Salary (in local currency)]]*VLOOKUP(tblSalaries[[#This Row],[Currency]],tblXrate[],2,FALSE)","v":3205.4250037396623},"Audit executive","Analyst","INDIA",{"$f":"VLOOKUP(tblSalaries[[#This Row],[Where do you work]],tblCountries[[Actual]:[Mapping]],2,FALSE)","v":"India"},6,">5<=10","ASIA",{"$f":"(G986/365)/L986","v":1.4636643852692524}]
[null,"ID1006","2012-05-28T10:29:41","$45,000  USD",45000,"USD",{"$f":"tblSalaries[[#This Row],[clean Salary (in local currency)]]*VLOOKUP(tblSalaries[[#This Row],[Currency]],tblXrate[],2,FALSE)","v":45000},"Staff accountant -- Auditing","Accountant","USA",{"$f":"VLOOKUP(tblSalaries[[#This Row],[Where do you work]],tblCountries[[Actual]:[Mapping]],2,FALSE)","v":"USA"},8,"<=5","N. AMERICA",{"$f":"(G987/365)/L987","v":15.41095890410959}]
[null,"ID1007","2012-05-28T10:38:53",700000,700000,"INR",{"$f":"tblSalaries[[#This Row],[clean Salary (in local currency)]]*VLOOKUP(tblSalaries[[#This Row],[Currency]],tblXrate[],2,FALSE)","v":12465.541681209797},"Asst Manager - Quality","Manager","India",{"$f":"VLOOKUP(tblSalaries[[#This Row],[Where do you work]],tblCountries[[Actual]:[Mapping]],2,FALSE)","v":"India"},3,">5<=10","ASIA",{"$f":"(G988/365)/L988","v":11.38405632987196}]
[null,"ID1008","2012-05-28T10:41:38",94000,94000,"AUD",{"$f":"tblSalaries[[#This Row],[clean Salary (in local currency)]]*VLOOKUP(tblSalaries[[#This Row],[Currency]],tblXrate[],2,FALSE)","v":95871.50770184776},"Principal Analyst","Analyst","Australia",{"$f":"VLOOKUP(tblSalaries[[#This Row],[Where do you work]],tblCountries[[Actual]:[Mapping]],2,FALSE)","v":"Australia"},3,">10<=20","OCEANIA",{"$f":"(G989/365)/L989","v":87.553888312189727}]
[null,"ID1009","2012-05-28T10:42:08",170000,170000,"AUD",{"$f":"tblSalaries[[#This Row],[clean Salary (in local currency)]]*VLOOKUP(tblSalaries[[#This Row],[Currency]],tblXrate[],2,FALSE)","v":173384.64158844808},"Business Consultant","Consultant","Australia",{"$f":"VLOOKUP(tblSalaries[[#This Row],[Where do you work]],tblCountries[[Actual]:[Mapping]],2,FALSE)","v":"Australia"},3,">5<=10","OCEANIA",{"$f":"(G990/365)/L990","v":158.34213843693888}]
[null,"ID1010","2012-05-28T11:11:53",650000,650000,"INR",{"$f":"tblSalaries[[#This Row],[clean Salary (in local currency)]]*VLOOKUP(tblSalaries[[#This Row],[Currency]],tblXrate[],2,FALSE)","v":11575.14584683767},"Ass Research  Manager","Manager","India",{"$f":"VLOOKUP(tblSalaries[[#This Row],[Where do you work]],tblCountries[[Actual]:[Mapping]],2,FALSE)","v":"India"},3,"<=5","ASIA",{"$f":"(G991/365)/L991","v":10.570909449166821}]
[null,"ID1011","2012-05-28T11:31:20",18000,18000,"USD",{"$f":"tblSalaries[[#This Row],[clean Salary (in local currency)]]*VLOOKUP(tblSalaries[[#This Row],[Currency]],tblXrate[],2,FALSE)","v":18000},"Data Specialist","Specialist","India",{"$f":"VLOOKUP(tblSalaries[[#This Row],[Where do you work]],tblCountries[[Actual]:[Mapping]],2,FALSE)","v":"India"},8,">5<=10","ASIA",{"$f":"(G992/365)/L992","v":6.1643835616438354}]
[null,"ID1012","2012-05-28T11:33:05","AUD$70,000",70000,"AUD",{"$f":"tblSalaries[[#This Row],[clean Salary (in local currency)]]*VLOOKUP(tblSalaries[[#This Row],[Currency]],tblXrate[],2,FALSE)","v":71393.675948184507},"Director","CXO or Top Mgmt.","Australia",{"$f":"VLOOKUP(tblSalaries[[#This Row],[Where do you work]],tblCountries[[Actual]:[Mapping]],2,FALSE)","v":"Australia"},8,"<=5","OCEANIA",{"$f":"(G993/365)/L993","v":24.44988902335086}]
[null,"ID1013","2012-05-28T11:33:07","350000 Rs",350000,"INR",{"$f":"tblSalaries[[#This Row],[clean Salary (in local currency)]]*VLOOKUP(tblSalaries[[#This Row],[Currency]],tblXrate[],2,FALSE)","v":6232.7708406048987},"Data Analyst","Analyst","India",{"$f":"VLOOKUP(tblSalaries[[#This Row],[Where do you work]],tblCountries[[Actual]:[Mapping]],2,FALSE)","v":"India"},6,"<=5","ASIA",{"$f":"(G994/365)/L994","v":2.84601408246799}]
[null,"ID1014","2012-05-28T11:37:17","LKR 240000",240000,"LKR",{"$f":"tblSalaries[[#This Row],[clean Salary (in local currency)]]*VLOOKUP(tblSalaries[[#This Row],[Currency]],tblXrate[],2,FALSE)","v":1805.7739622442759},"Management Trainee","Manager","Sri Lanka",{"$f":"VLOOKUP(tblSalaries[[#This Row],[Where do you work]],tblCountries[[Actual]:[Mapping]],2,FALSE)","v":"Sri Lanka"},6,"<=5","ASIA",{"$f":"(G995/365)/L995","v":0.82455432065948664}]
[null,"ID1015","2012-05-28T11:39:01","Rs.6.4 lakhs",640000,"INR",{"$f":"tblSalaries[[#This Row],[clean Salary (in local currency)]]*VLOOKUP(tblSalaries[[#This Row],[Currency]],tblXrate[],2,FALSE)","v":11397.066679963244},"Sr.Analyst - Process Excellence","Analyst","India",{"$f":"VLOOKUP(tblSalaries[[#This Row],[Where do you work]],tblCountries[[Actual]:[Mapping]],2,FALSE)","v":"India"},8,">5<=10","ASIA",{"$f":"(G996/365)/L996","v":3.9031050273846724}]
[null,"ID1016","2012-05-28T11:41:11",15000,15000,"USD",{"$f":"tblSalaries[[#This Row],[clean Salary (in local currency)]]*VLOOKUP(tblSalaries[[#This Row],[Currency]],tblXrate[],2,FALSE)","v":15000},"Operations Management","Manager","India",{"$f":"VLOOKUP(tblSalaries[[#This Row],[Where do you work]],tblCountries[[Actual]:[Mapping]],2,FALSE)","v":"India"},6,"<=5","ASIA",{"$f":"(G997/365)/L997","v":6.8493150684931505}]
[null,"ID1017","2012-05-28T11:58:39","R308 500",308500,"ZAR",{"$f":"tblSalaries[[#This Row],[clean Salary (in local currency)]]*VLOOKUP(tblSalaries[[#This Row],[Currency]],tblXrate[],2,FALSE)","v":37612.869087708088},"Management Information Consultant","Manager","South Africa",{"$f":"VLOOKUP(tblSalaries[[#This Row],[Where do you work]],tblCountries[[Actual]:[Mapping]],2,FALSE)","v":"South Africa"},8,"<=5","AFRICA",{"$f":"(G998/365)/L998","v":12.881119550584962}]
[null,"ID1018","2012-05-28T12:00:14",3.65,365000,"INR",{"$f":"tblSalaries[[#This Row],[clean Salary (in local currency)]]*VLOOKUP(tblSalaries[[#This Row],[Currency]],tblXrate[],2,FALSE)","v":6499.8895909165376},"associate analyst","Analyst","India",{"$f":"VLOOKUP(tblSalaries[[#This Row],[Where do you work]],tblCountries[[Actual]:[Mapping]],2,FALSE)","v":"India"},6,"<=5","ASIA",{"$f":"(G999/365)/L999","v":2.9679861145737614}]
[null,"ID1019","2012-05-28T12:09:37","usd 20.000",20000,"USD",{"$f":"tblSalaries[[#This Row],[clean Salary (in local currency)]]*VLOOKUP(tblSalaries[[#This Row],[Currency]],tblXrate[],2,FALSE)","v":20000},"Head of Financial Reporting","Reporting","Paraguay",{"$f":"VLOOKUP(tblSalaries[[#This Row],[Where do you work]],tblCountries[[Actual]:[Mapping]],2,FALSE)","v":"Paraguay"},8,">5<=10"," S. AMERICA",{"$f":"(G1000/365)/L1000","v":6.8493150684931505}]
[null,"ID1020","2012-05-28T12:10:09",7265,7265,"USD",{"$f":"tblSalaries[[#This Row],[clean Salary (in local currency)]]*VLOOKUP(tblSalaries[[#This Row],[Currency]],tblXrate[],2,FALSE)","v":7265},"Softwar Engineer","Engineer","India",{"$f":"VLOOKUP(tblSalaries[[#This Row],[Where do you work]],tblCountries[[Actual]:[Mapping]],2,FALSE)","v":"India"},6,">5<=10","ASIA",{"$f":"(G1001/365)/L1001","v":3.317351598173516}]
[null,"ID1021","2012-05-28T12:15:53","SGD92,000",92000,"SGD",{"$f":"tblSalaries[[#This Row],[clean Salary (in local currency)]]*VLOOKUP(tblSalaries[[#This Row],[Currency]],tblXrate[],2,FALSE)","v":72571.80269935554},"Finance Manager","Manager","Singapore",{"$f":"VLOOKUP(tblSalaries[[#This Row],[Where do you work]],tblCountries[[Actual]:[Mapping]],2,FALSE)","v":"Singapore"},8,">10<=20","ASIA",{"$f":"(G1002/365)/L1002","v":24.853357088820392}]
[null,"ID1023","2012-05-28T12:20:48","INR 4.5 Lac",450000,"INR",{"$f":"tblSalaries[[#This Row],[clean Salary (in local currency)]]*VLOOKUP(tblSalaries[[#This Row],[Currency]],tblXrate[],2,FALSE)","v":8013.5625093491553},"Asst. Manager","Manager","India",{"$f":"VLOOKUP(tblSalaries[[#This Row],[Where do you work]],tblCountries[[Actual]:[Mapping]],2,FALSE)","v":"India"},8,">10<=20","ASIA",{"$f":"(G1003/365)/L1003","v":2.7443707223798479}]
[null,"ID1024","2012-05-28T12:26:01","Rs.5.7 lacs",570000,"INR",{"$f":"tblSalaries[[#This Row],[clean Salary (in local currency)]]*VLOOKUP(tblSalaries[[#This Row],[Currency]],tblXrate[],2,FALSE)","v":10150.512511842264},"MIS & Analysis","Analyst","India",{"$f":"VLOOKUP(tblSalaries[[#This Row],[Where do you work]],tblCountries[[Actual]:[Mapping]],2,FALSE)","v":"India"},6,"<=5","ASIA",{"$f":"(G1004/365)/L1004","v":4.6349372200192986}]
[null,"ID1025","2012-05-28T12:26:42",65000,65000,"USD",{"$f":"tblSalaries[[#This Row],[clean Salary (in local currency)]]*VLOOKUP(tblSalaries[[#This Row],[Currency]],tblXrate[],2,FALSE)","v":65000},"Controller","Controller","USA",{"$f":"VLOOKUP(tblSalaries[[#This Row],[Where do you work]],tblCountries[[Actual]:[Mapping]],2,FALSE)","v":"USA"},6,">5<=10","N. AMERICA",{"$f":"(G1005/365)/L1005","v":29.680365296803654}]
[null,"ID1026","2012-05-28T12:32:12",300000,300000,"PKR",{"$f":"tblSalaries[[#This Row],[clean Salary (in local currency)]]*VLOOKUP(tblSalaries[[#This Row],[Currency]],tblXrate[],2,FALSE)","v":3184.2266150397395},"Banker","Manager","Pakistan",{"$f":"VLOOKUP(tblSalaries[[#This Row],[Where do you work]],tblCountries[[Actual]:[Mapping]],2,FALSE)","v":"Pakistan"},6,"<=5","ASIA",{"$f":"(G1006/365)/L1006","v":1.4539847557259085}]
[null,"ID1027","2012-05-28T12:35:38","Net- 56000Rs, Gross - 61000Rs",612000,"INR",{"$f":"tblSalaries[[#This Row],[clean Salary (in local currency)]]*VLOOKUP(tblSalaries[[#This Row],[Currency]],tblXrate[],2,FALSE)","v":10898.445012714852},"Asst. Manager ","Manager","India",{"$f":"VLOOKUP(tblSalaries[[#This Row],[Where do you work]],tblCountries[[Actual]:[Mapping]],2,FALSE)","v":"India"},3,">10<=20","ASIA",{"$f":"(G1007/365)/L1007","v":9.9529178198309154}]
[null,"ID1028","2012-05-28T12:40:26",900,10800,"USD",{"$f":"tblSalaries[[#This Row],[clean Salary (in local currency)]]*VLOOKUP(tblSalaries[[#This Row],[Currency]],tblXrate[],2,FALSE)","v":10800},"Project Managment Office","Manager","Pakistan",{"$f":"VLOOKUP(tblSalaries[[#This Row],[Where do you work]],tblCountries[[Actual]:[Mapping]],2,FALSE)","v":"Pakistan"},8,"<=5","ASIA",{"$f":"(G1008/365)/L1008","v":3.6986301369863015}]
[null,"ID1029","2012-05-28T12:47:20",120000,120000,"INR",{"$f":"tblSalaries[[#This Row],[clean Salary (in local currency)]]*VLOOKUP(tblSalaries[[#This Row],[Currency]],tblXrate[],2,FALSE)","v":2136.9500024931081},"Audit Assistant","Analyst","India",{"$f":"VLOOKUP(tblSalaries[[#This Row],[Where do you work]],tblCountries[[Actual]:[Mapping]],2,FALSE)","v":"India"},3,"<=5","ASIA",{"$f":"(G1009/365)/L1009","v":1.9515525136923362}]
[null,"ID1030","2012-05-28T12:51:53",45000,45000,"USD",{"$f":"tblSalaries[[#This Row],[clean Salary (in local currency)]]*VLOOKUP(tblSalaries[[#This Row],[Currency]],tblXrate[],2,FALSE)","v":45000},"Engineer","Engineer","singapore",{"$f":"VLOOKUP(tblSalaries[[#This Row],[Where do you work]],tblCountries[[Actual]:[Mapping]],2,FALSE)","v":"Singapore"},3,"<=5","ASIA",{"$f":"(G1010/365)/L1010","v":41.095890410958908}]
[null,"ID1031","2012-05-28T12:57:13","Rs. 4,00,000/-",400000,"INR",{"$f":"tblSalaries[[#This Row],[clean Salary (in local currency)]]*VLOOKUP(tblSalaries[[#This Row],[Currency]],tblXrate[],2,FALSE)","v":7123.1666749770275},"Sr. Executive","Manager","India",{"$f":"VLOOKUP(tblSalaries[[#This Row],[Where do you work]],tblCountries[[Actual]:[Mapping]],2,FALSE)","v":"India"},3,"<=5","ASIA",{"$f":"(G1011/365)/L1011","v":6.5051750456411206}]
[null,"ID1032","2012-05-28T12:58:44","3 Lakh ",300000,"INR",{"$f":"tblSalaries[[#This Row],[clean Salary (in local currency)]]*VLOOKUP(tblSalaries[[#This Row],[Currency]],tblXrate[],2,FALSE)","v":5342.3750062327708},"ACCOUNTS","Accountant","India",{"$f":"VLOOKUP(tblSalaries[[#This Row],[Where do you work]],tblCountries[[Actual]:[Mapping]],2,FALSE)","v":"India"},3,"<=5","ASIA",{"$f":"(G1012/365)/L1012","v":4.8788812842308404}]
[null,"ID1033","2012-05-28T12:59:59",18000,18000,"USD",{"$f":"tblSalaries[[#This Row],[clean Salary (in local currency)]]*VLOOKUP(tblSalaries[[#This Row],[Currency]],tblXrate[],2,FALSE)","v":18000},"Area Sales Manager","Manager","India",{"$f":"VLOOKUP(tblSalaries[[#This Row],[Where do you work]],tblCountries[[Actual]:[Mapping]],2,FALSE)","v":"India"},3,"<=5","ASIA",{"$f":"(G1013/365)/L1013","v":16.43835616438356}]
[null,"ID1034","2012-05-28T13:01:42","PK RS 456000",456000,"PKR",{"$f":"tblSalaries[[#This Row],[clean Salary (in local currency)]]*VLOOKUP(tblSalaries[[#This Row],[Currency]],tblXrate[],2,FALSE)","v":4840.0244548604041},"Strategic Planning Executive","Manager","Pakistan",{"$f":"VLOOKUP(tblSalaries[[#This Row],[Where do you work]],tblCountries[[Actual]:[Mapping]],2,FALSE)","v":"Pakistan"},6,"<=5","ASIA",{"$f":"(G1014/365)/L1014","v":2.2100568287033808}]
[null,"ID1035","2012-05-28T13:02:56","Rs 4,20,000 ",420000,"INR",{"$f":"tblSalaries[[#This Row],[clean Salary (in local currency)]]*VLOOKUP(tblSalaries[[#This Row],[Currency]],tblXrate[],2,FALSE)","v":7479.3250087258784},"Analyst","Analyst","India",{"$f":"VLOOKUP(tblSalaries[[#This Row],[Where do you work]],tblCountries[[Actual]:[Mapping]],2,FALSE)","v":"India"},3,">5<=10","ASIA",{"$f":"(G1015/365)/L1015","v":6.8304337979231766}]
[null,"ID1036","2012-05-28T13:05:39",210000,210000,"INR",{"$f":"tblSalaries[[#This Row],[clean Salary (in local currency)]]*VLOOKUP(tblSalaries[[#This Row],[Currency]],tblXrate[],2,FALSE)","v":3739.6625043629392},"MIS executive","Reporting","India",{"$f":"VLOOKUP(tblSalaries[[#This Row],[Where do you work]],tblCountries[[Actual]:[Mapping]],2,FALSE)","v":"India"},8,"<=5","ASIA",{"$f":"(G1016/365)/L1016","v":1.2807063371105956}]
[null,"ID1037","2012-05-28T13:06:37",3500,42000,"USD",{"$f":"tblSalaries[[#This Row],[clean Salary (in local currency)]]*VLOOKUP(tblSalaries[[#This Row],[Currency]],tblXrate[],2,FALSE)","v":42000},"Category Operations Supv.","Manager","Kuwait",{"$f":"VLOOKUP(tblSalaries[[#This Row],[Where do you work]],tblCountries[[Actual]:[Mapping]],2,FALSE)","v":"Kuwait"},8,"<=5","ASIA",{"$f":"(G1017/365)/L1017","v":14.383561643835616}]
[null,"ID1038","2012-05-28T13:10:02",28000,28000,"USD",{"$f":"tblSalaries[[#This Row],[clean Salary (in local currency)]]*VLOOKUP(tblSalaries[[#This Row],[Currency]],tblXrate[],2,FALSE)","v":28000},"BI","Reporting","India",{"$f":"VLOOKUP(tblSalaries[[#This Row],[Where do you work]],tblCountries[[Actual]:[Mapping]],2,FALSE)","v":"India"},3,"<=5","ASIA",{"$f":"(G1018/365)/L1018","v":25.570776255707759}]
[null,"ID1039","2012-05-28T13:11:42",6000,6000,"USD",{"$f":"tblSalaries[[#This Row],[clean Salary (in local currency)]]*VLOOKUP(tblSalaries[[#This Row],[Currency]],tblXrate[],2,FALSE)","v":6000},"Manager","Manager","India",{"$f":"VLOOKUP(tblSalaries[[#This Row],[Where do you work]],tblCountries[[Actual]:[Mapping]],2,FALSE)","v":"India"},6,"<=5","ASIA",{"$f":"(G1019/365)/L1019","v":2.7397260273972606}]
[null,"ID1040","2012-05-28T13:26:22",55,55000,"NZD",{"$f":"tblSalaries[[#This Row],[clean Salary (in local currency)]]*VLOOKUP(tblSalaries[[#This Row],[Currency]],tblXrate[],2,FALSE)","v":43867.345148271634},"Financial Analyst","Analyst","New Zealand",{"$f":"VLOOKUP(tblSalaries[[#This Row],[Where do you work]],tblCountries[[Actual]:[Mapping]],2,FALSE)","v":"New Zealand"},8,">5<=10","OCEANIA",{"$f":"(G1020/365)/L1020","v":15.02306340694234}]
[null,"ID1041","2012-05-28T13:27:46","10 Lakh",1000000,"INR",{"$f":"tblSalaries[[#This Row],[clean Salary (in local currency)]]*VLOOKUP(tblSalaries[[#This Row],[Currency]],tblXrate[],2,FALSE)","v":17807.916687442568},"Teaching","Analyst","India",{"$f":"VLOOKUP(tblSalaries[[#This Row],[Where do you work]],tblCountries[[Actual]:[Mapping]],2,FALSE)","v":"India"},2,">20","ASIA",{"$f":"(G1021/365)/L1021","v":24.394406421154201}]
[null,"ID1042","2012-05-28T13:37:10",600000,600000,"INR",{"$f":"tblSalaries[[#This Row],[clean Salary (in local currency)]]*VLOOKUP(tblSalaries[[#This Row],[Currency]],tblXrate[],2,FALSE)","v":10684.750012465542},"Business Analyst","Analyst","India",{"$f":"VLOOKUP(tblSalaries[[#This Row],[Where do you work]],tblCountries[[Actual]:[Mapping]],2,FALSE)","v":"India"},8,">10<=20","ASIA",{"$f":"(G1022/365)/L1022","v":3.6591609631731306}]
[null,"ID1043","2012-05-28T13:40:58","USD 60000",60000,"USD",{"$f":"tblSalaries[[#This Row],[clean Salary (in local currency)]]*VLOOKUP(tblSalaries[[#This Row],[Currency]],tblXrate[],2,FALSE)","v":60000},"Excel Developer","Consultant","Finland",{"$f":"VLOOKUP(tblSalaries[[#This Row],[Where do you work]],tblCountries[[Actual]:[Mapping]],2,FALSE)","v":"Finland"},8,"<=5","EUROPE",{"$f":"(G1023/365)/L1023","v":20.547945205479451}]
[null,"ID1044","2012-05-28T13:41:33",476000,476000,"INR",{"$f":"tblSalaries[[#This Row],[clean Salary (in local currency)]]*VLOOKUP(tblSalaries[[#This Row],[Currency]],tblXrate[],2,FALSE)","v":8476.5683432226633},"Report Specialist","Reporting","India",{"$f":"VLOOKUP(tblSalaries[[#This Row],[Where do you work]],tblCountries[[Actual]:[Mapping]],2,FALSE)","v":"India"},6,">5<=10","ASIA",{"$f":"(G1024/365)/L1024","v":3.8705791521564676}]
[null,"ID1045","2012-05-28T13:42:12",725,8700,"USD",{"$f":"tblSalaries[[#This Row],[clean Salary (in local currency)]]*VLOOKUP(tblSalaries[[#This Row],[Currency]],tblXrate[],2,FALSE)","v":8700},"Project Controlling (MIS Reports)","Controller","India",{"$f":"VLOOKUP(tblSalaries[[#This Row],[Where do you work]],tblCountries[[Actual]:[Mapping]],2,FALSE)","v":"India"},3,">5<=10","ASIA",{"$f":"(G1025/365)/L1025","v":7.9452054794520555}]
[null,"ID1046","2012-05-28T13:42:35","2,00,000 INR",200000,"INR",{"$f":"tblSalaries[[#This Row],[clean Salary (in local currency)]]*VLOOKUP(tblSalaries[[#This Row],[Currency]],tblXrate[],2,FALSE)","v":3561.5833374885137},"Monitoring & evaluation officer","Manager","India",{"$f":"VLOOKUP(tblSalaries[[#This Row],[Where do you work]],tblCountries[[Actual]:[Mapping]],2,FALSE)","v":"India"},8,">5<=10","ASIA",{"$f":"(G1026/365)/L1026","v":1.2197203210577101}]
[null,"ID1047","2012-05-28T13:43:01",1.8,180000,"INR",{"$f":"tblSalaries[[#This Row],[clean Salary (in local currency)]]*VLOOKUP(tblSalaries[[#This Row],[Currency]],tblXrate[],2,FALSE)","v":3205.4250037396623},"MIS EXCUTIVE","Reporting","India",{"$f":"VLOOKUP(tblSalaries[[#This Row],[Where do you work]],tblCountries[[Actual]:[Mapping]],2,FALSE)","v":"India"},8,"<=5","ASIA",{"$f":"(G1027/365)/L1027","v":1.0977482889519392}]
[null,"ID1048","2012-05-28T13:46:17",252000,252000,"INR",{"$f":"tblSalaries[[#This Row],[clean Salary (in local currency)]]*VLOOKUP(tblSalaries[[#This Row],[Currency]],tblXrate[],2,FALSE)","v":4487.5950052355274},"Accounts Exec","Accountant","India",{"$f":"VLOOKUP(tblSalaries[[#This Row],[Where do you work]],tblCountries[[Actual]:[Mapping]],2,FALSE)","v":"India"},2,"<=5","ASIA",{"$f":"(G1028/365)/L1028","v":6.1473904181308594}]
[null,"ID1049","2012-05-28T13:54:57","Rs. 700000",700000,"INR",{"$f":"tblSalaries[[#This Row],[clean Salary (in local currency)]]*VLOOKUP(tblSalaries[[#This Row],[Currency]],tblXrate[],2,FALSE)","v":12465.541681209797},"Credit Analyst","Analyst","India",{"$f":"VLOOKUP(tblSalaries[[#This Row],[Where do you work]],tblCountries[[Actual]:[Mapping]],2,FALSE)","v":"India"},6,"<=5","ASIA",{"$f":"(G1029/365)/L1029","v":5.6920281649359801}]
[null,"ID1050","2012-05-28T14:00:56",194,2400,"USD",{"$f":"tblSalaries[[#This Row],[clean Salary (in local currency)]]*VLOOKUP(tblSalaries[[#This Row],[Currency]],tblXrate[],2,FALSE)","v":2400},"Accounts Officer","Accountant","Pakistan",{"$f":"VLOOKUP(tblSalaries[[#This Row],[Where do you work]],tblCountries[[Actual]:[Mapping]],2,FALSE)","v":"Pakistan"},3,">10<=20","ASIA",{"$f":"(G1030/365)/L1030","v":2.1917808219178081}]
[null,"ID1051","2012-05-28T14:11:34","55000 usd",55000,"USD",{"$f":"tblSalaries[[#This Row],[clean Salary (in local currency)]]*VLOOKUP(tblSalaries[[#This Row],[Currency]],tblXrate[],2,FALSE)","v":55000},"Economist","Reporting","Israel",{"$f":"VLOOKUP(tblSalaries[[#This Row],[Where do you work]],tblCountries[[Actual]:[Mapping]],2,FALSE)","v":"Israel"},6,">5<=10","ASIA",{"$f":"(G1031/365)/L1031","v":25.114155251141554}]
[null,"ID1052","2012-05-28T14:12:35","12000 $",12000,"USD",{"$f":"tblSalaries[[#This Row],[clean Salary (in local currency)]]*VLOOKUP(tblSalaries[[#This Row],[Currency]],tblXrate[],2,FALSE)","v":12000},"planning & Sales Control emploee","Controller","Iran",{"$f":"VLOOKUP(tblSalaries[[#This Row],[Where do you work]],tblCountries[[Actual]:[Mapping]],2,FALSE)","v":"iran"},6,"<=5","ASIA",{"$f":"(G1032/365)/L1032","v":5.4794520547945211}]
[null,"ID1053","2012-05-28T14:12:50",43500,43500,"EUR",{"$f":"tblSalaries[[#This Row],[clean Salary (in local currency)]]*VLOOKUP(tblSalaries[[#This Row],[Currency]],tblXrate[],2,FALSE)","v":55262.375596134938},"RRHH","Manager","SPAIN",{"$f":"VLOOKUP(tblSalaries[[#This Row],[Where do you work]],tblCountries[[Actual]:[Mapping]],2,FALSE)","v":"Spain"},3,">5<=10","EUROPE",{"$f":"(G1033/365)/L1033","v":50.467922918844693}]
[null,"ID1054","2012-05-28T14:12:52","Rs. 1200000",1200000,"INR",{"$f":"tblSalaries[[#This Row],[clean Salary (in local currency)]]*VLOOKUP(tblSalaries[[#This Row],[Currency]],tblXrate[],2,FALSE)","v":21369.500024931083},"Management Trainee","Manager","India",{"$f":"VLOOKUP(tblSalaries[[#This Row],[Where do you work]],tblCountries[[Actual]:[Mapping]],2,FALSE)","v":"India"},3,"<=5","ASIA",{"$f":"(G1034/365)/L1034","v":19.515525136923362}]
[null,"ID1055","2012-05-28T14:18:40",26000,26000,"GBP",{"$f":"tblSalaries[[#This Row],[clean Salary (in local currency)]]*VLOOKUP(tblSalaries[[#This Row],[Currency]],tblXrate[],2,FALSE)","v":40980.635073749385},"Consultant","Consultant","UK",{"$f":"VLOOKUP(tblSalaries[[#This Row],[Where do you work]],tblCountries[[Actual]:[Mapping]],2,FALSE)","v":"UK"},8,">5<=10","EUROPE",{"$f":"(G1035/365)/L1035","v":14.034464066352529}]
[null,"ID1056","2012-05-28T14:21:27",50000,50000,"AUD",{"$f":"tblSalaries[[#This Row],[clean Salary (in local currency)]]*VLOOKUP(tblSalaries[[#This Row],[Currency]],tblXrate[],2,FALSE)","v":50995.482820131787},"BA","Analyst","Australia",{"$f":"VLOOKUP(tblSalaries[[#This Row],[Where do you work]],tblCountries[[Actual]:[Mapping]],2,FALSE)","v":"Australia"},6,"<=5","OCEANIA",{"$f":"(G1036/365)/L1036","v":23.285608593667479}]
[null,"ID1057","2012-05-28T14:22:02","16000 euro",16000,"EUR",{"$f":"tblSalaries[[#This Row],[clean Salary (in local currency)]]*VLOOKUP(tblSalaries[[#This Row],[Currency]],tblXrate[],2,FALSE)","v":20326.391023865726},"Management Information Systems","Manager","Greece",{"$f":"VLOOKUP(tblSalaries[[#This Row],[Where do you work]],tblCountries[[Actual]:[Mapping]],2,FALSE)","v":"Greece"},8,">10<=20","EUROPE",{"$f":"(G1037/365)/L1037","v":6.9610928163923722}]
[null,"ID1058","2012-05-28T14:23:57",1000,12000,"USD",{"$f":"tblSalaries[[#This Row],[clean Salary (in local currency)]]*VLOOKUP(tblSalaries[[#This Row],[Currency]],tblXrate[],2,FALSE)","v":12000},"consultant","Consultant","India",{"$f":"VLOOKUP(tblSalaries[[#This Row],[Where do you work]],tblCountries[[Actual]:[Mapping]],2,FALSE)","v":"India"},3,">5<=10","ASIA",{"$f":"(G1038/365)/L1038","v":10.958904109589042}]
[null,"ID1059","2012-05-28T14:30:05","ZAR240000",240000,"ZAR",{"$f":"tblSalaries[[#This Row],[clean Salary (in local currency)]]*VLOOKUP(tblSalaries[[#This Row],[Currency]],tblXrate[],2,FALSE)","v":29261.227167098674},"Bookkeeper","Accountant","South Africa",{"$f":"VLOOKUP(tblSalaries[[#This Row],[Where do you work]],tblCountries[[Actual]:[Mapping]],2,FALSE)","v":"South Africa"},3,">10<=20","AFRICA",{"$f":"(G1039/365)/L1039","v":26.722581887761347}]
[null,"ID1060","2012-05-28T14:32:11",120000,120000,"ZAR",{"$f":"tblSalaries[[#This Row],[clean Salary (in local currency)]]*VLOOKUP(tblSalaries[[#This Row],[Currency]],tblXrate[],2,FALSE)","v":14630.613583549337},"VP","CXO or Top Mgmt.","South Africa",{"$f":"VLOOKUP(tblSalaries[[#This Row],[Where do you work]],tblCountries[[Actual]:[Mapping]],2,FALSE)","v":"South Africa"},6,">5<=10","AFRICA",{"$f":"(G1040/365)/L1040","v":6.6806454719403368}]
[null,"ID1061","2012-05-28T14:34:34",408000,408000,"INR",{"$f":"tblSalaries[[#This Row],[clean Salary (in local currency)]]*VLOOKUP(tblSalaries[[#This Row],[Currency]],tblXrate[],2,FALSE)","v":7265.630008476568},"Sr Exec - Finance","Accountant","India",{"$f":"VLOOKUP(tblSalaries[[#This Row],[Where do you work]],tblCountries[[Actual]:[Mapping]],2,FALSE)","v":"India"},8,"<=5","ASIA",{"$f":"(G1041/365)/L1041","v":2.4882294549577288}]
[null,"ID1062","2012-05-28T14:34:37","Â£28000",28000,"GBP",{"$f":"tblSalaries[[#This Row],[clean Salary (in local currency)]]*VLOOKUP(tblSalaries[[#This Row],[Currency]],tblXrate[],2,FALSE)","v":44132.991617883956},"Modeller","Analyst","UK",{"$f":"VLOOKUP(tblSalaries[[#This Row],[Where do you work]],tblCountries[[Actual]:[Mapping]],2,FALSE)","v":"UK"},3,">10<=20","EUROPE",{"$f":"(G1042/365)/L1042","v":40.304101934140597}]
[null,"ID1063","2012-05-28T14:40:54","INR 530000 ",530000,"INR",{"$f":"tblSalaries[[#This Row],[clean Salary (in local currency)]]*VLOOKUP(tblSalaries[[#This Row],[Currency]],tblXrate[],2,FALSE)","v":9438.1958443445619},"Project Administrator","Analyst","India",{"$f":"VLOOKUP(tblSalaries[[#This Row],[Where do you work]],tblCountries[[Actual]:[Mapping]],2,FALSE)","v":"India"},3,">5<=10","ASIA",{"$f":"(G1043/365)/L1043","v":8.6193569354744852}]
[null,"ID1064","2012-05-28T14:43:40","1500 $",18000,"USD",{"$f":"tblSalaries[[#This Row],[clean Salary (in local currency)]]*VLOOKUP(tblSalaries[[#This Row],[Currency]],tblXrate[],2,FALSE)","v":18000},"Analyst","Analyst","Poland",{"$f":"VLOOKUP(tblSalaries[[#This Row],[Where do you work]],tblCountries[[Actual]:[Mapping]],2,FALSE)","v":"Poland"},6,">5<=10","EUROPE",{"$f":"(G1044/365)/L1044","v":8.2191780821917799}]
[null,"ID1065","2012-05-28T14:44:26","Rs 200000",200000,"INR",{"$f":"tblSalaries[[#This Row],[clean Salary (in local currency)]]*VLOOKUP(tblSalaries[[#This Row],[Currency]],tblXrate[],2,FALSE)","v":3561.5833374885137},"Business Development Executive","Manager","India",{"$f":"VLOOKUP(tblSalaries[[#This Row],[Where do you work]],tblCountries[[Actual]:[Mapping]],2,FALSE)","v":"India"},3,"<=5","ASIA",{"$f":"(G1045/365)/L1045","v":3.2525875228205603}]
[null,"ID1066","2012-05-28T14:45:04","2LAKHS",200000,"INR",{"$f":"tblSalaries[[#This Row],[clean Salary (in local currency)]]*VLOOKUP(tblSalaries[[#This Row],[Currency]],tblXrate[],2,FALSE)","v":3561.5833374885137},"MIS Executive","Reporting","India",{"$f":"VLOOKUP(tblSalaries[[#This Row],[Where do you work]],tblCountries[[Actual]:[Mapping]],2,FALSE)","v":"India"},6,"<=5","ASIA",{"$f":"(G1046/365)/L1046","v":1.6262937614102801}]
[null,"ID1067","2012-05-28T14:46:42",5100,5100,"USD",{"$f":"tblSalaries[[#This Row],[clean Salary (in local currency)]]*VLOOKUP(tblSalaries[[#This Row],[Currency]],tblXrate[],2,FALSE)","v":5100},"MIS Executive","Reporting","India",{"$f":"VLOOKUP(tblSalaries[[#This Row],[Where do you work]],tblCountries[[Actual]:[Mapping]],2,FALSE)","v":"India"},8,">5<=10","ASIA",{"$f":"(G1047/365)/L1047","v":1.7465753424657535}]
[null,"ID1068","2012-05-28T14:50:03",100000,1200000,"INR",{"$f":"tblSalaries[[#This Row],[clean Salary (in local currency)]]*VLOOKUP(tblSalaries[[#This Row],[Currency]],tblXrate[],2,FALSE)","v":21369.500024931083},"executive","Analyst","India",{"$f":"VLOOKUP(tblSalaries[[#This Row],[Where do you work]],tblCountries[[Actual]:[Mapping]],2,FALSE)","v":"India"},6,">5<=10","ASIA",{"$f":"(G1048/365)/L1048","v":9.7577625684616809}]
[null,"ID1069","2012-05-28T14:52:45","Rs. 25000",300000,"INR",{"$f":"tblSalaries[[#This Row],[clean Salary (in local currency)]]*VLOOKUP(tblSalaries[[#This Row],[Currency]],tblXrate[],2,FALSE)","v":5342.3750062327708},"Professional consultant-Finance","Consultant","India",{"$f":"VLOOKUP(tblSalaries[[#This Row],[Where do you work]],tblCountries[[Actual]:[Mapping]],2,FALSE)","v":"India"},3,"<=5","ASIA",{"$f":"(G1049/365)/L1049","v":4.8788812842308404}]
[null,"ID1070","2012-05-28T14:53:02",50000,50000,"USD",{"$f":"tblSalaries[[#This Row],[clean Salary (in local currency)]]*VLOOKUP(tblSalaries[[#This Row],[Currency]],tblXrate[],2,FALSE)","v":50000},"Managing Partner","CXO or Top Mgmt.","India",{"$f":"VLOOKUP(tblSalaries[[#This Row],[Where do you work]],tblCountries[[Actual]:[Mapping]],2,FALSE)","v":"India"},2,">20","ASIA",{"$f":"(G1050/365)/L1050","v":68.493150684931507}]
[null,"ID1071","2012-05-28T14:53:44","1600000Rs",1600000,"INR",{"$f":"tblSalaries[[#This Row],[clean Salary (in local currency)]]*VLOOKUP(tblSalaries[[#This Row],[Currency]],tblXrate[],2,FALSE)","v":28492.66669990811},"Manager Fin","Manager","India",{"$f":"VLOOKUP(tblSalaries[[#This Row],[Where do you work]],tblCountries[[Actual]:[Mapping]],2,FALSE)","v":"India"},8,">5<=10","ASIA",{"$f":"(G1051/365)/L1051","v":9.7577625684616809}]
[null,"ID1072","2012-05-28T14:56:27",15600,15600,"GBP",{"$f":"tblSalaries[[#This Row],[clean Salary (in local currency)]]*VLOOKUP(tblSalaries[[#This Row],[Currency]],tblXrate[],2,FALSE)","v":24588.381044249632},"business data analyst","Analyst","UK",{"$f":"VLOOKUP(tblSalaries[[#This Row],[Where do you work]],tblCountries[[Actual]:[Mapping]],2,FALSE)","v":"UK"},8,"<=5","EUROPE",{"$f":"(G1052/365)/L1052","v":8.4206784398115175}]
[null,"ID1074","2012-05-28T15:12:38",7000,7000,"USD",{"$f":"tblSalaries[[#This Row],[clean Salary (in local currency)]]*VLOOKUP(tblSalaries[[#This Row],[Currency]],tblXrate[],2,FALSE)","v":7000},"MIS Executive","Reporting","India",{"$f":"VLOOKUP(tblSalaries[[#This Row],[Where do you work]],tblCountries[[Actual]:[Mapping]],2,FALSE)","v":"India"},8,"<=5","ASIA",{"$f":"(G1053/365)/L1053","v":2.3972602739726026}]
[null,"ID1075","2012-05-28T15:16:20","Rs. 438000",438000,"INR",{"$f":"tblSalaries[[#This Row],[clean Salary (in local currency)]]*VLOOKUP(tblSalaries[[#This Row],[Currency]],tblXrate[],2,FALSE)","v":7799.8675090998449},"Assistant Professor","Analyst","India",{"$f":"VLOOKUP(tblSalaries[[#This Row],[Where do you work]],tblCountries[[Actual]:[Mapping]],2,FALSE)","v":"India"},2,">5<=10","ASIA",{"$f":"(G1054/365)/L1054","v":10.684750012465541}]
[null,"ID1076","2012-05-28T15:21:51","Â£50",50000,"GBP",{"$f":"tblSalaries[[#This Row],[clean Salary (in local currency)]]*VLOOKUP(tblSalaries[[#This Row],[Currency]],tblXrate[],2,FALSE)","v":78808.913603364199},"Production manager","Manager","UK",{"$f":"VLOOKUP(tblSalaries[[#This Row],[Where do you work]],tblCountries[[Actual]:[Mapping]],2,FALSE)","v":"UK"},3,">10<=20","EUROPE",{"$f":"(G1055/365)/L1055","v":71.971610596679639}]
[null,"ID1077","2012-05-28T15:27:59",560,6720,"USD",{"$f":"tblSalaries[[#This Row],[clean Salary (in local currency)]]*VLOOKUP(tblSalaries[[#This Row],[Currency]],tblXrate[],2,FALSE)","v":6720},"MIS Executive","Reporting","India",{"$f":"VLOOKUP(tblSalaries[[#This Row],[Where do you work]],tblCountries[[Actual]:[Mapping]],2,FALSE)","v":"India"},6,">5<=10","ASIA",{"$f":"(G1056/365)/L1056","v":3.0684931506849313}]
[null,"ID1078","2012-05-28T15:29:24","INR 2.5 Lakh",250000,"INR",{"$f":"tblSalaries[[#This Row],[clean Salary (in local currency)]]*VLOOKUP(tblSalaries[[#This Row],[Currency]],tblXrate[],2,FALSE)","v":4451.9791718606421},"SR. MIS ","Reporting","India",{"$f":"VLOOKUP(tblSalaries[[#This Row],[Where do you work]],tblCountries[[Actual]:[Mapping]],2,FALSE)","v":"India"},8,"<=5","ASIA",{"$f":"(G1057/365)/L1057","v":1.5246504013221376}]
[null,"ID1079","2012-05-28T15:29:53","Â£30000",30000,"GBP",{"$f":"tblSalaries[[#This Row],[clean Salary (in local currency)]]*VLOOKUP(tblSalaries[[#This Row],[Currency]],tblXrate[],2,FALSE)","v":47285.348162018527},"Data Analyst","Analyst","UK",{"$f":"VLOOKUP(tblSalaries[[#This Row],[Where do you work]],tblCountries[[Actual]:[Mapping]],2,FALSE)","v":"UK"},8,">10<=20","EUROPE",{"$f":"(G1058/365)/L1058","v":16.193612384252919}]
[null,"ID1080","2012-05-28T15:33:23",600,7200,"USD",{"$f":"tblSalaries[[#This Row],[clean Salary (in local currency)]]*VLOOKUP(tblSalaries[[#This Row],[Currency]],tblXrate[],2,FALSE)","v":7200},"Data Entry Operator","Analyst","India",{"$f":"VLOOKUP(tblSalaries[[#This Row],[Where do you work]],tblCountries[[Actual]:[Mapping]],2,FALSE)","v":"India"},8,">5<=10","ASIA",{"$f":"(G1059/365)/L1059","v":2.4657534246575343}]
[null,"ID1081","2012-05-28T15:33:37","INR 2500000",2500000,"INR",{"$f":"tblSalaries[[#This Row],[clean Salary (in local currency)]]*VLOOKUP(tblSalaries[[#This Row],[Currency]],tblXrate[],2,FALSE)","v":44519.791718606422},"Vice President","CXO or Top Mgmt.","India",{"$f":"VLOOKUP(tblSalaries[[#This Row],[Where do you work]],tblCountries[[Actual]:[Mapping]],2,FALSE)","v":"India"},6,">5<=10","ASIA",{"$f":"(G1060/365)/L1060","v":20.328672017628502}]
[null,"ID1082","2012-05-28T15:34:12",140000,140000,"INR",{"$f":"tblSalaries[[#This Row],[clean Salary (in local currency)]]*VLOOKUP(tblSalaries[[#This Row],[Currency]],tblXrate[],2,FALSE)","v":2493.1083362419595},"Accountant","Accountant","India",{"$f":"VLOOKUP(tblSalaries[[#This Row],[Where do you work]],tblCountries[[Actual]:[Mapping]],2,FALSE)","v":"India"},6,"<=5","ASIA",{"$f":"(G1061/365)/L1061","v":1.1384056329871961}]
[null,"ID1083","2012-05-28T15:35:32",20000,20000,"GBP",{"$f":"tblSalaries[[#This Row],[clean Salary (in local currency)]]*VLOOKUP(tblSalaries[[#This Row],[Currency]],tblXrate[],2,FALSE)","v":31523.565441345683},"finance assistant","Analyst","UK",{"$f":"VLOOKUP(tblSalaries[[#This Row],[Where do you work]],tblCountries[[Actual]:[Mapping]],2,FALSE)","v":"UK"},6,"<=5","EUROPE",{"$f":"(G1062/365)/L1062","v":14.394322119335927}]
[null,"ID1084","2012-05-28T15:37:23",1200000,1200000,"INR",{"$f":"tblSalaries[[#This Row],[clean Salary (in local currency)]]*VLOOKUP(tblSalaries[[#This Row],[Currency]],tblXrate[],2,FALSE)","v":21369.500024931083},"finance controller","Controller","India",{"$f":"VLOOKUP(tblSalaries[[#This Row],[Where do you work]],tblCountries[[Actual]:[Mapping]],2,FALSE)","v":"India"},6,">5<=10","ASIA",{"$f":"(G1063/365)/L1063","v":9.7577625684616809}]
[null,"ID1085","2012-05-28T15:42:04",80000,80000,"GBP",{"$f":"tblSalaries[[#This Row],[clean Salary (in local currency)]]*VLOOKUP(tblSalaries[[#This Row],[Currency]],tblXrate[],2,FALSE)","v":126094.26176538273},"Manufacturing consultant","Consultant","UK",{"$f":"VLOOKUP(tblSalaries[[#This Row],[Where do you work]],tblCountries[[Actual]:[Mapping]],2,FALSE)","v":"UK"},6,">5<=10","EUROPE",{"$f":"(G1064/365)/L1064","v":57.577288477343707}]
[null,"ID1086","2012-05-28T15:44:12","Â£63000",63000,"GBP",{"$f":"tblSalaries[[#This Row],[clean Salary (in local currency)]]*VLOOKUP(tblSalaries[[#This Row],[Currency]],tblXrate[],2,FALSE)","v":99299.231140238902},"Business Improvement Specialist","Specialist","UK",{"$f":"VLOOKUP(tblSalaries[[#This Row],[Where do you work]],tblCountries[[Actual]:[Mapping]],2,FALSE)","v":"UK"},3,"<=5","EUROPE",{"$f":"(G1065/365)/L1065","v":90.684229351816342}]
[null,"ID1087","2012-05-28T15:47:46","Â£55000",55000,"GBP",{"$f":"tblSalaries[[#This Row],[clean Salary (in local currency)]]*VLOOKUP(tblSalaries[[#This Row],[Currency]],tblXrate[],2,FALSE)","v":86689.804963700633},"Finance Director","CXO or Top Mgmt.","UK",{"$f":"VLOOKUP(tblSalaries[[#This Row],[Where do you work]],tblCountries[[Actual]:[Mapping]],2,FALSE)","v":"UK"},3,">20","EUROPE",{"$f":"(G1066/365)/L1066","v":79.168771656347602}]
[null,"ID1088","2012-05-28T15:48:23","50000 US $ per year",50000,"USD",{"$f":"tblSalaries[[#This Row],[clean Salary (in local currency)]]*VLOOKUP(tblSalaries[[#This Row],[Currency]],tblXrate[],2,FALSE)","v":50000},"Sr. Manager MIS","Manager","India",{"$f":"VLOOKUP(tblSalaries[[#This Row],[Where do you work]],tblCountries[[Actual]:[Mapping]],2,FALSE)","v":"India"},3,">20","ASIA",{"$f":"(G1067/365)/L1067","v":45.662100456621005}]
[null,"ID1089","2012-05-28T15:49:22",240000,240000,"INR",{"$f":"tblSalaries[[#This Row],[clean Salary (in local currency)]]*VLOOKUP(tblSalaries[[#This Row],[Currency]],tblXrate[],2,FALSE)","v":4273.9000049862161},"Executive","Analyst","India",{"$f":"VLOOKUP(tblSalaries[[#This Row],[Where do you work]],tblCountries[[Actual]:[Mapping]],2,FALSE)","v":"India"},3,"<=5","ASIA",{"$f":"(G1068/365)/L1068","v":3.9031050273846724}]
[null,"ID1090","2012-05-28T15:49:54","Rs. 250000",250000,"INR",{"$f":"tblSalaries[[#This Row],[clean Salary (in local currency)]]*VLOOKUP(tblSalaries[[#This Row],[Currency]],tblXrate[],2,FALSE)","v":4451.9791718606421},"MIS Executive","Reporting","India",{"$f":"VLOOKUP(tblSalaries[[#This Row],[Where do you work]],tblCountries[[Actual]:[Mapping]],2,FALSE)","v":"India"},3,"<=5","ASIA",{"$f":"(G1069/365)/L1069","v":4.0657344035256999}]
[null,"ID1091","2012-05-28T15:51:32","50000 INR",600000,"INR",{"$f":"tblSalaries[[#This Row],[clean Salary (in local currency)]]*VLOOKUP(tblSalaries[[#This Row],[Currency]],tblXrate[],2,FALSE)","v":10684.750012465542},"Sr.Supervisor","Analyst","India",{"$f":"VLOOKUP(tblSalaries[[#This Row],[Where do you work]],tblCountries[[Actual]:[Mapping]],2,FALSE)","v":"India"},6,">5<=10","ASIA",{"$f":"(G1070/365)/L1070","v":4.8788812842308404}]
[null,"ID1092","2012-05-28T15:59:46",40500,40500,"GBP",{"$f":"tblSalaries[[#This Row],[clean Salary (in local currency)]]*VLOOKUP(tblSalaries[[#This Row],[Currency]],tblXrate[],2,FALSE)","v":63835.220018725006},"Policy, Performance and Research Officer","Manager","UK",{"$f":"VLOOKUP(tblSalaries[[#This Row],[Where do you work]],tblCountries[[Actual]:[Mapping]],2,FALSE)","v":"UK"},3,">20","EUROPE",{"$f":"(G1071/365)/L1071","v":58.297004583310503}]
[null,"ID1093","2012-05-28T16:01:05","Â£23000",23000,"GBP",{"$f":"tblSalaries[[#This Row],[clean Salary (in local currency)]]*VLOOKUP(tblSalaries[[#This Row],[Currency]],tblXrate[],2,FALSE)","v":36252.100257547536},"Data Analyst","Analyst","UK",{"$f":"VLOOKUP(tblSalaries[[#This Row],[Where do you work]],tblCountries[[Actual]:[Mapping]],2,FALSE)","v":"UK"},8,"<=5","EUROPE",{"$f":"(G1072/365)/L1072","v":12.415102827927239}]
[null,"ID1094","2012-05-28T16:03:18",7960,7960,"USD",{"$f":"tblSalaries[[#This Row],[clean Salary (in local currency)]]*VLOOKUP(tblSalaries[[#This Row],[Currency]],tblXrate[],2,FALSE)","v":7960},"Team Leader","Manager","India",{"$f":"VLOOKUP(tblSalaries[[#This Row],[Where do you work]],tblCountries[[Actual]:[Mapping]],2,FALSE)","v":"India"},6,">5<=10","ASIA",{"$f":"(G1073/365)/L1073","v":3.6347031963470315}]
[null,"ID1095","2012-05-28T16:03:45","Rs500000",500000,"INR",{"$f":"tblSalaries[[#This Row],[clean Salary (in local currency)]]*VLOOKUP(tblSalaries[[#This Row],[Currency]],tblXrate[],2,FALSE)","v":8903.9583437212841},"Executive","Analyst","India",{"$f":"VLOOKUP(tblSalaries[[#This Row],[Where do you work]],tblCountries[[Actual]:[Mapping]],2,FALSE)","v":"India"},3,">20","ASIA",{"$f":"(G1074/365)/L1074","v":8.1314688070513998}]
[null,"ID1096","2012-05-28T16:05:43","40000 euro",40000,"EUR",{"$f":"tblSalaries[[#This Row],[clean Salary (in local currency)]]*VLOOKUP(tblSalaries[[#This Row],[Currency]],tblXrate[],2,FALSE)","v":50815.977559664309},"Accounting analyst","Analyst","Netherlands",{"$f":"VLOOKUP(tblSalaries[[#This Row],[Where do you work]],tblCountries[[Actual]:[Mapping]],2,FALSE)","v":"Netherlands"},6,"<=5","EUROPE",{"$f":"(G1075/365)/L1075","v":23.203642721307904}]
[null,"ID1097","2012-05-28T16:07:51","Â£30000",30000,"GBP",{"$f":"tblSalaries[[#This Row],[clean Salary (in local currency)]]*VLOOKUP(tblSalaries[[#This Row],[Currency]],tblXrate[],2,FALSE)","v":47285.348162018527},"Information Analyst","Analyst","UK",{"$f":"VLOOKUP(tblSalaries[[#This Row],[Where do you work]],tblCountries[[Actual]:[Mapping]],2,FALSE)","v":"UK"},6,"<=5","EUROPE",{"$f":"(G1076/365)/L1076","v":21.591483179003891}]
[null,"ID1098","2012-05-28T16:07:51",48000,48000,"GBP",{"$f":"tblSalaries[[#This Row],[clean Salary (in local currency)]]*VLOOKUP(tblSalaries[[#This Row],[Currency]],tblXrate[],2,FALSE)","v":75656.557059229643},"Business Operations Co-ordinator","Manager","UK",{"$f":"VLOOKUP(tblSalaries[[#This Row],[Where do you work]],tblCountries[[Actual]:[Mapping]],2,FALSE)","v":"UK"},3,">5<=10","EUROPE",{"$f":"(G1077/365)/L1077","v":69.092746172812454}]
[null,"ID1099","2012-05-28T16:10:52","Rs. 20000",240000,"INR",{"$f":"tblSalaries[[#This Row],[clean Salary (in local currency)]]*VLOOKUP(tblSalaries[[#This Row],[Currency]],tblXrate[],2,FALSE)","v":4273.9000049862161},"Accountant","Accountant","India",{"$f":"VLOOKUP(tblSalaries[[#This Row],[Where do you work]],tblCountries[[Actual]:[Mapping]],2,FALSE)","v":"India"},8,">10<=20","ASIA",{"$f":"(G1078/365)/L1078","v":1.4636643852692521}]
[null,"ID1100","2012-05-28T16:19:21",37000,37000,"EUR",{"$f":"tblSalaries[[#This Row],[clean Salary (in local currency)]]*VLOOKUP(tblSalaries[[#This Row],[Currency]],tblXrate[],2,FALSE)","v":47004.779242689488},"Project Control Analyst","Analyst","Spain",{"$f":"VLOOKUP(tblSalaries[[#This Row],[Where do you work]],tblCountries[[Actual]:[Mapping]],2,FALSE)","v":"Spain"},6,">10<=20","EUROPE",{"$f":"(G1079/365)/L1079","v":21.463369517209813}]
[null,"ID1101","2012-05-28T16:19:41","Â£30000",30000,"GBP",{"$f":"tblSalaries[[#This Row],[clean Salary (in local currency)]]*VLOOKUP(tblSalaries[[#This Row],[Currency]],tblXrate[],2,FALSE)","v":47285.348162018527},"MDM Executive (Business Analyst)","Analyst","UK",{"$f":"VLOOKUP(tblSalaries[[#This Row],[Where do you work]],tblCountries[[Actual]:[Mapping]],2,FALSE)","v":"UK"},8,">5<=10","EUROPE",{"$f":"(G1080/365)/L1080","v":16.193612384252919}]
[null,"ID1102","2012-05-28T16:20:52",58000,58000,"GBP",{"$f":"tblSalaries[[#This Row],[clean Salary (in local currency)]]*VLOOKUP(tblSalaries[[#This Row],[Currency]],tblXrate[],2,FALSE)","v":91418.339779902482},"Data analyst","Analyst","UK",{"$f":"VLOOKUP(tblSalaries[[#This Row],[Where do you work]],tblCountries[[Actual]:[Mapping]],2,FALSE)","v":"UK"},8,">5<=10","EUROPE",{"$f":"(G1081/365)/L1081","v":31.307650609555644}]
[null,"ID1103","2012-05-28T16:21:27",79000,79000,"GBP",{"$f":"tblSalaries[[#This Row],[clean Salary (in local currency)]]*VLOOKUP(tblSalaries[[#This Row],[Currency]],tblXrate[],2,FALSE)","v":124518.08349331544},"Market Analyst","Analyst","UK",{"$f":"VLOOKUP(tblSalaries[[#This Row],[Where do you work]],tblCountries[[Actual]:[Mapping]],2,FALSE)","v":"UK"},3,">10<=20","EUROPE",{"$f":"(G1082/365)/L1082","v":113.71514474275382}]
[null,"ID1104","2012-05-28T16:26:14",43912.03,43912,"GBP",{"$f":"tblSalaries[[#This Row],[clean Salary (in local currency)]]*VLOOKUP(tblSalaries[[#This Row],[Currency]],tblXrate[],2,FALSE)","v":69213.140283018583},"Senior Data Analyst","Analyst","UK",{"$f":"VLOOKUP(tblSalaries[[#This Row],[Where do you work]],tblCountries[[Actual]:[Mapping]],2,FALSE)","v":"UK"},8,"<=5","EUROPE",{"$f":"(G1083/365)/L1083","v":23.703130233910475}]
[null,"ID1105","2012-05-28T16:28:25",3500,3500,"USD",{"$f":"tblSalaries[[#This Row],[clean Salary (in local currency)]]*VLOOKUP(tblSalaries[[#This Row],[Currency]],tblXrate[],2,FALSE)","v":3500},"OFFICER","Manager","PAKISTAN",{"$f":"VLOOKUP(tblSalaries[[#This Row],[Where do you work]],tblCountries[[Actual]:[Mapping]],2,FALSE)","v":"Pakistan"},6,"<=5","ASIA",{"$f":"(G1084/365)/L1084","v":1.598173515981735}]
[null,"ID1107","2012-05-28T16:34:48","Â£40000",40000,"GBP",{"$f":"tblSalaries[[#This Row],[clean Salary (in local currency)]]*VLOOKUP(tblSalaries[[#This Row],[Currency]],tblXrate[],2,FALSE)","v":63047.130882691366},"Buyer","Manager","UK",{"$f":"VLOOKUP(tblSalaries[[#This Row],[Where do you work]],tblCountries[[Actual]:[Mapping]],2,FALSE)","v":"UK"},2,">10<=20","EUROPE",{"$f":"(G1085/365)/L1085","v":86.365932716015564}]
[null,"ID1108","2012-05-28T16:35:19",57000,57000,"EUR",{"$f":"tblSalaries[[#This Row],[clean Salary (in local currency)]]*VLOOKUP(tblSalaries[[#This Row],[Currency]],tblXrate[],2,FALSE)","v":72412.768022521646},"Spare Part Coordinator","Manager","Norway",{"$f":"VLOOKUP(tblSalaries[[#This Row],[Where do you work]],tblCountries[[Actual]:[Mapping]],2,FALSE)","v":"Norway"},2,">10<=20","EUROPE",{"$f":"(G1086/365)/L1086","v":99.195572633591297}]
[null,"ID1109","2012-05-28T16:41:27",40000,40000,"EUR",{"$f":"tblSalaries[[#This Row],[clean Salary (in local currency)]]*VLOOKUP(tblSalaries[[#This Row],[Currency]],tblXrate[],2,FALSE)","v":50815.977559664309},"Actuary","Accountant","Portugal",{"$f":"VLOOKUP(tblSalaries[[#This Row],[Where do you work]],tblCountries[[Actual]:[Mapping]],2,FALSE)","v":"Portugal"},3,">5<=10","EUROPE",{"$f":"(G1087/365)/L1087","v":46.407285442615809}]
[null,"ID1110","2012-05-28T16:45:28",100000,1200000,"INR",{"$f":"tblSalaries[[#This Row],[clean Salary (in local currency)]]*VLOOKUP(tblSalaries[[#This Row],[Currency]],tblXrate[],2,FALSE)","v":21369.500024931083},"coordinator","Manager","India",{"$f":"VLOOKUP(tblSalaries[[#This Row],[Where do you work]],tblCountries[[Actual]:[Mapping]],2,FALSE)","v":"India"},3,"<=5","ASIA",{"$f":"(G1088/365)/L1088","v":19.515525136923362}]
[null,"ID1111","2012-05-28T16:45:32","Â£35000",35000,"GBP",{"$f":"tblSalaries[[#This Row],[clean Salary (in local currency)]]*VLOOKUP(tblSalaries[[#This Row],[Currency]],tblXrate[],2,FALSE)","v":55166.239522354947},"Systems Analyst","Analyst","UK",{"$f":"VLOOKUP(tblSalaries[[#This Row],[Where do you work]],tblCountries[[Actual]:[Mapping]],2,FALSE)","v":"UK"},3,">5<=10","EUROPE",{"$f":"(G1089/365)/L1089","v":50.380127417675745}]
[null,"ID1112","2012-05-28T16:53:13","Rs. 15000",180000,"INR",{"$f":"tblSalaries[[#This Row],[clean Salary (in local currency)]]*VLOOKUP(tblSalaries[[#This Row],[Currency]],tblXrate[],2,FALSE)","v":3205.4250037396623},"Logistics Operation Analyst","Analyst","India",{"$f":"VLOOKUP(tblSalaries[[#This Row],[Where do you work]],tblCountries[[Actual]:[Mapping]],2,FALSE)","v":"India"},8,"<=5","ASIA",{"$f":"(G1090/365)/L1090","v":1.0977482889519392}]
[null,"ID1113","2012-05-28T16:58:03","Rs. 600000",600000,"INR",{"$f":"tblSalaries[[#This Row],[clean Salary (in local currency)]]*VLOOKUP(tblSalaries[[#This Row],[Currency]],tblXrate[],2,FALSE)","v":10684.750012465542},"Company Secretary","Accountant","India",{"$f":"VLOOKUP(tblSalaries[[#This Row],[Where do you work]],tblCountries[[Actual]:[Mapping]],2,FALSE)","v":"India"},3,">5<=10","ASIA",{"$f":"(G1091/365)/L1091","v":9.7577625684616809}]
[null,"ID1114","2012-05-28T16:59:48","INR 300000",300000,"INR",{"$f":"tblSalaries[[#This Row],[clean Salary (in local currency)]]*VLOOKUP(tblSalaries[[#This Row],[Currency]],tblXrate[],2,FALSE)","v":5342.3750062327708},"Analyst","Analyst","India",{"$f":"VLOOKUP(tblSalaries[[#This Row],[Where do you work]],tblCountries[[Actual]:[Mapping]],2,FALSE)","v":"India"},6,"<=5","ASIA",{"$f":"(G1092/365)/L1092","v":2.4394406421154202}]
[null,"ID1115","2012-05-28T17:02:43",75000,75000,"GBP",{"$f":"tblSalaries[[#This Row],[clean Salary (in local currency)]]*VLOOKUP(tblSalaries[[#This Row],[Currency]],tblXrate[],2,FALSE)","v":118213.37040504631},"Management Consultant","Manager","UK",{"$f":"VLOOKUP(tblSalaries[[#This Row],[Where do you work]],tblCountries[[Actual]:[Mapping]],2,FALSE)","v":"UK"},3,">5<=10","EUROPE",{"$f":"(G1093/365)/L1093","v":107.95741589501945}]
[null,"ID1116","2012-05-28T17:04:04","R100,000",100000,"ZAR",{"$f":"tblSalaries[[#This Row],[clean Salary (in local currency)]]*VLOOKUP(tblSalaries[[#This Row],[Currency]],tblXrate[],2,FALSE)","v":12192.177986291113},"Q.A.Officer","Manager","South Africa",{"$f":"VLOOKUP(tblSalaries[[#This Row],[Where do you work]],tblCountries[[Actual]:[Mapping]],2,FALSE)","v":"South Africa"},8,">10<=20","AFRICA",{"$f":"(G1094/365)/L1094","v":4.1754034199627101}]
[null,"ID1117","2012-05-28T17:05:07","Â£45000",45000,"GBP",{"$f":"tblSalaries[[#This Row],[clean Salary (in local currency)]]*VLOOKUP(tblSalaries[[#This Row],[Currency]],tblXrate[],2,FALSE)","v":70928.022243027779},"Assistant Director - Performance Information","CXO or Top Mgmt.","UK",{"$f":"VLOOKUP(tblSalaries[[#This Row],[Where do you work]],tblCountries[[Actual]:[Mapping]],2,FALSE)","v":"UK"},6,">5<=10","EUROPE",{"$f":"(G1095/365)/L1095","v":32.387224768505838}]
[null,"ID1118","2012-05-28T17:09:40","Â£25000",25000,"GBP",{"$f":"tblSalaries[[#This Row],[clean Salary (in local currency)]]*VLOOKUP(tblSalaries[[#This Row],[Currency]],tblXrate[],2,FALSE)","v":39404.456801682099},"Developer","Analyst","UK",{"$f":"VLOOKUP(tblSalaries[[#This Row],[Where do you work]],tblCountries[[Actual]:[Mapping]],2,FALSE)","v":"UK"},6,"<=5","EUROPE",{"$f":"(G1096/365)/L1096","v":17.99290264916991}]
[null,"ID1119","2012-05-28T17:12:47",18987,18987,"USD",{"$f":"tblSalaries[[#This Row],[clean Salary (in local currency)]]*VLOOKUP(tblSalaries[[#This Row],[Currency]],tblXrate[],2,FALSE)","v":18987},"Business Analyst","Analyst","Nigeria",{"$f":"VLOOKUP(tblSalaries[[#This Row],[Where do you work]],tblCountries[[Actual]:[Mapping]],2,FALSE)","v":"Nigeria"},8,">5<=10","AFRICA",{"$f":"(G1097/365)/L1097","v":6.5023972602739724}]
[null,"ID1120","2012-05-28T17:15:29","Â£28500",28500,"GBP",{"$f":"tblSalaries[[#This Row],[clean Salary (in local currency)]]*VLOOKUP(tblSalaries[[#This Row],[Currency]],tblXrate[],2,FALSE)","v":44921.080753917595},"Development (Project & Planning) Manager","Manager","UK",{"$f":"VLOOKUP(tblSalaries[[#This Row],[Where do you work]],tblCountries[[Actual]:[Mapping]],2,FALSE)","v":"UK"},2,">10<=20","EUROPE",{"$f":"(G1098/365)/L1098","v":61.535727060161086}]
[null,"ID1121","2012-05-28T17:17:39",60000,60000,"USD",{"$f":"tblSalaries[[#This Row],[clean Salary (in local currency)]]*VLOOKUP(tblSalaries[[#This Row],[Currency]],tblXrate[],2,FALSE)","v":60000},"manager","Manager","India",{"$f":"VLOOKUP(tblSalaries[[#This Row],[Where do you work]],tblCountries[[Actual]:[Mapping]],2,FALSE)","v":"India"},8,">10<=20","ASIA",{"$f":"(G1099/365)/L1099","v":20.547945205479451}]
[null,"ID1122","2012-05-28T17:18:47","GBP Â£45200",45200,"GBP",{"$f":"tblSalaries[[#This Row],[clean Salary (in local currency)]]*VLOOKUP(tblSalaries[[#This Row],[Currency]],tblXrate[],2,FALSE)","v":71243.257897441246},"Clinical audit manager","Manager","UK",{"$f":"VLOOKUP(tblSalaries[[#This Row],[Where do you work]],tblCountries[[Actual]:[Mapping]],2,FALSE)","v":"UK"},3,"<=5","EUROPE",{"$f":"(G1100/365)/L1100","v":65.062335979398398}]
[null,"ID1123","2012-05-28T17:22:19","252000 INR",252000,"INR",{"$f":"tblSalaries[[#This Row],[clean Salary (in local currency)]]*VLOOKUP(tblSalaries[[#This Row],[Currency]],tblXrate[],2,FALSE)","v":4487.5950052355274},"Inventory Manager","Manager","India",{"$f":"VLOOKUP(tblSalaries[[#This Row],[Where do you work]],tblCountries[[Actual]:[Mapping]],2,FALSE)","v":"India"},2,">10<=20","ASIA",{"$f":"(G1101/365)/L1101","v":6.1473904181308594}]
[null,"ID1124","2012-05-28T17:34:16",242304,242304,"INR",{"$f":"tblSalaries[[#This Row],[clean Salary (in local currency)]]*VLOOKUP(tblSalaries[[#This Row],[Currency]],tblXrate[],2,FALSE)","v":4314.929445034084},"accountant","Accountant","India",{"$f":"VLOOKUP(tblSalaries[[#This Row],[Where do you work]],tblCountries[[Actual]:[Mapping]],2,FALSE)","v":"India"},6,">5<=10","ASIA",{"$f":"(G1102/365)/L1102","v":1.9702874178237826}]
[null,"ID1125","2012-05-28T17:38:46",210000,210000,"INR",{"$f":"tblSalaries[[#This Row],[clean Salary (in local currency)]]*VLOOKUP(tblSalaries[[#This Row],[Currency]],tblXrate[],2,FALSE)","v":3739.6625043629392},"information Analyst","Analyst","India",{"$f":"VLOOKUP(tblSalaries[[#This Row],[Where do you work]],tblCountries[[Actual]:[Mapping]],2,FALSE)","v":"India"},8,"<=5","ASIA",{"$f":"(G1103/365)/L1103","v":1.2807063371105956}]
[null,"ID1126","2012-05-28T17:42:11",5000,60000,"EUR",{"$f":"tblSalaries[[#This Row],[clean Salary (in local currency)]]*VLOOKUP(tblSalaries[[#This Row],[Currency]],tblXrate[],2,FALSE)","v":76223.966339496474},"Development Manager","Manager","Finland",{"$f":"VLOOKUP(tblSalaries[[#This Row],[Where do you work]],tblCountries[[Actual]:[Mapping]],2,FALSE)","v":"Finland"},2,"<=5","EUROPE",{"$f":"(G1104/365)/L1104","v":104.41639224588558}]
[null,"ID1127","2012-05-28T17:42:22","AED 120000",120000,"AED",{"$f":"tblSalaries[[#This Row],[clean Salary (in local currency)]]*VLOOKUP(tblSalaries[[#This Row],[Currency]],tblXrate[],2,FALSE)","v":32666.305522511171},"Finance Manager","Manager","UAE",{"$f":"VLOOKUP(tblSalaries[[#This Row],[Where do you work]],tblCountries[[Actual]:[Mapping]],2,FALSE)","v":"UAE"},3,">10<=20","ASIA",{"$f":"(G1105/365)/L1105","v":29.832242486311571}]
[null,"ID1128","2012-05-28T17:42:51",19000,19000,"USD",{"$f":"tblSalaries[[#This Row],[clean Salary (in local currency)]]*VLOOKUP(tblSalaries[[#This Row],[Currency]],tblXrate[],2,FALSE)","v":19000},"MI Specialist","Reporting","UK",{"$f":"VLOOKUP(tblSalaries[[#This Row],[Where do you work]],tblCountries[[Actual]:[Mapping]],2,FALSE)","v":"UK"},8,">5<=10","EUROPE",{"$f":"(G1106/365)/L1106","v":6.506849315068493}]
[null,"ID1129","2012-05-28T17:42:57",50000,50000,"EUR",{"$f":"tblSalaries[[#This Row],[clean Salary (in local currency)]]*VLOOKUP(tblSalaries[[#This Row],[Currency]],tblXrate[],2,FALSE)","v":63519.971949580387},"Network Enginer","Engineer","Portugal",{"$f":"VLOOKUP(tblSalaries[[#This Row],[Where do you work]],tblCountries[[Actual]:[Mapping]],2,FALSE)","v":"Portugal"},3,">10<=20","EUROPE",{"$f":"(G1107/365)/L1107","v":58.009106803269759}]
[null,"ID1130","2012-05-28T17:53:43","Rs. 900000",900000,"INR",{"$f":"tblSalaries[[#This Row],[clean Salary (in local currency)]]*VLOOKUP(tblSalaries[[#This Row],[Currency]],tblXrate[],2,FALSE)","v":16027.125018698311},"officer","Manager","India",{"$f":"VLOOKUP(tblSalaries[[#This Row],[Where do you work]],tblCountries[[Actual]:[Mapping]],2,FALSE)","v":"India"},6,">20","ASIA",{"$f":"(G1108/365)/L1108","v":7.3183219263462611}]
[null,"ID1131","2012-05-28T18:02:44","4,00,000",400000,"INR",{"$f":"tblSalaries[[#This Row],[clean Salary (in local currency)]]*VLOOKUP(tblSalaries[[#This Row],[Currency]],tblXrate[],2,FALSE)","v":7123.1666749770275},"Sr. Team Lead - MIS","Reporting","India",{"$f":"VLOOKUP(tblSalaries[[#This Row],[Where do you work]],tblCountries[[Actual]:[Mapping]],2,FALSE)","v":"India"},6,">5<=10","ASIA",{"$f":"(G1109/365)/L1109","v":3.2525875228205603}]
[null,"ID1132","2012-05-28T18:05:13",150252,150252,"INR",{"$f":"tblSalaries[[#This Row],[clean Salary (in local currency)]]*VLOOKUP(tblSalaries[[#This Row],[Currency]],tblXrate[],2,FALSE)","v":2675.675098121621},"KEY","Manager","India",{"$f":"VLOOKUP(tblSalaries[[#This Row],[Where do you work]],tblCountries[[Actual]:[Mapping]],2,FALSE)","v":"India"},3,"<=5","ASIA",{"$f":"(G1110/365)/L1110","v":2.4435389023941743}]
[null,"ID1133","2012-05-28T18:05:16","Â£15000",15000,"GBP",{"$f":"tblSalaries[[#This Row],[clean Salary (in local currency)]]*VLOOKUP(tblSalaries[[#This Row],[Currency]],tblXrate[],2,FALSE)","v":23642.674081009263},"MI Specialist","Reporting","UK",{"$f":"VLOOKUP(tblSalaries[[#This Row],[Where do you work]],tblCountries[[Actual]:[Mapping]],2,FALSE)","v":"UK"},8,"<=5","EUROPE",{"$f":"(G1111/365)/L1111","v":8.0968061921264596}]
[null,"ID1134","2012-05-28T18:11:36","â‚¬ 45000",45000,"EUR",{"$f":"tblSalaries[[#This Row],[clean Salary (in local currency)]]*VLOOKUP(tblSalaries[[#This Row],[Currency]],tblXrate[],2,FALSE)","v":57167.974754622352},"Sales Planning","Manager","Spain",{"$f":"VLOOKUP(tblSalaries[[#This Row],[Where do you work]],tblCountries[[Actual]:[Mapping]],2,FALSE)","v":"Spain"},6,">10<=20","EUROPE",{"$f":"(G1112/365)/L1112","v":26.104098061471394}]
[null,"ID1135","2012-05-28T18:30:51","Rs 2400000",2400000,"INR",{"$f":"tblSalaries[[#This Row],[clean Salary (in local currency)]]*VLOOKUP(tblSalaries[[#This Row],[Currency]],tblXrate[],2,FALSE)","v":42739.000049862167},"GM Finance","Manager","India",{"$f":"VLOOKUP(tblSalaries[[#This Row],[Where do you work]],tblCountries[[Actual]:[Mapping]],2,FALSE)","v":"India"},8,">5<=10","ASIA",{"$f":"(G1113/365)/L1113","v":14.636643852692522}]
[null,"ID1136","2012-05-28T18:34:12","PhP 216,000",216000,"PHP",{"$f":"tblSalaries[[#This Row],[clean Salary (in local currency)]]*VLOOKUP(tblSalaries[[#This Row],[Currency]],tblXrate[],2,FALSE)","v":5120.2912876821438},"Planner","Manager","Philippines",{"$f":"VLOOKUP(tblSalaries[[#This Row],[Where do you work]],tblCountries[[Actual]:[Mapping]],2,FALSE)","v":"Philippines"},6,"<=5","ASIA",{"$f":"(G1114/365)/L1114","v":2.3380325514530336}]
[null,"ID1137","2012-05-28T18:38:06",100000,100000,"EUR",{"$f":"tblSalaries[[#This Row],[clean Salary (in local currency)]]*VLOOKUP(tblSalaries[[#This Row],[Currency]],tblXrate[],2,FALSE)","v":127039.94389916077},"Finance Director","CXO or Top Mgmt.","Spain",{"$f":"VLOOKUP(tblSalaries[[#This Row],[Where do you work]],tblCountries[[Actual]:[Mapping]],2,FALSE)","v":"Spain"},2,">10<=20","EUROPE",{"$f":"(G1115/365)/L1115","v":174.02732040980928}]
[null,"ID1138","2012-05-28T18:39:19",90000,90000,"USD",{"$f":"tblSalaries[[#This Row],[clean Salary (in local currency)]]*VLOOKUP(tblSalaries[[#This Row],[Currency]],tblXrate[],2,FALSE)","v":90000},"Performance manager","Manager","USA",{"$f":"VLOOKUP(tblSalaries[[#This Row],[Where do you work]],tblCountries[[Actual]:[Mapping]],2,FALSE)","v":"USA"},6,"<=5","N. AMERICA",{"$f":"(G1116/365)/L1116","v":41.095890410958908}]
[null,"ID1139","2012-05-28T18:40:08",400000,400000,"INR",{"$f":"tblSalaries[[#This Row],[clean Salary (in local currency)]]*VLOOKUP(tblSalaries[[#This Row],[Currency]],tblXrate[],2,FALSE)","v":7123.1666749770275},"software engineer","Engineer","India",{"$f":"VLOOKUP(tblSalaries[[#This Row],[Where do you work]],tblCountries[[Actual]:[Mapping]],2,FALSE)","v":"India"},2,"<=5","ASIA",{"$f":"(G1117/365)/L1117","v":9.7577625684616809}]
[null,"ID1140","2012-05-28T18:45:00",10000,10000,"USD",{"$f":"tblSalaries[[#This Row],[clean Salary (in local currency)]]*VLOOKUP(tblSalaries[[#This Row],[Currency]],tblXrate[],2,FALSE)","v":10000},"Business analyst","Analyst","India",{"$f":"VLOOKUP(tblSalaries[[#This Row],[Where do you work]],tblCountries[[Actual]:[Mapping]],2,FALSE)","v":"India"},3,"<=5","ASIA",{"$f":"(G1118/365)/L1118","v":9.1324200913242013}]
[null,"ID1141","2012-05-28T18:50:35",29000,29000,"GBP",{"$f":"tblSalaries[[#This Row],[clean Salary (in local currency)]]*VLOOKUP(tblSalaries[[#This Row],[Currency]],tblXrate[],2,FALSE)","v":45709.169889951241},"Financial Analyst","Analyst","UK",{"$f":"VLOOKUP(tblSalaries[[#This Row],[Where do you work]],tblCountries[[Actual]:[Mapping]],2,FALSE)","v":"UK"},6,">10<=20","EUROPE",{"$f":"(G1119/365)/L1119","v":20.871767073037095}]
[null,"ID1142","2012-05-28T19:05:22","200000 rupees",200000,"INR",{"$f":"tblSalaries[[#This Row],[clean Salary (in local currency)]]*VLOOKUP(tblSalaries[[#This Row],[Currency]],tblXrate[],2,FALSE)","v":3561.5833374885137},"MIS Sr. Executive","Reporting","India",{"$f":"VLOOKUP(tblSalaries[[#This Row],[Where do you work]],tblCountries[[Actual]:[Mapping]],2,FALSE)","v":"India"},8,"<=5","ASIA",{"$f":"(G1120/365)/L1120","v":1.2197203210577101}]
[null,"ID1143","2012-05-28T19:09:37",30000,30000,"EUR",{"$f":"tblSalaries[[#This Row],[clean Salary (in local currency)]]*VLOOKUP(tblSalaries[[#This Row],[Currency]],tblXrate[],2,FALSE)","v":38111.983169748237},"Translator","Analyst","Belgium",{"$f":"VLOOKUP(tblSalaries[[#This Row],[Where do you work]],tblCountries[[Actual]:[Mapping]],2,FALSE)","v":"Belgium"},2,">10<=20","EUROPE",{"$f":"(G1121/365)/L1121","v":52.208196122942788}]
[null,"ID1144","2012-05-28T19:19:51",5000,60000,"USD",{"$f":"tblSalaries[[#This Row],[clean Salary (in local currency)]]*VLOOKUP(tblSalaries[[#This Row],[Currency]],tblXrate[],2,FALSE)","v":60000},"Business Anaylyst","Analyst","USA",{"$f":"VLOOKUP(tblSalaries[[#This Row],[Where do you work]],tblCountries[[Actual]:[Mapping]],2,FALSE)","v":"USA"},3,"<=5","N. AMERICA",{"$f":"(G1122/365)/L1122","v":54.794520547945204}]
[null,"ID1145","2012-05-28T19:23:29",40000,40000,"USD",{"$f":"tblSalaries[[#This Row],[clean Salary (in local currency)]]*VLOOKUP(tblSalaries[[#This Row],[Currency]],tblXrate[],2,FALSE)","v":40000},"Engineer","Engineer","India",{"$f":"VLOOKUP(tblSalaries[[#This Row],[Where do you work]],tblCountries[[Actual]:[Mapping]],2,FALSE)","v":"India"},3,"<=5","ASIA",{"$f":"(G1123/365)/L1123","v":36.529680365296805}]
[null,"ID1146","2012-05-28T19:25:04","INR 853000",853000,"INR",{"$f":"tblSalaries[[#This Row],[clean Salary (in local currency)]]*VLOOKUP(tblSalaries[[#This Row],[Currency]],tblXrate[],2,FALSE)","v":15190.15293438851},"Lead Research Analyst","Analyst","India",{"$f":"VLOOKUP(tblSalaries[[#This Row],[Where do you work]],tblCountries[[Actual]:[Mapping]],2,FALSE)","v":"India"},3,">5<=10","ASIA",{"$f":"(G1124/365)/L1124","v":13.872285784829691}]
[null,"ID1147","2012-05-28T19:25:35",90000,90000,"EUR",{"$f":"tblSalaries[[#This Row],[clean Salary (in local currency)]]*VLOOKUP(tblSalaries[[#This Row],[Currency]],tblXrate[],2,FALSE)","v":114335.9495092447},"Management Information Manager","Manager","Continental Europe",{"$f":"VLOOKUP(tblSalaries[[#This Row],[Where do you work]],tblCountries[[Actual]:[Mapping]],2,FALSE)","v":"CEE"},3,">10<=20","EUROPE",{"$f":"(G1125/365)/L1125","v":104.41639224588558}]
[null,"ID1148","2012-05-28T19:32:15","Â£23000",23000,"GBP",{"$f":"tblSalaries[[#This Row],[clean Salary (in local currency)]]*VLOOKUP(tblSalaries[[#This Row],[Currency]],tblXrate[],2,FALSE)","v":36252.100257547536},"Data Management Officer","Manager","UK",{"$f":"VLOOKUP(tblSalaries[[#This Row],[Where do you work]],tblCountries[[Actual]:[Mapping]],2,FALSE)","v":"UK"},6,">5<=10","EUROPE",{"$f":"(G1126/365)/L1126","v":16.553470437236317}]
[null,"ID1149","2012-05-28T19:53:14","Â£30000",30000,"GBP",{"$f":"tblSalaries[[#This Row],[clean Salary (in local currency)]]*VLOOKUP(tblSalaries[[#This Row],[Currency]],tblXrate[],2,FALSE)","v":47285.348162018527},"Reporting Accountant","Accountant","UK",{"$f":"VLOOKUP(tblSalaries[[#This Row],[Where do you work]],tblCountries[[Actual]:[Mapping]],2,FALSE)","v":"UK"},3,"<=5","EUROPE",{"$f":"(G1127/365)/L1127","v":43.182966358007782}]
[null,"ID1150","2012-05-28T20:05:20","â‚¬70k",70000,"EUR",{"$f":"tblSalaries[[#This Row],[clean Salary (in local currency)]]*VLOOKUP(tblSalaries[[#This Row],[Currency]],tblXrate[],2,FALSE)","v":88927.960729412545},"Construction Planner","Consultant","Ireland",{"$f":"VLOOKUP(tblSalaries[[#This Row],[Where do you work]],tblCountries[[Actual]:[Mapping]],2,FALSE)","v":"Ireland"},3,">10<=20","EUROPE",{"$f":"(G1128/365)/L1128","v":81.21274952457766}]
[null,"ID1151","2012-05-28T20:19:57",6000,6000,"USD",{"$f":"tblSalaries[[#This Row],[clean Salary (in local currency)]]*VLOOKUP(tblSalaries[[#This Row],[Currency]],tblXrate[],2,FALSE)","v":6000},"Assistant Accountant","Accountant","Zambia",{"$f":"VLOOKUP(tblSalaries[[#This Row],[Where do you work]],tblCountries[[Actual]:[Mapping]],2,FALSE)","v":"Zambia"},8,"<=5","AFRICA",{"$f":"(G1129/365)/L1129","v":2.0547945205479454}]
[null,"ID1152","2012-05-28T20:20:54",35000,35000,"USD",{"$f":"tblSalaries[[#This Row],[clean Salary (in local currency)]]*VLOOKUP(tblSalaries[[#This Row],[Currency]],tblXrate[],2,FALSE)","v":35000},"BI Analyst","Analyst","USA",{"$f":"VLOOKUP(tblSalaries[[#This Row],[Where do you work]],tblCountries[[Actual]:[Mapping]],2,FALSE)","v":"USA"},8,">10<=20","N. AMERICA",{"$f":"(G1130/365)/L1130","v":11.986301369863014}]
[null,"ID1153","2012-05-28T20:35:30","Â£35000",35000,"GBP",{"$f":"tblSalaries[[#This Row],[clean Salary (in local currency)]]*VLOOKUP(tblSalaries[[#This Row],[Currency]],tblXrate[],2,FALSE)","v":55166.239522354947},"MI Analyst","Analyst","UK",{"$f":"VLOOKUP(tblSalaries[[#This Row],[Where do you work]],tblCountries[[Actual]:[Mapping]],2,FALSE)","v":"UK"},6,">5<=10","EUROPE",{"$f":"(G1131/365)/L1131","v":25.190063708837872}]
[null,"ID1154","2012-05-28T20:43:31",168000,168000,"PKR",{"$f":"tblSalaries[[#This Row],[clean Salary (in local currency)]]*VLOOKUP(tblSalaries[[#This Row],[Currency]],tblXrate[],2,FALSE)","v":1783.166904422254},"Accounts Assistant","Accountant","Pakistan",{"$f":"VLOOKUP(tblSalaries[[#This Row],[Where do you work]],tblCountries[[Actual]:[Mapping]],2,FALSE)","v":"Pakistan"},6,">5<=10","ASIA",{"$f":"(G1132/365)/L1132","v":0.81423146320650863}]
[null,"ID1155","2012-05-28T20:45:35",13.5,13500,"USD",{"$f":"tblSalaries[[#This Row],[clean Salary (in local currency)]]*VLOOKUP(tblSalaries[[#This Row],[Currency]],tblXrate[],2,FALSE)","v":13500},"Project manager","Manager","Montenegro",{"$f":"VLOOKUP(tblSalaries[[#This Row],[Where do you work]],tblCountries[[Actual]:[Mapping]],2,FALSE)","v":"Montenegro"},6,">10<=20","EUROPE",{"$f":"(G1133/365)/L1133","v":6.1643835616438354}]
[null,"ID1156","2012-05-28T20:51:37","Â£37500",37500,"GBP",{"$f":"tblSalaries[[#This Row],[clean Salary (in local currency)]]*VLOOKUP(tblSalaries[[#This Row],[Currency]],tblXrate[],2,FALSE)","v":59106.685202523156},"Corporate Finance Executive","Accountant","UK",{"$f":"VLOOKUP(tblSalaries[[#This Row],[Where do you work]],tblCountries[[Actual]:[Mapping]],2,FALSE)","v":"UK"},3,"<=5","EUROPE",{"$f":"(G1134/365)/L1134","v":53.978707947509726}]
[null,"ID1157","2012-05-28T20:54:29","Rs. 59,000 (Per Month)",708000,"INR",{"$f":"tblSalaries[[#This Row],[clean Salary (in local currency)]]*VLOOKUP(tblSalaries[[#This Row],[Currency]],tblXrate[],2,FALSE)","v":12608.005014709339},"Manager-Operation","Manager","India",{"$f":"VLOOKUP(tblSalaries[[#This Row],[Where do you work]],tblCountries[[Actual]:[Mapping]],2,FALSE)","v":"India"},6,"<=5","ASIA",{"$f":"(G1135/365)/L1135","v":5.7570799153923922}]
[null,"ID1158","2012-05-28T21:14:25","R366252",366252,"ZAR",{"$f":"tblSalaries[[#This Row],[clean Salary (in local currency)]]*VLOOKUP(tblSalaries[[#This Row],[Currency]],tblXrate[],2,FALSE)","v":44654.095718350931},"Accountant","Accountant","South Africa",{"$f":"VLOOKUP(tblSalaries[[#This Row],[Where do you work]],tblCountries[[Actual]:[Mapping]],2,FALSE)","v":"South Africa"},8,">10<=20","AFRICA",{"$f":"(G1136/365)/L1136","v":15.292498533681826}]
[null,"ID1159","2012-05-28T21:17:04",69000,69000,"USD",{"$f":"tblSalaries[[#This Row],[clean Salary (in local currency)]]*VLOOKUP(tblSalaries[[#This Row],[Currency]],tblXrate[],2,FALSE)","v":69000},"Financial Analysist","Analyst","USA",{"$f":"VLOOKUP(tblSalaries[[#This Row],[Where do you work]],tblCountries[[Actual]:[Mapping]],2,FALSE)","v":"USA"},3,">10<=20","N. AMERICA",{"$f":"(G1137/365)/L1137","v":63.013698630136986}]
[null,"ID1160","2012-05-28T21:55:25",500,6000,"USD",{"$f":"tblSalaries[[#This Row],[clean Salary (in local currency)]]*VLOOKUP(tblSalaries[[#This Row],[Currency]],tblXrate[],2,FALSE)","v":6000},"AM Ops","Manager","India",{"$f":"VLOOKUP(tblSalaries[[#This Row],[Where do you work]],tblCountries[[Actual]:[Mapping]],2,FALSE)","v":"India"},6,">5<=10","ASIA",{"$f":"(G1138/365)/L1138","v":2.7397260273972606}]
[null,"ID1161","2012-05-28T22:08:12","Rs.5,00,000",500000,"INR",{"$f":"tblSalaries[[#This Row],[clean Salary (in local currency)]]*VLOOKUP(tblSalaries[[#This Row],[Currency]],tblXrate[],2,FALSE)","v":8903.9583437212841},"Deputy Manager","Manager","India",{"$f":"VLOOKUP(tblSalaries[[#This Row],[Where do you work]],tblCountries[[Actual]:[Mapping]],2,FALSE)","v":"India"},2,">20","ASIA",{"$f":"(G1139/365)/L1139","v":12.197203210577101}]
[null,"ID1162","2012-05-28T22:10:12",30000,30000,"USD",{"$f":"tblSalaries[[#This Row],[clean Salary (in local currency)]]*VLOOKUP(tblSalaries[[#This Row],[Currency]],tblXrate[],2,FALSE)","v":30000},"pricing and cost manager","Manager","mexico",{"$f":"VLOOKUP(tblSalaries[[#This Row],[Where do you work]],tblCountries[[Actual]:[Mapping]],2,FALSE)","v":"Mexico"},8,">10<=20","N. AMERICA",{"$f":"(G1140/365)/L1140","v":10.273972602739725}]
[null,"ID1163","2012-05-28T22:13:24",8600,8600,"USD",{"$f":"tblSalaries[[#This Row],[clean Salary (in local currency)]]*VLOOKUP(tblSalaries[[#This Row],[Currency]],tblXrate[],2,FALSE)","v":8600},"Catlog associates","Analyst","India",{"$f":"VLOOKUP(tblSalaries[[#This Row],[Where do you work]],tblCountries[[Actual]:[Mapping]],2,FALSE)","v":"India"},6,"<=5","ASIA",{"$f":"(G1141/365)/L1141","v":3.926940639269406}]
[null,"ID1164","2012-05-28T22:25:04","Â£51,000/$81,600",81600,"USD",{"$f":"tblSalaries[[#This Row],[clean Salary (in local currency)]]*VLOOKUP(tblSalaries[[#This Row],[Currency]],tblXrate[],2,FALSE)","v":81600},"Business Analyst - Central Finance","Analyst","UK",{"$f":"VLOOKUP(tblSalaries[[#This Row],[Where do you work]],tblCountries[[Actual]:[Mapping]],2,FALSE)","v":"UK"},6,"<=5","EUROPE",{"$f":"(G1142/365)/L1142","v":37.260273972602739}]
[null,"ID1165","2012-05-28T22:33:29",600000,600000,"DOP",{"$f":"tblSalaries[[#This Row],[clean Salary (in local currency)]]*VLOOKUP(tblSalaries[[#This Row],[Currency]],tblXrate[],2,FALSE)","v":15404.364569961488},"Analista de Produccion","Analyst","Republica Dominicana",{"$f":"VLOOKUP(tblSalaries[[#This Row],[Where do you work]],tblCountries[[Actual]:[Mapping]],2,FALSE)","v":"Republica Dominicana"},8,"<=5","N. AMERICA",{"$f":"(G1143/365)/L1143","v":5.2754673184799614}]
[null,"ID1166","2012-05-28T22:35:56","CAD$65000",65000,"CAD",{"$f":"tblSalaries[[#This Row],[clean Salary (in local currency)]]*VLOOKUP(tblSalaries[[#This Row],[Currency]],tblXrate[],2,FALSE)","v":63918.498996971248},"IT Analyst (Reporting)","Analyst","Canada",{"$f":"VLOOKUP(tblSalaries[[#This Row],[Where do you work]],tblCountries[[Actual]:[Mapping]],2,FALSE)","v":"Canada"},6,">10<=20","N. AMERICA",{"$f":"(G1144/365)/L1144","v":29.186529222361301}]
[null,"ID1167","2012-05-28T22:36:22",75000,75000,"USD",{"$f":"tblSalaries[[#This Row],[clean Salary (in local currency)]]*VLOOKUP(tblSalaries[[#This Row],[Currency]],tblXrate[],2,FALSE)","v":75000},"Controller","Controller","USA",{"$f":"VLOOKUP(tblSalaries[[#This Row],[Where do you work]],tblCountries[[Actual]:[Mapping]],2,FALSE)","v":"USA"},3,">10<=20","N. AMERICA",{"$f":"(G1145/365)/L1145","v":68.493150684931507}]
[null,"ID1168","2012-05-28T22:36:47",59000,59000,"USD",{"$f":"tblSalaries[[#This Row],[clean Salary (in local currency)]]*VLOOKUP(tblSalaries[[#This Row],[Currency]],tblXrate[],2,FALSE)","v":59000},"Management Analyst","Analyst","USA",{"$f":"VLOOKUP(tblSalaries[[#This Row],[Where do you work]],tblCountries[[Actual]:[Mapping]],2,FALSE)","v":"USA"},6,">10<=20","N. AMERICA",{"$f":"(G1146/365)/L1146","v":26.940639269406393}]
[null,"ID1169","2012-05-28T22:38:37","$50,000 U.S.",50000,"USD",{"$f":"tblSalaries[[#This Row],[clean Salary (in local currency)]]*VLOOKUP(tblSalaries[[#This Row],[Currency]],tblXrate[],2,FALSE)","v":50000},"Program Manager","Manager","Canada",{"$f":"VLOOKUP(tblSalaries[[#This Row],[Where do you work]],tblCountries[[Actual]:[Mapping]],2,FALSE)","v":"Canada"},2,"<=5","N. AMERICA",{"$f":"(G1147/365)/L1147","v":68.493150684931507}]
[null,"ID1170","2012-05-28T22:39:09","Â£80000",80000,"GBP",{"$f":"tblSalaries[[#This Row],[clean Salary (in local currency)]]*VLOOKUP(tblSalaries[[#This Row],[Currency]],tblXrate[],2,FALSE)","v":126094.26176538273},"Financial Controller","Controller","UK",{"$f":"VLOOKUP(tblSalaries[[#This Row],[Where do you work]],tblCountries[[Actual]:[Mapping]],2,FALSE)","v":"UK"},6,">10<=20","EUROPE",{"$f":"(G1148/365)/L1148","v":57.577288477343707}]
[null,"ID1171","2012-05-28T22:41:01","R$ 54000",54000,"BRL",{"$f":"tblSalaries[[#This Row],[clean Salary (in local currency)]]*VLOOKUP(tblSalaries[[#This Row],[Currency]],tblXrate[],2,FALSE)","v":26691.183012544854},"Logistics Coordinator","Manager","Brazil",{"$f":"VLOOKUP(tblSalaries[[#This Row],[Where do you work]],tblCountries[[Actual]:[Mapping]],2,FALSE)","v":"Brazil"},2,">5<=10"," S. AMERICA",{"$f":"(G1149/365)/L1149","v":36.563264400746377}]
[null,"ID1172","2012-05-28T22:41:15",500000,500000,"INR",{"$f":"tblSalaries[[#This Row],[clean Salary (in local currency)]]*VLOOKUP(tblSalaries[[#This Row],[Currency]],tblXrate[],2,FALSE)","v":8903.9583437212841},"Business Analyst","Analyst","India",{"$f":"VLOOKUP(tblSalaries[[#This Row],[Where do you work]],tblCountries[[Actual]:[Mapping]],2,FALSE)","v":"India"},6,"<=5","ASIA",{"$f":"(G1150/365)/L1150","v":4.0657344035256999}]
[null,"ID1173","2012-05-28T22:41:26","8725 $",8725,"USD",{"$f":"tblSalaries[[#This Row],[clean Salary (in local currency)]]*VLOOKUP(tblSalaries[[#This Row],[Currency]],tblXrate[],2,FALSE)","v":8725},"Administration Officer","Manager","Pakistan",{"$f":"VLOOKUP(tblSalaries[[#This Row],[Where do you work]],tblCountries[[Actual]:[Mapping]],2,FALSE)","v":"Pakistan"},3,">10<=20","ASIA",{"$f":"(G1151/365)/L1151","v":7.968036529680365}]
[null,"ID1175","2012-05-28T22:44:48","Â£32000",32000,"GBP",{"$f":"tblSalaries[[#This Row],[clean Salary (in local currency)]]*VLOOKUP(tblSalaries[[#This Row],[Currency]],tblXrate[],2,FALSE)","v":50437.70470615309},"Service Analyst","Analyst","UK",{"$f":"VLOOKUP(tblSalaries[[#This Row],[Where do you work]],tblCountries[[Actual]:[Mapping]],2,FALSE)","v":"UK"},6,"<=5","EUROPE",{"$f":"(G1152/365)/L1152","v":23.030915390937484}]
[null,"ID1176","2012-05-28T22:45:49","Â£43000",43000,"GBP",{"$f":"tblSalaries[[#This Row],[clean Salary (in local currency)]]*VLOOKUP(tblSalaries[[#This Row],[Currency]],tblXrate[],2,FALSE)","v":67775.665698893223},"Head of Finance","Accountant","UK",{"$f":"VLOOKUP(tblSalaries[[#This Row],[Where do you work]],tblCountries[[Actual]:[Mapping]],2,FALSE)","v":"UK"},8,">10<=20","EUROPE",{"$f":"(G1153/365)/L1153","v":23.210844417429186}]
[null,"ID1177","2012-05-28T22:46:37","CAD $53,000/-",53000,"CAD",{"$f":"tblSalaries[[#This Row],[clean Salary (in local currency)]]*VLOOKUP(tblSalaries[[#This Row],[Currency]],tblXrate[],2,FALSE)","v":52118.160720607324},"Data Analyst","Analyst","Canada",{"$f":"VLOOKUP(tblSalaries[[#This Row],[Where do you work]],tblCountries[[Actual]:[Mapping]],2,FALSE)","v":"Canada"},6,">5<=10","N. AMERICA",{"$f":"(G1154/365)/L1154","v":23.798246904386904}]
[null,"ID1178","2012-05-28T22:48:32","INR 20 Lakhs p.a.",200000,"INR",{"$f":"tblSalaries[[#This Row],[clean Salary (in local currency)]]*VLOOKUP(tblSalaries[[#This Row],[Currency]],tblXrate[],2,FALSE)","v":3561.5833374885137},"Associate","Analyst","India",{"$f":"VLOOKUP(tblSalaries[[#This Row],[Where do you work]],tblCountries[[Actual]:[Mapping]],2,FALSE)","v":"India"},2,">5<=10","ASIA",{"$f":"(G1155/365)/L1155","v":4.8788812842308404}]
[null,"ID1179","2012-05-28T22:49:15","4.5 laks",450000,"INR",{"$f":"tblSalaries[[#This Row],[clean Salary (in local currency)]]*VLOOKUP(tblSalaries[[#This Row],[Currency]],tblXrate[],2,FALSE)","v":8013.5625093491553},"Production Manager","Manager","India",{"$f":"VLOOKUP(tblSalaries[[#This Row],[Where do you work]],tblCountries[[Actual]:[Mapping]],2,FALSE)","v":"India"},6,">20","ASIA",{"$f":"(G1156/365)/L1156","v":3.6591609631731306}]
[null,"ID1180","2012-05-28T22:50:51",28000,28000,"USD",{"$f":"tblSalaries[[#This Row],[clean Salary (in local currency)]]*VLOOKUP(tblSalaries[[#This Row],[Currency]],tblXrate[],2,FALSE)","v":28000},"Business Intelligence Manager","Manager","Poland",{"$f":"VLOOKUP(tblSalaries[[#This Row],[Where do you work]],tblCountries[[Actual]:[Mapping]],2,FALSE)","v":"Poland"},6,"<=5","EUROPE",{"$f":"(G1157/365)/L1157","v":12.78538812785388}]
[null,"ID1181","2012-05-28T22:51:27",31763,31763,"GBP",{"$f":"tblSalaries[[#This Row],[clean Salary (in local currency)]]*VLOOKUP(tblSalaries[[#This Row],[Currency]],tblXrate[],2,FALSE)","v":50064.150455673145},"Network Administrator","Analyst","UK",{"$f":"VLOOKUP(tblSalaries[[#This Row],[Where do you work]],tblCountries[[Actual]:[Mapping]],2,FALSE)","v":"UK"},3,"<=5","EUROPE",{"$f":"(G1158/365)/L1158","v":45.720685347646707}]
[null,"ID1182","2012-05-28T22:52:19","GBPÂ£32000",32000,"GBP",{"$f":"tblSalaries[[#This Row],[clean Salary (in local currency)]]*VLOOKUP(tblSalaries[[#This Row],[Currency]],tblXrate[],2,FALSE)","v":50437.70470615309},"Performance Analyst","Analyst","Canada",{"$f":"VLOOKUP(tblSalaries[[#This Row],[Where do you work]],tblCountries[[Actual]:[Mapping]],2,FALSE)","v":"Canada"},6,">5<=10","N. AMERICA",{"$f":"(G1159/365)/L1159","v":23.030915390937484}]
[null,"ID1183","2012-05-28T22:53:03",27840,27840,"USD",{"$f":"tblSalaries[[#This Row],[clean Salary (in local currency)]]*VLOOKUP(tblSalaries[[#This Row],[Currency]],tblXrate[],2,FALSE)","v":27840},"Data Entry Clerk III","Analyst","USA",{"$f":"VLOOKUP(tblSalaries[[#This Row],[Where do you work]],tblCountries[[Actual]:[Mapping]],2,FALSE)","v":"USA"},3,"<=5","N. AMERICA",{"$f":"(G1160/365)/L1160","v":25.424657534246577}]
[null,"ID1184","2012-05-28T22:54:24","Rs. 350000",350000,"INR",{"$f":"tblSalaries[[#This Row],[clean Salary (in local currency)]]*VLOOKUP(tblSalaries[[#This Row],[Currency]],tblXrate[],2,FALSE)","v":6232.7708406048987},"officer accounts","Accountant","India",{"$f":"VLOOKUP(tblSalaries[[#This Row],[Where do you work]],tblCountries[[Actual]:[Mapping]],2,FALSE)","v":"India"},3,"<=5","ASIA",{"$f":"(G1161/365)/L1161","v":5.6920281649359801}]
[null,"ID1185","2012-05-28T22:55:40","S$50000",50000,"USD",{"$f":"tblSalaries[[#This Row],[clean Salary (in local currency)]]*VLOOKUP(tblSalaries[[#This Row],[Currency]],tblXrate[],2,FALSE)","v":50000},"Engineer","Engineer","Singapore",{"$f":"VLOOKUP(tblSalaries[[#This Row],[Where do you work]],tblCountries[[Actual]:[Mapping]],2,FALSE)","v":"Singapore"},3,">20","ASIA",{"$f":"(G1162/365)/L1162","v":45.662100456621005}]
[null,"ID1186","2012-05-28T22:58:25",48000,48000,"USD",{"$f":"tblSalaries[[#This Row],[clean Salary (in local currency)]]*VLOOKUP(tblSalaries[[#This Row],[Currency]],tblXrate[],2,FALSE)","v":48000},"Cost Controlling Executive","Controller","Qatar",{"$f":"VLOOKUP(tblSalaries[[#This Row],[Where do you work]],tblCountries[[Actual]:[Mapping]],2,FALSE)","v":"Qatar"},3,">5<=10","ASIA",{"$f":"(G1163/365)/L1163","v":43.835616438356169}]
[null,"ID1187","2012-05-28T22:59:16",2000,24000,"USD",{"$f":"tblSalaries[[#This Row],[clean Salary (in local currency)]]*VLOOKUP(tblSalaries[[#This Row],[Currency]],tblXrate[],2,FALSE)","v":24000},"Administration Manager","Manager","Argentina",{"$f":"VLOOKUP(tblSalaries[[#This Row],[Where do you work]],tblCountries[[Actual]:[Mapping]],2,FALSE)","v":"Argentina"},6,">20"," S. AMERICA",{"$f":"(G1164/365)/L1164","v":10.958904109589042}]
[null,"ID1188","2012-05-28T23:02:08",75000,75000,"USD",{"$f":"tblSalaries[[#This Row],[clean Salary (in local currency)]]*VLOOKUP(tblSalaries[[#This Row],[Currency]],tblXrate[],2,FALSE)","v":75000},"Financial Analyst","Analyst","USA",{"$f":"VLOOKUP(tblSalaries[[#This Row],[Where do you work]],tblCountries[[Actual]:[Mapping]],2,FALSE)","v":"USA"},6,">10<=20","N. AMERICA",{"$f":"(G1165/365)/L1165","v":34.246575342465754}]
[null,"ID1189","2012-05-28T23:05:03","216000 AED",216000,"AED",{"$f":"tblSalaries[[#This Row],[clean Salary (in local currency)]]*VLOOKUP(tblSalaries[[#This Row],[Currency]],tblXrate[],2,FALSE)","v":58799.349940520107},"Financial analyst","Analyst","UAE",{"$f":"VLOOKUP(tblSalaries[[#This Row],[Where do you work]],tblCountries[[Actual]:[Mapping]],2,FALSE)","v":"UAE"},6,"<=5","ASIA",{"$f":"(G1166/365)/L1166","v":26.849018237680415}]
[null,"ID1190","2012-05-28T23:06:22","Rupees : 2,000,000",2000000,"PKR",{"$f":"tblSalaries[[#This Row],[clean Salary (in local currency)]]*VLOOKUP(tblSalaries[[#This Row],[Currency]],tblXrate[],2,FALSE)","v":21228.177433598263},"Excel Corporate Trainer","Consultant","Pakistan",{"$f":"VLOOKUP(tblSalaries[[#This Row],[Where do you work]],tblCountries[[Actual]:[Mapping]],2,FALSE)","v":"Pakistan"},8,">5<=10","ASIA",{"$f":"(G1167/365)/L1167","v":7.2699237786295416}]
[null,"ID1191","2012-05-28T23:13:24",60000,60000,"USD",{"$f":"tblSalaries[[#This Row],[clean Salary (in local currency)]]*VLOOKUP(tblSalaries[[#This Row],[Currency]],tblXrate[],2,FALSE)","v":60000},"Quality Management","Manager","USA",{"$f":"VLOOKUP(tblSalaries[[#This Row],[Where do you work]],tblCountries[[Actual]:[Mapping]],2,FALSE)","v":"USA"},3,">5<=10","N. AMERICA",{"$f":"(G1168/365)/L1168","v":54.794520547945204}]
[null,"ID1192","2012-05-28T23:13:31","5000  PLN   net",60000,"PLN",{"$f":"tblSalaries[[#This Row],[clean Salary (in local currency)]]*VLOOKUP(tblSalaries[[#This Row],[Currency]],tblXrate[],2,FALSE)","v":18018.883790212141},"Sales Analyst","Analyst","Poland",{"$f":"VLOOKUP(tblSalaries[[#This Row],[Where do you work]],tblCountries[[Actual]:[Mapping]],2,FALSE)","v":"Poland"},8,">5<=10","EUROPE",{"$f":"(G1169/365)/L1169","v":6.1708506130863494}]
[null,"ID1193","2012-05-28T23:17:12","US$ 7,200",7200,"USD",{"$f":"tblSalaries[[#This Row],[clean Salary (in local currency)]]*VLOOKUP(tblSalaries[[#This Row],[Currency]],tblXrate[],2,FALSE)","v":7200},"Supervisor MIS","Reporting","India",{"$f":"VLOOKUP(tblSalaries[[#This Row],[Where do you work]],tblCountries[[Actual]:[Mapping]],2,FALSE)","v":"India"},6,">5<=10","ASIA",{"$f":"(G1170/365)/L1170","v":3.2876712328767126}]
[null,"ID1194","2012-05-28T23:17:31",56000,56000,"USD",{"$f":"tblSalaries[[#This Row],[clean Salary (in local currency)]]*VLOOKUP(tblSalaries[[#This Row],[Currency]],tblXrate[],2,FALSE)","v":56000},"Analyst","Analyst","USA",{"$f":"VLOOKUP(tblSalaries[[#This Row],[Where do you work]],tblCountries[[Actual]:[Mapping]],2,FALSE)","v":"USA"},2,"<=5","N. AMERICA",{"$f":"(G1171/365)/L1171","v":76.712328767123282}]
[null,"ID1195","2012-05-28T23:19:36","Rs 5,40,000",540000,"INR",{"$f":"tblSalaries[[#This Row],[clean Salary (in local currency)]]*VLOOKUP(tblSalaries[[#This Row],[Currency]],tblXrate[],2,FALSE)","v":9616.275011218986},"Business Analyst - Solutions","Analyst","India",{"$f":"VLOOKUP(tblSalaries[[#This Row],[Where do you work]],tblCountries[[Actual]:[Mapping]],2,FALSE)","v":"India"},6,">5<=10","ASIA",{"$f":"(G1172/365)/L1172","v":4.390993155807756}]
[null,"ID1196","2012-05-28T23:21:02","KES 4.3 million",4300000,"KENYA",{"$f":"tblSalaries[[#This Row],[clean Salary (in local currency)]]*VLOOKUP(tblSalaries[[#This Row],[Currency]],tblXrate[],2,FALSE)","v":51497.005988023957},"Finance Manager","Manager","Kenya",{"$f":"VLOOKUP(tblSalaries[[#This Row],[Where do you work]],tblCountries[[Actual]:[Mapping]],2,FALSE)","v":"Kenya"},6,">5<=10","AFRICA",{"$f":"(G1173/365)/L1173","v":23.514614606403637}]
[null,"ID1197","2012-05-28T23:25:32","82.000 Euro (pre-tax)",82000,"EUR",{"$f":"tblSalaries[[#This Row],[clean Salary (in local currency)]]*VLOOKUP(tblSalaries[[#This Row],[Currency]],tblXrate[],2,FALSE)","v":104172.75399731184},"Finance Project Manager","Manager","Netherlands",{"$f":"VLOOKUP(tblSalaries[[#This Row],[Where do you work]],tblCountries[[Actual]:[Mapping]],2,FALSE)","v":"Netherlands"},8,">20","EUROPE",{"$f":"(G1174/365)/L1174","v":35.675600684010902}]
[null,"ID1198","2012-05-28T23:33:59",88000,88000,"USD",{"$f":"tblSalaries[[#This Row],[clean Salary (in local currency)]]*VLOOKUP(tblSalaries[[#This Row],[Currency]],tblXrate[],2,FALSE)","v":88000},"Manager, Strategy & Insights","Manager","USA",{"$f":"VLOOKUP(tblSalaries[[#This Row],[Where do you work]],tblCountries[[Actual]:[Mapping]],2,FALSE)","v":"USA"},6,"<=5","N. AMERICA",{"$f":"(G1175/365)/L1175","v":40.182648401826484}]
[null,"ID1199","2012-05-28T23:38:52",80000,80000,"USD",{"$f":"tblSalaries[[#This Row],[clean Salary (in local currency)]]*VLOOKUP(tblSalaries[[#This Row],[Currency]],tblXrate[],2,FALSE)","v":80000},"Financial/Data Analyst","Analyst","USA",{"$f":"VLOOKUP(tblSalaries[[#This Row],[Where do you work]],tblCountries[[Actual]:[Mapping]],2,FALSE)","v":"USA"},6,">5<=10","N. AMERICA",{"$f":"(G1176/365)/L1176","v":36.529680365296805}]
[null,"ID1200","2012-05-28T23:47:10",19000,19000,"USD",{"$f":"tblSalaries[[#This Row],[clean Salary (in local currency)]]*VLOOKUP(tblSalaries[[#This Row],[Currency]],tblXrate[],2,FALSE)","v":19000},"Accountant","Accountant","UK",{"$f":"VLOOKUP(tblSalaries[[#This Row],[Where do you work]],tblCountries[[Actual]:[Mapping]],2,FALSE)","v":"UK"},6,">10<=20","EUROPE",{"$f":"(G1177/365)/L1177","v":8.6757990867579906}]
[null,"ID1201","2012-05-28T23:51:37","Euro 15.000",15000,"EUR",{"$f":"tblSalaries[[#This Row],[clean Salary (in local currency)]]*VLOOKUP(tblSalaries[[#This Row],[Currency]],tblXrate[],2,FALSE)","v":19055.991584874118},"business consultant","Consultant","Italy",{"$f":"VLOOKUP(tblSalaries[[#This Row],[Where do you work]],tblCountries[[Actual]:[Mapping]],2,FALSE)","v":"italy"},6,"<=5","EUROPE",{"$f":"(G1178/365)/L1178","v":8.7013660204904646}]
[null,"ID1202","2012-05-28T23:52:42",480000,480000,"INR",{"$f":"tblSalaries[[#This Row],[clean Salary (in local currency)]]*VLOOKUP(tblSalaries[[#This Row],[Currency]],tblXrate[],2,FALSE)","v":8547.8000099724322},"Documentation Consultant","Consultant","India",{"$f":"VLOOKUP(tblSalaries[[#This Row],[Where do you work]],tblCountries[[Actual]:[Mapping]],2,FALSE)","v":"India"},8,">10<=20","ASIA",{"$f":"(G1179/365)/L1179","v":2.9273287705385043}]
[null,"ID1203","2012-05-28T23:53:02",1100000,1100000,"INR",{"$f":"tblSalaries[[#This Row],[clean Salary (in local currency)]]*VLOOKUP(tblSalaries[[#This Row],[Currency]],tblXrate[],2,FALSE)","v":19588.708356186824},"Sr. Consultant","Consultant","India",{"$f":"VLOOKUP(tblSalaries[[#This Row],[Where do you work]],tblCountries[[Actual]:[Mapping]],2,FALSE)","v":"India"},8,">10<=20","ASIA",{"$f":"(G1180/365)/L1180","v":6.7084617658174057}]
[null,"ID1204","2012-05-29T00:00:21",61000,61000,"USD",{"$f":"tblSalaries[[#This Row],[clean Salary (in local currency)]]*VLOOKUP(tblSalaries[[#This Row],[Currency]],tblXrate[],2,FALSE)","v":61000},"Financial Analyst","Analyst","USA",{"$f":"VLOOKUP(tblSalaries[[#This Row],[Where do you work]],tblCountries[[Actual]:[Mapping]],2,FALSE)","v":"USA"},6,"<=5","N. AMERICA",{"$f":"(G1181/365)/L1181","v":27.853881278538811}]
[null,"ID1205","2012-05-29T00:03:43",34000,34000,"GBP",{"$f":"tblSalaries[[#This Row],[clean Salary (in local currency)]]*VLOOKUP(tblSalaries[[#This Row],[Currency]],tblXrate[],2,FALSE)","v":53590.061250287661},"investment accountant","Accountant","UK",{"$f":"VLOOKUP(tblSalaries[[#This Row],[Where do you work]],tblCountries[[Actual]:[Mapping]],2,FALSE)","v":"UK"},8,">5<=10","EUROPE",{"$f":"(G1182/365)/L1182","v":18.352760702153308}]
[null,"ID1206","2012-05-29T00:03:48",34000,34000,"GBP",{"$f":"tblSalaries[[#This Row],[clean Salary (in local currency)]]*VLOOKUP(tblSalaries[[#This Row],[Currency]],tblXrate[],2,FALSE)","v":53590.061250287661},"investment accountant","Accountant","UK",{"$f":"VLOOKUP(tblSalaries[[#This Row],[Where do you work]],tblCountries[[Actual]:[Mapping]],2,FALSE)","v":"UK"},8,">5<=10","EUROPE",{"$f":"(G1183/365)/L1183","v":18.352760702153308}]
[null,"ID1207","2012-05-29T00:07:00",250000,250000,"INR",{"$f":"tblSalaries[[#This Row],[clean Salary (in local currency)]]*VLOOKUP(tblSalaries[[#This Row],[Currency]],tblXrate[],2,FALSE)","v":4451.9791718606421},"Officer Production","Manager","India",{"$f":"VLOOKUP(tblSalaries[[#This Row],[Where do you work]],tblCountries[[Actual]:[Mapping]],2,FALSE)","v":"India"},6,"<=5","ASIA",{"$f":"(G1184/365)/L1184","v":2.03286720176285}]
[null,"ID1208","2012-05-29T00:07:36",20000,20000,"EUR",{"$f":"tblSalaries[[#This Row],[clean Salary (in local currency)]]*VLOOKUP(tblSalaries[[#This Row],[Currency]],tblXrate[],2,FALSE)","v":25407.988779832154},"warehouse management","Manager","GREECE",{"$f":"VLOOKUP(tblSalaries[[#This Row],[Where do you work]],tblCountries[[Actual]:[Mapping]],2,FALSE)","v":"Greece"},2,">10<=20","EUROPE",{"$f":"(G1185/365)/L1185","v":34.805464081961858}]
[null,"ID1209","2012-05-29T00:12:23",23000,23000,"USD",{"$f":"tblSalaries[[#This Row],[clean Salary (in local currency)]]*VLOOKUP(tblSalaries[[#This Row],[Currency]],tblXrate[],2,FALSE)","v":23000},"Chief Accountant","Accountant","Saudi Arabia",{"$f":"VLOOKUP(tblSalaries[[#This Row],[Where do you work]],tblCountries[[Actual]:[Mapping]],2,FALSE)","v":"Saudi Arabia"},8,">10<=20","ASIA",{"$f":"(G1186/365)/L1186","v":7.8767123287671232}]
[null,"ID1210","2012-05-29T00:16:55","Rs. 900000",900000,"INR",{"$f":"tblSalaries[[#This Row],[clean Salary (in local currency)]]*VLOOKUP(tblSalaries[[#This Row],[Currency]],tblXrate[],2,FALSE)","v":16027.125018698311},"Manager F & A","Manager","India",{"$f":"VLOOKUP(tblSalaries[[#This Row],[Where do you work]],tblCountries[[Actual]:[Mapping]],2,FALSE)","v":"India"},2,">10<=20","ASIA",{"$f":"(G1187/365)/L1187","v":21.954965779038783}]
[null,"ID1211","2012-05-29T00:25:39",60000,60000,"USD",{"$f":"tblSalaries[[#This Row],[clean Salary (in local currency)]]*VLOOKUP(tblSalaries[[#This Row],[Currency]],tblXrate[],2,FALSE)","v":60000},"Quality Assurance Engineer","Engineer","USA",{"$f":"VLOOKUP(tblSalaries[[#This Row],[Where do you work]],tblCountries[[Actual]:[Mapping]],2,FALSE)","v":"USA"},2,">5<=10","N. AMERICA",{"$f":"(G1188/365)/L1188","v":82.191780821917803}]
[null,"ID1212","2012-05-29T00:25:46",800,4800,"USD",{"$f":"tblSalaries[[#This Row],[clean Salary (in local currency)]]*VLOOKUP(tblSalaries[[#This Row],[Currency]],tblXrate[],2,FALSE)","v":4800},"Financial Analyst","Analyst","India",{"$f":"VLOOKUP(tblSalaries[[#This Row],[Where do you work]],tblCountries[[Actual]:[Mapping]],2,FALSE)","v":"India"},6,"<=5","ASIA",{"$f":"(G1189/365)/L1189","v":2.1917808219178081}]
[null,"ID1213","2012-05-29T00:26:21","DKK 625000",625000,"DKK",{"$f":"tblSalaries[[#This Row],[clean Salary (in local currency)]]*VLOOKUP(tblSalaries[[#This Row],[Currency]],tblXrate[],2,FALSE)","v":106815.148267971},"Manager Business Controlling","Manager","Denmark",{"$f":"VLOOKUP(tblSalaries[[#This Row],[Where do you work]],tblCountries[[Actual]:[Mapping]],2,FALSE)","v":"Denmark"},6,">20","EUROPE",{"$f":"(G1190/365)/L1190","v":48.774040305009585}]
[null,"ID1214","2012-05-29T00:28:38",500000,500000,"INR",{"$f":"tblSalaries[[#This Row],[clean Salary (in local currency)]]*VLOOKUP(tblSalaries[[#This Row],[Currency]],tblXrate[],2,FALSE)","v":8903.9583437212841},"Consultant","Consultant","India",{"$f":"VLOOKUP(tblSalaries[[#This Row],[Where do you work]],tblCountries[[Actual]:[Mapping]],2,FALSE)","v":"India"},3,"<=5","ASIA",{"$f":"(G1191/365)/L1191","v":8.1314688070513998}]
[null,"ID1215","2012-05-29T00:29:32",60000,60000,"USD",{"$f":"tblSalaries[[#This Row],[clean Salary (in local currency)]]*VLOOKUP(tblSalaries[[#This Row],[Currency]],tblXrate[],2,FALSE)","v":60000},"sample manager","Manager","USA",{"$f":"VLOOKUP(tblSalaries[[#This Row],[Where do you work]],tblCountries[[Actual]:[Mapping]],2,FALSE)","v":"USA"},6,">10<=20","N. AMERICA",{"$f":"(G1192/365)/L1192","v":27.397260273972602}]
[null,"ID1216","2012-05-29T00:30:42",2600000,2600000,"INR",{"$f":"tblSalaries[[#This Row],[clean Salary (in local currency)]]*VLOOKUP(tblSalaries[[#This Row],[Currency]],tblXrate[],2,FALSE)","v":46300.583387350678},"Practice Manager","Manager","India",{"$f":"VLOOKUP(tblSalaries[[#This Row],[Where do you work]],tblCountries[[Actual]:[Mapping]],2,FALSE)","v":"India"},6,"<=5","ASIA",{"$f":"(G1193/365)/L1193","v":21.141818898333643}]
[null,"ID1217","2012-05-29T00:32:35","INR 750,000",750000,"INR",{"$f":"tblSalaries[[#This Row],[clean Salary (in local currency)]]*VLOOKUP(tblSalaries[[#This Row],[Currency]],tblXrate[],2,FALSE)","v":13355.937515581925},"Assistant Manager","Manager","India",{"$f":"VLOOKUP(tblSalaries[[#This Row],[Where do you work]],tblCountries[[Actual]:[Mapping]],2,FALSE)","v":"India"},3,"<=5","ASIA",{"$f":"(G1194/365)/L1194","v":12.197203210577101}]
[null,"ID1218","2012-05-29T00:36:21",74000,74000,"USD",{"$f":"tblSalaries[[#This Row],[clean Salary (in local currency)]]*VLOOKUP(tblSalaries[[#This Row],[Currency]],tblXrate[],2,FALSE)","v":74000},"marketing specialist","Specialist","USA",{"$f":"VLOOKUP(tblSalaries[[#This Row],[Where do you work]],tblCountries[[Actual]:[Mapping]],2,FALSE)","v":"USA"},6,">5<=10","N. AMERICA",{"$f":"(G1195/365)/L1195","v":33.789954337899545}]
[null,"ID1219","2012-05-29T00:47:17",95856,95856,"USD",{"$f":"tblSalaries[[#This Row],[clean Salary (in local currency)]]*VLOOKUP(tblSalaries[[#This Row],[Currency]],tblXrate[],2,FALSE)","v":95856},"Analyst","Analyst","USA",{"$f":"VLOOKUP(tblSalaries[[#This Row],[Where do you work]],tblCountries[[Actual]:[Mapping]],2,FALSE)","v":"USA"},3,">10<=20","N. AMERICA",{"$f":"(G1196/365)/L1196","v":87.539726027397265}]
[null,"ID1220","2012-05-29T01:03:19","40,000 US",40000,"USD",{"$f":"tblSalaries[[#This Row],[clean Salary (in local currency)]]*VLOOKUP(tblSalaries[[#This Row],[Currency]],tblXrate[],2,FALSE)","v":40000},"Staff Accountant","Accountant","USA",{"$f":"VLOOKUP(tblSalaries[[#This Row],[Where do you work]],tblCountries[[Actual]:[Mapping]],2,FALSE)","v":"USA"},3,">10<=20","N. AMERICA",{"$f":"(G1197/365)/L1197","v":36.529680365296805}]
[null,"ID1221","2012-05-29T01:06:44",4400,4400,"USD",{"$f":"tblSalaries[[#This Row],[clean Salary (in local currency)]]*VLOOKUP(tblSalaries[[#This Row],[Currency]],tblXrate[],2,FALSE)","v":4400},"Manager Corporate Finance","Manager","Latin America",{"$f":"VLOOKUP(tblSalaries[[#This Row],[Where do you work]],tblCountries[[Actual]:[Mapping]],2,FALSE)","v":"Latin America"},3,"<=5","N. AMERICA",{"$f":"(G1198/365)/L1198","v":4.0182648401826482}]
[null,"ID1222","2012-05-29T01:12:28",90000,90000,"USD",{"$f":"tblSalaries[[#This Row],[clean Salary (in local currency)]]*VLOOKUP(tblSalaries[[#This Row],[Currency]],tblXrate[],2,FALSE)","v":90000},"Senior Analyst","Analyst","USA",{"$f":"VLOOKUP(tblSalaries[[#This Row],[Where do you work]],tblCountries[[Actual]:[Mapping]],2,FALSE)","v":"USA"},6,">20","N. AMERICA",{"$f":"(G1199/365)/L1199","v":41.095890410958908}]
[null,"ID1223","2012-05-29T01:19:26","INR 450000",450000,"INR",{"$f":"tblSalaries[[#This Row],[clean Salary (in local currency)]]*VLOOKUP(tblSalaries[[#This Row],[Currency]],tblXrate[],2,FALSE)","v":8013.5625093491553},"ASSISTANT MANAGER","Manager","India",{"$f":"VLOOKUP(tblSalaries[[#This Row],[Where do you work]],tblCountries[[Actual]:[Mapping]],2,FALSE)","v":"India"},8,"<=5","ASIA",{"$f":"(G1200/365)/L1200","v":2.7443707223798479}]
[null,"ID1224","2012-05-29T01:22:59","INR 1000000",1000000,"INR",{"$f":"tblSalaries[[#This Row],[clean Salary (in local currency)]]*VLOOKUP(tblSalaries[[#This Row],[Currency]],tblXrate[],2,FALSE)","v":17807.916687442568},"Asst Manager","Manager","India",{"$f":"VLOOKUP(tblSalaries[[#This Row],[Where do you work]],tblCountries[[Actual]:[Mapping]],2,FALSE)","v":"India"},6,">5<=10","ASIA",{"$f":"(G1201/365)/L1201","v":8.1314688070513998}]
[null,"ID1225","2012-05-29T01:31:39","700000 INR",700000,"INR",{"$f":"tblSalaries[[#This Row],[clean Salary (in local currency)]]*VLOOKUP(tblSalaries[[#This Row],[Currency]],tblXrate[],2,FALSE)","v":12465.541681209797},"Lead Executive MIS","Reporting","India",{"$f":"VLOOKUP(tblSalaries[[#This Row],[Where do you work]],tblCountries[[Actual]:[Mapping]],2,FALSE)","v":"India"},6,">5<=10","ASIA",{"$f":"(G1202/365)/L1202","v":5.6920281649359801}]
[null,"ID1226","2012-05-29T01:41:00",80000,80000,"USD",{"$f":"tblSalaries[[#This Row],[clean Salary (in local currency)]]*VLOOKUP(tblSalaries[[#This Row],[Currency]],tblXrate[],2,FALSE)","v":80000},"Snr Business Analyst","Analyst","Singapore",{"$f":"VLOOKUP(tblSalaries[[#This Row],[Where do you work]],tblCountries[[Actual]:[Mapping]],2,FALSE)","v":"Singapore"},2,">5<=10","ASIA",{"$f":"(G1203/365)/L1203","v":109.58904109589041}]
[null,"ID1227","2012-05-29T01:44:03",100000,100000,"USD",{"$f":"tblSalaries[[#This Row],[clean Salary (in local currency)]]*VLOOKUP(tblSalaries[[#This Row],[Currency]],tblXrate[],2,FALSE)","v":100000},"Finance Manager","Manager","USA",{"$f":"VLOOKUP(tblSalaries[[#This Row],[Where do you work]],tblCountries[[Actual]:[Mapping]],2,FALSE)","v":"USA"},6,">10<=20","N. AMERICA",{"$f":"(G1204/365)/L1204","v":45.662100456621005}]
[null,"ID1228","2012-05-29T01:45:13",4100,49200,"USD",{"$f":"tblSalaries[[#This Row],[clean Salary (in local currency)]]*VLOOKUP(tblSalaries[[#This Row],[Currency]],tblXrate[],2,FALSE)","v":49200},"Chief Accountant","Accountant","QATAR",{"$f":"VLOOKUP(tblSalaries[[#This Row],[Where do you work]],tblCountries[[Actual]:[Mapping]],2,FALSE)","v":"Qatar"},3,">20","ASIA",{"$f":"(G1205/365)/L1205","v":44.93150684931507}]
[null,"ID1229","2012-05-29T01:47:39",750,9000,"USD",{"$f":"tblSalaries[[#This Row],[clean Salary (in local currency)]]*VLOOKUP(tblSalaries[[#This Row],[Currency]],tblXrate[],2,FALSE)","v":9000},"assurance manager","Manager","India",{"$f":"VLOOKUP(tblSalaries[[#This Row],[Where do you work]],tblCountries[[Actual]:[Mapping]],2,FALSE)","v":"India"},6,"<=5","ASIA",{"$f":"(G1206/365)/L1206","v":4.10958904109589}]
[null,"ID1230","2012-05-29T01:50:01",300000,300000,"INR",{"$f":"tblSalaries[[#This Row],[clean Salary (in local currency)]]*VLOOKUP(tblSalaries[[#This Row],[Currency]],tblXrate[],2,FALSE)","v":5342.3750062327708},"Finance Analyst","Analyst","India",{"$f":"VLOOKUP(tblSalaries[[#This Row],[Where do you work]],tblCountries[[Actual]:[Mapping]],2,FALSE)","v":"India"},6,">5<=10","ASIA",{"$f":"(G1207/365)/L1207","v":2.4394406421154202}]
[null,"ID1231","2012-05-29T02:02:39","$40K",40000,"USD",{"$f":"tblSalaries[[#This Row],[clean Salary (in local currency)]]*VLOOKUP(tblSalaries[[#This Row],[Currency]],tblXrate[],2,FALSE)","v":40000},"SOX,SAP, Insurance Coordinator","Manager","Pakistan, Angola",{"$f":"VLOOKUP(tblSalaries[[#This Row],[Where do you work]],tblCountries[[Actual]:[Mapping]],2,FALSE)","v":"Pakistan"},6,">10<=20","ASIA",{"$f":"(G1208/365)/L1208","v":18.264840182648403}]
[null,"ID1232","2012-05-29T02:12:32","Â£26000",26000,"GBP",{"$f":"tblSalaries[[#This Row],[clean Salary (in local currency)]]*VLOOKUP(tblSalaries[[#This Row],[Currency]],tblXrate[],2,FALSE)","v":40980.635073749385},"Business Analyst","Analyst","UK",{"$f":"VLOOKUP(tblSalaries[[#This Row],[Where do you work]],tblCountries[[Actual]:[Mapping]],2,FALSE)","v":"UK"},6,"<=5","EUROPE",{"$f":"(G1209/365)/L1209","v":18.712618755136706}]
[null,"ID1233","2012-05-29T02:19:27","Â£29000",29000,"GBP",{"$f":"tblSalaries[[#This Row],[clean Salary (in local currency)]]*VLOOKUP(tblSalaries[[#This Row],[Currency]],tblXrate[],2,FALSE)","v":45709.169889951241},"Financial Accountant","Accountant","UK",{"$f":"VLOOKUP(tblSalaries[[#This Row],[Where do you work]],tblCountries[[Actual]:[Mapping]],2,FALSE)","v":"UK"},3,">5<=10","EUROPE",{"$f":"(G1210/365)/L1210","v":41.74353414607419}]
[null,"ID1234","2012-05-29T02:22:13",400000,400000,"INR",{"$f":"tblSalaries[[#This Row],[clean Salary (in local currency)]]*VLOOKUP(tblSalaries[[#This Row],[Currency]],tblXrate[],2,FALSE)","v":7123.1666749770275},"Pmo","Manager","India",{"$f":"VLOOKUP(tblSalaries[[#This Row],[Where do you work]],tblCountries[[Actual]:[Mapping]],2,FALSE)","v":"India"},6,"<=5","ASIA",{"$f":"(G1211/365)/L1211","v":3.2525875228205603}]
[null,"ID1235","2012-05-29T02:26:28","100000 USD",100000,"USD",{"$f":"tblSalaries[[#This Row],[clean Salary (in local currency)]]*VLOOKUP(tblSalaries[[#This Row],[Currency]],tblXrate[],2,FALSE)","v":100000},"Controller","Controller","Norway",{"$f":"VLOOKUP(tblSalaries[[#This Row],[Where do you work]],tblCountries[[Actual]:[Mapping]],2,FALSE)","v":"Norway"},6,">10<=20","EUROPE",{"$f":"(G1212/365)/L1212","v":45.662100456621005}]
[null,"ID1236","2012-05-29T02:43:44","62.000 euro",62000,"EUR",{"$f":"tblSalaries[[#This Row],[clean Salary (in local currency)]]*VLOOKUP(tblSalaries[[#This Row],[Currency]],tblXrate[],2,FALSE)","v":78764.765217479682},"Stafmember","Analyst","Netherlands",{"$f":"VLOOKUP(tblSalaries[[#This Row],[Where do you work]],tblCountries[[Actual]:[Mapping]],2,FALSE)","v":"Netherlands"},6,">10<=20","EUROPE",{"$f":"(G1213/365)/L1213","v":35.965646218027253}]
[null,"ID1237","2012-05-29T03:16:02",150000,150000,"AUD",{"$f":"tblSalaries[[#This Row],[clean Salary (in local currency)]]*VLOOKUP(tblSalaries[[#This Row],[Currency]],tblXrate[],2,FALSE)","v":152986.44846039536},"Analyst","Analyst","Australia",{"$f":"VLOOKUP(tblSalaries[[#This Row],[Where do you work]],tblCountries[[Actual]:[Mapping]],2,FALSE)","v":"Australia"},3,">5<=10","OCEANIA",{"$f":"(G1214/365)/L1214","v":139.71365156200491}]
[null,"ID1238","2012-05-29T03:28:37","â‚¬35,000 / â‚¬44,000",35000,"EUR",{"$f":"tblSalaries[[#This Row],[clean Salary (in local currency)]]*VLOOKUP(tblSalaries[[#This Row],[Currency]],tblXrate[],2,FALSE)","v":44463.980364706273},"Business Analyst","Analyst","Ireland",{"$f":"VLOOKUP(tblSalaries[[#This Row],[Where do you work]],tblCountries[[Actual]:[Mapping]],2,FALSE)","v":"Ireland"},8,">10<=20","EUROPE",{"$f":"(G1215/365)/L1215","v":15.227390535858312}]
[null,"ID1239","2012-05-29T03:51:09",30,30000,"EUR",{"$f":"tblSalaries[[#This Row],[clean Salary (in local currency)]]*VLOOKUP(tblSalaries[[#This Row],[Currency]],tblXrate[],2,FALSE)","v":38111.983169748237},"education advisor","Consultant","the Netherlands",{"$f":"VLOOKUP(tblSalaries[[#This Row],[Where do you work]],tblCountries[[Actual]:[Mapping]],2,FALSE)","v":"Netherlands"},2,">5<=10","EUROPE",{"$f":"(G1216/365)/L1216","v":52.208196122942788}]
[null,"ID1240","2012-05-29T03:51:28",75000,75000,"GBP",{"$f":"tblSalaries[[#This Row],[clean Salary (in local currency)]]*VLOOKUP(tblSalaries[[#This Row],[Currency]],tblXrate[],2,FALSE)","v":118213.37040504631},"Finance Manager","Manager","UK",{"$f":"VLOOKUP(tblSalaries[[#This Row],[Where do you work]],tblCountries[[Actual]:[Mapping]],2,FALSE)","v":"UK"},6,">10<=20","EUROPE",{"$f":"(G1217/365)/L1217","v":53.978707947509726}]
[null,"ID1241","2012-05-29T04:03:07",25000,25000,"GBP",{"$f":"tblSalaries[[#This Row],[clean Salary (in local currency)]]*VLOOKUP(tblSalaries[[#This Row],[Currency]],tblXrate[],2,FALSE)","v":39404.456801682099},"Senior Accounts Clerk","Accountant","UK",{"$f":"VLOOKUP(tblSalaries[[#This Row],[Where do you work]],tblCountries[[Actual]:[Mapping]],2,FALSE)","v":"UK"},3,">5<=10","EUROPE",{"$f":"(G1218/365)/L1218","v":35.98580529833982}]
[null,"ID1242","2012-05-29T04:08:45",71000,71000,"EUR",{"$f":"tblSalaries[[#This Row],[clean Salary (in local currency)]]*VLOOKUP(tblSalaries[[#This Row],[Currency]],tblXrate[],2,FALSE)","v":90198.36016840415},"Consultant","Consultant","Germany",{"$f":"VLOOKUP(tblSalaries[[#This Row],[Where do you work]],tblCountries[[Actual]:[Mapping]],2,FALSE)","v":"Germany"},2,"<=5","EUROPE",{"$f":"(G1219/365)/L1219","v":123.55939749096459}]
[null,"ID1243","2012-05-29T04:11:58","Â£30000",30000,"GBP",{"$f":"tblSalaries[[#This Row],[clean Salary (in local currency)]]*VLOOKUP(tblSalaries[[#This Row],[Currency]],tblXrate[],2,FALSE)","v":47285.348162018527},"Infection Prevention Surveillance Specialist","Specialist","UK",{"$f":"VLOOKUP(tblSalaries[[#This Row],[Where do you work]],tblCountries[[Actual]:[Mapping]],2,FALSE)","v":"UK"},6,">10<=20","EUROPE",{"$f":"(G1220/365)/L1220","v":21.591483179003891}]
[null,"ID1244","2012-05-29T04:25:02",56000,56000,"USD",{"$f":"tblSalaries[[#This Row],[clean Salary (in local currency)]]*VLOOKUP(tblSalaries[[#This Row],[Currency]],tblXrate[],2,FALSE)","v":56000},"Accountant","Accountant","USA",{"$f":"VLOOKUP(tblSalaries[[#This Row],[Where do you work]],tblCountries[[Actual]:[Mapping]],2,FALSE)","v":"USA"},6,"<=5","N. AMERICA",{"$f":"(G1221/365)/L1221","v":25.570776255707759}]
[null,"ID1245","2012-05-29T04:30:10","IDR 4000000",48000000,"IDR",{"$f":"tblSalaries[[#This Row],[clean Salary (in local currency)]]*VLOOKUP(tblSalaries[[#This Row],[Currency]],tblXrate[],2,FALSE)","v":5082.6943786459069},"Office Instructor","Analyst","Indonesia",{"$f":"VLOOKUP(tblSalaries[[#This Row],[Where do you work]],tblCountries[[Actual]:[Mapping]],2,FALSE)","v":"Indonesia"},2,"<=5","ASIA",{"$f":"(G1222/365)/L1222","v":6.9625950392409681}]
[null,"ID1246","2012-05-29T04:33:37","GBP 34000",34000,"GBP",{"$f":"tblSalaries[[#This Row],[clean Salary (in local currency)]]*VLOOKUP(tblSalaries[[#This Row],[Currency]],tblXrate[],2,FALSE)","v":53590.061250287661},"Investment Accountant","Accountant","UK",{"$f":"VLOOKUP(tblSalaries[[#This Row],[Where do you work]],tblCountries[[Actual]:[Mapping]],2,FALSE)","v":"UK"},8,">5<=10","EUROPE",{"$f":"(G1223/365)/L1223","v":18.352760702153308}]
[null,"ID1247","2012-05-29T05:03:26","dkk 450000",450000,"DKK",{"$f":"tblSalaries[[#This Row],[clean Salary (in local currency)]]*VLOOKUP(tblSalaries[[#This Row],[Currency]],tblXrate[],2,FALSE)","v":76906.906752939132},"owner","CXO or Top Mgmt.","Denmark",{"$f":"VLOOKUP(tblSalaries[[#This Row],[Where do you work]],tblCountries[[Actual]:[Mapping]],2,FALSE)","v":"Denmark"},8,">10<=20","EUROPE",{"$f":"(G1224/365)/L1224","v":26.337981764705184}]
[null,"ID1248","2012-05-29T05:08:57","85000 USD",85000,"USD",{"$f":"tblSalaries[[#This Row],[clean Salary (in local currency)]]*VLOOKUP(tblSalaries[[#This Row],[Currency]],tblXrate[],2,FALSE)","v":85000},"Senior Executive Compensation Analyst ","Analyst","USA",{"$f":"VLOOKUP(tblSalaries[[#This Row],[Where do you work]],tblCountries[[Actual]:[Mapping]],2,FALSE)","v":"USA"},6,"<=5","N. AMERICA",{"$f":"(G1225/365)/L1225","v":38.812785388127857}]
[null,"ID1249","2012-05-29T05:11:03","USD72000",72000,"USD",{"$f":"tblSalaries[[#This Row],[clean Salary (in local currency)]]*VLOOKUP(tblSalaries[[#This Row],[Currency]],tblXrate[],2,FALSE)","v":72000},"Markets Adviser","Consultant","New Zealand",{"$f":"VLOOKUP(tblSalaries[[#This Row],[Where do you work]],tblCountries[[Actual]:[Mapping]],2,FALSE)","v":"New Zealand"},3,">5<=10","OCEANIA",{"$f":"(G1226/365)/L1226","v":65.753424657534239}]
[null,"ID1250","2012-05-29T05:21:39",55000,55000,"USD",{"$f":"tblSalaries[[#This Row],[clean Salary (in local currency)]]*VLOOKUP(tblSalaries[[#This Row],[Currency]],tblXrate[],2,FALSE)","v":55000},"Systems Analyst","Analyst","USA",{"$f":"VLOOKUP(tblSalaries[[#This Row],[Where do you work]],tblCountries[[Actual]:[Mapping]],2,FALSE)","v":"USA"},2,">5<=10","N. AMERICA",{"$f":"(G1227/365)/L1227","v":75.342465753424662}]
[null,"ID1251","2012-05-29T05:47:34","GBP 43,000",43000,"GBP",{"$f":"tblSalaries[[#This Row],[clean Salary (in local currency)]]*VLOOKUP(tblSalaries[[#This Row],[Currency]],tblXrate[],2,FALSE)","v":67775.665698893223},"Financial Controller","Controller","UK",{"$f":"VLOOKUP(tblSalaries[[#This Row],[Where do you work]],tblCountries[[Actual]:[Mapping]],2,FALSE)","v":"UK"},6,">20","EUROPE",{"$f":"(G1228/365)/L1228","v":30.947792556572249}]
[null,"ID1252","2012-05-29T05:53:42","Â£25750",25750,"GBP",{"$f":"tblSalaries[[#This Row],[clean Salary (in local currency)]]*VLOOKUP(tblSalaries[[#This Row],[Currency]],tblXrate[],2,FALSE)","v":40586.590505732565},"Energy Analyst","Analyst","UK",{"$f":"VLOOKUP(tblSalaries[[#This Row],[Where do you work]],tblCountries[[Actual]:[Mapping]],2,FALSE)","v":"UK"},6,"<=5","EUROPE",{"$f":"(G1229/365)/L1229","v":18.532689728645007}]
[null,"ID1253","2012-05-29T06:08:12",50846,50846,"USD",{"$f":"tblSalaries[[#This Row],[clean Salary (in local currency)]]*VLOOKUP(tblSalaries[[#This Row],[Currency]],tblXrate[],2,FALSE)","v":50846},"Program & Policy Analyst-Advanced","Analyst","USA",{"$f":"VLOOKUP(tblSalaries[[#This Row],[Where do you work]],tblCountries[[Actual]:[Mapping]],2,FALSE)","v":"USA"},6,">20","N. AMERICA",{"$f":"(G1230/365)/L1230","v":23.217351598173519}]
[null,"ID1254","2012-05-29T06:24:36",63000,63000,"USD",{"$f":"tblSalaries[[#This Row],[clean Salary (in local currency)]]*VLOOKUP(tblSalaries[[#This Row],[Currency]],tblXrate[],2,FALSE)","v":63000},"Senior Staff Accountant","Accountant","USA",{"$f":"VLOOKUP(tblSalaries[[#This Row],[Where do you work]],tblCountries[[Actual]:[Mapping]],2,FALSE)","v":"USA"},8,">10<=20","N. AMERICA",{"$f":"(G1231/365)/L1231","v":21.575342465753426}]
[null,"ID1255","2012-05-29T06:26:05",80000,80000,"AUD",{"$f":"tblSalaries[[#This Row],[clean Salary (in local currency)]]*VLOOKUP(tblSalaries[[#This Row],[Currency]],tblXrate[],2,FALSE)","v":81592.772512210868},"systems accountant","Accountant","Australia",{"$f":"VLOOKUP(tblSalaries[[#This Row],[Where do you work]],tblCountries[[Actual]:[Mapping]],2,FALSE)","v":"Australia"},6,"<=5","OCEANIA",{"$f":"(G1232/365)/L1232","v":37.256973749867974}]
[null,"ID1256","2012-05-29T07:21:41",50700,50700,"USD",{"$f":"tblSalaries[[#This Row],[clean Salary (in local currency)]]*VLOOKUP(tblSalaries[[#This Row],[Currency]],tblXrate[],2,FALSE)","v":50700},"Sr. Systems Analyst","Analyst","Brazil",{"$f":"VLOOKUP(tblSalaries[[#This Row],[Where do you work]],tblCountries[[Actual]:[Mapping]],2,FALSE)","v":"Brazil"},2,">10<=20"," S. AMERICA",{"$f":"(G1233/365)/L1233","v":69.452054794520549}]
[null,"ID1257","2012-05-29T07:28:41",20000,20000,"GBP",{"$f":"tblSalaries[[#This Row],[clean Salary (in local currency)]]*VLOOKUP(tblSalaries[[#This Row],[Currency]],tblXrate[],2,FALSE)","v":31523.565441345683},"Environmental Information Analyst","Analyst","UK",{"$f":"VLOOKUP(tblSalaries[[#This Row],[Where do you work]],tblCountries[[Actual]:[Mapping]],2,FALSE)","v":"UK"},6,"<=5","EUROPE",{"$f":"(G1234/365)/L1234","v":14.394322119335927}]
[null,"ID1258","2012-05-29T07:46:56",70000,70000,"USD",{"$f":"tblSalaries[[#This Row],[clean Salary (in local currency)]]*VLOOKUP(tblSalaries[[#This Row],[Currency]],tblXrate[],2,FALSE)","v":70000},"Develope","Analyst","USA",{"$f":"VLOOKUP(tblSalaries[[#This Row],[Where do you work]],tblCountries[[Actual]:[Mapping]],2,FALSE)","v":"USA"},2,">5<=10","N. AMERICA",{"$f":"(G1235/365)/L1235","v":95.890410958904113}]
[null,"ID1259","2012-05-29T07:52:56",65000,65000,"CAD",{"$f":"tblSalaries[[#This Row],[clean Salary (in local currency)]]*VLOOKUP(tblSalaries[[#This Row],[Currency]],tblXrate[],2,FALSE)","v":63918.498996971248},"it manager","Manager","Canada",{"$f":"VLOOKUP(tblSalaries[[#This Row],[Where do you work]],tblCountries[[Actual]:[Mapping]],2,FALSE)","v":"Canada"},3,">10<=20","N. AMERICA",{"$f":"(G1236/365)/L1236","v":58.373058444722602}]
[null,"ID1260","2012-05-29T07:57:04",800000,9600000,"MONGOLIAN",{"$f":"tblSalaries[[#This Row],[clean Salary (in local currency)]]*VLOOKUP(tblSalaries[[#This Row],[Currency]],tblXrate[],2,FALSE)","v":7261.724659606657},"Analyst","Analyst","Mongolia",{"$f":"VLOOKUP(tblSalaries[[#This Row],[Where do you work]],tblCountries[[Actual]:[Mapping]],2,FALSE)","v":"Mongolia"},8,"<=5","ASIA",{"$f":"(G1237/365)/L1237","v":2.4868920067146085}]
[null,"ID1261","2012-05-29T08:13:06","RM3000",36000,"MYR",{"$f":"tblSalaries[[#This Row],[clean Salary (in local currency)]]*VLOOKUP(tblSalaries[[#This Row],[Currency]],tblXrate[],2,FALSE)","v":11404.820437438224},"Process Engineering","Engineer","Malaysia",{"$f":"VLOOKUP(tblSalaries[[#This Row],[Where do you work]],tblCountries[[Actual]:[Mapping]],2,FALSE)","v":"malaysia"},6,"<=5","ASIA",{"$f":"(G1238/365)/L1238","v":5.2076805650402846}]
[null,"ID1262","2012-05-29T08:25:51","120,000  US$",120000,"USD",{"$f":"tblSalaries[[#This Row],[clean Salary (in local currency)]]*VLOOKUP(tblSalaries[[#This Row],[Currency]],tblXrate[],2,FALSE)","v":120000},"Consultant - Process Improvement","Consultant","Singapore",{"$f":"VLOOKUP(tblSalaries[[#This Row],[Where do you work]],tblCountries[[Actual]:[Mapping]],2,FALSE)","v":"Singapore"},2,"<=5","ASIA",{"$f":"(G1239/365)/L1239","v":164.38356164383561}]
[null,"ID1263","2012-05-29T08:41:02",90000,90000,"AUD",{"$f":"tblSalaries[[#This Row],[clean Salary (in local currency)]]*VLOOKUP(tblSalaries[[#This Row],[Currency]],tblXrate[],2,FALSE)","v":91791.869076237213},"Business Analyst","Analyst","Australia",{"$f":"VLOOKUP(tblSalaries[[#This Row],[Where do you work]],tblCountries[[Actual]:[Mapping]],2,FALSE)","v":"Australia"},6,"<=5","OCEANIA",{"$f":"(G1240/365)/L1240","v":41.914095468601467}]
[null,"ID1264","2012-05-29T08:41:14",110000,110000,"AUD",{"$f":"tblSalaries[[#This Row],[clean Salary (in local currency)]]*VLOOKUP(tblSalaries[[#This Row],[Currency]],tblXrate[],2,FALSE)","v":112190.06220428993},"Analyst","Analyst","Australia",{"$f":"VLOOKUP(tblSalaries[[#This Row],[Where do you work]],tblCountries[[Actual]:[Mapping]],2,FALSE)","v":"Australia"},3,">5<=10","OCEANIA",{"$f":"(G1241/365)/L1241","v":102.45667781213693}]
[null,"ID1265","2012-05-29T08:47:48",40000,40000,"USD",{"$f":"tblSalaries[[#This Row],[clean Salary (in local currency)]]*VLOOKUP(tblSalaries[[#This Row],[Currency]],tblXrate[],2,FALSE)","v":40000},"Senior Materials Handler","Manager","USA",{"$f":"VLOOKUP(tblSalaries[[#This Row],[Where do you work]],tblCountries[[Actual]:[Mapping]],2,FALSE)","v":"USA"},3,">10<=20","N. AMERICA",{"$f":"(G1242/365)/L1242","v":36.529680365296805}]
[null,"ID1266","2012-05-29T08:59:41",107000,107000,"USD",{"$f":"tblSalaries[[#This Row],[clean Salary (in local currency)]]*VLOOKUP(tblSalaries[[#This Row],[Currency]],tblXrate[],2,FALSE)","v":107000},"Certified Public Accountant","Accountant","USA",{"$f":"VLOOKUP(tblSalaries[[#This Row],[Where do you work]],tblCountries[[Actual]:[Mapping]],2,FALSE)","v":"USA"},6,">10<=20","N. AMERICA",{"$f":"(G1243/365)/L1243","v":48.858447488584481}]
[null,"ID1267","2012-05-29T09:15:09",82000,82000,"USD",{"$f":"tblSalaries[[#This Row],[clean Salary (in local currency)]]*VLOOKUP(tblSalaries[[#This Row],[Currency]],tblXrate[],2,FALSE)","v":82000},"Manager - Marketing Analytics","Manager","USA",{"$f":"VLOOKUP(tblSalaries[[#This Row],[Where do you work]],tblCountries[[Actual]:[Mapping]],2,FALSE)","v":"USA"},6,">5<=10","N. AMERICA",{"$f":"(G1244/365)/L1244","v":37.442922374429223}]
[null,"ID1268","2012-05-29T09:25:31",100000,100000,"AUD",{"$f":"tblSalaries[[#This Row],[clean Salary (in local currency)]]*VLOOKUP(tblSalaries[[#This Row],[Currency]],tblXrate[],2,FALSE)","v":101990.96564026357},"Contractor/Consultant","Consultant","Australia",{"$f":"VLOOKUP(tblSalaries[[#This Row],[Where do you work]],tblCountries[[Actual]:[Mapping]],2,FALSE)","v":"Australia"},6,">10<=20","OCEANIA",{"$f":"(G1245/365)/L1245","v":46.571217187334959}]
[null,"ID1270","2012-05-29T09:37:40","AUD $43000",43000,"USD",{"$f":"tblSalaries[[#This Row],[clean Salary (in local currency)]]*VLOOKUP(tblSalaries[[#This Row],[Currency]],tblXrate[],2,FALSE)","v":43000},"Operations Support Officer","Manager","Australia",{"$f":"VLOOKUP(tblSalaries[[#This Row],[Where do you work]],tblCountries[[Actual]:[Mapping]],2,FALSE)","v":"Australia"},3,"<=5","OCEANIA",{"$f":"(G1246/365)/L1246","v":39.269406392694066}]
[null,"ID1271","2012-05-29T09:38:14",69000,69000,"USD",{"$f":"tblSalaries[[#This Row],[clean Salary (in local currency)]]*VLOOKUP(tblSalaries[[#This Row],[Currency]],tblXrate[],2,FALSE)","v":69000},"master scheduler","Controller","USA",{"$f":"VLOOKUP(tblSalaries[[#This Row],[Where do you work]],tblCountries[[Actual]:[Mapping]],2,FALSE)","v":"USA"},6,">10<=20","N. AMERICA",{"$f":"(G1247/365)/L1247","v":31.506849315068493}]
[null,"ID1273","2012-05-29T09:47:47",30000,30000,"USD",{"$f":"tblSalaries[[#This Row],[clean Salary (in local currency)]]*VLOOKUP(tblSalaries[[#This Row],[Currency]],tblXrate[],2,FALSE)","v":30000},"Practice Manager - Business Operations","Manager","India",{"$f":"VLOOKUP(tblSalaries[[#This Row],[Where do you work]],tblCountries[[Actual]:[Mapping]],2,FALSE)","v":"India"},3,"<=5","ASIA",{"$f":"(G1248/365)/L1248","v":27.397260273972602}]
[null,"ID1274","2012-05-29T09:52:02","48000 $AUD",48000,"AUD",{"$f":"tblSalaries[[#This Row],[clean Salary (in local currency)]]*VLOOKUP(tblSalaries[[#This Row],[Currency]],tblXrate[],2,FALSE)","v":48955.663507326513},"Research Assistant","Analyst","Australia",{"$f":"VLOOKUP(tblSalaries[[#This Row],[Where do you work]],tblCountries[[Actual]:[Mapping]],2,FALSE)","v":"Australia"},2,"<=5","OCEANIA",{"$f":"(G1249/365)/L1249","v":67.062552749762347}]
[null,"ID1275","2012-05-29T10:08:21",70000,70000,"USD",{"$f":"tblSalaries[[#This Row],[clean Salary (in local currency)]]*VLOOKUP(tblSalaries[[#This Row],[Currency]],tblXrate[],2,FALSE)","v":70000},"Project Manager","Manager","USA",{"$f":"VLOOKUP(tblSalaries[[#This Row],[Where do you work]],tblCountries[[Actual]:[Mapping]],2,FALSE)","v":"USA"},6,">5<=10","N. AMERICA",{"$f":"(G1250/365)/L1250","v":31.963470319634705}]
[null,"ID1276","2012-05-29T10:09:37",45000,45000,"USD",{"$f":"tblSalaries[[#This Row],[clean Salary (in local currency)]]*VLOOKUP(tblSalaries[[#This Row],[Currency]],tblXrate[],2,FALSE)","v":45000},"Staff Assistant","Analyst","USA",{"$f":"VLOOKUP(tblSalaries[[#This Row],[Where do you work]],tblCountries[[Actual]:[Mapping]],2,FALSE)","v":"USA"},6,">5<=10","N. AMERICA",{"$f":"(G1251/365)/L1251","v":20.547945205479454}]
[null,"ID1277","2012-05-29T10:11:28",35000,35000,"USD",{"$f":"tblSalaries[[#This Row],[clean Salary (in local currency)]]*VLOOKUP(tblSalaries[[#This Row],[Currency]],tblXrate[],2,FALSE)","v":35000},"AVP Securitisation","CXO or Top Mgmt.","Malaysia",{"$f":"VLOOKUP(tblSalaries[[#This Row],[Where do you work]],tblCountries[[Actual]:[Mapping]],2,FALSE)","v":"malaysia"},8,">10<=20","ASIA",{"$f":"(G1252/365)/L1252","v":11.986301369863014}]
[null,"ID1278","2012-05-29T10:43:49",500000,500000,"INR",{"$f":"tblSalaries[[#This Row],[clean Salary (in local currency)]]*VLOOKUP(tblSalaries[[#This Row],[Currency]],tblXrate[],2,FALSE)","v":8903.9583437212841},"Asstt. Manager","Manager","India",{"$f":"VLOOKUP(tblSalaries[[#This Row],[Where do you work]],tblCountries[[Actual]:[Mapping]],2,FALSE)","v":"India"},3,">20","ASIA",{"$f":"(G1253/365)/L1253","v":8.1314688070513998}]
[null,"ID1279","2012-05-29T10:45:46","MYR89500",89500,"MYR",{"$f":"tblSalaries[[#This Row],[clean Salary (in local currency)]]*VLOOKUP(tblSalaries[[#This Row],[Currency]],tblXrate[],2,FALSE)","v":28353.650809742252},"Manager","Manager","Malaysia",{"$f":"VLOOKUP(tblSalaries[[#This Row],[Where do you work]],tblCountries[[Actual]:[Mapping]],2,FALSE)","v":"malaysia"},3,">10<=20","ASIA",{"$f":"(G1254/365)/L1254","v":25.893745031728084}]
[null,"ID1280","2012-05-29T10:48:33","USD 11800 (INR 650000)",11800,"USD",{"$f":"tblSalaries[[#This Row],[clean Salary (in local currency)]]*VLOOKUP(tblSalaries[[#This Row],[Currency]],tblXrate[],2,FALSE)","v":11800},"Assistant Data Analyst","Analyst","India",{"$f":"VLOOKUP(tblSalaries[[#This Row],[Where do you work]],tblCountries[[Actual]:[Mapping]],2,FALSE)","v":"India"},6,">5<=10","ASIA",{"$f":"(G1255/365)/L1255","v":5.3881278538812785}]
[null,"ID1281","2012-05-29T10:51:02","Rs.3.6 Lakhs pa",360000,"INR",{"$f":"tblSalaries[[#This Row],[clean Salary (in local currency)]]*VLOOKUP(tblSalaries[[#This Row],[Currency]],tblXrate[],2,FALSE)","v":6410.8500074793246},"Team Leader WFM","Manager","India",{"$f":"VLOOKUP(tblSalaries[[#This Row],[Where do you work]],tblCountries[[Actual]:[Mapping]],2,FALSE)","v":"India"},8,">5<=10","ASIA",{"$f":"(G1256/365)/L1256","v":2.1954965779038784}]
[null,"ID1282","2012-05-29T10:51:31",50000,50000,"USD",{"$f":"tblSalaries[[#This Row],[clean Salary (in local currency)]]*VLOOKUP(tblSalaries[[#This Row],[Currency]],tblXrate[],2,FALSE)","v":50000},"Data Analyst","Analyst","USA",{"$f":"VLOOKUP(tblSalaries[[#This Row],[Where do you work]],tblCountries[[Actual]:[Mapping]],2,FALSE)","v":"USA"},6,"<=5","N. AMERICA",{"$f":"(G1257/365)/L1257","v":22.831050228310502}]
[null,"ID1283","2012-05-29T11:00:32",85000,85000,"USD",{"$f":"tblSalaries[[#This Row],[clean Salary (in local currency)]]*VLOOKUP(tblSalaries[[#This Row],[Currency]],tblXrate[],2,FALSE)","v":85000},"manager operation","Manager","srilanka",{"$f":"VLOOKUP(tblSalaries[[#This Row],[Where do you work]],tblCountries[[Actual]:[Mapping]],2,FALSE)","v":"Sri Lanka"},8,">5<=10","ASIA",{"$f":"(G1258/365)/L1258","v":29.109589041095891}]
[null,"ID1284","2012-05-29T11:35:53","Indian Rs 10 Lakhs",1000000,"INR",{"$f":"tblSalaries[[#This Row],[clean Salary (in local currency)]]*VLOOKUP(tblSalaries[[#This Row],[Currency]],tblXrate[],2,FALSE)","v":17807.916687442568},"Manager","Manager","India",{"$f":"VLOOKUP(tblSalaries[[#This Row],[Where do you work]],tblCountries[[Actual]:[Mapping]],2,FALSE)","v":"India"},3,">5<=10","ASIA",{"$f":"(G1259/365)/L1259","v":16.2629376141028}]
[null,"ID1285","2012-05-29T11:46:47","INR 900000",900000,"INR",{"$f":"tblSalaries[[#This Row],[clean Salary (in local currency)]]*VLOOKUP(tblSalaries[[#This Row],[Currency]],tblXrate[],2,FALSE)","v":16027.125018698311},"RENTAL INVENTORY CONTROLLER","Controller","India",{"$f":"VLOOKUP(tblSalaries[[#This Row],[Where do you work]],tblCountries[[Actual]:[Mapping]],2,FALSE)","v":"India"},8,">5<=10","ASIA",{"$f":"(G1260/365)/L1260","v":5.4887414447596958}]
[null,"ID1286","2012-05-29T11:51:35",192000,192000,"USD",{"$f":"tblSalaries[[#This Row],[clean Salary (in local currency)]]*VLOOKUP(tblSalaries[[#This Row],[Currency]],tblXrate[],2,FALSE)","v":192000},"Publisher","CXO or Top Mgmt.","USA",{"$f":"VLOOKUP(tblSalaries[[#This Row],[Where do you work]],tblCountries[[Actual]:[Mapping]],2,FALSE)","v":"USA"},8,">20","N. AMERICA",{"$f":"(G1261/365)/L1261","v":65.753424657534254}]
[null,"ID1287","2012-05-29T12:14:02",54000,54000,"USD",{"$f":"tblSalaries[[#This Row],[clean Salary (in local currency)]]*VLOOKUP(tblSalaries[[#This Row],[Currency]],tblXrate[],2,FALSE)","v":54000},"Resource Planning Analyst","Analyst","USA",{"$f":"VLOOKUP(tblSalaries[[#This Row],[Where do you work]],tblCountries[[Actual]:[Mapping]],2,FALSE)","v":"USA"},8,">5<=10","N. AMERICA",{"$f":"(G1262/365)/L1262","v":18.493150684931507}]
[null,"ID1288","2012-05-29T12:17:07",18000,18000,"USD",{"$f":"tblSalaries[[#This Row],[clean Salary (in local currency)]]*VLOOKUP(tblSalaries[[#This Row],[Currency]],tblXrate[],2,FALSE)","v":18000},"Manager","Manager","India",{"$f":"VLOOKUP(tblSalaries[[#This Row],[Where do you work]],tblCountries[[Actual]:[Mapping]],2,FALSE)","v":"India"},6,">10<=20","ASIA",{"$f":"(G1263/365)/L1263","v":8.2191780821917799}]
[null,"ID1289","2012-05-29T12:19:39","3,00,000.00",300000,"INR",{"$f":"tblSalaries[[#This Row],[clean Salary (in local currency)]]*VLOOKUP(tblSalaries[[#This Row],[Currency]],tblXrate[],2,FALSE)","v":5342.3750062327708},"MIS OFFICER","Reporting","India",{"$f":"VLOOKUP(tblSalaries[[#This Row],[Where do you work]],tblCountries[[Actual]:[Mapping]],2,FALSE)","v":"India"},3,"<=5","ASIA",{"$f":"(G1264/365)/L1264","v":4.8788812842308404}]
[null,"ID1290","2012-05-29T12:20:32","400000INR",400000,"INR",{"$f":"tblSalaries[[#This Row],[clean Salary (in local currency)]]*VLOOKUP(tblSalaries[[#This Row],[Currency]],tblXrate[],2,FALSE)","v":7123.1666749770275},"PMO","Manager","India",{"$f":"VLOOKUP(tblSalaries[[#This Row],[Where do you work]],tblCountries[[Actual]:[Mapping]],2,FALSE)","v":"India"},8,"<=5","ASIA",{"$f":"(G1265/365)/L1265","v":2.4394406421154202}]
[null,"ID1291","2012-05-29T12:28:41",15000,15000,"USD",{"$f":"tblSalaries[[#This Row],[clean Salary (in local currency)]]*VLOOKUP(tblSalaries[[#This Row],[Currency]],tblXrate[],2,FALSE)","v":15000},"Monitoring & Evaluation officer","Manager","Myanmar",{"$f":"VLOOKUP(tblSalaries[[#This Row],[Where do you work]],tblCountries[[Actual]:[Mapping]],2,FALSE)","v":"Myanmar"},6,">5<=10","ASIA",{"$f":"(G1266/365)/L1266","v":6.8493150684931505}]
[null,"ID1292","2012-05-29T12:29:12","us $ 14000",14000,"USD",{"$f":"tblSalaries[[#This Row],[clean Salary (in local currency)]]*VLOOKUP(tblSalaries[[#This Row],[Currency]],tblXrate[],2,FALSE)","v":14000},"Pricing Analyst","Analyst","India",{"$f":"VLOOKUP(tblSalaries[[#This Row],[Where do you work]],tblCountries[[Actual]:[Mapping]],2,FALSE)","v":"India"},6,">10<=20","ASIA",{"$f":"(G1267/365)/L1267","v":6.3926940639269398}]
[null,"ID1294","2012-05-29T13:06:30",8000,8000,"USD",{"$f":"tblSalaries[[#This Row],[clean Salary (in local currency)]]*VLOOKUP(tblSalaries[[#This Row],[Currency]],tblXrate[],2,FALSE)","v":8000},"Data Analyst","Analyst","India",{"$f":"VLOOKUP(tblSalaries[[#This Row],[Where do you work]],tblCountries[[Actual]:[Mapping]],2,FALSE)","v":"India"},8,"<=5","ASIA",{"$f":"(G1268/365)/L1268","v":2.7397260273972601}]
[null,"ID1295","2012-05-29T13:13:56",12500,12500,"USD",{"$f":"tblSalaries[[#This Row],[clean Salary (in local currency)]]*VLOOKUP(tblSalaries[[#This Row],[Currency]],tblXrate[],2,FALSE)","v":12500},"Specialist","Specialist","Philippines",{"$f":"VLOOKUP(tblSalaries[[#This Row],[Where do you work]],tblCountries[[Actual]:[Mapping]],2,FALSE)","v":"Philippines"},3,">5<=10","ASIA",{"$f":"(G1269/365)/L1269","v":11.415525114155251}]
[null,"ID1296","2012-05-29T13:15:17",140000,140000,"USD",{"$f":"tblSalaries[[#This Row],[clean Salary (in local currency)]]*VLOOKUP(tblSalaries[[#This Row],[Currency]],tblXrate[],2,FALSE)","v":140000},"Senior Accountant","Accountant","USA",{"$f":"VLOOKUP(tblSalaries[[#This Row],[Where do you work]],tblCountries[[Actual]:[Mapping]],2,FALSE)","v":"USA"},6,">10<=20","N. AMERICA",{"$f":"(G1270/365)/L1270","v":63.926940639269411}]
[null,"ID1297","2012-05-29T13:16:45",1000,12000,"USD",{"$f":"tblSalaries[[#This Row],[clean Salary (in local currency)]]*VLOOKUP(tblSalaries[[#This Row],[Currency]],tblXrate[],2,FALSE)","v":12000},"excel prof","Consultant","pakistan",{"$f":"VLOOKUP(tblSalaries[[#This Row],[Where do you work]],tblCountries[[Actual]:[Mapping]],2,FALSE)","v":"Pakistan"},6,"<=5","ASIA",{"$f":"(G1271/365)/L1271","v":5.4794520547945211}]
[null,"ID1298","2012-05-29T13:16:59","30000 EUR",30000,"EUR",{"$f":"tblSalaries[[#This Row],[clean Salary (in local currency)]]*VLOOKUP(tblSalaries[[#This Row],[Currency]],tblXrate[],2,FALSE)","v":38111.983169748237},"Employee","Analyst","Belgium",{"$f":"VLOOKUP(tblSalaries[[#This Row],[Where do you work]],tblCountries[[Actual]:[Mapping]],2,FALSE)","v":"Belgium"},3,">10<=20","EUROPE",{"$f":"(G1272/365)/L1272","v":34.805464081961858}]
[null,"ID1299","2012-05-29T13:23:45","6,00,000 INR",600000,"INR",{"$f":"tblSalaries[[#This Row],[clean Salary (in local currency)]]*VLOOKUP(tblSalaries[[#This Row],[Currency]],tblXrate[],2,FALSE)","v":10684.750012465542},"Senior Business Executive","Manager","India",{"$f":"VLOOKUP(tblSalaries[[#This Row],[Where do you work]],tblCountries[[Actual]:[Mapping]],2,FALSE)","v":"India"},3,"<=5","ASIA",{"$f":"(G1273/365)/L1273","v":9.7577625684616809}]
[null,"ID1301","2012-05-29T13:40:09","3.5 lakhs p.a",350000,"INR",{"$f":"tblSalaries[[#This Row],[clean Salary (in local currency)]]*VLOOKUP(tblSalaries[[#This Row],[Currency]],tblXrate[],2,FALSE)","v":6232.7708406048987},"I dont know","Analyst","India",{"$f":"VLOOKUP(tblSalaries[[#This Row],[Where do you work]],tblCountries[[Actual]:[Mapping]],2,FALSE)","v":"India"},6,"<=5","ASIA",{"$f":"(G1274/365)/L1274","v":2.84601408246799}]
[null,"ID1302","2012-05-29T13:52:13",45000,45000,"USD",{"$f":"tblSalaries[[#This Row],[clean Salary (in local currency)]]*VLOOKUP(tblSalaries[[#This Row],[Currency]],tblXrate[],2,FALSE)","v":45000},"Financial Analysis","Analyst","Pakistan",{"$f":"VLOOKUP(tblSalaries[[#This Row],[Where do you work]],tblCountries[[Actual]:[Mapping]],2,FALSE)","v":"Pakistan"},8,">5<=10","ASIA",{"$f":"(G1275/365)/L1275","v":15.41095890410959}]
[null,"ID1303","2012-05-29T13:53:59",80000,80000,"USD",{"$f":"tblSalaries[[#This Row],[clean Salary (in local currency)]]*VLOOKUP(tblSalaries[[#This Row],[Currency]],tblXrate[],2,FALSE)","v":80000},"Manager","Manager","USA",{"$f":"VLOOKUP(tblSalaries[[#This Row],[Where do you work]],tblCountries[[Actual]:[Mapping]],2,FALSE)","v":"USA"},2,">5<=10","N. AMERICA",{"$f":"(G1276/365)/L1276","v":109.58904109589041}]
[null,"ID1304","2012-05-29T13:54:38","Rs 1500000",1500000,"INR",{"$f":"tblSalaries[[#This Row],[clean Salary (in local currency)]]*VLOOKUP(tblSalaries[[#This Row],[Currency]],tblXrate[],2,FALSE)","v":26711.875031163851},"Analyst","Analyst","India",{"$f":"VLOOKUP(tblSalaries[[#This Row],[Where do you work]],tblCountries[[Actual]:[Mapping]],2,FALSE)","v":"India"},6,">5<=10","ASIA",{"$f":"(G1277/365)/L1277","v":12.197203210577101}]
[null,"ID1305","2012-05-29T13:58:30","US$ 100,000",100000,"USD",{"$f":"tblSalaries[[#This Row],[clean Salary (in local currency)]]*VLOOKUP(tblSalaries[[#This Row],[Currency]],tblXrate[],2,FALSE)","v":100000},"Business Analyst","Analyst","Uganda",{"$f":"VLOOKUP(tblSalaries[[#This Row],[Where do you work]],tblCountries[[Actual]:[Mapping]],2,FALSE)","v":"Uganda"},6,">10<=20","AFRICA",{"$f":"(G1278/365)/L1278","v":45.662100456621005}]
[null,"ID1306","2012-05-29T13:59:14",68000,68000,"AUD",{"$f":"tblSalaries[[#This Row],[clean Salary (in local currency)]]*VLOOKUP(tblSalaries[[#This Row],[Currency]],tblXrate[],2,FALSE)","v":69353.856635379227},"Project Support Officer","Manager","Australia",{"$f":"VLOOKUP(tblSalaries[[#This Row],[Where do you work]],tblCountries[[Actual]:[Mapping]],2,FALSE)","v":"Australia"},6,">5<=10","OCEANIA",{"$f":"(G1279/365)/L1279","v":31.668427687387776}]
[null,"ID1307","2012-05-29T14:10:28","AUS 49,000",49000,"AUD",{"$f":"tblSalaries[[#This Row],[clean Salary (in local currency)]]*VLOOKUP(tblSalaries[[#This Row],[Currency]],tblXrate[],2,FALSE)","v":49975.573163729154},"Document Control","Controller","Australia",{"$f":"VLOOKUP(tblSalaries[[#This Row],[Where do you work]],tblCountries[[Actual]:[Mapping]],2,FALSE)","v":"Australia"},6,">20","OCEANIA",{"$f":"(G1280/365)/L1280","v":22.819896421794137}]
[null,"ID1308","2012-05-29T14:16:06","5,75,000",575000,"INR",{"$f":"tblSalaries[[#This Row],[clean Salary (in local currency)]]*VLOOKUP(tblSalaries[[#This Row],[Currency]],tblXrate[],2,FALSE)","v":10239.552095279476},"Asst Manager HR","Manager","India",{"$f":"VLOOKUP(tblSalaries[[#This Row],[Where do you work]],tblCountries[[Actual]:[Mapping]],2,FALSE)","v":"India"},3,"<=5","ASIA",{"$f":"(G1281/365)/L1281","v":9.3511891281091106}]
[null,"ID1309","2012-05-29T14:34:42","500000 Rupees",500000,"INR",{"$f":"tblSalaries[[#This Row],[clean Salary (in local currency)]]*VLOOKUP(tblSalaries[[#This Row],[Currency]],tblXrate[],2,FALSE)","v":8903.9583437212841},"Senior software engineer","Engineer","India",{"$f":"VLOOKUP(tblSalaries[[#This Row],[Where do you work]],tblCountries[[Actual]:[Mapping]],2,FALSE)","v":"India"},6,"<=5","ASIA",{"$f":"(G1282/365)/L1282","v":4.0657344035256999}]
[null,"ID1310","2012-05-29T14:55:21","36K",36000,"USD",{"$f":"tblSalaries[[#This Row],[clean Salary (in local currency)]]*VLOOKUP(tblSalaries[[#This Row],[Currency]],tblXrate[],2,FALSE)","v":36000},"Administrative Assistant","Analyst","Kuwait",{"$f":"VLOOKUP(tblSalaries[[#This Row],[Where do you work]],tblCountries[[Actual]:[Mapping]],2,FALSE)","v":"Kuwait"},3,">5<=10","ASIA",{"$f":"(G1283/365)/L1283","v":32.87671232876712}]
[null,"ID1311","2012-05-29T14:55:29","210000 per annum",210000,"INR",{"$f":"tblSalaries[[#This Row],[clean Salary (in local currency)]]*VLOOKUP(tblSalaries[[#This Row],[Currency]],tblXrate[],2,FALSE)","v":3739.6625043629392},"MIS cum Purchase Executive","Reporting","India",{"$f":"VLOOKUP(tblSalaries[[#This Row],[Where do you work]],tblCountries[[Actual]:[Mapping]],2,FALSE)","v":"India"},2,"<=5","ASIA",{"$f":"(G1284/365)/L1284","v":5.1228253484423822}]
[null,"ID1312","2012-05-29T14:59:11","â‚¬ 48500",48500,"EUR",{"$f":"tblSalaries[[#This Row],[clean Salary (in local currency)]]*VLOOKUP(tblSalaries[[#This Row],[Currency]],tblXrate[],2,FALSE)","v":61614.372791092981},"Information analyst","Analyst","Netherlands",{"$f":"VLOOKUP(tblSalaries[[#This Row],[Where do you work]],tblCountries[[Actual]:[Mapping]],2,FALSE)","v":"Netherlands"},6,">5<=10","EUROPE",{"$f":"(G1285/365)/L1285","v":28.134416799585836}]
[null,"ID1313","2012-05-29T15:02:56","2 LPA",200000,"INR",{"$f":"tblSalaries[[#This Row],[clean Salary (in local currency)]]*VLOOKUP(tblSalaries[[#This Row],[Currency]],tblXrate[],2,FALSE)","v":3561.5833374885137},"MIS","Reporting","India",{"$f":"VLOOKUP(tblSalaries[[#This Row],[Where do you work]],tblCountries[[Actual]:[Mapping]],2,FALSE)","v":"India"},3,"<=5","ASIA",{"$f":"(G1286/365)/L1286","v":3.2525875228205603}]
[null,"ID1314","2012-05-29T15:04:11","INR360000",360000,"INR",{"$f":"tblSalaries[[#This Row],[clean Salary (in local currency)]]*VLOOKUP(tblSalaries[[#This Row],[Currency]],tblXrate[],2,FALSE)","v":6410.8500074793246},"Sr. Executive -HR","Analyst","India",{"$f":"VLOOKUP(tblSalaries[[#This Row],[Where do you work]],tblCountries[[Actual]:[Mapping]],2,FALSE)","v":"India"},8,">5<=10","ASIA",{"$f":"(G1287/365)/L1287","v":2.1954965779038784}]
[null,"ID1315","2012-05-29T15:08:12","â‚¬ 28500",28500,"EUR",{"$f":"tblSalaries[[#This Row],[clean Salary (in local currency)]]*VLOOKUP(tblSalaries[[#This Row],[Currency]],tblXrate[],2,FALSE)","v":36206.384011260823},"Salary Professsional","Analyst","Netherlands",{"$f":"VLOOKUP(tblSalaries[[#This Row],[Where do you work]],tblCountries[[Actual]:[Mapping]],2,FALSE)","v":"Netherlands"},2,"<=5","EUROPE",{"$f":"(G1288/365)/L1288","v":49.597786316795649}]
[null,"ID1316","2012-05-29T15:10:24",13500,13500,"USD",{"$f":"tblSalaries[[#This Row],[clean Salary (in local currency)]]*VLOOKUP(tblSalaries[[#This Row],[Currency]],tblXrate[],2,FALSE)","v":13500},"Asst. Manager","Manager","India",{"$f":"VLOOKUP(tblSalaries[[#This Row],[Where do you work]],tblCountries[[Actual]:[Mapping]],2,FALSE)","v":"India"},3,">10<=20","ASIA",{"$f":"(G1289/365)/L1289","v":12.328767123287671}]
[null,"ID1317","2012-05-29T15:18:45",250,3000,"USD",{"$f":"tblSalaries[[#This Row],[clean Salary (in local currency)]]*VLOOKUP(tblSalaries[[#This Row],[Currency]],tblXrate[],2,FALSE)","v":3000},"FANANCE","Accountant","SRI LANKA",{"$f":"VLOOKUP(tblSalaries[[#This Row],[Where do you work]],tblCountries[[Actual]:[Mapping]],2,FALSE)","v":"Sri Lanka"},6,"<=5","ASIA",{"$f":"(G1290/365)/L1290","v":1.3698630136986303}]
[null,"ID1318","2012-05-29T15:24:45",1200000,1200000,"INR",{"$f":"tblSalaries[[#This Row],[clean Salary (in local currency)]]*VLOOKUP(tblSalaries[[#This Row],[Currency]],tblXrate[],2,FALSE)","v":21369.500024931083},"Manager - Corporate strategy and Planning","Manager","India",{"$f":"VLOOKUP(tblSalaries[[#This Row],[Where do you work]],tblCountries[[Actual]:[Mapping]],2,FALSE)","v":"India"},6,">5<=10","ASIA",{"$f":"(G1291/365)/L1291","v":9.7577625684616809}]
[null,"ID1319","2012-05-29T15:36:25","6lakhs",600000,"INR",{"$f":"tblSalaries[[#This Row],[clean Salary (in local currency)]]*VLOOKUP(tblSalaries[[#This Row],[Currency]],tblXrate[],2,FALSE)","v":10684.750012465542},"General Manager","Manager","India",{"$f":"VLOOKUP(tblSalaries[[#This Row],[Where do you work]],tblCountries[[Actual]:[Mapping]],2,FALSE)","v":"India"},3,">20","ASIA",{"$f":"(G1292/365)/L1292","v":9.7577625684616809}]
[null,"ID1320","2012-05-29T15:36:42",139000,139000,"EUR",{"$f":"tblSalaries[[#This Row],[clean Salary (in local currency)]]*VLOOKUP(tblSalaries[[#This Row],[Currency]],tblXrate[],2,FALSE)","v":176585.52201983347},"NAF Support Manager","Manager","Germany",{"$f":"VLOOKUP(tblSalaries[[#This Row],[Where do you work]],tblCountries[[Actual]:[Mapping]],2,FALSE)","v":"Germany"},2,">20","EUROPE",{"$f":"(G1293/365)/L1293","v":241.89797536963491}]
[null,"ID1322","2012-05-29T15:38:40","43000 EUR",43000,"EUR",{"$f":"tblSalaries[[#This Row],[clean Salary (in local currency)]]*VLOOKUP(tblSalaries[[#This Row],[Currency]],tblXrate[],2,FALSE)","v":54627.175876639136},"Project manager of IT infrastructure","Manager","France",{"$f":"VLOOKUP(tblSalaries[[#This Row],[Where do you work]],tblCountries[[Actual]:[Mapping]],2,FALSE)","v":"France"},8,">5<=10","EUROPE",{"$f":"(G1294/365)/L1294","v":18.707936944054499}]
[null,"ID1323","2012-05-29T15:46:17","about 24.000 â‚¬",24000,"EUR",{"$f":"tblSalaries[[#This Row],[clean Salary (in local currency)]]*VLOOKUP(tblSalaries[[#This Row],[Currency]],tblXrate[],2,FALSE)","v":30489.586535798586},"Controller","Controller","Italy",{"$f":"VLOOKUP(tblSalaries[[#This Row],[Where do you work]],tblCountries[[Actual]:[Mapping]],2,FALSE)","v":"italy"},6,">5<=10","EUROPE",{"$f":"(G1295/365)/L1295","v":13.922185632784741}]
[null,"ID1324","2012-05-29T15:49:41",314000,314000,"INR",{"$f":"tblSalaries[[#This Row],[clean Salary (in local currency)]]*VLOOKUP(tblSalaries[[#This Row],[Currency]],tblXrate[],2,FALSE)","v":5591.6858398569666},"relationship manager","Manager","India",{"$f":"VLOOKUP(tblSalaries[[#This Row],[Where do you work]],tblCountries[[Actual]:[Mapping]],2,FALSE)","v":"India"},2,"<=5","ASIA",{"$f":"(G1296/365)/L1296","v":7.6598436162424202}]
[null,"ID1325","2012-05-29T15:51:21","82000 USD",82000,"USD",{"$f":"tblSalaries[[#This Row],[clean Salary (in local currency)]]*VLOOKUP(tblSalaries[[#This Row],[Currency]],tblXrate[],2,FALSE)","v":82000},"Consultant","Consultant","South Africa",{"$f":"VLOOKUP(tblSalaries[[#This Row],[Where do you work]],tblCountries[[Actual]:[Mapping]],2,FALSE)","v":"South Africa"},6,">5<=10","AFRICA",{"$f":"(G1297/365)/L1297","v":37.442922374429223}]
[null,"ID1326","2012-05-29T15:53:14",10000,10000,"USD",{"$f":"tblSalaries[[#This Row],[clean Salary (in local currency)]]*VLOOKUP(tblSalaries[[#This Row],[Currency]],tblXrate[],2,FALSE)","v":10000},"MIS","Reporting","India",{"$f":"VLOOKUP(tblSalaries[[#This Row],[Where do you work]],tblCountries[[Actual]:[Mapping]],2,FALSE)","v":"India"},2,"<=5","ASIA",{"$f":"(G1298/365)/L1298","v":13.698630136986301}]
[null,"ID1327","2012-05-29T16:07:59",9000,9000,"USD",{"$f":"tblSalaries[[#This Row],[clean Salary (in local currency)]]*VLOOKUP(tblSalaries[[#This Row],[Currency]],tblXrate[],2,FALSE)","v":9000},"Data Analyst","Analyst","India",{"$f":"VLOOKUP(tblSalaries[[#This Row],[Where do you work]],tblCountries[[Actual]:[Mapping]],2,FALSE)","v":"India"},8,"<=5","ASIA",{"$f":"(G1299/365)/L1299","v":3.0821917808219177}]
[null,"ID1328","2012-05-29T16:08:40",9000,9000,"USD",{"$f":"tblSalaries[[#This Row],[clean Salary (in local currency)]]*VLOOKUP(tblSalaries[[#This Row],[Currency]],tblXrate[],2,FALSE)","v":9000},"Data Analyst","Analyst","India",{"$f":"VLOOKUP(tblSalaries[[#This Row],[Where do you work]],tblCountries[[Actual]:[Mapping]],2,FALSE)","v":"India"},6,"<=5","ASIA",{"$f":"(G1300/365)/L1300","v":4.10958904109589}]
[null,"ID1329","2012-05-29T16:18:59","6.6 Lacs",660000,"INR",{"$f":"tblSalaries[[#This Row],[clean Salary (in local currency)]]*VLOOKUP(tblSalaries[[#This Row],[Currency]],tblXrate[],2,FALSE)","v":11753.225013712095},"AM business Intelligence","Manager","India",{"$f":"VLOOKUP(tblSalaries[[#This Row],[Where do you work]],tblCountries[[Actual]:[Mapping]],2,FALSE)","v":"India"},8,">5<=10","ASIA",{"$f":"(G1301/365)/L1301","v":4.0250770594904433}]
[null,"ID1330","2012-05-29T16:26:15","17000 Rs",204000,"INR",{"$f":"tblSalaries[[#This Row],[clean Salary (in local currency)]]*VLOOKUP(tblSalaries[[#This Row],[Currency]],tblXrate[],2,FALSE)","v":3632.815004238284},"MIS Associate","Reporting","India",{"$f":"VLOOKUP(tblSalaries[[#This Row],[Where do you work]],tblCountries[[Actual]:[Mapping]],2,FALSE)","v":"India"},8,"<=5","ASIA",{"$f":"(G1302/365)/L1302","v":1.2441147274788644}]
[null,"ID1331","2012-05-29T16:31:06",75000,75000,"EUR",{"$f":"tblSalaries[[#This Row],[clean Salary (in local currency)]]*VLOOKUP(tblSalaries[[#This Row],[Currency]],tblXrate[],2,FALSE)","v":95279.957924370581},"Financial Analyst","Analyst","Netherlands",{"$f":"VLOOKUP(tblSalaries[[#This Row],[Where do you work]],tblCountries[[Actual]:[Mapping]],2,FALSE)","v":"Netherlands"},8,">10<=20","EUROPE",{"$f":"(G1303/365)/L1303","v":32.630122576839241}]
[null,"ID1332","2012-05-29T16:39:11","Â£45000",45000,"GBP",{"$f":"tblSalaries[[#This Row],[clean Salary (in local currency)]]*VLOOKUP(tblSalaries[[#This Row],[Currency]],tblXrate[],2,FALSE)","v":70928.022243027779},"Senior Consultant","Consultant","UK",{"$f":"VLOOKUP(tblSalaries[[#This Row],[Where do you work]],tblCountries[[Actual]:[Mapping]],2,FALSE)","v":"UK"},3,"<=5","EUROPE",{"$f":"(G1304/365)/L1304","v":64.774449537011677}]
[null,"ID1333","2012-05-29T16:41:19","41000 â‚¬",41000,"EUR",{"$f":"tblSalaries[[#This Row],[clean Salary (in local currency)]]*VLOOKUP(tblSalaries[[#This Row],[Currency]],tblXrate[],2,FALSE)","v":52086.37699865592},"engineer","Engineer","Spain",{"$f":"VLOOKUP(tblSalaries[[#This Row],[Where do you work]],tblCountries[[Actual]:[Mapping]],2,FALSE)","v":"Spain"},6,">10<=20","EUROPE",{"$f":"(G1305/365)/L1305","v":23.783733789340602}]
[null,"ID1334","2012-05-29T16:49:44",275000,275000,"INR",{"$f":"tblSalaries[[#This Row],[clean Salary (in local currency)]]*VLOOKUP(tblSalaries[[#This Row],[Currency]],tblXrate[],2,FALSE)","v":4897.177089046706},"TL WFM","Manager","India",{"$f":"VLOOKUP(tblSalaries[[#This Row],[Where do you work]],tblCountries[[Actual]:[Mapping]],2,FALSE)","v":"India"},8,"<=5","ASIA",{"$f":"(G1306/365)/L1306","v":1.6771154414543514}]
[null,"ID1335","2012-05-29T16:55:43",80000,80000,"NZD",{"$f":"tblSalaries[[#This Row],[clean Salary (in local currency)]]*VLOOKUP(tblSalaries[[#This Row],[Currency]],tblXrate[],2,FALSE)","v":63807.047488395103},"accountant","Accountant","new zealand",{"$f":"VLOOKUP(tblSalaries[[#This Row],[Where do you work]],tblCountries[[Actual]:[Mapping]],2,FALSE)","v":"New Zealand"},8,">10<=20","OCEANIA",{"$f":"(G1307/365)/L1307","v":21.851728591916132}]
[null,"ID1336","2012-05-29T17:05:31",24000,24000,"USD",{"$f":"tblSalaries[[#This Row],[clean Salary (in local currency)]]*VLOOKUP(tblSalaries[[#This Row],[Currency]],tblXrate[],2,FALSE)","v":24000},"Dir. Revenue Mgt","Manager","Kingdom of Saudi Arabia",{"$f":"VLOOKUP(tblSalaries[[#This Row],[Where do you work]],tblCountries[[Actual]:[Mapping]],2,FALSE)","v":"Saudi Arabia"},6,"<=5","ASIA",{"$f":"(G1308/365)/L1308","v":10.958904109589042}]
[null,"ID1337","2012-05-29T17:09:02","60000 USD p.a.",60000,"USD",{"$f":"tblSalaries[[#This Row],[clean Salary (in local currency)]]*VLOOKUP(tblSalaries[[#This Row],[Currency]],tblXrate[],2,FALSE)","v":60000},"Controlling Manager","Manager","CEE",{"$f":"VLOOKUP(tblSalaries[[#This Row],[Where do you work]],tblCountries[[Actual]:[Mapping]],2,FALSE)","v":"CEE"},8,">10<=20","ASIA",{"$f":"(G1309/365)/L1309","v":20.547945205479451}]
[null,"ID1338","2012-05-29T17:09:52",300000,300000,"INR",{"$f":"tblSalaries[[#This Row],[clean Salary (in local currency)]]*VLOOKUP(tblSalaries[[#This Row],[Currency]],tblXrate[],2,FALSE)","v":5342.3750062327708},"Financial Modelling Analyst","Analyst","India",{"$f":"VLOOKUP(tblSalaries[[#This Row],[Where do you work]],tblCountries[[Actual]:[Mapping]],2,FALSE)","v":"India"},8,"<=5","ASIA",{"$f":"(G1310/365)/L1310","v":1.8295804815865653}]
[null,"ID1339","2012-05-29T17:16:20",500000,500000,"INR",{"$f":"tblSalaries[[#This Row],[clean Salary (in local currency)]]*VLOOKUP(tblSalaries[[#This Row],[Currency]],tblXrate[],2,FALSE)","v":8903.9583437212841},"support manager","Manager","India",{"$f":"VLOOKUP(tblSalaries[[#This Row],[Where do you work]],tblCountries[[Actual]:[Mapping]],2,FALSE)","v":"India"},3,"<=5","ASIA",{"$f":"(G1311/365)/L1311","v":8.1314688070513998}]
[null,"ID1340","2012-05-29T17:17:13","Â£26000",26000,"GBP",{"$f":"tblSalaries[[#This Row],[clean Salary (in local currency)]]*VLOOKUP(tblSalaries[[#This Row],[Currency]],tblXrate[],2,FALSE)","v":40980.635073749385},"Web Analyst","Analyst","UK",{"$f":"VLOOKUP(tblSalaries[[#This Row],[Where do you work]],tblCountries[[Actual]:[Mapping]],2,FALSE)","v":"UK"},6,"<=5","EUROPE",{"$f":"(G1312/365)/L1312","v":18.712618755136706}]
[null,"ID1341","2012-05-29T17:17:46","Rs.6,00,000",600000,"INR",{"$f":"tblSalaries[[#This Row],[clean Salary (in local currency)]]*VLOOKUP(tblSalaries[[#This Row],[Currency]],tblXrate[],2,FALSE)","v":10684.750012465542},"Assistant Manager","Manager","India",{"$f":"VLOOKUP(tblSalaries[[#This Row],[Where do you work]],tblCountries[[Actual]:[Mapping]],2,FALSE)","v":"India"},2,">5<=10","ASIA",{"$f":"(G1313/365)/L1313","v":14.636643852692522}]
[null,"ID1342","2012-05-29T17:30:43",1200000,1200000,"INR",{"$f":"tblSalaries[[#This Row],[clean Salary (in local currency)]]*VLOOKUP(tblSalaries[[#This Row],[Currency]],tblXrate[],2,FALSE)","v":21369.500024931083},"Consultant","Consultant","India",{"$f":"VLOOKUP(tblSalaries[[#This Row],[Where do you work]],tblCountries[[Actual]:[Mapping]],2,FALSE)","v":"India"},3,">20","ASIA",{"$f":"(G1314/365)/L1314","v":19.515525136923362}]
[null,"ID1343","2012-05-29T17:36:13",18000,18000,"USD",{"$f":"tblSalaries[[#This Row],[clean Salary (in local currency)]]*VLOOKUP(tblSalaries[[#This Row],[Currency]],tblXrate[],2,FALSE)","v":18000},"liquidity manager","Manager","Ghana",{"$f":"VLOOKUP(tblSalaries[[#This Row],[Where do you work]],tblCountries[[Actual]:[Mapping]],2,FALSE)","v":"Ghana"},6,">10<=20","AFRICA",{"$f":"(G1315/365)/L1315","v":8.2191780821917799}]
[null,"ID1344","2012-05-29T17:39:55","41000 $",41000,"USD",{"$f":"tblSalaries[[#This Row],[clean Salary (in local currency)]]*VLOOKUP(tblSalaries[[#This Row],[Currency]],tblXrate[],2,FALSE)","v":41000},"PO/PMO/Planner/PM","Manager","Israel",{"$f":"VLOOKUP(tblSalaries[[#This Row],[Where do you work]],tblCountries[[Actual]:[Mapping]],2,FALSE)","v":"Israel"},3,"<=5","ASIA",{"$f":"(G1316/365)/L1316","v":37.442922374429223}]
[null,"ID1345","2012-05-29T17:45:59","16,00,000",1600000,"INR",{"$f":"tblSalaries[[#This Row],[clean Salary (in local currency)]]*VLOOKUP(tblSalaries[[#This Row],[Currency]],tblXrate[],2,FALSE)","v":28492.66669990811},"Senior Associate ","Analyst","India",{"$f":"VLOOKUP(tblSalaries[[#This Row],[Where do you work]],tblCountries[[Actual]:[Mapping]],2,FALSE)","v":"India"},3,"<=5","ASIA",{"$f":"(G1317/365)/L1317","v":26.020700182564482}]
[null,"ID1346","2012-05-29T17:48:04",49500,49500,"USD",{"$f":"tblSalaries[[#This Row],[clean Salary (in local currency)]]*VLOOKUP(tblSalaries[[#This Row],[Currency]],tblXrate[],2,FALSE)","v":49500},"Financial Analyst II","Analyst","USA",{"$f":"VLOOKUP(tblSalaries[[#This Row],[Where do you work]],tblCountries[[Actual]:[Mapping]],2,FALSE)","v":"USA"},6,"<=5","N. AMERICA",{"$f":"(G1318/365)/L1318","v":22.602739726027398}]
[null,"ID1347","2012-05-29T18:00:19",6600,6600,"USD",{"$f":"tblSalaries[[#This Row],[clean Salary (in local currency)]]*VLOOKUP(tblSalaries[[#This Row],[Currency]],tblXrate[],2,FALSE)","v":6600},"MIS HR,HRIS","Reporting","India",{"$f":"VLOOKUP(tblSalaries[[#This Row],[Where do you work]],tblCountries[[Actual]:[Mapping]],2,FALSE)","v":"India"},3,">5<=10","ASIA",{"$f":"(G1319/365)/L1319","v":6.0273972602739727}]
[null,"ID1348","2012-05-29T18:05:50","Â£70000",70000,"GBP",{"$f":"tblSalaries[[#This Row],[clean Salary (in local currency)]]*VLOOKUP(tblSalaries[[#This Row],[Currency]],tblXrate[],2,FALSE)","v":110332.47904470989},"Consultant","Consultant","UK",{"$f":"VLOOKUP(tblSalaries[[#This Row],[Where do you work]],tblCountries[[Actual]:[Mapping]],2,FALSE)","v":"UK"},6,">10<=20","EUROPE",{"$f":"(G1320/365)/L1320","v":50.380127417675745}]
[null,"ID1349","2012-05-29T18:14:48","Â£30000",30000,"GBP",{"$f":"tblSalaries[[#This Row],[clean Salary (in local currency)]]*VLOOKUP(tblSalaries[[#This Row],[Currency]],tblXrate[],2,FALSE)","v":47285.348162018527},"Market Analyst","Analyst","UK",{"$f":"VLOOKUP(tblSalaries[[#This Row],[Where do you work]],tblCountries[[Actual]:[Mapping]],2,FALSE)","v":"UK"},8,">5<=10","EUROPE",{"$f":"(G1321/365)/L1321","v":16.193612384252919}]
[null,"ID1350","2012-05-29T18:14:53","USD 5300",5300,"USD",{"$f":"tblSalaries[[#This Row],[clean Salary (in local currency)]]*VLOOKUP(tblSalaries[[#This Row],[Currency]],tblXrate[],2,FALSE)","v":5300},"Asst. Production Manager","Manager","Pakistan",{"$f":"VLOOKUP(tblSalaries[[#This Row],[Where do you work]],tblCountries[[Actual]:[Mapping]],2,FALSE)","v":"Pakistan"},6,"<=5","ASIA",{"$f":"(G1322/365)/L1322","v":2.420091324200913}]
[null,"ID1351","2012-05-29T18:21:13",34500,34500,"EUR",{"$f":"tblSalaries[[#This Row],[clean Salary (in local currency)]]*VLOOKUP(tblSalaries[[#This Row],[Currency]],tblXrate[],2,FALSE)","v":43828.780645210471},"Analyst","Analyst","Netherlands",{"$f":"VLOOKUP(tblSalaries[[#This Row],[Where do you work]],tblCountries[[Actual]:[Mapping]],2,FALSE)","v":"Netherlands"},6,">10<=20","EUROPE",{"$f":"(G1323/365)/L1323","v":20.013141847128068}]
[null,"ID1352","2012-05-29T18:33:08",80000,80000,"USD",{"$f":"tblSalaries[[#This Row],[clean Salary (in local currency)]]*VLOOKUP(tblSalaries[[#This Row],[Currency]],tblXrate[],2,FALSE)","v":80000},"Developer","Analyst","USA",{"$f":"VLOOKUP(tblSalaries[[#This Row],[Where do you work]],tblCountries[[Actual]:[Mapping]],2,FALSE)","v":"USA"},2,">10<=20","N. AMERICA",{"$f":"(G1324/365)/L1324","v":109.58904109589041}]
[null,"ID1353","2012-05-29T18:35:10","9 067",9067,"EUR",{"$f":"tblSalaries[[#This Row],[clean Salary (in local currency)]]*VLOOKUP(tblSalaries[[#This Row],[Currency]],tblXrate[],2,FALSE)","v":11518.711713336908},"assistant","Analyst","Hungary",{"$f":"VLOOKUP(tblSalaries[[#This Row],[Where do you work]],tblCountries[[Actual]:[Mapping]],2,FALSE)","v":"Hungary"},3,"<=5","EUROPE",{"$f":"(G1325/365)/L1325","v":10.519371427704939}]
[null,"ID1354","2012-05-29T18:35:31","A$150000",150000,"AUD",{"$f":"tblSalaries[[#This Row],[clean Salary (in local currency)]]*VLOOKUP(tblSalaries[[#This Row],[Currency]],tblXrate[],2,FALSE)","v":152986.44846039536},"Bus Analyst","Analyst","Australia",{"$f":"VLOOKUP(tblSalaries[[#This Row],[Where do you work]],tblCountries[[Actual]:[Mapping]],2,FALSE)","v":"Australia"},2,">5<=10","OCEANIA",{"$f":"(G1326/365)/L1326","v":209.57047734300735}]
[null,"ID1355","2012-05-29T18:38:51",125000,125000,"USD",{"$f":"tblSalaries[[#This Row],[clean Salary (in local currency)]]*VLOOKUP(tblSalaries[[#This Row],[Currency]],tblXrate[],2,FALSE)","v":125000},"Vice President of Performance Management","Manager","USA",{"$f":"VLOOKUP(tblSalaries[[#This Row],[Where do you work]],tblCountries[[Actual]:[Mapping]],2,FALSE)","v":"USA"},6,"<=5","N. AMERICA",{"$f":"(G1327/365)/L1327","v":57.077625570776256}]
[null,"ID1356","2012-05-29T18:55:18",100000,100000,"AUD",{"$f":"tblSalaries[[#This Row],[clean Salary (in local currency)]]*VLOOKUP(tblSalaries[[#This Row],[Currency]],tblXrate[],2,FALSE)","v":101990.96564026357},"Principal advisor","Consultant","Australia",{"$f":"VLOOKUP(tblSalaries[[#This Row],[Where do you work]],tblCountries[[Actual]:[Mapping]],2,FALSE)","v":"Australia"},2,">20","OCEANIA",{"$f":"(G1328/365)/L1328","v":139.71365156200488}]
[null,"ID1357","2012-05-29T18:55:20",105000,105000,"USD",{"$f":"tblSalaries[[#This Row],[clean Salary (in local currency)]]*VLOOKUP(tblSalaries[[#This Row],[Currency]],tblXrate[],2,FALSE)","v":105000},"Director of Technology","CXO or Top Mgmt.","USA",{"$f":"VLOOKUP(tblSalaries[[#This Row],[Where do you work]],tblCountries[[Actual]:[Mapping]],2,FALSE)","v":"USA"},2,">10<=20","N. AMERICA",{"$f":"(G1329/365)/L1329","v":143.83561643835617}]
[null,"ID1358","2012-05-29T19:01:05",40000,40000,"EUR",{"$f":"tblSalaries[[#This Row],[clean Salary (in local currency)]]*VLOOKUP(tblSalaries[[#This Row],[Currency]],tblXrate[],2,FALSE)","v":50815.977559664309},"officer","Manager","Austria",{"$f":"VLOOKUP(tblSalaries[[#This Row],[Where do you work]],tblCountries[[Actual]:[Mapping]],2,FALSE)","v":"Austria"},6,">10<=20","EUROPE",{"$f":"(G1330/365)/L1330","v":23.203642721307904}]
[null,"ID1359","2012-05-29T19:01:48",75000,75000,"USD",{"$f":"tblSalaries[[#This Row],[clean Salary (in local currency)]]*VLOOKUP(tblSalaries[[#This Row],[Currency]],tblXrate[],2,FALSE)","v":75000},"Financial Analyst","Analyst","USA",{"$f":"VLOOKUP(tblSalaries[[#This Row],[Where do you work]],tblCountries[[Actual]:[Mapping]],2,FALSE)","v":"USA"},6,">5<=10","N. AMERICA",{"$f":"(G1331/365)/L1331","v":34.246575342465754}]
[null,"ID1360","2012-05-29T19:06:14","2.5 per lacks",250000,"INR",{"$f":"tblSalaries[[#This Row],[clean Salary (in local currency)]]*VLOOKUP(tblSalaries[[#This Row],[Currency]],tblXrate[],2,FALSE)","v":4451.9791718606421},"Credit Executive","Analyst","India",{"$f":"VLOOKUP(tblSalaries[[#This Row],[Where do you work]],tblCountries[[Actual]:[Mapping]],2,FALSE)","v":"India"},8,">5<=10","ASIA",{"$f":"(G1332/365)/L1332","v":1.5246504013221376}]
[null,"ID1361","2012-05-29T19:08:37",110000,110000,"USD",{"$f":"tblSalaries[[#This Row],[clean Salary (in local currency)]]*VLOOKUP(tblSalaries[[#This Row],[Currency]],tblXrate[],2,FALSE)","v":110000},"Business Analytics Associate","Analyst","USA",{"$f":"VLOOKUP(tblSalaries[[#This Row],[Where do you work]],tblCountries[[Actual]:[Mapping]],2,FALSE)","v":"USA"},2,">5<=10","N. AMERICA",{"$f":"(G1333/365)/L1333","v":150.68493150684932}]
[null,"ID1362","2012-05-29T19:10:05","27,000.GBP 42,353 USD ",27000,"GBP",{"$f":"tblSalaries[[#This Row],[clean Salary (in local currency)]]*VLOOKUP(tblSalaries[[#This Row],[Currency]],tblXrate[],2,FALSE)","v":42556.81334581667},"Engineering Tech","Engineer","UK",{"$f":"VLOOKUP(tblSalaries[[#This Row],[Where do you work]],tblCountries[[Actual]:[Mapping]],2,FALSE)","v":"UK"},6,"<=5","EUROPE",{"$f":"(G1334/365)/L1334","v":19.432334861103502}]
[null,"ID1363","2012-05-29T19:11:31","Rs. 4.5 lakhs ",450000,"INR",{"$f":"tblSalaries[[#This Row],[clean Salary (in local currency)]]*VLOOKUP(tblSalaries[[#This Row],[Currency]],tblXrate[],2,FALSE)","v":8013.5625093491553},"Mechanical Design engineer","Engineer","India",{"$f":"VLOOKUP(tblSalaries[[#This Row],[Where do you work]],tblCountries[[Actual]:[Mapping]],2,FALSE)","v":"India"},2,">5<=10","ASIA",{"$f":"(G1335/365)/L1335","v":10.977482889519392}]
[null,"ID1364","2012-05-29T19:12:19",125000,125000,"USD",{"$f":"tblSalaries[[#This Row],[clean Salary (in local currency)]]*VLOOKUP(tblSalaries[[#This Row],[Currency]],tblXrate[],2,FALSE)","v":125000},"Finance Manager","Manager","USA",{"$f":"VLOOKUP(tblSalaries[[#This Row],[Where do you work]],tblCountries[[Actual]:[Mapping]],2,FALSE)","v":"USA"},6,">20","N. AMERICA",{"$f":"(G1336/365)/L1336","v":57.077625570776256}]
[null,"ID1365","2012-05-29T19:23:32",60000,60000,"USD",{"$f":"tblSalaries[[#This Row],[clean Salary (in local currency)]]*VLOOKUP(tblSalaries[[#This Row],[Currency]],tblXrate[],2,FALSE)","v":60000},"Business Information Analyst","Analyst","USA",{"$f":"VLOOKUP(tblSalaries[[#This Row],[Where do you work]],tblCountries[[Actual]:[Mapping]],2,FALSE)","v":"USA"},8,">10<=20","N. AMERICA",{"$f":"(G1337/365)/L1337","v":20.547945205479451}]
[null,"ID1366","2012-05-29T19:31:32","2.21Lac",2210000,"INR",{"$f":"tblSalaries[[#This Row],[clean Salary (in local currency)]]*VLOOKUP(tblSalaries[[#This Row],[Currency]],tblXrate[],2,FALSE)","v":39355.495879248076},"Marketing","Analyst","India",{"$f":"VLOOKUP(tblSalaries[[#This Row],[Where do you work]],tblCountries[[Actual]:[Mapping]],2,FALSE)","v":"India"},2,">5<=10","ASIA",{"$f":"(G1338/365)/L1338","v":53.911638190750786}]
[null,"ID1367","2012-05-29T19:33:07",45000,45000,"EUR",{"$f":"tblSalaries[[#This Row],[clean Salary (in local currency)]]*VLOOKUP(tblSalaries[[#This Row],[Currency]],tblXrate[],2,FALSE)","v":57167.974754622352},"Junior Controller","Controller","Germany",{"$f":"VLOOKUP(tblSalaries[[#This Row],[Where do you work]],tblCountries[[Actual]:[Mapping]],2,FALSE)","v":"Germany"},6,">10<=20","EUROPE",{"$f":"(G1339/365)/L1339","v":26.104098061471394}]
[null,"ID1368","2012-05-29T19:39:35","4000000 JPY",4000000,"JPY",{"$f":"tblSalaries[[#This Row],[clean Salary (in local currency)]]*VLOOKUP(tblSalaries[[#This Row],[Currency]],tblXrate[],2,FALSE)","v":50694.322109187968},"System Analyst (Configuration Mgmt)","Analyst","Japan",{"$f":"VLOOKUP(tblSalaries[[#This Row],[Where do you work]],tblCountries[[Actual]:[Mapping]],2,FALSE)","v":"Japan"},6,">5<=10","ASIA",{"$f":"(G1340/365)/L1340","v":23.148092287300443}]
[null,"ID1369","2012-05-29T19:47:18",57500,57500,"USD",{"$f":"tblSalaries[[#This Row],[clean Salary (in local currency)]]*VLOOKUP(tblSalaries[[#This Row],[Currency]],tblXrate[],2,FALSE)","v":57500},"Planning Supervisor","Manager","USA",{"$f":"VLOOKUP(tblSalaries[[#This Row],[Where do you work]],tblCountries[[Actual]:[Mapping]],2,FALSE)","v":"USA"},6,">20","N. AMERICA",{"$f":"(G1341/365)/L1341","v":26.25570776255708}]
[null,"ID1370","2012-05-29T19:50:25",62000,62000,"EUR",{"$f":"tblSalaries[[#This Row],[clean Salary (in local currency)]]*VLOOKUP(tblSalaries[[#This Row],[Currency]],tblXrate[],2,FALSE)","v":78764.765217479682},"Controller","Controller","Netherlands",{"$f":"VLOOKUP(tblSalaries[[#This Row],[Where do you work]],tblCountries[[Actual]:[Mapping]],2,FALSE)","v":"Netherlands"},6,">10<=20","EUROPE",{"$f":"(G1342/365)/L1342","v":35.965646218027253}]
[null,"ID1371","2012-05-29T19:52:35","$80,000 USD",80000,"USD",{"$f":"tblSalaries[[#This Row],[clean Salary (in local currency)]]*VLOOKUP(tblSalaries[[#This Row],[Currency]],tblXrate[],2,FALSE)","v":80000},"Manager of Data Analytics","Manager","USA",{"$f":"VLOOKUP(tblSalaries[[#This Row],[Where do you work]],tblCountries[[Actual]:[Mapping]],2,FALSE)","v":"USA"},6,">5<=10","N. AMERICA",{"$f":"(G1343/365)/L1343","v":36.529680365296805}]
[null,"ID1372","2012-05-29T19:54:38","Â£45000",45000,"GBP",{"$f":"tblSalaries[[#This Row],[clean Salary (in local currency)]]*VLOOKUP(tblSalaries[[#This Row],[Currency]],tblXrate[],2,FALSE)","v":70928.022243027779},"Management Accountant","Manager","UK",{"$f":"VLOOKUP(tblSalaries[[#This Row],[Where do you work]],tblCountries[[Actual]:[Mapping]],2,FALSE)","v":"UK"},3,">10<=20","EUROPE",{"$f":"(G1344/365)/L1344","v":64.774449537011677}]
[null,"ID1373","2012-05-29T20:03:07",33000,33000,"USD",{"$f":"tblSalaries[[#This Row],[clean Salary (in local currency)]]*VLOOKUP(tblSalaries[[#This Row],[Currency]],tblXrate[],2,FALSE)","v":33000},"Quality Control Supervisor","Controller","USA",{"$f":"VLOOKUP(tblSalaries[[#This Row],[Where do you work]],tblCountries[[Actual]:[Mapping]],2,FALSE)","v":"USA"},6,"<=5","N. AMERICA",{"$f":"(G1345/365)/L1345","v":15.068493150684931}]
[null,"ID1374","2012-05-29T20:20:21","$100,000 US",100000,"USD",{"$f":"tblSalaries[[#This Row],[clean Salary (in local currency)]]*VLOOKUP(tblSalaries[[#This Row],[Currency]],tblXrate[],2,FALSE)","v":100000},"Senior Financial Analyst","Analyst","USA",{"$f":"VLOOKUP(tblSalaries[[#This Row],[Where do you work]],tblCountries[[Actual]:[Mapping]],2,FALSE)","v":"USA"},6,"<=5","N. AMERICA",{"$f":"(G1346/365)/L1346","v":45.662100456621005}]
[null,"ID1375","2012-05-29T20:40:12","$60,000 USD",60000,"USD",{"$f":"tblSalaries[[#This Row],[clean Salary (in local currency)]]*VLOOKUP(tblSalaries[[#This Row],[Currency]],tblXrate[],2,FALSE)","v":60000},"project manager","Manager","USA",{"$f":"VLOOKUP(tblSalaries[[#This Row],[Where do you work]],tblCountries[[Actual]:[Mapping]],2,FALSE)","v":"USA"},3,">10<=20","N. AMERICA",{"$f":"(G1347/365)/L1347","v":54.794520547945204}]
[null,"ID1376","2012-05-29T20:53:43",95000,95000,"USD",{"$f":"tblSalaries[[#This Row],[clean Salary (in local currency)]]*VLOOKUP(tblSalaries[[#This Row],[Currency]],tblXrate[],2,FALSE)","v":95000},"Cost Analyst","Analyst","USA",{"$f":"VLOOKUP(tblSalaries[[#This Row],[Where do you work]],tblCountries[[Actual]:[Mapping]],2,FALSE)","v":"USA"},3,">5<=10","N. AMERICA",{"$f":"(G1348/365)/L1348","v":86.757990867579906}]
[null,"ID1377","2012-05-29T21:07:27",24000,24000,"USD",{"$f":"tblSalaries[[#This Row],[clean Salary (in local currency)]]*VLOOKUP(tblSalaries[[#This Row],[Currency]],tblXrate[],2,FALSE)","v":24000},"clerk 24 hrs per week","Analyst","USA",{"$f":"VLOOKUP(tblSalaries[[#This Row],[Where do you work]],tblCountries[[Actual]:[Mapping]],2,FALSE)","v":"USA"},2,">20","N. AMERICA",{"$f":"(G1349/365)/L1349","v":32.876712328767127}]
[null,"ID1378","2012-05-29T21:17:26",50000,50000,"USD",{"$f":"tblSalaries[[#This Row],[clean Salary (in local currency)]]*VLOOKUP(tblSalaries[[#This Row],[Currency]],tblXrate[],2,FALSE)","v":50000},"Engineering Intern","Engineer","USA",{"$f":"VLOOKUP(tblSalaries[[#This Row],[Where do you work]],tblCountries[[Actual]:[Mapping]],2,FALSE)","v":"USA"},6,"<=5","N. AMERICA",{"$f":"(G1350/365)/L1350","v":22.831050228310502}]
[null,"ID1379","2012-05-29T21:25:03",103000,103000,"USD",{"$f":"tblSalaries[[#This Row],[clean Salary (in local currency)]]*VLOOKUP(tblSalaries[[#This Row],[Currency]],tblXrate[],2,FALSE)","v":103000},"Controller","Controller","USA",{"$f":"VLOOKUP(tblSalaries[[#This Row],[Where do you work]],tblCountries[[Actual]:[Mapping]],2,FALSE)","v":"USA"},6,">20","N. AMERICA",{"$f":"(G1351/365)/L1351","v":47.031963470319631}]
[null,"ID1380","2012-05-29T21:27:23",36000,36000,"USD",{"$f":"tblSalaries[[#This Row],[clean Salary (in local currency)]]*VLOOKUP(tblSalaries[[#This Row],[Currency]],tblXrate[],2,FALSE)","v":36000},"Data Specialist","Specialist","USA",{"$f":"VLOOKUP(tblSalaries[[#This Row],[Where do you work]],tblCountries[[Actual]:[Mapping]],2,FALSE)","v":"USA"},8,">5<=10","N. AMERICA",{"$f":"(G1352/365)/L1352","v":12.328767123287671}]
[null,"ID1381","2012-05-29T21:28:07",85000,85000,"USD",{"$f":"tblSalaries[[#This Row],[clean Salary (in local currency)]]*VLOOKUP(tblSalaries[[#This Row],[Currency]],tblXrate[],2,FALSE)","v":85000},"Senior Analyst","Analyst","USA",{"$f":"VLOOKUP(tblSalaries[[#This Row],[Where do you work]],tblCountries[[Actual]:[Mapping]],2,FALSE)","v":"USA"},6,">10<=20","N. AMERICA",{"$f":"(G1353/365)/L1353","v":38.812785388127857}]
[null,"ID1382","2012-05-29T21:29:36",100000,100000,"USD",{"$f":"tblSalaries[[#This Row],[clean Salary (in local currency)]]*VLOOKUP(tblSalaries[[#This Row],[Currency]],tblXrate[],2,FALSE)","v":100000},"Vice Head of Dpt in Education","CXO or Top Mgmt.","Sweden",{"$f":"VLOOKUP(tblSalaries[[#This Row],[Where do you work]],tblCountries[[Actual]:[Mapping]],2,FALSE)","v":"Sweden"},3,">10<=20","EUROPE",{"$f":"(G1354/365)/L1354","v":91.324200913242009}]
[null,"ID1383","2012-05-29T21:33:42","$83000 USD ",83000,"USD",{"$f":"tblSalaries[[#This Row],[clean Salary (in local currency)]]*VLOOKUP(tblSalaries[[#This Row],[Currency]],tblXrate[],2,FALSE)","v":83000},"Senior Planning Analyst","Analyst","Canada",{"$f":"VLOOKUP(tblSalaries[[#This Row],[Where do you work]],tblCountries[[Actual]:[Mapping]],2,FALSE)","v":"Canada"},6,">10<=20","N. AMERICA",{"$f":"(G1355/365)/L1355","v":37.899543378995432}]
[null,"ID1384","2012-05-29T21:38:10",85000,85000,"USD",{"$f":"tblSalaries[[#This Row],[clean Salary (in local currency)]]*VLOOKUP(tblSalaries[[#This Row],[Currency]],tblXrate[],2,FALSE)","v":85000},"energy engineer","Engineer","USA",{"$f":"VLOOKUP(tblSalaries[[#This Row],[Where do you work]],tblCountries[[Actual]:[Mapping]],2,FALSE)","v":"USA"},3,">20","N. AMERICA",{"$f":"(G1356/365)/L1356","v":77.625570776255714}]
[null,"ID1385","2012-05-29T21:42:44",120000,120000,"USD",{"$f":"tblSalaries[[#This Row],[clean Salary (in local currency)]]*VLOOKUP(tblSalaries[[#This Row],[Currency]],tblXrate[],2,FALSE)","v":120000},"Finance Manager","Manager","USA",{"$f":"VLOOKUP(tblSalaries[[#This Row],[Where do you work]],tblCountries[[Actual]:[Mapping]],2,FALSE)","v":"USA"},3,"<=5","N. AMERICA",{"$f":"(G1357/365)/L1357","v":109.58904109589041}]
[null,"ID1386","2012-05-29T21:44:00",69960,69960,"USD",{"$f":"tblSalaries[[#This Row],[clean Salary (in local currency)]]*VLOOKUP(tblSalaries[[#This Row],[Currency]],tblXrate[],2,FALSE)","v":69960},"Measurement & Verification Engineer","Engineer","USA",{"$f":"VLOOKUP(tblSalaries[[#This Row],[Where do you work]],tblCountries[[Actual]:[Mapping]],2,FALSE)","v":"USA"},3,">20","N. AMERICA",{"$f":"(G1358/365)/L1358","v":63.890410958904113}]
[null,"ID1387","2012-05-29T21:46:28","97,000 USD",97000,"USD",{"$f":"tblSalaries[[#This Row],[clean Salary (in local currency)]]*VLOOKUP(tblSalaries[[#This Row],[Currency]],tblXrate[],2,FALSE)","v":97000},"Sr. Manager of Finance","Manager","USA",{"$f":"VLOOKUP(tblSalaries[[#This Row],[Where do you work]],tblCountries[[Actual]:[Mapping]],2,FALSE)","v":"USA"},6,">10<=20","N. AMERICA",{"$f":"(G1359/365)/L1359","v":44.292237442922378}]
[null,"ID1388","2012-05-29T21:48:13","60000 $",60000,"GBP",{"$f":"tblSalaries[[#This Row],[clean Salary (in local currency)]]*VLOOKUP(tblSalaries[[#This Row],[Currency]],tblXrate[],2,FALSE)","v":94570.696324037053},"Analyst","Analyst","UK",{"$f":"VLOOKUP(tblSalaries[[#This Row],[Where do you work]],tblCountries[[Actual]:[Mapping]],2,FALSE)","v":"UK"},6,">5<=10","EUROPE",{"$f":"(G1360/365)/L1360","v":43.182966358007782}]
[null,"ID1389","2012-05-29T21:50:30",39000,39000,"USD",{"$f":"tblSalaries[[#This Row],[clean Salary (in local currency)]]*VLOOKUP(tblSalaries[[#This Row],[Currency]],tblXrate[],2,FALSE)","v":39000},"I.T Manager","Manager","South Africa",{"$f":"VLOOKUP(tblSalaries[[#This Row],[Where do you work]],tblCountries[[Actual]:[Mapping]],2,FALSE)","v":"South Africa"},8,">5<=10","AFRICA",{"$f":"(G1361/365)/L1361","v":13.356164383561644}]
[null,"ID1390","2012-05-29T21:50:45","Rs 250000",250000,"INR",{"$f":"tblSalaries[[#This Row],[clean Salary (in local currency)]]*VLOOKUP(tblSalaries[[#This Row],[Currency]],tblXrate[],2,FALSE)","v":4451.9791718606421},"Manager","Manager","India",{"$f":"VLOOKUP(tblSalaries[[#This Row],[Where do you work]],tblCountries[[Actual]:[Mapping]],2,FALSE)","v":"India"},2,">10<=20","ASIA",{"$f":"(G1362/365)/L1362","v":6.0986016052885503}]
[null,"ID1391","2012-05-29T21:54:33",62000,62000,"USD",{"$f":"tblSalaries[[#This Row],[clean Salary (in local currency)]]*VLOOKUP(tblSalaries[[#This Row],[Currency]],tblXrate[],2,FALSE)","v":62000},"Measurement Specialist","Specialist","USA",{"$f":"VLOOKUP(tblSalaries[[#This Row],[Where do you work]],tblCountries[[Actual]:[Mapping]],2,FALSE)","v":"USA"},8,">20","N. AMERICA",{"$f":"(G1363/365)/L1363","v":21.232876712328768}]
[null,"ID1392","2012-05-29T21:59:35",44000,44000,"USD",{"$f":"tblSalaries[[#This Row],[clean Salary (in local currency)]]*VLOOKUP(tblSalaries[[#This Row],[Currency]],tblXrate[],2,FALSE)","v":44000},"Test engineer","Engineer","USA",{"$f":"VLOOKUP(tblSalaries[[#This Row],[Where do you work]],tblCountries[[Actual]:[Mapping]],2,FALSE)","v":"USA"},6,">10<=20","N. AMERICA",{"$f":"(G1364/365)/L1364","v":20.091324200913242}]
[null,"ID1393","2012-05-29T22:02:31",150000,150000,"USD",{"$f":"tblSalaries[[#This Row],[clean Salary (in local currency)]]*VLOOKUP(tblSalaries[[#This Row],[Currency]],tblXrate[],2,FALSE)","v":150000},"VP, Business Management","Manager","USA",{"$f":"VLOOKUP(tblSalaries[[#This Row],[Where do you work]],tblCountries[[Actual]:[Mapping]],2,FALSE)","v":"USA"},3,">20","N. AMERICA",{"$f":"(G1365/365)/L1365","v":136.98630136986301}]
[null,"ID1394","2012-05-29T22:04:09",180000,180000,"EUR",{"$f":"tblSalaries[[#This Row],[clean Salary (in local currency)]]*VLOOKUP(tblSalaries[[#This Row],[Currency]],tblXrate[],2,FALSE)","v":228671.89901848941},"MIS Controller","Controller","Europe",{"$f":"VLOOKUP(tblSalaries[[#This Row],[Where do you work]],tblCountries[[Actual]:[Mapping]],2,FALSE)","v":"Europe"},6,">10<=20","EUROPE",{"$f":"(G1366/365)/L1366","v":104.41639224588558}]
[null,"ID1395","2012-05-29T22:13:08",73500,73500,"USD",{"$f":"tblSalaries[[#This Row],[clean Salary (in local currency)]]*VLOOKUP(tblSalaries[[#This Row],[Currency]],tblXrate[],2,FALSE)","v":73500},"Senior Underwriting Analyst","Analyst","USA",{"$f":"VLOOKUP(tblSalaries[[#This Row],[Where do you work]],tblCountries[[Actual]:[Mapping]],2,FALSE)","v":"USA"},8,">5<=10","N. AMERICA",{"$f":"(G1367/365)/L1367","v":25.171232876712327}]
[null,"ID1396","2012-05-29T22:14:19",77500,77500,"USD",{"$f":"tblSalaries[[#This Row],[clean Salary (in local currency)]]*VLOOKUP(tblSalaries[[#This Row],[Currency]],tblXrate[],2,FALSE)","v":77500},"Sr Financial Analyst","Analyst","USA",{"$f":"VLOOKUP(tblSalaries[[#This Row],[Where do you work]],tblCountries[[Actual]:[Mapping]],2,FALSE)","v":"USA"},6,">5<=10","N. AMERICA",{"$f":"(G1368/365)/L1368","v":35.388127853881279}]
[null,"ID1397","2012-05-29T22:18:48",60800,60800,"USD",{"$f":"tblSalaries[[#This Row],[clean Salary (in local currency)]]*VLOOKUP(tblSalaries[[#This Row],[Currency]],tblXrate[],2,FALSE)","v":60800},"Data Integrity & Reporting Tool Analyst","Analyst","USA",{"$f":"VLOOKUP(tblSalaries[[#This Row],[Where do you work]],tblCountries[[Actual]:[Mapping]],2,FALSE)","v":"USA"},8,">5<=10","N. AMERICA",{"$f":"(G1369/365)/L1369","v":20.82191780821918}]
[null,"ID1398","2012-05-29T22:24:28",136000,136000,"USD",{"$f":"tblSalaries[[#This Row],[clean Salary (in local currency)]]*VLOOKUP(tblSalaries[[#This Row],[Currency]],tblXrate[],2,FALSE)","v":136000},"Manager FP and A","Manager","USA",{"$f":"VLOOKUP(tblSalaries[[#This Row],[Where do you work]],tblCountries[[Actual]:[Mapping]],2,FALSE)","v":"USA"},6,">5<=10","N. AMERICA",{"$f":"(G1370/365)/L1370","v":62.100456621004561}]
[null,"ID1399","2012-05-29T22:32:16",20000,20000,"USD",{"$f":"tblSalaries[[#This Row],[clean Salary (in local currency)]]*VLOOKUP(tblSalaries[[#This Row],[Currency]],tblXrate[],2,FALSE)","v":20000},"Business Operation Specialist","Specialist","India",{"$f":"VLOOKUP(tblSalaries[[#This Row],[Where do you work]],tblCountries[[Actual]:[Mapping]],2,FALSE)","v":"India"},6,">5<=10","ASIA",{"$f":"(G1371/365)/L1371","v":9.1324200913242013}]
[null,"ID1400","2012-05-29T22:35:17",95000,95000,"USD",{"$f":"tblSalaries[[#This Row],[clean Salary (in local currency)]]*VLOOKUP(tblSalaries[[#This Row],[Currency]],tblXrate[],2,FALSE)","v":95000},"Stress Engineer","Engineer","USA",{"$f":"VLOOKUP(tblSalaries[[#This Row],[Where do you work]],tblCountries[[Actual]:[Mapping]],2,FALSE)","v":"USA"},6,">10<=20","N. AMERICA",{"$f":"(G1372/365)/L1372","v":43.378995433789953}]
[null,"ID1401","2012-05-29T22:47:10",130000,130000,"USD",{"$f":"tblSalaries[[#This Row],[clean Salary (in local currency)]]*VLOOKUP(tblSalaries[[#This Row],[Currency]],tblXrate[],2,FALSE)","v":130000},"Manager","Manager","USA",{"$f":"VLOOKUP(tblSalaries[[#This Row],[Where do you work]],tblCountries[[Actual]:[Mapping]],2,FALSE)","v":"USA"},2,">20","N. AMERICA",{"$f":"(G1373/365)/L1373","v":178.08219178082192}]
[null,"ID1402","2012-05-29T22:50:16",65000,65000,"USD",{"$f":"tblSalaries[[#This Row],[clean Salary (in local currency)]]*VLOOKUP(tblSalaries[[#This Row],[Currency]],tblXrate[],2,FALSE)","v":65000},"eeo analyst","Analyst","USA",{"$f":"VLOOKUP(tblSalaries[[#This Row],[Where do you work]],tblCountries[[Actual]:[Mapping]],2,FALSE)","v":"USA"},3,">5<=10","N. AMERICA",{"$f":"(G1374/365)/L1374","v":59.360730593607308}]
[null,"ID1403","2012-05-29T22:50:20",80000,80000,"USD",{"$f":"tblSalaries[[#This Row],[clean Salary (in local currency)]]*VLOOKUP(tblSalaries[[#This Row],[Currency]],tblXrate[],2,FALSE)","v":80000},"Sr Process Consultant","Consultant","USA",{"$f":"VLOOKUP(tblSalaries[[#This Row],[Where do you work]],tblCountries[[Actual]:[Mapping]],2,FALSE)","v":"USA"},3,">5<=10","N. AMERICA",{"$f":"(G1375/365)/L1375","v":73.05936073059361}]
[null,"ID1404","2012-05-29T22:56:24","37K",37000,"USD",{"$f":"tblSalaries[[#This Row],[clean Salary (in local currency)]]*VLOOKUP(tblSalaries[[#This Row],[Currency]],tblXrate[],2,FALSE)","v":37000},"Credentialing Coordinator & Productivity Reports \"Guru\"","Reporting","USA",{"$f":"VLOOKUP(tblSalaries[[#This Row],[Where do you work]],tblCountries[[Actual]:[Mapping]],2,FALSE)","v":"USA"},3,">20","N. AMERICA",{"$f":"(G1376/365)/L1376","v":33.789954337899545}]
[null,"ID1405","2012-05-29T23:06:00",40000,40000,"USD",{"$f":"tblSalaries[[#This Row],[clean Salary (in local currency)]]*VLOOKUP(tblSalaries[[#This Row],[Currency]],tblXrate[],2,FALSE)","v":40000},"Transportation Planner","Manager","USA",{"$f":"VLOOKUP(tblSalaries[[#This Row],[Where do you work]],tblCountries[[Actual]:[Mapping]],2,FALSE)","v":"USA"},2,">5<=10","N. AMERICA",{"$f":"(G1377/365)/L1377","v":54.794520547945204}]
[null,"ID1406","2012-05-29T23:08:45",49000,49000,"USD",{"$f":"tblSalaries[[#This Row],[clean Salary (in local currency)]]*VLOOKUP(tblSalaries[[#This Row],[Currency]],tblXrate[],2,FALSE)","v":49000},"Research Analyst","Analyst","USA",{"$f":"VLOOKUP(tblSalaries[[#This Row],[Where do you work]],tblCountries[[Actual]:[Mapping]],2,FALSE)","v":"USA"},6,">5<=10","N. AMERICA",{"$f":"(G1378/365)/L1378","v":22.37442922374429}]
[null,"ID1407","2012-05-29T23:09:29",65000,65000,"USD",{"$f":"tblSalaries[[#This Row],[clean Salary (in local currency)]]*VLOOKUP(tblSalaries[[#This Row],[Currency]],tblXrate[],2,FALSE)","v":65000},"Data Analyst","Analyst","USA",{"$f":"VLOOKUP(tblSalaries[[#This Row],[Where do you work]],tblCountries[[Actual]:[Mapping]],2,FALSE)","v":"USA"},8,">10<=20","N. AMERICA",{"$f":"(G1379/365)/L1379","v":22.260273972602739}]
[null,"ID1408","2012-05-29T23:13:32",55000,55000,"USD",{"$f":"tblSalaries[[#This Row],[clean Salary (in local currency)]]*VLOOKUP(tblSalaries[[#This Row],[Currency]],tblXrate[],2,FALSE)","v":55000},"Risk Analyst","Analyst","USA",{"$f":"VLOOKUP(tblSalaries[[#This Row],[Where do you work]],tblCountries[[Actual]:[Mapping]],2,FALSE)","v":"USA"},8,"<=5","N. AMERICA",{"$f":"(G1380/365)/L1380","v":18.835616438356166}]
[null,"ID1409","2012-05-29T23:20:41",40000,40000,"USD",{"$f":"tblSalaries[[#This Row],[clean Salary (in local currency)]]*VLOOKUP(tblSalaries[[#This Row],[Currency]],tblXrate[],2,FALSE)","v":40000},"Project Coordinator","Manager","USA",{"$f":"VLOOKUP(tblSalaries[[#This Row],[Where do you work]],tblCountries[[Actual]:[Mapping]],2,FALSE)","v":"USA"},6,"<=5","N. AMERICA",{"$f":"(G1381/365)/L1381","v":18.264840182648403}]
[null,"ID1410","2012-05-29T23:21:25",60000,60000,"USD",{"$f":"tblSalaries[[#This Row],[clean Salary (in local currency)]]*VLOOKUP(tblSalaries[[#This Row],[Currency]],tblXrate[],2,FALSE)","v":60000},"business analyst","Analyst","USA",{"$f":"VLOOKUP(tblSalaries[[#This Row],[Where do you work]],tblCountries[[Actual]:[Mapping]],2,FALSE)","v":"USA"},6,">10<=20","N. AMERICA",{"$f":"(G1382/365)/L1382","v":27.397260273972602}]
[null,"ID1411","2012-05-29T23:31:03","36000 euros",36000,"EUR",{"$f":"tblSalaries[[#This Row],[clean Salary (in local currency)]]*VLOOKUP(tblSalaries[[#This Row],[Currency]],tblXrate[],2,FALSE)","v":45734.379803697877},"Data Analytics Consultant","Analyst","Ireland",{"$f":"VLOOKUP(tblSalaries[[#This Row],[Where do you work]],tblCountries[[Actual]:[Mapping]],2,FALSE)","v":"Ireland"},3,"<=5","EUROPE",{"$f":"(G1383/365)/L1383","v":41.766556898354224}]
[null,"ID1412","2012-05-29T23:39:13",150000,150000,"USD",{"$f":"tblSalaries[[#This Row],[clean Salary (in local currency)]]*VLOOKUP(tblSalaries[[#This Row],[Currency]],tblXrate[],2,FALSE)","v":150000},"Senior Analyst","Analyst","USA",{"$f":"VLOOKUP(tblSalaries[[#This Row],[Where do you work]],tblCountries[[Actual]:[Mapping]],2,FALSE)","v":"USA"},3,">20","N. AMERICA",{"$f":"(G1384/365)/L1384","v":136.98630136986301}]
[null,"ID1413","2012-05-29T23:44:26",88000,88000,"USD",{"$f":"tblSalaries[[#This Row],[clean Salary (in local currency)]]*VLOOKUP(tblSalaries[[#This Row],[Currency]],tblXrate[],2,FALSE)","v":88000},"Manager, Financial Planning & Analysis","Manager","USA",{"$f":"VLOOKUP(tblSalaries[[#This Row],[Where do you work]],tblCountries[[Actual]:[Mapping]],2,FALSE)","v":"USA"},6,">20","N. AMERICA",{"$f":"(G1385/365)/L1385","v":40.182648401826484}]
[null,"ID1414","2012-05-30T00:02:08",64500,64500,"USD",{"$f":"tblSalaries[[#This Row],[clean Salary (in local currency)]]*VLOOKUP(tblSalaries[[#This Row],[Currency]],tblXrate[],2,FALSE)","v":64500},"Lead Budget/Financial Analyst","Analyst","USA",{"$f":"VLOOKUP(tblSalaries[[#This Row],[Where do you work]],tblCountries[[Actual]:[Mapping]],2,FALSE)","v":"USA"},6,">10<=20","N. AMERICA",{"$f":"(G1386/365)/L1386","v":29.452054794520549}]
[null,"ID1415","2012-05-30T00:13:07","216000.00 Saudi Riyak",216000,"SAR",{"$f":"tblSalaries[[#This Row],[clean Salary (in local currency)]]*VLOOKUP(tblSalaries[[#This Row],[Currency]],tblXrate[],2,FALSE)","v":57600},"Senior Electrical Engineer","Engineer","Saudi Arabia",{"$f":"VLOOKUP(tblSalaries[[#This Row],[Where do you work]],tblCountries[[Actual]:[Mapping]],2,FALSE)","v":"Saudi Arabia"},6,">10<=20","ASIA",{"$f":"(G1387/365)/L1387","v":26.301369863013701}]
[null,"ID1416","2012-05-30T00:22:28",50000,50000,"USD",{"$f":"tblSalaries[[#This Row],[clean Salary (in local currency)]]*VLOOKUP(tblSalaries[[#This Row],[Currency]],tblXrate[],2,FALSE)","v":50000},"Accounting Supervisor","Accountant","USA",{"$f":"VLOOKUP(tblSalaries[[#This Row],[Where do you work]],tblCountries[[Actual]:[Mapping]],2,FALSE)","v":"USA"},6,">10<=20","N. AMERICA",{"$f":"(G1388/365)/L1388","v":22.831050228310502}]
[null,"ID1417","2012-05-30T00:25:43",120000,120000,"USD",{"$f":"tblSalaries[[#This Row],[clean Salary (in local currency)]]*VLOOKUP(tblSalaries[[#This Row],[Currency]],tblXrate[],2,FALSE)","v":120000},"Finance Manager","Manager","USA",{"$f":"VLOOKUP(tblSalaries[[#This Row],[Where do you work]],tblCountries[[Actual]:[Mapping]],2,FALSE)","v":"USA"},3,">5<=10","N. AMERICA",{"$f":"(G1389/365)/L1389","v":109.58904109589041}]
[null,"ID1418","2012-05-30T00:34:53",107000,107000,"USD",{"$f":"tblSalaries[[#This Row],[clean Salary (in local currency)]]*VLOOKUP(tblSalaries[[#This Row],[Currency]],tblXrate[],2,FALSE)","v":107000},"Tax Manager","Manager","USA",{"$f":"VLOOKUP(tblSalaries[[#This Row],[Where do you work]],tblCountries[[Actual]:[Mapping]],2,FALSE)","v":"USA"},8,">20","N. AMERICA",{"$f":"(G1390/365)/L1390","v":36.643835616438359}]
[null,"ID1419","2012-05-30T00:42:50",40000,40000,"USD",{"$f":"tblSalaries[[#This Row],[clean Salary (in local currency)]]*VLOOKUP(tblSalaries[[#This Row],[Currency]],tblXrate[],2,FALSE)","v":40000},"Metrics Analyst","Analyst","USA",{"$f":"VLOOKUP(tblSalaries[[#This Row],[Where do you work]],tblCountries[[Actual]:[Mapping]],2,FALSE)","v":"USA"},3,">5<=10","N. AMERICA",{"$f":"(G1391/365)/L1391","v":36.529680365296805}]
[null,"ID1420","2012-05-30T00:50:03",81000,81000,"USD",{"$f":"tblSalaries[[#This Row],[clean Salary (in local currency)]]*VLOOKUP(tblSalaries[[#This Row],[Currency]],tblXrate[],2,FALSE)","v":81000},"Finance & IT Manager","Manager","USA",{"$f":"VLOOKUP(tblSalaries[[#This Row],[Where do you work]],tblCountries[[Actual]:[Mapping]],2,FALSE)","v":"USA"},2,">10<=20","N. AMERICA",{"$f":"(G1392/365)/L1392","v":110.95890410958904}]
[null,"ID1421","2012-05-30T01:05:26",45000,45000,"USD",{"$f":"tblSalaries[[#This Row],[clean Salary (in local currency)]]*VLOOKUP(tblSalaries[[#This Row],[Currency]],tblXrate[],2,FALSE)","v":45000},"Technical Support Specialist","Specialist","USA",{"$f":"VLOOKUP(tblSalaries[[#This Row],[Where do you work]],tblCountries[[Actual]:[Mapping]],2,FALSE)","v":"USA"},6,">10<=20","N. AMERICA",{"$f":"(G1393/365)/L1393","v":20.547945205479454}]
[null,"ID1422","2012-05-30T01:12:04",49000,49000,"USD",{"$f":"tblSalaries[[#This Row],[clean Salary (in local currency)]]*VLOOKUP(tblSalaries[[#This Row],[Currency]],tblXrate[],2,FALSE)","v":49000},"Clinical Data Specialist","Specialist","USA",{"$f":"VLOOKUP(tblSalaries[[#This Row],[Where do you work]],tblCountries[[Actual]:[Mapping]],2,FALSE)","v":"USA"},6,"<=5","N. AMERICA",{"$f":"(G1394/365)/L1394","v":22.37442922374429}]
[null,"ID1423","2012-05-30T01:12:35","INR 750000",750000,"INR",{"$f":"tblSalaries[[#This Row],[clean Salary (in local currency)]]*VLOOKUP(tblSalaries[[#This Row],[Currency]],tblXrate[],2,FALSE)","v":13355.937515581925},"Associate - Indirect Tax","CXO or Top Mgmt.","India",{"$f":"VLOOKUP(tblSalaries[[#This Row],[Where do you work]],tblCountries[[Actual]:[Mapping]],2,FALSE)","v":"India"},2,"<=5","ASIA",{"$f":"(G1395/365)/L1395","v":18.295804815865651}]
[null,"ID1424","2012-05-30T01:15:32",72000,72000,"USD",{"$f":"tblSalaries[[#This Row],[clean Salary (in local currency)]]*VLOOKUP(tblSalaries[[#This Row],[Currency]],tblXrate[],2,FALSE)","v":72000},"Manager","Manager","USA",{"$f":"VLOOKUP(tblSalaries[[#This Row],[Where do you work]],tblCountries[[Actual]:[Mapping]],2,FALSE)","v":"USA"},2,">10<=20","N. AMERICA",{"$f":"(G1396/365)/L1396","v":98.630136986301366}]
[null,"ID1425","2012-05-30T01:25:17",50000,50000,"USD",{"$f":"tblSalaries[[#This Row],[clean Salary (in local currency)]]*VLOOKUP(tblSalaries[[#This Row],[Currency]],tblXrate[],2,FALSE)","v":50000},"Digital Analyst","Analyst","USA",{"$f":"VLOOKUP(tblSalaries[[#This Row],[Where do you work]],tblCountries[[Actual]:[Mapping]],2,FALSE)","v":"USA"},6,">5<=10","N. AMERICA",{"$f":"(G1397/365)/L1397","v":22.831050228310502}]
[null,"ID1426","2012-05-30T01:25:26",57678.400000000001,57678,"USD",{"$f":"tblSalaries[[#This Row],[clean Salary (in local currency)]]*VLOOKUP(tblSalaries[[#This Row],[Currency]],tblXrate[],2,FALSE)","v":57678},"Financial Analyst","Analyst","USA",{"$f":"VLOOKUP(tblSalaries[[#This Row],[Where do you work]],tblCountries[[Actual]:[Mapping]],2,FALSE)","v":"USA"},6,"<=5","N. AMERICA",{"$f":"(G1398/365)/L1398","v":26.336986301369862}]
[null,"ID1427","2012-05-30T01:29:51",80442,80442,"USD",{"$f":"tblSalaries[[#This Row],[clean Salary (in local currency)]]*VLOOKUP(tblSalaries[[#This Row],[Currency]],tblXrate[],2,FALSE)","v":80442},"Senior Budget Analyst","Analyst","USA",{"$f":"VLOOKUP(tblSalaries[[#This Row],[Where do you work]],tblCountries[[Actual]:[Mapping]],2,FALSE)","v":"USA"},6,">10<=20","N. AMERICA",{"$f":"(G1399/365)/L1399","v":36.731506849315068}]
[null,"ID1428","2012-05-30T01:48:18",75000,75000,"USD",{"$f":"tblSalaries[[#This Row],[clean Salary (in local currency)]]*VLOOKUP(tblSalaries[[#This Row],[Currency]],tblXrate[],2,FALSE)","v":75000},"HR Cordinator","Manager","USA",{"$f":"VLOOKUP(tblSalaries[[#This Row],[Where do you work]],tblCountries[[Actual]:[Mapping]],2,FALSE)","v":"USA"},2,">5<=10","N. AMERICA",{"$f":"(G1400/365)/L1400","v":102.73972602739725}]
[null,"ID1429","2012-05-30T01:52:33",61000,61000,"USD",{"$f":"tblSalaries[[#This Row],[clean Salary (in local currency)]]*VLOOKUP(tblSalaries[[#This Row],[Currency]],tblXrate[],2,FALSE)","v":61000},"Treasury Analyst","Analyst","USA",{"$f":"VLOOKUP(tblSalaries[[#This Row],[Where do you work]],tblCountries[[Actual]:[Mapping]],2,FALSE)","v":"USA"},6,">10<=20","N. AMERICA",{"$f":"(G1401/365)/L1401","v":27.853881278538811}]
[null,"ID1430","2012-05-30T01:57:58",77000,77000,"USD",{"$f":"tblSalaries[[#This Row],[clean Salary (in local currency)]]*VLOOKUP(tblSalaries[[#This Row],[Currency]],tblXrate[],2,FALSE)","v":77000},"Assistant Engineer","Engineer","USA",{"$f":"VLOOKUP(tblSalaries[[#This Row],[Where do you work]],tblCountries[[Actual]:[Mapping]],2,FALSE)","v":"USA"},6,">5<=10","N. AMERICA",{"$f":"(G1402/365)/L1402","v":35.159817351598171}]
[null,"ID1431","2012-05-30T02:18:02","92000 USD",92000,"USD",{"$f":"tblSalaries[[#This Row],[clean Salary (in local currency)]]*VLOOKUP(tblSalaries[[#This Row],[Currency]],tblXrate[],2,FALSE)","v":92000},"Controller","Controller","USA",{"$f":"VLOOKUP(tblSalaries[[#This Row],[Where do you work]],tblCountries[[Actual]:[Mapping]],2,FALSE)","v":"USA"},3,">5<=10","N. AMERICA",{"$f":"(G1403/365)/L1403","v":84.018264840182653}]
[null,"ID1432","2012-05-30T02:18:30",72000,72000,"USD",{"$f":"tblSalaries[[#This Row],[clean Salary (in local currency)]]*VLOOKUP(tblSalaries[[#This Row],[Currency]],tblXrate[],2,FALSE)","v":72000},"sr. senior analyst","Analyst","USA",{"$f":"VLOOKUP(tblSalaries[[#This Row],[Where do you work]],tblCountries[[Actual]:[Mapping]],2,FALSE)","v":"USA"},8,">5<=10","N. AMERICA",{"$f":"(G1404/365)/L1404","v":24.657534246575342}]
[null,"ID1433","2012-05-30T02:22:39",14000,14000,"USD",{"$f":"tblSalaries[[#This Row],[clean Salary (in local currency)]]*VLOOKUP(tblSalaries[[#This Row],[Currency]],tblXrate[],2,FALSE)","v":14000},"Consultant","Consultant","India",{"$f":"VLOOKUP(tblSalaries[[#This Row],[Where do you work]],tblCountries[[Actual]:[Mapping]],2,FALSE)","v":"India"},6,"<=5","ASIA",{"$f":"(G1405/365)/L1405","v":6.3926940639269398}]
[null,"ID1434","2012-05-30T02:22:59",111000,111000,"USD",{"$f":"tblSalaries[[#This Row],[clean Salary (in local currency)]]*VLOOKUP(tblSalaries[[#This Row],[Currency]],tblXrate[],2,FALSE)","v":111000},"Project Manager - Finance","Manager","USA",{"$f":"VLOOKUP(tblSalaries[[#This Row],[Where do you work]],tblCountries[[Actual]:[Mapping]],2,FALSE)","v":"USA"},3,">5<=10","N. AMERICA",{"$f":"(G1406/365)/L1406","v":101.36986301369863}]
[null,"ID1435","2012-05-30T02:32:17",80000,80000,"USD",{"$f":"tblSalaries[[#This Row],[clean Salary (in local currency)]]*VLOOKUP(tblSalaries[[#This Row],[Currency]],tblXrate[],2,FALSE)","v":80000},"Senior analyst, ops support","Analyst","USA",{"$f":"VLOOKUP(tblSalaries[[#This Row],[Where do you work]],tblCountries[[Actual]:[Mapping]],2,FALSE)","v":"USA"},6,">10<=20","N. AMERICA",{"$f":"(G1407/365)/L1407","v":36.529680365296805}]
[null,"ID1436","2012-05-30T02:35:40","Rs 3.25 Lacs",3250000,"INR",{"$f":"tblSalaries[[#This Row],[clean Salary (in local currency)]]*VLOOKUP(tblSalaries[[#This Row],[Currency]],tblXrate[],2,FALSE)","v":57875.729234188344},"ISO TS Documentation","Analyst","India",{"$f":"VLOOKUP(tblSalaries[[#This Row],[Where do you work]],tblCountries[[Actual]:[Mapping]],2,FALSE)","v":"India"},6,">5<=10","ASIA",{"$f":"(G1408/365)/L1408","v":26.427273622917053}]
[null,"ID1437","2012-05-30T02:39:50",25000,25000,"USD",{"$f":"tblSalaries[[#This Row],[clean Salary (in local currency)]]*VLOOKUP(tblSalaries[[#This Row],[Currency]],tblXrate[],2,FALSE)","v":25000},"Accountant","Accountant","India",{"$f":"VLOOKUP(tblSalaries[[#This Row],[Where do you work]],tblCountries[[Actual]:[Mapping]],2,FALSE)","v":"India"},3,">5<=10","ASIA",{"$f":"(G1409/365)/L1409","v":22.831050228310502}]
[null,"ID1438","2012-05-30T03:20:17","24000 USD",24000,"USD",{"$f":"tblSalaries[[#This Row],[clean Salary (in local currency)]]*VLOOKUP(tblSalaries[[#This Row],[Currency]],tblXrate[],2,FALSE)","v":24000},"inventory controller","Controller","USA",{"$f":"VLOOKUP(tblSalaries[[#This Row],[Where do you work]],tblCountries[[Actual]:[Mapping]],2,FALSE)","v":"USA"},2,"<=5","N. AMERICA",{"$f":"(G1410/365)/L1410","v":32.876712328767127}]
[null,"ID1439","2012-05-30T04:13:50",61000,61000,"USD",{"$f":"tblSalaries[[#This Row],[clean Salary (in local currency)]]*VLOOKUP(tblSalaries[[#This Row],[Currency]],tblXrate[],2,FALSE)","v":61000},"Accounting manager","Manager","USA",{"$f":"VLOOKUP(tblSalaries[[#This Row],[Where do you work]],tblCountries[[Actual]:[Mapping]],2,FALSE)","v":"USA"},3,">20","N. AMERICA",{"$f":"(G1411/365)/L1411","v":55.707762557077622}]
[null,"ID1440","2012-05-30T08:05:16","AUD55,000",55000,"AUD",{"$f":"tblSalaries[[#This Row],[clean Salary (in local currency)]]*VLOOKUP(tblSalaries[[#This Row],[Currency]],tblXrate[],2,FALSE)","v":56095.031102144967},"PA","Analyst","Australia",{"$f":"VLOOKUP(tblSalaries[[#This Row],[Where do you work]],tblCountries[[Actual]:[Mapping]],2,FALSE)","v":"Australia"},3,">10<=20","OCEANIA",{"$f":"(G1412/365)/L1412","v":51.228338906068466}]
[null,"ID1442","2012-05-30T09:42:01",70000,70000,"AUD",{"$f":"tblSalaries[[#This Row],[clean Salary (in local currency)]]*VLOOKUP(tblSalaries[[#This Row],[Currency]],tblXrate[],2,FALSE)","v":71393.675948184507},"Assistant Accountant","Accountant","Australia",{"$f":"VLOOKUP(tblSalaries[[#This Row],[Where do you work]],tblCountries[[Actual]:[Mapping]],2,FALSE)","v":"Australia"},3,"<=5","OCEANIA",{"$f":"(G1413/365)/L1413","v":65.199704062268964}]
[null,"ID1443","2012-05-30T10:11:19",96230,96230,"USD",{"$f":"tblSalaries[[#This Row],[clean Salary (in local currency)]]*VLOOKUP(tblSalaries[[#This Row],[Currency]],tblXrate[],2,FALSE)","v":96230},"Manager, Data Management","Manager","USA",{"$f":"VLOOKUP(tblSalaries[[#This Row],[Where do you work]],tblCountries[[Actual]:[Mapping]],2,FALSE)","v":"USA"},6,">10<=20","N. AMERICA",{"$f":"(G1414/365)/L1414","v":43.940639269406397}]
[null,"ID1444","2012-05-30T10:40:24",75000,75000,"USD",{"$f":"tblSalaries[[#This Row],[clean Salary (in local currency)]]*VLOOKUP(tblSalaries[[#This Row],[Currency]],tblXrate[],2,FALSE)","v":75000},"Business Analyst","Analyst","USA",{"$f":"VLOOKUP(tblSalaries[[#This Row],[Where do you work]],tblCountries[[Actual]:[Mapping]],2,FALSE)","v":"USA"},3,"<=5","N. AMERICA",{"$f":"(G1415/365)/L1415","v":68.493150684931507}]
[null,"ID1445","2012-05-30T10:57:38",8500,102000,"USD",{"$f":"tblSalaries[[#This Row],[clean Salary (in local currency)]]*VLOOKUP(tblSalaries[[#This Row],[Currency]],tblXrate[],2,FALSE)","v":102000},"Sales Analyst","Analyst","USA",{"$f":"VLOOKUP(tblSalaries[[#This Row],[Where do you work]],tblCountries[[Actual]:[Mapping]],2,FALSE)","v":"USA"},6,"<=5","N. AMERICA",{"$f":"(G1416/365)/L1416","v":46.57534246575343}]
[null,"ID1446","2012-05-30T11:20:33","MYR60000",60000,"MYR",{"$f":"tblSalaries[[#This Row],[clean Salary (in local currency)]]*VLOOKUP(tblSalaries[[#This Row],[Currency]],tblXrate[],2,FALSE)","v":19008.034062397041},"Liquidity Management Executive","Manager","Malaysia",{"$f":"VLOOKUP(tblSalaries[[#This Row],[Where do you work]],tblCountries[[Actual]:[Mapping]],2,FALSE)","v":"malaysia"},6,"<=5","ASIA",{"$f":"(G1417/365)/L1417","v":8.6794676084004756}]
[null,"ID1447","2012-05-30T11:38:53",363,4356,"USD",{"$f":"tblSalaries[[#This Row],[clean Salary (in local currency)]]*VLOOKUP(tblSalaries[[#This Row],[Currency]],tblXrate[],2,FALSE)","v":4356},"Business Analyst","Analyst","India",{"$f":"VLOOKUP(tblSalaries[[#This Row],[Where do you work]],tblCountries[[Actual]:[Mapping]],2,FALSE)","v":"India"},6,"<=5","ASIA",{"$f":"(G1418/365)/L1418","v":1.9890410958904108}]
[null,"ID1448","2012-05-30T11:43:50",300000,300000,"INR",{"$f":"tblSalaries[[#This Row],[clean Salary (in local currency)]]*VLOOKUP(tblSalaries[[#This Row],[Currency]],tblXrate[],2,FALSE)","v":5342.3750062327708},"accountant","Accountant","India",{"$f":"VLOOKUP(tblSalaries[[#This Row],[Where do you work]],tblCountries[[Actual]:[Mapping]],2,FALSE)","v":"India"},6,"<=5","ASIA",{"$f":"(G1419/365)/L1419","v":2.4394406421154202}]
[null,"ID1449","2012-05-30T12:12:38",67000,67000,"USD",{"$f":"tblSalaries[[#This Row],[clean Salary (in local currency)]]*VLOOKUP(tblSalaries[[#This Row],[Currency]],tblXrate[],2,FALSE)","v":67000},"accounting systems manager ","Manager","USA",{"$f":"VLOOKUP(tblSalaries[[#This Row],[Where do you work]],tblCountries[[Actual]:[Mapping]],2,FALSE)","v":"USA"},3,">10<=20","N. AMERICA",{"$f":"(G1420/365)/L1420","v":61.18721461187215}]
[null,"ID1450","2012-05-30T12:25:23",480000,480000,"INR",{"$f":"tblSalaries[[#This Row],[clean Salary (in local currency)]]*VLOOKUP(tblSalaries[[#This Row],[Currency]],tblXrate[],2,FALSE)","v":8547.8000099724322},"Performance Analyst","Analyst","India",{"$f":"VLOOKUP(tblSalaries[[#This Row],[Where do you work]],tblCountries[[Actual]:[Mapping]],2,FALSE)","v":"India"},6,">5<=10","ASIA",{"$f":"(G1421/365)/L1421","v":3.9031050273846724}]
[null,"ID1451","2012-05-30T12:35:08","Rs. 900000 per annum",900000,"INR",{"$f":"tblSalaries[[#This Row],[clean Salary (in local currency)]]*VLOOKUP(tblSalaries[[#This Row],[Currency]],tblXrate[],2,FALSE)","v":16027.125018698311},"Data Analyst","Analyst","India",{"$f":"VLOOKUP(tblSalaries[[#This Row],[Where do you work]],tblCountries[[Actual]:[Mapping]],2,FALSE)","v":"India"},6,"<=5","ASIA",{"$f":"(G1422/365)/L1422","v":7.3183219263462611}]
[null,"ID1452","2012-05-30T12:56:38","Rs  6 lakhs/annum",600000,"INR",{"$f":"tblSalaries[[#This Row],[clean Salary (in local currency)]]*VLOOKUP(tblSalaries[[#This Row],[Currency]],tblXrate[],2,FALSE)","v":10684.750012465542},"consultant","Consultant","India",{"$f":"VLOOKUP(tblSalaries[[#This Row],[Where do you work]],tblCountries[[Actual]:[Mapping]],2,FALSE)","v":"India"},3,">20","ASIA",{"$f":"(G1423/365)/L1423","v":9.7577625684616809}]
[null,"ID1453","2012-05-30T13:06:12",30000,30000,"USD",{"$f":"tblSalaries[[#This Row],[clean Salary (in local currency)]]*VLOOKUP(tblSalaries[[#This Row],[Currency]],tblXrate[],2,FALSE)","v":30000},"Accounting Specialist","Accountant","UAE",{"$f":"VLOOKUP(tblSalaries[[#This Row],[Where do you work]],tblCountries[[Actual]:[Mapping]],2,FALSE)","v":"UAE"},6,">5<=10","ASIA",{"$f":"(G1424/365)/L1424","v":13.698630136986301}]
[null,"ID1454","2012-05-30T13:21:06",500000,500000,"INR",{"$f":"tblSalaries[[#This Row],[clean Salary (in local currency)]]*VLOOKUP(tblSalaries[[#This Row],[Currency]],tblXrate[],2,FALSE)","v":8903.9583437212841},"Project Management","Manager","India",{"$f":"VLOOKUP(tblSalaries[[#This Row],[Where do you work]],tblCountries[[Actual]:[Mapping]],2,FALSE)","v":"India"},3,"<=5","ASIA",{"$f":"(G1425/365)/L1425","v":8.1314688070513998}]
[null,"ID1455","2012-05-30T13:25:12",20000,20000,"USD",{"$f":"tblSalaries[[#This Row],[clean Salary (in local currency)]]*VLOOKUP(tblSalaries[[#This Row],[Currency]],tblXrate[],2,FALSE)","v":20000},"manager","Manager","India",{"$f":"VLOOKUP(tblSalaries[[#This Row],[Where do you work]],tblCountries[[Actual]:[Mapping]],2,FALSE)","v":"India"},8,">5<=10","ASIA",{"$f":"(G1426/365)/L1426","v":6.8493150684931505}]
[null,"ID1456","2012-05-30T13:31:35",86000,86000,"AUD",{"$f":"tblSalaries[[#This Row],[clean Salary (in local currency)]]*VLOOKUP(tblSalaries[[#This Row],[Currency]],tblXrate[],2,FALSE)","v":87712.230450626681},"data analyst","Analyst","Australia",{"$f":"VLOOKUP(tblSalaries[[#This Row],[Where do you work]],tblCountries[[Actual]:[Mapping]],2,FALSE)","v":"Australia"},6,">5<=10","OCEANIA",{"$f":"(G1427/365)/L1427","v":40.05124678110807}]
[null,"ID1457","2012-05-30T13:36:42",1000000,1000000,"INR",{"$f":"tblSalaries[[#This Row],[clean Salary (in local currency)]]*VLOOKUP(tblSalaries[[#This Row],[Currency]],tblXrate[],2,FALSE)","v":17807.916687442568},"project management","Manager","India",{"$f":"VLOOKUP(tblSalaries[[#This Row],[Where do you work]],tblCountries[[Actual]:[Mapping]],2,FALSE)","v":"India"},8,">5<=10","ASIA",{"$f":"(G1428/365)/L1428","v":6.0986016052885503}]
[null,"ID1458","2012-05-30T13:36:48",41000,41000,"USD",{"$f":"tblSalaries[[#This Row],[clean Salary (in local currency)]]*VLOOKUP(tblSalaries[[#This Row],[Currency]],tblXrate[],2,FALSE)","v":41000},"Marketing Analyst","Analyst","Japan",{"$f":"VLOOKUP(tblSalaries[[#This Row],[Where do you work]],tblCountries[[Actual]:[Mapping]],2,FALSE)","v":"Japan"},3,"<=5","ASIA",{"$f":"(G1429/365)/L1429","v":37.442922374429223}]
[null,"ID1459","2012-05-30T13:41:41",60000,60000,"USD",{"$f":"tblSalaries[[#This Row],[clean Salary (in local currency)]]*VLOOKUP(tblSalaries[[#This Row],[Currency]],tblXrate[],2,FALSE)","v":60000},"Business Intelligence Supervisor","Manager","USA",{"$f":"VLOOKUP(tblSalaries[[#This Row],[Where do you work]],tblCountries[[Actual]:[Mapping]],2,FALSE)","v":"USA"},3,"<=5","N. AMERICA",{"$f":"(G1430/365)/L1430","v":54.794520547945204}]
[null,"ID1460","2012-05-30T13:47:51","zar22000",264000,"ZAR",{"$f":"tblSalaries[[#This Row],[clean Salary (in local currency)]]*VLOOKUP(tblSalaries[[#This Row],[Currency]],tblXrate[],2,FALSE)","v":32187.34988380854},"Analyst","Analyst","SouthAfrica",{"$f":"VLOOKUP(tblSalaries[[#This Row],[Where do you work]],tblCountries[[Actual]:[Mapping]],2,FALSE)","v":"South Africa"},8,"<=5","AFRICA",{"$f":"(G1431/365)/L1431","v":11.023065028701554}]
[null,"ID1461","2012-05-30T13:56:27",50000,50000,"NZD",{"$f":"tblSalaries[[#This Row],[clean Salary (in local currency)]]*VLOOKUP(tblSalaries[[#This Row],[Currency]],tblXrate[],2,FALSE)","v":39879.404680246938},"stress engineer","Engineer","nld",{"$f":"VLOOKUP(tblSalaries[[#This Row],[Where do you work]],tblCountries[[Actual]:[Mapping]],2,FALSE)","v":"New Zealand"},6,"<=5","OCEANIA",{"$f":"(G1432/365)/L1432","v":18.209773826596777}]
[null,"ID1462","2012-05-30T13:56:48","320000 INR",320000,"INR",{"$f":"tblSalaries[[#This Row],[clean Salary (in local currency)]]*VLOOKUP(tblSalaries[[#This Row],[Currency]],tblXrate[],2,FALSE)","v":5698.5333399816218},"Analyst","Analyst","India",{"$f":"VLOOKUP(tblSalaries[[#This Row],[Where do you work]],tblCountries[[Actual]:[Mapping]],2,FALSE)","v":"India"},3,"<=5","ASIA",{"$f":"(G1433/365)/L1433","v":5.2041400365128965}]
[null,"ID1463","2012-05-30T14:09:10","4 Lakhs INR p.a",400000,"INR",{"$f":"tblSalaries[[#This Row],[clean Salary (in local currency)]]*VLOOKUP(tblSalaries[[#This Row],[Currency]],tblXrate[],2,FALSE)","v":7123.1666749770275},"Reporting Manager","Manager","India",{"$f":"VLOOKUP(tblSalaries[[#This Row],[Where do you work]],tblCountries[[Actual]:[Mapping]],2,FALSE)","v":"India"},6,">5<=10","ASIA",{"$f":"(G1434/365)/L1434","v":3.2525875228205603}]
[null,"ID1464","2012-05-30T14:19:07","Rs.2,50,000.00",250000,"INR",{"$f":"tblSalaries[[#This Row],[clean Salary (in local currency)]]*VLOOKUP(tblSalaries[[#This Row],[Currency]],tblXrate[],2,FALSE)","v":4451.9791718606421},"Manager Commercial","Manager","India",{"$f":"VLOOKUP(tblSalaries[[#This Row],[Where do you work]],tblCountries[[Actual]:[Mapping]],2,FALSE)","v":"India"},3,">10<=20","ASIA",{"$f":"(G1435/365)/L1435","v":4.0657344035256999}]
[null,"ID1465","2012-05-30T14:21:57",360000,360000,"INR",{"$f":"tblSalaries[[#This Row],[clean Salary (in local currency)]]*VLOOKUP(tblSalaries[[#This Row],[Currency]],tblXrate[],2,FALSE)","v":6410.8500074793246},"analyst","Analyst","India",{"$f":"VLOOKUP(tblSalaries[[#This Row],[Where do you work]],tblCountries[[Actual]:[Mapping]],2,FALSE)","v":"India"},3,">5<=10","ASIA",{"$f":"(G1436/365)/L1436","v":5.8546575410770094}]
[null,"ID1466","2012-05-30T14:28:57","Rs. 1150000/-",1150000,"INR",{"$f":"tblSalaries[[#This Row],[clean Salary (in local currency)]]*VLOOKUP(tblSalaries[[#This Row],[Currency]],tblXrate[],2,FALSE)","v":20479.104190558952},"Project Manager","Manager","India",{"$f":"VLOOKUP(tblSalaries[[#This Row],[Where do you work]],tblCountries[[Actual]:[Mapping]],2,FALSE)","v":"India"},8,">10<=20","ASIA",{"$f":"(G1437/365)/L1437","v":7.0133918460818325}]
[null,"ID1467","2012-05-30T14:31:33",620000,620000,"INR",{"$f":"tblSalaries[[#This Row],[clean Salary (in local currency)]]*VLOOKUP(tblSalaries[[#This Row],[Currency]],tblXrate[],2,FALSE)","v":11040.908346214392},"Catalog Auditor","Analyst","India",{"$f":"VLOOKUP(tblSalaries[[#This Row],[Where do you work]],tblCountries[[Actual]:[Mapping]],2,FALSE)","v":"India"},2,"<=5","ASIA",{"$f":"(G1438/365)/L1438","v":15.124531981115606}]
[null,"ID1468","2012-05-30T15:59:01","Rs 10,00,000",1000000,"INR",{"$f":"tblSalaries[[#This Row],[clean Salary (in local currency)]]*VLOOKUP(tblSalaries[[#This Row],[Currency]],tblXrate[],2,FALSE)","v":17807.916687442568},"Marketing Specialist","Specialist","India",{"$f":"VLOOKUP(tblSalaries[[#This Row],[Where do you work]],tblCountries[[Actual]:[Mapping]],2,FALSE)","v":"India"},3,">5<=10","ASIA",{"$f":"(G1439/365)/L1439","v":16.2629376141028}]
[null,"ID1469","2012-05-30T16:12:34","Rs. 200000",200000,"INR",{"$f":"tblSalaries[[#This Row],[clean Salary (in local currency)]]*VLOOKUP(tblSalaries[[#This Row],[Currency]],tblXrate[],2,FALSE)","v":3561.5833374885137},"Executive","Analyst","India",{"$f":"VLOOKUP(tblSalaries[[#This Row],[Where do you work]],tblCountries[[Actual]:[Mapping]],2,FALSE)","v":"India"},6,">10<=20","ASIA",{"$f":"(G1440/365)/L1440","v":1.6262937614102801}]
[null,"ID1470","2012-05-30T16:22:19","Â£17000",17000,"GBP",{"$f":"tblSalaries[[#This Row],[clean Salary (in local currency)]]*VLOOKUP(tblSalaries[[#This Row],[Currency]],tblXrate[],2,FALSE)","v":26795.030625143831},"Verification Agent","Analyst","UK",{"$f":"VLOOKUP(tblSalaries[[#This Row],[Where do you work]],tblCountries[[Actual]:[Mapping]],2,FALSE)","v":"UK"},3,"<=5","EUROPE",{"$f":"(G1441/365)/L1441","v":24.470347602871076}]
[null,"ID1471","2012-05-30T16:48:32",1700,20400,"USD",{"$f":"tblSalaries[[#This Row],[clean Salary (in local currency)]]*VLOOKUP(tblSalaries[[#This Row],[Currency]],tblXrate[],2,FALSE)","v":20400},"M & E Officer","Manager","Myanmar [Burma]",{"$f":"VLOOKUP(tblSalaries[[#This Row],[Where do you work]],tblCountries[[Actual]:[Mapping]],2,FALSE)","v":"Myanmar"},2,">5<=10","ASIA",{"$f":"(G1442/365)/L1442","v":27.945205479452056}]
[null,"ID1472","2012-05-30T16:49:15","Â£25000",25000,"GBP",{"$f":"tblSalaries[[#This Row],[clean Salary (in local currency)]]*VLOOKUP(tblSalaries[[#This Row],[Currency]],tblXrate[],2,FALSE)","v":39404.456801682099},"Assistant Financial Accountant","Accountant","UK",{"$f":"VLOOKUP(tblSalaries[[#This Row],[Where do you work]],tblCountries[[Actual]:[Mapping]],2,FALSE)","v":"UK"},6,">20","EUROPE",{"$f":"(G1443/365)/L1443","v":17.99290264916991}]
[null,"ID1473","2012-05-30T16:55:51",118000,118000,"EUR",{"$f":"tblSalaries[[#This Row],[clean Salary (in local currency)]]*VLOOKUP(tblSalaries[[#This Row],[Currency]],tblXrate[],2,FALSE)","v":149907.13380100971},"Support","Analyst","EU",{"$f":"VLOOKUP(tblSalaries[[#This Row],[Where do you work]],tblCountries[[Actual]:[Mapping]],2,FALSE)","v":"Europe"},6,">5<=10","EUROPE",{"$f":"(G1444/365)/L1444","v":68.450746027858315}]
[null,"ID1474","2012-05-30T17:01:10",230000,230000,"INR",{"$f":"tblSalaries[[#This Row],[clean Salary (in local currency)]]*VLOOKUP(tblSalaries[[#This Row],[Currency]],tblXrate[],2,FALSE)","v":4095.8208381117906},"Process Assocaite","Analyst","India",{"$f":"VLOOKUP(tblSalaries[[#This Row],[Where do you work]],tblCountries[[Actual]:[Mapping]],2,FALSE)","v":"India"},6,"<=5","ASIA",{"$f":"(G1445/365)/L1445","v":1.8702378256218222}]
[null,"ID1475","2012-05-30T17:04:53","$AUD 125,000 +",125000,"AUD",{"$f":"tblSalaries[[#This Row],[clean Salary (in local currency)]]*VLOOKUP(tblSalaries[[#This Row],[Currency]],tblXrate[],2,FALSE)","v":127488.70705032947},"Financial Application Developer","Accountant","Australia",{"$f":"VLOOKUP(tblSalaries[[#This Row],[Where do you work]],tblCountries[[Actual]:[Mapping]],2,FALSE)","v":"Australia"},6,">5<=10","OCEANIA",{"$f":"(G1446/365)/L1446","v":58.214021484168711}]
[null,"ID1476","2012-05-30T17:07:47","Â£37000",37000,"GBP",{"$f":"tblSalaries[[#This Row],[clean Salary (in local currency)]]*VLOOKUP(tblSalaries[[#This Row],[Currency]],tblXrate[],2,FALSE)","v":58318.59606648951},"Planning & Scheduling Manager","Manager","UK",{"$f":"VLOOKUP(tblSalaries[[#This Row],[Where do you work]],tblCountries[[Actual]:[Mapping]],2,FALSE)","v":"UK"},8,">10<=20","EUROPE",{"$f":"(G1447/365)/L1447","v":19.972121940578599}]
[null,"ID1477","2012-05-30T17:14:27","ZAR6500",78000,"ZAR",{"$f":"tblSalaries[[#This Row],[clean Salary (in local currency)]]*VLOOKUP(tblSalaries[[#This Row],[Currency]],tblXrate[],2,FALSE)","v":9509.8988293070688},"Online Stats Controller","Controller","South Africa",{"$f":"VLOOKUP(tblSalaries[[#This Row],[Where do you work]],tblCountries[[Actual]:[Mapping]],2,FALSE)","v":"South Africa"},6,"<=5","AFRICA",{"$f":"(G1448/365)/L1448","v":4.3424195567612189}]
[null,"ID1478","2012-05-30T17:18:38","INR 60000",720000,"INR",{"$f":"tblSalaries[[#This Row],[clean Salary (in local currency)]]*VLOOKUP(tblSalaries[[#This Row],[Currency]],tblXrate[],2,FALSE)","v":12821.700014958649},"DEO","Analyst","India",{"$f":"VLOOKUP(tblSalaries[[#This Row],[Where do you work]],tblCountries[[Actual]:[Mapping]],2,FALSE)","v":"India"},6,"<=5","ASIA",{"$f":"(G1449/365)/L1449","v":5.8546575410770094}]
[null,"ID1479","2012-05-30T18:15:28",4000,4000,"USD",{"$f":"tblSalaries[[#This Row],[clean Salary (in local currency)]]*VLOOKUP(tblSalaries[[#This Row],[Currency]],tblXrate[],2,FALSE)","v":4000},"M I S Executive","Analyst","India",{"$f":"VLOOKUP(tblSalaries[[#This Row],[Where do you work]],tblCountries[[Actual]:[Mapping]],2,FALSE)","v":"India"},8,">5<=10","ASIA",{"$f":"(G1450/365)/L1450","v":1.3698630136986301}]
[null,"ID1480","2012-05-30T18:16:05",42000,42000,"USD",{"$f":"tblSalaries[[#This Row],[clean Salary (in local currency)]]*VLOOKUP(tblSalaries[[#This Row],[Currency]],tblXrate[],2,FALSE)","v":42000},"Service Solution Rep","Analyst","USA",{"$f":"VLOOKUP(tblSalaries[[#This Row],[Where do you work]],tblCountries[[Actual]:[Mapping]],2,FALSE)","v":"USA"},8,"<=5","N. AMERICA",{"$f":"(G1451/365)/L1451","v":14.383561643835616}]
[null,"ID1481","2012-05-30T18:47:17","US $ 3200",3200,"USD",{"$f":"tblSalaries[[#This Row],[clean Salary (in local currency)]]*VLOOKUP(tblSalaries[[#This Row],[Currency]],tblXrate[],2,FALSE)","v":3200},"Regional Business Manager ","Manager","India",{"$f":"VLOOKUP(tblSalaries[[#This Row],[Where do you work]],tblCountries[[Actual]:[Mapping]],2,FALSE)","v":"India"},8,">10<=20","ASIA",{"$f":"(G1452/365)/L1452","v":1.095890410958904}]
[null,"ID1482","2012-05-30T18:51:57",60000,60000,"USD",{"$f":"tblSalaries[[#This Row],[clean Salary (in local currency)]]*VLOOKUP(tblSalaries[[#This Row],[Currency]],tblXrate[],2,FALSE)","v":60000},"sales&marketing","Analyst","turkey",{"$f":"VLOOKUP(tblSalaries[[#This Row],[Where do you work]],tblCountries[[Actual]:[Mapping]],2,FALSE)","v":"Turkey"},3,">5<=10","ASIA",{"$f":"(G1453/365)/L1453","v":54.794520547945204}]
[null,"ID1483","2012-05-30T19:01:20",85000,85000,"USD",{"$f":"tblSalaries[[#This Row],[clean Salary (in local currency)]]*VLOOKUP(tblSalaries[[#This Row],[Currency]],tblXrate[],2,FALSE)","v":85000},"sr analyst","Analyst","USA",{"$f":"VLOOKUP(tblSalaries[[#This Row],[Where do you work]],tblCountries[[Actual]:[Mapping]],2,FALSE)","v":"USA"},6,">5<=10","N. AMERICA",{"$f":"(G1454/365)/L1454","v":38.812785388127857}]
[null,"ID1484","2012-05-30T19:04:44",109000,109000,"USD",{"$f":"tblSalaries[[#This Row],[clean Salary (in local currency)]]*VLOOKUP(tblSalaries[[#This Row],[Currency]],tblXrate[],2,FALSE)","v":109000},"Mgr Technology","Manager","USA",{"$f":"VLOOKUP(tblSalaries[[#This Row],[Where do you work]],tblCountries[[Actual]:[Mapping]],2,FALSE)","v":"USA"},6,">10<=20","N. AMERICA",{"$f":"(G1455/365)/L1455","v":49.771689497716892}]
[null,"ID1485","2012-05-30T19:27:35","60000 Euros",60000,"EUR",{"$f":"tblSalaries[[#This Row],[clean Salary (in local currency)]]*VLOOKUP(tblSalaries[[#This Row],[Currency]],tblXrate[],2,FALSE)","v":76223.966339496474},"Sales Analyst","Analyst","Italy",{"$f":"VLOOKUP(tblSalaries[[#This Row],[Where do you work]],tblCountries[[Actual]:[Mapping]],2,FALSE)","v":"italy"},8,">10<=20","EUROPE",{"$f":"(G1456/365)/L1456","v":26.104098061471394}]
[null,"ID1486","2012-05-30T19:42:50",77000,77000,"USD",{"$f":"tblSalaries[[#This Row],[clean Salary (in local currency)]]*VLOOKUP(tblSalaries[[#This Row],[Currency]],tblXrate[],2,FALSE)","v":77000},"Chemical Engineer","Engineer","USA",{"$f":"VLOOKUP(tblSalaries[[#This Row],[Where do you work]],tblCountries[[Actual]:[Mapping]],2,FALSE)","v":"USA"},3,">10<=20","N. AMERICA",{"$f":"(G1457/365)/L1457","v":70.319634703196343}]
[null,"ID1487","2012-05-30T19:43:43",25000,25000,"USD",{"$f":"tblSalaries[[#This Row],[clean Salary (in local currency)]]*VLOOKUP(tblSalaries[[#This Row],[Currency]],tblXrate[],2,FALSE)","v":25000},"data analyst","Analyst","India",{"$f":"VLOOKUP(tblSalaries[[#This Row],[Where do you work]],tblCountries[[Actual]:[Mapping]],2,FALSE)","v":"India"},8,"<=5","ASIA",{"$f":"(G1458/365)/L1458","v":8.5616438356164384}]
[null,"ID1488","2012-05-30T20:19:51",64000,64000,"USD",{"$f":"tblSalaries[[#This Row],[clean Salary (in local currency)]]*VLOOKUP(tblSalaries[[#This Row],[Currency]],tblXrate[],2,FALSE)","v":64000},"Program Manager","Manager","USA",{"$f":"VLOOKUP(tblSalaries[[#This Row],[Where do you work]],tblCountries[[Actual]:[Mapping]],2,FALSE)","v":"USA"},3,">10<=20","N. AMERICA",{"$f":"(G1459/365)/L1459","v":58.447488584474883}]
[null,"ID1489","2012-05-30T20:26:10",146633,146633,"GBP",{"$f":"tblSalaries[[#This Row],[clean Salary (in local currency)]]*VLOOKUP(tblSalaries[[#This Row],[Currency]],tblXrate[],2,FALSE)","v":231119.74856804207},"Senior Planning Engineer","Engineer","UK",{"$f":"VLOOKUP(tblSalaries[[#This Row],[Where do you work]],tblCountries[[Actual]:[Mapping]],2,FALSE)","v":"UK"},3,">5<=10","EUROPE",{"$f":"(G1460/365)/L1460","v":211.06826353245853}]
[null,"ID1490","2012-05-30T20:40:45",76000,76000,"USD",{"$f":"tblSalaries[[#This Row],[clean Salary (in local currency)]]*VLOOKUP(tblSalaries[[#This Row],[Currency]],tblXrate[],2,FALSE)","v":76000},"Sr. Analyst","Analyst","USA",{"$f":"VLOOKUP(tblSalaries[[#This Row],[Where do you work]],tblCountries[[Actual]:[Mapping]],2,FALSE)","v":"USA"},8,">5<=10","N. AMERICA",{"$f":"(G1461/365)/L1461","v":26.027397260273972}]
[null,"ID1491","2012-05-30T20:42:27",10000,10000,"GBP",{"$f":"tblSalaries[[#This Row],[clean Salary (in local currency)]]*VLOOKUP(tblSalaries[[#This Row],[Currency]],tblXrate[],2,FALSE)","v":15761.782720672842},"Analyst","Analyst","UK",{"$f":"VLOOKUP(tblSalaries[[#This Row],[Where do you work]],tblCountries[[Actual]:[Mapping]],2,FALSE)","v":"UK"},3,">5<=10","EUROPE",{"$f":"(G1462/365)/L1462","v":14.394322119335927}]
[null,"ID1492","2012-05-30T20:42:47","AUD 165000",165000,"AUD",{"$f":"tblSalaries[[#This Row],[clean Salary (in local currency)]]*VLOOKUP(tblSalaries[[#This Row],[Currency]],tblXrate[],2,FALSE)","v":168285.09330643489},"Engineer","Engineer","Australia",{"$f":"VLOOKUP(tblSalaries[[#This Row],[Where do you work]],tblCountries[[Actual]:[Mapping]],2,FALSE)","v":"Australia"},3,">10<=20","OCEANIA",{"$f":"(G1463/365)/L1463","v":153.68501671820539}]
[null,"ID1493","2012-05-30T20:47:55","50000 US$",50000,"USD",{"$f":"tblSalaries[[#This Row],[clean Salary (in local currency)]]*VLOOKUP(tblSalaries[[#This Row],[Currency]],tblXrate[],2,FALSE)","v":50000},"Sr. Financial Analyst","Analyst","Kuwait",{"$f":"VLOOKUP(tblSalaries[[#This Row],[Where do you work]],tblCountries[[Actual]:[Mapping]],2,FALSE)","v":"Kuwait"},6,">10<=20","ASIA",{"$f":"(G1464/365)/L1464","v":22.831050228310502}]
[null,"ID1494","2012-05-30T20:53:12","7200 USD per year aprox",7200,"USD",{"$f":"tblSalaries[[#This Row],[clean Salary (in local currency)]]*VLOOKUP(tblSalaries[[#This Row],[Currency]],tblXrate[],2,FALSE)","v":7200},"control process auxiliary","Controller","Colombia",{"$f":"VLOOKUP(tblSalaries[[#This Row],[Where do you work]],tblCountries[[Actual]:[Mapping]],2,FALSE)","v":"Colombia"},6,">5<=10"," S. AMERICA",{"$f":"(G1465/365)/L1465","v":3.2876712328767126}]
[null,"ID1495","2012-05-30T21:07:54",42000,42000,"EUR",{"$f":"tblSalaries[[#This Row],[clean Salary (in local currency)]]*VLOOKUP(tblSalaries[[#This Row],[Currency]],tblXrate[],2,FALSE)","v":53356.776437647524},"Business Intelligence Consultant","Consultant","Germany",{"$f":"VLOOKUP(tblSalaries[[#This Row],[Where do you work]],tblCountries[[Actual]:[Mapping]],2,FALSE)","v":"Germany"},8,">5<=10","EUROPE",{"$f":"(G1466/365)/L1466","v":18.272868643029973}]
[null,"ID1496","2012-05-30T21:19:31",45000,45000,"USD",{"$f":"tblSalaries[[#This Row],[clean Salary (in local currency)]]*VLOOKUP(tblSalaries[[#This Row],[Currency]],tblXrate[],2,FALSE)","v":45000},"Data Specialist","Specialist","USA",{"$f":"VLOOKUP(tblSalaries[[#This Row],[Where do you work]],tblCountries[[Actual]:[Mapping]],2,FALSE)","v":"USA"},3,">5<=10","N. AMERICA",{"$f":"(G1467/365)/L1467","v":41.095890410958908}]
[null,"ID1497","2012-05-30T21:26:04",5000,5000,"USD",{"$f":"tblSalaries[[#This Row],[clean Salary (in local currency)]]*VLOOKUP(tblSalaries[[#This Row],[Currency]],tblXrate[],2,FALSE)","v":5000},"Officer MIS","Manager","India",{"$f":"VLOOKUP(tblSalaries[[#This Row],[Where do you work]],tblCountries[[Actual]:[Mapping]],2,FALSE)","v":"India"},8,"<=5","ASIA",{"$f":"(G1468/365)/L1468","v":1.7123287671232876}]
[null,"ID1498","2012-05-30T21:45:06",74000,74000,"AUD",{"$f":"tblSalaries[[#This Row],[clean Salary (in local currency)]]*VLOOKUP(tblSalaries[[#This Row],[Currency]],tblXrate[],2,FALSE)","v":75473.31457379504},"operations Administrator","Analyst","Australia",{"$f":"VLOOKUP(tblSalaries[[#This Row],[Where do you work]],tblCountries[[Actual]:[Mapping]],2,FALSE)","v":"Australia"},8,">10<=20","OCEANIA",{"$f":"(G1469/365)/L1469","v":25.847025538970904}]
[null,"ID1499","2012-05-30T22:11:21","15000 USD",15000,"USD",{"$f":"tblSalaries[[#This Row],[clean Salary (in local currency)]]*VLOOKUP(tblSalaries[[#This Row],[Currency]],tblXrate[],2,FALSE)","v":15000},"Manager","Manager","Romania",{"$f":"VLOOKUP(tblSalaries[[#This Row],[Where do you work]],tblCountries[[Actual]:[Mapping]],2,FALSE)","v":"Romania"},3,"<=5","EUROPE",{"$f":"(G1470/365)/L1470","v":13.698630136986301}]
[null,"ID1500","2012-05-30T22:31:33","33500 â‚¬",33500,"EUR",{"$f":"tblSalaries[[#This Row],[clean Salary (in local currency)]]*VLOOKUP(tblSalaries[[#This Row],[Currency]],tblXrate[],2,FALSE)","v":42558.381206218859},"Controller / VBA Developet","Controller","Germany",{"$f":"VLOOKUP(tblSalaries[[#This Row],[Where do you work]],tblCountries[[Actual]:[Mapping]],2,FALSE)","v":"Germany"},8,">5<=10","EUROPE",{"$f":"(G1471/365)/L1471","v":14.574788084321527}]
[null,"ID1501","2012-05-30T22:31:35","61K",61000,"USD",{"$f":"tblSalaries[[#This Row],[clean Salary (in local currency)]]*VLOOKUP(tblSalaries[[#This Row],[Currency]],tblXrate[],2,FALSE)","v":61000},"Financial Analyst","Analyst","USA",{"$f":"VLOOKUP(tblSalaries[[#This Row],[Where do you work]],tblCountries[[Actual]:[Mapping]],2,FALSE)","v":"USA"},6,"<=5","N. AMERICA",{"$f":"(G1472/365)/L1472","v":27.853881278538811}]
[null,"ID1502","2012-05-30T22:32:21",66000,66000,"USD",{"$f":"tblSalaries[[#This Row],[clean Salary (in local currency)]]*VLOOKUP(tblSalaries[[#This Row],[Currency]],tblXrate[],2,FALSE)","v":66000},"Director of Business Analytics","Analyst","USA",{"$f":"VLOOKUP(tblSalaries[[#This Row],[Where do you work]],tblCountries[[Actual]:[Mapping]],2,FALSE)","v":"USA"},6,"<=5","N. AMERICA",{"$f":"(G1473/365)/L1473","v":30.136986301369863}]
[null,"ID1503","2012-05-30T22:59:44","278000 PA",278000,"INR",{"$f":"tblSalaries[[#This Row],[clean Salary (in local currency)]]*VLOOKUP(tblSalaries[[#This Row],[Currency]],tblXrate[],2,FALSE)","v":4950.6008391090336},"MIS Executive","Reporting","India",{"$f":"VLOOKUP(tblSalaries[[#This Row],[Where do you work]],tblCountries[[Actual]:[Mapping]],2,FALSE)","v":"India"},8,">5<=10","ASIA",{"$f":"(G1474/365)/L1474","v":1.6954112462702169}]
[null,"ID1504","2012-05-30T23:01:48",55000,55000,"USD",{"$f":"tblSalaries[[#This Row],[clean Salary (in local currency)]]*VLOOKUP(tblSalaries[[#This Row],[Currency]],tblXrate[],2,FALSE)","v":55000},"Supplier Manager","Manager","USA",{"$f":"VLOOKUP(tblSalaries[[#This Row],[Where do you work]],tblCountries[[Actual]:[Mapping]],2,FALSE)","v":"USA"},3,">10<=20","N. AMERICA",{"$f":"(G1475/365)/L1475","v":50.228310502283108}]
[null,"ID1505","2012-05-30T23:26:00",32000,32000,"USD",{"$f":"tblSalaries[[#This Row],[clean Salary (in local currency)]]*VLOOKUP(tblSalaries[[#This Row],[Currency]],tblXrate[],2,FALSE)","v":32000},"Reports Writer","Reporting","USA",{"$f":"VLOOKUP(tblSalaries[[#This Row],[Where do you work]],tblCountries[[Actual]:[Mapping]],2,FALSE)","v":"USA"},6,">5<=10","N. AMERICA",{"$f":"(G1476/365)/L1476","v":14.611872146118721}]
[null,"ID1506","2012-05-30T23:29:58",18000,18000,"USD",{"$f":"tblSalaries[[#This Row],[clean Salary (in local currency)]]*VLOOKUP(tblSalaries[[#This Row],[Currency]],tblXrate[],2,FALSE)","v":18000},"Process Associate","Analyst","India",{"$f":"VLOOKUP(tblSalaries[[#This Row],[Where do you work]],tblCountries[[Actual]:[Mapping]],2,FALSE)","v":"India"},8,">5<=10","ASIA",{"$f":"(G1477/365)/L1477","v":6.1643835616438354}]
[null,"ID1507","2012-05-30T23:59:22","6.5 LAKHS",650000,"INR",{"$f":"tblSalaries[[#This Row],[clean Salary (in local currency)]]*VLOOKUP(tblSalaries[[#This Row],[Currency]],tblXrate[],2,FALSE)","v":11575.14584683767},"HR/ADMINISTRATION","Analyst","India",{"$f":"VLOOKUP(tblSalaries[[#This Row],[Where do you work]],tblCountries[[Actual]:[Mapping]],2,FALSE)","v":"India"},6,">20","ASIA",{"$f":"(G1478/365)/L1478","v":5.2854547245834107}]
[null,"ID1508","2012-05-31T00:36:30",50000,50000,"EUR",{"$f":"tblSalaries[[#This Row],[clean Salary (in local currency)]]*VLOOKUP(tblSalaries[[#This Row],[Currency]],tblXrate[],2,FALSE)","v":63519.971949580387},"accountant","Accountant","italy",{"$f":"VLOOKUP(tblSalaries[[#This Row],[Where do you work]],tblCountries[[Actual]:[Mapping]],2,FALSE)","v":"italy"},8,">10<=20","EUROPE",{"$f":"(G1479/365)/L1479","v":21.75341505122616}]
[null,"ID1509","2012-05-31T00:46:55","4.00 lac",4000000,"INR",{"$f":"tblSalaries[[#This Row],[clean Salary (in local currency)]]*VLOOKUP(tblSalaries[[#This Row],[Currency]],tblXrate[],2,FALSE)","v":71231.666749770273},"Operational Specialist","Specialist","India",{"$f":"VLOOKUP(tblSalaries[[#This Row],[Where do you work]],tblCountries[[Actual]:[Mapping]],2,FALSE)","v":"India"},8,"<=5","ASIA",{"$f":"(G1480/365)/L1480","v":24.394406421154201}]
[null,"ID1510","2012-05-31T01:09:06","US$ 10000",10000,"USD",{"$f":"tblSalaries[[#This Row],[clean Salary (in local currency)]]*VLOOKUP(tblSalaries[[#This Row],[Currency]],tblXrate[],2,FALSE)","v":10000},"Trainee","Analyst","Brazil",{"$f":"VLOOKUP(tblSalaries[[#This Row],[Where do you work]],tblCountries[[Actual]:[Mapping]],2,FALSE)","v":"Brazil"},6,"<=5"," S. AMERICA",{"$f":"(G1481/365)/L1481","v":4.5662100456621006}]
[null,"ID1511","2012-05-31T01:17:16",74300,74300,"USD",{"$f":"tblSalaries[[#This Row],[clean Salary (in local currency)]]*VLOOKUP(tblSalaries[[#This Row],[Currency]],tblXrate[],2,FALSE)","v":74300},"Senior Business Research Analyst","Analyst","USA",{"$f":"VLOOKUP(tblSalaries[[#This Row],[Where do you work]],tblCountries[[Actual]:[Mapping]],2,FALSE)","v":"USA"},6,"<=5","N. AMERICA",{"$f":"(G1482/365)/L1482","v":33.926940639269411}]
[null,"ID1512","2012-05-31T01:17:48",1500000,1500000,"INR",{"$f":"tblSalaries[[#This Row],[clean Salary (in local currency)]]*VLOOKUP(tblSalaries[[#This Row],[Currency]],tblXrate[],2,FALSE)","v":26711.875031163851},"Senior Consultant - PMO","Consultant","India",{"$f":"VLOOKUP(tblSalaries[[#This Row],[Where do you work]],tblCountries[[Actual]:[Mapping]],2,FALSE)","v":"India"},6,">5<=10","ASIA",{"$f":"(G1483/365)/L1483","v":12.197203210577101}]
[null,"ID1513","2012-05-31T01:45:48","Rs 5,36,000",536000,"INR",{"$f":"tblSalaries[[#This Row],[clean Salary (in local currency)]]*VLOOKUP(tblSalaries[[#This Row],[Currency]],tblXrate[],2,FALSE)","v":9545.0433444692171},"Team Lead","Manager","India",{"$f":"VLOOKUP(tblSalaries[[#This Row],[Where do you work]],tblCountries[[Actual]:[Mapping]],2,FALSE)","v":"India"},6,"<=5","ASIA",{"$f":"(G1484/365)/L1484","v":4.3584672805795508}]
[null,"ID1514","2012-05-31T01:50:26",95000,95000,"USD",{"$f":"tblSalaries[[#This Row],[clean Salary (in local currency)]]*VLOOKUP(tblSalaries[[#This Row],[Currency]],tblXrate[],2,FALSE)","v":95000},"Sr Financial Analyst","Analyst","USA",{"$f":"VLOOKUP(tblSalaries[[#This Row],[Where do you work]],tblCountries[[Actual]:[Mapping]],2,FALSE)","v":"USA"},6,">10<=20","N. AMERICA",{"$f":"(G1485/365)/L1485","v":43.378995433789953}]
[null,"ID1515","2012-05-31T02:24:37",64300,64300,"USD",{"$f":"tblSalaries[[#This Row],[clean Salary (in local currency)]]*VLOOKUP(tblSalaries[[#This Row],[Currency]],tblXrate[],2,FALSE)","v":64300},"Financial Analst","Accountant","USA",{"$f":"VLOOKUP(tblSalaries[[#This Row],[Where do you work]],tblCountries[[Actual]:[Mapping]],2,FALSE)","v":"USA"},6,">10<=20","N. AMERICA",{"$f":"(G1486/365)/L1486","v":29.360730593607304}]
[null,"ID1516","2012-05-31T02:37:09",250000,250000,"USD",{"$f":"tblSalaries[[#This Row],[clean Salary (in local currency)]]*VLOOKUP(tblSalaries[[#This Row],[Currency]],tblXrate[],2,FALSE)","v":250000},"consultant","Consultant","USA",{"$f":"VLOOKUP(tblSalaries[[#This Row],[Where do you work]],tblCountries[[Actual]:[Mapping]],2,FALSE)","v":"USA"},8,">10<=20","N. AMERICA",{"$f":"(G1487/365)/L1487","v":85.61643835616438}]
[null,"ID1519","2012-05-31T03:07:09",89000,89000,"USD",{"$f":"tblSalaries[[#This Row],[clean Salary (in local currency)]]*VLOOKUP(tblSalaries[[#This Row],[Currency]],tblXrate[],2,FALSE)","v":89000},"Finance Manager","Manager","USA",{"$f":"VLOOKUP(tblSalaries[[#This Row],[Where do you work]],tblCountries[[Actual]:[Mapping]],2,FALSE)","v":"USA"},3,">5<=10","N. AMERICA",{"$f":"(G1488/365)/L1488","v":81.278538812785385}]
[null,"ID1520","2012-05-31T04:12:19",75000,75000,"USD",{"$f":"tblSalaries[[#This Row],[clean Salary (in local currency)]]*VLOOKUP(tblSalaries[[#This Row],[Currency]],tblXrate[],2,FALSE)","v":75000},"Financial Analyst","Analyst","USA",{"$f":"VLOOKUP(tblSalaries[[#This Row],[Where do you work]],tblCountries[[Actual]:[Mapping]],2,FALSE)","v":"USA"},8,"<=5","N. AMERICA",{"$f":"(G1489/365)/L1489","v":25.684931506849313}]
[null,"ID1521","2012-05-31T05:02:59",45000,45000,"USD",{"$f":"tblSalaries[[#This Row],[clean Salary (in local currency)]]*VLOOKUP(tblSalaries[[#This Row],[Currency]],tblXrate[],2,FALSE)","v":45000},"Excel Business Analyst","Analyst","USA",{"$f":"VLOOKUP(tblSalaries[[#This Row],[Where do you work]],tblCountries[[Actual]:[Mapping]],2,FALSE)","v":"USA"},8,"<=5","N. AMERICA",{"$f":"(G1490/365)/L1490","v":15.41095890410959}]
[null,"ID1522","2012-05-31T05:23:58",127500,127500,"USD",{"$f":"tblSalaries[[#This Row],[clean Salary (in local currency)]]*VLOOKUP(tblSalaries[[#This Row],[Currency]],tblXrate[],2,FALSE)","v":127500},"SVP","CXO or Top Mgmt.","USA",{"$f":"VLOOKUP(tblSalaries[[#This Row],[Where do you work]],tblCountries[[Actual]:[Mapping]],2,FALSE)","v":"USA"},8,">20","N. AMERICA",{"$f":"(G1491/365)/L1491","v":43.664383561643838}]
[null,"ID1523","2012-05-31T05:31:54",170000,170000,"USD",{"$f":"tblSalaries[[#This Row],[clean Salary (in local currency)]]*VLOOKUP(tblSalaries[[#This Row],[Currency]],tblXrate[],2,FALSE)","v":170000},"CFO","CXO or Top Mgmt.","USA",{"$f":"VLOOKUP(tblSalaries[[#This Row],[Where do you work]],tblCountries[[Actual]:[Mapping]],2,FALSE)","v":"USA"},3,">10<=20","N. AMERICA",{"$f":"(G1492/365)/L1492","v":155.25114155251143}]
[null,"ID1524","2012-05-31T05:37:29",800,9600,"USD",{"$f":"tblSalaries[[#This Row],[clean Salary (in local currency)]]*VLOOKUP(tblSalaries[[#This Row],[Currency]],tblXrate[],2,FALSE)","v":9600},"Reporting Analyst","Analyst","Bolivia",{"$f":"VLOOKUP(tblSalaries[[#This Row],[Where do you work]],tblCountries[[Actual]:[Mapping]],2,FALSE)","v":"Bolivia"},8,"<=5"," S. AMERICA",{"$f":"(G1493/365)/L1493","v":3.2876712328767121}]
[null,"ID1525","2012-05-31T06:13:42",62000,62000,"USD",{"$f":"tblSalaries[[#This Row],[clean Salary (in local currency)]]*VLOOKUP(tblSalaries[[#This Row],[Currency]],tblXrate[],2,FALSE)","v":62000},"info analyst","Analyst","USA",{"$f":"VLOOKUP(tblSalaries[[#This Row],[Where do you work]],tblCountries[[Actual]:[Mapping]],2,FALSE)","v":"USA"},8,">20","N. AMERICA",{"$f":"(G1494/365)/L1494","v":21.232876712328768}]
[null,"ID1526","2012-05-31T06:23:09",22000,22000,"USD",{"$f":"tblSalaries[[#This Row],[clean Salary (in local currency)]]*VLOOKUP(tblSalaries[[#This Row],[Currency]],tblXrate[],2,FALSE)","v":22000},"Data Manager","Manager","USA",{"$f":"VLOOKUP(tblSalaries[[#This Row],[Where do you work]],tblCountries[[Actual]:[Mapping]],2,FALSE)","v":"USA"},6,"<=5","N. AMERICA",{"$f":"(G1495/365)/L1495","v":10.045662100456621}]
[null,"ID1527","2012-05-31T06:23:55",45000,45000,"USD",{"$f":"tblSalaries[[#This Row],[clean Salary (in local currency)]]*VLOOKUP(tblSalaries[[#This Row],[Currency]],tblXrate[],2,FALSE)","v":45000},"Business Analyst","Analyst","USA",{"$f":"VLOOKUP(tblSalaries[[#This Row],[Where do you work]],tblCountries[[Actual]:[Mapping]],2,FALSE)","v":"USA"},6,">5<=10","N. AMERICA",{"$f":"(G1496/365)/L1496","v":20.547945205479454}]
[null,"ID1528","2012-05-31T07:17:36",145000,145000,"USD",{"$f":"tblSalaries[[#This Row],[clean Salary (in local currency)]]*VLOOKUP(tblSalaries[[#This Row],[Currency]],tblXrate[],2,FALSE)","v":145000},"Associate","Analyst","USA",{"$f":"VLOOKUP(tblSalaries[[#This Row],[Where do you work]],tblCountries[[Actual]:[Mapping]],2,FALSE)","v":"USA"},6,">5<=10","N. AMERICA",{"$f":"(G1497/365)/L1497","v":66.210045662100455}]
[null,"ID1529","2012-05-31T08:20:03",89000,89000,"USD",{"$f":"tblSalaries[[#This Row],[clean Salary (in local currency)]]*VLOOKUP(tblSalaries[[#This Row],[Currency]],tblXrate[],2,FALSE)","v":89000},"BI Analyst","Analyst","USA",{"$f":"VLOOKUP(tblSalaries[[#This Row],[Where do you work]],tblCountries[[Actual]:[Mapping]],2,FALSE)","v":"USA"},8,">10<=20","N. AMERICA",{"$f":"(G1498/365)/L1498","v":30.479452054794521}]
[null,"ID1530","2012-05-31T09:28:05",38000,38000,"USD",{"$f":"tblSalaries[[#This Row],[clean Salary (in local currency)]]*VLOOKUP(tblSalaries[[#This Row],[Currency]],tblXrate[],2,FALSE)","v":38000},"Accountant","Accountant","USA",{"$f":"VLOOKUP(tblSalaries[[#This Row],[Where do you work]],tblCountries[[Actual]:[Mapping]],2,FALSE)","v":"USA"},6,">10<=20","N. AMERICA",{"$f":"(G1499/365)/L1499","v":17.351598173515981}]
[null,"ID1531","2012-05-31T09:45:09",50000,50000,"CAD",{"$f":"tblSalaries[[#This Row],[clean Salary (in local currency)]]*VLOOKUP(tblSalaries[[#This Row],[Currency]],tblXrate[],2,FALSE)","v":49168.076151516347},"Business Analyst","Analyst","Canada",{"$f":"VLOOKUP(tblSalaries[[#This Row],[Where do you work]],tblCountries[[Actual]:[Mapping]],2,FALSE)","v":"Canada"},6,"<=5","N. AMERICA",{"$f":"(G1500/365)/L1500","v":22.451176324893311}]
[null,"ID1532","2012-05-31T10:29:42",500000,500000,"INR",{"$f":"tblSalaries[[#This Row],[clean Salary (in local currency)]]*VLOOKUP(tblSalaries[[#This Row],[Currency]],tblXrate[],2,FALSE)","v":8903.9583437212841},"Developer","Analyst","India",{"$f":"VLOOKUP(tblSalaries[[#This Row],[Where do you work]],tblCountries[[Actual]:[Mapping]],2,FALSE)","v":"India"},6,">5<=10","ASIA",{"$f":"(G1501/365)/L1501","v":4.0657344035256999}]
[null,"ID1533","2012-05-31T10:33:07","10000 US$",10000,"USD",{"$f":"tblSalaries[[#This Row],[clean Salary (in local currency)]]*VLOOKUP(tblSalaries[[#This Row],[Currency]],tblXrate[],2,FALSE)","v":10000},"Project management","Manager","Vietnam",{"$f":"VLOOKUP(tblSalaries[[#This Row],[Where do you work]],tblCountries[[Actual]:[Mapping]],2,FALSE)","v":"Vietnam"},3,">5<=10","ASIA",{"$f":"(G1502/365)/L1502","v":9.1324200913242013}]
[null,"ID1534","2012-05-31T10:37:38",105000,105000,"USD",{"$f":"tblSalaries[[#This Row],[clean Salary (in local currency)]]*VLOOKUP(tblSalaries[[#This Row],[Currency]],tblXrate[],2,FALSE)","v":105000},"Business Banker","Manager","USA",{"$f":"VLOOKUP(tblSalaries[[#This Row],[Where do you work]],tblCountries[[Actual]:[Mapping]],2,FALSE)","v":"USA"},2,">20","N. AMERICA",{"$f":"(G1503/365)/L1503","v":143.83561643835617}]
[null,"ID1535","2012-05-31T10:54:48",1000,12000,"USD",{"$f":"tblSalaries[[#This Row],[clean Salary (in local currency)]]*VLOOKUP(tblSalaries[[#This Row],[Currency]],tblXrate[],2,FALSE)","v":12000},"Associate Analyst","Analyst","MYS",{"$f":"VLOOKUP(tblSalaries[[#This Row],[Where do you work]],tblCountries[[Actual]:[Mapping]],2,FALSE)","v":"MYS"},3,"<=5","ASIA",{"$f":"(G1504/365)/L1504","v":10.958904109589042}]
[null,"ID1536","2012-05-31T11:08:38","Rs. 200000/-",200000,"INR",{"$f":"tblSalaries[[#This Row],[clean Salary (in local currency)]]*VLOOKUP(tblSalaries[[#This Row],[Currency]],tblXrate[],2,FALSE)","v":3561.5833374885137},"Accounts Executive","Accountant","India",{"$f":"VLOOKUP(tblSalaries[[#This Row],[Where do you work]],tblCountries[[Actual]:[Mapping]],2,FALSE)","v":"India"},8,"<=5","ASIA",{"$f":"(G1505/365)/L1505","v":1.2197203210577101}]
[null,"ID1537","2012-05-31T13:25:49","85,000 AUD",85000,"AUD",{"$f":"tblSalaries[[#This Row],[clean Salary (in local currency)]]*VLOOKUP(tblSalaries[[#This Row],[Currency]],tblXrate[],2,FALSE)","v":86692.320794224041},"Demand Planner","Analyst","Australia",{"$f":"VLOOKUP(tblSalaries[[#This Row],[Where do you work]],tblCountries[[Actual]:[Mapping]],2,FALSE)","v":"Australia"},2,"<=5","OCEANIA",{"$f":"(G1506/365)/L1506","v":118.75660382770417}]
[null,"ID1539","2012-05-31T16:00:16",8000,8000,"USD",{"$f":"tblSalaries[[#This Row],[clean Salary (in local currency)]]*VLOOKUP(tblSalaries[[#This Row],[Currency]],tblXrate[],2,FALSE)","v":8000},"Owner","CXO or Top Mgmt.","India",{"$f":"VLOOKUP(tblSalaries[[#This Row],[Where do you work]],tblCountries[[Actual]:[Mapping]],2,FALSE)","v":"India"},6,">10<=20","ASIA",{"$f":"(G1507/365)/L1507","v":3.6529680365296802}]
[null,"ID1540","2012-05-31T16:10:28","Rs. 380000",380000,"INR",{"$f":"tblSalaries[[#This Row],[clean Salary (in local currency)]]*VLOOKUP(tblSalaries[[#This Row],[Currency]],tblXrate[],2,FALSE)","v":6767.0083412281756},"reporting analyst","Analyst","India",{"$f":"VLOOKUP(tblSalaries[[#This Row],[Where do you work]],tblCountries[[Actual]:[Mapping]],2,FALSE)","v":"India"},3,">5<=10","ASIA",{"$f":"(G1508/365)/L1508","v":6.1799162933590646}]
[null,"ID1541","2012-05-31T16:16:11","Â£30500",30500,"GBP",{"$f":"tblSalaries[[#This Row],[clean Salary (in local currency)]]*VLOOKUP(tblSalaries[[#This Row],[Currency]],tblXrate[],2,FALSE)","v":48073.437298052166},"Construction Estimator","Consultant","UK",{"$f":"VLOOKUP(tblSalaries[[#This Row],[Where do you work]],tblCountries[[Actual]:[Mapping]],2,FALSE)","v":"UK"},6,">10<=20","EUROPE",{"$f":"(G1509/365)/L1509","v":21.951341231987289}]
[null,"ID1542","2012-05-31T16:25:23","60K â‚¬",60000,"EUR",{"$f":"tblSalaries[[#This Row],[clean Salary (in local currency)]]*VLOOKUP(tblSalaries[[#This Row],[Currency]],tblXrate[],2,FALSE)","v":76223.966339496474},"Trade Marketing","Manager","NL",{"$f":"VLOOKUP(tblSalaries[[#This Row],[Where do you work]],tblCountries[[Actual]:[Mapping]],2,FALSE)","v":"Netherlands"},3,">10<=20","EUROPE",{"$f":"(G1510/365)/L1510","v":69.610928163923717}]
[null,"ID1543","2012-05-31T16:25:24",320000,320000,"SAR",{"$f":"tblSalaries[[#This Row],[clean Salary (in local currency)]]*VLOOKUP(tblSalaries[[#This Row],[Currency]],tblXrate[],2,FALSE)","v":85333.333333333328},"Merchandise Planning Manager","Manager","Saudi Arabia",{"$f":"VLOOKUP(tblSalaries[[#This Row],[Where do you work]],tblCountries[[Actual]:[Mapping]],2,FALSE)","v":"Saudi Arabia"},3,">10<=20","ASIA",{"$f":"(G1511/365)/L1511","v":77.929984779299843}]
[null,"ID1544","2012-05-31T16:30:09",48360,48360,"GBP",{"$f":"tblSalaries[[#This Row],[clean Salary (in local currency)]]*VLOOKUP(tblSalaries[[#This Row],[Currency]],tblXrate[],2,FALSE)","v":76223.981237173866},"pricing manager","Manager","UK",{"$f":"VLOOKUP(tblSalaries[[#This Row],[Where do you work]],tblCountries[[Actual]:[Mapping]],2,FALSE)","v":"UK"},8,">5<=10","EUROPE",{"$f":"(G1512/365)/L1512","v":26.104103163415708}]
[null,"ID1545","2012-05-31T17:08:59",30000,30000,"USD",{"$f":"tblSalaries[[#This Row],[clean Salary (in local currency)]]*VLOOKUP(tblSalaries[[#This Row],[Currency]],tblXrate[],2,FALSE)","v":30000},"Marketing Services Manager","Manager","Pakistan",{"$f":"VLOOKUP(tblSalaries[[#This Row],[Where do you work]],tblCountries[[Actual]:[Mapping]],2,FALSE)","v":"Pakistan"},6,"<=5","ASIA",{"$f":"(G1513/365)/L1513","v":13.698630136986301}]
[null,"ID1546","2012-05-31T17:21:45",34000,34000,"USD",{"$f":"tblSalaries[[#This Row],[clean Salary (in local currency)]]*VLOOKUP(tblSalaries[[#This Row],[Currency]],tblXrate[],2,FALSE)","v":34000},"Sr Analyst","Analyst","India",{"$f":"VLOOKUP(tblSalaries[[#This Row],[Where do you work]],tblCountries[[Actual]:[Mapping]],2,FALSE)","v":"India"},8,"<=5","ASIA",{"$f":"(G1514/365)/L1514","v":11.643835616438356}]
[null,"ID1547","2012-05-31T17:34:34","Rs. 180000",180000,"INR",{"$f":"tblSalaries[[#This Row],[clean Salary (in local currency)]]*VLOOKUP(tblSalaries[[#This Row],[Currency]],tblXrate[],2,FALSE)","v":3205.4250037396623},"Asst Store Manager","Manager","India",{"$f":"VLOOKUP(tblSalaries[[#This Row],[Where do you work]],tblCountries[[Actual]:[Mapping]],2,FALSE)","v":"India"},6,"<=5","ASIA",{"$f":"(G1515/365)/L1515","v":1.4636643852692524}]
[null,"ID1548","2012-05-31T17:35:33","45.000 USD",45000,"USD",{"$f":"tblSalaries[[#This Row],[clean Salary (in local currency)]]*VLOOKUP(tblSalaries[[#This Row],[Currency]],tblXrate[],2,FALSE)","v":45000},"Junior Reporting Manager","Manager","Germany",{"$f":"VLOOKUP(tblSalaries[[#This Row],[Where do you work]],tblCountries[[Actual]:[Mapping]],2,FALSE)","v":"Germany"},3,"<=5","EUROPE",{"$f":"(G1516/365)/L1516","v":41.095890410958908}]
[null,"ID1549","2012-05-31T18:35:30",24864,24864,"USD",{"$f":"tblSalaries[[#This Row],[clean Salary (in local currency)]]*VLOOKUP(tblSalaries[[#This Row],[Currency]],tblXrate[],2,FALSE)","v":24864},"Brand manager","Manager","Libya",{"$f":"VLOOKUP(tblSalaries[[#This Row],[Where do you work]],tblCountries[[Actual]:[Mapping]],2,FALSE)","v":"Libya"},8,">5<=10","AFRICA",{"$f":"(G1517/365)/L1517","v":8.5150684931506841}]
[null,"ID1550","2012-05-31T19:51:29","Â£30000",30000,"GBP",{"$f":"tblSalaries[[#This Row],[clean Salary (in local currency)]]*VLOOKUP(tblSalaries[[#This Row],[Currency]],tblXrate[],2,FALSE)","v":47285.348162018527},"Cost Analyst","Analyst","UK",{"$f":"VLOOKUP(tblSalaries[[#This Row],[Where do you work]],tblCountries[[Actual]:[Mapping]],2,FALSE)","v":"UK"},6,">5<=10","EUROPE",{"$f":"(G1518/365)/L1518","v":21.591483179003891}]
[null,"ID1551","2012-05-31T20:13:27",1000000,1000000,"INR",{"$f":"tblSalaries[[#This Row],[clean Salary (in local currency)]]*VLOOKUP(tblSalaries[[#This Row],[Currency]],tblXrate[],2,FALSE)","v":17807.916687442568},"Financial analyst","Analyst","India",{"$f":"VLOOKUP(tblSalaries[[#This Row],[Where do you work]],tblCountries[[Actual]:[Mapping]],2,FALSE)","v":"India"},8,">5<=10","ASIA",{"$f":"(G1519/365)/L1519","v":6.0986016052885503}]
[null,"ID1552","2012-05-31T20:14:20","Â£35000",35000,"GBP",{"$f":"tblSalaries[[#This Row],[clean Salary (in local currency)]]*VLOOKUP(tblSalaries[[#This Row],[Currency]],tblXrate[],2,FALSE)","v":55166.239522354947},"Research Analyst","Analyst","UK",{"$f":"VLOOKUP(tblSalaries[[#This Row],[Where do you work]],tblCountries[[Actual]:[Mapping]],2,FALSE)","v":"UK"},6,"<=5","EUROPE",{"$f":"(G1520/365)/L1520","v":25.190063708837872}]
[null,"ID1553","2012-05-31T21:05:02","55000 EUR",55000,"EUR",{"$f":"tblSalaries[[#This Row],[clean Salary (in local currency)]]*VLOOKUP(tblSalaries[[#This Row],[Currency]],tblXrate[],2,FALSE)","v":69871.969144538423},"Risk Officer","Manager","The Netherlands",{"$f":"VLOOKUP(tblSalaries[[#This Row],[Where do you work]],tblCountries[[Actual]:[Mapping]],2,FALSE)","v":"Netherlands"},2,"<=5","EUROPE",{"$f":"(G1521/365)/L1521","v":95.715026225395107}]
[null,"ID1554","2012-05-31T21:06:45",70970,70970,"USD",{"$f":"tblSalaries[[#This Row],[clean Salary (in local currency)]]*VLOOKUP(tblSalaries[[#This Row],[Currency]],tblXrate[],2,FALSE)","v":70970},"Sr. Risk Analyst","Analyst","USA",{"$f":"VLOOKUP(tblSalaries[[#This Row],[Where do you work]],tblCountries[[Actual]:[Mapping]],2,FALSE)","v":"USA"},6,">10<=20","N. AMERICA",{"$f":"(G1522/365)/L1522","v":32.406392694063925}]
[null,"ID1555","2012-05-31T21:45:03","60000 EUR",60000,"EUR",{"$f":"tblSalaries[[#This Row],[clean Salary (in local currency)]]*VLOOKUP(tblSalaries[[#This Row],[Currency]],tblXrate[],2,FALSE)","v":76223.966339496474},"Business Engineer","Engineer","Netherlands",{"$f":"VLOOKUP(tblSalaries[[#This Row],[Where do you work]],tblCountries[[Actual]:[Mapping]],2,FALSE)","v":"Netherlands"},6,">5<=10","EUROPE",{"$f":"(G1523/365)/L1523","v":34.805464081961858}]
[null,"ID1556","2012-05-31T21:47:37",110000,110000,"USD",{"$f":"tblSalaries[[#This Row],[clean Salary (in local currency)]]*VLOOKUP(tblSalaries[[#This Row],[Currency]],tblXrate[],2,FALSE)","v":110000},"Business Controller","Controller","Norway",{"$f":"VLOOKUP(tblSalaries[[#This Row],[Where do you work]],tblCountries[[Actual]:[Mapping]],2,FALSE)","v":"Norway"},8,"<=5","EUROPE",{"$f":"(G1524/365)/L1524","v":37.671232876712331}]
[null,"ID1557","2012-05-31T21:48:35",1200,14400,"USD",{"$f":"tblSalaries[[#This Row],[clean Salary (in local currency)]]*VLOOKUP(tblSalaries[[#This Row],[Currency]],tblXrate[],2,FALSE)","v":14400},"FA /financial Analyst","Analyst","Bulgaria",{"$f":"VLOOKUP(tblSalaries[[#This Row],[Where do you work]],tblCountries[[Actual]:[Mapping]],2,FALSE)","v":"Bulgaria"},8,">10<=20","EUROPE",{"$f":"(G1525/365)/L1525","v":4.9315068493150687}]
[null,"ID1558","2012-05-31T22:05:03",125000,125000,"USD",{"$f":"tblSalaries[[#This Row],[clean Salary (in local currency)]]*VLOOKUP(tblSalaries[[#This Row],[Currency]],tblXrate[],2,FALSE)","v":125000},"Consultant","Consultant","USA",{"$f":"VLOOKUP(tblSalaries[[#This Row],[Where do you work]],tblCountries[[Actual]:[Mapping]],2,FALSE)","v":"USA"},8,">5<=10","N. AMERICA",{"$f":"(G1526/365)/L1526","v":42.80821917808219}]
[null,"ID1559","2012-05-31T22:06:59",74000,74000,"CAD",{"$f":"tblSalaries[[#This Row],[clean Salary (in local currency)]]*VLOOKUP(tblSalaries[[#This Row],[Currency]],tblXrate[],2,FALSE)","v":72768.752704244194},"Operations Analyst","Analyst","Canada",{"$f":"VLOOKUP(tblSalaries[[#This Row],[Where do you work]],tblCountries[[Actual]:[Mapping]],2,FALSE)","v":"Canada"},6,">5<=10","N. AMERICA",{"$f":"(G1527/365)/L1527","v":33.227740960842098}]
[null,"ID1560","2012-05-31T22:56:21","$59,000 USD",59000,"USD",{"$f":"tblSalaries[[#This Row],[clean Salary (in local currency)]]*VLOOKUP(tblSalaries[[#This Row],[Currency]],tblXrate[],2,FALSE)","v":59000},"Operations Manager","Manager","USA",{"$f":"VLOOKUP(tblSalaries[[#This Row],[Where do you work]],tblCountries[[Actual]:[Mapping]],2,FALSE)","v":"USA"},6,">10<=20","N. AMERICA",{"$f":"(G1528/365)/L1528","v":26.940639269406393}]
[null,"ID1561","2012-05-31T23:08:12",71500,71500,"USD",{"$f":"tblSalaries[[#This Row],[clean Salary (in local currency)]]*VLOOKUP(tblSalaries[[#This Row],[Currency]],tblXrate[],2,FALSE)","v":71500},"Management Reporting Analyst","Analyst","USA",{"$f":"VLOOKUP(tblSalaries[[#This Row],[Where do you work]],tblCountries[[Actual]:[Mapping]],2,FALSE)","v":"USA"},6,"<=5","N. AMERICA",{"$f":"(G1529/365)/L1529","v":32.648401826484019}]
[null,"ID1562","2012-05-31T23:09:08","Â£25000",25000,"GBP",{"$f":"tblSalaries[[#This Row],[clean Salary (in local currency)]]*VLOOKUP(tblSalaries[[#This Row],[Currency]],tblXrate[],2,FALSE)","v":39404.456801682099},"Reporting Team Lead","Reporting","UK",{"$f":"VLOOKUP(tblSalaries[[#This Row],[Where do you work]],tblCountries[[Actual]:[Mapping]],2,FALSE)","v":"UK"},6,"<=5","EUROPE",{"$f":"(G1530/365)/L1530","v":17.99290264916991}]
[null,"ID1563","2012-05-31T23:10:44","70000 â‚¬",70000,"EUR",{"$f":"tblSalaries[[#This Row],[clean Salary (in local currency)]]*VLOOKUP(tblSalaries[[#This Row],[Currency]],tblXrate[],2,FALSE)","v":88927.960729412545},"Specialist Learning Technology","Specialist","Germany",{"$f":"VLOOKUP(tblSalaries[[#This Row],[Where do you work]],tblCountries[[Actual]:[Mapping]],2,FALSE)","v":"Germany"},2,"<=5","EUROPE",{"$f":"(G1531/365)/L1531","v":121.8191242868665}]
[null,"ID1564","2012-05-31T23:48:36","USD90,000",90000,"USD",{"$f":"tblSalaries[[#This Row],[clean Salary (in local currency)]]*VLOOKUP(tblSalaries[[#This Row],[Currency]],tblXrate[],2,FALSE)","v":90000},"Operationsl Regional Manager","Manager","USA",{"$f":"VLOOKUP(tblSalaries[[#This Row],[Where do you work]],tblCountries[[Actual]:[Mapping]],2,FALSE)","v":"USA"},6,">20","N. AMERICA",{"$f":"(G1532/365)/L1532","v":41.095890410958908}]
[null,"ID1565","2012-06-01T00:02:34","Rs. 700000",700000,"INR",{"$f":"tblSalaries[[#This Row],[clean Salary (in local currency)]]*VLOOKUP(tblSalaries[[#This Row],[Currency]],tblXrate[],2,FALSE)","v":12465.541681209797},"Manager - Business Development","Manager","India",{"$f":"VLOOKUP(tblSalaries[[#This Row],[Where do you work]],tblCountries[[Actual]:[Mapping]],2,FALSE)","v":"India"},8,">20","ASIA",{"$f":"(G1533/365)/L1533","v":4.2690211237019851}]
[null,"ID1566","2012-06-01T00:18:35","$40,000 USD",40000,"USD",{"$f":"tblSalaries[[#This Row],[clean Salary (in local currency)]]*VLOOKUP(tblSalaries[[#This Row],[Currency]],tblXrate[],2,FALSE)","v":40000},"QA Data Analyst","Analyst","USA",{"$f":"VLOOKUP(tblSalaries[[#This Row],[Where do you work]],tblCountries[[Actual]:[Mapping]],2,FALSE)","v":"USA"},6,">5<=10","N. AMERICA",{"$f":"(G1534/365)/L1534","v":18.264840182648403}]
[null,"ID1567","2012-06-01T00:23:54",30000,30000,"USD",{"$f":"tblSalaries[[#This Row],[clean Salary (in local currency)]]*VLOOKUP(tblSalaries[[#This Row],[Currency]],tblXrate[],2,FALSE)","v":30000},"SME","Analyst","India",{"$f":"VLOOKUP(tblSalaries[[#This Row],[Where do you work]],tblCountries[[Actual]:[Mapping]],2,FALSE)","v":"India"},8,"<=5","ASIA",{"$f":"(G1535/365)/L1535","v":10.273972602739725}]
[null,"ID1569","2012-06-01T01:29:02",46325,46325,"USD",{"$f":"tblSalaries[[#This Row],[clean Salary (in local currency)]]*VLOOKUP(tblSalaries[[#This Row],[Currency]],tblXrate[],2,FALSE)","v":46325},"Work Force Scheduler for Call Center","Controller","USA",{"$f":"VLOOKUP(tblSalaries[[#This Row],[Where do you work]],tblCountries[[Actual]:[Mapping]],2,FALSE)","v":"USA"},6,"<=5","N. AMERICA",{"$f":"(G1536/365)/L1536","v":21.152968036529682}]
[null,"ID1570","2012-06-01T01:47:43",15000,15000,"USD",{"$f":"tblSalaries[[#This Row],[clean Salary (in local currency)]]*VLOOKUP(tblSalaries[[#This Row],[Currency]],tblXrate[],2,FALSE)","v":15000},"Application Developer","Analyst","USA",{"$f":"VLOOKUP(tblSalaries[[#This Row],[Where do you work]],tblCountries[[Actual]:[Mapping]],2,FALSE)","v":"USA"},8,">5<=10","N. AMERICA",{"$f":"(G1537/365)/L1537","v":5.1369863013698627}]
[null,"ID1571","2012-06-01T02:33:02",31200,31200,"USD",{"$f":"tblSalaries[[#This Row],[clean Salary (in local currency)]]*VLOOKUP(tblSalaries[[#This Row],[Currency]],tblXrate[],2,FALSE)","v":31200},"Data Analyst","Analyst","USA",{"$f":"VLOOKUP(tblSalaries[[#This Row],[Where do you work]],tblCountries[[Actual]:[Mapping]],2,FALSE)","v":"USA"},6,">10<=20","N. AMERICA",{"$f":"(G1538/365)/L1538","v":14.246575342465754}]
[null,"ID1572","2012-06-01T02:46:21","Rs. 500000",500000,"INR",{"$f":"tblSalaries[[#This Row],[clean Salary (in local currency)]]*VLOOKUP(tblSalaries[[#This Row],[Currency]],tblXrate[],2,FALSE)","v":8903.9583437212841},"Sr. Associate","Analyst","India",{"$f":"VLOOKUP(tblSalaries[[#This Row],[Where do you work]],tblCountries[[Actual]:[Mapping]],2,FALSE)","v":"India"},6,">5<=10","ASIA",{"$f":"(G1539/365)/L1539","v":4.0657344035256999}]
[null,"ID1573","2012-06-01T03:01:04",1320,15840,"USD",{"$f":"tblSalaries[[#This Row],[clean Salary (in local currency)]]*VLOOKUP(tblSalaries[[#This Row],[Currency]],tblXrate[],2,FALSE)","v":15840},"Asistente","Analyst","Peru",{"$f":"VLOOKUP(tblSalaries[[#This Row],[Where do you work]],tblCountries[[Actual]:[Mapping]],2,FALSE)","v":"Peru"},8,">5<=10"," S. AMERICA",{"$f":"(G1540/365)/L1540","v":5.4246575342465757}]
[null,"ID1574","2012-06-01T03:07:31","INR 850000",850000,"INR",{"$f":"tblSalaries[[#This Row],[clean Salary (in local currency)]]*VLOOKUP(tblSalaries[[#This Row],[Currency]],tblXrate[],2,FALSE)","v":15136.729184326183},"Sr Business analyst","Analyst","India",{"$f":"VLOOKUP(tblSalaries[[#This Row],[Where do you work]],tblCountries[[Actual]:[Mapping]],2,FALSE)","v":"India"},6,"<=5","ASIA",{"$f":"(G1541/365)/L1541","v":6.9117484859936908}]
[null,"ID1575","2012-06-01T04:10:52",41000,41000,"USD",{"$f":"tblSalaries[[#This Row],[clean Salary (in local currency)]]*VLOOKUP(tblSalaries[[#This Row],[Currency]],tblXrate[],2,FALSE)","v":41000},"Excel Developer","Consultant","USA",{"$f":"VLOOKUP(tblSalaries[[#This Row],[Where do you work]],tblCountries[[Actual]:[Mapping]],2,FALSE)","v":"USA"},6,">5<=10","N. AMERICA",{"$f":"(G1542/365)/L1542","v":18.721461187214611}]
[null,"ID1576","2012-06-01T04:44:29",11000,11000,"USD",{"$f":"tblSalaries[[#This Row],[clean Salary (in local currency)]]*VLOOKUP(tblSalaries[[#This Row],[Currency]],tblXrate[],2,FALSE)","v":11000},"Coordinator","Manager","MÃ©xico",{"$f":"VLOOKUP(tblSalaries[[#This Row],[Where do you work]],tblCountries[[Actual]:[Mapping]],2,FALSE)","v":"Mexico"},6,"<=5","N. AMERICA",{"$f":"(G1543/365)/L1543","v":5.0228310502283104}]
[null,"ID1577","2012-06-01T05:32:31","35000 GBP",35000,"GBP",{"$f":"tblSalaries[[#This Row],[clean Salary (in local currency)]]*VLOOKUP(tblSalaries[[#This Row],[Currency]],tblXrate[],2,FALSE)","v":55166.239522354947},"finance director","CXO or Top Mgmt.","UK",{"$f":"VLOOKUP(tblSalaries[[#This Row],[Where do you work]],tblCountries[[Actual]:[Mapping]],2,FALSE)","v":"UK"},3,">20","EUROPE",{"$f":"(G1544/365)/L1544","v":50.380127417675745}]
[null,"ID1578","2012-06-01T05:37:32",240000,240000,"PHP",{"$f":"tblSalaries[[#This Row],[clean Salary (in local currency)]]*VLOOKUP(tblSalaries[[#This Row],[Currency]],tblXrate[],2,FALSE)","v":5689.2125418690484},"IT Coordinator","Manager","Philippines",{"$f":"VLOOKUP(tblSalaries[[#This Row],[Where do you work]],tblCountries[[Actual]:[Mapping]],2,FALSE)","v":"Philippines"},6,">10<=20","ASIA",{"$f":"(G1545/365)/L1545","v":2.5978139460589262}]
[null,"ID1579","2012-06-01T05:52:11",17728.57,17728,"USD",{"$f":"tblSalaries[[#This Row],[clean Salary (in local currency)]]*VLOOKUP(tblSalaries[[#This Row],[Currency]],tblXrate[],2,FALSE)","v":17728},"Financial analyst","Analyst","Mexico",{"$f":"VLOOKUP(tblSalaries[[#This Row],[Where do you work]],tblCountries[[Actual]:[Mapping]],2,FALSE)","v":"Mexico"},6,"<=5","N. AMERICA",{"$f":"(G1546/365)/L1546","v":8.0949771689497716}]
[null,"ID1580","2012-06-01T05:56:20","120000 MAD",120000,"MAD",{"$f":"tblSalaries[[#This Row],[clean Salary (in local currency)]]*VLOOKUP(tblSalaries[[#This Row],[Currency]],tblXrate[],2,FALSE)","v":13745.704467353951},"Supply chain Controller","Controller","Morocco",{"$f":"VLOOKUP(tblSalaries[[#This Row],[Where do you work]],tblCountries[[Actual]:[Mapping]],2,FALSE)","v":"Morocco"},8,">5<=10","AFRICA",{"$f":"(G1547/365)/L1547","v":4.7074330367650514}]
[null,"ID1581","2012-06-01T06:17:19",50000,50000,"USD",{"$f":"tblSalaries[[#This Row],[clean Salary (in local currency)]]*VLOOKUP(tblSalaries[[#This Row],[Currency]],tblXrate[],2,FALSE)","v":50000},"Staff Accountant","Accountant","USA",{"$f":"VLOOKUP(tblSalaries[[#This Row],[Where do you work]],tblCountries[[Actual]:[Mapping]],2,FALSE)","v":"USA"},6,">10<=20","N. AMERICA",{"$f":"(G1548/365)/L1548","v":22.831050228310502}]
[null,"ID1582","2012-06-01T06:31:49",80000,80000,"CAD",{"$f":"tblSalaries[[#This Row],[clean Salary (in local currency)]]*VLOOKUP(tblSalaries[[#This Row],[Currency]],tblXrate[],2,FALSE)","v":78668.921842426149},"Business Operations Analyst","Analyst","Canada",{"$f":"VLOOKUP(tblSalaries[[#This Row],[Where do you work]],tblCountries[[Actual]:[Mapping]],2,FALSE)","v":"Canada"},6,">5<=10","N. AMERICA",{"$f":"(G1549/365)/L1549","v":35.921882119829291}]
[null,"ID1583","2012-06-01T06:53:52",85000,85000,"USD",{"$f":"tblSalaries[[#This Row],[clean Salary (in local currency)]]*VLOOKUP(tblSalaries[[#This Row],[Currency]],tblXrate[],2,FALSE)","v":85000},"Sr Report Developer","Reporting","USA",{"$f":"VLOOKUP(tblSalaries[[#This Row],[Where do you work]],tblCountries[[Actual]:[Mapping]],2,FALSE)","v":"USA"},6,">5<=10","N. AMERICA",{"$f":"(G1550/365)/L1550","v":38.812785388127857}]
[null,"ID1584","2012-06-01T07:22:36",100000,100000,"AUD",{"$f":"tblSalaries[[#This Row],[clean Salary (in local currency)]]*VLOOKUP(tblSalaries[[#This Row],[Currency]],tblXrate[],2,FALSE)","v":101990.96564026357},"Management Accountant","Manager","Australia",{"$f":"VLOOKUP(tblSalaries[[#This Row],[Where do you work]],tblCountries[[Actual]:[Mapping]],2,FALSE)","v":"Australia"},6,">10<=20","OCEANIA",{"$f":"(G1551/365)/L1551","v":46.571217187334959}]
[null,"ID1585","2012-06-01T08:06:34","5.65 lac per annum",5650000,"INR",{"$f":"tblSalaries[[#This Row],[clean Salary (in local currency)]]*VLOOKUP(tblSalaries[[#This Row],[Currency]],tblXrate[],2,FALSE)","v":100614.72928405051},"MIS","Reporting","India",{"$f":"VLOOKUP(tblSalaries[[#This Row],[Where do you work]],tblCountries[[Actual]:[Mapping]],2,FALSE)","v":"India"},3,">5<=10","ASIA",{"$f":"(G1552/365)/L1552","v":91.885597519680843}]
[null,"ID1586","2012-06-01T08:52:31",85000,85000,"AUD",{"$f":"tblSalaries[[#This Row],[clean Salary (in local currency)]]*VLOOKUP(tblSalaries[[#This Row],[Currency]],tblXrate[],2,FALSE)","v":86692.320794224041},"Administrator","Analyst","Australia",{"$f":"VLOOKUP(tblSalaries[[#This Row],[Where do you work]],tblCountries[[Actual]:[Mapping]],2,FALSE)","v":"Australia"},6,">20","OCEANIA",{"$f":"(G1553/365)/L1553","v":39.58553460923472}]
[null,"ID1587","2012-06-01T10:55:27","AU $120000",120000,"AUD",{"$f":"tblSalaries[[#This Row],[clean Salary (in local currency)]]*VLOOKUP(tblSalaries[[#This Row],[Currency]],tblXrate[],2,FALSE)","v":122389.15876831629},"Reporting Analyst","Analyst","Australia",{"$f":"VLOOKUP(tblSalaries[[#This Row],[Where do you work]],tblCountries[[Actual]:[Mapping]],2,FALSE)","v":"Australia"},3,"<=5","OCEANIA",{"$f":"(G1554/365)/L1554","v":111.77092124960393}]
[null,"ID1588","2012-06-01T10:57:59","30000 Rs",360000,"INR",{"$f":"tblSalaries[[#This Row],[clean Salary (in local currency)]]*VLOOKUP(tblSalaries[[#This Row],[Currency]],tblXrate[],2,FALSE)","v":6410.8500074793246},"team leader ","Manager","India",{"$f":"VLOOKUP(tblSalaries[[#This Row],[Where do you work]],tblCountries[[Actual]:[Mapping]],2,FALSE)","v":"India"},3,">5<=10","ASIA",{"$f":"(G1555/365)/L1555","v":5.8546575410770094}]
[null,"ID1589","2012-06-01T13:03:18",44000,44000,"USD",{"$f":"tblSalaries[[#This Row],[clean Salary (in local currency)]]*VLOOKUP(tblSalaries[[#This Row],[Currency]],tblXrate[],2,FALSE)","v":44000},"Quality Assurance Analyst","Analyst","USA",{"$f":"VLOOKUP(tblSalaries[[#This Row],[Where do you work]],tblCountries[[Actual]:[Mapping]],2,FALSE)","v":"USA"},6,"<=5","N. AMERICA",{"$f":"(G1556/365)/L1556","v":20.091324200913242}]
[null,"ID1590","2012-06-01T14:32:41",250000,250000,"INR",{"$f":"tblSalaries[[#This Row],[clean Salary (in local currency)]]*VLOOKUP(tblSalaries[[#This Row],[Currency]],tblXrate[],2,FALSE)","v":4451.9791718606421},"Analytics engineer","Engineer","India",{"$f":"VLOOKUP(tblSalaries[[#This Row],[Where do you work]],tblCountries[[Actual]:[Mapping]],2,FALSE)","v":"India"},6,"<=5","ASIA",{"$f":"(G1557/365)/L1557","v":2.03286720176285}]
[null,"ID1591","2012-06-01T14:50:41",4500,4500,"USD",{"$f":"tblSalaries[[#This Row],[clean Salary (in local currency)]]*VLOOKUP(tblSalaries[[#This Row],[Currency]],tblXrate[],2,FALSE)","v":4500},"Assistant Manger Service Quality Assurance","Analyst","Pakistan",{"$f":"VLOOKUP(tblSalaries[[#This Row],[Where do you work]],tblCountries[[Actual]:[Mapping]],2,FALSE)","v":"Pakistan"},6,">5<=10","ASIA",{"$f":"(G1558/365)/L1558","v":2.054794520547945}]
[null,"ID1592","2012-06-01T15:09:27",1700000,1700000,"INR",{"$f":"tblSalaries[[#This Row],[clean Salary (in local currency)]]*VLOOKUP(tblSalaries[[#This Row],[Currency]],tblXrate[],2,FALSE)","v":30273.458368652366},"AVP","CXO or Top Mgmt.","India",{"$f":"VLOOKUP(tblSalaries[[#This Row],[Where do you work]],tblCountries[[Actual]:[Mapping]],2,FALSE)","v":"India"},6,">5<=10","ASIA",{"$f":"(G1559/365)/L1559","v":13.823496971987382}]
[null,"ID1593","2012-06-01T15:39:20","U$52,000/annual",52000,"USD",{"$f":"tblSalaries[[#This Row],[clean Salary (in local currency)]]*VLOOKUP(tblSalaries[[#This Row],[Currency]],tblXrate[],2,FALSE)","v":52000},"Planner","Analyst","USA",{"$f":"VLOOKUP(tblSalaries[[#This Row],[Where do you work]],tblCountries[[Actual]:[Mapping]],2,FALSE)","v":"USA"},8,"<=5","N. AMERICA",{"$f":"(G1560/365)/L1560","v":17.80821917808219}]
[null,"ID1594","2012-06-01T18:08:07","75000 $",75000,"USD",{"$f":"tblSalaries[[#This Row],[clean Salary (in local currency)]]*VLOOKUP(tblSalaries[[#This Row],[Currency]],tblXrate[],2,FALSE)","v":75000},"Consultant","Consultant","Germany",{"$f":"VLOOKUP(tblSalaries[[#This Row],[Where do you work]],tblCountries[[Actual]:[Mapping]],2,FALSE)","v":"Germany"},3,">5<=10","EUROPE",{"$f":"(G1561/365)/L1561","v":68.493150684931507}]
[null,"ID1595","2012-06-01T18:18:31","Rs 1000000",1000000,"INR",{"$f":"tblSalaries[[#This Row],[clean Salary (in local currency)]]*VLOOKUP(tblSalaries[[#This Row],[Currency]],tblXrate[],2,FALSE)","v":17807.916687442568},"Senior Analyst","Analyst","India",{"$f":"VLOOKUP(tblSalaries[[#This Row],[Where do you work]],tblCountries[[Actual]:[Mapping]],2,FALSE)","v":"India"},8,"<=5","ASIA",{"$f":"(G1562/365)/L1562","v":6.0986016052885503}]
[null,"ID1596","2012-06-01T18:58:42",177600,177600,"USD",{"$f":"tblSalaries[[#This Row],[clean Salary (in local currency)]]*VLOOKUP(tblSalaries[[#This Row],[Currency]],tblXrate[],2,FALSE)","v":177600},"Accountant","Accountant","Lesotho",{"$f":"VLOOKUP(tblSalaries[[#This Row],[Where do you work]],tblCountries[[Actual]:[Mapping]],2,FALSE)","v":"Lesotho"},6,">5<=10","AFRICA",{"$f":"(G1563/365)/L1563","v":81.095890410958901}]
[null,"ID1597","2012-06-01T19:42:46",650000,650000,"INR",{"$f":"tblSalaries[[#This Row],[clean Salary (in local currency)]]*VLOOKUP(tblSalaries[[#This Row],[Currency]],tblXrate[],2,FALSE)","v":11575.14584683767},"Associate","Analyst","India",{"$f":"VLOOKUP(tblSalaries[[#This Row],[Where do you work]],tblCountries[[Actual]:[Mapping]],2,FALSE)","v":"India"},6,"<=5","ASIA",{"$f":"(G1564/365)/L1564","v":5.2854547245834107}]
[null,"ID1598","2012-06-01T19:46:33","21000EUR",21000,"EUR",{"$f":"tblSalaries[[#This Row],[clean Salary (in local currency)]]*VLOOKUP(tblSalaries[[#This Row],[Currency]],tblXrate[],2,FALSE)","v":26678.388218823762},"Coordenador PeÃ§as Grupo","Manager","Portugal",{"$f":"VLOOKUP(tblSalaries[[#This Row],[Where do you work]],tblCountries[[Actual]:[Mapping]],2,FALSE)","v":"Portugal"},6,">5<=10","EUROPE",{"$f":"(G1565/365)/L1565","v":12.181912428686649}]
[null,"ID1600","2012-06-01T19:57:45","Â£80000",80000,"GBP",{"$f":"tblSalaries[[#This Row],[clean Salary (in local currency)]]*VLOOKUP(tblSalaries[[#This Row],[Currency]],tblXrate[],2,FALSE)","v":126094.26176538273},"Owner of Business Improvement Consultancy","Consultant","UK",{"$f":"VLOOKUP(tblSalaries[[#This Row],[Where do you work]],tblCountries[[Actual]:[Mapping]],2,FALSE)","v":"UK"},6,">10<=20","EUROPE",{"$f":"(G1566/365)/L1566","v":57.577288477343707}]
[null,"ID1601","2012-06-01T20:12:22","500 USD",6000,"USD",{"$f":"tblSalaries[[#This Row],[clean Salary (in local currency)]]*VLOOKUP(tblSalaries[[#This Row],[Currency]],tblXrate[],2,FALSE)","v":6000},"Business Analyst","Analyst","India",{"$f":"VLOOKUP(tblSalaries[[#This Row],[Where do you work]],tblCountries[[Actual]:[Mapping]],2,FALSE)","v":"India"},6,"<=5","ASIA",{"$f":"(G1567/365)/L1567","v":2.7397260273972606}]
[null,"ID1602","2012-06-01T20:27:23",10000,10000,"USD",{"$f":"tblSalaries[[#This Row],[clean Salary (in local currency)]]*VLOOKUP(tblSalaries[[#This Row],[Currency]],tblXrate[],2,FALSE)","v":10000},"MIS","Reporting","India",{"$f":"VLOOKUP(tblSalaries[[#This Row],[Where do you work]],tblCountries[[Actual]:[Mapping]],2,FALSE)","v":"India"},8,">5<=10","ASIA",{"$f":"(G1568/365)/L1568","v":3.4246575342465753}]
[null,"ID1603","2012-06-01T20:37:53",50000,50000,"USD",{"$f":"tblSalaries[[#This Row],[clean Salary (in local currency)]]*VLOOKUP(tblSalaries[[#This Row],[Currency]],tblXrate[],2,FALSE)","v":50000},"Sales Operations Analyst","Analyst","USA",{"$f":"VLOOKUP(tblSalaries[[#This Row],[Where do you work]],tblCountries[[Actual]:[Mapping]],2,FALSE)","v":"USA"},8,"<=5","N. AMERICA",{"$f":"(G1569/365)/L1569","v":17.123287671232877}]
[null,"ID1604","2012-06-01T20:38:57",10000,10000,"USD",{"$f":"tblSalaries[[#This Row],[clean Salary (in local currency)]]*VLOOKUP(tblSalaries[[#This Row],[Currency]],tblXrate[],2,FALSE)","v":10000},"dgm","Manager","India",{"$f":"VLOOKUP(tblSalaries[[#This Row],[Where do you work]],tblCountries[[Actual]:[Mapping]],2,FALSE)","v":"India"},8,">10<=20","ASIA",{"$f":"(G1570/365)/L1570","v":3.4246575342465753}]
[null,"ID1605","2012-06-01T20:53:08",50000,50000,"USD",{"$f":"tblSalaries[[#This Row],[clean Salary (in local currency)]]*VLOOKUP(tblSalaries[[#This Row],[Currency]],tblXrate[],2,FALSE)","v":50000},"Catalog Circulation Analyst","Analyst","USA",{"$f":"VLOOKUP(tblSalaries[[#This Row],[Where do you work]],tblCountries[[Actual]:[Mapping]],2,FALSE)","v":"USA"},8,">10<=20","N. AMERICA",{"$f":"(G1571/365)/L1571","v":17.123287671232877}]
[null,"ID1606","2012-06-01T22:20:26","20000 $",20000,"USD",{"$f":"tblSalaries[[#This Row],[clean Salary (in local currency)]]*VLOOKUP(tblSalaries[[#This Row],[Currency]],tblXrate[],2,FALSE)","v":20000},"Manager","Manager","India",{"$f":"VLOOKUP(tblSalaries[[#This Row],[Where do you work]],tblCountries[[Actual]:[Mapping]],2,FALSE)","v":"India"},6,"<=5","ASIA",{"$f":"(G1572/365)/L1572","v":9.1324200913242013}]
[null,"ID1607","2012-06-01T23:29:43","Â£20000",20000,"GBP",{"$f":"tblSalaries[[#This Row],[clean Salary (in local currency)]]*VLOOKUP(tblSalaries[[#This Row],[Currency]],tblXrate[],2,FALSE)","v":31523.565441345683},"Operations Analyst","Analyst","UK",{"$f":"VLOOKUP(tblSalaries[[#This Row],[Where do you work]],tblCountries[[Actual]:[Mapping]],2,FALSE)","v":"UK"},8,"<=5","EUROPE",{"$f":"(G1573/365)/L1573","v":10.795741589501946}]
[null,"ID1608","2012-06-02T01:29:04","â‚¬ 50k",50000,"EUR",{"$f":"tblSalaries[[#This Row],[clean Salary (in local currency)]]*VLOOKUP(tblSalaries[[#This Row],[Currency]],tblXrate[],2,FALSE)","v":63519.971949580387},"Controller","Controller","Netherlands",{"$f":"VLOOKUP(tblSalaries[[#This Row],[Where do you work]],tblCountries[[Actual]:[Mapping]],2,FALSE)","v":"Netherlands"},6,">5<=10","EUROPE",{"$f":"(G1574/365)/L1574","v":29.00455340163488}]
[null,"ID1609","2012-06-02T01:43:24",2300,27600,"EUR",{"$f":"tblSalaries[[#This Row],[clean Salary (in local currency)]]*VLOOKUP(tblSalaries[[#This Row],[Currency]],tblXrate[],2,FALSE)","v":35063.024516168378},"controller","Controller","Hungary",{"$f":"VLOOKUP(tblSalaries[[#This Row],[Where do you work]],tblCountries[[Actual]:[Mapping]],2,FALSE)","v":"Hungary"},8,">10<=20","EUROPE",{"$f":"(G1575/365)/L1575","v":12.007885108276842}]
[null,"ID1610","2012-06-02T02:24:39",55000,55000,"USD",{"$f":"tblSalaries[[#This Row],[clean Salary (in local currency)]]*VLOOKUP(tblSalaries[[#This Row],[Currency]],tblXrate[],2,FALSE)","v":55000},"Business Analyst","Analyst","USA",{"$f":"VLOOKUP(tblSalaries[[#This Row],[Where do you work]],tblCountries[[Actual]:[Mapping]],2,FALSE)","v":"USA"},6,"<=5","N. AMERICA",{"$f":"(G1576/365)/L1576","v":25.114155251141554}]
[null,"ID1611","2012-06-02T02:28:30",38000,38000,"USD",{"$f":"tblSalaries[[#This Row],[clean Salary (in local currency)]]*VLOOKUP(tblSalaries[[#This Row],[Currency]],tblXrate[],2,FALSE)","v":38000},"Business Analyst","Analyst","USA",{"$f":"VLOOKUP(tblSalaries[[#This Row],[Where do you work]],tblCountries[[Actual]:[Mapping]],2,FALSE)","v":"USA"},8,"<=5","N. AMERICA",{"$f":"(G1577/365)/L1577","v":13.013698630136986}]
[null,"ID1612","2012-06-02T03:08:50",1800000,1800000,"INR",{"$f":"tblSalaries[[#This Row],[clean Salary (in local currency)]]*VLOOKUP(tblSalaries[[#This Row],[Currency]],tblXrate[],2,FALSE)","v":32054.250037396621},"analyst","Analyst","India",{"$f":"VLOOKUP(tblSalaries[[#This Row],[Where do you work]],tblCountries[[Actual]:[Mapping]],2,FALSE)","v":"India"},8,"<=5","ASIA",{"$f":"(G1578/365)/L1578","v":10.977482889519392}]
[null,"ID1613","2012-06-02T03:13:57",35500,35500,"USD",{"$f":"tblSalaries[[#This Row],[clean Salary (in local currency)]]*VLOOKUP(tblSalaries[[#This Row],[Currency]],tblXrate[],2,FALSE)","v":35500},"SAS Adminstrator","Analyst","USA",{"$f":"VLOOKUP(tblSalaries[[#This Row],[Where do you work]],tblCountries[[Actual]:[Mapping]],2,FALSE)","v":"USA"},6,">10<=20","N. AMERICA",{"$f":"(G1579/365)/L1579","v":16.210045662100459}]
[null,"ID1614","2012-06-02T03:23:09",62000,62000,"USD",{"$f":"tblSalaries[[#This Row],[clean Salary (in local currency)]]*VLOOKUP(tblSalaries[[#This Row],[Currency]],tblXrate[],2,FALSE)","v":62000},"Financial Analyst","Analyst","USA",{"$f":"VLOOKUP(tblSalaries[[#This Row],[Where do you work]],tblCountries[[Actual]:[Mapping]],2,FALSE)","v":"USA"},3,"<=5","N. AMERICA",{"$f":"(G1580/365)/L1580","v":56.621004566210047}]
[null,"ID1615","2012-06-02T03:29:19","Â£21500Uk",21500,"GBP",{"$f":"tblSalaries[[#This Row],[clean Salary (in local currency)]]*VLOOKUP(tblSalaries[[#This Row],[Currency]],tblXrate[],2,FALSE)","v":33887.832849446611},"Data Analyst","Analyst","UK",{"$f":"VLOOKUP(tblSalaries[[#This Row],[Where do you work]],tblCountries[[Actual]:[Mapping]],2,FALSE)","v":"UK"},8,"<=5","EUROPE",{"$f":"(G1581/365)/L1581","v":11.605422208714593}]
[null,"ID1616","2012-06-02T04:49:42",60000,60000,"USD",{"$f":"tblSalaries[[#This Row],[clean Salary (in local currency)]]*VLOOKUP(tblSalaries[[#This Row],[Currency]],tblXrate[],2,FALSE)","v":60000},"Data Analyst","Analyst","USA",{"$f":"VLOOKUP(tblSalaries[[#This Row],[Where do you work]],tblCountries[[Actual]:[Mapping]],2,FALSE)","v":"USA"},3,"<=5","N. AMERICA",{"$f":"(G1582/365)/L1582","v":54.794520547945204}]
[null,"ID1617","2012-06-02T06:21:45",32884.800000000003,32884,"USD",{"$f":"tblSalaries[[#This Row],[clean Salary (in local currency)]]*VLOOKUP(tblSalaries[[#This Row],[Currency]],tblXrate[],2,FALSE)","v":32884},"Administrative Assistant","Analyst","USA",{"$f":"VLOOKUP(tblSalaries[[#This Row],[Where do you work]],tblCountries[[Actual]:[Mapping]],2,FALSE)","v":"USA"},8,">5<=10","N. AMERICA",{"$f":"(G1583/365)/L1583","v":11.261643835616438}]
[null,"ID1618","2012-06-02T06:31:21","42000 US",42000,"USD",{"$f":"tblSalaries[[#This Row],[clean Salary (in local currency)]]*VLOOKUP(tblSalaries[[#This Row],[Currency]],tblXrate[],2,FALSE)","v":42000},"production clerk","Analyst","USA",{"$f":"VLOOKUP(tblSalaries[[#This Row],[Where do you work]],tblCountries[[Actual]:[Mapping]],2,FALSE)","v":"USA"},6,"<=5","N. AMERICA",{"$f":"(G1584/365)/L1584","v":19.17808219178082}]
[null,"ID1619","2012-06-02T06:43:25",68000,68000,"USD",{"$f":"tblSalaries[[#This Row],[clean Salary (in local currency)]]*VLOOKUP(tblSalaries[[#This Row],[Currency]],tblXrate[],2,FALSE)","v":68000},"Supply Chain Analyst","Analyst","USA",{"$f":"VLOOKUP(tblSalaries[[#This Row],[Where do you work]],tblCountries[[Actual]:[Mapping]],2,FALSE)","v":"USA"},6,">10<=20","N. AMERICA",{"$f":"(G1585/365)/L1585","v":31.05022831050228}]
[null,"ID1620","2012-06-02T07:42:02",85000,85000,"USD",{"$f":"tblSalaries[[#This Row],[clean Salary (in local currency)]]*VLOOKUP(tblSalaries[[#This Row],[Currency]],tblXrate[],2,FALSE)","v":85000},"Senior Accountant","Accountant","USA",{"$f":"VLOOKUP(tblSalaries[[#This Row],[Where do you work]],tblCountries[[Actual]:[Mapping]],2,FALSE)","v":"USA"},3,">5<=10","N. AMERICA",{"$f":"(G1586/365)/L1586","v":77.625570776255714}]
[null,"ID1621","2012-06-02T11:11:18","U$13,000",13000,"USD",{"$f":"tblSalaries[[#This Row],[clean Salary (in local currency)]]*VLOOKUP(tblSalaries[[#This Row],[Currency]],tblXrate[],2,FALSE)","v":13000},"Dss Analyst","Analyst","Brazil",{"$f":"VLOOKUP(tblSalaries[[#This Row],[Where do you work]],tblCountries[[Actual]:[Mapping]],2,FALSE)","v":"Brazil"},8,"<=5"," S. AMERICA",{"$f":"(G1587/365)/L1587","v":4.4520547945205475}]
[null,"ID1623","2012-06-02T13:58:46",15000,15000,"USD",{"$f":"tblSalaries[[#This Row],[clean Salary (in local currency)]]*VLOOKUP(tblSalaries[[#This Row],[Currency]],tblXrate[],2,FALSE)","v":15000},"Business Analysis & MIS ","Analyst","India",{"$f":"VLOOKUP(tblSalaries[[#This Row],[Where do you work]],tblCountries[[Actual]:[Mapping]],2,FALSE)","v":"India"},6,"<=5","ASIA",{"$f":"(G1588/365)/L1588","v":6.8493150684931505}]
[null,"ID1624","2012-06-02T17:34:20","50000USD",50000,"USD",{"$f":"tblSalaries[[#This Row],[clean Salary (in local currency)]]*VLOOKUP(tblSalaries[[#This Row],[Currency]],tblXrate[],2,FALSE)","v":50000},"Associate Vice President","CXO or Top Mgmt.","India",{"$f":"VLOOKUP(tblSalaries[[#This Row],[Where do you work]],tblCountries[[Actual]:[Mapping]],2,FALSE)","v":"India"},2,">5<=10","ASIA",{"$f":"(G1589/365)/L1589","v":68.493150684931507}]
[null,"ID1625","2012-06-02T18:47:32",7000,7000,"USD",{"$f":"tblSalaries[[#This Row],[clean Salary (in local currency)]]*VLOOKUP(tblSalaries[[#This Row],[Currency]],tblXrate[],2,FALSE)","v":7000},"M.I.S","Reporting","India",{"$f":"VLOOKUP(tblSalaries[[#This Row],[Where do you work]],tblCountries[[Actual]:[Mapping]],2,FALSE)","v":"India"},6,"<=5","ASIA",{"$f":"(G1590/365)/L1590","v":3.1963470319634699}]
[null,"ID1626","2012-06-02T19:14:35",140000,140000,"USD",{"$f":"tblSalaries[[#This Row],[clean Salary (in local currency)]]*VLOOKUP(tblSalaries[[#This Row],[Currency]],tblXrate[],2,FALSE)","v":140000},"sr manager","Manager","USA",{"$f":"VLOOKUP(tblSalaries[[#This Row],[Where do you work]],tblCountries[[Actual]:[Mapping]],2,FALSE)","v":"USA"},6,">10<=20","N. AMERICA",{"$f":"(G1591/365)/L1591","v":63.926940639269411}]
[null,"ID1627","2012-06-02T20:50:40",400000,400000,"INR",{"$f":"tblSalaries[[#This Row],[clean Salary (in local currency)]]*VLOOKUP(tblSalaries[[#This Row],[Currency]],tblXrate[],2,FALSE)","v":7123.1666749770275},"application dev","Analyst","India",{"$f":"VLOOKUP(tblSalaries[[#This Row],[Where do you work]],tblCountries[[Actual]:[Mapping]],2,FALSE)","v":"India"},2,"<=5","ASIA",{"$f":"(G1592/365)/L1592","v":9.7577625684616809}]
[null,"ID1628","2012-06-02T20:52:59","37000GBP",37000,"GBP",{"$f":"tblSalaries[[#This Row],[clean Salary (in local currency)]]*VLOOKUP(tblSalaries[[#This Row],[Currency]],tblXrate[],2,FALSE)","v":58318.59606648951},"Technical Web Analyst","Analyst","UK",{"$f":"VLOOKUP(tblSalaries[[#This Row],[Where do you work]],tblCountries[[Actual]:[Mapping]],2,FALSE)","v":"UK"},6,">5<=10","EUROPE",{"$f":"(G1593/365)/L1593","v":26.629495920771465}]
[null,"ID1629","2012-06-02T21:42:42","6.8 Lac INR",680000,"INR",{"$f":"tblSalaries[[#This Row],[clean Salary (in local currency)]]*VLOOKUP(tblSalaries[[#This Row],[Currency]],tblXrate[],2,FALSE)","v":12109.383347460946},"Deputy Manager","Manager","India",{"$f":"VLOOKUP(tblSalaries[[#This Row],[Where do you work]],tblCountries[[Actual]:[Mapping]],2,FALSE)","v":"India"},2,"<=5","ASIA",{"$f":"(G1594/365)/L1594","v":16.588196366384857}]
[null,"ID1630","2012-06-02T22:33:32",55000,55000,"USD",{"$f":"tblSalaries[[#This Row],[clean Salary (in local currency)]]*VLOOKUP(tblSalaries[[#This Row],[Currency]],tblXrate[],2,FALSE)","v":55000},"Supply Chain Analyst","Analyst","USA",{"$f":"VLOOKUP(tblSalaries[[#This Row],[Where do you work]],tblCountries[[Actual]:[Mapping]],2,FALSE)","v":"USA"},6,"<=5","N. AMERICA",{"$f":"(G1595/365)/L1595","v":25.114155251141554}]
[null,"ID1631","2012-06-02T22:38:56",60000,60000,"USD",{"$f":"tblSalaries[[#This Row],[clean Salary (in local currency)]]*VLOOKUP(tblSalaries[[#This Row],[Currency]],tblXrate[],2,FALSE)","v":60000},"Head of Business","Manager","Indonesia",{"$f":"VLOOKUP(tblSalaries[[#This Row],[Where do you work]],tblCountries[[Actual]:[Mapping]],2,FALSE)","v":"Indonesia"},3,">10<=20","ASIA",{"$f":"(G1596/365)/L1596","v":54.794520547945204}]
[null,"ID1632","2012-06-03T01:33:57",320000,320000,"INR",{"$f":"tblSalaries[[#This Row],[clean Salary (in local currency)]]*VLOOKUP(tblSalaries[[#This Row],[Currency]],tblXrate[],2,FALSE)","v":5698.5333399816218},"senior executive","Manager","India",{"$f":"VLOOKUP(tblSalaries[[#This Row],[Where do you work]],tblCountries[[Actual]:[Mapping]],2,FALSE)","v":"India"},6,"<=5","ASIA",{"$f":"(G1597/365)/L1597","v":2.6020700182564482}]
[null,"ID1633","2012-06-03T01:36:43","24 K mauritian Rupees",288000,"MUR",{"$f":"tblSalaries[[#This Row],[clean Salary (in local currency)]]*VLOOKUP(tblSalaries[[#This Row],[Currency]],tblXrate[],2,FALSE)","v":9376.2513877177607},"IT Support Engineer","Engineer","Mauritius",{"$f":"VLOOKUP(tblSalaries[[#This Row],[Where do you work]],tblCountries[[Actual]:[Mapping]],2,FALSE)","v":"Mauritius"},6,">5<=10","AFRICA",{"$f":"(G1598/365)/L1598","v":4.2813933277250049}]
[null,"ID1634","2012-06-03T02:06:44","Â£60000",60000,"GBP",{"$f":"tblSalaries[[#This Row],[clean Salary (in local currency)]]*VLOOKUP(tblSalaries[[#This Row],[Currency]],tblXrate[],2,FALSE)","v":94570.696324037053},"Data Analyst","Analyst","UK",{"$f":"VLOOKUP(tblSalaries[[#This Row],[Where do you work]],tblCountries[[Actual]:[Mapping]],2,FALSE)","v":"UK"},6,"<=5","EUROPE",{"$f":"(G1599/365)/L1599","v":43.182966358007782}]
[null,"ID1635","2012-06-03T02:54:32",36000,36000,"USD",{"$f":"tblSalaries[[#This Row],[clean Salary (in local currency)]]*VLOOKUP(tblSalaries[[#This Row],[Currency]],tblXrate[],2,FALSE)","v":36000},"Environmental Adviser","Consultant","Azerbaijan",{"$f":"VLOOKUP(tblSalaries[[#This Row],[Where do you work]],tblCountries[[Actual]:[Mapping]],2,FALSE)","v":"Azerbaijan"},6,"<=5","EUROPE",{"$f":"(G1600/365)/L1600","v":16.43835616438356}]
[null,"ID1636","2012-06-03T04:14:45","Rs. 3.70 lacs",3700000,"INR",{"$f":"tblSalaries[[#This Row],[clean Salary (in local currency)]]*VLOOKUP(tblSalaries[[#This Row],[Currency]],tblXrate[],2,FALSE)","v":65889.291743537498},"Senior Officer","Manager","India",{"$f":"VLOOKUP(tblSalaries[[#This Row],[Where do you work]],tblCountries[[Actual]:[Mapping]],2,FALSE)","v":"India"},8,"<=5","ASIA",{"$f":"(G1601/365)/L1601","v":22.564825939567637}]
[null,"ID1637","2012-06-03T04:42:54",106000,106000,"USD",{"$f":"tblSalaries[[#This Row],[clean Salary (in local currency)]]*VLOOKUP(tblSalaries[[#This Row],[Currency]],tblXrate[],2,FALSE)","v":106000},"IT Developer","Analyst","Denmark",{"$f":"VLOOKUP(tblSalaries[[#This Row],[Where do you work]],tblCountries[[Actual]:[Mapping]],2,FALSE)","v":"Denmark"},2,">5<=10","EUROPE",{"$f":"(G1602/365)/L1602","v":145.20547945205479}]
[null,"ID1638","2012-06-03T07:16:47","485000 DKK",485000,"DKK",{"$f":"tblSalaries[[#This Row],[clean Salary (in local currency)]]*VLOOKUP(tblSalaries[[#This Row],[Currency]],tblXrate[],2,FALSE)","v":82888.5550559455},"Controller","Controller","Denmark",{"$f":"VLOOKUP(tblSalaries[[#This Row],[Where do you work]],tblCountries[[Actual]:[Mapping]],2,FALSE)","v":"Denmark"},6,">10<=20","EUROPE",{"$f":"(G1603/365)/L1603","v":37.848655276687445}]
[null,"ID1639","2012-06-03T09:42:40",75000,75000,"NZD",{"$f":"tblSalaries[[#This Row],[clean Salary (in local currency)]]*VLOOKUP(tblSalaries[[#This Row],[Currency]],tblXrate[],2,FALSE)","v":59819.107020370408},"business support analyst","Analyst","New zealand",{"$f":"VLOOKUP(tblSalaries[[#This Row],[Where do you work]],tblCountries[[Actual]:[Mapping]],2,FALSE)","v":"New Zealand"},3,">5<=10","OCEANIA",{"$f":"(G1604/365)/L1604","v":54.629321479790327}]
[null,"ID1640","2012-06-03T10:10:43",6545,6545,"USD",{"$f":"tblSalaries[[#This Row],[clean Salary (in local currency)]]*VLOOKUP(tblSalaries[[#This Row],[Currency]],tblXrate[],2,FALSE)","v":6545},"Operations","Manager","India",{"$f":"VLOOKUP(tblSalaries[[#This Row],[Where do you work]],tblCountries[[Actual]:[Mapping]],2,FALSE)","v":"India"},8,">5<=10","ASIA",{"$f":"(G1605/365)/L1605","v":2.2414383561643834}]
[null,"ID1641","2012-06-03T12:09:27","10 lacs INR",1000000,"INR",{"$f":"tblSalaries[[#This Row],[clean Salary (in local currency)]]*VLOOKUP(tblSalaries[[#This Row],[Currency]],tblXrate[],2,FALSE)","v":17807.916687442568},"Category Manager","Manager","India",{"$f":"VLOOKUP(tblSalaries[[#This Row],[Where do you work]],tblCountries[[Actual]:[Mapping]],2,FALSE)","v":"India"},3,">10<=20","ASIA",{"$f":"(G1606/365)/L1606","v":16.2629376141028}]
[null,"ID1642","2012-06-03T12:16:15",54000,54000,"USD",{"$f":"tblSalaries[[#This Row],[clean Salary (in local currency)]]*VLOOKUP(tblSalaries[[#This Row],[Currency]],tblXrate[],2,FALSE)","v":54000},"assistant director of finance","CXO or Top Mgmt.","USA",{"$f":"VLOOKUP(tblSalaries[[#This Row],[Where do you work]],tblCountries[[Actual]:[Mapping]],2,FALSE)","v":"USA"},6,">5<=10","N. AMERICA",{"$f":"(G1607/365)/L1607","v":24.657534246575342}]
[null,"ID1643","2012-06-03T12:27:07",100000,100000,"USD",{"$f":"tblSalaries[[#This Row],[clean Salary (in local currency)]]*VLOOKUP(tblSalaries[[#This Row],[Currency]],tblXrate[],2,FALSE)","v":100000},"Consultant","Consultant","USA",{"$f":"VLOOKUP(tblSalaries[[#This Row],[Where do you work]],tblCountries[[Actual]:[Mapping]],2,FALSE)","v":"USA"},3,"<=5","N. AMERICA",{"$f":"(G1608/365)/L1608","v":91.324200913242009}]
[null,"ID1644","2012-06-03T13:30:47",50000,50000,"CAD",{"$f":"tblSalaries[[#This Row],[clean Salary (in local currency)]]*VLOOKUP(tblSalaries[[#This Row],[Currency]],tblXrate[],2,FALSE)","v":49168.076151516347},"Application Developer","Analyst","Canada",{"$f":"VLOOKUP(tblSalaries[[#This Row],[Where do you work]],tblCountries[[Actual]:[Mapping]],2,FALSE)","v":"Canada"},6,"<=5","N. AMERICA",{"$f":"(G1609/365)/L1609","v":22.451176324893311}]
[null,"ID1645","2012-06-03T14:27:29",4019,4019,"USD",{"$f":"tblSalaries[[#This Row],[clean Salary (in local currency)]]*VLOOKUP(tblSalaries[[#This Row],[Currency]],tblXrate[],2,FALSE)","v":4019},"Clinical Intake Specialist","Specialist","Philippines",{"$f":"VLOOKUP(tblSalaries[[#This Row],[Where do you work]],tblCountries[[Actual]:[Mapping]],2,FALSE)","v":"Philippines"},3,"<=5","ASIA",{"$f":"(G1610/365)/L1610","v":3.6703196347031963}]
[null,"ID1646","2012-06-03T14:34:56",15000,15000,"USD",{"$f":"tblSalaries[[#This Row],[clean Salary (in local currency)]]*VLOOKUP(tblSalaries[[#This Row],[Currency]],tblXrate[],2,FALSE)","v":15000},"Marketing services","Analyst","Pakistan",{"$f":"VLOOKUP(tblSalaries[[#This Row],[Where do you work]],tblCountries[[Actual]:[Mapping]],2,FALSE)","v":"Pakistan"},6,"<=5","ASIA",{"$f":"(G1611/365)/L1611","v":6.8493150684931505}]
[null,"ID1647","2012-06-03T14:52:21","INR 1000000",1000000,"INR",{"$f":"tblSalaries[[#This Row],[clean Salary (in local currency)]]*VLOOKUP(tblSalaries[[#This Row],[Currency]],tblXrate[],2,FALSE)","v":17807.916687442568},"Senior Associate, Finance","Analyst","India",{"$f":"VLOOKUP(tblSalaries[[#This Row],[Where do you work]],tblCountries[[Actual]:[Mapping]],2,FALSE)","v":"India"},8,"<=5","ASIA",{"$f":"(G1612/365)/L1612","v":6.0986016052885503}]
[null,"ID1648","2012-06-03T16:48:54",12000,12000,"USD",{"$f":"tblSalaries[[#This Row],[clean Salary (in local currency)]]*VLOOKUP(tblSalaries[[#This Row],[Currency]],tblXrate[],2,FALSE)","v":12000},"MIS ","Reporting","India",{"$f":"VLOOKUP(tblSalaries[[#This Row],[Where do you work]],tblCountries[[Actual]:[Mapping]],2,FALSE)","v":"India"},8,"<=5","ASIA",{"$f":"(G1613/365)/L1613","v":4.1095890410958908}]
[null,"ID1649","2012-06-03T17:39:14","Rs. 125000",125000,"INR",{"$f":"tblSalaries[[#This Row],[clean Salary (in local currency)]]*VLOOKUP(tblSalaries[[#This Row],[Currency]],tblXrate[],2,FALSE)","v":2225.989585930321},"No","Analyst","India",{"$f":"VLOOKUP(tblSalaries[[#This Row],[Where do you work]],tblCountries[[Actual]:[Mapping]],2,FALSE)","v":"India"},3,"<=5","ASIA",{"$f":"(G1614/365)/L1614","v":2.03286720176285}]
[null,"ID1650","2012-06-03T19:40:18",86000,86000,"USD",{"$f":"tblSalaries[[#This Row],[clean Salary (in local currency)]]*VLOOKUP(tblSalaries[[#This Row],[Currency]],tblXrate[],2,FALSE)","v":86000},"Analyst","Analyst","Philippines",{"$f":"VLOOKUP(tblSalaries[[#This Row],[Where do you work]],tblCountries[[Actual]:[Mapping]],2,FALSE)","v":"Philippines"},8,"<=5","ASIA",{"$f":"(G1615/365)/L1615","v":29.452054794520549}]
[null,"ID1651","2012-06-04T01:45:03",340000,340000,"INR",{"$f":"tblSalaries[[#This Row],[clean Salary (in local currency)]]*VLOOKUP(tblSalaries[[#This Row],[Currency]],tblXrate[],2,FALSE)","v":6054.6916737304728},"Assistant Manager","Manager","India",{"$f":"VLOOKUP(tblSalaries[[#This Row],[Where do you work]],tblCountries[[Actual]:[Mapping]],2,FALSE)","v":"India"},6,"<=5","ASIA",{"$f":"(G1616/365)/L1616","v":2.7646993943974763}]
[null,"ID1652","2012-06-04T02:03:53","280$/ month",3360,"USD",{"$f":"tblSalaries[[#This Row],[clean Salary (in local currency)]]*VLOOKUP(tblSalaries[[#This Row],[Currency]],tblXrate[],2,FALSE)","v":3360},"service executive","Analyst","India",{"$f":"VLOOKUP(tblSalaries[[#This Row],[Where do you work]],tblCountries[[Actual]:[Mapping]],2,FALSE)","v":"India"},2,"<=5","ASIA",{"$f":"(G1617/365)/L1617","v":4.602739726027397}]
[null,"ID1653","2012-06-04T02:30:11",10000,10000,"USD",{"$f":"tblSalaries[[#This Row],[clean Salary (in local currency)]]*VLOOKUP(tblSalaries[[#This Row],[Currency]],tblXrate[],2,FALSE)","v":10000},"ceo","CXO or Top Mgmt.","India",{"$f":"VLOOKUP(tblSalaries[[#This Row],[Where do you work]],tblCountries[[Actual]:[Mapping]],2,FALSE)","v":"India"},8,"<=5","ASIA",{"$f":"(G1618/365)/L1618","v":3.4246575342465753}]
[null,"ID1654","2012-06-04T04:31:53",70000,70000,"USD",{"$f":"tblSalaries[[#This Row],[clean Salary (in local currency)]]*VLOOKUP(tblSalaries[[#This Row],[Currency]],tblXrate[],2,FALSE)","v":70000},"Sr financial analyst","Analyst","USA",{"$f":"VLOOKUP(tblSalaries[[#This Row],[Where do you work]],tblCountries[[Actual]:[Mapping]],2,FALSE)","v":"USA"},6,">5<=10","N. AMERICA",{"$f":"(G1619/365)/L1619","v":31.963470319634705}]
[null,"ID1655","2012-06-04T09:49:44",155000,155000,"USD",{"$f":"tblSalaries[[#This Row],[clean Salary (in local currency)]]*VLOOKUP(tblSalaries[[#This Row],[Currency]],tblXrate[],2,FALSE)","v":155000},"Consulting Practice Manager","Manager","USA",{"$f":"VLOOKUP(tblSalaries[[#This Row],[Where do you work]],tblCountries[[Actual]:[Mapping]],2,FALSE)","v":"USA"},2,">10<=20","N. AMERICA",{"$f":"(G1620/365)/L1620","v":212.32876712328766}]
[null,"ID1656","2012-06-04T10:23:27",225000,225000,"USD",{"$f":"tblSalaries[[#This Row],[clean Salary (in local currency)]]*VLOOKUP(tblSalaries[[#This Row],[Currency]],tblXrate[],2,FALSE)","v":225000},"SVP of Acquisitions","CXO or Top Mgmt.","USA",{"$f":"VLOOKUP(tblSalaries[[#This Row],[Where do you work]],tblCountries[[Actual]:[Mapping]],2,FALSE)","v":"USA"},6,">10<=20","N. AMERICA",{"$f":"(G1621/365)/L1621","v":102.73972602739725}]
[null,"ID1657","2012-06-04T12:22:05",10000,10000,"USD",{"$f":"tblSalaries[[#This Row],[clean Salary (in local currency)]]*VLOOKUP(tblSalaries[[#This Row],[Currency]],tblXrate[],2,FALSE)","v":10000},"MIS Executive","Reporting","India",{"$f":"VLOOKUP(tblSalaries[[#This Row],[Where do you work]],tblCountries[[Actual]:[Mapping]],2,FALSE)","v":"India"},8,"<=5","ASIA",{"$f":"(G1622/365)/L1622","v":3.4246575342465753}]
[null,"ID1658","2012-06-04T12:58:06",300000,300000,"INR",{"$f":"tblSalaries[[#This Row],[clean Salary (in local currency)]]*VLOOKUP(tblSalaries[[#This Row],[Currency]],tblXrate[],2,FALSE)","v":5342.3750062327708},"Store Inventory","Analyst","India",{"$f":"VLOOKUP(tblSalaries[[#This Row],[Where do you work]],tblCountries[[Actual]:[Mapping]],2,FALSE)","v":"India"},6,">5<=10","ASIA",{"$f":"(G1623/365)/L1623","v":2.4394406421154202}]
[null,"ID1659","2012-06-04T13:30:51",84000,84000,"AUD",{"$f":"tblSalaries[[#This Row],[clean Salary (in local currency)]]*VLOOKUP(tblSalaries[[#This Row],[Currency]],tblXrate[],2,FALSE)","v":85672.4111378214},"consultant","Consultant","Australia",{"$f":"VLOOKUP(tblSalaries[[#This Row],[Where do you work]],tblCountries[[Actual]:[Mapping]],2,FALSE)","v":"Australia"},6,">5<=10","OCEANIA",{"$f":"(G1624/365)/L1624","v":39.119822437361371}]
[null,"ID1660","2012-06-04T14:25:45","240000 INR",240000,"INR",{"$f":"tblSalaries[[#This Row],[clean Salary (in local currency)]]*VLOOKUP(tblSalaries[[#This Row],[Currency]],tblXrate[],2,FALSE)","v":4273.9000049862161},"Exicutive TQM","Controller","India",{"$f":"VLOOKUP(tblSalaries[[#This Row],[Where do you work]],tblCountries[[Actual]:[Mapping]],2,FALSE)","v":"India"},3,">10<=20","ASIA",{"$f":"(G1625/365)/L1625","v":3.9031050273846724}]
[null,"ID1661","2012-06-04T16:31:09","Rs. 5 lacs",500000,"INR",{"$f":"tblSalaries[[#This Row],[clean Salary (in local currency)]]*VLOOKUP(tblSalaries[[#This Row],[Currency]],tblXrate[],2,FALSE)","v":8903.9583437212841},"Team Leader","Manager","India",{"$f":"VLOOKUP(tblSalaries[[#This Row],[Where do you work]],tblCountries[[Actual]:[Mapping]],2,FALSE)","v":"India"},8,">10<=20","ASIA",{"$f":"(G1626/365)/L1626","v":3.0493008026442752}]
[null,"ID1662","2012-06-04T18:03:21",42000,42000,"GBP",{"$f":"tblSalaries[[#This Row],[clean Salary (in local currency)]]*VLOOKUP(tblSalaries[[#This Row],[Currency]],tblXrate[],2,FALSE)","v":66199.48742682593},"Management Accountant","Manager","UK",{"$f":"VLOOKUP(tblSalaries[[#This Row],[Where do you work]],tblCountries[[Actual]:[Mapping]],2,FALSE)","v":"UK"},6,">20","EUROPE",{"$f":"(G1627/365)/L1627","v":30.228076450605446}]
[null,"ID1663","2012-06-04T18:55:54","INR 3.2 lpa",320000,"INR",{"$f":"tblSalaries[[#This Row],[clean Salary (in local currency)]]*VLOOKUP(tblSalaries[[#This Row],[Currency]],tblXrate[],2,FALSE)","v":5698.5333399816218},"Research Associate","Analyst","India",{"$f":"VLOOKUP(tblSalaries[[#This Row],[Where do you work]],tblCountries[[Actual]:[Mapping]],2,FALSE)","v":"India"},6,"<=5","ASIA",{"$f":"(G1628/365)/L1628","v":2.6020700182564482}]
[null,"ID1664","2012-06-04T19:11:18","Â£22k",22000,"GBP",{"$f":"tblSalaries[[#This Row],[clean Salary (in local currency)]]*VLOOKUP(tblSalaries[[#This Row],[Currency]],tblXrate[],2,FALSE)","v":34675.92198548025},"Supply/Demand Planner","Manager","UK",{"$f":"VLOOKUP(tblSalaries[[#This Row],[Where do you work]],tblCountries[[Actual]:[Mapping]],2,FALSE)","v":"UK"},6,">10<=20","EUROPE",{"$f":"(G1629/365)/L1629","v":15.833754331269519}]
[null,"ID1665","2012-06-04T19:46:09","2600 $",31200,"USD",{"$f":"tblSalaries[[#This Row],[clean Salary (in local currency)]]*VLOOKUP(tblSalaries[[#This Row],[Currency]],tblXrate[],2,FALSE)","v":31200},"Economist","Reporting","ISRAEL",{"$f":"VLOOKUP(tblSalaries[[#This Row],[Where do you work]],tblCountries[[Actual]:[Mapping]],2,FALSE)","v":"Israel"},8,">10<=20","ASIA",{"$f":"(G1630/365)/L1630","v":10.684931506849315}]
[null,"ID1666","2012-06-04T21:43:15",56000,56000,"CAD",{"$f":"tblSalaries[[#This Row],[clean Salary (in local currency)]]*VLOOKUP(tblSalaries[[#This Row],[Currency]],tblXrate[],2,FALSE)","v":55068.245289698301},"consultant","Consultant","Canada",{"$f":"VLOOKUP(tblSalaries[[#This Row],[Where do you work]],tblCountries[[Actual]:[Mapping]],2,FALSE)","v":"Canada"},8,"<=5","N. AMERICA",{"$f":"(G1631/365)/L1631","v":18.858988112910378}]
[null,"ID1667","2012-06-04T22:16:00",13000,13000,"USD",{"$f":"tblSalaries[[#This Row],[clean Salary (in local currency)]]*VLOOKUP(tblSalaries[[#This Row],[Currency]],tblXrate[],2,FALSE)","v":13000},"logistics analyst","Analyst","Slovakia",{"$f":"VLOOKUP(tblSalaries[[#This Row],[Where do you work]],tblCountries[[Actual]:[Mapping]],2,FALSE)","v":"Slovakia"},8,">5<=10","EUROPE",{"$f":"(G1632/365)/L1632","v":4.4520547945205475}]
[null,"ID1668","2012-06-04T23:00:10",92000,92000,"USD",{"$f":"tblSalaries[[#This Row],[clean Salary (in local currency)]]*VLOOKUP(tblSalaries[[#This Row],[Currency]],tblXrate[],2,FALSE)","v":92000},"BI director","Reporting","USA",{"$f":"VLOOKUP(tblSalaries[[#This Row],[Where do you work]],tblCountries[[Actual]:[Mapping]],2,FALSE)","v":"USA"},3,">10<=20","N. AMERICA",{"$f":"(G1633/365)/L1633","v":84.018264840182653}]
[null,"ID1669","2012-06-04T23:18:41",85000,85000,"USD",{"$f":"tblSalaries[[#This Row],[clean Salary (in local currency)]]*VLOOKUP(tblSalaries[[#This Row],[Currency]],tblXrate[],2,FALSE)","v":85000},"Sr Manager","Manager","USA",{"$f":"VLOOKUP(tblSalaries[[#This Row],[Where do you work]],tblCountries[[Actual]:[Mapping]],2,FALSE)","v":"USA"},8,">5<=10","N. AMERICA",{"$f":"(G1634/365)/L1634","v":29.109589041095891}]
[null,"ID1670","2012-06-04T23:38:42","11000 USD",11000,"USD",{"$f":"tblSalaries[[#This Row],[clean Salary (in local currency)]]*VLOOKUP(tblSalaries[[#This Row],[Currency]],tblXrate[],2,FALSE)","v":11000},"Dataminer","Analyst","Tunisia",{"$f":"VLOOKUP(tblSalaries[[#This Row],[Where do you work]],tblCountries[[Actual]:[Mapping]],2,FALSE)","v":"Tunisia"},6,">5<=10","AFRICA",{"$f":"(G1635/365)/L1635","v":5.0228310502283104}]
[null,"ID1671","2012-06-04T23:38:47","30000 â‚¬",30000,"EUR",{"$f":"tblSalaries[[#This Row],[clean Salary (in local currency)]]*VLOOKUP(tblSalaries[[#This Row],[Currency]],tblXrate[],2,FALSE)","v":38111.983169748237},"Safety technician","Analyst","Spain",{"$f":"VLOOKUP(tblSalaries[[#This Row],[Where do you work]],tblCountries[[Actual]:[Mapping]],2,FALSE)","v":"Spain"},2,">10<=20","EUROPE",{"$f":"(G1636/365)/L1636","v":52.208196122942788}]
[null,"ID1672","2012-06-04T23:41:47",49000,49000,"USD",{"$f":"tblSalaries[[#This Row],[clean Salary (in local currency)]]*VLOOKUP(tblSalaries[[#This Row],[Currency]],tblXrate[],2,FALSE)","v":49000},"Marketing Data Analyst","Analyst","USA",{"$f":"VLOOKUP(tblSalaries[[#This Row],[Where do you work]],tblCountries[[Actual]:[Mapping]],2,FALSE)","v":"USA"},3,"<=5","N. AMERICA",{"$f":"(G1637/365)/L1637","v":44.74885844748858}]
[null,"ID1673","2012-06-05T00:22:14",59000,59000,"USD",{"$f":"tblSalaries[[#This Row],[clean Salary (in local currency)]]*VLOOKUP(tblSalaries[[#This Row],[Currency]],tblXrate[],2,FALSE)","v":59000},"Category Leader","Manager","USA",{"$f":"VLOOKUP(tblSalaries[[#This Row],[Where do you work]],tblCountries[[Actual]:[Mapping]],2,FALSE)","v":"USA"},2,"<=5","N. AMERICA",{"$f":"(G1638/365)/L1638","v":80.821917808219183}]
[null,"ID1674","2012-06-05T02:03:48",55000,55000,"USD",{"$f":"tblSalaries[[#This Row],[clean Salary (in local currency)]]*VLOOKUP(tblSalaries[[#This Row],[Currency]],tblXrate[],2,FALSE)","v":55000},"Customer Sales Analyst","Analyst","USA",{"$f":"VLOOKUP(tblSalaries[[#This Row],[Where do you work]],tblCountries[[Actual]:[Mapping]],2,FALSE)","v":"USA"},6,">10<=20","N. AMERICA",{"$f":"(G1639/365)/L1639","v":25.114155251141554}]
[null,"ID1675","2012-06-05T02:21:01",75000,75000,"USD",{"$f":"tblSalaries[[#This Row],[clean Salary (in local currency)]]*VLOOKUP(tblSalaries[[#This Row],[Currency]],tblXrate[],2,FALSE)","v":75000},"Accountant","Accountant","USA",{"$f":"VLOOKUP(tblSalaries[[#This Row],[Where do you work]],tblCountries[[Actual]:[Mapping]],2,FALSE)","v":"USA"},6,">5<=10","N. AMERICA",{"$f":"(G1640/365)/L1640","v":34.246575342465754}]
[null,"ID1677","2012-06-05T03:50:02",3300,39600,"EUR",{"$f":"tblSalaries[[#This Row],[clean Salary (in local currency)]]*VLOOKUP(tblSalaries[[#This Row],[Currency]],tblXrate[],2,FALSE)","v":50307.817784067665},"Maintenance Manager","Manager","Europe",{"$f":"VLOOKUP(tblSalaries[[#This Row],[Where do you work]],tblCountries[[Actual]:[Mapping]],2,FALSE)","v":"Europe"},2,"<=5","EUROPE",{"$f":"(G1641/365)/L1641","v":68.914818882284479}]
[null,"ID1678","2012-06-05T03:55:36","US$ 30500",30500,"USD",{"$f":"tblSalaries[[#This Row],[clean Salary (in local currency)]]*VLOOKUP(tblSalaries[[#This Row],[Currency]],tblXrate[],2,FALSE)","v":30500},"Financial Analyst","Analyst","Brazil",{"$f":"VLOOKUP(tblSalaries[[#This Row],[Where do you work]],tblCountries[[Actual]:[Mapping]],2,FALSE)","v":"Brazil"},8,">5<=10"," S. AMERICA",{"$f":"(G1642/365)/L1642","v":10.445205479452055}]
[null,"ID1679","2012-06-05T04:06:09",80000,80000,"USD",{"$f":"tblSalaries[[#This Row],[clean Salary (in local currency)]]*VLOOKUP(tblSalaries[[#This Row],[Currency]],tblXrate[],2,FALSE)","v":80000},"Data Resource Specialist","Specialist","USA",{"$f":"VLOOKUP(tblSalaries[[#This Row],[Where do you work]],tblCountries[[Actual]:[Mapping]],2,FALSE)","v":"USA"},3,"<=5","N. AMERICA",{"$f":"(G1643/365)/L1643","v":73.05936073059361}]
[null,"ID1680","2012-06-05T05:03:04",1000,12000,"USD",{"$f":"tblSalaries[[#This Row],[clean Salary (in local currency)]]*VLOOKUP(tblSalaries[[#This Row],[Currency]],tblXrate[],2,FALSE)","v":12000},"Waiter","Analyst","USA",{"$f":"VLOOKUP(tblSalaries[[#This Row],[Where do you work]],tblCountries[[Actual]:[Mapping]],2,FALSE)","v":"USA"},3,"<=5","N. AMERICA",{"$f":"(G1644/365)/L1644","v":10.958904109589042}]
[null,"ID1681","2012-06-05T05:03:20",48500,48500,"USD",{"$f":"tblSalaries[[#This Row],[clean Salary (in local currency)]]*VLOOKUP(tblSalaries[[#This Row],[Currency]],tblXrate[],2,FALSE)","v":48500},"Business Systems Analyst I","Analyst","USA",{"$f":"VLOOKUP(tblSalaries[[#This Row],[Where do you work]],tblCountries[[Actual]:[Mapping]],2,FALSE)","v":"USA"},6,">5<=10","N. AMERICA",{"$f":"(G1645/365)/L1645","v":22.146118721461189}]
[null,"ID1682","2012-06-05T06:51:36","Â£40000",40000,"GBP",{"$f":"tblSalaries[[#This Row],[clean Salary (in local currency)]]*VLOOKUP(tblSalaries[[#This Row],[Currency]],tblXrate[],2,FALSE)","v":63047.130882691366},"Technical Specialist","Specialist","UK",{"$f":"VLOOKUP(tblSalaries[[#This Row],[Where do you work]],tblCountries[[Actual]:[Mapping]],2,FALSE)","v":"UK"},3,">20","EUROPE",{"$f":"(G1646/365)/L1646","v":57.577288477343707}]
[null,"ID1683","2012-06-05T07:05:12","Rs 16000",192000,"INR",{"$f":"tblSalaries[[#This Row],[clean Salary (in local currency)]]*VLOOKUP(tblSalaries[[#This Row],[Currency]],tblXrate[],2,FALSE)","v":3419.1200039889732},"Sr Associate","Analyst","India",{"$f":"VLOOKUP(tblSalaries[[#This Row],[Where do you work]],tblCountries[[Actual]:[Mapping]],2,FALSE)","v":"India"},6,"<=5","ASIA",{"$f":"(G1647/365)/L1647","v":1.5612420109538689}]
[null,"ID1684","2012-06-05T10:43:34",110000,110000,"NZD",{"$f":"tblSalaries[[#This Row],[clean Salary (in local currency)]]*VLOOKUP(tblSalaries[[#This Row],[Currency]],tblXrate[],2,FALSE)","v":87734.690296543267},"Enterprise Portfolio Manager","Manager","New Zealand",{"$f":"VLOOKUP(tblSalaries[[#This Row],[Where do you work]],tblCountries[[Actual]:[Mapping]],2,FALSE)","v":"New Zealand"},6,">5<=10","OCEANIA",{"$f":"(G1648/365)/L1648","v":40.061502418512909}]
[null,"ID1685","2012-06-05T12:42:38","NZD$71000",71000,"NZD",{"$f":"tblSalaries[[#This Row],[clean Salary (in local currency)]]*VLOOKUP(tblSalaries[[#This Row],[Currency]],tblXrate[],2,FALSE)","v":56628.754645950656},"Business Analyst","Analyst","NZ",{"$f":"VLOOKUP(tblSalaries[[#This Row],[Where do you work]],tblCountries[[Actual]:[Mapping]],2,FALSE)","v":"New Zealand"},8,">5<=10","OCEANIA",{"$f":"(G1649/365)/L1649","v":19.393409125325569}]
[null,"ID1686","2012-06-05T17:59:39","INR 450000",450000,"INR",{"$f":"tblSalaries[[#This Row],[clean Salary (in local currency)]]*VLOOKUP(tblSalaries[[#This Row],[Currency]],tblXrate[],2,FALSE)","v":8013.5625093491553},"Sr Executive - MIS","Reporting","India",{"$f":"VLOOKUP(tblSalaries[[#This Row],[Where do you work]],tblCountries[[Actual]:[Mapping]],2,FALSE)","v":"India"},8,"<=5","ASIA",{"$f":"(G1650/365)/L1650","v":2.7443707223798479}]
[null,"ID1687","2012-06-05T18:31:59","200000 INR",200000,"INR",{"$f":"tblSalaries[[#This Row],[clean Salary (in local currency)]]*VLOOKUP(tblSalaries[[#This Row],[Currency]],tblXrate[],2,FALSE)","v":3561.5833374885137},"Executive","Analyst","India",{"$f":"VLOOKUP(tblSalaries[[#This Row],[Where do you work]],tblCountries[[Actual]:[Mapping]],2,FALSE)","v":"India"},2,">10<=20","ASIA",{"$f":"(G1651/365)/L1651","v":4.8788812842308404}]
[null,"ID1688","2012-06-05T19:14:04",62000,62000,"USD",{"$f":"tblSalaries[[#This Row],[clean Salary (in local currency)]]*VLOOKUP(tblSalaries[[#This Row],[Currency]],tblXrate[],2,FALSE)","v":62000},"Quality Engineer","Engineer","USA",{"$f":"VLOOKUP(tblSalaries[[#This Row],[Where do you work]],tblCountries[[Actual]:[Mapping]],2,FALSE)","v":"USA"},3,">10<=20","N. AMERICA",{"$f":"(G1652/365)/L1652","v":56.621004566210047}]
[null,"ID1689","2012-06-05T19:16:03",21000,21000,"EUR",{"$f":"tblSalaries[[#This Row],[clean Salary (in local currency)]]*VLOOKUP(tblSalaries[[#This Row],[Currency]],tblXrate[],2,FALSE)","v":26678.388218823762},"Sales Planning","Analyst","Portugal",{"$f":"VLOOKUP(tblSalaries[[#This Row],[Where do you work]],tblCountries[[Actual]:[Mapping]],2,FALSE)","v":"Portugal"},6,"<=5","EUROPE",{"$f":"(G1653/365)/L1653","v":12.181912428686649}]
[null,"ID1690","2012-06-05T19:37:13","Â£45000",45000,"GBP",{"$f":"tblSalaries[[#This Row],[clean Salary (in local currency)]]*VLOOKUP(tblSalaries[[#This Row],[Currency]],tblXrate[],2,FALSE)","v":70928.022243027779},"Data Analyst","Analyst","UK",{"$f":"VLOOKUP(tblSalaries[[#This Row],[Where do you work]],tblCountries[[Actual]:[Mapping]],2,FALSE)","v":"UK"},8,"<=5","EUROPE",{"$f":"(G1654/365)/L1654","v":24.290418576379377}]
[null,"ID1691","2012-06-05T19:59:35",33000,33000,"EUR",{"$f":"tblSalaries[[#This Row],[clean Salary (in local currency)]]*VLOOKUP(tblSalaries[[#This Row],[Currency]],tblXrate[],2,FALSE)","v":41923.181486723057},"assistant","Analyst","france",{"$f":"VLOOKUP(tblSalaries[[#This Row],[Where do you work]],tblCountries[[Actual]:[Mapping]],2,FALSE)","v":"France"},6,">5<=10","EUROPE",{"$f":"(G1655/365)/L1655","v":19.143005245079021}]
[null,"ID1692","2012-06-05T20:43:21",90000,90000,"USD",{"$f":"tblSalaries[[#This Row],[clean Salary (in local currency)]]*VLOOKUP(tblSalaries[[#This Row],[Currency]],tblXrate[],2,FALSE)","v":90000},"Senior QA Tester","Analyst","USA",{"$f":"VLOOKUP(tblSalaries[[#This Row],[Where do you work]],tblCountries[[Actual]:[Mapping]],2,FALSE)","v":"USA"},3,">5<=10","N. AMERICA",{"$f":"(G1656/365)/L1656","v":82.191780821917817}]
[null,"ID1693","2012-06-05T21:07:16","400 000 NOK",400000,"NOK",{"$f":"tblSalaries[[#This Row],[clean Salary (in local currency)]]*VLOOKUP(tblSalaries[[#This Row],[Currency]],tblXrate[],2,FALSE)","v":67700.452577525488},"Economic analyst","Analyst","Norway",{"$f":"VLOOKUP(tblSalaries[[#This Row],[Where do you work]],tblCountries[[Actual]:[Mapping]],2,FALSE)","v":"Norway"},8,"<=5","EUROPE",{"$f":"(G1657/365)/L1657","v":23.185086499152565}]
[null,"ID1694","2012-06-05T21:33:47",85000,85000,"USD",{"$f":"tblSalaries[[#This Row],[clean Salary (in local currency)]]*VLOOKUP(tblSalaries[[#This Row],[Currency]],tblXrate[],2,FALSE)","v":85000},"Financial Analyst","Analyst","USA",{"$f":"VLOOKUP(tblSalaries[[#This Row],[Where do you work]],tblCountries[[Actual]:[Mapping]],2,FALSE)","v":"USA"},6,">10<=20","N. AMERICA",{"$f":"(G1658/365)/L1658","v":38.812785388127857}]
[null,"ID1695","2012-06-05T21:49:10",50000,50000,"GBP",{"$f":"tblSalaries[[#This Row],[clean Salary (in local currency)]]*VLOOKUP(tblSalaries[[#This Row],[Currency]],tblXrate[],2,FALSE)","v":78808.913603364199},"Commercial Director","CXO or Top Mgmt.","UK",{"$f":"VLOOKUP(tblSalaries[[#This Row],[Where do you work]],tblCountries[[Actual]:[Mapping]],2,FALSE)","v":"UK"},6,">5<=10","EUROPE",{"$f":"(G1659/365)/L1659","v":35.98580529833982}]
[null,"ID1696","2012-06-05T21:59:40",65000,65000,"USD",{"$f":"tblSalaries[[#This Row],[clean Salary (in local currency)]]*VLOOKUP(tblSalaries[[#This Row],[Currency]],tblXrate[],2,FALSE)","v":65000},"Business Analyst","Analyst","USA",{"$f":"VLOOKUP(tblSalaries[[#This Row],[Where do you work]],tblCountries[[Actual]:[Mapping]],2,FALSE)","v":"USA"},6,">5<=10","N. AMERICA",{"$f":"(G1660/365)/L1660","v":29.680365296803654}]
[null,"ID1697","2012-06-05T22:05:10",75000,75000,"USD",{"$f":"tblSalaries[[#This Row],[clean Salary (in local currency)]]*VLOOKUP(tblSalaries[[#This Row],[Currency]],tblXrate[],2,FALSE)","v":75000},"Directer of Sales Support","CXO or Top Mgmt.","USA",{"$f":"VLOOKUP(tblSalaries[[#This Row],[Where do you work]],tblCountries[[Actual]:[Mapping]],2,FALSE)","v":"USA"},3,"<=5","N. AMERICA",{"$f":"(G1661/365)/L1661","v":68.493150684931507}]
[null,"ID1698","2012-06-05T22:44:27",92000,92000,"USD",{"$f":"tblSalaries[[#This Row],[clean Salary (in local currency)]]*VLOOKUP(tblSalaries[[#This Row],[Currency]],tblXrate[],2,FALSE)","v":92000},"Anallyst","Analyst","USA",{"$f":"VLOOKUP(tblSalaries[[#This Row],[Where do you work]],tblCountries[[Actual]:[Mapping]],2,FALSE)","v":"USA"},6,">5<=10","N. AMERICA",{"$f":"(G1662/365)/L1662","v":42.009132420091326}]
[null,"ID1699","2012-06-05T22:50:20",40000,40000,"EUR",{"$f":"tblSalaries[[#This Row],[clean Salary (in local currency)]]*VLOOKUP(tblSalaries[[#This Row],[Currency]],tblXrate[],2,FALSE)","v":50815.977559664309},"Financial Analyst","Analyst","Germany",{"$f":"VLOOKUP(tblSalaries[[#This Row],[Where do you work]],tblCountries[[Actual]:[Mapping]],2,FALSE)","v":"Germany"},3,"<=5","EUROPE",{"$f":"(G1663/365)/L1663","v":46.407285442615809}]
[null,"ID1700","2012-06-05T23:09:44","Â£35500",35500,"GBP",{"$f":"tblSalaries[[#This Row],[clean Salary (in local currency)]]*VLOOKUP(tblSalaries[[#This Row],[Currency]],tblXrate[],2,FALSE)","v":55954.328658388586},"Assistant Accountant","Accountant","UK",{"$f":"VLOOKUP(tblSalaries[[#This Row],[Where do you work]],tblCountries[[Actual]:[Mapping]],2,FALSE)","v":"UK"},6,">5<=10","EUROPE",{"$f":"(G1664/365)/L1664","v":25.54992176182127}]
[null,"ID1701","2012-06-06T00:49:15",45000,45000,"USD",{"$f":"tblSalaries[[#This Row],[clean Salary (in local currency)]]*VLOOKUP(tblSalaries[[#This Row],[Currency]],tblXrate[],2,FALSE)","v":45000},"Bussiness Analyst","Analyst","USA",{"$f":"VLOOKUP(tblSalaries[[#This Row],[Where do you work]],tblCountries[[Actual]:[Mapping]],2,FALSE)","v":"USA"},3,"<=5","N. AMERICA",{"$f":"(G1665/365)/L1665","v":41.095890410958908}]
[null,"ID1702","2012-06-06T01:04:35","4 lacs INR",400000,"INR",{"$f":"tblSalaries[[#This Row],[clean Salary (in local currency)]]*VLOOKUP(tblSalaries[[#This Row],[Currency]],tblXrate[],2,FALSE)","v":7123.1666749770275},"Analyst","Analyst","India",{"$f":"VLOOKUP(tblSalaries[[#This Row],[Where do you work]],tblCountries[[Actual]:[Mapping]],2,FALSE)","v":"India"},6,"<=5","ASIA",{"$f":"(G1666/365)/L1666","v":3.2525875228205603}]
[null,"ID1703","2012-06-06T01:26:56","38920EUR",38920,"EUR",{"$f":"tblSalaries[[#This Row],[clean Salary (in local currency)]]*VLOOKUP(tblSalaries[[#This Row],[Currency]],tblXrate[],2,FALSE)","v":49443.946165553374},"functional analyst","Analyst","Belgium",{"$f":"VLOOKUP(tblSalaries[[#This Row],[Where do you work]],tblCountries[[Actual]:[Mapping]],2,FALSE)","v":"Belgium"},6,"<=5","EUROPE",{"$f":"(G1667/365)/L1667","v":22.577144367832592}]
[null,"ID1704","2012-06-06T01:41:40","US$45,000",45000,"USD",{"$f":"tblSalaries[[#This Row],[clean Salary (in local currency)]]*VLOOKUP(tblSalaries[[#This Row],[Currency]],tblXrate[],2,FALSE)","v":45000},"CFO","CXO or Top Mgmt.","Mexico",{"$f":"VLOOKUP(tblSalaries[[#This Row],[Where do you work]],tblCountries[[Actual]:[Mapping]],2,FALSE)","v":"Mexico"},6,"<=5","N. AMERICA",{"$f":"(G1668/365)/L1668","v":20.547945205479454}]
[null,"ID1705","2012-06-06T02:11:58","US$60000",60000,"USD",{"$f":"tblSalaries[[#This Row],[clean Salary (in local currency)]]*VLOOKUP(tblSalaries[[#This Row],[Currency]],tblXrate[],2,FALSE)","v":60000},"Analyst","Analyst","USA",{"$f":"VLOOKUP(tblSalaries[[#This Row],[Where do you work]],tblCountries[[Actual]:[Mapping]],2,FALSE)","v":"USA"},8,"<=5","N. AMERICA",{"$f":"(G1669/365)/L1669","v":20.547945205479451}]
[null,"ID1706","2012-06-06T02:17:14",65000,65000,"USD",{"$f":"tblSalaries[[#This Row],[clean Salary (in local currency)]]*VLOOKUP(tblSalaries[[#This Row],[Currency]],tblXrate[],2,FALSE)","v":65000},"Actuarial Analyst","Analyst","USA",{"$f":"VLOOKUP(tblSalaries[[#This Row],[Where do you work]],tblCountries[[Actual]:[Mapping]],2,FALSE)","v":"USA"},8,"<=5","N. AMERICA",{"$f":"(G1670/365)/L1670","v":22.260273972602739}]
[null,"ID1707","2012-06-06T03:14:56",73000,73000,"USD",{"$f":"tblSalaries[[#This Row],[clean Salary (in local currency)]]*VLOOKUP(tblSalaries[[#This Row],[Currency]],tblXrate[],2,FALSE)","v":73000},"process coordinator","Manager","USA",{"$f":"VLOOKUP(tblSalaries[[#This Row],[Where do you work]],tblCountries[[Actual]:[Mapping]],2,FALSE)","v":"USA"},3,">5<=10","N. AMERICA",{"$f":"(G1671/365)/L1671","v":66.666666666666671}]
[null,"ID1708","2012-06-06T04:00:52",54000,54000,"USD",{"$f":"tblSalaries[[#This Row],[clean Salary (in local currency)]]*VLOOKUP(tblSalaries[[#This Row],[Currency]],tblXrate[],2,FALSE)","v":54000},"Energy Analyst","Analyst","USA",{"$f":"VLOOKUP(tblSalaries[[#This Row],[Where do you work]],tblCountries[[Actual]:[Mapping]],2,FALSE)","v":"USA"},8,">5<=10","N. AMERICA",{"$f":"(G1672/365)/L1672","v":18.493150684931507}]
[null,"ID1710","2012-06-06T05:52:59",81000,81000,"USD",{"$f":"tblSalaries[[#This Row],[clean Salary (in local currency)]]*VLOOKUP(tblSalaries[[#This Row],[Currency]],tblXrate[],2,FALSE)","v":81000},"Contact Operations Analyst","Analyst","USA",{"$f":"VLOOKUP(tblSalaries[[#This Row],[Where do you work]],tblCountries[[Actual]:[Mapping]],2,FALSE)","v":"USA"},6,">5<=10","N. AMERICA",{"$f":"(G1673/365)/L1673","v":36.986301369863014}]
[null,"ID1711","2012-06-06T07:28:48",10000,10000,"USD",{"$f":"tblSalaries[[#This Row],[clean Salary (in local currency)]]*VLOOKUP(tblSalaries[[#This Row],[Currency]],tblXrate[],2,FALSE)","v":10000},"Student assistant","Analyst","USA",{"$f":"VLOOKUP(tblSalaries[[#This Row],[Where do you work]],tblCountries[[Actual]:[Mapping]],2,FALSE)","v":"USA"},6,"<=5","N. AMERICA",{"$f":"(G1674/365)/L1674","v":4.5662100456621006}]
[null,"ID1712","2012-06-06T08:25:56",42000,42000,"USD",{"$f":"tblSalaries[[#This Row],[clean Salary (in local currency)]]*VLOOKUP(tblSalaries[[#This Row],[Currency]],tblXrate[],2,FALSE)","v":42000},"Staff Accountant","Accountant","USA",{"$f":"VLOOKUP(tblSalaries[[#This Row],[Where do you work]],tblCountries[[Actual]:[Mapping]],2,FALSE)","v":"USA"},6,"<=5","N. AMERICA",{"$f":"(G1675/365)/L1675","v":19.17808219178082}]
[null,"ID1713","2012-06-06T09:31:47",80000,80000,"AUD",{"$f":"tblSalaries[[#This Row],[clean Salary (in local currency)]]*VLOOKUP(tblSalaries[[#This Row],[Currency]],tblXrate[],2,FALSE)","v":81592.772512210868},"PPC Search Specialist","Specialist","Australia",{"$f":"VLOOKUP(tblSalaries[[#This Row],[Where do you work]],tblCountries[[Actual]:[Mapping]],2,FALSE)","v":"Australia"},6,"<=5","OCEANIA",{"$f":"(G1676/365)/L1676","v":37.256973749867974}]
[null,"ID1714","2012-06-06T11:21:08",36000,36000,"CAD",{"$f":"tblSalaries[[#This Row],[clean Salary (in local currency)]]*VLOOKUP(tblSalaries[[#This Row],[Currency]],tblXrate[],2,FALSE)","v":35401.014829091764},"data organizer","Analyst","Canada",{"$f":"VLOOKUP(tblSalaries[[#This Row],[Where do you work]],tblCountries[[Actual]:[Mapping]],2,FALSE)","v":"Canada"},8,"<=5","N. AMERICA",{"$f":"(G1677/365)/L1677","v":12.123635215442384}]
[null,"ID1716","2012-06-06T16:03:39",500000,500000,"INR",{"$f":"tblSalaries[[#This Row],[clean Salary (in local currency)]]*VLOOKUP(tblSalaries[[#This Row],[Currency]],tblXrate[],2,FALSE)","v":8903.9583437212841},"Sr. Associate","Analyst","India",{"$f":"VLOOKUP(tblSalaries[[#This Row],[Where do you work]],tblCountries[[Actual]:[Mapping]],2,FALSE)","v":"India"},6,"<=5","ASIA",{"$f":"(G1678/365)/L1678","v":4.0657344035256999}]
[null,"ID1717","2012-06-06T17:41:41",600000,600000,"INR",{"$f":"tblSalaries[[#This Row],[clean Salary (in local currency)]]*VLOOKUP(tblSalaries[[#This Row],[Currency]],tblXrate[],2,FALSE)","v":10684.750012465542},"admin","Analyst","India",{"$f":"VLOOKUP(tblSalaries[[#This Row],[Where do you work]],tblCountries[[Actual]:[Mapping]],2,FALSE)","v":"India"},8,"<=5","ASIA",{"$f":"(G1679/365)/L1679","v":3.6591609631731306}]
[null,"ID1718","2012-06-06T18:52:03",700,8400,"USD",{"$f":"tblSalaries[[#This Row],[clean Salary (in local currency)]]*VLOOKUP(tblSalaries[[#This Row],[Currency]],tblXrate[],2,FALSE)","v":8400},"gov employee","Analyst","indonesia",{"$f":"VLOOKUP(tblSalaries[[#This Row],[Where do you work]],tblCountries[[Actual]:[Mapping]],2,FALSE)","v":"Indonesia"},6,">10<=20","ASIA",{"$f":"(G1680/365)/L1680","v":3.8356164383561642}]
[null,"ID1719","2012-06-06T19:39:06",550000,550000,"INR",{"$f":"tblSalaries[[#This Row],[clean Salary (in local currency)]]*VLOOKUP(tblSalaries[[#This Row],[Currency]],tblXrate[],2,FALSE)","v":9794.354178093412},"Accounts manager","Manager","India",{"$f":"VLOOKUP(tblSalaries[[#This Row],[Where do you work]],tblCountries[[Actual]:[Mapping]],2,FALSE)","v":"India"},6,">10<=20","ASIA",{"$f":"(G1681/365)/L1681","v":4.4723078438782702}]
[null,"ID1720","2012-06-06T19:54:49",1200,14400,"USD",{"$f":"tblSalaries[[#This Row],[clean Salary (in local currency)]]*VLOOKUP(tblSalaries[[#This Row],[Currency]],tblXrate[],2,FALSE)","v":14400},"Engineer","Engineer","India",{"$f":"VLOOKUP(tblSalaries[[#This Row],[Where do you work]],tblCountries[[Actual]:[Mapping]],2,FALSE)","v":"India"},2,">5<=10","ASIA",{"$f":"(G1682/365)/L1682","v":19.726027397260275}]
[null,"ID1721","2012-06-06T20:07:43","1.5 LINR",150000,"INR",{"$f":"tblSalaries[[#This Row],[clean Salary (in local currency)]]*VLOOKUP(tblSalaries[[#This Row],[Currency]],tblXrate[],2,FALSE)","v":2671.1875031163854},"MIS Executive","Reporting","India",{"$f":"VLOOKUP(tblSalaries[[#This Row],[Where do you work]],tblCountries[[Actual]:[Mapping]],2,FALSE)","v":"India"},8,"<=5","ASIA",{"$f":"(G1683/365)/L1683","v":0.91479024079328264}]
[null,"ID1722","2012-06-06T20:41:35",22000,22000,"USD",{"$f":"tblSalaries[[#This Row],[clean Salary (in local currency)]]*VLOOKUP(tblSalaries[[#This Row],[Currency]],tblXrate[],2,FALSE)","v":22000},"Manager (MIS)","Manager","India",{"$f":"VLOOKUP(tblSalaries[[#This Row],[Where do you work]],tblCountries[[Actual]:[Mapping]],2,FALSE)","v":"India"},8,">5<=10","ASIA",{"$f":"(G1684/365)/L1684","v":7.5342465753424657}]
[null,"ID1723","2012-06-06T21:18:51",100000,100000,"USD",{"$f":"tblSalaries[[#This Row],[clean Salary (in local currency)]]*VLOOKUP(tblSalaries[[#This Row],[Currency]],tblXrate[],2,FALSE)","v":100000},"financial analyst (real estate)","Analyst","Russia",{"$f":"VLOOKUP(tblSalaries[[#This Row],[Where do you work]],tblCountries[[Actual]:[Mapping]],2,FALSE)","v":"Russia"},8,">5<=10","ASIA",{"$f":"(G1685/365)/L1685","v":34.246575342465754}]
[null,"ID1724","2012-06-06T21:20:38",40000,40000,"GBP",{"$f":"tblSalaries[[#This Row],[clean Salary (in local currency)]]*VLOOKUP(tblSalaries[[#This Row],[Currency]],tblXrate[],2,FALSE)","v":63047.130882691366},"project manager","Manager","UK",{"$f":"VLOOKUP(tblSalaries[[#This Row],[Where do you work]],tblCountries[[Actual]:[Mapping]],2,FALSE)","v":"UK"},6,">10<=20","EUROPE",{"$f":"(G1686/365)/L1686","v":28.788644238671854}]
[null,"ID1725","2012-06-06T22:14:27","36000stg",36000,"GBP",{"$f":"tblSalaries[[#This Row],[clean Salary (in local currency)]]*VLOOKUP(tblSalaries[[#This Row],[Currency]],tblXrate[],2,FALSE)","v":56742.417794422225},"contracts officer","Manager","UK",{"$f":"VLOOKUP(tblSalaries[[#This Row],[Where do you work]],tblCountries[[Actual]:[Mapping]],2,FALSE)","v":"UK"},2,">20","EUROPE",{"$f":"(G1687/365)/L1687","v":77.729339444414009}]
[null,"ID1726","2012-06-06T22:42:16",25000,25000,"USD",{"$f":"tblSalaries[[#This Row],[clean Salary (in local currency)]]*VLOOKUP(tblSalaries[[#This Row],[Currency]],tblXrate[],2,FALSE)","v":25000},"exe","Analyst","India",{"$f":"VLOOKUP(tblSalaries[[#This Row],[Where do you work]],tblCountries[[Actual]:[Mapping]],2,FALSE)","v":"India"},8,">5<=10","ASIA",{"$f":"(G1688/365)/L1688","v":8.5616438356164384}]
[null,"ID1727","2012-06-07T00:32:24","500000vINR",500000,"INR",{"$f":"tblSalaries[[#This Row],[clean Salary (in local currency)]]*VLOOKUP(tblSalaries[[#This Row],[Currency]],tblXrate[],2,FALSE)","v":8903.9583437212841},"Business Analyst","Analyst","India",{"$f":"VLOOKUP(tblSalaries[[#This Row],[Where do you work]],tblCountries[[Actual]:[Mapping]],2,FALSE)","v":"India"},6,"<=5","ASIA",{"$f":"(G1689/365)/L1689","v":4.0657344035256999}]
[null,"ID1729","2012-06-07T06:22:17","Â£27000",27000,"GBP",{"$f":"tblSalaries[[#This Row],[clean Salary (in local currency)]]*VLOOKUP(tblSalaries[[#This Row],[Currency]],tblXrate[],2,FALSE)","v":42556.81334581667},"Network Designer","Analyst","UK",{"$f":"VLOOKUP(tblSalaries[[#This Row],[Where do you work]],tblCountries[[Actual]:[Mapping]],2,FALSE)","v":"UK"},6,"<=5","EUROPE",{"$f":"(G1690/365)/L1690","v":19.432334861103502}]
[null,"ID1730","2012-06-07T08:36:51",134000,134000,"CAD",{"$f":"tblSalaries[[#This Row],[clean Salary (in local currency)]]*VLOOKUP(tblSalaries[[#This Row],[Currency]],tblXrate[],2,FALSE)","v":131770.4440860638},"Senior Production Accountant","Accountant","Canada",{"$f":"VLOOKUP(tblSalaries[[#This Row],[Where do you work]],tblCountries[[Actual]:[Mapping]],2,FALSE)","v":"Canada"},8,">10<=20","N. AMERICA",{"$f":"(G1691/365)/L1691","v":45.126864413035548}]
[null,"ID1731","2012-06-07T09:25:45",70000,70000,"CAD",{"$f":"tblSalaries[[#This Row],[clean Salary (in local currency)]]*VLOOKUP(tblSalaries[[#This Row],[Currency]],tblXrate[],2,FALSE)","v":68835.306612122877},"Financial Analyst","Analyst","Canada",{"$f":"VLOOKUP(tblSalaries[[#This Row],[Where do you work]],tblCountries[[Actual]:[Mapping]],2,FALSE)","v":"Canada"},8,"<=5","N. AMERICA",{"$f":"(G1692/365)/L1692","v":23.57373514113797}]
[null,"ID1732","2012-06-07T14:06:38","6000 US",6000,"USD",{"$f":"tblSalaries[[#This Row],[clean Salary (in local currency)]]*VLOOKUP(tblSalaries[[#This Row],[Currency]],tblXrate[],2,FALSE)","v":6000},"Reporting Coordinator","Reporting","Armenia",{"$f":"VLOOKUP(tblSalaries[[#This Row],[Where do you work]],tblCountries[[Actual]:[Mapping]],2,FALSE)","v":"Armenia"},8,"<=5","EUROPE",{"$f":"(G1693/365)/L1693","v":2.0547945205479454}]
[null,"ID1733","2012-06-07T15:19:53",50000,50000,"GBP",{"$f":"tblSalaries[[#This Row],[clean Salary (in local currency)]]*VLOOKUP(tblSalaries[[#This Row],[Currency]],tblXrate[],2,FALSE)","v":78808.913603364199},"Research Analyst","Analyst","UK",{"$f":"VLOOKUP(tblSalaries[[#This Row],[Where do you work]],tblCountries[[Actual]:[Mapping]],2,FALSE)","v":"UK"},3,"<=5","EUROPE",{"$f":"(G1694/365)/L1694","v":71.971610596679639}]
[null,"ID1734","2012-06-07T16:45:01",421000,421000,"INR",{"$f":"tblSalaries[[#This Row],[clean Salary (in local currency)]]*VLOOKUP(tblSalaries[[#This Row],[Currency]],tblXrate[],2,FALSE)","v":7497.1329254133216},"PMO Analyst","Analyst","India",{"$f":"VLOOKUP(tblSalaries[[#This Row],[Where do you work]],tblCountries[[Actual]:[Mapping]],2,FALSE)","v":"India"},6,"<=5","ASIA",{"$f":"(G1695/365)/L1695","v":3.4233483677686398}]
[null,"ID1735","2012-06-07T16:53:54",10000,10000,"USD",{"$f":"tblSalaries[[#This Row],[clean Salary (in local currency)]]*VLOOKUP(tblSalaries[[#This Row],[Currency]],tblXrate[],2,FALSE)","v":10000},"AGM - Operations & Customer Support","Manager","India",{"$f":"VLOOKUP(tblSalaries[[#This Row],[Where do you work]],tblCountries[[Actual]:[Mapping]],2,FALSE)","v":"India"},6,">10<=20","ASIA",{"$f":"(G1696/365)/L1696","v":4.5662100456621006}]
[null,"ID1736","2012-06-07T17:09:18",360000,360000,"INR",{"$f":"tblSalaries[[#This Row],[clean Salary (in local currency)]]*VLOOKUP(tblSalaries[[#This Row],[Currency]],tblXrate[],2,FALSE)","v":6410.8500074793246},"Baan ERP Functional Consultant","Consultant","India",{"$f":"VLOOKUP(tblSalaries[[#This Row],[Where do you work]],tblCountries[[Actual]:[Mapping]],2,FALSE)","v":"India"},2,"<=5","ASIA",{"$f":"(G1697/365)/L1697","v":8.7819863116155137}]
[null,"ID1737","2012-06-07T17:13:42",40000,40000,"GBP",{"$f":"tblSalaries[[#This Row],[clean Salary (in local currency)]]*VLOOKUP(tblSalaries[[#This Row],[Currency]],tblXrate[],2,FALSE)","v":63047.130882691366},"Analyst","Analyst","UK",{"$f":"VLOOKUP(tblSalaries[[#This Row],[Where do you work]],tblCountries[[Actual]:[Mapping]],2,FALSE)","v":"UK"},6,"<=5","EUROPE",{"$f":"(G1698/365)/L1698","v":28.788644238671854}]
[null,"ID1738","2012-06-07T20:10:41",60000,60000,"AUD",{"$f":"tblSalaries[[#This Row],[clean Salary (in local currency)]]*VLOOKUP(tblSalaries[[#This Row],[Currency]],tblXrate[],2,FALSE)","v":61194.579384158147},"business analyst","Analyst","Australia",{"$f":"VLOOKUP(tblSalaries[[#This Row],[Where do you work]],tblCountries[[Actual]:[Mapping]],2,FALSE)","v":"Australia"},3,"<=5","OCEANIA",{"$f":"(G1699/365)/L1699","v":55.885460624801965}]
[null,"ID1739","2012-06-07T20:48:04","Â£73000",73000,"GBP",{"$f":"tblSalaries[[#This Row],[clean Salary (in local currency)]]*VLOOKUP(tblSalaries[[#This Row],[Currency]],tblXrate[],2,FALSE)","v":115061.01386091174},"Financial Controller","Controller","UK",{"$f":"VLOOKUP(tblSalaries[[#This Row],[Where do you work]],tblCountries[[Actual]:[Mapping]],2,FALSE)","v":"UK"},6,">5<=10","EUROPE",{"$f":"(G1700/365)/L1700","v":52.539275735576133}]
[null,"ID1740","2012-06-07T23:33:23",45000,45000,"USD",{"$f":"tblSalaries[[#This Row],[clean Salary (in local currency)]]*VLOOKUP(tblSalaries[[#This Row],[Currency]],tblXrate[],2,FALSE)","v":45000},"Sourcing Analyst","Analyst","USA",{"$f":"VLOOKUP(tblSalaries[[#This Row],[Where do you work]],tblCountries[[Actual]:[Mapping]],2,FALSE)","v":"USA"},8,"<=5","N. AMERICA",{"$f":"(G1701/365)/L1701","v":15.41095890410959}]
[null,"ID1741","2012-06-07T23:48:29",36000,36000,"USD",{"$f":"tblSalaries[[#This Row],[clean Salary (in local currency)]]*VLOOKUP(tblSalaries[[#This Row],[Currency]],tblXrate[],2,FALSE)","v":36000},"clerk","Analyst","USA",{"$f":"VLOOKUP(tblSalaries[[#This Row],[Where do you work]],tblCountries[[Actual]:[Mapping]],2,FALSE)","v":"USA"},6,"<=5","N. AMERICA",{"$f":"(G1702/365)/L1702","v":16.43835616438356}]
[null,"ID1742","2012-06-08T00:01:49",68000,68000,"USD",{"$f":"tblSalaries[[#This Row],[clean Salary (in local currency)]]*VLOOKUP(tblSalaries[[#This Row],[Currency]],tblXrate[],2,FALSE)","v":68000},"Tax Associate","Analyst","USA",{"$f":"VLOOKUP(tblSalaries[[#This Row],[Where do you work]],tblCountries[[Actual]:[Mapping]],2,FALSE)","v":"USA"},6,"<=5","N. AMERICA",{"$f":"(G1703/365)/L1703","v":31.05022831050228}]
[null,"ID1743","2012-06-08T00:21:23",75000,75000,"USD",{"$f":"tblSalaries[[#This Row],[clean Salary (in local currency)]]*VLOOKUP(tblSalaries[[#This Row],[Currency]],tblXrate[],2,FALSE)","v":75000},"Senior Financial Analyst","Analyst","USA",{"$f":"VLOOKUP(tblSalaries[[#This Row],[Where do you work]],tblCountries[[Actual]:[Mapping]],2,FALSE)","v":"USA"},8,"<=5","N. AMERICA",{"$f":"(G1704/365)/L1704","v":25.684931506849313}]
[null,"ID1744","2012-06-08T02:27:13",88000,88000,"USD",{"$f":"tblSalaries[[#This Row],[clean Salary (in local currency)]]*VLOOKUP(tblSalaries[[#This Row],[Currency]],tblXrate[],2,FALSE)","v":88000},"Senior Fiancial Analyst","Analyst","USA",{"$f":"VLOOKUP(tblSalaries[[#This Row],[Where do you work]],tblCountries[[Actual]:[Mapping]],2,FALSE)","v":"USA"},8,">5<=10","N. AMERICA",{"$f":"(G1705/365)/L1705","v":30.136986301369863}]
[null,"ID1745","2012-06-08T02:28:45","Rs. 21500",258000,"INR",{"$f":"tblSalaries[[#This Row],[clean Salary (in local currency)]]*VLOOKUP(tblSalaries[[#This Row],[Currency]],tblXrate[],2,FALSE)","v":4594.4425053601826},"Senior Data Associate","Analyst","India",{"$f":"VLOOKUP(tblSalaries[[#This Row],[Where do you work]],tblCountries[[Actual]:[Mapping]],2,FALSE)","v":"India"},6,"<=5","ASIA",{"$f":"(G1706/365)/L1706","v":2.0979189522192616}]
[null,"ID1746","2012-06-08T03:23:20",69000,69000,"USD",{"$f":"tblSalaries[[#This Row],[clean Salary (in local currency)]]*VLOOKUP(tblSalaries[[#This Row],[Currency]],tblXrate[],2,FALSE)","v":69000},"Business Analyst II","Analyst","USA",{"$f":"VLOOKUP(tblSalaries[[#This Row],[Where do you work]],tblCountries[[Actual]:[Mapping]],2,FALSE)","v":"USA"},8,">10<=20","N. AMERICA",{"$f":"(G1707/365)/L1707","v":23.63013698630137}]
[null,"ID1747","2012-06-08T03:34:51",30000,30000,"USD",{"$f":"tblSalaries[[#This Row],[clean Salary (in local currency)]]*VLOOKUP(tblSalaries[[#This Row],[Currency]],tblXrate[],2,FALSE)","v":30000},"Inventory Manager","Manager","USA",{"$f":"VLOOKUP(tblSalaries[[#This Row],[Where do you work]],tblCountries[[Actual]:[Mapping]],2,FALSE)","v":"USA"},6,"<=5","N. AMERICA",{"$f":"(G1708/365)/L1708","v":13.698630136986301}]
[null,"ID1748","2012-06-08T04:51:45",80000,80000,"USD",{"$f":"tblSalaries[[#This Row],[clean Salary (in local currency)]]*VLOOKUP(tblSalaries[[#This Row],[Currency]],tblXrate[],2,FALSE)","v":80000},"Sales / Finance Manager","Manager","USA",{"$f":"VLOOKUP(tblSalaries[[#This Row],[Where do you work]],tblCountries[[Actual]:[Mapping]],2,FALSE)","v":"USA"},6,">5<=10","N. AMERICA",{"$f":"(G1709/365)/L1709","v":36.529680365296805}]
[null,"ID1749","2012-06-08T06:42:32",75000,75000,"USD",{"$f":"tblSalaries[[#This Row],[clean Salary (in local currency)]]*VLOOKUP(tblSalaries[[#This Row],[Currency]],tblXrate[],2,FALSE)","v":75000},"actuary","Accountant","USA",{"$f":"VLOOKUP(tblSalaries[[#This Row],[Where do you work]],tblCountries[[Actual]:[Mapping]],2,FALSE)","v":"USA"},8,"<=5","N. AMERICA",{"$f":"(G1710/365)/L1710","v":25.684931506849313}]
[null,"ID1750","2012-06-08T08:15:54",31200,31200,"USD",{"$f":"tblSalaries[[#This Row],[clean Salary (in local currency)]]*VLOOKUP(tblSalaries[[#This Row],[Currency]],tblXrate[],2,FALSE)","v":31200},"Risk analyst","Analyst","Brazil",{"$f":"VLOOKUP(tblSalaries[[#This Row],[Where do you work]],tblCountries[[Actual]:[Mapping]],2,FALSE)","v":"Brazil"},6,"<=5"," S. AMERICA",{"$f":"(G1711/365)/L1711","v":14.246575342465754}]
[null,"ID1751","2012-06-08T09:46:59",85000,85000,"USD",{"$f":"tblSalaries[[#This Row],[clean Salary (in local currency)]]*VLOOKUP(tblSalaries[[#This Row],[Currency]],tblXrate[],2,FALSE)","v":85000},"Actuary","Accountant","USA",{"$f":"VLOOKUP(tblSalaries[[#This Row],[Where do you work]],tblCountries[[Actual]:[Mapping]],2,FALSE)","v":"USA"},6,">10<=20","N. AMERICA",{"$f":"(G1712/365)/L1712","v":38.812785388127857}]
[null,"ID1752","2012-06-08T13:38:45","9,50,000",950000,"INR",{"$f":"tblSalaries[[#This Row],[clean Salary (in local currency)]]*VLOOKUP(tblSalaries[[#This Row],[Currency]],tblXrate[],2,FALSE)","v":16917.52085307044},"Associate Manager, Drug Safety Operations","Manager","India",{"$f":"VLOOKUP(tblSalaries[[#This Row],[Where do you work]],tblCountries[[Actual]:[Mapping]],2,FALSE)","v":"India"},3,">5<=10","ASIA",{"$f":"(G1713/365)/L1713","v":15.449790733397663}]
[null,"ID1753","2012-06-08T13:55:44","15000inr",180000,"INR",{"$f":"tblSalaries[[#This Row],[clean Salary (in local currency)]]*VLOOKUP(tblSalaries[[#This Row],[Currency]],tblXrate[],2,FALSE)","v":3205.4250037396623},"mis","Reporting","India",{"$f":"VLOOKUP(tblSalaries[[#This Row],[Where do you work]],tblCountries[[Actual]:[Mapping]],2,FALSE)","v":"India"},6,"<=5","ASIA",{"$f":"(G1714/365)/L1714","v":1.4636643852692524}]
[null,"ID1754","2012-06-08T14:43:05",60000,60000,"USD",{"$f":"tblSalaries[[#This Row],[clean Salary (in local currency)]]*VLOOKUP(tblSalaries[[#This Row],[Currency]],tblXrate[],2,FALSE)","v":60000},"Project Lead ","Manager","USA",{"$f":"VLOOKUP(tblSalaries[[#This Row],[Where do you work]],tblCountries[[Actual]:[Mapping]],2,FALSE)","v":"USA"},8,"<=5","N. AMERICA",{"$f":"(G1715/365)/L1715","v":20.547945205479451}]
[null,"ID1755","2012-06-08T14:43:40",60000,60000,"USD",{"$f":"tblSalaries[[#This Row],[clean Salary (in local currency)]]*VLOOKUP(tblSalaries[[#This Row],[Currency]],tblXrate[],2,FALSE)","v":60000},"Project Lead ","Manager","USA",{"$f":"VLOOKUP(tblSalaries[[#This Row],[Where do you work]],tblCountries[[Actual]:[Mapping]],2,FALSE)","v":"USA"},8,"<=5","N. AMERICA",{"$f":"(G1716/365)/L1716","v":20.547945205479451}]
[null,"ID1756","2012-06-08T15:43:16","INR800000",800000,"INR",{"$f":"tblSalaries[[#This Row],[clean Salary (in local currency)]]*VLOOKUP(tblSalaries[[#This Row],[Currency]],tblXrate[],2,FALSE)","v":14246.333349954055},"MANAGER","Manager","India",{"$f":"VLOOKUP(tblSalaries[[#This Row],[Where do you work]],tblCountries[[Actual]:[Mapping]],2,FALSE)","v":"India"},3,"<=5","ASIA",{"$f":"(G1717/365)/L1717","v":13.010350091282241}]
[null,"ID1757","2012-06-08T15:45:14",800000,800000,"INR",{"$f":"tblSalaries[[#This Row],[clean Salary (in local currency)]]*VLOOKUP(tblSalaries[[#This Row],[Currency]],tblXrate[],2,FALSE)","v":14246.333349954055},"MANAGER","Manager","India",{"$f":"VLOOKUP(tblSalaries[[#This Row],[Where do you work]],tblCountries[[Actual]:[Mapping]],2,FALSE)","v":"India"},3,"<=5","ASIA",{"$f":"(G1718/365)/L1718","v":13.010350091282241}]
[null,"ID1758","2012-06-08T18:48:12",28995,28995,"USD",{"$f":"tblSalaries[[#This Row],[clean Salary (in local currency)]]*VLOOKUP(tblSalaries[[#This Row],[Currency]],tblXrate[],2,FALSE)","v":28995},"Senior Executive","Manager","India",{"$f":"VLOOKUP(tblSalaries[[#This Row],[Where do you work]],tblCountries[[Actual]:[Mapping]],2,FALSE)","v":"India"},6,">5<=10","ASIA",{"$f":"(G1719/365)/L1719","v":13.239726027397261}]
[null,"ID1759","2012-06-08T18:52:06",1230000,1230000,"INR",{"$f":"tblSalaries[[#This Row],[clean Salary (in local currency)]]*VLOOKUP(tblSalaries[[#This Row],[Currency]],tblXrate[],2,FALSE)","v":21903.737525554359},"Financial Analyst ","Analyst","India",{"$f":"VLOOKUP(tblSalaries[[#This Row],[Where do you work]],tblCountries[[Actual]:[Mapping]],2,FALSE)","v":"India"},8,"<=5","ASIA",{"$f":"(G1720/365)/L1720","v":7.5012799745049179}]
[null,"ID1760","2012-06-08T18:52:44",1130000,1130000,"INR",{"$f":"tblSalaries[[#This Row],[clean Salary (in local currency)]]*VLOOKUP(tblSalaries[[#This Row],[Currency]],tblXrate[],2,FALSE)","v":20122.945856810104},"Financial Analyst ","Analyst","India",{"$f":"VLOOKUP(tblSalaries[[#This Row],[Where do you work]],tblCountries[[Actual]:[Mapping]],2,FALSE)","v":"India"},8,"<=5","ASIA",{"$f":"(G1721/365)/L1721","v":6.8914198139760625}]
[null,"ID1761","2012-06-08T20:47:58",45000,45000,"GBP",{"$f":"tblSalaries[[#This Row],[clean Salary (in local currency)]]*VLOOKUP(tblSalaries[[#This Row],[Currency]],tblXrate[],2,FALSE)","v":70928.022243027779},"bUSINESS aNALYST","Analyst","UK",{"$f":"VLOOKUP(tblSalaries[[#This Row],[Where do you work]],tblCountries[[Actual]:[Mapping]],2,FALSE)","v":"UK"},8,">10<=20","EUROPE",{"$f":"(G1722/365)/L1722","v":24.290418576379377}]
[null,"ID1762","2012-06-08T21:00:25",67000,67000,"USD",{"$f":"tblSalaries[[#This Row],[clean Salary (in local currency)]]*VLOOKUP(tblSalaries[[#This Row],[Currency]],tblXrate[],2,FALSE)","v":67000},"Manager","Manager","USA",{"$f":"VLOOKUP(tblSalaries[[#This Row],[Where do you work]],tblCountries[[Actual]:[Mapping]],2,FALSE)","v":"USA"},6,">10<=20","N. AMERICA",{"$f":"(G1723/365)/L1723","v":30.593607305936075}]
[null,"ID1763","2012-06-08T21:02:48",30000,30000,"USD",{"$f":"tblSalaries[[#This Row],[clean Salary (in local currency)]]*VLOOKUP(tblSalaries[[#This Row],[Currency]],tblXrate[],2,FALSE)","v":30000},"Customer Service","Analyst","USA",{"$f":"VLOOKUP(tblSalaries[[#This Row],[Where do you work]],tblCountries[[Actual]:[Mapping]],2,FALSE)","v":"USA"},3,"<=5","N. AMERICA",{"$f":"(G1724/365)/L1724","v":27.397260273972602}]
[null,"ID1764","2012-06-08T22:48:39","CHF140000",140000,"CHF",{"$f":"tblSalaries[[#This Row],[clean Salary (in local currency)]]*VLOOKUP(tblSalaries[[#This Row],[Currency]],tblXrate[],2,FALSE)","v":148102.22862117883},"Projektleiter","Manager","Switzerland",{"$f":"VLOOKUP(tblSalaries[[#This Row],[Where do you work]],tblCountries[[Actual]:[Mapping]],2,FALSE)","v":"Switzerland"},3,">5<=10","EUROPE",{"$f":"(G1725/365)/L1725","v":135.25317682299436}]
[null,"ID1765","2012-06-08T23:20:36",71500,71500,"USD",{"$f":"tblSalaries[[#This Row],[clean Salary (in local currency)]]*VLOOKUP(tblSalaries[[#This Row],[Currency]],tblXrate[],2,FALSE)","v":71500},"Pricing Manager","Manager","USA",{"$f":"VLOOKUP(tblSalaries[[#This Row],[Where do you work]],tblCountries[[Actual]:[Mapping]],2,FALSE)","v":"USA"},8,">10<=20","N. AMERICA",{"$f":"(G1726/365)/L1726","v":24.486301369863014}]
[null,"ID1766","2012-06-08T23:46:11",67000,67000,"USD",{"$f":"tblSalaries[[#This Row],[clean Salary (in local currency)]]*VLOOKUP(tblSalaries[[#This Row],[Currency]],tblXrate[],2,FALSE)","v":67000},"Manager","Manager","USA",{"$f":"VLOOKUP(tblSalaries[[#This Row],[Where do you work]],tblCountries[[Actual]:[Mapping]],2,FALSE)","v":"USA"},8,">5<=10","N. AMERICA",{"$f":"(G1727/365)/L1727","v":22.945205479452056}]
[null,"ID1767","2012-06-09T00:49:07",40000,40000,"USD",{"$f":"tblSalaries[[#This Row],[clean Salary (in local currency)]]*VLOOKUP(tblSalaries[[#This Row],[Currency]],tblXrate[],2,FALSE)","v":40000},"Market Research Analyst","Analyst","USA",{"$f":"VLOOKUP(tblSalaries[[#This Row],[Where do you work]],tblCountries[[Actual]:[Mapping]],2,FALSE)","v":"USA"},6,"<=5","N. AMERICA",{"$f":"(G1728/365)/L1728","v":18.264840182648403}]
[null,"ID1768","2012-06-09T01:15:44",65000,65000,"USD",{"$f":"tblSalaries[[#This Row],[clean Salary (in local currency)]]*VLOOKUP(tblSalaries[[#This Row],[Currency]],tblXrate[],2,FALSE)","v":65000},"Compliance Officer","Manager","USA",{"$f":"VLOOKUP(tblSalaries[[#This Row],[Where do you work]],tblCountries[[Actual]:[Mapping]],2,FALSE)","v":"USA"},6,"<=5","N. AMERICA",{"$f":"(G1729/365)/L1729","v":29.680365296803654}]
[null,"ID1769","2012-06-09T01:47:30",72000,72000,"USD",{"$f":"tblSalaries[[#This Row],[clean Salary (in local currency)]]*VLOOKUP(tblSalaries[[#This Row],[Currency]],tblXrate[],2,FALSE)","v":72000},"Consultant","Consultant","USA",{"$f":"VLOOKUP(tblSalaries[[#This Row],[Where do you work]],tblCountries[[Actual]:[Mapping]],2,FALSE)","v":"USA"},3,">10<=20","N. AMERICA",{"$f":"(G1730/365)/L1730","v":65.753424657534239}]
[null,"ID1770","2012-06-09T03:20:15",52500,52500,"USD",{"$f":"tblSalaries[[#This Row],[clean Salary (in local currency)]]*VLOOKUP(tblSalaries[[#This Row],[Currency]],tblXrate[],2,FALSE)","v":52500},"Data Management Solutions Supervisor","Manager","USA",{"$f":"VLOOKUP(tblSalaries[[#This Row],[Where do you work]],tblCountries[[Actual]:[Mapping]],2,FALSE)","v":"USA"},8,"<=5","N. AMERICA",{"$f":"(G1731/365)/L1731","v":17.979452054794521}]
[null,"ID1771","2012-06-09T12:01:19",444,5320,"USD",{"$f":"tblSalaries[[#This Row],[clean Salary (in local currency)]]*VLOOKUP(tblSalaries[[#This Row],[Currency]],tblXrate[],2,FALSE)","v":5320},"Officer","Manager","India",{"$f":"VLOOKUP(tblSalaries[[#This Row],[Where do you work]],tblCountries[[Actual]:[Mapping]],2,FALSE)","v":"India"},3,"<=5","ASIA",{"$f":"(G1732/365)/L1732","v":4.8584474885844751}]
[null,"ID1772","2012-06-09T20:38:03",1500,18000,"USD",{"$f":"tblSalaries[[#This Row],[clean Salary (in local currency)]]*VLOOKUP(tblSalaries[[#This Row],[Currency]],tblXrate[],2,FALSE)","v":18000},"accountant","Accountant","uae",{"$f":"VLOOKUP(tblSalaries[[#This Row],[Where do you work]],tblCountries[[Actual]:[Mapping]],2,FALSE)","v":"UAE"},8,"<=5","ASIA",{"$f":"(G1733/365)/L1733","v":6.1643835616438354}]
[null,"ID1773","2012-06-10T00:50:26","1.40 lac",140000,"INR",{"$f":"tblSalaries[[#This Row],[clean Salary (in local currency)]]*VLOOKUP(tblSalaries[[#This Row],[Currency]],tblXrate[],2,FALSE)","v":2493.1083362419595},"magic","Misc.","India",{"$f":"VLOOKUP(tblSalaries[[#This Row],[Where do you work]],tblCountries[[Actual]:[Mapping]],2,FALSE)","v":"India"},6,"<=5","ASIA",{"$f":"(G1734/365)/L1734","v":1.1384056329871961}]
[null,"ID1774","2012-06-10T01:48:44",1400,16800,"EUR",{"$f":"tblSalaries[[#This Row],[clean Salary (in local currency)]]*VLOOKUP(tblSalaries[[#This Row],[Currency]],tblXrate[],2,FALSE)","v":21342.710575059013},"account","Accountant","portugal",{"$f":"VLOOKUP(tblSalaries[[#This Row],[Where do you work]],tblCountries[[Actual]:[Mapping]],2,FALSE)","v":"Portugal"},6,">10<=20","EUROPE",{"$f":"(G1735/365)/L1735","v":9.7455299429493198}]
[null,"ID1775","2012-06-10T02:20:05",85000,85000,"USD",{"$f":"tblSalaries[[#This Row],[clean Salary (in local currency)]]*VLOOKUP(tblSalaries[[#This Row],[Currency]],tblXrate[],2,FALSE)","v":85000},"purchasing manager","Manager","USA",{"$f":"VLOOKUP(tblSalaries[[#This Row],[Where do you work]],tblCountries[[Actual]:[Mapping]],2,FALSE)","v":"USA"},3,">10<=20","N. AMERICA",{"$f":"(G1736/365)/L1736","v":77.625570776255714}]
[null,"ID1776","2012-06-10T02:29:57",80000,80000,"USD",{"$f":"tblSalaries[[#This Row],[clean Salary (in local currency)]]*VLOOKUP(tblSalaries[[#This Row],[Currency]],tblXrate[],2,FALSE)","v":80000},"Engineer","Engineer","Brazil",{"$f":"VLOOKUP(tblSalaries[[#This Row],[Where do you work]],tblCountries[[Actual]:[Mapping]],2,FALSE)","v":"Brazil"},2,">5<=10"," S. AMERICA",{"$f":"(G1737/365)/L1737","v":109.58904109589041}]
[null,"ID1777","2012-06-10T04:16:05",500000,500000,"INR",{"$f":"tblSalaries[[#This Row],[clean Salary (in local currency)]]*VLOOKUP(tblSalaries[[#This Row],[Currency]],tblXrate[],2,FALSE)","v":8903.9583437212841},"equity research trainee","Analyst","India",{"$f":"VLOOKUP(tblSalaries[[#This Row],[Where do you work]],tblCountries[[Actual]:[Mapping]],2,FALSE)","v":"India"},8,"<=5","ASIA",{"$f":"(G1738/365)/L1738","v":3.0493008026442752}]
[null,"ID1778","2012-06-10T12:31:48",125000,125000,"USD",{"$f":"tblSalaries[[#This Row],[clean Salary (in local currency)]]*VLOOKUP(tblSalaries[[#This Row],[Currency]],tblXrate[],2,FALSE)","v":125000},"project manager","Manager","USA",{"$f":"VLOOKUP(tblSalaries[[#This Row],[Where do you work]],tblCountries[[Actual]:[Mapping]],2,FALSE)","v":"USA"},8,">5<=10","N. AMERICA",{"$f":"(G1739/365)/L1739","v":42.80821917808219}]
[null,"ID1779","2012-06-10T14:58:39",1300000,1300000,"INR",{"$f":"tblSalaries[[#This Row],[clean Salary (in local currency)]]*VLOOKUP(tblSalaries[[#This Row],[Currency]],tblXrate[],2,FALSE)","v":23150.291693675339},"Manager","Manager","India",{"$f":"VLOOKUP(tblSalaries[[#This Row],[Where do you work]],tblCountries[[Actual]:[Mapping]],2,FALSE)","v":"India"},8,">5<=10","ASIA",{"$f":"(G1740/365)/L1740","v":7.9281820868751165}]
[null,"ID1780","2012-06-10T15:20:01",1000,12000,"USD",{"$f":"tblSalaries[[#This Row],[clean Salary (in local currency)]]*VLOOKUP(tblSalaries[[#This Row],[Currency]],tblXrate[],2,FALSE)","v":12000},"project engineer ","Engineer","India",{"$f":"VLOOKUP(tblSalaries[[#This Row],[Where do you work]],tblCountries[[Actual]:[Mapping]],2,FALSE)","v":"India"},3,">5<=10","ASIA",{"$f":"(G1741/365)/L1741","v":10.958904109589042}]
[null,"ID1781","2012-06-10T15:59:17",30000,30000,"USD",{"$f":"tblSalaries[[#This Row],[clean Salary (in local currency)]]*VLOOKUP(tblSalaries[[#This Row],[Currency]],tblXrate[],2,FALSE)","v":30000},"Teacher","Analyst","Malaysia",{"$f":"VLOOKUP(tblSalaries[[#This Row],[Where do you work]],tblCountries[[Actual]:[Mapping]],2,FALSE)","v":"malaysia"},2,">10<=20","ASIA",{"$f":"(G1742/365)/L1742","v":41.095890410958901}]
[null,"ID1782","2012-06-10T17:21:08",72000,72000,"EUR",{"$f":"tblSalaries[[#This Row],[clean Salary (in local currency)]]*VLOOKUP(tblSalaries[[#This Row],[Currency]],tblXrate[],2,FALSE)","v":91468.759607395754},"regional sales manager","Manager","croatia",{"$f":"VLOOKUP(tblSalaries[[#This Row],[Where do you work]],tblCountries[[Actual]:[Mapping]],2,FALSE)","v":"Croatia"},2,"<=5","EUROPE",{"$f":"(G1743/365)/L1743","v":125.29967069506267}]
[null,"ID1783","2012-06-10T20:30:23","Â£22300",22300,"GBP",{"$f":"tblSalaries[[#This Row],[clean Salary (in local currency)]]*VLOOKUP(tblSalaries[[#This Row],[Currency]],tblXrate[],2,FALSE)","v":35148.775467100437},"Analysis & insight consultant","Analyst","UK",{"$f":"VLOOKUP(tblSalaries[[#This Row],[Where do you work]],tblCountries[[Actual]:[Mapping]],2,FALSE)","v":"UK"},8,"<=5","EUROPE",{"$f":"(G1744/365)/L1744","v":12.03725187229467}]
[null,"ID1784","2012-06-10T21:52:30","Â£31185",31185,"GBP",{"$f":"tblSalaries[[#This Row],[clean Salary (in local currency)]]*VLOOKUP(tblSalaries[[#This Row],[Currency]],tblXrate[],2,FALSE)","v":49153.119414418252},"Data Team Leader","Manager","UK",{"$f":"VLOOKUP(tblSalaries[[#This Row],[Where do you work]],tblCountries[[Actual]:[Mapping]],2,FALSE)","v":"UK"},6,">5<=10","EUROPE",{"$f":"(G1745/365)/L1745","v":22.444346764574544}]
[null,"ID1785","2012-06-11T03:11:39",150000,150000,"INR",{"$f":"tblSalaries[[#This Row],[clean Salary (in local currency)]]*VLOOKUP(tblSalaries[[#This Row],[Currency]],tblXrate[],2,FALSE)","v":2671.1875031163854},"ENGINEER","Engineer","India",{"$f":"VLOOKUP(tblSalaries[[#This Row],[Where do you work]],tblCountries[[Actual]:[Mapping]],2,FALSE)","v":"India"},3,"<=5","ASIA",{"$f":"(G1746/365)/L1746","v":2.4394406421154202}]
[null,"ID1786","2012-06-11T05:59:09",27000,27000,"GBP",{"$f":"tblSalaries[[#This Row],[clean Salary (in local currency)]]*VLOOKUP(tblSalaries[[#This Row],[Currency]],tblXrate[],2,FALSE)","v":42556.81334581667},"assistant account manager","Manager","UK",{"$f":"VLOOKUP(tblSalaries[[#This Row],[Where do you work]],tblCountries[[Actual]:[Mapping]],2,FALSE)","v":"UK"},6,"<=5","EUROPE",{"$f":"(G1747/365)/L1747","v":19.432334861103502}]
[null,"ID1787","2012-06-11T05:59:55",27000,27000,"GBP",{"$f":"tblSalaries[[#This Row],[clean Salary (in local currency)]]*VLOOKUP(tblSalaries[[#This Row],[Currency]],tblXrate[],2,FALSE)","v":42556.81334581667},"assistant account manager","Manager","UK",{"$f":"VLOOKUP(tblSalaries[[#This Row],[Where do you work]],tblCountries[[Actual]:[Mapping]],2,FALSE)","v":"UK"},6,"<=5","EUROPE",{"$f":"(G1748/365)/L1748","v":19.432334861103502}]
[null,"ID1788","2012-06-11T10:04:43",74461,74461,"USD",{"$f":"tblSalaries[[#This Row],[clean Salary (in local currency)]]*VLOOKUP(tblSalaries[[#This Row],[Currency]],tblXrate[],2,FALSE)","v":74461},"Scientist III","Misc.","USA",{"$f":"VLOOKUP(tblSalaries[[#This Row],[Where do you work]],tblCountries[[Actual]:[Mapping]],2,FALSE)","v":"USA"},2,">5<=10","N. AMERICA",{"$f":"(G1749/365)/L1749","v":102.00136986301369}]
[null,"ID1789","2012-06-11T16:55:40","Â£26500",26500,"GBP",{"$f":"tblSalaries[[#This Row],[clean Salary (in local currency)]]*VLOOKUP(tblSalaries[[#This Row],[Currency]],tblXrate[],2,FALSE)","v":41768.724209783031},"Compliance Manager","Manager","UK",{"$f":"VLOOKUP(tblSalaries[[#This Row],[Where do you work]],tblCountries[[Actual]:[Mapping]],2,FALSE)","v":"UK"},6,">10<=20","EUROPE",{"$f":"(G1750/365)/L1750","v":19.072476808120104}]
[null,"ID1790","2012-06-11T17:01:58","Rs 480000",480000,"INR",{"$f":"tblSalaries[[#This Row],[clean Salary (in local currency)]]*VLOOKUP(tblSalaries[[#This Row],[Currency]],tblXrate[],2,FALSE)","v":8547.8000099724322},"Development Analyst","Analyst","India",{"$f":"VLOOKUP(tblSalaries[[#This Row],[Where do you work]],tblCountries[[Actual]:[Mapping]],2,FALSE)","v":"India"},6,"<=5","ASIA",{"$f":"(G1751/365)/L1751","v":3.9031050273846724}]
[null,"ID1791","2012-06-11T17:54:22",200,2400,"USD",{"$f":"tblSalaries[[#This Row],[clean Salary (in local currency)]]*VLOOKUP(tblSalaries[[#This Row],[Currency]],tblXrate[],2,FALSE)","v":2400},"computer operator","Analyst","India",{"$f":"VLOOKUP(tblSalaries[[#This Row],[Where do you work]],tblCountries[[Actual]:[Mapping]],2,FALSE)","v":"India"},3,"<=5","ASIA",{"$f":"(G1752/365)/L1752","v":2.1917808219178081}]
[null,"ID1792","2012-06-11T19:40:47","3000 $",3000,"USD",{"$f":"tblSalaries[[#This Row],[clean Salary (in local currency)]]*VLOOKUP(tblSalaries[[#This Row],[Currency]],tblXrate[],2,FALSE)","v":3000},"executive","Analyst","Bangladesh",{"$f":"VLOOKUP(tblSalaries[[#This Row],[Where do you work]],tblCountries[[Actual]:[Mapping]],2,FALSE)","v":"Bangladesh"},2,">10<=20","ASIA",{"$f":"(G1753/365)/L1753","v":4.1095890410958908}]
[null,"ID1793","2012-06-11T19:56:36",11000,11000,"USD",{"$f":"tblSalaries[[#This Row],[clean Salary (in local currency)]]*VLOOKUP(tblSalaries[[#This Row],[Currency]],tblXrate[],2,FALSE)","v":11000},"Web Analyst","Analyst","India",{"$f":"VLOOKUP(tblSalaries[[#This Row],[Where do you work]],tblCountries[[Actual]:[Mapping]],2,FALSE)","v":"India"},6,"<=5","ASIA",{"$f":"(G1754/365)/L1754","v":5.0228310502283104}]
[null,"ID1794","2012-06-11T21:03:36",40000,40000,"USD",{"$f":"tblSalaries[[#This Row],[clean Salary (in local currency)]]*VLOOKUP(tblSalaries[[#This Row],[Currency]],tblXrate[],2,FALSE)","v":40000},"Intern","Analyst","USA",{"$f":"VLOOKUP(tblSalaries[[#This Row],[Where do you work]],tblCountries[[Actual]:[Mapping]],2,FALSE)","v":"USA"},3,"<=5","N. AMERICA",{"$f":"(G1755/365)/L1755","v":36.529680365296805}]
[null,"ID1795","2012-06-11T21:29:29",300,3600,"USD",{"$f":"tblSalaries[[#This Row],[clean Salary (in local currency)]]*VLOOKUP(tblSalaries[[#This Row],[Currency]],tblXrate[],2,FALSE)","v":3600},"Analyst","Analyst","India",{"$f":"VLOOKUP(tblSalaries[[#This Row],[Where do you work]],tblCountries[[Actual]:[Mapping]],2,FALSE)","v":"India"},6,"<=5","ASIA",{"$f":"(G1756/365)/L1756","v":1.6438356164383563}]
[null,"ID1796","2012-06-11T21:52:14",56600,56600,"USD",{"$f":"tblSalaries[[#This Row],[clean Salary (in local currency)]]*VLOOKUP(tblSalaries[[#This Row],[Currency]],tblXrate[],2,FALSE)","v":56600},"ECommerce Manager","Manager","USA",{"$f":"VLOOKUP(tblSalaries[[#This Row],[Where do you work]],tblCountries[[Actual]:[Mapping]],2,FALSE)","v":"USA"},6,">10<=20","N. AMERICA",{"$f":"(G1757/365)/L1757","v":25.844748858447488}]
[null,"ID1797","2012-06-11T22:21:25",33600,33600,"USD",{"$f":"tblSalaries[[#This Row],[clean Salary (in local currency)]]*VLOOKUP(tblSalaries[[#This Row],[Currency]],tblXrate[],2,FALSE)","v":33600},"Executive","Analyst","Singapore",{"$f":"VLOOKUP(tblSalaries[[#This Row],[Where do you work]],tblCountries[[Actual]:[Mapping]],2,FALSE)","v":"Singapore"},8,"<=5","ASIA",{"$f":"(G1758/365)/L1758","v":11.506849315068493}]
[null,"ID1798","2012-06-11T22:22:00",33600,33600,"USD",{"$f":"tblSalaries[[#This Row],[clean Salary (in local currency)]]*VLOOKUP(tblSalaries[[#This Row],[Currency]],tblXrate[],2,FALSE)","v":33600},"Executive","Analyst","Singapore",{"$f":"VLOOKUP(tblSalaries[[#This Row],[Where do you work]],tblCountries[[Actual]:[Mapping]],2,FALSE)","v":"Singapore"},8,"<=5","ASIA",{"$f":"(G1759/365)/L1759","v":11.506849315068493}]
[null,"ID1799","2012-06-12T00:26:07",100000,100000,"USD",{"$f":"tblSalaries[[#This Row],[clean Salary (in local currency)]]*VLOOKUP(tblSalaries[[#This Row],[Currency]],tblXrate[],2,FALSE)","v":100000},"analyst","Analyst","USA",{"$f":"VLOOKUP(tblSalaries[[#This Row],[Where do you work]],tblCountries[[Actual]:[Mapping]],2,FALSE)","v":"USA"},8,">10<=20","N. AMERICA",{"$f":"(G1760/365)/L1760","v":34.246575342465754}]
[null,"ID1800","2012-06-12T01:55:12",40000,40000,"CAD",{"$f":"tblSalaries[[#This Row],[clean Salary (in local currency)]]*VLOOKUP(tblSalaries[[#This Row],[Currency]],tblXrate[],2,FALSE)","v":39334.460921213074},"Machine Scheduler","Analyst","Canada",{"$f":"VLOOKUP(tblSalaries[[#This Row],[Where do you work]],tblCountries[[Actual]:[Mapping]],2,FALSE)","v":"Canada"},2,"<=5","N. AMERICA",{"$f":"(G1761/365)/L1761","v":53.882823179743937}]
[null,"ID1801","2012-06-12T01:58:00",400000,400000,"INR",{"$f":"tblSalaries[[#This Row],[clean Salary (in local currency)]]*VLOOKUP(tblSalaries[[#This Row],[Currency]],tblXrate[],2,FALSE)","v":7123.1666749770275},"business analyst","Analyst","India",{"$f":"VLOOKUP(tblSalaries[[#This Row],[Where do you work]],tblCountries[[Actual]:[Mapping]],2,FALSE)","v":"India"},3,"<=5","ASIA",{"$f":"(G1762/365)/L1762","v":6.5051750456411206}]
[null,"ID1802","2012-06-12T02:43:17","$65,000 US",65000,"USD",{"$f":"tblSalaries[[#This Row],[clean Salary (in local currency)]]*VLOOKUP(tblSalaries[[#This Row],[Currency]],tblXrate[],2,FALSE)","v":65000},"Sr Financial Systems Analyst","Analyst","USA",{"$f":"VLOOKUP(tblSalaries[[#This Row],[Where do you work]],tblCountries[[Actual]:[Mapping]],2,FALSE)","v":"USA"},6,">10<=20","N. AMERICA",{"$f":"(G1763/365)/L1763","v":29.680365296803654}]
[null,"ID1803","2012-06-12T02:59:16",65000,65000,"USD",{"$f":"tblSalaries[[#This Row],[clean Salary (in local currency)]]*VLOOKUP(tblSalaries[[#This Row],[Currency]],tblXrate[],2,FALSE)","v":65000},"Data Analyst","Analyst","USA",{"$f":"VLOOKUP(tblSalaries[[#This Row],[Where do you work]],tblCountries[[Actual]:[Mapping]],2,FALSE)","v":"USA"},3,">5<=10","N. AMERICA",{"$f":"(G1764/365)/L1764","v":59.360730593607308}]
[null,"ID1804","2012-06-12T03:32:27",65000,65000,"USD",{"$f":"tblSalaries[[#This Row],[clean Salary (in local currency)]]*VLOOKUP(tblSalaries[[#This Row],[Currency]],tblXrate[],2,FALSE)","v":65000},"Assistant Controller","Controller","USA",{"$f":"VLOOKUP(tblSalaries[[#This Row],[Where do you work]],tblCountries[[Actual]:[Mapping]],2,FALSE)","v":"USA"},3,">10<=20","N. AMERICA",{"$f":"(G1765/365)/L1765","v":59.360730593607308}]
[null,"ID1805","2012-06-12T03:45:25",78000,78000,"CAD",{"$f":"tblSalaries[[#This Row],[clean Salary (in local currency)]]*VLOOKUP(tblSalaries[[#This Row],[Currency]],tblXrate[],2,FALSE)","v":76702.198796365497},"SFA","Analyst","Canada",{"$f":"VLOOKUP(tblSalaries[[#This Row],[Where do you work]],tblCountries[[Actual]:[Mapping]],2,FALSE)","v":"Canada"},8,"<=5","N. AMERICA",{"$f":"(G1766/365)/L1766","v":26.26787630012517}]
[null,"ID1806","2012-06-12T06:36:12",63000,63000,"USD",{"$f":"tblSalaries[[#This Row],[clean Salary (in local currency)]]*VLOOKUP(tblSalaries[[#This Row],[Currency]],tblXrate[],2,FALSE)","v":63000},"Sales Analyst","Analyst","USA",{"$f":"VLOOKUP(tblSalaries[[#This Row],[Where do you work]],tblCountries[[Actual]:[Mapping]],2,FALSE)","v":"USA"},8,">5<=10","N. AMERICA",{"$f":"(G1767/365)/L1767","v":21.575342465753426}]
[null,"ID1807","2012-06-12T08:36:15",87000,87000,"USD",{"$f":"tblSalaries[[#This Row],[clean Salary (in local currency)]]*VLOOKUP(tblSalaries[[#This Row],[Currency]],tblXrate[],2,FALSE)","v":87000},"Ð˜Ð¨ Ð¤Ñ‚Ñ„Ð´Ð½Ñ‹Ðµ","Misc.","USA",{"$f":"VLOOKUP(tblSalaries[[#This Row],[Where do you work]],tblCountries[[Actual]:[Mapping]],2,FALSE)","v":"USA"},6,"<=5","N. AMERICA",{"$f":"(G1768/365)/L1768","v":39.726027397260275}]
[null,"ID1808","2012-06-12T08:46:15",45000,45000,"USD",{"$f":"tblSalaries[[#This Row],[clean Salary (in local currency)]]*VLOOKUP(tblSalaries[[#This Row],[Currency]],tblXrate[],2,FALSE)","v":45000},"ba","Analyst","USA",{"$f":"VLOOKUP(tblSalaries[[#This Row],[Where do you work]],tblCountries[[Actual]:[Mapping]],2,FALSE)","v":"USA"},6,"<=5","N. AMERICA",{"$f":"(G1769/365)/L1769","v":20.547945205479454}]
[null,"ID1809","2012-06-12T12:15:46",85000,85000,"USD",{"$f":"tblSalaries[[#This Row],[clean Salary (in local currency)]]*VLOOKUP(tblSalaries[[#This Row],[Currency]],tblXrate[],2,FALSE)","v":85000},"Lead Financial Analyst","Analyst","USA",{"$f":"VLOOKUP(tblSalaries[[#This Row],[Where do you work]],tblCountries[[Actual]:[Mapping]],2,FALSE)","v":"USA"},8,"<=5","N. AMERICA",{"$f":"(G1770/365)/L1770","v":29.109589041095891}]
[null,"ID1810","2012-06-12T15:09:22",156000,156000,"AUD",{"$f":"tblSalaries[[#This Row],[clean Salary (in local currency)]]*VLOOKUP(tblSalaries[[#This Row],[Currency]],tblXrate[],2,FALSE)","v":159105.90639881117},"Senior Associate Engineer","Engineer","Australia",{"$f":"VLOOKUP(tblSalaries[[#This Row],[Where do you work]],tblCountries[[Actual]:[Mapping]],2,FALSE)","v":"Australia"},3,">10<=20","OCEANIA",{"$f":"(G1771/365)/L1771","v":145.3021976244851}]
[null,"ID1811","2012-06-12T15:58:36",560000,560000,"INR",{"$f":"tblSalaries[[#This Row],[clean Salary (in local currency)]]*VLOOKUP(tblSalaries[[#This Row],[Currency]],tblXrate[],2,FALSE)","v":9972.4333449678379},"Associate Manager","Manager","India",{"$f":"VLOOKUP(tblSalaries[[#This Row],[Where do you work]],tblCountries[[Actual]:[Mapping]],2,FALSE)","v":"India"},3,"<=5","ASIA",{"$f":"(G1772/365)/L1772","v":9.1072450638975688}]
[null,"ID1812","2012-06-12T16:16:25",14000,14000,"USD",{"$f":"tblSalaries[[#This Row],[clean Salary (in local currency)]]*VLOOKUP(tblSalaries[[#This Row],[Currency]],tblXrate[],2,FALSE)","v":14000},"Manager","Manager","India",{"$f":"VLOOKUP(tblSalaries[[#This Row],[Where do you work]],tblCountries[[Actual]:[Mapping]],2,FALSE)","v":"India"},6,"<=5","ASIA",{"$f":"(G1773/365)/L1773","v":6.3926940639269398}]
[null,"ID1813","2012-06-12T18:09:58","Â£32000",32000,"GBP",{"$f":"tblSalaries[[#This Row],[clean Salary (in local currency)]]*VLOOKUP(tblSalaries[[#This Row],[Currency]],tblXrate[],2,FALSE)","v":50437.70470615309},"Business Analyst","Analyst","UK",{"$f":"VLOOKUP(tblSalaries[[#This Row],[Where do you work]],tblCountries[[Actual]:[Mapping]],2,FALSE)","v":"UK"},6,">10<=20","EUROPE",{"$f":"(G1774/365)/L1774","v":23.030915390937484}]
[null,"ID1814","2012-06-12T18:28:39",32000,32000,"GBP",{"$f":"tblSalaries[[#This Row],[clean Salary (in local currency)]]*VLOOKUP(tblSalaries[[#This Row],[Currency]],tblXrate[],2,FALSE)","v":50437.70470615309},"Financial Analyst","Analyst","UK",{"$f":"VLOOKUP(tblSalaries[[#This Row],[Where do you work]],tblCountries[[Actual]:[Mapping]],2,FALSE)","v":"UK"},8,"<=5","EUROPE",{"$f":"(G1775/365)/L1775","v":17.273186543203114}]
[null,"ID1815","2012-06-12T20:11:24",8900,1281600,"PKR",{"$f":"tblSalaries[[#This Row],[clean Salary (in local currency)]]*VLOOKUP(tblSalaries[[#This Row],[Currency]],tblXrate[],2,FALSE)","v":13603.016099449767},"Manager MIS & Analytics","Manager","pakistan",{"$f":"VLOOKUP(tblSalaries[[#This Row],[Where do you work]],tblCountries[[Actual]:[Mapping]],2,FALSE)","v":"Pakistan"},8,">5<=10","ASIA",{"$f":"(G1776/365)/L1776","v":4.6585671573458107}]
[null,"ID1816","2012-06-12T20:47:33","aud145000",145000,"AUD",{"$f":"tblSalaries[[#This Row],[clean Salary (in local currency)]]*VLOOKUP(tblSalaries[[#This Row],[Currency]],tblXrate[],2,FALSE)","v":147886.90017838217},"Financial controller","Controller","Australia",{"$f":"VLOOKUP(tblSalaries[[#This Row],[Where do you work]],tblCountries[[Actual]:[Mapping]],2,FALSE)","v":"Australia"},3,">10<=20","OCEANIA",{"$f":"(G1777/365)/L1777","v":135.05652984327139}]
[null,"ID1818","2012-06-12T21:47:54",280000,280000,"INR",{"$f":"tblSalaries[[#This Row],[clean Salary (in local currency)]]*VLOOKUP(tblSalaries[[#This Row],[Currency]],tblXrate[],2,FALSE)","v":4986.216672483919},"Sales Cordinator","Analyst","India",{"$f":"VLOOKUP(tblSalaries[[#This Row],[Where do you work]],tblCountries[[Actual]:[Mapping]],2,FALSE)","v":"India"},8,">5<=10","ASIA",{"$f":"(G1778/365)/L1778","v":1.7076084494807942}]
[null,"ID1819","2012-06-12T21:58:21",4800,4800,"USD",{"$f":"tblSalaries[[#This Row],[clean Salary (in local currency)]]*VLOOKUP(tblSalaries[[#This Row],[Currency]],tblXrate[],2,FALSE)","v":4800},"Sr Executive","Manager","India",{"$f":"VLOOKUP(tblSalaries[[#This Row],[Where do you work]],tblCountries[[Actual]:[Mapping]],2,FALSE)","v":"India"},8,"<=5","ASIA",{"$f":"(G1779/365)/L1779","v":1.6438356164383561}]
[null,"ID1820","2012-06-13T00:20:14","4.5 Laks",450000,"INR",{"$f":"tblSalaries[[#This Row],[clean Salary (in local currency)]]*VLOOKUP(tblSalaries[[#This Row],[Currency]],tblXrate[],2,FALSE)","v":8013.5625093491553},"MIS Executive","Reporting","India",{"$f":"VLOOKUP(tblSalaries[[#This Row],[Where do you work]],tblCountries[[Actual]:[Mapping]],2,FALSE)","v":"India"},6,"<=5","ASIA",{"$f":"(G1780/365)/L1780","v":3.6591609631731306}]
[null,"ID1821","2012-06-13T00:23:31",80000,80000,"USD",{"$f":"tblSalaries[[#This Row],[clean Salary (in local currency)]]*VLOOKUP(tblSalaries[[#This Row],[Currency]],tblXrate[],2,FALSE)","v":80000},"Manager, Operations","Manager","USA",{"$f":"VLOOKUP(tblSalaries[[#This Row],[Where do you work]],tblCountries[[Actual]:[Mapping]],2,FALSE)","v":"USA"},6,"<=5","N. AMERICA",{"$f":"(G1781/365)/L1781","v":36.529680365296805}]
[null,"ID1822","2012-06-13T00:37:24","â‚¬ 45000",45000,"EUR",{"$f":"tblSalaries[[#This Row],[clean Salary (in local currency)]]*VLOOKUP(tblSalaries[[#This Row],[Currency]],tblXrate[],2,FALSE)","v":57167.974754622352},"IT Trainer","Analyst","Netherlands",{"$f":"VLOOKUP(tblSalaries[[#This Row],[Where do you work]],tblCountries[[Actual]:[Mapping]],2,FALSE)","v":"Netherlands"},3,">10<=20","EUROPE",{"$f":"(G1782/365)/L1782","v":52.208196122942788}]
[null,"ID1823","2012-06-13T00:50:20",20000,20000,"USD",{"$f":"tblSalaries[[#This Row],[clean Salary (in local currency)]]*VLOOKUP(tblSalaries[[#This Row],[Currency]],tblXrate[],2,FALSE)","v":20000},"administrator","Analyst","Canada",{"$f":"VLOOKUP(tblSalaries[[#This Row],[Where do you work]],tblCountries[[Actual]:[Mapping]],2,FALSE)","v":"Canada"},3,"<=5","N. AMERICA",{"$f":"(G1783/365)/L1783","v":18.264840182648403}]
[null,"ID1824","2012-06-13T01:56:23",70000,70000,"USD",{"$f":"tblSalaries[[#This Row],[clean Salary (in local currency)]]*VLOOKUP(tblSalaries[[#This Row],[Currency]],tblXrate[],2,FALSE)","v":70000},"business analyst","Analyst","USA",{"$f":"VLOOKUP(tblSalaries[[#This Row],[Where do you work]],tblCountries[[Actual]:[Mapping]],2,FALSE)","v":"USA"},3,"<=5","N. AMERICA",{"$f":"(G1784/365)/L1784","v":63.926940639269411}]
[null,"ID1825","2012-06-13T03:23:05","$214,000  USD",214000,"USD",{"$f":"tblSalaries[[#This Row],[clean Salary (in local currency)]]*VLOOKUP(tblSalaries[[#This Row],[Currency]],tblXrate[],2,FALSE)","v":214000},"Assistant Corporate Controller","Controller","USA",{"$f":"VLOOKUP(tblSalaries[[#This Row],[Where do you work]],tblCountries[[Actual]:[Mapping]],2,FALSE)","v":"USA"},8,">10<=20","N. AMERICA",{"$f":"(G1785/365)/L1785","v":73.287671232876718}]
[null,"ID1826","2012-06-13T03:48:39",78000,78000,"USD",{"$f":"tblSalaries[[#This Row],[clean Salary (in local currency)]]*VLOOKUP(tblSalaries[[#This Row],[Currency]],tblXrate[],2,FALSE)","v":78000},"Data Integration Engenieer","Engineer","USA",{"$f":"VLOOKUP(tblSalaries[[#This Row],[Where do you work]],tblCountries[[Actual]:[Mapping]],2,FALSE)","v":"USA"},8,"<=5","N. AMERICA",{"$f":"(G1786/365)/L1786","v":26.712328767123289}]
[null,"ID1827","2012-06-13T04:39:37",42307.199999999997,42307,"USD",{"$f":"tblSalaries[[#This Row],[clean Salary (in local currency)]]*VLOOKUP(tblSalaries[[#This Row],[Currency]],tblXrate[],2,FALSE)","v":42307},"purchasing operations administrator","Analyst","USA",{"$f":"VLOOKUP(tblSalaries[[#This Row],[Where do you work]],tblCountries[[Actual]:[Mapping]],2,FALSE)","v":"USA"},3,">20","N. AMERICA",{"$f":"(G1787/365)/L1787","v":38.636529680365292}]
[null,"ID1828","2012-06-13T04:40:03",33250,33250,"USD",{"$f":"tblSalaries[[#This Row],[clean Salary (in local currency)]]*VLOOKUP(tblSalaries[[#This Row],[Currency]],tblXrate[],2,FALSE)","v":33250},"Planning and Logistics Coordinator","Manager","USA",{"$f":"VLOOKUP(tblSalaries[[#This Row],[Where do you work]],tblCountries[[Actual]:[Mapping]],2,FALSE)","v":"USA"},8,">10<=20","N. AMERICA",{"$f":"(G1788/365)/L1788","v":11.386986301369863}]
[null,"ID1829","2012-06-13T05:20:32","1600â‚¬ net monthly",19200,"EUR",{"$f":"tblSalaries[[#This Row],[clean Salary (in local currency)]]*VLOOKUP(tblSalaries[[#This Row],[Currency]],tblXrate[],2,FALSE)","v":24391.669228638868},"bank clerk","Analyst","italy",{"$f":"VLOOKUP(tblSalaries[[#This Row],[Where do you work]],tblCountries[[Actual]:[Mapping]],2,FALSE)","v":"italy"},6,">5<=10","EUROPE",{"$f":"(G1789/365)/L1789","v":11.137748506227794}]
[null,"ID1830","2012-06-13T06:19:24",120000,120000,"USD",{"$f":"tblSalaries[[#This Row],[clean Salary (in local currency)]]*VLOOKUP(tblSalaries[[#This Row],[Currency]],tblXrate[],2,FALSE)","v":120000},"Financial Modeler","Accountant","USA",{"$f":"VLOOKUP(tblSalaries[[#This Row],[Where do you work]],tblCountries[[Actual]:[Mapping]],2,FALSE)","v":"USA"},6,">10<=20","N. AMERICA",{"$f":"(G1790/365)/L1790","v":54.794520547945204}]
[null,"ID1831","2012-06-13T11:58:30",20000,20000,"USD",{"$f":"tblSalaries[[#This Row],[clean Salary (in local currency)]]*VLOOKUP(tblSalaries[[#This Row],[Currency]],tblXrate[],2,FALSE)","v":20000},"Personal Assistant","Analyst","Hong Kong",{"$f":"VLOOKUP(tblSalaries[[#This Row],[Where do you work]],tblCountries[[Actual]:[Mapping]],2,FALSE)","v":"Hong Kong"},2,"<=5","ASIA",{"$f":"(G1791/365)/L1791","v":27.397260273972602}]
[null,"ID1832","2012-06-13T17:22:47",15000,15000,"USD",{"$f":"tblSalaries[[#This Row],[clean Salary (in local currency)]]*VLOOKUP(tblSalaries[[#This Row],[Currency]],tblXrate[],2,FALSE)","v":15000},"senior associate","Analyst","India",{"$f":"VLOOKUP(tblSalaries[[#This Row],[Where do you work]],tblCountries[[Actual]:[Mapping]],2,FALSE)","v":"India"},3,"<=5","ASIA",{"$f":"(G1792/365)/L1792","v":13.698630136986301}]
[null,"ID1833","2012-06-13T18:25:00","INR 10 lacs p.a.",1000000,"INR",{"$f":"tblSalaries[[#This Row],[clean Salary (in local currency)]]*VLOOKUP(tblSalaries[[#This Row],[Currency]],tblXrate[],2,FALSE)","v":17807.916687442568},"Mnanager- Customer Project finance & recovery","Manager","India",{"$f":"VLOOKUP(tblSalaries[[#This Row],[Where do you work]],tblCountries[[Actual]:[Mapping]],2,FALSE)","v":"India"},3,">5<=10","ASIA",{"$f":"(G1793/365)/L1793","v":16.2629376141028}]
[null,"ID1834","2012-06-13T19:20:25",900000,900000,"INR",{"$f":"tblSalaries[[#This Row],[clean Salary (in local currency)]]*VLOOKUP(tblSalaries[[#This Row],[Currency]],tblXrate[],2,FALSE)","v":16027.125018698311},"Lead ","Manager","India",{"$f":"VLOOKUP(tblSalaries[[#This Row],[Where do you work]],tblCountries[[Actual]:[Mapping]],2,FALSE)","v":"India"},3,">5<=10","ASIA",{"$f":"(G1794/365)/L1794","v":14.636643852692522}]
[null,"ID1835","2012-06-13T19:33:58","36000 British pounds",36000,"GBP",{"$f":"tblSalaries[[#This Row],[clean Salary (in local currency)]]*VLOOKUP(tblSalaries[[#This Row],[Currency]],tblXrate[],2,FALSE)","v":56742.417794422225},"Senior officer data reporting","Manager","UK",{"$f":"VLOOKUP(tblSalaries[[#This Row],[Where do you work]],tblCountries[[Actual]:[Mapping]],2,FALSE)","v":"UK"},8,">5<=10","EUROPE",{"$f":"(G1795/365)/L1795","v":19.432334861103502}]
[null,"ID1836","2012-06-13T19:40:16",1200000,1200000,"INR",{"$f":"tblSalaries[[#This Row],[clean Salary (in local currency)]]*VLOOKUP(tblSalaries[[#This Row],[Currency]],tblXrate[],2,FALSE)","v":21369.500024931083},"AM","Manager","India",{"$f":"VLOOKUP(tblSalaries[[#This Row],[Where do you work]],tblCountries[[Actual]:[Mapping]],2,FALSE)","v":"India"},6,">5<=10","ASIA",{"$f":"(G1796/365)/L1796","v":9.7577625684616809}]
[null,"ID1837","2012-06-13T20:39:18",425000,425000,"INR",{"$f":"tblSalaries[[#This Row],[clean Salary (in local currency)]]*VLOOKUP(tblSalaries[[#This Row],[Currency]],tblXrate[],2,FALSE)","v":7568.3645921630914},"accountant","Accountant","India",{"$f":"VLOOKUP(tblSalaries[[#This Row],[Where do you work]],tblCountries[[Actual]:[Mapping]],2,FALSE)","v":"India"},3,">5<=10","ASIA",{"$f":"(G1797/365)/L1797","v":6.9117484859936908}]
[null,"ID1838","2012-06-13T23:32:36",50000,50000,"GBP",{"$f":"tblSalaries[[#This Row],[clean Salary (in local currency)]]*VLOOKUP(tblSalaries[[#This Row],[Currency]],tblXrate[],2,FALSE)","v":78808.913603364199},"Assistant Financial Accountant","Accountant","UK",{"$f":"VLOOKUP(tblSalaries[[#This Row],[Where do you work]],tblCountries[[Actual]:[Mapping]],2,FALSE)","v":"UK"},3,">5<=10","EUROPE",{"$f":"(G1798/365)/L1798","v":71.971610596679639}]
[null,"ID1839","2012-06-14T01:55:13",60000,60000,"USD",{"$f":"tblSalaries[[#This Row],[clean Salary (in local currency)]]*VLOOKUP(tblSalaries[[#This Row],[Currency]],tblXrate[],2,FALSE)","v":60000},"Business Analyst","Analyst","USA",{"$f":"VLOOKUP(tblSalaries[[#This Row],[Where do you work]],tblCountries[[Actual]:[Mapping]],2,FALSE)","v":"USA"},6,">10<=20","N. AMERICA",{"$f":"(G1799/365)/L1799","v":27.397260273972602}]
[null,"ID1840","2012-06-14T02:44:43",57000,57000,"USD",{"$f":"tblSalaries[[#This Row],[clean Salary (in local currency)]]*VLOOKUP(tblSalaries[[#This Row],[Currency]],tblXrate[],2,FALSE)","v":57000},"Staff Accountant","Accountant","USA",{"$f":"VLOOKUP(tblSalaries[[#This Row],[Where do you work]],tblCountries[[Actual]:[Mapping]],2,FALSE)","v":"USA"},6,">5<=10","N. AMERICA",{"$f":"(G1800/365)/L1800","v":26.027397260273972}]
[null,"ID1841","2012-06-14T04:22:36",40000,40000,"USD",{"$f":"tblSalaries[[#This Row],[clean Salary (in local currency)]]*VLOOKUP(tblSalaries[[#This Row],[Currency]],tblXrate[],2,FALSE)","v":40000},"Rates Analyst","Analyst","USA",{"$f":"VLOOKUP(tblSalaries[[#This Row],[Where do you work]],tblCountries[[Actual]:[Mapping]],2,FALSE)","v":"USA"},3,"<=5","N. AMERICA",{"$f":"(G1801/365)/L1801","v":36.529680365296805}]
[null,"ID1842","2012-06-14T07:16:41",80000,80000,"USD",{"$f":"tblSalaries[[#This Row],[clean Salary (in local currency)]]*VLOOKUP(tblSalaries[[#This Row],[Currency]],tblXrate[],2,FALSE)","v":80000},"Project Controller","Controller","USA",{"$f":"VLOOKUP(tblSalaries[[#This Row],[Where do you work]],tblCountries[[Actual]:[Mapping]],2,FALSE)","v":"USA"},6,">5<=10","N. AMERICA",{"$f":"(G1802/365)/L1802","v":36.529680365296805}]
[null,"ID1843","2012-06-14T12:27:30",118000,118000,"USD",{"$f":"tblSalaries[[#This Row],[clean Salary (in local currency)]]*VLOOKUP(tblSalaries[[#This Row],[Currency]],tblXrate[],2,FALSE)","v":118000},"AVP","CXO or Top Mgmt.","USA",{"$f":"VLOOKUP(tblSalaries[[#This Row],[Where do you work]],tblCountries[[Actual]:[Mapping]],2,FALSE)","v":"USA"},6,">5<=10","N. AMERICA",{"$f":"(G1803/365)/L1803","v":53.881278538812786}]
[null,"ID1844","2012-06-14T14:08:58",5000,60000,"USD",{"$f":"tblSalaries[[#This Row],[clean Salary (in local currency)]]*VLOOKUP(tblSalaries[[#This Row],[Currency]],tblXrate[],2,FALSE)","v":60000},"Analyst","Analyst","UAE",{"$f":"VLOOKUP(tblSalaries[[#This Row],[Where do you work]],tblCountries[[Actual]:[Mapping]],2,FALSE)","v":"UAE"},6,"<=5","ASIA",{"$f":"(G1804/365)/L1804","v":27.397260273972602}]
[null,"ID1845","2012-06-14T18:27:04",560,6720,"USD",{"$f":"tblSalaries[[#This Row],[clean Salary (in local currency)]]*VLOOKUP(tblSalaries[[#This Row],[Currency]],tblXrate[],2,FALSE)","v":6720},"accoutant","Accountant","India",{"$f":"VLOOKUP(tblSalaries[[#This Row],[Where do you work]],tblCountries[[Actual]:[Mapping]],2,FALSE)","v":"India"},6,"<=5","ASIA",{"$f":"(G1805/365)/L1805","v":3.0684931506849313}]
[null,"ID1846","2012-06-14T22:03:05",1720,20640,"USD",{"$f":"tblSalaries[[#This Row],[clean Salary (in local currency)]]*VLOOKUP(tblSalaries[[#This Row],[Currency]],tblXrate[],2,FALSE)","v":20640},"Programme Officer","Manager","Singapore",{"$f":"VLOOKUP(tblSalaries[[#This Row],[Where do you work]],tblCountries[[Actual]:[Mapping]],2,FALSE)","v":"Singapore"},6,"<=5","ASIA",{"$f":"(G1806/365)/L1806","v":9.4246575342465757}]
[null,"ID1847","2012-06-15T00:35:45",50000,50000,"USD",{"$f":"tblSalaries[[#This Row],[clean Salary (in local currency)]]*VLOOKUP(tblSalaries[[#This Row],[Currency]],tblXrate[],2,FALSE)","v":50000},"Digital Media Analyst","Analyst","USA",{"$f":"VLOOKUP(tblSalaries[[#This Row],[Where do you work]],tblCountries[[Actual]:[Mapping]],2,FALSE)","v":"USA"},8,">10<=20","N. AMERICA",{"$f":"(G1807/365)/L1807","v":17.123287671232877}]
[null,"ID1848","2012-06-15T00:52:38",2000,24000,"USD",{"$f":"tblSalaries[[#This Row],[clean Salary (in local currency)]]*VLOOKUP(tblSalaries[[#This Row],[Currency]],tblXrate[],2,FALSE)","v":24000},"Plant Controller","Controller","Russia",{"$f":"VLOOKUP(tblSalaries[[#This Row],[Where do you work]],tblCountries[[Actual]:[Mapping]],2,FALSE)","v":"Russia"},8,">20","ASIA",{"$f":"(G1808/365)/L1808","v":8.2191780821917817}]
[null,"ID1849","2012-06-15T01:02:48",60000,60000,"USD",{"$f":"tblSalaries[[#This Row],[clean Salary (in local currency)]]*VLOOKUP(tblSalaries[[#This Row],[Currency]],tblXrate[],2,FALSE)","v":60000},"Business Analyst","Analyst","USA",{"$f":"VLOOKUP(tblSalaries[[#This Row],[Where do you work]],tblCountries[[Actual]:[Mapping]],2,FALSE)","v":"USA"},3,"<=5","N. AMERICA",{"$f":"(G1809/365)/L1809","v":54.794520547945204}]
[null,"ID1850","2012-06-15T01:10:09",37500,37500,"USD",{"$f":"tblSalaries[[#This Row],[clean Salary (in local currency)]]*VLOOKUP(tblSalaries[[#This Row],[Currency]],tblXrate[],2,FALSE)","v":37500},"consultant","Consultant","India",{"$f":"VLOOKUP(tblSalaries[[#This Row],[Where do you work]],tblCountries[[Actual]:[Mapping]],2,FALSE)","v":"India"},8,"<=5","ASIA",{"$f":"(G1810/365)/L1810","v":12.842465753424657}]
[null,"ID1851","2012-06-15T02:24:44",40000,40000,"USD",{"$f":"tblSalaries[[#This Row],[clean Salary (in local currency)]]*VLOOKUP(tblSalaries[[#This Row],[Currency]],tblXrate[],2,FALSE)","v":40000},"Research Support Specialist","Specialist","USA",{"$f":"VLOOKUP(tblSalaries[[#This Row],[Where do you work]],tblCountries[[Actual]:[Mapping]],2,FALSE)","v":"USA"},6,"<=5","N. AMERICA",{"$f":"(G1811/365)/L1811","v":18.264840182648403}]
[null,"ID1852","2012-06-15T02:30:11","US$ 85000",85000,"USD",{"$f":"tblSalaries[[#This Row],[clean Salary (in local currency)]]*VLOOKUP(tblSalaries[[#This Row],[Currency]],tblXrate[],2,FALSE)","v":85000},"Chief Financial Officer","CXO or Top Mgmt.","USA",{"$f":"VLOOKUP(tblSalaries[[#This Row],[Where do you work]],tblCountries[[Actual]:[Mapping]],2,FALSE)","v":"USA"},3,">10<=20","N. AMERICA",{"$f":"(G1812/365)/L1812","v":77.625570776255714}]
[null,"ID1853","2012-06-15T03:00:04",30000,30000,"USD",{"$f":"tblSalaries[[#This Row],[clean Salary (in local currency)]]*VLOOKUP(tblSalaries[[#This Row],[Currency]],tblXrate[],2,FALSE)","v":30000},"Trainee","Analyst","Brazil",{"$f":"VLOOKUP(tblSalaries[[#This Row],[Where do you work]],tblCountries[[Actual]:[Mapping]],2,FALSE)","v":"Brazil"},3,"<=5"," S. AMERICA",{"$f":"(G1813/365)/L1813","v":27.397260273972602}]
[null,"ID1854","2012-06-15T03:51:50","Â£33500",33500,"GBP",{"$f":"tblSalaries[[#This Row],[clean Salary (in local currency)]]*VLOOKUP(tblSalaries[[#This Row],[Currency]],tblXrate[],2,FALSE)","v":52801.972114254015},"Senior Manufacturing Engineer","Engineer","UK",{"$f":"VLOOKUP(tblSalaries[[#This Row],[Where do you work]],tblCountries[[Actual]:[Mapping]],2,FALSE)","v":"UK"},3,">5<=10","EUROPE",{"$f":"(G1814/365)/L1814","v":48.220979099775356}]
[null,"ID1855","2012-06-15T05:44:30",29000,29000,"USD",{"$f":"tblSalaries[[#This Row],[clean Salary (in local currency)]]*VLOOKUP(tblSalaries[[#This Row],[Currency]],tblXrate[],2,FALSE)","v":29000},"Customer Experence Engineer","Engineer","USA",{"$f":"VLOOKUP(tblSalaries[[#This Row],[Where do you work]],tblCountries[[Actual]:[Mapping]],2,FALSE)","v":"USA"},8,"<=5","N. AMERICA",{"$f":"(G1815/365)/L1815","v":9.9315068493150687}]
[null,"ID1857","2012-06-15T09:00:08",48000,48000,"USD",{"$f":"tblSalaries[[#This Row],[clean Salary (in local currency)]]*VLOOKUP(tblSalaries[[#This Row],[Currency]],tblXrate[],2,FALSE)","v":48000},"Accountant","Accountant","USA",{"$f":"VLOOKUP(tblSalaries[[#This Row],[Where do you work]],tblCountries[[Actual]:[Mapping]],2,FALSE)","v":"USA"},6,"<=5","N. AMERICA",{"$f":"(G1816/365)/L1816","v":21.917808219178085}]
[null,"ID1858","2012-06-15T09:01:23",48000,48000,"USD",{"$f":"tblSalaries[[#This Row],[clean Salary (in local currency)]]*VLOOKUP(tblSalaries[[#This Row],[Currency]],tblXrate[],2,FALSE)","v":48000},"Accountant","Accountant","USA",{"$f":"VLOOKUP(tblSalaries[[#This Row],[Where do you work]],tblCountries[[Actual]:[Mapping]],2,FALSE)","v":"USA"},6,"<=5","N. AMERICA",{"$f":"(G1817/365)/L1817","v":21.917808219178085}]
[null,"ID1859","2012-06-15T15:07:11",700,8400,"USD",{"$f":"tblSalaries[[#This Row],[clean Salary (in local currency)]]*VLOOKUP(tblSalaries[[#This Row],[Currency]],tblXrate[],2,FALSE)","v":8400},"Analyst","Analyst","Baltic",{"$f":"VLOOKUP(tblSalaries[[#This Row],[Where do you work]],tblCountries[[Actual]:[Mapping]],2,FALSE)","v":"Baltic"},8,"<=5","EUROPE",{"$f":"(G1818/365)/L1818","v":2.8767123287671232}]
[null,"ID1860","2012-06-15T15:43:42",270000,270000,"INR",{"$f":"tblSalaries[[#This Row],[clean Salary (in local currency)]]*VLOOKUP(tblSalaries[[#This Row],[Currency]],tblXrate[],2,FALSE)","v":4808.137505609493},"Team Lead","Manager","India",{"$f":"VLOOKUP(tblSalaries[[#This Row],[Where do you work]],tblCountries[[Actual]:[Mapping]],2,FALSE)","v":"India"},3,"<=5","ASIA",{"$f":"(G1819/365)/L1819","v":4.390993155807756}]
[null,"ID1861","2012-06-15T16:36:47",1400000,1400000,"INR",{"$f":"tblSalaries[[#This Row],[clean Salary (in local currency)]]*VLOOKUP(tblSalaries[[#This Row],[Currency]],tblXrate[],2,FALSE)","v":24931.083362419595},"Manager - Controlling","Manager","India",{"$f":"VLOOKUP(tblSalaries[[#This Row],[Where do you work]],tblCountries[[Actual]:[Mapping]],2,FALSE)","v":"India"},6,">5<=10","ASIA",{"$f":"(G1820/365)/L1820","v":11.38405632987196}]
[null,"ID1862","2012-06-15T17:16:19","INR 700000",700000,"INR",{"$f":"tblSalaries[[#This Row],[clean Salary (in local currency)]]*VLOOKUP(tblSalaries[[#This Row],[Currency]],tblXrate[],2,FALSE)","v":12465.541681209797},"Sr. System Analyst","Analyst","India",{"$f":"VLOOKUP(tblSalaries[[#This Row],[Where do you work]],tblCountries[[Actual]:[Mapping]],2,FALSE)","v":"India"},3,"<=5","ASIA",{"$f":"(G1821/365)/L1821","v":11.38405632987196}]
[null,"ID1863","2012-06-15T17:35:32",20000,20000,"GBP",{"$f":"tblSalaries[[#This Row],[clean Salary (in local currency)]]*VLOOKUP(tblSalaries[[#This Row],[Currency]],tblXrate[],2,FALSE)","v":31523.565441345683},"Accountant","Accountant","UK",{"$f":"VLOOKUP(tblSalaries[[#This Row],[Where do you work]],tblCountries[[Actual]:[Mapping]],2,FALSE)","v":"UK"},3,">5<=10","EUROPE",{"$f":"(G1822/365)/L1822","v":28.788644238671854}]
[null,"ID1864","2012-06-15T17:36:10","INR 1000000",1000000,"INR",{"$f":"tblSalaries[[#This Row],[clean Salary (in local currency)]]*VLOOKUP(tblSalaries[[#This Row],[Currency]],tblXrate[],2,FALSE)","v":17807.916687442568},"Sr.Manager","Manager","India",{"$f":"VLOOKUP(tblSalaries[[#This Row],[Where do you work]],tblCountries[[Actual]:[Mapping]],2,FALSE)","v":"India"},8,">5<=10","ASIA",{"$f":"(G1823/365)/L1823","v":6.0986016052885503}]
[null,"ID1865","2012-06-15T18:13:12",112000,112000,"USD",{"$f":"tblSalaries[[#This Row],[clean Salary (in local currency)]]*VLOOKUP(tblSalaries[[#This Row],[Currency]],tblXrate[],2,FALSE)","v":112000},"manager","Manager","USA",{"$f":"VLOOKUP(tblSalaries[[#This Row],[Where do you work]],tblCountries[[Actual]:[Mapping]],2,FALSE)","v":"USA"},3,">5<=10","N. AMERICA",{"$f":"(G1824/365)/L1824","v":102.28310502283104}]
[null,"ID1866","2012-06-15T20:00:26",11000,11000,"USD",{"$f":"tblSalaries[[#This Row],[clean Salary (in local currency)]]*VLOOKUP(tblSalaries[[#This Row],[Currency]],tblXrate[],2,FALSE)","v":11000},"AM","Manager","India",{"$f":"VLOOKUP(tblSalaries[[#This Row],[Where do you work]],tblCountries[[Actual]:[Mapping]],2,FALSE)","v":"India"},8,">5<=10","ASIA",{"$f":"(G1825/365)/L1825","v":3.7671232876712328}]
[null,"ID1867","2012-06-15T20:50:49","EUR 90000",90000,"EUR",{"$f":"tblSalaries[[#This Row],[clean Salary (in local currency)]]*VLOOKUP(tblSalaries[[#This Row],[Currency]],tblXrate[],2,FALSE)","v":114335.9495092447},"Controller","Controller","mainland Europe (Euro zone)",{"$f":"VLOOKUP(tblSalaries[[#This Row],[Where do you work]],tblCountries[[Actual]:[Mapping]],2,FALSE)","v":"Europe"},3,">10<=20","EUROPE",{"$f":"(G1826/365)/L1826","v":104.41639224588558}]
[null,"ID1868","2012-06-15T21:32:16","$US16.110,72",16110,"USD",{"$f":"tblSalaries[[#This Row],[clean Salary (in local currency)]]*VLOOKUP(tblSalaries[[#This Row],[Currency]],tblXrate[],2,FALSE)","v":16110},"INFORMATION ANALIST","Analyst","COLOMBIA",{"$f":"VLOOKUP(tblSalaries[[#This Row],[Where do you work]],tblCountries[[Actual]:[Mapping]],2,FALSE)","v":"Colombia"},8,">5<=10"," S. AMERICA",{"$f":"(G1827/365)/L1827","v":5.5171232876712333}]
[null,"ID1869","2012-06-15T22:36:45",72000,72000,"USD",{"$f":"tblSalaries[[#This Row],[clean Salary (in local currency)]]*VLOOKUP(tblSalaries[[#This Row],[Currency]],tblXrate[],2,FALSE)","v":72000},"HR Supervisor","Manager","USA",{"$f":"VLOOKUP(tblSalaries[[#This Row],[Where do you work]],tblCountries[[Actual]:[Mapping]],2,FALSE)","v":"USA"},6,">5<=10","N. AMERICA",{"$f":"(G1828/365)/L1828","v":32.87671232876712}]
[null,"ID1870","2012-06-15T23:21:00",60000,60000,"USD",{"$f":"tblSalaries[[#This Row],[clean Salary (in local currency)]]*VLOOKUP(tblSalaries[[#This Row],[Currency]],tblXrate[],2,FALSE)","v":60000},"Marketing Initatities Analyst","Analyst","USA",{"$f":"VLOOKUP(tblSalaries[[#This Row],[Where do you work]],tblCountries[[Actual]:[Mapping]],2,FALSE)","v":"USA"},8,">5<=10","N. AMERICA",{"$f":"(G1829/365)/L1829","v":20.547945205479451}]
[null,"ID1871","2012-06-15T23:50:11",67000,67000,"USD",{"$f":"tblSalaries[[#This Row],[clean Salary (in local currency)]]*VLOOKUP(tblSalaries[[#This Row],[Currency]],tblXrate[],2,FALSE)","v":67000},"Sales Compensation Analyst","Analyst","USA",{"$f":"VLOOKUP(tblSalaries[[#This Row],[Where do you work]],tblCountries[[Actual]:[Mapping]],2,FALSE)","v":"USA"},6,">5<=10","N. AMERICA",{"$f":"(G1830/365)/L1830","v":30.593607305936075}]
[null,"ID1872","2012-06-16T02:50:49",54000,54000,"USD",{"$f":"tblSalaries[[#This Row],[clean Salary (in local currency)]]*VLOOKUP(tblSalaries[[#This Row],[Currency]],tblXrate[],2,FALSE)","v":54000},"materials","Analyst","USA",{"$f":"VLOOKUP(tblSalaries[[#This Row],[Where do you work]],tblCountries[[Actual]:[Mapping]],2,FALSE)","v":"USA"},6,">10<=20","N. AMERICA",{"$f":"(G1831/365)/L1831","v":24.657534246575342}]
[null,"ID1873","2012-06-16T05:23:03",38666,38666,"USD",{"$f":"tblSalaries[[#This Row],[clean Salary (in local currency)]]*VLOOKUP(tblSalaries[[#This Row],[Currency]],tblXrate[],2,FALSE)","v":38666},"Actuarial Specialist","Specialist","South Africa",{"$f":"VLOOKUP(tblSalaries[[#This Row],[Where do you work]],tblCountries[[Actual]:[Mapping]],2,FALSE)","v":"South Africa"},8,">5<=10","AFRICA",{"$f":"(G1832/365)/L1832","v":13.241780821917809}]
[null,"ID1874","2012-06-16T06:17:53",63000,63000,"USD",{"$f":"tblSalaries[[#This Row],[clean Salary (in local currency)]]*VLOOKUP(tblSalaries[[#This Row],[Currency]],tblXrate[],2,FALSE)","v":63000},"Marketing Database Analyst","Analyst","USA",{"$f":"VLOOKUP(tblSalaries[[#This Row],[Where do you work]],tblCountries[[Actual]:[Mapping]],2,FALSE)","v":"USA"},6,">5<=10","N. AMERICA",{"$f":"(G1833/365)/L1833","v":28.767123287671236}]
[null,"ID1875","2012-06-16T08:10:59","63000 USD",63000,"USD",{"$f":"tblSalaries[[#This Row],[clean Salary (in local currency)]]*VLOOKUP(tblSalaries[[#This Row],[Currency]],tblXrate[],2,FALSE)","v":63000},"Financial Analyst","Analyst","USA",{"$f":"VLOOKUP(tblSalaries[[#This Row],[Where do you work]],tblCountries[[Actual]:[Mapping]],2,FALSE)","v":"USA"},8,"<=5","N. AMERICA",{"$f":"(G1834/365)/L1834","v":21.575342465753426}]
[null,"ID1876","2012-06-16T14:10:51","INR 360000",360000,"INR",{"$f":"tblSalaries[[#This Row],[clean Salary (in local currency)]]*VLOOKUP(tblSalaries[[#This Row],[Currency]],tblXrate[],2,FALSE)","v":6410.8500074793246},"Analyst","Analyst","India",{"$f":"VLOOKUP(tblSalaries[[#This Row],[Where do you work]],tblCountries[[Actual]:[Mapping]],2,FALSE)","v":"India"},8,"<=5","ASIA",{"$f":"(G1835/365)/L1835","v":2.1954965779038784}]
[null,"ID1877","2012-06-16T17:07:45","INR 50000",600000,"INR",{"$f":"tblSalaries[[#This Row],[clean Salary (in local currency)]]*VLOOKUP(tblSalaries[[#This Row],[Currency]],tblXrate[],2,FALSE)","v":10684.750012465542},"Manager- Customer Support","Manager","India",{"$f":"VLOOKUP(tblSalaries[[#This Row],[Where do you work]],tblCountries[[Actual]:[Mapping]],2,FALSE)","v":"India"},6,">10<=20","ASIA",{"$f":"(G1836/365)/L1836","v":4.8788812842308404}]
[null,"ID1878","2012-06-16T17:14:03",40000,40000,"USD",{"$f":"tblSalaries[[#This Row],[clean Salary (in local currency)]]*VLOOKUP(tblSalaries[[#This Row],[Currency]],tblXrate[],2,FALSE)","v":40000},"Assistant Manager","Manager","India",{"$f":"VLOOKUP(tblSalaries[[#This Row],[Where do you work]],tblCountries[[Actual]:[Mapping]],2,FALSE)","v":"India"},6,"<=5","ASIA",{"$f":"(G1837/365)/L1837","v":18.264840182648403}]
[null,"ID1879","2012-06-16T17:49:27","3.5 lac",350000,"INR",{"$f":"tblSalaries[[#This Row],[clean Salary (in local currency)]]*VLOOKUP(tblSalaries[[#This Row],[Currency]],tblXrate[],2,FALSE)","v":6232.7708406048987},"Analyst","Analyst","India",{"$f":"VLOOKUP(tblSalaries[[#This Row],[Where do you work]],tblCountries[[Actual]:[Mapping]],2,FALSE)","v":"India"},6,">5<=10","ASIA",{"$f":"(G1838/365)/L1838","v":2.84601408246799}]
[null,"ID1880","2012-06-16T18:31:59",2342342,2342342,"INR",{"$f":"tblSalaries[[#This Row],[clean Salary (in local currency)]]*VLOOKUP(tblSalaries[[#This Row],[Currency]],tblXrate[],2,FALSE)","v":41712.231189497601},"3r23regedf","Misc.","India",{"$f":"VLOOKUP(tblSalaries[[#This Row],[Where do you work]],tblCountries[[Actual]:[Mapping]],2,FALSE)","v":"India"},3,">10<=20","ASIA",{"$f":"(G1839/365)/L1839","v":38.093361816892788}]
[null,"ID1881","2012-06-16T18:33:25","Rs. 700000",700000,"INR",{"$f":"tblSalaries[[#This Row],[clean Salary (in local currency)]]*VLOOKUP(tblSalaries[[#This Row],[Currency]],tblXrate[],2,FALSE)","v":12465.541681209797},"Revenue Focus Manager","Manager","India",{"$f":"VLOOKUP(tblSalaries[[#This Row],[Where do you work]],tblCountries[[Actual]:[Mapping]],2,FALSE)","v":"India"},3,">5<=10","ASIA",{"$f":"(G1840/365)/L1840","v":11.38405632987196}]
[null,"ID1882","2012-06-16T22:24:30",20500,20500,"GBP",{"$f":"tblSalaries[[#This Row],[clean Salary (in local currency)]]*VLOOKUP(tblSalaries[[#This Row],[Currency]],tblXrate[],2,FALSE)","v":32311.654577379326},"analyst","Analyst","UK",{"$f":"VLOOKUP(tblSalaries[[#This Row],[Where do you work]],tblCountries[[Actual]:[Mapping]],2,FALSE)","v":"UK"},6,">10<=20","EUROPE",{"$f":"(G1841/365)/L1841","v":14.754180172319328}]
[null,"ID1883","2012-06-17T01:34:46","4,00,000",400000,"INR",{"$f":"tblSalaries[[#This Row],[clean Salary (in local currency)]]*VLOOKUP(tblSalaries[[#This Row],[Currency]],tblXrate[],2,FALSE)","v":7123.1666749770275},"technical analyst","Analyst","India",{"$f":"VLOOKUP(tblSalaries[[#This Row],[Where do you work]],tblCountries[[Actual]:[Mapping]],2,FALSE)","v":"India"},2,"<=5","ASIA",{"$f":"(G1842/365)/L1842","v":9.7577625684616809}]
[null,"ID1884","2012-06-17T04:02:00","US$100,000",100000,"USD",{"$f":"tblSalaries[[#This Row],[clean Salary (in local currency)]]*VLOOKUP(tblSalaries[[#This Row],[Currency]],tblXrate[],2,FALSE)","v":100000},"Senior Manager MIS","Manager","UAE",{"$f":"VLOOKUP(tblSalaries[[#This Row],[Where do you work]],tblCountries[[Actual]:[Mapping]],2,FALSE)","v":"UAE"},8,">10<=20","ASIA",{"$f":"(G1843/365)/L1843","v":34.246575342465754}]
[null,"ID1885","2012-06-17T11:38:53",75000,75000,"NZD",{"$f":"tblSalaries[[#This Row],[clean Salary (in local currency)]]*VLOOKUP(tblSalaries[[#This Row],[Currency]],tblXrate[],2,FALSE)","v":59819.107020370408},"Commercial Accountant","Accountant","New Zealand",{"$f":"VLOOKUP(tblSalaries[[#This Row],[Where do you work]],tblCountries[[Actual]:[Mapping]],2,FALSE)","v":"New Zealand"},6,"<=5","OCEANIA",{"$f":"(G1844/365)/L1844","v":27.314660739895164}]
[null,"ID1886","2012-06-17T12:00:57",25000,25000,"USD",{"$f":"tblSalaries[[#This Row],[clean Salary (in local currency)]]*VLOOKUP(tblSalaries[[#This Row],[Currency]],tblXrate[],2,FALSE)","v":25000},"Data Analyst","Analyst","India",{"$f":"VLOOKUP(tblSalaries[[#This Row],[Where do you work]],tblCountries[[Actual]:[Mapping]],2,FALSE)","v":"India"},8,"<=5","ASIA",{"$f":"(G1845/365)/L1845","v":8.5616438356164384}]
[null,"ID1887","2012-06-17T12:48:52",5000,5000,"USD",{"$f":"tblSalaries[[#This Row],[clean Salary (in local currency)]]*VLOOKUP(tblSalaries[[#This Row],[Currency]],tblXrate[],2,FALSE)","v":5000},"admin","Analyst","India",{"$f":"VLOOKUP(tblSalaries[[#This Row],[Where do you work]],tblCountries[[Actual]:[Mapping]],2,FALSE)","v":"India"},3,">5<=10","ASIA",{"$f":"(G1846/365)/L1846","v":4.5662100456621006}]
[null,"ID1888","2012-06-17T13:26:38","AUD63000",63000,"AUD",{"$f":"tblSalaries[[#This Row],[clean Salary (in local currency)]]*VLOOKUP(tblSalaries[[#This Row],[Currency]],tblXrate[],2,FALSE)","v":64254.308353366054},"Financial Modelling adviser","Accountant","Australia",{"$f":"VLOOKUP(tblSalaries[[#This Row],[Where do you work]],tblCountries[[Actual]:[Mapping]],2,FALSE)","v":"Australia"},8,"<=5","OCEANIA",{"$f":"(G1847/365)/L1847","v":22.004900121015773}]
[null,"ID1889","2012-06-17T16:01:50",60000,60000,"EUR",{"$f":"tblSalaries[[#This Row],[clean Salary (in local currency)]]*VLOOKUP(tblSalaries[[#This Row],[Currency]],tblXrate[],2,FALSE)","v":76223.966339496474},"pm","Manager","Germany",{"$f":"VLOOKUP(tblSalaries[[#This Row],[Where do you work]],tblCountries[[Actual]:[Mapping]],2,FALSE)","v":"Germany"},6,">5<=10","EUROPE",{"$f":"(G1848/365)/L1848","v":34.805464081961858}]
[null,"ID1890","2012-06-18T05:42:18",600000,600000,"DKK",{"$f":"tblSalaries[[#This Row],[clean Salary (in local currency)]]*VLOOKUP(tblSalaries[[#This Row],[Currency]],tblXrate[],2,FALSE)","v":102542.54233725216},"Engineer","Engineer","DK",{"$f":"VLOOKUP(tblSalaries[[#This Row],[Where do you work]],tblCountries[[Actual]:[Mapping]],2,FALSE)","v":"Denmark"},3,">10<=20","EUROPE",{"$f":"(G1849/365)/L1849","v":93.646157385618423}]
[null,"ID1891","2012-06-18T06:14:35",46000,46000,"USD",{"$f":"tblSalaries[[#This Row],[clean Salary (in local currency)]]*VLOOKUP(tblSalaries[[#This Row],[Currency]],tblXrate[],2,FALSE)","v":46000},"AML Analyst","Analyst","USA",{"$f":"VLOOKUP(tblSalaries[[#This Row],[Where do you work]],tblCountries[[Actual]:[Mapping]],2,FALSE)","v":"USA"},8,"<=5","N. AMERICA",{"$f":"(G1850/365)/L1850","v":15.753424657534246}]
[null,"ID1892","2012-06-18T08:19:01",5000,5000,"USD",{"$f":"tblSalaries[[#This Row],[clean Salary (in local currency)]]*VLOOKUP(tblSalaries[[#This Row],[Currency]],tblXrate[],2,FALSE)","v":5000},"analyst ","Analyst","India",{"$f":"VLOOKUP(tblSalaries[[#This Row],[Where do you work]],tblCountries[[Actual]:[Mapping]],2,FALSE)","v":"India"},8,"<=5","ASIA",{"$f":"(G1851/365)/L1851","v":1.7123287671232876}]
[null,"ID1893","2012-06-18T14:27:59","$AUD 76300",76300,"AUD",{"$f":"tblSalaries[[#This Row],[clean Salary (in local currency)]]*VLOOKUP(tblSalaries[[#This Row],[Currency]],tblXrate[],2,FALSE)","v":77819.106783521114},"Operations Analyst","Analyst","Australia",{"$f":"VLOOKUP(tblSalaries[[#This Row],[Where do you work]],tblCountries[[Actual]:[Mapping]],2,FALSE)","v":"Australia"},8,"<=5","OCEANIA",{"$f":"(G1852/365)/L1852","v":26.650379035452435}]
[null,"ID1894","2012-06-18T17:51:52","Rs. 350000",350000,"INR",{"$f":"tblSalaries[[#This Row],[clean Salary (in local currency)]]*VLOOKUP(tblSalaries[[#This Row],[Currency]],tblXrate[],2,FALSE)","v":6232.7708406048987},"manager purchase","Manager","India",{"$f":"VLOOKUP(tblSalaries[[#This Row],[Where do you work]],tblCountries[[Actual]:[Mapping]],2,FALSE)","v":"India"},3,">20","ASIA",{"$f":"(G1853/365)/L1853","v":5.6920281649359801}]
[null,"ID1895","2012-06-18T18:26:47","Â£35000",35000,"GBP",{"$f":"tblSalaries[[#This Row],[clean Salary (in local currency)]]*VLOOKUP(tblSalaries[[#This Row],[Currency]],tblXrate[],2,FALSE)","v":55166.239522354947},"Process Analyst","Analyst","UK",{"$f":"VLOOKUP(tblSalaries[[#This Row],[Where do you work]],tblCountries[[Actual]:[Mapping]],2,FALSE)","v":"UK"},8,">20","EUROPE",{"$f":"(G1854/365)/L1854","v":18.892547781628405}]
[null,"ID1896","2012-06-19T00:23:24",45000,45000,"USD",{"$f":"tblSalaries[[#This Row],[clean Salary (in local currency)]]*VLOOKUP(tblSalaries[[#This Row],[Currency]],tblXrate[],2,FALSE)","v":45000},"Senior Accountant","Accountant","USA",{"$f":"VLOOKUP(tblSalaries[[#This Row],[Where do you work]],tblCountries[[Actual]:[Mapping]],2,FALSE)","v":"USA"},3,"<=5","N. AMERICA",{"$f":"(G1855/365)/L1855","v":41.095890410958908}]
[null,"ID1897","2012-06-19T01:49:49","60k usd",60000,"USD",{"$f":"tblSalaries[[#This Row],[clean Salary (in local currency)]]*VLOOKUP(tblSalaries[[#This Row],[Currency]],tblXrate[],2,FALSE)","v":60000},"buyer","Manager","Canada",{"$f":"VLOOKUP(tblSalaries[[#This Row],[Where do you work]],tblCountries[[Actual]:[Mapping]],2,FALSE)","v":"Canada"},3,">5<=10","N. AMERICA",{"$f":"(G1856/365)/L1856","v":54.794520547945204}]
[null,"ID1898","2012-06-19T03:25:34",43000,43000,"USD",{"$f":"tblSalaries[[#This Row],[clean Salary (in local currency)]]*VLOOKUP(tblSalaries[[#This Row],[Currency]],tblXrate[],2,FALSE)","v":43000},"Performance Improvement Analyst","Analyst","USA",{"$f":"VLOOKUP(tblSalaries[[#This Row],[Where do you work]],tblCountries[[Actual]:[Mapping]],2,FALSE)","v":"USA"},6,"<=5","N. AMERICA",{"$f":"(G1857/365)/L1857","v":19.634703196347033}]
[null,"ID1899","2012-06-19T04:55:06",28000,28000,"EUR",{"$f":"tblSalaries[[#This Row],[clean Salary (in local currency)]]*VLOOKUP(tblSalaries[[#This Row],[Currency]],tblXrate[],2,FALSE)","v":35571.184291765021},"controller","Controller","Spain",{"$f":"VLOOKUP(tblSalaries[[#This Row],[Where do you work]],tblCountries[[Actual]:[Mapping]],2,FALSE)","v":"Spain"},6,">5<=10","EUROPE",{"$f":"(G1858/365)/L1858","v":16.242549904915535}]
[null,"ID1900","2012-06-19T06:50:47",48000,48000,"USD",{"$f":"tblSalaries[[#This Row],[clean Salary (in local currency)]]*VLOOKUP(tblSalaries[[#This Row],[Currency]],tblXrate[],2,FALSE)","v":48000},"Inventory Analyst","Analyst","USA",{"$f":"VLOOKUP(tblSalaries[[#This Row],[Where do you work]],tblCountries[[Actual]:[Mapping]],2,FALSE)","v":"USA"},6,">10<=20","N. AMERICA",{"$f":"(G1859/365)/L1859","v":21.917808219178085}]
[null,"ID1901","2012-06-19T07:59:00",120000,120000,"AUD",{"$f":"tblSalaries[[#This Row],[clean Salary (in local currency)]]*VLOOKUP(tblSalaries[[#This Row],[Currency]],tblXrate[],2,FALSE)","v":122389.15876831629},"Manager","Manager","Australia",{"$f":"VLOOKUP(tblSalaries[[#This Row],[Where do you work]],tblCountries[[Actual]:[Mapping]],2,FALSE)","v":"Australia"},2,">5<=10","OCEANIA",{"$f":"(G1860/365)/L1860","v":167.65638187440589}]
[null,"ID1902","2012-06-19T12:39:16",4000,4000,"USD",{"$f":"tblSalaries[[#This Row],[clean Salary (in local currency)]]*VLOOKUP(tblSalaries[[#This Row],[Currency]],tblXrate[],2,FALSE)","v":4000},"operator","Analyst","India",{"$f":"VLOOKUP(tblSalaries[[#This Row],[Where do you work]],tblCountries[[Actual]:[Mapping]],2,FALSE)","v":"India"},3,"<=5","ASIA",{"$f":"(G1861/365)/L1861","v":3.6529680365296802}]
[null,"ID1903","2012-06-19T15:15:38",250000,250000,"INR",{"$f":"tblSalaries[[#This Row],[clean Salary (in local currency)]]*VLOOKUP(tblSalaries[[#This Row],[Currency]],tblXrate[],2,FALSE)","v":4451.9791718606421},"MIS EXECUTIVE","Reporting","India",{"$f":"VLOOKUP(tblSalaries[[#This Row],[Where do you work]],tblCountries[[Actual]:[Mapping]],2,FALSE)","v":"India"},6,"<=5","ASIA",{"$f":"(G1862/365)/L1862","v":2.03286720176285}]
[null,"ID1904","2012-06-19T17:01:38","52,224.00ETB",52224,"ETB",{"$f":"tblSalaries[[#This Row],[clean Salary (in local currency)]]*VLOOKUP(tblSalaries[[#This Row],[Currency]],tblXrate[],2,FALSE)","v":2953.8461538461538},"Project Costing &Dashboard reporting","Reporting","Ethiopia",{"$f":"VLOOKUP(tblSalaries[[#This Row],[Where do you work]],tblCountries[[Actual]:[Mapping]],2,FALSE)","v":"Ethiopia"},6,"<=5","AFRICA",{"$f":"(G1863/365)/L1863","v":1.3487881981032668}]
[null,"ID1905","2012-06-19T18:17:42",25000,25000,"GBP",{"$f":"tblSalaries[[#This Row],[clean Salary (in local currency)]]*VLOOKUP(tblSalaries[[#This Row],[Currency]],tblXrate[],2,FALSE)","v":39404.456801682099},"Data Analyst","Analyst","UK",{"$f":"VLOOKUP(tblSalaries[[#This Row],[Where do you work]],tblCountries[[Actual]:[Mapping]],2,FALSE)","v":"UK"},6,"<=5","EUROPE",{"$f":"(G1864/365)/L1864","v":17.99290264916991}]
[null,"ID1906","2012-06-19T19:33:25",74000,74000,"AUD",{"$f":"tblSalaries[[#This Row],[clean Salary (in local currency)]]*VLOOKUP(tblSalaries[[#This Row],[Currency]],tblXrate[],2,FALSE)","v":75473.31457379504},"Systems Analyst","Analyst","Australia",{"$f":"VLOOKUP(tblSalaries[[#This Row],[Where do you work]],tblCountries[[Actual]:[Mapping]],2,FALSE)","v":"Australia"},6,">5<=10","OCEANIA",{"$f":"(G1865/365)/L1865","v":34.462700718627872}]
[null,"ID1907","2012-06-19T20:16:30",750000,750000,"INR",{"$f":"tblSalaries[[#This Row],[clean Salary (in local currency)]]*VLOOKUP(tblSalaries[[#This Row],[Currency]],tblXrate[],2,FALSE)","v":13355.937515581925},"Analyst","Analyst","India",{"$f":"VLOOKUP(tblSalaries[[#This Row],[Where do you work]],tblCountries[[Actual]:[Mapping]],2,FALSE)","v":"India"},6,"<=5","ASIA",{"$f":"(G1866/365)/L1866","v":6.0986016052885503}]
[null,"ID1908","2012-06-19T20:35:35",25000,25000,"USD",{"$f":"tblSalaries[[#This Row],[clean Salary (in local currency)]]*VLOOKUP(tblSalaries[[#This Row],[Currency]],tblXrate[],2,FALSE)","v":25000},"Team Lead","Manager","India",{"$f":"VLOOKUP(tblSalaries[[#This Row],[Where do you work]],tblCountries[[Actual]:[Mapping]],2,FALSE)","v":"India"},6,">5<=10","ASIA",{"$f":"(G1867/365)/L1867","v":11.415525114155251}]
[null,"ID1909","2012-06-19T21:01:21",420000,420000,"INR",{"$f":"tblSalaries[[#This Row],[clean Salary (in local currency)]]*VLOOKUP(tblSalaries[[#This Row],[Currency]],tblXrate[],2,FALSE)","v":7479.3250087258784},"Analyst","Analyst","India",{"$f":"VLOOKUP(tblSalaries[[#This Row],[Where do you work]],tblCountries[[Actual]:[Mapping]],2,FALSE)","v":"India"},6,"<=5","ASIA",{"$f":"(G1868/365)/L1868","v":3.4152168989615883}]
[null,"ID1910","2012-06-19T21:06:16",62000,62000,"USD",{"$f":"tblSalaries[[#This Row],[clean Salary (in local currency)]]*VLOOKUP(tblSalaries[[#This Row],[Currency]],tblXrate[],2,FALSE)","v":62000},"Analyst","Analyst","USA",{"$f":"VLOOKUP(tblSalaries[[#This Row],[Where do you work]],tblCountries[[Actual]:[Mapping]],2,FALSE)","v":"USA"},6,"<=5","N. AMERICA",{"$f":"(G1869/365)/L1869","v":28.310502283105023}]
[null,"ID1911","2012-06-19T21:32:36",48000,48000,"USD",{"$f":"tblSalaries[[#This Row],[clean Salary (in local currency)]]*VLOOKUP(tblSalaries[[#This Row],[Currency]],tblXrate[],2,FALSE)","v":48000},"Marketing Analyst Co-op","Analyst","USA",{"$f":"VLOOKUP(tblSalaries[[#This Row],[Where do you work]],tblCountries[[Actual]:[Mapping]],2,FALSE)","v":"USA"},6,"<=5","N. AMERICA",{"$f":"(G1870/365)/L1870","v":21.917808219178085}]
[null,"ID1912","2012-06-19T22:42:55",5000,5000,"USD",{"$f":"tblSalaries[[#This Row],[clean Salary (in local currency)]]*VLOOKUP(tblSalaries[[#This Row],[Currency]],tblXrate[],2,FALSE)","v":5000},"abc","Misc.","India",{"$f":"VLOOKUP(tblSalaries[[#This Row],[Where do you work]],tblCountries[[Actual]:[Mapping]],2,FALSE)","v":"India"},6,"<=5","ASIA",{"$f":"(G1871/365)/L1871","v":2.2831050228310503}]
[null,"ID1914","2012-06-20T00:27:54","Rs23000/month",276000,"INR",{"$f":"tblSalaries[[#This Row],[clean Salary (in local currency)]]*VLOOKUP(tblSalaries[[#This Row],[Currency]],tblXrate[],2,FALSE)","v":4914.9850057341491},"MIS specialist","Reporting","India",{"$f":"VLOOKUP(tblSalaries[[#This Row],[Where do you work]],tblCountries[[Actual]:[Mapping]],2,FALSE)","v":"India"},8,">5<=10","ASIA",{"$f":"(G1872/365)/L1872","v":1.6832140430596401}]
[null,"ID1915","2012-06-20T00:55:28",75000,75000,"USD",{"$f":"tblSalaries[[#This Row],[clean Salary (in local currency)]]*VLOOKUP(tblSalaries[[#This Row],[Currency]],tblXrate[],2,FALSE)","v":75000},"Data Analyst","Analyst","USA",{"$f":"VLOOKUP(tblSalaries[[#This Row],[Where do you work]],tblCountries[[Actual]:[Mapping]],2,FALSE)","v":"USA"},2,"<=5","N. AMERICA",{"$f":"(G1873/365)/L1873","v":102.73972602739725}]
[null,"ID1916","2012-06-20T01:20:49",250000,250000,"INR",{"$f":"tblSalaries[[#This Row],[clean Salary (in local currency)]]*VLOOKUP(tblSalaries[[#This Row],[Currency]],tblXrate[],2,FALSE)","v":4451.9791718606421},"research associate","Analyst","India",{"$f":"VLOOKUP(tblSalaries[[#This Row],[Where do you work]],tblCountries[[Actual]:[Mapping]],2,FALSE)","v":"India"},8,"<=5","ASIA",{"$f":"(G1874/365)/L1874","v":1.5246504013221376}]
[null,"ID1917","2012-06-20T01:43:12",700,8400,"USD",{"$f":"tblSalaries[[#This Row],[clean Salary (in local currency)]]*VLOOKUP(tblSalaries[[#This Row],[Currency]],tblXrate[],2,FALSE)","v":8400},"Sr. Executive MIS","Reporting","India",{"$f":"VLOOKUP(tblSalaries[[#This Row],[Where do you work]],tblCountries[[Actual]:[Mapping]],2,FALSE)","v":"India"},8,">5<=10","ASIA",{"$f":"(G1875/365)/L1875","v":2.8767123287671232}]
[null,"ID1918","2012-06-20T01:54:10",20000,20000,"USD",{"$f":"tblSalaries[[#This Row],[clean Salary (in local currency)]]*VLOOKUP(tblSalaries[[#This Row],[Currency]],tblXrate[],2,FALSE)","v":20000},"Monitoring and Evaluation Officer","Manager","India",{"$f":"VLOOKUP(tblSalaries[[#This Row],[Where do you work]],tblCountries[[Actual]:[Mapping]],2,FALSE)","v":"India"},3,"<=5","ASIA",{"$f":"(G1876/365)/L1876","v":18.264840182648403}]
[null,"ID1919","2012-06-20T02:31:52",110000,110000,"USD",{"$f":"tblSalaries[[#This Row],[clean Salary (in local currency)]]*VLOOKUP(tblSalaries[[#This Row],[Currency]],tblXrate[],2,FALSE)","v":110000},"Vice President - Finance","CXO or Top Mgmt.","USA",{"$f":"VLOOKUP(tblSalaries[[#This Row],[Where do you work]],tblCountries[[Actual]:[Mapping]],2,FALSE)","v":"USA"},6,">5<=10","N. AMERICA",{"$f":"(G1877/365)/L1877","v":50.228310502283108}]
[null,"ID1920","2012-06-20T03:52:40",50000,50000,"USD",{"$f":"tblSalaries[[#This Row],[clean Salary (in local currency)]]*VLOOKUP(tblSalaries[[#This Row],[Currency]],tblXrate[],2,FALSE)","v":50000},"Operations Analyst ","Analyst","USA",{"$f":"VLOOKUP(tblSalaries[[#This Row],[Where do you work]],tblCountries[[Actual]:[Mapping]],2,FALSE)","v":"USA"},8,"<=5","N. AMERICA",{"$f":"(G1878/365)/L1878","v":17.123287671232877}]
[null,"ID1921","2012-06-20T03:55:55",46000,46000,"USD",{"$f":"tblSalaries[[#This Row],[clean Salary (in local currency)]]*VLOOKUP(tblSalaries[[#This Row],[Currency]],tblXrate[],2,FALSE)","v":46000},"Poultry Analyst","Analyst","USA",{"$f":"VLOOKUP(tblSalaries[[#This Row],[Where do you work]],tblCountries[[Actual]:[Mapping]],2,FALSE)","v":"USA"},6,">5<=10","N. AMERICA",{"$f":"(G1879/365)/L1879","v":21.004566210045663}]
[null,"ID1922","2012-06-20T05:03:44",115000,115000,"USD",{"$f":"tblSalaries[[#This Row],[clean Salary (in local currency)]]*VLOOKUP(tblSalaries[[#This Row],[Currency]],tblXrate[],2,FALSE)","v":115000},"Business Analyst","Analyst","USA",{"$f":"VLOOKUP(tblSalaries[[#This Row],[Where do you work]],tblCountries[[Actual]:[Mapping]],2,FALSE)","v":"USA"},8,">10<=20","N. AMERICA",{"$f":"(G1880/365)/L1880","v":39.38356164383562}]
[null,"ID1924","2012-06-20T12:53:56",180000,180000,"INR",{"$f":"tblSalaries[[#This Row],[clean Salary (in local currency)]]*VLOOKUP(tblSalaries[[#This Row],[Currency]],tblXrate[],2,FALSE)","v":3205.4250037396623},"Customer Resolution","Analyst","India",{"$f":"VLOOKUP(tblSalaries[[#This Row],[Where do you work]],tblCountries[[Actual]:[Mapping]],2,FALSE)","v":"India"},6,"<=5","ASIA",{"$f":"(G1881/365)/L1881","v":1.4636643852692524}]
[null,"ID1925","2012-06-20T13:05:17","60000 EUR",60000,"EUR",{"$f":"tblSalaries[[#This Row],[clean Salary (in local currency)]]*VLOOKUP(tblSalaries[[#This Row],[Currency]],tblXrate[],2,FALSE)","v":76223.966339496474},"Project Manager","Manager","Europe",{"$f":"VLOOKUP(tblSalaries[[#This Row],[Where do you work]],tblCountries[[Actual]:[Mapping]],2,FALSE)","v":"Europe"},3,">10<=20","EUROPE",{"$f":"(G1882/365)/L1882","v":69.610928163923717}]
[null,"ID1927","2012-06-20T14:08:51",52500,52500,"USD",{"$f":"tblSalaries[[#This Row],[clean Salary (in local currency)]]*VLOOKUP(tblSalaries[[#This Row],[Currency]],tblXrate[],2,FALSE)","v":52500},"Business Analist","Analyst","south africa",{"$f":"VLOOKUP(tblSalaries[[#This Row],[Where do you work]],tblCountries[[Actual]:[Mapping]],2,FALSE)","v":"South Africa"},6,">20","AFRICA",{"$f":"(G1883/365)/L1883","v":23.972602739726028}]
[null,"ID1928","2012-06-20T20:58:23",8400,100800,"USD",{"$f":"tblSalaries[[#This Row],[clean Salary (in local currency)]]*VLOOKUP(tblSalaries[[#This Row],[Currency]],tblXrate[],2,FALSE)","v":100800},"AVP","CXO or Top Mgmt.","Oman",{"$f":"VLOOKUP(tblSalaries[[#This Row],[Where do you work]],tblCountries[[Actual]:[Mapping]],2,FALSE)","v":"Oman"},6,"<=5","ASIA",{"$f":"(G1884/365)/L1884","v":46.027397260273972}]
[null,"ID1929","2012-06-21T03:46:23",21000,21000,"USD",{"$f":"tblSalaries[[#This Row],[clean Salary (in local currency)]]*VLOOKUP(tblSalaries[[#This Row],[Currency]],tblXrate[],2,FALSE)","v":21000},"eorl","Misc.","India",{"$f":"VLOOKUP(tblSalaries[[#This Row],[Where do you work]],tblCountries[[Actual]:[Mapping]],2,FALSE)","v":"India"},8,"<=5","ASIA",{"$f":"(G1885/365)/L1885","v":7.1917808219178081}]
[null,"ID1930","2012-06-21T04:06:15",40000,40000,"USD",{"$f":"tblSalaries[[#This Row],[clean Salary (in local currency)]]*VLOOKUP(tblSalaries[[#This Row],[Currency]],tblXrate[],2,FALSE)","v":40000},"Corporate Trainer","Analyst","USA",{"$f":"VLOOKUP(tblSalaries[[#This Row],[Where do you work]],tblCountries[[Actual]:[Mapping]],2,FALSE)","v":"USA"},2,"<=5","N. AMERICA",{"$f":"(G1886/365)/L1886","v":54.794520547945204}]
[null,"ID1931","2012-06-21T04:44:20",46359,46359,"USD",{"$f":"tblSalaries[[#This Row],[clean Salary (in local currency)]]*VLOOKUP(tblSalaries[[#This Row],[Currency]],tblXrate[],2,FALSE)","v":46359},"Data Analyst","Analyst","USA",{"$f":"VLOOKUP(tblSalaries[[#This Row],[Where do you work]],tblCountries[[Actual]:[Mapping]],2,FALSE)","v":"USA"},8,"<=5","N. AMERICA",{"$f":"(G1887/365)/L1887","v":15.876369863013698}]
[null,"ID1932","2012-06-21T04:46:24",70000,70000,"USD",{"$f":"tblSalaries[[#This Row],[clean Salary (in local currency)]]*VLOOKUP(tblSalaries[[#This Row],[Currency]],tblXrate[],2,FALSE)","v":70000},"Administrative Coordinator","Analyst","USA",{"$f":"VLOOKUP(tblSalaries[[#This Row],[Where do you work]],tblCountries[[Actual]:[Mapping]],2,FALSE)","v":"USA"},6,">5<=10","N. AMERICA",{"$f":"(G1888/365)/L1888","v":31.963470319634705}]

{"sheet":"Sheet1","index":6,"n_rows":120,"n_cols":13,"rows_kept":120,"cut":false,"hidden":true,"merged":[]}
[]
[null,"CONTINENT WISE TOTAL EXCEL REVENUE"]
["Sum of Salary in USD","Column Labels"]
["Continent","Accountant","Analyst","Consultant","Controller","CXO or Top Mgmt.","Engineer","Manager","Misc.","Reporting","Specialist","Total","in %"]
[" S. AMERICA",null,476099.54847415403,232100,22800,null,98000,176691.18301254485,null,20000,null,1025690.7314866988,{"$f":"L5/$L$11","v":1.0934765626657373E-2}]
["AFRICA",277515.32288544963,406572.90308307996,82000,23255.603296661022,139630.61358354933,33376.251387717763,514339.26406589325,null,59953.846153846156,38666,1575309.8044561972,{"$f":"L6/$L$11","v":1.6794188513467475E-2}]
["OCEANIA",756267.69579707389,3611906.340750759,795115.94638946885,248857.95616224312,285574.70379273803,367270.40438549302,2236085.0993862473,null,85000,189703.19609089027,8575781.3427549135,{"$f":"L7/$L$11","v":9.142537430611665E-2}]
["ASIA",780501.65661846648,3471382.7291860962,629764.55005792354,462137.24005784013,508371.83357433381,610756.98306645651,5180102.5288467119,70205.33952573956,735865.12346016767,305116.43344469217,12754204.417838426,{"$f":"L8/$L$11","v":0.13597104057028306}]
["EUROPE",1328800.4553452088,5706708.2987385215,1852710.1443625258,1933115.6480180267,1124027.3681459068,768593.2599661767,5327600.6597366817,null,432836.18857096415,664013.69236472459,19138405.715248741,{"$f":"L9/$L$11","v":0.20403224338469983}]
["N. AMERICA",4173434.3478739723,20725086.856635146,2073875.3490933406,1671796.7971915195,5237336.1523030326,1948924.3066121228,12505619.582695754,251461,291000,1852962.1110805175,50731496.503485404,{"$f":"L10/$L$11","v":0.54084238759877556}]
["Total",7316519.4785201708,34397756.676867761,5665565.9899032582,4361963.2447262909,7294940.6713995598,3826921.2054179669,25940438.317743834,321666.33952573955,1624655.1581849779,3050461.4329808243,93800888.515270382,1]
[]
[]
[]
["Row Labels","Min of hourly_rate","Max of hourly_rate2","Average of hourly_rate"]
["(blank)"]
["Pakistan",0.65429314007665873,43.835616438356169,6.5138202646143011]
["Sri Lanka",0.82455432065948664,29.109589041095891,8.2744999052277883]
["India",0.87819863116155128,170.76084494807944,8.9796789517021161]
["Ethiopia",1.3487881981032668,1.3487881981032668,1.3487881981032668]
["Brazil",1.5565068493150684,109.58904109589041,24.766226264686075]
["Philippines",1.8184697622412485,29.452054794520549,7.576762806653746]
["Zambia",2.0547945205479454,6.8493150684931505,4.4520547945205475]
["Armenia",2.0547945205479454,2.0547945205479454,2.0547945205479454]
["Bhutan",2.1917808219178081,2.1917808219178081,2.1917808219178081]
["Dominican Republic",2.2702054794520548,2.2702054794520548,2.2702054794520548]
["Republic of Georgia",2.3972602739726026,2.3972602739726026,2.3972602739726026]
["Mongolia",2.4868920067146085,2.4868920067146085,2.4868920067146085]
["Romania",2.5684931506849313,41.095890410958901,13.35805635764938]
["Thailand",2.7397260273972601,63.013698630136986,32.87671232876712]
["Cambodia",2.7397260273972606,2.7397260273972606,2.7397260273972606]
["Baltic",2.8767123287671232,2.8767123287671232,2.8767123287671232]
["Bolivia",3.2876712328767121,3.2876712328767121,3.2876712328767121]
["Colombia",3.2876712328767126,11.643835616438356,7.3773972602739732]
["Mexico",3.7523913990386077,34.246575342465754,12.318298500634453]
["Indonesia",3.8356164383561642,89.49771689497716,23.610050407302381]
["Latin America",4.0182648401826482,4.0182648401826482,4.0182648401826482]
["Bangladesh",4.1095890410958908,16.071248666714144,10.090418853905017]
["Estonia",4.1095890410958908,4.1095890410958908,4.1095890410958908]
["Asia",4.1095890410958908,4.1095890410958908,4.1095890410958908]
["Ukraine",4.1095890410958908,13.698630136986301,8.4246575342465757]
["UAE",4.1095890410958908,58.06940639269407,26.480583252358482]
["South Africa",4.1754034199627101,120.25161849492605,24.338695041267869]
["Mauritius",4.2813933277250049,4.2813933277250049,4.2813933277250049]
["Slovakia",4.4520547945205475,4.4520547945205475,4.4520547945205475]
["Viet Nam",4.5662100456621006,4.5662100456621006,4.5662100456621006]
["USA",4.5662100456621006,547.94520547945206,45.233058843522294]
["Morocco",4.7074330367650514,4.7074330367650514,4.7074330367650514]
["Bulgaria",4.9315068493150687,4.9315068493150687,4.9315068493150687]
["Tunisia",5.0228310502283104,5.0228310502283104,5.0228310502283104]
["Saudi Arabia",5.1232876712328768,77.929984779299843,18.887366818873669]
["Croatia",5.1369863013698627,125.29967069506267,50.78482173853687]
["malaysia",5.2076805650402846,49.315068493150683,21.303103937980261]
["Portugal",5.220819612294278,60.273972602739725,24.700528740246508]
["Republica Dominicana",5.2754673184799614,5.2754673184799614,5.2754673184799614]
["Peru",5.4246575342465757,5.4246575342465757,5.4246575342465757]
["iran",5.4794520547945211,27.397260273972602,14.611872146118722]
["Nigeria",5.6286102257776278,8.3753720159571099,6.8354598340029034]
["Montenegro",6.1643835616438354,6.1643835616438354,6.1643835616438354]
["Poland",6.1708506130863494,87.671232876712338,24.045460528309519]
["Hungary",6.3926940639269398,18.264840182648403,11.537414777515991]
["UK",6.506849315068493,211.06826353245853,41.16355729717656]
["Spain",6.5260245153678484,174.02732040980928,39.918485139047199]
["Egypt",6.7915865825415471,6.7915865825415471,6.7915865825415471]
["Aruba",6.8493150684931505,6.8493150684931505,6.8493150684931505]
["Myanmar",6.8493150684931505,27.945205479452056,17.397260273972602]
["Lithuania",6.8493150684931505,6.8493150684931505,6.8493150684931505]
["Paraguay",6.8493150684931505,6.8493150684931505,6.8493150684931505]
["china",6.8914064871781191,8.6757990867579906,7.7836027869680553]
["Greece",6.9610928163923722,34.805464081961858,20.689914759832885]
["Ghana",8.2191780821917799,8.2191780821917799,8.2191780821917799]
["Russia",8.2191780821917817,65.753424657534239,26.630999492643323]
["Guyana",8.2191780821917817,8.2191780821917817,8.2191780821917817]
["Libya",8.5150684931506841,8.5150684931506841,8.5150684931506841]
["Slovenia",8.7013660204904646,8.7013660204904646,8.7013660204904646]
["italy",8.7013660204904646,63.810017483596738,24.238138459299552]
["Panama",8.9041095890410951,58.009106803269759,33.456608196155429]
["Vietnam",9.1324200913242013,9.1324200913242013,9.1324200913242013]
["Singapore",9.2465753424657535,164.38356164383561,38.546499895487059]
["Albania",9.3931506849315074,9.3931506849315074,9.3931506849315074]
["Costa Rica",9.6265847765188326,9.6265847765188326,9.6265847765188326]
["Australia",10.245667781213692,209.57047734300735,65.830021724447704]
["Germany",10.441639224588556,252.33961459422346,71.021181076047242]
["Israel",10.684931506849315,68.493150684931507,33.552511415525117]
["MYS",10.958904109589042,10.958904109589042,10.958904109589042]
["Argentina",10.958904109589042,10.958904109589042,10.958904109589042]
["Canada",11.786867570568985,561.27940812233271,53.206482416007852]
["Uruguay",11.986301369863014,11.986301369863014,11.986301369863014]
["Dubai",12.430101035963155,12.430101035963155,12.430101035963155]
["Iceland",14.291438356164383,14.291438356164383,14.291438356164383]
["Kuwait",14.383561643835616,32.87671232876712,23.363774733637744]
["New Zealand",15.02306340694234,109.58904109589041,38.51009572926661]
["Ireland",15.227390535858312,81.21274952457766,45.426931537640556]
["Turkey",16.43835616438356,54.794520547945204,35.61643835616438]
["Azerbaijan",16.43835616438356,16.43835616438356,16.43835616438356]
["Zimbabwe",16.621004566210043,16.621004566210043,16.621004566210043]
["Denmark",18.264840182648403,145.20547945205479,61.679525727787308]
["France",18.707936944054499,56.848924667204365,29.703891083431412]
["Belgium",18.794950604259405,52.208196122942788,32.09643879424916]
["Netherlands",20.013141847128068,95.715026225395107,41.853217459648157]
["Finland",20.547945205479451,104.41639224588558,51.922391054633756]
["CEE",20.547945205479451,104.41639224588558,62.482168725682513]
["Qatar",21.232876712328768,44.93150684931507,36.666666666666664]
["mozambique",21.917808219178085,21.917808219178085,21.917808219178085]
["self-employed",22.831050228310502,22.831050228310502,22.831050228310502]
["Japan",23.148092287300443,38.013698630136986,32.868237763955555]
["Norway",23.185086499152565,100.45662100456622,58.937615362081488]
["Austria",23.203642721307904,23.203642721307904,23.203642721307904]
["Kenya",23.514614606403637,23.514614606403637,23.514614606403637]
["Hong Kong",27.397260273972602,27.397260273972602,27.397260273972602]
["Czech Republic",32.87671232876712,32.87671232876712,32.87671232876712]
["Somalia",35.616438356164387,35.616438356164387,35.616438356164387]
["Uganda",45.662100456621005,45.662100456621005,45.662100456621005]
["Oman",46.027397260273972,46.027397260273972,46.027397260273972]
["Switzerland",48.858447488584481,205.47945205479451,109.81215265323718]
["Europe",68.450746027858315,104.41639224588558,83.161855513167524]
["Lesotho",81.095890410958901,81.095890410958901,81.095890410958901]
["Central America",86.757990867579906,86.757990867579906,86.757990867579906]
["Sweden",91.324200913242009,94.458246827782133,92.891223870512079]
["Grand Total",0.65429314007665873,561.27940812233271,31.518061885011804]