{"text_format":"1","workbook":"xlsx","n_sheets":10,"sheets":["mapping","BubblePivot","BubblePlotData","SalarybyHour & Exp","vlookUpExp","BoxPlot Pivot","Data","Dashboard Option 1","Dashboard Option 2","Dashboard Option 3"],"not_rendered":{"charts":13,"images":0,"macros":1,"external_links":0,"defined_names":6,"comments":0,"pivot_tables":6},"unopened":[],"bounds":{"document_bytes":16777216,"sheet_cells":100000,"rows_first":2000,"rows_last":500,"rows_between":2000,"halvings":0,"cell_chars":16384,"cell_head_chars":4096},"cells_cut":0,"cells_raw":0,"read":"whole","date_system":"1900"}

{"sheet":"mapping","index":0,"n_rows":137,"n_cols":12,"rows_kept":137,"cut":false,"hidden":true,"merged":[[0,1,0,2]]}
[null,"Mapping Sheet",null,null,null,null,"Source: Xrates on 6/21/2012","and xe.com"]
[null,"Currency Mapping",null,null,null,null,null,null,null,null,"Country Mapping"]
[null,"Currency","in USD",null,null,51,"Value of 1 American Dollar",null,null,null,"Actual","Mapping"]
[null,"USD",1,null,null,{"$f":"CONCATENATE(\"   \", TRIM(G4), \" - \",H4)","v":"   Argentine Peso - ARS"},"     Argentine Peso ","ARS",4.4927299999999999,null,"USA","USA"]
[null,"EUR",{"$f":"1/INDEX($I$4:$I$64,MATCH(tblXrate[[#This Row],[Currency]],$H$4:$H$64,0))","v":1.2703994389916078},null,null,"   Australian Dollar - AUD","     Australian Dollar ","AUD",0.98047899999999999,null,"India","India"]
[null,"PKR",{"$f":"1/INDEX($I$4:$I$64,MATCH(tblXrate[[#This Row],[Currency]],$H$4:$H$64,0))","v":1.0614088716799131E-2},null,null,"   Bangladesh Takha - BDT","Bangladesh Takha","BDT",81.827399999999997,null,"UK","UK"]
[null,"INR",{"$f":"1/INDEX($I$4:$I$64,MATCH(tblXrate[[#This Row],[Currency]],$H$4:$H$64,0))","v":1.7807916687442568E-2},null,null,"   Botswana Pula - BWP","     Botswana Pula ","BWP",7.6569700000000003,null,"Australia","Australia"]
[null,"GBP",{"$f":"1/INDEX($I$4:$I$64,MATCH(tblXrate[[#This Row],[Currency]],$H$4:$H$64,0))","v":1.5761782720672841},null,null,"   Brazilian Real - BRL","     Brazilian Real ","BRL",2.0231400000000002,null,"Canada","Canada"]
[null,"AUD",{"$f":"1/INDEX($I$4:$I$64,MATCH(tblXrate[[#This Row],[Currency]],$H$4:$H$64,0))","v":1.0199096564026358},null,null,"   British Pound - GBP","     British Pound ","GBP",0.63444599999999995,null,"Pakistan","Pakistan"]
[null,"CAD",{"$f":"1/INDEX($I$4:$I$64,MATCH(tblXrate[[#This Row],[Currency]],$H$4:$H$64,0))","v":0.98336152303032687},null,null,"   Brunei dollar - BND","     Brunei dollar ","BND",1.2686999999999999,null,"South Africa","South Africa"]
[null,"PHP",{"$f":"1/INDEX($I$4:$I$64,MATCH(tblXrate[[#This Row],[Currency]],$H$4:$H$64,0))","v":2.3705052257787702E-2},null,null,"   Bulgarian Lev - BGN","     Bulgarian Lev ","BGN",1.53952,null,"Germany","Germany"]
[null,"AED",{"$f":"1/INDEX($I$4:$I$64,MATCH(tblXrate[[#This Row],[Currency]],$H$4:$H$64,0))","v":0.27221921268759308},null,null,"   Canadian Dollar - CAD","     Canadian Dollar ","CAD",1.01692,null,"UAE","UAE"]
[null,"MXN",{"$f":"1/INDEX($I$4:$I$64,MATCH(tblXrate[[#This Row],[Currency]],$H$4:$H$64,0))","v":7.3046552567951561E-2},null,null,"   Chilean Peso - CLP","     Chilean Peso ","CLP",497.26799999999997,null,"Brazil","Brazil"]
[null,"SEK",{"$f":"1/INDEX($I$4:$I$64,MATCH(tblXrate[[#This Row],[Currency]],$H$4:$H$64,0))","v":0.14365525038391866},null,null,"   Chinese Yuan - CNY","     Chinese Yuan ","CNY",6.3609099999999996,null,"Netherlands","Netherlands"]
[null,"BDT",{"$f":"1/INDEX($I$4:$I$64,MATCH(tblXrate[[#This Row],[Currency]],$H$4:$H$64,0))","v":1.2220845340313881E-2},null,null,"   Colombian Peso - COP","     Colombian Peso ","COP",1769.79,null,"Singapore","Singapore"]
[null,"COSTARICAN",{"$f":"1/INDEX($I$4:$I$64,MATCH(tblXrate[[#This Row],[Currency]],$H$4:$H$64,0))","v":2.0078305391024996E-3},null,null,"   Costarican CRC - Costarican","Costarican CRC","Costarican",498.05,null,"Philippines","Philippines"]
[null,"ZAR",{"$f":"1/INDEX($I$4:$I$64,MATCH(tblXrate[[#This Row],[Currency]],$H$4:$H$64,0))","v":0.12192177986291114},null,null,"   Croatian Kuna - HRK","     Croatian Kuna ","HRK",5.9367099999999997,null,"Portugal","Portugal"]
[null,"NZD",{"$f":"1/INDEX($I$4:$I$64,MATCH(tblXrate[[#This Row],[Currency]],$H$4:$H$64,0))","v":0.79758809360493876},null,null,"   Danish Krone - DKK","     Danish Krone ","DKK",5.8512300000000002,null,"Spain","Spain"]
[null,"CNY",{"$f":"1/INDEX($I$4:$I$64,MATCH(tblXrate[[#This Row],[Currency]],$H$4:$H$64,0))","v":0.15721021048875083},null,null,"   Dominican Peso - DOP","Dominican Peso","DOP",38.950000000000003,null,"New Zealand","New Zealand"]
[null,"EGYPT",{"$f":"1/INDEX($I$4:$I$64,MATCH(tblXrate[[#This Row],[Currency]],$H$4:$H$64,0))","v":0.16526194017517765},null,null,"   Egyptian Pound - Egypt","Egyptian Pound","Egypt",6.0510000000000002,null,"Russia","Russia"]
[null,"NAIRA",{"$f":"1/INDEX($I$4:$I$64,MATCH(tblXrate[[#This Row],[Currency]],$H$4:$H$64,0))","v":6.1633281972265025E-3},null,null,"   Ethiopian Birr - ETB","Ethiopian Birr","ETB",17.68,null,"Saudi Arabia","Saudi Arabia"]
[null,"AED",{"$f":"1/INDEX($I$4:$I$64,MATCH(tblXrate[[#This Row],[Currency]],$H$4:$H$64,0))","v":0.27221921268759308},null,null,"   Euro - EUR","     Euro ","EUR",0.78715400000000002,null,"Mexico","Mexico"]
[null,"BRL",{"$f":"1/INDEX($I$4:$I$64,MATCH(tblXrate[[#This Row],[Currency]],$H$4:$H$64,0))","v":0.49428116689897877},null,null,"   Hong Kong Dollar - HKD","     Hong Kong Dollar ","HKD",7.7588900000000001,null,"Indonesia","Indonesia"]
[null,"RON",{"$f":"1/INDEX($I$4:$I$64,MATCH(tblXrate[[#This Row],[Currency]],$H$4:$H$64,0))","v":0.28461323906942854},null,null,"   Hungarian Forint - HUF","     Hungarian Forint ","HUF",225.874,null,"Norway","Norway"]
[null,"USD",1,null,null,"   Iceland Krona - ISK","     Iceland Krona ","ISK",124.697,null,"malaysia","malaysia"]
[null,"MYR",{"$f":"1/INDEX($I$4:$I$64,MATCH(tblXrate[[#This Row],[Currency]],$H$4:$H$64,0))","v":0.31680056770661735},null,null,"   Indian Rupee - INR","     Indian Rupee ","INR",56.154800000000002,null,"The Netherlands","Netherlands"]
[null,"LKR",{"$f":"1/INDEX($I$4:$I$64,MATCH(tblXrate[[#This Row],[Currency]],$H$4:$H$64,0))","v":7.5240581760178168E-3},null,null,"   Indonesian Rupiah - IDR","     Indonesian Rupiah ","IDR",9443.81,null,"Romania","Romania"]
[null,"SGD",{"$f":"1/INDEX($I$4:$I$64,MATCH(tblXrate[[#This Row],[Currency]],$H$4:$H$64,0))","v":0.78882394238429931},null,null,"   Israeli New Shekel - ILS","     Israeli New Shekel ","ILS",3.86721,null,"Poland","Poland"]
[null,"GBP",{"$f":"1/INDEX($I$4:$I$64,MATCH(tblXrate[[#This Row],[Currency]],$H$4:$H$64,0))","v":1.5761782720672841},null,null,"   Japanese Yen - JPY","     Japanese Yen ","JPY",78.904300000000006,null,"italy","italy"]
[null,"DOP",{"$f":"1/INDEX($I$4:$I$64,MATCH(tblXrate[[#This Row],[Currency]],$H$4:$H$64,0))","v":2.5673940949935813E-2},null,null,"   Kazakhstani Tenge - KZT","     Kazakhstani Tenge ","KZT",148.88,null,"Hungary","Hungary"]
[null,"PLN",{"$f":"1/INDEX($I$4:$I$64,MATCH(tblXrate[[#This Row],[Currency]],$H$4:$H$64,0))","v":0.30031472983686902},null,null,"   Kenyan Shilling - Kenya","Kenyan Shilling","Kenya",83.5,null,"Denmark","Denmark"]
[null,"KENYA",{"$f":"1/INDEX($I$4:$I$64,MATCH(tblXrate[[#This Row],[Currency]],$H$4:$H$64,0))","v":1.1976047904191617E-2},null,null,"   Kuwaiti Dinar - KWD","     Kuwaiti Dinar ","KWD",0.27939999999999998,null,"Ireland","Ireland"]
[null,"DKK",{"$f":"1/INDEX($I$4:$I$64,MATCH(tblXrate[[#This Row],[Currency]],$H$4:$H$64,0))","v":0.17090423722875361},null,null,"   Latvian Lat - LVL","     Latvian Lat ","LVL",0.548489,null,"Israel","Israel"]
[null,"IDR",{"$f":"1/INDEX($I$4:$I$64,MATCH(tblXrate[[#This Row],[Currency]],$H$4:$H$64,0))","v":1.0588946622178973E-4},null,null,"   Libyan Dinar - LYD","     Libyan Dinar ","LYD",1.9323999999999999,null,"France","France"]
[null,"MONGOLIAN",{"$f":"1/INDEX($I$4:$I$64,MATCH(tblXrate[[#This Row],[Currency]],$H$4:$H$64,0))","v":7.5642965204236008E-4},null,null,"   Lithuanian Litas - LTL","     Lithuanian Litas ","LTL",2.7178800000000001,null,"Colombia","Colombia"]
[null,"JPY",{"$f":"1/INDEX($I$4:$I$64,MATCH(tblXrate[[#This Row],[Currency]],$H$4:$H$64,0))","v":1.2673580527296991E-2},null,null,{"$f":"CONCATENATE(\"   \", TRIM(G36), \" - \",H36)","v":"   Malaysian Ringgit - MYR"},"     Malaysian Ringgit ","MYR",3.1565599999999998,null,"Switzerland","Switzerland"]
[null,"SAR",{"$f":"1/INDEX($I$4:$I$64,MATCH(tblXrate[[#This Row],[Currency]],$H$4:$H$64,0))","v":0.26666666666666666},null,null,"   Mauritius Rupee - MUR","     Mauritius Rupee ","MUR",30.715900000000001,null,"Sri Lanka","Sri Lanka"]
[null,"MAD",{"$f":"1/INDEX($I$4:$I$64,MATCH(tblXrate[[#This Row],[Currency]],$H$4:$H$64,0))","v":0.11454753722794959},null,null,"   Mexican Peso - MXN","     Mexican Peso ","MXN",13.6899,null,"Belgium","Belgium"]
[null,"MUR",{"$f":"1/INDEX($I$4:$I$64,MATCH(tblXrate[[#This Row],[Currency]],$H$4:$H$64,0))","v":3.2556428429575561E-2},null,null,"   Mongolian Tughrik - Mongolian","Mongolian Tughrik","Mongolian",1322,null,"Dubai","Dubai"]
[null,"NOK",{"$f":"1/INDEX($I$4:$I$64,MATCH(tblXrate[[#This Row],[Currency]],$H$4:$H$64,0))","v":0.16925113144381371},null,null,"   Moroccan Dirham - MAD","Moroccan Dirham","MAD",8.73,null,"Ukraine","Ukraine"]
[null,"CHF",{"$f":"1/INDEX($I$4:$I$64,MATCH(tblXrate[[#This Row],[Currency]],$H$4:$H$64,0))","v":1.0578730615798488},null,null,"   Nepalese Rupee - NPR","     Nepalese Rupee ","NPR",89.65,null,"Kuwait","Kuwait"]
[null,"ETB",{"$f":"1/INDEX($I$4:$I$64,MATCH(tblXrate[[#This Row],[Currency]],$H$4:$H$64,0))","v":5.6561085972850679E-2},null,null,"   New Zealand Dollar - NZD","     New Zealand Dollar ","NZD",1.2537799999999999,null,"iran","iran"]
[null,null,null,null,null,"   Nigerian Naira - NAIRA","Nigerian Naira","NAIRA",162.25,null,"Qatar","Qatar"]
[null,null,null,null,null,"   Norwegian Kroner - NOK","     Norwegian Kroner ","NOK",5.9083800000000002,null,"Nigeria","Nigeria"]
[null,null,null,null,null,"   Omani Rial - OMR","     Omani Rial ","OMR",0.38450000000000001,null,"Finland","Finland"]
[null,null,null,null,null,"   Pakistan Rupee - PKR","     Pakistan Rupee ","PKR",94.214399999999998,null,"Europe","Europe"]
[null,null,null,null,null,"   Philippine Peso - PHP","     Philippine Peso ","PHP",42.185099999999998,null,"Japan","Japan"]
[null,null,null,null,null,"   Polish Zloty - PLN","Polish Zloty","PLN",3.3298399999999999,null,"Brasil","Brasil"]
[null,null,null,null,null,"   Qatari Rial - QAR","     Qatari Rial ","QAR",3.64,null,"nz","New Zealand"]
[null,null,null,null,null,"   Romanian Leu - RON","     Romanian Leu ","RON",3.5135399999999999,null,"Greece","Greece"]
[null,null,null,null,null,"   Russian Ruble - RUB","     Russian Ruble ","RUB",32.5458,null,"ksa","USA"]
[null,null,null,null,null,"   Saudi Riyal - SAR","     Saudi Riyal ","SAR",3.75,null,"Panama","Panama"]
[null,null,null,null,null,"   Singapore Dollar - SGD","     Singapore Dollar ","SGD",1.2677099999999999,null,"Turkey","Turkey"]
[null,null,null,null,null,"   South African Rand - ZAR","     South African Rand ","ZAR",8.2019800000000007,null,"Sweden","Sweden"]
[null,null,null,null,null,"   South Korean Won - KRW","     South Korean Won ","KRW",1151.0899999999999,null,"china","china"]
[null,null,null,null,null,"   Sri Lanka Rupee - LKR","     Sri Lanka Rupee ","LKR",132.90700000000001,null,"Bangladesh","Bangladesh"]
[null,null,null,null,null,"   Swedish Krona - SEK","     Swedish Krona ","SEK",6.9611099999999997,null,"Croatia","Croatia"]
[null,null,null,null,null,"   Swiss Franc - CHF","     Swiss Franc ","CHF",0.94529300000000005,null,"United Arab Emirates","UAE"]
[null,null,null,null,null,"   Taiwan Dollar - TWD","     Taiwan Dollar ","TWD",29.859400000000001,null,"MÃ©xico","Mexico"]
[null,null,null,null,null,"   Thai Baht - THB","     Thai Baht ","THB",31.500299999999999,null,"Zambia","Zambia"]
[null,null,null,null,null,"   Trinidad/Tobago Dollar - TTD","     Trinidad/Tobago Dollar ","TTD",6.3912199999999997,null,"Tunisia","Tunisia"]
[null,null,null,null,null,"   Turkish Lira - TRY","     Turkish Lira ","TRY",1.79447,null,"Saudi Arabai","Saudi Arabia"]
[null,null,null,null,null,"   UAE Dirham - AED","UAE Dirham","AED",3.6735099999999998,null,"Ethiopia","Ethiopia"]
[null,null,null,null,null,"   US Dollar - USD","US Dollar","USD",1,null,"CEE","CEE"]
[null,null,null,null,null,"   Venezuelan Bolivar - VEF","     Venezuelan Bolivar ","VEF",4.2940199999999997,null,"SouthAfrica","South Africa"]
[null,null,null,null,null,null,null,null,null,null,"Central America","Central America"]
[null,null,null,null,null,null,null,null,null,null,"Uruguay","Uruguay"]
[null,null,null,null,null,null,null,null,null,null,"Kenya","Kenya"]
[null,null,null,null,null,null,null,null,null,null,"Republica Dominicana","Republica Dominicana"]
[null,null,null,null,null,null,null,null,null,null,"Kingdom of Saudi Arabia","Saudi Arabia"]
[null,null,null,null,null,null,null,null,null,null,"Slovakia","Slovakia"]
[null,null,null,null,null,null,null,null,null,null,"Austria","Austria"]
[null,null,null,null,null,null,null,null,null,null,"Guyana","Guyana"]
[null,null,null,null,null,null,null,null,null,null,"Azerbaijan","Azerbaijan"]
[null,null,null,null,null,null,null,null,null,null,"Bulgaria","Bulgaria"]
[null,null,null,null,null,null,null,null,null,null,"Kuwait ","Kuwait "]
[null,null,null,null,null,null,null,null,null,null,"Peru","Peru"]
[null,null,null,null,null,null,null,null,null,null,"Vietnam","Vietnam"]
[null,null,null,null,null,null,null,null,null,null,"Armenia","Armenia"]
[null,null,null,null,null,null,null,null,null,null,"Zimbabwe","Zimbabwe"]
[null,null,null,null,null,null,null,null,null,null,"RSA","South Africa"]
[null,null,null,null,null,null,null,null,null,null,"Libya","Libya"]
[null,null,null,null,null,null,null,null,null,null,"self-employed","self-employed"]
[null,null,null,null,null,null,null,null,null,null,"Lithuania","Lithuania"]
[null,null,null,null,null,null,null,null,null,null,"Somalia","Somalia"]
[null,null,null,null,null,null,null,null,null,null,"Colombia - South America","Colombia"]
[null,null,null,null,null,null,null,null,null,null,"BRA","Brazil"]
[null,null,null,null,null,null,null,null,null,null,"mainland Europe (Euro zone)","Europe"]
[null,null,null,null,null,null,null,null,null,null,"Thailand","Thailand"]
[null,null,null,null,null,null,null,null,null,null,"Continental Europe","CEE"]
[null,null,null,null,null,null,null,null,null,null,"Asia","Asia"]
[null,null,null,null,null,null,null,null,null,null,"Mauritius","Mauritius"]
[null,null,null,null,null,null,null,null,null,null,"Cambodia","Cambodia"]
[null,null,null,null,null,null,null,null,null,null,"Costa Rica","Costa Rica"]
[null,null,null,null,null,null,null,null,null,null,"Viet Nam","Viet Nam"]
[null,null,null,null,null,null,null,null,null,null,"Mongolia","Mongolia"]
[null,null,null,null,null,null,null,null,null,null,"Estonia","Estonia"]
[null,null,null,null,null,null,null,null,null,null,"Montenegro","Montenegro"]
[null,null,null,null,null,null,null,null,null,null,"EU","Europe"]
[null,null,null,null,null,null,null,null,null,null,"Morocco","Morocco"]
[null,null,null,null,null,null,null,null,null,null,"Republic of Georgia","Republic of Georgia"]
[null,null,null,null,null,null,null,null,null,null,"mozambique","mozambique"]
[null,null,null,null,null,null,null,null,null,null,"europe/Croatia","Croatia"]
[null,null,null,null,null,null,null,null,null,null,"Myanmar","Myanmar"]
[null,null,null,null,null,null,null,null,null,null,"Bermuda","Bermuda"]
[null,null,null,null,null,null,null,null,null,null,"Myanmar [Burma]","Myanmar"]
[null,null,null,null,null,null,null,null,null,null,"FR","France"]
[null,null,null,null,null,null,null,null,null,null,"MYS","MYS"]
[null,null,null,null,null,null,null,null,null,null,"Bhutan","Bhutan"]
[null,null,null,null,null,null,null,null,null,null,"Baltic","Baltic"]
[null,null,null,null,null,null,null,null,null,null,"Slovenia","Slovenia"]
[null,null,null,null,null,null,null,null,null,null,"New  Zealand","New Zealand"]
[null,null,null,null,null,null,null,null,null,null,"Bolivia","Bolivia"]
[null,null,null,null,null,null,null,null,null,null,"Czech Republic","Czech Republic"]
[null,null,null,null,null,null,null,null,null,null,"Ghana","Ghana"]
[null,null,null,null,null,null,null,null,null,null,"bangkok","Thailand"]
[null,null,null,null,null,null,null,null,null,null,"srilanka","Sri Lanka"]
[null,null,null,null,null,null,null,null,null,null,"NL","Netherlands"]
[null,null,null,null,null,null,null,null,null,null,"Hong Kong","Hong Kong"]
[null,null,null,null,null,null,null,null,null,null,"nld","New Zealand"]
[null,null,null,null,null,null,null,null,null,null,"Aruba","Aruba"]
[null,null,null,null,null,null,null,null,null,null,"DK","Denmark"]
[null,null,null,null,null,null,null,null,null,null,"Iceland","Iceland"]
[null,null,null,null,null,null,null,null,null,null,"Dominican Republic","Dominican Republic"]
[null,null,null,null,null,null,null,null,null,null,"Uganda","Uganda"]
[null,null,null,null,null,null,null,null,null,null,"Oman","Oman"]
[null,null,null,null,null,null,null,null,null,null,"Inonesia","Indonesia"]
[null,null,null,null,null,null,null,null,null,null,"Argentina","Argentina"]
[null,null,null,null,null,null,null,null,null,null,"United Arab Emriate","UAE"]
[null,null,null,null,null,null,null,null,null,null,"Pakistan, Angola","Pakistan"]
[null,null,null,null,null,null,null,null,null,null,"Canad","Canada"]
[null,null,null,null,null,null,null,null,null,null,"Egypt","Egypt"]
[null,null,null,null,null,null,null,null,null,null,"arabian Gulf","arabian Gulf"]
[null,null,null,null,null,null,null,null,null,null,"Paraguay","Paraguay"]
[null,null,null,null,null,null,null,null,null,null,"Latin America","Latin America"]
[null,null,null,null,null,null,null,null,null,null,"Albania","Albania"]
[null,null,null,null,null,null,null,null,null,null,"Lesotho","Lesotho"]

{"sheet":"BubblePivot","index":1,"n_rows":17,"n_cols":7,"rows_kept":17,"cut":false,"hidden":true,"merged":[]}
["Job Type","Reporting",{"$f":"VLOOKUP(E1,F3:G12,2,FALSE)","v":"Reporting"},null,9]
[]
["Country","Average of Salary (User Chosen Curreny)","Average of clean Salary (in local currency)","Number of People",null,1,"Accountant"]
["Armenia",49211.880000000005,6000,1,null,2,"Analyst"]
["Australia",697168.3,85000,1,null,3,"Consultant"]
["Ethiopia",24227.387076923078,52224,1,null,4,"Controller"]
["India",84601.384641511817,268958.66666666669,60,null,5,"CXO or Top Mgmt."]
["Israel",353505.33799999999,43100,2,null,6,"Engineer"]
["Netherlands",2083958.1581240776,200000,1,null,7,"Manager"]
["Pakistan",15670.177807214186,180000,1,null,8,"Misc."]
["Paraguay",164039.6,20000,1,null,9,"Reporting"]
["Philippines",118393.54650995115,237030,2,null,10,"Specialist"]
["Romania",246059.40000000002,30000,1]
["South Africa",233756.43000000002,28500,2]
["UK",261963.65595279983,22000,4]
["Ukraine",123029.70000000001,15000,1]
["USA",477355.23600000003,58200,5]

{"sheet":"BubblePlotData","index":2,"n_rows":757,"n_cols":13,"rows_kept":757,"cut":false,"hidden":true,"merged":[[5,6,5,7],[12,6,12,8]]}
[{"$f":"IF(BubblePivot!A3 = 0,NA(),BubblePivot!A3)","v":"Country"},"h",{"$f":"IF(BubblePivot!C3 = 0,NA(),BubblePivot!C3)","v":"Average of clean Salary (in local currency)"},{"$f":"IF(BubblePivot!D3 = 0,NA(),BubblePivot!D3)","v":"Number of People"},{"$f":"A1","v":"Country"},null,null,{"$f":"OFFSET(B2:B757,0,0,COUNT(B2:B757),1)","v":{"$error":"#VALUE!"}}]
[{"$f":"IF(BubblePivot!A4 = 0,NA(),BubblePivot!A4)","v":"Armenia"},{"$f":"IF(BubblePivot!B4 = 0,NA(),BubblePivot!B4)","v":49211.880000000005},{"$f":"IF(BubblePivot!C4 = 0,NA(),BubblePivot!C4)","v":6000},{"$f":"IF(BubblePivot!D4 = 0,NA(),BubblePivot!D4)","v":1},{"$f":"A2","v":"Armenia"}]
[{"$f":"IF(BubblePivot!A5 = 0,NA(),BubblePivot!A5)","v":"Australia"},{"$f":"IF(BubblePivot!B5 = 0,NA(),BubblePivot!B5)","v":697168.3},{"$f":"IF(BubblePivot!C5 = 0,NA(),BubblePivot!C5)","v":85000},{"$f":"IF(BubblePivot!D5 = 0,NA(),BubblePivot!D5)","v":1},"Australia",null,"max UCC",{"$f":"MAX(IF(ISERROR(B2:B757),\"\",B2:B757))","v":2083958.1581240776}]
[{"$f":"IF(BubblePivot!A6 = 0,NA(),BubblePivot!A6)","v":"Ethiopia"},{"$f":"IF(BubblePivot!B6 = 0,NA(),BubblePivot!B6)","v":24227.387076923078},{"$f":"IF(BubblePivot!C6 = 0,NA(),BubblePivot!C6)","v":52224},{"$f":"IF(BubblePivot!D6 = 0,NA(),BubblePivot!D6)","v":1},"Ethiopia",null,null,{"$f":"H3/1000","v":2083.9581581240777},{"$f":"ROUNDDOWN(H4,0)","v":2083},{"$f":"H4-I4","v":0.95815812407772682},{"$f":"IF(I4>1000,\"Y\")","v":"Y"}]
[{"$f":"IF(BubblePivot!A7 = 0,NA(),BubblePivot!A7)","v":"India"},{"$f":"IF(BubblePivot!B7 = 0,NA(),BubblePivot!B7)","v":84601.384641511817},{"$f":"IF(BubblePivot!C7 = 0,NA(),BubblePivot!C7)","v":268958.66666666669},{"$f":"IF(BubblePivot!D7 = 0,NA(),BubblePivot!D7)","v":60},"India",null,null,{"$f":"IF(K4=\"Y\",K6& \",\" & TEXT(J4*1000,\"000\"),I4 & \",\" & TEXT(J4*1000,\"000\"))","v":"2,083,958"},null,null,{"$f":"IF(K4=\"Y\",I4/1000)","v":2.0830000000000002},{"$f":"ROUNDDOWN(K5,0)","v":2},{"$f":"K5-L5","v":8.3000000000000185E-2}]
[{"$f":"IF(BubblePivot!A8 = 0,NA(),BubblePivot!A8)","v":"Israel"},{"$f":"IF(BubblePivot!B8 = 0,NA(),BubblePivot!B8)","v":353505.33799999999},{"$f":"IF(BubblePivot!C8 = 0,NA(),BubblePivot!C8)","v":43100},{"$f":"IF(BubblePivot!D8 = 0,NA(),BubblePivot!D8)","v":2},"Israel",null,"Country that pays the most",null,null,null,{"$f":"L5 & \",\" & TEXT(M5*1000,\"000\")","v":"2,083"}]
[{"$f":"IF(BubblePivot!A9 = 0,NA(),BubblePivot!A9)","v":"Netherlands"},{"$f":"IF(BubblePivot!B9 = 0,NA(),BubblePivot!B9)","v":2083958.1581240776},{"$f":"IF(BubblePivot!C9 = 0,NA(),BubblePivot!C9)","v":200000},{"$f":"IF(BubblePivot!D9 = 0,NA(),BubblePivot!D9)","v":1},"Netherlands",null,null,{"$f":"VLOOKUP(H3,B1:E757,4,FALSE)","v":"Netherlands"}]
[{"$f":"IF(BubblePivot!A10 = 0,NA(),BubblePivot!A10)","v":"Pakistan"},{"$f":"IF(BubblePivot!B10 = 0,NA(),BubblePivot!B10)","v":15670.177807214186},{"$f":"IF(BubblePivot!C10 = 0,NA(),BubblePivot!C10)","v":180000},{"$f":"IF(BubblePivot!D10 = 0,NA(),BubblePivot!D10)","v":1},"Pakistan"]
[{"$f":"IF(BubblePivot!A11 = 0,NA(),BubblePivot!A11)","v":"Paraguay"},{"$f":"IF(BubblePivot!B11 = 0,NA(),BubblePivot!B11)","v":164039.6},{"$f":"IF(BubblePivot!C11 = 0,NA(),BubblePivot!C11)","v":20000},{"$f":"IF(BubblePivot!D11 = 0,NA(),BubblePivot!D11)","v":1},"Paraguay"]
[{"$f":"IF(BubblePivot!A12 = 0,NA(),BubblePivot!A12)","v":"Philippines"},{"$f":"IF(BubblePivot!B12 = 0,NA(),BubblePivot!B12)","v":118393.54650995115},{"$f":"IF(BubblePivot!C12 = 0,NA(),BubblePivot!C12)","v":237030},{"$f":"IF(BubblePivot!D12 = 0,NA(),BubblePivot!D12)","v":2},"Philippines"]
[{"$f":"IF(BubblePivot!A13 = 0,NA(),BubblePivot!A13)","v":"Romania"},{"$f":"IF(BubblePivot!B13 = 0,NA(),BubblePivot!B13)","v":246059.40000000002},{"$f":"IF(BubblePivot!C13 = 0,NA(),BubblePivot!C13)","v":30000},{"$f":"IF(BubblePivot!D13 = 0,NA(),BubblePivot!D13)","v":1},"Romania",null,"large community",{"$f":"MAX(IF(ISERROR(D2:D757),\"\",D2:D757))","v":60}]
[{"$f":"IF(BubblePivot!A14 = 0,NA(),BubblePivot!A14)","v":"South Africa"},{"$f":"IF(BubblePivot!B14 = 0,NA(),BubblePivot!B14)","v":233756.43000000002},{"$f":"IF(BubblePivot!C14 = 0,NA(),BubblePivot!C14)","v":28500},{"$f":"IF(BubblePivot!D14 = 0,NA(),BubblePivot!D14)","v":2},"South Africa"]
[{"$f":"IF(BubblePivot!A15 = 0,NA(),BubblePivot!A15)","v":"UK"},{"$f":"IF(BubblePivot!B15 = 0,NA(),BubblePivot!B15)","v":261963.65595279983},{"$f":"IF(BubblePivot!C15 = 0,NA(),BubblePivot!C15)","v":22000},{"$f":"IF(BubblePivot!D15 = 0,NA(),BubblePivot!D15)","v":4},"UK",null,"Country with largest community"]
[{"$f":"IF(BubblePivot!A16 = 0,NA(),BubblePivot!A16)","v":"Ukraine"},{"$f":"IF(BubblePivot!B16 = 0,NA(),BubblePivot!B16)","v":123029.70000000001},{"$f":"IF(BubblePivot!C16 = 0,NA(),BubblePivot!C16)","v":15000},{"$f":"IF(BubblePivot!D16 = 0,NA(),BubblePivot!D16)","v":1},"Ukraine",null,null,{"$f":"VLOOKUP(H11,D1:E757,2,FALSE)","v":"India"}]
[{"$f":"IF(BubblePivot!A17 = 0,NA(),BubblePivot!A17)","v":"USA"},{"$f":"IF(BubblePivot!B17 = 0,NA(),BubblePivot!B17)","v":477355.23600000003},{"$f":"IF(BubblePivot!C17 = 0,NA(),BubblePivot!C17)","v":58200},{"$f":"IF(BubblePivot!D17 = 0,NA(),BubblePivot!D17)","v":5},"USA"]
[{"$f":"IF(BubblePivot!A18 = 0,NA(),BubblePivot!A18)","v":{"$error":"#N/A"}},{"$f":"IF(BubblePivot!B18 = 0,NA(),BubblePivot!B18)","v":{"$error":"#N/A"}},{"$f":"IF(BubblePivot!C18 = 0,NA(),BubblePivot!C18)","v":{"$error":"#N/A"}},{"$f":"IF(BubblePivot!D18 = 0,NA(),BubblePivot!D18)","v":{"$error":"#N/A"}},{"$error":"#N/A"}]
[{"$f":"IF(BubblePivot!A19 = 0,NA(),BubblePivot!A19)","v":{"$error":"#N/A"}},{"$f":"IF(BubblePivot!B19 = 0,NA(),BubblePivot!B19)","v":{"$error":"#N/A"}},{"$f":"IF(BubblePivot!C19 = 0,NA(),BubblePivot!C19)","v":{"$error":"#N/A"}},{"$f":"IF(BubblePivot!D19 = 0,NA(),BubblePivot!D19)","v":{"$error":"#N/A"}},{"$error":"#N/A"}]
[{"$f":"IF(BubblePivot!A20 = 0,NA(),BubblePivot!A20)","v":{"$error":"#N/A"}},{"$f":"IF(BubblePivot!B20 = 0,NA(),BubblePivot!B20)","v":{"$error":"#N/A"}},{"$f":"IF(BubblePivot!C20 = 0,NA(),BubblePivot!C20)","v":{"$error":"#N/A"}},{"$f":"IF(BubblePivot!D20 = 0,NA(),BubblePivot!D20)","v":{"$error":"#N/A"}},{"$error":"#N/A"}]
[{"$f":"IF(BubblePivot!A21 = 0,NA(),BubblePivot!A21)","v":{"$error":"#N/A"}},{"$f":"IF(BubblePivot!B21 = 0,NA(),BubblePivot!B21)","v":{"$error":"#N/A"}},{"$f":"IF(BubblePivot!C21 = 0,NA(),BubblePivot!C21)","v":{"$error":"#N/A"}},{"$f":"IF(BubblePivot!D21 = 0,NA(),BubblePivot!D21)","v":{"$error":"#N/A"}},{"$error":"#N/A"}]
[{"$f":"IF(BubblePivot!A22 = 0,NA(),BubblePivot!A22)","v":{"$error":"#N/A"}},{"$f":"IF(BubblePivot!B22 = 0,NA(),BubblePivot!B22)","v":{"$error":"#N/A"}},{"$f":"IF(BubblePivot!C22 = 0,NA(),BubblePivot!C22)","v":{"$error":"#N/A"}},{"$f":"IF(BubblePivot!D22 = 0,NA(),BubblePivot!D22)","v":{"$error":"#N/A"}},{"$error":"#N/A"}]
[{"$f":"IF(BubblePivot!A23 = 0,NA(),BubblePivot!A23)","v":{"$error":"#N/A"}},{"$f":"IF(BubblePivot!B23 = 0,NA(),BubblePivot!B23)","v":{"$error":"#N/A"}},{"$f":"IF(BubblePivot!C23 = 0,NA(),BubblePivot!C23)","v":{"$error":"#N/A"}},{"$f":"IF(BubblePivot!D23 = 0,NA(),BubblePivot!D23)","v":{"$error":"#N/A"}},{"$error":"#N/A"}]
[{"$f":"IF(BubblePivot!A24 = 0,NA(),BubblePivot!A24)","v":{"$error":"#N/A"}},{"$f":"IF(BubblePivot!B24 = 0,NA(),BubblePivot!B24)","v":{"$error":"#N/A"}},{"$f":"IF(BubblePivot!C24 = 0,NA(),BubblePivot!C24)","v":{"$error":"#N/A"}},{"$f":"IF(BubblePivot!D24 = 0,NA(),BubblePivot!D24)","v":{"$error":"#N/A"}},{"$error":"#N/A"}]
[{"$f":"IF(BubblePivot!A25 = 0,NA(),BubblePivot!A25)","v":{"$error":"#N/A"}},{"$f":"IF(BubblePivot!B25 = 0,NA(),BubblePivot!B25)","v":{"$error":"#N/A"}},{"$f":"IF(BubblePivot!C25 = 0,NA(),BubblePivot!C25)","v":{"$error":"#N/A"}},{"$f":"IF(BubblePivot!D25 = 0,NA(),BubblePivot!D25)","v":{"$error":"#N/A"}},{"$error":"#N/A"}]
[{"$f":"IF(BubblePivot!A26 = 0,NA(),BubblePivot!A26)","v":{"$error":"#N/A"}},{"$f":"IF(BubblePivot!B26 = 0,NA(),BubblePivot!B26)","v":{"$error":"#N/A"}},{"$f":"IF(BubblePivot!C26 = 0,NA(),BubblePivot!C26)","v":{"$error":"#N/A"}},{"$f":"IF(BubblePivot!D26 = 0,NA(),BubblePivot!D26)","v":{"$error":"#N/A"}},{"$error":"#N/A"}]
[{"$f":"IF(BubblePivot!A27 = 0,NA(),BubblePivot!A27)","v":{"$error":"#N/A"}},{"$f":"IF(BubblePivot!B27 = 0,NA(),BubblePivot!B27)","v":{"$error":"#N/A"}},{"$f":"IF(BubblePivot!C27 = 0,NA(),BubblePivot!C27)","v":{"$error":"#N/A"}},{"$f":"IF(BubblePivot!D27 = 0,NA(),BubblePivot!D27)","v":{"$error":"#N/A"}},{"$error":"#N/A"}]
[{"$f":"IF(BubblePivot!A28 = 0,NA(),BubblePivot!A28)","v":{"$error":"#N/A"}},{"$f":"IF(BubblePivot!B28 = 0,NA(),BubblePivot!B28)","v":{"$error":"#N/A"}},{"$f":"IF(BubblePivot!C28 = 0,NA(),BubblePivot!C28)","v":{"$error":"#N/A"}},{"$f":"IF(BubblePivot!D28 = 0,NA(),BubblePivot!D28)","v":{"$error":"#N/A"}},{"$error":"#N/A"}]
[{"$f":"IF(BubblePivot!A29 = 0,NA(),BubblePivot!A29)","v":{"$error":"#N/A"}},{"$f":"IF(BubblePivot!B29 = 0,NA(),BubblePivot!B29)","v":{"$error":"#N/A"}},{"$f":"IF(BubblePivot!C29 = 0,NA(),BubblePivot!C29)","v":{"$error":"#N/A"}},{"$f":"IF(BubblePivot!D29 = 0,NA(),BubblePivot!D29)","v":{"$error":"#N/A"}},{"$error":"#N/A"}]
[{"$f":"IF(BubblePivot!A30 = 0,NA(),BubblePivot!A30)","v":{"$error":"#N/A"}},{"$f":"IF(BubblePivot!B30 = 0,NA(),BubblePivot!B30)","v":{"$error":"#N/A"}},{"$f":"IF(BubblePivot!C30 = 0,NA(),BubblePivot!C30)","v":{"$error":"#N/A"}},{"$f":"IF(BubblePivot!D30 = 0,NA(),BubblePivot!D30)","v":{"$error":"#N/A"}},{"$error":"#N/A"}]
[{"$f":"IF(BubblePivot!A31 = 0,NA(),BubblePivot!A31)","v":{"$error":"#N/A"}},{"$f":"IF(BubblePivot!B31 = 0,NA(),BubblePivot!B31)","v":{"$error":"#N/A"}},{"$f":"IF(BubblePivot!C31 = 0,NA(),BubblePivot!C31)","v":{"$error":"#N/A"}},{"$f":"IF(BubblePivot!D31 = 0,NA(),BubblePivot!D31)","v":{"$error":"#N/A"}},{"$error":"#N/A"}]
[{"$f":"IF(BubblePivot!A32 = 0,NA(),BubblePivot!A32)","v":{"$error":"#N/A"}},{"$f":"IF(BubblePivot!B32 = 0,NA(),BubblePivot!B32)","v":{"$error":"#N/A"}},{"$f":"IF(BubblePivot!C32 = 0,NA(),BubblePivot!C32)","v":{"$error":"#N/A"}},{"$f":"IF(BubblePivot!D32 = 0,NA(),BubblePivot!D32)","v":{"$error":"#N/A"}},{"$error":"#N/A"}]
[{"$f":"IF(BubblePivot!A33 = 0,NA(),BubblePivot!A33)","v":{"$error":"#N/A"}},{"$f":"IF(BubblePivot!B33 = 0,NA(),BubblePivot!B33)","v":{"$error":"#N/A"}},{"$f":"IF(BubblePivot!C33 = 0,NA(),BubblePivot!C33)","v":{"$error":"#N/A"}},{"$f":"IF(BubblePivot!D33 = 0,NA(),BubblePivot!D33)","v":{"$error":"#N/A"}},{"$error":"#N/A"}]
[{"$f":"IF(BubblePivot!A34 = 0,NA(),BubblePivot!A34)","v":{"$error":"#N/A"}},{"$f":"IF(BubblePivot!B34 = 0,NA(),BubblePivot!B34)","v":{"$error":"#N/A"}},{"$f":"IF(BubblePivot!C34 = 0,NA(),BubblePivot!C34)","v":{"$error":"#N/A"}},{"$f":"IF(BubblePivot!D34 = 0,NA(),BubblePivot!D34)","v":{"$error":"#N/A"}},{"$error":"#N/A"}]
[{"$f":"IF(BubblePivot!A35 = 0,NA(),BubblePivot!A35)","v":{"$error":"#N/A"}},{"$f":"IF(BubblePivot!B35 = 0,NA(),BubblePivot!B35)","v":{"$error":"#N/A"}},{"$f":"IF(BubblePivot!C35 = 0,NA(),BubblePivot!C35)","v":{"$error":"#N/A"}},{"$f":"IF(BubblePivot!D35 = 0,NA(),BubblePivot!D35)","v":{"$error":"#N/A"}},{"$error":"#N/A"}]
[{"$f":"IF(BubblePivot!A36 = 0,NA(),BubblePivot!A36)","v":{"$error":"#N/A"}},{"$f":"IF(BubblePivot!B36 = 0,NA(),BubblePivot!B36)","v":{"$error":"#N/A"}},{"$f":"IF(BubblePivot!C36 = 0,NA(),BubblePivot!C36)","v":{"$error":"#N/A"}},{"$f":"IF(BubblePivot!D36 = 0,NA(),BubblePivot!D36)","v":{"$error":"#N/A"}},{"$error":"#N/A"}]
[{"$f":"IF(BubblePivot!A37 = 0,NA(),BubblePivot!A37)","v":{"$error":"#N/A"}},{"$f":"IF(BubblePivot!B37 = 0,NA(),BubblePivot!B37)","v":{"$error":"#N/A"}},{"$f":"IF(BubblePivot!C37 = 0,NA(),BubblePivot!C37)","v":{"$error":"#N/A"}},{"$f":"IF(BubblePivot!D37 = 0,NA(),BubblePivot!D37)","v":{"$error":"#N/A"}},{"$error":"#N/A"}]
[{"$f":"IF(BubblePivot!A38 = 0,NA(),BubblePivot!A38)","v":{"$error":"#N/A"}},{"$f":"IF(BubblePivot!B38 = 0,NA(),BubblePivot!B38)","v":{"$error":"#N/A"}},{"$f":"IF(BubblePivot!C38 = 0,NA(),BubblePivot!C38)","v":{"$error":"#N/A"}},{"$f":"IF(BubblePivot!D38 = 0,NA(),BubblePivot!D38)","v":{"$error":"#N/A"}},{"$error":"#N/A"}]
[{"$f":"IF(BubblePivot!A39 = 0,NA(),BubblePivot!A39)","v":{"$error":"#N/A"}},{"$f":"IF(BubblePivot!B39 = 0,NA(),BubblePivot!B39)","v":{"$error":"#N/A"}},{"$f":"IF(BubblePivot!C39 = 0,NA(),BubblePivot!C39)","v":{"$error":"#N/A"}},{"$f":"IF(BubblePivot!D39 = 0,NA(),BubblePivot!D39)","v":{"$error":"#N/A"}},{"$error":"#N/A"}]
[{"$f":"IF(BubblePivot!A40 = 0,NA(),BubblePivot!A40)","v":{"$error":"#N/A"}},{"$f":"IF(BubblePivot!B40 = 0,NA(),BubblePivot!B40)","v":{"$error":"#N/A"}},{"$f":"IF(BubblePivot!C40 = 0,NA(),BubblePivot!C40)","v":{"$error":"#N/A"}},{"$f":"IF(BubblePivot!D40 = 0,NA(),BubblePivot!D40)","v":{"$error":"#N/A"}},{"$error":"#N/A"}]
[{"$f":"IF(BubblePivot!A41 = 0,NA(),BubblePivot!A41)","v":{"$error":"#N/A"}},{"$f":"IF(BubblePivot!B41 = 0,NA(),BubblePivot!B41)","v":{"$error":"#N/A"}},{"$f":"IF(BubblePivot!C41 = 0,NA(),BubblePivot!C41)","v":{"$error":"#N/A"}},{"$f":"IF(BubblePivot!D41 = 0,NA(),BubblePivot!D41)","v":{"$error":"#N/A"}},{"$error":"#N/A"}]
[{"$f":"IF(BubblePivot!A42 = 0,NA(),BubblePivot!A42)","v":{"$error":"#N/A"}},{"$f":"IF(BubblePivot!B42 = 0,NA(),BubblePivot!B42)","v":{"$error":"#N/A"}},{"$f":"IF(BubblePivot!C42 = 0,NA(),BubblePivot!C42)","v":{"$error":"#N/A"}},{"$f":"IF(BubblePivot!D42 = 0,NA(),BubblePivot!D42)","v":{"$error":"#N/A"}},{"$error":"#N/A"}]
[{"$f":"IF(BubblePivot!A43 = 0,NA(),BubblePivot!A43)","v":{"$error":"#N/A"}},{"$f":"IF(BubblePivot!B43 = 0,NA(),BubblePivot!B43)","v":{"$error":"#N/A"}},{"$f":"IF(BubblePivot!C43 = 0,NA(),BubblePivot!C43)","v":{"$error":"#N/A"}},{"$f":"IF(BubblePivot!D43 = 0,NA(),BubblePivot!D43)","v":{"$error":"#N/A"}},{"$error":"#N/A"}]
[{"$f":"IF(BubblePivot!A44 = 0,NA(),BubblePivot!A44)","v":{"$error":"#N/A"}},{"$f":"IF(BubblePivot!B44 = 0,NA(),BubblePivot!B44)","v":{"$error":"#N/A"}},{"$f":"IF(BubblePivot!C44 = 0,NA(),BubblePivot!C44)","v":{"$error":"#N/A"}},{"$f":"IF(BubblePivot!D44 = 0,NA(),BubblePivot!D44)","v":{"$error":"#N/A"}},{"$error":"#N/A"}]
[{"$f":"IF(BubblePivot!A45 = 0,NA(),BubblePivot!A45)","v":{"$error":"#N/A"}},{"$f":"IF(BubblePivot!B45 = 0,NA(),BubblePivot!B45)","v":{"$error":"#N/A"}},{"$f":"IF(BubblePivot!C45 = 0,NA(),BubblePivot!C45)","v":{"$error":"#N/A"}},{"$f":"IF(BubblePivot!D45 = 0,NA(),BubblePivot!D45)","v":{"$error":"#N/A"}},{"$error":"#N/A"}]
[{"$f":"IF(BubblePivot!A46 = 0,NA(),BubblePivot!A46)","v":{"$error":"#N/A"}},{"$f":"IF(BubblePivot!B46 = 0,NA(),BubblePivot!B46)","v":{"$error":"#N/A"}},{"$f":"IF(BubblePivot!C46 = 0,NA(),BubblePivot!C46)","v":{"$error":"#N/A"}},{"$f":"IF(BubblePivot!D46 = 0,NA(),BubblePivot!D46)","v":{"$error":"#N/A"}},{"$error":"#N/A"}]
[{"$f":"IF(BubblePivot!A47 = 0,NA(),BubblePivot!A47)","v":{"$error":"#N/A"}},{"$f":"IF(BubblePivot!B47 = 0,NA(),BubblePivot!B47)","v":{"$error":"#N/A"}},{"$f":"IF(BubblePivot!C47 = 0,NA(),BubblePivot!C47)","v":{"$error":"#N/A"}},{"$f":"IF(BubblePivot!D47 = 0,NA(),BubblePivot!D47)","v":{"$error":"#N/A"}},{"$error":"#N/A"}]
[{"$f":"IF(BubblePivot!A48 = 0,NA(),BubblePivot!A48)","v":{"$error":"#N/A"}},{"$f":"IF(BubblePivot!B48 = 0,NA(),BubblePivot!B48)","v":{"$error":"#N/A"}},{"$f":"IF(BubblePivot!C48 = 0,NA(),BubblePivot!C48)","v":{"$error":"#N/A"}},{"$f":"IF(BubblePivot!D48 = 0,NA(),BubblePivot!D48)","v":{"$error":"#N/A"}},{"$error":"#N/A"}]
[{"$f":"IF(BubblePivot!A49 = 0,NA(),BubblePivot!A49)","v":{"$error":"#N/A"}},{"$f":"IF(BubblePivot!B49 = 0,NA(),BubblePivot!B49)","v":{"$error":"#N/A"}},{"$f":"IF(BubblePivot!C49 = 0,NA(),BubblePivot!C49)","v":{"$error":"#N/A"}},{"$f":"IF(BubblePivot!D49 = 0,NA(),BubblePivot!D49)","v":{"$error":"#N/A"}},{"$error":"#N/A"}]
[{"$f":"IF(BubblePivot!A50 = 0,NA(),BubblePivot!A50)","v":{"$error":"#N/A"}},{"$f":"IF(BubblePivot!B50 = 0,NA(),BubblePivot!B50)","v":{"$error":"#N/A"}},{"$f":"IF(BubblePivot!C50 = 0,NA(),BubblePivot!C50)","v":{"$error":"#N/A"}},{"$f":"IF(BubblePivot!D50 = 0,NA(),BubblePivot!D50)","v":{"$error":"#N/A"}},{"$error":"#N/A"}]
[{"$f":"IF(BubblePivot!A51 = 0,NA(),BubblePivot!A51)","v":{"$error":"#N/A"}},{"$f":"IF(BubblePivot!B51 = 0,NA(),BubblePivot!B51)","v":{"$error":"#N/A"}},{"$f":"IF(BubblePivot!C51 = 0,NA(),BubblePivot!C51)","v":{"$error":"#N/A"}},{"$f":"IF(BubblePivot!D51 = 0,NA(),BubblePivot!D51)","v":{"$error":"#N/A"}},{"$error":"#N/A"}]
[{"$f":"IF(BubblePivot!A52 = 0,NA(),BubblePivot!A52)","v":{"$error":"#N/A"}},{"$f":"IF(BubblePivot!B52 = 0,NA(),BubblePivot!B52)","v":{"$error":"#N/A"}},{"$f":"IF(BubblePivot!C52 = 0,NA(),BubblePivot!C52)","v":{"$error":"#N/A"}},{"$f":"IF(BubblePivot!D52 = 0,NA(),BubblePivot!D52)","v":{"$error":"#N/A"}},{"$error":"#N/A"}]
[{"$f":"IF(BubblePivot!A53 = 0,NA(),BubblePivot!A53)","v":{"$error":"#N/A"}},{"$f":"IF(BubblePivot!B53 = 0,NA(),BubblePivot!B53)","v":{"$error":"#N/A"}},{"$f":"IF(BubblePivot!C53 = 0,NA(),BubblePivot!C53)","v":{"$error":"#N/A"}},{"$f":"IF(BubblePivot!D53 = 0,NA(),BubblePivot!D53)","v":{"$error":"#N/A"}},{"$error":"#N/A"}]
[{"$f":"IF(BubblePivot!A54 = 0,NA(),BubblePivot!A54)","v":{"$error":"#N/A"}},{"$f":"IF(BubblePivot!B54 = 0,NA(),BubblePivot!B54)","v":{"$error":"#N/A"}},{"$f":"IF(BubblePivot!C54 = 0,NA(),BubblePivot!C54)","v":{"$error":"#N/A"}},{"$f":"IF(BubblePivot!D54 = 0,NA(),BubblePivot!D54)","v":{"$error":"#N/A"}},{"$error":"#N/A"}]
[{"$f":"IF(BubblePivot!A55 = 0,NA(),BubblePivot!A55)","v":{"$error":"#N/A"}},{"$f":"IF(BubblePivot!B55 = 0,NA(),BubblePivot!B55)","v":{"$error":"#N/A"}},{"$f":"IF(BubblePivot!C55 = 0,NA(),BubblePivot!C55)","v":{"$error":"#N/A"}},{"$f":"IF(BubblePivot!D55 = 0,NA(),BubblePivot!D55)","v":{"$error":"#N/A"}},{"$error":"#N/A"}]
[{"$f":"IF(BubblePivot!A56 = 0,NA(),BubblePivot!A56)","v":{"$error":"#N/A"}},{"$f":"IF(BubblePivot!B56 = 0,NA(),BubblePivot!B56)","v":{"$error":"#N/A"}},{"$f":"IF(BubblePivot!C56 = 0,NA(),BubblePivot!C56)","v":{"$error":"#N/A"}},{"$f":"IF(BubblePivot!D56 = 0,NA(),BubblePivot!D56)","v":{"$error":"#N/A"}},{"$error":"#N/A"}]
[{"$f":"IF(BubblePivot!A57 = 0,NA(),BubblePivot!A57)","v":{"$error":"#N/A"}},{"$f":"IF(BubblePivot!B57 = 0,NA(),BubblePivot!B57)","v":{"$error":"#N/A"}},{"$f":"IF(BubblePivot!C57 = 0,NA(),BubblePivot!C57)","v":{"$error":"#N/A"}},{"$f":"IF(BubblePivot!D57 = 0,NA(),BubblePivot!D57)","v":{"$error":"#N/A"}},{"$error":"#N/A"}]
[{"$f":"IF(BubblePivot!A58 = 0,NA(),BubblePivot!A58)","v":{"$error":"#N/A"}},{"$f":"IF(BubblePivot!B58 = 0,NA(),BubblePivot!B58)","v":{"$error":"#N/A"}},{"$f":"IF(BubblePivot!C58 = 0,NA(),BubblePivot!C58)","v":{"$error":"#N/A"}},{"$f":"IF(BubblePivot!D58 = 0,NA(),BubblePivot!D58)","v":{"$error":"#N/A"}},{"$error":"#N/A"}]
[{"$f":"IF(BubblePivot!A59 = 0,NA(),BubblePivot!A59)","v":{"$error":"#N/A"}},{"$f":"IF(BubblePivot!B59 = 0,NA(),BubblePivot!B59)","v":{"$error":"#N/A"}},{"$f":"IF(BubblePivot!C59 = 0,NA(),BubblePivot!C59)","v":{"$error":"#N/A"}},{"$f":"IF(BubblePivot!D59 = 0,NA(),BubblePivot!D59)","v":{"$error":"#N/A"}},{"$error":"#N/A"}]
[{"$f":"IF(BubblePivot!A60 = 0,NA(),BubblePivot!A60)","v":{"$error":"#N/A"}},{"$f":"IF(BubblePivot!B60 = 0,NA(),BubblePivot!B60)","v":{"$error":"#N/A"}},{"$f":"IF(BubblePivot!C60 = 0,NA(),BubblePivot!C60)","v":{"$error":"#N/A"}},{"$f":"IF(BubblePivot!D60 = 0,NA(),BubblePivot!D60)","v":{"$error":"#N/A"}},{"$error":"#N/A"}]
[{"$f":"IF(BubblePivot!A61 = 0,NA(),BubblePivot!A61)","v":{"$error":"#N/A"}},{"$f":"IF(BubblePivot!B61 = 0,NA(),BubblePivot!B61)","v":{"$error":"#N/A"}},{"$f":"IF(BubblePivot!C61 = 0,NA(),BubblePivot!C61)","v":{"$error":"#N/A"}},{"$f":"IF(BubblePivot!D61 = 0,NA(),BubblePivot!D61)","v":{"$error":"#N/A"}},{"$error":"#N/A"}]
[{"$f":"IF(BubblePivot!A62 = 0,NA(),BubblePivot!A62)","v":{"$error":"#N/A"}},{"$f":"IF(BubblePivot!B62 = 0,NA(),BubblePivot!B62)","v":{"$error":"#N/A"}},{"$f":"IF(BubblePivot!C62 = 0,NA(),BubblePivot!C62)","v":{"$error":"#N/A"}},{"$f":"IF(BubblePivot!D62 = 0,NA(),BubblePivot!D62)","v":{"$error":"#N/A"}},{"$error":"#N/A"}]
[{"$f":"IF(BubblePivot!A63 = 0,NA(),BubblePivot!A63)","v":{"$error":"#N/A"}},{"$f":"IF(BubblePivot!B63 = 0,NA(),BubblePivot!B63)","v":{"$error":"#N/A"}},{"$f":"IF(BubblePivot!C63 = 0,NA(),BubblePivot!C63)","v":{"$error":"#N/A"}},{"$f":"IF(BubblePivot!D63 = 0,NA(),BubblePivot!D63)","v":{"$error":"#N/A"}},{"$error":"#N/A"}]
[{"$f":"IF(BubblePivot!A64 = 0,NA(),BubblePivot!A64)","v":{"$error":"#N/A"}},{"$f":"IF(BubblePivot!B64 = 0,NA(),BubblePivot!B64)","v":{"$error":"#N/A"}},{"$f":"IF(BubblePivot!C64 = 0,NA(),BubblePivot!C64)","v":{"$error":"#N/A"}},{"$f":"IF(BubblePivot!D64 = 0,NA(),BubblePivot!D64)","v":{"$error":"#N/A"}},{"$error":"#N/A"}]
[{"$f":"IF(BubblePivot!A65 = 0,NA(),BubblePivot!A65)","v":{"$error":"#N/A"}},{"$f":"IF(BubblePivot!B65 = 0,NA(),BubblePivot!B65)","v":{"$error":"#N/A"}},{"$f":"IF(BubblePivot!C65 = 0,NA(),BubblePivot!C65)","v":{"$error":"#N/A"}},{"$f":"IF(BubblePivot!D65 = 0,NA(),BubblePivot!D65)","v":{"$error":"#N/A"}},{"$error":"#N/A"}]
[{"$f":"IF(BubblePivot!A66 = 0,NA(),BubblePivot!A66)","v":{"$error":"#N/A"}},{"$f":"IF(BubblePivot!B66 = 0,NA(),BubblePivot!B66)","v":{"$error":"#N/A"}},{"$f":"IF(BubblePivot!C66 = 0,NA(),BubblePivot!C66)","v":{"$error":"#N/A"}},{"$f":"IF(BubblePivot!D66 = 0,NA(),BubblePivot!D66)","v":{"$error":"#N/A"}},{"$error":"#N/A"}]
[{"$f":"IF(BubblePivot!A67 = 0,NA(),BubblePivot!A67)","v":{"$error":"#N/A"}},{"$f":"IF(BubblePivot!B67 = 0,NA(),BubblePivot!B67)","v":{"$error":"#N/A"}},{"$f":"IF(BubblePivot!C67 = 0,NA(),BubblePivot!C67)","v":{"$error":"#N/A"}},{"$f":"IF(BubblePivot!D67 = 0,NA(),BubblePivot!D67)","v":{"$error":"#N/A"}},{"$error":"#N/A"}]
[{"$f":"IF(BubblePivot!A68 = 0,NA(),BubblePivot!A68)","v":{"$error":"#N/A"}},{"$f":"IF(BubblePivot!B68 = 0,NA(),BubblePivot!B68)","v":{"$error":"#N/A"}},{"$f":"IF(BubblePivot!C68 = 0,NA(),BubblePivot!C68)","v":{"$error":"#N/A"}},{"$f":"IF(BubblePivot!D68 = 0,NA(),BubblePivot!D68)","v":{"$error":"#N/A"}},{"$f":"A66","v":{"$error":"#N/A"}}]
[{"$f":"IF(BubblePivot!A69 = 0,NA(),BubblePivot!A69)","v":{"$error":"#N/A"}},{"$f":"IF(BubblePivot!B69 = 0,NA(),BubblePivot!B69)","v":{"$error":"#N/A"}},{"$f":"IF(BubblePivot!C69 = 0,NA(),BubblePivot!C69)","v":{"$error":"#N/A"}},{"$f":"IF(BubblePivot!D69 = 0,NA(),BubblePivot!D69)","v":{"$error":"#N/A"}},{"$error":"#N/A"}]
[{"$f":"IF(BubblePivot!A70 = 0,NA(),BubblePivot!A70)","v":{"$error":"#N/A"}},{"$f":"IF(BubblePivot!B70 = 0,NA(),BubblePivot!B70)","v":{"$error":"#N/A"}},{"$f":"IF(BubblePivot!C70 = 0,NA(),BubblePivot!C70)","v":{"$error":"#N/A"}},{"$f":"IF(BubblePivot!D70 = 0,NA(),BubblePivot!D70)","v":{"$error":"#N/A"}},{"$error":"#N/A"}]
[{"$f":"IF(BubblePivot!A71 = 0,NA(),BubblePivot!A71)","v":{"$error":"#N/A"}},{"$f":"IF(BubblePivot!B71 = 0,NA(),BubblePivot!B71)","v":{"$error":"#N/A"}},{"$f":"IF(BubblePivot!C71 = 0,NA(),BubblePivot!C71)","v":{"$error":"#N/A"}},{"$f":"IF(BubblePivot!D71 = 0,NA(),BubblePivot!D71)","v":{"$error":"#N/A"}},{"$error":"#N/A"}]
[{"$f":"IF(BubblePivot!A72 = 0,NA(),BubblePivot!A72)","v":{"$error":"#N/A"}},{"$f":"IF(BubblePivot!B72 = 0,NA(),BubblePivot!B72)","v":{"$error":"#N/A"}},{"$f":"IF(BubblePivot!C72 = 0,NA(),BubblePivot!C72)","v":{"$error":"#N/A"}},{"$f":"IF(BubblePivot!D72 = 0,NA(),BubblePivot!D72)","v":{"$error":"#N/A"}},{"$error":"#N/A"}]
[{"$f":"IF(BubblePivot!A73 = 0,NA(),BubblePivot!A73)","v":{"$error":"#N/A"}},{"$f":"IF(BubblePivot!B73 = 0,NA(),BubblePivot!B73)","v":{"$error":"#N/A"}},{"$f":"IF(BubblePivot!C73 = 0,NA(),BubblePivot!C73)","v":{"$error":"#N/A"}},{"$f":"IF(BubblePivot!D73 = 0,NA(),BubblePivot!D73)","v":{"$error":"#N/A"}},{"$error":"#N/A"}]
[{"$f":"IF(BubblePivot!A74 = 0,NA(),BubblePivot!A74)","v":{"$error":"#N/A"}},{"$f":"IF(BubblePivot!B74 = 0,NA(),BubblePivot!B74)","v":{"$error":"#N/A"}},{"$f":"IF(BubblePivot!C74 = 0,NA(),BubblePivot!C74)","v":{"$error":"#N/A"}},{"$f":"IF(BubblePivot!D74 = 0,NA(),BubblePivot!D74)","v":{"$error":"#N/A"}},{"$error":"#N/A"}]
[{"$f":"IF(BubblePivot!A75 = 0,NA(),BubblePivot!A75)","v":{"$error":"#N/A"}},{"$f":"IF(BubblePivot!B75 = 0,NA(),BubblePivot!B75)","v":{"$error":"#N/A"}},{"$f":"IF(BubblePivot!C75 = 0,NA(),BubblePivot!C75)","v":{"$error":"#N/A"}},{"$f":"IF(BubblePivot!D75 = 0,NA(),BubblePivot!D75)","v":{"$error":"#N/A"}},{"$error":"#N/A"}]
[{"$f":"IF(BubblePivot!A76 = 0,NA(),BubblePivot!A76)","v":{"$error":"#N/A"}},{"$f":"IF(BubblePivot!B76 = 0,NA(),BubblePivot!B76)","v":{"$error":"#N/A"}},{"$f":"IF(BubblePivot!C76 = 0,NA(),BubblePivot!C76)","v":{"$error":"#N/A"}},{"$f":"IF(BubblePivot!D76 = 0,NA(),BubblePivot!D76)","v":{"$error":"#N/A"}},{"$error":"#N/A"}]
[{"$f":"IF(BubblePivot!A77 = 0,NA(),BubblePivot!A77)","v":{"$error":"#N/A"}},{"$f":"IF(BubblePivot!B77 = 0,NA(),BubblePivot!B77)","v":{"$error":"#N/A"}},{"$f":"IF(BubblePivot!C77 = 0,NA(),BubblePivot!C77)","v":{"$error":"#N/A"}},{"$f":"IF(BubblePivot!D77 = 0,NA(),BubblePivot!D77)","v":{"$error":"#N/A"}},{"$error":"#N/A"}]
[{"$f":"IF(BubblePivot!A78 = 0,NA(),BubblePivot!A78)","v":{"$error":"#N/A"}},{"$f":"IF(BubblePivot!B78 = 0,NA(),BubblePivot!B78)","v":{"$error":"#N/A"}},{"$f":"IF(BubblePivot!C78 = 0,NA(),BubblePivot!C78)","v":{"$error":"#N/A"}},{"$f":"IF(BubblePivot!D78 = 0,NA(),BubblePivot!D78)","v":{"$error":"#N/A"}},{"$error":"#N/A"}]
[{"$f":"IF(BubblePivot!A79 = 0,NA(),BubblePivot!A79)","v":{"$error":"#N/A"}},{"$f":"IF(BubblePivot!B79 = 0,NA(),BubblePivot!B79)","v":{"$error":"#N/A"}},{"$f":"IF(BubblePivot!C79 = 0,NA(),BubblePivot!C79)","v":{"$error":"#N/A"}},{"$f":"IF(BubblePivot!D79 = 0,NA(),BubblePivot!D79)","v":{"$error":"#N/A"}},{"$error":"#N/A"}]
[{"$f":"IF(BubblePivot!A80 = 0,NA(),BubblePivot!A80)","v":{"$error":"#N/A"}},{"$f":"IF(BubblePivot!B80 = 0,NA(),BubblePivot!B80)","v":{"$error":"#N/A"}},{"$f":"IF(BubblePivot!C80 = 0,NA(),BubblePivot!C80)","v":{"$error":"#N/A"}},{"$f":"IF(BubblePivot!D80 = 0,NA(),BubblePivot!D80)","v":{"$error":"#N/A"}},{"$error":"#N/A"}]
[{"$f":"IF(BubblePivot!A81 = 0,NA(),BubblePivot!A81)","v":{"$error":"#N/A"}},{"$f":"IF(BubblePivot!B81 = 0,NA(),BubblePivot!B81)","v":{"$error":"#N/A"}},{"$f":"IF(BubblePivot!C81 = 0,NA(),BubblePivot!C81)","v":{"$error":"#N/A"}},{"$f":"IF(BubblePivot!D81 = 0,NA(),BubblePivot!D81)","v":{"$error":"#N/A"}},{"$error":"#N/A"}]
[{"$f":"IF(BubblePivot!A82 = 0,NA(),BubblePivot!A82)","v":{"$error":"#N/A"}},{"$f":"IF(BubblePivot!B82 = 0,NA(),BubblePivot!B82)","v":{"$error":"#N/A"}},{"$f":"IF(BubblePivot!C82 = 0,NA(),BubblePivot!C82)","v":{"$error":"#N/A"}},{"$f":"IF(BubblePivot!D82 = 0,NA(),BubblePivot!D82)","v":{"$error":"#N/A"}},{"$error":"#N/A"}]
[{"$f":"IF(BubblePivot!A83 = 0,NA(),BubblePivot!A83)","v":{"$error":"#N/A"}},{"$f":"IF(BubblePivot!B83 = 0,NA(),BubblePivot!B83)","v":{"$error":"#N/A"}},{"$f":"IF(BubblePivot!C83 = 0,NA(),BubblePivot!C83)","v":{"$error":"#N/A"}},{"$f":"IF(BubblePivot!D83 = 0,NA(),BubblePivot!D83)","v":{"$error":"#N/A"}},{"$error":"#N/A"}]
[{"$f":"IF(BubblePivot!A84 = 0,NA(),BubblePivot!A84)","v":{"$error":"#N/A"}},{"$f":"IF(BubblePivot!B84 = 0,NA(),BubblePivot!B84)","v":{"$error":"#N/A"}},{"$f":"IF(BubblePivot!C84 = 0,NA(),BubblePivot!C84)","v":{"$error":"#N/A"}},{"$f":"IF(BubblePivot!D84 = 0,NA(),BubblePivot!D84)","v":{"$error":"#N/A"}},{"$error":"#N/A"}]
[{"$f":"IF(BubblePivot!A85 = 0,NA(),BubblePivot!A85)","v":{"$error":"#N/A"}},{"$f":"IF(BubblePivot!B85 = 0,NA(),BubblePivot!B85)","v":{"$error":"#N/A"}},{"$f":"IF(BubblePivot!C85 = 0,NA(),BubblePivot!C85)","v":{"$error":"#N/A"}},{"$f":"IF(BubblePivot!D85 = 0,NA(),BubblePivot!D85)","v":{"$error":"#N/A"}},{"$error":"#N/A"}]
[{"$f":"IF(BubblePivot!A86 = 0,NA(),BubblePivot!A86)","v":{"$error":"#N/A"}},{"$f":"IF(BubblePivot!B86 = 0,NA(),BubblePivot!B86)","v":{"$error":"#N/A"}},{"$f":"IF(BubblePivot!C86 = 0,NA(),BubblePivot!C86)","v":{"$error":"#N/A"}},{"$f":"IF(BubblePivot!D86 = 0,NA(),BubblePivot!D86)","v":{"$error":"#N/A"}},{"$error":"#N/A"}]
[{"$f":"IF(BubblePivot!A87 = 0,NA(),BubblePivot!A87)","v":{"$error":"#N/A"}},{"$f":"IF(BubblePivot!B87 = 0,NA(),BubblePivot!B87)","v":{"$error":"#N/A"}},{"$f":"IF(BubblePivot!C87 = 0,NA(),BubblePivot!C87)","v":{"$error":"#N/A"}},{"$f":"IF(BubblePivot!D87 = 0,NA(),BubblePivot!D87)","v":{"$error":"#N/A"}},{"$error":"#N/A"}]
[{"$f":"IF(BubblePivot!A88 = 0,NA(),BubblePivot!A88)","v":{"$error":"#N/A"}},{"$f":"IF(BubblePivot!B88 = 0,NA(),BubblePivot!B88)","v":{"$error":"#N/A"}},{"$f":"IF(BubblePivot!C88 = 0,NA(),BubblePivot!C88)","v":{"$error":"#N/A"}},{"$f":"IF(BubblePivot!D88 = 0,NA(),BubblePivot!D88)","v":{"$error":"#N/A"}},{"$error":"#N/A"}]
[{"$f":"IF(BubblePivot!A89 = 0,NA(),BubblePivot!A89)","v":{"$error":"#N/A"}},{"$f":"IF(BubblePivot!B89 = 0,NA(),BubblePivot!B89)","v":{"$error":"#N/A"}},{"$f":"IF(BubblePivot!C89 = 0,NA(),BubblePivot!C89)","v":{"$error":"#N/A"}},{"$f":"IF(BubblePivot!D89 = 0,NA(),BubblePivot!D89)","v":{"$error":"#N/A"}},{"$error":"#N/A"}]
[{"$f":"IF(BubblePivot!A90 = 0,NA(),BubblePivot!A90)","v":{"$error":"#N/A"}},{"$f":"IF(BubblePivot!B90 = 0,NA(),BubblePivot!B90)","v":{"$error":"#N/A"}},{"$f":"IF(BubblePivot!C90 = 0,NA(),BubblePivot!C90)","v":{"$error":"#N/A"}},{"$f":"IF(BubblePivot!D90 = 0,NA(),BubblePivot!D90)","v":{"$error":"#N/A"}},{"$error":"#N/A"}]
[{"$f":"IF(BubblePivot!A91 = 0,NA(),BubblePivot!A91)","v":{"$error":"#N/A"}},{"$f":"IF(BubblePivot!B91 = 0,NA(),BubblePivot!B91)","v":{"$error":"#N/A"}},{"$f":"IF(BubblePivot!C91 = 0,NA(),BubblePivot!C91)","v":{"$error":"#N/A"}},{"$f":"IF(BubblePivot!D91 = 0,NA(),BubblePivot!D91)","v":{"$error":"#N/A"}},{"$error":"#N/A"}]
[{"$f":"IF(BubblePivot!A92 = 0,NA(),BubblePivot!A92)","v":{"$error":"#N/A"}},{"$f":"IF(BubblePivot!B92 = 0,NA(),BubblePivot!B92)","v":{"$error":"#N/A"}},{"$f":"IF(BubblePivot!C92 = 0,NA(),BubblePivot!C92)","v":{"$error":"#N/A"}},{"$f":"IF(BubblePivot!D92 = 0,NA(),BubblePivot!D92)","v":{"$error":"#N/A"}},{"$error":"#N/A"}]
[{"$f":"IF(BubblePivot!A93 = 0,NA(),BubblePivot!A93)","v":{"$error":"#N/A"}},{"$f":"IF(BubblePivot!B93 = 0,NA(),BubblePivot!B93)","v":{"$error":"#N/A"}},{"$f":"IF(BubblePivot!C93 = 0,NA(),BubblePivot!C93)","v":{"$error":"#N/A"}},{"$f":"IF(BubblePivot!D93 = 0,NA(),BubblePivot!D93)","v":{"$error":"#N/A"}},{"$error":"#N/A"}]
[{"$f":"IF(BubblePivot!A94 = 0,NA(),BubblePivot!A94)","v":{"$error":"#N/A"}},{"$f":"IF(BubblePivot!B94 = 0,NA(),BubblePivot!B94)","v":{"$error":"#N/A"}},{"$f":"IF(BubblePivot!C94 = 0,NA(),BubblePivot!C94)","v":{"$error":"#N/A"}},{"$f":"IF(BubblePivot!D94 = 0,NA(),BubblePivot!D94)","v":{"$error":"#N/A"}},{"$error":"#N/A"}]
[{"$f":"IF(BubblePivot!A95 = 0,NA(),BubblePivot!A95)","v":{"$error":"#N/A"}},{"$f":"IF(BubblePivot!B95 = 0,NA(),BubblePivot!B95)","v":{"$error":"#N/A"}},{"$f":"IF(BubblePivot!C95 = 0,NA(),BubblePivot!C95)","v":{"$error":"#N/A"}},{"$f":"IF(BubblePivot!D95 = 0,NA(),BubblePivot!D95)","v":{"$error":"#N/A"}},{"$error":"#N/A"}]
[{"$f":"IF(BubblePivot!A96 = 0,NA(),BubblePivot!A96)","v":{"$error":"#N/A"}},{"$f":"IF(BubblePivot!B96 = 0,NA(),BubblePivot!B96)","v":{"$error":"#N/A"}},{"$f":"IF(BubblePivot!C96 = 0,NA(),BubblePivot!C96)","v":{"$error":"#N/A"}},{"$f":"IF(BubblePivot!D96 = 0,NA(),BubblePivot!D96)","v":{"$error":"#N/A"}},{"$error":"#N/A"}]
[{"$f":"IF(BubblePivot!A97 = 0,NA(),BubblePivot!A97)","v":{"$error":"#N/A"}},{"$f":"IF(BubblePivot!B97 = 0,NA(),BubblePivot!B97)","v":{"$error":"#N/A"}},{"$f":"IF(BubblePivot!C97 = 0,NA(),BubblePivot!C97)","v":{"$error":"#N/A"}},{"$f":"IF(BubblePivot!D97 = 0,NA(),BubblePivot!D97)","v":{"$error":"#N/A"}},{"$error":"#N/A"}]
[{"$f":"IF(BubblePivot!A98 = 0,NA(),BubblePivot!A98)","v":{"$error":"#N/A"}},{"$f":"IF(BubblePivot!B98 = 0,NA(),BubblePivot!B98)","v":{"$error":"#N/A"}},{"$f":"IF(BubblePivot!C98 = 0,NA(),BubblePivot!C98)","v":{"$error":"#N/A"}},{"$f":"IF(BubblePivot!D98 = 0,NA(),BubblePivot!D98)","v":{"$error":"#N/A"}},{"$error":"#N/A"}]
[{"$f":"IF(BubblePivot!A99 = 0,NA(),BubblePivot!A99)","v":{"$error":"#N/A"}},{"$f":"IF(BubblePivot!B99 = 0,NA(),BubblePivot!B99)","v":{"$error":"#N/A"}},{"$f":"IF(BubblePivot!C99 = 0,NA(),BubblePivot!C99)","v":{"$error":"#N/A"}},{"$f":"IF(BubblePivot!D99 = 0,NA(),BubblePivot!D99)","v":{"$error":"#N/A"}},{"$error":"#N/A"}]
[{"$f":"IF(BubblePivot!A100 = 0,NA(),BubblePivot!A100)","v":{"$error":"#N/A"}},{"$f":"IF(BubblePivot!B100 = 0,NA(),BubblePivot!B100)","v":{"$error":"#N/A"}},{"$f":"IF(BubblePivot!C100 = 0,NA(),BubblePivot!C100)","v":{"$error":"#N/A"}},{"$f":"IF(BubblePivot!D100 = 0,NA(),BubblePivot!D100)","v":{"$error":"#N/A"}},{"$error":"#N/A"}]
[{"$f":"IF(BubblePivot!A101 = 0,NA(),BubblePivot!A101)","v":{"$error":"#N/A"}},{"$f":"IF(BubblePivot!B101 = 0,NA(),BubblePivot!B101)","v":{"$error":"#N/A"}},{"$f":"IF(BubblePivot!C101 = 0,NA(),BubblePivot!C101)","v":{"$error":"#N/A"}},{"$f":"IF(BubblePivot!D101 = 0,NA(),BubblePivot!D101)","v":{"$error":"#N/A"}},{"$error":"#N/A"}]
[{"$f":"IF(BubblePivot!A102 = 0,NA(),BubblePivot!A102)","v":{"$error":"#N/A"}},{"$f":"IF(BubblePivot!B102 = 0,NA(),BubblePivot!B102)","v":{"$error":"#N/A"}},{"$f":"IF(BubblePivot!C102 = 0,NA(),BubblePivot!C102)","v":{"$error":"#N/A"}},{"$f":"IF(BubblePivot!D102 = 0,NA(),BubblePivot!D102)","v":{"$error":"#N/A"}},{"$error":"#N/A"}]
[{"$f":"IF(BubblePivot!A103 = 0,NA(),BubblePivot!A103)","v":{"$error":"#N/A"}},{"$f":"IF(BubblePivot!B103 = 0,NA(),BubblePivot!B103)","v":{"$error":"#N/A"}},{"$f":"IF(BubblePivot!C103 = 0,NA(),BubblePivot!C103)","v":{"$error":"#N/A"}},{"$f":"IF(BubblePivot!D103 = 0,NA(),BubblePivot!D103)","v":{"$error":"#N/A"}},{"$error":"#N/A"}]
[{"$f":"IF(BubblePivot!A104 = 0,NA(),BubblePivot!A104)","v":{"$error":"#N/A"}},{"$f":"IF(BubblePivot!B104 = 0,NA(),BubblePivot!B104)","v":{"$error":"#N/A"}},{"$f":"IF(BubblePivot!C104 = 0,NA(),BubblePivot!C104)","v":{"$error":"#N/A"}},{"$f":"IF(BubblePivot!D104 = 0,NA(),BubblePivot!D104)","v":{"$error":"#N/A"}},{"$error":"#N/A"}]
[{"$f":"IF(BubblePivot!A105 = 0,NA(),BubblePivot!A105)","v":{"$error":"#N/A"}},{"$f":"IF(BubblePivot!B105 = 0,NA(),BubblePivot!B105)","v":{"$error":"#N/A"}},{"$f":"IF(BubblePivot!C105 = 0,NA(),BubblePivot!C105)","v":{"$error":"#N/A"}},{"$f":"IF(BubblePivot!D105 = 0,NA(),BubblePivot!D105)","v":{"$error":"#N/A"}},{"$error":"#N/A"}]
[{"$f":"IF(BubblePivot!A106 = 0,NA(),BubblePivot!A106)","v":{"$error":"#N/A"}},{"$f":"IF(BubblePivot!B106 = 0,NA(),BubblePivot!B106)","v":{"$error":"#N/A"}},{"$f":"IF(BubblePivot!C106 = 0,NA(),BubblePivot!C106)","v":{"$error":"#N/A"}},{"$f":"IF(BubblePivot!D106 = 0,NA(),BubblePivot!D106)","v":{"$error":"#N/A"}},{"$error":"#N/A"}]
[{"$f":"IF(BubblePivot!A107 = 0,NA(),BubblePivot!A107)","v":{"$error":"#N/A"}},{"$f":"IF(BubblePivot!B107 = 0,NA(),BubblePivot!B107)","v":{"$error":"#N/A"}},{"$f":"IF(BubblePivot!C107 = 0,NA(),BubblePivot!C107)","v":{"$error":"#N/A"}},{"$f":"IF(BubblePivot!D107 = 0,NA(),BubblePivot!D107)","v":{"$error":"#N/A"}},{"$error":"#N/A"}]
[{"$f":"IF(BubblePivot!A108 = 0,NA(),BubblePivot!A108)","v":{"$error":"#N/A"}},{"$f":"IF(BubblePivot!B108 = 0,NA(),BubblePivot!B108)","v":{"$error":"#N/A"}},{"$f":"IF(BubblePivot!C108 = 0,NA(),BubblePivot!C108)","v":{"$error":"#N/A"}},{"$f":"IF(BubblePivot!D108 = 0,NA(),BubblePivot!D108)","v":{"$error":"#N/A"}},{"$error":"#N/A"}]
[{"$f":"IF(BubblePivot!A109 = 0,NA(),BubblePivot!A109)","v":{"$error":"#N/A"}},{"$f":"IF(BubblePivot!B109 = 0,NA(),BubblePivot!B109)","v":{"$error":"#N/A"}},{"$f":"IF(BubblePivot!C109 = 0,NA(),BubblePivot!C109)","v":{"$error":"#N/A"}},{"$f":"IF(BubblePivot!D109 = 0,NA(),BubblePivot!D109)","v":{"$error":"#N/A"}},{"$error":"#N/A"}]
[{"$f":"IF(BubblePivot!A110 = 0,NA(),BubblePivot!A110)","v":{"$error":"#N/A"}},{"$f":"IF(BubblePivot!B110 = 0,NA(),BubblePivot!B110)","v":{"$error":"#N/A"}},{"$f":"IF(BubblePivot!C110 = 0,NA(),BubblePivot!C110)","v":{"$error":"#N/A"}},{"$f":"IF(BubblePivot!D110 = 0,NA(),BubblePivot!D110)","v":{"$error":"#N/A"}},{"$error":"#N/A"}]
[{"$f":"IF(BubblePivot!A111 = 0,NA(),BubblePivot!A111)","v":{"$error":"#N/A"}},{"$f":"IF(BubblePivot!B111 = 0,NA(),BubblePivot!B111)","v":{"$error":"#N/A"}},{"$f":"IF(BubblePivot!C111 = 0,NA(),BubblePivot!C111)","v":{"$error":"#N/A"}},{"$f":"IF(BubblePivot!D111 = 0,NA(),BubblePivot!D111)","v":{"$error":"#N/A"}},{"$error":"#N/A"}]
[{"$f":"IF(BubblePivot!A112 = 0,NA(),BubblePivot!A112)","v":{"$error":"#N/A"}},{"$f":"IF(BubblePivot!B112 = 0,NA(),BubblePivot!B112)","v":{"$error":"#N/A"}},{"$f":"IF(BubblePivot!C112 = 0,NA(),BubblePivot!C112)","v":{"$error":"#N/A"}},{"$f":"IF(BubblePivot!D112 = 0,NA(),BubblePivot!D112)","v":{"$error":"#N/A"}},{"$error":"#N/A"}]
[{"$f":"IF(BubblePivot!A113 = 0,NA(),BubblePivot!A113)","v":{"$error":"#N/A"}},{"$f":"IF(BubblePivot!B113 = 0,NA(),BubblePivot!B113)","v":{"$error":"#N/A"}},{"$f":"IF(BubblePivot!C113 = 0,NA(),BubblePivot!C113)","v":{"$error":"#N/A"}},{"$f":"IF(BubblePivot!D113 = 0,NA(),BubblePivot!D113)","v":{"$error":"#N/A"}},{"$error":"#N/A"}]
[{"$f":"IF(BubblePivot!A114 = 0,NA(),BubblePivot!A114)","v":{"$error":"#N/A"}},{"$f":"IF(BubblePivot!B114 = 0,NA(),BubblePivot!B114)","v":{"$error":"#N/A"}},{"$f":"IF(BubblePivot!C114 = 0,NA(),BubblePivot!C114)","v":{"$error":"#N/A"}},{"$f":"IF(BubblePivot!D114 = 0,NA(),BubblePivot!D114)","v":{"$error":"#N/A"}},{"$error":"#N/A"}]
[{"$f":"IF(BubblePivot!A115 = 0,NA(),BubblePivot!A115)","v":{"$error":"#N/A"}},{"$f":"IF(BubblePivot!B115 = 0,NA(),BubblePivot!B115)","v":{"$error":"#N/A"}},{"$f":"IF(BubblePivot!C115 = 0,NA(),BubblePivot!C115)","v":{"$error":"#N/A"}},{"$f":"IF(BubblePivot!D115 = 0,NA(),BubblePivot!D115)","v":{"$error":"#N/A"}},{"$error":"#N/A"}]
[{"$f":"IF(BubblePivot!A116 = 0,NA(),BubblePivot!A116)","v":{"$error":"#N/A"}},{"$f":"IF(BubblePivot!B116 = 0,NA(),BubblePivot!B116)","v":{"$error":"#N/A"}},{"$f":"IF(BubblePivot!C116 = 0,NA(),BubblePivot!C116)","v":{"$error":"#N/A"}},{"$f":"IF(BubblePivot!D116 = 0,NA(),BubblePivot!D116)","v":{"$error":"#N/A"}},{"$error":"#N/A"}]
[{"$f":"IF(BubblePivot!A117 = 0,NA(),BubblePivot!A117)","v":{"$error":"#N/A"}},{"$f":"IF(BubblePivot!B117 = 0,NA(),BubblePivot!B117)","v":{"$error":"#N/A"}},{"$f":"IF(BubblePivot!C117 = 0,NA(),BubblePivot!C117)","v":{"$error":"#N/A"}},{"$f":"IF(BubblePivot!D117 = 0,NA(),BubblePivot!D117)","v":{"$error":"#N/A"}},{"$error":"#N/A"}]
[{"$f":"IF(BubblePivot!A118 = 0,NA(),BubblePivot!A118)","v":{"$error":"#N/A"}},{"$f":"IF(BubblePivot!B118 = 0,NA(),BubblePivot!B118)","v":{"$error":"#N/A"}},{"$f":"IF(BubblePivot!C118 = 0,NA(),BubblePivot!C118)","v":{"$error":"#N/A"}},{"$f":"IF(BubblePivot!D118 = 0,NA(),BubblePivot!D118)","v":{"$error":"#N/A"}},{"$error":"#N/A"}]
[{"$f":"IF(BubblePivot!A119 = 0,NA(),BubblePivot!A119)","v":{"$error":"#N/A"}},{"$f":"IF(BubblePivot!B119 = 0,NA(),BubblePivot!B119)","v":{"$error":"#N/A"}},{"$f":"IF(BubblePivot!C119 = 0,NA(),BubblePivot!C119)","v":{"$error":"#N/A"}},{"$f":"IF(BubblePivot!D119 = 0,NA(),BubblePivot!D119)","v":{"$error":"#N/A"}},{"$error":"#N/A"}]
[{"$f":"IF(BubblePivot!A120 = 0,NA(),BubblePivot!A120)","v":{"$error":"#N/A"}},{"$f":"IF(BubblePivot!B120 = 0,NA(),BubblePivot!B120)","v":{"$error":"#N/A"}},{"$f":"IF(BubblePivot!C120 = 0,NA(),BubblePivot!C120)","v":{"$error":"#N/A"}},{"$f":"IF(BubblePivot!D120 = 0,NA(),BubblePivot!D120)","v":{"$error":"#N/A"}},{"$error":"#N/A"}]
[{"$f":"IF(BubblePivot!A121 = 0,NA(),BubblePivot!A121)","v":{"$error":"#N/A"}},{"$f":"IF(BubblePivot!B121 = 0,NA(),BubblePivot!B121)","v":{"$error":"#N/A"}},{"$f":"IF(BubblePivot!C121 = 0,NA(),BubblePivot!C121)","v":{"$error":"#N/A"}},{"$f":"IF(BubblePivot!D121 = 0,NA(),BubblePivot!D121)","v":{"$error":"#N/A"}},{"$error":"#N/A"}]
[{"$f":"IF(BubblePivot!A122 = 0,NA(),BubblePivot!A122)","v":{"$error":"#N/A"}},{"$f":"IF(BubblePivot!B122 = 0,NA(),BubblePivot!B122)","v":{"$error":"#N/A"}},{"$f":"IF(BubblePivot!C122 = 0,NA(),BubblePivot!C122)","v":{"$error":"#N/A"}},{"$f":"IF(BubblePivot!D122 = 0,NA(),BubblePivot!D122)","v":{"$error":"#N/A"}},{"$error":"#N/A"}]
[{"$f":"IF(BubblePivot!A123 = 0,NA(),BubblePivot!A123)","v":{"$error":"#N/A"}},{"$f":"IF(BubblePivot!B123 = 0,NA(),BubblePivot!B123)","v":{"$error":"#N/A"}},{"$f":"IF(BubblePivot!C123 = 0,NA(),BubblePivot!C123)","v":{"$error":"#N/A"}},{"$f":"IF(BubblePivot!D123 = 0,NA(),BubblePivot!D123)","v":{"$error":"#N/A"}},{"$error":"#N/A"}]
[{"$f":"IF(BubblePivot!A124 = 0,NA(),BubblePivot!A124)","v":{"$error":"#N/A"}},{"$f":"IF(BubblePivot!B124 = 0,NA(),BubblePivot!B124)","v":{"$error":"#N/A"}},{"$f":"IF(BubblePivot!C124 = 0,NA(),BubblePivot!C124)","v":{"$error":"#N/A"}},{"$f":"IF(BubblePivot!D124 = 0,NA(),BubblePivot!D124)","v":{"$error":"#N/A"}},{"$error":"#N/A"}]
[{"$f":"IF(BubblePivot!A125 = 0,NA(),BubblePivot!A125)","v":{"$error":"#N/A"}},{"$f":"IF(BubblePivot!B125 = 0,NA(),BubblePivot!B125)","v":{"$error":"#N/A"}},{"$f":"IF(BubblePivot!C125 = 0,NA(),BubblePivot!C125)","v":{"$error":"#N/A"}},{"$f":"IF(BubblePivot!D125 = 0,NA(),BubblePivot!D125)","v":{"$error":"#N/A"}},{"$error":"#N/A"}]
[{"$f":"IF(BubblePivot!A126 = 0,NA(),BubblePivot!A126)","v":{"$error":"#N/A"}},{"$f":"IF(BubblePivot!B126 = 0,NA(),BubblePivot!B126)","v":{"$error":"#N/A"}},{"$f":"IF(BubblePivot!C126 = 0,NA(),BubblePivot!C126)","v":{"$error":"#N/A"}},{"$f":"IF(BubblePivot!D126 = 0,NA(),BubblePivot!D126)","v":{"$error":"#N/A"}},{"$error":"#N/A"}]
[{"$f":"IF(BubblePivot!A127 = 0,NA(),BubblePivot!A127)","v":{"$error":"#N/A"}},{"$f":"IF(BubblePivot!B127 = 0,NA(),BubblePivot!B127)","v":{"$error":"#N/A"}},{"$f":"IF(BubblePivot!C127 = 0,NA(),BubblePivot!C127)","v":{"$error":"#N/A"}},{"$f":"IF(BubblePivot!D127 = 0,NA(),BubblePivot!D127)","v":{"$error":"#N/A"}},{"$error":"#N/A"}]
[{"$f":"IF(BubblePivot!A128 = 0,NA(),BubblePivot!A128)","v":{"$error":"#N/A"}},{"$f":"IF(BubblePivot!B128 = 0,NA(),BubblePivot!B128)","v":{"$error":"#N/A"}},{"$f":"IF(BubblePivot!C128 = 0,NA(),BubblePivot!C128)","v":{"$error":"#N/A"}},{"$f":"IF(BubblePivot!D128 = 0,NA(),BubblePivot!D128)","v":{"$error":"#N/A"}},{"$error":"#N/A"}]
[{"$f":"IF(BubblePivot!A129 = 0,NA(),BubblePivot!A129)","v":{"$error":"#N/A"}},{"$f":"IF(BubblePivot!B129 = 0,NA(),BubblePivot!B129)","v":{"$error":"#N/A"}},{"$f":"IF(BubblePivot!C129 = 0,NA(),BubblePivot!C129)","v":{"$error":"#N/A"}},{"$f":"IF(BubblePivot!D129 = 0,NA(),BubblePivot!D129)","v":{"$error":"#N/A"}},{"$error":"#N/A"}]
[{"$f":"IF(BubblePivot!A130 = 0,NA(),BubblePivot!A130)","v":{"$error":"#N/A"}},{"$f":"IF(BubblePivot!B130 = 0,NA(),BubblePivot!B130)","v":{"$error":"#N/A"}},{"$f":"IF(BubblePivot!C130 = 0,NA(),BubblePivot!C130)","v":{"$error":"#N/A"}},{"$f":"IF(BubblePivot!D130 = 0,NA(),BubblePivot!D130)","v":{"$error":"#N/A"}},{"$error":"#N/A"}]
[{"$f":"IF(BubblePivot!A131 = 0,NA(),BubblePivot!A131)","v":{"$error":"#N/A"}},{"$f":"IF(BubblePivot!B131 = 0,NA(),BubblePivot!B131)","v":{"$error":"#N/A"}},{"$f":"IF(BubblePivot!C131 = 0,NA(),BubblePivot!C131)","v":{"$error":"#N/A"}},{"$f":"IF(BubblePivot!D131 = 0,NA(),BubblePivot!D131)","v":{"$error":"#N/A"}},{"$error":"#N/A"}]
[{"$f":"IF(BubblePivot!A132 = 0,NA(),BubblePivot!A132)","v":{"$error":"#N/A"}},{"$f":"IF(BubblePivot!B132 = 0,NA(),BubblePivot!B132)","v":{"$error":"#N/A"}},{"$f":"IF(BubblePivot!C132 = 0,NA(),BubblePivot!C132)","v":{"$error":"#N/A"}},{"$f":"IF(BubblePivot!D132 = 0,NA(),BubblePivot!D132)","v":{"$error":"#N/A"}},{"$f":"A130","v":{"$error":"#N/A"}}]
[{"$f":"IF(BubblePivot!A133 = 0,NA(),BubblePivot!A133)","v":{"$error":"#N/A"}},{"$f":"IF(BubblePivot!B133 = 0,NA(),BubblePivot!B133)","v":{"$error":"#N/A"}},{"$f":"IF(BubblePivot!C133 = 0,NA(),BubblePivot!C133)","v":{"$error":"#N/A"}},{"$f":"IF(BubblePivot!D133 = 0,NA(),BubblePivot!D133)","v":{"$error":"#N/A"}},{"$error":"#N/A"}]
[{"$f":"IF(BubblePivot!A134 = 0,NA(),BubblePivot!A134)","v":{"$error":"#N/A"}},{"$f":"IF(BubblePivot!B134 = 0,NA(),BubblePivot!B134)","v":{"$error":"#N/A"}},{"$f":"IF(BubblePivot!C134 = 0,NA(),BubblePivot!C134)","v":{"$error":"#N/A"}},{"$f":"IF(BubblePivot!D134 = 0,NA(),BubblePivot!D134)","v":{"$error":"#N/A"}},{"$error":"#N/A"}]
[{"$f":"IF(BubblePivot!A135 = 0,NA(),BubblePivot!A135)","v":{"$error":"#N/A"}},{"$f":"IF(BubblePivot!B135 = 0,NA(),BubblePivot!B135)","v":{"$error":"#N/A"}},{"$f":"IF(BubblePivot!C135 = 0,NA(),BubblePivot!C135)","v":{"$error":"#N/A"}},{"$f":"IF(BubblePivot!D135 = 0,NA(),BubblePivot!D135)","v":{"$error":"#N/A"}},{"$error":"#N/A"}]
[{"$f":"IF(BubblePivot!A136 = 0,NA(),BubblePivot!A136)","v":{"$error":"#N/A"}},{"$f":"IF(BubblePivot!B136 = 0,NA(),BubblePivot!B136)","v":{"$error":"#N/A"}},{"$f":"IF(BubblePivot!C136 = 0,NA(),BubblePivot!C136)","v":{"$error":"#N/A"}},{"$f":"IF(BubblePivot!D136 = 0,NA(),BubblePivot!D136)","v":{"$error":"#N/A"}},{"$error":"#N/A"}]
[{"$f":"IF(BubblePivot!A137 = 0,NA(),BubblePivot!A137)","v":{"$error":"#N/A"}},{"$f":"IF(BubblePivot!B137 = 0,NA(),BubblePivot!B137)","v":{"$error":"#N/A"}},{"$f":"IF(BubblePivot!C137 = 0,NA(),BubblePivot!C137)","v":{"$error":"#N/A"}},{"$f":"IF(BubblePivot!D137 = 0,NA(),BubblePivot!D137)","v":{"$error":"#N/A"}},{"$error":"#N/A"}]
[{"$f":"IF(BubblePivot!A138 = 0,NA(),BubblePivot!A138)","v":{"$error":"#N/A"}},{"$f":"IF(BubblePivot!B138 = 0,NA(),BubblePivot!B138)","v":{"$error":"#N/A"}},{"$f":"IF(BubblePivot!C138 = 0,NA(),BubblePivot!C138)","v":{"$error":"#N/A"}},{"$f":"IF(BubblePivot!D138 = 0,NA(),BubblePivot!D138)","v":{"$error":"#N/A"}},{"$error":"#N/A"}]
[{"$f":"IF(BubblePivot!A139 = 0,NA(),BubblePivot!A139)","v":{"$error":"#N/A"}},{"$f":"IF(BubblePivot!B139 = 0,NA(),BubblePivot!B139)","v":{"$error":"#N/A"}},{"$f":"IF(BubblePivot!C139 = 0,NA(),BubblePivot!C139)","v":{"$error":"#N/A"}},{"$f":"IF(BubblePivot!D139 = 0,NA(),BubblePivot!D139)","v":{"$error":"#N/A"}},{"$error":"#N/A"}]
[{"$f":"IF(BubblePivot!A140 = 0,NA(),BubblePivot!A140)","v":{"$error":"#N/A"}},{"$f":"IF(BubblePivot!B140 = 0,NA(),BubblePivot!B140)","v":{"$error":"#N/A"}},{"$f":"IF(BubblePivot!C140 = 0,NA(),BubblePivot!C140)","v":{"$error":"#N/A"}},{"$f":"IF(BubblePivot!D140 = 0,NA(),BubblePivot!D140)","v":{"$error":"#N/A"}},{"$error":"#N/A"}]
[{"$f":"IF(BubblePivot!A141 = 0,NA(),BubblePivot!A141)","v":{"$error":"#N/A"}},{"$f":"IF(BubblePivot!B141 = 0,NA(),BubblePivot!B141)","v":{"$error":"#N/A"}},{"$f":"IF(BubblePivot!C141 = 0,NA(),BubblePivot!C141)","v":{"$error":"#N/A"}},{"$f":"IF(BubblePivot!D141 = 0,NA(),BubblePivot!D141)","v":{"$error":"#N/A"}},{"$error":"#N/A"}]
[{"$f":"IF(BubblePivot!A142 = 0,NA(),BubblePivot!A142)","v":{"$error":"#N/A"}},{"$f":"IF(BubblePivot!B142 = 0,NA(),BubblePivot!B142)","v":{"$error":"#N/A"}},{"$f":"IF(BubblePivot!C142 = 0,NA(),BubblePivot!C142)","v":{"$error":"#N/A"}},{"$f":"IF(BubblePivot!D142 = 0,NA(),BubblePivot!D142)","v":{"$error":"#N/A"}},{"$error":"#N/A"}]
[{"$f":"IF(BubblePivot!A143 = 0,NA(),BubblePivot!A143)","v":{"$error":"#N/A"}},{"$f":"IF(BubblePivot!B143 = 0,NA(),BubblePivot!B143)","v":{"$error":"#N/A"}},{"$f":"IF(BubblePivot!C143 = 0,NA(),BubblePivot!C143)","v":{"$error":"#N/A"}},{"$f":"IF(BubblePivot!D143 = 0,NA(),BubblePivot!D143)","v":{"$error":"#N/A"}},{"$error":"#N/A"}]
[{"$f":"IF(BubblePivot!A144 = 0,NA(),BubblePivot!A144)","v":{"$error":"#N/A"}},{"$f":"IF(BubblePivot!B144 = 0,NA(),BubblePivot!B144)","v":{"$error":"#N/A"}},{"$f":"IF(BubblePivot!C144 = 0,NA(),BubblePivot!C144)","v":{"$error":"#N/A"}},{"$f":"IF(BubblePivot!D144 = 0,NA(),BubblePivot!D144)","v":{"$error":"#N/A"}},{"$error":"#N/A"}]
[{"$f":"IF(BubblePivot!A145 = 0,NA(),BubblePivot!A145)","v":{"$error":"#N/A"}},{"$f":"IF(BubblePivot!B145 = 0,NA(),BubblePivot!B145)","v":{"$error":"#N/A"}},{"$f":"IF(BubblePivot!C145 = 0,NA(),BubblePivot!C145)","v":{"$error":"#N/A"}},{"$f":"IF(BubblePivot!D145 = 0,NA(),BubblePivot!D145)","v":{"$error":"#N/A"}},{"$error":"#N/A"}]
[{"$f":"IF(BubblePivot!A146 = 0,NA(),BubblePivot!A146)","v":{"$error":"#N/A"}},{"$f":"IF(BubblePivot!B146 = 0,NA(),BubblePivot!B146)","v":{"$error":"#N/A"}},{"$f":"IF(BubblePivot!C146 = 0,NA(),BubblePivot!C146)","v":{"$error":"#N/A"}},{"$f":"IF(BubblePivot!D146 = 0,NA(),BubblePivot!D146)","v":{"$error":"#N/A"}},{"$error":"#N/A"}]
[{"$f":"IF(BubblePivot!A147 = 0,NA(),BubblePivot!A147)","v":{"$error":"#N/A"}},{"$f":"IF(BubblePivot!B147 = 0,NA(),BubblePivot!B147)","v":{"$error":"#N/A"}},{"$f":"IF(BubblePivot!C147 = 0,NA(),BubblePivot!C147)","v":{"$error":"#N/A"}},{"$f":"IF(BubblePivot!D147 = 0,NA(),BubblePivot!D147)","v":{"$error":"#N/A"}},{"$error":"#N/A"}]
[{"$f":"IF(BubblePivot!A148 = 0,NA(),BubblePivot!A148)","v":{"$error":"#N/A"}},{"$f":"IF(BubblePivot!B148 = 0,NA(),BubblePivot!B148)","v":{"$error":"#N/A"}},{"$f":"IF(BubblePivot!C148 = 0,NA(),BubblePivot!C148)","v":{"$error":"#N/A"}},{"$f":"IF(BubblePivot!D148 = 0,NA(),BubblePivot!D148)","v":{"$error":"#N/A"}},{"$error":"#N/A"}]
[{"$f":"IF(BubblePivot!A149 = 0,NA(),BubblePivot!A149)","v":{"$error":"#N/A"}},{"$f":"IF(BubblePivot!B149 = 0,NA(),BubblePivot!B149)","v":{"$error":"#N/A"}},{"$f":"IF(BubblePivot!C149 = 0,NA(),BubblePivot!C149)","v":{"$error":"#N/A"}},{"$f":"IF(BubblePivot!D149 = 0,NA(),BubblePivot!D149)","v":{"$error":"#N/A"}},{"$error":"#N/A"}]
[{"$f":"IF(BubblePivot!A150 = 0,NA(),BubblePivot!A150)","v":{"$error":"#N/A"}},{"$f":"IF(BubblePivot!B150 = 0,NA(),BubblePivot!B150)","v":{"$error":"#N/A"}},{"$f":"IF(BubblePivot!C150 = 0,NA(),BubblePivot!C150)","v":{"$error":"#N/A"}},{"$f":"IF(BubblePivot!D150 = 0,NA(),BubblePivot!D150)","v":{"$error":"#N/A"}},{"$error":"#N/A"}]
[{"$f":"IF(BubblePivot!A151 = 0,NA(),BubblePivot!A151)","v":{"$error":"#N/A"}},{"$f":"IF(BubblePivot!B151 = 0,NA(),BubblePivot!B151)","v":{"$error":"#N/A"}},{"$f":"IF(BubblePivot!C151 = 0,NA(),BubblePivot!C151)","v":{"$error":"#N/A"}},{"$f":"IF(BubblePivot!D151 = 0,NA(),BubblePivot!D151)","v":{"$error":"#N/A"}},{"$error":"#N/A"}]
[{"$f":"IF(BubblePivot!A152 = 0,NA(),BubblePivot!A152)","v":{"$error":"#N/A"}},{"$f":"IF(BubblePivot!B152 = 0,NA(),BubblePivot!B152)","v":{"$error":"#N/A"}},{"$f":"IF(BubblePivot!C152 = 0,NA(),BubblePivot!C152)","v":{"$error":"#N/A"}},{"$f":"IF(BubblePivot!D152 = 0,NA(),BubblePivot!D152)","v":{"$error":"#N/A"}},{"$error":"#N/A"}]
[{"$f":"IF(BubblePivot!A153 = 0,NA(),BubblePivot!A153)","v":{"$error":"#N/A"}},{"$f":"IF(BubblePivot!B153 = 0,NA(),BubblePivot!B153)","v":{"$error":"#N/A"}},{"$f":"IF(BubblePivot!C153 = 0,NA(),BubblePivot!C153)","v":{"$error":"#N/A"}},{"$f":"IF(BubblePivot!D153 = 0,NA(),BubblePivot!D153)","v":{"$error":"#N/A"}},{"$error":"#N/A"}]
[{"$f":"IF(BubblePivot!A154 = 0,NA(),BubblePivot!A154)","v":{"$error":"#N/A"}},{"$f":"IF(BubblePivot!B154 = 0,NA(),BubblePivot!B154)","v":{"$error":"#N/A"}},{"$f":"IF(BubblePivot!C154 = 0,NA(),BubblePivot!C154)","v":{"$error":"#N/A"}},{"$f":"IF(BubblePivot!D154 = 0,NA(),BubblePivot!D154)","v":{"$error":"#N/A"}},{"$error":"#N/A"}]
[{"$f":"IF(BubblePivot!A155 = 0,NA(),BubblePivot!A155)","v":{"$error":"#N/A"}},{"$f":"IF(BubblePivot!B155 = 0,NA(),BubblePivot!B155)","v":{"$error":"#N/A"}},{"$f":"IF(BubblePivot!C155 = 0,NA(),BubblePivot!C155)","v":{"$error":"#N/A"}},{"$f":"IF(BubblePivot!D155 = 0,NA(),BubblePivot!D155)","v":{"$error":"#N/A"}},{"$error":"#N/A"}]
[{"$f":"IF(BubblePivot!A156 = 0,NA(),BubblePivot!A156)","v":{"$error":"#N/A"}},{"$f":"IF(BubblePivot!B156 = 0,NA(),BubblePivot!B156)","v":{"$error":"#N/A"}},{"$f":"IF(BubblePivot!C156 = 0,NA(),BubblePivot!C156)","v":{"$error":"#N/A"}},{"$f":"IF(BubblePivot!D156 = 0,NA(),BubblePivot!D156)","v":{"$error":"#N/A"}},{"$error":"#N/A"}]
[{"$f":"IF(BubblePivot!A157 = 0,NA(),BubblePivot!A157)","v":{"$error":"#N/A"}},{"$f":"IF(BubblePivot!B157 = 0,NA(),BubblePivot!B157)","v":{"$error":"#N/A"}},{"$f":"IF(BubblePivot!C157 = 0,NA(),BubblePivot!C157)","v":{"$error":"#N/A"}},{"$f":"IF(BubblePivot!D157 = 0,NA(),BubblePivot!D157)","v":{"$error":"#N/A"}},{"$error":"#N/A"}]
[{"$f":"IF(BubblePivot!A158 = 0,NA(),BubblePivot!A158)","v":{"$error":"#N/A"}},{"$f":"IF(BubblePivot!B158 = 0,NA(),BubblePivot!B158)","v":{"$error":"#N/A"}},{"$f":"IF(BubblePivot!C158 = 0,NA(),BubblePivot!C158)","v":{"$error":"#N/A"}},{"$f":"IF(BubblePivot!D158 = 0,NA(),BubblePivot!D158)","v":{"$error":"#N/A"}},{"$error":"#N/A"}]
[{"$f":"IF(BubblePivot!A159 = 0,NA(),BubblePivot!A159)","v":{"$error":"#N/A"}},{"$f":"IF(BubblePivot!B159 = 0,NA(),BubblePivot!B159)","v":{"$error":"#N/A"}},{"$f":"IF(BubblePivot!C159 = 0,NA(),BubblePivot!C159)","v":{"$error":"#N/A"}},{"$f":"IF(BubblePivot!D159 = 0,NA(),BubblePivot!D159)","v":{"$error":"#N/A"}},{"$error":"#N/A"}]
[{"$f":"IF(BubblePivot!A160 = 0,NA(),BubblePivot!A160)","v":{"$error":"#N/A"}},{"$f":"IF(BubblePivot!B160 = 0,NA(),BubblePivot!B160)","v":{"$error":"#N/A"}},{"$f":"IF(BubblePivot!C160 = 0,NA(),BubblePivot!C160)","v":{"$error":"#N/A"}},{"$f":"IF(BubblePivot!D160 = 0,NA(),BubblePivot!D160)","v":{"$error":"#N/A"}},{"$error":"#N/A"}]
[{"$f":"IF(BubblePivot!A161 = 0,NA(),BubblePivot!A161)","v":{"$error":"#N/A"}},{"$f":"IF(BubblePivot!B161 = 0,NA(),BubblePivot!B161)","v":{"$error":"#N/A"}},{"$f":"IF(BubblePivot!C161 = 0,NA(),BubblePivot!C161)","v":{"$error":"#N/A"}},{"$f":"IF(BubblePivot!D161 = 0,NA(),BubblePivot!D161)","v":{"$error":"#N/A"}},{"$error":"#N/A"}]
[{"$f":"IF(BubblePivot!A162 = 0,NA(),BubblePivot!A162)","v":{"$error":"#N/A"}},{"$f":"IF(BubblePivot!B162 = 0,NA(),BubblePivot!B162)","v":{"$error":"#N/A"}},{"$f":"IF(BubblePivot!C162 = 0,NA(),BubblePivot!C162)","v":{"$error":"#N/A"}},{"$f":"IF(BubblePivot!D162 = 0,NA(),BubblePivot!D162)","v":{"$error":"#N/A"}},{"$error":"#N/A"}]
[{"$f":"IF(BubblePivot!A163 = 0,NA(),BubblePivot!A163)","v":{"$error":"#N/A"}},{"$f":"IF(BubblePivot!B163 = 0,NA(),BubblePivot!B163)","v":{"$error":"#N/A"}},{"$f":"IF(BubblePivot!C163 = 0,NA(),BubblePivot!C163)","v":{"$error":"#N/A"}},{"$f":"IF(BubblePivot!D163 = 0,NA(),BubblePivot!D163)","v":{"$error":"#N/A"}},{"$error":"#N/A"}]
[{"$f":"IF(BubblePivot!A164 = 0,NA(),BubblePivot!A164)","v":{"$error":"#N/A"}},{"$f":"IF(BubblePivot!B164 = 0,NA(),BubblePivot!B164)","v":{"$error":"#N/A"}},{"$f":"IF(BubblePivot!C164 = 0,NA(),BubblePivot!C164)","v":{"$error":"#N/A"}},{"$f":"IF(BubblePivot!D164 = 0,NA(),BubblePivot!D164)","v":{"$error":"#N/A"}},{"$error":"#N/A"}]
[{"$f":"IF(BubblePivot!A165 = 0,NA(),BubblePivot!A165)","v":{"$error":"#N/A"}},{"$f":"IF(BubblePivot!B165 = 0,NA(),BubblePivot!B165)","v":{"$error":"#N/A"}},{"$f":"IF(BubblePivot!C165 = 0,NA(),BubblePivot!C165)","v":{"$error":"#N/A"}},{"$f":"IF(BubblePivot!D165 = 0,NA(),BubblePivot!D165)","v":{"$error":"#N/A"}},{"$error":"#N/A"}]
[{"$f":"IF(BubblePivot!A166 = 0,NA(),BubblePivot!A166)","v":{"$error":"#N/A"}},{"$f":"IF(BubblePivot!B166 = 0,NA(),BubblePivot!B166)","v":{"$error":"#N/A"}},{"$f":"IF(BubblePivot!C166 = 0,NA(),BubblePivot!C166)","v":{"$error":"#N/A"}},{"$f":"IF(BubblePivot!D166 = 0,NA(),BubblePivot!D166)","v":{"$error":"#N/A"}},{"$error":"#N/A"}]
[{"$f":"IF(BubblePivot!A167 = 0,NA(),BubblePivot!A167)","v":{"$error":"#N/A"}},{"$f":"IF(BubblePivot!B167 = 0,NA(),BubblePivot!B167)","v":{"$error":"#N/A"}},{"$f":"IF(BubblePivot!C167 = 0,NA(),BubblePivot!C167)","v":{"$error":"#N/A"}},{"$f":"IF(BubblePivot!D167 = 0,NA(),BubblePivot!D167)","v":{"$error":"#N/A"}},{"$error":"#N/A"}]
[{"$f":"IF(BubblePivot!A168 = 0,NA(),BubblePivot!A168)","v":{"$error":"#N/A"}},{"$f":"IF(BubblePivot!B168 = 0,NA(),BubblePivot!B168)","v":{"$error":"#N/A"}},{"$f":"IF(BubblePivot!C168 = 0,NA(),BubblePivot!C168)","v":{"$error":"#N/A"}},{"$f":"IF(BubblePivot!D168 = 0,NA(),BubblePivot!D168)","v":{"$error":"#N/A"}},{"$error":"#N/A"}]
[{"$f":"IF(BubblePivot!A169 = 0,NA(),BubblePivot!A169)","v":{"$error":"#N/A"}},{"$f":"IF(BubblePivot!B169 = 0,NA(),BubblePivot!B169)","v":{"$error":"#N/A"}},{"$f":"IF(BubblePivot!C169 = 0,NA(),BubblePivot!C169)","v":{"$error":"#N/A"}},{"$f":"IF(BubblePivot!D169 = 0,NA(),BubblePivot!D169)","v":{"$error":"#N/A"}},{"$error":"#N/A"}]
[{"$f":"IF(BubblePivot!A170 = 0,NA(),BubblePivot!A170)","v":{"$error":"#N/A"}},{"$f":"IF(BubblePivot!B170 = 0,NA(),BubblePivot!B170)","v":{"$error":"#N/A"}},{"$f":"IF(BubblePivot!C170 = 0,NA(),BubblePivot!C170)","v":{"$error":"#N/A"}},{"$f":"IF(BubblePivot!D170 = 0,NA(),BubblePivot!D170)","v":{"$error":"#N/A"}},{"$error":"#N/A"}]
[{"$f":"IF(BubblePivot!A171 = 0,NA(),BubblePivot!A171)","v":{"$error":"#N/A"}},{"$f":"IF(BubblePivot!B171 = 0,NA(),BubblePivot!B171)","v":{"$error":"#N/A"}},{"$f":"IF(BubblePivot!C171 = 0,NA(),BubblePivot!C171)","v":{"$error":"#N/A"}},{"$f":"IF(BubblePivot!D171 = 0,NA(),BubblePivot!D171)","v":{"$error":"#N/A"}},{"$error":"#N/A"}]
[{"$f":"IF(BubblePivot!A172 = 0,NA(),BubblePivot!A172)","v":{"$error":"#N/A"}},{"$f":"IF(BubblePivot!B172 = 0,NA(),BubblePivot!B172)","v":{"$error":"#N/A"}},{"$f":"IF(BubblePivot!C172 = 0,NA(),BubblePivot!C172)","v":{"$error":"#N/A"}},{"$f":"IF(BubblePivot!D172 = 0,NA(),BubblePivot!D172)","v":{"$error":"#N/A"}},{"$error":"#N/A"}]
[{"$f":"IF(BubblePivot!A173 = 0,NA(),BubblePivot!A173)","v":{"$error":"#N/A"}},{"$f":"IF(BubblePivot!B173 = 0,NA(),BubblePivot!B173)","v":{"$error":"#N/A"}},{"$f":"IF(BubblePivot!C173 = 0,NA(),BubblePivot!C173)","v":{"$error":"#N/A"}},{"$f":"IF(BubblePivot!D173 = 0,NA(),BubblePivot!D173)","v":{"$error":"#N/A"}},{"$error":"#N/A"}]
[{"$f":"IF(BubblePivot!A174 = 0,NA(),BubblePivot!A174)","v":{"$error":"#N/A"}},{"$f":"IF(BubblePivot!B174 = 0,NA(),BubblePivot!B174)","v":{"$error":"#N/A"}},{"$f":"IF(BubblePivot!C174 = 0,NA(),BubblePivot!C174)","v":{"$error":"#N/A"}},{"$f":"IF(BubblePivot!D174 = 0,NA(),BubblePivot!D174)","v":{"$error":"#N/A"}},{"$error":"#N/A"}]
[{"$f":"IF(BubblePivot!A175 = 0,NA(),BubblePivot!A175)","v":{"$error":"#N/A"}},{"$f":"IF(BubblePivot!B175 = 0,NA(),BubblePivot!B175)","v":{"$error":"#N/A"}},{"$f":"IF(BubblePivot!C175 = 0,NA(),BubblePivot!C175)","v":{"$error":"#N/A"}},{"$f":"IF(BubblePivot!D175 = 0,NA(),BubblePivot!D175)","v":{"$error":"#N/A"}},{"$error":"#N/A"}]
[{"$f":"IF(BubblePivot!A176 = 0,NA(),BubblePivot!A176)","v":{"$error":"#N/A"}},{"$f":"IF(BubblePivot!B176 = 0,NA(),BubblePivot!B176)","v":{"$error":"#N/A"}},{"$f":"IF(BubblePivot!C176 = 0,NA(),BubblePivot!C176)","v":{"$error":"#N/A"}},{"$f":"IF(BubblePivot!D176 = 0,NA(),BubblePivot!D176)","v":{"$error":"#N/A"}},{"$error":"#N/A"}]
[{"$f":"IF(BubblePivot!A177 = 0,NA(),BubblePivot!A177)","v":{"$error":"#N/A"}},{"$f":"IF(BubblePivot!B177 = 0,NA(),BubblePivot!B177)","v":{"$error":"#N/A"}},{"$f":"IF(BubblePivot!C177 = 0,NA(),BubblePivot!C177)","v":{"$error":"#N/A"}},{"$f":"IF(BubblePivot!D177 = 0,NA(),BubblePivot!D177)","v":{"$error":"#N/A"}},{"$error":"#N/A"}]
[{"$f":"IF(BubblePivot!A178 = 0,NA(),BubblePivot!A178)","v":{"$error":"#N/A"}},{"$f":"IF(BubblePivot!B178 = 0,NA(),BubblePivot!B178)","v":{"$error":"#N/A"}},{"$f":"IF(BubblePivot!C178 = 0,NA(),BubblePivot!C178)","v":{"$error":"#N/A"}},{"$f":"IF(BubblePivot!D178 = 0,NA(),BubblePivot!D178)","v":{"$error":"#N/A"}},{"$error":"#N/A"}]
[{"$f":"IF(BubblePivot!A179 = 0,NA(),BubblePivot!A179)","v":{"$error":"#N/A"}},{"$f":"IF(BubblePivot!B179 = 0,NA(),BubblePivot!B179)","v":{"$error":"#N/A"}},{"$f":"IF(BubblePivot!C179 = 0,NA(),BubblePivot!C179)","v":{"$error":"#N/A"}},{"$f":"IF(BubblePivot!D179 = 0,NA(),BubblePivot!D179)","v":{"$error":"#N/A"}},{"$error":"#N/A"}]
[{"$f":"IF(BubblePivot!A180 = 0,NA(),BubblePivot!A180)","v":{"$error":"#N/A"}},{"$f":"IF(BubblePivot!B180 = 0,NA(),BubblePivot!B180)","v":{"$error":"#N/A"}},{"$f":"IF(BubblePivot!C180 = 0,NA(),BubblePivot!C180)","v":{"$error":"#N/A"}},{"$f":"IF(BubblePivot!D180 = 0,NA(),BubblePivot!D180)","v":{"$error":"#N/A"}},{"$error":"#N/A"}]
[{"$f":"IF(BubblePivot!A181 = 0,NA(),BubblePivot!A181)","v":{"$error":"#N/A"}},{"$f":"IF(BubblePivot!B181 = 0,NA(),BubblePivot!B181)","v":{"$error":"#N/A"}},{"$f":"IF(BubblePivot!C181 = 0,NA(),BubblePivot!C181)","v":{"$error":"#N/A"}},{"$f":"IF(BubblePivot!D181 = 0,NA(),BubblePivot!D181)","v":{"$error":"#N/A"}},{"$error":"#N/A"}]
[{"$f":"IF(BubblePivot!A182 = 0,NA(),BubblePivot!A182)","v":{"$error":"#N/A"}},{"$f":"IF(BubblePivot!B182 = 0,NA(),BubblePivot!B182)","v":{"$error":"#N/A"}},{"$f":"IF(BubblePivot!C182 = 0,NA(),BubblePivot!C182)","v":{"$error":"#N/A"}},{"$f":"IF(BubblePivot!D182 = 0,NA(),BubblePivot!D182)","v":{"$error":"#N/A"}},{"$error":"#N/A"}]
[{"$f":"IF(BubblePivot!A183 = 0,NA(),BubblePivot!A183)","v":{"$error":"#N/A"}},{"$f":"IF(BubblePivot!B183 = 0,NA(),BubblePivot!B183)","v":{"$error":"#N/A"}},{"$f":"IF(BubblePivot!C183 = 0,NA(),BubblePivot!C183)","v":{"$error":"#N/A"}},{"$f":"IF(BubblePivot!D183 = 0,NA(),BubblePivot!D183)","v":{"$error":"#N/A"}},{"$error":"#N/A"}]
[{"$f":"IF(BubblePivot!A184 = 0,NA(),BubblePivot!A184)","v":{"$error":"#N/A"}},{"$f":"IF(BubblePivot!B184 = 0,NA(),BubblePivot!B184)","v":{"$error":"#N/A"}},{"$f":"IF(BubblePivot!C184 = 0,NA(),BubblePivot!C184)","v":{"$error":"#N/A"}},{"$f":"IF(BubblePivot!D184 = 0,NA(),BubblePivot!D184)","v":{"$error":"#N/A"}},{"$error":"#N/A"}]
[{"$f":"IF(BubblePivot!A185 = 0,NA(),BubblePivot!A185)","v":{"$error":"#N/A"}},{"$f":"IF(BubblePivot!B185 = 0,NA(),BubblePivot!B185)","v":{"$error":"#N/A"}},{"$f":"IF(BubblePivot!C185 = 0,NA(),BubblePivot!C185)","v":{"$error":"#N/A"}},{"$f":"IF(BubblePivot!D185 = 0,NA(),BubblePivot!D185)","v":{"$error":"#N/A"}},{"$error":"#N/A"}]
[{"$f":"IF(BubblePivot!A186 = 0,NA(),BubblePivot!A186)","v":{"$error":"#N/A"}},{"$f":"IF(BubblePivot!B186 = 0,NA(),BubblePivot!B186)","v":{"$error":"#N/A"}},{"$f":"IF(BubblePivot!C186 = 0,NA(),BubblePivot!C186)","v":{"$error":"#N/A"}},{"$f":"IF(BubblePivot!D186 = 0,NA(),BubblePivot!D186)","v":{"$error":"#N/A"}},{"$error":"#N/A"}]
[{"$f":"IF(BubblePivot!A187 = 0,NA(),BubblePivot!A187)","v":{"$error":"#N/A"}},{"$f":"IF(BubblePivot!B187 = 0,NA(),BubblePivot!B187)","v":{"$error":"#N/A"}},{"$f":"IF(BubblePivot!C187 = 0,NA(),BubblePivot!C187)","v":{"$error":"#N/A"}},{"$f":"IF(BubblePivot!D187 = 0,NA(),BubblePivot!D187)","v":{"$error":"#N/A"}},{"$error":"#N/A"}]
[{"$f":"IF(BubblePivot!A188 = 0,NA(),BubblePivot!A188)","v":{"$error":"#N/A"}},{"$f":"IF(BubblePivot!B188 = 0,NA(),BubblePivot!B188)","v":{"$error":"#N/A"}},{"$f":"IF(BubblePivot!C188 = 0,NA(),BubblePivot!C188)","v":{"$error":"#N/A"}},{"$f":"IF(BubblePivot!D188 = 0,NA(),BubblePivot!D188)","v":{"$error":"#N/A"}},{"$error":"#N/A"}]
[{"$f":"IF(BubblePivot!A189 = 0,NA(),BubblePivot!A189)","v":{"$error":"#N/A"}},{"$f":"IF(BubblePivot!B189 = 0,NA(),BubblePivot!B189)","v":{"$error":"#N/A"}},{"$f":"IF(BubblePivot!C189 = 0,NA(),BubblePivot!C189)","v":{"$error":"#N/A"}},{"$f":"IF(BubblePivot!D189 = 0,NA(),BubblePivot!D189)","v":{"$error":"#N/A"}},{"$error":"#N/A"}]
[{"$f":"IF(BubblePivot!A190 = 0,NA(),BubblePivot!A190)","v":{"$error":"#N/A"}},{"$f":"IF(BubblePivot!B190 = 0,NA(),BubblePivot!B190)","v":{"$error":"#N/A"}},{"$f":"IF(BubblePivot!C190 = 0,NA(),BubblePivot!C190)","v":{"$error":"#N/A"}},{"$f":"IF(BubblePivot!D190 = 0,NA(),BubblePivot!D190)","v":{"$error":"#N/A"}},{"$error":"#N/A"}]
[{"$f":"IF(BubblePivot!A191 = 0,NA(),BubblePivot!A191)","v":{"$error":"#N/A"}},{"$f":"IF(BubblePivot!B191 = 0,NA(),BubblePivot!B191)","v":{"$error":"#N/A"}},{"$f":"IF(BubblePivot!C191 = 0,NA(),BubblePivot!C191)","v":{"$error":"#N/A"}},{"$f":"IF(BubblePivot!D191 = 0,NA(),BubblePivot!D191)","v":{"$error":"#N/A"}},{"$error":"#N/A"}]
[{"$f":"IF(BubblePivot!A192 = 0,NA(),BubblePivot!A192)","v":{"$error":"#N/A"}},{"$f":"IF(BubblePivot!B192 = 0,NA(),BubblePivot!B192)","v":{"$error":"#N/A"}},{"$f":"IF(BubblePivot!C192 = 0,NA(),BubblePivot!C192)","v":{"$error":"#N/A"}},{"$f":"IF(BubblePivot!D192 = 0,NA(),BubblePivot!D192)","v":{"$error":"#N/A"}},{"$error":"#N/A"}]
[{"$f":"IF(BubblePivot!A193 = 0,NA(),BubblePivot!A193)","v":{"$error":"#N/A"}},{"$f":"IF(BubblePivot!B193 = 0,NA(),BubblePivot!B193)","v":{"$error":"#N/A"}},{"$f":"IF(BubblePivot!C193 = 0,NA(),BubblePivot!C193)","v":{"$error":"#N/A"}},{"$f":"IF(BubblePivot!D193 = 0,NA(),BubblePivot!D193)","v":{"$error":"#N/A"}},{"$error":"#N/A"}]
[{"$f":"IF(BubblePivot!A194 = 0,NA(),BubblePivot!A194)","v":{"$error":"#N/A"}},{"$f":"IF(BubblePivot!B194 = 0,NA(),BubblePivot!B194)","v":{"$error":"#N/A"}},{"$f":"IF(BubblePivot!C194 = 0,NA(),BubblePivot!C194)","v":{"$error":"#N/A"}},{"$f":"IF(BubblePivot!D194 = 0,NA(),BubblePivot!D194)","v":{"$error":"#N/A"}},{"$error":"#N/A"}]
[{"$f":"IF(BubblePivot!A195 = 0,NA(),BubblePivot!A195)","v":{"$error":"#N/A"}},{"$f":"IF(BubblePivot!B195 = 0,NA(),BubblePivot!B195)","v":{"$error":"#N/A"}},{"$f":"IF(BubblePivot!C195 = 0,NA(),BubblePivot!C195)","v":{"$error":"#N/A"}},{"$f":"IF(BubblePivot!D195 = 0,NA(),BubblePivot!D195)","v":{"$error":"#N/A"}},{"$error":"#N/A"}]
[{"$f":"IF(BubblePivot!A196 = 0,NA(),BubblePivot!A196)","v":{"$error":"#N/A"}},{"$f":"IF(BubblePivot!B196 = 0,NA(),BubblePivot!B196)","v":{"$error":"#N/A"}},{"$f":"IF(BubblePivot!C196 = 0,NA(),BubblePivot!C196)","v":{"$error":"#N/A"}},{"$f":"IF(BubblePivot!D196 = 0,NA(),BubblePivot!D196)","v":{"$error":"#N/A"}},{"$f":"A194","v":{"$error":"#N/A"}}]
[{"$f":"IF(BubblePivot!A197 = 0,NA(),BubblePivot!A197)","v":{"$error":"#N/A"}},{"$f":"IF(BubblePivot!B197 = 0,NA(),BubblePivot!B197)","v":{"$error":"#N/A"}},{"$f":"IF(BubblePivot!C197 = 0,NA(),BubblePivot!C197)","v":{"$error":"#N/A"}},{"$f":"IF(BubblePivot!D197 = 0,NA(),BubblePivot!D197)","v":{"$error":"#N/A"}},{"$error":"#N/A"}]
[{"$f":"IF(BubblePivot!A198 = 0,NA(),BubblePivot!A198)","v":{"$error":"#N/A"}},{"$f":"IF(BubblePivot!B198 = 0,NA(),BubblePivot!B198)","v":{"$error":"#N/A"}},{"$f":"IF(BubblePivot!C198 = 0,NA(),BubblePivot!C198)","v":{"$error":"#N/A"}},{"$f":"IF(BubblePivot!D198 = 0,NA(),BubblePivot!D198)","v":{"$error":"#N/A"}},{"$error":"#N/A"}]
[{"$f":"IF(BubblePivot!A199 = 0,NA(),BubblePivot!A199)","v":{"$error":"#N/A"}},{"$f":"IF(BubblePivot!B199 = 0,NA(),BubblePivot!B199)","v":{"$error":"#N/A"}},{"$f":"IF(BubblePivot!C199 = 0,NA(),BubblePivot!C199)","v":{"$error":"#N/A"}},{"$f":"IF(BubblePivot!D199 = 0,NA(),BubblePivot!D199)","v":{"$error":"#N/A"}},{"$error":"#N/A"}]
[{"$f":"IF(BubblePivot!A200 = 0,NA(),BubblePivot!A200)","v":{"$error":"#N/A"}},{"$f":"IF(BubblePivot!B200 = 0,NA(),BubblePivot!B200)","v":{"$error":"#N/A"}},{"$f":"IF(BubblePivot!C200 = 0,NA(),BubblePivot!C200)","v":{"$error":"#N/A"}},{"$f":"IF(BubblePivot!D200 = 0,NA(),BubblePivot!D200)","v":{"$error":"#N/A"}},{"$error":"#N/A"}]
[{"$f":"IF(BubblePivot!A201 = 0,NA(),BubblePivot!A201)","v":{"$error":"#N/A"}},{"$f":"IF(BubblePivot!B201 = 0,NA(),BubblePivot!B201)","v":{"$error":"#N/A"}},{"$f":"IF(BubblePivot!C201 = 0,NA(),BubblePivot!C201)","v":{"$error":"#N/A"}},{"$f":"IF(BubblePivot!D201 = 0,NA(),BubblePivot!D201)","v":{"$error":"#N/A"}},{"$error":"#N/A"}]
[{"$f":"IF(BubblePivot!A202 = 0,NA(),BubblePivot!A202)","v":{"$error":"#N/A"}},{"$f":"IF(BubblePivot!B202 = 0,NA(),BubblePivot!B202)","v":{"$error":"#N/A"}},{"$f":"IF(BubblePivot!C202 = 0,NA(),BubblePivot!C202)","v":{"$error":"#N/A"}},{"$f":"IF(BubblePivot!D202 = 0,NA(),BubblePivot!D202)","v":{"$error":"#N/A"}},{"$error":"#N/A"}]
[{"$f":"IF(BubblePivot!A203 = 0,NA(),BubblePivot!A203)","v":{"$error":"#N/A"}},{"$f":"IF(BubblePivot!B203 = 0,NA(),BubblePivot!B203)","v":{"$error":"#N/A"}},{"$f":"IF(BubblePivot!C203 = 0,NA(),BubblePivot!C203)","v":{"$error":"#N/A"}},{"$f":"IF(BubblePivot!D203 = 0,NA(),BubblePivot!D203)","v":{"$error":"#N/A"}},{"$error":"#N/A"}]
[{"$f":"IF(BubblePivot!A204 = 0,NA(),BubblePivot!A204)","v":{"$error":"#N/A"}},{"$f":"IF(BubblePivot!B204 = 0,NA(),BubblePivot!B204)","v":{"$error":"#N/A"}},{"$f":"IF(BubblePivot!C204 = 0,NA(),BubblePivot!C204)","v":{"$error":"#N/A"}},{"$f":"IF(BubblePivot!D204 = 0,NA(),BubblePivot!D204)","v":{"$error":"#N/A"}},{"$error":"#N/A"}]
[{"$f":"IF(BubblePivot!A205 = 0,NA(),BubblePivot!A205)","v":{"$error":"#N/A"}},{"$f":"IF(BubblePivot!B205 = 0,NA(),BubblePivot!B205)","v":{"$error":"#N/A"}},{"$f":"IF(BubblePivot!C205 = 0,NA(),BubblePivot!C205)","v":{"$error":"#N/A"}},{"$f":"IF(BubblePivot!D205 = 0,NA(),BubblePivot!D205)","v":{"$error":"#N/A"}},{"$error":"#N/A"}]
[{"$f":"IF(BubblePivot!A206 = 0,NA(),BubblePivot!A206)","v":{"$error":"#N/A"}},{"$f":"IF(BubblePivot!B206 = 0,NA(),BubblePivot!B206)","v":{"$error":"#N/A"}},{"$f":"IF(BubblePivot!C206 = 0,NA(),BubblePivot!C206)","v":{"$error":"#N/A"}},{"$f":"IF(BubblePivot!D206 = 0,NA(),BubblePivot!D206)","v":{"$error":"#N/A"}},{"$error":"#N/A"}]
[{"$f":"IF(BubblePivot!A207 = 0,NA(),BubblePivot!A207)","v":{"$error":"#N/A"}},{"$f":"IF(BubblePivot!B207 = 0,NA(),BubblePivot!B207)","v":{"$error":"#N/A"}},{"$f":"IF(BubblePivot!C207 = 0,NA(),BubblePivot!C207)","v":{"$error":"#N/A"}},{"$f":"IF(BubblePivot!D207 = 0,NA(),BubblePivot!D207)","v":{"$error":"#N/A"}},{"$error":"#N/A"}]
[{"$f":"IF(BubblePivot!A208 = 0,NA(),BubblePivot!A208)","v":{"$error":"#N/A"}},{"$f":"IF(BubblePivot!B208 = 0,NA(),BubblePivot!B208)","v":{"$error":"#N/A"}},{"$f":"IF(BubblePivot!C208 = 0,NA(),BubblePivot!C208)","v":{"$error":"#N/A"}},{"$f":"IF(BubblePivot!D208 = 0,NA(),BubblePivot!D208)","v":{"$error":"#N/A"}},{"$error":"#N/A"}]
[{"$f":"IF(BubblePivot!A209 = 0,NA(),BubblePivot!A209)","v":{"$error":"#N/A"}},{"$f":"IF(BubblePivot!B209 = 0,NA(),BubblePivot!B209)","v":{"$error":"#N/A"}},{"$f":"IF(BubblePivot!C209 = 0,NA(),BubblePivot!C209)","v":{"$error":"#N/A"}},{"$f":"IF(BubblePivot!D209 = 0,NA(),BubblePivot!D209)","v":{"$error":"#N/A"}},{"$error":"#N/A"}]
[{"$f":"IF(BubblePivot!A210 = 0,NA(),BubblePivot!A210)","v":{"$error":"#N/A"}},{"$f":"IF(BubblePivot!B210 = 0,NA(),BubblePivot!B210)","v":{"$error":"#N/A"}},{"$f":"IF(BubblePivot!C210 = 0,NA(),BubblePivot!C210)","v":{"$error":"#N/A"}},{"$f":"IF(BubblePivot!D210 = 0,NA(),BubblePivot!D210)","v":{"$error":"#N/A"}},{"$error":"#N/A"}]
[{"$f":"IF(BubblePivot!A211 = 0,NA(),BubblePivot!A211)","v":{"$error":"#N/A"}},{"$f":"IF(BubblePivot!B211 = 0,NA(),BubblePivot!B211)","v":{"$error":"#N/A"}},{"$f":"IF(BubblePivot!C211 = 0,NA(),BubblePivot!C211)","v":{"$error":"#N/A"}},{"$f":"IF(BubblePivot!D211 = 0,NA(),BubblePivot!D211)","v":{"$error":"#N/A"}},{"$error":"#N/A"}]
[{"$f":"IF(BubblePivot!A212 = 0,NA(),BubblePivot!A212)","v":{"$error":"#N/A"}},{"$f":"IF(BubblePivot!B212 = 0,NA(),BubblePivot!B212)","v":{"$error":"#N/A"}},{"$f":"IF(BubblePivot!C212 = 0,NA(),BubblePivot!C212)","v":{"$error":"#N/A"}},{"$f":"IF(BubblePivot!D212 = 0,NA(),BubblePivot!D212)","v":{"$error":"#N/A"}},{"$error":"#N/A"}]
[{"$f":"IF(BubblePivot!A213 = 0,NA(),BubblePivot!A213)","v":{"$error":"#N/A"}},{"$f":"IF(BubblePivot!B213 = 0,NA(),BubblePivot!B213)","v":{"$error":"#N/A"}},{"$f":"IF(BubblePivot!C213 = 0,NA(),BubblePivot!C213)","v":{"$error":"#N/A"}},{"$f":"IF(BubblePivot!D213 = 0,NA(),BubblePivot!D213)","v":{"$error":"#N/A"}},{"$error":"#N/A"}]
[{"$f":"IF(BubblePivot!A214 = 0,NA(),BubblePivot!A214)","v":{"$error":"#N/A"}},{"$f":"IF(BubblePivot!B214 = 0,NA(),BubblePivot!B214)","v":{"$error":"#N/A"}},{"$f":"IF(BubblePivot!C214 = 0,NA(),BubblePivot!C214)","v":{"$error":"#N/A"}},{"$f":"IF(BubblePivot!D214 = 0,NA(),BubblePivot!D214)","v":{"$error":"#N/A"}},{"$error":"#N/A"}]
[{"$f":"IF(BubblePivot!A215 = 0,NA(),BubblePivot!A215)","v":{"$error":"#N/A"}},{"$f":"IF(BubblePivot!B215 = 0,NA(),BubblePivot!B215)","v":{"$error":"#N/A"}},{"$f":"IF(BubblePivot!C215 = 0,NA(),BubblePivot!C215)","v":{"$error":"#N/A"}},{"$f":"IF(BubblePivot!D215 = 0,NA(),BubblePivot!D215)","v":{"$error":"#N/A"}},{"$error":"#N/A"}]
[{"$f":"IF(BubblePivot!A216 = 0,NA(),BubblePivot!A216)","v":{"$error":"#N/A"}},{"$f":"IF(BubblePivot!B216 = 0,NA(),BubblePivot!B216)","v":{"$error":"#N/A"}},{"$f":"IF(BubblePivot!C216 = 0,NA(),BubblePivot!C216)","v":{"$error":"#N/A"}},{"$f":"IF(BubblePivot!D216 = 0,NA(),BubblePivot!D216)","v":{"$error":"#N/A"}},{"$error":"#N/A"}]
[{"$f":"IF(BubblePivot!A217 = 0,NA(),BubblePivot!A217)","v":{"$error":"#N/A"}},{"$f":"IF(BubblePivot!B217 = 0,NA(),BubblePivot!B217)","v":{"$error":"#N/A"}},{"$f":"IF(BubblePivot!C217 = 0,NA(),BubblePivot!C217)","v":{"$error":"#N/A"}},{"$f":"IF(BubblePivot!D217 = 0,NA(),BubblePivot!D217)","v":{"$error":"#N/A"}},{"$error":"#N/A"}]
[{"$f":"IF(BubblePivot!A218 = 0,NA(),BubblePivot!A218)","v":{"$error":"#N/A"}},{"$f":"IF(BubblePivot!B218 = 0,NA(),BubblePivot!B218)","v":{"$error":"#N/A"}},{"$f":"IF(BubblePivot!C218 = 0,NA(),BubblePivot!C218)","v":{"$error":"#N/A"}},{"$f":"IF(BubblePivot!D218 = 0,NA(),BubblePivot!D218)","v":{"$error":"#N/A"}},{"$error":"#N/A"}]
[{"$f":"IF(BubblePivot!A219 = 0,NA(),BubblePivot!A219)","v":{"$error":"#N/A"}},{"$f":"IF(BubblePivot!B219 = 0,NA(),BubblePivot!B219)","v":{"$error":"#N/A"}},{"$f":"IF(BubblePivot!C219 = 0,NA(),BubblePivot!C219)","v":{"$error":"#N/A"}},{"$f":"IF(BubblePivot!D219 = 0,NA(),BubblePivot!D219)","v":{"$error":"#N/A"}},{"$error":"#N/A"}]
[{"$f":"IF(BubblePivot!A220 = 0,NA(),BubblePivot!A220)","v":{"$error":"#N/A"}},{"$f":"IF(BubblePivot!B220 = 0,NA(),BubblePivot!B220)","v":{"$error":"#N/A"}},{"$f":"IF(BubblePivot!C220 = 0,NA(),BubblePivot!C220)","v":{"$error":"#N/A"}},{"$f":"IF(BubblePivot!D220 = 0,NA(),BubblePivot!D220)","v":{"$error":"#N/A"}},{"$error":"#N/A"}]
[{"$f":"IF(BubblePivot!A221 = 0,NA(),BubblePivot!A221)","v":{"$error":"#N/A"}},{"$f":"IF(BubblePivot!B221 = 0,NA(),BubblePivot!B221)","v":{"$error":"#N/A"}},{"$f":"IF(BubblePivot!C221 = 0,NA(),BubblePivot!C221)","v":{"$error":"#N/A"}},{"$f":"IF(BubblePivot!D221 = 0,NA(),BubblePivot!D221)","v":{"$error":"#N/A"}},{"$error":"#N/A"}]
[{"$f":"IF(BubblePivot!A222 = 0,NA(),BubblePivot!A222)","v":{"$error":"#N/A"}},{"$f":"IF(BubblePivot!B222 = 0,NA(),BubblePivot!B222)","v":{"$error":"#N/A"}},{"$f":"IF(BubblePivot!C222 = 0,NA(),BubblePivot!C222)","v":{"$error":"#N/A"}},{"$f":"IF(BubblePivot!D222 = 0,NA(),BubblePivot!D222)","v":{"$error":"#N/A"}},{"$error":"#N/A"}]
[{"$f":"IF(BubblePivot!A223 = 0,NA(),BubblePivot!A223)","v":{"$error":"#N/A"}},{"$f":"IF(BubblePivot!B223 = 0,NA(),BubblePivot!B223)","v":{"$error":"#N/A"}},{"$f":"IF(BubblePivot!C223 = 0,NA(),BubblePivot!C223)","v":{"$error":"#N/A"}},{"$f":"IF(BubblePivot!D223 = 0,NA(),BubblePivot!D223)","v":{"$error":"#N/A"}},{"$error":"#N/A"}]
[{"$f":"IF(BubblePivot!A224 = 0,NA(),BubblePivot!A224)","v":{"$error":"#N/A"}},{"$f":"IF(BubblePivot!B224 = 0,NA(),BubblePivot!B224)","v":{"$error":"#N/A"}},{"$f":"IF(BubblePivot!C224 = 0,NA(),BubblePivot!C224)","v":{"$error":"#N/A"}},{"$f":"IF(BubblePivot!D224 = 0,NA(),BubblePivot!D224)","v":{"$error":"#N/A"}},{"$error":"#N/A"}]
[{"$f":"IF(BubblePivot!A225 = 0,NA(),BubblePivot!A225)","v":{"$error":"#N/A"}},{"$f":"IF(BubblePivot!B225 = 0,NA(),BubblePivot!B225)","v":{"$error":"#N/A"}},{"$f":"IF(BubblePivot!C225 = 0,NA(),BubblePivot!C225)","v":{"$error":"#N/A"}},{"$f":"IF(BubblePivot!D225 = 0,NA(),BubblePivot!D225)","v":{"$error":"#N/A"}},{"$error":"#N/A"}]
[{"$f":"IF(BubblePivot!A226 = 0,NA(),BubblePivot!A226)","v":{"$error":"#N/A"}},{"$f":"IF(BubblePivot!B226 = 0,NA(),BubblePivot!B226)","v":{"$error":"#N/A"}},{"$f":"IF(BubblePivot!C226 = 0,NA(),BubblePivot!C226)","v":{"$error":"#N/A"}},{"$f":"IF(BubblePivot!D226 = 0,NA(),BubblePivot!D226)","v":{"$error":"#N/A"}},{"$error":"#N/A"}]
[{"$f":"IF(BubblePivot!A227 = 0,NA(),BubblePivot!A227)","v":{"$error":"#N/A"}},{"$f":"IF(BubblePivot!B227 = 0,NA(),BubblePivot!B227)","v":{"$error":"#N/A"}},{"$f":"IF(BubblePivot!C227 = 0,NA(),BubblePivot!C227)","v":{"$error":"#N/A"}},{"$f":"IF(BubblePivot!D227 = 0,NA(),BubblePivot!D227)","v":{"$error":"#N/A"}},{"$error":"#N/A"}]
[{"$f":"IF(BubblePivot!A228 = 0,NA(),BubblePivot!A228)","v":{"$error":"#N/A"}},{"$f":"IF(BubblePivot!B228 = 0,NA(),BubblePivot!B228)","v":{"$error":"#N/A"}},{"$f":"IF(BubblePivot!C228 = 0,NA(),BubblePivot!C228)","v":{"$error":"#N/A"}},{"$f":"IF(BubblePivot!D228 = 0,NA(),BubblePivot!D228)","v":{"$error":"#N/A"}},{"$error":"#N/A"}]
[{"$f":"IF(BubblePivot!A229 = 0,NA(),BubblePivot!A229)","v":{"$error":"#N/A"}},{"$f":"IF(BubblePivot!B229 = 0,NA(),BubblePivot!B229)","v":{"$error":"#N/A"}},{"$f":"IF(BubblePivot!C229 = 0,NA(),BubblePivot!C229)","v":{"$error":"#N/A"}},{"$f":"IF(BubblePivot!D229 = 0,NA(),BubblePivot!D229)","v":{"$error":"#N/A"}},{"$error":"#N/A"}]
[{"$f":"IF(BubblePivot!A230 = 0,NA(),BubblePivot!A230)","v":{"$error":"#N/A"}},{"$f":"IF(BubblePivot!B230 = 0,NA(),BubblePivot!B230)","v":{"$error":"#N/A"}},{"$f":"IF(BubblePivot!C230 = 0,NA(),BubblePivot!C230)","v":{"$error":"#N/A"}},{"$f":"IF(BubblePivot!D230 = 0,NA(),BubblePivot!D230)","v":{"$error":"#N/A"}},{"$error":"#N/A"}]
[{"$f":"IF(BubblePivot!A231 = 0,NA(),BubblePivot!A231)","v":{"$error":"#N/A"}},{"$f":"IF(BubblePivot!B231 = 0,NA(),BubblePivot!B231)","v":{"$error":"#N/A"}},{"$f":"IF(BubblePivot!C231 = 0,NA(),BubblePivot!C231)","v":{"$error":"#N/A"}},{"$f":"IF(BubblePivot!D231 = 0,NA(),BubblePivot!D231)","v":{"$error":"#N/A"}},{"$error":"#N/A"}]
[{"$f":"IF(BubblePivot!A232 = 0,NA(),BubblePivot!A232)","v":{"$error":"#N/A"}},{"$f":"IF(BubblePivot!B232 = 0,NA(),BubblePivot!B232)","v":{"$error":"#N/A"}},{"$f":"IF(BubblePivot!C232 = 0,NA(),BubblePivot!C232)","v":{"$error":"#N/A"}},{"$f":"IF(BubblePivot!D232 = 0,NA(),BubblePivot!D232)","v":{"$error":"#N/A"}},{"$error":"#N/A"}]
[{"$f":"IF(BubblePivot!A233 = 0,NA(),BubblePivot!A233)","v":{"$error":"#N/A"}},{"$f":"IF(BubblePivot!B233 = 0,NA(),BubblePivot!B233)","v":{"$error":"#N/A"}},{"$f":"IF(BubblePivot!C233 = 0,NA(),BubblePivot!C233)","v":{"$error":"#N/A"}},{"$f":"IF(BubblePivot!D233 = 0,NA(),BubblePivot!D233)","v":{"$error":"#N/A"}},{"$error":"#N/A"}]
[{"$f":"IF(BubblePivot!A234 = 0,NA(),BubblePivot!A234)","v":{"$error":"#N/A"}},{"$f":"IF(BubblePivot!B234 = 0,NA(),BubblePivot!B234)","v":{"$error":"#N/A"}},{"$f":"IF(BubblePivot!C234 = 0,NA(),BubblePivot!C234)","v":{"$error":"#N/A"}},{"$f":"IF(BubblePivot!D234 = 0,NA(),BubblePivot!D234)","v":{"$error":"#N/A"}},{"$error":"#N/A"}]
[{"$f":"IF(BubblePivot!A235 = 0,NA(),BubblePivot!A235)","v":{"$error":"#N/A"}},{"$f":"IF(BubblePivot!B235 = 0,NA(),BubblePivot!B235)","v":{"$error":"#N/A"}},{"$f":"IF(BubblePivot!C235 = 0,NA(),BubblePivot!C235)","v":{"$error":"#N/A"}},{"$f":"IF(BubblePivot!D235 = 0,NA(),BubblePivot!D235)","v":{"$error":"#N/A"}},{"$error":"#N/A"}]
[{"$f":"IF(BubblePivot!A236 = 0,NA(),BubblePivot!A236)","v":{"$error":"#N/A"}},{"$f":"IF(BubblePivot!B236 = 0,NA(),BubblePivot!B236)","v":{"$error":"#N/A"}},{"$f":"IF(BubblePivot!C236 = 0,NA(),BubblePivot!C236)","v":{"$error":"#N/A"}},{"$f":"IF(BubblePivot!D236 = 0,NA(),BubblePivot!D236)","v":{"$error":"#N/A"}},{"$error":"#N/A"}]
[{"$f":"IF(BubblePivot!A237 = 0,NA(),BubblePivot!A237)","v":{"$error":"#N/A"}},{"$f":"IF(BubblePivot!B237 = 0,NA(),BubblePivot!B237)","v":{"$error":"#N/A"}},{"$f":"IF(BubblePivot!C237 = 0,NA(),BubblePivot!C237)","v":{"$error":"#N/A"}},{"$f":"IF(BubblePivot!D237 = 0,NA(),BubblePivot!D237)","v":{"$error":"#N/A"}},{"$error":"#N/A"}]
[{"$f":"IF(BubblePivot!A238 = 0,NA(),BubblePivot!A238)","v":{"$error":"#N/A"}},{"$f":"IF(BubblePivot!B238 = 0,NA(),BubblePivot!B238)","v":{"$error":"#N/A"}},{"$f":"IF(BubblePivot!C238 = 0,NA(),BubblePivot!C238)","v":{"$error":"#N/A"}},{"$f":"IF(BubblePivot!D238 = 0,NA(),BubblePivot!D238)","v":{"$error":"#N/A"}},{"$error":"#N/A"}]
[{"$f":"IF(BubblePivot!A239 = 0,NA(),BubblePivot!A239)","v":{"$error":"#N/A"}},{"$f":"IF(BubblePivot!B239 = 0,NA(),BubblePivot!B239)","v":{"$error":"#N/A"}},{"$f":"IF(BubblePivot!C239 = 0,NA(),BubblePivot!C239)","v":{"$error":"#N/A"}},{"$f":"IF(BubblePivot!D239 = 0,NA(),BubblePivot!D239)","v":{"$error":"#N/A"}},{"$error":"#N/A"}]
[{"$f":"IF(BubblePivot!A240 = 0,NA(),BubblePivot!A240)","v":{"$error":"#N/A"}},{"$f":"IF(BubblePivot!B240 = 0,NA(),BubblePivot!B240)","v":{"$error":"#N/A"}},{"$f":"IF(BubblePivot!C240 = 0,NA(),BubblePivot!C240)","v":{"$error":"#N/A"}},{"$f":"IF(BubblePivot!D240 = 0,NA(),BubblePivot!D240)","v":{"$error":"#N/A"}},{"$error":"#N/A"}]
[{"$f":"IF(BubblePivot!A241 = 0,NA(),BubblePivot!A241)","v":{"$error":"#N/A"}},{"$f":"IF(BubblePivot!B241 = 0,NA(),BubblePivot!B241)","v":{"$error":"#N/A"}},{"$f":"IF(BubblePivot!C241 = 0,NA(),BubblePivot!C241)","v":{"$error":"#N/A"}},{"$f":"IF(BubblePivot!D241 = 0,NA(),BubblePivot!D241)","v":{"$error":"#N/A"}},{"$error":"#N/A"}]
[{"$f":"IF(BubblePivot!A242 = 0,NA(),BubblePivot!A242)","v":{"$error":"#N/A"}},{"$f":"IF(BubblePivot!B242 = 0,NA(),BubblePivot!B242)","v":{"$error":"#N/A"}},{"$f":"IF(BubblePivot!C242 = 0,NA(),BubblePivot!C242)","v":{"$error":"#N/A"}},{"$f":"IF(BubblePivot!D242 = 0,NA(),BubblePivot!D242)","v":{"$error":"#N/A"}},{"$error":"#N/A"}]
[{"$f":"IF(BubblePivot!A243 = 0,NA(),BubblePivot!A243)","v":{"$error":"#N/A"}},{"$f":"IF(BubblePivot!B243 = 0,NA(),BubblePivot!B243)","v":{"$error":"#N/A"}},{"$f":"IF(BubblePivot!C243 = 0,NA(),BubblePivot!C243)","v":{"$error":"#N/A"}},{"$f":"IF(BubblePivot!D243 = 0,NA(),BubblePivot!D243)","v":{"$error":"#N/A"}},{"$error":"#N/A"}]
[{"$f":"IF(BubblePivot!A244 = 0,NA(),BubblePivot!A244)","v":{"$error":"#N/A"}},{"$f":"IF(BubblePivot!B244 = 0,NA(),BubblePivot!B244)","v":{"$error":"#N/A"}},{"$f":"IF(BubblePivot!C244 = 0,NA(),BubblePivot!C244)","v":{"$error":"#N/A"}},{"$f":"IF(BubblePivot!D244 = 0,NA(),BubblePivot!D244)","v":{"$error":"#N/A"}},{"$error":"#N/A"}]
[{"$f":"IF(BubblePivot!A245 = 0,NA(),BubblePivot!A245)","v":{"$error":"#N/A"}},{"$f":"IF(BubblePivot!B245 = 0,NA(),BubblePivot!B245)","v":{"$error":"#N/A"}},{"$f":"IF(BubblePivot!C245 = 0,NA(),BubblePivot!C245)","v":{"$error":"#N/A"}},{"$f":"IF(BubblePivot!D245 = 0,NA(),BubblePivot!D245)","v":{"$error":"#N/A"}},{"$error":"#N/A"}]
[{"$f":"IF(BubblePivot!A246 = 0,NA(),BubblePivot!A246)","v":{"$error":"#N/A"}},{"$f":"IF(BubblePivot!B246 = 0,NA(),BubblePivot!B246)","v":{"$error":"#N/A"}},{"$f":"IF(BubblePivot!C246 = 0,NA(),BubblePivot!C246)","v":{"$error":"#N/A"}},{"$f":"IF(BubblePivot!D246 = 0,NA(),BubblePivot!D246)","v":{"$error":"#N/A"}},{"$error":"#N/A"}]
[{"$f":"IF(BubblePivot!A247 = 0,NA(),BubblePivot!A247)","v":{"$error":"#N/A"}},{"$f":"IF(BubblePivot!B247 = 0,NA(),BubblePivot!B247)","v":{"$error":"#N/A"}},{"$f":"IF(BubblePivot!C247 = 0,NA(),BubblePivot!C247)","v":{"$error":"#N/A"}},{"$f":"IF(BubblePivot!D247 = 0,NA(),BubblePivot!D247)","v":{"$error":"#N/A"}},{"$error":"#N/A"}]
[{"$f":"IF(BubblePivot!A248 = 0,NA(),BubblePivot!A248)","v":{"$error":"#N/A"}},{"$f":"IF(BubblePivot!B248 = 0,NA(),BubblePivot!B248)","v":{"$error":"#N/A"}},{"$f":"IF(BubblePivot!C248 = 0,NA(),BubblePivot!C248)","v":{"$error":"#N/A"}},{"$f":"IF(BubblePivot!D248 = 0,NA(),BubblePivot!D248)","v":{"$error":"#N/A"}},{"$error":"#N/A"}]
[{"$f":"IF(BubblePivot!A249 = 0,NA(),BubblePivot!A249)","v":{"$error":"#N/A"}},{"$f":"IF(BubblePivot!B249 = 0,NA(),BubblePivot!B249)","v":{"$error":"#N/A"}},{"$f":"IF(BubblePivot!C249 = 0,NA(),BubblePivot!C249)","v":{"$error":"#N/A"}},{"$f":"IF(BubblePivot!D249 = 0,NA(),BubblePivot!D249)","v":{"$error":"#N/A"}},{"$error":"#N/A"}]
[{"$f":"IF(BubblePivot!A250 = 0,NA(),BubblePivot!A250)","v":{"$error":"#N/A"}},{"$f":"IF(BubblePivot!B250 = 0,NA(),BubblePivot!B250)","v":{"$error":"#N/A"}},{"$f":"IF(BubblePivot!C250 = 0,NA(),BubblePivot!C250)","v":{"$error":"#N/A"}},{"$f":"IF(BubblePivot!D250 = 0,NA(),BubblePivot!D250)","v":{"$error":"#N/A"}},{"$error":"#N/A"}]
[{"$f":"IF(BubblePivot!A251 = 0,NA(),BubblePivot!A251)","v":{"$error":"#N/A"}},{"$f":"IF(BubblePivot!B251 = 0,NA(),BubblePivot!B251)","v":{"$error":"#N/A"}},{"$f":"IF(BubblePivot!C251 = 0,NA(),BubblePivot!C251)","v":{"$error":"#N/A"}},{"$f":"IF(BubblePivot!D251 = 0,NA(),BubblePivot!D251)","v":{"$error":"#N/A"}},{"$error":"#N/A"}]
[{"$f":"IF(BubblePivot!A252 = 0,NA(),BubblePivot!A252)","v":{"$error":"#N/A"}},{"$f":"IF(BubblePivot!B252 = 0,NA(),BubblePivot!B252)","v":{"$error":"#N/A"}},{"$f":"IF(BubblePivot!C252 = 0,NA(),BubblePivot!C252)","v":{"$error":"#N/A"}},{"$f":"IF(BubblePivot!D252 = 0,NA(),BubblePivot!D252)","v":{"$error":"#N/A"}},{"$error":"#N/A"}]
[{"$f":"IF(BubblePivot!A253 = 0,NA(),BubblePivot!A253)","v":{"$error":"#N/A"}},{"$f":"IF(BubblePivot!B253 = 0,NA(),BubblePivot!B253)","v":{"$error":"#N/A"}},{"$f":"IF(BubblePivot!C253 = 0,NA(),BubblePivot!C253)","v":{"$error":"#N/A"}},{"$f":"IF(BubblePivot!D253 = 0,NA(),BubblePivot!D253)","v":{"$error":"#N/A"}},{"$error":"#N/A"}]
[{"$f":"IF(BubblePivot!A254 = 0,NA(),BubblePivot!A254)","v":{"$error":"#N/A"}},{"$f":"IF(BubblePivot!B254 = 0,NA(),BubblePivot!B254)","v":{"$error":"#N/A"}},{"$f":"IF(BubblePivot!C254 = 0,NA(),BubblePivot!C254)","v":{"$error":"#N/A"}},{"$f":"IF(BubblePivot!D254 = 0,NA(),BubblePivot!D254)","v":{"$error":"#N/A"}},{"$error":"#N/A"}]
[{"$f":"IF(BubblePivot!A255 = 0,NA(),BubblePivot!A255)","v":{"$error":"#N/A"}},{"$f":"IF(BubblePivot!B255 = 0,NA(),BubblePivot!B255)","v":{"$error":"#N/A"}},{"$f":"IF(BubblePivot!C255 = 0,NA(),BubblePivot!C255)","v":{"$error":"#N/A"}},{"$f":"IF(BubblePivot!D255 = 0,NA(),BubblePivot!D255)","v":{"$error":"#N/A"}},{"$error":"#N/A"}]
[{"$f":"IF(BubblePivot!A256 = 0,NA(),BubblePivot!A256)","v":{"$error":"#N/A"}},{"$f":"IF(BubblePivot!B256 = 0,NA(),BubblePivot!B256)","v":{"$error":"#N/A"}},{"$f":"IF(BubblePivot!C256 = 0,NA(),BubblePivot!C256)","v":{"$error":"#N/A"}},{"$f":"IF(BubblePivot!D256 = 0,NA(),BubblePivot!D256)","v":{"$error":"#N/A"}},{"$error":"#N/A"}]
[{"$f":"IF(BubblePivot!A257 = 0,NA(),BubblePivot!A257)","v":{"$error":"#N/A"}},{"$f":"IF(BubblePivot!B257 = 0,NA(),BubblePivot!B257)","v":{"$error":"#N/A"}},{"$f":"IF(BubblePivot!C257 = 0,NA(),BubblePivot!C257)","v":{"$error":"#N/A"}},{"$f":"IF(BubblePivot!D257 = 0,NA(),BubblePivot!D257)","v":{"$error":"#N/A"}},{"$error":"#N/A"}]
[{"$f":"IF(BubblePivot!A258 = 0,NA(),BubblePivot!A258)","v":{"$error":"#N/A"}},{"$f":"IF(BubblePivot!B258 = 0,NA(),BubblePivot!B258)","v":{"$error":"#N/A"}},{"$f":"IF(BubblePivot!C258 = 0,NA(),BubblePivot!C258)","v":{"$error":"#N/A"}},{"$f":"IF(BubblePivot!D258 = 0,NA(),BubblePivot!D258)","v":{"$error":"#N/A"}},{"$error":"#N/A"}]
[{"$f":"IF(BubblePivot!A259 = 0,NA(),BubblePivot!A259)","v":{"$error":"#N/A"}},{"$f":"IF(BubblePivot!B259 = 0,NA(),BubblePivot!B259)","v":{"$error":"#N/A"}},{"$f":"IF(BubblePivot!C259 = 0,NA(),BubblePivot!C259)","v":{"$error":"#N/A"}},{"$f":"IF(BubblePivot!D259 = 0,NA(),BubblePivot!D259)","v":{"$error":"#N/A"}},{"$error":"#N/A"}]
[{"$f":"IF(BubblePivot!A260 = 0,NA(),BubblePivot!A260)","v":{"$error":"#N/A"}},{"$f":"IF(BubblePivot!B260 = 0,NA(),BubblePivot!B260)","v":{"$error":"#N/A"}},{"$f":"IF(BubblePivot!C260 = 0,NA(),BubblePivot!C260)","v":{"$error":"#N/A"}},{"$f":"IF(BubblePivot!D260 = 0,NA(),BubblePivot!D260)","v":{"$error":"#N/A"}},{"$f":"A258","v":{"$error":"#N/A"}}]
[{"$f":"IF(BubblePivot!A261 = 0,NA(),BubblePivot!A261)","v":{"$error":"#N/A"}},{"$f":"IF(BubblePivot!B261 = 0,NA(),BubblePivot!B261)","v":{"$error":"#N/A"}},{"$f":"IF(BubblePivot!C261 = 0,NA(),BubblePivot!C261)","v":{"$error":"#N/A"}},{"$f":"IF(BubblePivot!D261 = 0,NA(),BubblePivot!D261)","v":{"$error":"#N/A"}},{"$error":"#N/A"}]
[{"$f":"IF(BubblePivot!A262 = 0,NA(),BubblePivot!A262)","v":{"$error":"#N/A"}},{"$f":"IF(BubblePivot!B262 = 0,NA(),BubblePivot!B262)","v":{"$error":"#N/A"}},{"$f":"IF(BubblePivot!C262 = 0,NA(),BubblePivot!C262)","v":{"$error":"#N/A"}},{"$f":"IF(BubblePivot!D262 = 0,NA(),BubblePivot!D262)","v":{"$error":"#N/A"}},{"$error":"#N/A"}]
[{"$f":"IF(BubblePivot!A263 = 0,NA(),BubblePivot!A263)","v":{"$error":"#N/A"}},{"$f":"IF(BubblePivot!B263 = 0,NA(),BubblePivot!B263)","v":{"$error":"#N/A"}},{"$f":"IF(BubblePivot!C263 = 0,NA(),BubblePivot!C263)","v":{"$error":"#N/A"}},{"$f":"IF(BubblePivot!D263 = 0,NA(),BubblePivot!D263)","v":{"$error":"#N/A"}},{"$error":"#N/A"}]
[{"$f":"IF(BubblePivot!A264 = 0,NA(),BubblePivot!A264)","v":{"$error":"#N/A"}},{"$f":"IF(BubblePivot!B264 = 0,NA(),BubblePivot!B264)","v":{"$error":"#N/A"}},{"$f":"IF(BubblePivot!C264 = 0,NA(),BubblePivot!C264)","v":{"$error":"#N/A"}},{"$f":"IF(BubblePivot!D264 = 0,NA(),BubblePivot!D264)","v":{"$error":"#N/A"}},{"$error":"#N/A"}]
[{"$f":"IF(BubblePivot!A265 = 0,NA(),BubblePivot!A265)","v":{"$error":"#N/A"}},{"$f":"IF(BubblePivot!B265 = 0,NA(),BubblePivot!B265)","v":{"$error":"#N/A"}},{"$f":"IF(BubblePivot!C265 = 0,NA(),BubblePivot!C265)","v":{"$error":"#N/A"}},{"$f":"IF(BubblePivot!D265 = 0,NA(),BubblePivot!D265)","v":{"$error":"#N/A"}},{"$error":"#N/A"}]
[{"$f":"IF(BubblePivot!A266 = 0,NA(),BubblePivot!A266)","v":{"$error":"#N/A"}},{"$f":"IF(BubblePivot!B266 = 0,NA(),BubblePivot!B266)","v":{"$error":"#N/A"}},{"$f":"IF(BubblePivot!C266 = 0,NA(),BubblePivot!C266)","v":{"$error":"#N/A"}},{"$f":"IF(BubblePivot!D266 = 0,NA(),BubblePivot!D266)","v":{"$error":"#N/A"}},{"$error":"#N/A"}]
[{"$f":"IF(BubblePivot!A267 = 0,NA(),BubblePivot!A267)","v":{"$error":"#N/A"}},{"$f":"IF(BubblePivot!B267 = 0,NA(),BubblePivot!B267)","v":{"$error":"#N/A"}},{"$f":"IF(BubblePivot!C267 = 0,NA(),BubblePivot!C267)","v":{"$error":"#N/A"}},{"$f":"IF(BubblePivot!D267 = 0,NA(),BubblePivot!D267)","v":{"$error":"#N/A"}},{"$error":"#N/A"}]
[{"$f":"IF(BubblePivot!A268 = 0,NA(),BubblePivot!A268)","v":{"$error":"#N/A"}},{"$f":"IF(BubblePivot!B268 = 0,NA(),BubblePivot!B268)","v":{"$error":"#N/A"}},{"$f":"IF(BubblePivot!C268 = 0,NA(),BubblePivot!C268)","v":{"$error":"#N/A"}},{"$f":"IF(BubblePivot!D268 = 0,NA(),BubblePivot!D268)","v":{"$error":"#N/A"}},{"$error":"#N/A"}]
[{"$f":"IF(BubblePivot!A269 = 0,NA(),BubblePivot!A269)","v":{"$error":"#N/A"}},{"$f":"IF(BubblePivot!B269 = 0,NA(),BubblePivot!B269)","v":{"$error":"#N/A"}},{"$f":"IF(BubblePivot!C269 = 0,NA(),BubblePivot!C269)","v":{"$error":"#N/A"}},{"$f":"IF(BubblePivot!D269 = 0,NA(),BubblePivot!D269)","v":{"$error":"#N/A"}},{"$error":"#N/A"}]
[{"$f":"IF(BubblePivot!A270 = 0,NA(),BubblePivot!A270)","v":{"$error":"#N/A"}},{"$f":"IF(BubblePivot!B270 = 0,NA(),BubblePivot!B270)","v":{"$error":"#N/A"}},{"$f":"IF(BubblePivot!C270 = 0,NA(),BubblePivot!C270)","v":{"$error":"#N/A"}},{"$f":"IF(BubblePivot!D270 = 0,NA(),BubblePivot!D270)","v":{"$error":"#N/A"}},{"$error":"#N/A"}]
[{"$f":"IF(BubblePivot!A271 = 0,NA(),BubblePivot!A271)","v":{"$error":"#N/A"}},{"$f":"IF(BubblePivot!B271 = 0,NA(),BubblePivot!B271)","v":{"$error":"#N/A"}},{"$f":"IF(BubblePivot!C271 = 0,NA(),BubblePivot!C271)","v":{"$error":"#N/A"}},{"$f":"IF(BubblePivot!D271 = 0,NA(),BubblePivot!D271)","v":{"$error":"#N/A"}},{"$error":"#N/A"}]
[{"$f":"IF(BubblePivot!A272 = 0,NA(),BubblePivot!A272)","v":{"$error":"#N/A"}},{"$f":"IF(BubblePivot!B272 = 0,NA(),BubblePivot!B272)","v":{"$error":"#N/A"}},{"$f":"IF(BubblePivot!C272 = 0,NA(),BubblePivot!C272)","v":{"$error":"#N/A"}},{"$f":"IF(BubblePivot!D272 = 0,NA(),BubblePivot!D272)","v":{"$error":"#N/A"}},{"$error":"#N/A"}]
[{"$f":"IF(BubblePivot!A273 = 0,NA(),BubblePivot!A273)","v":{"$error":"#N/A"}},{"$f":"IF(BubblePivot!B273 = 0,NA(),BubblePivot!B273)","v":{"$error":"#N/A"}},{"$f":"IF(BubblePivot!C273 = 0,NA(),BubblePivot!C273)","v":{"$error":"#N/A"}},{"$f":"IF(BubblePivot!D273 = 0,NA(),BubblePivot!D273)","v":{"$error":"#N/A"}},{"$error":"#N/A"}]
[{"$f":"IF(BubblePivot!A274 = 0,NA(),BubblePivot!A274)","v":{"$error":"#N/A"}},{"$f":"IF(BubblePivot!B274 = 0,NA(),BubblePivot!B274)","v":{"$error":"#N/A"}},{"$f":"IF(BubblePivot!C274 = 0,NA(),BubblePivot!C274)","v":{"$error":"#N/A"}},{"$f":"IF(BubblePivot!D274 = 0,NA(),BubblePivot!D274)","v":{"$error":"#N/A"}},{"$error":"#N/A"}]
[{"$f":"IF(BubblePivot!A275 = 0,NA(),BubblePivot!A275)","v":{"$error":"#N/A"}},{"$f":"IF(BubblePivot!B275 = 0,NA(),BubblePivot!B275)","v":{"$error":"#N/A"}},{"$f":"IF(BubblePivot!C275 = 0,NA(),BubblePivot!C275)","v":{"$error":"#N/A"}},{"$f":"IF(BubblePivot!D275 = 0,NA(),BubblePivot!D275)","v":{"$error":"#N/A"}},{"$error":"#N/A"}]
[{"$f":"IF(BubblePivot!A276 = 0,NA(),BubblePivot!A276)","v":{"$error":"#N/A"}},{"$f":"IF(BubblePivot!B276 = 0,NA(),BubblePivot!B276)","v":{"$error":"#N/A"}},{"$f":"IF(BubblePivot!C276 = 0,NA(),BubblePivot!C276)","v":{"$error":"#N/A"}},{"$f":"IF(BubblePivot!D276 = 0,NA(),BubblePivot!D276)","v":{"$error":"#N/A"}},{"$error":"#N/A"}]
[{"$f":"IF(BubblePivot!A277 = 0,NA(),BubblePivot!A277)","v":{"$error":"#N/A"}},{"$f":"IF(BubblePivot!B277 = 0,NA(),BubblePivot!B277)","v":{"$error":"#N/A"}},{"$f":"IF(BubblePivot!C277 = 0,NA(),BubblePivot!C277)","v":{"$error":"#N/A"}},{"$f":"IF(BubblePivot!D277 = 0,NA(),BubblePivot!D277)","v":{"$error":"#N/A"}},{"$error":"#N/A"}]
[{"$f":"IF(BubblePivot!A278 = 0,NA(),BubblePivot!A278)","v":{"$error":"#N/A"}},{"$f":"IF(BubblePivot!B278 = 0,NA(),BubblePivot!B278)","v":{"$error":"#N/A"}},{"$f":"IF(BubblePivot!C278 = 0,NA(),BubblePivot!C278)","v":{"$error":"#N/A"}},{"$f":"IF(BubblePivot!D278 = 0,NA(),BubblePivot!D278)","v":{"$error":"#N/A"}},{"$error":"#N/A"}]
[{"$f":"IF(BubblePivot!A279 = 0,NA(),BubblePivot!A279)","v":{"$error":"#N/A"}},{"$f":"IF(BubblePivot!B279 = 0,NA(),BubblePivot!B279)","v":{"$error":"#N/A"}},{"$f":"IF(BubblePivot!C279 = 0,NA(),BubblePivot!C279)","v":{"$error":"#N/A"}},{"$f":"IF(BubblePivot!D279 = 0,NA(),BubblePivot!D279)","v":{"$error":"#N/A"}},{"$error":"#N/A"}]
[{"$f":"IF(BubblePivot!A280 = 0,NA(),BubblePivot!A280)","v":{"$error":"#N/A"}},{"$f":"IF(BubblePivot!B280 = 0,NA(),BubblePivot!B280)","v":{"$error":"#N/A"}},{"$f":"IF(BubblePivot!C280 = 0,NA(),BubblePivot!C280)","v":{"$error":"#N/A"}},{"$f":"IF(BubblePivot!D280 = 0,NA(),BubblePivot!D280)","v":{"$error":"#N/A"}},{"$error":"#N/A"}]
[{"$f":"IF(BubblePivot!A281 = 0,NA(),BubblePivot!A281)","v":{"$error":"#N/A"}},{"$f":"IF(BubblePivot!B281 = 0,NA(),BubblePivot!B281)","v":{"$error":"#N/A"}},{"$f":"IF(BubblePivot!C281 = 0,NA(),BubblePivot!C281)","v":{"$error":"#N/A"}},{"$f":"IF(BubblePivot!D281 = 0,NA(),BubblePivot!D281)","v":{"$error":"#N/A"}},{"$error":"#N/A"}]
[{"$f":"IF(BubblePivot!A282 = 0,NA(),BubblePivot!A282)","v":{"$error":"#N/A"}},{"$f":"IF(BubblePivot!B282 = 0,NA(),BubblePivot!B282)","v":{"$error":"#N/A"}},{"$f":"IF(BubblePivot!C282 = 0,NA(),BubblePivot!C282)","v":{"$error":"#N/A"}},{"$f":"IF(BubblePivot!D282 = 0,NA(),BubblePivot!D282)","v":{"$error":"#N/A"}},{"$error":"#N/A"}]
[{"$f":"IF(BubblePivot!A283 = 0,NA(),BubblePivot!A283)","v":{"$error":"#N/A"}},{"$f":"IF(BubblePivot!B283 = 0,NA(),BubblePivot!B283)","v":{"$error":"#N/A"}},{"$f":"IF(BubblePivot!C283 = 0,NA(),BubblePivot!C283)","v":{"$error":"#N/A"}},{"$f":"IF(BubblePivot!D283 = 0,NA(),BubblePivot!D283)","v":{"$error":"#N/A"}},{"$error":"#N/A"}]
[{"$f":"IF(BubblePivot!A284 = 0,NA(),BubblePivot!A284)","v":{"$error":"#N/A"}},{"$f":"IF(BubblePivot!B284 = 0,NA(),BubblePivot!B284)","v":{"$error":"#N/A"}},{"$f":"IF(BubblePivot!C284 = 0,NA(),BubblePivot!C284)","v":{"$error":"#N/A"}},{"$f":"IF(BubblePivot!D284 = 0,NA(),BubblePivot!D284)","v":{"$error":"#N/A"}},{"$error":"#N/A"}]
[{"$f":"IF(BubblePivot!A285 = 0,NA(),BubblePivot!A285)","v":{"$error":"#N/A"}},{"$f":"IF(BubblePivot!B285 = 0,NA(),BubblePivot!B285)","v":{"$error":"#N/A"}},{"$f":"IF(BubblePivot!C285 = 0,NA(),BubblePivot!C285)","v":{"$error":"#N/A"}},{"$f":"IF(BubblePivot!D285 = 0,NA(),BubblePivot!D285)","v":{"$error":"#N/A"}},{"$error":"#N/A"}]
[{"$f":"IF(BubblePivot!A286 = 0,NA(),BubblePivot!A286)","v":{"$error":"#N/A"}},{"$f":"IF(BubblePivot!B286 = 0,NA(),BubblePivot!B286)","v":{"$error":"#N/A"}},{"$f":"IF(BubblePivot!C286 = 0,NA(),BubblePivot!C286)","v":{"$error":"#N/A"}},{"$f":"IF(BubblePivot!D286 = 0,NA(),BubblePivot!D286)","v":{"$error":"#N/A"}},{"$error":"#N/A"}]
[{"$f":"IF(BubblePivot!A287 = 0,NA(),BubblePivot!A287)","v":{"$error":"#N/A"}},{"$f":"IF(BubblePivot!B287 = 0,NA(),BubblePivot!B287)","v":{"$error":"#N/A"}},{"$f":"IF(BubblePivot!C287 = 0,NA(),BubblePivot!C287)","v":{"$error":"#N/A"}},{"$f":"IF(BubblePivot!D287 = 0,NA(),BubblePivot!D287)","v":{"$error":"#N/A"}},{"$error":"#N/A"}]
[{"$f":"IF(BubblePivot!A288 = 0,NA(),BubblePivot!A288)","v":{"$error":"#N/A"}},{"$f":"IF(BubblePivot!B288 = 0,NA(),BubblePivot!B288)","v":{"$error":"#N/A"}},{"$f":"IF(BubblePivot!C288 = 0,NA(),BubblePivot!C288)","v":{"$error":"#N/A"}},{"$f":"IF(BubblePivot!D288 = 0,NA(),BubblePivot!D288)","v":{"$error":"#N/A"}},{"$error":"#N/A"}]
[{"$f":"IF(BubblePivot!A289 = 0,NA(),BubblePivot!A289)","v":{"$error":"#N/A"}},{"$f":"IF(BubblePivot!B289 = 0,NA(),BubblePivot!B289)","v":{"$error":"#N/A"}},{"$f":"IF(BubblePivot!C289 = 0,NA(),BubblePivot!C289)","v":{"$error":"#N/A"}},{"$f":"IF(BubblePivot!D289 = 0,NA(),BubblePivot!D289)","v":{"$error":"#N/A"}},{"$error":"#N/A"}]
[{"$f":"IF(BubblePivot!A290 = 0,NA(),BubblePivot!A290)","v":{"$error":"#N/A"}},{"$f":"IF(BubblePivot!B290 = 0,NA(),BubblePivot!B290)","v":{"$error":"#N/A"}},{"$f":"IF(BubblePivot!C290 = 0,NA(),BubblePivot!C290)","v":{"$error":"#N/A"}},{"$f":"IF(BubblePivot!D290 = 0,NA(),BubblePivot!D290)","v":{"$error":"#N/A"}},{"$error":"#N/A"}]
[{"$f":"IF(BubblePivot!A291 = 0,NA(),BubblePivot!A291)","v":{"$error":"#N/A"}},{"$f":"IF(BubblePivot!B291 = 0,NA(),BubblePivot!B291)","v":{"$error":"#N/A"}},{"$f":"IF(BubblePivot!C291 = 0,NA(),BubblePivot!C291)","v":{"$error":"#N/A"}},{"$f":"IF(BubblePivot!D291 = 0,NA(),BubblePivot!D291)","v":{"$error":"#N/A"}},{"$error":"#N/A"}]
[{"$f":"IF(BubblePivot!A292 = 0,NA(),BubblePivot!A292)","v":{"$error":"#N/A"}},{"$f":"IF(BubblePivot!B292 = 0,NA(),BubblePivot!B292)","v":{"$error":"#N/A"}},{"$f":"IF(BubblePivot!C292 = 0,NA(),BubblePivot!C292)","v":{"$error":"#N/A"}},{"$f":"IF(BubblePivot!D292 = 0,NA(),BubblePivot!D292)","v":{"$error":"#N/A"}},{"$error":"#N/A"}]
[{"$f":"IF(BubblePivot!A293 = 0,NA(),BubblePivot!A293)","v":{"$error":"#N/A"}},{"$f":"IF(BubblePivot!B293 = 0,NA(),BubblePivot!B293)","v":{"$error":"#N/A"}},{"$f":"IF(BubblePivot!C293 = 0,NA(),BubblePivot!C293)","v":{"$error":"#N/A"}},{"$f":"IF(BubblePivot!D293 = 0,NA(),BubblePivot!D293)","v":{"$error":"#N/A"}},{"$error":"#N/A"}]
[{"$f":"IF(BubblePivot!A294 = 0,NA(),BubblePivot!A294)","v":{"$error":"#N/A"}},{"$f":"IF(BubblePivot!B294 = 0,NA(),BubblePivot!B294)","v":{"$error":"#N/A"}},{"$f":"IF(BubblePivot!C294 = 0,NA(),BubblePivot!C294)","v":{"$error":"#N/A"}},{"$f":"IF(BubblePivot!D294 = 0,NA(),BubblePivot!D294)","v":{"$error":"#N/A"}},{"$error":"#N/A"}]
[{"$f":"IF(BubblePivot!A295 = 0,NA(),BubblePivot!A295)","v":{"$error":"#N/A"}},{"$f":"IF(BubblePivot!B295 = 0,NA(),BubblePivot!B295)","v":{"$error":"#N/A"}},{"$f":"IF(BubblePivot!C295 = 0,NA(),BubblePivot!C295)","v":{"$error":"#N/A"}},{"$f":"IF(BubblePivot!D295 = 0,NA(),BubblePivot!D295)","v":{"$error":"#N/A"}},{"$error":"#N/A"}]
[{"$f":"IF(BubblePivot!A296 = 0,NA(),BubblePivot!A296)","v":{"$error":"#N/A"}},{"$f":"IF(BubblePivot!B296 = 0,NA(),BubblePivot!B296)","v":{"$error":"#N/A"}},{"$f":"IF(BubblePivot!C296 = 0,NA(),BubblePivot!C296)","v":{"$error":"#N/A"}},{"$f":"IF(BubblePivot!D296 = 0,NA(),BubblePivot!D296)","v":{"$error":"#N/A"}},{"$error":"#N/A"}]
[{"$f":"IF(BubblePivot!A297 = 0,NA(),BubblePivot!A297)","v":{"$error":"#N/A"}},{"$f":"IF(BubblePivot!B297 = 0,NA(),BubblePivot!B297)","v":{"$error":"#N/A"}},{"$f":"IF(BubblePivot!C297 = 0,NA(),BubblePivot!C297)","v":{"$error":"#N/A"}},{"$f":"IF(BubblePivot!D297 = 0,NA(),BubblePivot!D297)","v":{"$error":"#N/A"}},{"$error":"#N/A"}]
[{"$f":"IF(BubblePivot!A298 = 0,NA(),BubblePivot!A298)","v":{"$error":"#N/A"}},{"$f":"IF(BubblePivot!B298 = 0,NA(),BubblePivot!B298)","v":{"$error":"#N/A"}},{"$f":"IF(BubblePivot!C298 = 0,NA(),BubblePivot!C298)","v":{"$error":"#N/A"}},{"$f":"IF(BubblePivot!D298 = 0,NA(),BubblePivot!D298)","v":{"$error":"#N/A"}},{"$error":"#N/A"}]
[{"$f":"IF(BubblePivot!A299 = 0,NA(),BubblePivot!A299)","v":{"$error":"#N/A"}},{"$f":"IF(BubblePivot!B299 = 0,NA(),BubblePivot!B299)","v":{"$error":"#N/A"}},{"$f":"IF(BubblePivot!C299 = 0,NA(),BubblePivot!C299)","v":{"$error":"#N/A"}},{"$f":"IF(BubblePivot!D299 = 0,NA(),BubblePivot!D299)","v":{"$error":"#N/A"}},{"$error":"#N/A"}]
[{"$f":"IF(BubblePivot!A300 = 0,NA(),BubblePivot!A300)","v":{"$error":"#N/A"}},{"$f":"IF(BubblePivot!B300 = 0,NA(),BubblePivot!B300)","v":{"$error":"#N/A"}},{"$f":"IF(BubblePivot!C300 = 0,NA(),BubblePivot!C300)","v":{"$error":"#N/A"}},{"$f":"IF(BubblePivot!D300 = 0,NA(),BubblePivot!D300)","v":{"$error":"#N/A"}},{"$error":"#N/A"}]
[{"$f":"IF(BubblePivot!A301 = 0,NA(),BubblePivot!A301)","v":{"$error":"#N/A"}},{"$f":"IF(BubblePivot!B301 = 0,NA(),BubblePivot!B301)","v":{"$error":"#N/A"}},{"$f":"IF(BubblePivot!C301 = 0,NA(),BubblePivot!C301)","v":{"$error":"#N/A"}},{"$f":"IF(BubblePivot!D301 = 0,NA(),BubblePivot!D301)","v":{"$error":"#N/A"}},{"$error":"#N/A"}]
[{"$f":"IF(BubblePivot!A302 = 0,NA(),BubblePivot!A302)","v":{"$error":"#N/A"}},{"$f":"IF(BubblePivot!B302 = 0,NA(),BubblePivot!B302)","v":{"$error":"#N/A"}},{"$f":"IF(BubblePivot!C302 = 0,NA(),BubblePivot!C302)","v":{"$error":"#N/A"}},{"$f":"IF(BubblePivot!D302 = 0,NA(),BubblePivot!D302)","v":{"$error":"#N/A"}},{"$error":"#N/A"}]
[{"$f":"IF(BubblePivot!A303 = 0,NA(),BubblePivot!A303)","v":{"$error":"#N/A"}},{"$f":"IF(BubblePivot!B303 = 0,NA(),BubblePivot!B303)","v":{"$error":"#N/A"}},{"$f":"IF(BubblePivot!C303 = 0,NA(),BubblePivot!C303)","v":{"$error":"#N/A"}},{"$f":"IF(BubblePivot!D303 = 0,NA(),BubblePivot!D303)","v":{"$error":"#N/A"}},{"$error":"#N/A"}]
[{"$f":"IF(BubblePivot!A304 = 0,NA(),BubblePivot!A304)","v":{"$error":"#N/A"}},{"$f":"IF(BubblePivot!B304 = 0,NA(),BubblePivot!B304)","v":{"$error":"#N/A"}},{"$f":"IF(BubblePivot!C304 = 0,NA(),BubblePivot!C304)","v":{"$error":"#N/A"}},{"$f":"IF(BubblePivot!D304 = 0,NA(),BubblePivot!D304)","v":{"$error":"#N/A"}},{"$error":"#N/A"}]
[{"$f":"IF(BubblePivot!A305 = 0,NA(),BubblePivot!A305)","v":{"$error":"#N/A"}},{"$f":"IF(BubblePivot!B305 = 0,NA(),BubblePivot!B305)","v":{"$error":"#N/A"}},{"$f":"IF(BubblePivot!C305 = 0,NA(),BubblePivot!C305)","v":{"$error":"#N/A"}},{"$f":"IF(BubblePivot!D305 = 0,NA(),BubblePivot!D305)","v":{"$error":"#N/A"}},{"$error":"#N/A"}]
[{"$f":"IF(BubblePivot!A306 = 0,NA(),BubblePivot!A306)","v":{"$error":"#N/A"}},{"$f":"IF(BubblePivot!B306 = 0,NA(),BubblePivot!B306)","v":{"$error":"#N/A"}},{"$f":"IF(BubblePivot!C306 = 0,NA(),BubblePivot!C306)","v":{"$error":"#N/A"}},{"$f":"IF(BubblePivot!D306 = 0,NA(),BubblePivot!D306)","v":{"$error":"#N/A"}},{"$error":"#N/A"}]
[{"$f":"IF(BubblePivot!A307 = 0,NA(),BubblePivot!A307)","v":{"$error":"#N/A"}},{"$f":"IF(BubblePivot!B307 = 0,NA(),BubblePivot!B307)","v":{"$error":"#N/A"}},{"$f":"IF(BubblePivot!C307 = 0,NA(),BubblePivot!C307)","v":{"$error":"#N/A"}},{"$f":"IF(BubblePivot!D307 = 0,NA(),BubblePivot!D307)","v":{"$error":"#N/A"}},{"$error":"#N/A"}]
[{"$f":"IF(BubblePivot!A308 = 0,NA(),BubblePivot!A308)","v":{"$error":"#N/A"}},{"$f":"IF(BubblePivot!B308 = 0,NA(),BubblePivot!B308)","v":{"$error":"#N/A"}},{"$f":"IF(BubblePivot!C308 = 0,NA(),BubblePivot!C308)","v":{"$error":"#N/A"}},{"$f":"IF(BubblePivot!D308 = 0,NA(),BubblePivot!D308)","v":{"$error":"#N/A"}},{"$error":"#N/A"}]
[{"$f":"IF(BubblePivot!A309 = 0,NA(),BubblePivot!A309)","v":{"$error":"#N/A"}},{"$f":"IF(BubblePivot!B309 = 0,NA(),BubblePivot!B309)","v":{"$error":"#N/A"}},{"$f":"IF(BubblePivot!C309 = 0,NA(),BubblePivot!C309)","v":{"$error":"#N/A"}},{"$f":"IF(BubblePivot!D309 = 0,NA(),BubblePivot!D309)","v":{"$error":"#N/A"}},{"$error":"#N/A"}]
[{"$f":"IF(BubblePivot!A310 = 0,NA(),BubblePivot!A310)","v":{"$error":"#N/A"}},{"$f":"IF(BubblePivot!B310 = 0,NA(),BubblePivot!B310)","v":{"$error":"#N/A"}},{"$f":"IF(BubblePivot!C310 = 0,NA(),BubblePivot!C310)","v":{"$error":"#N/A"}},{"$f":"IF(BubblePivot!D310 = 0,NA(),BubblePivot!D310)","v":{"$error":"#N/A"}},{"$error":"#N/A"}]
[{"$f":"IF(BubblePivot!A311 = 0,NA(),BubblePivot!A311)","v":{"$error":"#N/A"}},{"$f":"IF(BubblePivot!B311 = 0,NA(),BubblePivot!B311)","v":{"$error":"#N/A"}},{"$f":"IF(BubblePivot!C311 = 0,NA(),BubblePivot!C311)","v":{"$error":"#N/A"}},{"$f":"IF(BubblePivot!D311 = 0,NA(),BubblePivot!D311)","v":{"$error":"#N/A"}},{"$error":"#N/A"}]
[{"$f":"IF(BubblePivot!A312 = 0,NA(),BubblePivot!A312)","v":{"$error":"#N/A"}},{"$f":"IF(BubblePivot!B312 = 0,NA(),BubblePivot!B312)","v":{"$error":"#N/A"}},{"$f":"IF(BubblePivot!C312 = 0,NA(),BubblePivot!C312)","v":{"$error":"#N/A"}},{"$f":"IF(BubblePivot!D312 = 0,NA(),BubblePivot!D312)","v":{"$error":"#N/A"}},{"$error":"#N/A"}]
[{"$f":"IF(BubblePivot!A313 = 0,NA(),BubblePivot!A313)","v":{"$error":"#N/A"}},{"$f":"IF(BubblePivot!B313 = 0,NA(),BubblePivot!B313)","v":{"$error":"#N/A"}},{"$f":"IF(BubblePivot!C313 = 0,NA(),BubblePivot!C313)","v":{"$error":"#N/A"}},{"$f":"IF(BubblePivot!D313 = 0,NA(),BubblePivot!D313)","v":{"$error":"#N/A"}},{"$error":"#N/A"}]
[{"$f":"IF(BubblePivot!A314 = 0,NA(),BubblePivot!A314)","v":{"$error":"#N/A"}},{"$f":"IF(BubblePivot!B314 = 0,NA(),BubblePivot!B314)","v":{"$error":"#N/A"}},{"$f":"IF(BubblePivot!C314 = 0,NA(),BubblePivot!C314)","v":{"$error":"#N/A"}},{"$f":"IF(BubblePivot!D314 = 0,NA(),BubblePivot!D314)","v":{"$error":"#N/A"}},{"$error":"#N/A"}]
[{"$f":"IF(BubblePivot!A315 = 0,NA(),BubblePivot!A315)","v":{"$error":"#N/A"}},{"$f":"IF(BubblePivot!B315 = 0,NA(),BubblePivot!B315)","v":{"$error":"#N/A"}},{"$f":"IF(BubblePivot!C315 = 0,NA(),BubblePivot!C315)","v":{"$error":"#N/A"}},{"$f":"IF(BubblePivot!D315 = 0,NA(),BubblePivot!D315)","v":{"$error":"#N/A"}},{"$error":"#N/A"}]
[{"$f":"IF(BubblePivot!A316 = 0,NA(),BubblePivot!A316)","v":{"$error":"#N/A"}},{"$f":"IF(BubblePivot!B316 = 0,NA(),BubblePivot!B316)","v":{"$error":"#N/A"}},{"$f":"IF(BubblePivot!C316 = 0,NA(),BubblePivot!C316)","v":{"$error":"#N/A"}},{"$f":"IF(BubblePivot!D316 = 0,NA(),BubblePivot!D316)","v":{"$error":"#N/A"}},{"$error":"#N/A"}]
[{"$f":"IF(BubblePivot!A317 = 0,NA(),BubblePivot!A317)","v":{"$error":"#N/A"}},{"$f":"IF(BubblePivot!B317 = 0,NA(),BubblePivot!B317)","v":{"$error":"#N/A"}},{"$f":"IF(BubblePivot!C317 = 0,NA(),BubblePivot!C317)","v":{"$error":"#N/A"}},{"$f":"IF(BubblePivot!D317 = 0,NA(),BubblePivot!D317)","v":{"$error":"#N/A"}},{"$error":"#N/A"}]
[{"$f":"IF(BubblePivot!A318 = 0,NA(),BubblePivot!A318)","v":{"$error":"#N/A"}},{"$f":"IF(BubblePivot!B318 = 0,NA(),BubblePivot!B318)","v":{"$error":"#N/A"}},{"$f":"IF(BubblePivot!C318 = 0,NA(),BubblePivot!C318)","v":{"$error":"#N/A"}},{"$f":"IF(BubblePivot!D318 = 0,NA(),BubblePivot!D318)","v":{"$error":"#N/A"}},{"$error":"#N/A"}]
[{"$f":"IF(BubblePivot!A319 = 0,NA(),BubblePivot!A319)","v":{"$error":"#N/A"}},{"$f":"IF(BubblePivot!B319 = 0,NA(),BubblePivot!B319)","v":{"$error":"#N/A"}},{"$f":"IF(BubblePivot!C319 = 0,NA(),BubblePivot!C319)","v":{"$error":"#N/A"}},{"$f":"IF(BubblePivot!D319 = 0,NA(),BubblePivot!D319)","v":{"$error":"#N/A"}},{"$error":"#N/A"}]
[{"$f":"IF(BubblePivot!A320 = 0,NA(),BubblePivot!A320)","v":{"$error":"#N/A"}},{"$f":"IF(BubblePivot!B320 = 0,NA(),BubblePivot!B320)","v":{"$error":"#N/A"}},{"$f":"IF(BubblePivot!C320 = 0,NA(),BubblePivot!C320)","v":{"$error":"#N/A"}},{"$f":"IF(BubblePivot!D320 = 0,NA(),BubblePivot!D320)","v":{"$error":"#N/A"}},{"$error":"#N/A"}]
[{"$f":"IF(BubblePivot!A321 = 0,NA(),BubblePivot!A321)","v":{"$error":"#N/A"}},{"$f":"IF(BubblePivot!B321 = 0,NA(),BubblePivot!B321)","v":{"$error":"#N/A"}},{"$f":"IF(BubblePivot!C321 = 0,NA(),BubblePivot!C321)","v":{"$error":"#N/A"}},{"$f":"IF(BubblePivot!D321 = 0,NA(),BubblePivot!D321)","v":{"$error":"#N/A"}},{"$error":"#N/A"}]
[{"$f":"IF(BubblePivot!A322 = 0,NA(),BubblePivot!A322)","v":{"$error":"#N/A"}},{"$f":"IF(BubblePivot!B322 = 0,NA(),BubblePivot!B322)","v":{"$error":"#N/A"}},{"$f":"IF(BubblePivot!C322 = 0,NA(),BubblePivot!C322)","v":{"$error":"#N/A"}},{"$f":"IF(BubblePivot!D322 = 0,NA(),BubblePivot!D322)","v":{"$error":"#N/A"}},{"$error":"#N/A"}]
[{"$f":"IF(BubblePivot!A323 = 0,NA(),BubblePivot!A323)","v":{"$error":"#N/A"}},{"$f":"IF(BubblePivot!B323 = 0,NA(),BubblePivot!B323)","v":{"$error":"#N/A"}},{"$f":"IF(BubblePivot!C323 = 0,NA(),BubblePivot!C323)","v":{"$error":"#N/A"}},{"$f":"IF(BubblePivot!D323 = 0,NA(),BubblePivot!D323)","v":{"$error":"#N/A"}},{"$error":"#N/A"}]
[{"$f":"IF(BubblePivot!A324 = 0,NA(),BubblePivot!A324)","v":{"$error":"#N/A"}},{"$f":"IF(BubblePivot!B324 = 0,NA(),BubblePivot!B324)","v":{"$error":"#N/A"}},{"$f":"IF(BubblePivot!C324 = 0,NA(),BubblePivot!C324)","v":{"$error":"#N/A"}},{"$f":"IF(BubblePivot!D324 = 0,NA(),BubblePivot!D324)","v":{"$error":"#N/A"}},{"$f":"A322","v":{"$error":"#N/A"}}]
[{"$f":"IF(BubblePivot!A325 = 0,NA(),BubblePivot!A325)","v":{"$error":"#N/A"}},{"$f":"IF(BubblePivot!B325 = 0,NA(),BubblePivot!B325)","v":{"$error":"#N/A"}},{"$f":"IF(BubblePivot!C325 = 0,NA(),BubblePivot!C325)","v":{"$error":"#N/A"}},{"$f":"IF(BubblePivot!D325 = 0,NA(),BubblePivot!D325)","v":{"$error":"#N/A"}},{"$error":"#N/A"}]
[{"$f":"IF(BubblePivot!A326 = 0,NA(),BubblePivot!A326)","v":{"$error":"#N/A"}},{"$f":"IF(BubblePivot!B326 = 0,NA(),BubblePivot!B326)","v":{"$error":"#N/A"}},{"$f":"IF(BubblePivot!C326 = 0,NA(),BubblePivot!C326)","v":{"$error":"#N/A"}},{"$f":"IF(BubblePivot!D326 = 0,NA(),BubblePivot!D326)","v":{"$error":"#N/A"}},{"$error":"#N/A"}]
[{"$f":"IF(BubblePivot!A327 = 0,NA(),BubblePivot!A327)","v":{"$error":"#N/A"}},{"$f":"IF(BubblePivot!B327 = 0,NA(),BubblePivot!B327)","v":{"$error":"#N/A"}},{"$f":"IF(BubblePivot!C327 = 0,NA(),BubblePivot!C327)","v":{"$error":"#N/A"}},{"$f":"IF(BubblePivot!D327 = 0,NA(),BubblePivot!D327)","v":{"$error":"#N/A"}},{"$error":"#N/A"}]
[{"$f":"IF(BubblePivot!A328 = 0,NA(),BubblePivot!A328)","v":{"$error":"#N/A"}},{"$f":"IF(BubblePivot!B328 = 0,NA(),BubblePivot!B328)","v":{"$error":"#N/A"}},{"$f":"IF(BubblePivot!C328 = 0,NA(),BubblePivot!C328)","v":{"$error":"#N/A"}},{"$f":"IF(BubblePivot!D328 = 0,NA(),BubblePivot!D328)","v":{"$error":"#N/A"}},{"$error":"#N/A"}]
[{"$f":"IF(BubblePivot!A329 = 0,NA(),BubblePivot!A329)","v":{"$error":"#N/A"}},{"$f":"IF(BubblePivot!B329 = 0,NA(),BubblePivot!B329)","v":{"$error":"#N/A"}},{"$f":"IF(BubblePivot!C329 = 0,NA(),BubblePivot!C329)","v":{"$error":"#N/A"}},{"$f":"IF(BubblePivot!D329 = 0,NA(),BubblePivot!D329)","v":{"$error":"#N/A"}},{"$error":"#N/A"}]
[{"$f":"IF(BubblePivot!A330 = 0,NA(),BubblePivot!A330)","v":{"$error":"#N/A"}},{"$f":"IF(BubblePivot!B330 = 0,NA(),BubblePivot!B330)","v":{"$error":"#N/A"}},{"$f":"IF(BubblePivot!C330 = 0,NA(),BubblePivot!C330)","v":{"$error":"#N/A"}},{"$f":"IF(BubblePivot!D330 = 0,NA(),BubblePivot!D330)","v":{"$error":"#N/A"}},{"$error":"#N/A"}]
[{"$f":"IF(BubblePivot!A331 = 0,NA(),BubblePivot!A331)","v":{"$error":"#N/A"}},{"$f":"IF(BubblePivot!B331 = 0,NA(),BubblePivot!B331)","v":{"$error":"#N/A"}},{"$f":"IF(BubblePivot!C331 = 0,NA(),BubblePivot!C331)","v":{"$error":"#N/A"}},{"$f":"IF(BubblePivot!D331 = 0,NA(),BubblePivot!D331)","v":{"$error":"#N/A"}},{"$error":"#N/A"}]
[{"$f":"IF(BubblePivot!A332 = 0,NA(),BubblePivot!A332)","v":{"$error":"#N/A"}},{"$f":"IF(BubblePivot!B332 = 0,NA(),BubblePivot!B332)","v":{"$error":"#N/A"}},{"$f":"IF(BubblePivot!C332 = 0,NA(),BubblePivot!C332)","v":{"$error":"#N/A"}},{"$f":"IF(BubblePivot!D332 = 0,NA(),BubblePivot!D332)","v":{"$error":"#N/A"}},{"$error":"#N/A"}]
[{"$f":"IF(BubblePivot!A333 = 0,NA(),BubblePivot!A333)","v":{"$error":"#N/A"}},{"$f":"IF(BubblePivot!B333 = 0,NA(),BubblePivot!B333)","v":{"$error":"#N/A"}},{"$f":"IF(BubblePivot!C333 = 0,NA(),BubblePivot!C333)","v":{"$error":"#N/A"}},{"$f":"IF(BubblePivot!D333 = 0,NA(),BubblePivot!D333)","v":{"$error":"#N/A"}},{"$error":"#N/A"}]
[{"$f":"IF(BubblePivot!A334 = 0,NA(),BubblePivot!A334)","v":{"$error":"#N/A"}},{"$f":"IF(BubblePivot!B334 = 0,NA(),BubblePivot!B334)","v":{"$error":"#N/A"}},{"$f":"IF(BubblePivot!C334 = 0,NA(),BubblePivot!C334)","v":{"$error":"#N/A"}},{"$f":"IF(BubblePivot!D334 = 0,NA(),BubblePivot!D334)","v":{"$error":"#N/A"}},{"$error":"#N/A"}]
[{"$f":"IF(BubblePivot!A335 = 0,NA(),BubblePivot!A335)","v":{"$error":"#N/A"}},{"$f":"IF(BubblePivot!B335 = 0,NA(),BubblePivot!B335)","v":{"$error":"#N/A"}},{"$f":"IF(BubblePivot!C335 = 0,NA(),BubblePivot!C335)","v":{"$error":"#N/A"}},{"$f":"IF(BubblePivot!D335 = 0,NA(),BubblePivot!D335)","v":{"$error":"#N/A"}},{"$error":"#N/A"}]
[{"$f":"IF(BubblePivot!A336 = 0,NA(),BubblePivot!A336)","v":{"$error":"#N/A"}},{"$f":"IF(BubblePivot!B336 = 0,NA(),BubblePivot!B336)","v":{"$error":"#N/A"}},{"$f":"IF(BubblePivot!C336 = 0,NA(),BubblePivot!C336)","v":{"$error":"#N/A"}},{"$f":"IF(BubblePivot!D336 = 0,NA(),BubblePivot!D336)","v":{"$error":"#N/A"}},{"$error":"#N/A"}]
[{"$f":"IF(BubblePivot!A337 = 0,NA(),BubblePivot!A337)","v":{"$error":"#N/A"}},{"$f":"IF(BubblePivot!B337 = 0,NA(),BubblePivot!B337)","v":{"$error":"#N/A"}},{"$f":"IF(BubblePivot!C337 = 0,NA(),BubblePivot!C337)","v":{"$error":"#N/A"}},{"$f":"IF(BubblePivot!D337 = 0,NA(),BubblePivot!D337)","v":{"$error":"#N/A"}},{"$error":"#N/A"}]
[{"$f":"IF(BubblePivot!A338 = 0,NA(),BubblePivot!A338)","v":{"$error":"#N/A"}},{"$f":"IF(BubblePivot!B338 = 0,NA(),BubblePivot!B338)","v":{"$error":"#N/A"}},{"$f":"IF(BubblePivot!C338 = 0,NA(),BubblePivot!C338)","v":{"$error":"#N/A"}},{"$f":"IF(BubblePivot!D338 = 0,NA(),BubblePivot!D338)","v":{"$error":"#N/A"}},{"$error":"#N/A"}]
[{"$f":"IF(BubblePivot!A339 = 0,NA(),BubblePivot!A339)","v":{"$error":"#N/A"}},{"$f":"IF(BubblePivot!B339 = 0,NA(),BubblePivot!B339)","v":{"$error":"#N/A"}},{"$f":"IF(BubblePivot!C339 = 0,NA(),BubblePivot!C339)","v":{"$error":"#N/A"}},{"$f":"IF(BubblePivot!D339 = 0,NA(),BubblePivot!D339)","v":{"$error":"#N/A"}},{"$error":"#N/A"}]
[{"$f":"IF(BubblePivot!A340 = 0,NA(),BubblePivot!A340)","v":{"$error":"#N/A"}},{"$f":"IF(BubblePivot!B340 = 0,NA(),BubblePivot!B340)","v":{"$error":"#N/A"}},{"$f":"IF(BubblePivot!C340 = 0,NA(),BubblePivot!C340)","v":{"$error":"#N/A"}},{"$f":"IF(BubblePivot!D340 = 0,NA(),BubblePivot!D340)","v":{"$error":"#N/A"}},{"$error":"#N/A"}]
[{"$f":"IF(BubblePivot!A341 = 0,NA(),BubblePivot!A341)","v":{"$error":"#N/A"}},{"$f":"IF(BubblePivot!B341 = 0,NA(),BubblePivot!B341)","v":{"$error":"#N/A"}},{"$f":"IF(BubblePivot!C341 = 0,NA(),BubblePivot!C341)","v":{"$error":"#N/A"}},{"$f":"IF(BubblePivot!D341 = 0,NA(),BubblePivot!D341)","v":{"$error":"#N/A"}},{"$error":"#N/A"}]
[{"$f":"IF(BubblePivot!A342 = 0,NA(),BubblePivot!A342)","v":{"$error":"#N/A"}},{"$f":"IF(BubblePivot!B342 = 0,NA(),BubblePivot!B342)","v":{"$error":"#N/A"}},{"$f":"IF(BubblePivot!C342 = 0,NA(),BubblePivot!C342)","v":{"$error":"#N/A"}},{"$f":"IF(BubblePivot!D342 = 0,NA(),BubblePivot!D342)","v":{"$error":"#N/A"}},{"$error":"#N/A"}]
[{"$f":"IF(BubblePivot!A343 = 0,NA(),BubblePivot!A343)","v":{"$error":"#N/A"}},{"$f":"IF(BubblePivot!B343 = 0,NA(),BubblePivot!B343)","v":{"$error":"#N/A"}},{"$f":"IF(BubblePivot!C343 = 0,NA(),BubblePivot!C343)","v":{"$error":"#N/A"}},{"$f":"IF(BubblePivot!D343 = 0,NA(),BubblePivot!D343)","v":{"$error":"#N/A"}},{"$error":"#N/A"}]
[{"$f":"IF(BubblePivot!A344 = 0,NA(),BubblePivot!A344)","v":{"$error":"#N/A"}},{"$f":"IF(BubblePivot!B344 = 0,NA(),BubblePivot!B344)","v":{"$error":"#N/A"}},{"$f":"IF(BubblePivot!C344 = 0,NA(),BubblePivot!C344)","v":{"$error":"#N/A"}},{"$f":"IF(BubblePivot!D344 = 0,NA(),BubblePivot!D344)","v":{"$error":"#N/A"}},{"$error":"#N/A"}]
[{"$f":"IF(BubblePivot!A345 = 0,NA(),BubblePivot!A345)","v":{"$error":"#N/A"}},{"$f":"IF(BubblePivot!B345 = 0,NA(),BubblePivot!B345)","v":{"$error":"#N/A"}},{"$f":"IF(BubblePivot!C345 = 0,NA(),BubblePivot!C345)","v":{"$error":"#N/A"}},{"$f":"IF(BubblePivot!D345 = 0,NA(),BubblePivot!D345)","v":{"$error":"#N/A"}},{"$error":"#N/A"}]
[{"$f":"IF(BubblePivot!A346 = 0,NA(),BubblePivot!A346)","v":{"$error":"#N/A"}},{"$f":"IF(BubblePivot!B346 = 0,NA(),BubblePivot!B346)","v":{"$error":"#N/A"}},{"$f":"IF(BubblePivot!C346 = 0,NA(),BubblePivot!C346)","v":{"$error":"#N/A"}},{"$f":"IF(BubblePivot!D346 = 0,NA(),BubblePivot!D346)","v":{"$error":"#N/A"}},{"$error":"#N/A"}]
[{"$f":"IF(BubblePivot!A347 = 0,NA(),BubblePivot!A347)","v":{"$error":"#N/A"}},{"$f":"IF(BubblePivot!B347 = 0,NA(),BubblePivot!B347)","v":{"$error":"#N/A"}},{"$f":"IF(BubblePivot!C347 = 0,NA(),BubblePivot!C347)","v":{"$error":"#N/A"}},{"$f":"IF(BubblePivot!D347 = 0,NA(),BubblePivot!D347)","v":{"$error":"#N/A"}},{"$error":"#N/A"}]
[{"$f":"IF(BubblePivot!A348 = 0,NA(),BubblePivot!A348)","v":{"$error":"#N/A"}},{"$f":"IF(BubblePivot!B348 = 0,NA(),BubblePivot!B348)","v":{"$error":"#N/A"}},{"$f":"IF(BubblePivot!C348 = 0,NA(),BubblePivot!C348)","v":{"$error":"#N/A"}},{"$f":"IF(BubblePivot!D348 = 0,NA(),BubblePivot!D348)","v":{"$error":"#N/A"}},{"$error":"#N/A"}]
[{"$f":"IF(BubblePivot!A349 = 0,NA(),BubblePivot!A349)","v":{"$error":"#N/A"}},{"$f":"IF(BubblePivot!B349 = 0,NA(),BubblePivot!B349)","v":{"$error":"#N/A"}},{"$f":"IF(BubblePivot!C349 = 0,NA(),BubblePivot!C349)","v":{"$error":"#N/A"}},{"$f":"IF(BubblePivot!D349 = 0,NA(),BubblePivot!D349)","v":{"$error":"#N/A"}},{"$error":"#N/A"}]
[{"$f":"IF(BubblePivot!A350 = 0,NA(),BubblePivot!A350)","v":{"$error":"#N/A"}},{"$f":"IF(BubblePivot!B350 = 0,NA(),BubblePivot!B350)","v":{"$error":"#N/A"}},{"$f":"IF(BubblePivot!C350 = 0,NA(),BubblePivot!C350)","v":{"$error":"#N/A"}},{"$f":"IF(BubblePivot!D350 = 0,NA(),BubblePivot!D350)","v":{"$error":"#N/A"}},{"$error":"#N/A"}]
[{"$f":"IF(BubblePivot!A351 = 0,NA(),BubblePivot!A351)","v":{"$error":"#N/A"}},{"$f":"IF(BubblePivot!B351 = 0,NA(),BubblePivot!B351)","v":{"$error":"#N/A"}},{"$f":"IF(BubblePivot!C351 = 0,NA(),BubblePivot!C351)","v":{"$error":"#N/A"}},{"$f":"IF(BubblePivot!D351 = 0,NA(),BubblePivot!D351)","v":{"$error":"#N/A"}},{"$error":"#N/A"}]
[{"$f":"IF(BubblePivot!A352 = 0,NA(),BubblePivot!A352)","v":{"$error":"#N/A"}},{"$f":"IF(BubblePivot!B352 = 0,NA(),BubblePivot!B352)","v":{"$error":"#N/A"}},{"$f":"IF(BubblePivot!C352 = 0,NA(),BubblePivot!C352)","v":{"$error":"#N/A"}},{"$f":"IF(BubblePivot!D352 = 0,NA(),BubblePivot!D352)","v":{"$error":"#N/A"}},{"$error":"#N/A"}]
[{"$f":"IF(BubblePivot!A353 = 0,NA(),BubblePivot!A353)","v":{"$error":"#N/A"}},{"$f":"IF(BubblePivot!B353 = 0,NA(),BubblePivot!B353)","v":{"$error":"#N/A"}},{"$f":"IF(BubblePivot!C353 = 0,NA(),BubblePivot!C353)","v":{"$error":"#N/A"}},{"$f":"IF(BubblePivot!D353 = 0,NA(),BubblePivot!D353)","v":{"$error":"#N/A"}},{"$error":"#N/A"}]
[{"$f":"IF(BubblePivot!A354 = 0,NA(),BubblePivot!A354)","v":{"$error":"#N/A"}},{"$f":"IF(BubblePivot!B354 = 0,NA(),BubblePivot!B354)","v":{"$error":"#N/A"}},{"$f":"IF(BubblePivot!C354 = 0,NA(),BubblePivot!C354)","v":{"$error":"#N/A"}},{"$f":"IF(BubblePivot!D354 = 0,NA(),BubblePivot!D354)","v":{"$error":"#N/A"}},{"$error":"#N/A"}]
[{"$f":"IF(BubblePivot!A355 = 0,NA(),BubblePivot!A355)","v":{"$error":"#N/A"}},{"$f":"IF(BubblePivot!B355 = 0,NA(),BubblePivot!B355)","v":{"$error":"#N/A"}},{"$f":"IF(BubblePivot!C355 = 0,NA(),BubblePivot!C355)","v":{"$error":"#N/A"}},{"$f":"IF(BubblePivot!D355 = 0,NA(),BubblePivot!D355)","v":{"$error":"#N/A"}},{"$error":"#N/A"}]
[{"$f":"IF(BubblePivot!A356 = 0,NA(),BubblePivot!A356)","v":{"$error":"#N/A"}},{"$f":"IF(BubblePivot!B356 = 0,NA(),BubblePivot!B356)","v":{"$error":"#N/A"}},{"$f":"IF(BubblePivot!C356 = 0,NA(),BubblePivot!C356)","v":{"$error":"#N/A"}},{"$f":"IF(BubblePivot!D356 = 0,NA(),BubblePivot!D356)","v":{"$error":"#N/A"}},{"$error":"#N/A"}]
[{"$f":"IF(BubblePivot!A357 = 0,NA(),BubblePivot!A357)","v":{"$error":"#N/A"}},{"$f":"IF(BubblePivot!B357 = 0,NA(),BubblePivot!B357)","v":{"$error":"#N/A"}},{"$f":"IF(BubblePivot!C357 = 0,NA(),BubblePivot!C357)","v":{"$error":"#N/A"}},{"$f":"IF(BubblePivot!D357 = 0,NA(),BubblePivot!D357)","v":{"$error":"#N/A"}},{"$error":"#N/A"}]
[{"$f":"IF(BubblePivot!A358 = 0,NA(),BubblePivot!A358)","v":{"$error":"#N/A"}},{"$f":"IF(BubblePivot!B358 = 0,NA(),BubblePivot!B358)","v":{"$error":"#N/A"}},{"$f":"IF(BubblePivot!C358 = 0,NA(),BubblePivot!C358)","v":{"$error":"#N/A"}},{"$f":"IF(BubblePivot!D358 = 0,NA(),BubblePivot!D358)","v":{"$error":"#N/A"}},{"$error":"#N/A"}]
[{"$f":"IF(BubblePivot!A359 = 0,NA(),BubblePivot!A359)","v":{"$error":"#N/A"}},{"$f":"IF(BubblePivot!B359 = 0,NA(),BubblePivot!B359)","v":{"$error":"#N/A"}},{"$f":"IF(BubblePivot!C359 = 0,NA(),BubblePivot!C359)","v":{"$error":"#N/A"}},{"$f":"IF(BubblePivot!D359 = 0,NA(),BubblePivot!D359)","v":{"$error":"#N/A"}},{"$error":"#N/A"}]
[{"$f":"IF(BubblePivot!A360 = 0,NA(),BubblePivot!A360)","v":{"$error":"#N/A"}},{"$f":"IF(BubblePivot!B360 = 0,NA(),BubblePivot!B360)","v":{"$error":"#N/A"}},{"$f":"IF(BubblePivot!C360 = 0,NA(),BubblePivot!C360)","v":{"$error":"#N/A"}},{"$f":"IF(BubblePivot!D360 = 0,NA(),BubblePivot!D360)","v":{"$error":"#N/A"}},{"$error":"#N/A"}]
[{"$f":"IF(BubblePivot!A361 = 0,NA(),BubblePivot!A361)","v":{"$error":"#N/A"}},{"$f":"IF(BubblePivot!B361 = 0,NA(),BubblePivot!B361)","v":{"$error":"#N/A"}},{"$f":"IF(BubblePivot!C361 = 0,NA(),BubblePivot!C361)","v":{"$error":"#N/A"}},{"$f":"IF(BubblePivot!D361 = 0,NA(),BubblePivot!D361)","v":{"$error":"#N/A"}},{"$error":"#N/A"}]
[{"$f":"IF(BubblePivot!A362 = 0,NA(),BubblePivot!A362)","v":{"$error":"#N/A"}},{"$f":"IF(BubblePivot!B362 = 0,NA(),BubblePivot!B362)","v":{"$error":"#N/A"}},{"$f":"IF(BubblePivot!C362 = 0,NA(),BubblePivot!C362)","v":{"$error":"#N/A"}},{"$f":"IF(BubblePivot!D362 = 0,NA(),BubblePivot!D362)","v":{"$error":"#N/A"}},{"$error":"#N/A"}]
[{"$f":"IF(BubblePivot!A363 = 0,NA(),BubblePivot!A363)","v":{"$error":"#N/A"}},{"$f":"IF(BubblePivot!B363 = 0,NA(),BubblePivot!B363)","v":{"$error":"#N/A"}},{"$f":"IF(BubblePivot!C363 = 0,NA(),BubblePivot!C363)","v":{"$error":"#N/A"}},{"$f":"IF(BubblePivot!D363 = 0,NA(),BubblePivot!D363)","v":{"$error":"#N/A"}},{"$error":"#N/A"}]
[{"$f":"IF(BubblePivot!A364 = 0,NA(),BubblePivot!A364)","v":{"$error":"#N/A"}},{"$f":"IF(BubblePivot!B364 = 0,NA(),BubblePivot!B364)","v":{"$error":"#N/A"}},{"$f":"IF(BubblePivot!C364 = 0,NA(),BubblePivot!C364)","v":{"$error":"#N/A"}},{"$f":"IF(BubblePivot!D364 = 0,NA(),BubblePivot!D364)","v":{"$error":"#N/A"}},{"$error":"#N/A"}]
[{"$f":"IF(BubblePivot!A365 = 0,NA(),BubblePivot!A365)","v":{"$error":"#N/A"}},{"$f":"IF(BubblePivot!B365 = 0,NA(),BubblePivot!B365)","v":{"$error":"#N/A"}},{"$f":"IF(BubblePivot!C365 = 0,NA(),BubblePivot!C365)","v":{"$error":"#N/A"}},{"$f":"IF(BubblePivot!D365 = 0,NA(),BubblePivot!D365)","v":{"$error":"#N/A"}},{"$error":"#N/A"}]
[{"$f":"IF(BubblePivot!A366 = 0,NA(),BubblePivot!A366)","v":{"$error":"#N/A"}},{"$f":"IF(BubblePivot!B366 = 0,NA(),BubblePivot!B366)","v":{"$error":"#N/A"}},{"$f":"IF(BubblePivot!C366 = 0,NA(),BubblePivot!C366)","v":{"$error":"#N/A"}},{"$f":"IF(BubblePivot!D366 = 0,NA(),BubblePivot!D366)","v":{"$error":"#N/A"}},{"$error":"#N/A"}]
[{"$f":"IF(BubblePivot!A367 = 0,NA(),BubblePivot!A367)","v":{"$error":"#N/A"}},{"$f":"IF(BubblePivot!B367 = 0,NA(),BubblePivot!B367)","v":{"$error":"#N/A"}},{"$f":"IF(BubblePivot!C367 = 0,NA(),BubblePivot!C367)","v":{"$error":"#N/A"}},{"$f":"IF(BubblePivot!D367 = 0,NA(),BubblePivot!D367)","v":{"$error":"#N/A"}},{"$error":"#N/A"}]
[{"$f":"IF(BubblePivot!A368 = 0,NA(),BubblePivot!A368)","v":{"$error":"#N/A"}},{"$f":"IF(BubblePivot!B368 = 0,NA(),BubblePivot!B368)","v":{"$error":"#N/A"}},{"$f":"IF(BubblePivot!C368 = 0,NA(),BubblePivot!C368)","v":{"$error":"#N/A"}},{"$f":"IF(BubblePivot!D368 = 0,NA(),BubblePivot!D368)","v":{"$error":"#N/A"}},{"$error":"#N/A"}]
[{"$f":"IF(BubblePivot!A369 = 0,NA(),BubblePivot!A369)","v":{"$error":"#N/A"}},{"$f":"IF(BubblePivot!B369 = 0,NA(),BubblePivot!B369)","v":{"$error":"#N/A"}},{"$f":"IF(BubblePivot!C369 = 0,NA(),BubblePivot!C369)","v":{"$error":"#N/A"}},{"$f":"IF(BubblePivot!D369 = 0,NA(),BubblePivot!D369)","v":{"$error":"#N/A"}},{"$error":"#N/A"}]
[{"$f":"IF(BubblePivot!A370 = 0,NA(),BubblePivot!A370)","v":{"$error":"#N/A"}},{"$f":"IF(BubblePivot!B370 = 0,NA(),BubblePivot!B370)","v":{"$error":"#N/A"}},{"$f":"IF(BubblePivot!C370 = 0,NA(),BubblePivot!C370)","v":{"$error":"#N/A"}},{"$f":"IF(BubblePivot!D370 = 0,NA(),BubblePivot!D370)","v":{"$error":"#N/A"}},{"$error":"#N/A"}]
[{"$f":"IF(BubblePivot!A371 = 0,NA(),BubblePivot!A371)","v":{"$error":"#N/A"}},{"$f":"IF(BubblePivot!B371 = 0,NA(),BubblePivot!B371)","v":{"$error":"#N/A"}},{"$f":"IF(BubblePivot!C371 = 0,NA(),BubblePivot!C371)","v":{"$error":"#N/A"}},{"$f":"IF(BubblePivot!D371 = 0,NA(),BubblePivot!D371)","v":{"$error":"#N/A"}},{"$error":"#N/A"}]
[{"$f":"IF(BubblePivot!A372 = 0,NA(),BubblePivot!A372)","v":{"$error":"#N/A"}},{"$f":"IF(BubblePivot!B372 = 0,NA(),BubblePivot!B372)","v":{"$error":"#N/A"}},{"$f":"IF(BubblePivot!C372 = 0,NA(),BubblePivot!C372)","v":{"$error":"#N/A"}},{"$f":"IF(BubblePivot!D372 = 0,NA(),BubblePivot!D372)","v":{"$error":"#N/A"}},{"$error":"#N/A"}]
[{"$f":"IF(BubblePivot!A373 = 0,NA(),BubblePivot!A373)","v":{"$error":"#N/A"}},{"$f":"IF(BubblePivot!B373 = 0,NA(),BubblePivot!B373)","v":{"$error":"#N/A"}},{"$f":"IF(BubblePivot!C373 = 0,NA(),BubblePivot!C373)","v":{"$error":"#N/A"}},{"$f":"IF(BubblePivot!D373 = 0,NA(),BubblePivot!D373)","v":{"$error":"#N/A"}},{"$error":"#N/A"}]
[{"$f":"IF(BubblePivot!A374 = 0,NA(),BubblePivot!A374)","v":{"$error":"#N/A"}},{"$f":"IF(BubblePivot!B374 = 0,NA(),BubblePivot!B374)","v":{"$error":"#N/A"}},{"$f":"IF(BubblePivot!C374 = 0,NA(),BubblePivot!C374)","v":{"$error":"#N/A"}},{"$f":"IF(BubblePivot!D374 = 0,NA(),BubblePivot!D374)","v":{"$error":"#N/A"}},{"$error":"#N/A"}]
[{"$f":"IF(BubblePivot!A375 = 0,NA(),BubblePivot!A375)","v":{"$error":"#N/A"}},{"$f":"IF(BubblePivot!B375 = 0,NA(),BubblePivot!B375)","v":{"$error":"#N/A"}},{"$f":"IF(BubblePivot!C375 = 0,NA(),BubblePivot!C375)","v":{"$error":"#N/A"}},{"$f":"IF(BubblePivot!D375 = 0,NA(),BubblePivot!D375)","v":{"$error":"#N/A"}},{"$error":"#N/A"}]
[{"$f":"IF(BubblePivot!A376 = 0,NA(),BubblePivot!A376)","v":{"$error":"#N/A"}},{"$f":"IF(BubblePivot!B376 = 0,NA(),BubblePivot!B376)","v":{"$error":"#N/A"}},{"$f":"IF(BubblePivot!C376 = 0,NA(),BubblePivot!C376)","v":{"$error":"#N/A"}},{"$f":"IF(BubblePivot!D376 = 0,NA(),BubblePivot!D376)","v":{"$error":"#N/A"}},{"$error":"#N/A"}]
[{"$f":"IF(BubblePivot!A377 = 0,NA(),BubblePivot!A377)","v":{"$error":"#N/A"}},{"$f":"IF(BubblePivot!B377 = 0,NA(),BubblePivot!B377)","v":{"$error":"#N/A"}},{"$f":"IF(BubblePivot!C377 = 0,NA(),BubblePivot!C377)","v":{"$error":"#N/A"}},{"$f":"IF(BubblePivot!D377 = 0,NA(),BubblePivot!D377)","v":{"$error":"#N/A"}},{"$error":"#N/A"}]
[{"$f":"IF(BubblePivot!A378 = 0,NA(),BubblePivot!A378)","v":{"$error":"#N/A"}},{"$f":"IF(BubblePivot!B378 = 0,NA(),BubblePivot!B378)","v":{"$error":"#N/A"}},{"$f":"IF(BubblePivot!C378 = 0,NA(),BubblePivot!C378)","v":{"$error":"#N/A"}},{"$f":"IF(BubblePivot!D378 = 0,NA(),BubblePivot!D378)","v":{"$error":"#N/A"}},{"$error":"#N/A"}]
[{"$f":"IF(BubblePivot!A379 = 0,NA(),BubblePivot!A379)","v":{"$error":"#N/A"}},{"$f":"IF(BubblePivot!B379 = 0,NA(),BubblePivot!B379)","v":{"$error":"#N/A"}},{"$f":"IF(BubblePivot!C379 = 0,NA(),BubblePivot!C379)","v":{"$error":"#N/A"}},{"$f":"IF(BubblePivot!D379 = 0,NA(),BubblePivot!D379)","v":{"$error":"#N/A"}},{"$error":"#N/A"}]
[{"$f":"IF(BubblePivot!A380 = 0,NA(),BubblePivot!A380)","v":{"$error":"#N/A"}},{"$f":"IF(BubblePivot!B380 = 0,NA(),BubblePivot!B380)","v":{"$error":"#N/A"}},{"$f":"IF(BubblePivot!C380 = 0,NA(),BubblePivot!C380)","v":{"$error":"#N/A"}},{"$f":"IF(BubblePivot!D380 = 0,NA(),BubblePivot!D380)","v":{"$error":"#N/A"}},{"$error":"#N/A"}]
[{"$f":"IF(BubblePivot!A381 = 0,NA(),BubblePivot!A381)","v":{"$error":"#N/A"}},{"$f":"IF(BubblePivot!B381 = 0,NA(),BubblePivot!B381)","v":{"$error":"#N/A"}},{"$f":"IF(BubblePivot!C381 = 0,NA(),BubblePivot!C381)","v":{"$error":"#N/A"}},{"$f":"IF(BubblePivot!D381 = 0,NA(),BubblePivot!D381)","v":{"$error":"#N/A"}},{"$error":"#N/A"}]
[{"$f":"IF(BubblePivot!A382 = 0,NA(),BubblePivot!A382)","v":{"$error":"#N/A"}},{"$f":"IF(BubblePivot!B382 = 0,NA(),BubblePivot!B382)","v":{"$error":"#N/A"}},{"$f":"IF(BubblePivot!C382 = 0,NA(),BubblePivot!C382)","v":{"$error":"#N/A"}},{"$f":"IF(BubblePivot!D382 = 0,NA(),BubblePivot!D382)","v":{"$error":"#N/A"}},{"$error":"#N/A"}]
[{"$f":"IF(BubblePivot!A383 = 0,NA(),BubblePivot!A383)","v":{"$error":"#N/A"}},{"$f":"IF(BubblePivot!B383 = 0,NA(),BubblePivot!B383)","v":{"$error":"#N/A"}},{"$f":"IF(BubblePivot!C383 = 0,NA(),BubblePivot!C383)","v":{"$error":"#N/A"}},{"$f":"IF(BubblePivot!D383 = 0,NA(),BubblePivot!D383)","v":{"$error":"#N/A"}},{"$error":"#N/A"}]
[{"$f":"IF(BubblePivot!A384 = 0,NA(),BubblePivot!A384)","v":{"$error":"#N/A"}},{"$f":"IF(BubblePivot!B384 = 0,NA(),BubblePivot!B384)","v":{"$error":"#N/A"}},{"$f":"IF(BubblePivot!C384 = 0,NA(),BubblePivot!C384)","v":{"$error":"#N/A"}},{"$f":"IF(BubblePivot!D384 = 0,NA(),BubblePivot!D384)","v":{"$error":"#N/A"}},{"$error":"#N/A"}]
[{"$f":"IF(BubblePivot!A385 = 0,NA(),BubblePivot!A385)","v":{"$error":"#N/A"}},{"$f":"IF(BubblePivot!B385 = 0,NA(),BubblePivot!B385)","v":{"$error":"#N/A"}},{"$f":"IF(BubblePivot!C385 = 0,NA(),BubblePivot!C385)","v":{"$error":"#N/A"}},{"$f":"IF(BubblePivot!D385 = 0,NA(),BubblePivot!D385)","v":{"$error":"#N/A"}},{"$error":"#N/A"}]
[{"$f":"IF(BubblePivot!A386 = 0,NA(),BubblePivot!A386)","v":{"$error":"#N/A"}},{"$f":"IF(BubblePivot!B386 = 0,NA(),BubblePivot!B386)","v":{"$error":"#N/A"}},{"$f":"IF(BubblePivot!C386 = 0,NA(),BubblePivot!C386)","v":{"$error":"#N/A"}},{"$f":"IF(BubblePivot!D386 = 0,NA(),BubblePivot!D386)","v":{"$error":"#N/A"}},{"$error":"#N/A"}]
[{"$f":"IF(BubblePivot!A387 = 0,NA(),BubblePivot!A387)","v":{"$error":"#N/A"}},{"$f":"IF(BubblePivot!B387 = 0,NA(),BubblePivot!B387)","v":{"$error":"#N/A"}},{"$f":"IF(BubblePivot!C387 = 0,NA(),BubblePivot!C387)","v":{"$error":"#N/A"}},{"$f":"IF(BubblePivot!D387 = 0,NA(),BubblePivot!D387)","v":{"$error":"#N/A"}},{"$error":"#N/A"}]
[{"$f":"IF(BubblePivot!A388 = 0,NA(),BubblePivot!A388)","v":{"$error":"#N/A"}},{"$f":"IF(BubblePivot!B388 = 0,NA(),BubblePivot!B388)","v":{"$error":"#N/A"}},{"$f":"IF(BubblePivot!C388 = 0,NA(),BubblePivot!C388)","v":{"$error":"#N/A"}},{"$f":"IF(BubblePivot!D388 = 0,NA(),BubblePivot!D388)","v":{"$error":"#N/A"}},{"$f":"A386","v":{"$error":"#N/A"}}]
[{"$f":"IF(BubblePivot!A389 = 0,NA(),BubblePivot!A389)","v":{"$error":"#N/A"}},{"$f":"IF(BubblePivot!B389 = 0,NA(),BubblePivot!B389)","v":{"$error":"#N/A"}},{"$f":"IF(BubblePivot!C389 = 0,NA(),BubblePivot!C389)","v":{"$error":"#N/A"}},{"$f":"IF(BubblePivot!D389 = 0,NA(),BubblePivot!D389)","v":{"$error":"#N/A"}},{"$error":"#N/A"}]
[{"$f":"IF(BubblePivot!A390 = 0,NA(),BubblePivot!A390)","v":{"$error":"#N/A"}},{"$f":"IF(BubblePivot!B390 = 0,NA(),BubblePivot!B390)","v":{"$error":"#N/A"}},{"$f":"IF(BubblePivot!C390 = 0,NA(),BubblePivot!C390)","v":{"$error":"#N/A"}},{"$f":"IF(BubblePivot!D390 = 0,NA(),BubblePivot!D390)","v":{"$error":"#N/A"}},{"$error":"#N/A"}]
[{"$f":"IF(BubblePivot!A391 = 0,NA(),BubblePivot!A391)","v":{"$error":"#N/A"}},{"$f":"IF(BubblePivot!B391 = 0,NA(),BubblePivot!B391)","v":{"$error":"#N/A"}},{"$f":"IF(BubblePivot!C391 = 0,NA(),BubblePivot!C391)","v":{"$error":"#N/A"}},{"$f":"IF(BubblePivot!D391 = 0,NA(),BubblePivot!D391)","v":{"$error":"#N/A"}},{"$error":"#N/A"}]
[{"$f":"IF(BubblePivot!A392 = 0,NA(),BubblePivot!A392)","v":{"$error":"#N/A"}},{"$f":"IF(BubblePivot!B392 = 0,NA(),BubblePivot!B392)","v":{"$error":"#N/A"}},{"$f":"IF(BubblePivot!C392 = 0,NA(),BubblePivot!C392)","v":{"$error":"#N/A"}},{"$f":"IF(BubblePivot!D392 = 0,NA(),BubblePivot!D392)","v":{"$error":"#N/A"}},{"$error":"#N/A"}]
[{"$f":"IF(BubblePivot!A393 = 0,NA(),BubblePivot!A393)","v":{"$error":"#N/A"}},{"$f":"IF(BubblePivot!B393 = 0,NA(),BubblePivot!B393)","v":{"$error":"#N/A"}},{"$f":"IF(BubblePivot!C393 = 0,NA(),BubblePivot!C393)","v":{"$error":"#N/A"}},{"$f":"IF(BubblePivot!D393 = 0,NA(),BubblePivot!D393)","v":{"$error":"#N/A"}},{"$error":"#N/A"}]
[{"$f":"IF(BubblePivot!A394 = 0,NA(),BubblePivot!A394)","v":{"$error":"#N/A"}},{"$f":"IF(BubblePivot!B394 = 0,NA(),BubblePivot!B394)","v":{"$error":"#N/A"}},{"$f":"IF(BubblePivot!C394 = 0,NA(),BubblePivot!C394)","v":{"$error":"#N/A"}},{"$f":"IF(BubblePivot!D394 = 0,NA(),BubblePivot!D394)","v":{"$error":"#N/A"}},{"$error":"#N/A"}]
[{"$f":"IF(BubblePivot!A395 = 0,NA(),BubblePivot!A395)","v":{"$error":"#N/A"}},{"$f":"IF(BubblePivot!B395 = 0,NA(),BubblePivot!B395)","v":{"$error":"#N/A"}},{"$f":"IF(BubblePivot!C395 = 0,NA(),BubblePivot!C395)","v":{"$error":"#N/A"}},{"$f":"IF(BubblePivot!D395 = 0,NA(),BubblePivot!D395)","v":{"$error":"#N/A"}},{"$error":"#N/A"}]
[{"$f":"IF(BubblePivot!A396 = 0,NA(),BubblePivot!A396)","v":{"$error":"#N/A"}},{"$f":"IF(BubblePivot!B396 = 0,NA(),BubblePivot!B396)","v":{"$error":"#N/A"}},{"$f":"IF(BubblePivot!C396 = 0,NA(),BubblePivot!C396)","v":{"$error":"#N/A"}},{"$f":"IF(BubblePivot!D396 = 0,NA(),BubblePivot!D396)","v":{"$error":"#N/A"}},{"$error":"#N/A"}]
[{"$f":"IF(BubblePivot!A397 = 0,NA(),BubblePivot!A397)","v":{"$error":"#N/A"}},{"$f":"IF(BubblePivot!B397 = 0,NA(),BubblePivot!B397)","v":{"$error":"#N/A"}},{"$f":"IF(BubblePivot!C397 = 0,NA(),BubblePivot!C397)","v":{"$error":"#N/A"}},{"$f":"IF(BubblePivot!D397 = 0,NA(),BubblePivot!D397)","v":{"$error":"#N/A"}},{"$error":"#N/A"}]
[{"$f":"IF(BubblePivot!A398 = 0,NA(),BubblePivot!A398)","v":{"$error":"#N/A"}},{"$f":"IF(BubblePivot!B398 = 0,NA(),BubblePivot!B398)","v":{"$error":"#N/A"}},{"$f":"IF(BubblePivot!C398 = 0,NA(),BubblePivot!C398)","v":{"$error":"#N/A"}},{"$f":"IF(BubblePivot!D398 = 0,NA(),BubblePivot!D398)","v":{"$error":"#N/A"}},{"$error":"#N/A"}]
[{"$f":"IF(BubblePivot!A399 = 0,NA(),BubblePivot!A399)","v":{"$error":"#N/A"}},{"$f":"IF(BubblePivot!B399 = 0,NA(),BubblePivot!B399)","v":{"$error":"#N/A"}},{"$f":"IF(BubblePivot!C399 = 0,NA(),BubblePivot!C399)","v":{"$error":"#N/A"}},{"$f":"IF(BubblePivot!D399 = 0,NA(),BubblePivot!D399)","v":{"$error":"#N/A"}},{"$error":"#N/A"}]
[{"$f":"IF(BubblePivot!A400 = 0,NA(),BubblePivot!A400)","v":{"$error":"#N/A"}},{"$f":"IF(BubblePivot!B400 = 0,NA(),BubblePivot!B400)","v":{"$error":"#N/A"}},{"$f":"IF(BubblePivot!C400 = 0,NA(),BubblePivot!C400)","v":{"$error":"#N/A"}},{"$f":"IF(BubblePivot!D400 = 0,NA(),BubblePivot!D400)","v":{"$error":"#N/A"}},{"$error":"#N/A"}]
[{"$f":"IF(BubblePivot!A401 = 0,NA(),BubblePivot!A401)","v":{"$error":"#N/A"}},{"$f":"IF(BubblePivot!B401 = 0,NA(),BubblePivot!B401)","v":{"$error":"#N/A"}},{"$f":"IF(BubblePivot!C401 = 0,NA(),BubblePivot!C401)","v":{"$error":"#N/A"}},{"$f":"IF(BubblePivot!D401 = 0,NA(),BubblePivot!D401)","v":{"$error":"#N/A"}},{"$error":"#N/A"}]
[{"$f":"IF(BubblePivot!A402 = 0,NA(),BubblePivot!A402)","v":{"$error":"#N/A"}},{"$f":"IF(BubblePivot!B402 = 0,NA(),BubblePivot!B402)","v":{"$error":"#N/A"}},{"$f":"IF(BubblePivot!C402 = 0,NA(),BubblePivot!C402)","v":{"$error":"#N/A"}},{"$f":"IF(BubblePivot!D402 = 0,NA(),BubblePivot!D402)","v":{"$error":"#N/A"}},{"$error":"#N/A"}]
[{"$f":"IF(BubblePivot!A403 = 0,NA(),BubblePivot!A403)","v":{"$error":"#N/A"}},{"$f":"IF(BubblePivot!B403 = 0,NA(),BubblePivot!B403)","v":{"$error":"#N/A"}},{"$f":"IF(BubblePivot!C403 = 0,NA(),BubblePivot!C403)","v":{"$error":"#N/A"}},{"$f":"IF(BubblePivot!D403 = 0,NA(),BubblePivot!D403)","v":{"$error":"#N/A"}},{"$error":"#N/A"}]
[{"$f":"IF(BubblePivot!A404 = 0,NA(),BubblePivot!A404)","v":{"$error":"#N/A"}},{"$f":"IF(BubblePivot!B404 = 0,NA(),BubblePivot!B404)","v":{"$error":"#N/A"}},{"$f":"IF(BubblePivot!C404 = 0,NA(),BubblePivot!C404)","v":{"$error":"#N/A"}},{"$f":"IF(BubblePivot!D404 = 0,NA(),BubblePivot!D404)","v":{"$error":"#N/A"}},{"$error":"#N/A"}]
[{"$f":"IF(BubblePivot!A405 = 0,NA(),BubblePivot!A405)","v":{"$error":"#N/A"}},{"$f":"IF(BubblePivot!B405 = 0,NA(),BubblePivot!B405)","v":{"$error":"#N/A"}},{"$f":"IF(BubblePivot!C405 = 0,NA(),BubblePivot!C405)","v":{"$error":"#N/A"}},{"$f":"IF(BubblePivot!D405 = 0,NA(),BubblePivot!D405)","v":{"$error":"#N/A"}},{"$error":"#N/A"}]
[{"$f":"IF(BubblePivot!A406 = 0,NA(),BubblePivot!A406)","v":{"$error":"#N/A"}},{"$f":"IF(BubblePivot!B406 = 0,NA(),BubblePivot!B406)","v":{"$error":"#N/A"}},{"$f":"IF(BubblePivot!C406 = 0,NA(),BubblePivot!C406)","v":{"$error":"#N/A"}},{"$f":"IF(BubblePivot!D406 = 0,NA(),BubblePivot!D406)","v":{"$error":"#N/A"}},{"$error":"#N/A"}]
[{"$f":"IF(BubblePivot!A407 = 0,NA(),BubblePivot!A407)","v":{"$error":"#N/A"}},{"$f":"IF(BubblePivot!B407 = 0,NA(),BubblePivot!B407)","v":{"$error":"#N/A"}},{"$f":"IF(BubblePivot!C407 = 0,NA(),BubblePivot!C407)","v":{"$error":"#N/A"}},{"$f":"IF(BubblePivot!D407 = 0,NA(),BubblePivot!D407)","v":{"$error":"#N/A"}},{"$error":"#N/A"}]
[{"$f":"IF(BubblePivot!A408 = 0,NA(),BubblePivot!A408)","v":{"$error":"#N/A"}},{"$f":"IF(BubblePivot!B408 = 0,NA(),BubblePivot!B408)","v":{"$error":"#N/A"}},{"$f":"IF(BubblePivot!C408 = 0,NA(),BubblePivot!C408)","v":{"$error":"#N/A"}},{"$f":"IF(BubblePivot!D408 = 0,NA(),BubblePivot!D408)","v":{"$error":"#N/A"}},{"$error":"#N/A"}]
[{"$f":"IF(BubblePivot!A409 = 0,NA(),BubblePivot!A409)","v":{"$error":"#N/A"}},{"$f":"IF(BubblePivot!B409 = 0,NA(),BubblePivot!B409)","v":{"$error":"#N/A"}},{"$f":"IF(BubblePivot!C409 = 0,NA(),BubblePivot!C409)","v":{"$error":"#N/A"}},{"$f":"IF(BubblePivot!D409 = 0,NA(),BubblePivot!D409)","v":{"$error":"#N/A"}},{"$error":"#N/A"}]
[{"$f":"IF(BubblePivot!A410 = 0,NA(),BubblePivot!A410)","v":{"$error":"#N/A"}},{"$f":"IF(BubblePivot!B410 = 0,NA(),BubblePivot!B410)","v":{"$error":"#N/A"}},{"$f":"IF(BubblePivot!C410 = 0,NA(),BubblePivot!C410)","v":{"$error":"#N/A"}},{"$f":"IF(BubblePivot!D410 = 0,NA(),BubblePivot!D410)","v":{"$error":"#N/A"}},{"$error":"#N/A"}]
[{"$f":"IF(BubblePivot!A411 = 0,NA(),BubblePivot!A411)","v":{"$error":"#N/A"}},{"$f":"IF(BubblePivot!B411 = 0,NA(),BubblePivot!B411)","v":{"$error":"#N/A"}},{"$f":"IF(BubblePivot!C411 = 0,NA(),BubblePivot!C411)","v":{"$error":"#N/A"}},{"$f":"IF(BubblePivot!D411 = 0,NA(),BubblePivot!D411)","v":{"$error":"#N/A"}},{"$error":"#N/A"}]
[{"$f":"IF(BubblePivot!A412 = 0,NA(),BubblePivot!A412)","v":{"$error":"#N/A"}},{"$f":"IF(BubblePivot!B412 = 0,NA(),BubblePivot!B412)","v":{"$error":"#N/A"}},{"$f":"IF(BubblePivot!C412 = 0,NA(),BubblePivot!C412)","v":{"$error":"#N/A"}},{"$f":"IF(BubblePivot!D412 = 0,NA(),BubblePivot!D412)","v":{"$error":"#N/A"}},{"$error":"#N/A"}]
[{"$f":"IF(BubblePivot!A413 = 0,NA(),BubblePivot!A413)","v":{"$error":"#N/A"}},{"$f":"IF(BubblePivot!B413 = 0,NA(),BubblePivot!B413)","v":{"$error":"#N/A"}},{"$f":"IF(BubblePivot!C413 = 0,NA(),BubblePivot!C413)","v":{"$error":"#N/A"}},{"$f":"IF(BubblePivot!D413 = 0,NA(),BubblePivot!D413)","v":{"$error":"#N/A"}},{"$error":"#N/A"}]
[{"$f":"IF(BubblePivot!A414 = 0,NA(),BubblePivot!A414)","v":{"$error":"#N/A"}},{"$f":"IF(BubblePivot!B414 = 0,NA(),BubblePivot!B414)","v":{"$error":"#N/A"}},{"$f":"IF(BubblePivot!C414 = 0,NA(),BubblePivot!C414)","v":{"$error":"#N/A"}},{"$f":"IF(BubblePivot!D414 = 0,NA(),BubblePivot!D414)","v":{"$error":"#N/A"}},{"$error":"#N/A"}]
[{"$f":"IF(BubblePivot!A415 = 0,NA(),BubblePivot!A415)","v":{"$error":"#N/A"}},{"$f":"IF(BubblePivot!B415 = 0,NA(),BubblePivot!B415)","v":{"$error":"#N/A"}},{"$f":"IF(BubblePivot!C415 = 0,NA(),BubblePivot!C415)","v":{"$error":"#N/A"}},{"$f":"IF(BubblePivot!D415 = 0,NA(),BubblePivot!D415)","v":{"$error":"#N/A"}},{"$error":"#N/A"}]
[{"$f":"IF(BubblePivot!A416 = 0,NA(),BubblePivot!A416)","v":{"$error":"#N/A"}},{"$f":"IF(BubblePivot!B416 = 0,NA(),BubblePivot!B416)","v":{"$error":"#N/A"}},{"$f":"IF(BubblePivot!C416 = 0,NA(),BubblePivot!C416)","v":{"$error":"#N/A"}},{"$f":"IF(BubblePivot!D416 = 0,NA(),BubblePivot!D416)","v":{"$error":"#N/A"}},{"$error":"#N/A"}]
[{"$f":"IF(BubblePivot!A417 = 0,NA(),BubblePivot!A417)","v":{"$error":"#N/A"}},{"$f":"IF(BubblePivot!B417 = 0,NA(),BubblePivot!B417)","v":{"$error":"#N/A"}},{"$f":"IF(BubblePivot!C417 = 0,NA(),BubblePivot!C417)","v":{"$error":"#N/A"}},{"$f":"IF(BubblePivot!D417 = 0,NA(),BubblePivot!D417)","v":{"$error":"#N/A"}},{"$error":"#N/A"}]
[{"$f":"IF(BubblePivot!A418 = 0,NA(),BubblePivot!A418)","v":{"$error":"#N/A"}},{"$f":"IF(BubblePivot!B418 = 0,NA(),BubblePivot!B418)","v":{"$error":"#N/A"}},{"$f":"IF(BubblePivot!C418 = 0,NA(),BubblePivot!C418)","v":{"$error":"#N/A"}},{"$f":"IF(BubblePivot!D418 = 0,NA(),BubblePivot!D418)","v":{"$error":"#N/A"}},{"$error":"#N/A"}]
[{"$f":"IF(BubblePivot!A419 = 0,NA(),BubblePivot!A419)","v":{"$error":"#N/A"}},{"$f":"IF(BubblePivot!B419 = 0,NA(),BubblePivot!B419)","v":{"$error":"#N/A"}},{"$f":"IF(BubblePivot!C419 = 0,NA(),BubblePivot!C419)","v":{"$error":"#N/A"}},{"$f":"IF(BubblePivot!D419 = 0,NA(),BubblePivot!D419)","v":{"$error":"#N/A"}},{"$error":"#N/A"}]
[{"$f":"IF(BubblePivot!A420 = 0,NA(),BubblePivot!A420)","v":{"$error":"#N/A"}},{"$f":"IF(BubblePivot!B420 = 0,NA(),BubblePivot!B420)","v":{"$error":"#N/A"}},{"$f":"IF(BubblePivot!C420 = 0,NA(),BubblePivot!C420)","v":{"$error":"#N/A"}},{"$f":"IF(BubblePivot!D420 = 0,NA(),BubblePivot!D420)","v":{"$error":"#N/A"}},{"$error":"#N/A"}]
[{"$f":"IF(BubblePivot!A421 = 0,NA(),BubblePivot!A421)","v":{"$error":"#N/A"}},{"$f":"IF(BubblePivot!B421 = 0,NA(),BubblePivot!B421)","v":{"$error":"#N/A"}},{"$f":"IF(BubblePivot!C421 = 0,NA(),BubblePivot!C421)","v":{"$error":"#N/A"}},{"$f":"IF(BubblePivot!D421 = 0,NA(),BubblePivot!D421)","v":{"$error":"#N/A"}},{"$error":"#N/A"}]
[{"$f":"IF(BubblePivot!A422 = 0,NA(),BubblePivot!A422)","v":{"$error":"#N/A"}},{"$f":"IF(BubblePivot!B422 = 0,NA(),BubblePivot!B422)","v":{"$error":"#N/A"}},{"$f":"IF(BubblePivot!C422 = 0,NA(),BubblePivot!C422)","v":{"$error":"#N/A"}},{"$f":"IF(BubblePivot!D422 = 0,NA(),BubblePivot!D422)","v":{"$error":"#N/A"}},{"$error":"#N/A"}]
[{"$f":"IF(BubblePivot!A423 = 0,NA(),BubblePivot!A423)","v":{"$error":"#N/A"}},{"$f":"IF(BubblePivot!B423 = 0,NA(),BubblePivot!B423)","v":{"$error":"#N/A"}},{"$f":"IF(BubblePivot!C423 = 0,NA(),BubblePivot!C423)","v":{"$error":"#N/A"}},{"$f":"IF(BubblePivot!D423 = 0,NA(),BubblePivot!D423)","v":{"$error":"#N/A"}},{"$error":"#N/A"}]
[{"$f":"IF(BubblePivot!A424 = 0,NA(),BubblePivot!A424)","v":{"$error":"#N/A"}},{"$f":"IF(BubblePivot!B424 = 0,NA(),BubblePivot!B424)","v":{"$error":"#N/A"}},{"$f":"IF(BubblePivot!C424 = 0,NA(),BubblePivot!C424)","v":{"$error":"#N/A"}},{"$f":"IF(BubblePivot!D424 = 0,NA(),BubblePivot!D424)","v":{"$error":"#N/A"}},{"$error":"#N/A"}]
[{"$f":"IF(BubblePivot!A425 = 0,NA(),BubblePivot!A425)","v":{"$error":"#N/A"}},{"$f":"IF(BubblePivot!B425 = 0,NA(),BubblePivot!B425)","v":{"$error":"#N/A"}},{"$f":"IF(BubblePivot!C425 = 0,NA(),BubblePivot!C425)","v":{"$error":"#N/A"}},{"$f":"IF(BubblePivot!D425 = 0,NA(),BubblePivot!D425)","v":{"$error":"#N/A"}},{"$error":"#N/A"}]
[{"$f":"IF(BubblePivot!A426 = 0,NA(),BubblePivot!A426)","v":{"$error":"#N/A"}},{"$f":"IF(BubblePivot!B426 = 0,NA(),BubblePivot!B426)","v":{"$error":"#N/A"}},{"$f":"IF(BubblePivot!C426 = 0,NA(),BubblePivot!C426)","v":{"$error":"#N/A"}},{"$f":"IF(BubblePivot!D426 = 0,NA(),BubblePivot!D426)","v":{"$error":"#N/A"}},{"$error":"#N/A"}]
[{"$f":"IF(BubblePivot!A427 = 0,NA(),BubblePivot!A427)","v":{"$error":"#N/A"}},{"$f":"IF(BubblePivot!B427 = 0,NA(),BubblePivot!B427)","v":{"$error":"#N/A"}},{"$f":"IF(BubblePivot!C427 = 0,NA(),BubblePivot!C427)","v":{"$error":"#N/A"}},{"$f":"IF(BubblePivot!D427 = 0,NA(),BubblePivot!D427)","v":{"$error":"#N/A"}},{"$error":"#N/A"}]
[{"$f":"IF(BubblePivot!A428 = 0,NA(),BubblePivot!A428)","v":{"$error":"#N/A"}},{"$f":"IF(BubblePivot!B428 = 0,NA(),BubblePivot!B428)","v":{"$error":"#N/A"}},{"$f":"IF(BubblePivot!C428 = 0,NA(),BubblePivot!C428)","v":{"$error":"#N/A"}},{"$f":"IF(BubblePivot!D428 = 0,NA(),BubblePivot!D428)","v":{"$error":"#N/A"}},{"$error":"#N/A"}]
[{"$f":"IF(BubblePivot!A429 = 0,NA(),BubblePivot!A429)","v":{"$error":"#N/A"}},{"$f":"IF(BubblePivot!B429 = 0,NA(),BubblePivot!B429)","v":{"$error":"#N/A"}},{"$f":"IF(BubblePivot!C429 = 0,NA(),BubblePivot!C429)","v":{"$error":"#N/A"}},{"$f":"IF(BubblePivot!D429 = 0,NA(),BubblePivot!D429)","v":{"$error":"#N/A"}},{"$error":"#N/A"}]
[{"$f":"IF(BubblePivot!A430 = 0,NA(),BubblePivot!A430)","v":{"$error":"#N/A"}},{"$f":"IF(BubblePivot!B430 = 0,NA(),BubblePivot!B430)","v":{"$error":"#N/A"}},{"$f":"IF(BubblePivot!C430 = 0,NA(),BubblePivot!C430)","v":{"$error":"#N/A"}},{"$f":"IF(BubblePivot!D430 = 0,NA(),BubblePivot!D430)","v":{"$error":"#N/A"}},{"$error":"#N/A"}]
[{"$f":"IF(BubblePivot!A431 = 0,NA(),BubblePivot!A431)","v":{"$error":"#N/A"}},{"$f":"IF(BubblePivot!B431 = 0,NA(),BubblePivot!B431)","v":{"$error":"#N/A"}},{"$f":"IF(BubblePivot!C431 = 0,NA(),BubblePivot!C431)","v":{"$error":"#N/A"}},{"$f":"IF(BubblePivot!D431 = 0,NA(),BubblePivot!D431)","v":{"$error":"#N/A"}},{"$error":"#N/A"}]
[{"$f":"IF(BubblePivot!A432 = 0,NA(),BubblePivot!A432)","v":{"$error":"#N/A"}},{"$f":"IF(BubblePivot!B432 = 0,NA(),BubblePivot!B432)","v":{"$error":"#N/A"}},{"$f":"IF(BubblePivot!C432 = 0,NA(),BubblePivot!C432)","v":{"$error":"#N/A"}},{"$f":"IF(BubblePivot!D432 = 0,NA(),BubblePivot!D432)","v":{"$error":"#N/A"}},{"$error":"#N/A"}]
[{"$f":"IF(BubblePivot!A433 = 0,NA(),BubblePivot!A433)","v":{"$error":"#N/A"}},{"$f":"IF(BubblePivot!B433 = 0,NA(),BubblePivot!B433)","v":{"$error":"#N/A"}},{"$f":"IF(BubblePivot!C433 = 0,NA(),BubblePivot!C433)","v":{"$error":"#N/A"}},{"$f":"IF(BubblePivot!D433 = 0,NA(),BubblePivot!D433)","v":{"$error":"#N/A"}},{"$error":"#N/A"}]
[{"$f":"IF(BubblePivot!A434 = 0,NA(),BubblePivot!A434)","v":{"$error":"#N/A"}},{"$f":"IF(BubblePivot!B434 = 0,NA(),BubblePivot!B434)","v":{"$error":"#N/A"}},{"$f":"IF(BubblePivot!C434 = 0,NA(),BubblePivot!C434)","v":{"$error":"#N/A"}},{"$f":"IF(BubblePivot!D434 = 0,NA(),BubblePivot!D434)","v":{"$error":"#N/A"}},{"$error":"#N/A"}]
[{"$f":"IF(BubblePivot!A435 = 0,NA(),BubblePivot!A435)","v":{"$error":"#N/A"}},{"$f":"IF(BubblePivot!B435 = 0,NA(),BubblePivot!B435)","v":{"$error":"#N/A"}},{"$f":"IF(BubblePivot!C435 = 0,NA(),BubblePivot!C435)","v":{"$error":"#N/A"}},{"$f":"IF(BubblePivot!D435 = 0,NA(),BubblePivot!D435)","v":{"$error":"#N/A"}},{"$error":"#N/A"}]
[{"$f":"IF(BubblePivot!A436 = 0,NA(),BubblePivot!A436)","v":{"$error":"#N/A"}},{"$f":"IF(BubblePivot!B436 = 0,NA(),BubblePivot!B436)","v":{"$error":"#N/A"}},{"$f":"IF(BubblePivot!C436 = 0,NA(),BubblePivot!C436)","v":{"$error":"#N/A"}},{"$f":"IF(BubblePivot!D436 = 0,NA(),BubblePivot!D436)","v":{"$error":"#N/A"}},{"$error":"#N/A"}]
[{"$f":"IF(BubblePivot!A437 = 0,NA(),BubblePivot!A437)","v":{"$error":"#N/A"}},{"$f":"IF(BubblePivot!B437 = 0,NA(),BubblePivot!B437)","v":{"$error":"#N/A"}},{"$f":"IF(BubblePivot!C437 = 0,NA(),BubblePivot!C437)","v":{"$error":"#N/A"}},{"$f":"IF(BubblePivot!D437 = 0,NA(),BubblePivot!D437)","v":{"$error":"#N/A"}},{"$error":"#N/A"}]
[{"$f":"IF(BubblePivot!A438 = 0,NA(),BubblePivot!A438)","v":{"$error":"#N/A"}},{"$f":"IF(BubblePivot!B438 = 0,NA(),BubblePivot!B438)","v":{"$error":"#N/A"}},{"$f":"IF(BubblePivot!C438 = 0,NA(),BubblePivot!C438)","v":{"$error":"#N/A"}},{"$f":"IF(BubblePivot!D438 = 0,NA(),BubblePivot!D438)","v":{"$error":"#N/A"}},{"$error":"#N/A"}]
[{"$f":"IF(BubblePivot!A439 = 0,NA(),BubblePivot!A439)","v":{"$error":"#N/A"}},{"$f":"IF(BubblePivot!B439 = 0,NA(),BubblePivot!B439)","v":{"$error":"#N/A"}},{"$f":"IF(BubblePivot!C439 = 0,NA(),BubblePivot!C439)","v":{"$error":"#N/A"}},{"$f":"IF(BubblePivot!D439 = 0,NA(),BubblePivot!D439)","v":{"$error":"#N/A"}},{"$error":"#N/A"}]
[{"$f":"IF(BubblePivot!A440 = 0,NA(),BubblePivot!A440)","v":{"$error":"#N/A"}},{"$f":"IF(BubblePivot!B440 = 0,NA(),BubblePivot!B440)","v":{"$error":"#N/A"}},{"$f":"IF(BubblePivot!C440 = 0,NA(),BubblePivot!C440)","v":{"$error":"#N/A"}},{"$f":"IF(BubblePivot!D440 = 0,NA(),BubblePivot!D440)","v":{"$error":"#N/A"}},{"$error":"#N/A"}]
[{"$f":"IF(BubblePivot!A441 = 0,NA(),BubblePivot!A441)","v":{"$error":"#N/A"}},{"$f":"IF(BubblePivot!B441 = 0,NA(),BubblePivot!B441)","v":{"$error":"#N/A"}},{"$f":"IF(BubblePivot!C441 = 0,NA(),BubblePivot!C441)","v":{"$error":"#N/A"}},{"$f":"IF(BubblePivot!D441 = 0,NA(),BubblePivot!D441)","v":{"$error":"#N/A"}},{"$error":"#N/A"}]
[{"$f":"IF(BubblePivot!A442 = 0,NA(),BubblePivot!A442)","v":{"$error":"#N/A"}},{"$f":"IF(BubblePivot!B442 = 0,NA(),BubblePivot!B442)","v":{"$error":"#N/A"}},{"$f":"IF(BubblePivot!C442 = 0,NA(),BubblePivot!C442)","v":{"$error":"#N/A"}},{"$f":"IF(BubblePivot!D442 = 0,NA(),BubblePivot!D442)","v":{"$error":"#N/A"}},{"$error":"#N/A"}]
[{"$f":"IF(BubblePivot!A443 = 0,NA(),BubblePivot!A443)","v":{"$error":"#N/A"}},{"$f":"IF(BubblePivot!B443 = 0,NA(),BubblePivot!B443)","v":{"$error":"#N/A"}},{"$f":"IF(BubblePivot!C443 = 0,NA(),BubblePivot!C443)","v":{"$error":"#N/A"}},{"$f":"IF(BubblePivot!D443 = 0,NA(),BubblePivot!D443)","v":{"$error":"#N/A"}},{"$error":"#N/A"}]
[{"$f":"IF(BubblePivot!A444 = 0,NA(),BubblePivot!A444)","v":{"$error":"#N/A"}},{"$f":"IF(BubblePivot!B444 = 0,NA(),BubblePivot!B444)","v":{"$error":"#N/A"}},{"$f":"IF(BubblePivot!C444 = 0,NA(),BubblePivot!C444)","v":{"$error":"#N/A"}},{"$f":"IF(BubblePivot!D444 = 0,NA(),BubblePivot!D444)","v":{"$error":"#N/A"}},{"$error":"#N/A"}]
[{"$f":"IF(BubblePivot!A445 = 0,NA(),BubblePivot!A445)","v":{"$error":"#N/A"}},{"$f":"IF(BubblePivot!B445 = 0,NA(),BubblePivot!B445)","v":{"$error":"#N/A"}},{"$f":"IF(BubblePivot!C445 = 0,NA(),BubblePivot!C445)","v":{"$error":"#N/A"}},{"$f":"IF(BubblePivot!D445 = 0,NA(),BubblePivot!D445)","v":{"$error":"#N/A"}},{"$error":"#N/A"}]
[{"$f":"IF(BubblePivot!A446 = 0,NA(),BubblePivot!A446)","v":{"$error":"#N/A"}},{"$f":"IF(BubblePivot!B446 = 0,NA(),BubblePivot!B446)","v":{"$error":"#N/A"}},{"$f":"IF(BubblePivot!C446 = 0,NA(),BubblePivot!C446)","v":{"$error":"#N/A"}},{"$f":"IF(BubblePivot!D446 = 0,NA(),BubblePivot!D446)","v":{"$error":"#N/A"}},{"$error":"#N/A"}]
[{"$f":"IF(BubblePivot!A447 = 0,NA(),BubblePivot!A447)","v":{"$error":"#N/A"}},{"$f":"IF(BubblePivot!B447 = 0,NA(),BubblePivot!B447)","v":{"$error":"#N/A"}},{"$f":"IF(BubblePivot!C447 = 0,NA(),BubblePivot!C447)","v":{"$error":"#N/A"}},{"$f":"IF(BubblePivot!D447 = 0,NA(),BubblePivot!D447)","v":{"$error":"#N/A"}},{"$error":"#N/A"}]
[{"$f":"IF(BubblePivot!A448 = 0,NA(),BubblePivot!A448)","v":{"$error":"#N/A"}},{"$f":"IF(BubblePivot!B448 = 0,NA(),BubblePivot!B448)","v":{"$error":"#N/A"}},{"$f":"IF(BubblePivot!C448 = 0,NA(),BubblePivot!C448)","v":{"$error":"#N/A"}},{"$f":"IF(BubblePivot!D448 = 0,NA(),BubblePivot!D448)","v":{"$error":"#N/A"}},{"$error":"#N/A"}]
[{"$f":"IF(BubblePivot!A449 = 0,NA(),BubblePivot!A449)","v":{"$error":"#N/A"}},{"$f":"IF(BubblePivot!B449 = 0,NA(),BubblePivot!B449)","v":{"$error":"#N/A"}},{"$f":"IF(BubblePivot!C449 = 0,NA(),BubblePivot!C449)","v":{"$error":"#N/A"}},{"$f":"IF(BubblePivot!D449 = 0,NA(),BubblePivot!D449)","v":{"$error":"#N/A"}},{"$error":"#N/A"}]
[{"$f":"IF(BubblePivot!A450 = 0,NA(),BubblePivot!A450)","v":{"$error":"#N/A"}},{"$f":"IF(BubblePivot!B450 = 0,NA(),BubblePivot!B450)","v":{"$error":"#N/A"}},{"$f":"IF(BubblePivot!C450 = 0,NA(),BubblePivot!C450)","v":{"$error":"#N/A"}},{"$f":"IF(BubblePivot!D450 = 0,NA(),BubblePivot!D450)","v":{"$error":"#N/A"}},{"$error":"#N/A"}]
[{"$f":"IF(BubblePivot!A451 = 0,NA(),BubblePivot!A451)","v":{"$error":"#N/A"}},{"$f":"IF(BubblePivot!B451 = 0,NA(),BubblePivot!B451)","v":{"$error":"#N/A"}},{"$f":"IF(BubblePivot!C451 = 0,NA(),BubblePivot!C451)","v":{"$error":"#N/A"}},{"$f":"IF(BubblePivot!D451 = 0,NA(),BubblePivot!D451)","v":{"$error":"#N/A"}},{"$error":"#N/A"}]
[{"$f":"IF(BubblePivot!A452 = 0,NA(),BubblePivot!A452)","v":{"$error":"#N/A"}},{"$f":"IF(BubblePivot!B452 = 0,NA(),BubblePivot!B452)","v":{"$error":"#N/A"}},{"$f":"IF(BubblePivot!C452 = 0,NA(),BubblePivot!C452)","v":{"$error":"#N/A"}},{"$f":"IF(BubblePivot!D452 = 0,NA(),BubblePivot!D452)","v":{"$error":"#N/A"}},{"$f":"A450","v":{"$error":"#N/A"}}]
[{"$f":"IF(BubblePivot!A453 = 0,NA(),BubblePivot!A453)","v":{"$error":"#N/A"}},{"$f":"IF(BubblePivot!B453 = 0,NA(),BubblePivot!B453)","v":{"$error":"#N/A"}},{"$f":"IF(BubblePivot!C453 = 0,NA(),BubblePivot!C453)","v":{"$error":"#N/A"}},{"$f":"IF(BubblePivot!D453 = 0,NA(),BubblePivot!D453)","v":{"$error":"#N/A"}},{"$error":"#N/A"}]
[{"$f":"IF(BubblePivot!A454 = 0,NA(),BubblePivot!A454)","v":{"$error":"#N/A"}},{"$f":"IF(BubblePivot!B454 = 0,NA(),BubblePivot!B454)","v":{"$error":"#N/A"}},{"$f":"IF(BubblePivot!C454 = 0,NA(),BubblePivot!C454)","v":{"$error":"#N/A"}},{"$f":"IF(BubblePivot!D454 = 0,NA(),BubblePivot!D454)","v":{"$error":"#N/A"}},{"$error":"#N/A"}]
[{"$f":"IF(BubblePivot!A455 = 0,NA(),BubblePivot!A455)","v":{"$error":"#N/A"}},{"$f":"IF(BubblePivot!B455 = 0,NA(),BubblePivot!B455)","v":{"$error":"#N/A"}},{"$f":"IF(BubblePivot!C455 = 0,NA(),BubblePivot!C455)","v":{"$error":"#N/A"}},{"$f":"IF(BubblePivot!D455 = 0,NA(),BubblePivot!D455)","v":{"$error":"#N/A"}},{"$error":"#N/A"}]
[{"$f":"IF(BubblePivot!A456 = 0,NA(),BubblePivot!A456)","v":{"$error":"#N/A"}},{"$f":"IF(BubblePivot!B456 = 0,NA(),BubblePivot!B456)","v":{"$error":"#N/A"}},{"$f":"IF(BubblePivot!C456 = 0,NA(),BubblePivot!C456)","v":{"$error":"#N/A"}},{"$f":"IF(BubblePivot!D456 = 0,NA(),BubblePivot!D456)","v":{"$error":"#N/A"}},{"$error":"#N/A"}]
[{"$f":"IF(BubblePivot!A457 = 0,NA(),BubblePivot!A457)","v":{"$error":"#N/A"}},{"$f":"IF(BubblePivot!B457 = 0,NA(),BubblePivot!B457)","v":{"$error":"#N/A"}},{"$f":"IF(BubblePivot!C457 = 0,NA(),BubblePivot!C457)","v":{"$error":"#N/A"}},{"$f":"IF(BubblePivot!D457 = 0,NA(),BubblePivot!D457)","v":{"$error":"#N/A"}},{"$error":"#N/A"}]
[{"$f":"IF(BubblePivot!A458 = 0,NA(),BubblePivot!A458)","v":{"$error":"#N/A"}},{"$f":"IF(BubblePivot!B458 = 0,NA(),BubblePivot!B458)","v":{"$error":"#N/A"}},{"$f":"IF(BubblePivot!C458 = 0,NA(),BubblePivot!C458)","v":{"$error":"#N/A"}},{"$f":"IF(BubblePivot!D458 = 0,NA(),BubblePivot!D458)","v":{"$error":"#N/A"}},{"$error":"#N/A"}]
[{"$f":"IF(BubblePivot!A459 = 0,NA(),BubblePivot!A459)","v":{"$error":"#N/A"}},{"$f":"IF(BubblePivot!B459 = 0,NA(),BubblePivot!B459)","v":{"$error":"#N/A"}},{"$f":"IF(BubblePivot!C459 = 0,NA(),BubblePivot!C459)","v":{"$error":"#N/A"}},{"$f":"IF(BubblePivot!D459 = 0,NA(),BubblePivot!D459)","v":{"$error":"#N/A"}},{"$error":"#N/A"}]
[{"$f":"IF(BubblePivot!A460 = 0,NA(),BubblePivot!A460)","v":{"$error":"#N/A"}},{"$f":"IF(BubblePivot!B460 = 0,NA(),BubblePivot!B460)","v":{"$error":"#N/A"}},{"$f":"IF(BubblePivot!C460 = 0,NA(),BubblePivot!C460)","v":{"$error":"#N/A"}},{"$f":"IF(BubblePivot!D460 = 0,NA(),BubblePivot!D460)","v":{"$error":"#N/A"}},{"$error":"#N/A"}]
[{"$f":"IF(BubblePivot!A461 = 0,NA(),BubblePivot!A461)","v":{"$error":"#N/A"}},{"$f":"IF(BubblePivot!B461 = 0,NA(),BubblePivot!B461)","v":{"$error":"#N/A"}},{"$f":"IF(BubblePivot!C461 = 0,NA(),BubblePivot!C461)","v":{"$error":"#N/A"}},{"$f":"IF(BubblePivot!D461 = 0,NA(),BubblePivot!D461)","v":{"$error":"#N/A"}},{"$error":"#N/A"}]
[{"$f":"IF(BubblePivot!A462 = 0,NA(),BubblePivot!A462)","v":{"$error":"#N/A"}},{"$f":"IF(BubblePivot!B462 = 0,NA(),BubblePivot!B462)","v":{"$error":"#N/A"}},{"$f":"IF(BubblePivot!C462 = 0,NA(),BubblePivot!C462)","v":{"$error":"#N/A"}},{"$f":"IF(BubblePivot!D462 = 0,NA(),BubblePivot!D462)","v":{"$error":"#N/A"}},{"$error":"#N/A"}]
[{"$f":"IF(BubblePivot!A463 = 0,NA(),BubblePivot!A463)","v":{"$error":"#N/A"}},{"$f":"IF(BubblePivot!B463 = 0,NA(),BubblePivot!B463)","v":{"$error":"#N/A"}},{"$f":"IF(BubblePivot!C463 = 0,NA(),BubblePivot!C463)","v":{"$error":"#N/A"}},{"$f":"IF(BubblePivot!D463 = 0,NA(),BubblePivot!D463)","v":{"$error":"#N/A"}},{"$error":"#N/A"}]
[{"$f":"IF(BubblePivot!A464 = 0,NA(),BubblePivot!A464)","v":{"$error":"#N/A"}},{"$f":"IF(BubblePivot!B464 = 0,NA(),BubblePivot!B464)","v":{"$error":"#N/A"}},{"$f":"IF(BubblePivot!C464 = 0,NA(),BubblePivot!C464)","v":{"$error":"#N/A"}},{"$f":"IF(BubblePivot!D464 = 0,NA(),BubblePivot!D464)","v":{"$error":"#N/A"}},{"$error":"#N/A"}]
[{"$f":"IF(BubblePivot!A465 = 0,NA(),BubblePivot!A465)","v":{"$error":"#N/A"}},{"$f":"IF(BubblePivot!B465 = 0,NA(),BubblePivot!B465)","v":{"$error":"#N/A"}},{"$f":"IF(BubblePivot!C465 = 0,NA(),BubblePivot!C465)","v":{"$error":"#N/A"}},{"$f":"IF(BubblePivot!D465 = 0,NA(),BubblePivot!D465)","v":{"$error":"#N/A"}},{"$error":"#N/A"}]
[{"$f":"IF(BubblePivot!A466 = 0,NA(),BubblePivot!A466)","v":{"$error":"#N/A"}},{"$f":"IF(BubblePivot!B466 = 0,NA(),BubblePivot!B466)","v":{"$error":"#N/A"}},{"$f":"IF(BubblePivot!C466 = 0,NA(),BubblePivot!C466)","v":{"$error":"#N/A"}},{"$f":"IF(BubblePivot!D466 = 0,NA(),BubblePivot!D466)","v":{"$error":"#N/A"}},{"$error":"#N/A"}]
[{"$f":"IF(BubblePivot!A467 = 0,NA(),BubblePivot!A467)","v":{"$error":"#N/A"}},{"$f":"IF(BubblePivot!B467 = 0,NA(),BubblePivot!B467)","v":{"$error":"#N/A"}},{"$f":"IF(BubblePivot!C467 = 0,NA(),BubblePivot!C467)","v":{"$error":"#N/A"}},{"$f":"IF(BubblePivot!D467 = 0,NA(),BubblePivot!D467)","v":{"$error":"#N/A"}},{"$error":"#N/A"}]
[{"$f":"IF(BubblePivot!A468 = 0,NA(),BubblePivot!A468)","v":{"$error":"#N/A"}},{"$f":"IF(BubblePivot!B468 = 0,NA(),BubblePivot!B468)","v":{"$error":"#N/A"}},{"$f":"IF(BubblePivot!C468 = 0,NA(),BubblePivot!C468)","v":{"$error":"#N/A"}},{"$f":"IF(BubblePivot!D468 = 0,NA(),BubblePivot!D468)","v":{"$error":"#N/A"}},{"$error":"#N/A"}]
[{"$f":"IF(BubblePivot!A469 = 0,NA(),BubblePivot!A469)","v":{"$error":"#N/A"}},{"$f":"IF(BubblePivot!B469 = 0,NA(),BubblePivot!B469)","v":{"$error":"#N/A"}},{"$f":"IF(BubblePivot!C469 = 0,NA(),BubblePivot!C469)","v":{"$error":"#N/A"}},{"$f":"IF(BubblePivot!D469 = 0,NA(),BubblePivot!D469)","v":{"$error":"#N/A"}},{"$error":"#N/A"}]
[{"$f":"IF(BubblePivot!A470 = 0,NA(),BubblePivot!A470)","v":{"$error":"#N/A"}},{"$f":"IF(BubblePivot!B470 = 0,NA(),BubblePivot!B470)","v":{"$error":"#N/A"}},{"$f":"IF(BubblePivot!C470 = 0,NA(),BubblePivot!C470)","v":{"$error":"#N/A"}},{"$f":"IF(BubblePivot!D470 = 0,NA(),BubblePivot!D470)","v":{"$error":"#N/A"}},{"$error":"#N/A"}]
[{"$f":"IF(BubblePivot!A471 = 0,NA(),BubblePivot!A471)","v":{"$error":"#N/A"}},{"$f":"IF(BubblePivot!B471 = 0,NA(),BubblePivot!B471)","v":{"$error":"#N/A"}},{"$f":"IF(BubblePivot!C471 = 0,NA(),BubblePivot!C471)","v":{"$error":"#N/A"}},{"$f":"IF(BubblePivot!D471 = 0,NA(),BubblePivot!D471)","v":{"$error":"#N/A"}},{"$error":"#N/A"}]
[{"$f":"IF(BubblePivot!A472 = 0,NA(),BubblePivot!A472)","v":{"$error":"#N/A"}},{"$f":"IF(BubblePivot!B472 = 0,NA(),BubblePivot!B472)","v":{"$error":"#N/A"}},{"$f":"IF(BubblePivot!C472 = 0,NA(),BubblePivot!C472)","v":{"$error":"#N/A"}},{"$f":"IF(BubblePivot!D472 = 0,NA(),BubblePivot!D472)","v":{"$error":"#N/A"}},{"$error":"#N/A"}]
[{"$f":"IF(BubblePivot!A473 = 0,NA(),BubblePivot!A473)","v":{"$error":"#N/A"}},{"$f":"IF(BubblePivot!B473 = 0,NA(),BubblePivot!B473)","v":{"$error":"#N/A"}},{"$f":"IF(BubblePivot!C473 = 0,NA(),BubblePivot!C473)","v":{"$error":"#N/A"}},{"$f":"IF(BubblePivot!D473 = 0,NA(),BubblePivot!D473)","v":{"$error":"#N/A"}},{"$error":"#N/A"}]
[{"$f":"IF(BubblePivot!A474 = 0,NA(),BubblePivot!A474)","v":{"$error":"#N/A"}},{"$f":"IF(BubblePivot!B474 = 0,NA(),BubblePivot!B474)","v":{"$error":"#N/A"}},{"$f":"IF(BubblePivot!C474 = 0,NA(),BubblePivot!C474)","v":{"$error":"#N/A"}},{"$f":"IF(BubblePivot!D474 = 0,NA(),BubblePivot!D474)","v":{"$error":"#N/A"}},{"$error":"#N/A"}]
[{"$f":"IF(BubblePivot!A475 = 0,NA(),BubblePivot!A475)","v":{"$error":"#N/A"}},{"$f":"IF(BubblePivot!B475 = 0,NA(),BubblePivot!B475)","v":{"$error":"#N/A"}},{"$f":"IF(BubblePivot!C475 = 0,NA(),BubblePivot!C475)","v":{"$error":"#N/A"}},{"$f":"IF(BubblePivot!D475 = 0,NA(),BubblePivot!D475)","v":{"$error":"#N/A"}},{"$error":"#N/A"}]
[{"$f":"IF(BubblePivot!A476 = 0,NA(),BubblePivot!A476)","v":{"$error":"#N/A"}},{"$f":"IF(BubblePivot!B476 = 0,NA(),BubblePivot!B476)","v":{"$error":"#N/A"}},{"$f":"IF(BubblePivot!C476 = 0,NA(),BubblePivot!C476)","v":{"$error":"#N/A"}},{"$f":"IF(BubblePivot!D476 = 0,NA(),BubblePivot!D476)","v":{"$error":"#N/A"}},{"$error":"#N/A"}]
[{"$f":"IF(BubblePivot!A477 = 0,NA(),BubblePivot!A477)","v":{"$error":"#N/A"}},{"$f":"IF(BubblePivot!B477 = 0,NA(),BubblePivot!B477)","v":{"$error":"#N/A"}},{"$f":"IF(BubblePivot!C477 = 0,NA(),BubblePivot!C477)","v":{"$error":"#N/A"}},{"$f":"IF(BubblePivot!D477 = 0,NA(),BubblePivot!D477)","v":{"$error":"#N/A"}},{"$error":"#N/A"}]
[{"$f":"IF(BubblePivot!A478 = 0,NA(),BubblePivot!A478)","v":{"$error":"#N/A"}},{"$f":"IF(BubblePivot!B478 = 0,NA(),BubblePivot!B478)","v":{"$error":"#N/A"}},{"$f":"IF(BubblePivot!C478 = 0,NA(),BubblePivot!C478)","v":{"$error":"#N/A"}},{"$f":"IF(BubblePivot!D478 = 0,NA(),BubblePivot!D478)","v":{"$error":"#N/A"}},{"$error":"#N/A"}]
[{"$f":"IF(BubblePivot!A479 = 0,NA(),BubblePivot!A479)","v":{"$error":"#N/A"}},{"$f":"IF(BubblePivot!B479 = 0,NA(),BubblePivot!B479)","v":{"$error":"#N/A"}},{"$f":"IF(BubblePivot!C479 = 0,NA(),BubblePivot!C479)","v":{"$error":"#N/A"}},{"$f":"IF(BubblePivot!D479 = 0,NA(),BubblePivot!D479)","v":{"$error":"#N/A"}},{"$error":"#N/A"}]
[{"$f":"IF(BubblePivot!A480 = 0,NA(),BubblePivot!A480)","v":{"$error":"#N/A"}},{"$f":"IF(BubblePivot!B480 = 0,NA(),BubblePivot!B480)","v":{"$error":"#N/A"}},{"$f":"IF(BubblePivot!C480 = 0,NA(),BubblePivot!C480)","v":{"$error":"#N/A"}},{"$f":"IF(BubblePivot!D480 = 0,NA(),BubblePivot!D480)","v":{"$error":"#N/A"}},{"$error":"#N/A"}]
[{"$f":"IF(BubblePivot!A481 = 0,NA(),BubblePivot!A481)","v":{"$error":"#N/A"}},{"$f":"IF(BubblePivot!B481 = 0,NA(),BubblePivot!B481)","v":{"$error":"#N/A"}},{"$f":"IF(BubblePivot!C481 = 0,NA(),BubblePivot!C481)","v":{"$error":"#N/A"}},{"$f":"IF(BubblePivot!D481 = 0,NA(),BubblePivot!D481)","v":{"$error":"#N/A"}},{"$error":"#N/A"}]
[{"$f":"IF(BubblePivot!A482 = 0,NA(),BubblePivot!A482)","v":{"$error":"#N/A"}},{"$f":"IF(BubblePivot!B482 = 0,NA(),BubblePivot!B482)","v":{"$error":"#N/A"}},{"$f":"IF(BubblePivot!C482 = 0,NA(),BubblePivot!C482)","v":{"$error":"#N/A"}},{"$f":"IF(BubblePivot!D482 = 0,NA(),BubblePivot!D482)","v":{"$error":"#N/A"}},{"$error":"#N/A"}]
[{"$f":"IF(BubblePivot!A483 = 0,NA(),BubblePivot!A483)","v":{"$error":"#N/A"}},{"$f":"IF(BubblePivot!B483 = 0,NA(),BubblePivot!B483)","v":{"$error":"#N/A"}},{"$f":"IF(BubblePivot!C483 = 0,NA(),BubblePivot!C483)","v":{"$error":"#N/A"}},{"$f":"IF(BubblePivot!D483 = 0,NA(),BubblePivot!D483)","v":{"$error":"#N/A"}},{"$error":"#N/A"}]
[{"$f":"IF(BubblePivot!A484 = 0,NA(),BubblePivot!A484)","v":{"$error":"#N/A"}},{"$f":"IF(BubblePivot!B484 = 0,NA(),BubblePivot!B484)","v":{"$error":"#N/A"}},{"$f":"IF(BubblePivot!C484 = 0,NA(),BubblePivot!C484)","v":{"$error":"#N/A"}},{"$f":"IF(BubblePivot!D484 = 0,NA(),BubblePivot!D484)","v":{"$error":"#N/A"}},{"$error":"#N/A"}]
[{"$f":"IF(BubblePivot!A485 = 0,NA(),BubblePivot!A485)","v":{"$error":"#N/A"}},{"$f":"IF(BubblePivot!B485 = 0,NA(),BubblePivot!B485)","v":{"$error":"#N/A"}},{"$f":"IF(BubblePivot!C485 = 0,NA(),BubblePivot!C485)","v":{"$error":"#N/A"}},{"$f":"IF(BubblePivot!D485 = 0,NA(),BubblePivot!D485)","v":{"$error":"#N/A"}},{"$error":"#N/A"}]
[{"$f":"IF(BubblePivot!A486 = 0,NA(),BubblePivot!A486)","v":{"$error":"#N/A"}},{"$f":"IF(BubblePivot!B486 = 0,NA(),BubblePivot!B486)","v":{"$error":"#N/A"}},{"$f":"IF(BubblePivot!C486 = 0,NA(),BubblePivot!C486)","v":{"$error":"#N/A"}},{"$f":"IF(BubblePivot!D486 = 0,NA(),BubblePivot!D486)","v":{"$error":"#N/A"}},{"$error":"#N/A"}]
[{"$f":"IF(BubblePivot!A487 = 0,NA(),BubblePivot!A487)","v":{"$error":"#N/A"}},{"$f":"IF(BubblePivot!B487 = 0,NA(),BubblePivot!B487)","v":{"$error":"#N/A"}},{"$f":"IF(BubblePivot!C487 = 0,NA(),BubblePivot!C487)","v":{"$error":"#N/A"}},{"$f":"IF(BubblePivot!D487 = 0,NA(),BubblePivot!D487)","v":{"$error":"#N/A"}},{"$error":"#N/A"}]
[{"$f":"IF(BubblePivot!A488 = 0,NA(),BubblePivot!A488)","v":{"$error":"#N/A"}},{"$f":"IF(BubblePivot!B488 = 0,NA(),BubblePivot!B488)","v":{"$error":"#N/A"}},{"$f":"IF(BubblePivot!C488 = 0,NA(),BubblePivot!C488)","v":{"$error":"#N/A"}},{"$f":"IF(BubblePivot!D488 = 0,NA(),BubblePivot!D488)","v":{"$error":"#N/A"}},{"$error":"#N/A"}]
[{"$f":"IF(BubblePivot!A489 = 0,NA(),BubblePivot!A489)","v":{"$error":"#N/A"}},{"$f":"IF(BubblePivot!B489 = 0,NA(),BubblePivot!B489)","v":{"$error":"#N/A"}},{"$f":"IF(BubblePivot!C489 = 0,NA(),BubblePivot!C489)","v":{"$error":"#N/A"}},{"$f":"IF(BubblePivot!D489 = 0,NA(),BubblePivot!D489)","v":{"$error":"#N/A"}},{"$error":"#N/A"}]
[{"$f":"IF(BubblePivot!A490 = 0,NA(),BubblePivot!A490)","v":{"$error":"#N/A"}},{"$f":"IF(BubblePivot!B490 = 0,NA(),BubblePivot!B490)","v":{"$error":"#N/A"}},{"$f":"IF(BubblePivot!C490 = 0,NA(),BubblePivot!C490)","v":{"$error":"#N/A"}},{"$f":"IF(BubblePivot!D490 = 0,NA(),BubblePivot!D490)","v":{"$error":"#N/A"}},{"$error":"#N/A"}]
[{"$f":"IF(BubblePivot!A491 = 0,NA(),BubblePivot!A491)","v":{"$error":"#N/A"}},{"$f":"IF(BubblePivot!B491 = 0,NA(),BubblePivot!B491)","v":{"$error":"#N/A"}},{"$f":"IF(BubblePivot!C491 = 0,NA(),BubblePivot!C491)","v":{"$error":"#N/A"}},{"$f":"IF(BubblePivot!D491 = 0,NA(),BubblePivot!D491)","v":{"$error":"#N/A"}},{"$error":"#N/A"}]
[{"$f":"IF(BubblePivot!A492 = 0,NA(),BubblePivot!A492)","v":{"$error":"#N/A"}},{"$f":"IF(BubblePivot!B492 = 0,NA(),BubblePivot!B492)","v":{"$error":"#N/A"}},{"$f":"IF(BubblePivot!C492 = 0,NA(),BubblePivot!C492)","v":{"$error":"#N/A"}},{"$f":"IF(BubblePivot!D492 = 0,NA(),BubblePivot!D492)","v":{"$error":"#N/A"}},{"$error":"#N/A"}]
[{"$f":"IF(BubblePivot!A493 = 0,NA(),BubblePivot!A493)","v":{"$error":"#N/A"}},{"$f":"IF(BubblePivot!B493 = 0,NA(),BubblePivot!B493)","v":{"$error":"#N/A"}},{"$f":"IF(BubblePivot!C493 = 0,NA(),BubblePivot!C493)","v":{"$error":"#N/A"}},{"$f":"IF(BubblePivot!D493 = 0,NA(),BubblePivot!D493)","v":{"$error":"#N/A"}},{"$error":"#N/A"}]
[{"$f":"IF(BubblePivot!A494 = 0,NA(),BubblePivot!A494)","v":{"$error":"#N/A"}},{"$f":"IF(BubblePivot!B494 = 0,NA(),BubblePivot!B494)","v":{"$error":"#N/A"}},{"$f":"IF(BubblePivot!C494 = 0,NA(),BubblePivot!C494)","v":{"$error":"#N/A"}},{"$f":"IF(BubblePivot!D494 = 0,NA(),BubblePivot!D494)","v":{"$error":"#N/A"}},{"$error":"#N/A"}]
[{"$f":"IF(BubblePivot!A495 = 0,NA(),BubblePivot!A495)","v":{"$error":"#N/A"}},{"$f":"IF(BubblePivot!B495 = 0,NA(),BubblePivot!B495)","v":{"$error":"#N/A"}},{"$f":"IF(BubblePivot!C495 = 0,NA(),BubblePivot!C495)","v":{"$error":"#N/A"}},{"$f":"IF(BubblePivot!D495 = 0,NA(),BubblePivot!D495)","v":{"$error":"#N/A"}},{"$error":"#N/A"}]
[{"$f":"IF(BubblePivot!A496 = 0,NA(),BubblePivot!A496)","v":{"$error":"#N/A"}},{"$f":"IF(BubblePivot!B496 = 0,NA(),BubblePivot!B496)","v":{"$error":"#N/A"}},{"$f":"IF(BubblePivot!C496 = 0,NA(),BubblePivot!C496)","v":{"$error":"#N/A"}},{"$f":"IF(BubblePivot!D496 = 0,NA(),BubblePivot!D496)","v":{"$error":"#N/A"}},{"$error":"#N/A"}]
[{"$f":"IF(BubblePivot!A497 = 0,NA(),BubblePivot!A497)","v":{"$error":"#N/A"}},{"$f":"IF(BubblePivot!B497 = 0,NA(),BubblePivot!B497)","v":{"$error":"#N/A"}},{"$f":"IF(BubblePivot!C497 = 0,NA(),BubblePivot!C497)","v":{"$error":"#N/A"}},{"$f":"IF(BubblePivot!D497 = 0,NA(),BubblePivot!D497)","v":{"$error":"#N/A"}},{"$error":"#N/A"}]
[{"$f":"IF(BubblePivot!A498 = 0,NA(),BubblePivot!A498)","v":{"$error":"#N/A"}},{"$f":"IF(BubblePivot!B498 = 0,NA(),BubblePivot!B498)","v":{"$error":"#N/A"}},{"$f":"IF(BubblePivot!C498 = 0,NA(),BubblePivot!C498)","v":{"$error":"#N/A"}},{"$f":"IF(BubblePivot!D498 = 0,NA(),BubblePivot!D498)","v":{"$error":"#N/A"}},{"$error":"#N/A"}]
[{"$f":"IF(BubblePivot!A499 = 0,NA(),BubblePivot!A499)","v":{"$error":"#N/A"}},{"$f":"IF(BubblePivot!B499 = 0,NA(),BubblePivot!B499)","v":{"$error":"#N/A"}},{"$f":"IF(BubblePivot!C499 = 0,NA(),BubblePivot!C499)","v":{"$error":"#N/A"}},{"$f":"IF(BubblePivot!D499 = 0,NA(),BubblePivot!D499)","v":{"$error":"#N/A"}},{"$error":"#N/A"}]
[{"$f":"IF(BubblePivot!A500 = 0,NA(),BubblePivot!A500)","v":{"$error":"#N/A"}},{"$f":"IF(BubblePivot!B500 = 0,NA(),BubblePivot!B500)","v":{"$error":"#N/A"}},{"$f":"IF(BubblePivot!C500 = 0,NA(),BubblePivot!C500)","v":{"$error":"#N/A"}},{"$f":"IF(BubblePivot!D500 = 0,NA(),BubblePivot!D500)","v":{"$error":"#N/A"}},{"$error":"#N/A"}]
[{"$f":"IF(BubblePivot!A501 = 0,NA(),BubblePivot!A501)","v":{"$error":"#N/A"}},{"$f":"IF(BubblePivot!B501 = 0,NA(),BubblePivot!B501)","v":{"$error":"#N/A"}},{"$f":"IF(BubblePivot!C501 = 0,NA(),BubblePivot!C501)","v":{"$error":"#N/A"}},{"$f":"IF(BubblePivot!D501 = 0,NA(),BubblePivot!D501)","v":{"$error":"#N/A"}},{"$error":"#N/A"}]
[{"$f":"IF(BubblePivot!A502 = 0,NA(),BubblePivot!A502)","v":{"$error":"#N/A"}},{"$f":"IF(BubblePivot!B502 = 0,NA(),BubblePivot!B502)","v":{"$error":"#N/A"}},{"$f":"IF(BubblePivot!C502 = 0,NA(),BubblePivot!C502)","v":{"$error":"#N/A"}},{"$f":"IF(BubblePivot!D502 = 0,NA(),BubblePivot!D502)","v":{"$error":"#N/A"}},{"$error":"#N/A"}]
[{"$f":"IF(BubblePivot!A503 = 0,NA(),BubblePivot!A503)","v":{"$error":"#N/A"}},{"$f":"IF(BubblePivot!B503 = 0,NA(),BubblePivot!B503)","v":{"$error":"#N/A"}},{"$f":"IF(BubblePivot!C503 = 0,NA(),BubblePivot!C503)","v":{"$error":"#N/A"}},{"$f":"IF(BubblePivot!D503 = 0,NA(),BubblePivot!D503)","v":{"$error":"#N/A"}},{"$error":"#N/A"}]
[{"$f":"IF(BubblePivot!A504 = 0,NA(),BubblePivot!A504)","v":{"$error":"#N/A"}},{"$f":"IF(BubblePivot!B504 = 0,NA(),BubblePivot!B504)","v":{"$error":"#N/A"}},{"$f":"IF(BubblePivot!C504 = 0,NA(),BubblePivot!C504)","v":{"$error":"#N/A"}},{"$f":"IF(BubblePivot!D504 = 0,NA(),BubblePivot!D504)","v":{"$error":"#N/A"}},{"$error":"#N/A"}]
[{"$f":"IF(BubblePivot!A505 = 0,NA(),BubblePivot!A505)","v":{"$error":"#N/A"}},{"$f":"IF(BubblePivot!B505 = 0,NA(),BubblePivot!B505)","v":{"$error":"#N/A"}},{"$f":"IF(BubblePivot!C505 = 0,NA(),BubblePivot!C505)","v":{"$error":"#N/A"}},{"$f":"IF(BubblePivot!D505 = 0,NA(),BubblePivot!D505)","v":{"$error":"#N/A"}},{"$error":"#N/A"}]
[{"$f":"IF(BubblePivot!A506 = 0,NA(),BubblePivot!A506)","v":{"$error":"#N/A"}},{"$f":"IF(BubblePivot!B506 = 0,NA(),BubblePivot!B506)","v":{"$error":"#N/A"}},{"$f":"IF(BubblePivot!C506 = 0,NA(),BubblePivot!C506)","v":{"$error":"#N/A"}},{"$f":"IF(BubblePivot!D506 = 0,NA(),BubblePivot!D506)","v":{"$error":"#N/A"}},{"$error":"#N/A"}]
[{"$f":"IF(BubblePivot!A507 = 0,NA(),BubblePivot!A507)","v":{"$error":"#N/A"}},{"$f":"IF(BubblePivot!B507 = 0,NA(),BubblePivot!B507)","v":{"$error":"#N/A"}},{"$f":"IF(BubblePivot!C507 = 0,NA(),BubblePivot!C507)","v":{"$error":"#N/A"}},{"$f":"IF(BubblePivot!D507 = 0,NA(),BubblePivot!D507)","v":{"$error":"#N/A"}},{"$error":"#N/A"}]
[{"$f":"IF(BubblePivot!A508 = 0,NA(),BubblePivot!A508)","v":{"$error":"#N/A"}},{"$f":"IF(BubblePivot!B508 = 0,NA(),BubblePivot!B508)","v":{"$error":"#N/A"}},{"$f":"IF(BubblePivot!C508 = 0,NA(),BubblePivot!C508)","v":{"$error":"#N/A"}},{"$f":"IF(BubblePivot!D508 = 0,NA(),BubblePivot!D508)","v":{"$error":"#N/A"}},{"$error":"#N/A"}]
[{"$f":"IF(BubblePivot!A509 = 0,NA(),BubblePivot!A509)","v":{"$error":"#N/A"}},{"$f":"IF(BubblePivot!B509 = 0,NA(),BubblePivot!B509)","v":{"$error":"#N/A"}},{"$f":"IF(BubblePivot!C509 = 0,NA(),BubblePivot!C509)","v":{"$error":"#N/A"}},{"$f":"IF(BubblePivot!D509 = 0,NA(),BubblePivot!D509)","v":{"$error":"#N/A"}},{"$error":"#N/A"}]
[{"$f":"IF(BubblePivot!A510 = 0,NA(),BubblePivot!A510)","v":{"$error":"#N/A"}},{"$f":"IF(BubblePivot!B510 = 0,NA(),BubblePivot!B510)","v":{"$error":"#N/A"}},{"$f":"IF(BubblePivot!C510 = 0,NA(),BubblePivot!C510)","v":{"$error":"#N/A"}},{"$f":"IF(BubblePivot!D510 = 0,NA(),BubblePivot!D510)","v":{"$error":"#N/A"}},{"$error":"#N/A"}]
[{"$f":"IF(BubblePivot!A511 = 0,NA(),BubblePivot!A511)","v":{"$error":"#N/A"}},{"$f":"IF(BubblePivot!B511 = 0,NA(),BubblePivot!B511)","v":{"$error":"#N/A"}},{"$f":"IF(BubblePivot!C511 = 0,NA(),BubblePivot!C511)","v":{"$error":"#N/A"}},{"$f":"IF(BubblePivot!D511 = 0,NA(),BubblePivot!D511)","v":{"$error":"#N/A"}},{"$error":"#N/A"}]
[{"$f":"IF(BubblePivot!A512 = 0,NA(),BubblePivot!A512)","v":{"$error":"#N/A"}},{"$f":"IF(BubblePivot!B512 = 0,NA(),BubblePivot!B512)","v":{"$error":"#N/A"}},{"$f":"IF(BubblePivot!C512 = 0,NA(),BubblePivot!C512)","v":{"$error":"#N/A"}},{"$f":"IF(BubblePivot!D512 = 0,NA(),BubblePivot!D512)","v":{"$error":"#N/A"}},{"$error":"#N/A"}]
[{"$f":"IF(BubblePivot!A513 = 0,NA(),BubblePivot!A513)","v":{"$error":"#N/A"}},{"$f":"IF(BubblePivot!B513 = 0,NA(),BubblePivot!B513)","v":{"$error":"#N/A"}},{"$f":"IF(BubblePivot!C513 = 0,NA(),BubblePivot!C513)","v":{"$error":"#N/A"}},{"$f":"IF(BubblePivot!D513 = 0,NA(),BubblePivot!D513)","v":{"$error":"#N/A"}},{"$error":"#N/A"}]
[{"$f":"IF(BubblePivot!A514 = 0,NA(),BubblePivot!A514)","v":{"$error":"#N/A"}},{"$f":"IF(BubblePivot!B514 = 0,NA(),BubblePivot!B514)","v":{"$error":"#N/A"}},{"$f":"IF(BubblePivot!C514 = 0,NA(),BubblePivot!C514)","v":{"$error":"#N/A"}},{"$f":"IF(BubblePivot!D514 = 0,NA(),BubblePivot!D514)","v":{"$error":"#N/A"}},{"$error":"#N/A"}]
[{"$f":"IF(BubblePivot!A515 = 0,NA(),BubblePivot!A515)","v":{"$error":"#N/A"}},{"$f":"IF(BubblePivot!B515 = 0,NA(),BubblePivot!B515)","v":{"$error":"#N/A"}},{"$f":"IF(BubblePivot!C515 = 0,NA(),BubblePivot!C515)","v":{"$error":"#N/A"}},{"$f":"IF(BubblePivot!D515 = 0,NA(),BubblePivot!D515)","v":{"$error":"#N/A"}},{"$error":"#N/A"}]
[{"$f":"IF(BubblePivot!A516 = 0,NA(),BubblePivot!A516)","v":{"$error":"#N/A"}},{"$f":"IF(BubblePivot!B516 = 0,NA(),BubblePivot!B516)","v":{"$error":"#N/A"}},{"$f":"IF(BubblePivot!C516 = 0,NA(),BubblePivot!C516)","v":{"$error":"#N/A"}},{"$f":"IF(BubblePivot!D516 = 0,NA(),BubblePivot!D516)","v":{"$error":"#N/A"}},{"$f":"A514","v":{"$error":"#N/A"}}]
[{"$f":"IF(BubblePivot!A517 = 0,NA(),BubblePivot!A517)","v":{"$error":"#N/A"}},{"$f":"IF(BubblePivot!B517 = 0,NA(),BubblePivot!B517)","v":{"$error":"#N/A"}},{"$f":"IF(BubblePivot!C517 = 0,NA(),BubblePivot!C517)","v":{"$error":"#N/A"}},{"$f":"IF(BubblePivot!D517 = 0,NA(),BubblePivot!D517)","v":{"$error":"#N/A"}},{"$error":"#N/A"}]
[{"$f":"IF(BubblePivot!A518 = 0,NA(),BubblePivot!A518)","v":{"$error":"#N/A"}},{"$f":"IF(BubblePivot!B518 = 0,NA(),BubblePivot!B518)","v":{"$error":"#N/A"}},{"$f":"IF(BubblePivot!C518 = 0,NA(),BubblePivot!C518)","v":{"$error":"#N/A"}},{"$f":"IF(BubblePivot!D518 = 0,NA(),BubblePivot!D518)","v":{"$error":"#N/A"}},{"$error":"#N/A"}]
[{"$f":"IF(BubblePivot!A519 = 0,NA(),BubblePivot!A519)","v":{"$error":"#N/A"}},{"$f":"IF(BubblePivot!B519 = 0,NA(),BubblePivot!B519)","v":{"$error":"#N/A"}},{"$f":"IF(BubblePivot!C519 = 0,NA(),BubblePivot!C519)","v":{"$error":"#N/A"}},{"$f":"IF(BubblePivot!D519 = 0,NA(),BubblePivot!D519)","v":{"$error":"#N/A"}},{"$error":"#N/A"}]
[{"$f":"IF(BubblePivot!A520 = 0,NA(),BubblePivot!A520)","v":{"$error":"#N/A"}},{"$f":"IF(BubblePivot!B520 = 0,NA(),BubblePivot!B520)","v":{"$error":"#N/A"}},{"$f":"IF(BubblePivot!C520 = 0,NA(),BubblePivot!C520)","v":{"$error":"#N/A"}},{"$f":"IF(BubblePivot!D520 = 0,NA(),BubblePivot!D520)","v":{"$error":"#N/A"}},{"$error":"#N/A"}]
[{"$f":"IF(BubblePivot!A521 = 0,NA(),BubblePivot!A521)","v":{"$error":"#N/A"}},{"$f":"IF(BubblePivot!B521 = 0,NA(),BubblePivot!B521)","v":{"$error":"#N/A"}},{"$f":"IF(BubblePivot!C521 = 0,NA(),BubblePivot!C521)","v":{"$error":"#N/A"}},{"$f":"IF(BubblePivot!D521 = 0,NA(),BubblePivot!D521)","v":{"$error":"#N/A"}},{"$error":"#N/A"}]
[{"$f":"IF(BubblePivot!A522 = 0,NA(),BubblePivot!A522)","v":{"$error":"#N/A"}},{"$f":"IF(BubblePivot!B522 = 0,NA(),BubblePivot!B522)","v":{"$error":"#N/A"}},{"$f":"IF(BubblePivot!C522 = 0,NA(),BubblePivot!C522)","v":{"$error":"#N/A"}},{"$f":"IF(BubblePivot!D522 = 0,NA(),BubblePivot!D522)","v":{"$error":"#N/A"}},{"$error":"#N/A"}]
[{"$f":"IF(BubblePivot!A523 = 0,NA(),BubblePivot!A523)","v":{"$error":"#N/A"}},{"$f":"IF(BubblePivot!B523 = 0,NA(),BubblePivot!B523)","v":{"$error":"#N/A"}},{"$f":"IF(BubblePivot!C523 = 0,NA(),BubblePivot!C523)","v":{"$error":"#N/A"}},{"$f":"IF(BubblePivot!D523 = 0,NA(),BubblePivot!D523)","v":{"$error":"#N/A"}},{"$error":"#N/A"}]
[{"$f":"IF(BubblePivot!A524 = 0,NA(),BubblePivot!A524)","v":{"$error":"#N/A"}},{"$f":"IF(BubblePivot!B524 = 0,NA(),BubblePivot!B524)","v":{"$error":"#N/A"}},{"$f":"IF(BubblePivot!C524 = 0,NA(),BubblePivot!C524)","v":{"$error":"#N/A"}},{"$f":"IF(BubblePivot!D524 = 0,NA(),BubblePivot!D524)","v":{"$error":"#N/A"}},{"$error":"#N/A"}]
[{"$f":"IF(BubblePivot!A525 = 0,NA(),BubblePivot!A525)","v":{"$error":"#N/A"}},{"$f":"IF(BubblePivot!B525 = 0,NA(),BubblePivot!B525)","v":{"$error":"#N/A"}},{"$f":"IF(BubblePivot!C525 = 0,NA(),BubblePivot!C525)","v":{"$error":"#N/A"}},{"$f":"IF(BubblePivot!D525 = 0,NA(),BubblePivot!D525)","v":{"$error":"#N/A"}},{"$error":"#N/A"}]
[{"$f":"IF(BubblePivot!A526 = 0,NA(),BubblePivot!A526)","v":{"$error":"#N/A"}},{"$f":"IF(BubblePivot!B526 = 0,NA(),BubblePivot!B526)","v":{"$error":"#N/A"}},{"$f":"IF(BubblePivot!C526 = 0,NA(),BubblePivot!C526)","v":{"$error":"#N/A"}},{"$f":"IF(BubblePivot!D526 = 0,NA(),BubblePivot!D526)","v":{"$error":"#N/A"}},{"$error":"#N/A"}]
[{"$f":"IF(BubblePivot!A527 = 0,NA(),BubblePivot!A527)","v":{"$error":"#N/A"}},{"$f":"IF(BubblePivot!B527 = 0,NA(),BubblePivot!B527)","v":{"$error":"#N/A"}},{"$f":"IF(BubblePivot!C527 = 0,NA(),BubblePivot!C527)","v":{"$error":"#N/A"}},{"$f":"IF(BubblePivot!D527 = 0,NA(),BubblePivot!D527)","v":{"$error":"#N/A"}},{"$error":"#N/A"}]
[{"$f":"IF(BubblePivot!A528 = 0,NA(),BubblePivot!A528)","v":{"$error":"#N/A"}},{"$f":"IF(BubblePivot!B528 = 0,NA(),BubblePivot!B528)","v":{"$error":"#N/A"}},{"$f":"IF(BubblePivot!C528 = 0,NA(),BubblePivot!C528)","v":{"$error":"#N/A"}},{"$f":"IF(BubblePivot!D528 = 0,NA(),BubblePivot!D528)","v":{"$error":"#N/A"}},{"$error":"#N/A"}]
[{"$f":"IF(BubblePivot!A529 = 0,NA(),BubblePivot!A529)","v":{"$error":"#N/A"}},{"$f":"IF(BubblePivot!B529 = 0,NA(),BubblePivot!B529)","v":{"$error":"#N/A"}},{"$f":"IF(BubblePivot!C529 = 0,NA(),BubblePivot!C529)","v":{"$error":"#N/A"}},{"$f":"IF(BubblePivot!D529 = 0,NA(),BubblePivot!D529)","v":{"$error":"#N/A"}},{"$error":"#N/A"}]
[{"$f":"IF(BubblePivot!A530 = 0,NA(),BubblePivot!A530)","v":{"$error":"#N/A"}},{"$f":"IF(BubblePivot!B530 = 0,NA(),BubblePivot!B530)","v":{"$error":"#N/A"}},{"$f":"IF(BubblePivot!C530 = 0,NA(),BubblePivot!C530)","v":{"$error":"#N/A"}},{"$f":"IF(BubblePivot!D530 = 0,NA(),BubblePivot!D530)","v":{"$error":"#N/A"}},{"$error":"#N/A"}]
[{"$f":"IF(BubblePivot!A531 = 0,NA(),BubblePivot!A531)","v":{"$error":"#N/A"}},{"$f":"IF(BubblePivot!B531 = 0,NA(),BubblePivot!B531)","v":{"$error":"#N/A"}},{"$f":"IF(BubblePivot!C531 = 0,NA(),BubblePivot!C531)","v":{"$error":"#N/A"}},{"$f":"IF(BubblePivot!D531 = 0,NA(),BubblePivot!D531)","v":{"$error":"#N/A"}},{"$error":"#N/A"}]
[{"$f":"IF(BubblePivot!A532 = 0,NA(),BubblePivot!A532)","v":{"$error":"#N/A"}},{"$f":"IF(BubblePivot!B532 = 0,NA(),BubblePivot!B532)","v":{"$error":"#N/A"}},{"$f":"IF(BubblePivot!C532 = 0,NA(),BubblePivot!C532)","v":{"$error":"#N/A"}},{"$f":"IF(BubblePivot!D532 = 0,NA(),BubblePivot!D532)","v":{"$error":"#N/A"}},{"$error":"#N/A"}]
[{"$f":"IF(BubblePivot!A533 = 0,NA(),BubblePivot!A533)","v":{"$error":"#N/A"}},{"$f":"IF(BubblePivot!B533 = 0,NA(),BubblePivot!B533)","v":{"$error":"#N/A"}},{"$f":"IF(BubblePivot!C533 = 0,NA(),BubblePivot!C533)","v":{"$error":"#N/A"}},{"$f":"IF(BubblePivot!D533 = 0,NA(),BubblePivot!D533)","v":{"$error":"#N/A"}},{"$error":"#N/A"}]
[{"$f":"IF(BubblePivot!A534 = 0,NA(),BubblePivot!A534)","v":{"$error":"#N/A"}},{"$f":"IF(BubblePivot!B534 = 0,NA(),BubblePivot!B534)","v":{"$error":"#N/A"}},{"$f":"IF(BubblePivot!C534 = 0,NA(),BubblePivot!C534)","v":{"$error":"#N/A"}},{"$f":"IF(BubblePivot!D534 = 0,NA(),BubblePivot!D534)","v":{"$error":"#N/A"}},{"$error":"#N/A"}]
[{"$f":"IF(BubblePivot!A535 = 0,NA(),BubblePivot!A535)","v":{"$error":"#N/A"}},{"$f":"IF(BubblePivot!B535 = 0,NA(),BubblePivot!B535)","v":{"$error":"#N/A"}},{"$f":"IF(BubblePivot!C535 = 0,NA(),BubblePivot!C535)","v":{"$error":"#N/A"}},{"$f":"IF(BubblePivot!D535 = 0,NA(),BubblePivot!D535)","v":{"$error":"#N/A"}},{"$error":"#N/A"}]
[{"$f":"IF(BubblePivot!A536 = 0,NA(),BubblePivot!A536)","v":{"$error":"#N/A"}},{"$f":"IF(BubblePivot!B536 = 0,NA(),BubblePivot!B536)","v":{"$error":"#N/A"}},{"$f":"IF(BubblePivot!C536 = 0,NA(),BubblePivot!C536)","v":{"$error":"#N/A"}},{"$f":"IF(BubblePivot!D536 = 0,NA(),BubblePivot!D536)","v":{"$error":"#N/A"}},{"$error":"#N/A"}]
[{"$f":"IF(BubblePivot!A537 = 0,NA(),BubblePivot!A537)","v":{"$error":"#N/A"}},{"$f":"IF(BubblePivot!B537 = 0,NA(),BubblePivot!B537)","v":{"$error":"#N/A"}},{"$f":"IF(BubblePivot!C537 = 0,NA(),BubblePivot!C537)","v":{"$error":"#N/A"}},{"$f":"IF(BubblePivot!D537 = 0,NA(),BubblePivot!D537)","v":{"$error":"#N/A"}},{"$error":"#N/A"}]
[{"$f":"IF(BubblePivot!A538 = 0,NA(),BubblePivot!A538)","v":{"$error":"#N/A"}},{"$f":"IF(BubblePivot!B538 = 0,NA(),BubblePivot!B538)","v":{"$error":"#N/A"}},{"$f":"IF(BubblePivot!C538 = 0,NA(),BubblePivot!C538)","v":{"$error":"#N/A"}},{"$f":"IF(BubblePivot!D538 = 0,NA(),BubblePivot!D538)","v":{"$error":"#N/A"}},{"$error":"#N/A"}]
[{"$f":"IF(BubblePivot!A539 = 0,NA(),BubblePivot!A539)","v":{"$error":"#N/A"}},{"$f":"IF(BubblePivot!B539 = 0,NA(),BubblePivot!B539)","v":{"$error":"#N/A"}},{"$f":"IF(BubblePivot!C539 = 0,NA(),BubblePivot!C539)","v":{"$error":"#N/A"}},{"$f":"IF(BubblePivot!D539 = 0,NA(),BubblePivot!D539)","v":{"$error":"#N/A"}},{"$error":"#N/A"}]
[{"$f":"IF(BubblePivot!A540 = 0,NA(),BubblePivot!A540)","v":{"$error":"#N/A"}},{"$f":"IF(BubblePivot!B540 = 0,NA(),BubblePivot!B540)","v":{"$error":"#N/A"}},{"$f":"IF(BubblePivot!C540 = 0,NA(),BubblePivot!C540)","v":{"$error":"#N/A"}},{"$f":"IF(BubblePivot!D540 = 0,NA(),BubblePivot!D540)","v":{"$error":"#N/A"}},{"$error":"#N/A"}]
[{"$f":"IF(BubblePivot!A541 = 0,NA(),BubblePivot!A541)","v":{"$error":"#N/A"}},{"$f":"IF(BubblePivot!B541 = 0,NA(),BubblePivot!B541)","v":{"$error":"#N/A"}},{"$f":"IF(BubblePivot!C541 = 0,NA(),BubblePivot!C541)","v":{"$error":"#N/A"}},{"$f":"IF(BubblePivot!D541 = 0,NA(),BubblePivot!D541)","v":{"$error":"#N/A"}},{"$error":"#N/A"}]
[{"$f":"IF(BubblePivot!A542 = 0,NA(),BubblePivot!A542)","v":{"$error":"#N/A"}},{"$f":"IF(BubblePivot!B542 = 0,NA(),BubblePivot!B542)","v":{"$error":"#N/A"}},{"$f":"IF(BubblePivot!C542 = 0,NA(),BubblePivot!C542)","v":{"$error":"#N/A"}},{"$f":"IF(BubblePivot!D542 = 0,NA(),BubblePivot!D542)","v":{"$error":"#N/A"}},{"$error":"#N/A"}]
[{"$f":"IF(BubblePivot!A543 = 0,NA(),BubblePivot!A543)","v":{"$error":"#N/A"}},{"$f":"IF(BubblePivot!B543 = 0,NA(),BubblePivot!B543)","v":{"$error":"#N/A"}},{"$f":"IF(BubblePivot!C543 = 0,NA(),BubblePivot!C543)","v":{"$error":"#N/A"}},{"$f":"IF(BubblePivot!D543 = 0,NA(),BubblePivot!D543)","v":{"$error":"#N/A"}},{"$error":"#N/A"}]
[{"$f":"IF(BubblePivot!A544 = 0,NA(),BubblePivot!A544)","v":{"$error":"#N/A"}},{"$f":"IF(BubblePivot!B544 = 0,NA(),BubblePivot!B544)","v":{"$error":"#N/A"}},{"$f":"IF(BubblePivot!C544 = 0,NA(),BubblePivot!C544)","v":{"$error":"#N/A"}},{"$f":"IF(BubblePivot!D544 = 0,NA(),BubblePivot!D544)","v":{"$error":"#N/A"}},{"$error":"#N/A"}]
[{"$f":"IF(BubblePivot!A545 = 0,NA(),BubblePivot!A545)","v":{"$error":"#N/A"}},{"$f":"IF(BubblePivot!B545 = 0,NA(),BubblePivot!B545)","v":{"$error":"#N/A"}},{"$f":"IF(BubblePivot!C545 = 0,NA(),BubblePivot!C545)","v":{"$error":"#N/A"}},{"$f":"IF(BubblePivot!D545 = 0,NA(),BubblePivot!D545)","v":{"$error":"#N/A"}},{"$error":"#N/A"}]
[{"$f":"IF(BubblePivot!A546 = 0,NA(),BubblePivot!A546)","v":{"$error":"#N/A"}},{"$f":"IF(BubblePivot!B546 = 0,NA(),BubblePivot!B546)","v":{"$error":"#N/A"}},{"$f":"IF(BubblePivot!C546 = 0,NA(),BubblePivot!C546)","v":{"$error":"#N/A"}},{"$f":"IF(BubblePivot!D546 = 0,NA(),BubblePivot!D546)","v":{"$error":"#N/A"}},{"$error":"#N/A"}]
[{"$f":"IF(BubblePivot!A547 = 0,NA(),BubblePivot!A547)","v":{"$error":"#N/A"}},{"$f":"IF(BubblePivot!B547 = 0,NA(),BubblePivot!B547)","v":{"$error":"#N/A"}},{"$f":"IF(BubblePivot!C547 = 0,NA(),BubblePivot!C547)","v":{"$error":"#N/A"}},{"$f":"IF(BubblePivot!D547 = 0,NA(),BubblePivot!D547)","v":{"$error":"#N/A"}},{"$error":"#N/A"}]
[{"$f":"IF(BubblePivot!A548 = 0,NA(),BubblePivot!A548)","v":{"$error":"#N/A"}},{"$f":"IF(BubblePivot!B548 = 0,NA(),BubblePivot!B548)","v":{"$error":"#N/A"}},{"$f":"IF(BubblePivot!C548 = 0,NA(),BubblePivot!C548)","v":{"$error":"#N/A"}},{"$f":"IF(BubblePivot!D548 = 0,NA(),BubblePivot!D548)","v":{"$error":"#N/A"}},{"$error":"#N/A"}]
[{"$f":"IF(BubblePivot!A549 = 0,NA(),BubblePivot!A549)","v":{"$error":"#N/A"}},{"$f":"IF(BubblePivot!B549 = 0,NA(),BubblePivot!B549)","v":{"$error":"#N/A"}},{"$f":"IF(BubblePivot!C549 = 0,NA(),BubblePivot!C549)","v":{"$error":"#N/A"}},{"$f":"IF(BubblePivot!D549 = 0,NA(),BubblePivot!D549)","v":{"$error":"#N/A"}},{"$error":"#N/A"}]
[{"$f":"IF(BubblePivot!A550 = 0,NA(),BubblePivot!A550)","v":{"$error":"#N/A"}},{"$f":"IF(BubblePivot!B550 = 0,NA(),BubblePivot!B550)","v":{"$error":"#N/A"}},{"$f":"IF(BubblePivot!C550 = 0,NA(),BubblePivot!C550)","v":{"$error":"#N/A"}},{"$f":"IF(BubblePivot!D550 = 0,NA(),BubblePivot!D550)","v":{"$error":"#N/A"}},{"$error":"#N/A"}]
[{"$f":"IF(BubblePivot!A551 = 0,NA(),BubblePivot!A551)","v":{"$error":"#N/A"}},{"$f":"IF(BubblePivot!B551 = 0,NA(),BubblePivot!B551)","v":{"$error":"#N/A"}},{"$f":"IF(BubblePivot!C551 = 0,NA(),BubblePivot!C551)","v":{"$error":"#N/A"}},{"$f":"IF(BubblePivot!D551 = 0,NA(),BubblePivot!D551)","v":{"$error":"#N/A"}},{"$error":"#N/A"}]
[{"$f":"IF(BubblePivot!A552 = 0,NA(),BubblePivot!A552)","v":{"$error":"#N/A"}},{"$f":"IF(BubblePivot!B552 = 0,NA(),BubblePivot!B552)","v":{"$error":"#N/A"}},{"$f":"IF(BubblePivot!C552 = 0,NA(),BubblePivot!C552)","v":{"$error":"#N/A"}},{"$f":"IF(BubblePivot!D552 = 0,NA(),BubblePivot!D552)","v":{"$error":"#N/A"}},{"$error":"#N/A"}]
[{"$f":"IF(BubblePivot!A553 = 0,NA(),BubblePivot!A553)","v":{"$error":"#N/A"}},{"$f":"IF(BubblePivot!B553 = 0,NA(),BubblePivot!B553)","v":{"$error":"#N/A"}},{"$f":"IF(BubblePivot!C553 = 0,NA(),BubblePivot!C553)","v":{"$error":"#N/A"}},{"$f":"IF(BubblePivot!D553 = 0,NA(),BubblePivot!D553)","v":{"$error":"#N/A"}},{"$error":"#N/A"}]
[{"$f":"IF(BubblePivot!A554 = 0,NA(),BubblePivot!A554)","v":{"$error":"#N/A"}},{"$f":"IF(BubblePivot!B554 = 0,NA(),BubblePivot!B554)","v":{"$error":"#N/A"}},{"$f":"IF(BubblePivot!C554 = 0,NA(),BubblePivot!C554)","v":{"$error":"#N/A"}},{"$f":"IF(BubblePivot!D554 = 0,NA(),BubblePivot!D554)","v":{"$error":"#N/A"}},{"$error":"#N/A"}]
[{"$f":"IF(BubblePivot!A555 = 0,NA(),BubblePivot!A555)","v":{"$error":"#N/A"}},{"$f":"IF(BubblePivot!B555 = 0,NA(),BubblePivot!B555)","v":{"$error":"#N/A"}},{"$f":"IF(BubblePivot!C555 = 0,NA(),BubblePivot!C555)","v":{"$error":"#N/A"}},{"$f":"IF(BubblePivot!D555 = 0,NA(),BubblePivot!D555)","v":{"$error":"#N/A"}},{"$error":"#N/A"}]
[{"$f":"IF(BubblePivot!A556 = 0,NA(),BubblePivot!A556)","v":{"$error":"#N/A"}},{"$f":"IF(BubblePivot!B556 = 0,NA(),BubblePivot!B556)","v":{"$error":"#N/A"}},{"$f":"IF(BubblePivot!C556 = 0,NA(),BubblePivot!C556)","v":{"$error":"#N/A"}},{"$f":"IF(BubblePivot!D556 = 0,NA(),BubblePivot!D556)","v":{"$error":"#N/A"}},{"$error":"#N/A"}]
[{"$f":"IF(BubblePivot!A557 = 0,NA(),BubblePivot!A557)","v":{"$error":"#N/A"}},{"$f":"IF(BubblePivot!B557 = 0,NA(),BubblePivot!B557)","v":{"$error":"#N/A"}},{"$f":"IF(BubblePivot!C557 = 0,NA(),BubblePivot!C557)","v":{"$error":"#N/A"}},{"$f":"IF(BubblePivot!D557 = 0,NA(),BubblePivot!D557)","v":{"$error":"#N/A"}},{"$error":"#N/A"}]
[{"$f":"IF(BubblePivot!A558 = 0,NA(),BubblePivot!A558)","v":{"$error":"#N/A"}},{"$f":"IF(BubblePivot!B558 = 0,NA(),BubblePivot!B558)","v":{"$error":"#N/A"}},{"$f":"IF(BubblePivot!C558 = 0,NA(),BubblePivot!C558)","v":{"$error":"#N/A"}},{"$f":"IF(BubblePivot!D558 = 0,NA(),BubblePivot!D558)","v":{"$error":"#N/A"}},{"$error":"#N/A"}]
[{"$f":"IF(BubblePivot!A559 = 0,NA(),BubblePivot!A559)","v":{"$error":"#N/A"}},{"$f":"IF(BubblePivot!B559 = 0,NA(),BubblePivot!B559)","v":{"$error":"#N/A"}},{"$f":"IF(BubblePivot!C559 = 0,NA(),BubblePivot!C559)","v":{"$error":"#N/A"}},{"$f":"IF(BubblePivot!D559 = 0,NA(),BubblePivot!D559)","v":{"$error":"#N/A"}},{"$error":"#N/A"}]
[{"$f":"IF(BubblePivot!A560 = 0,NA(),BubblePivot!A560)","v":{"$error":"#N/A"}},{"$f":"IF(BubblePivot!B560 = 0,NA(),BubblePivot!B560)","v":{"$error":"#N/A"}},{"$f":"IF(BubblePivot!C560 = 0,NA(),BubblePivot!C560)","v":{"$error":"#N/A"}},{"$f":"IF(BubblePivot!D560 = 0,NA(),BubblePivot!D560)","v":{"$error":"#N/A"}},{"$error":"#N/A"}]
[{"$f":"IF(BubblePivot!A561 = 0,NA(),BubblePivot!A561)","v":{"$error":"#N/A"}},{"$f":"IF(BubblePivot!B561 = 0,NA(),BubblePivot!B561)","v":{"$error":"#N/A"}},{"$f":"IF(BubblePivot!C561 = 0,NA(),BubblePivot!C561)","v":{"$error":"#N/A"}},{"$f":"IF(BubblePivot!D561 = 0,NA(),BubblePivot!D561)","v":{"$error":"#N/A"}},{"$error":"#N/A"}]
[{"$f":"IF(BubblePivot!A562 = 0,NA(),BubblePivot!A562)","v":{"$error":"#N/A"}},{"$f":"IF(BubblePivot!B562 = 0,NA(),BubblePivot!B562)","v":{"$error":"#N/A"}},{"$f":"IF(BubblePivot!C562 = 0,NA(),BubblePivot!C562)","v":{"$error":"#N/A"}},{"$f":"IF(BubblePivot!D562 = 0,NA(),BubblePivot!D562)","v":{"$error":"#N/A"}},{"$error":"#N/A"}]
[{"$f":"IF(BubblePivot!A563 = 0,NA(),BubblePivot!A563)","v":{"$error":"#N/A"}},{"$f":"IF(BubblePivot!B563 = 0,NA(),BubblePivot!B563)","v":{"$error":"#N/A"}},{"$f":"IF(BubblePivot!C563 = 0,NA(),BubblePivot!C563)","v":{"$error":"#N/A"}},{"$f":"IF(BubblePivot!D563 = 0,NA(),BubblePivot!D563)","v":{"$error":"#N/A"}},{"$error":"#N/A"}]
[{"$f":"IF(BubblePivot!A564 = 0,NA(),BubblePivot!A564)","v":{"$error":"#N/A"}},{"$f":"IF(BubblePivot!B564 = 0,NA(),BubblePivot!B564)","v":{"$error":"#N/A"}},{"$f":"IF(BubblePivot!C564 = 0,NA(),BubblePivot!C564)","v":{"$error":"#N/A"}},{"$f":"IF(BubblePivot!D564 = 0,NA(),BubblePivot!D564)","v":{"$error":"#N/A"}},{"$error":"#N/A"}]
[{"$f":"IF(BubblePivot!A565 = 0,NA(),BubblePivot!A565)","v":{"$error":"#N/A"}},{"$f":"IF(BubblePivot!B565 = 0,NA(),BubblePivot!B565)","v":{"$error":"#N/A"}},{"$f":"IF(BubblePivot!C565 = 0,NA(),BubblePivot!C565)","v":{"$error":"#N/A"}},{"$f":"IF(BubblePivot!D565 = 0,NA(),BubblePivot!D565)","v":{"$error":"#N/A"}},{"$error":"#N/A"}]
[{"$f":"IF(BubblePivot!A566 = 0,NA(),BubblePivot!A566)","v":{"$error":"#N/A"}},{"$f":"IF(BubblePivot!B566 = 0,NA(),BubblePivot!B566)","v":{"$error":"#N/A"}},{"$f":"IF(BubblePivot!C566 = 0,NA(),BubblePivot!C566)","v":{"$error":"#N/A"}},{"$f":"IF(BubblePivot!D566 = 0,NA(),BubblePivot!D566)","v":{"$error":"#N/A"}},{"$error":"#N/A"}]
[{"$f":"IF(BubblePivot!A567 = 0,NA(),BubblePivot!A567)","v":{"$error":"#N/A"}},{"$f":"IF(BubblePivot!B567 = 0,NA(),BubblePivot!B567)","v":{"$error":"#N/A"}},{"$f":"IF(BubblePivot!C567 = 0,NA(),BubblePivot!C567)","v":{"$error":"#N/A"}},{"$f":"IF(BubblePivot!D567 = 0,NA(),BubblePivot!D567)","v":{"$error":"#N/A"}},{"$error":"#N/A"}]
[{"$f":"IF(BubblePivot!A568 = 0,NA(),BubblePivot!A568)","v":{"$error":"#N/A"}},{"$f":"IF(BubblePivot!B568 = 0,NA(),BubblePivot!B568)","v":{"$error":"#N/A"}},{"$f":"IF(BubblePivot!C568 = 0,NA(),BubblePivot!C568)","v":{"$error":"#N/A"}},{"$f":"IF(BubblePivot!D568 = 0,NA(),BubblePivot!D568)","v":{"$error":"#N/A"}},{"$error":"#N/A"}]
[{"$f":"IF(BubblePivot!A569 = 0,NA(),BubblePivot!A569)","v":{"$error":"#N/A"}},{"$f":"IF(BubblePivot!B569 = 0,NA(),BubblePivot!B569)","v":{"$error":"#N/A"}},{"$f":"IF(BubblePivot!C569 = 0,NA(),BubblePivot!C569)","v":{"$error":"#N/A"}},{"$f":"IF(BubblePivot!D569 = 0,NA(),BubblePivot!D569)","v":{"$error":"#N/A"}},{"$error":"#N/A"}]
[{"$f":"IF(BubblePivot!A570 = 0,NA(),BubblePivot!A570)","v":{"$error":"#N/A"}},{"$f":"IF(BubblePivot!B570 = 0,NA(),BubblePivot!B570)","v":{"$error":"#N/A"}},{"$f":"IF(BubblePivot!C570 = 0,NA(),BubblePivot!C570)","v":{"$error":"#N/A"}},{"$f":"IF(BubblePivot!D570 = 0,NA(),BubblePivot!D570)","v":{"$error":"#N/A"}},{"$error":"#N/A"}]
[{"$f":"IF(BubblePivot!A571 = 0,NA(),BubblePivot!A571)","v":{"$error":"#N/A"}},{"$f":"IF(BubblePivot!B571 = 0,NA(),BubblePivot!B571)","v":{"$error":"#N/A"}},{"$f":"IF(BubblePivot!C571 = 0,NA(),BubblePivot!C571)","v":{"$error":"#N/A"}},{"$f":"IF(BubblePivot!D571 = 0,NA(),BubblePivot!D571)","v":{"$error":"#N/A"}},{"$error":"#N/A"}]
[{"$f":"IF(BubblePivot!A572 = 0,NA(),BubblePivot!A572)","v":{"$error":"#N/A"}},{"$f":"IF(BubblePivot!B572 = 0,NA(),BubblePivot!B572)","v":{"$error":"#N/A"}},{"$f":"IF(BubblePivot!C572 = 0,NA(),BubblePivot!C572)","v":{"$error":"#N/A"}},{"$f":"IF(BubblePivot!D572 = 0,NA(),BubblePivot!D572)","v":{"$error":"#N/A"}},{"$error":"#N/A"}]
[{"$f":"IF(BubblePivot!A573 = 0,NA(),BubblePivot!A573)","v":{"$error":"#N/A"}},{"$f":"IF(BubblePivot!B573 = 0,NA(),BubblePivot!B573)","v":{"$error":"#N/A"}},{"$f":"IF(BubblePivot!C573 = 0,NA(),BubblePivot!C573)","v":{"$error":"#N/A"}},{"$f":"IF(BubblePivot!D573 = 0,NA(),BubblePivot!D573)","v":{"$error":"#N/A"}},{"$error":"#N/A"}]
[{"$f":"IF(BubblePivot!A574 = 0,NA(),BubblePivot!A574)","v":{"$error":"#N/A"}},{"$f":"IF(BubblePivot!B574 = 0,NA(),BubblePivot!B574)","v":{"$error":"#N/A"}},{"$f":"IF(BubblePivot!C574 = 0,NA(),BubblePivot!C574)","v":{"$error":"#N/A"}},{"$f":"IF(BubblePivot!D574 = 0,NA(),BubblePivot!D574)","v":{"$error":"#N/A"}},{"$error":"#N/A"}]
[{"$f":"IF(BubblePivot!A575 = 0,NA(),BubblePivot!A575)","v":{"$error":"#N/A"}},{"$f":"IF(BubblePivot!B575 = 0,NA(),BubblePivot!B575)","v":{"$error":"#N/A"}},{"$f":"IF(BubblePivot!C575 = 0,NA(),BubblePivot!C575)","v":{"$error":"#N/A"}},{"$f":"IF(BubblePivot!D575 = 0,NA(),BubblePivot!D575)","v":{"$error":"#N/A"}},{"$error":"#N/A"}]
[{"$f":"IF(BubblePivot!A576 = 0,NA(),BubblePivot!A576)","v":{"$error":"#N/A"}},{"$f":"IF(BubblePivot!B576 = 0,NA(),BubblePivot!B576)","v":{"$error":"#N/A"}},{"$f":"IF(BubblePivot!C576 = 0,NA(),BubblePivot!C576)","v":{"$error":"#N/A"}},{"$f":"IF(BubblePivot!D576 = 0,NA(),BubblePivot!D576)","v":{"$error":"#N/A"}},{"$error":"#N/A"}]
[{"$f":"IF(BubblePivot!A577 = 0,NA(),BubblePivot!A577)","v":{"$error":"#N/A"}},{"$f":"IF(BubblePivot!B577 = 0,NA(),BubblePivot!B577)","v":{"$error":"#N/A"}},{"$f":"IF(BubblePivot!C577 = 0,NA(),BubblePivot!C577)","v":{"$error":"#N/A"}},{"$f":"IF(BubblePivot!D577 = 0,NA(),BubblePivot!D577)","v":{"$error":"#N/A"}},{"$error":"#N/A"}]
[{"$f":"IF(BubblePivot!A578 = 0,NA(),BubblePivot!A578)","v":{"$error":"#N/A"}},{"$f":"IF(BubblePivot!B578 = 0,NA(),BubblePivot!B578)","v":{"$error":"#N/A"}},{"$f":"IF(BubblePivot!C578 = 0,NA(),BubblePivot!C578)","v":{"$error":"#N/A"}},{"$f":"IF(BubblePivot!D578 = 0,NA(),BubblePivot!D578)","v":{"$error":"#N/A"}},{"$error":"#N/A"}]
[{"$f":"IF(BubblePivot!A579 = 0,NA(),BubblePivot!A579)","v":{"$error":"#N/A"}},{"$f":"IF(BubblePivot!B579 = 0,NA(),BubblePivot!B579)","v":{"$error":"#N/A"}},{"$f":"IF(BubblePivot!C579 = 0,NA(),BubblePivot!C579)","v":{"$error":"#N/A"}},{"$f":"IF(BubblePivot!D579 = 0,NA(),BubblePivot!D579)","v":{"$error":"#N/A"}},{"$error":"#N/A"}]
[{"$f":"IF(BubblePivot!A580 = 0,NA(),BubblePivot!A580)","v":{"$error":"#N/A"}},{"$f":"IF(BubblePivot!B580 = 0,NA(),BubblePivot!B580)","v":{"$error":"#N/A"}},{"$f":"IF(BubblePivot!C580 = 0,NA(),BubblePivot!C580)","v":{"$error":"#N/A"}},{"$f":"IF(BubblePivot!D580 = 0,NA(),BubblePivot!D580)","v":{"$error":"#N/A"}},{"$f":"A578","v":{"$error":"#N/A"}}]
[{"$f":"IF(BubblePivot!A581 = 0,NA(),BubblePivot!A581)","v":{"$error":"#N/A"}},{"$f":"IF(BubblePivot!B581 = 0,NA(),BubblePivot!B581)","v":{"$error":"#N/A"}},{"$f":"IF(BubblePivot!C581 = 0,NA(),BubblePivot!C581)","v":{"$error":"#N/A"}},{"$f":"IF(BubblePivot!D581 = 0,NA(),BubblePivot!D581)","v":{"$error":"#N/A"}},{"$error":"#N/A"}]
[{"$f":"IF(BubblePivot!A582 = 0,NA(),BubblePivot!A582)","v":{"$error":"#N/A"}},{"$f":"IF(BubblePivot!B582 = 0,NA(),BubblePivot!B582)","v":{"$error":"#N/A"}},{"$f":"IF(BubblePivot!C582 = 0,NA(),BubblePivot!C582)","v":{"$error":"#N/A"}},{"$f":"IF(BubblePivot!D582 = 0,NA(),BubblePivot!D582)","v":{"$error":"#N/A"}},{"$error":"#N/A"}]
[{"$f":"IF(BubblePivot!A583 = 0,NA(),BubblePivot!A583)","v":{"$error":"#N/A"}},{"$f":"IF(BubblePivot!B583 = 0,NA(),BubblePivot!B583)","v":{"$error":"#N/A"}},{"$f":"IF(BubblePivot!C583 = 0,NA(),BubblePivot!C583)","v":{"$error":"#N/A"}},{"$f":"IF(BubblePivot!D583 = 0,NA(),BubblePivot!D583)","v":{"$error":"#N/A"}},{"$error":"#N/A"}]
[{"$f":"IF(BubblePivot!A584 = 0,NA(),BubblePivot!A584)","v":{"$error":"#N/A"}},{"$f":"IF(BubblePivot!B584 = 0,NA(),BubblePivot!B584)","v":{"$error":"#N/A"}},{"$f":"IF(BubblePivot!C584 = 0,NA(),BubblePivot!C584)","v":{"$error":"#N/A"}},{"$f":"IF(BubblePivot!D584 = 0,NA(),BubblePivot!D584)","v":{"$error":"#N/A"}},{"$error":"#N/A"}]
[{"$f":"IF(BubblePivot!A585 = 0,NA(),BubblePivot!A585)","v":{"$error":"#N/A"}},{"$f":"IF(BubblePivot!B585 = 0,NA(),BubblePivot!B585)","v":{"$error":"#N/A"}},{"$f":"IF(BubblePivot!C585 = 0,NA(),BubblePivot!C585)","v":{"$error":"#N/A"}},{"$f":"IF(BubblePivot!D585 = 0,NA(),BubblePivot!D585)","v":{"$error":"#N/A"}},{"$error":"#N/A"}]
[{"$f":"IF(BubblePivot!A586 = 0,NA(),BubblePivot!A586)","v":{"$error":"#N/A"}},{"$f":"IF(BubblePivot!B586 = 0,NA(),BubblePivot!B586)","v":{"$error":"#N/A"}},{"$f":"IF(BubblePivot!C586 = 0,NA(),BubblePivot!C586)","v":{"$error":"#N/A"}},{"$f":"IF(BubblePivot!D586 = 0,NA(),BubblePivot!D586)","v":{"$error":"#N/A"}},{"$error":"#N/A"}]
[{"$f":"IF(BubblePivot!A587 = 0,NA(),BubblePivot!A587)","v":{"$error":"#N/A"}},{"$f":"IF(BubblePivot!B587 = 0,NA(),BubblePivot!B587)","v":{"$error":"#N/A"}},{"$f":"IF(BubblePivot!C587 = 0,NA(),BubblePivot!C587)","v":{"$error":"#N/A"}},{"$f":"IF(BubblePivot!D587 = 0,NA(),BubblePivot!D587)","v":{"$error":"#N/A"}},{"$error":"#N/A"}]
[{"$f":"IF(BubblePivot!A588 = 0,NA(),BubblePivot!A588)","v":{"$error":"#N/A"}},{"$f":"IF(BubblePivot!B588 = 0,NA(),BubblePivot!B588)","v":{"$error":"#N/A"}},{"$f":"IF(BubblePivot!C588 = 0,NA(),BubblePivot!C588)","v":{"$error":"#N/A"}},{"$f":"IF(BubblePivot!D588 = 0,NA(),BubblePivot!D588)","v":{"$error":"#N/A"}},{"$error":"#N/A"}]
[{"$f":"IF(BubblePivot!A589 = 0,NA(),BubblePivot!A589)","v":{"$error":"#N/A"}},{"$f":"IF(BubblePivot!B589 = 0,NA(),BubblePivot!B589)","v":{"$error":"#N/A"}},{"$f":"IF(BubblePivot!C589 = 0,NA(),BubblePivot!C589)","v":{"$error":"#N/A"}},{"$f":"IF(BubblePivot!D589 = 0,NA(),BubblePivot!D589)","v":{"$error":"#N/A"}},{"$error":"#N/A"}]
[{"$f":"IF(BubblePivot!A590 = 0,NA(),BubblePivot!A590)","v":{"$error":"#N/A"}},{"$f":"IF(BubblePivot!B590 = 0,NA(),BubblePivot!B590)","v":{"$error":"#N/A"}},{"$f":"IF(BubblePivot!C590 = 0,NA(),BubblePivot!C590)","v":{"$error":"#N/A"}},{"$f":"IF(BubblePivot!D590 = 0,NA(),BubblePivot!D590)","v":{"$error":"#N/A"}},{"$error":"#N/A"}]
[{"$f":"IF(BubblePivot!A591 = 0,NA(),BubblePivot!A591)","v":{"$error":"#N/A"}},{"$f":"IF(BubblePivot!B591 = 0,NA(),BubblePivot!B591)","v":{"$error":"#N/A"}},{"$f":"IF(BubblePivot!C591 = 0,NA(),BubblePivot!C591)","v":{"$error":"#N/A"}},{"$f":"IF(BubblePivot!D591 = 0,NA(),BubblePivot!D591)","v":{"$error":"#N/A"}},{"$error":"#N/A"}]
[{"$f":"IF(BubblePivot!A592 = 0,NA(),BubblePivot!A592)","v":{"$error":"#N/A"}},{"$f":"IF(BubblePivot!B592 = 0,NA(),BubblePivot!B592)","v":{"$error":"#N/A"}},{"$f":"IF(BubblePivot!C592 = 0,NA(),BubblePivot!C592)","v":{"$error":"#N/A"}},{"$f":"IF(BubblePivot!D592 = 0,NA(),BubblePivot!D592)","v":{"$error":"#N/A"}},{"$error":"#N/A"}]
[{"$f":"IF(BubblePivot!A593 = 0,NA(),BubblePivot!A593)","v":{"$error":"#N/A"}},{"$f":"IF(BubblePivot!B593 = 0,NA(),BubblePivot!B593)","v":{"$error":"#N/A"}},{"$f":"IF(BubblePivot!C593 = 0,NA(),BubblePivot!C593)","v":{"$error":"#N/A"}},{"$f":"IF(BubblePivot!D593 = 0,NA(),BubblePivot!D593)","v":{"$error":"#N/A"}},{"$error":"#N/A"}]
[{"$f":"IF(BubblePivot!A594 = 0,NA(),BubblePivot!A594)","v":{"$error":"#N/A"}},{"$f":"IF(BubblePivot!B594 = 0,NA(),BubblePivot!B594)","v":{"$error":"#N/A"}},{"$f":"IF(BubblePivot!C594 = 0,NA(),BubblePivot!C594)","v":{"$error":"#N/A"}},{"$f":"IF(BubblePivot!D594 = 0,NA(),BubblePivot!D594)","v":{"$error":"#N/A"}},{"$error":"#N/A"}]
[{"$f":"IF(BubblePivot!A595 = 0,NA(),BubblePivot!A595)","v":{"$error":"#N/A"}},{"$f":"IF(BubblePivot!B595 = 0,NA(),BubblePivot!B595)","v":{"$error":"#N/A"}},{"$f":"IF(BubblePivot!C595 = 0,NA(),BubblePivot!C595)","v":{"$error":"#N/A"}},{"$f":"IF(BubblePivot!D595 = 0,NA(),BubblePivot!D595)","v":{"$error":"#N/A"}},{"$error":"#N/A"}]
[{"$f":"IF(BubblePivot!A596 = 0,NA(),BubblePivot!A596)","v":{"$error":"#N/A"}},{"$f":"IF(BubblePivot!B596 = 0,NA(),BubblePivot!B596)","v":{"$error":"#N/A"}},{"$f":"IF(BubblePivot!C596 = 0,NA(),BubblePivot!C596)","v":{"$error":"#N/A"}},{"$f":"IF(BubblePivot!D596 = 0,NA(),BubblePivot!D596)","v":{"$error":"#N/A"}},{"$error":"#N/A"}]
[{"$f":"IF(BubblePivot!A597 = 0,NA(),BubblePivot!A597)","v":{"$error":"#N/A"}},{"$f":"IF(BubblePivot!B597 = 0,NA(),BubblePivot!B597)","v":{"$error":"#N/A"}},{"$f":"IF(BubblePivot!C597 = 0,NA(),BubblePivot!C597)","v":{"$error":"#N/A"}},{"$f":"IF(BubblePivot!D597 = 0,NA(),BubblePivot!D597)","v":{"$error":"#N/A"}},{"$error":"#N/A"}]
[{"$f":"IF(BubblePivot!A598 = 0,NA(),BubblePivot!A598)","v":{"$error":"#N/A"}},{"$f":"IF(BubblePivot!B598 = 0,NA(),BubblePivot!B598)","v":{"$error":"#N/A"}},{"$f":"IF(BubblePivot!C598 = 0,NA(),BubblePivot!C598)","v":{"$error":"#N/A"}},{"$f":"IF(BubblePivot!D598 = 0,NA(),BubblePivot!D598)","v":{"$error":"#N/A"}},{"$error":"#N/A"}]
[{"$f":"IF(BubblePivot!A599 = 0,NA(),BubblePivot!A599)","v":{"$error":"#N/A"}},{"$f":"IF(BubblePivot!B599 = 0,NA(),BubblePivot!B599)","v":{"$error":"#N/A"}},{"$f":"IF(BubblePivot!C599 = 0,NA(),BubblePivot!C599)","v":{"$error":"#N/A"}},{"$f":"IF(BubblePivot!D599 = 0,NA(),BubblePivot!D599)","v":{"$error":"#N/A"}},{"$error":"#N/A"}]
[{"$f":"IF(BubblePivot!A600 = 0,NA(),BubblePivot!A600)","v":{"$error":"#N/A"}},{"$f":"IF(BubblePivot!B600 = 0,NA(),BubblePivot!B600)","v":{"$error":"#N/A"}},{"$f":"IF(BubblePivot!C600 = 0,NA(),BubblePivot!C600)","v":{"$error":"#N/A"}},{"$f":"IF(BubblePivot!D600 = 0,NA(),BubblePivot!D600)","v":{"$error":"#N/A"}},{"$error":"#N/A"}]
[{"$f":"IF(BubblePivot!A601 = 0,NA(),BubblePivot!A601)","v":{"$error":"#N/A"}},{"$f":"IF(BubblePivot!B601 = 0,NA(),BubblePivot!B601)","v":{"$error":"#N/A"}},{"$f":"IF(BubblePivot!C601 = 0,NA(),BubblePivot!C601)","v":{"$error":"#N/A"}},{"$f":"IF(BubblePivot!D601 = 0,NA(),BubblePivot!D601)","v":{"$error":"#N/A"}},{"$error":"#N/A"}]
[{"$f":"IF(BubblePivot!A602 = 0,NA(),BubblePivot!A602)","v":{"$error":"#N/A"}},{"$f":"IF(BubblePivot!B602 = 0,NA(),BubblePivot!B602)","v":{"$error":"#N/A"}},{"$f":"IF(BubblePivot!C602 = 0,NA(),BubblePivot!C602)","v":{"$error":"#N/A"}},{"$f":"IF(BubblePivot!D602 = 0,NA(),BubblePivot!D602)","v":{"$error":"#N/A"}},{"$error":"#N/A"}]
[{"$f":"IF(BubblePivot!A603 = 0,NA(),BubblePivot!A603)","v":{"$error":"#N/A"}},{"$f":"IF(BubblePivot!B603 = 0,NA(),BubblePivot!B603)","v":{"$error":"#N/A"}},{"$f":"IF(BubblePivot!C603 = 0,NA(),BubblePivot!C603)","v":{"$error":"#N/A"}},{"$f":"IF(BubblePivot!D603 = 0,NA(),BubblePivot!D603)","v":{"$error":"#N/A"}},{"$error":"#N/A"}]
[{"$f":"IF(BubblePivot!A604 = 0,NA(),BubblePivot!A604)","v":{"$error":"#N/A"}},{"$f":"IF(BubblePivot!B604 = 0,NA(),BubblePivot!B604)","v":{"$error":"#N/A"}},{"$f":"IF(BubblePivot!C604 = 0,NA(),BubblePivot!C604)","v":{"$error":"#N/A"}},{"$f":"IF(BubblePivot!D604 = 0,NA(),BubblePivot!D604)","v":{"$error":"#N/A"}},{"$error":"#N/A"}]
[{"$f":"IF(BubblePivot!A605 = 0,NA(),BubblePivot!A605)","v":{"$error":"#N/A"}},{"$f":"IF(BubblePivot!B605 = 0,NA(),BubblePivot!B605)","v":{"$error":"#N/A"}},{"$f":"IF(BubblePivot!C605 = 0,NA(),BubblePivot!C605)","v":{"$error":"#N/A"}},{"$f":"IF(BubblePivot!D605 = 0,NA(),BubblePivot!D605)","v":{"$error":"#N/A"}},{"$error":"#N/A"}]
[{"$f":"IF(BubblePivot!A606 = 0,NA(),BubblePivot!A606)","v":{"$error":"#N/A"}},{"$f":"IF(BubblePivot!B606 = 0,NA(),BubblePivot!B606)","v":{"$error":"#N/A"}},{"$f":"IF(BubblePivot!C606 = 0,NA(),BubblePivot!C606)","v":{"$error":"#N/A"}},{"$f":"IF(BubblePivot!D606 = 0,NA(),BubblePivot!D606)","v":{"$error":"#N/A"}},{"$error":"#N/A"}]
[{"$f":"IF(BubblePivot!A607 = 0,NA(),BubblePivot!A607)","v":{"$error":"#N/A"}},{"$f":"IF(BubblePivot!B607 = 0,NA(),BubblePivot!B607)","v":{"$error":"#N/A"}},{"$f":"IF(BubblePivot!C607 = 0,NA(),BubblePivot!C607)","v":{"$error":"#N/A"}},{"$f":"IF(BubblePivot!D607 = 0,NA(),BubblePivot!D607)","v":{"$error":"#N/A"}},{"$error":"#N/A"}]
[{"$f":"IF(BubblePivot!A608 = 0,NA(),BubblePivot!A608)","v":{"$error":"#N/A"}},{"$f":"IF(BubblePivot!B608 = 0,NA(),BubblePivot!B608)","v":{"$error":"#N/A"}},{"$f":"IF(BubblePivot!C608 = 0,NA(),BubblePivot!C608)","v":{"$error":"#N/A"}},{"$f":"IF(BubblePivot!D608 = 0,NA(),BubblePivot!D608)","v":{"$error":"#N/A"}},{"$error":"#N/A"}]
[{"$f":"IF(BubblePivot!A609 = 0,NA(),BubblePivot!A609)","v":{"$error":"#N/A"}},{"$f":"IF(BubblePivot!B609 = 0,NA(),BubblePivot!B609)","v":{"$error":"#N/A"}},{"$f":"IF(BubblePivot!C609 = 0,NA(),BubblePivot!C609)","v":{"$error":"#N/A"}},{"$f":"IF(BubblePivot!D609 = 0,NA(),BubblePivot!D609)","v":{"$error":"#N/A"}},{"$error":"#N/A"}]
[{"$f":"IF(BubblePivot!A610 = 0,NA(),BubblePivot!A610)","v":{"$error":"#N/A"}},{"$f":"IF(BubblePivot!B610 = 0,NA(),BubblePivot!B610)","v":{"$error":"#N/A"}},{"$f":"IF(BubblePivot!C610 = 0,NA(),BubblePivot!C610)","v":{"$error":"#N/A"}},{"$f":"IF(BubblePivot!D610 = 0,NA(),BubblePivot!D610)","v":{"$error":"#N/A"}},{"$error":"#N/A"}]
[{"$f":"IF(BubblePivot!A611 = 0,NA(),BubblePivot!A611)","v":{"$error":"#N/A"}},{"$f":"IF(BubblePivot!B611 = 0,NA(),BubblePivot!B611)","v":{"$error":"#N/A"}},{"$f":"IF(BubblePivot!C611 = 0,NA(),BubblePivot!C611)","v":{"$error":"#N/A"}},{"$f":"IF(BubblePivot!D611 = 0,NA(),BubblePivot!D611)","v":{"$error":"#N/A"}},{"$error":"#N/A"}]
[{"$f":"IF(BubblePivot!A612 = 0,NA(),BubblePivot!A612)","v":{"$error":"#N/A"}},{"$f":"IF(BubblePivot!B612 = 0,NA(),BubblePivot!B612)","v":{"$error":"#N/A"}},{"$f":"IF(BubblePivot!C612 = 0,NA(),BubblePivot!C612)","v":{"$error":"#N/A"}},{"$f":"IF(BubblePivot!D612 = 0,NA(),BubblePivot!D612)","v":{"$error":"#N/A"}},{"$error":"#N/A"}]
[{"$f":"IF(BubblePivot!A613 = 0,NA(),BubblePivot!A613)","v":{"$error":"#N/A"}},{"$f":"IF(BubblePivot!B613 = 0,NA(),BubblePivot!B613)","v":{"$error":"#N/A"}},{"$f":"IF(BubblePivot!C613 = 0,NA(),BubblePivot!C613)","v":{"$error":"#N/A"}},{"$f":"IF(BubblePivot!D613 = 0,NA(),BubblePivot!D613)","v":{"$error":"#N/A"}},{"$error":"#N/A"}]
[{"$f":"IF(BubblePivot!A614 = 0,NA(),BubblePivot!A614)","v":{"$error":"#N/A"}},{"$f":"IF(BubblePivot!B614 = 0,NA(),BubblePivot!B614)","v":{"$error":"#N/A"}},{"$f":"IF(BubblePivot!C614 = 0,NA(),BubblePivot!C614)","v":{"$error":"#N/A"}},{"$f":"IF(BubblePivot!D614 = 0,NA(),BubblePivot!D614)","v":{"$error":"#N/A"}},{"$error":"#N/A"}]
[{"$f":"IF(BubblePivot!A615 = 0,NA(),BubblePivot!A615)","v":{"$error":"#N/A"}},{"$f":"IF(BubblePivot!B615 = 0,NA(),BubblePivot!B615)","v":{"$error":"#N/A"}},{"$f":"IF(BubblePivot!C615 = 0,NA(),BubblePivot!C615)","v":{"$error":"#N/A"}},{"$f":"IF(BubblePivot!D615 = 0,NA(),BubblePivot!D615)","v":{"$error":"#N/A"}},{"$error":"#N/A"}]
[{"$f":"IF(BubblePivot!A616 = 0,NA(),BubblePivot!A616)","v":{"$error":"#N/A"}},{"$f":"IF(BubblePivot!B616 = 0,NA(),BubblePivot!B616)","v":{"$error":"#N/A"}},{"$f":"IF(BubblePivot!C616 = 0,NA(),BubblePivot!C616)","v":{"$error":"#N/A"}},{"$f":"IF(BubblePivot!D616 = 0,NA(),BubblePivot!D616)","v":{"$error":"#N/A"}},{"$error":"#N/A"}]
[{"$f":"IF(BubblePivot!A617 = 0,NA(),BubblePivot!A617)","v":{"$error":"#N/A"}},{"$f":"IF(BubblePivot!B617 = 0,NA(),BubblePivot!B617)","v":{"$error":"#N/A"}},{"$f":"IF(BubblePivot!C617 = 0,NA(),BubblePivot!C617)","v":{"$error":"#N/A"}},{"$f":"IF(BubblePivot!D617 = 0,NA(),BubblePivot!D617)","v":{"$error":"#N/A"}},{"$error":"#N/A"}]
[{"$f":"IF(BubblePivot!A618 = 0,NA(),BubblePivot!A618)","v":{"$error":"#N/A"}},{"$f":"IF(BubblePivot!B618 = 0,NA(),BubblePivot!B618)","v":{"$error":"#N/A"}},{"$f":"IF(BubblePivot!C618 = 0,NA(),BubblePivot!C618)","v":{"$error":"#N/A"}},{"$f":"IF(BubblePivot!D618 = 0,NA(),BubblePivot!D618)","v":{"$error":"#N/A"}},{"$error":"#N/A"}]
[{"$f":"IF(BubblePivot!A619 = 0,NA(),BubblePivot!A619)","v":{"$error":"#N/A"}},{"$f":"IF(BubblePivot!B619 = 0,NA(),BubblePivot!B619)","v":{"$error":"#N/A"}},{"$f":"IF(BubblePivot!C619 = 0,NA(),BubblePivot!C619)","v":{"$error":"#N/A"}},{"$f":"IF(BubblePivot!D619 = 0,NA(),BubblePivot!D619)","v":{"$error":"#N/A"}},{"$error":"#N/A"}]
[{"$f":"IF(BubblePivot!A620 = 0,NA(),BubblePivot!A620)","v":{"$error":"#N/A"}},{"$f":"IF(BubblePivot!B620 = 0,NA(),BubblePivot!B620)","v":{"$error":"#N/A"}},{"$f":"IF(BubblePivot!C620 = 0,NA(),BubblePivot!C620)","v":{"$error":"#N/A"}},{"$f":"IF(BubblePivot!D620 = 0,NA(),BubblePivot!D620)","v":{"$error":"#N/A"}},{"$error":"#N/A"}]
[{"$f":"IF(BubblePivot!A621 = 0,NA(),BubblePivot!A621)","v":{"$error":"#N/A"}},{"$f":"IF(BubblePivot!B621 = 0,NA(),BubblePivot!B621)","v":{"$error":"#N/A"}},{"$f":"IF(BubblePivot!C621 = 0,NA(),BubblePivot!C621)","v":{"$error":"#N/A"}},{"$f":"IF(BubblePivot!D621 = 0,NA(),BubblePivot!D621)","v":{"$error":"#N/A"}},{"$error":"#N/A"}]
[{"$f":"IF(BubblePivot!A622 = 0,NA(),BubblePivot!A622)","v":{"$error":"#N/A"}},{"$f":"IF(BubblePivot!B622 = 0,NA(),BubblePivot!B622)","v":{"$error":"#N/A"}},{"$f":"IF(BubblePivot!C622 = 0,NA(),BubblePivot!C622)","v":{"$error":"#N/A"}},{"$f":"IF(BubblePivot!D622 = 0,NA(),BubblePivot!D622)","v":{"$error":"#N/A"}},{"$error":"#N/A"}]
[{"$f":"IF(BubblePivot!A623 = 0,NA(),BubblePivot!A623)","v":{"$error":"#N/A"}},{"$f":"IF(BubblePivot!B623 = 0,NA(),BubblePivot!B623)","v":{"$error":"#N/A"}},{"$f":"IF(BubblePivot!C623 = 0,NA(),BubblePivot!C623)","v":{"$error":"#N/A"}},{"$f":"IF(BubblePivot!D623 = 0,NA(),BubblePivot!D623)","v":{"$error":"#N/A"}},{"$error":"#N/A"}]
[{"$f":"IF(BubblePivot!A624 = 0,NA(),BubblePivot!A624)","v":{"$error":"#N/A"}},{"$f":"IF(BubblePivot!B624 = 0,NA(),BubblePivot!B624)","v":{"$error":"#N/A"}},{"$f":"IF(BubblePivot!C624 = 0,NA(),BubblePivot!C624)","v":{"$error":"#N/A"}},{"$f":"IF(BubblePivot!D624 = 0,NA(),BubblePivot!D624)","v":{"$error":"#N/A"}},{"$error":"#N/A"}]
[{"$f":"IF(BubblePivot!A625 = 0,NA(),BubblePivot!A625)","v":{"$error":"#N/A"}},{"$f":"IF(BubblePivot!B625 = 0,NA(),BubblePivot!B625)","v":{"$error":"#N/A"}},{"$f":"IF(BubblePivot!C625 = 0,NA(),BubblePivot!C625)","v":{"$error":"#N/A"}},{"$f":"IF(BubblePivot!D625 = 0,NA(),BubblePivot!D625)","v":{"$error":"#N/A"}},{"$error":"#N/A"}]
[{"$f":"IF(BubblePivot!A626 = 0,NA(),BubblePivot!A626)","v":{"$error":"#N/A"}},{"$f":"IF(BubblePivot!B626 = 0,NA(),BubblePivot!B626)","v":{"$error":"#N/A"}},{"$f":"IF(BubblePivot!C626 = 0,NA(),BubblePivot!C626)","v":{"$error":"#N/A"}},{"$f":"IF(BubblePivot!D626 = 0,NA(),BubblePivot!D626)","v":{"$error":"#N/A"}},{"$error":"#N/A"}]
[{"$f":"IF(BubblePivot!A627 = 0,NA(),BubblePivot!A627)","v":{"$error":"#N/A"}},{"$f":"IF(BubblePivot!B627 = 0,NA(),BubblePivot!B627)","v":{"$error":"#N/A"}},{"$f":"IF(BubblePivot!C627 = 0,NA(),BubblePivot!C627)","v":{"$error":"#N/A"}},{"$f":"IF(BubblePivot!D627 = 0,NA(),BubblePivot!D627)","v":{"$error":"#N/A"}},{"$error":"#N/A"}]
[{"$f":"IF(BubblePivot!A628 = 0,NA(),BubblePivot!A628)","v":{"$error":"#N/A"}},{"$f":"IF(BubblePivot!B628 = 0,NA(),BubblePivot!B628)","v":{"$error":"#N/A"}},{"$f":"IF(BubblePivot!C628 = 0,NA(),BubblePivot!C628)","v":{"$error":"#N/A"}},{"$f":"IF(BubblePivot!D628 = 0,NA(),BubblePivot!D628)","v":{"$error":"#N/A"}},{"$error":"#N/A"}]
[{"$f":"IF(BubblePivot!A629 = 0,NA(),BubblePivot!A629)","v":{"$error":"#N/A"}},{"$f":"IF(BubblePivot!B629 = 0,NA(),BubblePivot!B629)","v":{"$error":"#N/A"}},{"$f":"IF(BubblePivot!C629 = 0,NA(),BubblePivot!C629)","v":{"$error":"#N/A"}},{"$f":"IF(BubblePivot!D629 = 0,NA(),BubblePivot!D629)","v":{"$error":"#N/A"}},{"$error":"#N/A"}]
[{"$f":"IF(BubblePivot!A630 = 0,NA(),BubblePivot!A630)","v":{"$error":"#N/A"}},{"$f":"IF(BubblePivot!B630 = 0,NA(),BubblePivot!B630)","v":{"$error":"#N/A"}},{"$f":"IF(BubblePivot!C630 = 0,NA(),BubblePivot!C630)","v":{"$error":"#N/A"}},{"$f":"IF(BubblePivot!D630 = 0,NA(),BubblePivot!D630)","v":{"$error":"#N/A"}},{"$error":"#N/A"}]
[{"$f":"IF(BubblePivot!A631 = 0,NA(),BubblePivot!A631)","v":{"$error":"#N/A"}},{"$f":"IF(BubblePivot!B631 = 0,NA(),BubblePivot!B631)","v":{"$error":"#N/A"}},{"$f":"IF(BubblePivot!C631 = 0,NA(),BubblePivot!C631)","v":{"$error":"#N/A"}},{"$f":"IF(BubblePivot!D631 = 0,NA(),BubblePivot!D631)","v":{"$error":"#N/A"}},{"$error":"#N/A"}]
[{"$f":"IF(BubblePivot!A632 = 0,NA(),BubblePivot!A632)","v":{"$error":"#N/A"}},{"$f":"IF(BubblePivot!B632 = 0,NA(),BubblePivot!B632)","v":{"$error":"#N/A"}},{"$f":"IF(BubblePivot!C632 = 0,NA(),BubblePivot!C632)","v":{"$error":"#N/A"}},{"$f":"IF(BubblePivot!D632 = 0,NA(),BubblePivot!D632)","v":{"$error":"#N/A"}},{"$error":"#N/A"}]
[{"$f":"IF(BubblePivot!A633 = 0,NA(),BubblePivot!A633)","v":{"$error":"#N/A"}},{"$f":"IF(BubblePivot!B633 = 0,NA(),BubblePivot!B633)","v":{"$error":"#N/A"}},{"$f":"IF(BubblePivot!C633 = 0,NA(),BubblePivot!C633)","v":{"$error":"#N/A"}},{"$f":"IF(BubblePivot!D633 = 0,NA(),BubblePivot!D633)","v":{"$error":"#N/A"}},{"$error":"#N/A"}]
[{"$f":"IF(BubblePivot!A634 = 0,NA(),BubblePivot!A634)","v":{"$error":"#N/A"}},{"$f":"IF(BubblePivot!B634 = 0,NA(),BubblePivot!B634)","v":{"$error":"#N/A"}},{"$f":"IF(BubblePivot!C634 = 0,NA(),BubblePivot!C634)","v":{"$error":"#N/A"}},{"$f":"IF(BubblePivot!D634 = 0,NA(),BubblePivot!D634)","v":{"$error":"#N/A"}},{"$error":"#N/A"}]
[{"$f":"IF(BubblePivot!A635 = 0,NA(),BubblePivot!A635)","v":{"$error":"#N/A"}},{"$f":"IF(BubblePivot!B635 = 0,NA(),BubblePivot!B635)","v":{"$error":"#N/A"}},{"$f":"IF(BubblePivot!C635 = 0,NA(),BubblePivot!C635)","v":{"$error":"#N/A"}},{"$f":"IF(BubblePivot!D635 = 0,NA(),BubblePivot!D635)","v":{"$error":"#N/A"}},{"$error":"#N/A"}]
[{"$f":"IF(BubblePivot!A636 = 0,NA(),BubblePivot!A636)","v":{"$error":"#N/A"}},{"$f":"IF(BubblePivot!B636 = 0,NA(),BubblePivot!B636)","v":{"$error":"#N/A"}},{"$f":"IF(BubblePivot!C636 = 0,NA(),BubblePivot!C636)","v":{"$error":"#N/A"}},{"$f":"IF(BubblePivot!D636 = 0,NA(),BubblePivot!D636)","v":{"$error":"#N/A"}},{"$error":"#N/A"}]
[{"$f":"IF(BubblePivot!A637 = 0,NA(),BubblePivot!A637)","v":{"$error":"#N/A"}},{"$f":"IF(BubblePivot!B637 = 0,NA(),BubblePivot!B637)","v":{"$error":"#N/A"}},{"$f":"IF(BubblePivot!C637 = 0,NA(),BubblePivot!C637)","v":{"$error":"#N/A"}},{"$f":"IF(BubblePivot!D637 = 0,NA(),BubblePivot!D637)","v":{"$error":"#N/A"}},{"$error":"#N/A"}]
[{"$f":"IF(BubblePivot!A638 = 0,NA(),BubblePivot!A638)","v":{"$error":"#N/A"}},{"$f":"IF(BubblePivot!B638 = 0,NA(),BubblePivot!B638)","v":{"$error":"#N/A"}},{"$f":"IF(BubblePivot!C638 = 0,NA(),BubblePivot!C638)","v":{"$error":"#N/A"}},{"$f":"IF(BubblePivot!D638 = 0,NA(),BubblePivot!D638)","v":{"$error":"#N/A"}},{"$error":"#N/A"}]
[{"$f":"IF(BubblePivot!A639 = 0,NA(),BubblePivot!A639)","v":{"$error":"#N/A"}},{"$f":"IF(BubblePivot!B639 = 0,NA(),BubblePivot!B639)","v":{"$error":"#N/A"}},{"$f":"IF(BubblePivot!C639 = 0,NA(),BubblePivot!C639)","v":{"$error":"#N/A"}},{"$f":"IF(BubblePivot!D639 = 0,NA(),BubblePivot!D639)","v":{"$error":"#N/A"}},{"$error":"#N/A"}]
[{"$f":"IF(BubblePivot!A640 = 0,NA(),BubblePivot!A640)","v":{"$error":"#N/A"}},{"$f":"IF(BubblePivot!B640 = 0,NA(),BubblePivot!B640)","v":{"$error":"#N/A"}},{"$f":"IF(BubblePivot!C640 = 0,NA(),BubblePivot!C640)","v":{"$error":"#N/A"}},{"$f":"IF(BubblePivot!D640 = 0,NA(),BubblePivot!D640)","v":{"$error":"#N/A"}},{"$error":"#N/A"}]
[{"$f":"IF(BubblePivot!A641 = 0,NA(),BubblePivot!A641)","v":{"$error":"#N/A"}},{"$f":"IF(BubblePivot!B641 = 0,NA(),BubblePivot!B641)","v":{"$error":"#N/A"}},{"$f":"IF(BubblePivot!C641 = 0,NA(),BubblePivot!C641)","v":{"$error":"#N/A"}},{"$f":"IF(BubblePivot!D641 = 0,NA(),BubblePivot!D641)","v":{"$error":"#N/A"}},{"$error":"#N/A"}]
[{"$f":"IF(BubblePivot!A642 = 0,NA(),BubblePivot!A642)","v":{"$error":"#N/A"}},{"$f":"IF(BubblePivot!B642 = 0,NA(),BubblePivot!B642)","v":{"$error":"#N/A"}},{"$f":"IF(BubblePivot!C642 = 0,NA(),BubblePivot!C642)","v":{"$error":"#N/A"}},{"$f":"IF(BubblePivot!D642 = 0,NA(),BubblePivot!D642)","v":{"$error":"#N/A"}},{"$error":"#N/A"}]
[{"$f":"IF(BubblePivot!A643 = 0,NA(),BubblePivot!A643)","v":{"$error":"#N/A"}},{"$f":"IF(BubblePivot!B643 = 0,NA(),BubblePivot!B643)","v":{"$error":"#N/A"}},{"$f":"IF(BubblePivot!C643 = 0,NA(),BubblePivot!C643)","v":{"$error":"#N/A"}},{"$f":"IF(BubblePivot!D643 = 0,NA(),BubblePivot!D643)","v":{"$error":"#N/A"}},{"$error":"#N/A"}]
[{"$f":"IF(BubblePivot!A644 = 0,NA(),BubblePivot!A644)","v":{"$error":"#N/A"}},{"$f":"IF(BubblePivot!B644 = 0,NA(),BubblePivot!B644)","v":{"$error":"#N/A"}},{"$f":"IF(BubblePivot!C644 = 0,NA(),BubblePivot!C644)","v":{"$error":"#N/A"}},{"$f":"IF(BubblePivot!D644 = 0,NA(),BubblePivot!D644)","v":{"$error":"#N/A"}},{"$f":"A642","v":{"$error":"#N/A"}}]
[{"$f":"IF(BubblePivot!A645 = 0,NA(),BubblePivot!A645)","v":{"$error":"#N/A"}},{"$f":"IF(BubblePivot!B645 = 0,NA(),BubblePivot!B645)","v":{"$error":"#N/A"}},{"$f":"IF(BubblePivot!C645 = 0,NA(),BubblePivot!C645)","v":{"$error":"#N/A"}},{"$f":"IF(BubblePivot!D645 = 0,NA(),BubblePivot!D645)","v":{"$error":"#N/A"}},{"$error":"#N/A"}]
[{"$f":"IF(BubblePivot!A646 = 0,NA(),BubblePivot!A646)","v":{"$error":"#N/A"}},{"$f":"IF(BubblePivot!B646 = 0,NA(),BubblePivot!B646)","v":{"$error":"#N/A"}},{"$f":"IF(BubblePivot!C646 = 0,NA(),BubblePivot!C646)","v":{"$error":"#N/A"}},{"$f":"IF(BubblePivot!D646 = 0,NA(),BubblePivot!D646)","v":{"$error":"#N/A"}},{"$error":"#N/A"}]
[{"$f":"IF(BubblePivot!A647 = 0,NA(),BubblePivot!A647)","v":{"$error":"#N/A"}},{"$f":"IF(BubblePivot!B647 = 0,NA(),BubblePivot!B647)","v":{"$error":"#N/A"}},{"$f":"IF(BubblePivot!C647 = 0,NA(),BubblePivot!C647)","v":{"$error":"#N/A"}},{"$f":"IF(BubblePivot!D647 = 0,NA(),BubblePivot!D647)","v":{"$error":"#N/A"}},{"$error":"#N/A"}]
[{"$f":"IF(BubblePivot!A648 = 0,NA(),BubblePivot!A648)","v":{"$error":"#N/A"}},{"$f":"IF(BubblePivot!B648 = 0,NA(),BubblePivot!B648)","v":{"$error":"#N/A"}},{"$f":"IF(BubblePivot!C648 = 0,NA(),BubblePivot!C648)","v":{"$error":"#N/A"}},{"$f":"IF(BubblePivot!D648 = 0,NA(),BubblePivot!D648)","v":{"$error":"#N/A"}},{"$error":"#N/A"}]
[{"$f":"IF(BubblePivot!A649 = 0,NA(),BubblePivot!A649)","v":{"$error":"#N/A"}},{"$f":"IF(BubblePivot!B649 = 0,NA(),BubblePivot!B649)","v":{"$error":"#N/A"}},{"$f":"IF(BubblePivot!C649 = 0,NA(),BubblePivot!C649)","v":{"$error":"#N/A"}},{"$f":"IF(BubblePivot!D649 = 0,NA(),BubblePivot!D649)","v":{"$error":"#N/A"}},{"$error":"#N/A"}]
[{"$f":"IF(BubblePivot!A650 = 0,NA(),BubblePivot!A650)","v":{"$error":"#N/A"}},{"$f":"IF(BubblePivot!B650 = 0,NA(),BubblePivot!B650)","v":{"$error":"#N/A"}},{"$f":"IF(BubblePivot!C650 = 0,NA(),BubblePivot!C650)","v":{"$error":"#N/A"}},{"$f":"IF(BubblePivot!D650 = 0,NA(),BubblePivot!D650)","v":{"$error":"#N/A"}},{"$error":"#N/A"}]
[{"$f":"IF(BubblePivot!A651 = 0,NA(),BubblePivot!A651)","v":{"$error":"#N/A"}},{"$f":"IF(BubblePivot!B651 = 0,NA(),BubblePivot!B651)","v":{"$error":"#N/A"}},{"$f":"IF(BubblePivot!C651 = 0,NA(),BubblePivot!C651)","v":{"$error":"#N/A"}},{"$f":"IF(BubblePivot!D651 = 0,NA(),BubblePivot!D651)","v":{"$error":"#N/A"}},{"$error":"#N/A"}]
[{"$f":"IF(BubblePivot!A652 = 0,NA(),BubblePivot!A652)","v":{"$error":"#N/A"}},{"$f":"IF(BubblePivot!B652 = 0,NA(),BubblePivot!B652)","v":{"$error":"#N/A"}},{"$f":"IF(BubblePivot!C652 = 0,NA(),BubblePivot!C652)","v":{"$error":"#N/A"}},{"$f":"IF(BubblePivot!D652 = 0,NA(),BubblePivot!D652)","v":{"$error":"#N/A"}},{"$error":"#N/A"}]
[{"$f":"IF(BubblePivot!A653 = 0,NA(),BubblePivot!A653)","v":{"$error":"#N/A"}},{"$f":"IF(BubblePivot!B653 = 0,NA(),BubblePivot!B653)","v":{"$error":"#N/A"}},{"$f":"IF(BubblePivot!C653 = 0,NA(),BubblePivot!C653)","v":{"$error":"#N/A"}},{"$f":"IF(BubblePivot!D653 = 0,NA(),BubblePivot!D653)","v":{"$error":"#N/A"}},{"$error":"#N/A"}]
[{"$f":"IF(BubblePivot!A654 = 0,NA(),BubblePivot!A654)","v":{"$error":"#N/A"}},{"$f":"IF(BubblePivot!B654 = 0,NA(),BubblePivot!B654)","v":{"$error":"#N/A"}},{"$f":"IF(BubblePivot!C654 = 0,NA(),BubblePivot!C654)","v":{"$error":"#N/A"}},{"$f":"IF(BubblePivot!D654 = 0,NA(),BubblePivot!D654)","v":{"$error":"#N/A"}},{"$error":"#N/A"}]
[{"$f":"IF(BubblePivot!A655 = 0,NA(),BubblePivot!A655)","v":{"$error":"#N/A"}},{"$f":"IF(BubblePivot!B655 = 0,NA(),BubblePivot!B655)","v":{"$error":"#N/A"}},{"$f":"IF(BubblePivot!C655 = 0,NA(),BubblePivot!C655)","v":{"$error":"#N/A"}},{"$f":"IF(BubblePivot!D655 = 0,NA(),BubblePivot!D655)","v":{"$error":"#N/A"}},{"$error":"#N/A"}]
[{"$f":"IF(BubblePivot!A656 = 0,NA(),BubblePivot!A656)","v":{"$error":"#N/A"}},{"$f":"IF(BubblePivot!B656 = 0,NA(),BubblePivot!B656)","v":{"$error":"#N/A"}},{"$f":"IF(BubblePivot!C656 = 0,NA(),BubblePivot!C656)","v":{"$error":"#N/A"}},{"$f":"IF(BubblePivot!D656 = 0,NA(),BubblePivot!D656)","v":{"$error":"#N/A"}},{"$error":"#N/A"}]
[{"$f":"IF(BubblePivot!A657 = 0,NA(),BubblePivot!A657)","v":{"$error":"#N/A"}},{"$f":"IF(BubblePivot!B657 = 0,NA(),BubblePivot!B657)","v":{"$error":"#N/A"}},{"$f":"IF(BubblePivot!C657 = 0,NA(),BubblePivot!C657)","v":{"$error":"#N/A"}},{"$f":"IF(BubblePivot!D657 = 0,NA(),BubblePivot!D657)","v":{"$error":"#N/A"}},{"$error":"#N/A"}]
[{"$f":"IF(BubblePivot!A658 = 0,NA(),BubblePivot!A658)","v":{"$error":"#N/A"}},{"$f":"IF(BubblePivot!B658 = 0,NA(),BubblePivot!B658)","v":{"$error":"#N/A"}},{"$f":"IF(BubblePivot!C658 = 0,NA(),BubblePivot!C658)","v":{"$error":"#N/A"}},{"$f":"IF(BubblePivot!D658 = 0,NA(),BubblePivot!D658)","v":{"$error":"#N/A"}},{"$error":"#N/A"}]
[{"$f":"IF(BubblePivot!A659 = 0,NA(),BubblePivot!A659)","v":{"$error":"#N/A"}},{"$f":"IF(BubblePivot!B659 = 0,NA(),BubblePivot!B659)","v":{"$error":"#N/A"}},{"$f":"IF(BubblePivot!C659 = 0,NA(),BubblePivot!C659)","v":{"$error":"#N/A"}},{"$f":"IF(BubblePivot!D659 = 0,NA(),BubblePivot!D659)","v":{"$error":"#N/A"}},{"$error":"#N/A"}]
[{"$f":"IF(BubblePivot!A660 = 0,NA(),BubblePivot!A660)","v":{"$error":"#N/A"}},{"$f":"IF(BubblePivot!B660 = 0,NA(),BubblePivot!B660)","v":{"$error":"#N/A"}},{"$f":"IF(BubblePivot!C660 = 0,NA(),BubblePivot!C660)","v":{"$error":"#N/A"}},{"$f":"IF(BubblePivot!D660 = 0,NA(),BubblePivot!D660)","v":{"$error":"#N/A"}},{"$error":"#N/A"}]
[{"$f":"IF(BubblePivot!A661 = 0,NA(),BubblePivot!A661)","v":{"$error":"#N/A"}},{"$f":"IF(BubblePivot!B661 = 0,NA(),BubblePivot!B661)","v":{"$error":"#N/A"}},{"$f":"IF(BubblePivot!C661 = 0,NA(),BubblePivot!C661)","v":{"$error":"#N/A"}},{"$f":"IF(BubblePivot!D661 = 0,NA(),BubblePivot!D661)","v":{"$error":"#N/A"}},{"$error":"#N/A"}]
[{"$f":"IF(BubblePivot!A662 = 0,NA(),BubblePivot!A662)","v":{"$error":"#N/A"}},{"$f":"IF(BubblePivot!B662 = 0,NA(),BubblePivot!B662)","v":{"$error":"#N/A"}},{"$f":"IF(BubblePivot!C662 = 0,NA(),BubblePivot!C662)","v":{"$error":"#N/A"}},{"$f":"IF(BubblePivot!D662 = 0,NA(),BubblePivot!D662)","v":{"$error":"#N/A"}},{"$error":"#N/A"}]
[{"$f":"IF(BubblePivot!A663 = 0,NA(),BubblePivot!A663)","v":{"$error":"#N/A"}},{"$f":"IF(BubblePivot!B663 = 0,NA(),BubblePivot!B663)","v":{"$error":"#N/A"}},{"$f":"IF(BubblePivot!C663 = 0,NA(),BubblePivot!C663)","v":{"$error":"#N/A"}},{"$f":"IF(BubblePivot!D663 = 0,NA(),BubblePivot!D663)","v":{"$error":"#N/A"}},{"$error":"#N/A"}]
[{"$f":"IF(BubblePivot!A664 = 0,NA(),BubblePivot!A664)","v":{"$error":"#N/A"}},{"$f":"IF(BubblePivot!B664 = 0,NA(),BubblePivot!B664)","v":{"$error":"#N/A"}},{"$f":"IF(BubblePivot!C664 = 0,NA(),BubblePivot!C664)","v":{"$error":"#N/A"}},{"$f":"IF(BubblePivot!D664 = 0,NA(),BubblePivot!D664)","v":{"$error":"#N/A"}},{"$error":"#N/A"}]
[{"$f":"IF(BubblePivot!A665 = 0,NA(),BubblePivot!A665)","v":{"$error":"#N/A"}},{"$f":"IF(BubblePivot!B665 = 0,NA(),BubblePivot!B665)","v":{"$error":"#N/A"}},{"$f":"IF(BubblePivot!C665 = 0,NA(),BubblePivot!C665)","v":{"$error":"#N/A"}},{"$f":"IF(BubblePivot!D665 = 0,NA(),BubblePivot!D665)","v":{"$error":"#N/A"}},{"$error":"#N/A"}]
[{"$f":"IF(BubblePivot!A666 = 0,NA(),BubblePivot!A666)","v":{"$error":"#N/A"}},{"$f":"IF(BubblePivot!B666 = 0,NA(),BubblePivot!B666)","v":{"$error":"#N/A"}},{"$f":"IF(BubblePivot!C666 = 0,NA(),BubblePivot!C666)","v":{"$error":"#N/A"}},{"$f":"IF(BubblePivot!D666 = 0,NA(),BubblePivot!D666)","v":{"$error":"#N/A"}},{"$error":"#N/A"}]
[{"$f":"IF(BubblePivot!A667 = 0,NA(),BubblePivot!A667)","v":{"$error":"#N/A"}},{"$f":"IF(BubblePivot!B667 = 0,NA(),BubblePivot!B667)","v":{"$error":"#N/A"}},{"$f":"IF(BubblePivot!C667 = 0,NA(),BubblePivot!C667)","v":{"$error":"#N/A"}},{"$f":"IF(BubblePivot!D667 = 0,NA(),BubblePivot!D667)","v":{"$error":"#N/A"}},{"$error":"#N/A"}]
[{"$f":"IF(BubblePivot!A668 = 0,NA(),BubblePivot!A668)","v":{"$error":"#N/A"}},{"$f":"IF(BubblePivot!B668 = 0,NA(),BubblePivot!B668)","v":{"$error":"#N/A"}},{"$f":"IF(BubblePivot!C668 = 0,NA(),BubblePivot!C668)","v":{"$error":"#N/A"}},{"$f":"IF(BubblePivot!D668 = 0,NA(),BubblePivot!D668)","v":{"$error":"#N/A"}},{"$error":"#N/A"}]
[{"$f":"IF(BubblePivot!A669 = 0,NA(),BubblePivot!A669)","v":{"$error":"#N/A"}},{"$f":"IF(BubblePivot!B669 = 0,NA(),BubblePivot!B669)","v":{"$error":"#N/A"}},{"$f":"IF(BubblePivot!C669 = 0,NA(),BubblePivot!C669)","v":{"$error":"#N/A"}},{"$f":"IF(BubblePivot!D669 = 0,NA(),BubblePivot!D669)","v":{"$error":"#N/A"}},{"$error":"#N/A"}]
[{"$f":"IF(BubblePivot!A670 = 0,NA(),BubblePivot!A670)","v":{"$error":"#N/A"}},{"$f":"IF(BubblePivot!B670 = 0,NA(),BubblePivot!B670)","v":{"$error":"#N/A"}},{"$f":"IF(BubblePivot!C670 = 0,NA(),BubblePivot!C670)","v":{"$error":"#N/A"}},{"$f":"IF(BubblePivot!D670 = 0,NA(),BubblePivot!D670)","v":{"$error":"#N/A"}},{"$error":"#N/A"}]
[{"$f":"IF(BubblePivot!A671 = 0,NA(),BubblePivot!A671)","v":{"$error":"#N/A"}},{"$f":"IF(BubblePivot!B671 = 0,NA(),BubblePivot!B671)","v":{"$error":"#N/A"}},{"$f":"IF(BubblePivot!C671 = 0,NA(),BubblePivot!C671)","v":{"$error":"#N/A"}},{"$f":"IF(BubblePivot!D671 = 0,NA(),BubblePivot!D671)","v":{"$error":"#N/A"}},{"$error":"#N/A"}]
[{"$f":"IF(BubblePivot!A672 = 0,NA(),BubblePivot!A672)","v":{"$error":"#N/A"}},{"$f":"IF(BubblePivot!B672 = 0,NA(),BubblePivot!B672)","v":{"$error":"#N/A"}},{"$f":"IF(BubblePivot!C672 = 0,NA(),BubblePivot!C672)","v":{"$error":"#N/A"}},{"$f":"IF(BubblePivot!D672 = 0,NA(),BubblePivot!D672)","v":{"$error":"#N/A"}},{"$error":"#N/A"}]
[{"$f":"IF(BubblePivot!A673 = 0,NA(),BubblePivot!A673)","v":{"$error":"#N/A"}},{"$f":"IF(BubblePivot!B673 = 0,NA(),BubblePivot!B673)","v":{"$error":"#N/A"}},{"$f":"IF(BubblePivot!C673 = 0,NA(),BubblePivot!C673)","v":{"$error":"#N/A"}},{"$f":"IF(BubblePivot!D673 = 0,NA(),BubblePivot!D673)","v":{"$error":"#N/A"}},{"$error":"#N/A"}]
[{"$f":"IF(BubblePivot!A674 = 0,NA(),BubblePivot!A674)","v":{"$error":"#N/A"}},{"$f":"IF(BubblePivot!B674 = 0,NA(),BubblePivot!B674)","v":{"$error":"#N/A"}},{"$f":"IF(BubblePivot!C674 = 0,NA(),BubblePivot!C674)","v":{"$error":"#N/A"}},{"$f":"IF(BubblePivot!D674 = 0,NA(),BubblePivot!D674)","v":{"$error":"#N/A"}},{"$error":"#N/A"}]
[{"$f":"IF(BubblePivot!A675 = 0,NA(),BubblePivot!A675)","v":{"$error":"#N/A"}},{"$f":"IF(BubblePivot!B675 = 0,NA(),BubblePivot!B675)","v":{"$error":"#N/A"}},{"$f":"IF(BubblePivot!C675 = 0,NA(),BubblePivot!C675)","v":{"$error":"#N/A"}},{"$f":"IF(BubblePivot!D675 = 0,NA(),BubblePivot!D675)","v":{"$error":"#N/A"}},{"$error":"#N/A"}]
[{"$f":"IF(BubblePivot!A676 = 0,NA(),BubblePivot!A676)","v":{"$error":"#N/A"}},{"$f":"IF(BubblePivot!B676 = 0,NA(),BubblePivot!B676)","v":{"$error":"#N/A"}},{"$f":"IF(BubblePivot!C676 = 0,NA(),BubblePivot!C676)","v":{"$error":"#N/A"}},{"$f":"IF(BubblePivot!D676 = 0,NA(),BubblePivot!D676)","v":{"$error":"#N/A"}},{"$error":"#N/A"}]
[{"$f":"IF(BubblePivot!A677 = 0,NA(),BubblePivot!A677)","v":{"$error":"#N/A"}},{"$f":"IF(BubblePivot!B677 = 0,NA(),BubblePivot!B677)","v":{"$error":"#N/A"}},{"$f":"IF(BubblePivot!C677 = 0,NA(),BubblePivot!C677)","v":{"$error":"#N/A"}},{"$f":"IF(BubblePivot!D677 = 0,NA(),BubblePivot!D677)","v":{"$error":"#N/A"}},{"$error":"#N/A"}]
[{"$f":"IF(BubblePivot!A678 = 0,NA(),BubblePivot!A678)","v":{"$error":"#N/A"}},{"$f":"IF(BubblePivot!B678 = 0,NA(),BubblePivot!B678)","v":{"$error":"#N/A"}},{"$f":"IF(BubblePivot!C678 = 0,NA(),BubblePivot!C678)","v":{"$error":"#N/A"}},{"$f":"IF(BubblePivot!D678 = 0,NA(),BubblePivot!D678)","v":{"$error":"#N/A"}},{"$error":"#N/A"}]
[{"$f":"IF(BubblePivot!A679 = 0,NA(),BubblePivot!A679)","v":{"$error":"#N/A"}},{"$f":"IF(BubblePivot!B679 = 0,NA(),BubblePivot!B679)","v":{"$error":"#N/A"}},{"$f":"IF(BubblePivot!C679 = 0,NA(),BubblePivot!C679)","v":{"$error":"#N/A"}},{"$f":"IF(BubblePivot!D679 = 0,NA(),BubblePivot!D679)","v":{"$error":"#N/A"}},{"$error":"#N/A"}]
[{"$f":"IF(BubblePivot!A680 = 0,NA(),BubblePivot!A680)","v":{"$error":"#N/A"}},{"$f":"IF(BubblePivot!B680 = 0,NA(),BubblePivot!B680)","v":{"$error":"#N/A"}},{"$f":"IF(BubblePivot!C680 = 0,NA(),BubblePivot!C680)","v":{"$error":"#N/A"}},{"$f":"IF(BubblePivot!D680 = 0,NA(),BubblePivot!D680)","v":{"$error":"#N/A"}},{"$error":"#N/A"}]
[{"$f":"IF(BubblePivot!A681 = 0,NA(),BubblePivot!A681)","v":{"$error":"#N/A"}},{"$f":"IF(BubblePivot!B681 = 0,NA(),BubblePivot!B681)","v":{"$error":"#N/A"}},{"$f":"IF(BubblePivot!C681 = 0,NA(),BubblePivot!C681)","v":{"$error":"#N/A"}},{"$f":"IF(BubblePivot!D681 = 0,NA(),BubblePivot!D681)","v":{"$error":"#N/A"}},{"$error":"#N/A"}]
[{"$f":"IF(BubblePivot!A682 = 0,NA(),BubblePivot!A682)","v":{"$error":"#N/A"}},{"$f":"IF(BubblePivot!B682 = 0,NA(),BubblePivot!B682)","v":{"$error":"#N/A"}},{"$f":"IF(BubblePivot!C682 = 0,NA(),BubblePivot!C682)","v":{"$error":"#N/A"}},{"$f":"IF(BubblePivot!D682 = 0,NA(),BubblePivot!D682)","v":{"$error":"#N/A"}},{"$error":"#N/A"}]
[{"$f":"IF(BubblePivot!A683 = 0,NA(),BubblePivot!A683)","v":{"$error":"#N/A"}},{"$f":"IF(BubblePivot!B683 = 0,NA(),BubblePivot!B683)","v":{"$error":"#N/A"}},{"$f":"IF(BubblePivot!C683 = 0,NA(),BubblePivot!C683)","v":{"$error":"#N/A"}},{"$f":"IF(BubblePivot!D683 = 0,NA(),BubblePivot!D683)","v":{"$error":"#N/A"}},{"$error":"#N/A"}]
[{"$f":"IF(BubblePivot!A684 = 0,NA(),BubblePivot!A684)","v":{"$error":"#N/A"}},{"$f":"IF(BubblePivot!B684 = 0,NA(),BubblePivot!B684)","v":{"$error":"#N/A"}},{"$f":"IF(BubblePivot!C684 = 0,NA(),BubblePivot!C684)","v":{"$error":"#N/A"}},{"$f":"IF(BubblePivot!D684 = 0,NA(),BubblePivot!D684)","v":{"$error":"#N/A"}},{"$error":"#N/A"}]
[{"$f":"IF(BubblePivot!A685 = 0,NA(),BubblePivot!A685)","v":{"$error":"#N/A"}},{"$f":"IF(BubblePivot!B685 = 0,NA(),BubblePivot!B685)","v":{"$error":"#N/A"}},{"$f":"IF(BubblePivot!C685 = 0,NA(),BubblePivot!C685)","v":{"$error":"#N/A"}},{"$f":"IF(BubblePivot!D685 = 0,NA(),BubblePivot!D685)","v":{"$error":"#N/A"}},{"$error":"#N/A"}]
[{"$f":"IF(BubblePivot!A686 = 0,NA(),BubblePivot!A686)","v":{"$error":"#N/A"}},{"$f":"IF(BubblePivot!B686 = 0,NA(),BubblePivot!B686)","v":{"$error":"#N/A"}},{"$f":"IF(BubblePivot!C686 = 0,NA(),BubblePivot!C686)","v":{"$error":"#N/A"}},{"$f":"IF(BubblePivot!D686 = 0,NA(),BubblePivot!D686)","v":{"$error":"#N/A"}},{"$error":"#N/A"}]
[{"$f":"IF(BubblePivot!A687 = 0,NA(),BubblePivot!A687)","v":{"$error":"#N/A"}},{"$f":"IF(BubblePivot!B687 = 0,NA(),BubblePivot!B687)","v":{"$error":"#N/A"}},{"$f":"IF(BubblePivot!C687 = 0,NA(),BubblePivot!C687)","v":{"$error":"#N/A"}},{"$f":"IF(BubblePivot!D687 = 0,NA(),BubblePivot!D687)","v":{"$error":"#N/A"}},{"$error":"#N/A"}]
[{"$f":"IF(BubblePivot!A688 = 0,NA(),BubblePivot!A688)","v":{"$error":"#N/A"}},{"$f":"IF(BubblePivot!B688 = 0,NA(),BubblePivot!B688)","v":{"$error":"#N/A"}},{"$f":"IF(BubblePivot!C688 = 0,NA(),BubblePivot!C688)","v":{"$error":"#N/A"}},{"$f":"IF(BubblePivot!D688 = 0,NA(),BubblePivot!D688)","v":{"$error":"#N/A"}},{"$error":"#N/A"}]
[{"$f":"IF(BubblePivot!A689 = 0,NA(),BubblePivot!A689)","v":{"$error":"#N/A"}},{"$f":"IF(BubblePivot!B689 = 0,NA(),BubblePivot!B689)","v":{"$error":"#N/A"}},{"$f":"IF(BubblePivot!C689 = 0,NA(),BubblePivot!C689)","v":{"$error":"#N/A"}},{"$f":"IF(BubblePivot!D689 = 0,NA(),BubblePivot!D689)","v":{"$error":"#N/A"}},{"$error":"#N/A"}]
[{"$f":"IF(BubblePivot!A690 = 0,NA(),BubblePivot!A690)","v":{"$error":"#N/A"}},{"$f":"IF(BubblePivot!B690 = 0,NA(),BubblePivot!B690)","v":{"$error":"#N/A"}},{"$f":"IF(BubblePivot!C690 = 0,NA(),BubblePivot!C690)","v":{"$error":"#N/A"}},{"$f":"IF(BubblePivot!D690 = 0,NA(),BubblePivot!D690)","v":{"$error":"#N/A"}},{"$error":"#N/A"}]
[{"$f":"IF(BubblePivot!A691 = 0,NA(),BubblePivot!A691)","v":{"$error":"#N/A"}},{"$f":"IF(BubblePivot!B691 = 0,NA(),BubblePivot!B691)","v":{"$error":"#N/A"}},{"$f":"IF(BubblePivot!C691 = 0,NA(),BubblePivot!C691)","v":{"$error":"#N/A"}},{"$f":"IF(BubblePivot!D691 = 0,NA(),BubblePivot!D691)","v":{"$error":"#N/A"}},{"$error":"#N/A"}]
[{"$f":"IF(BubblePivot!A692 = 0,NA(),BubblePivot!A692)","v":{"$error":"#N/A"}},{"$f":"IF(BubblePivot!B692 = 0,NA(),BubblePivot!B692)","v":{"$error":"#N/A"}},{"$f":"IF(BubblePivot!C692 = 0,NA(),BubblePivot!C692)","v":{"$error":"#N/A"}},{"$f":"IF(BubblePivot!D692 = 0,NA(),BubblePivot!D692)","v":{"$error":"#N/A"}},{"$error":"#N/A"}]
[{"$f":"IF(BubblePivot!A693 = 0,NA(),BubblePivot!A693)","v":{"$error":"#N/A"}},{"$f":"IF(BubblePivot!B693 = 0,NA(),BubblePivot!B693)","v":{"$error":"#N/A"}},{"$f":"IF(BubblePivot!C693 = 0,NA(),BubblePivot!C693)","v":{"$error":"#N/A"}},{"$f":"IF(BubblePivot!D693 = 0,NA(),BubblePivot!D693)","v":{"$error":"#N/A"}},{"$error":"#N/A"}]
[{"$f":"IF(BubblePivot!A694 = 0,NA(),BubblePivot!A694)","v":{"$error":"#N/A"}},{"$f":"IF(BubblePivot!B694 = 0,NA(),BubblePivot!B694)","v":{"$error":"#N/A"}},{"$f":"IF(BubblePivot!C694 = 0,NA(),BubblePivot!C694)","v":{"$error":"#N/A"}},{"$f":"IF(BubblePivot!D694 = 0,NA(),BubblePivot!D694)","v":{"$error":"#N/A"}},{"$error":"#N/A"}]
[{"$f":"IF(BubblePivot!A695 = 0,NA(),BubblePivot!A695)","v":{"$error":"#N/A"}},{"$f":"IF(BubblePivot!B695 = 0,NA(),BubblePivot!B695)","v":{"$error":"#N/A"}},{"$f":"IF(BubblePivot!C695 = 0,NA(),BubblePivot!C695)","v":{"$error":"#N/A"}},{"$f":"IF(BubblePivot!D695 = 0,NA(),BubblePivot!D695)","v":{"$error":"#N/A"}},{"$error":"#N/A"}]
[{"$f":"IF(BubblePivot!A696 = 0,NA(),BubblePivot!A696)","v":{"$error":"#N/A"}},{"$f":"IF(BubblePivot!B696 = 0,NA(),BubblePivot!B696)","v":{"$error":"#N/A"}},{"$f":"IF(BubblePivot!C696 = 0,NA(),BubblePivot!C696)","v":{"$error":"#N/A"}},{"$f":"IF(BubblePivot!D696 = 0,NA(),BubblePivot!D696)","v":{"$error":"#N/A"}},{"$error":"#N/A"}]
[{"$f":"IF(BubblePivot!A697 = 0,NA(),BubblePivot!A697)","v":{"$error":"#N/A"}},{"$f":"IF(BubblePivot!B697 = 0,NA(),BubblePivot!B697)","v":{"$error":"#N/A"}},{"$f":"IF(BubblePivot!C697 = 0,NA(),BubblePivot!C697)","v":{"$error":"#N/A"}},{"$f":"IF(BubblePivot!D697 = 0,NA(),BubblePivot!D697)","v":{"$error":"#N/A"}},{"$error":"#N/A"}]
[{"$f":"IF(BubblePivot!A698 = 0,NA(),BubblePivot!A698)","v":{"$error":"#N/A"}},{"$f":"IF(BubblePivot!B698 = 0,NA(),BubblePivot!B698)","v":{"$error":"#N/A"}},{"$f":"IF(BubblePivot!C698 = 0,NA(),BubblePivot!C698)","v":{"$error":"#N/A"}},{"$f":"IF(BubblePivot!D698 = 0,NA(),BubblePivot!D698)","v":{"$error":"#N/A"}},{"$error":"#N/A"}]
[{"$f":"IF(BubblePivot!A699 = 0,NA(),BubblePivot!A699)","v":{"$error":"#N/A"}},{"$f":"IF(BubblePivot!B699 = 0,NA(),BubblePivot!B699)","v":{"$error":"#N/A"}},{"$f":"IF(BubblePivot!C699 = 0,NA(),BubblePivot!C699)","v":{"$error":"#N/A"}},{"$f":"IF(BubblePivot!D699 = 0,NA(),BubblePivot!D699)","v":{"$error":"#N/A"}},{"$error":"#N/A"}]
[{"$f":"IF(BubblePivot!A700 = 0,NA(),BubblePivot!A700)","v":{"$error":"#N/A"}},{"$f":"IF(BubblePivot!B700 = 0,NA(),BubblePivot!B700)","v":{"$error":"#N/A"}},{"$f":"IF(BubblePivot!C700 = 0,NA(),BubblePivot!C700)","v":{"$error":"#N/A"}},{"$f":"IF(BubblePivot!D700 = 0,NA(),BubblePivot!D700)","v":{"$error":"#N/A"}},{"$error":"#N/A"}]
[{"$f":"IF(BubblePivot!A701 = 0,NA(),BubblePivot!A701)","v":{"$error":"#N/A"}},{"$f":"IF(BubblePivot!B701 = 0,NA(),BubblePivot!B701)","v":{"$error":"#N/A"}},{"$f":"IF(BubblePivot!C701 = 0,NA(),BubblePivot!C701)","v":{"$error":"#N/A"}},{"$f":"IF(BubblePivot!D701 = 0,NA(),BubblePivot!D701)","v":{"$error":"#N/A"}},{"$error":"#N/A"}]
[{"$f":"IF(BubblePivot!A702 = 0,NA(),BubblePivot!A702)","v":{"$error":"#N/A"}},{"$f":"IF(BubblePivot!B702 = 0,NA(),BubblePivot!B702)","v":{"$error":"#N/A"}},{"$f":"IF(BubblePivot!C702 = 0,NA(),BubblePivot!C702)","v":{"$error":"#N/A"}},{"$f":"IF(BubblePivot!D702 = 0,NA(),BubblePivot!D702)","v":{"$error":"#N/A"}},{"$error":"#N/A"}]
[{"$f":"IF(BubblePivot!A703 = 0,NA(),BubblePivot!A703)","v":{"$error":"#N/A"}},{"$f":"IF(BubblePivot!B703 = 0,NA(),BubblePivot!B703)","v":{"$error":"#N/A"}},{"$f":"IF(BubblePivot!C703 = 0,NA(),BubblePivot!C703)","v":{"$error":"#N/A"}},{"$f":"IF(BubblePivot!D703 = 0,NA(),BubblePivot!D703)","v":{"$error":"#N/A"}},{"$error":"#N/A"}]
[{"$f":"IF(BubblePivot!A704 = 0,NA(),BubblePivot!A704)","v":{"$error":"#N/A"}},{"$f":"IF(BubblePivot!B704 = 0,NA(),BubblePivot!B704)","v":{"$error":"#N/A"}},{"$f":"IF(BubblePivot!C704 = 0,NA(),BubblePivot!C704)","v":{"$error":"#N/A"}},{"$f":"IF(BubblePivot!D704 = 0,NA(),BubblePivot!D704)","v":{"$error":"#N/A"}},{"$error":"#N/A"}]
[{"$f":"IF(BubblePivot!A705 = 0,NA(),BubblePivot!A705)","v":{"$error":"#N/A"}},{"$f":"IF(BubblePivot!B705 = 0,NA(),BubblePivot!B705)","v":{"$error":"#N/A"}},{"$f":"IF(BubblePivot!C705 = 0,NA(),BubblePivot!C705)","v":{"$error":"#N/A"}},{"$f":"IF(BubblePivot!D705 = 0,NA(),BubblePivot!D705)","v":{"$error":"#N/A"}},{"$error":"#N/A"}]
[{"$f":"IF(BubblePivot!A706 = 0,NA(),BubblePivot!A706)","v":{"$error":"#N/A"}},{"$f":"IF(BubblePivot!B706 = 0,NA(),BubblePivot!B706)","v":{"$error":"#N/A"}},{"$f":"IF(BubblePivot!C706 = 0,NA(),BubblePivot!C706)","v":{"$error":"#N/A"}},{"$f":"IF(BubblePivot!D706 = 0,NA(),BubblePivot!D706)","v":{"$error":"#N/A"}},{"$error":"#N/A"}]
[{"$f":"IF(BubblePivot!A707 = 0,NA(),BubblePivot!A707)","v":{"$error":"#N/A"}},{"$f":"IF(BubblePivot!B707 = 0,NA(),BubblePivot!B707)","v":{"$error":"#N/A"}},{"$f":"IF(BubblePivot!C707 = 0,NA(),BubblePivot!C707)","v":{"$error":"#N/A"}},{"$f":"IF(BubblePivot!D707 = 0,NA(),BubblePivot!D707)","v":{"$error":"#N/A"}},{"$error":"#N/A"}]
[{"$f":"IF(BubblePivot!A708 = 0,NA(),BubblePivot!A708)","v":{"$error":"#N/A"}},{"$f":"IF(BubblePivot!B708 = 0,NA(),BubblePivot!B708)","v":{"$error":"#N/A"}},{"$f":"IF(BubblePivot!C708 = 0,NA(),BubblePivot!C708)","v":{"$error":"#N/A"}},{"$f":"IF(BubblePivot!D708 = 0,NA(),BubblePivot!D708)","v":{"$error":"#N/A"}},{"$f":"A706","v":{"$error":"#N/A"}}]
[{"$f":"IF(BubblePivot!A709 = 0,NA(),BubblePivot!A709)","v":{"$error":"#N/A"}},{"$f":"IF(BubblePivot!B709 = 0,NA(),BubblePivot!B709)","v":{"$error":"#N/A"}},{"$f":"IF(BubblePivot!C709 = 0,NA(),BubblePivot!C709)","v":{"$error":"#N/A"}},{"$f":"IF(BubblePivot!D709 = 0,NA(),BubblePivot!D709)","v":{"$error":"#N/A"}},{"$error":"#N/A"}]
[{"$f":"IF(BubblePivot!A710 = 0,NA(),BubblePivot!A710)","v":{"$error":"#N/A"}},{"$f":"IF(BubblePivot!B710 = 0,NA(),BubblePivot!B710)","v":{"$error":"#N/A"}},{"$f":"IF(BubblePivot!C710 = 0,NA(),BubblePivot!C710)","v":{"$error":"#N/A"}},{"$f":"IF(BubblePivot!D710 = 0,NA(),BubblePivot!D710)","v":{"$error":"#N/A"}},{"$error":"#N/A"}]
[{"$f":"IF(BubblePivot!A711 = 0,NA(),BubblePivot!A711)","v":{"$error":"#N/A"}},{"$f":"IF(BubblePivot!B711 = 0,NA(),BubblePivot!B711)","v":{"$error":"#N/A"}},{"$f":"IF(BubblePivot!C711 = 0,NA(),BubblePivot!C711)","v":{"$error":"#N/A"}},{"$f":"IF(BubblePivot!D711 = 0,NA(),BubblePivot!D711)","v":{"$error":"#N/A"}},{"$error":"#N/A"}]
[{"$f":"IF(BubblePivot!A712 = 0,NA(),BubblePivot!A712)","v":{"$error":"#N/A"}},{"$f":"IF(BubblePivot!B712 = 0,NA(),BubblePivot!B712)","v":{"$error":"#N/A"}},{"$f":"IF(BubblePivot!C712 = 0,NA(),BubblePivot!C712)","v":{"$error":"#N/A"}},{"$f":"IF(BubblePivot!D712 = 0,NA(),BubblePivot!D712)","v":{"$error":"#N/A"}},{"$error":"#N/A"}]
[{"$f":"IF(BubblePivot!A713 = 0,NA(),BubblePivot!A713)","v":{"$error":"#N/A"}},{"$f":"IF(BubblePivot!B713 = 0,NA(),BubblePivot!B713)","v":{"$error":"#N/A"}},{"$f":"IF(BubblePivot!C713 = 0,NA(),BubblePivot!C713)","v":{"$error":"#N/A"}},{"$f":"IF(BubblePivot!D713 = 0,NA(),BubblePivot!D713)","v":{"$error":"#N/A"}},{"$error":"#N/A"}]
[{"$f":"IF(BubblePivot!A714 = 0,NA(),BubblePivot!A714)","v":{"$error":"#N/A"}},{"$f":"IF(BubblePivot!B714 = 0,NA(),BubblePivot!B714)","v":{"$error":"#N/A"}},{"$f":"IF(BubblePivot!C714 = 0,NA(),BubblePivot!C714)","v":{"$error":"#N/A"}},{"$f":"IF(BubblePivot!D714 = 0,NA(),BubblePivot!D714)","v":{"$error":"#N/A"}},{"$error":"#N/A"}]
[{"$f":"IF(BubblePivot!A715 = 0,NA(),BubblePivot!A715)","v":{"$error":"#N/A"}},{"$f":"IF(BubblePivot!B715 = 0,NA(),BubblePivot!B715)","v":{"$error":"#N/A"}},{"$f":"IF(BubblePivot!C715 = 0,NA(),BubblePivot!C715)","v":{"$error":"#N/A"}},{"$f":"IF(BubblePivot!D715 = 0,NA(),BubblePivot!D715)","v":{"$error":"#N/A"}},{"$error":"#N/A"}]
[{"$f":"IF(BubblePivot!A716 = 0,NA(),BubblePivot!A716)","v":{"$error":"#N/A"}},{"$f":"IF(BubblePivot!B716 = 0,NA(),BubblePivot!B716)","v":{"$error":"#N/A"}},{"$f":"IF(BubblePivot!C716 = 0,NA(),BubblePivot!C716)","v":{"$error":"#N/A"}},{"$f":"IF(BubblePivot!D716 = 0,NA(),BubblePivot!D716)","v":{"$error":"#N/A"}},{"$error":"#N/A"}]
[{"$f":"IF(BubblePivot!A717 = 0,NA(),BubblePivot!A717)","v":{"$error":"#N/A"}},{"$f":"IF(BubblePivot!B717 = 0,NA(),BubblePivot!B717)","v":{"$error":"#N/A"}},{"$f":"IF(BubblePivot!C717 = 0,NA(),BubblePivot!C717)","v":{"$error":"#N/A"}},{"$f":"IF(BubblePivot!D717 = 0,NA(),BubblePivot!D717)","v":{"$error":"#N/A"}},{"$error":"#N/A"}]
[{"$f":"IF(BubblePivot!A718 = 0,NA(),BubblePivot!A718)","v":{"$error":"#N/A"}},{"$f":"IF(BubblePivot!B718 = 0,NA(),BubblePivot!B718)","v":{"$error":"#N/A"}},{"$f":"IF(BubblePivot!C718 = 0,NA(),BubblePivot!C718)","v":{"$error":"#N/A"}},{"$f":"IF(BubblePivot!D718 = 0,NA(),BubblePivot!D718)","v":{"$error":"#N/A"}},{"$error":"#N/A"}]
[{"$f":"IF(BubblePivot!A719 = 0,NA(),BubblePivot!A719)","v":{"$error":"#N/A"}},{"$f":"IF(BubblePivot!B719 = 0,NA(),BubblePivot!B719)","v":{"$error":"#N/A"}},{"$f":"IF(BubblePivot!C719 = 0,NA(),BubblePivot!C719)","v":{"$error":"#N/A"}},{"$f":"IF(BubblePivot!D719 = 0,NA(),BubblePivot!D719)","v":{"$error":"#N/A"}},{"$error":"#N/A"}]
[{"$f":"IF(BubblePivot!A720 = 0,NA(),BubblePivot!A720)","v":{"$error":"#N/A"}},{"$f":"IF(BubblePivot!B720 = 0,NA(),BubblePivot!B720)","v":{"$error":"#N/A"}},{"$f":"IF(BubblePivot!C720 = 0,NA(),BubblePivot!C720)","v":{"$error":"#N/A"}},{"$f":"IF(BubblePivot!D720 = 0,NA(),BubblePivot!D720)","v":{"$error":"#N/A"}},{"$error":"#N/A"}]
[{"$f":"IF(BubblePivot!A721 = 0,NA(),BubblePivot!A721)","v":{"$error":"#N/A"}},{"$f":"IF(BubblePivot!B721 = 0,NA(),BubblePivot!B721)","v":{"$error":"#N/A"}},{"$f":"IF(BubblePivot!C721 = 0,NA(),BubblePivot!C721)","v":{"$error":"#N/A"}},{"$f":"IF(BubblePivot!D721 = 0,NA(),BubblePivot!D721)","v":{"$error":"#N/A"}},{"$error":"#N/A"}]
[{"$f":"IF(BubblePivot!A722 = 0,NA(),BubblePivot!A722)","v":{"$error":"#N/A"}},{"$f":"IF(BubblePivot!B722 = 0,NA(),BubblePivot!B722)","v":{"$error":"#N/A"}},{"$f":"IF(BubblePivot!C722 = 0,NA(),BubblePivot!C722)","v":{"$error":"#N/A"}},{"$f":"IF(BubblePivot!D722 = 0,NA(),BubblePivot!D722)","v":{"$error":"#N/A"}},{"$error":"#N/A"}]
[{"$f":"IF(BubblePivot!A723 = 0,NA(),BubblePivot!A723)","v":{"$error":"#N/A"}},{"$f":"IF(BubblePivot!B723 = 0,NA(),BubblePivot!B723)","v":{"$error":"#N/A"}},{"$f":"IF(BubblePivot!C723 = 0,NA(),BubblePivot!C723)","v":{"$error":"#N/A"}},{"$f":"IF(BubblePivot!D723 = 0,NA(),BubblePivot!D723)","v":{"$error":"#N/A"}},{"$error":"#N/A"}]
[{"$f":"IF(BubblePivot!A724 = 0,NA(),BubblePivot!A724)","v":{"$error":"#N/A"}},{"$f":"IF(BubblePivot!B724 = 0,NA(),BubblePivot!B724)","v":{"$error":"#N/A"}},{"$f":"IF(BubblePivot!C724 = 0,NA(),BubblePivot!C724)","v":{"$error":"#N/A"}},{"$f":"IF(BubblePivot!D724 = 0,NA(),BubblePivot!D724)","v":{"$error":"#N/A"}},{"$error":"#N/A"}]
[{"$f":"IF(BubblePivot!A725 = 0,NA(),BubblePivot!A725)","v":{"$error":"#N/A"}},{"$f":"IF(BubblePivot!B725 = 0,NA(),BubblePivot!B725)","v":{"$error":"#N/A"}},{"$f":"IF(BubblePivot!C725 = 0,NA(),BubblePivot!C725)","v":{"$error":"#N/A"}},{"$f":"IF(BubblePivot!D725 = 0,NA(),BubblePivot!D725)","v":{"$error":"#N/A"}},{"$error":"#N/A"}]
[{"$f":"IF(BubblePivot!A726 = 0,NA(),BubblePivot!A726)","v":{"$error":"#N/A"}},{"$f":"IF(BubblePivot!B726 = 0,NA(),BubblePivot!B726)","v":{"$error":"#N/A"}},{"$f":"IF(BubblePivot!C726 = 0,NA(),BubblePivot!C726)","v":{"$error":"#N/A"}},{"$f":"IF(BubblePivot!D726 = 0,NA(),BubblePivot!D726)","v":{"$error":"#N/A"}},{"$error":"#N/A"}]
[{"$f":"IF(BubblePivot!A727 = 0,NA(),BubblePivot!A727)","v":{"$error":"#N/A"}},{"$f":"IF(BubblePivot!B727 = 0,NA(),BubblePivot!B727)","v":{"$error":"#N/A"}},{"$f":"IF(BubblePivot!C727 = 0,NA(),BubblePivot!C727)","v":{"$error":"#N/A"}},{"$f":"IF(BubblePivot!D727 = 0,NA(),BubblePivot!D727)","v":{"$error":"#N/A"}},{"$error":"#N/A"}]
[{"$f":"IF(BubblePivot!A728 = 0,NA(),BubblePivot!A728)","v":{"$error":"#N/A"}},{"$f":"IF(BubblePivot!B728 = 0,NA(),BubblePivot!B728)","v":{"$error":"#N/A"}},{"$f":"IF(BubblePivot!C728 = 0,NA(),BubblePivot!C728)","v":{"$error":"#N/A"}},{"$f":"IF(BubblePivot!D728 = 0,NA(),BubblePivot!D728)","v":{"$error":"#N/A"}},{"$error":"#N/A"}]
[{"$f":"IF(BubblePivot!A729 = 0,NA(),BubblePivot!A729)","v":{"$error":"#N/A"}},{"$f":"IF(BubblePivot!B729 = 0,NA(),BubblePivot!B729)","v":{"$error":"#N/A"}},{"$f":"IF(BubblePivot!C729 = 0,NA(),BubblePivot!C729)","v":{"$error":"#N/A"}},{"$f":"IF(BubblePivot!D729 = 0,NA(),BubblePivot!D729)","v":{"$error":"#N/A"}},{"$error":"#N/A"}]
[{"$f":"IF(BubblePivot!A730 = 0,NA(),BubblePivot!A730)","v":{"$error":"#N/A"}},{"$f":"IF(BubblePivot!B730 = 0,NA(),BubblePivot!B730)","v":{"$error":"#N/A"}},{"$f":"IF(BubblePivot!C730 = 0,NA(),BubblePivot!C730)","v":{"$error":"#N/A"}},{"$f":"IF(BubblePivot!D730 = 0,NA(),BubblePivot!D730)","v":{"$error":"#N/A"}},{"$error":"#N/A"}]
[{"$f":"IF(BubblePivot!A731 = 0,NA(),BubblePivot!A731)","v":{"$error":"#N/A"}},{"$f":"IF(BubblePivot!B731 = 0,NA(),BubblePivot!B731)","v":{"$error":"#N/A"}},{"$f":"IF(BubblePivot!C731 = 0,NA(),BubblePivot!C731)","v":{"$error":"#N/A"}},{"$f":"IF(BubblePivot!D731 = 0,NA(),BubblePivot!D731)","v":{"$error":"#N/A"}},{"$error":"#N/A"}]
[{"$f":"IF(BubblePivot!A732 = 0,NA(),BubblePivot!A732)","v":{"$error":"#N/A"}},{"$f":"IF(BubblePivot!B732 = 0,NA(),BubblePivot!B732)","v":{"$error":"#N/A"}},{"$f":"IF(BubblePivot!C732 = 0,NA(),BubblePivot!C732)","v":{"$error":"#N/A"}},{"$f":"IF(BubblePivot!D732 = 0,NA(),BubblePivot!D732)","v":{"$error":"#N/A"}},{"$error":"#N/A"}]
[{"$f":"IF(BubblePivot!A733 = 0,NA(),BubblePivot!A733)","v":{"$error":"#N/A"}},{"$f":"IF(BubblePivot!B733 = 0,NA(),BubblePivot!B733)","v":{"$error":"#N/A"}},{"$f":"IF(BubblePivot!C733 = 0,NA(),BubblePivot!C733)","v":{"$error":"#N/A"}},{"$f":"IF(BubblePivot!D733 = 0,NA(),BubblePivot!D733)","v":{"$error":"#N/A"}},{"$error":"#N/A"}]
[{"$f":"IF(BubblePivot!A734 = 0,NA(),BubblePivot!A734)","v":{"$error":"#N/A"}},{"$f":"IF(BubblePivot!B734 = 0,NA(),BubblePivot!B734)","v":{"$error":"#N/A"}},{"$f":"IF(BubblePivot!C734 = 0,NA(),BubblePivot!C734)","v":{"$error":"#N/A"}},{"$f":"IF(BubblePivot!D734 = 0,NA(),BubblePivot!D734)","v":{"$error":"#N/A"}},{"$error":"#N/A"}]
[{"$f":"IF(BubblePivot!A735 = 0,NA(),BubblePivot!A735)","v":{"$error":"#N/A"}},{"$f":"IF(BubblePivot!B735 = 0,NA(),BubblePivot!B735)","v":{"$error":"#N/A"}},{"$f":"IF(BubblePivot!C735 = 0,NA(),BubblePivot!C735)","v":{"$error":"#N/A"}},{"$f":"IF(BubblePivot!D735 = 0,NA(),BubblePivot!D735)","v":{"$error":"#N/A"}},{"$error":"#N/A"}]
[{"$f":"IF(BubblePivot!A736 = 0,NA(),BubblePivot!A736)","v":{"$error":"#N/A"}},{"$f":"IF(BubblePivot!B736 = 0,NA(),BubblePivot!B736)","v":{"$error":"#N/A"}},{"$f":"IF(BubblePivot!C736 = 0,NA(),BubblePivot!C736)","v":{"$error":"#N/A"}},{"$f":"IF(BubblePivot!D736 = 0,NA(),BubblePivot!D736)","v":{"$error":"#N/A"}},{"$error":"#N/A"}]
[{"$f":"IF(BubblePivot!A737 = 0,NA(),BubblePivot!A737)","v":{"$error":"#N/A"}},{"$f":"IF(BubblePivot!B737 = 0,NA(),BubblePivot!B737)","v":{"$error":"#N/A"}},{"$f":"IF(BubblePivot!C737 = 0,NA(),BubblePivot!C737)","v":{"$error":"#N/A"}},{"$f":"IF(BubblePivot!D737 = 0,NA(),BubblePivot!D737)","v":{"$error":"#N/A"}},{"$error":"#N/A"}]
[{"$f":"IF(BubblePivot!A738 = 0,NA(),BubblePivot!A738)","v":{"$error":"#N/A"}},{"$f":"IF(BubblePivot!B738 = 0,NA(),BubblePivot!B738)","v":{"$error":"#N/A"}},{"$f":"IF(BubblePivot!C738 = 0,NA(),BubblePivot!C738)","v":{"$error":"#N/A"}},{"$f":"IF(BubblePivot!D738 = 0,NA(),BubblePivot!D738)","v":{"$error":"#N/A"}},{"$error":"#N/A"}]
[{"$f":"IF(BubblePivot!A739 = 0,NA(),BubblePivot!A739)","v":{"$error":"#N/A"}},{"$f":"IF(BubblePivot!B739 = 0,NA(),BubblePivot!B739)","v":{"$error":"#N/A"}},{"$f":"IF(BubblePivot!C739 = 0,NA(),BubblePivot!C739)","v":{"$error":"#N/A"}},{"$f":"IF(BubblePivot!D739 = 0,NA(),BubblePivot!D739)","v":{"$error":"#N/A"}},{"$error":"#N/A"}]
[{"$f":"IF(BubblePivot!A740 = 0,NA(),BubblePivot!A740)","v":{"$error":"#N/A"}},{"$f":"IF(BubblePivot!B740 = 0,NA(),BubblePivot!B740)","v":{"$error":"#N/A"}},{"$f":"IF(BubblePivot!C740 = 0,NA(),BubblePivot!C740)","v":{"$error":"#N/A"}},{"$f":"IF(BubblePivot!D740 = 0,NA(),BubblePivot!D740)","v":{"$error":"#N/A"}},{"$error":"#N/A"}]
[{"$f":"IF(BubblePivot!A741 = 0,NA(),BubblePivot!A741)","v":{"$error":"#N/A"}},{"$f":"IF(BubblePivot!B741 = 0,NA(),BubblePivot!B741)","v":{"$error":"#N/A"}},{"$f":"IF(BubblePivot!C741 = 0,NA(),BubblePivot!C741)","v":{"$error":"#N/A"}},{"$f":"IF(BubblePivot!D741 = 0,NA(),BubblePivot!D741)","v":{"$error":"#N/A"}},{"$error":"#N/A"}]
[{"$f":"IF(BubblePivot!A742 = 0,NA(),BubblePivot!A742)","v":{"$error":"#N/A"}},{"$f":"IF(BubblePivot!B742 = 0,NA(),BubblePivot!B742)","v":{"$error":"#N/A"}},{"$f":"IF(BubblePivot!C742 = 0,NA(),BubblePivot!C742)","v":{"$error":"#N/A"}},{"$f":"IF(BubblePivot!D742 = 0,NA(),BubblePivot!D742)","v":{"$error":"#N/A"}},{"$error":"#N/A"}]
[{"$f":"IF(BubblePivot!A743 = 0,NA(),BubblePivot!A743)","v":{"$error":"#N/A"}},{"$f":"IF(BubblePivot!B743 = 0,NA(),BubblePivot!B743)","v":{"$error":"#N/A"}},{"$f":"IF(BubblePivot!C743 = 0,NA(),BubblePivot!C743)","v":{"$error":"#N/A"}},{"$f":"IF(BubblePivot!D743 = 0,NA(),BubblePivot!D743)","v":{"$error":"#N/A"}},{"$error":"#N/A"}]
[{"$f":"IF(BubblePivot!A744 = 0,NA(),BubblePivot!A744)","v":{"$error":"#N/A"}},{"$f":"IF(BubblePivot!B744 = 0,NA(),BubblePivot!B744)","v":{"$error":"#N/A"}},{"$f":"IF(BubblePivot!C744 = 0,NA(),BubblePivot!C744)","v":{"$error":"#N/A"}},{"$f":"IF(BubblePivot!D744 = 0,NA(),BubblePivot!D744)","v":{"$error":"#N/A"}},{"$error":"#N/A"}]
[{"$f":"IF(BubblePivot!A745 = 0,NA(),BubblePivot!A745)","v":{"$error":"#N/A"}},{"$f":"IF(BubblePivot!B745 = 0,NA(),BubblePivot!B745)","v":{"$error":"#N/A"}},{"$f":"IF(BubblePivot!C745 = 0,NA(),BubblePivot!C745)","v":{"$error":"#N/A"}},{"$f":"IF(BubblePivot!D745 = 0,NA(),BubblePivot!D745)","v":{"$error":"#N/A"}},{"$error":"#N/A"}]
[{"$f":"IF(BubblePivot!A746 = 0,NA(),BubblePivot!A746)","v":{"$error":"#N/A"}},{"$f":"IF(BubblePivot!B746 = 0,NA(),BubblePivot!B746)","v":{"$error":"#N/A"}},{"$f":"IF(BubblePivot!C746 = 0,NA(),BubblePivot!C746)","v":{"$error":"#N/A"}},{"$f":"IF(BubblePivot!D746 = 0,NA(),BubblePivot!D746)","v":{"$error":"#N/A"}},{"$error":"#N/A"}]
[{"$f":"IF(BubblePivot!A747 = 0,NA(),BubblePivot!A747)","v":{"$error":"#N/A"}},{"$f":"IF(BubblePivot!B747 = 0,NA(),BubblePivot!B747)","v":{"$error":"#N/A"}},{"$f":"IF(BubblePivot!C747 = 0,NA(),BubblePivot!C747)","v":{"$error":"#N/A"}},{"$f":"IF(BubblePivot!D747 = 0,NA(),BubblePivot!D747)","v":{"$error":"#N/A"}},{"$error":"#N/A"}]
[{"$f":"IF(BubblePivot!A748 = 0,NA(),BubblePivot!A748)","v":{"$error":"#N/A"}},{"$f":"IF(BubblePivot!B748 = 0,NA(),BubblePivot!B748)","v":{"$error":"#N/A"}},{"$f":"IF(BubblePivot!C748 = 0,NA(),BubblePivot!C748)","v":{"$error":"#N/A"}},{"$f":"IF(BubblePivot!D748 = 0,NA(),BubblePivot!D748)","v":{"$error":"#N/A"}},{"$error":"#N/A"}]
[{"$f":"IF(BubblePivot!A749 = 0,NA(),BubblePivot!A749)","v":{"$error":"#N/A"}},{"$f":"IF(BubblePivot!B749 = 0,NA(),BubblePivot!B749)","v":{"$error":"#N/A"}},{"$f":"IF(BubblePivot!C749 = 0,NA(),BubblePivot!C749)","v":{"$error":"#N/A"}},{"$f":"IF(BubblePivot!D749 = 0,NA(),BubblePivot!D749)","v":{"$error":"#N/A"}},{"$error":"#N/A"}]
[{"$f":"IF(BubblePivot!A750 = 0,NA(),BubblePivot!A750)","v":{"$error":"#N/A"}},{"$f":"IF(BubblePivot!B750 = 0,NA(),BubblePivot!B750)","v":{"$error":"#N/A"}},{"$f":"IF(BubblePivot!C750 = 0,NA(),BubblePivot!C750)","v":{"$error":"#N/A"}},{"$f":"IF(BubblePivot!D750 = 0,NA(),BubblePivot!D750)","v":{"$error":"#N/A"}},{"$error":"#N/A"}]
[{"$f":"IF(BubblePivot!A751 = 0,NA(),BubblePivot!A751)","v":{"$error":"#N/A"}},{"$f":"IF(BubblePivot!B751 = 0,NA(),BubblePivot!B751)","v":{"$error":"#N/A"}},{"$f":"IF(BubblePivot!C751 = 0,NA(),BubblePivot!C751)","v":{"$error":"#N/A"}},{"$f":"IF(BubblePivot!D751 = 0,NA(),BubblePivot!D751)","v":{"$error":"#N/A"}},{"$error":"#N/A"}]
[{"$f":"IF(BubblePivot!A752 = 0,NA(),BubblePivot!A752)","v":{"$error":"#N/A"}},{"$f":"IF(BubblePivot!B752 = 0,NA(),BubblePivot!B752)","v":{"$error":"#N/A"}},{"$f":"IF(BubblePivot!C752 = 0,NA(),BubblePivot!C752)","v":{"$error":"#N/A"}},{"$f":"IF(BubblePivot!D752 = 0,NA(),BubblePivot!D752)","v":{"$error":"#N/A"}},{"$error":"#N/A"}]
[{"$f":"IF(BubblePivot!A753 = 0,NA(),BubblePivot!A753)","v":{"$error":"#N/A"}},{"$f":"IF(BubblePivot!B753 = 0,NA(),BubblePivot!B753)","v":{"$error":"#N/A"}},{"$f":"IF(BubblePivot!C753 = 0,NA(),BubblePivot!C753)","v":{"$error":"#N/A"}},{"$f":"IF(BubblePivot!D753 = 0,NA(),BubblePivot!D753)","v":{"$error":"#N/A"}},{"$error":"#N/A"}]
[{"$f":"IF(BubblePivot!A754 = 0,NA(),BubblePivot!A754)","v":{"$error":"#N/A"}},{"$f":"IF(BubblePivot!B754 = 0,NA(),BubblePivot!B754)","v":{"$error":"#N/A"}},{"$f":"IF(BubblePivot!C754 = 0,NA(),BubblePivot!C754)","v":{"$error":"#N/A"}},{"$f":"IF(BubblePivot!D754 = 0,NA(),BubblePivot!D754)","v":{"$error":"#N/A"}},{"$error":"#N/A"}]
[{"$f":"IF(BubblePivot!A755 = 0,NA(),BubblePivot!A755)","v":{"$error":"#N/A"}},{"$f":"IF(BubblePivot!B755 = 0,NA(),BubblePivot!B755)","v":{"$error":"#N/A"}},{"$f":"IF(BubblePivot!C755 = 0,NA(),BubblePivot!C755)","v":{"$error":"#N/A"}},{"$f":"IF(BubblePivot!D755 = 0,NA(),BubblePivot!D755)","v":{"$error":"#N/A"}},{"$error":"#N/A"}]
[{"$f":"IF(BubblePivot!A756 = 0,NA(),BubblePivot!A756)","v":{"$error":"#N/A"}},{"$f":"IF(BubblePivot!B756 = 0,NA(),BubblePivot!B756)","v":{"$error":"#N/A"}},{"$f":"IF(BubblePivot!C756 = 0,NA(),BubblePivot!C756)","v":{"$error":"#N/A"}},{"$f":"IF(BubblePivot!D756 = 0,NA(),BubblePivot!D756)","v":{"$error":"#N/A"}},{"$error":"#N/A"}]
[{"$f":"IF(BubblePivot!A757 = 0,NA(),BubblePivot!A757)","v":{"$error":"#N/A"}},{"$f":"IF(BubblePivot!B757 = 0,NA(),BubblePivot!B757)","v":{"$error":"#N/A"}},{"$f":"IF(BubblePivot!C757 = 0,NA(),BubblePivot!C757)","v":{"$error":"#N/A"}},{"$f":"IF(BubblePivot!D757 = 0,NA(),BubblePivot!D757)","v":{"$error":"#N/A"}},{"$error":"#N/A"}]
[{"$f":"IF(BubblePivot!A758 = 0,NA(),BubblePivot!A758)","v":{"$error":"#N/A"}},{"$f":"IF(BubblePivot!B758 = 0,NA(),BubblePivot!B758)","v":{"$error":"#N/A"}},{"$f":"IF(BubblePivot!C758 = 0,NA(),BubblePivot!C758)","v":{"$error":"#N/A"}},{"$f":"IF(BubblePivot!D758 = 0,NA(),BubblePivot!D758)","v":{"$error":"#N/A"}},{"$error":"#N/A"}]
[{"$f":"IF(BubblePivot!A759 = 0,NA(),BubblePivot!A759)","v":{"$error":"#N/A"}},{"$f":"IF(BubblePivot!B759 = 0,NA(),BubblePivot!B759)","v":{"$error":"#N/A"}},{"$f":"IF(BubblePivot!C759 = 0,NA(),BubblePivot!C759)","v":{"$error":"#N/A"}},{"$f":"IF(BubblePivot!D759 = 0,NA(),BubblePivot!D759)","v":{"$error":"#N/A"}},{"$error":"#N/A"}]

{"sheet":"SalarybyHour & Exp","index":3,"n_rows":25,"n_cols":12,"rows_kept":25,"cut":false,"hidden":true,"merged":[]}
["Job Type","Reporting",null,null,"Job Type","Reporting"]
[]
["Row Labels","Average of Salary (User Chosen Curreny)",null,null,"Row Labels","Average of Salary (User Chosen Curreny)"]
["1 or 2 hours a day",107215.18044833212,null,null,"0-5",67821.710165258803]
["2 to 3 hours per day",241924.7841884878,null,null,"6-10",210558.57780512518]
["4 to 6 hours a day",146739.85687239567,null,null,"11-15",383379.34801349556]
["All the 8 hours baby, all the 8!",150687.67569737945,null,null,"26-30",303473.26]
[null,null,null,null,"No Response",310768.13630433631]
[]
["Job Type","Reporting"]
[]
["Row Labels","Count of Job Type"]
["1 or 2 hours a day",4,"1 or 2 hours a day"]
["2 to 3 hours per day",12,"2 to 3 hours per day"]
["4 to 6 hours a day",26,"4 to 6 hours a day"]
["All the 8 hours baby, all the 8!",41,"All the 8 hours baby, all the 8!"]
[null,null,"Excel ?!? What Excel?"]
[]
[null,null,null,null,"Job Type","Reporting"]
[]
["Max Count","total count",null,null,"Average of Salary (User Chosen Curreny)"]
[{"$f":"MAX(B13:B17)","v":41},{"$f":"SUM(B13:B17)","v":83},null,null,160546.85679915696,null,{"$f":"E22","v":160546.85679915696}]
["Most likely work day","Probability",null,null,null,null,{"$f":"G22/1000","v":160.54685679915696},{"$f":"ROUNDDOWN(G23,0)","v":160},{"$f":"G23-H23","v":0.54685679915695573},{"$f":"IF(H23>1000,\"Y\")","v":false}]
[{"$f":"VLOOKUP(A22,B13:C17,2,FALSE)","v":"All the 8 hours baby, all the 8!"},{"$f":"TEXT(ROUND(A22/B22,2),\"00%\")","v":"49%"},null,null,null,null,{"$f":"IF(J23=\"Y\",J25& \",\" & TEXT(I23*1000,\"000\"),H23 & \",\" & TEXT(I23*1000,\"000\"))","v":"160,547"},null,null,{"$f":"IF(J23=\"Y\",H23/1000)","v":false},{"$f":"ROUNDDOWN(J24,0)","v":0},{"$f":"J24-K24","v":0}]
[null,null,null,null,null,null,null,null,null,{"$f":"K24 & \",\" & TEXT(L24*1000,\"000\")","v":"0,000"}]

{"sheet":"vlookUpExp","index":4,"n_rows":56,"n_cols":2,"rows_kept":56,"cut":false,"hidden":true,"merged":[]}
[0,{"$f":"IF(A1<6,\"0-5\",IF(A1<11,\"6-10\",IF(A1<16,\"11-15\",IF(A1<21,\"16-20\",IF(A1<26,\"21-25\",IF(A1<31,\"26-30\",IF(A1<36,\"31-35\",IF(A1<41,\"36-40\"))))))))","v":"0-5"}]
[0.1,{"$f":"IF(A2<6,\"0-5\",IF(A2<11,\"6-10\",IF(A2<16,\"11-15\",IF(A2<21,\"16-20\",IF(A2<26,\"21-25\",IF(A2<31,\"26-30\",IF(A2<36,\"31-35\",IF(A2<41,\"36-40\"))))))))","v":"0-5"}]
[0.3,"0-5"]
[0.5,"0-5"]
[0.6,"0-5"]
[0.8,"0-5"]
[1,"0-5"]
[1.1000000000000001,"0-5"]
[1.5,"0-5"]
[1.6,"0-5"]
[2,"0-5"]
[2.4,"0-5"]
[2.5,"0-5"]
[3,"0-5"]
[3.5,"0-5"]
[4,"0-5"]
[4.5,"0-5"]
[4.5999999999999996,"0-5"]
[5,"0-5"]
[5.5,"0-5"]
[5.6,"0-5"]
[6,"6-10"]
[6.4,"6-10"]
[6.5,"6-10"]
[7,"6-10"]
[7.3,"6-10"]
[7.9,"6-10"]
[8,"6-10"]
[8.5,"6-10"]
[9,"6-10"]
[10,"6-10"]
[11,"11-15"]
[12,"11-15"]
[13,"11-15"]
[14,"11-15"]
[15,"11-15"]
[16,"16-20"]
[17,"16-20"]
[18,"16-20"]
[19,"16-20"]
[20,"16-20"]
[21,"21-25"]
[22,"21-25"]
[23,"21-25"]
[25,"21-25"]
[26,"26-30"]
[27,"26-30"]
[28,"26-30"]
[29,"26-30"]
[30,"26-30"]
[32,"31-35"]
[33,"31-35"]
[34,"31-35"]
[35,"31-35"]
[36,"36-40"]
[40,"36-40"]

{"sheet":"BoxPlot Pivot","index":5,"n_rows":86,"n_cols":11,"rows_kept":86,"cut":false,"hidden":true,"merged":[[1,3,1,4],[1,6,1,7]]}
["Job Type","Reporting"]
[null,null,null,"Clean Data",null,null,"Plotting Data"]
["Row Labels","Sum of Salary (User Chosen Curreny)",null,"Min",{"$f":"ROUND(MIN($B$4:$B$5050),0)","v":15670},null,"Bottom",{"$f":"E4","v":34021}]
["ID0018",369089.10000000003,null,"First Quartile",{"$f":"ROUND(QUARTILE($B$4:$B$5050,1),0)","v":34021},null,"2Q Box",{"$f":"E5-E4","v":24403}]
["ID0141",49076.219308055588,null,"Median",{"$f":"ROUND(MEDIAN($B$4:$B$5050),0)","v":58424},null,"3Q Box",{"$f":"E6-E5","v":93559}]
["ID0288",180443.56000000003,null,"Third Quartile",{"$f":"ROUND(QUARTILE($B$4:$B$5050,3),0)","v":151983},null,"Whisker-",{"$f":"E4-E3","v":18351},null,{"$f":"E4-E3","v":18351},{"$f":"IF(E3>J11, E3, J11)","v":15670}]
["ID0309",2083958.1581240776,null,"Max",{"$f":"ROUND(MAX($B$4:$B$5050),0)","v":2083958},null,"Whisker+",{"$f":"E7-E6","v":1931975},null,{"$f":"E7-E6","v":1931975},{"$f":"IF(E7>J12,J12,E7)","v":270502}]
["ID0328",88659.334219902288,null,"Mean",{"$f":"ROUND(AVERAGE($B$4:$B$5050),0)","v":160547},null,"Mean",{"$f":"E8","v":160547}]
["ID0347",31167.524000000001]
["ID0385",123029.70000000001]
["ID0391",98423.760000000009,null,null,null,null,null,null,"iqrWisker-",{"$f":"H3-I15","v":-142922}]
["ID0429",246059.40000000002,null,null,null,null,null,null,"iqrWisker+",{"$f":"H5+I15","v":270502}]
["ID0448",41009.9]
["ID0492",49211.880000000005,null,null,null,null,null,"iqr","1.5 iqr"]
["ID0549",369089.10000000003,null,null,null,null,null,{"$f":"E6-E4","v":117962},{"$f":"1.5*H15","v":176943}]
["ID0621",23369.628241931234]
["ID0625",32807.920000000006]
["ID0629",34448.316000000006]
["ID0644",43818.052953621067,null,null,null,"Box Plot Legend"]
["ID0647",32807.920000000006,null,null,null,"Bottom",50274]
["ID0651",70108.884725793701,null,null,null,"2Q Box",111036]
["ID0658",123029.70000000001,null,null,null,"3Q Box",150892]
["ID0665",29212.035302414042,null,null,null,"Whisker-",40633]
["ID0668",33593.84059777615,null,null,null,"Whisker+",35847]
["ID0676",47469.557366422821,null,null,null,"Mean",190000]
["ID0694",55502.867074586677]
["ID0696",36515.044128017551]
["ID0716",73030.088256035102]
["ID0724",58424.070604828084]
["ID0758",32863.539715215797]
["ID0776",110726.73000000001]
["ID0783",15670.177807214186]
["ID0786",131231.68000000002]
["ID0795",787390.08000000007]
["ID0800",374905.6972539823]
["ID0809",24830.230007051934]
["ID0842",246059.40000000002]
["ID0846",29212.035302414042]
["ID0924",26290.831772172638]
["ID0940",148127.75880000001]
["ID0985",697168.3]
["ID1019",164039.6]
["ID1036",30672.637067534743]
["ID1038",229655.44000000003]
["ID1044",69524.644019745421]
["ID1047",26290.831772172638]
["ID1051",451108.9]
["ID1066",29212.035302414042]
["ID1067",41830.098000000005]
["ID1074",57413.860000000008]
["ID1077",55117.305600000007]
["ID1078",36515.044128017551]
["ID1090",36515.044128017551]
["ID1128",155837.62000000002]
["ID1131",58424.070604828084]
["ID1133",193916.73995895637]
["ID1142",29212.035302414042]
["ID1193",59054.256000000008]
["ID1225",102242.12355844914]
["ID1289",43818.052953621067]
["ID1311",30672.637067534743]
["ID1313",29212.035302414042]
["ID1326",82019.8]
["ID1330",29796.276008462322]
["ID1347",54133.068000000007]
["ID1404",303473.26]
["ID1503",40604.729070355512]
["ID1505",262463.36000000004]
["ID1562",323194.5665982606]
["ID1583",697168.3]
["ID1585",825239.99729319673]
["ID1602",82019.8]
["ID1625",57413.860000000008]
["ID1648",98423.760000000009]
["ID1657",82019.8]
["ID1665",255901.77600000001]
["ID1668",754582.16]
["ID1686",65727.079430431593]
["ID1721",21909.026476810533]
["ID1732",49211.880000000005]
["ID1753",26290.831772172638]
["ID1820",65727.079430431593]
["ID1903",36515.044128017551]
["ID1904",24227.387076923078]
["ID1914",40312.608717331379]
["ID1917",68896.632000000012]

{"sheet":"Data","index":6,"n_rows":1888,"n_cols":15,"rows_kept":1888,"cut":false,"hidden":true,"merged":[[0,1,0,4]]}
[null,"Excel Salary Survey Data",null,null,null,null,12,{"$f":"OFFSET(mapping!F4,mapping!F3-1,2)","v":"ZAR"},{"$f":"VLOOKUP($H$1,USDtoUCC,2,FALSE)","v":{"$error":"#NAME?"}}]
[]
[null,"Note: Experience data is not available for first few hundred rows.",null,null,null,null,"=[@[clean Salary (in local currency)]]*VLOOKUP([@Currency],tblXrate,2,FALSE)"]
[]
[null,"Unique ID","Timestamp","Your Salary","clean Salary (in local currency)","Currency","Salary in USD","Salary (User Chosen Curreny)","Your Job Title","Job Type","Where do you work","clean Country","How many hours of a day you work on Excel","Years of Experience","Exp Bins"]
[null,"ID0001","2012-05-25T03:11:32",5846,5846,"USD",{"$f":"tblSalaries[[#This Row],[clean Salary (in local currency)]]*VLOOKUP(tblSalaries[[#This Row],[Currency]],tblXrate[],2,FALSE)","v":5846},{"$f":"IF($H$1=\"USD\",tblSalaries[[#This Row],[Salary in USD]],tblSalaries[[#This Row],[Salary in USD]]*VLOOKUP($H$1,USDtoUserChoice,2,FALSE))","v":47948.775080000007},"MIS Analyst","Analyst","India",{"$f":"VLOOKUP(tblSalaries[[#This Row],[Where do you work]],tblCountries[[Actual]:[Mapping]],2,FALSE)","v":"India"},"4 to 6 hours a day",{"$f":"NA()","v":{"$error":"#N/A"}},{"$f":"IF(ISNA(VLOOKUP(tblSalaries[[#This Row],[Years of Experience]],vlookUpExp!$A$1:$B$56,2,FALSE)),\"No Response\",VLOOKUP(tblSalaries[[#This Row],[Years of Experience]],vlookUpExp!$A$1:$B$56,2,FALSE))","v":"No Response"}]
[null,"ID0002","2012-05-25T03:13:13","15000 usd",15000,"USD",{"$f":"tblSalaries[[#This Row],[clean Salary (in local currency)]]*VLOOKUP(tblSalaries[[#This Row],[Currency]],tblXrate[],2,FALSE)","v":15000},{"$f":"IF($H$1=\"USD\",tblSalaries[[#This Row],[Salary in USD]],tblSalaries[[#This Row],[Salary in USD]]*VLOOKUP($H$1,USDtoUserChoice,2,FALSE))","v":123029.70000000001},"cost control","Controller","europe/Croatia",{"$f":"VLOOKUP(tblSalaries[[#This Row],[Where do you work]],tblCountries[[Actual]:[Mapping]],2,FALSE)","v":"Croatia"},"All the 8 hours baby, all the 8!",{"$f":"NA()","v":{"$error":"#N/A"}},{"$f":"IF(ISNA(VLOOKUP(tblSalaries[[#This Row],[Years of Experience]],vlookUpExp!$A$1:$B$56,2,FALSE)),\"No Response\",VLOOKUP(tblSalaries[[#This Row],[Years of Experience]],vlookUpExp!$A$1:$B$56,2,FALSE))","v":"No Response"}]
[null,"ID0003","2012-05-25T03:16:26",58000,58000,"USD",{"$f":"tblSalaries[[#This Row],[clean Salary (in local currency)]]*VLOOKUP(tblSalaries[[#This Row],[Currency]],tblXrate[],2,FALSE)","v":58000},{"$f":"IF($H$1=\"USD\",tblSalaries[[#This Row],[Salary in USD]],tblSalaries[[#This Row],[Salary in USD]]*VLOOKUP($H$1,USDtoUserChoice,2,FALSE))","v":475714.84},"Financial Analyst","Analyst","USA",{"$f":"VLOOKUP(tblSalaries[[#This Row],[Where do you work]],tblCountries[[Actual]:[Mapping]],2,FALSE)","v":"USA"},"All the 8 hours baby, all the 8!",{"$f":"NA()","v":{"$error":"#N/A"}},{"$f":"IF(ISNA(VLOOKUP(tblSalaries[[#This Row],[Years of Experience]],vlookUpExp!$A$1:$B$56,2,FALSE)),\"No Response\",VLOOKUP(tblSalaries[[#This Row],[Years of Experience]],vlookUpExp!$A$1:$B$56,2,FALSE))","v":"No Response"}]
[null,"ID0004","2012-05-25T03:23:42",48000,48000,"USD",{"$f":"tblSalaries[[#This Row],[clean Salary (in local currency)]]*VLOOKUP(tblSalaries[[#This Row],[Currency]],tblXrate[],2,FALSE)","v":48000},{"$f":"IF($H$1=\"USD\",tblSalaries[[#This Row],[Salary in USD]],tblSalaries[[#This Row],[Salary in USD]]*VLOOKUP($H$1,USDtoUserChoice,2,FALSE))","v":393695.04000000004},"Quality Control","Controller","Pakistan",{"$f":"VLOOKUP(tblSalaries[[#This Row],[Where do you work]],tblCountries[[Actual]:[Mapping]],2,FALSE)","v":"Pakistan"},"2 to 3 hours per day",{"$f":"NA()","v":{"$error":"#N/A"}},{"$f":"IF(ISNA(VLOOKUP(tblSalaries[[#This Row],[Years of Experience]],vlookUpExp!$A$1:$B$56,2,FALSE)),\"No Response\",VLOOKUP(tblSalaries[[#This Row],[Years of Experience]],vlookUpExp!$A$1:$B$56,2,FALSE))","v":"No Response"}]
[null,"ID0005","2012-05-25T03:27:04",54000,54000,"USD",{"$f":"tblSalaries[[#This Row],[clean Salary (in local currency)]]*VLOOKUP(tblSalaries[[#This Row],[Currency]],tblXrate[],2,FALSE)","v":54000},{"$f":"IF($H$1=\"USD\",tblSalaries[[#This Row],[Salary in USD]],tblSalaries[[#This Row],[Salary in USD]]*VLOOKUP($H$1,USDtoUserChoice,2,FALSE))","v":442906.92000000004},"Quality Engineer","Engineer","USA",{"$f":"VLOOKUP(tblSalaries[[#This Row],[Where do you work]],tblCountries[[Actual]:[Mapping]],2,FALSE)","v":"USA"},"All the 8 hours baby, all the 8!",{"$f":"NA()","v":{"$error":"#N/A"}},{"$f":"IF(ISNA(VLOOKUP(tblSalaries[[#This Row],[Years of Experience]],vlookUpExp!$A$1:$B$56,2,FALSE)),\"No Response\",VLOOKUP(tblSalaries[[#This Row],[Years of Experience]],vlookUpExp!$A$1:$B$56,2,FALSE))","v":"No Response"}]
[null,"ID0006","2012-05-25T03:28:28",41731,41731,"USD",{"$f":"tblSalaries[[#This Row],[clean Salary (in local currency)]]*VLOOKUP(tblSalaries[[#This Row],[Currency]],tblXrate[],2,FALSE)","v":41731},{"$f":"IF($H$1=\"USD\",tblSalaries[[#This Row],[Salary in USD]],tblSalaries[[#This Row],[Salary in USD]]*VLOOKUP($H$1,USDtoUserChoice,2,FALSE))","v":342276.82738000003},"Analyst","Analyst","Iceland",{"$f":"VLOOKUP(tblSalaries[[#This Row],[Where do you work]],tblCountries[[Actual]:[Mapping]],2,FALSE)","v":"Iceland"},"All the 8 hours baby, all the 8!",{"$f":"NA()","v":{"$error":"#N/A"}},{"$f":"IF(ISNA(VLOOKUP(tblSalaries[[#This Row],[Years of Experience]],vlookUpExp!$A$1:$B$56,2,FALSE)),\"No Response\",VLOOKUP(tblSalaries[[#This Row],[Years of Experience]],vlookUpExp!$A$1:$B$56,2,FALSE))","v":"No Response"}]
[null,"ID0007","2012-05-25T03:33:51",145000,145000,"EUR",{"$f":"tblSalaries[[#This Row],[clean Salary (in local currency)]]*VLOOKUP(tblSalaries[[#This Row],[Currency]],tblXrate[],2,FALSE)","v":184207.91865378313},{"$f":"IF($H$1=\"USD\",tblSalaries[[#This Row],[Salary in USD]],tblSalaries[[#This Row],[Salary in USD]]*VLOOKUP($H$1,USDtoUserChoice,2,FALSE))","v":1510869.6646399563},"senior project manager","Manager","Germany",{"$f":"VLOOKUP(tblSalaries[[#This Row],[Where do you work]],tblCountries[[Actual]:[Mapping]],2,FALSE)","v":"Germany"},"1 or 2 hours a day",{"$f":"NA()","v":{"$error":"#N/A"}},{"$f":"IF(ISNA(VLOOKUP(tblSalaries[[#This Row],[Years of Experience]],vlookUpExp!$A$1:$B$56,2,FALSE)),\"No Response\",VLOOKUP(tblSalaries[[#This Row],[Years of Experience]],vlookUpExp!$A$1:$B$56,2,FALSE))","v":"No Response"}]
[null,"ID0008","2012-05-25T03:36:37",12000,12000,"USD",{"$f":"tblSalaries[[#This Row],[clean Salary (in local currency)]]*VLOOKUP(tblSalaries[[#This Row],[Currency]],tblXrate[],2,FALSE)","v":12000},{"$f":"IF($H$1=\"USD\",tblSalaries[[#This Row],[Salary in USD]],tblSalaries[[#This Row],[Salary in USD]]*VLOOKUP($H$1,USDtoUserChoice,2,FALSE))","v":98423.760000000009},"Assistant SP&A","Analyst","Ukraine",{"$f":"VLOOKUP(tblSalaries[[#This Row],[Where do you work]],tblCountries[[Actual]:[Mapping]],2,FALSE)","v":"Ukraine"},"All the 8 hours baby, all the 8!",{"$f":"NA()","v":{"$error":"#N/A"}},{"$f":"IF(ISNA(VLOOKUP(tblSalaries[[#This Row],[Years of Experience]],vlookUpExp!$A$1:$B$56,2,FALSE)),\"No Response\",VLOOKUP(tblSalaries[[#This Row],[Years of Experience]],vlookUpExp!$A$1:$B$56,2,FALSE))","v":"No Response"}]
[null,"ID0009","2012-05-25T03:37:17","44000 $",44000,"USD",{"$f":"tblSalaries[[#This Row],[clean Salary (in local currency)]]*VLOOKUP(tblSalaries[[#This Row],[Currency]],tblXrate[],2,FALSE)","v":44000},{"$f":"IF($H$1=\"USD\",tblSalaries[[#This Row],[Salary in USD]],tblSalaries[[#This Row],[Salary in USD]]*VLOOKUP($H$1,USDtoUserChoice,2,FALSE))","v":360887.12000000005},"CFO","CXO or Top Mgmt.","Portugal",{"$f":"VLOOKUP(tblSalaries[[#This Row],[Where do you work]],tblCountries[[Actual]:[Mapping]],2,FALSE)","v":"Portugal"},"1 or 2 hours a day",{"$f":"NA()","v":{"$error":"#N/A"}},{"$f":"IF(ISNA(VLOOKUP(tblSalaries[[#This Row],[Years of Experience]],vlookUpExp!$A$1:$B$56,2,FALSE)),\"No Response\",VLOOKUP(tblSalaries[[#This Row],[Years of Experience]],vlookUpExp!$A$1:$B$56,2,FALSE))","v":"No Response"}]
[null,"ID0010","2012-05-25T03:38:57","PKR 8,000",1152000,"PKR",{"$f":"tblSalaries[[#This Row],[clean Salary (in local currency)]]*VLOOKUP(tblSalaries[[#This Row],[Currency]],tblXrate[],2,FALSE)","v":12227.430201752599},{"$f":"IF($H$1=\"USD\",tblSalaries[[#This Row],[Salary in USD]],tblSalaries[[#This Row],[Salary in USD]]*VLOOKUP($H$1,USDtoUserChoice,2,FALSE))","v":100289.13796617079},"Audit Trainee ","Accountant","Pakistan",{"$f":"VLOOKUP(tblSalaries[[#This Row],[Where do you work]],tblCountries[[Actual]:[Mapping]],2,FALSE)","v":"Pakistan"},"All the 8 hours baby, all the 8!",{"$f":"NA()","v":{"$error":"#N/A"}},{"$f":"IF(ISNA(VLOOKUP(tblSalaries[[#This Row],[Years of Experience]],vlookUpExp!$A$1:$B$56,2,FALSE)),\"No Response\",VLOOKUP(tblSalaries[[#This Row],[Years of Experience]],vlookUpExp!$A$1:$B$56,2,FALSE))","v":"No Response"}]
[null,"ID0011","2012-05-25T03:43:45","â‚¬ 51650",51650,"EUR",{"$f":"tblSalaries[[#This Row],[clean Salary (in local currency)]]*VLOOKUP(tblSalaries[[#This Row],[Currency]],tblXrate[],2,FALSE)","v":65616.131023916547},{"$f":"IF($H$1=\"USD\",tblSalaries[[#This Row],[Salary in USD]],tblSalaries[[#This Row],[Salary in USD]]*VLOOKUP($H$1,USDtoUserChoice,2,FALSE))","v":538182.19433554308},"Training Specialist","Specialist","Ireland",{"$f":"VLOOKUP(tblSalaries[[#This Row],[Where do you work]],tblCountries[[Actual]:[Mapping]],2,FALSE)","v":"Ireland"},"2 to 3 hours per day",{"$f":"NA()","v":{"$error":"#N/A"}},{"$f":"IF(ISNA(VLOOKUP(tblSalaries[[#This Row],[Years of Experience]],vlookUpExp!$A$1:$B$56,2,FALSE)),\"No Response\",VLOOKUP(tblSalaries[[#This Row],[Years of Experience]],vlookUpExp!$A$1:$B$56,2,FALSE))","v":"No Response"}]
[null,"ID0012","2012-05-25T03:43:56",14000,14000,"USD",{"$f":"tblSalaries[[#This Row],[clean Salary (in local currency)]]*VLOOKUP(tblSalaries[[#This Row],[Currency]],tblXrate[],2,FALSE)","v":14000},{"$f":"IF($H$1=\"USD\",tblSalaries[[#This Row],[Salary in USD]],tblSalaries[[#This Row],[Salary in USD]]*VLOOKUP($H$1,USDtoUserChoice,2,FALSE))","v":114827.72000000002},"quality engineer","Engineer","Hungary",{"$f":"VLOOKUP(tblSalaries[[#This Row],[Where do you work]],tblCountries[[Actual]:[Mapping]],2,FALSE)","v":"Hungary"},"4 to 6 hours a day",{"$f":"NA()","v":{"$error":"#N/A"}},{"$f":"IF(ISNA(VLOOKUP(tblSalaries[[#This Row],[Years of Experience]],vlookUpExp!$A$1:$B$56,2,FALSE)),\"No Response\",VLOOKUP(tblSalaries[[#This Row],[Years of Experience]],vlookUpExp!$A$1:$B$56,2,FALSE))","v":"No Response"}]
[null,"ID0013","2012-05-25T03:48:53","749000 INR",749000,"INR",{"$f":"tblSalaries[[#This Row],[clean Salary (in local currency)]]*VLOOKUP(tblSalaries[[#This Row],[Currency]],tblXrate[],2,FALSE)","v":13338.129598894484},{"$f":"IF($H$1=\"USD\",tblSalaries[[#This Row],[Salary in USD]],tblSalaries[[#This Row],[Salary in USD]]*VLOOKUP($H$1,USDtoUserChoice,2,FALSE))","v":109399.07220754059},"Senion Analyst","Analyst","India",{"$f":"VLOOKUP(tblSalaries[[#This Row],[Where do you work]],tblCountries[[Actual]:[Mapping]],2,FALSE)","v":"India"},"All the 8 hours baby, all the 8!",{"$f":"NA()","v":{"$error":"#N/A"}},{"$f":"IF(ISNA(VLOOKUP(tblSalaries[[#This Row],[Years of Experience]],vlookUpExp!$A$1:$B$56,2,FALSE)),\"No Response\",VLOOKUP(tblSalaries[[#This Row],[Years of Experience]],vlookUpExp!$A$1:$B$56,2,FALSE))","v":"No Response"}]
[null,"ID0014","2012-05-25T03:50:58",49000,49000,"USD",{"$f":"tblSalaries[[#This Row],[clean Salary (in local currency)]]*VLOOKUP(tblSalaries[[#This Row],[Currency]],tblXrate[],2,FALSE)","v":49000},{"$f":"IF($H$1=\"USD\",tblSalaries[[#This Row],[Salary in USD]],tblSalaries[[#This Row],[Salary in USD]]*VLOOKUP($H$1,USDtoUserChoice,2,FALSE))","v":401897.02},"business analyst","Analyst","USA",{"$f":"VLOOKUP(tblSalaries[[#This Row],[Where do you work]],tblCountries[[Actual]:[Mapping]],2,FALSE)","v":"USA"},"All the 8 hours baby, all the 8!",{"$f":"NA()","v":{"$error":"#N/A"}},{"$f":"IF(ISNA(VLOOKUP(tblSalaries[[#This Row],[Years of Experience]],vlookUpExp!$A$1:$B$56,2,FALSE)),\"No Response\",VLOOKUP(tblSalaries[[#This Row],[Years of Experience]],vlookUpExp!$A$1:$B$56,2,FALSE))","v":"No Response"}]
[null,"ID0015","2012-05-25T03:53:22",85000,85000,"USD",{"$f":"tblSalaries[[#This Row],[clean Salary (in local currency)]]*VLOOKUP(tblSalaries[[#This Row],[Currency]],tblXrate[],2,FALSE)","v":85000},{"$f":"IF($H$1=\"USD\",tblSalaries[[#This Row],[Salary in USD]],tblSalaries[[#This Row],[Salary in USD]]*VLOOKUP($H$1,USDtoUserChoice,2,FALSE))","v":697168.3},"Project Engineer","Engineer","USA",{"$f":"VLOOKUP(tblSalaries[[#This Row],[Where do you work]],tblCountries[[Actual]:[Mapping]],2,FALSE)","v":"USA"},"1 or 2 hours a day",{"$f":"NA()","v":{"$error":"#N/A"}},{"$f":"IF(ISNA(VLOOKUP(tblSalaries[[#This Row],[Years of Experience]],vlookUpExp!$A$1:$B$56,2,FALSE)),\"No Response\",VLOOKUP(tblSalaries[[#This Row],[Years of Experience]],vlookUpExp!$A$1:$B$56,2,FALSE))","v":"No Response"}]
[null,"ID0016","2012-05-25T03:56:40",75000,75000,"USD",{"$f":"tblSalaries[[#This Row],[clean Salary (in local currency)]]*VLOOKUP(tblSalaries[[#This Row],[Currency]],tblXrate[],2,FALSE)","v":75000},{"$f":"IF($H$1=\"USD\",tblSalaries[[#This Row],[Salary in USD]],tblSalaries[[#This Row],[Salary in USD]]*VLOOKUP($H$1,USDtoUserChoice,2,FALSE))","v":615148.5},"Sr Project Engineer","Engineer","USA",{"$f":"VLOOKUP(tblSalaries[[#This Row],[Where do you work]],tblCountries[[Actual]:[Mapping]],2,FALSE)","v":"USA"},"All the 8 hours baby, all the 8!",{"$f":"NA()","v":{"$error":"#N/A"}},{"$f":"IF(ISNA(VLOOKUP(tblSalaries[[#This Row],[Years of Experience]],vlookUpExp!$A$1:$B$56,2,FALSE)),\"No Response\",VLOOKUP(tblSalaries[[#This Row],[Years of Experience]],vlookUpExp!$A$1:$B$56,2,FALSE))","v":"No Response"}]
[null,"ID0017","2012-05-25T04:10:11",107000,107000,"USD",{"$f":"tblSalaries[[#This Row],[clean Salary (in local currency)]]*VLOOKUP(tblSalaries[[#This Row],[Currency]],tblXrate[],2,FALSE)","v":107000},{"$f":"IF($H$1=\"USD\",tblSalaries[[#This Row],[Salary in USD]],tblSalaries[[#This Row],[Salary in USD]]*VLOOKUP($H$1,USDtoUserChoice,2,FALSE))","v":877611.8600000001},"Business Development","Manager","Switzerland",{"$f":"VLOOKUP(tblSalaries[[#This Row],[Where do you work]],tblCountries[[Actual]:[Mapping]],2,FALSE)","v":"Switzerland"},"4 to 6 hours a day",{"$f":"NA()","v":{"$error":"#N/A"}},{"$f":"IF(ISNA(VLOOKUP(tblSalaries[[#This Row],[Years of Experience]],vlookUpExp!$A$1:$B$56,2,FALSE)),\"No Response\",VLOOKUP(tblSalaries[[#This Row],[Years of Experience]],vlookUpExp!$A$1:$B$56,2,FALSE))","v":"No Response"}]
[null,"ID0018","2012-05-25T04:10:44",45000,45000,"USD",{"$f":"tblSalaries[[#This Row],[clean Salary (in local currency)]]*VLOOKUP(tblSalaries[[#This Row],[Currency]],tblXrate[],2,FALSE)","v":45000},{"$f":"IF($H$1=\"USD\",tblSalaries[[#This Row],[Salary in USD]],tblSalaries[[#This Row],[Salary in USD]]*VLOOKUP($H$1,USDtoUserChoice,2,FALSE))","v":369089.10000000003},"Excel Report Writer","Reporting","South Africa",{"$f":"VLOOKUP(tblSalaries[[#This Row],[Where do you work]],tblCountries[[Actual]:[Mapping]],2,FALSE)","v":"South Africa"},"All the 8 hours baby, all the 8!",{"$f":"NA()","v":{"$error":"#N/A"}},{"$f":"IF(ISNA(VLOOKUP(tblSalaries[[#This Row],[Years of Experience]],vlookUpExp!$A$1:$B$56,2,FALSE)),\"No Response\",VLOOKUP(tblSalaries[[#This Row],[Years of Experience]],vlookUpExp!$A$1:$B$56,2,FALSE))","v":"No Response"}]
[null,"ID0019","2012-05-25T04:16:32",550000,550000,"INR",{"$f":"tblSalaries[[#This Row],[clean Salary (in local currency)]]*VLOOKUP(tblSalaries[[#This Row],[Currency]],tblXrate[],2,FALSE)","v":9794.354178093412},{"$f":"IF($H$1=\"USD\",tblSalaries[[#This Row],[Salary in USD]],tblSalaries[[#This Row],[Salary in USD]]*VLOOKUP($H$1,USDtoUserChoice,2,FALSE))","v":80333.097081638611},"AGM","Manager","India",{"$f":"VLOOKUP(tblSalaries[[#This Row],[Where do you work]],tblCountries[[Actual]:[Mapping]],2,FALSE)","v":"India"},"2 to 3 hours per day",{"$f":"NA()","v":{"$error":"#N/A"}},{"$f":"IF(ISNA(VLOOKUP(tblSalaries[[#This Row],[Years of Experience]],vlookUpExp!$A$1:$B$56,2,FALSE)),\"No Response\",VLOOKUP(tblSalaries[[#This Row],[Years of Experience]],vlookUpExp!$A$1:$B$56,2,FALSE))","v":"No Response"}]
[null,"ID0020","2012-05-25T04:19:22",50000,50000,"USD",{"$f":"tblSalaries[[#This Row],[clean Salary (in local currency)]]*VLOOKUP(tblSalaries[[#This Row],[Currency]],tblXrate[],2,FALSE)","v":50000},{"$f":"IF($H$1=\"USD\",tblSalaries[[#This Row],[Salary in USD]],tblSalaries[[#This Row],[Salary in USD]]*VLOOKUP($H$1,USDtoUserChoice,2,FALSE))","v":410099.00000000006},"GM","Manager","India",{"$f":"VLOOKUP(tblSalaries[[#This Row],[Where do you work]],tblCountries[[Actual]:[Mapping]],2,FALSE)","v":"India"},"1 or 2 hours a day",{"$f":"NA()","v":{"$error":"#N/A"}},{"$f":"IF(ISNA(VLOOKUP(tblSalaries[[#This Row],[Years of Experience]],vlookUpExp!$A$1:$B$56,2,FALSE)),\"No Response\",VLOOKUP(tblSalaries[[#This Row],[Years of Experience]],vlookUpExp!$A$1:$B$56,2,FALSE))","v":"No Response"}]
[null,"ID0021","2012-05-25T04:24:01",13500,13500,"USD",{"$f":"tblSalaries[[#This Row],[clean Salary (in local currency)]]*VLOOKUP(tblSalaries[[#This Row],[Currency]],tblXrate[],2,FALSE)","v":13500},{"$f":"IF($H$1=\"USD\",tblSalaries[[#This Row],[Salary in USD]],tblSalaries[[#This Row],[Salary in USD]]*VLOOKUP($H$1,USDtoUserChoice,2,FALSE))","v":110726.73000000001},"DSE Co-ordinator","Manager","India",{"$f":"VLOOKUP(tblSalaries[[#This Row],[Where do you work]],tblCountries[[Actual]:[Mapping]],2,FALSE)","v":"India"},"4 to 6 hours a day",{"$f":"NA()","v":{"$error":"#N/A"}},{"$f":"IF(ISNA(VLOOKUP(tblSalaries[[#This Row],[Years of Experience]],vlookUpExp!$A$1:$B$56,2,FALSE)),\"No Response\",VLOOKUP(tblSalaries[[#This Row],[Years of Experience]],vlookUpExp!$A$1:$B$56,2,FALSE))","v":"No Response"}]
[null,"ID0022","2012-05-25T04:24:12",96000,96000,"USD",{"$f":"tblSalaries[[#This Row],[clean Salary (in local currency)]]*VLOOKUP(tblSalaries[[#This Row],[Currency]],tblXrate[],2,FALSE)","v":96000},{"$f":"IF($H$1=\"USD\",tblSalaries[[#This Row],[Salary in USD]],tblSalaries[[#This Row],[Salary in USD]]*VLOOKUP($H$1,USDtoUserChoice,2,FALSE))","v":787390.08000000007},"Analyst","Analyst","USA",{"$f":"VLOOKUP(tblSalaries[[#This Row],[Where do you work]],tblCountries[[Actual]:[Mapping]],2,FALSE)","v":"USA"},"2 to 3 hours per day",{"$f":"NA()","v":{"$error":"#N/A"}},{"$f":"IF(ISNA(VLOOKUP(tblSalaries[[#This Row],[Years of Experience]],vlookUpExp!$A$1:$B$56,2,FALSE)),\"No Response\",VLOOKUP(tblSalaries[[#This Row],[Years of Experience]],vlookUpExp!$A$1:$B$56,2,FALSE))","v":"No Response"}]
[null,"ID0023","2012-05-25T04:31:41",1000000,1000000,"INR",{"$f":"tblSalaries[[#This Row],[clean Salary (in local currency)]]*VLOOKUP(tblSalaries[[#This Row],[Currency]],tblXrate[],2,FALSE)","v":17807.916687442568},{"$f":"IF($H$1=\"USD\",tblSalaries[[#This Row],[Salary in USD]],tblSalaries[[#This Row],[Salary in USD]]*VLOOKUP($H$1,USDtoUserChoice,2,FALSE))","v":146060.1765120702},"Manager","Manager","India",{"$f":"VLOOKUP(tblSalaries[[#This Row],[Where do you work]],tblCountries[[Actual]:[Mapping]],2,FALSE)","v":"India"},"4 to 6 hours a day",{"$f":"NA()","v":{"$error":"#N/A"}},{"$f":"IF(ISNA(VLOOKUP(tblSalaries[[#This Row],[Years of Experience]],vlookUpExp!$A$1:$B$56,2,FALSE)),\"No Response\",VLOOKUP(tblSalaries[[#This Row],[Years of Experience]],vlookUpExp!$A$1:$B$56,2,FALSE))","v":"No Response"}]
[null,"ID0024","2012-05-25T04:32:49",75000,75000,"USD",{"$f":"tblSalaries[[#This Row],[clean Salary (in local currency)]]*VLOOKUP(tblSalaries[[#This Row],[Currency]],tblXrate[],2,FALSE)","v":75000},{"$f":"IF($H$1=\"USD\",tblSalaries[[#This Row],[Salary in USD]],tblSalaries[[#This Row],[Salary in USD]]*VLOOKUP($H$1,USDtoUserChoice,2,FALSE))","v":615148.5},"Marketing Director","CXO or Top Mgmt.","USA",{"$f":"VLOOKUP(tblSalaries[[#This Row],[Where do you work]],tblCountries[[Actual]:[Mapping]],2,FALSE)","v":"USA"},"4 to 6 hours a day",{"$f":"NA()","v":{"$error":"#N/A"}},{"$f":"IF(ISNA(VLOOKUP(tblSalaries[[#This Row],[Years of Experience]],vlookUpExp!$A$1:$B$56,2,FALSE)),\"No Response\",VLOOKUP(tblSalaries[[#This Row],[Years of Experience]],vlookUpExp!$A$1:$B$56,2,FALSE))","v":"No Response"}]
[null,"ID0025","2012-05-25T04:43:51","40000 us",40000,"USD",{"$f":"tblSalaries[[#This Row],[clean Salary (in local currency)]]*VLOOKUP(tblSalaries[[#This Row],[Currency]],tblXrate[],2,FALSE)","v":40000},{"$f":"IF($H$1=\"USD\",tblSalaries[[#This Row],[Salary in USD]],tblSalaries[[#This Row],[Salary in USD]]*VLOOKUP($H$1,USDtoUserChoice,2,FALSE))","v":328079.2},"sales and marketing","Manager","USA",{"$f":"VLOOKUP(tblSalaries[[#This Row],[Where do you work]],tblCountries[[Actual]:[Mapping]],2,FALSE)","v":"USA"},"2 to 3 hours per day",{"$f":"NA()","v":{"$error":"#N/A"}},{"$f":"IF(ISNA(VLOOKUP(tblSalaries[[#This Row],[Years of Experience]],vlookUpExp!$A$1:$B$56,2,FALSE)),\"No Response\",VLOOKUP(tblSalaries[[#This Row],[Years of Experience]],vlookUpExp!$A$1:$B$56,2,FALSE))","v":"No Response"}]
[null,"ID0026","2012-05-25T04:45:01",60000,60000,"USD",{"$f":"tblSalaries[[#This Row],[clean Salary (in local currency)]]*VLOOKUP(tblSalaries[[#This Row],[Currency]],tblXrate[],2,FALSE)","v":60000},{"$f":"IF($H$1=\"USD\",tblSalaries[[#This Row],[Salary in USD]],tblSalaries[[#This Row],[Salary in USD]]*VLOOKUP($H$1,USDtoUserChoice,2,FALSE))","v":492118.80000000005},"Analyst II","Analyst","USA",{"$f":"VLOOKUP(tblSalaries[[#This Row],[Where do you work]],tblCountries[[Actual]:[Mapping]],2,FALSE)","v":"USA"},"All the 8 hours baby, all the 8!",{"$f":"NA()","v":{"$error":"#N/A"}},{"$f":"IF(ISNA(VLOOKUP(tblSalaries[[#This Row],[Years of Experience]],vlookUpExp!$A$1:$B$56,2,FALSE)),\"No Response\",VLOOKUP(tblSalaries[[#This Row],[Years of Experience]],vlookUpExp!$A$1:$B$56,2,FALSE))","v":"No Response"}]
[null,"ID0028","2012-05-25T04:48:33",2700,32400,"EUR",{"$f":"tblSalaries[[#This Row],[clean Salary (in local currency)]]*VLOOKUP(tblSalaries[[#This Row],[Currency]],tblXrate[],2,FALSE)","v":41160.941823328096},{"$f":"IF($H$1=\"USD\",tblSalaries[[#This Row],[Salary in USD]],tblSalaries[[#This Row],[Salary in USD]]*VLOOKUP($H$1,USDtoUserChoice,2,FALSE))","v":337601.22161610058},"Project Leader","Manager","Belgium",{"$f":"VLOOKUP(tblSalaries[[#This Row],[Where do you work]],tblCountries[[Actual]:[Mapping]],2,FALSE)","v":"Belgium"},"4 to 6 hours a day",{"$f":"NA()","v":{"$error":"#N/A"}},{"$f":"IF(ISNA(VLOOKUP(tblSalaries[[#This Row],[Years of Experience]],vlookUpExp!$A$1:$B$56,2,FALSE)),\"No Response\",VLOOKUP(tblSalaries[[#This Row],[Years of Experience]],vlookUpExp!$A$1:$B$56,2,FALSE))","v":"No Response"}]
[null,"ID0029","2012-05-25T04:52:23","900000 INR",900000,"INR",{"$f":"tblSalaries[[#This Row],[clean Salary (in local currency)]]*VLOOKUP(tblSalaries[[#This Row],[Currency]],tblXrate[],2,FALSE)","v":16027.125018698311},{"$f":"IF($H$1=\"USD\",tblSalaries[[#This Row],[Salary in USD]],tblSalaries[[#This Row],[Salary in USD]]*VLOOKUP($H$1,USDtoUserChoice,2,FALSE))","v":131454.15886086319},"Applications Engineer","Engineer","India",{"$f":"VLOOKUP(tblSalaries[[#This Row],[Where do you work]],tblCountries[[Actual]:[Mapping]],2,FALSE)","v":"India"},"1 or 2 hours a day",{"$f":"NA()","v":{"$error":"#N/A"}},{"$f":"IF(ISNA(VLOOKUP(tblSalaries[[#This Row],[Years of Experience]],vlookUpExp!$A$1:$B$56,2,FALSE)),\"No Response\",VLOOKUP(tblSalaries[[#This Row],[Years of Experience]],vlookUpExp!$A$1:$B$56,2,FALSE))","v":"No Response"}]
[null,"ID0030","2012-05-25T04:55:35","Rs 600000",600000,"INR",{"$f":"tblSalaries[[#This Row],[clean Salary (in local currency)]]*VLOOKUP(tblSalaries[[#This Row],[Currency]],tblXrate[],2,FALSE)","v":10684.750012465542},{"$f":"IF($H$1=\"USD\",tblSalaries[[#This Row],[Salary in USD]],tblSalaries[[#This Row],[Salary in USD]]*VLOOKUP($H$1,USDtoUserChoice,2,FALSE))","v":87636.105907242134},"strategy manager","Manager","India",{"$f":"VLOOKUP(tblSalaries[[#This Row],[Where do you work]],tblCountries[[Actual]:[Mapping]],2,FALSE)","v":"India"},"4 to 6 hours a day",{"$f":"NA()","v":{"$error":"#N/A"}},{"$f":"IF(ISNA(VLOOKUP(tblSalaries[[#This Row],[Years of Experience]],vlookUpExp!$A$1:$B$56,2,FALSE)),\"No Response\",VLOOKUP(tblSalaries[[#This Row],[Years of Experience]],vlookUpExp!$A$1:$B$56,2,FALSE))","v":"No Response"}]
[null,"ID0031","2012-05-25T04:55:48",41000,41000,"USD",{"$f":"tblSalaries[[#This Row],[clean Salary (in local currency)]]*VLOOKUP(tblSalaries[[#This Row],[Currency]],tblXrate[],2,FALSE)","v":41000},{"$f":"IF($H$1=\"USD\",tblSalaries[[#This Row],[Salary in USD]],tblSalaries[[#This Row],[Salary in USD]]*VLOOKUP($H$1,USDtoUserChoice,2,FALSE))","v":336281.18000000005},"Chief of the department of public budget analisis and forecasting","Manager","Russia",{"$f":"VLOOKUP(tblSalaries[[#This Row],[Where do you work]],tblCountries[[Actual]:[Mapping]],2,FALSE)","v":"Russia"},"All the 8 hours baby, all the 8!",{"$f":"NA()","v":{"$error":"#N/A"}},{"$f":"IF(ISNA(VLOOKUP(tblSalaries[[#This Row],[Years of Experience]],vlookUpExp!$A$1:$B$56,2,FALSE)),\"No Response\",VLOOKUP(tblSalaries[[#This Row],[Years of Experience]],vlookUpExp!$A$1:$B$56,2,FALSE))","v":"No Response"}]
[null,"ID0032","2012-05-25T04:57:06","360000 INR",360000,"INR",{"$f":"tblSalaries[[#This Row],[clean Salary (in local currency)]]*VLOOKUP(tblSalaries[[#This Row],[Currency]],tblXrate[],2,FALSE)","v":6410.8500074793246},{"$f":"IF($H$1=\"USD\",tblSalaries[[#This Row],[Salary in USD]],tblSalaries[[#This Row],[Salary in USD]]*VLOOKUP($H$1,USDtoUserChoice,2,FALSE))","v":52581.663544345276},"Specialist","Specialist","India",{"$f":"VLOOKUP(tblSalaries[[#This Row],[Where do you work]],tblCountries[[Actual]:[Mapping]],2,FALSE)","v":"India"},"4 to 6 hours a day",{"$f":"NA()","v":{"$error":"#N/A"}},{"$f":"IF(ISNA(VLOOKUP(tblSalaries[[#This Row],[Years of Experience]],vlookUpExp!$A$1:$B$56,2,FALSE)),\"No Response\",VLOOKUP(tblSalaries[[#This Row],[Years of Experience]],vlookUpExp!$A$1:$B$56,2,FALSE))","v":"No Response"}]
[null,"ID0033","2012-05-25T04:58:45","Â£35000",35000,"GBP",{"$f":"tblSalaries[[#This Row],[clean Salary (in local currency)]]*VLOOKUP(tblSalaries[[#This Row],[Currency]],tblXrate[],2,FALSE)","v":55166.239522354947},{"$f":"IF($H$1=\"USD\",tblSalaries[[#This Row],[Salary in USD]],tblSalaries[[#This Row],[Salary in USD]]*VLOOKUP($H$1,USDtoUserChoice,2,FALSE))","v":452472.39323756489},"Management Information Analyst","Analyst","UK",{"$f":"VLOOKUP(tblSalaries[[#This Row],[Where do you work]],tblCountries[[Actual]:[Mapping]],2,FALSE)","v":"UK"},"All the 8 hours baby, all the 8!",{"$f":"NA()","v":{"$error":"#N/A"}},{"$f":"IF(ISNA(VLOOKUP(tblSalaries[[#This Row],[Years of Experience]],vlookUpExp!$A$1:$B$56,2,FALSE)),\"No Response\",VLOOKUP(tblSalaries[[#This Row],[Years of Experience]],vlookUpExp!$A$1:$B$56,2,FALSE))","v":"No Response"}]
[null,"ID0035","2012-05-25T05:01:09","1600 $",19200,"USD",{"$f":"tblSalaries[[#This Row],[clean Salary (in local currency)]]*VLOOKUP(tblSalaries[[#This Row],[Currency]],tblXrate[],2,FALSE)","v":19200},{"$f":"IF($H$1=\"USD\",tblSalaries[[#This Row],[Salary in USD]],tblSalaries[[#This Row],[Salary in USD]]*VLOOKUP($H$1,USDtoUserChoice,2,FALSE))","v":157478.016},"Analyst","Analyst","Poland",{"$f":"VLOOKUP(tblSalaries[[#This Row],[Where do you work]],tblCountries[[Actual]:[Mapping]],2,FALSE)","v":"Poland"},"2 to 3 hours per day",{"$f":"NA()","v":{"$error":"#N/A"}},{"$f":"IF(ISNA(VLOOKUP(tblSalaries[[#This Row],[Years of Experience]],vlookUpExp!$A$1:$B$56,2,FALSE)),\"No Response\",VLOOKUP(tblSalaries[[#This Row],[Years of Experience]],vlookUpExp!$A$1:$B$56,2,FALSE))","v":"No Response"}]
[null,"ID0036","2012-05-25T05:04:12",500000,500000,"INR",{"$f":"tblSalaries[[#This Row],[clean Salary (in local currency)]]*VLOOKUP(tblSalaries[[#This Row],[Currency]],tblXrate[],2,FALSE)","v":8903.9583437212841},{"$f":"IF($H$1=\"USD\",tblSalaries[[#This Row],[Salary in USD]],tblSalaries[[#This Row],[Salary in USD]]*VLOOKUP($H$1,USDtoUserChoice,2,FALSE))","v":73030.088256035102},"Senior Consultant","Consultant","India",{"$f":"VLOOKUP(tblSalaries[[#This Row],[Where do you work]],tblCountries[[Actual]:[Mapping]],2,FALSE)","v":"India"},"All the 8 hours baby, all the 8!",{"$f":"NA()","v":{"$error":"#N/A"}},{"$f":"IF(ISNA(VLOOKUP(tblSalaries[[#This Row],[Years of Experience]],vlookUpExp!$A$1:$B$56,2,FALSE)),\"No Response\",VLOOKUP(tblSalaries[[#This Row],[Years of Experience]],vlookUpExp!$A$1:$B$56,2,FALSE))","v":"No Response"}]
[null,"ID0037","2012-05-25T05:07:31",150000,150000,"USD",{"$f":"tblSalaries[[#This Row],[clean Salary (in local currency)]]*VLOOKUP(tblSalaries[[#This Row],[Currency]],tblXrate[],2,FALSE)","v":150000},{"$f":"IF($H$1=\"USD\",tblSalaries[[#This Row],[Salary in USD]],tblSalaries[[#This Row],[Salary in USD]]*VLOOKUP($H$1,USDtoUserChoice,2,FALSE))","v":1230297},"Portfolio Manager","Manager","USA",{"$f":"VLOOKUP(tblSalaries[[#This Row],[Where do you work]],tblCountries[[Actual]:[Mapping]],2,FALSE)","v":"USA"},"2 to 3 hours per day",{"$f":"NA()","v":{"$error":"#N/A"}},{"$f":"IF(ISNA(VLOOKUP(tblSalaries[[#This Row],[Years of Experience]],vlookUpExp!$A$1:$B$56,2,FALSE)),\"No Response\",VLOOKUP(tblSalaries[[#This Row],[Years of Experience]],vlookUpExp!$A$1:$B$56,2,FALSE))","v":"No Response"}]
[null,"ID0038","2012-05-25T05:10:29",69000,69000,"USD",{"$f":"tblSalaries[[#This Row],[clean Salary (in local currency)]]*VLOOKUP(tblSalaries[[#This Row],[Currency]],tblXrate[],2,FALSE)","v":69000},{"$f":"IF($H$1=\"USD\",tblSalaries[[#This Row],[Salary in USD]],tblSalaries[[#This Row],[Salary in USD]]*VLOOKUP($H$1,USDtoUserChoice,2,FALSE))","v":565936.62},"Design Engineer","Engineer","USA",{"$f":"VLOOKUP(tblSalaries[[#This Row],[Where do you work]],tblCountries[[Actual]:[Mapping]],2,FALSE)","v":"USA"},"4 to 6 hours a day",{"$f":"NA()","v":{"$error":"#N/A"}},{"$f":"IF(ISNA(VLOOKUP(tblSalaries[[#This Row],[Years of Experience]],vlookUpExp!$A$1:$B$56,2,FALSE)),\"No Response\",VLOOKUP(tblSalaries[[#This Row],[Years of Experience]],vlookUpExp!$A$1:$B$56,2,FALSE))","v":"No Response"}]
[null,"ID0039","2012-05-25T05:11:37",30000,30000,"USD",{"$f":"tblSalaries[[#This Row],[clean Salary (in local currency)]]*VLOOKUP(tblSalaries[[#This Row],[Currency]],tblXrate[],2,FALSE)","v":30000},{"$f":"IF($H$1=\"USD\",tblSalaries[[#This Row],[Salary in USD]],tblSalaries[[#This Row],[Salary in USD]]*VLOOKUP($H$1,USDtoUserChoice,2,FALSE))","v":246059.40000000002},"Academic Advisor","Consultant","USA",{"$f":"VLOOKUP(tblSalaries[[#This Row],[Where do you work]],tblCountries[[Actual]:[Mapping]],2,FALSE)","v":"USA"},"2 to 3 hours per day",{"$f":"NA()","v":{"$error":"#N/A"}},{"$f":"IF(ISNA(VLOOKUP(tblSalaries[[#This Row],[Years of Experience]],vlookUpExp!$A$1:$B$56,2,FALSE)),\"No Response\",VLOOKUP(tblSalaries[[#This Row],[Years of Experience]],vlookUpExp!$A$1:$B$56,2,FALSE))","v":"No Response"}]
[null,"ID0040","2012-05-25T05:13:50","Rs. 400000",400000,"INR",{"$f":"tblSalaries[[#This Row],[clean Salary (in local currency)]]*VLOOKUP(tblSalaries[[#This Row],[Currency]],tblXrate[],2,FALSE)","v":7123.1666749770275},{"$f":"IF($H$1=\"USD\",tblSalaries[[#This Row],[Salary in USD]],tblSalaries[[#This Row],[Salary in USD]]*VLOOKUP($H$1,USDtoUserChoice,2,FALSE))","v":58424.070604828084},"Coordination","Manager","India",{"$f":"VLOOKUP(tblSalaries[[#This Row],[Where do you work]],tblCountries[[Actual]:[Mapping]],2,FALSE)","v":"India"},"4 to 6 hours a day",{"$f":"NA()","v":{"$error":"#N/A"}},{"$f":"IF(ISNA(VLOOKUP(tblSalaries[[#This Row],[Years of Experience]],vlookUpExp!$A$1:$B$56,2,FALSE)),\"No Response\",VLOOKUP(tblSalaries[[#This Row],[Years of Experience]],vlookUpExp!$A$1:$B$56,2,FALSE))","v":"No Response"}]
[null,"ID0041","2012-05-25T05:18:48",70000,70000,"AUD",{"$f":"tblSalaries[[#This Row],[clean Salary (in local currency)]]*VLOOKUP(tblSalaries[[#This Row],[Currency]],tblXrate[],2,FALSE)","v":71393.675948184507},{"$f":"IF($H$1=\"USD\",tblSalaries[[#This Row],[Salary in USD]],tblSalaries[[#This Row],[Salary in USD]]*VLOOKUP($H$1,USDtoUserChoice,2,FALSE))","v":585569.50225349038},"consultant","Consultant","Australia",{"$f":"VLOOKUP(tblSalaries[[#This Row],[Where do you work]],tblCountries[[Actual]:[Mapping]],2,FALSE)","v":"Australia"},"2 to 3 hours per day",{"$f":"NA()","v":{"$error":"#N/A"}},{"$f":"IF(ISNA(VLOOKUP(tblSalaries[[#This Row],[Years of Experience]],vlookUpExp!$A$1:$B$56,2,FALSE)),\"No Response\",VLOOKUP(tblSalaries[[#This Row],[Years of Experience]],vlookUpExp!$A$1:$B$56,2,FALSE))","v":"No Response"}]
[null,"ID0042","2012-05-25T05:20:10",14500,14500,"USD",{"$f":"tblSalaries[[#This Row],[clean Salary (in local currency)]]*VLOOKUP(tblSalaries[[#This Row],[Currency]],tblXrate[],2,FALSE)","v":14500},{"$f":"IF($H$1=\"USD\",tblSalaries[[#This Row],[Salary in USD]],tblSalaries[[#This Row],[Salary in USD]]*VLOOKUP($H$1,USDtoUserChoice,2,FALSE))","v":118928.71},"Business Analsyt","Analyst","India",{"$f":"VLOOKUP(tblSalaries[[#This Row],[Where do you work]],tblCountries[[Actual]:[Mapping]],2,FALSE)","v":"India"},"4 to 6 hours a day",{"$f":"NA()","v":{"$error":"#N/A"}},{"$f":"IF(ISNA(VLOOKUP(tblSalaries[[#This Row],[Years of Experience]],vlookUpExp!$A$1:$B$56,2,FALSE)),\"No Response\",VLOOKUP(tblSalaries[[#This Row],[Years of Experience]],vlookUpExp!$A$1:$B$56,2,FALSE))","v":"No Response"}]
[null,"ID0043","2012-05-25T05:30:39",70000,70000,"CAD",{"$f":"tblSalaries[[#This Row],[clean Salary (in local currency)]]*VLOOKUP(tblSalaries[[#This Row],[Currency]],tblXrate[],2,FALSE)","v":68835.306612122877},{"$f":"IF($H$1=\"USD\",tblSalaries[[#This Row],[Salary in USD]],tblSalaries[[#This Row],[Salary in USD]]*VLOOKUP($H$1,USDtoUserChoice,2,FALSE))","v":564585.80812649964},"Product Engineer","Engineer","Canada",{"$f":"VLOOKUP(tblSalaries[[#This Row],[Where do you work]],tblCountries[[Actual]:[Mapping]],2,FALSE)","v":"Canada"},"2 to 3 hours per day",{"$f":"NA()","v":{"$error":"#N/A"}},{"$f":"IF(ISNA(VLOOKUP(tblSalaries[[#This Row],[Years of Experience]],vlookUpExp!$A$1:$B$56,2,FALSE)),\"No Response\",VLOOKUP(tblSalaries[[#This Row],[Years of Experience]],vlookUpExp!$A$1:$B$56,2,FALSE))","v":"No Response"}]
[null,"ID0044","2012-05-25T05:35:28",58000,58000,"USD",{"$f":"tblSalaries[[#This Row],[clean Salary (in local currency)]]*VLOOKUP(tblSalaries[[#This Row],[Currency]],tblXrate[],2,FALSE)","v":58000},{"$f":"IF($H$1=\"USD\",tblSalaries[[#This Row],[Salary in USD]],tblSalaries[[#This Row],[Salary in USD]]*VLOOKUP($H$1,USDtoUserChoice,2,FALSE))","v":475714.84},"Senior Accountant","Accountant","USA",{"$f":"VLOOKUP(tblSalaries[[#This Row],[Where do you work]],tblCountries[[Actual]:[Mapping]],2,FALSE)","v":"USA"},"4 to 6 hours a day",{"$f":"NA()","v":{"$error":"#N/A"}},{"$f":"IF(ISNA(VLOOKUP(tblSalaries[[#This Row],[Years of Experience]],vlookUpExp!$A$1:$B$56,2,FALSE)),\"No Response\",VLOOKUP(tblSalaries[[#This Row],[Years of Experience]],vlookUpExp!$A$1:$B$56,2,FALSE))","v":"No Response"}]
[null,"ID0045","2012-05-25T05:45:01",90000,90000,"USD",{"$f":"tblSalaries[[#This Row],[clean Salary (in local currency)]]*VLOOKUP(tblSalaries[[#This Row],[Currency]],tblXrate[],2,FALSE)","v":90000},{"$f":"IF($H$1=\"USD\",tblSalaries[[#This Row],[Salary in USD]],tblSalaries[[#This Row],[Salary in USD]]*VLOOKUP($H$1,USDtoUserChoice,2,FALSE))","v":738178.20000000007},"Scientist","Misc.","USA",{"$f":"VLOOKUP(tblSalaries[[#This Row],[Where do you work]],tblCountries[[Actual]:[Mapping]],2,FALSE)","v":"USA"},"1 or 2 hours a day",{"$f":"NA()","v":{"$error":"#N/A"}},{"$f":"IF(ISNA(VLOOKUP(tblSalaries[[#This Row],[Years of Experience]],vlookUpExp!$A$1:$B$56,2,FALSE)),\"No Response\",VLOOKUP(tblSalaries[[#This Row],[Years of Experience]],vlookUpExp!$A$1:$B$56,2,FALSE))","v":"No Response"}]
[null,"ID0046","2012-05-25T05:46:47",800000,800000,"INR",{"$f":"tblSalaries[[#This Row],[clean Salary (in local currency)]]*VLOOKUP(tblSalaries[[#This Row],[Currency]],tblXrate[],2,FALSE)","v":14246.333349954055},{"$f":"IF($H$1=\"USD\",tblSalaries[[#This Row],[Salary in USD]],tblSalaries[[#This Row],[Salary in USD]]*VLOOKUP($H$1,USDtoUserChoice,2,FALSE))","v":116848.14120965617},"Team Lead","Manager","India",{"$f":"VLOOKUP(tblSalaries[[#This Row],[Where do you work]],tblCountries[[Actual]:[Mapping]],2,FALSE)","v":"India"},"2 to 3 hours per day",{"$f":"NA()","v":{"$error":"#N/A"}},{"$f":"IF(ISNA(VLOOKUP(tblSalaries[[#This Row],[Years of Experience]],vlookUpExp!$A$1:$B$56,2,FALSE)),\"No Response\",VLOOKUP(tblSalaries[[#This Row],[Years of Experience]],vlookUpExp!$A$1:$B$56,2,FALSE))","v":"No Response"}]
[null,"ID0047","2012-05-25T05:47:10",32000,32000,"GBP",{"$f":"tblSalaries[[#This Row],[clean Salary (in local currency)]]*VLOOKUP(tblSalaries[[#This Row],[Currency]],tblXrate[],2,FALSE)","v":50437.70470615309},{"$f":"IF($H$1=\"USD\",tblSalaries[[#This Row],[Salary in USD]],tblSalaries[[#This Row],[Salary in USD]]*VLOOKUP($H$1,USDtoUserChoice,2,FALSE))","v":413689.04524577357},"Senior intelligence analyst","Analyst","UK",{"$f":"VLOOKUP(tblSalaries[[#This Row],[Where do you work]],tblCountries[[Actual]:[Mapping]],2,FALSE)","v":"UK"},"4 to 6 hours a day",{"$f":"NA()","v":{"$error":"#N/A"}},{"$f":"IF(ISNA(VLOOKUP(tblSalaries[[#This Row],[Years of Experience]],vlookUpExp!$A$1:$B$56,2,FALSE)),\"No Response\",VLOOKUP(tblSalaries[[#This Row],[Years of Experience]],vlookUpExp!$A$1:$B$56,2,FALSE))","v":"No Response"}]
[null,"ID0048","2012-05-25T05:47:52",1000,12000,"USD",{"$f":"tblSalaries[[#This Row],[clean Salary (in local currency)]]*VLOOKUP(tblSalaries[[#This Row],[Currency]],tblXrate[],2,FALSE)","v":12000},{"$f":"IF($H$1=\"USD\",tblSalaries[[#This Row],[Salary in USD]],tblSalaries[[#This Row],[Salary in USD]]*VLOOKUP($H$1,USDtoUserChoice,2,FALSE))","v":98423.760000000009},"Freelance consultant","Consultant","USA",{"$f":"VLOOKUP(tblSalaries[[#This Row],[Where do you work]],tblCountries[[Actual]:[Mapping]],2,FALSE)","v":"USA"},"1 or 2 hours a day",{"$f":"NA()","v":{"$error":"#N/A"}},{"$f":"IF(ISNA(VLOOKUP(tblSalaries[[#This Row],[Years of Experience]],vlookUpExp!$A$1:$B$56,2,FALSE)),\"No Response\",VLOOKUP(tblSalaries[[#This Row],[Years of Experience]],vlookUpExp!$A$1:$B$56,2,FALSE))","v":"No Response"}]
[null,"ID0049","2012-05-25T06:04:42","â‚¬ 45",45000,"EUR",{"$f":"tblSalaries[[#This Row],[clean Salary (in local currency)]]*VLOOKUP(tblSalaries[[#This Row],[Currency]],tblXrate[],2,FALSE)","v":57167.974754622352},{"$f":"IF($H$1=\"USD\",tblSalaries[[#This Row],[Salary in USD]],tblSalaries[[#This Row],[Salary in USD]]*VLOOKUP($H$1,USDtoUserChoice,2,FALSE))","v":468890.58557791746},"Online Traffic Manager / Web Analist","Manager","The Netherlands",{"$f":"VLOOKUP(tblSalaries[[#This Row],[Where do you work]],tblCountries[[Actual]:[Mapping]],2,FALSE)","v":"Netherlands"},"4 to 6 hours a day",{"$f":"NA()","v":{"$error":"#N/A"}},{"$f":"IF(ISNA(VLOOKUP(tblSalaries[[#This Row],[Years of Experience]],vlookUpExp!$A$1:$B$56,2,FALSE)),\"No Response\",VLOOKUP(tblSalaries[[#This Row],[Years of Experience]],vlookUpExp!$A$1:$B$56,2,FALSE))","v":"No Response"}]
[null,"ID0050","2012-05-25T06:04:57","100000 USD",100000,"USD",{"$f":"tblSalaries[[#This Row],[clean Salary (in local currency)]]*VLOOKUP(tblSalaries[[#This Row],[Currency]],tblXrate[],2,FALSE)","v":100000},{"$f":"IF($H$1=\"USD\",tblSalaries[[#This Row],[Salary in USD]],tblSalaries[[#This Row],[Salary in USD]]*VLOOKUP($H$1,USDtoUserChoice,2,FALSE))","v":820198.00000000012},"Seinor Financial Analyst","Analyst","Germany",{"$f":"VLOOKUP(tblSalaries[[#This Row],[Where do you work]],tblCountries[[Actual]:[Mapping]],2,FALSE)","v":"Germany"},"All the 8 hours baby, all the 8!",{"$f":"NA()","v":{"$error":"#N/A"}},{"$f":"IF(ISNA(VLOOKUP(tblSalaries[[#This Row],[Years of Experience]],vlookUpExp!$A$1:$B$56,2,FALSE)),\"No Response\",VLOOKUP(tblSalaries[[#This Row],[Years of Experience]],vlookUpExp!$A$1:$B$56,2,FALSE))","v":"No Response"}]
[null,"ID0051","2012-05-25T06:05:17",57000,57000,"USD",{"$f":"tblSalaries[[#This Row],[clean Salary (in local currency)]]*VLOOKUP(tblSalaries[[#This Row],[Currency]],tblXrate[],2,FALSE)","v":57000},{"$f":"IF($H$1=\"USD\",tblSalaries[[#This Row],[Salary in USD]],tblSalaries[[#This Row],[Salary in USD]]*VLOOKUP($H$1,USDtoUserChoice,2,FALSE))","v":467512.86000000004},"Senior Accounting Supervisor","Accountant","USA",{"$f":"VLOOKUP(tblSalaries[[#This Row],[Where do you work]],tblCountries[[Actual]:[Mapping]],2,FALSE)","v":"USA"},"2 to 3 hours per day",{"$f":"NA()","v":{"$error":"#N/A"}},{"$f":"IF(ISNA(VLOOKUP(tblSalaries[[#This Row],[Years of Experience]],vlookUpExp!$A$1:$B$56,2,FALSE)),\"No Response\",VLOOKUP(tblSalaries[[#This Row],[Years of Experience]],vlookUpExp!$A$1:$B$56,2,FALSE))","v":"No Response"}]
[null,"ID0052","2012-05-25T06:07:15",40000,40000,"GBP",{"$f":"tblSalaries[[#This Row],[clean Salary (in local currency)]]*VLOOKUP(tblSalaries[[#This Row],[Currency]],tblXrate[],2,FALSE)","v":63047.130882691366},{"$f":"IF($H$1=\"USD\",tblSalaries[[#This Row],[Salary in USD]],tblSalaries[[#This Row],[Salary in USD]]*VLOOKUP($H$1,USDtoUserChoice,2,FALSE))","v":517111.30655721697},"Senior Accountant","Accountant","UK",{"$f":"VLOOKUP(tblSalaries[[#This Row],[Where do you work]],tblCountries[[Actual]:[Mapping]],2,FALSE)","v":"UK"},"4 to 6 hours a day",{"$f":"NA()","v":{"$error":"#N/A"}},{"$f":"IF(ISNA(VLOOKUP(tblSalaries[[#This Row],[Years of Experience]],vlookUpExp!$A$1:$B$56,2,FALSE)),\"No Response\",VLOOKUP(tblSalaries[[#This Row],[Years of Experience]],vlookUpExp!$A$1:$B$56,2,FALSE))","v":"No Response"}]
[null,"ID0053","2012-05-25T06:09:44","2000 Euros",24000,"EUR",{"$f":"tblSalaries[[#This Row],[clean Salary (in local currency)]]*VLOOKUP(tblSalaries[[#This Row],[Currency]],tblXrate[],2,FALSE)","v":30489.586535798586},{"$f":"IF($H$1=\"USD\",tblSalaries[[#This Row],[Salary in USD]],tblSalaries[[#This Row],[Salary in USD]]*VLOOKUP($H$1,USDtoUserChoice,2,FALSE))","v":250074.97897488929},"PPC Manager","Manager","Germany",{"$f":"VLOOKUP(tblSalaries[[#This Row],[Where do you work]],tblCountries[[Actual]:[Mapping]],2,FALSE)","v":"Germany"},"All the 8 hours baby, all the 8!",{"$f":"NA()","v":{"$error":"#N/A"}},{"$f":"IF(ISNA(VLOOKUP(tblSalaries[[#This Row],[Years of Experience]],vlookUpExp!$A$1:$B$56,2,FALSE)),\"No Response\",VLOOKUP(tblSalaries[[#This Row],[Years of Experience]],vlookUpExp!$A$1:$B$56,2,FALSE))","v":"No Response"}]
[null,"ID0054","2012-05-25T06:10:18",4320,4320,"USD",{"$f":"tblSalaries[[#This Row],[clean Salary (in local currency)]]*VLOOKUP(tblSalaries[[#This Row],[Currency]],tblXrate[],2,FALSE)","v":4320},{"$f":"IF($H$1=\"USD\",tblSalaries[[#This Row],[Salary in USD]],tblSalaries[[#This Row],[Salary in USD]]*VLOOKUP($H$1,USDtoUserChoice,2,FALSE))","v":35432.553600000007},"Financial Planner","Accountant","India",{"$f":"VLOOKUP(tblSalaries[[#This Row],[Where do you work]],tblCountries[[Actual]:[Mapping]],2,FALSE)","v":"India"},"2 to 3 hours per day",{"$f":"NA()","v":{"$error":"#N/A"}},{"$f":"IF(ISNA(VLOOKUP(tblSalaries[[#This Row],[Years of Experience]],vlookUpExp!$A$1:$B$56,2,FALSE)),\"No Response\",VLOOKUP(tblSalaries[[#This Row],[Years of Experience]],vlookUpExp!$A$1:$B$56,2,FALSE))","v":"No Response"}]
[null,"ID0055","2012-05-25T06:15:42",62000,62000,"USD",{"$f":"tblSalaries[[#This Row],[clean Salary (in local currency)]]*VLOOKUP(tblSalaries[[#This Row],[Currency]],tblXrate[],2,FALSE)","v":62000},{"$f":"IF($H$1=\"USD\",tblSalaries[[#This Row],[Salary in USD]],tblSalaries[[#This Row],[Salary in USD]]*VLOOKUP($H$1,USDtoUserChoice,2,FALSE))","v":508522.76000000007},"Analyst","Analyst","USA",{"$f":"VLOOKUP(tblSalaries[[#This Row],[Where do you work]],tblCountries[[Actual]:[Mapping]],2,FALSE)","v":"USA"},"4 to 6 hours a day",{"$f":"NA()","v":{"$error":"#N/A"}},{"$f":"IF(ISNA(VLOOKUP(tblSalaries[[#This Row],[Years of Experience]],vlookUpExp!$A$1:$B$56,2,FALSE)),\"No Response\",VLOOKUP(tblSalaries[[#This Row],[Years of Experience]],vlookUpExp!$A$1:$B$56,2,FALSE))","v":"No Response"}]
[null,"ID0056","2012-05-25T06:26:44",7500,7500,"USD",{"$f":"tblSalaries[[#This Row],[clean Salary (in local currency)]]*VLOOKUP(tblSalaries[[#This Row],[Currency]],tblXrate[],2,FALSE)","v":7500},{"$f":"IF($H$1=\"USD\",tblSalaries[[#This Row],[Salary in USD]],tblSalaries[[#This Row],[Salary in USD]]*VLOOKUP($H$1,USDtoUserChoice,2,FALSE))","v":61514.850000000006},"Analyst","Analyst","India",{"$f":"VLOOKUP(tblSalaries[[#This Row],[Where do you work]],tblCountries[[Actual]:[Mapping]],2,FALSE)","v":"India"},"4 to 6 hours a day",{"$f":"NA()","v":{"$error":"#N/A"}},{"$f":"IF(ISNA(VLOOKUP(tblSalaries[[#This Row],[Years of Experience]],vlookUpExp!$A$1:$B$56,2,FALSE)),\"No Response\",VLOOKUP(tblSalaries[[#This Row],[Years of Experience]],vlookUpExp!$A$1:$B$56,2,FALSE))","v":"No Response"}]
[null,"ID0057","2012-05-25T06:27:29","Â£18000",18000,"GBP",{"$f":"tblSalaries[[#This Row],[clean Salary (in local currency)]]*VLOOKUP(tblSalaries[[#This Row],[Currency]],tblXrate[],2,FALSE)","v":28371.208897211112},{"$f":"IF($H$1=\"USD\",tblSalaries[[#This Row],[Salary in USD]],tblSalaries[[#This Row],[Salary in USD]]*VLOOKUP($H$1,USDtoUserChoice,2,FALSE))","v":232700.08795074761},"Building Design and Performance Researcher","Manager","UK",{"$f":"VLOOKUP(tblSalaries[[#This Row],[Where do you work]],tblCountries[[Actual]:[Mapping]],2,FALSE)","v":"UK"},"1 or 2 hours a day",{"$f":"NA()","v":{"$error":"#N/A"}},{"$f":"IF(ISNA(VLOOKUP(tblSalaries[[#This Row],[Years of Experience]],vlookUpExp!$A$1:$B$56,2,FALSE)),\"No Response\",VLOOKUP(tblSalaries[[#This Row],[Years of Experience]],vlookUpExp!$A$1:$B$56,2,FALSE))","v":"No Response"}]
[null,"ID0058","2012-05-25T06:49:25",49000,49000,"EUR",{"$f":"tblSalaries[[#This Row],[clean Salary (in local currency)]]*VLOOKUP(tblSalaries[[#This Row],[Currency]],tblXrate[],2,FALSE)","v":62249.572510588783},{"$f":"IF($H$1=\"USD\",tblSalaries[[#This Row],[Salary in USD]],tblSalaries[[#This Row],[Salary in USD]]*VLOOKUP($H$1,USDtoUserChoice,2,FALSE))","v":510569.74874039902},"Project leader","Manager","France",{"$f":"VLOOKUP(tblSalaries[[#This Row],[Where do you work]],tblCountries[[Actual]:[Mapping]],2,FALSE)","v":"France"},"2 to 3 hours per day",{"$f":"NA()","v":{"$error":"#N/A"}},{"$f":"IF(ISNA(VLOOKUP(tblSalaries[[#This Row],[Years of Experience]],vlookUpExp!$A$1:$B$56,2,FALSE)),\"No Response\",VLOOKUP(tblSalaries[[#This Row],[Years of Experience]],vlookUpExp!$A$1:$B$56,2,FALSE))","v":"No Response"}]
[null,"ID0059","2012-05-25T06:57:52",38000,38000,"USD",{"$f":"tblSalaries[[#This Row],[clean Salary (in local currency)]]*VLOOKUP(tblSalaries[[#This Row],[Currency]],tblXrate[],2,FALSE)","v":38000},{"$f":"IF($H$1=\"USD\",tblSalaries[[#This Row],[Salary in USD]],tblSalaries[[#This Row],[Salary in USD]]*VLOOKUP($H$1,USDtoUserChoice,2,FALSE))","v":311675.24000000005},"Senior Analyst","Analyst","USA",{"$f":"VLOOKUP(tblSalaries[[#This Row],[Where do you work]],tblCountries[[Actual]:[Mapping]],2,FALSE)","v":"USA"},"4 to 6 hours a day",{"$f":"NA()","v":{"$error":"#N/A"}},{"$f":"IF(ISNA(VLOOKUP(tblSalaries[[#This Row],[Years of Experience]],vlookUpExp!$A$1:$B$56,2,FALSE)),\"No Response\",VLOOKUP(tblSalaries[[#This Row],[Years of Experience]],vlookUpExp!$A$1:$B$56,2,FALSE))","v":"No Response"}]
[null,"ID0060","2012-05-25T07:00:52",41000,41000,"USD",{"$f":"tblSalaries[[#This Row],[clean Salary (in local currency)]]*VLOOKUP(tblSalaries[[#This Row],[Currency]],tblXrate[],2,FALSE)","v":41000},{"$f":"IF($H$1=\"USD\",tblSalaries[[#This Row],[Salary in USD]],tblSalaries[[#This Row],[Salary in USD]]*VLOOKUP($H$1,USDtoUserChoice,2,FALSE))","v":336281.18000000005},"Specialist","Specialist","USA",{"$f":"VLOOKUP(tblSalaries[[#This Row],[Where do you work]],tblCountries[[Actual]:[Mapping]],2,FALSE)","v":"USA"},"4 to 6 hours a day",{"$f":"NA()","v":{"$error":"#N/A"}},{"$f":"IF(ISNA(VLOOKUP(tblSalaries[[#This Row],[Years of Experience]],vlookUpExp!$A$1:$B$56,2,FALSE)),\"No Response\",VLOOKUP(tblSalaries[[#This Row],[Years of Experience]],vlookUpExp!$A$1:$B$56,2,FALSE))","v":"No Response"}]
[null,"ID0061","2012-05-25T07:11:09",68000,68000,"USD",{"$f":"tblSalaries[[#This Row],[clean Salary (in local currency)]]*VLOOKUP(tblSalaries[[#This Row],[Currency]],tblXrate[],2,FALSE)","v":68000},{"$f":"IF($H$1=\"USD\",tblSalaries[[#This Row],[Salary in USD]],tblSalaries[[#This Row],[Salary in USD]]*VLOOKUP($H$1,USDtoUserChoice,2,FALSE))","v":557734.64},"Engineering Data Analyst","Analyst","USA",{"$f":"VLOOKUP(tblSalaries[[#This Row],[Where do you work]],tblCountries[[Actual]:[Mapping]],2,FALSE)","v":"USA"},"All the 8 hours baby, all the 8!",{"$f":"NA()","v":{"$error":"#N/A"}},{"$f":"IF(ISNA(VLOOKUP(tblSalaries[[#This Row],[Years of Experience]],vlookUpExp!$A$1:$B$56,2,FALSE)),\"No Response\",VLOOKUP(tblSalaries[[#This Row],[Years of Experience]],vlookUpExp!$A$1:$B$56,2,FALSE))","v":"No Response"}]
[null,"ID0062","2012-05-25T07:13:31",56000,56000,"CAD",{"$f":"tblSalaries[[#This Row],[clean Salary (in local currency)]]*VLOOKUP(tblSalaries[[#This Row],[Currency]],tblXrate[],2,FALSE)","v":55068.245289698301},{"$f":"IF($H$1=\"USD\",tblSalaries[[#This Row],[Salary in USD]],tblSalaries[[#This Row],[Salary in USD]]*VLOOKUP($H$1,USDtoUserChoice,2,FALSE))","v":451668.64650119969},"Sales Analyst","Analyst","CANADA",{"$f":"VLOOKUP(tblSalaries[[#This Row],[Where do you work]],tblCountries[[Actual]:[Mapping]],2,FALSE)","v":"Canada"},"All the 8 hours baby, all the 8!",{"$f":"NA()","v":{"$error":"#N/A"}},{"$f":"IF(ISNA(VLOOKUP(tblSalaries[[#This Row],[Years of Experience]],vlookUpExp!$A$1:$B$56,2,FALSE)),\"No Response\",VLOOKUP(tblSalaries[[#This Row],[Years of Experience]],vlookUpExp!$A$1:$B$56,2,FALSE))","v":"No Response"}]
[null,"ID0063","2012-05-25T07:15:12",61000,61000,"USD",{"$f":"tblSalaries[[#This Row],[clean Salary (in local currency)]]*VLOOKUP(tblSalaries[[#This Row],[Currency]],tblXrate[],2,FALSE)","v":61000},{"$f":"IF($H$1=\"USD\",tblSalaries[[#This Row],[Salary in USD]],tblSalaries[[#This Row],[Salary in USD]]*VLOOKUP($H$1,USDtoUserChoice,2,FALSE))","v":500320.78},"Coordinator Of Costa and Buget","Manager","Brasil",{"$f":"VLOOKUP(tblSalaries[[#This Row],[Where do you work]],tblCountries[[Actual]:[Mapping]],2,FALSE)","v":"Brasil"},"All the 8 hours baby, all the 8!",{"$f":"NA()","v":{"$error":"#N/A"}},{"$f":"IF(ISNA(VLOOKUP(tblSalaries[[#This Row],[Years of Experience]],vlookUpExp!$A$1:$B$56,2,FALSE)),\"No Response\",VLOOKUP(tblSalaries[[#This Row],[Years of Experience]],vlookUpExp!$A$1:$B$56,2,FALSE))","v":"No Response"}]
[null,"ID0064","2012-05-25T07:18:53",43000,43000,"EUR",{"$f":"tblSalaries[[#This Row],[clean Salary (in local currency)]]*VLOOKUP(tblSalaries[[#This Row],[Currency]],tblXrate[],2,FALSE)","v":54627.175876639136},{"$f":"IF($H$1=\"USD\",tblSalaries[[#This Row],[Salary in USD]],tblSalaries[[#This Row],[Salary in USD]]*VLOOKUP($H$1,USDtoUserChoice,2,FALSE))","v":448051.00399667671},"SAP consultant","Consultant","FR",{"$f":"VLOOKUP(tblSalaries[[#This Row],[Where do you work]],tblCountries[[Actual]:[Mapping]],2,FALSE)","v":"France"},"4 to 6 hours a day",{"$f":"NA()","v":{"$error":"#N/A"}},{"$f":"IF(ISNA(VLOOKUP(tblSalaries[[#This Row],[Years of Experience]],vlookUpExp!$A$1:$B$56,2,FALSE)),\"No Response\",VLOOKUP(tblSalaries[[#This Row],[Years of Experience]],vlookUpExp!$A$1:$B$56,2,FALSE))","v":"No Response"}]
[null,"ID0065","2012-05-25T07:20:08",85000,85000,"USD",{"$f":"tblSalaries[[#This Row],[clean Salary (in local currency)]]*VLOOKUP(tblSalaries[[#This Row],[Currency]],tblXrate[],2,FALSE)","v":85000},{"$f":"IF($H$1=\"USD\",tblSalaries[[#This Row],[Salary in USD]],tblSalaries[[#This Row],[Salary in USD]]*VLOOKUP($H$1,USDtoUserChoice,2,FALSE))","v":697168.3},"Manager","Manager","USA",{"$f":"VLOOKUP(tblSalaries[[#This Row],[Where do you work]],tblCountries[[Actual]:[Mapping]],2,FALSE)","v":"USA"},"4 to 6 hours a day",{"$f":"NA()","v":{"$error":"#N/A"}},{"$f":"IF(ISNA(VLOOKUP(tblSalaries[[#This Row],[Years of Experience]],vlookUpExp!$A$1:$B$56,2,FALSE)),\"No Response\",VLOOKUP(tblSalaries[[#This Row],[Years of Experience]],vlookUpExp!$A$1:$B$56,2,FALSE))","v":"No Response"}]
[null,"ID0066","2012-05-25T07:21:18","â‚¬ 38000",38000,"EUR",{"$f":"tblSalaries[[#This Row],[clean Salary (in local currency)]]*VLOOKUP(tblSalaries[[#This Row],[Currency]],tblXrate[],2,FALSE)","v":48275.178681681093},{"$f":"IF($H$1=\"USD\",tblSalaries[[#This Row],[Salary in USD]],tblSalaries[[#This Row],[Salary in USD]]*VLOOKUP($H$1,USDtoUserChoice,2,FALSE))","v":395952.05004357471},"busines analist","Analyst","The Netherlands",{"$f":"VLOOKUP(tblSalaries[[#This Row],[Where do you work]],tblCountries[[Actual]:[Mapping]],2,FALSE)","v":"Netherlands"},"1 or 2 hours a day",{"$f":"NA()","v":{"$error":"#N/A"}},{"$f":"IF(ISNA(VLOOKUP(tblSalaries[[#This Row],[Years of Experience]],vlookUpExp!$A$1:$B$56,2,FALSE)),\"No Response\",VLOOKUP(tblSalaries[[#This Row],[Years of Experience]],vlookUpExp!$A$1:$B$56,2,FALSE))","v":"No Response"}]
[null,"ID0067","2012-05-25T07:25:12",85000,85000,"AUD",{"$f":"tblSalaries[[#This Row],[clean Salary (in local currency)]]*VLOOKUP(tblSalaries[[#This Row],[Currency]],tblXrate[],2,FALSE)","v":86692.320794224041},{"$f":"IF($H$1=\"USD\",tblSalaries[[#This Row],[Salary in USD]],tblSalaries[[#This Row],[Salary in USD]]*VLOOKUP($H$1,USDtoUserChoice,2,FALSE))","v":711048.68130780978},"head of data","CXO or Top Mgmt.","Australia",{"$f":"VLOOKUP(tblSalaries[[#This Row],[Where do you work]],tblCountries[[Actual]:[Mapping]],2,FALSE)","v":"Australia"},"4 to 6 hours a day",{"$f":"NA()","v":{"$error":"#N/A"}},{"$f":"IF(ISNA(VLOOKUP(tblSalaries[[#This Row],[Years of Experience]],vlookUpExp!$A$1:$B$56,2,FALSE)),\"No Response\",VLOOKUP(tblSalaries[[#This Row],[Years of Experience]],vlookUpExp!$A$1:$B$56,2,FALSE))","v":"No Response"}]
[null,"ID0068","2012-05-25T07:29:12",85087,85087,"USD",{"$f":"tblSalaries[[#This Row],[clean Salary (in local currency)]]*VLOOKUP(tblSalaries[[#This Row],[Currency]],tblXrate[],2,FALSE)","v":85087},{"$f":"IF($H$1=\"USD\",tblSalaries[[#This Row],[Salary in USD]],tblSalaries[[#This Row],[Salary in USD]]*VLOOKUP($H$1,USDtoUserChoice,2,FALSE))","v":697881.87226000009},"Business Systems Analyst","Analyst","USA",{"$f":"VLOOKUP(tblSalaries[[#This Row],[Where do you work]],tblCountries[[Actual]:[Mapping]],2,FALSE)","v":"USA"},"2 to 3 hours per day",{"$f":"NA()","v":{"$error":"#N/A"}},{"$f":"IF(ISNA(VLOOKUP(tblSalaries[[#This Row],[Years of Experience]],vlookUpExp!$A$1:$B$56,2,FALSE)),\"No Response\",VLOOKUP(tblSalaries[[#This Row],[Years of Experience]],vlookUpExp!$A$1:$B$56,2,FALSE))","v":"No Response"}]
[null,"ID0069","2012-05-25T07:38:22",50000,50000,"USD",{"$f":"tblSalaries[[#This Row],[clean Salary (in local currency)]]*VLOOKUP(tblSalaries[[#This Row],[Currency]],tblXrate[],2,FALSE)","v":50000},{"$f":"IF($H$1=\"USD\",tblSalaries[[#This Row],[Salary in USD]],tblSalaries[[#This Row],[Salary in USD]]*VLOOKUP($H$1,USDtoUserChoice,2,FALSE))","v":410099.00000000006},"Financial Analyst II","Analyst","USA",{"$f":"VLOOKUP(tblSalaries[[#This Row],[Where do you work]],tblCountries[[Actual]:[Mapping]],2,FALSE)","v":"USA"},"All the 8 hours baby, all the 8!",{"$f":"NA()","v":{"$error":"#N/A"}},{"$f":"IF(ISNA(VLOOKUP(tblSalaries[[#This Row],[Years of Experience]],vlookUpExp!$A$1:$B$56,2,FALSE)),\"No Response\",VLOOKUP(tblSalaries[[#This Row],[Years of Experience]],vlookUpExp!$A$1:$B$56,2,FALSE))","v":"No Response"}]
[null,"ID0070","2012-05-25T07:47:00",100000,100000,"USD",{"$f":"tblSalaries[[#This Row],[clean Salary (in local currency)]]*VLOOKUP(tblSalaries[[#This Row],[Currency]],tblXrate[],2,FALSE)","v":100000},{"$f":"IF($H$1=\"USD\",tblSalaries[[#This Row],[Salary in USD]],tblSalaries[[#This Row],[Salary in USD]]*VLOOKUP($H$1,USDtoUserChoice,2,FALSE))","v":820198.00000000012},"Mngr MI","Manager","RSA",{"$f":"VLOOKUP(tblSalaries[[#This Row],[Where do you work]],tblCountries[[Actual]:[Mapping]],2,FALSE)","v":"South Africa"},"4 to 6 hours a day",{"$f":"NA()","v":{"$error":"#N/A"}},{"$f":"IF(ISNA(VLOOKUP(tblSalaries[[#This Row],[Years of Experience]],vlookUpExp!$A$1:$B$56,2,FALSE)),\"No Response\",VLOOKUP(tblSalaries[[#This Row],[Years of Experience]],vlookUpExp!$A$1:$B$56,2,FALSE))","v":"No Response"}]
[null,"ID0071","2012-05-25T22:49:00",57000,57000,"USD",{"$f":"tblSalaries[[#This Row],[clean Salary (in local currency)]]*VLOOKUP(tblSalaries[[#This Row],[Currency]],tblXrate[],2,FALSE)","v":57000},{"$f":"IF($H$1=\"USD\",tblSalaries[[#This Row],[Salary in USD]],tblSalaries[[#This Row],[Salary in USD]]*VLOOKUP($H$1,USDtoUserChoice,2,FALSE))","v":467512.86000000004},"sales analyst","Analyst","USA",{"$f":"VLOOKUP(tblSalaries[[#This Row],[Where do you work]],tblCountries[[Actual]:[Mapping]],2,FALSE)","v":"USA"},"4 to 6 hours a day",{"$f":"NA()","v":{"$error":"#N/A"}},{"$f":"IF(ISNA(VLOOKUP(tblSalaries[[#This Row],[Years of Experience]],vlookUpExp!$A$1:$B$56,2,FALSE)),\"No Response\",VLOOKUP(tblSalaries[[#This Row],[Years of Experience]],vlookUpExp!$A$1:$B$56,2,FALSE))","v":"No Response"}]
[null,"ID0072","2012-05-25T22:52:28",75000,75000,"USD",{"$f":"tblSalaries[[#This Row],[clean Salary (in local currency)]]*VLOOKUP(tblSalaries[[#This Row],[Currency]],tblXrate[],2,FALSE)","v":75000},{"$f":"IF($H$1=\"USD\",tblSalaries[[#This Row],[Salary in USD]],tblSalaries[[#This Row],[Salary in USD]]*VLOOKUP($H$1,USDtoUserChoice,2,FALSE))","v":615148.5},"Consumer Research Program Manager","Manager","USA",{"$f":"VLOOKUP(tblSalaries[[#This Row],[Where do you work]],tblCountries[[Actual]:[Mapping]],2,FALSE)","v":"USA"},"All the 8 hours baby, all the 8!",{"$f":"NA()","v":{"$error":"#N/A"}},{"$f":"IF(ISNA(VLOOKUP(tblSalaries[[#This Row],[Years of Experience]],vlookUpExp!$A$1:$B$56,2,FALSE)),\"No Response\",VLOOKUP(tblSalaries[[#This Row],[Years of Experience]],vlookUpExp!$A$1:$B$56,2,FALSE))","v":"No Response"}]
[null,"ID0073","2012-05-25T22:59:05","$AUD100000",100000,"AUD",{"$f":"tblSalaries[[#This Row],[clean Salary (in local currency)]]*VLOOKUP(tblSalaries[[#This Row],[Currency]],tblXrate[],2,FALSE)","v":101990.96564026357},{"$f":"IF($H$1=\"USD\",tblSalaries[[#This Row],[Salary in USD]],tblSalaries[[#This Row],[Salary in USD]]*VLOOKUP($H$1,USDtoUserChoice,2,FALSE))","v":836527.86036212905},"technical trainer","Manager","Australia",{"$f":"VLOOKUP(tblSalaries[[#This Row],[Where do you work]],tblCountries[[Actual]:[Mapping]],2,FALSE)","v":"Australia"},"4 to 6 hours a day",{"$f":"NA()","v":{"$error":"#N/A"}},{"$f":"IF(ISNA(VLOOKUP(tblSalaries[[#This Row],[Years of Experience]],vlookUpExp!$A$1:$B$56,2,FALSE)),\"No Response\",VLOOKUP(tblSalaries[[#This Row],[Years of Experience]],vlookUpExp!$A$1:$B$56,2,FALSE))","v":"No Response"}]
[null,"ID0074","2012-05-25T23:01:20",2785,33420,"USD",{"$f":"tblSalaries[[#This Row],[clean Salary (in local currency)]]*VLOOKUP(tblSalaries[[#This Row],[Currency]],tblXrate[],2,FALSE)","v":33420},{"$f":"IF($H$1=\"USD\",tblSalaries[[#This Row],[Salary in USD]],tblSalaries[[#This Row],[Salary in USD]]*VLOOKUP($H$1,USDtoUserChoice,2,FALSE))","v":274110.1716},"Process Flow Coordinator","Manager","United Arab Emirates",{"$f":"VLOOKUP(tblSalaries[[#This Row],[Where do you work]],tblCountries[[Actual]:[Mapping]],2,FALSE)","v":"UAE"},"All the 8 hours baby, all the 8!",{"$f":"NA()","v":{"$error":"#N/A"}},{"$f":"IF(ISNA(VLOOKUP(tblSalaries[[#This Row],[Years of Experience]],vlookUpExp!$A$1:$B$56,2,FALSE)),\"No Response\",VLOOKUP(tblSalaries[[#This Row],[Years of Experience]],vlookUpExp!$A$1:$B$56,2,FALSE))","v":"No Response"}]
[null,"ID0075","2012-05-25T23:03:00",59450,59450,"CAD",{"$f":"tblSalaries[[#This Row],[clean Salary (in local currency)]]*VLOOKUP(tblSalaries[[#This Row],[Currency]],tblXrate[],2,FALSE)","v":58460.842544152933},{"$f":"IF($H$1=\"USD\",tblSalaries[[#This Row],[Salary in USD]],tblSalaries[[#This Row],[Salary in USD]]*VLOOKUP($H$1,USDtoUserChoice,2,FALSE))","v":479494.66133029154},"Process Improvement Specialist","Specialist","Canada",{"$f":"VLOOKUP(tblSalaries[[#This Row],[Where do you work]],tblCountries[[Actual]:[Mapping]],2,FALSE)","v":"Canada"},"All the 8 hours baby, all the 8!",{"$f":"NA()","v":{"$error":"#N/A"}},{"$f":"IF(ISNA(VLOOKUP(tblSalaries[[#This Row],[Years of Experience]],vlookUpExp!$A$1:$B$56,2,FALSE)),\"No Response\",VLOOKUP(tblSalaries[[#This Row],[Years of Experience]],vlookUpExp!$A$1:$B$56,2,FALSE))","v":"No Response"}]
[null,"ID0076","2012-05-25T23:12:29",15000,15000,"USD",{"$f":"tblSalaries[[#This Row],[clean Salary (in local currency)]]*VLOOKUP(tblSalaries[[#This Row],[Currency]],tblXrate[],2,FALSE)","v":15000},{"$f":"IF($H$1=\"USD\",tblSalaries[[#This Row],[Salary in USD]],tblSalaries[[#This Row],[Salary in USD]]*VLOOKUP($H$1,USDtoUserChoice,2,FALSE))","v":123029.70000000001},"Excel Programmer Consultant","Consultant","USA",{"$f":"VLOOKUP(tblSalaries[[#This Row],[Where do you work]],tblCountries[[Actual]:[Mapping]],2,FALSE)","v":"USA"},"All the 8 hours baby, all the 8!",{"$f":"NA()","v":{"$error":"#N/A"}},{"$f":"IF(ISNA(VLOOKUP(tblSalaries[[#This Row],[Years of Experience]],vlookUpExp!$A$1:$B$56,2,FALSE)),\"No Response\",VLOOKUP(tblSalaries[[#This Row],[Years of Experience]],vlookUpExp!$A$1:$B$56,2,FALSE))","v":"No Response"}]
[null,"ID0077","2012-05-25T23:15:34","US $60,000",60000,"USD",{"$f":"tblSalaries[[#This Row],[clean Salary (in local currency)]]*VLOOKUP(tblSalaries[[#This Row],[Currency]],tblXrate[],2,FALSE)","v":60000},{"$f":"IF($H$1=\"USD\",tblSalaries[[#This Row],[Salary in USD]],tblSalaries[[#This Row],[Salary in USD]]*VLOOKUP($H$1,USDtoUserChoice,2,FALSE))","v":492118.80000000005},"Statistical Analyst","Analyst","Canada",{"$f":"VLOOKUP(tblSalaries[[#This Row],[Where do you work]],tblCountries[[Actual]:[Mapping]],2,FALSE)","v":"Canada"},"1 or 2 hours a day",{"$f":"NA()","v":{"$error":"#N/A"}},{"$f":"IF(ISNA(VLOOKUP(tblSalaries[[#This Row],[Years of Experience]],vlookUpExp!$A$1:$B$56,2,FALSE)),\"No Response\",VLOOKUP(tblSalaries[[#This Row],[Years of Experience]],vlookUpExp!$A$1:$B$56,2,FALSE))","v":"No Response"}]
[null,"ID0078","2012-05-25T23:18:45",100000,100000,"GBP",{"$f":"tblSalaries[[#This Row],[clean Salary (in local currency)]]*VLOOKUP(tblSalaries[[#This Row],[Currency]],tblXrate[],2,FALSE)","v":157617.8272067284},{"$f":"IF($H$1=\"USD\",tblSalaries[[#This Row],[Salary in USD]],tblSalaries[[#This Row],[Salary in USD]]*VLOOKUP($H$1,USDtoUserChoice,2,FALSE))","v":1292778.2663930424},"Analyst","Analyst","UK",{"$f":"VLOOKUP(tblSalaries[[#This Row],[Where do you work]],tblCountries[[Actual]:[Mapping]],2,FALSE)","v":"UK"},"2 to 3 hours per day",{"$f":"NA()","v":{"$error":"#N/A"}},{"$f":"IF(ISNA(VLOOKUP(tblSalaries[[#This Row],[Years of Experience]],vlookUpExp!$A$1:$B$56,2,FALSE)),\"No Response\",VLOOKUP(tblSalaries[[#This Row],[Years of Experience]],vlookUpExp!$A$1:$B$56,2,FALSE))","v":"No Response"}]
[null,"ID0079","2012-05-25T23:20:46","Us$ 18000",18000,"USD",{"$f":"tblSalaries[[#This Row],[clean Salary (in local currency)]]*VLOOKUP(tblSalaries[[#This Row],[Currency]],tblXrate[],2,FALSE)","v":18000},{"$f":"IF($H$1=\"USD\",tblSalaries[[#This Row],[Salary in USD]],tblSalaries[[#This Row],[Salary in USD]]*VLOOKUP($H$1,USDtoUserChoice,2,FALSE))","v":147635.64000000001},"Operational Analyst","Analyst","Saudi Arabia",{"$f":"VLOOKUP(tblSalaries[[#This Row],[Where do you work]],tblCountries[[Actual]:[Mapping]],2,FALSE)","v":"Saudi Arabia"},"All the 8 hours baby, all the 8!",{"$f":"NA()","v":{"$error":"#N/A"}},{"$f":"IF(ISNA(VLOOKUP(tblSalaries[[#This Row],[Years of Experience]],vlookUpExp!$A$1:$B$56,2,FALSE)),\"No Response\",VLOOKUP(tblSalaries[[#This Row],[Years of Experience]],vlookUpExp!$A$1:$B$56,2,FALSE))","v":"No Response"}]
[null,"ID0080","2012-05-25T23:31:16",50000,50000,"USD",{"$f":"tblSalaries[[#This Row],[clean Salary (in local currency)]]*VLOOKUP(tblSalaries[[#This Row],[Currency]],tblXrate[],2,FALSE)","v":50000},{"$f":"IF($H$1=\"USD\",tblSalaries[[#This Row],[Salary in USD]],tblSalaries[[#This Row],[Salary in USD]]*VLOOKUP($H$1,USDtoUserChoice,2,FALSE))","v":410099.00000000006},"Exceler","Manager","USA",{"$f":"VLOOKUP(tblSalaries[[#This Row],[Where do you work]],tblCountries[[Actual]:[Mapping]],2,FALSE)","v":"USA"},"2 to 3 hours per day",{"$f":"NA()","v":{"$error":"#N/A"}},{"$f":"IF(ISNA(VLOOKUP(tblSalaries[[#This Row],[Years of Experience]],vlookUpExp!$A$1:$B$56,2,FALSE)),\"No Response\",VLOOKUP(tblSalaries[[#This Row],[Years of Experience]],vlookUpExp!$A$1:$B$56,2,FALSE))","v":"No Response"}]
[null,"ID0081","2012-05-25T23:33:15",26000,26000,"USD",{"$f":"tblSalaries[[#This Row],[clean Salary (in local currency)]]*VLOOKUP(tblSalaries[[#This Row],[Currency]],tblXrate[],2,FALSE)","v":26000},{"$f":"IF($H$1=\"USD\",tblSalaries[[#This Row],[Salary in USD]],tblSalaries[[#This Row],[Salary in USD]]*VLOOKUP($H$1,USDtoUserChoice,2,FALSE))","v":213251.48},"Marketing Analyst","Analyst","Panama",{"$f":"VLOOKUP(tblSalaries[[#This Row],[Where do you work]],tblCountries[[Actual]:[Mapping]],2,FALSE)","v":"Panama"},"All the 8 hours baby, all the 8!",{"$f":"NA()","v":{"$error":"#N/A"}},{"$f":"IF(ISNA(VLOOKUP(tblSalaries[[#This Row],[Years of Experience]],vlookUpExp!$A$1:$B$56,2,FALSE)),\"No Response\",VLOOKUP(tblSalaries[[#This Row],[Years of Experience]],vlookUpExp!$A$1:$B$56,2,FALSE))","v":"No Response"}]
[null,"ID0082","2012-05-25T23:49:27","Â£30000",30000,"GBP",{"$f":"tblSalaries[[#This Row],[clean Salary (in local currency)]]*VLOOKUP(tblSalaries[[#This Row],[Currency]],tblXrate[],2,FALSE)","v":47285.348162018527},{"$f":"IF($H$1=\"USD\",tblSalaries[[#This Row],[Salary in USD]],tblSalaries[[#This Row],[Salary in USD]]*VLOOKUP($H$1,USDtoUserChoice,2,FALSE))","v":387833.47991791274},"Database Manager","Manager","UK",{"$f":"VLOOKUP(tblSalaries[[#This Row],[Where do you work]],tblCountries[[Actual]:[Mapping]],2,FALSE)","v":"UK"},"4 to 6 hours a day",{"$f":"NA()","v":{"$error":"#N/A"}},{"$f":"IF(ISNA(VLOOKUP(tblSalaries[[#This Row],[Years of Experience]],vlookUpExp!$A$1:$B$56,2,FALSE)),\"No Response\",VLOOKUP(tblSalaries[[#This Row],[Years of Experience]],vlookUpExp!$A$1:$B$56,2,FALSE))","v":"No Response"}]
[null,"ID0083","2012-05-26T00:00:52",150000,150000,"USD",{"$f":"tblSalaries[[#This Row],[clean Salary (in local currency)]]*VLOOKUP(tblSalaries[[#This Row],[Currency]],tblXrate[],2,FALSE)","v":150000},{"$f":"IF($H$1=\"USD\",tblSalaries[[#This Row],[Salary in USD]],tblSalaries[[#This Row],[Salary in USD]]*VLOOKUP($H$1,USDtoUserChoice,2,FALSE))","v":1230297},"Director","CXO or Top Mgmt.","USA",{"$f":"VLOOKUP(tblSalaries[[#This Row],[Where do you work]],tblCountries[[Actual]:[Mapping]],2,FALSE)","v":"USA"},"All the 8 hours baby, all the 8!",{"$f":"NA()","v":{"$error":"#N/A"}},{"$f":"IF(ISNA(VLOOKUP(tblSalaries[[#This Row],[Years of Experience]],vlookUpExp!$A$1:$B$56,2,FALSE)),\"No Response\",VLOOKUP(tblSalaries[[#This Row],[Years of Experience]],vlookUpExp!$A$1:$B$56,2,FALSE))","v":"No Response"}]
[null,"ID0084","2012-05-26T00:05:45",120000,120000,"USD",{"$f":"tblSalaries[[#This Row],[clean Salary (in local currency)]]*VLOOKUP(tblSalaries[[#This Row],[Currency]],tblXrate[],2,FALSE)","v":120000},{"$f":"IF($H$1=\"USD\",tblSalaries[[#This Row],[Salary in USD]],tblSalaries[[#This Row],[Salary in USD]]*VLOOKUP($H$1,USDtoUserChoice,2,FALSE))","v":984237.60000000009},"Manager, Forecasts & Budgets","Manager","USA",{"$f":"VLOOKUP(tblSalaries[[#This Row],[Where do you work]],tblCountries[[Actual]:[Mapping]],2,FALSE)","v":"USA"},"4 to 6 hours a day",{"$f":"NA()","v":{"$error":"#N/A"}},{"$f":"IF(ISNA(VLOOKUP(tblSalaries[[#This Row],[Years of Experience]],vlookUpExp!$A$1:$B$56,2,FALSE)),\"No Response\",VLOOKUP(tblSalaries[[#This Row],[Years of Experience]],vlookUpExp!$A$1:$B$56,2,FALSE))","v":"No Response"}]
[null,"ID0085","2012-05-26T00:10:17",500000,500000,"INR",{"$f":"tblSalaries[[#This Row],[clean Salary (in local currency)]]*VLOOKUP(tblSalaries[[#This Row],[Currency]],tblXrate[],2,FALSE)","v":8903.9583437212841},{"$f":"IF($H$1=\"USD\",tblSalaries[[#This Row],[Salary in USD]],tblSalaries[[#This Row],[Salary in USD]]*VLOOKUP($H$1,USDtoUserChoice,2,FALSE))","v":73030.088256035102},"Senior Consultant","Consultant","India",{"$f":"VLOOKUP(tblSalaries[[#This Row],[Where do you work]],tblCountries[[Actual]:[Mapping]],2,FALSE)","v":"India"},"All the 8 hours baby, all the 8!",{"$f":"NA()","v":{"$error":"#N/A"}},{"$f":"IF(ISNA(VLOOKUP(tblSalaries[[#This Row],[Years of Experience]],vlookUpExp!$A$1:$B$56,2,FALSE)),\"No Response\",VLOOKUP(tblSalaries[[#This Row],[Years of Experience]],vlookUpExp!$A$1:$B$56,2,FALSE))","v":"No Response"}]
[null,"ID0086","2012-05-26T00:11:21","US $ 31330.00",31330,"USD",{"$f":"tblSalaries[[#This Row],[clean Salary (in local currency)]]*VLOOKUP(tblSalaries[[#This Row],[Currency]],tblXrate[],2,FALSE)","v":31330},{"$f":"IF($H$1=\"USD\",tblSalaries[[#This Row],[Salary in USD]],tblSalaries[[#This Row],[Salary in USD]]*VLOOKUP($H$1,USDtoUserChoice,2,FALSE))","v":256968.03340000001},"VBA Analyst","Analyst","Brazil",{"$f":"VLOOKUP(tblSalaries[[#This Row],[Where do you work]],tblCountries[[Actual]:[Mapping]],2,FALSE)","v":"Brazil"},"All the 8 hours baby, all the 8!",{"$f":"NA()","v":{"$error":"#N/A"}},{"$f":"IF(ISNA(VLOOKUP(tblSalaries[[#This Row],[Years of Experience]],vlookUpExp!$A$1:$B$56,2,FALSE)),\"No Response\",VLOOKUP(tblSalaries[[#This Row],[Years of Experience]],vlookUpExp!$A$1:$B$56,2,FALSE))","v":"No Response"}]
[null,"ID0087","2012-05-26T00:15:17",110000,110000,"USD",{"$f":"tblSalaries[[#This Row],[clean Salary (in local currency)]]*VLOOKUP(tblSalaries[[#This Row],[Currency]],tblXrate[],2,FALSE)","v":110000},{"$f":"IF($H$1=\"USD\",tblSalaries[[#This Row],[Salary in USD]],tblSalaries[[#This Row],[Salary in USD]]*VLOOKUP($H$1,USDtoUserChoice,2,FALSE))","v":902217.8},"Senior Scheduling Engineer","Engineer","USA",{"$f":"VLOOKUP(tblSalaries[[#This Row],[Where do you work]],tblCountries[[Actual]:[Mapping]],2,FALSE)","v":"USA"},"2 to 3 hours per day",{"$f":"NA()","v":{"$error":"#N/A"}},{"$f":"IF(ISNA(VLOOKUP(tblSalaries[[#This Row],[Years of Experience]],vlookUpExp!$A$1:$B$56,2,FALSE)),\"No Response\",VLOOKUP(tblSalaries[[#This Row],[Years of Experience]],vlookUpExp!$A$1:$B$56,2,FALSE))","v":"No Response"}]
[null,"ID0088","2012-05-26T00:22:49","81,000USD",81000,"USD",{"$f":"tblSalaries[[#This Row],[clean Salary (in local currency)]]*VLOOKUP(tblSalaries[[#This Row],[Currency]],tblXrate[],2,FALSE)","v":81000},{"$f":"IF($H$1=\"USD\",tblSalaries[[#This Row],[Salary in USD]],tblSalaries[[#This Row],[Salary in USD]]*VLOOKUP($H$1,USDtoUserChoice,2,FALSE))","v":664360.38},"Strategy Consultant","Consultant","UK",{"$f":"VLOOKUP(tblSalaries[[#This Row],[Where do you work]],tblCountries[[Actual]:[Mapping]],2,FALSE)","v":"UK"},"4 to 6 hours a day",{"$f":"NA()","v":{"$error":"#N/A"}},{"$f":"IF(ISNA(VLOOKUP(tblSalaries[[#This Row],[Years of Experience]],vlookUpExp!$A$1:$B$56,2,FALSE)),\"No Response\",VLOOKUP(tblSalaries[[#This Row],[Years of Experience]],vlookUpExp!$A$1:$B$56,2,FALSE))","v":"No Response"}]
[null,"ID0089","2012-05-26T00:39:04",40000,40000,"USD",{"$f":"tblSalaries[[#This Row],[clean Salary (in local currency)]]*VLOOKUP(tblSalaries[[#This Row],[Currency]],tblXrate[],2,FALSE)","v":40000},{"$f":"IF($H$1=\"USD\",tblSalaries[[#This Row],[Salary in USD]],tblSalaries[[#This Row],[Salary in USD]]*VLOOKUP($H$1,USDtoUserChoice,2,FALSE))","v":328079.2},"Admin","Analyst","USA",{"$f":"VLOOKUP(tblSalaries[[#This Row],[Where do you work]],tblCountries[[Actual]:[Mapping]],2,FALSE)","v":"USA"},"4 to 6 hours a day",{"$f":"NA()","v":{"$error":"#N/A"}},{"$f":"IF(ISNA(VLOOKUP(tblSalaries[[#This Row],[Years of Experience]],vlookUpExp!$A$1:$B$56,2,FALSE)),\"No Response\",VLOOKUP(tblSalaries[[#This Row],[Years of Experience]],vlookUpExp!$A$1:$B$56,2,FALSE))","v":"No Response"}]
[null,"ID0090","2012-05-26T00:39:28",42000,42000,"CAD",{"$f":"tblSalaries[[#This Row],[clean Salary (in local currency)]]*VLOOKUP(tblSalaries[[#This Row],[Currency]],tblXrate[],2,FALSE)","v":41301.183967273726},{"$f":"IF($H$1=\"USD\",tblSalaries[[#This Row],[Salary in USD]],tblSalaries[[#This Row],[Salary in USD]]*VLOOKUP($H$1,USDtoUserChoice,2,FALSE))","v":338751.4848758998},"IT Asset Administrator","Analyst","Canada",{"$f":"VLOOKUP(tblSalaries[[#This Row],[Where do you work]],tblCountries[[Actual]:[Mapping]],2,FALSE)","v":"Canada"},"4 to 6 hours a day",{"$f":"NA()","v":{"$error":"#N/A"}},{"$f":"IF(ISNA(VLOOKUP(tblSalaries[[#This Row],[Years of Experience]],vlookUpExp!$A$1:$B$56,2,FALSE)),\"No Response\",VLOOKUP(tblSalaries[[#This Row],[Years of Experience]],vlookUpExp!$A$1:$B$56,2,FALSE))","v":"No Response"}]
[null,"ID0091","2012-05-26T00:39:36",125000,125000,"USD",{"$f":"tblSalaries[[#This Row],[clean Salary (in local currency)]]*VLOOKUP(tblSalaries[[#This Row],[Currency]],tblXrate[],2,FALSE)","v":125000},{"$f":"IF($H$1=\"USD\",tblSalaries[[#This Row],[Salary in USD]],tblSalaries[[#This Row],[Salary in USD]]*VLOOKUP($H$1,USDtoUserChoice,2,FALSE))","v":1025247.5000000001},"Director of Marketing","CXO or Top Mgmt.","USA",{"$f":"VLOOKUP(tblSalaries[[#This Row],[Where do you work]],tblCountries[[Actual]:[Mapping]],2,FALSE)","v":"USA"},"4 to 6 hours a day",{"$f":"NA()","v":{"$error":"#N/A"}},{"$f":"IF(ISNA(VLOOKUP(tblSalaries[[#This Row],[Years of Experience]],vlookUpExp!$A$1:$B$56,2,FALSE)),\"No Response\",VLOOKUP(tblSalaries[[#This Row],[Years of Experience]],vlookUpExp!$A$1:$B$56,2,FALSE))","v":"No Response"}]
[null,"ID0092","2012-05-26T00:39:38",36000,36000,"USD",{"$f":"tblSalaries[[#This Row],[clean Salary (in local currency)]]*VLOOKUP(tblSalaries[[#This Row],[Currency]],tblXrate[],2,FALSE)","v":36000},{"$f":"IF($H$1=\"USD\",tblSalaries[[#This Row],[Salary in USD]],tblSalaries[[#This Row],[Salary in USD]]*VLOOKUP($H$1,USDtoUserChoice,2,FALSE))","v":295271.28000000003},"Graphic Design Manager","Manager","USA",{"$f":"VLOOKUP(tblSalaries[[#This Row],[Where do you work]],tblCountries[[Actual]:[Mapping]],2,FALSE)","v":"USA"},"2 to 3 hours per day",{"$f":"NA()","v":{"$error":"#N/A"}},{"$f":"IF(ISNA(VLOOKUP(tblSalaries[[#This Row],[Years of Experience]],vlookUpExp!$A$1:$B$56,2,FALSE)),\"No Response\",VLOOKUP(tblSalaries[[#This Row],[Years of Experience]],vlookUpExp!$A$1:$B$56,2,FALSE))","v":"No Response"}]
[null,"ID0093","2012-05-26T00:39:54","Rs. 12,000/-",144000,"INR",{"$f":"tblSalaries[[#This Row],[clean Salary (in local currency)]]*VLOOKUP(tblSalaries[[#This Row],[Currency]],tblXrate[],2,FALSE)","v":2564.3400029917298},{"$f":"IF($H$1=\"USD\",tblSalaries[[#This Row],[Salary in USD]],tblSalaries[[#This Row],[Salary in USD]]*VLOOKUP($H$1,USDtoUserChoice,2,FALSE))","v":21032.66541773811},"Financial Consultant","Consultant","India",{"$f":"VLOOKUP(tblSalaries[[#This Row],[Where do you work]],tblCountries[[Actual]:[Mapping]],2,FALSE)","v":"India"},"1 or 2 hours a day",{"$f":"NA()","v":{"$error":"#N/A"}},{"$f":"IF(ISNA(VLOOKUP(tblSalaries[[#This Row],[Years of Experience]],vlookUpExp!$A$1:$B$56,2,FALSE)),\"No Response\",VLOOKUP(tblSalaries[[#This Row],[Years of Experience]],vlookUpExp!$A$1:$B$56,2,FALSE))","v":"No Response"}]
[null,"ID0094","2012-05-26T00:40:00",75000,75000,"USD",{"$f":"tblSalaries[[#This Row],[clean Salary (in local currency)]]*VLOOKUP(tblSalaries[[#This Row],[Currency]],tblXrate[],2,FALSE)","v":75000},{"$f":"IF($H$1=\"USD\",tblSalaries[[#This Row],[Salary in USD]],tblSalaries[[#This Row],[Salary in USD]]*VLOOKUP($H$1,USDtoUserChoice,2,FALSE))","v":615148.5},"Data Analyst","Analyst","USA",{"$f":"VLOOKUP(tblSalaries[[#This Row],[Where do you work]],tblCountries[[Actual]:[Mapping]],2,FALSE)","v":"USA"},"1 or 2 hours a day",{"$f":"NA()","v":{"$error":"#N/A"}},{"$f":"IF(ISNA(VLOOKUP(tblSalaries[[#This Row],[Years of Experience]],vlookUpExp!$A$1:$B$56,2,FALSE)),\"No Response\",VLOOKUP(tblSalaries[[#This Row],[Years of Experience]],vlookUpExp!$A$1:$B$56,2,FALSE))","v":"No Response"}]
[null,"ID0095","2012-05-26T00:40:20",95000,95000,"USD",{"$f":"tblSalaries[[#This Row],[clean Salary (in local currency)]]*VLOOKUP(tblSalaries[[#This Row],[Currency]],tblXrate[],2,FALSE)","v":95000},{"$f":"IF($H$1=\"USD\",tblSalaries[[#This Row],[Salary in USD]],tblSalaries[[#This Row],[Salary in USD]]*VLOOKUP($H$1,USDtoUserChoice,2,FALSE))","v":779188.10000000009},"CFO","CXO or Top Mgmt.","USA",{"$f":"VLOOKUP(tblSalaries[[#This Row],[Where do you work]],tblCountries[[Actual]:[Mapping]],2,FALSE)","v":"USA"},"4 to 6 hours a day",{"$f":"NA()","v":{"$error":"#N/A"}},{"$f":"IF(ISNA(VLOOKUP(tblSalaries[[#This Row],[Years of Experience]],vlookUpExp!$A$1:$B$56,2,FALSE)),\"No Response\",VLOOKUP(tblSalaries[[#This Row],[Years of Experience]],vlookUpExp!$A$1:$B$56,2,FALSE))","v":"No Response"}]
[null,"ID0096","2012-05-26T00:40:27",24000,24000,"USD",{"$f":"tblSalaries[[#This Row],[clean Salary (in local currency)]]*VLOOKUP(tblSalaries[[#This Row],[Currency]],tblXrate[],2,FALSE)","v":24000},{"$f":"IF($H$1=\"USD\",tblSalaries[[#This Row],[Salary in USD]],tblSalaries[[#This Row],[Salary in USD]]*VLOOKUP($H$1,USDtoUserChoice,2,FALSE))","v":196847.52000000002},"Paraeducator","Manager","USA",{"$f":"VLOOKUP(tblSalaries[[#This Row],[Where do you work]],tblCountries[[Actual]:[Mapping]],2,FALSE)","v":"USA"},"2 to 3 hours per day",{"$f":"NA()","v":{"$error":"#N/A"}},{"$f":"IF(ISNA(VLOOKUP(tblSalaries[[#This Row],[Years of Experience]],vlookUpExp!$A$1:$B$56,2,FALSE)),\"No Response\",VLOOKUP(tblSalaries[[#This Row],[Years of Experience]],vlookUpExp!$A$1:$B$56,2,FALSE))","v":"No Response"}]
[null,"ID0097","2012-05-26T00:40:31","91,000 USD",91000,"USD",{"$f":"tblSalaries[[#This Row],[clean Salary (in local currency)]]*VLOOKUP(tblSalaries[[#This Row],[Currency]],tblXrate[],2,FALSE)","v":91000},{"$f":"IF($H$1=\"USD\",tblSalaries[[#This Row],[Salary in USD]],tblSalaries[[#This Row],[Salary in USD]]*VLOOKUP($H$1,USDtoUserChoice,2,FALSE))","v":746380.18},"Channel Marketing Manager","Manager","USA",{"$f":"VLOOKUP(tblSalaries[[#This Row],[Where do you work]],tblCountries[[Actual]:[Mapping]],2,FALSE)","v":"USA"},"1 or 2 hours a day",{"$f":"NA()","v":{"$error":"#N/A"}},{"$f":"IF(ISNA(VLOOKUP(tblSalaries[[#This Row],[Years of Experience]],vlookUpExp!$A$1:$B$56,2,FALSE)),\"No Response\",VLOOKUP(tblSalaries[[#This Row],[Years of Experience]],vlookUpExp!$A$1:$B$56,2,FALSE))","v":"No Response"}]
[null,"ID0098","2012-05-26T00:40:39",40000,40000,"USD",{"$f":"tblSalaries[[#This Row],[clean Salary (in local currency)]]*VLOOKUP(tblSalaries[[#This Row],[Currency]],tblXrate[],2,FALSE)","v":40000},{"$f":"IF($H$1=\"USD\",tblSalaries[[#This Row],[Salary in USD]],tblSalaries[[#This Row],[Salary in USD]]*VLOOKUP($H$1,USDtoUserChoice,2,FALSE))","v":328079.2},"Sales and Marketing Analyst ","Analyst","USA",{"$f":"VLOOKUP(tblSalaries[[#This Row],[Where do you work]],tblCountries[[Actual]:[Mapping]],2,FALSE)","v":"USA"},"4 to 6 hours a day",{"$f":"NA()","v":{"$error":"#N/A"}},{"$f":"IF(ISNA(VLOOKUP(tblSalaries[[#This Row],[Years of Experience]],vlookUpExp!$A$1:$B$56,2,FALSE)),\"No Response\",VLOOKUP(tblSalaries[[#This Row],[Years of Experience]],vlookUpExp!$A$1:$B$56,2,FALSE))","v":"No Response"}]
[null,"ID0099","2012-05-26T00:40:40",57000,57000,"USD",{"$f":"tblSalaries[[#This Row],[clean Salary (in local currency)]]*VLOOKUP(tblSalaries[[#This Row],[Currency]],tblXrate[],2,FALSE)","v":57000},{"$f":"IF($H$1=\"USD\",tblSalaries[[#This Row],[Salary in USD]],tblSalaries[[#This Row],[Salary in USD]]*VLOOKUP($H$1,USDtoUserChoice,2,FALSE))","v":467512.86000000004},"Production Scheduler","Manager","USA",{"$f":"VLOOKUP(tblSalaries[[#This Row],[Where do you work]],tblCountries[[Actual]:[Mapping]],2,FALSE)","v":"USA"},"4 to 6 hours a day",{"$f":"NA()","v":{"$error":"#N/A"}},{"$f":"IF(ISNA(VLOOKUP(tblSalaries[[#This Row],[Years of Experience]],vlookUpExp!$A$1:$B$56,2,FALSE)),\"No Response\",VLOOKUP(tblSalaries[[#This Row],[Years of Experience]],vlookUpExp!$A$1:$B$56,2,FALSE))","v":"No Response"}]
[null,"ID0100","2012-05-26T00:40:41",74000,74000,"USD",{"$f":"tblSalaries[[#This Row],[clean Salary (in local currency)]]*VLOOKUP(tblSalaries[[#This Row],[Currency]],tblXrate[],2,FALSE)","v":74000},{"$f":"IF($H$1=\"USD\",tblSalaries[[#This Row],[Salary in USD]],tblSalaries[[#This Row],[Salary in USD]]*VLOOKUP($H$1,USDtoUserChoice,2,FALSE))","v":606946.52},"Senior Consultant","Consultant","USA",{"$f":"VLOOKUP(tblSalaries[[#This Row],[Where do you work]],tblCountries[[Actual]:[Mapping]],2,FALSE)","v":"USA"},"4 to 6 hours a day",{"$f":"NA()","v":{"$error":"#N/A"}},{"$f":"IF(ISNA(VLOOKUP(tblSalaries[[#This Row],[Years of Experience]],vlookUpExp!$A$1:$B$56,2,FALSE)),\"No Response\",VLOOKUP(tblSalaries[[#This Row],[Years of Experience]],vlookUpExp!$A$1:$B$56,2,FALSE))","v":"No Response"}]
[null,"ID0101","2012-05-26T00:40:42","80k",80000,"USD",{"$f":"tblSalaries[[#This Row],[clean Salary (in local currency)]]*VLOOKUP(tblSalaries[[#This Row],[Currency]],tblXrate[],2,FALSE)","v":80000},{"$f":"IF($H$1=\"USD\",tblSalaries[[#This Row],[Salary in USD]],tblSalaries[[#This Row],[Salary in USD]]*VLOOKUP($H$1,USDtoUserChoice,2,FALSE))","v":656158.4},"financial analyst","Analyst","USA",{"$f":"VLOOKUP(tblSalaries[[#This Row],[Where do you work]],tblCountries[[Actual]:[Mapping]],2,FALSE)","v":"USA"},"4 to 6 hours a day",{"$f":"NA()","v":{"$error":"#N/A"}},{"$f":"IF(ISNA(VLOOKUP(tblSalaries[[#This Row],[Years of Experience]],vlookUpExp!$A$1:$B$56,2,FALSE)),\"No Response\",VLOOKUP(tblSalaries[[#This Row],[Years of Experience]],vlookUpExp!$A$1:$B$56,2,FALSE))","v":"No Response"}]
[null,"ID0102","2012-05-26T00:40:46",90000,90000,"USD",{"$f":"tblSalaries[[#This Row],[clean Salary (in local currency)]]*VLOOKUP(tblSalaries[[#This Row],[Currency]],tblXrate[],2,FALSE)","v":90000},{"$f":"IF($H$1=\"USD\",tblSalaries[[#This Row],[Salary in USD]],tblSalaries[[#This Row],[Salary in USD]]*VLOOKUP($H$1,USDtoUserChoice,2,FALSE))","v":738178.20000000007},"Product Specialist","Specialist","USA",{"$f":"VLOOKUP(tblSalaries[[#This Row],[Where do you work]],tblCountries[[Actual]:[Mapping]],2,FALSE)","v":"USA"},"4 to 6 hours a day",{"$f":"NA()","v":{"$error":"#N/A"}},{"$f":"IF(ISNA(VLOOKUP(tblSalaries[[#This Row],[Years of Experience]],vlookUpExp!$A$1:$B$56,2,FALSE)),\"No Response\",VLOOKUP(tblSalaries[[#This Row],[Years of Experience]],vlookUpExp!$A$1:$B$56,2,FALSE))","v":"No Response"}]
[null,"ID0103","2012-05-26T00:40:48",21000,21000,"USD",{"$f":"tblSalaries[[#This Row],[clean Salary (in local currency)]]*VLOOKUP(tblSalaries[[#This Row],[Currency]],tblXrate[],2,FALSE)","v":21000},{"$f":"IF($H$1=\"USD\",tblSalaries[[#This Row],[Salary in USD]],tblSalaries[[#This Row],[Salary in USD]]*VLOOKUP($H$1,USDtoUserChoice,2,FALSE))","v":172241.58000000002},"IT support","Analyst","arabian Gulf",{"$f":"VLOOKUP(tblSalaries[[#This Row],[Where do you work]],tblCountries[[Actual]:[Mapping]],2,FALSE)","v":"arabian Gulf"},"1 or 2 hours a day",{"$f":"NA()","v":{"$error":"#N/A"}},{"$f":"IF(ISNA(VLOOKUP(tblSalaries[[#This Row],[Years of Experience]],vlookUpExp!$A$1:$B$56,2,FALSE)),\"No Response\",VLOOKUP(tblSalaries[[#This Row],[Years of Experience]],vlookUpExp!$A$1:$B$56,2,FALSE))","v":"No Response"}]
[null,"ID0104","2012-05-26T00:40:50",52000,52000,"USD",{"$f":"tblSalaries[[#This Row],[clean Salary (in local currency)]]*VLOOKUP(tblSalaries[[#This Row],[Currency]],tblXrate[],2,FALSE)","v":52000},{"$f":"IF($H$1=\"USD\",tblSalaries[[#This Row],[Salary in USD]],tblSalaries[[#This Row],[Salary in USD]]*VLOOKUP($H$1,USDtoUserChoice,2,FALSE))","v":426502.96},"sr. project coordinator","Manager","USA",{"$f":"VLOOKUP(tblSalaries[[#This Row],[Where do you work]],tblCountries[[Actual]:[Mapping]],2,FALSE)","v":"USA"},"4 to 6 hours a day",{"$f":"NA()","v":{"$error":"#N/A"}},{"$f":"IF(ISNA(VLOOKUP(tblSalaries[[#This Row],[Years of Experience]],vlookUpExp!$A$1:$B$56,2,FALSE)),\"No Response\",VLOOKUP(tblSalaries[[#This Row],[Years of Experience]],vlookUpExp!$A$1:$B$56,2,FALSE))","v":"No Response"}]
[null,"ID0105","2012-05-26T00:40:52",19200,19200,"USD",{"$f":"tblSalaries[[#This Row],[clean Salary (in local currency)]]*VLOOKUP(tblSalaries[[#This Row],[Currency]],tblXrate[],2,FALSE)","v":19200},{"$f":"IF($H$1=\"USD\",tblSalaries[[#This Row],[Salary in USD]],tblSalaries[[#This Row],[Salary in USD]]*VLOOKUP($H$1,USDtoUserChoice,2,FALSE))","v":157478.016},"Sr Administrative Assistant","Analyst","Mexico",{"$f":"VLOOKUP(tblSalaries[[#This Row],[Where do you work]],tblCountries[[Actual]:[Mapping]],2,FALSE)","v":"Mexico"},"4 to 6 hours a day",{"$f":"NA()","v":{"$error":"#N/A"}},{"$f":"IF(ISNA(VLOOKUP(tblSalaries[[#This Row],[Years of Experience]],vlookUpExp!$A$1:$B$56,2,FALSE)),\"No Response\",VLOOKUP(tblSalaries[[#This Row],[Years of Experience]],vlookUpExp!$A$1:$B$56,2,FALSE))","v":"No Response"}]
[null,"ID0106","2012-05-26T00:40:57",36000,36000,"USD",{"$f":"tblSalaries[[#This Row],[clean Salary (in local currency)]]*VLOOKUP(tblSalaries[[#This Row],[Currency]],tblXrate[],2,FALSE)","v":36000},{"$f":"IF($H$1=\"USD\",tblSalaries[[#This Row],[Salary in USD]],tblSalaries[[#This Row],[Salary in USD]]*VLOOKUP($H$1,USDtoUserChoice,2,FALSE))","v":295271.28000000003},"Analyst","Analyst","USA",{"$f":"VLOOKUP(tblSalaries[[#This Row],[Where do you work]],tblCountries[[Actual]:[Mapping]],2,FALSE)","v":"USA"},"4 to 6 hours a day",{"$f":"NA()","v":{"$error":"#N/A"}},{"$f":"IF(ISNA(VLOOKUP(tblSalaries[[#This Row],[Years of Experience]],vlookUpExp!$A$1:$B$56,2,FALSE)),\"No Response\",VLOOKUP(tblSalaries[[#This Row],[Years of Experience]],vlookUpExp!$A$1:$B$56,2,FALSE))","v":"No Response"}]
[null,"ID0107","2012-05-26T00:41:02",57400,57400,"USD",{"$f":"tblSalaries[[#This Row],[clean Salary (in local currency)]]*VLOOKUP(tblSalaries[[#This Row],[Currency]],tblXrate[],2,FALSE)","v":57400},{"$f":"IF($H$1=\"USD\",tblSalaries[[#This Row],[Salary in USD]],tblSalaries[[#This Row],[Salary in USD]]*VLOOKUP($H$1,USDtoUserChoice,2,FALSE))","v":470793.65200000006},"IT Analyst","Analyst","USA",{"$f":"VLOOKUP(tblSalaries[[#This Row],[Where do you work]],tblCountries[[Actual]:[Mapping]],2,FALSE)","v":"USA"},"4 to 6 hours a day",{"$f":"NA()","v":{"$error":"#N/A"}},{"$f":"IF(ISNA(VLOOKUP(tblSalaries[[#This Row],[Years of Experience]],vlookUpExp!$A$1:$B$56,2,FALSE)),\"No Response\",VLOOKUP(tblSalaries[[#This Row],[Years of Experience]],vlookUpExp!$A$1:$B$56,2,FALSE))","v":"No Response"}]
[null,"ID0108","2012-05-26T00:41:03",66000,66000,"USD",{"$f":"tblSalaries[[#This Row],[clean Salary (in local currency)]]*VLOOKUP(tblSalaries[[#This Row],[Currency]],tblXrate[],2,FALSE)","v":66000},{"$f":"IF($H$1=\"USD\",tblSalaries[[#This Row],[Salary in USD]],tblSalaries[[#This Row],[Salary in USD]]*VLOOKUP($H$1,USDtoUserChoice,2,FALSE))","v":541330.68000000005},"Analyst","Analyst","USA",{"$f":"VLOOKUP(tblSalaries[[#This Row],[Where do you work]],tblCountries[[Actual]:[Mapping]],2,FALSE)","v":"USA"},"2 to 3 hours per day",{"$f":"NA()","v":{"$error":"#N/A"}},{"$f":"IF(ISNA(VLOOKUP(tblSalaries[[#This Row],[Years of Experience]],vlookUpExp!$A$1:$B$56,2,FALSE)),\"No Response\",VLOOKUP(tblSalaries[[#This Row],[Years of Experience]],vlookUpExp!$A$1:$B$56,2,FALSE))","v":"No Response"}]
[null,"ID0109","2012-05-26T00:41:06",35000,35000,"EUR",{"$f":"tblSalaries[[#This Row],[clean Salary (in local currency)]]*VLOOKUP(tblSalaries[[#This Row],[Currency]],tblXrate[],2,FALSE)","v":44463.980364706273},{"$f":"IF($H$1=\"USD\",tblSalaries[[#This Row],[Salary in USD]],tblSalaries[[#This Row],[Salary in USD]]*VLOOKUP($H$1,USDtoUserChoice,2,FALSE))","v":364692.67767171358},"Project manager","Manager","Greece",{"$f":"VLOOKUP(tblSalaries[[#This Row],[Where do you work]],tblCountries[[Actual]:[Mapping]],2,FALSE)","v":"Greece"},"4 to 6 hours a day",{"$f":"NA()","v":{"$error":"#N/A"}},{"$f":"IF(ISNA(VLOOKUP(tblSalaries[[#This Row],[Years of Experience]],vlookUpExp!$A$1:$B$56,2,FALSE)),\"No Response\",VLOOKUP(tblSalaries[[#This Row],[Years of Experience]],vlookUpExp!$A$1:$B$56,2,FALSE))","v":"No Response"}]
[null,"ID0111","2012-05-26T00:41:16","$85,000+",85000,"USD",{"$f":"tblSalaries[[#This Row],[clean Salary (in local currency)]]*VLOOKUP(tblSalaries[[#This Row],[Currency]],tblXrate[],2,FALSE)","v":85000},{"$f":"IF($H$1=\"USD\",tblSalaries[[#This Row],[Salary in USD]],tblSalaries[[#This Row],[Salary in USD]]*VLOOKUP($H$1,USDtoUserChoice,2,FALSE))","v":697168.3},"Strategic Analyst","Analyst","USA",{"$f":"VLOOKUP(tblSalaries[[#This Row],[Where do you work]],tblCountries[[Actual]:[Mapping]],2,FALSE)","v":"USA"},"4 to 6 hours a day",{"$f":"NA()","v":{"$error":"#N/A"}},{"$f":"IF(ISNA(VLOOKUP(tblSalaries[[#This Row],[Years of Experience]],vlookUpExp!$A$1:$B$56,2,FALSE)),\"No Response\",VLOOKUP(tblSalaries[[#This Row],[Years of Experience]],vlookUpExp!$A$1:$B$56,2,FALSE))","v":"No Response"}]
[null,"ID0112","2012-05-26T00:41:22",50000,50000,"USD",{"$f":"tblSalaries[[#This Row],[clean Salary (in local currency)]]*VLOOKUP(tblSalaries[[#This Row],[Currency]],tblXrate[],2,FALSE)","v":50000},{"$f":"IF($H$1=\"USD\",tblSalaries[[#This Row],[Salary in USD]],tblSalaries[[#This Row],[Salary in USD]]*VLOOKUP($H$1,USDtoUserChoice,2,FALSE))","v":410099.00000000006},"Transportation Specialist","Specialist","USA",{"$f":"VLOOKUP(tblSalaries[[#This Row],[Where do you work]],tblCountries[[Actual]:[Mapping]],2,FALSE)","v":"USA"},"4 to 6 hours a day",{"$f":"NA()","v":{"$error":"#N/A"}},{"$f":"IF(ISNA(VLOOKUP(tblSalaries[[#This Row],[Years of Experience]],vlookUpExp!$A$1:$B$56,2,FALSE)),\"No Response\",VLOOKUP(tblSalaries[[#This Row],[Years of Experience]],vlookUpExp!$A$1:$B$56,2,FALSE))","v":"No Response"}]
[null,"ID0113","2012-05-26T00:41:27","$58,000 USD",58000,"USD",{"$f":"tblSalaries[[#This Row],[clean Salary (in local currency)]]*VLOOKUP(tblSalaries[[#This Row],[Currency]],tblXrate[],2,FALSE)","v":58000},{"$f":"IF($H$1=\"USD\",tblSalaries[[#This Row],[Salary in USD]],tblSalaries[[#This Row],[Salary in USD]]*VLOOKUP($H$1,USDtoUserChoice,2,FALSE))","v":475714.84},"Operations Programs Support","Manager","USA",{"$f":"VLOOKUP(tblSalaries[[#This Row],[Where do you work]],tblCountries[[Actual]:[Mapping]],2,FALSE)","v":"USA"},"4 to 6 hours a day",{"$f":"NA()","v":{"$error":"#N/A"}},{"$f":"IF(ISNA(VLOOKUP(tblSalaries[[#This Row],[Years of Experience]],vlookUpExp!$A$1:$B$56,2,FALSE)),\"No Response\",VLOOKUP(tblSalaries[[#This Row],[Years of Experience]],vlookUpExp!$A$1:$B$56,2,FALSE))","v":"No Response"}]
[null,"ID0114","2012-05-26T00:41:28",37900,37900,"USD",{"$f":"tblSalaries[[#This Row],[clean Salary (in local currency)]]*VLOOKUP(tblSalaries[[#This Row],[Currency]],tblXrate[],2,FALSE)","v":37900},{"$f":"IF($H$1=\"USD\",tblSalaries[[#This Row],[Salary in USD]],tblSalaries[[#This Row],[Salary in USD]]*VLOOKUP($H$1,USDtoUserChoice,2,FALSE))","v":310855.04200000002},"Accounting Coordinator","Accountant","USA",{"$f":"VLOOKUP(tblSalaries[[#This Row],[Where do you work]],tblCountries[[Actual]:[Mapping]],2,FALSE)","v":"USA"},"All the 8 hours baby, all the 8!",{"$f":"NA()","v":{"$error":"#N/A"}},{"$f":"IF(ISNA(VLOOKUP(tblSalaries[[#This Row],[Years of Experience]],vlookUpExp!$A$1:$B$56,2,FALSE)),\"No Response\",VLOOKUP(tblSalaries[[#This Row],[Years of Experience]],vlookUpExp!$A$1:$B$56,2,FALSE))","v":"No Response"}]
[null,"ID0115","2012-05-26T00:41:30",4000,48000,"USD",{"$f":"tblSalaries[[#This Row],[clean Salary (in local currency)]]*VLOOKUP(tblSalaries[[#This Row],[Currency]],tblXrate[],2,FALSE)","v":48000},{"$f":"IF($H$1=\"USD\",tblSalaries[[#This Row],[Salary in USD]],tblSalaries[[#This Row],[Salary in USD]]*VLOOKUP($H$1,USDtoUserChoice,2,FALSE))","v":393695.04000000004},"Asst.Manager Finance","Manager","UAE",{"$f":"VLOOKUP(tblSalaries[[#This Row],[Where do you work]],tblCountries[[Actual]:[Mapping]],2,FALSE)","v":"UAE"},"2 to 3 hours per day",{"$f":"NA()","v":{"$error":"#N/A"}},{"$f":"IF(ISNA(VLOOKUP(tblSalaries[[#This Row],[Years of Experience]],vlookUpExp!$A$1:$B$56,2,FALSE)),\"No Response\",VLOOKUP(tblSalaries[[#This Row],[Years of Experience]],vlookUpExp!$A$1:$B$56,2,FALSE))","v":"No Response"}]
[null,"ID0116","2012-05-26T00:41:32",67000,67000,"USD",{"$f":"tblSalaries[[#This Row],[clean Salary (in local currency)]]*VLOOKUP(tblSalaries[[#This Row],[Currency]],tblXrate[],2,FALSE)","v":67000},{"$f":"IF($H$1=\"USD\",tblSalaries[[#This Row],[Salary in USD]],tblSalaries[[#This Row],[Salary in USD]]*VLOOKUP($H$1,USDtoUserChoice,2,FALSE))","v":549532.66},"Operations Cost Analyst","Analyst","USA",{"$f":"VLOOKUP(tblSalaries[[#This Row],[Where do you work]],tblCountries[[Actual]:[Mapping]],2,FALSE)","v":"USA"},"4 to 6 hours a day",{"$f":"NA()","v":{"$error":"#N/A"}},{"$f":"IF(ISNA(VLOOKUP(tblSalaries[[#This Row],[Years of Experience]],vlookUpExp!$A$1:$B$56,2,FALSE)),\"No Response\",VLOOKUP(tblSalaries[[#This Row],[Years of Experience]],vlookUpExp!$A$1:$B$56,2,FALSE))","v":"No Response"}]
[null,"ID0117","2012-05-26T00:41:35",85000,85000,"USD",{"$f":"tblSalaries[[#This Row],[clean Salary (in local currency)]]*VLOOKUP(tblSalaries[[#This Row],[Currency]],tblXrate[],2,FALSE)","v":85000},{"$f":"IF($H$1=\"USD\",tblSalaries[[#This Row],[Salary in USD]],tblSalaries[[#This Row],[Salary in USD]]*VLOOKUP($H$1,USDtoUserChoice,2,FALSE))","v":697168.3},"Financial Controller","Controller","UAE",{"$f":"VLOOKUP(tblSalaries[[#This Row],[Where do you work]],tblCountries[[Actual]:[Mapping]],2,FALSE)","v":"UAE"},"4 to 6 hours a day",{"$f":"NA()","v":{"$error":"#N/A"}},{"$f":"IF(ISNA(VLOOKUP(tblSalaries[[#This Row],[Years of Experience]],vlookUpExp!$A$1:$B$56,2,FALSE)),\"No Response\",VLOOKUP(tblSalaries[[#This Row],[Years of Experience]],vlookUpExp!$A$1:$B$56,2,FALSE))","v":"No Response"}]
[null,"ID0118","2012-05-26T00:41:35",56160,56160,"USD",{"$f":"tblSalaries[[#This Row],[clean Salary (in local currency)]]*VLOOKUP(tblSalaries[[#This Row],[Currency]],tblXrate[],2,FALSE)","v":56160},{"$f":"IF($H$1=\"USD\",tblSalaries[[#This Row],[Salary in USD]],tblSalaries[[#This Row],[Salary in USD]]*VLOOKUP($H$1,USDtoUserChoice,2,FALSE))","v":460623.19680000003},"Utilization Analyst","Analyst","USA",{"$f":"VLOOKUP(tblSalaries[[#This Row],[Where do you work]],tblCountries[[Actual]:[Mapping]],2,FALSE)","v":"USA"},"4 to 6 hours a day",{"$f":"NA()","v":{"$error":"#N/A"}},{"$f":"IF(ISNA(VLOOKUP(tblSalaries[[#This Row],[Years of Experience]],vlookUpExp!$A$1:$B$56,2,FALSE)),\"No Response\",VLOOKUP(tblSalaries[[#This Row],[Years of Experience]],vlookUpExp!$A$1:$B$56,2,FALSE))","v":"No Response"}]
[null,"ID0119","2012-05-26T00:41:38",2000,24000,"USD",{"$f":"tblSalaries[[#This Row],[clean Salary (in local currency)]]*VLOOKUP(tblSalaries[[#This Row],[Currency]],tblXrate[],2,FALSE)","v":24000},{"$f":"IF($H$1=\"USD\",tblSalaries[[#This Row],[Salary in USD]],tblSalaries[[#This Row],[Salary in USD]]*VLOOKUP($H$1,USDtoUserChoice,2,FALSE))","v":196847.52000000002},"Researcher","Manager","Colombia",{"$f":"VLOOKUP(tblSalaries[[#This Row],[Where do you work]],tblCountries[[Actual]:[Mapping]],2,FALSE)","v":"Colombia"},"All the 8 hours baby, all the 8!",{"$f":"NA()","v":{"$error":"#N/A"}},{"$f":"IF(ISNA(VLOOKUP(tblSalaries[[#This Row],[Years of Experience]],vlookUpExp!$A$1:$B$56,2,FALSE)),\"No Response\",VLOOKUP(tblSalaries[[#This Row],[Years of Experience]],vlookUpExp!$A$1:$B$56,2,FALSE))","v":"No Response"}]
[null,"ID0120","2012-05-26T00:41:38",52000,52000,"USD",{"$f":"tblSalaries[[#This Row],[clean Salary (in local currency)]]*VLOOKUP(tblSalaries[[#This Row],[Currency]],tblXrate[],2,FALSE)","v":52000},{"$f":"IF($H$1=\"USD\",tblSalaries[[#This Row],[Salary in USD]],tblSalaries[[#This Row],[Salary in USD]]*VLOOKUP($H$1,USDtoUserChoice,2,FALSE))","v":426502.96},"Market Analyst","Analyst","USA",{"$f":"VLOOKUP(tblSalaries[[#This Row],[Where do you work]],tblCountries[[Actual]:[Mapping]],2,FALSE)","v":"USA"},"Excel ?!? What Excel?",{"$f":"NA()","v":{"$error":"#N/A"}},{"$f":"IF(ISNA(VLOOKUP(tblSalaries[[#This Row],[Years of Experience]],vlookUpExp!$A$1:$B$56,2,FALSE)),\"No Response\",VLOOKUP(tblSalaries[[#This Row],[Years of Experience]],vlookUpExp!$A$1:$B$56,2,FALSE))","v":"No Response"}]
[null,"ID0121","2012-05-26T00:41:41",60000,60000,"CAD",{"$f":"tblSalaries[[#This Row],[clean Salary (in local currency)]]*VLOOKUP(tblSalaries[[#This Row],[Currency]],tblXrate[],2,FALSE)","v":59001.691381819612},{"$f":"IF($H$1=\"USD\",tblSalaries[[#This Row],[Salary in USD]],tblSalaries[[#This Row],[Salary in USD]]*VLOOKUP($H$1,USDtoUserChoice,2,FALSE))","v":483930.69267985685},"Web Developer","Analyst","Canada",{"$f":"VLOOKUP(tblSalaries[[#This Row],[Where do you work]],tblCountries[[Actual]:[Mapping]],2,FALSE)","v":"Canada"},"Excel ?!? What Excel?",{"$f":"NA()","v":{"$error":"#N/A"}},{"$f":"IF(ISNA(VLOOKUP(tblSalaries[[#This Row],[Years of Experience]],vlookUpExp!$A$1:$B$56,2,FALSE)),\"No Response\",VLOOKUP(tblSalaries[[#This Row],[Years of Experience]],vlookUpExp!$A$1:$B$56,2,FALSE))","v":"No Response"}]
[null,"ID0122","2012-05-26T00:41:43",70000,70000,"USD",{"$f":"tblSalaries[[#This Row],[clean Salary (in local currency)]]*VLOOKUP(tblSalaries[[#This Row],[Currency]],tblXrate[],2,FALSE)","v":70000},{"$f":"IF($H$1=\"USD\",tblSalaries[[#This Row],[Salary in USD]],tblSalaries[[#This Row],[Salary in USD]]*VLOOKUP($H$1,USDtoUserChoice,2,FALSE))","v":574138.60000000009},"Sr. Acct","Accountant","USA",{"$f":"VLOOKUP(tblSalaries[[#This Row],[Where do you work]],tblCountries[[Actual]:[Mapping]],2,FALSE)","v":"USA"},"All the 8 hours baby, all the 8!",{"$f":"NA()","v":{"$error":"#N/A"}},{"$f":"IF(ISNA(VLOOKUP(tblSalaries[[#This Row],[Years of Experience]],vlookUpExp!$A$1:$B$56,2,FALSE)),\"No Response\",VLOOKUP(tblSalaries[[#This Row],[Years of Experience]],vlookUpExp!$A$1:$B$56,2,FALSE))","v":"No Response"}]
[null,"ID0123","2012-05-26T00:41:56",50000,50000,"USD",{"$f":"tblSalaries[[#This Row],[clean Salary (in local currency)]]*VLOOKUP(tblSalaries[[#This Row],[Currency]],tblXrate[],2,FALSE)","v":50000},{"$f":"IF($H$1=\"USD\",tblSalaries[[#This Row],[Salary in USD]],tblSalaries[[#This Row],[Salary in USD]]*VLOOKUP($H$1,USDtoUserChoice,2,FALSE))","v":410099.00000000006},"Information Systems Specialist","Specialist","USA",{"$f":"VLOOKUP(tblSalaries[[#This Row],[Where do you work]],tblCountries[[Actual]:[Mapping]],2,FALSE)","v":"USA"},"4 to 6 hours a day",{"$f":"NA()","v":{"$error":"#N/A"}},{"$f":"IF(ISNA(VLOOKUP(tblSalaries[[#This Row],[Years of Experience]],vlookUpExp!$A$1:$B$56,2,FALSE)),\"No Response\",VLOOKUP(tblSalaries[[#This Row],[Years of Experience]],vlookUpExp!$A$1:$B$56,2,FALSE))","v":"No Response"}]
[null,"ID0124","2012-05-26T00:41:58",2300000,2300000,"INR",{"$f":"tblSalaries[[#This Row],[clean Salary (in local currency)]]*VLOOKUP(tblSalaries[[#This Row],[Currency]],tblXrate[],2,FALSE)","v":40958.208381117904},{"$f":"IF($H$1=\"USD\",tblSalaries[[#This Row],[Salary in USD]],tblSalaries[[#This Row],[Salary in USD]]*VLOOKUP($H$1,USDtoUserChoice,2,FALSE))","v":335938.40597776143},"Analytics lead","Analyst","India",{"$f":"VLOOKUP(tblSalaries[[#This Row],[Where do you work]],tblCountries[[Actual]:[Mapping]],2,FALSE)","v":"India"},"1 or 2 hours a day",{"$f":"NA()","v":{"$error":"#N/A"}},{"$f":"IF(ISNA(VLOOKUP(tblSalaries[[#This Row],[Years of Experience]],vlookUpExp!$A$1:$B$56,2,FALSE)),\"No Response\",VLOOKUP(tblSalaries[[#This Row],[Years of Experience]],vlookUpExp!$A$1:$B$56,2,FALSE))","v":"No Response"}]
[null,"ID0125","2012-05-26T00:42:00",80000,80000,"USD",{"$f":"tblSalaries[[#This Row],[clean Salary (in local currency)]]*VLOOKUP(tblSalaries[[#This Row],[Currency]],tblXrate[],2,FALSE)","v":80000},{"$f":"IF($H$1=\"USD\",tblSalaries[[#This Row],[Salary in USD]],tblSalaries[[#This Row],[Salary in USD]]*VLOOKUP($H$1,USDtoUserChoice,2,FALSE))","v":656158.4},"Financial Analyst","Analyst","USA",{"$f":"VLOOKUP(tblSalaries[[#This Row],[Where do you work]],tblCountries[[Actual]:[Mapping]],2,FALSE)","v":"USA"},"4 to 6 hours a day",{"$f":"NA()","v":{"$error":"#N/A"}},{"$f":"IF(ISNA(VLOOKUP(tblSalaries[[#This Row],[Years of Experience]],vlookUpExp!$A$1:$B$56,2,FALSE)),\"No Response\",VLOOKUP(tblSalaries[[#This Row],[Years of Experience]],vlookUpExp!$A$1:$B$56,2,FALSE))","v":"No Response"}]
[null,"ID0126","2012-05-26T00:42:08",128000,128000,"USD",{"$f":"tblSalaries[[#This Row],[clean Salary (in local currency)]]*VLOOKUP(tblSalaries[[#This Row],[Currency]],tblXrate[],2,FALSE)","v":128000},{"$f":"IF($H$1=\"USD\",tblSalaries[[#This Row],[Salary in USD]],tblSalaries[[#This Row],[Salary in USD]]*VLOOKUP($H$1,USDtoUserChoice,2,FALSE))","v":1049853.4400000002},"Actuary","Manager","USA",{"$f":"VLOOKUP(tblSalaries[[#This Row],[Where do you work]],tblCountries[[Actual]:[Mapping]],2,FALSE)","v":"USA"},"All the 8 hours baby, all the 8!",{"$f":"NA()","v":{"$error":"#N/A"}},{"$f":"IF(ISNA(VLOOKUP(tblSalaries[[#This Row],[Years of Experience]],vlookUpExp!$A$1:$B$56,2,FALSE)),\"No Response\",VLOOKUP(tblSalaries[[#This Row],[Years of Experience]],vlookUpExp!$A$1:$B$56,2,FALSE))","v":"No Response"}]
[null,"ID0127","2012-05-26T00:42:10","US $44,000",44000,"USD",{"$f":"tblSalaries[[#This Row],[clean Salary (in local currency)]]*VLOOKUP(tblSalaries[[#This Row],[Currency]],tblXrate[],2,FALSE)","v":44000},{"$f":"IF($H$1=\"USD\",tblSalaries[[#This Row],[Salary in USD]],tblSalaries[[#This Row],[Salary in USD]]*VLOOKUP($H$1,USDtoUserChoice,2,FALSE))","v":360887.12000000005},"School Tech Coordinator","Manager","USA",{"$f":"VLOOKUP(tblSalaries[[#This Row],[Where do you work]],tblCountries[[Actual]:[Mapping]],2,FALSE)","v":"USA"},"1 or 2 hours a day",{"$f":"NA()","v":{"$error":"#N/A"}},{"$f":"IF(ISNA(VLOOKUP(tblSalaries[[#This Row],[Years of Experience]],vlookUpExp!$A$1:$B$56,2,FALSE)),\"No Response\",VLOOKUP(tblSalaries[[#This Row],[Years of Experience]],vlookUpExp!$A$1:$B$56,2,FALSE))","v":"No Response"}]
[null,"ID0128","2012-05-26T00:42:11",65000,65000,"USD",{"$f":"tblSalaries[[#This Row],[clean Salary (in local currency)]]*VLOOKUP(tblSalaries[[#This Row],[Currency]],tblXrate[],2,FALSE)","v":65000},{"$f":"IF($H$1=\"USD\",tblSalaries[[#This Row],[Salary in USD]],tblSalaries[[#This Row],[Salary in USD]]*VLOOKUP($H$1,USDtoUserChoice,2,FALSE))","v":533128.70000000007},"sr accountant","Accountant","USA",{"$f":"VLOOKUP(tblSalaries[[#This Row],[Where do you work]],tblCountries[[Actual]:[Mapping]],2,FALSE)","v":"USA"},"All the 8 hours baby, all the 8!",{"$f":"NA()","v":{"$error":"#N/A"}},{"$f":"IF(ISNA(VLOOKUP(tblSalaries[[#This Row],[Years of Experience]],vlookUpExp!$A$1:$B$56,2,FALSE)),\"No Response\",VLOOKUP(tblSalaries[[#This Row],[Years of Experience]],vlookUpExp!$A$1:$B$56,2,FALSE))","v":"No Response"}]
[null,"ID0129","2012-05-26T00:42:32","36000 usd",36000,"USD",{"$f":"tblSalaries[[#This Row],[clean Salary (in local currency)]]*VLOOKUP(tblSalaries[[#This Row],[Currency]],tblXrate[],2,FALSE)","v":36000},{"$f":"IF($H$1=\"USD\",tblSalaries[[#This Row],[Salary in USD]],tblSalaries[[#This Row],[Salary in USD]]*VLOOKUP($H$1,USDtoUserChoice,2,FALSE))","v":295271.28000000003},"senior accountant","Accountant","Turkey",{"$f":"VLOOKUP(tblSalaries[[#This Row],[Where do you work]],tblCountries[[Actual]:[Mapping]],2,FALSE)","v":"Turkey"},"4 to 6 hours a day",{"$f":"NA()","v":{"$error":"#N/A"}},{"$f":"IF(ISNA(VLOOKUP(tblSalaries[[#This Row],[Years of Experience]],vlookUpExp!$A$1:$B$56,2,FALSE)),\"No Response\",VLOOKUP(tblSalaries[[#This Row],[Years of Experience]],vlookUpExp!$A$1:$B$56,2,FALSE))","v":"No Response"}]
[null,"ID0130","2012-05-26T00:42:34",1000,12000,"USD",{"$f":"tblSalaries[[#This Row],[clean Salary (in local currency)]]*VLOOKUP(tblSalaries[[#This Row],[Currency]],tblXrate[],2,FALSE)","v":12000},{"$f":"IF($H$1=\"USD\",tblSalaries[[#This Row],[Salary in USD]],tblSalaries[[#This Row],[Salary in USD]]*VLOOKUP($H$1,USDtoUserChoice,2,FALSE))","v":98423.760000000009},"Freelance","Consultant","Pakistan",{"$f":"VLOOKUP(tblSalaries[[#This Row],[Where do you work]],tblCountries[[Actual]:[Mapping]],2,FALSE)","v":"Pakistan"},"1 or 2 hours a day",{"$f":"NA()","v":{"$error":"#N/A"}},{"$f":"IF(ISNA(VLOOKUP(tblSalaries[[#This Row],[Years of Experience]],vlookUpExp!$A$1:$B$56,2,FALSE)),\"No Response\",VLOOKUP(tblSalaries[[#This Row],[Years of Experience]],vlookUpExp!$A$1:$B$56,2,FALSE))","v":"No Response"}]
[null,"ID0131","2012-05-26T00:42:41",28159.200000000001,28159,"GBP",{"$f":"tblSalaries[[#This Row],[clean Salary (in local currency)]]*VLOOKUP(tblSalaries[[#This Row],[Currency]],tblXrate[],2,FALSE)","v":44383.603963142654},{"$f":"IF($H$1=\"USD\",tblSalaries[[#This Row],[Salary in USD]],tblSalaries[[#This Row],[Salary in USD]]*VLOOKUP($H$1,USDtoUserChoice,2,FALSE))","v":364033.43203361682},"Data Analyst","Analyst","UK",{"$f":"VLOOKUP(tblSalaries[[#This Row],[Where do you work]],tblCountries[[Actual]:[Mapping]],2,FALSE)","v":"UK"},"All the 8 hours baby, all the 8!",{"$f":"NA()","v":{"$error":"#N/A"}},{"$f":"IF(ISNA(VLOOKUP(tblSalaries[[#This Row],[Years of Experience]],vlookUpExp!$A$1:$B$56,2,FALSE)),\"No Response\",VLOOKUP(tblSalaries[[#This Row],[Years of Experience]],vlookUpExp!$A$1:$B$56,2,FALSE))","v":"No Response"}]
[null,"ID0132","2012-05-26T00:42:46",45000,45000,"USD",{"$f":"tblSalaries[[#This Row],[clean Salary (in local currency)]]*VLOOKUP(tblSalaries[[#This Row],[Currency]],tblXrate[],2,FALSE)","v":45000},{"$f":"IF($H$1=\"USD\",tblSalaries[[#This Row],[Salary in USD]],tblSalaries[[#This Row],[Salary in USD]]*VLOOKUP($H$1,USDtoUserChoice,2,FALSE))","v":369089.10000000003},"DBA","Analyst","USA",{"$f":"VLOOKUP(tblSalaries[[#This Row],[Where do you work]],tblCountries[[Actual]:[Mapping]],2,FALSE)","v":"USA"},"4 to 6 hours a day",{"$f":"NA()","v":{"$error":"#N/A"}},{"$f":"IF(ISNA(VLOOKUP(tblSalaries[[#This Row],[Years of Experience]],vlookUpExp!$A$1:$B$56,2,FALSE)),\"No Response\",VLOOKUP(tblSalaries[[#This Row],[Years of Experience]],vlookUpExp!$A$1:$B$56,2,FALSE))","v":"No Response"}]
[null,"ID0133","2012-05-26T00:42:58",54000,54000,"USD",{"$f":"tblSalaries[[#This Row],[clean Salary (in local currency)]]*VLOOKUP(tblSalaries[[#This Row],[Currency]],tblXrate[],2,FALSE)","v":54000},{"$f":"IF($H$1=\"USD\",tblSalaries[[#This Row],[Salary in USD]],tblSalaries[[#This Row],[Salary in USD]]*VLOOKUP($H$1,USDtoUserChoice,2,FALSE))","v":442906.92000000004},"Research Analyst","Analyst","USA",{"$f":"VLOOKUP(tblSalaries[[#This Row],[Where do you work]],tblCountries[[Actual]:[Mapping]],2,FALSE)","v":"USA"},"2 to 3 hours per day",{"$f":"NA()","v":{"$error":"#N/A"}},{"$f":"IF(ISNA(VLOOKUP(tblSalaries[[#This Row],[Years of Experience]],vlookUpExp!$A$1:$B$56,2,FALSE)),\"No Response\",VLOOKUP(tblSalaries[[#This Row],[Years of Experience]],vlookUpExp!$A$1:$B$56,2,FALSE))","v":"No Response"}]
[null,"ID0134","2012-05-26T00:43:03",70000,70000,"GBP",{"$f":"tblSalaries[[#This Row],[clean Salary (in local currency)]]*VLOOKUP(tblSalaries[[#This Row],[Currency]],tblXrate[],2,FALSE)","v":110332.47904470989},{"$f":"IF($H$1=\"USD\",tblSalaries[[#This Row],[Salary in USD]],tblSalaries[[#This Row],[Salary in USD]]*VLOOKUP($H$1,USDtoUserChoice,2,FALSE))","v":904944.78647512977},"Project Manager","Manager","UK",{"$f":"VLOOKUP(tblSalaries[[#This Row],[Where do you work]],tblCountries[[Actual]:[Mapping]],2,FALSE)","v":"UK"},"2 to 3 hours per day",{"$f":"NA()","v":{"$error":"#N/A"}},{"$f":"IF(ISNA(VLOOKUP(tblSalaries[[#This Row],[Years of Experience]],vlookUpExp!$A$1:$B$56,2,FALSE)),\"No Response\",VLOOKUP(tblSalaries[[#This Row],[Years of Experience]],vlookUpExp!$A$1:$B$56,2,FALSE))","v":"No Response"}]
[null,"ID0135","2012-05-26T00:43:07",71000,71000,"USD",{"$f":"tblSalaries[[#This Row],[clean Salary (in local currency)]]*VLOOKUP(tblSalaries[[#This Row],[Currency]],tblXrate[],2,FALSE)","v":71000},{"$f":"IF($H$1=\"USD\",tblSalaries[[#This Row],[Salary in USD]],tblSalaries[[#This Row],[Salary in USD]]*VLOOKUP($H$1,USDtoUserChoice,2,FALSE))","v":582340.58000000007},"Market Research Analyst","Analyst","USA",{"$f":"VLOOKUP(tblSalaries[[#This Row],[Where do you work]],tblCountries[[Actual]:[Mapping]],2,FALSE)","v":"USA"},"4 to 6 hours a day",{"$f":"NA()","v":{"$error":"#N/A"}},{"$f":"IF(ISNA(VLOOKUP(tblSalaries[[#This Row],[Years of Experience]],vlookUpExp!$A$1:$B$56,2,FALSE)),\"No Response\",VLOOKUP(tblSalaries[[#This Row],[Years of Experience]],vlookUpExp!$A$1:$B$56,2,FALSE))","v":"No Response"}]
[null,"ID0136","2012-05-26T00:43:08",800000,800000,"INR",{"$f":"tblSalaries[[#This Row],[clean Salary (in local currency)]]*VLOOKUP(tblSalaries[[#This Row],[Currency]],tblXrate[],2,FALSE)","v":14246.333349954055},{"$f":"IF($H$1=\"USD\",tblSalaries[[#This Row],[Salary in USD]],tblSalaries[[#This Row],[Salary in USD]]*VLOOKUP($H$1,USDtoUserChoice,2,FALSE))","v":116848.14120965617},"Manager : Accounts","Manager","India",{"$f":"VLOOKUP(tblSalaries[[#This Row],[Where do you work]],tblCountries[[Actual]:[Mapping]],2,FALSE)","v":"India"},"2 to 3 hours per day",{"$f":"NA()","v":{"$error":"#N/A"}},{"$f":"IF(ISNA(VLOOKUP(tblSalaries[[#This Row],[Years of Experience]],vlookUpExp!$A$1:$B$56,2,FALSE)),\"No Response\",VLOOKUP(tblSalaries[[#This Row],[Years of Experience]],vlookUpExp!$A$1:$B$56,2,FALSE))","v":"No Response"}]
[null,"ID0137","2012-05-26T00:43:17",70000,70000,"CAD",{"$f":"tblSalaries[[#This Row],[clean Salary (in local currency)]]*VLOOKUP(tblSalaries[[#This Row],[Currency]],tblXrate[],2,FALSE)","v":68835.306612122877},{"$f":"IF($H$1=\"USD\",tblSalaries[[#This Row],[Salary in USD]],tblSalaries[[#This Row],[Salary in USD]]*VLOOKUP($H$1,USDtoUserChoice,2,FALSE))","v":564585.80812649964},"project manager","Manager","canada",{"$f":"VLOOKUP(tblSalaries[[#This Row],[Where do you work]],tblCountries[[Actual]:[Mapping]],2,FALSE)","v":"Canada"},"4 to 6 hours a day",{"$f":"NA()","v":{"$error":"#N/A"}},{"$f":"IF(ISNA(VLOOKUP(tblSalaries[[#This Row],[Years of Experience]],vlookUpExp!$A$1:$B$56,2,FALSE)),\"No Response\",VLOOKUP(tblSalaries[[#This Row],[Years of Experience]],vlookUpExp!$A$1:$B$56,2,FALSE))","v":"No Response"}]
[null,"ID0138","2012-05-26T00:43:25",50000,50000,"CAD",{"$f":"tblSalaries[[#This Row],[clean Salary (in local currency)]]*VLOOKUP(tblSalaries[[#This Row],[Currency]],tblXrate[],2,FALSE)","v":49168.076151516347},{"$f":"IF($H$1=\"USD\",tblSalaries[[#This Row],[Salary in USD]],tblSalaries[[#This Row],[Salary in USD]]*VLOOKUP($H$1,USDtoUserChoice,2,FALSE))","v":403275.57723321411},"Inventory manger","Manager","Canada",{"$f":"VLOOKUP(tblSalaries[[#This Row],[Where do you work]],tblCountries[[Actual]:[Mapping]],2,FALSE)","v":"Canada"},"4 to 6 hours a day",{"$f":"NA()","v":{"$error":"#N/A"}},{"$f":"IF(ISNA(VLOOKUP(tblSalaries[[#This Row],[Years of Experience]],vlookUpExp!$A$1:$B$56,2,FALSE)),\"No Response\",VLOOKUP(tblSalaries[[#This Row],[Years of Experience]],vlookUpExp!$A$1:$B$56,2,FALSE))","v":"No Response"}]
[null,"ID0139","2012-05-26T00:43:27",40000,40000,"USD",{"$f":"tblSalaries[[#This Row],[clean Salary (in local currency)]]*VLOOKUP(tblSalaries[[#This Row],[Currency]],tblXrate[],2,FALSE)","v":40000},{"$f":"IF($H$1=\"USD\",tblSalaries[[#This Row],[Salary in USD]],tblSalaries[[#This Row],[Salary in USD]]*VLOOKUP($H$1,USDtoUserChoice,2,FALSE))","v":328079.2},"Business Analyst","Analyst","USA",{"$f":"VLOOKUP(tblSalaries[[#This Row],[Where do you work]],tblCountries[[Actual]:[Mapping]],2,FALSE)","v":"USA"},"4 to 6 hours a day",{"$f":"NA()","v":{"$error":"#N/A"}},{"$f":"IF(ISNA(VLOOKUP(tblSalaries[[#This Row],[Years of Experience]],vlookUpExp!$A$1:$B$56,2,FALSE)),\"No Response\",VLOOKUP(tblSalaries[[#This Row],[Years of Experience]],vlookUpExp!$A$1:$B$56,2,FALSE))","v":"No Response"}]
[null,"ID0140","2012-05-26T00:43:34","$62,000 CND",62000,"CAD",{"$f":"tblSalaries[[#This Row],[clean Salary (in local currency)]]*VLOOKUP(tblSalaries[[#This Row],[Currency]],tblXrate[],2,FALSE)","v":60968.414427880263},{"$f":"IF($H$1=\"USD\",tblSalaries[[#This Row],[Salary in USD]],tblSalaries[[#This Row],[Salary in USD]]*VLOOKUP($H$1,USDtoUserChoice,2,FALSE))","v":500061.71576918539},"Process Technician","Analyst","Canada",{"$f":"VLOOKUP(tblSalaries[[#This Row],[Where do you work]],tblCountries[[Actual]:[Mapping]],2,FALSE)","v":"Canada"},"2 to 3 hours per day",{"$f":"NA()","v":{"$error":"#N/A"}},{"$f":"IF(ISNA(VLOOKUP(tblSalaries[[#This Row],[Years of Experience]],vlookUpExp!$A$1:$B$56,2,FALSE)),\"No Response\",VLOOKUP(tblSalaries[[#This Row],[Years of Experience]],vlookUpExp!$A$1:$B$56,2,FALSE))","v":"No Response"}]
[null,"ID0141","2012-05-26T00:43:36","28000rs",336000,"INR",{"$f":"tblSalaries[[#This Row],[clean Salary (in local currency)]]*VLOOKUP(tblSalaries[[#This Row],[Currency]],tblXrate[],2,FALSE)","v":5983.4600069807029},{"$f":"IF($H$1=\"USD\",tblSalaries[[#This Row],[Salary in USD]],tblSalaries[[#This Row],[Salary in USD]]*VLOOKUP($H$1,USDtoUserChoice,2,FALSE))","v":49076.219308055588},"MIS Team Leader","Reporting","India",{"$f":"VLOOKUP(tblSalaries[[#This Row],[Where do you work]],tblCountries[[Actual]:[Mapping]],2,FALSE)","v":"India"},"4 to 6 hours a day",{"$f":"NA()","v":{"$error":"#N/A"}},{"$f":"IF(ISNA(VLOOKUP(tblSalaries[[#This Row],[Years of Experience]],vlookUpExp!$A$1:$B$56,2,FALSE)),\"No Response\",VLOOKUP(tblSalaries[[#This Row],[Years of Experience]],vlookUpExp!$A$1:$B$56,2,FALSE))","v":"No Response"}]
[null,"ID0142","2012-05-26T00:43:36",53000,53000,"USD",{"$f":"tblSalaries[[#This Row],[clean Salary (in local currency)]]*VLOOKUP(tblSalaries[[#This Row],[Currency]],tblXrate[],2,FALSE)","v":53000},{"$f":"IF($H$1=\"USD\",tblSalaries[[#This Row],[Salary in USD]],tblSalaries[[#This Row],[Salary in USD]]*VLOOKUP($H$1,USDtoUserChoice,2,FALSE))","v":434704.94000000006},"Data Analyst","Analyst","USA",{"$f":"VLOOKUP(tblSalaries[[#This Row],[Where do you work]],tblCountries[[Actual]:[Mapping]],2,FALSE)","v":"USA"},"4 to 6 hours a day",{"$f":"NA()","v":{"$error":"#N/A"}},{"$f":"IF(ISNA(VLOOKUP(tblSalaries[[#This Row],[Years of Experience]],vlookUpExp!$A$1:$B$56,2,FALSE)),\"No Response\",VLOOKUP(tblSalaries[[#This Row],[Years of Experience]],vlookUpExp!$A$1:$B$56,2,FALSE))","v":"No Response"}]
[null,"ID0143","2012-05-26T00:43:49",104000,104000,"USD",{"$f":"tblSalaries[[#This Row],[clean Salary (in local currency)]]*VLOOKUP(tblSalaries[[#This Row],[Currency]],tblXrate[],2,FALSE)","v":104000},{"$f":"IF($H$1=\"USD\",tblSalaries[[#This Row],[Salary in USD]],tblSalaries[[#This Row],[Salary in USD]]*VLOOKUP($H$1,USDtoUserChoice,2,FALSE))","v":853005.92},"Finance Director","CXO or Top Mgmt.","USA",{"$f":"VLOOKUP(tblSalaries[[#This Row],[Where do you work]],tblCountries[[Actual]:[Mapping]],2,FALSE)","v":"USA"},"2 to 3 hours per day",{"$f":"NA()","v":{"$error":"#N/A"}},{"$f":"IF(ISNA(VLOOKUP(tblSalaries[[#This Row],[Years of Experience]],vlookUpExp!$A$1:$B$56,2,FALSE)),\"No Response\",VLOOKUP(tblSalaries[[#This Row],[Years of Experience]],vlookUpExp!$A$1:$B$56,2,FALSE))","v":"No Response"}]
[null,"ID0144","2012-05-26T00:44:02",57000,57000,"USD",{"$f":"tblSalaries[[#This Row],[clean Salary (in local currency)]]*VLOOKUP(tblSalaries[[#This Row],[Currency]],tblXrate[],2,FALSE)","v":57000},{"$f":"IF($H$1=\"USD\",tblSalaries[[#This Row],[Salary in USD]],tblSalaries[[#This Row],[Salary in USD]]*VLOOKUP($H$1,USDtoUserChoice,2,FALSE))","v":467512.86000000004},"Industrial Engineer","Engineer","USA",{"$f":"VLOOKUP(tblSalaries[[#This Row],[Where do you work]],tblCountries[[Actual]:[Mapping]],2,FALSE)","v":"USA"},"4 to 6 hours a day",{"$f":"NA()","v":{"$error":"#N/A"}},{"$f":"IF(ISNA(VLOOKUP(tblSalaries[[#This Row],[Years of Experience]],vlookUpExp!$A$1:$B$56,2,FALSE)),\"No Response\",VLOOKUP(tblSalaries[[#This Row],[Years of Experience]],vlookUpExp!$A$1:$B$56,2,FALSE))","v":"No Response"}]
[null,"ID0145","2012-05-26T00:44:09",45000,45000,"USD",{"$f":"tblSalaries[[#This Row],[clean Salary (in local currency)]]*VLOOKUP(tblSalaries[[#This Row],[Currency]],tblXrate[],2,FALSE)","v":45000},{"$f":"IF($H$1=\"USD\",tblSalaries[[#This Row],[Salary in USD]],tblSalaries[[#This Row],[Salary in USD]]*VLOOKUP($H$1,USDtoUserChoice,2,FALSE))","v":369089.10000000003},"data analyst","Analyst","USA",{"$f":"VLOOKUP(tblSalaries[[#This Row],[Where do you work]],tblCountries[[Actual]:[Mapping]],2,FALSE)","v":"USA"},"2 to 3 hours per day",{"$f":"NA()","v":{"$error":"#N/A"}},{"$f":"IF(ISNA(VLOOKUP(tblSalaries[[#This Row],[Years of Experience]],vlookUpExp!$A$1:$B$56,2,FALSE)),\"No Response\",VLOOKUP(tblSalaries[[#This Row],[Years of Experience]],vlookUpExp!$A$1:$B$56,2,FALSE))","v":"No Response"}]
[null,"ID0146","2012-05-26T00:44:15",92000,92000,"USD",{"$f":"tblSalaries[[#This Row],[clean Salary (in local currency)]]*VLOOKUP(tblSalaries[[#This Row],[Currency]],tblXrate[],2,FALSE)","v":92000},{"$f":"IF($H$1=\"USD\",tblSalaries[[#This Row],[Salary in USD]],tblSalaries[[#This Row],[Salary in USD]]*VLOOKUP($H$1,USDtoUserChoice,2,FALSE))","v":754582.16},"Senior Financial & Systems Analyst","Analyst","USA",{"$f":"VLOOKUP(tblSalaries[[#This Row],[Where do you work]],tblCountries[[Actual]:[Mapping]],2,FALSE)","v":"USA"},"4 to 6 hours a day",{"$f":"NA()","v":{"$error":"#N/A"}},{"$f":"IF(ISNA(VLOOKUP(tblSalaries[[#This Row],[Years of Experience]],vlookUpExp!$A$1:$B$56,2,FALSE)),\"No Response\",VLOOKUP(tblSalaries[[#This Row],[Years of Experience]],vlookUpExp!$A$1:$B$56,2,FALSE))","v":"No Response"}]
[null,"ID0147","2012-05-26T00:44:18",88000,88000,"USD",{"$f":"tblSalaries[[#This Row],[clean Salary (in local currency)]]*VLOOKUP(tblSalaries[[#This Row],[Currency]],tblXrate[],2,FALSE)","v":88000},{"$f":"IF($H$1=\"USD\",tblSalaries[[#This Row],[Salary in USD]],tblSalaries[[#This Row],[Salary in USD]]*VLOOKUP($H$1,USDtoUserChoice,2,FALSE))","v":721774.24000000011},"project manager - metrics","Manager","USA",{"$f":"VLOOKUP(tblSalaries[[#This Row],[Where do you work]],tblCountries[[Actual]:[Mapping]],2,FALSE)","v":"USA"},"4 to 6 hours a day",{"$f":"NA()","v":{"$error":"#N/A"}},{"$f":"IF(ISNA(VLOOKUP(tblSalaries[[#This Row],[Years of Experience]],vlookUpExp!$A$1:$B$56,2,FALSE)),\"No Response\",VLOOKUP(tblSalaries[[#This Row],[Years of Experience]],vlookUpExp!$A$1:$B$56,2,FALSE))","v":"No Response"}]
[null,"ID0148","2012-05-26T00:44:20",80000,80000,"USD",{"$f":"tblSalaries[[#This Row],[clean Salary (in local currency)]]*VLOOKUP(tblSalaries[[#This Row],[Currency]],tblXrate[],2,FALSE)","v":80000},{"$f":"IF($H$1=\"USD\",tblSalaries[[#This Row],[Salary in USD]],tblSalaries[[#This Row],[Salary in USD]]*VLOOKUP($H$1,USDtoUserChoice,2,FALSE))","v":656158.4},"Informatics Research Analyst","Analyst","USA",{"$f":"VLOOKUP(tblSalaries[[#This Row],[Where do you work]],tblCountries[[Actual]:[Mapping]],2,FALSE)","v":"USA"},"2 to 3 hours per day",{"$f":"NA()","v":{"$error":"#N/A"}},{"$f":"IF(ISNA(VLOOKUP(tblSalaries[[#This Row],[Years of Experience]],vlookUpExp!$A$1:$B$56,2,FALSE)),\"No Response\",VLOOKUP(tblSalaries[[#This Row],[Years of Experience]],vlookUpExp!$A$1:$B$56,2,FALSE))","v":"No Response"}]
[null,"ID0149","2012-05-26T00:44:22",69000,69000,"USD",{"$f":"tblSalaries[[#This Row],[clean Salary (in local currency)]]*VLOOKUP(tblSalaries[[#This Row],[Currency]],tblXrate[],2,FALSE)","v":69000},{"$f":"IF($H$1=\"USD\",tblSalaries[[#This Row],[Salary in USD]],tblSalaries[[#This Row],[Salary in USD]]*VLOOKUP($H$1,USDtoUserChoice,2,FALSE))","v":565936.62},"Business Technical Consultant","Consultant","USA",{"$f":"VLOOKUP(tblSalaries[[#This Row],[Where do you work]],tblCountries[[Actual]:[Mapping]],2,FALSE)","v":"USA"},"4 to 6 hours a day",{"$f":"NA()","v":{"$error":"#N/A"}},{"$f":"IF(ISNA(VLOOKUP(tblSalaries[[#This Row],[Years of Experience]],vlookUpExp!$A$1:$B$56,2,FALSE)),\"No Response\",VLOOKUP(tblSalaries[[#This Row],[Years of Experience]],vlookUpExp!$A$1:$B$56,2,FALSE))","v":"No Response"}]
[null,"ID0150","2012-05-26T00:44:23",50000,50000,"USD",{"$f":"tblSalaries[[#This Row],[clean Salary (in local currency)]]*VLOOKUP(tblSalaries[[#This Row],[Currency]],tblXrate[],2,FALSE)","v":50000},{"$f":"IF($H$1=\"USD\",tblSalaries[[#This Row],[Salary in USD]],tblSalaries[[#This Row],[Salary in USD]]*VLOOKUP($H$1,USDtoUserChoice,2,FALSE))","v":410099.00000000006},"Business Operations Reporting Analyst","Analyst","Mexico",{"$f":"VLOOKUP(tblSalaries[[#This Row],[Where do you work]],tblCountries[[Actual]:[Mapping]],2,FALSE)","v":"Mexico"},"All the 8 hours baby, all the 8!",{"$f":"NA()","v":{"$error":"#N/A"}},{"$f":"IF(ISNA(VLOOKUP(tblSalaries[[#This Row],[Years of Experience]],vlookUpExp!$A$1:$B$56,2,FALSE)),\"No Response\",VLOOKUP(tblSalaries[[#This Row],[Years of Experience]],vlookUpExp!$A$1:$B$56,2,FALSE))","v":"No Response"}]
[null,"ID0151","2012-05-26T00:44:40",35000,35000,"USD",{"$f":"tblSalaries[[#This Row],[clean Salary (in local currency)]]*VLOOKUP(tblSalaries[[#This Row],[Currency]],tblXrate[],2,FALSE)","v":35000},{"$f":"IF($H$1=\"USD\",tblSalaries[[#This Row],[Salary in USD]],tblSalaries[[#This Row],[Salary in USD]]*VLOOKUP($H$1,USDtoUserChoice,2,FALSE))","v":287069.30000000005},"Program Services Coordinator","Manager","USA",{"$f":"VLOOKUP(tblSalaries[[#This Row],[Where do you work]],tblCountries[[Actual]:[Mapping]],2,FALSE)","v":"USA"},"2 to 3 hours per day",{"$f":"NA()","v":{"$error":"#N/A"}},{"$f":"IF(ISNA(VLOOKUP(tblSalaries[[#This Row],[Years of Experience]],vlookUpExp!$A$1:$B$56,2,FALSE)),\"No Response\",VLOOKUP(tblSalaries[[#This Row],[Years of Experience]],vlookUpExp!$A$1:$B$56,2,FALSE))","v":"No Response"}]
[null,"ID0152","2012-05-26T00:44:59",96000,96000,"USD",{"$f":"tblSalaries[[#This Row],[clean Salary (in local currency)]]*VLOOKUP(tblSalaries[[#This Row],[Currency]],tblXrate[],2,FALSE)","v":96000},{"$f":"IF($H$1=\"USD\",tblSalaries[[#This Row],[Salary in USD]],tblSalaries[[#This Row],[Salary in USD]]*VLOOKUP($H$1,USDtoUserChoice,2,FALSE))","v":787390.08000000007},"Specialist - Finance Planning and Analysis","Analyst","USA",{"$f":"VLOOKUP(tblSalaries[[#This Row],[Where do you work]],tblCountries[[Actual]:[Mapping]],2,FALSE)","v":"USA"},"4 to 6 hours a day",{"$f":"NA()","v":{"$error":"#N/A"}},{"$f":"IF(ISNA(VLOOKUP(tblSalaries[[#This Row],[Years of Experience]],vlookUpExp!$A$1:$B$56,2,FALSE)),\"No Response\",VLOOKUP(tblSalaries[[#This Row],[Years of Experience]],vlookUpExp!$A$1:$B$56,2,FALSE))","v":"No Response"}]
[null,"ID0153","2012-05-26T00:45:00",65000,65000,"USD",{"$f":"tblSalaries[[#This Row],[clean Salary (in local currency)]]*VLOOKUP(tblSalaries[[#This Row],[Currency]],tblXrate[],2,FALSE)","v":65000},{"$f":"IF($H$1=\"USD\",tblSalaries[[#This Row],[Salary in USD]],tblSalaries[[#This Row],[Salary in USD]]*VLOOKUP($H$1,USDtoUserChoice,2,FALSE))","v":533128.70000000007},"Sr Accountant","Accountant","USA",{"$f":"VLOOKUP(tblSalaries[[#This Row],[Where do you work]],tblCountries[[Actual]:[Mapping]],2,FALSE)","v":"USA"},"All the 8 hours baby, all the 8!",{"$f":"NA()","v":{"$error":"#N/A"}},{"$f":"IF(ISNA(VLOOKUP(tblSalaries[[#This Row],[Years of Experience]],vlookUpExp!$A$1:$B$56,2,FALSE)),\"No Response\",VLOOKUP(tblSalaries[[#This Row],[Years of Experience]],vlookUpExp!$A$1:$B$56,2,FALSE))","v":"No Response"}]
[null,"ID0154","2012-05-26T00:45:06",37440,37440,"USD",{"$f":"tblSalaries[[#This Row],[clean Salary (in local currency)]]*VLOOKUP(tblSalaries[[#This Row],[Currency]],tblXrate[],2,FALSE)","v":37440},{"$f":"IF($H$1=\"USD\",tblSalaries[[#This Row],[Salary in USD]],tblSalaries[[#This Row],[Salary in USD]]*VLOOKUP($H$1,USDtoUserChoice,2,FALSE))","v":307082.1312},"sales analyst","Analyst","USA",{"$f":"VLOOKUP(tblSalaries[[#This Row],[Where do you work]],tblCountries[[Actual]:[Mapping]],2,FALSE)","v":"USA"},"All the 8 hours baby, all the 8!",{"$f":"NA()","v":{"$error":"#N/A"}},{"$f":"IF(ISNA(VLOOKUP(tblSalaries[[#This Row],[Years of Experience]],vlookUpExp!$A$1:$B$56,2,FALSE)),\"No Response\",VLOOKUP(tblSalaries[[#This Row],[Years of Experience]],vlookUpExp!$A$1:$B$56,2,FALSE))","v":"No Response"}]
[null,"ID0155","2012-05-26T00:45:11",15500,15500,"USD",{"$f":"tblSalaries[[#This Row],[clean Salary (in local currency)]]*VLOOKUP(tblSalaries[[#This Row],[Currency]],tblXrate[],2,FALSE)","v":15500},{"$f":"IF($H$1=\"USD\",tblSalaries[[#This Row],[Salary in USD]],tblSalaries[[#This Row],[Salary in USD]]*VLOOKUP($H$1,USDtoUserChoice,2,FALSE))","v":127130.69000000002},"Proces auditor","Accountant","Mexico",{"$f":"VLOOKUP(tblSalaries[[#This Row],[Where do you work]],tblCountries[[Actual]:[Mapping]],2,FALSE)","v":"Mexico"},"All the 8 hours baby, all the 8!",{"$f":"NA()","v":{"$error":"#N/A"}},{"$f":"IF(ISNA(VLOOKUP(tblSalaries[[#This Row],[Years of Experience]],vlookUpExp!$A$1:$B$56,2,FALSE)),\"No Response\",VLOOKUP(tblSalaries[[#This Row],[Years of Experience]],vlookUpExp!$A$1:$B$56,2,FALSE))","v":"No Response"}]
[null,"ID0156","2012-05-26T00:45:17","90000 USD",90000,"USD",{"$f":"tblSalaries[[#This Row],[clean Salary (in local currency)]]*VLOOKUP(tblSalaries[[#This Row],[Currency]],tblXrate[],2,FALSE)","v":90000},{"$f":"IF($H$1=\"USD\",tblSalaries[[#This Row],[Salary in USD]],tblSalaries[[#This Row],[Salary in USD]]*VLOOKUP($H$1,USDtoUserChoice,2,FALSE))","v":738178.20000000007},"Senior Data Quality Analyst","Analyst","USA",{"$f":"VLOOKUP(tblSalaries[[#This Row],[Where do you work]],tblCountries[[Actual]:[Mapping]],2,FALSE)","v":"USA"},"2 to 3 hours per day",{"$f":"NA()","v":{"$error":"#N/A"}},{"$f":"IF(ISNA(VLOOKUP(tblSalaries[[#This Row],[Years of Experience]],vlookUpExp!$A$1:$B$56,2,FALSE)),\"No Response\",VLOOKUP(tblSalaries[[#This Row],[Years of Experience]],vlookUpExp!$A$1:$B$56,2,FALSE))","v":"No Response"}]
[null,"ID0157","2012-05-26T00:45:46",66500,66500,"USD",{"$f":"tblSalaries[[#This Row],[clean Salary (in local currency)]]*VLOOKUP(tblSalaries[[#This Row],[Currency]],tblXrate[],2,FALSE)","v":66500},{"$f":"IF($H$1=\"USD\",tblSalaries[[#This Row],[Salary in USD]],tblSalaries[[#This Row],[Salary in USD]]*VLOOKUP($H$1,USDtoUserChoice,2,FALSE))","v":545431.67000000004},"Sr Business Analyst","Analyst","USA",{"$f":"VLOOKUP(tblSalaries[[#This Row],[Where do you work]],tblCountries[[Actual]:[Mapping]],2,FALSE)","v":"USA"},"All the 8 hours baby, all the 8!",{"$f":"NA()","v":{"$error":"#N/A"}},{"$f":"IF(ISNA(VLOOKUP(tblSalaries[[#This Row],[Years of Experience]],vlookUpExp!$A$1:$B$56,2,FALSE)),\"No Response\",VLOOKUP(tblSalaries[[#This Row],[Years of Experience]],vlookUpExp!$A$1:$B$56,2,FALSE))","v":"No Response"}]
[null,"ID0158","2012-05-26T00:45:49",100000,100000,"USD",{"$f":"tblSalaries[[#This Row],[clean Salary (in local currency)]]*VLOOKUP(tblSalaries[[#This Row],[Currency]],tblXrate[],2,FALSE)","v":100000},{"$f":"IF($H$1=\"USD\",tblSalaries[[#This Row],[Salary in USD]],tblSalaries[[#This Row],[Salary in USD]]*VLOOKUP($H$1,USDtoUserChoice,2,FALSE))","v":820198.00000000012},"COST ACCOUNTANT","Accountant","USA",{"$f":"VLOOKUP(tblSalaries[[#This Row],[Where do you work]],tblCountries[[Actual]:[Mapping]],2,FALSE)","v":"USA"},"All the 8 hours baby, all the 8!",{"$f":"NA()","v":{"$error":"#N/A"}},{"$f":"IF(ISNA(VLOOKUP(tblSalaries[[#This Row],[Years of Experience]],vlookUpExp!$A$1:$B$56,2,FALSE)),\"No Response\",VLOOKUP(tblSalaries[[#This Row],[Years of Experience]],vlookUpExp!$A$1:$B$56,2,FALSE))","v":"No Response"}]
[null,"ID0159","2012-05-26T00:45:51","Â£32250",32250,"GBP",{"$f":"tblSalaries[[#This Row],[clean Salary (in local currency)]]*VLOOKUP(tblSalaries[[#This Row],[Currency]],tblXrate[],2,FALSE)","v":50831.74927416991},{"$f":"IF($H$1=\"USD\",tblSalaries[[#This Row],[Salary in USD]],tblSalaries[[#This Row],[Salary in USD]]*VLOOKUP($H$1,USDtoUserChoice,2,FALSE))","v":416920.99091175618},"project Support","Manager","UK",{"$f":"VLOOKUP(tblSalaries[[#This Row],[Where do you work]],tblCountries[[Actual]:[Mapping]],2,FALSE)","v":"UK"},"4 to 6 hours a day",{"$f":"NA()","v":{"$error":"#N/A"}},{"$f":"IF(ISNA(VLOOKUP(tblSalaries[[#This Row],[Years of Experience]],vlookUpExp!$A$1:$B$56,2,FALSE)),\"No Response\",VLOOKUP(tblSalaries[[#This Row],[Years of Experience]],vlookUpExp!$A$1:$B$56,2,FALSE))","v":"No Response"}]
[null,"ID0160","2012-05-26T00:45:53",420000,420000,"INR",{"$f":"tblSalaries[[#This Row],[clean Salary (in local currency)]]*VLOOKUP(tblSalaries[[#This Row],[Currency]],tblXrate[],2,FALSE)","v":7479.3250087258784},{"$f":"IF($H$1=\"USD\",tblSalaries[[#This Row],[Salary in USD]],tblSalaries[[#This Row],[Salary in USD]]*VLOOKUP($H$1,USDtoUserChoice,2,FALSE))","v":61345.274135069485},"managerial","Manager","India",{"$f":"VLOOKUP(tblSalaries[[#This Row],[Where do you work]],tblCountries[[Actual]:[Mapping]],2,FALSE)","v":"India"},"1 or 2 hours a day",{"$f":"NA()","v":{"$error":"#N/A"}},{"$f":"IF(ISNA(VLOOKUP(tblSalaries[[#This Row],[Years of Experience]],vlookUpExp!$A$1:$B$56,2,FALSE)),\"No Response\",VLOOKUP(tblSalaries[[#This Row],[Years of Experience]],vlookUpExp!$A$1:$B$56,2,FALSE))","v":"No Response"}]
[null,"ID0161","2012-05-26T00:46:00",75000,75000,"USD",{"$f":"tblSalaries[[#This Row],[clean Salary (in local currency)]]*VLOOKUP(tblSalaries[[#This Row],[Currency]],tblXrate[],2,FALSE)","v":75000},{"$f":"IF($H$1=\"USD\",tblSalaries[[#This Row],[Salary in USD]],tblSalaries[[#This Row],[Salary in USD]]*VLOOKUP($H$1,USDtoUserChoice,2,FALSE))","v":615148.5},"Program Analyst","Analyst","USA",{"$f":"VLOOKUP(tblSalaries[[#This Row],[Where do you work]],tblCountries[[Actual]:[Mapping]],2,FALSE)","v":"USA"},"1 or 2 hours a day",{"$f":"NA()","v":{"$error":"#N/A"}},{"$f":"IF(ISNA(VLOOKUP(tblSalaries[[#This Row],[Years of Experience]],vlookUpExp!$A$1:$B$56,2,FALSE)),\"No Response\",VLOOKUP(tblSalaries[[#This Row],[Years of Experience]],vlookUpExp!$A$1:$B$56,2,FALSE))","v":"No Response"}]
[null,"ID0162","2012-05-26T00:46:25",58,58000,"USD",{"$f":"tblSalaries[[#This Row],[clean Salary (in local currency)]]*VLOOKUP(tblSalaries[[#This Row],[Currency]],tblXrate[],2,FALSE)","v":58000},{"$f":"IF($H$1=\"USD\",tblSalaries[[#This Row],[Salary in USD]],tblSalaries[[#This Row],[Salary in USD]]*VLOOKUP($H$1,USDtoUserChoice,2,FALSE))","v":475714.84},"Team Lead - Computer Discounts","Manager","Canada",{"$f":"VLOOKUP(tblSalaries[[#This Row],[Where do you work]],tblCountries[[Actual]:[Mapping]],2,FALSE)","v":"Canada"},"1 or 2 hours a day",{"$f":"NA()","v":{"$error":"#N/A"}},{"$f":"IF(ISNA(VLOOKUP(tblSalaries[[#This Row],[Years of Experience]],vlookUpExp!$A$1:$B$56,2,FALSE)),\"No Response\",VLOOKUP(tblSalaries[[#This Row],[Years of Experience]],vlookUpExp!$A$1:$B$56,2,FALSE))","v":"No Response"}]
[null,"ID0163","2012-05-26T00:46:29",55000,55000,"USD",{"$f":"tblSalaries[[#This Row],[clean Salary (in local currency)]]*VLOOKUP(tblSalaries[[#This Row],[Currency]],tblXrate[],2,FALSE)","v":55000},{"$f":"IF($H$1=\"USD\",tblSalaries[[#This Row],[Salary in USD]],tblSalaries[[#This Row],[Salary in USD]]*VLOOKUP($H$1,USDtoUserChoice,2,FALSE))","v":451108.9},"Change Architect","Manager","USA",{"$f":"VLOOKUP(tblSalaries[[#This Row],[Where do you work]],tblCountries[[Actual]:[Mapping]],2,FALSE)","v":"USA"},"2 to 3 hours per day",{"$f":"NA()","v":{"$error":"#N/A"}},{"$f":"IF(ISNA(VLOOKUP(tblSalaries[[#This Row],[Years of Experience]],vlookUpExp!$A$1:$B$56,2,FALSE)),\"No Response\",VLOOKUP(tblSalaries[[#This Row],[Years of Experience]],vlookUpExp!$A$1:$B$56,2,FALSE))","v":"No Response"}]
[null,"ID0164","2012-05-26T00:47:42",60000,60000,"USD",{"$f":"tblSalaries[[#This Row],[clean Salary (in local currency)]]*VLOOKUP(tblSalaries[[#This Row],[Currency]],tblXrate[],2,FALSE)","v":60000},{"$f":"IF($H$1=\"USD\",tblSalaries[[#This Row],[Salary in USD]],tblSalaries[[#This Row],[Salary in USD]]*VLOOKUP($H$1,USDtoUserChoice,2,FALSE))","v":492118.80000000005},"Telecom Technician","Analyst","USA",{"$f":"VLOOKUP(tblSalaries[[#This Row],[Where do you work]],tblCountries[[Actual]:[Mapping]],2,FALSE)","v":"USA"},"4 to 6 hours a day",{"$f":"NA()","v":{"$error":"#N/A"}},{"$f":"IF(ISNA(VLOOKUP(tblSalaries[[#This Row],[Years of Experience]],vlookUpExp!$A$1:$B$56,2,FALSE)),\"No Response\",VLOOKUP(tblSalaries[[#This Row],[Years of Experience]],vlookUpExp!$A$1:$B$56,2,FALSE))","v":"No Response"}]
[null,"ID0165","2012-05-26T00:47:45","Rs. 1300000",1300000,"INR",{"$f":"tblSalaries[[#This Row],[clean Salary (in local currency)]]*VLOOKUP(tblSalaries[[#This Row],[Currency]],tblXrate[],2,FALSE)","v":23150.291693675339},{"$f":"IF($H$1=\"USD\",tblSalaries[[#This Row],[Salary in USD]],tblSalaries[[#This Row],[Salary in USD]]*VLOOKUP($H$1,USDtoUserChoice,2,FALSE))","v":189878.22946569129},"Manager","Manager","India",{"$f":"VLOOKUP(tblSalaries[[#This Row],[Where do you work]],tblCountries[[Actual]:[Mapping]],2,FALSE)","v":"India"},"4 to 6 hours a day",{"$f":"NA()","v":{"$error":"#N/A"}},{"$f":"IF(ISNA(VLOOKUP(tblSalaries[[#This Row],[Years of Experience]],vlookUpExp!$A$1:$B$56,2,FALSE)),\"No Response\",VLOOKUP(tblSalaries[[#This Row],[Years of Experience]],vlookUpExp!$A$1:$B$56,2,FALSE))","v":"No Response"}]
[null,"ID0166","2012-05-26T00:47:50",107000,107000,"CAD",{"$f":"tblSalaries[[#This Row],[clean Salary (in local currency)]]*VLOOKUP(tblSalaries[[#This Row],[Currency]],tblXrate[],2,FALSE)","v":105219.68296424497},{"$f":"IF($H$1=\"USD\",tblSalaries[[#This Row],[Salary in USD]],tblSalaries[[#This Row],[Salary in USD]]*VLOOKUP($H$1,USDtoUserChoice,2,FALSE))","v":863009.73527907801},"Manager, Asset Optimization","Manager","Canada",{"$f":"VLOOKUP(tblSalaries[[#This Row],[Where do you work]],tblCountries[[Actual]:[Mapping]],2,FALSE)","v":"Canada"},"2 to 3 hours per day",{"$f":"NA()","v":{"$error":"#N/A"}},{"$f":"IF(ISNA(VLOOKUP(tblSalaries[[#This Row],[Years of Experience]],vlookUpExp!$A$1:$B$56,2,FALSE)),\"No Response\",VLOOKUP(tblSalaries[[#This Row],[Years of Experience]],vlookUpExp!$A$1:$B$56,2,FALSE))","v":"No Response"}]
[null,"ID0167","2012-05-26T00:47:57",145000,145000,"USD",{"$f":"tblSalaries[[#This Row],[clean Salary (in local currency)]]*VLOOKUP(tblSalaries[[#This Row],[Currency]],tblXrate[],2,FALSE)","v":145000},{"$f":"IF($H$1=\"USD\",tblSalaries[[#This Row],[Salary in USD]],tblSalaries[[#This Row],[Salary in USD]]*VLOOKUP($H$1,USDtoUserChoice,2,FALSE))","v":1189287.1000000001},"Financialcontroller","Controller","Switzerland",{"$f":"VLOOKUP(tblSalaries[[#This Row],[Where do you work]],tblCountries[[Actual]:[Mapping]],2,FALSE)","v":"Switzerland"},"All the 8 hours baby, all the 8!",{"$f":"NA()","v":{"$error":"#N/A"}},{"$f":"IF(ISNA(VLOOKUP(tblSalaries[[#This Row],[Years of Experience]],vlookUpExp!$A$1:$B$56,2,FALSE)),\"No Response\",VLOOKUP(tblSalaries[[#This Row],[Years of Experience]],vlookUpExp!$A$1:$B$56,2,FALSE))","v":"No Response"}]
[null,"ID0168","2012-05-26T00:48:04",22880,22880,"USD",{"$f":"tblSalaries[[#This Row],[clean Salary (in local currency)]]*VLOOKUP(tblSalaries[[#This Row],[Currency]],tblXrate[],2,FALSE)","v":22880},{"$f":"IF($H$1=\"USD\",tblSalaries[[#This Row],[Salary in USD]],tblSalaries[[#This Row],[Salary in USD]]*VLOOKUP($H$1,USDtoUserChoice,2,FALSE))","v":187661.30240000002},"Accounting ","Accountant","USA",{"$f":"VLOOKUP(tblSalaries[[#This Row],[Where do you work]],tblCountries[[Actual]:[Mapping]],2,FALSE)","v":"USA"},"4 to 6 hours a day",{"$f":"NA()","v":{"$error":"#N/A"}},{"$f":"IF(ISNA(VLOOKUP(tblSalaries[[#This Row],[Years of Experience]],vlookUpExp!$A$1:$B$56,2,FALSE)),\"No Response\",VLOOKUP(tblSalaries[[#This Row],[Years of Experience]],vlookUpExp!$A$1:$B$56,2,FALSE))","v":"No Response"}]
[null,"ID0169","2012-05-26T00:48:07",80000,80000,"USD",{"$f":"tblSalaries[[#This Row],[clean Salary (in local currency)]]*VLOOKUP(tblSalaries[[#This Row],[Currency]],tblXrate[],2,FALSE)","v":80000},{"$f":"IF($H$1=\"USD\",tblSalaries[[#This Row],[Salary in USD]],tblSalaries[[#This Row],[Salary in USD]]*VLOOKUP($H$1,USDtoUserChoice,2,FALSE))","v":656158.4},"Consultant, HR Services & Governance","Consultant","USA",{"$f":"VLOOKUP(tblSalaries[[#This Row],[Where do you work]],tblCountries[[Actual]:[Mapping]],2,FALSE)","v":"USA"},"4 to 6 hours a day",{"$f":"NA()","v":{"$error":"#N/A"}},{"$f":"IF(ISNA(VLOOKUP(tblSalaries[[#This Row],[Years of Experience]],vlookUpExp!$A$1:$B$56,2,FALSE)),\"No Response\",VLOOKUP(tblSalaries[[#This Row],[Years of Experience]],vlookUpExp!$A$1:$B$56,2,FALSE))","v":"No Response"}]
[null,"ID0170","2012-05-26T00:48:11","Rs 5 lakh",500000,"INR",{"$f":"tblSalaries[[#This Row],[clean Salary (in local currency)]]*VLOOKUP(tblSalaries[[#This Row],[Currency]],tblXrate[],2,FALSE)","v":8903.9583437212841},{"$f":"IF($H$1=\"USD\",tblSalaries[[#This Row],[Salary in USD]],tblSalaries[[#This Row],[Salary in USD]]*VLOOKUP($H$1,USDtoUserChoice,2,FALSE))","v":73030.088256035102},"QA Executive","Analyst","India",{"$f":"VLOOKUP(tblSalaries[[#This Row],[Where do you work]],tblCountries[[Actual]:[Mapping]],2,FALSE)","v":"India"},"2 to 3 hours per day",{"$f":"NA()","v":{"$error":"#N/A"}},{"$f":"IF(ISNA(VLOOKUP(tblSalaries[[#This Row],[Years of Experience]],vlookUpExp!$A$1:$B$56,2,FALSE)),\"No Response\",VLOOKUP(tblSalaries[[#This Row],[Years of Experience]],vlookUpExp!$A$1:$B$56,2,FALSE))","v":"No Response"}]
[null,"ID0171","2012-05-26T00:48:46",90000,90000,"CAD",{"$f":"tblSalaries[[#This Row],[clean Salary (in local currency)]]*VLOOKUP(tblSalaries[[#This Row],[Currency]],tblXrate[],2,FALSE)","v":88502.537072729421},{"$f":"IF($H$1=\"USD\",tblSalaries[[#This Row],[Salary in USD]],tblSalaries[[#This Row],[Salary in USD]]*VLOOKUP($H$1,USDtoUserChoice,2,FALSE))","v":725896.03901978536},"Senior Actuarial Analyst","Analyst","Canada",{"$f":"VLOOKUP(tblSalaries[[#This Row],[Where do you work]],tblCountries[[Actual]:[Mapping]],2,FALSE)","v":"Canada"},"4 to 6 hours a day",{"$f":"NA()","v":{"$error":"#N/A"}},{"$f":"IF(ISNA(VLOOKUP(tblSalaries[[#This Row],[Years of Experience]],vlookUpExp!$A$1:$B$56,2,FALSE)),\"No Response\",VLOOKUP(tblSalaries[[#This Row],[Years of Experience]],vlookUpExp!$A$1:$B$56,2,FALSE))","v":"No Response"}]
[null,"ID0172","2012-05-26T00:48:48",180000,180000,"INR",{"$f":"tblSalaries[[#This Row],[clean Salary (in local currency)]]*VLOOKUP(tblSalaries[[#This Row],[Currency]],tblXrate[],2,FALSE)","v":3205.4250037396623},{"$f":"IF($H$1=\"USD\",tblSalaries[[#This Row],[Salary in USD]],tblSalaries[[#This Row],[Salary in USD]]*VLOOKUP($H$1,USDtoUserChoice,2,FALSE))","v":26290.831772172638},"Sr. Associate","Analyst","India",{"$f":"VLOOKUP(tblSalaries[[#This Row],[Where do you work]],tblCountries[[Actual]:[Mapping]],2,FALSE)","v":"India"},"4 to 6 hours a day",{"$f":"NA()","v":{"$error":"#N/A"}},{"$f":"IF(ISNA(VLOOKUP(tblSalaries[[#This Row],[Years of Experience]],vlookUpExp!$A$1:$B$56,2,FALSE)),\"No Response\",VLOOKUP(tblSalaries[[#This Row],[Years of Experience]],vlookUpExp!$A$1:$B$56,2,FALSE))","v":"No Response"}]
[null,"ID0173","2012-05-26T00:48:48",46584,46584,"USD",{"$f":"tblSalaries[[#This Row],[clean Salary (in local currency)]]*VLOOKUP(tblSalaries[[#This Row],[Currency]],tblXrate[],2,FALSE)","v":46584},{"$f":"IF($H$1=\"USD\",tblSalaries[[#This Row],[Salary in USD]],tblSalaries[[#This Row],[Salary in USD]]*VLOOKUP($H$1,USDtoUserChoice,2,FALSE))","v":382081.03632000001},"Budget Analyst","Analyst","USA",{"$f":"VLOOKUP(tblSalaries[[#This Row],[Where do you work]],tblCountries[[Actual]:[Mapping]],2,FALSE)","v":"USA"},"4 to 6 hours a day",{"$f":"NA()","v":{"$error":"#N/A"}},{"$f":"IF(ISNA(VLOOKUP(tblSalaries[[#This Row],[Years of Experience]],vlookUpExp!$A$1:$B$56,2,FALSE)),\"No Response\",VLOOKUP(tblSalaries[[#This Row],[Years of Experience]],vlookUpExp!$A$1:$B$56,2,FALSE))","v":"No Response"}]
[null,"ID0174","2012-05-26T00:48:48",67000,67000,"USD",{"$f":"tblSalaries[[#This Row],[clean Salary (in local currency)]]*VLOOKUP(tblSalaries[[#This Row],[Currency]],tblXrate[],2,FALSE)","v":67000},{"$f":"IF($H$1=\"USD\",tblSalaries[[#This Row],[Salary in USD]],tblSalaries[[#This Row],[Salary in USD]]*VLOOKUP($H$1,USDtoUserChoice,2,FALSE))","v":549532.66},"B.I. Data Analyst II","Analyst","USA",{"$f":"VLOOKUP(tblSalaries[[#This Row],[Where do you work]],tblCountries[[Actual]:[Mapping]],2,FALSE)","v":"USA"},"4 to 6 hours a day",{"$f":"NA()","v":{"$error":"#N/A"}},{"$f":"IF(ISNA(VLOOKUP(tblSalaries[[#This Row],[Years of Experience]],vlookUpExp!$A$1:$B$56,2,FALSE)),\"No Response\",VLOOKUP(tblSalaries[[#This Row],[Years of Experience]],vlookUpExp!$A$1:$B$56,2,FALSE))","v":"No Response"}]
[null,"ID0175","2012-05-26T00:48:57","Rd. 11 lakhs",1100000,"INR",{"$f":"tblSalaries[[#This Row],[clean Salary (in local currency)]]*VLOOKUP(tblSalaries[[#This Row],[Currency]],tblXrate[],2,FALSE)","v":19588.708356186824},{"$f":"IF($H$1=\"USD\",tblSalaries[[#This Row],[Salary in USD]],tblSalaries[[#This Row],[Salary in USD]]*VLOOKUP($H$1,USDtoUserChoice,2,FALSE))","v":160666.19416327722},"Asst manager investor relations and business analytics","Manager","India",{"$f":"VLOOKUP(tblSalaries[[#This Row],[Where do you work]],tblCountries[[Actual]:[Mapping]],2,FALSE)","v":"India"},"4 to 6 hours a day",{"$f":"NA()","v":{"$error":"#N/A"}},{"$f":"IF(ISNA(VLOOKUP(tblSalaries[[#This Row],[Years of Experience]],vlookUpExp!$A$1:$B$56,2,FALSE)),\"No Response\",VLOOKUP(tblSalaries[[#This Row],[Years of Experience]],vlookUpExp!$A$1:$B$56,2,FALSE))","v":"No Response"}]
[null,"ID0176","2012-05-26T00:49:18",92000,92000,"USD",{"$f":"tblSalaries[[#This Row],[clean Salary (in local currency)]]*VLOOKUP(tblSalaries[[#This Row],[Currency]],tblXrate[],2,FALSE)","v":92000},{"$f":"IF($H$1=\"USD\",tblSalaries[[#This Row],[Salary in USD]],tblSalaries[[#This Row],[Salary in USD]]*VLOOKUP($H$1,USDtoUserChoice,2,FALSE))","v":754582.16},"Industrial Engineer (Fed)","Engineer","USA",{"$f":"VLOOKUP(tblSalaries[[#This Row],[Where do you work]],tblCountries[[Actual]:[Mapping]],2,FALSE)","v":"USA"},"4 to 6 hours a day",{"$f":"NA()","v":{"$error":"#N/A"}},{"$f":"IF(ISNA(VLOOKUP(tblSalaries[[#This Row],[Years of Experience]],vlookUpExp!$A$1:$B$56,2,FALSE)),\"No Response\",VLOOKUP(tblSalaries[[#This Row],[Years of Experience]],vlookUpExp!$A$1:$B$56,2,FALSE))","v":"No Response"}]
[null,"ID0177","2012-05-26T00:49:21",75000,75000,"USD",{"$f":"tblSalaries[[#This Row],[clean Salary (in local currency)]]*VLOOKUP(tblSalaries[[#This Row],[Currency]],tblXrate[],2,FALSE)","v":75000},{"$f":"IF($H$1=\"USD\",tblSalaries[[#This Row],[Salary in USD]],tblSalaries[[#This Row],[Salary in USD]]*VLOOKUP($H$1,USDtoUserChoice,2,FALSE))","v":615148.5},"Informatics specialist","Specialist","USA",{"$f":"VLOOKUP(tblSalaries[[#This Row],[Where do you work]],tblCountries[[Actual]:[Mapping]],2,FALSE)","v":"USA"},"All the 8 hours baby, all the 8!",{"$f":"NA()","v":{"$error":"#N/A"}},{"$f":"IF(ISNA(VLOOKUP(tblSalaries[[#This Row],[Years of Experience]],vlookUpExp!$A$1:$B$56,2,FALSE)),\"No Response\",VLOOKUP(tblSalaries[[#This Row],[Years of Experience]],vlookUpExp!$A$1:$B$56,2,FALSE))","v":"No Response"}]
[null,"ID0178","2012-05-26T00:49:35",180000,180000,"INR",{"$f":"tblSalaries[[#This Row],[clean Salary (in local currency)]]*VLOOKUP(tblSalaries[[#This Row],[Currency]],tblXrate[],2,FALSE)","v":3205.4250037396623},{"$f":"IF($H$1=\"USD\",tblSalaries[[#This Row],[Salary in USD]],tblSalaries[[#This Row],[Salary in USD]]*VLOOKUP($H$1,USDtoUserChoice,2,FALSE))","v":26290.831772172638},"Sr. Associate","Analyst","India",{"$f":"VLOOKUP(tblSalaries[[#This Row],[Where do you work]],tblCountries[[Actual]:[Mapping]],2,FALSE)","v":"India"},"4 to 6 hours a day",{"$f":"NA()","v":{"$error":"#N/A"}},{"$f":"IF(ISNA(VLOOKUP(tblSalaries[[#This Row],[Years of Experience]],vlookUpExp!$A$1:$B$56,2,FALSE)),\"No Response\",VLOOKUP(tblSalaries[[#This Row],[Years of Experience]],vlookUpExp!$A$1:$B$56,2,FALSE))","v":"No Response"}]
[null,"ID0179","2012-05-26T00:49:48",18500,18500,"GBP",{"$f":"tblSalaries[[#This Row],[clean Salary (in local currency)]]*VLOOKUP(tblSalaries[[#This Row],[Currency]],tblXrate[],2,FALSE)","v":29159.298033244755},{"$f":"IF($H$1=\"USD\",tblSalaries[[#This Row],[Salary in USD]],tblSalaries[[#This Row],[Salary in USD]]*VLOOKUP($H$1,USDtoUserChoice,2,FALSE))","v":239163.97928271283},"Trainee Management Accountant","Manager","UK",{"$f":"VLOOKUP(tblSalaries[[#This Row],[Where do you work]],tblCountries[[Actual]:[Mapping]],2,FALSE)","v":"UK"},"All the 8 hours baby, all the 8!",{"$f":"NA()","v":{"$error":"#N/A"}},{"$f":"IF(ISNA(VLOOKUP(tblSalaries[[#This Row],[Years of Experience]],vlookUpExp!$A$1:$B$56,2,FALSE)),\"No Response\",VLOOKUP(tblSalaries[[#This Row],[Years of Experience]],vlookUpExp!$A$1:$B$56,2,FALSE))","v":"No Response"}]
[null,"ID0180","2012-05-26T00:49:50",40000,40000,"USD",{"$f":"tblSalaries[[#This Row],[clean Salary (in local currency)]]*VLOOKUP(tblSalaries[[#This Row],[Currency]],tblXrate[],2,FALSE)","v":40000},{"$f":"IF($H$1=\"USD\",tblSalaries[[#This Row],[Salary in USD]],tblSalaries[[#This Row],[Salary in USD]]*VLOOKUP($H$1,USDtoUserChoice,2,FALSE))","v":328079.2},"Senior analyst","Analyst","USA",{"$f":"VLOOKUP(tblSalaries[[#This Row],[Where do you work]],tblCountries[[Actual]:[Mapping]],2,FALSE)","v":"USA"},"All the 8 hours baby, all the 8!",{"$f":"NA()","v":{"$error":"#N/A"}},{"$f":"IF(ISNA(VLOOKUP(tblSalaries[[#This Row],[Years of Experience]],vlookUpExp!$A$1:$B$56,2,FALSE)),\"No Response\",VLOOKUP(tblSalaries[[#This Row],[Years of Experience]],vlookUpExp!$A$1:$B$56,2,FALSE))","v":"No Response"}]
[null,"ID0181","2012-05-26T00:49:59",111680,111680,"USD",{"$f":"tblSalaries[[#This Row],[clean Salary (in local currency)]]*VLOOKUP(tblSalaries[[#This Row],[Currency]],tblXrate[],2,FALSE)","v":111680},{"$f":"IF($H$1=\"USD\",tblSalaries[[#This Row],[Salary in USD]],tblSalaries[[#This Row],[Salary in USD]]*VLOOKUP($H$1,USDtoUserChoice,2,FALSE))","v":915997.12640000007},"Director of Analytics","Analyst","USA",{"$f":"VLOOKUP(tblSalaries[[#This Row],[Where do you work]],tblCountries[[Actual]:[Mapping]],2,FALSE)","v":"USA"},"2 to 3 hours per day",{"$f":"NA()","v":{"$error":"#N/A"}},{"$f":"IF(ISNA(VLOOKUP(tblSalaries[[#This Row],[Years of Experience]],vlookUpExp!$A$1:$B$56,2,FALSE)),\"No Response\",VLOOKUP(tblSalaries[[#This Row],[Years of Experience]],vlookUpExp!$A$1:$B$56,2,FALSE))","v":"No Response"}]
[null,"ID0182","2012-05-26T00:50:11",41.405999999999999,41406,"USD",{"$f":"tblSalaries[[#This Row],[clean Salary (in local currency)]]*VLOOKUP(tblSalaries[[#This Row],[Currency]],tblXrate[],2,FALSE)","v":41406},{"$f":"IF($H$1=\"USD\",tblSalaries[[#This Row],[Salary in USD]],tblSalaries[[#This Row],[Salary in USD]]*VLOOKUP($H$1,USDtoUserChoice,2,FALSE))","v":339611.18388000003},"Executive Assistant","Analyst","Canada",{"$f":"VLOOKUP(tblSalaries[[#This Row],[Where do you work]],tblCountries[[Actual]:[Mapping]],2,FALSE)","v":"Canada"},"1 or 2 hours a day",{"$f":"NA()","v":{"$error":"#N/A"}},{"$f":"IF(ISNA(VLOOKUP(tblSalaries[[#This Row],[Years of Experience]],vlookUpExp!$A$1:$B$56,2,FALSE)),\"No Response\",VLOOKUP(tblSalaries[[#This Row],[Years of Experience]],vlookUpExp!$A$1:$B$56,2,FALSE))","v":"No Response"}]
[null,"ID0183","2012-05-26T00:50:15",70000,70000,"USD",{"$f":"tblSalaries[[#This Row],[clean Salary (in local currency)]]*VLOOKUP(tblSalaries[[#This Row],[Currency]],tblXrate[],2,FALSE)","v":70000},{"$f":"IF($H$1=\"USD\",tblSalaries[[#This Row],[Salary in USD]],tblSalaries[[#This Row],[Salary in USD]]*VLOOKUP($H$1,USDtoUserChoice,2,FALSE))","v":574138.60000000009},"Project Speciast","Manager","USA",{"$f":"VLOOKUP(tblSalaries[[#This Row],[Where do you work]],tblCountries[[Actual]:[Mapping]],2,FALSE)","v":"USA"},"4 to 6 hours a day",{"$f":"NA()","v":{"$error":"#N/A"}},{"$f":"IF(ISNA(VLOOKUP(tblSalaries[[#This Row],[Years of Experience]],vlookUpExp!$A$1:$B$56,2,FALSE)),\"No Response\",VLOOKUP(tblSalaries[[#This Row],[Years of Experience]],vlookUpExp!$A$1:$B$56,2,FALSE))","v":"No Response"}]
[null,"ID0184","2012-05-26T00:50:31",40700,40700,"USD",{"$f":"tblSalaries[[#This Row],[clean Salary (in local currency)]]*VLOOKUP(tblSalaries[[#This Row],[Currency]],tblXrate[],2,FALSE)","v":40700},{"$f":"IF($H$1=\"USD\",tblSalaries[[#This Row],[Salary in USD]],tblSalaries[[#This Row],[Salary in USD]]*VLOOKUP($H$1,USDtoUserChoice,2,FALSE))","v":333820.58600000001},"Sales Coordinator & Analytical Support","Analyst","USA",{"$f":"VLOOKUP(tblSalaries[[#This Row],[Where do you work]],tblCountries[[Actual]:[Mapping]],2,FALSE)","v":"USA"},"1 or 2 hours a day",{"$f":"NA()","v":{"$error":"#N/A"}},{"$f":"IF(ISNA(VLOOKUP(tblSalaries[[#This Row],[Years of Experience]],vlookUpExp!$A$1:$B$56,2,FALSE)),\"No Response\",VLOOKUP(tblSalaries[[#This Row],[Years of Experience]],vlookUpExp!$A$1:$B$56,2,FALSE))","v":"No Response"}]
[null,"ID0185","2012-05-26T00:50:32",40000,40000,"USD",{"$f":"tblSalaries[[#This Row],[clean Salary (in local currency)]]*VLOOKUP(tblSalaries[[#This Row],[Currency]],tblXrate[],2,FALSE)","v":40000},{"$f":"IF($H$1=\"USD\",tblSalaries[[#This Row],[Salary in USD]],tblSalaries[[#This Row],[Salary in USD]]*VLOOKUP($H$1,USDtoUserChoice,2,FALSE))","v":328079.2},"analyst","Analyst","USA",{"$f":"VLOOKUP(tblSalaries[[#This Row],[Where do you work]],tblCountries[[Actual]:[Mapping]],2,FALSE)","v":"USA"},"4 to 6 hours a day",{"$f":"NA()","v":{"$error":"#N/A"}},{"$f":"IF(ISNA(VLOOKUP(tblSalaries[[#This Row],[Years of Experience]],vlookUpExp!$A$1:$B$56,2,FALSE)),\"No Response\",VLOOKUP(tblSalaries[[#This Row],[Years of Experience]],vlookUpExp!$A$1:$B$56,2,FALSE))","v":"No Response"}]
[null,"ID0186","2012-05-26T00:50:38",60000,60000,"USD",{"$f":"tblSalaries[[#This Row],[clean Salary (in local currency)]]*VLOOKUP(tblSalaries[[#This Row],[Currency]],tblXrate[],2,FALSE)","v":60000},{"$f":"IF($H$1=\"USD\",tblSalaries[[#This Row],[Salary in USD]],tblSalaries[[#This Row],[Salary in USD]]*VLOOKUP($H$1,USDtoUserChoice,2,FALSE))","v":492118.80000000005},"Senior Staff Accountant","Accountant","USA",{"$f":"VLOOKUP(tblSalaries[[#This Row],[Where do you work]],tblCountries[[Actual]:[Mapping]],2,FALSE)","v":"USA"},"4 to 6 hours a day",{"$f":"NA()","v":{"$error":"#N/A"}},{"$f":"IF(ISNA(VLOOKUP(tblSalaries[[#This Row],[Years of Experience]],vlookUpExp!$A$1:$B$56,2,FALSE)),\"No Response\",VLOOKUP(tblSalaries[[#This Row],[Years of Experience]],vlookUpExp!$A$1:$B$56,2,FALSE))","v":"No Response"}]
[null,"ID0187","2012-05-26T00:50:41",92000,92000,"CAD",{"$f":"tblSalaries[[#This Row],[clean Salary (in local currency)]]*VLOOKUP(tblSalaries[[#This Row],[Currency]],tblXrate[],2,FALSE)","v":90469.260118790073},{"$f":"IF($H$1=\"USD\",tblSalaries[[#This Row],[Salary in USD]],tblSalaries[[#This Row],[Salary in USD]]*VLOOKUP($H$1,USDtoUserChoice,2,FALSE))","v":742027.0621091139},"Consultant - Retail Mkts","Consultant","Canada",{"$f":"VLOOKUP(tblSalaries[[#This Row],[Where do you work]],tblCountries[[Actual]:[Mapping]],2,FALSE)","v":"Canada"},"All the 8 hours baby, all the 8!",{"$f":"NA()","v":{"$error":"#N/A"}},{"$f":"IF(ISNA(VLOOKUP(tblSalaries[[#This Row],[Years of Experience]],vlookUpExp!$A$1:$B$56,2,FALSE)),\"No Response\",VLOOKUP(tblSalaries[[#This Row],[Years of Experience]],vlookUpExp!$A$1:$B$56,2,FALSE))","v":"No Response"}]
[null,"ID0188","2012-05-26T00:50:43",13636.36,13636,"USD",{"$f":"tblSalaries[[#This Row],[clean Salary (in local currency)]]*VLOOKUP(tblSalaries[[#This Row],[Currency]],tblXrate[],2,FALSE)","v":13636},{"$f":"IF($H$1=\"USD\",tblSalaries[[#This Row],[Salary in USD]],tblSalaries[[#This Row],[Salary in USD]]*VLOOKUP($H$1,USDtoUserChoice,2,FALSE))","v":111842.19928000002},"Process Manager","Manager","India",{"$f":"VLOOKUP(tblSalaries[[#This Row],[Where do you work]],tblCountries[[Actual]:[Mapping]],2,FALSE)","v":"India"},"All the 8 hours baby, all the 8!",{"$f":"NA()","v":{"$error":"#N/A"}},{"$f":"IF(ISNA(VLOOKUP(tblSalaries[[#This Row],[Years of Experience]],vlookUpExp!$A$1:$B$56,2,FALSE)),\"No Response\",VLOOKUP(tblSalaries[[#This Row],[Years of Experience]],vlookUpExp!$A$1:$B$56,2,FALSE))","v":"No Response"}]
[null,"ID0189","2012-05-26T00:50:43",80000,80000,"USD",{"$f":"tblSalaries[[#This Row],[clean Salary (in local currency)]]*VLOOKUP(tblSalaries[[#This Row],[Currency]],tblXrate[],2,FALSE)","v":80000},{"$f":"IF($H$1=\"USD\",tblSalaries[[#This Row],[Salary in USD]],tblSalaries[[#This Row],[Salary in USD]]*VLOOKUP($H$1,USDtoUserChoice,2,FALSE))","v":656158.4},"Project Manager (Process Owner)","Manager","USA",{"$f":"VLOOKUP(tblSalaries[[#This Row],[Where do you work]],tblCountries[[Actual]:[Mapping]],2,FALSE)","v":"USA"},"2 to 3 hours per day",{"$f":"NA()","v":{"$error":"#N/A"}},{"$f":"IF(ISNA(VLOOKUP(tblSalaries[[#This Row],[Years of Experience]],vlookUpExp!$A$1:$B$56,2,FALSE)),\"No Response\",VLOOKUP(tblSalaries[[#This Row],[Years of Experience]],vlookUpExp!$A$1:$B$56,2,FALSE))","v":"No Response"}]
[null,"ID0190","2012-05-26T00:51:00","60000 CAD$",60000,"CAD",{"$f":"tblSalaries[[#This Row],[clean Salary (in local currency)]]*VLOOKUP(tblSalaries[[#This Row],[Currency]],tblXrate[],2,FALSE)","v":59001.691381819612},{"$f":"IF($H$1=\"USD\",tblSalaries[[#This Row],[Salary in USD]],tblSalaries[[#This Row],[Salary in USD]]*VLOOKUP($H$1,USDtoUserChoice,2,FALSE))","v":483930.69267985685},"Demographer","Analyst","Canada",{"$f":"VLOOKUP(tblSalaries[[#This Row],[Where do you work]],tblCountries[[Actual]:[Mapping]],2,FALSE)","v":"Canada"},"2 to 3 hours per day",{"$f":"NA()","v":{"$error":"#N/A"}},{"$f":"IF(ISNA(VLOOKUP(tblSalaries[[#This Row],[Years of Experience]],vlookUpExp!$A$1:$B$56,2,FALSE)),\"No Response\",VLOOKUP(tblSalaries[[#This Row],[Years of Experience]],vlookUpExp!$A$1:$B$56,2,FALSE))","v":"No Response"}]
[null,"ID0192","2012-05-26T00:51:43",28000,28000,"USD",{"$f":"tblSalaries[[#This Row],[clean Salary (in local currency)]]*VLOOKUP(tblSalaries[[#This Row],[Currency]],tblXrate[],2,FALSE)","v":28000},{"$f":"IF($H$1=\"USD\",tblSalaries[[#This Row],[Salary in USD]],tblSalaries[[#This Row],[Salary in USD]]*VLOOKUP($H$1,USDtoUserChoice,2,FALSE))","v":229655.44000000003},"Administrative Assistant","Analyst","USA",{"$f":"VLOOKUP(tblSalaries[[#This Row],[Where do you work]],tblCountries[[Actual]:[Mapping]],2,FALSE)","v":"USA"},"4 to 6 hours a day",{"$f":"NA()","v":{"$error":"#N/A"}},{"$f":"IF(ISNA(VLOOKUP(tblSalaries[[#This Row],[Years of Experience]],vlookUpExp!$A$1:$B$56,2,FALSE)),\"No Response\",VLOOKUP(tblSalaries[[#This Row],[Years of Experience]],vlookUpExp!$A$1:$B$56,2,FALSE))","v":"No Response"}]
[null,"ID0193","2012-05-26T00:51:55",60000,60000,"USD",{"$f":"tblSalaries[[#This Row],[clean Salary (in local currency)]]*VLOOKUP(tblSalaries[[#This Row],[Currency]],tblXrate[],2,FALSE)","v":60000},{"$f":"IF($H$1=\"USD\",tblSalaries[[#This Row],[Salary in USD]],tblSalaries[[#This Row],[Salary in USD]]*VLOOKUP($H$1,USDtoUserChoice,2,FALSE))","v":492118.80000000005},"Accounting/Financial Analyst","Analyst","USA",{"$f":"VLOOKUP(tblSalaries[[#This Row],[Where do you work]],tblCountries[[Actual]:[Mapping]],2,FALSE)","v":"USA"},"4 to 6 hours a day",{"$f":"NA()","v":{"$error":"#N/A"}},{"$f":"IF(ISNA(VLOOKUP(tblSalaries[[#This Row],[Years of Experience]],vlookUpExp!$A$1:$B$56,2,FALSE)),\"No Response\",VLOOKUP(tblSalaries[[#This Row],[Years of Experience]],vlookUpExp!$A$1:$B$56,2,FALSE))","v":"No Response"}]
[null,"ID0194","2012-05-26T00:51:59",96000,96000,"USD",{"$f":"tblSalaries[[#This Row],[clean Salary (in local currency)]]*VLOOKUP(tblSalaries[[#This Row],[Currency]],tblXrate[],2,FALSE)","v":96000},{"$f":"IF($H$1=\"USD\",tblSalaries[[#This Row],[Salary in USD]],tblSalaries[[#This Row],[Salary in USD]]*VLOOKUP($H$1,USDtoUserChoice,2,FALSE))","v":787390.08000000007},"Business Process Specialist","Specialist","USA",{"$f":"VLOOKUP(tblSalaries[[#This Row],[Where do you work]],tblCountries[[Actual]:[Mapping]],2,FALSE)","v":"USA"},"2 to 3 hours per day",{"$f":"NA()","v":{"$error":"#N/A"}},{"$f":"IF(ISNA(VLOOKUP(tblSalaries[[#This Row],[Years of Experience]],vlookUpExp!$A$1:$B$56,2,FALSE)),\"No Response\",VLOOKUP(tblSalaries[[#This Row],[Years of Experience]],vlookUpExp!$A$1:$B$56,2,FALSE))","v":"No Response"}]
[null,"ID0195","2012-05-26T00:52:21",67000,67000,"USD",{"$f":"tblSalaries[[#This Row],[clean Salary (in local currency)]]*VLOOKUP(tblSalaries[[#This Row],[Currency]],tblXrate[],2,FALSE)","v":67000},{"$f":"IF($H$1=\"USD\",tblSalaries[[#This Row],[Salary in USD]],tblSalaries[[#This Row],[Salary in USD]]*VLOOKUP($H$1,USDtoUserChoice,2,FALSE))","v":549532.66},"Financial Analyst","Analyst","USA",{"$f":"VLOOKUP(tblSalaries[[#This Row],[Where do you work]],tblCountries[[Actual]:[Mapping]],2,FALSE)","v":"USA"},"4 to 6 hours a day",{"$f":"NA()","v":{"$error":"#N/A"}},{"$f":"IF(ISNA(VLOOKUP(tblSalaries[[#This Row],[Years of Experience]],vlookUpExp!$A$1:$B$56,2,FALSE)),\"No Response\",VLOOKUP(tblSalaries[[#This Row],[Years of Experience]],vlookUpExp!$A$1:$B$56,2,FALSE))","v":"No Response"}]
[null,"ID0196","2012-05-26T00:52:25",70000,70000,"USD",{"$f":"tblSalaries[[#This Row],[clean Salary (in local currency)]]*VLOOKUP(tblSalaries[[#This Row],[Currency]],tblXrate[],2,FALSE)","v":70000},{"$f":"IF($H$1=\"USD\",tblSalaries[[#This Row],[Salary in USD]],tblSalaries[[#This Row],[Salary in USD]]*VLOOKUP($H$1,USDtoUserChoice,2,FALSE))","v":574138.60000000009},"Sr Financial Analyst","Analyst","USA",{"$f":"VLOOKUP(tblSalaries[[#This Row],[Where do you work]],tblCountries[[Actual]:[Mapping]],2,FALSE)","v":"USA"},"4 to 6 hours a day",{"$f":"NA()","v":{"$error":"#N/A"}},{"$f":"IF(ISNA(VLOOKUP(tblSalaries[[#This Row],[Years of Experience]],vlookUpExp!$A$1:$B$56,2,FALSE)),\"No Response\",VLOOKUP(tblSalaries[[#This Row],[Years of Experience]],vlookUpExp!$A$1:$B$56,2,FALSE))","v":"No Response"}]
[null,"ID0197","2012-05-26T00:52:30",233000,233000,"INR",{"$f":"tblSalaries[[#This Row],[clean Salary (in local currency)]]*VLOOKUP(tblSalaries[[#This Row],[Currency]],tblXrate[],2,FALSE)","v":4149.2445881741187},{"$f":"IF($H$1=\"USD\",tblSalaries[[#This Row],[Salary in USD]],tblSalaries[[#This Row],[Salary in USD]]*VLOOKUP($H$1,USDtoUserChoice,2,FALSE))","v":34032.021127312364},"Asst. Manager (MIS)","Manager","India",{"$f":"VLOOKUP(tblSalaries[[#This Row],[Where do you work]],tblCountries[[Actual]:[Mapping]],2,FALSE)","v":"India"},"All the 8 hours baby, all the 8!",{"$f":"NA()","v":{"$error":"#N/A"}},{"$f":"IF(ISNA(VLOOKUP(tblSalaries[[#This Row],[Years of Experience]],vlookUpExp!$A$1:$B$56,2,FALSE)),\"No Response\",VLOOKUP(tblSalaries[[#This Row],[Years of Experience]],vlookUpExp!$A$1:$B$56,2,FALSE))","v":"No Response"}]
[null,"ID0198","2012-05-26T00:52:37","US$ 99000",99000,"USD",{"$f":"tblSalaries[[#This Row],[clean Salary (in local currency)]]*VLOOKUP(tblSalaries[[#This Row],[Currency]],tblXrate[],2,FALSE)","v":99000},{"$f":"IF($H$1=\"USD\",tblSalaries[[#This Row],[Salary in USD]],tblSalaries[[#This Row],[Salary in USD]]*VLOOKUP($H$1,USDtoUserChoice,2,FALSE))","v":811996.02},"Business Controller","Controller","USA",{"$f":"VLOOKUP(tblSalaries[[#This Row],[Where do you work]],tblCountries[[Actual]:[Mapping]],2,FALSE)","v":"USA"},"4 to 6 hours a day",{"$f":"NA()","v":{"$error":"#N/A"}},{"$f":"IF(ISNA(VLOOKUP(tblSalaries[[#This Row],[Years of Experience]],vlookUpExp!$A$1:$B$56,2,FALSE)),\"No Response\",VLOOKUP(tblSalaries[[#This Row],[Years of Experience]],vlookUpExp!$A$1:$B$56,2,FALSE))","v":"No Response"}]
[null,"ID0200","2012-05-26T00:53:00",90000,90000,"USD",{"$f":"tblSalaries[[#This Row],[clean Salary (in local currency)]]*VLOOKUP(tblSalaries[[#This Row],[Currency]],tblXrate[],2,FALSE)","v":90000},{"$f":"IF($H$1=\"USD\",tblSalaries[[#This Row],[Salary in USD]],tblSalaries[[#This Row],[Salary in USD]]*VLOOKUP($H$1,USDtoUserChoice,2,FALSE))","v":738178.20000000007},"Project Manager","Manager","USA",{"$f":"VLOOKUP(tblSalaries[[#This Row],[Where do you work]],tblCountries[[Actual]:[Mapping]],2,FALSE)","v":"USA"},"2 to 3 hours per day",{"$f":"NA()","v":{"$error":"#N/A"}},{"$f":"IF(ISNA(VLOOKUP(tblSalaries[[#This Row],[Years of Experience]],vlookUpExp!$A$1:$B$56,2,FALSE)),\"No Response\",VLOOKUP(tblSalaries[[#This Row],[Years of Experience]],vlookUpExp!$A$1:$B$56,2,FALSE))","v":"No Response"}]
[null,"ID0201","2012-05-26T00:53:02","Rs. 275000",275000,"INR",{"$f":"tblSalaries[[#This Row],[clean Salary (in local currency)]]*VLOOKUP(tblSalaries[[#This Row],[Currency]],tblXrate[],2,FALSE)","v":4897.177089046706},{"$f":"IF($H$1=\"USD\",tblSalaries[[#This Row],[Salary in USD]],tblSalaries[[#This Row],[Salary in USD]]*VLOOKUP($H$1,USDtoUserChoice,2,FALSE))","v":40166.548540819305},"low level monitoring","Analyst","India",{"$f":"VLOOKUP(tblSalaries[[#This Row],[Where do you work]],tblCountries[[Actual]:[Mapping]],2,FALSE)","v":"India"},"2 to 3 hours per day",{"$f":"NA()","v":{"$error":"#N/A"}},{"$f":"IF(ISNA(VLOOKUP(tblSalaries[[#This Row],[Years of Experience]],vlookUpExp!$A$1:$B$56,2,FALSE)),\"No Response\",VLOOKUP(tblSalaries[[#This Row],[Years of Experience]],vlookUpExp!$A$1:$B$56,2,FALSE))","v":"No Response"}]
[null,"ID0202","2012-05-26T00:53:18","INR 16000",192000,"INR",{"$f":"tblSalaries[[#This Row],[clean Salary (in local currency)]]*VLOOKUP(tblSalaries[[#This Row],[Currency]],tblXrate[],2,FALSE)","v":3419.1200039889732},{"$f":"IF($H$1=\"USD\",tblSalaries[[#This Row],[Salary in USD]],tblSalaries[[#This Row],[Salary in USD]]*VLOOKUP($H$1,USDtoUserChoice,2,FALSE))","v":28043.553890317482},"Administrative","Analyst","India",{"$f":"VLOOKUP(tblSalaries[[#This Row],[Where do you work]],tblCountries[[Actual]:[Mapping]],2,FALSE)","v":"India"},"All the 8 hours baby, all the 8!",{"$f":"NA()","v":{"$error":"#N/A"}},{"$f":"IF(ISNA(VLOOKUP(tblSalaries[[#This Row],[Years of Experience]],vlookUpExp!$A$1:$B$56,2,FALSE)),\"No Response\",VLOOKUP(tblSalaries[[#This Row],[Years of Experience]],vlookUpExp!$A$1:$B$56,2,FALSE))","v":"No Response"}]
[null,"ID0203","2012-05-26T00:53:37",51000,51000,"USD",{"$f":"tblSalaries[[#This Row],[clean Salary (in local currency)]]*VLOOKUP(tblSalaries[[#This Row],[Currency]],tblXrate[],2,FALSE)","v":51000},{"$f":"IF($H$1=\"USD\",tblSalaries[[#This Row],[Salary in USD]],tblSalaries[[#This Row],[Salary in USD]]*VLOOKUP($H$1,USDtoUserChoice,2,FALSE))","v":418300.98000000004},"Service Line Coordinator","Manager","USA",{"$f":"VLOOKUP(tblSalaries[[#This Row],[Where do you work]],tblCountries[[Actual]:[Mapping]],2,FALSE)","v":"USA"},"4 to 6 hours a day",{"$f":"NA()","v":{"$error":"#N/A"}},{"$f":"IF(ISNA(VLOOKUP(tblSalaries[[#This Row],[Years of Experience]],vlookUpExp!$A$1:$B$56,2,FALSE)),\"No Response\",VLOOKUP(tblSalaries[[#This Row],[Years of Experience]],vlookUpExp!$A$1:$B$56,2,FALSE))","v":"No Response"}]
[null,"ID0204","2012-05-26T00:53:42",100000,100000,"USD",{"$f":"tblSalaries[[#This Row],[clean Salary (in local currency)]]*VLOOKUP(tblSalaries[[#This Row],[Currency]],tblXrate[],2,FALSE)","v":100000},{"$f":"IF($H$1=\"USD\",tblSalaries[[#This Row],[Salary in USD]],tblSalaries[[#This Row],[Salary in USD]]*VLOOKUP($H$1,USDtoUserChoice,2,FALSE))","v":820198.00000000012},"Strategic Sourcing Manager","Manager","USA",{"$f":"VLOOKUP(tblSalaries[[#This Row],[Where do you work]],tblCountries[[Actual]:[Mapping]],2,FALSE)","v":"USA"},"All the 8 hours baby, all the 8!",{"$f":"NA()","v":{"$error":"#N/A"}},{"$f":"IF(ISNA(VLOOKUP(tblSalaries[[#This Row],[Years of Experience]],vlookUpExp!$A$1:$B$56,2,FALSE)),\"No Response\",VLOOKUP(tblSalaries[[#This Row],[Years of Experience]],vlookUpExp!$A$1:$B$56,2,FALSE))","v":"No Response"}]
[null,"ID0205","2012-05-26T00:53:46","INR18Lacs or US$36000",1800000,"INR",{"$f":"tblSalaries[[#This Row],[clean Salary (in local currency)]]*VLOOKUP(tblSalaries[[#This Row],[Currency]],tblXrate[],2,FALSE)","v":32054.250037396621},{"$f":"IF($H$1=\"USD\",tblSalaries[[#This Row],[Salary in USD]],tblSalaries[[#This Row],[Salary in USD]]*VLOOKUP($H$1,USDtoUserChoice,2,FALSE))","v":262908.31772172637},"Chief Manager","Manager","India",{"$f":"VLOOKUP(tblSalaries[[#This Row],[Where do you work]],tblCountries[[Actual]:[Mapping]],2,FALSE)","v":"India"},"1 or 2 hours a day",{"$f":"NA()","v":{"$error":"#N/A"}},{"$f":"IF(ISNA(VLOOKUP(tblSalaries[[#This Row],[Years of Experience]],vlookUpExp!$A$1:$B$56,2,FALSE)),\"No Response\",VLOOKUP(tblSalaries[[#This Row],[Years of Experience]],vlookUpExp!$A$1:$B$56,2,FALSE))","v":"No Response"}]
[null,"ID0207","2012-05-26T00:54:12","Â£30000",30000,"GBP",{"$f":"tblSalaries[[#This Row],[clean Salary (in local currency)]]*VLOOKUP(tblSalaries[[#This Row],[Currency]],tblXrate[],2,FALSE)","v":47285.348162018527},{"$f":"IF($H$1=\"USD\",tblSalaries[[#This Row],[Salary in USD]],tblSalaries[[#This Row],[Salary in USD]]*VLOOKUP($H$1,USDtoUserChoice,2,FALSE))","v":387833.47991791274},"Business Intelligence Analyst","Analyst","UK",{"$f":"VLOOKUP(tblSalaries[[#This Row],[Where do you work]],tblCountries[[Actual]:[Mapping]],2,FALSE)","v":"UK"},"2 to 3 hours per day",{"$f":"NA()","v":{"$error":"#N/A"}},{"$f":"IF(ISNA(VLOOKUP(tblSalaries[[#This Row],[Years of Experience]],vlookUpExp!$A$1:$B$56,2,FALSE)),\"No Response\",VLOOKUP(tblSalaries[[#This Row],[Years of Experience]],vlookUpExp!$A$1:$B$56,2,FALSE))","v":"No Response"}]
[null,"ID0208","2012-05-26T00:54:14","â‚¬ 50000",50000,"EUR",{"$f":"tblSalaries[[#This Row],[clean Salary (in local currency)]]*VLOOKUP(tblSalaries[[#This Row],[Currency]],tblXrate[],2,FALSE)","v":63519.971949580387},{"$f":"IF($H$1=\"USD\",tblSalaries[[#This Row],[Salary in USD]],tblSalaries[[#This Row],[Salary in USD]]*VLOOKUP($H$1,USDtoUserChoice,2,FALSE))","v":520989.5395310194},"Data Analyst","Analyst","Ireland",{"$f":"VLOOKUP(tblSalaries[[#This Row],[Where do you work]],tblCountries[[Actual]:[Mapping]],2,FALSE)","v":"Ireland"},"4 to 6 hours a day",{"$f":"NA()","v":{"$error":"#N/A"}},{"$f":"IF(ISNA(VLOOKUP(tblSalaries[[#This Row],[Years of Experience]],vlookUpExp!$A$1:$B$56,2,FALSE)),\"No Response\",VLOOKUP(tblSalaries[[#This Row],[Years of Experience]],vlookUpExp!$A$1:$B$56,2,FALSE))","v":"No Response"}]
[null,"ID0209","2012-05-26T00:54:16",108160,108160,"USD",{"$f":"tblSalaries[[#This Row],[clean Salary (in local currency)]]*VLOOKUP(tblSalaries[[#This Row],[Currency]],tblXrate[],2,FALSE)","v":108160},{"$f":"IF($H$1=\"USD\",tblSalaries[[#This Row],[Salary in USD]],tblSalaries[[#This Row],[Salary in USD]]*VLOOKUP($H$1,USDtoUserChoice,2,FALSE))","v":887126.15680000011},"Sr. Financial Analyst","Analyst","USA",{"$f":"VLOOKUP(tblSalaries[[#This Row],[Where do you work]],tblCountries[[Actual]:[Mapping]],2,FALSE)","v":"USA"},"4 to 6 hours a day",{"$f":"NA()","v":{"$error":"#N/A"}},{"$f":"IF(ISNA(VLOOKUP(tblSalaries[[#This Row],[Years of Experience]],vlookUpExp!$A$1:$B$56,2,FALSE)),\"No Response\",VLOOKUP(tblSalaries[[#This Row],[Years of Experience]],vlookUpExp!$A$1:$B$56,2,FALSE))","v":"No Response"}]
[null,"ID0210","2012-05-26T00:54:27",50000,50000,"USD",{"$f":"tblSalaries[[#This Row],[clean Salary (in local currency)]]*VLOOKUP(tblSalaries[[#This Row],[Currency]],tblXrate[],2,FALSE)","v":50000},{"$f":"IF($H$1=\"USD\",tblSalaries[[#This Row],[Salary in USD]],tblSalaries[[#This Row],[Salary in USD]]*VLOOKUP($H$1,USDtoUserChoice,2,FALSE))","v":410099.00000000006},"Buyer","Manager","USA",{"$f":"VLOOKUP(tblSalaries[[#This Row],[Where do you work]],tblCountries[[Actual]:[Mapping]],2,FALSE)","v":"USA"},"4 to 6 hours a day",{"$f":"NA()","v":{"$error":"#N/A"}},{"$f":"IF(ISNA(VLOOKUP(tblSalaries[[#This Row],[Years of Experience]],vlookUpExp!$A$1:$B$56,2,FALSE)),\"No Response\",VLOOKUP(tblSalaries[[#This Row],[Years of Experience]],vlookUpExp!$A$1:$B$56,2,FALSE))","v":"No Response"}]
[null,"ID0211","2012-05-26T00:54:28",400000,400000,"USD",{"$f":"tblSalaries[[#This Row],[clean Salary (in local currency)]]*VLOOKUP(tblSalaries[[#This Row],[Currency]],tblXrate[],2,FALSE)","v":400000},{"$f":"IF($H$1=\"USD\",tblSalaries[[#This Row],[Salary in USD]],tblSalaries[[#This Row],[Salary in USD]]*VLOOKUP($H$1,USDtoUserChoice,2,FALSE))","v":3280792.0000000005},"program manager","Manager","USA",{"$f":"VLOOKUP(tblSalaries[[#This Row],[Where do you work]],tblCountries[[Actual]:[Mapping]],2,FALSE)","v":"USA"},"1 or 2 hours a day",{"$f":"NA()","v":{"$error":"#N/A"}},{"$f":"IF(ISNA(VLOOKUP(tblSalaries[[#This Row],[Years of Experience]],vlookUpExp!$A$1:$B$56,2,FALSE)),\"No Response\",VLOOKUP(tblSalaries[[#This Row],[Years of Experience]],vlookUpExp!$A$1:$B$56,2,FALSE))","v":"No Response"}]
[null,"ID0212","2012-05-26T00:54:41",43000,43000,"USD",{"$f":"tblSalaries[[#This Row],[clean Salary (in local currency)]]*VLOOKUP(tblSalaries[[#This Row],[Currency]],tblXrate[],2,FALSE)","v":43000},{"$f":"IF($H$1=\"USD\",tblSalaries[[#This Row],[Salary in USD]],tblSalaries[[#This Row],[Salary in USD]]*VLOOKUP($H$1,USDtoUserChoice,2,FALSE))","v":352685.14},"Reporting Analyst Team Lead","Analyst","USA",{"$f":"VLOOKUP(tblSalaries[[#This Row],[Where do you work]],tblCountries[[Actual]:[Mapping]],2,FALSE)","v":"USA"},"All the 8 hours baby, all the 8!",{"$f":"NA()","v":{"$error":"#N/A"}},{"$f":"IF(ISNA(VLOOKUP(tblSalaries[[#This Row],[Years of Experience]],vlookUpExp!$A$1:$B$56,2,FALSE)),\"No Response\",VLOOKUP(tblSalaries[[#This Row],[Years of Experience]],vlookUpExp!$A$1:$B$56,2,FALSE))","v":"No Response"}]
[null,"ID0213","2012-05-26T00:54:46",27000,27000,"USD",{"$f":"tblSalaries[[#This Row],[clean Salary (in local currency)]]*VLOOKUP(tblSalaries[[#This Row],[Currency]],tblXrate[],2,FALSE)","v":27000},{"$f":"IF($H$1=\"USD\",tblSalaries[[#This Row],[Salary in USD]],tblSalaries[[#This Row],[Salary in USD]]*VLOOKUP($H$1,USDtoUserChoice,2,FALSE))","v":221453.46000000002},"Innovation Analyst","Analyst","Singapore",{"$f":"VLOOKUP(tblSalaries[[#This Row],[Where do you work]],tblCountries[[Actual]:[Mapping]],2,FALSE)","v":"Singapore"},"All the 8 hours baby, all the 8!",{"$f":"NA()","v":{"$error":"#N/A"}},{"$f":"IF(ISNA(VLOOKUP(tblSalaries[[#This Row],[Years of Experience]],vlookUpExp!$A$1:$B$56,2,FALSE)),\"No Response\",VLOOKUP(tblSalaries[[#This Row],[Years of Experience]],vlookUpExp!$A$1:$B$56,2,FALSE))","v":"No Response"}]
[null,"ID0214","2012-05-26T00:54:56",41000,41000,"USD",{"$f":"tblSalaries[[#This Row],[clean Salary (in local currency)]]*VLOOKUP(tblSalaries[[#This Row],[Currency]],tblXrate[],2,FALSE)","v":41000},{"$f":"IF($H$1=\"USD\",tblSalaries[[#This Row],[Salary in USD]],tblSalaries[[#This Row],[Salary in USD]]*VLOOKUP($H$1,USDtoUserChoice,2,FALSE))","v":336281.18000000005},"Operations Expert","Manager","USA",{"$f":"VLOOKUP(tblSalaries[[#This Row],[Where do you work]],tblCountries[[Actual]:[Mapping]],2,FALSE)","v":"USA"},"All the 8 hours baby, all the 8!",{"$f":"NA()","v":{"$error":"#N/A"}},{"$f":"IF(ISNA(VLOOKUP(tblSalaries[[#This Row],[Years of Experience]],vlookUpExp!$A$1:$B$56,2,FALSE)),\"No Response\",VLOOKUP(tblSalaries[[#This Row],[Years of Experience]],vlookUpExp!$A$1:$B$56,2,FALSE))","v":"No Response"}]
[null,"ID0215","2012-05-26T00:55:06",100000,100000,"USD",{"$f":"tblSalaries[[#This Row],[clean Salary (in local currency)]]*VLOOKUP(tblSalaries[[#This Row],[Currency]],tblXrate[],2,FALSE)","v":100000},{"$f":"IF($H$1=\"USD\",tblSalaries[[#This Row],[Salary in USD]],tblSalaries[[#This Row],[Salary in USD]]*VLOOKUP($H$1,USDtoUserChoice,2,FALSE))","v":820198.00000000012},"Director of Finance","CXO or Top Mgmt.","USA",{"$f":"VLOOKUP(tblSalaries[[#This Row],[Where do you work]],tblCountries[[Actual]:[Mapping]],2,FALSE)","v":"USA"},"4 to 6 hours a day",{"$f":"NA()","v":{"$error":"#N/A"}},{"$f":"IF(ISNA(VLOOKUP(tblSalaries[[#This Row],[Years of Experience]],vlookUpExp!$A$1:$B$56,2,FALSE)),\"No Response\",VLOOKUP(tblSalaries[[#This Row],[Years of Experience]],vlookUpExp!$A$1:$B$56,2,FALSE))","v":"No Response"}]
[null,"ID0216","2012-05-26T00:55:50",42140,42140,"USD",{"$f":"tblSalaries[[#This Row],[clean Salary (in local currency)]]*VLOOKUP(tblSalaries[[#This Row],[Currency]],tblXrate[],2,FALSE)","v":42140},{"$f":"IF($H$1=\"USD\",tblSalaries[[#This Row],[Salary in USD]],tblSalaries[[#This Row],[Salary in USD]]*VLOOKUP($H$1,USDtoUserChoice,2,FALSE))","v":345631.43720000004},"Information Analyst II","Analyst","USA",{"$f":"VLOOKUP(tblSalaries[[#This Row],[Where do you work]],tblCountries[[Actual]:[Mapping]],2,FALSE)","v":"USA"},"4 to 6 hours a day",{"$f":"NA()","v":{"$error":"#N/A"}},{"$f":"IF(ISNA(VLOOKUP(tblSalaries[[#This Row],[Years of Experience]],vlookUpExp!$A$1:$B$56,2,FALSE)),\"No Response\",VLOOKUP(tblSalaries[[#This Row],[Years of Experience]],vlookUpExp!$A$1:$B$56,2,FALSE))","v":"No Response"}]
[null,"ID0217","2012-05-26T00:56:06",80000,80000,"USD",{"$f":"tblSalaries[[#This Row],[clean Salary (in local currency)]]*VLOOKUP(tblSalaries[[#This Row],[Currency]],tblXrate[],2,FALSE)","v":80000},{"$f":"IF($H$1=\"USD\",tblSalaries[[#This Row],[Salary in USD]],tblSalaries[[#This Row],[Salary in USD]]*VLOOKUP($H$1,USDtoUserChoice,2,FALSE))","v":656158.4},"Marketing Analyst","Analyst","USA",{"$f":"VLOOKUP(tblSalaries[[#This Row],[Where do you work]],tblCountries[[Actual]:[Mapping]],2,FALSE)","v":"USA"},"4 to 6 hours a day",{"$f":"NA()","v":{"$error":"#N/A"}},{"$f":"IF(ISNA(VLOOKUP(tblSalaries[[#This Row],[Years of Experience]],vlookUpExp!$A$1:$B$56,2,FALSE)),\"No Response\",VLOOKUP(tblSalaries[[#This Row],[Years of Experience]],vlookUpExp!$A$1:$B$56,2,FALSE))","v":"No Response"}]
[null,"ID0218","2012-05-26T00:56:37",41600,41600,"USD",{"$f":"tblSalaries[[#This Row],[clean Salary (in local currency)]]*VLOOKUP(tblSalaries[[#This Row],[Currency]],tblXrate[],2,FALSE)","v":41600},{"$f":"IF($H$1=\"USD\",tblSalaries[[#This Row],[Salary in USD]],tblSalaries[[#This Row],[Salary in USD]]*VLOOKUP($H$1,USDtoUserChoice,2,FALSE))","v":341202.36800000002},"Project Manager","Manager","USA",{"$f":"VLOOKUP(tblSalaries[[#This Row],[Where do you work]],tblCountries[[Actual]:[Mapping]],2,FALSE)","v":"USA"},"4 to 6 hours a day",{"$f":"NA()","v":{"$error":"#N/A"}},{"$f":"IF(ISNA(VLOOKUP(tblSalaries[[#This Row],[Years of Experience]],vlookUpExp!$A$1:$B$56,2,FALSE)),\"No Response\",VLOOKUP(tblSalaries[[#This Row],[Years of Experience]],vlookUpExp!$A$1:$B$56,2,FALSE))","v":"No Response"}]
[null,"ID0219","2012-05-26T00:56:37","45k",45000,"USD",{"$f":"tblSalaries[[#This Row],[clean Salary (in local currency)]]*VLOOKUP(tblSalaries[[#This Row],[Currency]],tblXrate[],2,FALSE)","v":45000},{"$f":"IF($H$1=\"USD\",tblSalaries[[#This Row],[Salary in USD]],tblSalaries[[#This Row],[Salary in USD]]*VLOOKUP($H$1,USDtoUserChoice,2,FALSE))","v":369089.10000000003},"Accounting Assistant","Accountant","USA",{"$f":"VLOOKUP(tblSalaries[[#This Row],[Where do you work]],tblCountries[[Actual]:[Mapping]],2,FALSE)","v":"USA"},"2 to 3 hours per day",{"$f":"NA()","v":{"$error":"#N/A"}},{"$f":"IF(ISNA(VLOOKUP(tblSalaries[[#This Row],[Years of Experience]],vlookUpExp!$A$1:$B$56,2,FALSE)),\"No Response\",VLOOKUP(tblSalaries[[#This Row],[Years of Experience]],vlookUpExp!$A$1:$B$56,2,FALSE))","v":"No Response"}]
[null,"ID0220","2012-05-26T00:56:54",78000,78000,"USD",{"$f":"tblSalaries[[#This Row],[clean Salary (in local currency)]]*VLOOKUP(tblSalaries[[#This Row],[Currency]],tblXrate[],2,FALSE)","v":78000},{"$f":"IF($H$1=\"USD\",tblSalaries[[#This Row],[Salary in USD]],tblSalaries[[#This Row],[Salary in USD]]*VLOOKUP($H$1,USDtoUserChoice,2,FALSE))","v":639754.44000000006},"Tax Professional","Accountant","Bermuda",{"$f":"VLOOKUP(tblSalaries[[#This Row],[Where do you work]],tblCountries[[Actual]:[Mapping]],2,FALSE)","v":"Bermuda"},"4 to 6 hours a day",{"$f":"NA()","v":{"$error":"#N/A"}},{"$f":"IF(ISNA(VLOOKUP(tblSalaries[[#This Row],[Years of Experience]],vlookUpExp!$A$1:$B$56,2,FALSE)),\"No Response\",VLOOKUP(tblSalaries[[#This Row],[Years of Experience]],vlookUpExp!$A$1:$B$56,2,FALSE))","v":"No Response"}]
[null,"ID0221","2012-05-26T00:57:21","INR 500000",500000,"INR",{"$f":"tblSalaries[[#This Row],[clean Salary (in local currency)]]*VLOOKUP(tblSalaries[[#This Row],[Currency]],tblXrate[],2,FALSE)","v":8903.9583437212841},{"$f":"IF($H$1=\"USD\",tblSalaries[[#This Row],[Salary in USD]],tblSalaries[[#This Row],[Salary in USD]]*VLOOKUP($H$1,USDtoUserChoice,2,FALSE))","v":73030.088256035102},"Project Manager","Manager","India",{"$f":"VLOOKUP(tblSalaries[[#This Row],[Where do you work]],tblCountries[[Actual]:[Mapping]],2,FALSE)","v":"India"},"4 to 6 hours a day",{"$f":"NA()","v":{"$error":"#N/A"}},{"$f":"IF(ISNA(VLOOKUP(tblSalaries[[#This Row],[Years of Experience]],vlookUpExp!$A$1:$B$56,2,FALSE)),\"No Response\",VLOOKUP(tblSalaries[[#This Row],[Years of Experience]],vlookUpExp!$A$1:$B$56,2,FALSE))","v":"No Response"}]
[null,"ID0222","2012-05-26T00:57:35","INR 350k",350000,"INR",{"$f":"tblSalaries[[#This Row],[clean Salary (in local currency)]]*VLOOKUP(tblSalaries[[#This Row],[Currency]],tblXrate[],2,FALSE)","v":6232.7708406048987},{"$f":"IF($H$1=\"USD\",tblSalaries[[#This Row],[Salary in USD]],tblSalaries[[#This Row],[Salary in USD]]*VLOOKUP($H$1,USDtoUserChoice,2,FALSE))","v":51121.061779224568},"Jr. Executive Finance","Accountant","India",{"$f":"VLOOKUP(tblSalaries[[#This Row],[Where do you work]],tblCountries[[Actual]:[Mapping]],2,FALSE)","v":"India"},"4 to 6 hours a day",{"$f":"NA()","v":{"$error":"#N/A"}},{"$f":"IF(ISNA(VLOOKUP(tblSalaries[[#This Row],[Years of Experience]],vlookUpExp!$A$1:$B$56,2,FALSE)),\"No Response\",VLOOKUP(tblSalaries[[#This Row],[Years of Experience]],vlookUpExp!$A$1:$B$56,2,FALSE))","v":"No Response"}]
[null,"ID0223","2012-05-26T00:57:44",72500,72500,"USD",{"$f":"tblSalaries[[#This Row],[clean Salary (in local currency)]]*VLOOKUP(tblSalaries[[#This Row],[Currency]],tblXrate[],2,FALSE)","v":72500},{"$f":"IF($H$1=\"USD\",tblSalaries[[#This Row],[Salary in USD]],tblSalaries[[#This Row],[Salary in USD]]*VLOOKUP($H$1,USDtoUserChoice,2,FALSE))","v":594643.55000000005},"Assistant Controller","Controller","USA",{"$f":"VLOOKUP(tblSalaries[[#This Row],[Where do you work]],tblCountries[[Actual]:[Mapping]],2,FALSE)","v":"USA"},"4 to 6 hours a day",{"$f":"NA()","v":{"$error":"#N/A"}},{"$f":"IF(ISNA(VLOOKUP(tblSalaries[[#This Row],[Years of Experience]],vlookUpExp!$A$1:$B$56,2,FALSE)),\"No Response\",VLOOKUP(tblSalaries[[#This Row],[Years of Experience]],vlookUpExp!$A$1:$B$56,2,FALSE))","v":"No Response"}]
[null,"ID0224","2012-05-26T00:57:52","US$ 138K",138000,"USD",{"$f":"tblSalaries[[#This Row],[clean Salary (in local currency)]]*VLOOKUP(tblSalaries[[#This Row],[Currency]],tblXrate[],2,FALSE)","v":138000},{"$f":"IF($H$1=\"USD\",tblSalaries[[#This Row],[Salary in USD]],tblSalaries[[#This Row],[Salary in USD]]*VLOOKUP($H$1,USDtoUserChoice,2,FALSE))","v":1131873.24},"Project engineer","Engineer","Thailand",{"$f":"VLOOKUP(tblSalaries[[#This Row],[Where do you work]],tblCountries[[Actual]:[Mapping]],2,FALSE)","v":"Thailand"},"4 to 6 hours a day",{"$f":"NA()","v":{"$error":"#N/A"}},{"$f":"IF(ISNA(VLOOKUP(tblSalaries[[#This Row],[Years of Experience]],vlookUpExp!$A$1:$B$56,2,FALSE)),\"No Response\",VLOOKUP(tblSalaries[[#This Row],[Years of Experience]],vlookUpExp!$A$1:$B$56,2,FALSE))","v":"No Response"}]
[null,"ID0225","2012-05-26T00:58:03",480000,480000,"INR",{"$f":"tblSalaries[[#This Row],[clean Salary (in local currency)]]*VLOOKUP(tblSalaries[[#This Row],[Currency]],tblXrate[],2,FALSE)","v":8547.8000099724322},{"$f":"IF($H$1=\"USD\",tblSalaries[[#This Row],[Salary in USD]],tblSalaries[[#This Row],[Salary in USD]]*VLOOKUP($H$1,USDtoUserChoice,2,FALSE))","v":70108.884725793701},"Cash Officer","Manager","India",{"$f":"VLOOKUP(tblSalaries[[#This Row],[Where do you work]],tblCountries[[Actual]:[Mapping]],2,FALSE)","v":"India"},"4 to 6 hours a day",{"$f":"NA()","v":{"$error":"#N/A"}},{"$f":"IF(ISNA(VLOOKUP(tblSalaries[[#This Row],[Years of Experience]],vlookUpExp!$A$1:$B$56,2,FALSE)),\"No Response\",VLOOKUP(tblSalaries[[#This Row],[Years of Experience]],vlookUpExp!$A$1:$B$56,2,FALSE))","v":"No Response"}]
[null,"ID0226","2012-05-26T00:58:05",80000,80000,"USD",{"$f":"tblSalaries[[#This Row],[clean Salary (in local currency)]]*VLOOKUP(tblSalaries[[#This Row],[Currency]],tblXrate[],2,FALSE)","v":80000},{"$f":"IF($H$1=\"USD\",tblSalaries[[#This Row],[Salary in USD]],tblSalaries[[#This Row],[Salary in USD]]*VLOOKUP($H$1,USDtoUserChoice,2,FALSE))","v":656158.4},"Senior Analyst","Analyst","USA",{"$f":"VLOOKUP(tblSalaries[[#This Row],[Where do you work]],tblCountries[[Actual]:[Mapping]],2,FALSE)","v":"USA"},"4 to 6 hours a day",{"$f":"NA()","v":{"$error":"#N/A"}},{"$f":"IF(ISNA(VLOOKUP(tblSalaries[[#This Row],[Years of Experience]],vlookUpExp!$A$1:$B$56,2,FALSE)),\"No Response\",VLOOKUP(tblSalaries[[#This Row],[Years of Experience]],vlookUpExp!$A$1:$B$56,2,FALSE))","v":"No Response"}]
[null,"ID0227","2012-05-26T00:58:06",50000,50000,"USD",{"$f":"tblSalaries[[#This Row],[clean Salary (in local currency)]]*VLOOKUP(tblSalaries[[#This Row],[Currency]],tblXrate[],2,FALSE)","v":50000},{"$f":"IF($H$1=\"USD\",tblSalaries[[#This Row],[Salary in USD]],tblSalaries[[#This Row],[Salary in USD]]*VLOOKUP($H$1,USDtoUserChoice,2,FALSE))","v":410099.00000000006},"Project Manager","Manager","USA",{"$f":"VLOOKUP(tblSalaries[[#This Row],[Where do you work]],tblCountries[[Actual]:[Mapping]],2,FALSE)","v":"USA"},"4 to 6 hours a day",{"$f":"NA()","v":{"$error":"#N/A"}},{"$f":"IF(ISNA(VLOOKUP(tblSalaries[[#This Row],[Years of Experience]],vlookUpExp!$A$1:$B$56,2,FALSE)),\"No Response\",VLOOKUP(tblSalaries[[#This Row],[Years of Experience]],vlookUpExp!$A$1:$B$56,2,FALSE))","v":"No Response"}]
[null,"ID0228","2012-05-26T00:58:10",45000,45000,"CAD",{"$f":"tblSalaries[[#This Row],[clean Salary (in local currency)]]*VLOOKUP(tblSalaries[[#This Row],[Currency]],tblXrate[],2,FALSE)","v":44251.268536364711},{"$f":"IF($H$1=\"USD\",tblSalaries[[#This Row],[Salary in USD]],tblSalaries[[#This Row],[Salary in USD]]*VLOOKUP($H$1,USDtoUserChoice,2,FALSE))","v":362948.01950989268},"Technical support specialist","Specialist","Canada",{"$f":"VLOOKUP(tblSalaries[[#This Row],[Where do you work]],tblCountries[[Actual]:[Mapping]],2,FALSE)","v":"Canada"},"1 or 2 hours a day",{"$f":"NA()","v":{"$error":"#N/A"}},{"$f":"IF(ISNA(VLOOKUP(tblSalaries[[#This Row],[Years of Experience]],vlookUpExp!$A$1:$B$56,2,FALSE)),\"No Response\",VLOOKUP(tblSalaries[[#This Row],[Years of Experience]],vlookUpExp!$A$1:$B$56,2,FALSE))","v":"No Response"}]
[null,"ID0229","2012-05-26T00:58:22",43000,43000,"GBP",{"$f":"tblSalaries[[#This Row],[clean Salary (in local currency)]]*VLOOKUP(tblSalaries[[#This Row],[Currency]],tblXrate[],2,FALSE)","v":67775.665698893223},{"$f":"IF($H$1=\"USD\",tblSalaries[[#This Row],[Salary in USD]],tblSalaries[[#This Row],[Salary in USD]]*VLOOKUP($H$1,USDtoUserChoice,2,FALSE))","v":555894.65454900824},"ServiceDesk Supervisor","Manager","UK",{"$f":"VLOOKUP(tblSalaries[[#This Row],[Where do you work]],tblCountries[[Actual]:[Mapping]],2,FALSE)","v":"UK"},"2 to 3 hours per day",{"$f":"NA()","v":{"$error":"#N/A"}},{"$f":"IF(ISNA(VLOOKUP(tblSalaries[[#This Row],[Years of Experience]],vlookUpExp!$A$1:$B$56,2,FALSE)),\"No Response\",VLOOKUP(tblSalaries[[#This Row],[Years of Experience]],vlookUpExp!$A$1:$B$56,2,FALSE))","v":"No Response"}]
[null,"ID0230","2012-05-26T00:58:56",200000,200000,"INR",{"$f":"tblSalaries[[#This Row],[clean Salary (in local currency)]]*VLOOKUP(tblSalaries[[#This Row],[Currency]],tblXrate[],2,FALSE)","v":3561.5833374885137},{"$f":"IF($H$1=\"USD\",tblSalaries[[#This Row],[Salary in USD]],tblSalaries[[#This Row],[Salary in USD]]*VLOOKUP($H$1,USDtoUserChoice,2,FALSE))","v":29212.035302414042},"medical biller","Analyst","India",{"$f":"VLOOKUP(tblSalaries[[#This Row],[Where do you work]],tblCountries[[Actual]:[Mapping]],2,FALSE)","v":"India"},"1 or 2 hours a day",{"$f":"NA()","v":{"$error":"#N/A"}},{"$f":"IF(ISNA(VLOOKUP(tblSalaries[[#This Row],[Years of Experience]],vlookUpExp!$A$1:$B$56,2,FALSE)),\"No Response\",VLOOKUP(tblSalaries[[#This Row],[Years of Experience]],vlookUpExp!$A$1:$B$56,2,FALSE))","v":"No Response"}]
[null,"ID0231","2012-05-26T00:59:03",65000,65000,"USD",{"$f":"tblSalaries[[#This Row],[clean Salary (in local currency)]]*VLOOKUP(tblSalaries[[#This Row],[Currency]],tblXrate[],2,FALSE)","v":65000},{"$f":"IF($H$1=\"USD\",tblSalaries[[#This Row],[Salary in USD]],tblSalaries[[#This Row],[Salary in USD]]*VLOOKUP($H$1,USDtoUserChoice,2,FALSE))","v":533128.70000000007},"Sr. Strategic Development Specialist","Specialist","USA",{"$f":"VLOOKUP(tblSalaries[[#This Row],[Where do you work]],tblCountries[[Actual]:[Mapping]],2,FALSE)","v":"USA"},"2 to 3 hours per day",{"$f":"NA()","v":{"$error":"#N/A"}},{"$f":"IF(ISNA(VLOOKUP(tblSalaries[[#This Row],[Years of Experience]],vlookUpExp!$A$1:$B$56,2,FALSE)),\"No Response\",VLOOKUP(tblSalaries[[#This Row],[Years of Experience]],vlookUpExp!$A$1:$B$56,2,FALSE))","v":"No Response"}]
[null,"ID0232","2012-05-26T00:59:09",114000,114000,"USD",{"$f":"tblSalaries[[#This Row],[clean Salary (in local currency)]]*VLOOKUP(tblSalaries[[#This Row],[Currency]],tblXrate[],2,FALSE)","v":114000},{"$f":"IF($H$1=\"USD\",tblSalaries[[#This Row],[Salary in USD]],tblSalaries[[#This Row],[Salary in USD]]*VLOOKUP($H$1,USDtoUserChoice,2,FALSE))","v":935025.72000000009},"Director","CXO or Top Mgmt.","USA",{"$f":"VLOOKUP(tblSalaries[[#This Row],[Where do you work]],tblCountries[[Actual]:[Mapping]],2,FALSE)","v":"USA"},"2 to 3 hours per day",{"$f":"NA()","v":{"$error":"#N/A"}},{"$f":"IF(ISNA(VLOOKUP(tblSalaries[[#This Row],[Years of Experience]],vlookUpExp!$A$1:$B$56,2,FALSE)),\"No Response\",VLOOKUP(tblSalaries[[#This Row],[Years of Experience]],vlookUpExp!$A$1:$B$56,2,FALSE))","v":"No Response"}]
[null,"ID0233","2012-05-26T00:59:27",95000,95000,"USD",{"$f":"tblSalaries[[#This Row],[clean Salary (in local currency)]]*VLOOKUP(tblSalaries[[#This Row],[Currency]],tblXrate[],2,FALSE)","v":95000},{"$f":"IF($H$1=\"USD\",tblSalaries[[#This Row],[Salary in USD]],tblSalaries[[#This Row],[Salary in USD]]*VLOOKUP($H$1,USDtoUserChoice,2,FALSE))","v":779188.10000000009},"VP - Procurment","CXO or Top Mgmt.","USA",{"$f":"VLOOKUP(tblSalaries[[#This Row],[Where do you work]],tblCountries[[Actual]:[Mapping]],2,FALSE)","v":"USA"},"4 to 6 hours a day",{"$f":"NA()","v":{"$error":"#N/A"}},{"$f":"IF(ISNA(VLOOKUP(tblSalaries[[#This Row],[Years of Experience]],vlookUpExp!$A$1:$B$56,2,FALSE)),\"No Response\",VLOOKUP(tblSalaries[[#This Row],[Years of Experience]],vlookUpExp!$A$1:$B$56,2,FALSE))","v":"No Response"}]
[null,"ID0234","2012-05-26T01:00:51","52500.00 USD",52500,"USD",{"$f":"tblSalaries[[#This Row],[clean Salary (in local currency)]]*VLOOKUP(tblSalaries[[#This Row],[Currency]],tblXrate[],2,FALSE)","v":52500},{"$f":"IF($H$1=\"USD\",tblSalaries[[#This Row],[Salary in USD]],tblSalaries[[#This Row],[Salary in USD]]*VLOOKUP($H$1,USDtoUserChoice,2,FALSE))","v":430603.95},"HRIS Analyst","Analyst","USA",{"$f":"VLOOKUP(tblSalaries[[#This Row],[Where do you work]],tblCountries[[Actual]:[Mapping]],2,FALSE)","v":"USA"},"4 to 6 hours a day",{"$f":"NA()","v":{"$error":"#N/A"}},{"$f":"IF(ISNA(VLOOKUP(tblSalaries[[#This Row],[Years of Experience]],vlookUpExp!$A$1:$B$56,2,FALSE)),\"No Response\",VLOOKUP(tblSalaries[[#This Row],[Years of Experience]],vlookUpExp!$A$1:$B$56,2,FALSE))","v":"No Response"}]
[null,"ID0235","2012-05-26T01:01:03",45000,45000,"GBP",{"$f":"tblSalaries[[#This Row],[clean Salary (in local currency)]]*VLOOKUP(tblSalaries[[#This Row],[Currency]],tblXrate[],2,FALSE)","v":70928.022243027779},{"$f":"IF($H$1=\"USD\",tblSalaries[[#This Row],[Salary in USD]],tblSalaries[[#This Row],[Salary in USD]]*VLOOKUP($H$1,USDtoUserChoice,2,FALSE))","v":581750.219876869},"Procurement manager","Manager","UK",{"$f":"VLOOKUP(tblSalaries[[#This Row],[Where do you work]],tblCountries[[Actual]:[Mapping]],2,FALSE)","v":"UK"},"2 to 3 hours per day",{"$f":"NA()","v":{"$error":"#N/A"}},{"$f":"IF(ISNA(VLOOKUP(tblSalaries[[#This Row],[Years of Experience]],vlookUpExp!$A$1:$B$56,2,FALSE)),\"No Response\",VLOOKUP(tblSalaries[[#This Row],[Years of Experience]],vlookUpExp!$A$1:$B$56,2,FALSE))","v":"No Response"}]
[null,"ID0236","2012-05-26T01:01:32",60000,60000,"USD",{"$f":"tblSalaries[[#This Row],[clean Salary (in local currency)]]*VLOOKUP(tblSalaries[[#This Row],[Currency]],tblXrate[],2,FALSE)","v":60000},{"$f":"IF($H$1=\"USD\",tblSalaries[[#This Row],[Salary in USD]],tblSalaries[[#This Row],[Salary in USD]]*VLOOKUP($H$1,USDtoUserChoice,2,FALSE))","v":492118.80000000005},"Energy Analyst","Analyst","USA",{"$f":"VLOOKUP(tblSalaries[[#This Row],[Where do you work]],tblCountries[[Actual]:[Mapping]],2,FALSE)","v":"USA"},"4 to 6 hours a day",{"$f":"NA()","v":{"$error":"#N/A"}},{"$f":"IF(ISNA(VLOOKUP(tblSalaries[[#This Row],[Years of Experience]],vlookUpExp!$A$1:$B$56,2,FALSE)),\"No Response\",VLOOKUP(tblSalaries[[#This Row],[Years of Experience]],vlookUpExp!$A$1:$B$56,2,FALSE))","v":"No Response"}]
[null,"ID0237","2012-05-26T01:02:04",65250,65250,"USD",{"$f":"tblSalaries[[#This Row],[clean Salary (in local currency)]]*VLOOKUP(tblSalaries[[#This Row],[Currency]],tblXrate[],2,FALSE)","v":65250},{"$f":"IF($H$1=\"USD\",tblSalaries[[#This Row],[Salary in USD]],tblSalaries[[#This Row],[Salary in USD]]*VLOOKUP($H$1,USDtoUserChoice,2,FALSE))","v":535179.19500000007},"Accountant","Accountant","USA",{"$f":"VLOOKUP(tblSalaries[[#This Row],[Where do you work]],tblCountries[[Actual]:[Mapping]],2,FALSE)","v":"USA"},"4 to 6 hours a day",{"$f":"NA()","v":{"$error":"#N/A"}},{"$f":"IF(ISNA(VLOOKUP(tblSalaries[[#This Row],[Years of Experience]],vlookUpExp!$A$1:$B$56,2,FALSE)),\"No Response\",VLOOKUP(tblSalaries[[#This Row],[Years of Experience]],vlookUpExp!$A$1:$B$56,2,FALSE))","v":"No Response"}]
[null,"ID0238","2012-05-26T01:02:07",1200000,1200000,"INR",{"$f":"tblSalaries[[#This Row],[clean Salary (in local currency)]]*VLOOKUP(tblSalaries[[#This Row],[Currency]],tblXrate[],2,FALSE)","v":21369.500024931083},{"$f":"IF($H$1=\"USD\",tblSalaries[[#This Row],[Salary in USD]],tblSalaries[[#This Row],[Salary in USD]]*VLOOKUP($H$1,USDtoUserChoice,2,FALSE))","v":175272.21181448427},"Branch head -sales","Manager","India",{"$f":"VLOOKUP(tblSalaries[[#This Row],[Where do you work]],tblCountries[[Actual]:[Mapping]],2,FALSE)","v":"India"},"2 to 3 hours per day",{"$f":"NA()","v":{"$error":"#N/A"}},{"$f":"IF(ISNA(VLOOKUP(tblSalaries[[#This Row],[Years of Experience]],vlookUpExp!$A$1:$B$56,2,FALSE)),\"No Response\",VLOOKUP(tblSalaries[[#This Row],[Years of Experience]],vlookUpExp!$A$1:$B$56,2,FALSE))","v":"No Response"}]
[null,"ID0239","2012-05-26T01:02:10",100000,100000,"CAD",{"$f":"tblSalaries[[#This Row],[clean Salary (in local currency)]]*VLOOKUP(tblSalaries[[#This Row],[Currency]],tblXrate[],2,FALSE)","v":98336.152303032693},{"$f":"IF($H$1=\"USD\",tblSalaries[[#This Row],[Salary in USD]],tblSalaries[[#This Row],[Salary in USD]]*VLOOKUP($H$1,USDtoUserChoice,2,FALSE))","v":806551.15446642821},"retail buyer","Manager","Canada",{"$f":"VLOOKUP(tblSalaries[[#This Row],[Where do you work]],tblCountries[[Actual]:[Mapping]],2,FALSE)","v":"Canada"},"2 to 3 hours per day",{"$f":"NA()","v":{"$error":"#N/A"}},{"$f":"IF(ISNA(VLOOKUP(tblSalaries[[#This Row],[Years of Experience]],vlookUpExp!$A$1:$B$56,2,FALSE)),\"No Response\",VLOOKUP(tblSalaries[[#This Row],[Years of Experience]],vlookUpExp!$A$1:$B$56,2,FALSE))","v":"No Response"}]
[null,"ID0240","2012-05-26T01:02:16","1000 â‚¬",12000,"EUR",{"$f":"tblSalaries[[#This Row],[clean Salary (in local currency)]]*VLOOKUP(tblSalaries[[#This Row],[Currency]],tblXrate[],2,FALSE)","v":15244.793267899293},{"$f":"IF($H$1=\"USD\",tblSalaries[[#This Row],[Salary in USD]],tblSalaries[[#This Row],[Salary in USD]]*VLOOKUP($H$1,USDtoUserChoice,2,FALSE))","v":125037.48948744465},"HR Specialist","Specialist","Portugal",{"$f":"VLOOKUP(tblSalaries[[#This Row],[Where do you work]],tblCountries[[Actual]:[Mapping]],2,FALSE)","v":"Portugal"},"All the 8 hours baby, all the 8!",{"$f":"NA()","v":{"$error":"#N/A"}},{"$f":"IF(ISNA(VLOOKUP(tblSalaries[[#This Row],[Years of Experience]],vlookUpExp!$A$1:$B$56,2,FALSE)),\"No Response\",VLOOKUP(tblSalaries[[#This Row],[Years of Experience]],vlookUpExp!$A$1:$B$56,2,FALSE))","v":"No Response"}]
[null,"ID0241","2012-05-26T01:02:21",73000,73000,"USD",{"$f":"tblSalaries[[#This Row],[clean Salary (in local currency)]]*VLOOKUP(tblSalaries[[#This Row],[Currency]],tblXrate[],2,FALSE)","v":73000},{"$f":"IF($H$1=\"USD\",tblSalaries[[#This Row],[Salary in USD]],tblSalaries[[#This Row],[Salary in USD]]*VLOOKUP($H$1,USDtoUserChoice,2,FALSE))","v":598744.54},"Financial Analyst","Analyst","USA",{"$f":"VLOOKUP(tblSalaries[[#This Row],[Where do you work]],tblCountries[[Actual]:[Mapping]],2,FALSE)","v":"USA"},"4 to 6 hours a day",{"$f":"NA()","v":{"$error":"#N/A"}},{"$f":"IF(ISNA(VLOOKUP(tblSalaries[[#This Row],[Years of Experience]],vlookUpExp!$A$1:$B$56,2,FALSE)),\"No Response\",VLOOKUP(tblSalaries[[#This Row],[Years of Experience]],vlookUpExp!$A$1:$B$56,2,FALSE))","v":"No Response"}]
[null,"ID0242","2012-05-26T01:02:47",50000,50000,"USD",{"$f":"tblSalaries[[#This Row],[clean Salary (in local currency)]]*VLOOKUP(tblSalaries[[#This Row],[Currency]],tblXrate[],2,FALSE)","v":50000},{"$f":"IF($H$1=\"USD\",tblSalaries[[#This Row],[Salary in USD]],tblSalaries[[#This Row],[Salary in USD]]*VLOOKUP($H$1,USDtoUserChoice,2,FALSE))","v":410099.00000000006},"data analyst","Analyst","USA",{"$f":"VLOOKUP(tblSalaries[[#This Row],[Where do you work]],tblCountries[[Actual]:[Mapping]],2,FALSE)","v":"USA"},"All the 8 hours baby, all the 8!",{"$f":"NA()","v":{"$error":"#N/A"}},{"$f":"IF(ISNA(VLOOKUP(tblSalaries[[#This Row],[Years of Experience]],vlookUpExp!$A$1:$B$56,2,FALSE)),\"No Response\",VLOOKUP(tblSalaries[[#This Row],[Years of Experience]],vlookUpExp!$A$1:$B$56,2,FALSE))","v":"No Response"}]
[null,"ID0243","2012-05-26T01:02:51",79000,79000,"USD",{"$f":"tblSalaries[[#This Row],[clean Salary (in local currency)]]*VLOOKUP(tblSalaries[[#This Row],[Currency]],tblXrate[],2,FALSE)","v":79000},{"$f":"IF($H$1=\"USD\",tblSalaries[[#This Row],[Salary in USD]],tblSalaries[[#This Row],[Salary in USD]]*VLOOKUP($H$1,USDtoUserChoice,2,FALSE))","v":647956.42000000004},"Director of Finance and Accounting","Accountant","USA",{"$f":"VLOOKUP(tblSalaries[[#This Row],[Where do you work]],tblCountries[[Actual]:[Mapping]],2,FALSE)","v":"USA"},"2 to 3 hours per day",{"$f":"NA()","v":{"$error":"#N/A"}},{"$f":"IF(ISNA(VLOOKUP(tblSalaries[[#This Row],[Years of Experience]],vlookUpExp!$A$1:$B$56,2,FALSE)),\"No Response\",VLOOKUP(tblSalaries[[#This Row],[Years of Experience]],vlookUpExp!$A$1:$B$56,2,FALSE))","v":"No Response"}]
[null,"ID0244","2012-05-26T01:03:07",90000,90000,"USD",{"$f":"tblSalaries[[#This Row],[clean Salary (in local currency)]]*VLOOKUP(tblSalaries[[#This Row],[Currency]],tblXrate[],2,FALSE)","v":90000},{"$f":"IF($H$1=\"USD\",tblSalaries[[#This Row],[Salary in USD]],tblSalaries[[#This Row],[Salary in USD]]*VLOOKUP($H$1,USDtoUserChoice,2,FALSE))","v":738178.20000000007},"Manager Business Control","Manager","USA",{"$f":"VLOOKUP(tblSalaries[[#This Row],[Where do you work]],tblCountries[[Actual]:[Mapping]],2,FALSE)","v":"USA"},"4 to 6 hours a day",{"$f":"NA()","v":{"$error":"#N/A"}},{"$f":"IF(ISNA(VLOOKUP(tblSalaries[[#This Row],[Years of Experience]],vlookUpExp!$A$1:$B$56,2,FALSE)),\"No Response\",VLOOKUP(tblSalaries[[#This Row],[Years of Experience]],vlookUpExp!$A$1:$B$56,2,FALSE))","v":"No Response"}]
[null,"ID0245","2012-05-26T01:03:28",70000,70000,"USD",{"$f":"tblSalaries[[#This Row],[clean Salary (in local currency)]]*VLOOKUP(tblSalaries[[#This Row],[Currency]],tblXrate[],2,FALSE)","v":70000},{"$f":"IF($H$1=\"USD\",tblSalaries[[#This Row],[Salary in USD]],tblSalaries[[#This Row],[Salary in USD]]*VLOOKUP($H$1,USDtoUserChoice,2,FALSE))","v":574138.60000000009},"Manager Pricing","Manager","USA",{"$f":"VLOOKUP(tblSalaries[[#This Row],[Where do you work]],tblCountries[[Actual]:[Mapping]],2,FALSE)","v":"USA"},"2 to 3 hours per day",{"$f":"NA()","v":{"$error":"#N/A"}},{"$f":"IF(ISNA(VLOOKUP(tblSalaries[[#This Row],[Years of Experience]],vlookUpExp!$A$1:$B$56,2,FALSE)),\"No Response\",VLOOKUP(tblSalaries[[#This Row],[Years of Experience]],vlookUpExp!$A$1:$B$56,2,FALSE))","v":"No Response"}]
[null,"ID0246","2012-05-26T01:03:34",65000,65000,"CAD",{"$f":"tblSalaries[[#This Row],[clean Salary (in local currency)]]*VLOOKUP(tblSalaries[[#This Row],[Currency]],tblXrate[],2,FALSE)","v":63918.498996971248},{"$f":"IF($H$1=\"USD\",tblSalaries[[#This Row],[Salary in USD]],tblSalaries[[#This Row],[Salary in USD]]*VLOOKUP($H$1,USDtoUserChoice,2,FALSE))","v":524258.25040317827},"Insurance Manager","Manager","Canada",{"$f":"VLOOKUP(tblSalaries[[#This Row],[Where do you work]],tblCountries[[Actual]:[Mapping]],2,FALSE)","v":"Canada"},"4 to 6 hours a day",{"$f":"NA()","v":{"$error":"#N/A"}},{"$f":"IF(ISNA(VLOOKUP(tblSalaries[[#This Row],[Years of Experience]],vlookUpExp!$A$1:$B$56,2,FALSE)),\"No Response\",VLOOKUP(tblSalaries[[#This Row],[Years of Experience]],vlookUpExp!$A$1:$B$56,2,FALSE))","v":"No Response"}]
[null,"ID0247","2012-05-26T01:03:52",80000,80000,"USD",{"$f":"tblSalaries[[#This Row],[clean Salary (in local currency)]]*VLOOKUP(tblSalaries[[#This Row],[Currency]],tblXrate[],2,FALSE)","v":80000},{"$f":"IF($H$1=\"USD\",tblSalaries[[#This Row],[Salary in USD]],tblSalaries[[#This Row],[Salary in USD]]*VLOOKUP($H$1,USDtoUserChoice,2,FALSE))","v":656158.4},"Analyst","Analyst","USA",{"$f":"VLOOKUP(tblSalaries[[#This Row],[Where do you work]],tblCountries[[Actual]:[Mapping]],2,FALSE)","v":"USA"},"4 to 6 hours a day",{"$f":"NA()","v":{"$error":"#N/A"}},{"$f":"IF(ISNA(VLOOKUP(tblSalaries[[#This Row],[Years of Experience]],vlookUpExp!$A$1:$B$56,2,FALSE)),\"No Response\",VLOOKUP(tblSalaries[[#This Row],[Years of Experience]],vlookUpExp!$A$1:$B$56,2,FALSE))","v":"No Response"}]
[null,"ID0248","2012-05-26T01:03:54",140000,140000,"USD",{"$f":"tblSalaries[[#This Row],[clean Salary (in local currency)]]*VLOOKUP(tblSalaries[[#This Row],[Currency]],tblXrate[],2,FALSE)","v":140000},{"$f":"IF($H$1=\"USD\",tblSalaries[[#This Row],[Salary in USD]],tblSalaries[[#This Row],[Salary in USD]]*VLOOKUP($H$1,USDtoUserChoice,2,FALSE))","v":1148277.2000000002},"Manager","Manager","USA",{"$f":"VLOOKUP(tblSalaries[[#This Row],[Where do you work]],tblCountries[[Actual]:[Mapping]],2,FALSE)","v":"USA"},"4 to 6 hours a day",{"$f":"NA()","v":{"$error":"#N/A"}},{"$f":"IF(ISNA(VLOOKUP(tblSalaries[[#This Row],[Years of Experience]],vlookUpExp!$A$1:$B$56,2,FALSE)),\"No Response\",VLOOKUP(tblSalaries[[#This Row],[Years of Experience]],vlookUpExp!$A$1:$B$56,2,FALSE))","v":"No Response"}]
[null,"ID0249","2012-05-26T01:04:13","US$ 96k",96000,"USD",{"$f":"tblSalaries[[#This Row],[clean Salary (in local currency)]]*VLOOKUP(tblSalaries[[#This Row],[Currency]],tblXrate[],2,FALSE)","v":96000},{"$f":"IF($H$1=\"USD\",tblSalaries[[#This Row],[Salary in USD]],tblSalaries[[#This Row],[Salary in USD]]*VLOOKUP($H$1,USDtoUserChoice,2,FALSE))","v":787390.08000000007},"Freellance","Consultant","Poland",{"$f":"VLOOKUP(tblSalaries[[#This Row],[Where do you work]],tblCountries[[Actual]:[Mapping]],2,FALSE)","v":"Poland"},"2 to 3 hours per day",{"$f":"NA()","v":{"$error":"#N/A"}},{"$f":"IF(ISNA(VLOOKUP(tblSalaries[[#This Row],[Years of Experience]],vlookUpExp!$A$1:$B$56,2,FALSE)),\"No Response\",VLOOKUP(tblSalaries[[#This Row],[Years of Experience]],vlookUpExp!$A$1:$B$56,2,FALSE))","v":"No Response"}]
[null,"ID0250","2012-05-26T01:04:17",20000,20000,"USD",{"$f":"tblSalaries[[#This Row],[clean Salary (in local currency)]]*VLOOKUP(tblSalaries[[#This Row],[Currency]],tblXrate[],2,FALSE)","v":20000},{"$f":"IF($H$1=\"USD\",tblSalaries[[#This Row],[Salary in USD]],tblSalaries[[#This Row],[Salary in USD]]*VLOOKUP($H$1,USDtoUserChoice,2,FALSE))","v":164039.6},"category manager","Manager","India",{"$f":"VLOOKUP(tblSalaries[[#This Row],[Where do you work]],tblCountries[[Actual]:[Mapping]],2,FALSE)","v":"India"},"4 to 6 hours a day",{"$f":"NA()","v":{"$error":"#N/A"}},{"$f":"IF(ISNA(VLOOKUP(tblSalaries[[#This Row],[Years of Experience]],vlookUpExp!$A$1:$B$56,2,FALSE)),\"No Response\",VLOOKUP(tblSalaries[[#This Row],[Years of Experience]],vlookUpExp!$A$1:$B$56,2,FALSE))","v":"No Response"}]
[null,"ID0251","2012-05-26T01:04:50",47700,47700,"USD",{"$f":"tblSalaries[[#This Row],[clean Salary (in local currency)]]*VLOOKUP(tblSalaries[[#This Row],[Currency]],tblXrate[],2,FALSE)","v":47700},{"$f":"IF($H$1=\"USD\",tblSalaries[[#This Row],[Salary in USD]],tblSalaries[[#This Row],[Salary in USD]]*VLOOKUP($H$1,USDtoUserChoice,2,FALSE))","v":391234.44600000005},"Customer Operations Analyst","Analyst","USA",{"$f":"VLOOKUP(tblSalaries[[#This Row],[Where do you work]],tblCountries[[Actual]:[Mapping]],2,FALSE)","v":"USA"},"4 to 6 hours a day",{"$f":"NA()","v":{"$error":"#N/A"}},{"$f":"IF(ISNA(VLOOKUP(tblSalaries[[#This Row],[Years of Experience]],vlookUpExp!$A$1:$B$56,2,FALSE)),\"No Response\",VLOOKUP(tblSalaries[[#This Row],[Years of Experience]],vlookUpExp!$A$1:$B$56,2,FALSE))","v":"No Response"}]
[null,"ID0252","2012-05-26T01:05:14",25000,25000,"USD",{"$f":"tblSalaries[[#This Row],[clean Salary (in local currency)]]*VLOOKUP(tblSalaries[[#This Row],[Currency]],tblXrate[],2,FALSE)","v":25000},{"$f":"IF($H$1=\"USD\",tblSalaries[[#This Row],[Salary in USD]],tblSalaries[[#This Row],[Salary in USD]]*VLOOKUP($H$1,USDtoUserChoice,2,FALSE))","v":205049.50000000003},"Team Lead","Manager","India",{"$f":"VLOOKUP(tblSalaries[[#This Row],[Where do you work]],tblCountries[[Actual]:[Mapping]],2,FALSE)","v":"India"},"1 or 2 hours a day",{"$f":"NA()","v":{"$error":"#N/A"}},{"$f":"IF(ISNA(VLOOKUP(tblSalaries[[#This Row],[Years of Experience]],vlookUpExp!$A$1:$B$56,2,FALSE)),\"No Response\",VLOOKUP(tblSalaries[[#This Row],[Years of Experience]],vlookUpExp!$A$1:$B$56,2,FALSE))","v":"No Response"}]
[null,"ID0253","2012-05-26T01:05:18",52500,52500,"USD",{"$f":"tblSalaries[[#This Row],[clean Salary (in local currency)]]*VLOOKUP(tblSalaries[[#This Row],[Currency]],tblXrate[],2,FALSE)","v":52500},{"$f":"IF($H$1=\"USD\",tblSalaries[[#This Row],[Salary in USD]],tblSalaries[[#This Row],[Salary in USD]]*VLOOKUP($H$1,USDtoUserChoice,2,FALSE))","v":430603.95},"Analyst","Analyst","USA",{"$f":"VLOOKUP(tblSalaries[[#This Row],[Where do you work]],tblCountries[[Actual]:[Mapping]],2,FALSE)","v":"USA"},"4 to 6 hours a day",{"$f":"NA()","v":{"$error":"#N/A"}},{"$f":"IF(ISNA(VLOOKUP(tblSalaries[[#This Row],[Years of Experience]],vlookUpExp!$A$1:$B$56,2,FALSE)),\"No Response\",VLOOKUP(tblSalaries[[#This Row],[Years of Experience]],vlookUpExp!$A$1:$B$56,2,FALSE))","v":"No Response"}]
[null,"ID0254","2012-05-26T01:05:27",40000,40000,"USD",{"$f":"tblSalaries[[#This Row],[clean Salary (in local currency)]]*VLOOKUP(tblSalaries[[#This Row],[Currency]],tblXrate[],2,FALSE)","v":40000},{"$f":"IF($H$1=\"USD\",tblSalaries[[#This Row],[Salary in USD]],tblSalaries[[#This Row],[Salary in USD]]*VLOOKUP($H$1,USDtoUserChoice,2,FALSE))","v":328079.2},"Business Analyst","Analyst","USA",{"$f":"VLOOKUP(tblSalaries[[#This Row],[Where do you work]],tblCountries[[Actual]:[Mapping]],2,FALSE)","v":"USA"},"All the 8 hours baby, all the 8!",{"$f":"NA()","v":{"$error":"#N/A"}},{"$f":"IF(ISNA(VLOOKUP(tblSalaries[[#This Row],[Years of Experience]],vlookUpExp!$A$1:$B$56,2,FALSE)),\"No Response\",VLOOKUP(tblSalaries[[#This Row],[Years of Experience]],vlookUpExp!$A$1:$B$56,2,FALSE))","v":"No Response"}]
[null,"ID0255","2012-05-26T01:06:02","$31,000 USD",31000,"USD",{"$f":"tblSalaries[[#This Row],[clean Salary (in local currency)]]*VLOOKUP(tblSalaries[[#This Row],[Currency]],tblXrate[],2,FALSE)","v":31000},{"$f":"IF($H$1=\"USD\",tblSalaries[[#This Row],[Salary in USD]],tblSalaries[[#This Row],[Salary in USD]]*VLOOKUP($H$1,USDtoUserChoice,2,FALSE))","v":254261.38000000003},"Site Technician","Analyst","USA",{"$f":"VLOOKUP(tblSalaries[[#This Row],[Where do you work]],tblCountries[[Actual]:[Mapping]],2,FALSE)","v":"USA"},"4 to 6 hours a day",{"$f":"NA()","v":{"$error":"#N/A"}},{"$f":"IF(ISNA(VLOOKUP(tblSalaries[[#This Row],[Years of Experience]],vlookUpExp!$A$1:$B$56,2,FALSE)),\"No Response\",VLOOKUP(tblSalaries[[#This Row],[Years of Experience]],vlookUpExp!$A$1:$B$56,2,FALSE))","v":"No Response"}]
[null,"ID0256","2012-05-26T01:06:12",4390,52680,"GBP",{"$f":"tblSalaries[[#This Row],[clean Salary (in local currency)]]*VLOOKUP(tblSalaries[[#This Row],[Currency]],tblXrate[],2,FALSE)","v":83033.071372504521},{"$f":"IF($H$1=\"USD\",tblSalaries[[#This Row],[Salary in USD]],tblSalaries[[#This Row],[Salary in USD]]*VLOOKUP($H$1,USDtoUserChoice,2,FALSE))","v":681035.5907358547},"Excel Consultant","Consultant","UK",{"$f":"VLOOKUP(tblSalaries[[#This Row],[Where do you work]],tblCountries[[Actual]:[Mapping]],2,FALSE)","v":"UK"},"All the 8 hours baby, all the 8!",{"$f":"NA()","v":{"$error":"#N/A"}},{"$f":"IF(ISNA(VLOOKUP(tblSalaries[[#This Row],[Years of Experience]],vlookUpExp!$A$1:$B$56,2,FALSE)),\"No Response\",VLOOKUP(tblSalaries[[#This Row],[Years of Experience]],vlookUpExp!$A$1:$B$56,2,FALSE))","v":"No Response"}]
[null,"ID0257","2012-05-26T01:06:31",130000,130000,"USD",{"$f":"tblSalaries[[#This Row],[clean Salary (in local currency)]]*VLOOKUP(tblSalaries[[#This Row],[Currency]],tblXrate[],2,FALSE)","v":130000},{"$f":"IF($H$1=\"USD\",tblSalaries[[#This Row],[Salary in USD]],tblSalaries[[#This Row],[Salary in USD]]*VLOOKUP($H$1,USDtoUserChoice,2,FALSE))","v":1066257.4000000001},"Senior Project Manager","Manager","USA",{"$f":"VLOOKUP(tblSalaries[[#This Row],[Where do you work]],tblCountries[[Actual]:[Mapping]],2,FALSE)","v":"USA"},"4 to 6 hours a day",{"$f":"NA()","v":{"$error":"#N/A"}},{"$f":"IF(ISNA(VLOOKUP(tblSalaries[[#This Row],[Years of Experience]],vlookUpExp!$A$1:$B$56,2,FALSE)),\"No Response\",VLOOKUP(tblSalaries[[#This Row],[Years of Experience]],vlookUpExp!$A$1:$B$56,2,FALSE))","v":"No Response"}]
[null,"ID0258","2012-05-26T01:06:38","Rs 470000",470000,"INR",{"$f":"tblSalaries[[#This Row],[clean Salary (in local currency)]]*VLOOKUP(tblSalaries[[#This Row],[Currency]],tblXrate[],2,FALSE)","v":8369.7208430980063},{"$f":"IF($H$1=\"USD\",tblSalaries[[#This Row],[Salary in USD]],tblSalaries[[#This Row],[Salary in USD]]*VLOOKUP($H$1,USDtoUserChoice,2,FALSE))","v":68648.282960672994},"Web Statistics Analyst","Analyst","India",{"$f":"VLOOKUP(tblSalaries[[#This Row],[Where do you work]],tblCountries[[Actual]:[Mapping]],2,FALSE)","v":"India"},"All the 8 hours baby, all the 8!",{"$f":"NA()","v":{"$error":"#N/A"}},{"$f":"IF(ISNA(VLOOKUP(tblSalaries[[#This Row],[Years of Experience]],vlookUpExp!$A$1:$B$56,2,FALSE)),\"No Response\",VLOOKUP(tblSalaries[[#This Row],[Years of Experience]],vlookUpExp!$A$1:$B$56,2,FALSE))","v":"No Response"}]
[null,"ID0259","2012-05-26T01:07:02",51000,51000,"USD",{"$f":"tblSalaries[[#This Row],[clean Salary (in local currency)]]*VLOOKUP(tblSalaries[[#This Row],[Currency]],tblXrate[],2,FALSE)","v":51000},{"$f":"IF($H$1=\"USD\",tblSalaries[[#This Row],[Salary in USD]],tblSalaries[[#This Row],[Salary in USD]]*VLOOKUP($H$1,USDtoUserChoice,2,FALSE))","v":418300.98000000004},"Business Data Analyst I","Analyst","USA",{"$f":"VLOOKUP(tblSalaries[[#This Row],[Where do you work]],tblCountries[[Actual]:[Mapping]],2,FALSE)","v":"USA"},"2 to 3 hours per day",{"$f":"NA()","v":{"$error":"#N/A"}},{"$f":"IF(ISNA(VLOOKUP(tblSalaries[[#This Row],[Years of Experience]],vlookUpExp!$A$1:$B$56,2,FALSE)),\"No Response\",VLOOKUP(tblSalaries[[#This Row],[Years of Experience]],vlookUpExp!$A$1:$B$56,2,FALSE))","v":"No Response"}]
[null,"ID0260","2012-05-26T01:07:18","Â£60000",60000,"GBP",{"$f":"tblSalaries[[#This Row],[clean Salary (in local currency)]]*VLOOKUP(tblSalaries[[#This Row],[Currency]],tblXrate[],2,FALSE)","v":94570.696324037053},{"$f":"IF($H$1=\"USD\",tblSalaries[[#This Row],[Salary in USD]],tblSalaries[[#This Row],[Salary in USD]]*VLOOKUP($H$1,USDtoUserChoice,2,FALSE))","v":775666.95983582549},"Decision Analyst & Modeller","Analyst","UK",{"$f":"VLOOKUP(tblSalaries[[#This Row],[Where do you work]],tblCountries[[Actual]:[Mapping]],2,FALSE)","v":"UK"},"All the 8 hours baby, all the 8!",{"$f":"NA()","v":{"$error":"#N/A"}},{"$f":"IF(ISNA(VLOOKUP(tblSalaries[[#This Row],[Years of Experience]],vlookUpExp!$A$1:$B$56,2,FALSE)),\"No Response\",VLOOKUP(tblSalaries[[#This Row],[Years of Experience]],vlookUpExp!$A$1:$B$56,2,FALSE))","v":"No Response"}]
[null,"ID0261","2012-05-26T01:07:42",1920000,1920000,"INR",{"$f":"tblSalaries[[#This Row],[clean Salary (in local currency)]]*VLOOKUP(tblSalaries[[#This Row],[Currency]],tblXrate[],2,FALSE)","v":34191.200039889729},{"$f":"IF($H$1=\"USD\",tblSalaries[[#This Row],[Salary in USD]],tblSalaries[[#This Row],[Salary in USD]]*VLOOKUP($H$1,USDtoUserChoice,2,FALSE))","v":280435.53890317481},"Project Manager","Manager","India",{"$f":"VLOOKUP(tblSalaries[[#This Row],[Where do you work]],tblCountries[[Actual]:[Mapping]],2,FALSE)","v":"India"},"2 to 3 hours per day",{"$f":"NA()","v":{"$error":"#N/A"}},{"$f":"IF(ISNA(VLOOKUP(tblSalaries[[#This Row],[Years of Experience]],vlookUpExp!$A$1:$B$56,2,FALSE)),\"No Response\",VLOOKUP(tblSalaries[[#This Row],[Years of Experience]],vlookUpExp!$A$1:$B$56,2,FALSE))","v":"No Response"}]
[null,"ID0262","2012-05-26T01:08:00",28000,28000,"GBP",{"$f":"tblSalaries[[#This Row],[clean Salary (in local currency)]]*VLOOKUP(tblSalaries[[#This Row],[Currency]],tblXrate[],2,FALSE)","v":44132.991617883956},{"$f":"IF($H$1=\"USD\",tblSalaries[[#This Row],[Salary in USD]],tblSalaries[[#This Row],[Salary in USD]]*VLOOKUP($H$1,USDtoUserChoice,2,FALSE))","v":361977.91459005186},"Ops Adminstrator","Analyst","UK",{"$f":"VLOOKUP(tblSalaries[[#This Row],[Where do you work]],tblCountries[[Actual]:[Mapping]],2,FALSE)","v":"UK"},"All the 8 hours baby, all the 8!",{"$f":"NA()","v":{"$error":"#N/A"}},{"$f":"IF(ISNA(VLOOKUP(tblSalaries[[#This Row],[Years of Experience]],vlookUpExp!$A$1:$B$56,2,FALSE)),\"No Response\",VLOOKUP(tblSalaries[[#This Row],[Years of Experience]],vlookUpExp!$A$1:$B$56,2,FALSE))","v":"No Response"}]
[null,"ID0263","2012-05-26T01:08:04",73000,73000,"USD",{"$f":"tblSalaries[[#This Row],[clean Salary (in local currency)]]*VLOOKUP(tblSalaries[[#This Row],[Currency]],tblXrate[],2,FALSE)","v":73000},{"$f":"IF($H$1=\"USD\",tblSalaries[[#This Row],[Salary in USD]],tblSalaries[[#This Row],[Salary in USD]]*VLOOKUP($H$1,USDtoUserChoice,2,FALSE))","v":598744.54},"Sr. Global marketing Specialist","Specialist","USA",{"$f":"VLOOKUP(tblSalaries[[#This Row],[Where do you work]],tblCountries[[Actual]:[Mapping]],2,FALSE)","v":"USA"},"4 to 6 hours a day",{"$f":"NA()","v":{"$error":"#N/A"}},{"$f":"IF(ISNA(VLOOKUP(tblSalaries[[#This Row],[Years of Experience]],vlookUpExp!$A$1:$B$56,2,FALSE)),\"No Response\",VLOOKUP(tblSalaries[[#This Row],[Years of Experience]],vlookUpExp!$A$1:$B$56,2,FALSE))","v":"No Response"}]
[null,"ID0264","2012-05-26T01:08:19",62400,62400,"USD",{"$f":"tblSalaries[[#This Row],[clean Salary (in local currency)]]*VLOOKUP(tblSalaries[[#This Row],[Currency]],tblXrate[],2,FALSE)","v":62400},{"$f":"IF($H$1=\"USD\",tblSalaries[[#This Row],[Salary in USD]],tblSalaries[[#This Row],[Salary in USD]]*VLOOKUP($H$1,USDtoUserChoice,2,FALSE))","v":511803.55200000003},"financial accountant","Accountant","USA",{"$f":"VLOOKUP(tblSalaries[[#This Row],[Where do you work]],tblCountries[[Actual]:[Mapping]],2,FALSE)","v":"USA"},"All the 8 hours baby, all the 8!",{"$f":"NA()","v":{"$error":"#N/A"}},{"$f":"IF(ISNA(VLOOKUP(tblSalaries[[#This Row],[Years of Experience]],vlookUpExp!$A$1:$B$56,2,FALSE)),\"No Response\",VLOOKUP(tblSalaries[[#This Row],[Years of Experience]],vlookUpExp!$A$1:$B$56,2,FALSE))","v":"No Response"}]
[null,"ID0265","2012-05-26T01:08:21",2300,27600,"USD",{"$f":"tblSalaries[[#This Row],[clean Salary (in local currency)]]*VLOOKUP(tblSalaries[[#This Row],[Currency]],tblXrate[],2,FALSE)","v":27600},{"$f":"IF($H$1=\"USD\",tblSalaries[[#This Row],[Salary in USD]],tblSalaries[[#This Row],[Salary in USD]]*VLOOKUP($H$1,USDtoUserChoice,2,FALSE))","v":226374.64800000002},"Software Consultant","Consultant","Singapore",{"$f":"VLOOKUP(tblSalaries[[#This Row],[Where do you work]],tblCountries[[Actual]:[Mapping]],2,FALSE)","v":"Singapore"},"All the 8 hours baby, all the 8!",{"$f":"NA()","v":{"$error":"#N/A"}},{"$f":"IF(ISNA(VLOOKUP(tblSalaries[[#This Row],[Years of Experience]],vlookUpExp!$A$1:$B$56,2,FALSE)),\"No Response\",VLOOKUP(tblSalaries[[#This Row],[Years of Experience]],vlookUpExp!$A$1:$B$56,2,FALSE))","v":"No Response"}]
[null,"ID0266","2012-05-26T01:08:35",54000,54000,"USD",{"$f":"tblSalaries[[#This Row],[clean Salary (in local currency)]]*VLOOKUP(tblSalaries[[#This Row],[Currency]],tblXrate[],2,FALSE)","v":54000},{"$f":"IF($H$1=\"USD\",tblSalaries[[#This Row],[Salary in USD]],tblSalaries[[#This Row],[Salary in USD]]*VLOOKUP($H$1,USDtoUserChoice,2,FALSE))","v":442906.92000000004},"Anaylst","Manager","USA",{"$f":"VLOOKUP(tblSalaries[[#This Row],[Where do you work]],tblCountries[[Actual]:[Mapping]],2,FALSE)","v":"USA"},"All the 8 hours baby, all the 8!",{"$f":"NA()","v":{"$error":"#N/A"}},{"$f":"IF(ISNA(VLOOKUP(tblSalaries[[#This Row],[Years of Experience]],vlookUpExp!$A$1:$B$56,2,FALSE)),\"No Response\",VLOOKUP(tblSalaries[[#This Row],[Years of Experience]],vlookUpExp!$A$1:$B$56,2,FALSE))","v":"No Response"}]
[null,"ID0267","2012-05-26T01:08:39","rs 2.76 lakhs per year",276000,"INR",{"$f":"tblSalaries[[#This Row],[clean Salary (in local currency)]]*VLOOKUP(tblSalaries[[#This Row],[Currency]],tblXrate[],2,FALSE)","v":4914.9850057341491},{"$f":"IF($H$1=\"USD\",tblSalaries[[#This Row],[Salary in USD]],tblSalaries[[#This Row],[Salary in USD]]*VLOOKUP($H$1,USDtoUserChoice,2,FALSE))","v":40312.608717331379},"analyst","Analyst","India",{"$f":"VLOOKUP(tblSalaries[[#This Row],[Where do you work]],tblCountries[[Actual]:[Mapping]],2,FALSE)","v":"India"},"All the 8 hours baby, all the 8!",{"$f":"NA()","v":{"$error":"#N/A"}},{"$f":"IF(ISNA(VLOOKUP(tblSalaries[[#This Row],[Years of Experience]],vlookUpExp!$A$1:$B$56,2,FALSE)),\"No Response\",VLOOKUP(tblSalaries[[#This Row],[Years of Experience]],vlookUpExp!$A$1:$B$56,2,FALSE))","v":"No Response"}]
[null,"ID0268","2012-05-26T01:08:42","$77,000 USD",77000,"USD",{"$f":"tblSalaries[[#This Row],[clean Salary (in local currency)]]*VLOOKUP(tblSalaries[[#This Row],[Currency]],tblXrate[],2,FALSE)","v":77000},{"$f":"IF($H$1=\"USD\",tblSalaries[[#This Row],[Salary in USD]],tblSalaries[[#This Row],[Salary in USD]]*VLOOKUP($H$1,USDtoUserChoice,2,FALSE))","v":631552.46000000008},"senior accounting coordinator","Accountant","USA",{"$f":"VLOOKUP(tblSalaries[[#This Row],[Where do you work]],tblCountries[[Actual]:[Mapping]],2,FALSE)","v":"USA"},"4 to 6 hours a day",{"$f":"NA()","v":{"$error":"#N/A"}},{"$f":"IF(ISNA(VLOOKUP(tblSalaries[[#This Row],[Years of Experience]],vlookUpExp!$A$1:$B$56,2,FALSE)),\"No Response\",VLOOKUP(tblSalaries[[#This Row],[Years of Experience]],vlookUpExp!$A$1:$B$56,2,FALSE))","v":"No Response"}]
[null,"ID0269","2012-05-26T01:09:01",76000,76000,"USD",{"$f":"tblSalaries[[#This Row],[clean Salary (in local currency)]]*VLOOKUP(tblSalaries[[#This Row],[Currency]],tblXrate[],2,FALSE)","v":76000},{"$f":"IF($H$1=\"USD\",tblSalaries[[#This Row],[Salary in USD]],tblSalaries[[#This Row],[Salary in USD]]*VLOOKUP($H$1,USDtoUserChoice,2,FALSE))","v":623350.4800000001},"Demand Planning Mgr","Manager","USA",{"$f":"VLOOKUP(tblSalaries[[#This Row],[Where do you work]],tblCountries[[Actual]:[Mapping]],2,FALSE)","v":"USA"},"All the 8 hours baby, all the 8!",{"$f":"NA()","v":{"$error":"#N/A"}},{"$f":"IF(ISNA(VLOOKUP(tblSalaries[[#This Row],[Years of Experience]],vlookUpExp!$A$1:$B$56,2,FALSE)),\"No Response\",VLOOKUP(tblSalaries[[#This Row],[Years of Experience]],vlookUpExp!$A$1:$B$56,2,FALSE))","v":"No Response"}]
[null,"ID0270","2012-05-26T01:09:32",103000,103000,"USD",{"$f":"tblSalaries[[#This Row],[clean Salary (in local currency)]]*VLOOKUP(tblSalaries[[#This Row],[Currency]],tblXrate[],2,FALSE)","v":103000},{"$f":"IF($H$1=\"USD\",tblSalaries[[#This Row],[Salary in USD]],tblSalaries[[#This Row],[Salary in USD]]*VLOOKUP($H$1,USDtoUserChoice,2,FALSE))","v":844803.94000000006},"VP / Credit Administrator","CXO or Top Mgmt.","USA",{"$f":"VLOOKUP(tblSalaries[[#This Row],[Where do you work]],tblCountries[[Actual]:[Mapping]],2,FALSE)","v":"USA"},"2 to 3 hours per day",{"$f":"NA()","v":{"$error":"#N/A"}},{"$f":"IF(ISNA(VLOOKUP(tblSalaries[[#This Row],[Years of Experience]],vlookUpExp!$A$1:$B$56,2,FALSE)),\"No Response\",VLOOKUP(tblSalaries[[#This Row],[Years of Experience]],vlookUpExp!$A$1:$B$56,2,FALSE))","v":"No Response"}]
[null,"ID0271","2012-05-26T01:09:34",7600,7600,"USD",{"$f":"tblSalaries[[#This Row],[clean Salary (in local currency)]]*VLOOKUP(tblSalaries[[#This Row],[Currency]],tblXrate[],2,FALSE)","v":7600},{"$f":"IF($H$1=\"USD\",tblSalaries[[#This Row],[Salary in USD]],tblSalaries[[#This Row],[Salary in USD]]*VLOOKUP($H$1,USDtoUserChoice,2,FALSE))","v":62335.048000000003},"DP specialist","Specialist","Ukraine",{"$f":"VLOOKUP(tblSalaries[[#This Row],[Where do you work]],tblCountries[[Actual]:[Mapping]],2,FALSE)","v":"Ukraine"},"1 or 2 hours a day",{"$f":"NA()","v":{"$error":"#N/A"}},{"$f":"IF(ISNA(VLOOKUP(tblSalaries[[#This Row],[Years of Experience]],vlookUpExp!$A$1:$B$56,2,FALSE)),\"No Response\",VLOOKUP(tblSalaries[[#This Row],[Years of Experience]],vlookUpExp!$A$1:$B$56,2,FALSE))","v":"No Response"}]
[null,"ID0272","2012-05-26T01:09:56",40000,40000,"USD",{"$f":"tblSalaries[[#This Row],[clean Salary (in local currency)]]*VLOOKUP(tblSalaries[[#This Row],[Currency]],tblXrate[],2,FALSE)","v":40000},{"$f":"IF($H$1=\"USD\",tblSalaries[[#This Row],[Salary in USD]],tblSalaries[[#This Row],[Salary in USD]]*VLOOKUP($H$1,USDtoUserChoice,2,FALSE))","v":328079.2},"Analyst 2","Analyst","USA",{"$f":"VLOOKUP(tblSalaries[[#This Row],[Where do you work]],tblCountries[[Actual]:[Mapping]],2,FALSE)","v":"USA"},"4 to 6 hours a day",{"$f":"NA()","v":{"$error":"#N/A"}},{"$f":"IF(ISNA(VLOOKUP(tblSalaries[[#This Row],[Years of Experience]],vlookUpExp!$A$1:$B$56,2,FALSE)),\"No Response\",VLOOKUP(tblSalaries[[#This Row],[Years of Experience]],vlookUpExp!$A$1:$B$56,2,FALSE))","v":"No Response"}]
[null,"ID0273","2012-05-26T01:10:20",80000,80000,"USD",{"$f":"tblSalaries[[#This Row],[clean Salary (in local currency)]]*VLOOKUP(tblSalaries[[#This Row],[Currency]],tblXrate[],2,FALSE)","v":80000},{"$f":"IF($H$1=\"USD\",tblSalaries[[#This Row],[Salary in USD]],tblSalaries[[#This Row],[Salary in USD]]*VLOOKUP($H$1,USDtoUserChoice,2,FALSE))","v":656158.4},"VP","CXO or Top Mgmt.","USA",{"$f":"VLOOKUP(tblSalaries[[#This Row],[Where do you work]],tblCountries[[Actual]:[Mapping]],2,FALSE)","v":"USA"},"2 to 3 hours per day",{"$f":"NA()","v":{"$error":"#N/A"}},{"$f":"IF(ISNA(VLOOKUP(tblSalaries[[#This Row],[Years of Experience]],vlookUpExp!$A$1:$B$56,2,FALSE)),\"No Response\",VLOOKUP(tblSalaries[[#This Row],[Years of Experience]],vlookUpExp!$A$1:$B$56,2,FALSE))","v":"No Response"}]
[null,"ID0274","2012-05-26T01:10:24",55000,55000,"USD",{"$f":"tblSalaries[[#This Row],[clean Salary (in local currency)]]*VLOOKUP(tblSalaries[[#This Row],[Currency]],tblXrate[],2,FALSE)","v":55000},{"$f":"IF($H$1=\"USD\",tblSalaries[[#This Row],[Salary in USD]],tblSalaries[[#This Row],[Salary in USD]]*VLOOKUP($H$1,USDtoUserChoice,2,FALSE))","v":451108.9},"data analyst","Analyst","USA",{"$f":"VLOOKUP(tblSalaries[[#This Row],[Where do you work]],tblCountries[[Actual]:[Mapping]],2,FALSE)","v":"USA"},"All the 8 hours baby, all the 8!",{"$f":"NA()","v":{"$error":"#N/A"}},{"$f":"IF(ISNA(VLOOKUP(tblSalaries[[#This Row],[Years of Experience]],vlookUpExp!$A$1:$B$56,2,FALSE)),\"No Response\",VLOOKUP(tblSalaries[[#This Row],[Years of Experience]],vlookUpExp!$A$1:$B$56,2,FALSE))","v":"No Response"}]
[null,"ID0275","2012-05-26T01:10:55",99000,99000,"USD",{"$f":"tblSalaries[[#This Row],[clean Salary (in local currency)]]*VLOOKUP(tblSalaries[[#This Row],[Currency]],tblXrate[],2,FALSE)","v":99000},{"$f":"IF($H$1=\"USD\",tblSalaries[[#This Row],[Salary in USD]],tblSalaries[[#This Row],[Salary in USD]]*VLOOKUP($H$1,USDtoUserChoice,2,FALSE))","v":811996.02},"Business Analyst","Analyst","USA",{"$f":"VLOOKUP(tblSalaries[[#This Row],[Where do you work]],tblCountries[[Actual]:[Mapping]],2,FALSE)","v":"USA"},"2 to 3 hours per day",{"$f":"NA()","v":{"$error":"#N/A"}},{"$f":"IF(ISNA(VLOOKUP(tblSalaries[[#This Row],[Years of Experience]],vlookUpExp!$A$1:$B$56,2,FALSE)),\"No Response\",VLOOKUP(tblSalaries[[#This Row],[Years of Experience]],vlookUpExp!$A$1:$B$56,2,FALSE))","v":"No Response"}]
[null,"ID0276","2012-05-26T01:10:56","35,000 Philippine Peso",420000,"PHP",{"$f":"tblSalaries[[#This Row],[clean Salary (in local currency)]]*VLOOKUP(tblSalaries[[#This Row],[Currency]],tblXrate[],2,FALSE)","v":9956.1219482708348},{"$f":"IF($H$1=\"USD\",tblSalaries[[#This Row],[Salary in USD]],tblSalaries[[#This Row],[Salary in USD]]*VLOOKUP($H$1,USDtoUserChoice,2,FALSE))","v":81659.913097278433},"Global Problem Management - IT","Manager","Philippines",{"$f":"VLOOKUP(tblSalaries[[#This Row],[Where do you work]],tblCountries[[Actual]:[Mapping]],2,FALSE)","v":"Philippines"},"4 to 6 hours a day",{"$f":"NA()","v":{"$error":"#N/A"}},{"$f":"IF(ISNA(VLOOKUP(tblSalaries[[#This Row],[Years of Experience]],vlookUpExp!$A$1:$B$56,2,FALSE)),\"No Response\",VLOOKUP(tblSalaries[[#This Row],[Years of Experience]],vlookUpExp!$A$1:$B$56,2,FALSE))","v":"No Response"}]
[null,"ID0277","2012-05-26T01:11:12",75000,75000,"USD",{"$f":"tblSalaries[[#This Row],[clean Salary (in local currency)]]*VLOOKUP(tblSalaries[[#This Row],[Currency]],tblXrate[],2,FALSE)","v":75000},{"$f":"IF($H$1=\"USD\",tblSalaries[[#This Row],[Salary in USD]],tblSalaries[[#This Row],[Salary in USD]]*VLOOKUP($H$1,USDtoUserChoice,2,FALSE))","v":615148.5},"financial analyst","Analyst","USA",{"$f":"VLOOKUP(tblSalaries[[#This Row],[Where do you work]],tblCountries[[Actual]:[Mapping]],2,FALSE)","v":"USA"},"4 to 6 hours a day",{"$f":"NA()","v":{"$error":"#N/A"}},{"$f":"IF(ISNA(VLOOKUP(tblSalaries[[#This Row],[Years of Experience]],vlookUpExp!$A$1:$B$56,2,FALSE)),\"No Response\",VLOOKUP(tblSalaries[[#This Row],[Years of Experience]],vlookUpExp!$A$1:$B$56,2,FALSE))","v":"No Response"}]
[null,"ID0278","2012-05-26T01:11:54",80000,80000,"USD",{"$f":"tblSalaries[[#This Row],[clean Salary (in local currency)]]*VLOOKUP(tblSalaries[[#This Row],[Currency]],tblXrate[],2,FALSE)","v":80000},{"$f":"IF($H$1=\"USD\",tblSalaries[[#This Row],[Salary in USD]],tblSalaries[[#This Row],[Salary in USD]]*VLOOKUP($H$1,USDtoUserChoice,2,FALSE))","v":656158.4},"Enterprise Performance Metrics Manager","Manager","USA",{"$f":"VLOOKUP(tblSalaries[[#This Row],[Where do you work]],tblCountries[[Actual]:[Mapping]],2,FALSE)","v":"USA"},"2 to 3 hours per day",{"$f":"NA()","v":{"$error":"#N/A"}},{"$f":"IF(ISNA(VLOOKUP(tblSalaries[[#This Row],[Years of Experience]],vlookUpExp!$A$1:$B$56,2,FALSE)),\"No Response\",VLOOKUP(tblSalaries[[#This Row],[Years of Experience]],vlookUpExp!$A$1:$B$56,2,FALSE))","v":"No Response"}]
[null,"ID0279","2012-05-26T01:12:41",20000,20000,"USD",{"$f":"tblSalaries[[#This Row],[clean Salary (in local currency)]]*VLOOKUP(tblSalaries[[#This Row],[Currency]],tblXrate[],2,FALSE)","v":20000},{"$f":"IF($H$1=\"USD\",tblSalaries[[#This Row],[Salary in USD]],tblSalaries[[#This Row],[Salary in USD]]*VLOOKUP($H$1,USDtoUserChoice,2,FALSE))","v":164039.6},"Analyst","Analyst","India",{"$f":"VLOOKUP(tblSalaries[[#This Row],[Where do you work]],tblCountries[[Actual]:[Mapping]],2,FALSE)","v":"India"},"All the 8 hours baby, all the 8!",{"$f":"NA()","v":{"$error":"#N/A"}},{"$f":"IF(ISNA(VLOOKUP(tblSalaries[[#This Row],[Years of Experience]],vlookUpExp!$A$1:$B$56,2,FALSE)),\"No Response\",VLOOKUP(tblSalaries[[#This Row],[Years of Experience]],vlookUpExp!$A$1:$B$56,2,FALSE))","v":"No Response"}]
[null,"ID0280","2012-05-26T01:13:50",40000,40000,"USD",{"$f":"tblSalaries[[#This Row],[clean Salary (in local currency)]]*VLOOKUP(tblSalaries[[#This Row],[Currency]],tblXrate[],2,FALSE)","v":40000},{"$f":"IF($H$1=\"USD\",tblSalaries[[#This Row],[Salary in USD]],tblSalaries[[#This Row],[Salary in USD]]*VLOOKUP($H$1,USDtoUserChoice,2,FALSE))","v":328079.2},"Business Analyst","Analyst","USA",{"$f":"VLOOKUP(tblSalaries[[#This Row],[Where do you work]],tblCountries[[Actual]:[Mapping]],2,FALSE)","v":"USA"},"All the 8 hours baby, all the 8!",{"$f":"NA()","v":{"$error":"#N/A"}},{"$f":"IF(ISNA(VLOOKUP(tblSalaries[[#This Row],[Years of Experience]],vlookUpExp!$A$1:$B$56,2,FALSE)),\"No Response\",VLOOKUP(tblSalaries[[#This Row],[Years of Experience]],vlookUpExp!$A$1:$B$56,2,FALSE))","v":"No Response"}]
[null,"ID0281","2012-05-26T01:14:27",46000,46000,"USD",{"$f":"tblSalaries[[#This Row],[clean Salary (in local currency)]]*VLOOKUP(tblSalaries[[#This Row],[Currency]],tblXrate[],2,FALSE)","v":46000},{"$f":"IF($H$1=\"USD\",tblSalaries[[#This Row],[Salary in USD]],tblSalaries[[#This Row],[Salary in USD]]*VLOOKUP($H$1,USDtoUserChoice,2,FALSE))","v":377291.08},"University Relations Intern","Analyst","USA",{"$f":"VLOOKUP(tblSalaries[[#This Row],[Where do you work]],tblCountries[[Actual]:[Mapping]],2,FALSE)","v":"USA"},"All the 8 hours baby, all the 8!",{"$f":"NA()","v":{"$error":"#N/A"}},{"$f":"IF(ISNA(VLOOKUP(tblSalaries[[#This Row],[Years of Experience]],vlookUpExp!$A$1:$B$56,2,FALSE)),\"No Response\",VLOOKUP(tblSalaries[[#This Row],[Years of Experience]],vlookUpExp!$A$1:$B$56,2,FALSE))","v":"No Response"}]
[null,"ID0282","2012-05-26T01:14:55",14000,14000,"USD",{"$f":"tblSalaries[[#This Row],[clean Salary (in local currency)]]*VLOOKUP(tblSalaries[[#This Row],[Currency]],tblXrate[],2,FALSE)","v":14000},{"$f":"IF($H$1=\"USD\",tblSalaries[[#This Row],[Salary in USD]],tblSalaries[[#This Row],[Salary in USD]]*VLOOKUP($H$1,USDtoUserChoice,2,FALSE))","v":114827.72000000002},"Auxiliar Administrativo","Analyst","Brazil",{"$f":"VLOOKUP(tblSalaries[[#This Row],[Where do you work]],tblCountries[[Actual]:[Mapping]],2,FALSE)","v":"Brazil"},"1 or 2 hours a day",{"$f":"NA()","v":{"$error":"#N/A"}},{"$f":"IF(ISNA(VLOOKUP(tblSalaries[[#This Row],[Years of Experience]],vlookUpExp!$A$1:$B$56,2,FALSE)),\"No Response\",VLOOKUP(tblSalaries[[#This Row],[Years of Experience]],vlookUpExp!$A$1:$B$56,2,FALSE))","v":"No Response"}]
[null,"ID0283","2012-05-26T01:15:05",70000,70000,"USD",{"$f":"tblSalaries[[#This Row],[clean Salary (in local currency)]]*VLOOKUP(tblSalaries[[#This Row],[Currency]],tblXrate[],2,FALSE)","v":70000},{"$f":"IF($H$1=\"USD\",tblSalaries[[#This Row],[Salary in USD]],tblSalaries[[#This Row],[Salary in USD]]*VLOOKUP($H$1,USDtoUserChoice,2,FALSE))","v":574138.60000000009},"Engineering Tech Sr.","Engineer","USA",{"$f":"VLOOKUP(tblSalaries[[#This Row],[Where do you work]],tblCountries[[Actual]:[Mapping]],2,FALSE)","v":"USA"},"All the 8 hours baby, all the 8!",{"$f":"NA()","v":{"$error":"#N/A"}},{"$f":"IF(ISNA(VLOOKUP(tblSalaries[[#This Row],[Years of Experience]],vlookUpExp!$A$1:$B$56,2,FALSE)),\"No Response\",VLOOKUP(tblSalaries[[#This Row],[Years of Experience]],vlookUpExp!$A$1:$B$56,2,FALSE))","v":"No Response"}]
[null,"ID0284","2012-05-26T01:15:12","36000 $",36000,"USD",{"$f":"tblSalaries[[#This Row],[clean Salary (in local currency)]]*VLOOKUP(tblSalaries[[#This Row],[Currency]],tblXrate[],2,FALSE)","v":36000},{"$f":"IF($H$1=\"USD\",tblSalaries[[#This Row],[Salary in USD]],tblSalaries[[#This Row],[Salary in USD]]*VLOOKUP($H$1,USDtoUserChoice,2,FALSE))","v":295271.28000000003},"Senior Specialist","Specialist","Russia",{"$f":"VLOOKUP(tblSalaries[[#This Row],[Where do you work]],tblCountries[[Actual]:[Mapping]],2,FALSE)","v":"Russia"},"4 to 6 hours a day",{"$f":"NA()","v":{"$error":"#N/A"}},{"$f":"IF(ISNA(VLOOKUP(tblSalaries[[#This Row],[Years of Experience]],vlookUpExp!$A$1:$B$56,2,FALSE)),\"No Response\",VLOOKUP(tblSalaries[[#This Row],[Years of Experience]],vlookUpExp!$A$1:$B$56,2,FALSE))","v":"No Response"}]
[null,"ID0285","2012-05-26T01:15:25",15000,15000,"USD",{"$f":"tblSalaries[[#This Row],[clean Salary (in local currency)]]*VLOOKUP(tblSalaries[[#This Row],[Currency]],tblXrate[],2,FALSE)","v":15000},{"$f":"IF($H$1=\"USD\",tblSalaries[[#This Row],[Salary in USD]],tblSalaries[[#This Row],[Salary in USD]]*VLOOKUP($H$1,USDtoUserChoice,2,FALSE))","v":123029.70000000001},"moneymaker","Manager","USA",{"$f":"VLOOKUP(tblSalaries[[#This Row],[Where do you work]],tblCountries[[Actual]:[Mapping]],2,FALSE)","v":"USA"},"2 to 3 hours per day",{"$f":"NA()","v":{"$error":"#N/A"}},{"$f":"IF(ISNA(VLOOKUP(tblSalaries[[#This Row],[Years of Experience]],vlookUpExp!$A$1:$B$56,2,FALSE)),\"No Response\",VLOOKUP(tblSalaries[[#This Row],[Years of Experience]],vlookUpExp!$A$1:$B$56,2,FALSE))","v":"No Response"}]
[null,"ID0286","2012-05-26T01:16:18","INR 15,00,000",1500000,"INR",{"$f":"tblSalaries[[#This Row],[clean Salary (in local currency)]]*VLOOKUP(tblSalaries[[#This Row],[Currency]],tblXrate[],2,FALSE)","v":26711.875031163851},{"$f":"IF($H$1=\"USD\",tblSalaries[[#This Row],[Salary in USD]],tblSalaries[[#This Row],[Salary in USD]]*VLOOKUP($H$1,USDtoUserChoice,2,FALSE))","v":219090.26476810529},"Consultant","Consultant","India",{"$f":"VLOOKUP(tblSalaries[[#This Row],[Where do you work]],tblCountries[[Actual]:[Mapping]],2,FALSE)","v":"India"},"All the 8 hours baby, all the 8!",{"$f":"NA()","v":{"$error":"#N/A"}},{"$f":"IF(ISNA(VLOOKUP(tblSalaries[[#This Row],[Years of Experience]],vlookUpExp!$A$1:$B$56,2,FALSE)),\"No Response\",VLOOKUP(tblSalaries[[#This Row],[Years of Experience]],vlookUpExp!$A$1:$B$56,2,FALSE))","v":"No Response"}]
[null,"ID0287","2012-05-26T01:17:11","AED100000",100000,"AED",{"$f":"tblSalaries[[#This Row],[clean Salary (in local currency)]]*VLOOKUP(tblSalaries[[#This Row],[Currency]],tblXrate[],2,FALSE)","v":27221.92126875931},{"$f":"IF($H$1=\"USD\",tblSalaries[[#This Row],[Salary in USD]],tblSalaries[[#This Row],[Salary in USD]]*VLOOKUP($H$1,USDtoUserChoice,2,FALSE))","v":223273.65380793851},"Accountant","Accountant","Dubai",{"$f":"VLOOKUP(tblSalaries[[#This Row],[Where do you work]],tblCountries[[Actual]:[Mapping]],2,FALSE)","v":"Dubai"},"4 to 6 hours a day",{"$f":"NA()","v":{"$error":"#N/A"}},{"$f":"IF(ISNA(VLOOKUP(tblSalaries[[#This Row],[Years of Experience]],vlookUpExp!$A$1:$B$56,2,FALSE)),\"No Response\",VLOOKUP(tblSalaries[[#This Row],[Years of Experience]],vlookUpExp!$A$1:$B$56,2,FALSE))","v":"No Response"}]
[null,"ID0288","2012-05-26T01:17:50",22000,22000,"USD",{"$f":"tblSalaries[[#This Row],[clean Salary (in local currency)]]*VLOOKUP(tblSalaries[[#This Row],[Currency]],tblXrate[],2,FALSE)","v":22000},{"$f":"IF($H$1=\"USD\",tblSalaries[[#This Row],[Salary in USD]],tblSalaries[[#This Row],[Salary in USD]]*VLOOKUP($H$1,USDtoUserChoice,2,FALSE))","v":180443.56000000003},"MIS","Reporting","India",{"$f":"VLOOKUP(tblSalaries[[#This Row],[Where do you work]],tblCountries[[Actual]:[Mapping]],2,FALSE)","v":"India"},"All the 8 hours baby, all the 8!",{"$f":"NA()","v":{"$error":"#N/A"}},{"$f":"IF(ISNA(VLOOKUP(tblSalaries[[#This Row],[Years of Experience]],vlookUpExp!$A$1:$B$56,2,FALSE)),\"No Response\",VLOOKUP(tblSalaries[[#This Row],[Years of Experience]],vlookUpExp!$A$1:$B$56,2,FALSE))","v":"No Response"}]
[null,"ID0289","2012-05-26T01:17:56",68000,68000,"USD",{"$f":"tblSalaries[[#This Row],[clean Salary (in local currency)]]*VLOOKUP(tblSalaries[[#This Row],[Currency]],tblXrate[],2,FALSE)","v":68000},{"$f":"IF($H$1=\"USD\",tblSalaries[[#This Row],[Salary in USD]],tblSalaries[[#This Row],[Salary in USD]]*VLOOKUP($H$1,USDtoUserChoice,2,FALSE))","v":557734.64},"management accountant","Manager","USA",{"$f":"VLOOKUP(tblSalaries[[#This Row],[Where do you work]],tblCountries[[Actual]:[Mapping]],2,FALSE)","v":"USA"},"All the 8 hours baby, all the 8!",{"$f":"NA()","v":{"$error":"#N/A"}},{"$f":"IF(ISNA(VLOOKUP(tblSalaries[[#This Row],[Years of Experience]],vlookUpExp!$A$1:$B$56,2,FALSE)),\"No Response\",VLOOKUP(tblSalaries[[#This Row],[Years of Experience]],vlookUpExp!$A$1:$B$56,2,FALSE))","v":"No Response"}]
[null,"ID0290","2012-05-26T01:17:57",97000,97000,"USD",{"$f":"tblSalaries[[#This Row],[clean Salary (in local currency)]]*VLOOKUP(tblSalaries[[#This Row],[Currency]],tblXrate[],2,FALSE)","v":97000},{"$f":"IF($H$1=\"USD\",tblSalaries[[#This Row],[Salary in USD]],tblSalaries[[#This Row],[Salary in USD]]*VLOOKUP($H$1,USDtoUserChoice,2,FALSE))","v":795592.06},"business analyst","Analyst","USA",{"$f":"VLOOKUP(tblSalaries[[#This Row],[Where do you work]],tblCountries[[Actual]:[Mapping]],2,FALSE)","v":"USA"},"All the 8 hours baby, all the 8!",{"$f":"NA()","v":{"$error":"#N/A"}},{"$f":"IF(ISNA(VLOOKUP(tblSalaries[[#This Row],[Years of Experience]],vlookUpExp!$A$1:$B$56,2,FALSE)),\"No Response\",VLOOKUP(tblSalaries[[#This Row],[Years of Experience]],vlookUpExp!$A$1:$B$56,2,FALSE))","v":"No Response"}]
[null,"ID0291","2012-05-26T01:18:35","Â£31000",31000,"GBP",{"$f":"tblSalaries[[#This Row],[clean Salary (in local currency)]]*VLOOKUP(tblSalaries[[#This Row],[Currency]],tblXrate[],2,FALSE)","v":48861.526434085805},{"$f":"IF($H$1=\"USD\",tblSalaries[[#This Row],[Salary in USD]],tblSalaries[[#This Row],[Salary in USD]]*VLOOKUP($H$1,USDtoUserChoice,2,FALSE))","v":400761.26258184313},"Telecoms Engineer","Engineer","UK",{"$f":"VLOOKUP(tblSalaries[[#This Row],[Where do you work]],tblCountries[[Actual]:[Mapping]],2,FALSE)","v":"UK"},"2 to 3 hours per day",{"$f":"NA()","v":{"$error":"#N/A"}},{"$f":"IF(ISNA(VLOOKUP(tblSalaries[[#This Row],[Years of Experience]],vlookUpExp!$A$1:$B$56,2,FALSE)),\"No Response\",VLOOKUP(tblSalaries[[#This Row],[Years of Experience]],vlookUpExp!$A$1:$B$56,2,FALSE))","v":"No Response"}]
[null,"ID0292","2012-05-26T01:18:49",65000,65000,"USD",{"$f":"tblSalaries[[#This Row],[clean Salary (in local currency)]]*VLOOKUP(tblSalaries[[#This Row],[Currency]],tblXrate[],2,FALSE)","v":65000},{"$f":"IF($H$1=\"USD\",tblSalaries[[#This Row],[Salary in USD]],tblSalaries[[#This Row],[Salary in USD]]*VLOOKUP($H$1,USDtoUserChoice,2,FALSE))","v":533128.70000000007},"Software Support","Analyst","USA",{"$f":"VLOOKUP(tblSalaries[[#This Row],[Where do you work]],tblCountries[[Actual]:[Mapping]],2,FALSE)","v":"USA"},"4 to 6 hours a day",{"$f":"NA()","v":{"$error":"#N/A"}},{"$f":"IF(ISNA(VLOOKUP(tblSalaries[[#This Row],[Years of Experience]],vlookUpExp!$A$1:$B$56,2,FALSE)),\"No Response\",VLOOKUP(tblSalaries[[#This Row],[Years of Experience]],vlookUpExp!$A$1:$B$56,2,FALSE))","v":"No Response"}]
[null,"ID0293","2012-05-26T01:18:58",3600,43200,"USD",{"$f":"tblSalaries[[#This Row],[clean Salary (in local currency)]]*VLOOKUP(tblSalaries[[#This Row],[Currency]],tblXrate[],2,FALSE)","v":43200},{"$f":"IF($H$1=\"USD\",tblSalaries[[#This Row],[Salary in USD]],tblSalaries[[#This Row],[Salary in USD]]*VLOOKUP($H$1,USDtoUserChoice,2,FALSE))","v":354325.53600000002},"Projects Planner","Manager","Saudi Arabia",{"$f":"VLOOKUP(tblSalaries[[#This Row],[Where do you work]],tblCountries[[Actual]:[Mapping]],2,FALSE)","v":"Saudi Arabia"},"4 to 6 hours a day",{"$f":"NA()","v":{"$error":"#N/A"}},{"$f":"IF(ISNA(VLOOKUP(tblSalaries[[#This Row],[Years of Experience]],vlookUpExp!$A$1:$B$56,2,FALSE)),\"No Response\",VLOOKUP(tblSalaries[[#This Row],[Years of Experience]],vlookUpExp!$A$1:$B$56,2,FALSE))","v":"No Response"}]
[null,"ID0294","2012-05-26T01:19:09","4.5 lakh INR",450000,"INR",{"$f":"tblSalaries[[#This Row],[clean Salary (in local currency)]]*VLOOKUP(tblSalaries[[#This Row],[Currency]],tblXrate[],2,FALSE)","v":8013.5625093491553},{"$f":"IF($H$1=\"USD\",tblSalaries[[#This Row],[Salary in USD]],tblSalaries[[#This Row],[Salary in USD]]*VLOOKUP($H$1,USDtoUserChoice,2,FALSE))","v":65727.079430431593},"Business Analyst","Analyst","India",{"$f":"VLOOKUP(tblSalaries[[#This Row],[Where do you work]],tblCountries[[Actual]:[Mapping]],2,FALSE)","v":"India"},"4 to 6 hours a day",{"$f":"NA()","v":{"$error":"#N/A"}},{"$f":"IF(ISNA(VLOOKUP(tblSalaries[[#This Row],[Years of Experience]],vlookUpExp!$A$1:$B$56,2,FALSE)),\"No Response\",VLOOKUP(tblSalaries[[#This Row],[Years of Experience]],vlookUpExp!$A$1:$B$56,2,FALSE))","v":"No Response"}]
[null,"ID0295","2012-05-26T01:19:09",50000,50000,"USD",{"$f":"tblSalaries[[#This Row],[clean Salary (in local currency)]]*VLOOKUP(tblSalaries[[#This Row],[Currency]],tblXrate[],2,FALSE)","v":50000},{"$f":"IF($H$1=\"USD\",tblSalaries[[#This Row],[Salary in USD]],tblSalaries[[#This Row],[Salary in USD]]*VLOOKUP($H$1,USDtoUserChoice,2,FALSE))","v":410099.00000000006},"Mathematical Data Analyist","Analyst","USA",{"$f":"VLOOKUP(tblSalaries[[#This Row],[Where do you work]],tblCountries[[Actual]:[Mapping]],2,FALSE)","v":"USA"},"All the 8 hours baby, all the 8!",{"$f":"NA()","v":{"$error":"#N/A"}},{"$f":"IF(ISNA(VLOOKUP(tblSalaries[[#This Row],[Years of Experience]],vlookUpExp!$A$1:$B$56,2,FALSE)),\"No Response\",VLOOKUP(tblSalaries[[#This Row],[Years of Experience]],vlookUpExp!$A$1:$B$56,2,FALSE))","v":"No Response"}]
[null,"ID0296","2012-05-26T01:19:22",45000,45000,"USD",{"$f":"tblSalaries[[#This Row],[clean Salary (in local currency)]]*VLOOKUP(tblSalaries[[#This Row],[Currency]],tblXrate[],2,FALSE)","v":45000},{"$f":"IF($H$1=\"USD\",tblSalaries[[#This Row],[Salary in USD]],tblSalaries[[#This Row],[Salary in USD]]*VLOOKUP($H$1,USDtoUserChoice,2,FALSE))","v":369089.10000000003},"sales support","Analyst","USA",{"$f":"VLOOKUP(tblSalaries[[#This Row],[Where do you work]],tblCountries[[Actual]:[Mapping]],2,FALSE)","v":"USA"},"4 to 6 hours a day",{"$f":"NA()","v":{"$error":"#N/A"}},{"$f":"IF(ISNA(VLOOKUP(tblSalaries[[#This Row],[Years of Experience]],vlookUpExp!$A$1:$B$56,2,FALSE)),\"No Response\",VLOOKUP(tblSalaries[[#This Row],[Years of Experience]],vlookUpExp!$A$1:$B$56,2,FALSE))","v":"No Response"}]
[null,"ID0297","2012-05-26T01:19:37","Rs.1.8 lakhs ",180000,"INR",{"$f":"tblSalaries[[#This Row],[clean Salary (in local currency)]]*VLOOKUP(tblSalaries[[#This Row],[Currency]],tblXrate[],2,FALSE)","v":3205.4250037396623},{"$f":"IF($H$1=\"USD\",tblSalaries[[#This Row],[Salary in USD]],tblSalaries[[#This Row],[Salary in USD]]*VLOOKUP($H$1,USDtoUserChoice,2,FALSE))","v":26290.831772172638},"Administrative Officer","Manager","India",{"$f":"VLOOKUP(tblSalaries[[#This Row],[Where do you work]],tblCountries[[Actual]:[Mapping]],2,FALSE)","v":"India"},"4 to 6 hours a day",{"$f":"NA()","v":{"$error":"#N/A"}},{"$f":"IF(ISNA(VLOOKUP(tblSalaries[[#This Row],[Years of Experience]],vlookUpExp!$A$1:$B$56,2,FALSE)),\"No Response\",VLOOKUP(tblSalaries[[#This Row],[Years of Experience]],vlookUpExp!$A$1:$B$56,2,FALSE))","v":"No Response"}]
[null,"ID0298","2012-05-26T01:20:01",60000,60000,"USD",{"$f":"tblSalaries[[#This Row],[clean Salary (in local currency)]]*VLOOKUP(tblSalaries[[#This Row],[Currency]],tblXrate[],2,FALSE)","v":60000},{"$f":"IF($H$1=\"USD\",tblSalaries[[#This Row],[Salary in USD]],tblSalaries[[#This Row],[Salary in USD]]*VLOOKUP($H$1,USDtoUserChoice,2,FALSE))","v":492118.80000000005},"IS Manager","Manager","USA",{"$f":"VLOOKUP(tblSalaries[[#This Row],[Where do you work]],tblCountries[[Actual]:[Mapping]],2,FALSE)","v":"USA"},"All the 8 hours baby, all the 8!",{"$f":"NA()","v":{"$error":"#N/A"}},{"$f":"IF(ISNA(VLOOKUP(tblSalaries[[#This Row],[Years of Experience]],vlookUpExp!$A$1:$B$56,2,FALSE)),\"No Response\",VLOOKUP(tblSalaries[[#This Row],[Years of Experience]],vlookUpExp!$A$1:$B$56,2,FALSE))","v":"No Response"}]
[null,"ID0299","2012-05-26T01:20:46",31000,31000,"USD",{"$f":"tblSalaries[[#This Row],[clean Salary (in local currency)]]*VLOOKUP(tblSalaries[[#This Row],[Currency]],tblXrate[],2,FALSE)","v":31000},{"$f":"IF($H$1=\"USD\",tblSalaries[[#This Row],[Salary in USD]],tblSalaries[[#This Row],[Salary in USD]]*VLOOKUP($H$1,USDtoUserChoice,2,FALSE))","v":254261.38000000003},"Support Specialist ","Specialist","USA",{"$f":"VLOOKUP(tblSalaries[[#This Row],[Where do you work]],tblCountries[[Actual]:[Mapping]],2,FALSE)","v":"USA"},"2 to 3 hours per day",{"$f":"NA()","v":{"$error":"#N/A"}},{"$f":"IF(ISNA(VLOOKUP(tblSalaries[[#This Row],[Years of Experience]],vlookUpExp!$A$1:$B$56,2,FALSE)),\"No Response\",VLOOKUP(tblSalaries[[#This Row],[Years of Experience]],vlookUpExp!$A$1:$B$56,2,FALSE))","v":"No Response"}]
[null,"ID0300","2012-05-26T01:21:06",75000,75000,"USD",{"$f":"tblSalaries[[#This Row],[clean Salary (in local currency)]]*VLOOKUP(tblSalaries[[#This Row],[Currency]],tblXrate[],2,FALSE)","v":75000},{"$f":"IF($H$1=\"USD\",tblSalaries[[#This Row],[Salary in USD]],tblSalaries[[#This Row],[Salary in USD]]*VLOOKUP($H$1,USDtoUserChoice,2,FALSE))","v":615148.5},"FA","Analyst","USA",{"$f":"VLOOKUP(tblSalaries[[#This Row],[Where do you work]],tblCountries[[Actual]:[Mapping]],2,FALSE)","v":"USA"},"4 to 6 hours a day",{"$f":"NA()","v":{"$error":"#N/A"}},{"$f":"IF(ISNA(VLOOKUP(tblSalaries[[#This Row],[Years of Experience]],vlookUpExp!$A$1:$B$56,2,FALSE)),\"No Response\",VLOOKUP(tblSalaries[[#This Row],[Years of Experience]],vlookUpExp!$A$1:$B$56,2,FALSE))","v":"No Response"}]
[null,"ID0301","2012-05-26T01:22:09",16000,16000,"USD",{"$f":"tblSalaries[[#This Row],[clean Salary (in local currency)]]*VLOOKUP(tblSalaries[[#This Row],[Currency]],tblXrate[],2,FALSE)","v":16000},{"$f":"IF($H$1=\"USD\",tblSalaries[[#This Row],[Salary in USD]],tblSalaries[[#This Row],[Salary in USD]]*VLOOKUP($H$1,USDtoUserChoice,2,FALSE))","v":131231.68000000002},"VP of Finance","CXO or Top Mgmt.","USA",{"$f":"VLOOKUP(tblSalaries[[#This Row],[Where do you work]],tblCountries[[Actual]:[Mapping]],2,FALSE)","v":"USA"},"1 or 2 hours a day",{"$f":"NA()","v":{"$error":"#N/A"}},{"$f":"IF(ISNA(VLOOKUP(tblSalaries[[#This Row],[Years of Experience]],vlookUpExp!$A$1:$B$56,2,FALSE)),\"No Response\",VLOOKUP(tblSalaries[[#This Row],[Years of Experience]],vlookUpExp!$A$1:$B$56,2,FALSE))","v":"No Response"}]
[null,"ID0302","2012-05-26T01:22:22","36,000 USD",36000,"USD",{"$f":"tblSalaries[[#This Row],[clean Salary (in local currency)]]*VLOOKUP(tblSalaries[[#This Row],[Currency]],tblXrate[],2,FALSE)","v":36000},{"$f":"IF($H$1=\"USD\",tblSalaries[[#This Row],[Salary in USD]],tblSalaries[[#This Row],[Salary in USD]]*VLOOKUP($H$1,USDtoUserChoice,2,FALSE))","v":295271.28000000003},"PRODUCTION ASSISTANT","Analyst","USA",{"$f":"VLOOKUP(tblSalaries[[#This Row],[Where do you work]],tblCountries[[Actual]:[Mapping]],2,FALSE)","v":"USA"},"All the 8 hours baby, all the 8!",{"$f":"NA()","v":{"$error":"#N/A"}},{"$f":"IF(ISNA(VLOOKUP(tblSalaries[[#This Row],[Years of Experience]],vlookUpExp!$A$1:$B$56,2,FALSE)),\"No Response\",VLOOKUP(tblSalaries[[#This Row],[Years of Experience]],vlookUpExp!$A$1:$B$56,2,FALSE))","v":"No Response"}]
[null,"ID0303","2012-05-26T01:22:40",42000,42000,"CAD",{"$f":"tblSalaries[[#This Row],[clean Salary (in local currency)]]*VLOOKUP(tblSalaries[[#This Row],[Currency]],tblXrate[],2,FALSE)","v":41301.183967273726},{"$f":"IF($H$1=\"USD\",tblSalaries[[#This Row],[Salary in USD]],tblSalaries[[#This Row],[Salary in USD]]*VLOOKUP($H$1,USDtoUserChoice,2,FALSE))","v":338751.4848758998},"Financial Analyst","Analyst","Canada",{"$f":"VLOOKUP(tblSalaries[[#This Row],[Where do you work]],tblCountries[[Actual]:[Mapping]],2,FALSE)","v":"Canada"},"All the 8 hours baby, all the 8!",{"$f":"NA()","v":{"$error":"#N/A"}},{"$f":"IF(ISNA(VLOOKUP(tblSalaries[[#This Row],[Years of Experience]],vlookUpExp!$A$1:$B$56,2,FALSE)),\"No Response\",VLOOKUP(tblSalaries[[#This Row],[Years of Experience]],vlookUpExp!$A$1:$B$56,2,FALSE))","v":"No Response"}]
[null,"ID0304","2012-05-26T01:22:45",53000,53000,"USD",{"$f":"tblSalaries[[#This Row],[clean Salary (in local currency)]]*VLOOKUP(tblSalaries[[#This Row],[Currency]],tblXrate[],2,FALSE)","v":53000},{"$f":"IF($H$1=\"USD\",tblSalaries[[#This Row],[Salary in USD]],tblSalaries[[#This Row],[Salary in USD]]*VLOOKUP($H$1,USDtoUserChoice,2,FALSE))","v":434704.94000000006},"Data Analyst","Analyst","USA",{"$f":"VLOOKUP(tblSalaries[[#This Row],[Where do you work]],tblCountries[[Actual]:[Mapping]],2,FALSE)","v":"USA"},"4 to 6 hours a day",{"$f":"NA()","v":{"$error":"#N/A"}},{"$f":"IF(ISNA(VLOOKUP(tblSalaries[[#This Row],[Years of Experience]],vlookUpExp!$A$1:$B$56,2,FALSE)),\"No Response\",VLOOKUP(tblSalaries[[#This Row],[Years of Experience]],vlookUpExp!$A$1:$B$56,2,FALSE))","v":"No Response"}]
[null,"ID0305","2012-05-26T01:22:48","65000 euro",65000,"EUR",{"$f":"tblSalaries[[#This Row],[clean Salary (in local currency)]]*VLOOKUP(tblSalaries[[#This Row],[Currency]],tblXrate[],2,FALSE)","v":82575.963534454509},{"$f":"IF($H$1=\"USD\",tblSalaries[[#This Row],[Salary in USD]],tblSalaries[[#This Row],[Salary in USD]]*VLOOKUP($H$1,USDtoUserChoice,2,FALSE))","v":677286.40139032528},"controller","Controller","germany",{"$f":"VLOOKUP(tblSalaries[[#This Row],[Where do you work]],tblCountries[[Actual]:[Mapping]],2,FALSE)","v":"Germany"},"All the 8 hours baby, all the 8!",{"$f":"NA()","v":{"$error":"#N/A"}},{"$f":"IF(ISNA(VLOOKUP(tblSalaries[[#This Row],[Years of Experience]],vlookUpExp!$A$1:$B$56,2,FALSE)),\"No Response\",VLOOKUP(tblSalaries[[#This Row],[Years of Experience]],vlookUpExp!$A$1:$B$56,2,FALSE))","v":"No Response"}]
[null,"ID0306","2012-05-26T01:22:56",67000,67000,"USD",{"$f":"tblSalaries[[#This Row],[clean Salary (in local currency)]]*VLOOKUP(tblSalaries[[#This Row],[Currency]],tblXrate[],2,FALSE)","v":67000},{"$f":"IF($H$1=\"USD\",tblSalaries[[#This Row],[Salary in USD]],tblSalaries[[#This Row],[Salary in USD]]*VLOOKUP($H$1,USDtoUserChoice,2,FALSE))","v":549532.66},"HR Analyst","Analyst","USA",{"$f":"VLOOKUP(tblSalaries[[#This Row],[Where do you work]],tblCountries[[Actual]:[Mapping]],2,FALSE)","v":"USA"},"4 to 6 hours a day",{"$f":"NA()","v":{"$error":"#N/A"}},{"$f":"IF(ISNA(VLOOKUP(tblSalaries[[#This Row],[Years of Experience]],vlookUpExp!$A$1:$B$56,2,FALSE)),\"No Response\",VLOOKUP(tblSalaries[[#This Row],[Years of Experience]],vlookUpExp!$A$1:$B$56,2,FALSE))","v":"No Response"}]
[null,"ID0307","2012-05-26T01:23:21",12000,12000,"USD",{"$f":"tblSalaries[[#This Row],[clean Salary (in local currency)]]*VLOOKUP(tblSalaries[[#This Row],[Currency]],tblXrate[],2,FALSE)","v":12000},{"$f":"IF($H$1=\"USD\",tblSalaries[[#This Row],[Salary in USD]],tblSalaries[[#This Row],[Salary in USD]]*VLOOKUP($H$1,USDtoUserChoice,2,FALSE))","v":98423.760000000009},"Analyst","Analyst","India",{"$f":"VLOOKUP(tblSalaries[[#This Row],[Where do you work]],tblCountries[[Actual]:[Mapping]],2,FALSE)","v":"India"},"All the 8 hours baby, all the 8!",{"$f":"NA()","v":{"$error":"#N/A"}},{"$f":"IF(ISNA(VLOOKUP(tblSalaries[[#This Row],[Years of Experience]],vlookUpExp!$A$1:$B$56,2,FALSE)),\"No Response\",VLOOKUP(tblSalaries[[#This Row],[Years of Experience]],vlookUpExp!$A$1:$B$56,2,FALSE))","v":"No Response"}]
[null,"ID0308","2012-05-26T01:23:43",85000,85000,"USD",{"$f":"tblSalaries[[#This Row],[clean Salary (in local currency)]]*VLOOKUP(tblSalaries[[#This Row],[Currency]],tblXrate[],2,FALSE)","v":85000},{"$f":"IF($H$1=\"USD\",tblSalaries[[#This Row],[Salary in USD]],tblSalaries[[#This Row],[Salary in USD]]*VLOOKUP($H$1,USDtoUserChoice,2,FALSE))","v":697168.3},"Plant Controller","Controller","USA",{"$f":"VLOOKUP(tblSalaries[[#This Row],[Where do you work]],tblCountries[[Actual]:[Mapping]],2,FALSE)","v":"USA"},"All the 8 hours baby, all the 8!",{"$f":"NA()","v":{"$error":"#N/A"}},{"$f":"IF(ISNA(VLOOKUP(tblSalaries[[#This Row],[Years of Experience]],vlookUpExp!$A$1:$B$56,2,FALSE)),\"No Response\",VLOOKUP(tblSalaries[[#This Row],[Years of Experience]],vlookUpExp!$A$1:$B$56,2,FALSE))","v":"No Response"}]
[null,"ID0309","2012-05-26T01:23:50",200000,200000,"EUR",{"$f":"tblSalaries[[#This Row],[clean Salary (in local currency)]]*VLOOKUP(tblSalaries[[#This Row],[Currency]],tblXrate[],2,FALSE)","v":254079.88779832155},{"$f":"IF($H$1=\"USD\",tblSalaries[[#This Row],[Salary in USD]],tblSalaries[[#This Row],[Salary in USD]]*VLOOKUP($H$1,USDtoUserChoice,2,FALSE))","v":2083958.1581240776},"consultant bi","Reporting","The netherlands",{"$f":"VLOOKUP(tblSalaries[[#This Row],[Where do you work]],tblCountries[[Actual]:[Mapping]],2,FALSE)","v":"Netherlands"},"All the 8 hours baby, all the 8!",{"$f":"NA()","v":{"$error":"#N/A"}},{"$f":"IF(ISNA(VLOOKUP(tblSalaries[[#This Row],[Years of Experience]],vlookUpExp!$A$1:$B$56,2,FALSE)),\"No Response\",VLOOKUP(tblSalaries[[#This Row],[Years of Experience]],vlookUpExp!$A$1:$B$56,2,FALSE))","v":"No Response"}]
[null,"ID0310","2012-05-26T01:23:57",40000,40000,"USD",{"$f":"tblSalaries[[#This Row],[clean Salary (in local currency)]]*VLOOKUP(tblSalaries[[#This Row],[Currency]],tblXrate[],2,FALSE)","v":40000},{"$f":"IF($H$1=\"USD\",tblSalaries[[#This Row],[Salary in USD]],tblSalaries[[#This Row],[Salary in USD]]*VLOOKUP($H$1,USDtoUserChoice,2,FALSE))","v":328079.2},"Royalties Coordinator","Manager","USA",{"$f":"VLOOKUP(tblSalaries[[#This Row],[Where do you work]],tblCountries[[Actual]:[Mapping]],2,FALSE)","v":"USA"},"4 to 6 hours a day",{"$f":"NA()","v":{"$error":"#N/A"}},{"$f":"IF(ISNA(VLOOKUP(tblSalaries[[#This Row],[Years of Experience]],vlookUpExp!$A$1:$B$56,2,FALSE)),\"No Response\",VLOOKUP(tblSalaries[[#This Row],[Years of Experience]],vlookUpExp!$A$1:$B$56,2,FALSE))","v":"No Response"}]
[null,"ID0311","2012-05-26T01:24:03","Â£20000/year but i work part time 30h/week",20000,"GBP",{"$f":"tblSalaries[[#This Row],[clean Salary (in local currency)]]*VLOOKUP(tblSalaries[[#This Row],[Currency]],tblXrate[],2,FALSE)","v":31523.565441345683},{"$f":"IF($H$1=\"USD\",tblSalaries[[#This Row],[Salary in USD]],tblSalaries[[#This Row],[Salary in USD]]*VLOOKUP($H$1,USDtoUserChoice,2,FALSE))","v":258555.65327860849},"Graduate Structural Engineer","Engineer","UK",{"$f":"VLOOKUP(tblSalaries[[#This Row],[Where do you work]],tblCountries[[Actual]:[Mapping]],2,FALSE)","v":"UK"},"1 or 2 hours a day",{"$f":"NA()","v":{"$error":"#N/A"}},{"$f":"IF(ISNA(VLOOKUP(tblSalaries[[#This Row],[Years of Experience]],vlookUpExp!$A$1:$B$56,2,FALSE)),\"No Response\",VLOOKUP(tblSalaries[[#This Row],[Years of Experience]],vlookUpExp!$A$1:$B$56,2,FALSE))","v":"No Response"}]
[null,"ID0312","2012-05-26T01:25:05",41000,41000,"USD",{"$f":"tblSalaries[[#This Row],[clean Salary (in local currency)]]*VLOOKUP(tblSalaries[[#This Row],[Currency]],tblXrate[],2,FALSE)","v":41000},{"$f":"IF($H$1=\"USD\",tblSalaries[[#This Row],[Salary in USD]],tblSalaries[[#This Row],[Salary in USD]]*VLOOKUP($H$1,USDtoUserChoice,2,FALSE))","v":336281.18000000005},"Operations Analyst","Analyst","USA",{"$f":"VLOOKUP(tblSalaries[[#This Row],[Where do you work]],tblCountries[[Actual]:[Mapping]],2,FALSE)","v":"USA"},"4 to 6 hours a day",{"$f":"NA()","v":{"$error":"#N/A"}},{"$f":"IF(ISNA(VLOOKUP(tblSalaries[[#This Row],[Years of Experience]],vlookUpExp!$A$1:$B$56,2,FALSE)),\"No Response\",VLOOKUP(tblSalaries[[#This Row],[Years of Experience]],vlookUpExp!$A$1:$B$56,2,FALSE))","v":"No Response"}]
[null,"ID0313","2012-05-26T01:25:06",1400000,1400000,"INR",{"$f":"tblSalaries[[#This Row],[clean Salary (in local currency)]]*VLOOKUP(tblSalaries[[#This Row],[Currency]],tblXrate[],2,FALSE)","v":24931.083362419595},{"$f":"IF($H$1=\"USD\",tblSalaries[[#This Row],[Salary in USD]],tblSalaries[[#This Row],[Salary in USD]]*VLOOKUP($H$1,USDtoUserChoice,2,FALSE))","v":204484.24711689827},"Marketing","Manager","India",{"$f":"VLOOKUP(tblSalaries[[#This Row],[Where do you work]],tblCountries[[Actual]:[Mapping]],2,FALSE)","v":"India"},"1 or 2 hours a day",{"$f":"NA()","v":{"$error":"#N/A"}},{"$f":"IF(ISNA(VLOOKUP(tblSalaries[[#This Row],[Years of Experience]],vlookUpExp!$A$1:$B$56,2,FALSE)),\"No Response\",VLOOKUP(tblSalaries[[#This Row],[Years of Experience]],vlookUpExp!$A$1:$B$56,2,FALSE))","v":"No Response"}]
[null,"ID0314","2012-05-26T01:25:30",125000,125000,"USD",{"$f":"tblSalaries[[#This Row],[clean Salary (in local currency)]]*VLOOKUP(tblSalaries[[#This Row],[Currency]],tblXrate[],2,FALSE)","v":125000},{"$f":"IF($H$1=\"USD\",tblSalaries[[#This Row],[Salary in USD]],tblSalaries[[#This Row],[Salary in USD]]*VLOOKUP($H$1,USDtoUserChoice,2,FALSE))","v":1025247.5000000001},"Finance, Manager ","Manager","USA",{"$f":"VLOOKUP(tblSalaries[[#This Row],[Where do you work]],tblCountries[[Actual]:[Mapping]],2,FALSE)","v":"USA"},"4 to 6 hours a day",{"$f":"NA()","v":{"$error":"#N/A"}},{"$f":"IF(ISNA(VLOOKUP(tblSalaries[[#This Row],[Years of Experience]],vlookUpExp!$A$1:$B$56,2,FALSE)),\"No Response\",VLOOKUP(tblSalaries[[#This Row],[Years of Experience]],vlookUpExp!$A$1:$B$56,2,FALSE))","v":"No Response"}]
[null,"ID0315","2012-05-26T01:26:26",60000,60000,"CAD",{"$f":"tblSalaries[[#This Row],[clean Salary (in local currency)]]*VLOOKUP(tblSalaries[[#This Row],[Currency]],tblXrate[],2,FALSE)","v":59001.691381819612},{"$f":"IF($H$1=\"USD\",tblSalaries[[#This Row],[Salary in USD]],tblSalaries[[#This Row],[Salary in USD]]*VLOOKUP($H$1,USDtoUserChoice,2,FALSE))","v":483930.69267985685},"Sr. Business Analyst","Analyst","Canada",{"$f":"VLOOKUP(tblSalaries[[#This Row],[Where do you work]],tblCountries[[Actual]:[Mapping]],2,FALSE)","v":"Canada"},"All the 8 hours baby, all the 8!",{"$f":"NA()","v":{"$error":"#N/A"}},{"$f":"IF(ISNA(VLOOKUP(tblSalaries[[#This Row],[Years of Experience]],vlookUpExp!$A$1:$B$56,2,FALSE)),\"No Response\",VLOOKUP(tblSalaries[[#This Row],[Years of Experience]],vlookUpExp!$A$1:$B$56,2,FALSE))","v":"No Response"}]
[null,"ID0316","2012-05-26T01:26:37","150000 MXN",150000,"MXN",{"$f":"tblSalaries[[#This Row],[clean Salary (in local currency)]]*VLOOKUP(tblSalaries[[#This Row],[Currency]],tblXrate[],2,FALSE)","v":10956.982885192734},{"$f":"IF($H$1=\"USD\",tblSalaries[[#This Row],[Salary in USD]],tblSalaries[[#This Row],[Salary in USD]]*VLOOKUP($H$1,USDtoUserChoice,2,FALSE))","v":89868.954484693109},"Information Analyst","Analyst","Mexico",{"$f":"VLOOKUP(tblSalaries[[#This Row],[Where do you work]],tblCountries[[Actual]:[Mapping]],2,FALSE)","v":"Mexico"},"All the 8 hours baby, all the 8!",{"$f":"NA()","v":{"$error":"#N/A"}},{"$f":"IF(ISNA(VLOOKUP(tblSalaries[[#This Row],[Years of Experience]],vlookUpExp!$A$1:$B$56,2,FALSE)),\"No Response\",VLOOKUP(tblSalaries[[#This Row],[Years of Experience]],vlookUpExp!$A$1:$B$56,2,FALSE))","v":"No Response"}]
[null,"ID0317","2012-05-26T01:26:52",70000,70000,"USD",{"$f":"tblSalaries[[#This Row],[clean Salary (in local currency)]]*VLOOKUP(tblSalaries[[#This Row],[Currency]],tblXrate[],2,FALSE)","v":70000},{"$f":"IF($H$1=\"USD\",tblSalaries[[#This Row],[Salary in USD]],tblSalaries[[#This Row],[Salary in USD]]*VLOOKUP($H$1,USDtoUserChoice,2,FALSE))","v":574138.60000000009},"Analyst","Analyst","USA",{"$f":"VLOOKUP(tblSalaries[[#This Row],[Where do you work]],tblCountries[[Actual]:[Mapping]],2,FALSE)","v":"USA"},"2 to 3 hours per day",{"$f":"NA()","v":{"$error":"#N/A"}},{"$f":"IF(ISNA(VLOOKUP(tblSalaries[[#This Row],[Years of Experience]],vlookUpExp!$A$1:$B$56,2,FALSE)),\"No Response\",VLOOKUP(tblSalaries[[#This Row],[Years of Experience]],vlookUpExp!$A$1:$B$56,2,FALSE))","v":"No Response"}]
[null,"ID0318","2012-05-26T01:27:03",400000,400000,"USD",{"$f":"tblSalaries[[#This Row],[clean Salary (in local currency)]]*VLOOKUP(tblSalaries[[#This Row],[Currency]],tblXrate[],2,FALSE)","v":400000},{"$f":"IF($H$1=\"USD\",tblSalaries[[#This Row],[Salary in USD]],tblSalaries[[#This Row],[Salary in USD]]*VLOOKUP($H$1,USDtoUserChoice,2,FALSE))","v":3280792.0000000005},"Financial Specialist","Specialist","USA",{"$f":"VLOOKUP(tblSalaries[[#This Row],[Where do you work]],tblCountries[[Actual]:[Mapping]],2,FALSE)","v":"USA"},"All the 8 hours baby, all the 8!",{"$f":"NA()","v":{"$error":"#N/A"}},{"$f":"IF(ISNA(VLOOKUP(tblSalaries[[#This Row],[Years of Experience]],vlookUpExp!$A$1:$B$56,2,FALSE)),\"No Response\",VLOOKUP(tblSalaries[[#This Row],[Years of Experience]],vlookUpExp!$A$1:$B$56,2,FALSE))","v":"No Response"}]
[null,"ID0319","2012-05-26T01:27:26",55,55000,"USD",{"$f":"tblSalaries[[#This Row],[clean Salary (in local currency)]]*VLOOKUP(tblSalaries[[#This Row],[Currency]],tblXrate[],2,FALSE)","v":55000},{"$f":"IF($H$1=\"USD\",tblSalaries[[#This Row],[Salary in USD]],tblSalaries[[#This Row],[Salary in USD]]*VLOOKUP($H$1,USDtoUserChoice,2,FALSE))","v":451108.9},"Business Analyst","Analyst","USA",{"$f":"VLOOKUP(tblSalaries[[#This Row],[Where do you work]],tblCountries[[Actual]:[Mapping]],2,FALSE)","v":"USA"},"4 to 6 hours a day",{"$f":"NA()","v":{"$error":"#N/A"}},{"$f":"IF(ISNA(VLOOKUP(tblSalaries[[#This Row],[Years of Experience]],vlookUpExp!$A$1:$B$56,2,FALSE)),\"No Response\",VLOOKUP(tblSalaries[[#This Row],[Years of Experience]],vlookUpExp!$A$1:$B$56,2,FALSE))","v":"No Response"}]
[null,"ID0320","2012-05-26T01:27:29",60000,60000,"USD",{"$f":"tblSalaries[[#This Row],[clean Salary (in local currency)]]*VLOOKUP(tblSalaries[[#This Row],[Currency]],tblXrate[],2,FALSE)","v":60000},{"$f":"IF($H$1=\"USD\",tblSalaries[[#This Row],[Salary in USD]],tblSalaries[[#This Row],[Salary in USD]]*VLOOKUP($H$1,USDtoUserChoice,2,FALSE))","v":492118.80000000005},"Management Analyst","Analyst","USA",{"$f":"VLOOKUP(tblSalaries[[#This Row],[Where do you work]],tblCountries[[Actual]:[Mapping]],2,FALSE)","v":"USA"},"4 to 6 hours a day",{"$f":"NA()","v":{"$error":"#N/A"}},{"$f":"IF(ISNA(VLOOKUP(tblSalaries[[#This Row],[Years of Experience]],vlookUpExp!$A$1:$B$56,2,FALSE)),\"No Response\",VLOOKUP(tblSalaries[[#This Row],[Years of Experience]],vlookUpExp!$A$1:$B$56,2,FALSE))","v":"No Response"}]
[null,"ID0321","2012-05-26T01:27:44","INR 1000000",1000000,"INR",{"$f":"tblSalaries[[#This Row],[clean Salary (in local currency)]]*VLOOKUP(tblSalaries[[#This Row],[Currency]],tblXrate[],2,FALSE)","v":17807.916687442568},{"$f":"IF($H$1=\"USD\",tblSalaries[[#This Row],[Salary in USD]],tblSalaries[[#This Row],[Salary in USD]]*VLOOKUP($H$1,USDtoUserChoice,2,FALSE))","v":146060.1765120702},"Manager","Manager","India",{"$f":"VLOOKUP(tblSalaries[[#This Row],[Where do you work]],tblCountries[[Actual]:[Mapping]],2,FALSE)","v":"India"},"4 to 6 hours a day",{"$f":"NA()","v":{"$error":"#N/A"}},{"$f":"IF(ISNA(VLOOKUP(tblSalaries[[#This Row],[Years of Experience]],vlookUpExp!$A$1:$B$56,2,FALSE)),\"No Response\",VLOOKUP(tblSalaries[[#This Row],[Years of Experience]],vlookUpExp!$A$1:$B$56,2,FALSE))","v":"No Response"}]
[null,"ID0322","2012-05-26T01:27:52",40000,40000,"USD",{"$f":"tblSalaries[[#This Row],[clean Salary (in local currency)]]*VLOOKUP(tblSalaries[[#This Row],[Currency]],tblXrate[],2,FALSE)","v":40000},{"$f":"IF($H$1=\"USD\",tblSalaries[[#This Row],[Salary in USD]],tblSalaries[[#This Row],[Salary in USD]]*VLOOKUP($H$1,USDtoUserChoice,2,FALSE))","v":328079.2},"Dp manager","Manager","Hungary",{"$f":"VLOOKUP(tblSalaries[[#This Row],[Where do you work]],tblCountries[[Actual]:[Mapping]],2,FALSE)","v":"Hungary"},"4 to 6 hours a day",{"$f":"NA()","v":{"$error":"#N/A"}},{"$f":"IF(ISNA(VLOOKUP(tblSalaries[[#This Row],[Years of Experience]],vlookUpExp!$A$1:$B$56,2,FALSE)),\"No Response\",VLOOKUP(tblSalaries[[#This Row],[Years of Experience]],vlookUpExp!$A$1:$B$56,2,FALSE))","v":"No Response"}]
[null,"ID0323","2012-05-26T01:28:37",137500,137500,"USD",{"$f":"tblSalaries[[#This Row],[clean Salary (in local currency)]]*VLOOKUP(tblSalaries[[#This Row],[Currency]],tblXrate[],2,FALSE)","v":137500},{"$f":"IF($H$1=\"USD\",tblSalaries[[#This Row],[Salary in USD]],tblSalaries[[#This Row],[Salary in USD]]*VLOOKUP($H$1,USDtoUserChoice,2,FALSE))","v":1127772.25},"director of analytics","Analyst","USA",{"$f":"VLOOKUP(tblSalaries[[#This Row],[Where do you work]],tblCountries[[Actual]:[Mapping]],2,FALSE)","v":"USA"},"4 to 6 hours a day",{"$f":"NA()","v":{"$error":"#N/A"}},{"$f":"IF(ISNA(VLOOKUP(tblSalaries[[#This Row],[Years of Experience]],vlookUpExp!$A$1:$B$56,2,FALSE)),\"No Response\",VLOOKUP(tblSalaries[[#This Row],[Years of Experience]],vlookUpExp!$A$1:$B$56,2,FALSE))","v":"No Response"}]
[null,"ID0324","2012-05-26T01:29:32","US$ 4.545",4545,"USD",{"$f":"tblSalaries[[#This Row],[clean Salary (in local currency)]]*VLOOKUP(tblSalaries[[#This Row],[Currency]],tblXrate[],2,FALSE)","v":4545},{"$f":"IF($H$1=\"USD\",tblSalaries[[#This Row],[Salary in USD]],tblSalaries[[#This Row],[Salary in USD]]*VLOOKUP($H$1,USDtoUserChoice,2,FALSE))","v":37277.999100000001},"Supply Processes Analyst","Analyst","Brasil",{"$f":"VLOOKUP(tblSalaries[[#This Row],[Where do you work]],tblCountries[[Actual]:[Mapping]],2,FALSE)","v":"Brasil"},"All the 8 hours baby, all the 8!",{"$f":"NA()","v":{"$error":"#N/A"}},{"$f":"IF(ISNA(VLOOKUP(tblSalaries[[#This Row],[Years of Experience]],vlookUpExp!$A$1:$B$56,2,FALSE)),\"No Response\",VLOOKUP(tblSalaries[[#This Row],[Years of Experience]],vlookUpExp!$A$1:$B$56,2,FALSE))","v":"No Response"}]
[null,"ID0325","2012-05-26T01:29:37","Â£29000",29000,"GBP",{"$f":"tblSalaries[[#This Row],[clean Salary (in local currency)]]*VLOOKUP(tblSalaries[[#This Row],[Currency]],tblXrate[],2,FALSE)","v":45709.169889951241},{"$f":"IF($H$1=\"USD\",tblSalaries[[#This Row],[Salary in USD]],tblSalaries[[#This Row],[Salary in USD]]*VLOOKUP($H$1,USDtoUserChoice,2,FALSE))","v":374905.6972539823},"ICT Technical Analyst","Analyst","UK",{"$f":"VLOOKUP(tblSalaries[[#This Row],[Where do you work]],tblCountries[[Actual]:[Mapping]],2,FALSE)","v":"UK"},"4 to 6 hours a day",{"$f":"NA()","v":{"$error":"#N/A"}},{"$f":"IF(ISNA(VLOOKUP(tblSalaries[[#This Row],[Years of Experience]],vlookUpExp!$A$1:$B$56,2,FALSE)),\"No Response\",VLOOKUP(tblSalaries[[#This Row],[Years of Experience]],vlookUpExp!$A$1:$B$56,2,FALSE))","v":"No Response"}]
[null,"ID0326","2012-05-26T01:30:12",47000,47000,"USD",{"$f":"tblSalaries[[#This Row],[clean Salary (in local currency)]]*VLOOKUP(tblSalaries[[#This Row],[Currency]],tblXrate[],2,FALSE)","v":47000},{"$f":"IF($H$1=\"USD\",tblSalaries[[#This Row],[Salary in USD]],tblSalaries[[#This Row],[Salary in USD]]*VLOOKUP($H$1,USDtoUserChoice,2,FALSE))","v":385493.06000000006},"Sourcing Specialist","Specialist","USA",{"$f":"VLOOKUP(tblSalaries[[#This Row],[Where do you work]],tblCountries[[Actual]:[Mapping]],2,FALSE)","v":"USA"},"4 to 6 hours a day",{"$f":"NA()","v":{"$error":"#N/A"}},{"$f":"IF(ISNA(VLOOKUP(tblSalaries[[#This Row],[Years of Experience]],vlookUpExp!$A$1:$B$56,2,FALSE)),\"No Response\",VLOOKUP(tblSalaries[[#This Row],[Years of Experience]],vlookUpExp!$A$1:$B$56,2,FALSE))","v":"No Response"}]
[null,"ID0327","2012-05-26T01:30:39",65000,65000,"USD",{"$f":"tblSalaries[[#This Row],[clean Salary (in local currency)]]*VLOOKUP(tblSalaries[[#This Row],[Currency]],tblXrate[],2,FALSE)","v":65000},{"$f":"IF($H$1=\"USD\",tblSalaries[[#This Row],[Salary in USD]],tblSalaries[[#This Row],[Salary in USD]]*VLOOKUP($H$1,USDtoUserChoice,2,FALSE))","v":533128.70000000007},"business analyst","Analyst","USA",{"$f":"VLOOKUP(tblSalaries[[#This Row],[Where do you work]],tblCountries[[Actual]:[Mapping]],2,FALSE)","v":"USA"},"All the 8 hours baby, all the 8!",{"$f":"NA()","v":{"$error":"#N/A"}},{"$f":"IF(ISNA(VLOOKUP(tblSalaries[[#This Row],[Years of Experience]],vlookUpExp!$A$1:$B$56,2,FALSE)),\"No Response\",VLOOKUP(tblSalaries[[#This Row],[Years of Experience]],vlookUpExp!$A$1:$B$56,2,FALSE))","v":"No Response"}]
[null,"ID0328","2012-05-26T01:30:56","PhP 456,000",456000,"PHP",{"$f":"tblSalaries[[#This Row],[clean Salary (in local currency)]]*VLOOKUP(tblSalaries[[#This Row],[Currency]],tblXrate[],2,FALSE)","v":10809.503829551191},{"$f":"IF($H$1=\"USD\",tblSalaries[[#This Row],[Salary in USD]],tblSalaries[[#This Row],[Salary in USD]]*VLOOKUP($H$1,USDtoUserChoice,2,FALSE))","v":88659.334219902288},"Reporting Shared Services Oferring Lead","Reporting","Philippines",{"$f":"VLOOKUP(tblSalaries[[#This Row],[Where do you work]],tblCountries[[Actual]:[Mapping]],2,FALSE)","v":"Philippines"},"4 to 6 hours a day",{"$f":"NA()","v":{"$error":"#N/A"}},{"$f":"IF(ISNA(VLOOKUP(tblSalaries[[#This Row],[Years of Experience]],vlookUpExp!$A$1:$B$56,2,FALSE)),\"No Response\",VLOOKUP(tblSalaries[[#This Row],[Years of Experience]],vlookUpExp!$A$1:$B$56,2,FALSE))","v":"No Response"}]
[null,"ID0329","2012-05-26T01:31:26",92000,92000,"USD",{"$f":"tblSalaries[[#This Row],[clean Salary (in local currency)]]*VLOOKUP(tblSalaries[[#This Row],[Currency]],tblXrate[],2,FALSE)","v":92000},{"$f":"IF($H$1=\"USD\",tblSalaries[[#This Row],[Salary in USD]],tblSalaries[[#This Row],[Salary in USD]]*VLOOKUP($H$1,USDtoUserChoice,2,FALSE))","v":754582.16},"Sales Analytics Manager","Manager","USA",{"$f":"VLOOKUP(tblSalaries[[#This Row],[Where do you work]],tblCountries[[Actual]:[Mapping]],2,FALSE)","v":"USA"},"4 to 6 hours a day",{"$f":"NA()","v":{"$error":"#N/A"}},{"$f":"IF(ISNA(VLOOKUP(tblSalaries[[#This Row],[Years of Experience]],vlookUpExp!$A$1:$B$56,2,FALSE)),\"No Response\",VLOOKUP(tblSalaries[[#This Row],[Years of Experience]],vlookUpExp!$A$1:$B$56,2,FALSE))","v":"No Response"}]
[null,"ID0330","2012-05-26T01:31:42","22000 usd",22000,"USD",{"$f":"tblSalaries[[#This Row],[clean Salary (in local currency)]]*VLOOKUP(tblSalaries[[#This Row],[Currency]],tblXrate[],2,FALSE)","v":22000},{"$f":"IF($H$1=\"USD\",tblSalaries[[#This Row],[Salary in USD]],tblSalaries[[#This Row],[Salary in USD]]*VLOOKUP($H$1,USDtoUserChoice,2,FALSE))","v":180443.56000000003},"Product Manager Sr","Manager","Mexico",{"$f":"VLOOKUP(tblSalaries[[#This Row],[Where do you work]],tblCountries[[Actual]:[Mapping]],2,FALSE)","v":"Mexico"},"4 to 6 hours a day",{"$f":"NA()","v":{"$error":"#N/A"}},{"$f":"IF(ISNA(VLOOKUP(tblSalaries[[#This Row],[Years of Experience]],vlookUpExp!$A$1:$B$56,2,FALSE)),\"No Response\",VLOOKUP(tblSalaries[[#This Row],[Years of Experience]],vlookUpExp!$A$1:$B$56,2,FALSE))","v":"No Response"}]
[null,"ID0331","2012-05-26T01:31:58",108000,108000,"USD",{"$f":"tblSalaries[[#This Row],[clean Salary (in local currency)]]*VLOOKUP(tblSalaries[[#This Row],[Currency]],tblXrate[],2,FALSE)","v":108000},{"$f":"IF($H$1=\"USD\",tblSalaries[[#This Row],[Salary in USD]],tblSalaries[[#This Row],[Salary in USD]]*VLOOKUP($H$1,USDtoUserChoice,2,FALSE))","v":885813.84000000008},"Database Architect","Manager","USA",{"$f":"VLOOKUP(tblSalaries[[#This Row],[Where do you work]],tblCountries[[Actual]:[Mapping]],2,FALSE)","v":"USA"},"2 to 3 hours per day",{"$f":"NA()","v":{"$error":"#N/A"}},{"$f":"IF(ISNA(VLOOKUP(tblSalaries[[#This Row],[Years of Experience]],vlookUpExp!$A$1:$B$56,2,FALSE)),\"No Response\",VLOOKUP(tblSalaries[[#This Row],[Years of Experience]],vlookUpExp!$A$1:$B$56,2,FALSE))","v":"No Response"}]
[null,"ID0332","2012-05-26T01:32:08",61000,61000,"USD",{"$f":"tblSalaries[[#This Row],[clean Salary (in local currency)]]*VLOOKUP(tblSalaries[[#This Row],[Currency]],tblXrate[],2,FALSE)","v":61000},{"$f":"IF($H$1=\"USD\",tblSalaries[[#This Row],[Salary in USD]],tblSalaries[[#This Row],[Salary in USD]]*VLOOKUP($H$1,USDtoUserChoice,2,FALSE))","v":500320.78},"Data Analyst","Analyst","USA",{"$f":"VLOOKUP(tblSalaries[[#This Row],[Where do you work]],tblCountries[[Actual]:[Mapping]],2,FALSE)","v":"USA"},"1 or 2 hours a day",{"$f":"NA()","v":{"$error":"#N/A"}},{"$f":"IF(ISNA(VLOOKUP(tblSalaries[[#This Row],[Years of Experience]],vlookUpExp!$A$1:$B$56,2,FALSE)),\"No Response\",VLOOKUP(tblSalaries[[#This Row],[Years of Experience]],vlookUpExp!$A$1:$B$56,2,FALSE))","v":"No Response"}]
[null,"ID0333","2012-05-26T01:32:14","CAD 65000",65000,"CAD",{"$f":"tblSalaries[[#This Row],[clean Salary (in local currency)]]*VLOOKUP(tblSalaries[[#This Row],[Currency]],tblXrate[],2,FALSE)","v":63918.498996971248},{"$f":"IF($H$1=\"USD\",tblSalaries[[#This Row],[Salary in USD]],tblSalaries[[#This Row],[Salary in USD]]*VLOOKUP($H$1,USDtoUserChoice,2,FALSE))","v":524258.25040317827},"Product developer","Manager","CANADA",{"$f":"VLOOKUP(tblSalaries[[#This Row],[Where do you work]],tblCountries[[Actual]:[Mapping]],2,FALSE)","v":"Canada"},"2 to 3 hours per day",{"$f":"NA()","v":{"$error":"#N/A"}},{"$f":"IF(ISNA(VLOOKUP(tblSalaries[[#This Row],[Years of Experience]],vlookUpExp!$A$1:$B$56,2,FALSE)),\"No Response\",VLOOKUP(tblSalaries[[#This Row],[Years of Experience]],vlookUpExp!$A$1:$B$56,2,FALSE))","v":"No Response"}]
[null,"ID0334","2012-05-26T01:32:26",50000,50000,"USD",{"$f":"tblSalaries[[#This Row],[clean Salary (in local currency)]]*VLOOKUP(tblSalaries[[#This Row],[Currency]],tblXrate[],2,FALSE)","v":50000},{"$f":"IF($H$1=\"USD\",tblSalaries[[#This Row],[Salary in USD]],tblSalaries[[#This Row],[Salary in USD]]*VLOOKUP($H$1,USDtoUserChoice,2,FALSE))","v":410099.00000000006},"Supply Chain Analyst","Analyst","USA",{"$f":"VLOOKUP(tblSalaries[[#This Row],[Where do you work]],tblCountries[[Actual]:[Mapping]],2,FALSE)","v":"USA"},"All the 8 hours baby, all the 8!",{"$f":"NA()","v":{"$error":"#N/A"}},{"$f":"IF(ISNA(VLOOKUP(tblSalaries[[#This Row],[Years of Experience]],vlookUpExp!$A$1:$B$56,2,FALSE)),\"No Response\",VLOOKUP(tblSalaries[[#This Row],[Years of Experience]],vlookUpExp!$A$1:$B$56,2,FALSE))","v":"No Response"}]
[null,"ID0335","2012-05-26T01:33:03",150000,150000,"USD",{"$f":"tblSalaries[[#This Row],[clean Salary (in local currency)]]*VLOOKUP(tblSalaries[[#This Row],[Currency]],tblXrate[],2,FALSE)","v":150000},{"$f":"IF($H$1=\"USD\",tblSalaries[[#This Row],[Salary in USD]],tblSalaries[[#This Row],[Salary in USD]]*VLOOKUP($H$1,USDtoUserChoice,2,FALSE))","v":1230297},"financial planning","Accountant","USA",{"$f":"VLOOKUP(tblSalaries[[#This Row],[Where do you work]],tblCountries[[Actual]:[Mapping]],2,FALSE)","v":"USA"},"All the 8 hours baby, all the 8!",{"$f":"NA()","v":{"$error":"#N/A"}},{"$f":"IF(ISNA(VLOOKUP(tblSalaries[[#This Row],[Years of Experience]],vlookUpExp!$A$1:$B$56,2,FALSE)),\"No Response\",VLOOKUP(tblSalaries[[#This Row],[Years of Experience]],vlookUpExp!$A$1:$B$56,2,FALSE))","v":"No Response"}]
[null,"ID0336","2012-05-26T01:33:37","400000 INR",400000,"INR",{"$f":"tblSalaries[[#This Row],[clean Salary (in local currency)]]*VLOOKUP(tblSalaries[[#This Row],[Currency]],tblXrate[],2,FALSE)","v":7123.1666749770275},{"$f":"IF($H$1=\"USD\",tblSalaries[[#This Row],[Salary in USD]],tblSalaries[[#This Row],[Salary in USD]]*VLOOKUP($H$1,USDtoUserChoice,2,FALSE))","v":58424.070604828084},"Test Analyst","Analyst","India",{"$f":"VLOOKUP(tblSalaries[[#This Row],[Where do you work]],tblCountries[[Actual]:[Mapping]],2,FALSE)","v":"India"},"4 to 6 hours a day",{"$f":"NA()","v":{"$error":"#N/A"}},{"$f":"IF(ISNA(VLOOKUP(tblSalaries[[#This Row],[Years of Experience]],vlookUpExp!$A$1:$B$56,2,FALSE)),\"No Response\",VLOOKUP(tblSalaries[[#This Row],[Years of Experience]],vlookUpExp!$A$1:$B$56,2,FALSE))","v":"No Response"}]
[null,"ID0337","2012-05-26T01:33:45",150000,150000,"USD",{"$f":"tblSalaries[[#This Row],[clean Salary (in local currency)]]*VLOOKUP(tblSalaries[[#This Row],[Currency]],tblXrate[],2,FALSE)","v":150000},{"$f":"IF($H$1=\"USD\",tblSalaries[[#This Row],[Salary in USD]],tblSalaries[[#This Row],[Salary in USD]]*VLOOKUP($H$1,USDtoUserChoice,2,FALSE))","v":1230297},"project manager, project finance consultant","Manager","Israel",{"$f":"VLOOKUP(tblSalaries[[#This Row],[Where do you work]],tblCountries[[Actual]:[Mapping]],2,FALSE)","v":"Israel"},"4 to 6 hours a day",{"$f":"NA()","v":{"$error":"#N/A"}},{"$f":"IF(ISNA(VLOOKUP(tblSalaries[[#This Row],[Years of Experience]],vlookUpExp!$A$1:$B$56,2,FALSE)),\"No Response\",VLOOKUP(tblSalaries[[#This Row],[Years of Experience]],vlookUpExp!$A$1:$B$56,2,FALSE))","v":"No Response"}]
[null,"ID0338","2012-05-26T01:34:56",45000,45000,"USD",{"$f":"tblSalaries[[#This Row],[clean Salary (in local currency)]]*VLOOKUP(tblSalaries[[#This Row],[Currency]],tblXrate[],2,FALSE)","v":45000},{"$f":"IF($H$1=\"USD\",tblSalaries[[#This Row],[Salary in USD]],tblSalaries[[#This Row],[Salary in USD]]*VLOOKUP($H$1,USDtoUserChoice,2,FALSE))","v":369089.10000000003},"QC Fabrication Inspector","Specialist","USA",{"$f":"VLOOKUP(tblSalaries[[#This Row],[Where do you work]],tblCountries[[Actual]:[Mapping]],2,FALSE)","v":"USA"},"4 to 6 hours a day",{"$f":"NA()","v":{"$error":"#N/A"}},{"$f":"IF(ISNA(VLOOKUP(tblSalaries[[#This Row],[Years of Experience]],vlookUpExp!$A$1:$B$56,2,FALSE)),\"No Response\",VLOOKUP(tblSalaries[[#This Row],[Years of Experience]],vlookUpExp!$A$1:$B$56,2,FALSE))","v":"No Response"}]
[null,"ID0339","2012-05-26T01:35:02",135000,135000,"USD",{"$f":"tblSalaries[[#This Row],[clean Salary (in local currency)]]*VLOOKUP(tblSalaries[[#This Row],[Currency]],tblXrate[],2,FALSE)","v":135000},{"$f":"IF($H$1=\"USD\",tblSalaries[[#This Row],[Salary in USD]],tblSalaries[[#This Row],[Salary in USD]]*VLOOKUP($H$1,USDtoUserChoice,2,FALSE))","v":1107267.3},"Manager of Trade Investment & Analysis","Manager","USA",{"$f":"VLOOKUP(tblSalaries[[#This Row],[Where do you work]],tblCountries[[Actual]:[Mapping]],2,FALSE)","v":"USA"},"All the 8 hours baby, all the 8!",{"$f":"NA()","v":{"$error":"#N/A"}},{"$f":"IF(ISNA(VLOOKUP(tblSalaries[[#This Row],[Years of Experience]],vlookUpExp!$A$1:$B$56,2,FALSE)),\"No Response\",VLOOKUP(tblSalaries[[#This Row],[Years of Experience]],vlookUpExp!$A$1:$B$56,2,FALSE))","v":"No Response"}]
[null,"ID0340","2012-05-26T01:35:18","30000 Rs",360000,"INR",{"$f":"tblSalaries[[#This Row],[clean Salary (in local currency)]]*VLOOKUP(tblSalaries[[#This Row],[Currency]],tblXrate[],2,FALSE)","v":6410.8500074793246},{"$f":"IF($H$1=\"USD\",tblSalaries[[#This Row],[Salary in USD]],tblSalaries[[#This Row],[Salary in USD]]*VLOOKUP($H$1,USDtoUserChoice,2,FALSE))","v":52581.663544345276},"Business Analysit","Analyst","India",{"$f":"VLOOKUP(tblSalaries[[#This Row],[Where do you work]],tblCountries[[Actual]:[Mapping]],2,FALSE)","v":"India"},"2 to 3 hours per day",{"$f":"NA()","v":{"$error":"#N/A"}},{"$f":"IF(ISNA(VLOOKUP(tblSalaries[[#This Row],[Years of Experience]],vlookUpExp!$A$1:$B$56,2,FALSE)),\"No Response\",VLOOKUP(tblSalaries[[#This Row],[Years of Experience]],vlookUpExp!$A$1:$B$56,2,FALSE))","v":"No Response"}]
[null,"ID0341","2012-05-26T01:35:35",29000,29000,"USD",{"$f":"tblSalaries[[#This Row],[clean Salary (in local currency)]]*VLOOKUP(tblSalaries[[#This Row],[Currency]],tblXrate[],2,FALSE)","v":29000},{"$f":"IF($H$1=\"USD\",tblSalaries[[#This Row],[Salary in USD]],tblSalaries[[#This Row],[Salary in USD]]*VLOOKUP($H$1,USDtoUserChoice,2,FALSE))","v":237857.42},"Assistant Outside Plant Project Manager","Manager","USA",{"$f":"VLOOKUP(tblSalaries[[#This Row],[Where do you work]],tblCountries[[Actual]:[Mapping]],2,FALSE)","v":"USA"},"4 to 6 hours a day",{"$f":"NA()","v":{"$error":"#N/A"}},{"$f":"IF(ISNA(VLOOKUP(tblSalaries[[#This Row],[Years of Experience]],vlookUpExp!$A$1:$B$56,2,FALSE)),\"No Response\",VLOOKUP(tblSalaries[[#This Row],[Years of Experience]],vlookUpExp!$A$1:$B$56,2,FALSE))","v":"No Response"}]
[null,"ID0342","2012-05-26T01:37:33",13000,13000,"USD",{"$f":"tblSalaries[[#This Row],[clean Salary (in local currency)]]*VLOOKUP(tblSalaries[[#This Row],[Currency]],tblXrate[],2,FALSE)","v":13000},{"$f":"IF($H$1=\"USD\",tblSalaries[[#This Row],[Salary in USD]],tblSalaries[[#This Row],[Salary in USD]]*VLOOKUP($H$1,USDtoUserChoice,2,FALSE))","v":106625.74},"operation-manager","Manager","India",{"$f":"VLOOKUP(tblSalaries[[#This Row],[Where do you work]],tblCountries[[Actual]:[Mapping]],2,FALSE)","v":"India"},"All the 8 hours baby, all the 8!",{"$f":"NA()","v":{"$error":"#N/A"}},{"$f":"IF(ISNA(VLOOKUP(tblSalaries[[#This Row],[Years of Experience]],vlookUpExp!$A$1:$B$56,2,FALSE)),\"No Response\",VLOOKUP(tblSalaries[[#This Row],[Years of Experience]],vlookUpExp!$A$1:$B$56,2,FALSE))","v":"No Response"}]
[null,"ID0343","2012-05-26T01:38:06","63000 USD",63000,"USD",{"$f":"tblSalaries[[#This Row],[clean Salary (in local currency)]]*VLOOKUP(tblSalaries[[#This Row],[Currency]],tblXrate[],2,FALSE)","v":63000},{"$f":"IF($H$1=\"USD\",tblSalaries[[#This Row],[Salary in USD]],tblSalaries[[#This Row],[Salary in USD]]*VLOOKUP($H$1,USDtoUserChoice,2,FALSE))","v":516724.74000000005},"Sales Analyst","Analyst","USA",{"$f":"VLOOKUP(tblSalaries[[#This Row],[Where do you work]],tblCountries[[Actual]:[Mapping]],2,FALSE)","v":"USA"},"All the 8 hours baby, all the 8!",{"$f":"NA()","v":{"$error":"#N/A"}},{"$f":"IF(ISNA(VLOOKUP(tblSalaries[[#This Row],[Years of Experience]],vlookUpExp!$A$1:$B$56,2,FALSE)),\"No Response\",VLOOKUP(tblSalaries[[#This Row],[Years of Experience]],vlookUpExp!$A$1:$B$56,2,FALSE))","v":"No Response"}]
[null,"ID0344","2012-05-26T01:38:06",95000,95000,"USD",{"$f":"tblSalaries[[#This Row],[clean Salary (in local currency)]]*VLOOKUP(tblSalaries[[#This Row],[Currency]],tblXrate[],2,FALSE)","v":95000},{"$f":"IF($H$1=\"USD\",tblSalaries[[#This Row],[Salary in USD]],tblSalaries[[#This Row],[Salary in USD]]*VLOOKUP($H$1,USDtoUserChoice,2,FALSE))","v":779188.10000000009},"Senior Financial Analyst","Analyst","USA",{"$f":"VLOOKUP(tblSalaries[[#This Row],[Where do you work]],tblCountries[[Actual]:[Mapping]],2,FALSE)","v":"USA"},"4 to 6 hours a day",{"$f":"NA()","v":{"$error":"#N/A"}},{"$f":"IF(ISNA(VLOOKUP(tblSalaries[[#This Row],[Years of Experience]],vlookUpExp!$A$1:$B$56,2,FALSE)),\"No Response\",VLOOKUP(tblSalaries[[#This Row],[Years of Experience]],vlookUpExp!$A$1:$B$56,2,FALSE))","v":"No Response"}]
[null,"ID0346","2012-05-26T01:38:51","100,000 US$ equiv",100000,"USD",{"$f":"tblSalaries[[#This Row],[clean Salary (in local currency)]]*VLOOKUP(tblSalaries[[#This Row],[Currency]],tblXrate[],2,FALSE)","v":100000},{"$f":"IF($H$1=\"USD\",tblSalaries[[#This Row],[Salary in USD]],tblSalaries[[#This Row],[Salary in USD]]*VLOOKUP($H$1,USDtoUserChoice,2,FALSE))","v":820198.00000000012},"Senior Data Analyst","Analyst","UK",{"$f":"VLOOKUP(tblSalaries[[#This Row],[Where do you work]],tblCountries[[Actual]:[Mapping]],2,FALSE)","v":"UK"},"4 to 6 hours a day",{"$f":"NA()","v":{"$error":"#N/A"}},{"$f":"IF(ISNA(VLOOKUP(tblSalaries[[#This Row],[Years of Experience]],vlookUpExp!$A$1:$B$56,2,FALSE)),\"No Response\",VLOOKUP(tblSalaries[[#This Row],[Years of Experience]],vlookUpExp!$A$1:$B$56,2,FALSE))","v":"No Response"}]
[null,"ID0347","2012-05-26T01:39:37","3.8 k",3800,"USD",{"$f":"tblSalaries[[#This Row],[clean Salary (in local currency)]]*VLOOKUP(tblSalaries[[#This Row],[Currency]],tblXrate[],2,FALSE)","v":3800},{"$f":"IF($H$1=\"USD\",tblSalaries[[#This Row],[Salary in USD]],tblSalaries[[#This Row],[Salary in USD]]*VLOOKUP($H$1,USDtoUserChoice,2,FALSE))","v":31167.524000000001},"MIS EXCUTIVE","Reporting","India",{"$f":"VLOOKUP(tblSalaries[[#This Row],[Where do you work]],tblCountries[[Actual]:[Mapping]],2,FALSE)","v":"India"},"4 to 6 hours a day",{"$f":"NA()","v":{"$error":"#N/A"}},{"$f":"IF(ISNA(VLOOKUP(tblSalaries[[#This Row],[Years of Experience]],vlookUpExp!$A$1:$B$56,2,FALSE)),\"No Response\",VLOOKUP(tblSalaries[[#This Row],[Years of Experience]],vlookUpExp!$A$1:$B$56,2,FALSE))","v":"No Response"}]
[null,"ID0348","2012-05-26T01:40:05",950,11400,"USD",{"$f":"tblSalaries[[#This Row],[clean Salary (in local currency)]]*VLOOKUP(tblSalaries[[#This Row],[Currency]],tblXrate[],2,FALSE)","v":11400},{"$f":"IF($H$1=\"USD\",tblSalaries[[#This Row],[Salary in USD]],tblSalaries[[#This Row],[Salary in USD]]*VLOOKUP($H$1,USDtoUserChoice,2,FALSE))","v":93502.572000000015},"Advisor","Consultant","Brazil",{"$f":"VLOOKUP(tblSalaries[[#This Row],[Where do you work]],tblCountries[[Actual]:[Mapping]],2,FALSE)","v":"Brazil"},"4 to 6 hours a day",{"$f":"NA()","v":{"$error":"#N/A"}},{"$f":"IF(ISNA(VLOOKUP(tblSalaries[[#This Row],[Years of Experience]],vlookUpExp!$A$1:$B$56,2,FALSE)),\"No Response\",VLOOKUP(tblSalaries[[#This Row],[Years of Experience]],vlookUpExp!$A$1:$B$56,2,FALSE))","v":"No Response"}]
[null,"ID0349","2012-05-26T01:40:18",56000,56000,"CAD",{"$f":"tblSalaries[[#This Row],[clean Salary (in local currency)]]*VLOOKUP(tblSalaries[[#This Row],[Currency]],tblXrate[],2,FALSE)","v":55068.245289698301},{"$f":"IF($H$1=\"USD\",tblSalaries[[#This Row],[Salary in USD]],tblSalaries[[#This Row],[Salary in USD]]*VLOOKUP($H$1,USDtoUserChoice,2,FALSE))","v":451668.64650119969},"Online Analyst","Analyst","Canada",{"$f":"VLOOKUP(tblSalaries[[#This Row],[Where do you work]],tblCountries[[Actual]:[Mapping]],2,FALSE)","v":"Canada"},"4 to 6 hours a day",{"$f":"NA()","v":{"$error":"#N/A"}},{"$f":"IF(ISNA(VLOOKUP(tblSalaries[[#This Row],[Years of Experience]],vlookUpExp!$A$1:$B$56,2,FALSE)),\"No Response\",VLOOKUP(tblSalaries[[#This Row],[Years of Experience]],vlookUpExp!$A$1:$B$56,2,FALSE))","v":"No Response"}]
[null,"ID0350","2012-05-26T01:40:28",53000,53000,"USD",{"$f":"tblSalaries[[#This Row],[clean Salary (in local currency)]]*VLOOKUP(tblSalaries[[#This Row],[Currency]],tblXrate[],2,FALSE)","v":53000},{"$f":"IF($H$1=\"USD\",tblSalaries[[#This Row],[Salary in USD]],tblSalaries[[#This Row],[Salary in USD]]*VLOOKUP($H$1,USDtoUserChoice,2,FALSE))","v":434704.94000000006},"General Manager","Manager","USA",{"$f":"VLOOKUP(tblSalaries[[#This Row],[Where do you work]],tblCountries[[Actual]:[Mapping]],2,FALSE)","v":"USA"},"2 to 3 hours per day",{"$f":"NA()","v":{"$error":"#N/A"}},{"$f":"IF(ISNA(VLOOKUP(tblSalaries[[#This Row],[Years of Experience]],vlookUpExp!$A$1:$B$56,2,FALSE)),\"No Response\",VLOOKUP(tblSalaries[[#This Row],[Years of Experience]],vlookUpExp!$A$1:$B$56,2,FALSE))","v":"No Response"}]
[null,"ID0351","2012-05-26T01:40:51",130000,130000,"USD",{"$f":"tblSalaries[[#This Row],[clean Salary (in local currency)]]*VLOOKUP(tblSalaries[[#This Row],[Currency]],tblXrate[],2,FALSE)","v":130000},{"$f":"IF($H$1=\"USD\",tblSalaries[[#This Row],[Salary in USD]],tblSalaries[[#This Row],[Salary in USD]]*VLOOKUP($H$1,USDtoUserChoice,2,FALSE))","v":1066257.4000000001},"Sr Staff Engineer","Engineer","USA",{"$f":"VLOOKUP(tblSalaries[[#This Row],[Where do you work]],tblCountries[[Actual]:[Mapping]],2,FALSE)","v":"USA"},"4 to 6 hours a day",{"$f":"NA()","v":{"$error":"#N/A"}},{"$f":"IF(ISNA(VLOOKUP(tblSalaries[[#This Row],[Years of Experience]],vlookUpExp!$A$1:$B$56,2,FALSE)),\"No Response\",VLOOKUP(tblSalaries[[#This Row],[Years of Experience]],vlookUpExp!$A$1:$B$56,2,FALSE))","v":"No Response"}]
[null,"ID0352","2012-05-26T01:41:32","3,70,000",370000,"INR",{"$f":"tblSalaries[[#This Row],[clean Salary (in local currency)]]*VLOOKUP(tblSalaries[[#This Row],[Currency]],tblXrate[],2,FALSE)","v":6588.9291743537506},{"$f":"IF($H$1=\"USD\",tblSalaries[[#This Row],[Salary in USD]],tblSalaries[[#This Row],[Salary in USD]]*VLOOKUP($H$1,USDtoUserChoice,2,FALSE))","v":54042.265309465976},"Senior Design Associate","Analyst","India",{"$f":"VLOOKUP(tblSalaries[[#This Row],[Where do you work]],tblCountries[[Actual]:[Mapping]],2,FALSE)","v":"India"},"All the 8 hours baby, all the 8!",{"$f":"NA()","v":{"$error":"#N/A"}},{"$f":"IF(ISNA(VLOOKUP(tblSalaries[[#This Row],[Years of Experience]],vlookUpExp!$A$1:$B$56,2,FALSE)),\"No Response\",VLOOKUP(tblSalaries[[#This Row],[Years of Experience]],vlookUpExp!$A$1:$B$56,2,FALSE))","v":"No Response"}]
[null,"ID0353","2012-05-26T01:41:53",160000,160000,"CAD",{"$f":"tblSalaries[[#This Row],[clean Salary (in local currency)]]*VLOOKUP(tblSalaries[[#This Row],[Currency]],tblXrate[],2,FALSE)","v":157337.8436848523},{"$f":"IF($H$1=\"USD\",tblSalaries[[#This Row],[Salary in USD]],tblSalaries[[#This Row],[Salary in USD]]*VLOOKUP($H$1,USDtoUserChoice,2,FALSE))","v":1290481.847146285},"Consultant","Consultant","Canada",{"$f":"VLOOKUP(tblSalaries[[#This Row],[Where do you work]],tblCountries[[Actual]:[Mapping]],2,FALSE)","v":"Canada"},"2 to 3 hours per day",{"$f":"NA()","v":{"$error":"#N/A"}},{"$f":"IF(ISNA(VLOOKUP(tblSalaries[[#This Row],[Years of Experience]],vlookUpExp!$A$1:$B$56,2,FALSE)),\"No Response\",VLOOKUP(tblSalaries[[#This Row],[Years of Experience]],vlookUpExp!$A$1:$B$56,2,FALSE))","v":"No Response"}]
[null,"ID0354","2012-05-26T01:41:54",44200,44200,"USD",{"$f":"tblSalaries[[#This Row],[clean Salary (in local currency)]]*VLOOKUP(tblSalaries[[#This Row],[Currency]],tblXrate[],2,FALSE)","v":44200},{"$f":"IF($H$1=\"USD\",tblSalaries[[#This Row],[Salary in USD]],tblSalaries[[#This Row],[Salary in USD]]*VLOOKUP($H$1,USDtoUserChoice,2,FALSE))","v":362527.516},"Planning and Analysis Supervisor","Analyst","USA",{"$f":"VLOOKUP(tblSalaries[[#This Row],[Where do you work]],tblCountries[[Actual]:[Mapping]],2,FALSE)","v":"USA"},"All the 8 hours baby, all the 8!",{"$f":"NA()","v":{"$error":"#N/A"}},{"$f":"IF(ISNA(VLOOKUP(tblSalaries[[#This Row],[Years of Experience]],vlookUpExp!$A$1:$B$56,2,FALSE)),\"No Response\",VLOOKUP(tblSalaries[[#This Row],[Years of Experience]],vlookUpExp!$A$1:$B$56,2,FALSE))","v":"No Response"}]
[null,"ID0355","2012-05-26T01:42:07",56000,56000,"USD",{"$f":"tblSalaries[[#This Row],[clean Salary (in local currency)]]*VLOOKUP(tblSalaries[[#This Row],[Currency]],tblXrate[],2,FALSE)","v":56000},{"$f":"IF($H$1=\"USD\",tblSalaries[[#This Row],[Salary in USD]],tblSalaries[[#This Row],[Salary in USD]]*VLOOKUP($H$1,USDtoUserChoice,2,FALSE))","v":459310.88000000006},"asset manager","Manager","USA",{"$f":"VLOOKUP(tblSalaries[[#This Row],[Where do you work]],tblCountries[[Actual]:[Mapping]],2,FALSE)","v":"USA"},"2 to 3 hours per day",{"$f":"NA()","v":{"$error":"#N/A"}},{"$f":"IF(ISNA(VLOOKUP(tblSalaries[[#This Row],[Years of Experience]],vlookUpExp!$A$1:$B$56,2,FALSE)),\"No Response\",VLOOKUP(tblSalaries[[#This Row],[Years of Experience]],vlookUpExp!$A$1:$B$56,2,FALSE))","v":"No Response"}]
[null,"ID0356","2012-05-26T01:42:27",72500,72500,"USD",{"$f":"tblSalaries[[#This Row],[clean Salary (in local currency)]]*VLOOKUP(tblSalaries[[#This Row],[Currency]],tblXrate[],2,FALSE)","v":72500},{"$f":"IF($H$1=\"USD\",tblSalaries[[#This Row],[Salary in USD]],tblSalaries[[#This Row],[Salary in USD]]*VLOOKUP($H$1,USDtoUserChoice,2,FALSE))","v":594643.55000000005},"Transportation Engineer","Engineer","USA",{"$f":"VLOOKUP(tblSalaries[[#This Row],[Where do you work]],tblCountries[[Actual]:[Mapping]],2,FALSE)","v":"USA"},"2 to 3 hours per day",{"$f":"NA()","v":{"$error":"#N/A"}},{"$f":"IF(ISNA(VLOOKUP(tblSalaries[[#This Row],[Years of Experience]],vlookUpExp!$A$1:$B$56,2,FALSE)),\"No Response\",VLOOKUP(tblSalaries[[#This Row],[Years of Experience]],vlookUpExp!$A$1:$B$56,2,FALSE))","v":"No Response"}]
[null,"ID0357","2012-05-26T01:42:31",75000,75000,"CAD",{"$f":"tblSalaries[[#This Row],[clean Salary (in local currency)]]*VLOOKUP(tblSalaries[[#This Row],[Currency]],tblXrate[],2,FALSE)","v":73752.11422727452},{"$f":"IF($H$1=\"USD\",tblSalaries[[#This Row],[Salary in USD]],tblSalaries[[#This Row],[Salary in USD]]*VLOOKUP($H$1,USDtoUserChoice,2,FALSE))","v":604913.36584982113},"web marketing analyst","Analyst","canada",{"$f":"VLOOKUP(tblSalaries[[#This Row],[Where do you work]],tblCountries[[Actual]:[Mapping]],2,FALSE)","v":"Canada"},"4 to 6 hours a day",{"$f":"NA()","v":{"$error":"#N/A"}},{"$f":"IF(ISNA(VLOOKUP(tblSalaries[[#This Row],[Years of Experience]],vlookUpExp!$A$1:$B$56,2,FALSE)),\"No Response\",VLOOKUP(tblSalaries[[#This Row],[Years of Experience]],vlookUpExp!$A$1:$B$56,2,FALSE))","v":"No Response"}]
[null,"ID0358","2012-05-26T01:42:53","170000 usd",170000,"USD",{"$f":"tblSalaries[[#This Row],[clean Salary (in local currency)]]*VLOOKUP(tblSalaries[[#This Row],[Currency]],tblXrate[],2,FALSE)","v":170000},{"$f":"IF($H$1=\"USD\",tblSalaries[[#This Row],[Salary in USD]],tblSalaries[[#This Row],[Salary in USD]]*VLOOKUP($H$1,USDtoUserChoice,2,FALSE))","v":1394336.6},"RS","Analyst","UK",{"$f":"VLOOKUP(tblSalaries[[#This Row],[Where do you work]],tblCountries[[Actual]:[Mapping]],2,FALSE)","v":"UK"},"Excel ?!? What Excel?",{"$f":"NA()","v":{"$error":"#N/A"}},{"$f":"IF(ISNA(VLOOKUP(tblSalaries[[#This Row],[Years of Experience]],vlookUpExp!$A$1:$B$56,2,FALSE)),\"No Response\",VLOOKUP(tblSalaries[[#This Row],[Years of Experience]],vlookUpExp!$A$1:$B$56,2,FALSE))","v":"No Response"}]
[null,"ID0359","2012-05-26T01:43:48",68000,68000,"USD",{"$f":"tblSalaries[[#This Row],[clean Salary (in local currency)]]*VLOOKUP(tblSalaries[[#This Row],[Currency]],tblXrate[],2,FALSE)","v":68000},{"$f":"IF($H$1=\"USD\",tblSalaries[[#This Row],[Salary in USD]],tblSalaries[[#This Row],[Salary in USD]]*VLOOKUP($H$1,USDtoUserChoice,2,FALSE))","v":557734.64},"Project Manager","Manager","USA",{"$f":"VLOOKUP(tblSalaries[[#This Row],[Where do you work]],tblCountries[[Actual]:[Mapping]],2,FALSE)","v":"USA"},"2 to 3 hours per day",{"$f":"NA()","v":{"$error":"#N/A"}},{"$f":"IF(ISNA(VLOOKUP(tblSalaries[[#This Row],[Years of Experience]],vlookUpExp!$A$1:$B$56,2,FALSE)),\"No Response\",VLOOKUP(tblSalaries[[#This Row],[Years of Experience]],vlookUpExp!$A$1:$B$56,2,FALSE))","v":"No Response"}]
[null,"ID0360","2012-05-26T01:44:59",75000,75000,"USD",{"$f":"tblSalaries[[#This Row],[clean Salary (in local currency)]]*VLOOKUP(tblSalaries[[#This Row],[Currency]],tblXrate[],2,FALSE)","v":75000},{"$f":"IF($H$1=\"USD\",tblSalaries[[#This Row],[Salary in USD]],tblSalaries[[#This Row],[Salary in USD]]*VLOOKUP($H$1,USDtoUserChoice,2,FALSE))","v":615148.5},"Sr. Financial Analyst","Analyst","USA",{"$f":"VLOOKUP(tblSalaries[[#This Row],[Where do you work]],tblCountries[[Actual]:[Mapping]],2,FALSE)","v":"USA"},"All the 8 hours baby, all the 8!",{"$f":"NA()","v":{"$error":"#N/A"}},{"$f":"IF(ISNA(VLOOKUP(tblSalaries[[#This Row],[Years of Experience]],vlookUpExp!$A$1:$B$56,2,FALSE)),\"No Response\",VLOOKUP(tblSalaries[[#This Row],[Years of Experience]],vlookUpExp!$A$1:$B$56,2,FALSE))","v":"No Response"}]
[null,"ID0361","2012-05-26T01:45:50","62500.00 USD",62500,"USD",{"$f":"tblSalaries[[#This Row],[clean Salary (in local currency)]]*VLOOKUP(tblSalaries[[#This Row],[Currency]],tblXrate[],2,FALSE)","v":62500},{"$f":"IF($H$1=\"USD\",tblSalaries[[#This Row],[Salary in USD]],tblSalaries[[#This Row],[Salary in USD]]*VLOOKUP($H$1,USDtoUserChoice,2,FALSE))","v":512623.75000000006},"Director of Payroll","CXO or Top Mgmt.","USA",{"$f":"VLOOKUP(tblSalaries[[#This Row],[Where do you work]],tblCountries[[Actual]:[Mapping]],2,FALSE)","v":"USA"},"All the 8 hours baby, all the 8!",{"$f":"NA()","v":{"$error":"#N/A"}},{"$f":"IF(ISNA(VLOOKUP(tblSalaries[[#This Row],[Years of Experience]],vlookUpExp!$A$1:$B$56,2,FALSE)),\"No Response\",VLOOKUP(tblSalaries[[#This Row],[Years of Experience]],vlookUpExp!$A$1:$B$56,2,FALSE))","v":"No Response"}]
[null,"ID0362","2012-05-26T01:45:58",25000,25000,"USD",{"$f":"tblSalaries[[#This Row],[clean Salary (in local currency)]]*VLOOKUP(tblSalaries[[#This Row],[Currency]],tblXrate[],2,FALSE)","v":25000},{"$f":"IF($H$1=\"USD\",tblSalaries[[#This Row],[Salary in USD]],tblSalaries[[#This Row],[Salary in USD]]*VLOOKUP($H$1,USDtoUserChoice,2,FALSE))","v":205049.50000000003},"Manager","Manager","India",{"$f":"VLOOKUP(tblSalaries[[#This Row],[Where do you work]],tblCountries[[Actual]:[Mapping]],2,FALSE)","v":"India"},"4 to 6 hours a day",{"$f":"NA()","v":{"$error":"#N/A"}},{"$f":"IF(ISNA(VLOOKUP(tblSalaries[[#This Row],[Years of Experience]],vlookUpExp!$A$1:$B$56,2,FALSE)),\"No Response\",VLOOKUP(tblSalaries[[#This Row],[Years of Experience]],vlookUpExp!$A$1:$B$56,2,FALSE))","v":"No Response"}]
[null,"ID0363","2012-05-26T01:46:24","480 000 SEK / 70000 US$",480000,"SEK",{"$f":"tblSalaries[[#This Row],[clean Salary (in local currency)]]*VLOOKUP(tblSalaries[[#This Row],[Currency]],tblXrate[],2,FALSE)","v":68954.520184280962},{"$f":"IF($H$1=\"USD\",tblSalaries[[#This Row],[Salary in USD]],tblSalaries[[#This Row],[Salary in USD]]*VLOOKUP($H$1,USDtoUserChoice,2,FALSE))","v":565563.59546106879},"IT consultant","Consultant","Sweden",{"$f":"VLOOKUP(tblSalaries[[#This Row],[Where do you work]],tblCountries[[Actual]:[Mapping]],2,FALSE)","v":"Sweden"},"1 or 2 hours a day",{"$f":"NA()","v":{"$error":"#N/A"}},{"$f":"IF(ISNA(VLOOKUP(tblSalaries[[#This Row],[Years of Experience]],vlookUpExp!$A$1:$B$56,2,FALSE)),\"No Response\",VLOOKUP(tblSalaries[[#This Row],[Years of Experience]],vlookUpExp!$A$1:$B$56,2,FALSE))","v":"No Response"}]
[null,"ID0365","2012-05-26T01:49:19",85000,85000,"USD",{"$f":"tblSalaries[[#This Row],[clean Salary (in local currency)]]*VLOOKUP(tblSalaries[[#This Row],[Currency]],tblXrate[],2,FALSE)","v":85000},{"$f":"IF($H$1=\"USD\",tblSalaries[[#This Row],[Salary in USD]],tblSalaries[[#This Row],[Salary in USD]]*VLOOKUP($H$1,USDtoUserChoice,2,FALSE))","v":697168.3},"Sr. Financial Analyst","Analyst","USA",{"$f":"VLOOKUP(tblSalaries[[#This Row],[Where do you work]],tblCountries[[Actual]:[Mapping]],2,FALSE)","v":"USA"},"4 to 6 hours a day",{"$f":"NA()","v":{"$error":"#N/A"}},{"$f":"IF(ISNA(VLOOKUP(tblSalaries[[#This Row],[Years of Experience]],vlookUpExp!$A$1:$B$56,2,FALSE)),\"No Response\",VLOOKUP(tblSalaries[[#This Row],[Years of Experience]],vlookUpExp!$A$1:$B$56,2,FALSE))","v":"No Response"}]
[null,"ID0366","2012-05-26T01:49:55",43000,43000,"GBP",{"$f":"tblSalaries[[#This Row],[clean Salary (in local currency)]]*VLOOKUP(tblSalaries[[#This Row],[Currency]],tblXrate[],2,FALSE)","v":67775.665698893223},{"$f":"IF($H$1=\"USD\",tblSalaries[[#This Row],[Salary in USD]],tblSalaries[[#This Row],[Salary in USD]]*VLOOKUP($H$1,USDtoUserChoice,2,FALSE))","v":555894.65454900824},"Commercial Manager","Manager","UK",{"$f":"VLOOKUP(tblSalaries[[#This Row],[Where do you work]],tblCountries[[Actual]:[Mapping]],2,FALSE)","v":"UK"},"4 to 6 hours a day",{"$f":"NA()","v":{"$error":"#N/A"}},{"$f":"IF(ISNA(VLOOKUP(tblSalaries[[#This Row],[Years of Experience]],vlookUpExp!$A$1:$B$56,2,FALSE)),\"No Response\",VLOOKUP(tblSalaries[[#This Row],[Years of Experience]],vlookUpExp!$A$1:$B$56,2,FALSE))","v":"No Response"}]
[null,"ID0367","2012-05-26T01:49:56",89000,89000,"USD",{"$f":"tblSalaries[[#This Row],[clean Salary (in local currency)]]*VLOOKUP(tblSalaries[[#This Row],[Currency]],tblXrate[],2,FALSE)","v":89000},{"$f":"IF($H$1=\"USD\",tblSalaries[[#This Row],[Salary in USD]],tblSalaries[[#This Row],[Salary in USD]]*VLOOKUP($H$1,USDtoUserChoice,2,FALSE))","v":729976.22000000009},"Quality Assurance Officer","Manager","USA",{"$f":"VLOOKUP(tblSalaries[[#This Row],[Where do you work]],tblCountries[[Actual]:[Mapping]],2,FALSE)","v":"USA"},"4 to 6 hours a day",{"$f":"NA()","v":{"$error":"#N/A"}},{"$f":"IF(ISNA(VLOOKUP(tblSalaries[[#This Row],[Years of Experience]],vlookUpExp!$A$1:$B$56,2,FALSE)),\"No Response\",VLOOKUP(tblSalaries[[#This Row],[Years of Experience]],vlookUpExp!$A$1:$B$56,2,FALSE))","v":"No Response"}]
[null,"ID0368","2012-05-26T01:50:00",35000,35000,"USD",{"$f":"tblSalaries[[#This Row],[clean Salary (in local currency)]]*VLOOKUP(tblSalaries[[#This Row],[Currency]],tblXrate[],2,FALSE)","v":35000},{"$f":"IF($H$1=\"USD\",tblSalaries[[#This Row],[Salary in USD]],tblSalaries[[#This Row],[Salary in USD]]*VLOOKUP($H$1,USDtoUserChoice,2,FALSE))","v":287069.30000000005},"Senior Treasury Analyst","Analyst","Brasil",{"$f":"VLOOKUP(tblSalaries[[#This Row],[Where do you work]],tblCountries[[Actual]:[Mapping]],2,FALSE)","v":"Brasil"},"All the 8 hours baby, all the 8!",{"$f":"NA()","v":{"$error":"#N/A"}},{"$f":"IF(ISNA(VLOOKUP(tblSalaries[[#This Row],[Years of Experience]],vlookUpExp!$A$1:$B$56,2,FALSE)),\"No Response\",VLOOKUP(tblSalaries[[#This Row],[Years of Experience]],vlookUpExp!$A$1:$B$56,2,FALSE))","v":"No Response"}]
[null,"ID0369","2012-05-26T01:50:28",47500,47500,"USD",{"$f":"tblSalaries[[#This Row],[clean Salary (in local currency)]]*VLOOKUP(tblSalaries[[#This Row],[Currency]],tblXrate[],2,FALSE)","v":47500},{"$f":"IF($H$1=\"USD\",tblSalaries[[#This Row],[Salary in USD]],tblSalaries[[#This Row],[Salary in USD]]*VLOOKUP($H$1,USDtoUserChoice,2,FALSE))","v":389594.05000000005},"Supervisor, Contracts, Rebates, Chargebacks and Returns","Manager","USA",{"$f":"VLOOKUP(tblSalaries[[#This Row],[Where do you work]],tblCountries[[Actual]:[Mapping]],2,FALSE)","v":"USA"},"All the 8 hours baby, all the 8!",{"$f":"NA()","v":{"$error":"#N/A"}},{"$f":"IF(ISNA(VLOOKUP(tblSalaries[[#This Row],[Years of Experience]],vlookUpExp!$A$1:$B$56,2,FALSE)),\"No Response\",VLOOKUP(tblSalaries[[#This Row],[Years of Experience]],vlookUpExp!$A$1:$B$56,2,FALSE))","v":"No Response"}]
[null,"ID0370","2012-05-26T01:50:30",130000,130000,"USD",{"$f":"tblSalaries[[#This Row],[clean Salary (in local currency)]]*VLOOKUP(tblSalaries[[#This Row],[Currency]],tblXrate[],2,FALSE)","v":130000},{"$f":"IF($H$1=\"USD\",tblSalaries[[#This Row],[Salary in USD]],tblSalaries[[#This Row],[Salary in USD]]*VLOOKUP($H$1,USDtoUserChoice,2,FALSE))","v":1066257.4000000001},"Project Manager","Manager","USA",{"$f":"VLOOKUP(tblSalaries[[#This Row],[Where do you work]],tblCountries[[Actual]:[Mapping]],2,FALSE)","v":"USA"},"2 to 3 hours per day",{"$f":"NA()","v":{"$error":"#N/A"}},{"$f":"IF(ISNA(VLOOKUP(tblSalaries[[#This Row],[Years of Experience]],vlookUpExp!$A$1:$B$56,2,FALSE)),\"No Response\",VLOOKUP(tblSalaries[[#This Row],[Years of Experience]],vlookUpExp!$A$1:$B$56,2,FALSE))","v":"No Response"}]
[null,"ID0371","2012-05-26T01:50:56",18000,18000,"USD",{"$f":"tblSalaries[[#This Row],[clean Salary (in local currency)]]*VLOOKUP(tblSalaries[[#This Row],[Currency]],tblXrate[],2,FALSE)","v":18000},{"$f":"IF($H$1=\"USD\",tblSalaries[[#This Row],[Salary in USD]],tblSalaries[[#This Row],[Salary in USD]]*VLOOKUP($H$1,USDtoUserChoice,2,FALSE))","v":147635.64000000001},"ceo","CXO or Top Mgmt.","India",{"$f":"VLOOKUP(tblSalaries[[#This Row],[Where do you work]],tblCountries[[Actual]:[Mapping]],2,FALSE)","v":"India"},"2 to 3 hours per day",{"$f":"NA()","v":{"$error":"#N/A"}},{"$f":"IF(ISNA(VLOOKUP(tblSalaries[[#This Row],[Years of Experience]],vlookUpExp!$A$1:$B$56,2,FALSE)),\"No Response\",VLOOKUP(tblSalaries[[#This Row],[Years of Experience]],vlookUpExp!$A$1:$B$56,2,FALSE))","v":"No Response"}]
[null,"ID0372","2012-05-26T01:50:59","480000 Rs.",480000,"INR",{"$f":"tblSalaries[[#This Row],[clean Salary (in local currency)]]*VLOOKUP(tblSalaries[[#This Row],[Currency]],tblXrate[],2,FALSE)","v":8547.8000099724322},{"$f":"IF($H$1=\"USD\",tblSalaries[[#This Row],[Salary in USD]],tblSalaries[[#This Row],[Salary in USD]]*VLOOKUP($H$1,USDtoUserChoice,2,FALSE))","v":70108.884725793701},"System Manager","Manager","India",{"$f":"VLOOKUP(tblSalaries[[#This Row],[Where do you work]],tblCountries[[Actual]:[Mapping]],2,FALSE)","v":"India"},"1 or 2 hours a day",{"$f":"NA()","v":{"$error":"#N/A"}},{"$f":"IF(ISNA(VLOOKUP(tblSalaries[[#This Row],[Years of Experience]],vlookUpExp!$A$1:$B$56,2,FALSE)),\"No Response\",VLOOKUP(tblSalaries[[#This Row],[Years of Experience]],vlookUpExp!$A$1:$B$56,2,FALSE))","v":"No Response"}]
[null,"ID0373","2012-05-26T01:51:24",41932,41932,"USD",{"$f":"tblSalaries[[#This Row],[clean Salary (in local currency)]]*VLOOKUP(tblSalaries[[#This Row],[Currency]],tblXrate[],2,FALSE)","v":41932},{"$f":"IF($H$1=\"USD\",tblSalaries[[#This Row],[Salary in USD]],tblSalaries[[#This Row],[Salary in USD]]*VLOOKUP($H$1,USDtoUserChoice,2,FALSE))","v":343925.42536000005},"Buyer","Manager","USA",{"$f":"VLOOKUP(tblSalaries[[#This Row],[Where do you work]],tblCountries[[Actual]:[Mapping]],2,FALSE)","v":"USA"},"2 to 3 hours per day",{"$f":"NA()","v":{"$error":"#N/A"}},{"$f":"IF(ISNA(VLOOKUP(tblSalaries[[#This Row],[Years of Experience]],vlookUpExp!$A$1:$B$56,2,FALSE)),\"No Response\",VLOOKUP(tblSalaries[[#This Row],[Years of Experience]],vlookUpExp!$A$1:$B$56,2,FALSE))","v":"No Response"}]
[null,"ID0374","2012-05-26T01:52:01","2207,00",220700,"USD",{"$f":"tblSalaries[[#This Row],[clean Salary (in local currency)]]*VLOOKUP(tblSalaries[[#This Row],[Currency]],tblXrate[],2,FALSE)","v":220700},{"$f":"IF($H$1=\"USD\",tblSalaries[[#This Row],[Salary in USD]],tblSalaries[[#This Row],[Salary in USD]]*VLOOKUP($H$1,USDtoUserChoice,2,FALSE))","v":1810176.9860000003},"Consultant","Consultant","Brazil",{"$f":"VLOOKUP(tblSalaries[[#This Row],[Where do you work]],tblCountries[[Actual]:[Mapping]],2,FALSE)","v":"Brazil"},"All the 8 hours baby, all the 8!",{"$f":"NA()","v":{"$error":"#N/A"}},{"$f":"IF(ISNA(VLOOKUP(tblSalaries[[#This Row],[Years of Experience]],vlookUpExp!$A$1:$B$56,2,FALSE)),\"No Response\",VLOOKUP(tblSalaries[[#This Row],[Years of Experience]],vlookUpExp!$A$1:$B$56,2,FALSE))","v":"No Response"}]
[null,"ID0375","2012-05-26T01:52:04",194000,194000,"USD",{"$f":"tblSalaries[[#This Row],[clean Salary (in local currency)]]*VLOOKUP(tblSalaries[[#This Row],[Currency]],tblXrate[],2,FALSE)","v":194000},{"$f":"IF($H$1=\"USD\",tblSalaries[[#This Row],[Salary in USD]],tblSalaries[[#This Row],[Salary in USD]]*VLOOKUP($H$1,USDtoUserChoice,2,FALSE))","v":1591184.12},"director","CXO or Top Mgmt.","USA",{"$f":"VLOOKUP(tblSalaries[[#This Row],[Where do you work]],tblCountries[[Actual]:[Mapping]],2,FALSE)","v":"USA"},"2 to 3 hours per day",{"$f":"NA()","v":{"$error":"#N/A"}},{"$f":"IF(ISNA(VLOOKUP(tblSalaries[[#This Row],[Years of Experience]],vlookUpExp!$A$1:$B$56,2,FALSE)),\"No Response\",VLOOKUP(tblSalaries[[#This Row],[Years of Experience]],vlookUpExp!$A$1:$B$56,2,FALSE))","v":"No Response"}]
[null,"ID0376","2012-05-26T01:54:28",9000000,9000000,"INR",{"$f":"tblSalaries[[#This Row],[clean Salary (in local currency)]]*VLOOKUP(tblSalaries[[#This Row],[Currency]],tblXrate[],2,FALSE)","v":160271.25018698312},{"$f":"IF($H$1=\"USD\",tblSalaries[[#This Row],[Salary in USD]],tblSalaries[[#This Row],[Salary in USD]]*VLOOKUP($H$1,USDtoUserChoice,2,FALSE))","v":1314541.5886086319},"Financial Analyst","Analyst","India",{"$f":"VLOOKUP(tblSalaries[[#This Row],[Where do you work]],tblCountries[[Actual]:[Mapping]],2,FALSE)","v":"India"},"4 to 6 hours a day",{"$f":"NA()","v":{"$error":"#N/A"}},{"$f":"IF(ISNA(VLOOKUP(tblSalaries[[#This Row],[Years of Experience]],vlookUpExp!$A$1:$B$56,2,FALSE)),\"No Response\",VLOOKUP(tblSalaries[[#This Row],[Years of Experience]],vlookUpExp!$A$1:$B$56,2,FALSE))","v":"No Response"}]
[null,"ID0377","2012-05-26T01:54:47","Rs. 500000",500000,"INR",{"$f":"tblSalaries[[#This Row],[clean Salary (in local currency)]]*VLOOKUP(tblSalaries[[#This Row],[Currency]],tblXrate[],2,FALSE)","v":8903.9583437212841},{"$f":"IF($H$1=\"USD\",tblSalaries[[#This Row],[Salary in USD]],tblSalaries[[#This Row],[Salary in USD]]*VLOOKUP($H$1,USDtoUserChoice,2,FALSE))","v":73030.088256035102},"Owner","Manager","India",{"$f":"VLOOKUP(tblSalaries[[#This Row],[Where do you work]],tblCountries[[Actual]:[Mapping]],2,FALSE)","v":"India"},"2 to 3 hours per day",{"$f":"NA()","v":{"$error":"#N/A"}},{"$f":"IF(ISNA(VLOOKUP(tblSalaries[[#This Row],[Years of Experience]],vlookUpExp!$A$1:$B$56,2,FALSE)),\"No Response\",VLOOKUP(tblSalaries[[#This Row],[Years of Experience]],vlookUpExp!$A$1:$B$56,2,FALSE))","v":"No Response"}]
[null,"ID0378","2012-05-26T01:57:23",80000,80000,"CAD",{"$f":"tblSalaries[[#This Row],[clean Salary (in local currency)]]*VLOOKUP(tblSalaries[[#This Row],[Currency]],tblXrate[],2,FALSE)","v":78668.921842426149},{"$f":"IF($H$1=\"USD\",tblSalaries[[#This Row],[Salary in USD]],tblSalaries[[#This Row],[Salary in USD]]*VLOOKUP($H$1,USDtoUserChoice,2,FALSE))","v":645240.9235731425},"Senior Business Analyst","Analyst","Canada",{"$f":"VLOOKUP(tblSalaries[[#This Row],[Where do you work]],tblCountries[[Actual]:[Mapping]],2,FALSE)","v":"Canada"},"4 to 6 hours a day",{"$f":"NA()","v":{"$error":"#N/A"}},{"$f":"IF(ISNA(VLOOKUP(tblSalaries[[#This Row],[Years of Experience]],vlookUpExp!$A$1:$B$56,2,FALSE)),\"No Response\",VLOOKUP(tblSalaries[[#This Row],[Years of Experience]],vlookUpExp!$A$1:$B$56,2,FALSE))","v":"No Response"}]
[null,"ID0379","2012-05-26T01:57:40",1500,18000,"EUR",{"$f":"tblSalaries[[#This Row],[clean Salary (in local currency)]]*VLOOKUP(tblSalaries[[#This Row],[Currency]],tblXrate[],2,FALSE)","v":22867.189901848938},{"$f":"IF($H$1=\"USD\",tblSalaries[[#This Row],[Salary in USD]],tblSalaries[[#This Row],[Salary in USD]]*VLOOKUP($H$1,USDtoUserChoice,2,FALSE))","v":187556.23423116698},"marketing and sales ","Manager","Portugal",{"$f":"VLOOKUP(tblSalaries[[#This Row],[Where do you work]],tblCountries[[Actual]:[Mapping]],2,FALSE)","v":"Portugal"},"2 to 3 hours per day",{"$f":"NA()","v":{"$error":"#N/A"}},{"$f":"IF(ISNA(VLOOKUP(tblSalaries[[#This Row],[Years of Experience]],vlookUpExp!$A$1:$B$56,2,FALSE)),\"No Response\",VLOOKUP(tblSalaries[[#This Row],[Years of Experience]],vlookUpExp!$A$1:$B$56,2,FALSE))","v":"No Response"}]
[null,"ID0380","2012-05-26T01:58:19","Â£60000",60000,"GBP",{"$f":"tblSalaries[[#This Row],[clean Salary (in local currency)]]*VLOOKUP(tblSalaries[[#This Row],[Currency]],tblXrate[],2,FALSE)","v":94570.696324037053},{"$f":"IF($H$1=\"USD\",tblSalaries[[#This Row],[Salary in USD]],tblSalaries[[#This Row],[Salary in USD]]*VLOOKUP($H$1,USDtoUserChoice,2,FALSE))","v":775666.95983582549},"Managing Director","CXO or Top Mgmt.","UK",{"$f":"VLOOKUP(tblSalaries[[#This Row],[Where do you work]],tblCountries[[Actual]:[Mapping]],2,FALSE)","v":"UK"},"2 to 3 hours per day",{"$f":"NA()","v":{"$error":"#N/A"}},{"$f":"IF(ISNA(VLOOKUP(tblSalaries[[#This Row],[Years of Experience]],vlookUpExp!$A$1:$B$56,2,FALSE)),\"No Response\",VLOOKUP(tblSalaries[[#This Row],[Years of Experience]],vlookUpExp!$A$1:$B$56,2,FALSE))","v":"No Response"}]
[null,"ID0381","2012-05-26T01:58:42",95000,95000,"USD",{"$f":"tblSalaries[[#This Row],[clean Salary (in local currency)]]*VLOOKUP(tblSalaries[[#This Row],[Currency]],tblXrate[],2,FALSE)","v":95000},{"$f":"IF($H$1=\"USD\",tblSalaries[[#This Row],[Salary in USD]],tblSalaries[[#This Row],[Salary in USD]]*VLOOKUP($H$1,USDtoUserChoice,2,FALSE))","v":779188.10000000009},"Senior Financial Analyst","Analyst","USA",{"$f":"VLOOKUP(tblSalaries[[#This Row],[Where do you work]],tblCountries[[Actual]:[Mapping]],2,FALSE)","v":"USA"},"All the 8 hours baby, all the 8!",{"$f":"NA()","v":{"$error":"#N/A"}},{"$f":"IF(ISNA(VLOOKUP(tblSalaries[[#This Row],[Years of Experience]],vlookUpExp!$A$1:$B$56,2,FALSE)),\"No Response\",VLOOKUP(tblSalaries[[#This Row],[Years of Experience]],vlookUpExp!$A$1:$B$56,2,FALSE))","v":"No Response"}]
[null,"ID0382","2012-05-26T01:59:21","INR 5,40,000",540000,"INR",{"$f":"tblSalaries[[#This Row],[clean Salary (in local currency)]]*VLOOKUP(tblSalaries[[#This Row],[Currency]],tblXrate[],2,FALSE)","v":9616.275011218986},{"$f":"IF($H$1=\"USD\",tblSalaries[[#This Row],[Salary in USD]],tblSalaries[[#This Row],[Salary in USD]]*VLOOKUP($H$1,USDtoUserChoice,2,FALSE))","v":78872.495316517903},"Senior Billing Engineer","Engineer","India",{"$f":"VLOOKUP(tblSalaries[[#This Row],[Where do you work]],tblCountries[[Actual]:[Mapping]],2,FALSE)","v":"India"},"4 to 6 hours a day",{"$f":"NA()","v":{"$error":"#N/A"}},{"$f":"IF(ISNA(VLOOKUP(tblSalaries[[#This Row],[Years of Experience]],vlookUpExp!$A$1:$B$56,2,FALSE)),\"No Response\",VLOOKUP(tblSalaries[[#This Row],[Years of Experience]],vlookUpExp!$A$1:$B$56,2,FALSE))","v":"No Response"}]
[null,"ID0383","2012-05-26T01:59:40",48000,48000,"USD",{"$f":"tblSalaries[[#This Row],[clean Salary (in local currency)]]*VLOOKUP(tblSalaries[[#This Row],[Currency]],tblXrate[],2,FALSE)","v":48000},{"$f":"IF($H$1=\"USD\",tblSalaries[[#This Row],[Salary in USD]],tblSalaries[[#This Row],[Salary in USD]]*VLOOKUP($H$1,USDtoUserChoice,2,FALSE))","v":393695.04000000004},"Quality Analyst","Analyst","USA",{"$f":"VLOOKUP(tblSalaries[[#This Row],[Where do you work]],tblCountries[[Actual]:[Mapping]],2,FALSE)","v":"USA"},"1 or 2 hours a day",{"$f":"NA()","v":{"$error":"#N/A"}},{"$f":"IF(ISNA(VLOOKUP(tblSalaries[[#This Row],[Years of Experience]],vlookUpExp!$A$1:$B$56,2,FALSE)),\"No Response\",VLOOKUP(tblSalaries[[#This Row],[Years of Experience]],vlookUpExp!$A$1:$B$56,2,FALSE))","v":"No Response"}]
[null,"ID0384","2012-05-26T01:59:45","46000 usd",46000,"USD",{"$f":"tblSalaries[[#This Row],[clean Salary (in local currency)]]*VLOOKUP(tblSalaries[[#This Row],[Currency]],tblXrate[],2,FALSE)","v":46000},{"$f":"IF($H$1=\"USD\",tblSalaries[[#This Row],[Salary in USD]],tblSalaries[[#This Row],[Salary in USD]]*VLOOKUP($H$1,USDtoUserChoice,2,FALSE))","v":377291.08},"Financial analyst","Analyst","USA",{"$f":"VLOOKUP(tblSalaries[[#This Row],[Where do you work]],tblCountries[[Actual]:[Mapping]],2,FALSE)","v":"USA"},"4 to 6 hours a day",{"$f":"NA()","v":{"$error":"#N/A"}},{"$f":"IF(ISNA(VLOOKUP(tblSalaries[[#This Row],[Years of Experience]],vlookUpExp!$A$1:$B$56,2,FALSE)),\"No Response\",VLOOKUP(tblSalaries[[#This Row],[Years of Experience]],vlookUpExp!$A$1:$B$56,2,FALSE))","v":"No Response"}]
[null,"ID0385","2012-05-26T01:59:48",15000,15000,"USD",{"$f":"tblSalaries[[#This Row],[clean Salary (in local currency)]]*VLOOKUP(tblSalaries[[#This Row],[Currency]],tblXrate[],2,FALSE)","v":15000},{"$f":"IF($H$1=\"USD\",tblSalaries[[#This Row],[Salary in USD]],tblSalaries[[#This Row],[Salary in USD]]*VLOOKUP($H$1,USDtoUserChoice,2,FALSE))","v":123029.70000000001},"Economist","Reporting","Ukraine",{"$f":"VLOOKUP(tblSalaries[[#This Row],[Where do you work]],tblCountries[[Actual]:[Mapping]],2,FALSE)","v":"Ukraine"},"2 to 3 hours per day",{"$f":"NA()","v":{"$error":"#N/A"}},{"$f":"IF(ISNA(VLOOKUP(tblSalaries[[#This Row],[Years of Experience]],vlookUpExp!$A$1:$B$56,2,FALSE)),\"No Response\",VLOOKUP(tblSalaries[[#This Row],[Years of Experience]],vlookUpExp!$A$1:$B$56,2,FALSE))","v":"No Response"}]
[null,"ID0386","2012-05-26T02:00:04","Rs 6.2 lakhs",620000,"INR",{"$f":"tblSalaries[[#This Row],[clean Salary (in local currency)]]*VLOOKUP(tblSalaries[[#This Row],[Currency]],tblXrate[],2,FALSE)","v":11040.908346214392},{"$f":"IF($H$1=\"USD\",tblSalaries[[#This Row],[Salary in USD]],tblSalaries[[#This Row],[Salary in USD]]*VLOOKUP($H$1,USDtoUserChoice,2,FALSE))","v":90557.30943748352},"assistant manager (finance)","Manager","India",{"$f":"VLOOKUP(tblSalaries[[#This Row],[Where do you work]],tblCountries[[Actual]:[Mapping]],2,FALSE)","v":"India"},"1 or 2 hours a day",{"$f":"NA()","v":{"$error":"#N/A"}},{"$f":"IF(ISNA(VLOOKUP(tblSalaries[[#This Row],[Years of Experience]],vlookUpExp!$A$1:$B$56,2,FALSE)),\"No Response\",VLOOKUP(tblSalaries[[#This Row],[Years of Experience]],vlookUpExp!$A$1:$B$56,2,FALSE))","v":"No Response"}]
[null,"ID0387","2012-05-26T02:00:10","Â£28000",28000,"GBP",{"$f":"tblSalaries[[#This Row],[clean Salary (in local currency)]]*VLOOKUP(tblSalaries[[#This Row],[Currency]],tblXrate[],2,FALSE)","v":44132.991617883956},{"$f":"IF($H$1=\"USD\",tblSalaries[[#This Row],[Salary in USD]],tblSalaries[[#This Row],[Salary in USD]]*VLOOKUP($H$1,USDtoUserChoice,2,FALSE))","v":361977.91459005186},"Central Services Manager","Manager","UK",{"$f":"VLOOKUP(tblSalaries[[#This Row],[Where do you work]],tblCountries[[Actual]:[Mapping]],2,FALSE)","v":"UK"},"2 to 3 hours per day",{"$f":"NA()","v":{"$error":"#N/A"}},{"$f":"IF(ISNA(VLOOKUP(tblSalaries[[#This Row],[Years of Experience]],vlookUpExp!$A$1:$B$56,2,FALSE)),\"No Response\",VLOOKUP(tblSalaries[[#This Row],[Years of Experience]],vlookUpExp!$A$1:$B$56,2,FALSE))","v":"No Response"}]
[null,"ID0388","2012-05-26T02:00:14",47000,47000,"USD",{"$f":"tblSalaries[[#This Row],[clean Salary (in local currency)]]*VLOOKUP(tblSalaries[[#This Row],[Currency]],tblXrate[],2,FALSE)","v":47000},{"$f":"IF($H$1=\"USD\",tblSalaries[[#This Row],[Salary in USD]],tblSalaries[[#This Row],[Salary in USD]]*VLOOKUP($H$1,USDtoUserChoice,2,FALSE))","v":385493.06000000006},"Trainer ","Manager","USA",{"$f":"VLOOKUP(tblSalaries[[#This Row],[Where do you work]],tblCountries[[Actual]:[Mapping]],2,FALSE)","v":"USA"},"2 to 3 hours per day",{"$f":"NA()","v":{"$error":"#N/A"}},{"$f":"IF(ISNA(VLOOKUP(tblSalaries[[#This Row],[Years of Experience]],vlookUpExp!$A$1:$B$56,2,FALSE)),\"No Response\",VLOOKUP(tblSalaries[[#This Row],[Years of Experience]],vlookUpExp!$A$1:$B$56,2,FALSE))","v":"No Response"}]
[null,"ID0389","2012-05-26T02:00:42",44000,44000,"USD",{"$f":"tblSalaries[[#This Row],[clean Salary (in local currency)]]*VLOOKUP(tblSalaries[[#This Row],[Currency]],tblXrate[],2,FALSE)","v":44000},{"$f":"IF($H$1=\"USD\",tblSalaries[[#This Row],[Salary in USD]],tblSalaries[[#This Row],[Salary in USD]]*VLOOKUP($H$1,USDtoUserChoice,2,FALSE))","v":360887.12000000005},"continuous improvement team member","Analyst","USA",{"$f":"VLOOKUP(tblSalaries[[#This Row],[Where do you work]],tblCountries[[Actual]:[Mapping]],2,FALSE)","v":"USA"},"2 to 3 hours per day",{"$f":"NA()","v":{"$error":"#N/A"}},{"$f":"IF(ISNA(VLOOKUP(tblSalaries[[#This Row],[Years of Experience]],vlookUpExp!$A$1:$B$56,2,FALSE)),\"No Response\",VLOOKUP(tblSalaries[[#This Row],[Years of Experience]],vlookUpExp!$A$1:$B$56,2,FALSE))","v":"No Response"}]
[null,"ID0390","2012-05-26T02:00:46",55000,55000,"USD",{"$f":"tblSalaries[[#This Row],[clean Salary (in local currency)]]*VLOOKUP(tblSalaries[[#This Row],[Currency]],tblXrate[],2,FALSE)","v":55000},{"$f":"IF($H$1=\"USD\",tblSalaries[[#This Row],[Salary in USD]],tblSalaries[[#This Row],[Salary in USD]]*VLOOKUP($H$1,USDtoUserChoice,2,FALSE))","v":451108.9},"Accountant","Accountant","USA",{"$f":"VLOOKUP(tblSalaries[[#This Row],[Where do you work]],tblCountries[[Actual]:[Mapping]],2,FALSE)","v":"USA"},"4 to 6 hours a day",{"$f":"NA()","v":{"$error":"#N/A"}},{"$f":"IF(ISNA(VLOOKUP(tblSalaries[[#This Row],[Years of Experience]],vlookUpExp!$A$1:$B$56,2,FALSE)),\"No Response\",VLOOKUP(tblSalaries[[#This Row],[Years of Experience]],vlookUpExp!$A$1:$B$56,2,FALSE))","v":"No Response"}]
[null,"ID0391","2012-05-26T02:00:54",12000,12000,"USD",{"$f":"tblSalaries[[#This Row],[clean Salary (in local currency)]]*VLOOKUP(tblSalaries[[#This Row],[Currency]],tblXrate[],2,FALSE)","v":12000},{"$f":"IF($H$1=\"USD\",tblSalaries[[#This Row],[Salary in USD]],tblSalaries[[#This Row],[Salary in USD]]*VLOOKUP($H$1,USDtoUserChoice,2,FALSE))","v":98423.760000000009},"MIS Officer","Reporting","South Africa",{"$f":"VLOOKUP(tblSalaries[[#This Row],[Where do you work]],tblCountries[[Actual]:[Mapping]],2,FALSE)","v":"South Africa"},"4 to 6 hours a day",{"$f":"NA()","v":{"$error":"#N/A"}},{"$f":"IF(ISNA(VLOOKUP(tblSalaries[[#This Row],[Years of Experience]],vlookUpExp!$A$1:$B$56,2,FALSE)),\"No Response\",VLOOKUP(tblSalaries[[#This Row],[Years of Experience]],vlookUpExp!$A$1:$B$56,2,FALSE))","v":"No Response"}]
[null,"ID0392","2012-05-26T02:01:07",50000,50000,"USD",{"$f":"tblSalaries[[#This Row],[clean Salary (in local currency)]]*VLOOKUP(tblSalaries[[#This Row],[Currency]],tblXrate[],2,FALSE)","v":50000},{"$f":"IF($H$1=\"USD\",tblSalaries[[#This Row],[Salary in USD]],tblSalaries[[#This Row],[Salary in USD]]*VLOOKUP($H$1,USDtoUserChoice,2,FALSE))","v":410099.00000000006},"IR Manager","Manager","USA",{"$f":"VLOOKUP(tblSalaries[[#This Row],[Where do you work]],tblCountries[[Actual]:[Mapping]],2,FALSE)","v":"USA"},"2 to 3 hours per day",{"$f":"NA()","v":{"$error":"#N/A"}},{"$f":"IF(ISNA(VLOOKUP(tblSalaries[[#This Row],[Years of Experience]],vlookUpExp!$A$1:$B$56,2,FALSE)),\"No Response\",VLOOKUP(tblSalaries[[#This Row],[Years of Experience]],vlookUpExp!$A$1:$B$56,2,FALSE))","v":"No Response"}]
[null,"ID0393","2012-05-26T02:01:31","7,50,000 INR",750000,"INR",{"$f":"tblSalaries[[#This Row],[clean Salary (in local currency)]]*VLOOKUP(tblSalaries[[#This Row],[Currency]],tblXrate[],2,FALSE)","v":13355.937515581925},{"$f":"IF($H$1=\"USD\",tblSalaries[[#This Row],[Salary in USD]],tblSalaries[[#This Row],[Salary in USD]]*VLOOKUP($H$1,USDtoUserChoice,2,FALSE))","v":109545.13238405265},"Business Analyst","Analyst","India",{"$f":"VLOOKUP(tblSalaries[[#This Row],[Where do you work]],tblCountries[[Actual]:[Mapping]],2,FALSE)","v":"India"},"1 or 2 hours a day",{"$f":"NA()","v":{"$error":"#N/A"}},{"$f":"IF(ISNA(VLOOKUP(tblSalaries[[#This Row],[Years of Experience]],vlookUpExp!$A$1:$B$56,2,FALSE)),\"No Response\",VLOOKUP(tblSalaries[[#This Row],[Years of Experience]],vlookUpExp!$A$1:$B$56,2,FALSE))","v":"No Response"}]
[null,"ID0394","2012-05-26T02:02:02","99147 $",99147,"USD",{"$f":"tblSalaries[[#This Row],[clean Salary (in local currency)]]*VLOOKUP(tblSalaries[[#This Row],[Currency]],tblXrate[],2,FALSE)","v":99147},{"$f":"IF($H$1=\"USD\",tblSalaries[[#This Row],[Salary in USD]],tblSalaries[[#This Row],[Salary in USD]]*VLOOKUP($H$1,USDtoUserChoice,2,FALSE))","v":813201.71106000012},"Chief Specialist of Economics & Planning","Specialist","Russia",{"$f":"VLOOKUP(tblSalaries[[#This Row],[Where do you work]],tblCountries[[Actual]:[Mapping]],2,FALSE)","v":"Russia"},"4 to 6 hours a day",{"$f":"NA()","v":{"$error":"#N/A"}},{"$f":"IF(ISNA(VLOOKUP(tblSalaries[[#This Row],[Years of Experience]],vlookUpExp!$A$1:$B$56,2,FALSE)),\"No Response\",VLOOKUP(tblSalaries[[#This Row],[Years of Experience]],vlookUpExp!$A$1:$B$56,2,FALSE))","v":"No Response"}]
[null,"ID0395","2012-05-26T02:03:35",45880,45880,"USD",{"$f":"tblSalaries[[#This Row],[clean Salary (in local currency)]]*VLOOKUP(tblSalaries[[#This Row],[Currency]],tblXrate[],2,FALSE)","v":45880},{"$f":"IF($H$1=\"USD\",tblSalaries[[#This Row],[Salary in USD]],tblSalaries[[#This Row],[Salary in USD]]*VLOOKUP($H$1,USDtoUserChoice,2,FALSE))","v":376306.84240000002},"Campus Budget Officer","Manager","USA",{"$f":"VLOOKUP(tblSalaries[[#This Row],[Where do you work]],tblCountries[[Actual]:[Mapping]],2,FALSE)","v":"USA"},"All the 8 hours baby, all the 8!",{"$f":"NA()","v":{"$error":"#N/A"}},{"$f":"IF(ISNA(VLOOKUP(tblSalaries[[#This Row],[Years of Experience]],vlookUpExp!$A$1:$B$56,2,FALSE)),\"No Response\",VLOOKUP(tblSalaries[[#This Row],[Years of Experience]],vlookUpExp!$A$1:$B$56,2,FALSE))","v":"No Response"}]
[null,"ID0396","2012-05-26T02:03:45",70000,70000,"USD",{"$f":"tblSalaries[[#This Row],[clean Salary (in local currency)]]*VLOOKUP(tblSalaries[[#This Row],[Currency]],tblXrate[],2,FALSE)","v":70000},{"$f":"IF($H$1=\"USD\",tblSalaries[[#This Row],[Salary in USD]],tblSalaries[[#This Row],[Salary in USD]]*VLOOKUP($H$1,USDtoUserChoice,2,FALSE))","v":574138.60000000009},"Management Ananlyst","Manager","USA",{"$f":"VLOOKUP(tblSalaries[[#This Row],[Where do you work]],tblCountries[[Actual]:[Mapping]],2,FALSE)","v":"USA"},"4 to 6 hours a day",{"$f":"NA()","v":{"$error":"#N/A"}},{"$f":"IF(ISNA(VLOOKUP(tblSalaries[[#This Row],[Years of Experience]],vlookUpExp!$A$1:$B$56,2,FALSE)),\"No Response\",VLOOKUP(tblSalaries[[#This Row],[Years of Experience]],vlookUpExp!$A$1:$B$56,2,FALSE))","v":"No Response"}]
[null,"ID0397","2012-05-26T02:04:01",100000,100000,"USD",{"$f":"tblSalaries[[#This Row],[clean Salary (in local currency)]]*VLOOKUP(tblSalaries[[#This Row],[Currency]],tblXrate[],2,FALSE)","v":100000},{"$f":"IF($H$1=\"USD\",tblSalaries[[#This Row],[Salary in USD]],tblSalaries[[#This Row],[Salary in USD]]*VLOOKUP($H$1,USDtoUserChoice,2,FALSE))","v":820198.00000000012},"Sales Operations Analyst","Analyst","USA",{"$f":"VLOOKUP(tblSalaries[[#This Row],[Where do you work]],tblCountries[[Actual]:[Mapping]],2,FALSE)","v":"USA"},"All the 8 hours baby, all the 8!",{"$f":"NA()","v":{"$error":"#N/A"}},{"$f":"IF(ISNA(VLOOKUP(tblSalaries[[#This Row],[Years of Experience]],vlookUpExp!$A$1:$B$56,2,FALSE)),\"No Response\",VLOOKUP(tblSalaries[[#This Row],[Years of Experience]],vlookUpExp!$A$1:$B$56,2,FALSE))","v":"No Response"}]
[null,"ID0398","2012-05-26T02:04:05","120000 BDT",1440000,"BDT",{"$f":"tblSalaries[[#This Row],[clean Salary (in local currency)]]*VLOOKUP(tblSalaries[[#This Row],[Currency]],tblXrate[],2,FALSE)","v":17598.017290051986},{"$f":"IF($H$1=\"USD\",tblSalaries[[#This Row],[Salary in USD]],tblSalaries[[#This Row],[Salary in USD]]*VLOOKUP($H$1,USDtoUserChoice,2,FALSE))","v":144338.58585266062},"Computer Operator","Analyst","Bangladesh",{"$f":"VLOOKUP(tblSalaries[[#This Row],[Where do you work]],tblCountries[[Actual]:[Mapping]],2,FALSE)","v":"Bangladesh"},"2 to 3 hours per day",{"$f":"NA()","v":{"$error":"#N/A"}},{"$f":"IF(ISNA(VLOOKUP(tblSalaries[[#This Row],[Years of Experience]],vlookUpExp!$A$1:$B$56,2,FALSE)),\"No Response\",VLOOKUP(tblSalaries[[#This Row],[Years of Experience]],vlookUpExp!$A$1:$B$56,2,FALSE))","v":"No Response"}]
[null,"ID0399","2012-05-26T02:05:06",85000,85000,"USD",{"$f":"tblSalaries[[#This Row],[clean Salary (in local currency)]]*VLOOKUP(tblSalaries[[#This Row],[Currency]],tblXrate[],2,FALSE)","v":85000},{"$f":"IF($H$1=\"USD\",tblSalaries[[#This Row],[Salary in USD]],tblSalaries[[#This Row],[Salary in USD]]*VLOOKUP($H$1,USDtoUserChoice,2,FALSE))","v":697168.3},"ENGINEER","Engineer","USA",{"$f":"VLOOKUP(tblSalaries[[#This Row],[Where do you work]],tblCountries[[Actual]:[Mapping]],2,FALSE)","v":"USA"},"2 to 3 hours per day",{"$f":"NA()","v":{"$error":"#N/A"}},{"$f":"IF(ISNA(VLOOKUP(tblSalaries[[#This Row],[Years of Experience]],vlookUpExp!$A$1:$B$56,2,FALSE)),\"No Response\",VLOOKUP(tblSalaries[[#This Row],[Years of Experience]],vlookUpExp!$A$1:$B$56,2,FALSE))","v":"No Response"}]
[null,"ID0400","2012-05-26T02:05:49",47000,47000,"USD",{"$f":"tblSalaries[[#This Row],[clean Salary (in local currency)]]*VLOOKUP(tblSalaries[[#This Row],[Currency]],tblXrate[],2,FALSE)","v":47000},{"$f":"IF($H$1=\"USD\",tblSalaries[[#This Row],[Salary in USD]],tblSalaries[[#This Row],[Salary in USD]]*VLOOKUP($H$1,USDtoUserChoice,2,FALSE))","v":385493.06000000006},"Sr Management Analytst 2","Manager","USA",{"$f":"VLOOKUP(tblSalaries[[#This Row],[Where do you work]],tblCountries[[Actual]:[Mapping]],2,FALSE)","v":"USA"},"4 to 6 hours a day",{"$f":"NA()","v":{"$error":"#N/A"}},{"$f":"IF(ISNA(VLOOKUP(tblSalaries[[#This Row],[Years of Experience]],vlookUpExp!$A$1:$B$56,2,FALSE)),\"No Response\",VLOOKUP(tblSalaries[[#This Row],[Years of Experience]],vlookUpExp!$A$1:$B$56,2,FALSE))","v":"No Response"}]
[null,"ID0401","2012-05-26T02:05:58",40000,40000,"USD",{"$f":"tblSalaries[[#This Row],[clean Salary (in local currency)]]*VLOOKUP(tblSalaries[[#This Row],[Currency]],tblXrate[],2,FALSE)","v":40000},{"$f":"IF($H$1=\"USD\",tblSalaries[[#This Row],[Salary in USD]],tblSalaries[[#This Row],[Salary in USD]]*VLOOKUP($H$1,USDtoUserChoice,2,FALSE))","v":328079.2},"Accounting Manager","Manager","USA",{"$f":"VLOOKUP(tblSalaries[[#This Row],[Where do you work]],tblCountries[[Actual]:[Mapping]],2,FALSE)","v":"USA"},"2 to 3 hours per day",{"$f":"NA()","v":{"$error":"#N/A"}},{"$f":"IF(ISNA(VLOOKUP(tblSalaries[[#This Row],[Years of Experience]],vlookUpExp!$A$1:$B$56,2,FALSE)),\"No Response\",VLOOKUP(tblSalaries[[#This Row],[Years of Experience]],vlookUpExp!$A$1:$B$56,2,FALSE))","v":"No Response"}]
[null,"ID0402","2012-05-26T02:06:38",30000,30000,"USD",{"$f":"tblSalaries[[#This Row],[clean Salary (in local currency)]]*VLOOKUP(tblSalaries[[#This Row],[Currency]],tblXrate[],2,FALSE)","v":30000},{"$f":"IF($H$1=\"USD\",tblSalaries[[#This Row],[Salary in USD]],tblSalaries[[#This Row],[Salary in USD]]*VLOOKUP($H$1,USDtoUserChoice,2,FALSE))","v":246059.40000000002},"ceo","CXO or Top Mgmt.","India",{"$f":"VLOOKUP(tblSalaries[[#This Row],[Where do you work]],tblCountries[[Actual]:[Mapping]],2,FALSE)","v":"India"},"2 to 3 hours per day",{"$f":"NA()","v":{"$error":"#N/A"}},{"$f":"IF(ISNA(VLOOKUP(tblSalaries[[#This Row],[Years of Experience]],vlookUpExp!$A$1:$B$56,2,FALSE)),\"No Response\",VLOOKUP(tblSalaries[[#This Row],[Years of Experience]],vlookUpExp!$A$1:$B$56,2,FALSE))","v":"No Response"}]
[null,"ID0403","2012-05-26T02:06:56",72000,72000,"CAD",{"$f":"tblSalaries[[#This Row],[clean Salary (in local currency)]]*VLOOKUP(tblSalaries[[#This Row],[Currency]],tblXrate[],2,FALSE)","v":70802.029658183528},{"$f":"IF($H$1=\"USD\",tblSalaries[[#This Row],[Salary in USD]],tblSalaries[[#This Row],[Salary in USD]]*VLOOKUP($H$1,USDtoUserChoice,2,FALSE))","v":580716.83121582819},"Controller","Controller","Canada",{"$f":"VLOOKUP(tblSalaries[[#This Row],[Where do you work]],tblCountries[[Actual]:[Mapping]],2,FALSE)","v":"Canada"},"4 to 6 hours a day",{"$f":"NA()","v":{"$error":"#N/A"}},{"$f":"IF(ISNA(VLOOKUP(tblSalaries[[#This Row],[Years of Experience]],vlookUpExp!$A$1:$B$56,2,FALSE)),\"No Response\",VLOOKUP(tblSalaries[[#This Row],[Years of Experience]],vlookUpExp!$A$1:$B$56,2,FALSE))","v":"No Response"}]
[null,"ID0404","2012-05-26T02:07:28",34000,34000,"USD",{"$f":"tblSalaries[[#This Row],[clean Salary (in local currency)]]*VLOOKUP(tblSalaries[[#This Row],[Currency]],tblXrate[],2,FALSE)","v":34000},{"$f":"IF($H$1=\"USD\",tblSalaries[[#This Row],[Salary in USD]],tblSalaries[[#This Row],[Salary in USD]]*VLOOKUP($H$1,USDtoUserChoice,2,FALSE))","v":278867.32},"Information Research Technician II","Analyst","USA",{"$f":"VLOOKUP(tblSalaries[[#This Row],[Where do you work]],tblCountries[[Actual]:[Mapping]],2,FALSE)","v":"USA"},"4 to 6 hours a day",{"$f":"NA()","v":{"$error":"#N/A"}},{"$f":"IF(ISNA(VLOOKUP(tblSalaries[[#This Row],[Years of Experience]],vlookUpExp!$A$1:$B$56,2,FALSE)),\"No Response\",VLOOKUP(tblSalaries[[#This Row],[Years of Experience]],vlookUpExp!$A$1:$B$56,2,FALSE))","v":"No Response"}]
[null,"ID0405","2012-05-26T02:07:49",52000,52000,"USD",{"$f":"tblSalaries[[#This Row],[clean Salary (in local currency)]]*VLOOKUP(tblSalaries[[#This Row],[Currency]],tblXrate[],2,FALSE)","v":52000},{"$f":"IF($H$1=\"USD\",tblSalaries[[#This Row],[Salary in USD]],tblSalaries[[#This Row],[Salary in USD]]*VLOOKUP($H$1,USDtoUserChoice,2,FALSE))","v":426502.96},"Data Analyst","Analyst","USA",{"$f":"VLOOKUP(tblSalaries[[#This Row],[Where do you work]],tblCountries[[Actual]:[Mapping]],2,FALSE)","v":"USA"},"4 to 6 hours a day",{"$f":"NA()","v":{"$error":"#N/A"}},{"$f":"IF(ISNA(VLOOKUP(tblSalaries[[#This Row],[Years of Experience]],vlookUpExp!$A$1:$B$56,2,FALSE)),\"No Response\",VLOOKUP(tblSalaries[[#This Row],[Years of Experience]],vlookUpExp!$A$1:$B$56,2,FALSE))","v":"No Response"}]
[null,"ID0406","2012-05-26T02:08:10",300000,300000,"INR",{"$f":"tblSalaries[[#This Row],[clean Salary (in local currency)]]*VLOOKUP(tblSalaries[[#This Row],[Currency]],tblXrate[],2,FALSE)","v":5342.3750062327708},{"$f":"IF($H$1=\"USD\",tblSalaries[[#This Row],[Salary in USD]],tblSalaries[[#This Row],[Salary in USD]]*VLOOKUP($H$1,USDtoUserChoice,2,FALSE))","v":43818.052953621067},"Sr. Systems Engineer","Engineer","India",{"$f":"VLOOKUP(tblSalaries[[#This Row],[Where do you work]],tblCountries[[Actual]:[Mapping]],2,FALSE)","v":"India"},"1 or 2 hours a day",{"$f":"NA()","v":{"$error":"#N/A"}},{"$f":"IF(ISNA(VLOOKUP(tblSalaries[[#This Row],[Years of Experience]],vlookUpExp!$A$1:$B$56,2,FALSE)),\"No Response\",VLOOKUP(tblSalaries[[#This Row],[Years of Experience]],vlookUpExp!$A$1:$B$56,2,FALSE))","v":"No Response"}]
[null,"ID0407","2012-05-26T02:09:57",400000,400000,"INR",{"$f":"tblSalaries[[#This Row],[clean Salary (in local currency)]]*VLOOKUP(tblSalaries[[#This Row],[Currency]],tblXrate[],2,FALSE)","v":7123.1666749770275},{"$f":"IF($H$1=\"USD\",tblSalaries[[#This Row],[Salary in USD]],tblSalaries[[#This Row],[Salary in USD]]*VLOOKUP($H$1,USDtoUserChoice,2,FALSE))","v":58424.070604828084},"Analyst","Analyst","India",{"$f":"VLOOKUP(tblSalaries[[#This Row],[Where do you work]],tblCountries[[Actual]:[Mapping]],2,FALSE)","v":"India"},"4 to 6 hours a day",{"$f":"NA()","v":{"$error":"#N/A"}},{"$f":"IF(ISNA(VLOOKUP(tblSalaries[[#This Row],[Years of Experience]],vlookUpExp!$A$1:$B$56,2,FALSE)),\"No Response\",VLOOKUP(tblSalaries[[#This Row],[Years of Experience]],vlookUpExp!$A$1:$B$56,2,FALSE))","v":"No Response"}]
[null,"ID0408","2012-05-26T02:10:35",63586.95,63586,"USD",{"$f":"tblSalaries[[#This Row],[clean Salary (in local currency)]]*VLOOKUP(tblSalaries[[#This Row],[Currency]],tblXrate[],2,FALSE)","v":63586},{"$f":"IF($H$1=\"USD\",tblSalaries[[#This Row],[Salary in USD]],tblSalaries[[#This Row],[Salary in USD]]*VLOOKUP($H$1,USDtoUserChoice,2,FALSE))","v":521531.10028000007},"Senior Purchasing Officer","Manager","United Arab Emriate",{"$f":"VLOOKUP(tblSalaries[[#This Row],[Where do you work]],tblCountries[[Actual]:[Mapping]],2,FALSE)","v":"UAE"},"2 to 3 hours per day",{"$f":"NA()","v":{"$error":"#N/A"}},{"$f":"IF(ISNA(VLOOKUP(tblSalaries[[#This Row],[Years of Experience]],vlookUpExp!$A$1:$B$56,2,FALSE)),\"No Response\",VLOOKUP(tblSalaries[[#This Row],[Years of Experience]],vlookUpExp!$A$1:$B$56,2,FALSE))","v":"No Response"}]
[null,"ID0409","2012-05-26T02:11:40","Â£35000",35000,"GBP",{"$f":"tblSalaries[[#This Row],[clean Salary (in local currency)]]*VLOOKUP(tblSalaries[[#This Row],[Currency]],tblXrate[],2,FALSE)","v":55166.239522354947},{"$f":"IF($H$1=\"USD\",tblSalaries[[#This Row],[Salary in USD]],tblSalaries[[#This Row],[Salary in USD]]*VLOOKUP($H$1,USDtoUserChoice,2,FALSE))","v":452472.39323756489},"Mgmt Accountant","Accountant","UK",{"$f":"VLOOKUP(tblSalaries[[#This Row],[Where do you work]],tblCountries[[Actual]:[Mapping]],2,FALSE)","v":"UK"},"4 to 6 hours a day",{"$f":"NA()","v":{"$error":"#N/A"}},{"$f":"IF(ISNA(VLOOKUP(tblSalaries[[#This Row],[Years of Experience]],vlookUpExp!$A$1:$B$56,2,FALSE)),\"No Response\",VLOOKUP(tblSalaries[[#This Row],[Years of Experience]],vlookUpExp!$A$1:$B$56,2,FALSE))","v":"No Response"}]
[null,"ID0410","2012-05-26T02:12:58",60000,60000,"USD",{"$f":"tblSalaries[[#This Row],[clean Salary (in local currency)]]*VLOOKUP(tblSalaries[[#This Row],[Currency]],tblXrate[],2,FALSE)","v":60000},{"$f":"IF($H$1=\"USD\",tblSalaries[[#This Row],[Salary in USD]],tblSalaries[[#This Row],[Salary in USD]]*VLOOKUP($H$1,USDtoUserChoice,2,FALSE))","v":492118.80000000005},"Sr financial analyst ","Analyst","USA",{"$f":"VLOOKUP(tblSalaries[[#This Row],[Where do you work]],tblCountries[[Actual]:[Mapping]],2,FALSE)","v":"USA"},"4 to 6 hours a day",{"$f":"NA()","v":{"$error":"#N/A"}},{"$f":"IF(ISNA(VLOOKUP(tblSalaries[[#This Row],[Years of Experience]],vlookUpExp!$A$1:$B$56,2,FALSE)),\"No Response\",VLOOKUP(tblSalaries[[#This Row],[Years of Experience]],vlookUpExp!$A$1:$B$56,2,FALSE))","v":"No Response"}]
[null,"ID0411","2012-05-26T02:13:57",19200,19200,"USD",{"$f":"tblSalaries[[#This Row],[clean Salary (in local currency)]]*VLOOKUP(tblSalaries[[#This Row],[Currency]],tblXrate[],2,FALSE)","v":19200},{"$f":"IF($H$1=\"USD\",tblSalaries[[#This Row],[Salary in USD]],tblSalaries[[#This Row],[Salary in USD]]*VLOOKUP($H$1,USDtoUserChoice,2,FALSE))","v":157478.016},"Department Manager","Manager","Romania",{"$f":"VLOOKUP(tblSalaries[[#This Row],[Where do you work]],tblCountries[[Actual]:[Mapping]],2,FALSE)","v":"Romania"},"All the 8 hours baby, all the 8!",{"$f":"NA()","v":{"$error":"#N/A"}},{"$f":"IF(ISNA(VLOOKUP(tblSalaries[[#This Row],[Years of Experience]],vlookUpExp!$A$1:$B$56,2,FALSE)),\"No Response\",VLOOKUP(tblSalaries[[#This Row],[Years of Experience]],vlookUpExp!$A$1:$B$56,2,FALSE))","v":"No Response"}]
[null,"ID0412","2012-05-26T02:14:05","Â¢ 14.000.000,00",14000000,"COSTARICAN",{"$f":"tblSalaries[[#This Row],[clean Salary (in local currency)]]*VLOOKUP(tblSalaries[[#This Row],[Currency]],tblXrate[],2,FALSE)","v":28109.627547434993},{"$f":"IF($H$1=\"USD\",tblSalaries[[#This Row],[Salary in USD]],tblSalaries[[#This Row],[Salary in USD]]*VLOOKUP($H$1,USDtoUserChoice,2,FALSE))","v":230554.6029515109},"Businees Adminstratot","Analyst","Costa Rica",{"$f":"VLOOKUP(tblSalaries[[#This Row],[Where do you work]],tblCountries[[Actual]:[Mapping]],2,FALSE)","v":"Costa Rica"},"All the 8 hours baby, all the 8!",{"$f":"NA()","v":{"$error":"#N/A"}},{"$f":"IF(ISNA(VLOOKUP(tblSalaries[[#This Row],[Years of Experience]],vlookUpExp!$A$1:$B$56,2,FALSE)),\"No Response\",VLOOKUP(tblSalaries[[#This Row],[Years of Experience]],vlookUpExp!$A$1:$B$56,2,FALSE))","v":"No Response"}]
[null,"ID0413","2012-05-26T02:14:29",56000,56000,"USD",{"$f":"tblSalaries[[#This Row],[clean Salary (in local currency)]]*VLOOKUP(tblSalaries[[#This Row],[Currency]],tblXrate[],2,FALSE)","v":56000},{"$f":"IF($H$1=\"USD\",tblSalaries[[#This Row],[Salary in USD]],tblSalaries[[#This Row],[Salary in USD]]*VLOOKUP($H$1,USDtoUserChoice,2,FALSE))","v":459310.88000000006},"Staff assistant ","Analyst","USA",{"$f":"VLOOKUP(tblSalaries[[#This Row],[Where do you work]],tblCountries[[Actual]:[Mapping]],2,FALSE)","v":"USA"},"4 to 6 hours a day",{"$f":"NA()","v":{"$error":"#N/A"}},{"$f":"IF(ISNA(VLOOKUP(tblSalaries[[#This Row],[Years of Experience]],vlookUpExp!$A$1:$B$56,2,FALSE)),\"No Response\",VLOOKUP(tblSalaries[[#This Row],[Years of Experience]],vlookUpExp!$A$1:$B$56,2,FALSE))","v":"No Response"}]
[null,"ID0414","2012-05-26T02:14:48",52000,52000,"USD",{"$f":"tblSalaries[[#This Row],[clean Salary (in local currency)]]*VLOOKUP(tblSalaries[[#This Row],[Currency]],tblXrate[],2,FALSE)","v":52000},{"$f":"IF($H$1=\"USD\",tblSalaries[[#This Row],[Salary in USD]],tblSalaries[[#This Row],[Salary in USD]]*VLOOKUP($H$1,USDtoUserChoice,2,FALSE))","v":426502.96},"Sr. Accountant","Accountant","USA",{"$f":"VLOOKUP(tblSalaries[[#This Row],[Where do you work]],tblCountries[[Actual]:[Mapping]],2,FALSE)","v":"USA"},"4 to 6 hours a day",{"$f":"NA()","v":{"$error":"#N/A"}},{"$f":"IF(ISNA(VLOOKUP(tblSalaries[[#This Row],[Years of Experience]],vlookUpExp!$A$1:$B$56,2,FALSE)),\"No Response\",VLOOKUP(tblSalaries[[#This Row],[Years of Experience]],vlookUpExp!$A$1:$B$56,2,FALSE))","v":"No Response"}]
[null,"ID0415","2012-05-26T02:15:19",51613,51613,"USD",{"$f":"tblSalaries[[#This Row],[clean Salary (in local currency)]]*VLOOKUP(tblSalaries[[#This Row],[Currency]],tblXrate[],2,FALSE)","v":51613},{"$f":"IF($H$1=\"USD\",tblSalaries[[#This Row],[Salary in USD]],tblSalaries[[#This Row],[Salary in USD]]*VLOOKUP($H$1,USDtoUserChoice,2,FALSE))","v":423328.79374000005},"Air Planning Analyst","Analyst","USA",{"$f":"VLOOKUP(tblSalaries[[#This Row],[Where do you work]],tblCountries[[Actual]:[Mapping]],2,FALSE)","v":"USA"},"All the 8 hours baby, all the 8!",{"$f":"NA()","v":{"$error":"#N/A"}},{"$f":"IF(ISNA(VLOOKUP(tblSalaries[[#This Row],[Years of Experience]],vlookUpExp!$A$1:$B$56,2,FALSE)),\"No Response\",VLOOKUP(tblSalaries[[#This Row],[Years of Experience]],vlookUpExp!$A$1:$B$56,2,FALSE))","v":"No Response"}]
[null,"ID0416","2012-05-26T02:17:01",35000,35000,"USD",{"$f":"tblSalaries[[#This Row],[clean Salary (in local currency)]]*VLOOKUP(tblSalaries[[#This Row],[Currency]],tblXrate[],2,FALSE)","v":35000},{"$f":"IF($H$1=\"USD\",tblSalaries[[#This Row],[Salary in USD]],tblSalaries[[#This Row],[Salary in USD]]*VLOOKUP($H$1,USDtoUserChoice,2,FALSE))","v":287069.30000000005},"Credit Analyst","Analyst","Russia",{"$f":"VLOOKUP(tblSalaries[[#This Row],[Where do you work]],tblCountries[[Actual]:[Mapping]],2,FALSE)","v":"Russia"},"4 to 6 hours a day",{"$f":"NA()","v":{"$error":"#N/A"}},{"$f":"IF(ISNA(VLOOKUP(tblSalaries[[#This Row],[Years of Experience]],vlookUpExp!$A$1:$B$56,2,FALSE)),\"No Response\",VLOOKUP(tblSalaries[[#This Row],[Years of Experience]],vlookUpExp!$A$1:$B$56,2,FALSE))","v":"No Response"}]
[null,"ID0417","2012-05-26T02:17:18",56000,56000,"USD",{"$f":"tblSalaries[[#This Row],[clean Salary (in local currency)]]*VLOOKUP(tblSalaries[[#This Row],[Currency]],tblXrate[],2,FALSE)","v":56000},{"$f":"IF($H$1=\"USD\",tblSalaries[[#This Row],[Salary in USD]],tblSalaries[[#This Row],[Salary in USD]]*VLOOKUP($H$1,USDtoUserChoice,2,FALSE))","v":459310.88000000006},"financial management consultant","Manager","USA",{"$f":"VLOOKUP(tblSalaries[[#This Row],[Where do you work]],tblCountries[[Actual]:[Mapping]],2,FALSE)","v":"USA"},"All the 8 hours baby, all the 8!",{"$f":"NA()","v":{"$error":"#N/A"}},{"$f":"IF(ISNA(VLOOKUP(tblSalaries[[#This Row],[Years of Experience]],vlookUpExp!$A$1:$B$56,2,FALSE)),\"No Response\",VLOOKUP(tblSalaries[[#This Row],[Years of Experience]],vlookUpExp!$A$1:$B$56,2,FALSE))","v":"No Response"}]
[null,"ID0418","2012-05-26T02:17:38","US$115000",115000,"USD",{"$f":"tblSalaries[[#This Row],[clean Salary (in local currency)]]*VLOOKUP(tblSalaries[[#This Row],[Currency]],tblXrate[],2,FALSE)","v":115000},{"$f":"IF($H$1=\"USD\",tblSalaries[[#This Row],[Salary in USD]],tblSalaries[[#This Row],[Salary in USD]]*VLOOKUP($H$1,USDtoUserChoice,2,FALSE))","v":943227.70000000007},"Consultant","Consultant","USA",{"$f":"VLOOKUP(tblSalaries[[#This Row],[Where do you work]],tblCountries[[Actual]:[Mapping]],2,FALSE)","v":"USA"},"2 to 3 hours per day",{"$f":"NA()","v":{"$error":"#N/A"}},{"$f":"IF(ISNA(VLOOKUP(tblSalaries[[#This Row],[Years of Experience]],vlookUpExp!$A$1:$B$56,2,FALSE)),\"No Response\",VLOOKUP(tblSalaries[[#This Row],[Years of Experience]],vlookUpExp!$A$1:$B$56,2,FALSE))","v":"No Response"}]
[null,"ID0419","2012-05-26T02:18:03","Â£66000",66000,"GBP",{"$f":"tblSalaries[[#This Row],[clean Salary (in local currency)]]*VLOOKUP(tblSalaries[[#This Row],[Currency]],tblXrate[],2,FALSE)","v":104027.76595644075},{"$f":"IF($H$1=\"USD\",tblSalaries[[#This Row],[Salary in USD]],tblSalaries[[#This Row],[Salary in USD]]*VLOOKUP($H$1,USDtoUserChoice,2,FALSE))","v":853233.65581940801},"IT Project Manager, EMEA","Manager","UK",{"$f":"VLOOKUP(tblSalaries[[#This Row],[Where do you work]],tblCountries[[Actual]:[Mapping]],2,FALSE)","v":"UK"},"1 or 2 hours a day",{"$f":"NA()","v":{"$error":"#N/A"}},{"$f":"IF(ISNA(VLOOKUP(tblSalaries[[#This Row],[Years of Experience]],vlookUpExp!$A$1:$B$56,2,FALSE)),\"No Response\",VLOOKUP(tblSalaries[[#This Row],[Years of Experience]],vlookUpExp!$A$1:$B$56,2,FALSE))","v":"No Response"}]
[null,"ID0420","2012-05-26T02:19:12","INR 200000",200000,"INR",{"$f":"tblSalaries[[#This Row],[clean Salary (in local currency)]]*VLOOKUP(tblSalaries[[#This Row],[Currency]],tblXrate[],2,FALSE)","v":3561.5833374885137},{"$f":"IF($H$1=\"USD\",tblSalaries[[#This Row],[Salary in USD]],tblSalaries[[#This Row],[Salary in USD]]*VLOOKUP($H$1,USDtoUserChoice,2,FALSE))","v":29212.035302414042},"Consultant","Consultant","India",{"$f":"VLOOKUP(tblSalaries[[#This Row],[Where do you work]],tblCountries[[Actual]:[Mapping]],2,FALSE)","v":"India"},"1 or 2 hours a day",{"$f":"NA()","v":{"$error":"#N/A"}},{"$f":"IF(ISNA(VLOOKUP(tblSalaries[[#This Row],[Years of Experience]],vlookUpExp!$A$1:$B$56,2,FALSE)),\"No Response\",VLOOKUP(tblSalaries[[#This Row],[Years of Experience]],vlookUpExp!$A$1:$B$56,2,FALSE))","v":"No Response"}]
[null,"ID0421","2012-05-26T02:19:48",72000,72000,"USD",{"$f":"tblSalaries[[#This Row],[clean Salary (in local currency)]]*VLOOKUP(tblSalaries[[#This Row],[Currency]],tblXrate[],2,FALSE)","v":72000},{"$f":"IF($H$1=\"USD\",tblSalaries[[#This Row],[Salary in USD]],tblSalaries[[#This Row],[Salary in USD]]*VLOOKUP($H$1,USDtoUserChoice,2,FALSE))","v":590542.56000000006},"IS Director","CXO or Top Mgmt.","USA",{"$f":"VLOOKUP(tblSalaries[[#This Row],[Where do you work]],tblCountries[[Actual]:[Mapping]],2,FALSE)","v":"USA"},"4 to 6 hours a day",{"$f":"NA()","v":{"$error":"#N/A"}},{"$f":"IF(ISNA(VLOOKUP(tblSalaries[[#This Row],[Years of Experience]],vlookUpExp!$A$1:$B$56,2,FALSE)),\"No Response\",VLOOKUP(tblSalaries[[#This Row],[Years of Experience]],vlookUpExp!$A$1:$B$56,2,FALSE))","v":"No Response"}]
[null,"ID0422","2012-05-26T02:19:52",90000,90000,"USD",{"$f":"tblSalaries[[#This Row],[clean Salary (in local currency)]]*VLOOKUP(tblSalaries[[#This Row],[Currency]],tblXrate[],2,FALSE)","v":90000},{"$f":"IF($H$1=\"USD\",tblSalaries[[#This Row],[Salary in USD]],tblSalaries[[#This Row],[Salary in USD]]*VLOOKUP($H$1,USDtoUserChoice,2,FALSE))","v":738178.20000000007},"Financial Analyst","Analyst","USA",{"$f":"VLOOKUP(tblSalaries[[#This Row],[Where do you work]],tblCountries[[Actual]:[Mapping]],2,FALSE)","v":"USA"},"All the 8 hours baby, all the 8!",{"$f":"NA()","v":{"$error":"#N/A"}},{"$f":"IF(ISNA(VLOOKUP(tblSalaries[[#This Row],[Years of Experience]],vlookUpExp!$A$1:$B$56,2,FALSE)),\"No Response\",VLOOKUP(tblSalaries[[#This Row],[Years of Experience]],vlookUpExp!$A$1:$B$56,2,FALSE))","v":"No Response"}]
[null,"ID0423","2012-05-26T02:20:15","8500 USD",8500,"USD",{"$f":"tblSalaries[[#This Row],[clean Salary (in local currency)]]*VLOOKUP(tblSalaries[[#This Row],[Currency]],tblXrate[],2,FALSE)","v":8500},{"$f":"IF($H$1=\"USD\",tblSalaries[[#This Row],[Salary in USD]],tblSalaries[[#This Row],[Salary in USD]]*VLOOKUP($H$1,USDtoUserChoice,2,FALSE))","v":69716.83},"Accounting Coordinator","Accountant","Romania",{"$f":"VLOOKUP(tblSalaries[[#This Row],[Where do you work]],tblCountries[[Actual]:[Mapping]],2,FALSE)","v":"Romania"},"2 to 3 hours per day",{"$f":"NA()","v":{"$error":"#N/A"}},{"$f":"IF(ISNA(VLOOKUP(tblSalaries[[#This Row],[Years of Experience]],vlookUpExp!$A$1:$B$56,2,FALSE)),\"No Response\",VLOOKUP(tblSalaries[[#This Row],[Years of Experience]],vlookUpExp!$A$1:$B$56,2,FALSE))","v":"No Response"}]
[null,"ID0424","2012-05-26T02:20:22",12000,12000,"USD",{"$f":"tblSalaries[[#This Row],[clean Salary (in local currency)]]*VLOOKUP(tblSalaries[[#This Row],[Currency]],tblXrate[],2,FALSE)","v":12000},{"$f":"IF($H$1=\"USD\",tblSalaries[[#This Row],[Salary in USD]],tblSalaries[[#This Row],[Salary in USD]]*VLOOKUP($H$1,USDtoUserChoice,2,FALSE))","v":98423.760000000009},"teacher","Analyst","iran",{"$f":"VLOOKUP(tblSalaries[[#This Row],[Where do you work]],tblCountries[[Actual]:[Mapping]],2,FALSE)","v":"iran"},"2 to 3 hours per day",{"$f":"NA()","v":{"$error":"#N/A"}},{"$f":"IF(ISNA(VLOOKUP(tblSalaries[[#This Row],[Years of Experience]],vlookUpExp!$A$1:$B$56,2,FALSE)),\"No Response\",VLOOKUP(tblSalaries[[#This Row],[Years of Experience]],vlookUpExp!$A$1:$B$56,2,FALSE))","v":"No Response"}]
[null,"ID0425","2012-05-26T02:22:17","250000 to 270000",250000,"USD",{"$f":"tblSalaries[[#This Row],[clean Salary (in local currency)]]*VLOOKUP(tblSalaries[[#This Row],[Currency]],tblXrate[],2,FALSE)","v":250000},{"$f":"IF($H$1=\"USD\",tblSalaries[[#This Row],[Salary in USD]],tblSalaries[[#This Row],[Salary in USD]]*VLOOKUP($H$1,USDtoUserChoice,2,FALSE))","v":2050495.0000000002},"consultant","Consultant","USA",{"$f":"VLOOKUP(tblSalaries[[#This Row],[Where do you work]],tblCountries[[Actual]:[Mapping]],2,FALSE)","v":"USA"},"All the 8 hours baby, all the 8!",{"$f":"NA()","v":{"$error":"#N/A"}},{"$f":"IF(ISNA(VLOOKUP(tblSalaries[[#This Row],[Years of Experience]],vlookUpExp!$A$1:$B$56,2,FALSE)),\"No Response\",VLOOKUP(tblSalaries[[#This Row],[Years of Experience]],vlookUpExp!$A$1:$B$56,2,FALSE))","v":"No Response"}]
[null,"ID0426","2012-05-26T02:24:24",5900,70800,"EUR",{"$f":"tblSalaries[[#This Row],[clean Salary (in local currency)]]*VLOOKUP(tblSalaries[[#This Row],[Currency]],tblXrate[],2,FALSE)","v":89944.280280605832},{"$f":"IF($H$1=\"USD\",tblSalaries[[#This Row],[Salary in USD]],tblSalaries[[#This Row],[Salary in USD]]*VLOOKUP($H$1,USDtoUserChoice,2,FALSE))","v":737721.18797592353},"Excel trainer","Analyst","Finland",{"$f":"VLOOKUP(tblSalaries[[#This Row],[Where do you work]],tblCountries[[Actual]:[Mapping]],2,FALSE)","v":"Finland"},"All the 8 hours baby, all the 8!",{"$f":"NA()","v":{"$error":"#N/A"}},{"$f":"IF(ISNA(VLOOKUP(tblSalaries[[#This Row],[Years of Experience]],vlookUpExp!$A$1:$B$56,2,FALSE)),\"No Response\",VLOOKUP(tblSalaries[[#This Row],[Years of Experience]],vlookUpExp!$A$1:$B$56,2,FALSE))","v":"No Response"}]
[null,"ID0427","2012-05-26T02:25:10","20000 RS",240000,"INR",{"$f":"tblSalaries[[#This Row],[clean Salary (in local currency)]]*VLOOKUP(tblSalaries[[#This Row],[Currency]],tblXrate[],2,FALSE)","v":4273.9000049862161},{"$f":"IF($H$1=\"USD\",tblSalaries[[#This Row],[Salary in USD]],tblSalaries[[#This Row],[Salary in USD]]*VLOOKUP($H$1,USDtoUserChoice,2,FALSE))","v":35054.442362896851},"WFM Team Lead","Manager","India",{"$f":"VLOOKUP(tblSalaries[[#This Row],[Where do you work]],tblCountries[[Actual]:[Mapping]],2,FALSE)","v":"India"},"All the 8 hours baby, all the 8!",{"$f":"NA()","v":{"$error":"#N/A"}},{"$f":"IF(ISNA(VLOOKUP(tblSalaries[[#This Row],[Years of Experience]],vlookUpExp!$A$1:$B$56,2,FALSE)),\"No Response\",VLOOKUP(tblSalaries[[#This Row],[Years of Experience]],vlookUpExp!$A$1:$B$56,2,FALSE))","v":"No Response"}]
[null,"ID0428","2012-05-26T02:27:50","US $30,000.00 ",30000,"USD",{"$f":"tblSalaries[[#This Row],[clean Salary (in local currency)]]*VLOOKUP(tblSalaries[[#This Row],[Currency]],tblXrate[],2,FALSE)","v":30000},{"$f":"IF($H$1=\"USD\",tblSalaries[[#This Row],[Salary in USD]],tblSalaries[[#This Row],[Salary in USD]]*VLOOKUP($H$1,USDtoUserChoice,2,FALSE))","v":246059.40000000002},"Supervisor","Manager","USA",{"$f":"VLOOKUP(tblSalaries[[#This Row],[Where do you work]],tblCountries[[Actual]:[Mapping]],2,FALSE)","v":"USA"},"2 to 3 hours per day",{"$f":"NA()","v":{"$error":"#N/A"}},{"$f":"IF(ISNA(VLOOKUP(tblSalaries[[#This Row],[Years of Experience]],vlookUpExp!$A$1:$B$56,2,FALSE)),\"No Response\",VLOOKUP(tblSalaries[[#This Row],[Years of Experience]],vlookUpExp!$A$1:$B$56,2,FALSE))","v":"No Response"}]
[null,"ID0429","2012-05-26T02:29:37","30000 $",30000,"USD",{"$f":"tblSalaries[[#This Row],[clean Salary (in local currency)]]*VLOOKUP(tblSalaries[[#This Row],[Currency]],tblXrate[],2,FALSE)","v":30000},{"$f":"IF($H$1=\"USD\",tblSalaries[[#This Row],[Salary in USD]],tblSalaries[[#This Row],[Salary in USD]]*VLOOKUP($H$1,USDtoUserChoice,2,FALSE))","v":246059.40000000002},"BI Developer","Reporting","Romania",{"$f":"VLOOKUP(tblSalaries[[#This Row],[Where do you work]],tblCountries[[Actual]:[Mapping]],2,FALSE)","v":"Romania"},"1 or 2 hours a day",{"$f":"NA()","v":{"$error":"#N/A"}},{"$f":"IF(ISNA(VLOOKUP(tblSalaries[[#This Row],[Years of Experience]],vlookUpExp!$A$1:$B$56,2,FALSE)),\"No Response\",VLOOKUP(tblSalaries[[#This Row],[Years of Experience]],vlookUpExp!$A$1:$B$56,2,FALSE))","v":"No Response"}]
[null,"ID0430","2012-05-26T02:31:24",24,24000,"USD",{"$f":"tblSalaries[[#This Row],[clean Salary (in local currency)]]*VLOOKUP(tblSalaries[[#This Row],[Currency]],tblXrate[],2,FALSE)","v":24000},{"$f":"IF($H$1=\"USD\",tblSalaries[[#This Row],[Salary in USD]],tblSalaries[[#This Row],[Salary in USD]]*VLOOKUP($H$1,USDtoUserChoice,2,FALSE))","v":196847.52000000002},"engineer","Engineer","USA",{"$f":"VLOOKUP(tblSalaries[[#This Row],[Where do you work]],tblCountries[[Actual]:[Mapping]],2,FALSE)","v":"USA"},"1 or 2 hours a day",{"$f":"NA()","v":{"$error":"#N/A"}},{"$f":"IF(ISNA(VLOOKUP(tblSalaries[[#This Row],[Years of Experience]],vlookUpExp!$A$1:$B$56,2,FALSE)),\"No Response\",VLOOKUP(tblSalaries[[#This Row],[Years of Experience]],vlookUpExp!$A$1:$B$56,2,FALSE))","v":"No Response"}]
[null,"ID0431","2012-05-26T02:33:00",60000,60000,"USD",{"$f":"tblSalaries[[#This Row],[clean Salary (in local currency)]]*VLOOKUP(tblSalaries[[#This Row],[Currency]],tblXrate[],2,FALSE)","v":60000},{"$f":"IF($H$1=\"USD\",tblSalaries[[#This Row],[Salary in USD]],tblSalaries[[#This Row],[Salary in USD]]*VLOOKUP($H$1,USDtoUserChoice,2,FALSE))","v":492118.80000000005},"Planner","Manager","USA",{"$f":"VLOOKUP(tblSalaries[[#This Row],[Where do you work]],tblCountries[[Actual]:[Mapping]],2,FALSE)","v":"USA"},"4 to 6 hours a day",{"$f":"NA()","v":{"$error":"#N/A"}},{"$f":"IF(ISNA(VLOOKUP(tblSalaries[[#This Row],[Years of Experience]],vlookUpExp!$A$1:$B$56,2,FALSE)),\"No Response\",VLOOKUP(tblSalaries[[#This Row],[Years of Experience]],vlookUpExp!$A$1:$B$56,2,FALSE))","v":"No Response"}]
[null,"ID0432","2012-05-26T02:33:06",76600,76600,"USD",{"$f":"tblSalaries[[#This Row],[clean Salary (in local currency)]]*VLOOKUP(tblSalaries[[#This Row],[Currency]],tblXrate[],2,FALSE)","v":76600},{"$f":"IF($H$1=\"USD\",tblSalaries[[#This Row],[Salary in USD]],tblSalaries[[#This Row],[Salary in USD]]*VLOOKUP($H$1,USDtoUserChoice,2,FALSE))","v":628271.66800000006},"Analyst","Analyst","USA",{"$f":"VLOOKUP(tblSalaries[[#This Row],[Where do you work]],tblCountries[[Actual]:[Mapping]],2,FALSE)","v":"USA"},"2 to 3 hours per day",{"$f":"NA()","v":{"$error":"#N/A"}},{"$f":"IF(ISNA(VLOOKUP(tblSalaries[[#This Row],[Years of Experience]],vlookUpExp!$A$1:$B$56,2,FALSE)),\"No Response\",VLOOKUP(tblSalaries[[#This Row],[Years of Experience]],vlookUpExp!$A$1:$B$56,2,FALSE))","v":"No Response"}]
[null,"ID0433","2012-05-26T02:33:10","Â£65000",65000,"GBP",{"$f":"tblSalaries[[#This Row],[clean Salary (in local currency)]]*VLOOKUP(tblSalaries[[#This Row],[Currency]],tblXrate[],2,FALSE)","v":102451.58768437347},{"$f":"IF($H$1=\"USD\",tblSalaries[[#This Row],[Salary in USD]],tblSalaries[[#This Row],[Salary in USD]]*VLOOKUP($H$1,USDtoUserChoice,2,FALSE))","v":840305.87315547757},"Financial Controller","Controller","UK",{"$f":"VLOOKUP(tblSalaries[[#This Row],[Where do you work]],tblCountries[[Actual]:[Mapping]],2,FALSE)","v":"UK"},"2 to 3 hours per day",{"$f":"NA()","v":{"$error":"#N/A"}},{"$f":"IF(ISNA(VLOOKUP(tblSalaries[[#This Row],[Years of Experience]],vlookUpExp!$A$1:$B$56,2,FALSE)),\"No Response\",VLOOKUP(tblSalaries[[#This Row],[Years of Experience]],vlookUpExp!$A$1:$B$56,2,FALSE))","v":"No Response"}]
[null,"ID0434","2012-05-26T02:34:00","US $6,629.00",6629,"USD",{"$f":"tblSalaries[[#This Row],[clean Salary (in local currency)]]*VLOOKUP(tblSalaries[[#This Row],[Currency]],tblXrate[],2,FALSE)","v":6629},{"$f":"IF($H$1=\"USD\",tblSalaries[[#This Row],[Salary in USD]],tblSalaries[[#This Row],[Salary in USD]]*VLOOKUP($H$1,USDtoUserChoice,2,FALSE))","v":54370.925420000007},"Engineer","Engineer","Dominican Republic",{"$f":"VLOOKUP(tblSalaries[[#This Row],[Where do you work]],tblCountries[[Actual]:[Mapping]],2,FALSE)","v":"Dominican Republic"},"All the 8 hours baby, all the 8!",{"$f":"NA()","v":{"$error":"#N/A"}},{"$f":"IF(ISNA(VLOOKUP(tblSalaries[[#This Row],[Years of Experience]],vlookUpExp!$A$1:$B$56,2,FALSE)),\"No Response\",VLOOKUP(tblSalaries[[#This Row],[Years of Experience]],vlookUpExp!$A$1:$B$56,2,FALSE))","v":"No Response"}]
[null,"ID0435","2012-05-26T02:34:37",90000,90000,"USD",{"$f":"tblSalaries[[#This Row],[clean Salary (in local currency)]]*VLOOKUP(tblSalaries[[#This Row],[Currency]],tblXrate[],2,FALSE)","v":90000},{"$f":"IF($H$1=\"USD\",tblSalaries[[#This Row],[Salary in USD]],tblSalaries[[#This Row],[Salary in USD]]*VLOOKUP($H$1,USDtoUserChoice,2,FALSE))","v":738178.20000000007},"senior analyst","Analyst","USA",{"$f":"VLOOKUP(tblSalaries[[#This Row],[Where do you work]],tblCountries[[Actual]:[Mapping]],2,FALSE)","v":"USA"},"1 or 2 hours a day",{"$f":"NA()","v":{"$error":"#N/A"}},{"$f":"IF(ISNA(VLOOKUP(tblSalaries[[#This Row],[Years of Experience]],vlookUpExp!$A$1:$B$56,2,FALSE)),\"No Response\",VLOOKUP(tblSalaries[[#This Row],[Years of Experience]],vlookUpExp!$A$1:$B$56,2,FALSE))","v":"No Response"}]
[null,"ID0436","2012-05-26T02:35:10",8500,8500,"USD",{"$f":"tblSalaries[[#This Row],[clean Salary (in local currency)]]*VLOOKUP(tblSalaries[[#This Row],[Currency]],tblXrate[],2,FALSE)","v":8500},{"$f":"IF($H$1=\"USD\",tblSalaries[[#This Row],[Salary in USD]],tblSalaries[[#This Row],[Salary in USD]]*VLOOKUP($H$1,USDtoUserChoice,2,FALSE))","v":69716.83},"Assesor","Analyst","Colombia",{"$f":"VLOOKUP(tblSalaries[[#This Row],[Where do you work]],tblCountries[[Actual]:[Mapping]],2,FALSE)","v":"Colombia"},"1 or 2 hours a day",{"$f":"NA()","v":{"$error":"#N/A"}},{"$f":"IF(ISNA(VLOOKUP(tblSalaries[[#This Row],[Years of Experience]],vlookUpExp!$A$1:$B$56,2,FALSE)),\"No Response\",VLOOKUP(tblSalaries[[#This Row],[Years of Experience]],vlookUpExp!$A$1:$B$56,2,FALSE))","v":"No Response"}]
[null,"ID0437","2012-05-26T02:35:11",75000,75000,"USD",{"$f":"tblSalaries[[#This Row],[clean Salary (in local currency)]]*VLOOKUP(tblSalaries[[#This Row],[Currency]],tblXrate[],2,FALSE)","v":75000},{"$f":"IF($H$1=\"USD\",tblSalaries[[#This Row],[Salary in USD]],tblSalaries[[#This Row],[Salary in USD]]*VLOOKUP($H$1,USDtoUserChoice,2,FALSE))","v":615148.5},"Financial Analys","Analyst","USA",{"$f":"VLOOKUP(tblSalaries[[#This Row],[Where do you work]],tblCountries[[Actual]:[Mapping]],2,FALSE)","v":"USA"},"4 to 6 hours a day",{"$f":"NA()","v":{"$error":"#N/A"}},{"$f":"IF(ISNA(VLOOKUP(tblSalaries[[#This Row],[Years of Experience]],vlookUpExp!$A$1:$B$56,2,FALSE)),\"No Response\",VLOOKUP(tblSalaries[[#This Row],[Years of Experience]],vlookUpExp!$A$1:$B$56,2,FALSE))","v":"No Response"}]
[null,"ID0438","2012-05-26T02:37:50",72000,72000,"USD",{"$f":"tblSalaries[[#This Row],[clean Salary (in local currency)]]*VLOOKUP(tblSalaries[[#This Row],[Currency]],tblXrate[],2,FALSE)","v":72000},{"$f":"IF($H$1=\"USD\",tblSalaries[[#This Row],[Salary in USD]],tblSalaries[[#This Row],[Salary in USD]]*VLOOKUP($H$1,USDtoUserChoice,2,FALSE))","v":590542.56000000006},"Sr. Information Systems Analyst","Analyst","USA",{"$f":"VLOOKUP(tblSalaries[[#This Row],[Where do you work]],tblCountries[[Actual]:[Mapping]],2,FALSE)","v":"USA"},"2 to 3 hours per day",{"$f":"NA()","v":{"$error":"#N/A"}},{"$f":"IF(ISNA(VLOOKUP(tblSalaries[[#This Row],[Years of Experience]],vlookUpExp!$A$1:$B$56,2,FALSE)),\"No Response\",VLOOKUP(tblSalaries[[#This Row],[Years of Experience]],vlookUpExp!$A$1:$B$56,2,FALSE))","v":"No Response"}]
[null,"ID0439","2012-05-26T02:38:34",65000,65000,"USD",{"$f":"tblSalaries[[#This Row],[clean Salary (in local currency)]]*VLOOKUP(tblSalaries[[#This Row],[Currency]],tblXrate[],2,FALSE)","v":65000},{"$f":"IF($H$1=\"USD\",tblSalaries[[#This Row],[Salary in USD]],tblSalaries[[#This Row],[Salary in USD]]*VLOOKUP($H$1,USDtoUserChoice,2,FALSE))","v":533128.70000000007},"Senior Claims Analyst","Analyst","USA",{"$f":"VLOOKUP(tblSalaries[[#This Row],[Where do you work]],tblCountries[[Actual]:[Mapping]],2,FALSE)","v":"USA"},"4 to 6 hours a day",{"$f":"NA()","v":{"$error":"#N/A"}},{"$f":"IF(ISNA(VLOOKUP(tblSalaries[[#This Row],[Years of Experience]],vlookUpExp!$A$1:$B$56,2,FALSE)),\"No Response\",VLOOKUP(tblSalaries[[#This Row],[Years of Experience]],vlookUpExp!$A$1:$B$56,2,FALSE))","v":"No Response"}]
[null,"ID0440","2012-05-26T02:39:56",120000,120000,"USD",{"$f":"tblSalaries[[#This Row],[clean Salary (in local currency)]]*VLOOKUP(tblSalaries[[#This Row],[Currency]],tblXrate[],2,FALSE)","v":120000},{"$f":"IF($H$1=\"USD\",tblSalaries[[#This Row],[Salary in USD]],tblSalaries[[#This Row],[Salary in USD]]*VLOOKUP($H$1,USDtoUserChoice,2,FALSE))","v":984237.60000000009},"Director","CXO or Top Mgmt.","USA",{"$f":"VLOOKUP(tblSalaries[[#This Row],[Where do you work]],tblCountries[[Actual]:[Mapping]],2,FALSE)","v":"USA"},"1 or 2 hours a day",{"$f":"NA()","v":{"$error":"#N/A"}},{"$f":"IF(ISNA(VLOOKUP(tblSalaries[[#This Row],[Years of Experience]],vlookUpExp!$A$1:$B$56,2,FALSE)),\"No Response\",VLOOKUP(tblSalaries[[#This Row],[Years of Experience]],vlookUpExp!$A$1:$B$56,2,FALSE))","v":"No Response"}]
[null,"ID0441","2012-05-26T02:40:39","INR 40L",4000000,"INR",{"$f":"tblSalaries[[#This Row],[clean Salary (in local currency)]]*VLOOKUP(tblSalaries[[#This Row],[Currency]],tblXrate[],2,FALSE)","v":71231.666749770273},{"$f":"IF($H$1=\"USD\",tblSalaries[[#This Row],[Salary in USD]],tblSalaries[[#This Row],[Salary in USD]]*VLOOKUP($H$1,USDtoUserChoice,2,FALSE))","v":584240.70604828082},"Sr Mgr Finance","Accountant","India",{"$f":"VLOOKUP(tblSalaries[[#This Row],[Where do you work]],tblCountries[[Actual]:[Mapping]],2,FALSE)","v":"India"},"All the 8 hours baby, all the 8!",{"$f":"NA()","v":{"$error":"#N/A"}},{"$f":"IF(ISNA(VLOOKUP(tblSalaries[[#This Row],[Years of Experience]],vlookUpExp!$A$1:$B$56,2,FALSE)),\"No Response\",VLOOKUP(tblSalaries[[#This Row],[Years of Experience]],vlookUpExp!$A$1:$B$56,2,FALSE))","v":"No Response"}]
[null,"ID0442","2012-05-26T02:42:20","Rs. 300000",300000,"INR",{"$f":"tblSalaries[[#This Row],[clean Salary (in local currency)]]*VLOOKUP(tblSalaries[[#This Row],[Currency]],tblXrate[],2,FALSE)","v":5342.3750062327708},{"$f":"IF($H$1=\"USD\",tblSalaries[[#This Row],[Salary in USD]],tblSalaries[[#This Row],[Salary in USD]]*VLOOKUP($H$1,USDtoUserChoice,2,FALSE))","v":43818.052953621067},"Web Portal Manager","Manager","India",{"$f":"VLOOKUP(tblSalaries[[#This Row],[Where do you work]],tblCountries[[Actual]:[Mapping]],2,FALSE)","v":"India"},"4 to 6 hours a day",{"$f":"NA()","v":{"$error":"#N/A"}},{"$f":"IF(ISNA(VLOOKUP(tblSalaries[[#This Row],[Years of Experience]],vlookUpExp!$A$1:$B$56,2,FALSE)),\"No Response\",VLOOKUP(tblSalaries[[#This Row],[Years of Experience]],vlookUpExp!$A$1:$B$56,2,FALSE))","v":"No Response"}]
[null,"ID0443","2012-05-26T02:43:21",1100000,1100000,"INR",{"$f":"tblSalaries[[#This Row],[clean Salary (in local currency)]]*VLOOKUP(tblSalaries[[#This Row],[Currency]],tblXrate[],2,FALSE)","v":19588.708356186824},{"$f":"IF($H$1=\"USD\",tblSalaries[[#This Row],[Salary in USD]],tblSalaries[[#This Row],[Salary in USD]]*VLOOKUP($H$1,USDtoUserChoice,2,FALSE))","v":160666.19416327722},"manager - MIS & operations planning","Manager","India",{"$f":"VLOOKUP(tblSalaries[[#This Row],[Where do you work]],tblCountries[[Actual]:[Mapping]],2,FALSE)","v":"India"},"4 to 6 hours a day",{"$f":"NA()","v":{"$error":"#N/A"}},{"$f":"IF(ISNA(VLOOKUP(tblSalaries[[#This Row],[Years of Experience]],vlookUpExp!$A$1:$B$56,2,FALSE)),\"No Response\",VLOOKUP(tblSalaries[[#This Row],[Years of Experience]],vlookUpExp!$A$1:$B$56,2,FALSE))","v":"No Response"}]
[null,"ID0444","2012-05-26T02:46:18",80000,80000,"USD",{"$f":"tblSalaries[[#This Row],[clean Salary (in local currency)]]*VLOOKUP(tblSalaries[[#This Row],[Currency]],tblXrate[],2,FALSE)","v":80000},{"$f":"IF($H$1=\"USD\",tblSalaries[[#This Row],[Salary in USD]],tblSalaries[[#This Row],[Salary in USD]]*VLOOKUP($H$1,USDtoUserChoice,2,FALSE))","v":656158.4},"web analyst","Analyst","USA",{"$f":"VLOOKUP(tblSalaries[[#This Row],[Where do you work]],tblCountries[[Actual]:[Mapping]],2,FALSE)","v":"USA"},"4 to 6 hours a day",{"$f":"NA()","v":{"$error":"#N/A"}},{"$f":"IF(ISNA(VLOOKUP(tblSalaries[[#This Row],[Years of Experience]],vlookUpExp!$A$1:$B$56,2,FALSE)),\"No Response\",VLOOKUP(tblSalaries[[#This Row],[Years of Experience]],vlookUpExp!$A$1:$B$56,2,FALSE))","v":"No Response"}]
[null,"ID0445","2012-05-26T02:46:56","INR 30,00,000",3000000,"INR",{"$f":"tblSalaries[[#This Row],[clean Salary (in local currency)]]*VLOOKUP(tblSalaries[[#This Row],[Currency]],tblXrate[],2,FALSE)","v":53423.750062327701},{"$f":"IF($H$1=\"USD\",tblSalaries[[#This Row],[Salary in USD]],tblSalaries[[#This Row],[Salary in USD]]*VLOOKUP($H$1,USDtoUserChoice,2,FALSE))","v":438180.52953621058},"Management Consultant","Manager","India",{"$f":"VLOOKUP(tblSalaries[[#This Row],[Where do you work]],tblCountries[[Actual]:[Mapping]],2,FALSE)","v":"India"},"4 to 6 hours a day",{"$f":"NA()","v":{"$error":"#N/A"}},{"$f":"IF(ISNA(VLOOKUP(tblSalaries[[#This Row],[Years of Experience]],vlookUpExp!$A$1:$B$56,2,FALSE)),\"No Response\",VLOOKUP(tblSalaries[[#This Row],[Years of Experience]],vlookUpExp!$A$1:$B$56,2,FALSE))","v":"No Response"}]
[null,"ID0446","2012-05-26T02:48:32",110000,110000,"CAD",{"$f":"tblSalaries[[#This Row],[clean Salary (in local currency)]]*VLOOKUP(tblSalaries[[#This Row],[Currency]],tblXrate[],2,FALSE)","v":108169.76753333595},{"$f":"IF($H$1=\"USD\",tblSalaries[[#This Row],[Salary in USD]],tblSalaries[[#This Row],[Salary in USD]]*VLOOKUP($H$1,USDtoUserChoice,2,FALSE))","v":887206.26991307084},"Continuos improvment","Controller","Canad",{"$f":"VLOOKUP(tblSalaries[[#This Row],[Where do you work]],tblCountries[[Actual]:[Mapping]],2,FALSE)","v":"Canada"},"2 to 3 hours per day",{"$f":"NA()","v":{"$error":"#N/A"}},{"$f":"IF(ISNA(VLOOKUP(tblSalaries[[#This Row],[Years of Experience]],vlookUpExp!$A$1:$B$56,2,FALSE)),\"No Response\",VLOOKUP(tblSalaries[[#This Row],[Years of Experience]],vlookUpExp!$A$1:$B$56,2,FALSE))","v":"No Response"}]
[null,"ID0447","2012-05-26T02:49:24",51000,51000,"USD",{"$f":"tblSalaries[[#This Row],[clean Salary (in local currency)]]*VLOOKUP(tblSalaries[[#This Row],[Currency]],tblXrate[],2,FALSE)","v":51000},{"$f":"IF($H$1=\"USD\",tblSalaries[[#This Row],[Salary in USD]],tblSalaries[[#This Row],[Salary in USD]]*VLOOKUP($H$1,USDtoUserChoice,2,FALSE))","v":418300.98000000004},"Direct marketing manager","Manager","USA",{"$f":"VLOOKUP(tblSalaries[[#This Row],[Where do you work]],tblCountries[[Actual]:[Mapping]],2,FALSE)","v":"USA"},"2 to 3 hours per day",{"$f":"NA()","v":{"$error":"#N/A"}},{"$f":"IF(ISNA(VLOOKUP(tblSalaries[[#This Row],[Years of Experience]],vlookUpExp!$A$1:$B$56,2,FALSE)),\"No Response\",VLOOKUP(tblSalaries[[#This Row],[Years of Experience]],vlookUpExp!$A$1:$B$56,2,FALSE))","v":"No Response"}]
[null,"ID0448","2012-05-26T02:50:16","5000 $",5000,"USD",{"$f":"tblSalaries[[#This Row],[clean Salary (in local currency)]]*VLOOKUP(tblSalaries[[#This Row],[Currency]],tblXrate[],2,FALSE)","v":5000},{"$f":"IF($H$1=\"USD\",tblSalaries[[#This Row],[Salary in USD]],tblSalaries[[#This Row],[Salary in USD]]*VLOOKUP($H$1,USDtoUserChoice,2,FALSE))","v":41009.9},"mis","Reporting","India",{"$f":"VLOOKUP(tblSalaries[[#This Row],[Where do you work]],tblCountries[[Actual]:[Mapping]],2,FALSE)","v":"India"},"4 to 6 hours a day",{"$f":"NA()","v":{"$error":"#N/A"}},{"$f":"IF(ISNA(VLOOKUP(tblSalaries[[#This Row],[Years of Experience]],vlookUpExp!$A$1:$B$56,2,FALSE)),\"No Response\",VLOOKUP(tblSalaries[[#This Row],[Years of Experience]],vlookUpExp!$A$1:$B$56,2,FALSE))","v":"No Response"}]
[null,"ID0449","2012-05-26T02:53:29",74000,74000,"USD",{"$f":"tblSalaries[[#This Row],[clean Salary (in local currency)]]*VLOOKUP(tblSalaries[[#This Row],[Currency]],tblXrate[],2,FALSE)","v":74000},{"$f":"IF($H$1=\"USD\",tblSalaries[[#This Row],[Salary in USD]],tblSalaries[[#This Row],[Salary in USD]]*VLOOKUP($H$1,USDtoUserChoice,2,FALSE))","v":606946.52},"Engineer","Engineer","USA",{"$f":"VLOOKUP(tblSalaries[[#This Row],[Where do you work]],tblCountries[[Actual]:[Mapping]],2,FALSE)","v":"USA"},"4 to 6 hours a day",{"$f":"NA()","v":{"$error":"#N/A"}},{"$f":"IF(ISNA(VLOOKUP(tblSalaries[[#This Row],[Years of Experience]],vlookUpExp!$A$1:$B$56,2,FALSE)),\"No Response\",VLOOKUP(tblSalaries[[#This Row],[Years of Experience]],vlookUpExp!$A$1:$B$56,2,FALSE))","v":"No Response"}]
[null,"ID0450","2012-05-26T02:53:48","Â£60000",60000,"GBP",{"$f":"tblSalaries[[#This Row],[clean Salary (in local currency)]]*VLOOKUP(tblSalaries[[#This Row],[Currency]],tblXrate[],2,FALSE)","v":94570.696324037053},{"$f":"IF($H$1=\"USD\",tblSalaries[[#This Row],[Salary in USD]],tblSalaries[[#This Row],[Salary in USD]]*VLOOKUP($H$1,USDtoUserChoice,2,FALSE))","v":775666.95983582549},"Excel Consultant","Consultant","UK",{"$f":"VLOOKUP(tblSalaries[[#This Row],[Where do you work]],tblCountries[[Actual]:[Mapping]],2,FALSE)","v":"UK"},"4 to 6 hours a day",{"$f":"NA()","v":{"$error":"#N/A"}},{"$f":"IF(ISNA(VLOOKUP(tblSalaries[[#This Row],[Years of Experience]],vlookUpExp!$A$1:$B$56,2,FALSE)),\"No Response\",VLOOKUP(tblSalaries[[#This Row],[Years of Experience]],vlookUpExp!$A$1:$B$56,2,FALSE))","v":"No Response"}]
[null,"ID0451","2012-05-26T02:55:27",50000,50000,"USD",{"$f":"tblSalaries[[#This Row],[clean Salary (in local currency)]]*VLOOKUP(tblSalaries[[#This Row],[Currency]],tblXrate[],2,FALSE)","v":50000},{"$f":"IF($H$1=\"USD\",tblSalaries[[#This Row],[Salary in USD]],tblSalaries[[#This Row],[Salary in USD]]*VLOOKUP($H$1,USDtoUserChoice,2,FALSE))","v":410099.00000000006},"Wine Analyst","Analyst","USA",{"$f":"VLOOKUP(tblSalaries[[#This Row],[Where do you work]],tblCountries[[Actual]:[Mapping]],2,FALSE)","v":"USA"},"4 to 6 hours a day",{"$f":"NA()","v":{"$error":"#N/A"}},{"$f":"IF(ISNA(VLOOKUP(tblSalaries[[#This Row],[Years of Experience]],vlookUpExp!$A$1:$B$56,2,FALSE)),\"No Response\",VLOOKUP(tblSalaries[[#This Row],[Years of Experience]],vlookUpExp!$A$1:$B$56,2,FALSE))","v":"No Response"}]
[null,"ID0452","2012-05-26T02:55:29","500000 rupees",500000,"INR",{"$f":"tblSalaries[[#This Row],[clean Salary (in local currency)]]*VLOOKUP(tblSalaries[[#This Row],[Currency]],tblXrate[],2,FALSE)","v":8903.9583437212841},{"$f":"IF($H$1=\"USD\",tblSalaries[[#This Row],[Salary in USD]],tblSalaries[[#This Row],[Salary in USD]]*VLOOKUP($H$1,USDtoUserChoice,2,FALSE))","v":73030.088256035102},"Business Analyst","Analyst","India",{"$f":"VLOOKUP(tblSalaries[[#This Row],[Where do you work]],tblCountries[[Actual]:[Mapping]],2,FALSE)","v":"India"},"4 to 6 hours a day",{"$f":"NA()","v":{"$error":"#N/A"}},{"$f":"IF(ISNA(VLOOKUP(tblSalaries[[#This Row],[Years of Experience]],vlookUpExp!$A$1:$B$56,2,FALSE)),\"No Response\",VLOOKUP(tblSalaries[[#This Row],[Years of Experience]],vlookUpExp!$A$1:$B$56,2,FALSE))","v":"No Response"}]
[null,"ID0453","2012-05-26T02:57:32",78000,78000,"USD",{"$f":"tblSalaries[[#This Row],[clean Salary (in local currency)]]*VLOOKUP(tblSalaries[[#This Row],[Currency]],tblXrate[],2,FALSE)","v":78000},{"$f":"IF($H$1=\"USD\",tblSalaries[[#This Row],[Salary in USD]],tblSalaries[[#This Row],[Salary in USD]]*VLOOKUP($H$1,USDtoUserChoice,2,FALSE))","v":639754.44000000006},"FinanceManager","Manager","Somalia",{"$f":"VLOOKUP(tblSalaries[[#This Row],[Where do you work]],tblCountries[[Actual]:[Mapping]],2,FALSE)","v":"Somalia"},"4 to 6 hours a day",{"$f":"NA()","v":{"$error":"#N/A"}},{"$f":"IF(ISNA(VLOOKUP(tblSalaries[[#This Row],[Years of Experience]],vlookUpExp!$A$1:$B$56,2,FALSE)),\"No Response\",VLOOKUP(tblSalaries[[#This Row],[Years of Experience]],vlookUpExp!$A$1:$B$56,2,FALSE))","v":"No Response"}]
[null,"ID0454","2012-05-26T02:57:47",900000,900000,"INR",{"$f":"tblSalaries[[#This Row],[clean Salary (in local currency)]]*VLOOKUP(tblSalaries[[#This Row],[Currency]],tblXrate[],2,FALSE)","v":16027.125018698311},{"$f":"IF($H$1=\"USD\",tblSalaries[[#This Row],[Salary in USD]],tblSalaries[[#This Row],[Salary in USD]]*VLOOKUP($H$1,USDtoUserChoice,2,FALSE))","v":131454.15886086319},"Regional Manager","Manager","India",{"$f":"VLOOKUP(tblSalaries[[#This Row],[Where do you work]],tblCountries[[Actual]:[Mapping]],2,FALSE)","v":"India"},"1 or 2 hours a day",{"$f":"NA()","v":{"$error":"#N/A"}},{"$f":"IF(ISNA(VLOOKUP(tblSalaries[[#This Row],[Years of Experience]],vlookUpExp!$A$1:$B$56,2,FALSE)),\"No Response\",VLOOKUP(tblSalaries[[#This Row],[Years of Experience]],vlookUpExp!$A$1:$B$56,2,FALSE))","v":"No Response"}]
[null,"ID0455","2012-05-26T03:01:31","7500 USD",7500,"USD",{"$f":"tblSalaries[[#This Row],[clean Salary (in local currency)]]*VLOOKUP(tblSalaries[[#This Row],[Currency]],tblXrate[],2,FALSE)","v":7500},{"$f":"IF($H$1=\"USD\",tblSalaries[[#This Row],[Salary in USD]],tblSalaries[[#This Row],[Salary in USD]]*VLOOKUP($H$1,USDtoUserChoice,2,FALSE))","v":61514.850000000006},"HR reporting analyst","Analyst","Romania",{"$f":"VLOOKUP(tblSalaries[[#This Row],[Where do you work]],tblCountries[[Actual]:[Mapping]],2,FALSE)","v":"Romania"},"All the 8 hours baby, all the 8!",{"$f":"NA()","v":{"$error":"#N/A"}},{"$f":"IF(ISNA(VLOOKUP(tblSalaries[[#This Row],[Years of Experience]],vlookUpExp!$A$1:$B$56,2,FALSE)),\"No Response\",VLOOKUP(tblSalaries[[#This Row],[Years of Experience]],vlookUpExp!$A$1:$B$56,2,FALSE))","v":"No Response"}]
[null,"ID0456","2012-05-26T03:01:42",60000,60000,"USD",{"$f":"tblSalaries[[#This Row],[clean Salary (in local currency)]]*VLOOKUP(tblSalaries[[#This Row],[Currency]],tblXrate[],2,FALSE)","v":60000},{"$f":"IF($H$1=\"USD\",tblSalaries[[#This Row],[Salary in USD]],tblSalaries[[#This Row],[Salary in USD]]*VLOOKUP($H$1,USDtoUserChoice,2,FALSE))","v":492118.80000000005},"Finalcial Reporting Analyst","Analyst","USA",{"$f":"VLOOKUP(tblSalaries[[#This Row],[Where do you work]],tblCountries[[Actual]:[Mapping]],2,FALSE)","v":"USA"},"All the 8 hours baby, all the 8!",{"$f":"NA()","v":{"$error":"#N/A"}},{"$f":"IF(ISNA(VLOOKUP(tblSalaries[[#This Row],[Years of Experience]],vlookUpExp!$A$1:$B$56,2,FALSE)),\"No Response\",VLOOKUP(tblSalaries[[#This Row],[Years of Experience]],vlookUpExp!$A$1:$B$56,2,FALSE))","v":"No Response"}]
[null,"ID0457","2012-05-26T03:02:42","800000 rupees",800000,"INR",{"$f":"tblSalaries[[#This Row],[clean Salary (in local currency)]]*VLOOKUP(tblSalaries[[#This Row],[Currency]],tblXrate[],2,FALSE)","v":14246.333349954055},{"$f":"IF($H$1=\"USD\",tblSalaries[[#This Row],[Salary in USD]],tblSalaries[[#This Row],[Salary in USD]]*VLOOKUP($H$1,USDtoUserChoice,2,FALSE))","v":116848.14120965617},"Partner","CXO or Top Mgmt.","India",{"$f":"VLOOKUP(tblSalaries[[#This Row],[Where do you work]],tblCountries[[Actual]:[Mapping]],2,FALSE)","v":"India"},"All the 8 hours baby, all the 8!",{"$f":"NA()","v":{"$error":"#N/A"}},{"$f":"IF(ISNA(VLOOKUP(tblSalaries[[#This Row],[Years of Experience]],vlookUpExp!$A$1:$B$56,2,FALSE)),\"No Response\",VLOOKUP(tblSalaries[[#This Row],[Years of Experience]],vlookUpExp!$A$1:$B$56,2,FALSE))","v":"No Response"}]
[null,"ID0458","2012-05-26T03:03:09",80000,80000,"USD",{"$f":"tblSalaries[[#This Row],[clean Salary (in local currency)]]*VLOOKUP(tblSalaries[[#This Row],[Currency]],tblXrate[],2,FALSE)","v":80000},{"$f":"IF($H$1=\"USD\",tblSalaries[[#This Row],[Salary in USD]],tblSalaries[[#This Row],[Salary in USD]]*VLOOKUP($H$1,USDtoUserChoice,2,FALSE))","v":656158.4},"operations tech","Manager","USA",{"$f":"VLOOKUP(tblSalaries[[#This Row],[Where do you work]],tblCountries[[Actual]:[Mapping]],2,FALSE)","v":"USA"},"1 or 2 hours a day",{"$f":"NA()","v":{"$error":"#N/A"}},{"$f":"IF(ISNA(VLOOKUP(tblSalaries[[#This Row],[Years of Experience]],vlookUpExp!$A$1:$B$56,2,FALSE)),\"No Response\",VLOOKUP(tblSalaries[[#This Row],[Years of Experience]],vlookUpExp!$A$1:$B$56,2,FALSE))","v":"No Response"}]
[null,"ID0459","2012-05-26T03:03:29","Â£38000",38000,"GBP",{"$f":"tblSalaries[[#This Row],[clean Salary (in local currency)]]*VLOOKUP(tblSalaries[[#This Row],[Currency]],tblXrate[],2,FALSE)","v":59894.774338556796},{"$f":"IF($H$1=\"USD\",tblSalaries[[#This Row],[Salary in USD]],tblSalaries[[#This Row],[Salary in USD]]*VLOOKUP($H$1,USDtoUserChoice,2,FALSE))","v":491255.74122935609},"Commercial Accountant","Accountant","UK",{"$f":"VLOOKUP(tblSalaries[[#This Row],[Where do you work]],tblCountries[[Actual]:[Mapping]],2,FALSE)","v":"UK"},"4 to 6 hours a day",{"$f":"NA()","v":{"$error":"#N/A"}},{"$f":"IF(ISNA(VLOOKUP(tblSalaries[[#This Row],[Years of Experience]],vlookUpExp!$A$1:$B$56,2,FALSE)),\"No Response\",VLOOKUP(tblSalaries[[#This Row],[Years of Experience]],vlookUpExp!$A$1:$B$56,2,FALSE))","v":"No Response"}]
[null,"ID0460","2012-05-26T03:04:06","52,000 Cdn",52000,"CAD",{"$f":"tblSalaries[[#This Row],[clean Salary (in local currency)]]*VLOOKUP(tblSalaries[[#This Row],[Currency]],tblXrate[],2,FALSE)","v":51134.799197576998},{"$f":"IF($H$1=\"USD\",tblSalaries[[#This Row],[Salary in USD]],tblSalaries[[#This Row],[Salary in USD]]*VLOOKUP($H$1,USDtoUserChoice,2,FALSE))","v":419406.6003225426},"Office Manager","Manager","Canada",{"$f":"VLOOKUP(tblSalaries[[#This Row],[Where do you work]],tblCountries[[Actual]:[Mapping]],2,FALSE)","v":"Canada"},"4 to 6 hours a day",{"$f":"NA()","v":{"$error":"#N/A"}},{"$f":"IF(ISNA(VLOOKUP(tblSalaries[[#This Row],[Years of Experience]],vlookUpExp!$A$1:$B$56,2,FALSE)),\"No Response\",VLOOKUP(tblSalaries[[#This Row],[Years of Experience]],vlookUpExp!$A$1:$B$56,2,FALSE))","v":"No Response"}]
[null,"ID0461","2012-05-26T03:06:16",125000,125000,"USD",{"$f":"tblSalaries[[#This Row],[clean Salary (in local currency)]]*VLOOKUP(tblSalaries[[#This Row],[Currency]],tblXrate[],2,FALSE)","v":125000},{"$f":"IF($H$1=\"USD\",tblSalaries[[#This Row],[Salary in USD]],tblSalaries[[#This Row],[Salary in USD]]*VLOOKUP($H$1,USDtoUserChoice,2,FALSE))","v":1025247.5000000001},"Prod Mgr","Manager","USA",{"$f":"VLOOKUP(tblSalaries[[#This Row],[Where do you work]],tblCountries[[Actual]:[Mapping]],2,FALSE)","v":"USA"},"2 to 3 hours per day",{"$f":"NA()","v":{"$error":"#N/A"}},{"$f":"IF(ISNA(VLOOKUP(tblSalaries[[#This Row],[Years of Experience]],vlookUpExp!$A$1:$B$56,2,FALSE)),\"No Response\",VLOOKUP(tblSalaries[[#This Row],[Years of Experience]],vlookUpExp!$A$1:$B$56,2,FALSE))","v":"No Response"}]
[null,"ID0462","2012-05-26T03:06:37",52000,52000,"USD",{"$f":"tblSalaries[[#This Row],[clean Salary (in local currency)]]*VLOOKUP(tblSalaries[[#This Row],[Currency]],tblXrate[],2,FALSE)","v":52000},{"$f":"IF($H$1=\"USD\",tblSalaries[[#This Row],[Salary in USD]],tblSalaries[[#This Row],[Salary in USD]]*VLOOKUP($H$1,USDtoUserChoice,2,FALSE))","v":426502.96},"Graphics/Web Document Designer","Analyst","USA",{"$f":"VLOOKUP(tblSalaries[[#This Row],[Where do you work]],tblCountries[[Actual]:[Mapping]],2,FALSE)","v":"USA"},"2 to 3 hours per day",{"$f":"NA()","v":{"$error":"#N/A"}},{"$f":"IF(ISNA(VLOOKUP(tblSalaries[[#This Row],[Years of Experience]],vlookUpExp!$A$1:$B$56,2,FALSE)),\"No Response\",VLOOKUP(tblSalaries[[#This Row],[Years of Experience]],vlookUpExp!$A$1:$B$56,2,FALSE))","v":"No Response"}]
[null,"ID0463","2012-05-26T03:07:46",45000,45000,"USD",{"$f":"tblSalaries[[#This Row],[clean Salary (in local currency)]]*VLOOKUP(tblSalaries[[#This Row],[Currency]],tblXrate[],2,FALSE)","v":45000},{"$f":"IF($H$1=\"USD\",tblSalaries[[#This Row],[Salary in USD]],tblSalaries[[#This Row],[Salary in USD]]*VLOOKUP($H$1,USDtoUserChoice,2,FALSE))","v":369089.10000000003},"Analyst","Analyst","USA",{"$f":"VLOOKUP(tblSalaries[[#This Row],[Where do you work]],tblCountries[[Actual]:[Mapping]],2,FALSE)","v":"USA"},"4 to 6 hours a day",{"$f":"NA()","v":{"$error":"#N/A"}},{"$f":"IF(ISNA(VLOOKUP(tblSalaries[[#This Row],[Years of Experience]],vlookUpExp!$A$1:$B$56,2,FALSE)),\"No Response\",VLOOKUP(tblSalaries[[#This Row],[Years of Experience]],vlookUpExp!$A$1:$B$56,2,FALSE))","v":"No Response"}]
[null,"ID0464","2012-05-26T03:08:28",25000,25000,"GBP",{"$f":"tblSalaries[[#This Row],[clean Salary (in local currency)]]*VLOOKUP(tblSalaries[[#This Row],[Currency]],tblXrate[],2,FALSE)","v":39404.456801682099},{"$f":"IF($H$1=\"USD\",tblSalaries[[#This Row],[Salary in USD]],tblSalaries[[#This Row],[Salary in USD]]*VLOOKUP($H$1,USDtoUserChoice,2,FALSE))","v":323194.5665982606},"Analyst","Analyst","UK",{"$f":"VLOOKUP(tblSalaries[[#This Row],[Where do you work]],tblCountries[[Actual]:[Mapping]],2,FALSE)","v":"UK"},"4 to 6 hours a day",{"$f":"NA()","v":{"$error":"#N/A"}},{"$f":"IF(ISNA(VLOOKUP(tblSalaries[[#This Row],[Years of Experience]],vlookUpExp!$A$1:$B$56,2,FALSE)),\"No Response\",VLOOKUP(tblSalaries[[#This Row],[Years of Experience]],vlookUpExp!$A$1:$B$56,2,FALSE))","v":"No Response"}]
[null,"ID0465","2012-05-26T03:09:43",60000,60000,"USD",{"$f":"tblSalaries[[#This Row],[clean Salary (in local currency)]]*VLOOKUP(tblSalaries[[#This Row],[Currency]],tblXrate[],2,FALSE)","v":60000},{"$f":"IF($H$1=\"USD\",tblSalaries[[#This Row],[Salary in USD]],tblSalaries[[#This Row],[Salary in USD]]*VLOOKUP($H$1,USDtoUserChoice,2,FALSE))","v":492118.80000000005},"Business intelligence manager","Manager","USA",{"$f":"VLOOKUP(tblSalaries[[#This Row],[Where do you work]],tblCountries[[Actual]:[Mapping]],2,FALSE)","v":"USA"},"All the 8 hours baby, all the 8!",{"$f":"NA()","v":{"$error":"#N/A"}},{"$f":"IF(ISNA(VLOOKUP(tblSalaries[[#This Row],[Years of Experience]],vlookUpExp!$A$1:$B$56,2,FALSE)),\"No Response\",VLOOKUP(tblSalaries[[#This Row],[Years of Experience]],vlookUpExp!$A$1:$B$56,2,FALSE))","v":"No Response"}]
[null,"ID0466","2012-05-26T03:09:49","CDN $70,000",70000,"CAD",{"$f":"tblSalaries[[#This Row],[clean Salary (in local currency)]]*VLOOKUP(tblSalaries[[#This Row],[Currency]],tblXrate[],2,FALSE)","v":68835.306612122877},{"$f":"IF($H$1=\"USD\",tblSalaries[[#This Row],[Salary in USD]],tblSalaries[[#This Row],[Salary in USD]]*VLOOKUP($H$1,USDtoUserChoice,2,FALSE))","v":564585.80812649964},"Program Manager","Manager","Canada",{"$f":"VLOOKUP(tblSalaries[[#This Row],[Where do you work]],tblCountries[[Actual]:[Mapping]],2,FALSE)","v":"Canada"},"1 or 2 hours a day",{"$f":"NA()","v":{"$error":"#N/A"}},{"$f":"IF(ISNA(VLOOKUP(tblSalaries[[#This Row],[Years of Experience]],vlookUpExp!$A$1:$B$56,2,FALSE)),\"No Response\",VLOOKUP(tblSalaries[[#This Row],[Years of Experience]],vlookUpExp!$A$1:$B$56,2,FALSE))","v":"No Response"}]
[null,"ID0467","2012-05-26T03:11:21","5250 $",5250,"USD",{"$f":"tblSalaries[[#This Row],[clean Salary (in local currency)]]*VLOOKUP(tblSalaries[[#This Row],[Currency]],tblXrate[],2,FALSE)","v":5250},{"$f":"IF($H$1=\"USD\",tblSalaries[[#This Row],[Salary in USD]],tblSalaries[[#This Row],[Salary in USD]]*VLOOKUP($H$1,USDtoUserChoice,2,FALSE))","v":43060.395000000004},"Treasure Specialist","Specialist","Republic of Georgia",{"$f":"VLOOKUP(tblSalaries[[#This Row],[Where do you work]],tblCountries[[Actual]:[Mapping]],2,FALSE)","v":"Republic of Georgia"},"4 to 6 hours a day",{"$f":"NA()","v":{"$error":"#N/A"}},{"$f":"IF(ISNA(VLOOKUP(tblSalaries[[#This Row],[Years of Experience]],vlookUpExp!$A$1:$B$56,2,FALSE)),\"No Response\",VLOOKUP(tblSalaries[[#This Row],[Years of Experience]],vlookUpExp!$A$1:$B$56,2,FALSE))","v":"No Response"}]
[null,"ID0468","2012-05-26T03:11:44",87000,87000,"CAD",{"$f":"tblSalaries[[#This Row],[clean Salary (in local currency)]]*VLOOKUP(tblSalaries[[#This Row],[Currency]],tblXrate[],2,FALSE)","v":85552.452503638444},{"$f":"IF($H$1=\"USD\",tblSalaries[[#This Row],[Salary in USD]],tblSalaries[[#This Row],[Salary in USD]]*VLOOKUP($H$1,USDtoUserChoice,2,FALSE))","v":701699.50438579253},"Business Manager","Manager","Canada",{"$f":"VLOOKUP(tblSalaries[[#This Row],[Where do you work]],tblCountries[[Actual]:[Mapping]],2,FALSE)","v":"Canada"},"4 to 6 hours a day",{"$f":"NA()","v":{"$error":"#N/A"}},{"$f":"IF(ISNA(VLOOKUP(tblSalaries[[#This Row],[Years of Experience]],vlookUpExp!$A$1:$B$56,2,FALSE)),\"No Response\",VLOOKUP(tblSalaries[[#This Row],[Years of Experience]],vlookUpExp!$A$1:$B$56,2,FALSE))","v":"No Response"}]
[null,"ID0469","2012-05-26T03:13:13",125000,125000,"INR",{"$f":"tblSalaries[[#This Row],[clean Salary (in local currency)]]*VLOOKUP(tblSalaries[[#This Row],[Currency]],tblXrate[],2,FALSE)","v":2225.989585930321},{"$f":"IF($H$1=\"USD\",tblSalaries[[#This Row],[Salary in USD]],tblSalaries[[#This Row],[Salary in USD]]*VLOOKUP($H$1,USDtoUserChoice,2,FALSE))","v":18257.522064008775},"clerk","Analyst","India",{"$f":"VLOOKUP(tblSalaries[[#This Row],[Where do you work]],tblCountries[[Actual]:[Mapping]],2,FALSE)","v":"India"},"4 to 6 hours a day",{"$f":"NA()","v":{"$error":"#N/A"}},{"$f":"IF(ISNA(VLOOKUP(tblSalaries[[#This Row],[Years of Experience]],vlookUpExp!$A$1:$B$56,2,FALSE)),\"No Response\",VLOOKUP(tblSalaries[[#This Row],[Years of Experience]],vlookUpExp!$A$1:$B$56,2,FALSE))","v":"No Response"}]
[null,"ID0470","2012-05-26T03:14:44",150000,150000,"USD",{"$f":"tblSalaries[[#This Row],[clean Salary (in local currency)]]*VLOOKUP(tblSalaries[[#This Row],[Currency]],tblXrate[],2,FALSE)","v":150000},{"$f":"IF($H$1=\"USD\",tblSalaries[[#This Row],[Salary in USD]],tblSalaries[[#This Row],[Salary in USD]]*VLOOKUP($H$1,USDtoUserChoice,2,FALSE))","v":1230297},"CFO","CXO or Top Mgmt.","USA",{"$f":"VLOOKUP(tblSalaries[[#This Row],[Where do you work]],tblCountries[[Actual]:[Mapping]],2,FALSE)","v":"USA"},"2 to 3 hours per day",{"$f":"NA()","v":{"$error":"#N/A"}},{"$f":"IF(ISNA(VLOOKUP(tblSalaries[[#This Row],[Years of Experience]],vlookUpExp!$A$1:$B$56,2,FALSE)),\"No Response\",VLOOKUP(tblSalaries[[#This Row],[Years of Experience]],vlookUpExp!$A$1:$B$56,2,FALSE))","v":"No Response"}]
[null,"ID0471","2012-05-26T03:15:01",50000,50000,"USD",{"$f":"tblSalaries[[#This Row],[clean Salary (in local currency)]]*VLOOKUP(tblSalaries[[#This Row],[Currency]],tblXrate[],2,FALSE)","v":50000},{"$f":"IF($H$1=\"USD\",tblSalaries[[#This Row],[Salary in USD]],tblSalaries[[#This Row],[Salary in USD]]*VLOOKUP($H$1,USDtoUserChoice,2,FALSE))","v":410099.00000000006},"Researcher & Data Analyst","Analyst","USA",{"$f":"VLOOKUP(tblSalaries[[#This Row],[Where do you work]],tblCountries[[Actual]:[Mapping]],2,FALSE)","v":"USA"},"4 to 6 hours a day",{"$f":"NA()","v":{"$error":"#N/A"}},{"$f":"IF(ISNA(VLOOKUP(tblSalaries[[#This Row],[Years of Experience]],vlookUpExp!$A$1:$B$56,2,FALSE)),\"No Response\",VLOOKUP(tblSalaries[[#This Row],[Years of Experience]],vlookUpExp!$A$1:$B$56,2,FALSE))","v":"No Response"}]
[null,"ID0472","2012-05-26T03:15:04",70000,70000,"USD",{"$f":"tblSalaries[[#This Row],[clean Salary (in local currency)]]*VLOOKUP(tblSalaries[[#This Row],[Currency]],tblXrate[],2,FALSE)","v":70000},{"$f":"IF($H$1=\"USD\",tblSalaries[[#This Row],[Salary in USD]],tblSalaries[[#This Row],[Salary in USD]]*VLOOKUP($H$1,USDtoUserChoice,2,FALSE))","v":574138.60000000009},"Analyst","Analyst","USA",{"$f":"VLOOKUP(tblSalaries[[#This Row],[Where do you work]],tblCountries[[Actual]:[Mapping]],2,FALSE)","v":"USA"},"4 to 6 hours a day",{"$f":"NA()","v":{"$error":"#N/A"}},{"$f":"IF(ISNA(VLOOKUP(tblSalaries[[#This Row],[Years of Experience]],vlookUpExp!$A$1:$B$56,2,FALSE)),\"No Response\",VLOOKUP(tblSalaries[[#This Row],[Years of Experience]],vlookUpExp!$A$1:$B$56,2,FALSE))","v":"No Response"}]
[null,"ID0473","2012-05-26T03:15:30","Â£28500",28500,"GBP",{"$f":"tblSalaries[[#This Row],[clean Salary (in local currency)]]*VLOOKUP(tblSalaries[[#This Row],[Currency]],tblXrate[],2,FALSE)","v":44921.080753917595},{"$f":"IF($H$1=\"USD\",tblSalaries[[#This Row],[Salary in USD]],tblSalaries[[#This Row],[Salary in USD]]*VLOOKUP($H$1,USDtoUserChoice,2,FALSE))","v":368441.80592201708},"Data Quality & Analysis Manager","Manager","UK",{"$f":"VLOOKUP(tblSalaries[[#This Row],[Where do you work]],tblCountries[[Actual]:[Mapping]],2,FALSE)","v":"UK"},"2 to 3 hours per day",{"$f":"NA()","v":{"$error":"#N/A"}},{"$f":"IF(ISNA(VLOOKUP(tblSalaries[[#This Row],[Years of Experience]],vlookUpExp!$A$1:$B$56,2,FALSE)),\"No Response\",VLOOKUP(tblSalaries[[#This Row],[Years of Experience]],vlookUpExp!$A$1:$B$56,2,FALSE))","v":"No Response"}]
[null,"ID0474","2012-05-26T03:15:50",20000,20000,"USD",{"$f":"tblSalaries[[#This Row],[clean Salary (in local currency)]]*VLOOKUP(tblSalaries[[#This Row],[Currency]],tblXrate[],2,FALSE)","v":20000},{"$f":"IF($H$1=\"USD\",tblSalaries[[#This Row],[Salary in USD]],tblSalaries[[#This Row],[Salary in USD]]*VLOOKUP($H$1,USDtoUserChoice,2,FALSE))","v":164039.6},"Specialist","Specialist","India",{"$f":"VLOOKUP(tblSalaries[[#This Row],[Where do you work]],tblCountries[[Actual]:[Mapping]],2,FALSE)","v":"India"},"4 to 6 hours a day",{"$f":"NA()","v":{"$error":"#N/A"}},{"$f":"IF(ISNA(VLOOKUP(tblSalaries[[#This Row],[Years of Experience]],vlookUpExp!$A$1:$B$56,2,FALSE)),\"No Response\",VLOOKUP(tblSalaries[[#This Row],[Years of Experience]],vlookUpExp!$A$1:$B$56,2,FALSE))","v":"No Response"}]
[null,"ID0476","2012-05-26T03:16:58",12000,12000,"USD",{"$f":"tblSalaries[[#This Row],[clean Salary (in local currency)]]*VLOOKUP(tblSalaries[[#This Row],[Currency]],tblXrate[],2,FALSE)","v":12000},{"$f":"IF($H$1=\"USD\",tblSalaries[[#This Row],[Salary in USD]],tblSalaries[[#This Row],[Salary in USD]]*VLOOKUP($H$1,USDtoUserChoice,2,FALSE))","v":98423.760000000009},"Resource managment Analyst","Analyst","Estonia",{"$f":"VLOOKUP(tblSalaries[[#This Row],[Where do you work]],tblCountries[[Actual]:[Mapping]],2,FALSE)","v":"Estonia"},"All the 8 hours baby, all the 8!",{"$f":"NA()","v":{"$error":"#N/A"}},{"$f":"IF(ISNA(VLOOKUP(tblSalaries[[#This Row],[Years of Experience]],vlookUpExp!$A$1:$B$56,2,FALSE)),\"No Response\",VLOOKUP(tblSalaries[[#This Row],[Years of Experience]],vlookUpExp!$A$1:$B$56,2,FALSE))","v":"No Response"}]
[null,"ID0477","2012-05-26T03:17:19",1250000,1250000,"CAD",{"$f":"tblSalaries[[#This Row],[clean Salary (in local currency)]]*VLOOKUP(tblSalaries[[#This Row],[Currency]],tblXrate[],2,FALSE)","v":1229201.9037879086},{"$f":"IF($H$1=\"USD\",tblSalaries[[#This Row],[Salary in USD]],tblSalaries[[#This Row],[Salary in USD]]*VLOOKUP($H$1,USDtoUserChoice,2,FALSE))","v":10081889.430830352},"Account Executive","Accountant","Canada",{"$f":"VLOOKUP(tblSalaries[[#This Row],[Where do you work]],tblCountries[[Actual]:[Mapping]],2,FALSE)","v":"Canada"},"4 to 6 hours a day",{"$f":"NA()","v":{"$error":"#N/A"}},{"$f":"IF(ISNA(VLOOKUP(tblSalaries[[#This Row],[Years of Experience]],vlookUpExp!$A$1:$B$56,2,FALSE)),\"No Response\",VLOOKUP(tblSalaries[[#This Row],[Years of Experience]],vlookUpExp!$A$1:$B$56,2,FALSE))","v":"No Response"}]
[null,"ID0478","2012-05-26T03:19:00",30000,30000,"USD",{"$f":"tblSalaries[[#This Row],[clean Salary (in local currency)]]*VLOOKUP(tblSalaries[[#This Row],[Currency]],tblXrate[],2,FALSE)","v":30000},{"$f":"IF($H$1=\"USD\",tblSalaries[[#This Row],[Salary in USD]],tblSalaries[[#This Row],[Salary in USD]]*VLOOKUP($H$1,USDtoUserChoice,2,FALSE))","v":246059.40000000002},"video production","Analyst","USA",{"$f":"VLOOKUP(tblSalaries[[#This Row],[Where do you work]],tblCountries[[Actual]:[Mapping]],2,FALSE)","v":"USA"},"Excel ?!? What Excel?",{"$f":"NA()","v":{"$error":"#N/A"}},{"$f":"IF(ISNA(VLOOKUP(tblSalaries[[#This Row],[Years of Experience]],vlookUpExp!$A$1:$B$56,2,FALSE)),\"No Response\",VLOOKUP(tblSalaries[[#This Row],[Years of Experience]],vlookUpExp!$A$1:$B$56,2,FALSE))","v":"No Response"}]
[null,"ID0479","2012-05-26T03:21:26",2000,24000,"USD",{"$f":"tblSalaries[[#This Row],[clean Salary (in local currency)]]*VLOOKUP(tblSalaries[[#This Row],[Currency]],tblXrate[],2,FALSE)","v":24000},{"$f":"IF($H$1=\"USD\",tblSalaries[[#This Row],[Salary in USD]],tblSalaries[[#This Row],[Salary in USD]]*VLOOKUP($H$1,USDtoUserChoice,2,FALSE))","v":196847.52000000002},"engineer","Engineer","mozambique",{"$f":"VLOOKUP(tblSalaries[[#This Row],[Where do you work]],tblCountries[[Actual]:[Mapping]],2,FALSE)","v":"mozambique"},"2 to 3 hours per day",{"$f":"NA()","v":{"$error":"#N/A"}},{"$f":"IF(ISNA(VLOOKUP(tblSalaries[[#This Row],[Years of Experience]],vlookUpExp!$A$1:$B$56,2,FALSE)),\"No Response\",VLOOKUP(tblSalaries[[#This Row],[Years of Experience]],vlookUpExp!$A$1:$B$56,2,FALSE))","v":"No Response"}]
[null,"ID0480","2012-05-26T03:21:55",92000,92000,"USD",{"$f":"tblSalaries[[#This Row],[clean Salary (in local currency)]]*VLOOKUP(tblSalaries[[#This Row],[Currency]],tblXrate[],2,FALSE)","v":92000},{"$f":"IF($H$1=\"USD\",tblSalaries[[#This Row],[Salary in USD]],tblSalaries[[#This Row],[Salary in USD]]*VLOOKUP($H$1,USDtoUserChoice,2,FALSE))","v":754582.16},"principal engineer","Engineer","USA",{"$f":"VLOOKUP(tblSalaries[[#This Row],[Where do you work]],tblCountries[[Actual]:[Mapping]],2,FALSE)","v":"USA"},"1 or 2 hours a day",{"$f":"NA()","v":{"$error":"#N/A"}},{"$f":"IF(ISNA(VLOOKUP(tblSalaries[[#This Row],[Years of Experience]],vlookUpExp!$A$1:$B$56,2,FALSE)),\"No Response\",VLOOKUP(tblSalaries[[#This Row],[Years of Experience]],vlookUpExp!$A$1:$B$56,2,FALSE))","v":"No Response"}]
[null,"ID0481","2012-05-26T03:22:33",52000,52000,"USD",{"$f":"tblSalaries[[#This Row],[clean Salary (in local currency)]]*VLOOKUP(tblSalaries[[#This Row],[Currency]],tblXrate[],2,FALSE)","v":52000},{"$f":"IF($H$1=\"USD\",tblSalaries[[#This Row],[Salary in USD]],tblSalaries[[#This Row],[Salary in USD]]*VLOOKUP($H$1,USDtoUserChoice,2,FALSE))","v":426502.96},"budget analyst","Analyst","USA",{"$f":"VLOOKUP(tblSalaries[[#This Row],[Where do you work]],tblCountries[[Actual]:[Mapping]],2,FALSE)","v":"USA"},"4 to 6 hours a day",{"$f":"NA()","v":{"$error":"#N/A"}},{"$f":"IF(ISNA(VLOOKUP(tblSalaries[[#This Row],[Years of Experience]],vlookUpExp!$A$1:$B$56,2,FALSE)),\"No Response\",VLOOKUP(tblSalaries[[#This Row],[Years of Experience]],vlookUpExp!$A$1:$B$56,2,FALSE))","v":"No Response"}]
[null,"ID0482","2012-05-26T03:23:51","US$169,000",169000,"USD",{"$f":"tblSalaries[[#This Row],[clean Salary (in local currency)]]*VLOOKUP(tblSalaries[[#This Row],[Currency]],tblXrate[],2,FALSE)","v":169000},{"$f":"IF($H$1=\"USD\",tblSalaries[[#This Row],[Salary in USD]],tblSalaries[[#This Row],[Salary in USD]]*VLOOKUP($H$1,USDtoUserChoice,2,FALSE))","v":1386134.62},"Category Director (Marketing)","CXO or Top Mgmt.","USA",{"$f":"VLOOKUP(tblSalaries[[#This Row],[Where do you work]],tblCountries[[Actual]:[Mapping]],2,FALSE)","v":"USA"},"2 to 3 hours per day",{"$f":"NA()","v":{"$error":"#N/A"}},{"$f":"IF(ISNA(VLOOKUP(tblSalaries[[#This Row],[Years of Experience]],vlookUpExp!$A$1:$B$56,2,FALSE)),\"No Response\",VLOOKUP(tblSalaries[[#This Row],[Years of Experience]],vlookUpExp!$A$1:$B$56,2,FALSE))","v":"No Response"}]
[null,"ID0484","2012-05-26T03:25:57",110000,110000,"USD",{"$f":"tblSalaries[[#This Row],[clean Salary (in local currency)]]*VLOOKUP(tblSalaries[[#This Row],[Currency]],tblXrate[],2,FALSE)","v":110000},{"$f":"IF($H$1=\"USD\",tblSalaries[[#This Row],[Salary in USD]],tblSalaries[[#This Row],[Salary in USD]]*VLOOKUP($H$1,USDtoUserChoice,2,FALSE))","v":902217.8},"Senior consultant accounting","Accountant","Norway",{"$f":"VLOOKUP(tblSalaries[[#This Row],[Where do you work]],tblCountries[[Actual]:[Mapping]],2,FALSE)","v":"Norway"},"2 to 3 hours per day",{"$f":"NA()","v":{"$error":"#N/A"}},{"$f":"IF(ISNA(VLOOKUP(tblSalaries[[#This Row],[Years of Experience]],vlookUpExp!$A$1:$B$56,2,FALSE)),\"No Response\",VLOOKUP(tblSalaries[[#This Row],[Years of Experience]],vlookUpExp!$A$1:$B$56,2,FALSE))","v":"No Response"}]
[null,"ID0485","2012-05-26T03:27:56","Zar 1080000",1080000,"ZAR",{"$f":"tblSalaries[[#This Row],[clean Salary (in local currency)]]*VLOOKUP(tblSalaries[[#This Row],[Currency]],tblXrate[],2,FALSE)","v":131675.52225194403},{"$f":"IF($H$1=\"USD\",tblSalaries[[#This Row],[Salary in USD]],tblSalaries[[#This Row],[Salary in USD]]*VLOOKUP($H$1,USDtoUserChoice,2,FALSE))","v":1080000},"Finance manager","Manager","South africa",{"$f":"VLOOKUP(tblSalaries[[#This Row],[Where do you work]],tblCountries[[Actual]:[Mapping]],2,FALSE)","v":"South Africa"},"2 to 3 hours per day",{"$f":"NA()","v":{"$error":"#N/A"}},{"$f":"IF(ISNA(VLOOKUP(tblSalaries[[#This Row],[Years of Experience]],vlookUpExp!$A$1:$B$56,2,FALSE)),\"No Response\",VLOOKUP(tblSalaries[[#This Row],[Years of Experience]],vlookUpExp!$A$1:$B$56,2,FALSE))","v":"No Response"}]
[null,"ID0486","2012-05-26T03:30:42","GB Sterling 59k",59000,"GBP",{"$f":"tblSalaries[[#This Row],[clean Salary (in local currency)]]*VLOOKUP(tblSalaries[[#This Row],[Currency]],tblXrate[],2,FALSE)","v":92994.518051969761},{"$f":"IF($H$1=\"USD\",tblSalaries[[#This Row],[Salary in USD]],tblSalaries[[#This Row],[Salary in USD]]*VLOOKUP($H$1,USDtoUserChoice,2,FALSE))","v":762739.17717189505},"Health and safety advisor","Consultant","UK",{"$f":"VLOOKUP(tblSalaries[[#This Row],[Where do you work]],tblCountries[[Actual]:[Mapping]],2,FALSE)","v":"UK"},"2 to 3 hours per day",{"$f":"NA()","v":{"$error":"#N/A"}},{"$f":"IF(ISNA(VLOOKUP(tblSalaries[[#This Row],[Years of Experience]],vlookUpExp!$A$1:$B$56,2,FALSE)),\"No Response\",VLOOKUP(tblSalaries[[#This Row],[Years of Experience]],vlookUpExp!$A$1:$B$56,2,FALSE))","v":"No Response"}]
[null,"ID0487","2012-05-26T03:31:34",50000,50000,"USD",{"$f":"tblSalaries[[#This Row],[clean Salary (in local currency)]]*VLOOKUP(tblSalaries[[#This Row],[Currency]],tblXrate[],2,FALSE)","v":50000},{"$f":"IF($H$1=\"USD\",tblSalaries[[#This Row],[Salary in USD]],tblSalaries[[#This Row],[Salary in USD]]*VLOOKUP($H$1,USDtoUserChoice,2,FALSE))","v":410099.00000000006},"Workforce Analyst","Analyst","USA",{"$f":"VLOOKUP(tblSalaries[[#This Row],[Where do you work]],tblCountries[[Actual]:[Mapping]],2,FALSE)","v":"USA"},"4 to 6 hours a day",{"$f":"NA()","v":{"$error":"#N/A"}},{"$f":"IF(ISNA(VLOOKUP(tblSalaries[[#This Row],[Years of Experience]],vlookUpExp!$A$1:$B$56,2,FALSE)),\"No Response\",VLOOKUP(tblSalaries[[#This Row],[Years of Experience]],vlookUpExp!$A$1:$B$56,2,FALSE))","v":"No Response"}]
[null,"ID0488","2012-05-26T03:32:13",65000,65000,"USD",{"$f":"tblSalaries[[#This Row],[clean Salary (in local currency)]]*VLOOKUP(tblSalaries[[#This Row],[Currency]],tblXrate[],2,FALSE)","v":65000},{"$f":"IF($H$1=\"USD\",tblSalaries[[#This Row],[Salary in USD]],tblSalaries[[#This Row],[Salary in USD]]*VLOOKUP($H$1,USDtoUserChoice,2,FALSE))","v":533128.70000000007},"Business Systems Analyst","Analyst","USA",{"$f":"VLOOKUP(tblSalaries[[#This Row],[Where do you work]],tblCountries[[Actual]:[Mapping]],2,FALSE)","v":"USA"},"2 to 3 hours per day",{"$f":"NA()","v":{"$error":"#N/A"}},{"$f":"IF(ISNA(VLOOKUP(tblSalaries[[#This Row],[Years of Experience]],vlookUpExp!$A$1:$B$56,2,FALSE)),\"No Response\",VLOOKUP(tblSalaries[[#This Row],[Years of Experience]],vlookUpExp!$A$1:$B$56,2,FALSE))","v":"No Response"}]
[null,"ID0489","2012-05-26T03:32:53",46000,46000,"CAD",{"$f":"tblSalaries[[#This Row],[clean Salary (in local currency)]]*VLOOKUP(tblSalaries[[#This Row],[Currency]],tblXrate[],2,FALSE)","v":45234.630059395036},{"$f":"IF($H$1=\"USD\",tblSalaries[[#This Row],[Salary in USD]],tblSalaries[[#This Row],[Salary in USD]]*VLOOKUP($H$1,USDtoUserChoice,2,FALSE))","v":371013.53105455695},"Sr. Marketing Solutions Analyst","Analyst","Canada",{"$f":"VLOOKUP(tblSalaries[[#This Row],[Where do you work]],tblCountries[[Actual]:[Mapping]],2,FALSE)","v":"Canada"},"All the 8 hours baby, all the 8!",{"$f":"NA()","v":{"$error":"#N/A"}},{"$f":"IF(ISNA(VLOOKUP(tblSalaries[[#This Row],[Years of Experience]],vlookUpExp!$A$1:$B$56,2,FALSE)),\"No Response\",VLOOKUP(tblSalaries[[#This Row],[Years of Experience]],vlookUpExp!$A$1:$B$56,2,FALSE))","v":"No Response"}]
[null,"ID0490","2012-05-26T03:33:32",55000,55000,"USD",{"$f":"tblSalaries[[#This Row],[clean Salary (in local currency)]]*VLOOKUP(tblSalaries[[#This Row],[Currency]],tblXrate[],2,FALSE)","v":55000},{"$f":"IF($H$1=\"USD\",tblSalaries[[#This Row],[Salary in USD]],tblSalaries[[#This Row],[Salary in USD]]*VLOOKUP($H$1,USDtoUserChoice,2,FALSE))","v":451108.9},"Analyst","Analyst","USA",{"$f":"VLOOKUP(tblSalaries[[#This Row],[Where do you work]],tblCountries[[Actual]:[Mapping]],2,FALSE)","v":"USA"},"2 to 3 hours per day",{"$f":"NA()","v":{"$error":"#N/A"}},{"$f":"IF(ISNA(VLOOKUP(tblSalaries[[#This Row],[Years of Experience]],vlookUpExp!$A$1:$B$56,2,FALSE)),\"No Response\",VLOOKUP(tblSalaries[[#This Row],[Years of Experience]],vlookUpExp!$A$1:$B$56,2,FALSE))","v":"No Response"}]
[null,"ID0491","2012-05-26T03:34:04","20000 US$",20000,"USD",{"$f":"tblSalaries[[#This Row],[clean Salary (in local currency)]]*VLOOKUP(tblSalaries[[#This Row],[Currency]],tblXrate[],2,FALSE)","v":20000},{"$f":"IF($H$1=\"USD\",tblSalaries[[#This Row],[Salary in USD]],tblSalaries[[#This Row],[Salary in USD]]*VLOOKUP($H$1,USDtoUserChoice,2,FALSE))","v":164039.6},"Consultant","Consultant","India",{"$f":"VLOOKUP(tblSalaries[[#This Row],[Where do you work]],tblCountries[[Actual]:[Mapping]],2,FALSE)","v":"India"},"2 to 3 hours per day",{"$f":"NA()","v":{"$error":"#N/A"}},{"$f":"IF(ISNA(VLOOKUP(tblSalaries[[#This Row],[Years of Experience]],vlookUpExp!$A$1:$B$56,2,FALSE)),\"No Response\",VLOOKUP(tblSalaries[[#This Row],[Years of Experience]],vlookUpExp!$A$1:$B$56,2,FALSE))","v":"No Response"}]
[null,"ID0492","2012-05-26T03:34:15",6000,6000,"USD",{"$f":"tblSalaries[[#This Row],[clean Salary (in local currency)]]*VLOOKUP(tblSalaries[[#This Row],[Currency]],tblXrate[],2,FALSE)","v":6000},{"$f":"IF($H$1=\"USD\",tblSalaries[[#This Row],[Salary in USD]],tblSalaries[[#This Row],[Salary in USD]]*VLOOKUP($H$1,USDtoUserChoice,2,FALSE))","v":49211.880000000005},"MIS","Reporting","India",{"$f":"VLOOKUP(tblSalaries[[#This Row],[Where do you work]],tblCountries[[Actual]:[Mapping]],2,FALSE)","v":"India"},"All the 8 hours baby, all the 8!",{"$f":"NA()","v":{"$error":"#N/A"}},{"$f":"IF(ISNA(VLOOKUP(tblSalaries[[#This Row],[Years of Experience]],vlookUpExp!$A$1:$B$56,2,FALSE)),\"No Response\",VLOOKUP(tblSalaries[[#This Row],[Years of Experience]],vlookUpExp!$A$1:$B$56,2,FALSE))","v":"No Response"}]
[null,"ID0493","2012-05-26T03:37:33",190000,190000,"GBP",{"$f":"tblSalaries[[#This Row],[clean Salary (in local currency)]]*VLOOKUP(tblSalaries[[#This Row],[Currency]],tblXrate[],2,FALSE)","v":299473.87169278396},{"$f":"IF($H$1=\"USD\",tblSalaries[[#This Row],[Salary in USD]],tblSalaries[[#This Row],[Salary in USD]]*VLOOKUP($H$1,USDtoUserChoice,2,FALSE))","v":2456278.7061467804},"Managing Partner","CXO or Top Mgmt.","UK",{"$f":"VLOOKUP(tblSalaries[[#This Row],[Where do you work]],tblCountries[[Actual]:[Mapping]],2,FALSE)","v":"UK"},"4 to 6 hours a day",{"$f":"NA()","v":{"$error":"#N/A"}},{"$f":"IF(ISNA(VLOOKUP(tblSalaries[[#This Row],[Years of Experience]],vlookUpExp!$A$1:$B$56,2,FALSE)),\"No Response\",VLOOKUP(tblSalaries[[#This Row],[Years of Experience]],vlookUpExp!$A$1:$B$56,2,FALSE))","v":"No Response"}]
[null,"ID0494","2012-05-26T03:37:46",28164,28164,"GBP",{"$f":"tblSalaries[[#This Row],[clean Salary (in local currency)]]*VLOOKUP(tblSalaries[[#This Row],[Currency]],tblXrate[],2,FALSE)","v":44391.484854502989},{"$f":"IF($H$1=\"USD\",tblSalaries[[#This Row],[Salary in USD]],tblSalaries[[#This Row],[Salary in USD]]*VLOOKUP($H$1,USDtoUserChoice,2,FALSE))","v":364098.07094693644},"Administration Officer","Manager","UK",{"$f":"VLOOKUP(tblSalaries[[#This Row],[Where do you work]],tblCountries[[Actual]:[Mapping]],2,FALSE)","v":"UK"},"4 to 6 hours a day",{"$f":"NA()","v":{"$error":"#N/A"}},{"$f":"IF(ISNA(VLOOKUP(tblSalaries[[#This Row],[Years of Experience]],vlookUpExp!$A$1:$B$56,2,FALSE)),\"No Response\",VLOOKUP(tblSalaries[[#This Row],[Years of Experience]],vlookUpExp!$A$1:$B$56,2,FALSE))","v":"No Response"}]
[null,"ID0495","2012-05-26T03:40:26",40000,40000,"USD",{"$f":"tblSalaries[[#This Row],[clean Salary (in local currency)]]*VLOOKUP(tblSalaries[[#This Row],[Currency]],tblXrate[],2,FALSE)","v":40000},{"$f":"IF($H$1=\"USD\",tblSalaries[[#This Row],[Salary in USD]],tblSalaries[[#This Row],[Salary in USD]]*VLOOKUP($H$1,USDtoUserChoice,2,FALSE))","v":328079.2},"BAS","Analyst","USA",{"$f":"VLOOKUP(tblSalaries[[#This Row],[Where do you work]],tblCountries[[Actual]:[Mapping]],2,FALSE)","v":"USA"},"2 to 3 hours per day",{"$f":"NA()","v":{"$error":"#N/A"}},{"$f":"IF(ISNA(VLOOKUP(tblSalaries[[#This Row],[Years of Experience]],vlookUpExp!$A$1:$B$56,2,FALSE)),\"No Response\",VLOOKUP(tblSalaries[[#This Row],[Years of Experience]],vlookUpExp!$A$1:$B$56,2,FALSE))","v":"No Response"}]
[null,"ID0496","2012-05-26T03:48:42","USD 108,000",108000,"USD",{"$f":"tblSalaries[[#This Row],[clean Salary (in local currency)]]*VLOOKUP(tblSalaries[[#This Row],[Currency]],tblXrate[],2,FALSE)","v":108000},{"$f":"IF($H$1=\"USD\",tblSalaries[[#This Row],[Salary in USD]],tblSalaries[[#This Row],[Salary in USD]]*VLOOKUP($H$1,USDtoUserChoice,2,FALSE))","v":885813.84000000008},"Manager","Manager","Norway",{"$f":"VLOOKUP(tblSalaries[[#This Row],[Where do you work]],tblCountries[[Actual]:[Mapping]],2,FALSE)","v":"Norway"},"4 to 6 hours a day",{"$f":"NA()","v":{"$error":"#N/A"}},{"$f":"IF(ISNA(VLOOKUP(tblSalaries[[#This Row],[Years of Experience]],vlookUpExp!$A$1:$B$56,2,FALSE)),\"No Response\",VLOOKUP(tblSalaries[[#This Row],[Years of Experience]],vlookUpExp!$A$1:$B$56,2,FALSE))","v":"No Response"}]
[null,"ID0497","2012-05-26T03:49:21","200000 Rupees",200000,"INR",{"$f":"tblSalaries[[#This Row],[clean Salary (in local currency)]]*VLOOKUP(tblSalaries[[#This Row],[Currency]],tblXrate[],2,FALSE)","v":3561.5833374885137},{"$f":"IF($H$1=\"USD\",tblSalaries[[#This Row],[Salary in USD]],tblSalaries[[#This Row],[Salary in USD]]*VLOOKUP($H$1,USDtoUserChoice,2,FALSE))","v":29212.035302414042},"chemist","Analyst","India",{"$f":"VLOOKUP(tblSalaries[[#This Row],[Where do you work]],tblCountries[[Actual]:[Mapping]],2,FALSE)","v":"India"},"2 to 3 hours per day",{"$f":"NA()","v":{"$error":"#N/A"}},{"$f":"IF(ISNA(VLOOKUP(tblSalaries[[#This Row],[Years of Experience]],vlookUpExp!$A$1:$B$56,2,FALSE)),\"No Response\",VLOOKUP(tblSalaries[[#This Row],[Years of Experience]],vlookUpExp!$A$1:$B$56,2,FALSE))","v":"No Response"}]
[null,"ID0498","2012-05-26T03:50:24",84000,84000,"USD",{"$f":"tblSalaries[[#This Row],[clean Salary (in local currency)]]*VLOOKUP(tblSalaries[[#This Row],[Currency]],tblXrate[],2,FALSE)","v":84000},{"$f":"IF($H$1=\"USD\",tblSalaries[[#This Row],[Salary in USD]],tblSalaries[[#This Row],[Salary in USD]]*VLOOKUP($H$1,USDtoUserChoice,2,FALSE))","v":688966.32000000007},"Senior Analyst","Analyst","USA",{"$f":"VLOOKUP(tblSalaries[[#This Row],[Where do you work]],tblCountries[[Actual]:[Mapping]],2,FALSE)","v":"USA"},"All the 8 hours baby, all the 8!",{"$f":"NA()","v":{"$error":"#N/A"}},{"$f":"IF(ISNA(VLOOKUP(tblSalaries[[#This Row],[Years of Experience]],vlookUpExp!$A$1:$B$56,2,FALSE)),\"No Response\",VLOOKUP(tblSalaries[[#This Row],[Years of Experience]],vlookUpExp!$A$1:$B$56,2,FALSE))","v":"No Response"}]
[null,"ID0499","2012-05-26T03:52:24",33000,33000,"GBP",{"$f":"tblSalaries[[#This Row],[clean Salary (in local currency)]]*VLOOKUP(tblSalaries[[#This Row],[Currency]],tblXrate[],2,FALSE)","v":52013.882978220376},{"$f":"IF($H$1=\"USD\",tblSalaries[[#This Row],[Salary in USD]],tblSalaries[[#This Row],[Salary in USD]]*VLOOKUP($H$1,USDtoUserChoice,2,FALSE))","v":426616.82790970401},"LOGISTIC MANAGER","Manager","UK",{"$f":"VLOOKUP(tblSalaries[[#This Row],[Where do you work]],tblCountries[[Actual]:[Mapping]],2,FALSE)","v":"UK"},"4 to 6 hours a day",{"$f":"NA()","v":{"$error":"#N/A"}},{"$f":"IF(ISNA(VLOOKUP(tblSalaries[[#This Row],[Years of Experience]],vlookUpExp!$A$1:$B$56,2,FALSE)),\"No Response\",VLOOKUP(tblSalaries[[#This Row],[Years of Experience]],vlookUpExp!$A$1:$B$56,2,FALSE))","v":"No Response"}]
[null,"ID0500","2012-05-26T03:53:29","Rs. 7,20,000/-",720000,"INR",{"$f":"tblSalaries[[#This Row],[clean Salary (in local currency)]]*VLOOKUP(tblSalaries[[#This Row],[Currency]],tblXrate[],2,FALSE)","v":12821.700014958649},{"$f":"IF($H$1=\"USD\",tblSalaries[[#This Row],[Salary in USD]],tblSalaries[[#This Row],[Salary in USD]]*VLOOKUP($H$1,USDtoUserChoice,2,FALSE))","v":105163.32708869055},"Manager Finance","Manager","India",{"$f":"VLOOKUP(tblSalaries[[#This Row],[Where do you work]],tblCountries[[Actual]:[Mapping]],2,FALSE)","v":"India"},"2 to 3 hours per day",{"$f":"NA()","v":{"$error":"#N/A"}},{"$f":"IF(ISNA(VLOOKUP(tblSalaries[[#This Row],[Years of Experience]],vlookUpExp!$A$1:$B$56,2,FALSE)),\"No Response\",VLOOKUP(tblSalaries[[#This Row],[Years of Experience]],vlookUpExp!$A$1:$B$56,2,FALSE))","v":"No Response"}]
[null,"ID0501","2012-05-26T04:00:21",68500,68500,"CAD",{"$f":"tblSalaries[[#This Row],[clean Salary (in local currency)]]*VLOOKUP(tblSalaries[[#This Row],[Currency]],tblXrate[],2,FALSE)","v":67360.264327577388},{"$f":"IF($H$1=\"USD\",tblSalaries[[#This Row],[Salary in USD]],tblSalaries[[#This Row],[Salary in USD]]*VLOOKUP($H$1,USDtoUserChoice,2,FALSE))","v":552487.54080950329},"Financial Analyst","Analyst","Canada",{"$f":"VLOOKUP(tblSalaries[[#This Row],[Where do you work]],tblCountries[[Actual]:[Mapping]],2,FALSE)","v":"Canada"},"4 to 6 hours a day",{"$f":"NA()","v":{"$error":"#N/A"}},{"$f":"IF(ISNA(VLOOKUP(tblSalaries[[#This Row],[Years of Experience]],vlookUpExp!$A$1:$B$56,2,FALSE)),\"No Response\",VLOOKUP(tblSalaries[[#This Row],[Years of Experience]],vlookUpExp!$A$1:$B$56,2,FALSE))","v":"No Response"}]
[null,"ID0502","2012-05-26T04:01:45","23000 USD",23000,"USD",{"$f":"tblSalaries[[#This Row],[clean Salary (in local currency)]]*VLOOKUP(tblSalaries[[#This Row],[Currency]],tblXrate[],2,FALSE)","v":23000},{"$f":"IF($H$1=\"USD\",tblSalaries[[#This Row],[Salary in USD]],tblSalaries[[#This Row],[Salary in USD]]*VLOOKUP($H$1,USDtoUserChoice,2,FALSE))","v":188645.54},"IT solutions coordinator","Manager","Hungary",{"$f":"VLOOKUP(tblSalaries[[#This Row],[Where do you work]],tblCountries[[Actual]:[Mapping]],2,FALSE)","v":"Hungary"},"4 to 6 hours a day",{"$f":"NA()","v":{"$error":"#N/A"}},{"$f":"IF(ISNA(VLOOKUP(tblSalaries[[#This Row],[Years of Experience]],vlookUpExp!$A$1:$B$56,2,FALSE)),\"No Response\",VLOOKUP(tblSalaries[[#This Row],[Years of Experience]],vlookUpExp!$A$1:$B$56,2,FALSE))","v":"No Response"}]
[null,"ID0503","2012-05-26T04:01:59",58000,58000,"GBP",{"$f":"tblSalaries[[#This Row],[clean Salary (in local currency)]]*VLOOKUP(tblSalaries[[#This Row],[Currency]],tblXrate[],2,FALSE)","v":91418.339779902482},{"$f":"IF($H$1=\"USD\",tblSalaries[[#This Row],[Salary in USD]],tblSalaries[[#This Row],[Salary in USD]]*VLOOKUP($H$1,USDtoUserChoice,2,FALSE))","v":749811.39450796461},"Business Modeller","Manager","UK",{"$f":"VLOOKUP(tblSalaries[[#This Row],[Where do you work]],tblCountries[[Actual]:[Mapping]],2,FALSE)","v":"UK"},"All the 8 hours baby, all the 8!",{"$f":"NA()","v":{"$error":"#N/A"}},{"$f":"IF(ISNA(VLOOKUP(tblSalaries[[#This Row],[Years of Experience]],vlookUpExp!$A$1:$B$56,2,FALSE)),\"No Response\",VLOOKUP(tblSalaries[[#This Row],[Years of Experience]],vlookUpExp!$A$1:$B$56,2,FALSE))","v":"No Response"}]
[null,"ID0504","2012-05-26T04:03:33",77000,77000,"USD",{"$f":"tblSalaries[[#This Row],[clean Salary (in local currency)]]*VLOOKUP(tblSalaries[[#This Row],[Currency]],tblXrate[],2,FALSE)","v":77000},{"$f":"IF($H$1=\"USD\",tblSalaries[[#This Row],[Salary in USD]],tblSalaries[[#This Row],[Salary in USD]]*VLOOKUP($H$1,USDtoUserChoice,2,FALSE))","v":631552.46000000008},"Senior Financial Analyst","Analyst","USA",{"$f":"VLOOKUP(tblSalaries[[#This Row],[Where do you work]],tblCountries[[Actual]:[Mapping]],2,FALSE)","v":"USA"},"All the 8 hours baby, all the 8!",{"$f":"NA()","v":{"$error":"#N/A"}},{"$f":"IF(ISNA(VLOOKUP(tblSalaries[[#This Row],[Years of Experience]],vlookUpExp!$A$1:$B$56,2,FALSE)),\"No Response\",VLOOKUP(tblSalaries[[#This Row],[Years of Experience]],vlookUpExp!$A$1:$B$56,2,FALSE))","v":"No Response"}]
[null,"ID0505","2012-05-26T04:05:08",100000,100000,"USD",{"$f":"tblSalaries[[#This Row],[clean Salary (in local currency)]]*VLOOKUP(tblSalaries[[#This Row],[Currency]],tblXrate[],2,FALSE)","v":100000},{"$f":"IF($H$1=\"USD\",tblSalaries[[#This Row],[Salary in USD]],tblSalaries[[#This Row],[Salary in USD]]*VLOOKUP($H$1,USDtoUserChoice,2,FALSE))","v":820198.00000000012},"Analyst","Analyst","USA",{"$f":"VLOOKUP(tblSalaries[[#This Row],[Where do you work]],tblCountries[[Actual]:[Mapping]],2,FALSE)","v":"USA"},"4 to 6 hours a day",{"$f":"NA()","v":{"$error":"#N/A"}},{"$f":"IF(ISNA(VLOOKUP(tblSalaries[[#This Row],[Years of Experience]],vlookUpExp!$A$1:$B$56,2,FALSE)),\"No Response\",VLOOKUP(tblSalaries[[#This Row],[Years of Experience]],vlookUpExp!$A$1:$B$56,2,FALSE))","v":"No Response"}]
[null,"ID0506","2012-05-26T04:10:53",55500,55500,"USD",{"$f":"tblSalaries[[#This Row],[clean Salary (in local currency)]]*VLOOKUP(tblSalaries[[#This Row],[Currency]],tblXrate[],2,FALSE)","v":55500},{"$f":"IF($H$1=\"USD\",tblSalaries[[#This Row],[Salary in USD]],tblSalaries[[#This Row],[Salary in USD]]*VLOOKUP($H$1,USDtoUserChoice,2,FALSE))","v":455209.89},"Sr QS","Controller","UAE",{"$f":"VLOOKUP(tblSalaries[[#This Row],[Where do you work]],tblCountries[[Actual]:[Mapping]],2,FALSE)","v":"UAE"},"4 to 6 hours a day",{"$f":"NA()","v":{"$error":"#N/A"}},{"$f":"IF(ISNA(VLOOKUP(tblSalaries[[#This Row],[Years of Experience]],vlookUpExp!$A$1:$B$56,2,FALSE)),\"No Response\",VLOOKUP(tblSalaries[[#This Row],[Years of Experience]],vlookUpExp!$A$1:$B$56,2,FALSE))","v":"No Response"}]
[null,"ID0507","2012-05-26T04:12:16","15000 â‚¬",15000,"EUR",{"$f":"tblSalaries[[#This Row],[clean Salary (in local currency)]]*VLOOKUP(tblSalaries[[#This Row],[Currency]],tblXrate[],2,FALSE)","v":19055.991584874118},{"$f":"IF($H$1=\"USD\",tblSalaries[[#This Row],[Salary in USD]],tblSalaries[[#This Row],[Salary in USD]]*VLOOKUP($H$1,USDtoUserChoice,2,FALSE))","v":156296.86185930585},"Report Analyst","Analyst","Spain",{"$f":"VLOOKUP(tblSalaries[[#This Row],[Where do you work]],tblCountries[[Actual]:[Mapping]],2,FALSE)","v":"Spain"},"All the 8 hours baby, all the 8!",{"$f":"NA()","v":{"$error":"#N/A"}},{"$f":"IF(ISNA(VLOOKUP(tblSalaries[[#This Row],[Years of Experience]],vlookUpExp!$A$1:$B$56,2,FALSE)),\"No Response\",VLOOKUP(tblSalaries[[#This Row],[Years of Experience]],vlookUpExp!$A$1:$B$56,2,FALSE))","v":"No Response"}]
[null,"ID0508","2012-05-26T04:13:54","Rs 6L",600000,"INR",{"$f":"tblSalaries[[#This Row],[clean Salary (in local currency)]]*VLOOKUP(tblSalaries[[#This Row],[Currency]],tblXrate[],2,FALSE)","v":10684.750012465542},{"$f":"IF($H$1=\"USD\",tblSalaries[[#This Row],[Salary in USD]],tblSalaries[[#This Row],[Salary in USD]]*VLOOKUP($H$1,USDtoUserChoice,2,FALSE))","v":87636.105907242134},"Business Co ordinator","Manager","India",{"$f":"VLOOKUP(tblSalaries[[#This Row],[Where do you work]],tblCountries[[Actual]:[Mapping]],2,FALSE)","v":"India"},"4 to 6 hours a day",{"$f":"NA()","v":{"$error":"#N/A"}},{"$f":"IF(ISNA(VLOOKUP(tblSalaries[[#This Row],[Years of Experience]],vlookUpExp!$A$1:$B$56,2,FALSE)),\"No Response\",VLOOKUP(tblSalaries[[#This Row],[Years of Experience]],vlookUpExp!$A$1:$B$56,2,FALSE))","v":"No Response"}]
[null,"ID0509","2012-05-26T04:14:27",8400,8400,"USD",{"$f":"tblSalaries[[#This Row],[clean Salary (in local currency)]]*VLOOKUP(tblSalaries[[#This Row],[Currency]],tblXrate[],2,FALSE)","v":8400},{"$f":"IF($H$1=\"USD\",tblSalaries[[#This Row],[Salary in USD]],tblSalaries[[#This Row],[Salary in USD]]*VLOOKUP($H$1,USDtoUserChoice,2,FALSE))","v":68896.632000000012},"Manager","Manager","India",{"$f":"VLOOKUP(tblSalaries[[#This Row],[Where do you work]],tblCountries[[Actual]:[Mapping]],2,FALSE)","v":"India"},"4 to 6 hours a day",{"$f":"NA()","v":{"$error":"#N/A"}},{"$f":"IF(ISNA(VLOOKUP(tblSalaries[[#This Row],[Years of Experience]],vlookUpExp!$A$1:$B$56,2,FALSE)),\"No Response\",VLOOKUP(tblSalaries[[#This Row],[Years of Experience]],vlookUpExp!$A$1:$B$56,2,FALSE))","v":"No Response"}]
[null,"ID0510","2012-05-26T04:16:16","Rs 500000",500000,"INR",{"$f":"tblSalaries[[#This Row],[clean Salary (in local currency)]]*VLOOKUP(tblSalaries[[#This Row],[Currency]],tblXrate[],2,FALSE)","v":8903.9583437212841},{"$f":"IF($H$1=\"USD\",tblSalaries[[#This Row],[Salary in USD]],tblSalaries[[#This Row],[Salary in USD]]*VLOOKUP($H$1,USDtoUserChoice,2,FALSE))","v":73030.088256035102},"duty manager","Manager","India",{"$f":"VLOOKUP(tblSalaries[[#This Row],[Where do you work]],tblCountries[[Actual]:[Mapping]],2,FALSE)","v":"India"},"2 to 3 hours per day",{"$f":"NA()","v":{"$error":"#N/A"}},{"$f":"IF(ISNA(VLOOKUP(tblSalaries[[#This Row],[Years of Experience]],vlookUpExp!$A$1:$B$56,2,FALSE)),\"No Response\",VLOOKUP(tblSalaries[[#This Row],[Years of Experience]],vlookUpExp!$A$1:$B$56,2,FALSE))","v":"No Response"}]
[null,"ID0511","2012-05-26T04:17:20",12000,12000,"USD",{"$f":"tblSalaries[[#This Row],[clean Salary (in local currency)]]*VLOOKUP(tblSalaries[[#This Row],[Currency]],tblXrate[],2,FALSE)","v":12000},{"$f":"IF($H$1=\"USD\",tblSalaries[[#This Row],[Salary in USD]],tblSalaries[[#This Row],[Salary in USD]]*VLOOKUP($H$1,USDtoUserChoice,2,FALSE))","v":98423.760000000009},"Report Analyst","Analyst","Brazil",{"$f":"VLOOKUP(tblSalaries[[#This Row],[Where do you work]],tblCountries[[Actual]:[Mapping]],2,FALSE)","v":"Brazil"},"All the 8 hours baby, all the 8!",{"$f":"NA()","v":{"$error":"#N/A"}},{"$f":"IF(ISNA(VLOOKUP(tblSalaries[[#This Row],[Years of Experience]],vlookUpExp!$A$1:$B$56,2,FALSE)),\"No Response\",VLOOKUP(tblSalaries[[#This Row],[Years of Experience]],vlookUpExp!$A$1:$B$56,2,FALSE))","v":"No Response"}]
[null,"ID0512","2012-05-26T04:18:15",65000,65000,"USD",{"$f":"tblSalaries[[#This Row],[clean Salary (in local currency)]]*VLOOKUP(tblSalaries[[#This Row],[Currency]],tblXrate[],2,FALSE)","v":65000},{"$f":"IF($H$1=\"USD\",tblSalaries[[#This Row],[Salary in USD]],tblSalaries[[#This Row],[Salary in USD]]*VLOOKUP($H$1,USDtoUserChoice,2,FALSE))","v":533128.70000000007},"Retail Store Manager","Manager","USA",{"$f":"VLOOKUP(tblSalaries[[#This Row],[Where do you work]],tblCountries[[Actual]:[Mapping]],2,FALSE)","v":"USA"},"All the 8 hours baby, all the 8!",{"$f":"NA()","v":{"$error":"#N/A"}},{"$f":"IF(ISNA(VLOOKUP(tblSalaries[[#This Row],[Years of Experience]],vlookUpExp!$A$1:$B$56,2,FALSE)),\"No Response\",VLOOKUP(tblSalaries[[#This Row],[Years of Experience]],vlookUpExp!$A$1:$B$56,2,FALSE))","v":"No Response"}]
[null,"ID0513","2012-05-26T04:19:05","Â£16400",16400,"GBP",{"$f":"tblSalaries[[#This Row],[clean Salary (in local currency)]]*VLOOKUP(tblSalaries[[#This Row],[Currency]],tblXrate[],2,FALSE)","v":25849.323661903458},{"$f":"IF($H$1=\"USD\",tblSalaries[[#This Row],[Salary in USD]],tblSalaries[[#This Row],[Salary in USD]]*VLOOKUP($H$1,USDtoUserChoice,2,FALSE))","v":212015.63568845895},"Job Build analyst","Analyst","UK",{"$f":"VLOOKUP(tblSalaries[[#This Row],[Where do you work]],tblCountries[[Actual]:[Mapping]],2,FALSE)","v":"UK"},"4 to 6 hours a day",{"$f":"NA()","v":{"$error":"#N/A"}},{"$f":"IF(ISNA(VLOOKUP(tblSalaries[[#This Row],[Years of Experience]],vlookUpExp!$A$1:$B$56,2,FALSE)),\"No Response\",VLOOKUP(tblSalaries[[#This Row],[Years of Experience]],vlookUpExp!$A$1:$B$56,2,FALSE))","v":"No Response"}]
[null,"ID0514","2012-05-26T04:20:17",78000,78000,"GBP",{"$f":"tblSalaries[[#This Row],[clean Salary (in local currency)]]*VLOOKUP(tblSalaries[[#This Row],[Currency]],tblXrate[],2,FALSE)","v":122941.90522124816},{"$f":"IF($H$1=\"USD\",tblSalaries[[#This Row],[Salary in USD]],tblSalaries[[#This Row],[Salary in USD]]*VLOOKUP($H$1,USDtoUserChoice,2,FALSE))","v":1008367.0477865731},"Associate","Analyst","UK",{"$f":"VLOOKUP(tblSalaries[[#This Row],[Where do you work]],tblCountries[[Actual]:[Mapping]],2,FALSE)","v":"UK"},"1 or 2 hours a day",{"$f":"NA()","v":{"$error":"#N/A"}},{"$f":"IF(ISNA(VLOOKUP(tblSalaries[[#This Row],[Years of Experience]],vlookUpExp!$A$1:$B$56,2,FALSE)),\"No Response\",VLOOKUP(tblSalaries[[#This Row],[Years of Experience]],vlookUpExp!$A$1:$B$56,2,FALSE))","v":"No Response"}]
[null,"ID0515","2012-05-26T04:25:24",76000,76000,"USD",{"$f":"tblSalaries[[#This Row],[clean Salary (in local currency)]]*VLOOKUP(tblSalaries[[#This Row],[Currency]],tblXrate[],2,FALSE)","v":76000},{"$f":"IF($H$1=\"USD\",tblSalaries[[#This Row],[Salary in USD]],tblSalaries[[#This Row],[Salary in USD]]*VLOOKUP($H$1,USDtoUserChoice,2,FALSE))","v":623350.4800000001},"Accounting Manager","Manager","USA",{"$f":"VLOOKUP(tblSalaries[[#This Row],[Where do you work]],tblCountries[[Actual]:[Mapping]],2,FALSE)","v":"USA"},"2 to 3 hours per day",{"$f":"NA()","v":{"$error":"#N/A"}},{"$f":"IF(ISNA(VLOOKUP(tblSalaries[[#This Row],[Years of Experience]],vlookUpExp!$A$1:$B$56,2,FALSE)),\"No Response\",VLOOKUP(tblSalaries[[#This Row],[Years of Experience]],vlookUpExp!$A$1:$B$56,2,FALSE))","v":"No Response"}]
[null,"ID0516","2012-05-26T04:26:10","$150000pa",150000,"USD",{"$f":"tblSalaries[[#This Row],[clean Salary (in local currency)]]*VLOOKUP(tblSalaries[[#This Row],[Currency]],tblXrate[],2,FALSE)","v":150000},{"$f":"IF($H$1=\"USD\",tblSalaries[[#This Row],[Salary in USD]],tblSalaries[[#This Row],[Salary in USD]]*VLOOKUP($H$1,USDtoUserChoice,2,FALSE))","v":1230297},"Consultant","Consultant","USA",{"$f":"VLOOKUP(tblSalaries[[#This Row],[Where do you work]],tblCountries[[Actual]:[Mapping]],2,FALSE)","v":"USA"},"All the 8 hours baby, all the 8!",{"$f":"NA()","v":{"$error":"#N/A"}},{"$f":"IF(ISNA(VLOOKUP(tblSalaries[[#This Row],[Years of Experience]],vlookUpExp!$A$1:$B$56,2,FALSE)),\"No Response\",VLOOKUP(tblSalaries[[#This Row],[Years of Experience]],vlookUpExp!$A$1:$B$56,2,FALSE))","v":"No Response"}]
[null,"ID0517","2012-05-26T04:27:12",54000,54000,"USD",{"$f":"tblSalaries[[#This Row],[clean Salary (in local currency)]]*VLOOKUP(tblSalaries[[#This Row],[Currency]],tblXrate[],2,FALSE)","v":54000},{"$f":"IF($H$1=\"USD\",tblSalaries[[#This Row],[Salary in USD]],tblSalaries[[#This Row],[Salary in USD]]*VLOOKUP($H$1,USDtoUserChoice,2,FALSE))","v":442906.92000000004},"Business Analyst","Analyst","USA",{"$f":"VLOOKUP(tblSalaries[[#This Row],[Where do you work]],tblCountries[[Actual]:[Mapping]],2,FALSE)","v":"USA"},"4 to 6 hours a day",{"$f":"NA()","v":{"$error":"#N/A"}},{"$f":"IF(ISNA(VLOOKUP(tblSalaries[[#This Row],[Years of Experience]],vlookUpExp!$A$1:$B$56,2,FALSE)),\"No Response\",VLOOKUP(tblSalaries[[#This Row],[Years of Experience]],vlookUpExp!$A$1:$B$56,2,FALSE))","v":"No Response"}]
[null,"ID0518","2012-05-26T04:33:03","57000 USD",57000,"USD",{"$f":"tblSalaries[[#This Row],[clean Salary (in local currency)]]*VLOOKUP(tblSalaries[[#This Row],[Currency]],tblXrate[],2,FALSE)","v":57000},{"$f":"IF($H$1=\"USD\",tblSalaries[[#This Row],[Salary in USD]],tblSalaries[[#This Row],[Salary in USD]]*VLOOKUP($H$1,USDtoUserChoice,2,FALSE))","v":467512.86000000004},"project finance manager","Manager","israel",{"$f":"VLOOKUP(tblSalaries[[#This Row],[Where do you work]],tblCountries[[Actual]:[Mapping]],2,FALSE)","v":"Israel"},"4 to 6 hours a day",{"$f":"NA()","v":{"$error":"#N/A"}},{"$f":"IF(ISNA(VLOOKUP(tblSalaries[[#This Row],[Years of Experience]],vlookUpExp!$A$1:$B$56,2,FALSE)),\"No Response\",VLOOKUP(tblSalaries[[#This Row],[Years of Experience]],vlookUpExp!$A$1:$B$56,2,FALSE))","v":"No Response"}]
[null,"ID0519","2012-05-26T04:33:27",61000,61000,"USD",{"$f":"tblSalaries[[#This Row],[clean Salary (in local currency)]]*VLOOKUP(tblSalaries[[#This Row],[Currency]],tblXrate[],2,FALSE)","v":61000},{"$f":"IF($H$1=\"USD\",tblSalaries[[#This Row],[Salary in USD]],tblSalaries[[#This Row],[Salary in USD]]*VLOOKUP($H$1,USDtoUserChoice,2,FALSE))","v":500320.78},"Senior Accountant","Accountant","USA",{"$f":"VLOOKUP(tblSalaries[[#This Row],[Where do you work]],tblCountries[[Actual]:[Mapping]],2,FALSE)","v":"USA"},"4 to 6 hours a day",{"$f":"NA()","v":{"$error":"#N/A"}},{"$f":"IF(ISNA(VLOOKUP(tblSalaries[[#This Row],[Years of Experience]],vlookUpExp!$A$1:$B$56,2,FALSE)),\"No Response\",VLOOKUP(tblSalaries[[#This Row],[Years of Experience]],vlookUpExp!$A$1:$B$56,2,FALSE))","v":"No Response"}]
[null,"ID0520","2012-05-26T04:34:41",70000,70000,"USD",{"$f":"tblSalaries[[#This Row],[clean Salary (in local currency)]]*VLOOKUP(tblSalaries[[#This Row],[Currency]],tblXrate[],2,FALSE)","v":70000},{"$f":"IF($H$1=\"USD\",tblSalaries[[#This Row],[Salary in USD]],tblSalaries[[#This Row],[Salary in USD]]*VLOOKUP($H$1,USDtoUserChoice,2,FALSE))","v":574138.60000000009},"Metrics Analyst","Analyst","USA",{"$f":"VLOOKUP(tblSalaries[[#This Row],[Where do you work]],tblCountries[[Actual]:[Mapping]],2,FALSE)","v":"USA"},"All the 8 hours baby, all the 8!",{"$f":"NA()","v":{"$error":"#N/A"}},{"$f":"IF(ISNA(VLOOKUP(tblSalaries[[#This Row],[Years of Experience]],vlookUpExp!$A$1:$B$56,2,FALSE)),\"No Response\",VLOOKUP(tblSalaries[[#This Row],[Years of Experience]],vlookUpExp!$A$1:$B$56,2,FALSE))","v":"No Response"}]
[null,"ID0521","2012-05-26T04:36:43",15000,15000,"USD",{"$f":"tblSalaries[[#This Row],[clean Salary (in local currency)]]*VLOOKUP(tblSalaries[[#This Row],[Currency]],tblXrate[],2,FALSE)","v":15000},{"$f":"IF($H$1=\"USD\",tblSalaries[[#This Row],[Salary in USD]],tblSalaries[[#This Row],[Salary in USD]]*VLOOKUP($H$1,USDtoUserChoice,2,FALSE))","v":123029.70000000001},"Asst.Manager","Manager","India",{"$f":"VLOOKUP(tblSalaries[[#This Row],[Where do you work]],tblCountries[[Actual]:[Mapping]],2,FALSE)","v":"India"},"4 to 6 hours a day",{"$f":"NA()","v":{"$error":"#N/A"}},{"$f":"IF(ISNA(VLOOKUP(tblSalaries[[#This Row],[Years of Experience]],vlookUpExp!$A$1:$B$56,2,FALSE)),\"No Response\",VLOOKUP(tblSalaries[[#This Row],[Years of Experience]],vlookUpExp!$A$1:$B$56,2,FALSE))","v":"No Response"}]
[null,"ID0522","2012-05-26T04:39:11",87550,87550,"CAD",{"$f":"tblSalaries[[#This Row],[clean Salary (in local currency)]]*VLOOKUP(tblSalaries[[#This Row],[Currency]],tblXrate[],2,FALSE)","v":86093.301341305123},{"$f":"IF($H$1=\"USD\",tblSalaries[[#This Row],[Salary in USD]],tblSalaries[[#This Row],[Salary in USD]]*VLOOKUP($H$1,USDtoUserChoice,2,FALSE))","v":706135.5357353579},"Manager","Manager","Canada",{"$f":"VLOOKUP(tblSalaries[[#This Row],[Where do you work]],tblCountries[[Actual]:[Mapping]],2,FALSE)","v":"Canada"},"4 to 6 hours a day",{"$f":"NA()","v":{"$error":"#N/A"}},{"$f":"IF(ISNA(VLOOKUP(tblSalaries[[#This Row],[Years of Experience]],vlookUpExp!$A$1:$B$56,2,FALSE)),\"No Response\",VLOOKUP(tblSalaries[[#This Row],[Years of Experience]],vlookUpExp!$A$1:$B$56,2,FALSE))","v":"No Response"}]
[null,"ID0523","2012-05-26T04:40:36",72600,72600,"USD",{"$f":"tblSalaries[[#This Row],[clean Salary (in local currency)]]*VLOOKUP(tblSalaries[[#This Row],[Currency]],tblXrate[],2,FALSE)","v":72600},{"$f":"IF($H$1=\"USD\",tblSalaries[[#This Row],[Salary in USD]],tblSalaries[[#This Row],[Salary in USD]]*VLOOKUP($H$1,USDtoUserChoice,2,FALSE))","v":595463.74800000002},"Accounting Operations Manager","Manager","USA",{"$f":"VLOOKUP(tblSalaries[[#This Row],[Where do you work]],tblCountries[[Actual]:[Mapping]],2,FALSE)","v":"USA"},"2 to 3 hours per day",{"$f":"NA()","v":{"$error":"#N/A"}},{"$f":"IF(ISNA(VLOOKUP(tblSalaries[[#This Row],[Years of Experience]],vlookUpExp!$A$1:$B$56,2,FALSE)),\"No Response\",VLOOKUP(tblSalaries[[#This Row],[Years of Experience]],vlookUpExp!$A$1:$B$56,2,FALSE))","v":"No Response"}]
[null,"ID0524","2012-05-26T04:41:20",100000,100000,"USD",{"$f":"tblSalaries[[#This Row],[clean Salary (in local currency)]]*VLOOKUP(tblSalaries[[#This Row],[Currency]],tblXrate[],2,FALSE)","v":100000},{"$f":"IF($H$1=\"USD\",tblSalaries[[#This Row],[Salary in USD]],tblSalaries[[#This Row],[Salary in USD]]*VLOOKUP($H$1,USDtoUserChoice,2,FALSE))","v":820198.00000000012},"Director","CXO or Top Mgmt.","USA",{"$f":"VLOOKUP(tblSalaries[[#This Row],[Where do you work]],tblCountries[[Actual]:[Mapping]],2,FALSE)","v":"USA"},"2 to 3 hours per day",{"$f":"NA()","v":{"$error":"#N/A"}},{"$f":"IF(ISNA(VLOOKUP(tblSalaries[[#This Row],[Years of Experience]],vlookUpExp!$A$1:$B$56,2,FALSE)),\"No Response\",VLOOKUP(tblSalaries[[#This Row],[Years of Experience]],vlookUpExp!$A$1:$B$56,2,FALSE))","v":"No Response"}]
[null,"ID0525","2012-05-26T04:44:26",104000,104000,"USD",{"$f":"tblSalaries[[#This Row],[clean Salary (in local currency)]]*VLOOKUP(tblSalaries[[#This Row],[Currency]],tblXrate[],2,FALSE)","v":104000},{"$f":"IF($H$1=\"USD\",tblSalaries[[#This Row],[Salary in USD]],tblSalaries[[#This Row],[Salary in USD]]*VLOOKUP($H$1,USDtoUserChoice,2,FALSE))","v":853005.92},"Vice President, Analyst","Analyst","USA",{"$f":"VLOOKUP(tblSalaries[[#This Row],[Where do you work]],tblCountries[[Actual]:[Mapping]],2,FALSE)","v":"USA"},"4 to 6 hours a day",{"$f":"NA()","v":{"$error":"#N/A"}},{"$f":"IF(ISNA(VLOOKUP(tblSalaries[[#This Row],[Years of Experience]],vlookUpExp!$A$1:$B$56,2,FALSE)),\"No Response\",VLOOKUP(tblSalaries[[#This Row],[Years of Experience]],vlookUpExp!$A$1:$B$56,2,FALSE))","v":"No Response"}]
[null,"ID0526","2012-05-26T04:48:35",600000,600000,"INR",{"$f":"tblSalaries[[#This Row],[clean Salary (in local currency)]]*VLOOKUP(tblSalaries[[#This Row],[Currency]],tblXrate[],2,FALSE)","v":10684.750012465542},{"$f":"IF($H$1=\"USD\",tblSalaries[[#This Row],[Salary in USD]],tblSalaries[[#This Row],[Salary in USD]]*VLOOKUP($H$1,USDtoUserChoice,2,FALSE))","v":87636.105907242134},"Project Manager","Manager","India",{"$f":"VLOOKUP(tblSalaries[[#This Row],[Where do you work]],tblCountries[[Actual]:[Mapping]],2,FALSE)","v":"India"},"4 to 6 hours a day",{"$f":"NA()","v":{"$error":"#N/A"}},{"$f":"IF(ISNA(VLOOKUP(tblSalaries[[#This Row],[Years of Experience]],vlookUpExp!$A$1:$B$56,2,FALSE)),\"No Response\",VLOOKUP(tblSalaries[[#This Row],[Years of Experience]],vlookUpExp!$A$1:$B$56,2,FALSE))","v":"No Response"}]
[null,"ID0527","2012-05-26T04:48:54",200000,200000,"USD",{"$f":"tblSalaries[[#This Row],[clean Salary (in local currency)]]*VLOOKUP(tblSalaries[[#This Row],[Currency]],tblXrate[],2,FALSE)","v":200000},{"$f":"IF($H$1=\"USD\",tblSalaries[[#This Row],[Salary in USD]],tblSalaries[[#This Row],[Salary in USD]]*VLOOKUP($H$1,USDtoUserChoice,2,FALSE))","v":1640396.0000000002},"COO","CXO or Top Mgmt.","USA",{"$f":"VLOOKUP(tblSalaries[[#This Row],[Where do you work]],tblCountries[[Actual]:[Mapping]],2,FALSE)","v":"USA"},"2 to 3 hours per day",{"$f":"NA()","v":{"$error":"#N/A"}},{"$f":"IF(ISNA(VLOOKUP(tblSalaries[[#This Row],[Years of Experience]],vlookUpExp!$A$1:$B$56,2,FALSE)),\"No Response\",VLOOKUP(tblSalaries[[#This Row],[Years of Experience]],vlookUpExp!$A$1:$B$56,2,FALSE))","v":"No Response"}]
[null,"ID0528","2012-05-26T04:50:21","EUR 49248",49248,"EUR",{"$f":"tblSalaries[[#This Row],[clean Salary (in local currency)]]*VLOOKUP(tblSalaries[[#This Row],[Currency]],tblXrate[],2,FALSE)","v":62564.631571458704},{"$f":"IF($H$1=\"USD\",tblSalaries[[#This Row],[Salary in USD]],tblSalaries[[#This Row],[Salary in USD]]*VLOOKUP($H$1,USDtoUserChoice,2,FALSE))","v":513153.85685647291},"Financial Advisor","Accountant","Netherlands",{"$f":"VLOOKUP(tblSalaries[[#This Row],[Where do you work]],tblCountries[[Actual]:[Mapping]],2,FALSE)","v":"Netherlands"},"All the 8 hours baby, all the 8!",{"$f":"NA()","v":{"$error":"#N/A"}},{"$f":"IF(ISNA(VLOOKUP(tblSalaries[[#This Row],[Years of Experience]],vlookUpExp!$A$1:$B$56,2,FALSE)),\"No Response\",VLOOKUP(tblSalaries[[#This Row],[Years of Experience]],vlookUpExp!$A$1:$B$56,2,FALSE))","v":"No Response"}]
[null,"ID0529","2012-05-26T04:50:47",36500,36500,"GBP",{"$f":"tblSalaries[[#This Row],[clean Salary (in local currency)]]*VLOOKUP(tblSalaries[[#This Row],[Currency]],tblXrate[],2,FALSE)","v":57530.506930455871},{"$f":"IF($H$1=\"USD\",tblSalaries[[#This Row],[Salary in USD]],tblSalaries[[#This Row],[Salary in USD]]*VLOOKUP($H$1,USDtoUserChoice,2,FALSE))","v":471864.06723346049},"Production Manager","Manager","UK",{"$f":"VLOOKUP(tblSalaries[[#This Row],[Where do you work]],tblCountries[[Actual]:[Mapping]],2,FALSE)","v":"UK"},"2 to 3 hours per day",{"$f":"NA()","v":{"$error":"#N/A"}},{"$f":"IF(ISNA(VLOOKUP(tblSalaries[[#This Row],[Years of Experience]],vlookUpExp!$A$1:$B$56,2,FALSE)),\"No Response\",VLOOKUP(tblSalaries[[#This Row],[Years of Experience]],vlookUpExp!$A$1:$B$56,2,FALSE))","v":"No Response"}]
[null,"ID0530","2012-05-26T05:00:21",82300,82300,"USD",{"$f":"tblSalaries[[#This Row],[clean Salary (in local currency)]]*VLOOKUP(tblSalaries[[#This Row],[Currency]],tblXrate[],2,FALSE)","v":82300},{"$f":"IF($H$1=\"USD\",tblSalaries[[#This Row],[Salary in USD]],tblSalaries[[#This Row],[Salary in USD]]*VLOOKUP($H$1,USDtoUserChoice,2,FALSE))","v":675022.95400000003},"Manager - Finance","Manager","USA",{"$f":"VLOOKUP(tblSalaries[[#This Row],[Where do you work]],tblCountries[[Actual]:[Mapping]],2,FALSE)","v":"USA"},"2 to 3 hours per day",{"$f":"NA()","v":{"$error":"#N/A"}},{"$f":"IF(ISNA(VLOOKUP(tblSalaries[[#This Row],[Years of Experience]],vlookUpExp!$A$1:$B$56,2,FALSE)),\"No Response\",VLOOKUP(tblSalaries[[#This Row],[Years of Experience]],vlookUpExp!$A$1:$B$56,2,FALSE))","v":"No Response"}]
[null,"ID0531","2012-05-26T05:04:49",95000,95000,"USD",{"$f":"tblSalaries[[#This Row],[clean Salary (in local currency)]]*VLOOKUP(tblSalaries[[#This Row],[Currency]],tblXrate[],2,FALSE)","v":95000},{"$f":"IF($H$1=\"USD\",tblSalaries[[#This Row],[Salary in USD]],tblSalaries[[#This Row],[Salary in USD]]*VLOOKUP($H$1,USDtoUserChoice,2,FALSE))","v":779188.10000000009},"Process Design Consultant","Consultant","USA",{"$f":"VLOOKUP(tblSalaries[[#This Row],[Where do you work]],tblCountries[[Actual]:[Mapping]],2,FALSE)","v":"USA"},"4 to 6 hours a day",{"$f":"NA()","v":{"$error":"#N/A"}},{"$f":"IF(ISNA(VLOOKUP(tblSalaries[[#This Row],[Years of Experience]],vlookUpExp!$A$1:$B$56,2,FALSE)),\"No Response\",VLOOKUP(tblSalaries[[#This Row],[Years of Experience]],vlookUpExp!$A$1:$B$56,2,FALSE))","v":"No Response"}]
[null,"ID0532","2012-05-26T05:07:30",140000,140000,"GBP",{"$f":"tblSalaries[[#This Row],[clean Salary (in local currency)]]*VLOOKUP(tblSalaries[[#This Row],[Currency]],tblXrate[],2,FALSE)","v":220664.95808941979},{"$f":"IF($H$1=\"USD\",tblSalaries[[#This Row],[Salary in USD]],tblSalaries[[#This Row],[Salary in USD]]*VLOOKUP($H$1,USDtoUserChoice,2,FALSE))","v":1809889.5729502595},"vba specialist","Specialist","UK",{"$f":"VLOOKUP(tblSalaries[[#This Row],[Where do you work]],tblCountries[[Actual]:[Mapping]],2,FALSE)","v":"UK"},"All the 8 hours baby, all the 8!",{"$f":"NA()","v":{"$error":"#N/A"}},{"$f":"IF(ISNA(VLOOKUP(tblSalaries[[#This Row],[Years of Experience]],vlookUpExp!$A$1:$B$56,2,FALSE)),\"No Response\",VLOOKUP(tblSalaries[[#This Row],[Years of Experience]],vlookUpExp!$A$1:$B$56,2,FALSE))","v":"No Response"}]
[null,"ID0533","2012-05-26T05:13:03",72000,72000,"USD",{"$f":"tblSalaries[[#This Row],[clean Salary (in local currency)]]*VLOOKUP(tblSalaries[[#This Row],[Currency]],tblXrate[],2,FALSE)","v":72000},{"$f":"IF($H$1=\"USD\",tblSalaries[[#This Row],[Salary in USD]],tblSalaries[[#This Row],[Salary in USD]]*VLOOKUP($H$1,USDtoUserChoice,2,FALSE))","v":590542.56000000006},"Analytical Department Director ","Analyst","Russia",{"$f":"VLOOKUP(tblSalaries[[#This Row],[Where do you work]],tblCountries[[Actual]:[Mapping]],2,FALSE)","v":"Russia"},"2 to 3 hours per day",{"$f":"NA()","v":{"$error":"#N/A"}},{"$f":"IF(ISNA(VLOOKUP(tblSalaries[[#This Row],[Years of Experience]],vlookUpExp!$A$1:$B$56,2,FALSE)),\"No Response\",VLOOKUP(tblSalaries[[#This Row],[Years of Experience]],vlookUpExp!$A$1:$B$56,2,FALSE))","v":"No Response"}]
[null,"ID0534","2012-05-26T05:15:54",60000,60000,"AUD",{"$f":"tblSalaries[[#This Row],[clean Salary (in local currency)]]*VLOOKUP(tblSalaries[[#This Row],[Currency]],tblXrate[],2,FALSE)","v":61194.579384158147},{"$f":"IF($H$1=\"USD\",tblSalaries[[#This Row],[Salary in USD]],tblSalaries[[#This Row],[Salary in USD]]*VLOOKUP($H$1,USDtoUserChoice,2,FALSE))","v":501916.71621727746},"Analyst","Analyst","Australia",{"$f":"VLOOKUP(tblSalaries[[#This Row],[Where do you work]],tblCountries[[Actual]:[Mapping]],2,FALSE)","v":"Australia"},"2 to 3 hours per day",{"$f":"NA()","v":{"$error":"#N/A"}},{"$f":"IF(ISNA(VLOOKUP(tblSalaries[[#This Row],[Years of Experience]],vlookUpExp!$A$1:$B$56,2,FALSE)),\"No Response\",VLOOKUP(tblSalaries[[#This Row],[Years of Experience]],vlookUpExp!$A$1:$B$56,2,FALSE))","v":"No Response"}]
[null,"ID0535","2012-05-26T05:18:12","120k",120000,"USD",{"$f":"tblSalaries[[#This Row],[clean Salary (in local currency)]]*VLOOKUP(tblSalaries[[#This Row],[Currency]],tblXrate[],2,FALSE)","v":120000},{"$f":"IF($H$1=\"USD\",tblSalaries[[#This Row],[Salary in USD]],tblSalaries[[#This Row],[Salary in USD]]*VLOOKUP($H$1,USDtoUserChoice,2,FALSE))","v":984237.60000000009},"manager","Manager","nz",{"$f":"VLOOKUP(tblSalaries[[#This Row],[Where do you work]],tblCountries[[Actual]:[Mapping]],2,FALSE)","v":"New Zealand"},"2 to 3 hours per day",{"$f":"NA()","v":{"$error":"#N/A"}},{"$f":"IF(ISNA(VLOOKUP(tblSalaries[[#This Row],[Years of Experience]],vlookUpExp!$A$1:$B$56,2,FALSE)),\"No Response\",VLOOKUP(tblSalaries[[#This Row],[Years of Experience]],vlookUpExp!$A$1:$B$56,2,FALSE))","v":"No Response"}]
[null,"ID0536","2012-05-26T05:18:27","US$95K",95000,"USD",{"$f":"tblSalaries[[#This Row],[clean Salary (in local currency)]]*VLOOKUP(tblSalaries[[#This Row],[Currency]],tblXrate[],2,FALSE)","v":95000},{"$f":"IF($H$1=\"USD\",tblSalaries[[#This Row],[Salary in USD]],tblSalaries[[#This Row],[Salary in USD]]*VLOOKUP($H$1,USDtoUserChoice,2,FALSE))","v":779188.10000000009},"Director of Supply Chain","CXO or Top Mgmt.","Central America",{"$f":"VLOOKUP(tblSalaries[[#This Row],[Where do you work]],tblCountries[[Actual]:[Mapping]],2,FALSE)","v":"Central America"},"2 to 3 hours per day",{"$f":"NA()","v":{"$error":"#N/A"}},{"$f":"IF(ISNA(VLOOKUP(tblSalaries[[#This Row],[Years of Experience]],vlookUpExp!$A$1:$B$56,2,FALSE)),\"No Response\",VLOOKUP(tblSalaries[[#This Row],[Years of Experience]],vlookUpExp!$A$1:$B$56,2,FALSE))","v":"No Response"}]
[null,"ID0537","2012-05-26T05:20:43",50000,50000,"USD",{"$f":"tblSalaries[[#This Row],[clean Salary (in local currency)]]*VLOOKUP(tblSalaries[[#This Row],[Currency]],tblXrate[],2,FALSE)","v":50000},{"$f":"IF($H$1=\"USD\",tblSalaries[[#This Row],[Salary in USD]],tblSalaries[[#This Row],[Salary in USD]]*VLOOKUP($H$1,USDtoUserChoice,2,FALSE))","v":410099.00000000006},"Research Assistant","Analyst","USA",{"$f":"VLOOKUP(tblSalaries[[#This Row],[Where do you work]],tblCountries[[Actual]:[Mapping]],2,FALSE)","v":"USA"},"2 to 3 hours per day",{"$f":"NA()","v":{"$error":"#N/A"}},{"$f":"IF(ISNA(VLOOKUP(tblSalaries[[#This Row],[Years of Experience]],vlookUpExp!$A$1:$B$56,2,FALSE)),\"No Response\",VLOOKUP(tblSalaries[[#This Row],[Years of Experience]],vlookUpExp!$A$1:$B$56,2,FALSE))","v":"No Response"}]
[null,"ID0538","2012-05-26T05:23:20","73,000 GBP",73000,"GBP",{"$f":"tblSalaries[[#This Row],[clean Salary (in local currency)]]*VLOOKUP(tblSalaries[[#This Row],[Currency]],tblXrate[],2,FALSE)","v":115061.01386091174},{"$f":"IF($H$1=\"USD\",tblSalaries[[#This Row],[Salary in USD]],tblSalaries[[#This Row],[Salary in USD]]*VLOOKUP($H$1,USDtoUserChoice,2,FALSE))","v":943728.13446692098},"Finance Manager","Manager","UK",{"$f":"VLOOKUP(tblSalaries[[#This Row],[Where do you work]],tblCountries[[Actual]:[Mapping]],2,FALSE)","v":"UK"},"4 to 6 hours a day",{"$f":"NA()","v":{"$error":"#N/A"}},{"$f":"IF(ISNA(VLOOKUP(tblSalaries[[#This Row],[Years of Experience]],vlookUpExp!$A$1:$B$56,2,FALSE)),\"No Response\",VLOOKUP(tblSalaries[[#This Row],[Years of Experience]],vlookUpExp!$A$1:$B$56,2,FALSE))","v":"No Response"}]
[null,"ID0539","2012-05-26T05:24:16",50000,50000,"USD",{"$f":"tblSalaries[[#This Row],[clean Salary (in local currency)]]*VLOOKUP(tblSalaries[[#This Row],[Currency]],tblXrate[],2,FALSE)","v":50000},{"$f":"IF($H$1=\"USD\",tblSalaries[[#This Row],[Salary in USD]],tblSalaries[[#This Row],[Salary in USD]]*VLOOKUP($H$1,USDtoUserChoice,2,FALSE))","v":410099.00000000006},"Excel professional","Analyst","self-employed",{"$f":"VLOOKUP(tblSalaries[[#This Row],[Where do you work]],tblCountries[[Actual]:[Mapping]],2,FALSE)","v":"self-employed"},"4 to 6 hours a day",{"$f":"NA()","v":{"$error":"#N/A"}},{"$f":"IF(ISNA(VLOOKUP(tblSalaries[[#This Row],[Years of Experience]],vlookUpExp!$A$1:$B$56,2,FALSE)),\"No Response\",VLOOKUP(tblSalaries[[#This Row],[Years of Experience]],vlookUpExp!$A$1:$B$56,2,FALSE))","v":"No Response"}]
[null,"ID0540","2012-05-26T05:27:14",46000,46000,"USD",{"$f":"tblSalaries[[#This Row],[clean Salary (in local currency)]]*VLOOKUP(tblSalaries[[#This Row],[Currency]],tblXrate[],2,FALSE)","v":46000},{"$f":"IF($H$1=\"USD\",tblSalaries[[#This Row],[Salary in USD]],tblSalaries[[#This Row],[Salary in USD]]*VLOOKUP($H$1,USDtoUserChoice,2,FALSE))","v":377291.08},"Research Analyst","Analyst","USA",{"$f":"VLOOKUP(tblSalaries[[#This Row],[Where do you work]],tblCountries[[Actual]:[Mapping]],2,FALSE)","v":"USA"},"2 to 3 hours per day",{"$f":"NA()","v":{"$error":"#N/A"}},{"$f":"IF(ISNA(VLOOKUP(tblSalaries[[#This Row],[Years of Experience]],vlookUpExp!$A$1:$B$56,2,FALSE)),\"No Response\",VLOOKUP(tblSalaries[[#This Row],[Years of Experience]],vlookUpExp!$A$1:$B$56,2,FALSE))","v":"No Response"}]
[null,"ID0541","2012-05-26T05:27:37","PKR 50,000",600000,"PKR",{"$f":"tblSalaries[[#This Row],[clean Salary (in local currency)]]*VLOOKUP(tblSalaries[[#This Row],[Currency]],tblXrate[],2,FALSE)","v":6368.453230079479},{"$f":"IF($H$1=\"USD\",tblSalaries[[#This Row],[Salary in USD]],tblSalaries[[#This Row],[Salary in USD]]*VLOOKUP($H$1,USDtoUserChoice,2,FALSE))","v":52233.926024047287},"Trainer","Consultant","Pakistan",{"$f":"VLOOKUP(tblSalaries[[#This Row],[Where do you work]],tblCountries[[Actual]:[Mapping]],2,FALSE)","v":"Pakistan"},"4 to 6 hours a day",{"$f":"NA()","v":{"$error":"#N/A"}},{"$f":"IF(ISNA(VLOOKUP(tblSalaries[[#This Row],[Years of Experience]],vlookUpExp!$A$1:$B$56,2,FALSE)),\"No Response\",VLOOKUP(tblSalaries[[#This Row],[Years of Experience]],vlookUpExp!$A$1:$B$56,2,FALSE))","v":"No Response"}]
[null,"ID0543","2012-05-26T05:28:46",85000,85000,"AUD",{"$f":"tblSalaries[[#This Row],[clean Salary (in local currency)]]*VLOOKUP(tblSalaries[[#This Row],[Currency]],tblXrate[],2,FALSE)","v":86692.320794224041},{"$f":"IF($H$1=\"USD\",tblSalaries[[#This Row],[Salary in USD]],tblSalaries[[#This Row],[Salary in USD]]*VLOOKUP($H$1,USDtoUserChoice,2,FALSE))","v":711048.68130780978},"Business analyst","Analyst","Australia",{"$f":"VLOOKUP(tblSalaries[[#This Row],[Where do you work]],tblCountries[[Actual]:[Mapping]],2,FALSE)","v":"Australia"},"4 to 6 hours a day",{"$f":"NA()","v":{"$error":"#N/A"}},{"$f":"IF(ISNA(VLOOKUP(tblSalaries[[#This Row],[Years of Experience]],vlookUpExp!$A$1:$B$56,2,FALSE)),\"No Response\",VLOOKUP(tblSalaries[[#This Row],[Years of Experience]],vlookUpExp!$A$1:$B$56,2,FALSE))","v":"No Response"}]
[null,"ID0544","2012-05-26T05:29:55",450000,450000,"INR",{"$f":"tblSalaries[[#This Row],[clean Salary (in local currency)]]*VLOOKUP(tblSalaries[[#This Row],[Currency]],tblXrate[],2,FALSE)","v":8013.5625093491553},{"$f":"IF($H$1=\"USD\",tblSalaries[[#This Row],[Salary in USD]],tblSalaries[[#This Row],[Salary in USD]]*VLOOKUP($H$1,USDtoUserChoice,2,FALSE))","v":65727.079430431593},"deputy manager","Manager","India",{"$f":"VLOOKUP(tblSalaries[[#This Row],[Where do you work]],tblCountries[[Actual]:[Mapping]],2,FALSE)","v":"India"},"All the 8 hours baby, all the 8!",{"$f":"NA()","v":{"$error":"#N/A"}},{"$f":"IF(ISNA(VLOOKUP(tblSalaries[[#This Row],[Years of Experience]],vlookUpExp!$A$1:$B$56,2,FALSE)),\"No Response\",VLOOKUP(tblSalaries[[#This Row],[Years of Experience]],vlookUpExp!$A$1:$B$56,2,FALSE))","v":"No Response"}]
[null,"ID0545","2012-05-26T05:29:58",43000,43000,"USD",{"$f":"tblSalaries[[#This Row],[clean Salary (in local currency)]]*VLOOKUP(tblSalaries[[#This Row],[Currency]],tblXrate[],2,FALSE)","v":43000},{"$f":"IF($H$1=\"USD\",tblSalaries[[#This Row],[Salary in USD]],tblSalaries[[#This Row],[Salary in USD]]*VLOOKUP($H$1,USDtoUserChoice,2,FALSE))","v":352685.14},"Accountant","Accountant","USA",{"$f":"VLOOKUP(tblSalaries[[#This Row],[Where do you work]],tblCountries[[Actual]:[Mapping]],2,FALSE)","v":"USA"},"All the 8 hours baby, all the 8!",{"$f":"NA()","v":{"$error":"#N/A"}},{"$f":"IF(ISNA(VLOOKUP(tblSalaries[[#This Row],[Years of Experience]],vlookUpExp!$A$1:$B$56,2,FALSE)),\"No Response\",VLOOKUP(tblSalaries[[#This Row],[Years of Experience]],vlookUpExp!$A$1:$B$56,2,FALSE))","v":"No Response"}]
[null,"ID0546","2012-05-26T05:30:12",1500,18000,"USD",{"$f":"tblSalaries[[#This Row],[clean Salary (in local currency)]]*VLOOKUP(tblSalaries[[#This Row],[Currency]],tblXrate[],2,FALSE)","v":18000},{"$f":"IF($H$1=\"USD\",tblSalaries[[#This Row],[Salary in USD]],tblSalaries[[#This Row],[Salary in USD]]*VLOOKUP($H$1,USDtoUserChoice,2,FALSE))","v":147635.64000000001},"Engineer","Engineer","Brazil",{"$f":"VLOOKUP(tblSalaries[[#This Row],[Where do you work]],tblCountries[[Actual]:[Mapping]],2,FALSE)","v":"Brazil"},"4 to 6 hours a day",{"$f":"NA()","v":{"$error":"#N/A"}},{"$f":"IF(ISNA(VLOOKUP(tblSalaries[[#This Row],[Years of Experience]],vlookUpExp!$A$1:$B$56,2,FALSE)),\"No Response\",VLOOKUP(tblSalaries[[#This Row],[Years of Experience]],vlookUpExp!$A$1:$B$56,2,FALSE))","v":"No Response"}]
[null,"ID0547","2012-05-26T05:31:06",55000,55000,"USD",{"$f":"tblSalaries[[#This Row],[clean Salary (in local currency)]]*VLOOKUP(tblSalaries[[#This Row],[Currency]],tblXrate[],2,FALSE)","v":55000},{"$f":"IF($H$1=\"USD\",tblSalaries[[#This Row],[Salary in USD]],tblSalaries[[#This Row],[Salary in USD]]*VLOOKUP($H$1,USDtoUserChoice,2,FALSE))","v":451108.9},"Marketing","Analyst","USA",{"$f":"VLOOKUP(tblSalaries[[#This Row],[Where do you work]],tblCountries[[Actual]:[Mapping]],2,FALSE)","v":"USA"},"2 to 3 hours per day",{"$f":"NA()","v":{"$error":"#N/A"}},{"$f":"IF(ISNA(VLOOKUP(tblSalaries[[#This Row],[Years of Experience]],vlookUpExp!$A$1:$B$56,2,FALSE)),\"No Response\",VLOOKUP(tblSalaries[[#This Row],[Years of Experience]],vlookUpExp!$A$1:$B$56,2,FALSE))","v":"No Response"}]
[null,"ID0548","2012-05-26T05:31:25","Rs. 500000",500000,"INR",{"$f":"tblSalaries[[#This Row],[clean Salary (in local currency)]]*VLOOKUP(tblSalaries[[#This Row],[Currency]],tblXrate[],2,FALSE)","v":8903.9583437212841},{"$f":"IF($H$1=\"USD\",tblSalaries[[#This Row],[Salary in USD]],tblSalaries[[#This Row],[Salary in USD]]*VLOOKUP($H$1,USDtoUserChoice,2,FALSE))","v":73030.088256035102},"Research Associate","Analyst","India",{"$f":"VLOOKUP(tblSalaries[[#This Row],[Where do you work]],tblCountries[[Actual]:[Mapping]],2,FALSE)","v":"India"},"All the 8 hours baby, all the 8!",{"$f":"NA()","v":{"$error":"#N/A"}},{"$f":"IF(ISNA(VLOOKUP(tblSalaries[[#This Row],[Years of Experience]],vlookUpExp!$A$1:$B$56,2,FALSE)),\"No Response\",VLOOKUP(tblSalaries[[#This Row],[Years of Experience]],vlookUpExp!$A$1:$B$56,2,FALSE))","v":"No Response"}]
[null,"ID0549","2012-05-26T05:33:43",45000,45000,"USD",{"$f":"tblSalaries[[#This Row],[clean Salary (in local currency)]]*VLOOKUP(tblSalaries[[#This Row],[Currency]],tblXrate[],2,FALSE)","v":45000},{"$f":"IF($H$1=\"USD\",tblSalaries[[#This Row],[Salary in USD]],tblSalaries[[#This Row],[Salary in USD]]*VLOOKUP($H$1,USDtoUserChoice,2,FALSE))","v":369089.10000000003},"Reports Coordinator","Reporting","USA",{"$f":"VLOOKUP(tblSalaries[[#This Row],[Where do you work]],tblCountries[[Actual]:[Mapping]],2,FALSE)","v":"USA"},"All the 8 hours baby, all the 8!",{"$f":"NA()","v":{"$error":"#N/A"}},{"$f":"IF(ISNA(VLOOKUP(tblSalaries[[#This Row],[Years of Experience]],vlookUpExp!$A$1:$B$56,2,FALSE)),\"No Response\",VLOOKUP(tblSalaries[[#This Row],[Years of Experience]],vlookUpExp!$A$1:$B$56,2,FALSE))","v":"No Response"}]
[null,"ID0550","2012-05-26T05:35:00",50000,50000,"USD",{"$f":"tblSalaries[[#This Row],[clean Salary (in local currency)]]*VLOOKUP(tblSalaries[[#This Row],[Currency]],tblXrate[],2,FALSE)","v":50000},{"$f":"IF($H$1=\"USD\",tblSalaries[[#This Row],[Salary in USD]],tblSalaries[[#This Row],[Salary in USD]]*VLOOKUP($H$1,USDtoUserChoice,2,FALSE))","v":410099.00000000006},"Quality Compliance Manager","Manager","USA",{"$f":"VLOOKUP(tblSalaries[[#This Row],[Where do you work]],tblCountries[[Actual]:[Mapping]],2,FALSE)","v":"USA"},"4 to 6 hours a day",{"$f":"NA()","v":{"$error":"#N/A"}},{"$f":"IF(ISNA(VLOOKUP(tblSalaries[[#This Row],[Years of Experience]],vlookUpExp!$A$1:$B$56,2,FALSE)),\"No Response\",VLOOKUP(tblSalaries[[#This Row],[Years of Experience]],vlookUpExp!$A$1:$B$56,2,FALSE))","v":"No Response"}]
[null,"ID0551","2012-05-26T05:44:42","80,000 USD",80000,"USD",{"$f":"tblSalaries[[#This Row],[clean Salary (in local currency)]]*VLOOKUP(tblSalaries[[#This Row],[Currency]],tblXrate[],2,FALSE)","v":80000},{"$f":"IF($H$1=\"USD\",tblSalaries[[#This Row],[Salary in USD]],tblSalaries[[#This Row],[Salary in USD]]*VLOOKUP($H$1,USDtoUserChoice,2,FALSE))","v":656158.4},"Cost Analyst","Analyst","USA",{"$f":"VLOOKUP(tblSalaries[[#This Row],[Where do you work]],tblCountries[[Actual]:[Mapping]],2,FALSE)","v":"USA"},"All the 8 hours baby, all the 8!",{"$f":"NA()","v":{"$error":"#N/A"}},{"$f":"IF(ISNA(VLOOKUP(tblSalaries[[#This Row],[Years of Experience]],vlookUpExp!$A$1:$B$56,2,FALSE)),\"No Response\",VLOOKUP(tblSalaries[[#This Row],[Years of Experience]],vlookUpExp!$A$1:$B$56,2,FALSE))","v":"No Response"}]
[null,"ID0552","2012-05-26T05:46:02",67000,67000,"USD",{"$f":"tblSalaries[[#This Row],[clean Salary (in local currency)]]*VLOOKUP(tblSalaries[[#This Row],[Currency]],tblXrate[],2,FALSE)","v":67000},{"$f":"IF($H$1=\"USD\",tblSalaries[[#This Row],[Salary in USD]],tblSalaries[[#This Row],[Salary in USD]]*VLOOKUP($H$1,USDtoUserChoice,2,FALSE))","v":549532.66},"Management Analyst","Analyst","USA",{"$f":"VLOOKUP(tblSalaries[[#This Row],[Where do you work]],tblCountries[[Actual]:[Mapping]],2,FALSE)","v":"USA"},"4 to 6 hours a day",{"$f":"NA()","v":{"$error":"#N/A"}},{"$f":"IF(ISNA(VLOOKUP(tblSalaries[[#This Row],[Years of Experience]],vlookUpExp!$A$1:$B$56,2,FALSE)),\"No Response\",VLOOKUP(tblSalaries[[#This Row],[Years of Experience]],vlookUpExp!$A$1:$B$56,2,FALSE))","v":"No Response"}]
[null,"ID0553","2012-05-26T05:46:42",111000,111000,"USD",{"$f":"tblSalaries[[#This Row],[clean Salary (in local currency)]]*VLOOKUP(tblSalaries[[#This Row],[Currency]],tblXrate[],2,FALSE)","v":111000},{"$f":"IF($H$1=\"USD\",tblSalaries[[#This Row],[Salary in USD]],tblSalaries[[#This Row],[Salary in USD]]*VLOOKUP($H$1,USDtoUserChoice,2,FALSE))","v":910419.78},"Senior Financial Analyst","Analyst","Japan",{"$f":"VLOOKUP(tblSalaries[[#This Row],[Where do you work]],tblCountries[[Actual]:[Mapping]],2,FALSE)","v":"Japan"},"All the 8 hours baby, all the 8!",{"$f":"NA()","v":{"$error":"#N/A"}},{"$f":"IF(ISNA(VLOOKUP(tblSalaries[[#This Row],[Years of Experience]],vlookUpExp!$A$1:$B$56,2,FALSE)),\"No Response\",VLOOKUP(tblSalaries[[#This Row],[Years of Experience]],vlookUpExp!$A$1:$B$56,2,FALSE))","v":"No Response"}]
[null,"ID0554","2012-05-26T05:48:10",120000,120000,"USD",{"$f":"tblSalaries[[#This Row],[clean Salary (in local currency)]]*VLOOKUP(tblSalaries[[#This Row],[Currency]],tblXrate[],2,FALSE)","v":120000},{"$f":"IF($H$1=\"USD\",tblSalaries[[#This Row],[Salary in USD]],tblSalaries[[#This Row],[Salary in USD]]*VLOOKUP($H$1,USDtoUserChoice,2,FALSE))","v":984237.60000000009},"Director","CXO or Top Mgmt.","USA",{"$f":"VLOOKUP(tblSalaries[[#This Row],[Where do you work]],tblCountries[[Actual]:[Mapping]],2,FALSE)","v":"USA"},"4 to 6 hours a day",{"$f":"NA()","v":{"$error":"#N/A"}},{"$f":"IF(ISNA(VLOOKUP(tblSalaries[[#This Row],[Years of Experience]],vlookUpExp!$A$1:$B$56,2,FALSE)),\"No Response\",VLOOKUP(tblSalaries[[#This Row],[Years of Experience]],vlookUpExp!$A$1:$B$56,2,FALSE))","v":"No Response"}]
[null,"ID0555","2012-05-26T05:48:12","Â£20000",20000,"GBP",{"$f":"tblSalaries[[#This Row],[clean Salary (in local currency)]]*VLOOKUP(tblSalaries[[#This Row],[Currency]],tblXrate[],2,FALSE)","v":31523.565441345683},{"$f":"IF($H$1=\"USD\",tblSalaries[[#This Row],[Salary in USD]],tblSalaries[[#This Row],[Salary in USD]]*VLOOKUP($H$1,USDtoUserChoice,2,FALSE))","v":258555.65327860849},"IT Consultant","Consultant","UK",{"$f":"VLOOKUP(tblSalaries[[#This Row],[Where do you work]],tblCountries[[Actual]:[Mapping]],2,FALSE)","v":"UK"},"4 to 6 hours a day",{"$f":"NA()","v":{"$error":"#N/A"}},{"$f":"IF(ISNA(VLOOKUP(tblSalaries[[#This Row],[Years of Experience]],vlookUpExp!$A$1:$B$56,2,FALSE)),\"No Response\",VLOOKUP(tblSalaries[[#This Row],[Years of Experience]],vlookUpExp!$A$1:$B$56,2,FALSE))","v":"No Response"}]
[null,"ID0556","2012-05-26T05:50:21",77000,77000,"AUD",{"$f":"tblSalaries[[#This Row],[clean Salary (in local currency)]]*VLOOKUP(tblSalaries[[#This Row],[Currency]],tblXrate[],2,FALSE)","v":78533.043543002947},{"$f":"IF($H$1=\"USD\",tblSalaries[[#This Row],[Salary in USD]],tblSalaries[[#This Row],[Salary in USD]]*VLOOKUP($H$1,USDtoUserChoice,2,FALSE))","v":644126.45247883932},"Intelligence Analyst","Analyst","Australia",{"$f":"VLOOKUP(tblSalaries[[#This Row],[Where do you work]],tblCountries[[Actual]:[Mapping]],2,FALSE)","v":"Australia"},"2 to 3 hours per day",{"$f":"NA()","v":{"$error":"#N/A"}},{"$f":"IF(ISNA(VLOOKUP(tblSalaries[[#This Row],[Years of Experience]],vlookUpExp!$A$1:$B$56,2,FALSE)),\"No Response\",VLOOKUP(tblSalaries[[#This Row],[Years of Experience]],vlookUpExp!$A$1:$B$56,2,FALSE))","v":"No Response"}]
[null,"ID0557","2012-05-26T05:50:23",60000,60000,"USD",{"$f":"tblSalaries[[#This Row],[clean Salary (in local currency)]]*VLOOKUP(tblSalaries[[#This Row],[Currency]],tblXrate[],2,FALSE)","v":60000},{"$f":"IF($H$1=\"USD\",tblSalaries[[#This Row],[Salary in USD]],tblSalaries[[#This Row],[Salary in USD]]*VLOOKUP($H$1,USDtoUserChoice,2,FALSE))","v":492118.80000000005},"Marketing Specialist","Specialist","USA",{"$f":"VLOOKUP(tblSalaries[[#This Row],[Where do you work]],tblCountries[[Actual]:[Mapping]],2,FALSE)","v":"USA"},"1 or 2 hours a day",{"$f":"NA()","v":{"$error":"#N/A"}},{"$f":"IF(ISNA(VLOOKUP(tblSalaries[[#This Row],[Years of Experience]],vlookUpExp!$A$1:$B$56,2,FALSE)),\"No Response\",VLOOKUP(tblSalaries[[#This Row],[Years of Experience]],vlookUpExp!$A$1:$B$56,2,FALSE))","v":"No Response"}]
[null,"ID0558","2012-05-26T05:50:26",35000,35000,"USD",{"$f":"tblSalaries[[#This Row],[clean Salary (in local currency)]]*VLOOKUP(tblSalaries[[#This Row],[Currency]],tblXrate[],2,FALSE)","v":35000},{"$f":"IF($H$1=\"USD\",tblSalaries[[#This Row],[Salary in USD]],tblSalaries[[#This Row],[Salary in USD]]*VLOOKUP($H$1,USDtoUserChoice,2,FALSE))","v":287069.30000000005},"Analyst","Analyst","USA",{"$f":"VLOOKUP(tblSalaries[[#This Row],[Where do you work]],tblCountries[[Actual]:[Mapping]],2,FALSE)","v":"USA"},"2 to 3 hours per day",{"$f":"NA()","v":{"$error":"#N/A"}},{"$f":"IF(ISNA(VLOOKUP(tblSalaries[[#This Row],[Years of Experience]],vlookUpExp!$A$1:$B$56,2,FALSE)),\"No Response\",VLOOKUP(tblSalaries[[#This Row],[Years of Experience]],vlookUpExp!$A$1:$B$56,2,FALSE))","v":"No Response"}]
[null,"ID0559","2012-05-26T05:52:47",50000,50000,"EUR",{"$f":"tblSalaries[[#This Row],[clean Salary (in local currency)]]*VLOOKUP(tblSalaries[[#This Row],[Currency]],tblXrate[],2,FALSE)","v":63519.971949580387},{"$f":"IF($H$1=\"USD\",tblSalaries[[#This Row],[Salary in USD]],tblSalaries[[#This Row],[Salary in USD]]*VLOOKUP($H$1,USDtoUserChoice,2,FALSE))","v":520989.5395310194},"Proyect Manager","Manager","Panama",{"$f":"VLOOKUP(tblSalaries[[#This Row],[Where do you work]],tblCountries[[Actual]:[Mapping]],2,FALSE)","v":"Panama"},"2 to 3 hours per day",{"$f":"NA()","v":{"$error":"#N/A"}},{"$f":"IF(ISNA(VLOOKUP(tblSalaries[[#This Row],[Years of Experience]],vlookUpExp!$A$1:$B$56,2,FALSE)),\"No Response\",VLOOKUP(tblSalaries[[#This Row],[Years of Experience]],vlookUpExp!$A$1:$B$56,2,FALSE))","v":"No Response"}]
[null,"ID0560","2012-05-26T05:55:22",54000,54000,"USD",{"$f":"tblSalaries[[#This Row],[clean Salary (in local currency)]]*VLOOKUP(tblSalaries[[#This Row],[Currency]],tblXrate[],2,FALSE)","v":54000},{"$f":"IF($H$1=\"USD\",tblSalaries[[#This Row],[Salary in USD]],tblSalaries[[#This Row],[Salary in USD]]*VLOOKUP($H$1,USDtoUserChoice,2,FALSE))","v":442906.92000000004},"IT Specialist","Specialist","USA",{"$f":"VLOOKUP(tblSalaries[[#This Row],[Where do you work]],tblCountries[[Actual]:[Mapping]],2,FALSE)","v":"USA"},"All the 8 hours baby, all the 8!",5,{"$f":"IF(ISNA(VLOOKUP(tblSalaries[[#This Row],[Years of Experience]],vlookUpExp!$A$1:$B$56,2,FALSE)),\"No Response\",VLOOKUP(tblSalaries[[#This Row],[Years of Experience]],vlookUpExp!$A$1:$B$56,2,FALSE))","v":"0-5"}]
[null,"ID0561","2012-05-26T06:01:57",1300,15600,"USD",{"$f":"tblSalaries[[#This Row],[clean Salary (in local currency)]]*VLOOKUP(tblSalaries[[#This Row],[Currency]],tblXrate[],2,FALSE)","v":15600},{"$f":"IF($H$1=\"USD\",tblSalaries[[#This Row],[Salary in USD]],tblSalaries[[#This Row],[Salary in USD]]*VLOOKUP($H$1,USDtoUserChoice,2,FALSE))","v":127950.88800000001},"CONTROLLER","Controller","BRA",{"$f":"VLOOKUP(tblSalaries[[#This Row],[Where do you work]],tblCountries[[Actual]:[Mapping]],2,FALSE)","v":"Brazil"},"4 to 6 hours a day",20,{"$f":"IF(ISNA(VLOOKUP(tblSalaries[[#This Row],[Years of Experience]],vlookUpExp!$A$1:$B$56,2,FALSE)),\"No Response\",VLOOKUP(tblSalaries[[#This Row],[Years of Experience]],vlookUpExp!$A$1:$B$56,2,FALSE))","v":"16-20"}]
[null,"ID0562","2012-05-26T06:08:23",35000,35000,"USD",{"$f":"tblSalaries[[#This Row],[clean Salary (in local currency)]]*VLOOKUP(tblSalaries[[#This Row],[Currency]],tblXrate[],2,FALSE)","v":35000},{"$f":"IF($H$1=\"USD\",tblSalaries[[#This Row],[Salary in USD]],tblSalaries[[#This Row],[Salary in USD]]*VLOOKUP($H$1,USDtoUserChoice,2,FALSE))","v":287069.30000000005},"Technical Support Technician","Analyst","USA",{"$f":"VLOOKUP(tblSalaries[[#This Row],[Where do you work]],tblCountries[[Actual]:[Mapping]],2,FALSE)","v":"USA"},"1 or 2 hours a day",7,{"$f":"IF(ISNA(VLOOKUP(tblSalaries[[#This Row],[Years of Experience]],vlookUpExp!$A$1:$B$56,2,FALSE)),\"No Response\",VLOOKUP(tblSalaries[[#This Row],[Years of Experience]],vlookUpExp!$A$1:$B$56,2,FALSE))","v":"6-10"}]
[null,"ID0563","2012-05-26T06:10:08",188000,188000,"USD",{"$f":"tblSalaries[[#This Row],[clean Salary (in local currency)]]*VLOOKUP(tblSalaries[[#This Row],[Currency]],tblXrate[],2,FALSE)","v":188000},{"$f":"IF($H$1=\"USD\",tblSalaries[[#This Row],[Salary in USD]],tblSalaries[[#This Row],[Salary in USD]]*VLOOKUP($H$1,USDtoUserChoice,2,FALSE))","v":1541972.2400000002},"Director, Supply Chain Operations","CXO or Top Mgmt.","USA",{"$f":"VLOOKUP(tblSalaries[[#This Row],[Where do you work]],tblCountries[[Actual]:[Mapping]],2,FALSE)","v":"USA"},"1 or 2 hours a day",20,{"$f":"IF(ISNA(VLOOKUP(tblSalaries[[#This Row],[Years of Experience]],vlookUpExp!$A$1:$B$56,2,FALSE)),\"No Response\",VLOOKUP(tblSalaries[[#This Row],[Years of Experience]],vlookUpExp!$A$1:$B$56,2,FALSE))","v":"16-20"}]
[null,"ID0564","2012-05-26T06:14:13",27500,27500,"USD",{"$f":"tblSalaries[[#This Row],[clean Salary (in local currency)]]*VLOOKUP(tblSalaries[[#This Row],[Currency]],tblXrate[],2,FALSE)","v":27500},{"$f":"IF($H$1=\"USD\",tblSalaries[[#This Row],[Salary in USD]],tblSalaries[[#This Row],[Salary in USD]]*VLOOKUP($H$1,USDtoUserChoice,2,FALSE))","v":225554.45},"Associate","Analyst","USA",{"$f":"VLOOKUP(tblSalaries[[#This Row],[Where do you work]],tblCountries[[Actual]:[Mapping]],2,FALSE)","v":"USA"},"All the 8 hours baby, all the 8!",1,{"$f":"IF(ISNA(VLOOKUP(tblSalaries[[#This Row],[Years of Experience]],vlookUpExp!$A$1:$B$56,2,FALSE)),\"No Response\",VLOOKUP(tblSalaries[[#This Row],[Years of Experience]],vlookUpExp!$A$1:$B$56,2,FALSE))","v":"0-5"}]
[null,"ID0565","2012-05-26T06:20:38",140000,140000,"USD",{"$f":"tblSalaries[[#This Row],[clean Salary (in local currency)]]*VLOOKUP(tblSalaries[[#This Row],[Currency]],tblXrate[],2,FALSE)","v":140000},{"$f":"IF($H$1=\"USD\",tblSalaries[[#This Row],[Salary in USD]],tblSalaries[[#This Row],[Salary in USD]]*VLOOKUP($H$1,USDtoUserChoice,2,FALSE))","v":1148277.2000000002},"controller","Controller","USA",{"$f":"VLOOKUP(tblSalaries[[#This Row],[Where do you work]],tblCountries[[Actual]:[Mapping]],2,FALSE)","v":"USA"},"2 to 3 hours per day",10,{"$f":"IF(ISNA(VLOOKUP(tblSalaries[[#This Row],[Years of Experience]],vlookUpExp!$A$1:$B$56,2,FALSE)),\"No Response\",VLOOKUP(tblSalaries[[#This Row],[Years of Experience]],vlookUpExp!$A$1:$B$56,2,FALSE))","v":"6-10"}]
[null,"ID0566","2012-05-26T06:24:03",55000,55000,"EUR",{"$f":"tblSalaries[[#This Row],[clean Salary (in local currency)]]*VLOOKUP(tblSalaries[[#This Row],[Currency]],tblXrate[],2,FALSE)","v":69871.969144538423},{"$f":"IF($H$1=\"USD\",tblSalaries[[#This Row],[Salary in USD]],tblSalaries[[#This Row],[Salary in USD]]*VLOOKUP($H$1,USDtoUserChoice,2,FALSE))","v":573088.49348412128},"Business analyst","Analyst","Netherlands",{"$f":"VLOOKUP(tblSalaries[[#This Row],[Where do you work]],tblCountries[[Actual]:[Mapping]],2,FALSE)","v":"Netherlands"},"All the 8 hours baby, all the 8!",6,{"$f":"IF(ISNA(VLOOKUP(tblSalaries[[#This Row],[Years of Experience]],vlookUpExp!$A$1:$B$56,2,FALSE)),\"No Response\",VLOOKUP(tblSalaries[[#This Row],[Years of Experience]],vlookUpExp!$A$1:$B$56,2,FALSE))","v":"6-10"}]
[null,"ID0567","2012-05-26T06:40:59",45000,45000,"USD",{"$f":"tblSalaries[[#This Row],[clean Salary (in local currency)]]*VLOOKUP(tblSalaries[[#This Row],[Currency]],tblXrate[],2,FALSE)","v":45000},{"$f":"IF($H$1=\"USD\",tblSalaries[[#This Row],[Salary in USD]],tblSalaries[[#This Row],[Salary in USD]]*VLOOKUP($H$1,USDtoUserChoice,2,FALSE))","v":369089.10000000003},"Workflow Analyst","Analyst","USA",{"$f":"VLOOKUP(tblSalaries[[#This Row],[Where do you work]],tblCountries[[Actual]:[Mapping]],2,FALSE)","v":"USA"},"4 to 6 hours a day",2,{"$f":"IF(ISNA(VLOOKUP(tblSalaries[[#This Row],[Years of Experience]],vlookUpExp!$A$1:$B$56,2,FALSE)),\"No Response\",VLOOKUP(tblSalaries[[#This Row],[Years of Experience]],vlookUpExp!$A$1:$B$56,2,FALSE))","v":"0-5"}]
[null,"ID0568","2012-05-26T06:46:03","95000 USD",95000,"USD",{"$f":"tblSalaries[[#This Row],[clean Salary (in local currency)]]*VLOOKUP(tblSalaries[[#This Row],[Currency]],tblXrate[],2,FALSE)","v":95000},{"$f":"IF($H$1=\"USD\",tblSalaries[[#This Row],[Salary in USD]],tblSalaries[[#This Row],[Salary in USD]]*VLOOKUP($H$1,USDtoUserChoice,2,FALSE))","v":779188.10000000009},"Business Analyst","Analyst","Australia",{"$f":"VLOOKUP(tblSalaries[[#This Row],[Where do you work]],tblCountries[[Actual]:[Mapping]],2,FALSE)","v":"Australia"},"2 to 3 hours per day",11,{"$f":"IF(ISNA(VLOOKUP(tblSalaries[[#This Row],[Years of Experience]],vlookUpExp!$A$1:$B$56,2,FALSE)),\"No Response\",VLOOKUP(tblSalaries[[#This Row],[Years of Experience]],vlookUpExp!$A$1:$B$56,2,FALSE))","v":"11-15"}]
[null,"ID0569","2012-05-26T06:47:00","AUD $155,000",155000,"AUD",{"$f":"tblSalaries[[#This Row],[clean Salary (in local currency)]]*VLOOKUP(tblSalaries[[#This Row],[Currency]],tblXrate[],2,FALSE)","v":158085.99674240855},{"$f":"IF($H$1=\"USD\",tblSalaries[[#This Row],[Salary in USD]],tblSalaries[[#This Row],[Salary in USD]]*VLOOKUP($H$1,USDtoUserChoice,2,FALSE))","v":1296618.1835613002},"Finance Manager Business Services","Manager","Australia",{"$f":"VLOOKUP(tblSalaries[[#This Row],[Where do you work]],tblCountries[[Actual]:[Mapping]],2,FALSE)","v":"Australia"},"4 to 6 hours a day",20,{"$f":"IF(ISNA(VLOOKUP(tblSalaries[[#This Row],[Years of Experience]],vlookUpExp!$A$1:$B$56,2,FALSE)),\"No Response\",VLOOKUP(tblSalaries[[#This Row],[Years of Experience]],vlookUpExp!$A$1:$B$56,2,FALSE))","v":"16-20"}]
[null,"ID0570","2012-05-26T06:47:59","NZ $80,000",80000,"NZD",{"$f":"tblSalaries[[#This Row],[clean Salary (in local currency)]]*VLOOKUP(tblSalaries[[#This Row],[Currency]],tblXrate[],2,FALSE)","v":63807.047488395103},{"$f":"IF($H$1=\"USD\",tblSalaries[[#This Row],[Salary in USD]],tblSalaries[[#This Row],[Salary in USD]]*VLOOKUP($H$1,USDtoUserChoice,2,FALSE))","v":523344.12735886691},"Accountant/Analyst","Analyst","New Zealand",{"$f":"VLOOKUP(tblSalaries[[#This Row],[Where do you work]],tblCountries[[Actual]:[Mapping]],2,FALSE)","v":"New Zealand"},"4 to 6 hours a day",23,{"$f":"IF(ISNA(VLOOKUP(tblSalaries[[#This Row],[Years of Experience]],vlookUpExp!$A$1:$B$56,2,FALSE)),\"No Response\",VLOOKUP(tblSalaries[[#This Row],[Years of Experience]],vlookUpExp!$A$1:$B$56,2,FALSE))","v":"21-25"}]
[null,"ID0572","2012-05-26T06:50:23",38000,38000,"USD",{"$f":"tblSalaries[[#This Row],[clean Salary (in local currency)]]*VLOOKUP(tblSalaries[[#This Row],[Currency]],tblXrate[],2,FALSE)","v":38000},{"$f":"IF($H$1=\"USD\",tblSalaries[[#This Row],[Salary in USD]],tblSalaries[[#This Row],[Salary in USD]]*VLOOKUP($H$1,USDtoUserChoice,2,FALSE))","v":311675.24000000005},"Costing Analysis","Analyst","USA",{"$f":"VLOOKUP(tblSalaries[[#This Row],[Where do you work]],tblCountries[[Actual]:[Mapping]],2,FALSE)","v":"USA"},"All the 8 hours baby, all the 8!",11,{"$f":"IF(ISNA(VLOOKUP(tblSalaries[[#This Row],[Years of Experience]],vlookUpExp!$A$1:$B$56,2,FALSE)),\"No Response\",VLOOKUP(tblSalaries[[#This Row],[Years of Experience]],vlookUpExp!$A$1:$B$56,2,FALSE))","v":"11-15"}]
[null,"ID0573","2012-05-26T06:54:40",90000,90000,"USD",{"$f":"tblSalaries[[#This Row],[clean Salary (in local currency)]]*VLOOKUP(tblSalaries[[#This Row],[Currency]],tblXrate[],2,FALSE)","v":90000},{"$f":"IF($H$1=\"USD\",tblSalaries[[#This Row],[Salary in USD]],tblSalaries[[#This Row],[Salary in USD]]*VLOOKUP($H$1,USDtoUserChoice,2,FALSE))","v":738178.20000000007},"Sales Operations Supervisor","Manager","USA",{"$f":"VLOOKUP(tblSalaries[[#This Row],[Where do you work]],tblCountries[[Actual]:[Mapping]],2,FALSE)","v":"USA"},"4 to 6 hours a day",6,{"$f":"IF(ISNA(VLOOKUP(tblSalaries[[#This Row],[Years of Experience]],vlookUpExp!$A$1:$B$56,2,FALSE)),\"No Response\",VLOOKUP(tblSalaries[[#This Row],[Years of Experience]],vlookUpExp!$A$1:$B$56,2,FALSE))","v":"6-10"}]
[null,"ID0574","2012-05-26T06:57:09","Â£28800",28800,"GBP",{"$f":"tblSalaries[[#This Row],[clean Salary (in local currency)]]*VLOOKUP(tblSalaries[[#This Row],[Currency]],tblXrate[],2,FALSE)","v":45393.934235537781},{"$f":"IF($H$1=\"USD\",tblSalaries[[#This Row],[Salary in USD]],tblSalaries[[#This Row],[Salary in USD]]*VLOOKUP($H$1,USDtoUserChoice,2,FALSE))","v":372320.14072119619},"Finance Manager","Manager","UK",{"$f":"VLOOKUP(tblSalaries[[#This Row],[Where do you work]],tblCountries[[Actual]:[Mapping]],2,FALSE)","v":"UK"},"4 to 6 hours a day",27,{"$f":"IF(ISNA(VLOOKUP(tblSalaries[[#This Row],[Years of Experience]],vlookUpExp!$A$1:$B$56,2,FALSE)),\"No Response\",VLOOKUP(tblSalaries[[#This Row],[Years of Experience]],vlookUpExp!$A$1:$B$56,2,FALSE))","v":"26-30"}]
[null,"ID0575","2012-05-26T07:01:10","Â£21000",21000,"GBP",{"$f":"tblSalaries[[#This Row],[clean Salary (in local currency)]]*VLOOKUP(tblSalaries[[#This Row],[Currency]],tblXrate[],2,FALSE)","v":33099.743713412965},{"$f":"IF($H$1=\"USD\",tblSalaries[[#This Row],[Salary in USD]],tblSalaries[[#This Row],[Salary in USD]]*VLOOKUP($H$1,USDtoUserChoice,2,FALSE))","v":271483.4359425389},"Sales Analyst","Analyst","UK",{"$f":"VLOOKUP(tblSalaries[[#This Row],[Where do you work]],tblCountries[[Actual]:[Mapping]],2,FALSE)","v":"UK"},"All the 8 hours baby, all the 8!",10,{"$f":"IF(ISNA(VLOOKUP(tblSalaries[[#This Row],[Years of Experience]],vlookUpExp!$A$1:$B$56,2,FALSE)),\"No Response\",VLOOKUP(tblSalaries[[#This Row],[Years of Experience]],vlookUpExp!$A$1:$B$56,2,FALSE))","v":"6-10"}]
[null,"ID0576","2012-05-26T07:06:50","USD 4285.00",4285,"USD",{"$f":"tblSalaries[[#This Row],[clean Salary (in local currency)]]*VLOOKUP(tblSalaries[[#This Row],[Currency]],tblXrate[],2,FALSE)","v":4285},{"$f":"IF($H$1=\"USD\",tblSalaries[[#This Row],[Salary in USD]],tblSalaries[[#This Row],[Salary in USD]]*VLOOKUP($H$1,USDtoUserChoice,2,FALSE))","v":35145.484300000004},"Assistant","Analyst","India",{"$f":"VLOOKUP(tblSalaries[[#This Row],[Where do you work]],tblCountries[[Actual]:[Mapping]],2,FALSE)","v":"India"},"All the 8 hours baby, all the 8!",6,{"$f":"IF(ISNA(VLOOKUP(tblSalaries[[#This Row],[Years of Experience]],vlookUpExp!$A$1:$B$56,2,FALSE)),\"No Response\",VLOOKUP(tblSalaries[[#This Row],[Years of Experience]],vlookUpExp!$A$1:$B$56,2,FALSE))","v":"6-10"}]
[null,"ID0577","2012-05-26T07:14:02",6000,6000,"USD",{"$f":"tblSalaries[[#This Row],[clean Salary (in local currency)]]*VLOOKUP(tblSalaries[[#This Row],[Currency]],tblXrate[],2,FALSE)","v":6000},{"$f":"IF($H$1=\"USD\",tblSalaries[[#This Row],[Salary in USD]],tblSalaries[[#This Row],[Salary in USD]]*VLOOKUP($H$1,USDtoUserChoice,2,FALSE))","v":49211.880000000005},"In Charge","Manager","Guyana",{"$f":"VLOOKUP(tblSalaries[[#This Row],[Where do you work]],tblCountries[[Actual]:[Mapping]],2,FALSE)","v":"Guyana"},"1 or 2 hours a day",20,{"$f":"IF(ISNA(VLOOKUP(tblSalaries[[#This Row],[Years of Experience]],vlookUpExp!$A$1:$B$56,2,FALSE)),\"No Response\",VLOOKUP(tblSalaries[[#This Row],[Years of Experience]],vlookUpExp!$A$1:$B$56,2,FALSE))","v":"16-20"}]
[null,"ID0578","2012-05-26T07:15:48","$22,000 AUD",22000,"AUD",{"$f":"tblSalaries[[#This Row],[clean Salary (in local currency)]]*VLOOKUP(tblSalaries[[#This Row],[Currency]],tblXrate[],2,FALSE)","v":22438.012440857987},{"$f":"IF($H$1=\"USD\",tblSalaries[[#This Row],[Salary in USD]],tblSalaries[[#This Row],[Salary in USD]]*VLOOKUP($H$1,USDtoUserChoice,2,FALSE))","v":184036.12927966841},"Sales Analyst","Analyst","Australia",{"$f":"VLOOKUP(tblSalaries[[#This Row],[Where do you work]],tblCountries[[Actual]:[Mapping]],2,FALSE)","v":"Australia"},"4 to 6 hours a day",8,{"$f":"IF(ISNA(VLOOKUP(tblSalaries[[#This Row],[Years of Experience]],vlookUpExp!$A$1:$B$56,2,FALSE)),\"No Response\",VLOOKUP(tblSalaries[[#This Row],[Years of Experience]],vlookUpExp!$A$1:$B$56,2,FALSE))","v":"6-10"}]
[null,"ID0579","2012-05-26T07:18:57",90000,90000,"USD",{"$f":"tblSalaries[[#This Row],[clean Salary (in local currency)]]*VLOOKUP(tblSalaries[[#This Row],[Currency]],tblXrate[],2,FALSE)","v":90000},{"$f":"IF($H$1=\"USD\",tblSalaries[[#This Row],[Salary in USD]],tblSalaries[[#This Row],[Salary in USD]]*VLOOKUP($H$1,USDtoUserChoice,2,FALSE))","v":738178.20000000007},"Manager","Manager","USA",{"$f":"VLOOKUP(tblSalaries[[#This Row],[Where do you work]],tblCountries[[Actual]:[Mapping]],2,FALSE)","v":"USA"},"2 to 3 hours per day",15,{"$f":"IF(ISNA(VLOOKUP(tblSalaries[[#This Row],[Years of Experience]],vlookUpExp!$A$1:$B$56,2,FALSE)),\"No Response\",VLOOKUP(tblSalaries[[#This Row],[Years of Experience]],vlookUpExp!$A$1:$B$56,2,FALSE))","v":"11-15"}]
[null,"ID0580","2012-05-26T07:23:11",150000,150000,"USD",{"$f":"tblSalaries[[#This Row],[clean Salary (in local currency)]]*VLOOKUP(tblSalaries[[#This Row],[Currency]],tblXrate[],2,FALSE)","v":150000},{"$f":"IF($H$1=\"USD\",tblSalaries[[#This Row],[Salary in USD]],tblSalaries[[#This Row],[Salary in USD]]*VLOOKUP($H$1,USDtoUserChoice,2,FALSE))","v":1230297},"CFO","CXO or Top Mgmt.","USA",{"$f":"VLOOKUP(tblSalaries[[#This Row],[Where do you work]],tblCountries[[Actual]:[Mapping]],2,FALSE)","v":"USA"},"4 to 6 hours a day",22,{"$f":"IF(ISNA(VLOOKUP(tblSalaries[[#This Row],[Years of Experience]],vlookUpExp!$A$1:$B$56,2,FALSE)),\"No Response\",VLOOKUP(tblSalaries[[#This Row],[Years of Experience]],vlookUpExp!$A$1:$B$56,2,FALSE))","v":"21-25"}]
[null,"ID0581","2012-05-26T07:32:19",130000,130000,"AUD",{"$f":"tblSalaries[[#This Row],[clean Salary (in local currency)]]*VLOOKUP(tblSalaries[[#This Row],[Currency]],tblXrate[],2,FALSE)","v":132588.25533234264},{"$f":"IF($H$1=\"USD\",tblSalaries[[#This Row],[Salary in USD]],tblSalaries[[#This Row],[Salary in USD]]*VLOOKUP($H$1,USDtoUserChoice,2,FALSE))","v":1087486.2184707678},"Accountant","Accountant","Australia",{"$f":"VLOOKUP(tblSalaries[[#This Row],[Where do you work]],tblCountries[[Actual]:[Mapping]],2,FALSE)","v":"Australia"},"2 to 3 hours per day",27,{"$f":"IF(ISNA(VLOOKUP(tblSalaries[[#This Row],[Years of Experience]],vlookUpExp!$A$1:$B$56,2,FALSE)),\"No Response\",VLOOKUP(tblSalaries[[#This Row],[Years of Experience]],vlookUpExp!$A$1:$B$56,2,FALSE))","v":"26-30"}]
[null,"ID0582","2012-05-26T07:36:23",45000,45000,"USD",{"$f":"tblSalaries[[#This Row],[clean Salary (in local currency)]]*VLOOKUP(tblSalaries[[#This Row],[Currency]],tblXrate[],2,FALSE)","v":45000},{"$f":"IF($H$1=\"USD\",tblSalaries[[#This Row],[Salary in USD]],tblSalaries[[#This Row],[Salary in USD]]*VLOOKUP($H$1,USDtoUserChoice,2,FALSE))","v":369089.10000000003},"business analyst","Analyst","USA",{"$f":"VLOOKUP(tblSalaries[[#This Row],[Where do you work]],tblCountries[[Actual]:[Mapping]],2,FALSE)","v":"USA"},"4 to 6 hours a day",3,{"$f":"IF(ISNA(VLOOKUP(tblSalaries[[#This Row],[Years of Experience]],vlookUpExp!$A$1:$B$56,2,FALSE)),\"No Response\",VLOOKUP(tblSalaries[[#This Row],[Years of Experience]],vlookUpExp!$A$1:$B$56,2,FALSE))","v":"0-5"}]
[null,"ID0583","2012-05-26T07:37:53",50000,50000,"USD",{"$f":"tblSalaries[[#This Row],[clean Salary (in local currency)]]*VLOOKUP(tblSalaries[[#This Row],[Currency]],tblXrate[],2,FALSE)","v":50000},{"$f":"IF($H$1=\"USD\",tblSalaries[[#This Row],[Salary in USD]],tblSalaries[[#This Row],[Salary in USD]]*VLOOKUP($H$1,USDtoUserChoice,2,FALSE))","v":410099.00000000006},"IT Specialist","Specialist","USA",{"$f":"VLOOKUP(tblSalaries[[#This Row],[Where do you work]],tblCountries[[Actual]:[Mapping]],2,FALSE)","v":"USA"},"2 to 3 hours per day",10,{"$f":"IF(ISNA(VLOOKUP(tblSalaries[[#This Row],[Years of Experience]],vlookUpExp!$A$1:$B$56,2,FALSE)),\"No Response\",VLOOKUP(tblSalaries[[#This Row],[Years of Experience]],vlookUpExp!$A$1:$B$56,2,FALSE))","v":"6-10"}]
[null,"ID0584","2012-05-26T07:44:04",300000,300000,"USD",{"$f":"tblSalaries[[#This Row],[clean Salary (in local currency)]]*VLOOKUP(tblSalaries[[#This Row],[Currency]],tblXrate[],2,FALSE)","v":300000},{"$f":"IF($H$1=\"USD\",tblSalaries[[#This Row],[Salary in USD]],tblSalaries[[#This Row],[Salary in USD]]*VLOOKUP($H$1,USDtoUserChoice,2,FALSE))","v":2460594},"CEO","CXO or Top Mgmt.","USA",{"$f":"VLOOKUP(tblSalaries[[#This Row],[Where do you work]],tblCountries[[Actual]:[Mapping]],2,FALSE)","v":"USA"},"2 to 3 hours per day",30,{"$f":"IF(ISNA(VLOOKUP(tblSalaries[[#This Row],[Years of Experience]],vlookUpExp!$A$1:$B$56,2,FALSE)),\"No Response\",VLOOKUP(tblSalaries[[#This Row],[Years of Experience]],vlookUpExp!$A$1:$B$56,2,FALSE))","v":"26-30"}]
[null,"ID0585","2012-05-26T07:48:29",102000,102000,"AUD",{"$f":"tblSalaries[[#This Row],[clean Salary (in local currency)]]*VLOOKUP(tblSalaries[[#This Row],[Currency]],tblXrate[],2,FALSE)","v":104030.78495306884},{"$f":"IF($H$1=\"USD\",tblSalaries[[#This Row],[Salary in USD]],tblSalaries[[#This Row],[Salary in USD]]*VLOOKUP($H$1,USDtoUserChoice,2,FALSE))","v":853258.41756937164},"coordinator lismore regional airport","Manager","Australia",{"$f":"VLOOKUP(tblSalaries[[#This Row],[Where do you work]],tblCountries[[Actual]:[Mapping]],2,FALSE)","v":"Australia"},"1 or 2 hours a day",10,{"$f":"IF(ISNA(VLOOKUP(tblSalaries[[#This Row],[Years of Experience]],vlookUpExp!$A$1:$B$56,2,FALSE)),\"No Response\",VLOOKUP(tblSalaries[[#This Row],[Years of Experience]],vlookUpExp!$A$1:$B$56,2,FALSE))","v":"6-10"}]
[null,"ID0586","2012-05-26T07:50:50",115000,115000,"USD",{"$f":"tblSalaries[[#This Row],[clean Salary (in local currency)]]*VLOOKUP(tblSalaries[[#This Row],[Currency]],tblXrate[],2,FALSE)","v":115000},{"$f":"IF($H$1=\"USD\",tblSalaries[[#This Row],[Salary in USD]],tblSalaries[[#This Row],[Salary in USD]]*VLOOKUP($H$1,USDtoUserChoice,2,FALSE))","v":943227.70000000007},"Mgr Op Excellence","Manager","USA",{"$f":"VLOOKUP(tblSalaries[[#This Row],[Where do you work]],tblCountries[[Actual]:[Mapping]],2,FALSE)","v":"USA"},"4 to 6 hours a day",15,{"$f":"IF(ISNA(VLOOKUP(tblSalaries[[#This Row],[Years of Experience]],vlookUpExp!$A$1:$B$56,2,FALSE)),\"No Response\",VLOOKUP(tblSalaries[[#This Row],[Years of Experience]],vlookUpExp!$A$1:$B$56,2,FALSE))","v":"11-15"}]
[null,"ID0587","2012-05-26T07:53:13",70000,70000,"USD",{"$f":"tblSalaries[[#This Row],[clean Salary (in local currency)]]*VLOOKUP(tblSalaries[[#This Row],[Currency]],tblXrate[],2,FALSE)","v":70000},{"$f":"IF($H$1=\"USD\",tblSalaries[[#This Row],[Salary in USD]],tblSalaries[[#This Row],[Salary in USD]]*VLOOKUP($H$1,USDtoUserChoice,2,FALSE))","v":574138.60000000009},"Financial Analyst","Analyst","USA",{"$f":"VLOOKUP(tblSalaries[[#This Row],[Where do you work]],tblCountries[[Actual]:[Mapping]],2,FALSE)","v":"USA"},"4 to 6 hours a day",3,{"$f":"IF(ISNA(VLOOKUP(tblSalaries[[#This Row],[Years of Experience]],vlookUpExp!$A$1:$B$56,2,FALSE)),\"No Response\",VLOOKUP(tblSalaries[[#This Row],[Years of Experience]],vlookUpExp!$A$1:$B$56,2,FALSE))","v":"0-5"}]
[null,"ID0588","2012-05-26T07:57:04",106000,106000,"AUD",{"$f":"tblSalaries[[#This Row],[clean Salary (in local currency)]]*VLOOKUP(tblSalaries[[#This Row],[Currency]],tblXrate[],2,FALSE)","v":108110.42357867939},{"$f":"IF($H$1=\"USD\",tblSalaries[[#This Row],[Salary in USD]],tblSalaries[[#This Row],[Salary in USD]]*VLOOKUP($H$1,USDtoUserChoice,2,FALSE))","v":886719.53198385681},"Pricing and Strategy Specialist","Specialist","Australia",{"$f":"VLOOKUP(tblSalaries[[#This Row],[Where do you work]],tblCountries[[Actual]:[Mapping]],2,FALSE)","v":"Australia"},"4 to 6 hours a day",16,{"$f":"IF(ISNA(VLOOKUP(tblSalaries[[#This Row],[Years of Experience]],vlookUpExp!$A$1:$B$56,2,FALSE)),\"No Response\",VLOOKUP(tblSalaries[[#This Row],[Years of Experience]],vlookUpExp!$A$1:$B$56,2,FALSE))","v":"16-20"}]
[null,"ID0589","2012-05-26T08:01:44",75000,75000,"USD",{"$f":"tblSalaries[[#This Row],[clean Salary (in local currency)]]*VLOOKUP(tblSalaries[[#This Row],[Currency]],tblXrate[],2,FALSE)","v":75000},{"$f":"IF($H$1=\"USD\",tblSalaries[[#This Row],[Salary in USD]],tblSalaries[[#This Row],[Salary in USD]]*VLOOKUP($H$1,USDtoUserChoice,2,FALSE))","v":615148.5},"Sr. Human Resources Analyst","Analyst","USA",{"$f":"VLOOKUP(tblSalaries[[#This Row],[Where do you work]],tblCountries[[Actual]:[Mapping]],2,FALSE)","v":"USA"},"2 to 3 hours per day",25,{"$f":"IF(ISNA(VLOOKUP(tblSalaries[[#This Row],[Years of Experience]],vlookUpExp!$A$1:$B$56,2,FALSE)),\"No Response\",VLOOKUP(tblSalaries[[#This Row],[Years of Experience]],vlookUpExp!$A$1:$B$56,2,FALSE))","v":"21-25"}]
[null,"ID0590","2012-05-26T08:05:23",40414,40414,"USD",{"$f":"tblSalaries[[#This Row],[clean Salary (in local currency)]]*VLOOKUP(tblSalaries[[#This Row],[Currency]],tblXrate[],2,FALSE)","v":40414},{"$f":"IF($H$1=\"USD\",tblSalaries[[#This Row],[Salary in USD]],tblSalaries[[#This Row],[Salary in USD]]*VLOOKUP($H$1,USDtoUserChoice,2,FALSE))","v":331474.81972000003},"Performance Improvement Analyst","Analyst","USA",{"$f":"VLOOKUP(tblSalaries[[#This Row],[Where do you work]],tblCountries[[Actual]:[Mapping]],2,FALSE)","v":"USA"},"4 to 6 hours a day",8,{"$f":"IF(ISNA(VLOOKUP(tblSalaries[[#This Row],[Years of Experience]],vlookUpExp!$A$1:$B$56,2,FALSE)),\"No Response\",VLOOKUP(tblSalaries[[#This Row],[Years of Experience]],vlookUpExp!$A$1:$B$56,2,FALSE))","v":"6-10"}]
[null,"ID0591","2012-05-26T08:05:39",65000,65000,"USD",{"$f":"tblSalaries[[#This Row],[clean Salary (in local currency)]]*VLOOKUP(tblSalaries[[#This Row],[Currency]],tblXrate[],2,FALSE)","v":65000},{"$f":"IF($H$1=\"USD\",tblSalaries[[#This Row],[Salary in USD]],tblSalaries[[#This Row],[Salary in USD]]*VLOOKUP($H$1,USDtoUserChoice,2,FALSE))","v":533128.70000000007},"Data Analyst","Analyst","USA",{"$f":"VLOOKUP(tblSalaries[[#This Row],[Where do you work]],tblCountries[[Actual]:[Mapping]],2,FALSE)","v":"USA"},"4 to 6 hours a day",3,{"$f":"IF(ISNA(VLOOKUP(tblSalaries[[#This Row],[Years of Experience]],vlookUpExp!$A$1:$B$56,2,FALSE)),\"No Response\",VLOOKUP(tblSalaries[[#This Row],[Years of Experience]],vlookUpExp!$A$1:$B$56,2,FALSE))","v":"0-5"}]
[null,"ID0592","2012-05-26T08:08:43",120000,120000,"USD",{"$f":"tblSalaries[[#This Row],[clean Salary (in local currency)]]*VLOOKUP(tblSalaries[[#This Row],[Currency]],tblXrate[],2,FALSE)","v":120000},{"$f":"IF($H$1=\"USD\",tblSalaries[[#This Row],[Salary in USD]],tblSalaries[[#This Row],[Salary in USD]]*VLOOKUP($H$1,USDtoUserChoice,2,FALSE))","v":984237.60000000009},"Sr. Analyst","Analyst","USA",{"$f":"VLOOKUP(tblSalaries[[#This Row],[Where do you work]],tblCountries[[Actual]:[Mapping]],2,FALSE)","v":"USA"},"All the 8 hours baby, all the 8!",7,{"$f":"IF(ISNA(VLOOKUP(tblSalaries[[#This Row],[Years of Experience]],vlookUpExp!$A$1:$B$56,2,FALSE)),\"No Response\",VLOOKUP(tblSalaries[[#This Row],[Years of Experience]],vlookUpExp!$A$1:$B$56,2,FALSE))","v":"6-10"}]
[null,"ID0593","2012-05-26T08:10:43",8000,96000,"CNY",{"$f":"tblSalaries[[#This Row],[clean Salary (in local currency)]]*VLOOKUP(tblSalaries[[#This Row],[Currency]],tblXrate[],2,FALSE)","v":15092.18020692008},{"$f":"IF($H$1=\"USD\",tblSalaries[[#This Row],[Salary in USD]],tblSalaries[[#This Row],[Salary in USD]]*VLOOKUP($H$1,USDtoUserChoice,2,FALSE))","v":123785.76021355437},"finance","Accountant","china",{"$f":"VLOOKUP(tblSalaries[[#This Row],[Where do you work]],tblCountries[[Actual]:[Mapping]],2,FALSE)","v":"china"},"4 to 6 hours a day",10,{"$f":"IF(ISNA(VLOOKUP(tblSalaries[[#This Row],[Years of Experience]],vlookUpExp!$A$1:$B$56,2,FALSE)),\"No Response\",VLOOKUP(tblSalaries[[#This Row],[Years of Experience]],vlookUpExp!$A$1:$B$56,2,FALSE))","v":"6-10"}]
[null,"ID0594","2012-05-26T08:17:53","$36 000",36000,"USD",{"$f":"tblSalaries[[#This Row],[clean Salary (in local currency)]]*VLOOKUP(tblSalaries[[#This Row],[Currency]],tblXrate[],2,FALSE)","v":36000},{"$f":"IF($H$1=\"USD\",tblSalaries[[#This Row],[Salary in USD]],tblSalaries[[#This Row],[Salary in USD]]*VLOOKUP($H$1,USDtoUserChoice,2,FALSE))","v":295271.28000000003},"Consulting","Consultant","Russia",{"$f":"VLOOKUP(tblSalaries[[#This Row],[Where do you work]],tblCountries[[Actual]:[Mapping]],2,FALSE)","v":"Russia"},"All the 8 hours baby, all the 8!",10,{"$f":"IF(ISNA(VLOOKUP(tblSalaries[[#This Row],[Years of Experience]],vlookUpExp!$A$1:$B$56,2,FALSE)),\"No Response\",VLOOKUP(tblSalaries[[#This Row],[Years of Experience]],vlookUpExp!$A$1:$B$56,2,FALSE))","v":"6-10"}]
[null,"ID0595","2012-05-26T08:30:00","â‚¬ 50000",50000,"EUR",{"$f":"tblSalaries[[#This Row],[clean Salary (in local currency)]]*VLOOKUP(tblSalaries[[#This Row],[Currency]],tblXrate[],2,FALSE)","v":63519.971949580387},{"$f":"IF($H$1=\"USD\",tblSalaries[[#This Row],[Salary in USD]],tblSalaries[[#This Row],[Salary in USD]]*VLOOKUP($H$1,USDtoUserChoice,2,FALSE))","v":520989.5395310194},"Analyst","Analyst","Germany",{"$f":"VLOOKUP(tblSalaries[[#This Row],[Where do you work]],tblCountries[[Actual]:[Mapping]],2,FALSE)","v":"Germany"},"2 to 3 hours per day",4,{"$f":"IF(ISNA(VLOOKUP(tblSalaries[[#This Row],[Years of Experience]],vlookUpExp!$A$1:$B$56,2,FALSE)),\"No Response\",VLOOKUP(tblSalaries[[#This Row],[Years of Experience]],vlookUpExp!$A$1:$B$56,2,FALSE))","v":"0-5"}]
[null,"ID0596","2012-05-26T08:43:07",108000,108000,"USD",{"$f":"tblSalaries[[#This Row],[clean Salary (in local currency)]]*VLOOKUP(tblSalaries[[#This Row],[Currency]],tblXrate[],2,FALSE)","v":108000},{"$f":"IF($H$1=\"USD\",tblSalaries[[#This Row],[Salary in USD]],tblSalaries[[#This Row],[Salary in USD]]*VLOOKUP($H$1,USDtoUserChoice,2,FALSE))","v":885813.84000000008},"Technology consultant ","Consultant","USA",{"$f":"VLOOKUP(tblSalaries[[#This Row],[Where do you work]],tblCountries[[Actual]:[Mapping]],2,FALSE)","v":"USA"},"2 to 3 hours per day",7,{"$f":"IF(ISNA(VLOOKUP(tblSalaries[[#This Row],[Years of Experience]],vlookUpExp!$A$1:$B$56,2,FALSE)),\"No Response\",VLOOKUP(tblSalaries[[#This Row],[Years of Experience]],vlookUpExp!$A$1:$B$56,2,FALSE))","v":"6-10"}]
[null,"ID0597","2012-05-26T08:45:34",75000,75000,"USD",{"$f":"tblSalaries[[#This Row],[clean Salary (in local currency)]]*VLOOKUP(tblSalaries[[#This Row],[Currency]],tblXrate[],2,FALSE)","v":75000},{"$f":"IF($H$1=\"USD\",tblSalaries[[#This Row],[Salary in USD]],tblSalaries[[#This Row],[Salary in USD]]*VLOOKUP($H$1,USDtoUserChoice,2,FALSE))","v":615148.5},"Financial Analyst","Analyst","USA",{"$f":"VLOOKUP(tblSalaries[[#This Row],[Where do you work]],tblCountries[[Actual]:[Mapping]],2,FALSE)","v":"USA"},"4 to 6 hours a day",5,{"$f":"IF(ISNA(VLOOKUP(tblSalaries[[#This Row],[Years of Experience]],vlookUpExp!$A$1:$B$56,2,FALSE)),\"No Response\",VLOOKUP(tblSalaries[[#This Row],[Years of Experience]],vlookUpExp!$A$1:$B$56,2,FALSE))","v":"0-5"}]
[null,"ID0598","2012-05-26T08:51:04","4,00,000",400000,"INR",{"$f":"tblSalaries[[#This Row],[clean Salary (in local currency)]]*VLOOKUP(tblSalaries[[#This Row],[Currency]],tblXrate[],2,FALSE)","v":7123.1666749770275},{"$f":"IF($H$1=\"USD\",tblSalaries[[#This Row],[Salary in USD]],tblSalaries[[#This Row],[Salary in USD]]*VLOOKUP($H$1,USDtoUserChoice,2,FALSE))","v":58424.070604828084},"BPO","Manager","India",{"$f":"VLOOKUP(tblSalaries[[#This Row],[Where do you work]],tblCountries[[Actual]:[Mapping]],2,FALSE)","v":"India"},"1 or 2 hours a day",3,{"$f":"IF(ISNA(VLOOKUP(tblSalaries[[#This Row],[Years of Experience]],vlookUpExp!$A$1:$B$56,2,FALSE)),\"No Response\",VLOOKUP(tblSalaries[[#This Row],[Years of Experience]],vlookUpExp!$A$1:$B$56,2,FALSE))","v":"0-5"}]
[null,"ID0599","2012-05-26T08:52:00",50000,50000,"USD",{"$f":"tblSalaries[[#This Row],[clean Salary (in local currency)]]*VLOOKUP(tblSalaries[[#This Row],[Currency]],tblXrate[],2,FALSE)","v":50000},{"$f":"IF($H$1=\"USD\",tblSalaries[[#This Row],[Salary in USD]],tblSalaries[[#This Row],[Salary in USD]]*VLOOKUP($H$1,USDtoUserChoice,2,FALSE))","v":410099.00000000006},"General manager","Manager","India",{"$f":"VLOOKUP(tblSalaries[[#This Row],[Where do you work]],tblCountries[[Actual]:[Mapping]],2,FALSE)","v":"India"},"1 or 2 hours a day",25,{"$f":"IF(ISNA(VLOOKUP(tblSalaries[[#This Row],[Years of Experience]],vlookUpExp!$A$1:$B$56,2,FALSE)),\"No Response\",VLOOKUP(tblSalaries[[#This Row],[Years of Experience]],vlookUpExp!$A$1:$B$56,2,FALSE))","v":"21-25"}]
[null,"ID0600","2012-05-26T08:55:12",45000,45000,"USD",{"$f":"tblSalaries[[#This Row],[clean Salary (in local currency)]]*VLOOKUP(tblSalaries[[#This Row],[Currency]],tblXrate[],2,FALSE)","v":45000},{"$f":"IF($H$1=\"USD\",tblSalaries[[#This Row],[Salary in USD]],tblSalaries[[#This Row],[Salary in USD]]*VLOOKUP($H$1,USDtoUserChoice,2,FALSE))","v":369089.10000000003},"Technical Analyst","Analyst","USA",{"$f":"VLOOKUP(tblSalaries[[#This Row],[Where do you work]],tblCountries[[Actual]:[Mapping]],2,FALSE)","v":"USA"},"4 to 6 hours a day",15,{"$f":"IF(ISNA(VLOOKUP(tblSalaries[[#This Row],[Years of Experience]],vlookUpExp!$A$1:$B$56,2,FALSE)),\"No Response\",VLOOKUP(tblSalaries[[#This Row],[Years of Experience]],vlookUpExp!$A$1:$B$56,2,FALSE))","v":"11-15"}]
[null,"ID0601","2012-05-26T08:55:17",45000,45000,"USD",{"$f":"tblSalaries[[#This Row],[clean Salary (in local currency)]]*VLOOKUP(tblSalaries[[#This Row],[Currency]],tblXrate[],2,FALSE)","v":45000},{"$f":"IF($H$1=\"USD\",tblSalaries[[#This Row],[Salary in USD]],tblSalaries[[#This Row],[Salary in USD]]*VLOOKUP($H$1,USDtoUserChoice,2,FALSE))","v":369089.10000000003},"Head Accounts","Accountant","USA",{"$f":"VLOOKUP(tblSalaries[[#This Row],[Where do you work]],tblCountries[[Actual]:[Mapping]],2,FALSE)","v":"USA"},"4 to 6 hours a day",7,{"$f":"IF(ISNA(VLOOKUP(tblSalaries[[#This Row],[Years of Experience]],vlookUpExp!$A$1:$B$56,2,FALSE)),\"No Response\",VLOOKUP(tblSalaries[[#This Row],[Years of Experience]],vlookUpExp!$A$1:$B$56,2,FALSE))","v":"6-10"}]
[null,"ID0602","2012-05-26T08:56:13","90 k",90000,"USD",{"$f":"tblSalaries[[#This Row],[clean Salary (in local currency)]]*VLOOKUP(tblSalaries[[#This Row],[Currency]],tblXrate[],2,FALSE)","v":90000},{"$f":"IF($H$1=\"USD\",tblSalaries[[#This Row],[Salary in USD]],tblSalaries[[#This Row],[Salary in USD]]*VLOOKUP($H$1,USDtoUserChoice,2,FALSE))","v":738178.20000000007},"Operations","Manager","USA",{"$f":"VLOOKUP(tblSalaries[[#This Row],[Where do you work]],tblCountries[[Actual]:[Mapping]],2,FALSE)","v":"USA"},"2 to 3 hours per day",20,{"$f":"IF(ISNA(VLOOKUP(tblSalaries[[#This Row],[Years of Experience]],vlookUpExp!$A$1:$B$56,2,FALSE)),\"No Response\",VLOOKUP(tblSalaries[[#This Row],[Years of Experience]],vlookUpExp!$A$1:$B$56,2,FALSE))","v":"16-20"}]
[null,"ID0603","2012-05-26T08:58:55","Rs. 20000",240000,"INR",{"$f":"tblSalaries[[#This Row],[clean Salary (in local currency)]]*VLOOKUP(tblSalaries[[#This Row],[Currency]],tblXrate[],2,FALSE)","v":4273.9000049862161},{"$f":"IF($H$1=\"USD\",tblSalaries[[#This Row],[Salary in USD]],tblSalaries[[#This Row],[Salary in USD]]*VLOOKUP($H$1,USDtoUserChoice,2,FALSE))","v":35054.442362896851},"Talati","Analyst","India",{"$f":"VLOOKUP(tblSalaries[[#This Row],[Where do you work]],tblCountries[[Actual]:[Mapping]],2,FALSE)","v":"India"},"2 to 3 hours per day",5,{"$f":"IF(ISNA(VLOOKUP(tblSalaries[[#This Row],[Years of Experience]],vlookUpExp!$A$1:$B$56,2,FALSE)),\"No Response\",VLOOKUP(tblSalaries[[#This Row],[Years of Experience]],vlookUpExp!$A$1:$B$56,2,FALSE))","v":"0-5"}]
[null,"ID0604","2012-05-26T09:28:32",50000,50000,"USD",{"$f":"tblSalaries[[#This Row],[clean Salary (in local currency)]]*VLOOKUP(tblSalaries[[#This Row],[Currency]],tblXrate[],2,FALSE)","v":50000},{"$f":"IF($H$1=\"USD\",tblSalaries[[#This Row],[Salary in USD]],tblSalaries[[#This Row],[Salary in USD]]*VLOOKUP($H$1,USDtoUserChoice,2,FALSE))","v":410099.00000000006},"Product manager","Manager","India",{"$f":"VLOOKUP(tblSalaries[[#This Row],[Where do you work]],tblCountries[[Actual]:[Mapping]],2,FALSE)","v":"India"},"1 or 2 hours a day",10,{"$f":"IF(ISNA(VLOOKUP(tblSalaries[[#This Row],[Years of Experience]],vlookUpExp!$A$1:$B$56,2,FALSE)),\"No Response\",VLOOKUP(tblSalaries[[#This Row],[Years of Experience]],vlookUpExp!$A$1:$B$56,2,FALSE))","v":"6-10"}]
[null,"ID0605","2012-05-26T09:28:50",65000,65000,"USD",{"$f":"tblSalaries[[#This Row],[clean Salary (in local currency)]]*VLOOKUP(tblSalaries[[#This Row],[Currency]],tblXrate[],2,FALSE)","v":65000},{"$f":"IF($H$1=\"USD\",tblSalaries[[#This Row],[Salary in USD]],tblSalaries[[#This Row],[Salary in USD]]*VLOOKUP($H$1,USDtoUserChoice,2,FALSE))","v":533128.70000000007},"Helicopter Mechanic","Analyst","USA",{"$f":"VLOOKUP(tblSalaries[[#This Row],[Where do you work]],tblCountries[[Actual]:[Mapping]],2,FALSE)","v":"USA"},"2 to 3 hours per day",17,{"$f":"IF(ISNA(VLOOKUP(tblSalaries[[#This Row],[Years of Experience]],vlookUpExp!$A$1:$B$56,2,FALSE)),\"No Response\",VLOOKUP(tblSalaries[[#This Row],[Years of Experience]],vlookUpExp!$A$1:$B$56,2,FALSE))","v":"16-20"}]
[null,"ID0606","2012-05-26T09:36:28",70000,70000,"USD",{"$f":"tblSalaries[[#This Row],[clean Salary (in local currency)]]*VLOOKUP(tblSalaries[[#This Row],[Currency]],tblXrate[],2,FALSE)","v":70000},{"$f":"IF($H$1=\"USD\",tblSalaries[[#This Row],[Salary in USD]],tblSalaries[[#This Row],[Salary in USD]]*VLOOKUP($H$1,USDtoUserChoice,2,FALSE))","v":574138.60000000009},"Program/Mgt Analyst","Analyst","USA",{"$f":"VLOOKUP(tblSalaries[[#This Row],[Where do you work]],tblCountries[[Actual]:[Mapping]],2,FALSE)","v":"USA"},"2 to 3 hours per day",18,{"$f":"IF(ISNA(VLOOKUP(tblSalaries[[#This Row],[Years of Experience]],vlookUpExp!$A$1:$B$56,2,FALSE)),\"No Response\",VLOOKUP(tblSalaries[[#This Row],[Years of Experience]],vlookUpExp!$A$1:$B$56,2,FALSE))","v":"16-20"}]
[null,"ID0608","2012-05-26T09:51:47",160000,160000,"USD",{"$f":"tblSalaries[[#This Row],[clean Salary (in local currency)]]*VLOOKUP(tblSalaries[[#This Row],[Currency]],tblXrate[],2,FALSE)","v":160000},{"$f":"IF($H$1=\"USD\",tblSalaries[[#This Row],[Salary in USD]],tblSalaries[[#This Row],[Salary in USD]]*VLOOKUP($H$1,USDtoUserChoice,2,FALSE))","v":1312316.8},"Director, Analytics","Analyst","USA",{"$f":"VLOOKUP(tblSalaries[[#This Row],[Where do you work]],tblCountries[[Actual]:[Mapping]],2,FALSE)","v":"USA"},"4 to 6 hours a day",5,{"$f":"IF(ISNA(VLOOKUP(tblSalaries[[#This Row],[Years of Experience]],vlookUpExp!$A$1:$B$56,2,FALSE)),\"No Response\",VLOOKUP(tblSalaries[[#This Row],[Years of Experience]],vlookUpExp!$A$1:$B$56,2,FALSE))","v":"0-5"}]
[null,"ID0609","2012-05-26T09:52:22",100000,100000,"AUD",{"$f":"tblSalaries[[#This Row],[clean Salary (in local currency)]]*VLOOKUP(tblSalaries[[#This Row],[Currency]],tblXrate[],2,FALSE)","v":101990.96564026357},{"$f":"IF($H$1=\"USD\",tblSalaries[[#This Row],[Salary in USD]],tblSalaries[[#This Row],[Salary in USD]]*VLOOKUP($H$1,USDtoUserChoice,2,FALSE))","v":836527.86036212905},"Purchasing Manager","Manager","Australia",{"$f":"VLOOKUP(tblSalaries[[#This Row],[Where do you work]],tblCountries[[Actual]:[Mapping]],2,FALSE)","v":"Australia"},"2 to 3 hours per day",20,{"$f":"IF(ISNA(VLOOKUP(tblSalaries[[#This Row],[Years of Experience]],vlookUpExp!$A$1:$B$56,2,FALSE)),\"No Response\",VLOOKUP(tblSalaries[[#This Row],[Years of Experience]],vlookUpExp!$A$1:$B$56,2,FALSE))","v":"16-20"}]
[null,"ID0611","2012-05-26T10:01:28",380000,380000,"INR",{"$f":"tblSalaries[[#This Row],[clean Salary (in local currency)]]*VLOOKUP(tblSalaries[[#This Row],[Currency]],tblXrate[],2,FALSE)","v":6767.0083412281756},{"$f":"IF($H$1=\"USD\",tblSalaries[[#This Row],[Salary in USD]],tblSalaries[[#This Row],[Salary in USD]]*VLOOKUP($H$1,USDtoUserChoice,2,FALSE))","v":55502.867074586677},"Incharge","Manager","India",{"$f":"VLOOKUP(tblSalaries[[#This Row],[Where do you work]],tblCountries[[Actual]:[Mapping]],2,FALSE)","v":"India"},"4 to 6 hours a day",10,{"$f":"IF(ISNA(VLOOKUP(tblSalaries[[#This Row],[Years of Experience]],vlookUpExp!$A$1:$B$56,2,FALSE)),\"No Response\",VLOOKUP(tblSalaries[[#This Row],[Years of Experience]],vlookUpExp!$A$1:$B$56,2,FALSE))","v":"6-10"}]
[null,"ID0612","2012-05-26T10:20:35",30000,30000,"USD",{"$f":"tblSalaries[[#This Row],[clean Salary (in local currency)]]*VLOOKUP(tblSalaries[[#This Row],[Currency]],tblXrate[],2,FALSE)","v":30000},{"$f":"IF($H$1=\"USD\",tblSalaries[[#This Row],[Salary in USD]],tblSalaries[[#This Row],[Salary in USD]]*VLOOKUP($H$1,USDtoUserChoice,2,FALSE))","v":246059.40000000002},"Sales Assistant","Analyst","USA",{"$f":"VLOOKUP(tblSalaries[[#This Row],[Where do you work]],tblCountries[[Actual]:[Mapping]],2,FALSE)","v":"USA"},"2 to 3 hours per day",8,{"$f":"IF(ISNA(VLOOKUP(tblSalaries[[#This Row],[Years of Experience]],vlookUpExp!$A$1:$B$56,2,FALSE)),\"No Response\",VLOOKUP(tblSalaries[[#This Row],[Years of Experience]],vlookUpExp!$A$1:$B$56,2,FALSE))","v":"6-10"}]
[null,"ID0613","2012-05-26T10:22:45","INR 420000",420000,"INR",{"$f":"tblSalaries[[#This Row],[clean Salary (in local currency)]]*VLOOKUP(tblSalaries[[#This Row],[Currency]],tblXrate[],2,FALSE)","v":7479.3250087258784},{"$f":"IF($H$1=\"USD\",tblSalaries[[#This Row],[Salary in USD]],tblSalaries[[#This Row],[Salary in USD]]*VLOOKUP($H$1,USDtoUserChoice,2,FALSE))","v":61345.274135069485},"Assistant EDP","Analyst","India",{"$f":"VLOOKUP(tblSalaries[[#This Row],[Where do you work]],tblCountries[[Actual]:[Mapping]],2,FALSE)","v":"India"},"4 to 6 hours a day",3,{"$f":"IF(ISNA(VLOOKUP(tblSalaries[[#This Row],[Years of Experience]],vlookUpExp!$A$1:$B$56,2,FALSE)),\"No Response\",VLOOKUP(tblSalaries[[#This Row],[Years of Experience]],vlookUpExp!$A$1:$B$56,2,FALSE))","v":"0-5"}]
[null,"ID0614","2012-05-26T10:31:42",61000,61000,"USD",{"$f":"tblSalaries[[#This Row],[clean Salary (in local currency)]]*VLOOKUP(tblSalaries[[#This Row],[Currency]],tblXrate[],2,FALSE)","v":61000},{"$f":"IF($H$1=\"USD\",tblSalaries[[#This Row],[Salary in USD]],tblSalaries[[#This Row],[Salary in USD]]*VLOOKUP($H$1,USDtoUserChoice,2,FALSE))","v":500320.78},"Sales ops","Manager","USA",{"$f":"VLOOKUP(tblSalaries[[#This Row],[Where do you work]],tblCountries[[Actual]:[Mapping]],2,FALSE)","v":"USA"},"4 to 6 hours a day",5,{"$f":"IF(ISNA(VLOOKUP(tblSalaries[[#This Row],[Years of Experience]],vlookUpExp!$A$1:$B$56,2,FALSE)),\"No Response\",VLOOKUP(tblSalaries[[#This Row],[Years of Experience]],vlookUpExp!$A$1:$B$56,2,FALSE))","v":"0-5"}]
[null,"ID0615","2012-05-26T10:32:07","1150 $",13800,"USD",{"$f":"tblSalaries[[#This Row],[clean Salary (in local currency)]]*VLOOKUP(tblSalaries[[#This Row],[Currency]],tblXrate[],2,FALSE)","v":13800},{"$f":"IF($H$1=\"USD\",tblSalaries[[#This Row],[Salary in USD]],tblSalaries[[#This Row],[Salary in USD]]*VLOOKUP($H$1,USDtoUserChoice,2,FALSE))","v":113187.32400000001},"QS","Controller","Sri Lanka",{"$f":"VLOOKUP(tblSalaries[[#This Row],[Where do you work]],tblCountries[[Actual]:[Mapping]],2,FALSE)","v":"Sri Lanka"},"4 to 6 hours a day",20,{"$f":"IF(ISNA(VLOOKUP(tblSalaries[[#This Row],[Years of Experience]],vlookUpExp!$A$1:$B$56,2,FALSE)),\"No Response\",VLOOKUP(tblSalaries[[#This Row],[Years of Experience]],vlookUpExp!$A$1:$B$56,2,FALSE))","v":"16-20"}]
[null,"ID0616","2012-05-26T10:41:11","INR 850,000",850000,"INR",{"$f":"tblSalaries[[#This Row],[clean Salary (in local currency)]]*VLOOKUP(tblSalaries[[#This Row],[Currency]],tblXrate[],2,FALSE)","v":15136.729184326183},{"$f":"IF($H$1=\"USD\",tblSalaries[[#This Row],[Salary in USD]],tblSalaries[[#This Row],[Salary in USD]]*VLOOKUP($H$1,USDtoUserChoice,2,FALSE))","v":124151.15003525968},"Sales Analyst","Analyst","India",{"$f":"VLOOKUP(tblSalaries[[#This Row],[Where do you work]],tblCountries[[Actual]:[Mapping]],2,FALSE)","v":"India"},"4 to 6 hours a day",6,{"$f":"IF(ISNA(VLOOKUP(tblSalaries[[#This Row],[Years of Experience]],vlookUpExp!$A$1:$B$56,2,FALSE)),\"No Response\",VLOOKUP(tblSalaries[[#This Row],[Years of Experience]],vlookUpExp!$A$1:$B$56,2,FALSE))","v":"6-10"}]
[null,"ID0617","2012-05-26T10:43:53",1800000,1800000,"INR",{"$f":"tblSalaries[[#This Row],[clean Salary (in local currency)]]*VLOOKUP(tblSalaries[[#This Row],[Currency]],tblXrate[],2,FALSE)","v":32054.250037396621},{"$f":"IF($H$1=\"USD\",tblSalaries[[#This Row],[Salary in USD]],tblSalaries[[#This Row],[Salary in USD]]*VLOOKUP($H$1,USDtoUserChoice,2,FALSE))","v":262908.31772172637},"AGM Finance","Manager","India",{"$f":"VLOOKUP(tblSalaries[[#This Row],[Where do you work]],tblCountries[[Actual]:[Mapping]],2,FALSE)","v":"India"},"2 to 3 hours per day",10,{"$f":"IF(ISNA(VLOOKUP(tblSalaries[[#This Row],[Years of Experience]],vlookUpExp!$A$1:$B$56,2,FALSE)),\"No Response\",VLOOKUP(tblSalaries[[#This Row],[Years of Experience]],vlookUpExp!$A$1:$B$56,2,FALSE))","v":"6-10"}]
[null,"ID0618","2012-05-26T10:51:05",80000,80000,"USD",{"$f":"tblSalaries[[#This Row],[clean Salary (in local currency)]]*VLOOKUP(tblSalaries[[#This Row],[Currency]],tblXrate[],2,FALSE)","v":80000},{"$f":"IF($H$1=\"USD\",tblSalaries[[#This Row],[Salary in USD]],tblSalaries[[#This Row],[Salary in USD]]*VLOOKUP($H$1,USDtoUserChoice,2,FALSE))","v":656158.4},"Sales Controller","Controller","USA",{"$f":"VLOOKUP(tblSalaries[[#This Row],[Where do you work]],tblCountries[[Actual]:[Mapping]],2,FALSE)","v":"USA"},"4 to 6 hours a day",15,{"$f":"IF(ISNA(VLOOKUP(tblSalaries[[#This Row],[Years of Experience]],vlookUpExp!$A$1:$B$56,2,FALSE)),\"No Response\",VLOOKUP(tblSalaries[[#This Row],[Years of Experience]],vlookUpExp!$A$1:$B$56,2,FALSE))","v":"11-15"}]
[null,"ID0619","2012-05-26T10:54:22",21000,21000,"USD",{"$f":"tblSalaries[[#This Row],[clean Salary (in local currency)]]*VLOOKUP(tblSalaries[[#This Row],[Currency]],tblXrate[],2,FALSE)","v":21000},{"$f":"IF($H$1=\"USD\",tblSalaries[[#This Row],[Salary in USD]],tblSalaries[[#This Row],[Salary in USD]]*VLOOKUP($H$1,USDtoUserChoice,2,FALSE))","v":172241.58000000002},"Manager","Manager","India",{"$f":"VLOOKUP(tblSalaries[[#This Row],[Where do you work]],tblCountries[[Actual]:[Mapping]],2,FALSE)","v":"India"},"All the 8 hours baby, all the 8!",23,{"$f":"IF(ISNA(VLOOKUP(tblSalaries[[#This Row],[Years of Experience]],vlookUpExp!$A$1:$B$56,2,FALSE)),\"No Response\",VLOOKUP(tblSalaries[[#This Row],[Years of Experience]],vlookUpExp!$A$1:$B$56,2,FALSE))","v":"21-25"}]
[null,"ID0620","2012-05-26T10:59:10",250000,250000,"CAD",{"$f":"tblSalaries[[#This Row],[clean Salary (in local currency)]]*VLOOKUP(tblSalaries[[#This Row],[Currency]],tblXrate[],2,FALSE)","v":245840.3807575817},{"$f":"IF($H$1=\"USD\",tblSalaries[[#This Row],[Salary in USD]],tblSalaries[[#This Row],[Salary in USD]]*VLOOKUP($H$1,USDtoUserChoice,2,FALSE))","v":2016377.8861660701},"Business Analyst","Analyst","Canada",{"$f":"VLOOKUP(tblSalaries[[#This Row],[Where do you work]],tblCountries[[Actual]:[Mapping]],2,FALSE)","v":"Canada"},"4 to 6 hours a day",32,{"$f":"IF(ISNA(VLOOKUP(tblSalaries[[#This Row],[Years of Experience]],vlookUpExp!$A$1:$B$56,2,FALSE)),\"No Response\",VLOOKUP(tblSalaries[[#This Row],[Years of Experience]],vlookUpExp!$A$1:$B$56,2,FALSE))","v":"31-35"}]
[null,"ID0621","2012-05-26T10:59:39","1 lakh 60 thousand INR/Year",160000,"INR",{"$f":"tblSalaries[[#This Row],[clean Salary (in local currency)]]*VLOOKUP(tblSalaries[[#This Row],[Currency]],tblXrate[],2,FALSE)","v":2849.2666699908109},{"$f":"IF($H$1=\"USD\",tblSalaries[[#This Row],[Salary in USD]],tblSalaries[[#This Row],[Salary in USD]]*VLOOKUP($H$1,USDtoUserChoice,2,FALSE))","v":23369.628241931234},"MIS Executive","Reporting","India",{"$f":"VLOOKUP(tblSalaries[[#This Row],[Where do you work]],tblCountries[[Actual]:[Mapping]],2,FALSE)","v":"India"},"All the 8 hours baby, all the 8!",3,{"$f":"IF(ISNA(VLOOKUP(tblSalaries[[#This Row],[Years of Experience]],vlookUpExp!$A$1:$B$56,2,FALSE)),\"No Response\",VLOOKUP(tblSalaries[[#This Row],[Years of Experience]],vlookUpExp!$A$1:$B$56,2,FALSE))","v":"0-5"}]
[null,"ID0622","2012-05-26T11:01:56",700,8400,"USD",{"$f":"tblSalaries[[#This Row],[clean Salary (in local currency)]]*VLOOKUP(tblSalaries[[#This Row],[Currency]],tblXrate[],2,FALSE)","v":8400},{"$f":"IF($H$1=\"USD\",tblSalaries[[#This Row],[Salary in USD]],tblSalaries[[#This Row],[Salary in USD]]*VLOOKUP($H$1,USDtoUserChoice,2,FALSE))","v":68896.632000000012},"SYSTEM MANAGER","Manager","India",{"$f":"VLOOKUP(tblSalaries[[#This Row],[Where do you work]],tblCountries[[Actual]:[Mapping]],2,FALSE)","v":"India"},"All the 8 hours baby, all the 8!",26,{"$f":"IF(ISNA(VLOOKUP(tblSalaries[[#This Row],[Years of Experience]],vlookUpExp!$A$1:$B$56,2,FALSE)),\"No Response\",VLOOKUP(tblSalaries[[#This Row],[Years of Experience]],vlookUpExp!$A$1:$B$56,2,FALSE))","v":"26-30"}]
[null,"ID0623","2012-05-26T11:03:02","A$85000",85000,"AUD",{"$f":"tblSalaries[[#This Row],[clean Salary (in local currency)]]*VLOOKUP(tblSalaries[[#This Row],[Currency]],tblXrate[],2,FALSE)","v":86692.320794224041},{"$f":"IF($H$1=\"USD\",tblSalaries[[#This Row],[Salary in USD]],tblSalaries[[#This Row],[Salary in USD]]*VLOOKUP($H$1,USDtoUserChoice,2,FALSE))","v":711048.68130780978},"Trainer","Consultant","Australia",{"$f":"VLOOKUP(tblSalaries[[#This Row],[Where do you work]],tblCountries[[Actual]:[Mapping]],2,FALSE)","v":"Australia"},"1 or 2 hours a day",20,{"$f":"IF(ISNA(VLOOKUP(tblSalaries[[#This Row],[Years of Experience]],vlookUpExp!$A$1:$B$56,2,FALSE)),\"No Response\",VLOOKUP(tblSalaries[[#This Row],[Years of Experience]],vlookUpExp!$A$1:$B$56,2,FALSE))","v":"16-20"}]
[null,"ID0624","2012-05-26T11:03:06",50000,50000,"USD",{"$f":"tblSalaries[[#This Row],[clean Salary (in local currency)]]*VLOOKUP(tblSalaries[[#This Row],[Currency]],tblXrate[],2,FALSE)","v":50000},{"$f":"IF($H$1=\"USD\",tblSalaries[[#This Row],[Salary in USD]],tblSalaries[[#This Row],[Salary in USD]]*VLOOKUP($H$1,USDtoUserChoice,2,FALSE))","v":410099.00000000006},"Project coordinator","Manager","USA",{"$f":"VLOOKUP(tblSalaries[[#This Row],[Where do you work]],tblCountries[[Actual]:[Mapping]],2,FALSE)","v":"USA"},"4 to 6 hours a day",20,{"$f":"IF(ISNA(VLOOKUP(tblSalaries[[#This Row],[Years of Experience]],vlookUpExp!$A$1:$B$56,2,FALSE)),\"No Response\",VLOOKUP(tblSalaries[[#This Row],[Years of Experience]],vlookUpExp!$A$1:$B$56,2,FALSE))","v":"16-20"}]
[null,"ID0625","2012-05-26T11:03:48",4000,4000,"USD",{"$f":"tblSalaries[[#This Row],[clean Salary (in local currency)]]*VLOOKUP(tblSalaries[[#This Row],[Currency]],tblXrate[],2,FALSE)","v":4000},{"$f":"IF($H$1=\"USD\",tblSalaries[[#This Row],[Salary in USD]],tblSalaries[[#This Row],[Salary in USD]]*VLOOKUP($H$1,USDtoUserChoice,2,FALSE))","v":32807.920000000006},"MIS Executive","Reporting","India",{"$f":"VLOOKUP(tblSalaries[[#This Row],[Where do you work]],tblCountries[[Actual]:[Mapping]],2,FALSE)","v":"India"},"All the 8 hours baby, all the 8!",6,{"$f":"IF(ISNA(VLOOKUP(tblSalaries[[#This Row],[Years of Experience]],vlookUpExp!$A$1:$B$56,2,FALSE)),\"No Response\",VLOOKUP(tblSalaries[[#This Row],[Years of Experience]],vlookUpExp!$A$1:$B$56,2,FALSE))","v":"6-10"}]
[null,"ID0626","2012-05-26T11:05:45",100000,100000,"AUD",{"$f":"tblSalaries[[#This Row],[clean Salary (in local currency)]]*VLOOKUP(tblSalaries[[#This Row],[Currency]],tblXrate[],2,FALSE)","v":101990.96564026357},{"$f":"IF($H$1=\"USD\",tblSalaries[[#This Row],[Salary in USD]],tblSalaries[[#This Row],[Salary in USD]]*VLOOKUP($H$1,USDtoUserChoice,2,FALSE))","v":836527.86036212905},"Business Analyst","Analyst","Australia",{"$f":"VLOOKUP(tblSalaries[[#This Row],[Where do you work]],tblCountries[[Actual]:[Mapping]],2,FALSE)","v":"Australia"},"All the 8 hours baby, all the 8!",1,{"$f":"IF(ISNA(VLOOKUP(tblSalaries[[#This Row],[Years of Experience]],vlookUpExp!$A$1:$B$56,2,FALSE)),\"No Response\",VLOOKUP(tblSalaries[[#This Row],[Years of Experience]],vlookUpExp!$A$1:$B$56,2,FALSE))","v":"0-5"}]
[null,"ID0627","2012-05-26T11:05:58",95000,95000,"USD",{"$f":"tblSalaries[[#This Row],[clean Salary (in local currency)]]*VLOOKUP(tblSalaries[[#This Row],[Currency]],tblXrate[],2,FALSE)","v":95000},{"$f":"IF($H$1=\"USD\",tblSalaries[[#This Row],[Salary in USD]],tblSalaries[[#This Row],[Salary in USD]]*VLOOKUP($H$1,USDtoUserChoice,2,FALSE))","v":779188.10000000009},"Program Manager","Manager","USA",{"$f":"VLOOKUP(tblSalaries[[#This Row],[Where do you work]],tblCountries[[Actual]:[Mapping]],2,FALSE)","v":"USA"},"1 or 2 hours a day",10,{"$f":"IF(ISNA(VLOOKUP(tblSalaries[[#This Row],[Years of Experience]],vlookUpExp!$A$1:$B$56,2,FALSE)),\"No Response\",VLOOKUP(tblSalaries[[#This Row],[Years of Experience]],vlookUpExp!$A$1:$B$56,2,FALSE))","v":"6-10"}]
[null,"ID0628","2012-05-26T11:07:01",10000,10000,"USD",{"$f":"tblSalaries[[#This Row],[clean Salary (in local currency)]]*VLOOKUP(tblSalaries[[#This Row],[Currency]],tblXrate[],2,FALSE)","v":10000},{"$f":"IF($H$1=\"USD\",tblSalaries[[#This Row],[Salary in USD]],tblSalaries[[#This Row],[Salary in USD]]*VLOOKUP($H$1,USDtoUserChoice,2,FALSE))","v":82019.8},"executive","Manager","Indonesia",{"$f":"VLOOKUP(tblSalaries[[#This Row],[Where do you work]],tblCountries[[Actual]:[Mapping]],2,FALSE)","v":"Indonesia"},"2 to 3 hours per day",5,{"$f":"IF(ISNA(VLOOKUP(tblSalaries[[#This Row],[Years of Experience]],vlookUpExp!$A$1:$B$56,2,FALSE)),\"No Response\",VLOOKUP(tblSalaries[[#This Row],[Years of Experience]],vlookUpExp!$A$1:$B$56,2,FALSE))","v":"0-5"}]
[null,"ID0629","2012-05-26T11:09:27",4200,4200,"USD",{"$f":"tblSalaries[[#This Row],[clean Salary (in local currency)]]*VLOOKUP(tblSalaries[[#This Row],[Currency]],tblXrate[],2,FALSE)","v":4200},{"$f":"IF($H$1=\"USD\",tblSalaries[[#This Row],[Salary in USD]],tblSalaries[[#This Row],[Salary in USD]]*VLOOKUP($H$1,USDtoUserChoice,2,FALSE))","v":34448.316000000006},"MIS Executive","Reporting","India",{"$f":"VLOOKUP(tblSalaries[[#This Row],[Where do you work]],tblCountries[[Actual]:[Mapping]],2,FALSE)","v":"India"},"All the 8 hours baby, all the 8!",4,{"$f":"IF(ISNA(VLOOKUP(tblSalaries[[#This Row],[Years of Experience]],vlookUpExp!$A$1:$B$56,2,FALSE)),\"No Response\",VLOOKUP(tblSalaries[[#This Row],[Years of Experience]],vlookUpExp!$A$1:$B$56,2,FALSE))","v":"0-5"}]
[null,"ID0630","2012-05-26T11:10:23","Rs60000",720000,"INR",{"$f":"tblSalaries[[#This Row],[clean Salary (in local currency)]]*VLOOKUP(tblSalaries[[#This Row],[Currency]],tblXrate[],2,FALSE)","v":12821.700014958649},{"$f":"IF($H$1=\"USD\",tblSalaries[[#This Row],[Salary in USD]],tblSalaries[[#This Row],[Salary in USD]]*VLOOKUP($H$1,USDtoUserChoice,2,FALSE))","v":105163.32708869055},"Quantity Surveyor","Manager","India",{"$f":"VLOOKUP(tblSalaries[[#This Row],[Where do you work]],tblCountries[[Actual]:[Mapping]],2,FALSE)","v":"India"},"4 to 6 hours a day",12,{"$f":"IF(ISNA(VLOOKUP(tblSalaries[[#This Row],[Years of Experience]],vlookUpExp!$A$1:$B$56,2,FALSE)),\"No Response\",VLOOKUP(tblSalaries[[#This Row],[Years of Experience]],vlookUpExp!$A$1:$B$56,2,FALSE))","v":"11-15"}]
[null,"ID0631","2012-05-26T11:17:56",39000,39000,"USD",{"$f":"tblSalaries[[#This Row],[clean Salary (in local currency)]]*VLOOKUP(tblSalaries[[#This Row],[Currency]],tblXrate[],2,FALSE)","v":39000},{"$f":"IF($H$1=\"USD\",tblSalaries[[#This Row],[Salary in USD]],tblSalaries[[#This Row],[Salary in USD]]*VLOOKUP($H$1,USDtoUserChoice,2,FALSE))","v":319877.22000000003},"Content Analyst ","Analyst","USA",{"$f":"VLOOKUP(tblSalaries[[#This Row],[Where do you work]],tblCountries[[Actual]:[Mapping]],2,FALSE)","v":"USA"},"All the 8 hours baby, all the 8!",3,{"$f":"IF(ISNA(VLOOKUP(tblSalaries[[#This Row],[Years of Experience]],vlookUpExp!$A$1:$B$56,2,FALSE)),\"No Response\",VLOOKUP(tblSalaries[[#This Row],[Years of Experience]],vlookUpExp!$A$1:$B$56,2,FALSE))","v":"0-5"}]
[null,"ID0632","2012-05-26T11:26:46",60000,60000,"USD",{"$f":"tblSalaries[[#This Row],[clean Salary (in local currency)]]*VLOOKUP(tblSalaries[[#This Row],[Currency]],tblXrate[],2,FALSE)","v":60000},{"$f":"IF($H$1=\"USD\",tblSalaries[[#This Row],[Salary in USD]],tblSalaries[[#This Row],[Salary in USD]]*VLOOKUP($H$1,USDtoUserChoice,2,FALSE))","v":492118.80000000005},"business analyst","Analyst","USA",{"$f":"VLOOKUP(tblSalaries[[#This Row],[Where do you work]],tblCountries[[Actual]:[Mapping]],2,FALSE)","v":"USA"},"4 to 6 hours a day",12,{"$f":"IF(ISNA(VLOOKUP(tblSalaries[[#This Row],[Years of Experience]],vlookUpExp!$A$1:$B$56,2,FALSE)),\"No Response\",VLOOKUP(tblSalaries[[#This Row],[Years of Experience]],vlookUpExp!$A$1:$B$56,2,FALSE))","v":"11-15"}]
[null,"ID0633","2012-05-26T11:30:39","A$170000",170000,"AUD",{"$f":"tblSalaries[[#This Row],[clean Salary (in local currency)]]*VLOOKUP(tblSalaries[[#This Row],[Currency]],tblXrate[],2,FALSE)","v":173384.64158844808},{"$f":"IF($H$1=\"USD\",tblSalaries[[#This Row],[Salary in USD]],tblSalaries[[#This Row],[Salary in USD]]*VLOOKUP($H$1,USDtoUserChoice,2,FALSE))","v":1422097.3626156196},"senior business analyst","Analyst","Australia",{"$f":"VLOOKUP(tblSalaries[[#This Row],[Where do you work]],tblCountries[[Actual]:[Mapping]],2,FALSE)","v":"Australia"},"All the 8 hours baby, all the 8!",10,{"$f":"IF(ISNA(VLOOKUP(tblSalaries[[#This Row],[Years of Experience]],vlookUpExp!$A$1:$B$56,2,FALSE)),\"No Response\",VLOOKUP(tblSalaries[[#This Row],[Years of Experience]],vlookUpExp!$A$1:$B$56,2,FALSE))","v":"6-10"}]
[null,"ID0634","2012-05-26T11:31:08",125000,125000,"USD",{"$f":"tblSalaries[[#This Row],[clean Salary (in local currency)]]*VLOOKUP(tblSalaries[[#This Row],[Currency]],tblXrate[],2,FALSE)","v":125000},{"$f":"IF($H$1=\"USD\",tblSalaries[[#This Row],[Salary in USD]],tblSalaries[[#This Row],[Salary in USD]]*VLOOKUP($H$1,USDtoUserChoice,2,FALSE))","v":1025247.5000000001},"Analyst","Analyst","USA",{"$f":"VLOOKUP(tblSalaries[[#This Row],[Where do you work]],tblCountries[[Actual]:[Mapping]],2,FALSE)","v":"USA"},"2 to 3 hours per day",20,{"$f":"IF(ISNA(VLOOKUP(tblSalaries[[#This Row],[Years of Experience]],vlookUpExp!$A$1:$B$56,2,FALSE)),\"No Response\",VLOOKUP(tblSalaries[[#This Row],[Years of Experience]],vlookUpExp!$A$1:$B$56,2,FALSE))","v":"16-20"}]
[null,"ID0635","2012-05-26T11:31:52",78000,78000,"AUD",{"$f":"tblSalaries[[#This Row],[clean Salary (in local currency)]]*VLOOKUP(tblSalaries[[#This Row],[Currency]],tblXrate[],2,FALSE)","v":79552.953199405587},{"$f":"IF($H$1=\"USD\",tblSalaries[[#This Row],[Salary in USD]],tblSalaries[[#This Row],[Salary in USD]]*VLOOKUP($H$1,USDtoUserChoice,2,FALSE))","v":652491.73108246073},"Corporate Accountant","Accountant","Australia",{"$f":"VLOOKUP(tblSalaries[[#This Row],[Where do you work]],tblCountries[[Actual]:[Mapping]],2,FALSE)","v":"Australia"},"All the 8 hours baby, all the 8!",4,{"$f":"IF(ISNA(VLOOKUP(tblSalaries[[#This Row],[Years of Experience]],vlookUpExp!$A$1:$B$56,2,FALSE)),\"No Response\",VLOOKUP(tblSalaries[[#This Row],[Years of Experience]],vlookUpExp!$A$1:$B$56,2,FALSE))","v":"0-5"}]
[null,"ID0636","2012-05-26T11:36:04","Rs. 200000",200000,"INR",{"$f":"tblSalaries[[#This Row],[clean Salary (in local currency)]]*VLOOKUP(tblSalaries[[#This Row],[Currency]],tblXrate[],2,FALSE)","v":3561.5833374885137},{"$f":"IF($H$1=\"USD\",tblSalaries[[#This Row],[Salary in USD]],tblSalaries[[#This Row],[Salary in USD]]*VLOOKUP($H$1,USDtoUserChoice,2,FALSE))","v":29212.035302414042},"Auditor","Accountant","India",{"$f":"VLOOKUP(tblSalaries[[#This Row],[Where do you work]],tblCountries[[Actual]:[Mapping]],2,FALSE)","v":"India"},"4 to 6 hours a day",3,{"$f":"IF(ISNA(VLOOKUP(tblSalaries[[#This Row],[Years of Experience]],vlookUpExp!$A$1:$B$56,2,FALSE)),\"No Response\",VLOOKUP(tblSalaries[[#This Row],[Years of Experience]],vlookUpExp!$A$1:$B$56,2,FALSE))","v":"0-5"}]
[null,"ID0637","2012-05-26T11:37:26",80000,80000,"USD",{"$f":"tblSalaries[[#This Row],[clean Salary (in local currency)]]*VLOOKUP(tblSalaries[[#This Row],[Currency]],tblXrate[],2,FALSE)","v":80000},{"$f":"IF($H$1=\"USD\",tblSalaries[[#This Row],[Salary in USD]],tblSalaries[[#This Row],[Salary in USD]]*VLOOKUP($H$1,USDtoUserChoice,2,FALSE))","v":656158.4},"program coordinator - automotive","Manager","USA",{"$f":"VLOOKUP(tblSalaries[[#This Row],[Where do you work]],tblCountries[[Actual]:[Mapping]],2,FALSE)","v":"USA"},"4 to 6 hours a day",8,{"$f":"IF(ISNA(VLOOKUP(tblSalaries[[#This Row],[Years of Experience]],vlookUpExp!$A$1:$B$56,2,FALSE)),\"No Response\",VLOOKUP(tblSalaries[[#This Row],[Years of Experience]],vlookUpExp!$A$1:$B$56,2,FALSE))","v":"6-10"}]
[null,"ID0638","2012-05-26T11:37:53",600000,600000,"INR",{"$f":"tblSalaries[[#This Row],[clean Salary (in local currency)]]*VLOOKUP(tblSalaries[[#This Row],[Currency]],tblXrate[],2,FALSE)","v":10684.750012465542},{"$f":"IF($H$1=\"USD\",tblSalaries[[#This Row],[Salary in USD]],tblSalaries[[#This Row],[Salary in USD]]*VLOOKUP($H$1,USDtoUserChoice,2,FALSE))","v":87636.105907242134},"Financial Analyst","Analyst","India",{"$f":"VLOOKUP(tblSalaries[[#This Row],[Where do you work]],tblCountries[[Actual]:[Mapping]],2,FALSE)","v":"India"},"2 to 3 hours per day",3,{"$f":"IF(ISNA(VLOOKUP(tblSalaries[[#This Row],[Years of Experience]],vlookUpExp!$A$1:$B$56,2,FALSE)),\"No Response\",VLOOKUP(tblSalaries[[#This Row],[Years of Experience]],vlookUpExp!$A$1:$B$56,2,FALSE))","v":"0-5"}]
[null,"ID0639","2012-05-26T11:39:48","Rs 300000",300000,"INR",{"$f":"tblSalaries[[#This Row],[clean Salary (in local currency)]]*VLOOKUP(tblSalaries[[#This Row],[Currency]],tblXrate[],2,FALSE)","v":5342.3750062327708},{"$f":"IF($H$1=\"USD\",tblSalaries[[#This Row],[Salary in USD]],tblSalaries[[#This Row],[Salary in USD]]*VLOOKUP($H$1,USDtoUserChoice,2,FALSE))","v":43818.052953621067},"Planning Engineer","Engineer","India",{"$f":"VLOOKUP(tblSalaries[[#This Row],[Where do you work]],tblCountries[[Actual]:[Mapping]],2,FALSE)","v":"India"},"All the 8 hours baby, all the 8!",2,{"$f":"IF(ISNA(VLOOKUP(tblSalaries[[#This Row],[Years of Experience]],vlookUpExp!$A$1:$B$56,2,FALSE)),\"No Response\",VLOOKUP(tblSalaries[[#This Row],[Years of Experience]],vlookUpExp!$A$1:$B$56,2,FALSE))","v":"0-5"}]
[null,"ID0640","2012-05-26T11:40:34","4000000 INR",4000000,"INR",{"$f":"tblSalaries[[#This Row],[clean Salary (in local currency)]]*VLOOKUP(tblSalaries[[#This Row],[Currency]],tblXrate[],2,FALSE)","v":71231.666749770273},{"$f":"IF($H$1=\"USD\",tblSalaries[[#This Row],[Salary in USD]],tblSalaries[[#This Row],[Salary in USD]]*VLOOKUP($H$1,USDtoUserChoice,2,FALSE))","v":584240.70604828082},"Senior Executive","Manager","India",{"$f":"VLOOKUP(tblSalaries[[#This Row],[Where do you work]],tblCountries[[Actual]:[Mapping]],2,FALSE)","v":"India"},"4 to 6 hours a day",1.5,{"$f":"IF(ISNA(VLOOKUP(tblSalaries[[#This Row],[Years of Experience]],vlookUpExp!$A$1:$B$56,2,FALSE)),\"No Response\",VLOOKUP(tblSalaries[[#This Row],[Years of Experience]],vlookUpExp!$A$1:$B$56,2,FALSE))","v":"0-5"}]
[null,"ID0641","2012-05-26T11:45:37","4500000 inr/pa",4500000,"INR",{"$f":"tblSalaries[[#This Row],[clean Salary (in local currency)]]*VLOOKUP(tblSalaries[[#This Row],[Currency]],tblXrate[],2,FALSE)","v":80135.625093491559},{"$f":"IF($H$1=\"USD\",tblSalaries[[#This Row],[Salary in USD]],tblSalaries[[#This Row],[Salary in USD]]*VLOOKUP($H$1,USDtoUserChoice,2,FALSE))","v":657270.79430431593},"cmo","CXO or Top Mgmt.","India",{"$f":"VLOOKUP(tblSalaries[[#This Row],[Where do you work]],tblCountries[[Actual]:[Mapping]],2,FALSE)","v":"India"},"1 or 2 hours a day",6,{"$f":"IF(ISNA(VLOOKUP(tblSalaries[[#This Row],[Years of Experience]],vlookUpExp!$A$1:$B$56,2,FALSE)),\"No Response\",VLOOKUP(tblSalaries[[#This Row],[Years of Experience]],vlookUpExp!$A$1:$B$56,2,FALSE))","v":"6-10"}]
[null,"ID0642","2012-05-26T11:46:20",55000,55000,"CAD",{"$f":"tblSalaries[[#This Row],[clean Salary (in local currency)]]*VLOOKUP(tblSalaries[[#This Row],[Currency]],tblXrate[],2,FALSE)","v":54084.883766667976},{"$f":"IF($H$1=\"USD\",tblSalaries[[#This Row],[Salary in USD]],tblSalaries[[#This Row],[Salary in USD]]*VLOOKUP($H$1,USDtoUserChoice,2,FALSE))","v":443603.13495653542},"Project coordinator","Manager","Canada",{"$f":"VLOOKUP(tblSalaries[[#This Row],[Where do you work]],tblCountries[[Actual]:[Mapping]],2,FALSE)","v":"Canada"},"4 to 6 hours a day",5,{"$f":"IF(ISNA(VLOOKUP(tblSalaries[[#This Row],[Years of Experience]],vlookUpExp!$A$1:$B$56,2,FALSE)),\"No Response\",VLOOKUP(tblSalaries[[#This Row],[Years of Experience]],vlookUpExp!$A$1:$B$56,2,FALSE))","v":"0-5"}]
[null,"ID0643","2012-05-26T11:47:18",53000,53000,"USD",{"$f":"tblSalaries[[#This Row],[clean Salary (in local currency)]]*VLOOKUP(tblSalaries[[#This Row],[Currency]],tblXrate[],2,FALSE)","v":53000},{"$f":"IF($H$1=\"USD\",tblSalaries[[#This Row],[Salary in USD]],tblSalaries[[#This Row],[Salary in USD]]*VLOOKUP($H$1,USDtoUserChoice,2,FALSE))","v":434704.94000000006},"Financial Analyst","Analyst","USA",{"$f":"VLOOKUP(tblSalaries[[#This Row],[Where do you work]],tblCountries[[Actual]:[Mapping]],2,FALSE)","v":"USA"},"4 to 6 hours a day",30,{"$f":"IF(ISNA(VLOOKUP(tblSalaries[[#This Row],[Years of Experience]],vlookUpExp!$A$1:$B$56,2,FALSE)),\"No Response\",VLOOKUP(tblSalaries[[#This Row],[Years of Experience]],vlookUpExp!$A$1:$B$56,2,FALSE))","v":"26-30"}]
[null,"ID0644","2012-05-26T11:47:38","25000 INR",300000,"INR",{"$f":"tblSalaries[[#This Row],[clean Salary (in local currency)]]*VLOOKUP(tblSalaries[[#This Row],[Currency]],tblXrate[],2,FALSE)","v":5342.3750062327708},{"$f":"IF($H$1=\"USD\",tblSalaries[[#This Row],[Salary in USD]],tblSalaries[[#This Row],[Salary in USD]]*VLOOKUP($H$1,USDtoUserChoice,2,FALSE))","v":43818.052953621067},"MIS","Reporting","India",{"$f":"VLOOKUP(tblSalaries[[#This Row],[Where do you work]],tblCountries[[Actual]:[Mapping]],2,FALSE)","v":"India"},"4 to 6 hours a day",1,{"$f":"IF(ISNA(VLOOKUP(tblSalaries[[#This Row],[Years of Experience]],vlookUpExp!$A$1:$B$56,2,FALSE)),\"No Response\",VLOOKUP(tblSalaries[[#This Row],[Years of Experience]],vlookUpExp!$A$1:$B$56,2,FALSE))","v":"0-5"}]
[null,"ID0645","2012-05-26T11:50:03","Rs 4,00,000",400000,"INR",{"$f":"tblSalaries[[#This Row],[clean Salary (in local currency)]]*VLOOKUP(tblSalaries[[#This Row],[Currency]],tblXrate[],2,FALSE)","v":7123.1666749770275},{"$f":"IF($H$1=\"USD\",tblSalaries[[#This Row],[Salary in USD]],tblSalaries[[#This Row],[Salary in USD]]*VLOOKUP($H$1,USDtoUserChoice,2,FALSE))","v":58424.070604828084},"Sr Processor","Manager","India",{"$f":"VLOOKUP(tblSalaries[[#This Row],[Where do you work]],tblCountries[[Actual]:[Mapping]],2,FALSE)","v":"India"},"1 or 2 hours a day",5,{"$f":"IF(ISNA(VLOOKUP(tblSalaries[[#This Row],[Years of Experience]],vlookUpExp!$A$1:$B$56,2,FALSE)),\"No Response\",VLOOKUP(tblSalaries[[#This Row],[Years of Experience]],vlookUpExp!$A$1:$B$56,2,FALSE))","v":"0-5"}]
[null,"ID0646","2012-05-26T11:50:34","6,00,000",600000,"INR",{"$f":"tblSalaries[[#This Row],[clean Salary (in local currency)]]*VLOOKUP(tblSalaries[[#This Row],[Currency]],tblXrate[],2,FALSE)","v":10684.750012465542},{"$f":"IF($H$1=\"USD\",tblSalaries[[#This Row],[Salary in USD]],tblSalaries[[#This Row],[Salary in USD]]*VLOOKUP($H$1,USDtoUserChoice,2,FALSE))","v":87636.105907242134},"Organiser","Manager","India",{"$f":"VLOOKUP(tblSalaries[[#This Row],[Where do you work]],tblCountries[[Actual]:[Mapping]],2,FALSE)","v":"India"},"4 to 6 hours a day",11,{"$f":"IF(ISNA(VLOOKUP(tblSalaries[[#This Row],[Years of Experience]],vlookUpExp!$A$1:$B$56,2,FALSE)),\"No Response\",VLOOKUP(tblSalaries[[#This Row],[Years of Experience]],vlookUpExp!$A$1:$B$56,2,FALSE))","v":"11-15"}]
[null,"ID0647","2012-05-26T11:55:17",4000,4000,"USD",{"$f":"tblSalaries[[#This Row],[clean Salary (in local currency)]]*VLOOKUP(tblSalaries[[#This Row],[Currency]],tblXrate[],2,FALSE)","v":4000},{"$f":"IF($H$1=\"USD\",tblSalaries[[#This Row],[Salary in USD]],tblSalaries[[#This Row],[Salary in USD]]*VLOOKUP($H$1,USDtoUserChoice,2,FALSE))","v":32807.920000000006},"MIS Executive","Reporting","India",{"$f":"VLOOKUP(tblSalaries[[#This Row],[Where do you work]],tblCountries[[Actual]:[Mapping]],2,FALSE)","v":"India"},"All the 8 hours baby, all the 8!",4,{"$f":"IF(ISNA(VLOOKUP(tblSalaries[[#This Row],[Years of Experience]],vlookUpExp!$A$1:$B$56,2,FALSE)),\"No Response\",VLOOKUP(tblSalaries[[#This Row],[Years of Experience]],vlookUpExp!$A$1:$B$56,2,FALSE))","v":"0-5"}]
[null,"ID0648","2012-05-26T11:58:23",8000,8000,"USD",{"$f":"tblSalaries[[#This Row],[clean Salary (in local currency)]]*VLOOKUP(tblSalaries[[#This Row],[Currency]],tblXrate[],2,FALSE)","v":8000},{"$f":"IF($H$1=\"USD\",tblSalaries[[#This Row],[Salary in USD]],tblSalaries[[#This Row],[Salary in USD]]*VLOOKUP($H$1,USDtoUserChoice,2,FALSE))","v":65615.840000000011},"Quality officer","Manager","bangkok",{"$f":"VLOOKUP(tblSalaries[[#This Row],[Where do you work]],tblCountries[[Actual]:[Mapping]],2,FALSE)","v":"Thailand"},"All the 8 hours baby, all the 8!",1,{"$f":"IF(ISNA(VLOOKUP(tblSalaries[[#This Row],[Years of Experience]],vlookUpExp!$A$1:$B$56,2,FALSE)),\"No Response\",VLOOKUP(tblSalaries[[#This Row],[Years of Experience]],vlookUpExp!$A$1:$B$56,2,FALSE))","v":"0-5"}]
[null,"ID0649","2012-05-26T12:05:35",150000,150000,"INR",{"$f":"tblSalaries[[#This Row],[clean Salary (in local currency)]]*VLOOKUP(tblSalaries[[#This Row],[Currency]],tblXrate[],2,FALSE)","v":2671.1875031163854},{"$f":"IF($H$1=\"USD\",tblSalaries[[#This Row],[Salary in USD]],tblSalaries[[#This Row],[Salary in USD]]*VLOOKUP($H$1,USDtoUserChoice,2,FALSE))","v":21909.026476810533},"Executive","Manager","India",{"$f":"VLOOKUP(tblSalaries[[#This Row],[Where do you work]],tblCountries[[Actual]:[Mapping]],2,FALSE)","v":"India"},"2 to 3 hours per day",5,{"$f":"IF(ISNA(VLOOKUP(tblSalaries[[#This Row],[Years of Experience]],vlookUpExp!$A$1:$B$56,2,FALSE)),\"No Response\",VLOOKUP(tblSalaries[[#This Row],[Years of Experience]],vlookUpExp!$A$1:$B$56,2,FALSE))","v":"0-5"}]
[null,"ID0650","2012-05-26T12:14:07","Rs 800000",800000,"INR",{"$f":"tblSalaries[[#This Row],[clean Salary (in local currency)]]*VLOOKUP(tblSalaries[[#This Row],[Currency]],tblXrate[],2,FALSE)","v":14246.333349954055},{"$f":"IF($H$1=\"USD\",tblSalaries[[#This Row],[Salary in USD]],tblSalaries[[#This Row],[Salary in USD]]*VLOOKUP($H$1,USDtoUserChoice,2,FALSE))","v":116848.14120965617},"Engineer","Engineer","India",{"$f":"VLOOKUP(tblSalaries[[#This Row],[Where do you work]],tblCountries[[Actual]:[Mapping]],2,FALSE)","v":"India"},"2 to 3 hours per day",3,{"$f":"IF(ISNA(VLOOKUP(tblSalaries[[#This Row],[Years of Experience]],vlookUpExp!$A$1:$B$56,2,FALSE)),\"No Response\",VLOOKUP(tblSalaries[[#This Row],[Years of Experience]],vlookUpExp!$A$1:$B$56,2,FALSE))","v":"0-5"}]
[null,"ID0651","2012-05-26T12:17:01",480000,480000,"INR",{"$f":"tblSalaries[[#This Row],[clean Salary (in local currency)]]*VLOOKUP(tblSalaries[[#This Row],[Currency]],tblXrate[],2,FALSE)","v":8547.8000099724322},{"$f":"IF($H$1=\"USD\",tblSalaries[[#This Row],[Salary in USD]],tblSalaries[[#This Row],[Salary in USD]]*VLOOKUP($H$1,USDtoUserChoice,2,FALSE))","v":70108.884725793701},"BI Consultant","Reporting","India",{"$f":"VLOOKUP(tblSalaries[[#This Row],[Where do you work]],tblCountries[[Actual]:[Mapping]],2,FALSE)","v":"India"},"1 or 2 hours a day",3,{"$f":"IF(ISNA(VLOOKUP(tblSalaries[[#This Row],[Years of Experience]],vlookUpExp!$A$1:$B$56,2,FALSE)),\"No Response\",VLOOKUP(tblSalaries[[#This Row],[Years of Experience]],vlookUpExp!$A$1:$B$56,2,FALSE))","v":"0-5"}]
[null,"ID0652","2012-05-26T12:19:47","Rs. 4.32 Lakhs",432000,"INR",{"$f":"tblSalaries[[#This Row],[clean Salary (in local currency)]]*VLOOKUP(tblSalaries[[#This Row],[Currency]],tblXrate[],2,FALSE)","v":7693.0200089751897},{"$f":"IF($H$1=\"USD\",tblSalaries[[#This Row],[Salary in USD]],tblSalaries[[#This Row],[Salary in USD]]*VLOOKUP($H$1,USDtoUserChoice,2,FALSE))","v":63097.996253214333},"Assistant Manager - IT","Manager","India",{"$f":"VLOOKUP(tblSalaries[[#This Row],[Where do you work]],tblCountries[[Actual]:[Mapping]],2,FALSE)","v":"India"},"2 to 3 hours per day",5,{"$f":"IF(ISNA(VLOOKUP(tblSalaries[[#This Row],[Years of Experience]],vlookUpExp!$A$1:$B$56,2,FALSE)),\"No Response\",VLOOKUP(tblSalaries[[#This Row],[Years of Experience]],vlookUpExp!$A$1:$B$56,2,FALSE))","v":"0-5"}]
[null,"ID0653","2012-05-26T12:19:53",4000,4000,"USD",{"$f":"tblSalaries[[#This Row],[clean Salary (in local currency)]]*VLOOKUP(tblSalaries[[#This Row],[Currency]],tblXrate[],2,FALSE)","v":4000},{"$f":"IF($H$1=\"USD\",tblSalaries[[#This Row],[Salary in USD]],tblSalaries[[#This Row],[Salary in USD]]*VLOOKUP($H$1,USDtoUserChoice,2,FALSE))","v":32807.920000000006},"Coordinator","Manager","India",{"$f":"VLOOKUP(tblSalaries[[#This Row],[Where do you work]],tblCountries[[Actual]:[Mapping]],2,FALSE)","v":"India"},"All the 8 hours baby, all the 8!",8,{"$f":"IF(ISNA(VLOOKUP(tblSalaries[[#This Row],[Years of Experience]],vlookUpExp!$A$1:$B$56,2,FALSE)),\"No Response\",VLOOKUP(tblSalaries[[#This Row],[Years of Experience]],vlookUpExp!$A$1:$B$56,2,FALSE))","v":"6-10"}]
[null,"ID0654","2012-05-26T12:20:07",450,5400,"USD",{"$f":"tblSalaries[[#This Row],[clean Salary (in local currency)]]*VLOOKUP(tblSalaries[[#This Row],[Currency]],tblXrate[],2,FALSE)","v":5400},{"$f":"IF($H$1=\"USD\",tblSalaries[[#This Row],[Salary in USD]],tblSalaries[[#This Row],[Salary in USD]]*VLOOKUP($H$1,USDtoUserChoice,2,FALSE))","v":44290.692000000003},"manager","Manager","India",{"$f":"VLOOKUP(tblSalaries[[#This Row],[Where do you work]],tblCountries[[Actual]:[Mapping]],2,FALSE)","v":"India"},"All the 8 hours baby, all the 8!",3,{"$f":"IF(ISNA(VLOOKUP(tblSalaries[[#This Row],[Years of Experience]],vlookUpExp!$A$1:$B$56,2,FALSE)),\"No Response\",VLOOKUP(tblSalaries[[#This Row],[Years of Experience]],vlookUpExp!$A$1:$B$56,2,FALSE))","v":"0-5"}]
[null,"ID0655","2012-05-26T12:23:14",10500000,10500000,"INR",{"$f":"tblSalaries[[#This Row],[clean Salary (in local currency)]]*VLOOKUP(tblSalaries[[#This Row],[Currency]],tblXrate[],2,FALSE)","v":186983.12521814698},{"$f":"IF($H$1=\"USD\",tblSalaries[[#This Row],[Salary in USD]],tblSalaries[[#This Row],[Salary in USD]]*VLOOKUP($H$1,USDtoUserChoice,2,FALSE))","v":1533631.8533767373},"MANAGER","Manager","India",{"$f":"VLOOKUP(tblSalaries[[#This Row],[Where do you work]],tblCountries[[Actual]:[Mapping]],2,FALSE)","v":"India"},"2 to 3 hours per day",10,{"$f":"IF(ISNA(VLOOKUP(tblSalaries[[#This Row],[Years of Experience]],vlookUpExp!$A$1:$B$56,2,FALSE)),\"No Response\",VLOOKUP(tblSalaries[[#This Row],[Years of Experience]],vlookUpExp!$A$1:$B$56,2,FALSE))","v":"6-10"}]
[null,"ID0657","2012-05-26T12:25:09",21500,21500,"USD",{"$f":"tblSalaries[[#This Row],[clean Salary (in local currency)]]*VLOOKUP(tblSalaries[[#This Row],[Currency]],tblXrate[],2,FALSE)","v":21500},{"$f":"IF($H$1=\"USD\",tblSalaries[[#This Row],[Salary in USD]],tblSalaries[[#This Row],[Salary in USD]]*VLOOKUP($H$1,USDtoUserChoice,2,FALSE))","v":176342.57},"Asst Mgr","Analyst","India",{"$f":"VLOOKUP(tblSalaries[[#This Row],[Where do you work]],tblCountries[[Actual]:[Mapping]],2,FALSE)","v":"India"},"4 to 6 hours a day",9,{"$f":"IF(ISNA(VLOOKUP(tblSalaries[[#This Row],[Years of Experience]],vlookUpExp!$A$1:$B$56,2,FALSE)),\"No Response\",VLOOKUP(tblSalaries[[#This Row],[Years of Experience]],vlookUpExp!$A$1:$B$56,2,FALSE))","v":"6-10"}]
[null,"ID0658","2012-05-26T12:26:33",15000,15000,"USD",{"$f":"tblSalaries[[#This Row],[clean Salary (in local currency)]]*VLOOKUP(tblSalaries[[#This Row],[Currency]],tblXrate[],2,FALSE)","v":15000},{"$f":"IF($H$1=\"USD\",tblSalaries[[#This Row],[Salary in USD]],tblSalaries[[#This Row],[Salary in USD]]*VLOOKUP($H$1,USDtoUserChoice,2,FALSE))","v":123029.70000000001},"MIS Executive","Reporting","India",{"$f":"VLOOKUP(tblSalaries[[#This Row],[Where do you work]],tblCountries[[Actual]:[Mapping]],2,FALSE)","v":"India"},"All the 8 hours baby, all the 8!",2,{"$f":"IF(ISNA(VLOOKUP(tblSalaries[[#This Row],[Years of Experience]],vlookUpExp!$A$1:$B$56,2,FALSE)),\"No Response\",VLOOKUP(tblSalaries[[#This Row],[Years of Experience]],vlookUpExp!$A$1:$B$56,2,FALSE))","v":"0-5"}]
[null,"ID0659","2012-05-26T12:27:20",200000,200000,"PKR",{"$f":"tblSalaries[[#This Row],[clean Salary (in local currency)]]*VLOOKUP(tblSalaries[[#This Row],[Currency]],tblXrate[],2,FALSE)","v":2122.8177433598262},{"$f":"IF($H$1=\"USD\",tblSalaries[[#This Row],[Salary in USD]],tblSalaries[[#This Row],[Salary in USD]]*VLOOKUP($H$1,USDtoUserChoice,2,FALSE))","v":17411.30867468243},"Accounts Officer","Accountant","Pakistan",{"$f":"VLOOKUP(tblSalaries[[#This Row],[Where do you work]],tblCountries[[Actual]:[Mapping]],2,FALSE)","v":"Pakistan"},"2 to 3 hours per day",2,{"$f":"IF(ISNA(VLOOKUP(tblSalaries[[#This Row],[Years of Experience]],vlookUpExp!$A$1:$B$56,2,FALSE)),\"No Response\",VLOOKUP(tblSalaries[[#This Row],[Years of Experience]],vlookUpExp!$A$1:$B$56,2,FALSE))","v":"0-5"}]
[null,"ID0660","2012-05-26T12:28:05","INR 9,50,000",950000,"INR",{"$f":"tblSalaries[[#This Row],[clean Salary (in local currency)]]*VLOOKUP(tblSalaries[[#This Row],[Currency]],tblXrate[],2,FALSE)","v":16917.52085307044},{"$f":"IF($H$1=\"USD\",tblSalaries[[#This Row],[Salary in USD]],tblSalaries[[#This Row],[Salary in USD]]*VLOOKUP($H$1,USDtoUserChoice,2,FALSE))","v":138757.16768646671},"Investment Banker","Manager","India",{"$f":"VLOOKUP(tblSalaries[[#This Row],[Where do you work]],tblCountries[[Actual]:[Mapping]],2,FALSE)","v":"India"},"4 to 6 hours a day",3,{"$f":"IF(ISNA(VLOOKUP(tblSalaries[[#This Row],[Years of Experience]],vlookUpExp!$A$1:$B$56,2,FALSE)),\"No Response\",VLOOKUP(tblSalaries[[#This Row],[Years of Experience]],vlookUpExp!$A$1:$B$56,2,FALSE))","v":"0-5"}]
[null,"ID0661","2012-05-26T12:28:11","INR 165000",165000,"INR",{"$f":"tblSalaries[[#This Row],[clean Salary (in local currency)]]*VLOOKUP(tblSalaries[[#This Row],[Currency]],tblXrate[],2,FALSE)","v":2938.3062534280239},{"$f":"IF($H$1=\"USD\",tblSalaries[[#This Row],[Salary in USD]],tblSalaries[[#This Row],[Salary in USD]]*VLOOKUP($H$1,USDtoUserChoice,2,FALSE))","v":24099.929124491584},"Co-operative bank","Manager","India",{"$f":"VLOOKUP(tblSalaries[[#This Row],[Where do you work]],tblCountries[[Actual]:[Mapping]],2,FALSE)","v":"India"},"All the 8 hours baby, all the 8!",11,{"$f":"IF(ISNA(VLOOKUP(tblSalaries[[#This Row],[Years of Experience]],vlookUpExp!$A$1:$B$56,2,FALSE)),\"No Response\",VLOOKUP(tblSalaries[[#This Row],[Years of Experience]],vlookUpExp!$A$1:$B$56,2,FALSE))","v":"11-15"}]
[null,"ID0662","2012-05-26T12:30:22",1400,16800,"USD",{"$f":"tblSalaries[[#This Row],[clean Salary (in local currency)]]*VLOOKUP(tblSalaries[[#This Row],[Currency]],tblXrate[],2,FALSE)","v":16800},{"$f":"IF($H$1=\"USD\",tblSalaries[[#This Row],[Salary in USD]],tblSalaries[[#This Row],[Salary in USD]]*VLOOKUP($H$1,USDtoUserChoice,2,FALSE))","v":137793.26400000002},"Assistant","Analyst","Pakistan",{"$f":"VLOOKUP(tblSalaries[[#This Row],[Where do you work]],tblCountries[[Actual]:[Mapping]],2,FALSE)","v":"Pakistan"},"4 to 6 hours a day",12,{"$f":"IF(ISNA(VLOOKUP(tblSalaries[[#This Row],[Years of Experience]],vlookUpExp!$A$1:$B$56,2,FALSE)),\"No Response\",VLOOKUP(tblSalaries[[#This Row],[Years of Experience]],vlookUpExp!$A$1:$B$56,2,FALSE))","v":"11-15"}]
[null,"ID0663","2012-05-26T12:31:29",37000,37000,"USD",{"$f":"tblSalaries[[#This Row],[clean Salary (in local currency)]]*VLOOKUP(tblSalaries[[#This Row],[Currency]],tblXrate[],2,FALSE)","v":37000},{"$f":"IF($H$1=\"USD\",tblSalaries[[#This Row],[Salary in USD]],tblSalaries[[#This Row],[Salary in USD]]*VLOOKUP($H$1,USDtoUserChoice,2,FALSE))","v":303473.26},"Cad Engineer","Engineer","India",{"$f":"VLOOKUP(tblSalaries[[#This Row],[Where do you work]],tblCountries[[Actual]:[Mapping]],2,FALSE)","v":"India"},"4 to 6 hours a day",10,{"$f":"IF(ISNA(VLOOKUP(tblSalaries[[#This Row],[Years of Experience]],vlookUpExp!$A$1:$B$56,2,FALSE)),\"No Response\",VLOOKUP(tblSalaries[[#This Row],[Years of Experience]],vlookUpExp!$A$1:$B$56,2,FALSE))","v":"6-10"}]
[null,"ID0664","2012-05-26T12:33:48","Rs 300000",300000,"INR",{"$f":"tblSalaries[[#This Row],[clean Salary (in local currency)]]*VLOOKUP(tblSalaries[[#This Row],[Currency]],tblXrate[],2,FALSE)","v":5342.3750062327708},{"$f":"IF($H$1=\"USD\",tblSalaries[[#This Row],[Salary in USD]],tblSalaries[[#This Row],[Salary in USD]]*VLOOKUP($H$1,USDtoUserChoice,2,FALSE))","v":43818.052953621067},"Mis Analyst","Analyst","India",{"$f":"VLOOKUP(tblSalaries[[#This Row],[Where do you work]],tblCountries[[Actual]:[Mapping]],2,FALSE)","v":"India"},"4 to 6 hours a day",4.5,{"$f":"IF(ISNA(VLOOKUP(tblSalaries[[#This Row],[Years of Experience]],vlookUpExp!$A$1:$B$56,2,FALSE)),\"No Response\",VLOOKUP(tblSalaries[[#This Row],[Years of Experience]],vlookUpExp!$A$1:$B$56,2,FALSE))","v":"0-5"}]
[null,"ID0665","2012-05-26T12:35:42","INR 2 l;acks",200000,"INR",{"$f":"tblSalaries[[#This Row],[clean Salary (in local currency)]]*VLOOKUP(tblSalaries[[#This Row],[Currency]],tblXrate[],2,FALSE)","v":3561.5833374885137},{"$f":"IF($H$1=\"USD\",tblSalaries[[#This Row],[Salary in USD]],tblSalaries[[#This Row],[Salary in USD]]*VLOOKUP($H$1,USDtoUserChoice,2,FALSE))","v":29212.035302414042},"MIS EXECUTIVE","Reporting","India",{"$f":"VLOOKUP(tblSalaries[[#This Row],[Where do you work]],tblCountries[[Actual]:[Mapping]],2,FALSE)","v":"India"},"All the 8 hours baby, all the 8!",3,{"$f":"IF(ISNA(VLOOKUP(tblSalaries[[#This Row],[Years of Experience]],vlookUpExp!$A$1:$B$56,2,FALSE)),\"No Response\",VLOOKUP(tblSalaries[[#This Row],[Years of Experience]],vlookUpExp!$A$1:$B$56,2,FALSE))","v":"0-5"}]
[null,"ID0666","2012-05-26T12:36:53","Rs 480000",480000,"INR",{"$f":"tblSalaries[[#This Row],[clean Salary (in local currency)]]*VLOOKUP(tblSalaries[[#This Row],[Currency]],tblXrate[],2,FALSE)","v":8547.8000099724322},{"$f":"IF($H$1=\"USD\",tblSalaries[[#This Row],[Salary in USD]],tblSalaries[[#This Row],[Salary in USD]]*VLOOKUP($H$1,USDtoUserChoice,2,FALSE))","v":70108.884725793701},"PMO","Manager","India",{"$f":"VLOOKUP(tblSalaries[[#This Row],[Where do you work]],tblCountries[[Actual]:[Mapping]],2,FALSE)","v":"India"},"2 to 3 hours per day",8,{"$f":"IF(ISNA(VLOOKUP(tblSalaries[[#This Row],[Years of Experience]],vlookUpExp!$A$1:$B$56,2,FALSE)),\"No Response\",VLOOKUP(tblSalaries[[#This Row],[Years of Experience]],vlookUpExp!$A$1:$B$56,2,FALSE))","v":"6-10"}]
[null,"ID0667","2012-05-26T12:46:26",5800,5800,"USD",{"$f":"tblSalaries[[#This Row],[clean Salary (in local currency)]]*VLOOKUP(tblSalaries[[#This Row],[Currency]],tblXrate[],2,FALSE)","v":5800},{"$f":"IF($H$1=\"USD\",tblSalaries[[#This Row],[Salary in USD]],tblSalaries[[#This Row],[Salary in USD]]*VLOOKUP($H$1,USDtoUserChoice,2,FALSE))","v":47571.484000000004},"Asst. Manager(Commercial)","Manager","India",{"$f":"VLOOKUP(tblSalaries[[#This Row],[Where do you work]],tblCountries[[Actual]:[Mapping]],2,FALSE)","v":"India"},"All the 8 hours baby, all the 8!",8,{"$f":"IF(ISNA(VLOOKUP(tblSalaries[[#This Row],[Years of Experience]],vlookUpExp!$A$1:$B$56,2,FALSE)),\"No Response\",VLOOKUP(tblSalaries[[#This Row],[Years of Experience]],vlookUpExp!$A$1:$B$56,2,FALSE))","v":"6-10"}]
[null,"ID0668","2012-05-26T12:48:19","230000 INR",230000,"INR",{"$f":"tblSalaries[[#This Row],[clean Salary (in local currency)]]*VLOOKUP(tblSalaries[[#This Row],[Currency]],tblXrate[],2,FALSE)","v":4095.8208381117906},{"$f":"IF($H$1=\"USD\",tblSalaries[[#This Row],[Salary in USD]],tblSalaries[[#This Row],[Salary in USD]]*VLOOKUP($H$1,USDtoUserChoice,2,FALSE))","v":33593.84059777615},"MIS Executive","Reporting","India",{"$f":"VLOOKUP(tblSalaries[[#This Row],[Where do you work]],tblCountries[[Actual]:[Mapping]],2,FALSE)","v":"India"},"All the 8 hours baby, all the 8!",3,{"$f":"IF(ISNA(VLOOKUP(tblSalaries[[#This Row],[Years of Experience]],vlookUpExp!$A$1:$B$56,2,FALSE)),\"No Response\",VLOOKUP(tblSalaries[[#This Row],[Years of Experience]],vlookUpExp!$A$1:$B$56,2,FALSE))","v":"0-5"}]
[null,"ID0669","2012-05-26T12:50:08","23000 Rupees",276000,"INR",{"$f":"tblSalaries[[#This Row],[clean Salary (in local currency)]]*VLOOKUP(tblSalaries[[#This Row],[Currency]],tblXrate[],2,FALSE)","v":4914.9850057341491},{"$f":"IF($H$1=\"USD\",tblSalaries[[#This Row],[Salary in USD]],tblSalaries[[#This Row],[Salary in USD]]*VLOOKUP($H$1,USDtoUserChoice,2,FALSE))","v":40312.608717331379},"Education Officer","Manager","Pakistan",{"$f":"VLOOKUP(tblSalaries[[#This Row],[Where do you work]],tblCountries[[Actual]:[Mapping]],2,FALSE)","v":"Pakistan"},"1 or 2 hours a day",3,{"$f":"IF(ISNA(VLOOKUP(tblSalaries[[#This Row],[Years of Experience]],vlookUpExp!$A$1:$B$56,2,FALSE)),\"No Response\",VLOOKUP(tblSalaries[[#This Row],[Years of Experience]],vlookUpExp!$A$1:$B$56,2,FALSE))","v":"0-5"}]
[null,"ID0670","2012-05-26T12:52:37",24000,24000,"USD",{"$f":"tblSalaries[[#This Row],[clean Salary (in local currency)]]*VLOOKUP(tblSalaries[[#This Row],[Currency]],tblXrate[],2,FALSE)","v":24000},{"$f":"IF($H$1=\"USD\",tblSalaries[[#This Row],[Salary in USD]],tblSalaries[[#This Row],[Salary in USD]]*VLOOKUP($H$1,USDtoUserChoice,2,FALSE))","v":196847.52000000002},"Management Accountant","Manager","Saudi Arabai",{"$f":"VLOOKUP(tblSalaries[[#This Row],[Where do you work]],tblCountries[[Actual]:[Mapping]],2,FALSE)","v":"Saudi Arabia"},"4 to 6 hours a day",12,{"$f":"IF(ISNA(VLOOKUP(tblSalaries[[#This Row],[Years of Experience]],vlookUpExp!$A$1:$B$56,2,FALSE)),\"No Response\",VLOOKUP(tblSalaries[[#This Row],[Years of Experience]],vlookUpExp!$A$1:$B$56,2,FALSE))","v":"11-15"}]
[null,"ID0671","2012-05-26T12:53:43","Us$24000",24000,"USD",{"$f":"tblSalaries[[#This Row],[clean Salary (in local currency)]]*VLOOKUP(tblSalaries[[#This Row],[Currency]],tblXrate[],2,FALSE)","v":24000},{"$f":"IF($H$1=\"USD\",tblSalaries[[#This Row],[Salary in USD]],tblSalaries[[#This Row],[Salary in USD]]*VLOOKUP($H$1,USDtoUserChoice,2,FALSE))","v":196847.52000000002},"Accountant","Accountant","UAE",{"$f":"VLOOKUP(tblSalaries[[#This Row],[Where do you work]],tblCountries[[Actual]:[Mapping]],2,FALSE)","v":"UAE"},"2 to 3 hours per day",15,{"$f":"IF(ISNA(VLOOKUP(tblSalaries[[#This Row],[Years of Experience]],vlookUpExp!$A$1:$B$56,2,FALSE)),\"No Response\",VLOOKUP(tblSalaries[[#This Row],[Years of Experience]],vlookUpExp!$A$1:$B$56,2,FALSE))","v":"11-15"}]
[null,"ID0672","2012-05-26T12:54:15",8738,8738,"USD",{"$f":"tblSalaries[[#This Row],[clean Salary (in local currency)]]*VLOOKUP(tblSalaries[[#This Row],[Currency]],tblXrate[],2,FALSE)","v":8738},{"$f":"IF($H$1=\"USD\",tblSalaries[[#This Row],[Salary in USD]],tblSalaries[[#This Row],[Salary in USD]]*VLOOKUP($H$1,USDtoUserChoice,2,FALSE))","v":71668.901240000007},"Sales Coordinator","Manager","India",{"$f":"VLOOKUP(tblSalaries[[#This Row],[Where do you work]],tblCountries[[Actual]:[Mapping]],2,FALSE)","v":"India"},"All the 8 hours baby, all the 8!",7.3,{"$f":"IF(ISNA(VLOOKUP(tblSalaries[[#This Row],[Years of Experience]],vlookUpExp!$A$1:$B$56,2,FALSE)),\"No Response\",VLOOKUP(tblSalaries[[#This Row],[Years of Experience]],vlookUpExp!$A$1:$B$56,2,FALSE))","v":"6-10"}]
[null,"ID0673","2012-05-26T12:54:36",15000,15000,"USD",{"$f":"tblSalaries[[#This Row],[clean Salary (in local currency)]]*VLOOKUP(tblSalaries[[#This Row],[Currency]],tblXrate[],2,FALSE)","v":15000},{"$f":"IF($H$1=\"USD\",tblSalaries[[#This Row],[Salary in USD]],tblSalaries[[#This Row],[Salary in USD]]*VLOOKUP($H$1,USDtoUserChoice,2,FALSE))","v":123029.70000000001},"TA","Analyst","Indonesia",{"$f":"VLOOKUP(tblSalaries[[#This Row],[Where do you work]],tblCountries[[Actual]:[Mapping]],2,FALSE)","v":"Indonesia"},"4 to 6 hours a day",1,{"$f":"IF(ISNA(VLOOKUP(tblSalaries[[#This Row],[Years of Experience]],vlookUpExp!$A$1:$B$56,2,FALSE)),\"No Response\",VLOOKUP(tblSalaries[[#This Row],[Years of Experience]],vlookUpExp!$A$1:$B$56,2,FALSE))","v":"0-5"}]
[null,"ID0674","2012-05-26T12:55:09",4700,56400,"USD",{"$f":"tblSalaries[[#This Row],[clean Salary (in local currency)]]*VLOOKUP(tblSalaries[[#This Row],[Currency]],tblXrate[],2,FALSE)","v":56400},{"$f":"IF($H$1=\"USD\",tblSalaries[[#This Row],[Salary in USD]],tblSalaries[[#This Row],[Salary in USD]]*VLOOKUP($H$1,USDtoUserChoice,2,FALSE))","v":462591.67200000002},"Finance Manager","Manager","UAE",{"$f":"VLOOKUP(tblSalaries[[#This Row],[Where do you work]],tblCountries[[Actual]:[Mapping]],2,FALSE)","v":"UAE"},"2 to 3 hours per day",6,{"$f":"IF(ISNA(VLOOKUP(tblSalaries[[#This Row],[Years of Experience]],vlookUpExp!$A$1:$B$56,2,FALSE)),\"No Response\",VLOOKUP(tblSalaries[[#This Row],[Years of Experience]],vlookUpExp!$A$1:$B$56,2,FALSE))","v":"6-10"}]
[null,"ID0675","2012-05-26T12:59:13",10200,10200,"USD",{"$f":"tblSalaries[[#This Row],[clean Salary (in local currency)]]*VLOOKUP(tblSalaries[[#This Row],[Currency]],tblXrate[],2,FALSE)","v":10200},{"$f":"IF($H$1=\"USD\",tblSalaries[[#This Row],[Salary in USD]],tblSalaries[[#This Row],[Salary in USD]]*VLOOKUP($H$1,USDtoUserChoice,2,FALSE))","v":83660.196000000011},"business analyst","Analyst","India",{"$f":"VLOOKUP(tblSalaries[[#This Row],[Where do you work]],tblCountries[[Actual]:[Mapping]],2,FALSE)","v":"India"},"4 to 6 hours a day",4.5,{"$f":"IF(ISNA(VLOOKUP(tblSalaries[[#This Row],[Years of Experience]],vlookUpExp!$A$1:$B$56,2,FALSE)),\"No Response\",VLOOKUP(tblSalaries[[#This Row],[Years of Experience]],vlookUpExp!$A$1:$B$56,2,FALSE))","v":"0-5"}]
[null,"ID0676","2012-05-26T12:59:41",325000,325000,"INR",{"$f":"tblSalaries[[#This Row],[clean Salary (in local currency)]]*VLOOKUP(tblSalaries[[#This Row],[Currency]],tblXrate[],2,FALSE)","v":5787.5729234188348},{"$f":"IF($H$1=\"USD\",tblSalaries[[#This Row],[Salary in USD]],tblSalaries[[#This Row],[Salary in USD]]*VLOOKUP($H$1,USDtoUserChoice,2,FALSE))","v":47469.557366422821},"MIS Executive","Reporting","India",{"$f":"VLOOKUP(tblSalaries[[#This Row],[Where do you work]],tblCountries[[Actual]:[Mapping]],2,FALSE)","v":"India"},"All the 8 hours baby, all the 8!",4.5,{"$f":"IF(ISNA(VLOOKUP(tblSalaries[[#This Row],[Years of Experience]],vlookUpExp!$A$1:$B$56,2,FALSE)),\"No Response\",VLOOKUP(tblSalaries[[#This Row],[Years of Experience]],vlookUpExp!$A$1:$B$56,2,FALSE))","v":"0-5"}]
[null,"ID0677","2012-05-26T13:01:44",105000,105000,"USD",{"$f":"tblSalaries[[#This Row],[clean Salary (in local currency)]]*VLOOKUP(tblSalaries[[#This Row],[Currency]],tblXrate[],2,FALSE)","v":105000},{"$f":"IF($H$1=\"USD\",tblSalaries[[#This Row],[Salary in USD]],tblSalaries[[#This Row],[Salary in USD]]*VLOOKUP($H$1,USDtoUserChoice,2,FALSE))","v":861207.9},"Senior Consultant","Consultant","USA",{"$f":"VLOOKUP(tblSalaries[[#This Row],[Where do you work]],tblCountries[[Actual]:[Mapping]],2,FALSE)","v":"USA"},"2 to 3 hours per day",15,{"$f":"IF(ISNA(VLOOKUP(tblSalaries[[#This Row],[Years of Experience]],vlookUpExp!$A$1:$B$56,2,FALSE)),\"No Response\",VLOOKUP(tblSalaries[[#This Row],[Years of Experience]],vlookUpExp!$A$1:$B$56,2,FALSE))","v":"11-15"}]
[null,"ID0678","2012-05-26T13:01:53","2.5lakh",250000,"INR",{"$f":"tblSalaries[[#This Row],[clean Salary (in local currency)]]*VLOOKUP(tblSalaries[[#This Row],[Currency]],tblXrate[],2,FALSE)","v":4451.9791718606421},{"$f":"IF($H$1=\"USD\",tblSalaries[[#This Row],[Salary in USD]],tblSalaries[[#This Row],[Salary in USD]]*VLOOKUP($H$1,USDtoUserChoice,2,FALSE))","v":36515.044128017551},"ASM","Manager","India",{"$f":"VLOOKUP(tblSalaries[[#This Row],[Where do you work]],tblCountries[[Actual]:[Mapping]],2,FALSE)","v":"India"},"2 to 3 hours per day",5,{"$f":"IF(ISNA(VLOOKUP(tblSalaries[[#This Row],[Years of Experience]],vlookUpExp!$A$1:$B$56,2,FALSE)),\"No Response\",VLOOKUP(tblSalaries[[#This Row],[Years of Experience]],vlookUpExp!$A$1:$B$56,2,FALSE))","v":"0-5"}]
[null,"ID0679","2012-05-26T13:02:50",470000,470000,"INR",{"$f":"tblSalaries[[#This Row],[clean Salary (in local currency)]]*VLOOKUP(tblSalaries[[#This Row],[Currency]],tblXrate[],2,FALSE)","v":8369.7208430980063},{"$f":"IF($H$1=\"USD\",tblSalaries[[#This Row],[Salary in USD]],tblSalaries[[#This Row],[Salary in USD]]*VLOOKUP($H$1,USDtoUserChoice,2,FALSE))","v":68648.282960672994},"Consultant","Consultant","India",{"$f":"VLOOKUP(tblSalaries[[#This Row],[Where do you work]],tblCountries[[Actual]:[Mapping]],2,FALSE)","v":"India"},"All the 8 hours baby, all the 8!",4,{"$f":"IF(ISNA(VLOOKUP(tblSalaries[[#This Row],[Years of Experience]],vlookUpExp!$A$1:$B$56,2,FALSE)),\"No Response\",VLOOKUP(tblSalaries[[#This Row],[Years of Experience]],vlookUpExp!$A$1:$B$56,2,FALSE))","v":"0-5"}]
[null,"ID0680","2012-05-26T13:03:32",720000,720000,"PHP",{"$f":"tblSalaries[[#This Row],[clean Salary (in local currency)]]*VLOOKUP(tblSalaries[[#This Row],[Currency]],tblXrate[],2,FALSE)","v":17067.637625607145},{"$f":"IF($H$1=\"USD\",tblSalaries[[#This Row],[Salary in USD]],tblSalaries[[#This Row],[Salary in USD]]*VLOOKUP($H$1,USDtoUserChoice,2,FALSE))","v":139988.4224524773},"System Manager","Manager","Philippines",{"$f":"VLOOKUP(tblSalaries[[#This Row],[Where do you work]],tblCountries[[Actual]:[Mapping]],2,FALSE)","v":"Philippines"},"4 to 6 hours a day",9,{"$f":"IF(ISNA(VLOOKUP(tblSalaries[[#This Row],[Years of Experience]],vlookUpExp!$A$1:$B$56,2,FALSE)),\"No Response\",VLOOKUP(tblSalaries[[#This Row],[Years of Experience]],vlookUpExp!$A$1:$B$56,2,FALSE))","v":"6-10"}]
[null,"ID0681","2012-05-26T13:03:58",100000,100000,"AUD",{"$f":"tblSalaries[[#This Row],[clean Salary (in local currency)]]*VLOOKUP(tblSalaries[[#This Row],[Currency]],tblXrate[],2,FALSE)","v":101990.96564026357},{"$f":"IF($H$1=\"USD\",tblSalaries[[#This Row],[Salary in USD]],tblSalaries[[#This Row],[Salary in USD]]*VLOOKUP($H$1,USDtoUserChoice,2,FALSE))","v":836527.86036212905},"principal developer","Manager","Australia",{"$f":"VLOOKUP(tblSalaries[[#This Row],[Where do you work]],tblCountries[[Actual]:[Mapping]],2,FALSE)","v":"Australia"},"1 or 2 hours a day",20,{"$f":"IF(ISNA(VLOOKUP(tblSalaries[[#This Row],[Years of Experience]],vlookUpExp!$A$1:$B$56,2,FALSE)),\"No Response\",VLOOKUP(tblSalaries[[#This Row],[Years of Experience]],vlookUpExp!$A$1:$B$56,2,FALSE))","v":"16-20"}]
[null,"ID0682","2012-05-26T13:05:03","220000 in INR",220000,"INR",{"$f":"tblSalaries[[#This Row],[clean Salary (in local currency)]]*VLOOKUP(tblSalaries[[#This Row],[Currency]],tblXrate[],2,FALSE)","v":3917.7416712373652},{"$f":"IF($H$1=\"USD\",tblSalaries[[#This Row],[Salary in USD]],tblSalaries[[#This Row],[Salary in USD]]*VLOOKUP($H$1,USDtoUserChoice,2,FALSE))","v":32133.238832655446},"Accounts Payable Analyst","Analyst","India",{"$f":"VLOOKUP(tblSalaries[[#This Row],[Where do you work]],tblCountries[[Actual]:[Mapping]],2,FALSE)","v":"India"},"2 to 3 hours per day",3,{"$f":"IF(ISNA(VLOOKUP(tblSalaries[[#This Row],[Years of Experience]],vlookUpExp!$A$1:$B$56,2,FALSE)),\"No Response\",VLOOKUP(tblSalaries[[#This Row],[Years of Experience]],vlookUpExp!$A$1:$B$56,2,FALSE))","v":"0-5"}]
[null,"ID0683","2012-05-26T13:08:39",52000,52000,"USD",{"$f":"tblSalaries[[#This Row],[clean Salary (in local currency)]]*VLOOKUP(tblSalaries[[#This Row],[Currency]],tblXrate[],2,FALSE)","v":52000},{"$f":"IF($H$1=\"USD\",tblSalaries[[#This Row],[Salary in USD]],tblSalaries[[#This Row],[Salary in USD]]*VLOOKUP($H$1,USDtoUserChoice,2,FALSE))","v":426502.96},"Maint Sys Support Specialist","Specialist","USA",{"$f":"VLOOKUP(tblSalaries[[#This Row],[Where do you work]],tblCountries[[Actual]:[Mapping]],2,FALSE)","v":"USA"},"4 to 6 hours a day",18,{"$f":"IF(ISNA(VLOOKUP(tblSalaries[[#This Row],[Years of Experience]],vlookUpExp!$A$1:$B$56,2,FALSE)),\"No Response\",VLOOKUP(tblSalaries[[#This Row],[Years of Experience]],vlookUpExp!$A$1:$B$56,2,FALSE))","v":"16-20"}]
[null,"ID0684","2012-05-26T13:11:01","Rs. 260000",260000,"INR",{"$f":"tblSalaries[[#This Row],[clean Salary (in local currency)]]*VLOOKUP(tblSalaries[[#This Row],[Currency]],tblXrate[],2,FALSE)","v":4630.058338735068},{"$f":"IF($H$1=\"USD\",tblSalaries[[#This Row],[Salary in USD]],tblSalaries[[#This Row],[Salary in USD]]*VLOOKUP($H$1,USDtoUserChoice,2,FALSE))","v":37975.645893138259},"Analyst","Analyst","India",{"$f":"VLOOKUP(tblSalaries[[#This Row],[Where do you work]],tblCountries[[Actual]:[Mapping]],2,FALSE)","v":"India"},"4 to 6 hours a day",2,{"$f":"IF(ISNA(VLOOKUP(tblSalaries[[#This Row],[Years of Experience]],vlookUpExp!$A$1:$B$56,2,FALSE)),\"No Response\",VLOOKUP(tblSalaries[[#This Row],[Years of Experience]],vlookUpExp!$A$1:$B$56,2,FALSE))","v":"0-5"}]
[null,"ID0685","2012-05-26T13:12:48","1,20,000 INR",120000,"INR",{"$f":"tblSalaries[[#This Row],[clean Salary (in local currency)]]*VLOOKUP(tblSalaries[[#This Row],[Currency]],tblXrate[],2,FALSE)","v":2136.9500024931081},{"$f":"IF($H$1=\"USD\",tblSalaries[[#This Row],[Salary in USD]],tblSalaries[[#This Row],[Salary in USD]]*VLOOKUP($H$1,USDtoUserChoice,2,FALSE))","v":17527.221181448425},"Data Analyst","Analyst","India",{"$f":"VLOOKUP(tblSalaries[[#This Row],[Where do you work]],tblCountries[[Actual]:[Mapping]],2,FALSE)","v":"India"},"2 to 3 hours per day",3,{"$f":"IF(ISNA(VLOOKUP(tblSalaries[[#This Row],[Years of Experience]],vlookUpExp!$A$1:$B$56,2,FALSE)),\"No Response\",VLOOKUP(tblSalaries[[#This Row],[Years of Experience]],vlookUpExp!$A$1:$B$56,2,FALSE))","v":"0-5"}]
[null,"ID0686","2012-05-26T13:16:21",13000,13000,"USD",{"$f":"tblSalaries[[#This Row],[clean Salary (in local currency)]]*VLOOKUP(tblSalaries[[#This Row],[Currency]],tblXrate[],2,FALSE)","v":13000},{"$f":"IF($H$1=\"USD\",tblSalaries[[#This Row],[Salary in USD]],tblSalaries[[#This Row],[Salary in USD]]*VLOOKUP($H$1,USDtoUserChoice,2,FALSE))","v":106625.74},"Analyst","Analyst","India",{"$f":"VLOOKUP(tblSalaries[[#This Row],[Where do you work]],tblCountries[[Actual]:[Mapping]],2,FALSE)","v":"India"},"1 or 2 hours a day",4,{"$f":"IF(ISNA(VLOOKUP(tblSalaries[[#This Row],[Years of Experience]],vlookUpExp!$A$1:$B$56,2,FALSE)),\"No Response\",VLOOKUP(tblSalaries[[#This Row],[Years of Experience]],vlookUpExp!$A$1:$B$56,2,FALSE))","v":"0-5"}]
[null,"ID0687","2012-05-26T13:17:36","Rs. 144000",144000,"INR",{"$f":"tblSalaries[[#This Row],[clean Salary (in local currency)]]*VLOOKUP(tblSalaries[[#This Row],[Currency]],tblXrate[],2,FALSE)","v":2564.3400029917298},{"$f":"IF($H$1=\"USD\",tblSalaries[[#This Row],[Salary in USD]],tblSalaries[[#This Row],[Salary in USD]]*VLOOKUP($H$1,USDtoUserChoice,2,FALSE))","v":21032.66541773811},"Team Leader","Manager","India",{"$f":"VLOOKUP(tblSalaries[[#This Row],[Where do you work]],tblCountries[[Actual]:[Mapping]],2,FALSE)","v":"India"},"2 to 3 hours per day",7,{"$f":"IF(ISNA(VLOOKUP(tblSalaries[[#This Row],[Years of Experience]],vlookUpExp!$A$1:$B$56,2,FALSE)),\"No Response\",VLOOKUP(tblSalaries[[#This Row],[Years of Experience]],vlookUpExp!$A$1:$B$56,2,FALSE))","v":"6-10"}]
[null,"ID0688","2012-05-26T13:18:03","inr 11.5",1150000,"INR",{"$f":"tblSalaries[[#This Row],[clean Salary (in local currency)]]*VLOOKUP(tblSalaries[[#This Row],[Currency]],tblXrate[],2,FALSE)","v":20479.104190558952},{"$f":"IF($H$1=\"USD\",tblSalaries[[#This Row],[Salary in USD]],tblSalaries[[#This Row],[Salary in USD]]*VLOOKUP($H$1,USDtoUserChoice,2,FALSE))","v":167969.20298888072},"manager portfolio monitoring","Manager","India",{"$f":"VLOOKUP(tblSalaries[[#This Row],[Where do you work]],tblCountries[[Actual]:[Mapping]],2,FALSE)","v":"India"},"2 to 3 hours per day",7,{"$f":"IF(ISNA(VLOOKUP(tblSalaries[[#This Row],[Years of Experience]],vlookUpExp!$A$1:$B$56,2,FALSE)),\"No Response\",VLOOKUP(tblSalaries[[#This Row],[Years of Experience]],vlookUpExp!$A$1:$B$56,2,FALSE))","v":"6-10"}]
[null,"ID0689","2012-05-26T13:18:32","33,500 US $",33500,"USD",{"$f":"tblSalaries[[#This Row],[clean Salary (in local currency)]]*VLOOKUP(tblSalaries[[#This Row],[Currency]],tblXrate[],2,FALSE)","v":33500},{"$f":"IF($H$1=\"USD\",tblSalaries[[#This Row],[Salary in USD]],tblSalaries[[#This Row],[Salary in USD]]*VLOOKUP($H$1,USDtoUserChoice,2,FALSE))","v":274766.33},"Sr. Executive Finance & Accounts","Accountant","Dubai",{"$f":"VLOOKUP(tblSalaries[[#This Row],[Where do you work]],tblCountries[[Actual]:[Mapping]],2,FALSE)","v":"Dubai"},"1 or 2 hours a day",10,{"$f":"IF(ISNA(VLOOKUP(tblSalaries[[#This Row],[Years of Experience]],vlookUpExp!$A$1:$B$56,2,FALSE)),\"No Response\",VLOOKUP(tblSalaries[[#This Row],[Years of Experience]],vlookUpExp!$A$1:$B$56,2,FALSE))","v":"6-10"}]
[null,"ID0690","2012-05-26T13:19:42",50000,50000,"USD",{"$f":"tblSalaries[[#This Row],[clean Salary (in local currency)]]*VLOOKUP(tblSalaries[[#This Row],[Currency]],tblXrate[],2,FALSE)","v":50000},{"$f":"IF($H$1=\"USD\",tblSalaries[[#This Row],[Salary in USD]],tblSalaries[[#This Row],[Salary in USD]]*VLOOKUP($H$1,USDtoUserChoice,2,FALSE))","v":410099.00000000006},"AREA SALES MANAGER","Manager","India",{"$f":"VLOOKUP(tblSalaries[[#This Row],[Where do you work]],tblCountries[[Actual]:[Mapping]],2,FALSE)","v":"India"},"2 to 3 hours per day",20,{"$f":"IF(ISNA(VLOOKUP(tblSalaries[[#This Row],[Years of Experience]],vlookUpExp!$A$1:$B$56,2,FALSE)),\"No Response\",VLOOKUP(tblSalaries[[#This Row],[Years of Experience]],vlookUpExp!$A$1:$B$56,2,FALSE))","v":"16-20"}]
[null,"ID0691","2012-05-26T13:22:43",300000,300000,"INR",{"$f":"tblSalaries[[#This Row],[clean Salary (in local currency)]]*VLOOKUP(tblSalaries[[#This Row],[Currency]],tblXrate[],2,FALSE)","v":5342.3750062327708},{"$f":"IF($H$1=\"USD\",tblSalaries[[#This Row],[Salary in USD]],tblSalaries[[#This Row],[Salary in USD]]*VLOOKUP($H$1,USDtoUserChoice,2,FALSE))","v":43818.052953621067},"govt","Manager","India",{"$f":"VLOOKUP(tblSalaries[[#This Row],[Where do you work]],tblCountries[[Actual]:[Mapping]],2,FALSE)","v":"India"},"2 to 3 hours per day",3,{"$f":"IF(ISNA(VLOOKUP(tblSalaries[[#This Row],[Years of Experience]],vlookUpExp!$A$1:$B$56,2,FALSE)),\"No Response\",VLOOKUP(tblSalaries[[#This Row],[Years of Experience]],vlookUpExp!$A$1:$B$56,2,FALSE))","v":"0-5"}]
[null,"ID0692","2012-05-26T13:24:05","4500 rs. per month",648000,"INR",{"$f":"tblSalaries[[#This Row],[clean Salary (in local currency)]]*VLOOKUP(tblSalaries[[#This Row],[Currency]],tblXrate[],2,FALSE)","v":11539.530013462785},{"$f":"IF($H$1=\"USD\",tblSalaries[[#This Row],[Salary in USD]],tblSalaries[[#This Row],[Salary in USD]]*VLOOKUP($H$1,USDtoUserChoice,2,FALSE))","v":94646.994379821495},"COMPUTER OPERATOR","Analyst","India",{"$f":"VLOOKUP(tblSalaries[[#This Row],[Where do you work]],tblCountries[[Actual]:[Mapping]],2,FALSE)","v":"India"},"All the 8 hours baby, all the 8!",2,{"$f":"IF(ISNA(VLOOKUP(tblSalaries[[#This Row],[Years of Experience]],vlookUpExp!$A$1:$B$56,2,FALSE)),\"No Response\",VLOOKUP(tblSalaries[[#This Row],[Years of Experience]],vlookUpExp!$A$1:$B$56,2,FALSE))","v":"0-5"}]
[null,"ID0693","2012-05-26T13:24:14",7000,7000,"USD",{"$f":"tblSalaries[[#This Row],[clean Salary (in local currency)]]*VLOOKUP(tblSalaries[[#This Row],[Currency]],tblXrate[],2,FALSE)","v":7000},{"$f":"IF($H$1=\"USD\",tblSalaries[[#This Row],[Salary in USD]],tblSalaries[[#This Row],[Salary in USD]]*VLOOKUP($H$1,USDtoUserChoice,2,FALSE))","v":57413.860000000008},"Business Executive","Manager","India",{"$f":"VLOOKUP(tblSalaries[[#This Row],[Where do you work]],tblCountries[[Actual]:[Mapping]],2,FALSE)","v":"India"},"4 to 6 hours a day",23,{"$f":"IF(ISNA(VLOOKUP(tblSalaries[[#This Row],[Years of Experience]],vlookUpExp!$A$1:$B$56,2,FALSE)),\"No Response\",VLOOKUP(tblSalaries[[#This Row],[Years of Experience]],vlookUpExp!$A$1:$B$56,2,FALSE))","v":"21-25"}]
[null,"ID0694","2012-05-26T13:24:36",380000,380000,"INR",{"$f":"tblSalaries[[#This Row],[clean Salary (in local currency)]]*VLOOKUP(tblSalaries[[#This Row],[Currency]],tblXrate[],2,FALSE)","v":6767.0083412281756},{"$f":"IF($H$1=\"USD\",tblSalaries[[#This Row],[Salary in USD]],tblSalaries[[#This Row],[Salary in USD]]*VLOOKUP($H$1,USDtoUserChoice,2,FALSE))","v":55502.867074586677},"Team Lead Mis","Reporting","India",{"$f":"VLOOKUP(tblSalaries[[#This Row],[Where do you work]],tblCountries[[Actual]:[Mapping]],2,FALSE)","v":"India"},"2 to 3 hours per day",6,{"$f":"IF(ISNA(VLOOKUP(tblSalaries[[#This Row],[Years of Experience]],vlookUpExp!$A$1:$B$56,2,FALSE)),\"No Response\",VLOOKUP(tblSalaries[[#This Row],[Years of Experience]],vlookUpExp!$A$1:$B$56,2,FALSE))","v":"6-10"}]
[null,"ID0695","2012-05-26T13:29:12","3000 $",3000,"USD",{"$f":"tblSalaries[[#This Row],[clean Salary (in local currency)]]*VLOOKUP(tblSalaries[[#This Row],[Currency]],tblXrate[],2,FALSE)","v":3000},{"$f":"IF($H$1=\"USD\",tblSalaries[[#This Row],[Salary in USD]],tblSalaries[[#This Row],[Salary in USD]]*VLOOKUP($H$1,USDtoUserChoice,2,FALSE))","v":24605.940000000002},"Call Centre Consultant","Consultant","Cambodia",{"$f":"VLOOKUP(tblSalaries[[#This Row],[Where do you work]],tblCountries[[Actual]:[Mapping]],2,FALSE)","v":"Cambodia"},"2 to 3 hours per day",2,{"$f":"IF(ISNA(VLOOKUP(tblSalaries[[#This Row],[Years of Experience]],vlookUpExp!$A$1:$B$56,2,FALSE)),\"No Response\",VLOOKUP(tblSalaries[[#This Row],[Years of Experience]],vlookUpExp!$A$1:$B$56,2,FALSE))","v":"0-5"}]
[null,"ID0696","2012-05-26T13:29:35","250000 rupees",250000,"INR",{"$f":"tblSalaries[[#This Row],[clean Salary (in local currency)]]*VLOOKUP(tblSalaries[[#This Row],[Currency]],tblXrate[],2,FALSE)","v":4451.9791718606421},{"$f":"IF($H$1=\"USD\",tblSalaries[[#This Row],[Salary in USD]],tblSalaries[[#This Row],[Salary in USD]]*VLOOKUP($H$1,USDtoUserChoice,2,FALSE))","v":36515.044128017551},"MIS executive","Reporting","India",{"$f":"VLOOKUP(tblSalaries[[#This Row],[Where do you work]],tblCountries[[Actual]:[Mapping]],2,FALSE)","v":"India"},"All the 8 hours baby, all the 8!",4,{"$f":"IF(ISNA(VLOOKUP(tblSalaries[[#This Row],[Years of Experience]],vlookUpExp!$A$1:$B$56,2,FALSE)),\"No Response\",VLOOKUP(tblSalaries[[#This Row],[Years of Experience]],vlookUpExp!$A$1:$B$56,2,FALSE))","v":"0-5"}]
[null,"ID0697","2012-05-26T13:31:20","Rs. 150000",150000,"INR",{"$f":"tblSalaries[[#This Row],[clean Salary (in local currency)]]*VLOOKUP(tblSalaries[[#This Row],[Currency]],tblXrate[],2,FALSE)","v":2671.1875031163854},{"$f":"IF($H$1=\"USD\",tblSalaries[[#This Row],[Salary in USD]],tblSalaries[[#This Row],[Salary in USD]]*VLOOKUP($H$1,USDtoUserChoice,2,FALSE))","v":21909.026476810533},"Oprations head","CXO or Top Mgmt.","India",{"$f":"VLOOKUP(tblSalaries[[#This Row],[Where do you work]],tblCountries[[Actual]:[Mapping]],2,FALSE)","v":"India"},"4 to 6 hours a day",4.5,{"$f":"IF(ISNA(VLOOKUP(tblSalaries[[#This Row],[Years of Experience]],vlookUpExp!$A$1:$B$56,2,FALSE)),\"No Response\",VLOOKUP(tblSalaries[[#This Row],[Years of Experience]],vlookUpExp!$A$1:$B$56,2,FALSE))","v":"0-5"}]
[null,"ID0698","2012-05-26T13:37:50",278400,278400,"INR",{"$f":"tblSalaries[[#This Row],[clean Salary (in local currency)]]*VLOOKUP(tblSalaries[[#This Row],[Currency]],tblXrate[],2,FALSE)","v":4957.7240057840108},{"$f":"IF($H$1=\"USD\",tblSalaries[[#This Row],[Salary in USD]],tblSalaries[[#This Row],[Salary in USD]]*VLOOKUP($H$1,USDtoUserChoice,2,FALSE))","v":40663.153140960341},"Asst. Manager","Manager","India",{"$f":"VLOOKUP(tblSalaries[[#This Row],[Where do you work]],tblCountries[[Actual]:[Mapping]],2,FALSE)","v":"India"},"4 to 6 hours a day",5,{"$f":"IF(ISNA(VLOOKUP(tblSalaries[[#This Row],[Years of Experience]],vlookUpExp!$A$1:$B$56,2,FALSE)),\"No Response\",VLOOKUP(tblSalaries[[#This Row],[Years of Experience]],vlookUpExp!$A$1:$B$56,2,FALSE))","v":"0-5"}]
[null,"ID0699","2012-05-26T13:42:21",180000,180000,"INR",{"$f":"tblSalaries[[#This Row],[clean Salary (in local currency)]]*VLOOKUP(tblSalaries[[#This Row],[Currency]],tblXrate[],2,FALSE)","v":3205.4250037396623},{"$f":"IF($H$1=\"USD\",tblSalaries[[#This Row],[Salary in USD]],tblSalaries[[#This Row],[Salary in USD]]*VLOOKUP($H$1,USDtoUserChoice,2,FALSE))","v":26290.831772172638},"accounts","Accountant","India",{"$f":"VLOOKUP(tblSalaries[[#This Row],[Where do you work]],tblCountries[[Actual]:[Mapping]],2,FALSE)","v":"India"},"2 to 3 hours per day",14,{"$f":"IF(ISNA(VLOOKUP(tblSalaries[[#This Row],[Years of Experience]],vlookUpExp!$A$1:$B$56,2,FALSE)),\"No Response\",VLOOKUP(tblSalaries[[#This Row],[Years of Experience]],vlookUpExp!$A$1:$B$56,2,FALSE))","v":"11-15"}]
[null,"ID0700","2012-05-26T13:42:58",800000,800000,"INR",{"$f":"tblSalaries[[#This Row],[clean Salary (in local currency)]]*VLOOKUP(tblSalaries[[#This Row],[Currency]],tblXrate[],2,FALSE)","v":14246.333349954055},{"$f":"IF($H$1=\"USD\",tblSalaries[[#This Row],[Salary in USD]],tblSalaries[[#This Row],[Salary in USD]]*VLOOKUP($H$1,USDtoUserChoice,2,FALSE))","v":116848.14120965617},"Manager","Manager","India",{"$f":"VLOOKUP(tblSalaries[[#This Row],[Where do you work]],tblCountries[[Actual]:[Mapping]],2,FALSE)","v":"India"},"4 to 6 hours a day",7,{"$f":"IF(ISNA(VLOOKUP(tblSalaries[[#This Row],[Years of Experience]],vlookUpExp!$A$1:$B$56,2,FALSE)),\"No Response\",VLOOKUP(tblSalaries[[#This Row],[Years of Experience]],vlookUpExp!$A$1:$B$56,2,FALSE))","v":"6-10"}]
[null,"ID0701","2012-05-26T13:44:53","25000 rupess",300000,"INR",{"$f":"tblSalaries[[#This Row],[clean Salary (in local currency)]]*VLOOKUP(tblSalaries[[#This Row],[Currency]],tblXrate[],2,FALSE)","v":5342.3750062327708},{"$f":"IF($H$1=\"USD\",tblSalaries[[#This Row],[Salary in USD]],tblSalaries[[#This Row],[Salary in USD]]*VLOOKUP($H$1,USDtoUserChoice,2,FALSE))","v":43818.052953621067},"Analyst","Analyst","India",{"$f":"VLOOKUP(tblSalaries[[#This Row],[Where do you work]],tblCountries[[Actual]:[Mapping]],2,FALSE)","v":"India"},"All the 8 hours baby, all the 8!",7,{"$f":"IF(ISNA(VLOOKUP(tblSalaries[[#This Row],[Years of Experience]],vlookUpExp!$A$1:$B$56,2,FALSE)),\"No Response\",VLOOKUP(tblSalaries[[#This Row],[Years of Experience]],vlookUpExp!$A$1:$B$56,2,FALSE))","v":"6-10"}]
[null,"ID0702","2012-05-26T13:46:52","370000 inr",370000,"INR",{"$f":"tblSalaries[[#This Row],[clean Salary (in local currency)]]*VLOOKUP(tblSalaries[[#This Row],[Currency]],tblXrate[],2,FALSE)","v":6588.9291743537506},{"$f":"IF($H$1=\"USD\",tblSalaries[[#This Row],[Salary in USD]],tblSalaries[[#This Row],[Salary in USD]]*VLOOKUP($H$1,USDtoUserChoice,2,FALSE))","v":54042.265309465976},"Operations Analyst","Analyst","India",{"$f":"VLOOKUP(tblSalaries[[#This Row],[Where do you work]],tblCountries[[Actual]:[Mapping]],2,FALSE)","v":"India"},"All the 8 hours baby, all the 8!",2,{"$f":"IF(ISNA(VLOOKUP(tblSalaries[[#This Row],[Years of Experience]],vlookUpExp!$A$1:$B$56,2,FALSE)),\"No Response\",VLOOKUP(tblSalaries[[#This Row],[Years of Experience]],vlookUpExp!$A$1:$B$56,2,FALSE))","v":"0-5"}]
[null,"ID0703","2012-05-26T13:47:06","370000 inr",370000,"INR",{"$f":"tblSalaries[[#This Row],[clean Salary (in local currency)]]*VLOOKUP(tblSalaries[[#This Row],[Currency]],tblXrate[],2,FALSE)","v":6588.9291743537506},{"$f":"IF($H$1=\"USD\",tblSalaries[[#This Row],[Salary in USD]],tblSalaries[[#This Row],[Salary in USD]]*VLOOKUP($H$1,USDtoUserChoice,2,FALSE))","v":54042.265309465976},"Operations Analyst","Analyst","India",{"$f":"VLOOKUP(tblSalaries[[#This Row],[Where do you work]],tblCountries[[Actual]:[Mapping]],2,FALSE)","v":"India"},"All the 8 hours baby, all the 8!",2,{"$f":"IF(ISNA(VLOOKUP(tblSalaries[[#This Row],[Years of Experience]],vlookUpExp!$A$1:$B$56,2,FALSE)),\"No Response\",VLOOKUP(tblSalaries[[#This Row],[Years of Experience]],vlookUpExp!$A$1:$B$56,2,FALSE))","v":"0-5"}]
[null,"ID0704","2012-05-26T13:49:54",35000,35000,"USD",{"$f":"tblSalaries[[#This Row],[clean Salary (in local currency)]]*VLOOKUP(tblSalaries[[#This Row],[Currency]],tblXrate[],2,FALSE)","v":35000},{"$f":"IF($H$1=\"USD\",tblSalaries[[#This Row],[Salary in USD]],tblSalaries[[#This Row],[Salary in USD]]*VLOOKUP($H$1,USDtoUserChoice,2,FALSE))","v":287069.30000000005},"IT Specialist","Specialist","USA",{"$f":"VLOOKUP(tblSalaries[[#This Row],[Where do you work]],tblCountries[[Actual]:[Mapping]],2,FALSE)","v":"USA"},"4 to 6 hours a day",10,{"$f":"IF(ISNA(VLOOKUP(tblSalaries[[#This Row],[Years of Experience]],vlookUpExp!$A$1:$B$56,2,FALSE)),\"No Response\",VLOOKUP(tblSalaries[[#This Row],[Years of Experience]],vlookUpExp!$A$1:$B$56,2,FALSE))","v":"6-10"}]
[null,"ID0705","2012-05-26T13:57:11",720000,720000,"INR",{"$f":"tblSalaries[[#This Row],[clean Salary (in local currency)]]*VLOOKUP(tblSalaries[[#This Row],[Currency]],tblXrate[],2,FALSE)","v":12821.700014958649},{"$f":"IF($H$1=\"USD\",tblSalaries[[#This Row],[Salary in USD]],tblSalaries[[#This Row],[Salary in USD]]*VLOOKUP($H$1,USDtoUserChoice,2,FALSE))","v":105163.32708869055},"Cost Accountant","Accountant","India",{"$f":"VLOOKUP(tblSalaries[[#This Row],[Where do you work]],tblCountries[[Actual]:[Mapping]],2,FALSE)","v":"India"},"4 to 6 hours a day",4,{"$f":"IF(ISNA(VLOOKUP(tblSalaries[[#This Row],[Years of Experience]],vlookUpExp!$A$1:$B$56,2,FALSE)),\"No Response\",VLOOKUP(tblSalaries[[#This Row],[Years of Experience]],vlookUpExp!$A$1:$B$56,2,FALSE))","v":"0-5"}]
[null,"ID0706","2012-05-26T14:01:00",600000,600000,"INR",{"$f":"tblSalaries[[#This Row],[clean Salary (in local currency)]]*VLOOKUP(tblSalaries[[#This Row],[Currency]],tblXrate[],2,FALSE)","v":10684.750012465542},{"$f":"IF($H$1=\"USD\",tblSalaries[[#This Row],[Salary in USD]],tblSalaries[[#This Row],[Salary in USD]]*VLOOKUP($H$1,USDtoUserChoice,2,FALSE))","v":87636.105907242134},"senior executive","Manager","India",{"$f":"VLOOKUP(tblSalaries[[#This Row],[Where do you work]],tblCountries[[Actual]:[Mapping]],2,FALSE)","v":"India"},"1 or 2 hours a day",2,{"$f":"IF(ISNA(VLOOKUP(tblSalaries[[#This Row],[Years of Experience]],vlookUpExp!$A$1:$B$56,2,FALSE)),\"No Response\",VLOOKUP(tblSalaries[[#This Row],[Years of Experience]],vlookUpExp!$A$1:$B$56,2,FALSE))","v":"0-5"}]
[null,"ID0707","2012-05-26T14:01:09",10000,10000,"USD",{"$f":"tblSalaries[[#This Row],[clean Salary (in local currency)]]*VLOOKUP(tblSalaries[[#This Row],[Currency]],tblXrate[],2,FALSE)","v":10000},{"$f":"IF($H$1=\"USD\",tblSalaries[[#This Row],[Salary in USD]],tblSalaries[[#This Row],[Salary in USD]]*VLOOKUP($H$1,USDtoUserChoice,2,FALSE))","v":82019.8},"Executive","Manager","India",{"$f":"VLOOKUP(tblSalaries[[#This Row],[Where do you work]],tblCountries[[Actual]:[Mapping]],2,FALSE)","v":"India"},"4 to 6 hours a day",2,{"$f":"IF(ISNA(VLOOKUP(tblSalaries[[#This Row],[Years of Experience]],vlookUpExp!$A$1:$B$56,2,FALSE)),\"No Response\",VLOOKUP(tblSalaries[[#This Row],[Years of Experience]],vlookUpExp!$A$1:$B$56,2,FALSE))","v":"0-5"}]
[null,"ID0708","2012-05-26T14:04:35","Rs 10000",120000,"INR",{"$f":"tblSalaries[[#This Row],[clean Salary (in local currency)]]*VLOOKUP(tblSalaries[[#This Row],[Currency]],tblXrate[],2,FALSE)","v":2136.9500024931081},{"$f":"IF($H$1=\"USD\",tblSalaries[[#This Row],[Salary in USD]],tblSalaries[[#This Row],[Salary in USD]]*VLOOKUP($H$1,USDtoUserChoice,2,FALSE))","v":17527.221181448425},"Intern","Analyst","India",{"$f":"VLOOKUP(tblSalaries[[#This Row],[Where do you work]],tblCountries[[Actual]:[Mapping]],2,FALSE)","v":"India"},"1 or 2 hours a day",0,{"$f":"IF(ISNA(VLOOKUP(tblSalaries[[#This Row],[Years of Experience]],vlookUpExp!$A$1:$B$56,2,FALSE)),\"No Response\",VLOOKUP(tblSalaries[[#This Row],[Years of Experience]],vlookUpExp!$A$1:$B$56,2,FALSE))","v":"0-5"}]
[null,"ID0709","2012-05-26T14:10:51","4,80,000 Ruppes",480000,"INR",{"$f":"tblSalaries[[#This Row],[clean Salary (in local currency)]]*VLOOKUP(tblSalaries[[#This Row],[Currency]],tblXrate[],2,FALSE)","v":8547.8000099724322},{"$f":"IF($H$1=\"USD\",tblSalaries[[#This Row],[Salary in USD]],tblSalaries[[#This Row],[Salary in USD]]*VLOOKUP($H$1,USDtoUserChoice,2,FALSE))","v":70108.884725793701},"Business Analyst","Analyst","India",{"$f":"VLOOKUP(tblSalaries[[#This Row],[Where do you work]],tblCountries[[Actual]:[Mapping]],2,FALSE)","v":"India"},"4 to 6 hours a day",4,{"$f":"IF(ISNA(VLOOKUP(tblSalaries[[#This Row],[Years of Experience]],vlookUpExp!$A$1:$B$56,2,FALSE)),\"No Response\",VLOOKUP(tblSalaries[[#This Row],[Years of Experience]],vlookUpExp!$A$1:$B$56,2,FALSE))","v":"0-5"}]
[null,"ID0710","2012-05-26T14:11:52","Re. 4.5 Lacs Per Annum",450000,"INR",{"$f":"tblSalaries[[#This Row],[clean Salary (in local currency)]]*VLOOKUP(tblSalaries[[#This Row],[Currency]],tblXrate[],2,FALSE)","v":8013.5625093491553},{"$f":"IF($H$1=\"USD\",tblSalaries[[#This Row],[Salary in USD]],tblSalaries[[#This Row],[Salary in USD]]*VLOOKUP($H$1,USDtoUserChoice,2,FALSE))","v":65727.079430431593},"Data Analyst","Analyst","India",{"$f":"VLOOKUP(tblSalaries[[#This Row],[Where do you work]],tblCountries[[Actual]:[Mapping]],2,FALSE)","v":"India"},"All the 8 hours baby, all the 8!",8,{"$f":"IF(ISNA(VLOOKUP(tblSalaries[[#This Row],[Years of Experience]],vlookUpExp!$A$1:$B$56,2,FALSE)),\"No Response\",VLOOKUP(tblSalaries[[#This Row],[Years of Experience]],vlookUpExp!$A$1:$B$56,2,FALSE))","v":"6-10"}]
[null,"ID0711","2012-05-26T14:14:35",400000,400000,"INR",{"$f":"tblSalaries[[#This Row],[clean Salary (in local currency)]]*VLOOKUP(tblSalaries[[#This Row],[Currency]],tblXrate[],2,FALSE)","v":7123.1666749770275},{"$f":"IF($H$1=\"USD\",tblSalaries[[#This Row],[Salary in USD]],tblSalaries[[#This Row],[Salary in USD]]*VLOOKUP($H$1,USDtoUserChoice,2,FALSE))","v":58424.070604828084},"Consultant","Consultant","India",{"$f":"VLOOKUP(tblSalaries[[#This Row],[Where do you work]],tblCountries[[Actual]:[Mapping]],2,FALSE)","v":"India"},"4 to 6 hours a day",0,{"$f":"IF(ISNA(VLOOKUP(tblSalaries[[#This Row],[Years of Experience]],vlookUpExp!$A$1:$B$56,2,FALSE)),\"No Response\",VLOOKUP(tblSalaries[[#This Row],[Years of Experience]],vlookUpExp!$A$1:$B$56,2,FALSE))","v":"0-5"}]
[null,"ID0712","2012-05-26T14:16:14","inr 2300000",2300000,"INR",{"$f":"tblSalaries[[#This Row],[clean Salary (in local currency)]]*VLOOKUP(tblSalaries[[#This Row],[Currency]],tblXrate[],2,FALSE)","v":40958.208381117904},{"$f":"IF($H$1=\"USD\",tblSalaries[[#This Row],[Salary in USD]],tblSalaries[[#This Row],[Salary in USD]]*VLOOKUP($H$1,USDtoUserChoice,2,FALSE))","v":335938.40597776143},"analyst","Analyst","India",{"$f":"VLOOKUP(tblSalaries[[#This Row],[Where do you work]],tblCountries[[Actual]:[Mapping]],2,FALSE)","v":"India"},"All the 8 hours baby, all the 8!",5,{"$f":"IF(ISNA(VLOOKUP(tblSalaries[[#This Row],[Years of Experience]],vlookUpExp!$A$1:$B$56,2,FALSE)),\"No Response\",VLOOKUP(tblSalaries[[#This Row],[Years of Experience]],vlookUpExp!$A$1:$B$56,2,FALSE))","v":"0-5"}]
[null,"ID0713","2012-05-26T14:18:11",636000,636000,"INR",{"$f":"tblSalaries[[#This Row],[clean Salary (in local currency)]]*VLOOKUP(tblSalaries[[#This Row],[Currency]],tblXrate[],2,FALSE)","v":11325.835013213473},{"$f":"IF($H$1=\"USD\",tblSalaries[[#This Row],[Salary in USD]],tblSalaries[[#This Row],[Salary in USD]]*VLOOKUP($H$1,USDtoUserChoice,2,FALSE))","v":92894.272261676655},"Audit Manager","Manager","India",{"$f":"VLOOKUP(tblSalaries[[#This Row],[Where do you work]],tblCountries[[Actual]:[Mapping]],2,FALSE)","v":"India"},"4 to 6 hours a day",2,{"$f":"IF(ISNA(VLOOKUP(tblSalaries[[#This Row],[Years of Experience]],vlookUpExp!$A$1:$B$56,2,FALSE)),\"No Response\",VLOOKUP(tblSalaries[[#This Row],[Years of Experience]],vlookUpExp!$A$1:$B$56,2,FALSE))","v":"0-5"}]
[null,"ID0714","2012-05-26T14:20:23","15000 USD",15000,"USD",{"$f":"tblSalaries[[#This Row],[clean Salary (in local currency)]]*VLOOKUP(tblSalaries[[#This Row],[Currency]],tblXrate[],2,FALSE)","v":15000},{"$f":"IF($H$1=\"USD\",tblSalaries[[#This Row],[Salary in USD]],tblSalaries[[#This Row],[Salary in USD]]*VLOOKUP($H$1,USDtoUserChoice,2,FALSE))","v":123029.70000000001},"Audit - senior assistant","Accountant","Lithuania",{"$f":"VLOOKUP(tblSalaries[[#This Row],[Where do you work]],tblCountries[[Actual]:[Mapping]],2,FALSE)","v":"Lithuania"},"4 to 6 hours a day",2,{"$f":"IF(ISNA(VLOOKUP(tblSalaries[[#This Row],[Years of Experience]],vlookUpExp!$A$1:$B$56,2,FALSE)),\"No Response\",VLOOKUP(tblSalaries[[#This Row],[Years of Experience]],vlookUpExp!$A$1:$B$56,2,FALSE))","v":"0-5"}]
[null,"ID0715","2012-05-26T14:22:05",1000,12000,"USD",{"$f":"tblSalaries[[#This Row],[clean Salary (in local currency)]]*VLOOKUP(tblSalaries[[#This Row],[Currency]],tblXrate[],2,FALSE)","v":12000},{"$f":"IF($H$1=\"USD\",tblSalaries[[#This Row],[Salary in USD]],tblSalaries[[#This Row],[Salary in USD]]*VLOOKUP($H$1,USDtoUserChoice,2,FALSE))","v":98423.760000000009},"tech operator (oil)","Analyst","uae",{"$f":"VLOOKUP(tblSalaries[[#This Row],[Where do you work]],tblCountries[[Actual]:[Mapping]],2,FALSE)","v":"UAE"},"4 to 6 hours a day",12,{"$f":"IF(ISNA(VLOOKUP(tblSalaries[[#This Row],[Years of Experience]],vlookUpExp!$A$1:$B$56,2,FALSE)),\"No Response\",VLOOKUP(tblSalaries[[#This Row],[Years of Experience]],vlookUpExp!$A$1:$B$56,2,FALSE))","v":"11-15"}]
[null,"ID0716","2012-05-26T14:23:48",500000,500000,"INR",{"$f":"tblSalaries[[#This Row],[clean Salary (in local currency)]]*VLOOKUP(tblSalaries[[#This Row],[Currency]],tblXrate[],2,FALSE)","v":8903.9583437212841},{"$f":"IF($H$1=\"USD\",tblSalaries[[#This Row],[Salary in USD]],tblSalaries[[#This Row],[Salary in USD]]*VLOOKUP($H$1,USDtoUserChoice,2,FALSE))","v":73030.088256035102},"mis ","Reporting","India",{"$f":"VLOOKUP(tblSalaries[[#This Row],[Where do you work]],tblCountries[[Actual]:[Mapping]],2,FALSE)","v":"India"},"2 to 3 hours per day",1,{"$f":"IF(ISNA(VLOOKUP(tblSalaries[[#This Row],[Years of Experience]],vlookUpExp!$A$1:$B$56,2,FALSE)),\"No Response\",VLOOKUP(tblSalaries[[#This Row],[Years of Experience]],vlookUpExp!$A$1:$B$56,2,FALSE))","v":"0-5"}]
[null,"ID0717","2012-05-26T14:33:11",500000,500000,"INR",{"$f":"tblSalaries[[#This Row],[clean Salary (in local currency)]]*VLOOKUP(tblSalaries[[#This Row],[Currency]],tblXrate[],2,FALSE)","v":8903.9583437212841},{"$f":"IF($H$1=\"USD\",tblSalaries[[#This Row],[Salary in USD]],tblSalaries[[#This Row],[Salary in USD]]*VLOOKUP($H$1,USDtoUserChoice,2,FALSE))","v":73030.088256035102},"Engineer","Engineer","India",{"$f":"VLOOKUP(tblSalaries[[#This Row],[Where do you work]],tblCountries[[Actual]:[Mapping]],2,FALSE)","v":"India"},"All the 8 hours baby, all the 8!",2,{"$f":"IF(ISNA(VLOOKUP(tblSalaries[[#This Row],[Years of Experience]],vlookUpExp!$A$1:$B$56,2,FALSE)),\"No Response\",VLOOKUP(tblSalaries[[#This Row],[Years of Experience]],vlookUpExp!$A$1:$B$56,2,FALSE))","v":"0-5"}]
[null,"ID0718","2012-05-26T14:35:48","Inr 60000",720000,"INR",{"$f":"tblSalaries[[#This Row],[clean Salary (in local currency)]]*VLOOKUP(tblSalaries[[#This Row],[Currency]],tblXrate[],2,FALSE)","v":12821.700014958649},{"$f":"IF($H$1=\"USD\",tblSalaries[[#This Row],[Salary in USD]],tblSalaries[[#This Row],[Salary in USD]]*VLOOKUP($H$1,USDtoUserChoice,2,FALSE))","v":105163.32708869055},"Asstt manager","Manager","India",{"$f":"VLOOKUP(tblSalaries[[#This Row],[Where do you work]],tblCountries[[Actual]:[Mapping]],2,FALSE)","v":"India"},"All the 8 hours baby, all the 8!",10,{"$f":"IF(ISNA(VLOOKUP(tblSalaries[[#This Row],[Years of Experience]],vlookUpExp!$A$1:$B$56,2,FALSE)),\"No Response\",VLOOKUP(tblSalaries[[#This Row],[Years of Experience]],vlookUpExp!$A$1:$B$56,2,FALSE))","v":"6-10"}]
[null,"ID0719","2012-05-26T14:41:00","Rs 15000",180000,"INR",{"$f":"tblSalaries[[#This Row],[clean Salary (in local currency)]]*VLOOKUP(tblSalaries[[#This Row],[Currency]],tblXrate[],2,FALSE)","v":3205.4250037396623},{"$f":"IF($H$1=\"USD\",tblSalaries[[#This Row],[Salary in USD]],tblSalaries[[#This Row],[Salary in USD]]*VLOOKUP($H$1,USDtoUserChoice,2,FALSE))","v":26290.831772172638},"Import & Export Documentation Executive","Manager","India",{"$f":"VLOOKUP(tblSalaries[[#This Row],[Where do you work]],tblCountries[[Actual]:[Mapping]],2,FALSE)","v":"India"},"All the 8 hours baby, all the 8!",7,{"$f":"IF(ISNA(VLOOKUP(tblSalaries[[#This Row],[Years of Experience]],vlookUpExp!$A$1:$B$56,2,FALSE)),\"No Response\",VLOOKUP(tblSalaries[[#This Row],[Years of Experience]],vlookUpExp!$A$1:$B$56,2,FALSE))","v":"6-10"}]
[null,"ID0720","2012-05-26T14:46:55",375000,375000,"INR",{"$f":"tblSalaries[[#This Row],[clean Salary (in local currency)]]*VLOOKUP(tblSalaries[[#This Row],[Currency]],tblXrate[],2,FALSE)","v":6677.9687577909626},{"$f":"IF($H$1=\"USD\",tblSalaries[[#This Row],[Salary in USD]],tblSalaries[[#This Row],[Salary in USD]]*VLOOKUP($H$1,USDtoUserChoice,2,FALSE))","v":54772.566192026323},"Team Lead","Manager","India",{"$f":"VLOOKUP(tblSalaries[[#This Row],[Where do you work]],tblCountries[[Actual]:[Mapping]],2,FALSE)","v":"India"},"2 to 3 hours per day",6,{"$f":"IF(ISNA(VLOOKUP(tblSalaries[[#This Row],[Years of Experience]],vlookUpExp!$A$1:$B$56,2,FALSE)),\"No Response\",VLOOKUP(tblSalaries[[#This Row],[Years of Experience]],vlookUpExp!$A$1:$B$56,2,FALSE))","v":"6-10"}]
[null,"ID0721","2012-05-26T14:51:02",85000,85000,"NZD",{"$f":"tblSalaries[[#This Row],[clean Salary (in local currency)]]*VLOOKUP(tblSalaries[[#This Row],[Currency]],tblXrate[],2,FALSE)","v":67794.987956419791},{"$f":"IF($H$1=\"USD\",tblSalaries[[#This Row],[Salary in USD]],tblSalaries[[#This Row],[Salary in USD]]*VLOOKUP($H$1,USDtoUserChoice,2,FALSE))","v":556053.13531879603},"Systems Manager","Manager","New Zealand",{"$f":"VLOOKUP(tblSalaries[[#This Row],[Where do you work]],tblCountries[[Actual]:[Mapping]],2,FALSE)","v":"New Zealand"},"4 to 6 hours a day",15,{"$f":"IF(ISNA(VLOOKUP(tblSalaries[[#This Row],[Years of Experience]],vlookUpExp!$A$1:$B$56,2,FALSE)),\"No Response\",VLOOKUP(tblSalaries[[#This Row],[Years of Experience]],vlookUpExp!$A$1:$B$56,2,FALSE))","v":"11-15"}]
[null,"ID0722","2012-05-26T14:57:39",31250,31250,"USD",{"$f":"tblSalaries[[#This Row],[clean Salary (in local currency)]]*VLOOKUP(tblSalaries[[#This Row],[Currency]],tblXrate[],2,FALSE)","v":31250},{"$f":"IF($H$1=\"USD\",tblSalaries[[#This Row],[Salary in USD]],tblSalaries[[#This Row],[Salary in USD]]*VLOOKUP($H$1,USDtoUserChoice,2,FALSE))","v":256311.87500000003},"Program management","Manager","India",{"$f":"VLOOKUP(tblSalaries[[#This Row],[Where do you work]],tblCountries[[Actual]:[Mapping]],2,FALSE)","v":"India"},"2 to 3 hours per day",6,{"$f":"IF(ISNA(VLOOKUP(tblSalaries[[#This Row],[Years of Experience]],vlookUpExp!$A$1:$B$56,2,FALSE)),\"No Response\",VLOOKUP(tblSalaries[[#This Row],[Years of Experience]],vlookUpExp!$A$1:$B$56,2,FALSE))","v":"6-10"}]
[null,"ID0723","2012-05-26T14:57:45","PKR 17000",204000,"PKR",{"$f":"tblSalaries[[#This Row],[clean Salary (in local currency)]]*VLOOKUP(tblSalaries[[#This Row],[Currency]],tblXrate[],2,FALSE)","v":2165.2740982270229},{"$f":"IF($H$1=\"USD\",tblSalaries[[#This Row],[Salary in USD]],tblSalaries[[#This Row],[Salary in USD]]*VLOOKUP($H$1,USDtoUserChoice,2,FALSE))","v":17759.534848176078},"Accounts Manager","Manager","Pakistan",{"$f":"VLOOKUP(tblSalaries[[#This Row],[Where do you work]],tblCountries[[Actual]:[Mapping]],2,FALSE)","v":"Pakistan"},"All the 8 hours baby, all the 8!",2,{"$f":"IF(ISNA(VLOOKUP(tblSalaries[[#This Row],[Years of Experience]],vlookUpExp!$A$1:$B$56,2,FALSE)),\"No Response\",VLOOKUP(tblSalaries[[#This Row],[Years of Experience]],vlookUpExp!$A$1:$B$56,2,FALSE))","v":"0-5"}]
[null,"ID0724","2012-05-26T14:58:24","Rs.4lk ",400000,"INR",{"$f":"tblSalaries[[#This Row],[clean Salary (in local currency)]]*VLOOKUP(tblSalaries[[#This Row],[Currency]],tblXrate[],2,FALSE)","v":7123.1666749770275},{"$f":"IF($H$1=\"USD\",tblSalaries[[#This Row],[Salary in USD]],tblSalaries[[#This Row],[Salary in USD]]*VLOOKUP($H$1,USDtoUserChoice,2,FALSE))","v":58424.070604828084},"sr. mis executive","Reporting","India",{"$f":"VLOOKUP(tblSalaries[[#This Row],[Where do you work]],tblCountries[[Actual]:[Mapping]],2,FALSE)","v":"India"},"All the 8 hours baby, all the 8!",4,{"$f":"IF(ISNA(VLOOKUP(tblSalaries[[#This Row],[Years of Experience]],vlookUpExp!$A$1:$B$56,2,FALSE)),\"No Response\",VLOOKUP(tblSalaries[[#This Row],[Years of Experience]],vlookUpExp!$A$1:$B$56,2,FALSE))","v":"0-5"}]
[null,"ID0725","2012-05-26T15:01:00","USD130000",130000,"USD",{"$f":"tblSalaries[[#This Row],[clean Salary (in local currency)]]*VLOOKUP(tblSalaries[[#This Row],[Currency]],tblXrate[],2,FALSE)","v":130000},{"$f":"IF($H$1=\"USD\",tblSalaries[[#This Row],[Salary in USD]],tblSalaries[[#This Row],[Salary in USD]]*VLOOKUP($H$1,USDtoUserChoice,2,FALSE))","v":1066257.4000000001},"Modeller","Manager","Australia",{"$f":"VLOOKUP(tblSalaries[[#This Row],[Where do you work]],tblCountries[[Actual]:[Mapping]],2,FALSE)","v":"Australia"},"4 to 6 hours a day",3,{"$f":"IF(ISNA(VLOOKUP(tblSalaries[[#This Row],[Years of Experience]],vlookUpExp!$A$1:$B$56,2,FALSE)),\"No Response\",VLOOKUP(tblSalaries[[#This Row],[Years of Experience]],vlookUpExp!$A$1:$B$56,2,FALSE))","v":"0-5"}]
[null,"ID0726","2012-05-26T15:01:41","Rs. 250000",250000,"INR",{"$f":"tblSalaries[[#This Row],[clean Salary (in local currency)]]*VLOOKUP(tblSalaries[[#This Row],[Currency]],tblXrate[],2,FALSE)","v":4451.9791718606421},{"$f":"IF($H$1=\"USD\",tblSalaries[[#This Row],[Salary in USD]],tblSalaries[[#This Row],[Salary in USD]]*VLOOKUP($H$1,USDtoUserChoice,2,FALSE))","v":36515.044128017551},"Asst. Manager","Manager","India",{"$f":"VLOOKUP(tblSalaries[[#This Row],[Where do you work]],tblCountries[[Actual]:[Mapping]],2,FALSE)","v":"India"},"4 to 6 hours a day",6,{"$f":"IF(ISNA(VLOOKUP(tblSalaries[[#This Row],[Years of Experience]],vlookUpExp!$A$1:$B$56,2,FALSE)),\"No Response\",VLOOKUP(tblSalaries[[#This Row],[Years of Experience]],vlookUpExp!$A$1:$B$56,2,FALSE))","v":"6-10"}]
[null,"ID0727","2012-05-26T15:02:34",800,9600,"USD",{"$f":"tblSalaries[[#This Row],[clean Salary (in local currency)]]*VLOOKUP(tblSalaries[[#This Row],[Currency]],tblXrate[],2,FALSE)","v":9600},{"$f":"IF($H$1=\"USD\",tblSalaries[[#This Row],[Salary in USD]],tblSalaries[[#This Row],[Salary in USD]]*VLOOKUP($H$1,USDtoUserChoice,2,FALSE))","v":78739.008000000002},"Admin","Analyst","South Africa",{"$f":"VLOOKUP(tblSalaries[[#This Row],[Where do you work]],tblCountries[[Actual]:[Mapping]],2,FALSE)","v":"South Africa"},"4 to 6 hours a day",2,{"$f":"IF(ISNA(VLOOKUP(tblSalaries[[#This Row],[Years of Experience]],vlookUpExp!$A$1:$B$56,2,FALSE)),\"No Response\",VLOOKUP(tblSalaries[[#This Row],[Years of Experience]],vlookUpExp!$A$1:$B$56,2,FALSE))","v":"0-5"}]
[null,"ID0728","2012-05-26T15:04:33","INR 390000 PA",390000,"INR",{"$f":"tblSalaries[[#This Row],[clean Salary (in local currency)]]*VLOOKUP(tblSalaries[[#This Row],[Currency]],tblXrate[],2,FALSE)","v":6945.0875081026015},{"$f":"IF($H$1=\"USD\",tblSalaries[[#This Row],[Salary in USD]],tblSalaries[[#This Row],[Salary in USD]]*VLOOKUP($H$1,USDtoUserChoice,2,FALSE))","v":56963.468839707384},"Business Analyst","Analyst","India",{"$f":"VLOOKUP(tblSalaries[[#This Row],[Where do you work]],tblCountries[[Actual]:[Mapping]],2,FALSE)","v":"India"},"4 to 6 hours a day",1,{"$f":"IF(ISNA(VLOOKUP(tblSalaries[[#This Row],[Years of Experience]],vlookUpExp!$A$1:$B$56,2,FALSE)),\"No Response\",VLOOKUP(tblSalaries[[#This Row],[Years of Experience]],vlookUpExp!$A$1:$B$56,2,FALSE))","v":"0-5"}]
[null,"ID0729","2012-05-26T15:05:42",600000,600000,"INR",{"$f":"tblSalaries[[#This Row],[clean Salary (in local currency)]]*VLOOKUP(tblSalaries[[#This Row],[Currency]],tblXrate[],2,FALSE)","v":10684.750012465542},{"$f":"IF($H$1=\"USD\",tblSalaries[[#This Row],[Salary in USD]],tblSalaries[[#This Row],[Salary in USD]]*VLOOKUP($H$1,USDtoUserChoice,2,FALSE))","v":87636.105907242134},"Sr Financial Execative","Accountant","India",{"$f":"VLOOKUP(tblSalaries[[#This Row],[Where do you work]],tblCountries[[Actual]:[Mapping]],2,FALSE)","v":"India"},"All the 8 hours baby, all the 8!",7,{"$f":"IF(ISNA(VLOOKUP(tblSalaries[[#This Row],[Years of Experience]],vlookUpExp!$A$1:$B$56,2,FALSE)),\"No Response\",VLOOKUP(tblSalaries[[#This Row],[Years of Experience]],vlookUpExp!$A$1:$B$56,2,FALSE))","v":"6-10"}]
[null,"ID0730","2012-05-26T15:06:00",4.8,480000,"INR",{"$f":"tblSalaries[[#This Row],[clean Salary (in local currency)]]*VLOOKUP(tblSalaries[[#This Row],[Currency]],tblXrate[],2,FALSE)","v":8547.8000099724322},{"$f":"IF($H$1=\"USD\",tblSalaries[[#This Row],[Salary in USD]],tblSalaries[[#This Row],[Salary in USD]]*VLOOKUP($H$1,USDtoUserChoice,2,FALSE))","v":70108.884725793701},"Asst Mngr","Analyst","India",{"$f":"VLOOKUP(tblSalaries[[#This Row],[Where do you work]],tblCountries[[Actual]:[Mapping]],2,FALSE)","v":"India"},"2 to 3 hours per day",3.5,{"$f":"IF(ISNA(VLOOKUP(tblSalaries[[#This Row],[Years of Experience]],vlookUpExp!$A$1:$B$56,2,FALSE)),\"No Response\",VLOOKUP(tblSalaries[[#This Row],[Years of Experience]],vlookUpExp!$A$1:$B$56,2,FALSE))","v":"0-5"}]
[null,"ID0731","2012-05-26T15:07:39",35000,35000,"USD",{"$f":"tblSalaries[[#This Row],[clean Salary (in local currency)]]*VLOOKUP(tblSalaries[[#This Row],[Currency]],tblXrate[],2,FALSE)","v":35000},{"$f":"IF($H$1=\"USD\",tblSalaries[[#This Row],[Salary in USD]],tblSalaries[[#This Row],[Salary in USD]]*VLOOKUP($H$1,USDtoUserChoice,2,FALSE))","v":287069.30000000005},"Associate","Analyst","India",{"$f":"VLOOKUP(tblSalaries[[#This Row],[Where do you work]],tblCountries[[Actual]:[Mapping]],2,FALSE)","v":"India"},"4 to 6 hours a day",10,{"$f":"IF(ISNA(VLOOKUP(tblSalaries[[#This Row],[Years of Experience]],vlookUpExp!$A$1:$B$56,2,FALSE)),\"No Response\",VLOOKUP(tblSalaries[[#This Row],[Years of Experience]],vlookUpExp!$A$1:$B$56,2,FALSE))","v":"6-10"}]
[null,"ID0732","2012-05-26T15:09:27","Ind Rs.10,00,000.00",1000000,"INR",{"$f":"tblSalaries[[#This Row],[clean Salary (in local currency)]]*VLOOKUP(tblSalaries[[#This Row],[Currency]],tblXrate[],2,FALSE)","v":17807.916687442568},{"$f":"IF($H$1=\"USD\",tblSalaries[[#This Row],[Salary in USD]],tblSalaries[[#This Row],[Salary in USD]]*VLOOKUP($H$1,USDtoUserChoice,2,FALSE))","v":146060.1765120702},"Sr Associate","Analyst","India",{"$f":"VLOOKUP(tblSalaries[[#This Row],[Where do you work]],tblCountries[[Actual]:[Mapping]],2,FALSE)","v":"India"},"2 to 3 hours per day",12,{"$f":"IF(ISNA(VLOOKUP(tblSalaries[[#This Row],[Years of Experience]],vlookUpExp!$A$1:$B$56,2,FALSE)),\"No Response\",VLOOKUP(tblSalaries[[#This Row],[Years of Experience]],vlookUpExp!$A$1:$B$56,2,FALSE))","v":"11-15"}]
[null,"ID0733","2012-05-26T15:21:41",180000,180000,"INR",{"$f":"tblSalaries[[#This Row],[clean Salary (in local currency)]]*VLOOKUP(tblSalaries[[#This Row],[Currency]],tblXrate[],2,FALSE)","v":3205.4250037396623},{"$f":"IF($H$1=\"USD\",tblSalaries[[#This Row],[Salary in USD]],tblSalaries[[#This Row],[Salary in USD]]*VLOOKUP($H$1,USDtoUserChoice,2,FALSE))","v":26290.831772172638},"Accountant","Accountant","India",{"$f":"VLOOKUP(tblSalaries[[#This Row],[Where do you work]],tblCountries[[Actual]:[Mapping]],2,FALSE)","v":"India"},"All the 8 hours baby, all the 8!",4,{"$f":"IF(ISNA(VLOOKUP(tblSalaries[[#This Row],[Years of Experience]],vlookUpExp!$A$1:$B$56,2,FALSE)),\"No Response\",VLOOKUP(tblSalaries[[#This Row],[Years of Experience]],vlookUpExp!$A$1:$B$56,2,FALSE))","v":"0-5"}]
[null,"ID0734","2012-05-26T15:24:32",5000,60000,"USD",{"$f":"tblSalaries[[#This Row],[clean Salary (in local currency)]]*VLOOKUP(tblSalaries[[#This Row],[Currency]],tblXrate[],2,FALSE)","v":60000},{"$f":"IF($H$1=\"USD\",tblSalaries[[#This Row],[Salary in USD]],tblSalaries[[#This Row],[Salary in USD]]*VLOOKUP($H$1,USDtoUserChoice,2,FALSE))","v":492118.80000000005},"Manager","Manager","Russia",{"$f":"VLOOKUP(tblSalaries[[#This Row],[Where do you work]],tblCountries[[Actual]:[Mapping]],2,FALSE)","v":"Russia"},"4 to 6 hours a day",10,{"$f":"IF(ISNA(VLOOKUP(tblSalaries[[#This Row],[Years of Experience]],vlookUpExp!$A$1:$B$56,2,FALSE)),\"No Response\",VLOOKUP(tblSalaries[[#This Row],[Years of Experience]],vlookUpExp!$A$1:$B$56,2,FALSE))","v":"6-10"}]
[null,"ID0735","2012-05-26T15:27:48","8 Lakhs",800000,"INR",{"$f":"tblSalaries[[#This Row],[clean Salary (in local currency)]]*VLOOKUP(tblSalaries[[#This Row],[Currency]],tblXrate[],2,FALSE)","v":14246.333349954055},{"$f":"IF($H$1=\"USD\",tblSalaries[[#This Row],[Salary in USD]],tblSalaries[[#This Row],[Salary in USD]]*VLOOKUP($H$1,USDtoUserChoice,2,FALSE))","v":116848.14120965617},"Manager","Manager","India",{"$f":"VLOOKUP(tblSalaries[[#This Row],[Where do you work]],tblCountries[[Actual]:[Mapping]],2,FALSE)","v":"India"},"2 to 3 hours per day",13,{"$f":"IF(ISNA(VLOOKUP(tblSalaries[[#This Row],[Years of Experience]],vlookUpExp!$A$1:$B$56,2,FALSE)),\"No Response\",VLOOKUP(tblSalaries[[#This Row],[Years of Experience]],vlookUpExp!$A$1:$B$56,2,FALSE))","v":"11-15"}]
[null,"ID0736","2012-05-26T15:30:23","6 Lac Rs",600000,"INR",{"$f":"tblSalaries[[#This Row],[clean Salary (in local currency)]]*VLOOKUP(tblSalaries[[#This Row],[Currency]],tblXrate[],2,FALSE)","v":10684.750012465542},{"$f":"IF($H$1=\"USD\",tblSalaries[[#This Row],[Salary in USD]],tblSalaries[[#This Row],[Salary in USD]]*VLOOKUP($H$1,USDtoUserChoice,2,FALSE))","v":87636.105907242134},"ERP Co-Ordinator","Manager","India",{"$f":"VLOOKUP(tblSalaries[[#This Row],[Where do you work]],tblCountries[[Actual]:[Mapping]],2,FALSE)","v":"India"},"2 to 3 hours per day",8,{"$f":"IF(ISNA(VLOOKUP(tblSalaries[[#This Row],[Years of Experience]],vlookUpExp!$A$1:$B$56,2,FALSE)),\"No Response\",VLOOKUP(tblSalaries[[#This Row],[Years of Experience]],vlookUpExp!$A$1:$B$56,2,FALSE))","v":"6-10"}]
[null,"ID0737","2012-05-26T15:35:43",40000,40000,"USD",{"$f":"tblSalaries[[#This Row],[clean Salary (in local currency)]]*VLOOKUP(tblSalaries[[#This Row],[Currency]],tblXrate[],2,FALSE)","v":40000},{"$f":"IF($H$1=\"USD\",tblSalaries[[#This Row],[Salary in USD]],tblSalaries[[#This Row],[Salary in USD]]*VLOOKUP($H$1,USDtoUserChoice,2,FALSE))","v":328079.2},"Revenue Manager","Manager","India",{"$f":"VLOOKUP(tblSalaries[[#This Row],[Where do you work]],tblCountries[[Actual]:[Mapping]],2,FALSE)","v":"India"},"All the 8 hours baby, all the 8!",15,{"$f":"IF(ISNA(VLOOKUP(tblSalaries[[#This Row],[Years of Experience]],vlookUpExp!$A$1:$B$56,2,FALSE)),\"No Response\",VLOOKUP(tblSalaries[[#This Row],[Years of Experience]],vlookUpExp!$A$1:$B$56,2,FALSE))","v":"11-15"}]
[null,"ID0738","2012-05-26T15:44:32",5022,5022,"USD",{"$f":"tblSalaries[[#This Row],[clean Salary (in local currency)]]*VLOOKUP(tblSalaries[[#This Row],[Currency]],tblXrate[],2,FALSE)","v":5022},{"$f":"IF($H$1=\"USD\",tblSalaries[[#This Row],[Salary in USD]],tblSalaries[[#This Row],[Salary in USD]]*VLOOKUP($H$1,USDtoUserChoice,2,FALSE))","v":41190.343560000001},"Accounts analyst","Analyst","Pakistan",{"$f":"VLOOKUP(tblSalaries[[#This Row],[Where do you work]],tblCountries[[Actual]:[Mapping]],2,FALSE)","v":"Pakistan"},"4 to 6 hours a day",15,{"$f":"IF(ISNA(VLOOKUP(tblSalaries[[#This Row],[Years of Experience]],vlookUpExp!$A$1:$B$56,2,FALSE)),\"No Response\",VLOOKUP(tblSalaries[[#This Row],[Years of Experience]],vlookUpExp!$A$1:$B$56,2,FALSE))","v":"11-15"}]
[null,"ID0739","2012-05-26T15:51:11",410000,410000,"INR",{"$f":"tblSalaries[[#This Row],[clean Salary (in local currency)]]*VLOOKUP(tblSalaries[[#This Row],[Currency]],tblXrate[],2,FALSE)","v":7301.2458418514525},{"$f":"IF($H$1=\"USD\",tblSalaries[[#This Row],[Salary in USD]],tblSalaries[[#This Row],[Salary in USD]]*VLOOKUP($H$1,USDtoUserChoice,2,FALSE))","v":59884.672369948785},"MIS Analyst","Analyst","India",{"$f":"VLOOKUP(tblSalaries[[#This Row],[Where do you work]],tblCountries[[Actual]:[Mapping]],2,FALSE)","v":"India"},"All the 8 hours baby, all the 8!",5,{"$f":"IF(ISNA(VLOOKUP(tblSalaries[[#This Row],[Years of Experience]],vlookUpExp!$A$1:$B$56,2,FALSE)),\"No Response\",VLOOKUP(tblSalaries[[#This Row],[Years of Experience]],vlookUpExp!$A$1:$B$56,2,FALSE))","v":"0-5"}]
[null,"ID0740","2012-05-26T15:53:10",10000,120000,"EGYPT",{"$f":"tblSalaries[[#This Row],[clean Salary (in local currency)]]*VLOOKUP(tblSalaries[[#This Row],[Currency]],tblXrate[],2,FALSE)","v":19831.432821021317},{"$f":"IF($H$1=\"USD\",tblSalaries[[#This Row],[Salary in USD]],tblSalaries[[#This Row],[Salary in USD]]*VLOOKUP($H$1,USDtoUserChoice,2,FALSE))","v":162657.01536936042},"Estimator","Analyst","Egypt",{"$f":"VLOOKUP(tblSalaries[[#This Row],[Where do you work]],tblCountries[[Actual]:[Mapping]],2,FALSE)","v":"Egypt"},"All the 8 hours baby, all the 8!",5,{"$f":"IF(ISNA(VLOOKUP(tblSalaries[[#This Row],[Years of Experience]],vlookUpExp!$A$1:$B$56,2,FALSE)),\"No Response\",VLOOKUP(tblSalaries[[#This Row],[Years of Experience]],vlookUpExp!$A$1:$B$56,2,FALSE))","v":"0-5"}]
[null,"ID0741","2012-05-26T15:54:00","50 k per month",600000,"INR",{"$f":"tblSalaries[[#This Row],[clean Salary (in local currency)]]*VLOOKUP(tblSalaries[[#This Row],[Currency]],tblXrate[],2,FALSE)","v":10684.750012465542},{"$f":"IF($H$1=\"USD\",tblSalaries[[#This Row],[Salary in USD]],tblSalaries[[#This Row],[Salary in USD]]*VLOOKUP($H$1,USDtoUserChoice,2,FALSE))","v":87636.105907242134},"Finance Manager","Manager","India",{"$f":"VLOOKUP(tblSalaries[[#This Row],[Where do you work]],tblCountries[[Actual]:[Mapping]],2,FALSE)","v":"India"},"4 to 6 hours a day",5,{"$f":"IF(ISNA(VLOOKUP(tblSalaries[[#This Row],[Years of Experience]],vlookUpExp!$A$1:$B$56,2,FALSE)),\"No Response\",VLOOKUP(tblSalaries[[#This Row],[Years of Experience]],vlookUpExp!$A$1:$B$56,2,FALSE))","v":"0-5"}]
[null,"ID0742","2012-05-26T15:56:57","4800 $",4800,"USD",{"$f":"tblSalaries[[#This Row],[clean Salary (in local currency)]]*VLOOKUP(tblSalaries[[#This Row],[Currency]],tblXrate[],2,FALSE)","v":4800},{"$f":"IF($H$1=\"USD\",tblSalaries[[#This Row],[Salary in USD]],tblSalaries[[#This Row],[Salary in USD]]*VLOOKUP($H$1,USDtoUserChoice,2,FALSE))","v":39369.504000000001},"Data Analysis","Analyst","Bhutan",{"$f":"VLOOKUP(tblSalaries[[#This Row],[Where do you work]],tblCountries[[Actual]:[Mapping]],2,FALSE)","v":"Bhutan"},"4 to 6 hours a day",2,{"$f":"IF(ISNA(VLOOKUP(tblSalaries[[#This Row],[Years of Experience]],vlookUpExp!$A$1:$B$56,2,FALSE)),\"No Response\",VLOOKUP(tblSalaries[[#This Row],[Years of Experience]],vlookUpExp!$A$1:$B$56,2,FALSE))","v":"0-5"}]
[null,"ID0743","2012-05-26T15:59:44","66000 â‚¬",66000,"EUR",{"$f":"tblSalaries[[#This Row],[clean Salary (in local currency)]]*VLOOKUP(tblSalaries[[#This Row],[Currency]],tblXrate[],2,FALSE)","v":83846.362973446114},{"$f":"IF($H$1=\"USD\",tblSalaries[[#This Row],[Salary in USD]],tblSalaries[[#This Row],[Salary in USD]]*VLOOKUP($H$1,USDtoUserChoice,2,FALSE))","v":687706.19218094565},"Logistics Analyst","Analyst","germany",{"$f":"VLOOKUP(tblSalaries[[#This Row],[Where do you work]],tblCountries[[Actual]:[Mapping]],2,FALSE)","v":"Germany"},"4 to 6 hours a day",7,{"$f":"IF(ISNA(VLOOKUP(tblSalaries[[#This Row],[Years of Experience]],vlookUpExp!$A$1:$B$56,2,FALSE)),\"No Response\",VLOOKUP(tblSalaries[[#This Row],[Years of Experience]],vlookUpExp!$A$1:$B$56,2,FALSE))","v":"6-10"}]
[null,"ID0744","2012-05-26T16:01:54",15000,15000,"USD",{"$f":"tblSalaries[[#This Row],[clean Salary (in local currency)]]*VLOOKUP(tblSalaries[[#This Row],[Currency]],tblXrate[],2,FALSE)","v":15000},{"$f":"IF($H$1=\"USD\",tblSalaries[[#This Row],[Salary in USD]],tblSalaries[[#This Row],[Salary in USD]]*VLOOKUP($H$1,USDtoUserChoice,2,FALSE))","v":123029.70000000001},"PROCSS ASOCIATE","Controller","India",{"$f":"VLOOKUP(tblSalaries[[#This Row],[Where do you work]],tblCountries[[Actual]:[Mapping]],2,FALSE)","v":"India"},"2 to 3 hours per day",2,{"$f":"IF(ISNA(VLOOKUP(tblSalaries[[#This Row],[Years of Experience]],vlookUpExp!$A$1:$B$56,2,FALSE)),\"No Response\",VLOOKUP(tblSalaries[[#This Row],[Years of Experience]],vlookUpExp!$A$1:$B$56,2,FALSE))","v":"0-5"}]
[null,"ID0745","2012-05-26T16:05:02",10000,10000,"USD",{"$f":"tblSalaries[[#This Row],[clean Salary (in local currency)]]*VLOOKUP(tblSalaries[[#This Row],[Currency]],tblXrate[],2,FALSE)","v":10000},{"$f":"IF($H$1=\"USD\",tblSalaries[[#This Row],[Salary in USD]],tblSalaries[[#This Row],[Salary in USD]]*VLOOKUP($H$1,USDtoUserChoice,2,FALSE))","v":82019.8},"Reporting Analyst","Analyst","India",{"$f":"VLOOKUP(tblSalaries[[#This Row],[Where do you work]],tblCountries[[Actual]:[Mapping]],2,FALSE)","v":"India"},"4 to 6 hours a day",12,{"$f":"IF(ISNA(VLOOKUP(tblSalaries[[#This Row],[Years of Experience]],vlookUpExp!$A$1:$B$56,2,FALSE)),\"No Response\",VLOOKUP(tblSalaries[[#This Row],[Years of Experience]],vlookUpExp!$A$1:$B$56,2,FALSE))","v":"11-15"}]
[null,"ID0746","2012-05-26T16:10:08",74000,74000,"GBP",{"$f":"tblSalaries[[#This Row],[clean Salary (in local currency)]]*VLOOKUP(tblSalaries[[#This Row],[Currency]],tblXrate[],2,FALSE)","v":116637.19213297902},{"$f":"IF($H$1=\"USD\",tblSalaries[[#This Row],[Salary in USD]],tblSalaries[[#This Row],[Salary in USD]]*VLOOKUP($H$1,USDtoUserChoice,2,FALSE))","v":956655.9171308513},"Corporate Finance Manager","Manager","UK",{"$f":"VLOOKUP(tblSalaries[[#This Row],[Where do you work]],tblCountries[[Actual]:[Mapping]],2,FALSE)","v":"UK"},"4 to 6 hours a day",5,{"$f":"IF(ISNA(VLOOKUP(tblSalaries[[#This Row],[Years of Experience]],vlookUpExp!$A$1:$B$56,2,FALSE)),\"No Response\",VLOOKUP(tblSalaries[[#This Row],[Years of Experience]],vlookUpExp!$A$1:$B$56,2,FALSE))","v":"0-5"}]
[null,"ID0747","2012-05-26T16:12:09","GBP21798",21798,"GBP",{"$f":"tblSalaries[[#This Row],[clean Salary (in local currency)]]*VLOOKUP(tblSalaries[[#This Row],[Currency]],tblXrate[],2,FALSE)","v":34357.533974522659},{"$f":"IF($H$1=\"USD\",tblSalaries[[#This Row],[Salary in USD]],tblSalaries[[#This Row],[Salary in USD]]*VLOOKUP($H$1,USDtoUserChoice,2,FALSE))","v":281799.80650835537},"Data Analyst","Analyst","UK",{"$f":"VLOOKUP(tblSalaries[[#This Row],[Where do you work]],tblCountries[[Actual]:[Mapping]],2,FALSE)","v":"UK"},"All the 8 hours baby, all the 8!",1.5,{"$f":"IF(ISNA(VLOOKUP(tblSalaries[[#This Row],[Years of Experience]],vlookUpExp!$A$1:$B$56,2,FALSE)),\"No Response\",VLOOKUP(tblSalaries[[#This Row],[Years of Experience]],vlookUpExp!$A$1:$B$56,2,FALSE))","v":"0-5"}]
[null,"ID0748","2012-05-26T16:16:39",65000,65000,"GBP",{"$f":"tblSalaries[[#This Row],[clean Salary (in local currency)]]*VLOOKUP(tblSalaries[[#This Row],[Currency]],tblXrate[],2,FALSE)","v":102451.58768437347},{"$f":"IF($H$1=\"USD\",tblSalaries[[#This Row],[Salary in USD]],tblSalaries[[#This Row],[Salary in USD]]*VLOOKUP($H$1,USDtoUserChoice,2,FALSE))","v":840305.87315547757},"compliance manager","Manager","UK",{"$f":"VLOOKUP(tblSalaries[[#This Row],[Where do you work]],tblCountries[[Actual]:[Mapping]],2,FALSE)","v":"UK"},"4 to 6 hours a day",15,{"$f":"IF(ISNA(VLOOKUP(tblSalaries[[#This Row],[Years of Experience]],vlookUpExp!$A$1:$B$56,2,FALSE)),\"No Response\",VLOOKUP(tblSalaries[[#This Row],[Years of Experience]],vlookUpExp!$A$1:$B$56,2,FALSE))","v":"11-15"}]
[null,"ID0749","2012-05-26T16:23:30",16000,16000,"USD",{"$f":"tblSalaries[[#This Row],[clean Salary (in local currency)]]*VLOOKUP(tblSalaries[[#This Row],[Currency]],tblXrate[],2,FALSE)","v":16000},{"$f":"IF($H$1=\"USD\",tblSalaries[[#This Row],[Salary in USD]],tblSalaries[[#This Row],[Salary in USD]]*VLOOKUP($H$1,USDtoUserChoice,2,FALSE))","v":131231.68000000002},"Engineer","Engineer","India",{"$f":"VLOOKUP(tblSalaries[[#This Row],[Where do you work]],tblCountries[[Actual]:[Mapping]],2,FALSE)","v":"India"},"2 to 3 hours per day",5,{"$f":"IF(ISNA(VLOOKUP(tblSalaries[[#This Row],[Years of Experience]],vlookUpExp!$A$1:$B$56,2,FALSE)),\"No Response\",VLOOKUP(tblSalaries[[#This Row],[Years of Experience]],vlookUpExp!$A$1:$B$56,2,FALSE))","v":"0-5"}]
[null,"ID0750","2012-05-26T16:25:53",6000,6000,"USD",{"$f":"tblSalaries[[#This Row],[clean Salary (in local currency)]]*VLOOKUP(tblSalaries[[#This Row],[Currency]],tblXrate[],2,FALSE)","v":6000},{"$f":"IF($H$1=\"USD\",tblSalaries[[#This Row],[Salary in USD]],tblSalaries[[#This Row],[Salary in USD]]*VLOOKUP($H$1,USDtoUserChoice,2,FALSE))","v":49211.880000000005},"Merchandiser","Manager","India",{"$f":"VLOOKUP(tblSalaries[[#This Row],[Where do you work]],tblCountries[[Actual]:[Mapping]],2,FALSE)","v":"India"},"2 to 3 hours per day",6,{"$f":"IF(ISNA(VLOOKUP(tblSalaries[[#This Row],[Years of Experience]],vlookUpExp!$A$1:$B$56,2,FALSE)),\"No Response\",VLOOKUP(tblSalaries[[#This Row],[Years of Experience]],vlookUpExp!$A$1:$B$56,2,FALSE))","v":"6-10"}]
[null,"ID0751","2012-05-26T16:26:35","INR 30000",360000,"INR",{"$f":"tblSalaries[[#This Row],[clean Salary (in local currency)]]*VLOOKUP(tblSalaries[[#This Row],[Currency]],tblXrate[],2,FALSE)","v":6410.8500074793246},{"$f":"IF($H$1=\"USD\",tblSalaries[[#This Row],[Salary in USD]],tblSalaries[[#This Row],[Salary in USD]]*VLOOKUP($H$1,USDtoUserChoice,2,FALSE))","v":52581.663544345276},"Project Lead","Manager","India",{"$f":"VLOOKUP(tblSalaries[[#This Row],[Where do you work]],tblCountries[[Actual]:[Mapping]],2,FALSE)","v":"India"},"All the 8 hours baby, all the 8!",6,{"$f":"IF(ISNA(VLOOKUP(tblSalaries[[#This Row],[Years of Experience]],vlookUpExp!$A$1:$B$56,2,FALSE)),\"No Response\",VLOOKUP(tblSalaries[[#This Row],[Years of Experience]],vlookUpExp!$A$1:$B$56,2,FALSE))","v":"6-10"}]
[null,"ID0752","2012-05-26T16:29:36",36000,36000,"USD",{"$f":"tblSalaries[[#This Row],[clean Salary (in local currency)]]*VLOOKUP(tblSalaries[[#This Row],[Currency]],tblXrate[],2,FALSE)","v":36000},{"$f":"IF($H$1=\"USD\",tblSalaries[[#This Row],[Salary in USD]],tblSalaries[[#This Row],[Salary in USD]]*VLOOKUP($H$1,USDtoUserChoice,2,FALSE))","v":295271.28000000003},"ENGINEER","Engineer","uae",{"$f":"VLOOKUP(tblSalaries[[#This Row],[Where do you work]],tblCountries[[Actual]:[Mapping]],2,FALSE)","v":"UAE"},"1 or 2 hours a day",7,{"$f":"IF(ISNA(VLOOKUP(tblSalaries[[#This Row],[Years of Experience]],vlookUpExp!$A$1:$B$56,2,FALSE)),\"No Response\",VLOOKUP(tblSalaries[[#This Row],[Years of Experience]],vlookUpExp!$A$1:$B$56,2,FALSE))","v":"6-10"}]
[null,"ID0753","2012-05-26T16:33:58",20000,20000,"USD",{"$f":"tblSalaries[[#This Row],[clean Salary (in local currency)]]*VLOOKUP(tblSalaries[[#This Row],[Currency]],tblXrate[],2,FALSE)","v":20000},{"$f":"IF($H$1=\"USD\",tblSalaries[[#This Row],[Salary in USD]],tblSalaries[[#This Row],[Salary in USD]]*VLOOKUP($H$1,USDtoUserChoice,2,FALSE))","v":164039.6},"engineer","Engineer","India",{"$f":"VLOOKUP(tblSalaries[[#This Row],[Where do you work]],tblCountries[[Actual]:[Mapping]],2,FALSE)","v":"India"},"1 or 2 hours a day",7,{"$f":"IF(ISNA(VLOOKUP(tblSalaries[[#This Row],[Years of Experience]],vlookUpExp!$A$1:$B$56,2,FALSE)),\"No Response\",VLOOKUP(tblSalaries[[#This Row],[Years of Experience]],vlookUpExp!$A$1:$B$56,2,FALSE))","v":"6-10"}]
[null,"ID0754","2012-05-26T16:34:18","INR240000",240000,"INR",{"$f":"tblSalaries[[#This Row],[clean Salary (in local currency)]]*VLOOKUP(tblSalaries[[#This Row],[Currency]],tblXrate[],2,FALSE)","v":4273.9000049862161},{"$f":"IF($H$1=\"USD\",tblSalaries[[#This Row],[Salary in USD]],tblSalaries[[#This Row],[Salary in USD]]*VLOOKUP($H$1,USDtoUserChoice,2,FALSE))","v":35054.442362896851},"SR. ACCOUNTS EXECUTIVE","Accountant","India",{"$f":"VLOOKUP(tblSalaries[[#This Row],[Where do you work]],tblCountries[[Actual]:[Mapping]],2,FALSE)","v":"India"},"4 to 6 hours a day",8,{"$f":"IF(ISNA(VLOOKUP(tblSalaries[[#This Row],[Years of Experience]],vlookUpExp!$A$1:$B$56,2,FALSE)),\"No Response\",VLOOKUP(tblSalaries[[#This Row],[Years of Experience]],vlookUpExp!$A$1:$B$56,2,FALSE))","v":"6-10"}]
[null,"ID0755","2012-05-26T16:34:57","Â£ 24000",24000,"GBP",{"$f":"tblSalaries[[#This Row],[clean Salary (in local currency)]]*VLOOKUP(tblSalaries[[#This Row],[Currency]],tblXrate[],2,FALSE)","v":37828.278529614821},{"$f":"IF($H$1=\"USD\",tblSalaries[[#This Row],[Salary in USD]],tblSalaries[[#This Row],[Salary in USD]]*VLOOKUP($H$1,USDtoUserChoice,2,FALSE))","v":310266.78393433022},"Business Support Specialist","Specialist","UK",{"$f":"VLOOKUP(tblSalaries[[#This Row],[Where do you work]],tblCountries[[Actual]:[Mapping]],2,FALSE)","v":"UK"},"All the 8 hours baby, all the 8!",8,{"$f":"IF(ISNA(VLOOKUP(tblSalaries[[#This Row],[Years of Experience]],vlookUpExp!$A$1:$B$56,2,FALSE)),\"No Response\",VLOOKUP(tblSalaries[[#This Row],[Years of Experience]],vlookUpExp!$A$1:$B$56,2,FALSE))","v":"6-10"}]
[null,"ID0756","2012-05-26T16:50:08","US $ 11,000",11000,"USD",{"$f":"tblSalaries[[#This Row],[clean Salary (in local currency)]]*VLOOKUP(tblSalaries[[#This Row],[Currency]],tblXrate[],2,FALSE)","v":11000},{"$f":"IF($H$1=\"USD\",tblSalaries[[#This Row],[Salary in USD]],tblSalaries[[#This Row],[Salary in USD]]*VLOOKUP($H$1,USDtoUserChoice,2,FALSE))","v":90221.780000000013},"Assistant Manager - Group MIS","Manager","Sri Lanka",{"$f":"VLOOKUP(tblSalaries[[#This Row],[Where do you work]],tblCountries[[Actual]:[Mapping]],2,FALSE)","v":"Sri Lanka"},"All the 8 hours baby, all the 8!",4.5,{"$f":"IF(ISNA(VLOOKUP(tblSalaries[[#This Row],[Years of Experience]],vlookUpExp!$A$1:$B$56,2,FALSE)),\"No Response\",VLOOKUP(tblSalaries[[#This Row],[Years of Experience]],vlookUpExp!$A$1:$B$56,2,FALSE))","v":"0-5"}]
[null,"ID0757","2012-05-26T16:50:46",8000,8000,"USD",{"$f":"tblSalaries[[#This Row],[clean Salary (in local currency)]]*VLOOKUP(tblSalaries[[#This Row],[Currency]],tblXrate[],2,FALSE)","v":8000},{"$f":"IF($H$1=\"USD\",tblSalaries[[#This Row],[Salary in USD]],tblSalaries[[#This Row],[Salary in USD]]*VLOOKUP($H$1,USDtoUserChoice,2,FALSE))","v":65615.840000000011},"Business Analyst","Analyst","India",{"$f":"VLOOKUP(tblSalaries[[#This Row],[Where do you work]],tblCountries[[Actual]:[Mapping]],2,FALSE)","v":"India"},"2 to 3 hours per day",6,{"$f":"IF(ISNA(VLOOKUP(tblSalaries[[#This Row],[Years of Experience]],vlookUpExp!$A$1:$B$56,2,FALSE)),\"No Response\",VLOOKUP(tblSalaries[[#This Row],[Years of Experience]],vlookUpExp!$A$1:$B$56,2,FALSE))","v":"6-10"}]
[null,"ID0758","2012-05-26T17:02:46","Rs. 225000",225000,"INR",{"$f":"tblSalaries[[#This Row],[clean Salary (in local currency)]]*VLOOKUP(tblSalaries[[#This Row],[Currency]],tblXrate[],2,FALSE)","v":4006.7812546745777},{"$f":"IF($H$1=\"USD\",tblSalaries[[#This Row],[Salary in USD]],tblSalaries[[#This Row],[Salary in USD]]*VLOOKUP($H$1,USDtoUserChoice,2,FALSE))","v":32863.539715215797},"MIS Executive","Reporting","India",{"$f":"VLOOKUP(tblSalaries[[#This Row],[Where do you work]],tblCountries[[Actual]:[Mapping]],2,FALSE)","v":"India"},"All the 8 hours baby, all the 8!",5.5,{"$f":"IF(ISNA(VLOOKUP(tblSalaries[[#This Row],[Years of Experience]],vlookUpExp!$A$1:$B$56,2,FALSE)),\"No Response\",VLOOKUP(tblSalaries[[#This Row],[Years of Experience]],vlookUpExp!$A$1:$B$56,2,FALSE))","v":"0-5"}]
[null,"ID0759","2012-05-26T17:03:02",1488000,1488000,"NAIRA",{"$f":"tblSalaries[[#This Row],[clean Salary (in local currency)]]*VLOOKUP(tblSalaries[[#This Row],[Currency]],tblXrate[],2,FALSE)","v":9171.0323574730355},{"$f":"IF($H$1=\"USD\",tblSalaries[[#This Row],[Salary in USD]],tblSalaries[[#This Row],[Salary in USD]]*VLOOKUP($H$1,USDtoUserChoice,2,FALSE))","v":75220.623975346694},"Company Systems Integration Manager","Manager","Nigeria",{"$f":"VLOOKUP(tblSalaries[[#This Row],[Where do you work]],tblCountries[[Actual]:[Mapping]],2,FALSE)","v":"Nigeria"},"2 to 3 hours per day",5,{"$f":"IF(ISNA(VLOOKUP(tblSalaries[[#This Row],[Years of Experience]],vlookUpExp!$A$1:$B$56,2,FALSE)),\"No Response\",VLOOKUP(tblSalaries[[#This Row],[Years of Experience]],vlookUpExp!$A$1:$B$56,2,FALSE))","v":"0-5"}]
[null,"ID0760","2012-05-26T17:03:26","INR 20000",240000,"INR",{"$f":"tblSalaries[[#This Row],[clean Salary (in local currency)]]*VLOOKUP(tblSalaries[[#This Row],[Currency]],tblXrate[],2,FALSE)","v":4273.9000049862161},{"$f":"IF($H$1=\"USD\",tblSalaries[[#This Row],[Salary in USD]],tblSalaries[[#This Row],[Salary in USD]]*VLOOKUP($H$1,USDtoUserChoice,2,FALSE))","v":35054.442362896851},"EXECUTIVE","Analyst","India",{"$f":"VLOOKUP(tblSalaries[[#This Row],[Where do you work]],tblCountries[[Actual]:[Mapping]],2,FALSE)","v":"India"},"2 to 3 hours per day",20,{"$f":"IF(ISNA(VLOOKUP(tblSalaries[[#This Row],[Years of Experience]],vlookUpExp!$A$1:$B$56,2,FALSE)),\"No Response\",VLOOKUP(tblSalaries[[#This Row],[Years of Experience]],vlookUpExp!$A$1:$B$56,2,FALSE))","v":"16-20"}]
[null,"ID0761","2012-05-26T17:04:23","INR 700000",700000,"INR",{"$f":"tblSalaries[[#This Row],[clean Salary (in local currency)]]*VLOOKUP(tblSalaries[[#This Row],[Currency]],tblXrate[],2,FALSE)","v":12465.541681209797},{"$f":"IF($H$1=\"USD\",tblSalaries[[#This Row],[Salary in USD]],tblSalaries[[#This Row],[Salary in USD]]*VLOOKUP($H$1,USDtoUserChoice,2,FALSE))","v":102242.12355844914},"Sales Management Analyst","Analyst","India",{"$f":"VLOOKUP(tblSalaries[[#This Row],[Where do you work]],tblCountries[[Actual]:[Mapping]],2,FALSE)","v":"India"},"All the 8 hours baby, all the 8!",5,{"$f":"IF(ISNA(VLOOKUP(tblSalaries[[#This Row],[Years of Experience]],vlookUpExp!$A$1:$B$56,2,FALSE)),\"No Response\",VLOOKUP(tblSalaries[[#This Row],[Years of Experience]],vlookUpExp!$A$1:$B$56,2,FALSE))","v":"0-5"}]
[null,"ID0762","2012-05-26T17:06:48",2000,24000,"USD",{"$f":"tblSalaries[[#This Row],[clean Salary (in local currency)]]*VLOOKUP(tblSalaries[[#This Row],[Currency]],tblXrate[],2,FALSE)","v":24000},{"$f":"IF($H$1=\"USD\",tblSalaries[[#This Row],[Salary in USD]],tblSalaries[[#This Row],[Salary in USD]]*VLOOKUP($H$1,USDtoUserChoice,2,FALSE))","v":196847.52000000002},"Asst Production Planner","Analyst","India",{"$f":"VLOOKUP(tblSalaries[[#This Row],[Where do you work]],tblCountries[[Actual]:[Mapping]],2,FALSE)","v":"India"},"2 to 3 hours per day",1,{"$f":"IF(ISNA(VLOOKUP(tblSalaries[[#This Row],[Years of Experience]],vlookUpExp!$A$1:$B$56,2,FALSE)),\"No Response\",VLOOKUP(tblSalaries[[#This Row],[Years of Experience]],vlookUpExp!$A$1:$B$56,2,FALSE))","v":"0-5"}]
[null,"ID0763","2012-05-26T17:07:30",20000,20000,"USD",{"$f":"tblSalaries[[#This Row],[clean Salary (in local currency)]]*VLOOKUP(tblSalaries[[#This Row],[Currency]],tblXrate[],2,FALSE)","v":20000},{"$f":"IF($H$1=\"USD\",tblSalaries[[#This Row],[Salary in USD]],tblSalaries[[#This Row],[Salary in USD]]*VLOOKUP($H$1,USDtoUserChoice,2,FALSE))","v":164039.6},"Consultat","Consultant","Denmark",{"$f":"VLOOKUP(tblSalaries[[#This Row],[Where do you work]],tblCountries[[Actual]:[Mapping]],2,FALSE)","v":"Denmark"},"2 to 3 hours per day",15,{"$f":"IF(ISNA(VLOOKUP(tblSalaries[[#This Row],[Years of Experience]],vlookUpExp!$A$1:$B$56,2,FALSE)),\"No Response\",VLOOKUP(tblSalaries[[#This Row],[Years of Experience]],vlookUpExp!$A$1:$B$56,2,FALSE))","v":"11-15"}]
[null,"ID0764","2012-05-26T17:08:09",62000,62000,"USD",{"$f":"tblSalaries[[#This Row],[clean Salary (in local currency)]]*VLOOKUP(tblSalaries[[#This Row],[Currency]],tblXrate[],2,FALSE)","v":62000},{"$f":"IF($H$1=\"USD\",tblSalaries[[#This Row],[Salary in USD]],tblSalaries[[#This Row],[Salary in USD]]*VLOOKUP($H$1,USDtoUserChoice,2,FALSE))","v":508522.76000000007},"System Analyst ","Analyst","USA",{"$f":"VLOOKUP(tblSalaries[[#This Row],[Where do you work]],tblCountries[[Actual]:[Mapping]],2,FALSE)","v":"USA"},"2 to 3 hours per day",20,{"$f":"IF(ISNA(VLOOKUP(tblSalaries[[#This Row],[Years of Experience]],vlookUpExp!$A$1:$B$56,2,FALSE)),\"No Response\",VLOOKUP(tblSalaries[[#This Row],[Years of Experience]],vlookUpExp!$A$1:$B$56,2,FALSE))","v":"16-20"}]
[null,"ID0765","2012-05-26T17:09:24","14960 $",14960,"USD",{"$f":"tblSalaries[[#This Row],[clean Salary (in local currency)]]*VLOOKUP(tblSalaries[[#This Row],[Currency]],tblXrate[],2,FALSE)","v":14960},{"$f":"IF($H$1=\"USD\",tblSalaries[[#This Row],[Salary in USD]],tblSalaries[[#This Row],[Salary in USD]]*VLOOKUP($H$1,USDtoUserChoice,2,FALSE))","v":122701.6208},"Stock Controller","Controller","Saudi Arabia",{"$f":"VLOOKUP(tblSalaries[[#This Row],[Where do you work]],tblCountries[[Actual]:[Mapping]],2,FALSE)","v":"Saudi Arabia"},"All the 8 hours baby, all the 8!",2,{"$f":"IF(ISNA(VLOOKUP(tblSalaries[[#This Row],[Years of Experience]],vlookUpExp!$A$1:$B$56,2,FALSE)),\"No Response\",VLOOKUP(tblSalaries[[#This Row],[Years of Experience]],vlookUpExp!$A$1:$B$56,2,FALSE))","v":"0-5"}]
[null,"ID0766","2012-05-26T17:10:20",120000,120000,"INR",{"$f":"tblSalaries[[#This Row],[clean Salary (in local currency)]]*VLOOKUP(tblSalaries[[#This Row],[Currency]],tblXrate[],2,FALSE)","v":2136.9500024931081},{"$f":"IF($H$1=\"USD\",tblSalaries[[#This Row],[Salary in USD]],tblSalaries[[#This Row],[Salary in USD]]*VLOOKUP($H$1,USDtoUserChoice,2,FALSE))","v":17527.221181448425},"ACCOUNTANT","Accountant","India",{"$f":"VLOOKUP(tblSalaries[[#This Row],[Where do you work]],tblCountries[[Actual]:[Mapping]],2,FALSE)","v":"India"},"2 to 3 hours per day",2,{"$f":"IF(ISNA(VLOOKUP(tblSalaries[[#This Row],[Years of Experience]],vlookUpExp!$A$1:$B$56,2,FALSE)),\"No Response\",VLOOKUP(tblSalaries[[#This Row],[Years of Experience]],vlookUpExp!$A$1:$B$56,2,FALSE))","v":"0-5"}]
[null,"ID0767","2012-05-26T17:24:41",30232,30232,"USD",{"$f":"tblSalaries[[#This Row],[clean Salary (in local currency)]]*VLOOKUP(tblSalaries[[#This Row],[Currency]],tblXrate[],2,FALSE)","v":30232},{"$f":"IF($H$1=\"USD\",tblSalaries[[#This Row],[Salary in USD]],tblSalaries[[#This Row],[Salary in USD]]*VLOOKUP($H$1,USDtoUserChoice,2,FALSE))","v":247962.25936000003},"Accounts Supervisor","Accountant","KSA",{"$f":"VLOOKUP(tblSalaries[[#This Row],[Where do you work]],tblCountries[[Actual]:[Mapping]],2,FALSE)","v":"USA"},"2 to 3 hours per day",5,{"$f":"IF(ISNA(VLOOKUP(tblSalaries[[#This Row],[Years of Experience]],vlookUpExp!$A$1:$B$56,2,FALSE)),\"No Response\",VLOOKUP(tblSalaries[[#This Row],[Years of Experience]],vlookUpExp!$A$1:$B$56,2,FALSE))","v":"0-5"}]
[null,"ID0768","2012-05-26T17:24:41",41000,41000,"USD",{"$f":"tblSalaries[[#This Row],[clean Salary (in local currency)]]*VLOOKUP(tblSalaries[[#This Row],[Currency]],tblXrate[],2,FALSE)","v":41000},{"$f":"IF($H$1=\"USD\",tblSalaries[[#This Row],[Salary in USD]],tblSalaries[[#This Row],[Salary in USD]]*VLOOKUP($H$1,USDtoUserChoice,2,FALSE))","v":336281.18000000005},"Business Analyst","Analyst","USA",{"$f":"VLOOKUP(tblSalaries[[#This Row],[Where do you work]],tblCountries[[Actual]:[Mapping]],2,FALSE)","v":"USA"},"All the 8 hours baby, all the 8!",4,{"$f":"IF(ISNA(VLOOKUP(tblSalaries[[#This Row],[Years of Experience]],vlookUpExp!$A$1:$B$56,2,FALSE)),\"No Response\",VLOOKUP(tblSalaries[[#This Row],[Years of Experience]],vlookUpExp!$A$1:$B$56,2,FALSE))","v":"0-5"}]
[null,"ID0769","2012-05-26T17:31:56","95000 AUD",95000,"AUD",{"$f":"tblSalaries[[#This Row],[clean Salary (in local currency)]]*VLOOKUP(tblSalaries[[#This Row],[Currency]],tblXrate[],2,FALSE)","v":96891.417358250401},{"$f":"IF($H$1=\"USD\",tblSalaries[[#This Row],[Salary in USD]],tblSalaries[[#This Row],[Salary in USD]]*VLOOKUP($H$1,USDtoUserChoice,2,FALSE))","v":794701.46734402271},"Data Analyst - Report Writer","Analyst","Australia",{"$f":"VLOOKUP(tblSalaries[[#This Row],[Where do you work]],tblCountries[[Actual]:[Mapping]],2,FALSE)","v":"Australia"},"2 to 3 hours per day",11,{"$f":"IF(ISNA(VLOOKUP(tblSalaries[[#This Row],[Years of Experience]],vlookUpExp!$A$1:$B$56,2,FALSE)),\"No Response\",VLOOKUP(tblSalaries[[#This Row],[Years of Experience]],vlookUpExp!$A$1:$B$56,2,FALSE))","v":"11-15"}]
[null,"ID0770","2012-05-26T17:44:34","Rs 1200000",1200000,"INR",{"$f":"tblSalaries[[#This Row],[clean Salary (in local currency)]]*VLOOKUP(tblSalaries[[#This Row],[Currency]],tblXrate[],2,FALSE)","v":21369.500024931083},{"$f":"IF($H$1=\"USD\",tblSalaries[[#This Row],[Salary in USD]],tblSalaries[[#This Row],[Salary in USD]]*VLOOKUP($H$1,USDtoUserChoice,2,FALSE))","v":175272.21181448427},"Regional Formwork Head ","Manager","India",{"$f":"VLOOKUP(tblSalaries[[#This Row],[Where do you work]],tblCountries[[Actual]:[Mapping]],2,FALSE)","v":"India"},"All the 8 hours baby, all the 8!",14,{"$f":"IF(ISNA(VLOOKUP(tblSalaries[[#This Row],[Years of Experience]],vlookUpExp!$A$1:$B$56,2,FALSE)),\"No Response\",VLOOKUP(tblSalaries[[#This Row],[Years of Experience]],vlookUpExp!$A$1:$B$56,2,FALSE))","v":"11-15"}]
[null,"ID0771","2012-05-26T17:47:00",205000,205000,"INR",{"$f":"tblSalaries[[#This Row],[clean Salary (in local currency)]]*VLOOKUP(tblSalaries[[#This Row],[Currency]],tblXrate[],2,FALSE)","v":3650.6229209257262},{"$f":"IF($H$1=\"USD\",tblSalaries[[#This Row],[Salary in USD]],tblSalaries[[#This Row],[Salary in USD]]*VLOOKUP($H$1,USDtoUserChoice,2,FALSE))","v":29942.336184974392},"BRANCH ACCOUNTANT","Accountant","India",{"$f":"VLOOKUP(tblSalaries[[#This Row],[Where do you work]],tblCountries[[Actual]:[Mapping]],2,FALSE)","v":"India"},"All the 8 hours baby, all the 8!",10,{"$f":"IF(ISNA(VLOOKUP(tblSalaries[[#This Row],[Years of Experience]],vlookUpExp!$A$1:$B$56,2,FALSE)),\"No Response\",VLOOKUP(tblSalaries[[#This Row],[Years of Experience]],vlookUpExp!$A$1:$B$56,2,FALSE))","v":"6-10"}]
[null,"ID0772","2012-05-26T17:47:10","$1,589.00/per month",19068,"USD",{"$f":"tblSalaries[[#This Row],[clean Salary (in local currency)]]*VLOOKUP(tblSalaries[[#This Row],[Currency]],tblXrate[],2,FALSE)","v":19068},{"$f":"IF($H$1=\"USD\",tblSalaries[[#This Row],[Salary in USD]],tblSalaries[[#This Row],[Salary in USD]]*VLOOKUP($H$1,USDtoUserChoice,2,FALSE))","v":156395.35464000001},"Accounting Head","Accountant","Philippines",{"$f":"VLOOKUP(tblSalaries[[#This Row],[Where do you work]],tblCountries[[Actual]:[Mapping]],2,FALSE)","v":"Philippines"},"All the 8 hours baby, all the 8!",20,{"$f":"IF(ISNA(VLOOKUP(tblSalaries[[#This Row],[Years of Experience]],vlookUpExp!$A$1:$B$56,2,FALSE)),\"No Response\",VLOOKUP(tblSalaries[[#This Row],[Years of Experience]],vlookUpExp!$A$1:$B$56,2,FALSE))","v":"16-20"}]
[null,"ID0773","2012-05-26T17:49:17","Rs. 300000",300000,"INR",{"$f":"tblSalaries[[#This Row],[clean Salary (in local currency)]]*VLOOKUP(tblSalaries[[#This Row],[Currency]],tblXrate[],2,FALSE)","v":5342.3750062327708},{"$f":"IF($H$1=\"USD\",tblSalaries[[#This Row],[Salary in USD]],tblSalaries[[#This Row],[Salary in USD]]*VLOOKUP($H$1,USDtoUserChoice,2,FALSE))","v":43818.052953621067},"OPEX CONTROL","Controller","India",{"$f":"VLOOKUP(tblSalaries[[#This Row],[Where do you work]],tblCountries[[Actual]:[Mapping]],2,FALSE)","v":"India"},"All the 8 hours baby, all the 8!",4,{"$f":"IF(ISNA(VLOOKUP(tblSalaries[[#This Row],[Years of Experience]],vlookUpExp!$A$1:$B$56,2,FALSE)),\"No Response\",VLOOKUP(tblSalaries[[#This Row],[Years of Experience]],vlookUpExp!$A$1:$B$56,2,FALSE))","v":"0-5"}]
[null,"ID0774","2012-05-26T17:51:27",48000,48000,"USD",{"$f":"tblSalaries[[#This Row],[clean Salary (in local currency)]]*VLOOKUP(tblSalaries[[#This Row],[Currency]],tblXrate[],2,FALSE)","v":48000},{"$f":"IF($H$1=\"USD\",tblSalaries[[#This Row],[Salary in USD]],tblSalaries[[#This Row],[Salary in USD]]*VLOOKUP($H$1,USDtoUserChoice,2,FALSE))","v":393695.04000000004},"Consultant","Consultant","Singapore",{"$f":"VLOOKUP(tblSalaries[[#This Row],[Where do you work]],tblCountries[[Actual]:[Mapping]],2,FALSE)","v":"Singapore"},"All the 8 hours baby, all the 8!",3,{"$f":"IF(ISNA(VLOOKUP(tblSalaries[[#This Row],[Years of Experience]],vlookUpExp!$A$1:$B$56,2,FALSE)),\"No Response\",VLOOKUP(tblSalaries[[#This Row],[Years of Experience]],vlookUpExp!$A$1:$B$56,2,FALSE))","v":"0-5"}]
[null,"ID0775","2012-05-26T18:19:49","2.2 lakhs per annum",220000,"INR",{"$f":"tblSalaries[[#This Row],[clean Salary (in local currency)]]*VLOOKUP(tblSalaries[[#This Row],[Currency]],tblXrate[],2,FALSE)","v":3917.7416712373652},{"$f":"IF($H$1=\"USD\",tblSalaries[[#This Row],[Salary in USD]],tblSalaries[[#This Row],[Salary in USD]]*VLOOKUP($H$1,USDtoUserChoice,2,FALSE))","v":32133.238832655446},"Associate Software Engineer","Engineer","India",{"$f":"VLOOKUP(tblSalaries[[#This Row],[Where do you work]],tblCountries[[Actual]:[Mapping]],2,FALSE)","v":"India"},"4 to 6 hours a day",2,{"$f":"IF(ISNA(VLOOKUP(tblSalaries[[#This Row],[Years of Experience]],vlookUpExp!$A$1:$B$56,2,FALSE)),\"No Response\",VLOOKUP(tblSalaries[[#This Row],[Years of Experience]],vlookUpExp!$A$1:$B$56,2,FALSE))","v":"0-5"}]
[null,"ID0776","2012-05-26T18:29:06",13500,13500,"USD",{"$f":"tblSalaries[[#This Row],[clean Salary (in local currency)]]*VLOOKUP(tblSalaries[[#This Row],[Currency]],tblXrate[],2,FALSE)","v":13500},{"$f":"IF($H$1=\"USD\",tblSalaries[[#This Row],[Salary in USD]],tblSalaries[[#This Row],[Salary in USD]]*VLOOKUP($H$1,USDtoUserChoice,2,FALSE))","v":110726.73000000001},"MIS","Reporting","India",{"$f":"VLOOKUP(tblSalaries[[#This Row],[Where do you work]],tblCountries[[Actual]:[Mapping]],2,FALSE)","v":"India"},"All the 8 hours baby, all the 8!",2.5,{"$f":"IF(ISNA(VLOOKUP(tblSalaries[[#This Row],[Years of Experience]],vlookUpExp!$A$1:$B$56,2,FALSE)),\"No Response\",VLOOKUP(tblSalaries[[#This Row],[Years of Experience]],vlookUpExp!$A$1:$B$56,2,FALSE))","v":"0-5"}]
[null,"ID0777","2012-05-26T18:35:20","45000 $",45000,"USD",{"$f":"tblSalaries[[#This Row],[clean Salary (in local currency)]]*VLOOKUP(tblSalaries[[#This Row],[Currency]],tblXrate[],2,FALSE)","v":45000},{"$f":"IF($H$1=\"USD\",tblSalaries[[#This Row],[Salary in USD]],tblSalaries[[#This Row],[Salary in USD]]*VLOOKUP($H$1,USDtoUserChoice,2,FALSE))","v":369089.10000000003},"AGM","Manager","India",{"$f":"VLOOKUP(tblSalaries[[#This Row],[Where do you work]],tblCountries[[Actual]:[Mapping]],2,FALSE)","v":"India"},"1 or 2 hours a day",15,{"$f":"IF(ISNA(VLOOKUP(tblSalaries[[#This Row],[Years of Experience]],vlookUpExp!$A$1:$B$56,2,FALSE)),\"No Response\",VLOOKUP(tblSalaries[[#This Row],[Years of Experience]],vlookUpExp!$A$1:$B$56,2,FALSE))","v":"11-15"}]
[null,"ID0778","2012-05-26T18:38:41",55000,55000,"EUR",{"$f":"tblSalaries[[#This Row],[clean Salary (in local currency)]]*VLOOKUP(tblSalaries[[#This Row],[Currency]],tblXrate[],2,FALSE)","v":69871.969144538423},{"$f":"IF($H$1=\"USD\",tblSalaries[[#This Row],[Salary in USD]],tblSalaries[[#This Row],[Salary in USD]]*VLOOKUP($H$1,USDtoUserChoice,2,FALSE))","v":573088.49348412128},"CFO","CXO or Top Mgmt.","italy",{"$f":"VLOOKUP(tblSalaries[[#This Row],[Where do you work]],tblCountries[[Actual]:[Mapping]],2,FALSE)","v":"italy"},"2 to 3 hours per day",18,{"$f":"IF(ISNA(VLOOKUP(tblSalaries[[#This Row],[Years of Experience]],vlookUpExp!$A$1:$B$56,2,FALSE)),\"No Response\",VLOOKUP(tblSalaries[[#This Row],[Years of Experience]],vlookUpExp!$A$1:$B$56,2,FALSE))","v":"16-20"}]
[null,"ID0779","2012-05-26T18:41:31","Rs 40000",480000,"INR",{"$f":"tblSalaries[[#This Row],[clean Salary (in local currency)]]*VLOOKUP(tblSalaries[[#This Row],[Currency]],tblXrate[],2,FALSE)","v":8547.8000099724322},{"$f":"IF($H$1=\"USD\",tblSalaries[[#This Row],[Salary in USD]],tblSalaries[[#This Row],[Salary in USD]]*VLOOKUP($H$1,USDtoUserChoice,2,FALSE))","v":70108.884725793701},"Banker","Manager","India",{"$f":"VLOOKUP(tblSalaries[[#This Row],[Where do you work]],tblCountries[[Actual]:[Mapping]],2,FALSE)","v":"India"},"4 to 6 hours a day",11,{"$f":"IF(ISNA(VLOOKUP(tblSalaries[[#This Row],[Years of Experience]],vlookUpExp!$A$1:$B$56,2,FALSE)),\"No Response\",VLOOKUP(tblSalaries[[#This Row],[Years of Experience]],vlookUpExp!$A$1:$B$56,2,FALSE))","v":"11-15"}]
[null,"ID0780","2012-05-26T18:44:00","Dhs 2800 + Accomodation",33600,"AED",{"$f":"tblSalaries[[#This Row],[clean Salary (in local currency)]]*VLOOKUP(tblSalaries[[#This Row],[Currency]],tblXrate[],2,FALSE)","v":9146.5655463031271},{"$f":"IF($H$1=\"USD\",tblSalaries[[#This Row],[Salary in USD]],tblSalaries[[#This Row],[Salary in USD]]*VLOOKUP($H$1,USDtoUserChoice,2,FALSE))","v":75019.947679467325},"Accountant","Accountant","Dubai",{"$f":"VLOOKUP(tblSalaries[[#This Row],[Where do you work]],tblCountries[[Actual]:[Mapping]],2,FALSE)","v":"Dubai"},"1 or 2 hours a day",7,{"$f":"IF(ISNA(VLOOKUP(tblSalaries[[#This Row],[Years of Experience]],vlookUpExp!$A$1:$B$56,2,FALSE)),\"No Response\",VLOOKUP(tblSalaries[[#This Row],[Years of Experience]],vlookUpExp!$A$1:$B$56,2,FALSE))","v":"6-10"}]
[null,"ID0781","2012-05-26T18:56:52",570000,570000,"INR",{"$f":"tblSalaries[[#This Row],[clean Salary (in local currency)]]*VLOOKUP(tblSalaries[[#This Row],[Currency]],tblXrate[],2,FALSE)","v":10150.512511842264},{"$f":"IF($H$1=\"USD\",tblSalaries[[#This Row],[Salary in USD]],tblSalaries[[#This Row],[Salary in USD]]*VLOOKUP($H$1,USDtoUserChoice,2,FALSE))","v":83254.300611880011},"Analyst","Analyst","India",{"$f":"VLOOKUP(tblSalaries[[#This Row],[Where do you work]],tblCountries[[Actual]:[Mapping]],2,FALSE)","v":"India"},"All the 8 hours baby, all the 8!",2.4,{"$f":"IF(ISNA(VLOOKUP(tblSalaries[[#This Row],[Years of Experience]],vlookUpExp!$A$1:$B$56,2,FALSE)),\"No Response\",VLOOKUP(tblSalaries[[#This Row],[Years of Experience]],vlookUpExp!$A$1:$B$56,2,FALSE))","v":"0-5"}]
[null,"ID0782","2012-05-26T19:07:55",636000,636000,"INR",{"$f":"tblSalaries[[#This Row],[clean Salary (in local currency)]]*VLOOKUP(tblSalaries[[#This Row],[Currency]],tblXrate[],2,FALSE)","v":11325.835013213473},{"$f":"IF($H$1=\"USD\",tblSalaries[[#This Row],[Salary in USD]],tblSalaries[[#This Row],[Salary in USD]]*VLOOKUP($H$1,USDtoUserChoice,2,FALSE))","v":92894.272261676655},"Program Manager","Manager","India",{"$f":"VLOOKUP(tblSalaries[[#This Row],[Where do you work]],tblCountries[[Actual]:[Mapping]],2,FALSE)","v":"India"},"4 to 6 hours a day",7,{"$f":"IF(ISNA(VLOOKUP(tblSalaries[[#This Row],[Years of Experience]],vlookUpExp!$A$1:$B$56,2,FALSE)),\"No Response\",VLOOKUP(tblSalaries[[#This Row],[Years of Experience]],vlookUpExp!$A$1:$B$56,2,FALSE))","v":"6-10"}]
[null,"ID0783","2012-05-26T19:13:39","180000 PKR",180000,"PKR",{"$f":"tblSalaries[[#This Row],[clean Salary (in local currency)]]*VLOOKUP(tblSalaries[[#This Row],[Currency]],tblXrate[],2,FALSE)","v":1910.5359690238436},{"$f":"IF($H$1=\"USD\",tblSalaries[[#This Row],[Salary in USD]],tblSalaries[[#This Row],[Salary in USD]]*VLOOKUP($H$1,USDtoUserChoice,2,FALSE))","v":15670.177807214186},"S&D Reporting & Analysis Team Leader","Reporting","Pakistan",{"$f":"VLOOKUP(tblSalaries[[#This Row],[Where do you work]],tblCountries[[Actual]:[Mapping]],2,FALSE)","v":"Pakistan"},"All the 8 hours baby, all the 8!",7,{"$f":"IF(ISNA(VLOOKUP(tblSalaries[[#This Row],[Years of Experience]],vlookUpExp!$A$1:$B$56,2,FALSE)),\"No Response\",VLOOKUP(tblSalaries[[#This Row],[Years of Experience]],vlookUpExp!$A$1:$B$56,2,FALSE))","v":"6-10"}]
[null,"ID0784","2012-05-26T19:22:53","AUS$36000",36000,"USD",{"$f":"tblSalaries[[#This Row],[clean Salary (in local currency)]]*VLOOKUP(tblSalaries[[#This Row],[Currency]],tblXrate[],2,FALSE)","v":36000},{"$f":"IF($H$1=\"USD\",tblSalaries[[#This Row],[Salary in USD]],tblSalaries[[#This Row],[Salary in USD]]*VLOOKUP($H$1,USDtoUserChoice,2,FALSE))","v":295271.28000000003},"Key Expert User","Manager","Australia",{"$f":"VLOOKUP(tblSalaries[[#This Row],[Where do you work]],tblCountries[[Actual]:[Mapping]],2,FALSE)","v":"Australia"},"2 to 3 hours per day",12,{"$f":"IF(ISNA(VLOOKUP(tblSalaries[[#This Row],[Years of Experience]],vlookUpExp!$A$1:$B$56,2,FALSE)),\"No Response\",VLOOKUP(tblSalaries[[#This Row],[Years of Experience]],vlookUpExp!$A$1:$B$56,2,FALSE))","v":"11-15"}]
[null,"ID0785","2012-05-26T19:29:23","2.25 lakhs per year(prof income)",2250000,"INR",{"$f":"tblSalaries[[#This Row],[clean Salary (in local currency)]]*VLOOKUP(tblSalaries[[#This Row],[Currency]],tblXrate[],2,FALSE)","v":40067.812546745779},{"$f":"IF($H$1=\"USD\",tblSalaries[[#This Row],[Salary in USD]],tblSalaries[[#This Row],[Salary in USD]]*VLOOKUP($H$1,USDtoUserChoice,2,FALSE))","v":328635.39715215797},"company secretary","Accountant","India",{"$f":"VLOOKUP(tblSalaries[[#This Row],[Where do you work]],tblCountries[[Actual]:[Mapping]],2,FALSE)","v":"India"},"1 or 2 hours a day",5,{"$f":"IF(ISNA(VLOOKUP(tblSalaries[[#This Row],[Years of Experience]],vlookUpExp!$A$1:$B$56,2,FALSE)),\"No Response\",VLOOKUP(tblSalaries[[#This Row],[Years of Experience]],vlookUpExp!$A$1:$B$56,2,FALSE))","v":"0-5"}]
[null,"ID0786","2012-05-26T19:29:34",16000,16000,"USD",{"$f":"tblSalaries[[#This Row],[clean Salary (in local currency)]]*VLOOKUP(tblSalaries[[#This Row],[Currency]],tblXrate[],2,FALSE)","v":16000},{"$f":"IF($H$1=\"USD\",tblSalaries[[#This Row],[Salary in USD]],tblSalaries[[#This Row],[Salary in USD]]*VLOOKUP($H$1,USDtoUserChoice,2,FALSE))","v":131231.68000000002},"Mis executiv","Reporting","India",{"$f":"VLOOKUP(tblSalaries[[#This Row],[Where do you work]],tblCountries[[Actual]:[Mapping]],2,FALSE)","v":"India"},"All the 8 hours baby, all the 8!",1,{"$f":"IF(ISNA(VLOOKUP(tblSalaries[[#This Row],[Years of Experience]],vlookUpExp!$A$1:$B$56,2,FALSE)),\"No Response\",VLOOKUP(tblSalaries[[#This Row],[Years of Experience]],vlookUpExp!$A$1:$B$56,2,FALSE))","v":"0-5"}]
[null,"ID0787","2012-05-26T19:34:12",240000,240000,"INR",{"$f":"tblSalaries[[#This Row],[clean Salary (in local currency)]]*VLOOKUP(tblSalaries[[#This Row],[Currency]],tblXrate[],2,FALSE)","v":4273.9000049862161},{"$f":"IF($H$1=\"USD\",tblSalaries[[#This Row],[Salary in USD]],tblSalaries[[#This Row],[Salary in USD]]*VLOOKUP($H$1,USDtoUserChoice,2,FALSE))","v":35054.442362896851},"Analyst","Analyst","India",{"$f":"VLOOKUP(tblSalaries[[#This Row],[Where do you work]],tblCountries[[Actual]:[Mapping]],2,FALSE)","v":"India"},"All the 8 hours baby, all the 8!",4,{"$f":"IF(ISNA(VLOOKUP(tblSalaries[[#This Row],[Years of Experience]],vlookUpExp!$A$1:$B$56,2,FALSE)),\"No Response\",VLOOKUP(tblSalaries[[#This Row],[Years of Experience]],vlookUpExp!$A$1:$B$56,2,FALSE))","v":"0-5"}]
[null,"ID0788","2012-05-26T19:43:36","INR 400000",400000,"INR",{"$f":"tblSalaries[[#This Row],[clean Salary (in local currency)]]*VLOOKUP(tblSalaries[[#This Row],[Currency]],tblXrate[],2,FALSE)","v":7123.1666749770275},{"$f":"IF($H$1=\"USD\",tblSalaries[[#This Row],[Salary in USD]],tblSalaries[[#This Row],[Salary in USD]]*VLOOKUP($H$1,USDtoUserChoice,2,FALSE))","v":58424.070604828084},"Asst.Manager","Manager","India",{"$f":"VLOOKUP(tblSalaries[[#This Row],[Where do you work]],tblCountries[[Actual]:[Mapping]],2,FALSE)","v":"India"},"4 to 6 hours a day",7,{"$f":"IF(ISNA(VLOOKUP(tblSalaries[[#This Row],[Years of Experience]],vlookUpExp!$A$1:$B$56,2,FALSE)),\"No Response\",VLOOKUP(tblSalaries[[#This Row],[Years of Experience]],vlookUpExp!$A$1:$B$56,2,FALSE))","v":"6-10"}]
[null,"ID0789","2012-05-26T20:08:21",10000,10000,"USD",{"$f":"tblSalaries[[#This Row],[clean Salary (in local currency)]]*VLOOKUP(tblSalaries[[#This Row],[Currency]],tblXrate[],2,FALSE)","v":10000},{"$f":"IF($H$1=\"USD\",tblSalaries[[#This Row],[Salary in USD]],tblSalaries[[#This Row],[Salary in USD]]*VLOOKUP($H$1,USDtoUserChoice,2,FALSE))","v":82019.8},"BDM","Manager","India",{"$f":"VLOOKUP(tblSalaries[[#This Row],[Where do you work]],tblCountries[[Actual]:[Mapping]],2,FALSE)","v":"India"},"1 or 2 hours a day",12,{"$f":"IF(ISNA(VLOOKUP(tblSalaries[[#This Row],[Years of Experience]],vlookUpExp!$A$1:$B$56,2,FALSE)),\"No Response\",VLOOKUP(tblSalaries[[#This Row],[Years of Experience]],vlookUpExp!$A$1:$B$56,2,FALSE))","v":"11-15"}]
[null,"ID0790","2012-05-26T20:16:28","CA$66000",66000,"CAD",{"$f":"tblSalaries[[#This Row],[clean Salary (in local currency)]]*VLOOKUP(tblSalaries[[#This Row],[Currency]],tblXrate[],2,FALSE)","v":64901.860520001574},{"$f":"IF($H$1=\"USD\",tblSalaries[[#This Row],[Salary in USD]],tblSalaries[[#This Row],[Salary in USD]]*VLOOKUP($H$1,USDtoUserChoice,2,FALSE))","v":532323.76194784255},"Programmer-analyst","Analyst","Canada",{"$f":"VLOOKUP(tblSalaries[[#This Row],[Where do you work]],tblCountries[[Actual]:[Mapping]],2,FALSE)","v":"Canada"},"2 to 3 hours per day",20,{"$f":"IF(ISNA(VLOOKUP(tblSalaries[[#This Row],[Years of Experience]],vlookUpExp!$A$1:$B$56,2,FALSE)),\"No Response\",VLOOKUP(tblSalaries[[#This Row],[Years of Experience]],vlookUpExp!$A$1:$B$56,2,FALSE))","v":"16-20"}]
[null,"ID0791","2012-05-26T20:19:36",65000,65000,"USD",{"$f":"tblSalaries[[#This Row],[clean Salary (in local currency)]]*VLOOKUP(tblSalaries[[#This Row],[Currency]],tblXrate[],2,FALSE)","v":65000},{"$f":"IF($H$1=\"USD\",tblSalaries[[#This Row],[Salary in USD]],tblSalaries[[#This Row],[Salary in USD]]*VLOOKUP($H$1,USDtoUserChoice,2,FALSE))","v":533128.70000000007},"security analyst","Analyst","USA",{"$f":"VLOOKUP(tblSalaries[[#This Row],[Where do you work]],tblCountries[[Actual]:[Mapping]],2,FALSE)","v":"USA"},"2 to 3 hours per day",10,{"$f":"IF(ISNA(VLOOKUP(tblSalaries[[#This Row],[Years of Experience]],vlookUpExp!$A$1:$B$56,2,FALSE)),\"No Response\",VLOOKUP(tblSalaries[[#This Row],[Years of Experience]],vlookUpExp!$A$1:$B$56,2,FALSE))","v":"6-10"}]
[null,"ID0792","2012-05-26T20:20:34","Rs 450000",450000,"INR",{"$f":"tblSalaries[[#This Row],[clean Salary (in local currency)]]*VLOOKUP(tblSalaries[[#This Row],[Currency]],tblXrate[],2,FALSE)","v":8013.5625093491553},{"$f":"IF($H$1=\"USD\",tblSalaries[[#This Row],[Salary in USD]],tblSalaries[[#This Row],[Salary in USD]]*VLOOKUP($H$1,USDtoUserChoice,2,FALSE))","v":65727.079430431593},"Material Planner","Manager","India",{"$f":"VLOOKUP(tblSalaries[[#This Row],[Where do you work]],tblCountries[[Actual]:[Mapping]],2,FALSE)","v":"India"},"All the 8 hours baby, all the 8!",1.5,{"$f":"IF(ISNA(VLOOKUP(tblSalaries[[#This Row],[Years of Experience]],vlookUpExp!$A$1:$B$56,2,FALSE)),\"No Response\",VLOOKUP(tblSalaries[[#This Row],[Years of Experience]],vlookUpExp!$A$1:$B$56,2,FALSE))","v":"0-5"}]
[null,"ID0793","2012-05-26T20:27:19",100000,100000,"CAD",{"$f":"tblSalaries[[#This Row],[clean Salary (in local currency)]]*VLOOKUP(tblSalaries[[#This Row],[Currency]],tblXrate[],2,FALSE)","v":98336.152303032693},{"$f":"IF($H$1=\"USD\",tblSalaries[[#This Row],[Salary in USD]],tblSalaries[[#This Row],[Salary in USD]]*VLOOKUP($H$1,USDtoUserChoice,2,FALSE))","v":806551.15446642821},"VP Infrastructure","CXO or Top Mgmt.","Canada",{"$f":"VLOOKUP(tblSalaries[[#This Row],[Where do you work]],tblCountries[[Actual]:[Mapping]],2,FALSE)","v":"Canada"},"4 to 6 hours a day",5,{"$f":"IF(ISNA(VLOOKUP(tblSalaries[[#This Row],[Years of Experience]],vlookUpExp!$A$1:$B$56,2,FALSE)),\"No Response\",VLOOKUP(tblSalaries[[#This Row],[Years of Experience]],vlookUpExp!$A$1:$B$56,2,FALSE))","v":"0-5"}]
[null,"ID0794","2012-05-26T20:31:30","ONE LACK FIFTY THOUSAND(INR)",150000,"INR",{"$f":"tblSalaries[[#This Row],[clean Salary (in local currency)]]*VLOOKUP(tblSalaries[[#This Row],[Currency]],tblXrate[],2,FALSE)","v":2671.1875031163854},{"$f":"IF($H$1=\"USD\",tblSalaries[[#This Row],[Salary in USD]],tblSalaries[[#This Row],[Salary in USD]]*VLOOKUP($H$1,USDtoUserChoice,2,FALSE))","v":21909.026476810533},"WORKING WITH PRODUCT TEAM OF MAKEMYTRIP.COM","Analyst","India",{"$f":"VLOOKUP(tblSalaries[[#This Row],[Where do you work]],tblCountries[[Actual]:[Mapping]],2,FALSE)","v":"India"},"4 to 6 hours a day",2,{"$f":"IF(ISNA(VLOOKUP(tblSalaries[[#This Row],[Years of Experience]],vlookUpExp!$A$1:$B$56,2,FALSE)),\"No Response\",VLOOKUP(tblSalaries[[#This Row],[Years of Experience]],vlookUpExp!$A$1:$B$56,2,FALSE))","v":"0-5"}]
[null,"ID0795","2012-05-26T20:50:07",96000,96000,"USD",{"$f":"tblSalaries[[#This Row],[clean Salary (in local currency)]]*VLOOKUP(tblSalaries[[#This Row],[Currency]],tblXrate[],2,FALSE)","v":96000},{"$f":"IF($H$1=\"USD\",tblSalaries[[#This Row],[Salary in USD]],tblSalaries[[#This Row],[Salary in USD]]*VLOOKUP($H$1,USDtoUserChoice,2,FALSE))","v":787390.08000000007},"MIS Executive","Reporting","India",{"$f":"VLOOKUP(tblSalaries[[#This Row],[Where do you work]],tblCountries[[Actual]:[Mapping]],2,FALSE)","v":"India"},"All the 8 hours baby, all the 8!",8,{"$f":"IF(ISNA(VLOOKUP(tblSalaries[[#This Row],[Years of Experience]],vlookUpExp!$A$1:$B$56,2,FALSE)),\"No Response\",VLOOKUP(tblSalaries[[#This Row],[Years of Experience]],vlookUpExp!$A$1:$B$56,2,FALSE))","v":"6-10"}]
[null,"ID0796","2012-05-26T20:57:13","Rs. 8000",1152000,"INR",{"$f":"tblSalaries[[#This Row],[clean Salary (in local currency)]]*VLOOKUP(tblSalaries[[#This Row],[Currency]],tblXrate[],2,FALSE)","v":20514.720023933838},{"$f":"IF($H$1=\"USD\",tblSalaries[[#This Row],[Salary in USD]],tblSalaries[[#This Row],[Salary in USD]]*VLOOKUP($H$1,USDtoUserChoice,2,FALSE))","v":168261.32334190488},"Cashier","Accountant","India",{"$f":"VLOOKUP(tblSalaries[[#This Row],[Where do you work]],tblCountries[[Actual]:[Mapping]],2,FALSE)","v":"India"},"4 to 6 hours a day",6,{"$f":"IF(ISNA(VLOOKUP(tblSalaries[[#This Row],[Years of Experience]],vlookUpExp!$A$1:$B$56,2,FALSE)),\"No Response\",VLOOKUP(tblSalaries[[#This Row],[Years of Experience]],vlookUpExp!$A$1:$B$56,2,FALSE))","v":"6-10"}]
[null,"ID0797","2012-05-26T20:57:17",15000,15000,"EUR",{"$f":"tblSalaries[[#This Row],[clean Salary (in local currency)]]*VLOOKUP(tblSalaries[[#This Row],[Currency]],tblXrate[],2,FALSE)","v":19055.991584874118},{"$f":"IF($H$1=\"USD\",tblSalaries[[#This Row],[Salary in USD]],tblSalaries[[#This Row],[Salary in USD]]*VLOOKUP($H$1,USDtoUserChoice,2,FALSE))","v":156296.86185930585},"Technician","Analyst","Spain",{"$f":"VLOOKUP(tblSalaries[[#This Row],[Where do you work]],tblCountries[[Actual]:[Mapping]],2,FALSE)","v":"Spain"},"2 to 3 hours per day",10,{"$f":"IF(ISNA(VLOOKUP(tblSalaries[[#This Row],[Years of Experience]],vlookUpExp!$A$1:$B$56,2,FALSE)),\"No Response\",VLOOKUP(tblSalaries[[#This Row],[Years of Experience]],vlookUpExp!$A$1:$B$56,2,FALSE))","v":"6-10"}]
[null,"ID0798","2012-05-26T21:00:40","Aud 65000",65000,"AUD",{"$f":"tblSalaries[[#This Row],[clean Salary (in local currency)]]*VLOOKUP(tblSalaries[[#This Row],[Currency]],tblXrate[],2,FALSE)","v":66294.12766617132},{"$f":"IF($H$1=\"USD\",tblSalaries[[#This Row],[Salary in USD]],tblSalaries[[#This Row],[Salary in USD]]*VLOOKUP($H$1,USDtoUserChoice,2,FALSE))","v":543743.10923538392},"Market analyst","Analyst","Australia",{"$f":"VLOOKUP(tblSalaries[[#This Row],[Where do you work]],tblCountries[[Actual]:[Mapping]],2,FALSE)","v":"Australia"},"All the 8 hours baby, all the 8!",10,{"$f":"IF(ISNA(VLOOKUP(tblSalaries[[#This Row],[Years of Experience]],vlookUpExp!$A$1:$B$56,2,FALSE)),\"No Response\",VLOOKUP(tblSalaries[[#This Row],[Years of Experience]],vlookUpExp!$A$1:$B$56,2,FALSE))","v":"6-10"}]
[null,"ID0799","2012-05-26T21:05:35","Rs. 377000",377000,"INR",{"$f":"tblSalaries[[#This Row],[clean Salary (in local currency)]]*VLOOKUP(tblSalaries[[#This Row],[Currency]],tblXrate[],2,FALSE)","v":6713.584591165848},{"$f":"IF($H$1=\"USD\",tblSalaries[[#This Row],[Salary in USD]],tblSalaries[[#This Row],[Salary in USD]]*VLOOKUP($H$1,USDtoUserChoice,2,FALSE))","v":55064.68654505047},"Team Developer","Analyst","India",{"$f":"VLOOKUP(tblSalaries[[#This Row],[Where do you work]],tblCountries[[Actual]:[Mapping]],2,FALSE)","v":"India"},"1 or 2 hours a day",7,{"$f":"IF(ISNA(VLOOKUP(tblSalaries[[#This Row],[Years of Experience]],vlookUpExp!$A$1:$B$56,2,FALSE)),\"No Response\",VLOOKUP(tblSalaries[[#This Row],[Years of Experience]],vlookUpExp!$A$1:$B$56,2,FALSE))","v":"6-10"}]
[null,"ID0800","2012-05-26T21:07:14","Â£29000",29000,"GBP",{"$f":"tblSalaries[[#This Row],[clean Salary (in local currency)]]*VLOOKUP(tblSalaries[[#This Row],[Currency]],tblXrate[],2,FALSE)","v":45709.169889951241},{"$f":"IF($H$1=\"USD\",tblSalaries[[#This Row],[Salary in USD]],tblSalaries[[#This Row],[Salary in USD]]*VLOOKUP($H$1,USDtoUserChoice,2,FALSE))","v":374905.6972539823},"Reporting Assistant","Reporting","UK",{"$f":"VLOOKUP(tblSalaries[[#This Row],[Where do you work]],tblCountries[[Actual]:[Mapping]],2,FALSE)","v":"UK"},"2 to 3 hours per day",15,{"$f":"IF(ISNA(VLOOKUP(tblSalaries[[#This Row],[Years of Experience]],vlookUpExp!$A$1:$B$56,2,FALSE)),\"No Response\",VLOOKUP(tblSalaries[[#This Row],[Years of Experience]],vlookUpExp!$A$1:$B$56,2,FALSE))","v":"11-15"}]
[null,"ID0801","2012-05-26T21:10:20",48500,48500,"USD",{"$f":"tblSalaries[[#This Row],[clean Salary (in local currency)]]*VLOOKUP(tblSalaries[[#This Row],[Currency]],tblXrate[],2,FALSE)","v":48500},{"$f":"IF($H$1=\"USD\",tblSalaries[[#This Row],[Salary in USD]],tblSalaries[[#This Row],[Salary in USD]]*VLOOKUP($H$1,USDtoUserChoice,2,FALSE))","v":397796.03},"Loss Prevention Finance Coordinator","Manager","USA",{"$f":"VLOOKUP(tblSalaries[[#This Row],[Where do you work]],tblCountries[[Actual]:[Mapping]],2,FALSE)","v":"USA"},"2 to 3 hours per day",10,{"$f":"IF(ISNA(VLOOKUP(tblSalaries[[#This Row],[Years of Experience]],vlookUpExp!$A$1:$B$56,2,FALSE)),\"No Response\",VLOOKUP(tblSalaries[[#This Row],[Years of Experience]],vlookUpExp!$A$1:$B$56,2,FALSE))","v":"6-10"}]
[null,"ID0802","2012-05-26T21:13:02",600000,600000,"INR",{"$f":"tblSalaries[[#This Row],[clean Salary (in local currency)]]*VLOOKUP(tblSalaries[[#This Row],[Currency]],tblXrate[],2,FALSE)","v":10684.750012465542},{"$f":"IF($H$1=\"USD\",tblSalaries[[#This Row],[Salary in USD]],tblSalaries[[#This Row],[Salary in USD]]*VLOOKUP($H$1,USDtoUserChoice,2,FALSE))","v":87636.105907242134},"MIS Analyst","Analyst","India",{"$f":"VLOOKUP(tblSalaries[[#This Row],[Where do you work]],tblCountries[[Actual]:[Mapping]],2,FALSE)","v":"India"},"All the 8 hours baby, all the 8!",4,{"$f":"IF(ISNA(VLOOKUP(tblSalaries[[#This Row],[Years of Experience]],vlookUpExp!$A$1:$B$56,2,FALSE)),\"No Response\",VLOOKUP(tblSalaries[[#This Row],[Years of Experience]],vlookUpExp!$A$1:$B$56,2,FALSE))","v":"0-5"}]
[null,"ID0803","2012-05-26T21:13:51",33900,33900,"USD",{"$f":"tblSalaries[[#This Row],[clean Salary (in local currency)]]*VLOOKUP(tblSalaries[[#This Row],[Currency]],tblXrate[],2,FALSE)","v":33900},{"$f":"IF($H$1=\"USD\",tblSalaries[[#This Row],[Salary in USD]],tblSalaries[[#This Row],[Salary in USD]]*VLOOKUP($H$1,USDtoUserChoice,2,FALSE))","v":278047.12200000003},"Administrative Assistant","Analyst","USA",{"$f":"VLOOKUP(tblSalaries[[#This Row],[Where do you work]],tblCountries[[Actual]:[Mapping]],2,FALSE)","v":"USA"},"2 to 3 hours per day",10,{"$f":"IF(ISNA(VLOOKUP(tblSalaries[[#This Row],[Years of Experience]],vlookUpExp!$A$1:$B$56,2,FALSE)),\"No Response\",VLOOKUP(tblSalaries[[#This Row],[Years of Experience]],vlookUpExp!$A$1:$B$56,2,FALSE))","v":"6-10"}]
[null,"ID0804","2012-05-26T21:24:39","ZAR900,000",900000,"ZAR",{"$f":"tblSalaries[[#This Row],[clean Salary (in local currency)]]*VLOOKUP(tblSalaries[[#This Row],[Currency]],tblXrate[],2,FALSE)","v":109729.60187662003},{"$f":"IF($H$1=\"USD\",tblSalaries[[#This Row],[Salary in USD]],tblSalaries[[#This Row],[Salary in USD]]*VLOOKUP($H$1,USDtoUserChoice,2,FALSE))","v":900000},"Business Analyst","Analyst","South Africa",{"$f":"VLOOKUP(tblSalaries[[#This Row],[Where do you work]],tblCountries[[Actual]:[Mapping]],2,FALSE)","v":"South Africa"},"All the 8 hours baby, all the 8!",40,{"$f":"IF(ISNA(VLOOKUP(tblSalaries[[#This Row],[Years of Experience]],vlookUpExp!$A$1:$B$56,2,FALSE)),\"No Response\",VLOOKUP(tblSalaries[[#This Row],[Years of Experience]],vlookUpExp!$A$1:$B$56,2,FALSE))","v":"36-40"}]
[null,"ID0805","2012-05-26T21:27:01",850000,850000,"INR",{"$f":"tblSalaries[[#This Row],[clean Salary (in local currency)]]*VLOOKUP(tblSalaries[[#This Row],[Currency]],tblXrate[],2,FALSE)","v":15136.729184326183},{"$f":"IF($H$1=\"USD\",tblSalaries[[#This Row],[Salary in USD]],tblSalaries[[#This Row],[Salary in USD]]*VLOOKUP($H$1,USDtoUserChoice,2,FALSE))","v":124151.15003525968},"Senior Research Analyst","Analyst","India",{"$f":"VLOOKUP(tblSalaries[[#This Row],[Where do you work]],tblCountries[[Actual]:[Mapping]],2,FALSE)","v":"India"},"4 to 6 hours a day",2,{"$f":"IF(ISNA(VLOOKUP(tblSalaries[[#This Row],[Years of Experience]],vlookUpExp!$A$1:$B$56,2,FALSE)),\"No Response\",VLOOKUP(tblSalaries[[#This Row],[Years of Experience]],vlookUpExp!$A$1:$B$56,2,FALSE))","v":"0-5"}]
[null,"ID0806","2012-05-26T21:27:17",85000,85000,"USD",{"$f":"tblSalaries[[#This Row],[clean Salary (in local currency)]]*VLOOKUP(tblSalaries[[#This Row],[Currency]],tblXrate[],2,FALSE)","v":85000},{"$f":"IF($H$1=\"USD\",tblSalaries[[#This Row],[Salary in USD]],tblSalaries[[#This Row],[Salary in USD]]*VLOOKUP($H$1,USDtoUserChoice,2,FALSE))","v":697168.3},"Director, IT/Operations","CXO or Top Mgmt.","USA",{"$f":"VLOOKUP(tblSalaries[[#This Row],[Where do you work]],tblCountries[[Actual]:[Mapping]],2,FALSE)","v":"USA"},"4 to 6 hours a day",15,{"$f":"IF(ISNA(VLOOKUP(tblSalaries[[#This Row],[Years of Experience]],vlookUpExp!$A$1:$B$56,2,FALSE)),\"No Response\",VLOOKUP(tblSalaries[[#This Row],[Years of Experience]],vlookUpExp!$A$1:$B$56,2,FALSE))","v":"11-15"}]
[null,"ID0807","2012-05-26T21:40:49","Rs. 450000",450000,"INR",{"$f":"tblSalaries[[#This Row],[clean Salary (in local currency)]]*VLOOKUP(tblSalaries[[#This Row],[Currency]],tblXrate[],2,FALSE)","v":8013.5625093491553},{"$f":"IF($H$1=\"USD\",tblSalaries[[#This Row],[Salary in USD]],tblSalaries[[#This Row],[Salary in USD]]*VLOOKUP($H$1,USDtoUserChoice,2,FALSE))","v":65727.079430431593},"Sr. Executive","Manager","India",{"$f":"VLOOKUP(tblSalaries[[#This Row],[Where do you work]],tblCountries[[Actual]:[Mapping]],2,FALSE)","v":"India"},"4 to 6 hours a day",6,{"$f":"IF(ISNA(VLOOKUP(tblSalaries[[#This Row],[Years of Experience]],vlookUpExp!$A$1:$B$56,2,FALSE)),\"No Response\",VLOOKUP(tblSalaries[[#This Row],[Years of Experience]],vlookUpExp!$A$1:$B$56,2,FALSE))","v":"6-10"}]
[null,"ID0808","2012-05-26T21:43:54",48000,48000,"USD",{"$f":"tblSalaries[[#This Row],[clean Salary (in local currency)]]*VLOOKUP(tblSalaries[[#This Row],[Currency]],tblXrate[],2,FALSE)","v":48000},{"$f":"IF($H$1=\"USD\",tblSalaries[[#This Row],[Salary in USD]],tblSalaries[[#This Row],[Salary in USD]]*VLOOKUP($H$1,USDtoUserChoice,2,FALSE))","v":393695.04000000004},"Operations Support Coordinator","Manager","USA",{"$f":"VLOOKUP(tblSalaries[[#This Row],[Where do you work]],tblCountries[[Actual]:[Mapping]],2,FALSE)","v":"USA"},"2 to 3 hours per day",16,{"$f":"IF(ISNA(VLOOKUP(tblSalaries[[#This Row],[Years of Experience]],vlookUpExp!$A$1:$B$56,2,FALSE)),\"No Response\",VLOOKUP(tblSalaries[[#This Row],[Years of Experience]],vlookUpExp!$A$1:$B$56,2,FALSE))","v":"16-20"}]
[null,"ID0809","2012-05-26T21:56:36",170000,170000,"INR",{"$f":"tblSalaries[[#This Row],[clean Salary (in local currency)]]*VLOOKUP(tblSalaries[[#This Row],[Currency]],tblXrate[],2,FALSE)","v":3027.3458368652364},{"$f":"IF($H$1=\"USD\",tblSalaries[[#This Row],[Salary in USD]],tblSalaries[[#This Row],[Salary in USD]]*VLOOKUP($H$1,USDtoUserChoice,2,FALSE))","v":24830.230007051934},"Sr. Executive MIS","Reporting","India",{"$f":"VLOOKUP(tblSalaries[[#This Row],[Where do you work]],tblCountries[[Actual]:[Mapping]],2,FALSE)","v":"India"},"4 to 6 hours a day",2,{"$f":"IF(ISNA(VLOOKUP(tblSalaries[[#This Row],[Years of Experience]],vlookUpExp!$A$1:$B$56,2,FALSE)),\"No Response\",VLOOKUP(tblSalaries[[#This Row],[Years of Experience]],vlookUpExp!$A$1:$B$56,2,FALSE))","v":"0-5"}]
[null,"ID0810","2012-05-26T21:56:49",13100,13100,"USD",{"$f":"tblSalaries[[#This Row],[clean Salary (in local currency)]]*VLOOKUP(tblSalaries[[#This Row],[Currency]],tblXrate[],2,FALSE)","v":13100},{"$f":"IF($H$1=\"USD\",tblSalaries[[#This Row],[Salary in USD]],tblSalaries[[#This Row],[Salary in USD]]*VLOOKUP($H$1,USDtoUserChoice,2,FALSE))","v":107445.93800000001},"accountant","Accountant","India",{"$f":"VLOOKUP(tblSalaries[[#This Row],[Where do you work]],tblCountries[[Actual]:[Mapping]],2,FALSE)","v":"India"},"2 to 3 hours per day",5,{"$f":"IF(ISNA(VLOOKUP(tblSalaries[[#This Row],[Years of Experience]],vlookUpExp!$A$1:$B$56,2,FALSE)),\"No Response\",VLOOKUP(tblSalaries[[#This Row],[Years of Experience]],vlookUpExp!$A$1:$B$56,2,FALSE))","v":"0-5"}]
[null,"ID0811","2012-05-26T22:02:53",5000,60000,"USD",{"$f":"tblSalaries[[#This Row],[clean Salary (in local currency)]]*VLOOKUP(tblSalaries[[#This Row],[Currency]],tblXrate[],2,FALSE)","v":60000},{"$f":"IF($H$1=\"USD\",tblSalaries[[#This Row],[Salary in USD]],tblSalaries[[#This Row],[Salary in USD]]*VLOOKUP($H$1,USDtoUserChoice,2,FALSE))","v":492118.80000000005},"Audit Manager","Manager","UAE",{"$f":"VLOOKUP(tblSalaries[[#This Row],[Where do you work]],tblCountries[[Actual]:[Mapping]],2,FALSE)","v":"UAE"},"2 to 3 hours per day",15,{"$f":"IF(ISNA(VLOOKUP(tblSalaries[[#This Row],[Years of Experience]],vlookUpExp!$A$1:$B$56,2,FALSE)),\"No Response\",VLOOKUP(tblSalaries[[#This Row],[Years of Experience]],vlookUpExp!$A$1:$B$56,2,FALSE))","v":"11-15"}]
[null,"ID0812","2012-05-26T22:07:39","24000 $",24000,"USD",{"$f":"tblSalaries[[#This Row],[clean Salary (in local currency)]]*VLOOKUP(tblSalaries[[#This Row],[Currency]],tblXrate[],2,FALSE)","v":24000},{"$f":"IF($H$1=\"USD\",tblSalaries[[#This Row],[Salary in USD]],tblSalaries[[#This Row],[Salary in USD]]*VLOOKUP($H$1,USDtoUserChoice,2,FALSE))","v":196847.52000000002},"Logistic KA Manager","Manager","Croatia",{"$f":"VLOOKUP(tblSalaries[[#This Row],[Where do you work]],tblCountries[[Actual]:[Mapping]],2,FALSE)","v":"Croatia"},"2 to 3 hours per day",5,{"$f":"IF(ISNA(VLOOKUP(tblSalaries[[#This Row],[Years of Experience]],vlookUpExp!$A$1:$B$56,2,FALSE)),\"No Response\",VLOOKUP(tblSalaries[[#This Row],[Years of Experience]],vlookUpExp!$A$1:$B$56,2,FALSE))","v":"0-5"}]
[null,"ID0813","2012-05-26T22:08:56","Rs 20000",240000,"INR",{"$f":"tblSalaries[[#This Row],[clean Salary (in local currency)]]*VLOOKUP(tblSalaries[[#This Row],[Currency]],tblXrate[],2,FALSE)","v":4273.9000049862161},{"$f":"IF($H$1=\"USD\",tblSalaries[[#This Row],[Salary in USD]],tblSalaries[[#This Row],[Salary in USD]]*VLOOKUP($H$1,USDtoUserChoice,2,FALSE))","v":35054.442362896851},"MANAGER","Manager","India",{"$f":"VLOOKUP(tblSalaries[[#This Row],[Where do you work]],tblCountries[[Actual]:[Mapping]],2,FALSE)","v":"India"},"2 to 3 hours per day",3,{"$f":"IF(ISNA(VLOOKUP(tblSalaries[[#This Row],[Years of Experience]],vlookUpExp!$A$1:$B$56,2,FALSE)),\"No Response\",VLOOKUP(tblSalaries[[#This Row],[Years of Experience]],vlookUpExp!$A$1:$B$56,2,FALSE))","v":"0-5"}]
[null,"ID0814","2012-05-26T22:16:10","INR 650000",650000,"INR",{"$f":"tblSalaries[[#This Row],[clean Salary (in local currency)]]*VLOOKUP(tblSalaries[[#This Row],[Currency]],tblXrate[],2,FALSE)","v":11575.14584683767},{"$f":"IF($H$1=\"USD\",tblSalaries[[#This Row],[Salary in USD]],tblSalaries[[#This Row],[Salary in USD]]*VLOOKUP($H$1,USDtoUserChoice,2,FALSE))","v":94939.114732845643},"Deputy Manager","Manager","India",{"$f":"VLOOKUP(tblSalaries[[#This Row],[Where do you work]],tblCountries[[Actual]:[Mapping]],2,FALSE)","v":"India"},"2 to 3 hours per day",5,{"$f":"IF(ISNA(VLOOKUP(tblSalaries[[#This Row],[Years of Experience]],vlookUpExp!$A$1:$B$56,2,FALSE)),\"No Response\",VLOOKUP(tblSalaries[[#This Row],[Years of Experience]],vlookUpExp!$A$1:$B$56,2,FALSE))","v":"0-5"}]
[null,"ID0815","2012-05-26T22:22:58",95000,95000,"USD",{"$f":"tblSalaries[[#This Row],[clean Salary (in local currency)]]*VLOOKUP(tblSalaries[[#This Row],[Currency]],tblXrate[],2,FALSE)","v":95000},{"$f":"IF($H$1=\"USD\",tblSalaries[[#This Row],[Salary in USD]],tblSalaries[[#This Row],[Salary in USD]]*VLOOKUP($H$1,USDtoUserChoice,2,FALSE))","v":779188.10000000009},"Business Analyst","Analyst","USA",{"$f":"VLOOKUP(tblSalaries[[#This Row],[Where do you work]],tblCountries[[Actual]:[Mapping]],2,FALSE)","v":"USA"},"2 to 3 hours per day",13,{"$f":"IF(ISNA(VLOOKUP(tblSalaries[[#This Row],[Years of Experience]],vlookUpExp!$A$1:$B$56,2,FALSE)),\"No Response\",VLOOKUP(tblSalaries[[#This Row],[Years of Experience]],vlookUpExp!$A$1:$B$56,2,FALSE))","v":"11-15"}]
[null,"ID0816","2012-05-26T22:23:38",516000,516000,"INR",{"$f":"tblSalaries[[#This Row],[clean Salary (in local currency)]]*VLOOKUP(tblSalaries[[#This Row],[Currency]],tblXrate[],2,FALSE)","v":9188.8850107203652},{"$f":"IF($H$1=\"USD\",tblSalaries[[#This Row],[Salary in USD]],tblSalaries[[#This Row],[Salary in USD]]*VLOOKUP($H$1,USDtoUserChoice,2,FALSE))","v":75367.051080228222},"Management Trainee","Manager","India",{"$f":"VLOOKUP(tblSalaries[[#This Row],[Where do you work]],tblCountries[[Actual]:[Mapping]],2,FALSE)","v":"India"},"4 to 6 hours a day",0,{"$f":"IF(ISNA(VLOOKUP(tblSalaries[[#This Row],[Years of Experience]],vlookUpExp!$A$1:$B$56,2,FALSE)),\"No Response\",VLOOKUP(tblSalaries[[#This Row],[Years of Experience]],vlookUpExp!$A$1:$B$56,2,FALSE))","v":"0-5"}]
[null,"ID0817","2012-05-26T22:29:16","3500 Rs",504000,"INR",{"$f":"tblSalaries[[#This Row],[clean Salary (in local currency)]]*VLOOKUP(tblSalaries[[#This Row],[Currency]],tblXrate[],2,FALSE)","v":8975.1900104710548},{"$f":"IF($H$1=\"USD\",tblSalaries[[#This Row],[Salary in USD]],tblSalaries[[#This Row],[Salary in USD]]*VLOOKUP($H$1,USDtoUserChoice,2,FALSE))","v":73614.328962083382},"MNR","Manager","India",{"$f":"VLOOKUP(tblSalaries[[#This Row],[Where do you work]],tblCountries[[Actual]:[Mapping]],2,FALSE)","v":"India"},"All the 8 hours baby, all the 8!",3,{"$f":"IF(ISNA(VLOOKUP(tblSalaries[[#This Row],[Years of Experience]],vlookUpExp!$A$1:$B$56,2,FALSE)),\"No Response\",VLOOKUP(tblSalaries[[#This Row],[Years of Experience]],vlookUpExp!$A$1:$B$56,2,FALSE))","v":"0-5"}]
[null,"ID0818","2012-05-26T22:29:21",144000,144000,"INR",{"$f":"tblSalaries[[#This Row],[clean Salary (in local currency)]]*VLOOKUP(tblSalaries[[#This Row],[Currency]],tblXrate[],2,FALSE)","v":2564.3400029917298},{"$f":"IF($H$1=\"USD\",tblSalaries[[#This Row],[Salary in USD]],tblSalaries[[#This Row],[Salary in USD]]*VLOOKUP($H$1,USDtoUserChoice,2,FALSE))","v":21032.66541773811},"BPO information process enabler","Analyst","India",{"$f":"VLOOKUP(tblSalaries[[#This Row],[Where do you work]],tblCountries[[Actual]:[Mapping]],2,FALSE)","v":"India"},"All the 8 hours baby, all the 8!",1,{"$f":"IF(ISNA(VLOOKUP(tblSalaries[[#This Row],[Years of Experience]],vlookUpExp!$A$1:$B$56,2,FALSE)),\"No Response\",VLOOKUP(tblSalaries[[#This Row],[Years of Experience]],vlookUpExp!$A$1:$B$56,2,FALSE))","v":"0-5"}]
[null,"ID0820","2012-05-26T22:43:11","Â£55000",55000,"GBP",{"$f":"tblSalaries[[#This Row],[clean Salary (in local currency)]]*VLOOKUP(tblSalaries[[#This Row],[Currency]],tblXrate[],2,FALSE)","v":86689.804963700633},{"$f":"IF($H$1=\"USD\",tblSalaries[[#This Row],[Salary in USD]],tblSalaries[[#This Row],[Salary in USD]]*VLOOKUP($H$1,USDtoUserChoice,2,FALSE))","v":711028.0465161734},"Financial controller","Controller","UK",{"$f":"VLOOKUP(tblSalaries[[#This Row],[Where do you work]],tblCountries[[Actual]:[Mapping]],2,FALSE)","v":"UK"},"4 to 6 hours a day",12,{"$f":"IF(ISNA(VLOOKUP(tblSalaries[[#This Row],[Years of Experience]],vlookUpExp!$A$1:$B$56,2,FALSE)),\"No Response\",VLOOKUP(tblSalaries[[#This Row],[Years of Experience]],vlookUpExp!$A$1:$B$56,2,FALSE))","v":"11-15"}]
[null,"ID0821","2012-05-26T22:43:12",15500,15500,"USD",{"$f":"tblSalaries[[#This Row],[clean Salary (in local currency)]]*VLOOKUP(tblSalaries[[#This Row],[Currency]],tblXrate[],2,FALSE)","v":15500},{"$f":"IF($H$1=\"USD\",tblSalaries[[#This Row],[Salary in USD]],tblSalaries[[#This Row],[Salary in USD]]*VLOOKUP($H$1,USDtoUserChoice,2,FALSE))","v":127130.69000000002},"Engineer","Engineer","India",{"$f":"VLOOKUP(tblSalaries[[#This Row],[Where do you work]],tblCountries[[Actual]:[Mapping]],2,FALSE)","v":"India"},"1 or 2 hours a day",3,{"$f":"IF(ISNA(VLOOKUP(tblSalaries[[#This Row],[Years of Experience]],vlookUpExp!$A$1:$B$56,2,FALSE)),\"No Response\",VLOOKUP(tblSalaries[[#This Row],[Years of Experience]],vlookUpExp!$A$1:$B$56,2,FALSE))","v":"0-5"}]
[null,"ID0822","2012-05-26T22:45:14","R$3.000,00",300000,"BRL",{"$f":"tblSalaries[[#This Row],[clean Salary (in local currency)]]*VLOOKUP(tblSalaries[[#This Row],[Currency]],tblXrate[],2,FALSE)","v":148284.35006969364},{"$f":"IF($H$1=\"USD\",tblSalaries[[#This Row],[Salary in USD]],tblSalaries[[#This Row],[Salary in USD]]*VLOOKUP($H$1,USDtoUserChoice,2,FALSE))","v":1216225.2735846259},"Market Intelligence Analyst","Analyst","Brazil",{"$f":"VLOOKUP(tblSalaries[[#This Row],[Where do you work]],tblCountries[[Actual]:[Mapping]],2,FALSE)","v":"Brazil"},"All the 8 hours baby, all the 8!",3,{"$f":"IF(ISNA(VLOOKUP(tblSalaries[[#This Row],[Years of Experience]],vlookUpExp!$A$1:$B$56,2,FALSE)),\"No Response\",VLOOKUP(tblSalaries[[#This Row],[Years of Experience]],vlookUpExp!$A$1:$B$56,2,FALSE))","v":"0-5"}]
[null,"ID0823","2012-05-26T22:48:11",600000,600000,"INR",{"$f":"tblSalaries[[#This Row],[clean Salary (in local currency)]]*VLOOKUP(tblSalaries[[#This Row],[Currency]],tblXrate[],2,FALSE)","v":10684.750012465542},{"$f":"IF($H$1=\"USD\",tblSalaries[[#This Row],[Salary in USD]],tblSalaries[[#This Row],[Salary in USD]]*VLOOKUP($H$1,USDtoUserChoice,2,FALSE))","v":87636.105907242134},"Reporting Analyst","Analyst","India",{"$f":"VLOOKUP(tblSalaries[[#This Row],[Where do you work]],tblCountries[[Actual]:[Mapping]],2,FALSE)","v":"India"},"All the 8 hours baby, all the 8!",5,{"$f":"IF(ISNA(VLOOKUP(tblSalaries[[#This Row],[Years of Experience]],vlookUpExp!$A$1:$B$56,2,FALSE)),\"No Response\",VLOOKUP(tblSalaries[[#This Row],[Years of Experience]],vlookUpExp!$A$1:$B$56,2,FALSE))","v":"0-5"}]
[null,"ID0824","2012-05-26T22:49:34",75000,75000,"USD",{"$f":"tblSalaries[[#This Row],[clean Salary (in local currency)]]*VLOOKUP(tblSalaries[[#This Row],[Currency]],tblXrate[],2,FALSE)","v":75000},{"$f":"IF($H$1=\"USD\",tblSalaries[[#This Row],[Salary in USD]],tblSalaries[[#This Row],[Salary in USD]]*VLOOKUP($H$1,USDtoUserChoice,2,FALSE))","v":615148.5},"sr financial analyst","Analyst","USA",{"$f":"VLOOKUP(tblSalaries[[#This Row],[Where do you work]],tblCountries[[Actual]:[Mapping]],2,FALSE)","v":"USA"},"2 to 3 hours per day",27,{"$f":"IF(ISNA(VLOOKUP(tblSalaries[[#This Row],[Years of Experience]],vlookUpExp!$A$1:$B$56,2,FALSE)),\"No Response\",VLOOKUP(tblSalaries[[#This Row],[Years of Experience]],vlookUpExp!$A$1:$B$56,2,FALSE))","v":"26-30"}]
[null,"ID0825","2012-05-26T22:53:35","12000 $",12000,"USD",{"$f":"tblSalaries[[#This Row],[clean Salary (in local currency)]]*VLOOKUP(tblSalaries[[#This Row],[Currency]],tblXrate[],2,FALSE)","v":12000},{"$f":"IF($H$1=\"USD\",tblSalaries[[#This Row],[Salary in USD]],tblSalaries[[#This Row],[Salary in USD]]*VLOOKUP($H$1,USDtoUserChoice,2,FALSE))","v":98423.760000000009},"Investment manager","Manager","Ukraine",{"$f":"VLOOKUP(tblSalaries[[#This Row],[Where do you work]],tblCountries[[Actual]:[Mapping]],2,FALSE)","v":"Ukraine"},"4 to 6 hours a day",5,{"$f":"IF(ISNA(VLOOKUP(tblSalaries[[#This Row],[Years of Experience]],vlookUpExp!$A$1:$B$56,2,FALSE)),\"No Response\",VLOOKUP(tblSalaries[[#This Row],[Years of Experience]],vlookUpExp!$A$1:$B$56,2,FALSE))","v":"0-5"}]
[null,"ID0826","2012-05-26T23:02:00","INR 1700000",1700000,"INR",{"$f":"tblSalaries[[#This Row],[clean Salary (in local currency)]]*VLOOKUP(tblSalaries[[#This Row],[Currency]],tblXrate[],2,FALSE)","v":30273.458368652366},{"$f":"IF($H$1=\"USD\",tblSalaries[[#This Row],[Salary in USD]],tblSalaries[[#This Row],[Salary in USD]]*VLOOKUP($H$1,USDtoUserChoice,2,FALSE))","v":248302.30007051936},"Operations Lead","Manager","India",{"$f":"VLOOKUP(tblSalaries[[#This Row],[Where do you work]],tblCountries[[Actual]:[Mapping]],2,FALSE)","v":"India"},"All the 8 hours baby, all the 8!",1.1000000000000001,{"$f":"IF(ISNA(VLOOKUP(tblSalaries[[#This Row],[Years of Experience]],vlookUpExp!$A$1:$B$56,2,FALSE)),\"No Response\",VLOOKUP(tblSalaries[[#This Row],[Years of Experience]],vlookUpExp!$A$1:$B$56,2,FALSE))","v":"0-5"}]
[null,"ID0827","2012-05-26T23:03:21","US$30,000",30000,"USD",{"$f":"tblSalaries[[#This Row],[clean Salary (in local currency)]]*VLOOKUP(tblSalaries[[#This Row],[Currency]],tblXrate[],2,FALSE)","v":30000},{"$f":"IF($H$1=\"USD\",tblSalaries[[#This Row],[Salary in USD]],tblSalaries[[#This Row],[Salary in USD]]*VLOOKUP($H$1,USDtoUserChoice,2,FALSE))","v":246059.40000000002},"Financial Control Section Headm","Controller","Inonesia",{"$f":"VLOOKUP(tblSalaries[[#This Row],[Where do you work]],tblCountries[[Actual]:[Mapping]],2,FALSE)","v":"Indonesia"},"4 to 6 hours a day",7,{"$f":"IF(ISNA(VLOOKUP(tblSalaries[[#This Row],[Years of Experience]],vlookUpExp!$A$1:$B$56,2,FALSE)),\"No Response\",VLOOKUP(tblSalaries[[#This Row],[Years of Experience]],vlookUpExp!$A$1:$B$56,2,FALSE))","v":"6-10"}]
[null,"ID0828","2012-05-26T23:03:59","30000 Rs",360000,"INR",{"$f":"tblSalaries[[#This Row],[clean Salary (in local currency)]]*VLOOKUP(tblSalaries[[#This Row],[Currency]],tblXrate[],2,FALSE)","v":6410.8500074793246},{"$f":"IF($H$1=\"USD\",tblSalaries[[#This Row],[Salary in USD]],tblSalaries[[#This Row],[Salary in USD]]*VLOOKUP($H$1,USDtoUserChoice,2,FALSE))","v":52581.663544345276},"Application Developer","Analyst","India",{"$f":"VLOOKUP(tblSalaries[[#This Row],[Where do you work]],tblCountries[[Actual]:[Mapping]],2,FALSE)","v":"India"},"All the 8 hours baby, all the 8!",4,{"$f":"IF(ISNA(VLOOKUP(tblSalaries[[#This Row],[Years of Experience]],vlookUpExp!$A$1:$B$56,2,FALSE)),\"No Response\",VLOOKUP(tblSalaries[[#This Row],[Years of Experience]],vlookUpExp!$A$1:$B$56,2,FALSE))","v":"0-5"}]
[null,"ID0829","2012-05-26T23:04:02",100000,100000,"USD",{"$f":"tblSalaries[[#This Row],[clean Salary (in local currency)]]*VLOOKUP(tblSalaries[[#This Row],[Currency]],tblXrate[],2,FALSE)","v":100000},{"$f":"IF($H$1=\"USD\",tblSalaries[[#This Row],[Salary in USD]],tblSalaries[[#This Row],[Salary in USD]]*VLOOKUP($H$1,USDtoUserChoice,2,FALSE))","v":820198.00000000012},"director","CXO or Top Mgmt.","USA",{"$f":"VLOOKUP(tblSalaries[[#This Row],[Where do you work]],tblCountries[[Actual]:[Mapping]],2,FALSE)","v":"USA"},"4 to 6 hours a day",10,{"$f":"IF(ISNA(VLOOKUP(tblSalaries[[#This Row],[Years of Experience]],vlookUpExp!$A$1:$B$56,2,FALSE)),\"No Response\",VLOOKUP(tblSalaries[[#This Row],[Years of Experience]],vlookUpExp!$A$1:$B$56,2,FALSE))","v":"6-10"}]
[null,"ID0830","2012-05-26T23:04:53",42000,42000,"EUR",{"$f":"tblSalaries[[#This Row],[clean Salary (in local currency)]]*VLOOKUP(tblSalaries[[#This Row],[Currency]],tblXrate[],2,FALSE)","v":53356.776437647524},{"$f":"IF($H$1=\"USD\",tblSalaries[[#This Row],[Salary in USD]],tblSalaries[[#This Row],[Salary in USD]]*VLOOKUP($H$1,USDtoUserChoice,2,FALSE))","v":437631.21320605627},"Project Engineer","Engineer","The Netherlands",{"$f":"VLOOKUP(tblSalaries[[#This Row],[Where do you work]],tblCountries[[Actual]:[Mapping]],2,FALSE)","v":"Netherlands"},"4 to 6 hours a day",2,{"$f":"IF(ISNA(VLOOKUP(tblSalaries[[#This Row],[Years of Experience]],vlookUpExp!$A$1:$B$56,2,FALSE)),\"No Response\",VLOOKUP(tblSalaries[[#This Row],[Years of Experience]],vlookUpExp!$A$1:$B$56,2,FALSE))","v":"0-5"}]
[null,"ID0831","2012-05-26T23:05:15",40000,40000,"USD",{"$f":"tblSalaries[[#This Row],[clean Salary (in local currency)]]*VLOOKUP(tblSalaries[[#This Row],[Currency]],tblXrate[],2,FALSE)","v":40000},{"$f":"IF($H$1=\"USD\",tblSalaries[[#This Row],[Salary in USD]],tblSalaries[[#This Row],[Salary in USD]]*VLOOKUP($H$1,USDtoUserChoice,2,FALSE))","v":328079.2},"High School Teacher","Manager","USA",{"$f":"VLOOKUP(tblSalaries[[#This Row],[Where do you work]],tblCountries[[Actual]:[Mapping]],2,FALSE)","v":"USA"},"2 to 3 hours per day",20,{"$f":"IF(ISNA(VLOOKUP(tblSalaries[[#This Row],[Years of Experience]],vlookUpExp!$A$1:$B$56,2,FALSE)),\"No Response\",VLOOKUP(tblSalaries[[#This Row],[Years of Experience]],vlookUpExp!$A$1:$B$56,2,FALSE))","v":"16-20"}]
[null,"ID0832","2012-05-26T23:14:58","5.5 lakhs",550000,"INR",{"$f":"tblSalaries[[#This Row],[clean Salary (in local currency)]]*VLOOKUP(tblSalaries[[#This Row],[Currency]],tblXrate[],2,FALSE)","v":9794.354178093412},{"$f":"IF($H$1=\"USD\",tblSalaries[[#This Row],[Salary in USD]],tblSalaries[[#This Row],[Salary in USD]]*VLOOKUP($H$1,USDtoUserChoice,2,FALSE))","v":80333.097081638611},"web analyst","Analyst","India",{"$f":"VLOOKUP(tblSalaries[[#This Row],[Where do you work]],tblCountries[[Actual]:[Mapping]],2,FALSE)","v":"India"},"4 to 6 hours a day",1,{"$f":"IF(ISNA(VLOOKUP(tblSalaries[[#This Row],[Years of Experience]],vlookUpExp!$A$1:$B$56,2,FALSE)),\"No Response\",VLOOKUP(tblSalaries[[#This Row],[Years of Experience]],vlookUpExp!$A$1:$B$56,2,FALSE))","v":"0-5"}]
[null,"ID0833","2012-05-26T23:15:18","65000 ron",65000,"RON",{"$f":"tblSalaries[[#This Row],[clean Salary (in local currency)]]*VLOOKUP(tblSalaries[[#This Row],[Currency]],tblXrate[],2,FALSE)","v":18499.860539512854},{"$f":"IF($H$1=\"USD\",tblSalaries[[#This Row],[Salary in USD]],tblSalaries[[#This Row],[Salary in USD]]*VLOOKUP($H$1,USDtoUserChoice,2,FALSE))","v":151735.48614787366},"HR Planning Specialist","Specialist","Romania",{"$f":"VLOOKUP(tblSalaries[[#This Row],[Where do you work]],tblCountries[[Actual]:[Mapping]],2,FALSE)","v":"Romania"},"4 to 6 hours a day",6,{"$f":"IF(ISNA(VLOOKUP(tblSalaries[[#This Row],[Years of Experience]],vlookUpExp!$A$1:$B$56,2,FALSE)),\"No Response\",VLOOKUP(tblSalaries[[#This Row],[Years of Experience]],vlookUpExp!$A$1:$B$56,2,FALSE))","v":"6-10"}]
[null,"ID0834","2012-05-26T23:17:09","15600 â‚¬",15600,"EUR",{"$f":"tblSalaries[[#This Row],[clean Salary (in local currency)]]*VLOOKUP(tblSalaries[[#This Row],[Currency]],tblXrate[],2,FALSE)","v":19818.231248269083},{"$f":"IF($H$1=\"USD\",tblSalaries[[#This Row],[Salary in USD]],tblSalaries[[#This Row],[Salary in USD]]*VLOOKUP($H$1,USDtoUserChoice,2,FALSE))","v":162548.73633367807},"Managment controller","Controller","Portugal",{"$f":"VLOOKUP(tblSalaries[[#This Row],[Where do you work]],tblCountries[[Actual]:[Mapping]],2,FALSE)","v":"Portugal"},"4 to 6 hours a day",5,{"$f":"IF(ISNA(VLOOKUP(tblSalaries[[#This Row],[Years of Experience]],vlookUpExp!$A$1:$B$56,2,FALSE)),\"No Response\",VLOOKUP(tblSalaries[[#This Row],[Years of Experience]],vlookUpExp!$A$1:$B$56,2,FALSE))","v":"0-5"}]
[null,"ID0835","2012-05-26T23:21:57","Rs.6,00,000/-",600000,"INR",{"$f":"tblSalaries[[#This Row],[clean Salary (in local currency)]]*VLOOKUP(tblSalaries[[#This Row],[Currency]],tblXrate[],2,FALSE)","v":10684.750012465542},{"$f":"IF($H$1=\"USD\",tblSalaries[[#This Row],[Salary in USD]],tblSalaries[[#This Row],[Salary in USD]]*VLOOKUP($H$1,USDtoUserChoice,2,FALSE))","v":87636.105907242134},"AO","Manager","India",{"$f":"VLOOKUP(tblSalaries[[#This Row],[Where do you work]],tblCountries[[Actual]:[Mapping]],2,FALSE)","v":"India"},"All the 8 hours baby, all the 8!",20,{"$f":"IF(ISNA(VLOOKUP(tblSalaries[[#This Row],[Years of Experience]],vlookUpExp!$A$1:$B$56,2,FALSE)),\"No Response\",VLOOKUP(tblSalaries[[#This Row],[Years of Experience]],vlookUpExp!$A$1:$B$56,2,FALSE))","v":"16-20"}]
[null,"ID0836","2012-05-26T23:36:14","Rs. 6,00,000",600000,"INR",{"$f":"tblSalaries[[#This Row],[clean Salary (in local currency)]]*VLOOKUP(tblSalaries[[#This Row],[Currency]],tblXrate[],2,FALSE)","v":10684.750012465542},{"$f":"IF($H$1=\"USD\",tblSalaries[[#This Row],[Salary in USD]],tblSalaries[[#This Row],[Salary in USD]]*VLOOKUP($H$1,USDtoUserChoice,2,FALSE))","v":87636.105907242134},"Project Manager","Manager","India",{"$f":"VLOOKUP(tblSalaries[[#This Row],[Where do you work]],tblCountries[[Actual]:[Mapping]],2,FALSE)","v":"India"},"2 to 3 hours per day",18,{"$f":"IF(ISNA(VLOOKUP(tblSalaries[[#This Row],[Years of Experience]],vlookUpExp!$A$1:$B$56,2,FALSE)),\"No Response\",VLOOKUP(tblSalaries[[#This Row],[Years of Experience]],vlookUpExp!$A$1:$B$56,2,FALSE))","v":"16-20"}]
[null,"ID0837","2012-05-26T23:38:24",1000000,1000000,"INR",{"$f":"tblSalaries[[#This Row],[clean Salary (in local currency)]]*VLOOKUP(tblSalaries[[#This Row],[Currency]],tblXrate[],2,FALSE)","v":17807.916687442568},{"$f":"IF($H$1=\"USD\",tblSalaries[[#This Row],[Salary in USD]],tblSalaries[[#This Row],[Salary in USD]]*VLOOKUP($H$1,USDtoUserChoice,2,FALSE))","v":146060.1765120702},"business analyist","Analyst","India",{"$f":"VLOOKUP(tblSalaries[[#This Row],[Where do you work]],tblCountries[[Actual]:[Mapping]],2,FALSE)","v":"India"},"4 to 6 hours a day",10,{"$f":"IF(ISNA(VLOOKUP(tblSalaries[[#This Row],[Years of Experience]],vlookUpExp!$A$1:$B$56,2,FALSE)),\"No Response\",VLOOKUP(tblSalaries[[#This Row],[Years of Experience]],vlookUpExp!$A$1:$B$56,2,FALSE))","v":"6-10"}]
[null,"ID0838","2012-05-26T23:47:34","13000 USD",13000,"USD",{"$f":"tblSalaries[[#This Row],[clean Salary (in local currency)]]*VLOOKUP(tblSalaries[[#This Row],[Currency]],tblXrate[],2,FALSE)","v":13000},{"$f":"IF($H$1=\"USD\",tblSalaries[[#This Row],[Salary in USD]],tblSalaries[[#This Row],[Salary in USD]]*VLOOKUP($H$1,USDtoUserChoice,2,FALSE))","v":106625.74},"Business Analyst","Analyst","India",{"$f":"VLOOKUP(tblSalaries[[#This Row],[Where do you work]],tblCountries[[Actual]:[Mapping]],2,FALSE)","v":"India"},"All the 8 hours baby, all the 8!",6,{"$f":"IF(ISNA(VLOOKUP(tblSalaries[[#This Row],[Years of Experience]],vlookUpExp!$A$1:$B$56,2,FALSE)),\"No Response\",VLOOKUP(tblSalaries[[#This Row],[Years of Experience]],vlookUpExp!$A$1:$B$56,2,FALSE))","v":"6-10"}]
[null,"ID0839","2012-05-26T23:58:53","900000 Rs",900000,"INR",{"$f":"tblSalaries[[#This Row],[clean Salary (in local currency)]]*VLOOKUP(tblSalaries[[#This Row],[Currency]],tblXrate[],2,FALSE)","v":16027.125018698311},{"$f":"IF($H$1=\"USD\",tblSalaries[[#This Row],[Salary in USD]],tblSalaries[[#This Row],[Salary in USD]]*VLOOKUP($H$1,USDtoUserChoice,2,FALSE))","v":131454.15886086319},"Deputy Manager","Manager","India",{"$f":"VLOOKUP(tblSalaries[[#This Row],[Where do you work]],tblCountries[[Actual]:[Mapping]],2,FALSE)","v":"India"},"1 or 2 hours a day",9,{"$f":"IF(ISNA(VLOOKUP(tblSalaries[[#This Row],[Years of Experience]],vlookUpExp!$A$1:$B$56,2,FALSE)),\"No Response\",VLOOKUP(tblSalaries[[#This Row],[Years of Experience]],vlookUpExp!$A$1:$B$56,2,FALSE))","v":"6-10"}]
[null,"ID0840","2012-05-27T00:02:45",85000,85000,"USD",{"$f":"tblSalaries[[#This Row],[clean Salary (in local currency)]]*VLOOKUP(tblSalaries[[#This Row],[Currency]],tblXrate[],2,FALSE)","v":85000},{"$f":"IF($H$1=\"USD\",tblSalaries[[#This Row],[Salary in USD]],tblSalaries[[#This Row],[Salary in USD]]*VLOOKUP($H$1,USDtoUserChoice,2,FALSE))","v":697168.3},"actuary","Accountant","USA",{"$f":"VLOOKUP(tblSalaries[[#This Row],[Where do you work]],tblCountries[[Actual]:[Mapping]],2,FALSE)","v":"USA"},"All the 8 hours baby, all the 8!",1,{"$f":"IF(ISNA(VLOOKUP(tblSalaries[[#This Row],[Years of Experience]],vlookUpExp!$A$1:$B$56,2,FALSE)),\"No Response\",VLOOKUP(tblSalaries[[#This Row],[Years of Experience]],vlookUpExp!$A$1:$B$56,2,FALSE))","v":"0-5"}]
[null,"ID0841","2012-05-27T00:07:52",6000,6000,"USD",{"$f":"tblSalaries[[#This Row],[clean Salary (in local currency)]]*VLOOKUP(tblSalaries[[#This Row],[Currency]],tblXrate[],2,FALSE)","v":6000},{"$f":"IF($H$1=\"USD\",tblSalaries[[#This Row],[Salary in USD]],tblSalaries[[#This Row],[Salary in USD]]*VLOOKUP($H$1,USDtoUserChoice,2,FALSE))","v":49211.880000000005},"Analysis Quality","Analyst","Colombia - South America",{"$f":"VLOOKUP(tblSalaries[[#This Row],[Where do you work]],tblCountries[[Actual]:[Mapping]],2,FALSE)","v":"Colombia"},"1 or 2 hours a day",10,{"$f":"IF(ISNA(VLOOKUP(tblSalaries[[#This Row],[Years of Experience]],vlookUpExp!$A$1:$B$56,2,FALSE)),\"No Response\",VLOOKUP(tblSalaries[[#This Row],[Years of Experience]],vlookUpExp!$A$1:$B$56,2,FALSE))","v":"6-10"}]
[null,"ID0842","2012-05-27T00:12:53",30000,30000,"USD",{"$f":"tblSalaries[[#This Row],[clean Salary (in local currency)]]*VLOOKUP(tblSalaries[[#This Row],[Currency]],tblXrate[],2,FALSE)","v":30000},{"$f":"IF($H$1=\"USD\",tblSalaries[[#This Row],[Salary in USD]],tblSalaries[[#This Row],[Salary in USD]]*VLOOKUP($H$1,USDtoUserChoice,2,FALSE))","v":246059.40000000002},"MIS Executive","Reporting","India",{"$f":"VLOOKUP(tblSalaries[[#This Row],[Where do you work]],tblCountries[[Actual]:[Mapping]],2,FALSE)","v":"India"},"4 to 6 hours a day",2,{"$f":"IF(ISNA(VLOOKUP(tblSalaries[[#This Row],[Years of Experience]],vlookUpExp!$A$1:$B$56,2,FALSE)),\"No Response\",VLOOKUP(tblSalaries[[#This Row],[Years of Experience]],vlookUpExp!$A$1:$B$56,2,FALSE))","v":"0-5"}]
[null,"ID0844","2012-05-27T00:19:04",100000,100000,"GBP",{"$f":"tblSalaries[[#This Row],[clean Salary (in local currency)]]*VLOOKUP(tblSalaries[[#This Row],[Currency]],tblXrate[],2,FALSE)","v":157617.8272067284},{"$f":"IF($H$1=\"USD\",tblSalaries[[#This Row],[Salary in USD]],tblSalaries[[#This Row],[Salary in USD]]*VLOOKUP($H$1,USDtoUserChoice,2,FALSE))","v":1292778.2663930424},"Financial Controller","Controller","UK",{"$f":"VLOOKUP(tblSalaries[[#This Row],[Where do you work]],tblCountries[[Actual]:[Mapping]],2,FALSE)","v":"UK"},"2 to 3 hours per day",20,{"$f":"IF(ISNA(VLOOKUP(tblSalaries[[#This Row],[Years of Experience]],vlookUpExp!$A$1:$B$56,2,FALSE)),\"No Response\",VLOOKUP(tblSalaries[[#This Row],[Years of Experience]],vlookUpExp!$A$1:$B$56,2,FALSE))","v":"16-20"}]
[null,"ID0845","2012-05-27T00:33:06","1200000 Rs",1200000,"INR",{"$f":"tblSalaries[[#This Row],[clean Salary (in local currency)]]*VLOOKUP(tblSalaries[[#This Row],[Currency]],tblXrate[],2,FALSE)","v":21369.500024931083},{"$f":"IF($H$1=\"USD\",tblSalaries[[#This Row],[Salary in USD]],tblSalaries[[#This Row],[Salary in USD]]*VLOOKUP($H$1,USDtoUserChoice,2,FALSE))","v":175272.21181448427},"project manager","Manager","India",{"$f":"VLOOKUP(tblSalaries[[#This Row],[Where do you work]],tblCountries[[Actual]:[Mapping]],2,FALSE)","v":"India"},"1 or 2 hours a day",18,{"$f":"IF(ISNA(VLOOKUP(tblSalaries[[#This Row],[Years of Experience]],vlookUpExp!$A$1:$B$56,2,FALSE)),\"No Response\",VLOOKUP(tblSalaries[[#This Row],[Years of Experience]],vlookUpExp!$A$1:$B$56,2,FALSE))","v":"16-20"}]
[null,"ID0846","2012-05-27T00:53:20","2 lac",200000,"INR",{"$f":"tblSalaries[[#This Row],[clean Salary (in local currency)]]*VLOOKUP(tblSalaries[[#This Row],[Currency]],tblXrate[],2,FALSE)","v":3561.5833374885137},{"$f":"IF($H$1=\"USD\",tblSalaries[[#This Row],[Salary in USD]],tblSalaries[[#This Row],[Salary in USD]]*VLOOKUP($H$1,USDtoUserChoice,2,FALSE))","v":29212.035302414042},"Bio-Statiscian","Reporting","India",{"$f":"VLOOKUP(tblSalaries[[#This Row],[Where do you work]],tblCountries[[Actual]:[Mapping]],2,FALSE)","v":"India"},"4 to 6 hours a day",1,{"$f":"IF(ISNA(VLOOKUP(tblSalaries[[#This Row],[Years of Experience]],vlookUpExp!$A$1:$B$56,2,FALSE)),\"No Response\",VLOOKUP(tblSalaries[[#This Row],[Years of Experience]],vlookUpExp!$A$1:$B$56,2,FALSE))","v":"0-5"}]
[null,"ID0847","2012-05-27T01:04:46",5000,5000,"USD",{"$f":"tblSalaries[[#This Row],[clean Salary (in local currency)]]*VLOOKUP(tblSalaries[[#This Row],[Currency]],tblXrate[],2,FALSE)","v":5000},{"$f":"IF($H$1=\"USD\",tblSalaries[[#This Row],[Salary in USD]],tblSalaries[[#This Row],[Salary in USD]]*VLOOKUP($H$1,USDtoUserChoice,2,FALSE))","v":41009.9},"Management Intern","Manager","India",{"$f":"VLOOKUP(tblSalaries[[#This Row],[Where do you work]],tblCountries[[Actual]:[Mapping]],2,FALSE)","v":"India"},"4 to 6 hours a day",1,{"$f":"IF(ISNA(VLOOKUP(tblSalaries[[#This Row],[Years of Experience]],vlookUpExp!$A$1:$B$56,2,FALSE)),\"No Response\",VLOOKUP(tblSalaries[[#This Row],[Years of Experience]],vlookUpExp!$A$1:$B$56,2,FALSE))","v":"0-5"}]
[null,"ID0848","2012-05-27T01:22:06","INR 2,00,000",200000,"INR",{"$f":"tblSalaries[[#This Row],[clean Salary (in local currency)]]*VLOOKUP(tblSalaries[[#This Row],[Currency]],tblXrate[],2,FALSE)","v":3561.5833374885137},{"$f":"IF($H$1=\"USD\",tblSalaries[[#This Row],[Salary in USD]],tblSalaries[[#This Row],[Salary in USD]]*VLOOKUP($H$1,USDtoUserChoice,2,FALSE))","v":29212.035302414042},"Sales Analyst","Analyst","India",{"$f":"VLOOKUP(tblSalaries[[#This Row],[Where do you work]],tblCountries[[Actual]:[Mapping]],2,FALSE)","v":"India"},"4 to 6 hours a day",2,{"$f":"IF(ISNA(VLOOKUP(tblSalaries[[#This Row],[Years of Experience]],vlookUpExp!$A$1:$B$56,2,FALSE)),\"No Response\",VLOOKUP(tblSalaries[[#This Row],[Years of Experience]],vlookUpExp!$A$1:$B$56,2,FALSE))","v":"0-5"}]
[null,"ID0849","2012-05-27T01:30:55","30000 eur",30000,"EUR",{"$f":"tblSalaries[[#This Row],[clean Salary (in local currency)]]*VLOOKUP(tblSalaries[[#This Row],[Currency]],tblXrate[],2,FALSE)","v":38111.983169748237},{"$f":"IF($H$1=\"USD\",tblSalaries[[#This Row],[Salary in USD]],tblSalaries[[#This Row],[Salary in USD]]*VLOOKUP($H$1,USDtoUserChoice,2,FALSE))","v":312593.7237186117},"financialcotroller","Accountant","portugal",{"$f":"VLOOKUP(tblSalaries[[#This Row],[Where do you work]],tblCountries[[Actual]:[Mapping]],2,FALSE)","v":"Portugal"},"All the 8 hours baby, all the 8!",8,{"$f":"IF(ISNA(VLOOKUP(tblSalaries[[#This Row],[Years of Experience]],vlookUpExp!$A$1:$B$56,2,FALSE)),\"No Response\",VLOOKUP(tblSalaries[[#This Row],[Years of Experience]],vlookUpExp!$A$1:$B$56,2,FALSE))","v":"6-10"}]
[null,"ID0850","2012-05-27T01:41:11","Rs. 10,00,000",1000000,"INR",{"$f":"tblSalaries[[#This Row],[clean Salary (in local currency)]]*VLOOKUP(tblSalaries[[#This Row],[Currency]],tblXrate[],2,FALSE)","v":17807.916687442568},{"$f":"IF($H$1=\"USD\",tblSalaries[[#This Row],[Salary in USD]],tblSalaries[[#This Row],[Salary in USD]]*VLOOKUP($H$1,USDtoUserChoice,2,FALSE))","v":146060.1765120702},"HR Analyst","Analyst","India",{"$f":"VLOOKUP(tblSalaries[[#This Row],[Where do you work]],tblCountries[[Actual]:[Mapping]],2,FALSE)","v":"India"},"4 to 6 hours a day",6.5,{"$f":"IF(ISNA(VLOOKUP(tblSalaries[[#This Row],[Years of Experience]],vlookUpExp!$A$1:$B$56,2,FALSE)),\"No Response\",VLOOKUP(tblSalaries[[#This Row],[Years of Experience]],vlookUpExp!$A$1:$B$56,2,FALSE))","v":"6-10"}]
[null,"ID0851","2012-05-27T01:46:00",650000,650000,"INR",{"$f":"tblSalaries[[#This Row],[clean Salary (in local currency)]]*VLOOKUP(tblSalaries[[#This Row],[Currency]],tblXrate[],2,FALSE)","v":11575.14584683767},{"$f":"IF($H$1=\"USD\",tblSalaries[[#This Row],[Salary in USD]],tblSalaries[[#This Row],[Salary in USD]]*VLOOKUP($H$1,USDtoUserChoice,2,FALSE))","v":94939.114732845643},"Financial Analyist","Analyst","India",{"$f":"VLOOKUP(tblSalaries[[#This Row],[Where do you work]],tblCountries[[Actual]:[Mapping]],2,FALSE)","v":"India"},"All the 8 hours baby, all the 8!",3.5,{"$f":"IF(ISNA(VLOOKUP(tblSalaries[[#This Row],[Years of Experience]],vlookUpExp!$A$1:$B$56,2,FALSE)),\"No Response\",VLOOKUP(tblSalaries[[#This Row],[Years of Experience]],vlookUpExp!$A$1:$B$56,2,FALSE))","v":"0-5"}]
[null,"ID0852","2012-05-27T02:33:22",100000,100000,"CAD",{"$f":"tblSalaries[[#This Row],[clean Salary (in local currency)]]*VLOOKUP(tblSalaries[[#This Row],[Currency]],tblXrate[],2,FALSE)","v":98336.152303032693},{"$f":"IF($H$1=\"USD\",tblSalaries[[#This Row],[Salary in USD]],tblSalaries[[#This Row],[Salary in USD]]*VLOOKUP($H$1,USDtoUserChoice,2,FALSE))","v":806551.15446642821},"Marketing Manager","Manager","Canada",{"$f":"VLOOKUP(tblSalaries[[#This Row],[Where do you work]],tblCountries[[Actual]:[Mapping]],2,FALSE)","v":"Canada"},"2 to 3 hours per day",10,{"$f":"IF(ISNA(VLOOKUP(tblSalaries[[#This Row],[Years of Experience]],vlookUpExp!$A$1:$B$56,2,FALSE)),\"No Response\",VLOOKUP(tblSalaries[[#This Row],[Years of Experience]],vlookUpExp!$A$1:$B$56,2,FALSE))","v":"6-10"}]
[null,"ID0854","2012-05-27T03:06:02",92500,92500,"USD",{"$f":"tblSalaries[[#This Row],[clean Salary (in local currency)]]*VLOOKUP(tblSalaries[[#This Row],[Currency]],tblXrate[],2,FALSE)","v":92500},{"$f":"IF($H$1=\"USD\",tblSalaries[[#This Row],[Salary in USD]],tblSalaries[[#This Row],[Salary in USD]]*VLOOKUP($H$1,USDtoUserChoice,2,FALSE))","v":758683.15},"Dir of Analytics","Analyst","USA",{"$f":"VLOOKUP(tblSalaries[[#This Row],[Where do you work]],tblCountries[[Actual]:[Mapping]],2,FALSE)","v":"USA"},"2 to 3 hours per day",15,{"$f":"IF(ISNA(VLOOKUP(tblSalaries[[#This Row],[Years of Experience]],vlookUpExp!$A$1:$B$56,2,FALSE)),\"No Response\",VLOOKUP(tblSalaries[[#This Row],[Years of Experience]],vlookUpExp!$A$1:$B$56,2,FALSE))","v":"11-15"}]
[null,"ID0855","2012-05-27T03:16:05","Rs. 550000",550000,"INR",{"$f":"tblSalaries[[#This Row],[clean Salary (in local currency)]]*VLOOKUP(tblSalaries[[#This Row],[Currency]],tblXrate[],2,FALSE)","v":9794.354178093412},{"$f":"IF($H$1=\"USD\",tblSalaries[[#This Row],[Salary in USD]],tblSalaries[[#This Row],[Salary in USD]]*VLOOKUP($H$1,USDtoUserChoice,2,FALSE))","v":80333.097081638611},"Analyst","Analyst","India",{"$f":"VLOOKUP(tblSalaries[[#This Row],[Where do you work]],tblCountries[[Actual]:[Mapping]],2,FALSE)","v":"India"},"4 to 6 hours a day",1,{"$f":"IF(ISNA(VLOOKUP(tblSalaries[[#This Row],[Years of Experience]],vlookUpExp!$A$1:$B$56,2,FALSE)),\"No Response\",VLOOKUP(tblSalaries[[#This Row],[Years of Experience]],vlookUpExp!$A$1:$B$56,2,FALSE))","v":"0-5"}]
[null,"ID0856","2012-05-27T03:19:29",32000,32000,"USD",{"$f":"tblSalaries[[#This Row],[clean Salary (in local currency)]]*VLOOKUP(tblSalaries[[#This Row],[Currency]],tblXrate[],2,FALSE)","v":32000},{"$f":"IF($H$1=\"USD\",tblSalaries[[#This Row],[Salary in USD]],tblSalaries[[#This Row],[Salary in USD]]*VLOOKUP($H$1,USDtoUserChoice,2,FALSE))","v":262463.36000000004},"Reporting Manager","Manager","USA",{"$f":"VLOOKUP(tblSalaries[[#This Row],[Where do you work]],tblCountries[[Actual]:[Mapping]],2,FALSE)","v":"USA"},"4 to 6 hours a day",1,{"$f":"IF(ISNA(VLOOKUP(tblSalaries[[#This Row],[Years of Experience]],vlookUpExp!$A$1:$B$56,2,FALSE)),\"No Response\",VLOOKUP(tblSalaries[[#This Row],[Years of Experience]],vlookUpExp!$A$1:$B$56,2,FALSE))","v":"0-5"}]
[null,"ID0857","2012-05-27T03:25:05",55000,55000,"USD",{"$f":"tblSalaries[[#This Row],[clean Salary (in local currency)]]*VLOOKUP(tblSalaries[[#This Row],[Currency]],tblXrate[],2,FALSE)","v":55000},{"$f":"IF($H$1=\"USD\",tblSalaries[[#This Row],[Salary in USD]],tblSalaries[[#This Row],[Salary in USD]]*VLOOKUP($H$1,USDtoUserChoice,2,FALSE))","v":451108.9},"Analyst","Analyst","USA",{"$f":"VLOOKUP(tblSalaries[[#This Row],[Where do you work]],tblCountries[[Actual]:[Mapping]],2,FALSE)","v":"USA"},"4 to 6 hours a day",10,{"$f":"IF(ISNA(VLOOKUP(tblSalaries[[#This Row],[Years of Experience]],vlookUpExp!$A$1:$B$56,2,FALSE)),\"No Response\",VLOOKUP(tblSalaries[[#This Row],[Years of Experience]],vlookUpExp!$A$1:$B$56,2,FALSE))","v":"6-10"}]
[null,"ID0858","2012-05-27T03:25:53",40000,40000,"USD",{"$f":"tblSalaries[[#This Row],[clean Salary (in local currency)]]*VLOOKUP(tblSalaries[[#This Row],[Currency]],tblXrate[],2,FALSE)","v":40000},{"$f":"IF($H$1=\"USD\",tblSalaries[[#This Row],[Salary in USD]],tblSalaries[[#This Row],[Salary in USD]]*VLOOKUP($H$1,USDtoUserChoice,2,FALSE))","v":328079.2},"Data Research Assistant","Analyst","USA",{"$f":"VLOOKUP(tblSalaries[[#This Row],[Where do you work]],tblCountries[[Actual]:[Mapping]],2,FALSE)","v":"USA"},"All the 8 hours baby, all the 8!",4,{"$f":"IF(ISNA(VLOOKUP(tblSalaries[[#This Row],[Years of Experience]],vlookUpExp!$A$1:$B$56,2,FALSE)),\"No Response\",VLOOKUP(tblSalaries[[#This Row],[Years of Experience]],vlookUpExp!$A$1:$B$56,2,FALSE))","v":"0-5"}]
[null,"ID0859","2012-05-27T03:37:32","3000 $",3000,"USD",{"$f":"tblSalaries[[#This Row],[clean Salary (in local currency)]]*VLOOKUP(tblSalaries[[#This Row],[Currency]],tblXrate[],2,FALSE)","v":3000},{"$f":"IF($H$1=\"USD\",tblSalaries[[#This Row],[Salary in USD]],tblSalaries[[#This Row],[Salary in USD]]*VLOOKUP($H$1,USDtoUserChoice,2,FALSE))","v":24605.940000000002},"Statistical Analyst","Analyst","Pakistan",{"$f":"VLOOKUP(tblSalaries[[#This Row],[Where do you work]],tblCountries[[Actual]:[Mapping]],2,FALSE)","v":"Pakistan"},"2 to 3 hours per day",2,{"$f":"IF(ISNA(VLOOKUP(tblSalaries[[#This Row],[Years of Experience]],vlookUpExp!$A$1:$B$56,2,FALSE)),\"No Response\",VLOOKUP(tblSalaries[[#This Row],[Years of Experience]],vlookUpExp!$A$1:$B$56,2,FALSE))","v":"0-5"}]
[null,"ID0860","2012-05-27T03:37:36",43600,43600,"USD",{"$f":"tblSalaries[[#This Row],[clean Salary (in local currency)]]*VLOOKUP(tblSalaries[[#This Row],[Currency]],tblXrate[],2,FALSE)","v":43600},{"$f":"IF($H$1=\"USD\",tblSalaries[[#This Row],[Salary in USD]],tblSalaries[[#This Row],[Salary in USD]]*VLOOKUP($H$1,USDtoUserChoice,2,FALSE))","v":357606.32800000004},"Data Analyst","Analyst","USA",{"$f":"VLOOKUP(tblSalaries[[#This Row],[Where do you work]],tblCountries[[Actual]:[Mapping]],2,FALSE)","v":"USA"},"4 to 6 hours a day",5,{"$f":"IF(ISNA(VLOOKUP(tblSalaries[[#This Row],[Years of Experience]],vlookUpExp!$A$1:$B$56,2,FALSE)),\"No Response\",VLOOKUP(tblSalaries[[#This Row],[Years of Experience]],vlookUpExp!$A$1:$B$56,2,FALSE))","v":"0-5"}]
[null,"ID0861","2012-05-27T04:00:14","Rs. 45000",540000,"INR",{"$f":"tblSalaries[[#This Row],[clean Salary (in local currency)]]*VLOOKUP(tblSalaries[[#This Row],[Currency]],tblXrate[],2,FALSE)","v":9616.275011218986},{"$f":"IF($H$1=\"USD\",tblSalaries[[#This Row],[Salary in USD]],tblSalaries[[#This Row],[Salary in USD]]*VLOOKUP($H$1,USDtoUserChoice,2,FALSE))","v":78872.495316517903},"Senior analyst","Analyst","India",{"$f":"VLOOKUP(tblSalaries[[#This Row],[Where do you work]],tblCountries[[Actual]:[Mapping]],2,FALSE)","v":"India"},"All the 8 hours baby, all the 8!",8,{"$f":"IF(ISNA(VLOOKUP(tblSalaries[[#This Row],[Years of Experience]],vlookUpExp!$A$1:$B$56,2,FALSE)),\"No Response\",VLOOKUP(tblSalaries[[#This Row],[Years of Experience]],vlookUpExp!$A$1:$B$56,2,FALSE))","v":"6-10"}]
[null,"ID0862","2012-05-27T04:05:28",35000,35000,"USD",{"$f":"tblSalaries[[#This Row],[clean Salary (in local currency)]]*VLOOKUP(tblSalaries[[#This Row],[Currency]],tblXrate[],2,FALSE)","v":35000},{"$f":"IF($H$1=\"USD\",tblSalaries[[#This Row],[Salary in USD]],tblSalaries[[#This Row],[Salary in USD]]*VLOOKUP($H$1,USDtoUserChoice,2,FALSE))","v":287069.30000000005},"Purchasing Manager","Manager","Uruguay",{"$f":"VLOOKUP(tblSalaries[[#This Row],[Where do you work]],tblCountries[[Actual]:[Mapping]],2,FALSE)","v":"Uruguay"},"All the 8 hours baby, all the 8!",10,{"$f":"IF(ISNA(VLOOKUP(tblSalaries[[#This Row],[Years of Experience]],vlookUpExp!$A$1:$B$56,2,FALSE)),\"No Response\",VLOOKUP(tblSalaries[[#This Row],[Years of Experience]],vlookUpExp!$A$1:$B$56,2,FALSE))","v":"6-10"}]
[null,"ID0863","2012-05-27T04:07:07",12000,12000,"USD",{"$f":"tblSalaries[[#This Row],[clean Salary (in local currency)]]*VLOOKUP(tblSalaries[[#This Row],[Currency]],tblXrate[],2,FALSE)","v":12000},{"$f":"IF($H$1=\"USD\",tblSalaries[[#This Row],[Salary in USD]],tblSalaries[[#This Row],[Salary in USD]]*VLOOKUP($H$1,USDtoUserChoice,2,FALSE))","v":98423.760000000009},"Guide for About.com","Consultant","Spain",{"$f":"VLOOKUP(tblSalaries[[#This Row],[Where do you work]],tblCountries[[Actual]:[Mapping]],2,FALSE)","v":"Spain"},"2 to 3 hours per day",15,{"$f":"IF(ISNA(VLOOKUP(tblSalaries[[#This Row],[Years of Experience]],vlookUpExp!$A$1:$B$56,2,FALSE)),\"No Response\",VLOOKUP(tblSalaries[[#This Row],[Years of Experience]],vlookUpExp!$A$1:$B$56,2,FALSE))","v":"11-15"}]
[null,"ID0864","2012-05-27T04:12:04",5000,5000,"USD",{"$f":"tblSalaries[[#This Row],[clean Salary (in local currency)]]*VLOOKUP(tblSalaries[[#This Row],[Currency]],tblXrate[],2,FALSE)","v":5000},{"$f":"IF($H$1=\"USD\",tblSalaries[[#This Row],[Salary in USD]],tblSalaries[[#This Row],[Salary in USD]]*VLOOKUP($H$1,USDtoUserChoice,2,FALSE))","v":41009.9},"Policy advisor","Consultant","Aruba",{"$f":"VLOOKUP(tblSalaries[[#This Row],[Where do you work]],tblCountries[[Actual]:[Mapping]],2,FALSE)","v":"Aruba"},"1 or 2 hours a day",13,{"$f":"IF(ISNA(VLOOKUP(tblSalaries[[#This Row],[Years of Experience]],vlookUpExp!$A$1:$B$56,2,FALSE)),\"No Response\",VLOOKUP(tblSalaries[[#This Row],[Years of Experience]],vlookUpExp!$A$1:$B$56,2,FALSE))","v":"11-15"}]
[null,"ID0865","2012-05-27T04:31:08","R134000",134000,"ZAR",{"$f":"tblSalaries[[#This Row],[clean Salary (in local currency)]]*VLOOKUP(tblSalaries[[#This Row],[Currency]],tblXrate[],2,FALSE)","v":16337.518501630093},{"$f":"IF($H$1=\"USD\",tblSalaries[[#This Row],[Salary in USD]],tblSalaries[[#This Row],[Salary in USD]]*VLOOKUP($H$1,USDtoUserChoice,2,FALSE))","v":134000},"Data Analyst","Analyst","South Africa",{"$f":"VLOOKUP(tblSalaries[[#This Row],[Where do you work]],tblCountries[[Actual]:[Mapping]],2,FALSE)","v":"South Africa"},"4 to 6 hours a day",2,{"$f":"IF(ISNA(VLOOKUP(tblSalaries[[#This Row],[Years of Experience]],vlookUpExp!$A$1:$B$56,2,FALSE)),\"No Response\",VLOOKUP(tblSalaries[[#This Row],[Years of Experience]],vlookUpExp!$A$1:$B$56,2,FALSE))","v":"0-5"}]
[null,"ID0866","2012-05-27T04:40:33",65000,65000,"USD",{"$f":"tblSalaries[[#This Row],[clean Salary (in local currency)]]*VLOOKUP(tblSalaries[[#This Row],[Currency]],tblXrate[],2,FALSE)","v":65000},{"$f":"IF($H$1=\"USD\",tblSalaries[[#This Row],[Salary in USD]],tblSalaries[[#This Row],[Salary in USD]]*VLOOKUP($H$1,USDtoUserChoice,2,FALSE))","v":533128.70000000007},"Security Access Governance Analyst","Analyst","USA",{"$f":"VLOOKUP(tblSalaries[[#This Row],[Where do you work]],tblCountries[[Actual]:[Mapping]],2,FALSE)","v":"USA"},"1 or 2 hours a day",8,{"$f":"IF(ISNA(VLOOKUP(tblSalaries[[#This Row],[Years of Experience]],vlookUpExp!$A$1:$B$56,2,FALSE)),\"No Response\",VLOOKUP(tblSalaries[[#This Row],[Years of Experience]],vlookUpExp!$A$1:$B$56,2,FALSE))","v":"6-10"}]
[null,"ID0867","2012-05-27T06:17:41",40000,40000,"USD",{"$f":"tblSalaries[[#This Row],[clean Salary (in local currency)]]*VLOOKUP(tblSalaries[[#This Row],[Currency]],tblXrate[],2,FALSE)","v":40000},{"$f":"IF($H$1=\"USD\",tblSalaries[[#This Row],[Salary in USD]],tblSalaries[[#This Row],[Salary in USD]]*VLOOKUP($H$1,USDtoUserChoice,2,FALSE))","v":328079.2},"IT Capacity Planner","Analyst","USA",{"$f":"VLOOKUP(tblSalaries[[#This Row],[Where do you work]],tblCountries[[Actual]:[Mapping]],2,FALSE)","v":"USA"},"All the 8 hours baby, all the 8!",2,{"$f":"IF(ISNA(VLOOKUP(tblSalaries[[#This Row],[Years of Experience]],vlookUpExp!$A$1:$B$56,2,FALSE)),\"No Response\",VLOOKUP(tblSalaries[[#This Row],[Years of Experience]],vlookUpExp!$A$1:$B$56,2,FALSE))","v":"0-5"}]
[null,"ID0868","2012-05-27T06:37:13",98000,98000,"USD",{"$f":"tblSalaries[[#This Row],[clean Salary (in local currency)]]*VLOOKUP(tblSalaries[[#This Row],[Currency]],tblXrate[],2,FALSE)","v":98000},{"$f":"IF($H$1=\"USD\",tblSalaries[[#This Row],[Salary in USD]],tblSalaries[[#This Row],[Salary in USD]]*VLOOKUP($H$1,USDtoUserChoice,2,FALSE))","v":803794.04},"supply chain manager","Manager","indonesia",{"$f":"VLOOKUP(tblSalaries[[#This Row],[Where do you work]],tblCountries[[Actual]:[Mapping]],2,FALSE)","v":"Indonesia"},"2 to 3 hours per day",14,{"$f":"IF(ISNA(VLOOKUP(tblSalaries[[#This Row],[Years of Experience]],vlookUpExp!$A$1:$B$56,2,FALSE)),\"No Response\",VLOOKUP(tblSalaries[[#This Row],[Years of Experience]],vlookUpExp!$A$1:$B$56,2,FALSE))","v":"11-15"}]
[null,"ID0869","2012-05-27T06:37:15",50000,50000,"USD",{"$f":"tblSalaries[[#This Row],[clean Salary (in local currency)]]*VLOOKUP(tblSalaries[[#This Row],[Currency]],tblXrate[],2,FALSE)","v":50000},{"$f":"IF($H$1=\"USD\",tblSalaries[[#This Row],[Salary in USD]],tblSalaries[[#This Row],[Salary in USD]]*VLOOKUP($H$1,USDtoUserChoice,2,FALSE))","v":410099.00000000006},"Boss","CXO or Top Mgmt.","USA",{"$f":"VLOOKUP(tblSalaries[[#This Row],[Where do you work]],tblCountries[[Actual]:[Mapping]],2,FALSE)","v":"USA"},"All the 8 hours baby, all the 8!",15,{"$f":"IF(ISNA(VLOOKUP(tblSalaries[[#This Row],[Years of Experience]],vlookUpExp!$A$1:$B$56,2,FALSE)),\"No Response\",VLOOKUP(tblSalaries[[#This Row],[Years of Experience]],vlookUpExp!$A$1:$B$56,2,FALSE))","v":"11-15"}]
[null,"ID0870","2012-05-27T07:19:14",135000,135000,"USD",{"$f":"tblSalaries[[#This Row],[clean Salary (in local currency)]]*VLOOKUP(tblSalaries[[#This Row],[Currency]],tblXrate[],2,FALSE)","v":135000},{"$f":"IF($H$1=\"USD\",tblSalaries[[#This Row],[Salary in USD]],tblSalaries[[#This Row],[Salary in USD]]*VLOOKUP($H$1,USDtoUserChoice,2,FALSE))","v":1107267.3},"Director, P&A","CXO or Top Mgmt.","USA",{"$f":"VLOOKUP(tblSalaries[[#This Row],[Where do you work]],tblCountries[[Actual]:[Mapping]],2,FALSE)","v":"USA"},"4 to 6 hours a day",25,{"$f":"IF(ISNA(VLOOKUP(tblSalaries[[#This Row],[Years of Experience]],vlookUpExp!$A$1:$B$56,2,FALSE)),\"No Response\",VLOOKUP(tblSalaries[[#This Row],[Years of Experience]],vlookUpExp!$A$1:$B$56,2,FALSE))","v":"21-25"}]
[null,"ID0871","2012-05-27T08:07:40","125 $",125000,"USD",{"$f":"tblSalaries[[#This Row],[clean Salary (in local currency)]]*VLOOKUP(tblSalaries[[#This Row],[Currency]],tblXrate[],2,FALSE)","v":125000},{"$f":"IF($H$1=\"USD\",tblSalaries[[#This Row],[Salary in USD]],tblSalaries[[#This Row],[Salary in USD]]*VLOOKUP($H$1,USDtoUserChoice,2,FALSE))","v":1025247.5000000001},"Project controls manager","Manager","Norway",{"$f":"VLOOKUP(tblSalaries[[#This Row],[Where do you work]],tblCountries[[Actual]:[Mapping]],2,FALSE)","v":"Norway"},"4 to 6 hours a day",6,{"$f":"IF(ISNA(VLOOKUP(tblSalaries[[#This Row],[Years of Experience]],vlookUpExp!$A$1:$B$56,2,FALSE)),\"No Response\",VLOOKUP(tblSalaries[[#This Row],[Years of Experience]],vlookUpExp!$A$1:$B$56,2,FALSE))","v":"6-10"}]
[null,"ID0872","2012-05-27T08:54:28",4500,4500,"USD",{"$f":"tblSalaries[[#This Row],[clean Salary (in local currency)]]*VLOOKUP(tblSalaries[[#This Row],[Currency]],tblXrate[],2,FALSE)","v":4500},{"$f":"IF($H$1=\"USD\",tblSalaries[[#This Row],[Salary in USD]],tblSalaries[[#This Row],[Salary in USD]]*VLOOKUP($H$1,USDtoUserChoice,2,FALSE))","v":36908.910000000003},"senior associate","Analyst","indonesia",{"$f":"VLOOKUP(tblSalaries[[#This Row],[Where do you work]],tblCountries[[Actual]:[Mapping]],2,FALSE)","v":"Indonesia"},"2 to 3 hours per day",4,{"$f":"IF(ISNA(VLOOKUP(tblSalaries[[#This Row],[Years of Experience]],vlookUpExp!$A$1:$B$56,2,FALSE)),\"No Response\",VLOOKUP(tblSalaries[[#This Row],[Years of Experience]],vlookUpExp!$A$1:$B$56,2,FALSE))","v":"0-5"}]
[null,"ID0873","2012-05-27T08:55:36",115000,115000,"USD",{"$f":"tblSalaries[[#This Row],[clean Salary (in local currency)]]*VLOOKUP(tblSalaries[[#This Row],[Currency]],tblXrate[],2,FALSE)","v":115000},{"$f":"IF($H$1=\"USD\",tblSalaries[[#This Row],[Salary in USD]],tblSalaries[[#This Row],[Salary in USD]]*VLOOKUP($H$1,USDtoUserChoice,2,FALSE))","v":943227.70000000007},"Principal Financial Analyst","Analyst","USA",{"$f":"VLOOKUP(tblSalaries[[#This Row],[Where do you work]],tblCountries[[Actual]:[Mapping]],2,FALSE)","v":"USA"},"4 to 6 hours a day",10,{"$f":"IF(ISNA(VLOOKUP(tblSalaries[[#This Row],[Years of Experience]],vlookUpExp!$A$1:$B$56,2,FALSE)),\"No Response\",VLOOKUP(tblSalaries[[#This Row],[Years of Experience]],vlookUpExp!$A$1:$B$56,2,FALSE))","v":"6-10"}]
[null,"ID0874","2012-05-27T09:17:47",70000,70000,"USD",{"$f":"tblSalaries[[#This Row],[clean Salary (in local currency)]]*VLOOKUP(tblSalaries[[#This Row],[Currency]],tblXrate[],2,FALSE)","v":70000},{"$f":"IF($H$1=\"USD\",tblSalaries[[#This Row],[Salary in USD]],tblSalaries[[#This Row],[Salary in USD]]*VLOOKUP($H$1,USDtoUserChoice,2,FALSE))","v":574138.60000000009},"Financial Analyst","Analyst","USA",{"$f":"VLOOKUP(tblSalaries[[#This Row],[Where do you work]],tblCountries[[Actual]:[Mapping]],2,FALSE)","v":"USA"},"All the 8 hours baby, all the 8!",15,{"$f":"IF(ISNA(VLOOKUP(tblSalaries[[#This Row],[Years of Experience]],vlookUpExp!$A$1:$B$56,2,FALSE)),\"No Response\",VLOOKUP(tblSalaries[[#This Row],[Years of Experience]],vlookUpExp!$A$1:$B$56,2,FALSE))","v":"11-15"}]
[null,"ID0875","2012-05-27T09:49:30",5000,60000,"USD",{"$f":"tblSalaries[[#This Row],[clean Salary (in local currency)]]*VLOOKUP(tblSalaries[[#This Row],[Currency]],tblXrate[],2,FALSE)","v":60000},{"$f":"IF($H$1=\"USD\",tblSalaries[[#This Row],[Salary in USD]],tblSalaries[[#This Row],[Salary in USD]]*VLOOKUP($H$1,USDtoUserChoice,2,FALSE))","v":492118.80000000005},"Store keeper","Analyst","USA",{"$f":"VLOOKUP(tblSalaries[[#This Row],[Where do you work]],tblCountries[[Actual]:[Mapping]],2,FALSE)","v":"USA"},"2 to 3 hours per day",8,{"$f":"IF(ISNA(VLOOKUP(tblSalaries[[#This Row],[Years of Experience]],vlookUpExp!$A$1:$B$56,2,FALSE)),\"No Response\",VLOOKUP(tblSalaries[[#This Row],[Years of Experience]],vlookUpExp!$A$1:$B$56,2,FALSE))","v":"6-10"}]
[null,"ID0876","2012-05-27T10:13:27",87456,87456,"USD",{"$f":"tblSalaries[[#This Row],[clean Salary (in local currency)]]*VLOOKUP(tblSalaries[[#This Row],[Currency]],tblXrate[],2,FALSE)","v":87456},{"$f":"IF($H$1=\"USD\",tblSalaries[[#This Row],[Salary in USD]],tblSalaries[[#This Row],[Salary in USD]]*VLOOKUP($H$1,USDtoUserChoice,2,FALSE))","v":717312.36288000003},"qa team supervisor ","Manager","USA",{"$f":"VLOOKUP(tblSalaries[[#This Row],[Where do you work]],tblCountries[[Actual]:[Mapping]],2,FALSE)","v":"USA"},"2 to 3 hours per day",12,{"$f":"IF(ISNA(VLOOKUP(tblSalaries[[#This Row],[Years of Experience]],vlookUpExp!$A$1:$B$56,2,FALSE)),\"No Response\",VLOOKUP(tblSalaries[[#This Row],[Years of Experience]],vlookUpExp!$A$1:$B$56,2,FALSE))","v":"11-15"}]
[null,"ID0877","2012-05-27T11:32:17",26400,26400,"USD",{"$f":"tblSalaries[[#This Row],[clean Salary (in local currency)]]*VLOOKUP(tblSalaries[[#This Row],[Currency]],tblXrate[],2,FALSE)","v":26400},{"$f":"IF($H$1=\"USD\",tblSalaries[[#This Row],[Salary in USD]],tblSalaries[[#This Row],[Salary in USD]]*VLOOKUP($H$1,USDtoUserChoice,2,FALSE))","v":216532.27200000003},"Supply Chain Administrator","Analyst","UAE",{"$f":"VLOOKUP(tblSalaries[[#This Row],[Where do you work]],tblCountries[[Actual]:[Mapping]],2,FALSE)","v":"UAE"},"All the 8 hours baby, all the 8!",6,{"$f":"IF(ISNA(VLOOKUP(tblSalaries[[#This Row],[Years of Experience]],vlookUpExp!$A$1:$B$56,2,FALSE)),\"No Response\",VLOOKUP(tblSalaries[[#This Row],[Years of Experience]],vlookUpExp!$A$1:$B$56,2,FALSE))","v":"6-10"}]
[null,"ID0878","2012-05-27T11:50:16",1000,12000,"USD",{"$f":"tblSalaries[[#This Row],[clean Salary (in local currency)]]*VLOOKUP(tblSalaries[[#This Row],[Currency]],tblXrate[],2,FALSE)","v":12000},{"$f":"IF($H$1=\"USD\",tblSalaries[[#This Row],[Salary in USD]],tblSalaries[[#This Row],[Salary in USD]]*VLOOKUP($H$1,USDtoUserChoice,2,FALSE))","v":98423.760000000009},"sup","Manager","UAE",{"$f":"VLOOKUP(tblSalaries[[#This Row],[Where do you work]],tblCountries[[Actual]:[Mapping]],2,FALSE)","v":"UAE"},"All the 8 hours baby, all the 8!",18,{"$f":"IF(ISNA(VLOOKUP(tblSalaries[[#This Row],[Years of Experience]],vlookUpExp!$A$1:$B$56,2,FALSE)),\"No Response\",VLOOKUP(tblSalaries[[#This Row],[Years of Experience]],vlookUpExp!$A$1:$B$56,2,FALSE))","v":"16-20"}]
[null,"ID0879","2012-05-27T12:03:51",144000,144000,"INR",{"$f":"tblSalaries[[#This Row],[clean Salary (in local currency)]]*VLOOKUP(tblSalaries[[#This Row],[Currency]],tblXrate[],2,FALSE)","v":2564.3400029917298},{"$f":"IF($H$1=\"USD\",tblSalaries[[#This Row],[Salary in USD]],tblSalaries[[#This Row],[Salary in USD]]*VLOOKUP($H$1,USDtoUserChoice,2,FALSE))","v":21032.66541773811},"Cost Trainee","Analyst","India",{"$f":"VLOOKUP(tblSalaries[[#This Row],[Where do you work]],tblCountries[[Actual]:[Mapping]],2,FALSE)","v":"India"},"4 to 6 hours a day",1,{"$f":"IF(ISNA(VLOOKUP(tblSalaries[[#This Row],[Years of Experience]],vlookUpExp!$A$1:$B$56,2,FALSE)),\"No Response\",VLOOKUP(tblSalaries[[#This Row],[Years of Experience]],vlookUpExp!$A$1:$B$56,2,FALSE))","v":"0-5"}]
[null,"ID0880","2012-05-27T12:32:45","62000 USD",62000,"USD",{"$f":"tblSalaries[[#This Row],[clean Salary (in local currency)]]*VLOOKUP(tblSalaries[[#This Row],[Currency]],tblXrate[],2,FALSE)","v":62000},{"$f":"IF($H$1=\"USD\",tblSalaries[[#This Row],[Salary in USD]],tblSalaries[[#This Row],[Salary in USD]]*VLOOKUP($H$1,USDtoUserChoice,2,FALSE))","v":508522.76000000007},"Deputy Manager Finance","Manager","Qatar",{"$f":"VLOOKUP(tblSalaries[[#This Row],[Where do you work]],tblCountries[[Actual]:[Mapping]],2,FALSE)","v":"Qatar"},"All the 8 hours baby, all the 8!",11,{"$f":"IF(ISNA(VLOOKUP(tblSalaries[[#This Row],[Years of Experience]],vlookUpExp!$A$1:$B$56,2,FALSE)),\"No Response\",VLOOKUP(tblSalaries[[#This Row],[Years of Experience]],vlookUpExp!$A$1:$B$56,2,FALSE))","v":"11-15"}]
[null,"ID0881","2012-05-27T12:35:15","3 lacs P.A",300000,"INR",{"$f":"tblSalaries[[#This Row],[clean Salary (in local currency)]]*VLOOKUP(tblSalaries[[#This Row],[Currency]],tblXrate[],2,FALSE)","v":5342.3750062327708},{"$f":"IF($H$1=\"USD\",tblSalaries[[#This Row],[Salary in USD]],tblSalaries[[#This Row],[Salary in USD]]*VLOOKUP($H$1,USDtoUserChoice,2,FALSE))","v":43818.052953621067},"Sales","Analyst","India",{"$f":"VLOOKUP(tblSalaries[[#This Row],[Where do you work]],tblCountries[[Actual]:[Mapping]],2,FALSE)","v":"India"},"1 or 2 hours a day",10,{"$f":"IF(ISNA(VLOOKUP(tblSalaries[[#This Row],[Years of Experience]],vlookUpExp!$A$1:$B$56,2,FALSE)),\"No Response\",VLOOKUP(tblSalaries[[#This Row],[Years of Experience]],vlookUpExp!$A$1:$B$56,2,FALSE))","v":"6-10"}]
[null,"ID0882","2012-05-27T12:37:02",40000,40000,"EUR",{"$f":"tblSalaries[[#This Row],[clean Salary (in local currency)]]*VLOOKUP(tblSalaries[[#This Row],[Currency]],tblXrate[],2,FALSE)","v":50815.977559664309},{"$f":"IF($H$1=\"USD\",tblSalaries[[#This Row],[Salary in USD]],tblSalaries[[#This Row],[Salary in USD]]*VLOOKUP($H$1,USDtoUserChoice,2,FALSE))","v":416791.63162481552},"Medical information analist","Analyst","Netherlands",{"$f":"VLOOKUP(tblSalaries[[#This Row],[Where do you work]],tblCountries[[Actual]:[Mapping]],2,FALSE)","v":"Netherlands"},"4 to 6 hours a day",4,{"$f":"IF(ISNA(VLOOKUP(tblSalaries[[#This Row],[Years of Experience]],vlookUpExp!$A$1:$B$56,2,FALSE)),\"No Response\",VLOOKUP(tblSalaries[[#This Row],[Years of Experience]],vlookUpExp!$A$1:$B$56,2,FALSE))","v":"0-5"}]
[null,"ID0883","2012-05-27T12:41:29","US 2130",25560,"USD",{"$f":"tblSalaries[[#This Row],[clean Salary (in local currency)]]*VLOOKUP(tblSalaries[[#This Row],[Currency]],tblXrate[],2,FALSE)","v":25560},{"$f":"IF($H$1=\"USD\",tblSalaries[[#This Row],[Salary in USD]],tblSalaries[[#This Row],[Salary in USD]]*VLOOKUP($H$1,USDtoUserChoice,2,FALSE))","v":209642.60880000002},"Training Coordinator","Manager","saudi arabia",{"$f":"VLOOKUP(tblSalaries[[#This Row],[Where do you work]],tblCountries[[Actual]:[Mapping]],2,FALSE)","v":"Saudi Arabia"},"4 to 6 hours a day",3,{"$f":"IF(ISNA(VLOOKUP(tblSalaries[[#This Row],[Years of Experience]],vlookUpExp!$A$1:$B$56,2,FALSE)),\"No Response\",VLOOKUP(tblSalaries[[#This Row],[Years of Experience]],vlookUpExp!$A$1:$B$56,2,FALSE))","v":"0-5"}]
[null,"ID0884","2012-05-27T12:57:51","Rs.60000/-",720000,"INR",{"$f":"tblSalaries[[#This Row],[clean Salary (in local currency)]]*VLOOKUP(tblSalaries[[#This Row],[Currency]],tblXrate[],2,FALSE)","v":12821.700014958649},{"$f":"IF($H$1=\"USD\",tblSalaries[[#This Row],[Salary in USD]],tblSalaries[[#This Row],[Salary in USD]]*VLOOKUP($H$1,USDtoUserChoice,2,FALSE))","v":105163.32708869055},"Article (Internship) - CA","Accountant","India",{"$f":"VLOOKUP(tblSalaries[[#This Row],[Where do you work]],tblCountries[[Actual]:[Mapping]],2,FALSE)","v":"India"},"4 to 6 hours a day",3,{"$f":"IF(ISNA(VLOOKUP(tblSalaries[[#This Row],[Years of Experience]],vlookUpExp!$A$1:$B$56,2,FALSE)),\"No Response\",VLOOKUP(tblSalaries[[#This Row],[Years of Experience]],vlookUpExp!$A$1:$B$56,2,FALSE))","v":"0-5"}]
[null,"ID0885","2012-05-27T13:06:50",600000,600000,"INR",{"$f":"tblSalaries[[#This Row],[clean Salary (in local currency)]]*VLOOKUP(tblSalaries[[#This Row],[Currency]],tblXrate[],2,FALSE)","v":10684.750012465542},{"$f":"IF($H$1=\"USD\",tblSalaries[[#This Row],[Salary in USD]],tblSalaries[[#This Row],[Salary in USD]]*VLOOKUP($H$1,USDtoUserChoice,2,FALSE))","v":87636.105907242134},"Asst Manager","Manager","India",{"$f":"VLOOKUP(tblSalaries[[#This Row],[Where do you work]],tblCountries[[Actual]:[Mapping]],2,FALSE)","v":"India"},"All the 8 hours baby, all the 8!",5,{"$f":"IF(ISNA(VLOOKUP(tblSalaries[[#This Row],[Years of Experience]],vlookUpExp!$A$1:$B$56,2,FALSE)),\"No Response\",VLOOKUP(tblSalaries[[#This Row],[Years of Experience]],vlookUpExp!$A$1:$B$56,2,FALSE))","v":"0-5"}]
[null,"ID0886","2012-05-27T13:27:19","Rs. 35000",420000,"PKR",{"$f":"tblSalaries[[#This Row],[clean Salary (in local currency)]]*VLOOKUP(tblSalaries[[#This Row],[Currency]],tblXrate[],2,FALSE)","v":4457.9172610556352},{"$f":"IF($H$1=\"USD\",tblSalaries[[#This Row],[Salary in USD]],tblSalaries[[#This Row],[Salary in USD]]*VLOOKUP($H$1,USDtoUserChoice,2,FALSE))","v":36563.748216833104},"Assistant Manager","Manager","Pakistan",{"$f":"VLOOKUP(tblSalaries[[#This Row],[Where do you work]],tblCountries[[Actual]:[Mapping]],2,FALSE)","v":"Pakistan"},"All the 8 hours baby, all the 8!",4,{"$f":"IF(ISNA(VLOOKUP(tblSalaries[[#This Row],[Years of Experience]],vlookUpExp!$A$1:$B$56,2,FALSE)),\"No Response\",VLOOKUP(tblSalaries[[#This Row],[Years of Experience]],vlookUpExp!$A$1:$B$56,2,FALSE))","v":"0-5"}]
[null,"ID0887","2012-05-27T13:29:52","$125000 / a excl bonus",125000,"USD",{"$f":"tblSalaries[[#This Row],[clean Salary (in local currency)]]*VLOOKUP(tblSalaries[[#This Row],[Currency]],tblXrate[],2,FALSE)","v":125000},{"$f":"IF($H$1=\"USD\",tblSalaries[[#This Row],[Salary in USD]],tblSalaries[[#This Row],[Salary in USD]]*VLOOKUP($H$1,USDtoUserChoice,2,FALSE))","v":1025247.5000000001},"Commercial Director","CXO or Top Mgmt.","South Africa",{"$f":"VLOOKUP(tblSalaries[[#This Row],[Where do you work]],tblCountries[[Actual]:[Mapping]],2,FALSE)","v":"South Africa"},"4 to 6 hours a day",20,{"$f":"IF(ISNA(VLOOKUP(tblSalaries[[#This Row],[Years of Experience]],vlookUpExp!$A$1:$B$56,2,FALSE)),\"No Response\",VLOOKUP(tblSalaries[[#This Row],[Years of Experience]],vlookUpExp!$A$1:$B$56,2,FALSE))","v":"16-20"}]
[null,"ID0888","2012-05-27T13:34:12",43000,43000,"USD",{"$f":"tblSalaries[[#This Row],[clean Salary (in local currency)]]*VLOOKUP(tblSalaries[[#This Row],[Currency]],tblXrate[],2,FALSE)","v":43000},{"$f":"IF($H$1=\"USD\",tblSalaries[[#This Row],[Salary in USD]],tblSalaries[[#This Row],[Salary in USD]]*VLOOKUP($H$1,USDtoUserChoice,2,FALSE))","v":352685.14},"Financial Analyst","Analyst","USA",{"$f":"VLOOKUP(tblSalaries[[#This Row],[Where do you work]],tblCountries[[Actual]:[Mapping]],2,FALSE)","v":"USA"},"4 to 6 hours a day",1,{"$f":"IF(ISNA(VLOOKUP(tblSalaries[[#This Row],[Years of Experience]],vlookUpExp!$A$1:$B$56,2,FALSE)),\"No Response\",VLOOKUP(tblSalaries[[#This Row],[Years of Experience]],vlookUpExp!$A$1:$B$56,2,FALSE))","v":"0-5"}]
[null,"ID0889","2012-05-27T13:41:04","400000 Rs",400000,"INR",{"$f":"tblSalaries[[#This Row],[clean Salary (in local currency)]]*VLOOKUP(tblSalaries[[#This Row],[Currency]],tblXrate[],2,FALSE)","v":7123.1666749770275},{"$f":"IF($H$1=\"USD\",tblSalaries[[#This Row],[Salary in USD]],tblSalaries[[#This Row],[Salary in USD]]*VLOOKUP($H$1,USDtoUserChoice,2,FALSE))","v":58424.070604828084},"engineer","Engineer","India",{"$f":"VLOOKUP(tblSalaries[[#This Row],[Where do you work]],tblCountries[[Actual]:[Mapping]],2,FALSE)","v":"India"},"2 to 3 hours per day",6,{"$f":"IF(ISNA(VLOOKUP(tblSalaries[[#This Row],[Years of Experience]],vlookUpExp!$A$1:$B$56,2,FALSE)),\"No Response\",VLOOKUP(tblSalaries[[#This Row],[Years of Experience]],vlookUpExp!$A$1:$B$56,2,FALSE))","v":"6-10"}]
[null,"ID0890","2012-05-27T13:41:05",10000,10000,"USD",{"$f":"tblSalaries[[#This Row],[clean Salary (in local currency)]]*VLOOKUP(tblSalaries[[#This Row],[Currency]],tblXrate[],2,FALSE)","v":10000},{"$f":"IF($H$1=\"USD\",tblSalaries[[#This Row],[Salary in USD]],tblSalaries[[#This Row],[Salary in USD]]*VLOOKUP($H$1,USDtoUserChoice,2,FALSE))","v":82019.8},"Finance Staff","Accountant","Viet Nam",{"$f":"VLOOKUP(tblSalaries[[#This Row],[Where do you work]],tblCountries[[Actual]:[Mapping]],2,FALSE)","v":"Viet Nam"},"4 to 6 hours a day",4,{"$f":"IF(ISNA(VLOOKUP(tblSalaries[[#This Row],[Years of Experience]],vlookUpExp!$A$1:$B$56,2,FALSE)),\"No Response\",VLOOKUP(tblSalaries[[#This Row],[Years of Experience]],vlookUpExp!$A$1:$B$56,2,FALSE))","v":"0-5"}]
[null,"ID0891","2012-05-27T13:42:15","inr 500000",500000,"INR",{"$f":"tblSalaries[[#This Row],[clean Salary (in local currency)]]*VLOOKUP(tblSalaries[[#This Row],[Currency]],tblXrate[],2,FALSE)","v":8903.9583437212841},{"$f":"IF($H$1=\"USD\",tblSalaries[[#This Row],[Salary in USD]],tblSalaries[[#This Row],[Salary in USD]]*VLOOKUP($H$1,USDtoUserChoice,2,FALSE))","v":73030.088256035102},"team coach","Manager","India",{"$f":"VLOOKUP(tblSalaries[[#This Row],[Where do you work]],tblCountries[[Actual]:[Mapping]],2,FALSE)","v":"India"},"1 or 2 hours a day",5,{"$f":"IF(ISNA(VLOOKUP(tblSalaries[[#This Row],[Years of Experience]],vlookUpExp!$A$1:$B$56,2,FALSE)),\"No Response\",VLOOKUP(tblSalaries[[#This Row],[Years of Experience]],vlookUpExp!$A$1:$B$56,2,FALSE))","v":"0-5"}]
[null,"ID0892","2012-05-27T13:45:47",36500,36500,"USD",{"$f":"tblSalaries[[#This Row],[clean Salary (in local currency)]]*VLOOKUP(tblSalaries[[#This Row],[Currency]],tblXrate[],2,FALSE)","v":36500},{"$f":"IF($H$1=\"USD\",tblSalaries[[#This Row],[Salary in USD]],tblSalaries[[#This Row],[Salary in USD]]*VLOOKUP($H$1,USDtoUserChoice,2,FALSE))","v":299372.27},"Accountant","Accountant","Saudi Arabia",{"$f":"VLOOKUP(tblSalaries[[#This Row],[Where do you work]],tblCountries[[Actual]:[Mapping]],2,FALSE)","v":"Saudi Arabia"},"4 to 6 hours a day",15,{"$f":"IF(ISNA(VLOOKUP(tblSalaries[[#This Row],[Years of Experience]],vlookUpExp!$A$1:$B$56,2,FALSE)),\"No Response\",VLOOKUP(tblSalaries[[#This Row],[Years of Experience]],vlookUpExp!$A$1:$B$56,2,FALSE))","v":"11-15"}]
[null,"ID0893","2012-05-27T13:52:53","100,000 usd",100000,"USD",{"$f":"tblSalaries[[#This Row],[clean Salary (in local currency)]]*VLOOKUP(tblSalaries[[#This Row],[Currency]],tblXrate[],2,FALSE)","v":100000},{"$f":"IF($H$1=\"USD\",tblSalaries[[#This Row],[Salary in USD]],tblSalaries[[#This Row],[Salary in USD]]*VLOOKUP($H$1,USDtoUserChoice,2,FALSE))","v":820198.00000000012},"Director","CXO or Top Mgmt.","MÃ©xico",{"$f":"VLOOKUP(tblSalaries[[#This Row],[Where do you work]],tblCountries[[Actual]:[Mapping]],2,FALSE)","v":"Mexico"},"All the 8 hours baby, all the 8!",10,{"$f":"IF(ISNA(VLOOKUP(tblSalaries[[#This Row],[Years of Experience]],vlookUpExp!$A$1:$B$56,2,FALSE)),\"No Response\",VLOOKUP(tblSalaries[[#This Row],[Years of Experience]],vlookUpExp!$A$1:$B$56,2,FALSE))","v":"6-10"}]
[null,"ID0894","2012-05-27T14:04:31","Rs. 400000",400000,"INR",{"$f":"tblSalaries[[#This Row],[clean Salary (in local currency)]]*VLOOKUP(tblSalaries[[#This Row],[Currency]],tblXrate[],2,FALSE)","v":7123.1666749770275},{"$f":"IF($H$1=\"USD\",tblSalaries[[#This Row],[Salary in USD]],tblSalaries[[#This Row],[Salary in USD]]*VLOOKUP($H$1,USDtoUserChoice,2,FALSE))","v":58424.070604828084},"Accountancy","Accountant","India",{"$f":"VLOOKUP(tblSalaries[[#This Row],[Where do you work]],tblCountries[[Actual]:[Mapping]],2,FALSE)","v":"India"},"2 to 3 hours per day",8,{"$f":"IF(ISNA(VLOOKUP(tblSalaries[[#This Row],[Years of Experience]],vlookUpExp!$A$1:$B$56,2,FALSE)),\"No Response\",VLOOKUP(tblSalaries[[#This Row],[Years of Experience]],vlookUpExp!$A$1:$B$56,2,FALSE))","v":"6-10"}]
[null,"ID0895","2012-05-27T14:22:11","INR 23 L",2300000,"INR",{"$f":"tblSalaries[[#This Row],[clean Salary (in local currency)]]*VLOOKUP(tblSalaries[[#This Row],[Currency]],tblXrate[],2,FALSE)","v":40958.208381117904},{"$f":"IF($H$1=\"USD\",tblSalaries[[#This Row],[Salary in USD]],tblSalaries[[#This Row],[Salary in USD]]*VLOOKUP($H$1,USDtoUserChoice,2,FALSE))","v":335938.40597776143},"Manager - Business Planning & Reporting","Manager","India",{"$f":"VLOOKUP(tblSalaries[[#This Row],[Where do you work]],tblCountries[[Actual]:[Mapping]],2,FALSE)","v":"India"},"2 to 3 hours per day",8,{"$f":"IF(ISNA(VLOOKUP(tblSalaries[[#This Row],[Years of Experience]],vlookUpExp!$A$1:$B$56,2,FALSE)),\"No Response\",VLOOKUP(tblSalaries[[#This Row],[Years of Experience]],vlookUpExp!$A$1:$B$56,2,FALSE))","v":"6-10"}]
[null,"ID0896","2012-05-27T14:27:33","rs 100000",1200000,"INR",{"$f":"tblSalaries[[#This Row],[clean Salary (in local currency)]]*VLOOKUP(tblSalaries[[#This Row],[Currency]],tblXrate[],2,FALSE)","v":21369.500024931083},{"$f":"IF($H$1=\"USD\",tblSalaries[[#This Row],[Salary in USD]],tblSalaries[[#This Row],[Salary in USD]]*VLOOKUP($H$1,USDtoUserChoice,2,FALSE))","v":175272.21181448427},"ASST VICE PREDISDENT","CXO or Top Mgmt.","India",{"$f":"VLOOKUP(tblSalaries[[#This Row],[Where do you work]],tblCountries[[Actual]:[Mapping]],2,FALSE)","v":"India"},"4 to 6 hours a day",17,{"$f":"IF(ISNA(VLOOKUP(tblSalaries[[#This Row],[Years of Experience]],vlookUpExp!$A$1:$B$56,2,FALSE)),\"No Response\",VLOOKUP(tblSalaries[[#This Row],[Years of Experience]],vlookUpExp!$A$1:$B$56,2,FALSE))","v":"16-20"}]
[null,"ID0897","2012-05-27T14:47:21",120000,120000,"INR",{"$f":"tblSalaries[[#This Row],[clean Salary (in local currency)]]*VLOOKUP(tblSalaries[[#This Row],[Currency]],tblXrate[],2,FALSE)","v":2136.9500024931081},{"$f":"IF($H$1=\"USD\",tblSalaries[[#This Row],[Salary in USD]],tblSalaries[[#This Row],[Salary in USD]]*VLOOKUP($H$1,USDtoUserChoice,2,FALSE))","v":17527.221181448425},"co ordinator","Manager","India",{"$f":"VLOOKUP(tblSalaries[[#This Row],[Where do you work]],tblCountries[[Actual]:[Mapping]],2,FALSE)","v":"India"},"4 to 6 hours a day",5,{"$f":"IF(ISNA(VLOOKUP(tblSalaries[[#This Row],[Years of Experience]],vlookUpExp!$A$1:$B$56,2,FALSE)),\"No Response\",VLOOKUP(tblSalaries[[#This Row],[Years of Experience]],vlookUpExp!$A$1:$B$56,2,FALSE))","v":"0-5"}]
[null,"ID0898","2012-05-27T14:49:12","5,00,000 INR",500000,"INR",{"$f":"tblSalaries[[#This Row],[clean Salary (in local currency)]]*VLOOKUP(tblSalaries[[#This Row],[Currency]],tblXrate[],2,FALSE)","v":8903.9583437212841},{"$f":"IF($H$1=\"USD\",tblSalaries[[#This Row],[Salary in USD]],tblSalaries[[#This Row],[Salary in USD]]*VLOOKUP($H$1,USDtoUserChoice,2,FALSE))","v":73030.088256035102},"Planning Engineer","Engineer","India",{"$f":"VLOOKUP(tblSalaries[[#This Row],[Where do you work]],tblCountries[[Actual]:[Mapping]],2,FALSE)","v":"India"},"2 to 3 hours per day",3,{"$f":"IF(ISNA(VLOOKUP(tblSalaries[[#This Row],[Years of Experience]],vlookUpExp!$A$1:$B$56,2,FALSE)),\"No Response\",VLOOKUP(tblSalaries[[#This Row],[Years of Experience]],vlookUpExp!$A$1:$B$56,2,FALSE))","v":"0-5"}]
[null,"ID0899","2012-05-27T14:50:56",1000000,1000000,"INR",{"$f":"tblSalaries[[#This Row],[clean Salary (in local currency)]]*VLOOKUP(tblSalaries[[#This Row],[Currency]],tblXrate[],2,FALSE)","v":17807.916687442568},{"$f":"IF($H$1=\"USD\",tblSalaries[[#This Row],[Salary in USD]],tblSalaries[[#This Row],[Salary in USD]]*VLOOKUP($H$1,USDtoUserChoice,2,FALSE))","v":146060.1765120702},"Engagement Lead","Manager","India",{"$f":"VLOOKUP(tblSalaries[[#This Row],[Where do you work]],tblCountries[[Actual]:[Mapping]],2,FALSE)","v":"India"},"4 to 6 hours a day",5,{"$f":"IF(ISNA(VLOOKUP(tblSalaries[[#This Row],[Years of Experience]],vlookUpExp!$A$1:$B$56,2,FALSE)),\"No Response\",VLOOKUP(tblSalaries[[#This Row],[Years of Experience]],vlookUpExp!$A$1:$B$56,2,FALSE))","v":"0-5"}]
[null,"ID0900","2012-05-27T14:55:30","INR 850,000",850000,"INR",{"$f":"tblSalaries[[#This Row],[clean Salary (in local currency)]]*VLOOKUP(tblSalaries[[#This Row],[Currency]],tblXrate[],2,FALSE)","v":15136.729184326183},{"$f":"IF($H$1=\"USD\",tblSalaries[[#This Row],[Salary in USD]],tblSalaries[[#This Row],[Salary in USD]]*VLOOKUP($H$1,USDtoUserChoice,2,FALSE))","v":124151.15003525968},"Assistant Manager","Manager","India",{"$f":"VLOOKUP(tblSalaries[[#This Row],[Where do you work]],tblCountries[[Actual]:[Mapping]],2,FALSE)","v":"India"},"2 to 3 hours per day",3,{"$f":"IF(ISNA(VLOOKUP(tblSalaries[[#This Row],[Years of Experience]],vlookUpExp!$A$1:$B$56,2,FALSE)),\"No Response\",VLOOKUP(tblSalaries[[#This Row],[Years of Experience]],vlookUpExp!$A$1:$B$56,2,FALSE))","v":"0-5"}]
[null,"ID0901","2012-05-27T15:01:02","PhP168000",168000,"PHP",{"$f":"tblSalaries[[#This Row],[clean Salary (in local currency)]]*VLOOKUP(tblSalaries[[#This Row],[Currency]],tblXrate[],2,FALSE)","v":3982.448779308334},{"$f":"IF($H$1=\"USD\",tblSalaries[[#This Row],[Salary in USD]],tblSalaries[[#This Row],[Salary in USD]]*VLOOKUP($H$1,USDtoUserChoice,2,FALSE))","v":32663.965238911373},"Clerk","Analyst","Philippines",{"$f":"VLOOKUP(tblSalaries[[#This Row],[Where do you work]],tblCountries[[Actual]:[Mapping]],2,FALSE)","v":"Philippines"},"4 to 6 hours a day",10,{"$f":"IF(ISNA(VLOOKUP(tblSalaries[[#This Row],[Years of Experience]],vlookUpExp!$A$1:$B$56,2,FALSE)),\"No Response\",VLOOKUP(tblSalaries[[#This Row],[Years of Experience]],vlookUpExp!$A$1:$B$56,2,FALSE))","v":"6-10"}]
[null,"ID0903","2012-05-27T15:25:40",1300,15600,"USD",{"$f":"tblSalaries[[#This Row],[clean Salary (in local currency)]]*VLOOKUP(tblSalaries[[#This Row],[Currency]],tblXrate[],2,FALSE)","v":15600},{"$f":"IF($H$1=\"USD\",tblSalaries[[#This Row],[Salary in USD]],tblSalaries[[#This Row],[Salary in USD]]*VLOOKUP($H$1,USDtoUserChoice,2,FALSE))","v":127950.88800000001},"Document controller ","Controller","Kuwait ",{"$f":"VLOOKUP(tblSalaries[[#This Row],[Where do you work]],tblCountries[[Actual]:[Mapping]],2,FALSE)","v":"Kuwait "},"4 to 6 hours a day",13,{"$f":"IF(ISNA(VLOOKUP(tblSalaries[[#This Row],[Years of Experience]],vlookUpExp!$A$1:$B$56,2,FALSE)),\"No Response\",VLOOKUP(tblSalaries[[#This Row],[Years of Experience]],vlookUpExp!$A$1:$B$56,2,FALSE))","v":"11-15"}]
[null,"ID0904","2012-05-27T15:26:34","180000 INR",180000,"INR",{"$f":"tblSalaries[[#This Row],[clean Salary (in local currency)]]*VLOOKUP(tblSalaries[[#This Row],[Currency]],tblXrate[],2,FALSE)","v":3205.4250037396623},{"$f":"IF($H$1=\"USD\",tblSalaries[[#This Row],[Salary in USD]],tblSalaries[[#This Row],[Salary in USD]]*VLOOKUP($H$1,USDtoUserChoice,2,FALSE))","v":26290.831772172638},"Executive","Analyst","India",{"$f":"VLOOKUP(tblSalaries[[#This Row],[Where do you work]],tblCountries[[Actual]:[Mapping]],2,FALSE)","v":"India"},"2 to 3 hours per day",3.5,{"$f":"IF(ISNA(VLOOKUP(tblSalaries[[#This Row],[Years of Experience]],vlookUpExp!$A$1:$B$56,2,FALSE)),\"No Response\",VLOOKUP(tblSalaries[[#This Row],[Years of Experience]],vlookUpExp!$A$1:$B$56,2,FALSE))","v":"0-5"}]
[null,"ID0905","2012-05-27T15:32:10",10000,10000,"USD",{"$f":"tblSalaries[[#This Row],[clean Salary (in local currency)]]*VLOOKUP(tblSalaries[[#This Row],[Currency]],tblXrate[],2,FALSE)","v":10000},{"$f":"IF($H$1=\"USD\",tblSalaries[[#This Row],[Salary in USD]],tblSalaries[[#This Row],[Salary in USD]]*VLOOKUP($H$1,USDtoUserChoice,2,FALSE))","v":82019.8},"Planner","Manager","India",{"$f":"VLOOKUP(tblSalaries[[#This Row],[Where do you work]],tblCountries[[Actual]:[Mapping]],2,FALSE)","v":"India"},"4 to 6 hours a day",6,{"$f":"IF(ISNA(VLOOKUP(tblSalaries[[#This Row],[Years of Experience]],vlookUpExp!$A$1:$B$56,2,FALSE)),\"No Response\",VLOOKUP(tblSalaries[[#This Row],[Years of Experience]],vlookUpExp!$A$1:$B$56,2,FALSE))","v":"6-10"}]
[null,"ID0906","2012-05-27T15:44:07",75010,75010,"USD",{"$f":"tblSalaries[[#This Row],[clean Salary (in local currency)]]*VLOOKUP(tblSalaries[[#This Row],[Currency]],tblXrate[],2,FALSE)","v":75010},{"$f":"IF($H$1=\"USD\",tblSalaries[[#This Row],[Salary in USD]],tblSalaries[[#This Row],[Salary in USD]]*VLOOKUP($H$1,USDtoUserChoice,2,FALSE))","v":615230.51980000001},"Senior Business Analyst","Analyst","USA",{"$f":"VLOOKUP(tblSalaries[[#This Row],[Where do you work]],tblCountries[[Actual]:[Mapping]],2,FALSE)","v":"USA"},"2 to 3 hours per day",6,{"$f":"IF(ISNA(VLOOKUP(tblSalaries[[#This Row],[Years of Experience]],vlookUpExp!$A$1:$B$56,2,FALSE)),\"No Response\",VLOOKUP(tblSalaries[[#This Row],[Years of Experience]],vlookUpExp!$A$1:$B$56,2,FALSE))","v":"6-10"}]
[null,"ID0907","2012-05-27T15:44:52","Rs 600000/-",600000,"INR",{"$f":"tblSalaries[[#This Row],[clean Salary (in local currency)]]*VLOOKUP(tblSalaries[[#This Row],[Currency]],tblXrate[],2,FALSE)","v":10684.750012465542},{"$f":"IF($H$1=\"USD\",tblSalaries[[#This Row],[Salary in USD]],tblSalaries[[#This Row],[Salary in USD]]*VLOOKUP($H$1,USDtoUserChoice,2,FALSE))","v":87636.105907242134},"Manager","Manager","India",{"$f":"VLOOKUP(tblSalaries[[#This Row],[Where do you work]],tblCountries[[Actual]:[Mapping]],2,FALSE)","v":"India"},"All the 8 hours baby, all the 8!",9,{"$f":"IF(ISNA(VLOOKUP(tblSalaries[[#This Row],[Years of Experience]],vlookUpExp!$A$1:$B$56,2,FALSE)),\"No Response\",VLOOKUP(tblSalaries[[#This Row],[Years of Experience]],vlookUpExp!$A$1:$B$56,2,FALSE))","v":"6-10"}]
[null,"ID0908","2012-05-27T15:48:03",16350,16350,"USD",{"$f":"tblSalaries[[#This Row],[clean Salary (in local currency)]]*VLOOKUP(tblSalaries[[#This Row],[Currency]],tblXrate[],2,FALSE)","v":16350},{"$f":"IF($H$1=\"USD\",tblSalaries[[#This Row],[Salary in USD]],tblSalaries[[#This Row],[Salary in USD]]*VLOOKUP($H$1,USDtoUserChoice,2,FALSE))","v":134102.37300000002},"Estimator","Manager","India",{"$f":"VLOOKUP(tblSalaries[[#This Row],[Where do you work]],tblCountries[[Actual]:[Mapping]],2,FALSE)","v":"India"},"4 to 6 hours a day",5,{"$f":"IF(ISNA(VLOOKUP(tblSalaries[[#This Row],[Years of Experience]],vlookUpExp!$A$1:$B$56,2,FALSE)),\"No Response\",VLOOKUP(tblSalaries[[#This Row],[Years of Experience]],vlookUpExp!$A$1:$B$56,2,FALSE))","v":"0-5"}]
[null,"ID0909","2012-05-27T16:10:04",80000,80000,"GBP",{"$f":"tblSalaries[[#This Row],[clean Salary (in local currency)]]*VLOOKUP(tblSalaries[[#This Row],[Currency]],tblXrate[],2,FALSE)","v":126094.26176538273},{"$f":"IF($H$1=\"USD\",tblSalaries[[#This Row],[Salary in USD]],tblSalaries[[#This Row],[Salary in USD]]*VLOOKUP($H$1,USDtoUserChoice,2,FALSE))","v":1034222.6131144339},"Financial Modeller","Accountant","UK",{"$f":"VLOOKUP(tblSalaries[[#This Row],[Where do you work]],tblCountries[[Actual]:[Mapping]],2,FALSE)","v":"UK"},"4 to 6 hours a day",10,{"$f":"IF(ISNA(VLOOKUP(tblSalaries[[#This Row],[Years of Experience]],vlookUpExp!$A$1:$B$56,2,FALSE)),\"No Response\",VLOOKUP(tblSalaries[[#This Row],[Years of Experience]],vlookUpExp!$A$1:$B$56,2,FALSE))","v":"6-10"}]
[null,"ID0910","2012-05-27T16:10:27",60000,60000,"USD",{"$f":"tblSalaries[[#This Row],[clean Salary (in local currency)]]*VLOOKUP(tblSalaries[[#This Row],[Currency]],tblXrate[],2,FALSE)","v":60000},{"$f":"IF($H$1=\"USD\",tblSalaries[[#This Row],[Salary in USD]],tblSalaries[[#This Row],[Salary in USD]]*VLOOKUP($H$1,USDtoUserChoice,2,FALSE))","v":492118.80000000005},"Cost accountant","Accountant","Singapore",{"$f":"VLOOKUP(tblSalaries[[#This Row],[Where do you work]],tblCountries[[Actual]:[Mapping]],2,FALSE)","v":"Singapore"},"All the 8 hours baby, all the 8!",10,{"$f":"IF(ISNA(VLOOKUP(tblSalaries[[#This Row],[Years of Experience]],vlookUpExp!$A$1:$B$56,2,FALSE)),\"No Response\",VLOOKUP(tblSalaries[[#This Row],[Years of Experience]],vlookUpExp!$A$1:$B$56,2,FALSE))","v":"6-10"}]
[null,"ID0911","2012-05-27T16:24:50",1300000,1300000,"INR",{"$f":"tblSalaries[[#This Row],[clean Salary (in local currency)]]*VLOOKUP(tblSalaries[[#This Row],[Currency]],tblXrate[],2,FALSE)","v":23150.291693675339},{"$f":"IF($H$1=\"USD\",tblSalaries[[#This Row],[Salary in USD]],tblSalaries[[#This Row],[Salary in USD]]*VLOOKUP($H$1,USDtoUserChoice,2,FALSE))","v":189878.22946569129},"banker","Manager","India",{"$f":"VLOOKUP(tblSalaries[[#This Row],[Where do you work]],tblCountries[[Actual]:[Mapping]],2,FALSE)","v":"India"},"1 or 2 hours a day",3,{"$f":"IF(ISNA(VLOOKUP(tblSalaries[[#This Row],[Years of Experience]],vlookUpExp!$A$1:$B$56,2,FALSE)),\"No Response\",VLOOKUP(tblSalaries[[#This Row],[Years of Experience]],vlookUpExp!$A$1:$B$56,2,FALSE))","v":"0-5"}]
[null,"ID0912","2012-05-27T16:30:54",775000,775000,"INR",{"$f":"tblSalaries[[#This Row],[clean Salary (in local currency)]]*VLOOKUP(tblSalaries[[#This Row],[Currency]],tblXrate[],2,FALSE)","v":13801.135432767991},{"$f":"IF($H$1=\"USD\",tblSalaries[[#This Row],[Salary in USD]],tblSalaries[[#This Row],[Salary in USD]]*VLOOKUP($H$1,USDtoUserChoice,2,FALSE))","v":113196.63679685442},"Analyst","Analyst","India",{"$f":"VLOOKUP(tblSalaries[[#This Row],[Where do you work]],tblCountries[[Actual]:[Mapping]],2,FALSE)","v":"India"},"4 to 6 hours a day",2,{"$f":"IF(ISNA(VLOOKUP(tblSalaries[[#This Row],[Years of Experience]],vlookUpExp!$A$1:$B$56,2,FALSE)),\"No Response\",VLOOKUP(tblSalaries[[#This Row],[Years of Experience]],vlookUpExp!$A$1:$B$56,2,FALSE))","v":"0-5"}]
[null,"ID0913","2012-05-27T16:50:50","1050000 INR",1050000,"INR",{"$f":"tblSalaries[[#This Row],[clean Salary (in local currency)]]*VLOOKUP(tblSalaries[[#This Row],[Currency]],tblXrate[],2,FALSE)","v":18698.312521814696},{"$f":"IF($H$1=\"USD\",tblSalaries[[#This Row],[Salary in USD]],tblSalaries[[#This Row],[Salary in USD]]*VLOOKUP($H$1,USDtoUserChoice,2,FALSE))","v":153363.18533767373},"Manager Market Reesrach","Manager","India",{"$f":"VLOOKUP(tblSalaries[[#This Row],[Where do you work]],tblCountries[[Actual]:[Mapping]],2,FALSE)","v":"India"},"All the 8 hours baby, all the 8!",5,{"$f":"IF(ISNA(VLOOKUP(tblSalaries[[#This Row],[Years of Experience]],vlookUpExp!$A$1:$B$56,2,FALSE)),\"No Response\",VLOOKUP(tblSalaries[[#This Row],[Years of Experience]],vlookUpExp!$A$1:$B$56,2,FALSE))","v":"0-5"}]
[null,"ID0914","2012-05-27T17:10:36",36000,36000,"USD",{"$f":"tblSalaries[[#This Row],[clean Salary (in local currency)]]*VLOOKUP(tblSalaries[[#This Row],[Currency]],tblXrate[],2,FALSE)","v":36000},{"$f":"IF($H$1=\"USD\",tblSalaries[[#This Row],[Salary in USD]],tblSalaries[[#This Row],[Salary in USD]]*VLOOKUP($H$1,USDtoUserChoice,2,FALSE))","v":295271.28000000003},"QA Supervisor","Controller","Czech Republic",{"$f":"VLOOKUP(tblSalaries[[#This Row],[Where do you work]],tblCountries[[Actual]:[Mapping]],2,FALSE)","v":"Czech Republic"},"2 to 3 hours per day",9,{"$f":"IF(ISNA(VLOOKUP(tblSalaries[[#This Row],[Years of Experience]],vlookUpExp!$A$1:$B$56,2,FALSE)),\"No Response\",VLOOKUP(tblSalaries[[#This Row],[Years of Experience]],vlookUpExp!$A$1:$B$56,2,FALSE))","v":"6-10"}]
[null,"ID0915","2012-05-27T17:16:55","486000 INR",486000,"INR",{"$f":"tblSalaries[[#This Row],[clean Salary (in local currency)]]*VLOOKUP(tblSalaries[[#This Row],[Currency]],tblXrate[],2,FALSE)","v":8654.6475100970874},{"$f":"IF($H$1=\"USD\",tblSalaries[[#This Row],[Salary in USD]],tblSalaries[[#This Row],[Salary in USD]]*VLOOKUP($H$1,USDtoUserChoice,2,FALSE))","v":70985.245784866114},"Assistant manager","Manager","India",{"$f":"VLOOKUP(tblSalaries[[#This Row],[Where do you work]],tblCountries[[Actual]:[Mapping]],2,FALSE)","v":"India"},"All the 8 hours baby, all the 8!",6,{"$f":"IF(ISNA(VLOOKUP(tblSalaries[[#This Row],[Years of Experience]],vlookUpExp!$A$1:$B$56,2,FALSE)),\"No Response\",VLOOKUP(tblSalaries[[#This Row],[Years of Experience]],vlookUpExp!$A$1:$B$56,2,FALSE))","v":"6-10"}]
[null,"ID0916","2012-05-27T17:17:24","Â£65000",65000,"GBP",{"$f":"tblSalaries[[#This Row],[clean Salary (in local currency)]]*VLOOKUP(tblSalaries[[#This Row],[Currency]],tblXrate[],2,FALSE)","v":102451.58768437347},{"$f":"IF($H$1=\"USD\",tblSalaries[[#This Row],[Salary in USD]],tblSalaries[[#This Row],[Salary in USD]]*VLOOKUP($H$1,USDtoUserChoice,2,FALSE))","v":840305.87315547757},"Manager","Manager","UK",{"$f":"VLOOKUP(tblSalaries[[#This Row],[Where do you work]],tblCountries[[Actual]:[Mapping]],2,FALSE)","v":"UK"},"1 or 2 hours a day",15,{"$f":"IF(ISNA(VLOOKUP(tblSalaries[[#This Row],[Years of Experience]],vlookUpExp!$A$1:$B$56,2,FALSE)),\"No Response\",VLOOKUP(tblSalaries[[#This Row],[Years of Experience]],vlookUpExp!$A$1:$B$56,2,FALSE))","v":"11-15"}]
[null,"ID0917","2012-05-27T17:24:09",36400,36400,"USD",{"$f":"tblSalaries[[#This Row],[clean Salary (in local currency)]]*VLOOKUP(tblSalaries[[#This Row],[Currency]],tblXrate[],2,FALSE)","v":36400},{"$f":"IF($H$1=\"USD\",tblSalaries[[#This Row],[Salary in USD]],tblSalaries[[#This Row],[Salary in USD]]*VLOOKUP($H$1,USDtoUserChoice,2,FALSE))","v":298552.07200000004},"Analyst","Analyst","Zimbabwe",{"$f":"VLOOKUP(tblSalaries[[#This Row],[Where do you work]],tblCountries[[Actual]:[Mapping]],2,FALSE)","v":"Zimbabwe"},"4 to 6 hours a day",20,{"$f":"IF(ISNA(VLOOKUP(tblSalaries[[#This Row],[Years of Experience]],vlookUpExp!$A$1:$B$56,2,FALSE)),\"No Response\",VLOOKUP(tblSalaries[[#This Row],[Years of Experience]],vlookUpExp!$A$1:$B$56,2,FALSE))","v":"16-20"}]
[null,"ID0918","2012-05-27T18:19:31",64210.1,64210,"GBP",{"$f":"tblSalaries[[#This Row],[clean Salary (in local currency)]]*VLOOKUP(tblSalaries[[#This Row],[Currency]],tblXrate[],2,FALSE)","v":101206.40684944032},{"$f":"IF($H$1=\"USD\",tblSalaries[[#This Row],[Salary in USD]],tblSalaries[[#This Row],[Salary in USD]]*VLOOKUP($H$1,USDtoUserChoice,2,FALSE))","v":830092.9248509726},"HR Advisor - Systems & MI","Consultant","UK",{"$f":"VLOOKUP(tblSalaries[[#This Row],[Where do you work]],tblCountries[[Actual]:[Mapping]],2,FALSE)","v":"UK"},"4 to 6 hours a day",16,{"$f":"IF(ISNA(VLOOKUP(tblSalaries[[#This Row],[Years of Experience]],vlookUpExp!$A$1:$B$56,2,FALSE)),\"No Response\",VLOOKUP(tblSalaries[[#This Row],[Years of Experience]],vlookUpExp!$A$1:$B$56,2,FALSE))","v":"16-20"}]
[null,"ID0919","2012-05-27T18:33:51","300000RS",300000,"INR",{"$f":"tblSalaries[[#This Row],[clean Salary (in local currency)]]*VLOOKUP(tblSalaries[[#This Row],[Currency]],tblXrate[],2,FALSE)","v":5342.3750062327708},{"$f":"IF($H$1=\"USD\",tblSalaries[[#This Row],[Salary in USD]],tblSalaries[[#This Row],[Salary in USD]]*VLOOKUP($H$1,USDtoUserChoice,2,FALSE))","v":43818.052953621067},"ANALYST","Analyst","India",{"$f":"VLOOKUP(tblSalaries[[#This Row],[Where do you work]],tblCountries[[Actual]:[Mapping]],2,FALSE)","v":"India"},"4 to 6 hours a day",0.5,{"$f":"IF(ISNA(VLOOKUP(tblSalaries[[#This Row],[Years of Experience]],vlookUpExp!$A$1:$B$56,2,FALSE)),\"No Response\",VLOOKUP(tblSalaries[[#This Row],[Years of Experience]],vlookUpExp!$A$1:$B$56,2,FALSE))","v":"0-5"}]
[null,"ID0920","2012-05-27T19:39:26",104000,104000,"AED",{"$f":"tblSalaries[[#This Row],[clean Salary (in local currency)]]*VLOOKUP(tblSalaries[[#This Row],[Currency]],tblXrate[],2,FALSE)","v":28310.79811950968},{"$f":"IF($H$1=\"USD\",tblSalaries[[#This Row],[Salary in USD]],tblSalaries[[#This Row],[Salary in USD]]*VLOOKUP($H$1,USDtoUserChoice,2,FALSE))","v":232204.59996025602},"Financial Analyst","Analyst","UAE",{"$f":"VLOOKUP(tblSalaries[[#This Row],[Where do you work]],tblCountries[[Actual]:[Mapping]],2,FALSE)","v":"UAE"},"4 to 6 hours a day",11,{"$f":"IF(ISNA(VLOOKUP(tblSalaries[[#This Row],[Years of Experience]],vlookUpExp!$A$1:$B$56,2,FALSE)),\"No Response\",VLOOKUP(tblSalaries[[#This Row],[Years of Experience]],vlookUpExp!$A$1:$B$56,2,FALSE))","v":"11-15"}]
[null,"ID0921","2012-05-27T19:41:55",20500,20500,"EUR",{"$f":"tblSalaries[[#This Row],[clean Salary (in local currency)]]*VLOOKUP(tblSalaries[[#This Row],[Currency]],tblXrate[],2,FALSE)","v":26043.18849932796},{"$f":"IF($H$1=\"USD\",tblSalaries[[#This Row],[Salary in USD]],tblSalaries[[#This Row],[Salary in USD]]*VLOOKUP($H$1,USDtoUserChoice,2,FALSE))","v":213605.71120771795},"C&B Manager","Manager","Poland",{"$f":"VLOOKUP(tblSalaries[[#This Row],[Where do you work]],tblCountries[[Actual]:[Mapping]],2,FALSE)","v":"Poland"},"4 to 6 hours a day",8,{"$f":"IF(ISNA(VLOOKUP(tblSalaries[[#This Row],[Years of Experience]],vlookUpExp!$A$1:$B$56,2,FALSE)),\"No Response\",VLOOKUP(tblSalaries[[#This Row],[Years of Experience]],vlookUpExp!$A$1:$B$56,2,FALSE))","v":"6-10"}]
[null,"ID0922","2012-05-27T20:18:50","95000 AUD",95000,"AUD",{"$f":"tblSalaries[[#This Row],[clean Salary (in local currency)]]*VLOOKUP(tblSalaries[[#This Row],[Currency]],tblXrate[],2,FALSE)","v":96891.417358250401},{"$f":"IF($H$1=\"USD\",tblSalaries[[#This Row],[Salary in USD]],tblSalaries[[#This Row],[Salary in USD]]*VLOOKUP($H$1,USDtoUserChoice,2,FALSE))","v":794701.46734402271},"Senior Marketing Analyst","Analyst","Australia",{"$f":"VLOOKUP(tblSalaries[[#This Row],[Where do you work]],tblCountries[[Actual]:[Mapping]],2,FALSE)","v":"Australia"},"1 or 2 hours a day",7,{"$f":"IF(ISNA(VLOOKUP(tblSalaries[[#This Row],[Years of Experience]],vlookUpExp!$A$1:$B$56,2,FALSE)),\"No Response\",VLOOKUP(tblSalaries[[#This Row],[Years of Experience]],vlookUpExp!$A$1:$B$56,2,FALSE))","v":"6-10"}]
[null,"ID0923","2012-05-27T20:43:13","Rs. 144000",144000,"INR",{"$f":"tblSalaries[[#This Row],[clean Salary (in local currency)]]*VLOOKUP(tblSalaries[[#This Row],[Currency]],tblXrate[],2,FALSE)","v":2564.3400029917298},{"$f":"IF($H$1=\"USD\",tblSalaries[[#This Row],[Salary in USD]],tblSalaries[[#This Row],[Salary in USD]]*VLOOKUP($H$1,USDtoUserChoice,2,FALSE))","v":21032.66541773811},"operation supervisor","Controller","India",{"$f":"VLOOKUP(tblSalaries[[#This Row],[Where do you work]],tblCountries[[Actual]:[Mapping]],2,FALSE)","v":"India"},"4 to 6 hours a day",4,{"$f":"IF(ISNA(VLOOKUP(tblSalaries[[#This Row],[Years of Experience]],vlookUpExp!$A$1:$B$56,2,FALSE)),\"No Response\",VLOOKUP(tblSalaries[[#This Row],[Years of Experience]],vlookUpExp!$A$1:$B$56,2,FALSE))","v":"0-5"}]
[null,"ID0924","2012-05-27T20:51:55",180000,180000,"INR",{"$f":"tblSalaries[[#This Row],[clean Salary (in local currency)]]*VLOOKUP(tblSalaries[[#This Row],[Currency]],tblXrate[],2,FALSE)","v":3205.4250037396623},{"$f":"IF($H$1=\"USD\",tblSalaries[[#This Row],[Salary in USD]],tblSalaries[[#This Row],[Salary in USD]]*VLOOKUP($H$1,USDtoUserChoice,2,FALSE))","v":26290.831772172638},"MIS TEAM MEMBER","Reporting","India",{"$f":"VLOOKUP(tblSalaries[[#This Row],[Where do you work]],tblCountries[[Actual]:[Mapping]],2,FALSE)","v":"India"},"All the 8 hours baby, all the 8!",8,{"$f":"IF(ISNA(VLOOKUP(tblSalaries[[#This Row],[Years of Experience]],vlookUpExp!$A$1:$B$56,2,FALSE)),\"No Response\",VLOOKUP(tblSalaries[[#This Row],[Years of Experience]],vlookUpExp!$A$1:$B$56,2,FALSE))","v":"6-10"}]
[null,"ID0925","2012-05-27T21:04:07",600000,600000,"INR",{"$f":"tblSalaries[[#This Row],[clean Salary (in local currency)]]*VLOOKUP(tblSalaries[[#This Row],[Currency]],tblXrate[],2,FALSE)","v":10684.750012465542},{"$f":"IF($H$1=\"USD\",tblSalaries[[#This Row],[Salary in USD]],tblSalaries[[#This Row],[Salary in USD]]*VLOOKUP($H$1,USDtoUserChoice,2,FALSE))","v":87636.105907242134},"Sales Analyst","Analyst","India",{"$f":"VLOOKUP(tblSalaries[[#This Row],[Where do you work]],tblCountries[[Actual]:[Mapping]],2,FALSE)","v":"India"},"All the 8 hours baby, all the 8!",8,{"$f":"IF(ISNA(VLOOKUP(tblSalaries[[#This Row],[Years of Experience]],vlookUpExp!$A$1:$B$56,2,FALSE)),\"No Response\",VLOOKUP(tblSalaries[[#This Row],[Years of Experience]],vlookUpExp!$A$1:$B$56,2,FALSE))","v":"6-10"}]
[null,"ID0927","2012-05-27T21:21:41",150000,150000,"USD",{"$f":"tblSalaries[[#This Row],[clean Salary (in local currency)]]*VLOOKUP(tblSalaries[[#This Row],[Currency]],tblXrate[],2,FALSE)","v":150000},{"$f":"IF($H$1=\"USD\",tblSalaries[[#This Row],[Salary in USD]],tblSalaries[[#This Row],[Salary in USD]]*VLOOKUP($H$1,USDtoUserChoice,2,FALSE))","v":1230297},"Controller","Controller","USA",{"$f":"VLOOKUP(tblSalaries[[#This Row],[Where do you work]],tblCountries[[Actual]:[Mapping]],2,FALSE)","v":"USA"},"4 to 6 hours a day",25,{"$f":"IF(ISNA(VLOOKUP(tblSalaries[[#This Row],[Years of Experience]],vlookUpExp!$A$1:$B$56,2,FALSE)),\"No Response\",VLOOKUP(tblSalaries[[#This Row],[Years of Experience]],vlookUpExp!$A$1:$B$56,2,FALSE))","v":"21-25"}]
[null,"ID0928","2012-05-27T21:24:42","7 Lakhs",700000,"INR",{"$f":"tblSalaries[[#This Row],[clean Salary (in local currency)]]*VLOOKUP(tblSalaries[[#This Row],[Currency]],tblXrate[],2,FALSE)","v":12465.541681209797},{"$f":"IF($H$1=\"USD\",tblSalaries[[#This Row],[Salary in USD]],tblSalaries[[#This Row],[Salary in USD]]*VLOOKUP($H$1,USDtoUserChoice,2,FALSE))","v":102242.12355844914},"Business Support Executive","Manager","India",{"$f":"VLOOKUP(tblSalaries[[#This Row],[Where do you work]],tblCountries[[Actual]:[Mapping]],2,FALSE)","v":"India"},"4 to 6 hours a day",3,{"$f":"IF(ISNA(VLOOKUP(tblSalaries[[#This Row],[Years of Experience]],vlookUpExp!$A$1:$B$56,2,FALSE)),\"No Response\",VLOOKUP(tblSalaries[[#This Row],[Years of Experience]],vlookUpExp!$A$1:$B$56,2,FALSE))","v":"0-5"}]
[null,"ID0929","2012-05-27T21:44:39","15000 â‚¬",15000,"EUR",{"$f":"tblSalaries[[#This Row],[clean Salary (in local currency)]]*VLOOKUP(tblSalaries[[#This Row],[Currency]],tblXrate[],2,FALSE)","v":19055.991584874118},{"$f":"IF($H$1=\"USD\",tblSalaries[[#This Row],[Salary in USD]],tblSalaries[[#This Row],[Salary in USD]]*VLOOKUP($H$1,USDtoUserChoice,2,FALSE))","v":156296.86185930585},"analytic","Analyst","Slovenia",{"$f":"VLOOKUP(tblSalaries[[#This Row],[Where do you work]],tblCountries[[Actual]:[Mapping]],2,FALSE)","v":"Slovenia"},"4 to 6 hours a day",4,{"$f":"IF(ISNA(VLOOKUP(tblSalaries[[#This Row],[Years of Experience]],vlookUpExp!$A$1:$B$56,2,FALSE)),\"No Response\",VLOOKUP(tblSalaries[[#This Row],[Years of Experience]],vlookUpExp!$A$1:$B$56,2,FALSE))","v":"0-5"}]
[null,"ID0930","2012-05-27T21:49:55",105000,105000,"USD",{"$f":"tblSalaries[[#This Row],[clean Salary (in local currency)]]*VLOOKUP(tblSalaries[[#This Row],[Currency]],tblXrate[],2,FALSE)","v":105000},{"$f":"IF($H$1=\"USD\",tblSalaries[[#This Row],[Salary in USD]],tblSalaries[[#This Row],[Salary in USD]]*VLOOKUP($H$1,USDtoUserChoice,2,FALSE))","v":861207.9},"business analyst","Analyst","USA",{"$f":"VLOOKUP(tblSalaries[[#This Row],[Where do you work]],tblCountries[[Actual]:[Mapping]],2,FALSE)","v":"USA"},"4 to 6 hours a day",20,{"$f":"IF(ISNA(VLOOKUP(tblSalaries[[#This Row],[Years of Experience]],vlookUpExp!$A$1:$B$56,2,FALSE)),\"No Response\",VLOOKUP(tblSalaries[[#This Row],[Years of Experience]],vlookUpExp!$A$1:$B$56,2,FALSE))","v":"16-20"}]
[null,"ID0931","2012-05-27T22:05:15",24000,24000,"USD",{"$f":"tblSalaries[[#This Row],[clean Salary (in local currency)]]*VLOOKUP(tblSalaries[[#This Row],[Currency]],tblXrate[],2,FALSE)","v":24000},{"$f":"IF($H$1=\"USD\",tblSalaries[[#This Row],[Salary in USD]],tblSalaries[[#This Row],[Salary in USD]]*VLOOKUP($H$1,USDtoUserChoice,2,FALSE))","v":196847.52000000002},"business analyst","Analyst","India",{"$f":"VLOOKUP(tblSalaries[[#This Row],[Where do you work]],tblCountries[[Actual]:[Mapping]],2,FALSE)","v":"India"},"4 to 6 hours a day",3,{"$f":"IF(ISNA(VLOOKUP(tblSalaries[[#This Row],[Years of Experience]],vlookUpExp!$A$1:$B$56,2,FALSE)),\"No Response\",VLOOKUP(tblSalaries[[#This Row],[Years of Experience]],vlookUpExp!$A$1:$B$56,2,FALSE))","v":"0-5"}]
[null,"ID0932","2012-05-27T22:22:01","50000 GBP",50000,"GBP",{"$f":"tblSalaries[[#This Row],[clean Salary (in local currency)]]*VLOOKUP(tblSalaries[[#This Row],[Currency]],tblXrate[],2,FALSE)","v":78808.913603364199},{"$f":"IF($H$1=\"USD\",tblSalaries[[#This Row],[Salary in USD]],tblSalaries[[#This Row],[Salary in USD]]*VLOOKUP($H$1,USDtoUserChoice,2,FALSE))","v":646389.1331965212},"Finance Analyst","Analyst","UK",{"$f":"VLOOKUP(tblSalaries[[#This Row],[Where do you work]],tblCountries[[Actual]:[Mapping]],2,FALSE)","v":"UK"},"All the 8 hours baby, all the 8!",10,{"$f":"IF(ISNA(VLOOKUP(tblSalaries[[#This Row],[Years of Experience]],vlookUpExp!$A$1:$B$56,2,FALSE)),\"No Response\",VLOOKUP(tblSalaries[[#This Row],[Years of Experience]],vlookUpExp!$A$1:$B$56,2,FALSE))","v":"6-10"}]
[null,"ID0933","2012-05-27T22:35:22",42000,42000,"USD",{"$f":"tblSalaries[[#This Row],[clean Salary (in local currency)]]*VLOOKUP(tblSalaries[[#This Row],[Currency]],tblXrate[],2,FALSE)","v":42000},{"$f":"IF($H$1=\"USD\",tblSalaries[[#This Row],[Salary in USD]],tblSalaries[[#This Row],[Salary in USD]]*VLOOKUP($H$1,USDtoUserChoice,2,FALSE))","v":344483.16000000003},"Credit Controller","Controller","Saudi Arabia",{"$f":"VLOOKUP(tblSalaries[[#This Row],[Where do you work]],tblCountries[[Actual]:[Mapping]],2,FALSE)","v":"Saudi Arabia"},"All the 8 hours baby, all the 8!",15,{"$f":"IF(ISNA(VLOOKUP(tblSalaries[[#This Row],[Years of Experience]],vlookUpExp!$A$1:$B$56,2,FALSE)),\"No Response\",VLOOKUP(tblSalaries[[#This Row],[Years of Experience]],vlookUpExp!$A$1:$B$56,2,FALSE))","v":"11-15"}]
[null,"ID0934","2012-05-27T22:40:38","R$ 19.200,00",19200,"BRL",{"$f":"tblSalaries[[#This Row],[clean Salary (in local currency)]]*VLOOKUP(tblSalaries[[#This Row],[Currency]],tblXrate[],2,FALSE)","v":9490.1984044603923},{"$f":"IF($H$1=\"USD\",tblSalaries[[#This Row],[Salary in USD]],tblSalaries[[#This Row],[Salary in USD]]*VLOOKUP($H$1,USDtoUserChoice,2,FALSE))","v":77838.41750941606},"Programmer","Analyst","Brazil",{"$f":"VLOOKUP(tblSalaries[[#This Row],[Where do you work]],tblCountries[[Actual]:[Mapping]],2,FALSE)","v":"Brazil"},"All the 8 hours baby, all the 8!",8,{"$f":"IF(ISNA(VLOOKUP(tblSalaries[[#This Row],[Years of Experience]],vlookUpExp!$A$1:$B$56,2,FALSE)),\"No Response\",VLOOKUP(tblSalaries[[#This Row],[Years of Experience]],vlookUpExp!$A$1:$B$56,2,FALSE))","v":"6-10"}]
[null,"ID0935","2012-05-27T22:58:39",60000,60000,"USD",{"$f":"tblSalaries[[#This Row],[clean Salary (in local currency)]]*VLOOKUP(tblSalaries[[#This Row],[Currency]],tblXrate[],2,FALSE)","v":60000},{"$f":"IF($H$1=\"USD\",tblSalaries[[#This Row],[Salary in USD]],tblSalaries[[#This Row],[Salary in USD]]*VLOOKUP($H$1,USDtoUserChoice,2,FALSE))","v":492118.80000000005},"Consultant","Consultant","Singapore",{"$f":"VLOOKUP(tblSalaries[[#This Row],[Where do you work]],tblCountries[[Actual]:[Mapping]],2,FALSE)","v":"Singapore"},"4 to 6 hours a day",5,{"$f":"IF(ISNA(VLOOKUP(tblSalaries[[#This Row],[Years of Experience]],vlookUpExp!$A$1:$B$56,2,FALSE)),\"No Response\",VLOOKUP(tblSalaries[[#This Row],[Years of Experience]],vlookUpExp!$A$1:$B$56,2,FALSE))","v":"0-5"}]
[null,"ID0936","2012-05-27T23:03:21",1000000,1000000,"INR",{"$f":"tblSalaries[[#This Row],[clean Salary (in local currency)]]*VLOOKUP(tblSalaries[[#This Row],[Currency]],tblXrate[],2,FALSE)","v":17807.916687442568},{"$f":"IF($H$1=\"USD\",tblSalaries[[#This Row],[Salary in USD]],tblSalaries[[#This Row],[Salary in USD]]*VLOOKUP($H$1,USDtoUserChoice,2,FALSE))","v":146060.1765120702},"business","Manager","India",{"$f":"VLOOKUP(tblSalaries[[#This Row],[Where do you work]],tblCountries[[Actual]:[Mapping]],2,FALSE)","v":"India"},"All the 8 hours baby, all the 8!",8,{"$f":"IF(ISNA(VLOOKUP(tblSalaries[[#This Row],[Years of Experience]],vlookUpExp!$A$1:$B$56,2,FALSE)),\"No Response\",VLOOKUP(tblSalaries[[#This Row],[Years of Experience]],vlookUpExp!$A$1:$B$56,2,FALSE))","v":"6-10"}]
[null,"ID0937","2012-05-27T23:10:01","Rs.7,00,000",700000,"INR",{"$f":"tblSalaries[[#This Row],[clean Salary (in local currency)]]*VLOOKUP(tblSalaries[[#This Row],[Currency]],tblXrate[],2,FALSE)","v":12465.541681209797},{"$f":"IF($H$1=\"USD\",tblSalaries[[#This Row],[Salary in USD]],tblSalaries[[#This Row],[Salary in USD]]*VLOOKUP($H$1,USDtoUserChoice,2,FALSE))","v":102242.12355844914},"Business Analyst","Analyst","India",{"$f":"VLOOKUP(tblSalaries[[#This Row],[Where do you work]],tblCountries[[Actual]:[Mapping]],2,FALSE)","v":"India"},"All the 8 hours baby, all the 8!",1,{"$f":"IF(ISNA(VLOOKUP(tblSalaries[[#This Row],[Years of Experience]],vlookUpExp!$A$1:$B$56,2,FALSE)),\"No Response\",VLOOKUP(tblSalaries[[#This Row],[Years of Experience]],vlookUpExp!$A$1:$B$56,2,FALSE))","v":"0-5"}]
[null,"ID0938","2012-05-27T23:32:30",20571,20571,"USD",{"$f":"tblSalaries[[#This Row],[clean Salary (in local currency)]]*VLOOKUP(tblSalaries[[#This Row],[Currency]],tblXrate[],2,FALSE)","v":20571},{"$f":"IF($H$1=\"USD\",tblSalaries[[#This Row],[Salary in USD]],tblSalaries[[#This Row],[Salary in USD]]*VLOOKUP($H$1,USDtoUserChoice,2,FALSE))","v":168722.93058000001},"CFO","CXO or Top Mgmt.","Albania",{"$f":"VLOOKUP(tblSalaries[[#This Row],[Where do you work]],tblCountries[[Actual]:[Mapping]],2,FALSE)","v":"Albania"},"4 to 6 hours a day",8,{"$f":"IF(ISNA(VLOOKUP(tblSalaries[[#This Row],[Years of Experience]],vlookUpExp!$A$1:$B$56,2,FALSE)),\"No Response\",VLOOKUP(tblSalaries[[#This Row],[Years of Experience]],vlookUpExp!$A$1:$B$56,2,FALSE))","v":"6-10"}]
[null,"ID0939","2012-05-27T23:43:21",290,3480,"USD",{"$f":"tblSalaries[[#This Row],[clean Salary (in local currency)]]*VLOOKUP(tblSalaries[[#This Row],[Currency]],tblXrate[],2,FALSE)","v":3480},{"$f":"IF($H$1=\"USD\",tblSalaries[[#This Row],[Salary in USD]],tblSalaries[[#This Row],[Salary in USD]]*VLOOKUP($H$1,USDtoUserChoice,2,FALSE))","v":28542.890400000004},"Reconciliation Manager in Textile Mill","Manager","Pakistan",{"$f":"VLOOKUP(tblSalaries[[#This Row],[Where do you work]],tblCountries[[Actual]:[Mapping]],2,FALSE)","v":"Pakistan"},"All the 8 hours baby, all the 8!",6,{"$f":"IF(ISNA(VLOOKUP(tblSalaries[[#This Row],[Years of Experience]],vlookUpExp!$A$1:$B$56,2,FALSE)),\"No Response\",VLOOKUP(tblSalaries[[#This Row],[Years of Experience]],vlookUpExp!$A$1:$B$56,2,FALSE))","v":"6-10"}]
[null,"ID0940","2012-05-27T23:46:03",18060,18060,"USD",{"$f":"tblSalaries[[#This Row],[clean Salary (in local currency)]]*VLOOKUP(tblSalaries[[#This Row],[Currency]],tblXrate[],2,FALSE)","v":18060},{"$f":"IF($H$1=\"USD\",tblSalaries[[#This Row],[Salary in USD]],tblSalaries[[#This Row],[Salary in USD]]*VLOOKUP($H$1,USDtoUserChoice,2,FALSE))","v":148127.75880000001},"Reporting Supervisor","Reporting","Philippines",{"$f":"VLOOKUP(tblSalaries[[#This Row],[Where do you work]],tblCountries[[Actual]:[Mapping]],2,FALSE)","v":"Philippines"},"4 to 6 hours a day",12,{"$f":"IF(ISNA(VLOOKUP(tblSalaries[[#This Row],[Years of Experience]],vlookUpExp!$A$1:$B$56,2,FALSE)),\"No Response\",VLOOKUP(tblSalaries[[#This Row],[Years of Experience]],vlookUpExp!$A$1:$B$56,2,FALSE))","v":"11-15"}]
[null,"ID0941","2012-05-27T23:47:25","30000 $",30000,"USD",{"$f":"tblSalaries[[#This Row],[clean Salary (in local currency)]]*VLOOKUP(tblSalaries[[#This Row],[Currency]],tblXrate[],2,FALSE)","v":30000},{"$f":"IF($H$1=\"USD\",tblSalaries[[#This Row],[Salary in USD]],tblSalaries[[#This Row],[Salary in USD]]*VLOOKUP($H$1,USDtoUserChoice,2,FALSE))","v":246059.40000000002},"Financial Expert","Accountant","Iran",{"$f":"VLOOKUP(tblSalaries[[#This Row],[Where do you work]],tblCountries[[Actual]:[Mapping]],2,FALSE)","v":"iran"},"2 to 3 hours per day",30,{"$f":"IF(ISNA(VLOOKUP(tblSalaries[[#This Row],[Years of Experience]],vlookUpExp!$A$1:$B$56,2,FALSE)),\"No Response\",VLOOKUP(tblSalaries[[#This Row],[Years of Experience]],vlookUpExp!$A$1:$B$56,2,FALSE))","v":"26-30"}]
[null,"ID0943","2012-05-27T23:52:48","usd 2000 per month",24000,"USD",{"$f":"tblSalaries[[#This Row],[clean Salary (in local currency)]]*VLOOKUP(tblSalaries[[#This Row],[Currency]],tblXrate[],2,FALSE)","v":24000},{"$f":"IF($H$1=\"USD\",tblSalaries[[#This Row],[Salary in USD]],tblSalaries[[#This Row],[Salary in USD]]*VLOOKUP($H$1,USDtoUserChoice,2,FALSE))","v":196847.52000000002},"sr manager","Manager","India",{"$f":"VLOOKUP(tblSalaries[[#This Row],[Where do you work]],tblCountries[[Actual]:[Mapping]],2,FALSE)","v":"India"},"4 to 6 hours a day",10,{"$f":"IF(ISNA(VLOOKUP(tblSalaries[[#This Row],[Years of Experience]],vlookUpExp!$A$1:$B$56,2,FALSE)),\"No Response\",VLOOKUP(tblSalaries[[#This Row],[Years of Experience]],vlookUpExp!$A$1:$B$56,2,FALSE))","v":"6-10"}]
[null,"ID0944","2012-05-28T00:10:43",63200,63200,"EUR",{"$f":"tblSalaries[[#This Row],[clean Salary (in local currency)]]*VLOOKUP(tblSalaries[[#This Row],[Currency]],tblXrate[],2,FALSE)","v":80289.244544269619},{"$f":"IF($H$1=\"USD\",tblSalaries[[#This Row],[Salary in USD]],tblSalaries[[#This Row],[Salary in USD]]*VLOOKUP($H$1,USDtoUserChoice,2,FALSE))","v":658530.77796720853},"Consultant","Consultant","France",{"$f":"VLOOKUP(tblSalaries[[#This Row],[Where do you work]],tblCountries[[Actual]:[Mapping]],2,FALSE)","v":"France"},"4 to 6 hours a day",3,{"$f":"IF(ISNA(VLOOKUP(tblSalaries[[#This Row],[Years of Experience]],vlookUpExp!$A$1:$B$56,2,FALSE)),\"No Response\",VLOOKUP(tblSalaries[[#This Row],[Years of Experience]],vlookUpExp!$A$1:$B$56,2,FALSE))","v":"0-5"}]
[null,"ID0945","2012-05-28T00:17:26",70000,70000,"USD",{"$f":"tblSalaries[[#This Row],[clean Salary (in local currency)]]*VLOOKUP(tblSalaries[[#This Row],[Currency]],tblXrate[],2,FALSE)","v":70000},{"$f":"IF($H$1=\"USD\",tblSalaries[[#This Row],[Salary in USD]],tblSalaries[[#This Row],[Salary in USD]]*VLOOKUP($H$1,USDtoUserChoice,2,FALSE))","v":574138.60000000009},"Client Manager","Manager","USA",{"$f":"VLOOKUP(tblSalaries[[#This Row],[Where do you work]],tblCountries[[Actual]:[Mapping]],2,FALSE)","v":"USA"},"4 to 6 hours a day",4,{"$f":"IF(ISNA(VLOOKUP(tblSalaries[[#This Row],[Years of Experience]],vlookUpExp!$A$1:$B$56,2,FALSE)),\"No Response\",VLOOKUP(tblSalaries[[#This Row],[Years of Experience]],vlookUpExp!$A$1:$B$56,2,FALSE))","v":"0-5"}]
[null,"ID0946","2012-05-28T00:28:56","Rs 40000",480000,"INR",{"$f":"tblSalaries[[#This Row],[clean Salary (in local currency)]]*VLOOKUP(tblSalaries[[#This Row],[Currency]],tblXrate[],2,FALSE)","v":8547.8000099724322},{"$f":"IF($H$1=\"USD\",tblSalaries[[#This Row],[Salary in USD]],tblSalaries[[#This Row],[Salary in USD]]*VLOOKUP($H$1,USDtoUserChoice,2,FALSE))","v":70108.884725793701},"Manager","Manager","India",{"$f":"VLOOKUP(tblSalaries[[#This Row],[Where do you work]],tblCountries[[Actual]:[Mapping]],2,FALSE)","v":"India"},"2 to 3 hours per day",2,{"$f":"IF(ISNA(VLOOKUP(tblSalaries[[#This Row],[Years of Experience]],vlookUpExp!$A$1:$B$56,2,FALSE)),\"No Response\",VLOOKUP(tblSalaries[[#This Row],[Years of Experience]],vlookUpExp!$A$1:$B$56,2,FALSE))","v":"0-5"}]
[null,"ID0948","2012-05-28T00:36:20","INR 600K",600000,"INR",{"$f":"tblSalaries[[#This Row],[clean Salary (in local currency)]]*VLOOKUP(tblSalaries[[#This Row],[Currency]],tblXrate[],2,FALSE)","v":10684.750012465542},{"$f":"IF($H$1=\"USD\",tblSalaries[[#This Row],[Salary in USD]],tblSalaries[[#This Row],[Salary in USD]]*VLOOKUP($H$1,USDtoUserChoice,2,FALSE))","v":87636.105907242134},"Asst. Mgr. Finance","Analyst","India",{"$f":"VLOOKUP(tblSalaries[[#This Row],[Where do you work]],tblCountries[[Actual]:[Mapping]],2,FALSE)","v":"India"},"4 to 6 hours a day",11,{"$f":"IF(ISNA(VLOOKUP(tblSalaries[[#This Row],[Years of Experience]],vlookUpExp!$A$1:$B$56,2,FALSE)),\"No Response\",VLOOKUP(tblSalaries[[#This Row],[Years of Experience]],vlookUpExp!$A$1:$B$56,2,FALSE))","v":"11-15"}]
[null,"ID0949","2012-05-28T00:43:40","600000 INR",600000,"INR",{"$f":"tblSalaries[[#This Row],[clean Salary (in local currency)]]*VLOOKUP(tblSalaries[[#This Row],[Currency]],tblXrate[],2,FALSE)","v":10684.750012465542},{"$f":"IF($H$1=\"USD\",tblSalaries[[#This Row],[Salary in USD]],tblSalaries[[#This Row],[Salary in USD]]*VLOOKUP($H$1,USDtoUserChoice,2,FALSE))","v":87636.105907242134},"Executive","Analyst","India",{"$f":"VLOOKUP(tblSalaries[[#This Row],[Where do you work]],tblCountries[[Actual]:[Mapping]],2,FALSE)","v":"India"},"2 to 3 hours per day",4,{"$f":"IF(ISNA(VLOOKUP(tblSalaries[[#This Row],[Years of Experience]],vlookUpExp!$A$1:$B$56,2,FALSE)),\"No Response\",VLOOKUP(tblSalaries[[#This Row],[Years of Experience]],vlookUpExp!$A$1:$B$56,2,FALSE))","v":"0-5"}]
[null,"ID0950","2012-05-28T00:48:23",20000,20000,"USD",{"$f":"tblSalaries[[#This Row],[clean Salary (in local currency)]]*VLOOKUP(tblSalaries[[#This Row],[Currency]],tblXrate[],2,FALSE)","v":20000},{"$f":"IF($H$1=\"USD\",tblSalaries[[#This Row],[Salary in USD]],tblSalaries[[#This Row],[Salary in USD]]*VLOOKUP($H$1,USDtoUserChoice,2,FALSE))","v":164039.6},"Financial Modeller","Accountant","Zambia",{"$f":"VLOOKUP(tblSalaries[[#This Row],[Where do you work]],tblCountries[[Actual]:[Mapping]],2,FALSE)","v":"Zambia"},"All the 8 hours baby, all the 8!",2,{"$f":"IF(ISNA(VLOOKUP(tblSalaries[[#This Row],[Years of Experience]],vlookUpExp!$A$1:$B$56,2,FALSE)),\"No Response\",VLOOKUP(tblSalaries[[#This Row],[Years of Experience]],vlookUpExp!$A$1:$B$56,2,FALSE))","v":"0-5"}]
[null,"ID0951","2012-05-28T01:17:17","42000 â‚¬",42000,"EUR",{"$f":"tblSalaries[[#This Row],[clean Salary (in local currency)]]*VLOOKUP(tblSalaries[[#This Row],[Currency]],tblXrate[],2,FALSE)","v":53356.776437647524},{"$f":"IF($H$1=\"USD\",tblSalaries[[#This Row],[Salary in USD]],tblSalaries[[#This Row],[Salary in USD]]*VLOOKUP($H$1,USDtoUserChoice,2,FALSE))","v":437631.21320605627},"Consultant","Consultant","Germany",{"$f":"VLOOKUP(tblSalaries[[#This Row],[Where do you work]],tblCountries[[Actual]:[Mapping]],2,FALSE)","v":"Germany"},"2 to 3 hours per day",3,{"$f":"IF(ISNA(VLOOKUP(tblSalaries[[#This Row],[Years of Experience]],vlookUpExp!$A$1:$B$56,2,FALSE)),\"No Response\",VLOOKUP(tblSalaries[[#This Row],[Years of Experience]],vlookUpExp!$A$1:$B$56,2,FALSE))","v":"0-5"}]
[null,"ID0952","2012-05-28T01:29:19",3000,36000,"USD",{"$f":"tblSalaries[[#This Row],[clean Salary (in local currency)]]*VLOOKUP(tblSalaries[[#This Row],[Currency]],tblXrate[],2,FALSE)","v":36000},{"$f":"IF($H$1=\"USD\",tblSalaries[[#This Row],[Salary in USD]],tblSalaries[[#This Row],[Salary in USD]]*VLOOKUP($H$1,USDtoUserChoice,2,FALSE))","v":295271.28000000003},"Accountant","Accountant","United Arab Emirates",{"$f":"VLOOKUP(tblSalaries[[#This Row],[Where do you work]],tblCountries[[Actual]:[Mapping]],2,FALSE)","v":"UAE"},"4 to 6 hours a day",4.5,{"$f":"IF(ISNA(VLOOKUP(tblSalaries[[#This Row],[Years of Experience]],vlookUpExp!$A$1:$B$56,2,FALSE)),\"No Response\",VLOOKUP(tblSalaries[[#This Row],[Years of Experience]],vlookUpExp!$A$1:$B$56,2,FALSE))","v":"0-5"}]
[null,"ID0953","2012-05-28T01:30:29",57000,57000,"USD",{"$f":"tblSalaries[[#This Row],[clean Salary (in local currency)]]*VLOOKUP(tblSalaries[[#This Row],[Currency]],tblXrate[],2,FALSE)","v":57000},{"$f":"IF($H$1=\"USD\",tblSalaries[[#This Row],[Salary in USD]],tblSalaries[[#This Row],[Salary in USD]]*VLOOKUP($H$1,USDtoUserChoice,2,FALSE))","v":467512.86000000004},"Construction Engineer","Engineer","USA",{"$f":"VLOOKUP(tblSalaries[[#This Row],[Where do you work]],tblCountries[[Actual]:[Mapping]],2,FALSE)","v":"USA"},"2 to 3 hours per day",4,{"$f":"IF(ISNA(VLOOKUP(tblSalaries[[#This Row],[Years of Experience]],vlookUpExp!$A$1:$B$56,2,FALSE)),\"No Response\",VLOOKUP(tblSalaries[[#This Row],[Years of Experience]],vlookUpExp!$A$1:$B$56,2,FALSE))","v":"0-5"}]
[null,"ID0954","2012-05-28T01:47:29",135000,135000,"USD",{"$f":"tblSalaries[[#This Row],[clean Salary (in local currency)]]*VLOOKUP(tblSalaries[[#This Row],[Currency]],tblXrate[],2,FALSE)","v":135000},{"$f":"IF($H$1=\"USD\",tblSalaries[[#This Row],[Salary in USD]],tblSalaries[[#This Row],[Salary in USD]]*VLOOKUP($H$1,USDtoUserChoice,2,FALSE))","v":1107267.3},"Marketing Insights Manager","Manager","USA",{"$f":"VLOOKUP(tblSalaries[[#This Row],[Where do you work]],tblCountries[[Actual]:[Mapping]],2,FALSE)","v":"USA"},"All the 8 hours baby, all the 8!",15,{"$f":"IF(ISNA(VLOOKUP(tblSalaries[[#This Row],[Years of Experience]],vlookUpExp!$A$1:$B$56,2,FALSE)),\"No Response\",VLOOKUP(tblSalaries[[#This Row],[Years of Experience]],vlookUpExp!$A$1:$B$56,2,FALSE))","v":"11-15"}]
[null,"ID0955","2012-05-28T02:25:13",75000,75000,"EUR",{"$f":"tblSalaries[[#This Row],[clean Salary (in local currency)]]*VLOOKUP(tblSalaries[[#This Row],[Currency]],tblXrate[],2,FALSE)","v":95279.957924370581},{"$f":"IF($H$1=\"USD\",tblSalaries[[#This Row],[Salary in USD]],tblSalaries[[#This Row],[Salary in USD]]*VLOOKUP($H$1,USDtoUserChoice,2,FALSE))","v":781484.30929652904},"Risk analyst","Analyst","Netherlands",{"$f":"VLOOKUP(tblSalaries[[#This Row],[Where do you work]],tblCountries[[Actual]:[Mapping]],2,FALSE)","v":"Netherlands"},"4 to 6 hours a day",4,{"$f":"IF(ISNA(VLOOKUP(tblSalaries[[#This Row],[Years of Experience]],vlookUpExp!$A$1:$B$56,2,FALSE)),\"No Response\",VLOOKUP(tblSalaries[[#This Row],[Years of Experience]],vlookUpExp!$A$1:$B$56,2,FALSE))","v":"0-5"}]
[null,"ID0957","2012-05-28T03:34:14",45000,45000,"EUR",{"$f":"tblSalaries[[#This Row],[clean Salary (in local currency)]]*VLOOKUP(tblSalaries[[#This Row],[Currency]],tblXrate[],2,FALSE)","v":57167.974754622352},{"$f":"IF($H$1=\"USD\",tblSalaries[[#This Row],[Salary in USD]],tblSalaries[[#This Row],[Salary in USD]]*VLOOKUP($H$1,USDtoUserChoice,2,FALSE))","v":468890.58557791746},"data analist","Analyst","netherlands",{"$f":"VLOOKUP(tblSalaries[[#This Row],[Where do you work]],tblCountries[[Actual]:[Mapping]],2,FALSE)","v":"Netherlands"},"2 to 3 hours per day",10,{"$f":"IF(ISNA(VLOOKUP(tblSalaries[[#This Row],[Years of Experience]],vlookUpExp!$A$1:$B$56,2,FALSE)),\"No Response\",VLOOKUP(tblSalaries[[#This Row],[Years of Experience]],vlookUpExp!$A$1:$B$56,2,FALSE))","v":"6-10"}]
[null,"ID0958","2012-05-28T03:44:00","2,000,000 Naira",2000000,"NAIRA",{"$f":"tblSalaries[[#This Row],[clean Salary (in local currency)]]*VLOOKUP(tblSalaries[[#This Row],[Currency]],tblXrate[],2,FALSE)","v":12326.656394453004},{"$f":"IF($H$1=\"USD\",tblSalaries[[#This Row],[Salary in USD]],tblSalaries[[#This Row],[Salary in USD]]*VLOOKUP($H$1,USDtoUserChoice,2,FALSE))","v":101102.98921417566},"Head Business Advisory","Manager","Nigeria",{"$f":"VLOOKUP(tblSalaries[[#This Row],[Where do you work]],tblCountries[[Actual]:[Mapping]],2,FALSE)","v":"Nigeria"},"4 to 6 hours a day",5,{"$f":"IF(ISNA(VLOOKUP(tblSalaries[[#This Row],[Years of Experience]],vlookUpExp!$A$1:$B$56,2,FALSE)),\"No Response\",VLOOKUP(tblSalaries[[#This Row],[Years of Experience]],vlookUpExp!$A$1:$B$56,2,FALSE))","v":"0-5"}]
[null,"ID0959","2012-05-28T04:05:14",8000,8000,"USD",{"$f":"tblSalaries[[#This Row],[clean Salary (in local currency)]]*VLOOKUP(tblSalaries[[#This Row],[Currency]],tblXrate[],2,FALSE)","v":8000},{"$f":"IF($H$1=\"USD\",tblSalaries[[#This Row],[Salary in USD]],tblSalaries[[#This Row],[Salary in USD]]*VLOOKUP($H$1,USDtoUserChoice,2,FALSE))","v":65615.840000000011},"IT Analyst","Analyst","India",{"$f":"VLOOKUP(tblSalaries[[#This Row],[Where do you work]],tblCountries[[Actual]:[Mapping]],2,FALSE)","v":"India"},"1 or 2 hours a day",5,{"$f":"IF(ISNA(VLOOKUP(tblSalaries[[#This Row],[Years of Experience]],vlookUpExp!$A$1:$B$56,2,FALSE)),\"No Response\",VLOOKUP(tblSalaries[[#This Row],[Years of Experience]],vlookUpExp!$A$1:$B$56,2,FALSE))","v":"0-5"}]
[null,"ID0960","2012-05-28T04:40:41","48000 $",48000,"USD",{"$f":"tblSalaries[[#This Row],[clean Salary (in local currency)]]*VLOOKUP(tblSalaries[[#This Row],[Currency]],tblXrate[],2,FALSE)","v":48000},{"$f":"IF($H$1=\"USD\",tblSalaries[[#This Row],[Salary in USD]],tblSalaries[[#This Row],[Salary in USD]]*VLOOKUP($H$1,USDtoUserChoice,2,FALSE))","v":393695.04000000004},"Merchandise planner","Manager","France",{"$f":"VLOOKUP(tblSalaries[[#This Row],[Where do you work]],tblCountries[[Actual]:[Mapping]],2,FALSE)","v":"France"},"4 to 6 hours a day",5,{"$f":"IF(ISNA(VLOOKUP(tblSalaries[[#This Row],[Years of Experience]],vlookUpExp!$A$1:$B$56,2,FALSE)),\"No Response\",VLOOKUP(tblSalaries[[#This Row],[Years of Experience]],vlookUpExp!$A$1:$B$56,2,FALSE))","v":"0-5"}]
[null,"ID0961","2012-05-28T05:07:44",40000,40000,"USD",{"$f":"tblSalaries[[#This Row],[clean Salary (in local currency)]]*VLOOKUP(tblSalaries[[#This Row],[Currency]],tblXrate[],2,FALSE)","v":40000},{"$f":"IF($H$1=\"USD\",tblSalaries[[#This Row],[Salary in USD]],tblSalaries[[#This Row],[Salary in USD]]*VLOOKUP($H$1,USDtoUserChoice,2,FALSE))","v":328079.2},"analyst","Analyst","NZ",{"$f":"VLOOKUP(tblSalaries[[#This Row],[Where do you work]],tblCountries[[Actual]:[Mapping]],2,FALSE)","v":"New Zealand"},"4 to 6 hours a day",5,{"$f":"IF(ISNA(VLOOKUP(tblSalaries[[#This Row],[Years of Experience]],vlookUpExp!$A$1:$B$56,2,FALSE)),\"No Response\",VLOOKUP(tblSalaries[[#This Row],[Years of Experience]],vlookUpExp!$A$1:$B$56,2,FALSE))","v":"0-5"}]
[null,"ID0962","2012-05-28T05:09:12","NZ$ 75000",75000,"NZD",{"$f":"tblSalaries[[#This Row],[clean Salary (in local currency)]]*VLOOKUP(tblSalaries[[#This Row],[Currency]],tblXrate[],2,FALSE)","v":59819.107020370408},{"$f":"IF($H$1=\"USD\",tblSalaries[[#This Row],[Salary in USD]],tblSalaries[[#This Row],[Salary in USD]]*VLOOKUP($H$1,USDtoUserChoice,2,FALSE))","v":490635.11939893774},"Information Analyst","Analyst","New  Zealand",{"$f":"VLOOKUP(tblSalaries[[#This Row],[Where do you work]],tblCountries[[Actual]:[Mapping]],2,FALSE)","v":"New Zealand"},"4 to 6 hours a day",10,{"$f":"IF(ISNA(VLOOKUP(tblSalaries[[#This Row],[Years of Experience]],vlookUpExp!$A$1:$B$56,2,FALSE)),\"No Response\",VLOOKUP(tblSalaries[[#This Row],[Years of Experience]],vlookUpExp!$A$1:$B$56,2,FALSE))","v":"6-10"}]
[null,"ID0963","2012-05-28T05:12:38",150000,150000,"USD",{"$f":"tblSalaries[[#This Row],[clean Salary (in local currency)]]*VLOOKUP(tblSalaries[[#This Row],[Currency]],tblXrate[],2,FALSE)","v":150000},{"$f":"IF($H$1=\"USD\",tblSalaries[[#This Row],[Salary in USD]],tblSalaries[[#This Row],[Salary in USD]]*VLOOKUP($H$1,USDtoUserChoice,2,FALSE))","v":1230297},"Software Tester","Analyst","Switzerland",{"$f":"VLOOKUP(tblSalaries[[#This Row],[Where do you work]],tblCountries[[Actual]:[Mapping]],2,FALSE)","v":"Switzerland"},"1 or 2 hours a day",20,{"$f":"IF(ISNA(VLOOKUP(tblSalaries[[#This Row],[Years of Experience]],vlookUpExp!$A$1:$B$56,2,FALSE)),\"No Response\",VLOOKUP(tblSalaries[[#This Row],[Years of Experience]],vlookUpExp!$A$1:$B$56,2,FALSE))","v":"16-20"}]
[null,"ID0964","2012-05-28T05:20:41",80000,80000,"AUD",{"$f":"tblSalaries[[#This Row],[clean Salary (in local currency)]]*VLOOKUP(tblSalaries[[#This Row],[Currency]],tblXrate[],2,FALSE)","v":81592.772512210868},{"$f":"IF($H$1=\"USD\",tblSalaries[[#This Row],[Salary in USD]],tblSalaries[[#This Row],[Salary in USD]]*VLOOKUP($H$1,USDtoUserChoice,2,FALSE))","v":669222.28828970331},"Billing manager","Manager","Australia",{"$f":"VLOOKUP(tblSalaries[[#This Row],[Where do you work]],tblCountries[[Actual]:[Mapping]],2,FALSE)","v":"Australia"},"4 to 6 hours a day",25,{"$f":"IF(ISNA(VLOOKUP(tblSalaries[[#This Row],[Years of Experience]],vlookUpExp!$A$1:$B$56,2,FALSE)),\"No Response\",VLOOKUP(tblSalaries[[#This Row],[Years of Experience]],vlookUpExp!$A$1:$B$56,2,FALSE))","v":"21-25"}]
[null,"ID0965","2012-05-28T05:48:56",95000,95000,"AUD",{"$f":"tblSalaries[[#This Row],[clean Salary (in local currency)]]*VLOOKUP(tblSalaries[[#This Row],[Currency]],tblXrate[],2,FALSE)","v":96891.417358250401},{"$f":"IF($H$1=\"USD\",tblSalaries[[#This Row],[Salary in USD]],tblSalaries[[#This Row],[Salary in USD]]*VLOOKUP($H$1,USDtoUserChoice,2,FALSE))","v":794701.46734402271},"financial analyst","Analyst","Australia",{"$f":"VLOOKUP(tblSalaries[[#This Row],[Where do you work]],tblCountries[[Actual]:[Mapping]],2,FALSE)","v":"Australia"},"2 to 3 hours per day",20,{"$f":"IF(ISNA(VLOOKUP(tblSalaries[[#This Row],[Years of Experience]],vlookUpExp!$A$1:$B$56,2,FALSE)),\"No Response\",VLOOKUP(tblSalaries[[#This Row],[Years of Experience]],vlookUpExp!$A$1:$B$56,2,FALSE))","v":"16-20"}]
[null,"ID0966","2012-05-28T05:51:10","AUD90000",90000,"AUD",{"$f":"tblSalaries[[#This Row],[clean Salary (in local currency)]]*VLOOKUP(tblSalaries[[#This Row],[Currency]],tblXrate[],2,FALSE)","v":91791.869076237213},{"$f":"IF($H$1=\"USD\",tblSalaries[[#This Row],[Salary in USD]],tblSalaries[[#This Row],[Salary in USD]]*VLOOKUP($H$1,USDtoUserChoice,2,FALSE))","v":752875.07432591612},"Senior Research Analyst","Analyst","Australia",{"$f":"VLOOKUP(tblSalaries[[#This Row],[Where do you work]],tblCountries[[Actual]:[Mapping]],2,FALSE)","v":"Australia"},"4 to 6 hours a day",13,{"$f":"IF(ISNA(VLOOKUP(tblSalaries[[#This Row],[Years of Experience]],vlookUpExp!$A$1:$B$56,2,FALSE)),\"No Response\",VLOOKUP(tblSalaries[[#This Row],[Years of Experience]],vlookUpExp!$A$1:$B$56,2,FALSE))","v":"11-15"}]
[null,"ID0967","2012-05-28T05:51:20",15000,15000,"USD",{"$f":"tblSalaries[[#This Row],[clean Salary (in local currency)]]*VLOOKUP(tblSalaries[[#This Row],[Currency]],tblXrate[],2,FALSE)","v":15000},{"$f":"IF($H$1=\"USD\",tblSalaries[[#This Row],[Salary in USD]],tblSalaries[[#This Row],[Salary in USD]]*VLOOKUP($H$1,USDtoUserChoice,2,FALSE))","v":123029.70000000001},"Quality Executive","Analyst","India",{"$f":"VLOOKUP(tblSalaries[[#This Row],[Where do you work]],tblCountries[[Actual]:[Mapping]],2,FALSE)","v":"India"},"2 to 3 hours per day",2,{"$f":"IF(ISNA(VLOOKUP(tblSalaries[[#This Row],[Years of Experience]],vlookUpExp!$A$1:$B$56,2,FALSE)),\"No Response\",VLOOKUP(tblSalaries[[#This Row],[Years of Experience]],vlookUpExp!$A$1:$B$56,2,FALSE))","v":"0-5"}]
[null,"ID0968","2012-05-28T06:25:36","AU$65",65000,"AUD",{"$f":"tblSalaries[[#This Row],[clean Salary (in local currency)]]*VLOOKUP(tblSalaries[[#This Row],[Currency]],tblXrate[],2,FALSE)","v":66294.12766617132},{"$f":"IF($H$1=\"USD\",tblSalaries[[#This Row],[Salary in USD]],tblSalaries[[#This Row],[Salary in USD]]*VLOOKUP($H$1,USDtoUserChoice,2,FALSE))","v":543743.10923538392},"Business Support ","Manager","Australia",{"$f":"VLOOKUP(tblSalaries[[#This Row],[Where do you work]],tblCountries[[Actual]:[Mapping]],2,FALSE)","v":"Australia"},"2 to 3 hours per day",5,{"$f":"IF(ISNA(VLOOKUP(tblSalaries[[#This Row],[Years of Experience]],vlookUpExp!$A$1:$B$56,2,FALSE)),\"No Response\",VLOOKUP(tblSalaries[[#This Row],[Years of Experience]],vlookUpExp!$A$1:$B$56,2,FALSE))","v":"0-5"}]
[null,"ID0969","2012-05-28T06:35:50",100000,100000,"AUD",{"$f":"tblSalaries[[#This Row],[clean Salary (in local currency)]]*VLOOKUP(tblSalaries[[#This Row],[Currency]],tblXrate[],2,FALSE)","v":101990.96564026357},{"$f":"IF($H$1=\"USD\",tblSalaries[[#This Row],[Salary in USD]],tblSalaries[[#This Row],[Salary in USD]]*VLOOKUP($H$1,USDtoUserChoice,2,FALSE))","v":836527.86036212905},"Senior Consultant","Consultant","Australia",{"$f":"VLOOKUP(tblSalaries[[#This Row],[Where do you work]],tblCountries[[Actual]:[Mapping]],2,FALSE)","v":"Australia"},"All the 8 hours baby, all the 8!",6,{"$f":"IF(ISNA(VLOOKUP(tblSalaries[[#This Row],[Years of Experience]],vlookUpExp!$A$1:$B$56,2,FALSE)),\"No Response\",VLOOKUP(tblSalaries[[#This Row],[Years of Experience]],vlookUpExp!$A$1:$B$56,2,FALSE))","v":"6-10"}]
[null,"ID0970","2012-05-28T06:51:54",60000,60000,"USD",{"$f":"tblSalaries[[#This Row],[clean Salary (in local currency)]]*VLOOKUP(tblSalaries[[#This Row],[Currency]],tblXrate[],2,FALSE)","v":60000},{"$f":"IF($H$1=\"USD\",tblSalaries[[#This Row],[Salary in USD]],tblSalaries[[#This Row],[Salary in USD]]*VLOOKUP($H$1,USDtoUserChoice,2,FALSE))","v":492118.80000000005},"Sales Manager","Manager","USA",{"$f":"VLOOKUP(tblSalaries[[#This Row],[Where do you work]],tblCountries[[Actual]:[Mapping]],2,FALSE)","v":"USA"},"2 to 3 hours per day",3,{"$f":"IF(ISNA(VLOOKUP(tblSalaries[[#This Row],[Years of Experience]],vlookUpExp!$A$1:$B$56,2,FALSE)),\"No Response\",VLOOKUP(tblSalaries[[#This Row],[Years of Experience]],vlookUpExp!$A$1:$B$56,2,FALSE))","v":"0-5"}]
[null,"ID0971","2012-05-28T06:52:05",43000,43000,"AUD",{"$f":"tblSalaries[[#This Row],[clean Salary (in local currency)]]*VLOOKUP(tblSalaries[[#This Row],[Currency]],tblXrate[],2,FALSE)","v":43856.11522531334},{"$f":"IF($H$1=\"USD\",tblSalaries[[#This Row],[Salary in USD]],tblSalaries[[#This Row],[Salary in USD]]*VLOOKUP($H$1,USDtoUserChoice,2,FALSE))","v":359706.97995571553},"Finance Officer","Manager","Australia",{"$f":"VLOOKUP(tblSalaries[[#This Row],[Where do you work]],tblCountries[[Actual]:[Mapping]],2,FALSE)","v":"Australia"},"All the 8 hours baby, all the 8!",1,{"$f":"IF(ISNA(VLOOKUP(tblSalaries[[#This Row],[Years of Experience]],vlookUpExp!$A$1:$B$56,2,FALSE)),\"No Response\",VLOOKUP(tblSalaries[[#This Row],[Years of Experience]],vlookUpExp!$A$1:$B$56,2,FALSE))","v":"0-5"}]
[null,"ID0972","2012-05-28T06:52:05",45616,45616,"USD",{"$f":"tblSalaries[[#This Row],[clean Salary (in local currency)]]*VLOOKUP(tblSalaries[[#This Row],[Currency]],tblXrate[],2,FALSE)","v":45616},{"$f":"IF($H$1=\"USD\",tblSalaries[[#This Row],[Salary in USD]],tblSalaries[[#This Row],[Salary in USD]]*VLOOKUP($H$1,USDtoUserChoice,2,FALSE))","v":374141.51968000003},"Assistant Fleet Analyst","Analyst","Australia",{"$f":"VLOOKUP(tblSalaries[[#This Row],[Where do you work]],tblCountries[[Actual]:[Mapping]],2,FALSE)","v":"Australia"},"4 to 6 hours a day",1.5,{"$f":"IF(ISNA(VLOOKUP(tblSalaries[[#This Row],[Years of Experience]],vlookUpExp!$A$1:$B$56,2,FALSE)),\"No Response\",VLOOKUP(tblSalaries[[#This Row],[Years of Experience]],vlookUpExp!$A$1:$B$56,2,FALSE))","v":"0-5"}]
[null,"ID0973","2012-05-28T07:00:25",95000,95000,"NZD",{"$f":"tblSalaries[[#This Row],[clean Salary (in local currency)]]*VLOOKUP(tblSalaries[[#This Row],[Currency]],tblXrate[],2,FALSE)","v":75770.868892469181},{"$f":"IF($H$1=\"USD\",tblSalaries[[#This Row],[Salary in USD]],tblSalaries[[#This Row],[Salary in USD]]*VLOOKUP($H$1,USDtoUserChoice,2,FALSE))","v":621471.15123865439},"Cost Accountant","Accountant","New Zealand",{"$f":"VLOOKUP(tblSalaries[[#This Row],[Where do you work]],tblCountries[[Actual]:[Mapping]],2,FALSE)","v":"New Zealand"},"4 to 6 hours a day",20,{"$f":"IF(ISNA(VLOOKUP(tblSalaries[[#This Row],[Years of Experience]],vlookUpExp!$A$1:$B$56,2,FALSE)),\"No Response\",VLOOKUP(tblSalaries[[#This Row],[Years of Experience]],vlookUpExp!$A$1:$B$56,2,FALSE))","v":"16-20"}]
[null,"ID0974","2012-05-28T07:21:12",56600,56600,"AUD",{"$f":"tblSalaries[[#This Row],[clean Salary (in local currency)]]*VLOOKUP(tblSalaries[[#This Row],[Currency]],tblXrate[],2,FALSE)","v":57726.886552389187},{"$f":"IF($H$1=\"USD\",tblSalaries[[#This Row],[Salary in USD]],tblSalaries[[#This Row],[Salary in USD]]*VLOOKUP($H$1,USDtoUserChoice,2,FALSE))","v":473474.76896496513},"Operations Coordinator","Manager","Australia",{"$f":"VLOOKUP(tblSalaries[[#This Row],[Where do you work]],tblCountries[[Actual]:[Mapping]],2,FALSE)","v":"Australia"},"2 to 3 hours per day",2,{"$f":"IF(ISNA(VLOOKUP(tblSalaries[[#This Row],[Years of Experience]],vlookUpExp!$A$1:$B$56,2,FALSE)),\"No Response\",VLOOKUP(tblSalaries[[#This Row],[Years of Experience]],vlookUpExp!$A$1:$B$56,2,FALSE))","v":"0-5"}]
[null,"ID0975","2012-05-28T07:23:07",20000,20000,"USD",{"$f":"tblSalaries[[#This Row],[clean Salary (in local currency)]]*VLOOKUP(tblSalaries[[#This Row],[Currency]],tblXrate[],2,FALSE)","v":20000},{"$f":"IF($H$1=\"USD\",tblSalaries[[#This Row],[Salary in USD]],tblSalaries[[#This Row],[Salary in USD]]*VLOOKUP($H$1,USDtoUserChoice,2,FALSE))","v":164039.6},"data analyst","Analyst","Australia",{"$f":"VLOOKUP(tblSalaries[[#This Row],[Where do you work]],tblCountries[[Actual]:[Mapping]],2,FALSE)","v":"Australia"},"2 to 3 hours per day",2,{"$f":"IF(ISNA(VLOOKUP(tblSalaries[[#This Row],[Years of Experience]],vlookUpExp!$A$1:$B$56,2,FALSE)),\"No Response\",VLOOKUP(tblSalaries[[#This Row],[Years of Experience]],vlookUpExp!$A$1:$B$56,2,FALSE))","v":"0-5"}]
[null,"ID0976","2012-05-28T07:28:07","AUD$200,000",200000,"AUD",{"$f":"tblSalaries[[#This Row],[clean Salary (in local currency)]]*VLOOKUP(tblSalaries[[#This Row],[Currency]],tblXrate[],2,FALSE)","v":203981.93128052715},{"$f":"IF($H$1=\"USD\",tblSalaries[[#This Row],[Salary in USD]],tblSalaries[[#This Row],[Salary in USD]]*VLOOKUP($H$1,USDtoUserChoice,2,FALSE))","v":1673055.7207242581},"Corporate Finance Manager","Manager","Australia",{"$f":"VLOOKUP(tblSalaries[[#This Row],[Where do you work]],tblCountries[[Actual]:[Mapping]],2,FALSE)","v":"Australia"},"4 to 6 hours a day",15,{"$f":"IF(ISNA(VLOOKUP(tblSalaries[[#This Row],[Years of Experience]],vlookUpExp!$A$1:$B$56,2,FALSE)),\"No Response\",VLOOKUP(tblSalaries[[#This Row],[Years of Experience]],vlookUpExp!$A$1:$B$56,2,FALSE))","v":"11-15"}]
[null,"ID0977","2012-05-28T07:28:34",50000,50000,"AUD",{"$f":"tblSalaries[[#This Row],[clean Salary (in local currency)]]*VLOOKUP(tblSalaries[[#This Row],[Currency]],tblXrate[],2,FALSE)","v":50995.482820131787},{"$f":"IF($H$1=\"USD\",tblSalaries[[#This Row],[Salary in USD]],tblSalaries[[#This Row],[Salary in USD]]*VLOOKUP($H$1,USDtoUserChoice,2,FALSE))","v":418263.93018106453},"Operations","Controller","Australia",{"$f":"VLOOKUP(tblSalaries[[#This Row],[Where do you work]],tblCountries[[Actual]:[Mapping]],2,FALSE)","v":"Australia"},"1 or 2 hours a day",5,{"$f":"IF(ISNA(VLOOKUP(tblSalaries[[#This Row],[Years of Experience]],vlookUpExp!$A$1:$B$56,2,FALSE)),\"No Response\",VLOOKUP(tblSalaries[[#This Row],[Years of Experience]],vlookUpExp!$A$1:$B$56,2,FALSE))","v":"0-5"}]
[null,"ID0978","2012-05-28T07:29:43",125000,125000,"AUD",{"$f":"tblSalaries[[#This Row],[clean Salary (in local currency)]]*VLOOKUP(tblSalaries[[#This Row],[Currency]],tblXrate[],2,FALSE)","v":127488.70705032947},{"$f":"IF($H$1=\"USD\",tblSalaries[[#This Row],[Salary in USD]],tblSalaries[[#This Row],[Salary in USD]]*VLOOKUP($H$1,USDtoUserChoice,2,FALSE))","v":1045659.8254526614},"Director, Informatics","CXO or Top Mgmt.","Australia",{"$f":"VLOOKUP(tblSalaries[[#This Row],[Where do you work]],tblCountries[[Actual]:[Mapping]],2,FALSE)","v":"Australia"},"4 to 6 hours a day",15,{"$f":"IF(ISNA(VLOOKUP(tblSalaries[[#This Row],[Years of Experience]],vlookUpExp!$A$1:$B$56,2,FALSE)),\"No Response\",VLOOKUP(tblSalaries[[#This Row],[Years of Experience]],vlookUpExp!$A$1:$B$56,2,FALSE))","v":"11-15"}]
[null,"ID0979","2012-05-28T07:33:29",65000,65000,"AUD",{"$f":"tblSalaries[[#This Row],[clean Salary (in local currency)]]*VLOOKUP(tblSalaries[[#This Row],[Currency]],tblXrate[],2,FALSE)","v":66294.12766617132},{"$f":"IF($H$1=\"USD\",tblSalaries[[#This Row],[Salary in USD]],tblSalaries[[#This Row],[Salary in USD]]*VLOOKUP($H$1,USDtoUserChoice,2,FALSE))","v":543743.10923538392},"Data Analyst","Analyst","Australia",{"$f":"VLOOKUP(tblSalaries[[#This Row],[Where do you work]],tblCountries[[Actual]:[Mapping]],2,FALSE)","v":"Australia"},"4 to 6 hours a day",4,{"$f":"IF(ISNA(VLOOKUP(tblSalaries[[#This Row],[Years of Experience]],vlookUpExp!$A$1:$B$56,2,FALSE)),\"No Response\",VLOOKUP(tblSalaries[[#This Row],[Years of Experience]],vlookUpExp!$A$1:$B$56,2,FALSE))","v":"0-5"}]
[null,"ID0980","2012-05-28T07:39:22",62000,62000,"AUD",{"$f":"tblSalaries[[#This Row],[clean Salary (in local currency)]]*VLOOKUP(tblSalaries[[#This Row],[Currency]],tblXrate[],2,FALSE)","v":63234.398696963413},{"$f":"IF($H$1=\"USD\",tblSalaries[[#This Row],[Salary in USD]],tblSalaries[[#This Row],[Salary in USD]]*VLOOKUP($H$1,USDtoUserChoice,2,FALSE))","v":518647.27342452004},"Business Analyst","Analyst","Australia",{"$f":"VLOOKUP(tblSalaries[[#This Row],[Where do you work]],tblCountries[[Actual]:[Mapping]],2,FALSE)","v":"Australia"},"4 to 6 hours a day",3,{"$f":"IF(ISNA(VLOOKUP(tblSalaries[[#This Row],[Years of Experience]],vlookUpExp!$A$1:$B$56,2,FALSE)),\"No Response\",VLOOKUP(tblSalaries[[#This Row],[Years of Experience]],vlookUpExp!$A$1:$B$56,2,FALSE))","v":"0-5"}]
[null,"ID0981","2012-05-28T07:46:28",260000,260000,"USD",{"$f":"tblSalaries[[#This Row],[clean Salary (in local currency)]]*VLOOKUP(tblSalaries[[#This Row],[Currency]],tblXrate[],2,FALSE)","v":260000},{"$f":"IF($H$1=\"USD\",tblSalaries[[#This Row],[Salary in USD]],tblSalaries[[#This Row],[Salary in USD]]*VLOOKUP($H$1,USDtoUserChoice,2,FALSE))","v":2132514.8000000003},"CFO","CXO or Top Mgmt.","USA",{"$f":"VLOOKUP(tblSalaries[[#This Row],[Where do you work]],tblCountries[[Actual]:[Mapping]],2,FALSE)","v":"USA"},"2 to 3 hours per day",10,{"$f":"IF(ISNA(VLOOKUP(tblSalaries[[#This Row],[Years of Experience]],vlookUpExp!$A$1:$B$56,2,FALSE)),\"No Response\",VLOOKUP(tblSalaries[[#This Row],[Years of Experience]],vlookUpExp!$A$1:$B$56,2,FALSE))","v":"6-10"}]
[null,"ID0983","2012-05-28T07:59:49",110000,110000,"AUD",{"$f":"tblSalaries[[#This Row],[clean Salary (in local currency)]]*VLOOKUP(tblSalaries[[#This Row],[Currency]],tblXrate[],2,FALSE)","v":112190.06220428993},{"$f":"IF($H$1=\"USD\",tblSalaries[[#This Row],[Salary in USD]],tblSalaries[[#This Row],[Salary in USD]]*VLOOKUP($H$1,USDtoUserChoice,2,FALSE))","v":920180.64639834198},"Sustainability Strategy Advisor","Manager","Australia",{"$f":"VLOOKUP(tblSalaries[[#This Row],[Where do you work]],tblCountries[[Actual]:[Mapping]],2,FALSE)","v":"Australia"},"2 to 3 hours per day",8,{"$f":"IF(ISNA(VLOOKUP(tblSalaries[[#This Row],[Years of Experience]],vlookUpExp!$A$1:$B$56,2,FALSE)),\"No Response\",VLOOKUP(tblSalaries[[#This Row],[Years of Experience]],vlookUpExp!$A$1:$B$56,2,FALSE))","v":"6-10"}]
[null,"ID0984","2012-05-28T08:03:10","AUD$70,000",70000,"AUD",{"$f":"tblSalaries[[#This Row],[clean Salary (in local currency)]]*VLOOKUP(tblSalaries[[#This Row],[Currency]],tblXrate[],2,FALSE)","v":71393.675948184507},{"$f":"IF($H$1=\"USD\",tblSalaries[[#This Row],[Salary in USD]],tblSalaries[[#This Row],[Salary in USD]]*VLOOKUP($H$1,USDtoUserChoice,2,FALSE))","v":585569.50225349038},"Business Development","Manager","Australia",{"$f":"VLOOKUP(tblSalaries[[#This Row],[Where do you work]],tblCountries[[Actual]:[Mapping]],2,FALSE)","v":"Australia"},"4 to 6 hours a day",7,{"$f":"IF(ISNA(VLOOKUP(tblSalaries[[#This Row],[Years of Experience]],vlookUpExp!$A$1:$B$56,2,FALSE)),\"No Response\",VLOOKUP(tblSalaries[[#This Row],[Years of Experience]],vlookUpExp!$A$1:$B$56,2,FALSE))","v":"6-10"}]
[null,"ID0985","2012-05-28T08:22:44","USD 85000.00",85000,"USD",{"$f":"tblSalaries[[#This Row],[clean Salary (in local currency)]]*VLOOKUP(tblSalaries[[#This Row],[Currency]],tblXrate[],2,FALSE)","v":85000},{"$f":"IF($H$1=\"USD\",tblSalaries[[#This Row],[Salary in USD]],tblSalaries[[#This Row],[Salary in USD]]*VLOOKUP($H$1,USDtoUserChoice,2,FALSE))","v":697168.3},"Reporting and DB Analyist","Reporting","Australia",{"$f":"VLOOKUP(tblSalaries[[#This Row],[Where do you work]],tblCountries[[Actual]:[Mapping]],2,FALSE)","v":"Australia"},"4 to 6 hours a day",8,{"$f":"IF(ISNA(VLOOKUP(tblSalaries[[#This Row],[Years of Experience]],vlookUpExp!$A$1:$B$56,2,FALSE)),\"No Response\",VLOOKUP(tblSalaries[[#This Row],[Years of Experience]],vlookUpExp!$A$1:$B$56,2,FALSE))","v":"6-10"}]
[null,"ID0986","2012-05-28T08:26:43",94000,94000,"AUD",{"$f":"tblSalaries[[#This Row],[clean Salary (in local currency)]]*VLOOKUP(tblSalaries[[#This Row],[Currency]],tblXrate[],2,FALSE)","v":95871.50770184776},{"$f":"IF($H$1=\"USD\",tblSalaries[[#This Row],[Salary in USD]],tblSalaries[[#This Row],[Salary in USD]]*VLOOKUP($H$1,USDtoUserChoice,2,FALSE))","v":786336.18874040141},"Business Analyst","Analyst","Australia",{"$f":"VLOOKUP(tblSalaries[[#This Row],[Where do you work]],tblCountries[[Actual]:[Mapping]],2,FALSE)","v":"Australia"},"2 to 3 hours per day",2.5,{"$f":"IF(ISNA(VLOOKUP(tblSalaries[[#This Row],[Years of Experience]],vlookUpExp!$A$1:$B$56,2,FALSE)),\"No Response\",VLOOKUP(tblSalaries[[#This Row],[Years of Experience]],vlookUpExp!$A$1:$B$56,2,FALSE))","v":"0-5"}]
[null,"ID0987","2012-05-28T08:35:32","A$107000",107000,"AUD",{"$f":"tblSalaries[[#This Row],[clean Salary (in local currency)]]*VLOOKUP(tblSalaries[[#This Row],[Currency]],tblXrate[],2,FALSE)","v":109130.33323508203},{"$f":"IF($H$1=\"USD\",tblSalaries[[#This Row],[Salary in USD]],tblSalaries[[#This Row],[Salary in USD]]*VLOOKUP($H$1,USDtoUserChoice,2,FALSE))","v":895084.81058747822},"Management Accountant","Manager","Australia",{"$f":"VLOOKUP(tblSalaries[[#This Row],[Where do you work]],tblCountries[[Actual]:[Mapping]],2,FALSE)","v":"Australia"},"4 to 6 hours a day",35,{"$f":"IF(ISNA(VLOOKUP(tblSalaries[[#This Row],[Years of Experience]],vlookUpExp!$A$1:$B$56,2,FALSE)),\"No Response\",VLOOKUP(tblSalaries[[#This Row],[Years of Experience]],vlookUpExp!$A$1:$B$56,2,FALSE))","v":"31-35"}]
[null,"ID0988","2012-05-28T08:39:53",3000,36000,"USD",{"$f":"tblSalaries[[#This Row],[clean Salary (in local currency)]]*VLOOKUP(tblSalaries[[#This Row],[Currency]],tblXrate[],2,FALSE)","v":36000},{"$f":"IF($H$1=\"USD\",tblSalaries[[#This Row],[Salary in USD]],tblSalaries[[#This Row],[Salary in USD]]*VLOOKUP($H$1,USDtoUserChoice,2,FALSE))","v":295271.28000000003},"Project manager","Manager","malaysia",{"$f":"VLOOKUP(tblSalaries[[#This Row],[Where do you work]],tblCountries[[Actual]:[Mapping]],2,FALSE)","v":"malaysia"},"1 or 2 hours a day",3,{"$f":"IF(ISNA(VLOOKUP(tblSalaries[[#This Row],[Years of Experience]],vlookUpExp!$A$1:$B$56,2,FALSE)),\"No Response\",VLOOKUP(tblSalaries[[#This Row],[Years of Experience]],vlookUpExp!$A$1:$B$56,2,FALSE))","v":"0-5"}]
[null,"ID0989","2012-05-28T08:41:13",120000,120000,"AUD",{"$f":"tblSalaries[[#This Row],[clean Salary (in local currency)]]*VLOOKUP(tblSalaries[[#This Row],[Currency]],tblXrate[],2,FALSE)","v":122389.15876831629},{"$f":"IF($H$1=\"USD\",tblSalaries[[#This Row],[Salary in USD]],tblSalaries[[#This Row],[Salary in USD]]*VLOOKUP($H$1,USDtoUserChoice,2,FALSE))","v":1003833.4324345549},"analyst","Analyst","Australia",{"$f":"VLOOKUP(tblSalaries[[#This Row],[Where do you work]],tblCountries[[Actual]:[Mapping]],2,FALSE)","v":"Australia"},"4 to 6 hours a day",2,{"$f":"IF(ISNA(VLOOKUP(tblSalaries[[#This Row],[Years of Experience]],vlookUpExp!$A$1:$B$56,2,FALSE)),\"No Response\",VLOOKUP(tblSalaries[[#This Row],[Years of Experience]],vlookUpExp!$A$1:$B$56,2,FALSE))","v":"0-5"}]
[null,"ID0990","2012-05-28T08:47:39","AU$52.000",52000,"AUD",{"$f":"tblSalaries[[#This Row],[clean Salary (in local currency)]]*VLOOKUP(tblSalaries[[#This Row],[Currency]],tblXrate[],2,FALSE)","v":53035.30213293706},{"$f":"IF($H$1=\"USD\",tblSalaries[[#This Row],[Salary in USD]],tblSalaries[[#This Row],[Salary in USD]]*VLOOKUP($H$1,USDtoUserChoice,2,FALSE))","v":434994.48738830717},"Shipping Administrator","Analyst","Australia",{"$f":"VLOOKUP(tblSalaries[[#This Row],[Where do you work]],tblCountries[[Actual]:[Mapping]],2,FALSE)","v":"Australia"},"4 to 6 hours a day",4,{"$f":"IF(ISNA(VLOOKUP(tblSalaries[[#This Row],[Years of Experience]],vlookUpExp!$A$1:$B$56,2,FALSE)),\"No Response\",VLOOKUP(tblSalaries[[#This Row],[Years of Experience]],vlookUpExp!$A$1:$B$56,2,FALSE))","v":"0-5"}]
[null,"ID0991","2012-05-28T08:48:56",125000,125000,"USD",{"$f":"tblSalaries[[#This Row],[clean Salary (in local currency)]]*VLOOKUP(tblSalaries[[#This Row],[Currency]],tblXrate[],2,FALSE)","v":125000},{"$f":"IF($H$1=\"USD\",tblSalaries[[#This Row],[Salary in USD]],tblSalaries[[#This Row],[Salary in USD]]*VLOOKUP($H$1,USDtoUserChoice,2,FALSE))","v":1025247.5000000001},"VP, Operational Analytics","CXO or Top Mgmt.","USA",{"$f":"VLOOKUP(tblSalaries[[#This Row],[Where do you work]],tblCountries[[Actual]:[Mapping]],2,FALSE)","v":"USA"},"4 to 6 hours a day",10,{"$f":"IF(ISNA(VLOOKUP(tblSalaries[[#This Row],[Years of Experience]],vlookUpExp!$A$1:$B$56,2,FALSE)),\"No Response\",VLOOKUP(tblSalaries[[#This Row],[Years of Experience]],vlookUpExp!$A$1:$B$56,2,FALSE))","v":"6-10"}]
[null,"ID0992","2012-05-28T09:03:56",19000,19000,"USD",{"$f":"tblSalaries[[#This Row],[clean Salary (in local currency)]]*VLOOKUP(tblSalaries[[#This Row],[Currency]],tblXrate[],2,FALSE)","v":19000},{"$f":"IF($H$1=\"USD\",tblSalaries[[#This Row],[Salary in USD]],tblSalaries[[#This Row],[Salary in USD]]*VLOOKUP($H$1,USDtoUserChoice,2,FALSE))","v":155837.62000000002},"Finance analyst","Analyst","China",{"$f":"VLOOKUP(tblSalaries[[#This Row],[Where do you work]],tblCountries[[Actual]:[Mapping]],2,FALSE)","v":"china"},"4 to 6 hours a day",6,{"$f":"IF(ISNA(VLOOKUP(tblSalaries[[#This Row],[Years of Experience]],vlookUpExp!$A$1:$B$56,2,FALSE)),\"No Response\",VLOOKUP(tblSalaries[[#This Row],[Years of Experience]],vlookUpExp!$A$1:$B$56,2,FALSE))","v":"6-10"}]
[null,"ID0993","2012-05-28T09:12:27",92000,92000,"AUD",{"$f":"tblSalaries[[#This Row],[clean Salary (in local currency)]]*VLOOKUP(tblSalaries[[#This Row],[Currency]],tblXrate[],2,FALSE)","v":93831.688389042494},{"$f":"IF($H$1=\"USD\",tblSalaries[[#This Row],[Salary in USD]],tblSalaries[[#This Row],[Salary in USD]]*VLOOKUP($H$1,USDtoUserChoice,2,FALSE))","v":769605.63153315883},"Finance analyst","Analyst","Australia",{"$f":"VLOOKUP(tblSalaries[[#This Row],[Where do you work]],tblCountries[[Actual]:[Mapping]],2,FALSE)","v":"Australia"},"All the 8 hours baby, all the 8!",6,{"$f":"IF(ISNA(VLOOKUP(tblSalaries[[#This Row],[Years of Experience]],vlookUpExp!$A$1:$B$56,2,FALSE)),\"No Response\",VLOOKUP(tblSalaries[[#This Row],[Years of Experience]],vlookUpExp!$A$1:$B$56,2,FALSE))","v":"6-10"}]
[null,"ID0994","2012-05-28T09:21:56",100000,100000,"AUD",{"$f":"tblSalaries[[#This Row],[clean Salary (in local currency)]]*VLOOKUP(tblSalaries[[#This Row],[Currency]],tblXrate[],2,FALSE)","v":101990.96564026357},{"$f":"IF($H$1=\"USD\",tblSalaries[[#This Row],[Salary in USD]],tblSalaries[[#This Row],[Salary in USD]]*VLOOKUP($H$1,USDtoUserChoice,2,FALSE))","v":836527.86036212905},"Reporting Analyst","Analyst","Australia",{"$f":"VLOOKUP(tblSalaries[[#This Row],[Where do you work]],tblCountries[[Actual]:[Mapping]],2,FALSE)","v":"Australia"},"4 to 6 hours a day",20,{"$f":"IF(ISNA(VLOOKUP(tblSalaries[[#This Row],[Years of Experience]],vlookUpExp!$A$1:$B$56,2,FALSE)),\"No Response\",VLOOKUP(tblSalaries[[#This Row],[Years of Experience]],vlookUpExp!$A$1:$B$56,2,FALSE))","v":"16-20"}]
[null,"ID0995","2012-05-28T09:26:10",120000,120000,"AUD",{"$f":"tblSalaries[[#This Row],[clean Salary (in local currency)]]*VLOOKUP(tblSalaries[[#This Row],[Currency]],tblXrate[],2,FALSE)","v":122389.15876831629},{"$f":"IF($H$1=\"USD\",tblSalaries[[#This Row],[Salary in USD]],tblSalaries[[#This Row],[Salary in USD]]*VLOOKUP($H$1,USDtoUserChoice,2,FALSE))","v":1003833.4324345549},"HSLP Data Analyst","Analyst","Australia",{"$f":"VLOOKUP(tblSalaries[[#This Row],[Where do you work]],tblCountries[[Actual]:[Mapping]],2,FALSE)","v":"Australia"},"4 to 6 hours a day",5,{"$f":"IF(ISNA(VLOOKUP(tblSalaries[[#This Row],[Years of Experience]],vlookUpExp!$A$1:$B$56,2,FALSE)),\"No Response\",VLOOKUP(tblSalaries[[#This Row],[Years of Experience]],vlookUpExp!$A$1:$B$56,2,FALSE))","v":"0-5"}]
[null,"ID0996","2012-05-28T09:38:29",35000,35000,"CAD",{"$f":"tblSalaries[[#This Row],[clean Salary (in local currency)]]*VLOOKUP(tblSalaries[[#This Row],[Currency]],tblXrate[],2,FALSE)","v":34417.653306061438},{"$f":"IF($H$1=\"USD\",tblSalaries[[#This Row],[Salary in USD]],tblSalaries[[#This Row],[Salary in USD]]*VLOOKUP($H$1,USDtoUserChoice,2,FALSE))","v":282292.90406324982},"Reporting Analyst","Analyst","Canada",{"$f":"VLOOKUP(tblSalaries[[#This Row],[Where do you work]],tblCountries[[Actual]:[Mapping]],2,FALSE)","v":"Canada"},"All the 8 hours baby, all the 8!",4,{"$f":"IF(ISNA(VLOOKUP(tblSalaries[[#This Row],[Years of Experience]],vlookUpExp!$A$1:$B$56,2,FALSE)),\"No Response\",VLOOKUP(tblSalaries[[#This Row],[Years of Experience]],vlookUpExp!$A$1:$B$56,2,FALSE))","v":"0-5"}]
[null,"ID0997","2012-05-28T09:40:10","US$12,000/year",12000,"USD",{"$f":"tblSalaries[[#This Row],[clean Salary (in local currency)]]*VLOOKUP(tblSalaries[[#This Row],[Currency]],tblXrate[],2,FALSE)","v":12000},{"$f":"IF($H$1=\"USD\",tblSalaries[[#This Row],[Salary in USD]],tblSalaries[[#This Row],[Salary in USD]]*VLOOKUP($H$1,USDtoUserChoice,2,FALSE))","v":98423.760000000009},"Manager","Manager","Asia",{"$f":"VLOOKUP(tblSalaries[[#This Row],[Where do you work]],tblCountries[[Actual]:[Mapping]],2,FALSE)","v":"Asia"},"All the 8 hours baby, all the 8!",3,{"$f":"IF(ISNA(VLOOKUP(tblSalaries[[#This Row],[Years of Experience]],vlookUpExp!$A$1:$B$56,2,FALSE)),\"No Response\",VLOOKUP(tblSalaries[[#This Row],[Years of Experience]],vlookUpExp!$A$1:$B$56,2,FALSE))","v":"0-5"}]
[null,"ID0998","2012-05-28T09:41:04",204000,204000,"INR",{"$f":"tblSalaries[[#This Row],[clean Salary (in local currency)]]*VLOOKUP(tblSalaries[[#This Row],[Currency]],tblXrate[],2,FALSE)","v":3632.815004238284},{"$f":"IF($H$1=\"USD\",tblSalaries[[#This Row],[Salary in USD]],tblSalaries[[#This Row],[Salary in USD]]*VLOOKUP($H$1,USDtoUserChoice,2,FALSE))","v":29796.276008462322},"Retired Government Officer, having knowledge in excel.","Manager","India",{"$f":"VLOOKUP(tblSalaries[[#This Row],[Where do you work]],tblCountries[[Actual]:[Mapping]],2,FALSE)","v":"India"},"4 to 6 hours a day",0,{"$f":"IF(ISNA(VLOOKUP(tblSalaries[[#This Row],[Years of Experience]],vlookUpExp!$A$1:$B$56,2,FALSE)),\"No Response\",VLOOKUP(tblSalaries[[#This Row],[Years of Experience]],vlookUpExp!$A$1:$B$56,2,FALSE))","v":"0-5"}]
[null,"ID0999","2012-05-28T09:43:33","1200000 INR",1200000,"INR",{"$f":"tblSalaries[[#This Row],[clean Salary (in local currency)]]*VLOOKUP(tblSalaries[[#This Row],[Currency]],tblXrate[],2,FALSE)","v":21369.500024931083},{"$f":"IF($H$1=\"USD\",tblSalaries[[#This Row],[Salary in USD]],tblSalaries[[#This Row],[Salary in USD]]*VLOOKUP($H$1,USDtoUserChoice,2,FALSE))","v":175272.21181448427},"Senior Consultant","Consultant","India",{"$f":"VLOOKUP(tblSalaries[[#This Row],[Where do you work]],tblCountries[[Actual]:[Mapping]],2,FALSE)","v":"India"},"All the 8 hours baby, all the 8!",6,{"$f":"IF(ISNA(VLOOKUP(tblSalaries[[#This Row],[Years of Experience]],vlookUpExp!$A$1:$B$56,2,FALSE)),\"No Response\",VLOOKUP(tblSalaries[[#This Row],[Years of Experience]],vlookUpExp!$A$1:$B$56,2,FALSE))","v":"6-10"}]
[null,"ID1000","2012-05-28T09:51:24","Rs. 500000",500000,"INR",{"$f":"tblSalaries[[#This Row],[clean Salary (in local currency)]]*VLOOKUP(tblSalaries[[#This Row],[Currency]],tblXrate[],2,FALSE)","v":8903.9583437212841},{"$f":"IF($H$1=\"USD\",tblSalaries[[#This Row],[Salary in USD]],tblSalaries[[#This Row],[Salary in USD]]*VLOOKUP($H$1,USDtoUserChoice,2,FALSE))","v":73030.088256035102},"Business Analyst","Analyst","India",{"$f":"VLOOKUP(tblSalaries[[#This Row],[Where do you work]],tblCountries[[Actual]:[Mapping]],2,FALSE)","v":"India"},"4 to 6 hours a day",7,{"$f":"IF(ISNA(VLOOKUP(tblSalaries[[#This Row],[Years of Experience]],vlookUpExp!$A$1:$B$56,2,FALSE)),\"No Response\",VLOOKUP(tblSalaries[[#This Row],[Years of Experience]],vlookUpExp!$A$1:$B$56,2,FALSE))","v":"6-10"}]
[null,"ID1001","2012-05-28T10:15:27","RM48,000",48000,"MYR",{"$f":"tblSalaries[[#This Row],[clean Salary (in local currency)]]*VLOOKUP(tblSalaries[[#This Row],[Currency]],tblXrate[],2,FALSE)","v":15206.427249917633},{"$f":"IF($H$1=\"USD\",tblSalaries[[#This Row],[Salary in USD]],tblSalaries[[#This Row],[Salary in USD]]*VLOOKUP($H$1,USDtoUserChoice,2,FALSE))","v":124722.81217527944},"Credit Risk Manager","Manager","Malaysia",{"$f":"VLOOKUP(tblSalaries[[#This Row],[Where do you work]],tblCountries[[Actual]:[Mapping]],2,FALSE)","v":"malaysia"},"4 to 6 hours a day",2,{"$f":"IF(ISNA(VLOOKUP(tblSalaries[[#This Row],[Years of Experience]],vlookUpExp!$A$1:$B$56,2,FALSE)),\"No Response\",VLOOKUP(tblSalaries[[#This Row],[Years of Experience]],vlookUpExp!$A$1:$B$56,2,FALSE))","v":"0-5"}]
[null,"ID1002","2012-05-28T10:21:58","NZD 180000",180000,"NZD",{"$f":"tblSalaries[[#This Row],[clean Salary (in local currency)]]*VLOOKUP(tblSalaries[[#This Row],[Currency]],tblXrate[],2,FALSE)","v":143565.85684888897},{"$f":"IF($H$1=\"USD\",tblSalaries[[#This Row],[Salary in USD]],tblSalaries[[#This Row],[Salary in USD]]*VLOOKUP($H$1,USDtoUserChoice,2,FALSE))","v":1177524.2865574504},"Commercial Manager","Manager","New Zealand",{"$f":"VLOOKUP(tblSalaries[[#This Row],[Where do you work]],tblCountries[[Actual]:[Mapping]],2,FALSE)","v":"New Zealand"},"4 to 6 hours a day",25,{"$f":"IF(ISNA(VLOOKUP(tblSalaries[[#This Row],[Years of Experience]],vlookUpExp!$A$1:$B$56,2,FALSE)),\"No Response\",VLOOKUP(tblSalaries[[#This Row],[Years of Experience]],vlookUpExp!$A$1:$B$56,2,FALSE))","v":"21-25"}]
[null,"ID1003","2012-05-28T10:25:51","Rs.5,45,000",545000,"INR",{"$f":"tblSalaries[[#This Row],[clean Salary (in local currency)]]*VLOOKUP(tblSalaries[[#This Row],[Currency]],tblXrate[],2,FALSE)","v":9705.3145946561999},{"$f":"IF($H$1=\"USD\",tblSalaries[[#This Row],[Salary in USD]],tblSalaries[[#This Row],[Salary in USD]]*VLOOKUP($H$1,USDtoUserChoice,2,FALSE))","v":79602.796199078264},"Assistant Manager","Manager","India",{"$f":"VLOOKUP(tblSalaries[[#This Row],[Where do you work]],tblCountries[[Actual]:[Mapping]],2,FALSE)","v":"India"},"2 to 3 hours per day",6,{"$f":"IF(ISNA(VLOOKUP(tblSalaries[[#This Row],[Years of Experience]],vlookUpExp!$A$1:$B$56,2,FALSE)),\"No Response\",VLOOKUP(tblSalaries[[#This Row],[Years of Experience]],vlookUpExp!$A$1:$B$56,2,FALSE))","v":"6-10"}]
[null,"ID1004","2012-05-28T10:27:45","Rs.10,00,000",1000000,"INR",{"$f":"tblSalaries[[#This Row],[clean Salary (in local currency)]]*VLOOKUP(tblSalaries[[#This Row],[Currency]],tblXrate[],2,FALSE)","v":17807.916687442568},{"$f":"IF($H$1=\"USD\",tblSalaries[[#This Row],[Salary in USD]],tblSalaries[[#This Row],[Salary in USD]]*VLOOKUP($H$1,USDtoUserChoice,2,FALSE))","v":146060.1765120702},"Credit Manager - Loans","Manager","India",{"$f":"VLOOKUP(tblSalaries[[#This Row],[Where do you work]],tblCountries[[Actual]:[Mapping]],2,FALSE)","v":"India"},"All the 8 hours baby, all the 8!",8,{"$f":"IF(ISNA(VLOOKUP(tblSalaries[[#This Row],[Years of Experience]],vlookUpExp!$A$1:$B$56,2,FALSE)),\"No Response\",VLOOKUP(tblSalaries[[#This Row],[Years of Experience]],vlookUpExp!$A$1:$B$56,2,FALSE))","v":"6-10"}]
[null,"ID1005","2012-05-28T10:27:48",180000,180000,"INR",{"$f":"tblSalaries[[#This Row],[clean Salary (in local currency)]]*VLOOKUP(tblSalaries[[#This Row],[Currency]],tblXrate[],2,FALSE)","v":3205.4250037396623},{"$f":"IF($H$1=\"USD\",tblSalaries[[#This Row],[Salary in USD]],tblSalaries[[#This Row],[Salary in USD]]*VLOOKUP($H$1,USDtoUserChoice,2,FALSE))","v":26290.831772172638},"Audit executive","Analyst","INDIA",{"$f":"VLOOKUP(tblSalaries[[#This Row],[Where do you work]],tblCountries[[Actual]:[Mapping]],2,FALSE)","v":"India"},"4 to 6 hours a day",10,{"$f":"IF(ISNA(VLOOKUP(tblSalaries[[#This Row],[Years of Experience]],vlookUpExp!$A$1:$B$56,2,FALSE)),\"No Response\",VLOOKUP(tblSalaries[[#This Row],[Years of Experience]],vlookUpExp!$A$1:$B$56,2,FALSE))","v":"6-10"}]
[null,"ID1006","2012-05-28T10:29:41","$45,000  USD",45000,"USD",{"$f":"tblSalaries[[#This Row],[clean Salary (in local currency)]]*VLOOKUP(tblSalaries[[#This Row],[Currency]],tblXrate[],2,FALSE)","v":45000},{"$f":"IF($H$1=\"USD\",tblSalaries[[#This Row],[Salary in USD]],tblSalaries[[#This Row],[Salary in USD]]*VLOOKUP($H$1,USDtoUserChoice,2,FALSE))","v":369089.10000000003},"Staff accountant -- Auditing","Accountant","USA",{"$f":"VLOOKUP(tblSalaries[[#This Row],[Where do you work]],tblCountries[[Actual]:[Mapping]],2,FALSE)","v":"USA"},"All the 8 hours baby, all the 8!",3,{"$f":"IF(ISNA(VLOOKUP(tblSalaries[[#This Row],[Years of Experience]],vlookUpExp!$A$1:$B$56,2,FALSE)),\"No Response\",VLOOKUP(tblSalaries[[#This Row],[Years of Experience]],vlookUpExp!$A$1:$B$56,2,FALSE))","v":"0-5"}]
[null,"ID1007","2012-05-28T10:38:53",700000,700000,"INR",{"$f":"tblSalaries[[#This Row],[clean Salary (in local currency)]]*VLOOKUP(tblSalaries[[#This Row],[Currency]],tblXrate[],2,FALSE)","v":12465.541681209797},{"$f":"IF($H$1=\"USD\",tblSalaries[[#This Row],[Salary in USD]],tblSalaries[[#This Row],[Salary in USD]]*VLOOKUP($H$1,USDtoUserChoice,2,FALSE))","v":102242.12355844914},"Asst Manager - Quality","Manager","India",{"$f":"VLOOKUP(tblSalaries[[#This Row],[Where do you work]],tblCountries[[Actual]:[Mapping]],2,FALSE)","v":"India"},"2 to 3 hours per day",7,{"$f":"IF(ISNA(VLOOKUP(tblSalaries[[#This Row],[Years of Experience]],vlookUpExp!$A$1:$B$56,2,FALSE)),\"No Response\",VLOOKUP(tblSalaries[[#This Row],[Years of Experience]],vlookUpExp!$A$1:$B$56,2,FALSE))","v":"6-10"}]
[null,"ID1008","2012-05-28T10:41:38",94000,94000,"AUD",{"$f":"tblSalaries[[#This Row],[clean Salary (in local currency)]]*VLOOKUP(tblSalaries[[#This Row],[Currency]],tblXrate[],2,FALSE)","v":95871.50770184776},{"$f":"IF($H$1=\"USD\",tblSalaries[[#This Row],[Salary in USD]],tblSalaries[[#This Row],[Salary in USD]]*VLOOKUP($H$1,USDtoUserChoice,2,FALSE))","v":786336.18874040141},"Principal Analyst","Analyst","Australia",{"$f":"VLOOKUP(tblSalaries[[#This Row],[Where do you work]],tblCountries[[Actual]:[Mapping]],2,FALSE)","v":"Australia"},"2 to 3 hours per day",14,{"$f":"IF(ISNA(VLOOKUP(tblSalaries[[#This Row],[Years of Experience]],vlookUpExp!$A$1:$B$56,2,FALSE)),\"No Response\",VLOOKUP(tblSalaries[[#This Row],[Years of Experience]],vlookUpExp!$A$1:$B$56,2,FALSE))","v":"11-15"}]
[null,"ID1009","2012-05-28T10:42:08",170000,170000,"AUD",{"$f":"tblSalaries[[#This Row],[clean Salary (in local currency)]]*VLOOKUP(tblSalaries[[#This Row],[Currency]],tblXrate[],2,FALSE)","v":173384.64158844808},{"$f":"IF($H$1=\"USD\",tblSalaries[[#This Row],[Salary in USD]],tblSalaries[[#This Row],[Salary in USD]]*VLOOKUP($H$1,USDtoUserChoice,2,FALSE))","v":1422097.3626156196},"Business Consultant","Consultant","Australia",{"$f":"VLOOKUP(tblSalaries[[#This Row],[Where do you work]],tblCountries[[Actual]:[Mapping]],2,FALSE)","v":"Australia"},"2 to 3 hours per day",8,{"$f":"IF(ISNA(VLOOKUP(tblSalaries[[#This Row],[Years of Experience]],vlookUpExp!$A$1:$B$56,2,FALSE)),\"No Response\",VLOOKUP(tblSalaries[[#This Row],[Years of Experience]],vlookUpExp!$A$1:$B$56,2,FALSE))","v":"6-10"}]
[null,"ID1010","2012-05-28T11:11:53",650000,650000,"INR",{"$f":"tblSalaries[[#This Row],[clean Salary (in local currency)]]*VLOOKUP(tblSalaries[[#This Row],[Currency]],tblXrate[],2,FALSE)","v":11575.14584683767},{"$f":"IF($H$1=\"USD\",tblSalaries[[#This Row],[Salary in USD]],tblSalaries[[#This Row],[Salary in USD]]*VLOOKUP($H$1,USDtoUserChoice,2,FALSE))","v":94939.114732845643},"Ass Research  Manager","Manager","India",{"$f":"VLOOKUP(tblSalaries[[#This Row],[Where do you work]],tblCountries[[Actual]:[Mapping]],2,FALSE)","v":"India"},"2 to 3 hours per day",1,{"$f":"IF(ISNA(VLOOKUP(tblSalaries[[#This Row],[Years of Experience]],vlookUpExp!$A$1:$B$56,2,FALSE)),\"No Response\",VLOOKUP(tblSalaries[[#This Row],[Years of Experience]],vlookUpExp!$A$1:$B$56,2,FALSE))","v":"0-5"}]
[null,"ID1011","2012-05-28T11:31:20",18000,18000,"USD",{"$f":"tblSalaries[[#This Row],[clean Salary (in local currency)]]*VLOOKUP(tblSalaries[[#This Row],[Currency]],tblXrate[],2,FALSE)","v":18000},{"$f":"IF($H$1=\"USD\",tblSalaries[[#This Row],[Salary in USD]],tblSalaries[[#This Row],[Salary in USD]]*VLOOKUP($H$1,USDtoUserChoice,2,FALSE))","v":147635.64000000001},"Data Specialist","Specialist","India",{"$f":"VLOOKUP(tblSalaries[[#This Row],[Where do you work]],tblCountries[[Actual]:[Mapping]],2,FALSE)","v":"India"},"All the 8 hours baby, all the 8!",8,{"$f":"IF(ISNA(VLOOKUP(tblSalaries[[#This Row],[Years of Experience]],vlookUpExp!$A$1:$B$56,2,FALSE)),\"No Response\",VLOOKUP(tblSalaries[[#This Row],[Years of Experience]],vlookUpExp!$A$1:$B$56,2,FALSE))","v":"6-10"}]
[null,"ID1012","2012-05-28T11:33:05","AUD$70,000",70000,"AUD",{"$f":"tblSalaries[[#This Row],[clean Salary (in local currency)]]*VLOOKUP(tblSalaries[[#This Row],[Currency]],tblXrate[],2,FALSE)","v":71393.675948184507},{"$f":"IF($H$1=\"USD\",tblSalaries[[#This Row],[Salary in USD]],tblSalaries[[#This Row],[Salary in USD]]*VLOOKUP($H$1,USDtoUserChoice,2,FALSE))","v":585569.50225349038},"Director","CXO or Top Mgmt.","Australia",{"$f":"VLOOKUP(tblSalaries[[#This Row],[Where do you work]],tblCountries[[Actual]:[Mapping]],2,FALSE)","v":"Australia"},"All the 8 hours baby, all the 8!",2,{"$f":"IF(ISNA(VLOOKUP(tblSalaries[[#This Row],[Years of Experience]],vlookUpExp!$A$1:$B$56,2,FALSE)),\"No Response\",VLOOKUP(tblSalaries[[#This Row],[Years of Experience]],vlookUpExp!$A$1:$B$56,2,FALSE))","v":"0-5"}]
[null,"ID1013","2012-05-28T11:33:07","350000 Rs",350000,"INR",{"$f":"tblSalaries[[#This Row],[clean Salary (in local currency)]]*VLOOKUP(tblSalaries[[#This Row],[Currency]],tblXrate[],2,FALSE)","v":6232.7708406048987},{"$f":"IF($H$1=\"USD\",tblSalaries[[#This Row],[Salary in USD]],tblSalaries[[#This Row],[Salary in USD]]*VLOOKUP($H$1,USDtoUserChoice,2,FALSE))","v":51121.061779224568},"Data Analyst","Analyst","India",{"$f":"VLOOKUP(tblSalaries[[#This Row],[Where do you work]],tblCountries[[Actual]:[Mapping]],2,FALSE)","v":"India"},"4 to 6 hours a day",2.5,{"$f":"IF(ISNA(VLOOKUP(tblSalaries[[#This Row],[Years of Experience]],vlookUpExp!$A$1:$B$56,2,FALSE)),\"No Response\",VLOOKUP(tblSalaries[[#This Row],[Years of Experience]],vlookUpExp!$A$1:$B$56,2,FALSE))","v":"0-5"}]
[null,"ID1014","2012-05-28T11:37:17","LKR 240000",240000,"LKR",{"$f":"tblSalaries[[#This Row],[clean Salary (in local currency)]]*VLOOKUP(tblSalaries[[#This Row],[Currency]],tblXrate[],2,FALSE)","v":1805.7739622442759},{"$f":"IF($H$1=\"USD\",tblSalaries[[#This Row],[Salary in USD]],tblSalaries[[#This Row],[Salary in USD]]*VLOOKUP($H$1,USDtoUserChoice,2,FALSE))","v":14810.921922848307},"Management Trainee","Manager","Sri Lanka",{"$f":"VLOOKUP(tblSalaries[[#This Row],[Where do you work]],tblCountries[[Actual]:[Mapping]],2,FALSE)","v":"Sri Lanka"},"4 to 6 hours a day",3,{"$f":"IF(ISNA(VLOOKUP(tblSalaries[[#This Row],[Years of Experience]],vlookUpExp!$A$1:$B$56,2,FALSE)),\"No Response\",VLOOKUP(tblSalaries[[#This Row],[Years of Experience]],vlookUpExp!$A$1:$B$56,2,FALSE))","v":"0-5"}]
[null,"ID1015","2012-05-28T11:39:01","Rs.6.4 lakhs",640000,"INR",{"$f":"tblSalaries[[#This Row],[clean Salary (in local currency)]]*VLOOKUP(tblSalaries[[#This Row],[Currency]],tblXrate[],2,FALSE)","v":11397.066679963244},{"$f":"IF($H$1=\"USD\",tblSalaries[[#This Row],[Salary in USD]],tblSalaries[[#This Row],[Salary in USD]]*VLOOKUP($H$1,USDtoUserChoice,2,FALSE))","v":93478.512967724935},"Sr.Analyst - Process Excellence","Analyst","India",{"$f":"VLOOKUP(tblSalaries[[#This Row],[Where do you work]],tblCountries[[Actual]:[Mapping]],2,FALSE)","v":"India"},"All the 8 hours baby, all the 8!",6,{"$f":"IF(ISNA(VLOOKUP(tblSalaries[[#This Row],[Years of Experience]],vlookUpExp!$A$1:$B$56,2,FALSE)),\"No Response\",VLOOKUP(tblSalaries[[#This Row],[Years of Experience]],vlookUpExp!$A$1:$B$56,2,FALSE))","v":"6-10"}]
[null,"ID1016","2012-05-28T11:41:11",15000,15000,"USD",{"$f":"tblSalaries[[#This Row],[clean Salary (in local currency)]]*VLOOKUP(tblSalaries[[#This Row],[Currency]],tblXrate[],2,FALSE)","v":15000},{"$f":"IF($H$1=\"USD\",tblSalaries[[#This Row],[Salary in USD]],tblSalaries[[#This Row],[Salary in USD]]*VLOOKUP($H$1,USDtoUserChoice,2,FALSE))","v":123029.70000000001},"Operations Management","Manager","India",{"$f":"VLOOKUP(tblSalaries[[#This Row],[Where do you work]],tblCountries[[Actual]:[Mapping]],2,FALSE)","v":"India"},"4 to 6 hours a day",4,{"$f":"IF(ISNA(VLOOKUP(tblSalaries[[#This Row],[Years of Experience]],vlookUpExp!$A$1:$B$56,2,FALSE)),\"No Response\",VLOOKUP(tblSalaries[[#This Row],[Years of Experience]],vlookUpExp!$A$1:$B$56,2,FALSE))","v":"0-5"}]
[null,"ID1017","2012-05-28T11:58:39","R308 500",308500,"ZAR",{"$f":"tblSalaries[[#This Row],[clean Salary (in local currency)]]*VLOOKUP(tblSalaries[[#This Row],[Currency]],tblXrate[],2,FALSE)","v":37612.869087708088},{"$f":"IF($H$1=\"USD\",tblSalaries[[#This Row],[Salary in USD]],tblSalaries[[#This Row],[Salary in USD]]*VLOOKUP($H$1,USDtoUserChoice,2,FALSE))","v":308500},"Management Information Consultant","Manager","South Africa",{"$f":"VLOOKUP(tblSalaries[[#This Row],[Where do you work]],tblCountries[[Actual]:[Mapping]],2,FALSE)","v":"South Africa"},"All the 8 hours baby, all the 8!",3,{"$f":"IF(ISNA(VLOOKUP(tblSalaries[[#This Row],[Years of Experience]],vlookUpExp!$A$1:$B$56,2,FALSE)),\"No Response\",VLOOKUP(tblSalaries[[#This Row],[Years of Experience]],vlookUpExp!$A$1:$B$56,2,FALSE))","v":"0-5"}]
[null,"ID1018","2012-05-28T12:00:14",3.65,365000,"INR",{"$f":"tblSalaries[[#This Row],[clean Salary (in local currency)]]*VLOOKUP(tblSalaries[[#This Row],[Currency]],tblXrate[],2,FALSE)","v":6499.8895909165376},{"$f":"IF($H$1=\"USD\",tblSalaries[[#This Row],[Salary in USD]],tblSalaries[[#This Row],[Salary in USD]]*VLOOKUP($H$1,USDtoUserChoice,2,FALSE))","v":53311.96442690563},"associate analyst","Analyst","India",{"$f":"VLOOKUP(tblSalaries[[#This Row],[Where do you work]],tblCountries[[Actual]:[Mapping]],2,FALSE)","v":"India"},"4 to 6 hours a day",3,{"$f":"IF(ISNA(VLOOKUP(tblSalaries[[#This Row],[Years of Experience]],vlookUpExp!$A$1:$B$56,2,FALSE)),\"No Response\",VLOOKUP(tblSalaries[[#This Row],[Years of Experience]],vlookUpExp!$A$1:$B$56,2,FALSE))","v":"0-5"}]
[null,"ID1019","2012-05-28T12:09:37","usd 20.000",20000,"USD",{"$f":"tblSalaries[[#This Row],[clean Salary (in local currency)]]*VLOOKUP(tblSalaries[[#This Row],[Currency]],tblXrate[],2,FALSE)","v":20000},{"$f":"IF($H$1=\"USD\",tblSalaries[[#This Row],[Salary in USD]],tblSalaries[[#This Row],[Salary in USD]]*VLOOKUP($H$1,USDtoUserChoice,2,FALSE))","v":164039.6},"Head of Financial Reporting","Reporting","Paraguay",{"$f":"VLOOKUP(tblSalaries[[#This Row],[Where do you work]],tblCountries[[Actual]:[Mapping]],2,FALSE)","v":"Paraguay"},"All the 8 hours baby, all the 8!",6,{"$f":"IF(ISNA(VLOOKUP(tblSalaries[[#This Row],[Years of Experience]],vlookUpExp!$A$1:$B$56,2,FALSE)),\"No Response\",VLOOKUP(tblSalaries[[#This Row],[Years of Experience]],vlookUpExp!$A$1:$B$56,2,FALSE))","v":"6-10"}]
[null,"ID1020","2012-05-28T12:10:09",7265,7265,"USD",{"$f":"tblSalaries[[#This Row],[clean Salary (in local currency)]]*VLOOKUP(tblSalaries[[#This Row],[Currency]],tblXrate[],2,FALSE)","v":7265},{"$f":"IF($H$1=\"USD\",tblSalaries[[#This Row],[Salary in USD]],tblSalaries[[#This Row],[Salary in USD]]*VLOOKUP($H$1,USDtoUserChoice,2,FALSE))","v":59587.384700000002},"Softwar Engineer","Engineer","India",{"$f":"VLOOKUP(tblSalaries[[#This Row],[Where do you work]],tblCountries[[Actual]:[Mapping]],2,FALSE)","v":"India"},"4 to 6 hours a day",6,{"$f":"IF(ISNA(VLOOKUP(tblSalaries[[#This Row],[Years of Experience]],vlookUpExp!$A$1:$B$56,2,FALSE)),\"No Response\",VLOOKUP(tblSalaries[[#This Row],[Years of Experience]],vlookUpExp!$A$1:$B$56,2,FALSE))","v":"6-10"}]
[null,"ID1021","2012-05-28T12:15:53","SGD92,000",92000,"SGD",{"$f":"tblSalaries[[#This Row],[clean Salary (in local currency)]]*VLOOKUP(tblSalaries[[#This Row],[Currency]],tblXrate[],2,FALSE)","v":72571.80269935554},{"$f":"IF($H$1=\"USD\",tblSalaries[[#This Row],[Salary in USD]],tblSalaries[[#This Row],[Salary in USD]]*VLOOKUP($H$1,USDtoUserChoice,2,FALSE))","v":595232.47430406022},"Finance Manager","Manager","Singapore",{"$f":"VLOOKUP(tblSalaries[[#This Row],[Where do you work]],tblCountries[[Actual]:[Mapping]],2,FALSE)","v":"Singapore"},"All the 8 hours baby, all the 8!",15,{"$f":"IF(ISNA(VLOOKUP(tblSalaries[[#This Row],[Years of Experience]],vlookUpExp!$A$1:$B$56,2,FALSE)),\"No Response\",VLOOKUP(tblSalaries[[#This Row],[Years of Experience]],vlookUpExp!$A$1:$B$56,2,FALSE))","v":"11-15"}]
[null,"ID1023","2012-05-28T12:20:48","INR 4.5 Lac",450000,"INR",{"$f":"tblSalaries[[#This Row],[clean Salary (in local currency)]]*VLOOKUP(tblSalaries[[#This Row],[Currency]],tblXrate[],2,FALSE)","v":8013.5625093491553},{"$f":"IF($H$1=\"USD\",tblSalaries[[#This Row],[Salary in USD]],tblSalaries[[#This Row],[Salary in USD]]*VLOOKUP($H$1,USDtoUserChoice,2,FALSE))","v":65727.079430431593},"Asst. Manager","Manager","India",{"$f":"VLOOKUP(tblSalaries[[#This Row],[Where do you work]],tblCountries[[Actual]:[Mapping]],2,FALSE)","v":"India"},"All the 8 hours baby, all the 8!",15,{"$f":"IF(ISNA(VLOOKUP(tblSalaries[[#This Row],[Years of Experience]],vlookUpExp!$A$1:$B$56,2,FALSE)),\"No Response\",VLOOKUP(tblSalaries[[#This Row],[Years of Experience]],vlookUpExp!$A$1:$B$56,2,FALSE))","v":"11-15"}]
[null,"ID1024","2012-05-28T12:26:01","Rs.5.7 lacs",570000,"INR",{"$f":"tblSalaries[[#This Row],[clean Salary (in local currency)]]*VLOOKUP(tblSalaries[[#This Row],[Currency]],tblXrate[],2,FALSE)","v":10150.512511842264},{"$f":"IF($H$1=\"USD\",tblSalaries[[#This Row],[Salary in USD]],tblSalaries[[#This Row],[Salary in USD]]*VLOOKUP($H$1,USDtoUserChoice,2,FALSE))","v":83254.300611880011},"MIS & Analysis","Analyst","India",{"$f":"VLOOKUP(tblSalaries[[#This Row],[Where do you work]],tblCountries[[Actual]:[Mapping]],2,FALSE)","v":"India"},"4 to 6 hours a day",5,{"$f":"IF(ISNA(VLOOKUP(tblSalaries[[#This Row],[Years of Experience]],vlookUpExp!$A$1:$B$56,2,FALSE)),\"No Response\",VLOOKUP(tblSalaries[[#This Row],[Years of Experience]],vlookUpExp!$A$1:$B$56,2,FALSE))","v":"0-5"}]
[null,"ID1025","2012-05-28T12:26:42",65000,65000,"USD",{"$f":"tblSalaries[[#This Row],[clean Salary (in local currency)]]*VLOOKUP(tblSalaries[[#This Row],[Currency]],tblXrate[],2,FALSE)","v":65000},{"$f":"IF($H$1=\"USD\",tblSalaries[[#This Row],[Salary in USD]],tblSalaries[[#This Row],[Salary in USD]]*VLOOKUP($H$1,USDtoUserChoice,2,FALSE))","v":533128.70000000007},"Controller","Controller","USA",{"$f":"VLOOKUP(tblSalaries[[#This Row],[Where do you work]],tblCountries[[Actual]:[Mapping]],2,FALSE)","v":"USA"},"4 to 6 hours a day",9,{"$f":"IF(ISNA(VLOOKUP(tblSalaries[[#This Row],[Years of Experience]],vlookUpExp!$A$1:$B$56,2,FALSE)),\"No Response\",VLOOKUP(tblSalaries[[#This Row],[Years of Experience]],vlookUpExp!$A$1:$B$56,2,FALSE))","v":"6-10"}]
[null,"ID1026","2012-05-28T12:32:12",300000,300000,"PKR",{"$f":"tblSalaries[[#This Row],[clean Salary (in local currency)]]*VLOOKUP(tblSalaries[[#This Row],[Currency]],tblXrate[],2,FALSE)","v":3184.2266150397395},{"$f":"IF($H$1=\"USD\",tblSalaries[[#This Row],[Salary in USD]],tblSalaries[[#This Row],[Salary in USD]]*VLOOKUP($H$1,USDtoUserChoice,2,FALSE))","v":26116.963012023643},"Banker","Manager","Pakistan",{"$f":"VLOOKUP(tblSalaries[[#This Row],[Where do you work]],tblCountries[[Actual]:[Mapping]],2,FALSE)","v":"Pakistan"},"4 to 6 hours a day",4,{"$f":"IF(ISNA(VLOOKUP(tblSalaries[[#This Row],[Years of Experience]],vlookUpExp!$A$1:$B$56,2,FALSE)),\"No Response\",VLOOKUP(tblSalaries[[#This Row],[Years of Experience]],vlookUpExp!$A$1:$B$56,2,FALSE))","v":"0-5"}]
[null,"ID1027","2012-05-28T12:35:38","Net- 56000Rs, Gross - 61000Rs",612000,"INR",{"$f":"tblSalaries[[#This Row],[clean Salary (in local currency)]]*VLOOKUP(tblSalaries[[#This Row],[Currency]],tblXrate[],2,FALSE)","v":10898.445012714852},{"$f":"IF($H$1=\"USD\",tblSalaries[[#This Row],[Salary in USD]],tblSalaries[[#This Row],[Salary in USD]]*VLOOKUP($H$1,USDtoUserChoice,2,FALSE))","v":89388.828025386974},"Asst. Manager ","Manager","India",{"$f":"VLOOKUP(tblSalaries[[#This Row],[Where do you work]],tblCountries[[Actual]:[Mapping]],2,FALSE)","v":"India"},"2 to 3 hours per day",13,{"$f":"IF(ISNA(VLOOKUP(tblSalaries[[#This Row],[Years of Experience]],vlookUpExp!$A$1:$B$56,2,FALSE)),\"No Response\",VLOOKUP(tblSalaries[[#This Row],[Years of Experience]],vlookUpExp!$A$1:$B$56,2,FALSE))","v":"11-15"}]
[null,"ID1028","2012-05-28T12:40:26",900,10800,"USD",{"$f":"tblSalaries[[#This Row],[clean Salary (in local currency)]]*VLOOKUP(tblSalaries[[#This Row],[Currency]],tblXrate[],2,FALSE)","v":10800},{"$f":"IF($H$1=\"USD\",tblSalaries[[#This Row],[Salary in USD]],tblSalaries[[#This Row],[Salary in USD]]*VLOOKUP($H$1,USDtoUserChoice,2,FALSE))","v":88581.384000000005},"Project Managment Office","Manager","Pakistan",{"$f":"VLOOKUP(tblSalaries[[#This Row],[Where do you work]],tblCountries[[Actual]:[Mapping]],2,FALSE)","v":"Pakistan"},"All the 8 hours baby, all the 8!",5,{"$f":"IF(ISNA(VLOOKUP(tblSalaries[[#This Row],[Years of Experience]],vlookUpExp!$A$1:$B$56,2,FALSE)),\"No Response\",VLOOKUP(tblSalaries[[#This Row],[Years of Experience]],vlookUpExp!$A$1:$B$56,2,FALSE))","v":"0-5"}]
[null,"ID1029","2012-05-28T12:47:20",120000,120000,"INR",{"$f":"tblSalaries[[#This Row],[clean Salary (in local currency)]]*VLOOKUP(tblSalaries[[#This Row],[Currency]],tblXrate[],2,FALSE)","v":2136.9500024931081},{"$f":"IF($H$1=\"USD\",tblSalaries[[#This Row],[Salary in USD]],tblSalaries[[#This Row],[Salary in USD]]*VLOOKUP($H$1,USDtoUserChoice,2,FALSE))","v":17527.221181448425},"Audit Assistant","Analyst","India",{"$f":"VLOOKUP(tblSalaries[[#This Row],[Where do you work]],tblCountries[[Actual]:[Mapping]],2,FALSE)","v":"India"},"2 to 3 hours per day",3.5,{"$f":"IF(ISNA(VLOOKUP(tblSalaries[[#This Row],[Years of Experience]],vlookUpExp!$A$1:$B$56,2,FALSE)),\"No Response\",VLOOKUP(tblSalaries[[#This Row],[Years of Experience]],vlookUpExp!$A$1:$B$56,2,FALSE))","v":"0-5"}]
[null,"ID1030","2012-05-28T12:51:53",45000,45000,"USD",{"$f":"tblSalaries[[#This Row],[clean Salary (in local currency)]]*VLOOKUP(tblSalaries[[#This Row],[Currency]],tblXrate[],2,FALSE)","v":45000},{"$f":"IF($H$1=\"USD\",tblSalaries[[#This Row],[Salary in USD]],tblSalaries[[#This Row],[Salary in USD]]*VLOOKUP($H$1,USDtoUserChoice,2,FALSE))","v":369089.10000000003},"Engineer","Engineer","singapore",{"$f":"VLOOKUP(tblSalaries[[#This Row],[Where do you work]],tblCountries[[Actual]:[Mapping]],2,FALSE)","v":"Singapore"},"2 to 3 hours per day",4,{"$f":"IF(ISNA(VLOOKUP(tblSalaries[[#This Row],[Years of Experience]],vlookUpExp!$A$1:$B$56,2,FALSE)),\"No Response\",VLOOKUP(tblSalaries[[#This Row],[Years of Experience]],vlookUpExp!$A$1:$B$56,2,FALSE))","v":"0-5"}]
[null,"ID1031","2012-05-28T12:57:13","Rs. 4,00,000/-",400000,"INR",{"$f":"tblSalaries[[#This Row],[clean Salary (in local currency)]]*VLOOKUP(tblSalaries[[#This Row],[Currency]],tblXrate[],2,FALSE)","v":7123.1666749770275},{"$f":"IF($H$1=\"USD\",tblSalaries[[#This Row],[Salary in USD]],tblSalaries[[#This Row],[Salary in USD]]*VLOOKUP($H$1,USDtoUserChoice,2,FALSE))","v":58424.070604828084},"Sr. Executive","Manager","India",{"$f":"VLOOKUP(tblSalaries[[#This Row],[Where do you work]],tblCountries[[Actual]:[Mapping]],2,FALSE)","v":"India"},"2 to 3 hours per day",5,{"$f":"IF(ISNA(VLOOKUP(tblSalaries[[#This Row],[Years of Experience]],vlookUpExp!$A$1:$B$56,2,FALSE)),\"No Response\",VLOOKUP(tblSalaries[[#This Row],[Years of Experience]],vlookUpExp!$A$1:$B$56,2,FALSE))","v":"0-5"}]
[null,"ID1032","2012-05-28T12:58:44","3 Lakh ",300000,"INR",{"$f":"tblSalaries[[#This Row],[clean Salary (in local currency)]]*VLOOKUP(tblSalaries[[#This Row],[Currency]],tblXrate[],2,FALSE)","v":5342.3750062327708},{"$f":"IF($H$1=\"USD\",tblSalaries[[#This Row],[Salary in USD]],tblSalaries[[#This Row],[Salary in USD]]*VLOOKUP($H$1,USDtoUserChoice,2,FALSE))","v":43818.052953621067},"ACCOUNTS","Accountant","India",{"$f":"VLOOKUP(tblSalaries[[#This Row],[Where do you work]],tblCountries[[Actual]:[Mapping]],2,FALSE)","v":"India"},"2 to 3 hours per day",5,{"$f":"IF(ISNA(VLOOKUP(tblSalaries[[#This Row],[Years of Experience]],vlookUpExp!$A$1:$B$56,2,FALSE)),\"No Response\",VLOOKUP(tblSalaries[[#This Row],[Years of Experience]],vlookUpExp!$A$1:$B$56,2,FALSE))","v":"0-5"}]
[null,"ID1033","2012-05-28T12:59:59",18000,18000,"USD",{"$f":"tblSalaries[[#This Row],[clean Salary (in local currency)]]*VLOOKUP(tblSalaries[[#This Row],[Currency]],tblXrate[],2,FALSE)","v":18000},{"$f":"IF($H$1=\"USD\",tblSalaries[[#This Row],[Salary in USD]],tblSalaries[[#This Row],[Salary in USD]]*VLOOKUP($H$1,USDtoUserChoice,2,FALSE))","v":147635.64000000001},"Area Sales Manager","Manager","India",{"$f":"VLOOKUP(tblSalaries[[#This Row],[Where do you work]],tblCountries[[Actual]:[Mapping]],2,FALSE)","v":"India"},"2 to 3 hours per day",4.5999999999999996,{"$f":"IF(ISNA(VLOOKUP(tblSalaries[[#This Row],[Years of Experience]],vlookUpExp!$A$1:$B$56,2,FALSE)),\"No Response\",VLOOKUP(tblSalaries[[#This Row],[Years of Experience]],vlookUpExp!$A$1:$B$56,2,FALSE))","v":"0-5"}]
[null,"ID1034","2012-05-28T13:01:42","PK RS 456000",456000,"PKR",{"$f":"tblSalaries[[#This Row],[clean Salary (in local currency)]]*VLOOKUP(tblSalaries[[#This Row],[Currency]],tblXrate[],2,FALSE)","v":4840.0244548604041},{"$f":"IF($H$1=\"USD\",tblSalaries[[#This Row],[Salary in USD]],tblSalaries[[#This Row],[Salary in USD]]*VLOOKUP($H$1,USDtoUserChoice,2,FALSE))","v":39697.783778275938},"Strategic Planning Executive","Manager","Pakistan",{"$f":"VLOOKUP(tblSalaries[[#This Row],[Where do you work]],tblCountries[[Actual]:[Mapping]],2,FALSE)","v":"Pakistan"},"4 to 6 hours a day",2,{"$f":"IF(ISNA(VLOOKUP(tblSalaries[[#This Row],[Years of Experience]],vlookUpExp!$A$1:$B$56,2,FALSE)),\"No Response\",VLOOKUP(tblSalaries[[#This Row],[Years of Experience]],vlookUpExp!$A$1:$B$56,2,FALSE))","v":"0-5"}]
[null,"ID1035","2012-05-28T13:02:56","Rs 4,20,000 ",420000,"INR",{"$f":"tblSalaries[[#This Row],[clean Salary (in local currency)]]*VLOOKUP(tblSalaries[[#This Row],[Currency]],tblXrate[],2,FALSE)","v":7479.3250087258784},{"$f":"IF($H$1=\"USD\",tblSalaries[[#This Row],[Salary in USD]],tblSalaries[[#This Row],[Salary in USD]]*VLOOKUP($H$1,USDtoUserChoice,2,FALSE))","v":61345.274135069485},"Analyst","Analyst","India",{"$f":"VLOOKUP(tblSalaries[[#This Row],[Where do you work]],tblCountries[[Actual]:[Mapping]],2,FALSE)","v":"India"},"2 to 3 hours per day",10,{"$f":"IF(ISNA(VLOOKUP(tblSalaries[[#This Row],[Years of Experience]],vlookUpExp!$A$1:$B$56,2,FALSE)),\"No Response\",VLOOKUP(tblSalaries[[#This Row],[Years of Experience]],vlookUpExp!$A$1:$B$56,2,FALSE))","v":"6-10"}]
[null,"ID1036","2012-05-28T13:05:39",210000,210000,"INR",{"$f":"tblSalaries[[#This Row],[clean Salary (in local currency)]]*VLOOKUP(tblSalaries[[#This Row],[Currency]],tblXrate[],2,FALSE)","v":3739.6625043629392},{"$f":"IF($H$1=\"USD\",tblSalaries[[#This Row],[Salary in USD]],tblSalaries[[#This Row],[Salary in USD]]*VLOOKUP($H$1,USDtoUserChoice,2,FALSE))","v":30672.637067534743},"MIS executive","Reporting","India",{"$f":"VLOOKUP(tblSalaries[[#This Row],[Where do you work]],tblCountries[[Actual]:[Mapping]],2,FALSE)","v":"India"},"All the 8 hours baby, all the 8!",3.5,{"$f":"IF(ISNA(VLOOKUP(tblSalaries[[#This Row],[Years of Experience]],vlookUpExp!$A$1:$B$56,2,FALSE)),\"No Response\",VLOOKUP(tblSalaries[[#This Row],[Years of Experience]],vlookUpExp!$A$1:$B$56,2,FALSE))","v":"0-5"}]
[null,"ID1037","2012-05-28T13:06:37",3500,42000,"USD",{"$f":"tblSalaries[[#This Row],[clean Salary (in local currency)]]*VLOOKUP(tblSalaries[[#This Row],[Currency]],tblXrate[],2,FALSE)","v":42000},{"$f":"IF($H$1=\"USD\",tblSalaries[[#This Row],[Salary in USD]],tblSalaries[[#This Row],[Salary in USD]]*VLOOKUP($H$1,USDtoUserChoice,2,FALSE))","v":344483.16000000003},"Category Operations Supv.","Manager","Kuwait",{"$f":"VLOOKUP(tblSalaries[[#This Row],[Where do you work]],tblCountries[[Actual]:[Mapping]],2,FALSE)","v":"Kuwait"},"All the 8 hours baby, all the 8!",5,{"$f":"IF(ISNA(VLOOKUP(tblSalaries[[#This Row],[Years of Experience]],vlookUpExp!$A$1:$B$56,2,FALSE)),\"No Response\",VLOOKUP(tblSalaries[[#This Row],[Years of Experience]],vlookUpExp!$A$1:$B$56,2,FALSE))","v":"0-5"}]
[null,"ID1038","2012-05-28T13:10:02",28000,28000,"USD",{"$f":"tblSalaries[[#This Row],[clean Salary (in local currency)]]*VLOOKUP(tblSalaries[[#This Row],[Currency]],tblXrate[],2,FALSE)","v":28000},{"$f":"IF($H$1=\"USD\",tblSalaries[[#This Row],[Salary in USD]],tblSalaries[[#This Row],[Salary in USD]]*VLOOKUP($H$1,USDtoUserChoice,2,FALSE))","v":229655.44000000003},"BI","Reporting","India",{"$f":"VLOOKUP(tblSalaries[[#This Row],[Where do you work]],tblCountries[[Actual]:[Mapping]],2,FALSE)","v":"India"},"2 to 3 hours per day",3,{"$f":"IF(ISNA(VLOOKUP(tblSalaries[[#This Row],[Years of Experience]],vlookUpExp!$A$1:$B$56,2,FALSE)),\"No Response\",VLOOKUP(tblSalaries[[#This Row],[Years of Experience]],vlookUpExp!$A$1:$B$56,2,FALSE))","v":"0-5"}]
[null,"ID1039","2012-05-28T13:11:42",6000,6000,"USD",{"$f":"tblSalaries[[#This Row],[clean Salary (in local currency)]]*VLOOKUP(tblSalaries[[#This Row],[Currency]],tblXrate[],2,FALSE)","v":6000},{"$f":"IF($H$1=\"USD\",tblSalaries[[#This Row],[Salary in USD]],tblSalaries[[#This Row],[Salary in USD]]*VLOOKUP($H$1,USDtoUserChoice,2,FALSE))","v":49211.880000000005},"Manager","Manager","India",{"$f":"VLOOKUP(tblSalaries[[#This Row],[Where do you work]],tblCountries[[Actual]:[Mapping]],2,FALSE)","v":"India"},"4 to 6 hours a day",5,{"$f":"IF(ISNA(VLOOKUP(tblSalaries[[#This Row],[Years of Experience]],vlookUpExp!$A$1:$B$56,2,FALSE)),\"No Response\",VLOOKUP(tblSalaries[[#This Row],[Years of Experience]],vlookUpExp!$A$1:$B$56,2,FALSE))","v":"0-5"}]
[null,"ID1040","2012-05-28T13:26:22",55,55000,"NZD",{"$f":"tblSalaries[[#This Row],[clean Salary (in local currency)]]*VLOOKUP(tblSalaries[[#This Row],[Currency]],tblXrate[],2,FALSE)","v":43867.345148271634},{"$f":"IF($H$1=\"USD\",tblSalaries[[#This Row],[Salary in USD]],tblSalaries[[#This Row],[Salary in USD]]*VLOOKUP($H$1,USDtoUserChoice,2,FALSE))","v":359799.08755922102},"Financial Analyst","Analyst","New Zealand",{"$f":"VLOOKUP(tblSalaries[[#This Row],[Where do you work]],tblCountries[[Actual]:[Mapping]],2,FALSE)","v":"New Zealand"},"All the 8 hours baby, all the 8!",10,{"$f":"IF(ISNA(VLOOKUP(tblSalaries[[#This Row],[Years of Experience]],vlookUpExp!$A$1:$B$56,2,FALSE)),\"No Response\",VLOOKUP(tblSalaries[[#This Row],[Years of Experience]],vlookUpExp!$A$1:$B$56,2,FALSE))","v":"6-10"}]
[null,"ID1041","2012-05-28T13:27:46","10 Lakh",1000000,"INR",{"$f":"tblSalaries[[#This Row],[clean Salary (in local currency)]]*VLOOKUP(tblSalaries[[#This Row],[Currency]],tblXrate[],2,FALSE)","v":17807.916687442568},{"$f":"IF($H$1=\"USD\",tblSalaries[[#This Row],[Salary in USD]],tblSalaries[[#This Row],[Salary in USD]]*VLOOKUP($H$1,USDtoUserChoice,2,FALSE))","v":146060.1765120702},"Teaching","Analyst","India",{"$f":"VLOOKUP(tblSalaries[[#This Row],[Where do you work]],tblCountries[[Actual]:[Mapping]],2,FALSE)","v":"India"},"1 or 2 hours a day",25,{"$f":"IF(ISNA(VLOOKUP(tblSalaries[[#This Row],[Years of Experience]],vlookUpExp!$A$1:$B$56,2,FALSE)),\"No Response\",VLOOKUP(tblSalaries[[#This Row],[Years of Experience]],vlookUpExp!$A$1:$B$56,2,FALSE))","v":"21-25"}]
[null,"ID1042","2012-05-28T13:37:10",600000,600000,"INR",{"$f":"tblSalaries[[#This Row],[clean Salary (in local currency)]]*VLOOKUP(tblSalaries[[#This Row],[Currency]],tblXrate[],2,FALSE)","v":10684.750012465542},{"$f":"IF($H$1=\"USD\",tblSalaries[[#This Row],[Salary in USD]],tblSalaries[[#This Row],[Salary in USD]]*VLOOKUP($H$1,USDtoUserChoice,2,FALSE))","v":87636.105907242134},"Business Analyst","Analyst","India",{"$f":"VLOOKUP(tblSalaries[[#This Row],[Where do you work]],tblCountries[[Actual]:[Mapping]],2,FALSE)","v":"India"},"All the 8 hours baby, all the 8!",12,{"$f":"IF(ISNA(VLOOKUP(tblSalaries[[#This Row],[Years of Experience]],vlookUpExp!$A$1:$B$56,2,FALSE)),\"No Response\",VLOOKUP(tblSalaries[[#This Row],[Years of Experience]],vlookUpExp!$A$1:$B$56,2,FALSE))","v":"11-15"}]
[null,"ID1043","2012-05-28T13:40:58","USD 60000",60000,"USD",{"$f":"tblSalaries[[#This Row],[clean Salary (in local currency)]]*VLOOKUP(tblSalaries[[#This Row],[Currency]],tblXrate[],2,FALSE)","v":60000},{"$f":"IF($H$1=\"USD\",tblSalaries[[#This Row],[Salary in USD]],tblSalaries[[#This Row],[Salary in USD]]*VLOOKUP($H$1,USDtoUserChoice,2,FALSE))","v":492118.80000000005},"Excel Developer","Consultant","Finland",{"$f":"VLOOKUP(tblSalaries[[#This Row],[Where do you work]],tblCountries[[Actual]:[Mapping]],2,FALSE)","v":"Finland"},"All the 8 hours baby, all the 8!",5,{"$f":"IF(ISNA(VLOOKUP(tblSalaries[[#This Row],[Years of Experience]],vlookUpExp!$A$1:$B$56,2,FALSE)),\"No Response\",VLOOKUP(tblSalaries[[#This Row],[Years of Experience]],vlookUpExp!$A$1:$B$56,2,FALSE))","v":"0-5"}]
[null,"ID1044","2012-05-28T13:41:33",476000,476000,"INR",{"$f":"tblSalaries[[#This Row],[clean Salary (in local currency)]]*VLOOKUP(tblSalaries[[#This Row],[Currency]],tblXrate[],2,FALSE)","v":8476.5683432226633},{"$f":"IF($H$1=\"USD\",tblSalaries[[#This Row],[Salary in USD]],tblSalaries[[#This Row],[Salary in USD]]*VLOOKUP($H$1,USDtoUserChoice,2,FALSE))","v":69524.644019745421},"Report Specialist","Reporting","India",{"$f":"VLOOKUP(tblSalaries[[#This Row],[Where do you work]],tblCountries[[Actual]:[Mapping]],2,FALSE)","v":"India"},"4 to 6 hours a day",8,{"$f":"IF(ISNA(VLOOKUP(tblSalaries[[#This Row],[Years of Experience]],vlookUpExp!$A$1:$B$56,2,FALSE)),\"No Response\",VLOOKUP(tblSalaries[[#This Row],[Years of Experience]],vlookUpExp!$A$1:$B$56,2,FALSE))","v":"6-10"}]
[null,"ID1045","2012-05-28T13:42:12",725,8700,"USD",{"$f":"tblSalaries[[#This Row],[clean Salary (in local currency)]]*VLOOKUP(tblSalaries[[#This Row],[Currency]],tblXrate[],2,FALSE)","v":8700},{"$f":"IF($H$1=\"USD\",tblSalaries[[#This Row],[Salary in USD]],tblSalaries[[#This Row],[Salary in USD]]*VLOOKUP($H$1,USDtoUserChoice,2,FALSE))","v":71357.22600000001},"Project Controlling (MIS Reports)","Controller","India",{"$f":"VLOOKUP(tblSalaries[[#This Row],[Where do you work]],tblCountries[[Actual]:[Mapping]],2,FALSE)","v":"India"},"2 to 3 hours per day",7,{"$f":"IF(ISNA(VLOOKUP(tblSalaries[[#This Row],[Years of Experience]],vlookUpExp!$A$1:$B$56,2,FALSE)),\"No Response\",VLOOKUP(tblSalaries[[#This Row],[Years of Experience]],vlookUpExp!$A$1:$B$56,2,FALSE))","v":"6-10"}]
[null,"ID1046","2012-05-28T13:42:35","2,00,000 INR",200000,"INR",{"$f":"tblSalaries[[#This Row],[clean Salary (in local currency)]]*VLOOKUP(tblSalaries[[#This Row],[Currency]],tblXrate[],2,FALSE)","v":3561.5833374885137},{"$f":"IF($H$1=\"USD\",tblSalaries[[#This Row],[Salary in USD]],tblSalaries[[#This Row],[Salary in USD]]*VLOOKUP($H$1,USDtoUserChoice,2,FALSE))","v":29212.035302414042},"Monitoring & evaluation officer","Manager","India",{"$f":"VLOOKUP(tblSalaries[[#This Row],[Where do you work]],tblCountries[[Actual]:[Mapping]],2,FALSE)","v":"India"},"All the 8 hours baby, all the 8!",8,{"$f":"IF(ISNA(VLOOKUP(tblSalaries[[#This Row],[Years of Experience]],vlookUpExp!$A$1:$B$56,2,FALSE)),\"No Response\",VLOOKUP(tblSalaries[[#This Row],[Years of Experience]],vlookUpExp!$A$1:$B$56,2,FALSE))","v":"6-10"}]
[null,"ID1047","2012-05-28T13:43:01",1.8,180000,"INR",{"$f":"tblSalaries[[#This Row],[clean Salary (in local currency)]]*VLOOKUP(tblSalaries[[#This Row],[Currency]],tblXrate[],2,FALSE)","v":3205.4250037396623},{"$f":"IF($H$1=\"USD\",tblSalaries[[#This Row],[Salary in USD]],tblSalaries[[#This Row],[Salary in USD]]*VLOOKUP($H$1,USDtoUserChoice,2,FALSE))","v":26290.831772172638},"MIS EXCUTIVE","Reporting","India",{"$f":"VLOOKUP(tblSalaries[[#This Row],[Where do you work]],tblCountries[[Actual]:[Mapping]],2,FALSE)","v":"India"},"All the 8 hours baby, all the 8!",4,{"$f":"IF(ISNA(VLOOKUP(tblSalaries[[#This Row],[Years of Experience]],vlookUpExp!$A$1:$B$56,2,FALSE)),\"No Response\",VLOOKUP(tblSalaries[[#This Row],[Years of Experience]],vlookUpExp!$A$1:$B$56,2,FALSE))","v":"0-5"}]
[null,"ID1048","2012-05-28T13:46:17",252000,252000,"INR",{"$f":"tblSalaries[[#This Row],[clean Salary (in local currency)]]*VLOOKUP(tblSalaries[[#This Row],[Currency]],tblXrate[],2,FALSE)","v":4487.5950052355274},{"$f":"IF($H$1=\"USD\",tblSalaries[[#This Row],[Salary in USD]],tblSalaries[[#This Row],[Salary in USD]]*VLOOKUP($H$1,USDtoUserChoice,2,FALSE))","v":36807.164481041691},"Accounts Exec","Accountant","India",{"$f":"VLOOKUP(tblSalaries[[#This Row],[Where do you work]],tblCountries[[Actual]:[Mapping]],2,FALSE)","v":"India"},"1 or 2 hours a day",5,{"$f":"IF(ISNA(VLOOKUP(tblSalaries[[#This Row],[Years of Experience]],vlookUpExp!$A$1:$B$56,2,FALSE)),\"No Response\",VLOOKUP(tblSalaries[[#This Row],[Years of Experience]],vlookUpExp!$A$1:$B$56,2,FALSE))","v":"0-5"}]
[null,"ID1049","2012-05-28T13:54:57","Rs. 700000",700000,"INR",{"$f":"tblSalaries[[#This Row],[clean Salary (in local currency)]]*VLOOKUP(tblSalaries[[#This Row],[Currency]],tblXrate[],2,FALSE)","v":12465.541681209797},{"$f":"IF($H$1=\"USD\",tblSalaries[[#This Row],[Salary in USD]],tblSalaries[[#This Row],[Salary in USD]]*VLOOKUP($H$1,USDtoUserChoice,2,FALSE))","v":102242.12355844914},"Credit Analyst","Analyst","India",{"$f":"VLOOKUP(tblSalaries[[#This Row],[Where do you work]],tblCountries[[Actual]:[Mapping]],2,FALSE)","v":"India"},"4 to 6 hours a day",5,{"$f":"IF(ISNA(VLOOKUP(tblSalaries[[#This Row],[Years of Experience]],vlookUpExp!$A$1:$B$56,2,FALSE)),\"No Response\",VLOOKUP(tblSalaries[[#This Row],[Years of Experience]],vlookUpExp!$A$1:$B$56,2,FALSE))","v":"0-5"}]
[null,"ID1050","2012-05-28T14:00:56",194,2400,"USD",{"$f":"tblSalaries[[#This Row],[clean Salary (in local currency)]]*VLOOKUP(tblSalaries[[#This Row],[Currency]],tblXrate[],2,FALSE)","v":2400},{"$f":"IF($H$1=\"USD\",tblSalaries[[#This Row],[Salary in USD]],tblSalaries[[#This Row],[Salary in USD]]*VLOOKUP($H$1,USDtoUserChoice,2,FALSE))","v":19684.752},"Accounts Officer","Accountant","Pakistan",{"$f":"VLOOKUP(tblSalaries[[#This Row],[Where do you work]],tblCountries[[Actual]:[Mapping]],2,FALSE)","v":"Pakistan"},"2 to 3 hours per day",15,{"$f":"IF(ISNA(VLOOKUP(tblSalaries[[#This Row],[Years of Experience]],vlookUpExp!$A$1:$B$56,2,FALSE)),\"No Response\",VLOOKUP(tblSalaries[[#This Row],[Years of Experience]],vlookUpExp!$A$1:$B$56,2,FALSE))","v":"11-15"}]
[null,"ID1051","2012-05-28T14:11:34","55000 usd",55000,"USD",{"$f":"tblSalaries[[#This Row],[clean Salary (in local currency)]]*VLOOKUP(tblSalaries[[#This Row],[Currency]],tblXrate[],2,FALSE)","v":55000},{"$f":"IF($H$1=\"USD\",tblSalaries[[#This Row],[Salary in USD]],tblSalaries[[#This Row],[Salary in USD]]*VLOOKUP($H$1,USDtoUserChoice,2,FALSE))","v":451108.9},"Economist","Reporting","Israel",{"$f":"VLOOKUP(tblSalaries[[#This Row],[Where do you work]],tblCountries[[Actual]:[Mapping]],2,FALSE)","v":"Israel"},"4 to 6 hours a day",6,{"$f":"IF(ISNA(VLOOKUP(tblSalaries[[#This Row],[Years of Experience]],vlookUpExp!$A$1:$B$56,2,FALSE)),\"No Response\",VLOOKUP(tblSalaries[[#This Row],[Years of Experience]],vlookUpExp!$A$1:$B$56,2,FALSE))","v":"6-10"}]
[null,"ID1052","2012-05-28T14:12:35","12000 $",12000,"USD",{"$f":"tblSalaries[[#This Row],[clean Salary (in local currency)]]*VLOOKUP(tblSalaries[[#This Row],[Currency]],tblXrate[],2,FALSE)","v":12000},{"$f":"IF($H$1=\"USD\",tblSalaries[[#This Row],[Salary in USD]],tblSalaries[[#This Row],[Salary in USD]]*VLOOKUP($H$1,USDtoUserChoice,2,FALSE))","v":98423.760000000009},"planning & Sales Control emploee","Controller","Iran",{"$f":"VLOOKUP(tblSalaries[[#This Row],[Where do you work]],tblCountries[[Actual]:[Mapping]],2,FALSE)","v":"iran"},"4 to 6 hours a day",3,{"$f":"IF(ISNA(VLOOKUP(tblSalaries[[#This Row],[Years of Experience]],vlookUpExp!$A$1:$B$56,2,FALSE)),\"No Response\",VLOOKUP(tblSalaries[[#This Row],[Years of Experience]],vlookUpExp!$A$1:$B$56,2,FALSE))","v":"0-5"}]
[null,"ID1053","2012-05-28T14:12:50",43500,43500,"EUR",{"$f":"tblSalaries[[#This Row],[clean Salary (in local currency)]]*VLOOKUP(tblSalaries[[#This Row],[Currency]],tblXrate[],2,FALSE)","v":55262.375596134938},{"$f":"IF($H$1=\"USD\",tblSalaries[[#This Row],[Salary in USD]],tblSalaries[[#This Row],[Salary in USD]]*VLOOKUP($H$1,USDtoUserChoice,2,FALSE))","v":453260.8993919869},"RRHH","Manager","SPAIN",{"$f":"VLOOKUP(tblSalaries[[#This Row],[Where do you work]],tblCountries[[Actual]:[Mapping]],2,FALSE)","v":"Spain"},"2 to 3 hours per day",10,{"$f":"IF(ISNA(VLOOKUP(tblSalaries[[#This Row],[Years of Experience]],vlookUpExp!$A$1:$B$56,2,FALSE)),\"No Response\",VLOOKUP(tblSalaries[[#This Row],[Years of Experience]],vlookUpExp!$A$1:$B$56,2,FALSE))","v":"6-10"}]
[null,"ID1054","2012-05-28T14:12:52","Rs. 1200000",1200000,"INR",{"$f":"tblSalaries[[#This Row],[clean Salary (in local currency)]]*VLOOKUP(tblSalaries[[#This Row],[Currency]],tblXrate[],2,FALSE)","v":21369.500024931083},{"$f":"IF($H$1=\"USD\",tblSalaries[[#This Row],[Salary in USD]],tblSalaries[[#This Row],[Salary in USD]]*VLOOKUP($H$1,USDtoUserChoice,2,FALSE))","v":175272.21181448427},"Management Trainee","Manager","India",{"$f":"VLOOKUP(tblSalaries[[#This Row],[Where do you work]],tblCountries[[Actual]:[Mapping]],2,FALSE)","v":"India"},"2 to 3 hours per day",2,{"$f":"IF(ISNA(VLOOKUP(tblSalaries[[#This Row],[Years of Experience]],vlookUpExp!$A$1:$B$56,2,FALSE)),\"No Response\",VLOOKUP(tblSalaries[[#This Row],[Years of Experience]],vlookUpExp!$A$1:$B$56,2,FALSE))","v":"0-5"}]
[null,"ID1055","2012-05-28T14:18:40",26000,26000,"GBP",{"$f":"tblSalaries[[#This Row],[clean Salary (in local currency)]]*VLOOKUP(tblSalaries[[#This Row],[Currency]],tblXrate[],2,FALSE)","v":40980.635073749385},{"$f":"IF($H$1=\"USD\",tblSalaries[[#This Row],[Salary in USD]],tblSalaries[[#This Row],[Salary in USD]]*VLOOKUP($H$1,USDtoUserChoice,2,FALSE))","v":336122.34926219098},"Consultant","Consultant","UK",{"$f":"VLOOKUP(tblSalaries[[#This Row],[Where do you work]],tblCountries[[Actual]:[Mapping]],2,FALSE)","v":"UK"},"All the 8 hours baby, all the 8!",8,{"$f":"IF(ISNA(VLOOKUP(tblSalaries[[#This Row],[Years of Experience]],vlookUpExp!$A$1:$B$56,2,FALSE)),\"No Response\",VLOOKUP(tblSalaries[[#This Row],[Years of Experience]],vlookUpExp!$A$1:$B$56,2,FALSE))","v":"6-10"}]
[null,"ID1056","2012-05-28T14:21:27",50000,50000,"AUD",{"$f":"tblSalaries[[#This Row],[clean Salary (in local currency)]]*VLOOKUP(tblSalaries[[#This Row],[Currency]],tblXrate[],2,FALSE)","v":50995.482820131787},{"$f":"IF($H$1=\"USD\",tblSalaries[[#This Row],[Salary in USD]],tblSalaries[[#This Row],[Salary in USD]]*VLOOKUP($H$1,USDtoUserChoice,2,FALSE))","v":418263.93018106453},"BA","Analyst","Australia",{"$f":"VLOOKUP(tblSalaries[[#This Row],[Where do you work]],tblCountries[[Actual]:[Mapping]],2,FALSE)","v":"Australia"},"4 to 6 hours a day",4,{"$f":"IF(ISNA(VLOOKUP(tblSalaries[[#This Row],[Years of Experience]],vlookUpExp!$A$1:$B$56,2,FALSE)),\"No Response\",VLOOKUP(tblSalaries[[#This Row],[Years of Experience]],vlookUpExp!$A$1:$B$56,2,FALSE))","v":"0-5"}]
[null,"ID1057","2012-05-28T14:22:02","16000 euro",16000,"EUR",{"$f":"tblSalaries[[#This Row],[clean Salary (in local currency)]]*VLOOKUP(tblSalaries[[#This Row],[Currency]],tblXrate[],2,FALSE)","v":20326.391023865726},{"$f":"IF($H$1=\"USD\",tblSalaries[[#This Row],[Salary in USD]],tblSalaries[[#This Row],[Salary in USD]]*VLOOKUP($H$1,USDtoUserChoice,2,FALSE))","v":166716.65264992623},"Management Information Systems","Manager","Greece",{"$f":"VLOOKUP(tblSalaries[[#This Row],[Where do you work]],tblCountries[[Actual]:[Mapping]],2,FALSE)","v":"Greece"},"All the 8 hours baby, all the 8!",16,{"$f":"IF(ISNA(VLOOKUP(tblSalaries[[#This Row],[Years of Experience]],vlookUpExp!$A$1:$B$56,2,FALSE)),\"No Response\",VLOOKUP(tblSalaries[[#This Row],[Years of Experience]],vlookUpExp!$A$1:$B$56,2,FALSE))","v":"16-20"}]
[null,"ID1058","2012-05-28T14:23:57",1000,12000,"USD",{"$f":"tblSalaries[[#This Row],[clean Salary (in local currency)]]*VLOOKUP(tblSalaries[[#This Row],[Currency]],tblXrate[],2,FALSE)","v":12000},{"$f":"IF($H$1=\"USD\",tblSalaries[[#This Row],[Salary in USD]],tblSalaries[[#This Row],[Salary in USD]]*VLOOKUP($H$1,USDtoUserChoice,2,FALSE))","v":98423.760000000009},"consultant","Consultant","India",{"$f":"VLOOKUP(tblSalaries[[#This Row],[Where do you work]],tblCountries[[Actual]:[Mapping]],2,FALSE)","v":"India"},"2 to 3 hours per day",8,{"$f":"IF(ISNA(VLOOKUP(tblSalaries[[#This Row],[Years of Experience]],vlookUpExp!$A$1:$B$56,2,FALSE)),\"No Response\",VLOOKUP(tblSalaries[[#This Row],[Years of Experience]],vlookUpExp!$A$1:$B$56,2,FALSE))","v":"6-10"}]
[null,"ID1059","2012-05-28T14:30:05","ZAR240000",240000,"ZAR",{"$f":"tblSalaries[[#This Row],[clean Salary (in local currency)]]*VLOOKUP(tblSalaries[[#This Row],[Currency]],tblXrate[],2,FALSE)","v":29261.227167098674},{"$f":"IF($H$1=\"USD\",tblSalaries[[#This Row],[Salary in USD]],tblSalaries[[#This Row],[Salary in USD]]*VLOOKUP($H$1,USDtoUserChoice,2,FALSE))","v":240000},"Bookkeeper","Accountant","South Africa",{"$f":"VLOOKUP(tblSalaries[[#This Row],[Where do you work]],tblCountries[[Actual]:[Mapping]],2,FALSE)","v":"South Africa"},"2 to 3 hours per day",20,{"$f":"IF(ISNA(VLOOKUP(tblSalaries[[#This Row],[Years of Experience]],vlookUpExp!$A$1:$B$56,2,FALSE)),\"No Response\",VLOOKUP(tblSalaries[[#This Row],[Years of Experience]],vlookUpExp!$A$1:$B$56,2,FALSE))","v":"16-20"}]
[null,"ID1060","2012-05-28T14:32:11",120000,120000,"ZAR",{"$f":"tblSalaries[[#This Row],[clean Salary (in local currency)]]*VLOOKUP(tblSalaries[[#This Row],[Currency]],tblXrate[],2,FALSE)","v":14630.613583549337},{"$f":"IF($H$1=\"USD\",tblSalaries[[#This Row],[Salary in USD]],tblSalaries[[#This Row],[Salary in USD]]*VLOOKUP($H$1,USDtoUserChoice,2,FALSE))","v":120000},"VP","CXO or Top Mgmt.","South Africa",{"$f":"VLOOKUP(tblSalaries[[#This Row],[Where do you work]],tblCountries[[Actual]:[Mapping]],2,FALSE)","v":"South Africa"},"4 to 6 hours a day",10,{"$f":"IF(ISNA(VLOOKUP(tblSalaries[[#This Row],[Years of Experience]],vlookUpExp!$A$1:$B$56,2,FALSE)),\"No Response\",VLOOKUP(tblSalaries[[#This Row],[Years of Experience]],vlookUpExp!$A$1:$B$56,2,FALSE))","v":"6-10"}]
[null,"ID1061","2012-05-28T14:34:34",408000,408000,"INR",{"$f":"tblSalaries[[#This Row],[clean Salary (in local currency)]]*VLOOKUP(tblSalaries[[#This Row],[Currency]],tblXrate[],2,FALSE)","v":7265.630008476568},{"$f":"IF($H$1=\"USD\",tblSalaries[[#This Row],[Salary in USD]],tblSalaries[[#This Row],[Salary in USD]]*VLOOKUP($H$1,USDtoUserChoice,2,FALSE))","v":59592.552016924645},"Sr Exec - Finance","Accountant","India",{"$f":"VLOOKUP(tblSalaries[[#This Row],[Where do you work]],tblCountries[[Actual]:[Mapping]],2,FALSE)","v":"India"},"All the 8 hours baby, all the 8!",5,{"$f":"IF(ISNA(VLOOKUP(tblSalaries[[#This Row],[Years of Experience]],vlookUpExp!$A$1:$B$56,2,FALSE)),\"No Response\",VLOOKUP(tblSalaries[[#This Row],[Years of Experience]],vlookUpExp!$A$1:$B$56,2,FALSE))","v":"0-5"}]
[null,"ID1062","2012-05-28T14:34:37","Â£28000",28000,"GBP",{"$f":"tblSalaries[[#This Row],[clean Salary (in local currency)]]*VLOOKUP(tblSalaries[[#This Row],[Currency]],tblXrate[],2,FALSE)","v":44132.991617883956},{"$f":"IF($H$1=\"USD\",tblSalaries[[#This Row],[Salary in USD]],tblSalaries[[#This Row],[Salary in USD]]*VLOOKUP($H$1,USDtoUserChoice,2,FALSE))","v":361977.91459005186},"Modeller","Analyst","UK",{"$f":"VLOOKUP(tblSalaries[[#This Row],[Where do you work]],tblCountries[[Actual]:[Mapping]],2,FALSE)","v":"UK"},"2 to 3 hours per day",16,{"$f":"IF(ISNA(VLOOKUP(tblSalaries[[#This Row],[Years of Experience]],vlookUpExp!$A$1:$B$56,2,FALSE)),\"No Response\",VLOOKUP(tblSalaries[[#This Row],[Years of Experience]],vlookUpExp!$A$1:$B$56,2,FALSE))","v":"16-20"}]
[null,"ID1063","2012-05-28T14:40:54","INR 530000 ",530000,"INR",{"$f":"tblSalaries[[#This Row],[clean Salary (in local currency)]]*VLOOKUP(tblSalaries[[#This Row],[Currency]],tblXrate[],2,FALSE)","v":9438.1958443445619},{"$f":"IF($H$1=\"USD\",tblSalaries[[#This Row],[Salary in USD]],tblSalaries[[#This Row],[Salary in USD]]*VLOOKUP($H$1,USDtoUserChoice,2,FALSE))","v":77411.89355139721},"Project Administrator","Analyst","India",{"$f":"VLOOKUP(tblSalaries[[#This Row],[Where do you work]],tblCountries[[Actual]:[Mapping]],2,FALSE)","v":"India"},"2 to 3 hours per day",7,{"$f":"IF(ISNA(VLOOKUP(tblSalaries[[#This Row],[Years of Experience]],vlookUpExp!$A$1:$B$56,2,FALSE)),\"No Response\",VLOOKUP(tblSalaries[[#This Row],[Years of Experience]],vlookUpExp!$A$1:$B$56,2,FALSE))","v":"6-10"}]
[null,"ID1064","2012-05-28T14:43:40","1500 $",18000,"USD",{"$f":"tblSalaries[[#This Row],[clean Salary (in local currency)]]*VLOOKUP(tblSalaries[[#This Row],[Currency]],tblXrate[],2,FALSE)","v":18000},{"$f":"IF($H$1=\"USD\",tblSalaries[[#This Row],[Salary in USD]],tblSalaries[[#This Row],[Salary in USD]]*VLOOKUP($H$1,USDtoUserChoice,2,FALSE))","v":147635.64000000001},"Analyst","Analyst","Poland",{"$f":"VLOOKUP(tblSalaries[[#This Row],[Where do you work]],tblCountries[[Actual]:[Mapping]],2,FALSE)","v":"Poland"},"4 to 6 hours a day",7,{"$f":"IF(ISNA(VLOOKUP(tblSalaries[[#This Row],[Years of Experience]],vlookUpExp!$A$1:$B$56,2,FALSE)),\"No Response\",VLOOKUP(tblSalaries[[#This Row],[Years of Experience]],vlookUpExp!$A$1:$B$56,2,FALSE))","v":"6-10"}]
[null,"ID1065","2012-05-28T14:44:26","Rs 200000",200000,"INR",{"$f":"tblSalaries[[#This Row],[clean Salary (in local currency)]]*VLOOKUP(tblSalaries[[#This Row],[Currency]],tblXrate[],2,FALSE)","v":3561.5833374885137},{"$f":"IF($H$1=\"USD\",tblSalaries[[#This Row],[Salary in USD]],tblSalaries[[#This Row],[Salary in USD]]*VLOOKUP($H$1,USDtoUserChoice,2,FALSE))","v":29212.035302414042},"Business Development Executive","Manager","India",{"$f":"VLOOKUP(tblSalaries[[#This Row],[Where do you work]],tblCountries[[Actual]:[Mapping]],2,FALSE)","v":"India"},"2 to 3 hours per day",5,{"$f":"IF(ISNA(VLOOKUP(tblSalaries[[#This Row],[Years of Experience]],vlookUpExp!$A$1:$B$56,2,FALSE)),\"No Response\",VLOOKUP(tblSalaries[[#This Row],[Years of Experience]],vlookUpExp!$A$1:$B$56,2,FALSE))","v":"0-5"}]
[null,"ID1066","2012-05-28T14:45:04","2LAKHS",200000,"INR",{"$f":"tblSalaries[[#This Row],[clean Salary (in local currency)]]*VLOOKUP(tblSalaries[[#This Row],[Currency]],tblXrate[],2,FALSE)","v":3561.5833374885137},{"$f":"IF($H$1=\"USD\",tblSalaries[[#This Row],[Salary in USD]],tblSalaries[[#This Row],[Salary in USD]]*VLOOKUP($H$1,USDtoUserChoice,2,FALSE))","v":29212.035302414042},"MIS Executive","Reporting","India",{"$f":"VLOOKUP(tblSalaries[[#This Row],[Where do you work]],tblCountries[[Actual]:[Mapping]],2,FALSE)","v":"India"},"4 to 6 hours a day",3,{"$f":"IF(ISNA(VLOOKUP(tblSalaries[[#This Row],[Years of Experience]],vlookUpExp!$A$1:$B$56,2,FALSE)),\"No Response\",VLOOKUP(tblSalaries[[#This Row],[Years of Experience]],vlookUpExp!$A$1:$B$56,2,FALSE))","v":"0-5"}]
[null,"ID1067","2012-05-28T14:46:42",5100,5100,"USD",{"$f":"tblSalaries[[#This Row],[clean Salary (in local currency)]]*VLOOKUP(tblSalaries[[#This Row],[Currency]],tblXrate[],2,FALSE)","v":5100},{"$f":"IF($H$1=\"USD\",tblSalaries[[#This Row],[Salary in USD]],tblSalaries[[#This Row],[Salary in USD]]*VLOOKUP($H$1,USDtoUserChoice,2,FALSE))","v":41830.098000000005},"MIS Executive","Reporting","India",{"$f":"VLOOKUP(tblSalaries[[#This Row],[Where do you work]],tblCountries[[Actual]:[Mapping]],2,FALSE)","v":"India"},"All the 8 hours baby, all the 8!",8,{"$f":"IF(ISNA(VLOOKUP(tblSalaries[[#This Row],[Years of Experience]],vlookUpExp!$A$1:$B$56,2,FALSE)),\"No Response\",VLOOKUP(tblSalaries[[#This Row],[Years of Experience]],vlookUpExp!$A$1:$B$56,2,FALSE))","v":"6-10"}]
[null,"ID1068","2012-05-28T14:50:03",100000,1200000,"INR",{"$f":"tblSalaries[[#This Row],[clean Salary (in local currency)]]*VLOOKUP(tblSalaries[[#This Row],[Currency]],tblXrate[],2,FALSE)","v":21369.500024931083},{"$f":"IF($H$1=\"USD\",tblSalaries[[#This Row],[Salary in USD]],tblSalaries[[#This Row],[Salary in USD]]*VLOOKUP($H$1,USDtoUserChoice,2,FALSE))","v":175272.21181448427},"executive","Analyst","India",{"$f":"VLOOKUP(tblSalaries[[#This Row],[Where do you work]],tblCountries[[Actual]:[Mapping]],2,FALSE)","v":"India"},"4 to 6 hours a day",7,{"$f":"IF(ISNA(VLOOKUP(tblSalaries[[#This Row],[Years of Experience]],vlookUpExp!$A$1:$B$56,2,FALSE)),\"No Response\",VLOOKUP(tblSalaries[[#This Row],[Years of Experience]],vlookUpExp!$A$1:$B$56,2,FALSE))","v":"6-10"}]
[null,"ID1069","2012-05-28T14:52:45","Rs. 25000",300000,"INR",{"$f":"tblSalaries[[#This Row],[clean Salary (in local currency)]]*VLOOKUP(tblSalaries[[#This Row],[Currency]],tblXrate[],2,FALSE)","v":5342.3750062327708},{"$f":"IF($H$1=\"USD\",tblSalaries[[#This Row],[Salary in USD]],tblSalaries[[#This Row],[Salary in USD]]*VLOOKUP($H$1,USDtoUserChoice,2,FALSE))","v":43818.052953621067},"Professional consultant-Finance","Consultant","India",{"$f":"VLOOKUP(tblSalaries[[#This Row],[Where do you work]],tblCountries[[Actual]:[Mapping]],2,FALSE)","v":"India"},"2 to 3 hours per day",1,{"$f":"IF(ISNA(VLOOKUP(tblSalaries[[#This Row],[Years of Experience]],vlookUpExp!$A$1:$B$56,2,FALSE)),\"No Response\",VLOOKUP(tblSalaries[[#This Row],[Years of Experience]],vlookUpExp!$A$1:$B$56,2,FALSE))","v":"0-5"}]
[null,"ID1070","2012-05-28T14:53:02",50000,50000,"USD",{"$f":"tblSalaries[[#This Row],[clean Salary (in local currency)]]*VLOOKUP(tblSalaries[[#This Row],[Currency]],tblXrate[],2,FALSE)","v":50000},{"$f":"IF($H$1=\"USD\",tblSalaries[[#This Row],[Salary in USD]],tblSalaries[[#This Row],[Salary in USD]]*VLOOKUP($H$1,USDtoUserChoice,2,FALSE))","v":410099.00000000006},"Managing Partner","CXO or Top Mgmt.","India",{"$f":"VLOOKUP(tblSalaries[[#This Row],[Where do you work]],tblCountries[[Actual]:[Mapping]],2,FALSE)","v":"India"},"1 or 2 hours a day",26,{"$f":"IF(ISNA(VLOOKUP(tblSalaries[[#This Row],[Years of Experience]],vlookUpExp!$A$1:$B$56,2,FALSE)),\"No Response\",VLOOKUP(tblSalaries[[#This Row],[Years of Experience]],vlookUpExp!$A$1:$B$56,2,FALSE))","v":"26-30"}]
[null,"ID1071","2012-05-28T14:53:44","1600000Rs",1600000,"INR",{"$f":"tblSalaries[[#This Row],[clean Salary (in local currency)]]*VLOOKUP(tblSalaries[[#This Row],[Currency]],tblXrate[],2,FALSE)","v":28492.66669990811},{"$f":"IF($H$1=\"USD\",tblSalaries[[#This Row],[Salary in USD]],tblSalaries[[#This Row],[Salary in USD]]*VLOOKUP($H$1,USDtoUserChoice,2,FALSE))","v":233696.28241931234},"Manager Fin","Manager","India",{"$f":"VLOOKUP(tblSalaries[[#This Row],[Where do you work]],tblCountries[[Actual]:[Mapping]],2,FALSE)","v":"India"},"All the 8 hours baby, all the 8!",9,{"$f":"IF(ISNA(VLOOKUP(tblSalaries[[#This Row],[Years of Experience]],vlookUpExp!$A$1:$B$56,2,FALSE)),\"No Response\",VLOOKUP(tblSalaries[[#This Row],[Years of Experience]],vlookUpExp!$A$1:$B$56,2,FALSE))","v":"6-10"}]
[null,"ID1072","2012-05-28T14:56:27",15600,15600,"GBP",{"$f":"tblSalaries[[#This Row],[clean Salary (in local currency)]]*VLOOKUP(tblSalaries[[#This Row],[Currency]],tblXrate[],2,FALSE)","v":24588.381044249632},{"$f":"IF($H$1=\"USD\",tblSalaries[[#This Row],[Salary in USD]],tblSalaries[[#This Row],[Salary in USD]]*VLOOKUP($H$1,USDtoUserChoice,2,FALSE))","v":201673.40955731462},"business data analyst","Analyst","UK",{"$f":"VLOOKUP(tblSalaries[[#This Row],[Where do you work]],tblCountries[[Actual]:[Mapping]],2,FALSE)","v":"UK"},"All the 8 hours baby, all the 8!",0,{"$f":"IF(ISNA(VLOOKUP(tblSalaries[[#This Row],[Years of Experience]],vlookUpExp!$A$1:$B$56,2,FALSE)),\"No Response\",VLOOKUP(tblSalaries[[#This Row],[Years of Experience]],vlookUpExp!$A$1:$B$56,2,FALSE))","v":"0-5"}]
[null,"ID1074","2012-05-28T15:12:38",7000,7000,"USD",{"$f":"tblSalaries[[#This Row],[clean Salary (in local currency)]]*VLOOKUP(tblSalaries[[#This Row],[Currency]],tblXrate[],2,FALSE)","v":7000},{"$f":"IF($H$1=\"USD\",tblSalaries[[#This Row],[Salary in USD]],tblSalaries[[#This Row],[Salary in USD]]*VLOOKUP($H$1,USDtoUserChoice,2,FALSE))","v":57413.860000000008},"MIS Executive","Reporting","India",{"$f":"VLOOKUP(tblSalaries[[#This Row],[Where do you work]],tblCountries[[Actual]:[Mapping]],2,FALSE)","v":"India"},"All the 8 hours baby, all the 8!",5,{"$f":"IF(ISNA(VLOOKUP(tblSalaries[[#This Row],[Years of Experience]],vlookUpExp!$A$1:$B$56,2,FALSE)),\"No Response\",VLOOKUP(tblSalaries[[#This Row],[Years of Experience]],vlookUpExp!$A$1:$B$56,2,FALSE))","v":"0-5"}]
[null,"ID1075","2012-05-28T15:16:20","Rs. 438000",438000,"INR",{"$f":"tblSalaries[[#This Row],[clean Salary (in local currency)]]*VLOOKUP(tblSalaries[[#This Row],[Currency]],tblXrate[],2,FALSE)","v":7799.8675090998449},{"$f":"IF($H$1=\"USD\",tblSalaries[[#This Row],[Salary in USD]],tblSalaries[[#This Row],[Salary in USD]]*VLOOKUP($H$1,USDtoUserChoice,2,FALSE))","v":63974.357312286753},"Assistant Professor","Analyst","India",{"$f":"VLOOKUP(tblSalaries[[#This Row],[Where do you work]],tblCountries[[Actual]:[Mapping]],2,FALSE)","v":"India"},"1 or 2 hours a day",10,{"$f":"IF(ISNA(VLOOKUP(tblSalaries[[#This Row],[Years of Experience]],vlookUpExp!$A$1:$B$56,2,FALSE)),\"No Response\",VLOOKUP(tblSalaries[[#This Row],[Years of Experience]],vlookUpExp!$A$1:$B$56,2,FALSE))","v":"6-10"}]
[null,"ID1076","2012-05-28T15:21:51","Â£50",50000,"GBP",{"$f":"tblSalaries[[#This Row],[clean Salary (in local currency)]]*VLOOKUP(tblSalaries[[#This Row],[Currency]],tblXrate[],2,FALSE)","v":78808.913603364199},{"$f":"IF($H$1=\"USD\",tblSalaries[[#This Row],[Salary in USD]],tblSalaries[[#This Row],[Salary in USD]]*VLOOKUP($H$1,USDtoUserChoice,2,FALSE))","v":646389.1331965212},"Production manager","Manager","UK",{"$f":"VLOOKUP(tblSalaries[[#This Row],[Where do you work]],tblCountries[[Actual]:[Mapping]],2,FALSE)","v":"UK"},"2 to 3 hours per day",12,{"$f":"IF(ISNA(VLOOKUP(tblSalaries[[#This Row],[Years of Experience]],vlookUpExp!$A$1:$B$56,2,FALSE)),\"No Response\",VLOOKUP(tblSalaries[[#This Row],[Years of Experience]],vlookUpExp!$A$1:$B$56,2,FALSE))","v":"11-15"}]
[null,"ID1077","2012-05-28T15:27:59",560,6720,"USD",{"$f":"tblSalaries[[#This Row],[clean Salary (in local currency)]]*VLOOKUP(tblSalaries[[#This Row],[Currency]],tblXrate[],2,FALSE)","v":6720},{"$f":"IF($H$1=\"USD\",tblSalaries[[#This Row],[Salary in USD]],tblSalaries[[#This Row],[Salary in USD]]*VLOOKUP($H$1,USDtoUserChoice,2,FALSE))","v":55117.305600000007},"MIS Executive","Reporting","India",{"$f":"VLOOKUP(tblSalaries[[#This Row],[Where do you work]],tblCountries[[Actual]:[Mapping]],2,FALSE)","v":"India"},"4 to 6 hours a day",6,{"$f":"IF(ISNA(VLOOKUP(tblSalaries[[#This Row],[Years of Experience]],vlookUpExp!$A$1:$B$56,2,FALSE)),\"No Response\",VLOOKUP(tblSalaries[[#This Row],[Years of Experience]],vlookUpExp!$A$1:$B$56,2,FALSE))","v":"6-10"}]
[null,"ID1078","2012-05-28T15:29:24","INR 2.5 Lakh",250000,"INR",{"$f":"tblSalaries[[#This Row],[clean Salary (in local currency)]]*VLOOKUP(tblSalaries[[#This Row],[Currency]],tblXrate[],2,FALSE)","v":4451.9791718606421},{"$f":"IF($H$1=\"USD\",tblSalaries[[#This Row],[Salary in USD]],tblSalaries[[#This Row],[Salary in USD]]*VLOOKUP($H$1,USDtoUserChoice,2,FALSE))","v":36515.044128017551},"SR. MIS ","Reporting","India",{"$f":"VLOOKUP(tblSalaries[[#This Row],[Where do you work]],tblCountries[[Actual]:[Mapping]],2,FALSE)","v":"India"},"All the 8 hours baby, all the 8!",3.5,{"$f":"IF(ISNA(VLOOKUP(tblSalaries[[#This Row],[Years of Experience]],vlookUpExp!$A$1:$B$56,2,FALSE)),\"No Response\",VLOOKUP(tblSalaries[[#This Row],[Years of Experience]],vlookUpExp!$A$1:$B$56,2,FALSE))","v":"0-5"}]
[null,"ID1079","2012-05-28T15:29:53","Â£30000",30000,"GBP",{"$f":"tblSalaries[[#This Row],[clean Salary (in local currency)]]*VLOOKUP(tblSalaries[[#This Row],[Currency]],tblXrate[],2,FALSE)","v":47285.348162018527},{"$f":"IF($H$1=\"USD\",tblSalaries[[#This Row],[Salary in USD]],tblSalaries[[#This Row],[Salary in USD]]*VLOOKUP($H$1,USDtoUserChoice,2,FALSE))","v":387833.47991791274},"Data Analyst","Analyst","UK",{"$f":"VLOOKUP(tblSalaries[[#This Row],[Where do you work]],tblCountries[[Actual]:[Mapping]],2,FALSE)","v":"UK"},"All the 8 hours baby, all the 8!",15,{"$f":"IF(ISNA(VLOOKUP(tblSalaries[[#This Row],[Years of Experience]],vlookUpExp!$A$1:$B$56,2,FALSE)),\"No Response\",VLOOKUP(tblSalaries[[#This Row],[Years of Experience]],vlookUpExp!$A$1:$B$56,2,FALSE))","v":"11-15"}]
[null,"ID1080","2012-05-28T15:33:23",600,7200,"USD",{"$f":"tblSalaries[[#This Row],[clean Salary (in local currency)]]*VLOOKUP(tblSalaries[[#This Row],[Currency]],tblXrate[],2,FALSE)","v":7200},{"$f":"IF($H$1=\"USD\",tblSalaries[[#This Row],[Salary in USD]],tblSalaries[[#This Row],[Salary in USD]]*VLOOKUP($H$1,USDtoUserChoice,2,FALSE))","v":59054.256000000008},"Data Entry Operator","Analyst","India",{"$f":"VLOOKUP(tblSalaries[[#This Row],[Where do you work]],tblCountries[[Actual]:[Mapping]],2,FALSE)","v":"India"},"All the 8 hours baby, all the 8!",10,{"$f":"IF(ISNA(VLOOKUP(tblSalaries[[#This Row],[Years of Experience]],vlookUpExp!$A$1:$B$56,2,FALSE)),\"No Response\",VLOOKUP(tblSalaries[[#This Row],[Years of Experience]],vlookUpExp!$A$1:$B$56,2,FALSE))","v":"6-10"}]
[null,"ID1081","2012-05-28T15:33:37","INR 2500000",2500000,"INR",{"$f":"tblSalaries[[#This Row],[clean Salary (in local currency)]]*VLOOKUP(tblSalaries[[#This Row],[Currency]],tblXrate[],2,FALSE)","v":44519.791718606422},{"$f":"IF($H$1=\"USD\",tblSalaries[[#This Row],[Salary in USD]],tblSalaries[[#This Row],[Salary in USD]]*VLOOKUP($H$1,USDtoUserChoice,2,FALSE))","v":365150.44128017552},"Vice President","CXO or Top Mgmt.","India",{"$f":"VLOOKUP(tblSalaries[[#This Row],[Where do you work]],tblCountries[[Actual]:[Mapping]],2,FALSE)","v":"India"},"4 to 6 hours a day",9,{"$f":"IF(ISNA(VLOOKUP(tblSalaries[[#This Row],[Years of Experience]],vlookUpExp!$A$1:$B$56,2,FALSE)),\"No Response\",VLOOKUP(tblSalaries[[#This Row],[Years of Experience]],vlookUpExp!$A$1:$B$56,2,FALSE))","v":"6-10"}]
[null,"ID1082","2012-05-28T15:34:12",140000,140000,"INR",{"$f":"tblSalaries[[#This Row],[clean Salary (in local currency)]]*VLOOKUP(tblSalaries[[#This Row],[Currency]],tblXrate[],2,FALSE)","v":2493.1083362419595},{"$f":"IF($H$1=\"USD\",tblSalaries[[#This Row],[Salary in USD]],tblSalaries[[#This Row],[Salary in USD]]*VLOOKUP($H$1,USDtoUserChoice,2,FALSE))","v":20448.42471168983},"Accountant","Accountant","India",{"$f":"VLOOKUP(tblSalaries[[#This Row],[Where do you work]],tblCountries[[Actual]:[Mapping]],2,FALSE)","v":"India"},"4 to 6 hours a day",4,{"$f":"IF(ISNA(VLOOKUP(tblSalaries[[#This Row],[Years of Experience]],vlookUpExp!$A$1:$B$56,2,FALSE)),\"No Response\",VLOOKUP(tblSalaries[[#This Row],[Years of Experience]],vlookUpExp!$A$1:$B$56,2,FALSE))","v":"0-5"}]
[null,"ID1083","2012-05-28T15:35:32",20000,20000,"GBP",{"$f":"tblSalaries[[#This Row],[clean Salary (in local currency)]]*VLOOKUP(tblSalaries[[#This Row],[Currency]],tblXrate[],2,FALSE)","v":31523.565441345683},{"$f":"IF($H$1=\"USD\",tblSalaries[[#This Row],[Salary in USD]],tblSalaries[[#This Row],[Salary in USD]]*VLOOKUP($H$1,USDtoUserChoice,2,FALSE))","v":258555.65327860849},"finance assistant","Analyst","UK",{"$f":"VLOOKUP(tblSalaries[[#This Row],[Where do you work]],tblCountries[[Actual]:[Mapping]],2,FALSE)","v":"UK"},"4 to 6 hours a day",1,{"$f":"IF(ISNA(VLOOKUP(tblSalaries[[#This Row],[Years of Experience]],vlookUpExp!$A$1:$B$56,2,FALSE)),\"No Response\",VLOOKUP(tblSalaries[[#This Row],[Years of Experience]],vlookUpExp!$A$1:$B$56,2,FALSE))","v":"0-5"}]
[null,"ID1084","2012-05-28T15:37:23",1200000,1200000,"INR",{"$f":"tblSalaries[[#This Row],[clean Salary (in local currency)]]*VLOOKUP(tblSalaries[[#This Row],[Currency]],tblXrate[],2,FALSE)","v":21369.500024931083},{"$f":"IF($H$1=\"USD\",tblSalaries[[#This Row],[Salary in USD]],tblSalaries[[#This Row],[Salary in USD]]*VLOOKUP($H$1,USDtoUserChoice,2,FALSE))","v":175272.21181448427},"finance controller","Controller","India",{"$f":"VLOOKUP(tblSalaries[[#This Row],[Where do you work]],tblCountries[[Actual]:[Mapping]],2,FALSE)","v":"India"},"4 to 6 hours a day",8,{"$f":"IF(ISNA(VLOOKUP(tblSalaries[[#This Row],[Years of Experience]],vlookUpExp!$A$1:$B$56,2,FALSE)),\"No Response\",VLOOKUP(tblSalaries[[#This Row],[Years of Experience]],vlookUpExp!$A$1:$B$56,2,FALSE))","v":"6-10"}]
[null,"ID1085","2012-05-28T15:42:04",80000,80000,"GBP",{"$f":"tblSalaries[[#This Row],[clean Salary (in local currency)]]*VLOOKUP(tblSalaries[[#This Row],[Currency]],tblXrate[],2,FALSE)","v":126094.26176538273},{"$f":"IF($H$1=\"USD\",tblSalaries[[#This Row],[Salary in USD]],tblSalaries[[#This Row],[Salary in USD]]*VLOOKUP($H$1,USDtoUserChoice,2,FALSE))","v":1034222.6131144339},"Manufacturing consultant","Consultant","UK",{"$f":"VLOOKUP(tblSalaries[[#This Row],[Where do you work]],tblCountries[[Actual]:[Mapping]],2,FALSE)","v":"UK"},"4 to 6 hours a day",10,{"$f":"IF(ISNA(VLOOKUP(tblSalaries[[#This Row],[Years of Experience]],vlookUpExp!$A$1:$B$56,2,FALSE)),\"No Response\",VLOOKUP(tblSalaries[[#This Row],[Years of Experience]],vlookUpExp!$A$1:$B$56,2,FALSE))","v":"6-10"}]
[null,"ID1086","2012-05-28T15:44:12","Â£63000",63000,"GBP",{"$f":"tblSalaries[[#This Row],[clean Salary (in local currency)]]*VLOOKUP(tblSalaries[[#This Row],[Currency]],tblXrate[],2,FALSE)","v":99299.231140238902},{"$f":"IF($H$1=\"USD\",tblSalaries[[#This Row],[Salary in USD]],tblSalaries[[#This Row],[Salary in USD]]*VLOOKUP($H$1,USDtoUserChoice,2,FALSE))","v":814450.30782761669},"Business Improvement Specialist","Specialist","UK",{"$f":"VLOOKUP(tblSalaries[[#This Row],[Where do you work]],tblCountries[[Actual]:[Mapping]],2,FALSE)","v":"UK"},"2 to 3 hours per day",1,{"$f":"IF(ISNA(VLOOKUP(tblSalaries[[#This Row],[Years of Experience]],vlookUpExp!$A$1:$B$56,2,FALSE)),\"No Response\",VLOOKUP(tblSalaries[[#This Row],[Years of Experience]],vlookUpExp!$A$1:$B$56,2,FALSE))","v":"0-5"}]
[null,"ID1087","2012-05-28T15:47:46","Â£55000",55000,"GBP",{"$f":"tblSalaries[[#This Row],[clean Salary (in local currency)]]*VLOOKUP(tblSalaries[[#This Row],[Currency]],tblXrate[],2,FALSE)","v":86689.804963700633},{"$f":"IF($H$1=\"USD\",tblSalaries[[#This Row],[Salary in USD]],tblSalaries[[#This Row],[Salary in USD]]*VLOOKUP($H$1,USDtoUserChoice,2,FALSE))","v":711028.0465161734},"Finance Director","CXO or Top Mgmt.","UK",{"$f":"VLOOKUP(tblSalaries[[#This Row],[Where do you work]],tblCountries[[Actual]:[Mapping]],2,FALSE)","v":"UK"},"2 to 3 hours per day",22,{"$f":"IF(ISNA(VLOOKUP(tblSalaries[[#This Row],[Years of Experience]],vlookUpExp!$A$1:$B$56,2,FALSE)),\"No Response\",VLOOKUP(tblSalaries[[#This Row],[Years of Experience]],vlookUpExp!$A$1:$B$56,2,FALSE))","v":"21-25"}]
[null,"ID1088","2012-05-28T15:48:23","50000 US $ per year",50000,"USD",{"$f":"tblSalaries[[#This Row],[clean Salary (in local currency)]]*VLOOKUP(tblSalaries[[#This Row],[Currency]],tblXrate[],2,FALSE)","v":50000},{"$f":"IF($H$1=\"USD\",tblSalaries[[#This Row],[Salary in USD]],tblSalaries[[#This Row],[Salary in USD]]*VLOOKUP($H$1,USDtoUserChoice,2,FALSE))","v":410099.00000000006},"Sr. Manager MIS","Manager","India",{"$f":"VLOOKUP(tblSalaries[[#This Row],[Where do you work]],tblCountries[[Actual]:[Mapping]],2,FALSE)","v":"India"},"2 to 3 hours per day",30,{"$f":"IF(ISNA(VLOOKUP(tblSalaries[[#This Row],[Years of Experience]],vlookUpExp!$A$1:$B$56,2,FALSE)),\"No Response\",VLOOKUP(tblSalaries[[#This Row],[Years of Experience]],vlookUpExp!$A$1:$B$56,2,FALSE))","v":"26-30"}]
[null,"ID1089","2012-05-28T15:49:22",240000,240000,"INR",{"$f":"tblSalaries[[#This Row],[clean Salary (in local currency)]]*VLOOKUP(tblSalaries[[#This Row],[Currency]],tblXrate[],2,FALSE)","v":4273.9000049862161},{"$f":"IF($H$1=\"USD\",tblSalaries[[#This Row],[Salary in USD]],tblSalaries[[#This Row],[Salary in USD]]*VLOOKUP($H$1,USDtoUserChoice,2,FALSE))","v":35054.442362896851},"Executive","Analyst","India",{"$f":"VLOOKUP(tblSalaries[[#This Row],[Where do you work]],tblCountries[[Actual]:[Mapping]],2,FALSE)","v":"India"},"2 to 3 hours per day",3,{"$f":"IF(ISNA(VLOOKUP(tblSalaries[[#This Row],[Years of Experience]],vlookUpExp!$A$1:$B$56,2,FALSE)),\"No Response\",VLOOKUP(tblSalaries[[#This Row],[Years of Experience]],vlookUpExp!$A$1:$B$56,2,FALSE))","v":"0-5"}]
[null,"ID1090","2012-05-28T15:49:54","Rs. 250000",250000,"INR",{"$f":"tblSalaries[[#This Row],[clean Salary (in local currency)]]*VLOOKUP(tblSalaries[[#This Row],[Currency]],tblXrate[],2,FALSE)","v":4451.9791718606421},{"$f":"IF($H$1=\"USD\",tblSalaries[[#This Row],[Salary in USD]],tblSalaries[[#This Row],[Salary in USD]]*VLOOKUP($H$1,USDtoUserChoice,2,FALSE))","v":36515.044128017551},"MIS Executive","Reporting","India",{"$f":"VLOOKUP(tblSalaries[[#This Row],[Where do you work]],tblCountries[[Actual]:[Mapping]],2,FALSE)","v":"India"},"2 to 3 hours per day",3,{"$f":"IF(ISNA(VLOOKUP(tblSalaries[[#This Row],[Years of Experience]],vlookUpExp!$A$1:$B$56,2,FALSE)),\"No Response\",VLOOKUP(tblSalaries[[#This Row],[Years of Experience]],vlookUpExp!$A$1:$B$56,2,FALSE))","v":"0-5"}]
[null,"ID1091","2012-05-28T15:51:32","50000 INR",600000,"INR",{"$f":"tblSalaries[[#This Row],[clean Salary (in local currency)]]*VLOOKUP(tblSalaries[[#This Row],[Currency]],tblXrate[],2,FALSE)","v":10684.750012465542},{"$f":"IF($H$1=\"USD\",tblSalaries[[#This Row],[Salary in USD]],tblSalaries[[#This Row],[Salary in USD]]*VLOOKUP($H$1,USDtoUserChoice,2,FALSE))","v":87636.105907242134},"Sr.Supervisor","Analyst","India",{"$f":"VLOOKUP(tblSalaries[[#This Row],[Where do you work]],tblCountries[[Actual]:[Mapping]],2,FALSE)","v":"India"},"4 to 6 hours a day",10,{"$f":"IF(ISNA(VLOOKUP(tblSalaries[[#This Row],[Years of Experience]],vlookUpExp!$A$1:$B$56,2,FALSE)),\"No Response\",VLOOKUP(tblSalaries[[#This Row],[Years of Experience]],vlookUpExp!$A$1:$B$56,2,FALSE))","v":"6-10"}]
[null,"ID1092","2012-05-28T15:59:46",40500,40500,"GBP",{"$f":"tblSalaries[[#This Row],[clean Salary (in local currency)]]*VLOOKUP(tblSalaries[[#This Row],[Currency]],tblXrate[],2,FALSE)","v":63835.220018725006},{"$f":"IF($H$1=\"USD\",tblSalaries[[#This Row],[Salary in USD]],tblSalaries[[#This Row],[Salary in USD]]*VLOOKUP($H$1,USDtoUserChoice,2,FALSE))","v":523575.19788918219},"Policy, Performance and Research Officer","Manager","UK",{"$f":"VLOOKUP(tblSalaries[[#This Row],[Where do you work]],tblCountries[[Actual]:[Mapping]],2,FALSE)","v":"UK"},"2 to 3 hours per day",25,{"$f":"IF(ISNA(VLOOKUP(tblSalaries[[#This Row],[Years of Experience]],vlookUpExp!$A$1:$B$56,2,FALSE)),\"No Response\",VLOOKUP(tblSalaries[[#This Row],[Years of Experience]],vlookUpExp!$A$1:$B$56,2,FALSE))","v":"21-25"}]
[null,"ID1093","2012-05-28T16:01:05","Â£23000",23000,"GBP",{"$f":"tblSalaries[[#This Row],[clean Salary (in local currency)]]*VLOOKUP(tblSalaries[[#This Row],[Currency]],tblXrate[],2,FALSE)","v":36252.100257547536},{"$f":"IF($H$1=\"USD\",tblSalaries[[#This Row],[Salary in USD]],tblSalaries[[#This Row],[Salary in USD]]*VLOOKUP($H$1,USDtoUserChoice,2,FALSE))","v":297339.00127039978},"Data Analyst","Analyst","UK",{"$f":"VLOOKUP(tblSalaries[[#This Row],[Where do you work]],tblCountries[[Actual]:[Mapping]],2,FALSE)","v":"UK"},"All the 8 hours baby, all the 8!",5,{"$f":"IF(ISNA(VLOOKUP(tblSalaries[[#This Row],[Years of Experience]],vlookUpExp!$A$1:$B$56,2,FALSE)),\"No Response\",VLOOKUP(tblSalaries[[#This Row],[Years of Experience]],vlookUpExp!$A$1:$B$56,2,FALSE))","v":"0-5"}]
[null,"ID1094","2012-05-28T16:03:18",7960,7960,"USD",{"$f":"tblSalaries[[#This Row],[clean Salary (in local currency)]]*VLOOKUP(tblSalaries[[#This Row],[Currency]],tblXrate[],2,FALSE)","v":7960},{"$f":"IF($H$1=\"USD\",tblSalaries[[#This Row],[Salary in USD]],tblSalaries[[#This Row],[Salary in USD]]*VLOOKUP($H$1,USDtoUserChoice,2,FALSE))","v":65287.760800000004},"Team Leader","Manager","India",{"$f":"VLOOKUP(tblSalaries[[#This Row],[Where do you work]],tblCountries[[Actual]:[Mapping]],2,FALSE)","v":"India"},"4 to 6 hours a day",7,{"$f":"IF(ISNA(VLOOKUP(tblSalaries[[#This Row],[Years of Experience]],vlookUpExp!$A$1:$B$56,2,FALSE)),\"No Response\",VLOOKUP(tblSalaries[[#This Row],[Years of Experience]],vlookUpExp!$A$1:$B$56,2,FALSE))","v":"6-10"}]
[null,"ID1095","2012-05-28T16:03:45","Rs500000",500000,"INR",{"$f":"tblSalaries[[#This Row],[clean Salary (in local currency)]]*VLOOKUP(tblSalaries[[#This Row],[Currency]],tblXrate[],2,FALSE)","v":8903.9583437212841},{"$f":"IF($H$1=\"USD\",tblSalaries[[#This Row],[Salary in USD]],tblSalaries[[#This Row],[Salary in USD]]*VLOOKUP($H$1,USDtoUserChoice,2,FALSE))","v":73030.088256035102},"Executive","Analyst","India",{"$f":"VLOOKUP(tblSalaries[[#This Row],[Where do you work]],tblCountries[[Actual]:[Mapping]],2,FALSE)","v":"India"},"2 to 3 hours per day",23,{"$f":"IF(ISNA(VLOOKUP(tblSalaries[[#This Row],[Years of Experience]],vlookUpExp!$A$1:$B$56,2,FALSE)),\"No Response\",VLOOKUP(tblSalaries[[#This Row],[Years of Experience]],vlookUpExp!$A$1:$B$56,2,FALSE))","v":"21-25"}]
[null,"ID1096","2012-05-28T16:05:43","40000 euro",40000,"EUR",{"$f":"tblSalaries[[#This Row],[clean Salary (in local currency)]]*VLOOKUP(tblSalaries[[#This Row],[Currency]],tblXrate[],2,FALSE)","v":50815.977559664309},{"$f":"IF($H$1=\"USD\",tblSalaries[[#This Row],[Salary in USD]],tblSalaries[[#This Row],[Salary in USD]]*VLOOKUP($H$1,USDtoUserChoice,2,FALSE))","v":416791.63162481552},"Accounting analyst","Analyst","Netherlands",{"$f":"VLOOKUP(tblSalaries[[#This Row],[Where do you work]],tblCountries[[Actual]:[Mapping]],2,FALSE)","v":"Netherlands"},"4 to 6 hours a day",3,{"$f":"IF(ISNA(VLOOKUP(tblSalaries[[#This Row],[Years of Experience]],vlookUpExp!$A$1:$B$56,2,FALSE)),\"No Response\",VLOOKUP(tblSalaries[[#This Row],[Years of Experience]],vlookUpExp!$A$1:$B$56,2,FALSE))","v":"0-5"}]
[null,"ID1097","2012-05-28T16:07:51","Â£30000",30000,"GBP",{"$f":"tblSalaries[[#This Row],[clean Salary (in local currency)]]*VLOOKUP(tblSalaries[[#This Row],[Currency]],tblXrate[],2,FALSE)","v":47285.348162018527},{"$f":"IF($H$1=\"USD\",tblSalaries[[#This Row],[Salary in USD]],tblSalaries[[#This Row],[Salary in USD]]*VLOOKUP($H$1,USDtoUserChoice,2,FALSE))","v":387833.47991791274},"Information Analyst","Analyst","UK",{"$f":"VLOOKUP(tblSalaries[[#This Row],[Where do you work]],tblCountries[[Actual]:[Mapping]],2,FALSE)","v":"UK"},"4 to 6 hours a day",4,{"$f":"IF(ISNA(VLOOKUP(tblSalaries[[#This Row],[Years of Experience]],vlookUpExp!$A$1:$B$56,2,FALSE)),\"No Response\",VLOOKUP(tblSalaries[[#This Row],[Years of Experience]],vlookUpExp!$A$1:$B$56,2,FALSE))","v":"0-5"}]
[null,"ID1098","2012-05-28T16:07:51",48000,48000,"GBP",{"$f":"tblSalaries[[#This Row],[clean Salary (in local currency)]]*VLOOKUP(tblSalaries[[#This Row],[Currency]],tblXrate[],2,FALSE)","v":75656.557059229643},{"$f":"IF($H$1=\"USD\",tblSalaries[[#This Row],[Salary in USD]],tblSalaries[[#This Row],[Salary in USD]]*VLOOKUP($H$1,USDtoUserChoice,2,FALSE))","v":620533.56786866044},"Business Operations Co-ordinator","Manager","UK",{"$f":"VLOOKUP(tblSalaries[[#This Row],[Where do you work]],tblCountries[[Actual]:[Mapping]],2,FALSE)","v":"UK"},"2 to 3 hours per day",10,{"$f":"IF(ISNA(VLOOKUP(tblSalaries[[#This Row],[Years of Experience]],vlookUpExp!$A$1:$B$56,2,FALSE)),\"No Response\",VLOOKUP(tblSalaries[[#This Row],[Years of Experience]],vlookUpExp!$A$1:$B$56,2,FALSE))","v":"6-10"}]
[null,"ID1099","2012-05-28T16:10:52","Rs. 20000",240000,"INR",{"$f":"tblSalaries[[#This Row],[clean Salary (in local currency)]]*VLOOKUP(tblSalaries[[#This Row],[Currency]],tblXrate[],2,FALSE)","v":4273.9000049862161},{"$f":"IF($H$1=\"USD\",tblSalaries[[#This Row],[Salary in USD]],tblSalaries[[#This Row],[Salary in USD]]*VLOOKUP($H$1,USDtoUserChoice,2,FALSE))","v":35054.442362896851},"Accountant","Accountant","India",{"$f":"VLOOKUP(tblSalaries[[#This Row],[Where do you work]],tblCountries[[Actual]:[Mapping]],2,FALSE)","v":"India"},"All the 8 hours baby, all the 8!",20,{"$f":"IF(ISNA(VLOOKUP(tblSalaries[[#This Row],[Years of Experience]],vlookUpExp!$A$1:$B$56,2,FALSE)),\"No Response\",VLOOKUP(tblSalaries[[#This Row],[Years of Experience]],vlookUpExp!$A$1:$B$56,2,FALSE))","v":"16-20"}]
[null,"ID1100","2012-05-28T16:19:21",37000,37000,"EUR",{"$f":"tblSalaries[[#This Row],[clean Salary (in local currency)]]*VLOOKUP(tblSalaries[[#This Row],[Currency]],tblXrate[],2,FALSE)","v":47004.779242689488},{"$f":"IF($H$1=\"USD\",tblSalaries[[#This Row],[Salary in USD]],tblSalaries[[#This Row],[Salary in USD]]*VLOOKUP($H$1,USDtoUserChoice,2,FALSE))","v":385532.25925295439},"Project Control Analyst","Analyst","Spain",{"$f":"VLOOKUP(tblSalaries[[#This Row],[Where do you work]],tblCountries[[Actual]:[Mapping]],2,FALSE)","v":"Spain"},"4 to 6 hours a day",11,{"$f":"IF(ISNA(VLOOKUP(tblSalaries[[#This Row],[Years of Experience]],vlookUpExp!$A$1:$B$56,2,FALSE)),\"No Response\",VLOOKUP(tblSalaries[[#This Row],[Years of Experience]],vlookUpExp!$A$1:$B$56,2,FALSE))","v":"11-15"}]
[null,"ID1101","2012-05-28T16:19:41","Â£30000",30000,"GBP",{"$f":"tblSalaries[[#This Row],[clean Salary (in local currency)]]*VLOOKUP(tblSalaries[[#This Row],[Currency]],tblXrate[],2,FALSE)","v":47285.348162018527},{"$f":"IF($H$1=\"USD\",tblSalaries[[#This Row],[Salary in USD]],tblSalaries[[#This Row],[Salary in USD]]*VLOOKUP($H$1,USDtoUserChoice,2,FALSE))","v":387833.47991791274},"MDM Executive (Business Analyst)","Analyst","UK",{"$f":"VLOOKUP(tblSalaries[[#This Row],[Where do you work]],tblCountries[[Actual]:[Mapping]],2,FALSE)","v":"UK"},"All the 8 hours baby, all the 8!",10,{"$f":"IF(ISNA(VLOOKUP(tblSalaries[[#This Row],[Years of Experience]],vlookUpExp!$A$1:$B$56,2,FALSE)),\"No Response\",VLOOKUP(tblSalaries[[#This Row],[Years of Experience]],vlookUpExp!$A$1:$B$56,2,FALSE))","v":"6-10"}]
[null,"ID1102","2012-05-28T16:20:52",58000,58000,"GBP",{"$f":"tblSalaries[[#This Row],[clean Salary (in local currency)]]*VLOOKUP(tblSalaries[[#This Row],[Currency]],tblXrate[],2,FALSE)","v":91418.339779902482},{"$f":"IF($H$1=\"USD\",tblSalaries[[#This Row],[Salary in USD]],tblSalaries[[#This Row],[Salary in USD]]*VLOOKUP($H$1,USDtoUserChoice,2,FALSE))","v":749811.39450796461},"Data analyst","Analyst","UK",{"$f":"VLOOKUP(tblSalaries[[#This Row],[Where do you work]],tblCountries[[Actual]:[Mapping]],2,FALSE)","v":"UK"},"All the 8 hours baby, all the 8!",8,{"$f":"IF(ISNA(VLOOKUP(tblSalaries[[#This Row],[Years of Experience]],vlookUpExp!$A$1:$B$56,2,FALSE)),\"No Response\",VLOOKUP(tblSalaries[[#This Row],[Years of Experience]],vlookUpExp!$A$1:$B$56,2,FALSE))","v":"6-10"}]
[null,"ID1103","2012-05-28T16:21:27",79000,79000,"GBP",{"$f":"tblSalaries[[#This Row],[clean Salary (in local currency)]]*VLOOKUP(tblSalaries[[#This Row],[Currency]],tblXrate[],2,FALSE)","v":124518.08349331544},{"$f":"IF($H$1=\"USD\",tblSalaries[[#This Row],[Salary in USD]],tblSalaries[[#This Row],[Salary in USD]]*VLOOKUP($H$1,USDtoUserChoice,2,FALSE))","v":1021294.8304505035},"Market Analyst","Analyst","UK",{"$f":"VLOOKUP(tblSalaries[[#This Row],[Where do you work]],tblCountries[[Actual]:[Mapping]],2,FALSE)","v":"UK"},"2 to 3 hours per day",14,{"$f":"IF(ISNA(VLOOKUP(tblSalaries[[#This Row],[Years of Experience]],vlookUpExp!$A$1:$B$56,2,FALSE)),\"No Response\",VLOOKUP(tblSalaries[[#This Row],[Years of Experience]],vlookUpExp!$A$1:$B$56,2,FALSE))","v":"11-15"}]
[null,"ID1104","2012-05-28T16:26:14",43912.03,43912,"GBP",{"$f":"tblSalaries[[#This Row],[clean Salary (in local currency)]]*VLOOKUP(tblSalaries[[#This Row],[Currency]],tblXrate[],2,FALSE)","v":69213.140283018583},{"$f":"IF($H$1=\"USD\",tblSalaries[[#This Row],[Salary in USD]],tblSalaries[[#This Row],[Salary in USD]]*VLOOKUP($H$1,USDtoUserChoice,2,FALSE))","v":567684.79233851284},"Senior Data Analyst","Analyst","UK",{"$f":"VLOOKUP(tblSalaries[[#This Row],[Where do you work]],tblCountries[[Actual]:[Mapping]],2,FALSE)","v":"UK"},"All the 8 hours baby, all the 8!",3,{"$f":"IF(ISNA(VLOOKUP(tblSalaries[[#This Row],[Years of Experience]],vlookUpExp!$A$1:$B$56,2,FALSE)),\"No Response\",VLOOKUP(tblSalaries[[#This Row],[Years of Experience]],vlookUpExp!$A$1:$B$56,2,FALSE))","v":"0-5"}]
[null,"ID1105","2012-05-28T16:28:25",3500,3500,"USD",{"$f":"tblSalaries[[#This Row],[clean Salary (in local currency)]]*VLOOKUP(tblSalaries[[#This Row],[Currency]],tblXrate[],2,FALSE)","v":3500},{"$f":"IF($H$1=\"USD\",tblSalaries[[#This Row],[Salary in USD]],tblSalaries[[#This Row],[Salary in USD]]*VLOOKUP($H$1,USDtoUserChoice,2,FALSE))","v":28706.930000000004},"OFFICER","Manager","PAKISTAN",{"$f":"VLOOKUP(tblSalaries[[#This Row],[Where do you work]],tblCountries[[Actual]:[Mapping]],2,FALSE)","v":"Pakistan"},"4 to 6 hours a day",4,{"$f":"IF(ISNA(VLOOKUP(tblSalaries[[#This Row],[Years of Experience]],vlookUpExp!$A$1:$B$56,2,FALSE)),\"No Response\",VLOOKUP(tblSalaries[[#This Row],[Years of Experience]],vlookUpExp!$A$1:$B$56,2,FALSE))","v":"0-5"}]
[null,"ID1107","2012-05-28T16:34:48","Â£40000",40000,"GBP",{"$f":"tblSalaries[[#This Row],[clean Salary (in local currency)]]*VLOOKUP(tblSalaries[[#This Row],[Currency]],tblXrate[],2,FALSE)","v":63047.130882691366},{"$f":"IF($H$1=\"USD\",tblSalaries[[#This Row],[Salary in USD]],tblSalaries[[#This Row],[Salary in USD]]*VLOOKUP($H$1,USDtoUserChoice,2,FALSE))","v":517111.30655721697},"Buyer","Manager","UK",{"$f":"VLOOKUP(tblSalaries[[#This Row],[Where do you work]],tblCountries[[Actual]:[Mapping]],2,FALSE)","v":"UK"},"1 or 2 hours a day",20,{"$f":"IF(ISNA(VLOOKUP(tblSalaries[[#This Row],[Years of Experience]],vlookUpExp!$A$1:$B$56,2,FALSE)),\"No Response\",VLOOKUP(tblSalaries[[#This Row],[Years of Experience]],vlookUpExp!$A$1:$B$56,2,FALSE))","v":"16-20"}]
[null,"ID1108","2012-05-28T16:35:19",57000,57000,"EUR",{"$f":"tblSalaries[[#This Row],[clean Salary (in local currency)]]*VLOOKUP(tblSalaries[[#This Row],[Currency]],tblXrate[],2,FALSE)","v":72412.768022521646},{"$f":"IF($H$1=\"USD\",tblSalaries[[#This Row],[Salary in USD]],tblSalaries[[#This Row],[Salary in USD]]*VLOOKUP($H$1,USDtoUserChoice,2,FALSE))","v":593928.07506536215},"Spare Part Coordinator","Manager","Norway",{"$f":"VLOOKUP(tblSalaries[[#This Row],[Where do you work]],tblCountries[[Actual]:[Mapping]],2,FALSE)","v":"Norway"},"1 or 2 hours a day",15,{"$f":"IF(ISNA(VLOOKUP(tblSalaries[[#This Row],[Years of Experience]],vlookUpExp!$A$1:$B$56,2,FALSE)),\"No Response\",VLOOKUP(tblSalaries[[#This Row],[Years of Experience]],vlookUpExp!$A$1:$B$56,2,FALSE))","v":"11-15"}]
[null,"ID1109","2012-05-28T16:41:27",40000,40000,"EUR",{"$f":"tblSalaries[[#This Row],[clean Salary (in local currency)]]*VLOOKUP(tblSalaries[[#This Row],[Currency]],tblXrate[],2,FALSE)","v":50815.977559664309},{"$f":"IF($H$1=\"USD\",tblSalaries[[#This Row],[Salary in USD]],tblSalaries[[#This Row],[Salary in USD]]*VLOOKUP($H$1,USDtoUserChoice,2,FALSE))","v":416791.63162481552},"Actuary","Accountant","Portugal",{"$f":"VLOOKUP(tblSalaries[[#This Row],[Where do you work]],tblCountries[[Actual]:[Mapping]],2,FALSE)","v":"Portugal"},"2 to 3 hours per day",10,{"$f":"IF(ISNA(VLOOKUP(tblSalaries[[#This Row],[Years of Experience]],vlookUpExp!$A$1:$B$56,2,FALSE)),\"No Response\",VLOOKUP(tblSalaries[[#This Row],[Years of Experience]],vlookUpExp!$A$1:$B$56,2,FALSE))","v":"6-10"}]
[null,"ID1110","2012-05-28T16:45:28",100000,1200000,"INR",{"$f":"tblSalaries[[#This Row],[clean Salary (in local currency)]]*VLOOKUP(tblSalaries[[#This Row],[Currency]],tblXrate[],2,FALSE)","v":21369.500024931083},{"$f":"IF($H$1=\"USD\",tblSalaries[[#This Row],[Salary in USD]],tblSalaries[[#This Row],[Salary in USD]]*VLOOKUP($H$1,USDtoUserChoice,2,FALSE))","v":175272.21181448427},"coordinator","Manager","India",{"$f":"VLOOKUP(tblSalaries[[#This Row],[Where do you work]],tblCountries[[Actual]:[Mapping]],2,FALSE)","v":"India"},"2 to 3 hours per day",5,{"$f":"IF(ISNA(VLOOKUP(tblSalaries[[#This Row],[Years of Experience]],vlookUpExp!$A$1:$B$56,2,FALSE)),\"No Response\",VLOOKUP(tblSalaries[[#This Row],[Years of Experience]],vlookUpExp!$A$1:$B$56,2,FALSE))","v":"0-5"}]
[null,"ID1111","2012-05-28T16:45:32","Â£35000",35000,"GBP",{"$f":"tblSalaries[[#This Row],[clean Salary (in local currency)]]*VLOOKUP(tblSalaries[[#This Row],[Currency]],tblXrate[],2,FALSE)","v":55166.239522354947},{"$f":"IF($H$1=\"USD\",tblSalaries[[#This Row],[Salary in USD]],tblSalaries[[#This Row],[Salary in USD]]*VLOOKUP($H$1,USDtoUserChoice,2,FALSE))","v":452472.39323756489},"Systems Analyst","Analyst","UK",{"$f":"VLOOKUP(tblSalaries[[#This Row],[Where do you work]],tblCountries[[Actual]:[Mapping]],2,FALSE)","v":"UK"},"2 to 3 hours per day",6,{"$f":"IF(ISNA(VLOOKUP(tblSalaries[[#This Row],[Years of Experience]],vlookUpExp!$A$1:$B$56,2,FALSE)),\"No Response\",VLOOKUP(tblSalaries[[#This Row],[Years of Experience]],vlookUpExp!$A$1:$B$56,2,FALSE))","v":"6-10"}]
[null,"ID1112","2012-05-28T16:53:13","Rs. 15000",180000,"INR",{"$f":"tblSalaries[[#This Row],[clean Salary (in local currency)]]*VLOOKUP(tblSalaries[[#This Row],[Currency]],tblXrate[],2,FALSE)","v":3205.4250037396623},{"$f":"IF($H$1=\"USD\",tblSalaries[[#This Row],[Salary in USD]],tblSalaries[[#This Row],[Salary in USD]]*VLOOKUP($H$1,USDtoUserChoice,2,FALSE))","v":26290.831772172638},"Logistics Operation Analyst","Analyst","India",{"$f":"VLOOKUP(tblSalaries[[#This Row],[Where do you work]],tblCountries[[Actual]:[Mapping]],2,FALSE)","v":"India"},"All the 8 hours baby, all the 8!",3,{"$f":"IF(ISNA(VLOOKUP(tblSalaries[[#This Row],[Years of Experience]],vlookUpExp!$A$1:$B$56,2,FALSE)),\"No Response\",VLOOKUP(tblSalaries[[#This Row],[Years of Experience]],vlookUpExp!$A$1:$B$56,2,FALSE))","v":"0-5"}]
[null,"ID1113","2012-05-28T16:58:03","Rs. 600000",600000,"INR",{"$f":"tblSalaries[[#This Row],[clean Salary (in local currency)]]*VLOOKUP(tblSalaries[[#This Row],[Currency]],tblXrate[],2,FALSE)","v":10684.750012465542},{"$f":"IF($H$1=\"USD\",tblSalaries[[#This Row],[Salary in USD]],tblSalaries[[#This Row],[Salary in USD]]*VLOOKUP($H$1,USDtoUserChoice,2,FALSE))","v":87636.105907242134},"Company Secretary","Accountant","India",{"$f":"VLOOKUP(tblSalaries[[#This Row],[Where do you work]],tblCountries[[Actual]:[Mapping]],2,FALSE)","v":"India"},"2 to 3 hours per day",8,{"$f":"IF(ISNA(VLOOKUP(tblSalaries[[#This Row],[Years of Experience]],vlookUpExp!$A$1:$B$56,2,FALSE)),\"No Response\",VLOOKUP(tblSalaries[[#This Row],[Years of Experience]],vlookUpExp!$A$1:$B$56,2,FALSE))","v":"6-10"}]
[null,"ID1114","2012-05-28T16:59:48","INR 300000",300000,"INR",{"$f":"tblSalaries[[#This Row],[clean Salary (in local currency)]]*VLOOKUP(tblSalaries[[#This Row],[Currency]],tblXrate[],2,FALSE)","v":5342.3750062327708},{"$f":"IF($H$1=\"USD\",tblSalaries[[#This Row],[Salary in USD]],tblSalaries[[#This Row],[Salary in USD]]*VLOOKUP($H$1,USDtoUserChoice,2,FALSE))","v":43818.052953621067},"Analyst","Analyst","India",{"$f":"VLOOKUP(tblSalaries[[#This Row],[Where do you work]],tblCountries[[Actual]:[Mapping]],2,FALSE)","v":"India"},"4 to 6 hours a day",5,{"$f":"IF(ISNA(VLOOKUP(tblSalaries[[#This Row],[Years of Experience]],vlookUpExp!$A$1:$B$56,2,FALSE)),\"No Response\",VLOOKUP(tblSalaries[[#This Row],[Years of Experience]],vlookUpExp!$A$1:$B$56,2,FALSE))","v":"0-5"}]
[null,"ID1115","2012-05-28T17:02:43",75000,75000,"GBP",{"$f":"tblSalaries[[#This Row],[clean Salary (in local currency)]]*VLOOKUP(tblSalaries[[#This Row],[Currency]],tblXrate[],2,FALSE)","v":118213.37040504631},{"$f":"IF($H$1=\"USD\",tblSalaries[[#This Row],[Salary in USD]],tblSalaries[[#This Row],[Salary in USD]]*VLOOKUP($H$1,USDtoUserChoice,2,FALSE))","v":969583.69979478186},"Management Consultant","Manager","UK",{"$f":"VLOOKUP(tblSalaries[[#This Row],[Where do you work]],tblCountries[[Actual]:[Mapping]],2,FALSE)","v":"UK"},"2 to 3 hours per day",10,{"$f":"IF(ISNA(VLOOKUP(tblSalaries[[#This Row],[Years of Experience]],vlookUpExp!$A$1:$B$56,2,FALSE)),\"No Response\",VLOOKUP(tblSalaries[[#This Row],[Years of Experience]],vlookUpExp!$A$1:$B$56,2,FALSE))","v":"6-10"}]
[null,"ID1116","2012-05-28T17:04:04","R100,000",100000,"ZAR",{"$f":"tblSalaries[[#This Row],[clean Salary (in local currency)]]*VLOOKUP(tblSalaries[[#This Row],[Currency]],tblXrate[],2,FALSE)","v":12192.177986291113},{"$f":"IF($H$1=\"USD\",tblSalaries[[#This Row],[Salary in USD]],tblSalaries[[#This Row],[Salary in USD]]*VLOOKUP($H$1,USDtoUserChoice,2,FALSE))","v":100000},"Q.A.Officer","Manager","South Africa",{"$f":"VLOOKUP(tblSalaries[[#This Row],[Where do you work]],tblCountries[[Actual]:[Mapping]],2,FALSE)","v":"South Africa"},"All the 8 hours baby, all the 8!",15,{"$f":"IF(ISNA(VLOOKUP(tblSalaries[[#This Row],[Years of Experience]],vlookUpExp!$A$1:$B$56,2,FALSE)),\"No Response\",VLOOKUP(tblSalaries[[#This Row],[Years of Experience]],vlookUpExp!$A$1:$B$56,2,FALSE))","v":"11-15"}]
[null,"ID1117","2012-05-28T17:05:07","Â£45000",45000,"GBP",{"$f":"tblSalaries[[#This Row],[clean Salary (in local currency)]]*VLOOKUP(tblSalaries[[#This Row],[Currency]],tblXrate[],2,FALSE)","v":70928.022243027779},{"$f":"IF($H$1=\"USD\",tblSalaries[[#This Row],[Salary in USD]],tblSalaries[[#This Row],[Salary in USD]]*VLOOKUP($H$1,USDtoUserChoice,2,FALSE))","v":581750.219876869},"Assistant Director - Performance Information","CXO or Top Mgmt.","UK",{"$f":"VLOOKUP(tblSalaries[[#This Row],[Where do you work]],tblCountries[[Actual]:[Mapping]],2,FALSE)","v":"UK"},"4 to 6 hours a day",8,{"$f":"IF(ISNA(VLOOKUP(tblSalaries[[#This Row],[Years of Experience]],vlookUpExp!$A$1:$B$56,2,FALSE)),\"No Response\",VLOOKUP(tblSalaries[[#This Row],[Years of Experience]],vlookUpExp!$A$1:$B$56,2,FALSE))","v":"6-10"}]
[null,"ID1118","2012-05-28T17:09:40","Â£25000",25000,"GBP",{"$f":"tblSalaries[[#This Row],[clean Salary (in local currency)]]*VLOOKUP(tblSalaries[[#This Row],[Currency]],tblXrate[],2,FALSE)","v":39404.456801682099},{"$f":"IF($H$1=\"USD\",tblSalaries[[#This Row],[Salary in USD]],tblSalaries[[#This Row],[Salary in USD]]*VLOOKUP($H$1,USDtoUserChoice,2,FALSE))","v":323194.5665982606},"Developer","Analyst","UK",{"$f":"VLOOKUP(tblSalaries[[#This Row],[Where do you work]],tblCountries[[Actual]:[Mapping]],2,FALSE)","v":"UK"},"4 to 6 hours a day",3,{"$f":"IF(ISNA(VLOOKUP(tblSalaries[[#This Row],[Years of Experience]],vlookUpExp!$A$1:$B$56,2,FALSE)),\"No Response\",VLOOKUP(tblSalaries[[#This Row],[Years of Experience]],vlookUpExp!$A$1:$B$56,2,FALSE))","v":"0-5"}]
[null,"ID1119","2012-05-28T17:12:47",18987,18987,"USD",{"$f":"tblSalaries[[#This Row],[clean Salary (in local currency)]]*VLOOKUP(tblSalaries[[#This Row],[Currency]],tblXrate[],2,FALSE)","v":18987},{"$f":"IF($H$1=\"USD\",tblSalaries[[#This Row],[Salary in USD]],tblSalaries[[#This Row],[Salary in USD]]*VLOOKUP($H$1,USDtoUserChoice,2,FALSE))","v":155730.99426000001},"Business Analyst","Analyst","Nigeria",{"$f":"VLOOKUP(tblSalaries[[#This Row],[Where do you work]],tblCountries[[Actual]:[Mapping]],2,FALSE)","v":"Nigeria"},"All the 8 hours baby, all the 8!",7,{"$f":"IF(ISNA(VLOOKUP(tblSalaries[[#This Row],[Years of Experience]],vlookUpExp!$A$1:$B$56,2,FALSE)),\"No Response\",VLOOKUP(tblSalaries[[#This Row],[Years of Experience]],vlookUpExp!$A$1:$B$56,2,FALSE))","v":"6-10"}]
[null,"ID1120","2012-05-28T17:15:29","Â£28500",28500,"GBP",{"$f":"tblSalaries[[#This Row],[clean Salary (in local currency)]]*VLOOKUP(tblSalaries[[#This Row],[Currency]],tblXrate[],2,FALSE)","v":44921.080753917595},{"$f":"IF($H$1=\"USD\",tblSalaries[[#This Row],[Salary in USD]],tblSalaries[[#This Row],[Salary in USD]]*VLOOKUP($H$1,USDtoUserChoice,2,FALSE))","v":368441.80592201708},"Development (Project & Planning) Manager","Manager","UK",{"$f":"VLOOKUP(tblSalaries[[#This Row],[Where do you work]],tblCountries[[Actual]:[Mapping]],2,FALSE)","v":"UK"},"1 or 2 hours a day",15,{"$f":"IF(ISNA(VLOOKUP(tblSalaries[[#This Row],[Years of Experience]],vlookUpExp!$A$1:$B$56,2,FALSE)),\"No Response\",VLOOKUP(tblSalaries[[#This Row],[Years of Experience]],vlookUpExp!$A$1:$B$56,2,FALSE))","v":"11-15"}]
[null,"ID1121","2012-05-28T17:17:39",60000,60000,"USD",{"$f":"tblSalaries[[#This Row],[clean Salary (in local currency)]]*VLOOKUP(tblSalaries[[#This Row],[Currency]],tblXrate[],2,FALSE)","v":60000},{"$f":"IF($H$1=\"USD\",tblSalaries[[#This Row],[Salary in USD]],tblSalaries[[#This Row],[Salary in USD]]*VLOOKUP($H$1,USDtoUserChoice,2,FALSE))","v":492118.80000000005},"manager","Manager","India",{"$f":"VLOOKUP(tblSalaries[[#This Row],[Where do you work]],tblCountries[[Actual]:[Mapping]],2,FALSE)","v":"India"},"All the 8 hours baby, all the 8!",14,{"$f":"IF(ISNA(VLOOKUP(tblSalaries[[#This Row],[Years of Experience]],vlookUpExp!$A$1:$B$56,2,FALSE)),\"No Response\",VLOOKUP(tblSalaries[[#This Row],[Years of Experience]],vlookUpExp!$A$1:$B$56,2,FALSE))","v":"11-15"}]
[null,"ID1122","2012-05-28T17:18:47","GBP Â£45200",45200,"GBP",{"$f":"tblSalaries[[#This Row],[clean Salary (in local currency)]]*VLOOKUP(tblSalaries[[#This Row],[Currency]],tblXrate[],2,FALSE)","v":71243.257897441246},{"$f":"IF($H$1=\"USD\",tblSalaries[[#This Row],[Salary in USD]],tblSalaries[[#This Row],[Salary in USD]]*VLOOKUP($H$1,USDtoUserChoice,2,FALSE))","v":584335.77640965523},"Clinical audit manager","Manager","UK",{"$f":"VLOOKUP(tblSalaries[[#This Row],[Where do you work]],tblCountries[[Actual]:[Mapping]],2,FALSE)","v":"UK"},"2 to 3 hours per day",5,{"$f":"IF(ISNA(VLOOKUP(tblSalaries[[#This Row],[Years of Experience]],vlookUpExp!$A$1:$B$56,2,FALSE)),\"No Response\",VLOOKUP(tblSalaries[[#This Row],[Years of Experience]],vlookUpExp!$A$1:$B$56,2,FALSE))","v":"0-5"}]
[null,"ID1123","2012-05-28T17:22:19","252000 INR",252000,"INR",{"$f":"tblSalaries[[#This Row],[clean Salary (in local currency)]]*VLOOKUP(tblSalaries[[#This Row],[Currency]],tblXrate[],2,FALSE)","v":4487.5950052355274},{"$f":"IF($H$1=\"USD\",tblSalaries[[#This Row],[Salary in USD]],tblSalaries[[#This Row],[Salary in USD]]*VLOOKUP($H$1,USDtoUserChoice,2,FALSE))","v":36807.164481041691},"Inventory Manager","Manager","India",{"$f":"VLOOKUP(tblSalaries[[#This Row],[Where do you work]],tblCountries[[Actual]:[Mapping]],2,FALSE)","v":"India"},"1 or 2 hours a day",16,{"$f":"IF(ISNA(VLOOKUP(tblSalaries[[#This Row],[Years of Experience]],vlookUpExp!$A$1:$B$56,2,FALSE)),\"No Response\",VLOOKUP(tblSalaries[[#This Row],[Years of Experience]],vlookUpExp!$A$1:$B$56,2,FALSE))","v":"16-20"}]
[null,"ID1124","2012-05-28T17:34:16",242304,242304,"INR",{"$f":"tblSalaries[[#This Row],[clean Salary (in local currency)]]*VLOOKUP(tblSalaries[[#This Row],[Currency]],tblXrate[],2,FALSE)","v":4314.929445034084},{"$f":"IF($H$1=\"USD\",tblSalaries[[#This Row],[Salary in USD]],tblSalaries[[#This Row],[Salary in USD]]*VLOOKUP($H$1,USDtoUserChoice,2,FALSE))","v":35390.965009580657},"accountant","Accountant","India",{"$f":"VLOOKUP(tblSalaries[[#This Row],[Where do you work]],tblCountries[[Actual]:[Mapping]],2,FALSE)","v":"India"},"4 to 6 hours a day",7,{"$f":"IF(ISNA(VLOOKUP(tblSalaries[[#This Row],[Years of Experience]],vlookUpExp!$A$1:$B$56,2,FALSE)),\"No Response\",VLOOKUP(tblSalaries[[#This Row],[Years of Experience]],vlookUpExp!$A$1:$B$56,2,FALSE))","v":"6-10"}]
[null,"ID1125","2012-05-28T17:38:46",210000,210000,"INR",{"$f":"tblSalaries[[#This Row],[clean Salary (in local currency)]]*VLOOKUP(tblSalaries[[#This Row],[Currency]],tblXrate[],2,FALSE)","v":3739.6625043629392},{"$f":"IF($H$1=\"USD\",tblSalaries[[#This Row],[Salary in USD]],tblSalaries[[#This Row],[Salary in USD]]*VLOOKUP($H$1,USDtoUserChoice,2,FALSE))","v":30672.637067534743},"information Analyst","Analyst","India",{"$f":"VLOOKUP(tblSalaries[[#This Row],[Where do you work]],tblCountries[[Actual]:[Mapping]],2,FALSE)","v":"India"},"All the 8 hours baby, all the 8!",1,{"$f":"IF(ISNA(VLOOKUP(tblSalaries[[#This Row],[Years of Experience]],vlookUpExp!$A$1:$B$56,2,FALSE)),\"No Response\",VLOOKUP(tblSalaries[[#This Row],[Years of Experience]],vlookUpExp!$A$1:$B$56,2,FALSE))","v":"0-5"}]
[null,"ID1126","2012-05-28T17:42:11",5000,60000,"EUR",{"$f":"tblSalaries[[#This Row],[clean Salary (in local currency)]]*VLOOKUP(tblSalaries[[#This Row],[Currency]],tblXrate[],2,FALSE)","v":76223.966339496474},{"$f":"IF($H$1=\"USD\",tblSalaries[[#This Row],[Salary in USD]],tblSalaries[[#This Row],[Salary in USD]]*VLOOKUP($H$1,USDtoUserChoice,2,FALSE))","v":625187.4474372234},"Development Manager","Manager","Finland",{"$f":"VLOOKUP(tblSalaries[[#This Row],[Where do you work]],tblCountries[[Actual]:[Mapping]],2,FALSE)","v":"Finland"},"1 or 2 hours a day",4,{"$f":"IF(ISNA(VLOOKUP(tblSalaries[[#This Row],[Years of Experience]],vlookUpExp!$A$1:$B$56,2,FALSE)),\"No Response\",VLOOKUP(tblSalaries[[#This Row],[Years of Experience]],vlookUpExp!$A$1:$B$56,2,FALSE))","v":"0-5"}]
[null,"ID1127","2012-05-28T17:42:22","AED 120000",120000,"AED",{"$f":"tblSalaries[[#This Row],[clean Salary (in local currency)]]*VLOOKUP(tblSalaries[[#This Row],[Currency]],tblXrate[],2,FALSE)","v":32666.305522511171},{"$f":"IF($H$1=\"USD\",tblSalaries[[#This Row],[Salary in USD]],tblSalaries[[#This Row],[Salary in USD]]*VLOOKUP($H$1,USDtoUserChoice,2,FALSE))","v":267928.38456952618},"Finance Manager","Manager","UAE",{"$f":"VLOOKUP(tblSalaries[[#This Row],[Where do you work]],tblCountries[[Actual]:[Mapping]],2,FALSE)","v":"UAE"},"2 to 3 hours per day",12,{"$f":"IF(ISNA(VLOOKUP(tblSalaries[[#This Row],[Years of Experience]],vlookUpExp!$A$1:$B$56,2,FALSE)),\"No Response\",VLOOKUP(tblSalaries[[#This Row],[Years of Experience]],vlookUpExp!$A$1:$B$56,2,FALSE))","v":"11-15"}]
[null,"ID1128","2012-05-28T17:42:51",19000,19000,"USD",{"$f":"tblSalaries[[#This Row],[clean Salary (in local currency)]]*VLOOKUP(tblSalaries[[#This Row],[Currency]],tblXrate[],2,FALSE)","v":19000},{"$f":"IF($H$1=\"USD\",tblSalaries[[#This Row],[Salary in USD]],tblSalaries[[#This Row],[Salary in USD]]*VLOOKUP($H$1,USDtoUserChoice,2,FALSE))","v":155837.62000000002},"MI Specialist","Reporting","UK",{"$f":"VLOOKUP(tblSalaries[[#This Row],[Where do you work]],tblCountries[[Actual]:[Mapping]],2,FALSE)","v":"UK"},"All the 8 hours baby, all the 8!",8,{"$f":"IF(ISNA(VLOOKUP(tblSalaries[[#This Row],[Years of Experience]],vlookUpExp!$A$1:$B$56,2,FALSE)),\"No Response\",VLOOKUP(tblSalaries[[#This Row],[Years of Experience]],vlookUpExp!$A$1:$B$56,2,FALSE))","v":"6-10"}]
[null,"ID1129","2012-05-28T17:42:57",50000,50000,"EUR",{"$f":"tblSalaries[[#This Row],[clean Salary (in local currency)]]*VLOOKUP(tblSalaries[[#This Row],[Currency]],tblXrate[],2,FALSE)","v":63519.971949580387},{"$f":"IF($H$1=\"USD\",tblSalaries[[#This Row],[Salary in USD]],tblSalaries[[#This Row],[Salary in USD]]*VLOOKUP($H$1,USDtoUserChoice,2,FALSE))","v":520989.5395310194},"Network Enginer","Engineer","Portugal",{"$f":"VLOOKUP(tblSalaries[[#This Row],[Where do you work]],tblCountries[[Actual]:[Mapping]],2,FALSE)","v":"Portugal"},"2 to 3 hours per day",14,{"$f":"IF(ISNA(VLOOKUP(tblSalaries[[#This Row],[Years of Experience]],vlookUpExp!$A$1:$B$56,2,FALSE)),\"No Response\",VLOOKUP(tblSalaries[[#This Row],[Years of Experience]],vlookUpExp!$A$1:$B$56,2,FALSE))","v":"11-15"}]
[null,"ID1130","2012-05-28T17:53:43","Rs. 900000",900000,"INR",{"$f":"tblSalaries[[#This Row],[clean Salary (in local currency)]]*VLOOKUP(tblSalaries[[#This Row],[Currency]],tblXrate[],2,FALSE)","v":16027.125018698311},{"$f":"IF($H$1=\"USD\",tblSalaries[[#This Row],[Salary in USD]],tblSalaries[[#This Row],[Salary in USD]]*VLOOKUP($H$1,USDtoUserChoice,2,FALSE))","v":131454.15886086319},"officer","Manager","India",{"$f":"VLOOKUP(tblSalaries[[#This Row],[Where do you work]],tblCountries[[Actual]:[Mapping]],2,FALSE)","v":"India"},"4 to 6 hours a day",22,{"$f":"IF(ISNA(VLOOKUP(tblSalaries[[#This Row],[Years of Experience]],vlookUpExp!$A$1:$B$56,2,FALSE)),\"No Response\",VLOOKUP(tblSalaries[[#This Row],[Years of Experience]],vlookUpExp!$A$1:$B$56,2,FALSE))","v":"21-25"}]
[null,"ID1131","2012-05-28T18:02:44","4,00,000",400000,"INR",{"$f":"tblSalaries[[#This Row],[clean Salary (in local currency)]]*VLOOKUP(tblSalaries[[#This Row],[Currency]],tblXrate[],2,FALSE)","v":7123.1666749770275},{"$f":"IF($H$1=\"USD\",tblSalaries[[#This Row],[Salary in USD]],tblSalaries[[#This Row],[Salary in USD]]*VLOOKUP($H$1,USDtoUserChoice,2,FALSE))","v":58424.070604828084},"Sr. Team Lead - MIS","Reporting","India",{"$f":"VLOOKUP(tblSalaries[[#This Row],[Where do you work]],tblCountries[[Actual]:[Mapping]],2,FALSE)","v":"India"},"4 to 6 hours a day",9,{"$f":"IF(ISNA(VLOOKUP(tblSalaries[[#This Row],[Years of Experience]],vlookUpExp!$A$1:$B$56,2,FALSE)),\"No Response\",VLOOKUP(tblSalaries[[#This Row],[Years of Experience]],vlookUpExp!$A$1:$B$56,2,FALSE))","v":"6-10"}]
[null,"ID1132","2012-05-28T18:05:13",150252,150252,"INR",{"$f":"tblSalaries[[#This Row],[clean Salary (in local currency)]]*VLOOKUP(tblSalaries[[#This Row],[Currency]],tblXrate[],2,FALSE)","v":2675.675098121621},{"$f":"IF($H$1=\"USD\",tblSalaries[[#This Row],[Salary in USD]],tblSalaries[[#This Row],[Salary in USD]]*VLOOKUP($H$1,USDtoUserChoice,2,FALSE))","v":21945.833641291574},"KEY","Manager","India",{"$f":"VLOOKUP(tblSalaries[[#This Row],[Where do you work]],tblCountries[[Actual]:[Mapping]],2,FALSE)","v":"India"},"2 to 3 hours per day",5,{"$f":"IF(ISNA(VLOOKUP(tblSalaries[[#This Row],[Years of Experience]],vlookUpExp!$A$1:$B$56,2,FALSE)),\"No Response\",VLOOKUP(tblSalaries[[#This Row],[Years of Experience]],vlookUpExp!$A$1:$B$56,2,FALSE))","v":"0-5"}]
[null,"ID1133","2012-05-28T18:05:16","Â£15000",15000,"GBP",{"$f":"tblSalaries[[#This Row],[clean Salary (in local currency)]]*VLOOKUP(tblSalaries[[#This Row],[Currency]],tblXrate[],2,FALSE)","v":23642.674081009263},{"$f":"IF($H$1=\"USD\",tblSalaries[[#This Row],[Salary in USD]],tblSalaries[[#This Row],[Salary in USD]]*VLOOKUP($H$1,USDtoUserChoice,2,FALSE))","v":193916.73995895637},"MI Specialist","Reporting","UK",{"$f":"VLOOKUP(tblSalaries[[#This Row],[Where do you work]],tblCountries[[Actual]:[Mapping]],2,FALSE)","v":"UK"},"All the 8 hours baby, all the 8!",2,{"$f":"IF(ISNA(VLOOKUP(tblSalaries[[#This Row],[Years of Experience]],vlookUpExp!$A$1:$B$56,2,FALSE)),\"No Response\",VLOOKUP(tblSalaries[[#This Row],[Years of Experience]],vlookUpExp!$A$1:$B$56,2,FALSE))","v":"0-5"}]
[null,"ID1134","2012-05-28T18:11:36","â‚¬ 45000",45000,"EUR",{"$f":"tblSalaries[[#This Row],[clean Salary (in local currency)]]*VLOOKUP(tblSalaries[[#This Row],[Currency]],tblXrate[],2,FALSE)","v":57167.974754622352},{"$f":"IF($H$1=\"USD\",tblSalaries[[#This Row],[Salary in USD]],tblSalaries[[#This Row],[Salary in USD]]*VLOOKUP($H$1,USDtoUserChoice,2,FALSE))","v":468890.58557791746},"Sales Planning","Manager","Spain",{"$f":"VLOOKUP(tblSalaries[[#This Row],[Where do you work]],tblCountries[[Actual]:[Mapping]],2,FALSE)","v":"Spain"},"4 to 6 hours a day",14,{"$f":"IF(ISNA(VLOOKUP(tblSalaries[[#This Row],[Years of Experience]],vlookUpExp!$A$1:$B$56,2,FALSE)),\"No Response\",VLOOKUP(tblSalaries[[#This Row],[Years of Experience]],vlookUpExp!$A$1:$B$56,2,FALSE))","v":"11-15"}]
[null,"ID1135","2012-05-28T18:30:51","Rs 2400000",2400000,"INR",{"$f":"tblSalaries[[#This Row],[clean Salary (in local currency)]]*VLOOKUP(tblSalaries[[#This Row],[Currency]],tblXrate[],2,FALSE)","v":42739.000049862167},{"$f":"IF($H$1=\"USD\",tblSalaries[[#This Row],[Salary in USD]],tblSalaries[[#This Row],[Salary in USD]]*VLOOKUP($H$1,USDtoUserChoice,2,FALSE))","v":350544.42362896854},"GM Finance","Manager","India",{"$f":"VLOOKUP(tblSalaries[[#This Row],[Where do you work]],tblCountries[[Actual]:[Mapping]],2,FALSE)","v":"India"},"All the 8 hours baby, all the 8!",10,{"$f":"IF(ISNA(VLOOKUP(tblSalaries[[#This Row],[Years of Experience]],vlookUpExp!$A$1:$B$56,2,FALSE)),\"No Response\",VLOOKUP(tblSalaries[[#This Row],[Years of Experience]],vlookUpExp!$A$1:$B$56,2,FALSE))","v":"6-10"}]
[null,"ID1136","2012-05-28T18:34:12","PhP 216,000",216000,"PHP",{"$f":"tblSalaries[[#This Row],[clean Salary (in local currency)]]*VLOOKUP(tblSalaries[[#This Row],[Currency]],tblXrate[],2,FALSE)","v":5120.2912876821438},{"$f":"IF($H$1=\"USD\",tblSalaries[[#This Row],[Salary in USD]],tblSalaries[[#This Row],[Salary in USD]]*VLOOKUP($H$1,USDtoUserChoice,2,FALSE))","v":41996.526735743195},"Planner","Manager","Philippines",{"$f":"VLOOKUP(tblSalaries[[#This Row],[Where do you work]],tblCountries[[Actual]:[Mapping]],2,FALSE)","v":"Philippines"},"4 to 6 hours a day",2,{"$f":"IF(ISNA(VLOOKUP(tblSalaries[[#This Row],[Years of Experience]],vlookUpExp!$A$1:$B$56,2,FALSE)),\"No Response\",VLOOKUP(tblSalaries[[#This Row],[Years of Experience]],vlookUpExp!$A$1:$B$56,2,FALSE))","v":"0-5"}]
[null,"ID1137","2012-05-28T18:38:06",100000,100000,"EUR",{"$f":"tblSalaries[[#This Row],[clean Salary (in local currency)]]*VLOOKUP(tblSalaries[[#This Row],[Currency]],tblXrate[],2,FALSE)","v":127039.94389916077},{"$f":"IF($H$1=\"USD\",tblSalaries[[#This Row],[Salary in USD]],tblSalaries[[#This Row],[Salary in USD]]*VLOOKUP($H$1,USDtoUserChoice,2,FALSE))","v":1041979.0790620388},"Finance Director","CXO or Top Mgmt.","Spain",{"$f":"VLOOKUP(tblSalaries[[#This Row],[Where do you work]],tblCountries[[Actual]:[Mapping]],2,FALSE)","v":"Spain"},"1 or 2 hours a day",20,{"$f":"IF(ISNA(VLOOKUP(tblSalaries[[#This Row],[Years of Experience]],vlookUpExp!$A$1:$B$56,2,FALSE)),\"No Response\",VLOOKUP(tblSalaries[[#This Row],[Years of Experience]],vlookUpExp!$A$1:$B$56,2,FALSE))","v":"16-20"}]
[null,"ID1138","2012-05-28T18:39:19",90000,90000,"USD",{"$f":"tblSalaries[[#This Row],[clean Salary (in local currency)]]*VLOOKUP(tblSalaries[[#This Row],[Currency]],tblXrate[],2,FALSE)","v":90000},{"$f":"IF($H$1=\"USD\",tblSalaries[[#This Row],[Salary in USD]],tblSalaries[[#This Row],[Salary in USD]]*VLOOKUP($H$1,USDtoUserChoice,2,FALSE))","v":738178.20000000007},"Performance manager","Manager","USA",{"$f":"VLOOKUP(tblSalaries[[#This Row],[Where do you work]],tblCountries[[Actual]:[Mapping]],2,FALSE)","v":"USA"},"4 to 6 hours a day",5,{"$f":"IF(ISNA(VLOOKUP(tblSalaries[[#This Row],[Years of Experience]],vlookUpExp!$A$1:$B$56,2,FALSE)),\"No Response\",VLOOKUP(tblSalaries[[#This Row],[Years of Experience]],vlookUpExp!$A$1:$B$56,2,FALSE))","v":"0-5"}]
[null,"ID1139","2012-05-28T18:40:08",400000,400000,"INR",{"$f":"tblSalaries[[#This Row],[clean Salary (in local currency)]]*VLOOKUP(tblSalaries[[#This Row],[Currency]],tblXrate[],2,FALSE)","v":7123.1666749770275},{"$f":"IF($H$1=\"USD\",tblSalaries[[#This Row],[Salary in USD]],tblSalaries[[#This Row],[Salary in USD]]*VLOOKUP($H$1,USDtoUserChoice,2,FALSE))","v":58424.070604828084},"software engineer","Engineer","India",{"$f":"VLOOKUP(tblSalaries[[#This Row],[Where do you work]],tblCountries[[Actual]:[Mapping]],2,FALSE)","v":"India"},"1 or 2 hours a day",2,{"$f":"IF(ISNA(VLOOKUP(tblSalaries[[#This Row],[Years of Experience]],vlookUpExp!$A$1:$B$56,2,FALSE)),\"No Response\",VLOOKUP(tblSalaries[[#This Row],[Years of Experience]],vlookUpExp!$A$1:$B$56,2,FALSE))","v":"0-5"}]
[null,"ID1140","2012-05-28T18:45:00",10000,10000,"USD",{"$f":"tblSalaries[[#This Row],[clean Salary (in local currency)]]*VLOOKUP(tblSalaries[[#This Row],[Currency]],tblXrate[],2,FALSE)","v":10000},{"$f":"IF($H$1=\"USD\",tblSalaries[[#This Row],[Salary in USD]],tblSalaries[[#This Row],[Salary in USD]]*VLOOKUP($H$1,USDtoUserChoice,2,FALSE))","v":82019.8},"Business analyst","Analyst","India",{"$f":"VLOOKUP(tblSalaries[[#This Row],[Where do you work]],tblCountries[[Actual]:[Mapping]],2,FALSE)","v":"India"},"2 to 3 hours per day",5,{"$f":"IF(ISNA(VLOOKUP(tblSalaries[[#This Row],[Years of Experience]],vlookUpExp!$A$1:$B$56,2,FALSE)),\"No Response\",VLOOKUP(tblSalaries[[#This Row],[Years of Experience]],vlookUpExp!$A$1:$B$56,2,FALSE))","v":"0-5"}]
[null,"ID1141","2012-05-28T18:50:35",29000,29000,"GBP",{"$f":"tblSalaries[[#This Row],[clean Salary (in local currency)]]*VLOOKUP(tblSalaries[[#This Row],[Currency]],tblXrate[],2,FALSE)","v":45709.169889951241},{"$f":"IF($H$1=\"USD\",tblSalaries[[#This Row],[Salary in USD]],tblSalaries[[#This Row],[Salary in USD]]*VLOOKUP($H$1,USDtoUserChoice,2,FALSE))","v":374905.6972539823},"Financial Analyst","Analyst","UK",{"$f":"VLOOKUP(tblSalaries[[#This Row],[Where do you work]],tblCountries[[Actual]:[Mapping]],2,FALSE)","v":"UK"},"4 to 6 hours a day",14,{"$f":"IF(ISNA(VLOOKUP(tblSalaries[[#This Row],[Years of Experience]],vlookUpExp!$A$1:$B$56,2,FALSE)),\"No Response\",VLOOKUP(tblSalaries[[#This Row],[Years of Experience]],vlookUpExp!$A$1:$B$56,2,FALSE))","v":"11-15"}]
[null,"ID1142","2012-05-28T19:05:22","200000 rupees",200000,"INR",{"$f":"tblSalaries[[#This Row],[clean Salary (in local currency)]]*VLOOKUP(tblSalaries[[#This Row],[Currency]],tblXrate[],2,FALSE)","v":3561.5833374885137},{"$f":"IF($H$1=\"USD\",tblSalaries[[#This Row],[Salary in USD]],tblSalaries[[#This Row],[Salary in USD]]*VLOOKUP($H$1,USDtoUserChoice,2,FALSE))","v":29212.035302414042},"MIS Sr. Executive","Reporting","India",{"$f":"VLOOKUP(tblSalaries[[#This Row],[Where do you work]],tblCountries[[Actual]:[Mapping]],2,FALSE)","v":"India"},"All the 8 hours baby, all the 8!",5,{"$f":"IF(ISNA(VLOOKUP(tblSalaries[[#This Row],[Years of Experience]],vlookUpExp!$A$1:$B$56,2,FALSE)),\"No Response\",VLOOKUP(tblSalaries[[#This Row],[Years of Experience]],vlookUpExp!$A$1:$B$56,2,FALSE))","v":"0-5"}]
[null,"ID1143","2012-05-28T19:09:37",30000,30000,"EUR",{"$f":"tblSalaries[[#This Row],[clean Salary (in local currency)]]*VLOOKUP(tblSalaries[[#This Row],[Currency]],tblXrate[],2,FALSE)","v":38111.983169748237},{"$f":"IF($H$1=\"USD\",tblSalaries[[#This Row],[Salary in USD]],tblSalaries[[#This Row],[Salary in USD]]*VLOOKUP($H$1,USDtoUserChoice,2,FALSE))","v":312593.7237186117},"Translator","Analyst","Belgium",{"$f":"VLOOKUP(tblSalaries[[#This Row],[Where do you work]],tblCountries[[Actual]:[Mapping]],2,FALSE)","v":"Belgium"},"1 or 2 hours a day",15,{"$f":"IF(ISNA(VLOOKUP(tblSalaries[[#This Row],[Years of Experience]],vlookUpExp!$A$1:$B$56,2,FALSE)),\"No Response\",VLOOKUP(tblSalaries[[#This Row],[Years of Experience]],vlookUpExp!$A$1:$B$56,2,FALSE))","v":"11-15"}]
[null,"ID1144","2012-05-28T19:19:51",5000,60000,"USD",{"$f":"tblSalaries[[#This Row],[clean Salary (in local currency)]]*VLOOKUP(tblSalaries[[#This Row],[Currency]],tblXrate[],2,FALSE)","v":60000},{"$f":"IF($H$1=\"USD\",tblSalaries[[#This Row],[Salary in USD]],tblSalaries[[#This Row],[Salary in USD]]*VLOOKUP($H$1,USDtoUserChoice,2,FALSE))","v":492118.80000000005},"Business Anaylyst","Analyst","USA",{"$f":"VLOOKUP(tblSalaries[[#This Row],[Where do you work]],tblCountries[[Actual]:[Mapping]],2,FALSE)","v":"USA"},"2 to 3 hours per day",4,{"$f":"IF(ISNA(VLOOKUP(tblSalaries[[#This Row],[Years of Experience]],vlookUpExp!$A$1:$B$56,2,FALSE)),\"No Response\",VLOOKUP(tblSalaries[[#This Row],[Years of Experience]],vlookUpExp!$A$1:$B$56,2,FALSE))","v":"0-5"}]
[null,"ID1145","2012-05-28T19:23:29",40000,40000,"USD",{"$f":"tblSalaries[[#This Row],[clean Salary (in local currency)]]*VLOOKUP(tblSalaries[[#This Row],[Currency]],tblXrate[],2,FALSE)","v":40000},{"$f":"IF($H$1=\"USD\",tblSalaries[[#This Row],[Salary in USD]],tblSalaries[[#This Row],[Salary in USD]]*VLOOKUP($H$1,USDtoUserChoice,2,FALSE))","v":328079.2},"Engineer","Engineer","India",{"$f":"VLOOKUP(tblSalaries[[#This Row],[Where do you work]],tblCountries[[Actual]:[Mapping]],2,FALSE)","v":"India"},"2 to 3 hours per day",2,{"$f":"IF(ISNA(VLOOKUP(tblSalaries[[#This Row],[Years of Experience]],vlookUpExp!$A$1:$B$56,2,FALSE)),\"No Response\",VLOOKUP(tblSalaries[[#This Row],[Years of Experience]],vlookUpExp!$A$1:$B$56,2,FALSE))","v":"0-5"}]
[null,"ID1146","2012-05-28T19:25:04","INR 853000",853000,"INR",{"$f":"tblSalaries[[#This Row],[clean Salary (in local currency)]]*VLOOKUP(tblSalaries[[#This Row],[Currency]],tblXrate[],2,FALSE)","v":15190.15293438851},{"$f":"IF($H$1=\"USD\",tblSalaries[[#This Row],[Salary in USD]],tblSalaries[[#This Row],[Salary in USD]]*VLOOKUP($H$1,USDtoUserChoice,2,FALSE))","v":124589.33056479589},"Lead Research Analyst","Analyst","India",{"$f":"VLOOKUP(tblSalaries[[#This Row],[Where do you work]],tblCountries[[Actual]:[Mapping]],2,FALSE)","v":"India"},"2 to 3 hours per day",6,{"$f":"IF(ISNA(VLOOKUP(tblSalaries[[#This Row],[Years of Experience]],vlookUpExp!$A$1:$B$56,2,FALSE)),\"No Response\",VLOOKUP(tblSalaries[[#This Row],[Years of Experience]],vlookUpExp!$A$1:$B$56,2,FALSE))","v":"6-10"}]
[null,"ID1147","2012-05-28T19:25:35",90000,90000,"EUR",{"$f":"tblSalaries[[#This Row],[clean Salary (in local currency)]]*VLOOKUP(tblSalaries[[#This Row],[Currency]],tblXrate[],2,FALSE)","v":114335.9495092447},{"$f":"IF($H$1=\"USD\",tblSalaries[[#This Row],[Salary in USD]],tblSalaries[[#This Row],[Salary in USD]]*VLOOKUP($H$1,USDtoUserChoice,2,FALSE))","v":937781.17115583492},"Management Information Manager","Manager","Continental Europe",{"$f":"VLOOKUP(tblSalaries[[#This Row],[Where do you work]],tblCountries[[Actual]:[Mapping]],2,FALSE)","v":"CEE"},"2 to 3 hours per day",20,{"$f":"IF(ISNA(VLOOKUP(tblSalaries[[#This Row],[Years of Experience]],vlookUpExp!$A$1:$B$56,2,FALSE)),\"No Response\",VLOOKUP(tblSalaries[[#This Row],[Years of Experience]],vlookUpExp!$A$1:$B$56,2,FALSE))","v":"16-20"}]
[null,"ID1148","2012-05-28T19:32:15","Â£23000",23000,"GBP",{"$f":"tblSalaries[[#This Row],[clean Salary (in local currency)]]*VLOOKUP(tblSalaries[[#This Row],[Currency]],tblXrate[],2,FALSE)","v":36252.100257547536},{"$f":"IF($H$1=\"USD\",tblSalaries[[#This Row],[Salary in USD]],tblSalaries[[#This Row],[Salary in USD]]*VLOOKUP($H$1,USDtoUserChoice,2,FALSE))","v":297339.00127039978},"Data Management Officer","Manager","UK",{"$f":"VLOOKUP(tblSalaries[[#This Row],[Where do you work]],tblCountries[[Actual]:[Mapping]],2,FALSE)","v":"UK"},"4 to 6 hours a day",10,{"$f":"IF(ISNA(VLOOKUP(tblSalaries[[#This Row],[Years of Experience]],vlookUpExp!$A$1:$B$56,2,FALSE)),\"No Response\",VLOOKUP(tblSalaries[[#This Row],[Years of Experience]],vlookUpExp!$A$1:$B$56,2,FALSE))","v":"6-10"}]
[null,"ID1149","2012-05-28T19:53:14","Â£30000",30000,"GBP",{"$f":"tblSalaries[[#This Row],[clean Salary (in local currency)]]*VLOOKUP(tblSalaries[[#This Row],[Currency]],tblXrate[],2,FALSE)","v":47285.348162018527},{"$f":"IF($H$1=\"USD\",tblSalaries[[#This Row],[Salary in USD]],tblSalaries[[#This Row],[Salary in USD]]*VLOOKUP($H$1,USDtoUserChoice,2,FALSE))","v":387833.47991791274},"Reporting Accountant","Accountant","UK",{"$f":"VLOOKUP(tblSalaries[[#This Row],[Where do you work]],tblCountries[[Actual]:[Mapping]],2,FALSE)","v":"UK"},"2 to 3 hours per day",5,{"$f":"IF(ISNA(VLOOKUP(tblSalaries[[#This Row],[Years of Experience]],vlookUpExp!$A$1:$B$56,2,FALSE)),\"No Response\",VLOOKUP(tblSalaries[[#This Row],[Years of Experience]],vlookUpExp!$A$1:$B$56,2,FALSE))","v":"0-5"}]
[null,"ID1150","2012-05-28T20:05:20","â‚¬70k",70000,"EUR",{"$f":"tblSalaries[[#This Row],[clean Salary (in local currency)]]*VLOOKUP(tblSalaries[[#This Row],[Currency]],tblXrate[],2,FALSE)","v":88927.960729412545},{"$f":"IF($H$1=\"USD\",tblSalaries[[#This Row],[Salary in USD]],tblSalaries[[#This Row],[Salary in USD]]*VLOOKUP($H$1,USDtoUserChoice,2,FALSE))","v":729385.35534342716},"Construction Planner","Consultant","Ireland",{"$f":"VLOOKUP(tblSalaries[[#This Row],[Where do you work]],tblCountries[[Actual]:[Mapping]],2,FALSE)","v":"Ireland"},"2 to 3 hours per day",20,{"$f":"IF(ISNA(VLOOKUP(tblSalaries[[#This Row],[Years of Experience]],vlookUpExp!$A$1:$B$56,2,FALSE)),\"No Response\",VLOOKUP(tblSalaries[[#This Row],[Years of Experience]],vlookUpExp!$A$1:$B$56,2,FALSE))","v":"16-20"}]
[null,"ID1151","2012-05-28T20:19:57",6000,6000,"USD",{"$f":"tblSalaries[[#This Row],[clean Salary (in local currency)]]*VLOOKUP(tblSalaries[[#This Row],[Currency]],tblXrate[],2,FALSE)","v":6000},{"$f":"IF($H$1=\"USD\",tblSalaries[[#This Row],[Salary in USD]],tblSalaries[[#This Row],[Salary in USD]]*VLOOKUP($H$1,USDtoUserChoice,2,FALSE))","v":49211.880000000005},"Assistant Accountant","Accountant","Zambia",{"$f":"VLOOKUP(tblSalaries[[#This Row],[Where do you work]],tblCountries[[Actual]:[Mapping]],2,FALSE)","v":"Zambia"},"All the 8 hours baby, all the 8!",5,{"$f":"IF(ISNA(VLOOKUP(tblSalaries[[#This Row],[Years of Experience]],vlookUpExp!$A$1:$B$56,2,FALSE)),\"No Response\",VLOOKUP(tblSalaries[[#This Row],[Years of Experience]],vlookUpExp!$A$1:$B$56,2,FALSE))","v":"0-5"}]
[null,"ID1152","2012-05-28T20:20:54",35000,35000,"USD",{"$f":"tblSalaries[[#This Row],[clean Salary (in local currency)]]*VLOOKUP(tblSalaries[[#This Row],[Currency]],tblXrate[],2,FALSE)","v":35000},{"$f":"IF($H$1=\"USD\",tblSalaries[[#This Row],[Salary in USD]],tblSalaries[[#This Row],[Salary in USD]]*VLOOKUP($H$1,USDtoUserChoice,2,FALSE))","v":287069.30000000005},"BI Analyst","Analyst","USA",{"$f":"VLOOKUP(tblSalaries[[#This Row],[Where do you work]],tblCountries[[Actual]:[Mapping]],2,FALSE)","v":"USA"},"All the 8 hours baby, all the 8!",20,{"$f":"IF(ISNA(VLOOKUP(tblSalaries[[#This Row],[Years of Experience]],vlookUpExp!$A$1:$B$56,2,FALSE)),\"No Response\",VLOOKUP(tblSalaries[[#This Row],[Years of Experience]],vlookUpExp!$A$1:$B$56,2,FALSE))","v":"16-20"}]
[null,"ID1153","2012-05-28T20:35:30","Â£35000",35000,"GBP",{"$f":"tblSalaries[[#This Row],[clean Salary (in local currency)]]*VLOOKUP(tblSalaries[[#This Row],[Currency]],tblXrate[],2,FALSE)","v":55166.239522354947},{"$f":"IF($H$1=\"USD\",tblSalaries[[#This Row],[Salary in USD]],tblSalaries[[#This Row],[Salary in USD]]*VLOOKUP($H$1,USDtoUserChoice,2,FALSE))","v":452472.39323756489},"MI Analyst","Analyst","UK",{"$f":"VLOOKUP(tblSalaries[[#This Row],[Where do you work]],tblCountries[[Actual]:[Mapping]],2,FALSE)","v":"UK"},"4 to 6 hours a day",10,{"$f":"IF(ISNA(VLOOKUP(tblSalaries[[#This Row],[Years of Experience]],vlookUpExp!$A$1:$B$56,2,FALSE)),\"No Response\",VLOOKUP(tblSalaries[[#This Row],[Years of Experience]],vlookUpExp!$A$1:$B$56,2,FALSE))","v":"6-10"}]
[null,"ID1154","2012-05-28T20:43:31",168000,168000,"PKR",{"$f":"tblSalaries[[#This Row],[clean Salary (in local currency)]]*VLOOKUP(tblSalaries[[#This Row],[Currency]],tblXrate[],2,FALSE)","v":1783.166904422254},{"$f":"IF($H$1=\"USD\",tblSalaries[[#This Row],[Salary in USD]],tblSalaries[[#This Row],[Salary in USD]]*VLOOKUP($H$1,USDtoUserChoice,2,FALSE))","v":14625.49928673324},"Accounts Assistant","Accountant","Pakistan",{"$f":"VLOOKUP(tblSalaries[[#This Row],[Where do you work]],tblCountries[[Actual]:[Mapping]],2,FALSE)","v":"Pakistan"},"4 to 6 hours a day",10,{"$f":"IF(ISNA(VLOOKUP(tblSalaries[[#This Row],[Years of Experience]],vlookUpExp!$A$1:$B$56,2,FALSE)),\"No Response\",VLOOKUP(tblSalaries[[#This Row],[Years of Experience]],vlookUpExp!$A$1:$B$56,2,FALSE))","v":"6-10"}]
[null,"ID1155","2012-05-28T20:45:35",13.5,13500,"USD",{"$f":"tblSalaries[[#This Row],[clean Salary (in local currency)]]*VLOOKUP(tblSalaries[[#This Row],[Currency]],tblXrate[],2,FALSE)","v":13500},{"$f":"IF($H$1=\"USD\",tblSalaries[[#This Row],[Salary in USD]],tblSalaries[[#This Row],[Salary in USD]]*VLOOKUP($H$1,USDtoUserChoice,2,FALSE))","v":110726.73000000001},"Project manager","Manager","Montenegro",{"$f":"VLOOKUP(tblSalaries[[#This Row],[Where do you work]],tblCountries[[Actual]:[Mapping]],2,FALSE)","v":"Montenegro"},"4 to 6 hours a day",13,{"$f":"IF(ISNA(VLOOKUP(tblSalaries[[#This Row],[Years of Experience]],vlookUpExp!$A$1:$B$56,2,FALSE)),\"No Response\",VLOOKUP(tblSalaries[[#This Row],[Years of Experience]],vlookUpExp!$A$1:$B$56,2,FALSE))","v":"11-15"}]
[null,"ID1156","2012-05-28T20:51:37","Â£37500",37500,"GBP",{"$f":"tblSalaries[[#This Row],[clean Salary (in local currency)]]*VLOOKUP(tblSalaries[[#This Row],[Currency]],tblXrate[],2,FALSE)","v":59106.685202523156},{"$f":"IF($H$1=\"USD\",tblSalaries[[#This Row],[Salary in USD]],tblSalaries[[#This Row],[Salary in USD]]*VLOOKUP($H$1,USDtoUserChoice,2,FALSE))","v":484791.84989739093},"Corporate Finance Executive","Accountant","UK",{"$f":"VLOOKUP(tblSalaries[[#This Row],[Where do you work]],tblCountries[[Actual]:[Mapping]],2,FALSE)","v":"UK"},"2 to 3 hours per day",5,{"$f":"IF(ISNA(VLOOKUP(tblSalaries[[#This Row],[Years of Experience]],vlookUpExp!$A$1:$B$56,2,FALSE)),\"No Response\",VLOOKUP(tblSalaries[[#This Row],[Years of Experience]],vlookUpExp!$A$1:$B$56,2,FALSE))","v":"0-5"}]
[null,"ID1157","2012-05-28T20:54:29","Rs. 59,000 (Per Month)",708000,"INR",{"$f":"tblSalaries[[#This Row],[clean Salary (in local currency)]]*VLOOKUP(tblSalaries[[#This Row],[Currency]],tblXrate[],2,FALSE)","v":12608.005014709339},{"$f":"IF($H$1=\"USD\",tblSalaries[[#This Row],[Salary in USD]],tblSalaries[[#This Row],[Salary in USD]]*VLOOKUP($H$1,USDtoUserChoice,2,FALSE))","v":103410.60497054571},"Manager-Operation","Manager","India",{"$f":"VLOOKUP(tblSalaries[[#This Row],[Where do you work]],tblCountries[[Actual]:[Mapping]],2,FALSE)","v":"India"},"4 to 6 hours a day",5,{"$f":"IF(ISNA(VLOOKUP(tblSalaries[[#This Row],[Years of Experience]],vlookUpExp!$A$1:$B$56,2,FALSE)),\"No Response\",VLOOKUP(tblSalaries[[#This Row],[Years of Experience]],vlookUpExp!$A$1:$B$56,2,FALSE))","v":"0-5"}]
[null,"ID1158","2012-05-28T21:14:25","R366252",366252,"ZAR",{"$f":"tblSalaries[[#This Row],[clean Salary (in local currency)]]*VLOOKUP(tblSalaries[[#This Row],[Currency]],tblXrate[],2,FALSE)","v":44654.095718350931},{"$f":"IF($H$1=\"USD\",tblSalaries[[#This Row],[Salary in USD]],tblSalaries[[#This Row],[Salary in USD]]*VLOOKUP($H$1,USDtoUserChoice,2,FALSE))","v":366252},"Accountant","Accountant","South Africa",{"$f":"VLOOKUP(tblSalaries[[#This Row],[Where do you work]],tblCountries[[Actual]:[Mapping]],2,FALSE)","v":"South Africa"},"All the 8 hours baby, all the 8!",15,{"$f":"IF(ISNA(VLOOKUP(tblSalaries[[#This Row],[Years of Experience]],vlookUpExp!$A$1:$B$56,2,FALSE)),\"No Response\",VLOOKUP(tblSalaries[[#This Row],[Years of Experience]],vlookUpExp!$A$1:$B$56,2,FALSE))","v":"11-15"}]
[null,"ID1159","2012-05-28T21:17:04",69000,69000,"USD",{"$f":"tblSalaries[[#This Row],[clean Salary (in local currency)]]*VLOOKUP(tblSalaries[[#This Row],[Currency]],tblXrate[],2,FALSE)","v":69000},{"$f":"IF($H$1=\"USD\",tblSalaries[[#This Row],[Salary in USD]],tblSalaries[[#This Row],[Salary in USD]]*VLOOKUP($H$1,USDtoUserChoice,2,FALSE))","v":565936.62},"Financial Analysist","Analyst","USA",{"$f":"VLOOKUP(tblSalaries[[#This Row],[Where do you work]],tblCountries[[Actual]:[Mapping]],2,FALSE)","v":"USA"},"2 to 3 hours per day",20,{"$f":"IF(ISNA(VLOOKUP(tblSalaries[[#This Row],[Years of Experience]],vlookUpExp!$A$1:$B$56,2,FALSE)),\"No Response\",VLOOKUP(tblSalaries[[#This Row],[Years of Experience]],vlookUpExp!$A$1:$B$56,2,FALSE))","v":"16-20"}]
[null,"ID1160","2012-05-28T21:55:25",500,6000,"USD",{"$f":"tblSalaries[[#This Row],[clean Salary (in local currency)]]*VLOOKUP(tblSalaries[[#This Row],[Currency]],tblXrate[],2,FALSE)","v":6000},{"$f":"IF($H$1=\"USD\",tblSalaries[[#This Row],[Salary in USD]],tblSalaries[[#This Row],[Salary in USD]]*VLOOKUP($H$1,USDtoUserChoice,2,FALSE))","v":49211.880000000005},"AM Ops","Manager","India",{"$f":"VLOOKUP(tblSalaries[[#This Row],[Where do you work]],tblCountries[[Actual]:[Mapping]],2,FALSE)","v":"India"},"4 to 6 hours a day",6,{"$f":"IF(ISNA(VLOOKUP(tblSalaries[[#This Row],[Years of Experience]],vlookUpExp!$A$1:$B$56,2,FALSE)),\"No Response\",VLOOKUP(tblSalaries[[#This Row],[Years of Experience]],vlookUpExp!$A$1:$B$56,2,FALSE))","v":"6-10"}]
[null,"ID1161","2012-05-28T22:08:12","Rs.5,00,000",500000,"INR",{"$f":"tblSalaries[[#This Row],[clean Salary (in local currency)]]*VLOOKUP(tblSalaries[[#This Row],[Currency]],tblXrate[],2,FALSE)","v":8903.9583437212841},{"$f":"IF($H$1=\"USD\",tblSalaries[[#This Row],[Salary in USD]],tblSalaries[[#This Row],[Salary in USD]]*VLOOKUP($H$1,USDtoUserChoice,2,FALSE))","v":73030.088256035102},"Deputy Manager","Manager","India",{"$f":"VLOOKUP(tblSalaries[[#This Row],[Where do you work]],tblCountries[[Actual]:[Mapping]],2,FALSE)","v":"India"},"1 or 2 hours a day",25,{"$f":"IF(ISNA(VLOOKUP(tblSalaries[[#This Row],[Years of Experience]],vlookUpExp!$A$1:$B$56,2,FALSE)),\"No Response\",VLOOKUP(tblSalaries[[#This Row],[Years of Experience]],vlookUpExp!$A$1:$B$56,2,FALSE))","v":"21-25"}]
[null,"ID1162","2012-05-28T22:10:12",30000,30000,"USD",{"$f":"tblSalaries[[#This Row],[clean Salary (in local currency)]]*VLOOKUP(tblSalaries[[#This Row],[Currency]],tblXrate[],2,FALSE)","v":30000},{"$f":"IF($H$1=\"USD\",tblSalaries[[#This Row],[Salary in USD]],tblSalaries[[#This Row],[Salary in USD]]*VLOOKUP($H$1,USDtoUserChoice,2,FALSE))","v":246059.40000000002},"pricing and cost manager","Manager","mexico",{"$f":"VLOOKUP(tblSalaries[[#This Row],[Where do you work]],tblCountries[[Actual]:[Mapping]],2,FALSE)","v":"Mexico"},"All the 8 hours baby, all the 8!",17,{"$f":"IF(ISNA(VLOOKUP(tblSalaries[[#This Row],[Years of Experience]],vlookUpExp!$A$1:$B$56,2,FALSE)),\"No Response\",VLOOKUP(tblSalaries[[#This Row],[Years of Experience]],vlookUpExp!$A$1:$B$56,2,FALSE))","v":"16-20"}]
[null,"ID1163","2012-05-28T22:13:24",8600,8600,"USD",{"$f":"tblSalaries[[#This Row],[clean Salary (in local currency)]]*VLOOKUP(tblSalaries[[#This Row],[Currency]],tblXrate[],2,FALSE)","v":8600},{"$f":"IF($H$1=\"USD\",tblSalaries[[#This Row],[Salary in USD]],tblSalaries[[#This Row],[Salary in USD]]*VLOOKUP($H$1,USDtoUserChoice,2,FALSE))","v":70537.028000000006},"Catlog associates","Analyst","India",{"$f":"VLOOKUP(tblSalaries[[#This Row],[Where do you work]],tblCountries[[Actual]:[Mapping]],2,FALSE)","v":"India"},"4 to 6 hours a day",2,{"$f":"IF(ISNA(VLOOKUP(tblSalaries[[#This Row],[Years of Experience]],vlookUpExp!$A$1:$B$56,2,FALSE)),\"No Response\",VLOOKUP(tblSalaries[[#This Row],[Years of Experience]],vlookUpExp!$A$1:$B$56,2,FALSE))","v":"0-5"}]
[null,"ID1164","2012-05-28T22:25:04","Â£51,000/$81,600",81600,"USD",{"$f":"tblSalaries[[#This Row],[clean Salary (in local currency)]]*VLOOKUP(tblSalaries[[#This Row],[Currency]],tblXrate[],2,FALSE)","v":81600},{"$f":"IF($H$1=\"USD\",tblSalaries[[#This Row],[Salary in USD]],tblSalaries[[#This Row],[Salary in USD]]*VLOOKUP($H$1,USDtoUserChoice,2,FALSE))","v":669281.56800000009},"Business Analyst - Central Finance","Analyst","UK",{"$f":"VLOOKUP(tblSalaries[[#This Row],[Where do you work]],tblCountries[[Actual]:[Mapping]],2,FALSE)","v":"UK"},"4 to 6 hours a day",4,{"$f":"IF(ISNA(VLOOKUP(tblSalaries[[#This Row],[Years of Experience]],vlookUpExp!$A$1:$B$56,2,FALSE)),\"No Response\",VLOOKUP(tblSalaries[[#This Row],[Years of Experience]],vlookUpExp!$A$1:$B$56,2,FALSE))","v":"0-5"}]
[null,"ID1165","2012-05-28T22:33:29",600000,600000,"DOP",{"$f":"tblSalaries[[#This Row],[clean Salary (in local currency)]]*VLOOKUP(tblSalaries[[#This Row],[Currency]],tblXrate[],2,FALSE)","v":15404.364569961488},{"$f":"IF($H$1=\"USD\",tblSalaries[[#This Row],[Salary in USD]],tblSalaries[[#This Row],[Salary in USD]]*VLOOKUP($H$1,USDtoUserChoice,2,FALSE))","v":126346.29011553274},"Analista de Produccion","Analyst","Republica Dominicana",{"$f":"VLOOKUP(tblSalaries[[#This Row],[Where do you work]],tblCountries[[Actual]:[Mapping]],2,FALSE)","v":"Republica Dominicana"},"All the 8 hours baby, all the 8!",3,{"$f":"IF(ISNA(VLOOKUP(tblSalaries[[#This Row],[Years of Experience]],vlookUpExp!$A$1:$B$56,2,FALSE)),\"No Response\",VLOOKUP(tblSalaries[[#This Row],[Years of Experience]],vlookUpExp!$A$1:$B$56,2,FALSE))","v":"0-5"}]
[null,"ID1166","2012-05-28T22:35:56","CAD$65000",65000,"CAD",{"$f":"tblSalaries[[#This Row],[clean Salary (in local currency)]]*VLOOKUP(tblSalaries[[#This Row],[Currency]],tblXrate[],2,FALSE)","v":63918.498996971248},{"$f":"IF($H$1=\"USD\",tblSalaries[[#This Row],[Salary in USD]],tblSalaries[[#This Row],[Salary in USD]]*VLOOKUP($H$1,USDtoUserChoice,2,FALSE))","v":524258.25040317827},"IT Analyst (Reporting)","Analyst","Canada",{"$f":"VLOOKUP(tblSalaries[[#This Row],[Where do you work]],tblCountries[[Actual]:[Mapping]],2,FALSE)","v":"Canada"},"4 to 6 hours a day",20,{"$f":"IF(ISNA(VLOOKUP(tblSalaries[[#This Row],[Years of Experience]],vlookUpExp!$A$1:$B$56,2,FALSE)),\"No Response\",VLOOKUP(tblSalaries[[#This Row],[Years of Experience]],vlookUpExp!$A$1:$B$56,2,FALSE))","v":"16-20"}]
[null,"ID1167","2012-05-28T22:36:22",75000,75000,"USD",{"$f":"tblSalaries[[#This Row],[clean Salary (in local currency)]]*VLOOKUP(tblSalaries[[#This Row],[Currency]],tblXrate[],2,FALSE)","v":75000},{"$f":"IF($H$1=\"USD\",tblSalaries[[#This Row],[Salary in USD]],tblSalaries[[#This Row],[Salary in USD]]*VLOOKUP($H$1,USDtoUserChoice,2,FALSE))","v":615148.5},"Controller","Controller","USA",{"$f":"VLOOKUP(tblSalaries[[#This Row],[Where do you work]],tblCountries[[Actual]:[Mapping]],2,FALSE)","v":"USA"},"2 to 3 hours per day",20,{"$f":"IF(ISNA(VLOOKUP(tblSalaries[[#This Row],[Years of Experience]],vlookUpExp!$A$1:$B$56,2,FALSE)),\"No Response\",VLOOKUP(tblSalaries[[#This Row],[Years of Experience]],vlookUpExp!$A$1:$B$56,2,FALSE))","v":"16-20"}]
[null,"ID1168","2012-05-28T22:36:47",59000,59000,"USD",{"$f":"tblSalaries[[#This Row],[clean Salary (in local currency)]]*VLOOKUP(tblSalaries[[#This Row],[Currency]],tblXrate[],2,FALSE)","v":59000},{"$f":"IF($H$1=\"USD\",tblSalaries[[#This Row],[Salary in USD]],tblSalaries[[#This Row],[Salary in USD]]*VLOOKUP($H$1,USDtoUserChoice,2,FALSE))","v":483916.82000000007},"Management Analyst","Analyst","USA",{"$f":"VLOOKUP(tblSalaries[[#This Row],[Where do you work]],tblCountries[[Actual]:[Mapping]],2,FALSE)","v":"USA"},"4 to 6 hours a day",14,{"$f":"IF(ISNA(VLOOKUP(tblSalaries[[#This Row],[Years of Experience]],vlookUpExp!$A$1:$B$56,2,FALSE)),\"No Response\",VLOOKUP(tblSalaries[[#This Row],[Years of Experience]],vlookUpExp!$A$1:$B$56,2,FALSE))","v":"11-15"}]
[null,"ID1169","2012-05-28T22:38:37","$50,000 U.S.",50000,"USD",{"$f":"tblSalaries[[#This Row],[clean Salary (in local currency)]]*VLOOKUP(tblSalaries[[#This Row],[Currency]],tblXrate[],2,FALSE)","v":50000},{"$f":"IF($H$1=\"USD\",tblSalaries[[#This Row],[Salary in USD]],tblSalaries[[#This Row],[Salary in USD]]*VLOOKUP($H$1,USDtoUserChoice,2,FALSE))","v":410099.00000000006},"Program Manager","Manager","Canada",{"$f":"VLOOKUP(tblSalaries[[#This Row],[Where do you work]],tblCountries[[Actual]:[Mapping]],2,FALSE)","v":"Canada"},"1 or 2 hours a day",5,{"$f":"IF(ISNA(VLOOKUP(tblSalaries[[#This Row],[Years of Experience]],vlookUpExp!$A$1:$B$56,2,FALSE)),\"No Response\",VLOOKUP(tblSalaries[[#This Row],[Years of Experience]],vlookUpExp!$A$1:$B$56,2,FALSE))","v":"0-5"}]
[null,"ID1170","2012-05-28T22:39:09","Â£80000",80000,"GBP",{"$f":"tblSalaries[[#This Row],[clean Salary (in local currency)]]*VLOOKUP(tblSalaries[[#This Row],[Currency]],tblXrate[],2,FALSE)","v":126094.26176538273},{"$f":"IF($H$1=\"USD\",tblSalaries[[#This Row],[Salary in USD]],tblSalaries[[#This Row],[Salary in USD]]*VLOOKUP($H$1,USDtoUserChoice,2,FALSE))","v":1034222.6131144339},"Financial Controller","Controller","UK",{"$f":"VLOOKUP(tblSalaries[[#This Row],[Where do you work]],tblCountries[[Actual]:[Mapping]],2,FALSE)","v":"UK"},"4 to 6 hours a day",15,{"$f":"IF(ISNA(VLOOKUP(tblSalaries[[#This Row],[Years of Experience]],vlookUpExp!$A$1:$B$56,2,FALSE)),\"No Response\",VLOOKUP(tblSalaries[[#This Row],[Years of Experience]],vlookUpExp!$A$1:$B$56,2,FALSE))","v":"11-15"}]
[null,"ID1171","2012-05-28T22:41:01","R$ 54000",54000,"BRL",{"$f":"tblSalaries[[#This Row],[clean Salary (in local currency)]]*VLOOKUP(tblSalaries[[#This Row],[Currency]],tblXrate[],2,FALSE)","v":26691.183012544854},{"$f":"IF($H$1=\"USD\",tblSalaries[[#This Row],[Salary in USD]],tblSalaries[[#This Row],[Salary in USD]]*VLOOKUP($H$1,USDtoUserChoice,2,FALSE))","v":218920.54924523266},"Logistics Coordinator","Manager","Brazil",{"$f":"VLOOKUP(tblSalaries[[#This Row],[Where do you work]],tblCountries[[Actual]:[Mapping]],2,FALSE)","v":"Brazil"},"1 or 2 hours a day",7,{"$f":"IF(ISNA(VLOOKUP(tblSalaries[[#This Row],[Years of Experience]],vlookUpExp!$A$1:$B$56,2,FALSE)),\"No Response\",VLOOKUP(tblSalaries[[#This Row],[Years of Experience]],vlookUpExp!$A$1:$B$56,2,FALSE))","v":"6-10"}]
[null,"ID1172","2012-05-28T22:41:15",500000,500000,"INR",{"$f":"tblSalaries[[#This Row],[clean Salary (in local currency)]]*VLOOKUP(tblSalaries[[#This Row],[Currency]],tblXrate[],2,FALSE)","v":8903.9583437212841},{"$f":"IF($H$1=\"USD\",tblSalaries[[#This Row],[Salary in USD]],tblSalaries[[#This Row],[Salary in USD]]*VLOOKUP($H$1,USDtoUserChoice,2,FALSE))","v":73030.088256035102},"Business Analyst","Analyst","India",{"$f":"VLOOKUP(tblSalaries[[#This Row],[Where do you work]],tblCountries[[Actual]:[Mapping]],2,FALSE)","v":"India"},"4 to 6 hours a day",0.8,{"$f":"IF(ISNA(VLOOKUP(tblSalaries[[#This Row],[Years of Experience]],vlookUpExp!$A$1:$B$56,2,FALSE)),\"No Response\",VLOOKUP(tblSalaries[[#This Row],[Years of Experience]],vlookUpExp!$A$1:$B$56,2,FALSE))","v":"0-5"}]
[null,"ID1173","2012-05-28T22:41:26","8725 $",8725,"USD",{"$f":"tblSalaries[[#This Row],[clean Salary (in local currency)]]*VLOOKUP(tblSalaries[[#This Row],[Currency]],tblXrate[],2,FALSE)","v":8725},{"$f":"IF($H$1=\"USD\",tblSalaries[[#This Row],[Salary in USD]],tblSalaries[[#This Row],[Salary in USD]]*VLOOKUP($H$1,USDtoUserChoice,2,FALSE))","v":71562.275500000003},"Administration Officer","Manager","Pakistan",{"$f":"VLOOKUP(tblSalaries[[#This Row],[Where do you work]],tblCountries[[Actual]:[Mapping]],2,FALSE)","v":"Pakistan"},"2 to 3 hours per day",18,{"$f":"IF(ISNA(VLOOKUP(tblSalaries[[#This Row],[Years of Experience]],vlookUpExp!$A$1:$B$56,2,FALSE)),\"No Response\",VLOOKUP(tblSalaries[[#This Row],[Years of Experience]],vlookUpExp!$A$1:$B$56,2,FALSE))","v":"16-20"}]
[null,"ID1175","2012-05-28T22:44:48","Â£32000",32000,"GBP",{"$f":"tblSalaries[[#This Row],[clean Salary (in local currency)]]*VLOOKUP(tblSalaries[[#This Row],[Currency]],tblXrate[],2,FALSE)","v":50437.70470615309},{"$f":"IF($H$1=\"USD\",tblSalaries[[#This Row],[Salary in USD]],tblSalaries[[#This Row],[Salary in USD]]*VLOOKUP($H$1,USDtoUserChoice,2,FALSE))","v":413689.04524577357},"Service Analyst","Analyst","UK",{"$f":"VLOOKUP(tblSalaries[[#This Row],[Where do you work]],tblCountries[[Actual]:[Mapping]],2,FALSE)","v":"UK"},"4 to 6 hours a day",4,{"$f":"IF(ISNA(VLOOKUP(tblSalaries[[#This Row],[Years of Experience]],vlookUpExp!$A$1:$B$56,2,FALSE)),\"No Response\",VLOOKUP(tblSalaries[[#This Row],[Years of Experience]],vlookUpExp!$A$1:$B$56,2,FALSE))","v":"0-5"}]
[null,"ID1176","2012-05-28T22:45:49","Â£43000",43000,"GBP",{"$f":"tblSalaries[[#This Row],[clean Salary (in local currency)]]*VLOOKUP(tblSalaries[[#This Row],[Currency]],tblXrate[],2,FALSE)","v":67775.665698893223},{"$f":"IF($H$1=\"USD\",tblSalaries[[#This Row],[Salary in USD]],tblSalaries[[#This Row],[Salary in USD]]*VLOOKUP($H$1,USDtoUserChoice,2,FALSE))","v":555894.65454900824},"Head of Finance","Accountant","UK",{"$f":"VLOOKUP(tblSalaries[[#This Row],[Where do you work]],tblCountries[[Actual]:[Mapping]],2,FALSE)","v":"UK"},"All the 8 hours baby, all the 8!",15,{"$f":"IF(ISNA(VLOOKUP(tblSalaries[[#This Row],[Years of Experience]],vlookUpExp!$A$1:$B$56,2,FALSE)),\"No Response\",VLOOKUP(tblSalaries[[#This Row],[Years of Experience]],vlookUpExp!$A$1:$B$56,2,FALSE))","v":"11-15"}]
[null,"ID1177","2012-05-28T22:46:37","CAD $53,000/-",53000,"CAD",{"$f":"tblSalaries[[#This Row],[clean Salary (in local currency)]]*VLOOKUP(tblSalaries[[#This Row],[Currency]],tblXrate[],2,FALSE)","v":52118.160720607324},{"$f":"IF($H$1=\"USD\",tblSalaries[[#This Row],[Salary in USD]],tblSalaries[[#This Row],[Salary in USD]]*VLOOKUP($H$1,USDtoUserChoice,2,FALSE))","v":427472.11186720687},"Data Analyst","Analyst","Canada",{"$f":"VLOOKUP(tblSalaries[[#This Row],[Where do you work]],tblCountries[[Actual]:[Mapping]],2,FALSE)","v":"Canada"},"4 to 6 hours a day",6,{"$f":"IF(ISNA(VLOOKUP(tblSalaries[[#This Row],[Years of Experience]],vlookUpExp!$A$1:$B$56,2,FALSE)),\"No Response\",VLOOKUP(tblSalaries[[#This Row],[Years of Experience]],vlookUpExp!$A$1:$B$56,2,FALSE))","v":"6-10"}]
[null,"ID1178","2012-05-28T22:48:32","INR 20 Lakhs p.a.",200000,"INR",{"$f":"tblSalaries[[#This Row],[clean Salary (in local currency)]]*VLOOKUP(tblSalaries[[#This Row],[Currency]],tblXrate[],2,FALSE)","v":3561.5833374885137},{"$f":"IF($H$1=\"USD\",tblSalaries[[#This Row],[Salary in USD]],tblSalaries[[#This Row],[Salary in USD]]*VLOOKUP($H$1,USDtoUserChoice,2,FALSE))","v":29212.035302414042},"Associate","Analyst","India",{"$f":"VLOOKUP(tblSalaries[[#This Row],[Where do you work]],tblCountries[[Actual]:[Mapping]],2,FALSE)","v":"India"},"1 or 2 hours a day",6,{"$f":"IF(ISNA(VLOOKUP(tblSalaries[[#This Row],[Years of Experience]],vlookUpExp!$A$1:$B$56,2,FALSE)),\"No Response\",VLOOKUP(tblSalaries[[#This Row],[Years of Experience]],vlookUpExp!$A$1:$B$56,2,FALSE))","v":"6-10"}]
[null,"ID1179","2012-05-28T22:49:15","4.5 laks",450000,"INR",{"$f":"tblSalaries[[#This Row],[clean Salary (in local currency)]]*VLOOKUP(tblSalaries[[#This Row],[Currency]],tblXrate[],2,FALSE)","v":8013.5625093491553},{"$f":"IF($H$1=\"USD\",tblSalaries[[#This Row],[Salary in USD]],tblSalaries[[#This Row],[Salary in USD]]*VLOOKUP($H$1,USDtoUserChoice,2,FALSE))","v":65727.079430431593},"Production Manager","Manager","India",{"$f":"VLOOKUP(tblSalaries[[#This Row],[Where do you work]],tblCountries[[Actual]:[Mapping]],2,FALSE)","v":"India"},"4 to 6 hours a day",21,{"$f":"IF(ISNA(VLOOKUP(tblSalaries[[#This Row],[Years of Experience]],vlookUpExp!$A$1:$B$56,2,FALSE)),\"No Response\",VLOOKUP(tblSalaries[[#This Row],[Years of Experience]],vlookUpExp!$A$1:$B$56,2,FALSE))","v":"21-25"}]
[null,"ID1180","2012-05-28T22:50:51",28000,28000,"USD",{"$f":"tblSalaries[[#This Row],[clean Salary (in local currency)]]*VLOOKUP(tblSalaries[[#This Row],[Currency]],tblXrate[],2,FALSE)","v":28000},{"$f":"IF($H$1=\"USD\",tblSalaries[[#This Row],[Salary in USD]],tblSalaries[[#This Row],[Salary in USD]]*VLOOKUP($H$1,USDtoUserChoice,2,FALSE))","v":229655.44000000003},"Business Intelligence Manager","Manager","Poland",{"$f":"VLOOKUP(tblSalaries[[#This Row],[Where do you work]],tblCountries[[Actual]:[Mapping]],2,FALSE)","v":"Poland"},"4 to 6 hours a day",5,{"$f":"IF(ISNA(VLOOKUP(tblSalaries[[#This Row],[Years of Experience]],vlookUpExp!$A$1:$B$56,2,FALSE)),\"No Response\",VLOOKUP(tblSalaries[[#This Row],[Years of Experience]],vlookUpExp!$A$1:$B$56,2,FALSE))","v":"0-5"}]
[null,"ID1181","2012-05-28T22:51:27",31763,31763,"GBP",{"$f":"tblSalaries[[#This Row],[clean Salary (in local currency)]]*VLOOKUP(tblSalaries[[#This Row],[Currency]],tblXrate[],2,FALSE)","v":50064.150455673145},{"$f":"IF($H$1=\"USD\",tblSalaries[[#This Row],[Salary in USD]],tblSalaries[[#This Row],[Salary in USD]]*VLOOKUP($H$1,USDtoUserChoice,2,FALSE))","v":410625.16075442208},"Network Administrator","Analyst","UK",{"$f":"VLOOKUP(tblSalaries[[#This Row],[Where do you work]],tblCountries[[Actual]:[Mapping]],2,FALSE)","v":"UK"},"2 to 3 hours per day",2,{"$f":"IF(ISNA(VLOOKUP(tblSalaries[[#This Row],[Years of Experience]],vlookUpExp!$A$1:$B$56,2,FALSE)),\"No Response\",VLOOKUP(tblSalaries[[#This Row],[Years of Experience]],vlookUpExp!$A$1:$B$56,2,FALSE))","v":"0-5"}]
[null,"ID1182","2012-05-28T22:52:19","GBPÂ£32000",32000,"GBP",{"$f":"tblSalaries[[#This Row],[clean Salary (in local currency)]]*VLOOKUP(tblSalaries[[#This Row],[Currency]],tblXrate[],2,FALSE)","v":50437.70470615309},{"$f":"IF($H$1=\"USD\",tblSalaries[[#This Row],[Salary in USD]],tblSalaries[[#This Row],[Salary in USD]]*VLOOKUP($H$1,USDtoUserChoice,2,FALSE))","v":413689.04524577357},"Performance Analyst","Analyst","Canada",{"$f":"VLOOKUP(tblSalaries[[#This Row],[Where do you work]],tblCountries[[Actual]:[Mapping]],2,FALSE)","v":"Canada"},"4 to 6 hours a day",9,{"$f":"IF(ISNA(VLOOKUP(tblSalaries[[#This Row],[Years of Experience]],vlookUpExp!$A$1:$B$56,2,FALSE)),\"No Response\",VLOOKUP(tblSalaries[[#This Row],[Years of Experience]],vlookUpExp!$A$1:$B$56,2,FALSE))","v":"6-10"}]
[null,"ID1183","2012-05-28T22:53:03",27840,27840,"USD",{"$f":"tblSalaries[[#This Row],[clean Salary (in local currency)]]*VLOOKUP(tblSalaries[[#This Row],[Currency]],tblXrate[],2,FALSE)","v":27840},{"$f":"IF($H$1=\"USD\",tblSalaries[[#This Row],[Salary in USD]],tblSalaries[[#This Row],[Salary in USD]]*VLOOKUP($H$1,USDtoUserChoice,2,FALSE))","v":228343.12320000003},"Data Entry Clerk III","Analyst","USA",{"$f":"VLOOKUP(tblSalaries[[#This Row],[Where do you work]],tblCountries[[Actual]:[Mapping]],2,FALSE)","v":"USA"},"2 to 3 hours per day",1,{"$f":"IF(ISNA(VLOOKUP(tblSalaries[[#This Row],[Years of Experience]],vlookUpExp!$A$1:$B$56,2,FALSE)),\"No Response\",VLOOKUP(tblSalaries[[#This Row],[Years of Experience]],vlookUpExp!$A$1:$B$56,2,FALSE))","v":"0-5"}]
[null,"ID1184","2012-05-28T22:54:24","Rs. 350000",350000,"INR",{"$f":"tblSalaries[[#This Row],[clean Salary (in local currency)]]*VLOOKUP(tblSalaries[[#This Row],[Currency]],tblXrate[],2,FALSE)","v":6232.7708406048987},{"$f":"IF($H$1=\"USD\",tblSalaries[[#This Row],[Salary in USD]],tblSalaries[[#This Row],[Salary in USD]]*VLOOKUP($H$1,USDtoUserChoice,2,FALSE))","v":51121.061779224568},"officer accounts","Accountant","India",{"$f":"VLOOKUP(tblSalaries[[#This Row],[Where do you work]],tblCountries[[Actual]:[Mapping]],2,FALSE)","v":"India"},"2 to 3 hours per day",1.5,{"$f":"IF(ISNA(VLOOKUP(tblSalaries[[#This Row],[Years of Experience]],vlookUpExp!$A$1:$B$56,2,FALSE)),\"No Response\",VLOOKUP(tblSalaries[[#This Row],[Years of Experience]],vlookUpExp!$A$1:$B$56,2,FALSE))","v":"0-5"}]
[null,"ID1185","2012-05-28T22:55:40","S$50000",50000,"USD",{"$f":"tblSalaries[[#This Row],[clean Salary (in local currency)]]*VLOOKUP(tblSalaries[[#This Row],[Currency]],tblXrate[],2,FALSE)","v":50000},{"$f":"IF($H$1=\"USD\",tblSalaries[[#This Row],[Salary in USD]],tblSalaries[[#This Row],[Salary in USD]]*VLOOKUP($H$1,USDtoUserChoice,2,FALSE))","v":410099.00000000006},"Engineer","Engineer","Singapore",{"$f":"VLOOKUP(tblSalaries[[#This Row],[Where do you work]],tblCountries[[Actual]:[Mapping]],2,FALSE)","v":"Singapore"},"2 to 3 hours per day",25,{"$f":"IF(ISNA(VLOOKUP(tblSalaries[[#This Row],[Years of Experience]],vlookUpExp!$A$1:$B$56,2,FALSE)),\"No Response\",VLOOKUP(tblSalaries[[#This Row],[Years of Experience]],vlookUpExp!$A$1:$B$56,2,FALSE))","v":"21-25"}]
[null,"ID1186","2012-05-28T22:58:25",48000,48000,"USD",{"$f":"tblSalaries[[#This Row],[clean Salary (in local currency)]]*VLOOKUP(tblSalaries[[#This Row],[Currency]],tblXrate[],2,FALSE)","v":48000},{"$f":"IF($H$1=\"USD\",tblSalaries[[#This Row],[Salary in USD]],tblSalaries[[#This Row],[Salary in USD]]*VLOOKUP($H$1,USDtoUserChoice,2,FALSE))","v":393695.04000000004},"Cost Controlling Executive","Controller","Qatar",{"$f":"VLOOKUP(tblSalaries[[#This Row],[Where do you work]],tblCountries[[Actual]:[Mapping]],2,FALSE)","v":"Qatar"},"2 to 3 hours per day",10,{"$f":"IF(ISNA(VLOOKUP(tblSalaries[[#This Row],[Years of Experience]],vlookUpExp!$A$1:$B$56,2,FALSE)),\"No Response\",VLOOKUP(tblSalaries[[#This Row],[Years of Experience]],vlookUpExp!$A$1:$B$56,2,FALSE))","v":"6-10"}]
[null,"ID1187","2012-05-28T22:59:16",2000,24000,"USD",{"$f":"tblSalaries[[#This Row],[clean Salary (in local currency)]]*VLOOKUP(tblSalaries[[#This Row],[Currency]],tblXrate[],2,FALSE)","v":24000},{"$f":"IF($H$1=\"USD\",tblSalaries[[#This Row],[Salary in USD]],tblSalaries[[#This Row],[Salary in USD]]*VLOOKUP($H$1,USDtoUserChoice,2,FALSE))","v":196847.52000000002},"Administration Manager","Manager","Argentina",{"$f":"VLOOKUP(tblSalaries[[#This Row],[Where do you work]],tblCountries[[Actual]:[Mapping]],2,FALSE)","v":"Argentina"},"4 to 6 hours a day",21,{"$f":"IF(ISNA(VLOOKUP(tblSalaries[[#This Row],[Years of Experience]],vlookUpExp!$A$1:$B$56,2,FALSE)),\"No Response\",VLOOKUP(tblSalaries[[#This Row],[Years of Experience]],vlookUpExp!$A$1:$B$56,2,FALSE))","v":"21-25"}]
[null,"ID1188","2012-05-28T23:02:08",75000,75000,"USD",{"$f":"tblSalaries[[#This Row],[clean Salary (in local currency)]]*VLOOKUP(tblSalaries[[#This Row],[Currency]],tblXrate[],2,FALSE)","v":75000},{"$f":"IF($H$1=\"USD\",tblSalaries[[#This Row],[Salary in USD]],tblSalaries[[#This Row],[Salary in USD]]*VLOOKUP($H$1,USDtoUserChoice,2,FALSE))","v":615148.5},"Financial Analyst","Analyst","USA",{"$f":"VLOOKUP(tblSalaries[[#This Row],[Where do you work]],tblCountries[[Actual]:[Mapping]],2,FALSE)","v":"USA"},"4 to 6 hours a day",12,{"$f":"IF(ISNA(VLOOKUP(tblSalaries[[#This Row],[Years of Experience]],vlookUpExp!$A$1:$B$56,2,FALSE)),\"No Response\",VLOOKUP(tblSalaries[[#This Row],[Years of Experience]],vlookUpExp!$A$1:$B$56,2,FALSE))","v":"11-15"}]
[null,"ID1189","2012-05-28T23:05:03","216000 AED",216000,"AED",{"$f":"tblSalaries[[#This Row],[clean Salary (in local currency)]]*VLOOKUP(tblSalaries[[#This Row],[Currency]],tblXrate[],2,FALSE)","v":58799.349940520107},{"$f":"IF($H$1=\"USD\",tblSalaries[[#This Row],[Salary in USD]],tblSalaries[[#This Row],[Salary in USD]]*VLOOKUP($H$1,USDtoUserChoice,2,FALSE))","v":482271.09222514718},"Financial analyst","Analyst","Dubai",{"$f":"VLOOKUP(tblSalaries[[#This Row],[Where do you work]],tblCountries[[Actual]:[Mapping]],2,FALSE)","v":"Dubai"},"4 to 6 hours a day",2,{"$f":"IF(ISNA(VLOOKUP(tblSalaries[[#This Row],[Years of Experience]],vlookUpExp!$A$1:$B$56,2,FALSE)),\"No Response\",VLOOKUP(tblSalaries[[#This Row],[Years of Experience]],vlookUpExp!$A$1:$B$56,2,FALSE))","v":"0-5"}]
[null,"ID1190","2012-05-28T23:06:22","Rupees : 2,000,000",2000000,"PKR",{"$f":"tblSalaries[[#This Row],[clean Salary (in local currency)]]*VLOOKUP(tblSalaries[[#This Row],[Currency]],tblXrate[],2,FALSE)","v":21228.177433598263},{"$f":"IF($H$1=\"USD\",tblSalaries[[#This Row],[Salary in USD]],tblSalaries[[#This Row],[Salary in USD]]*VLOOKUP($H$1,USDtoUserChoice,2,FALSE))","v":174113.08674682429},"Excel Corporate Trainer","Consultant","Pakistan",{"$f":"VLOOKUP(tblSalaries[[#This Row],[Where do you work]],tblCountries[[Actual]:[Mapping]],2,FALSE)","v":"Pakistan"},"All the 8 hours baby, all the 8!",8,{"$f":"IF(ISNA(VLOOKUP(tblSalaries[[#This Row],[Years of Experience]],vlookUpExp!$A$1:$B$56,2,FALSE)),\"No Response\",VLOOKUP(tblSalaries[[#This Row],[Years of Experience]],vlookUpExp!$A$1:$B$56,2,FALSE))","v":"6-10"}]
[null,"ID1191","2012-05-28T23:13:24",60000,60000,"USD",{"$f":"tblSalaries[[#This Row],[clean Salary (in local currency)]]*VLOOKUP(tblSalaries[[#This Row],[Currency]],tblXrate[],2,FALSE)","v":60000},{"$f":"IF($H$1=\"USD\",tblSalaries[[#This Row],[Salary in USD]],tblSalaries[[#This Row],[Salary in USD]]*VLOOKUP($H$1,USDtoUserChoice,2,FALSE))","v":492118.80000000005},"Quality Management","Manager","USA",{"$f":"VLOOKUP(tblSalaries[[#This Row],[Where do you work]],tblCountries[[Actual]:[Mapping]],2,FALSE)","v":"USA"},"2 to 3 hours per day",10,{"$f":"IF(ISNA(VLOOKUP(tblSalaries[[#This Row],[Years of Experience]],vlookUpExp!$A$1:$B$56,2,FALSE)),\"No Response\",VLOOKUP(tblSalaries[[#This Row],[Years of Experience]],vlookUpExp!$A$1:$B$56,2,FALSE))","v":"6-10"}]
[null,"ID1192","2012-05-28T23:13:31","5000  PLN   net",60000,"PLN",{"$f":"tblSalaries[[#This Row],[clean Salary (in local currency)]]*VLOOKUP(tblSalaries[[#This Row],[Currency]],tblXrate[],2,FALSE)","v":18018.883790212141},{"$f":"IF($H$1=\"USD\",tblSalaries[[#This Row],[Salary in USD]],tblSalaries[[#This Row],[Salary in USD]]*VLOOKUP($H$1,USDtoUserChoice,2,FALSE))","v":147790.52446964418},"Sales Analyst","Analyst","Poland",{"$f":"VLOOKUP(tblSalaries[[#This Row],[Where do you work]],tblCountries[[Actual]:[Mapping]],2,FALSE)","v":"Poland"},"All the 8 hours baby, all the 8!",10,{"$f":"IF(ISNA(VLOOKUP(tblSalaries[[#This Row],[Years of Experience]],vlookUpExp!$A$1:$B$56,2,FALSE)),\"No Response\",VLOOKUP(tblSalaries[[#This Row],[Years of Experience]],vlookUpExp!$A$1:$B$56,2,FALSE))","v":"6-10"}]
[null,"ID1193","2012-05-28T23:17:12","US$ 7,200",7200,"USD",{"$f":"tblSalaries[[#This Row],[clean Salary (in local currency)]]*VLOOKUP(tblSalaries[[#This Row],[Currency]],tblXrate[],2,FALSE)","v":7200},{"$f":"IF($H$1=\"USD\",tblSalaries[[#This Row],[Salary in USD]],tblSalaries[[#This Row],[Salary in USD]]*VLOOKUP($H$1,USDtoUserChoice,2,FALSE))","v":59054.256000000008},"Supervisor MIS","Reporting","India",{"$f":"VLOOKUP(tblSalaries[[#This Row],[Where do you work]],tblCountries[[Actual]:[Mapping]],2,FALSE)","v":"India"},"4 to 6 hours a day",7,{"$f":"IF(ISNA(VLOOKUP(tblSalaries[[#This Row],[Years of Experience]],vlookUpExp!$A$1:$B$56,2,FALSE)),\"No Response\",VLOOKUP(tblSalaries[[#This Row],[Years of Experience]],vlookUpExp!$A$1:$B$56,2,FALSE))","v":"6-10"}]
[null,"ID1194","2012-05-28T23:17:31",56000,56000,"USD",{"$f":"tblSalaries[[#This Row],[clean Salary (in local currency)]]*VLOOKUP(tblSalaries[[#This Row],[Currency]],tblXrate[],2,FALSE)","v":56000},{"$f":"IF($H$1=\"USD\",tblSalaries[[#This Row],[Salary in USD]],tblSalaries[[#This Row],[Salary in USD]]*VLOOKUP($H$1,USDtoUserChoice,2,FALSE))","v":459310.88000000006},"Analyst","Analyst","USA",{"$f":"VLOOKUP(tblSalaries[[#This Row],[Where do you work]],tblCountries[[Actual]:[Mapping]],2,FALSE)","v":"USA"},"1 or 2 hours a day",2,{"$f":"IF(ISNA(VLOOKUP(tblSalaries[[#This Row],[Years of Experience]],vlookUpExp!$A$1:$B$56,2,FALSE)),\"No Response\",VLOOKUP(tblSalaries[[#This Row],[Years of Experience]],vlookUpExp!$A$1:$B$56,2,FALSE))","v":"0-5"}]
[null,"ID1195","2012-05-28T23:19:36","Rs 5,40,000",540000,"INR",{"$f":"tblSalaries[[#This Row],[clean Salary (in local currency)]]*VLOOKUP(tblSalaries[[#This Row],[Currency]],tblXrate[],2,FALSE)","v":9616.275011218986},{"$f":"IF($H$1=\"USD\",tblSalaries[[#This Row],[Salary in USD]],tblSalaries[[#This Row],[Salary in USD]]*VLOOKUP($H$1,USDtoUserChoice,2,FALSE))","v":78872.495316517903},"Business Analyst - Solutions","Analyst","India",{"$f":"VLOOKUP(tblSalaries[[#This Row],[Where do you work]],tblCountries[[Actual]:[Mapping]],2,FALSE)","v":"India"},"4 to 6 hours a day",7.9,{"$f":"IF(ISNA(VLOOKUP(tblSalaries[[#This Row],[Years of Experience]],vlookUpExp!$A$1:$B$56,2,FALSE)),\"No Response\",VLOOKUP(tblSalaries[[#This Row],[Years of Experience]],vlookUpExp!$A$1:$B$56,2,FALSE))","v":"6-10"}]
[null,"ID1196","2012-05-28T23:21:02","KES 4.3 million",4300000,"KENYA",{"$f":"tblSalaries[[#This Row],[clean Salary (in local currency)]]*VLOOKUP(tblSalaries[[#This Row],[Currency]],tblXrate[],2,FALSE)","v":51497.005988023957},{"$f":"IF($H$1=\"USD\",tblSalaries[[#This Row],[Salary in USD]],tblSalaries[[#This Row],[Salary in USD]]*VLOOKUP($H$1,USDtoUserChoice,2,FALSE))","v":422377.41317365278},"Finance Manager","Manager","Kenya",{"$f":"VLOOKUP(tblSalaries[[#This Row],[Where do you work]],tblCountries[[Actual]:[Mapping]],2,FALSE)","v":"Kenya"},"4 to 6 hours a day",9,{"$f":"IF(ISNA(VLOOKUP(tblSalaries[[#This Row],[Years of Experience]],vlookUpExp!$A$1:$B$56,2,FALSE)),\"No Response\",VLOOKUP(tblSalaries[[#This Row],[Years of Experience]],vlookUpExp!$A$1:$B$56,2,FALSE))","v":"6-10"}]
[null,"ID1197","2012-05-28T23:25:32","82.000 Euro (pre-tax)",82000,"EUR",{"$f":"tblSalaries[[#This Row],[clean Salary (in local currency)]]*VLOOKUP(tblSalaries[[#This Row],[Currency]],tblXrate[],2,FALSE)","v":104172.75399731184},{"$f":"IF($H$1=\"USD\",tblSalaries[[#This Row],[Salary in USD]],tblSalaries[[#This Row],[Salary in USD]]*VLOOKUP($H$1,USDtoUserChoice,2,FALSE))","v":854422.84483087179},"Finance Project Manager","Manager","Netherlands",{"$f":"VLOOKUP(tblSalaries[[#This Row],[Where do you work]],tblCountries[[Actual]:[Mapping]],2,FALSE)","v":"Netherlands"},"All the 8 hours baby, all the 8!",25,{"$f":"IF(ISNA(VLOOKUP(tblSalaries[[#This Row],[Years of Experience]],vlookUpExp!$A$1:$B$56,2,FALSE)),\"No Response\",VLOOKUP(tblSalaries[[#This Row],[Years of Experience]],vlookUpExp!$A$1:$B$56,2,FALSE))","v":"21-25"}]
[null,"ID1198","2012-05-28T23:33:59",88000,88000,"USD",{"$f":"tblSalaries[[#This Row],[clean Salary (in local currency)]]*VLOOKUP(tblSalaries[[#This Row],[Currency]],tblXrate[],2,FALSE)","v":88000},{"$f":"IF($H$1=\"USD\",tblSalaries[[#This Row],[Salary in USD]],tblSalaries[[#This Row],[Salary in USD]]*VLOOKUP($H$1,USDtoUserChoice,2,FALSE))","v":721774.24000000011},"Manager, Strategy & Insights","Manager","USA",{"$f":"VLOOKUP(tblSalaries[[#This Row],[Where do you work]],tblCountries[[Actual]:[Mapping]],2,FALSE)","v":"USA"},"4 to 6 hours a day",2,{"$f":"IF(ISNA(VLOOKUP(tblSalaries[[#This Row],[Years of Experience]],vlookUpExp!$A$1:$B$56,2,FALSE)),\"No Response\",VLOOKUP(tblSalaries[[#This Row],[Years of Experience]],vlookUpExp!$A$1:$B$56,2,FALSE))","v":"0-5"}]
[null,"ID1199","2012-05-28T23:38:52",80000,80000,"USD",{"$f":"tblSalaries[[#This Row],[clean Salary (in local currency)]]*VLOOKUP(tblSalaries[[#This Row],[Currency]],tblXrate[],2,FALSE)","v":80000},{"$f":"IF($H$1=\"USD\",tblSalaries[[#This Row],[Salary in USD]],tblSalaries[[#This Row],[Salary in USD]]*VLOOKUP($H$1,USDtoUserChoice,2,FALSE))","v":656158.4},"Financial/Data Analyst","Analyst","USA",{"$f":"VLOOKUP(tblSalaries[[#This Row],[Where do you work]],tblCountries[[Actual]:[Mapping]],2,FALSE)","v":"USA"},"4 to 6 hours a day",6,{"$f":"IF(ISNA(VLOOKUP(tblSalaries[[#This Row],[Years of Experience]],vlookUpExp!$A$1:$B$56,2,FALSE)),\"No Response\",VLOOKUP(tblSalaries[[#This Row],[Years of Experience]],vlookUpExp!$A$1:$B$56,2,FALSE))","v":"6-10"}]
[null,"ID1200","2012-05-28T23:47:10",19000,19000,"USD",{"$f":"tblSalaries[[#This Row],[clean Salary (in local currency)]]*VLOOKUP(tblSalaries[[#This Row],[Currency]],tblXrate[],2,FALSE)","v":19000},{"$f":"IF($H$1=\"USD\",tblSalaries[[#This Row],[Salary in USD]],tblSalaries[[#This Row],[Salary in USD]]*VLOOKUP($H$1,USDtoUserChoice,2,FALSE))","v":155837.62000000002},"Accountant","Accountant","UK",{"$f":"VLOOKUP(tblSalaries[[#This Row],[Where do you work]],tblCountries[[Actual]:[Mapping]],2,FALSE)","v":"UK"},"4 to 6 hours a day",20,{"$f":"IF(ISNA(VLOOKUP(tblSalaries[[#This Row],[Years of Experience]],vlookUpExp!$A$1:$B$56,2,FALSE)),\"No Response\",VLOOKUP(tblSalaries[[#This Row],[Years of Experience]],vlookUpExp!$A$1:$B$56,2,FALSE))","v":"16-20"}]
[null,"ID1201","2012-05-28T23:51:37","Euro 15.000",15000,"EUR",{"$f":"tblSalaries[[#This Row],[clean Salary (in local currency)]]*VLOOKUP(tblSalaries[[#This Row],[Currency]],tblXrate[],2,FALSE)","v":19055.991584874118},{"$f":"IF($H$1=\"USD\",tblSalaries[[#This Row],[Salary in USD]],tblSalaries[[#This Row],[Salary in USD]]*VLOOKUP($H$1,USDtoUserChoice,2,FALSE))","v":156296.86185930585},"business consultant","Consultant","Italy",{"$f":"VLOOKUP(tblSalaries[[#This Row],[Where do you work]],tblCountries[[Actual]:[Mapping]],2,FALSE)","v":"italy"},"4 to 6 hours a day",3,{"$f":"IF(ISNA(VLOOKUP(tblSalaries[[#This Row],[Years of Experience]],vlookUpExp!$A$1:$B$56,2,FALSE)),\"No Response\",VLOOKUP(tblSalaries[[#This Row],[Years of Experience]],vlookUpExp!$A$1:$B$56,2,FALSE))","v":"0-5"}]
[null,"ID1202","2012-05-28T23:52:42",480000,480000,"INR",{"$f":"tblSalaries[[#This Row],[clean Salary (in local currency)]]*VLOOKUP(tblSalaries[[#This Row],[Currency]],tblXrate[],2,FALSE)","v":8547.8000099724322},{"$f":"IF($H$1=\"USD\",tblSalaries[[#This Row],[Salary in USD]],tblSalaries[[#This Row],[Salary in USD]]*VLOOKUP($H$1,USDtoUserChoice,2,FALSE))","v":70108.884725793701},"Documentation Consultant","Consultant","India",{"$f":"VLOOKUP(tblSalaries[[#This Row],[Where do you work]],tblCountries[[Actual]:[Mapping]],2,FALSE)","v":"India"},"All the 8 hours baby, all the 8!",15,{"$f":"IF(ISNA(VLOOKUP(tblSalaries[[#This Row],[Years of Experience]],vlookUpExp!$A$1:$B$56,2,FALSE)),\"No Response\",VLOOKUP(tblSalaries[[#This Row],[Years of Experience]],vlookUpExp!$A$1:$B$56,2,FALSE))","v":"11-15"}]
[null,"ID1203","2012-05-28T23:53:02",1100000,1100000,"INR",{"$f":"tblSalaries[[#This Row],[clean Salary (in local currency)]]*VLOOKUP(tblSalaries[[#This Row],[Currency]],tblXrate[],2,FALSE)","v":19588.708356186824},{"$f":"IF($H$1=\"USD\",tblSalaries[[#This Row],[Salary in USD]],tblSalaries[[#This Row],[Salary in USD]]*VLOOKUP($H$1,USDtoUserChoice,2,FALSE))","v":160666.19416327722},"Sr. Consultant","Consultant","India",{"$f":"VLOOKUP(tblSalaries[[#This Row],[Where do you work]],tblCountries[[Actual]:[Mapping]],2,FALSE)","v":"India"},"All the 8 hours baby, all the 8!",13,{"$f":"IF(ISNA(VLOOKUP(tblSalaries[[#This Row],[Years of Experience]],vlookUpExp!$A$1:$B$56,2,FALSE)),\"No Response\",VLOOKUP(tblSalaries[[#This Row],[Years of Experience]],vlookUpExp!$A$1:$B$56,2,FALSE))","v":"11-15"}]
[null,"ID1204","2012-05-29T00:00:21",61000,61000,"USD",{"$f":"tblSalaries[[#This Row],[clean Salary (in local currency)]]*VLOOKUP(tblSalaries[[#This Row],[Currency]],tblXrate[],2,FALSE)","v":61000},{"$f":"IF($H$1=\"USD\",tblSalaries[[#This Row],[Salary in USD]],tblSalaries[[#This Row],[Salary in USD]]*VLOOKUP($H$1,USDtoUserChoice,2,FALSE))","v":500320.78},"Financial Analyst","Analyst","USA",{"$f":"VLOOKUP(tblSalaries[[#This Row],[Where do you work]],tblCountries[[Actual]:[Mapping]],2,FALSE)","v":"USA"},"4 to 6 hours a day",1.5,{"$f":"IF(ISNA(VLOOKUP(tblSalaries[[#This Row],[Years of Experience]],vlookUpExp!$A$1:$B$56,2,FALSE)),\"No Response\",VLOOKUP(tblSalaries[[#This Row],[Years of Experience]],vlookUpExp!$A$1:$B$56,2,FALSE))","v":"0-5"}]
[null,"ID1205","2012-05-29T00:03:43",34000,34000,"GBP",{"$f":"tblSalaries[[#This Row],[clean Salary (in local currency)]]*VLOOKUP(tblSalaries[[#This Row],[Currency]],tblXrate[],2,FALSE)","v":53590.061250287661},{"$f":"IF($H$1=\"USD\",tblSalaries[[#This Row],[Salary in USD]],tblSalaries[[#This Row],[Salary in USD]]*VLOOKUP($H$1,USDtoUserChoice,2,FALSE))","v":439544.61057363445},"investment accountant","Accountant","UK",{"$f":"VLOOKUP(tblSalaries[[#This Row],[Where do you work]],tblCountries[[Actual]:[Mapping]],2,FALSE)","v":"UK"},"All the 8 hours baby, all the 8!",10,{"$f":"IF(ISNA(VLOOKUP(tblSalaries[[#This Row],[Years of Experience]],vlookUpExp!$A$1:$B$56,2,FALSE)),\"No Response\",VLOOKUP(tblSalaries[[#This Row],[Years of Experience]],vlookUpExp!$A$1:$B$56,2,FALSE))","v":"6-10"}]
[null,"ID1206","2012-05-29T00:03:48",34000,34000,"GBP",{"$f":"tblSalaries[[#This Row],[clean Salary (in local currency)]]*VLOOKUP(tblSalaries[[#This Row],[Currency]],tblXrate[],2,FALSE)","v":53590.061250287661},{"$f":"IF($H$1=\"USD\",tblSalaries[[#This Row],[Salary in USD]],tblSalaries[[#This Row],[Salary in USD]]*VLOOKUP($H$1,USDtoUserChoice,2,FALSE))","v":439544.61057363445},"investment accountant","Accountant","UK",{"$f":"VLOOKUP(tblSalaries[[#This Row],[Where do you work]],tblCountries[[Actual]:[Mapping]],2,FALSE)","v":"UK"},"All the 8 hours baby, all the 8!",10,{"$f":"IF(ISNA(VLOOKUP(tblSalaries[[#This Row],[Years of Experience]],vlookUpExp!$A$1:$B$56,2,FALSE)),\"No Response\",VLOOKUP(tblSalaries[[#This Row],[Years of Experience]],vlookUpExp!$A$1:$B$56,2,FALSE))","v":"6-10"}]
[null,"ID1207","2012-05-29T00:07:00",250000,250000,"INR",{"$f":"tblSalaries[[#This Row],[clean Salary (in local currency)]]*VLOOKUP(tblSalaries[[#This Row],[Currency]],tblXrate[],2,FALSE)","v":4451.9791718606421},{"$f":"IF($H$1=\"USD\",tblSalaries[[#This Row],[Salary in USD]],tblSalaries[[#This Row],[Salary in USD]]*VLOOKUP($H$1,USDtoUserChoice,2,FALSE))","v":36515.044128017551},"Officer Production","Manager","India",{"$f":"VLOOKUP(tblSalaries[[#This Row],[Where do you work]],tblCountries[[Actual]:[Mapping]],2,FALSE)","v":"India"},"4 to 6 hours a day",1,{"$f":"IF(ISNA(VLOOKUP(tblSalaries[[#This Row],[Years of Experience]],vlookUpExp!$A$1:$B$56,2,FALSE)),\"No Response\",VLOOKUP(tblSalaries[[#This Row],[Years of Experience]],vlookUpExp!$A$1:$B$56,2,FALSE))","v":"0-5"}]
[null,"ID1208","2012-05-29T00:07:36",20000,20000,"EUR",{"$f":"tblSalaries[[#This Row],[clean Salary (in local currency)]]*VLOOKUP(tblSalaries[[#This Row],[Currency]],tblXrate[],2,FALSE)","v":25407.988779832154},{"$f":"IF($H$1=\"USD\",tblSalaries[[#This Row],[Salary in USD]],tblSalaries[[#This Row],[Salary in USD]]*VLOOKUP($H$1,USDtoUserChoice,2,FALSE))","v":208395.81581240776},"warehouse management","Manager","GREECE",{"$f":"VLOOKUP(tblSalaries[[#This Row],[Where do you work]],tblCountries[[Actual]:[Mapping]],2,FALSE)","v":"Greece"},"1 or 2 hours a day",12,{"$f":"IF(ISNA(VLOOKUP(tblSalaries[[#This Row],[Years of Experience]],vlookUpExp!$A$1:$B$56,2,FALSE)),\"No Response\",VLOOKUP(tblSalaries[[#This Row],[Years of Experience]],vlookUpExp!$A$1:$B$56,2,FALSE))","v":"11-15"}]
[null,"ID1209","2012-05-29T00:12:23",23000,23000,"USD",{"$f":"tblSalaries[[#This Row],[clean Salary (in local currency)]]*VLOOKUP(tblSalaries[[#This Row],[Currency]],tblXrate[],2,FALSE)","v":23000},{"$f":"IF($H$1=\"USD\",tblSalaries[[#This Row],[Salary in USD]],tblSalaries[[#This Row],[Salary in USD]]*VLOOKUP($H$1,USDtoUserChoice,2,FALSE))","v":188645.54},"Chief Accountant","Accountant","Saudi Arabia",{"$f":"VLOOKUP(tblSalaries[[#This Row],[Where do you work]],tblCountries[[Actual]:[Mapping]],2,FALSE)","v":"Saudi Arabia"},"All the 8 hours baby, all the 8!",14,{"$f":"IF(ISNA(VLOOKUP(tblSalaries[[#This Row],[Years of Experience]],vlookUpExp!$A$1:$B$56,2,FALSE)),\"No Response\",VLOOKUP(tblSalaries[[#This Row],[Years of Experience]],vlookUpExp!$A$1:$B$56,2,FALSE))","v":"11-15"}]
[null,"ID1210","2012-05-29T00:16:55","Rs. 900000",900000,"INR",{"$f":"tblSalaries[[#This Row],[clean Salary (in local currency)]]*VLOOKUP(tblSalaries[[#This Row],[Currency]],tblXrate[],2,FALSE)","v":16027.125018698311},{"$f":"IF($H$1=\"USD\",tblSalaries[[#This Row],[Salary in USD]],tblSalaries[[#This Row],[Salary in USD]]*VLOOKUP($H$1,USDtoUserChoice,2,FALSE))","v":131454.15886086319},"Manager F & A","Manager","India",{"$f":"VLOOKUP(tblSalaries[[#This Row],[Where do you work]],tblCountries[[Actual]:[Mapping]],2,FALSE)","v":"India"},"1 or 2 hours a day",13,{"$f":"IF(ISNA(VLOOKUP(tblSalaries[[#This Row],[Years of Experience]],vlookUpExp!$A$1:$B$56,2,FALSE)),\"No Response\",VLOOKUP(tblSalaries[[#This Row],[Years of Experience]],vlookUpExp!$A$1:$B$56,2,FALSE))","v":"11-15"}]
[null,"ID1211","2012-05-29T00:25:39",60000,60000,"USD",{"$f":"tblSalaries[[#This Row],[clean Salary (in local currency)]]*VLOOKUP(tblSalaries[[#This Row],[Currency]],tblXrate[],2,FALSE)","v":60000},{"$f":"IF($H$1=\"USD\",tblSalaries[[#This Row],[Salary in USD]],tblSalaries[[#This Row],[Salary in USD]]*VLOOKUP($H$1,USDtoUserChoice,2,FALSE))","v":492118.80000000005},"Quality Assurance Engineer","Engineer","USA",{"$f":"VLOOKUP(tblSalaries[[#This Row],[Where do you work]],tblCountries[[Actual]:[Mapping]],2,FALSE)","v":"USA"},"1 or 2 hours a day",6,{"$f":"IF(ISNA(VLOOKUP(tblSalaries[[#This Row],[Years of Experience]],vlookUpExp!$A$1:$B$56,2,FALSE)),\"No Response\",VLOOKUP(tblSalaries[[#This Row],[Years of Experience]],vlookUpExp!$A$1:$B$56,2,FALSE))","v":"6-10"}]
[null,"ID1212","2012-05-29T00:25:46",800,4800,"USD",{"$f":"tblSalaries[[#This Row],[clean Salary (in local currency)]]*VLOOKUP(tblSalaries[[#This Row],[Currency]],tblXrate[],2,FALSE)","v":4800},{"$f":"IF($H$1=\"USD\",tblSalaries[[#This Row],[Salary in USD]],tblSalaries[[#This Row],[Salary in USD]]*VLOOKUP($H$1,USDtoUserChoice,2,FALSE))","v":39369.504000000001},"Financial Analyst","Analyst","India",{"$f":"VLOOKUP(tblSalaries[[#This Row],[Where do you work]],tblCountries[[Actual]:[Mapping]],2,FALSE)","v":"India"},"4 to 6 hours a day",5,{"$f":"IF(ISNA(VLOOKUP(tblSalaries[[#This Row],[Years of Experience]],vlookUpExp!$A$1:$B$56,2,FALSE)),\"No Response\",VLOOKUP(tblSalaries[[#This Row],[Years of Experience]],vlookUpExp!$A$1:$B$56,2,FALSE))","v":"0-5"}]
[null,"ID1213","2012-05-29T00:26:21","DKK 625000",625000,"DKK",{"$f":"tblSalaries[[#This Row],[clean Salary (in local currency)]]*VLOOKUP(tblSalaries[[#This Row],[Currency]],tblXrate[],2,FALSE)","v":106815.148267971},{"$f":"IF($H$1=\"USD\",tblSalaries[[#This Row],[Salary in USD]],tblSalaries[[#This Row],[Salary in USD]]*VLOOKUP($H$1,USDtoUserChoice,2,FALSE))","v":876095.70979093283},"Manager Business Controlling","Manager","Denmark",{"$f":"VLOOKUP(tblSalaries[[#This Row],[Where do you work]],tblCountries[[Actual]:[Mapping]],2,FALSE)","v":"Denmark"},"4 to 6 hours a day",25,{"$f":"IF(ISNA(VLOOKUP(tblSalaries[[#This Row],[Years of Experience]],vlookUpExp!$A$1:$B$56,2,FALSE)),\"No Response\",VLOOKUP(tblSalaries[[#This Row],[Years of Experience]],vlookUpExp!$A$1:$B$56,2,FALSE))","v":"21-25"}]
[null,"ID1214","2012-05-29T00:28:38",500000,500000,"INR",{"$f":"tblSalaries[[#This Row],[clean Salary (in local currency)]]*VLOOKUP(tblSalaries[[#This Row],[Currency]],tblXrate[],2,FALSE)","v":8903.9583437212841},{"$f":"IF($H$1=\"USD\",tblSalaries[[#This Row],[Salary in USD]],tblSalaries[[#This Row],[Salary in USD]]*VLOOKUP($H$1,USDtoUserChoice,2,FALSE))","v":73030.088256035102},"Consultant","Consultant","India",{"$f":"VLOOKUP(tblSalaries[[#This Row],[Where do you work]],tblCountries[[Actual]:[Mapping]],2,FALSE)","v":"India"},"2 to 3 hours per day",3,{"$f":"IF(ISNA(VLOOKUP(tblSalaries[[#This Row],[Years of Experience]],vlookUpExp!$A$1:$B$56,2,FALSE)),\"No Response\",VLOOKUP(tblSalaries[[#This Row],[Years of Experience]],vlookUpExp!$A$1:$B$56,2,FALSE))","v":"0-5"}]
[null,"ID1215","2012-05-29T00:29:32",60000,60000,"USD",{"$f":"tblSalaries[[#This Row],[clean Salary (in local currency)]]*VLOOKUP(tblSalaries[[#This Row],[Currency]],tblXrate[],2,FALSE)","v":60000},{"$f":"IF($H$1=\"USD\",tblSalaries[[#This Row],[Salary in USD]],tblSalaries[[#This Row],[Salary in USD]]*VLOOKUP($H$1,USDtoUserChoice,2,FALSE))","v":492118.80000000005},"sample manager","Manager","USA",{"$f":"VLOOKUP(tblSalaries[[#This Row],[Where do you work]],tblCountries[[Actual]:[Mapping]],2,FALSE)","v":"USA"},"4 to 6 hours a day",12,{"$f":"IF(ISNA(VLOOKUP(tblSalaries[[#This Row],[Years of Experience]],vlookUpExp!$A$1:$B$56,2,FALSE)),\"No Response\",VLOOKUP(tblSalaries[[#This Row],[Years of Experience]],vlookUpExp!$A$1:$B$56,2,FALSE))","v":"11-15"}]
[null,"ID1216","2012-05-29T00:30:42",2600000,2600000,"INR",{"$f":"tblSalaries[[#This Row],[clean Salary (in local currency)]]*VLOOKUP(tblSalaries[[#This Row],[Currency]],tblXrate[],2,FALSE)","v":46300.583387350678},{"$f":"IF($H$1=\"USD\",tblSalaries[[#This Row],[Salary in USD]],tblSalaries[[#This Row],[Salary in USD]]*VLOOKUP($H$1,USDtoUserChoice,2,FALSE))","v":379756.45893138257},"Practice Manager","Manager","India",{"$f":"VLOOKUP(tblSalaries[[#This Row],[Where do you work]],tblCountries[[Actual]:[Mapping]],2,FALSE)","v":"India"},"4 to 6 hours a day",4,{"$f":"IF(ISNA(VLOOKUP(tblSalaries[[#This Row],[Years of Experience]],vlookUpExp!$A$1:$B$56,2,FALSE)),\"No Response\",VLOOKUP(tblSalaries[[#This Row],[Years of Experience]],vlookUpExp!$A$1:$B$56,2,FALSE))","v":"0-5"}]
[null,"ID1217","2012-05-29T00:32:35","INR 750,000",750000,"INR",{"$f":"tblSalaries[[#This Row],[clean Salary (in local currency)]]*VLOOKUP(tblSalaries[[#This Row],[Currency]],tblXrate[],2,FALSE)","v":13355.937515581925},{"$f":"IF($H$1=\"USD\",tblSalaries[[#This Row],[Salary in USD]],tblSalaries[[#This Row],[Salary in USD]]*VLOOKUP($H$1,USDtoUserChoice,2,FALSE))","v":109545.13238405265},"Assistant Manager","Manager","India",{"$f":"VLOOKUP(tblSalaries[[#This Row],[Where do you work]],tblCountries[[Actual]:[Mapping]],2,FALSE)","v":"India"},"2 to 3 hours per day",3,{"$f":"IF(ISNA(VLOOKUP(tblSalaries[[#This Row],[Years of Experience]],vlookUpExp!$A$1:$B$56,2,FALSE)),\"No Response\",VLOOKUP(tblSalaries[[#This Row],[Years of Experience]],vlookUpExp!$A$1:$B$56,2,FALSE))","v":"0-5"}]
[null,"ID1218","2012-05-29T00:36:21",74000,74000,"USD",{"$f":"tblSalaries[[#This Row],[clean Salary (in local currency)]]*VLOOKUP(tblSalaries[[#This Row],[Currency]],tblXrate[],2,FALSE)","v":74000},{"$f":"IF($H$1=\"USD\",tblSalaries[[#This Row],[Salary in USD]],tblSalaries[[#This Row],[Salary in USD]]*VLOOKUP($H$1,USDtoUserChoice,2,FALSE))","v":606946.52},"marketing specialist","Specialist","USA",{"$f":"VLOOKUP(tblSalaries[[#This Row],[Where do you work]],tblCountries[[Actual]:[Mapping]],2,FALSE)","v":"USA"},"4 to 6 hours a day",10,{"$f":"IF(ISNA(VLOOKUP(tblSalaries[[#This Row],[Years of Experience]],vlookUpExp!$A$1:$B$56,2,FALSE)),\"No Response\",VLOOKUP(tblSalaries[[#This Row],[Years of Experience]],vlookUpExp!$A$1:$B$56,2,FALSE))","v":"6-10"}]
[null,"ID1219","2012-05-29T00:47:17",95856,95856,"USD",{"$f":"tblSalaries[[#This Row],[clean Salary (in local currency)]]*VLOOKUP(tblSalaries[[#This Row],[Currency]],tblXrate[],2,FALSE)","v":95856},{"$f":"IF($H$1=\"USD\",tblSalaries[[#This Row],[Salary in USD]],tblSalaries[[#This Row],[Salary in USD]]*VLOOKUP($H$1,USDtoUserChoice,2,FALSE))","v":786208.99488000001},"Analyst","Analyst","USA",{"$f":"VLOOKUP(tblSalaries[[#This Row],[Where do you work]],tblCountries[[Actual]:[Mapping]],2,FALSE)","v":"USA"},"2 to 3 hours per day",13,{"$f":"IF(ISNA(VLOOKUP(tblSalaries[[#This Row],[Years of Experience]],vlookUpExp!$A$1:$B$56,2,FALSE)),\"No Response\",VLOOKUP(tblSalaries[[#This Row],[Years of Experience]],vlookUpExp!$A$1:$B$56,2,FALSE))","v":"11-15"}]
[null,"ID1220","2012-05-29T01:03:19","40,000 US",40000,"USD",{"$f":"tblSalaries[[#This Row],[clean Salary (in local currency)]]*VLOOKUP(tblSalaries[[#This Row],[Currency]],tblXrate[],2,FALSE)","v":40000},{"$f":"IF($H$1=\"USD\",tblSalaries[[#This Row],[Salary in USD]],tblSalaries[[#This Row],[Salary in USD]]*VLOOKUP($H$1,USDtoUserChoice,2,FALSE))","v":328079.2},"Staff Accountant","Accountant","USA",{"$f":"VLOOKUP(tblSalaries[[#This Row],[Where do you work]],tblCountries[[Actual]:[Mapping]],2,FALSE)","v":"USA"},"2 to 3 hours per day",15,{"$f":"IF(ISNA(VLOOKUP(tblSalaries[[#This Row],[Years of Experience]],vlookUpExp!$A$1:$B$56,2,FALSE)),\"No Response\",VLOOKUP(tblSalaries[[#This Row],[Years of Experience]],vlookUpExp!$A$1:$B$56,2,FALSE))","v":"11-15"}]
[null,"ID1221","2012-05-29T01:06:44",4400,4400,"USD",{"$f":"tblSalaries[[#This Row],[clean Salary (in local currency)]]*VLOOKUP(tblSalaries[[#This Row],[Currency]],tblXrate[],2,FALSE)","v":4400},{"$f":"IF($H$1=\"USD\",tblSalaries[[#This Row],[Salary in USD]],tblSalaries[[#This Row],[Salary in USD]]*VLOOKUP($H$1,USDtoUserChoice,2,FALSE))","v":36088.712},"Manager Corporate Finance","Manager","Latin America",{"$f":"VLOOKUP(tblSalaries[[#This Row],[Where do you work]],tblCountries[[Actual]:[Mapping]],2,FALSE)","v":"Latin America"},"2 to 3 hours per day",5,{"$f":"IF(ISNA(VLOOKUP(tblSalaries[[#This Row],[Years of Experience]],vlookUpExp!$A$1:$B$56,2,FALSE)),\"No Response\",VLOOKUP(tblSalaries[[#This Row],[Years of Experience]],vlookUpExp!$A$1:$B$56,2,FALSE))","v":"0-5"}]
[null,"ID1222","2012-05-29T01:12:28",90000,90000,"USD",{"$f":"tblSalaries[[#This Row],[clean Salary (in local currency)]]*VLOOKUP(tblSalaries[[#This Row],[Currency]],tblXrate[],2,FALSE)","v":90000},{"$f":"IF($H$1=\"USD\",tblSalaries[[#This Row],[Salary in USD]],tblSalaries[[#This Row],[Salary in USD]]*VLOOKUP($H$1,USDtoUserChoice,2,FALSE))","v":738178.20000000007},"Senior Analyst","Analyst","USA",{"$f":"VLOOKUP(tblSalaries[[#This Row],[Where do you work]],tblCountries[[Actual]:[Mapping]],2,FALSE)","v":"USA"},"4 to 6 hours a day",30,{"$f":"IF(ISNA(VLOOKUP(tblSalaries[[#This Row],[Years of Experience]],vlookUpExp!$A$1:$B$56,2,FALSE)),\"No Response\",VLOOKUP(tblSalaries[[#This Row],[Years of Experience]],vlookUpExp!$A$1:$B$56,2,FALSE))","v":"26-30"}]
[null,"ID1223","2012-05-29T01:19:26","INR 450000",450000,"INR",{"$f":"tblSalaries[[#This Row],[clean Salary (in local currency)]]*VLOOKUP(tblSalaries[[#This Row],[Currency]],tblXrate[],2,FALSE)","v":8013.5625093491553},{"$f":"IF($H$1=\"USD\",tblSalaries[[#This Row],[Salary in USD]],tblSalaries[[#This Row],[Salary in USD]]*VLOOKUP($H$1,USDtoUserChoice,2,FALSE))","v":65727.079430431593},"ASSISTANT MANAGER","Manager","India",{"$f":"VLOOKUP(tblSalaries[[#This Row],[Where do you work]],tblCountries[[Actual]:[Mapping]],2,FALSE)","v":"India"},"All the 8 hours baby, all the 8!",2,{"$f":"IF(ISNA(VLOOKUP(tblSalaries[[#This Row],[Years of Experience]],vlookUpExp!$A$1:$B$56,2,FALSE)),\"No Response\",VLOOKUP(tblSalaries[[#This Row],[Years of Experience]],vlookUpExp!$A$1:$B$56,2,FALSE))","v":"0-5"}]
[null,"ID1224","2012-05-29T01:22:59","INR 1000000",1000000,"INR",{"$f":"tblSalaries[[#This Row],[clean Salary (in local currency)]]*VLOOKUP(tblSalaries[[#This Row],[Currency]],tblXrate[],2,FALSE)","v":17807.916687442568},{"$f":"IF($H$1=\"USD\",tblSalaries[[#This Row],[Salary in USD]],tblSalaries[[#This Row],[Salary in USD]]*VLOOKUP($H$1,USDtoUserChoice,2,FALSE))","v":146060.1765120702},"Asst Manager","Manager","India",{"$f":"VLOOKUP(tblSalaries[[#This Row],[Where do you work]],tblCountries[[Actual]:[Mapping]],2,FALSE)","v":"India"},"4 to 6 hours a day",8.5,{"$f":"IF(ISNA(VLOOKUP(tblSalaries[[#This Row],[Years of Experience]],vlookUpExp!$A$1:$B$56,2,FALSE)),\"No Response\",VLOOKUP(tblSalaries[[#This Row],[Years of Experience]],vlookUpExp!$A$1:$B$56,2,FALSE))","v":"6-10"}]
[null,"ID1225","2012-05-29T01:31:39","700000 INR",700000,"INR",{"$f":"tblSalaries[[#This Row],[clean Salary (in local currency)]]*VLOOKUP(tblSalaries[[#This Row],[Currency]],tblXrate[],2,FALSE)","v":12465.541681209797},{"$f":"IF($H$1=\"USD\",tblSalaries[[#This Row],[Salary in USD]],tblSalaries[[#This Row],[Salary in USD]]*VLOOKUP($H$1,USDtoUserChoice,2,FALSE))","v":102242.12355844914},"Lead Executive MIS","Reporting","India",{"$f":"VLOOKUP(tblSalaries[[#This Row],[Where do you work]],tblCountries[[Actual]:[Mapping]],2,FALSE)","v":"India"},"4 to 6 hours a day",6,{"$f":"IF(ISNA(VLOOKUP(tblSalaries[[#This Row],[Years of Experience]],vlookUpExp!$A$1:$B$56,2,FALSE)),\"No Response\",VLOOKUP(tblSalaries[[#This Row],[Years of Experience]],vlookUpExp!$A$1:$B$56,2,FALSE))","v":"6-10"}]
[null,"ID1226","2012-05-29T01:41:00",80000,80000,"USD",{"$f":"tblSalaries[[#This Row],[clean Salary (in local currency)]]*VLOOKUP(tblSalaries[[#This Row],[Currency]],tblXrate[],2,FALSE)","v":80000},{"$f":"IF($H$1=\"USD\",tblSalaries[[#This Row],[Salary in USD]],tblSalaries[[#This Row],[Salary in USD]]*VLOOKUP($H$1,USDtoUserChoice,2,FALSE))","v":656158.4},"Snr Business Analyst","Analyst","Singapore",{"$f":"VLOOKUP(tblSalaries[[#This Row],[Where do you work]],tblCountries[[Actual]:[Mapping]],2,FALSE)","v":"Singapore"},"1 or 2 hours a day",6,{"$f":"IF(ISNA(VLOOKUP(tblSalaries[[#This Row],[Years of Experience]],vlookUpExp!$A$1:$B$56,2,FALSE)),\"No Response\",VLOOKUP(tblSalaries[[#This Row],[Years of Experience]],vlookUpExp!$A$1:$B$56,2,FALSE))","v":"6-10"}]
[null,"ID1227","2012-05-29T01:44:03",100000,100000,"USD",{"$f":"tblSalaries[[#This Row],[clean Salary (in local currency)]]*VLOOKUP(tblSalaries[[#This Row],[Currency]],tblXrate[],2,FALSE)","v":100000},{"$f":"IF($H$1=\"USD\",tblSalaries[[#This Row],[Salary in USD]],tblSalaries[[#This Row],[Salary in USD]]*VLOOKUP($H$1,USDtoUserChoice,2,FALSE))","v":820198.00000000012},"Finance Manager","Manager","USA",{"$f":"VLOOKUP(tblSalaries[[#This Row],[Where do you work]],tblCountries[[Actual]:[Mapping]],2,FALSE)","v":"USA"},"4 to 6 hours a day",11,{"$f":"IF(ISNA(VLOOKUP(tblSalaries[[#This Row],[Years of Experience]],vlookUpExp!$A$1:$B$56,2,FALSE)),\"No Response\",VLOOKUP(tblSalaries[[#This Row],[Years of Experience]],vlookUpExp!$A$1:$B$56,2,FALSE))","v":"11-15"}]
[null,"ID1228","2012-05-29T01:45:13",4100,49200,"USD",{"$f":"tblSalaries[[#This Row],[clean Salary (in local currency)]]*VLOOKUP(tblSalaries[[#This Row],[Currency]],tblXrate[],2,FALSE)","v":49200},{"$f":"IF($H$1=\"USD\",tblSalaries[[#This Row],[Salary in USD]],tblSalaries[[#This Row],[Salary in USD]]*VLOOKUP($H$1,USDtoUserChoice,2,FALSE))","v":403537.41600000003},"Chief Accountant","Accountant","QATAR",{"$f":"VLOOKUP(tblSalaries[[#This Row],[Where do you work]],tblCountries[[Actual]:[Mapping]],2,FALSE)","v":"Qatar"},"2 to 3 hours per day",25,{"$f":"IF(ISNA(VLOOKUP(tblSalaries[[#This Row],[Years of Experience]],vlookUpExp!$A$1:$B$56,2,FALSE)),\"No Response\",VLOOKUP(tblSalaries[[#This Row],[Years of Experience]],vlookUpExp!$A$1:$B$56,2,FALSE))","v":"21-25"}]
[null,"ID1229","2012-05-29T01:47:39",750,9000,"USD",{"$f":"tblSalaries[[#This Row],[clean Salary (in local currency)]]*VLOOKUP(tblSalaries[[#This Row],[Currency]],tblXrate[],2,FALSE)","v":9000},{"$f":"IF($H$1=\"USD\",tblSalaries[[#This Row],[Salary in USD]],tblSalaries[[#This Row],[Salary in USD]]*VLOOKUP($H$1,USDtoUserChoice,2,FALSE))","v":73817.820000000007},"assurance manager","Manager","India",{"$f":"VLOOKUP(tblSalaries[[#This Row],[Where do you work]],tblCountries[[Actual]:[Mapping]],2,FALSE)","v":"India"},"4 to 6 hours a day",1,{"$f":"IF(ISNA(VLOOKUP(tblSalaries[[#This Row],[Years of Experience]],vlookUpExp!$A$1:$B$56,2,FALSE)),\"No Response\",VLOOKUP(tblSalaries[[#This Row],[Years of Experience]],vlookUpExp!$A$1:$B$56,2,FALSE))","v":"0-5"}]
[null,"ID1230","2012-05-29T01:50:01",300000,300000,"INR",{"$f":"tblSalaries[[#This Row],[clean Salary (in local currency)]]*VLOOKUP(tblSalaries[[#This Row],[Currency]],tblXrate[],2,FALSE)","v":5342.3750062327708},{"$f":"IF($H$1=\"USD\",tblSalaries[[#This Row],[Salary in USD]],tblSalaries[[#This Row],[Salary in USD]]*VLOOKUP($H$1,USDtoUserChoice,2,FALSE))","v":43818.052953621067},"Finance Analyst","Analyst","India",{"$f":"VLOOKUP(tblSalaries[[#This Row],[Where do you work]],tblCountries[[Actual]:[Mapping]],2,FALSE)","v":"India"},"4 to 6 hours a day",6,{"$f":"IF(ISNA(VLOOKUP(tblSalaries[[#This Row],[Years of Experience]],vlookUpExp!$A$1:$B$56,2,FALSE)),\"No Response\",VLOOKUP(tblSalaries[[#This Row],[Years of Experience]],vlookUpExp!$A$1:$B$56,2,FALSE))","v":"6-10"}]
[null,"ID1231","2012-05-29T02:02:39","$40K",40000,"USD",{"$f":"tblSalaries[[#This Row],[clean Salary (in local currency)]]*VLOOKUP(tblSalaries[[#This Row],[Currency]],tblXrate[],2,FALSE)","v":40000},{"$f":"IF($H$1=\"USD\",tblSalaries[[#This Row],[Salary in USD]],tblSalaries[[#This Row],[Salary in USD]]*VLOOKUP($H$1,USDtoUserChoice,2,FALSE))","v":328079.2},"SOX,SAP, Insurance Coordinator","Manager","Pakistan, Angola",{"$f":"VLOOKUP(tblSalaries[[#This Row],[Where do you work]],tblCountries[[Actual]:[Mapping]],2,FALSE)","v":"Pakistan"},"4 to 6 hours a day",15,{"$f":"IF(ISNA(VLOOKUP(tblSalaries[[#This Row],[Years of Experience]],vlookUpExp!$A$1:$B$56,2,FALSE)),\"No Response\",VLOOKUP(tblSalaries[[#This Row],[Years of Experience]],vlookUpExp!$A$1:$B$56,2,FALSE))","v":"11-15"}]
[null,"ID1232","2012-05-29T02:12:32","Â£26000",26000,"GBP",{"$f":"tblSalaries[[#This Row],[clean Salary (in local currency)]]*VLOOKUP(tblSalaries[[#This Row],[Currency]],tblXrate[],2,FALSE)","v":40980.635073749385},{"$f":"IF($H$1=\"USD\",tblSalaries[[#This Row],[Salary in USD]],tblSalaries[[#This Row],[Salary in USD]]*VLOOKUP($H$1,USDtoUserChoice,2,FALSE))","v":336122.34926219098},"Business Analyst","Analyst","UK",{"$f":"VLOOKUP(tblSalaries[[#This Row],[Where do you work]],tblCountries[[Actual]:[Mapping]],2,FALSE)","v":"UK"},"4 to 6 hours a day",2,{"$f":"IF(ISNA(VLOOKUP(tblSalaries[[#This Row],[Years of Experience]],vlookUpExp!$A$1:$B$56,2,FALSE)),\"No Response\",VLOOKUP(tblSalaries[[#This Row],[Years of Experience]],vlookUpExp!$A$1:$B$56,2,FALSE))","v":"0-5"}]
[null,"ID1233","2012-05-29T02:19:27","Â£29000",29000,"GBP",{"$f":"tblSalaries[[#This Row],[clean Salary (in local currency)]]*VLOOKUP(tblSalaries[[#This Row],[Currency]],tblXrate[],2,FALSE)","v":45709.169889951241},{"$f":"IF($H$1=\"USD\",tblSalaries[[#This Row],[Salary in USD]],tblSalaries[[#This Row],[Salary in USD]]*VLOOKUP($H$1,USDtoUserChoice,2,FALSE))","v":374905.6972539823},"Financial Accountant","Accountant","UK",{"$f":"VLOOKUP(tblSalaries[[#This Row],[Where do you work]],tblCountries[[Actual]:[Mapping]],2,FALSE)","v":"UK"},"2 to 3 hours per day",8,{"$f":"IF(ISNA(VLOOKUP(tblSalaries[[#This Row],[Years of Experience]],vlookUpExp!$A$1:$B$56,2,FALSE)),\"No Response\",VLOOKUP(tblSalaries[[#This Row],[Years of Experience]],vlookUpExp!$A$1:$B$56,2,FALSE))","v":"6-10"}]
[null,"ID1234","2012-05-29T02:22:13",400000,400000,"INR",{"$f":"tblSalaries[[#This Row],[clean Salary (in local currency)]]*VLOOKUP(tblSalaries[[#This Row],[Currency]],tblXrate[],2,FALSE)","v":7123.1666749770275},{"$f":"IF($H$1=\"USD\",tblSalaries[[#This Row],[Salary in USD]],tblSalaries[[#This Row],[Salary in USD]]*VLOOKUP($H$1,USDtoUserChoice,2,FALSE))","v":58424.070604828084},"Pmo","Manager","India",{"$f":"VLOOKUP(tblSalaries[[#This Row],[Where do you work]],tblCountries[[Actual]:[Mapping]],2,FALSE)","v":"India"},"4 to 6 hours a day",1,{"$f":"IF(ISNA(VLOOKUP(tblSalaries[[#This Row],[Years of Experience]],vlookUpExp!$A$1:$B$56,2,FALSE)),\"No Response\",VLOOKUP(tblSalaries[[#This Row],[Years of Experience]],vlookUpExp!$A$1:$B$56,2,FALSE))","v":"0-5"}]
[null,"ID1235","2012-05-29T02:26:28","100000 USD",100000,"USD",{"$f":"tblSalaries[[#This Row],[clean Salary (in local currency)]]*VLOOKUP(tblSalaries[[#This Row],[Currency]],tblXrate[],2,FALSE)","v":100000},{"$f":"IF($H$1=\"USD\",tblSalaries[[#This Row],[Salary in USD]],tblSalaries[[#This Row],[Salary in USD]]*VLOOKUP($H$1,USDtoUserChoice,2,FALSE))","v":820198.00000000012},"Controller","Controller","Norway",{"$f":"VLOOKUP(tblSalaries[[#This Row],[Where do you work]],tblCountries[[Actual]:[Mapping]],2,FALSE)","v":"Norway"},"4 to 6 hours a day",12,{"$f":"IF(ISNA(VLOOKUP(tblSalaries[[#This Row],[Years of Experience]],vlookUpExp!$A$1:$B$56,2,FALSE)),\"No Response\",VLOOKUP(tblSalaries[[#This Row],[Years of Experience]],vlookUpExp!$A$1:$B$56,2,FALSE))","v":"11-15"}]
[null,"ID1236","2012-05-29T02:43:44","62.000 euro",62000,"EUR",{"$f":"tblSalaries[[#This Row],[clean Salary (in local currency)]]*VLOOKUP(tblSalaries[[#This Row],[Currency]],tblXrate[],2,FALSE)","v":78764.765217479682},{"$f":"IF($H$1=\"USD\",tblSalaries[[#This Row],[Salary in USD]],tblSalaries[[#This Row],[Salary in USD]]*VLOOKUP($H$1,USDtoUserChoice,2,FALSE))","v":646027.02901846403},"Stafmember","Analyst","Netherlands",{"$f":"VLOOKUP(tblSalaries[[#This Row],[Where do you work]],tblCountries[[Actual]:[Mapping]],2,FALSE)","v":"Netherlands"},"4 to 6 hours a day",15,{"$f":"IF(ISNA(VLOOKUP(tblSalaries[[#This Row],[Years of Experience]],vlookUpExp!$A$1:$B$56,2,FALSE)),\"No Response\",VLOOKUP(tblSalaries[[#This Row],[Years of Experience]],vlookUpExp!$A$1:$B$56,2,FALSE))","v":"11-15"}]
[null,"ID1237","2012-05-29T03:16:02",150000,150000,"AUD",{"$f":"tblSalaries[[#This Row],[clean Salary (in local currency)]]*VLOOKUP(tblSalaries[[#This Row],[Currency]],tblXrate[],2,FALSE)","v":152986.44846039536},{"$f":"IF($H$1=\"USD\",tblSalaries[[#This Row],[Salary in USD]],tblSalaries[[#This Row],[Salary in USD]]*VLOOKUP($H$1,USDtoUserChoice,2,FALSE))","v":1254791.7905431937},"Analyst","Analyst","Australia",{"$f":"VLOOKUP(tblSalaries[[#This Row],[Where do you work]],tblCountries[[Actual]:[Mapping]],2,FALSE)","v":"Australia"},"2 to 3 hours per day",10,{"$f":"IF(ISNA(VLOOKUP(tblSalaries[[#This Row],[Years of Experience]],vlookUpExp!$A$1:$B$56,2,FALSE)),\"No Response\",VLOOKUP(tblSalaries[[#This Row],[Years of Experience]],vlookUpExp!$A$1:$B$56,2,FALSE))","v":"6-10"}]
[null,"ID1238","2012-05-29T03:28:37","â‚¬35,000 / â‚¬44,000",35000,"EUR",{"$f":"tblSalaries[[#This Row],[clean Salary (in local currency)]]*VLOOKUP(tblSalaries[[#This Row],[Currency]],tblXrate[],2,FALSE)","v":44463.980364706273},{"$f":"IF($H$1=\"USD\",tblSalaries[[#This Row],[Salary in USD]],tblSalaries[[#This Row],[Salary in USD]]*VLOOKUP($H$1,USDtoUserChoice,2,FALSE))","v":364692.67767171358},"Business Analyst","Analyst","Ireland",{"$f":"VLOOKUP(tblSalaries[[#This Row],[Where do you work]],tblCountries[[Actual]:[Mapping]],2,FALSE)","v":"Ireland"},"All the 8 hours baby, all the 8!",12,{"$f":"IF(ISNA(VLOOKUP(tblSalaries[[#This Row],[Years of Experience]],vlookUpExp!$A$1:$B$56,2,FALSE)),\"No Response\",VLOOKUP(tblSalaries[[#This Row],[Years of Experience]],vlookUpExp!$A$1:$B$56,2,FALSE))","v":"11-15"}]
[null,"ID1239","2012-05-29T03:51:09",30,30000,"EUR",{"$f":"tblSalaries[[#This Row],[clean Salary (in local currency)]]*VLOOKUP(tblSalaries[[#This Row],[Currency]],tblXrate[],2,FALSE)","v":38111.983169748237},{"$f":"IF($H$1=\"USD\",tblSalaries[[#This Row],[Salary in USD]],tblSalaries[[#This Row],[Salary in USD]]*VLOOKUP($H$1,USDtoUserChoice,2,FALSE))","v":312593.7237186117},"education advisor","Consultant","the Netherlands",{"$f":"VLOOKUP(tblSalaries[[#This Row],[Where do you work]],tblCountries[[Actual]:[Mapping]],2,FALSE)","v":"Netherlands"},"1 or 2 hours a day",8,{"$f":"IF(ISNA(VLOOKUP(tblSalaries[[#This Row],[Years of Experience]],vlookUpExp!$A$1:$B$56,2,FALSE)),\"No Response\",VLOOKUP(tblSalaries[[#This Row],[Years of Experience]],vlookUpExp!$A$1:$B$56,2,FALSE))","v":"6-10"}]
[null,"ID1240","2012-05-29T03:51:28",75000,75000,"GBP",{"$f":"tblSalaries[[#This Row],[clean Salary (in local currency)]]*VLOOKUP(tblSalaries[[#This Row],[Currency]],tblXrate[],2,FALSE)","v":118213.37040504631},{"$f":"IF($H$1=\"USD\",tblSalaries[[#This Row],[Salary in USD]],tblSalaries[[#This Row],[Salary in USD]]*VLOOKUP($H$1,USDtoUserChoice,2,FALSE))","v":969583.69979478186},"Finance Manager","Manager","UK",{"$f":"VLOOKUP(tblSalaries[[#This Row],[Where do you work]],tblCountries[[Actual]:[Mapping]],2,FALSE)","v":"UK"},"4 to 6 hours a day",20,{"$f":"IF(ISNA(VLOOKUP(tblSalaries[[#This Row],[Years of Experience]],vlookUpExp!$A$1:$B$56,2,FALSE)),\"No Response\",VLOOKUP(tblSalaries[[#This Row],[Years of Experience]],vlookUpExp!$A$1:$B$56,2,FALSE))","v":"16-20"}]
[null,"ID1241","2012-05-29T04:03:07",25000,25000,"GBP",{"$f":"tblSalaries[[#This Row],[clean Salary (in local currency)]]*VLOOKUP(tblSalaries[[#This Row],[Currency]],tblXrate[],2,FALSE)","v":39404.456801682099},{"$f":"IF($H$1=\"USD\",tblSalaries[[#This Row],[Salary in USD]],tblSalaries[[#This Row],[Salary in USD]]*VLOOKUP($H$1,USDtoUserChoice,2,FALSE))","v":323194.5665982606},"Senior Accounts Clerk","Accountant","UK",{"$f":"VLOOKUP(tblSalaries[[#This Row],[Where do you work]],tblCountries[[Actual]:[Mapping]],2,FALSE)","v":"UK"},"2 to 3 hours per day",10,{"$f":"IF(ISNA(VLOOKUP(tblSalaries[[#This Row],[Years of Experience]],vlookUpExp!$A$1:$B$56,2,FALSE)),\"No Response\",VLOOKUP(tblSalaries[[#This Row],[Years of Experience]],vlookUpExp!$A$1:$B$56,2,FALSE))","v":"6-10"}]
[null,"ID1242","2012-05-29T04:08:45",71000,71000,"EUR",{"$f":"tblSalaries[[#This Row],[clean Salary (in local currency)]]*VLOOKUP(tblSalaries[[#This Row],[Currency]],tblXrate[],2,FALSE)","v":90198.36016840415},{"$f":"IF($H$1=\"USD\",tblSalaries[[#This Row],[Salary in USD]],tblSalaries[[#This Row],[Salary in USD]]*VLOOKUP($H$1,USDtoUserChoice,2,FALSE))","v":739805.14613404754},"Consultant","Consultant","Germany",{"$f":"VLOOKUP(tblSalaries[[#This Row],[Where do you work]],tblCountries[[Actual]:[Mapping]],2,FALSE)","v":"Germany"},"1 or 2 hours a day",3,{"$f":"IF(ISNA(VLOOKUP(tblSalaries[[#This Row],[Years of Experience]],vlookUpExp!$A$1:$B$56,2,FALSE)),\"No Response\",VLOOKUP(tblSalaries[[#This Row],[Years of Experience]],vlookUpExp!$A$1:$B$56,2,FALSE))","v":"0-5"}]
[null,"ID1243","2012-05-29T04:11:58","Â£30000",30000,"GBP",{"$f":"tblSalaries[[#This Row],[clean Salary (in local currency)]]*VLOOKUP(tblSalaries[[#This Row],[Currency]],tblXrate[],2,FALSE)","v":47285.348162018527},{"$f":"IF($H$1=\"USD\",tblSalaries[[#This Row],[Salary in USD]],tblSalaries[[#This Row],[Salary in USD]]*VLOOKUP($H$1,USDtoUserChoice,2,FALSE))","v":387833.47991791274},"Infection Prevention Surveillance Specialist","Specialist","UK",{"$f":"VLOOKUP(tblSalaries[[#This Row],[Where do you work]],tblCountries[[Actual]:[Mapping]],2,FALSE)","v":"UK"},"4 to 6 hours a day",14,{"$f":"IF(ISNA(VLOOKUP(tblSalaries[[#This Row],[Years of Experience]],vlookUpExp!$A$1:$B$56,2,FALSE)),\"No Response\",VLOOKUP(tblSalaries[[#This Row],[Years of Experience]],vlookUpExp!$A$1:$B$56,2,FALSE))","v":"11-15"}]
[null,"ID1244","2012-05-29T04:25:02",56000,56000,"USD",{"$f":"tblSalaries[[#This Row],[clean Salary (in local currency)]]*VLOOKUP(tblSalaries[[#This Row],[Currency]],tblXrate[],2,FALSE)","v":56000},{"$f":"IF($H$1=\"USD\",tblSalaries[[#This Row],[Salary in USD]],tblSalaries[[#This Row],[Salary in USD]]*VLOOKUP($H$1,USDtoUserChoice,2,FALSE))","v":459310.88000000006},"Accountant","Accountant","USA",{"$f":"VLOOKUP(tblSalaries[[#This Row],[Where do you work]],tblCountries[[Actual]:[Mapping]],2,FALSE)","v":"USA"},"4 to 6 hours a day",1,{"$f":"IF(ISNA(VLOOKUP(tblSalaries[[#This Row],[Years of Experience]],vlookUpExp!$A$1:$B$56,2,FALSE)),\"No Response\",VLOOKUP(tblSalaries[[#This Row],[Years of Experience]],vlookUpExp!$A$1:$B$56,2,FALSE))","v":"0-5"}]
[null,"ID1245","2012-05-29T04:30:10","IDR 4000000",48000000,"IDR",{"$f":"tblSalaries[[#This Row],[clean Salary (in local currency)]]*VLOOKUP(tblSalaries[[#This Row],[Currency]],tblXrate[],2,FALSE)","v":5082.6943786459069},{"$f":"IF($H$1=\"USD\",tblSalaries[[#This Row],[Salary in USD]],tblSalaries[[#This Row],[Salary in USD]]*VLOOKUP($H$1,USDtoUserChoice,2,FALSE))","v":41688.157639766156},"Office Instructor","Analyst","Indonesia",{"$f":"VLOOKUP(tblSalaries[[#This Row],[Where do you work]],tblCountries[[Actual]:[Mapping]],2,FALSE)","v":"Indonesia"},"1 or 2 hours a day",2,{"$f":"IF(ISNA(VLOOKUP(tblSalaries[[#This Row],[Years of Experience]],vlookUpExp!$A$1:$B$56,2,FALSE)),\"No Response\",VLOOKUP(tblSalaries[[#This Row],[Years of Experience]],vlookUpExp!$A$1:$B$56,2,FALSE))","v":"0-5"}]
[null,"ID1246","2012-05-29T04:33:37","GBP 34000",34000,"GBP",{"$f":"tblSalaries[[#This Row],[clean Salary (in local currency)]]*VLOOKUP(tblSalaries[[#This Row],[Currency]],tblXrate[],2,FALSE)","v":53590.061250287661},{"$f":"IF($H$1=\"USD\",tblSalaries[[#This Row],[Salary in USD]],tblSalaries[[#This Row],[Salary in USD]]*VLOOKUP($H$1,USDtoUserChoice,2,FALSE))","v":439544.61057363445},"Investment Accountant","Accountant","UK",{"$f":"VLOOKUP(tblSalaries[[#This Row],[Where do you work]],tblCountries[[Actual]:[Mapping]],2,FALSE)","v":"UK"},"All the 8 hours baby, all the 8!",10,{"$f":"IF(ISNA(VLOOKUP(tblSalaries[[#This Row],[Years of Experience]],vlookUpExp!$A$1:$B$56,2,FALSE)),\"No Response\",VLOOKUP(tblSalaries[[#This Row],[Years of Experience]],vlookUpExp!$A$1:$B$56,2,FALSE))","v":"6-10"}]
[null,"ID1247","2012-05-29T05:03:26","dkk 450000",450000,"DKK",{"$f":"tblSalaries[[#This Row],[clean Salary (in local currency)]]*VLOOKUP(tblSalaries[[#This Row],[Currency]],tblXrate[],2,FALSE)","v":76906.906752939132},{"$f":"IF($H$1=\"USD\",tblSalaries[[#This Row],[Salary in USD]],tblSalaries[[#This Row],[Salary in USD]]*VLOOKUP($H$1,USDtoUserChoice,2,FALSE))","v":630788.9110494717},"owner","CXO or Top Mgmt.","Denmark",{"$f":"VLOOKUP(tblSalaries[[#This Row],[Where do you work]],tblCountries[[Actual]:[Mapping]],2,FALSE)","v":"Denmark"},"All the 8 hours baby, all the 8!",17,{"$f":"IF(ISNA(VLOOKUP(tblSalaries[[#This Row],[Years of Experience]],vlookUpExp!$A$1:$B$56,2,FALSE)),\"No Response\",VLOOKUP(tblSalaries[[#This Row],[Years of Experience]],vlookUpExp!$A$1:$B$56,2,FALSE))","v":"16-20"}]
[null,"ID1248","2012-05-29T05:08:57","85000 USD",85000,"USD",{"$f":"tblSalaries[[#This Row],[clean Salary (in local currency)]]*VLOOKUP(tblSalaries[[#This Row],[Currency]],tblXrate[],2,FALSE)","v":85000},{"$f":"IF($H$1=\"USD\",tblSalaries[[#This Row],[Salary in USD]],tblSalaries[[#This Row],[Salary in USD]]*VLOOKUP($H$1,USDtoUserChoice,2,FALSE))","v":697168.3},"Senior Executive Compensation Analyst ","Analyst","USA",{"$f":"VLOOKUP(tblSalaries[[#This Row],[Where do you work]],tblCountries[[Actual]:[Mapping]],2,FALSE)","v":"USA"},"4 to 6 hours a day",5,{"$f":"IF(ISNA(VLOOKUP(tblSalaries[[#This Row],[Years of Experience]],vlookUpExp!$A$1:$B$56,2,FALSE)),\"No Response\",VLOOKUP(tblSalaries[[#This Row],[Years of Experience]],vlookUpExp!$A$1:$B$56,2,FALSE))","v":"0-5"}]
[null,"ID1249","2012-05-29T05:11:03","USD72000",72000,"USD",{"$f":"tblSalaries[[#This Row],[clean Salary (in local currency)]]*VLOOKUP(tblSalaries[[#This Row],[Currency]],tblXrate[],2,FALSE)","v":72000},{"$f":"IF($H$1=\"USD\",tblSalaries[[#This Row],[Salary in USD]],tblSalaries[[#This Row],[Salary in USD]]*VLOOKUP($H$1,USDtoUserChoice,2,FALSE))","v":590542.56000000006},"Markets Adviser","Consultant","New Zealand",{"$f":"VLOOKUP(tblSalaries[[#This Row],[Where do you work]],tblCountries[[Actual]:[Mapping]],2,FALSE)","v":"New Zealand"},"2 to 3 hours per day",10,{"$f":"IF(ISNA(VLOOKUP(tblSalaries[[#This Row],[Years of Experience]],vlookUpExp!$A$1:$B$56,2,FALSE)),\"No Response\",VLOOKUP(tblSalaries[[#This Row],[Years of Experience]],vlookUpExp!$A$1:$B$56,2,FALSE))","v":"6-10"}]
[null,"ID1250","2012-05-29T05:21:39",55000,55000,"USD",{"$f":"tblSalaries[[#This Row],[clean Salary (in local currency)]]*VLOOKUP(tblSalaries[[#This Row],[Currency]],tblXrate[],2,FALSE)","v":55000},{"$f":"IF($H$1=\"USD\",tblSalaries[[#This Row],[Salary in USD]],tblSalaries[[#This Row],[Salary in USD]]*VLOOKUP($H$1,USDtoUserChoice,2,FALSE))","v":451108.9},"Systems Analyst","Analyst","USA",{"$f":"VLOOKUP(tblSalaries[[#This Row],[Where do you work]],tblCountries[[Actual]:[Mapping]],2,FALSE)","v":"USA"},"1 or 2 hours a day",7,{"$f":"IF(ISNA(VLOOKUP(tblSalaries[[#This Row],[Years of Experience]],vlookUpExp!$A$1:$B$56,2,FALSE)),\"No Response\",VLOOKUP(tblSalaries[[#This Row],[Years of Experience]],vlookUpExp!$A$1:$B$56,2,FALSE))","v":"6-10"}]
[null,"ID1251","2012-05-29T05:47:34","GBP 43,000",43000,"GBP",{"$f":"tblSalaries[[#This Row],[clean Salary (in local currency)]]*VLOOKUP(tblSalaries[[#This Row],[Currency]],tblXrate[],2,FALSE)","v":67775.665698893223},{"$f":"IF($H$1=\"USD\",tblSalaries[[#This Row],[Salary in USD]],tblSalaries[[#This Row],[Salary in USD]]*VLOOKUP($H$1,USDtoUserChoice,2,FALSE))","v":555894.65454900824},"Financial Controller","Controller","UK",{"$f":"VLOOKUP(tblSalaries[[#This Row],[Where do you work]],tblCountries[[Actual]:[Mapping]],2,FALSE)","v":"UK"},"4 to 6 hours a day",25,{"$f":"IF(ISNA(VLOOKUP(tblSalaries[[#This Row],[Years of Experience]],vlookUpExp!$A$1:$B$56,2,FALSE)),\"No Response\",VLOOKUP(tblSalaries[[#This Row],[Years of Experience]],vlookUpExp!$A$1:$B$56,2,FALSE))","v":"21-25"}]
[null,"ID1252","2012-05-29T05:53:42","Â£25750",25750,"GBP",{"$f":"tblSalaries[[#This Row],[clean Salary (in local currency)]]*VLOOKUP(tblSalaries[[#This Row],[Currency]],tblXrate[],2,FALSE)","v":40586.590505732565},{"$f":"IF($H$1=\"USD\",tblSalaries[[#This Row],[Salary in USD]],tblSalaries[[#This Row],[Salary in USD]]*VLOOKUP($H$1,USDtoUserChoice,2,FALSE))","v":332890.40359620843},"Energy Analyst","Analyst","UK",{"$f":"VLOOKUP(tblSalaries[[#This Row],[Where do you work]],tblCountries[[Actual]:[Mapping]],2,FALSE)","v":"UK"},"4 to 6 hours a day",1,{"$f":"IF(ISNA(VLOOKUP(tblSalaries[[#This Row],[Years of Experience]],vlookUpExp!$A$1:$B$56,2,FALSE)),\"No Response\",VLOOKUP(tblSalaries[[#This Row],[Years of Experience]],vlookUpExp!$A$1:$B$56,2,FALSE))","v":"0-5"}]
[null,"ID1253","2012-05-29T06:08:12",50846,50846,"USD",{"$f":"tblSalaries[[#This Row],[clean Salary (in local currency)]]*VLOOKUP(tblSalaries[[#This Row],[Currency]],tblXrate[],2,FALSE)","v":50846},{"$f":"IF($H$1=\"USD\",tblSalaries[[#This Row],[Salary in USD]],tblSalaries[[#This Row],[Salary in USD]]*VLOOKUP($H$1,USDtoUserChoice,2,FALSE))","v":417037.87508000003},"Program & Policy Analyst-Advanced","Analyst","USA",{"$f":"VLOOKUP(tblSalaries[[#This Row],[Where do you work]],tblCountries[[Actual]:[Mapping]],2,FALSE)","v":"USA"},"4 to 6 hours a day",25,{"$f":"IF(ISNA(VLOOKUP(tblSalaries[[#This Row],[Years of Experience]],vlookUpExp!$A$1:$B$56,2,FALSE)),\"No Response\",VLOOKUP(tblSalaries[[#This Row],[Years of Experience]],vlookUpExp!$A$1:$B$56,2,FALSE))","v":"21-25"}]
[null,"ID1254","2012-05-29T06:24:36",63000,63000,"USD",{"$f":"tblSalaries[[#This Row],[clean Salary (in local currency)]]*VLOOKUP(tblSalaries[[#This Row],[Currency]],tblXrate[],2,FALSE)","v":63000},{"$f":"IF($H$1=\"USD\",tblSalaries[[#This Row],[Salary in USD]],tblSalaries[[#This Row],[Salary in USD]]*VLOOKUP($H$1,USDtoUserChoice,2,FALSE))","v":516724.74000000005},"Senior Staff Accountant","Accountant","USA",{"$f":"VLOOKUP(tblSalaries[[#This Row],[Where do you work]],tblCountries[[Actual]:[Mapping]],2,FALSE)","v":"USA"},"All the 8 hours baby, all the 8!",16,{"$f":"IF(ISNA(VLOOKUP(tblSalaries[[#This Row],[Years of Experience]],vlookUpExp!$A$1:$B$56,2,FALSE)),\"No Response\",VLOOKUP(tblSalaries[[#This Row],[Years of Experience]],vlookUpExp!$A$1:$B$56,2,FALSE))","v":"16-20"}]
[null,"ID1255","2012-05-29T06:26:05",80000,80000,"AUD",{"$f":"tblSalaries[[#This Row],[clean Salary (in local currency)]]*VLOOKUP(tblSalaries[[#This Row],[Currency]],tblXrate[],2,FALSE)","v":81592.772512210868},{"$f":"IF($H$1=\"USD\",tblSalaries[[#This Row],[Salary in USD]],tblSalaries[[#This Row],[Salary in USD]]*VLOOKUP($H$1,USDtoUserChoice,2,FALSE))","v":669222.28828970331},"systems accountant","Accountant","Australia",{"$f":"VLOOKUP(tblSalaries[[#This Row],[Where do you work]],tblCountries[[Actual]:[Mapping]],2,FALSE)","v":"Australia"},"4 to 6 hours a day",5,{"$f":"IF(ISNA(VLOOKUP(tblSalaries[[#This Row],[Years of Experience]],vlookUpExp!$A$1:$B$56,2,FALSE)),\"No Response\",VLOOKUP(tblSalaries[[#This Row],[Years of Experience]],vlookUpExp!$A$1:$B$56,2,FALSE))","v":"0-5"}]
[null,"ID1256","2012-05-29T07:21:41",50700,50700,"USD",{"$f":"tblSalaries[[#This Row],[clean Salary (in local currency)]]*VLOOKUP(tblSalaries[[#This Row],[Currency]],tblXrate[],2,FALSE)","v":50700},{"$f":"IF($H$1=\"USD\",tblSalaries[[#This Row],[Salary in USD]],tblSalaries[[#This Row],[Salary in USD]]*VLOOKUP($H$1,USDtoUserChoice,2,FALSE))","v":415840.38600000006},"Sr. Systems Analyst","Analyst","Brazil",{"$f":"VLOOKUP(tblSalaries[[#This Row],[Where do you work]],tblCountries[[Actual]:[Mapping]],2,FALSE)","v":"Brazil"},"1 or 2 hours a day",15,{"$f":"IF(ISNA(VLOOKUP(tblSalaries[[#This Row],[Years of Experience]],vlookUpExp!$A$1:$B$56,2,FALSE)),\"No Response\",VLOOKUP(tblSalaries[[#This Row],[Years of Experience]],vlookUpExp!$A$1:$B$56,2,FALSE))","v":"11-15"}]
[null,"ID1257","2012-05-29T07:28:41",20000,20000,"GBP",{"$f":"tblSalaries[[#This Row],[clean Salary (in local currency)]]*VLOOKUP(tblSalaries[[#This Row],[Currency]],tblXrate[],2,FALSE)","v":31523.565441345683},{"$f":"IF($H$1=\"USD\",tblSalaries[[#This Row],[Salary in USD]],tblSalaries[[#This Row],[Salary in USD]]*VLOOKUP($H$1,USDtoUserChoice,2,FALSE))","v":258555.65327860849},"Environmental Information Analyst","Analyst","UK",{"$f":"VLOOKUP(tblSalaries[[#This Row],[Where do you work]],tblCountries[[Actual]:[Mapping]],2,FALSE)","v":"UK"},"4 to 6 hours a day",1,{"$f":"IF(ISNA(VLOOKUP(tblSalaries[[#This Row],[Years of Experience]],vlookUpExp!$A$1:$B$56,2,FALSE)),\"No Response\",VLOOKUP(tblSalaries[[#This Row],[Years of Experience]],vlookUpExp!$A$1:$B$56,2,FALSE))","v":"0-5"}]
[null,"ID1258","2012-05-29T07:46:56",70000,70000,"USD",{"$f":"tblSalaries[[#This Row],[clean Salary (in local currency)]]*VLOOKUP(tblSalaries[[#This Row],[Currency]],tblXrate[],2,FALSE)","v":70000},{"$f":"IF($H$1=\"USD\",tblSalaries[[#This Row],[Salary in USD]],tblSalaries[[#This Row],[Salary in USD]]*VLOOKUP($H$1,USDtoUserChoice,2,FALSE))","v":574138.60000000009},"Develope","Analyst","USA",{"$f":"VLOOKUP(tblSalaries[[#This Row],[Where do you work]],tblCountries[[Actual]:[Mapping]],2,FALSE)","v":"USA"},"1 or 2 hours a day",6,{"$f":"IF(ISNA(VLOOKUP(tblSalaries[[#This Row],[Years of Experience]],vlookUpExp!$A$1:$B$56,2,FALSE)),\"No Response\",VLOOKUP(tblSalaries[[#This Row],[Years of Experience]],vlookUpExp!$A$1:$B$56,2,FALSE))","v":"6-10"}]
[null,"ID1259","2012-05-29T07:52:56",65000,65000,"CAD",{"$f":"tblSalaries[[#This Row],[clean Salary (in local currency)]]*VLOOKUP(tblSalaries[[#This Row],[Currency]],tblXrate[],2,FALSE)","v":63918.498996971248},{"$f":"IF($H$1=\"USD\",tblSalaries[[#This Row],[Salary in USD]],tblSalaries[[#This Row],[Salary in USD]]*VLOOKUP($H$1,USDtoUserChoice,2,FALSE))","v":524258.25040317827},"it manager","Manager","Canada",{"$f":"VLOOKUP(tblSalaries[[#This Row],[Where do you work]],tblCountries[[Actual]:[Mapping]],2,FALSE)","v":"Canada"},"2 to 3 hours per day",15,{"$f":"IF(ISNA(VLOOKUP(tblSalaries[[#This Row],[Years of Experience]],vlookUpExp!$A$1:$B$56,2,FALSE)),\"No Response\",VLOOKUP(tblSalaries[[#This Row],[Years of Experience]],vlookUpExp!$A$1:$B$56,2,FALSE))","v":"11-15"}]
[null,"ID1260","2012-05-29T07:57:04",800000,9600000,"MONGOLIAN",{"$f":"tblSalaries[[#This Row],[clean Salary (in local currency)]]*VLOOKUP(tblSalaries[[#This Row],[Currency]],tblXrate[],2,FALSE)","v":7261.724659606657},{"$f":"IF($H$1=\"USD\",tblSalaries[[#This Row],[Salary in USD]],tblSalaries[[#This Row],[Salary in USD]]*VLOOKUP($H$1,USDtoUserChoice,2,FALSE))","v":59560.520423600618},"Analyst","Analyst","Mongolia",{"$f":"VLOOKUP(tblSalaries[[#This Row],[Where do you work]],tblCountries[[Actual]:[Mapping]],2,FALSE)","v":"Mongolia"},"All the 8 hours baby, all the 8!",2,{"$f":"IF(ISNA(VLOOKUP(tblSalaries[[#This Row],[Years of Experience]],vlookUpExp!$A$1:$B$56,2,FALSE)),\"No Response\",VLOOKUP(tblSalaries[[#This Row],[Years of Experience]],vlookUpExp!$A$1:$B$56,2,FALSE))","v":"0-5"}]
[null,"ID1261","2012-05-29T08:13:06","RM3000",36000,"MYR",{"$f":"tblSalaries[[#This Row],[clean Salary (in local currency)]]*VLOOKUP(tblSalaries[[#This Row],[Currency]],tblXrate[],2,FALSE)","v":11404.820437438224},{"$f":"IF($H$1=\"USD\",tblSalaries[[#This Row],[Salary in USD]],tblSalaries[[#This Row],[Salary in USD]]*VLOOKUP($H$1,USDtoUserChoice,2,FALSE))","v":93542.109131459569},"Process Engineering","Engineer","Malaysia",{"$f":"VLOOKUP(tblSalaries[[#This Row],[Where do you work]],tblCountries[[Actual]:[Mapping]],2,FALSE)","v":"malaysia"},"4 to 6 hours a day",2,{"$f":"IF(ISNA(VLOOKUP(tblSalaries[[#This Row],[Years of Experience]],vlookUpExp!$A$1:$B$56,2,FALSE)),\"No Response\",VLOOKUP(tblSalaries[[#This Row],[Years of Experience]],vlookUpExp!$A$1:$B$56,2,FALSE))","v":"0-5"}]
[null,"ID1262","2012-05-29T08:25:51","120,000  US$",120000,"USD",{"$f":"tblSalaries[[#This Row],[clean Salary (in local currency)]]*VLOOKUP(tblSalaries[[#This Row],[Currency]],tblXrate[],2,FALSE)","v":120000},{"$f":"IF($H$1=\"USD\",tblSalaries[[#This Row],[Salary in USD]],tblSalaries[[#This Row],[Salary in USD]]*VLOOKUP($H$1,USDtoUserChoice,2,FALSE))","v":984237.60000000009},"Consultant - Process Improvement","Consultant","Singapore",{"$f":"VLOOKUP(tblSalaries[[#This Row],[Where do you work]],tblCountries[[Actual]:[Mapping]],2,FALSE)","v":"Singapore"},"1 or 2 hours a day",5,{"$f":"IF(ISNA(VLOOKUP(tblSalaries[[#This Row],[Years of Experience]],vlookUpExp!$A$1:$B$56,2,FALSE)),\"No Response\",VLOOKUP(tblSalaries[[#This Row],[Years of Experience]],vlookUpExp!$A$1:$B$56,2,FALSE))","v":"0-5"}]
[null,"ID1263","2012-05-29T08:41:02",90000,90000,"AUD",{"$f":"tblSalaries[[#This Row],[clean Salary (in local currency)]]*VLOOKUP(tblSalaries[[#This Row],[Currency]],tblXrate[],2,FALSE)","v":91791.869076237213},{"$f":"IF($H$1=\"USD\",tblSalaries[[#This Row],[Salary in USD]],tblSalaries[[#This Row],[Salary in USD]]*VLOOKUP($H$1,USDtoUserChoice,2,FALSE))","v":752875.07432591612},"Business Analyst","Analyst","Australia",{"$f":"VLOOKUP(tblSalaries[[#This Row],[Where do you work]],tblCountries[[Actual]:[Mapping]],2,FALSE)","v":"Australia"},"4 to 6 hours a day",5,{"$f":"IF(ISNA(VLOOKUP(tblSalaries[[#This Row],[Years of Experience]],vlookUpExp!$A$1:$B$56,2,FALSE)),\"No Response\",VLOOKUP(tblSalaries[[#This Row],[Years of Experience]],vlookUpExp!$A$1:$B$56,2,FALSE))","v":"0-5"}]
[null,"ID1264","2012-05-29T08:41:14",110000,110000,"AUD",{"$f":"tblSalaries[[#This Row],[clean Salary (in local currency)]]*VLOOKUP(tblSalaries[[#This Row],[Currency]],tblXrate[],2,FALSE)","v":112190.06220428993},{"$f":"IF($H$1=\"USD\",tblSalaries[[#This Row],[Salary in USD]],tblSalaries[[#This Row],[Salary in USD]]*VLOOKUP($H$1,USDtoUserChoice,2,FALSE))","v":920180.64639834198},"Analyst","Analyst","Australia",{"$f":"VLOOKUP(tblSalaries[[#This Row],[Where do you work]],tblCountries[[Actual]:[Mapping]],2,FALSE)","v":"Australia"},"2 to 3 hours per day",7,{"$f":"IF(ISNA(VLOOKUP(tblSalaries[[#This Row],[Years of Experience]],vlookUpExp!$A$1:$B$56,2,FALSE)),\"No Response\",VLOOKUP(tblSalaries[[#This Row],[Years of Experience]],vlookUpExp!$A$1:$B$56,2,FALSE))","v":"6-10"}]
[null,"ID1265","2012-05-29T08:47:48",40000,40000,"USD",{"$f":"tblSalaries[[#This Row],[clean Salary (in local currency)]]*VLOOKUP(tblSalaries[[#This Row],[Currency]],tblXrate[],2,FALSE)","v":40000},{"$f":"IF($H$1=\"USD\",tblSalaries[[#This Row],[Salary in USD]],tblSalaries[[#This Row],[Salary in USD]]*VLOOKUP($H$1,USDtoUserChoice,2,FALSE))","v":328079.2},"Senior Materials Handler","Manager","USA",{"$f":"VLOOKUP(tblSalaries[[#This Row],[Where do you work]],tblCountries[[Actual]:[Mapping]],2,FALSE)","v":"USA"},"2 to 3 hours per day",18,{"$f":"IF(ISNA(VLOOKUP(tblSalaries[[#This Row],[Years of Experience]],vlookUpExp!$A$1:$B$56,2,FALSE)),\"No Response\",VLOOKUP(tblSalaries[[#This Row],[Years of Experience]],vlookUpExp!$A$1:$B$56,2,FALSE))","v":"16-20"}]
[null,"ID1266","2012-05-29T08:59:41",107000,107000,"USD",{"$f":"tblSalaries[[#This Row],[clean Salary (in local currency)]]*VLOOKUP(tblSalaries[[#This Row],[Currency]],tblXrate[],2,FALSE)","v":107000},{"$f":"IF($H$1=\"USD\",tblSalaries[[#This Row],[Salary in USD]],tblSalaries[[#This Row],[Salary in USD]]*VLOOKUP($H$1,USDtoUserChoice,2,FALSE))","v":877611.8600000001},"Certified Public Accountant","Accountant","USA",{"$f":"VLOOKUP(tblSalaries[[#This Row],[Where do you work]],tblCountries[[Actual]:[Mapping]],2,FALSE)","v":"USA"},"4 to 6 hours a day",12,{"$f":"IF(ISNA(VLOOKUP(tblSalaries[[#This Row],[Years of Experience]],vlookUpExp!$A$1:$B$56,2,FALSE)),\"No Response\",VLOOKUP(tblSalaries[[#This Row],[Years of Experience]],vlookUpExp!$A$1:$B$56,2,FALSE))","v":"11-15"}]
[null,"ID1267","2012-05-29T09:15:09",82000,82000,"USD",{"$f":"tblSalaries[[#This Row],[clean Salary (in local currency)]]*VLOOKUP(tblSalaries[[#This Row],[Currency]],tblXrate[],2,FALSE)","v":82000},{"$f":"IF($H$1=\"USD\",tblSalaries[[#This Row],[Salary in USD]],tblSalaries[[#This Row],[Salary in USD]]*VLOOKUP($H$1,USDtoUserChoice,2,FALSE))","v":672562.3600000001},"Manager - Marketing Analytics","Manager","USA",{"$f":"VLOOKUP(tblSalaries[[#This Row],[Where do you work]],tblCountries[[Actual]:[Mapping]],2,FALSE)","v":"USA"},"4 to 6 hours a day",10,{"$f":"IF(ISNA(VLOOKUP(tblSalaries[[#This Row],[Years of Experience]],vlookUpExp!$A$1:$B$56,2,FALSE)),\"No Response\",VLOOKUP(tblSalaries[[#This Row],[Years of Experience]],vlookUpExp!$A$1:$B$56,2,FALSE))","v":"6-10"}]
[null,"ID1268","2012-05-29T09:25:31",100000,100000,"AUD",{"$f":"tblSalaries[[#This Row],[clean Salary (in local currency)]]*VLOOKUP(tblSalaries[[#This Row],[Currency]],tblXrate[],2,FALSE)","v":101990.96564026357},{"$f":"IF($H$1=\"USD\",tblSalaries[[#This Row],[Salary in USD]],tblSalaries[[#This Row],[Salary in USD]]*VLOOKUP($H$1,USDtoUserChoice,2,FALSE))","v":836527.86036212905},"Contractor/Consultant","Consultant","Australia",{"$f":"VLOOKUP(tblSalaries[[#This Row],[Where do you work]],tblCountries[[Actual]:[Mapping]],2,FALSE)","v":"Australia"},"4 to 6 hours a day",15,{"$f":"IF(ISNA(VLOOKUP(tblSalaries[[#This Row],[Years of Experience]],vlookUpExp!$A$1:$B$56,2,FALSE)),\"No Response\",VLOOKUP(tblSalaries[[#This Row],[Years of Experience]],vlookUpExp!$A$1:$B$56,2,FALSE))","v":"11-15"}]
[null,"ID1270","2012-05-29T09:37:40","AUD $43000",43000,"USD",{"$f":"tblSalaries[[#This Row],[clean Salary (in local currency)]]*VLOOKUP(tblSalaries[[#This Row],[Currency]],tblXrate[],2,FALSE)","v":43000},{"$f":"IF($H$1=\"USD\",tblSalaries[[#This Row],[Salary in USD]],tblSalaries[[#This Row],[Salary in USD]]*VLOOKUP($H$1,USDtoUserChoice,2,FALSE))","v":352685.14},"Operations Support Officer","Manager","Australia",{"$f":"VLOOKUP(tblSalaries[[#This Row],[Where do you work]],tblCountries[[Actual]:[Mapping]],2,FALSE)","v":"Australia"},"2 to 3 hours per day",4,{"$f":"IF(ISNA(VLOOKUP(tblSalaries[[#This Row],[Years of Experience]],vlookUpExp!$A$1:$B$56,2,FALSE)),\"No Response\",VLOOKUP(tblSalaries[[#This Row],[Years of Experience]],vlookUpExp!$A$1:$B$56,2,FALSE))","v":"0-5"}]
[null,"ID1271","2012-05-29T09:38:14",69000,69000,"USD",{"$f":"tblSalaries[[#This Row],[clean Salary (in local currency)]]*VLOOKUP(tblSalaries[[#This Row],[Currency]],tblXrate[],2,FALSE)","v":69000},{"$f":"IF($H$1=\"USD\",tblSalaries[[#This Row],[Salary in USD]],tblSalaries[[#This Row],[Salary in USD]]*VLOOKUP($H$1,USDtoUserChoice,2,FALSE))","v":565936.62},"master scheduler","Controller","USA",{"$f":"VLOOKUP(tblSalaries[[#This Row],[Where do you work]],tblCountries[[Actual]:[Mapping]],2,FALSE)","v":"USA"},"4 to 6 hours a day",20,{"$f":"IF(ISNA(VLOOKUP(tblSalaries[[#This Row],[Years of Experience]],vlookUpExp!$A$1:$B$56,2,FALSE)),\"No Response\",VLOOKUP(tblSalaries[[#This Row],[Years of Experience]],vlookUpExp!$A$1:$B$56,2,FALSE))","v":"16-20"}]
[null,"ID1273","2012-05-29T09:47:47",30000,30000,"USD",{"$f":"tblSalaries[[#This Row],[clean Salary (in local currency)]]*VLOOKUP(tblSalaries[[#This Row],[Currency]],tblXrate[],2,FALSE)","v":30000},{"$f":"IF($H$1=\"USD\",tblSalaries[[#This Row],[Salary in USD]],tblSalaries[[#This Row],[Salary in USD]]*VLOOKUP($H$1,USDtoUserChoice,2,FALSE))","v":246059.40000000002},"Practice Manager - Business Operations","Manager","India",{"$f":"VLOOKUP(tblSalaries[[#This Row],[Where do you work]],tblCountries[[Actual]:[Mapping]],2,FALSE)","v":"India"},"2 to 3 hours per day",3,{"$f":"IF(ISNA(VLOOKUP(tblSalaries[[#This Row],[Years of Experience]],vlookUpExp!$A$1:$B$56,2,FALSE)),\"No Response\",VLOOKUP(tblSalaries[[#This Row],[Years of Experience]],vlookUpExp!$A$1:$B$56,2,FALSE))","v":"0-5"}]
[null,"ID1274","2012-05-29T09:52:02","48000 $AUD",48000,"AUD",{"$f":"tblSalaries[[#This Row],[clean Salary (in local currency)]]*VLOOKUP(tblSalaries[[#This Row],[Currency]],tblXrate[],2,FALSE)","v":48955.663507326513},{"$f":"IF($H$1=\"USD\",tblSalaries[[#This Row],[Salary in USD]],tblSalaries[[#This Row],[Salary in USD]]*VLOOKUP($H$1,USDtoUserChoice,2,FALSE))","v":401533.37297382194},"Research Assistant","Analyst","Australia",{"$f":"VLOOKUP(tblSalaries[[#This Row],[Where do you work]],tblCountries[[Actual]:[Mapping]],2,FALSE)","v":"Australia"},"1 or 2 hours a day",2,{"$f":"IF(ISNA(VLOOKUP(tblSalaries[[#This Row],[Years of Experience]],vlookUpExp!$A$1:$B$56,2,FALSE)),\"No Response\",VLOOKUP(tblSalaries[[#This Row],[Years of Experience]],vlookUpExp!$A$1:$B$56,2,FALSE))","v":"0-5"}]
[null,"ID1275","2012-05-29T10:08:21",70000,70000,"USD",{"$f":"tblSalaries[[#This Row],[clean Salary (in local currency)]]*VLOOKUP(tblSalaries[[#This Row],[Currency]],tblXrate[],2,FALSE)","v":70000},{"$f":"IF($H$1=\"USD\",tblSalaries[[#This Row],[Salary in USD]],tblSalaries[[#This Row],[Salary in USD]]*VLOOKUP($H$1,USDtoUserChoice,2,FALSE))","v":574138.60000000009},"Project Manager","Manager","USA",{"$f":"VLOOKUP(tblSalaries[[#This Row],[Where do you work]],tblCountries[[Actual]:[Mapping]],2,FALSE)","v":"USA"},"4 to 6 hours a day",8,{"$f":"IF(ISNA(VLOOKUP(tblSalaries[[#This Row],[Years of Experience]],vlookUpExp!$A$1:$B$56,2,FALSE)),\"No Response\",VLOOKUP(tblSalaries[[#This Row],[Years of Experience]],vlookUpExp!$A$1:$B$56,2,FALSE))","v":"6-10"}]
[null,"ID1276","2012-05-29T10:09:37",45000,45000,"USD",{"$f":"tblSalaries[[#This Row],[clean Salary (in local currency)]]*VLOOKUP(tblSalaries[[#This Row],[Currency]],tblXrate[],2,FALSE)","v":45000},{"$f":"IF($H$1=\"USD\",tblSalaries[[#This Row],[Salary in USD]],tblSalaries[[#This Row],[Salary in USD]]*VLOOKUP($H$1,USDtoUserChoice,2,FALSE))","v":369089.10000000003},"Staff Assistant","Analyst","USA",{"$f":"VLOOKUP(tblSalaries[[#This Row],[Where do you work]],tblCountries[[Actual]:[Mapping]],2,FALSE)","v":"USA"},"4 to 6 hours a day",7,{"$f":"IF(ISNA(VLOOKUP(tblSalaries[[#This Row],[Years of Experience]],vlookUpExp!$A$1:$B$56,2,FALSE)),\"No Response\",VLOOKUP(tblSalaries[[#This Row],[Years of Experience]],vlookUpExp!$A$1:$B$56,2,FALSE))","v":"6-10"}]
[null,"ID1277","2012-05-29T10:11:28",35000,35000,"USD",{"$f":"tblSalaries[[#This Row],[clean Salary (in local currency)]]*VLOOKUP(tblSalaries[[#This Row],[Currency]],tblXrate[],2,FALSE)","v":35000},{"$f":"IF($H$1=\"USD\",tblSalaries[[#This Row],[Salary in USD]],tblSalaries[[#This Row],[Salary in USD]]*VLOOKUP($H$1,USDtoUserChoice,2,FALSE))","v":287069.30000000005},"AVP Securitisation","CXO or Top Mgmt.","Malaysia",{"$f":"VLOOKUP(tblSalaries[[#This Row],[Where do you work]],tblCountries[[Actual]:[Mapping]],2,FALSE)","v":"malaysia"},"All the 8 hours baby, all the 8!",12,{"$f":"IF(ISNA(VLOOKUP(tblSalaries[[#This Row],[Years of Experience]],vlookUpExp!$A$1:$B$56,2,FALSE)),\"No Response\",VLOOKUP(tblSalaries[[#This Row],[Years of Experience]],vlookUpExp!$A$1:$B$56,2,FALSE))","v":"11-15"}]
[null,"ID1278","2012-05-29T10:43:49",500000,500000,"INR",{"$f":"tblSalaries[[#This Row],[clean Salary (in local currency)]]*VLOOKUP(tblSalaries[[#This Row],[Currency]],tblXrate[],2,FALSE)","v":8903.9583437212841},{"$f":"IF($H$1=\"USD\",tblSalaries[[#This Row],[Salary in USD]],tblSalaries[[#This Row],[Salary in USD]]*VLOOKUP($H$1,USDtoUserChoice,2,FALSE))","v":73030.088256035102},"Asstt. Manager","Manager","India",{"$f":"VLOOKUP(tblSalaries[[#This Row],[Where do you work]],tblCountries[[Actual]:[Mapping]],2,FALSE)","v":"India"},"2 to 3 hours per day",29,{"$f":"IF(ISNA(VLOOKUP(tblSalaries[[#This Row],[Years of Experience]],vlookUpExp!$A$1:$B$56,2,FALSE)),\"No Response\",VLOOKUP(tblSalaries[[#This Row],[Years of Experience]],vlookUpExp!$A$1:$B$56,2,FALSE))","v":"26-30"}]
[null,"ID1279","2012-05-29T10:45:46","MYR89500",89500,"MYR",{"$f":"tblSalaries[[#This Row],[clean Salary (in local currency)]]*VLOOKUP(tblSalaries[[#This Row],[Currency]],tblXrate[],2,FALSE)","v":28353.650809742252},{"$f":"IF($H$1=\"USD\",tblSalaries[[#This Row],[Salary in USD]],tblSalaries[[#This Row],[Salary in USD]]*VLOOKUP($H$1,USDtoUserChoice,2,FALSE))","v":232556.07686848976},"Manager","Manager","Malaysia",{"$f":"VLOOKUP(tblSalaries[[#This Row],[Where do you work]],tblCountries[[Actual]:[Mapping]],2,FALSE)","v":"malaysia"},"2 to 3 hours per day",20,{"$f":"IF(ISNA(VLOOKUP(tblSalaries[[#This Row],[Years of Experience]],vlookUpExp!$A$1:$B$56,2,FALSE)),\"No Response\",VLOOKUP(tblSalaries[[#This Row],[Years of Experience]],vlookUpExp!$A$1:$B$56,2,FALSE))","v":"16-20"}]
[null,"ID1280","2012-05-29T10:48:33","USD 11800 (INR 650000)",11800,"USD",{"$f":"tblSalaries[[#This Row],[clean Salary (in local currency)]]*VLOOKUP(tblSalaries[[#This Row],[Currency]],tblXrate[],2,FALSE)","v":11800},{"$f":"IF($H$1=\"USD\",tblSalaries[[#This Row],[Salary in USD]],tblSalaries[[#This Row],[Salary in USD]]*VLOOKUP($H$1,USDtoUserChoice,2,FALSE))","v":96783.364000000001},"Assistant Data Analyst","Analyst","India",{"$f":"VLOOKUP(tblSalaries[[#This Row],[Where do you work]],tblCountries[[Actual]:[Mapping]],2,FALSE)","v":"India"},"4 to 6 hours a day",10,{"$f":"IF(ISNA(VLOOKUP(tblSalaries[[#This Row],[Years of Experience]],vlookUpExp!$A$1:$B$56,2,FALSE)),\"No Response\",VLOOKUP(tblSalaries[[#This Row],[Years of Experience]],vlookUpExp!$A$1:$B$56,2,FALSE))","v":"6-10"}]
[null,"ID1281","2012-05-29T10:51:02","Rs.3.6 Lakhs pa",360000,"INR",{"$f":"tblSalaries[[#This Row],[clean Salary (in local currency)]]*VLOOKUP(tblSalaries[[#This Row],[Currency]],tblXrate[],2,FALSE)","v":6410.8500074793246},{"$f":"IF($H$1=\"USD\",tblSalaries[[#This Row],[Salary in USD]],tblSalaries[[#This Row],[Salary in USD]]*VLOOKUP($H$1,USDtoUserChoice,2,FALSE))","v":52581.663544345276},"Team Leader WFM","Manager","India",{"$f":"VLOOKUP(tblSalaries[[#This Row],[Where do you work]],tblCountries[[Actual]:[Mapping]],2,FALSE)","v":"India"},"All the 8 hours baby, all the 8!",6,{"$f":"IF(ISNA(VLOOKUP(tblSalaries[[#This Row],[Years of Experience]],vlookUpExp!$A$1:$B$56,2,FALSE)),\"No Response\",VLOOKUP(tblSalaries[[#This Row],[Years of Experience]],vlookUpExp!$A$1:$B$56,2,FALSE))","v":"6-10"}]
[null,"ID1282","2012-05-29T10:51:31",50000,50000,"USD",{"$f":"tblSalaries[[#This Row],[clean Salary (in local currency)]]*VLOOKUP(tblSalaries[[#This Row],[Currency]],tblXrate[],2,FALSE)","v":50000},{"$f":"IF($H$1=\"USD\",tblSalaries[[#This Row],[Salary in USD]],tblSalaries[[#This Row],[Salary in USD]]*VLOOKUP($H$1,USDtoUserChoice,2,FALSE))","v":410099.00000000006},"Data Analyst","Analyst","USA",{"$f":"VLOOKUP(tblSalaries[[#This Row],[Where do you work]],tblCountries[[Actual]:[Mapping]],2,FALSE)","v":"USA"},"4 to 6 hours a day",3,{"$f":"IF(ISNA(VLOOKUP(tblSalaries[[#This Row],[Years of Experience]],vlookUpExp!$A$1:$B$56,2,FALSE)),\"No Response\",VLOOKUP(tblSalaries[[#This Row],[Years of Experience]],vlookUpExp!$A$1:$B$56,2,FALSE))","v":"0-5"}]
[null,"ID1283","2012-05-29T11:00:32",85000,85000,"USD",{"$f":"tblSalaries[[#This Row],[clean Salary (in local currency)]]*VLOOKUP(tblSalaries[[#This Row],[Currency]],tblXrate[],2,FALSE)","v":85000},{"$f":"IF($H$1=\"USD\",tblSalaries[[#This Row],[Salary in USD]],tblSalaries[[#This Row],[Salary in USD]]*VLOOKUP($H$1,USDtoUserChoice,2,FALSE))","v":697168.3},"manager operation","Manager","srilanka",{"$f":"VLOOKUP(tblSalaries[[#This Row],[Where do you work]],tblCountries[[Actual]:[Mapping]],2,FALSE)","v":"Sri Lanka"},"All the 8 hours baby, all the 8!",10,{"$f":"IF(ISNA(VLOOKUP(tblSalaries[[#This Row],[Years of Experience]],vlookUpExp!$A$1:$B$56,2,FALSE)),\"No Response\",VLOOKUP(tblSalaries[[#This Row],[Years of Experience]],vlookUpExp!$A$1:$B$56,2,FALSE))","v":"6-10"}]
[null,"ID1284","2012-05-29T11:35:53","Indian Rs 10 Lakhs",1000000,"INR",{"$f":"tblSalaries[[#This Row],[clean Salary (in local currency)]]*VLOOKUP(tblSalaries[[#This Row],[Currency]],tblXrate[],2,FALSE)","v":17807.916687442568},{"$f":"IF($H$1=\"USD\",tblSalaries[[#This Row],[Salary in USD]],tblSalaries[[#This Row],[Salary in USD]]*VLOOKUP($H$1,USDtoUserChoice,2,FALSE))","v":146060.1765120702},"Manager","Manager","India",{"$f":"VLOOKUP(tblSalaries[[#This Row],[Where do you work]],tblCountries[[Actual]:[Mapping]],2,FALSE)","v":"India"},"2 to 3 hours per day",10,{"$f":"IF(ISNA(VLOOKUP(tblSalaries[[#This Row],[Years of Experience]],vlookUpExp!$A$1:$B$56,2,FALSE)),\"No Response\",VLOOKUP(tblSalaries[[#This Row],[Years of Experience]],vlookUpExp!$A$1:$B$56,2,FALSE))","v":"6-10"}]
[null,"ID1285","2012-05-29T11:46:47","INR 900000",900000,"INR",{"$f":"tblSalaries[[#This Row],[clean Salary (in local currency)]]*VLOOKUP(tblSalaries[[#This Row],[Currency]],tblXrate[],2,FALSE)","v":16027.125018698311},{"$f":"IF($H$1=\"USD\",tblSalaries[[#This Row],[Salary in USD]],tblSalaries[[#This Row],[Salary in USD]]*VLOOKUP($H$1,USDtoUserChoice,2,FALSE))","v":131454.15886086319},"RENTAL INVENTORY CONTROLLER","Controller","India",{"$f":"VLOOKUP(tblSalaries[[#This Row],[Where do you work]],tblCountries[[Actual]:[Mapping]],2,FALSE)","v":"India"},"All the 8 hours baby, all the 8!",8,{"$f":"IF(ISNA(VLOOKUP(tblSalaries[[#This Row],[Years of Experience]],vlookUpExp!$A$1:$B$56,2,FALSE)),\"No Response\",VLOOKUP(tblSalaries[[#This Row],[Years of Experience]],vlookUpExp!$A$1:$B$56,2,FALSE))","v":"6-10"}]
[null,"ID1286","2012-05-29T11:51:35",192000,192000,"USD",{"$f":"tblSalaries[[#This Row],[clean Salary (in local currency)]]*VLOOKUP(tblSalaries[[#This Row],[Currency]],tblXrate[],2,FALSE)","v":192000},{"$f":"IF($H$1=\"USD\",tblSalaries[[#This Row],[Salary in USD]],tblSalaries[[#This Row],[Salary in USD]]*VLOOKUP($H$1,USDtoUserChoice,2,FALSE))","v":1574780.1600000001},"Publisher","CXO or Top Mgmt.","USA",{"$f":"VLOOKUP(tblSalaries[[#This Row],[Where do you work]],tblCountries[[Actual]:[Mapping]],2,FALSE)","v":"USA"},"All the 8 hours baby, all the 8!",27,{"$f":"IF(ISNA(VLOOKUP(tblSalaries[[#This Row],[Years of Experience]],vlookUpExp!$A$1:$B$56,2,FALSE)),\"No Response\",VLOOKUP(tblSalaries[[#This Row],[Years of Experience]],vlookUpExp!$A$1:$B$56,2,FALSE))","v":"26-30"}]
[null,"ID1287","2012-05-29T12:14:02",54000,54000,"USD",{"$f":"tblSalaries[[#This Row],[clean Salary (in local currency)]]*VLOOKUP(tblSalaries[[#This Row],[Currency]],tblXrate[],2,FALSE)","v":54000},{"$f":"IF($H$1=\"USD\",tblSalaries[[#This Row],[Salary in USD]],tblSalaries[[#This Row],[Salary in USD]]*VLOOKUP($H$1,USDtoUserChoice,2,FALSE))","v":442906.92000000004},"Resource Planning Analyst","Analyst","USA",{"$f":"VLOOKUP(tblSalaries[[#This Row],[Where do you work]],tblCountries[[Actual]:[Mapping]],2,FALSE)","v":"USA"},"All the 8 hours baby, all the 8!",6,{"$f":"IF(ISNA(VLOOKUP(tblSalaries[[#This Row],[Years of Experience]],vlookUpExp!$A$1:$B$56,2,FALSE)),\"No Response\",VLOOKUP(tblSalaries[[#This Row],[Years of Experience]],vlookUpExp!$A$1:$B$56,2,FALSE))","v":"6-10"}]
[null,"ID1288","2012-05-29T12:17:07",18000,18000,"USD",{"$f":"tblSalaries[[#This Row],[clean Salary (in local currency)]]*VLOOKUP(tblSalaries[[#This Row],[Currency]],tblXrate[],2,FALSE)","v":18000},{"$f":"IF($H$1=\"USD\",tblSalaries[[#This Row],[Salary in USD]],tblSalaries[[#This Row],[Salary in USD]]*VLOOKUP($H$1,USDtoUserChoice,2,FALSE))","v":147635.64000000001},"Manager","Manager","India",{"$f":"VLOOKUP(tblSalaries[[#This Row],[Where do you work]],tblCountries[[Actual]:[Mapping]],2,FALSE)","v":"India"},"4 to 6 hours a day",12,{"$f":"IF(ISNA(VLOOKUP(tblSalaries[[#This Row],[Years of Experience]],vlookUpExp!$A$1:$B$56,2,FALSE)),\"No Response\",VLOOKUP(tblSalaries[[#This Row],[Years of Experience]],vlookUpExp!$A$1:$B$56,2,FALSE))","v":"11-15"}]
[null,"ID1289","2012-05-29T12:19:39","3,00,000.00",300000,"INR",{"$f":"tblSalaries[[#This Row],[clean Salary (in local currency)]]*VLOOKUP(tblSalaries[[#This Row],[Currency]],tblXrate[],2,FALSE)","v":5342.3750062327708},{"$f":"IF($H$1=\"USD\",tblSalaries[[#This Row],[Salary in USD]],tblSalaries[[#This Row],[Salary in USD]]*VLOOKUP($H$1,USDtoUserChoice,2,FALSE))","v":43818.052953621067},"MIS OFFICER","Reporting","India",{"$f":"VLOOKUP(tblSalaries[[#This Row],[Where do you work]],tblCountries[[Actual]:[Mapping]],2,FALSE)","v":"India"},"2 to 3 hours per day",5,{"$f":"IF(ISNA(VLOOKUP(tblSalaries[[#This Row],[Years of Experience]],vlookUpExp!$A$1:$B$56,2,FALSE)),\"No Response\",VLOOKUP(tblSalaries[[#This Row],[Years of Experience]],vlookUpExp!$A$1:$B$56,2,FALSE))","v":"0-5"}]
[null,"ID1290","2012-05-29T12:20:32","400000INR",400000,"INR",{"$f":"tblSalaries[[#This Row],[clean Salary (in local currency)]]*VLOOKUP(tblSalaries[[#This Row],[Currency]],tblXrate[],2,FALSE)","v":7123.1666749770275},{"$f":"IF($H$1=\"USD\",tblSalaries[[#This Row],[Salary in USD]],tblSalaries[[#This Row],[Salary in USD]]*VLOOKUP($H$1,USDtoUserChoice,2,FALSE))","v":58424.070604828084},"PMO","Manager","India",{"$f":"VLOOKUP(tblSalaries[[#This Row],[Where do you work]],tblCountries[[Actual]:[Mapping]],2,FALSE)","v":"India"},"All the 8 hours baby, all the 8!",3,{"$f":"IF(ISNA(VLOOKUP(tblSalaries[[#This Row],[Years of Experience]],vlookUpExp!$A$1:$B$56,2,FALSE)),\"No Response\",VLOOKUP(tblSalaries[[#This Row],[Years of Experience]],vlookUpExp!$A$1:$B$56,2,FALSE))","v":"0-5"}]
[null,"ID1291","2012-05-29T12:28:41",15000,15000,"USD",{"$f":"tblSalaries[[#This Row],[clean Salary (in local currency)]]*VLOOKUP(tblSalaries[[#This Row],[Currency]],tblXrate[],2,FALSE)","v":15000},{"$f":"IF($H$1=\"USD\",tblSalaries[[#This Row],[Salary in USD]],tblSalaries[[#This Row],[Salary in USD]]*VLOOKUP($H$1,USDtoUserChoice,2,FALSE))","v":123029.70000000001},"Monitoring & Evaluation officer","Manager","Myanmar",{"$f":"VLOOKUP(tblSalaries[[#This Row],[Where do you work]],tblCountries[[Actual]:[Mapping]],2,FALSE)","v":"Myanmar"},"4 to 6 hours a day",10,{"$f":"IF(ISNA(VLOOKUP(tblSalaries[[#This Row],[Years of Experience]],vlookUpExp!$A$1:$B$56,2,FALSE)),\"No Response\",VLOOKUP(tblSalaries[[#This Row],[Years of Experience]],vlookUpExp!$A$1:$B$56,2,FALSE))","v":"6-10"}]
[null,"ID1292","2012-05-29T12:29:12","us $ 14000",14000,"USD",{"$f":"tblSalaries[[#This Row],[clean Salary (in local currency)]]*VLOOKUP(tblSalaries[[#This Row],[Currency]],tblXrate[],2,FALSE)","v":14000},{"$f":"IF($H$1=\"USD\",tblSalaries[[#This Row],[Salary in USD]],tblSalaries[[#This Row],[Salary in USD]]*VLOOKUP($H$1,USDtoUserChoice,2,FALSE))","v":114827.72000000002},"Pricing Analyst","Analyst","India",{"$f":"VLOOKUP(tblSalaries[[#This Row],[Where do you work]],tblCountries[[Actual]:[Mapping]],2,FALSE)","v":"India"},"4 to 6 hours a day",12,{"$f":"IF(ISNA(VLOOKUP(tblSalaries[[#This Row],[Years of Experience]],vlookUpExp!$A$1:$B$56,2,FALSE)),\"No Response\",VLOOKUP(tblSalaries[[#This Row],[Years of Experience]],vlookUpExp!$A$1:$B$56,2,FALSE))","v":"11-15"}]
[null,"ID1294","2012-05-29T13:06:30",8000,8000,"USD",{"$f":"tblSalaries[[#This Row],[clean Salary (in local currency)]]*VLOOKUP(tblSalaries[[#This Row],[Currency]],tblXrate[],2,FALSE)","v":8000},{"$f":"IF($H$1=\"USD\",tblSalaries[[#This Row],[Salary in USD]],tblSalaries[[#This Row],[Salary in USD]]*VLOOKUP($H$1,USDtoUserChoice,2,FALSE))","v":65615.840000000011},"Data Analyst","Analyst","India",{"$f":"VLOOKUP(tblSalaries[[#This Row],[Where do you work]],tblCountries[[Actual]:[Mapping]],2,FALSE)","v":"India"},"All the 8 hours baby, all the 8!",4,{"$f":"IF(ISNA(VLOOKUP(tblSalaries[[#This Row],[Years of Experience]],vlookUpExp!$A$1:$B$56,2,FALSE)),\"No Response\",VLOOKUP(tblSalaries[[#This Row],[Years of Experience]],vlookUpExp!$A$1:$B$56,2,FALSE))","v":"0-5"}]
[null,"ID1295","2012-05-29T13:13:56",12500,12500,"USD",{"$f":"tblSalaries[[#This Row],[clean Salary (in local currency)]]*VLOOKUP(tblSalaries[[#This Row],[Currency]],tblXrate[],2,FALSE)","v":12500},{"$f":"IF($H$1=\"USD\",tblSalaries[[#This Row],[Salary in USD]],tblSalaries[[#This Row],[Salary in USD]]*VLOOKUP($H$1,USDtoUserChoice,2,FALSE))","v":102524.75000000001},"Specialist","Specialist","Philippines",{"$f":"VLOOKUP(tblSalaries[[#This Row],[Where do you work]],tblCountries[[Actual]:[Mapping]],2,FALSE)","v":"Philippines"},"2 to 3 hours per day",7,{"$f":"IF(ISNA(VLOOKUP(tblSalaries[[#This Row],[Years of Experience]],vlookUpExp!$A$1:$B$56,2,FALSE)),\"No Response\",VLOOKUP(tblSalaries[[#This Row],[Years of Experience]],vlookUpExp!$A$1:$B$56,2,FALSE))","v":"6-10"}]
[null,"ID1296","2012-05-29T13:15:17",140000,140000,"USD",{"$f":"tblSalaries[[#This Row],[clean Salary (in local currency)]]*VLOOKUP(tblSalaries[[#This Row],[Currency]],tblXrate[],2,FALSE)","v":140000},{"$f":"IF($H$1=\"USD\",tblSalaries[[#This Row],[Salary in USD]],tblSalaries[[#This Row],[Salary in USD]]*VLOOKUP($H$1,USDtoUserChoice,2,FALSE))","v":1148277.2000000002},"Senior Accountant","Accountant","USA",{"$f":"VLOOKUP(tblSalaries[[#This Row],[Where do you work]],tblCountries[[Actual]:[Mapping]],2,FALSE)","v":"USA"},"4 to 6 hours a day",12,{"$f":"IF(ISNA(VLOOKUP(tblSalaries[[#This Row],[Years of Experience]],vlookUpExp!$A$1:$B$56,2,FALSE)),\"No Response\",VLOOKUP(tblSalaries[[#This Row],[Years of Experience]],vlookUpExp!$A$1:$B$56,2,FALSE))","v":"11-15"}]
[null,"ID1297","2012-05-29T13:16:45",1000,12000,"USD",{"$f":"tblSalaries[[#This Row],[clean Salary (in local currency)]]*VLOOKUP(tblSalaries[[#This Row],[Currency]],tblXrate[],2,FALSE)","v":12000},{"$f":"IF($H$1=\"USD\",tblSalaries[[#This Row],[Salary in USD]],tblSalaries[[#This Row],[Salary in USD]]*VLOOKUP($H$1,USDtoUserChoice,2,FALSE))","v":98423.760000000009},"excel prof","Consultant","pakistan",{"$f":"VLOOKUP(tblSalaries[[#This Row],[Where do you work]],tblCountries[[Actual]:[Mapping]],2,FALSE)","v":"Pakistan"},"4 to 6 hours a day",1,{"$f":"IF(ISNA(VLOOKUP(tblSalaries[[#This Row],[Years of Experience]],vlookUpExp!$A$1:$B$56,2,FALSE)),\"No Response\",VLOOKUP(tblSalaries[[#This Row],[Years of Experience]],vlookUpExp!$A$1:$B$56,2,FALSE))","v":"0-5"}]
[null,"ID1298","2012-05-29T13:16:59","30000 EUR",30000,"EUR",{"$f":"tblSalaries[[#This Row],[clean Salary (in local currency)]]*VLOOKUP(tblSalaries[[#This Row],[Currency]],tblXrate[],2,FALSE)","v":38111.983169748237},{"$f":"IF($H$1=\"USD\",tblSalaries[[#This Row],[Salary in USD]],tblSalaries[[#This Row],[Salary in USD]]*VLOOKUP($H$1,USDtoUserChoice,2,FALSE))","v":312593.7237186117},"Employee","Analyst","Belgium",{"$f":"VLOOKUP(tblSalaries[[#This Row],[Where do you work]],tblCountries[[Actual]:[Mapping]],2,FALSE)","v":"Belgium"},"2 to 3 hours per day",15,{"$f":"IF(ISNA(VLOOKUP(tblSalaries[[#This Row],[Years of Experience]],vlookUpExp!$A$1:$B$56,2,FALSE)),\"No Response\",VLOOKUP(tblSalaries[[#This Row],[Years of Experience]],vlookUpExp!$A$1:$B$56,2,FALSE))","v":"11-15"}]
[null,"ID1299","2012-05-29T13:23:45","6,00,000 INR",600000,"INR",{"$f":"tblSalaries[[#This Row],[clean Salary (in local currency)]]*VLOOKUP(tblSalaries[[#This Row],[Currency]],tblXrate[],2,FALSE)","v":10684.750012465542},{"$f":"IF($H$1=\"USD\",tblSalaries[[#This Row],[Salary in USD]],tblSalaries[[#This Row],[Salary in USD]]*VLOOKUP($H$1,USDtoUserChoice,2,FALSE))","v":87636.105907242134},"Senior Business Executive","Manager","India",{"$f":"VLOOKUP(tblSalaries[[#This Row],[Where do you work]],tblCountries[[Actual]:[Mapping]],2,FALSE)","v":"India"},"2 to 3 hours per day",2,{"$f":"IF(ISNA(VLOOKUP(tblSalaries[[#This Row],[Years of Experience]],vlookUpExp!$A$1:$B$56,2,FALSE)),\"No Response\",VLOOKUP(tblSalaries[[#This Row],[Years of Experience]],vlookUpExp!$A$1:$B$56,2,FALSE))","v":"0-5"}]
[null,"ID1301","2012-05-29T13:40:09","3.5 lakhs p.a",350000,"INR",{"$f":"tblSalaries[[#This Row],[clean Salary (in local currency)]]*VLOOKUP(tblSalaries[[#This Row],[Currency]],tblXrate[],2,FALSE)","v":6232.7708406048987},{"$f":"IF($H$1=\"USD\",tblSalaries[[#This Row],[Salary in USD]],tblSalaries[[#This Row],[Salary in USD]]*VLOOKUP($H$1,USDtoUserChoice,2,FALSE))","v":51121.061779224568},"I dont know","Analyst","India",{"$f":"VLOOKUP(tblSalaries[[#This Row],[Where do you work]],tblCountries[[Actual]:[Mapping]],2,FALSE)","v":"India"},"4 to 6 hours a day",1.5,{"$f":"IF(ISNA(VLOOKUP(tblSalaries[[#This Row],[Years of Experience]],vlookUpExp!$A$1:$B$56,2,FALSE)),\"No Response\",VLOOKUP(tblSalaries[[#This Row],[Years of Experience]],vlookUpExp!$A$1:$B$56,2,FALSE))","v":"0-5"}]
[null,"ID1302","2012-05-29T13:52:13",45000,45000,"USD",{"$f":"tblSalaries[[#This Row],[clean Salary (in local currency)]]*VLOOKUP(tblSalaries[[#This Row],[Currency]],tblXrate[],2,FALSE)","v":45000},{"$f":"IF($H$1=\"USD\",tblSalaries[[#This Row],[Salary in USD]],tblSalaries[[#This Row],[Salary in USD]]*VLOOKUP($H$1,USDtoUserChoice,2,FALSE))","v":369089.10000000003},"Financial Analysis","Analyst","Pakistan",{"$f":"VLOOKUP(tblSalaries[[#This Row],[Where do you work]],tblCountries[[Actual]:[Mapping]],2,FALSE)","v":"Pakistan"},"All the 8 hours baby, all the 8!",8,{"$f":"IF(ISNA(VLOOKUP(tblSalaries[[#This Row],[Years of Experience]],vlookUpExp!$A$1:$B$56,2,FALSE)),\"No Response\",VLOOKUP(tblSalaries[[#This Row],[Years of Experience]],vlookUpExp!$A$1:$B$56,2,FALSE))","v":"6-10"}]
[null,"ID1303","2012-05-29T13:53:59",80000,80000,"USD",{"$f":"tblSalaries[[#This Row],[clean Salary (in local currency)]]*VLOOKUP(tblSalaries[[#This Row],[Currency]],tblXrate[],2,FALSE)","v":80000},{"$f":"IF($H$1=\"USD\",tblSalaries[[#This Row],[Salary in USD]],tblSalaries[[#This Row],[Salary in USD]]*VLOOKUP($H$1,USDtoUserChoice,2,FALSE))","v":656158.4},"Manager","Manager","USA",{"$f":"VLOOKUP(tblSalaries[[#This Row],[Where do you work]],tblCountries[[Actual]:[Mapping]],2,FALSE)","v":"USA"},"1 or 2 hours a day",6,{"$f":"IF(ISNA(VLOOKUP(tblSalaries[[#This Row],[Years of Experience]],vlookUpExp!$A$1:$B$56,2,FALSE)),\"No Response\",VLOOKUP(tblSalaries[[#This Row],[Years of Experience]],vlookUpExp!$A$1:$B$56,2,FALSE))","v":"6-10"}]
[null,"ID1304","2012-05-29T13:54:38","Rs 1500000",1500000,"INR",{"$f":"tblSalaries[[#This Row],[clean Salary (in local currency)]]*VLOOKUP(tblSalaries[[#This Row],[Currency]],tblXrate[],2,FALSE)","v":26711.875031163851},{"$f":"IF($H$1=\"USD\",tblSalaries[[#This Row],[Salary in USD]],tblSalaries[[#This Row],[Salary in USD]]*VLOOKUP($H$1,USDtoUserChoice,2,FALSE))","v":219090.26476810529},"Analyst","Analyst","India",{"$f":"VLOOKUP(tblSalaries[[#This Row],[Where do you work]],tblCountries[[Actual]:[Mapping]],2,FALSE)","v":"India"},"4 to 6 hours a day",7,{"$f":"IF(ISNA(VLOOKUP(tblSalaries[[#This Row],[Years of Experience]],vlookUpExp!$A$1:$B$56,2,FALSE)),\"No Response\",VLOOKUP(tblSalaries[[#This Row],[Years of Experience]],vlookUpExp!$A$1:$B$56,2,FALSE))","v":"6-10"}]
[null,"ID1305","2012-05-29T13:58:30","US$ 100,000",100000,"USD",{"$f":"tblSalaries[[#This Row],[clean Salary (in local currency)]]*VLOOKUP(tblSalaries[[#This Row],[Currency]],tblXrate[],2,FALSE)","v":100000},{"$f":"IF($H$1=\"USD\",tblSalaries[[#This Row],[Salary in USD]],tblSalaries[[#This Row],[Salary in USD]]*VLOOKUP($H$1,USDtoUserChoice,2,FALSE))","v":820198.00000000012},"Business Analyst","Analyst","Uganda",{"$f":"VLOOKUP(tblSalaries[[#This Row],[Where do you work]],tblCountries[[Actual]:[Mapping]],2,FALSE)","v":"Uganda"},"4 to 6 hours a day",17,{"$f":"IF(ISNA(VLOOKUP(tblSalaries[[#This Row],[Years of Experience]],vlookUpExp!$A$1:$B$56,2,FALSE)),\"No Response\",VLOOKUP(tblSalaries[[#This Row],[Years of Experience]],vlookUpExp!$A$1:$B$56,2,FALSE))","v":"16-20"}]
[null,"ID1306","2012-05-29T13:59:14",68000,68000,"AUD",{"$f":"tblSalaries[[#This Row],[clean Salary (in local currency)]]*VLOOKUP(tblSalaries[[#This Row],[Currency]],tblXrate[],2,FALSE)","v":69353.856635379227},{"$f":"IF($H$1=\"USD\",tblSalaries[[#This Row],[Salary in USD]],tblSalaries[[#This Row],[Salary in USD]]*VLOOKUP($H$1,USDtoUserChoice,2,FALSE))","v":568838.9450462478},"Project Support Officer","Manager","Australia",{"$f":"VLOOKUP(tblSalaries[[#This Row],[Where do you work]],tblCountries[[Actual]:[Mapping]],2,FALSE)","v":"Australia"},"4 to 6 hours a day",10,{"$f":"IF(ISNA(VLOOKUP(tblSalaries[[#This Row],[Years of Experience]],vlookUpExp!$A$1:$B$56,2,FALSE)),\"No Response\",VLOOKUP(tblSalaries[[#This Row],[Years of Experience]],vlookUpExp!$A$1:$B$56,2,FALSE))","v":"6-10"}]
[null,"ID1307","2012-05-29T14:10:28","AUS 49,000",49000,"AUD",{"$f":"tblSalaries[[#This Row],[clean Salary (in local currency)]]*VLOOKUP(tblSalaries[[#This Row],[Currency]],tblXrate[],2,FALSE)","v":49975.573163729154},{"$f":"IF($H$1=\"USD\",tblSalaries[[#This Row],[Salary in USD]],tblSalaries[[#This Row],[Salary in USD]]*VLOOKUP($H$1,USDtoUserChoice,2,FALSE))","v":409898.65157744329},"Document Control","Controller","Australia",{"$f":"VLOOKUP(tblSalaries[[#This Row],[Where do you work]],tblCountries[[Actual]:[Mapping]],2,FALSE)","v":"Australia"},"4 to 6 hours a day",30,{"$f":"IF(ISNA(VLOOKUP(tblSalaries[[#This Row],[Years of Experience]],vlookUpExp!$A$1:$B$56,2,FALSE)),\"No Response\",VLOOKUP(tblSalaries[[#This Row],[Years of Experience]],vlookUpExp!$A$1:$B$56,2,FALSE))","v":"26-30"}]
[null,"ID1308","2012-05-29T14:16:06","5,75,000",575000,"INR",{"$f":"tblSalaries[[#This Row],[clean Salary (in local currency)]]*VLOOKUP(tblSalaries[[#This Row],[Currency]],tblXrate[],2,FALSE)","v":10239.552095279476},{"$f":"IF($H$1=\"USD\",tblSalaries[[#This Row],[Salary in USD]],tblSalaries[[#This Row],[Salary in USD]]*VLOOKUP($H$1,USDtoUserChoice,2,FALSE))","v":83984.601494440358},"Asst Manager HR","Manager","India",{"$f":"VLOOKUP(tblSalaries[[#This Row],[Where do you work]],tblCountries[[Actual]:[Mapping]],2,FALSE)","v":"India"},"2 to 3 hours per day",5,{"$f":"IF(ISNA(VLOOKUP(tblSalaries[[#This Row],[Years of Experience]],vlookUpExp!$A$1:$B$56,2,FALSE)),\"No Response\",VLOOKUP(tblSalaries[[#This Row],[Years of Experience]],vlookUpExp!$A$1:$B$56,2,FALSE))","v":"0-5"}]
[null,"ID1309","2012-05-29T14:34:42","500000 Rupees",500000,"INR",{"$f":"tblSalaries[[#This Row],[clean Salary (in local currency)]]*VLOOKUP(tblSalaries[[#This Row],[Currency]],tblXrate[],2,FALSE)","v":8903.9583437212841},{"$f":"IF($H$1=\"USD\",tblSalaries[[#This Row],[Salary in USD]],tblSalaries[[#This Row],[Salary in USD]]*VLOOKUP($H$1,USDtoUserChoice,2,FALSE))","v":73030.088256035102},"Senior software engineer","Engineer","India",{"$f":"VLOOKUP(tblSalaries[[#This Row],[Where do you work]],tblCountries[[Actual]:[Mapping]],2,FALSE)","v":"India"},"4 to 6 hours a day",2,{"$f":"IF(ISNA(VLOOKUP(tblSalaries[[#This Row],[Years of Experience]],vlookUpExp!$A$1:$B$56,2,FALSE)),\"No Response\",VLOOKUP(tblSalaries[[#This Row],[Years of Experience]],vlookUpExp!$A$1:$B$56,2,FALSE))","v":"0-5"}]
[null,"ID1310","2012-05-29T14:55:21","36K",36000,"USD",{"$f":"tblSalaries[[#This Row],[clean Salary (in local currency)]]*VLOOKUP(tblSalaries[[#This Row],[Currency]],tblXrate[],2,FALSE)","v":36000},{"$f":"IF($H$1=\"USD\",tblSalaries[[#This Row],[Salary in USD]],tblSalaries[[#This Row],[Salary in USD]]*VLOOKUP($H$1,USDtoUserChoice,2,FALSE))","v":295271.28000000003},"Administrative Assistant","Analyst","Kuwait",{"$f":"VLOOKUP(tblSalaries[[#This Row],[Where do you work]],tblCountries[[Actual]:[Mapping]],2,FALSE)","v":"Kuwait"},"2 to 3 hours per day",10,{"$f":"IF(ISNA(VLOOKUP(tblSalaries[[#This Row],[Years of Experience]],vlookUpExp!$A$1:$B$56,2,FALSE)),\"No Response\",VLOOKUP(tblSalaries[[#This Row],[Years of Experience]],vlookUpExp!$A$1:$B$56,2,FALSE))","v":"6-10"}]
[null,"ID1311","2012-05-29T14:55:29","210000 per annum",210000,"INR",{"$f":"tblSalaries[[#This Row],[clean Salary (in local currency)]]*VLOOKUP(tblSalaries[[#This Row],[Currency]],tblXrate[],2,FALSE)","v":3739.6625043629392},{"$f":"IF($H$1=\"USD\",tblSalaries[[#This Row],[Salary in USD]],tblSalaries[[#This Row],[Salary in USD]]*VLOOKUP($H$1,USDtoUserChoice,2,FALSE))","v":30672.637067534743},"MIS cum Purchase Executive","Reporting","India",{"$f":"VLOOKUP(tblSalaries[[#This Row],[Where do you work]],tblCountries[[Actual]:[Mapping]],2,FALSE)","v":"India"},"1 or 2 hours a day",4.5,{"$f":"IF(ISNA(VLOOKUP(tblSalaries[[#This Row],[Years of Experience]],vlookUpExp!$A$1:$B$56,2,FALSE)),\"No Response\",VLOOKUP(tblSalaries[[#This Row],[Years of Experience]],vlookUpExp!$A$1:$B$56,2,FALSE))","v":"0-5"}]
[null,"ID1312","2012-05-29T14:59:11","â‚¬ 48500",48500,"EUR",{"$f":"tblSalaries[[#This Row],[clean Salary (in local currency)]]*VLOOKUP(tblSalaries[[#This Row],[Currency]],tblXrate[],2,FALSE)","v":61614.372791092981},{"$f":"IF($H$1=\"USD\",tblSalaries[[#This Row],[Salary in USD]],tblSalaries[[#This Row],[Salary in USD]]*VLOOKUP($H$1,USDtoUserChoice,2,FALSE))","v":505359.85334508884},"Information analyst","Analyst","Netherlands",{"$f":"VLOOKUP(tblSalaries[[#This Row],[Where do you work]],tblCountries[[Actual]:[Mapping]],2,FALSE)","v":"Netherlands"},"4 to 6 hours a day",8,{"$f":"IF(ISNA(VLOOKUP(tblSalaries[[#This Row],[Years of Experience]],vlookUpExp!$A$1:$B$56,2,FALSE)),\"No Response\",VLOOKUP(tblSalaries[[#This Row],[Years of Experience]],vlookUpExp!$A$1:$B$56,2,FALSE))","v":"6-10"}]
[null,"ID1313","2012-05-29T15:02:56","2 LPA",200000,"INR",{"$f":"tblSalaries[[#This Row],[clean Salary (in local currency)]]*VLOOKUP(tblSalaries[[#This Row],[Currency]],tblXrate[],2,FALSE)","v":3561.5833374885137},{"$f":"IF($H$1=\"USD\",tblSalaries[[#This Row],[Salary in USD]],tblSalaries[[#This Row],[Salary in USD]]*VLOOKUP($H$1,USDtoUserChoice,2,FALSE))","v":29212.035302414042},"MIS","Reporting","India",{"$f":"VLOOKUP(tblSalaries[[#This Row],[Where do you work]],tblCountries[[Actual]:[Mapping]],2,FALSE)","v":"India"},"2 to 3 hours per day",3,{"$f":"IF(ISNA(VLOOKUP(tblSalaries[[#This Row],[Years of Experience]],vlookUpExp!$A$1:$B$56,2,FALSE)),\"No Response\",VLOOKUP(tblSalaries[[#This Row],[Years of Experience]],vlookUpExp!$A$1:$B$56,2,FALSE))","v":"0-5"}]
[null,"ID1314","2012-05-29T15:04:11","INR360000",360000,"INR",{"$f":"tblSalaries[[#This Row],[clean Salary (in local currency)]]*VLOOKUP(tblSalaries[[#This Row],[Currency]],tblXrate[],2,FALSE)","v":6410.8500074793246},{"$f":"IF($H$1=\"USD\",tblSalaries[[#This Row],[Salary in USD]],tblSalaries[[#This Row],[Salary in USD]]*VLOOKUP($H$1,USDtoUserChoice,2,FALSE))","v":52581.663544345276},"Sr. Executive -HR","Analyst","India",{"$f":"VLOOKUP(tblSalaries[[#This Row],[Where do you work]],tblCountries[[Actual]:[Mapping]],2,FALSE)","v":"India"},"All the 8 hours baby, all the 8!",6,{"$f":"IF(ISNA(VLOOKUP(tblSalaries[[#This Row],[Years of Experience]],vlookUpExp!$A$1:$B$56,2,FALSE)),\"No Response\",VLOOKUP(tblSalaries[[#This Row],[Years of Experience]],vlookUpExp!$A$1:$B$56,2,FALSE))","v":"6-10"}]
[null,"ID1315","2012-05-29T15:08:12","â‚¬ 28500",28500,"EUR",{"$f":"tblSalaries[[#This Row],[clean Salary (in local currency)]]*VLOOKUP(tblSalaries[[#This Row],[Currency]],tblXrate[],2,FALSE)","v":36206.384011260823},{"$f":"IF($H$1=\"USD\",tblSalaries[[#This Row],[Salary in USD]],tblSalaries[[#This Row],[Salary in USD]]*VLOOKUP($H$1,USDtoUserChoice,2,FALSE))","v":296964.03753268108},"Salary Professsional","Analyst","Netherlands",{"$f":"VLOOKUP(tblSalaries[[#This Row],[Where do you work]],tblCountries[[Actual]:[Mapping]],2,FALSE)","v":"Netherlands"},"1 or 2 hours a day",5,{"$f":"IF(ISNA(VLOOKUP(tblSalaries[[#This Row],[Years of Experience]],vlookUpExp!$A$1:$B$56,2,FALSE)),\"No Response\",VLOOKUP(tblSalaries[[#This Row],[Years of Experience]],vlookUpExp!$A$1:$B$56,2,FALSE))","v":"0-5"}]
[null,"ID1316","2012-05-29T15:10:24",13500,13500,"USD",{"$f":"tblSalaries[[#This Row],[clean Salary (in local currency)]]*VLOOKUP(tblSalaries[[#This Row],[Currency]],tblXrate[],2,FALSE)","v":13500},{"$f":"IF($H$1=\"USD\",tblSalaries[[#This Row],[Salary in USD]],tblSalaries[[#This Row],[Salary in USD]]*VLOOKUP($H$1,USDtoUserChoice,2,FALSE))","v":110726.73000000001},"Asst. Manager","Manager","India",{"$f":"VLOOKUP(tblSalaries[[#This Row],[Where do you work]],tblCountries[[Actual]:[Mapping]],2,FALSE)","v":"India"},"2 to 3 hours per day",20,{"$f":"IF(ISNA(VLOOKUP(tblSalaries[[#This Row],[Years of Experience]],vlookUpExp!$A$1:$B$56,2,FALSE)),\"No Response\",VLOOKUP(tblSalaries[[#This Row],[Years of Experience]],vlookUpExp!$A$1:$B$56,2,FALSE))","v":"16-20"}]
[null,"ID1317","2012-05-29T15:18:45",250,3000,"USD",{"$f":"tblSalaries[[#This Row],[clean Salary (in local currency)]]*VLOOKUP(tblSalaries[[#This Row],[Currency]],tblXrate[],2,FALSE)","v":3000},{"$f":"IF($H$1=\"USD\",tblSalaries[[#This Row],[Salary in USD]],tblSalaries[[#This Row],[Salary in USD]]*VLOOKUP($H$1,USDtoUserChoice,2,FALSE))","v":24605.940000000002},"FANANCE","Accountant","SRI LANKA",{"$f":"VLOOKUP(tblSalaries[[#This Row],[Where do you work]],tblCountries[[Actual]:[Mapping]],2,FALSE)","v":"Sri Lanka"},"4 to 6 hours a day",2,{"$f":"IF(ISNA(VLOOKUP(tblSalaries[[#This Row],[Years of Experience]],vlookUpExp!$A$1:$B$56,2,FALSE)),\"No Response\",VLOOKUP(tblSalaries[[#This Row],[Years of Experience]],vlookUpExp!$A$1:$B$56,2,FALSE))","v":"0-5"}]
[null,"ID1318","2012-05-29T15:24:45",1200000,1200000,"INR",{"$f":"tblSalaries[[#This Row],[clean Salary (in local currency)]]*VLOOKUP(tblSalaries[[#This Row],[Currency]],tblXrate[],2,FALSE)","v":21369.500024931083},{"$f":"IF($H$1=\"USD\",tblSalaries[[#This Row],[Salary in USD]],tblSalaries[[#This Row],[Salary in USD]]*VLOOKUP($H$1,USDtoUserChoice,2,FALSE))","v":175272.21181448427},"Manager - Corporate strategy and Planning","Manager","India",{"$f":"VLOOKUP(tblSalaries[[#This Row],[Where do you work]],tblCountries[[Actual]:[Mapping]],2,FALSE)","v":"India"},"4 to 6 hours a day",9,{"$f":"IF(ISNA(VLOOKUP(tblSalaries[[#This Row],[Years of Experience]],vlookUpExp!$A$1:$B$56,2,FALSE)),\"No Response\",VLOOKUP(tblSalaries[[#This Row],[Years of Experience]],vlookUpExp!$A$1:$B$56,2,FALSE))","v":"6-10"}]
[null,"ID1319","2012-05-29T15:36:25","6lakhs",600000,"INR",{"$f":"tblSalaries[[#This Row],[clean Salary (in local currency)]]*VLOOKUP(tblSalaries[[#This Row],[Currency]],tblXrate[],2,FALSE)","v":10684.750012465542},{"$f":"IF($H$1=\"USD\",tblSalaries[[#This Row],[Salary in USD]],tblSalaries[[#This Row],[Salary in USD]]*VLOOKUP($H$1,USDtoUserChoice,2,FALSE))","v":87636.105907242134},"General Manager","Manager","India",{"$f":"VLOOKUP(tblSalaries[[#This Row],[Where do you work]],tblCountries[[Actual]:[Mapping]],2,FALSE)","v":"India"},"2 to 3 hours per day",28,{"$f":"IF(ISNA(VLOOKUP(tblSalaries[[#This Row],[Years of Experience]],vlookUpExp!$A$1:$B$56,2,FALSE)),\"No Response\",VLOOKUP(tblSalaries[[#This Row],[Years of Experience]],vlookUpExp!$A$1:$B$56,2,FALSE))","v":"26-30"}]
[null,"ID1320","2012-05-29T15:36:42",139000,139000,"EUR",{"$f":"tblSalaries[[#This Row],[clean Salary (in local currency)]]*VLOOKUP(tblSalaries[[#This Row],[Currency]],tblXrate[],2,FALSE)","v":176585.52201983347},{"$f":"IF($H$1=\"USD\",tblSalaries[[#This Row],[Salary in USD]],tblSalaries[[#This Row],[Salary in USD]]*VLOOKUP($H$1,USDtoUserChoice,2,FALSE))","v":1448350.9198962338},"NAF Support Manager","Manager","Germany",{"$f":"VLOOKUP(tblSalaries[[#This Row],[Where do you work]],tblCountries[[Actual]:[Mapping]],2,FALSE)","v":"Germany"},"1 or 2 hours a day",25,{"$f":"IF(ISNA(VLOOKUP(tblSalaries[[#This Row],[Years of Experience]],vlookUpExp!$A$1:$B$56,2,FALSE)),\"No Response\",VLOOKUP(tblSalaries[[#This Row],[Years of Experience]],vlookUpExp!$A$1:$B$56,2,FALSE))","v":"21-25"}]
[null,"ID1322","2012-05-29T15:38:40","43000 EUR",43000,"EUR",{"$f":"tblSalaries[[#This Row],[clean Salary (in local currency)]]*VLOOKUP(tblSalaries[[#This Row],[Currency]],tblXrate[],2,FALSE)","v":54627.175876639136},{"$f":"IF($H$1=\"USD\",tblSalaries[[#This Row],[Salary in USD]],tblSalaries[[#This Row],[Salary in USD]]*VLOOKUP($H$1,USDtoUserChoice,2,FALSE))","v":448051.00399667671},"Project manager of IT infrastructure","Manager","France",{"$f":"VLOOKUP(tblSalaries[[#This Row],[Where do you work]],tblCountries[[Actual]:[Mapping]],2,FALSE)","v":"France"},"All the 8 hours baby, all the 8!",7,{"$f":"IF(ISNA(VLOOKUP(tblSalaries[[#This Row],[Years of Experience]],vlookUpExp!$A$1:$B$56,2,FALSE)),\"No Response\",VLOOKUP(tblSalaries[[#This Row],[Years of Experience]],vlookUpExp!$A$1:$B$56,2,FALSE))","v":"6-10"}]
[null,"ID1323","2012-05-29T15:46:17","about 24.000 â‚¬",24000,"EUR",{"$f":"tblSalaries[[#This Row],[clean Salary (in local currency)]]*VLOOKUP(tblSalaries[[#This Row],[Currency]],tblXrate[],2,FALSE)","v":30489.586535798586},{"$f":"IF($H$1=\"USD\",tblSalaries[[#This Row],[Salary in USD]],tblSalaries[[#This Row],[Salary in USD]]*VLOOKUP($H$1,USDtoUserChoice,2,FALSE))","v":250074.97897488929},"Controller","Controller","Italy",{"$f":"VLOOKUP(tblSalaries[[#This Row],[Where do you work]],tblCountries[[Actual]:[Mapping]],2,FALSE)","v":"italy"},"4 to 6 hours a day",10,{"$f":"IF(ISNA(VLOOKUP(tblSalaries[[#This Row],[Years of Experience]],vlookUpExp!$A$1:$B$56,2,FALSE)),\"No Response\",VLOOKUP(tblSalaries[[#This Row],[Years of Experience]],vlookUpExp!$A$1:$B$56,2,FALSE))","v":"6-10"}]
[null,"ID1324","2012-05-29T15:49:41",314000,314000,"INR",{"$f":"tblSalaries[[#This Row],[clean Salary (in local currency)]]*VLOOKUP(tblSalaries[[#This Row],[Currency]],tblXrate[],2,FALSE)","v":5591.6858398569666},{"$f":"IF($H$1=\"USD\",tblSalaries[[#This Row],[Salary in USD]],tblSalaries[[#This Row],[Salary in USD]]*VLOOKUP($H$1,USDtoUserChoice,2,FALSE))","v":45862.895424790047},"relationship manager","Manager","India",{"$f":"VLOOKUP(tblSalaries[[#This Row],[Where do you work]],tblCountries[[Actual]:[Mapping]],2,FALSE)","v":"India"},"1 or 2 hours a day",0.1,{"$f":"IF(ISNA(VLOOKUP(tblSalaries[[#This Row],[Years of Experience]],vlookUpExp!$A$1:$B$56,2,FALSE)),\"No Response\",VLOOKUP(tblSalaries[[#This Row],[Years of Experience]],vlookUpExp!$A$1:$B$56,2,FALSE))","v":"0-5"}]
[null,"ID1325","2012-05-29T15:51:21","82000 USD",82000,"USD",{"$f":"tblSalaries[[#This Row],[clean Salary (in local currency)]]*VLOOKUP(tblSalaries[[#This Row],[Currency]],tblXrate[],2,FALSE)","v":82000},{"$f":"IF($H$1=\"USD\",tblSalaries[[#This Row],[Salary in USD]],tblSalaries[[#This Row],[Salary in USD]]*VLOOKUP($H$1,USDtoUserChoice,2,FALSE))","v":672562.3600000001},"Consultant","Consultant","South Africa",{"$f":"VLOOKUP(tblSalaries[[#This Row],[Where do you work]],tblCountries[[Actual]:[Mapping]],2,FALSE)","v":"South Africa"},"4 to 6 hours a day",10,{"$f":"IF(ISNA(VLOOKUP(tblSalaries[[#This Row],[Years of Experience]],vlookUpExp!$A$1:$B$56,2,FALSE)),\"No Response\",VLOOKUP(tblSalaries[[#This Row],[Years of Experience]],vlookUpExp!$A$1:$B$56,2,FALSE))","v":"6-10"}]
[null,"ID1326","2012-05-29T15:53:14",10000,10000,"USD",{"$f":"tblSalaries[[#This Row],[clean Salary (in local currency)]]*VLOOKUP(tblSalaries[[#This Row],[Currency]],tblXrate[],2,FALSE)","v":10000},{"$f":"IF($H$1=\"USD\",tblSalaries[[#This Row],[Salary in USD]],tblSalaries[[#This Row],[Salary in USD]]*VLOOKUP($H$1,USDtoUserChoice,2,FALSE))","v":82019.8},"MIS","Reporting","India",{"$f":"VLOOKUP(tblSalaries[[#This Row],[Where do you work]],tblCountries[[Actual]:[Mapping]],2,FALSE)","v":"India"},"1 or 2 hours a day",0.5,{"$f":"IF(ISNA(VLOOKUP(tblSalaries[[#This Row],[Years of Experience]],vlookUpExp!$A$1:$B$56,2,FALSE)),\"No Response\",VLOOKUP(tblSalaries[[#This Row],[Years of Experience]],vlookUpExp!$A$1:$B$56,2,FALSE))","v":"0-5"}]
[null,"ID1327","2012-05-29T16:07:59",9000,9000,"USD",{"$f":"tblSalaries[[#This Row],[clean Salary (in local currency)]]*VLOOKUP(tblSalaries[[#This Row],[Currency]],tblXrate[],2,FALSE)","v":9000},{"$f":"IF($H$1=\"USD\",tblSalaries[[#This Row],[Salary in USD]],tblSalaries[[#This Row],[Salary in USD]]*VLOOKUP($H$1,USDtoUserChoice,2,FALSE))","v":73817.820000000007},"Data Analyst","Analyst","India",{"$f":"VLOOKUP(tblSalaries[[#This Row],[Where do you work]],tblCountries[[Actual]:[Mapping]],2,FALSE)","v":"India"},"All the 8 hours baby, all the 8!",0.6,{"$f":"IF(ISNA(VLOOKUP(tblSalaries[[#This Row],[Years of Experience]],vlookUpExp!$A$1:$B$56,2,FALSE)),\"No Response\",VLOOKUP(tblSalaries[[#This Row],[Years of Experience]],vlookUpExp!$A$1:$B$56,2,FALSE))","v":"0-5"}]
[null,"ID1328","2012-05-29T16:08:40",9000,9000,"USD",{"$f":"tblSalaries[[#This Row],[clean Salary (in local currency)]]*VLOOKUP(tblSalaries[[#This Row],[Currency]],tblXrate[],2,FALSE)","v":9000},{"$f":"IF($H$1=\"USD\",tblSalaries[[#This Row],[Salary in USD]],tblSalaries[[#This Row],[Salary in USD]]*VLOOKUP($H$1,USDtoUserChoice,2,FALSE))","v":73817.820000000007},"Data Analyst","Analyst","India",{"$f":"VLOOKUP(tblSalaries[[#This Row],[Where do you work]],tblCountries[[Actual]:[Mapping]],2,FALSE)","v":"India"},"4 to 6 hours a day",1,{"$f":"IF(ISNA(VLOOKUP(tblSalaries[[#This Row],[Years of Experience]],vlookUpExp!$A$1:$B$56,2,FALSE)),\"No Response\",VLOOKUP(tblSalaries[[#This Row],[Years of Experience]],vlookUpExp!$A$1:$B$56,2,FALSE))","v":"0-5"}]
[null,"ID1329","2012-05-29T16:18:59","6.6 Lacs",660000,"INR",{"$f":"tblSalaries[[#This Row],[clean Salary (in local currency)]]*VLOOKUP(tblSalaries[[#This Row],[Currency]],tblXrate[],2,FALSE)","v":11753.225013712095},{"$f":"IF($H$1=\"USD\",tblSalaries[[#This Row],[Salary in USD]],tblSalaries[[#This Row],[Salary in USD]]*VLOOKUP($H$1,USDtoUserChoice,2,FALSE))","v":96399.716497966336},"AM business Intelligence","Manager","India",{"$f":"VLOOKUP(tblSalaries[[#This Row],[Where do you work]],tblCountries[[Actual]:[Mapping]],2,FALSE)","v":"India"},"All the 8 hours baby, all the 8!",7,{"$f":"IF(ISNA(VLOOKUP(tblSalaries[[#This Row],[Years of Experience]],vlookUpExp!$A$1:$B$56,2,FALSE)),\"No Response\",VLOOKUP(tblSalaries[[#This Row],[Years of Experience]],vlookUpExp!$A$1:$B$56,2,FALSE))","v":"6-10"}]
[null,"ID1330","2012-05-29T16:26:15","17000 Rs",204000,"INR",{"$f":"tblSalaries[[#This Row],[clean Salary (in local currency)]]*VLOOKUP(tblSalaries[[#This Row],[Currency]],tblXrate[],2,FALSE)","v":3632.815004238284},{"$f":"IF($H$1=\"USD\",tblSalaries[[#This Row],[Salary in USD]],tblSalaries[[#This Row],[Salary in USD]]*VLOOKUP($H$1,USDtoUserChoice,2,FALSE))","v":29796.276008462322},"MIS Associate","Reporting","India",{"$f":"VLOOKUP(tblSalaries[[#This Row],[Where do you work]],tblCountries[[Actual]:[Mapping]],2,FALSE)","v":"India"},"All the 8 hours baby, all the 8!",2,{"$f":"IF(ISNA(VLOOKUP(tblSalaries[[#This Row],[Years of Experience]],vlookUpExp!$A$1:$B$56,2,FALSE)),\"No Response\",VLOOKUP(tblSalaries[[#This Row],[Years of Experience]],vlookUpExp!$A$1:$B$56,2,FALSE))","v":"0-5"}]
[null,"ID1331","2012-05-29T16:31:06",75000,75000,"EUR",{"$f":"tblSalaries[[#This Row],[clean Salary (in local currency)]]*VLOOKUP(tblSalaries[[#This Row],[Currency]],tblXrate[],2,FALSE)","v":95279.957924370581},{"$f":"IF($H$1=\"USD\",tblSalaries[[#This Row],[Salary in USD]],tblSalaries[[#This Row],[Salary in USD]]*VLOOKUP($H$1,USDtoUserChoice,2,FALSE))","v":781484.30929652904},"Financial Analyst","Analyst","Netherlands",{"$f":"VLOOKUP(tblSalaries[[#This Row],[Where do you work]],tblCountries[[Actual]:[Mapping]],2,FALSE)","v":"Netherlands"},"All the 8 hours baby, all the 8!",16,{"$f":"IF(ISNA(VLOOKUP(tblSalaries[[#This Row],[Years of Experience]],vlookUpExp!$A$1:$B$56,2,FALSE)),\"No Response\",VLOOKUP(tblSalaries[[#This Row],[Years of Experience]],vlookUpExp!$A$1:$B$56,2,FALSE))","v":"16-20"}]
[null,"ID1332","2012-05-29T16:39:11","Â£45000",45000,"GBP",{"$f":"tblSalaries[[#This Row],[clean Salary (in local currency)]]*VLOOKUP(tblSalaries[[#This Row],[Currency]],tblXrate[],2,FALSE)","v":70928.022243027779},{"$f":"IF($H$1=\"USD\",tblSalaries[[#This Row],[Salary in USD]],tblSalaries[[#This Row],[Salary in USD]]*VLOOKUP($H$1,USDtoUserChoice,2,FALSE))","v":581750.219876869},"Senior Consultant","Consultant","UK",{"$f":"VLOOKUP(tblSalaries[[#This Row],[Where do you work]],tblCountries[[Actual]:[Mapping]],2,FALSE)","v":"UK"},"2 to 3 hours per day",4,{"$f":"IF(ISNA(VLOOKUP(tblSalaries[[#This Row],[Years of Experience]],vlookUpExp!$A$1:$B$56,2,FALSE)),\"No Response\",VLOOKUP(tblSalaries[[#This Row],[Years of Experience]],vlookUpExp!$A$1:$B$56,2,FALSE))","v":"0-5"}]
[null,"ID1333","2012-05-29T16:41:19","41000 â‚¬",41000,"EUR",{"$f":"tblSalaries[[#This Row],[clean Salary (in local currency)]]*VLOOKUP(tblSalaries[[#This Row],[Currency]],tblXrate[],2,FALSE)","v":52086.37699865592},{"$f":"IF($H$1=\"USD\",tblSalaries[[#This Row],[Salary in USD]],tblSalaries[[#This Row],[Salary in USD]]*VLOOKUP($H$1,USDtoUserChoice,2,FALSE))","v":427211.4224154359},"engineer","Engineer","Spain",{"$f":"VLOOKUP(tblSalaries[[#This Row],[Where do you work]],tblCountries[[Actual]:[Mapping]],2,FALSE)","v":"Spain"},"4 to 6 hours a day",12,{"$f":"IF(ISNA(VLOOKUP(tblSalaries[[#This Row],[Years of Experience]],vlookUpExp!$A$1:$B$56,2,FALSE)),\"No Response\",VLOOKUP(tblSalaries[[#This Row],[Years of Experience]],vlookUpExp!$A$1:$B$56,2,FALSE))","v":"11-15"}]
[null,"ID1334","2012-05-29T16:49:44",275000,275000,"INR",{"$f":"tblSalaries[[#This Row],[clean Salary (in local currency)]]*VLOOKUP(tblSalaries[[#This Row],[Currency]],tblXrate[],2,FALSE)","v":4897.177089046706},{"$f":"IF($H$1=\"USD\",tblSalaries[[#This Row],[Salary in USD]],tblSalaries[[#This Row],[Salary in USD]]*VLOOKUP($H$1,USDtoUserChoice,2,FALSE))","v":40166.548540819305},"TL WFM","Manager","India",{"$f":"VLOOKUP(tblSalaries[[#This Row],[Where do you work]],tblCountries[[Actual]:[Mapping]],2,FALSE)","v":"India"},"All the 8 hours baby, all the 8!",4,{"$f":"IF(ISNA(VLOOKUP(tblSalaries[[#This Row],[Years of Experience]],vlookUpExp!$A$1:$B$56,2,FALSE)),\"No Response\",VLOOKUP(tblSalaries[[#This Row],[Years of Experience]],vlookUpExp!$A$1:$B$56,2,FALSE))","v":"0-5"}]
[null,"ID1335","2012-05-29T16:55:43",80000,80000,"NZD",{"$f":"tblSalaries[[#This Row],[clean Salary (in local currency)]]*VLOOKUP(tblSalaries[[#This Row],[Currency]],tblXrate[],2,FALSE)","v":63807.047488395103},{"$f":"IF($H$1=\"USD\",tblSalaries[[#This Row],[Salary in USD]],tblSalaries[[#This Row],[Salary in USD]]*VLOOKUP($H$1,USDtoUserChoice,2,FALSE))","v":523344.12735886691},"accountant","Accountant","new zealand",{"$f":"VLOOKUP(tblSalaries[[#This Row],[Where do you work]],tblCountries[[Actual]:[Mapping]],2,FALSE)","v":"New Zealand"},"All the 8 hours baby, all the 8!",15,{"$f":"IF(ISNA(VLOOKUP(tblSalaries[[#This Row],[Years of Experience]],vlookUpExp!$A$1:$B$56,2,FALSE)),\"No Response\",VLOOKUP(tblSalaries[[#This Row],[Years of Experience]],vlookUpExp!$A$1:$B$56,2,FALSE))","v":"11-15"}]
[null,"ID1336","2012-05-29T17:05:31",24000,24000,"USD",{"$f":"tblSalaries[[#This Row],[clean Salary (in local currency)]]*VLOOKUP(tblSalaries[[#This Row],[Currency]],tblXrate[],2,FALSE)","v":24000},{"$f":"IF($H$1=\"USD\",tblSalaries[[#This Row],[Salary in USD]],tblSalaries[[#This Row],[Salary in USD]]*VLOOKUP($H$1,USDtoUserChoice,2,FALSE))","v":196847.52000000002},"Dir. Revenue Mgt","Manager","Kingdom of Saudi Arabia",{"$f":"VLOOKUP(tblSalaries[[#This Row],[Where do you work]],tblCountries[[Actual]:[Mapping]],2,FALSE)","v":"Saudi Arabia"},"4 to 6 hours a day",5,{"$f":"IF(ISNA(VLOOKUP(tblSalaries[[#This Row],[Years of Experience]],vlookUpExp!$A$1:$B$56,2,FALSE)),\"No Response\",VLOOKUP(tblSalaries[[#This Row],[Years of Experience]],vlookUpExp!$A$1:$B$56,2,FALSE))","v":"0-5"}]
[null,"ID1337","2012-05-29T17:09:02","60000 USD p.a.",60000,"USD",{"$f":"tblSalaries[[#This Row],[clean Salary (in local currency)]]*VLOOKUP(tblSalaries[[#This Row],[Currency]],tblXrate[],2,FALSE)","v":60000},{"$f":"IF($H$1=\"USD\",tblSalaries[[#This Row],[Salary in USD]],tblSalaries[[#This Row],[Salary in USD]]*VLOOKUP($H$1,USDtoUserChoice,2,FALSE))","v":492118.80000000005},"Controlling Manager","Manager","CEE",{"$f":"VLOOKUP(tblSalaries[[#This Row],[Where do you work]],tblCountries[[Actual]:[Mapping]],2,FALSE)","v":"CEE"},"All the 8 hours baby, all the 8!",20,{"$f":"IF(ISNA(VLOOKUP(tblSalaries[[#This Row],[Years of Experience]],vlookUpExp!$A$1:$B$56,2,FALSE)),\"No Response\",VLOOKUP(tblSalaries[[#This Row],[Years of Experience]],vlookUpExp!$A$1:$B$56,2,FALSE))","v":"16-20"}]
[null,"ID1338","2012-05-29T17:09:52",300000,300000,"INR",{"$f":"tblSalaries[[#This Row],[clean Salary (in local currency)]]*VLOOKUP(tblSalaries[[#This Row],[Currency]],tblXrate[],2,FALSE)","v":5342.3750062327708},{"$f":"IF($H$1=\"USD\",tblSalaries[[#This Row],[Salary in USD]],tblSalaries[[#This Row],[Salary in USD]]*VLOOKUP($H$1,USDtoUserChoice,2,FALSE))","v":43818.052953621067},"Financial Modelling Analyst","Analyst","India",{"$f":"VLOOKUP(tblSalaries[[#This Row],[Where do you work]],tblCountries[[Actual]:[Mapping]],2,FALSE)","v":"India"},"All the 8 hours baby, all the 8!",3,{"$f":"IF(ISNA(VLOOKUP(tblSalaries[[#This Row],[Years of Experience]],vlookUpExp!$A$1:$B$56,2,FALSE)),\"No Response\",VLOOKUP(tblSalaries[[#This Row],[Years of Experience]],vlookUpExp!$A$1:$B$56,2,FALSE))","v":"0-5"}]
[null,"ID1339","2012-05-29T17:16:20",500000,500000,"INR",{"$f":"tblSalaries[[#This Row],[clean Salary (in local currency)]]*VLOOKUP(tblSalaries[[#This Row],[Currency]],tblXrate[],2,FALSE)","v":8903.9583437212841},{"$f":"IF($H$1=\"USD\",tblSalaries[[#This Row],[Salary in USD]],tblSalaries[[#This Row],[Salary in USD]]*VLOOKUP($H$1,USDtoUserChoice,2,FALSE))","v":73030.088256035102},"support manager","Manager","India",{"$f":"VLOOKUP(tblSalaries[[#This Row],[Where do you work]],tblCountries[[Actual]:[Mapping]],2,FALSE)","v":"India"},"2 to 3 hours per day",5,{"$f":"IF(ISNA(VLOOKUP(tblSalaries[[#This Row],[Years of Experience]],vlookUpExp!$A$1:$B$56,2,FALSE)),\"No Response\",VLOOKUP(tblSalaries[[#This Row],[Years of Experience]],vlookUpExp!$A$1:$B$56,2,FALSE))","v":"0-5"}]
[null,"ID1340","2012-05-29T17:17:13","Â£26000",26000,"GBP",{"$f":"tblSalaries[[#This Row],[clean Salary (in local currency)]]*VLOOKUP(tblSalaries[[#This Row],[Currency]],tblXrate[],2,FALSE)","v":40980.635073749385},{"$f":"IF($H$1=\"USD\",tblSalaries[[#This Row],[Salary in USD]],tblSalaries[[#This Row],[Salary in USD]]*VLOOKUP($H$1,USDtoUserChoice,2,FALSE))","v":336122.34926219098},"Web Analyst","Analyst","UK",{"$f":"VLOOKUP(tblSalaries[[#This Row],[Where do you work]],tblCountries[[Actual]:[Mapping]],2,FALSE)","v":"UK"},"4 to 6 hours a day",2,{"$f":"IF(ISNA(VLOOKUP(tblSalaries[[#This Row],[Years of Experience]],vlookUpExp!$A$1:$B$56,2,FALSE)),\"No Response\",VLOOKUP(tblSalaries[[#This Row],[Years of Experience]],vlookUpExp!$A$1:$B$56,2,FALSE))","v":"0-5"}]
[null,"ID1341","2012-05-29T17:17:46","Rs.6,00,000",600000,"INR",{"$f":"tblSalaries[[#This Row],[clean Salary (in local currency)]]*VLOOKUP(tblSalaries[[#This Row],[Currency]],tblXrate[],2,FALSE)","v":10684.750012465542},{"$f":"IF($H$1=\"USD\",tblSalaries[[#This Row],[Salary in USD]],tblSalaries[[#This Row],[Salary in USD]]*VLOOKUP($H$1,USDtoUserChoice,2,FALSE))","v":87636.105907242134},"Assistant Manager","Manager","India",{"$f":"VLOOKUP(tblSalaries[[#This Row],[Where do you work]],tblCountries[[Actual]:[Mapping]],2,FALSE)","v":"India"},"1 or 2 hours a day",7,{"$f":"IF(ISNA(VLOOKUP(tblSalaries[[#This Row],[Years of Experience]],vlookUpExp!$A$1:$B$56,2,FALSE)),\"No Response\",VLOOKUP(tblSalaries[[#This Row],[Years of Experience]],vlookUpExp!$A$1:$B$56,2,FALSE))","v":"6-10"}]
[null,"ID1342","2012-05-29T17:30:43",1200000,1200000,"INR",{"$f":"tblSalaries[[#This Row],[clean Salary (in local currency)]]*VLOOKUP(tblSalaries[[#This Row],[Currency]],tblXrate[],2,FALSE)","v":21369.500024931083},{"$f":"IF($H$1=\"USD\",tblSalaries[[#This Row],[Salary in USD]],tblSalaries[[#This Row],[Salary in USD]]*VLOOKUP($H$1,USDtoUserChoice,2,FALSE))","v":175272.21181448427},"Consultant","Consultant","India",{"$f":"VLOOKUP(tblSalaries[[#This Row],[Where do you work]],tblCountries[[Actual]:[Mapping]],2,FALSE)","v":"India"},"2 to 3 hours per day",21,{"$f":"IF(ISNA(VLOOKUP(tblSalaries[[#This Row],[Years of Experience]],vlookUpExp!$A$1:$B$56,2,FALSE)),\"No Response\",VLOOKUP(tblSalaries[[#This Row],[Years of Experience]],vlookUpExp!$A$1:$B$56,2,FALSE))","v":"21-25"}]
[null,"ID1343","2012-05-29T17:36:13",18000,18000,"USD",{"$f":"tblSalaries[[#This Row],[clean Salary (in local currency)]]*VLOOKUP(tblSalaries[[#This Row],[Currency]],tblXrate[],2,FALSE)","v":18000},{"$f":"IF($H$1=\"USD\",tblSalaries[[#This Row],[Salary in USD]],tblSalaries[[#This Row],[Salary in USD]]*VLOOKUP($H$1,USDtoUserChoice,2,FALSE))","v":147635.64000000001},"liquidity manager","Manager","Ghana",{"$f":"VLOOKUP(tblSalaries[[#This Row],[Where do you work]],tblCountries[[Actual]:[Mapping]],2,FALSE)","v":"Ghana"},"4 to 6 hours a day",12,{"$f":"IF(ISNA(VLOOKUP(tblSalaries[[#This Row],[Years of Experience]],vlookUpExp!$A$1:$B$56,2,FALSE)),\"No Response\",VLOOKUP(tblSalaries[[#This Row],[Years of Experience]],vlookUpExp!$A$1:$B$56,2,FALSE))","v":"11-15"}]
[null,"ID1344","2012-05-29T17:39:55","41000 $",41000,"USD",{"$f":"tblSalaries[[#This Row],[clean Salary (in local currency)]]*VLOOKUP(tblSalaries[[#This Row],[Currency]],tblXrate[],2,FALSE)","v":41000},{"$f":"IF($H$1=\"USD\",tblSalaries[[#This Row],[Salary in USD]],tblSalaries[[#This Row],[Salary in USD]]*VLOOKUP($H$1,USDtoUserChoice,2,FALSE))","v":336281.18000000005},"PO/PMO/Planner/PM","Manager","Israel",{"$f":"VLOOKUP(tblSalaries[[#This Row],[Where do you work]],tblCountries[[Actual]:[Mapping]],2,FALSE)","v":"Israel"},"2 to 3 hours per day",4,{"$f":"IF(ISNA(VLOOKUP(tblSalaries[[#This Row],[Years of Experience]],vlookUpExp!$A$1:$B$56,2,FALSE)),\"No Response\",VLOOKUP(tblSalaries[[#This Row],[Years of Experience]],vlookUpExp!$A$1:$B$56,2,FALSE))","v":"0-5"}]
[null,"ID1345","2012-05-29T17:45:59","16,00,000",1600000,"INR",{"$f":"tblSalaries[[#This Row],[clean Salary (in local currency)]]*VLOOKUP(tblSalaries[[#This Row],[Currency]],tblXrate[],2,FALSE)","v":28492.66669990811},{"$f":"IF($H$1=\"USD\",tblSalaries[[#This Row],[Salary in USD]],tblSalaries[[#This Row],[Salary in USD]]*VLOOKUP($H$1,USDtoUserChoice,2,FALSE))","v":233696.28241931234},"Senior Associate ","Analyst","India",{"$f":"VLOOKUP(tblSalaries[[#This Row],[Where do you work]],tblCountries[[Actual]:[Mapping]],2,FALSE)","v":"India"},"2 to 3 hours per day",4,{"$f":"IF(ISNA(VLOOKUP(tblSalaries[[#This Row],[Years of Experience]],vlookUpExp!$A$1:$B$56,2,FALSE)),\"No Response\",VLOOKUP(tblSalaries[[#This Row],[Years of Experience]],vlookUpExp!$A$1:$B$56,2,FALSE))","v":"0-5"}]
[null,"ID1346","2012-05-29T17:48:04",49500,49500,"USD",{"$f":"tblSalaries[[#This Row],[clean Salary (in local currency)]]*VLOOKUP(tblSalaries[[#This Row],[Currency]],tblXrate[],2,FALSE)","v":49500},{"$f":"IF($H$1=\"USD\",tblSalaries[[#This Row],[Salary in USD]],tblSalaries[[#This Row],[Salary in USD]]*VLOOKUP($H$1,USDtoUserChoice,2,FALSE))","v":405998.01},"Financial Analyst II","Analyst","USA",{"$f":"VLOOKUP(tblSalaries[[#This Row],[Where do you work]],tblCountries[[Actual]:[Mapping]],2,FALSE)","v":"USA"},"4 to 6 hours a day",4.5,{"$f":"IF(ISNA(VLOOKUP(tblSalaries[[#This Row],[Years of Experience]],vlookUpExp!$A$1:$B$56,2,FALSE)),\"No Response\",VLOOKUP(tblSalaries[[#This Row],[Years of Experience]],vlookUpExp!$A$1:$B$56,2,FALSE))","v":"0-5"}]
[null,"ID1347","2012-05-29T18:00:19",6600,6600,"USD",{"$f":"tblSalaries[[#This Row],[clean Salary (in local currency)]]*VLOOKUP(tblSalaries[[#This Row],[Currency]],tblXrate[],2,FALSE)","v":6600},{"$f":"IF($H$1=\"USD\",tblSalaries[[#This Row],[Salary in USD]],tblSalaries[[#This Row],[Salary in USD]]*VLOOKUP($H$1,USDtoUserChoice,2,FALSE))","v":54133.068000000007},"MIS HR,HRIS","Reporting","India",{"$f":"VLOOKUP(tblSalaries[[#This Row],[Where do you work]],tblCountries[[Actual]:[Mapping]],2,FALSE)","v":"India"},"2 to 3 hours per day",6.4,{"$f":"IF(ISNA(VLOOKUP(tblSalaries[[#This Row],[Years of Experience]],vlookUpExp!$A$1:$B$56,2,FALSE)),\"No Response\",VLOOKUP(tblSalaries[[#This Row],[Years of Experience]],vlookUpExp!$A$1:$B$56,2,FALSE))","v":"6-10"}]
[null,"ID1348","2012-05-29T18:05:50","Â£70000",70000,"GBP",{"$f":"tblSalaries[[#This Row],[clean Salary (in local currency)]]*VLOOKUP(tblSalaries[[#This Row],[Currency]],tblXrate[],2,FALSE)","v":110332.47904470989},{"$f":"IF($H$1=\"USD\",tblSalaries[[#This Row],[Salary in USD]],tblSalaries[[#This Row],[Salary in USD]]*VLOOKUP($H$1,USDtoUserChoice,2,FALSE))","v":904944.78647512977},"Consultant","Consultant","UK",{"$f":"VLOOKUP(tblSalaries[[#This Row],[Where do you work]],tblCountries[[Actual]:[Mapping]],2,FALSE)","v":"UK"},"4 to 6 hours a day",15,{"$f":"IF(ISNA(VLOOKUP(tblSalaries[[#This Row],[Years of Experience]],vlookUpExp!$A$1:$B$56,2,FALSE)),\"No Response\",VLOOKUP(tblSalaries[[#This Row],[Years of Experience]],vlookUpExp!$A$1:$B$56,2,FALSE))","v":"11-15"}]
[null,"ID1349","2012-05-29T18:14:48","Â£30000",30000,"GBP",{"$f":"tblSalaries[[#This Row],[clean Salary (in local currency)]]*VLOOKUP(tblSalaries[[#This Row],[Currency]],tblXrate[],2,FALSE)","v":47285.348162018527},{"$f":"IF($H$1=\"USD\",tblSalaries[[#This Row],[Salary in USD]],tblSalaries[[#This Row],[Salary in USD]]*VLOOKUP($H$1,USDtoUserChoice,2,FALSE))","v":387833.47991791274},"Market Analyst","Analyst","UK",{"$f":"VLOOKUP(tblSalaries[[#This Row],[Where do you work]],tblCountries[[Actual]:[Mapping]],2,FALSE)","v":"UK"},"All the 8 hours baby, all the 8!",6,{"$f":"IF(ISNA(VLOOKUP(tblSalaries[[#This Row],[Years of Experience]],vlookUpExp!$A$1:$B$56,2,FALSE)),\"No Response\",VLOOKUP(tblSalaries[[#This Row],[Years of Experience]],vlookUpExp!$A$1:$B$56,2,FALSE))","v":"6-10"}]
[null,"ID1350","2012-05-29T18:14:53","USD 5300",5300,"USD",{"$f":"tblSalaries[[#This Row],[clean Salary (in local currency)]]*VLOOKUP(tblSalaries[[#This Row],[Currency]],tblXrate[],2,FALSE)","v":5300},{"$f":"IF($H$1=\"USD\",tblSalaries[[#This Row],[Salary in USD]],tblSalaries[[#This Row],[Salary in USD]]*VLOOKUP($H$1,USDtoUserChoice,2,FALSE))","v":43470.494000000006},"Asst. Production Manager","Manager","Pakistan",{"$f":"VLOOKUP(tblSalaries[[#This Row],[Where do you work]],tblCountries[[Actual]:[Mapping]],2,FALSE)","v":"Pakistan"},"4 to 6 hours a day",5,{"$f":"IF(ISNA(VLOOKUP(tblSalaries[[#This Row],[Years of Experience]],vlookUpExp!$A$1:$B$56,2,FALSE)),\"No Response\",VLOOKUP(tblSalaries[[#This Row],[Years of Experience]],vlookUpExp!$A$1:$B$56,2,FALSE))","v":"0-5"}]
[null,"ID1351","2012-05-29T18:21:13",34500,34500,"EUR",{"$f":"tblSalaries[[#This Row],[clean Salary (in local currency)]]*VLOOKUP(tblSalaries[[#This Row],[Currency]],tblXrate[],2,FALSE)","v":43828.780645210471},{"$f":"IF($H$1=\"USD\",tblSalaries[[#This Row],[Salary in USD]],tblSalaries[[#This Row],[Salary in USD]]*VLOOKUP($H$1,USDtoUserChoice,2,FALSE))","v":359482.78227640339},"Analyst","Analyst","Netherlands",{"$f":"VLOOKUP(tblSalaries[[#This Row],[Where do you work]],tblCountries[[Actual]:[Mapping]],2,FALSE)","v":"Netherlands"},"4 to 6 hours a day",15,{"$f":"IF(ISNA(VLOOKUP(tblSalaries[[#This Row],[Years of Experience]],vlookUpExp!$A$1:$B$56,2,FALSE)),\"No Response\",VLOOKUP(tblSalaries[[#This Row],[Years of Experience]],vlookUpExp!$A$1:$B$56,2,FALSE))","v":"11-15"}]
[null,"ID1352","2012-05-29T18:33:08",80000,80000,"USD",{"$f":"tblSalaries[[#This Row],[clean Salary (in local currency)]]*VLOOKUP(tblSalaries[[#This Row],[Currency]],tblXrate[],2,FALSE)","v":80000},{"$f":"IF($H$1=\"USD\",tblSalaries[[#This Row],[Salary in USD]],tblSalaries[[#This Row],[Salary in USD]]*VLOOKUP($H$1,USDtoUserChoice,2,FALSE))","v":656158.4},"Developer","Analyst","USA",{"$f":"VLOOKUP(tblSalaries[[#This Row],[Where do you work]],tblCountries[[Actual]:[Mapping]],2,FALSE)","v":"USA"},"1 or 2 hours a day",14,{"$f":"IF(ISNA(VLOOKUP(tblSalaries[[#This Row],[Years of Experience]],vlookUpExp!$A$1:$B$56,2,FALSE)),\"No Response\",VLOOKUP(tblSalaries[[#This Row],[Years of Experience]],vlookUpExp!$A$1:$B$56,2,FALSE))","v":"11-15"}]
[null,"ID1353","2012-05-29T18:35:10","9 067",9067,"EUR",{"$f":"tblSalaries[[#This Row],[clean Salary (in local currency)]]*VLOOKUP(tblSalaries[[#This Row],[Currency]],tblXrate[],2,FALSE)","v":11518.711713336908},{"$f":"IF($H$1=\"USD\",tblSalaries[[#This Row],[Salary in USD]],tblSalaries[[#This Row],[Salary in USD]]*VLOOKUP($H$1,USDtoUserChoice,2,FALSE))","v":94476.24309855506},"assistant","Analyst","Hungary",{"$f":"VLOOKUP(tblSalaries[[#This Row],[Where do you work]],tblCountries[[Actual]:[Mapping]],2,FALSE)","v":"Hungary"},"2 to 3 hours per day",3,{"$f":"IF(ISNA(VLOOKUP(tblSalaries[[#This Row],[Years of Experience]],vlookUpExp!$A$1:$B$56,2,FALSE)),\"No Response\",VLOOKUP(tblSalaries[[#This Row],[Years of Experience]],vlookUpExp!$A$1:$B$56,2,FALSE))","v":"0-5"}]
[null,"ID1354","2012-05-29T18:35:31","A$150000",150000,"AUD",{"$f":"tblSalaries[[#This Row],[clean Salary (in local currency)]]*VLOOKUP(tblSalaries[[#This Row],[Currency]],tblXrate[],2,FALSE)","v":152986.44846039536},{"$f":"IF($H$1=\"USD\",tblSalaries[[#This Row],[Salary in USD]],tblSalaries[[#This Row],[Salary in USD]]*VLOOKUP($H$1,USDtoUserChoice,2,FALSE))","v":1254791.7905431937},"Bus Analyst","Analyst","Australia",{"$f":"VLOOKUP(tblSalaries[[#This Row],[Where do you work]],tblCountries[[Actual]:[Mapping]],2,FALSE)","v":"Australia"},"1 or 2 hours a day",5.5,{"$f":"IF(ISNA(VLOOKUP(tblSalaries[[#This Row],[Years of Experience]],vlookUpExp!$A$1:$B$56,2,FALSE)),\"No Response\",VLOOKUP(tblSalaries[[#This Row],[Years of Experience]],vlookUpExp!$A$1:$B$56,2,FALSE))","v":"0-5"}]
[null,"ID1355","2012-05-29T18:38:51",125000,125000,"USD",{"$f":"tblSalaries[[#This Row],[clean Salary (in local currency)]]*VLOOKUP(tblSalaries[[#This Row],[Currency]],tblXrate[],2,FALSE)","v":125000},{"$f":"IF($H$1=\"USD\",tblSalaries[[#This Row],[Salary in USD]],tblSalaries[[#This Row],[Salary in USD]]*VLOOKUP($H$1,USDtoUserChoice,2,FALSE))","v":1025247.5000000001},"Vice President of Performance Management","Manager","USA",{"$f":"VLOOKUP(tblSalaries[[#This Row],[Where do you work]],tblCountries[[Actual]:[Mapping]],2,FALSE)","v":"USA"},"4 to 6 hours a day",2,{"$f":"IF(ISNA(VLOOKUP(tblSalaries[[#This Row],[Years of Experience]],vlookUpExp!$A$1:$B$56,2,FALSE)),\"No Response\",VLOOKUP(tblSalaries[[#This Row],[Years of Experience]],vlookUpExp!$A$1:$B$56,2,FALSE))","v":"0-5"}]
[null,"ID1356","2012-05-29T18:55:18",100000,100000,"AUD",{"$f":"tblSalaries[[#This Row],[clean Salary (in local currency)]]*VLOOKUP(tblSalaries[[#This Row],[Currency]],tblXrate[],2,FALSE)","v":101990.96564026357},{"$f":"IF($H$1=\"USD\",tblSalaries[[#This Row],[Salary in USD]],tblSalaries[[#This Row],[Salary in USD]]*VLOOKUP($H$1,USDtoUserChoice,2,FALSE))","v":836527.86036212905},"Principal advisor","Consultant","Australia",{"$f":"VLOOKUP(tblSalaries[[#This Row],[Where do you work]],tblCountries[[Actual]:[Mapping]],2,FALSE)","v":"Australia"},"1 or 2 hours a day",30,{"$f":"IF(ISNA(VLOOKUP(tblSalaries[[#This Row],[Years of Experience]],vlookUpExp!$A$1:$B$56,2,FALSE)),\"No Response\",VLOOKUP(tblSalaries[[#This Row],[Years of Experience]],vlookUpExp!$A$1:$B$56,2,FALSE))","v":"26-30"}]
[null,"ID1357","2012-05-29T18:55:20",105000,105000,"USD",{"$f":"tblSalaries[[#This Row],[clean Salary (in local currency)]]*VLOOKUP(tblSalaries[[#This Row],[Currency]],tblXrate[],2,FALSE)","v":105000},{"$f":"IF($H$1=\"USD\",tblSalaries[[#This Row],[Salary in USD]],tblSalaries[[#This Row],[Salary in USD]]*VLOOKUP($H$1,USDtoUserChoice,2,FALSE))","v":861207.9},"Director of Technology","CXO or Top Mgmt.","USA",{"$f":"VLOOKUP(tblSalaries[[#This Row],[Where do you work]],tblCountries[[Actual]:[Mapping]],2,FALSE)","v":"USA"},"1 or 2 hours a day",15,{"$f":"IF(ISNA(VLOOKUP(tblSalaries[[#This Row],[Years of Experience]],vlookUpExp!$A$1:$B$56,2,FALSE)),\"No Response\",VLOOKUP(tblSalaries[[#This Row],[Years of Experience]],vlookUpExp!$A$1:$B$56,2,FALSE))","v":"11-15"}]
[null,"ID1358","2012-05-29T19:01:05",40000,40000,"EUR",{"$f":"tblSalaries[[#This Row],[clean Salary (in local currency)]]*VLOOKUP(tblSalaries[[#This Row],[Currency]],tblXrate[],2,FALSE)","v":50815.977559664309},{"$f":"IF($H$1=\"USD\",tblSalaries[[#This Row],[Salary in USD]],tblSalaries[[#This Row],[Salary in USD]]*VLOOKUP($H$1,USDtoUserChoice,2,FALSE))","v":416791.63162481552},"officer","Manager","Austria",{"$f":"VLOOKUP(tblSalaries[[#This Row],[Where do you work]],tblCountries[[Actual]:[Mapping]],2,FALSE)","v":"Austria"},"4 to 6 hours a day",20,{"$f":"IF(ISNA(VLOOKUP(tblSalaries[[#This Row],[Years of Experience]],vlookUpExp!$A$1:$B$56,2,FALSE)),\"No Response\",VLOOKUP(tblSalaries[[#This Row],[Years of Experience]],vlookUpExp!$A$1:$B$56,2,FALSE))","v":"16-20"}]
[null,"ID1359","2012-05-29T19:01:48",75000,75000,"USD",{"$f":"tblSalaries[[#This Row],[clean Salary (in local currency)]]*VLOOKUP(tblSalaries[[#This Row],[Currency]],tblXrate[],2,FALSE)","v":75000},{"$f":"IF($H$1=\"USD\",tblSalaries[[#This Row],[Salary in USD]],tblSalaries[[#This Row],[Salary in USD]]*VLOOKUP($H$1,USDtoUserChoice,2,FALSE))","v":615148.5},"Financial Analyst","Analyst","USA",{"$f":"VLOOKUP(tblSalaries[[#This Row],[Where do you work]],tblCountries[[Actual]:[Mapping]],2,FALSE)","v":"USA"},"4 to 6 hours a day",7,{"$f":"IF(ISNA(VLOOKUP(tblSalaries[[#This Row],[Years of Experience]],vlookUpExp!$A$1:$B$56,2,FALSE)),\"No Response\",VLOOKUP(tblSalaries[[#This Row],[Years of Experience]],vlookUpExp!$A$1:$B$56,2,FALSE))","v":"6-10"}]
[null,"ID1360","2012-05-29T19:06:14","2.5 per lacks",250000,"INR",{"$f":"tblSalaries[[#This Row],[clean Salary (in local currency)]]*VLOOKUP(tblSalaries[[#This Row],[Currency]],tblXrate[],2,FALSE)","v":4451.9791718606421},{"$f":"IF($H$1=\"USD\",tblSalaries[[#This Row],[Salary in USD]],tblSalaries[[#This Row],[Salary in USD]]*VLOOKUP($H$1,USDtoUserChoice,2,FALSE))","v":36515.044128017551},"Credit Executive","Analyst","India",{"$f":"VLOOKUP(tblSalaries[[#This Row],[Where do you work]],tblCountries[[Actual]:[Mapping]],2,FALSE)","v":"India"},"All the 8 hours baby, all the 8!",8,{"$f":"IF(ISNA(VLOOKUP(tblSalaries[[#This Row],[Years of Experience]],vlookUpExp!$A$1:$B$56,2,FALSE)),\"No Response\",VLOOKUP(tblSalaries[[#This Row],[Years of Experience]],vlookUpExp!$A$1:$B$56,2,FALSE))","v":"6-10"}]
[null,"ID1361","2012-05-29T19:08:37",110000,110000,"USD",{"$f":"tblSalaries[[#This Row],[clean Salary (in local currency)]]*VLOOKUP(tblSalaries[[#This Row],[Currency]],tblXrate[],2,FALSE)","v":110000},{"$f":"IF($H$1=\"USD\",tblSalaries[[#This Row],[Salary in USD]],tblSalaries[[#This Row],[Salary in USD]]*VLOOKUP($H$1,USDtoUserChoice,2,FALSE))","v":902217.8},"Business Analytics Associate","Analyst","USA",{"$f":"VLOOKUP(tblSalaries[[#This Row],[Where do you work]],tblCountries[[Actual]:[Mapping]],2,FALSE)","v":"USA"},"1 or 2 hours a day",10,{"$f":"IF(ISNA(VLOOKUP(tblSalaries[[#This Row],[Years of Experience]],vlookUpExp!$A$1:$B$56,2,FALSE)),\"No Response\",VLOOKUP(tblSalaries[[#This Row],[Years of Experience]],vlookUpExp!$A$1:$B$56,2,FALSE))","v":"6-10"}]
[null,"ID1362","2012-05-29T19:10:05","27,000.GBP 42,353 USD ",27000,"GBP",{"$f":"tblSalaries[[#This Row],[clean Salary (in local currency)]]*VLOOKUP(tblSalaries[[#This Row],[Currency]],tblXrate[],2,FALSE)","v":42556.81334581667},{"$f":"IF($H$1=\"USD\",tblSalaries[[#This Row],[Salary in USD]],tblSalaries[[#This Row],[Salary in USD]]*VLOOKUP($H$1,USDtoUserChoice,2,FALSE))","v":349050.13192612142},"Engineering Tech","Engineer","UK",{"$f":"VLOOKUP(tblSalaries[[#This Row],[Where do you work]],tblCountries[[Actual]:[Mapping]],2,FALSE)","v":"UK"},"4 to 6 hours a day",1,{"$f":"IF(ISNA(VLOOKUP(tblSalaries[[#This Row],[Years of Experience]],vlookUpExp!$A$1:$B$56,2,FALSE)),\"No Response\",VLOOKUP(tblSalaries[[#This Row],[Years of Experience]],vlookUpExp!$A$1:$B$56,2,FALSE))","v":"0-5"}]
[null,"ID1363","2012-05-29T19:11:31","Rs. 4.5 lakhs ",450000,"INR",{"$f":"tblSalaries[[#This Row],[clean Salary (in local currency)]]*VLOOKUP(tblSalaries[[#This Row],[Currency]],tblXrate[],2,FALSE)","v":8013.5625093491553},{"$f":"IF($H$1=\"USD\",tblSalaries[[#This Row],[Salary in USD]],tblSalaries[[#This Row],[Salary in USD]]*VLOOKUP($H$1,USDtoUserChoice,2,FALSE))","v":65727.079430431593},"Mechanical Design engineer","Engineer","India",{"$f":"VLOOKUP(tblSalaries[[#This Row],[Where do you work]],tblCountries[[Actual]:[Mapping]],2,FALSE)","v":"India"},"1 or 2 hours a day",7,{"$f":"IF(ISNA(VLOOKUP(tblSalaries[[#This Row],[Years of Experience]],vlookUpExp!$A$1:$B$56,2,FALSE)),\"No Response\",VLOOKUP(tblSalaries[[#This Row],[Years of Experience]],vlookUpExp!$A$1:$B$56,2,FALSE))","v":"6-10"}]
[null,"ID1364","2012-05-29T19:12:19",125000,125000,"USD",{"$f":"tblSalaries[[#This Row],[clean Salary (in local currency)]]*VLOOKUP(tblSalaries[[#This Row],[Currency]],tblXrate[],2,FALSE)","v":125000},{"$f":"IF($H$1=\"USD\",tblSalaries[[#This Row],[Salary in USD]],tblSalaries[[#This Row],[Salary in USD]]*VLOOKUP($H$1,USDtoUserChoice,2,FALSE))","v":1025247.5000000001},"Finance Manager","Manager","USA",{"$f":"VLOOKUP(tblSalaries[[#This Row],[Where do you work]],tblCountries[[Actual]:[Mapping]],2,FALSE)","v":"USA"},"4 to 6 hours a day",25,{"$f":"IF(ISNA(VLOOKUP(tblSalaries[[#This Row],[Years of Experience]],vlookUpExp!$A$1:$B$56,2,FALSE)),\"No Response\",VLOOKUP(tblSalaries[[#This Row],[Years of Experience]],vlookUpExp!$A$1:$B$56,2,FALSE))","v":"21-25"}]
[null,"ID1365","2012-05-29T19:23:32",60000,60000,"USD",{"$f":"tblSalaries[[#This Row],[clean Salary (in local currency)]]*VLOOKUP(tblSalaries[[#This Row],[Currency]],tblXrate[],2,FALSE)","v":60000},{"$f":"IF($H$1=\"USD\",tblSalaries[[#This Row],[Salary in USD]],tblSalaries[[#This Row],[Salary in USD]]*VLOOKUP($H$1,USDtoUserChoice,2,FALSE))","v":492118.80000000005},"Business Information Analyst","Analyst","USA",{"$f":"VLOOKUP(tblSalaries[[#This Row],[Where do you work]],tblCountries[[Actual]:[Mapping]],2,FALSE)","v":"USA"},"All the 8 hours baby, all the 8!",12,{"$f":"IF(ISNA(VLOOKUP(tblSalaries[[#This Row],[Years of Experience]],vlookUpExp!$A$1:$B$56,2,FALSE)),\"No Response\",VLOOKUP(tblSalaries[[#This Row],[Years of Experience]],vlookUpExp!$A$1:$B$56,2,FALSE))","v":"11-15"}]
[null,"ID1366","2012-05-29T19:31:32","2.21Lac",2210000,"INR",{"$f":"tblSalaries[[#This Row],[clean Salary (in local currency)]]*VLOOKUP(tblSalaries[[#This Row],[Currency]],tblXrate[],2,FALSE)","v":39355.495879248076},{"$f":"IF($H$1=\"USD\",tblSalaries[[#This Row],[Salary in USD]],tblSalaries[[#This Row],[Salary in USD]]*VLOOKUP($H$1,USDtoUserChoice,2,FALSE))","v":322792.99009167514},"Marketing","Analyst","India",{"$f":"VLOOKUP(tblSalaries[[#This Row],[Where do you work]],tblCountries[[Actual]:[Mapping]],2,FALSE)","v":"India"},"1 or 2 hours a day",5.6,{"$f":"IF(ISNA(VLOOKUP(tblSalaries[[#This Row],[Years of Experience]],vlookUpExp!$A$1:$B$56,2,FALSE)),\"No Response\",VLOOKUP(tblSalaries[[#This Row],[Years of Experience]],vlookUpExp!$A$1:$B$56,2,FALSE))","v":"0-5"}]
[null,"ID1367","2012-05-29T19:33:07",45000,45000,"EUR",{"$f":"tblSalaries[[#This Row],[clean Salary (in local currency)]]*VLOOKUP(tblSalaries[[#This Row],[Currency]],tblXrate[],2,FALSE)","v":57167.974754622352},{"$f":"IF($H$1=\"USD\",tblSalaries[[#This Row],[Salary in USD]],tblSalaries[[#This Row],[Salary in USD]]*VLOOKUP($H$1,USDtoUserChoice,2,FALSE))","v":468890.58557791746},"Junior Controller","Controller","Germany",{"$f":"VLOOKUP(tblSalaries[[#This Row],[Where do you work]],tblCountries[[Actual]:[Mapping]],2,FALSE)","v":"Germany"},"4 to 6 hours a day",12,{"$f":"IF(ISNA(VLOOKUP(tblSalaries[[#This Row],[Years of Experience]],vlookUpExp!$A$1:$B$56,2,FALSE)),\"No Response\",VLOOKUP(tblSalaries[[#This Row],[Years of Experience]],vlookUpExp!$A$1:$B$56,2,FALSE))","v":"11-15"}]
[null,"ID1368","2012-05-29T19:39:35","4000000 JPY",4000000,"JPY",{"$f":"tblSalaries[[#This Row],[clean Salary (in local currency)]]*VLOOKUP(tblSalaries[[#This Row],[Currency]],tblXrate[],2,FALSE)","v":50694.322109187968},{"$f":"IF($H$1=\"USD\",tblSalaries[[#This Row],[Salary in USD]],tblSalaries[[#This Row],[Salary in USD]]*VLOOKUP($H$1,USDtoUserChoice,2,FALSE))","v":415793.81605311757},"System Analyst (Configuration Mgmt)","Analyst","Japan",{"$f":"VLOOKUP(tblSalaries[[#This Row],[Where do you work]],tblCountries[[Actual]:[Mapping]],2,FALSE)","v":"Japan"},"4 to 6 hours a day",8,{"$f":"IF(ISNA(VLOOKUP(tblSalaries[[#This Row],[Years of Experience]],vlookUpExp!$A$1:$B$56,2,FALSE)),\"No Response\",VLOOKUP(tblSalaries[[#This Row],[Years of Experience]],vlookUpExp!$A$1:$B$56,2,FALSE))","v":"6-10"}]
[null,"ID1369","2012-05-29T19:47:18",57500,57500,"USD",{"$f":"tblSalaries[[#This Row],[clean Salary (in local currency)]]*VLOOKUP(tblSalaries[[#This Row],[Currency]],tblXrate[],2,FALSE)","v":57500},{"$f":"IF($H$1=\"USD\",tblSalaries[[#This Row],[Salary in USD]],tblSalaries[[#This Row],[Salary in USD]]*VLOOKUP($H$1,USDtoUserChoice,2,FALSE))","v":471613.85000000003},"Planning Supervisor","Manager","USA",{"$f":"VLOOKUP(tblSalaries[[#This Row],[Where do you work]],tblCountries[[Actual]:[Mapping]],2,FALSE)","v":"USA"},"4 to 6 hours a day",30,{"$f":"IF(ISNA(VLOOKUP(tblSalaries[[#This Row],[Years of Experience]],vlookUpExp!$A$1:$B$56,2,FALSE)),\"No Response\",VLOOKUP(tblSalaries[[#This Row],[Years of Experience]],vlookUpExp!$A$1:$B$56,2,FALSE))","v":"26-30"}]
[null,"ID1370","2012-05-29T19:50:25",62000,62000,"EUR",{"$f":"tblSalaries[[#This Row],[clean Salary (in local currency)]]*VLOOKUP(tblSalaries[[#This Row],[Currency]],tblXrate[],2,FALSE)","v":78764.765217479682},{"$f":"IF($H$1=\"USD\",tblSalaries[[#This Row],[Salary in USD]],tblSalaries[[#This Row],[Salary in USD]]*VLOOKUP($H$1,USDtoUserChoice,2,FALSE))","v":646027.02901846403},"Controller","Controller","Netherlands",{"$f":"VLOOKUP(tblSalaries[[#This Row],[Where do you work]],tblCountries[[Actual]:[Mapping]],2,FALSE)","v":"Netherlands"},"4 to 6 hours a day",15,{"$f":"IF(ISNA(VLOOKUP(tblSalaries[[#This Row],[Years of Experience]],vlookUpExp!$A$1:$B$56,2,FALSE)),\"No Response\",VLOOKUP(tblSalaries[[#This Row],[Years of Experience]],vlookUpExp!$A$1:$B$56,2,FALSE))","v":"11-15"}]
[null,"ID1371","2012-05-29T19:52:35","$80,000 USD",80000,"USD",{"$f":"tblSalaries[[#This Row],[clean Salary (in local currency)]]*VLOOKUP(tblSalaries[[#This Row],[Currency]],tblXrate[],2,FALSE)","v":80000},{"$f":"IF($H$1=\"USD\",tblSalaries[[#This Row],[Salary in USD]],tblSalaries[[#This Row],[Salary in USD]]*VLOOKUP($H$1,USDtoUserChoice,2,FALSE))","v":656158.4},"Manager of Data Analytics","Manager","USA",{"$f":"VLOOKUP(tblSalaries[[#This Row],[Where do you work]],tblCountries[[Actual]:[Mapping]],2,FALSE)","v":"USA"},"4 to 6 hours a day",10,{"$f":"IF(ISNA(VLOOKUP(tblSalaries[[#This Row],[Years of Experience]],vlookUpExp!$A$1:$B$56,2,FALSE)),\"No Response\",VLOOKUP(tblSalaries[[#This Row],[Years of Experience]],vlookUpExp!$A$1:$B$56,2,FALSE))","v":"6-10"}]
[null,"ID1372","2012-05-29T19:54:38","Â£45000",45000,"GBP",{"$f":"tblSalaries[[#This Row],[clean Salary (in local currency)]]*VLOOKUP(tblSalaries[[#This Row],[Currency]],tblXrate[],2,FALSE)","v":70928.022243027779},{"$f":"IF($H$1=\"USD\",tblSalaries[[#This Row],[Salary in USD]],tblSalaries[[#This Row],[Salary in USD]]*VLOOKUP($H$1,USDtoUserChoice,2,FALSE))","v":581750.219876869},"Management Accountant","Manager","UK",{"$f":"VLOOKUP(tblSalaries[[#This Row],[Where do you work]],tblCountries[[Actual]:[Mapping]],2,FALSE)","v":"UK"},"2 to 3 hours per day",15,{"$f":"IF(ISNA(VLOOKUP(tblSalaries[[#This Row],[Years of Experience]],vlookUpExp!$A$1:$B$56,2,FALSE)),\"No Response\",VLOOKUP(tblSalaries[[#This Row],[Years of Experience]],vlookUpExp!$A$1:$B$56,2,FALSE))","v":"11-15"}]
[null,"ID1373","2012-05-29T20:03:07",33000,33000,"USD",{"$f":"tblSalaries[[#This Row],[clean Salary (in local currency)]]*VLOOKUP(tblSalaries[[#This Row],[Currency]],tblXrate[],2,FALSE)","v":33000},{"$f":"IF($H$1=\"USD\",tblSalaries[[#This Row],[Salary in USD]],tblSalaries[[#This Row],[Salary in USD]]*VLOOKUP($H$1,USDtoUserChoice,2,FALSE))","v":270665.34000000003},"Quality Control Supervisor","Controller","USA",{"$f":"VLOOKUP(tblSalaries[[#This Row],[Where do you work]],tblCountries[[Actual]:[Mapping]],2,FALSE)","v":"USA"},"4 to 6 hours a day",3,{"$f":"IF(ISNA(VLOOKUP(tblSalaries[[#This Row],[Years of Experience]],vlookUpExp!$A$1:$B$56,2,FALSE)),\"No Response\",VLOOKUP(tblSalaries[[#This Row],[Years of Experience]],vlookUpExp!$A$1:$B$56,2,FALSE))","v":"0-5"}]
[null,"ID1374","2012-05-29T20:20:21","$100,000 US",100000,"USD",{"$f":"tblSalaries[[#This Row],[clean Salary (in local currency)]]*VLOOKUP(tblSalaries[[#This Row],[Currency]],tblXrate[],2,FALSE)","v":100000},{"$f":"IF($H$1=\"USD\",tblSalaries[[#This Row],[Salary in USD]],tblSalaries[[#This Row],[Salary in USD]]*VLOOKUP($H$1,USDtoUserChoice,2,FALSE))","v":820198.00000000012},"Senior Financial Analyst","Analyst","USA",{"$f":"VLOOKUP(tblSalaries[[#This Row],[Where do you work]],tblCountries[[Actual]:[Mapping]],2,FALSE)","v":"USA"},"4 to 6 hours a day",1,{"$f":"IF(ISNA(VLOOKUP(tblSalaries[[#This Row],[Years of Experience]],vlookUpExp!$A$1:$B$56,2,FALSE)),\"No Response\",VLOOKUP(tblSalaries[[#This Row],[Years of Experience]],vlookUpExp!$A$1:$B$56,2,FALSE))","v":"0-5"}]
[null,"ID1375","2012-05-29T20:40:12","$60,000 USD",60000,"USD",{"$f":"tblSalaries[[#This Row],[clean Salary (in local currency)]]*VLOOKUP(tblSalaries[[#This Row],[Currency]],tblXrate[],2,FALSE)","v":60000},{"$f":"IF($H$1=\"USD\",tblSalaries[[#This Row],[Salary in USD]],tblSalaries[[#This Row],[Salary in USD]]*VLOOKUP($H$1,USDtoUserChoice,2,FALSE))","v":492118.80000000005},"project manager","Manager","USA",{"$f":"VLOOKUP(tblSalaries[[#This Row],[Where do you work]],tblCountries[[Actual]:[Mapping]],2,FALSE)","v":"USA"},"2 to 3 hours per day",20,{"$f":"IF(ISNA(VLOOKUP(tblSalaries[[#This Row],[Years of Experience]],vlookUpExp!$A$1:$B$56,2,FALSE)),\"No Response\",VLOOKUP(tblSalaries[[#This Row],[Years of Experience]],vlookUpExp!$A$1:$B$56,2,FALSE))","v":"16-20"}]
[null,"ID1376","2012-05-29T20:53:43",95000,95000,"USD",{"$f":"tblSalaries[[#This Row],[clean Salary (in local currency)]]*VLOOKUP(tblSalaries[[#This Row],[Currency]],tblXrate[],2,FALSE)","v":95000},{"$f":"IF($H$1=\"USD\",tblSalaries[[#This Row],[Salary in USD]],tblSalaries[[#This Row],[Salary in USD]]*VLOOKUP($H$1,USDtoUserChoice,2,FALSE))","v":779188.10000000009},"Cost Analyst","Analyst","USA",{"$f":"VLOOKUP(tblSalaries[[#This Row],[Where do you work]],tblCountries[[Actual]:[Mapping]],2,FALSE)","v":"USA"},"2 to 3 hours per day",7,{"$f":"IF(ISNA(VLOOKUP(tblSalaries[[#This Row],[Years of Experience]],vlookUpExp!$A$1:$B$56,2,FALSE)),\"No Response\",VLOOKUP(tblSalaries[[#This Row],[Years of Experience]],vlookUpExp!$A$1:$B$56,2,FALSE))","v":"6-10"}]
[null,"ID1377","2012-05-29T21:07:27",24000,24000,"USD",{"$f":"tblSalaries[[#This Row],[clean Salary (in local currency)]]*VLOOKUP(tblSalaries[[#This Row],[Currency]],tblXrate[],2,FALSE)","v":24000},{"$f":"IF($H$1=\"USD\",tblSalaries[[#This Row],[Salary in USD]],tblSalaries[[#This Row],[Salary in USD]]*VLOOKUP($H$1,USDtoUserChoice,2,FALSE))","v":196847.52000000002},"clerk 24 hrs per week","Analyst","USA",{"$f":"VLOOKUP(tblSalaries[[#This Row],[Where do you work]],tblCountries[[Actual]:[Mapping]],2,FALSE)","v":"USA"},"1 or 2 hours a day",33,{"$f":"IF(ISNA(VLOOKUP(tblSalaries[[#This Row],[Years of Experience]],vlookUpExp!$A$1:$B$56,2,FALSE)),\"No Response\",VLOOKUP(tblSalaries[[#This Row],[Years of Experience]],vlookUpExp!$A$1:$B$56,2,FALSE))","v":"31-35"}]
[null,"ID1378","2012-05-29T21:17:26",50000,50000,"USD",{"$f":"tblSalaries[[#This Row],[clean Salary (in local currency)]]*VLOOKUP(tblSalaries[[#This Row],[Currency]],tblXrate[],2,FALSE)","v":50000},{"$f":"IF($H$1=\"USD\",tblSalaries[[#This Row],[Salary in USD]],tblSalaries[[#This Row],[Salary in USD]]*VLOOKUP($H$1,USDtoUserChoice,2,FALSE))","v":410099.00000000006},"Engineering Intern","Engineer","USA",{"$f":"VLOOKUP(tblSalaries[[#This Row],[Where do you work]],tblCountries[[Actual]:[Mapping]],2,FALSE)","v":"USA"},"4 to 6 hours a day",0.5,{"$f":"IF(ISNA(VLOOKUP(tblSalaries[[#This Row],[Years of Experience]],vlookUpExp!$A$1:$B$56,2,FALSE)),\"No Response\",VLOOKUP(tblSalaries[[#This Row],[Years of Experience]],vlookUpExp!$A$1:$B$56,2,FALSE))","v":"0-5"}]
[null,"ID1379","2012-05-29T21:25:03",103000,103000,"USD",{"$f":"tblSalaries[[#This Row],[clean Salary (in local currency)]]*VLOOKUP(tblSalaries[[#This Row],[Currency]],tblXrate[],2,FALSE)","v":103000},{"$f":"IF($H$1=\"USD\",tblSalaries[[#This Row],[Salary in USD]],tblSalaries[[#This Row],[Salary in USD]]*VLOOKUP($H$1,USDtoUserChoice,2,FALSE))","v":844803.94000000006},"Controller","Controller","USA",{"$f":"VLOOKUP(tblSalaries[[#This Row],[Where do you work]],tblCountries[[Actual]:[Mapping]],2,FALSE)","v":"USA"},"4 to 6 hours a day",22,{"$f":"IF(ISNA(VLOOKUP(tblSalaries[[#This Row],[Years of Experience]],vlookUpExp!$A$1:$B$56,2,FALSE)),\"No Response\",VLOOKUP(tblSalaries[[#This Row],[Years of Experience]],vlookUpExp!$A$1:$B$56,2,FALSE))","v":"21-25"}]
[null,"ID1380","2012-05-29T21:27:23",36000,36000,"USD",{"$f":"tblSalaries[[#This Row],[clean Salary (in local currency)]]*VLOOKUP(tblSalaries[[#This Row],[Currency]],tblXrate[],2,FALSE)","v":36000},{"$f":"IF($H$1=\"USD\",tblSalaries[[#This Row],[Salary in USD]],tblSalaries[[#This Row],[Salary in USD]]*VLOOKUP($H$1,USDtoUserChoice,2,FALSE))","v":295271.28000000003},"Data Specialist","Specialist","USA",{"$f":"VLOOKUP(tblSalaries[[#This Row],[Where do you work]],tblCountries[[Actual]:[Mapping]],2,FALSE)","v":"USA"},"All the 8 hours baby, all the 8!",8,{"$f":"IF(ISNA(VLOOKUP(tblSalaries[[#This Row],[Years of Experience]],vlookUpExp!$A$1:$B$56,2,FALSE)),\"No Response\",VLOOKUP(tblSalaries[[#This Row],[Years of Experience]],vlookUpExp!$A$1:$B$56,2,FALSE))","v":"6-10"}]
[null,"ID1381","2012-05-29T21:28:07",85000,85000,"USD",{"$f":"tblSalaries[[#This Row],[clean Salary (in local currency)]]*VLOOKUP(tblSalaries[[#This Row],[Currency]],tblXrate[],2,FALSE)","v":85000},{"$f":"IF($H$1=\"USD\",tblSalaries[[#This Row],[Salary in USD]],tblSalaries[[#This Row],[Salary in USD]]*VLOOKUP($H$1,USDtoUserChoice,2,FALSE))","v":697168.3},"Senior Analyst","Analyst","USA",{"$f":"VLOOKUP(tblSalaries[[#This Row],[Where do you work]],tblCountries[[Actual]:[Mapping]],2,FALSE)","v":"USA"},"4 to 6 hours a day",17,{"$f":"IF(ISNA(VLOOKUP(tblSalaries[[#This Row],[Years of Experience]],vlookUpExp!$A$1:$B$56,2,FALSE)),\"No Response\",VLOOKUP(tblSalaries[[#This Row],[Years of Experience]],vlookUpExp!$A$1:$B$56,2,FALSE))","v":"16-20"}]
[null,"ID1382","2012-05-29T21:29:36",100000,100000,"USD",{"$f":"tblSalaries[[#This Row],[clean Salary (in local currency)]]*VLOOKUP(tblSalaries[[#This Row],[Currency]],tblXrate[],2,FALSE)","v":100000},{"$f":"IF($H$1=\"USD\",tblSalaries[[#This Row],[Salary in USD]],tblSalaries[[#This Row],[Salary in USD]]*VLOOKUP($H$1,USDtoUserChoice,2,FALSE))","v":820198.00000000012},"Vice Head of Dpt in Education","CXO or Top Mgmt.","Sweden",{"$f":"VLOOKUP(tblSalaries[[#This Row],[Where do you work]],tblCountries[[Actual]:[Mapping]],2,FALSE)","v":"Sweden"},"2 to 3 hours per day",20,{"$f":"IF(ISNA(VLOOKUP(tblSalaries[[#This Row],[Years of Experience]],vlookUpExp!$A$1:$B$56,2,FALSE)),\"No Response\",VLOOKUP(tblSalaries[[#This Row],[Years of Experience]],vlookUpExp!$A$1:$B$56,2,FALSE))","v":"16-20"}]
[null,"ID1383","2012-05-29T21:33:42","$83000 USD ",83000,"USD",{"$f":"tblSalaries[[#This Row],[clean Salary (in local currency)]]*VLOOKUP(tblSalaries[[#This Row],[Currency]],tblXrate[],2,FALSE)","v":83000},{"$f":"IF($H$1=\"USD\",tblSalaries[[#This Row],[Salary in USD]],tblSalaries[[#This Row],[Salary in USD]]*VLOOKUP($H$1,USDtoUserChoice,2,FALSE))","v":680764.34000000008},"Senior Planning Analyst","Analyst","Canada",{"$f":"VLOOKUP(tblSalaries[[#This Row],[Where do you work]],tblCountries[[Actual]:[Mapping]],2,FALSE)","v":"Canada"},"4 to 6 hours a day",12,{"$f":"IF(ISNA(VLOOKUP(tblSalaries[[#This Row],[Years of Experience]],vlookUpExp!$A$1:$B$56,2,FALSE)),\"No Response\",VLOOKUP(tblSalaries[[#This Row],[Years of Experience]],vlookUpExp!$A$1:$B$56,2,FALSE))","v":"11-15"}]
[null,"ID1384","2012-05-29T21:38:10",85000,85000,"USD",{"$f":"tblSalaries[[#This Row],[clean Salary (in local currency)]]*VLOOKUP(tblSalaries[[#This Row],[Currency]],tblXrate[],2,FALSE)","v":85000},{"$f":"IF($H$1=\"USD\",tblSalaries[[#This Row],[Salary in USD]],tblSalaries[[#This Row],[Salary in USD]]*VLOOKUP($H$1,USDtoUserChoice,2,FALSE))","v":697168.3},"energy engineer","Engineer","USA",{"$f":"VLOOKUP(tblSalaries[[#This Row],[Where do you work]],tblCountries[[Actual]:[Mapping]],2,FALSE)","v":"USA"},"2 to 3 hours per day",25,{"$f":"IF(ISNA(VLOOKUP(tblSalaries[[#This Row],[Years of Experience]],vlookUpExp!$A$1:$B$56,2,FALSE)),\"No Response\",VLOOKUP(tblSalaries[[#This Row],[Years of Experience]],vlookUpExp!$A$1:$B$56,2,FALSE))","v":"21-25"}]
[null,"ID1385","2012-05-29T21:42:44",120000,120000,"USD",{"$f":"tblSalaries[[#This Row],[clean Salary (in local currency)]]*VLOOKUP(tblSalaries[[#This Row],[Currency]],tblXrate[],2,FALSE)","v":120000},{"$f":"IF($H$1=\"USD\",tblSalaries[[#This Row],[Salary in USD]],tblSalaries[[#This Row],[Salary in USD]]*VLOOKUP($H$1,USDtoUserChoice,2,FALSE))","v":984237.60000000009},"Finance Manager","Manager","USA",{"$f":"VLOOKUP(tblSalaries[[#This Row],[Where do you work]],tblCountries[[Actual]:[Mapping]],2,FALSE)","v":"USA"},"2 to 3 hours per day",5,{"$f":"IF(ISNA(VLOOKUP(tblSalaries[[#This Row],[Years of Experience]],vlookUpExp!$A$1:$B$56,2,FALSE)),\"No Response\",VLOOKUP(tblSalaries[[#This Row],[Years of Experience]],vlookUpExp!$A$1:$B$56,2,FALSE))","v":"0-5"}]
[null,"ID1386","2012-05-29T21:44:00",69960,69960,"USD",{"$f":"tblSalaries[[#This Row],[clean Salary (in local currency)]]*VLOOKUP(tblSalaries[[#This Row],[Currency]],tblXrate[],2,FALSE)","v":69960},{"$f":"IF($H$1=\"USD\",tblSalaries[[#This Row],[Salary in USD]],tblSalaries[[#This Row],[Salary in USD]]*VLOOKUP($H$1,USDtoUserChoice,2,FALSE))","v":573810.52080000006},"Measurement & Verification Engineer","Engineer","USA",{"$f":"VLOOKUP(tblSalaries[[#This Row],[Where do you work]],tblCountries[[Actual]:[Mapping]],2,FALSE)","v":"USA"},"2 to 3 hours per day",22,{"$f":"IF(ISNA(VLOOKUP(tblSalaries[[#This Row],[Years of Experience]],vlookUpExp!$A$1:$B$56,2,FALSE)),\"No Response\",VLOOKUP(tblSalaries[[#This Row],[Years of Experience]],vlookUpExp!$A$1:$B$56,2,FALSE))","v":"21-25"}]
[null,"ID1387","2012-05-29T21:46:28","97,000 USD",97000,"USD",{"$f":"tblSalaries[[#This Row],[clean Salary (in local currency)]]*VLOOKUP(tblSalaries[[#This Row],[Currency]],tblXrate[],2,FALSE)","v":97000},{"$f":"IF($H$1=\"USD\",tblSalaries[[#This Row],[Salary in USD]],tblSalaries[[#This Row],[Salary in USD]]*VLOOKUP($H$1,USDtoUserChoice,2,FALSE))","v":795592.06},"Sr. Manager of Finance","Manager","USA",{"$f":"VLOOKUP(tblSalaries[[#This Row],[Where do you work]],tblCountries[[Actual]:[Mapping]],2,FALSE)","v":"USA"},"4 to 6 hours a day",14,{"$f":"IF(ISNA(VLOOKUP(tblSalaries[[#This Row],[Years of Experience]],vlookUpExp!$A$1:$B$56,2,FALSE)),\"No Response\",VLOOKUP(tblSalaries[[#This Row],[Years of Experience]],vlookUpExp!$A$1:$B$56,2,FALSE))","v":"11-15"}]
[null,"ID1388","2012-05-29T21:48:13","60000 $",60000,"GBP",{"$f":"tblSalaries[[#This Row],[clean Salary (in local currency)]]*VLOOKUP(tblSalaries[[#This Row],[Currency]],tblXrate[],2,FALSE)","v":94570.696324037053},{"$f":"IF($H$1=\"USD\",tblSalaries[[#This Row],[Salary in USD]],tblSalaries[[#This Row],[Salary in USD]]*VLOOKUP($H$1,USDtoUserChoice,2,FALSE))","v":775666.95983582549},"Analyst","Analyst","UK",{"$f":"VLOOKUP(tblSalaries[[#This Row],[Where do you work]],tblCountries[[Actual]:[Mapping]],2,FALSE)","v":"UK"},"4 to 6 hours a day",7,{"$f":"IF(ISNA(VLOOKUP(tblSalaries[[#This Row],[Years of Experience]],vlookUpExp!$A$1:$B$56,2,FALSE)),\"No Response\",VLOOKUP(tblSalaries[[#This Row],[Years of Experience]],vlookUpExp!$A$1:$B$56,2,FALSE))","v":"6-10"}]
[null,"ID1389","2012-05-29T21:50:30",39000,39000,"USD",{"$f":"tblSalaries[[#This Row],[clean Salary (in local currency)]]*VLOOKUP(tblSalaries[[#This Row],[Currency]],tblXrate[],2,FALSE)","v":39000},{"$f":"IF($H$1=\"USD\",tblSalaries[[#This Row],[Salary in USD]],tblSalaries[[#This Row],[Salary in USD]]*VLOOKUP($H$1,USDtoUserChoice,2,FALSE))","v":319877.22000000003},"I.T Manager","Manager","South Africa",{"$f":"VLOOKUP(tblSalaries[[#This Row],[Where do you work]],tblCountries[[Actual]:[Mapping]],2,FALSE)","v":"South Africa"},"All the 8 hours baby, all the 8!",6,{"$f":"IF(ISNA(VLOOKUP(tblSalaries[[#This Row],[Years of Experience]],vlookUpExp!$A$1:$B$56,2,FALSE)),\"No Response\",VLOOKUP(tblSalaries[[#This Row],[Years of Experience]],vlookUpExp!$A$1:$B$56,2,FALSE))","v":"6-10"}]
[null,"ID1390","2012-05-29T21:50:45","Rs 250000",250000,"INR",{"$f":"tblSalaries[[#This Row],[clean Salary (in local currency)]]*VLOOKUP(tblSalaries[[#This Row],[Currency]],tblXrate[],2,FALSE)","v":4451.9791718606421},{"$f":"IF($H$1=\"USD\",tblSalaries[[#This Row],[Salary in USD]],tblSalaries[[#This Row],[Salary in USD]]*VLOOKUP($H$1,USDtoUserChoice,2,FALSE))","v":36515.044128017551},"Manager","Manager","India",{"$f":"VLOOKUP(tblSalaries[[#This Row],[Where do you work]],tblCountries[[Actual]:[Mapping]],2,FALSE)","v":"India"},"1 or 2 hours a day",15,{"$f":"IF(ISNA(VLOOKUP(tblSalaries[[#This Row],[Years of Experience]],vlookUpExp!$A$1:$B$56,2,FALSE)),\"No Response\",VLOOKUP(tblSalaries[[#This Row],[Years of Experience]],vlookUpExp!$A$1:$B$56,2,FALSE))","v":"11-15"}]
[null,"ID1391","2012-05-29T21:54:33",62000,62000,"USD",{"$f":"tblSalaries[[#This Row],[clean Salary (in local currency)]]*VLOOKUP(tblSalaries[[#This Row],[Currency]],tblXrate[],2,FALSE)","v":62000},{"$f":"IF($H$1=\"USD\",tblSalaries[[#This Row],[Salary in USD]],tblSalaries[[#This Row],[Salary in USD]]*VLOOKUP($H$1,USDtoUserChoice,2,FALSE))","v":508522.76000000007},"Measurement Specialist","Specialist","USA",{"$f":"VLOOKUP(tblSalaries[[#This Row],[Where do you work]],tblCountries[[Actual]:[Mapping]],2,FALSE)","v":"USA"},"All the 8 hours baby, all the 8!",25,{"$f":"IF(ISNA(VLOOKUP(tblSalaries[[#This Row],[Years of Experience]],vlookUpExp!$A$1:$B$56,2,FALSE)),\"No Response\",VLOOKUP(tblSalaries[[#This Row],[Years of Experience]],vlookUpExp!$A$1:$B$56,2,FALSE))","v":"21-25"}]
[null,"ID1392","2012-05-29T21:59:35",44000,44000,"USD",{"$f":"tblSalaries[[#This Row],[clean Salary (in local currency)]]*VLOOKUP(tblSalaries[[#This Row],[Currency]],tblXrate[],2,FALSE)","v":44000},{"$f":"IF($H$1=\"USD\",tblSalaries[[#This Row],[Salary in USD]],tblSalaries[[#This Row],[Salary in USD]]*VLOOKUP($H$1,USDtoUserChoice,2,FALSE))","v":360887.12000000005},"Test engineer","Engineer","USA",{"$f":"VLOOKUP(tblSalaries[[#This Row],[Where do you work]],tblCountries[[Actual]:[Mapping]],2,FALSE)","v":"USA"},"4 to 6 hours a day",15,{"$f":"IF(ISNA(VLOOKUP(tblSalaries[[#This Row],[Years of Experience]],vlookUpExp!$A$1:$B$56,2,FALSE)),\"No Response\",VLOOKUP(tblSalaries[[#This Row],[Years of Experience]],vlookUpExp!$A$1:$B$56,2,FALSE))","v":"11-15"}]
[null,"ID1393","2012-05-29T22:02:31",150000,150000,"USD",{"$f":"tblSalaries[[#This Row],[clean Salary (in local currency)]]*VLOOKUP(tblSalaries[[#This Row],[Currency]],tblXrate[],2,FALSE)","v":150000},{"$f":"IF($H$1=\"USD\",tblSalaries[[#This Row],[Salary in USD]],tblSalaries[[#This Row],[Salary in USD]]*VLOOKUP($H$1,USDtoUserChoice,2,FALSE))","v":1230297},"VP, Business Management","Manager","USA",{"$f":"VLOOKUP(tblSalaries[[#This Row],[Where do you work]],tblCountries[[Actual]:[Mapping]],2,FALSE)","v":"USA"},"2 to 3 hours per day",30,{"$f":"IF(ISNA(VLOOKUP(tblSalaries[[#This Row],[Years of Experience]],vlookUpExp!$A$1:$B$56,2,FALSE)),\"No Response\",VLOOKUP(tblSalaries[[#This Row],[Years of Experience]],vlookUpExp!$A$1:$B$56,2,FALSE))","v":"26-30"}]
[null,"ID1394","2012-05-29T22:04:09",180000,180000,"EUR",{"$f":"tblSalaries[[#This Row],[clean Salary (in local currency)]]*VLOOKUP(tblSalaries[[#This Row],[Currency]],tblXrate[],2,FALSE)","v":228671.89901848941},{"$f":"IF($H$1=\"USD\",tblSalaries[[#This Row],[Salary in USD]],tblSalaries[[#This Row],[Salary in USD]]*VLOOKUP($H$1,USDtoUserChoice,2,FALSE))","v":1875562.3423116698},"MIS Controller","Controller","Europe",{"$f":"VLOOKUP(tblSalaries[[#This Row],[Where do you work]],tblCountries[[Actual]:[Mapping]],2,FALSE)","v":"Europe"},"4 to 6 hours a day",15,{"$f":"IF(ISNA(VLOOKUP(tblSalaries[[#This Row],[Years of Experience]],vlookUpExp!$A$1:$B$56,2,FALSE)),\"No Response\",VLOOKUP(tblSalaries[[#This Row],[Years of Experience]],vlookUpExp!$A$1:$B$56,2,FALSE))","v":"11-15"}]
[null,"ID1395","2012-05-29T22:13:08",73500,73500,"USD",{"$f":"tblSalaries[[#This Row],[clean Salary (in local currency)]]*VLOOKUP(tblSalaries[[#This Row],[Currency]],tblXrate[],2,FALSE)","v":73500},{"$f":"IF($H$1=\"USD\",tblSalaries[[#This Row],[Salary in USD]],tblSalaries[[#This Row],[Salary in USD]]*VLOOKUP($H$1,USDtoUserChoice,2,FALSE))","v":602845.53},"Senior Underwriting Analyst","Analyst","USA",{"$f":"VLOOKUP(tblSalaries[[#This Row],[Where do you work]],tblCountries[[Actual]:[Mapping]],2,FALSE)","v":"USA"},"All the 8 hours baby, all the 8!",6,{"$f":"IF(ISNA(VLOOKUP(tblSalaries[[#This Row],[Years of Experience]],vlookUpExp!$A$1:$B$56,2,FALSE)),\"No Response\",VLOOKUP(tblSalaries[[#This Row],[Years of Experience]],vlookUpExp!$A$1:$B$56,2,FALSE))","v":"6-10"}]
[null,"ID1396","2012-05-29T22:14:19",77500,77500,"USD",{"$f":"tblSalaries[[#This Row],[clean Salary (in local currency)]]*VLOOKUP(tblSalaries[[#This Row],[Currency]],tblXrate[],2,FALSE)","v":77500},{"$f":"IF($H$1=\"USD\",tblSalaries[[#This Row],[Salary in USD]],tblSalaries[[#This Row],[Salary in USD]]*VLOOKUP($H$1,USDtoUserChoice,2,FALSE))","v":635653.45000000007},"Sr Financial Analyst","Analyst","USA",{"$f":"VLOOKUP(tblSalaries[[#This Row],[Where do you work]],tblCountries[[Actual]:[Mapping]],2,FALSE)","v":"USA"},"4 to 6 hours a day",7,{"$f":"IF(ISNA(VLOOKUP(tblSalaries[[#This Row],[Years of Experience]],vlookUpExp!$A$1:$B$56,2,FALSE)),\"No Response\",VLOOKUP(tblSalaries[[#This Row],[Years of Experience]],vlookUpExp!$A$1:$B$56,2,FALSE))","v":"6-10"}]
[null,"ID1397","2012-05-29T22:18:48",60800,60800,"USD",{"$f":"tblSalaries[[#This Row],[clean Salary (in local currency)]]*VLOOKUP(tblSalaries[[#This Row],[Currency]],tblXrate[],2,FALSE)","v":60800},{"$f":"IF($H$1=\"USD\",tblSalaries[[#This Row],[Salary in USD]],tblSalaries[[#This Row],[Salary in USD]]*VLOOKUP($H$1,USDtoUserChoice,2,FALSE))","v":498680.38400000002},"Data Integrity & Reporting Tool Analyst","Analyst","USA",{"$f":"VLOOKUP(tblSalaries[[#This Row],[Where do you work]],tblCountries[[Actual]:[Mapping]],2,FALSE)","v":"USA"},"All the 8 hours baby, all the 8!",10,{"$f":"IF(ISNA(VLOOKUP(tblSalaries[[#This Row],[Years of Experience]],vlookUpExp!$A$1:$B$56,2,FALSE)),\"No Response\",VLOOKUP(tblSalaries[[#This Row],[Years of Experience]],vlookUpExp!$A$1:$B$56,2,FALSE))","v":"6-10"}]
[null,"ID1398","2012-05-29T22:24:28",136000,136000,"USD",{"$f":"tblSalaries[[#This Row],[clean Salary (in local currency)]]*VLOOKUP(tblSalaries[[#This Row],[Currency]],tblXrate[],2,FALSE)","v":136000},{"$f":"IF($H$1=\"USD\",tblSalaries[[#This Row],[Salary in USD]],tblSalaries[[#This Row],[Salary in USD]]*VLOOKUP($H$1,USDtoUserChoice,2,FALSE))","v":1115469.28},"Manager FP and A","Manager","USA",{"$f":"VLOOKUP(tblSalaries[[#This Row],[Where do you work]],tblCountries[[Actual]:[Mapping]],2,FALSE)","v":"USA"},"4 to 6 hours a day",10,{"$f":"IF(ISNA(VLOOKUP(tblSalaries[[#This Row],[Years of Experience]],vlookUpExp!$A$1:$B$56,2,FALSE)),\"No Response\",VLOOKUP(tblSalaries[[#This Row],[Years of Experience]],vlookUpExp!$A$1:$B$56,2,FALSE))","v":"6-10"}]
[null,"ID1399","2012-05-29T22:32:16",20000,20000,"USD",{"$f":"tblSalaries[[#This Row],[clean Salary (in local currency)]]*VLOOKUP(tblSalaries[[#This Row],[Currency]],tblXrate[],2,FALSE)","v":20000},{"$f":"IF($H$1=\"USD\",tblSalaries[[#This Row],[Salary in USD]],tblSalaries[[#This Row],[Salary in USD]]*VLOOKUP($H$1,USDtoUserChoice,2,FALSE))","v":164039.6},"Business Operation Specialist","Specialist","India",{"$f":"VLOOKUP(tblSalaries[[#This Row],[Where do you work]],tblCountries[[Actual]:[Mapping]],2,FALSE)","v":"India"},"4 to 6 hours a day",6,{"$f":"IF(ISNA(VLOOKUP(tblSalaries[[#This Row],[Years of Experience]],vlookUpExp!$A$1:$B$56,2,FALSE)),\"No Response\",VLOOKUP(tblSalaries[[#This Row],[Years of Experience]],vlookUpExp!$A$1:$B$56,2,FALSE))","v":"6-10"}]
[null,"ID1400","2012-05-29T22:35:17",95000,95000,"USD",{"$f":"tblSalaries[[#This Row],[clean Salary (in local currency)]]*VLOOKUP(tblSalaries[[#This Row],[Currency]],tblXrate[],2,FALSE)","v":95000},{"$f":"IF($H$1=\"USD\",tblSalaries[[#This Row],[Salary in USD]],tblSalaries[[#This Row],[Salary in USD]]*VLOOKUP($H$1,USDtoUserChoice,2,FALSE))","v":779188.10000000009},"Stress Engineer","Engineer","USA",{"$f":"VLOOKUP(tblSalaries[[#This Row],[Where do you work]],tblCountries[[Actual]:[Mapping]],2,FALSE)","v":"USA"},"4 to 6 hours a day",14,{"$f":"IF(ISNA(VLOOKUP(tblSalaries[[#This Row],[Years of Experience]],vlookUpExp!$A$1:$B$56,2,FALSE)),\"No Response\",VLOOKUP(tblSalaries[[#This Row],[Years of Experience]],vlookUpExp!$A$1:$B$56,2,FALSE))","v":"11-15"}]
[null,"ID1401","2012-05-29T22:47:10",130000,130000,"USD",{"$f":"tblSalaries[[#This Row],[clean Salary (in local currency)]]*VLOOKUP(tblSalaries[[#This Row],[Currency]],tblXrate[],2,FALSE)","v":130000},{"$f":"IF($H$1=\"USD\",tblSalaries[[#This Row],[Salary in USD]],tblSalaries[[#This Row],[Salary in USD]]*VLOOKUP($H$1,USDtoUserChoice,2,FALSE))","v":1066257.4000000001},"Manager","Manager","USA",{"$f":"VLOOKUP(tblSalaries[[#This Row],[Where do you work]],tblCountries[[Actual]:[Mapping]],2,FALSE)","v":"USA"},"1 or 2 hours a day",25,{"$f":"IF(ISNA(VLOOKUP(tblSalaries[[#This Row],[Years of Experience]],vlookUpExp!$A$1:$B$56,2,FALSE)),\"No Response\",VLOOKUP(tblSalaries[[#This Row],[Years of Experience]],vlookUpExp!$A$1:$B$56,2,FALSE))","v":"21-25"}]
[null,"ID1402","2012-05-29T22:50:16",65000,65000,"USD",{"$f":"tblSalaries[[#This Row],[clean Salary (in local currency)]]*VLOOKUP(tblSalaries[[#This Row],[Currency]],tblXrate[],2,FALSE)","v":65000},{"$f":"IF($H$1=\"USD\",tblSalaries[[#This Row],[Salary in USD]],tblSalaries[[#This Row],[Salary in USD]]*VLOOKUP($H$1,USDtoUserChoice,2,FALSE))","v":533128.70000000007},"eeo analyst","Analyst","USA",{"$f":"VLOOKUP(tblSalaries[[#This Row],[Where do you work]],tblCountries[[Actual]:[Mapping]],2,FALSE)","v":"USA"},"2 to 3 hours per day",10,{"$f":"IF(ISNA(VLOOKUP(tblSalaries[[#This Row],[Years of Experience]],vlookUpExp!$A$1:$B$56,2,FALSE)),\"No Response\",VLOOKUP(tblSalaries[[#This Row],[Years of Experience]],vlookUpExp!$A$1:$B$56,2,FALSE))","v":"6-10"}]
[null,"ID1403","2012-05-29T22:50:20",80000,80000,"USD",{"$f":"tblSalaries[[#This Row],[clean Salary (in local currency)]]*VLOOKUP(tblSalaries[[#This Row],[Currency]],tblXrate[],2,FALSE)","v":80000},{"$f":"IF($H$1=\"USD\",tblSalaries[[#This Row],[Salary in USD]],tblSalaries[[#This Row],[Salary in USD]]*VLOOKUP($H$1,USDtoUserChoice,2,FALSE))","v":656158.4},"Sr Process Consultant","Consultant","USA",{"$f":"VLOOKUP(tblSalaries[[#This Row],[Where do you work]],tblCountries[[Actual]:[Mapping]],2,FALSE)","v":"USA"},"2 to 3 hours per day",8,{"$f":"IF(ISNA(VLOOKUP(tblSalaries[[#This Row],[Years of Experience]],vlookUpExp!$A$1:$B$56,2,FALSE)),\"No Response\",VLOOKUP(tblSalaries[[#This Row],[Years of Experience]],vlookUpExp!$A$1:$B$56,2,FALSE))","v":"6-10"}]
[null,"ID1404","2012-05-29T22:56:24","37K",37000,"USD",{"$f":"tblSalaries[[#This Row],[clean Salary (in local currency)]]*VLOOKUP(tblSalaries[[#This Row],[Currency]],tblXrate[],2,FALSE)","v":37000},{"$f":"IF($H$1=\"USD\",tblSalaries[[#This Row],[Salary in USD]],tblSalaries[[#This Row],[Salary in USD]]*VLOOKUP($H$1,USDtoUserChoice,2,FALSE))","v":303473.26},"Credentialing Coordinator & Productivity Reports \"Guru\"","Reporting","USA",{"$f":"VLOOKUP(tblSalaries[[#This Row],[Where do you work]],tblCountries[[Actual]:[Mapping]],2,FALSE)","v":"USA"},"2 to 3 hours per day",30,{"$f":"IF(ISNA(VLOOKUP(tblSalaries[[#This Row],[Years of Experience]],vlookUpExp!$A$1:$B$56,2,FALSE)),\"No Response\",VLOOKUP(tblSalaries[[#This Row],[Years of Experience]],vlookUpExp!$A$1:$B$56,2,FALSE))","v":"26-30"}]
[null,"ID1405","2012-05-29T23:06:00",40000,40000,"USD",{"$f":"tblSalaries[[#This Row],[clean Salary (in local currency)]]*VLOOKUP(tblSalaries[[#This Row],[Currency]],tblXrate[],2,FALSE)","v":40000},{"$f":"IF($H$1=\"USD\",tblSalaries[[#This Row],[Salary in USD]],tblSalaries[[#This Row],[Salary in USD]]*VLOOKUP($H$1,USDtoUserChoice,2,FALSE))","v":328079.2},"Transportation Planner","Manager","USA",{"$f":"VLOOKUP(tblSalaries[[#This Row],[Where do you work]],tblCountries[[Actual]:[Mapping]],2,FALSE)","v":"USA"},"1 or 2 hours a day",8,{"$f":"IF(ISNA(VLOOKUP(tblSalaries[[#This Row],[Years of Experience]],vlookUpExp!$A$1:$B$56,2,FALSE)),\"No Response\",VLOOKUP(tblSalaries[[#This Row],[Years of Experience]],vlookUpExp!$A$1:$B$56,2,FALSE))","v":"6-10"}]
[null,"ID1406","2012-05-29T23:08:45",49000,49000,"USD",{"$f":"tblSalaries[[#This Row],[clean Salary (in local currency)]]*VLOOKUP(tblSalaries[[#This Row],[Currency]],tblXrate[],2,FALSE)","v":49000},{"$f":"IF($H$1=\"USD\",tblSalaries[[#This Row],[Salary in USD]],tblSalaries[[#This Row],[Salary in USD]]*VLOOKUP($H$1,USDtoUserChoice,2,FALSE))","v":401897.02},"Research Analyst","Analyst","USA",{"$f":"VLOOKUP(tblSalaries[[#This Row],[Where do you work]],tblCountries[[Actual]:[Mapping]],2,FALSE)","v":"USA"},"4 to 6 hours a day",10,{"$f":"IF(ISNA(VLOOKUP(tblSalaries[[#This Row],[Years of Experience]],vlookUpExp!$A$1:$B$56,2,FALSE)),\"No Response\",VLOOKUP(tblSalaries[[#This Row],[Years of Experience]],vlookUpExp!$A$1:$B$56,2,FALSE))","v":"6-10"}]
[null,"ID1407","2012-05-29T23:09:29",65000,65000,"USD",{"$f":"tblSalaries[[#This Row],[clean Salary (in local currency)]]*VLOOKUP(tblSalaries[[#This Row],[Currency]],tblXrate[],2,FALSE)","v":65000},{"$f":"IF($H$1=\"USD\",tblSalaries[[#This Row],[Salary in USD]],tblSalaries[[#This Row],[Salary in USD]]*VLOOKUP($H$1,USDtoUserChoice,2,FALSE))","v":533128.70000000007},"Data Analyst","Analyst","USA",{"$f":"VLOOKUP(tblSalaries[[#This Row],[Where do you work]],tblCountries[[Actual]:[Mapping]],2,FALSE)","v":"USA"},"All the 8 hours baby, all the 8!",14,{"$f":"IF(ISNA(VLOOKUP(tblSalaries[[#This Row],[Years of Experience]],vlookUpExp!$A$1:$B$56,2,FALSE)),\"No Response\",VLOOKUP(tblSalaries[[#This Row],[Years of Experience]],vlookUpExp!$A$1:$B$56,2,FALSE))","v":"11-15"}]
[null,"ID1408","2012-05-29T23:13:32",55000,55000,"USD",{"$f":"tblSalaries[[#This Row],[clean Salary (in local currency)]]*VLOOKUP(tblSalaries[[#This Row],[Currency]],tblXrate[],2,FALSE)","v":55000},{"$f":"IF($H$1=\"USD\",tblSalaries[[#This Row],[Salary in USD]],tblSalaries[[#This Row],[Salary in USD]]*VLOOKUP($H$1,USDtoUserChoice,2,FALSE))","v":451108.9},"Risk Analyst","Analyst","USA",{"$f":"VLOOKUP(tblSalaries[[#This Row],[Where do you work]],tblCountries[[Actual]:[Mapping]],2,FALSE)","v":"USA"},"All the 8 hours baby, all the 8!",1,{"$f":"IF(ISNA(VLOOKUP(tblSalaries[[#This Row],[Years of Experience]],vlookUpExp!$A$1:$B$56,2,FALSE)),\"No Response\",VLOOKUP(tblSalaries[[#This Row],[Years of Experience]],vlookUpExp!$A$1:$B$56,2,FALSE))","v":"0-5"}]
[null,"ID1409","2012-05-29T23:20:41",40000,40000,"USD",{"$f":"tblSalaries[[#This Row],[clean Salary (in local currency)]]*VLOOKUP(tblSalaries[[#This Row],[Currency]],tblXrate[],2,FALSE)","v":40000},{"$f":"IF($H$1=\"USD\",tblSalaries[[#This Row],[Salary in USD]],tblSalaries[[#This Row],[Salary in USD]]*VLOOKUP($H$1,USDtoUserChoice,2,FALSE))","v":328079.2},"Project Coordinator","Manager","USA",{"$f":"VLOOKUP(tblSalaries[[#This Row],[Where do you work]],tblCountries[[Actual]:[Mapping]],2,FALSE)","v":"USA"},"4 to 6 hours a day",1,{"$f":"IF(ISNA(VLOOKUP(tblSalaries[[#This Row],[Years of Experience]],vlookUpExp!$A$1:$B$56,2,FALSE)),\"No Response\",VLOOKUP(tblSalaries[[#This Row],[Years of Experience]],vlookUpExp!$A$1:$B$56,2,FALSE))","v":"0-5"}]
[null,"ID1410","2012-05-29T23:21:25",60000,60000,"USD",{"$f":"tblSalaries[[#This Row],[clean Salary (in local currency)]]*VLOOKUP(tblSalaries[[#This Row],[Currency]],tblXrate[],2,FALSE)","v":60000},{"$f":"IF($H$1=\"USD\",tblSalaries[[#This Row],[Salary in USD]],tblSalaries[[#This Row],[Salary in USD]]*VLOOKUP($H$1,USDtoUserChoice,2,FALSE))","v":492118.80000000005},"business analyst","Analyst","USA",{"$f":"VLOOKUP(tblSalaries[[#This Row],[Where do you work]],tblCountries[[Actual]:[Mapping]],2,FALSE)","v":"USA"},"4 to 6 hours a day",15,{"$f":"IF(ISNA(VLOOKUP(tblSalaries[[#This Row],[Years of Experience]],vlookUpExp!$A$1:$B$56,2,FALSE)),\"No Response\",VLOOKUP(tblSalaries[[#This Row],[Years of Experience]],vlookUpExp!$A$1:$B$56,2,FALSE))","v":"11-15"}]
[null,"ID1411","2012-05-29T23:31:03","36000 euros",36000,"EUR",{"$f":"tblSalaries[[#This Row],[clean Salary (in local currency)]]*VLOOKUP(tblSalaries[[#This Row],[Currency]],tblXrate[],2,FALSE)","v":45734.379803697877},{"$f":"IF($H$1=\"USD\",tblSalaries[[#This Row],[Salary in USD]],tblSalaries[[#This Row],[Salary in USD]]*VLOOKUP($H$1,USDtoUserChoice,2,FALSE))","v":375112.46846233396},"Data Analytics Consultant","Analyst","Ireland",{"$f":"VLOOKUP(tblSalaries[[#This Row],[Where do you work]],tblCountries[[Actual]:[Mapping]],2,FALSE)","v":"Ireland"},"2 to 3 hours per day",4,{"$f":"IF(ISNA(VLOOKUP(tblSalaries[[#This Row],[Years of Experience]],vlookUpExp!$A$1:$B$56,2,FALSE)),\"No Response\",VLOOKUP(tblSalaries[[#This Row],[Years of Experience]],vlookUpExp!$A$1:$B$56,2,FALSE))","v":"0-5"}]
[null,"ID1412","2012-05-29T23:39:13",150000,150000,"USD",{"$f":"tblSalaries[[#This Row],[clean Salary (in local currency)]]*VLOOKUP(tblSalaries[[#This Row],[Currency]],tblXrate[],2,FALSE)","v":150000},{"$f":"IF($H$1=\"USD\",tblSalaries[[#This Row],[Salary in USD]],tblSalaries[[#This Row],[Salary in USD]]*VLOOKUP($H$1,USDtoUserChoice,2,FALSE))","v":1230297},"Senior Analyst","Analyst","USA",{"$f":"VLOOKUP(tblSalaries[[#This Row],[Where do you work]],tblCountries[[Actual]:[Mapping]],2,FALSE)","v":"USA"},"2 to 3 hours per day",30,{"$f":"IF(ISNA(VLOOKUP(tblSalaries[[#This Row],[Years of Experience]],vlookUpExp!$A$1:$B$56,2,FALSE)),\"No Response\",VLOOKUP(tblSalaries[[#This Row],[Years of Experience]],vlookUpExp!$A$1:$B$56,2,FALSE))","v":"26-30"}]
[null,"ID1413","2012-05-29T23:44:26",88000,88000,"USD",{"$f":"tblSalaries[[#This Row],[clean Salary (in local currency)]]*VLOOKUP(tblSalaries[[#This Row],[Currency]],tblXrate[],2,FALSE)","v":88000},{"$f":"IF($H$1=\"USD\",tblSalaries[[#This Row],[Salary in USD]],tblSalaries[[#This Row],[Salary in USD]]*VLOOKUP($H$1,USDtoUserChoice,2,FALSE))","v":721774.24000000011},"Manager, Financial Planning & Analysis","Manager","USA",{"$f":"VLOOKUP(tblSalaries[[#This Row],[Where do you work]],tblCountries[[Actual]:[Mapping]],2,FALSE)","v":"USA"},"4 to 6 hours a day",21,{"$f":"IF(ISNA(VLOOKUP(tblSalaries[[#This Row],[Years of Experience]],vlookUpExp!$A$1:$B$56,2,FALSE)),\"No Response\",VLOOKUP(tblSalaries[[#This Row],[Years of Experience]],vlookUpExp!$A$1:$B$56,2,FALSE))","v":"21-25"}]
[null,"ID1414","2012-05-30T00:02:08",64500,64500,"USD",{"$f":"tblSalaries[[#This Row],[clean Salary (in local currency)]]*VLOOKUP(tblSalaries[[#This Row],[Currency]],tblXrate[],2,FALSE)","v":64500},{"$f":"IF($H$1=\"USD\",tblSalaries[[#This Row],[Salary in USD]],tblSalaries[[#This Row],[Salary in USD]]*VLOOKUP($H$1,USDtoUserChoice,2,FALSE))","v":529027.71000000008},"Lead Budget/Financial Analyst","Analyst","USA",{"$f":"VLOOKUP(tblSalaries[[#This Row],[Where do you work]],tblCountries[[Actual]:[Mapping]],2,FALSE)","v":"USA"},"4 to 6 hours a day",13,{"$f":"IF(ISNA(VLOOKUP(tblSalaries[[#This Row],[Years of Experience]],vlookUpExp!$A$1:$B$56,2,FALSE)),\"No Response\",VLOOKUP(tblSalaries[[#This Row],[Years of Experience]],vlookUpExp!$A$1:$B$56,2,FALSE))","v":"11-15"}]
[null,"ID1415","2012-05-30T00:13:07","216000.00 Saudi Riyak",216000,"SAR",{"$f":"tblSalaries[[#This Row],[clean Salary (in local currency)]]*VLOOKUP(tblSalaries[[#This Row],[Currency]],tblXrate[],2,FALSE)","v":57600},{"$f":"IF($H$1=\"USD\",tblSalaries[[#This Row],[Salary in USD]],tblSalaries[[#This Row],[Salary in USD]]*VLOOKUP($H$1,USDtoUserChoice,2,FALSE))","v":472434.04800000007},"Senior Electrical Engineer","Engineer","Saudi Arabia",{"$f":"VLOOKUP(tblSalaries[[#This Row],[Where do you work]],tblCountries[[Actual]:[Mapping]],2,FALSE)","v":"Saudi Arabia"},"4 to 6 hours a day",20,{"$f":"IF(ISNA(VLOOKUP(tblSalaries[[#This Row],[Years of Experience]],vlookUpExp!$A$1:$B$56,2,FALSE)),\"No Response\",VLOOKUP(tblSalaries[[#This Row],[Years of Experience]],vlookUpExp!$A$1:$B$56,2,FALSE))","v":"16-20"}]
[null,"ID1416","2012-05-30T00:22:28",50000,50000,"USD",{"$f":"tblSalaries[[#This Row],[clean Salary (in local currency)]]*VLOOKUP(tblSalaries[[#This Row],[Currency]],tblXrate[],2,FALSE)","v":50000},{"$f":"IF($H$1=\"USD\",tblSalaries[[#This Row],[Salary in USD]],tblSalaries[[#This Row],[Salary in USD]]*VLOOKUP($H$1,USDtoUserChoice,2,FALSE))","v":410099.00000000006},"Accounting Supervisor","Accountant","USA",{"$f":"VLOOKUP(tblSalaries[[#This Row],[Where do you work]],tblCountries[[Actual]:[Mapping]],2,FALSE)","v":"USA"},"4 to 6 hours a day",15,{"$f":"IF(ISNA(VLOOKUP(tblSalaries[[#This Row],[Years of Experience]],vlookUpExp!$A$1:$B$56,2,FALSE)),\"No Response\",VLOOKUP(tblSalaries[[#This Row],[Years of Experience]],vlookUpExp!$A$1:$B$56,2,FALSE))","v":"11-15"}]
[null,"ID1417","2012-05-30T00:25:43",120000,120000,"USD",{"$f":"tblSalaries[[#This Row],[clean Salary (in local currency)]]*VLOOKUP(tblSalaries[[#This Row],[Currency]],tblXrate[],2,FALSE)","v":120000},{"$f":"IF($H$1=\"USD\",tblSalaries[[#This Row],[Salary in USD]],tblSalaries[[#This Row],[Salary in USD]]*VLOOKUP($H$1,USDtoUserChoice,2,FALSE))","v":984237.60000000009},"Finance Manager","Manager","USA",{"$f":"VLOOKUP(tblSalaries[[#This Row],[Where do you work]],tblCountries[[Actual]:[Mapping]],2,FALSE)","v":"USA"},"2 to 3 hours per day",10,{"$f":"IF(ISNA(VLOOKUP(tblSalaries[[#This Row],[Years of Experience]],vlookUpExp!$A$1:$B$56,2,FALSE)),\"No Response\",VLOOKUP(tblSalaries[[#This Row],[Years of Experience]],vlookUpExp!$A$1:$B$56,2,FALSE))","v":"6-10"}]
[null,"ID1418","2012-05-30T00:34:53",107000,107000,"USD",{"$f":"tblSalaries[[#This Row],[clean Salary (in local currency)]]*VLOOKUP(tblSalaries[[#This Row],[Currency]],tblXrate[],2,FALSE)","v":107000},{"$f":"IF($H$1=\"USD\",tblSalaries[[#This Row],[Salary in USD]],tblSalaries[[#This Row],[Salary in USD]]*VLOOKUP($H$1,USDtoUserChoice,2,FALSE))","v":877611.8600000001},"Tax Manager","Manager","USA",{"$f":"VLOOKUP(tblSalaries[[#This Row],[Where do you work]],tblCountries[[Actual]:[Mapping]],2,FALSE)","v":"USA"},"All the 8 hours baby, all the 8!",29,{"$f":"IF(ISNA(VLOOKUP(tblSalaries[[#This Row],[Years of Experience]],vlookUpExp!$A$1:$B$56,2,FALSE)),\"No Response\",VLOOKUP(tblSalaries[[#This Row],[Years of Experience]],vlookUpExp!$A$1:$B$56,2,FALSE))","v":"26-30"}]
[null,"ID1419","2012-05-30T00:42:50",40000,40000,"USD",{"$f":"tblSalaries[[#This Row],[clean Salary (in local currency)]]*VLOOKUP(tblSalaries[[#This Row],[Currency]],tblXrate[],2,FALSE)","v":40000},{"$f":"IF($H$1=\"USD\",tblSalaries[[#This Row],[Salary in USD]],tblSalaries[[#This Row],[Salary in USD]]*VLOOKUP($H$1,USDtoUserChoice,2,FALSE))","v":328079.2},"Metrics Analyst","Analyst","USA",{"$f":"VLOOKUP(tblSalaries[[#This Row],[Where do you work]],tblCountries[[Actual]:[Mapping]],2,FALSE)","v":"USA"},"2 to 3 hours per day",6,{"$f":"IF(ISNA(VLOOKUP(tblSalaries[[#This Row],[Years of Experience]],vlookUpExp!$A$1:$B$56,2,FALSE)),\"No Response\",VLOOKUP(tblSalaries[[#This Row],[Years of Experience]],vlookUpExp!$A$1:$B$56,2,FALSE))","v":"6-10"}]
[null,"ID1420","2012-05-30T00:50:03",81000,81000,"USD",{"$f":"tblSalaries[[#This Row],[clean Salary (in local currency)]]*VLOOKUP(tblSalaries[[#This Row],[Currency]],tblXrate[],2,FALSE)","v":81000},{"$f":"IF($H$1=\"USD\",tblSalaries[[#This Row],[Salary in USD]],tblSalaries[[#This Row],[Salary in USD]]*VLOOKUP($H$1,USDtoUserChoice,2,FALSE))","v":664360.38},"Finance & IT Manager","Manager","USA",{"$f":"VLOOKUP(tblSalaries[[#This Row],[Where do you work]],tblCountries[[Actual]:[Mapping]],2,FALSE)","v":"USA"},"1 or 2 hours a day",12,{"$f":"IF(ISNA(VLOOKUP(tblSalaries[[#This Row],[Years of Experience]],vlookUpExp!$A$1:$B$56,2,FALSE)),\"No Response\",VLOOKUP(tblSalaries[[#This Row],[Years of Experience]],vlookUpExp!$A$1:$B$56,2,FALSE))","v":"11-15"}]
[null,"ID1421","2012-05-30T01:05:26",45000,45000,"USD",{"$f":"tblSalaries[[#This Row],[clean Salary (in local currency)]]*VLOOKUP(tblSalaries[[#This Row],[Currency]],tblXrate[],2,FALSE)","v":45000},{"$f":"IF($H$1=\"USD\",tblSalaries[[#This Row],[Salary in USD]],tblSalaries[[#This Row],[Salary in USD]]*VLOOKUP($H$1,USDtoUserChoice,2,FALSE))","v":369089.10000000003},"Technical Support Specialist","Specialist","USA",{"$f":"VLOOKUP(tblSalaries[[#This Row],[Where do you work]],tblCountries[[Actual]:[Mapping]],2,FALSE)","v":"USA"},"4 to 6 hours a day",20,{"$f":"IF(ISNA(VLOOKUP(tblSalaries[[#This Row],[Years of Experience]],vlookUpExp!$A$1:$B$56,2,FALSE)),\"No Response\",VLOOKUP(tblSalaries[[#This Row],[Years of Experience]],vlookUpExp!$A$1:$B$56,2,FALSE))","v":"16-20"}]
[null,"ID1422","2012-05-30T01:12:04",49000,49000,"USD",{"$f":"tblSalaries[[#This Row],[clean Salary (in local currency)]]*VLOOKUP(tblSalaries[[#This Row],[Currency]],tblXrate[],2,FALSE)","v":49000},{"$f":"IF($H$1=\"USD\",tblSalaries[[#This Row],[Salary in USD]],tblSalaries[[#This Row],[Salary in USD]]*VLOOKUP($H$1,USDtoUserChoice,2,FALSE))","v":401897.02},"Clinical Data Specialist","Specialist","USA",{"$f":"VLOOKUP(tblSalaries[[#This Row],[Where do you work]],tblCountries[[Actual]:[Mapping]],2,FALSE)","v":"USA"},"4 to 6 hours a day",5,{"$f":"IF(ISNA(VLOOKUP(tblSalaries[[#This Row],[Years of Experience]],vlookUpExp!$A$1:$B$56,2,FALSE)),\"No Response\",VLOOKUP(tblSalaries[[#This Row],[Years of Experience]],vlookUpExp!$A$1:$B$56,2,FALSE))","v":"0-5"}]
[null,"ID1423","2012-05-30T01:12:35","INR 750000",750000,"INR",{"$f":"tblSalaries[[#This Row],[clean Salary (in local currency)]]*VLOOKUP(tblSalaries[[#This Row],[Currency]],tblXrate[],2,FALSE)","v":13355.937515581925},{"$f":"IF($H$1=\"USD\",tblSalaries[[#This Row],[Salary in USD]],tblSalaries[[#This Row],[Salary in USD]]*VLOOKUP($H$1,USDtoUserChoice,2,FALSE))","v":109545.13238405265},"Associate - Indirect Tax","CXO or Top Mgmt.","India",{"$f":"VLOOKUP(tblSalaries[[#This Row],[Where do you work]],tblCountries[[Actual]:[Mapping]],2,FALSE)","v":"India"},"1 or 2 hours a day",1,{"$f":"IF(ISNA(VLOOKUP(tblSalaries[[#This Row],[Years of Experience]],vlookUpExp!$A$1:$B$56,2,FALSE)),\"No Response\",VLOOKUP(tblSalaries[[#This Row],[Years of Experience]],vlookUpExp!$A$1:$B$56,2,FALSE))","v":"0-5"}]
[null,"ID1424","2012-05-30T01:15:32",72000,72000,"USD",{"$f":"tblSalaries[[#This Row],[clean Salary (in local currency)]]*VLOOKUP(tblSalaries[[#This Row],[Currency]],tblXrate[],2,FALSE)","v":72000},{"$f":"IF($H$1=\"USD\",tblSalaries[[#This Row],[Salary in USD]],tblSalaries[[#This Row],[Salary in USD]]*VLOOKUP($H$1,USDtoUserChoice,2,FALSE))","v":590542.56000000006},"Manager","Manager","USA",{"$f":"VLOOKUP(tblSalaries[[#This Row],[Where do you work]],tblCountries[[Actual]:[Mapping]],2,FALSE)","v":"USA"},"1 or 2 hours a day",20,{"$f":"IF(ISNA(VLOOKUP(tblSalaries[[#This Row],[Years of Experience]],vlookUpExp!$A$1:$B$56,2,FALSE)),\"No Response\",VLOOKUP(tblSalaries[[#This Row],[Years of Experience]],vlookUpExp!$A$1:$B$56,2,FALSE))","v":"16-20"}]
[null,"ID1425","2012-05-30T01:25:17",50000,50000,"USD",{"$f":"tblSalaries[[#This Row],[clean Salary (in local currency)]]*VLOOKUP(tblSalaries[[#This Row],[Currency]],tblXrate[],2,FALSE)","v":50000},{"$f":"IF($H$1=\"USD\",tblSalaries[[#This Row],[Salary in USD]],tblSalaries[[#This Row],[Salary in USD]]*VLOOKUP($H$1,USDtoUserChoice,2,FALSE))","v":410099.00000000006},"Digital Analyst","Analyst","USA",{"$f":"VLOOKUP(tblSalaries[[#This Row],[Where do you work]],tblCountries[[Actual]:[Mapping]],2,FALSE)","v":"USA"},"4 to 6 hours a day",7,{"$f":"IF(ISNA(VLOOKUP(tblSalaries[[#This Row],[Years of Experience]],vlookUpExp!$A$1:$B$56,2,FALSE)),\"No Response\",VLOOKUP(tblSalaries[[#This Row],[Years of Experience]],vlookUpExp!$A$1:$B$56,2,FALSE))","v":"6-10"}]
[null,"ID1426","2012-05-30T01:25:26",57678.400000000001,57678,"USD",{"$f":"tblSalaries[[#This Row],[clean Salary (in local currency)]]*VLOOKUP(tblSalaries[[#This Row],[Currency]],tblXrate[],2,FALSE)","v":57678},{"$f":"IF($H$1=\"USD\",tblSalaries[[#This Row],[Salary in USD]],tblSalaries[[#This Row],[Salary in USD]]*VLOOKUP($H$1,USDtoUserChoice,2,FALSE))","v":473073.80244000006},"Financial Analyst","Analyst","USA",{"$f":"VLOOKUP(tblSalaries[[#This Row],[Where do you work]],tblCountries[[Actual]:[Mapping]],2,FALSE)","v":"USA"},"4 to 6 hours a day",2,{"$f":"IF(ISNA(VLOOKUP(tblSalaries[[#This Row],[Years of Experience]],vlookUpExp!$A$1:$B$56,2,FALSE)),\"No Response\",VLOOKUP(tblSalaries[[#This Row],[Years of Experience]],vlookUpExp!$A$1:$B$56,2,FALSE))","v":"0-5"}]
[null,"ID1427","2012-05-30T01:29:51",80442,80442,"USD",{"$f":"tblSalaries[[#This Row],[clean Salary (in local currency)]]*VLOOKUP(tblSalaries[[#This Row],[Currency]],tblXrate[],2,FALSE)","v":80442},{"$f":"IF($H$1=\"USD\",tblSalaries[[#This Row],[Salary in USD]],tblSalaries[[#This Row],[Salary in USD]]*VLOOKUP($H$1,USDtoUserChoice,2,FALSE))","v":659783.6751600001},"Senior Budget Analyst","Analyst","USA",{"$f":"VLOOKUP(tblSalaries[[#This Row],[Where do you work]],tblCountries[[Actual]:[Mapping]],2,FALSE)","v":"USA"},"4 to 6 hours a day",16,{"$f":"IF(ISNA(VLOOKUP(tblSalaries[[#This Row],[Years of Experience]],vlookUpExp!$A$1:$B$56,2,FALSE)),\"No Response\",VLOOKUP(tblSalaries[[#This Row],[Years of Experience]],vlookUpExp!$A$1:$B$56,2,FALSE))","v":"16-20"}]
[null,"ID1428","2012-05-30T01:48:18",75000,75000,"USD",{"$f":"tblSalaries[[#This Row],[clean Salary (in local currency)]]*VLOOKUP(tblSalaries[[#This Row],[Currency]],tblXrate[],2,FALSE)","v":75000},{"$f":"IF($H$1=\"USD\",tblSalaries[[#This Row],[Salary in USD]],tblSalaries[[#This Row],[Salary in USD]]*VLOOKUP($H$1,USDtoUserChoice,2,FALSE))","v":615148.5},"HR Cordinator","Manager","USA",{"$f":"VLOOKUP(tblSalaries[[#This Row],[Where do you work]],tblCountries[[Actual]:[Mapping]],2,FALSE)","v":"USA"},"1 or 2 hours a day",9,{"$f":"IF(ISNA(VLOOKUP(tblSalaries[[#This Row],[Years of Experience]],vlookUpExp!$A$1:$B$56,2,FALSE)),\"No Response\",VLOOKUP(tblSalaries[[#This Row],[Years of Experience]],vlookUpExp!$A$1:$B$56,2,FALSE))","v":"6-10"}]
[null,"ID1429","2012-05-30T01:52:33",61000,61000,"USD",{"$f":"tblSalaries[[#This Row],[clean Salary (in local currency)]]*VLOOKUP(tblSalaries[[#This Row],[Currency]],tblXrate[],2,FALSE)","v":61000},{"$f":"IF($H$1=\"USD\",tblSalaries[[#This Row],[Salary in USD]],tblSalaries[[#This Row],[Salary in USD]]*VLOOKUP($H$1,USDtoUserChoice,2,FALSE))","v":500320.78},"Treasury Analyst","Analyst","USA",{"$f":"VLOOKUP(tblSalaries[[#This Row],[Where do you work]],tblCountries[[Actual]:[Mapping]],2,FALSE)","v":"USA"},"4 to 6 hours a day",12,{"$f":"IF(ISNA(VLOOKUP(tblSalaries[[#This Row],[Years of Experience]],vlookUpExp!$A$1:$B$56,2,FALSE)),\"No Response\",VLOOKUP(tblSalaries[[#This Row],[Years of Experience]],vlookUpExp!$A$1:$B$56,2,FALSE))","v":"11-15"}]
[null,"ID1430","2012-05-30T01:57:58",77000,77000,"USD",{"$f":"tblSalaries[[#This Row],[clean Salary (in local currency)]]*VLOOKUP(tblSalaries[[#This Row],[Currency]],tblXrate[],2,FALSE)","v":77000},{"$f":"IF($H$1=\"USD\",tblSalaries[[#This Row],[Salary in USD]],tblSalaries[[#This Row],[Salary in USD]]*VLOOKUP($H$1,USDtoUserChoice,2,FALSE))","v":631552.46000000008},"Assistant Engineer","Engineer","USA",{"$f":"VLOOKUP(tblSalaries[[#This Row],[Where do you work]],tblCountries[[Actual]:[Mapping]],2,FALSE)","v":"USA"},"4 to 6 hours a day",10,{"$f":"IF(ISNA(VLOOKUP(tblSalaries[[#This Row],[Years of Experience]],vlookUpExp!$A$1:$B$56,2,FALSE)),\"No Response\",VLOOKUP(tblSalaries[[#This Row],[Years of Experience]],vlookUpExp!$A$1:$B$56,2,FALSE))","v":"6-10"}]
[null,"ID1431","2012-05-30T02:18:02","92000 USD",92000,"USD",{"$f":"tblSalaries[[#This Row],[clean Salary (in local currency)]]*VLOOKUP(tblSalaries[[#This Row],[Currency]],tblXrate[],2,FALSE)","v":92000},{"$f":"IF($H$1=\"USD\",tblSalaries[[#This Row],[Salary in USD]],tblSalaries[[#This Row],[Salary in USD]]*VLOOKUP($H$1,USDtoUserChoice,2,FALSE))","v":754582.16},"Controller","Controller","USA",{"$f":"VLOOKUP(tblSalaries[[#This Row],[Where do you work]],tblCountries[[Actual]:[Mapping]],2,FALSE)","v":"USA"},"2 to 3 hours per day",9,{"$f":"IF(ISNA(VLOOKUP(tblSalaries[[#This Row],[Years of Experience]],vlookUpExp!$A$1:$B$56,2,FALSE)),\"No Response\",VLOOKUP(tblSalaries[[#This Row],[Years of Experience]],vlookUpExp!$A$1:$B$56,2,FALSE))","v":"6-10"}]
[null,"ID1432","2012-05-30T02:18:30",72000,72000,"USD",{"$f":"tblSalaries[[#This Row],[clean Salary (in local currency)]]*VLOOKUP(tblSalaries[[#This Row],[Currency]],tblXrate[],2,FALSE)","v":72000},{"$f":"IF($H$1=\"USD\",tblSalaries[[#This Row],[Salary in USD]],tblSalaries[[#This Row],[Salary in USD]]*VLOOKUP($H$1,USDtoUserChoice,2,FALSE))","v":590542.56000000006},"sr. senior analyst","Analyst","USA",{"$f":"VLOOKUP(tblSalaries[[#This Row],[Where do you work]],tblCountries[[Actual]:[Mapping]],2,FALSE)","v":"USA"},"All the 8 hours baby, all the 8!",10,{"$f":"IF(ISNA(VLOOKUP(tblSalaries[[#This Row],[Years of Experience]],vlookUpExp!$A$1:$B$56,2,FALSE)),\"No Response\",VLOOKUP(tblSalaries[[#This Row],[Years of Experience]],vlookUpExp!$A$1:$B$56,2,FALSE))","v":"6-10"}]
[null,"ID1433","2012-05-30T02:22:39",14000,14000,"USD",{"$f":"tblSalaries[[#This Row],[clean Salary (in local currency)]]*VLOOKUP(tblSalaries[[#This Row],[Currency]],tblXrate[],2,FALSE)","v":14000},{"$f":"IF($H$1=\"USD\",tblSalaries[[#This Row],[Salary in USD]],tblSalaries[[#This Row],[Salary in USD]]*VLOOKUP($H$1,USDtoUserChoice,2,FALSE))","v":114827.72000000002},"Consultant","Consultant","India",{"$f":"VLOOKUP(tblSalaries[[#This Row],[Where do you work]],tblCountries[[Actual]:[Mapping]],2,FALSE)","v":"India"},"4 to 6 hours a day",3,{"$f":"IF(ISNA(VLOOKUP(tblSalaries[[#This Row],[Years of Experience]],vlookUpExp!$A$1:$B$56,2,FALSE)),\"No Response\",VLOOKUP(tblSalaries[[#This Row],[Years of Experience]],vlookUpExp!$A$1:$B$56,2,FALSE))","v":"0-5"}]
[null,"ID1434","2012-05-30T02:22:59",111000,111000,"USD",{"$f":"tblSalaries[[#This Row],[clean Salary (in local currency)]]*VLOOKUP(tblSalaries[[#This Row],[Currency]],tblXrate[],2,FALSE)","v":111000},{"$f":"IF($H$1=\"USD\",tblSalaries[[#This Row],[Salary in USD]],tblSalaries[[#This Row],[Salary in USD]]*VLOOKUP($H$1,USDtoUserChoice,2,FALSE))","v":910419.78},"Project Manager - Finance","Manager","USA",{"$f":"VLOOKUP(tblSalaries[[#This Row],[Where do you work]],tblCountries[[Actual]:[Mapping]],2,FALSE)","v":"USA"},"2 to 3 hours per day",10,{"$f":"IF(ISNA(VLOOKUP(tblSalaries[[#This Row],[Years of Experience]],vlookUpExp!$A$1:$B$56,2,FALSE)),\"No Response\",VLOOKUP(tblSalaries[[#This Row],[Years of Experience]],vlookUpExp!$A$1:$B$56,2,FALSE))","v":"6-10"}]
[null,"ID1435","2012-05-30T02:32:17",80000,80000,"USD",{"$f":"tblSalaries[[#This Row],[clean Salary (in local currency)]]*VLOOKUP(tblSalaries[[#This Row],[Currency]],tblXrate[],2,FALSE)","v":80000},{"$f":"IF($H$1=\"USD\",tblSalaries[[#This Row],[Salary in USD]],tblSalaries[[#This Row],[Salary in USD]]*VLOOKUP($H$1,USDtoUserChoice,2,FALSE))","v":656158.4},"Senior analyst, ops support","Analyst","USA",{"$f":"VLOOKUP(tblSalaries[[#This Row],[Where do you work]],tblCountries[[Actual]:[Mapping]],2,FALSE)","v":"USA"},"4 to 6 hours a day",20,{"$f":"IF(ISNA(VLOOKUP(tblSalaries[[#This Row],[Years of Experience]],vlookUpExp!$A$1:$B$56,2,FALSE)),\"No Response\",VLOOKUP(tblSalaries[[#This Row],[Years of Experience]],vlookUpExp!$A$1:$B$56,2,FALSE))","v":"16-20"}]
[null,"ID1436","2012-05-30T02:35:40","Rs 3.25 Lacs",3250000,"INR",{"$f":"tblSalaries[[#This Row],[clean Salary (in local currency)]]*VLOOKUP(tblSalaries[[#This Row],[Currency]],tblXrate[],2,FALSE)","v":57875.729234188344},{"$f":"IF($H$1=\"USD\",tblSalaries[[#This Row],[Salary in USD]],tblSalaries[[#This Row],[Salary in USD]]*VLOOKUP($H$1,USDtoUserChoice,2,FALSE))","v":474695.57366422814},"ISO TS Documentation","Analyst","India",{"$f":"VLOOKUP(tblSalaries[[#This Row],[Where do you work]],tblCountries[[Actual]:[Mapping]],2,FALSE)","v":"India"},"4 to 6 hours a day",5.5,{"$f":"IF(ISNA(VLOOKUP(tblSalaries[[#This Row],[Years of Experience]],vlookUpExp!$A$1:$B$56,2,FALSE)),\"No Response\",VLOOKUP(tblSalaries[[#This Row],[Years of Experience]],vlookUpExp!$A$1:$B$56,2,FALSE))","v":"0-5"}]
[null,"ID1437","2012-05-30T02:39:50",25000,25000,"USD",{"$f":"tblSalaries[[#This Row],[clean Salary (in local currency)]]*VLOOKUP(tblSalaries[[#This Row],[Currency]],tblXrate[],2,FALSE)","v":25000},{"$f":"IF($H$1=\"USD\",tblSalaries[[#This Row],[Salary in USD]],tblSalaries[[#This Row],[Salary in USD]]*VLOOKUP($H$1,USDtoUserChoice,2,FALSE))","v":205049.50000000003},"Accountant","Accountant","India",{"$f":"VLOOKUP(tblSalaries[[#This Row],[Where do you work]],tblCountries[[Actual]:[Mapping]],2,FALSE)","v":"India"},"2 to 3 hours per day",8,{"$f":"IF(ISNA(VLOOKUP(tblSalaries[[#This Row],[Years of Experience]],vlookUpExp!$A$1:$B$56,2,FALSE)),\"No Response\",VLOOKUP(tblSalaries[[#This Row],[Years of Experience]],vlookUpExp!$A$1:$B$56,2,FALSE))","v":"6-10"}]
[null,"ID1438","2012-05-30T03:20:17","24000 USD",24000,"USD",{"$f":"tblSalaries[[#This Row],[clean Salary (in local currency)]]*VLOOKUP(tblSalaries[[#This Row],[Currency]],tblXrate[],2,FALSE)","v":24000},{"$f":"IF($H$1=\"USD\",tblSalaries[[#This Row],[Salary in USD]],tblSalaries[[#This Row],[Salary in USD]]*VLOOKUP($H$1,USDtoUserChoice,2,FALSE))","v":196847.52000000002},"inventory controller","Controller","USA",{"$f":"VLOOKUP(tblSalaries[[#This Row],[Where do you work]],tblCountries[[Actual]:[Mapping]],2,FALSE)","v":"USA"},"1 or 2 hours a day",2,{"$f":"IF(ISNA(VLOOKUP(tblSalaries[[#This Row],[Years of Experience]],vlookUpExp!$A$1:$B$56,2,FALSE)),\"No Response\",VLOOKUP(tblSalaries[[#This Row],[Years of Experience]],vlookUpExp!$A$1:$B$56,2,FALSE))","v":"0-5"}]
[null,"ID1439","2012-05-30T04:13:50",61000,61000,"USD",{"$f":"tblSalaries[[#This Row],[clean Salary (in local currency)]]*VLOOKUP(tblSalaries[[#This Row],[Currency]],tblXrate[],2,FALSE)","v":61000},{"$f":"IF($H$1=\"USD\",tblSalaries[[#This Row],[Salary in USD]],tblSalaries[[#This Row],[Salary in USD]]*VLOOKUP($H$1,USDtoUserChoice,2,FALSE))","v":500320.78},"Accounting manager","Manager","USA",{"$f":"VLOOKUP(tblSalaries[[#This Row],[Where do you work]],tblCountries[[Actual]:[Mapping]],2,FALSE)","v":"USA"},"2 to 3 hours per day",25,{"$f":"IF(ISNA(VLOOKUP(tblSalaries[[#This Row],[Years of Experience]],vlookUpExp!$A$1:$B$56,2,FALSE)),\"No Response\",VLOOKUP(tblSalaries[[#This Row],[Years of Experience]],vlookUpExp!$A$1:$B$56,2,FALSE))","v":"21-25"}]
[null,"ID1440","2012-05-30T08:05:16","AUD55,000",55000,"AUD",{"$f":"tblSalaries[[#This Row],[clean Salary (in local currency)]]*VLOOKUP(tblSalaries[[#This Row],[Currency]],tblXrate[],2,FALSE)","v":56095.031102144967},{"$f":"IF($H$1=\"USD\",tblSalaries[[#This Row],[Salary in USD]],tblSalaries[[#This Row],[Salary in USD]]*VLOOKUP($H$1,USDtoUserChoice,2,FALSE))","v":460090.32319917099},"PA","Analyst","Australia",{"$f":"VLOOKUP(tblSalaries[[#This Row],[Where do you work]],tblCountries[[Actual]:[Mapping]],2,FALSE)","v":"Australia"},"2 to 3 hours per day",11,{"$f":"IF(ISNA(VLOOKUP(tblSalaries[[#This Row],[Years of Experience]],vlookUpExp!$A$1:$B$56,2,FALSE)),\"No Response\",VLOOKUP(tblSalaries[[#This Row],[Years of Experience]],vlookUpExp!$A$1:$B$56,2,FALSE))","v":"11-15"}]
[null,"ID1442","2012-05-30T09:42:01",70000,70000,"AUD",{"$f":"tblSalaries[[#This Row],[clean Salary (in local currency)]]*VLOOKUP(tblSalaries[[#This Row],[Currency]],tblXrate[],2,FALSE)","v":71393.675948184507},{"$f":"IF($H$1=\"USD\",tblSalaries[[#This Row],[Salary in USD]],tblSalaries[[#This Row],[Salary in USD]]*VLOOKUP($H$1,USDtoUserChoice,2,FALSE))","v":585569.50225349038},"Assistant Accountant","Accountant","Australia",{"$f":"VLOOKUP(tblSalaries[[#This Row],[Where do you work]],tblCountries[[Actual]:[Mapping]],2,FALSE)","v":"Australia"},"2 to 3 hours per day",5,{"$f":"IF(ISNA(VLOOKUP(tblSalaries[[#This Row],[Years of Experience]],vlookUpExp!$A$1:$B$56,2,FALSE)),\"No Response\",VLOOKUP(tblSalaries[[#This Row],[Years of Experience]],vlookUpExp!$A$1:$B$56,2,FALSE))","v":"0-5"}]
[null,"ID1443","2012-05-30T10:11:19",96230,96230,"USD",{"$f":"tblSalaries[[#This Row],[clean Salary (in local currency)]]*VLOOKUP(tblSalaries[[#This Row],[Currency]],tblXrate[],2,FALSE)","v":96230},{"$f":"IF($H$1=\"USD\",tblSalaries[[#This Row],[Salary in USD]],tblSalaries[[#This Row],[Salary in USD]]*VLOOKUP($H$1,USDtoUserChoice,2,FALSE))","v":789276.53540000005},"Manager, Data Management","Manager","USA",{"$f":"VLOOKUP(tblSalaries[[#This Row],[Where do you work]],tblCountries[[Actual]:[Mapping]],2,FALSE)","v":"USA"},"4 to 6 hours a day",18,{"$f":"IF(ISNA(VLOOKUP(tblSalaries[[#This Row],[Years of Experience]],vlookUpExp!$A$1:$B$56,2,FALSE)),\"No Response\",VLOOKUP(tblSalaries[[#This Row],[Years of Experience]],vlookUpExp!$A$1:$B$56,2,FALSE))","v":"16-20"}]
[null,"ID1444","2012-05-30T10:40:24",75000,75000,"USD",{"$f":"tblSalaries[[#This Row],[clean Salary (in local currency)]]*VLOOKUP(tblSalaries[[#This Row],[Currency]],tblXrate[],2,FALSE)","v":75000},{"$f":"IF($H$1=\"USD\",tblSalaries[[#This Row],[Salary in USD]],tblSalaries[[#This Row],[Salary in USD]]*VLOOKUP($H$1,USDtoUserChoice,2,FALSE))","v":615148.5},"Business Analyst","Analyst","USA",{"$f":"VLOOKUP(tblSalaries[[#This Row],[Where do you work]],tblCountries[[Actual]:[Mapping]],2,FALSE)","v":"USA"},"2 to 3 hours per day",1.5,{"$f":"IF(ISNA(VLOOKUP(tblSalaries[[#This Row],[Years of Experience]],vlookUpExp!$A$1:$B$56,2,FALSE)),\"No Response\",VLOOKUP(tblSalaries[[#This Row],[Years of Experience]],vlookUpExp!$A$1:$B$56,2,FALSE))","v":"0-5"}]
[null,"ID1445","2012-05-30T10:57:38",8500,102000,"USD",{"$f":"tblSalaries[[#This Row],[clean Salary (in local currency)]]*VLOOKUP(tblSalaries[[#This Row],[Currency]],tblXrate[],2,FALSE)","v":102000},{"$f":"IF($H$1=\"USD\",tblSalaries[[#This Row],[Salary in USD]],tblSalaries[[#This Row],[Salary in USD]]*VLOOKUP($H$1,USDtoUserChoice,2,FALSE))","v":836601.96000000008},"Sales Analyst","Analyst","USA",{"$f":"VLOOKUP(tblSalaries[[#This Row],[Where do you work]],tblCountries[[Actual]:[Mapping]],2,FALSE)","v":"USA"},"4 to 6 hours a day",5,{"$f":"IF(ISNA(VLOOKUP(tblSalaries[[#This Row],[Years of Experience]],vlookUpExp!$A$1:$B$56,2,FALSE)),\"No Response\",VLOOKUP(tblSalaries[[#This Row],[Years of Experience]],vlookUpExp!$A$1:$B$56,2,FALSE))","v":"0-5"}]
[null,"ID1446","2012-05-30T11:20:33","MYR60000",60000,"MYR",{"$f":"tblSalaries[[#This Row],[clean Salary (in local currency)]]*VLOOKUP(tblSalaries[[#This Row],[Currency]],tblXrate[],2,FALSE)","v":19008.034062397041},{"$f":"IF($H$1=\"USD\",tblSalaries[[#This Row],[Salary in USD]],tblSalaries[[#This Row],[Salary in USD]]*VLOOKUP($H$1,USDtoUserChoice,2,FALSE))","v":155903.5152190993},"Liquidity Management Executive","Manager","Malaysia",{"$f":"VLOOKUP(tblSalaries[[#This Row],[Where do you work]],tblCountries[[Actual]:[Mapping]],2,FALSE)","v":"malaysia"},"4 to 6 hours a day",3,{"$f":"IF(ISNA(VLOOKUP(tblSalaries[[#This Row],[Years of Experience]],vlookUpExp!$A$1:$B$56,2,FALSE)),\"No Response\",VLOOKUP(tblSalaries[[#This Row],[Years of Experience]],vlookUpExp!$A$1:$B$56,2,FALSE))","v":"0-5"}]
[null,"ID1447","2012-05-30T11:38:53",363,4356,"USD",{"$f":"tblSalaries[[#This Row],[clean Salary (in local currency)]]*VLOOKUP(tblSalaries[[#This Row],[Currency]],tblXrate[],2,FALSE)","v":4356},{"$f":"IF($H$1=\"USD\",tblSalaries[[#This Row],[Salary in USD]],tblSalaries[[#This Row],[Salary in USD]]*VLOOKUP($H$1,USDtoUserChoice,2,FALSE))","v":35727.82488},"Business Analyst","Analyst","India",{"$f":"VLOOKUP(tblSalaries[[#This Row],[Where do you work]],tblCountries[[Actual]:[Mapping]],2,FALSE)","v":"India"},"4 to 6 hours a day",5,{"$f":"IF(ISNA(VLOOKUP(tblSalaries[[#This Row],[Years of Experience]],vlookUpExp!$A$1:$B$56,2,FALSE)),\"No Response\",VLOOKUP(tblSalaries[[#This Row],[Years of Experience]],vlookUpExp!$A$1:$B$56,2,FALSE))","v":"0-5"}]
[null,"ID1448","2012-05-30T11:43:50",300000,300000,"INR",{"$f":"tblSalaries[[#This Row],[clean Salary (in local currency)]]*VLOOKUP(tblSalaries[[#This Row],[Currency]],tblXrate[],2,FALSE)","v":5342.3750062327708},{"$f":"IF($H$1=\"USD\",tblSalaries[[#This Row],[Salary in USD]],tblSalaries[[#This Row],[Salary in USD]]*VLOOKUP($H$1,USDtoUserChoice,2,FALSE))","v":43818.052953621067},"accountant","Accountant","India",{"$f":"VLOOKUP(tblSalaries[[#This Row],[Where do you work]],tblCountries[[Actual]:[Mapping]],2,FALSE)","v":"India"},"4 to 6 hours a day",4,{"$f":"IF(ISNA(VLOOKUP(tblSalaries[[#This Row],[Years of Experience]],vlookUpExp!$A$1:$B$56,2,FALSE)),\"No Response\",VLOOKUP(tblSalaries[[#This Row],[Years of Experience]],vlookUpExp!$A$1:$B$56,2,FALSE))","v":"0-5"}]
[null,"ID1449","2012-05-30T12:12:38",67000,67000,"USD",{"$f":"tblSalaries[[#This Row],[clean Salary (in local currency)]]*VLOOKUP(tblSalaries[[#This Row],[Currency]],tblXrate[],2,FALSE)","v":67000},{"$f":"IF($H$1=\"USD\",tblSalaries[[#This Row],[Salary in USD]],tblSalaries[[#This Row],[Salary in USD]]*VLOOKUP($H$1,USDtoUserChoice,2,FALSE))","v":549532.66},"accounting systems manager ","Manager","USA",{"$f":"VLOOKUP(tblSalaries[[#This Row],[Where do you work]],tblCountries[[Actual]:[Mapping]],2,FALSE)","v":"USA"},"2 to 3 hours per day",20,{"$f":"IF(ISNA(VLOOKUP(tblSalaries[[#This Row],[Years of Experience]],vlookUpExp!$A$1:$B$56,2,FALSE)),\"No Response\",VLOOKUP(tblSalaries[[#This Row],[Years of Experience]],vlookUpExp!$A$1:$B$56,2,FALSE))","v":"16-20"}]
[null,"ID1450","2012-05-30T12:25:23",480000,480000,"INR",{"$f":"tblSalaries[[#This Row],[clean Salary (in local currency)]]*VLOOKUP(tblSalaries[[#This Row],[Currency]],tblXrate[],2,FALSE)","v":8547.8000099724322},{"$f":"IF($H$1=\"USD\",tblSalaries[[#This Row],[Salary in USD]],tblSalaries[[#This Row],[Salary in USD]]*VLOOKUP($H$1,USDtoUserChoice,2,FALSE))","v":70108.884725793701},"Performance Analyst","Analyst","India",{"$f":"VLOOKUP(tblSalaries[[#This Row],[Where do you work]],tblCountries[[Actual]:[Mapping]],2,FALSE)","v":"India"},"4 to 6 hours a day",7,{"$f":"IF(ISNA(VLOOKUP(tblSalaries[[#This Row],[Years of Experience]],vlookUpExp!$A$1:$B$56,2,FALSE)),\"No Response\",VLOOKUP(tblSalaries[[#This Row],[Years of Experience]],vlookUpExp!$A$1:$B$56,2,FALSE))","v":"6-10"}]
[null,"ID1451","2012-05-30T12:35:08","Rs. 900000 per annum",900000,"INR",{"$f":"tblSalaries[[#This Row],[clean Salary (in local currency)]]*VLOOKUP(tblSalaries[[#This Row],[Currency]],tblXrate[],2,FALSE)","v":16027.125018698311},{"$f":"IF($H$1=\"USD\",tblSalaries[[#This Row],[Salary in USD]],tblSalaries[[#This Row],[Salary in USD]]*VLOOKUP($H$1,USDtoUserChoice,2,FALSE))","v":131454.15886086319},"Data Analyst","Analyst","India",{"$f":"VLOOKUP(tblSalaries[[#This Row],[Where do you work]],tblCountries[[Actual]:[Mapping]],2,FALSE)","v":"India"},"4 to 6 hours a day",4,{"$f":"IF(ISNA(VLOOKUP(tblSalaries[[#This Row],[Years of Experience]],vlookUpExp!$A$1:$B$56,2,FALSE)),\"No Response\",VLOOKUP(tblSalaries[[#This Row],[Years of Experience]],vlookUpExp!$A$1:$B$56,2,FALSE))","v":"0-5"}]
[null,"ID1452","2012-05-30T12:56:38","Rs  6 lakhs/annum",600000,"INR",{"$f":"tblSalaries[[#This Row],[clean Salary (in local currency)]]*VLOOKUP(tblSalaries[[#This Row],[Currency]],tblXrate[],2,FALSE)","v":10684.750012465542},{"$f":"IF($H$1=\"USD\",tblSalaries[[#This Row],[Salary in USD]],tblSalaries[[#This Row],[Salary in USD]]*VLOOKUP($H$1,USDtoUserChoice,2,FALSE))","v":87636.105907242134},"consultant","Consultant","India",{"$f":"VLOOKUP(tblSalaries[[#This Row],[Where do you work]],tblCountries[[Actual]:[Mapping]],2,FALSE)","v":"India"},"2 to 3 hours per day",36,{"$f":"IF(ISNA(VLOOKUP(tblSalaries[[#This Row],[Years of Experience]],vlookUpExp!$A$1:$B$56,2,FALSE)),\"No Response\",VLOOKUP(tblSalaries[[#This Row],[Years of Experience]],vlookUpExp!$A$1:$B$56,2,FALSE))","v":"36-40"}]
[null,"ID1453","2012-05-30T13:06:12",30000,30000,"USD",{"$f":"tblSalaries[[#This Row],[clean Salary (in local currency)]]*VLOOKUP(tblSalaries[[#This Row],[Currency]],tblXrate[],2,FALSE)","v":30000},{"$f":"IF($H$1=\"USD\",tblSalaries[[#This Row],[Salary in USD]],tblSalaries[[#This Row],[Salary in USD]]*VLOOKUP($H$1,USDtoUserChoice,2,FALSE))","v":246059.40000000002},"Accounting Specialist","Accountant","UAE",{"$f":"VLOOKUP(tblSalaries[[#This Row],[Where do you work]],tblCountries[[Actual]:[Mapping]],2,FALSE)","v":"UAE"},"4 to 6 hours a day",8,{"$f":"IF(ISNA(VLOOKUP(tblSalaries[[#This Row],[Years of Experience]],vlookUpExp!$A$1:$B$56,2,FALSE)),\"No Response\",VLOOKUP(tblSalaries[[#This Row],[Years of Experience]],vlookUpExp!$A$1:$B$56,2,FALSE))","v":"6-10"}]
[null,"ID1454","2012-05-30T13:21:06",500000,500000,"INR",{"$f":"tblSalaries[[#This Row],[clean Salary (in local currency)]]*VLOOKUP(tblSalaries[[#This Row],[Currency]],tblXrate[],2,FALSE)","v":8903.9583437212841},{"$f":"IF($H$1=\"USD\",tblSalaries[[#This Row],[Salary in USD]],tblSalaries[[#This Row],[Salary in USD]]*VLOOKUP($H$1,USDtoUserChoice,2,FALSE))","v":73030.088256035102},"Project Management","Manager","India",{"$f":"VLOOKUP(tblSalaries[[#This Row],[Where do you work]],tblCountries[[Actual]:[Mapping]],2,FALSE)","v":"India"},"2 to 3 hours per day",0,{"$f":"IF(ISNA(VLOOKUP(tblSalaries[[#This Row],[Years of Experience]],vlookUpExp!$A$1:$B$56,2,FALSE)),\"No Response\",VLOOKUP(tblSalaries[[#This Row],[Years of Experience]],vlookUpExp!$A$1:$B$56,2,FALSE))","v":"0-5"}]
[null,"ID1455","2012-05-30T13:25:12",20000,20000,"USD",{"$f":"tblSalaries[[#This Row],[clean Salary (in local currency)]]*VLOOKUP(tblSalaries[[#This Row],[Currency]],tblXrate[],2,FALSE)","v":20000},{"$f":"IF($H$1=\"USD\",tblSalaries[[#This Row],[Salary in USD]],tblSalaries[[#This Row],[Salary in USD]]*VLOOKUP($H$1,USDtoUserChoice,2,FALSE))","v":164039.6},"manager","Manager","India",{"$f":"VLOOKUP(tblSalaries[[#This Row],[Where do you work]],tblCountries[[Actual]:[Mapping]],2,FALSE)","v":"India"},"Excel ?!? What Excel?",10,{"$f":"IF(ISNA(VLOOKUP(tblSalaries[[#This Row],[Years of Experience]],vlookUpExp!$A$1:$B$56,2,FALSE)),\"No Response\",VLOOKUP(tblSalaries[[#This Row],[Years of Experience]],vlookUpExp!$A$1:$B$56,2,FALSE))","v":"6-10"}]
[null,"ID1456","2012-05-30T13:31:35",86000,86000,"AUD",{"$f":"tblSalaries[[#This Row],[clean Salary (in local currency)]]*VLOOKUP(tblSalaries[[#This Row],[Currency]],tblXrate[],2,FALSE)","v":87712.230450626681},{"$f":"IF($H$1=\"USD\",tblSalaries[[#This Row],[Salary in USD]],tblSalaries[[#This Row],[Salary in USD]]*VLOOKUP($H$1,USDtoUserChoice,2,FALSE))","v":719413.95991143107},"data analyst","Analyst","Australia",{"$f":"VLOOKUP(tblSalaries[[#This Row],[Where do you work]],tblCountries[[Actual]:[Mapping]],2,FALSE)","v":"Australia"},"4 to 6 hours a day",10,{"$f":"IF(ISNA(VLOOKUP(tblSalaries[[#This Row],[Years of Experience]],vlookUpExp!$A$1:$B$56,2,FALSE)),\"No Response\",VLOOKUP(tblSalaries[[#This Row],[Years of Experience]],vlookUpExp!$A$1:$B$56,2,FALSE))","v":"6-10"}]
[null,"ID1457","2012-05-30T13:36:42",1000000,1000000,"INR",{"$f":"tblSalaries[[#This Row],[clean Salary (in local currency)]]*VLOOKUP(tblSalaries[[#This Row],[Currency]],tblXrate[],2,FALSE)","v":17807.916687442568},{"$f":"IF($H$1=\"USD\",tblSalaries[[#This Row],[Salary in USD]],tblSalaries[[#This Row],[Salary in USD]]*VLOOKUP($H$1,USDtoUserChoice,2,FALSE))","v":146060.1765120702},"project management","Manager","India",{"$f":"VLOOKUP(tblSalaries[[#This Row],[Where do you work]],tblCountries[[Actual]:[Mapping]],2,FALSE)","v":"India"},"All the 8 hours baby, all the 8!",6,{"$f":"IF(ISNA(VLOOKUP(tblSalaries[[#This Row],[Years of Experience]],vlookUpExp!$A$1:$B$56,2,FALSE)),\"No Response\",VLOOKUP(tblSalaries[[#This Row],[Years of Experience]],vlookUpExp!$A$1:$B$56,2,FALSE))","v":"6-10"}]
[null,"ID1458","2012-05-30T13:36:48",41000,41000,"USD",{"$f":"tblSalaries[[#This Row],[clean Salary (in local currency)]]*VLOOKUP(tblSalaries[[#This Row],[Currency]],tblXrate[],2,FALSE)","v":41000},{"$f":"IF($H$1=\"USD\",tblSalaries[[#This Row],[Salary in USD]],tblSalaries[[#This Row],[Salary in USD]]*VLOOKUP($H$1,USDtoUserChoice,2,FALSE))","v":336281.18000000005},"Marketing Analyst","Analyst","Japan",{"$f":"VLOOKUP(tblSalaries[[#This Row],[Where do you work]],tblCountries[[Actual]:[Mapping]],2,FALSE)","v":"Japan"},"2 to 3 hours per day",2,{"$f":"IF(ISNA(VLOOKUP(tblSalaries[[#This Row],[Years of Experience]],vlookUpExp!$A$1:$B$56,2,FALSE)),\"No Response\",VLOOKUP(tblSalaries[[#This Row],[Years of Experience]],vlookUpExp!$A$1:$B$56,2,FALSE))","v":"0-5"}]
[null,"ID1459","2012-05-30T13:41:41",60000,60000,"USD",{"$f":"tblSalaries[[#This Row],[clean Salary (in local currency)]]*VLOOKUP(tblSalaries[[#This Row],[Currency]],tblXrate[],2,FALSE)","v":60000},{"$f":"IF($H$1=\"USD\",tblSalaries[[#This Row],[Salary in USD]],tblSalaries[[#This Row],[Salary in USD]]*VLOOKUP($H$1,USDtoUserChoice,2,FALSE))","v":492118.80000000005},"Business Intelligence Supervisor","Manager","USA",{"$f":"VLOOKUP(tblSalaries[[#This Row],[Where do you work]],tblCountries[[Actual]:[Mapping]],2,FALSE)","v":"USA"},"2 to 3 hours per day",4,{"$f":"IF(ISNA(VLOOKUP(tblSalaries[[#This Row],[Years of Experience]],vlookUpExp!$A$1:$B$56,2,FALSE)),\"No Response\",VLOOKUP(tblSalaries[[#This Row],[Years of Experience]],vlookUpExp!$A$1:$B$56,2,FALSE))","v":"0-5"}]
[null,"ID1460","2012-05-30T13:47:51","zar22000",264000,"ZAR",{"$f":"tblSalaries[[#This Row],[clean Salary (in local currency)]]*VLOOKUP(tblSalaries[[#This Row],[Currency]],tblXrate[],2,FALSE)","v":32187.34988380854},{"$f":"IF($H$1=\"USD\",tblSalaries[[#This Row],[Salary in USD]],tblSalaries[[#This Row],[Salary in USD]]*VLOOKUP($H$1,USDtoUserChoice,2,FALSE))","v":264000},"Analyst","Analyst","SouthAfrica",{"$f":"VLOOKUP(tblSalaries[[#This Row],[Where do you work]],tblCountries[[Actual]:[Mapping]],2,FALSE)","v":"South Africa"},"All the 8 hours baby, all the 8!",2,{"$f":"IF(ISNA(VLOOKUP(tblSalaries[[#This Row],[Years of Experience]],vlookUpExp!$A$1:$B$56,2,FALSE)),\"No Response\",VLOOKUP(tblSalaries[[#This Row],[Years of Experience]],vlookUpExp!$A$1:$B$56,2,FALSE))","v":"0-5"}]
[null,"ID1461","2012-05-30T13:56:27",50000,50000,"NZD",{"$f":"tblSalaries[[#This Row],[clean Salary (in local currency)]]*VLOOKUP(tblSalaries[[#This Row],[Currency]],tblXrate[],2,FALSE)","v":39879.404680246938},{"$f":"IF($H$1=\"USD\",tblSalaries[[#This Row],[Salary in USD]],tblSalaries[[#This Row],[Salary in USD]]*VLOOKUP($H$1,USDtoUserChoice,2,FALSE))","v":327090.07959929178},"stress engineer","Engineer","nld",{"$f":"VLOOKUP(tblSalaries[[#This Row],[Where do you work]],tblCountries[[Actual]:[Mapping]],2,FALSE)","v":"New Zealand"},"4 to 6 hours a day",5,{"$f":"IF(ISNA(VLOOKUP(tblSalaries[[#This Row],[Years of Experience]],vlookUpExp!$A$1:$B$56,2,FALSE)),\"No Response\",VLOOKUP(tblSalaries[[#This Row],[Years of Experience]],vlookUpExp!$A$1:$B$56,2,FALSE))","v":"0-5"}]
[null,"ID1462","2012-05-30T13:56:48","320000 INR",320000,"INR",{"$f":"tblSalaries[[#This Row],[clean Salary (in local currency)]]*VLOOKUP(tblSalaries[[#This Row],[Currency]],tblXrate[],2,FALSE)","v":5698.5333399816218},{"$f":"IF($H$1=\"USD\",tblSalaries[[#This Row],[Salary in USD]],tblSalaries[[#This Row],[Salary in USD]]*VLOOKUP($H$1,USDtoUserChoice,2,FALSE))","v":46739.256483862468},"Analyst","Analyst","India",{"$f":"VLOOKUP(tblSalaries[[#This Row],[Where do you work]],tblCountries[[Actual]:[Mapping]],2,FALSE)","v":"India"},"2 to 3 hours per day",2,{"$f":"IF(ISNA(VLOOKUP(tblSalaries[[#This Row],[Years of Experience]],vlookUpExp!$A$1:$B$56,2,FALSE)),\"No Response\",VLOOKUP(tblSalaries[[#This Row],[Years of Experience]],vlookUpExp!$A$1:$B$56,2,FALSE))","v":"0-5"}]
[null,"ID1463","2012-05-30T14:09:10","4 Lakhs INR p.a",400000,"INR",{"$f":"tblSalaries[[#This Row],[clean Salary (in local currency)]]*VLOOKUP(tblSalaries[[#This Row],[Currency]],tblXrate[],2,FALSE)","v":7123.1666749770275},{"$f":"IF($H$1=\"USD\",tblSalaries[[#This Row],[Salary in USD]],tblSalaries[[#This Row],[Salary in USD]]*VLOOKUP($H$1,USDtoUserChoice,2,FALSE))","v":58424.070604828084},"Reporting Manager","Manager","India",{"$f":"VLOOKUP(tblSalaries[[#This Row],[Where do you work]],tblCountries[[Actual]:[Mapping]],2,FALSE)","v":"India"},"4 to 6 hours a day",6,{"$f":"IF(ISNA(VLOOKUP(tblSalaries[[#This Row],[Years of Experience]],vlookUpExp!$A$1:$B$56,2,FALSE)),\"No Response\",VLOOKUP(tblSalaries[[#This Row],[Years of Experience]],vlookUpExp!$A$1:$B$56,2,FALSE))","v":"6-10"}]
[null,"ID1464","2012-05-30T14:19:07","Rs.2,50,000.00",250000,"INR",{"$f":"tblSalaries[[#This Row],[clean Salary (in local currency)]]*VLOOKUP(tblSalaries[[#This Row],[Currency]],tblXrate[],2,FALSE)","v":4451.9791718606421},{"$f":"IF($H$1=\"USD\",tblSalaries[[#This Row],[Salary in USD]],tblSalaries[[#This Row],[Salary in USD]]*VLOOKUP($H$1,USDtoUserChoice,2,FALSE))","v":36515.044128017551},"Manager Commercial","Manager","India",{"$f":"VLOOKUP(tblSalaries[[#This Row],[Where do you work]],tblCountries[[Actual]:[Mapping]],2,FALSE)","v":"India"},"2 to 3 hours per day",15,{"$f":"IF(ISNA(VLOOKUP(tblSalaries[[#This Row],[Years of Experience]],vlookUpExp!$A$1:$B$56,2,FALSE)),\"No Response\",VLOOKUP(tblSalaries[[#This Row],[Years of Experience]],vlookUpExp!$A$1:$B$56,2,FALSE))","v":"11-15"}]
[null,"ID1465","2012-05-30T14:21:57",360000,360000,"INR",{"$f":"tblSalaries[[#This Row],[clean Salary (in local currency)]]*VLOOKUP(tblSalaries[[#This Row],[Currency]],tblXrate[],2,FALSE)","v":6410.8500074793246},{"$f":"IF($H$1=\"USD\",tblSalaries[[#This Row],[Salary in USD]],tblSalaries[[#This Row],[Salary in USD]]*VLOOKUP($H$1,USDtoUserChoice,2,FALSE))","v":52581.663544345276},"analyst","Analyst","India",{"$f":"VLOOKUP(tblSalaries[[#This Row],[Where do you work]],tblCountries[[Actual]:[Mapping]],2,FALSE)","v":"India"},"2 to 3 hours per day",6,{"$f":"IF(ISNA(VLOOKUP(tblSalaries[[#This Row],[Years of Experience]],vlookUpExp!$A$1:$B$56,2,FALSE)),\"No Response\",VLOOKUP(tblSalaries[[#This Row],[Years of Experience]],vlookUpExp!$A$1:$B$56,2,FALSE))","v":"6-10"}]
[null,"ID1466","2012-05-30T14:28:57","Rs. 1150000/-",1150000,"INR",{"$f":"tblSalaries[[#This Row],[clean Salary (in local currency)]]*VLOOKUP(tblSalaries[[#This Row],[Currency]],tblXrate[],2,FALSE)","v":20479.104190558952},{"$f":"IF($H$1=\"USD\",tblSalaries[[#This Row],[Salary in USD]],tblSalaries[[#This Row],[Salary in USD]]*VLOOKUP($H$1,USDtoUserChoice,2,FALSE))","v":167969.20298888072},"Project Manager","Manager","India",{"$f":"VLOOKUP(tblSalaries[[#This Row],[Where do you work]],tblCountries[[Actual]:[Mapping]],2,FALSE)","v":"India"},"All the 8 hours baby, all the 8!",12,{"$f":"IF(ISNA(VLOOKUP(tblSalaries[[#This Row],[Years of Experience]],vlookUpExp!$A$1:$B$56,2,FALSE)),\"No Response\",VLOOKUP(tblSalaries[[#This Row],[Years of Experience]],vlookUpExp!$A$1:$B$56,2,FALSE))","v":"11-15"}]
[null,"ID1467","2012-05-30T14:31:33",620000,620000,"INR",{"$f":"tblSalaries[[#This Row],[clean Salary (in local currency)]]*VLOOKUP(tblSalaries[[#This Row],[Currency]],tblXrate[],2,FALSE)","v":11040.908346214392},{"$f":"IF($H$1=\"USD\",tblSalaries[[#This Row],[Salary in USD]],tblSalaries[[#This Row],[Salary in USD]]*VLOOKUP($H$1,USDtoUserChoice,2,FALSE))","v":90557.30943748352},"Catalog Auditor","Analyst","India",{"$f":"VLOOKUP(tblSalaries[[#This Row],[Where do you work]],tblCountries[[Actual]:[Mapping]],2,FALSE)","v":"India"},"1 or 2 hours a day",5,{"$f":"IF(ISNA(VLOOKUP(tblSalaries[[#This Row],[Years of Experience]],vlookUpExp!$A$1:$B$56,2,FALSE)),\"No Response\",VLOOKUP(tblSalaries[[#This Row],[Years of Experience]],vlookUpExp!$A$1:$B$56,2,FALSE))","v":"0-5"}]
[null,"ID1468","2012-05-30T15:59:01","Rs 10,00,000",1000000,"INR",{"$f":"tblSalaries[[#This Row],[clean Salary (in local currency)]]*VLOOKUP(tblSalaries[[#This Row],[Currency]],tblXrate[],2,FALSE)","v":17807.916687442568},{"$f":"IF($H$1=\"USD\",tblSalaries[[#This Row],[Salary in USD]],tblSalaries[[#This Row],[Salary in USD]]*VLOOKUP($H$1,USDtoUserChoice,2,FALSE))","v":146060.1765120702},"Marketing Specialist","Specialist","India",{"$f":"VLOOKUP(tblSalaries[[#This Row],[Where do you work]],tblCountries[[Actual]:[Mapping]],2,FALSE)","v":"India"},"2 to 3 hours per day",7,{"$f":"IF(ISNA(VLOOKUP(tblSalaries[[#This Row],[Years of Experience]],vlookUpExp!$A$1:$B$56,2,FALSE)),\"No Response\",VLOOKUP(tblSalaries[[#This Row],[Years of Experience]],vlookUpExp!$A$1:$B$56,2,FALSE))","v":"6-10"}]
[null,"ID1469","2012-05-30T16:12:34","Rs. 200000",200000,"INR",{"$f":"tblSalaries[[#This Row],[clean Salary (in local currency)]]*VLOOKUP(tblSalaries[[#This Row],[Currency]],tblXrate[],2,FALSE)","v":3561.5833374885137},{"$f":"IF($H$1=\"USD\",tblSalaries[[#This Row],[Salary in USD]],tblSalaries[[#This Row],[Salary in USD]]*VLOOKUP($H$1,USDtoUserChoice,2,FALSE))","v":29212.035302414042},"Executive","Analyst","India",{"$f":"VLOOKUP(tblSalaries[[#This Row],[Where do you work]],tblCountries[[Actual]:[Mapping]],2,FALSE)","v":"India"},"4 to 6 hours a day",11,{"$f":"IF(ISNA(VLOOKUP(tblSalaries[[#This Row],[Years of Experience]],vlookUpExp!$A$1:$B$56,2,FALSE)),\"No Response\",VLOOKUP(tblSalaries[[#This Row],[Years of Experience]],vlookUpExp!$A$1:$B$56,2,FALSE))","v":"11-15"}]
[null,"ID1470","2012-05-30T16:22:19","Â£17000",17000,"GBP",{"$f":"tblSalaries[[#This Row],[clean Salary (in local currency)]]*VLOOKUP(tblSalaries[[#This Row],[Currency]],tblXrate[],2,FALSE)","v":26795.030625143831},{"$f":"IF($H$1=\"USD\",tblSalaries[[#This Row],[Salary in USD]],tblSalaries[[#This Row],[Salary in USD]]*VLOOKUP($H$1,USDtoUserChoice,2,FALSE))","v":219772.30528681722},"Verification Agent","Analyst","UK",{"$f":"VLOOKUP(tblSalaries[[#This Row],[Where do you work]],tblCountries[[Actual]:[Mapping]],2,FALSE)","v":"UK"},"2 to 3 hours per day",5,{"$f":"IF(ISNA(VLOOKUP(tblSalaries[[#This Row],[Years of Experience]],vlookUpExp!$A$1:$B$56,2,FALSE)),\"No Response\",VLOOKUP(tblSalaries[[#This Row],[Years of Experience]],vlookUpExp!$A$1:$B$56,2,FALSE))","v":"0-5"}]
[null,"ID1471","2012-05-30T16:48:32",1700,20400,"USD",{"$f":"tblSalaries[[#This Row],[clean Salary (in local currency)]]*VLOOKUP(tblSalaries[[#This Row],[Currency]],tblXrate[],2,FALSE)","v":20400},{"$f":"IF($H$1=\"USD\",tblSalaries[[#This Row],[Salary in USD]],tblSalaries[[#This Row],[Salary in USD]]*VLOOKUP($H$1,USDtoUserChoice,2,FALSE))","v":167320.39200000002},"M & E Officer","Manager","Myanmar [Burma]",{"$f":"VLOOKUP(tblSalaries[[#This Row],[Where do you work]],tblCountries[[Actual]:[Mapping]],2,FALSE)","v":"Myanmar"},"1 or 2 hours a day",10,{"$f":"IF(ISNA(VLOOKUP(tblSalaries[[#This Row],[Years of Experience]],vlookUpExp!$A$1:$B$56,2,FALSE)),\"No Response\",VLOOKUP(tblSalaries[[#This Row],[Years of Experience]],vlookUpExp!$A$1:$B$56,2,FALSE))","v":"6-10"}]
[null,"ID1472","2012-05-30T16:49:15","Â£25000",25000,"GBP",{"$f":"tblSalaries[[#This Row],[clean Salary (in local currency)]]*VLOOKUP(tblSalaries[[#This Row],[Currency]],tblXrate[],2,FALSE)","v":39404.456801682099},{"$f":"IF($H$1=\"USD\",tblSalaries[[#This Row],[Salary in USD]],tblSalaries[[#This Row],[Salary in USD]]*VLOOKUP($H$1,USDtoUserChoice,2,FALSE))","v":323194.5665982606},"Assistant Financial Accountant","Accountant","UK",{"$f":"VLOOKUP(tblSalaries[[#This Row],[Where do you work]],tblCountries[[Actual]:[Mapping]],2,FALSE)","v":"UK"},"4 to 6 hours a day",35,{"$f":"IF(ISNA(VLOOKUP(tblSalaries[[#This Row],[Years of Experience]],vlookUpExp!$A$1:$B$56,2,FALSE)),\"No Response\",VLOOKUP(tblSalaries[[#This Row],[Years of Experience]],vlookUpExp!$A$1:$B$56,2,FALSE))","v":"31-35"}]
[null,"ID1473","2012-05-30T16:55:51",118000,118000,"EUR",{"$f":"tblSalaries[[#This Row],[clean Salary (in local currency)]]*VLOOKUP(tblSalaries[[#This Row],[Currency]],tblXrate[],2,FALSE)","v":149907.13380100971},{"$f":"IF($H$1=\"USD\",tblSalaries[[#This Row],[Salary in USD]],tblSalaries[[#This Row],[Salary in USD]]*VLOOKUP($H$1,USDtoUserChoice,2,FALSE))","v":1229535.3132932058},"Support","Analyst","EU",{"$f":"VLOOKUP(tblSalaries[[#This Row],[Where do you work]],tblCountries[[Actual]:[Mapping]],2,FALSE)","v":"Europe"},"4 to 6 hours a day",7,{"$f":"IF(ISNA(VLOOKUP(tblSalaries[[#This Row],[Years of Experience]],vlookUpExp!$A$1:$B$56,2,FALSE)),\"No Response\",VLOOKUP(tblSalaries[[#This Row],[Years of Experience]],vlookUpExp!$A$1:$B$56,2,FALSE))","v":"6-10"}]
[null,"ID1474","2012-05-30T17:01:10",230000,230000,"INR",{"$f":"tblSalaries[[#This Row],[clean Salary (in local currency)]]*VLOOKUP(tblSalaries[[#This Row],[Currency]],tblXrate[],2,FALSE)","v":4095.8208381117906},{"$f":"IF($H$1=\"USD\",tblSalaries[[#This Row],[Salary in USD]],tblSalaries[[#This Row],[Salary in USD]]*VLOOKUP($H$1,USDtoUserChoice,2,FALSE))","v":33593.84059777615},"Process Assocaite","Analyst","India",{"$f":"VLOOKUP(tblSalaries[[#This Row],[Where do you work]],tblCountries[[Actual]:[Mapping]],2,FALSE)","v":"India"},"4 to 6 hours a day",1.6,{"$f":"IF(ISNA(VLOOKUP(tblSalaries[[#This Row],[Years of Experience]],vlookUpExp!$A$1:$B$56,2,FALSE)),\"No Response\",VLOOKUP(tblSalaries[[#This Row],[Years of Experience]],vlookUpExp!$A$1:$B$56,2,FALSE))","v":"0-5"}]
[null,"ID1475","2012-05-30T17:04:53","$AUD 125,000 +",125000,"AUD",{"$f":"tblSalaries[[#This Row],[clean Salary (in local currency)]]*VLOOKUP(tblSalaries[[#This Row],[Currency]],tblXrate[],2,FALSE)","v":127488.70705032947},{"$f":"IF($H$1=\"USD\",tblSalaries[[#This Row],[Salary in USD]],tblSalaries[[#This Row],[Salary in USD]]*VLOOKUP($H$1,USDtoUserChoice,2,FALSE))","v":1045659.8254526614},"Financial Application Developer","Accountant","Australia",{"$f":"VLOOKUP(tblSalaries[[#This Row],[Where do you work]],tblCountries[[Actual]:[Mapping]],2,FALSE)","v":"Australia"},"4 to 6 hours a day",7,{"$f":"IF(ISNA(VLOOKUP(tblSalaries[[#This Row],[Years of Experience]],vlookUpExp!$A$1:$B$56,2,FALSE)),\"No Response\",VLOOKUP(tblSalaries[[#This Row],[Years of Experience]],vlookUpExp!$A$1:$B$56,2,FALSE))","v":"6-10"}]
[null,"ID1476","2012-05-30T17:07:47","Â£37000",37000,"GBP",{"$f":"tblSalaries[[#This Row],[clean Salary (in local currency)]]*VLOOKUP(tblSalaries[[#This Row],[Currency]],tblXrate[],2,FALSE)","v":58318.59606648951},{"$f":"IF($H$1=\"USD\",tblSalaries[[#This Row],[Salary in USD]],tblSalaries[[#This Row],[Salary in USD]]*VLOOKUP($H$1,USDtoUserChoice,2,FALSE))","v":478327.95856542565},"Planning & Scheduling Manager","Manager","UK",{"$f":"VLOOKUP(tblSalaries[[#This Row],[Where do you work]],tblCountries[[Actual]:[Mapping]],2,FALSE)","v":"UK"},"All the 8 hours baby, all the 8!",20,{"$f":"IF(ISNA(VLOOKUP(tblSalaries[[#This Row],[Years of Experience]],vlookUpExp!$A$1:$B$56,2,FALSE)),\"No Response\",VLOOKUP(tblSalaries[[#This Row],[Years of Experience]],vlookUpExp!$A$1:$B$56,2,FALSE))","v":"16-20"}]
[null,"ID1477","2012-05-30T17:14:27","ZAR6500",78000,"ZAR",{"$f":"tblSalaries[[#This Row],[clean Salary (in local currency)]]*VLOOKUP(tblSalaries[[#This Row],[Currency]],tblXrate[],2,FALSE)","v":9509.8988293070688},{"$f":"IF($H$1=\"USD\",tblSalaries[[#This Row],[Salary in USD]],tblSalaries[[#This Row],[Salary in USD]]*VLOOKUP($H$1,USDtoUserChoice,2,FALSE))","v":78000},"Online Stats Controller","Controller","South Africa",{"$f":"VLOOKUP(tblSalaries[[#This Row],[Where do you work]],tblCountries[[Actual]:[Mapping]],2,FALSE)","v":"South Africa"},"4 to 6 hours a day",2,{"$f":"IF(ISNA(VLOOKUP(tblSalaries[[#This Row],[Years of Experience]],vlookUpExp!$A$1:$B$56,2,FALSE)),\"No Response\",VLOOKUP(tblSalaries[[#This Row],[Years of Experience]],vlookUpExp!$A$1:$B$56,2,FALSE))","v":"0-5"}]
[null,"ID1478","2012-05-30T17:18:38","INR 60000",720000,"INR",{"$f":"tblSalaries[[#This Row],[clean Salary (in local currency)]]*VLOOKUP(tblSalaries[[#This Row],[Currency]],tblXrate[],2,FALSE)","v":12821.700014958649},{"$f":"IF($H$1=\"USD\",tblSalaries[[#This Row],[Salary in USD]],tblSalaries[[#This Row],[Salary in USD]]*VLOOKUP($H$1,USDtoUserChoice,2,FALSE))","v":105163.32708869055},"DEO","Analyst","India",{"$f":"VLOOKUP(tblSalaries[[#This Row],[Where do you work]],tblCountries[[Actual]:[Mapping]],2,FALSE)","v":"India"},"4 to 6 hours a day",3,{"$f":"IF(ISNA(VLOOKUP(tblSalaries[[#This Row],[Years of Experience]],vlookUpExp!$A$1:$B$56,2,FALSE)),\"No Response\",VLOOKUP(tblSalaries[[#This Row],[Years of Experience]],vlookUpExp!$A$1:$B$56,2,FALSE))","v":"0-5"}]
[null,"ID1479","2012-05-30T18:15:28",4000,4000,"USD",{"$f":"tblSalaries[[#This Row],[clean Salary (in local currency)]]*VLOOKUP(tblSalaries[[#This Row],[Currency]],tblXrate[],2,FALSE)","v":4000},{"$f":"IF($H$1=\"USD\",tblSalaries[[#This Row],[Salary in USD]],tblSalaries[[#This Row],[Salary in USD]]*VLOOKUP($H$1,USDtoUserChoice,2,FALSE))","v":32807.920000000006},"M I S Executive","Analyst","India",{"$f":"VLOOKUP(tblSalaries[[#This Row],[Where do you work]],tblCountries[[Actual]:[Mapping]],2,FALSE)","v":"India"},"All the 8 hours baby, all the 8!",6,{"$f":"IF(ISNA(VLOOKUP(tblSalaries[[#This Row],[Years of Experience]],vlookUpExp!$A$1:$B$56,2,FALSE)),\"No Response\",VLOOKUP(tblSalaries[[#This Row],[Years of Experience]],vlookUpExp!$A$1:$B$56,2,FALSE))","v":"6-10"}]
[null,"ID1480","2012-05-30T18:16:05",42000,42000,"USD",{"$f":"tblSalaries[[#This Row],[clean Salary (in local currency)]]*VLOOKUP(tblSalaries[[#This Row],[Currency]],tblXrate[],2,FALSE)","v":42000},{"$f":"IF($H$1=\"USD\",tblSalaries[[#This Row],[Salary in USD]],tblSalaries[[#This Row],[Salary in USD]]*VLOOKUP($H$1,USDtoUserChoice,2,FALSE))","v":344483.16000000003},"Service Solution Rep","Analyst","USA",{"$f":"VLOOKUP(tblSalaries[[#This Row],[Where do you work]],tblCountries[[Actual]:[Mapping]],2,FALSE)","v":"USA"},"All the 8 hours baby, all the 8!",2,{"$f":"IF(ISNA(VLOOKUP(tblSalaries[[#This Row],[Years of Experience]],vlookUpExp!$A$1:$B$56,2,FALSE)),\"No Response\",VLOOKUP(tblSalaries[[#This Row],[Years of Experience]],vlookUpExp!$A$1:$B$56,2,FALSE))","v":"0-5"}]
[null,"ID1481","2012-05-30T18:47:17","US $ 3200",3200,"USD",{"$f":"tblSalaries[[#This Row],[clean Salary (in local currency)]]*VLOOKUP(tblSalaries[[#This Row],[Currency]],tblXrate[],2,FALSE)","v":3200},{"$f":"IF($H$1=\"USD\",tblSalaries[[#This Row],[Salary in USD]],tblSalaries[[#This Row],[Salary in USD]]*VLOOKUP($H$1,USDtoUserChoice,2,FALSE))","v":26246.336000000003},"Regional Business Manager ","Manager","India",{"$f":"VLOOKUP(tblSalaries[[#This Row],[Where do you work]],tblCountries[[Actual]:[Mapping]],2,FALSE)","v":"India"},"All the 8 hours baby, all the 8!",19,{"$f":"IF(ISNA(VLOOKUP(tblSalaries[[#This Row],[Years of Experience]],vlookUpExp!$A$1:$B$56,2,FALSE)),\"No Response\",VLOOKUP(tblSalaries[[#This Row],[Years of Experience]],vlookUpExp!$A$1:$B$56,2,FALSE))","v":"16-20"}]
[null,"ID1482","2012-05-30T18:51:57",60000,60000,"USD",{"$f":"tblSalaries[[#This Row],[clean Salary (in local currency)]]*VLOOKUP(tblSalaries[[#This Row],[Currency]],tblXrate[],2,FALSE)","v":60000},{"$f":"IF($H$1=\"USD\",tblSalaries[[#This Row],[Salary in USD]],tblSalaries[[#This Row],[Salary in USD]]*VLOOKUP($H$1,USDtoUserChoice,2,FALSE))","v":492118.80000000005},"sales&marketing","Analyst","turkey",{"$f":"VLOOKUP(tblSalaries[[#This Row],[Where do you work]],tblCountries[[Actual]:[Mapping]],2,FALSE)","v":"Turkey"},"2 to 3 hours per day",10,{"$f":"IF(ISNA(VLOOKUP(tblSalaries[[#This Row],[Years of Experience]],vlookUpExp!$A$1:$B$56,2,FALSE)),\"No Response\",VLOOKUP(tblSalaries[[#This Row],[Years of Experience]],vlookUpExp!$A$1:$B$56,2,FALSE))","v":"6-10"}]
[null,"ID1483","2012-05-30T19:01:20",85000,85000,"USD",{"$f":"tblSalaries[[#This Row],[clean Salary (in local currency)]]*VLOOKUP(tblSalaries[[#This Row],[Currency]],tblXrate[],2,FALSE)","v":85000},{"$f":"IF($H$1=\"USD\",tblSalaries[[#This Row],[Salary in USD]],tblSalaries[[#This Row],[Salary in USD]]*VLOOKUP($H$1,USDtoUserChoice,2,FALSE))","v":697168.3},"sr analyst","Analyst","USA",{"$f":"VLOOKUP(tblSalaries[[#This Row],[Where do you work]],tblCountries[[Actual]:[Mapping]],2,FALSE)","v":"USA"},"4 to 6 hours a day",9,{"$f":"IF(ISNA(VLOOKUP(tblSalaries[[#This Row],[Years of Experience]],vlookUpExp!$A$1:$B$56,2,FALSE)),\"No Response\",VLOOKUP(tblSalaries[[#This Row],[Years of Experience]],vlookUpExp!$A$1:$B$56,2,FALSE))","v":"6-10"}]
[null,"ID1484","2012-05-30T19:04:44",109000,109000,"USD",{"$f":"tblSalaries[[#This Row],[clean Salary (in local currency)]]*VLOOKUP(tblSalaries[[#This Row],[Currency]],tblXrate[],2,FALSE)","v":109000},{"$f":"IF($H$1=\"USD\",tblSalaries[[#This Row],[Salary in USD]],tblSalaries[[#This Row],[Salary in USD]]*VLOOKUP($H$1,USDtoUserChoice,2,FALSE))","v":894015.82000000007},"Mgr Technology","Manager","USA",{"$f":"VLOOKUP(tblSalaries[[#This Row],[Where do you work]],tblCountries[[Actual]:[Mapping]],2,FALSE)","v":"USA"},"4 to 6 hours a day",15,{"$f":"IF(ISNA(VLOOKUP(tblSalaries[[#This Row],[Years of Experience]],vlookUpExp!$A$1:$B$56,2,FALSE)),\"No Response\",VLOOKUP(tblSalaries[[#This Row],[Years of Experience]],vlookUpExp!$A$1:$B$56,2,FALSE))","v":"11-15"}]
[null,"ID1485","2012-05-30T19:27:35","60000 Euros",60000,"EUR",{"$f":"tblSalaries[[#This Row],[clean Salary (in local currency)]]*VLOOKUP(tblSalaries[[#This Row],[Currency]],tblXrate[],2,FALSE)","v":76223.966339496474},{"$f":"IF($H$1=\"USD\",tblSalaries[[#This Row],[Salary in USD]],tblSalaries[[#This Row],[Salary in USD]]*VLOOKUP($H$1,USDtoUserChoice,2,FALSE))","v":625187.4474372234},"Sales Analyst","Analyst","Italy",{"$f":"VLOOKUP(tblSalaries[[#This Row],[Where do you work]],tblCountries[[Actual]:[Mapping]],2,FALSE)","v":"italy"},"All the 8 hours baby, all the 8!",14,{"$f":"IF(ISNA(VLOOKUP(tblSalaries[[#This Row],[Years of Experience]],vlookUpExp!$A$1:$B$56,2,FALSE)),\"No Response\",VLOOKUP(tblSalaries[[#This Row],[Years of Experience]],vlookUpExp!$A$1:$B$56,2,FALSE))","v":"11-15"}]
[null,"ID1486","2012-05-30T19:42:50",77000,77000,"USD",{"$f":"tblSalaries[[#This Row],[clean Salary (in local currency)]]*VLOOKUP(tblSalaries[[#This Row],[Currency]],tblXrate[],2,FALSE)","v":77000},{"$f":"IF($H$1=\"USD\",tblSalaries[[#This Row],[Salary in USD]],tblSalaries[[#This Row],[Salary in USD]]*VLOOKUP($H$1,USDtoUserChoice,2,FALSE))","v":631552.46000000008},"Chemical Engineer","Engineer","USA",{"$f":"VLOOKUP(tblSalaries[[#This Row],[Where do you work]],tblCountries[[Actual]:[Mapping]],2,FALSE)","v":"USA"},"2 to 3 hours per day",13,{"$f":"IF(ISNA(VLOOKUP(tblSalaries[[#This Row],[Years of Experience]],vlookUpExp!$A$1:$B$56,2,FALSE)),\"No Response\",VLOOKUP(tblSalaries[[#This Row],[Years of Experience]],vlookUpExp!$A$1:$B$56,2,FALSE))","v":"11-15"}]
[null,"ID1487","2012-05-30T19:43:43",25000,25000,"USD",{"$f":"tblSalaries[[#This Row],[clean Salary (in local currency)]]*VLOOKUP(tblSalaries[[#This Row],[Currency]],tblXrate[],2,FALSE)","v":25000},{"$f":"IF($H$1=\"USD\",tblSalaries[[#This Row],[Salary in USD]],tblSalaries[[#This Row],[Salary in USD]]*VLOOKUP($H$1,USDtoUserChoice,2,FALSE))","v":205049.50000000003},"data analyst","Analyst","India",{"$f":"VLOOKUP(tblSalaries[[#This Row],[Where do you work]],tblCountries[[Actual]:[Mapping]],2,FALSE)","v":"India"},"All the 8 hours baby, all the 8!",4,{"$f":"IF(ISNA(VLOOKUP(tblSalaries[[#This Row],[Years of Experience]],vlookUpExp!$A$1:$B$56,2,FALSE)),\"No Response\",VLOOKUP(tblSalaries[[#This Row],[Years of Experience]],vlookUpExp!$A$1:$B$56,2,FALSE))","v":"0-5"}]
[null,"ID1488","2012-05-30T20:19:51",64000,64000,"USD",{"$f":"tblSalaries[[#This Row],[clean Salary (in local currency)]]*VLOOKUP(tblSalaries[[#This Row],[Currency]],tblXrate[],2,FALSE)","v":64000},{"$f":"IF($H$1=\"USD\",tblSalaries[[#This Row],[Salary in USD]],tblSalaries[[#This Row],[Salary in USD]]*VLOOKUP($H$1,USDtoUserChoice,2,FALSE))","v":524926.72000000009},"Program Manager","Manager","USA",{"$f":"VLOOKUP(tblSalaries[[#This Row],[Where do you work]],tblCountries[[Actual]:[Mapping]],2,FALSE)","v":"USA"},"2 to 3 hours per day",12,{"$f":"IF(ISNA(VLOOKUP(tblSalaries[[#This Row],[Years of Experience]],vlookUpExp!$A$1:$B$56,2,FALSE)),\"No Response\",VLOOKUP(tblSalaries[[#This Row],[Years of Experience]],vlookUpExp!$A$1:$B$56,2,FALSE))","v":"11-15"}]
[null,"ID1489","2012-05-30T20:26:10",146633,146633,"GBP",{"$f":"tblSalaries[[#This Row],[clean Salary (in local currency)]]*VLOOKUP(tblSalaries[[#This Row],[Currency]],tblXrate[],2,FALSE)","v":231119.74856804207},{"$f":"IF($H$1=\"USD\",tblSalaries[[#This Row],[Salary in USD]],tblSalaries[[#This Row],[Salary in USD]]*VLOOKUP($H$1,USDtoUserChoice,2,FALSE))","v":1895639.5553601098},"Senior Planning Engineer","Engineer","UK",{"$f":"VLOOKUP(tblSalaries[[#This Row],[Where do you work]],tblCountries[[Actual]:[Mapping]],2,FALSE)","v":"UK"},"2 to 3 hours per day",10,{"$f":"IF(ISNA(VLOOKUP(tblSalaries[[#This Row],[Years of Experience]],vlookUpExp!$A$1:$B$56,2,FALSE)),\"No Response\",VLOOKUP(tblSalaries[[#This Row],[Years of Experience]],vlookUpExp!$A$1:$B$56,2,FALSE))","v":"6-10"}]
[null,"ID1490","2012-05-30T20:40:45",76000,76000,"USD",{"$f":"tblSalaries[[#This Row],[clean Salary (in local currency)]]*VLOOKUP(tblSalaries[[#This Row],[Currency]],tblXrate[],2,FALSE)","v":76000},{"$f":"IF($H$1=\"USD\",tblSalaries[[#This Row],[Salary in USD]],tblSalaries[[#This Row],[Salary in USD]]*VLOOKUP($H$1,USDtoUserChoice,2,FALSE))","v":623350.4800000001},"Sr. Analyst","Analyst","USA",{"$f":"VLOOKUP(tblSalaries[[#This Row],[Where do you work]],tblCountries[[Actual]:[Mapping]],2,FALSE)","v":"USA"},"All the 8 hours baby, all the 8!",10,{"$f":"IF(ISNA(VLOOKUP(tblSalaries[[#This Row],[Years of Experience]],vlookUpExp!$A$1:$B$56,2,FALSE)),\"No Response\",VLOOKUP(tblSalaries[[#This Row],[Years of Experience]],vlookUpExp!$A$1:$B$56,2,FALSE))","v":"6-10"}]
[null,"ID1491","2012-05-30T20:42:27",10000,10000,"GBP",{"$f":"tblSalaries[[#This Row],[clean Salary (in local currency)]]*VLOOKUP(tblSalaries[[#This Row],[Currency]],tblXrate[],2,FALSE)","v":15761.782720672842},{"$f":"IF($H$1=\"USD\",tblSalaries[[#This Row],[Salary in USD]],tblSalaries[[#This Row],[Salary in USD]]*VLOOKUP($H$1,USDtoUserChoice,2,FALSE))","v":129277.82663930424},"Analyst","Analyst","UK",{"$f":"VLOOKUP(tblSalaries[[#This Row],[Where do you work]],tblCountries[[Actual]:[Mapping]],2,FALSE)","v":"UK"},"2 to 3 hours per day",8,{"$f":"IF(ISNA(VLOOKUP(tblSalaries[[#This Row],[Years of Experience]],vlookUpExp!$A$1:$B$56,2,FALSE)),\"No Response\",VLOOKUP(tblSalaries[[#This Row],[Years of Experience]],vlookUpExp!$A$1:$B$56,2,FALSE))","v":"6-10"}]
[null,"ID1492","2012-05-30T20:42:47","AUD 165000",165000,"AUD",{"$f":"tblSalaries[[#This Row],[clean Salary (in local currency)]]*VLOOKUP(tblSalaries[[#This Row],[Currency]],tblXrate[],2,FALSE)","v":168285.09330643489},{"$f":"IF($H$1=\"USD\",tblSalaries[[#This Row],[Salary in USD]],tblSalaries[[#This Row],[Salary in USD]]*VLOOKUP($H$1,USDtoUserChoice,2,FALSE))","v":1380270.9695975131},"Engineer","Engineer","Australia",{"$f":"VLOOKUP(tblSalaries[[#This Row],[Where do you work]],tblCountries[[Actual]:[Mapping]],2,FALSE)","v":"Australia"},"2 to 3 hours per day",17,{"$f":"IF(ISNA(VLOOKUP(tblSalaries[[#This Row],[Years of Experience]],vlookUpExp!$A$1:$B$56,2,FALSE)),\"No Response\",VLOOKUP(tblSalaries[[#This Row],[Years of Experience]],vlookUpExp!$A$1:$B$56,2,FALSE))","v":"16-20"}]
[null,"ID1493","2012-05-30T20:47:55","50000 US$",50000,"USD",{"$f":"tblSalaries[[#This Row],[clean Salary (in local currency)]]*VLOOKUP(tblSalaries[[#This Row],[Currency]],tblXrate[],2,FALSE)","v":50000},{"$f":"IF($H$1=\"USD\",tblSalaries[[#This Row],[Salary in USD]],tblSalaries[[#This Row],[Salary in USD]]*VLOOKUP($H$1,USDtoUserChoice,2,FALSE))","v":410099.00000000006},"Sr. Financial Analyst","Analyst","Kuwait",{"$f":"VLOOKUP(tblSalaries[[#This Row],[Where do you work]],tblCountries[[Actual]:[Mapping]],2,FALSE)","v":"Kuwait"},"4 to 6 hours a day",13,{"$f":"IF(ISNA(VLOOKUP(tblSalaries[[#This Row],[Years of Experience]],vlookUpExp!$A$1:$B$56,2,FALSE)),\"No Response\",VLOOKUP(tblSalaries[[#This Row],[Years of Experience]],vlookUpExp!$A$1:$B$56,2,FALSE))","v":"11-15"}]
[null,"ID1494","2012-05-30T20:53:12","7200 USD per year aprox",7200,"USD",{"$f":"tblSalaries[[#This Row],[clean Salary (in local currency)]]*VLOOKUP(tblSalaries[[#This Row],[Currency]],tblXrate[],2,FALSE)","v":7200},{"$f":"IF($H$1=\"USD\",tblSalaries[[#This Row],[Salary in USD]],tblSalaries[[#This Row],[Salary in USD]]*VLOOKUP($H$1,USDtoUserChoice,2,FALSE))","v":59054.256000000008},"control process auxiliary","Controller","Colombia",{"$f":"VLOOKUP(tblSalaries[[#This Row],[Where do you work]],tblCountries[[Actual]:[Mapping]],2,FALSE)","v":"Colombia"},"4 to 6 hours a day",8,{"$f":"IF(ISNA(VLOOKUP(tblSalaries[[#This Row],[Years of Experience]],vlookUpExp!$A$1:$B$56,2,FALSE)),\"No Response\",VLOOKUP(tblSalaries[[#This Row],[Years of Experience]],vlookUpExp!$A$1:$B$56,2,FALSE))","v":"6-10"}]
[null,"ID1495","2012-05-30T21:07:54",42000,42000,"EUR",{"$f":"tblSalaries[[#This Row],[clean Salary (in local currency)]]*VLOOKUP(tblSalaries[[#This Row],[Currency]],tblXrate[],2,FALSE)","v":53356.776437647524},{"$f":"IF($H$1=\"USD\",tblSalaries[[#This Row],[Salary in USD]],tblSalaries[[#This Row],[Salary in USD]]*VLOOKUP($H$1,USDtoUserChoice,2,FALSE))","v":437631.21320605627},"Business Intelligence Consultant","Consultant","Germany",{"$f":"VLOOKUP(tblSalaries[[#This Row],[Where do you work]],tblCountries[[Actual]:[Mapping]],2,FALSE)","v":"Germany"},"All the 8 hours baby, all the 8!",7,{"$f":"IF(ISNA(VLOOKUP(tblSalaries[[#This Row],[Years of Experience]],vlookUpExp!$A$1:$B$56,2,FALSE)),\"No Response\",VLOOKUP(tblSalaries[[#This Row],[Years of Experience]],vlookUpExp!$A$1:$B$56,2,FALSE))","v":"6-10"}]
[null,"ID1496","2012-05-30T21:19:31",45000,45000,"USD",{"$f":"tblSalaries[[#This Row],[clean Salary (in local currency)]]*VLOOKUP(tblSalaries[[#This Row],[Currency]],tblXrate[],2,FALSE)","v":45000},{"$f":"IF($H$1=\"USD\",tblSalaries[[#This Row],[Salary in USD]],tblSalaries[[#This Row],[Salary in USD]]*VLOOKUP($H$1,USDtoUserChoice,2,FALSE))","v":369089.10000000003},"Data Specialist","Specialist","USA",{"$f":"VLOOKUP(tblSalaries[[#This Row],[Where do you work]],tblCountries[[Actual]:[Mapping]],2,FALSE)","v":"USA"},"2 to 3 hours per day",10,{"$f":"IF(ISNA(VLOOKUP(tblSalaries[[#This Row],[Years of Experience]],vlookUpExp!$A$1:$B$56,2,FALSE)),\"No Response\",VLOOKUP(tblSalaries[[#This Row],[Years of Experience]],vlookUpExp!$A$1:$B$56,2,FALSE))","v":"6-10"}]
[null,"ID1497","2012-05-30T21:26:04",5000,5000,"USD",{"$f":"tblSalaries[[#This Row],[clean Salary (in local currency)]]*VLOOKUP(tblSalaries[[#This Row],[Currency]],tblXrate[],2,FALSE)","v":5000},{"$f":"IF($H$1=\"USD\",tblSalaries[[#This Row],[Salary in USD]],tblSalaries[[#This Row],[Salary in USD]]*VLOOKUP($H$1,USDtoUserChoice,2,FALSE))","v":41009.9},"Officer MIS","Manager","India",{"$f":"VLOOKUP(tblSalaries[[#This Row],[Where do you work]],tblCountries[[Actual]:[Mapping]],2,FALSE)","v":"India"},"All the 8 hours baby, all the 8!",4,{"$f":"IF(ISNA(VLOOKUP(tblSalaries[[#This Row],[Years of Experience]],vlookUpExp!$A$1:$B$56,2,FALSE)),\"No Response\",VLOOKUP(tblSalaries[[#This Row],[Years of Experience]],vlookUpExp!$A$1:$B$56,2,FALSE))","v":"0-5"}]
[null,"ID1498","2012-05-30T21:45:06",74000,74000,"AUD",{"$f":"tblSalaries[[#This Row],[clean Salary (in local currency)]]*VLOOKUP(tblSalaries[[#This Row],[Currency]],tblXrate[],2,FALSE)","v":75473.31457379504},{"$f":"IF($H$1=\"USD\",tblSalaries[[#This Row],[Salary in USD]],tblSalaries[[#This Row],[Salary in USD]]*VLOOKUP($H$1,USDtoUserChoice,2,FALSE))","v":619030.61666797544},"operations Administrator","Analyst","Australia",{"$f":"VLOOKUP(tblSalaries[[#This Row],[Where do you work]],tblCountries[[Actual]:[Mapping]],2,FALSE)","v":"Australia"},"All the 8 hours baby, all the 8!",20,{"$f":"IF(ISNA(VLOOKUP(tblSalaries[[#This Row],[Years of Experience]],vlookUpExp!$A$1:$B$56,2,FALSE)),\"No Response\",VLOOKUP(tblSalaries[[#This Row],[Years of Experience]],vlookUpExp!$A$1:$B$56,2,FALSE))","v":"16-20"}]
[null,"ID1499","2012-05-30T22:11:21","15000 USD",15000,"USD",{"$f":"tblSalaries[[#This Row],[clean Salary (in local currency)]]*VLOOKUP(tblSalaries[[#This Row],[Currency]],tblXrate[],2,FALSE)","v":15000},{"$f":"IF($H$1=\"USD\",tblSalaries[[#This Row],[Salary in USD]],tblSalaries[[#This Row],[Salary in USD]]*VLOOKUP($H$1,USDtoUserChoice,2,FALSE))","v":123029.70000000001},"Manager","Manager","Romania",{"$f":"VLOOKUP(tblSalaries[[#This Row],[Where do you work]],tblCountries[[Actual]:[Mapping]],2,FALSE)","v":"Romania"},"2 to 3 hours per day",5,{"$f":"IF(ISNA(VLOOKUP(tblSalaries[[#This Row],[Years of Experience]],vlookUpExp!$A$1:$B$56,2,FALSE)),\"No Response\",VLOOKUP(tblSalaries[[#This Row],[Years of Experience]],vlookUpExp!$A$1:$B$56,2,FALSE))","v":"0-5"}]
[null,"ID1500","2012-05-30T22:31:33","33500 â‚¬",33500,"EUR",{"$f":"tblSalaries[[#This Row],[clean Salary (in local currency)]]*VLOOKUP(tblSalaries[[#This Row],[Currency]],tblXrate[],2,FALSE)","v":42558.381206218859},{"$f":"IF($H$1=\"USD\",tblSalaries[[#This Row],[Salary in USD]],tblSalaries[[#This Row],[Salary in USD]]*VLOOKUP($H$1,USDtoUserChoice,2,FALSE))","v":349062.99148578302},"Controller / VBA Developet","Controller","Germany",{"$f":"VLOOKUP(tblSalaries[[#This Row],[Where do you work]],tblCountries[[Actual]:[Mapping]],2,FALSE)","v":"Germany"},"All the 8 hours baby, all the 8!",8,{"$f":"IF(ISNA(VLOOKUP(tblSalaries[[#This Row],[Years of Experience]],vlookUpExp!$A$1:$B$56,2,FALSE)),\"No Response\",VLOOKUP(tblSalaries[[#This Row],[Years of Experience]],vlookUpExp!$A$1:$B$56,2,FALSE))","v":"6-10"}]
[null,"ID1501","2012-05-30T22:31:35","61K",61000,"USD",{"$f":"tblSalaries[[#This Row],[clean Salary (in local currency)]]*VLOOKUP(tblSalaries[[#This Row],[Currency]],tblXrate[],2,FALSE)","v":61000},{"$f":"IF($H$1=\"USD\",tblSalaries[[#This Row],[Salary in USD]],tblSalaries[[#This Row],[Salary in USD]]*VLOOKUP($H$1,USDtoUserChoice,2,FALSE))","v":500320.78},"Financial Analyst","Analyst","USA",{"$f":"VLOOKUP(tblSalaries[[#This Row],[Where do you work]],tblCountries[[Actual]:[Mapping]],2,FALSE)","v":"USA"},"4 to 6 hours a day",5,{"$f":"IF(ISNA(VLOOKUP(tblSalaries[[#This Row],[Years of Experience]],vlookUpExp!$A$1:$B$56,2,FALSE)),\"No Response\",VLOOKUP(tblSalaries[[#This Row],[Years of Experience]],vlookUpExp!$A$1:$B$56,2,FALSE))","v":"0-5"}]
[null,"ID1502","2012-05-30T22:32:21",66000,66000,"USD",{"$f":"tblSalaries[[#This Row],[clean Salary (in local currency)]]*VLOOKUP(tblSalaries[[#This Row],[Currency]],tblXrate[],2,FALSE)","v":66000},{"$f":"IF($H$1=\"USD\",tblSalaries[[#This Row],[Salary in USD]],tblSalaries[[#This Row],[Salary in USD]]*VLOOKUP($H$1,USDtoUserChoice,2,FALSE))","v":541330.68000000005},"Director of Business Analytics","Analyst","USA",{"$f":"VLOOKUP(tblSalaries[[#This Row],[Where do you work]],tblCountries[[Actual]:[Mapping]],2,FALSE)","v":"USA"},"4 to 6 hours a day",2,{"$f":"IF(ISNA(VLOOKUP(tblSalaries[[#This Row],[Years of Experience]],vlookUpExp!$A$1:$B$56,2,FALSE)),\"No Response\",VLOOKUP(tblSalaries[[#This Row],[Years of Experience]],vlookUpExp!$A$1:$B$56,2,FALSE))","v":"0-5"}]
[null,"ID1503","2012-05-30T22:59:44","278000 PA",278000,"INR",{"$f":"tblSalaries[[#This Row],[clean Salary (in local currency)]]*VLOOKUP(tblSalaries[[#This Row],[Currency]],tblXrate[],2,FALSE)","v":4950.6008391090336},{"$f":"IF($H$1=\"USD\",tblSalaries[[#This Row],[Salary in USD]],tblSalaries[[#This Row],[Salary in USD]]*VLOOKUP($H$1,USDtoUserChoice,2,FALSE))","v":40604.729070355512},"MIS Executive","Reporting","India",{"$f":"VLOOKUP(tblSalaries[[#This Row],[Where do you work]],tblCountries[[Actual]:[Mapping]],2,FALSE)","v":"India"},"All the 8 hours baby, all the 8!",8,{"$f":"IF(ISNA(VLOOKUP(tblSalaries[[#This Row],[Years of Experience]],vlookUpExp!$A$1:$B$56,2,FALSE)),\"No Response\",VLOOKUP(tblSalaries[[#This Row],[Years of Experience]],vlookUpExp!$A$1:$B$56,2,FALSE))","v":"6-10"}]
[null,"ID1504","2012-05-30T23:01:48",55000,55000,"USD",{"$f":"tblSalaries[[#This Row],[clean Salary (in local currency)]]*VLOOKUP(tblSalaries[[#This Row],[Currency]],tblXrate[],2,FALSE)","v":55000},{"$f":"IF($H$1=\"USD\",tblSalaries[[#This Row],[Salary in USD]],tblSalaries[[#This Row],[Salary in USD]]*VLOOKUP($H$1,USDtoUserChoice,2,FALSE))","v":451108.9},"Supplier Manager","Manager","USA",{"$f":"VLOOKUP(tblSalaries[[#This Row],[Where do you work]],tblCountries[[Actual]:[Mapping]],2,FALSE)","v":"USA"},"2 to 3 hours per day",14,{"$f":"IF(ISNA(VLOOKUP(tblSalaries[[#This Row],[Years of Experience]],vlookUpExp!$A$1:$B$56,2,FALSE)),\"No Response\",VLOOKUP(tblSalaries[[#This Row],[Years of Experience]],vlookUpExp!$A$1:$B$56,2,FALSE))","v":"11-15"}]
[null,"ID1505","2012-05-30T23:26:00",32000,32000,"USD",{"$f":"tblSalaries[[#This Row],[clean Salary (in local currency)]]*VLOOKUP(tblSalaries[[#This Row],[Currency]],tblXrate[],2,FALSE)","v":32000},{"$f":"IF($H$1=\"USD\",tblSalaries[[#This Row],[Salary in USD]],tblSalaries[[#This Row],[Salary in USD]]*VLOOKUP($H$1,USDtoUserChoice,2,FALSE))","v":262463.36000000004},"Reports Writer","Reporting","USA",{"$f":"VLOOKUP(tblSalaries[[#This Row],[Where do you work]],tblCountries[[Actual]:[Mapping]],2,FALSE)","v":"USA"},"4 to 6 hours a day",10,{"$f":"IF(ISNA(VLOOKUP(tblSalaries[[#This Row],[Years of Experience]],vlookUpExp!$A$1:$B$56,2,FALSE)),\"No Response\",VLOOKUP(tblSalaries[[#This Row],[Years of Experience]],vlookUpExp!$A$1:$B$56,2,FALSE))","v":"6-10"}]
[null,"ID1506","2012-05-30T23:29:58",18000,18000,"USD",{"$f":"tblSalaries[[#This Row],[clean Salary (in local currency)]]*VLOOKUP(tblSalaries[[#This Row],[Currency]],tblXrate[],2,FALSE)","v":18000},{"$f":"IF($H$1=\"USD\",tblSalaries[[#This Row],[Salary in USD]],tblSalaries[[#This Row],[Salary in USD]]*VLOOKUP($H$1,USDtoUserChoice,2,FALSE))","v":147635.64000000001},"Process Associate","Analyst","India",{"$f":"VLOOKUP(tblSalaries[[#This Row],[Where do you work]],tblCountries[[Actual]:[Mapping]],2,FALSE)","v":"India"},"All the 8 hours baby, all the 8!",6,{"$f":"IF(ISNA(VLOOKUP(tblSalaries[[#This Row],[Years of Experience]],vlookUpExp!$A$1:$B$56,2,FALSE)),\"No Response\",VLOOKUP(tblSalaries[[#This Row],[Years of Experience]],vlookUpExp!$A$1:$B$56,2,FALSE))","v":"6-10"}]
[null,"ID1507","2012-05-30T23:59:22","6.5 LAKHS",650000,"INR",{"$f":"tblSalaries[[#This Row],[clean Salary (in local currency)]]*VLOOKUP(tblSalaries[[#This Row],[Currency]],tblXrate[],2,FALSE)","v":11575.14584683767},{"$f":"IF($H$1=\"USD\",tblSalaries[[#This Row],[Salary in USD]],tblSalaries[[#This Row],[Salary in USD]]*VLOOKUP($H$1,USDtoUserChoice,2,FALSE))","v":94939.114732845643},"HR/ADMINISTRATION","Analyst","India",{"$f":"VLOOKUP(tblSalaries[[#This Row],[Where do you work]],tblCountries[[Actual]:[Mapping]],2,FALSE)","v":"India"},"4 to 6 hours a day",21,{"$f":"IF(ISNA(VLOOKUP(tblSalaries[[#This Row],[Years of Experience]],vlookUpExp!$A$1:$B$56,2,FALSE)),\"No Response\",VLOOKUP(tblSalaries[[#This Row],[Years of Experience]],vlookUpExp!$A$1:$B$56,2,FALSE))","v":"21-25"}]
[null,"ID1508","2012-05-31T00:36:30",50000,50000,"EUR",{"$f":"tblSalaries[[#This Row],[clean Salary (in local currency)]]*VLOOKUP(tblSalaries[[#This Row],[Currency]],tblXrate[],2,FALSE)","v":63519.971949580387},{"$f":"IF($H$1=\"USD\",tblSalaries[[#This Row],[Salary in USD]],tblSalaries[[#This Row],[Salary in USD]]*VLOOKUP($H$1,USDtoUserChoice,2,FALSE))","v":520989.5395310194},"accountant","Accountant","italy",{"$f":"VLOOKUP(tblSalaries[[#This Row],[Where do you work]],tblCountries[[Actual]:[Mapping]],2,FALSE)","v":"italy"},"All the 8 hours baby, all the 8!",15,{"$f":"IF(ISNA(VLOOKUP(tblSalaries[[#This Row],[Years of Experience]],vlookUpExp!$A$1:$B$56,2,FALSE)),\"No Response\",VLOOKUP(tblSalaries[[#This Row],[Years of Experience]],vlookUpExp!$A$1:$B$56,2,FALSE))","v":"11-15"}]
[null,"ID1509","2012-05-31T00:46:55","4.00 lac",4000000,"INR",{"$f":"tblSalaries[[#This Row],[clean Salary (in local currency)]]*VLOOKUP(tblSalaries[[#This Row],[Currency]],tblXrate[],2,FALSE)","v":71231.666749770273},{"$f":"IF($H$1=\"USD\",tblSalaries[[#This Row],[Salary in USD]],tblSalaries[[#This Row],[Salary in USD]]*VLOOKUP($H$1,USDtoUserChoice,2,FALSE))","v":584240.70604828082},"Operational Specialist","Specialist","India",{"$f":"VLOOKUP(tblSalaries[[#This Row],[Where do you work]],tblCountries[[Actual]:[Mapping]],2,FALSE)","v":"India"},"All the 8 hours baby, all the 8!",5,{"$f":"IF(ISNA(VLOOKUP(tblSalaries[[#This Row],[Years of Experience]],vlookUpExp!$A$1:$B$56,2,FALSE)),\"No Response\",VLOOKUP(tblSalaries[[#This Row],[Years of Experience]],vlookUpExp!$A$1:$B$56,2,FALSE))","v":"0-5"}]
[null,"ID1510","2012-05-31T01:09:06","US$ 10000",10000,"USD",{"$f":"tblSalaries[[#This Row],[clean Salary (in local currency)]]*VLOOKUP(tblSalaries[[#This Row],[Currency]],tblXrate[],2,FALSE)","v":10000},{"$f":"IF($H$1=\"USD\",tblSalaries[[#This Row],[Salary in USD]],tblSalaries[[#This Row],[Salary in USD]]*VLOOKUP($H$1,USDtoUserChoice,2,FALSE))","v":82019.8},"Trainee","Analyst","Brazil",{"$f":"VLOOKUP(tblSalaries[[#This Row],[Where do you work]],tblCountries[[Actual]:[Mapping]],2,FALSE)","v":"Brazil"},"4 to 6 hours a day",1,{"$f":"IF(ISNA(VLOOKUP(tblSalaries[[#This Row],[Years of Experience]],vlookUpExp!$A$1:$B$56,2,FALSE)),\"No Response\",VLOOKUP(tblSalaries[[#This Row],[Years of Experience]],vlookUpExp!$A$1:$B$56,2,FALSE))","v":"0-5"}]
[null,"ID1511","2012-05-31T01:17:16",74300,74300,"USD",{"$f":"tblSalaries[[#This Row],[clean Salary (in local currency)]]*VLOOKUP(tblSalaries[[#This Row],[Currency]],tblXrate[],2,FALSE)","v":74300},{"$f":"IF($H$1=\"USD\",tblSalaries[[#This Row],[Salary in USD]],tblSalaries[[#This Row],[Salary in USD]]*VLOOKUP($H$1,USDtoUserChoice,2,FALSE))","v":609407.11400000006},"Senior Business Research Analyst","Analyst","USA",{"$f":"VLOOKUP(tblSalaries[[#This Row],[Where do you work]],tblCountries[[Actual]:[Mapping]],2,FALSE)","v":"USA"},"4 to 6 hours a day",3,{"$f":"IF(ISNA(VLOOKUP(tblSalaries[[#This Row],[Years of Experience]],vlookUpExp!$A$1:$B$56,2,FALSE)),\"No Response\",VLOOKUP(tblSalaries[[#This Row],[Years of Experience]],vlookUpExp!$A$1:$B$56,2,FALSE))","v":"0-5"}]
[null,"ID1512","2012-05-31T01:17:48",1500000,1500000,"INR",{"$f":"tblSalaries[[#This Row],[clean Salary (in local currency)]]*VLOOKUP(tblSalaries[[#This Row],[Currency]],tblXrate[],2,FALSE)","v":26711.875031163851},{"$f":"IF($H$1=\"USD\",tblSalaries[[#This Row],[Salary in USD]],tblSalaries[[#This Row],[Salary in USD]]*VLOOKUP($H$1,USDtoUserChoice,2,FALSE))","v":219090.26476810529},"Senior Consultant - PMO","Consultant","India",{"$f":"VLOOKUP(tblSalaries[[#This Row],[Where do you work]],tblCountries[[Actual]:[Mapping]],2,FALSE)","v":"India"},"4 to 6 hours a day",10,{"$f":"IF(ISNA(VLOOKUP(tblSalaries[[#This Row],[Years of Experience]],vlookUpExp!$A$1:$B$56,2,FALSE)),\"No Response\",VLOOKUP(tblSalaries[[#This Row],[Years of Experience]],vlookUpExp!$A$1:$B$56,2,FALSE))","v":"6-10"}]
[null,"ID1513","2012-05-31T01:45:48","Rs 5,36,000",536000,"INR",{"$f":"tblSalaries[[#This Row],[clean Salary (in local currency)]]*VLOOKUP(tblSalaries[[#This Row],[Currency]],tblXrate[],2,FALSE)","v":9545.0433444692171},{"$f":"IF($H$1=\"USD\",tblSalaries[[#This Row],[Salary in USD]],tblSalaries[[#This Row],[Salary in USD]]*VLOOKUP($H$1,USDtoUserChoice,2,FALSE))","v":78288.254610469638},"Team Lead","Manager","India",{"$f":"VLOOKUP(tblSalaries[[#This Row],[Where do you work]],tblCountries[[Actual]:[Mapping]],2,FALSE)","v":"India"},"4 to 6 hours a day",4,{"$f":"IF(ISNA(VLOOKUP(tblSalaries[[#This Row],[Years of Experience]],vlookUpExp!$A$1:$B$56,2,FALSE)),\"No Response\",VLOOKUP(tblSalaries[[#This Row],[Years of Experience]],vlookUpExp!$A$1:$B$56,2,FALSE))","v":"0-5"}]
[null,"ID1514","2012-05-31T01:50:26",95000,95000,"USD",{"$f":"tblSalaries[[#This Row],[clean Salary (in local currency)]]*VLOOKUP(tblSalaries[[#This Row],[Currency]],tblXrate[],2,FALSE)","v":95000},{"$f":"IF($H$1=\"USD\",tblSalaries[[#This Row],[Salary in USD]],tblSalaries[[#This Row],[Salary in USD]]*VLOOKUP($H$1,USDtoUserChoice,2,FALSE))","v":779188.10000000009},"Sr Financial Analyst","Analyst","USA",{"$f":"VLOOKUP(tblSalaries[[#This Row],[Where do you work]],tblCountries[[Actual]:[Mapping]],2,FALSE)","v":"USA"},"4 to 6 hours a day",15,{"$f":"IF(ISNA(VLOOKUP(tblSalaries[[#This Row],[Years of Experience]],vlookUpExp!$A$1:$B$56,2,FALSE)),\"No Response\",VLOOKUP(tblSalaries[[#This Row],[Years of Experience]],vlookUpExp!$A$1:$B$56,2,FALSE))","v":"11-15"}]
[null,"ID1515","2012-05-31T02:24:37",64300,64300,"USD",{"$f":"tblSalaries[[#This Row],[clean Salary (in local currency)]]*VLOOKUP(tblSalaries[[#This Row],[Currency]],tblXrate[],2,FALSE)","v":64300},{"$f":"IF($H$1=\"USD\",tblSalaries[[#This Row],[Salary in USD]],tblSalaries[[#This Row],[Salary in USD]]*VLOOKUP($H$1,USDtoUserChoice,2,FALSE))","v":527387.31400000001},"Financial Analst","Accountant","USA",{"$f":"VLOOKUP(tblSalaries[[#This Row],[Where do you work]],tblCountries[[Actual]:[Mapping]],2,FALSE)","v":"USA"},"4 to 6 hours a day",15,{"$f":"IF(ISNA(VLOOKUP(tblSalaries[[#This Row],[Years of Experience]],vlookUpExp!$A$1:$B$56,2,FALSE)),\"No Response\",VLOOKUP(tblSalaries[[#This Row],[Years of Experience]],vlookUpExp!$A$1:$B$56,2,FALSE))","v":"11-15"}]
[null,"ID1516","2012-05-31T02:37:09",250000,250000,"USD",{"$f":"tblSalaries[[#This Row],[clean Salary (in local currency)]]*VLOOKUP(tblSalaries[[#This Row],[Currency]],tblXrate[],2,FALSE)","v":250000},{"$f":"IF($H$1=\"USD\",tblSalaries[[#This Row],[Salary in USD]],tblSalaries[[#This Row],[Salary in USD]]*VLOOKUP($H$1,USDtoUserChoice,2,FALSE))","v":2050495.0000000002},"consultant","Consultant","USA",{"$f":"VLOOKUP(tblSalaries[[#This Row],[Where do you work]],tblCountries[[Actual]:[Mapping]],2,FALSE)","v":"USA"},"All the 8 hours baby, all the 8!",20,{"$f":"IF(ISNA(VLOOKUP(tblSalaries[[#This Row],[Years of Experience]],vlookUpExp!$A$1:$B$56,2,FALSE)),\"No Response\",VLOOKUP(tblSalaries[[#This Row],[Years of Experience]],vlookUpExp!$A$1:$B$56,2,FALSE))","v":"16-20"}]
[null,"ID1519","2012-05-31T03:07:09",89000,89000,"USD",{"$f":"tblSalaries[[#This Row],[clean Salary (in local currency)]]*VLOOKUP(tblSalaries[[#This Row],[Currency]],tblXrate[],2,FALSE)","v":89000},{"$f":"IF($H$1=\"USD\",tblSalaries[[#This Row],[Salary in USD]],tblSalaries[[#This Row],[Salary in USD]]*VLOOKUP($H$1,USDtoUserChoice,2,FALSE))","v":729976.22000000009},"Finance Manager","Manager","USA",{"$f":"VLOOKUP(tblSalaries[[#This Row],[Where do you work]],tblCountries[[Actual]:[Mapping]],2,FALSE)","v":"USA"},"2 to 3 hours per day",10,{"$f":"IF(ISNA(VLOOKUP(tblSalaries[[#This Row],[Years of Experience]],vlookUpExp!$A$1:$B$56,2,FALSE)),\"No Response\",VLOOKUP(tblSalaries[[#This Row],[Years of Experience]],vlookUpExp!$A$1:$B$56,2,FALSE))","v":"6-10"}]
[null,"ID1520","2012-05-31T04:12:19",75000,75000,"USD",{"$f":"tblSalaries[[#This Row],[clean Salary (in local currency)]]*VLOOKUP(tblSalaries[[#This Row],[Currency]],tblXrate[],2,FALSE)","v":75000},{"$f":"IF($H$1=\"USD\",tblSalaries[[#This Row],[Salary in USD]],tblSalaries[[#This Row],[Salary in USD]]*VLOOKUP($H$1,USDtoUserChoice,2,FALSE))","v":615148.5},"Financial Analyst","Analyst","USA",{"$f":"VLOOKUP(tblSalaries[[#This Row],[Where do you work]],tblCountries[[Actual]:[Mapping]],2,FALSE)","v":"USA"},"All the 8 hours baby, all the 8!",1.5,{"$f":"IF(ISNA(VLOOKUP(tblSalaries[[#This Row],[Years of Experience]],vlookUpExp!$A$1:$B$56,2,FALSE)),\"No Response\",VLOOKUP(tblSalaries[[#This Row],[Years of Experience]],vlookUpExp!$A$1:$B$56,2,FALSE))","v":"0-5"}]
[null,"ID1521","2012-05-31T05:02:59",45000,45000,"USD",{"$f":"tblSalaries[[#This Row],[clean Salary (in local currency)]]*VLOOKUP(tblSalaries[[#This Row],[Currency]],tblXrate[],2,FALSE)","v":45000},{"$f":"IF($H$1=\"USD\",tblSalaries[[#This Row],[Salary in USD]],tblSalaries[[#This Row],[Salary in USD]]*VLOOKUP($H$1,USDtoUserChoice,2,FALSE))","v":369089.10000000003},"Excel Business Analyst","Analyst","USA",{"$f":"VLOOKUP(tblSalaries[[#This Row],[Where do you work]],tblCountries[[Actual]:[Mapping]],2,FALSE)","v":"USA"},"All the 8 hours baby, all the 8!",5,{"$f":"IF(ISNA(VLOOKUP(tblSalaries[[#This Row],[Years of Experience]],vlookUpExp!$A$1:$B$56,2,FALSE)),\"No Response\",VLOOKUP(tblSalaries[[#This Row],[Years of Experience]],vlookUpExp!$A$1:$B$56,2,FALSE))","v":"0-5"}]
[null,"ID1522","2012-05-31T05:23:58",127500,127500,"USD",{"$f":"tblSalaries[[#This Row],[clean Salary (in local currency)]]*VLOOKUP(tblSalaries[[#This Row],[Currency]],tblXrate[],2,FALSE)","v":127500},{"$f":"IF($H$1=\"USD\",tblSalaries[[#This Row],[Salary in USD]],tblSalaries[[#This Row],[Salary in USD]]*VLOOKUP($H$1,USDtoUserChoice,2,FALSE))","v":1045752.4500000001},"SVP","CXO or Top Mgmt.","USA",{"$f":"VLOOKUP(tblSalaries[[#This Row],[Where do you work]],tblCountries[[Actual]:[Mapping]],2,FALSE)","v":"USA"},"All the 8 hours baby, all the 8!",22,{"$f":"IF(ISNA(VLOOKUP(tblSalaries[[#This Row],[Years of Experience]],vlookUpExp!$A$1:$B$56,2,FALSE)),\"No Response\",VLOOKUP(tblSalaries[[#This Row],[Years of Experience]],vlookUpExp!$A$1:$B$56,2,FALSE))","v":"21-25"}]
[null,"ID1523","2012-05-31T05:31:54",170000,170000,"USD",{"$f":"tblSalaries[[#This Row],[clean Salary (in local currency)]]*VLOOKUP(tblSalaries[[#This Row],[Currency]],tblXrate[],2,FALSE)","v":170000},{"$f":"IF($H$1=\"USD\",tblSalaries[[#This Row],[Salary in USD]],tblSalaries[[#This Row],[Salary in USD]]*VLOOKUP($H$1,USDtoUserChoice,2,FALSE))","v":1394336.6},"CFO","CXO or Top Mgmt.","USA",{"$f":"VLOOKUP(tblSalaries[[#This Row],[Where do you work]],tblCountries[[Actual]:[Mapping]],2,FALSE)","v":"USA"},"2 to 3 hours per day",18,{"$f":"IF(ISNA(VLOOKUP(tblSalaries[[#This Row],[Years of Experience]],vlookUpExp!$A$1:$B$56,2,FALSE)),\"No Response\",VLOOKUP(tblSalaries[[#This Row],[Years of Experience]],vlookUpExp!$A$1:$B$56,2,FALSE))","v":"16-20"}]
[null,"ID1524","2012-05-31T05:37:29",800,9600,"USD",{"$f":"tblSalaries[[#This Row],[clean Salary (in local currency)]]*VLOOKUP(tblSalaries[[#This Row],[Currency]],tblXrate[],2,FALSE)","v":9600},{"$f":"IF($H$1=\"USD\",tblSalaries[[#This Row],[Salary in USD]],tblSalaries[[#This Row],[Salary in USD]]*VLOOKUP($H$1,USDtoUserChoice,2,FALSE))","v":78739.008000000002},"Reporting Analyst","Analyst","Bolivia",{"$f":"VLOOKUP(tblSalaries[[#This Row],[Where do you work]],tblCountries[[Actual]:[Mapping]],2,FALSE)","v":"Bolivia"},"All the 8 hours baby, all the 8!",2,{"$f":"IF(ISNA(VLOOKUP(tblSalaries[[#This Row],[Years of Experience]],vlookUpExp!$A$1:$B$56,2,FALSE)),\"No Response\",VLOOKUP(tblSalaries[[#This Row],[Years of Experience]],vlookUpExp!$A$1:$B$56,2,FALSE))","v":"0-5"}]
[null,"ID1525","2012-05-31T06:13:42",62000,62000,"USD",{"$f":"tblSalaries[[#This Row],[clean Salary (in local currency)]]*VLOOKUP(tblSalaries[[#This Row],[Currency]],tblXrate[],2,FALSE)","v":62000},{"$f":"IF($H$1=\"USD\",tblSalaries[[#This Row],[Salary in USD]],tblSalaries[[#This Row],[Salary in USD]]*VLOOKUP($H$1,USDtoUserChoice,2,FALSE))","v":508522.76000000007},"info analyst","Analyst","USA",{"$f":"VLOOKUP(tblSalaries[[#This Row],[Where do you work]],tblCountries[[Actual]:[Mapping]],2,FALSE)","v":"USA"},"All the 8 hours baby, all the 8!",27,{"$f":"IF(ISNA(VLOOKUP(tblSalaries[[#This Row],[Years of Experience]],vlookUpExp!$A$1:$B$56,2,FALSE)),\"No Response\",VLOOKUP(tblSalaries[[#This Row],[Years of Experience]],vlookUpExp!$A$1:$B$56,2,FALSE))","v":"26-30"}]
[null,"ID1526","2012-05-31T06:23:09",22000,22000,"USD",{"$f":"tblSalaries[[#This Row],[clean Salary (in local currency)]]*VLOOKUP(tblSalaries[[#This Row],[Currency]],tblXrate[],2,FALSE)","v":22000},{"$f":"IF($H$1=\"USD\",tblSalaries[[#This Row],[Salary in USD]],tblSalaries[[#This Row],[Salary in USD]]*VLOOKUP($H$1,USDtoUserChoice,2,FALSE))","v":180443.56000000003},"Data Manager","Manager","USA",{"$f":"VLOOKUP(tblSalaries[[#This Row],[Where do you work]],tblCountries[[Actual]:[Mapping]],2,FALSE)","v":"USA"},"4 to 6 hours a day",3,{"$f":"IF(ISNA(VLOOKUP(tblSalaries[[#This Row],[Years of Experience]],vlookUpExp!$A$1:$B$56,2,FALSE)),\"No Response\",VLOOKUP(tblSalaries[[#This Row],[Years of Experience]],vlookUpExp!$A$1:$B$56,2,FALSE))","v":"0-5"}]
[null,"ID1527","2012-05-31T06:23:55",45000,45000,"USD",{"$f":"tblSalaries[[#This Row],[clean Salary (in local currency)]]*VLOOKUP(tblSalaries[[#This Row],[Currency]],tblXrate[],2,FALSE)","v":45000},{"$f":"IF($H$1=\"USD\",tblSalaries[[#This Row],[Salary in USD]],tblSalaries[[#This Row],[Salary in USD]]*VLOOKUP($H$1,USDtoUserChoice,2,FALSE))","v":369089.10000000003},"Business Analyst","Analyst","USA",{"$f":"VLOOKUP(tblSalaries[[#This Row],[Where do you work]],tblCountries[[Actual]:[Mapping]],2,FALSE)","v":"USA"},"4 to 6 hours a day",8,{"$f":"IF(ISNA(VLOOKUP(tblSalaries[[#This Row],[Years of Experience]],vlookUpExp!$A$1:$B$56,2,FALSE)),\"No Response\",VLOOKUP(tblSalaries[[#This Row],[Years of Experience]],vlookUpExp!$A$1:$B$56,2,FALSE))","v":"6-10"}]
[null,"ID1528","2012-05-31T07:17:36",145000,145000,"USD",{"$f":"tblSalaries[[#This Row],[clean Salary (in local currency)]]*VLOOKUP(tblSalaries[[#This Row],[Currency]],tblXrate[],2,FALSE)","v":145000},{"$f":"IF($H$1=\"USD\",tblSalaries[[#This Row],[Salary in USD]],tblSalaries[[#This Row],[Salary in USD]]*VLOOKUP($H$1,USDtoUserChoice,2,FALSE))","v":1189287.1000000001},"Associate","Analyst","USA",{"$f":"VLOOKUP(tblSalaries[[#This Row],[Where do you work]],tblCountries[[Actual]:[Mapping]],2,FALSE)","v":"USA"},"4 to 6 hours a day",6,{"$f":"IF(ISNA(VLOOKUP(tblSalaries[[#This Row],[Years of Experience]],vlookUpExp!$A$1:$B$56,2,FALSE)),\"No Response\",VLOOKUP(tblSalaries[[#This Row],[Years of Experience]],vlookUpExp!$A$1:$B$56,2,FALSE))","v":"6-10"}]
[null,"ID1529","2012-05-31T08:20:03",89000,89000,"USD",{"$f":"tblSalaries[[#This Row],[clean Salary (in local currency)]]*VLOOKUP(tblSalaries[[#This Row],[Currency]],tblXrate[],2,FALSE)","v":89000},{"$f":"IF($H$1=\"USD\",tblSalaries[[#This Row],[Salary in USD]],tblSalaries[[#This Row],[Salary in USD]]*VLOOKUP($H$1,USDtoUserChoice,2,FALSE))","v":729976.22000000009},"BI Analyst","Analyst","USA",{"$f":"VLOOKUP(tblSalaries[[#This Row],[Where do you work]],tblCountries[[Actual]:[Mapping]],2,FALSE)","v":"USA"},"All the 8 hours baby, all the 8!",14,{"$f":"IF(ISNA(VLOOKUP(tblSalaries[[#This Row],[Years of Experience]],vlookUpExp!$A$1:$B$56,2,FALSE)),\"No Response\",VLOOKUP(tblSalaries[[#This Row],[Years of Experience]],vlookUpExp!$A$1:$B$56,2,FALSE))","v":"11-15"}]
[null,"ID1530","2012-05-31T09:28:05",38000,38000,"USD",{"$f":"tblSalaries[[#This Row],[clean Salary (in local currency)]]*VLOOKUP(tblSalaries[[#This Row],[Currency]],tblXrate[],2,FALSE)","v":38000},{"$f":"IF($H$1=\"USD\",tblSalaries[[#This Row],[Salary in USD]],tblSalaries[[#This Row],[Salary in USD]]*VLOOKUP($H$1,USDtoUserChoice,2,FALSE))","v":311675.24000000005},"Accountant","Accountant","USA",{"$f":"VLOOKUP(tblSalaries[[#This Row],[Where do you work]],tblCountries[[Actual]:[Mapping]],2,FALSE)","v":"USA"},"4 to 6 hours a day",11,{"$f":"IF(ISNA(VLOOKUP(tblSalaries[[#This Row],[Years of Experience]],vlookUpExp!$A$1:$B$56,2,FALSE)),\"No Response\",VLOOKUP(tblSalaries[[#This Row],[Years of Experience]],vlookUpExp!$A$1:$B$56,2,FALSE))","v":"11-15"}]
[null,"ID1531","2012-05-31T09:45:09",50000,50000,"CAD",{"$f":"tblSalaries[[#This Row],[clean Salary (in local currency)]]*VLOOKUP(tblSalaries[[#This Row],[Currency]],tblXrate[],2,FALSE)","v":49168.076151516347},{"$f":"IF($H$1=\"USD\",tblSalaries[[#This Row],[Salary in USD]],tblSalaries[[#This Row],[Salary in USD]]*VLOOKUP($H$1,USDtoUserChoice,2,FALSE))","v":403275.57723321411},"Business Analyst","Analyst","Canada",{"$f":"VLOOKUP(tblSalaries[[#This Row],[Where do you work]],tblCountries[[Actual]:[Mapping]],2,FALSE)","v":"Canada"},"4 to 6 hours a day",3,{"$f":"IF(ISNA(VLOOKUP(tblSalaries[[#This Row],[Years of Experience]],vlookUpExp!$A$1:$B$56,2,FALSE)),\"No Response\",VLOOKUP(tblSalaries[[#This Row],[Years of Experience]],vlookUpExp!$A$1:$B$56,2,FALSE))","v":"0-5"}]
[null,"ID1532","2012-05-31T10:29:42",500000,500000,"INR",{"$f":"tblSalaries[[#This Row],[clean Salary (in local currency)]]*VLOOKUP(tblSalaries[[#This Row],[Currency]],tblXrate[],2,FALSE)","v":8903.9583437212841},{"$f":"IF($H$1=\"USD\",tblSalaries[[#This Row],[Salary in USD]],tblSalaries[[#This Row],[Salary in USD]]*VLOOKUP($H$1,USDtoUserChoice,2,FALSE))","v":73030.088256035102},"Developer","Analyst","India",{"$f":"VLOOKUP(tblSalaries[[#This Row],[Where do you work]],tblCountries[[Actual]:[Mapping]],2,FALSE)","v":"India"},"4 to 6 hours a day",8,{"$f":"IF(ISNA(VLOOKUP(tblSalaries[[#This Row],[Years of Experience]],vlookUpExp!$A$1:$B$56,2,FALSE)),\"No Response\",VLOOKUP(tblSalaries[[#This Row],[Years of Experience]],vlookUpExp!$A$1:$B$56,2,FALSE))","v":"6-10"}]
[null,"ID1533","2012-05-31T10:33:07","10000 US$",10000,"USD",{"$f":"tblSalaries[[#This Row],[clean Salary (in local currency)]]*VLOOKUP(tblSalaries[[#This Row],[Currency]],tblXrate[],2,FALSE)","v":10000},{"$f":"IF($H$1=\"USD\",tblSalaries[[#This Row],[Salary in USD]],tblSalaries[[#This Row],[Salary in USD]]*VLOOKUP($H$1,USDtoUserChoice,2,FALSE))","v":82019.8},"Project management","Manager","Vietnam",{"$f":"VLOOKUP(tblSalaries[[#This Row],[Where do you work]],tblCountries[[Actual]:[Mapping]],2,FALSE)","v":"Vietnam"},"2 to 3 hours per day",8,{"$f":"IF(ISNA(VLOOKUP(tblSalaries[[#This Row],[Years of Experience]],vlookUpExp!$A$1:$B$56,2,FALSE)),\"No Response\",VLOOKUP(tblSalaries[[#This Row],[Years of Experience]],vlookUpExp!$A$1:$B$56,2,FALSE))","v":"6-10"}]
[null,"ID1534","2012-05-31T10:37:38",105000,105000,"USD",{"$f":"tblSalaries[[#This Row],[clean Salary (in local currency)]]*VLOOKUP(tblSalaries[[#This Row],[Currency]],tblXrate[],2,FALSE)","v":105000},{"$f":"IF($H$1=\"USD\",tblSalaries[[#This Row],[Salary in USD]],tblSalaries[[#This Row],[Salary in USD]]*VLOOKUP($H$1,USDtoUserChoice,2,FALSE))","v":861207.9},"Business Banker","Manager","USA",{"$f":"VLOOKUP(tblSalaries[[#This Row],[Where do you work]],tblCountries[[Actual]:[Mapping]],2,FALSE)","v":"USA"},"1 or 2 hours a day",30,{"$f":"IF(ISNA(VLOOKUP(tblSalaries[[#This Row],[Years of Experience]],vlookUpExp!$A$1:$B$56,2,FALSE)),\"No Response\",VLOOKUP(tblSalaries[[#This Row],[Years of Experience]],vlookUpExp!$A$1:$B$56,2,FALSE))","v":"26-30"}]
[null,"ID1535","2012-05-31T10:54:48",1000,12000,"USD",{"$f":"tblSalaries[[#This Row],[clean Salary (in local currency)]]*VLOOKUP(tblSalaries[[#This Row],[Currency]],tblXrate[],2,FALSE)","v":12000},{"$f":"IF($H$1=\"USD\",tblSalaries[[#This Row],[Salary in USD]],tblSalaries[[#This Row],[Salary in USD]]*VLOOKUP($H$1,USDtoUserChoice,2,FALSE))","v":98423.760000000009},"Associate Analyst","Analyst","MYS",{"$f":"VLOOKUP(tblSalaries[[#This Row],[Where do you work]],tblCountries[[Actual]:[Mapping]],2,FALSE)","v":"MYS"},"2 to 3 hours per day",0,{"$f":"IF(ISNA(VLOOKUP(tblSalaries[[#This Row],[Years of Experience]],vlookUpExp!$A$1:$B$56,2,FALSE)),\"No Response\",VLOOKUP(tblSalaries[[#This Row],[Years of Experience]],vlookUpExp!$A$1:$B$56,2,FALSE))","v":"0-5"}]
[null,"ID1536","2012-05-31T11:08:38","Rs. 200000/-",200000,"INR",{"$f":"tblSalaries[[#This Row],[clean Salary (in local currency)]]*VLOOKUP(tblSalaries[[#This Row],[Currency]],tblXrate[],2,FALSE)","v":3561.5833374885137},{"$f":"IF($H$1=\"USD\",tblSalaries[[#This Row],[Salary in USD]],tblSalaries[[#This Row],[Salary in USD]]*VLOOKUP($H$1,USDtoUserChoice,2,FALSE))","v":29212.035302414042},"Accounts Executive","Accountant","India",{"$f":"VLOOKUP(tblSalaries[[#This Row],[Where do you work]],tblCountries[[Actual]:[Mapping]],2,FALSE)","v":"India"},"All the 8 hours baby, all the 8!",3,{"$f":"IF(ISNA(VLOOKUP(tblSalaries[[#This Row],[Years of Experience]],vlookUpExp!$A$1:$B$56,2,FALSE)),\"No Response\",VLOOKUP(tblSalaries[[#This Row],[Years of Experience]],vlookUpExp!$A$1:$B$56,2,FALSE))","v":"0-5"}]
[null,"ID1537","2012-05-31T13:25:49","85,000 AUD",85000,"AUD",{"$f":"tblSalaries[[#This Row],[clean Salary (in local currency)]]*VLOOKUP(tblSalaries[[#This Row],[Currency]],tblXrate[],2,FALSE)","v":86692.320794224041},{"$f":"IF($H$1=\"USD\",tblSalaries[[#This Row],[Salary in USD]],tblSalaries[[#This Row],[Salary in USD]]*VLOOKUP($H$1,USDtoUserChoice,2,FALSE))","v":711048.68130780978},"Demand Planner","Analyst","Australia",{"$f":"VLOOKUP(tblSalaries[[#This Row],[Where do you work]],tblCountries[[Actual]:[Mapping]],2,FALSE)","v":"Australia"},"1 or 2 hours a day",5,{"$f":"IF(ISNA(VLOOKUP(tblSalaries[[#This Row],[Years of Experience]],vlookUpExp!$A$1:$B$56,2,FALSE)),\"No Response\",VLOOKUP(tblSalaries[[#This Row],[Years of Experience]],vlookUpExp!$A$1:$B$56,2,FALSE))","v":"0-5"}]
[null,"ID1539","2012-05-31T16:00:16",8000,8000,"USD",{"$f":"tblSalaries[[#This Row],[clean Salary (in local currency)]]*VLOOKUP(tblSalaries[[#This Row],[Currency]],tblXrate[],2,FALSE)","v":8000},{"$f":"IF($H$1=\"USD\",tblSalaries[[#This Row],[Salary in USD]],tblSalaries[[#This Row],[Salary in USD]]*VLOOKUP($H$1,USDtoUserChoice,2,FALSE))","v":65615.840000000011},"Owner","CXO or Top Mgmt.","India",{"$f":"VLOOKUP(tblSalaries[[#This Row],[Where do you work]],tblCountries[[Actual]:[Mapping]],2,FALSE)","v":"India"},"4 to 6 hours a day",18,{"$f":"IF(ISNA(VLOOKUP(tblSalaries[[#This Row],[Years of Experience]],vlookUpExp!$A$1:$B$56,2,FALSE)),\"No Response\",VLOOKUP(tblSalaries[[#This Row],[Years of Experience]],vlookUpExp!$A$1:$B$56,2,FALSE))","v":"16-20"}]
[null,"ID1540","2012-05-31T16:10:28","Rs. 380000",380000,"INR",{"$f":"tblSalaries[[#This Row],[clean Salary (in local currency)]]*VLOOKUP(tblSalaries[[#This Row],[Currency]],tblXrate[],2,FALSE)","v":6767.0083412281756},{"$f":"IF($H$1=\"USD\",tblSalaries[[#This Row],[Salary in USD]],tblSalaries[[#This Row],[Salary in USD]]*VLOOKUP($H$1,USDtoUserChoice,2,FALSE))","v":55502.867074586677},"reporting analyst","Analyst","India",{"$f":"VLOOKUP(tblSalaries[[#This Row],[Where do you work]],tblCountries[[Actual]:[Mapping]],2,FALSE)","v":"India"},"2 to 3 hours per day",6,{"$f":"IF(ISNA(VLOOKUP(tblSalaries[[#This Row],[Years of Experience]],vlookUpExp!$A$1:$B$56,2,FALSE)),\"No Response\",VLOOKUP(tblSalaries[[#This Row],[Years of Experience]],vlookUpExp!$A$1:$B$56,2,FALSE))","v":"6-10"}]
[null,"ID1541","2012-05-31T16:16:11","Â£30500",30500,"GBP",{"$f":"tblSalaries[[#This Row],[clean Salary (in local currency)]]*VLOOKUP(tblSalaries[[#This Row],[Currency]],tblXrate[],2,FALSE)","v":48073.437298052166},{"$f":"IF($H$1=\"USD\",tblSalaries[[#This Row],[Salary in USD]],tblSalaries[[#This Row],[Salary in USD]]*VLOOKUP($H$1,USDtoUserChoice,2,FALSE))","v":394297.37124987796},"Construction Estimator","Consultant","UK",{"$f":"VLOOKUP(tblSalaries[[#This Row],[Where do you work]],tblCountries[[Actual]:[Mapping]],2,FALSE)","v":"UK"},"4 to 6 hours a day",14,{"$f":"IF(ISNA(VLOOKUP(tblSalaries[[#This Row],[Years of Experience]],vlookUpExp!$A$1:$B$56,2,FALSE)),\"No Response\",VLOOKUP(tblSalaries[[#This Row],[Years of Experience]],vlookUpExp!$A$1:$B$56,2,FALSE))","v":"11-15"}]
[null,"ID1542","2012-05-31T16:25:23","60K â‚¬",60000,"EUR",{"$f":"tblSalaries[[#This Row],[clean Salary (in local currency)]]*VLOOKUP(tblSalaries[[#This Row],[Currency]],tblXrate[],2,FALSE)","v":76223.966339496474},{"$f":"IF($H$1=\"USD\",tblSalaries[[#This Row],[Salary in USD]],tblSalaries[[#This Row],[Salary in USD]]*VLOOKUP($H$1,USDtoUserChoice,2,FALSE))","v":625187.4474372234},"Trade Marketing","Manager","NL",{"$f":"VLOOKUP(tblSalaries[[#This Row],[Where do you work]],tblCountries[[Actual]:[Mapping]],2,FALSE)","v":"Netherlands"},"2 to 3 hours per day",15,{"$f":"IF(ISNA(VLOOKUP(tblSalaries[[#This Row],[Years of Experience]],vlookUpExp!$A$1:$B$56,2,FALSE)),\"No Response\",VLOOKUP(tblSalaries[[#This Row],[Years of Experience]],vlookUpExp!$A$1:$B$56,2,FALSE))","v":"11-15"}]
[null,"ID1543","2012-05-31T16:25:24",320000,320000,"SAR",{"$f":"tblSalaries[[#This Row],[clean Salary (in local currency)]]*VLOOKUP(tblSalaries[[#This Row],[Currency]],tblXrate[],2,FALSE)","v":85333.333333333328},{"$f":"IF($H$1=\"USD\",tblSalaries[[#This Row],[Salary in USD]],tblSalaries[[#This Row],[Salary in USD]]*VLOOKUP($H$1,USDtoUserChoice,2,FALSE))","v":699902.29333333333},"Merchandise Planning Manager","Manager","Saudi Arabia",{"$f":"VLOOKUP(tblSalaries[[#This Row],[Where do you work]],tblCountries[[Actual]:[Mapping]],2,FALSE)","v":"Saudi Arabia"},"2 to 3 hours per day",15,{"$f":"IF(ISNA(VLOOKUP(tblSalaries[[#This Row],[Years of Experience]],vlookUpExp!$A$1:$B$56,2,FALSE)),\"No Response\",VLOOKUP(tblSalaries[[#This Row],[Years of Experience]],vlookUpExp!$A$1:$B$56,2,FALSE))","v":"11-15"}]
[null,"ID1544","2012-05-31T16:30:09",48360,48360,"GBP",{"$f":"tblSalaries[[#This Row],[clean Salary (in local currency)]]*VLOOKUP(tblSalaries[[#This Row],[Currency]],tblXrate[],2,FALSE)","v":76223.981237173866},{"$f":"IF($H$1=\"USD\",tblSalaries[[#This Row],[Salary in USD]],tblSalaries[[#This Row],[Salary in USD]]*VLOOKUP($H$1,USDtoUserChoice,2,FALSE))","v":625187.56962767534},"pricing manager","Manager","UK",{"$f":"VLOOKUP(tblSalaries[[#This Row],[Where do you work]],tblCountries[[Actual]:[Mapping]],2,FALSE)","v":"UK"},"All the 8 hours baby, all the 8!",8,{"$f":"IF(ISNA(VLOOKUP(tblSalaries[[#This Row],[Years of Experience]],vlookUpExp!$A$1:$B$56,2,FALSE)),\"No Response\",VLOOKUP(tblSalaries[[#This Row],[Years of Experience]],vlookUpExp!$A$1:$B$56,2,FALSE))","v":"6-10"}]
[null,"ID1545","2012-05-31T17:08:59",30000,30000,"USD",{"$f":"tblSalaries[[#This Row],[clean Salary (in local currency)]]*VLOOKUP(tblSalaries[[#This Row],[Currency]],tblXrate[],2,FALSE)","v":30000},{"$f":"IF($H$1=\"USD\",tblSalaries[[#This Row],[Salary in USD]],tblSalaries[[#This Row],[Salary in USD]]*VLOOKUP($H$1,USDtoUserChoice,2,FALSE))","v":246059.40000000002},"Marketing Services Manager","Manager","Pakistan",{"$f":"VLOOKUP(tblSalaries[[#This Row],[Where do you work]],tblCountries[[Actual]:[Mapping]],2,FALSE)","v":"Pakistan"},"4 to 6 hours a day",5,{"$f":"IF(ISNA(VLOOKUP(tblSalaries[[#This Row],[Years of Experience]],vlookUpExp!$A$1:$B$56,2,FALSE)),\"No Response\",VLOOKUP(tblSalaries[[#This Row],[Years of Experience]],vlookUpExp!$A$1:$B$56,2,FALSE))","v":"0-5"}]
[null,"ID1546","2012-05-31T17:21:45",34000,34000,"USD",{"$f":"tblSalaries[[#This Row],[clean Salary (in local currency)]]*VLOOKUP(tblSalaries[[#This Row],[Currency]],tblXrate[],2,FALSE)","v":34000},{"$f":"IF($H$1=\"USD\",tblSalaries[[#This Row],[Salary in USD]],tblSalaries[[#This Row],[Salary in USD]]*VLOOKUP($H$1,USDtoUserChoice,2,FALSE))","v":278867.32},"Sr Analyst","Analyst","India",{"$f":"VLOOKUP(tblSalaries[[#This Row],[Where do you work]],tblCountries[[Actual]:[Mapping]],2,FALSE)","v":"India"},"All the 8 hours baby, all the 8!",4,{"$f":"IF(ISNA(VLOOKUP(tblSalaries[[#This Row],[Years of Experience]],vlookUpExp!$A$1:$B$56,2,FALSE)),\"No Response\",VLOOKUP(tblSalaries[[#This Row],[Years of Experience]],vlookUpExp!$A$1:$B$56,2,FALSE))","v":"0-5"}]
[null,"ID1547","2012-05-31T17:34:34","Rs. 180000",180000,"INR",{"$f":"tblSalaries[[#This Row],[clean Salary (in local currency)]]*VLOOKUP(tblSalaries[[#This Row],[Currency]],tblXrate[],2,FALSE)","v":3205.4250037396623},{"$f":"IF($H$1=\"USD\",tblSalaries[[#This Row],[Salary in USD]],tblSalaries[[#This Row],[Salary in USD]]*VLOOKUP($H$1,USDtoUserChoice,2,FALSE))","v":26290.831772172638},"Asst Store Manager","Manager","India",{"$f":"VLOOKUP(tblSalaries[[#This Row],[Where do you work]],tblCountries[[Actual]:[Mapping]],2,FALSE)","v":"India"},"4 to 6 hours a day",5,{"$f":"IF(ISNA(VLOOKUP(tblSalaries[[#This Row],[Years of Experience]],vlookUpExp!$A$1:$B$56,2,FALSE)),\"No Response\",VLOOKUP(tblSalaries[[#This Row],[Years of Experience]],vlookUpExp!$A$1:$B$56,2,FALSE))","v":"0-5"}]
[null,"ID1548","2012-05-31T17:35:33","45.000 USD",45000,"USD",{"$f":"tblSalaries[[#This Row],[clean Salary (in local currency)]]*VLOOKUP(tblSalaries[[#This Row],[Currency]],tblXrate[],2,FALSE)","v":45000},{"$f":"IF($H$1=\"USD\",tblSalaries[[#This Row],[Salary in USD]],tblSalaries[[#This Row],[Salary in USD]]*VLOOKUP($H$1,USDtoUserChoice,2,FALSE))","v":369089.10000000003},"Junior Reporting Manager","Manager","Germany",{"$f":"VLOOKUP(tblSalaries[[#This Row],[Where do you work]],tblCountries[[Actual]:[Mapping]],2,FALSE)","v":"Germany"},"2 to 3 hours per day",5,{"$f":"IF(ISNA(VLOOKUP(tblSalaries[[#This Row],[Years of Experience]],vlookUpExp!$A$1:$B$56,2,FALSE)),\"No Response\",VLOOKUP(tblSalaries[[#This Row],[Years of Experience]],vlookUpExp!$A$1:$B$56,2,FALSE))","v":"0-5"}]
[null,"ID1549","2012-05-31T18:35:30",24864,24864,"USD",{"$f":"tblSalaries[[#This Row],[clean Salary (in local currency)]]*VLOOKUP(tblSalaries[[#This Row],[Currency]],tblXrate[],2,FALSE)","v":24864},{"$f":"IF($H$1=\"USD\",tblSalaries[[#This Row],[Salary in USD]],tblSalaries[[#This Row],[Salary in USD]]*VLOOKUP($H$1,USDtoUserChoice,2,FALSE))","v":203934.03072000001},"Brand manager","Manager","Libya",{"$f":"VLOOKUP(tblSalaries[[#This Row],[Where do you work]],tblCountries[[Actual]:[Mapping]],2,FALSE)","v":"Libya"},"All the 8 hours baby, all the 8!",8,{"$f":"IF(ISNA(VLOOKUP(tblSalaries[[#This Row],[Years of Experience]],vlookUpExp!$A$1:$B$56,2,FALSE)),\"No Response\",VLOOKUP(tblSalaries[[#This Row],[Years of Experience]],vlookUpExp!$A$1:$B$56,2,FALSE))","v":"6-10"}]
[null,"ID1550","2012-05-31T19:51:29","Â£30000",30000,"GBP",{"$f":"tblSalaries[[#This Row],[clean Salary (in local currency)]]*VLOOKUP(tblSalaries[[#This Row],[Currency]],tblXrate[],2,FALSE)","v":47285.348162018527},{"$f":"IF($H$1=\"USD\",tblSalaries[[#This Row],[Salary in USD]],tblSalaries[[#This Row],[Salary in USD]]*VLOOKUP($H$1,USDtoUserChoice,2,FALSE))","v":387833.47991791274},"Cost Analyst","Analyst","UK",{"$f":"VLOOKUP(tblSalaries[[#This Row],[Where do you work]],tblCountries[[Actual]:[Mapping]],2,FALSE)","v":"UK"},"4 to 6 hours a day",7,{"$f":"IF(ISNA(VLOOKUP(tblSalaries[[#This Row],[Years of Experience]],vlookUpExp!$A$1:$B$56,2,FALSE)),\"No Response\",VLOOKUP(tblSalaries[[#This Row],[Years of Experience]],vlookUpExp!$A$1:$B$56,2,FALSE))","v":"6-10"}]
[null,"ID1551","2012-05-31T20:13:27",1000000,1000000,"INR",{"$f":"tblSalaries[[#This Row],[clean Salary (in local currency)]]*VLOOKUP(tblSalaries[[#This Row],[Currency]],tblXrate[],2,FALSE)","v":17807.916687442568},{"$f":"IF($H$1=\"USD\",tblSalaries[[#This Row],[Salary in USD]],tblSalaries[[#This Row],[Salary in USD]]*VLOOKUP($H$1,USDtoUserChoice,2,FALSE))","v":146060.1765120702},"Financial analyst","Analyst","India",{"$f":"VLOOKUP(tblSalaries[[#This Row],[Where do you work]],tblCountries[[Actual]:[Mapping]],2,FALSE)","v":"India"},"All the 8 hours baby, all the 8!",10,{"$f":"IF(ISNA(VLOOKUP(tblSalaries[[#This Row],[Years of Experience]],vlookUpExp!$A$1:$B$56,2,FALSE)),\"No Response\",VLOOKUP(tblSalaries[[#This Row],[Years of Experience]],vlookUpExp!$A$1:$B$56,2,FALSE))","v":"6-10"}]
[null,"ID1552","2012-05-31T20:14:20","Â£35000",35000,"GBP",{"$f":"tblSalaries[[#This Row],[clean Salary (in local currency)]]*VLOOKUP(tblSalaries[[#This Row],[Currency]],tblXrate[],2,FALSE)","v":55166.239522354947},{"$f":"IF($H$1=\"USD\",tblSalaries[[#This Row],[Salary in USD]],tblSalaries[[#This Row],[Salary in USD]]*VLOOKUP($H$1,USDtoUserChoice,2,FALSE))","v":452472.39323756489},"Research Analyst","Analyst","UK",{"$f":"VLOOKUP(tblSalaries[[#This Row],[Where do you work]],tblCountries[[Actual]:[Mapping]],2,FALSE)","v":"UK"},"4 to 6 hours a day",3,{"$f":"IF(ISNA(VLOOKUP(tblSalaries[[#This Row],[Years of Experience]],vlookUpExp!$A$1:$B$56,2,FALSE)),\"No Response\",VLOOKUP(tblSalaries[[#This Row],[Years of Experience]],vlookUpExp!$A$1:$B$56,2,FALSE))","v":"0-5"}]
[null,"ID1553","2012-05-31T21:05:02","55000 EUR",55000,"EUR",{"$f":"tblSalaries[[#This Row],[clean Salary (in local currency)]]*VLOOKUP(tblSalaries[[#This Row],[Currency]],tblXrate[],2,FALSE)","v":69871.969144538423},{"$f":"IF($H$1=\"USD\",tblSalaries[[#This Row],[Salary in USD]],tblSalaries[[#This Row],[Salary in USD]]*VLOOKUP($H$1,USDtoUserChoice,2,FALSE))","v":573088.49348412128},"Risk Officer","Manager","The Netherlands",{"$f":"VLOOKUP(tblSalaries[[#This Row],[Where do you work]],tblCountries[[Actual]:[Mapping]],2,FALSE)","v":"Netherlands"},"1 or 2 hours a day",5,{"$f":"IF(ISNA(VLOOKUP(tblSalaries[[#This Row],[Years of Experience]],vlookUpExp!$A$1:$B$56,2,FALSE)),\"No Response\",VLOOKUP(tblSalaries[[#This Row],[Years of Experience]],vlookUpExp!$A$1:$B$56,2,FALSE))","v":"0-5"}]
[null,"ID1554","2012-05-31T21:06:45",70970,70970,"USD",{"$f":"tblSalaries[[#This Row],[clean Salary (in local currency)]]*VLOOKUP(tblSalaries[[#This Row],[Currency]],tblXrate[],2,FALSE)","v":70970},{"$f":"IF($H$1=\"USD\",tblSalaries[[#This Row],[Salary in USD]],tblSalaries[[#This Row],[Salary in USD]]*VLOOKUP($H$1,USDtoUserChoice,2,FALSE))","v":582094.52060000005},"Sr. Risk Analyst","Analyst","USA",{"$f":"VLOOKUP(tblSalaries[[#This Row],[Where do you work]],tblCountries[[Actual]:[Mapping]],2,FALSE)","v":"USA"},"4 to 6 hours a day",17,{"$f":"IF(ISNA(VLOOKUP(tblSalaries[[#This Row],[Years of Experience]],vlookUpExp!$A$1:$B$56,2,FALSE)),\"No Response\",VLOOKUP(tblSalaries[[#This Row],[Years of Experience]],vlookUpExp!$A$1:$B$56,2,FALSE))","v":"16-20"}]
[null,"ID1555","2012-05-31T21:45:03","60000 EUR",60000,"EUR",{"$f":"tblSalaries[[#This Row],[clean Salary (in local currency)]]*VLOOKUP(tblSalaries[[#This Row],[Currency]],tblXrate[],2,FALSE)","v":76223.966339496474},{"$f":"IF($H$1=\"USD\",tblSalaries[[#This Row],[Salary in USD]],tblSalaries[[#This Row],[Salary in USD]]*VLOOKUP($H$1,USDtoUserChoice,2,FALSE))","v":625187.4474372234},"Business Engineer","Engineer","Netherlands",{"$f":"VLOOKUP(tblSalaries[[#This Row],[Where do you work]],tblCountries[[Actual]:[Mapping]],2,FALSE)","v":"Netherlands"},"4 to 6 hours a day",7,{"$f":"IF(ISNA(VLOOKUP(tblSalaries[[#This Row],[Years of Experience]],vlookUpExp!$A$1:$B$56,2,FALSE)),\"No Response\",VLOOKUP(tblSalaries[[#This Row],[Years of Experience]],vlookUpExp!$A$1:$B$56,2,FALSE))","v":"6-10"}]
[null,"ID1556","2012-05-31T21:47:37",110000,110000,"USD",{"$f":"tblSalaries[[#This Row],[clean Salary (in local currency)]]*VLOOKUP(tblSalaries[[#This Row],[Currency]],tblXrate[],2,FALSE)","v":110000},{"$f":"IF($H$1=\"USD\",tblSalaries[[#This Row],[Salary in USD]],tblSalaries[[#This Row],[Salary in USD]]*VLOOKUP($H$1,USDtoUserChoice,2,FALSE))","v":902217.8},"Business Controller","Controller","Norway",{"$f":"VLOOKUP(tblSalaries[[#This Row],[Where do you work]],tblCountries[[Actual]:[Mapping]],2,FALSE)","v":"Norway"},"All the 8 hours baby, all the 8!",5,{"$f":"IF(ISNA(VLOOKUP(tblSalaries[[#This Row],[Years of Experience]],vlookUpExp!$A$1:$B$56,2,FALSE)),\"No Response\",VLOOKUP(tblSalaries[[#This Row],[Years of Experience]],vlookUpExp!$A$1:$B$56,2,FALSE))","v":"0-5"}]
[null,"ID1557","2012-05-31T21:48:35",1200,14400,"USD",{"$f":"tblSalaries[[#This Row],[clean Salary (in local currency)]]*VLOOKUP(tblSalaries[[#This Row],[Currency]],tblXrate[],2,FALSE)","v":14400},{"$f":"IF($H$1=\"USD\",tblSalaries[[#This Row],[Salary in USD]],tblSalaries[[#This Row],[Salary in USD]]*VLOOKUP($H$1,USDtoUserChoice,2,FALSE))","v":118108.51200000002},"FA /financial Analyst","Analyst","Bulgaria",{"$f":"VLOOKUP(tblSalaries[[#This Row],[Where do you work]],tblCountries[[Actual]:[Mapping]],2,FALSE)","v":"Bulgaria"},"All the 8 hours baby, all the 8!",15,{"$f":"IF(ISNA(VLOOKUP(tblSalaries[[#This Row],[Years of Experience]],vlookUpExp!$A$1:$B$56,2,FALSE)),\"No Response\",VLOOKUP(tblSalaries[[#This Row],[Years of Experience]],vlookUpExp!$A$1:$B$56,2,FALSE))","v":"11-15"}]
[null,"ID1558","2012-05-31T22:05:03",125000,125000,"USD",{"$f":"tblSalaries[[#This Row],[clean Salary (in local currency)]]*VLOOKUP(tblSalaries[[#This Row],[Currency]],tblXrate[],2,FALSE)","v":125000},{"$f":"IF($H$1=\"USD\",tblSalaries[[#This Row],[Salary in USD]],tblSalaries[[#This Row],[Salary in USD]]*VLOOKUP($H$1,USDtoUserChoice,2,FALSE))","v":1025247.5000000001},"Consultant","Consultant","USA",{"$f":"VLOOKUP(tblSalaries[[#This Row],[Where do you work]],tblCountries[[Actual]:[Mapping]],2,FALSE)","v":"USA"},"All the 8 hours baby, all the 8!",8,{"$f":"IF(ISNA(VLOOKUP(tblSalaries[[#This Row],[Years of Experience]],vlookUpExp!$A$1:$B$56,2,FALSE)),\"No Response\",VLOOKUP(tblSalaries[[#This Row],[Years of Experience]],vlookUpExp!$A$1:$B$56,2,FALSE))","v":"6-10"}]
[null,"ID1559","2012-05-31T22:06:59",74000,74000,"CAD",{"$f":"tblSalaries[[#This Row],[clean Salary (in local currency)]]*VLOOKUP(tblSalaries[[#This Row],[Currency]],tblXrate[],2,FALSE)","v":72768.752704244194},{"$f":"IF($H$1=\"USD\",tblSalaries[[#This Row],[Salary in USD]],tblSalaries[[#This Row],[Salary in USD]]*VLOOKUP($H$1,USDtoUserChoice,2,FALSE))","v":596847.85430515686},"Operations Analyst","Analyst","Canada",{"$f":"VLOOKUP(tblSalaries[[#This Row],[Where do you work]],tblCountries[[Actual]:[Mapping]],2,FALSE)","v":"Canada"},"4 to 6 hours a day",10,{"$f":"IF(ISNA(VLOOKUP(tblSalaries[[#This Row],[Years of Experience]],vlookUpExp!$A$1:$B$56,2,FALSE)),\"No Response\",VLOOKUP(tblSalaries[[#This Row],[Years of Experience]],vlookUpExp!$A$1:$B$56,2,FALSE))","v":"6-10"}]
[null,"ID1560","2012-05-31T22:56:21","$59,000 USD",59000,"USD",{"$f":"tblSalaries[[#This Row],[clean Salary (in local currency)]]*VLOOKUP(tblSalaries[[#This Row],[Currency]],tblXrate[],2,FALSE)","v":59000},{"$f":"IF($H$1=\"USD\",tblSalaries[[#This Row],[Salary in USD]],tblSalaries[[#This Row],[Salary in USD]]*VLOOKUP($H$1,USDtoUserChoice,2,FALSE))","v":483916.82000000007},"Operations Manager","Manager","USA",{"$f":"VLOOKUP(tblSalaries[[#This Row],[Where do you work]],tblCountries[[Actual]:[Mapping]],2,FALSE)","v":"USA"},"4 to 6 hours a day",15,{"$f":"IF(ISNA(VLOOKUP(tblSalaries[[#This Row],[Years of Experience]],vlookUpExp!$A$1:$B$56,2,FALSE)),\"No Response\",VLOOKUP(tblSalaries[[#This Row],[Years of Experience]],vlookUpExp!$A$1:$B$56,2,FALSE))","v":"11-15"}]
[null,"ID1561","2012-05-31T23:08:12",71500,71500,"USD",{"$f":"tblSalaries[[#This Row],[clean Salary (in local currency)]]*VLOOKUP(tblSalaries[[#This Row],[Currency]],tblXrate[],2,FALSE)","v":71500},{"$f":"IF($H$1=\"USD\",tblSalaries[[#This Row],[Salary in USD]],tblSalaries[[#This Row],[Salary in USD]]*VLOOKUP($H$1,USDtoUserChoice,2,FALSE))","v":586441.57000000007},"Management Reporting Analyst","Analyst","USA",{"$f":"VLOOKUP(tblSalaries[[#This Row],[Where do you work]],tblCountries[[Actual]:[Mapping]],2,FALSE)","v":"USA"},"4 to 6 hours a day",5,{"$f":"IF(ISNA(VLOOKUP(tblSalaries[[#This Row],[Years of Experience]],vlookUpExp!$A$1:$B$56,2,FALSE)),\"No Response\",VLOOKUP(tblSalaries[[#This Row],[Years of Experience]],vlookUpExp!$A$1:$B$56,2,FALSE))","v":"0-5"}]
[null,"ID1562","2012-05-31T23:09:08","Â£25000",25000,"GBP",{"$f":"tblSalaries[[#This Row],[clean Salary (in local currency)]]*VLOOKUP(tblSalaries[[#This Row],[Currency]],tblXrate[],2,FALSE)","v":39404.456801682099},{"$f":"IF($H$1=\"USD\",tblSalaries[[#This Row],[Salary in USD]],tblSalaries[[#This Row],[Salary in USD]]*VLOOKUP($H$1,USDtoUserChoice,2,FALSE))","v":323194.5665982606},"Reporting Team Lead","Reporting","UK",{"$f":"VLOOKUP(tblSalaries[[#This Row],[Where do you work]],tblCountries[[Actual]:[Mapping]],2,FALSE)","v":"UK"},"4 to 6 hours a day",2,{"$f":"IF(ISNA(VLOOKUP(tblSalaries[[#This Row],[Years of Experience]],vlookUpExp!$A$1:$B$56,2,FALSE)),\"No Response\",VLOOKUP(tblSalaries[[#This Row],[Years of Experience]],vlookUpExp!$A$1:$B$56,2,FALSE))","v":"0-5"}]
[null,"ID1563","2012-05-31T23:10:44","70000 â‚¬",70000,"EUR",{"$f":"tblSalaries[[#This Row],[clean Salary (in local currency)]]*VLOOKUP(tblSalaries[[#This Row],[Currency]],tblXrate[],2,FALSE)","v":88927.960729412545},{"$f":"IF($H$1=\"USD\",tblSalaries[[#This Row],[Salary in USD]],tblSalaries[[#This Row],[Salary in USD]]*VLOOKUP($H$1,USDtoUserChoice,2,FALSE))","v":729385.35534342716},"Specialist Learning Technology","Specialist","Germany",{"$f":"VLOOKUP(tblSalaries[[#This Row],[Where do you work]],tblCountries[[Actual]:[Mapping]],2,FALSE)","v":"Germany"},"1 or 2 hours a day",5,{"$f":"IF(ISNA(VLOOKUP(tblSalaries[[#This Row],[Years of Experience]],vlookUpExp!$A$1:$B$56,2,FALSE)),\"No Response\",VLOOKUP(tblSalaries[[#This Row],[Years of Experience]],vlookUpExp!$A$1:$B$56,2,FALSE))","v":"0-5"}]
[null,"ID1564","2012-05-31T23:48:36","USD90,000",90000,"USD",{"$f":"tblSalaries[[#This Row],[clean Salary (in local currency)]]*VLOOKUP(tblSalaries[[#This Row],[Currency]],tblXrate[],2,FALSE)","v":90000},{"$f":"IF($H$1=\"USD\",tblSalaries[[#This Row],[Salary in USD]],tblSalaries[[#This Row],[Salary in USD]]*VLOOKUP($H$1,USDtoUserChoice,2,FALSE))","v":738178.20000000007},"Operationsl Regional Manager","Manager","USA",{"$f":"VLOOKUP(tblSalaries[[#This Row],[Where do you work]],tblCountries[[Actual]:[Mapping]],2,FALSE)","v":"USA"},"4 to 6 hours a day",25,{"$f":"IF(ISNA(VLOOKUP(tblSalaries[[#This Row],[Years of Experience]],vlookUpExp!$A$1:$B$56,2,FALSE)),\"No Response\",VLOOKUP(tblSalaries[[#This Row],[Years of Experience]],vlookUpExp!$A$1:$B$56,2,FALSE))","v":"21-25"}]
[null,"ID1565","2012-06-01T00:02:34","Rs. 700000",700000,"INR",{"$f":"tblSalaries[[#This Row],[clean Salary (in local currency)]]*VLOOKUP(tblSalaries[[#This Row],[Currency]],tblXrate[],2,FALSE)","v":12465.541681209797},{"$f":"IF($H$1=\"USD\",tblSalaries[[#This Row],[Salary in USD]],tblSalaries[[#This Row],[Salary in USD]]*VLOOKUP($H$1,USDtoUserChoice,2,FALSE))","v":102242.12355844914},"Manager - Business Development","Manager","India",{"$f":"VLOOKUP(tblSalaries[[#This Row],[Where do you work]],tblCountries[[Actual]:[Mapping]],2,FALSE)","v":"India"},"All the 8 hours baby, all the 8!",30,{"$f":"IF(ISNA(VLOOKUP(tblSalaries[[#This Row],[Years of Experience]],vlookUpExp!$A$1:$B$56,2,FALSE)),\"No Response\",VLOOKUP(tblSalaries[[#This Row],[Years of Experience]],vlookUpExp!$A$1:$B$56,2,FALSE))","v":"26-30"}]
[null,"ID1566","2012-06-01T00:18:35","$40,000 USD",40000,"USD",{"$f":"tblSalaries[[#This Row],[clean Salary (in local currency)]]*VLOOKUP(tblSalaries[[#This Row],[Currency]],tblXrate[],2,FALSE)","v":40000},{"$f":"IF($H$1=\"USD\",tblSalaries[[#This Row],[Salary in USD]],tblSalaries[[#This Row],[Salary in USD]]*VLOOKUP($H$1,USDtoUserChoice,2,FALSE))","v":328079.2},"QA Data Analyst","Analyst","USA",{"$f":"VLOOKUP(tblSalaries[[#This Row],[Where do you work]],tblCountries[[Actual]:[Mapping]],2,FALSE)","v":"USA"},"4 to 6 hours a day",8,{"$f":"IF(ISNA(VLOOKUP(tblSalaries[[#This Row],[Years of Experience]],vlookUpExp!$A$1:$B$56,2,FALSE)),\"No Response\",VLOOKUP(tblSalaries[[#This Row],[Years of Experience]],vlookUpExp!$A$1:$B$56,2,FALSE))","v":"6-10"}]
[null,"ID1567","2012-06-01T00:23:54",30000,30000,"USD",{"$f":"tblSalaries[[#This Row],[clean Salary (in local currency)]]*VLOOKUP(tblSalaries[[#This Row],[Currency]],tblXrate[],2,FALSE)","v":30000},{"$f":"IF($H$1=\"USD\",tblSalaries[[#This Row],[Salary in USD]],tblSalaries[[#This Row],[Salary in USD]]*VLOOKUP($H$1,USDtoUserChoice,2,FALSE))","v":246059.40000000002},"SME","Analyst","India",{"$f":"VLOOKUP(tblSalaries[[#This Row],[Where do you work]],tblCountries[[Actual]:[Mapping]],2,FALSE)","v":"India"},"All the 8 hours baby, all the 8!",4,{"$f":"IF(ISNA(VLOOKUP(tblSalaries[[#This Row],[Years of Experience]],vlookUpExp!$A$1:$B$56,2,FALSE)),\"No Response\",VLOOKUP(tblSalaries[[#This Row],[Years of Experience]],vlookUpExp!$A$1:$B$56,2,FALSE))","v":"0-5"}]
[null,"ID1569","2012-06-01T01:29:02",46325,46325,"USD",{"$f":"tblSalaries[[#This Row],[clean Salary (in local currency)]]*VLOOKUP(tblSalaries[[#This Row],[Currency]],tblXrate[],2,FALSE)","v":46325},{"$f":"IF($H$1=\"USD\",tblSalaries[[#This Row],[Salary in USD]],tblSalaries[[#This Row],[Salary in USD]]*VLOOKUP($H$1,USDtoUserChoice,2,FALSE))","v":379956.72350000002},"Work Force Scheduler for Call Center","Controller","USA",{"$f":"VLOOKUP(tblSalaries[[#This Row],[Where do you work]],tblCountries[[Actual]:[Mapping]],2,FALSE)","v":"USA"},"4 to 6 hours a day",1,{"$f":"IF(ISNA(VLOOKUP(tblSalaries[[#This Row],[Years of Experience]],vlookUpExp!$A$1:$B$56,2,FALSE)),\"No Response\",VLOOKUP(tblSalaries[[#This Row],[Years of Experience]],vlookUpExp!$A$1:$B$56,2,FALSE))","v":"0-5"}]
[null,"ID1570","2012-06-01T01:47:43",15000,15000,"USD",{"$f":"tblSalaries[[#This Row],[clean Salary (in local currency)]]*VLOOKUP(tblSalaries[[#This Row],[Currency]],tblXrate[],2,FALSE)","v":15000},{"$f":"IF($H$1=\"USD\",tblSalaries[[#This Row],[Salary in USD]],tblSalaries[[#This Row],[Salary in USD]]*VLOOKUP($H$1,USDtoUserChoice,2,FALSE))","v":123029.70000000001},"Application Developer","Analyst","USA",{"$f":"VLOOKUP(tblSalaries[[#This Row],[Where do you work]],tblCountries[[Actual]:[Mapping]],2,FALSE)","v":"USA"},"All the 8 hours baby, all the 8!",8,{"$f":"IF(ISNA(VLOOKUP(tblSalaries[[#This Row],[Years of Experience]],vlookUpExp!$A$1:$B$56,2,FALSE)),\"No Response\",VLOOKUP(tblSalaries[[#This Row],[Years of Experience]],vlookUpExp!$A$1:$B$56,2,FALSE))","v":"6-10"}]
[null,"ID1571","2012-06-01T02:33:02",31200,31200,"USD",{"$f":"tblSalaries[[#This Row],[clean Salary (in local currency)]]*VLOOKUP(tblSalaries[[#This Row],[Currency]],tblXrate[],2,FALSE)","v":31200},{"$f":"IF($H$1=\"USD\",tblSalaries[[#This Row],[Salary in USD]],tblSalaries[[#This Row],[Salary in USD]]*VLOOKUP($H$1,USDtoUserChoice,2,FALSE))","v":255901.77600000001},"Data Analyst","Analyst","USA",{"$f":"VLOOKUP(tblSalaries[[#This Row],[Where do you work]],tblCountries[[Actual]:[Mapping]],2,FALSE)","v":"USA"},"4 to 6 hours a day",15,{"$f":"IF(ISNA(VLOOKUP(tblSalaries[[#This Row],[Years of Experience]],vlookUpExp!$A$1:$B$56,2,FALSE)),\"No Response\",VLOOKUP(tblSalaries[[#This Row],[Years of Experience]],vlookUpExp!$A$1:$B$56,2,FALSE))","v":"11-15"}]
[null,"ID1572","2012-06-01T02:46:21","Rs. 500000",500000,"INR",{"$f":"tblSalaries[[#This Row],[clean Salary (in local currency)]]*VLOOKUP(tblSalaries[[#This Row],[Currency]],tblXrate[],2,FALSE)","v":8903.9583437212841},{"$f":"IF($H$1=\"USD\",tblSalaries[[#This Row],[Salary in USD]],tblSalaries[[#This Row],[Salary in USD]]*VLOOKUP($H$1,USDtoUserChoice,2,FALSE))","v":73030.088256035102},"Sr. Associate","Analyst","India",{"$f":"VLOOKUP(tblSalaries[[#This Row],[Where do you work]],tblCountries[[Actual]:[Mapping]],2,FALSE)","v":"India"},"4 to 6 hours a day",9,{"$f":"IF(ISNA(VLOOKUP(tblSalaries[[#This Row],[Years of Experience]],vlookUpExp!$A$1:$B$56,2,FALSE)),\"No Response\",VLOOKUP(tblSalaries[[#This Row],[Years of Experience]],vlookUpExp!$A$1:$B$56,2,FALSE))","v":"6-10"}]
[null,"ID1573","2012-06-01T03:01:04",1320,15840,"USD",{"$f":"tblSalaries[[#This Row],[clean Salary (in local currency)]]*VLOOKUP(tblSalaries[[#This Row],[Currency]],tblXrate[],2,FALSE)","v":15840},{"$f":"IF($H$1=\"USD\",tblSalaries[[#This Row],[Salary in USD]],tblSalaries[[#This Row],[Salary in USD]]*VLOOKUP($H$1,USDtoUserChoice,2,FALSE))","v":129919.36320000001},"Asistente","Analyst","Peru",{"$f":"VLOOKUP(tblSalaries[[#This Row],[Where do you work]],tblCountries[[Actual]:[Mapping]],2,FALSE)","v":"Peru"},"All the 8 hours baby, all the 8!",8,{"$f":"IF(ISNA(VLOOKUP(tblSalaries[[#This Row],[Years of Experience]],vlookUpExp!$A$1:$B$56,2,FALSE)),\"No Response\",VLOOKUP(tblSalaries[[#This Row],[Years of Experience]],vlookUpExp!$A$1:$B$56,2,FALSE))","v":"6-10"}]
[null,"ID1574","2012-06-01T03:07:31","INR 850000",850000,"INR",{"$f":"tblSalaries[[#This Row],[clean Salary (in local currency)]]*VLOOKUP(tblSalaries[[#This Row],[Currency]],tblXrate[],2,FALSE)","v":15136.729184326183},{"$f":"IF($H$1=\"USD\",tblSalaries[[#This Row],[Salary in USD]],tblSalaries[[#This Row],[Salary in USD]]*VLOOKUP($H$1,USDtoUserChoice,2,FALSE))","v":124151.15003525968},"Sr Business analyst","Analyst","India",{"$f":"VLOOKUP(tblSalaries[[#This Row],[Where do you work]],tblCountries[[Actual]:[Mapping]],2,FALSE)","v":"India"},"4 to 6 hours a day",5,{"$f":"IF(ISNA(VLOOKUP(tblSalaries[[#This Row],[Years of Experience]],vlookUpExp!$A$1:$B$56,2,FALSE)),\"No Response\",VLOOKUP(tblSalaries[[#This Row],[Years of Experience]],vlookUpExp!$A$1:$B$56,2,FALSE))","v":"0-5"}]
[null,"ID1575","2012-06-01T04:10:52",41000,41000,"USD",{"$f":"tblSalaries[[#This Row],[clean Salary (in local currency)]]*VLOOKUP(tblSalaries[[#This Row],[Currency]],tblXrate[],2,FALSE)","v":41000},{"$f":"IF($H$1=\"USD\",tblSalaries[[#This Row],[Salary in USD]],tblSalaries[[#This Row],[Salary in USD]]*VLOOKUP($H$1,USDtoUserChoice,2,FALSE))","v":336281.18000000005},"Excel Developer","Consultant","USA",{"$f":"VLOOKUP(tblSalaries[[#This Row],[Where do you work]],tblCountries[[Actual]:[Mapping]],2,FALSE)","v":"USA"},"4 to 6 hours a day",10,{"$f":"IF(ISNA(VLOOKUP(tblSalaries[[#This Row],[Years of Experience]],vlookUpExp!$A$1:$B$56,2,FALSE)),\"No Response\",VLOOKUP(tblSalaries[[#This Row],[Years of Experience]],vlookUpExp!$A$1:$B$56,2,FALSE))","v":"6-10"}]
[null,"ID1576","2012-06-01T04:44:29",11000,11000,"USD",{"$f":"tblSalaries[[#This Row],[clean Salary (in local currency)]]*VLOOKUP(tblSalaries[[#This Row],[Currency]],tblXrate[],2,FALSE)","v":11000},{"$f":"IF($H$1=\"USD\",tblSalaries[[#This Row],[Salary in USD]],tblSalaries[[#This Row],[Salary in USD]]*VLOOKUP($H$1,USDtoUserChoice,2,FALSE))","v":90221.780000000013},"Coordinator","Manager","MÃ©xico",{"$f":"VLOOKUP(tblSalaries[[#This Row],[Where do you work]],tblCountries[[Actual]:[Mapping]],2,FALSE)","v":"Mexico"},"4 to 6 hours a day",2,{"$f":"IF(ISNA(VLOOKUP(tblSalaries[[#This Row],[Years of Experience]],vlookUpExp!$A$1:$B$56,2,FALSE)),\"No Response\",VLOOKUP(tblSalaries[[#This Row],[Years of Experience]],vlookUpExp!$A$1:$B$56,2,FALSE))","v":"0-5"}]
[null,"ID1577","2012-06-01T05:32:31","35000 GBP",35000,"GBP",{"$f":"tblSalaries[[#This Row],[clean Salary (in local currency)]]*VLOOKUP(tblSalaries[[#This Row],[Currency]],tblXrate[],2,FALSE)","v":55166.239522354947},{"$f":"IF($H$1=\"USD\",tblSalaries[[#This Row],[Salary in USD]],tblSalaries[[#This Row],[Salary in USD]]*VLOOKUP($H$1,USDtoUserChoice,2,FALSE))","v":452472.39323756489},"finance director","CXO or Top Mgmt.","UK",{"$f":"VLOOKUP(tblSalaries[[#This Row],[Where do you work]],tblCountries[[Actual]:[Mapping]],2,FALSE)","v":"UK"},"2 to 3 hours per day",30,{"$f":"IF(ISNA(VLOOKUP(tblSalaries[[#This Row],[Years of Experience]],vlookUpExp!$A$1:$B$56,2,FALSE)),\"No Response\",VLOOKUP(tblSalaries[[#This Row],[Years of Experience]],vlookUpExp!$A$1:$B$56,2,FALSE))","v":"26-30"}]
[null,"ID1578","2012-06-01T05:37:32",240000,240000,"PHP",{"$f":"tblSalaries[[#This Row],[clean Salary (in local currency)]]*VLOOKUP(tblSalaries[[#This Row],[Currency]],tblXrate[],2,FALSE)","v":5689.2125418690484},{"$f":"IF($H$1=\"USD\",tblSalaries[[#This Row],[Salary in USD]],tblSalaries[[#This Row],[Salary in USD]]*VLOOKUP($H$1,USDtoUserChoice,2,FALSE))","v":46662.807484159101},"IT Coordinator","Manager","Philippines",{"$f":"VLOOKUP(tblSalaries[[#This Row],[Where do you work]],tblCountries[[Actual]:[Mapping]],2,FALSE)","v":"Philippines"},"4 to 6 hours a day",15,{"$f":"IF(ISNA(VLOOKUP(tblSalaries[[#This Row],[Years of Experience]],vlookUpExp!$A$1:$B$56,2,FALSE)),\"No Response\",VLOOKUP(tblSalaries[[#This Row],[Years of Experience]],vlookUpExp!$A$1:$B$56,2,FALSE))","v":"11-15"}]
[null,"ID1579","2012-06-01T05:52:11",17728.57,17728,"USD",{"$f":"tblSalaries[[#This Row],[clean Salary (in local currency)]]*VLOOKUP(tblSalaries[[#This Row],[Currency]],tblXrate[],2,FALSE)","v":17728},{"$f":"IF($H$1=\"USD\",tblSalaries[[#This Row],[Salary in USD]],tblSalaries[[#This Row],[Salary in USD]]*VLOOKUP($H$1,USDtoUserChoice,2,FALSE))","v":145404.70144},"Financial analyst","Analyst","Mexico",{"$f":"VLOOKUP(tblSalaries[[#This Row],[Where do you work]],tblCountries[[Actual]:[Mapping]],2,FALSE)","v":"Mexico"},"4 to 6 hours a day",3,{"$f":"IF(ISNA(VLOOKUP(tblSalaries[[#This Row],[Years of Experience]],vlookUpExp!$A$1:$B$56,2,FALSE)),\"No Response\",VLOOKUP(tblSalaries[[#This Row],[Years of Experience]],vlookUpExp!$A$1:$B$56,2,FALSE))","v":"0-5"}]
[null,"ID1580","2012-06-01T05:56:20","120000 MAD",120000,"MAD",{"$f":"tblSalaries[[#This Row],[clean Salary (in local currency)]]*VLOOKUP(tblSalaries[[#This Row],[Currency]],tblXrate[],2,FALSE)","v":13745.704467353951},{"$f":"IF($H$1=\"USD\",tblSalaries[[#This Row],[Salary in USD]],tblSalaries[[#This Row],[Salary in USD]]*VLOOKUP($H$1,USDtoUserChoice,2,FALSE))","v":112741.99312714777},"Supply chain Controller","Controller","Morocco",{"$f":"VLOOKUP(tblSalaries[[#This Row],[Where do you work]],tblCountries[[Actual]:[Mapping]],2,FALSE)","v":"Morocco"},"All the 8 hours baby, all the 8!",8,{"$f":"IF(ISNA(VLOOKUP(tblSalaries[[#This Row],[Years of Experience]],vlookUpExp!$A$1:$B$56,2,FALSE)),\"No Response\",VLOOKUP(tblSalaries[[#This Row],[Years of Experience]],vlookUpExp!$A$1:$B$56,2,FALSE))","v":"6-10"}]
[null,"ID1581","2012-06-01T06:17:19",50000,50000,"USD",{"$f":"tblSalaries[[#This Row],[clean Salary (in local currency)]]*VLOOKUP(tblSalaries[[#This Row],[Currency]],tblXrate[],2,FALSE)","v":50000},{"$f":"IF($H$1=\"USD\",tblSalaries[[#This Row],[Salary in USD]],tblSalaries[[#This Row],[Salary in USD]]*VLOOKUP($H$1,USDtoUserChoice,2,FALSE))","v":410099.00000000006},"Staff Accountant","Accountant","USA",{"$f":"VLOOKUP(tblSalaries[[#This Row],[Where do you work]],tblCountries[[Actual]:[Mapping]],2,FALSE)","v":"USA"},"4 to 6 hours a day",15,{"$f":"IF(ISNA(VLOOKUP(tblSalaries[[#This Row],[Years of Experience]],vlookUpExp!$A$1:$B$56,2,FALSE)),\"No Response\",VLOOKUP(tblSalaries[[#This Row],[Years of Experience]],vlookUpExp!$A$1:$B$56,2,FALSE))","v":"11-15"}]
[null,"ID1582","2012-06-01T06:31:49",80000,80000,"CAD",{"$f":"tblSalaries[[#This Row],[clean Salary (in local currency)]]*VLOOKUP(tblSalaries[[#This Row],[Currency]],tblXrate[],2,FALSE)","v":78668.921842426149},{"$f":"IF($H$1=\"USD\",tblSalaries[[#This Row],[Salary in USD]],tblSalaries[[#This Row],[Salary in USD]]*VLOOKUP($H$1,USDtoUserChoice,2,FALSE))","v":645240.9235731425},"Business Operations Analyst","Analyst","Canada",{"$f":"VLOOKUP(tblSalaries[[#This Row],[Where do you work]],tblCountries[[Actual]:[Mapping]],2,FALSE)","v":"Canada"},"4 to 6 hours a day",7,{"$f":"IF(ISNA(VLOOKUP(tblSalaries[[#This Row],[Years of Experience]],vlookUpExp!$A$1:$B$56,2,FALSE)),\"No Response\",VLOOKUP(tblSalaries[[#This Row],[Years of Experience]],vlookUpExp!$A$1:$B$56,2,FALSE))","v":"6-10"}]
[null,"ID1583","2012-06-01T06:53:52",85000,85000,"USD",{"$f":"tblSalaries[[#This Row],[clean Salary (in local currency)]]*VLOOKUP(tblSalaries[[#This Row],[Currency]],tblXrate[],2,FALSE)","v":85000},{"$f":"IF($H$1=\"USD\",tblSalaries[[#This Row],[Salary in USD]],tblSalaries[[#This Row],[Salary in USD]]*VLOOKUP($H$1,USDtoUserChoice,2,FALSE))","v":697168.3},"Sr Report Developer","Reporting","USA",{"$f":"VLOOKUP(tblSalaries[[#This Row],[Where do you work]],tblCountries[[Actual]:[Mapping]],2,FALSE)","v":"USA"},"4 to 6 hours a day",10,{"$f":"IF(ISNA(VLOOKUP(tblSalaries[[#This Row],[Years of Experience]],vlookUpExp!$A$1:$B$56,2,FALSE)),\"No Response\",VLOOKUP(tblSalaries[[#This Row],[Years of Experience]],vlookUpExp!$A$1:$B$56,2,FALSE))","v":"6-10"}]
[null,"ID1584","2012-06-01T07:22:36",100000,100000,"AUD",{"$f":"tblSalaries[[#This Row],[clean Salary (in local currency)]]*VLOOKUP(tblSalaries[[#This Row],[Currency]],tblXrate[],2,FALSE)","v":101990.96564026357},{"$f":"IF($H$1=\"USD\",tblSalaries[[#This Row],[Salary in USD]],tblSalaries[[#This Row],[Salary in USD]]*VLOOKUP($H$1,USDtoUserChoice,2,FALSE))","v":836527.86036212905},"Management Accountant","Manager","Australia",{"$f":"VLOOKUP(tblSalaries[[#This Row],[Where do you work]],tblCountries[[Actual]:[Mapping]],2,FALSE)","v":"Australia"},"4 to 6 hours a day",20,{"$f":"IF(ISNA(VLOOKUP(tblSalaries[[#This Row],[Years of Experience]],vlookUpExp!$A$1:$B$56,2,FALSE)),\"No Response\",VLOOKUP(tblSalaries[[#This Row],[Years of Experience]],vlookUpExp!$A$1:$B$56,2,FALSE))","v":"16-20"}]
[null,"ID1585","2012-06-01T08:06:34","5.65 lac per annum",5650000,"INR",{"$f":"tblSalaries[[#This Row],[clean Salary (in local currency)]]*VLOOKUP(tblSalaries[[#This Row],[Currency]],tblXrate[],2,FALSE)","v":100614.72928405051},{"$f":"IF($H$1=\"USD\",tblSalaries[[#This Row],[Salary in USD]],tblSalaries[[#This Row],[Salary in USD]]*VLOOKUP($H$1,USDtoUserChoice,2,FALSE))","v":825239.99729319673},"MIS","Reporting","India",{"$f":"VLOOKUP(tblSalaries[[#This Row],[Where do you work]],tblCountries[[Actual]:[Mapping]],2,FALSE)","v":"India"},"2 to 3 hours per day",6,{"$f":"IF(ISNA(VLOOKUP(tblSalaries[[#This Row],[Years of Experience]],vlookUpExp!$A$1:$B$56,2,FALSE)),\"No Response\",VLOOKUP(tblSalaries[[#This Row],[Years of Experience]],vlookUpExp!$A$1:$B$56,2,FALSE))","v":"6-10"}]
[null,"ID1586","2012-06-01T08:52:31",85000,85000,"AUD",{"$f":"tblSalaries[[#This Row],[clean Salary (in local currency)]]*VLOOKUP(tblSalaries[[#This Row],[Currency]],tblXrate[],2,FALSE)","v":86692.320794224041},{"$f":"IF($H$1=\"USD\",tblSalaries[[#This Row],[Salary in USD]],tblSalaries[[#This Row],[Salary in USD]]*VLOOKUP($H$1,USDtoUserChoice,2,FALSE))","v":711048.68130780978},"Administrator","Analyst","Australia",{"$f":"VLOOKUP(tblSalaries[[#This Row],[Where do you work]],tblCountries[[Actual]:[Mapping]],2,FALSE)","v":"Australia"},"4 to 6 hours a day",30,{"$f":"IF(ISNA(VLOOKUP(tblSalaries[[#This Row],[Years of Experience]],vlookUpExp!$A$1:$B$56,2,FALSE)),\"No Response\",VLOOKUP(tblSalaries[[#This Row],[Years of Experience]],vlookUpExp!$A$1:$B$56,2,FALSE))","v":"26-30"}]
[null,"ID1587","2012-06-01T10:55:27","AU $120000",120000,"AUD",{"$f":"tblSalaries[[#This Row],[clean Salary (in local currency)]]*VLOOKUP(tblSalaries[[#This Row],[Currency]],tblXrate[],2,FALSE)","v":122389.15876831629},{"$f":"IF($H$1=\"USD\",tblSalaries[[#This Row],[Salary in USD]],tblSalaries[[#This Row],[Salary in USD]]*VLOOKUP($H$1,USDtoUserChoice,2,FALSE))","v":1003833.4324345549},"Reporting Analyst","Analyst","Australia",{"$f":"VLOOKUP(tblSalaries[[#This Row],[Where do you work]],tblCountries[[Actual]:[Mapping]],2,FALSE)","v":"Australia"},"2 to 3 hours per day",5,{"$f":"IF(ISNA(VLOOKUP(tblSalaries[[#This Row],[Years of Experience]],vlookUpExp!$A$1:$B$56,2,FALSE)),\"No Response\",VLOOKUP(tblSalaries[[#This Row],[Years of Experience]],vlookUpExp!$A$1:$B$56,2,FALSE))","v":"0-5"}]
[null,"ID1588","2012-06-01T10:57:59","30000 Rs",360000,"INR",{"$f":"tblSalaries[[#This Row],[clean Salary (in local currency)]]*VLOOKUP(tblSalaries[[#This Row],[Currency]],tblXrate[],2,FALSE)","v":6410.8500074793246},{"$f":"IF($H$1=\"USD\",tblSalaries[[#This Row],[Salary in USD]],tblSalaries[[#This Row],[Salary in USD]]*VLOOKUP($H$1,USDtoUserChoice,2,FALSE))","v":52581.663544345276},"team leader ","Manager","India",{"$f":"VLOOKUP(tblSalaries[[#This Row],[Where do you work]],tblCountries[[Actual]:[Mapping]],2,FALSE)","v":"India"},"2 to 3 hours per day",8,{"$f":"IF(ISNA(VLOOKUP(tblSalaries[[#This Row],[Years of Experience]],vlookUpExp!$A$1:$B$56,2,FALSE)),\"No Response\",VLOOKUP(tblSalaries[[#This Row],[Years of Experience]],vlookUpExp!$A$1:$B$56,2,FALSE))","v":"6-10"}]
[null,"ID1589","2012-06-01T13:03:18",44000,44000,"USD",{"$f":"tblSalaries[[#This Row],[clean Salary (in local currency)]]*VLOOKUP(tblSalaries[[#This Row],[Currency]],tblXrate[],2,FALSE)","v":44000},{"$f":"IF($H$1=\"USD\",tblSalaries[[#This Row],[Salary in USD]],tblSalaries[[#This Row],[Salary in USD]]*VLOOKUP($H$1,USDtoUserChoice,2,FALSE))","v":360887.12000000005},"Quality Assurance Analyst","Analyst","USA",{"$f":"VLOOKUP(tblSalaries[[#This Row],[Where do you work]],tblCountries[[Actual]:[Mapping]],2,FALSE)","v":"USA"},"4 to 6 hours a day",3.5,{"$f":"IF(ISNA(VLOOKUP(tblSalaries[[#This Row],[Years of Experience]],vlookUpExp!$A$1:$B$56,2,FALSE)),\"No Response\",VLOOKUP(tblSalaries[[#This Row],[Years of Experience]],vlookUpExp!$A$1:$B$56,2,FALSE))","v":"0-5"}]
[null,"ID1590","2012-06-01T14:32:41",250000,250000,"INR",{"$f":"tblSalaries[[#This Row],[clean Salary (in local currency)]]*VLOOKUP(tblSalaries[[#This Row],[Currency]],tblXrate[],2,FALSE)","v":4451.9791718606421},{"$f":"IF($H$1=\"USD\",tblSalaries[[#This Row],[Salary in USD]],tblSalaries[[#This Row],[Salary in USD]]*VLOOKUP($H$1,USDtoUserChoice,2,FALSE))","v":36515.044128017551},"Analytics engineer","Engineer","India",{"$f":"VLOOKUP(tblSalaries[[#This Row],[Where do you work]],tblCountries[[Actual]:[Mapping]],2,FALSE)","v":"India"},"4 to 6 hours a day",2.5,{"$f":"IF(ISNA(VLOOKUP(tblSalaries[[#This Row],[Years of Experience]],vlookUpExp!$A$1:$B$56,2,FALSE)),\"No Response\",VLOOKUP(tblSalaries[[#This Row],[Years of Experience]],vlookUpExp!$A$1:$B$56,2,FALSE))","v":"0-5"}]
[null,"ID1591","2012-06-01T14:50:41",4500,4500,"USD",{"$f":"tblSalaries[[#This Row],[clean Salary (in local currency)]]*VLOOKUP(tblSalaries[[#This Row],[Currency]],tblXrate[],2,FALSE)","v":4500},{"$f":"IF($H$1=\"USD\",tblSalaries[[#This Row],[Salary in USD]],tblSalaries[[#This Row],[Salary in USD]]*VLOOKUP($H$1,USDtoUserChoice,2,FALSE))","v":36908.910000000003},"Assistant Manger Service Quality Assurance","Analyst","Pakistan",{"$f":"VLOOKUP(tblSalaries[[#This Row],[Where do you work]],tblCountries[[Actual]:[Mapping]],2,FALSE)","v":"Pakistan"},"4 to 6 hours a day",6,{"$f":"IF(ISNA(VLOOKUP(tblSalaries[[#This Row],[Years of Experience]],vlookUpExp!$A$1:$B$56,2,FALSE)),\"No Response\",VLOOKUP(tblSalaries[[#This Row],[Years of Experience]],vlookUpExp!$A$1:$B$56,2,FALSE))","v":"6-10"}]
[null,"ID1592","2012-06-01T15:09:27",1700000,1700000,"INR",{"$f":"tblSalaries[[#This Row],[clean Salary (in local currency)]]*VLOOKUP(tblSalaries[[#This Row],[Currency]],tblXrate[],2,FALSE)","v":30273.458368652366},{"$f":"IF($H$1=\"USD\",tblSalaries[[#This Row],[Salary in USD]],tblSalaries[[#This Row],[Salary in USD]]*VLOOKUP($H$1,USDtoUserChoice,2,FALSE))","v":248302.30007051936},"AVP","CXO or Top Mgmt.","India",{"$f":"VLOOKUP(tblSalaries[[#This Row],[Where do you work]],tblCountries[[Actual]:[Mapping]],2,FALSE)","v":"India"},"4 to 6 hours a day",6,{"$f":"IF(ISNA(VLOOKUP(tblSalaries[[#This Row],[Years of Experience]],vlookUpExp!$A$1:$B$56,2,FALSE)),\"No Response\",VLOOKUP(tblSalaries[[#This Row],[Years of Experience]],vlookUpExp!$A$1:$B$56,2,FALSE))","v":"6-10"}]
[null,"ID1593","2012-06-01T15:39:20","U$52,000/annual",52000,"USD",{"$f":"tblSalaries[[#This Row],[clean Salary (in local currency)]]*VLOOKUP(tblSalaries[[#This Row],[Currency]],tblXrate[],2,FALSE)","v":52000},{"$f":"IF($H$1=\"USD\",tblSalaries[[#This Row],[Salary in USD]],tblSalaries[[#This Row],[Salary in USD]]*VLOOKUP($H$1,USDtoUserChoice,2,FALSE))","v":426502.96},"Planner","Analyst","USA",{"$f":"VLOOKUP(tblSalaries[[#This Row],[Where do you work]],tblCountries[[Actual]:[Mapping]],2,FALSE)","v":"USA"},"All the 8 hours baby, all the 8!",5,{"$f":"IF(ISNA(VLOOKUP(tblSalaries[[#This Row],[Years of Experience]],vlookUpExp!$A$1:$B$56,2,FALSE)),\"No Response\",VLOOKUP(tblSalaries[[#This Row],[Years of Experience]],vlookUpExp!$A$1:$B$56,2,FALSE))","v":"0-5"}]
[null,"ID1594","2012-06-01T18:08:07","75000 $",75000,"USD",{"$f":"tblSalaries[[#This Row],[clean Salary (in local currency)]]*VLOOKUP(tblSalaries[[#This Row],[Currency]],tblXrate[],2,FALSE)","v":75000},{"$f":"IF($H$1=\"USD\",tblSalaries[[#This Row],[Salary in USD]],tblSalaries[[#This Row],[Salary in USD]]*VLOOKUP($H$1,USDtoUserChoice,2,FALSE))","v":615148.5},"Consultant","Consultant","Germany",{"$f":"VLOOKUP(tblSalaries[[#This Row],[Where do you work]],tblCountries[[Actual]:[Mapping]],2,FALSE)","v":"Germany"},"2 to 3 hours per day",9,{"$f":"IF(ISNA(VLOOKUP(tblSalaries[[#This Row],[Years of Experience]],vlookUpExp!$A$1:$B$56,2,FALSE)),\"No Response\",VLOOKUP(tblSalaries[[#This Row],[Years of Experience]],vlookUpExp!$A$1:$B$56,2,FALSE))","v":"6-10"}]
[null,"ID1595","2012-06-01T18:18:31","Rs 1000000",1000000,"INR",{"$f":"tblSalaries[[#This Row],[clean Salary (in local currency)]]*VLOOKUP(tblSalaries[[#This Row],[Currency]],tblXrate[],2,FALSE)","v":17807.916687442568},{"$f":"IF($H$1=\"USD\",tblSalaries[[#This Row],[Salary in USD]],tblSalaries[[#This Row],[Salary in USD]]*VLOOKUP($H$1,USDtoUserChoice,2,FALSE))","v":146060.1765120702},"Senior Analyst","Analyst","India",{"$f":"VLOOKUP(tblSalaries[[#This Row],[Where do you work]],tblCountries[[Actual]:[Mapping]],2,FALSE)","v":"India"},"All the 8 hours baby, all the 8!",4,{"$f":"IF(ISNA(VLOOKUP(tblSalaries[[#This Row],[Years of Experience]],vlookUpExp!$A$1:$B$56,2,FALSE)),\"No Response\",VLOOKUP(tblSalaries[[#This Row],[Years of Experience]],vlookUpExp!$A$1:$B$56,2,FALSE))","v":"0-5"}]
[null,"ID1596","2012-06-01T18:58:42",177600,177600,"USD",{"$f":"tblSalaries[[#This Row],[clean Salary (in local currency)]]*VLOOKUP(tblSalaries[[#This Row],[Currency]],tblXrate[],2,FALSE)","v":177600},{"$f":"IF($H$1=\"USD\",tblSalaries[[#This Row],[Salary in USD]],tblSalaries[[#This Row],[Salary in USD]]*VLOOKUP($H$1,USDtoUserChoice,2,FALSE))","v":1456671.648},"Accountant","Accountant","Lesotho",{"$f":"VLOOKUP(tblSalaries[[#This Row],[Where do you work]],tblCountries[[Actual]:[Mapping]],2,FALSE)","v":"Lesotho"},"4 to 6 hours a day",6,{"$f":"IF(ISNA(VLOOKUP(tblSalaries[[#This Row],[Years of Experience]],vlookUpExp!$A$1:$B$56,2,FALSE)),\"No Response\",VLOOKUP(tblSalaries[[#This Row],[Years of Experience]],vlookUpExp!$A$1:$B$56,2,FALSE))","v":"6-10"}]
[null,"ID1597","2012-06-01T19:42:46",650000,650000,"INR",{"$f":"tblSalaries[[#This Row],[clean Salary (in local currency)]]*VLOOKUP(tblSalaries[[#This Row],[Currency]],tblXrate[],2,FALSE)","v":11575.14584683767},{"$f":"IF($H$1=\"USD\",tblSalaries[[#This Row],[Salary in USD]],tblSalaries[[#This Row],[Salary in USD]]*VLOOKUP($H$1,USDtoUserChoice,2,FALSE))","v":94939.114732845643},"Associate","Analyst","India",{"$f":"VLOOKUP(tblSalaries[[#This Row],[Where do you work]],tblCountries[[Actual]:[Mapping]],2,FALSE)","v":"India"},"4 to 6 hours a day",5,{"$f":"IF(ISNA(VLOOKUP(tblSalaries[[#This Row],[Years of Experience]],vlookUpExp!$A$1:$B$56,2,FALSE)),\"No Response\",VLOOKUP(tblSalaries[[#This Row],[Years of Experience]],vlookUpExp!$A$1:$B$56,2,FALSE))","v":"0-5"}]
[null,"ID1598","2012-06-01T19:46:33","21000EUR",21000,"EUR",{"$f":"tblSalaries[[#This Row],[clean Salary (in local currency)]]*VLOOKUP(tblSalaries[[#This Row],[Currency]],tblXrate[],2,FALSE)","v":26678.388218823762},{"$f":"IF($H$1=\"USD\",tblSalaries[[#This Row],[Salary in USD]],tblSalaries[[#This Row],[Salary in USD]]*VLOOKUP($H$1,USDtoUserChoice,2,FALSE))","v":218815.60660302814},"Coordenador PeÃ§as Grupo","Manager","Portugal",{"$f":"VLOOKUP(tblSalaries[[#This Row],[Where do you work]],tblCountries[[Actual]:[Mapping]],2,FALSE)","v":"Portugal"},"4 to 6 hours a day",10,{"$f":"IF(ISNA(VLOOKUP(tblSalaries[[#This Row],[Years of Experience]],vlookUpExp!$A$1:$B$56,2,FALSE)),\"No Response\",VLOOKUP(tblSalaries[[#This Row],[Years of Experience]],vlookUpExp!$A$1:$B$56,2,FALSE))","v":"6-10"}]
[null,"ID1600","2012-06-01T19:57:45","Â£80000",80000,"GBP",{"$f":"tblSalaries[[#This Row],[clean Salary (in local currency)]]*VLOOKUP(tblSalaries[[#This Row],[Currency]],tblXrate[],2,FALSE)","v":126094.26176538273},{"$f":"IF($H$1=\"USD\",tblSalaries[[#This Row],[Salary in USD]],tblSalaries[[#This Row],[Salary in USD]]*VLOOKUP($H$1,USDtoUserChoice,2,FALSE))","v":1034222.6131144339},"Owner of Business Improvement Consultancy","Consultant","UK",{"$f":"VLOOKUP(tblSalaries[[#This Row],[Where do you work]],tblCountries[[Actual]:[Mapping]],2,FALSE)","v":"UK"},"4 to 6 hours a day",12,{"$f":"IF(ISNA(VLOOKUP(tblSalaries[[#This Row],[Years of Experience]],vlookUpExp!$A$1:$B$56,2,FALSE)),\"No Response\",VLOOKUP(tblSalaries[[#This Row],[Years of Experience]],vlookUpExp!$A$1:$B$56,2,FALSE))","v":"11-15"}]
[null,"ID1601","2012-06-01T20:12:22","500 USD",6000,"USD",{"$f":"tblSalaries[[#This Row],[clean Salary (in local currency)]]*VLOOKUP(tblSalaries[[#This Row],[Currency]],tblXrate[],2,FALSE)","v":6000},{"$f":"IF($H$1=\"USD\",tblSalaries[[#This Row],[Salary in USD]],tblSalaries[[#This Row],[Salary in USD]]*VLOOKUP($H$1,USDtoUserChoice,2,FALSE))","v":49211.880000000005},"Business Analyst","Analyst","India",{"$f":"VLOOKUP(tblSalaries[[#This Row],[Where do you work]],tblCountries[[Actual]:[Mapping]],2,FALSE)","v":"India"},"4 to 6 hours a day",2,{"$f":"IF(ISNA(VLOOKUP(tblSalaries[[#This Row],[Years of Experience]],vlookUpExp!$A$1:$B$56,2,FALSE)),\"No Response\",VLOOKUP(tblSalaries[[#This Row],[Years of Experience]],vlookUpExp!$A$1:$B$56,2,FALSE))","v":"0-5"}]
[null,"ID1602","2012-06-01T20:27:23",10000,10000,"USD",{"$f":"tblSalaries[[#This Row],[clean Salary (in local currency)]]*VLOOKUP(tblSalaries[[#This Row],[Currency]],tblXrate[],2,FALSE)","v":10000},{"$f":"IF($H$1=\"USD\",tblSalaries[[#This Row],[Salary in USD]],tblSalaries[[#This Row],[Salary in USD]]*VLOOKUP($H$1,USDtoUserChoice,2,FALSE))","v":82019.8},"MIS","Reporting","India",{"$f":"VLOOKUP(tblSalaries[[#This Row],[Where do you work]],tblCountries[[Actual]:[Mapping]],2,FALSE)","v":"India"},"All the 8 hours baby, all the 8!",6,{"$f":"IF(ISNA(VLOOKUP(tblSalaries[[#This Row],[Years of Experience]],vlookUpExp!$A$1:$B$56,2,FALSE)),\"No Response\",VLOOKUP(tblSalaries[[#This Row],[Years of Experience]],vlookUpExp!$A$1:$B$56,2,FALSE))","v":"6-10"}]
[null,"ID1603","2012-06-01T20:37:53",50000,50000,"USD",{"$f":"tblSalaries[[#This Row],[clean Salary (in local currency)]]*VLOOKUP(tblSalaries[[#This Row],[Currency]],tblXrate[],2,FALSE)","v":50000},{"$f":"IF($H$1=\"USD\",tblSalaries[[#This Row],[Salary in USD]],tblSalaries[[#This Row],[Salary in USD]]*VLOOKUP($H$1,USDtoUserChoice,2,FALSE))","v":410099.00000000006},"Sales Operations Analyst","Analyst","USA",{"$f":"VLOOKUP(tblSalaries[[#This Row],[Where do you work]],tblCountries[[Actual]:[Mapping]],2,FALSE)","v":"USA"},"All the 8 hours baby, all the 8!",2,{"$f":"IF(ISNA(VLOOKUP(tblSalaries[[#This Row],[Years of Experience]],vlookUpExp!$A$1:$B$56,2,FALSE)),\"No Response\",VLOOKUP(tblSalaries[[#This Row],[Years of Experience]],vlookUpExp!$A$1:$B$56,2,FALSE))","v":"0-5"}]
[null,"ID1604","2012-06-01T20:38:57",10000,10000,"USD",{"$f":"tblSalaries[[#This Row],[clean Salary (in local currency)]]*VLOOKUP(tblSalaries[[#This Row],[Currency]],tblXrate[],2,FALSE)","v":10000},{"$f":"IF($H$1=\"USD\",tblSalaries[[#This Row],[Salary in USD]],tblSalaries[[#This Row],[Salary in USD]]*VLOOKUP($H$1,USDtoUserChoice,2,FALSE))","v":82019.8},"dgm","Manager","India",{"$f":"VLOOKUP(tblSalaries[[#This Row],[Where do you work]],tblCountries[[Actual]:[Mapping]],2,FALSE)","v":"India"},"All the 8 hours baby, all the 8!",12,{"$f":"IF(ISNA(VLOOKUP(tblSalaries[[#This Row],[Years of Experience]],vlookUpExp!$A$1:$B$56,2,FALSE)),\"No Response\",VLOOKUP(tblSalaries[[#This Row],[Years of Experience]],vlookUpExp!$A$1:$B$56,2,FALSE))","v":"11-15"}]
[null,"ID1605","2012-06-01T20:53:08",50000,50000,"USD",{"$f":"tblSalaries[[#This Row],[clean Salary (in local currency)]]*VLOOKUP(tblSalaries[[#This Row],[Currency]],tblXrate[],2,FALSE)","v":50000},{"$f":"IF($H$1=\"USD\",tblSalaries[[#This Row],[Salary in USD]],tblSalaries[[#This Row],[Salary in USD]]*VLOOKUP($H$1,USDtoUserChoice,2,FALSE))","v":410099.00000000006},"Catalog Circulation Analyst","Analyst","USA",{"$f":"VLOOKUP(tblSalaries[[#This Row],[Where do you work]],tblCountries[[Actual]:[Mapping]],2,FALSE)","v":"USA"},"All the 8 hours baby, all the 8!",12,{"$f":"IF(ISNA(VLOOKUP(tblSalaries[[#This Row],[Years of Experience]],vlookUpExp!$A$1:$B$56,2,FALSE)),\"No Response\",VLOOKUP(tblSalaries[[#This Row],[Years of Experience]],vlookUpExp!$A$1:$B$56,2,FALSE))","v":"11-15"}]
[null,"ID1606","2012-06-01T22:20:26","20000 $",20000,"USD",{"$f":"tblSalaries[[#This Row],[clean Salary (in local currency)]]*VLOOKUP(tblSalaries[[#This Row],[Currency]],tblXrate[],2,FALSE)","v":20000},{"$f":"IF($H$1=\"USD\",tblSalaries[[#This Row],[Salary in USD]],tblSalaries[[#This Row],[Salary in USD]]*VLOOKUP($H$1,USDtoUserChoice,2,FALSE))","v":164039.6},"Manager","Manager","India",{"$f":"VLOOKUP(tblSalaries[[#This Row],[Where do you work]],tblCountries[[Actual]:[Mapping]],2,FALSE)","v":"India"},"4 to 6 hours a day",1,{"$f":"IF(ISNA(VLOOKUP(tblSalaries[[#This Row],[Years of Experience]],vlookUpExp!$A$1:$B$56,2,FALSE)),\"No Response\",VLOOKUP(tblSalaries[[#This Row],[Years of Experience]],vlookUpExp!$A$1:$B$56,2,FALSE))","v":"0-5"}]
[null,"ID1607","2012-06-01T23:29:43","Â£20000",20000,"GBP",{"$f":"tblSalaries[[#This Row],[clean Salary (in local currency)]]*VLOOKUP(tblSalaries[[#This Row],[Currency]],tblXrate[],2,FALSE)","v":31523.565441345683},{"$f":"IF($H$1=\"USD\",tblSalaries[[#This Row],[Salary in USD]],tblSalaries[[#This Row],[Salary in USD]]*VLOOKUP($H$1,USDtoUserChoice,2,FALSE))","v":258555.65327860849},"Operations Analyst","Analyst","UK",{"$f":"VLOOKUP(tblSalaries[[#This Row],[Where do you work]],tblCountries[[Actual]:[Mapping]],2,FALSE)","v":"UK"},"All the 8 hours baby, all the 8!",3,{"$f":"IF(ISNA(VLOOKUP(tblSalaries[[#This Row],[Years of Experience]],vlookUpExp!$A$1:$B$56,2,FALSE)),\"No Response\",VLOOKUP(tblSalaries[[#This Row],[Years of Experience]],vlookUpExp!$A$1:$B$56,2,FALSE))","v":"0-5"}]
[null,"ID1608","2012-06-02T01:29:04","â‚¬ 50k",50000,"EUR",{"$f":"tblSalaries[[#This Row],[clean Salary (in local currency)]]*VLOOKUP(tblSalaries[[#This Row],[Currency]],tblXrate[],2,FALSE)","v":63519.971949580387},{"$f":"IF($H$1=\"USD\",tblSalaries[[#This Row],[Salary in USD]],tblSalaries[[#This Row],[Salary in USD]]*VLOOKUP($H$1,USDtoUserChoice,2,FALSE))","v":520989.5395310194},"Controller","Controller","Netherlands",{"$f":"VLOOKUP(tblSalaries[[#This Row],[Where do you work]],tblCountries[[Actual]:[Mapping]],2,FALSE)","v":"Netherlands"},"4 to 6 hours a day",10,{"$f":"IF(ISNA(VLOOKUP(tblSalaries[[#This Row],[Years of Experience]],vlookUpExp!$A$1:$B$56,2,FALSE)),\"No Response\",VLOOKUP(tblSalaries[[#This Row],[Years of Experience]],vlookUpExp!$A$1:$B$56,2,FALSE))","v":"6-10"}]
[null,"ID1609","2012-06-02T01:43:24",2300,27600,"EUR",{"$f":"tblSalaries[[#This Row],[clean Salary (in local currency)]]*VLOOKUP(tblSalaries[[#This Row],[Currency]],tblXrate[],2,FALSE)","v":35063.024516168378},{"$f":"IF($H$1=\"USD\",tblSalaries[[#This Row],[Salary in USD]],tblSalaries[[#This Row],[Salary in USD]]*VLOOKUP($H$1,USDtoUserChoice,2,FALSE))","v":287586.22582112276},"controller","Controller","Hungary",{"$f":"VLOOKUP(tblSalaries[[#This Row],[Where do you work]],tblCountries[[Actual]:[Mapping]],2,FALSE)","v":"Hungary"},"All the 8 hours baby, all the 8!",15,{"$f":"IF(ISNA(VLOOKUP(tblSalaries[[#This Row],[Years of Experience]],vlookUpExp!$A$1:$B$56,2,FALSE)),\"No Response\",VLOOKUP(tblSalaries[[#This Row],[Years of Experience]],vlookUpExp!$A$1:$B$56,2,FALSE))","v":"11-15"}]
[null,"ID1610","2012-06-02T02:24:39",55000,55000,"USD",{"$f":"tblSalaries[[#This Row],[clean Salary (in local currency)]]*VLOOKUP(tblSalaries[[#This Row],[Currency]],tblXrate[],2,FALSE)","v":55000},{"$f":"IF($H$1=\"USD\",tblSalaries[[#This Row],[Salary in USD]],tblSalaries[[#This Row],[Salary in USD]]*VLOOKUP($H$1,USDtoUserChoice,2,FALSE))","v":451108.9},"Business Analyst","Analyst","USA",{"$f":"VLOOKUP(tblSalaries[[#This Row],[Where do you work]],tblCountries[[Actual]:[Mapping]],2,FALSE)","v":"USA"},"4 to 6 hours a day",2,{"$f":"IF(ISNA(VLOOKUP(tblSalaries[[#This Row],[Years of Experience]],vlookUpExp!$A$1:$B$56,2,FALSE)),\"No Response\",VLOOKUP(tblSalaries[[#This Row],[Years of Experience]],vlookUpExp!$A$1:$B$56,2,FALSE))","v":"0-5"}]
[null,"ID1611","2012-06-02T02:28:30",38000,38000,"USD",{"$f":"tblSalaries[[#This Row],[clean Salary (in local currency)]]*VLOOKUP(tblSalaries[[#This Row],[Currency]],tblXrate[],2,FALSE)","v":38000},{"$f":"IF($H$1=\"USD\",tblSalaries[[#This Row],[Salary in USD]],tblSalaries[[#This Row],[Salary in USD]]*VLOOKUP($H$1,USDtoUserChoice,2,FALSE))","v":311675.24000000005},"Business Analyst","Analyst","USA",{"$f":"VLOOKUP(tblSalaries[[#This Row],[Where do you work]],tblCountries[[Actual]:[Mapping]],2,FALSE)","v":"USA"},"All the 8 hours baby, all the 8!",1,{"$f":"IF(ISNA(VLOOKUP(tblSalaries[[#This Row],[Years of Experience]],vlookUpExp!$A$1:$B$56,2,FALSE)),\"No Response\",VLOOKUP(tblSalaries[[#This Row],[Years of Experience]],vlookUpExp!$A$1:$B$56,2,FALSE))","v":"0-5"}]
[null,"ID1612","2012-06-02T03:08:50",1800000,1800000,"INR",{"$f":"tblSalaries[[#This Row],[clean Salary (in local currency)]]*VLOOKUP(tblSalaries[[#This Row],[Currency]],tblXrate[],2,FALSE)","v":32054.250037396621},{"$f":"IF($H$1=\"USD\",tblSalaries[[#This Row],[Salary in USD]],tblSalaries[[#This Row],[Salary in USD]]*VLOOKUP($H$1,USDtoUserChoice,2,FALSE))","v":262908.31772172637},"analyst","Analyst","India",{"$f":"VLOOKUP(tblSalaries[[#This Row],[Where do you work]],tblCountries[[Actual]:[Mapping]],2,FALSE)","v":"India"},"All the 8 hours baby, all the 8!",1,{"$f":"IF(ISNA(VLOOKUP(tblSalaries[[#This Row],[Years of Experience]],vlookUpExp!$A$1:$B$56,2,FALSE)),\"No Response\",VLOOKUP(tblSalaries[[#This Row],[Years of Experience]],vlookUpExp!$A$1:$B$56,2,FALSE))","v":"0-5"}]
[null,"ID1613","2012-06-02T03:13:57",35500,35500,"USD",{"$f":"tblSalaries[[#This Row],[clean Salary (in local currency)]]*VLOOKUP(tblSalaries[[#This Row],[Currency]],tblXrate[],2,FALSE)","v":35500},{"$f":"IF($H$1=\"USD\",tblSalaries[[#This Row],[Salary in USD]],tblSalaries[[#This Row],[Salary in USD]]*VLOOKUP($H$1,USDtoUserChoice,2,FALSE))","v":291170.29000000004},"SAS Adminstrator","Analyst","USA",{"$f":"VLOOKUP(tblSalaries[[#This Row],[Where do you work]],tblCountries[[Actual]:[Mapping]],2,FALSE)","v":"USA"},"4 to 6 hours a day",20,{"$f":"IF(ISNA(VLOOKUP(tblSalaries[[#This Row],[Years of Experience]],vlookUpExp!$A$1:$B$56,2,FALSE)),\"No Response\",VLOOKUP(tblSalaries[[#This Row],[Years of Experience]],vlookUpExp!$A$1:$B$56,2,FALSE))","v":"16-20"}]
[null,"ID1614","2012-06-02T03:23:09",62000,62000,"USD",{"$f":"tblSalaries[[#This Row],[clean Salary (in local currency)]]*VLOOKUP(tblSalaries[[#This Row],[Currency]],tblXrate[],2,FALSE)","v":62000},{"$f":"IF($H$1=\"USD\",tblSalaries[[#This Row],[Salary in USD]],tblSalaries[[#This Row],[Salary in USD]]*VLOOKUP($H$1,USDtoUserChoice,2,FALSE))","v":508522.76000000007},"Financial Analyst","Analyst","USA",{"$f":"VLOOKUP(tblSalaries[[#This Row],[Where do you work]],tblCountries[[Actual]:[Mapping]],2,FALSE)","v":"USA"},"2 to 3 hours per day",5,{"$f":"IF(ISNA(VLOOKUP(tblSalaries[[#This Row],[Years of Experience]],vlookUpExp!$A$1:$B$56,2,FALSE)),\"No Response\",VLOOKUP(tblSalaries[[#This Row],[Years of Experience]],vlookUpExp!$A$1:$B$56,2,FALSE))","v":"0-5"}]
[null,"ID1615","2012-06-02T03:29:19","Â£21500Uk",21500,"GBP",{"$f":"tblSalaries[[#This Row],[clean Salary (in local currency)]]*VLOOKUP(tblSalaries[[#This Row],[Currency]],tblXrate[],2,FALSE)","v":33887.832849446611},{"$f":"IF($H$1=\"USD\",tblSalaries[[#This Row],[Salary in USD]],tblSalaries[[#This Row],[Salary in USD]]*VLOOKUP($H$1,USDtoUserChoice,2,FALSE))","v":277947.32727450412},"Data Analyst","Analyst","UK",{"$f":"VLOOKUP(tblSalaries[[#This Row],[Where do you work]],tblCountries[[Actual]:[Mapping]],2,FALSE)","v":"UK"},"All the 8 hours baby, all the 8!",1,{"$f":"IF(ISNA(VLOOKUP(tblSalaries[[#This Row],[Years of Experience]],vlookUpExp!$A$1:$B$56,2,FALSE)),\"No Response\",VLOOKUP(tblSalaries[[#This Row],[Years of Experience]],vlookUpExp!$A$1:$B$56,2,FALSE))","v":"0-5"}]
[null,"ID1616","2012-06-02T04:49:42",60000,60000,"USD",{"$f":"tblSalaries[[#This Row],[clean Salary (in local currency)]]*VLOOKUP(tblSalaries[[#This Row],[Currency]],tblXrate[],2,FALSE)","v":60000},{"$f":"IF($H$1=\"USD\",tblSalaries[[#This Row],[Salary in USD]],tblSalaries[[#This Row],[Salary in USD]]*VLOOKUP($H$1,USDtoUserChoice,2,FALSE))","v":492118.80000000005},"Data Analyst","Analyst","USA",{"$f":"VLOOKUP(tblSalaries[[#This Row],[Where do you work]],tblCountries[[Actual]:[Mapping]],2,FALSE)","v":"USA"},"2 to 3 hours per day",1,{"$f":"IF(ISNA(VLOOKUP(tblSalaries[[#This Row],[Years of Experience]],vlookUpExp!$A$1:$B$56,2,FALSE)),\"No Response\",VLOOKUP(tblSalaries[[#This Row],[Years of Experience]],vlookUpExp!$A$1:$B$56,2,FALSE))","v":"0-5"}]
[null,"ID1617","2012-06-02T06:21:45",32884.800000000003,32884,"USD",{"$f":"tblSalaries[[#This Row],[clean Salary (in local currency)]]*VLOOKUP(tblSalaries[[#This Row],[Currency]],tblXrate[],2,FALSE)","v":32884},{"$f":"IF($H$1=\"USD\",tblSalaries[[#This Row],[Salary in USD]],tblSalaries[[#This Row],[Salary in USD]]*VLOOKUP($H$1,USDtoUserChoice,2,FALSE))","v":269713.91032000002},"Administrative Assistant","Analyst","USA",{"$f":"VLOOKUP(tblSalaries[[#This Row],[Where do you work]],tblCountries[[Actual]:[Mapping]],2,FALSE)","v":"USA"},"All the 8 hours baby, all the 8!",10,{"$f":"IF(ISNA(VLOOKUP(tblSalaries[[#This Row],[Years of Experience]],vlookUpExp!$A$1:$B$56,2,FALSE)),\"No Response\",VLOOKUP(tblSalaries[[#This Row],[Years of Experience]],vlookUpExp!$A$1:$B$56,2,FALSE))","v":"6-10"}]
[null,"ID1618","2012-06-02T06:31:21","42000 US",42000,"USD",{"$f":"tblSalaries[[#This Row],[clean Salary (in local currency)]]*VLOOKUP(tblSalaries[[#This Row],[Currency]],tblXrate[],2,FALSE)","v":42000},{"$f":"IF($H$1=\"USD\",tblSalaries[[#This Row],[Salary in USD]],tblSalaries[[#This Row],[Salary in USD]]*VLOOKUP($H$1,USDtoUserChoice,2,FALSE))","v":344483.16000000003},"production clerk","Analyst","USA",{"$f":"VLOOKUP(tblSalaries[[#This Row],[Where do you work]],tblCountries[[Actual]:[Mapping]],2,FALSE)","v":"USA"},"4 to 6 hours a day",2,{"$f":"IF(ISNA(VLOOKUP(tblSalaries[[#This Row],[Years of Experience]],vlookUpExp!$A$1:$B$56,2,FALSE)),\"No Response\",VLOOKUP(tblSalaries[[#This Row],[Years of Experience]],vlookUpExp!$A$1:$B$56,2,FALSE))","v":"0-5"}]
[null,"ID1619","2012-06-02T06:43:25",68000,68000,"USD",{"$f":"tblSalaries[[#This Row],[clean Salary (in local currency)]]*VLOOKUP(tblSalaries[[#This Row],[Currency]],tblXrate[],2,FALSE)","v":68000},{"$f":"IF($H$1=\"USD\",tblSalaries[[#This Row],[Salary in USD]],tblSalaries[[#This Row],[Salary in USD]]*VLOOKUP($H$1,USDtoUserChoice,2,FALSE))","v":557734.64},"Supply Chain Analyst","Analyst","USA",{"$f":"VLOOKUP(tblSalaries[[#This Row],[Where do you work]],tblCountries[[Actual]:[Mapping]],2,FALSE)","v":"USA"},"4 to 6 hours a day",12,{"$f":"IF(ISNA(VLOOKUP(tblSalaries[[#This Row],[Years of Experience]],vlookUpExp!$A$1:$B$56,2,FALSE)),\"No Response\",VLOOKUP(tblSalaries[[#This Row],[Years of Experience]],vlookUpExp!$A$1:$B$56,2,FALSE))","v":"11-15"}]
[null,"ID1620","2012-06-02T07:42:02",85000,85000,"USD",{"$f":"tblSalaries[[#This Row],[clean Salary (in local currency)]]*VLOOKUP(tblSalaries[[#This Row],[Currency]],tblXrate[],2,FALSE)","v":85000},{"$f":"IF($H$1=\"USD\",tblSalaries[[#This Row],[Salary in USD]],tblSalaries[[#This Row],[Salary in USD]]*VLOOKUP($H$1,USDtoUserChoice,2,FALSE))","v":697168.3},"Senior Accountant","Accountant","USA",{"$f":"VLOOKUP(tblSalaries[[#This Row],[Where do you work]],tblCountries[[Actual]:[Mapping]],2,FALSE)","v":"USA"},"2 to 3 hours per day",8,{"$f":"IF(ISNA(VLOOKUP(tblSalaries[[#This Row],[Years of Experience]],vlookUpExp!$A$1:$B$56,2,FALSE)),\"No Response\",VLOOKUP(tblSalaries[[#This Row],[Years of Experience]],vlookUpExp!$A$1:$B$56,2,FALSE))","v":"6-10"}]
[null,"ID1621","2012-06-02T11:11:18","U$13,000",13000,"USD",{"$f":"tblSalaries[[#This Row],[clean Salary (in local currency)]]*VLOOKUP(tblSalaries[[#This Row],[Currency]],tblXrate[],2,FALSE)","v":13000},{"$f":"IF($H$1=\"USD\",tblSalaries[[#This Row],[Salary in USD]],tblSalaries[[#This Row],[Salary in USD]]*VLOOKUP($H$1,USDtoUserChoice,2,FALSE))","v":106625.74},"Dss Analyst","Analyst","Brazil",{"$f":"VLOOKUP(tblSalaries[[#This Row],[Where do you work]],tblCountries[[Actual]:[Mapping]],2,FALSE)","v":"Brazil"},"All the 8 hours baby, all the 8!",4,{"$f":"IF(ISNA(VLOOKUP(tblSalaries[[#This Row],[Years of Experience]],vlookUpExp!$A$1:$B$56,2,FALSE)),\"No Response\",VLOOKUP(tblSalaries[[#This Row],[Years of Experience]],vlookUpExp!$A$1:$B$56,2,FALSE))","v":"0-5"}]
[null,"ID1623","2012-06-02T13:58:46",15000,15000,"USD",{"$f":"tblSalaries[[#This Row],[clean Salary (in local currency)]]*VLOOKUP(tblSalaries[[#This Row],[Currency]],tblXrate[],2,FALSE)","v":15000},{"$f":"IF($H$1=\"USD\",tblSalaries[[#This Row],[Salary in USD]],tblSalaries[[#This Row],[Salary in USD]]*VLOOKUP($H$1,USDtoUserChoice,2,FALSE))","v":123029.70000000001},"Business Analysis & MIS ","Analyst","India",{"$f":"VLOOKUP(tblSalaries[[#This Row],[Where do you work]],tblCountries[[Actual]:[Mapping]],2,FALSE)","v":"India"},"4 to 6 hours a day",5,{"$f":"IF(ISNA(VLOOKUP(tblSalaries[[#This Row],[Years of Experience]],vlookUpExp!$A$1:$B$56,2,FALSE)),\"No Response\",VLOOKUP(tblSalaries[[#This Row],[Years of Experience]],vlookUpExp!$A$1:$B$56,2,FALSE))","v":"0-5"}]
[null,"ID1624","2012-06-02T17:34:20","50000USD",50000,"USD",{"$f":"tblSalaries[[#This Row],[clean Salary (in local currency)]]*VLOOKUP(tblSalaries[[#This Row],[Currency]],tblXrate[],2,FALSE)","v":50000},{"$f":"IF($H$1=\"USD\",tblSalaries[[#This Row],[Salary in USD]],tblSalaries[[#This Row],[Salary in USD]]*VLOOKUP($H$1,USDtoUserChoice,2,FALSE))","v":410099.00000000006},"Associate Vice President","CXO or Top Mgmt.","India",{"$f":"VLOOKUP(tblSalaries[[#This Row],[Where do you work]],tblCountries[[Actual]:[Mapping]],2,FALSE)","v":"India"},"1 or 2 hours a day",8,{"$f":"IF(ISNA(VLOOKUP(tblSalaries[[#This Row],[Years of Experience]],vlookUpExp!$A$1:$B$56,2,FALSE)),\"No Response\",VLOOKUP(tblSalaries[[#This Row],[Years of Experience]],vlookUpExp!$A$1:$B$56,2,FALSE))","v":"6-10"}]
[null,"ID1625","2012-06-02T18:47:32",7000,7000,"USD",{"$f":"tblSalaries[[#This Row],[clean Salary (in local currency)]]*VLOOKUP(tblSalaries[[#This Row],[Currency]],tblXrate[],2,FALSE)","v":7000},{"$f":"IF($H$1=\"USD\",tblSalaries[[#This Row],[Salary in USD]],tblSalaries[[#This Row],[Salary in USD]]*VLOOKUP($H$1,USDtoUserChoice,2,FALSE))","v":57413.860000000008},"M.I.S","Reporting","India",{"$f":"VLOOKUP(tblSalaries[[#This Row],[Where do you work]],tblCountries[[Actual]:[Mapping]],2,FALSE)","v":"India"},"4 to 6 hours a day",1,{"$f":"IF(ISNA(VLOOKUP(tblSalaries[[#This Row],[Years of Experience]],vlookUpExp!$A$1:$B$56,2,FALSE)),\"No Response\",VLOOKUP(tblSalaries[[#This Row],[Years of Experience]],vlookUpExp!$A$1:$B$56,2,FALSE))","v":"0-5"}]
[null,"ID1626","2012-06-02T19:14:35",140000,140000,"USD",{"$f":"tblSalaries[[#This Row],[clean Salary (in local currency)]]*VLOOKUP(tblSalaries[[#This Row],[Currency]],tblXrate[],2,FALSE)","v":140000},{"$f":"IF($H$1=\"USD\",tblSalaries[[#This Row],[Salary in USD]],tblSalaries[[#This Row],[Salary in USD]]*VLOOKUP($H$1,USDtoUserChoice,2,FALSE))","v":1148277.2000000002},"sr manager","Manager","USA",{"$f":"VLOOKUP(tblSalaries[[#This Row],[Where do you work]],tblCountries[[Actual]:[Mapping]],2,FALSE)","v":"USA"},"4 to 6 hours a day",12,{"$f":"IF(ISNA(VLOOKUP(tblSalaries[[#This Row],[Years of Experience]],vlookUpExp!$A$1:$B$56,2,FALSE)),\"No Response\",VLOOKUP(tblSalaries[[#This Row],[Years of Experience]],vlookUpExp!$A$1:$B$56,2,FALSE))","v":"11-15"}]
[null,"ID1627","2012-06-02T20:50:40",400000,400000,"INR",{"$f":"tblSalaries[[#This Row],[clean Salary (in local currency)]]*VLOOKUP(tblSalaries[[#This Row],[Currency]],tblXrate[],2,FALSE)","v":7123.1666749770275},{"$f":"IF($H$1=\"USD\",tblSalaries[[#This Row],[Salary in USD]],tblSalaries[[#This Row],[Salary in USD]]*VLOOKUP($H$1,USDtoUserChoice,2,FALSE))","v":58424.070604828084},"application dev","Analyst","India",{"$f":"VLOOKUP(tblSalaries[[#This Row],[Where do you work]],tblCountries[[Actual]:[Mapping]],2,FALSE)","v":"India"},"1 or 2 hours a day",2.5,{"$f":"IF(ISNA(VLOOKUP(tblSalaries[[#This Row],[Years of Experience]],vlookUpExp!$A$1:$B$56,2,FALSE)),\"No Response\",VLOOKUP(tblSalaries[[#This Row],[Years of Experience]],vlookUpExp!$A$1:$B$56,2,FALSE))","v":"0-5"}]
[null,"ID1628","2012-06-02T20:52:59","37000GBP",37000,"GBP",{"$f":"tblSalaries[[#This Row],[clean Salary (in local currency)]]*VLOOKUP(tblSalaries[[#This Row],[Currency]],tblXrate[],2,FALSE)","v":58318.59606648951},{"$f":"IF($H$1=\"USD\",tblSalaries[[#This Row],[Salary in USD]],tblSalaries[[#This Row],[Salary in USD]]*VLOOKUP($H$1,USDtoUserChoice,2,FALSE))","v":478327.95856542565},"Technical Web Analyst","Analyst","UK",{"$f":"VLOOKUP(tblSalaries[[#This Row],[Where do you work]],tblCountries[[Actual]:[Mapping]],2,FALSE)","v":"UK"},"4 to 6 hours a day",9,{"$f":"IF(ISNA(VLOOKUP(tblSalaries[[#This Row],[Years of Experience]],vlookUpExp!$A$1:$B$56,2,FALSE)),\"No Response\",VLOOKUP(tblSalaries[[#This Row],[Years of Experience]],vlookUpExp!$A$1:$B$56,2,FALSE))","v":"6-10"}]
[null,"ID1629","2012-06-02T21:42:42","6.8 Lac INR",680000,"INR",{"$f":"tblSalaries[[#This Row],[clean Salary (in local currency)]]*VLOOKUP(tblSalaries[[#This Row],[Currency]],tblXrate[],2,FALSE)","v":12109.383347460946},{"$f":"IF($H$1=\"USD\",tblSalaries[[#This Row],[Salary in USD]],tblSalaries[[#This Row],[Salary in USD]]*VLOOKUP($H$1,USDtoUserChoice,2,FALSE))","v":99320.920028207736},"Deputy Manager","Manager","India",{"$f":"VLOOKUP(tblSalaries[[#This Row],[Where do you work]],tblCountries[[Actual]:[Mapping]],2,FALSE)","v":"India"},"1 or 2 hours a day",2,{"$f":"IF(ISNA(VLOOKUP(tblSalaries[[#This Row],[Years of Experience]],vlookUpExp!$A$1:$B$56,2,FALSE)),\"No Response\",VLOOKUP(tblSalaries[[#This Row],[Years of Experience]],vlookUpExp!$A$1:$B$56,2,FALSE))","v":"0-5"}]
[null,"ID1630","2012-06-02T22:33:32",55000,55000,"USD",{"$f":"tblSalaries[[#This Row],[clean Salary (in local currency)]]*VLOOKUP(tblSalaries[[#This Row],[Currency]],tblXrate[],2,FALSE)","v":55000},{"$f":"IF($H$1=\"USD\",tblSalaries[[#This Row],[Salary in USD]],tblSalaries[[#This Row],[Salary in USD]]*VLOOKUP($H$1,USDtoUserChoice,2,FALSE))","v":451108.9},"Supply Chain Analyst","Analyst","USA",{"$f":"VLOOKUP(tblSalaries[[#This Row],[Where do you work]],tblCountries[[Actual]:[Mapping]],2,FALSE)","v":"USA"},"4 to 6 hours a day",1,{"$f":"IF(ISNA(VLOOKUP(tblSalaries[[#This Row],[Years of Experience]],vlookUpExp!$A$1:$B$56,2,FALSE)),\"No Response\",VLOOKUP(tblSalaries[[#This Row],[Years of Experience]],vlookUpExp!$A$1:$B$56,2,FALSE))","v":"0-5"}]
[null,"ID1631","2012-06-02T22:38:56",60000,60000,"USD",{"$f":"tblSalaries[[#This Row],[clean Salary (in local currency)]]*VLOOKUP(tblSalaries[[#This Row],[Currency]],tblXrate[],2,FALSE)","v":60000},{"$f":"IF($H$1=\"USD\",tblSalaries[[#This Row],[Salary in USD]],tblSalaries[[#This Row],[Salary in USD]]*VLOOKUP($H$1,USDtoUserChoice,2,FALSE))","v":492118.80000000005},"Head of Business","Manager","Indonesia",{"$f":"VLOOKUP(tblSalaries[[#This Row],[Where do you work]],tblCountries[[Actual]:[Mapping]],2,FALSE)","v":"Indonesia"},"2 to 3 hours per day",16,{"$f":"IF(ISNA(VLOOKUP(tblSalaries[[#This Row],[Years of Experience]],vlookUpExp!$A$1:$B$56,2,FALSE)),\"No Response\",VLOOKUP(tblSalaries[[#This Row],[Years of Experience]],vlookUpExp!$A$1:$B$56,2,FALSE))","v":"16-20"}]
[null,"ID1632","2012-06-03T01:33:57",320000,320000,"INR",{"$f":"tblSalaries[[#This Row],[clean Salary (in local currency)]]*VLOOKUP(tblSalaries[[#This Row],[Currency]],tblXrate[],2,FALSE)","v":5698.5333399816218},{"$f":"IF($H$1=\"USD\",tblSalaries[[#This Row],[Salary in USD]],tblSalaries[[#This Row],[Salary in USD]]*VLOOKUP($H$1,USDtoUserChoice,2,FALSE))","v":46739.256483862468},"senior executive","Manager","India",{"$f":"VLOOKUP(tblSalaries[[#This Row],[Where do you work]],tblCountries[[Actual]:[Mapping]],2,FALSE)","v":"India"},"4 to 6 hours a day",5,{"$f":"IF(ISNA(VLOOKUP(tblSalaries[[#This Row],[Years of Experience]],vlookUpExp!$A$1:$B$56,2,FALSE)),\"No Response\",VLOOKUP(tblSalaries[[#This Row],[Years of Experience]],vlookUpExp!$A$1:$B$56,2,FALSE))","v":"0-5"}]
[null,"ID1633","2012-06-03T01:36:43","24 K mauritian Rupees",288000,"MUR",{"$f":"tblSalaries[[#This Row],[clean Salary (in local currency)]]*VLOOKUP(tblSalaries[[#This Row],[Currency]],tblXrate[],2,FALSE)","v":9376.2513877177607},{"$f":"IF($H$1=\"USD\",tblSalaries[[#This Row],[Salary in USD]],tblSalaries[[#This Row],[Salary in USD]]*VLOOKUP($H$1,USDtoUserChoice,2,FALSE))","v":76903.826357033322},"IT Support Engineer","Engineer","Mauritius",{"$f":"VLOOKUP(tblSalaries[[#This Row],[Where do you work]],tblCountries[[Actual]:[Mapping]],2,FALSE)","v":"Mauritius"},"4 to 6 hours a day",7,{"$f":"IF(ISNA(VLOOKUP(tblSalaries[[#This Row],[Years of Experience]],vlookUpExp!$A$1:$B$56,2,FALSE)),\"No Response\",VLOOKUP(tblSalaries[[#This Row],[Years of Experience]],vlookUpExp!$A$1:$B$56,2,FALSE))","v":"6-10"}]
[null,"ID1634","2012-06-03T02:06:44","Â£60000",60000,"GBP",{"$f":"tblSalaries[[#This Row],[clean Salary (in local currency)]]*VLOOKUP(tblSalaries[[#This Row],[Currency]],tblXrate[],2,FALSE)","v":94570.696324037053},{"$f":"IF($H$1=\"USD\",tblSalaries[[#This Row],[Salary in USD]],tblSalaries[[#This Row],[Salary in USD]]*VLOOKUP($H$1,USDtoUserChoice,2,FALSE))","v":775666.95983582549},"Data Analyst","Analyst","UK",{"$f":"VLOOKUP(tblSalaries[[#This Row],[Where do you work]],tblCountries[[Actual]:[Mapping]],2,FALSE)","v":"UK"},"4 to 6 hours a day",5,{"$f":"IF(ISNA(VLOOKUP(tblSalaries[[#This Row],[Years of Experience]],vlookUpExp!$A$1:$B$56,2,FALSE)),\"No Response\",VLOOKUP(tblSalaries[[#This Row],[Years of Experience]],vlookUpExp!$A$1:$B$56,2,FALSE))","v":"0-5"}]
[null,"ID1635","2012-06-03T02:54:32",36000,36000,"USD",{"$f":"tblSalaries[[#This Row],[clean Salary (in local currency)]]*VLOOKUP(tblSalaries[[#This Row],[Currency]],tblXrate[],2,FALSE)","v":36000},{"$f":"IF($H$1=\"USD\",tblSalaries[[#This Row],[Salary in USD]],tblSalaries[[#This Row],[Salary in USD]]*VLOOKUP($H$1,USDtoUserChoice,2,FALSE))","v":295271.28000000003},"Environmental Adviser","Consultant","Azerbaijan",{"$f":"VLOOKUP(tblSalaries[[#This Row],[Where do you work]],tblCountries[[Actual]:[Mapping]],2,FALSE)","v":"Azerbaijan"},"4 to 6 hours a day",5,{"$f":"IF(ISNA(VLOOKUP(tblSalaries[[#This Row],[Years of Experience]],vlookUpExp!$A$1:$B$56,2,FALSE)),\"No Response\",VLOOKUP(tblSalaries[[#This Row],[Years of Experience]],vlookUpExp!$A$1:$B$56,2,FALSE))","v":"0-5"}]
[null,"ID1636","2012-06-03T04:14:45","Rs. 3.70 lacs",3700000,"INR",{"$f":"tblSalaries[[#This Row],[clean Salary (in local currency)]]*VLOOKUP(tblSalaries[[#This Row],[Currency]],tblXrate[],2,FALSE)","v":65889.291743537498},{"$f":"IF($H$1=\"USD\",tblSalaries[[#This Row],[Salary in USD]],tblSalaries[[#This Row],[Salary in USD]]*VLOOKUP($H$1,USDtoUserChoice,2,FALSE))","v":540422.65309465979},"Senior Officer","Manager","India",{"$f":"VLOOKUP(tblSalaries[[#This Row],[Where do you work]],tblCountries[[Actual]:[Mapping]],2,FALSE)","v":"India"},"All the 8 hours baby, all the 8!",4,{"$f":"IF(ISNA(VLOOKUP(tblSalaries[[#This Row],[Years of Experience]],vlookUpExp!$A$1:$B$56,2,FALSE)),\"No Response\",VLOOKUP(tblSalaries[[#This Row],[Years of Experience]],vlookUpExp!$A$1:$B$56,2,FALSE))","v":"0-5"}]
[null,"ID1637","2012-06-03T04:42:54",106000,106000,"USD",{"$f":"tblSalaries[[#This Row],[clean Salary (in local currency)]]*VLOOKUP(tblSalaries[[#This Row],[Currency]],tblXrate[],2,FALSE)","v":106000},{"$f":"IF($H$1=\"USD\",tblSalaries[[#This Row],[Salary in USD]],tblSalaries[[#This Row],[Salary in USD]]*VLOOKUP($H$1,USDtoUserChoice,2,FALSE))","v":869409.88000000012},"IT Developer","Analyst","Denmark",{"$f":"VLOOKUP(tblSalaries[[#This Row],[Where do you work]],tblCountries[[Actual]:[Mapping]],2,FALSE)","v":"Denmark"},"1 or 2 hours a day",7,{"$f":"IF(ISNA(VLOOKUP(tblSalaries[[#This Row],[Years of Experience]],vlookUpExp!$A$1:$B$56,2,FALSE)),\"No Response\",VLOOKUP(tblSalaries[[#This Row],[Years of Experience]],vlookUpExp!$A$1:$B$56,2,FALSE))","v":"6-10"}]
[null,"ID1638","2012-06-03T07:16:47","485000 DKK",485000,"DKK",{"$f":"tblSalaries[[#This Row],[clean Salary (in local currency)]]*VLOOKUP(tblSalaries[[#This Row],[Currency]],tblXrate[],2,FALSE)","v":82888.5550559455},{"$f":"IF($H$1=\"USD\",tblSalaries[[#This Row],[Salary in USD]],tblSalaries[[#This Row],[Salary in USD]]*VLOOKUP($H$1,USDtoUserChoice,2,FALSE))","v":679850.27079776395},"Controller","Controller","Denmark",{"$f":"VLOOKUP(tblSalaries[[#This Row],[Where do you work]],tblCountries[[Actual]:[Mapping]],2,FALSE)","v":"Denmark"},"4 to 6 hours a day",18,{"$f":"IF(ISNA(VLOOKUP(tblSalaries[[#This Row],[Years of Experience]],vlookUpExp!$A$1:$B$56,2,FALSE)),\"No Response\",VLOOKUP(tblSalaries[[#This Row],[Years of Experience]],vlookUpExp!$A$1:$B$56,2,FALSE))","v":"16-20"}]
[null,"ID1639","2012-06-03T09:42:40",75000,75000,"NZD",{"$f":"tblSalaries[[#This Row],[clean Salary (in local currency)]]*VLOOKUP(tblSalaries[[#This Row],[Currency]],tblXrate[],2,FALSE)","v":59819.107020370408},{"$f":"IF($H$1=\"USD\",tblSalaries[[#This Row],[Salary in USD]],tblSalaries[[#This Row],[Salary in USD]]*VLOOKUP($H$1,USDtoUserChoice,2,FALSE))","v":490635.11939893774},"business support analyst","Analyst","New zealand",{"$f":"VLOOKUP(tblSalaries[[#This Row],[Where do you work]],tblCountries[[Actual]:[Mapping]],2,FALSE)","v":"New Zealand"},"2 to 3 hours per day",10,{"$f":"IF(ISNA(VLOOKUP(tblSalaries[[#This Row],[Years of Experience]],vlookUpExp!$A$1:$B$56,2,FALSE)),\"No Response\",VLOOKUP(tblSalaries[[#This Row],[Years of Experience]],vlookUpExp!$A$1:$B$56,2,FALSE))","v":"6-10"}]
[null,"ID1640","2012-06-03T10:10:43",6545,6545,"USD",{"$f":"tblSalaries[[#This Row],[clean Salary (in local currency)]]*VLOOKUP(tblSalaries[[#This Row],[Currency]],tblXrate[],2,FALSE)","v":6545},{"$f":"IF($H$1=\"USD\",tblSalaries[[#This Row],[Salary in USD]],tblSalaries[[#This Row],[Salary in USD]]*VLOOKUP($H$1,USDtoUserChoice,2,FALSE))","v":53681.959100000007},"Operations","Manager","India",{"$f":"VLOOKUP(tblSalaries[[#This Row],[Where do you work]],tblCountries[[Actual]:[Mapping]],2,FALSE)","v":"India"},"All the 8 hours baby, all the 8!",9,{"$f":"IF(ISNA(VLOOKUP(tblSalaries[[#This Row],[Years of Experience]],vlookUpExp!$A$1:$B$56,2,FALSE)),\"No Response\",VLOOKUP(tblSalaries[[#This Row],[Years of Experience]],vlookUpExp!$A$1:$B$56,2,FALSE))","v":"6-10"}]
[null,"ID1641","2012-06-03T12:09:27","10 lacs INR",1000000,"INR",{"$f":"tblSalaries[[#This Row],[clean Salary (in local currency)]]*VLOOKUP(tblSalaries[[#This Row],[Currency]],tblXrate[],2,FALSE)","v":17807.916687442568},{"$f":"IF($H$1=\"USD\",tblSalaries[[#This Row],[Salary in USD]],tblSalaries[[#This Row],[Salary in USD]]*VLOOKUP($H$1,USDtoUserChoice,2,FALSE))","v":146060.1765120702},"Category Manager","Manager","India",{"$f":"VLOOKUP(tblSalaries[[#This Row],[Where do you work]],tblCountries[[Actual]:[Mapping]],2,FALSE)","v":"India"},"2 to 3 hours per day",13,{"$f":"IF(ISNA(VLOOKUP(tblSalaries[[#This Row],[Years of Experience]],vlookUpExp!$A$1:$B$56,2,FALSE)),\"No Response\",VLOOKUP(tblSalaries[[#This Row],[Years of Experience]],vlookUpExp!$A$1:$B$56,2,FALSE))","v":"11-15"}]
[null,"ID1642","2012-06-03T12:16:15",54000,54000,"USD",{"$f":"tblSalaries[[#This Row],[clean Salary (in local currency)]]*VLOOKUP(tblSalaries[[#This Row],[Currency]],tblXrate[],2,FALSE)","v":54000},{"$f":"IF($H$1=\"USD\",tblSalaries[[#This Row],[Salary in USD]],tblSalaries[[#This Row],[Salary in USD]]*VLOOKUP($H$1,USDtoUserChoice,2,FALSE))","v":442906.92000000004},"assistant director of finance","CXO or Top Mgmt.","USA",{"$f":"VLOOKUP(tblSalaries[[#This Row],[Where do you work]],tblCountries[[Actual]:[Mapping]],2,FALSE)","v":"USA"},"4 to 6 hours a day",10,{"$f":"IF(ISNA(VLOOKUP(tblSalaries[[#This Row],[Years of Experience]],vlookUpExp!$A$1:$B$56,2,FALSE)),\"No Response\",VLOOKUP(tblSalaries[[#This Row],[Years of Experience]],vlookUpExp!$A$1:$B$56,2,FALSE))","v":"6-10"}]
[null,"ID1643","2012-06-03T12:27:07",100000,100000,"USD",{"$f":"tblSalaries[[#This Row],[clean Salary (in local currency)]]*VLOOKUP(tblSalaries[[#This Row],[Currency]],tblXrate[],2,FALSE)","v":100000},{"$f":"IF($H$1=\"USD\",tblSalaries[[#This Row],[Salary in USD]],tblSalaries[[#This Row],[Salary in USD]]*VLOOKUP($H$1,USDtoUserChoice,2,FALSE))","v":820198.00000000012},"Consultant","Consultant","USA",{"$f":"VLOOKUP(tblSalaries[[#This Row],[Where do you work]],tblCountries[[Actual]:[Mapping]],2,FALSE)","v":"USA"},"2 to 3 hours per day",4,{"$f":"IF(ISNA(VLOOKUP(tblSalaries[[#This Row],[Years of Experience]],vlookUpExp!$A$1:$B$56,2,FALSE)),\"No Response\",VLOOKUP(tblSalaries[[#This Row],[Years of Experience]],vlookUpExp!$A$1:$B$56,2,FALSE))","v":"0-5"}]
[null,"ID1644","2012-06-03T13:30:47",50000,50000,"CAD",{"$f":"tblSalaries[[#This Row],[clean Salary (in local currency)]]*VLOOKUP(tblSalaries[[#This Row],[Currency]],tblXrate[],2,FALSE)","v":49168.076151516347},{"$f":"IF($H$1=\"USD\",tblSalaries[[#This Row],[Salary in USD]],tblSalaries[[#This Row],[Salary in USD]]*VLOOKUP($H$1,USDtoUserChoice,2,FALSE))","v":403275.57723321411},"Application Developer","Analyst","Canada",{"$f":"VLOOKUP(tblSalaries[[#This Row],[Where do you work]],tblCountries[[Actual]:[Mapping]],2,FALSE)","v":"Canada"},"4 to 6 hours a day",5,{"$f":"IF(ISNA(VLOOKUP(tblSalaries[[#This Row],[Years of Experience]],vlookUpExp!$A$1:$B$56,2,FALSE)),\"No Response\",VLOOKUP(tblSalaries[[#This Row],[Years of Experience]],vlookUpExp!$A$1:$B$56,2,FALSE))","v":"0-5"}]
[null,"ID1645","2012-06-03T14:27:29",4019,4019,"USD",{"$f":"tblSalaries[[#This Row],[clean Salary (in local currency)]]*VLOOKUP(tblSalaries[[#This Row],[Currency]],tblXrate[],2,FALSE)","v":4019},{"$f":"IF($H$1=\"USD\",tblSalaries[[#This Row],[Salary in USD]],tblSalaries[[#This Row],[Salary in USD]]*VLOOKUP($H$1,USDtoUserChoice,2,FALSE))","v":32963.757620000004},"Clinical Intake Specialist","Specialist","Philippines",{"$f":"VLOOKUP(tblSalaries[[#This Row],[Where do you work]],tblCountries[[Actual]:[Mapping]],2,FALSE)","v":"Philippines"},"2 to 3 hours per day",3,{"$f":"IF(ISNA(VLOOKUP(tblSalaries[[#This Row],[Years of Experience]],vlookUpExp!$A$1:$B$56,2,FALSE)),\"No Response\",VLOOKUP(tblSalaries[[#This Row],[Years of Experience]],vlookUpExp!$A$1:$B$56,2,FALSE))","v":"0-5"}]
[null,"ID1646","2012-06-03T14:34:56",15000,15000,"USD",{"$f":"tblSalaries[[#This Row],[clean Salary (in local currency)]]*VLOOKUP(tblSalaries[[#This Row],[Currency]],tblXrate[],2,FALSE)","v":15000},{"$f":"IF($H$1=\"USD\",tblSalaries[[#This Row],[Salary in USD]],tblSalaries[[#This Row],[Salary in USD]]*VLOOKUP($H$1,USDtoUserChoice,2,FALSE))","v":123029.70000000001},"Marketing services","Analyst","Pakistan",{"$f":"VLOOKUP(tblSalaries[[#This Row],[Where do you work]],tblCountries[[Actual]:[Mapping]],2,FALSE)","v":"Pakistan"},"4 to 6 hours a day",5,{"$f":"IF(ISNA(VLOOKUP(tblSalaries[[#This Row],[Years of Experience]],vlookUpExp!$A$1:$B$56,2,FALSE)),\"No Response\",VLOOKUP(tblSalaries[[#This Row],[Years of Experience]],vlookUpExp!$A$1:$B$56,2,FALSE))","v":"0-5"}]
[null,"ID1647","2012-06-03T14:52:21","INR 1000000",1000000,"INR",{"$f":"tblSalaries[[#This Row],[clean Salary (in local currency)]]*VLOOKUP(tblSalaries[[#This Row],[Currency]],tblXrate[],2,FALSE)","v":17807.916687442568},{"$f":"IF($H$1=\"USD\",tblSalaries[[#This Row],[Salary in USD]],tblSalaries[[#This Row],[Salary in USD]]*VLOOKUP($H$1,USDtoUserChoice,2,FALSE))","v":146060.1765120702},"Senior Associate, Finance","Analyst","India",{"$f":"VLOOKUP(tblSalaries[[#This Row],[Where do you work]],tblCountries[[Actual]:[Mapping]],2,FALSE)","v":"India"},"All the 8 hours baby, all the 8!",4,{"$f":"IF(ISNA(VLOOKUP(tblSalaries[[#This Row],[Years of Experience]],vlookUpExp!$A$1:$B$56,2,FALSE)),\"No Response\",VLOOKUP(tblSalaries[[#This Row],[Years of Experience]],vlookUpExp!$A$1:$B$56,2,FALSE))","v":"0-5"}]
[null,"ID1648","2012-06-03T16:48:54",12000,12000,"USD",{"$f":"tblSalaries[[#This Row],[clean Salary (in local currency)]]*VLOOKUP(tblSalaries[[#This Row],[Currency]],tblXrate[],2,FALSE)","v":12000},{"$f":"IF($H$1=\"USD\",tblSalaries[[#This Row],[Salary in USD]],tblSalaries[[#This Row],[Salary in USD]]*VLOOKUP($H$1,USDtoUserChoice,2,FALSE))","v":98423.760000000009},"MIS ","Reporting","India",{"$f":"VLOOKUP(tblSalaries[[#This Row],[Where do you work]],tblCountries[[Actual]:[Mapping]],2,FALSE)","v":"India"},"All the 8 hours baby, all the 8!",3,{"$f":"IF(ISNA(VLOOKUP(tblSalaries[[#This Row],[Years of Experience]],vlookUpExp!$A$1:$B$56,2,FALSE)),\"No Response\",VLOOKUP(tblSalaries[[#This Row],[Years of Experience]],vlookUpExp!$A$1:$B$56,2,FALSE))","v":"0-5"}]
[null,"ID1649","2012-06-03T17:39:14","Rs. 125000",125000,"INR",{"$f":"tblSalaries[[#This Row],[clean Salary (in local currency)]]*VLOOKUP(tblSalaries[[#This Row],[Currency]],tblXrate[],2,FALSE)","v":2225.989585930321},{"$f":"IF($H$1=\"USD\",tblSalaries[[#This Row],[Salary in USD]],tblSalaries[[#This Row],[Salary in USD]]*VLOOKUP($H$1,USDtoUserChoice,2,FALSE))","v":18257.522064008775},"No","Analyst","India",{"$f":"VLOOKUP(tblSalaries[[#This Row],[Where do you work]],tblCountries[[Actual]:[Mapping]],2,FALSE)","v":"India"},"2 to 3 hours per day",4,{"$f":"IF(ISNA(VLOOKUP(tblSalaries[[#This Row],[Years of Experience]],vlookUpExp!$A$1:$B$56,2,FALSE)),\"No Response\",VLOOKUP(tblSalaries[[#This Row],[Years of Experience]],vlookUpExp!$A$1:$B$56,2,FALSE))","v":"0-5"}]
[null,"ID1650","2012-06-03T19:40:18",86000,86000,"USD",{"$f":"tblSalaries[[#This Row],[clean Salary (in local currency)]]*VLOOKUP(tblSalaries[[#This Row],[Currency]],tblXrate[],2,FALSE)","v":86000},{"$f":"IF($H$1=\"USD\",tblSalaries[[#This Row],[Salary in USD]],tblSalaries[[#This Row],[Salary in USD]]*VLOOKUP($H$1,USDtoUserChoice,2,FALSE))","v":705370.28},"Analyst","Analyst","Philippines",{"$f":"VLOOKUP(tblSalaries[[#This Row],[Where do you work]],tblCountries[[Actual]:[Mapping]],2,FALSE)","v":"Philippines"},"All the 8 hours baby, all the 8!",3,{"$f":"IF(ISNA(VLOOKUP(tblSalaries[[#This Row],[Years of Experience]],vlookUpExp!$A$1:$B$56,2,FALSE)),\"No Response\",VLOOKUP(tblSalaries[[#This Row],[Years of Experience]],vlookUpExp!$A$1:$B$56,2,FALSE))","v":"0-5"}]
[null,"ID1651","2012-06-04T01:45:03",340000,340000,"INR",{"$f":"tblSalaries[[#This Row],[clean Salary (in local currency)]]*VLOOKUP(tblSalaries[[#This Row],[Currency]],tblXrate[],2,FALSE)","v":6054.6916737304728},{"$f":"IF($H$1=\"USD\",tblSalaries[[#This Row],[Salary in USD]],tblSalaries[[#This Row],[Salary in USD]]*VLOOKUP($H$1,USDtoUserChoice,2,FALSE))","v":49660.460014103868},"Assistant Manager","Manager","India",{"$f":"VLOOKUP(tblSalaries[[#This Row],[Where do you work]],tblCountries[[Actual]:[Mapping]],2,FALSE)","v":"India"},"4 to 6 hours a day",5,{"$f":"IF(ISNA(VLOOKUP(tblSalaries[[#This Row],[Years of Experience]],vlookUpExp!$A$1:$B$56,2,FALSE)),\"No Response\",VLOOKUP(tblSalaries[[#This Row],[Years of Experience]],vlookUpExp!$A$1:$B$56,2,FALSE))","v":"0-5"}]
[null,"ID1652","2012-06-04T02:03:53","280$/ month",3360,"USD",{"$f":"tblSalaries[[#This Row],[clean Salary (in local currency)]]*VLOOKUP(tblSalaries[[#This Row],[Currency]],tblXrate[],2,FALSE)","v":3360},{"$f":"IF($H$1=\"USD\",tblSalaries[[#This Row],[Salary in USD]],tblSalaries[[#This Row],[Salary in USD]]*VLOOKUP($H$1,USDtoUserChoice,2,FALSE))","v":27558.652800000003},"service executive","Analyst","India",{"$f":"VLOOKUP(tblSalaries[[#This Row],[Where do you work]],tblCountries[[Actual]:[Mapping]],2,FALSE)","v":"India"},"1 or 2 hours a day",3,{"$f":"IF(ISNA(VLOOKUP(tblSalaries[[#This Row],[Years of Experience]],vlookUpExp!$A$1:$B$56,2,FALSE)),\"No Response\",VLOOKUP(tblSalaries[[#This Row],[Years of Experience]],vlookUpExp!$A$1:$B$56,2,FALSE))","v":"0-5"}]
[null,"ID1653","2012-06-04T02:30:11",10000,10000,"USD",{"$f":"tblSalaries[[#This Row],[clean Salary (in local currency)]]*VLOOKUP(tblSalaries[[#This Row],[Currency]],tblXrate[],2,FALSE)","v":10000},{"$f":"IF($H$1=\"USD\",tblSalaries[[#This Row],[Salary in USD]],tblSalaries[[#This Row],[Salary in USD]]*VLOOKUP($H$1,USDtoUserChoice,2,FALSE))","v":82019.8},"ceo","CXO or Top Mgmt.","India",{"$f":"VLOOKUP(tblSalaries[[#This Row],[Where do you work]],tblCountries[[Actual]:[Mapping]],2,FALSE)","v":"India"},"All the 8 hours baby, all the 8!",1,{"$f":"IF(ISNA(VLOOKUP(tblSalaries[[#This Row],[Years of Experience]],vlookUpExp!$A$1:$B$56,2,FALSE)),\"No Response\",VLOOKUP(tblSalaries[[#This Row],[Years of Experience]],vlookUpExp!$A$1:$B$56,2,FALSE))","v":"0-5"}]
[null,"ID1654","2012-06-04T04:31:53",70000,70000,"USD",{"$f":"tblSalaries[[#This Row],[clean Salary (in local currency)]]*VLOOKUP(tblSalaries[[#This Row],[Currency]],tblXrate[],2,FALSE)","v":70000},{"$f":"IF($H$1=\"USD\",tblSalaries[[#This Row],[Salary in USD]],tblSalaries[[#This Row],[Salary in USD]]*VLOOKUP($H$1,USDtoUserChoice,2,FALSE))","v":574138.60000000009},"Sr financial analyst","Analyst","USA",{"$f":"VLOOKUP(tblSalaries[[#This Row],[Where do you work]],tblCountries[[Actual]:[Mapping]],2,FALSE)","v":"USA"},"4 to 6 hours a day",9,{"$f":"IF(ISNA(VLOOKUP(tblSalaries[[#This Row],[Years of Experience]],vlookUpExp!$A$1:$B$56,2,FALSE)),\"No Response\",VLOOKUP(tblSalaries[[#This Row],[Years of Experience]],vlookUpExp!$A$1:$B$56,2,FALSE))","v":"6-10"}]
[null,"ID1655","2012-06-04T09:49:44",155000,155000,"USD",{"$f":"tblSalaries[[#This Row],[clean Salary (in local currency)]]*VLOOKUP(tblSalaries[[#This Row],[Currency]],tblXrate[],2,FALSE)","v":155000},{"$f":"IF($H$1=\"USD\",tblSalaries[[#This Row],[Salary in USD]],tblSalaries[[#This Row],[Salary in USD]]*VLOOKUP($H$1,USDtoUserChoice,2,FALSE))","v":1271306.9000000001},"Consulting Practice Manager","Manager","USA",{"$f":"VLOOKUP(tblSalaries[[#This Row],[Where do you work]],tblCountries[[Actual]:[Mapping]],2,FALSE)","v":"USA"},"1 or 2 hours a day",14,{"$f":"IF(ISNA(VLOOKUP(tblSalaries[[#This Row],[Years of Experience]],vlookUpExp!$A$1:$B$56,2,FALSE)),\"No Response\",VLOOKUP(tblSalaries[[#This Row],[Years of Experience]],vlookUpExp!$A$1:$B$56,2,FALSE))","v":"11-15"}]
[null,"ID1656","2012-06-04T10:23:27",225000,225000,"USD",{"$f":"tblSalaries[[#This Row],[clean Salary (in local currency)]]*VLOOKUP(tblSalaries[[#This Row],[Currency]],tblXrate[],2,FALSE)","v":225000},{"$f":"IF($H$1=\"USD\",tblSalaries[[#This Row],[Salary in USD]],tblSalaries[[#This Row],[Salary in USD]]*VLOOKUP($H$1,USDtoUserChoice,2,FALSE))","v":1845445.5000000002},"SVP of Acquisitions","CXO or Top Mgmt.","USA",{"$f":"VLOOKUP(tblSalaries[[#This Row],[Where do you work]],tblCountries[[Actual]:[Mapping]],2,FALSE)","v":"USA"},"4 to 6 hours a day",15,{"$f":"IF(ISNA(VLOOKUP(tblSalaries[[#This Row],[Years of Experience]],vlookUpExp!$A$1:$B$56,2,FALSE)),\"No Response\",VLOOKUP(tblSalaries[[#This Row],[Years of Experience]],vlookUpExp!$A$1:$B$56,2,FALSE))","v":"11-15"}]
[null,"ID1657","2012-06-04T12:22:05",10000,10000,"USD",{"$f":"tblSalaries[[#This Row],[clean Salary (in local currency)]]*VLOOKUP(tblSalaries[[#This Row],[Currency]],tblXrate[],2,FALSE)","v":10000},{"$f":"IF($H$1=\"USD\",tblSalaries[[#This Row],[Salary in USD]],tblSalaries[[#This Row],[Salary in USD]]*VLOOKUP($H$1,USDtoUserChoice,2,FALSE))","v":82019.8},"MIS Executive","Reporting","India",{"$f":"VLOOKUP(tblSalaries[[#This Row],[Where do you work]],tblCountries[[Actual]:[Mapping]],2,FALSE)","v":"India"},"All the 8 hours baby, all the 8!",2,{"$f":"IF(ISNA(VLOOKUP(tblSalaries[[#This Row],[Years of Experience]],vlookUpExp!$A$1:$B$56,2,FALSE)),\"No Response\",VLOOKUP(tblSalaries[[#This Row],[Years of Experience]],vlookUpExp!$A$1:$B$56,2,FALSE))","v":"0-5"}]
[null,"ID1658","2012-06-04T12:58:06",300000,300000,"INR",{"$f":"tblSalaries[[#This Row],[clean Salary (in local currency)]]*VLOOKUP(tblSalaries[[#This Row],[Currency]],tblXrate[],2,FALSE)","v":5342.3750062327708},{"$f":"IF($H$1=\"USD\",tblSalaries[[#This Row],[Salary in USD]],tblSalaries[[#This Row],[Salary in USD]]*VLOOKUP($H$1,USDtoUserChoice,2,FALSE))","v":43818.052953621067},"Store Inventory","Analyst","India",{"$f":"VLOOKUP(tblSalaries[[#This Row],[Where do you work]],tblCountries[[Actual]:[Mapping]],2,FALSE)","v":"India"},"4 to 6 hours a day",8,{"$f":"IF(ISNA(VLOOKUP(tblSalaries[[#This Row],[Years of Experience]],vlookUpExp!$A$1:$B$56,2,FALSE)),\"No Response\",VLOOKUP(tblSalaries[[#This Row],[Years of Experience]],vlookUpExp!$A$1:$B$56,2,FALSE))","v":"6-10"}]
[null,"ID1659","2012-06-04T13:30:51",84000,84000,"AUD",{"$f":"tblSalaries[[#This Row],[clean Salary (in local currency)]]*VLOOKUP(tblSalaries[[#This Row],[Currency]],tblXrate[],2,FALSE)","v":85672.4111378214},{"$f":"IF($H$1=\"USD\",tblSalaries[[#This Row],[Salary in USD]],tblSalaries[[#This Row],[Salary in USD]]*VLOOKUP($H$1,USDtoUserChoice,2,FALSE))","v":702683.40270418848},"consultant","Consultant","Australia",{"$f":"VLOOKUP(tblSalaries[[#This Row],[Where do you work]],tblCountries[[Actual]:[Mapping]],2,FALSE)","v":"Australia"},"4 to 6 hours a day",6,{"$f":"IF(ISNA(VLOOKUP(tblSalaries[[#This Row],[Years of Experience]],vlookUpExp!$A$1:$B$56,2,FALSE)),\"No Response\",VLOOKUP(tblSalaries[[#This Row],[Years of Experience]],vlookUpExp!$A$1:$B$56,2,FALSE))","v":"6-10"}]
[null,"ID1660","2012-06-04T14:25:45","240000 INR",240000,"INR",{"$f":"tblSalaries[[#This Row],[clean Salary (in local currency)]]*VLOOKUP(tblSalaries[[#This Row],[Currency]],tblXrate[],2,FALSE)","v":4273.9000049862161},{"$f":"IF($H$1=\"USD\",tblSalaries[[#This Row],[Salary in USD]],tblSalaries[[#This Row],[Salary in USD]]*VLOOKUP($H$1,USDtoUserChoice,2,FALSE))","v":35054.442362896851},"Exicutive TQM","Controller","India",{"$f":"VLOOKUP(tblSalaries[[#This Row],[Where do you work]],tblCountries[[Actual]:[Mapping]],2,FALSE)","v":"India"},"2 to 3 hours per day",15,{"$f":"IF(ISNA(VLOOKUP(tblSalaries[[#This Row],[Years of Experience]],vlookUpExp!$A$1:$B$56,2,FALSE)),\"No Response\",VLOOKUP(tblSalaries[[#This Row],[Years of Experience]],vlookUpExp!$A$1:$B$56,2,FALSE))","v":"11-15"}]
[null,"ID1661","2012-06-04T16:31:09","Rs. 5 lacs",500000,"INR",{"$f":"tblSalaries[[#This Row],[clean Salary (in local currency)]]*VLOOKUP(tblSalaries[[#This Row],[Currency]],tblXrate[],2,FALSE)","v":8903.9583437212841},{"$f":"IF($H$1=\"USD\",tblSalaries[[#This Row],[Salary in USD]],tblSalaries[[#This Row],[Salary in USD]]*VLOOKUP($H$1,USDtoUserChoice,2,FALSE))","v":73030.088256035102},"Team Leader","Manager","India",{"$f":"VLOOKUP(tblSalaries[[#This Row],[Where do you work]],tblCountries[[Actual]:[Mapping]],2,FALSE)","v":"India"},"All the 8 hours baby, all the 8!",20,{"$f":"IF(ISNA(VLOOKUP(tblSalaries[[#This Row],[Years of Experience]],vlookUpExp!$A$1:$B$56,2,FALSE)),\"No Response\",VLOOKUP(tblSalaries[[#This Row],[Years of Experience]],vlookUpExp!$A$1:$B$56,2,FALSE))","v":"16-20"}]
[null,"ID1662","2012-06-04T18:03:21",42000,42000,"GBP",{"$f":"tblSalaries[[#This Row],[clean Salary (in local currency)]]*VLOOKUP(tblSalaries[[#This Row],[Currency]],tblXrate[],2,FALSE)","v":66199.48742682593},{"$f":"IF($H$1=\"USD\",tblSalaries[[#This Row],[Salary in USD]],tblSalaries[[#This Row],[Salary in USD]]*VLOOKUP($H$1,USDtoUserChoice,2,FALSE))","v":542966.8718850778},"Management Accountant","Manager","UK",{"$f":"VLOOKUP(tblSalaries[[#This Row],[Where do you work]],tblCountries[[Actual]:[Mapping]],2,FALSE)","v":"UK"},"4 to 6 hours a day",23,{"$f":"IF(ISNA(VLOOKUP(tblSalaries[[#This Row],[Years of Experience]],vlookUpExp!$A$1:$B$56,2,FALSE)),\"No Response\",VLOOKUP(tblSalaries[[#This Row],[Years of Experience]],vlookUpExp!$A$1:$B$56,2,FALSE))","v":"21-25"}]
[null,"ID1663","2012-06-04T18:55:54","INR 3.2 lpa",320000,"INR",{"$f":"tblSalaries[[#This Row],[clean Salary (in local currency)]]*VLOOKUP(tblSalaries[[#This Row],[Currency]],tblXrate[],2,FALSE)","v":5698.5333399816218},{"$f":"IF($H$1=\"USD\",tblSalaries[[#This Row],[Salary in USD]],tblSalaries[[#This Row],[Salary in USD]]*VLOOKUP($H$1,USDtoUserChoice,2,FALSE))","v":46739.256483862468},"Research Associate","Analyst","India",{"$f":"VLOOKUP(tblSalaries[[#This Row],[Where do you work]],tblCountries[[Actual]:[Mapping]],2,FALSE)","v":"India"},"4 to 6 hours a day",2.5,{"$f":"IF(ISNA(VLOOKUP(tblSalaries[[#This Row],[Years of Experience]],vlookUpExp!$A$1:$B$56,2,FALSE)),\"No Response\",VLOOKUP(tblSalaries[[#This Row],[Years of Experience]],vlookUpExp!$A$1:$B$56,2,FALSE))","v":"0-5"}]
[null,"ID1664","2012-06-04T19:11:18","Â£22k",22000,"GBP",{"$f":"tblSalaries[[#This Row],[clean Salary (in local currency)]]*VLOOKUP(tblSalaries[[#This Row],[Currency]],tblXrate[],2,FALSE)","v":34675.92198548025},{"$f":"IF($H$1=\"USD\",tblSalaries[[#This Row],[Salary in USD]],tblSalaries[[#This Row],[Salary in USD]]*VLOOKUP($H$1,USDtoUserChoice,2,FALSE))","v":284411.21860646934},"Supply/Demand Planner","Manager","UK",{"$f":"VLOOKUP(tblSalaries[[#This Row],[Where do you work]],tblCountries[[Actual]:[Mapping]],2,FALSE)","v":"UK"},"4 to 6 hours a day",17,{"$f":"IF(ISNA(VLOOKUP(tblSalaries[[#This Row],[Years of Experience]],vlookUpExp!$A$1:$B$56,2,FALSE)),\"No Response\",VLOOKUP(tblSalaries[[#This Row],[Years of Experience]],vlookUpExp!$A$1:$B$56,2,FALSE))","v":"16-20"}]
[null,"ID1665","2012-06-04T19:46:09","2600 $",31200,"USD",{"$f":"tblSalaries[[#This Row],[clean Salary (in local currency)]]*VLOOKUP(tblSalaries[[#This Row],[Currency]],tblXrate[],2,FALSE)","v":31200},{"$f":"IF($H$1=\"USD\",tblSalaries[[#This Row],[Salary in USD]],tblSalaries[[#This Row],[Salary in USD]]*VLOOKUP($H$1,USDtoUserChoice,2,FALSE))","v":255901.77600000001},"Economist","Reporting","ISRAEL",{"$f":"VLOOKUP(tblSalaries[[#This Row],[Where do you work]],tblCountries[[Actual]:[Mapping]],2,FALSE)","v":"Israel"},"All the 8 hours baby, all the 8!",11,{"$f":"IF(ISNA(VLOOKUP(tblSalaries[[#This Row],[Years of Experience]],vlookUpExp!$A$1:$B$56,2,FALSE)),\"No Response\",VLOOKUP(tblSalaries[[#This Row],[Years of Experience]],vlookUpExp!$A$1:$B$56,2,FALSE))","v":"11-15"}]
[null,"ID1666","2012-06-04T21:43:15",56000,56000,"CAD",{"$f":"tblSalaries[[#This Row],[clean Salary (in local currency)]]*VLOOKUP(tblSalaries[[#This Row],[Currency]],tblXrate[],2,FALSE)","v":55068.245289698301},{"$f":"IF($H$1=\"USD\",tblSalaries[[#This Row],[Salary in USD]],tblSalaries[[#This Row],[Salary in USD]]*VLOOKUP($H$1,USDtoUserChoice,2,FALSE))","v":451668.64650119969},"consultant","Consultant","Canada",{"$f":"VLOOKUP(tblSalaries[[#This Row],[Where do you work]],tblCountries[[Actual]:[Mapping]],2,FALSE)","v":"Canada"},"All the 8 hours baby, all the 8!",1,{"$f":"IF(ISNA(VLOOKUP(tblSalaries[[#This Row],[Years of Experience]],vlookUpExp!$A$1:$B$56,2,FALSE)),\"No Response\",VLOOKUP(tblSalaries[[#This Row],[Years of Experience]],vlookUpExp!$A$1:$B$56,2,FALSE))","v":"0-5"}]
[null,"ID1667","2012-06-04T22:16:00",13000,13000,"USD",{"$f":"tblSalaries[[#This Row],[clean Salary (in local currency)]]*VLOOKUP(tblSalaries[[#This Row],[Currency]],tblXrate[],2,FALSE)","v":13000},{"$f":"IF($H$1=\"USD\",tblSalaries[[#This Row],[Salary in USD]],tblSalaries[[#This Row],[Salary in USD]]*VLOOKUP($H$1,USDtoUserChoice,2,FALSE))","v":106625.74},"logistics analyst","Analyst","Slovakia",{"$f":"VLOOKUP(tblSalaries[[#This Row],[Where do you work]],tblCountries[[Actual]:[Mapping]],2,FALSE)","v":"Slovakia"},"All the 8 hours baby, all the 8!",6,{"$f":"IF(ISNA(VLOOKUP(tblSalaries[[#This Row],[Years of Experience]],vlookUpExp!$A$1:$B$56,2,FALSE)),\"No Response\",VLOOKUP(tblSalaries[[#This Row],[Years of Experience]],vlookUpExp!$A$1:$B$56,2,FALSE))","v":"6-10"}]
[null,"ID1668","2012-06-04T23:00:10",92000,92000,"USD",{"$f":"tblSalaries[[#This Row],[clean Salary (in local currency)]]*VLOOKUP(tblSalaries[[#This Row],[Currency]],tblXrate[],2,FALSE)","v":92000},{"$f":"IF($H$1=\"USD\",tblSalaries[[#This Row],[Salary in USD]],tblSalaries[[#This Row],[Salary in USD]]*VLOOKUP($H$1,USDtoUserChoice,2,FALSE))","v":754582.16},"BI director","Reporting","USA",{"$f":"VLOOKUP(tblSalaries[[#This Row],[Where do you work]],tblCountries[[Actual]:[Mapping]],2,FALSE)","v":"USA"},"2 to 3 hours per day",12,{"$f":"IF(ISNA(VLOOKUP(tblSalaries[[#This Row],[Years of Experience]],vlookUpExp!$A$1:$B$56,2,FALSE)),\"No Response\",VLOOKUP(tblSalaries[[#This Row],[Years of Experience]],vlookUpExp!$A$1:$B$56,2,FALSE))","v":"11-15"}]
[null,"ID1669","2012-06-04T23:18:41",85000,85000,"USD",{"$f":"tblSalaries[[#This Row],[clean Salary (in local currency)]]*VLOOKUP(tblSalaries[[#This Row],[Currency]],tblXrate[],2,FALSE)","v":85000},{"$f":"IF($H$1=\"USD\",tblSalaries[[#This Row],[Salary in USD]],tblSalaries[[#This Row],[Salary in USD]]*VLOOKUP($H$1,USDtoUserChoice,2,FALSE))","v":697168.3},"Sr Manager","Manager","USA",{"$f":"VLOOKUP(tblSalaries[[#This Row],[Where do you work]],tblCountries[[Actual]:[Mapping]],2,FALSE)","v":"USA"},"All the 8 hours baby, all the 8!",10,{"$f":"IF(ISNA(VLOOKUP(tblSalaries[[#This Row],[Years of Experience]],vlookUpExp!$A$1:$B$56,2,FALSE)),\"No Response\",VLOOKUP(tblSalaries[[#This Row],[Years of Experience]],vlookUpExp!$A$1:$B$56,2,FALSE))","v":"6-10"}]
[null,"ID1670","2012-06-04T23:38:42","11000 USD",11000,"USD",{"$f":"tblSalaries[[#This Row],[clean Salary (in local currency)]]*VLOOKUP(tblSalaries[[#This Row],[Currency]],tblXrate[],2,FALSE)","v":11000},{"$f":"IF($H$1=\"USD\",tblSalaries[[#This Row],[Salary in USD]],tblSalaries[[#This Row],[Salary in USD]]*VLOOKUP($H$1,USDtoUserChoice,2,FALSE))","v":90221.780000000013},"Dataminer","Analyst","Tunisia",{"$f":"VLOOKUP(tblSalaries[[#This Row],[Where do you work]],tblCountries[[Actual]:[Mapping]],2,FALSE)","v":"Tunisia"},"4 to 6 hours a day",8,{"$f":"IF(ISNA(VLOOKUP(tblSalaries[[#This Row],[Years of Experience]],vlookUpExp!$A$1:$B$56,2,FALSE)),\"No Response\",VLOOKUP(tblSalaries[[#This Row],[Years of Experience]],vlookUpExp!$A$1:$B$56,2,FALSE))","v":"6-10"}]
[null,"ID1671","2012-06-04T23:38:47","30000 â‚¬",30000,"EUR",{"$f":"tblSalaries[[#This Row],[clean Salary (in local currency)]]*VLOOKUP(tblSalaries[[#This Row],[Currency]],tblXrate[],2,FALSE)","v":38111.983169748237},{"$f":"IF($H$1=\"USD\",tblSalaries[[#This Row],[Salary in USD]],tblSalaries[[#This Row],[Salary in USD]]*VLOOKUP($H$1,USDtoUserChoice,2,FALSE))","v":312593.7237186117},"Safety technician","Analyst","Spain",{"$f":"VLOOKUP(tblSalaries[[#This Row],[Where do you work]],tblCountries[[Actual]:[Mapping]],2,FALSE)","v":"Spain"},"1 or 2 hours a day",12,{"$f":"IF(ISNA(VLOOKUP(tblSalaries[[#This Row],[Years of Experience]],vlookUpExp!$A$1:$B$56,2,FALSE)),\"No Response\",VLOOKUP(tblSalaries[[#This Row],[Years of Experience]],vlookUpExp!$A$1:$B$56,2,FALSE))","v":"11-15"}]
[null,"ID1672","2012-06-04T23:41:47",49000,49000,"USD",{"$f":"tblSalaries[[#This Row],[clean Salary (in local currency)]]*VLOOKUP(tblSalaries[[#This Row],[Currency]],tblXrate[],2,FALSE)","v":49000},{"$f":"IF($H$1=\"USD\",tblSalaries[[#This Row],[Salary in USD]],tblSalaries[[#This Row],[Salary in USD]]*VLOOKUP($H$1,USDtoUserChoice,2,FALSE))","v":401897.02},"Marketing Data Analyst","Analyst","USA",{"$f":"VLOOKUP(tblSalaries[[#This Row],[Where do you work]],tblCountries[[Actual]:[Mapping]],2,FALSE)","v":"USA"},"2 to 3 hours per day",3,{"$f":"IF(ISNA(VLOOKUP(tblSalaries[[#This Row],[Years of Experience]],vlookUpExp!$A$1:$B$56,2,FALSE)),\"No Response\",VLOOKUP(tblSalaries[[#This Row],[Years of Experience]],vlookUpExp!$A$1:$B$56,2,FALSE))","v":"0-5"}]
[null,"ID1673","2012-06-05T00:22:14",59000,59000,"USD",{"$f":"tblSalaries[[#This Row],[clean Salary (in local currency)]]*VLOOKUP(tblSalaries[[#This Row],[Currency]],tblXrate[],2,FALSE)","v":59000},{"$f":"IF($H$1=\"USD\",tblSalaries[[#This Row],[Salary in USD]],tblSalaries[[#This Row],[Salary in USD]]*VLOOKUP($H$1,USDtoUserChoice,2,FALSE))","v":483916.82000000007},"Category Leader","Manager","USA",{"$f":"VLOOKUP(tblSalaries[[#This Row],[Where do you work]],tblCountries[[Actual]:[Mapping]],2,FALSE)","v":"USA"},"1 or 2 hours a day",3,{"$f":"IF(ISNA(VLOOKUP(tblSalaries[[#This Row],[Years of Experience]],vlookUpExp!$A$1:$B$56,2,FALSE)),\"No Response\",VLOOKUP(tblSalaries[[#This Row],[Years of Experience]],vlookUpExp!$A$1:$B$56,2,FALSE))","v":"0-5"}]
[null,"ID1674","2012-06-05T02:03:48",55000,55000,"USD",{"$f":"tblSalaries[[#This Row],[clean Salary (in local currency)]]*VLOOKUP(tblSalaries[[#This Row],[Currency]],tblXrate[],2,FALSE)","v":55000},{"$f":"IF($H$1=\"USD\",tblSalaries[[#This Row],[Salary in USD]],tblSalaries[[#This Row],[Salary in USD]]*VLOOKUP($H$1,USDtoUserChoice,2,FALSE))","v":451108.9},"Customer Sales Analyst","Analyst","USA",{"$f":"VLOOKUP(tblSalaries[[#This Row],[Where do you work]],tblCountries[[Actual]:[Mapping]],2,FALSE)","v":"USA"},"4 to 6 hours a day",15,{"$f":"IF(ISNA(VLOOKUP(tblSalaries[[#This Row],[Years of Experience]],vlookUpExp!$A$1:$B$56,2,FALSE)),\"No Response\",VLOOKUP(tblSalaries[[#This Row],[Years of Experience]],vlookUpExp!$A$1:$B$56,2,FALSE))","v":"11-15"}]
[null,"ID1675","2012-06-05T02:21:01",75000,75000,"USD",{"$f":"tblSalaries[[#This Row],[clean Salary (in local currency)]]*VLOOKUP(tblSalaries[[#This Row],[Currency]],tblXrate[],2,FALSE)","v":75000},{"$f":"IF($H$1=\"USD\",tblSalaries[[#This Row],[Salary in USD]],tblSalaries[[#This Row],[Salary in USD]]*VLOOKUP($H$1,USDtoUserChoice,2,FALSE))","v":615148.5},"Accountant","Accountant","USA",{"$f":"VLOOKUP(tblSalaries[[#This Row],[Where do you work]],tblCountries[[Actual]:[Mapping]],2,FALSE)","v":"USA"},"4 to 6 hours a day",10,{"$f":"IF(ISNA(VLOOKUP(tblSalaries[[#This Row],[Years of Experience]],vlookUpExp!$A$1:$B$56,2,FALSE)),\"No Response\",VLOOKUP(tblSalaries[[#This Row],[Years of Experience]],vlookUpExp!$A$1:$B$56,2,FALSE))","v":"6-10"}]
[null,"ID1677","2012-06-05T03:50:02",3300,39600,"EUR",{"$f":"tblSalaries[[#This Row],[clean Salary (in local currency)]]*VLOOKUP(tblSalaries[[#This Row],[Currency]],tblXrate[],2,FALSE)","v":50307.817784067665},{"$f":"IF($H$1=\"USD\",tblSalaries[[#This Row],[Salary in USD]],tblSalaries[[#This Row],[Salary in USD]]*VLOOKUP($H$1,USDtoUserChoice,2,FALSE))","v":412623.71530856733},"Maintenance Manager","Manager","Europe",{"$f":"VLOOKUP(tblSalaries[[#This Row],[Where do you work]],tblCountries[[Actual]:[Mapping]],2,FALSE)","v":"Europe"},"1 or 2 hours a day",5,{"$f":"IF(ISNA(VLOOKUP(tblSalaries[[#This Row],[Years of Experience]],vlookUpExp!$A$1:$B$56,2,FALSE)),\"No Response\",VLOOKUP(tblSalaries[[#This Row],[Years of Experience]],vlookUpExp!$A$1:$B$56,2,FALSE))","v":"0-5"}]
[null,"ID1678","2012-06-05T03:55:36","US$ 30500",30500,"USD",{"$f":"tblSalaries[[#This Row],[clean Salary (in local currency)]]*VLOOKUP(tblSalaries[[#This Row],[Currency]],tblXrate[],2,FALSE)","v":30500},{"$f":"IF($H$1=\"USD\",tblSalaries[[#This Row],[Salary in USD]],tblSalaries[[#This Row],[Salary in USD]]*VLOOKUP($H$1,USDtoUserChoice,2,FALSE))","v":250160.39},"Financial Analyst","Analyst","Brazil",{"$f":"VLOOKUP(tblSalaries[[#This Row],[Where do you work]],tblCountries[[Actual]:[Mapping]],2,FALSE)","v":"Brazil"},"All the 8 hours baby, all the 8!",8,{"$f":"IF(ISNA(VLOOKUP(tblSalaries[[#This Row],[Years of Experience]],vlookUpExp!$A$1:$B$56,2,FALSE)),\"No Response\",VLOOKUP(tblSalaries[[#This Row],[Years of Experience]],vlookUpExp!$A$1:$B$56,2,FALSE))","v":"6-10"}]
[null,"ID1679","2012-06-05T04:06:09",80000,80000,"USD",{"$f":"tblSalaries[[#This Row],[clean Salary (in local currency)]]*VLOOKUP(tblSalaries[[#This Row],[Currency]],tblXrate[],2,FALSE)","v":80000},{"$f":"IF($H$1=\"USD\",tblSalaries[[#This Row],[Salary in USD]],tblSalaries[[#This Row],[Salary in USD]]*VLOOKUP($H$1,USDtoUserChoice,2,FALSE))","v":656158.4},"Data Resource Specialist","Specialist","USA",{"$f":"VLOOKUP(tblSalaries[[#This Row],[Where do you work]],tblCountries[[Actual]:[Mapping]],2,FALSE)","v":"USA"},"2 to 3 hours per day",2,{"$f":"IF(ISNA(VLOOKUP(tblSalaries[[#This Row],[Years of Experience]],vlookUpExp!$A$1:$B$56,2,FALSE)),\"No Response\",VLOOKUP(tblSalaries[[#This Row],[Years of Experience]],vlookUpExp!$A$1:$B$56,2,FALSE))","v":"0-5"}]
[null,"ID1680","2012-06-05T05:03:04",1000,12000,"USD",{"$f":"tblSalaries[[#This Row],[clean Salary (in local currency)]]*VLOOKUP(tblSalaries[[#This Row],[Currency]],tblXrate[],2,FALSE)","v":12000},{"$f":"IF($H$1=\"USD\",tblSalaries[[#This Row],[Salary in USD]],tblSalaries[[#This Row],[Salary in USD]]*VLOOKUP($H$1,USDtoUserChoice,2,FALSE))","v":98423.760000000009},"Waiter","Analyst","USA",{"$f":"VLOOKUP(tblSalaries[[#This Row],[Where do you work]],tblCountries[[Actual]:[Mapping]],2,FALSE)","v":"USA"},"2 to 3 hours per day",1,{"$f":"IF(ISNA(VLOOKUP(tblSalaries[[#This Row],[Years of Experience]],vlookUpExp!$A$1:$B$56,2,FALSE)),\"No Response\",VLOOKUP(tblSalaries[[#This Row],[Years of Experience]],vlookUpExp!$A$1:$B$56,2,FALSE))","v":"0-5"}]
[null,"ID1681","2012-06-05T05:03:20",48500,48500,"USD",{"$f":"tblSalaries[[#This Row],[clean Salary (in local currency)]]*VLOOKUP(tblSalaries[[#This Row],[Currency]],tblXrate[],2,FALSE)","v":48500},{"$f":"IF($H$1=\"USD\",tblSalaries[[#This Row],[Salary in USD]],tblSalaries[[#This Row],[Salary in USD]]*VLOOKUP($H$1,USDtoUserChoice,2,FALSE))","v":397796.03},"Business Systems Analyst I","Analyst","USA",{"$f":"VLOOKUP(tblSalaries[[#This Row],[Where do you work]],tblCountries[[Actual]:[Mapping]],2,FALSE)","v":"USA"},"4 to 6 hours a day",6,{"$f":"IF(ISNA(VLOOKUP(tblSalaries[[#This Row],[Years of Experience]],vlookUpExp!$A$1:$B$56,2,FALSE)),\"No Response\",VLOOKUP(tblSalaries[[#This Row],[Years of Experience]],vlookUpExp!$A$1:$B$56,2,FALSE))","v":"6-10"}]
[null,"ID1682","2012-06-05T06:51:36","Â£40000",40000,"GBP",{"$f":"tblSalaries[[#This Row],[clean Salary (in local currency)]]*VLOOKUP(tblSalaries[[#This Row],[Currency]],tblXrate[],2,FALSE)","v":63047.130882691366},{"$f":"IF($H$1=\"USD\",tblSalaries[[#This Row],[Salary in USD]],tblSalaries[[#This Row],[Salary in USD]]*VLOOKUP($H$1,USDtoUserChoice,2,FALSE))","v":517111.30655721697},"Technical Specialist","Specialist","UK",{"$f":"VLOOKUP(tblSalaries[[#This Row],[Where do you work]],tblCountries[[Actual]:[Mapping]],2,FALSE)","v":"UK"},"2 to 3 hours per day",25,{"$f":"IF(ISNA(VLOOKUP(tblSalaries[[#This Row],[Years of Experience]],vlookUpExp!$A$1:$B$56,2,FALSE)),\"No Response\",VLOOKUP(tblSalaries[[#This Row],[Years of Experience]],vlookUpExp!$A$1:$B$56,2,FALSE))","v":"21-25"}]
[null,"ID1683","2012-06-05T07:05:12","Rs 16000",192000,"INR",{"$f":"tblSalaries[[#This Row],[clean Salary (in local currency)]]*VLOOKUP(tblSalaries[[#This Row],[Currency]],tblXrate[],2,FALSE)","v":3419.1200039889732},{"$f":"IF($H$1=\"USD\",tblSalaries[[#This Row],[Salary in USD]],tblSalaries[[#This Row],[Salary in USD]]*VLOOKUP($H$1,USDtoUserChoice,2,FALSE))","v":28043.553890317482},"Sr Associate","Analyst","India",{"$f":"VLOOKUP(tblSalaries[[#This Row],[Where do you work]],tblCountries[[Actual]:[Mapping]],2,FALSE)","v":"India"},"4 to 6 hours a day",5,{"$f":"IF(ISNA(VLOOKUP(tblSalaries[[#This Row],[Years of Experience]],vlookUpExp!$A$1:$B$56,2,FALSE)),\"No Response\",VLOOKUP(tblSalaries[[#This Row],[Years of Experience]],vlookUpExp!$A$1:$B$56,2,FALSE))","v":"0-5"}]
[null,"ID1684","2012-06-05T10:43:34",110000,110000,"NZD",{"$f":"tblSalaries[[#This Row],[clean Salary (in local currency)]]*VLOOKUP(tblSalaries[[#This Row],[Currency]],tblXrate[],2,FALSE)","v":87734.690296543267},{"$f":"IF($H$1=\"USD\",tblSalaries[[#This Row],[Salary in USD]],tblSalaries[[#This Row],[Salary in USD]]*VLOOKUP($H$1,USDtoUserChoice,2,FALSE))","v":719598.17511844204},"Enterprise Portfolio Manager","Manager","New Zealand",{"$f":"VLOOKUP(tblSalaries[[#This Row],[Where do you work]],tblCountries[[Actual]:[Mapping]],2,FALSE)","v":"New Zealand"},"4 to 6 hours a day",6,{"$f":"IF(ISNA(VLOOKUP(tblSalaries[[#This Row],[Years of Experience]],vlookUpExp!$A$1:$B$56,2,FALSE)),\"No Response\",VLOOKUP(tblSalaries[[#This Row],[Years of Experience]],vlookUpExp!$A$1:$B$56,2,FALSE))","v":"6-10"}]
[null,"ID1685","2012-06-05T12:42:38","NZD$71000",71000,"NZD",{"$f":"tblSalaries[[#This Row],[clean Salary (in local currency)]]*VLOOKUP(tblSalaries[[#This Row],[Currency]],tblXrate[],2,FALSE)","v":56628.754645950656},{"$f":"IF($H$1=\"USD\",tblSalaries[[#This Row],[Salary in USD]],tblSalaries[[#This Row],[Salary in USD]]*VLOOKUP($H$1,USDtoUserChoice,2,FALSE))","v":464467.91303099442},"Business Analyst","Analyst","NZ",{"$f":"VLOOKUP(tblSalaries[[#This Row],[Where do you work]],tblCountries[[Actual]:[Mapping]],2,FALSE)","v":"New Zealand"},"All the 8 hours baby, all the 8!",6,{"$f":"IF(ISNA(VLOOKUP(tblSalaries[[#This Row],[Years of Experience]],vlookUpExp!$A$1:$B$56,2,FALSE)),\"No Response\",VLOOKUP(tblSalaries[[#This Row],[Years of Experience]],vlookUpExp!$A$1:$B$56,2,FALSE))","v":"6-10"}]
[null,"ID1686","2012-06-05T17:59:39","INR 450000",450000,"INR",{"$f":"tblSalaries[[#This Row],[clean Salary (in local currency)]]*VLOOKUP(tblSalaries[[#This Row],[Currency]],tblXrate[],2,FALSE)","v":8013.5625093491553},{"$f":"IF($H$1=\"USD\",tblSalaries[[#This Row],[Salary in USD]],tblSalaries[[#This Row],[Salary in USD]]*VLOOKUP($H$1,USDtoUserChoice,2,FALSE))","v":65727.079430431593},"Sr Executive - MIS","Reporting","India",{"$f":"VLOOKUP(tblSalaries[[#This Row],[Where do you work]],tblCountries[[Actual]:[Mapping]],2,FALSE)","v":"India"},"All the 8 hours baby, all the 8!",4,{"$f":"IF(ISNA(VLOOKUP(tblSalaries[[#This Row],[Years of Experience]],vlookUpExp!$A$1:$B$56,2,FALSE)),\"No Response\",VLOOKUP(tblSalaries[[#This Row],[Years of Experience]],vlookUpExp!$A$1:$B$56,2,FALSE))","v":"0-5"}]
[null,"ID1687","2012-06-05T18:31:59","200000 INR",200000,"INR",{"$f":"tblSalaries[[#This Row],[clean Salary (in local currency)]]*VLOOKUP(tblSalaries[[#This Row],[Currency]],tblXrate[],2,FALSE)","v":3561.5833374885137},{"$f":"IF($H$1=\"USD\",tblSalaries[[#This Row],[Salary in USD]],tblSalaries[[#This Row],[Salary in USD]]*VLOOKUP($H$1,USDtoUserChoice,2,FALSE))","v":29212.035302414042},"Executive","Analyst","India",{"$f":"VLOOKUP(tblSalaries[[#This Row],[Where do you work]],tblCountries[[Actual]:[Mapping]],2,FALSE)","v":"India"},"1 or 2 hours a day",16,{"$f":"IF(ISNA(VLOOKUP(tblSalaries[[#This Row],[Years of Experience]],vlookUpExp!$A$1:$B$56,2,FALSE)),\"No Response\",VLOOKUP(tblSalaries[[#This Row],[Years of Experience]],vlookUpExp!$A$1:$B$56,2,FALSE))","v":"16-20"}]
[null,"ID1688","2012-06-05T19:14:04",62000,62000,"USD",{"$f":"tblSalaries[[#This Row],[clean Salary (in local currency)]]*VLOOKUP(tblSalaries[[#This Row],[Currency]],tblXrate[],2,FALSE)","v":62000},{"$f":"IF($H$1=\"USD\",tblSalaries[[#This Row],[Salary in USD]],tblSalaries[[#This Row],[Salary in USD]]*VLOOKUP($H$1,USDtoUserChoice,2,FALSE))","v":508522.76000000007},"Quality Engineer","Engineer","USA",{"$f":"VLOOKUP(tblSalaries[[#This Row],[Where do you work]],tblCountries[[Actual]:[Mapping]],2,FALSE)","v":"USA"},"2 to 3 hours per day",12,{"$f":"IF(ISNA(VLOOKUP(tblSalaries[[#This Row],[Years of Experience]],vlookUpExp!$A$1:$B$56,2,FALSE)),\"No Response\",VLOOKUP(tblSalaries[[#This Row],[Years of Experience]],vlookUpExp!$A$1:$B$56,2,FALSE))","v":"11-15"}]
[null,"ID1689","2012-06-05T19:16:03",21000,21000,"EUR",{"$f":"tblSalaries[[#This Row],[clean Salary (in local currency)]]*VLOOKUP(tblSalaries[[#This Row],[Currency]],tblXrate[],2,FALSE)","v":26678.388218823762},{"$f":"IF($H$1=\"USD\",tblSalaries[[#This Row],[Salary in USD]],tblSalaries[[#This Row],[Salary in USD]]*VLOOKUP($H$1,USDtoUserChoice,2,FALSE))","v":218815.60660302814},"Sales Planning","Analyst","Portugal",{"$f":"VLOOKUP(tblSalaries[[#This Row],[Where do you work]],tblCountries[[Actual]:[Mapping]],2,FALSE)","v":"Portugal"},"4 to 6 hours a day",5,{"$f":"IF(ISNA(VLOOKUP(tblSalaries[[#This Row],[Years of Experience]],vlookUpExp!$A$1:$B$56,2,FALSE)),\"No Response\",VLOOKUP(tblSalaries[[#This Row],[Years of Experience]],vlookUpExp!$A$1:$B$56,2,FALSE))","v":"0-5"}]
[null,"ID1690","2012-06-05T19:37:13","Â£45000",45000,"GBP",{"$f":"tblSalaries[[#This Row],[clean Salary (in local currency)]]*VLOOKUP(tblSalaries[[#This Row],[Currency]],tblXrate[],2,FALSE)","v":70928.022243027779},{"$f":"IF($H$1=\"USD\",tblSalaries[[#This Row],[Salary in USD]],tblSalaries[[#This Row],[Salary in USD]]*VLOOKUP($H$1,USDtoUserChoice,2,FALSE))","v":581750.219876869},"Data Analyst","Analyst","UK",{"$f":"VLOOKUP(tblSalaries[[#This Row],[Where do you work]],tblCountries[[Actual]:[Mapping]],2,FALSE)","v":"UK"},"All the 8 hours baby, all the 8!",5,{"$f":"IF(ISNA(VLOOKUP(tblSalaries[[#This Row],[Years of Experience]],vlookUpExp!$A$1:$B$56,2,FALSE)),\"No Response\",VLOOKUP(tblSalaries[[#This Row],[Years of Experience]],vlookUpExp!$A$1:$B$56,2,FALSE))","v":"0-5"}]
[null,"ID1691","2012-06-05T19:59:35",33000,33000,"EUR",{"$f":"tblSalaries[[#This Row],[clean Salary (in local currency)]]*VLOOKUP(tblSalaries[[#This Row],[Currency]],tblXrate[],2,FALSE)","v":41923.181486723057},{"$f":"IF($H$1=\"USD\",tblSalaries[[#This Row],[Salary in USD]],tblSalaries[[#This Row],[Salary in USD]]*VLOOKUP($H$1,USDtoUserChoice,2,FALSE))","v":343853.09609047283},"assistant","Analyst","france",{"$f":"VLOOKUP(tblSalaries[[#This Row],[Where do you work]],tblCountries[[Actual]:[Mapping]],2,FALSE)","v":"France"},"4 to 6 hours a day",6,{"$f":"IF(ISNA(VLOOKUP(tblSalaries[[#This Row],[Years of Experience]],vlookUpExp!$A$1:$B$56,2,FALSE)),\"No Response\",VLOOKUP(tblSalaries[[#This Row],[Years of Experience]],vlookUpExp!$A$1:$B$56,2,FALSE))","v":"6-10"}]
[null,"ID1692","2012-06-05T20:43:21",90000,90000,"USD",{"$f":"tblSalaries[[#This Row],[clean Salary (in local currency)]]*VLOOKUP(tblSalaries[[#This Row],[Currency]],tblXrate[],2,FALSE)","v":90000},{"$f":"IF($H$1=\"USD\",tblSalaries[[#This Row],[Salary in USD]],tblSalaries[[#This Row],[Salary in USD]]*VLOOKUP($H$1,USDtoUserChoice,2,FALSE))","v":738178.20000000007},"Senior QA Tester","Analyst","USA",{"$f":"VLOOKUP(tblSalaries[[#This Row],[Where do you work]],tblCountries[[Actual]:[Mapping]],2,FALSE)","v":"USA"},"2 to 3 hours per day",8,{"$f":"IF(ISNA(VLOOKUP(tblSalaries[[#This Row],[Years of Experience]],vlookUpExp!$A$1:$B$56,2,FALSE)),\"No Response\",VLOOKUP(tblSalaries[[#This Row],[Years of Experience]],vlookUpExp!$A$1:$B$56,2,FALSE))","v":"6-10"}]
[null,"ID1693","2012-06-05T21:07:16","400 000 NOK",400000,"NOK",{"$f":"tblSalaries[[#This Row],[clean Salary (in local currency)]]*VLOOKUP(tblSalaries[[#This Row],[Currency]],tblXrate[],2,FALSE)","v":67700.452577525488},{"$f":"IF($H$1=\"USD\",tblSalaries[[#This Row],[Salary in USD]],tblSalaries[[#This Row],[Salary in USD]]*VLOOKUP($H$1,USDtoUserChoice,2,FALSE))","v":555277.7580318125},"Economic analyst","Analyst","Norway",{"$f":"VLOOKUP(tblSalaries[[#This Row],[Where do you work]],tblCountries[[Actual]:[Mapping]],2,FALSE)","v":"Norway"},"All the 8 hours baby, all the 8!",5,{"$f":"IF(ISNA(VLOOKUP(tblSalaries[[#This Row],[Years of Experience]],vlookUpExp!$A$1:$B$56,2,FALSE)),\"No Response\",VLOOKUP(tblSalaries[[#This Row],[Years of Experience]],vlookUpExp!$A$1:$B$56,2,FALSE))","v":"0-5"}]
[null,"ID1694","2012-06-05T21:33:47",85000,85000,"USD",{"$f":"tblSalaries[[#This Row],[clean Salary (in local currency)]]*VLOOKUP(tblSalaries[[#This Row],[Currency]],tblXrate[],2,FALSE)","v":85000},{"$f":"IF($H$1=\"USD\",tblSalaries[[#This Row],[Salary in USD]],tblSalaries[[#This Row],[Salary in USD]]*VLOOKUP($H$1,USDtoUserChoice,2,FALSE))","v":697168.3},"Financial Analyst","Analyst","USA",{"$f":"VLOOKUP(tblSalaries[[#This Row],[Where do you work]],tblCountries[[Actual]:[Mapping]],2,FALSE)","v":"USA"},"4 to 6 hours a day",12,{"$f":"IF(ISNA(VLOOKUP(tblSalaries[[#This Row],[Years of Experience]],vlookUpExp!$A$1:$B$56,2,FALSE)),\"No Response\",VLOOKUP(tblSalaries[[#This Row],[Years of Experience]],vlookUpExp!$A$1:$B$56,2,FALSE))","v":"11-15"}]
[null,"ID1695","2012-06-05T21:49:10",50000,50000,"GBP",{"$f":"tblSalaries[[#This Row],[clean Salary (in local currency)]]*VLOOKUP(tblSalaries[[#This Row],[Currency]],tblXrate[],2,FALSE)","v":78808.913603364199},{"$f":"IF($H$1=\"USD\",tblSalaries[[#This Row],[Salary in USD]],tblSalaries[[#This Row],[Salary in USD]]*VLOOKUP($H$1,USDtoUserChoice,2,FALSE))","v":646389.1331965212},"Commercial Director","CXO or Top Mgmt.","UK",{"$f":"VLOOKUP(tblSalaries[[#This Row],[Where do you work]],tblCountries[[Actual]:[Mapping]],2,FALSE)","v":"UK"},"4 to 6 hours a day",10,{"$f":"IF(ISNA(VLOOKUP(tblSalaries[[#This Row],[Years of Experience]],vlookUpExp!$A$1:$B$56,2,FALSE)),\"No Response\",VLOOKUP(tblSalaries[[#This Row],[Years of Experience]],vlookUpExp!$A$1:$B$56,2,FALSE))","v":"6-10"}]
[null,"ID1696","2012-06-05T21:59:40",65000,65000,"USD",{"$f":"tblSalaries[[#This Row],[clean Salary (in local currency)]]*VLOOKUP(tblSalaries[[#This Row],[Currency]],tblXrate[],2,FALSE)","v":65000},{"$f":"IF($H$1=\"USD\",tblSalaries[[#This Row],[Salary in USD]],tblSalaries[[#This Row],[Salary in USD]]*VLOOKUP($H$1,USDtoUserChoice,2,FALSE))","v":533128.70000000007},"Business Analyst","Analyst","USA",{"$f":"VLOOKUP(tblSalaries[[#This Row],[Where do you work]],tblCountries[[Actual]:[Mapping]],2,FALSE)","v":"USA"},"4 to 6 hours a day",8,{"$f":"IF(ISNA(VLOOKUP(tblSalaries[[#This Row],[Years of Experience]],vlookUpExp!$A$1:$B$56,2,FALSE)),\"No Response\",VLOOKUP(tblSalaries[[#This Row],[Years of Experience]],vlookUpExp!$A$1:$B$56,2,FALSE))","v":"6-10"}]
[null,"ID1697","2012-06-05T22:05:10",75000,75000,"USD",{"$f":"tblSalaries[[#This Row],[clean Salary (in local currency)]]*VLOOKUP(tblSalaries[[#This Row],[Currency]],tblXrate[],2,FALSE)","v":75000},{"$f":"IF($H$1=\"USD\",tblSalaries[[#This Row],[Salary in USD]],tblSalaries[[#This Row],[Salary in USD]]*VLOOKUP($H$1,USDtoUserChoice,2,FALSE))","v":615148.5},"Directer of Sales Support","CXO or Top Mgmt.","USA",{"$f":"VLOOKUP(tblSalaries[[#This Row],[Where do you work]],tblCountries[[Actual]:[Mapping]],2,FALSE)","v":"USA"},"2 to 3 hours per day",3,{"$f":"IF(ISNA(VLOOKUP(tblSalaries[[#This Row],[Years of Experience]],vlookUpExp!$A$1:$B$56,2,FALSE)),\"No Response\",VLOOKUP(tblSalaries[[#This Row],[Years of Experience]],vlookUpExp!$A$1:$B$56,2,FALSE))","v":"0-5"}]
[null,"ID1698","2012-06-05T22:44:27",92000,92000,"USD",{"$f":"tblSalaries[[#This Row],[clean Salary (in local currency)]]*VLOOKUP(tblSalaries[[#This Row],[Currency]],tblXrate[],2,FALSE)","v":92000},{"$f":"IF($H$1=\"USD\",tblSalaries[[#This Row],[Salary in USD]],tblSalaries[[#This Row],[Salary in USD]]*VLOOKUP($H$1,USDtoUserChoice,2,FALSE))","v":754582.16},"Anallyst","Analyst","USA",{"$f":"VLOOKUP(tblSalaries[[#This Row],[Where do you work]],tblCountries[[Actual]:[Mapping]],2,FALSE)","v":"USA"},"4 to 6 hours a day",9,{"$f":"IF(ISNA(VLOOKUP(tblSalaries[[#This Row],[Years of Experience]],vlookUpExp!$A$1:$B$56,2,FALSE)),\"No Response\",VLOOKUP(tblSalaries[[#This Row],[Years of Experience]],vlookUpExp!$A$1:$B$56,2,FALSE))","v":"6-10"}]
[null,"ID1699","2012-06-05T22:50:20",40000,40000,"EUR",{"$f":"tblSalaries[[#This Row],[clean Salary (in local currency)]]*VLOOKUP(tblSalaries[[#This Row],[Currency]],tblXrate[],2,FALSE)","v":50815.977559664309},{"$f":"IF($H$1=\"USD\",tblSalaries[[#This Row],[Salary in USD]],tblSalaries[[#This Row],[Salary in USD]]*VLOOKUP($H$1,USDtoUserChoice,2,FALSE))","v":416791.63162481552},"Financial Analyst","Analyst","Germany",{"$f":"VLOOKUP(tblSalaries[[#This Row],[Where do you work]],tblCountries[[Actual]:[Mapping]],2,FALSE)","v":"Germany"},"2 to 3 hours per day",3,{"$f":"IF(ISNA(VLOOKUP(tblSalaries[[#This Row],[Years of Experience]],vlookUpExp!$A$1:$B$56,2,FALSE)),\"No Response\",VLOOKUP(tblSalaries[[#This Row],[Years of Experience]],vlookUpExp!$A$1:$B$56,2,FALSE))","v":"0-5"}]
[null,"ID1700","2012-06-05T23:09:44","Â£35500",35500,"GBP",{"$f":"tblSalaries[[#This Row],[clean Salary (in local currency)]]*VLOOKUP(tblSalaries[[#This Row],[Currency]],tblXrate[],2,FALSE)","v":55954.328658388586},{"$f":"IF($H$1=\"USD\",tblSalaries[[#This Row],[Salary in USD]],tblSalaries[[#This Row],[Salary in USD]]*VLOOKUP($H$1,USDtoUserChoice,2,FALSE))","v":458936.28456953005},"Assistant Accountant","Accountant","UK",{"$f":"VLOOKUP(tblSalaries[[#This Row],[Where do you work]],tblCountries[[Actual]:[Mapping]],2,FALSE)","v":"UK"},"4 to 6 hours a day",8,{"$f":"IF(ISNA(VLOOKUP(tblSalaries[[#This Row],[Years of Experience]],vlookUpExp!$A$1:$B$56,2,FALSE)),\"No Response\",VLOOKUP(tblSalaries[[#This Row],[Years of Experience]],vlookUpExp!$A$1:$B$56,2,FALSE))","v":"6-10"}]
[null,"ID1701","2012-06-06T00:49:15",45000,45000,"USD",{"$f":"tblSalaries[[#This Row],[clean Salary (in local currency)]]*VLOOKUP(tblSalaries[[#This Row],[Currency]],tblXrate[],2,FALSE)","v":45000},{"$f":"IF($H$1=\"USD\",tblSalaries[[#This Row],[Salary in USD]],tblSalaries[[#This Row],[Salary in USD]]*VLOOKUP($H$1,USDtoUserChoice,2,FALSE))","v":369089.10000000003},"Bussiness Analyst","Analyst","USA",{"$f":"VLOOKUP(tblSalaries[[#This Row],[Where do you work]],tblCountries[[Actual]:[Mapping]],2,FALSE)","v":"USA"},"2 to 3 hours per day",4,{"$f":"IF(ISNA(VLOOKUP(tblSalaries[[#This Row],[Years of Experience]],vlookUpExp!$A$1:$B$56,2,FALSE)),\"No Response\",VLOOKUP(tblSalaries[[#This Row],[Years of Experience]],vlookUpExp!$A$1:$B$56,2,FALSE))","v":"0-5"}]
[null,"ID1702","2012-06-06T01:04:35","4 lacs INR",400000,"INR",{"$f":"tblSalaries[[#This Row],[clean Salary (in local currency)]]*VLOOKUP(tblSalaries[[#This Row],[Currency]],tblXrate[],2,FALSE)","v":7123.1666749770275},{"$f":"IF($H$1=\"USD\",tblSalaries[[#This Row],[Salary in USD]],tblSalaries[[#This Row],[Salary in USD]]*VLOOKUP($H$1,USDtoUserChoice,2,FALSE))","v":58424.070604828084},"Analyst","Analyst","India",{"$f":"VLOOKUP(tblSalaries[[#This Row],[Where do you work]],tblCountries[[Actual]:[Mapping]],2,FALSE)","v":"India"},"4 to 6 hours a day",4,{"$f":"IF(ISNA(VLOOKUP(tblSalaries[[#This Row],[Years of Experience]],vlookUpExp!$A$1:$B$56,2,FALSE)),\"No Response\",VLOOKUP(tblSalaries[[#This Row],[Years of Experience]],vlookUpExp!$A$1:$B$56,2,FALSE))","v":"0-5"}]
[null,"ID1703","2012-06-06T01:26:56","38920EUR",38920,"EUR",{"$f":"tblSalaries[[#This Row],[clean Salary (in local currency)]]*VLOOKUP(tblSalaries[[#This Row],[Currency]],tblXrate[],2,FALSE)","v":49443.946165553374},{"$f":"IF($H$1=\"USD\",tblSalaries[[#This Row],[Salary in USD]],tblSalaries[[#This Row],[Salary in USD]]*VLOOKUP($H$1,USDtoUserChoice,2,FALSE))","v":405538.25757094548},"functional analyst","Analyst","Belgium",{"$f":"VLOOKUP(tblSalaries[[#This Row],[Where do you work]],tblCountries[[Actual]:[Mapping]],2,FALSE)","v":"Belgium"},"4 to 6 hours a day",1.5,{"$f":"IF(ISNA(VLOOKUP(tblSalaries[[#This Row],[Years of Experience]],vlookUpExp!$A$1:$B$56,2,FALSE)),\"No Response\",VLOOKUP(tblSalaries[[#This Row],[Years of Experience]],vlookUpExp!$A$1:$B$56,2,FALSE))","v":"0-5"}]
[null,"ID1704","2012-06-06T01:41:40","US$45,000",45000,"USD",{"$f":"tblSalaries[[#This Row],[clean Salary (in local currency)]]*VLOOKUP(tblSalaries[[#This Row],[Currency]],tblXrate[],2,FALSE)","v":45000},{"$f":"IF($H$1=\"USD\",tblSalaries[[#This Row],[Salary in USD]],tblSalaries[[#This Row],[Salary in USD]]*VLOOKUP($H$1,USDtoUserChoice,2,FALSE))","v":369089.10000000003},"CFO","CXO or Top Mgmt.","Mexico",{"$f":"VLOOKUP(tblSalaries[[#This Row],[Where do you work]],tblCountries[[Actual]:[Mapping]],2,FALSE)","v":"Mexico"},"4 to 6 hours a day",5,{"$f":"IF(ISNA(VLOOKUP(tblSalaries[[#This Row],[Years of Experience]],vlookUpExp!$A$1:$B$56,2,FALSE)),\"No Response\",VLOOKUP(tblSalaries[[#This Row],[Years of Experience]],vlookUpExp!$A$1:$B$56,2,FALSE))","v":"0-5"}]
[null,"ID1705","2012-06-06T02:11:58","US$60000",60000,"USD",{"$f":"tblSalaries[[#This Row],[clean Salary (in local currency)]]*VLOOKUP(tblSalaries[[#This Row],[Currency]],tblXrate[],2,FALSE)","v":60000},{"$f":"IF($H$1=\"USD\",tblSalaries[[#This Row],[Salary in USD]],tblSalaries[[#This Row],[Salary in USD]]*VLOOKUP($H$1,USDtoUserChoice,2,FALSE))","v":492118.80000000005},"Analyst","Analyst","USA",{"$f":"VLOOKUP(tblSalaries[[#This Row],[Where do you work]],tblCountries[[Actual]:[Mapping]],2,FALSE)","v":"USA"},"All the 8 hours baby, all the 8!",1,{"$f":"IF(ISNA(VLOOKUP(tblSalaries[[#This Row],[Years of Experience]],vlookUpExp!$A$1:$B$56,2,FALSE)),\"No Response\",VLOOKUP(tblSalaries[[#This Row],[Years of Experience]],vlookUpExp!$A$1:$B$56,2,FALSE))","v":"0-5"}]
[null,"ID1706","2012-06-06T02:17:14",65000,65000,"USD",{"$f":"tblSalaries[[#This Row],[clean Salary (in local currency)]]*VLOOKUP(tblSalaries[[#This Row],[Currency]],tblXrate[],2,FALSE)","v":65000},{"$f":"IF($H$1=\"USD\",tblSalaries[[#This Row],[Salary in USD]],tblSalaries[[#This Row],[Salary in USD]]*VLOOKUP($H$1,USDtoUserChoice,2,FALSE))","v":533128.70000000007},"Actuarial Analyst","Analyst","USA",{"$f":"VLOOKUP(tblSalaries[[#This Row],[Where do you work]],tblCountries[[Actual]:[Mapping]],2,FALSE)","v":"USA"},"All the 8 hours baby, all the 8!",4,{"$f":"IF(ISNA(VLOOKUP(tblSalaries[[#This Row],[Years of Experience]],vlookUpExp!$A$1:$B$56,2,FALSE)),\"No Response\",VLOOKUP(tblSalaries[[#This Row],[Years of Experience]],vlookUpExp!$A$1:$B$56,2,FALSE))","v":"0-5"}]
[null,"ID1707","2012-06-06T03:14:56",73000,73000,"USD",{"$f":"tblSalaries[[#This Row],[clean Salary (in local currency)]]*VLOOKUP(tblSalaries[[#This Row],[Currency]],tblXrate[],2,FALSE)","v":73000},{"$f":"IF($H$1=\"USD\",tblSalaries[[#This Row],[Salary in USD]],tblSalaries[[#This Row],[Salary in USD]]*VLOOKUP($H$1,USDtoUserChoice,2,FALSE))","v":598744.54},"process coordinator","Manager","USA",{"$f":"VLOOKUP(tblSalaries[[#This Row],[Where do you work]],tblCountries[[Actual]:[Mapping]],2,FALSE)","v":"USA"},"2 to 3 hours per day",6,{"$f":"IF(ISNA(VLOOKUP(tblSalaries[[#This Row],[Years of Experience]],vlookUpExp!$A$1:$B$56,2,FALSE)),\"No Response\",VLOOKUP(tblSalaries[[#This Row],[Years of Experience]],vlookUpExp!$A$1:$B$56,2,FALSE))","v":"6-10"}]
[null,"ID1708","2012-06-06T04:00:52",54000,54000,"USD",{"$f":"tblSalaries[[#This Row],[clean Salary (in local currency)]]*VLOOKUP(tblSalaries[[#This Row],[Currency]],tblXrate[],2,FALSE)","v":54000},{"$f":"IF($H$1=\"USD\",tblSalaries[[#This Row],[Salary in USD]],tblSalaries[[#This Row],[Salary in USD]]*VLOOKUP($H$1,USDtoUserChoice,2,FALSE))","v":442906.92000000004},"Energy Analyst","Analyst","USA",{"$f":"VLOOKUP(tblSalaries[[#This Row],[Where do you work]],tblCountries[[Actual]:[Mapping]],2,FALSE)","v":"USA"},"All the 8 hours baby, all the 8!",6,{"$f":"IF(ISNA(VLOOKUP(tblSalaries[[#This Row],[Years of Experience]],vlookUpExp!$A$1:$B$56,2,FALSE)),\"No Response\",VLOOKUP(tblSalaries[[#This Row],[Years of Experience]],vlookUpExp!$A$1:$B$56,2,FALSE))","v":"6-10"}]
[null,"ID1710","2012-06-06T05:52:59",81000,81000,"USD",{"$f":"tblSalaries[[#This Row],[clean Salary (in local currency)]]*VLOOKUP(tblSalaries[[#This Row],[Currency]],tblXrate[],2,FALSE)","v":81000},{"$f":"IF($H$1=\"USD\",tblSalaries[[#This Row],[Salary in USD]],tblSalaries[[#This Row],[Salary in USD]]*VLOOKUP($H$1,USDtoUserChoice,2,FALSE))","v":664360.38},"Contact Operations Analyst","Analyst","USA",{"$f":"VLOOKUP(tblSalaries[[#This Row],[Where do you work]],tblCountries[[Actual]:[Mapping]],2,FALSE)","v":"USA"},"4 to 6 hours a day",6,{"$f":"IF(ISNA(VLOOKUP(tblSalaries[[#This Row],[Years of Experience]],vlookUpExp!$A$1:$B$56,2,FALSE)),\"No Response\",VLOOKUP(tblSalaries[[#This Row],[Years of Experience]],vlookUpExp!$A$1:$B$56,2,FALSE))","v":"6-10"}]
[null,"ID1711","2012-06-06T07:28:48",10000,10000,"USD",{"$f":"tblSalaries[[#This Row],[clean Salary (in local currency)]]*VLOOKUP(tblSalaries[[#This Row],[Currency]],tblXrate[],2,FALSE)","v":10000},{"$f":"IF($H$1=\"USD\",tblSalaries[[#This Row],[Salary in USD]],tblSalaries[[#This Row],[Salary in USD]]*VLOOKUP($H$1,USDtoUserChoice,2,FALSE))","v":82019.8},"Student assistant","Analyst","USA",{"$f":"VLOOKUP(tblSalaries[[#This Row],[Where do you work]],tblCountries[[Actual]:[Mapping]],2,FALSE)","v":"USA"},"4 to 6 hours a day",2,{"$f":"IF(ISNA(VLOOKUP(tblSalaries[[#This Row],[Years of Experience]],vlookUpExp!$A$1:$B$56,2,FALSE)),\"No Response\",VLOOKUP(tblSalaries[[#This Row],[Years of Experience]],vlookUpExp!$A$1:$B$56,2,FALSE))","v":"0-5"}]
[null,"ID1712","2012-06-06T08:25:56",42000,42000,"USD",{"$f":"tblSalaries[[#This Row],[clean Salary (in local currency)]]*VLOOKUP(tblSalaries[[#This Row],[Currency]],tblXrate[],2,FALSE)","v":42000},{"$f":"IF($H$1=\"USD\",tblSalaries[[#This Row],[Salary in USD]],tblSalaries[[#This Row],[Salary in USD]]*VLOOKUP($H$1,USDtoUserChoice,2,FALSE))","v":344483.16000000003},"Staff Accountant","Accountant","USA",{"$f":"VLOOKUP(tblSalaries[[#This Row],[Where do you work]],tblCountries[[Actual]:[Mapping]],2,FALSE)","v":"USA"},"4 to 6 hours a day",1,{"$f":"IF(ISNA(VLOOKUP(tblSalaries[[#This Row],[Years of Experience]],vlookUpExp!$A$1:$B$56,2,FALSE)),\"No Response\",VLOOKUP(tblSalaries[[#This Row],[Years of Experience]],vlookUpExp!$A$1:$B$56,2,FALSE))","v":"0-5"}]
[null,"ID1713","2012-06-06T09:31:47",80000,80000,"AUD",{"$f":"tblSalaries[[#This Row],[clean Salary (in local currency)]]*VLOOKUP(tblSalaries[[#This Row],[Currency]],tblXrate[],2,FALSE)","v":81592.772512210868},{"$f":"IF($H$1=\"USD\",tblSalaries[[#This Row],[Salary in USD]],tblSalaries[[#This Row],[Salary in USD]]*VLOOKUP($H$1,USDtoUserChoice,2,FALSE))","v":669222.28828970331},"PPC Search Specialist","Specialist","Australia",{"$f":"VLOOKUP(tblSalaries[[#This Row],[Where do you work]],tblCountries[[Actual]:[Mapping]],2,FALSE)","v":"Australia"},"4 to 6 hours a day",5,{"$f":"IF(ISNA(VLOOKUP(tblSalaries[[#This Row],[Years of Experience]],vlookUpExp!$A$1:$B$56,2,FALSE)),\"No Response\",VLOOKUP(tblSalaries[[#This Row],[Years of Experience]],vlookUpExp!$A$1:$B$56,2,FALSE))","v":"0-5"}]
[null,"ID1714","2012-06-06T11:21:08",36000,36000,"CAD",{"$f":"tblSalaries[[#This Row],[clean Salary (in local currency)]]*VLOOKUP(tblSalaries[[#This Row],[Currency]],tblXrate[],2,FALSE)","v":35401.014829091764},{"$f":"IF($H$1=\"USD\",tblSalaries[[#This Row],[Salary in USD]],tblSalaries[[#This Row],[Salary in USD]]*VLOOKUP($H$1,USDtoUserChoice,2,FALSE))","v":290358.4156079141},"data organizer","Analyst","Canada",{"$f":"VLOOKUP(tblSalaries[[#This Row],[Where do you work]],tblCountries[[Actual]:[Mapping]],2,FALSE)","v":"Canada"},"All the 8 hours baby, all the 8!",2,{"$f":"IF(ISNA(VLOOKUP(tblSalaries[[#This Row],[Years of Experience]],vlookUpExp!$A$1:$B$56,2,FALSE)),\"No Response\",VLOOKUP(tblSalaries[[#This Row],[Years of Experience]],vlookUpExp!$A$1:$B$56,2,FALSE))","v":"0-5"}]
[null,"ID1716","2012-06-06T16:03:39",500000,500000,"INR",{"$f":"tblSalaries[[#This Row],[clean Salary (in local currency)]]*VLOOKUP(tblSalaries[[#This Row],[Currency]],tblXrate[],2,FALSE)","v":8903.9583437212841},{"$f":"IF($H$1=\"USD\",tblSalaries[[#This Row],[Salary in USD]],tblSalaries[[#This Row],[Salary in USD]]*VLOOKUP($H$1,USDtoUserChoice,2,FALSE))","v":73030.088256035102},"Sr. Associate","Analyst","India",{"$f":"VLOOKUP(tblSalaries[[#This Row],[Where do you work]],tblCountries[[Actual]:[Mapping]],2,FALSE)","v":"India"},"4 to 6 hours a day",4,{"$f":"IF(ISNA(VLOOKUP(tblSalaries[[#This Row],[Years of Experience]],vlookUpExp!$A$1:$B$56,2,FALSE)),\"No Response\",VLOOKUP(tblSalaries[[#This Row],[Years of Experience]],vlookUpExp!$A$1:$B$56,2,FALSE))","v":"0-5"}]
[null,"ID1717","2012-06-06T17:41:41",600000,600000,"INR",{"$f":"tblSalaries[[#This Row],[clean Salary (in local currency)]]*VLOOKUP(tblSalaries[[#This Row],[Currency]],tblXrate[],2,FALSE)","v":10684.750012465542},{"$f":"IF($H$1=\"USD\",tblSalaries[[#This Row],[Salary in USD]],tblSalaries[[#This Row],[Salary in USD]]*VLOOKUP($H$1,USDtoUserChoice,2,FALSE))","v":87636.105907242134},"admin","Analyst","India",{"$f":"VLOOKUP(tblSalaries[[#This Row],[Where do you work]],tblCountries[[Actual]:[Mapping]],2,FALSE)","v":"India"},"All the 8 hours baby, all the 8!",5,{"$f":"IF(ISNA(VLOOKUP(tblSalaries[[#This Row],[Years of Experience]],vlookUpExp!$A$1:$B$56,2,FALSE)),\"No Response\",VLOOKUP(tblSalaries[[#This Row],[Years of Experience]],vlookUpExp!$A$1:$B$56,2,FALSE))","v":"0-5"}]
[null,"ID1718","2012-06-06T18:52:03",700,8400,"USD",{"$f":"tblSalaries[[#This Row],[clean Salary (in local currency)]]*VLOOKUP(tblSalaries[[#This Row],[Currency]],tblXrate[],2,FALSE)","v":8400},{"$f":"IF($H$1=\"USD\",tblSalaries[[#This Row],[Salary in USD]],tblSalaries[[#This Row],[Salary in USD]]*VLOOKUP($H$1,USDtoUserChoice,2,FALSE))","v":68896.632000000012},"gov employee","Analyst","indonesia",{"$f":"VLOOKUP(tblSalaries[[#This Row],[Where do you work]],tblCountries[[Actual]:[Mapping]],2,FALSE)","v":"Indonesia"},"4 to 6 hours a day",14,{"$f":"IF(ISNA(VLOOKUP(tblSalaries[[#This Row],[Years of Experience]],vlookUpExp!$A$1:$B$56,2,FALSE)),\"No Response\",VLOOKUP(tblSalaries[[#This Row],[Years of Experience]],vlookUpExp!$A$1:$B$56,2,FALSE))","v":"11-15"}]
[null,"ID1719","2012-06-06T19:39:06",550000,550000,"INR",{"$f":"tblSalaries[[#This Row],[clean Salary (in local currency)]]*VLOOKUP(tblSalaries[[#This Row],[Currency]],tblXrate[],2,FALSE)","v":9794.354178093412},{"$f":"IF($H$1=\"USD\",tblSalaries[[#This Row],[Salary in USD]],tblSalaries[[#This Row],[Salary in USD]]*VLOOKUP($H$1,USDtoUserChoice,2,FALSE))","v":80333.097081638611},"Accounts manager","Manager","India",{"$f":"VLOOKUP(tblSalaries[[#This Row],[Where do you work]],tblCountries[[Actual]:[Mapping]],2,FALSE)","v":"India"},"4 to 6 hours a day",13,{"$f":"IF(ISNA(VLOOKUP(tblSalaries[[#This Row],[Years of Experience]],vlookUpExp!$A$1:$B$56,2,FALSE)),\"No Response\",VLOOKUP(tblSalaries[[#This Row],[Years of Experience]],vlookUpExp!$A$1:$B$56,2,FALSE))","v":"11-15"}]
[null,"ID1720","2012-06-06T19:54:49",1200,14400,"USD",{"$f":"tblSalaries[[#This Row],[clean Salary (in local currency)]]*VLOOKUP(tblSalaries[[#This Row],[Currency]],tblXrate[],2,FALSE)","v":14400},{"$f":"IF($H$1=\"USD\",tblSalaries[[#This Row],[Salary in USD]],tblSalaries[[#This Row],[Salary in USD]]*VLOOKUP($H$1,USDtoUserChoice,2,FALSE))","v":118108.51200000002},"Engineer","Engineer","India",{"$f":"VLOOKUP(tblSalaries[[#This Row],[Where do you work]],tblCountries[[Actual]:[Mapping]],2,FALSE)","v":"India"},"1 or 2 hours a day",8,{"$f":"IF(ISNA(VLOOKUP(tblSalaries[[#This Row],[Years of Experience]],vlookUpExp!$A$1:$B$56,2,FALSE)),\"No Response\",VLOOKUP(tblSalaries[[#This Row],[Years of Experience]],vlookUpExp!$A$1:$B$56,2,FALSE))","v":"6-10"}]
[null,"ID1721","2012-06-06T20:07:43","1.5 LINR",150000,"INR",{"$f":"tblSalaries[[#This Row],[clean Salary (in local currency)]]*VLOOKUP(tblSalaries[[#This Row],[Currency]],tblXrate[],2,FALSE)","v":2671.1875031163854},{"$f":"IF($H$1=\"USD\",tblSalaries[[#This Row],[Salary in USD]],tblSalaries[[#This Row],[Salary in USD]]*VLOOKUP($H$1,USDtoUserChoice,2,FALSE))","v":21909.026476810533},"MIS Executive","Reporting","India",{"$f":"VLOOKUP(tblSalaries[[#This Row],[Where do you work]],tblCountries[[Actual]:[Mapping]],2,FALSE)","v":"India"},"All the 8 hours baby, all the 8!",3,{"$f":"IF(ISNA(VLOOKUP(tblSalaries[[#This Row],[Years of Experience]],vlookUpExp!$A$1:$B$56,2,FALSE)),\"No Response\",VLOOKUP(tblSalaries[[#This Row],[Years of Experience]],vlookUpExp!$A$1:$B$56,2,FALSE))","v":"0-5"}]
[null,"ID1722","2012-06-06T20:41:35",22000,22000,"USD",{"$f":"tblSalaries[[#This Row],[clean Salary (in local currency)]]*VLOOKUP(tblSalaries[[#This Row],[Currency]],tblXrate[],2,FALSE)","v":22000},{"$f":"IF($H$1=\"USD\",tblSalaries[[#This Row],[Salary in USD]],tblSalaries[[#This Row],[Salary in USD]]*VLOOKUP($H$1,USDtoUserChoice,2,FALSE))","v":180443.56000000003},"Manager (MIS)","Manager","India",{"$f":"VLOOKUP(tblSalaries[[#This Row],[Where do you work]],tblCountries[[Actual]:[Mapping]],2,FALSE)","v":"India"},"All the 8 hours baby, all the 8!",6,{"$f":"IF(ISNA(VLOOKUP(tblSalaries[[#This Row],[Years of Experience]],vlookUpExp!$A$1:$B$56,2,FALSE)),\"No Response\",VLOOKUP(tblSalaries[[#This Row],[Years of Experience]],vlookUpExp!$A$1:$B$56,2,FALSE))","v":"6-10"}]
[null,"ID1723","2012-06-06T21:18:51",100000,100000,"USD",{"$f":"tblSalaries[[#This Row],[clean Salary (in local currency)]]*VLOOKUP(tblSalaries[[#This Row],[Currency]],tblXrate[],2,FALSE)","v":100000},{"$f":"IF($H$1=\"USD\",tblSalaries[[#This Row],[Salary in USD]],tblSalaries[[#This Row],[Salary in USD]]*VLOOKUP($H$1,USDtoUserChoice,2,FALSE))","v":820198.00000000012},"financial analyst (real estate)","Analyst","Russia",{"$f":"VLOOKUP(tblSalaries[[#This Row],[Where do you work]],tblCountries[[Actual]:[Mapping]],2,FALSE)","v":"Russia"},"All the 8 hours baby, all the 8!",6,{"$f":"IF(ISNA(VLOOKUP(tblSalaries[[#This Row],[Years of Experience]],vlookUpExp!$A$1:$B$56,2,FALSE)),\"No Response\",VLOOKUP(tblSalaries[[#This Row],[Years of Experience]],vlookUpExp!$A$1:$B$56,2,FALSE))","v":"6-10"}]
[null,"ID1724","2012-06-06T21:20:38",40000,40000,"GBP",{"$f":"tblSalaries[[#This Row],[clean Salary (in local currency)]]*VLOOKUP(tblSalaries[[#This Row],[Currency]],tblXrate[],2,FALSE)","v":63047.130882691366},{"$f":"IF($H$1=\"USD\",tblSalaries[[#This Row],[Salary in USD]],tblSalaries[[#This Row],[Salary in USD]]*VLOOKUP($H$1,USDtoUserChoice,2,FALSE))","v":517111.30655721697},"project manager","Manager","UK",{"$f":"VLOOKUP(tblSalaries[[#This Row],[Where do you work]],tblCountries[[Actual]:[Mapping]],2,FALSE)","v":"UK"},"4 to 6 hours a day",15,{"$f":"IF(ISNA(VLOOKUP(tblSalaries[[#This Row],[Years of Experience]],vlookUpExp!$A$1:$B$56,2,FALSE)),\"No Response\",VLOOKUP(tblSalaries[[#This Row],[Years of Experience]],vlookUpExp!$A$1:$B$56,2,FALSE))","v":"11-15"}]
[null,"ID1725","2012-06-06T22:14:27","36000stg",36000,"GBP",{"$f":"tblSalaries[[#This Row],[clean Salary (in local currency)]]*VLOOKUP(tblSalaries[[#This Row],[Currency]],tblXrate[],2,FALSE)","v":56742.417794422225},{"$f":"IF($H$1=\"USD\",tblSalaries[[#This Row],[Salary in USD]],tblSalaries[[#This Row],[Salary in USD]]*VLOOKUP($H$1,USDtoUserChoice,2,FALSE))","v":465400.17590149521},"contracts officer","Manager","UK",{"$f":"VLOOKUP(tblSalaries[[#This Row],[Where do you work]],tblCountries[[Actual]:[Mapping]],2,FALSE)","v":"UK"},"1 or 2 hours a day",25,{"$f":"IF(ISNA(VLOOKUP(tblSalaries[[#This Row],[Years of Experience]],vlookUpExp!$A$1:$B$56,2,FALSE)),\"No Response\",VLOOKUP(tblSalaries[[#This Row],[Years of Experience]],vlookUpExp!$A$1:$B$56,2,FALSE))","v":"21-25"}]
[null,"ID1726","2012-06-06T22:42:16",25000,25000,"USD",{"$f":"tblSalaries[[#This Row],[clean Salary (in local currency)]]*VLOOKUP(tblSalaries[[#This Row],[Currency]],tblXrate[],2,FALSE)","v":25000},{"$f":"IF($H$1=\"USD\",tblSalaries[[#This Row],[Salary in USD]],tblSalaries[[#This Row],[Salary in USD]]*VLOOKUP($H$1,USDtoUserChoice,2,FALSE))","v":205049.50000000003},"exe","Analyst","India",{"$f":"VLOOKUP(tblSalaries[[#This Row],[Where do you work]],tblCountries[[Actual]:[Mapping]],2,FALSE)","v":"India"},"All the 8 hours baby, all the 8!",8,{"$f":"IF(ISNA(VLOOKUP(tblSalaries[[#This Row],[Years of Experience]],vlookUpExp!$A$1:$B$56,2,FALSE)),\"No Response\",VLOOKUP(tblSalaries[[#This Row],[Years of Experience]],vlookUpExp!$A$1:$B$56,2,FALSE))","v":"6-10"}]
[null,"ID1727","2012-06-07T00:32:24","500000vINR",500000,"INR",{"$f":"tblSalaries[[#This Row],[clean Salary (in local currency)]]*VLOOKUP(tblSalaries[[#This Row],[Currency]],tblXrate[],2,FALSE)","v":8903.9583437212841},{"$f":"IF($H$1=\"USD\",tblSalaries[[#This Row],[Salary in USD]],tblSalaries[[#This Row],[Salary in USD]]*VLOOKUP($H$1,USDtoUserChoice,2,FALSE))","v":73030.088256035102},"Business Analyst","Analyst","India",{"$f":"VLOOKUP(tblSalaries[[#This Row],[Where do you work]],tblCountries[[Actual]:[Mapping]],2,FALSE)","v":"India"},"4 to 6 hours a day",2,{"$f":"IF(ISNA(VLOOKUP(tblSalaries[[#This Row],[Years of Experience]],vlookUpExp!$A$1:$B$56,2,FALSE)),\"No Response\",VLOOKUP(tblSalaries[[#This Row],[Years of Experience]],vlookUpExp!$A$1:$B$56,2,FALSE))","v":"0-5"}]
[null,"ID1729","2012-06-07T06:22:17","Â£27000",27000,"GBP",{"$f":"tblSalaries[[#This Row],[clean Salary (in local currency)]]*VLOOKUP(tblSalaries[[#This Row],[Currency]],tblXrate[],2,FALSE)","v":42556.81334581667},{"$f":"IF($H$1=\"USD\",tblSalaries[[#This Row],[Salary in USD]],tblSalaries[[#This Row],[Salary in USD]]*VLOOKUP($H$1,USDtoUserChoice,2,FALSE))","v":349050.13192612142},"Network Designer","Analyst","UK",{"$f":"VLOOKUP(tblSalaries[[#This Row],[Where do you work]],tblCountries[[Actual]:[Mapping]],2,FALSE)","v":"UK"},"4 to 6 hours a day",2,{"$f":"IF(ISNA(VLOOKUP(tblSalaries[[#This Row],[Years of Experience]],vlookUpExp!$A$1:$B$56,2,FALSE)),\"No Response\",VLOOKUP(tblSalaries[[#This Row],[Years of Experience]],vlookUpExp!$A$1:$B$56,2,FALSE))","v":"0-5"}]
[null,"ID1730","2012-06-07T08:36:51",134000,134000,"CAD",{"$f":"tblSalaries[[#This Row],[clean Salary (in local currency)]]*VLOOKUP(tblSalaries[[#This Row],[Currency]],tblXrate[],2,FALSE)","v":131770.4440860638},{"$f":"IF($H$1=\"USD\",tblSalaries[[#This Row],[Salary in USD]],tblSalaries[[#This Row],[Salary in USD]]*VLOOKUP($H$1,USDtoUserChoice,2,FALSE))","v":1080778.5469850136},"Senior Production Accountant","Accountant","Canada",{"$f":"VLOOKUP(tblSalaries[[#This Row],[Where do you work]],tblCountries[[Actual]:[Mapping]],2,FALSE)","v":"Canada"},"All the 8 hours baby, all the 8!",20,{"$f":"IF(ISNA(VLOOKUP(tblSalaries[[#This Row],[Years of Experience]],vlookUpExp!$A$1:$B$56,2,FALSE)),\"No Response\",VLOOKUP(tblSalaries[[#This Row],[Years of Experience]],vlookUpExp!$A$1:$B$56,2,FALSE))","v":"16-20"}]
[null,"ID1731","2012-06-07T09:25:45",70000,70000,"CAD",{"$f":"tblSalaries[[#This Row],[clean Salary (in local currency)]]*VLOOKUP(tblSalaries[[#This Row],[Currency]],tblXrate[],2,FALSE)","v":68835.306612122877},{"$f":"IF($H$1=\"USD\",tblSalaries[[#This Row],[Salary in USD]],tblSalaries[[#This Row],[Salary in USD]]*VLOOKUP($H$1,USDtoUserChoice,2,FALSE))","v":564585.80812649964},"Financial Analyst","Analyst","Canada",{"$f":"VLOOKUP(tblSalaries[[#This Row],[Where do you work]],tblCountries[[Actual]:[Mapping]],2,FALSE)","v":"Canada"},"All the 8 hours baby, all the 8!",2,{"$f":"IF(ISNA(VLOOKUP(tblSalaries[[#This Row],[Years of Experience]],vlookUpExp!$A$1:$B$56,2,FALSE)),\"No Response\",VLOOKUP(tblSalaries[[#This Row],[Years of Experience]],vlookUpExp!$A$1:$B$56,2,FALSE))","v":"0-5"}]
[null,"ID1732","2012-06-07T14:06:38","6000 US",6000,"USD",{"$f":"tblSalaries[[#This Row],[clean Salary (in local currency)]]*VLOOKUP(tblSalaries[[#This Row],[Currency]],tblXrate[],2,FALSE)","v":6000},{"$f":"IF($H$1=\"USD\",tblSalaries[[#This Row],[Salary in USD]],tblSalaries[[#This Row],[Salary in USD]]*VLOOKUP($H$1,USDtoUserChoice,2,FALSE))","v":49211.880000000005},"Reporting Coordinator","Reporting","Armenia",{"$f":"VLOOKUP(tblSalaries[[#This Row],[Where do you work]],tblCountries[[Actual]:[Mapping]],2,FALSE)","v":"Armenia"},"All the 8 hours baby, all the 8!",5,{"$f":"IF(ISNA(VLOOKUP(tblSalaries[[#This Row],[Years of Experience]],vlookUpExp!$A$1:$B$56,2,FALSE)),\"No Response\",VLOOKUP(tblSalaries[[#This Row],[Years of Experience]],vlookUpExp!$A$1:$B$56,2,FALSE))","v":"0-5"}]
[null,"ID1733","2012-06-07T15:19:53",50000,50000,"GBP",{"$f":"tblSalaries[[#This Row],[clean Salary (in local currency)]]*VLOOKUP(tblSalaries[[#This Row],[Currency]],tblXrate[],2,FALSE)","v":78808.913603364199},{"$f":"IF($H$1=\"USD\",tblSalaries[[#This Row],[Salary in USD]],tblSalaries[[#This Row],[Salary in USD]]*VLOOKUP($H$1,USDtoUserChoice,2,FALSE))","v":646389.1331965212},"Research Analyst","Analyst","UK",{"$f":"VLOOKUP(tblSalaries[[#This Row],[Where do you work]],tblCountries[[Actual]:[Mapping]],2,FALSE)","v":"UK"},"2 to 3 hours per day",2,{"$f":"IF(ISNA(VLOOKUP(tblSalaries[[#This Row],[Years of Experience]],vlookUpExp!$A$1:$B$56,2,FALSE)),\"No Response\",VLOOKUP(tblSalaries[[#This Row],[Years of Experience]],vlookUpExp!$A$1:$B$56,2,FALSE))","v":"0-5"}]
[null,"ID1734","2012-06-07T16:45:01",421000,421000,"INR",{"$f":"tblSalaries[[#This Row],[clean Salary (in local currency)]]*VLOOKUP(tblSalaries[[#This Row],[Currency]],tblXrate[],2,FALSE)","v":7497.1329254133216},{"$f":"IF($H$1=\"USD\",tblSalaries[[#This Row],[Salary in USD]],tblSalaries[[#This Row],[Salary in USD]]*VLOOKUP($H$1,USDtoUserChoice,2,FALSE))","v":61491.334311581559},"PMO Analyst","Analyst","India",{"$f":"VLOOKUP(tblSalaries[[#This Row],[Where do you work]],tblCountries[[Actual]:[Mapping]],2,FALSE)","v":"India"},"4 to 6 hours a day",4,{"$f":"IF(ISNA(VLOOKUP(tblSalaries[[#This Row],[Years of Experience]],vlookUpExp!$A$1:$B$56,2,FALSE)),\"No Response\",VLOOKUP(tblSalaries[[#This Row],[Years of Experience]],vlookUpExp!$A$1:$B$56,2,FALSE))","v":"0-5"}]
[null,"ID1735","2012-06-07T16:53:54",10000,10000,"USD",{"$f":"tblSalaries[[#This Row],[clean Salary (in local currency)]]*VLOOKUP(tblSalaries[[#This Row],[Currency]],tblXrate[],2,FALSE)","v":10000},{"$f":"IF($H$1=\"USD\",tblSalaries[[#This Row],[Salary in USD]],tblSalaries[[#This Row],[Salary in USD]]*VLOOKUP($H$1,USDtoUserChoice,2,FALSE))","v":82019.8},"AGM - Operations & Customer Support","Manager","India",{"$f":"VLOOKUP(tblSalaries[[#This Row],[Where do you work]],tblCountries[[Actual]:[Mapping]],2,FALSE)","v":"India"},"4 to 6 hours a day",11,{"$f":"IF(ISNA(VLOOKUP(tblSalaries[[#This Row],[Years of Experience]],vlookUpExp!$A$1:$B$56,2,FALSE)),\"No Response\",VLOOKUP(tblSalaries[[#This Row],[Years of Experience]],vlookUpExp!$A$1:$B$56,2,FALSE))","v":"11-15"}]
[null,"ID1736","2012-06-07T17:09:18",360000,360000,"INR",{"$f":"tblSalaries[[#This Row],[clean Salary (in local currency)]]*VLOOKUP(tblSalaries[[#This Row],[Currency]],tblXrate[],2,FALSE)","v":6410.8500074793246},{"$f":"IF($H$1=\"USD\",tblSalaries[[#This Row],[Salary in USD]],tblSalaries[[#This Row],[Salary in USD]]*VLOOKUP($H$1,USDtoUserChoice,2,FALSE))","v":52581.663544345276},"Baan ERP Functional Consultant","Consultant","India",{"$f":"VLOOKUP(tblSalaries[[#This Row],[Where do you work]],tblCountries[[Actual]:[Mapping]],2,FALSE)","v":"India"},"1 or 2 hours a day",2,{"$f":"IF(ISNA(VLOOKUP(tblSalaries[[#This Row],[Years of Experience]],vlookUpExp!$A$1:$B$56,2,FALSE)),\"No Response\",VLOOKUP(tblSalaries[[#This Row],[Years of Experience]],vlookUpExp!$A$1:$B$56,2,FALSE))","v":"0-5"}]
[null,"ID1737","2012-06-07T17:13:42",40000,40000,"GBP",{"$f":"tblSalaries[[#This Row],[clean Salary (in local currency)]]*VLOOKUP(tblSalaries[[#This Row],[Currency]],tblXrate[],2,FALSE)","v":63047.130882691366},{"$f":"IF($H$1=\"USD\",tblSalaries[[#This Row],[Salary in USD]],tblSalaries[[#This Row],[Salary in USD]]*VLOOKUP($H$1,USDtoUserChoice,2,FALSE))","v":517111.30655721697},"Analyst","Analyst","UK",{"$f":"VLOOKUP(tblSalaries[[#This Row],[Where do you work]],tblCountries[[Actual]:[Mapping]],2,FALSE)","v":"UK"},"4 to 6 hours a day",5,{"$f":"IF(ISNA(VLOOKUP(tblSalaries[[#This Row],[Years of Experience]],vlookUpExp!$A$1:$B$56,2,FALSE)),\"No Response\",VLOOKUP(tblSalaries[[#This Row],[Years of Experience]],vlookUpExp!$A$1:$B$56,2,FALSE))","v":"0-5"}]
[null,"ID1738","2012-06-07T20:10:41",60000,60000,"AUD",{"$f":"tblSalaries[[#This Row],[clean Salary (in local currency)]]*VLOOKUP(tblSalaries[[#This Row],[Currency]],tblXrate[],2,FALSE)","v":61194.579384158147},{"$f":"IF($H$1=\"USD\",tblSalaries[[#This Row],[Salary in USD]],tblSalaries[[#This Row],[Salary in USD]]*VLOOKUP($H$1,USDtoUserChoice,2,FALSE))","v":501916.71621727746},"business analyst","Analyst","Australia",{"$f":"VLOOKUP(tblSalaries[[#This Row],[Where do you work]],tblCountries[[Actual]:[Mapping]],2,FALSE)","v":"Australia"},"2 to 3 hours per day",3,{"$f":"IF(ISNA(VLOOKUP(tblSalaries[[#This Row],[Years of Experience]],vlookUpExp!$A$1:$B$56,2,FALSE)),\"No Response\",VLOOKUP(tblSalaries[[#This Row],[Years of Experience]],vlookUpExp!$A$1:$B$56,2,FALSE))","v":"0-5"}]
[null,"ID1739","2012-06-07T20:48:04","Â£73000",73000,"GBP",{"$f":"tblSalaries[[#This Row],[clean Salary (in local currency)]]*VLOOKUP(tblSalaries[[#This Row],[Currency]],tblXrate[],2,FALSE)","v":115061.01386091174},{"$f":"IF($H$1=\"USD\",tblSalaries[[#This Row],[Salary in USD]],tblSalaries[[#This Row],[Salary in USD]]*VLOOKUP($H$1,USDtoUserChoice,2,FALSE))","v":943728.13446692098},"Financial Controller","Controller","UK",{"$f":"VLOOKUP(tblSalaries[[#This Row],[Where do you work]],tblCountries[[Actual]:[Mapping]],2,FALSE)","v":"UK"},"4 to 6 hours a day",8,{"$f":"IF(ISNA(VLOOKUP(tblSalaries[[#This Row],[Years of Experience]],vlookUpExp!$A$1:$B$56,2,FALSE)),\"No Response\",VLOOKUP(tblSalaries[[#This Row],[Years of Experience]],vlookUpExp!$A$1:$B$56,2,FALSE))","v":"6-10"}]
[null,"ID1740","2012-06-07T23:33:23",45000,45000,"USD",{"$f":"tblSalaries[[#This Row],[clean Salary (in local currency)]]*VLOOKUP(tblSalaries[[#This Row],[Currency]],tblXrate[],2,FALSE)","v":45000},{"$f":"IF($H$1=\"USD\",tblSalaries[[#This Row],[Salary in USD]],tblSalaries[[#This Row],[Salary in USD]]*VLOOKUP($H$1,USDtoUserChoice,2,FALSE))","v":369089.10000000003},"Sourcing Analyst","Analyst","USA",{"$f":"VLOOKUP(tblSalaries[[#This Row],[Where do you work]],tblCountries[[Actual]:[Mapping]],2,FALSE)","v":"USA"},"All the 8 hours baby, all the 8!",2,{"$f":"IF(ISNA(VLOOKUP(tblSalaries[[#This Row],[Years of Experience]],vlookUpExp!$A$1:$B$56,2,FALSE)),\"No Response\",VLOOKUP(tblSalaries[[#This Row],[Years of Experience]],vlookUpExp!$A$1:$B$56,2,FALSE))","v":"0-5"}]
[null,"ID1741","2012-06-07T23:48:29",36000,36000,"USD",{"$f":"tblSalaries[[#This Row],[clean Salary (in local currency)]]*VLOOKUP(tblSalaries[[#This Row],[Currency]],tblXrate[],2,FALSE)","v":36000},{"$f":"IF($H$1=\"USD\",tblSalaries[[#This Row],[Salary in USD]],tblSalaries[[#This Row],[Salary in USD]]*VLOOKUP($H$1,USDtoUserChoice,2,FALSE))","v":295271.28000000003},"clerk","Analyst","USA",{"$f":"VLOOKUP(tblSalaries[[#This Row],[Where do you work]],tblCountries[[Actual]:[Mapping]],2,FALSE)","v":"USA"},"4 to 6 hours a day",4,{"$f":"IF(ISNA(VLOOKUP(tblSalaries[[#This Row],[Years of Experience]],vlookUpExp!$A$1:$B$56,2,FALSE)),\"No Response\",VLOOKUP(tblSalaries[[#This Row],[Years of Experience]],vlookUpExp!$A$1:$B$56,2,FALSE))","v":"0-5"}]
[null,"ID1742","2012-06-08T00:01:49",68000,68000,"USD",{"$f":"tblSalaries[[#This Row],[clean Salary (in local currency)]]*VLOOKUP(tblSalaries[[#This Row],[Currency]],tblXrate[],2,FALSE)","v":68000},{"$f":"IF($H$1=\"USD\",tblSalaries[[#This Row],[Salary in USD]],tblSalaries[[#This Row],[Salary in USD]]*VLOOKUP($H$1,USDtoUserChoice,2,FALSE))","v":557734.64},"Tax Associate","Analyst","USA",{"$f":"VLOOKUP(tblSalaries[[#This Row],[Where do you work]],tblCountries[[Actual]:[Mapping]],2,FALSE)","v":"USA"},"4 to 6 hours a day",2.5,{"$f":"IF(ISNA(VLOOKUP(tblSalaries[[#This Row],[Years of Experience]],vlookUpExp!$A$1:$B$56,2,FALSE)),\"No Response\",VLOOKUP(tblSalaries[[#This Row],[Years of Experience]],vlookUpExp!$A$1:$B$56,2,FALSE))","v":"0-5"}]
[null,"ID1743","2012-06-08T00:21:23",75000,75000,"USD",{"$f":"tblSalaries[[#This Row],[clean Salary (in local currency)]]*VLOOKUP(tblSalaries[[#This Row],[Currency]],tblXrate[],2,FALSE)","v":75000},{"$f":"IF($H$1=\"USD\",tblSalaries[[#This Row],[Salary in USD]],tblSalaries[[#This Row],[Salary in USD]]*VLOOKUP($H$1,USDtoUserChoice,2,FALSE))","v":615148.5},"Senior Financial Analyst","Analyst","USA",{"$f":"VLOOKUP(tblSalaries[[#This Row],[Where do you work]],tblCountries[[Actual]:[Mapping]],2,FALSE)","v":"USA"},"All the 8 hours baby, all the 8!",5,{"$f":"IF(ISNA(VLOOKUP(tblSalaries[[#This Row],[Years of Experience]],vlookUpExp!$A$1:$B$56,2,FALSE)),\"No Response\",VLOOKUP(tblSalaries[[#This Row],[Years of Experience]],vlookUpExp!$A$1:$B$56,2,FALSE))","v":"0-5"}]
[null,"ID1744","2012-06-08T02:27:13",88000,88000,"USD",{"$f":"tblSalaries[[#This Row],[clean Salary (in local currency)]]*VLOOKUP(tblSalaries[[#This Row],[Currency]],tblXrate[],2,FALSE)","v":88000},{"$f":"IF($H$1=\"USD\",tblSalaries[[#This Row],[Salary in USD]],tblSalaries[[#This Row],[Salary in USD]]*VLOOKUP($H$1,USDtoUserChoice,2,FALSE))","v":721774.24000000011},"Senior Fiancial Analyst","Analyst","USA",{"$f":"VLOOKUP(tblSalaries[[#This Row],[Where do you work]],tblCountries[[Actual]:[Mapping]],2,FALSE)","v":"USA"},"All the 8 hours baby, all the 8!",10,{"$f":"IF(ISNA(VLOOKUP(tblSalaries[[#This Row],[Years of Experience]],vlookUpExp!$A$1:$B$56,2,FALSE)),\"No Response\",VLOOKUP(tblSalaries[[#This Row],[Years of Experience]],vlookUpExp!$A$1:$B$56,2,FALSE))","v":"6-10"}]
[null,"ID1745","2012-06-08T02:28:45","Rs. 21500",258000,"INR",{"$f":"tblSalaries[[#This Row],[clean Salary (in local currency)]]*VLOOKUP(tblSalaries[[#This Row],[Currency]],tblXrate[],2,FALSE)","v":4594.4425053601826},{"$f":"IF($H$1=\"USD\",tblSalaries[[#This Row],[Salary in USD]],tblSalaries[[#This Row],[Salary in USD]]*VLOOKUP($H$1,USDtoUserChoice,2,FALSE))","v":37683.525540114111},"Senior Data Associate","Analyst","India",{"$f":"VLOOKUP(tblSalaries[[#This Row],[Where do you work]],tblCountries[[Actual]:[Mapping]],2,FALSE)","v":"India"},"4 to 6 hours a day",4,{"$f":"IF(ISNA(VLOOKUP(tblSalaries[[#This Row],[Years of Experience]],vlookUpExp!$A$1:$B$56,2,FALSE)),\"No Response\",VLOOKUP(tblSalaries[[#This Row],[Years of Experience]],vlookUpExp!$A$1:$B$56,2,FALSE))","v":"0-5"}]
[null,"ID1746","2012-06-08T03:23:20",69000,69000,"USD",{"$f":"tblSalaries[[#This Row],[clean Salary (in local currency)]]*VLOOKUP(tblSalaries[[#This Row],[Currency]],tblXrate[],2,FALSE)","v":69000},{"$f":"IF($H$1=\"USD\",tblSalaries[[#This Row],[Salary in USD]],tblSalaries[[#This Row],[Salary in USD]]*VLOOKUP($H$1,USDtoUserChoice,2,FALSE))","v":565936.62},"Business Analyst II","Analyst","USA",{"$f":"VLOOKUP(tblSalaries[[#This Row],[Where do you work]],tblCountries[[Actual]:[Mapping]],2,FALSE)","v":"USA"},"All the 8 hours baby, all the 8!",15,{"$f":"IF(ISNA(VLOOKUP(tblSalaries[[#This Row],[Years of Experience]],vlookUpExp!$A$1:$B$56,2,FALSE)),\"No Response\",VLOOKUP(tblSalaries[[#This Row],[Years of Experience]],vlookUpExp!$A$1:$B$56,2,FALSE))","v":"11-15"}]
[null,"ID1747","2012-06-08T03:34:51",30000,30000,"USD",{"$f":"tblSalaries[[#This Row],[clean Salary (in local currency)]]*VLOOKUP(tblSalaries[[#This Row],[Currency]],tblXrate[],2,FALSE)","v":30000},{"$f":"IF($H$1=\"USD\",tblSalaries[[#This Row],[Salary in USD]],tblSalaries[[#This Row],[Salary in USD]]*VLOOKUP($H$1,USDtoUserChoice,2,FALSE))","v":246059.40000000002},"Inventory Manager","Manager","USA",{"$f":"VLOOKUP(tblSalaries[[#This Row],[Where do you work]],tblCountries[[Actual]:[Mapping]],2,FALSE)","v":"USA"},"4 to 6 hours a day",1,{"$f":"IF(ISNA(VLOOKUP(tblSalaries[[#This Row],[Years of Experience]],vlookUpExp!$A$1:$B$56,2,FALSE)),\"No Response\",VLOOKUP(tblSalaries[[#This Row],[Years of Experience]],vlookUpExp!$A$1:$B$56,2,FALSE))","v":"0-5"}]
[null,"ID1748","2012-06-08T04:51:45",80000,80000,"USD",{"$f":"tblSalaries[[#This Row],[clean Salary (in local currency)]]*VLOOKUP(tblSalaries[[#This Row],[Currency]],tblXrate[],2,FALSE)","v":80000},{"$f":"IF($H$1=\"USD\",tblSalaries[[#This Row],[Salary in USD]],tblSalaries[[#This Row],[Salary in USD]]*VLOOKUP($H$1,USDtoUserChoice,2,FALSE))","v":656158.4},"Sales / Finance Manager","Manager","USA",{"$f":"VLOOKUP(tblSalaries[[#This Row],[Where do you work]],tblCountries[[Actual]:[Mapping]],2,FALSE)","v":"USA"},"4 to 6 hours a day",7,{"$f":"IF(ISNA(VLOOKUP(tblSalaries[[#This Row],[Years of Experience]],vlookUpExp!$A$1:$B$56,2,FALSE)),\"No Response\",VLOOKUP(tblSalaries[[#This Row],[Years of Experience]],vlookUpExp!$A$1:$B$56,2,FALSE))","v":"6-10"}]
[null,"ID1749","2012-06-08T06:42:32",75000,75000,"USD",{"$f":"tblSalaries[[#This Row],[clean Salary (in local currency)]]*VLOOKUP(tblSalaries[[#This Row],[Currency]],tblXrate[],2,FALSE)","v":75000},{"$f":"IF($H$1=\"USD\",tblSalaries[[#This Row],[Salary in USD]],tblSalaries[[#This Row],[Salary in USD]]*VLOOKUP($H$1,USDtoUserChoice,2,FALSE))","v":615148.5},"actuary","Accountant","USA",{"$f":"VLOOKUP(tblSalaries[[#This Row],[Where do you work]],tblCountries[[Actual]:[Mapping]],2,FALSE)","v":"USA"},"All the 8 hours baby, all the 8!",1,{"$f":"IF(ISNA(VLOOKUP(tblSalaries[[#This Row],[Years of Experience]],vlookUpExp!$A$1:$B$56,2,FALSE)),\"No Response\",VLOOKUP(tblSalaries[[#This Row],[Years of Experience]],vlookUpExp!$A$1:$B$56,2,FALSE))","v":"0-5"}]
[null,"ID1750","2012-06-08T08:15:54",31200,31200,"USD",{"$f":"tblSalaries[[#This Row],[clean Salary (in local currency)]]*VLOOKUP(tblSalaries[[#This Row],[Currency]],tblXrate[],2,FALSE)","v":31200},{"$f":"IF($H$1=\"USD\",tblSalaries[[#This Row],[Salary in USD]],tblSalaries[[#This Row],[Salary in USD]]*VLOOKUP($H$1,USDtoUserChoice,2,FALSE))","v":255901.77600000001},"Risk analyst","Analyst","Brazil",{"$f":"VLOOKUP(tblSalaries[[#This Row],[Where do you work]],tblCountries[[Actual]:[Mapping]],2,FALSE)","v":"Brazil"},"4 to 6 hours a day",4,{"$f":"IF(ISNA(VLOOKUP(tblSalaries[[#This Row],[Years of Experience]],vlookUpExp!$A$1:$B$56,2,FALSE)),\"No Response\",VLOOKUP(tblSalaries[[#This Row],[Years of Experience]],vlookUpExp!$A$1:$B$56,2,FALSE))","v":"0-5"}]
[null,"ID1751","2012-06-08T09:46:59",85000,85000,"USD",{"$f":"tblSalaries[[#This Row],[clean Salary (in local currency)]]*VLOOKUP(tblSalaries[[#This Row],[Currency]],tblXrate[],2,FALSE)","v":85000},{"$f":"IF($H$1=\"USD\",tblSalaries[[#This Row],[Salary in USD]],tblSalaries[[#This Row],[Salary in USD]]*VLOOKUP($H$1,USDtoUserChoice,2,FALSE))","v":697168.3},"Actuary","Accountant","USA",{"$f":"VLOOKUP(tblSalaries[[#This Row],[Where do you work]],tblCountries[[Actual]:[Mapping]],2,FALSE)","v":"USA"},"4 to 6 hours a day",20,{"$f":"IF(ISNA(VLOOKUP(tblSalaries[[#This Row],[Years of Experience]],vlookUpExp!$A$1:$B$56,2,FALSE)),\"No Response\",VLOOKUP(tblSalaries[[#This Row],[Years of Experience]],vlookUpExp!$A$1:$B$56,2,FALSE))","v":"16-20"}]
[null,"ID1752","2012-06-08T13:38:45","9,50,000",950000,"INR",{"$f":"tblSalaries[[#This Row],[clean Salary (in local currency)]]*VLOOKUP(tblSalaries[[#This Row],[Currency]],tblXrate[],2,FALSE)","v":16917.52085307044},{"$f":"IF($H$1=\"USD\",tblSalaries[[#This Row],[Salary in USD]],tblSalaries[[#This Row],[Salary in USD]]*VLOOKUP($H$1,USDtoUserChoice,2,FALSE))","v":138757.16768646671},"Associate Manager, Drug Safety Operations","Manager","India",{"$f":"VLOOKUP(tblSalaries[[#This Row],[Where do you work]],tblCountries[[Actual]:[Mapping]],2,FALSE)","v":"India"},"2 to 3 hours per day",9,{"$f":"IF(ISNA(VLOOKUP(tblSalaries[[#This Row],[Years of Experience]],vlookUpExp!$A$1:$B$56,2,FALSE)),\"No Response\",VLOOKUP(tblSalaries[[#This Row],[Years of Experience]],vlookUpExp!$A$1:$B$56,2,FALSE))","v":"6-10"}]
[null,"ID1753","2012-06-08T13:55:44","15000inr",180000,"INR",{"$f":"tblSalaries[[#This Row],[clean Salary (in local currency)]]*VLOOKUP(tblSalaries[[#This Row],[Currency]],tblXrate[],2,FALSE)","v":3205.4250037396623},{"$f":"IF($H$1=\"USD\",tblSalaries[[#This Row],[Salary in USD]],tblSalaries[[#This Row],[Salary in USD]]*VLOOKUP($H$1,USDtoUserChoice,2,FALSE))","v":26290.831772172638},"mis","Reporting","India",{"$f":"VLOOKUP(tblSalaries[[#This Row],[Where do you work]],tblCountries[[Actual]:[Mapping]],2,FALSE)","v":"India"},"4 to 6 hours a day",2,{"$f":"IF(ISNA(VLOOKUP(tblSalaries[[#This Row],[Years of Experience]],vlookUpExp!$A$1:$B$56,2,FALSE)),\"No Response\",VLOOKUP(tblSalaries[[#This Row],[Years of Experience]],vlookUpExp!$A$1:$B$56,2,FALSE))","v":"0-5"}]
[null,"ID1754","2012-06-08T14:43:05",60000,60000,"USD",{"$f":"tblSalaries[[#This Row],[clean Salary (in local currency)]]*VLOOKUP(tblSalaries[[#This Row],[Currency]],tblXrate[],2,FALSE)","v":60000},{"$f":"IF($H$1=\"USD\",tblSalaries[[#This Row],[Salary in USD]],tblSalaries[[#This Row],[Salary in USD]]*VLOOKUP($H$1,USDtoUserChoice,2,FALSE))","v":492118.80000000005},"Project Lead ","Manager","USA",{"$f":"VLOOKUP(tblSalaries[[#This Row],[Where do you work]],tblCountries[[Actual]:[Mapping]],2,FALSE)","v":"USA"},"All the 8 hours baby, all the 8!",2,{"$f":"IF(ISNA(VLOOKUP(tblSalaries[[#This Row],[Years of Experience]],vlookUpExp!$A$1:$B$56,2,FALSE)),\"No Response\",VLOOKUP(tblSalaries[[#This Row],[Years of Experience]],vlookUpExp!$A$1:$B$56,2,FALSE))","v":"0-5"}]
[null,"ID1755","2012-06-08T14:43:40",60000,60000,"USD",{"$f":"tblSalaries[[#This Row],[clean Salary (in local currency)]]*VLOOKUP(tblSalaries[[#This Row],[Currency]],tblXrate[],2,FALSE)","v":60000},{"$f":"IF($H$1=\"USD\",tblSalaries[[#This Row],[Salary in USD]],tblSalaries[[#This Row],[Salary in USD]]*VLOOKUP($H$1,USDtoUserChoice,2,FALSE))","v":492118.80000000005},"Project Lead ","Manager","USA",{"$f":"VLOOKUP(tblSalaries[[#This Row],[Where do you work]],tblCountries[[Actual]:[Mapping]],2,FALSE)","v":"USA"},"All the 8 hours baby, all the 8!",2,{"$f":"IF(ISNA(VLOOKUP(tblSalaries[[#This Row],[Years of Experience]],vlookUpExp!$A$1:$B$56,2,FALSE)),\"No Response\",VLOOKUP(tblSalaries[[#This Row],[Years of Experience]],vlookUpExp!$A$1:$B$56,2,FALSE))","v":"0-5"}]
[null,"ID1756","2012-06-08T15:43:16","INR800000",800000,"INR",{"$f":"tblSalaries[[#This Row],[clean Salary (in local currency)]]*VLOOKUP(tblSalaries[[#This Row],[Currency]],tblXrate[],2,FALSE)","v":14246.333349954055},{"$f":"IF($H$1=\"USD\",tblSalaries[[#This Row],[Salary in USD]],tblSalaries[[#This Row],[Salary in USD]]*VLOOKUP($H$1,USDtoUserChoice,2,FALSE))","v":116848.14120965617},"MANAGER","Manager","India",{"$f":"VLOOKUP(tblSalaries[[#This Row],[Where do you work]],tblCountries[[Actual]:[Mapping]],2,FALSE)","v":"India"},"2 to 3 hours per day",0,{"$f":"IF(ISNA(VLOOKUP(tblSalaries[[#This Row],[Years of Experience]],vlookUpExp!$A$1:$B$56,2,FALSE)),\"No Response\",VLOOKUP(tblSalaries[[#This Row],[Years of Experience]],vlookUpExp!$A$1:$B$56,2,FALSE))","v":"0-5"}]
[null,"ID1757","2012-06-08T15:45:14",800000,800000,"INR",{"$f":"tblSalaries[[#This Row],[clean Salary (in local currency)]]*VLOOKUP(tblSalaries[[#This Row],[Currency]],tblXrate[],2,FALSE)","v":14246.333349954055},{"$f":"IF($H$1=\"USD\",tblSalaries[[#This Row],[Salary in USD]],tblSalaries[[#This Row],[Salary in USD]]*VLOOKUP($H$1,USDtoUserChoice,2,FALSE))","v":116848.14120965617},"MANAGER","Manager","India",{"$f":"VLOOKUP(tblSalaries[[#This Row],[Where do you work]],tblCountries[[Actual]:[Mapping]],2,FALSE)","v":"India"},"2 to 3 hours per day",0,{"$f":"IF(ISNA(VLOOKUP(tblSalaries[[#This Row],[Years of Experience]],vlookUpExp!$A$1:$B$56,2,FALSE)),\"No Response\",VLOOKUP(tblSalaries[[#This Row],[Years of Experience]],vlookUpExp!$A$1:$B$56,2,FALSE))","v":"0-5"}]
[null,"ID1758","2012-06-08T18:48:12",28995,28995,"USD",{"$f":"tblSalaries[[#This Row],[clean Salary (in local currency)]]*VLOOKUP(tblSalaries[[#This Row],[Currency]],tblXrate[],2,FALSE)","v":28995},{"$f":"IF($H$1=\"USD\",tblSalaries[[#This Row],[Salary in USD]],tblSalaries[[#This Row],[Salary in USD]]*VLOOKUP($H$1,USDtoUserChoice,2,FALSE))","v":237816.41010000001},"Senior Executive","Manager","India",{"$f":"VLOOKUP(tblSalaries[[#This Row],[Where do you work]],tblCountries[[Actual]:[Mapping]],2,FALSE)","v":"India"},"4 to 6 hours a day",6,{"$f":"IF(ISNA(VLOOKUP(tblSalaries[[#This Row],[Years of Experience]],vlookUpExp!$A$1:$B$56,2,FALSE)),\"No Response\",VLOOKUP(tblSalaries[[#This Row],[Years of Experience]],vlookUpExp!$A$1:$B$56,2,FALSE))","v":"6-10"}]
[null,"ID1759","2012-06-08T18:52:06",1230000,1230000,"INR",{"$f":"tblSalaries[[#This Row],[clean Salary (in local currency)]]*VLOOKUP(tblSalaries[[#This Row],[Currency]],tblXrate[],2,FALSE)","v":21903.737525554359},{"$f":"IF($H$1=\"USD\",tblSalaries[[#This Row],[Salary in USD]],tblSalaries[[#This Row],[Salary in USD]]*VLOOKUP($H$1,USDtoUserChoice,2,FALSE))","v":179654.01710984635},"Financial Analyst ","Analyst","India",{"$f":"VLOOKUP(tblSalaries[[#This Row],[Where do you work]],tblCountries[[Actual]:[Mapping]],2,FALSE)","v":"India"},"All the 8 hours baby, all the 8!",3,{"$f":"IF(ISNA(VLOOKUP(tblSalaries[[#This Row],[Years of Experience]],vlookUpExp!$A$1:$B$56,2,FALSE)),\"No Response\",VLOOKUP(tblSalaries[[#This Row],[Years of Experience]],vlookUpExp!$A$1:$B$56,2,FALSE))","v":"0-5"}]
[null,"ID1760","2012-06-08T18:52:44",1130000,1130000,"INR",{"$f":"tblSalaries[[#This Row],[clean Salary (in local currency)]]*VLOOKUP(tblSalaries[[#This Row],[Currency]],tblXrate[],2,FALSE)","v":20122.945856810104},{"$f":"IF($H$1=\"USD\",tblSalaries[[#This Row],[Salary in USD]],tblSalaries[[#This Row],[Salary in USD]]*VLOOKUP($H$1,USDtoUserChoice,2,FALSE))","v":165047.99945863936},"Financial Analyst ","Analyst","India",{"$f":"VLOOKUP(tblSalaries[[#This Row],[Where do you work]],tblCountries[[Actual]:[Mapping]],2,FALSE)","v":"India"},"All the 8 hours baby, all the 8!",3,{"$f":"IF(ISNA(VLOOKUP(tblSalaries[[#This Row],[Years of Experience]],vlookUpExp!$A$1:$B$56,2,FALSE)),\"No Response\",VLOOKUP(tblSalaries[[#This Row],[Years of Experience]],vlookUpExp!$A$1:$B$56,2,FALSE))","v":"0-5"}]
[null,"ID1761","2012-06-08T20:47:58",45000,45000,"GBP",{"$f":"tblSalaries[[#This Row],[clean Salary (in local currency)]]*VLOOKUP(tblSalaries[[#This Row],[Currency]],tblXrate[],2,FALSE)","v":70928.022243027779},{"$f":"IF($H$1=\"USD\",tblSalaries[[#This Row],[Salary in USD]],tblSalaries[[#This Row],[Salary in USD]]*VLOOKUP($H$1,USDtoUserChoice,2,FALSE))","v":581750.219876869},"bUSINESS aNALYST","Analyst","UK",{"$f":"VLOOKUP(tblSalaries[[#This Row],[Where do you work]],tblCountries[[Actual]:[Mapping]],2,FALSE)","v":"UK"},"All the 8 hours baby, all the 8!",20,{"$f":"IF(ISNA(VLOOKUP(tblSalaries[[#This Row],[Years of Experience]],vlookUpExp!$A$1:$B$56,2,FALSE)),\"No Response\",VLOOKUP(tblSalaries[[#This Row],[Years of Experience]],vlookUpExp!$A$1:$B$56,2,FALSE))","v":"16-20"}]
[null,"ID1762","2012-06-08T21:00:25",67000,67000,"USD",{"$f":"tblSalaries[[#This Row],[clean Salary (in local currency)]]*VLOOKUP(tblSalaries[[#This Row],[Currency]],tblXrate[],2,FALSE)","v":67000},{"$f":"IF($H$1=\"USD\",tblSalaries[[#This Row],[Salary in USD]],tblSalaries[[#This Row],[Salary in USD]]*VLOOKUP($H$1,USDtoUserChoice,2,FALSE))","v":549532.66},"Manager","Manager","USA",{"$f":"VLOOKUP(tblSalaries[[#This Row],[Where do you work]],tblCountries[[Actual]:[Mapping]],2,FALSE)","v":"USA"},"4 to 6 hours a day",16,{"$f":"IF(ISNA(VLOOKUP(tblSalaries[[#This Row],[Years of Experience]],vlookUpExp!$A$1:$B$56,2,FALSE)),\"No Response\",VLOOKUP(tblSalaries[[#This Row],[Years of Experience]],vlookUpExp!$A$1:$B$56,2,FALSE))","v":"16-20"}]
[null,"ID1763","2012-06-08T21:02:48",30000,30000,"USD",{"$f":"tblSalaries[[#This Row],[clean Salary (in local currency)]]*VLOOKUP(tblSalaries[[#This Row],[Currency]],tblXrate[],2,FALSE)","v":30000},{"$f":"IF($H$1=\"USD\",tblSalaries[[#This Row],[Salary in USD]],tblSalaries[[#This Row],[Salary in USD]]*VLOOKUP($H$1,USDtoUserChoice,2,FALSE))","v":246059.40000000002},"Customer Service","Analyst","USA",{"$f":"VLOOKUP(tblSalaries[[#This Row],[Where do you work]],tblCountries[[Actual]:[Mapping]],2,FALSE)","v":"USA"},"2 to 3 hours per day",4,{"$f":"IF(ISNA(VLOOKUP(tblSalaries[[#This Row],[Years of Experience]],vlookUpExp!$A$1:$B$56,2,FALSE)),\"No Response\",VLOOKUP(tblSalaries[[#This Row],[Years of Experience]],vlookUpExp!$A$1:$B$56,2,FALSE))","v":"0-5"}]
[null,"ID1764","2012-06-08T22:48:39","CHF140000",140000,"CHF",{"$f":"tblSalaries[[#This Row],[clean Salary (in local currency)]]*VLOOKUP(tblSalaries[[#This Row],[Currency]],tblXrate[],2,FALSE)","v":148102.22862117883},{"$f":"IF($H$1=\"USD\",tblSalaries[[#This Row],[Salary in USD]],tblSalaries[[#This Row],[Salary in USD]]*VLOOKUP($H$1,USDtoUserChoice,2,FALSE))","v":1214731.5171063365},"Projektleiter","Manager","Switzerland",{"$f":"VLOOKUP(tblSalaries[[#This Row],[Where do you work]],tblCountries[[Actual]:[Mapping]],2,FALSE)","v":"Switzerland"},"2 to 3 hours per day",6,{"$f":"IF(ISNA(VLOOKUP(tblSalaries[[#This Row],[Years of Experience]],vlookUpExp!$A$1:$B$56,2,FALSE)),\"No Response\",VLOOKUP(tblSalaries[[#This Row],[Years of Experience]],vlookUpExp!$A$1:$B$56,2,FALSE))","v":"6-10"}]
[null,"ID1765","2012-06-08T23:20:36",71500,71500,"USD",{"$f":"tblSalaries[[#This Row],[clean Salary (in local currency)]]*VLOOKUP(tblSalaries[[#This Row],[Currency]],tblXrate[],2,FALSE)","v":71500},{"$f":"IF($H$1=\"USD\",tblSalaries[[#This Row],[Salary in USD]],tblSalaries[[#This Row],[Salary in USD]]*VLOOKUP($H$1,USDtoUserChoice,2,FALSE))","v":586441.57000000007},"Pricing Manager","Manager","USA",{"$f":"VLOOKUP(tblSalaries[[#This Row],[Where do you work]],tblCountries[[Actual]:[Mapping]],2,FALSE)","v":"USA"},"All the 8 hours baby, all the 8!",11,{"$f":"IF(ISNA(VLOOKUP(tblSalaries[[#This Row],[Years of Experience]],vlookUpExp!$A$1:$B$56,2,FALSE)),\"No Response\",VLOOKUP(tblSalaries[[#This Row],[Years of Experience]],vlookUpExp!$A$1:$B$56,2,FALSE))","v":"11-15"}]
[null,"ID1766","2012-06-08T23:46:11",67000,67000,"USD",{"$f":"tblSalaries[[#This Row],[clean Salary (in local currency)]]*VLOOKUP(tblSalaries[[#This Row],[Currency]],tblXrate[],2,FALSE)","v":67000},{"$f":"IF($H$1=\"USD\",tblSalaries[[#This Row],[Salary in USD]],tblSalaries[[#This Row],[Salary in USD]]*VLOOKUP($H$1,USDtoUserChoice,2,FALSE))","v":549532.66},"Manager","Manager","USA",{"$f":"VLOOKUP(tblSalaries[[#This Row],[Where do you work]],tblCountries[[Actual]:[Mapping]],2,FALSE)","v":"USA"},"Excel ?!? What Excel?",6,{"$f":"IF(ISNA(VLOOKUP(tblSalaries[[#This Row],[Years of Experience]],vlookUpExp!$A$1:$B$56,2,FALSE)),\"No Response\",VLOOKUP(tblSalaries[[#This Row],[Years of Experience]],vlookUpExp!$A$1:$B$56,2,FALSE))","v":"6-10"}]
[null,"ID1767","2012-06-09T00:49:07",40000,40000,"USD",{"$f":"tblSalaries[[#This Row],[clean Salary (in local currency)]]*VLOOKUP(tblSalaries[[#This Row],[Currency]],tblXrate[],2,FALSE)","v":40000},{"$f":"IF($H$1=\"USD\",tblSalaries[[#This Row],[Salary in USD]],tblSalaries[[#This Row],[Salary in USD]]*VLOOKUP($H$1,USDtoUserChoice,2,FALSE))","v":328079.2},"Market Research Analyst","Analyst","USA",{"$f":"VLOOKUP(tblSalaries[[#This Row],[Where do you work]],tblCountries[[Actual]:[Mapping]],2,FALSE)","v":"USA"},"4 to 6 hours a day",5,{"$f":"IF(ISNA(VLOOKUP(tblSalaries[[#This Row],[Years of Experience]],vlookUpExp!$A$1:$B$56,2,FALSE)),\"No Response\",VLOOKUP(tblSalaries[[#This Row],[Years of Experience]],vlookUpExp!$A$1:$B$56,2,FALSE))","v":"0-5"}]
[null,"ID1768","2012-06-09T01:15:44",65000,65000,"USD",{"$f":"tblSalaries[[#This Row],[clean Salary (in local currency)]]*VLOOKUP(tblSalaries[[#This Row],[Currency]],tblXrate[],2,FALSE)","v":65000},{"$f":"IF($H$1=\"USD\",tblSalaries[[#This Row],[Salary in USD]],tblSalaries[[#This Row],[Salary in USD]]*VLOOKUP($H$1,USDtoUserChoice,2,FALSE))","v":533128.70000000007},"Compliance Officer","Manager","USA",{"$f":"VLOOKUP(tblSalaries[[#This Row],[Where do you work]],tblCountries[[Actual]:[Mapping]],2,FALSE)","v":"USA"},"4 to 6 hours a day",2,{"$f":"IF(ISNA(VLOOKUP(tblSalaries[[#This Row],[Years of Experience]],vlookUpExp!$A$1:$B$56,2,FALSE)),\"No Response\",VLOOKUP(tblSalaries[[#This Row],[Years of Experience]],vlookUpExp!$A$1:$B$56,2,FALSE))","v":"0-5"}]
[null,"ID1769","2012-06-09T01:47:30",72000,72000,"USD",{"$f":"tblSalaries[[#This Row],[clean Salary (in local currency)]]*VLOOKUP(tblSalaries[[#This Row],[Currency]],tblXrate[],2,FALSE)","v":72000},{"$f":"IF($H$1=\"USD\",tblSalaries[[#This Row],[Salary in USD]],tblSalaries[[#This Row],[Salary in USD]]*VLOOKUP($H$1,USDtoUserChoice,2,FALSE))","v":590542.56000000006},"Consultant","Consultant","USA",{"$f":"VLOOKUP(tblSalaries[[#This Row],[Where do you work]],tblCountries[[Actual]:[Mapping]],2,FALSE)","v":"USA"},"2 to 3 hours per day",13,{"$f":"IF(ISNA(VLOOKUP(tblSalaries[[#This Row],[Years of Experience]],vlookUpExp!$A$1:$B$56,2,FALSE)),\"No Response\",VLOOKUP(tblSalaries[[#This Row],[Years of Experience]],vlookUpExp!$A$1:$B$56,2,FALSE))","v":"11-15"}]
[null,"ID1770","2012-06-09T03:20:15",52500,52500,"USD",{"$f":"tblSalaries[[#This Row],[clean Salary (in local currency)]]*VLOOKUP(tblSalaries[[#This Row],[Currency]],tblXrate[],2,FALSE)","v":52500},{"$f":"IF($H$1=\"USD\",tblSalaries[[#This Row],[Salary in USD]],tblSalaries[[#This Row],[Salary in USD]]*VLOOKUP($H$1,USDtoUserChoice,2,FALSE))","v":430603.95},"Data Management Solutions Supervisor","Manager","USA",{"$f":"VLOOKUP(tblSalaries[[#This Row],[Where do you work]],tblCountries[[Actual]:[Mapping]],2,FALSE)","v":"USA"},"All the 8 hours baby, all the 8!",3,{"$f":"IF(ISNA(VLOOKUP(tblSalaries[[#This Row],[Years of Experience]],vlookUpExp!$A$1:$B$56,2,FALSE)),\"No Response\",VLOOKUP(tblSalaries[[#This Row],[Years of Experience]],vlookUpExp!$A$1:$B$56,2,FALSE))","v":"0-5"}]
[null,"ID1771","2012-06-09T12:01:19",444,5320,"USD",{"$f":"tblSalaries[[#This Row],[clean Salary (in local currency)]]*VLOOKUP(tblSalaries[[#This Row],[Currency]],tblXrate[],2,FALSE)","v":5320},{"$f":"IF($H$1=\"USD\",tblSalaries[[#This Row],[Salary in USD]],tblSalaries[[#This Row],[Salary in USD]]*VLOOKUP($H$1,USDtoUserChoice,2,FALSE))","v":43634.533600000002},"Officer","Manager","India",{"$f":"VLOOKUP(tblSalaries[[#This Row],[Where do you work]],tblCountries[[Actual]:[Mapping]],2,FALSE)","v":"India"},"2 to 3 hours per day",5,{"$f":"IF(ISNA(VLOOKUP(tblSalaries[[#This Row],[Years of Experience]],vlookUpExp!$A$1:$B$56,2,FALSE)),\"No Response\",VLOOKUP(tblSalaries[[#This Row],[Years of Experience]],vlookUpExp!$A$1:$B$56,2,FALSE))","v":"0-5"}]
[null,"ID1772","2012-06-09T20:38:03",1500,18000,"USD",{"$f":"tblSalaries[[#This Row],[clean Salary (in local currency)]]*VLOOKUP(tblSalaries[[#This Row],[Currency]],tblXrate[],2,FALSE)","v":18000},{"$f":"IF($H$1=\"USD\",tblSalaries[[#This Row],[Salary in USD]],tblSalaries[[#This Row],[Salary in USD]]*VLOOKUP($H$1,USDtoUserChoice,2,FALSE))","v":147635.64000000001},"accountant","Accountant","uae",{"$f":"VLOOKUP(tblSalaries[[#This Row],[Where do you work]],tblCountries[[Actual]:[Mapping]],2,FALSE)","v":"UAE"},"All the 8 hours baby, all the 8!",3,{"$f":"IF(ISNA(VLOOKUP(tblSalaries[[#This Row],[Years of Experience]],vlookUpExp!$A$1:$B$56,2,FALSE)),\"No Response\",VLOOKUP(tblSalaries[[#This Row],[Years of Experience]],vlookUpExp!$A$1:$B$56,2,FALSE))","v":"0-5"}]
[null,"ID1773","2012-06-10T00:50:26","1.40 lac",140000,"INR",{"$f":"tblSalaries[[#This Row],[clean Salary (in local currency)]]*VLOOKUP(tblSalaries[[#This Row],[Currency]],tblXrate[],2,FALSE)","v":2493.1083362419595},{"$f":"IF($H$1=\"USD\",tblSalaries[[#This Row],[Salary in USD]],tblSalaries[[#This Row],[Salary in USD]]*VLOOKUP($H$1,USDtoUserChoice,2,FALSE))","v":20448.42471168983},"magic","Misc.","India",{"$f":"VLOOKUP(tblSalaries[[#This Row],[Where do you work]],tblCountries[[Actual]:[Mapping]],2,FALSE)","v":"India"},"4 to 6 hours a day",5,{"$f":"IF(ISNA(VLOOKUP(tblSalaries[[#This Row],[Years of Experience]],vlookUpExp!$A$1:$B$56,2,FALSE)),\"No Response\",VLOOKUP(tblSalaries[[#This Row],[Years of Experience]],vlookUpExp!$A$1:$B$56,2,FALSE))","v":"0-5"}]
[null,"ID1774","2012-06-10T01:48:44",1400,16800,"EUR",{"$f":"tblSalaries[[#This Row],[clean Salary (in local currency)]]*VLOOKUP(tblSalaries[[#This Row],[Currency]],tblXrate[],2,FALSE)","v":21342.710575059013},{"$f":"IF($H$1=\"USD\",tblSalaries[[#This Row],[Salary in USD]],tblSalaries[[#This Row],[Salary in USD]]*VLOOKUP($H$1,USDtoUserChoice,2,FALSE))","v":175052.48528242254},"account","Accountant","portugal",{"$f":"VLOOKUP(tblSalaries[[#This Row],[Where do you work]],tblCountries[[Actual]:[Mapping]],2,FALSE)","v":"Portugal"},"4 to 6 hours a day",15,{"$f":"IF(ISNA(VLOOKUP(tblSalaries[[#This Row],[Years of Experience]],vlookUpExp!$A$1:$B$56,2,FALSE)),\"No Response\",VLOOKUP(tblSalaries[[#This Row],[Years of Experience]],vlookUpExp!$A$1:$B$56,2,FALSE))","v":"11-15"}]
[null,"ID1775","2012-06-10T02:20:05",85000,85000,"USD",{"$f":"tblSalaries[[#This Row],[clean Salary (in local currency)]]*VLOOKUP(tblSalaries[[#This Row],[Currency]],tblXrate[],2,FALSE)","v":85000},{"$f":"IF($H$1=\"USD\",tblSalaries[[#This Row],[Salary in USD]],tblSalaries[[#This Row],[Salary in USD]]*VLOOKUP($H$1,USDtoUserChoice,2,FALSE))","v":697168.3},"purchasing manager","Manager","USA",{"$f":"VLOOKUP(tblSalaries[[#This Row],[Where do you work]],tblCountries[[Actual]:[Mapping]],2,FALSE)","v":"USA"},"2 to 3 hours per day",15,{"$f":"IF(ISNA(VLOOKUP(tblSalaries[[#This Row],[Years of Experience]],vlookUpExp!$A$1:$B$56,2,FALSE)),\"No Response\",VLOOKUP(tblSalaries[[#This Row],[Years of Experience]],vlookUpExp!$A$1:$B$56,2,FALSE))","v":"11-15"}]
[null,"ID1776","2012-06-10T02:29:57",80000,80000,"USD",{"$f":"tblSalaries[[#This Row],[clean Salary (in local currency)]]*VLOOKUP(tblSalaries[[#This Row],[Currency]],tblXrate[],2,FALSE)","v":80000},{"$f":"IF($H$1=\"USD\",tblSalaries[[#This Row],[Salary in USD]],tblSalaries[[#This Row],[Salary in USD]]*VLOOKUP($H$1,USDtoUserChoice,2,FALSE))","v":656158.4},"Engineer","Engineer","Brazil",{"$f":"VLOOKUP(tblSalaries[[#This Row],[Where do you work]],tblCountries[[Actual]:[Mapping]],2,FALSE)","v":"Brazil"},"1 or 2 hours a day",9,{"$f":"IF(ISNA(VLOOKUP(tblSalaries[[#This Row],[Years of Experience]],vlookUpExp!$A$1:$B$56,2,FALSE)),\"No Response\",VLOOKUP(tblSalaries[[#This Row],[Years of Experience]],vlookUpExp!$A$1:$B$56,2,FALSE))","v":"6-10"}]
[null,"ID1777","2012-06-10T04:16:05",500000,500000,"INR",{"$f":"tblSalaries[[#This Row],[clean Salary (in local currency)]]*VLOOKUP(tblSalaries[[#This Row],[Currency]],tblXrate[],2,FALSE)","v":8903.9583437212841},{"$f":"IF($H$1=\"USD\",tblSalaries[[#This Row],[Salary in USD]],tblSalaries[[#This Row],[Salary in USD]]*VLOOKUP($H$1,USDtoUserChoice,2,FALSE))","v":73030.088256035102},"equity research trainee","Analyst","India",{"$f":"VLOOKUP(tblSalaries[[#This Row],[Where do you work]],tblCountries[[Actual]:[Mapping]],2,FALSE)","v":"India"},"All the 8 hours baby, all the 8!",0,{"$f":"IF(ISNA(VLOOKUP(tblSalaries[[#This Row],[Years of Experience]],vlookUpExp!$A$1:$B$56,2,FALSE)),\"No Response\",VLOOKUP(tblSalaries[[#This Row],[Years of Experience]],vlookUpExp!$A$1:$B$56,2,FALSE))","v":"0-5"}]
[null,"ID1778","2012-06-10T12:31:48",125000,125000,"USD",{"$f":"tblSalaries[[#This Row],[clean Salary (in local currency)]]*VLOOKUP(tblSalaries[[#This Row],[Currency]],tblXrate[],2,FALSE)","v":125000},{"$f":"IF($H$1=\"USD\",tblSalaries[[#This Row],[Salary in USD]],tblSalaries[[#This Row],[Salary in USD]]*VLOOKUP($H$1,USDtoUserChoice,2,FALSE))","v":1025247.5000000001},"project manager","Manager","USA",{"$f":"VLOOKUP(tblSalaries[[#This Row],[Where do you work]],tblCountries[[Actual]:[Mapping]],2,FALSE)","v":"USA"},"All the 8 hours baby, all the 8!",10,{"$f":"IF(ISNA(VLOOKUP(tblSalaries[[#This Row],[Years of Experience]],vlookUpExp!$A$1:$B$56,2,FALSE)),\"No Response\",VLOOKUP(tblSalaries[[#This Row],[Years of Experience]],vlookUpExp!$A$1:$B$56,2,FALSE))","v":"6-10"}]
[null,"ID1779","2012-06-10T14:58:39",1300000,1300000,"INR",{"$f":"tblSalaries[[#This Row],[clean Salary (in local currency)]]*VLOOKUP(tblSalaries[[#This Row],[Currency]],tblXrate[],2,FALSE)","v":23150.291693675339},{"$f":"IF($H$1=\"USD\",tblSalaries[[#This Row],[Salary in USD]],tblSalaries[[#This Row],[Salary in USD]]*VLOOKUP($H$1,USDtoUserChoice,2,FALSE))","v":189878.22946569129},"Manager","Manager","India",{"$f":"VLOOKUP(tblSalaries[[#This Row],[Where do you work]],tblCountries[[Actual]:[Mapping]],2,FALSE)","v":"India"},"All the 8 hours baby, all the 8!",9,{"$f":"IF(ISNA(VLOOKUP(tblSalaries[[#This Row],[Years of Experience]],vlookUpExp!$A$1:$B$56,2,FALSE)),\"No Response\",VLOOKUP(tblSalaries[[#This Row],[Years of Experience]],vlookUpExp!$A$1:$B$56,2,FALSE))","v":"6-10"}]
[null,"ID1780","2012-06-10T15:20:01",1000,12000,"USD",{"$f":"tblSalaries[[#This Row],[clean Salary (in local currency)]]*VLOOKUP(tblSalaries[[#This Row],[Currency]],tblXrate[],2,FALSE)","v":12000},{"$f":"IF($H$1=\"USD\",tblSalaries[[#This Row],[Salary in USD]],tblSalaries[[#This Row],[Salary in USD]]*VLOOKUP($H$1,USDtoUserChoice,2,FALSE))","v":98423.760000000009},"project engineer ","Engineer","India",{"$f":"VLOOKUP(tblSalaries[[#This Row],[Where do you work]],tblCountries[[Actual]:[Mapping]],2,FALSE)","v":"India"},"2 to 3 hours per day",7,{"$f":"IF(ISNA(VLOOKUP(tblSalaries[[#This Row],[Years of Experience]],vlookUpExp!$A$1:$B$56,2,FALSE)),\"No Response\",VLOOKUP(tblSalaries[[#This Row],[Years of Experience]],vlookUpExp!$A$1:$B$56,2,FALSE))","v":"6-10"}]
[null,"ID1781","2012-06-10T15:59:17",30000,30000,"USD",{"$f":"tblSalaries[[#This Row],[clean Salary (in local currency)]]*VLOOKUP(tblSalaries[[#This Row],[Currency]],tblXrate[],2,FALSE)","v":30000},{"$f":"IF($H$1=\"USD\",tblSalaries[[#This Row],[Salary in USD]],tblSalaries[[#This Row],[Salary in USD]]*VLOOKUP($H$1,USDtoUserChoice,2,FALSE))","v":246059.40000000002},"Teacher","Analyst","Malaysia",{"$f":"VLOOKUP(tblSalaries[[#This Row],[Where do you work]],tblCountries[[Actual]:[Mapping]],2,FALSE)","v":"malaysia"},"1 or 2 hours a day",12,{"$f":"IF(ISNA(VLOOKUP(tblSalaries[[#This Row],[Years of Experience]],vlookUpExp!$A$1:$B$56,2,FALSE)),\"No Response\",VLOOKUP(tblSalaries[[#This Row],[Years of Experience]],vlookUpExp!$A$1:$B$56,2,FALSE))","v":"11-15"}]
[null,"ID1782","2012-06-10T17:21:08",72000,72000,"EUR",{"$f":"tblSalaries[[#This Row],[clean Salary (in local currency)]]*VLOOKUP(tblSalaries[[#This Row],[Currency]],tblXrate[],2,FALSE)","v":91468.759607395754},{"$f":"IF($H$1=\"USD\",tblSalaries[[#This Row],[Salary in USD]],tblSalaries[[#This Row],[Salary in USD]]*VLOOKUP($H$1,USDtoUserChoice,2,FALSE))","v":750224.93692466791},"regional sales manager","Manager","croatia",{"$f":"VLOOKUP(tblSalaries[[#This Row],[Where do you work]],tblCountries[[Actual]:[Mapping]],2,FALSE)","v":"Croatia"},"1 or 2 hours a day",3,{"$f":"IF(ISNA(VLOOKUP(tblSalaries[[#This Row],[Years of Experience]],vlookUpExp!$A$1:$B$56,2,FALSE)),\"No Response\",VLOOKUP(tblSalaries[[#This Row],[Years of Experience]],vlookUpExp!$A$1:$B$56,2,FALSE))","v":"0-5"}]
[null,"ID1783","2012-06-10T20:30:23","Â£22300",22300,"GBP",{"$f":"tblSalaries[[#This Row],[clean Salary (in local currency)]]*VLOOKUP(tblSalaries[[#This Row],[Currency]],tblXrate[],2,FALSE)","v":35148.775467100437},{"$f":"IF($H$1=\"USD\",tblSalaries[[#This Row],[Salary in USD]],tblSalaries[[#This Row],[Salary in USD]]*VLOOKUP($H$1,USDtoUserChoice,2,FALSE))","v":288289.55340564845},"Analysis & insight consultant","Analyst","UK",{"$f":"VLOOKUP(tblSalaries[[#This Row],[Where do you work]],tblCountries[[Actual]:[Mapping]],2,FALSE)","v":"UK"},"All the 8 hours baby, all the 8!",4,{"$f":"IF(ISNA(VLOOKUP(tblSalaries[[#This Row],[Years of Experience]],vlookUpExp!$A$1:$B$56,2,FALSE)),\"No Response\",VLOOKUP(tblSalaries[[#This Row],[Years of Experience]],vlookUpExp!$A$1:$B$56,2,FALSE))","v":"0-5"}]
[null,"ID1784","2012-06-10T21:52:30","Â£31185",31185,"GBP",{"$f":"tblSalaries[[#This Row],[clean Salary (in local currency)]]*VLOOKUP(tblSalaries[[#This Row],[Currency]],tblXrate[],2,FALSE)","v":49153.119414418252},{"$f":"IF($H$1=\"USD\",tblSalaries[[#This Row],[Salary in USD]],tblSalaries[[#This Row],[Salary in USD]]*VLOOKUP($H$1,USDtoUserChoice,2,FALSE))","v":403152.90237467026},"Data Team Leader","Manager","UK",{"$f":"VLOOKUP(tblSalaries[[#This Row],[Where do you work]],tblCountries[[Actual]:[Mapping]],2,FALSE)","v":"UK"},"4 to 6 hours a day",7,{"$f":"IF(ISNA(VLOOKUP(tblSalaries[[#This Row],[Years of Experience]],vlookUpExp!$A$1:$B$56,2,FALSE)),\"No Response\",VLOOKUP(tblSalaries[[#This Row],[Years of Experience]],vlookUpExp!$A$1:$B$56,2,FALSE))","v":"6-10"}]
[null,"ID1785","2012-06-11T03:11:39",150000,150000,"INR",{"$f":"tblSalaries[[#This Row],[clean Salary (in local currency)]]*VLOOKUP(tblSalaries[[#This Row],[Currency]],tblXrate[],2,FALSE)","v":2671.1875031163854},{"$f":"IF($H$1=\"USD\",tblSalaries[[#This Row],[Salary in USD]],tblSalaries[[#This Row],[Salary in USD]]*VLOOKUP($H$1,USDtoUserChoice,2,FALSE))","v":21909.026476810533},"ENGINEER","Engineer","India",{"$f":"VLOOKUP(tblSalaries[[#This Row],[Where do you work]],tblCountries[[Actual]:[Mapping]],2,FALSE)","v":"India"},"2 to 3 hours per day",1,{"$f":"IF(ISNA(VLOOKUP(tblSalaries[[#This Row],[Years of Experience]],vlookUpExp!$A$1:$B$56,2,FALSE)),\"No Response\",VLOOKUP(tblSalaries[[#This Row],[Years of Experience]],vlookUpExp!$A$1:$B$56,2,FALSE))","v":"0-5"}]
[null,"ID1786","2012-06-11T05:59:09",27000,27000,"GBP",{"$f":"tblSalaries[[#This Row],[clean Salary (in local currency)]]*VLOOKUP(tblSalaries[[#This Row],[Currency]],tblXrate[],2,FALSE)","v":42556.81334581667},{"$f":"IF($H$1=\"USD\",tblSalaries[[#This Row],[Salary in USD]],tblSalaries[[#This Row],[Salary in USD]]*VLOOKUP($H$1,USDtoUserChoice,2,FALSE))","v":349050.13192612142},"assistant account manager","Manager","UK",{"$f":"VLOOKUP(tblSalaries[[#This Row],[Where do you work]],tblCountries[[Actual]:[Mapping]],2,FALSE)","v":"UK"},"4 to 6 hours a day",3,{"$f":"IF(ISNA(VLOOKUP(tblSalaries[[#This Row],[Years of Experience]],vlookUpExp!$A$1:$B$56,2,FALSE)),\"No Response\",VLOOKUP(tblSalaries[[#This Row],[Years of Experience]],vlookUpExp!$A$1:$B$56,2,FALSE))","v":"0-5"}]
[null,"ID1787","2012-06-11T05:59:55",27000,27000,"GBP",{"$f":"tblSalaries[[#This Row],[clean Salary (in local currency)]]*VLOOKUP(tblSalaries[[#This Row],[Currency]],tblXrate[],2,FALSE)","v":42556.81334581667},{"$f":"IF($H$1=\"USD\",tblSalaries[[#This Row],[Salary in USD]],tblSalaries[[#This Row],[Salary in USD]]*VLOOKUP($H$1,USDtoUserChoice,2,FALSE))","v":349050.13192612142},"assistant account manager","Manager","UK",{"$f":"VLOOKUP(tblSalaries[[#This Row],[Where do you work]],tblCountries[[Actual]:[Mapping]],2,FALSE)","v":"UK"},"4 to 6 hours a day",3,{"$f":"IF(ISNA(VLOOKUP(tblSalaries[[#This Row],[Years of Experience]],vlookUpExp!$A$1:$B$56,2,FALSE)),\"No Response\",VLOOKUP(tblSalaries[[#This Row],[Years of Experience]],vlookUpExp!$A$1:$B$56,2,FALSE))","v":"0-5"}]
[null,"ID1788","2012-06-11T10:04:43",74461,74461,"USD",{"$f":"tblSalaries[[#This Row],[clean Salary (in local currency)]]*VLOOKUP(tblSalaries[[#This Row],[Currency]],tblXrate[],2,FALSE)","v":74461},{"$f":"IF($H$1=\"USD\",tblSalaries[[#This Row],[Salary in USD]],tblSalaries[[#This Row],[Salary in USD]]*VLOOKUP($H$1,USDtoUserChoice,2,FALSE))","v":610727.6327800001},"Scientist III","Misc.","USA",{"$f":"VLOOKUP(tblSalaries[[#This Row],[Where do you work]],tblCountries[[Actual]:[Mapping]],2,FALSE)","v":"USA"},"1 or 2 hours a day",9,{"$f":"IF(ISNA(VLOOKUP(tblSalaries[[#This Row],[Years of Experience]],vlookUpExp!$A$1:$B$56,2,FALSE)),\"No Response\",VLOOKUP(tblSalaries[[#This Row],[Years of Experience]],vlookUpExp!$A$1:$B$56,2,FALSE))","v":"6-10"}]
[null,"ID1789","2012-06-11T16:55:40","Â£26500",26500,"GBP",{"$f":"tblSalaries[[#This Row],[clean Salary (in local currency)]]*VLOOKUP(tblSalaries[[#This Row],[Currency]],tblXrate[],2,FALSE)","v":41768.724209783031},{"$f":"IF($H$1=\"USD\",tblSalaries[[#This Row],[Salary in USD]],tblSalaries[[#This Row],[Salary in USD]]*VLOOKUP($H$1,USDtoUserChoice,2,FALSE))","v":342586.24059415626},"Compliance Manager","Manager","UK",{"$f":"VLOOKUP(tblSalaries[[#This Row],[Where do you work]],tblCountries[[Actual]:[Mapping]],2,FALSE)","v":"UK"},"4 to 6 hours a day",16,{"$f":"IF(ISNA(VLOOKUP(tblSalaries[[#This Row],[Years of Experience]],vlookUpExp!$A$1:$B$56,2,FALSE)),\"No Response\",VLOOKUP(tblSalaries[[#This Row],[Years of Experience]],vlookUpExp!$A$1:$B$56,2,FALSE))","v":"16-20"}]
[null,"ID1790","2012-06-11T17:01:58","Rs 480000",480000,"INR",{"$f":"tblSalaries[[#This Row],[clean Salary (in local currency)]]*VLOOKUP(tblSalaries[[#This Row],[Currency]],tblXrate[],2,FALSE)","v":8547.8000099724322},{"$f":"IF($H$1=\"USD\",tblSalaries[[#This Row],[Salary in USD]],tblSalaries[[#This Row],[Salary in USD]]*VLOOKUP($H$1,USDtoUserChoice,2,FALSE))","v":70108.884725793701},"Development Analyst","Analyst","India",{"$f":"VLOOKUP(tblSalaries[[#This Row],[Where do you work]],tblCountries[[Actual]:[Mapping]],2,FALSE)","v":"India"},"4 to 6 hours a day",1,{"$f":"IF(ISNA(VLOOKUP(tblSalaries[[#This Row],[Years of Experience]],vlookUpExp!$A$1:$B$56,2,FALSE)),\"No Response\",VLOOKUP(tblSalaries[[#This Row],[Years of Experience]],vlookUpExp!$A$1:$B$56,2,FALSE))","v":"0-5"}]
[null,"ID1791","2012-06-11T17:54:22",200,2400,"USD",{"$f":"tblSalaries[[#This Row],[clean Salary (in local currency)]]*VLOOKUP(tblSalaries[[#This Row],[Currency]],tblXrate[],2,FALSE)","v":2400},{"$f":"IF($H$1=\"USD\",tblSalaries[[#This Row],[Salary in USD]],tblSalaries[[#This Row],[Salary in USD]]*VLOOKUP($H$1,USDtoUserChoice,2,FALSE))","v":19684.752},"computer operator","Analyst","India",{"$f":"VLOOKUP(tblSalaries[[#This Row],[Where do you work]],tblCountries[[Actual]:[Mapping]],2,FALSE)","v":"India"},"2 to 3 hours per day",3,{"$f":"IF(ISNA(VLOOKUP(tblSalaries[[#This Row],[Years of Experience]],vlookUpExp!$A$1:$B$56,2,FALSE)),\"No Response\",VLOOKUP(tblSalaries[[#This Row],[Years of Experience]],vlookUpExp!$A$1:$B$56,2,FALSE))","v":"0-5"}]
[null,"ID1792","2012-06-11T19:40:47","3000 $",3000,"USD",{"$f":"tblSalaries[[#This Row],[clean Salary (in local currency)]]*VLOOKUP(tblSalaries[[#This Row],[Currency]],tblXrate[],2,FALSE)","v":3000},{"$f":"IF($H$1=\"USD\",tblSalaries[[#This Row],[Salary in USD]],tblSalaries[[#This Row],[Salary in USD]]*VLOOKUP($H$1,USDtoUserChoice,2,FALSE))","v":24605.940000000002},"executive","Analyst","Bangladesh",{"$f":"VLOOKUP(tblSalaries[[#This Row],[Where do you work]],tblCountries[[Actual]:[Mapping]],2,FALSE)","v":"Bangladesh"},"1 or 2 hours a day",12,{"$f":"IF(ISNA(VLOOKUP(tblSalaries[[#This Row],[Years of Experience]],vlookUpExp!$A$1:$B$56,2,FALSE)),\"No Response\",VLOOKUP(tblSalaries[[#This Row],[Years of Experience]],vlookUpExp!$A$1:$B$56,2,FALSE))","v":"11-15"}]
[null,"ID1793","2012-06-11T19:56:36",11000,11000,"USD",{"$f":"tblSalaries[[#This Row],[clean Salary (in local currency)]]*VLOOKUP(tblSalaries[[#This Row],[Currency]],tblXrate[],2,FALSE)","v":11000},{"$f":"IF($H$1=\"USD\",tblSalaries[[#This Row],[Salary in USD]],tblSalaries[[#This Row],[Salary in USD]]*VLOOKUP($H$1,USDtoUserChoice,2,FALSE))","v":90221.780000000013},"Web Analyst","Analyst","India",{"$f":"VLOOKUP(tblSalaries[[#This Row],[Where do you work]],tblCountries[[Actual]:[Mapping]],2,FALSE)","v":"India"},"4 to 6 hours a day",2,{"$f":"IF(ISNA(VLOOKUP(tblSalaries[[#This Row],[Years of Experience]],vlookUpExp!$A$1:$B$56,2,FALSE)),\"No Response\",VLOOKUP(tblSalaries[[#This Row],[Years of Experience]],vlookUpExp!$A$1:$B$56,2,FALSE))","v":"0-5"}]
[null,"ID1794","2012-06-11T21:03:36",40000,40000,"USD",{"$f":"tblSalaries[[#This Row],[clean Salary (in local currency)]]*VLOOKUP(tblSalaries[[#This Row],[Currency]],tblXrate[],2,FALSE)","v":40000},{"$f":"IF($H$1=\"USD\",tblSalaries[[#This Row],[Salary in USD]],tblSalaries[[#This Row],[Salary in USD]]*VLOOKUP($H$1,USDtoUserChoice,2,FALSE))","v":328079.2},"Intern","Analyst","USA",{"$f":"VLOOKUP(tblSalaries[[#This Row],[Where do you work]],tblCountries[[Actual]:[Mapping]],2,FALSE)","v":"USA"},"2 to 3 hours per day",2,{"$f":"IF(ISNA(VLOOKUP(tblSalaries[[#This Row],[Years of Experience]],vlookUpExp!$A$1:$B$56,2,FALSE)),\"No Response\",VLOOKUP(tblSalaries[[#This Row],[Years of Experience]],vlookUpExp!$A$1:$B$56,2,FALSE))","v":"0-5"}]
[null,"ID1795","2012-06-11T21:29:29",300,3600,"USD",{"$f":"tblSalaries[[#This Row],[clean Salary (in local currency)]]*VLOOKUP(tblSalaries[[#This Row],[Currency]],tblXrate[],2,FALSE)","v":3600},{"$f":"IF($H$1=\"USD\",tblSalaries[[#This Row],[Salary in USD]],tblSalaries[[#This Row],[Salary in USD]]*VLOOKUP($H$1,USDtoUserChoice,2,FALSE))","v":29527.128000000004},"Analyst","Analyst","India",{"$f":"VLOOKUP(tblSalaries[[#This Row],[Where do you work]],tblCountries[[Actual]:[Mapping]],2,FALSE)","v":"India"},"4 to 6 hours a day",1,{"$f":"IF(ISNA(VLOOKUP(tblSalaries[[#This Row],[Years of Experience]],vlookUpExp!$A$1:$B$56,2,FALSE)),\"No Response\",VLOOKUP(tblSalaries[[#This Row],[Years of Experience]],vlookUpExp!$A$1:$B$56,2,FALSE))","v":"0-5"}]
[null,"ID1796","2012-06-11T21:52:14",56600,56600,"USD",{"$f":"tblSalaries[[#This Row],[clean Salary (in local currency)]]*VLOOKUP(tblSalaries[[#This Row],[Currency]],tblXrate[],2,FALSE)","v":56600},{"$f":"IF($H$1=\"USD\",tblSalaries[[#This Row],[Salary in USD]],tblSalaries[[#This Row],[Salary in USD]]*VLOOKUP($H$1,USDtoUserChoice,2,FALSE))","v":464232.06800000003},"ECommerce Manager","Manager","USA",{"$f":"VLOOKUP(tblSalaries[[#This Row],[Where do you work]],tblCountries[[Actual]:[Mapping]],2,FALSE)","v":"USA"},"4 to 6 hours a day",12,{"$f":"IF(ISNA(VLOOKUP(tblSalaries[[#This Row],[Years of Experience]],vlookUpExp!$A$1:$B$56,2,FALSE)),\"No Response\",VLOOKUP(tblSalaries[[#This Row],[Years of Experience]],vlookUpExp!$A$1:$B$56,2,FALSE))","v":"11-15"}]
[null,"ID1797","2012-06-11T22:21:25",33600,33600,"USD",{"$f":"tblSalaries[[#This Row],[clean Salary (in local currency)]]*VLOOKUP(tblSalaries[[#This Row],[Currency]],tblXrate[],2,FALSE)","v":33600},{"$f":"IF($H$1=\"USD\",tblSalaries[[#This Row],[Salary in USD]],tblSalaries[[#This Row],[Salary in USD]]*VLOOKUP($H$1,USDtoUserChoice,2,FALSE))","v":275586.52800000005},"Executive","Analyst","Singapore",{"$f":"VLOOKUP(tblSalaries[[#This Row],[Where do you work]],tblCountries[[Actual]:[Mapping]],2,FALSE)","v":"Singapore"},"All the 8 hours baby, all the 8!",2,{"$f":"IF(ISNA(VLOOKUP(tblSalaries[[#This Row],[Years of Experience]],vlookUpExp!$A$1:$B$56,2,FALSE)),\"No Response\",VLOOKUP(tblSalaries[[#This Row],[Years of Experience]],vlookUpExp!$A$1:$B$56,2,FALSE))","v":"0-5"}]
[null,"ID1798","2012-06-11T22:22:00",33600,33600,"USD",{"$f":"tblSalaries[[#This Row],[clean Salary (in local currency)]]*VLOOKUP(tblSalaries[[#This Row],[Currency]],tblXrate[],2,FALSE)","v":33600},{"$f":"IF($H$1=\"USD\",tblSalaries[[#This Row],[Salary in USD]],tblSalaries[[#This Row],[Salary in USD]]*VLOOKUP($H$1,USDtoUserChoice,2,FALSE))","v":275586.52800000005},"Executive","Analyst","Singapore",{"$f":"VLOOKUP(tblSalaries[[#This Row],[Where do you work]],tblCountries[[Actual]:[Mapping]],2,FALSE)","v":"Singapore"},"All the 8 hours baby, all the 8!",2,{"$f":"IF(ISNA(VLOOKUP(tblSalaries[[#This Row],[Years of Experience]],vlookUpExp!$A$1:$B$56,2,FALSE)),\"No Response\",VLOOKUP(tblSalaries[[#This Row],[Years of Experience]],vlookUpExp!$A$1:$B$56,2,FALSE))","v":"0-5"}]
[null,"ID1799","2012-06-12T00:26:07",100000,100000,"USD",{"$f":"tblSalaries[[#This Row],[clean Salary (in local currency)]]*VLOOKUP(tblSalaries[[#This Row],[Currency]],tblXrate[],2,FALSE)","v":100000},{"$f":"IF($H$1=\"USD\",tblSalaries[[#This Row],[Salary in USD]],tblSalaries[[#This Row],[Salary in USD]]*VLOOKUP($H$1,USDtoUserChoice,2,FALSE))","v":820198.00000000012},"analyst","Analyst","USA",{"$f":"VLOOKUP(tblSalaries[[#This Row],[Where do you work]],tblCountries[[Actual]:[Mapping]],2,FALSE)","v":"USA"},"All the 8 hours baby, all the 8!",12,{"$f":"IF(ISNA(VLOOKUP(tblSalaries[[#This Row],[Years of Experience]],vlookUpExp!$A$1:$B$56,2,FALSE)),\"No Response\",VLOOKUP(tblSalaries[[#This Row],[Years of Experience]],vlookUpExp!$A$1:$B$56,2,FALSE))","v":"11-15"}]
[null,"ID1800","2012-06-12T01:55:12",40000,40000,"CAD",{"$f":"tblSalaries[[#This Row],[clean Salary (in local currency)]]*VLOOKUP(tblSalaries[[#This Row],[Currency]],tblXrate[],2,FALSE)","v":39334.460921213074},{"$f":"IF($H$1=\"USD\",tblSalaries[[#This Row],[Salary in USD]],tblSalaries[[#This Row],[Salary in USD]]*VLOOKUP($H$1,USDtoUserChoice,2,FALSE))","v":322620.46178657125},"Machine Scheduler","Analyst","Canada",{"$f":"VLOOKUP(tblSalaries[[#This Row],[Where do you work]],tblCountries[[Actual]:[Mapping]],2,FALSE)","v":"Canada"},"1 or 2 hours a day",1,{"$f":"IF(ISNA(VLOOKUP(tblSalaries[[#This Row],[Years of Experience]],vlookUpExp!$A$1:$B$56,2,FALSE)),\"No Response\",VLOOKUP(tblSalaries[[#This Row],[Years of Experience]],vlookUpExp!$A$1:$B$56,2,FALSE))","v":"0-5"}]
[null,"ID1801","2012-06-12T01:58:00",400000,400000,"INR",{"$f":"tblSalaries[[#This Row],[clean Salary (in local currency)]]*VLOOKUP(tblSalaries[[#This Row],[Currency]],tblXrate[],2,FALSE)","v":7123.1666749770275},{"$f":"IF($H$1=\"USD\",tblSalaries[[#This Row],[Salary in USD]],tblSalaries[[#This Row],[Salary in USD]]*VLOOKUP($H$1,USDtoUserChoice,2,FALSE))","v":58424.070604828084},"business analyst","Analyst","India",{"$f":"VLOOKUP(tblSalaries[[#This Row],[Where do you work]],tblCountries[[Actual]:[Mapping]],2,FALSE)","v":"India"},"2 to 3 hours per day",3,{"$f":"IF(ISNA(VLOOKUP(tblSalaries[[#This Row],[Years of Experience]],vlookUpExp!$A$1:$B$56,2,FALSE)),\"No Response\",VLOOKUP(tblSalaries[[#This Row],[Years of Experience]],vlookUpExp!$A$1:$B$56,2,FALSE))","v":"0-5"}]
[null,"ID1802","2012-06-12T02:43:17","$65,000 US",65000,"USD",{"$f":"tblSalaries[[#This Row],[clean Salary (in local currency)]]*VLOOKUP(tblSalaries[[#This Row],[Currency]],tblXrate[],2,FALSE)","v":65000},{"$f":"IF($H$1=\"USD\",tblSalaries[[#This Row],[Salary in USD]],tblSalaries[[#This Row],[Salary in USD]]*VLOOKUP($H$1,USDtoUserChoice,2,FALSE))","v":533128.70000000007},"Sr Financial Systems Analyst","Analyst","USA",{"$f":"VLOOKUP(tblSalaries[[#This Row],[Where do you work]],tblCountries[[Actual]:[Mapping]],2,FALSE)","v":"USA"},"4 to 6 hours a day",14,{"$f":"IF(ISNA(VLOOKUP(tblSalaries[[#This Row],[Years of Experience]],vlookUpExp!$A$1:$B$56,2,FALSE)),\"No Response\",VLOOKUP(tblSalaries[[#This Row],[Years of Experience]],vlookUpExp!$A$1:$B$56,2,FALSE))","v":"11-15"}]
[null,"ID1803","2012-06-12T02:59:16",65000,65000,"USD",{"$f":"tblSalaries[[#This Row],[clean Salary (in local currency)]]*VLOOKUP(tblSalaries[[#This Row],[Currency]],tblXrate[],2,FALSE)","v":65000},{"$f":"IF($H$1=\"USD\",tblSalaries[[#This Row],[Salary in USD]],tblSalaries[[#This Row],[Salary in USD]]*VLOOKUP($H$1,USDtoUserChoice,2,FALSE))","v":533128.70000000007},"Data Analyst","Analyst","USA",{"$f":"VLOOKUP(tblSalaries[[#This Row],[Where do you work]],tblCountries[[Actual]:[Mapping]],2,FALSE)","v":"USA"},"2 to 3 hours per day",10,{"$f":"IF(ISNA(VLOOKUP(tblSalaries[[#This Row],[Years of Experience]],vlookUpExp!$A$1:$B$56,2,FALSE)),\"No Response\",VLOOKUP(tblSalaries[[#This Row],[Years of Experience]],vlookUpExp!$A$1:$B$56,2,FALSE))","v":"6-10"}]
[null,"ID1804","2012-06-12T03:32:27",65000,65000,"USD",{"$f":"tblSalaries[[#This Row],[clean Salary (in local currency)]]*VLOOKUP(tblSalaries[[#This Row],[Currency]],tblXrate[],2,FALSE)","v":65000},{"$f":"IF($H$1=\"USD\",tblSalaries[[#This Row],[Salary in USD]],tblSalaries[[#This Row],[Salary in USD]]*VLOOKUP($H$1,USDtoUserChoice,2,FALSE))","v":533128.70000000007},"Assistant Controller","Controller","USA",{"$f":"VLOOKUP(tblSalaries[[#This Row],[Where do you work]],tblCountries[[Actual]:[Mapping]],2,FALSE)","v":"USA"},"2 to 3 hours per day",13,{"$f":"IF(ISNA(VLOOKUP(tblSalaries[[#This Row],[Years of Experience]],vlookUpExp!$A$1:$B$56,2,FALSE)),\"No Response\",VLOOKUP(tblSalaries[[#This Row],[Years of Experience]],vlookUpExp!$A$1:$B$56,2,FALSE))","v":"11-15"}]
[null,"ID1805","2012-06-12T03:45:25",78000,78000,"CAD",{"$f":"tblSalaries[[#This Row],[clean Salary (in local currency)]]*VLOOKUP(tblSalaries[[#This Row],[Currency]],tblXrate[],2,FALSE)","v":76702.198796365497},{"$f":"IF($H$1=\"USD\",tblSalaries[[#This Row],[Salary in USD]],tblSalaries[[#This Row],[Salary in USD]]*VLOOKUP($H$1,USDtoUserChoice,2,FALSE))","v":629109.90048381395},"SFA","Analyst","Canada",{"$f":"VLOOKUP(tblSalaries[[#This Row],[Where do you work]],tblCountries[[Actual]:[Mapping]],2,FALSE)","v":"Canada"},"All the 8 hours baby, all the 8!",4,{"$f":"IF(ISNA(VLOOKUP(tblSalaries[[#This Row],[Years of Experience]],vlookUpExp!$A$1:$B$56,2,FALSE)),\"No Response\",VLOOKUP(tblSalaries[[#This Row],[Years of Experience]],vlookUpExp!$A$1:$B$56,2,FALSE))","v":"0-5"}]
[null,"ID1806","2012-06-12T06:36:12",63000,63000,"USD",{"$f":"tblSalaries[[#This Row],[clean Salary (in local currency)]]*VLOOKUP(tblSalaries[[#This Row],[Currency]],tblXrate[],2,FALSE)","v":63000},{"$f":"IF($H$1=\"USD\",tblSalaries[[#This Row],[Salary in USD]],tblSalaries[[#This Row],[Salary in USD]]*VLOOKUP($H$1,USDtoUserChoice,2,FALSE))","v":516724.74000000005},"Sales Analyst","Analyst","USA",{"$f":"VLOOKUP(tblSalaries[[#This Row],[Where do you work]],tblCountries[[Actual]:[Mapping]],2,FALSE)","v":"USA"},"All the 8 hours baby, all the 8!",10,{"$f":"IF(ISNA(VLOOKUP(tblSalaries[[#This Row],[Years of Experience]],vlookUpExp!$A$1:$B$56,2,FALSE)),\"No Response\",VLOOKUP(tblSalaries[[#This Row],[Years of Experience]],vlookUpExp!$A$1:$B$56,2,FALSE))","v":"6-10"}]
[null,"ID1807","2012-06-12T08:36:15",87000,87000,"USD",{"$f":"tblSalaries[[#This Row],[clean Salary (in local currency)]]*VLOOKUP(tblSalaries[[#This Row],[Currency]],tblXrate[],2,FALSE)","v":87000},{"$f":"IF($H$1=\"USD\",tblSalaries[[#This Row],[Salary in USD]],tblSalaries[[#This Row],[Salary in USD]]*VLOOKUP($H$1,USDtoUserChoice,2,FALSE))","v":713572.26},"Ð˜Ð¨ Ð¤Ñ‚Ñ„Ð´Ð½Ñ‹Ðµ","Misc.","USA",{"$f":"VLOOKUP(tblSalaries[[#This Row],[Where do you work]],tblCountries[[Actual]:[Mapping]],2,FALSE)","v":"USA"},"4 to 6 hours a day",3,{"$f":"IF(ISNA(VLOOKUP(tblSalaries[[#This Row],[Years of Experience]],vlookUpExp!$A$1:$B$56,2,FALSE)),\"No Response\",VLOOKUP(tblSalaries[[#This Row],[Years of Experience]],vlookUpExp!$A$1:$B$56,2,FALSE))","v":"0-5"}]
[null,"ID1808","2012-06-12T08:46:15",45000,45000,"USD",{"$f":"tblSalaries[[#This Row],[clean Salary (in local currency)]]*VLOOKUP(tblSalaries[[#This Row],[Currency]],tblXrate[],2,FALSE)","v":45000},{"$f":"IF($H$1=\"USD\",tblSalaries[[#This Row],[Salary in USD]],tblSalaries[[#This Row],[Salary in USD]]*VLOOKUP($H$1,USDtoUserChoice,2,FALSE))","v":369089.10000000003},"ba","Analyst","USA",{"$f":"VLOOKUP(tblSalaries[[#This Row],[Where do you work]],tblCountries[[Actual]:[Mapping]],2,FALSE)","v":"USA"},"4 to 6 hours a day",4,{"$f":"IF(ISNA(VLOOKUP(tblSalaries[[#This Row],[Years of Experience]],vlookUpExp!$A$1:$B$56,2,FALSE)),\"No Response\",VLOOKUP(tblSalaries[[#This Row],[Years of Experience]],vlookUpExp!$A$1:$B$56,2,FALSE))","v":"0-5"}]
[null,"ID1809","2012-06-12T12:15:46",85000,85000,"USD",{"$f":"tblSalaries[[#This Row],[clean Salary (in local currency)]]*VLOOKUP(tblSalaries[[#This Row],[Currency]],tblXrate[],2,FALSE)","v":85000},{"$f":"IF($H$1=\"USD\",tblSalaries[[#This Row],[Salary in USD]],tblSalaries[[#This Row],[Salary in USD]]*VLOOKUP($H$1,USDtoUserChoice,2,FALSE))","v":697168.3},"Lead Financial Analyst","Analyst","USA",{"$f":"VLOOKUP(tblSalaries[[#This Row],[Where do you work]],tblCountries[[Actual]:[Mapping]],2,FALSE)","v":"USA"},"All the 8 hours baby, all the 8!",3,{"$f":"IF(ISNA(VLOOKUP(tblSalaries[[#This Row],[Years of Experience]],vlookUpExp!$A$1:$B$56,2,FALSE)),\"No Response\",VLOOKUP(tblSalaries[[#This Row],[Years of Experience]],vlookUpExp!$A$1:$B$56,2,FALSE))","v":"0-5"}]
[null,"ID1810","2012-06-12T15:09:22",156000,156000,"AUD",{"$f":"tblSalaries[[#This Row],[clean Salary (in local currency)]]*VLOOKUP(tblSalaries[[#This Row],[Currency]],tblXrate[],2,FALSE)","v":159105.90639881117},{"$f":"IF($H$1=\"USD\",tblSalaries[[#This Row],[Salary in USD]],tblSalaries[[#This Row],[Salary in USD]]*VLOOKUP($H$1,USDtoUserChoice,2,FALSE))","v":1304983.4621649215},"Senior Associate Engineer","Engineer","Australia",{"$f":"VLOOKUP(tblSalaries[[#This Row],[Where do you work]],tblCountries[[Actual]:[Mapping]],2,FALSE)","v":"Australia"},"2 to 3 hours per day",12,{"$f":"IF(ISNA(VLOOKUP(tblSalaries[[#This Row],[Years of Experience]],vlookUpExp!$A$1:$B$56,2,FALSE)),\"No Response\",VLOOKUP(tblSalaries[[#This Row],[Years of Experience]],vlookUpExp!$A$1:$B$56,2,FALSE))","v":"11-15"}]
[null,"ID1811","2012-06-12T15:58:36",560000,560000,"INR",{"$f":"tblSalaries[[#This Row],[clean Salary (in local currency)]]*VLOOKUP(tblSalaries[[#This Row],[Currency]],tblXrate[],2,FALSE)","v":9972.4333449678379},{"$f":"IF($H$1=\"USD\",tblSalaries[[#This Row],[Salary in USD]],tblSalaries[[#This Row],[Salary in USD]]*VLOOKUP($H$1,USDtoUserChoice,2,FALSE))","v":81793.698846759318},"Associate Manager","Manager","India",{"$f":"VLOOKUP(tblSalaries[[#This Row],[Where do you work]],tblCountries[[Actual]:[Mapping]],2,FALSE)","v":"India"},"2 to 3 hours per day",4,{"$f":"IF(ISNA(VLOOKUP(tblSalaries[[#This Row],[Years of Experience]],vlookUpExp!$A$1:$B$56,2,FALSE)),\"No Response\",VLOOKUP(tblSalaries[[#This Row],[Years of Experience]],vlookUpExp!$A$1:$B$56,2,FALSE))","v":"0-5"}]
[null,"ID1812","2012-06-12T16:16:25",14000,14000,"USD",{"$f":"tblSalaries[[#This Row],[clean Salary (in local currency)]]*VLOOKUP(tblSalaries[[#This Row],[Currency]],tblXrate[],2,FALSE)","v":14000},{"$f":"IF($H$1=\"USD\",tblSalaries[[#This Row],[Salary in USD]],tblSalaries[[#This Row],[Salary in USD]]*VLOOKUP($H$1,USDtoUserChoice,2,FALSE))","v":114827.72000000002},"Manager","Manager","India",{"$f":"VLOOKUP(tblSalaries[[#This Row],[Where do you work]],tblCountries[[Actual]:[Mapping]],2,FALSE)","v":"India"},"4 to 6 hours a day",5,{"$f":"IF(ISNA(VLOOKUP(tblSalaries[[#This Row],[Years of Experience]],vlookUpExp!$A$1:$B$56,2,FALSE)),\"No Response\",VLOOKUP(tblSalaries[[#This Row],[Years of Experience]],vlookUpExp!$A$1:$B$56,2,FALSE))","v":"0-5"}]
[null,"ID1813","2012-06-12T18:09:58","Â£32000",32000,"GBP",{"$f":"tblSalaries[[#This Row],[clean Salary (in local currency)]]*VLOOKUP(tblSalaries[[#This Row],[Currency]],tblXrate[],2,FALSE)","v":50437.70470615309},{"$f":"IF($H$1=\"USD\",tblSalaries[[#This Row],[Salary in USD]],tblSalaries[[#This Row],[Salary in USD]]*VLOOKUP($H$1,USDtoUserChoice,2,FALSE))","v":413689.04524577357},"Business Analyst","Analyst","UK",{"$f":"VLOOKUP(tblSalaries[[#This Row],[Where do you work]],tblCountries[[Actual]:[Mapping]],2,FALSE)","v":"UK"},"4 to 6 hours a day",20,{"$f":"IF(ISNA(VLOOKUP(tblSalaries[[#This Row],[Years of Experience]],vlookUpExp!$A$1:$B$56,2,FALSE)),\"No Response\",VLOOKUP(tblSalaries[[#This Row],[Years of Experience]],vlookUpExp!$A$1:$B$56,2,FALSE))","v":"16-20"}]
[null,"ID1814","2012-06-12T18:28:39",32000,32000,"GBP",{"$f":"tblSalaries[[#This Row],[clean Salary (in local currency)]]*VLOOKUP(tblSalaries[[#This Row],[Currency]],tblXrate[],2,FALSE)","v":50437.70470615309},{"$f":"IF($H$1=\"USD\",tblSalaries[[#This Row],[Salary in USD]],tblSalaries[[#This Row],[Salary in USD]]*VLOOKUP($H$1,USDtoUserChoice,2,FALSE))","v":413689.04524577357},"Financial Analyst","Analyst","UK",{"$f":"VLOOKUP(tblSalaries[[#This Row],[Where do you work]],tblCountries[[Actual]:[Mapping]],2,FALSE)","v":"UK"},"All the 8 hours baby, all the 8!",1,{"$f":"IF(ISNA(VLOOKUP(tblSalaries[[#This Row],[Years of Experience]],vlookUpExp!$A$1:$B$56,2,FALSE)),\"No Response\",VLOOKUP(tblSalaries[[#This Row],[Years of Experience]],vlookUpExp!$A$1:$B$56,2,FALSE))","v":"0-5"}]
[null,"ID1815","2012-06-12T20:11:24",8900,1281600,"PKR",{"$f":"tblSalaries[[#This Row],[clean Salary (in local currency)]]*VLOOKUP(tblSalaries[[#This Row],[Currency]],tblXrate[],2,FALSE)","v":13603.016099449767},{"$f":"IF($H$1=\"USD\",tblSalaries[[#This Row],[Salary in USD]],tblSalaries[[#This Row],[Salary in USD]]*VLOOKUP($H$1,USDtoUserChoice,2,FALSE))","v":111571.66598736501},"Manager MIS & Analytics","Manager","pakistan",{"$f":"VLOOKUP(tblSalaries[[#This Row],[Where do you work]],tblCountries[[Actual]:[Mapping]],2,FALSE)","v":"Pakistan"},"All the 8 hours baby, all the 8!",8,{"$f":"IF(ISNA(VLOOKUP(tblSalaries[[#This Row],[Years of Experience]],vlookUpExp!$A$1:$B$56,2,FALSE)),\"No Response\",VLOOKUP(tblSalaries[[#This Row],[Years of Experience]],vlookUpExp!$A$1:$B$56,2,FALSE))","v":"6-10"}]
[null,"ID1816","2012-06-12T20:47:33","aud145000",145000,"AUD",{"$f":"tblSalaries[[#This Row],[clean Salary (in local currency)]]*VLOOKUP(tblSalaries[[#This Row],[Currency]],tblXrate[],2,FALSE)","v":147886.90017838217},{"$f":"IF($H$1=\"USD\",tblSalaries[[#This Row],[Salary in USD]],tblSalaries[[#This Row],[Salary in USD]]*VLOOKUP($H$1,USDtoUserChoice,2,FALSE))","v":1212965.3975250872},"Financial controller","Controller","Australia",{"$f":"VLOOKUP(tblSalaries[[#This Row],[Where do you work]],tblCountries[[Actual]:[Mapping]],2,FALSE)","v":"Australia"},"2 to 3 hours per day",15,{"$f":"IF(ISNA(VLOOKUP(tblSalaries[[#This Row],[Years of Experience]],vlookUpExp!$A$1:$B$56,2,FALSE)),\"No Response\",VLOOKUP(tblSalaries[[#This Row],[Years of Experience]],vlookUpExp!$A$1:$B$56,2,FALSE))","v":"11-15"}]
[null,"ID1818","2012-06-12T21:47:54",280000,280000,"INR",{"$f":"tblSalaries[[#This Row],[clean Salary (in local currency)]]*VLOOKUP(tblSalaries[[#This Row],[Currency]],tblXrate[],2,FALSE)","v":4986.216672483919},{"$f":"IF($H$1=\"USD\",tblSalaries[[#This Row],[Salary in USD]],tblSalaries[[#This Row],[Salary in USD]]*VLOOKUP($H$1,USDtoUserChoice,2,FALSE))","v":40896.849423379659},"Sales Cordinator","Analyst","India",{"$f":"VLOOKUP(tblSalaries[[#This Row],[Where do you work]],tblCountries[[Actual]:[Mapping]],2,FALSE)","v":"India"},"All the 8 hours baby, all the 8!",8,{"$f":"IF(ISNA(VLOOKUP(tblSalaries[[#This Row],[Years of Experience]],vlookUpExp!$A$1:$B$56,2,FALSE)),\"No Response\",VLOOKUP(tblSalaries[[#This Row],[Years of Experience]],vlookUpExp!$A$1:$B$56,2,FALSE))","v":"6-10"}]
[null,"ID1819","2012-06-12T21:58:21",4800,4800,"USD",{"$f":"tblSalaries[[#This Row],[clean Salary (in local currency)]]*VLOOKUP(tblSalaries[[#This Row],[Currency]],tblXrate[],2,FALSE)","v":4800},{"$f":"IF($H$1=\"USD\",tblSalaries[[#This Row],[Salary in USD]],tblSalaries[[#This Row],[Salary in USD]]*VLOOKUP($H$1,USDtoUserChoice,2,FALSE))","v":39369.504000000001},"Sr Executive","Manager","India",{"$f":"VLOOKUP(tblSalaries[[#This Row],[Where do you work]],tblCountries[[Actual]:[Mapping]],2,FALSE)","v":"India"},"All the 8 hours baby, all the 8!",3,{"$f":"IF(ISNA(VLOOKUP(tblSalaries[[#This Row],[Years of Experience]],vlookUpExp!$A$1:$B$56,2,FALSE)),\"No Response\",VLOOKUP(tblSalaries[[#This Row],[Years of Experience]],vlookUpExp!$A$1:$B$56,2,FALSE))","v":"0-5"}]
[null,"ID1820","2012-06-13T00:20:14","4.5 Laks",450000,"INR",{"$f":"tblSalaries[[#This Row],[clean Salary (in local currency)]]*VLOOKUP(tblSalaries[[#This Row],[Currency]],tblXrate[],2,FALSE)","v":8013.5625093491553},{"$f":"IF($H$1=\"USD\",tblSalaries[[#This Row],[Salary in USD]],tblSalaries[[#This Row],[Salary in USD]]*VLOOKUP($H$1,USDtoUserChoice,2,FALSE))","v":65727.079430431593},"MIS Executive","Reporting","India",{"$f":"VLOOKUP(tblSalaries[[#This Row],[Where do you work]],tblCountries[[Actual]:[Mapping]],2,FALSE)","v":"India"},"4 to 6 hours a day",4,{"$f":"IF(ISNA(VLOOKUP(tblSalaries[[#This Row],[Years of Experience]],vlookUpExp!$A$1:$B$56,2,FALSE)),\"No Response\",VLOOKUP(tblSalaries[[#This Row],[Years of Experience]],vlookUpExp!$A$1:$B$56,2,FALSE))","v":"0-5"}]
[null,"ID1821","2012-06-13T00:23:31",80000,80000,"USD",{"$f":"tblSalaries[[#This Row],[clean Salary (in local currency)]]*VLOOKUP(tblSalaries[[#This Row],[Currency]],tblXrate[],2,FALSE)","v":80000},{"$f":"IF($H$1=\"USD\",tblSalaries[[#This Row],[Salary in USD]],tblSalaries[[#This Row],[Salary in USD]]*VLOOKUP($H$1,USDtoUserChoice,2,FALSE))","v":656158.4},"Manager, Operations","Manager","USA",{"$f":"VLOOKUP(tblSalaries[[#This Row],[Where do you work]],tblCountries[[Actual]:[Mapping]],2,FALSE)","v":"USA"},"4 to 6 hours a day",2,{"$f":"IF(ISNA(VLOOKUP(tblSalaries[[#This Row],[Years of Experience]],vlookUpExp!$A$1:$B$56,2,FALSE)),\"No Response\",VLOOKUP(tblSalaries[[#This Row],[Years of Experience]],vlookUpExp!$A$1:$B$56,2,FALSE))","v":"0-5"}]
[null,"ID1822","2012-06-13T00:37:24","â‚¬ 45000",45000,"EUR",{"$f":"tblSalaries[[#This Row],[clean Salary (in local currency)]]*VLOOKUP(tblSalaries[[#This Row],[Currency]],tblXrate[],2,FALSE)","v":57167.974754622352},{"$f":"IF($H$1=\"USD\",tblSalaries[[#This Row],[Salary in USD]],tblSalaries[[#This Row],[Salary in USD]]*VLOOKUP($H$1,USDtoUserChoice,2,FALSE))","v":468890.58557791746},"IT Trainer","Analyst","Netherlands",{"$f":"VLOOKUP(tblSalaries[[#This Row],[Where do you work]],tblCountries[[Actual]:[Mapping]],2,FALSE)","v":"Netherlands"},"2 to 3 hours per day",14,{"$f":"IF(ISNA(VLOOKUP(tblSalaries[[#This Row],[Years of Experience]],vlookUpExp!$A$1:$B$56,2,FALSE)),\"No Response\",VLOOKUP(tblSalaries[[#This Row],[Years of Experience]],vlookUpExp!$A$1:$B$56,2,FALSE))","v":"11-15"}]
[null,"ID1823","2012-06-13T00:50:20",20000,20000,"USD",{"$f":"tblSalaries[[#This Row],[clean Salary (in local currency)]]*VLOOKUP(tblSalaries[[#This Row],[Currency]],tblXrate[],2,FALSE)","v":20000},{"$f":"IF($H$1=\"USD\",tblSalaries[[#This Row],[Salary in USD]],tblSalaries[[#This Row],[Salary in USD]]*VLOOKUP($H$1,USDtoUserChoice,2,FALSE))","v":164039.6},"administrator","Analyst","Canada",{"$f":"VLOOKUP(tblSalaries[[#This Row],[Where do you work]],tblCountries[[Actual]:[Mapping]],2,FALSE)","v":"Canada"},"2 to 3 hours per day",2,{"$f":"IF(ISNA(VLOOKUP(tblSalaries[[#This Row],[Years of Experience]],vlookUpExp!$A$1:$B$56,2,FALSE)),\"No Response\",VLOOKUP(tblSalaries[[#This Row],[Years of Experience]],vlookUpExp!$A$1:$B$56,2,FALSE))","v":"0-5"}]
[null,"ID1824","2012-06-13T01:56:23",70000,70000,"USD",{"$f":"tblSalaries[[#This Row],[clean Salary (in local currency)]]*VLOOKUP(tblSalaries[[#This Row],[Currency]],tblXrate[],2,FALSE)","v":70000},{"$f":"IF($H$1=\"USD\",tblSalaries[[#This Row],[Salary in USD]],tblSalaries[[#This Row],[Salary in USD]]*VLOOKUP($H$1,USDtoUserChoice,2,FALSE))","v":574138.60000000009},"business analyst","Analyst","USA",{"$f":"VLOOKUP(tblSalaries[[#This Row],[Where do you work]],tblCountries[[Actual]:[Mapping]],2,FALSE)","v":"USA"},"2 to 3 hours per day",5,{"$f":"IF(ISNA(VLOOKUP(tblSalaries[[#This Row],[Years of Experience]],vlookUpExp!$A$1:$B$56,2,FALSE)),\"No Response\",VLOOKUP(tblSalaries[[#This Row],[Years of Experience]],vlookUpExp!$A$1:$B$56,2,FALSE))","v":"0-5"}]
[null,"ID1825","2012-06-13T03:23:05","$214,000  USD",214000,"USD",{"$f":"tblSalaries[[#This Row],[clean Salary (in local currency)]]*VLOOKUP(tblSalaries[[#This Row],[Currency]],tblXrate[],2,FALSE)","v":214000},{"$f":"IF($H$1=\"USD\",tblSalaries[[#This Row],[Salary in USD]],tblSalaries[[#This Row],[Salary in USD]]*VLOOKUP($H$1,USDtoUserChoice,2,FALSE))","v":1755223.7200000002},"Assistant Corporate Controller","Controller","USA",{"$f":"VLOOKUP(tblSalaries[[#This Row],[Where do you work]],tblCountries[[Actual]:[Mapping]],2,FALSE)","v":"USA"},"All the 8 hours baby, all the 8!",20,{"$f":"IF(ISNA(VLOOKUP(tblSalaries[[#This Row],[Years of Experience]],vlookUpExp!$A$1:$B$56,2,FALSE)),\"No Response\",VLOOKUP(tblSalaries[[#This Row],[Years of Experience]],vlookUpExp!$A$1:$B$56,2,FALSE))","v":"16-20"}]
[null,"ID1826","2012-06-13T03:48:39",78000,78000,"USD",{"$f":"tblSalaries[[#This Row],[clean Salary (in local currency)]]*VLOOKUP(tblSalaries[[#This Row],[Currency]],tblXrate[],2,FALSE)","v":78000},{"$f":"IF($H$1=\"USD\",tblSalaries[[#This Row],[Salary in USD]],tblSalaries[[#This Row],[Salary in USD]]*VLOOKUP($H$1,USDtoUserChoice,2,FALSE))","v":639754.44000000006},"Data Integration Engenieer","Engineer","USA",{"$f":"VLOOKUP(tblSalaries[[#This Row],[Where do you work]],tblCountries[[Actual]:[Mapping]],2,FALSE)","v":"USA"},"All the 8 hours baby, all the 8!",5,{"$f":"IF(ISNA(VLOOKUP(tblSalaries[[#This Row],[Years of Experience]],vlookUpExp!$A$1:$B$56,2,FALSE)),\"No Response\",VLOOKUP(tblSalaries[[#This Row],[Years of Experience]],vlookUpExp!$A$1:$B$56,2,FALSE))","v":"0-5"}]
[null,"ID1827","2012-06-13T04:39:37",42307.199999999997,42307,"USD",{"$f":"tblSalaries[[#This Row],[clean Salary (in local currency)]]*VLOOKUP(tblSalaries[[#This Row],[Currency]],tblXrate[],2,FALSE)","v":42307},{"$f":"IF($H$1=\"USD\",tblSalaries[[#This Row],[Salary in USD]],tblSalaries[[#This Row],[Salary in USD]]*VLOOKUP($H$1,USDtoUserChoice,2,FALSE))","v":347001.16786000005},"purchasing operations administrator","Analyst","USA",{"$f":"VLOOKUP(tblSalaries[[#This Row],[Where do you work]],tblCountries[[Actual]:[Mapping]],2,FALSE)","v":"USA"},"2 to 3 hours per day",25,{"$f":"IF(ISNA(VLOOKUP(tblSalaries[[#This Row],[Years of Experience]],vlookUpExp!$A$1:$B$56,2,FALSE)),\"No Response\",VLOOKUP(tblSalaries[[#This Row],[Years of Experience]],vlookUpExp!$A$1:$B$56,2,FALSE))","v":"21-25"}]
[null,"ID1828","2012-06-13T04:40:03",33250,33250,"USD",{"$f":"tblSalaries[[#This Row],[clean Salary (in local currency)]]*VLOOKUP(tblSalaries[[#This Row],[Currency]],tblXrate[],2,FALSE)","v":33250},{"$f":"IF($H$1=\"USD\",tblSalaries[[#This Row],[Salary in USD]],tblSalaries[[#This Row],[Salary in USD]]*VLOOKUP($H$1,USDtoUserChoice,2,FALSE))","v":272715.83500000002},"Planning and Logistics Coordinator","Manager","USA",{"$f":"VLOOKUP(tblSalaries[[#This Row],[Where do you work]],tblCountries[[Actual]:[Mapping]],2,FALSE)","v":"USA"},"All the 8 hours baby, all the 8!",20,{"$f":"IF(ISNA(VLOOKUP(tblSalaries[[#This Row],[Years of Experience]],vlookUpExp!$A$1:$B$56,2,FALSE)),\"No Response\",VLOOKUP(tblSalaries[[#This Row],[Years of Experience]],vlookUpExp!$A$1:$B$56,2,FALSE))","v":"16-20"}]
[null,"ID1829","2012-06-13T05:20:32","1600â‚¬ net monthly",19200,"EUR",{"$f":"tblSalaries[[#This Row],[clean Salary (in local currency)]]*VLOOKUP(tblSalaries[[#This Row],[Currency]],tblXrate[],2,FALSE)","v":24391.669228638868},{"$f":"IF($H$1=\"USD\",tblSalaries[[#This Row],[Salary in USD]],tblSalaries[[#This Row],[Salary in USD]]*VLOOKUP($H$1,USDtoUserChoice,2,FALSE))","v":200059.98317991145},"bank clerk","Analyst","italy",{"$f":"VLOOKUP(tblSalaries[[#This Row],[Where do you work]],tblCountries[[Actual]:[Mapping]],2,FALSE)","v":"italy"},"4 to 6 hours a day",10,{"$f":"IF(ISNA(VLOOKUP(tblSalaries[[#This Row],[Years of Experience]],vlookUpExp!$A$1:$B$56,2,FALSE)),\"No Response\",VLOOKUP(tblSalaries[[#This Row],[Years of Experience]],vlookUpExp!$A$1:$B$56,2,FALSE))","v":"6-10"}]
[null,"ID1830","2012-06-13T06:19:24",120000,120000,"USD",{"$f":"tblSalaries[[#This Row],[clean Salary (in local currency)]]*VLOOKUP(tblSalaries[[#This Row],[Currency]],tblXrate[],2,FALSE)","v":120000},{"$f":"IF($H$1=\"USD\",tblSalaries[[#This Row],[Salary in USD]],tblSalaries[[#This Row],[Salary in USD]]*VLOOKUP($H$1,USDtoUserChoice,2,FALSE))","v":984237.60000000009},"Financial Modeler","Accountant","USA",{"$f":"VLOOKUP(tblSalaries[[#This Row],[Where do you work]],tblCountries[[Actual]:[Mapping]],2,FALSE)","v":"USA"},"4 to 6 hours a day",20,{"$f":"IF(ISNA(VLOOKUP(tblSalaries[[#This Row],[Years of Experience]],vlookUpExp!$A$1:$B$56,2,FALSE)),\"No Response\",VLOOKUP(tblSalaries[[#This Row],[Years of Experience]],vlookUpExp!$A$1:$B$56,2,FALSE))","v":"16-20"}]
[null,"ID1831","2012-06-13T11:58:30",20000,20000,"USD",{"$f":"tblSalaries[[#This Row],[clean Salary (in local currency)]]*VLOOKUP(tblSalaries[[#This Row],[Currency]],tblXrate[],2,FALSE)","v":20000},{"$f":"IF($H$1=\"USD\",tblSalaries[[#This Row],[Salary in USD]],tblSalaries[[#This Row],[Salary in USD]]*VLOOKUP($H$1,USDtoUserChoice,2,FALSE))","v":164039.6},"Personal Assistant","Analyst","Hong Kong",{"$f":"VLOOKUP(tblSalaries[[#This Row],[Where do you work]],tblCountries[[Actual]:[Mapping]],2,FALSE)","v":"Hong Kong"},"1 or 2 hours a day",1,{"$f":"IF(ISNA(VLOOKUP(tblSalaries[[#This Row],[Years of Experience]],vlookUpExp!$A$1:$B$56,2,FALSE)),\"No Response\",VLOOKUP(tblSalaries[[#This Row],[Years of Experience]],vlookUpExp!$A$1:$B$56,2,FALSE))","v":"0-5"}]
[null,"ID1832","2012-06-13T17:22:47",15000,15000,"USD",{"$f":"tblSalaries[[#This Row],[clean Salary (in local currency)]]*VLOOKUP(tblSalaries[[#This Row],[Currency]],tblXrate[],2,FALSE)","v":15000},{"$f":"IF($H$1=\"USD\",tblSalaries[[#This Row],[Salary in USD]],tblSalaries[[#This Row],[Salary in USD]]*VLOOKUP($H$1,USDtoUserChoice,2,FALSE))","v":123029.70000000001},"senior associate","Analyst","India",{"$f":"VLOOKUP(tblSalaries[[#This Row],[Where do you work]],tblCountries[[Actual]:[Mapping]],2,FALSE)","v":"India"},"2 to 3 hours per day",0.3,{"$f":"IF(ISNA(VLOOKUP(tblSalaries[[#This Row],[Years of Experience]],vlookUpExp!$A$1:$B$56,2,FALSE)),\"No Response\",VLOOKUP(tblSalaries[[#This Row],[Years of Experience]],vlookUpExp!$A$1:$B$56,2,FALSE))","v":"0-5"}]
[null,"ID1833","2012-06-13T18:25:00","INR 10 lacs p.a.",1000000,"INR",{"$f":"tblSalaries[[#This Row],[clean Salary (in local currency)]]*VLOOKUP(tblSalaries[[#This Row],[Currency]],tblXrate[],2,FALSE)","v":17807.916687442568},{"$f":"IF($H$1=\"USD\",tblSalaries[[#This Row],[Salary in USD]],tblSalaries[[#This Row],[Salary in USD]]*VLOOKUP($H$1,USDtoUserChoice,2,FALSE))","v":146060.1765120702},"Mnanager- Customer Project finance & recovery","Manager","India",{"$f":"VLOOKUP(tblSalaries[[#This Row],[Where do you work]],tblCountries[[Actual]:[Mapping]],2,FALSE)","v":"India"},"2 to 3 hours per day",10,{"$f":"IF(ISNA(VLOOKUP(tblSalaries[[#This Row],[Years of Experience]],vlookUpExp!$A$1:$B$56,2,FALSE)),\"No Response\",VLOOKUP(tblSalaries[[#This Row],[Years of Experience]],vlookUpExp!$A$1:$B$56,2,FALSE))","v":"6-10"}]
[null,"ID1834","2012-06-13T19:20:25",900000,900000,"INR",{"$f":"tblSalaries[[#This Row],[clean Salary (in local currency)]]*VLOOKUP(tblSalaries[[#This Row],[Currency]],tblXrate[],2,FALSE)","v":16027.125018698311},{"$f":"IF($H$1=\"USD\",tblSalaries[[#This Row],[Salary in USD]],tblSalaries[[#This Row],[Salary in USD]]*VLOOKUP($H$1,USDtoUserChoice,2,FALSE))","v":131454.15886086319},"Lead ","Manager","India",{"$f":"VLOOKUP(tblSalaries[[#This Row],[Where do you work]],tblCountries[[Actual]:[Mapping]],2,FALSE)","v":"India"},"2 to 3 hours per day",6,{"$f":"IF(ISNA(VLOOKUP(tblSalaries[[#This Row],[Years of Experience]],vlookUpExp!$A$1:$B$56,2,FALSE)),\"No Response\",VLOOKUP(tblSalaries[[#This Row],[Years of Experience]],vlookUpExp!$A$1:$B$56,2,FALSE))","v":"6-10"}]
[null,"ID1835","2012-06-13T19:33:58","36000 British pounds",36000,"GBP",{"$f":"tblSalaries[[#This Row],[clean Salary (in local currency)]]*VLOOKUP(tblSalaries[[#This Row],[Currency]],tblXrate[],2,FALSE)","v":56742.417794422225},{"$f":"IF($H$1=\"USD\",tblSalaries[[#This Row],[Salary in USD]],tblSalaries[[#This Row],[Salary in USD]]*VLOOKUP($H$1,USDtoUserChoice,2,FALSE))","v":465400.17590149521},"Senior officer data reporting","Manager","UK",{"$f":"VLOOKUP(tblSalaries[[#This Row],[Where do you work]],tblCountries[[Actual]:[Mapping]],2,FALSE)","v":"UK"},"All the 8 hours baby, all the 8!",7,{"$f":"IF(ISNA(VLOOKUP(tblSalaries[[#This Row],[Years of Experience]],vlookUpExp!$A$1:$B$56,2,FALSE)),\"No Response\",VLOOKUP(tblSalaries[[#This Row],[Years of Experience]],vlookUpExp!$A$1:$B$56,2,FALSE))","v":"6-10"}]
[null,"ID1836","2012-06-13T19:40:16",1200000,1200000,"INR",{"$f":"tblSalaries[[#This Row],[clean Salary (in local currency)]]*VLOOKUP(tblSalaries[[#This Row],[Currency]],tblXrate[],2,FALSE)","v":21369.500024931083},{"$f":"IF($H$1=\"USD\",tblSalaries[[#This Row],[Salary in USD]],tblSalaries[[#This Row],[Salary in USD]]*VLOOKUP($H$1,USDtoUserChoice,2,FALSE))","v":175272.21181448427},"AM","Manager","India",{"$f":"VLOOKUP(tblSalaries[[#This Row],[Where do you work]],tblCountries[[Actual]:[Mapping]],2,FALSE)","v":"India"},"4 to 6 hours a day",7,{"$f":"IF(ISNA(VLOOKUP(tblSalaries[[#This Row],[Years of Experience]],vlookUpExp!$A$1:$B$56,2,FALSE)),\"No Response\",VLOOKUP(tblSalaries[[#This Row],[Years of Experience]],vlookUpExp!$A$1:$B$56,2,FALSE))","v":"6-10"}]
[null,"ID1837","2012-06-13T20:39:18",425000,425000,"INR",{"$f":"tblSalaries[[#This Row],[clean Salary (in local currency)]]*VLOOKUP(tblSalaries[[#This Row],[Currency]],tblXrate[],2,FALSE)","v":7568.3645921630914},{"$f":"IF($H$1=\"USD\",tblSalaries[[#This Row],[Salary in USD]],tblSalaries[[#This Row],[Salary in USD]]*VLOOKUP($H$1,USDtoUserChoice,2,FALSE))","v":62075.575017629839},"accountant","Accountant","India",{"$f":"VLOOKUP(tblSalaries[[#This Row],[Where do you work]],tblCountries[[Actual]:[Mapping]],2,FALSE)","v":"India"},"2 to 3 hours per day",6,{"$f":"IF(ISNA(VLOOKUP(tblSalaries[[#This Row],[Years of Experience]],vlookUpExp!$A$1:$B$56,2,FALSE)),\"No Response\",VLOOKUP(tblSalaries[[#This Row],[Years of Experience]],vlookUpExp!$A$1:$B$56,2,FALSE))","v":"6-10"}]
[null,"ID1838","2012-06-13T23:32:36",50000,50000,"GBP",{"$f":"tblSalaries[[#This Row],[clean Salary (in local currency)]]*VLOOKUP(tblSalaries[[#This Row],[Currency]],tblXrate[],2,FALSE)","v":78808.913603364199},{"$f":"IF($H$1=\"USD\",tblSalaries[[#This Row],[Salary in USD]],tblSalaries[[#This Row],[Salary in USD]]*VLOOKUP($H$1,USDtoUserChoice,2,FALSE))","v":646389.1331965212},"Assistant Financial Accountant","Accountant","UK",{"$f":"VLOOKUP(tblSalaries[[#This Row],[Where do you work]],tblCountries[[Actual]:[Mapping]],2,FALSE)","v":"UK"},"2 to 3 hours per day",10,{"$f":"IF(ISNA(VLOOKUP(tblSalaries[[#This Row],[Years of Experience]],vlookUpExp!$A$1:$B$56,2,FALSE)),\"No Response\",VLOOKUP(tblSalaries[[#This Row],[Years of Experience]],vlookUpExp!$A$1:$B$56,2,FALSE))","v":"6-10"}]
[null,"ID1839","2012-06-14T01:55:13",60000,60000,"USD",{"$f":"tblSalaries[[#This Row],[clean Salary (in local currency)]]*VLOOKUP(tblSalaries[[#This Row],[Currency]],tblXrate[],2,FALSE)","v":60000},{"$f":"IF($H$1=\"USD\",tblSalaries[[#This Row],[Salary in USD]],tblSalaries[[#This Row],[Salary in USD]]*VLOOKUP($H$1,USDtoUserChoice,2,FALSE))","v":492118.80000000005},"Business Analyst","Analyst","USA",{"$f":"VLOOKUP(tblSalaries[[#This Row],[Where do you work]],tblCountries[[Actual]:[Mapping]],2,FALSE)","v":"USA"},"4 to 6 hours a day",15,{"$f":"IF(ISNA(VLOOKUP(tblSalaries[[#This Row],[Years of Experience]],vlookUpExp!$A$1:$B$56,2,FALSE)),\"No Response\",VLOOKUP(tblSalaries[[#This Row],[Years of Experience]],vlookUpExp!$A$1:$B$56,2,FALSE))","v":"11-15"}]
[null,"ID1840","2012-06-14T02:44:43",57000,57000,"USD",{"$f":"tblSalaries[[#This Row],[clean Salary (in local currency)]]*VLOOKUP(tblSalaries[[#This Row],[Currency]],tblXrate[],2,FALSE)","v":57000},{"$f":"IF($H$1=\"USD\",tblSalaries[[#This Row],[Salary in USD]],tblSalaries[[#This Row],[Salary in USD]]*VLOOKUP($H$1,USDtoUserChoice,2,FALSE))","v":467512.86000000004},"Staff Accountant","Accountant","USA",{"$f":"VLOOKUP(tblSalaries[[#This Row],[Where do you work]],tblCountries[[Actual]:[Mapping]],2,FALSE)","v":"USA"},"4 to 6 hours a day",9,{"$f":"IF(ISNA(VLOOKUP(tblSalaries[[#This Row],[Years of Experience]],vlookUpExp!$A$1:$B$56,2,FALSE)),\"No Response\",VLOOKUP(tblSalaries[[#This Row],[Years of Experience]],vlookUpExp!$A$1:$B$56,2,FALSE))","v":"6-10"}]
[null,"ID1841","2012-06-14T04:22:36",40000,40000,"USD",{"$f":"tblSalaries[[#This Row],[clean Salary (in local currency)]]*VLOOKUP(tblSalaries[[#This Row],[Currency]],tblXrate[],2,FALSE)","v":40000},{"$f":"IF($H$1=\"USD\",tblSalaries[[#This Row],[Salary in USD]],tblSalaries[[#This Row],[Salary in USD]]*VLOOKUP($H$1,USDtoUserChoice,2,FALSE))","v":328079.2},"Rates Analyst","Analyst","USA",{"$f":"VLOOKUP(tblSalaries[[#This Row],[Where do you work]],tblCountries[[Actual]:[Mapping]],2,FALSE)","v":"USA"},"2 to 3 hours per day",0,{"$f":"IF(ISNA(VLOOKUP(tblSalaries[[#This Row],[Years of Experience]],vlookUpExp!$A$1:$B$56,2,FALSE)),\"No Response\",VLOOKUP(tblSalaries[[#This Row],[Years of Experience]],vlookUpExp!$A$1:$B$56,2,FALSE))","v":"0-5"}]
[null,"ID1842","2012-06-14T07:16:41",80000,80000,"USD",{"$f":"tblSalaries[[#This Row],[clean Salary (in local currency)]]*VLOOKUP(tblSalaries[[#This Row],[Currency]],tblXrate[],2,FALSE)","v":80000},{"$f":"IF($H$1=\"USD\",tblSalaries[[#This Row],[Salary in USD]],tblSalaries[[#This Row],[Salary in USD]]*VLOOKUP($H$1,USDtoUserChoice,2,FALSE))","v":656158.4},"Project Controller","Controller","USA",{"$f":"VLOOKUP(tblSalaries[[#This Row],[Where do you work]],tblCountries[[Actual]:[Mapping]],2,FALSE)","v":"USA"},"4 to 6 hours a day",9,{"$f":"IF(ISNA(VLOOKUP(tblSalaries[[#This Row],[Years of Experience]],vlookUpExp!$A$1:$B$56,2,FALSE)),\"No Response\",VLOOKUP(tblSalaries[[#This Row],[Years of Experience]],vlookUpExp!$A$1:$B$56,2,FALSE))","v":"6-10"}]
[null,"ID1843","2012-06-14T12:27:30",118000,118000,"USD",{"$f":"tblSalaries[[#This Row],[clean Salary (in local currency)]]*VLOOKUP(tblSalaries[[#This Row],[Currency]],tblXrate[],2,FALSE)","v":118000},{"$f":"IF($H$1=\"USD\",tblSalaries[[#This Row],[Salary in USD]],tblSalaries[[#This Row],[Salary in USD]]*VLOOKUP($H$1,USDtoUserChoice,2,FALSE))","v":967833.64000000013},"AVP","CXO or Top Mgmt.","USA",{"$f":"VLOOKUP(tblSalaries[[#This Row],[Where do you work]],tblCountries[[Actual]:[Mapping]],2,FALSE)","v":"USA"},"4 to 6 hours a day",6,{"$f":"IF(ISNA(VLOOKUP(tblSalaries[[#This Row],[Years of Experience]],vlookUpExp!$A$1:$B$56,2,FALSE)),\"No Response\",VLOOKUP(tblSalaries[[#This Row],[Years of Experience]],vlookUpExp!$A$1:$B$56,2,FALSE))","v":"6-10"}]
[null,"ID1844","2012-06-14T14:08:58",5000,60000,"USD",{"$f":"tblSalaries[[#This Row],[clean Salary (in local currency)]]*VLOOKUP(tblSalaries[[#This Row],[Currency]],tblXrate[],2,FALSE)","v":60000},{"$f":"IF($H$1=\"USD\",tblSalaries[[#This Row],[Salary in USD]],tblSalaries[[#This Row],[Salary in USD]]*VLOOKUP($H$1,USDtoUserChoice,2,FALSE))","v":492118.80000000005},"Analyst","Analyst","UAE",{"$f":"VLOOKUP(tblSalaries[[#This Row],[Where do you work]],tblCountries[[Actual]:[Mapping]],2,FALSE)","v":"UAE"},"4 to 6 hours a day",5,{"$f":"IF(ISNA(VLOOKUP(tblSalaries[[#This Row],[Years of Experience]],vlookUpExp!$A$1:$B$56,2,FALSE)),\"No Response\",VLOOKUP(tblSalaries[[#This Row],[Years of Experience]],vlookUpExp!$A$1:$B$56,2,FALSE))","v":"0-5"}]
[null,"ID1845","2012-06-14T18:27:04",560,6720,"USD",{"$f":"tblSalaries[[#This Row],[clean Salary (in local currency)]]*VLOOKUP(tblSalaries[[#This Row],[Currency]],tblXrate[],2,FALSE)","v":6720},{"$f":"IF($H$1=\"USD\",tblSalaries[[#This Row],[Salary in USD]],tblSalaries[[#This Row],[Salary in USD]]*VLOOKUP($H$1,USDtoUserChoice,2,FALSE))","v":55117.305600000007},"accoutant","Accountant","India",{"$f":"VLOOKUP(tblSalaries[[#This Row],[Where do you work]],tblCountries[[Actual]:[Mapping]],2,FALSE)","v":"India"},"4 to 6 hours a day",5,{"$f":"IF(ISNA(VLOOKUP(tblSalaries[[#This Row],[Years of Experience]],vlookUpExp!$A$1:$B$56,2,FALSE)),\"No Response\",VLOOKUP(tblSalaries[[#This Row],[Years of Experience]],vlookUpExp!$A$1:$B$56,2,FALSE))","v":"0-5"}]
[null,"ID1846","2012-06-14T22:03:05",1720,20640,"USD",{"$f":"tblSalaries[[#This Row],[clean Salary (in local currency)]]*VLOOKUP(tblSalaries[[#This Row],[Currency]],tblXrate[],2,FALSE)","v":20640},{"$f":"IF($H$1=\"USD\",tblSalaries[[#This Row],[Salary in USD]],tblSalaries[[#This Row],[Salary in USD]]*VLOOKUP($H$1,USDtoUserChoice,2,FALSE))","v":169288.86720000001},"Programme Officer","Manager","Singapore",{"$f":"VLOOKUP(tblSalaries[[#This Row],[Where do you work]],tblCountries[[Actual]:[Mapping]],2,FALSE)","v":"Singapore"},"4 to 6 hours a day",3,{"$f":"IF(ISNA(VLOOKUP(tblSalaries[[#This Row],[Years of Experience]],vlookUpExp!$A$1:$B$56,2,FALSE)),\"No Response\",VLOOKUP(tblSalaries[[#This Row],[Years of Experience]],vlookUpExp!$A$1:$B$56,2,FALSE))","v":"0-5"}]
[null,"ID1847","2012-06-15T00:35:45",50000,50000,"USD",{"$f":"tblSalaries[[#This Row],[clean Salary (in local currency)]]*VLOOKUP(tblSalaries[[#This Row],[Currency]],tblXrate[],2,FALSE)","v":50000},{"$f":"IF($H$1=\"USD\",tblSalaries[[#This Row],[Salary in USD]],tblSalaries[[#This Row],[Salary in USD]]*VLOOKUP($H$1,USDtoUserChoice,2,FALSE))","v":410099.00000000006},"Digital Media Analyst","Analyst","USA",{"$f":"VLOOKUP(tblSalaries[[#This Row],[Where do you work]],tblCountries[[Actual]:[Mapping]],2,FALSE)","v":"USA"},"All the 8 hours baby, all the 8!",15,{"$f":"IF(ISNA(VLOOKUP(tblSalaries[[#This Row],[Years of Experience]],vlookUpExp!$A$1:$B$56,2,FALSE)),\"No Response\",VLOOKUP(tblSalaries[[#This Row],[Years of Experience]],vlookUpExp!$A$1:$B$56,2,FALSE))","v":"11-15"}]
[null,"ID1848","2012-06-15T00:52:38",2000,24000,"USD",{"$f":"tblSalaries[[#This Row],[clean Salary (in local currency)]]*VLOOKUP(tblSalaries[[#This Row],[Currency]],tblXrate[],2,FALSE)","v":24000},{"$f":"IF($H$1=\"USD\",tblSalaries[[#This Row],[Salary in USD]],tblSalaries[[#This Row],[Salary in USD]]*VLOOKUP($H$1,USDtoUserChoice,2,FALSE))","v":196847.52000000002},"Plant Controller","Controller","Russia",{"$f":"VLOOKUP(tblSalaries[[#This Row],[Where do you work]],tblCountries[[Actual]:[Mapping]],2,FALSE)","v":"Russia"},"All the 8 hours baby, all the 8!",23,{"$f":"IF(ISNA(VLOOKUP(tblSalaries[[#This Row],[Years of Experience]],vlookUpExp!$A$1:$B$56,2,FALSE)),\"No Response\",VLOOKUP(tblSalaries[[#This Row],[Years of Experience]],vlookUpExp!$A$1:$B$56,2,FALSE))","v":"21-25"}]
[null,"ID1849","2012-06-15T01:02:48",60000,60000,"USD",{"$f":"tblSalaries[[#This Row],[clean Salary (in local currency)]]*VLOOKUP(tblSalaries[[#This Row],[Currency]],tblXrate[],2,FALSE)","v":60000},{"$f":"IF($H$1=\"USD\",tblSalaries[[#This Row],[Salary in USD]],tblSalaries[[#This Row],[Salary in USD]]*VLOOKUP($H$1,USDtoUserChoice,2,FALSE))","v":492118.80000000005},"Business Analyst","Analyst","USA",{"$f":"VLOOKUP(tblSalaries[[#This Row],[Where do you work]],tblCountries[[Actual]:[Mapping]],2,FALSE)","v":"USA"},"2 to 3 hours per day",3,{"$f":"IF(ISNA(VLOOKUP(tblSalaries[[#This Row],[Years of Experience]],vlookUpExp!$A$1:$B$56,2,FALSE)),\"No Response\",VLOOKUP(tblSalaries[[#This Row],[Years of Experience]],vlookUpExp!$A$1:$B$56,2,FALSE))","v":"0-5"}]
[null,"ID1850","2012-06-15T01:10:09",37500,37500,"USD",{"$f":"tblSalaries[[#This Row],[clean Salary (in local currency)]]*VLOOKUP(tblSalaries[[#This Row],[Currency]],tblXrate[],2,FALSE)","v":37500},{"$f":"IF($H$1=\"USD\",tblSalaries[[#This Row],[Salary in USD]],tblSalaries[[#This Row],[Salary in USD]]*VLOOKUP($H$1,USDtoUserChoice,2,FALSE))","v":307574.25},"consultant","Consultant","India",{"$f":"VLOOKUP(tblSalaries[[#This Row],[Where do you work]],tblCountries[[Actual]:[Mapping]],2,FALSE)","v":"India"},"All the 8 hours baby, all the 8!",0,{"$f":"IF(ISNA(VLOOKUP(tblSalaries[[#This Row],[Years of Experience]],vlookUpExp!$A$1:$B$56,2,FALSE)),\"No Response\",VLOOKUP(tblSalaries[[#This Row],[Years of Experience]],vlookUpExp!$A$1:$B$56,2,FALSE))","v":"0-5"}]
[null,"ID1851","2012-06-15T02:24:44",40000,40000,"USD",{"$f":"tblSalaries[[#This Row],[clean Salary (in local currency)]]*VLOOKUP(tblSalaries[[#This Row],[Currency]],tblXrate[],2,FALSE)","v":40000},{"$f":"IF($H$1=\"USD\",tblSalaries[[#This Row],[Salary in USD]],tblSalaries[[#This Row],[Salary in USD]]*VLOOKUP($H$1,USDtoUserChoice,2,FALSE))","v":328079.2},"Research Support Specialist","Specialist","USA",{"$f":"VLOOKUP(tblSalaries[[#This Row],[Where do you work]],tblCountries[[Actual]:[Mapping]],2,FALSE)","v":"USA"},"4 to 6 hours a day",1,{"$f":"IF(ISNA(VLOOKUP(tblSalaries[[#This Row],[Years of Experience]],vlookUpExp!$A$1:$B$56,2,FALSE)),\"No Response\",VLOOKUP(tblSalaries[[#This Row],[Years of Experience]],vlookUpExp!$A$1:$B$56,2,FALSE))","v":"0-5"}]
[null,"ID1852","2012-06-15T02:30:11","US$ 85000",85000,"USD",{"$f":"tblSalaries[[#This Row],[clean Salary (in local currency)]]*VLOOKUP(tblSalaries[[#This Row],[Currency]],tblXrate[],2,FALSE)","v":85000},{"$f":"IF($H$1=\"USD\",tblSalaries[[#This Row],[Salary in USD]],tblSalaries[[#This Row],[Salary in USD]]*VLOOKUP($H$1,USDtoUserChoice,2,FALSE))","v":697168.3},"Chief Financial Officer","CXO or Top Mgmt.","USA",{"$f":"VLOOKUP(tblSalaries[[#This Row],[Where do you work]],tblCountries[[Actual]:[Mapping]],2,FALSE)","v":"USA"},"2 to 3 hours per day",15,{"$f":"IF(ISNA(VLOOKUP(tblSalaries[[#This Row],[Years of Experience]],vlookUpExp!$A$1:$B$56,2,FALSE)),\"No Response\",VLOOKUP(tblSalaries[[#This Row],[Years of Experience]],vlookUpExp!$A$1:$B$56,2,FALSE))","v":"11-15"}]
[null,"ID1853","2012-06-15T03:00:04",30000,30000,"USD",{"$f":"tblSalaries[[#This Row],[clean Salary (in local currency)]]*VLOOKUP(tblSalaries[[#This Row],[Currency]],tblXrate[],2,FALSE)","v":30000},{"$f":"IF($H$1=\"USD\",tblSalaries[[#This Row],[Salary in USD]],tblSalaries[[#This Row],[Salary in USD]]*VLOOKUP($H$1,USDtoUserChoice,2,FALSE))","v":246059.40000000002},"Trainee","Analyst","Brazil",{"$f":"VLOOKUP(tblSalaries[[#This Row],[Where do you work]],tblCountries[[Actual]:[Mapping]],2,FALSE)","v":"Brazil"},"2 to 3 hours per day",1,{"$f":"IF(ISNA(VLOOKUP(tblSalaries[[#This Row],[Years of Experience]],vlookUpExp!$A$1:$B$56,2,FALSE)),\"No Response\",VLOOKUP(tblSalaries[[#This Row],[Years of Experience]],vlookUpExp!$A$1:$B$56,2,FALSE))","v":"0-5"}]
[null,"ID1854","2012-06-15T03:51:50","Â£33500",33500,"GBP",{"$f":"tblSalaries[[#This Row],[clean Salary (in local currency)]]*VLOOKUP(tblSalaries[[#This Row],[Currency]],tblXrate[],2,FALSE)","v":52801.972114254015},{"$f":"IF($H$1=\"USD\",tblSalaries[[#This Row],[Salary in USD]],tblSalaries[[#This Row],[Salary in USD]]*VLOOKUP($H$1,USDtoUserChoice,2,FALSE))","v":433080.71924166917},"Senior Manufacturing Engineer","Engineer","UK",{"$f":"VLOOKUP(tblSalaries[[#This Row],[Where do you work]],tblCountries[[Actual]:[Mapping]],2,FALSE)","v":"UK"},"2 to 3 hours per day",7,{"$f":"IF(ISNA(VLOOKUP(tblSalaries[[#This Row],[Years of Experience]],vlookUpExp!$A$1:$B$56,2,FALSE)),\"No Response\",VLOOKUP(tblSalaries[[#This Row],[Years of Experience]],vlookUpExp!$A$1:$B$56,2,FALSE))","v":"6-10"}]
[null,"ID1855","2012-06-15T05:44:30",29000,29000,"USD",{"$f":"tblSalaries[[#This Row],[clean Salary (in local currency)]]*VLOOKUP(tblSalaries[[#This Row],[Currency]],tblXrate[],2,FALSE)","v":29000},{"$f":"IF($H$1=\"USD\",tblSalaries[[#This Row],[Salary in USD]],tblSalaries[[#This Row],[Salary in USD]]*VLOOKUP($H$1,USDtoUserChoice,2,FALSE))","v":237857.42},"Customer Experence Engineer","Engineer","USA",{"$f":"VLOOKUP(tblSalaries[[#This Row],[Where do you work]],tblCountries[[Actual]:[Mapping]],2,FALSE)","v":"USA"},"All the 8 hours baby, all the 8!",1,{"$f":"IF(ISNA(VLOOKUP(tblSalaries[[#This Row],[Years of Experience]],vlookUpExp!$A$1:$B$56,2,FALSE)),\"No Response\",VLOOKUP(tblSalaries[[#This Row],[Years of Experience]],vlookUpExp!$A$1:$B$56,2,FALSE))","v":"0-5"}]
[null,"ID1857","2012-06-15T09:00:08",48000,48000,"USD",{"$f":"tblSalaries[[#This Row],[clean Salary (in local currency)]]*VLOOKUP(tblSalaries[[#This Row],[Currency]],tblXrate[],2,FALSE)","v":48000},{"$f":"IF($H$1=\"USD\",tblSalaries[[#This Row],[Salary in USD]],tblSalaries[[#This Row],[Salary in USD]]*VLOOKUP($H$1,USDtoUserChoice,2,FALSE))","v":393695.04000000004},"Accountant","Accountant","USA",{"$f":"VLOOKUP(tblSalaries[[#This Row],[Where do you work]],tblCountries[[Actual]:[Mapping]],2,FALSE)","v":"USA"},"4 to 6 hours a day",1,{"$f":"IF(ISNA(VLOOKUP(tblSalaries[[#This Row],[Years of Experience]],vlookUpExp!$A$1:$B$56,2,FALSE)),\"No Response\",VLOOKUP(tblSalaries[[#This Row],[Years of Experience]],vlookUpExp!$A$1:$B$56,2,FALSE))","v":"0-5"}]
[null,"ID1858","2012-06-15T09:01:23",48000,48000,"USD",{"$f":"tblSalaries[[#This Row],[clean Salary (in local currency)]]*VLOOKUP(tblSalaries[[#This Row],[Currency]],tblXrate[],2,FALSE)","v":48000},{"$f":"IF($H$1=\"USD\",tblSalaries[[#This Row],[Salary in USD]],tblSalaries[[#This Row],[Salary in USD]]*VLOOKUP($H$1,USDtoUserChoice,2,FALSE))","v":393695.04000000004},"Accountant","Accountant","USA",{"$f":"VLOOKUP(tblSalaries[[#This Row],[Where do you work]],tblCountries[[Actual]:[Mapping]],2,FALSE)","v":"USA"},"4 to 6 hours a day",1,{"$f":"IF(ISNA(VLOOKUP(tblSalaries[[#This Row],[Years of Experience]],vlookUpExp!$A$1:$B$56,2,FALSE)),\"No Response\",VLOOKUP(tblSalaries[[#This Row],[Years of Experience]],vlookUpExp!$A$1:$B$56,2,FALSE))","v":"0-5"}]
[null,"ID1859","2012-06-15T15:07:11",700,8400,"USD",{"$f":"tblSalaries[[#This Row],[clean Salary (in local currency)]]*VLOOKUP(tblSalaries[[#This Row],[Currency]],tblXrate[],2,FALSE)","v":8400},{"$f":"IF($H$1=\"USD\",tblSalaries[[#This Row],[Salary in USD]],tblSalaries[[#This Row],[Salary in USD]]*VLOOKUP($H$1,USDtoUserChoice,2,FALSE))","v":68896.632000000012},"Analyst","Analyst","Baltic",{"$f":"VLOOKUP(tblSalaries[[#This Row],[Where do you work]],tblCountries[[Actual]:[Mapping]],2,FALSE)","v":"Baltic"},"All the 8 hours baby, all the 8!",0.3,{"$f":"IF(ISNA(VLOOKUP(tblSalaries[[#This Row],[Years of Experience]],vlookUpExp!$A$1:$B$56,2,FALSE)),\"No Response\",VLOOKUP(tblSalaries[[#This Row],[Years of Experience]],vlookUpExp!$A$1:$B$56,2,FALSE))","v":"0-5"}]
[null,"ID1860","2012-06-15T15:43:42",270000,270000,"INR",{"$f":"tblSalaries[[#This Row],[clean Salary (in local currency)]]*VLOOKUP(tblSalaries[[#This Row],[Currency]],tblXrate[],2,FALSE)","v":4808.137505609493},{"$f":"IF($H$1=\"USD\",tblSalaries[[#This Row],[Salary in USD]],tblSalaries[[#This Row],[Salary in USD]]*VLOOKUP($H$1,USDtoUserChoice,2,FALSE))","v":39436.247658258952},"Team Lead","Manager","India",{"$f":"VLOOKUP(tblSalaries[[#This Row],[Where do you work]],tblCountries[[Actual]:[Mapping]],2,FALSE)","v":"India"},"2 to 3 hours per day",5,{"$f":"IF(ISNA(VLOOKUP(tblSalaries[[#This Row],[Years of Experience]],vlookUpExp!$A$1:$B$56,2,FALSE)),\"No Response\",VLOOKUP(tblSalaries[[#This Row],[Years of Experience]],vlookUpExp!$A$1:$B$56,2,FALSE))","v":"0-5"}]
[null,"ID1861","2012-06-15T16:36:47",1400000,1400000,"INR",{"$f":"tblSalaries[[#This Row],[clean Salary (in local currency)]]*VLOOKUP(tblSalaries[[#This Row],[Currency]],tblXrate[],2,FALSE)","v":24931.083362419595},{"$f":"IF($H$1=\"USD\",tblSalaries[[#This Row],[Salary in USD]],tblSalaries[[#This Row],[Salary in USD]]*VLOOKUP($H$1,USDtoUserChoice,2,FALSE))","v":204484.24711689827},"Manager - Controlling","Manager","India",{"$f":"VLOOKUP(tblSalaries[[#This Row],[Where do you work]],tblCountries[[Actual]:[Mapping]],2,FALSE)","v":"India"},"4 to 6 hours a day",10,{"$f":"IF(ISNA(VLOOKUP(tblSalaries[[#This Row],[Years of Experience]],vlookUpExp!$A$1:$B$56,2,FALSE)),\"No Response\",VLOOKUP(tblSalaries[[#This Row],[Years of Experience]],vlookUpExp!$A$1:$B$56,2,FALSE))","v":"6-10"}]
[null,"ID1862","2012-06-15T17:16:19","INR 700000",700000,"INR",{"$f":"tblSalaries[[#This Row],[clean Salary (in local currency)]]*VLOOKUP(tblSalaries[[#This Row],[Currency]],tblXrate[],2,FALSE)","v":12465.541681209797},{"$f":"IF($H$1=\"USD\",tblSalaries[[#This Row],[Salary in USD]],tblSalaries[[#This Row],[Salary in USD]]*VLOOKUP($H$1,USDtoUserChoice,2,FALSE))","v":102242.12355844914},"Sr. System Analyst","Analyst","India",{"$f":"VLOOKUP(tblSalaries[[#This Row],[Where do you work]],tblCountries[[Actual]:[Mapping]],2,FALSE)","v":"India"},"2 to 3 hours per day",4,{"$f":"IF(ISNA(VLOOKUP(tblSalaries[[#This Row],[Years of Experience]],vlookUpExp!$A$1:$B$56,2,FALSE)),\"No Response\",VLOOKUP(tblSalaries[[#This Row],[Years of Experience]],vlookUpExp!$A$1:$B$56,2,FALSE))","v":"0-5"}]
[null,"ID1863","2012-06-15T17:35:32",20000,20000,"GBP",{"$f":"tblSalaries[[#This Row],[clean Salary (in local currency)]]*VLOOKUP(tblSalaries[[#This Row],[Currency]],tblXrate[],2,FALSE)","v":31523.565441345683},{"$f":"IF($H$1=\"USD\",tblSalaries[[#This Row],[Salary in USD]],tblSalaries[[#This Row],[Salary in USD]]*VLOOKUP($H$1,USDtoUserChoice,2,FALSE))","v":258555.65327860849},"Accountant","Accountant","UK",{"$f":"VLOOKUP(tblSalaries[[#This Row],[Where do you work]],tblCountries[[Actual]:[Mapping]],2,FALSE)","v":"UK"},"2 to 3 hours per day",10,{"$f":"IF(ISNA(VLOOKUP(tblSalaries[[#This Row],[Years of Experience]],vlookUpExp!$A$1:$B$56,2,FALSE)),\"No Response\",VLOOKUP(tblSalaries[[#This Row],[Years of Experience]],vlookUpExp!$A$1:$B$56,2,FALSE))","v":"6-10"}]
[null,"ID1864","2012-06-15T17:36:10","INR 1000000",1000000,"INR",{"$f":"tblSalaries[[#This Row],[clean Salary (in local currency)]]*VLOOKUP(tblSalaries[[#This Row],[Currency]],tblXrate[],2,FALSE)","v":17807.916687442568},{"$f":"IF($H$1=\"USD\",tblSalaries[[#This Row],[Salary in USD]],tblSalaries[[#This Row],[Salary in USD]]*VLOOKUP($H$1,USDtoUserChoice,2,FALSE))","v":146060.1765120702},"Sr.Manager","Manager","India",{"$f":"VLOOKUP(tblSalaries[[#This Row],[Where do you work]],tblCountries[[Actual]:[Mapping]],2,FALSE)","v":"India"},"All the 8 hours baby, all the 8!",10,{"$f":"IF(ISNA(VLOOKUP(tblSalaries[[#This Row],[Years of Experience]],vlookUpExp!$A$1:$B$56,2,FALSE)),\"No Response\",VLOOKUP(tblSalaries[[#This Row],[Years of Experience]],vlookUpExp!$A$1:$B$56,2,FALSE))","v":"6-10"}]
[null,"ID1865","2012-06-15T18:13:12",112000,112000,"USD",{"$f":"tblSalaries[[#This Row],[clean Salary (in local currency)]]*VLOOKUP(tblSalaries[[#This Row],[Currency]],tblXrate[],2,FALSE)","v":112000},{"$f":"IF($H$1=\"USD\",tblSalaries[[#This Row],[Salary in USD]],tblSalaries[[#This Row],[Salary in USD]]*VLOOKUP($H$1,USDtoUserChoice,2,FALSE))","v":918621.76000000013},"manager","Manager","USA",{"$f":"VLOOKUP(tblSalaries[[#This Row],[Where do you work]],tblCountries[[Actual]:[Mapping]],2,FALSE)","v":"USA"},"2 to 3 hours per day",8,{"$f":"IF(ISNA(VLOOKUP(tblSalaries[[#This Row],[Years of Experience]],vlookUpExp!$A$1:$B$56,2,FALSE)),\"No Response\",VLOOKUP(tblSalaries[[#This Row],[Years of Experience]],vlookUpExp!$A$1:$B$56,2,FALSE))","v":"6-10"}]
[null,"ID1866","2012-06-15T20:00:26",11000,11000,"USD",{"$f":"tblSalaries[[#This Row],[clean Salary (in local currency)]]*VLOOKUP(tblSalaries[[#This Row],[Currency]],tblXrate[],2,FALSE)","v":11000},{"$f":"IF($H$1=\"USD\",tblSalaries[[#This Row],[Salary in USD]],tblSalaries[[#This Row],[Salary in USD]]*VLOOKUP($H$1,USDtoUserChoice,2,FALSE))","v":90221.780000000013},"AM","Manager","India",{"$f":"VLOOKUP(tblSalaries[[#This Row],[Where do you work]],tblCountries[[Actual]:[Mapping]],2,FALSE)","v":"India"},"All the 8 hours baby, all the 8!",8,{"$f":"IF(ISNA(VLOOKUP(tblSalaries[[#This Row],[Years of Experience]],vlookUpExp!$A$1:$B$56,2,FALSE)),\"No Response\",VLOOKUP(tblSalaries[[#This Row],[Years of Experience]],vlookUpExp!$A$1:$B$56,2,FALSE))","v":"6-10"}]
[null,"ID1867","2012-06-15T20:50:49","EUR 90000",90000,"EUR",{"$f":"tblSalaries[[#This Row],[clean Salary (in local currency)]]*VLOOKUP(tblSalaries[[#This Row],[Currency]],tblXrate[],2,FALSE)","v":114335.9495092447},{"$f":"IF($H$1=\"USD\",tblSalaries[[#This Row],[Salary in USD]],tblSalaries[[#This Row],[Salary in USD]]*VLOOKUP($H$1,USDtoUserChoice,2,FALSE))","v":937781.17115583492},"Controller","Controller","mainland Europe (Euro zone)",{"$f":"VLOOKUP(tblSalaries[[#This Row],[Where do you work]],tblCountries[[Actual]:[Mapping]],2,FALSE)","v":"Europe"},"2 to 3 hours per day",20,{"$f":"IF(ISNA(VLOOKUP(tblSalaries[[#This Row],[Years of Experience]],vlookUpExp!$A$1:$B$56,2,FALSE)),\"No Response\",VLOOKUP(tblSalaries[[#This Row],[Years of Experience]],vlookUpExp!$A$1:$B$56,2,FALSE))","v":"16-20"}]
[null,"ID1868","2012-06-15T21:32:16","$US16.110,72",16110,"USD",{"$f":"tblSalaries[[#This Row],[clean Salary (in local currency)]]*VLOOKUP(tblSalaries[[#This Row],[Currency]],tblXrate[],2,FALSE)","v":16110},{"$f":"IF($H$1=\"USD\",tblSalaries[[#This Row],[Salary in USD]],tblSalaries[[#This Row],[Salary in USD]]*VLOOKUP($H$1,USDtoUserChoice,2,FALSE))","v":132133.89780000001},"INFORMATION ANALIST","Analyst","COLOMBIA",{"$f":"VLOOKUP(tblSalaries[[#This Row],[Where do you work]],tblCountries[[Actual]:[Mapping]],2,FALSE)","v":"Colombia"},"All the 8 hours baby, all the 8!",10,{"$f":"IF(ISNA(VLOOKUP(tblSalaries[[#This Row],[Years of Experience]],vlookUpExp!$A$1:$B$56,2,FALSE)),\"No Response\",VLOOKUP(tblSalaries[[#This Row],[Years of Experience]],vlookUpExp!$A$1:$B$56,2,FALSE))","v":"6-10"}]
[null,"ID1869","2012-06-15T22:36:45",72000,72000,"USD",{"$f":"tblSalaries[[#This Row],[clean Salary (in local currency)]]*VLOOKUP(tblSalaries[[#This Row],[Currency]],tblXrate[],2,FALSE)","v":72000},{"$f":"IF($H$1=\"USD\",tblSalaries[[#This Row],[Salary in USD]],tblSalaries[[#This Row],[Salary in USD]]*VLOOKUP($H$1,USDtoUserChoice,2,FALSE))","v":590542.56000000006},"HR Supervisor","Manager","USA",{"$f":"VLOOKUP(tblSalaries[[#This Row],[Where do you work]],tblCountries[[Actual]:[Mapping]],2,FALSE)","v":"USA"},"4 to 6 hours a day",10,{"$f":"IF(ISNA(VLOOKUP(tblSalaries[[#This Row],[Years of Experience]],vlookUpExp!$A$1:$B$56,2,FALSE)),\"No Response\",VLOOKUP(tblSalaries[[#This Row],[Years of Experience]],vlookUpExp!$A$1:$B$56,2,FALSE))","v":"6-10"}]
[null,"ID1870","2012-06-15T23:21:00",60000,60000,"USD",{"$f":"tblSalaries[[#This Row],[clean Salary (in local currency)]]*VLOOKUP(tblSalaries[[#This Row],[Currency]],tblXrate[],2,FALSE)","v":60000},{"$f":"IF($H$1=\"USD\",tblSalaries[[#This Row],[Salary in USD]],tblSalaries[[#This Row],[Salary in USD]]*VLOOKUP($H$1,USDtoUserChoice,2,FALSE))","v":492118.80000000005},"Marketing Initatities Analyst","Analyst","USA",{"$f":"VLOOKUP(tblSalaries[[#This Row],[Where do you work]],tblCountries[[Actual]:[Mapping]],2,FALSE)","v":"USA"},"All the 8 hours baby, all the 8!",10,{"$f":"IF(ISNA(VLOOKUP(tblSalaries[[#This Row],[Years of Experience]],vlookUpExp!$A$1:$B$56,2,FALSE)),\"No Response\",VLOOKUP(tblSalaries[[#This Row],[Years of Experience]],vlookUpExp!$A$1:$B$56,2,FALSE))","v":"6-10"}]
[null,"ID1871","2012-06-15T23:50:11",67000,67000,"USD",{"$f":"tblSalaries[[#This Row],[clean Salary (in local currency)]]*VLOOKUP(tblSalaries[[#This Row],[Currency]],tblXrate[],2,FALSE)","v":67000},{"$f":"IF($H$1=\"USD\",tblSalaries[[#This Row],[Salary in USD]],tblSalaries[[#This Row],[Salary in USD]]*VLOOKUP($H$1,USDtoUserChoice,2,FALSE))","v":549532.66},"Sales Compensation Analyst","Analyst","USA",{"$f":"VLOOKUP(tblSalaries[[#This Row],[Where do you work]],tblCountries[[Actual]:[Mapping]],2,FALSE)","v":"USA"},"4 to 6 hours a day",6,{"$f":"IF(ISNA(VLOOKUP(tblSalaries[[#This Row],[Years of Experience]],vlookUpExp!$A$1:$B$56,2,FALSE)),\"No Response\",VLOOKUP(tblSalaries[[#This Row],[Years of Experience]],vlookUpExp!$A$1:$B$56,2,FALSE))","v":"6-10"}]
[null,"ID1872","2012-06-16T02:50:49",54000,54000,"USD",{"$f":"tblSalaries[[#This Row],[clean Salary (in local currency)]]*VLOOKUP(tblSalaries[[#This Row],[Currency]],tblXrate[],2,FALSE)","v":54000},{"$f":"IF($H$1=\"USD\",tblSalaries[[#This Row],[Salary in USD]],tblSalaries[[#This Row],[Salary in USD]]*VLOOKUP($H$1,USDtoUserChoice,2,FALSE))","v":442906.92000000004},"materials","Analyst","USA",{"$f":"VLOOKUP(tblSalaries[[#This Row],[Where do you work]],tblCountries[[Actual]:[Mapping]],2,FALSE)","v":"USA"},"4 to 6 hours a day",18,{"$f":"IF(ISNA(VLOOKUP(tblSalaries[[#This Row],[Years of Experience]],vlookUpExp!$A$1:$B$56,2,FALSE)),\"No Response\",VLOOKUP(tblSalaries[[#This Row],[Years of Experience]],vlookUpExp!$A$1:$B$56,2,FALSE))","v":"16-20"}]
[null,"ID1873","2012-06-16T05:23:03",38666,38666,"USD",{"$f":"tblSalaries[[#This Row],[clean Salary (in local currency)]]*VLOOKUP(tblSalaries[[#This Row],[Currency]],tblXrate[],2,FALSE)","v":38666},{"$f":"IF($H$1=\"USD\",tblSalaries[[#This Row],[Salary in USD]],tblSalaries[[#This Row],[Salary in USD]]*VLOOKUP($H$1,USDtoUserChoice,2,FALSE))","v":317137.75868000003},"Actuarial Specialist","Specialist","South Africa",{"$f":"VLOOKUP(tblSalaries[[#This Row],[Where do you work]],tblCountries[[Actual]:[Mapping]],2,FALSE)","v":"South Africa"},"All the 8 hours baby, all the 8!",10,{"$f":"IF(ISNA(VLOOKUP(tblSalaries[[#This Row],[Years of Experience]],vlookUpExp!$A$1:$B$56,2,FALSE)),\"No Response\",VLOOKUP(tblSalaries[[#This Row],[Years of Experience]],vlookUpExp!$A$1:$B$56,2,FALSE))","v":"6-10"}]
[null,"ID1874","2012-06-16T06:17:53",63000,63000,"USD",{"$f":"tblSalaries[[#This Row],[clean Salary (in local currency)]]*VLOOKUP(tblSalaries[[#This Row],[Currency]],tblXrate[],2,FALSE)","v":63000},{"$f":"IF($H$1=\"USD\",tblSalaries[[#This Row],[Salary in USD]],tblSalaries[[#This Row],[Salary in USD]]*VLOOKUP($H$1,USDtoUserChoice,2,FALSE))","v":516724.74000000005},"Marketing Database Analyst","Analyst","USA",{"$f":"VLOOKUP(tblSalaries[[#This Row],[Where do you work]],tblCountries[[Actual]:[Mapping]],2,FALSE)","v":"USA"},"4 to 6 hours a day",6,{"$f":"IF(ISNA(VLOOKUP(tblSalaries[[#This Row],[Years of Experience]],vlookUpExp!$A$1:$B$56,2,FALSE)),\"No Response\",VLOOKUP(tblSalaries[[#This Row],[Years of Experience]],vlookUpExp!$A$1:$B$56,2,FALSE))","v":"6-10"}]
[null,"ID1875","2012-06-16T08:10:59","63000 USD",63000,"USD",{"$f":"tblSalaries[[#This Row],[clean Salary (in local currency)]]*VLOOKUP(tblSalaries[[#This Row],[Currency]],tblXrate[],2,FALSE)","v":63000},{"$f":"IF($H$1=\"USD\",tblSalaries[[#This Row],[Salary in USD]],tblSalaries[[#This Row],[Salary in USD]]*VLOOKUP($H$1,USDtoUserChoice,2,FALSE))","v":516724.74000000005},"Financial Analyst","Analyst","USA",{"$f":"VLOOKUP(tblSalaries[[#This Row],[Where do you work]],tblCountries[[Actual]:[Mapping]],2,FALSE)","v":"USA"},"All the 8 hours baby, all the 8!",1,{"$f":"IF(ISNA(VLOOKUP(tblSalaries[[#This Row],[Years of Experience]],vlookUpExp!$A$1:$B$56,2,FALSE)),\"No Response\",VLOOKUP(tblSalaries[[#This Row],[Years of Experience]],vlookUpExp!$A$1:$B$56,2,FALSE))","v":"0-5"}]
[null,"ID1876","2012-06-16T14:10:51","INR 360000",360000,"INR",{"$f":"tblSalaries[[#This Row],[clean Salary (in local currency)]]*VLOOKUP(tblSalaries[[#This Row],[Currency]],tblXrate[],2,FALSE)","v":6410.8500074793246},{"$f":"IF($H$1=\"USD\",tblSalaries[[#This Row],[Salary in USD]],tblSalaries[[#This Row],[Salary in USD]]*VLOOKUP($H$1,USDtoUserChoice,2,FALSE))","v":52581.663544345276},"Analyst","Analyst","India",{"$f":"VLOOKUP(tblSalaries[[#This Row],[Where do you work]],tblCountries[[Actual]:[Mapping]],2,FALSE)","v":"India"},"All the 8 hours baby, all the 8!",2,{"$f":"IF(ISNA(VLOOKUP(tblSalaries[[#This Row],[Years of Experience]],vlookUpExp!$A$1:$B$56,2,FALSE)),\"No Response\",VLOOKUP(tblSalaries[[#This Row],[Years of Experience]],vlookUpExp!$A$1:$B$56,2,FALSE))","v":"0-5"}]
[null,"ID1877","2012-06-16T17:07:45","INR 50000",600000,"INR",{"$f":"tblSalaries[[#This Row],[clean Salary (in local currency)]]*VLOOKUP(tblSalaries[[#This Row],[Currency]],tblXrate[],2,FALSE)","v":10684.750012465542},{"$f":"IF($H$1=\"USD\",tblSalaries[[#This Row],[Salary in USD]],tblSalaries[[#This Row],[Salary in USD]]*VLOOKUP($H$1,USDtoUserChoice,2,FALSE))","v":87636.105907242134},"Manager- Customer Support","Manager","India",{"$f":"VLOOKUP(tblSalaries[[#This Row],[Where do you work]],tblCountries[[Actual]:[Mapping]],2,FALSE)","v":"India"},"4 to 6 hours a day",12,{"$f":"IF(ISNA(VLOOKUP(tblSalaries[[#This Row],[Years of Experience]],vlookUpExp!$A$1:$B$56,2,FALSE)),\"No Response\",VLOOKUP(tblSalaries[[#This Row],[Years of Experience]],vlookUpExp!$A$1:$B$56,2,FALSE))","v":"11-15"}]
[null,"ID1878","2012-06-16T17:14:03",40000,40000,"USD",{"$f":"tblSalaries[[#This Row],[clean Salary (in local currency)]]*VLOOKUP(tblSalaries[[#This Row],[Currency]],tblXrate[],2,FALSE)","v":40000},{"$f":"IF($H$1=\"USD\",tblSalaries[[#This Row],[Salary in USD]],tblSalaries[[#This Row],[Salary in USD]]*VLOOKUP($H$1,USDtoUserChoice,2,FALSE))","v":328079.2},"Assistant Manager","Manager","India",{"$f":"VLOOKUP(tblSalaries[[#This Row],[Where do you work]],tblCountries[[Actual]:[Mapping]],2,FALSE)","v":"India"},"4 to 6 hours a day",5,{"$f":"IF(ISNA(VLOOKUP(tblSalaries[[#This Row],[Years of Experience]],vlookUpExp!$A$1:$B$56,2,FALSE)),\"No Response\",VLOOKUP(tblSalaries[[#This Row],[Years of Experience]],vlookUpExp!$A$1:$B$56,2,FALSE))","v":"0-5"}]
[null,"ID1879","2012-06-16T17:49:27","3.5 lac",350000,"INR",{"$f":"tblSalaries[[#This Row],[clean Salary (in local currency)]]*VLOOKUP(tblSalaries[[#This Row],[Currency]],tblXrate[],2,FALSE)","v":6232.7708406048987},{"$f":"IF($H$1=\"USD\",tblSalaries[[#This Row],[Salary in USD]],tblSalaries[[#This Row],[Salary in USD]]*VLOOKUP($H$1,USDtoUserChoice,2,FALSE))","v":51121.061779224568},"Analyst","Analyst","India",{"$f":"VLOOKUP(tblSalaries[[#This Row],[Where do you work]],tblCountries[[Actual]:[Mapping]],2,FALSE)","v":"India"},"4 to 6 hours a day",6,{"$f":"IF(ISNA(VLOOKUP(tblSalaries[[#This Row],[Years of Experience]],vlookUpExp!$A$1:$B$56,2,FALSE)),\"No Response\",VLOOKUP(tblSalaries[[#This Row],[Years of Experience]],vlookUpExp!$A$1:$B$56,2,FALSE))","v":"6-10"}]
[null,"ID1880","2012-06-16T18:31:59",2342342,2342342,"INR",{"$f":"tblSalaries[[#This Row],[clean Salary (in local currency)]]*VLOOKUP(tblSalaries[[#This Row],[Currency]],tblXrate[],2,FALSE)","v":41712.231189497601},{"$f":"IF($H$1=\"USD\",tblSalaries[[#This Row],[Salary in USD]],tblSalaries[[#This Row],[Salary in USD]]*VLOOKUP($H$1,USDtoUserChoice,2,FALSE))","v":342122.88597163558},"3r23regedf","Misc.","India",{"$f":"VLOOKUP(tblSalaries[[#This Row],[Where do you work]],tblCountries[[Actual]:[Mapping]],2,FALSE)","v":"India"},"2 to 3 hours per day",12,{"$f":"IF(ISNA(VLOOKUP(tblSalaries[[#This Row],[Years of Experience]],vlookUpExp!$A$1:$B$56,2,FALSE)),\"No Response\",VLOOKUP(tblSalaries[[#This Row],[Years of Experience]],vlookUpExp!$A$1:$B$56,2,FALSE))","v":"11-15"}]
[null,"ID1881","2012-06-16T18:33:25","Rs. 700000",700000,"INR",{"$f":"tblSalaries[[#This Row],[clean Salary (in local currency)]]*VLOOKUP(tblSalaries[[#This Row],[Currency]],tblXrate[],2,FALSE)","v":12465.541681209797},{"$f":"IF($H$1=\"USD\",tblSalaries[[#This Row],[Salary in USD]],tblSalaries[[#This Row],[Salary in USD]]*VLOOKUP($H$1,USDtoUserChoice,2,FALSE))","v":102242.12355844914},"Revenue Focus Manager","Manager","India",{"$f":"VLOOKUP(tblSalaries[[#This Row],[Where do you work]],tblCountries[[Actual]:[Mapping]],2,FALSE)","v":"India"},"2 to 3 hours per day",9,{"$f":"IF(ISNA(VLOOKUP(tblSalaries[[#This Row],[Years of Experience]],vlookUpExp!$A$1:$B$56,2,FALSE)),\"No Response\",VLOOKUP(tblSalaries[[#This Row],[Years of Experience]],vlookUpExp!$A$1:$B$56,2,FALSE))","v":"6-10"}]
[null,"ID1882","2012-06-16T22:24:30",20500,20500,"GBP",{"$f":"tblSalaries[[#This Row],[clean Salary (in local currency)]]*VLOOKUP(tblSalaries[[#This Row],[Currency]],tblXrate[],2,FALSE)","v":32311.654577379326},{"$f":"IF($H$1=\"USD\",tblSalaries[[#This Row],[Salary in USD]],tblSalaries[[#This Row],[Salary in USD]]*VLOOKUP($H$1,USDtoUserChoice,2,FALSE))","v":265019.54461057374},"analyst","Analyst","UK",{"$f":"VLOOKUP(tblSalaries[[#This Row],[Where do you work]],tblCountries[[Actual]:[Mapping]],2,FALSE)","v":"UK"},"4 to 6 hours a day",20,{"$f":"IF(ISNA(VLOOKUP(tblSalaries[[#This Row],[Years of Experience]],vlookUpExp!$A$1:$B$56,2,FALSE)),\"No Response\",VLOOKUP(tblSalaries[[#This Row],[Years of Experience]],vlookUpExp!$A$1:$B$56,2,FALSE))","v":"16-20"}]
[null,"ID1883","2012-06-17T01:34:46","4,00,000",400000,"INR",{"$f":"tblSalaries[[#This Row],[clean Salary (in local currency)]]*VLOOKUP(tblSalaries[[#This Row],[Currency]],tblXrate[],2,FALSE)","v":7123.1666749770275},{"$f":"IF($H$1=\"USD\",tblSalaries[[#This Row],[Salary in USD]],tblSalaries[[#This Row],[Salary in USD]]*VLOOKUP($H$1,USDtoUserChoice,2,FALSE))","v":58424.070604828084},"technical analyst","Analyst","India",{"$f":"VLOOKUP(tblSalaries[[#This Row],[Where do you work]],tblCountries[[Actual]:[Mapping]],2,FALSE)","v":"India"},"1 or 2 hours a day",2,{"$f":"IF(ISNA(VLOOKUP(tblSalaries[[#This Row],[Years of Experience]],vlookUpExp!$A$1:$B$56,2,FALSE)),\"No Response\",VLOOKUP(tblSalaries[[#This Row],[Years of Experience]],vlookUpExp!$A$1:$B$56,2,FALSE))","v":"0-5"}]
[null,"ID1884","2012-06-17T04:02:00","US$100,000",100000,"USD",{"$f":"tblSalaries[[#This Row],[clean Salary (in local currency)]]*VLOOKUP(tblSalaries[[#This Row],[Currency]],tblXrate[],2,FALSE)","v":100000},{"$f":"IF($H$1=\"USD\",tblSalaries[[#This Row],[Salary in USD]],tblSalaries[[#This Row],[Salary in USD]]*VLOOKUP($H$1,USDtoUserChoice,2,FALSE))","v":820198.00000000012},"Senior Manager MIS","Manager","UAE",{"$f":"VLOOKUP(tblSalaries[[#This Row],[Where do you work]],tblCountries[[Actual]:[Mapping]],2,FALSE)","v":"UAE"},"All the 8 hours baby, all the 8!",15,{"$f":"IF(ISNA(VLOOKUP(tblSalaries[[#This Row],[Years of Experience]],vlookUpExp!$A$1:$B$56,2,FALSE)),\"No Response\",VLOOKUP(tblSalaries[[#This Row],[Years of Experience]],vlookUpExp!$A$1:$B$56,2,FALSE))","v":"11-15"}]
[null,"ID1885","2012-06-17T11:38:53",75000,75000,"NZD",{"$f":"tblSalaries[[#This Row],[clean Salary (in local currency)]]*VLOOKUP(tblSalaries[[#This Row],[Currency]],tblXrate[],2,FALSE)","v":59819.107020370408},{"$f":"IF($H$1=\"USD\",tblSalaries[[#This Row],[Salary in USD]],tblSalaries[[#This Row],[Salary in USD]]*VLOOKUP($H$1,USDtoUserChoice,2,FALSE))","v":490635.11939893774},"Commercial Accountant","Accountant","New Zealand",{"$f":"VLOOKUP(tblSalaries[[#This Row],[Where do you work]],tblCountries[[Actual]:[Mapping]],2,FALSE)","v":"New Zealand"},"4 to 6 hours a day",4,{"$f":"IF(ISNA(VLOOKUP(tblSalaries[[#This Row],[Years of Experience]],vlookUpExp!$A$1:$B$56,2,FALSE)),\"No Response\",VLOOKUP(tblSalaries[[#This Row],[Years of Experience]],vlookUpExp!$A$1:$B$56,2,FALSE))","v":"0-5"}]
[null,"ID1886","2012-06-17T12:00:57",25000,25000,"USD",{"$f":"tblSalaries[[#This Row],[clean Salary (in local currency)]]*VLOOKUP(tblSalaries[[#This Row],[Currency]],tblXrate[],2,FALSE)","v":25000},{"$f":"IF($H$1=\"USD\",tblSalaries[[#This Row],[Salary in USD]],tblSalaries[[#This Row],[Salary in USD]]*VLOOKUP($H$1,USDtoUserChoice,2,FALSE))","v":205049.50000000003},"Data Analyst","Analyst","India",{"$f":"VLOOKUP(tblSalaries[[#This Row],[Where do you work]],tblCountries[[Actual]:[Mapping]],2,FALSE)","v":"India"},"All the 8 hours baby, all the 8!",1.5,{"$f":"IF(ISNA(VLOOKUP(tblSalaries[[#This Row],[Years of Experience]],vlookUpExp!$A$1:$B$56,2,FALSE)),\"No Response\",VLOOKUP(tblSalaries[[#This Row],[Years of Experience]],vlookUpExp!$A$1:$B$56,2,FALSE))","v":"0-5"}]
[null,"ID1887","2012-06-17T12:48:52",5000,5000,"USD",{"$f":"tblSalaries[[#This Row],[clean Salary (in local currency)]]*VLOOKUP(tblSalaries[[#This Row],[Currency]],tblXrate[],2,FALSE)","v":5000},{"$f":"IF($H$1=\"USD\",tblSalaries[[#This Row],[Salary in USD]],tblSalaries[[#This Row],[Salary in USD]]*VLOOKUP($H$1,USDtoUserChoice,2,FALSE))","v":41009.9},"admin","Analyst","India",{"$f":"VLOOKUP(tblSalaries[[#This Row],[Where do you work]],tblCountries[[Actual]:[Mapping]],2,FALSE)","v":"India"},"2 to 3 hours per day",10,{"$f":"IF(ISNA(VLOOKUP(tblSalaries[[#This Row],[Years of Experience]],vlookUpExp!$A$1:$B$56,2,FALSE)),\"No Response\",VLOOKUP(tblSalaries[[#This Row],[Years of Experience]],vlookUpExp!$A$1:$B$56,2,FALSE))","v":"6-10"}]
[null,"ID1888","2012-06-17T13:26:38","AUD63000",63000,"AUD",{"$f":"tblSalaries[[#This Row],[clean Salary (in local currency)]]*VLOOKUP(tblSalaries[[#This Row],[Currency]],tblXrate[],2,FALSE)","v":64254.308353366054},{"$f":"IF($H$1=\"USD\",tblSalaries[[#This Row],[Salary in USD]],tblSalaries[[#This Row],[Salary in USD]]*VLOOKUP($H$1,USDtoUserChoice,2,FALSE))","v":527012.55202814133},"Financial Modelling adviser","Accountant","Australia",{"$f":"VLOOKUP(tblSalaries[[#This Row],[Where do you work]],tblCountries[[Actual]:[Mapping]],2,FALSE)","v":"Australia"},"All the 8 hours baby, all the 8!",3,{"$f":"IF(ISNA(VLOOKUP(tblSalaries[[#This Row],[Years of Experience]],vlookUpExp!$A$1:$B$56,2,FALSE)),\"No Response\",VLOOKUP(tblSalaries[[#This Row],[Years of Experience]],vlookUpExp!$A$1:$B$56,2,FALSE))","v":"0-5"}]
[null,"ID1889","2012-06-17T16:01:50",60000,60000,"EUR",{"$f":"tblSalaries[[#This Row],[clean Salary (in local currency)]]*VLOOKUP(tblSalaries[[#This Row],[Currency]],tblXrate[],2,FALSE)","v":76223.966339496474},{"$f":"IF($H$1=\"USD\",tblSalaries[[#This Row],[Salary in USD]],tblSalaries[[#This Row],[Salary in USD]]*VLOOKUP($H$1,USDtoUserChoice,2,FALSE))","v":625187.4474372234},"pm","Manager","Germany",{"$f":"VLOOKUP(tblSalaries[[#This Row],[Where do you work]],tblCountries[[Actual]:[Mapping]],2,FALSE)","v":"Germany"},"4 to 6 hours a day",6,{"$f":"IF(ISNA(VLOOKUP(tblSalaries[[#This Row],[Years of Experience]],vlookUpExp!$A$1:$B$56,2,FALSE)),\"No Response\",VLOOKUP(tblSalaries[[#This Row],[Years of Experience]],vlookUpExp!$A$1:$B$56,2,FALSE))","v":"6-10"}]
[null,"ID1890","2012-06-18T05:42:18",600000,600000,"DKK",{"$f":"tblSalaries[[#This Row],[clean Salary (in local currency)]]*VLOOKUP(tblSalaries[[#This Row],[Currency]],tblXrate[],2,FALSE)","v":102542.54233725216},{"$f":"IF($H$1=\"USD\",tblSalaries[[#This Row],[Salary in USD]],tblSalaries[[#This Row],[Salary in USD]]*VLOOKUP($H$1,USDtoUserChoice,2,FALSE))","v":841051.88139929553},"Engineer","Engineer","DK",{"$f":"VLOOKUP(tblSalaries[[#This Row],[Where do you work]],tblCountries[[Actual]:[Mapping]],2,FALSE)","v":"Denmark"},"2 to 3 hours per day",20,{"$f":"IF(ISNA(VLOOKUP(tblSalaries[[#This Row],[Years of Experience]],vlookUpExp!$A$1:$B$56,2,FALSE)),\"No Response\",VLOOKUP(tblSalaries[[#This Row],[Years of Experience]],vlookUpExp!$A$1:$B$56,2,FALSE))","v":"16-20"}]
[null,"ID1891","2012-06-18T06:14:35",46000,46000,"USD",{"$f":"tblSalaries[[#This Row],[clean Salary (in local currency)]]*VLOOKUP(tblSalaries[[#This Row],[Currency]],tblXrate[],2,FALSE)","v":46000},{"$f":"IF($H$1=\"USD\",tblSalaries[[#This Row],[Salary in USD]],tblSalaries[[#This Row],[Salary in USD]]*VLOOKUP($H$1,USDtoUserChoice,2,FALSE))","v":377291.08},"AML Analyst","Analyst","USA",{"$f":"VLOOKUP(tblSalaries[[#This Row],[Where do you work]],tblCountries[[Actual]:[Mapping]],2,FALSE)","v":"USA"},"All the 8 hours baby, all the 8!",1,{"$f":"IF(ISNA(VLOOKUP(tblSalaries[[#This Row],[Years of Experience]],vlookUpExp!$A$1:$B$56,2,FALSE)),\"No Response\",VLOOKUP(tblSalaries[[#This Row],[Years of Experience]],vlookUpExp!$A$1:$B$56,2,FALSE))","v":"0-5"}]
[null,"ID1892","2012-06-18T08:19:01",5000,5000,"USD",{"$f":"tblSalaries[[#This Row],[clean Salary (in local currency)]]*VLOOKUP(tblSalaries[[#This Row],[Currency]],tblXrate[],2,FALSE)","v":5000},{"$f":"IF($H$1=\"USD\",tblSalaries[[#This Row],[Salary in USD]],tblSalaries[[#This Row],[Salary in USD]]*VLOOKUP($H$1,USDtoUserChoice,2,FALSE))","v":41009.9},"analyst ","Analyst","India",{"$f":"VLOOKUP(tblSalaries[[#This Row],[Where do you work]],tblCountries[[Actual]:[Mapping]],2,FALSE)","v":"India"},"All the 8 hours baby, all the 8!",2,{"$f":"IF(ISNA(VLOOKUP(tblSalaries[[#This Row],[Years of Experience]],vlookUpExp!$A$1:$B$56,2,FALSE)),\"No Response\",VLOOKUP(tblSalaries[[#This Row],[Years of Experience]],vlookUpExp!$A$1:$B$56,2,FALSE))","v":"0-5"}]
[null,"ID1893","2012-06-18T14:27:59","$AUD 76300",76300,"AUD",{"$f":"tblSalaries[[#This Row],[clean Salary (in local currency)]]*VLOOKUP(tblSalaries[[#This Row],[Currency]],tblXrate[],2,FALSE)","v":77819.106783521114},{"$f":"IF($H$1=\"USD\",tblSalaries[[#This Row],[Salary in USD]],tblSalaries[[#This Row],[Salary in USD]]*VLOOKUP($H$1,USDtoUserChoice,2,FALSE))","v":638270.75745630462},"Operations Analyst","Analyst","Australia",{"$f":"VLOOKUP(tblSalaries[[#This Row],[Where do you work]],tblCountries[[Actual]:[Mapping]],2,FALSE)","v":"Australia"},"All the 8 hours baby, all the 8!",3,{"$f":"IF(ISNA(VLOOKUP(tblSalaries[[#This Row],[Years of Experience]],vlookUpExp!$A$1:$B$56,2,FALSE)),\"No Response\",VLOOKUP(tblSalaries[[#This Row],[Years of Experience]],vlookUpExp!$A$1:$B$56,2,FALSE))","v":"0-5"}]
[null,"ID1894","2012-06-18T17:51:52","Rs. 350000",350000,"INR",{"$f":"tblSalaries[[#This Row],[clean Salary (in local currency)]]*VLOOKUP(tblSalaries[[#This Row],[Currency]],tblXrate[],2,FALSE)","v":6232.7708406048987},{"$f":"IF($H$1=\"USD\",tblSalaries[[#This Row],[Salary in USD]],tblSalaries[[#This Row],[Salary in USD]]*VLOOKUP($H$1,USDtoUserChoice,2,FALSE))","v":51121.061779224568},"manager purchase","Manager","India",{"$f":"VLOOKUP(tblSalaries[[#This Row],[Where do you work]],tblCountries[[Actual]:[Mapping]],2,FALSE)","v":"India"},"2 to 3 hours per day",27,{"$f":"IF(ISNA(VLOOKUP(tblSalaries[[#This Row],[Years of Experience]],vlookUpExp!$A$1:$B$56,2,FALSE)),\"No Response\",VLOOKUP(tblSalaries[[#This Row],[Years of Experience]],vlookUpExp!$A$1:$B$56,2,FALSE))","v":"26-30"}]
[null,"ID1895","2012-06-18T18:26:47","Â£35000",35000,"GBP",{"$f":"tblSalaries[[#This Row],[clean Salary (in local currency)]]*VLOOKUP(tblSalaries[[#This Row],[Currency]],tblXrate[],2,FALSE)","v":55166.239522354947},{"$f":"IF($H$1=\"USD\",tblSalaries[[#This Row],[Salary in USD]],tblSalaries[[#This Row],[Salary in USD]]*VLOOKUP($H$1,USDtoUserChoice,2,FALSE))","v":452472.39323756489},"Process Analyst","Analyst","UK",{"$f":"VLOOKUP(tblSalaries[[#This Row],[Where do you work]],tblCountries[[Actual]:[Mapping]],2,FALSE)","v":"UK"},"All the 8 hours baby, all the 8!",34,{"$f":"IF(ISNA(VLOOKUP(tblSalaries[[#This Row],[Years of Experience]],vlookUpExp!$A$1:$B$56,2,FALSE)),\"No Response\",VLOOKUP(tblSalaries[[#This Row],[Years of Experience]],vlookUpExp!$A$1:$B$56,2,FALSE))","v":"31-35"}]
[null,"ID1896","2012-06-19T00:23:24",45000,45000,"USD",{"$f":"tblSalaries[[#This Row],[clean Salary (in local currency)]]*VLOOKUP(tblSalaries[[#This Row],[Currency]],tblXrate[],2,FALSE)","v":45000},{"$f":"IF($H$1=\"USD\",tblSalaries[[#This Row],[Salary in USD]],tblSalaries[[#This Row],[Salary in USD]]*VLOOKUP($H$1,USDtoUserChoice,2,FALSE))","v":369089.10000000003},"Senior Accountant","Accountant","USA",{"$f":"VLOOKUP(tblSalaries[[#This Row],[Where do you work]],tblCountries[[Actual]:[Mapping]],2,FALSE)","v":"USA"},"2 to 3 hours per day",5,{"$f":"IF(ISNA(VLOOKUP(tblSalaries[[#This Row],[Years of Experience]],vlookUpExp!$A$1:$B$56,2,FALSE)),\"No Response\",VLOOKUP(tblSalaries[[#This Row],[Years of Experience]],vlookUpExp!$A$1:$B$56,2,FALSE))","v":"0-5"}]
[null,"ID1897","2012-06-19T01:49:49","60k usd",60000,"USD",{"$f":"tblSalaries[[#This Row],[clean Salary (in local currency)]]*VLOOKUP(tblSalaries[[#This Row],[Currency]],tblXrate[],2,FALSE)","v":60000},{"$f":"IF($H$1=\"USD\",tblSalaries[[#This Row],[Salary in USD]],tblSalaries[[#This Row],[Salary in USD]]*VLOOKUP($H$1,USDtoUserChoice,2,FALSE))","v":492118.80000000005},"buyer","Manager","Canada",{"$f":"VLOOKUP(tblSalaries[[#This Row],[Where do you work]],tblCountries[[Actual]:[Mapping]],2,FALSE)","v":"Canada"},"2 to 3 hours per day",10,{"$f":"IF(ISNA(VLOOKUP(tblSalaries[[#This Row],[Years of Experience]],vlookUpExp!$A$1:$B$56,2,FALSE)),\"No Response\",VLOOKUP(tblSalaries[[#This Row],[Years of Experience]],vlookUpExp!$A$1:$B$56,2,FALSE))","v":"6-10"}]
[null,"ID1898","2012-06-19T03:25:34",43000,43000,"USD",{"$f":"tblSalaries[[#This Row],[clean Salary (in local currency)]]*VLOOKUP(tblSalaries[[#This Row],[Currency]],tblXrate[],2,FALSE)","v":43000},{"$f":"IF($H$1=\"USD\",tblSalaries[[#This Row],[Salary in USD]],tblSalaries[[#This Row],[Salary in USD]]*VLOOKUP($H$1,USDtoUserChoice,2,FALSE))","v":352685.14},"Performance Improvement Analyst","Analyst","USA",{"$f":"VLOOKUP(tblSalaries[[#This Row],[Where do you work]],tblCountries[[Actual]:[Mapping]],2,FALSE)","v":"USA"},"4 to 6 hours a day",5,{"$f":"IF(ISNA(VLOOKUP(tblSalaries[[#This Row],[Years of Experience]],vlookUpExp!$A$1:$B$56,2,FALSE)),\"No Response\",VLOOKUP(tblSalaries[[#This Row],[Years of Experience]],vlookUpExp!$A$1:$B$56,2,FALSE))","v":"0-5"}]
[null,"ID1899","2012-06-19T04:55:06",28000,28000,"EUR",{"$f":"tblSalaries[[#This Row],[clean Salary (in local currency)]]*VLOOKUP(tblSalaries[[#This Row],[Currency]],tblXrate[],2,FALSE)","v":35571.184291765021},{"$f":"IF($H$1=\"USD\",tblSalaries[[#This Row],[Salary in USD]],tblSalaries[[#This Row],[Salary in USD]]*VLOOKUP($H$1,USDtoUserChoice,2,FALSE))","v":291754.14213737089},"controller","Controller","Spain",{"$f":"VLOOKUP(tblSalaries[[#This Row],[Where do you work]],tblCountries[[Actual]:[Mapping]],2,FALSE)","v":"Spain"},"4 to 6 hours a day",8,{"$f":"IF(ISNA(VLOOKUP(tblSalaries[[#This Row],[Years of Experience]],vlookUpExp!$A$1:$B$56,2,FALSE)),\"No Response\",VLOOKUP(tblSalaries[[#This Row],[Years of Experience]],vlookUpExp!$A$1:$B$56,2,FALSE))","v":"6-10"}]
[null,"ID1900","2012-06-19T06:50:47",48000,48000,"USD",{"$f":"tblSalaries[[#This Row],[clean Salary (in local currency)]]*VLOOKUP(tblSalaries[[#This Row],[Currency]],tblXrate[],2,FALSE)","v":48000},{"$f":"IF($H$1=\"USD\",tblSalaries[[#This Row],[Salary in USD]],tblSalaries[[#This Row],[Salary in USD]]*VLOOKUP($H$1,USDtoUserChoice,2,FALSE))","v":393695.04000000004},"Inventory Analyst","Analyst","USA",{"$f":"VLOOKUP(tblSalaries[[#This Row],[Where do you work]],tblCountries[[Actual]:[Mapping]],2,FALSE)","v":"USA"},"4 to 6 hours a day",12,{"$f":"IF(ISNA(VLOOKUP(tblSalaries[[#This Row],[Years of Experience]],vlookUpExp!$A$1:$B$56,2,FALSE)),\"No Response\",VLOOKUP(tblSalaries[[#This Row],[Years of Experience]],vlookUpExp!$A$1:$B$56,2,FALSE))","v":"11-15"}]
[null,"ID1901","2012-06-19T07:59:00",120000,120000,"AUD",{"$f":"tblSalaries[[#This Row],[clean Salary (in local currency)]]*VLOOKUP(tblSalaries[[#This Row],[Currency]],tblXrate[],2,FALSE)","v":122389.15876831629},{"$f":"IF($H$1=\"USD\",tblSalaries[[#This Row],[Salary in USD]],tblSalaries[[#This Row],[Salary in USD]]*VLOOKUP($H$1,USDtoUserChoice,2,FALSE))","v":1003833.4324345549},"Manager","Manager","Australia",{"$f":"VLOOKUP(tblSalaries[[#This Row],[Where do you work]],tblCountries[[Actual]:[Mapping]],2,FALSE)","v":"Australia"},"1 or 2 hours a day",8,{"$f":"IF(ISNA(VLOOKUP(tblSalaries[[#This Row],[Years of Experience]],vlookUpExp!$A$1:$B$56,2,FALSE)),\"No Response\",VLOOKUP(tblSalaries[[#This Row],[Years of Experience]],vlookUpExp!$A$1:$B$56,2,FALSE))","v":"6-10"}]
[null,"ID1902","2012-06-19T12:39:16",4000,4000,"USD",{"$f":"tblSalaries[[#This Row],[clean Salary (in local currency)]]*VLOOKUP(tblSalaries[[#This Row],[Currency]],tblXrate[],2,FALSE)","v":4000},{"$f":"IF($H$1=\"USD\",tblSalaries[[#This Row],[Salary in USD]],tblSalaries[[#This Row],[Salary in USD]]*VLOOKUP($H$1,USDtoUserChoice,2,FALSE))","v":32807.920000000006},"operator","Analyst","India",{"$f":"VLOOKUP(tblSalaries[[#This Row],[Where do you work]],tblCountries[[Actual]:[Mapping]],2,FALSE)","v":"India"},"2 to 3 hours per day",4,{"$f":"IF(ISNA(VLOOKUP(tblSalaries[[#This Row],[Years of Experience]],vlookUpExp!$A$1:$B$56,2,FALSE)),\"No Response\",VLOOKUP(tblSalaries[[#This Row],[Years of Experience]],vlookUpExp!$A$1:$B$56,2,FALSE))","v":"0-5"}]
[null,"ID1903","2012-06-19T15:15:38",250000,250000,"INR",{"$f":"tblSalaries[[#This Row],[clean Salary (in local currency)]]*VLOOKUP(tblSalaries[[#This Row],[Currency]],tblXrate[],2,FALSE)","v":4451.9791718606421},{"$f":"IF($H$1=\"USD\",tblSalaries[[#This Row],[Salary in USD]],tblSalaries[[#This Row],[Salary in USD]]*VLOOKUP($H$1,USDtoUserChoice,2,FALSE))","v":36515.044128017551},"MIS EXECUTIVE","Reporting","India",{"$f":"VLOOKUP(tblSalaries[[#This Row],[Where do you work]],tblCountries[[Actual]:[Mapping]],2,FALSE)","v":"India"},"4 to 6 hours a day",3,{"$f":"IF(ISNA(VLOOKUP(tblSalaries[[#This Row],[Years of Experience]],vlookUpExp!$A$1:$B$56,2,FALSE)),\"No Response\",VLOOKUP(tblSalaries[[#This Row],[Years of Experience]],vlookUpExp!$A$1:$B$56,2,FALSE))","v":"0-5"}]
[null,"ID1904","2012-06-19T17:01:38","52,224.00ETB",52224,"ETB",{"$f":"tblSalaries[[#This Row],[clean Salary (in local currency)]]*VLOOKUP(tblSalaries[[#This Row],[Currency]],tblXrate[],2,FALSE)","v":2953.8461538461538},{"$f":"IF($H$1=\"USD\",tblSalaries[[#This Row],[Salary in USD]],tblSalaries[[#This Row],[Salary in USD]]*VLOOKUP($H$1,USDtoUserChoice,2,FALSE))","v":24227.387076923078},"Project Costing &Dashboard reporting","Reporting","Ethiopia",{"$f":"VLOOKUP(tblSalaries[[#This Row],[Where do you work]],tblCountries[[Actual]:[Mapping]],2,FALSE)","v":"Ethiopia"},"4 to 6 hours a day",3,{"$f":"IF(ISNA(VLOOKUP(tblSalaries[[#This Row],[Years of Experience]],vlookUpExp!$A$1:$B$56,2,FALSE)),\"No Response\",VLOOKUP(tblSalaries[[#This Row],[Years of Experience]],vlookUpExp!$A$1:$B$56,2,FALSE))","v":"0-5"}]
[null,"ID1905","2012-06-19T18:17:42",25000,25000,"GBP",{"$f":"tblSalaries[[#This Row],[clean Salary (in local currency)]]*VLOOKUP(tblSalaries[[#This Row],[Currency]],tblXrate[],2,FALSE)","v":39404.456801682099},{"$f":"IF($H$1=\"USD\",tblSalaries[[#This Row],[Salary in USD]],tblSalaries[[#This Row],[Salary in USD]]*VLOOKUP($H$1,USDtoUserChoice,2,FALSE))","v":323194.5665982606},"Data Analyst","Analyst","UK",{"$f":"VLOOKUP(tblSalaries[[#This Row],[Where do you work]],tblCountries[[Actual]:[Mapping]],2,FALSE)","v":"UK"},"4 to 6 hours a day",3,{"$f":"IF(ISNA(VLOOKUP(tblSalaries[[#This Row],[Years of Experience]],vlookUpExp!$A$1:$B$56,2,FALSE)),\"No Response\",VLOOKUP(tblSalaries[[#This Row],[Years of Experience]],vlookUpExp!$A$1:$B$56,2,FALSE))","v":"0-5"}]
[null,"ID1906","2012-06-19T19:33:25",74000,74000,"AUD",{"$f":"tblSalaries[[#This Row],[clean Salary (in local currency)]]*VLOOKUP(tblSalaries[[#This Row],[Currency]],tblXrate[],2,FALSE)","v":75473.31457379504},{"$f":"IF($H$1=\"USD\",tblSalaries[[#This Row],[Salary in USD]],tblSalaries[[#This Row],[Salary in USD]]*VLOOKUP($H$1,USDtoUserChoice,2,FALSE))","v":619030.61666797544},"Systems Analyst","Analyst","Australia",{"$f":"VLOOKUP(tblSalaries[[#This Row],[Where do you work]],tblCountries[[Actual]:[Mapping]],2,FALSE)","v":"Australia"},"4 to 6 hours a day",8,{"$f":"IF(ISNA(VLOOKUP(tblSalaries[[#This Row],[Years of Experience]],vlookUpExp!$A$1:$B$56,2,FALSE)),\"No Response\",VLOOKUP(tblSalaries[[#This Row],[Years of Experience]],vlookUpExp!$A$1:$B$56,2,FALSE))","v":"6-10"}]
[null,"ID1907","2012-06-19T20:16:30",750000,750000,"INR",{"$f":"tblSalaries[[#This Row],[clean Salary (in local currency)]]*VLOOKUP(tblSalaries[[#This Row],[Currency]],tblXrate[],2,FALSE)","v":13355.937515581925},{"$f":"IF($H$1=\"USD\",tblSalaries[[#This Row],[Salary in USD]],tblSalaries[[#This Row],[Salary in USD]]*VLOOKUP($H$1,USDtoUserChoice,2,FALSE))","v":109545.13238405265},"Analyst","Analyst","India",{"$f":"VLOOKUP(tblSalaries[[#This Row],[Where do you work]],tblCountries[[Actual]:[Mapping]],2,FALSE)","v":"India"},"4 to 6 hours a day",5,{"$f":"IF(ISNA(VLOOKUP(tblSalaries[[#This Row],[Years of Experience]],vlookUpExp!$A$1:$B$56,2,FALSE)),\"No Response\",VLOOKUP(tblSalaries[[#This Row],[Years of Experience]],vlookUpExp!$A$1:$B$56,2,FALSE))","v":"0-5"}]
[null,"ID1908","2012-06-19T20:35:35",25000,25000,"USD",{"$f":"tblSalaries[[#This Row],[clean Salary (in local currency)]]*VLOOKUP(tblSalaries[[#This Row],[Currency]],tblXrate[],2,FALSE)","v":25000},{"$f":"IF($H$1=\"USD\",tblSalaries[[#This Row],[Salary in USD]],tblSalaries[[#This Row],[Salary in USD]]*VLOOKUP($H$1,USDtoUserChoice,2,FALSE))","v":205049.50000000003},"Team Lead","Manager","India",{"$f":"VLOOKUP(tblSalaries[[#This Row],[Where do you work]],tblCountries[[Actual]:[Mapping]],2,FALSE)","v":"India"},"4 to 6 hours a day",10,{"$f":"IF(ISNA(VLOOKUP(tblSalaries[[#This Row],[Years of Experience]],vlookUpExp!$A$1:$B$56,2,FALSE)),\"No Response\",VLOOKUP(tblSalaries[[#This Row],[Years of Experience]],vlookUpExp!$A$1:$B$56,2,FALSE))","v":"6-10"}]
[null,"ID1909","2012-06-19T21:01:21",420000,420000,"INR",{"$f":"tblSalaries[[#This Row],[clean Salary (in local currency)]]*VLOOKUP(tblSalaries[[#This Row],[Currency]],tblXrate[],2,FALSE)","v":7479.3250087258784},{"$f":"IF($H$1=\"USD\",tblSalaries[[#This Row],[Salary in USD]],tblSalaries[[#This Row],[Salary in USD]]*VLOOKUP($H$1,USDtoUserChoice,2,FALSE))","v":61345.274135069485},"Analyst","Analyst","India",{"$f":"VLOOKUP(tblSalaries[[#This Row],[Where do you work]],tblCountries[[Actual]:[Mapping]],2,FALSE)","v":"India"},"4 to 6 hours a day",2,{"$f":"IF(ISNA(VLOOKUP(tblSalaries[[#This Row],[Years of Experience]],vlookUpExp!$A$1:$B$56,2,FALSE)),\"No Response\",VLOOKUP(tblSalaries[[#This Row],[Years of Experience]],vlookUpExp!$A$1:$B$56,2,FALSE))","v":"0-5"}]
[null,"ID1910","2012-06-19T21:06:16",62000,62000,"USD",{"$f":"tblSalaries[[#This Row],[clean Salary (in local currency)]]*VLOOKUP(tblSalaries[[#This Row],[Currency]],tblXrate[],2,FALSE)","v":62000},{"$f":"IF($H$1=\"USD\",tblSalaries[[#This Row],[Salary in USD]],tblSalaries[[#This Row],[Salary in USD]]*VLOOKUP($H$1,USDtoUserChoice,2,FALSE))","v":508522.76000000007},"Analyst","Analyst","USA",{"$f":"VLOOKUP(tblSalaries[[#This Row],[Where do you work]],tblCountries[[Actual]:[Mapping]],2,FALSE)","v":"USA"},"4 to 6 hours a day",4,{"$f":"IF(ISNA(VLOOKUP(tblSalaries[[#This Row],[Years of Experience]],vlookUpExp!$A$1:$B$56,2,FALSE)),\"No Response\",VLOOKUP(tblSalaries[[#This Row],[Years of Experience]],vlookUpExp!$A$1:$B$56,2,FALSE))","v":"0-5"}]
[null,"ID1911","2012-06-19T21:32:36",48000,48000,"USD",{"$f":"tblSalaries[[#This Row],[clean Salary (in local currency)]]*VLOOKUP(tblSalaries[[#This Row],[Currency]],tblXrate[],2,FALSE)","v":48000},{"$f":"IF($H$1=\"USD\",tblSalaries[[#This Row],[Salary in USD]],tblSalaries[[#This Row],[Salary in USD]]*VLOOKUP($H$1,USDtoUserChoice,2,FALSE))","v":393695.04000000004},"Marketing Analyst Co-op","Analyst","USA",{"$f":"VLOOKUP(tblSalaries[[#This Row],[Where do you work]],tblCountries[[Actual]:[Mapping]],2,FALSE)","v":"USA"},"4 to 6 hours a day",1,{"$f":"IF(ISNA(VLOOKUP(tblSalaries[[#This Row],[Years of Experience]],vlookUpExp!$A$1:$B$56,2,FALSE)),\"No Response\",VLOOKUP(tblSalaries[[#This Row],[Years of Experience]],vlookUpExp!$A$1:$B$56,2,FALSE))","v":"0-5"}]
[null,"ID1912","2012-06-19T22:42:55",5000,5000,"USD",{"$f":"tblSalaries[[#This Row],[clean Salary (in local currency)]]*VLOOKUP(tblSalaries[[#This Row],[Currency]],tblXrate[],2,FALSE)","v":5000},{"$f":"IF($H$1=\"USD\",tblSalaries[[#This Row],[Salary in USD]],tblSalaries[[#This Row],[Salary in USD]]*VLOOKUP($H$1,USDtoUserChoice,2,FALSE))","v":41009.9},"abc","Misc.","India",{"$f":"VLOOKUP(tblSalaries[[#This Row],[Where do you work]],tblCountries[[Actual]:[Mapping]],2,FALSE)","v":"India"},"4 to 6 hours a day",3,{"$f":"IF(ISNA(VLOOKUP(tblSalaries[[#This Row],[Years of Experience]],vlookUpExp!$A$1:$B$56,2,FALSE)),\"No Response\",VLOOKUP(tblSalaries[[#This Row],[Years of Experience]],vlookUpExp!$A$1:$B$56,2,FALSE))","v":"0-5"}]
[null,"ID1914","2012-06-20T00:27:54","Rs23000/month",276000,"INR",{"$f":"tblSalaries[[#This Row],[clean Salary (in local currency)]]*VLOOKUP(tblSalaries[[#This Row],[Currency]],tblXrate[],2,FALSE)","v":4914.9850057341491},{"$f":"IF($H$1=\"USD\",tblSalaries[[#This Row],[Salary in USD]],tblSalaries[[#This Row],[Salary in USD]]*VLOOKUP($H$1,USDtoUserChoice,2,FALSE))","v":40312.608717331379},"MIS specialist","Reporting","India",{"$f":"VLOOKUP(tblSalaries[[#This Row],[Where do you work]],tblCountries[[Actual]:[Mapping]],2,FALSE)","v":"India"},"All the 8 hours baby, all the 8!",6,{"$f":"IF(ISNA(VLOOKUP(tblSalaries[[#This Row],[Years of Experience]],vlookUpExp!$A$1:$B$56,2,FALSE)),\"No Response\",VLOOKUP(tblSalaries[[#This Row],[Years of Experience]],vlookUpExp!$A$1:$B$56,2,FALSE))","v":"6-10"}]
[null,"ID1915","2012-06-20T00:55:28",75000,75000,"USD",{"$f":"tblSalaries[[#This Row],[clean Salary (in local currency)]]*VLOOKUP(tblSalaries[[#This Row],[Currency]],tblXrate[],2,FALSE)","v":75000},{"$f":"IF($H$1=\"USD\",tblSalaries[[#This Row],[Salary in USD]],tblSalaries[[#This Row],[Salary in USD]]*VLOOKUP($H$1,USDtoUserChoice,2,FALSE))","v":615148.5},"Data Analyst","Analyst","USA",{"$f":"VLOOKUP(tblSalaries[[#This Row],[Where do you work]],tblCountries[[Actual]:[Mapping]],2,FALSE)","v":"USA"},"1 or 2 hours a day",3,{"$f":"IF(ISNA(VLOOKUP(tblSalaries[[#This Row],[Years of Experience]],vlookUpExp!$A$1:$B$56,2,FALSE)),\"No Response\",VLOOKUP(tblSalaries[[#This Row],[Years of Experience]],vlookUpExp!$A$1:$B$56,2,FALSE))","v":"0-5"}]
[null,"ID1916","2012-06-20T01:20:49",250000,250000,"INR",{"$f":"tblSalaries[[#This Row],[clean Salary (in local currency)]]*VLOOKUP(tblSalaries[[#This Row],[Currency]],tblXrate[],2,FALSE)","v":4451.9791718606421},{"$f":"IF($H$1=\"USD\",tblSalaries[[#This Row],[Salary in USD]],tblSalaries[[#This Row],[Salary in USD]]*VLOOKUP($H$1,USDtoUserChoice,2,FALSE))","v":36515.044128017551},"research associate","Analyst","India",{"$f":"VLOOKUP(tblSalaries[[#This Row],[Where do you work]],tblCountries[[Actual]:[Mapping]],2,FALSE)","v":"India"},"Excel ?!? What Excel?",1.6,{"$f":"IF(ISNA(VLOOKUP(tblSalaries[[#This Row],[Years of Experience]],vlookUpExp!$A$1:$B$56,2,FALSE)),\"No Response\",VLOOKUP(tblSalaries[[#This Row],[Years of Experience]],vlookUpExp!$A$1:$B$56,2,FALSE))","v":"0-5"}]
[null,"ID1917","2012-06-20T01:43:12",700,8400,"USD",{"$f":"tblSalaries[[#This Row],[clean Salary (in local currency)]]*VLOOKUP(tblSalaries[[#This Row],[Currency]],tblXrate[],2,FALSE)","v":8400},{"$f":"IF($H$1=\"USD\",tblSalaries[[#This Row],[Salary in USD]],tblSalaries[[#This Row],[Salary in USD]]*VLOOKUP($H$1,USDtoUserChoice,2,FALSE))","v":68896.632000000012},"Sr. Executive MIS","Reporting","India",{"$f":"VLOOKUP(tblSalaries[[#This Row],[Where do you work]],tblCountries[[Actual]:[Mapping]],2,FALSE)","v":"India"},"All the 8 hours baby, all the 8!",6,{"$f":"IF(ISNA(VLOOKUP(tblSalaries[[#This Row],[Years of Experience]],vlookUpExp!$A$1:$B$56,2,FALSE)),\"No Response\",VLOOKUP(tblSalaries[[#This Row],[Years of Experience]],vlookUpExp!$A$1:$B$56,2,FALSE))","v":"6-10"}]
[null,"ID1918","2012-06-20T01:54:10",20000,20000,"USD",{"$f":"tblSalaries[[#This Row],[clean Salary (in local currency)]]*VLOOKUP(tblSalaries[[#This Row],[Currency]],tblXrate[],2,FALSE)","v":20000},{"$f":"IF($H$1=\"USD\",tblSalaries[[#This Row],[Salary in USD]],tblSalaries[[#This Row],[Salary in USD]]*VLOOKUP($H$1,USDtoUserChoice,2,FALSE))","v":164039.6},"Monitoring and Evaluation Officer","Manager","India",{"$f":"VLOOKUP(tblSalaries[[#This Row],[Where do you work]],tblCountries[[Actual]:[Mapping]],2,FALSE)","v":"India"},"2 to 3 hours per day",5,{"$f":"IF(ISNA(VLOOKUP(tblSalaries[[#This Row],[Years of Experience]],vlookUpExp!$A$1:$B$56,2,FALSE)),\"No Response\",VLOOKUP(tblSalaries[[#This Row],[Years of Experience]],vlookUpExp!$A$1:$B$56,2,FALSE))","v":"0-5"}]
[null,"ID1919","2012-06-20T02:31:52",110000,110000,"USD",{"$f":"tblSalaries[[#This Row],[clean Salary (in local currency)]]*VLOOKUP(tblSalaries[[#This Row],[Currency]],tblXrate[],2,FALSE)","v":110000},{"$f":"IF($H$1=\"USD\",tblSalaries[[#This Row],[Salary in USD]],tblSalaries[[#This Row],[Salary in USD]]*VLOOKUP($H$1,USDtoUserChoice,2,FALSE))","v":902217.8},"Vice President - Finance","CXO or Top Mgmt.","USA",{"$f":"VLOOKUP(tblSalaries[[#This Row],[Where do you work]],tblCountries[[Actual]:[Mapping]],2,FALSE)","v":"USA"},"4 to 6 hours a day",10,{"$f":"IF(ISNA(VLOOKUP(tblSalaries[[#This Row],[Years of Experience]],vlookUpExp!$A$1:$B$56,2,FALSE)),\"No Response\",VLOOKUP(tblSalaries[[#This Row],[Years of Experience]],vlookUpExp!$A$1:$B$56,2,FALSE))","v":"6-10"}]
[null,"ID1920","2012-06-20T03:52:40",50000,50000,"USD",{"$f":"tblSalaries[[#This Row],[clean Salary (in local currency)]]*VLOOKUP(tblSalaries[[#This Row],[Currency]],tblXrate[],2,FALSE)","v":50000},{"$f":"IF($H$1=\"USD\",tblSalaries[[#This Row],[Salary in USD]],tblSalaries[[#This Row],[Salary in USD]]*VLOOKUP($H$1,USDtoUserChoice,2,FALSE))","v":410099.00000000006},"Operations Analyst ","Analyst","USA",{"$f":"VLOOKUP(tblSalaries[[#This Row],[Where do you work]],tblCountries[[Actual]:[Mapping]],2,FALSE)","v":"USA"},"All the 8 hours baby, all the 8!",3.5,{"$f":"IF(ISNA(VLOOKUP(tblSalaries[[#This Row],[Years of Experience]],vlookUpExp!$A$1:$B$56,2,FALSE)),\"No Response\",VLOOKUP(tblSalaries[[#This Row],[Years of Experience]],vlookUpExp!$A$1:$B$56,2,FALSE))","v":"0-5"}]
[null,"ID1921","2012-06-20T03:55:55",46000,46000,"USD",{"$f":"tblSalaries[[#This Row],[clean Salary (in local currency)]]*VLOOKUP(tblSalaries[[#This Row],[Currency]],tblXrate[],2,FALSE)","v":46000},{"$f":"IF($H$1=\"USD\",tblSalaries[[#This Row],[Salary in USD]],tblSalaries[[#This Row],[Salary in USD]]*VLOOKUP($H$1,USDtoUserChoice,2,FALSE))","v":377291.08},"Poultry Analyst","Analyst","USA",{"$f":"VLOOKUP(tblSalaries[[#This Row],[Where do you work]],tblCountries[[Actual]:[Mapping]],2,FALSE)","v":"USA"},"4 to 6 hours a day",8,{"$f":"IF(ISNA(VLOOKUP(tblSalaries[[#This Row],[Years of Experience]],vlookUpExp!$A$1:$B$56,2,FALSE)),\"No Response\",VLOOKUP(tblSalaries[[#This Row],[Years of Experience]],vlookUpExp!$A$1:$B$56,2,FALSE))","v":"6-10"}]
[null,"ID1922","2012-06-20T05:03:44",115000,115000,"USD",{"$f":"tblSalaries[[#This Row],[clean Salary (in local currency)]]*VLOOKUP(tblSalaries[[#This Row],[Currency]],tblXrate[],2,FALSE)","v":115000},{"$f":"IF($H$1=\"USD\",tblSalaries[[#This Row],[Salary in USD]],tblSalaries[[#This Row],[Salary in USD]]*VLOOKUP($H$1,USDtoUserChoice,2,FALSE))","v":943227.70000000007},"Business Analyst","Analyst","USA",{"$f":"VLOOKUP(tblSalaries[[#This Row],[Where do you work]],tblCountries[[Actual]:[Mapping]],2,FALSE)","v":"USA"},"All the 8 hours baby, all the 8!",15,{"$f":"IF(ISNA(VLOOKUP(tblSalaries[[#This Row],[Years of Experience]],vlookUpExp!$A$1:$B$56,2,FALSE)),\"No Response\",VLOOKUP(tblSalaries[[#This Row],[Years of Experience]],vlookUpExp!$A$1:$B$56,2,FALSE))","v":"11-15"}]
[null,"ID1924","2012-06-20T12:53:56",180000,180000,"INR",{"$f":"tblSalaries[[#This Row],[clean Salary (in local currency)]]*VLOOKUP(tblSalaries[[#This Row],[Currency]],tblXrate[],2,FALSE)","v":3205.4250037396623},{"$f":"IF($H$1=\"USD\",tblSalaries[[#This Row],[Salary in USD]],tblSalaries[[#This Row],[Salary in USD]]*VLOOKUP($H$1,USDtoUserChoice,2,FALSE))","v":26290.831772172638},"Customer Resolution","Analyst","India",{"$f":"VLOOKUP(tblSalaries[[#This Row],[Where do you work]],tblCountries[[Actual]:[Mapping]],2,FALSE)","v":"India"},"4 to 6 hours a day",3,{"$f":"IF(ISNA(VLOOKUP(tblSalaries[[#This Row],[Years of Experience]],vlookUpExp!$A$1:$B$56,2,FALSE)),\"No Response\",VLOOKUP(tblSalaries[[#This Row],[Years of Experience]],vlookUpExp!$A$1:$B$56,2,FALSE))","v":"0-5"}]
[null,"ID1925","2012-06-20T13:05:17","60000 EUR",60000,"EUR",{"$f":"tblSalaries[[#This Row],[clean Salary (in local currency)]]*VLOOKUP(tblSalaries[[#This Row],[Currency]],tblXrate[],2,FALSE)","v":76223.966339496474},{"$f":"IF($H$1=\"USD\",tblSalaries[[#This Row],[Salary in USD]],tblSalaries[[#This Row],[Salary in USD]]*VLOOKUP($H$1,USDtoUserChoice,2,FALSE))","v":625187.4474372234},"Project Manager","Manager","Europe",{"$f":"VLOOKUP(tblSalaries[[#This Row],[Where do you work]],tblCountries[[Actual]:[Mapping]],2,FALSE)","v":"Europe"},"2 to 3 hours per day",20,{"$f":"IF(ISNA(VLOOKUP(tblSalaries[[#This Row],[Years of Experience]],vlookUpExp!$A$1:$B$56,2,FALSE)),\"No Response\",VLOOKUP(tblSalaries[[#This Row],[Years of Experience]],vlookUpExp!$A$1:$B$56,2,FALSE))","v":"16-20"}]
[null,"ID1927","2012-06-20T14:08:51",52500,52500,"USD",{"$f":"tblSalaries[[#This Row],[clean Salary (in local currency)]]*VLOOKUP(tblSalaries[[#This Row],[Currency]],tblXrate[],2,FALSE)","v":52500},{"$f":"IF($H$1=\"USD\",tblSalaries[[#This Row],[Salary in USD]],tblSalaries[[#This Row],[Salary in USD]]*VLOOKUP($H$1,USDtoUserChoice,2,FALSE))","v":430603.95},"Business Analist","Analyst","south africa",{"$f":"VLOOKUP(tblSalaries[[#This Row],[Where do you work]],tblCountries[[Actual]:[Mapping]],2,FALSE)","v":"South Africa"},"4 to 6 hours a day",21,{"$f":"IF(ISNA(VLOOKUP(tblSalaries[[#This Row],[Years of Experience]],vlookUpExp!$A$1:$B$56,2,FALSE)),\"No Response\",VLOOKUP(tblSalaries[[#This Row],[Years of Experience]],vlookUpExp!$A$1:$B$56,2,FALSE))","v":"21-25"}]
[null,"ID1928","2012-06-20T20:58:23",8400,100800,"USD",{"$f":"tblSalaries[[#This Row],[clean Salary (in local currency)]]*VLOOKUP(tblSalaries[[#This Row],[Currency]],tblXrate[],2,FALSE)","v":100800},{"$f":"IF($H$1=\"USD\",tblSalaries[[#This Row],[Salary in USD]],tblSalaries[[#This Row],[Salary in USD]]*VLOOKUP($H$1,USDtoUserChoice,2,FALSE))","v":826759.58400000003},"AVP","CXO or Top Mgmt.","Oman",{"$f":"VLOOKUP(tblSalaries[[#This Row],[Where do you work]],tblCountries[[Actual]:[Mapping]],2,FALSE)","v":"Oman"},"4 to 6 hours a day",4,{"$f":"IF(ISNA(VLOOKUP(tblSalaries[[#This Row],[Years of Experience]],vlookUpExp!$A$1:$B$56,2,FALSE)),\"No Response\",VLOOKUP(tblSalaries[[#This Row],[Years of Experience]],vlookUpExp!$A$1:$B$56,2,FALSE))","v":"0-5"}]
[null,"ID1929","2012-06-21T03:46:23",21000,21000,"USD",{"$f":"tblSalaries[[#This Row],[clean Salary (in local currency)]]*VLOOKUP(tblSalaries[[#This Row],[Currency]],tblXrate[],2,FALSE)","v":21000},{"$f":"IF($H$1=\"USD\",tblSalaries[[#This Row],[Salary in USD]],tblSalaries[[#This Row],[Salary in USD]]*VLOOKUP($H$1,USDtoUserChoice,2,FALSE))","v":172241.58000000002},"eorl","Misc.","India",{"$f":"VLOOKUP(tblSalaries[[#This Row],[Where do you work]],tblCountries[[Actual]:[Mapping]],2,FALSE)","v":"India"},"All the 8 hours baby, all the 8!",5,{"$f":"IF(ISNA(VLOOKUP(tblSalaries[[#This Row],[Years of Experience]],vlookUpExp!$A$1:$B$56,2,FALSE)),\"No Response\",VLOOKUP(tblSalaries[[#This Row],[Years of Experience]],vlookUpExp!$A$1:$B$56,2,FALSE))","v":"0-5"}]
[null,"ID1930","2012-06-21T04:06:15",40000,40000,"USD",{"$f":"tblSalaries[[#This Row],[clean Salary (in local currency)]]*VLOOKUP(tblSalaries[[#This Row],[Currency]],tblXrate[],2,FALSE)","v":40000},{"$f":"IF($H$1=\"USD\",tblSalaries[[#This Row],[Salary in USD]],tblSalaries[[#This Row],[Salary in USD]]*VLOOKUP($H$1,USDtoUserChoice,2,FALSE))","v":328079.2},"Corporate Trainer","Analyst","USA",{"$f":"VLOOKUP(tblSalaries[[#This Row],[Where do you work]],tblCountries[[Actual]:[Mapping]],2,FALSE)","v":"USA"},"1 or 2 hours a day",3,{"$f":"IF(ISNA(VLOOKUP(tblSalaries[[#This Row],[Years of Experience]],vlookUpExp!$A$1:$B$56,2,FALSE)),\"No Response\",VLOOKUP(tblSalaries[[#This Row],[Years of Experience]],vlookUpExp!$A$1:$B$56,2,FALSE))","v":"0-5"}]
[null,"ID1931","2012-06-21T04:44:20",46359,46359,"USD",{"$f":"tblSalaries[[#This Row],[clean Salary (in local currency)]]*VLOOKUP(tblSalaries[[#This Row],[Currency]],tblXrate[],2,FALSE)","v":46359},{"$f":"IF($H$1=\"USD\",tblSalaries[[#This Row],[Salary in USD]],tblSalaries[[#This Row],[Salary in USD]]*VLOOKUP($H$1,USDtoUserChoice,2,FALSE))","v":380235.59082000004},"Data Analyst","Analyst","USA",{"$f":"VLOOKUP(tblSalaries[[#This Row],[Where do you work]],tblCountries[[Actual]:[Mapping]],2,FALSE)","v":"USA"},"All the 8 hours baby, all the 8!",5,{"$f":"IF(ISNA(VLOOKUP(tblSalaries[[#This Row],[Years of Experience]],vlookUpExp!$A$1:$B$56,2,FALSE)),\"No Response\",VLOOKUP(tblSalaries[[#This Row],[Years of Experience]],vlookUpExp!$A$1:$B$56,2,FALSE))","v":"0-5"}]
[null,"ID1932","2012-06-21T04:46:24",70000,70000,"USD",{"$f":"tblSalaries[[#This Row],[clean Salary (in local currency)]]*VLOOKUP(tblSalaries[[#This Row],[Currency]],tblXrate[],2,FALSE)","v":70000},{"$f":"IF($H$1=\"USD\",tblSalaries[[#This Row],[Salary in USD]],tblSalaries[[#This Row],[Salary in USD]]*VLOOKUP($H$1,USDtoUserChoice,2,FALSE))","v":574138.60000000009},"Administrative Coordinator","Analyst","USA",{"$f":"VLOOKUP(tblSalaries[[#This Row],[Where do you work]],tblCountries[[Actual]:[Mapping]],2,FALSE)","v":"USA"},"4 to 6 hours a day",10,{"$f":"IF(ISNA(VLOOKUP(tblSalaries[[#This Row],[Years of Experience]],vlookUpExp!$A$1:$B$56,2,FALSE)),\"No Response\",VLOOKUP(tblSalaries[[#This Row],[Years of Experience]],vlookUpExp!$A$1:$B$56,2,FALSE))","v":"6-10"}]

{"sheet":"Dashboard Option 1","index":7,"n_rows":52,"n_cols":2,"rows_kept":52,"cut":false,"hidden":false,"merged":[]}
[]
[]
[]
[]
[]
[]
[]
[]
[]
[]
[]
[]
[]
[]
[]
[]
[]
[]
[]
[]
[]
[]
[]
[]
[]
[]
[]
[]
[]
[]
[]
[]
[]
[]
[]
[]
[]
[]
[]
[]
[]
[]
[]
[]
[]
[null,{"$f":"\"\"","v":""}]
[]
[null,{"$f":"\"   Given your combination of currency (\"&Data!H1&\") and your position (\"&vLUPivot&\"):\"","v":"   Given your combination of currency (ZAR) and your position (Reporting):"}]
[null,{"$f":"\"      1. The average salary for all countries is \"&'SalarybyHour & Exp'!$G$24","v":"      1. The average salary for all countries is 160,547"}]
[null,{"$f":" \"      2.The country with the largest community is \" & BubblePlotData!H14 &\" (\" & BubblePlotData!H11 & \" respondents).\"","v":"      2.The country with the largest community is India (60 respondents)."}]
[null,{"$f":" \"      3. The country with the highest average salary is \"& BubblePlotData!H7 &\", averaging \" & BubblePlotData!H5 & \".\"","v":"      3. The country with the highest average salary is Netherlands, averaging 2,083,958."}]
[null,{"$f":" \"      4. \" & 'SalarybyHour & Exp'!B24  & \" of the professionals in your position said they work \" & CHAR(34) & 'SalarybyHour & Exp'!A24 & \".\" & CHAR(34)","v":"      4. 49% of the professionals in your position said they work \"All the 8 hours baby, all the 8!.\""}]

{"sheet":"Dashboard Option 2","index":8,"n_rows":47,"n_cols":2,"rows_kept":47,"cut":false,"hidden":false,"merged":[]}
[]
[]
[]
[]
[]
[]
[]
[]
[]
[]
[]
[]
[]
[]
[]
[]
[]
[]
[]
[]
[]
[]
[]
[]
[]
[]
[]
[]
[]
[]
[]
[]
[]
[]
[]
[]
[null,{"$f":"\"   Given your combination of currency (\"&Data!H1&\") and your position (\"&vLUPivot&\"):\"","v":"   Given your combination of currency (ZAR) and your position (Reporting):"}]
[null,{"$f":"\"      1. The average salary for all countries is \"&'SalarybyHour & Exp'!$G$24","v":"      1. The average salary for all countries is 160,547"}]
[null,{"$f":" \"      2.The country with the largest community is \" & BubblePlotData!H14 &\" (\" & BubblePlotData!H11 & \" respondents).\"","v":"      2.The country with the largest community is India (60 respondents)."}]
[null,{"$f":" \"      3. The country with the highest average salary is \"& BubblePlotData!H7 &\", averaging \" & BubblePlotData!H5 & \".\"","v":"      3. The country with the highest average salary is Netherlands, averaging 2,083,958."}]
[null,{"$f":" \"      4. \" & 'SalarybyHour & Exp'!B24  & \" of the professionals in your position said they work \" & CHAR(34) & 'SalarybyHour & Exp'!A24 & \".\" & CHAR(34)","v":"      4. 49% of the professionals in your position said they work \"All the 8 hours baby, all the 8!.\""}]
[]
[]
[]
[]
[]
[null,{"$f":"\"\"","v":""}]

{"sheet":"Dashboard Option 3","index":9,"n_rows":52,"n_cols":2,"rows_kept":52,"cut":false,"hidden":false,"merged":[]}
[]
[]
[]
[]
[]
[]
[]
[]
[]
[]
[]
[]
[]
[]
[]
[]
[]
[]
[]
[]
[]
[]
[]
[]
[]
[]
[]
[]
[]
[]
[]
[]
[]
[]
[]
[]
[]
[]
[]
[]
[]
[]
[]
[]
[]
[null,{"$f":"\"\"","v":""}]
[]
[null,{"$f":"\"   Given your combination of currency (\"&Data!H1&\") and your position (\"&vLUPivot&\"):\"","v":"   Given your combination of currency (ZAR) and your position (Reporting):"}]
[null,{"$f":"\"      1. The average salary for all countries is \"&'SalarybyHour & Exp'!$G$24","v":"      1. The average salary for all countries is 160,547"}]
[null,{"$f":" \"      2.The country with the largest community is \" & BubblePlotData!H14 &\" (\" & BubblePlotData!H11 & \" respondents).\"","v":"      2.The country with the largest community is India (60 respondents)."}]
[null,{"$f":" \"      3. The country with the highest average salary is \"& BubblePlotData!H7 &\", averaging \" & BubblePlotData!H5 & \".\"","v":"      3. The country with the highest average salary is Netherlands, averaging 2,083,958."}]
[null,{"$f":" \"      4. \" & 'SalarybyHour & Exp'!B24  & \" of the professionals in your position said they work \" & CHAR(34) & 'SalarybyHour & Exp'!A24 & \".\" & CHAR(34)","v":"      4. 49% of the professionals in your position said they work \"All the 8 hours baby, all the 8!.\""}]