{"text_format":"1","workbook":"xlsx","n_sheets":4,"sheets":["Dashboard","Analysis","Data","mapping"],"not_rendered":{"charts":3,"images":5,"macros":1,"external_links":0,"defined_names":40,"comments":0,"pivot_tables":8},"unopened":[],"bounds":{"document_bytes":16777216,"sheet_cells":100000,"rows_first":2000,"rows_last":500,"rows_between":2000,"halvings":0,"cell_chars":16384,"cell_head_chars":4096},"cells_cut":0,"cells_raw":0,"read":"whole","date_system":"1900"}

{"sheet":"Dashboard","index":0,"n_rows":33,"n_cols":18,"rows_kept":33,"cut":false,"hidden":false,"merged":[[27,18,32,18],[27,16,32,16],[3,5,3,6],[3,8,5,11]]}
[null,"Excel Salary Survey Dashboard"]
[null,"Parameters",null,null,null,null,null,null,"Headline",null,null,null,null,"Comparison by Country: Salary by Years of Experience"]
[]
[null,null,null,null,"Select Country   ","USA",null,null,{"$f":"IF(selectCountry=\"All\",CONCATENATE(\"The average respondant makes \",TEXT(Analysis!$CH$7,\"$#,##0\"),\" and has \",TEXT(Analysis!$CI$7,\"0.00\"),\" years of experience.\"),CONCATENATE(\"Excel jobs in \",selectCountry,\" make an avg of  \",TEXT(Analysis!$CH$7,\"$#,##0\"),\" (\",TEXT(Analysis!CH9,\"0.00%\"),\" \",Analysis!CH10,\" than avg),\",\" and have \",TEXT(Analysis!$CI$7,\"0.00\"),\" years of experience (\",TEXT(Analysis!CI9,\"0.00%\"),\" \",Analysis!CI10,\" than avg).\"))","v":"Excel jobs in USA make an avg of  $72,738 (31.52% higher than avg), and have 10.29 years of experience (15.89% higher than avg)."},null,null,null,null,null,"Select Country    ","Netherlands","VS.","UK"]
[null,null,null,null,"Show Countries with >15 Responses Only   ",null,null,null,null,null,null,null,null,null,"Symbol    ","l",null,"u"]
[null,null,null,null,"Show Benchmarks   "]
[]
[null,"Avg Salary Rank",null,null,"Salary by Job Type"]
[null,0]
[null,{"$f":"IF(flagCountries=FALSE,CONCATENATE(OFFSET(Analysis!AB4,Dashboard!$B$9,0,1,1),\". \",OFFSET(Analysis!AC4,Dashboard!$B$9,0,1,1)),IF(OFFSET(Analysis!AC4,Dashboard!$B$9,2,1,1)=\"\",\"\",CONCATENATE(OFFSET(Analysis!AB4,Dashboard!$B$9,0,1,1),\". \",OFFSET(Analysis!AC4,Dashboard!$B$9,2,1,1))))","v":"1. Australia"},{"$f":"IF(flagCountries=FALSE,OFFSET(Analysis!AD4,Dashboard!$B$9,0,1,1),IF(OFFSET(Analysis!AD4,Dashboard!$B$9,2,1,1)=\"\",\"\",OFFSET(Analysis!AD4,Dashboard!$B$9,2,1,1)))","v":92857.629854916348}]
[null,{"$f":"IF(flagCountries=FALSE,CONCATENATE(OFFSET(Analysis!AB5,Dashboard!$B$9,0,1,1),\". \",OFFSET(Analysis!AC5,Dashboard!$B$9,0,1,1)),IF(OFFSET(Analysis!AC5,Dashboard!$B$9,2,1,1)=\"\",\"\",CONCATENATE(OFFSET(Analysis!AB5,Dashboard!$B$9,0,1,1),\". \",OFFSET(Analysis!AC5,Dashboard!$B$9,2,1,1))))","v":"2. Canada"},{"$f":"IF(flagCountries=FALSE,OFFSET(Analysis!AD5,Dashboard!$B$9,0,1,1),IF(OFFSET(Analysis!AD5,Dashboard!$B$9,2,1,1)=\"\",\"\",OFFSET(Analysis!AD5,Dashboard!$B$9,2,1,1)))","v":89799.526836779929}]
[null,{"$f":"IF(flagCountries=FALSE,CONCATENATE(OFFSET(Analysis!AB6,Dashboard!$B$9,0,1,1),\". \",OFFSET(Analysis!AC6,Dashboard!$B$9,0,1,1)),IF(OFFSET(Analysis!AC6,Dashboard!$B$9,2,1,1)=\"\",\"\",CONCATENATE(OFFSET(Analysis!AB6,Dashboard!$B$9,0,1,1),\". \",OFFSET(Analysis!AC6,Dashboard!$B$9,2,1,1))))","v":"3. Germany"},{"$f":"IF(flagCountries=FALSE,OFFSET(Analysis!AD6,Dashboard!$B$9,0,1,1),IF(OFFSET(Analysis!AD6,Dashboard!$B$9,2,1,1)=\"\",\"\",OFFSET(Analysis!AD6,Dashboard!$B$9,2,1,1)))","v":79637.147017647629}]
[null,{"$f":"IF(flagCountries=FALSE,CONCATENATE(OFFSET(Analysis!AB7,Dashboard!$B$9,0,1,1),\". \",OFFSET(Analysis!AC7,Dashboard!$B$9,0,1,1)),IF(OFFSET(Analysis!AC7,Dashboard!$B$9,2,1,1)=\"\",\"\",CONCATENATE(OFFSET(Analysis!AB7,Dashboard!$B$9,0,1,1),\". \",OFFSET(Analysis!AC7,Dashboard!$B$9,2,1,1))))","v":"4. Netherlands"},{"$f":"IF(flagCountries=FALSE,OFFSET(Analysis!AD7,Dashboard!$B$9,0,1,1),IF(OFFSET(Analysis!AD7,Dashboard!$B$9,2,1,1)=\"\",\"\",OFFSET(Analysis!AD7,Dashboard!$B$9,2,1,1)))","v":73006.431203838249}]
[null,{"$f":"IF(flagCountries=FALSE,CONCATENATE(OFFSET(Analysis!AB8,Dashboard!$B$9,0,1,1),\". \",OFFSET(Analysis!AC8,Dashboard!$B$9,0,1,1)),IF(OFFSET(Analysis!AC8,Dashboard!$B$9,2,1,1)=\"\",\"\",CONCATENATE(OFFSET(Analysis!AB8,Dashboard!$B$9,0,1,1),\". \",OFFSET(Analysis!AC8,Dashboard!$B$9,2,1,1))))","v":"5. USA"},{"$f":"IF(flagCountries=FALSE,OFFSET(Analysis!AD8,Dashboard!$B$9,0,1,1),IF(OFFSET(Analysis!AD8,Dashboard!$B$9,2,1,1)=\"\",\"\",OFFSET(Analysis!AD8,Dashboard!$B$9,2,1,1)))","v":72738.12965964344}]
[null,{"$f":"IF(flagCountries=FALSE,CONCATENATE(OFFSET(Analysis!AB9,Dashboard!$B$9,0,1,1),\". \",OFFSET(Analysis!AC9,Dashboard!$B$9,0,1,1)),IF(OFFSET(Analysis!AC9,Dashboard!$B$9,2,1,1)=\"\",\"\",CONCATENATE(OFFSET(Analysis!AB9,Dashboard!$B$9,0,1,1),\". \",OFFSET(Analysis!AC9,Dashboard!$B$9,2,1,1))))","v":"6. New Zealand"},{"$f":"IF(flagCountries=FALSE,OFFSET(Analysis!AD9,Dashboard!$B$9,0,1,1),IF(OFFSET(Analysis!AD9,Dashboard!$B$9,2,1,1)=\"\",\"\",OFFSET(Analysis!AD9,Dashboard!$B$9,2,1,1)))","v":70287.554967112796}]
[null,{"$f":"IF(flagCountries=FALSE,CONCATENATE(OFFSET(Analysis!AB10,Dashboard!$B$9,0,1,1),\". \",OFFSET(Analysis!AC10,Dashboard!$B$9,0,1,1)),IF(OFFSET(Analysis!AC10,Dashboard!$B$9,2,1,1)=\"\",\"\",CONCATENATE(OFFSET(Analysis!AB10,Dashboard!$B$9,0,1,1),\". \",OFFSET(Analysis!AC10,Dashboard!$B$9,2,1,1))))","v":"7. UK"},{"$f":"IF(flagCountries=FALSE,OFFSET(Analysis!AD10,Dashboard!$B$9,0,1,1),IF(OFFSET(Analysis!AD10,Dashboard!$B$9,2,1,1)=\"\",\"\",OFFSET(Analysis!AD10,Dashboard!$B$9,2,1,1)))","v":67240.730112795849}]
[null,{"$f":"IF(flagCountries=FALSE,CONCATENATE(OFFSET(Analysis!AB11,Dashboard!$B$9,0,1,1),\". \",OFFSET(Analysis!AC11,Dashboard!$B$9,0,1,1)),IF(OFFSET(Analysis!AC11,Dashboard!$B$9,2,1,1)=\"\",\"\",CONCATENATE(OFFSET(Analysis!AB11,Dashboard!$B$9,0,1,1),\". \",OFFSET(Analysis!AC11,Dashboard!$B$9,2,1,1))))","v":"8. South Africa"},{"$f":"IF(flagCountries=FALSE,OFFSET(Analysis!AD11,Dashboard!$B$9,0,1,1),IF(OFFSET(Analysis!AD11,Dashboard!$B$9,2,1,1)=\"\",\"\",OFFSET(Analysis!AD11,Dashboard!$B$9,2,1,1)))","v":49555.624994016209}]
[null,{"$f":"IF(flagCountries=FALSE,CONCATENATE(OFFSET(Analysis!AB12,Dashboard!$B$9,0,1,1),\". \",OFFSET(Analysis!AC12,Dashboard!$B$9,0,1,1)),IF(OFFSET(Analysis!AC12,Dashboard!$B$9,2,1,1)=\"\",\"\",CONCATENATE(OFFSET(Analysis!AB12,Dashboard!$B$9,0,1,1),\". \",OFFSET(Analysis!AC12,Dashboard!$B$9,2,1,1))))","v":"9. UAE"},{"$f":"IF(flagCountries=FALSE,OFFSET(Analysis!AD12,Dashboard!$B$9,0,1,1),IF(OFFSET(Analysis!AD12,Dashboard!$B$9,2,1,1)=\"\",\"\",OFFSET(Analysis!AD12,Dashboard!$B$9,2,1,1)))","v":43014.900191685309},null,null,null,null,null,null,null,null,""]
[null,{"$f":"IF(flagCountries=FALSE,CONCATENATE(OFFSET(Analysis!AB13,Dashboard!$B$9,0,1,1),\". \",OFFSET(Analysis!AC13,Dashboard!$B$9,0,1,1)),IF(OFFSET(Analysis!AC13,Dashboard!$B$9,2,1,1)=\"\",\"\",CONCATENATE(OFFSET(Analysis!AB13,Dashboard!$B$9,0,1,1),\". \",OFFSET(Analysis!AC13,Dashboard!$B$9,2,1,1))))","v":"10. Brazil"},{"$f":"IF(flagCountries=FALSE,OFFSET(Analysis!AD13,Dashboard!$B$9,0,1,1),IF(OFFSET(Analysis!AD13,Dashboard!$B$9,2,1,1)=\"\",\"\",OFFSET(Analysis!AD13,Dashboard!$B$9,2,1,1)))","v":42672.036574334947},null,null,null,null,null,null,null,null,null,null,"SALARY"]
[null,{"$f":"IF(flagCountries=FALSE,CONCATENATE(OFFSET(Analysis!AB14,Dashboard!$B$9,0,1,1),\". \",OFFSET(Analysis!AC14,Dashboard!$B$9,0,1,1)),IF(OFFSET(Analysis!AC14,Dashboard!$B$9,2,1,1)=\"\",\"\",CONCATENATE(OFFSET(Analysis!AB14,Dashboard!$B$9,0,1,1),\". \",OFFSET(Analysis!AC14,Dashboard!$B$9,2,1,1))))","v":"11. India"},{"$f":"IF(flagCountries=FALSE,OFFSET(Analysis!AD14,Dashboard!$B$9,0,1,1),IF(OFFSET(Analysis!AD14,Dashboard!$B$9,2,1,1)=\"\",\"\",OFFSET(Analysis!AD14,Dashboard!$B$9,2,1,1)))","v":13529.430894182482},null,null,null,null,null,null,null,null,null,null,null,"Highest Earners (top 10%)",{"$f":"AVERAGE(Analysis!$D$3:$D$1337)","v":98244.223282017672},null,{"$f":"AVERAGE(Analysis!$M$3:$M$1337)","v":133007.51101485916}]
[null,{"$f":"IF(flagCountries=FALSE,CONCATENATE(OFFSET(Analysis!AB15,Dashboard!$B$9,0,1,1),\". \",OFFSET(Analysis!AC15,Dashboard!$B$9,0,1,1)),IF(OFFSET(Analysis!AC15,Dashboard!$B$9,2,1,1)=\"\",\"\",CONCATENATE(OFFSET(Analysis!AB15,Dashboard!$B$9,0,1,1),\". \",OFFSET(Analysis!AC15,Dashboard!$B$9,2,1,1))))","v":"12. Pakistan"},{"$f":"IF(flagCountries=FALSE,OFFSET(Analysis!AD15,Dashboard!$B$9,0,1,1),IF(OFFSET(Analysis!AD15,Dashboard!$B$9,2,1,1)=\"\",\"\",OFFSET(Analysis!AD15,Dashboard!$B$9,2,1,1)))","v":11873.552586779413},null,null,null,null,null,null,null,null,null,null,null,"Average Salary",{"$f":"AVERAGE(Analysis!C3:C1337)","v":66161.065520115561},null,{"$f":"AVERAGE(Analysis!L3:L1337)","v":62818.382566752676}]
[null,{"$f":"IF(flagCountries=FALSE,CONCATENATE(OFFSET(Analysis!AB16,Dashboard!$B$9,0,1,1),\". \",OFFSET(Analysis!AC16,Dashboard!$B$9,0,1,1)),IF(OFFSET(Analysis!AC16,Dashboard!$B$9,2,1,1)=\"\",\"\",CONCATENATE(OFFSET(Analysis!AB16,Dashboard!$B$9,0,1,1),\". \",OFFSET(Analysis!AC16,Dashboard!$B$9,2,1,1))))","v":""},{"$f":"IF(flagCountries=FALSE,OFFSET(Analysis!AD16,Dashboard!$B$9,0,1,1),IF(OFFSET(Analysis!AD16,Dashboard!$B$9,2,1,1)=\"\",\"\",OFFSET(Analysis!AD16,Dashboard!$B$9,2,1,1)))","v":""},null,null,null,null,null,null,null,null,null,null,null,"Lowest Earners (bottom 10%)",{"$f":"AVERAGE(Analysis!$E$3:$E$1337)","v":37159.18359050453},null,{"$f":"AVERAGE(Analysis!$N$3:$N$1337)","v":26691.127377270885}]
[null,{"$f":"IF(flagCountries=FALSE,CONCATENATE(OFFSET(Analysis!AB17,Dashboard!$B$9,0,1,1),\". \",OFFSET(Analysis!AC17,Dashboard!$B$9,0,1,1)),IF(OFFSET(Analysis!AC17,Dashboard!$B$9,2,1,1)=\"\",\"\",CONCATENATE(OFFSET(Analysis!AB17,Dashboard!$B$9,0,1,1),\". \",OFFSET(Analysis!AC17,Dashboard!$B$9,2,1,1))))","v":""},{"$f":"IF(flagCountries=FALSE,OFFSET(Analysis!AD17,Dashboard!$B$9,0,1,1),IF(OFFSET(Analysis!AD17,Dashboard!$B$9,2,1,1)=\"\",\"\",OFFSET(Analysis!AD17,Dashboard!$B$9,2,1,1)))","v":""}]
[null,{"$f":"IF(flagCountries=FALSE,CONCATENATE(OFFSET(Analysis!AB18,Dashboard!$B$9,0,1,1),\". \",OFFSET(Analysis!AC18,Dashboard!$B$9,0,1,1)),IF(OFFSET(Analysis!AC18,Dashboard!$B$9,2,1,1)=\"\",\"\",CONCATENATE(OFFSET(Analysis!AB18,Dashboard!$B$9,0,1,1),\". \",OFFSET(Analysis!AC18,Dashboard!$B$9,2,1,1))))","v":""},{"$f":"IF(flagCountries=FALSE,OFFSET(Analysis!AD18,Dashboard!$B$9,0,1,1),IF(OFFSET(Analysis!AD18,Dashboard!$B$9,2,1,1)=\"\",\"\",OFFSET(Analysis!AD18,Dashboard!$B$9,2,1,1)))","v":""},null,null,null,null,null,null,null,null,null,null,"EXPERIENCE"]
[null,null,null,null,null,null,null,null,null,null,null,null,null,null,"Avg Yrs of Experience",{"$f":"AVERAGE(Analysis!F3:F1337)","v":9.8421052631578956},null,{"$f":"AVERAGE(Analysis!O3:O1337)","v":10.382882882882884}]
[]
[null,"Salary by Hours Working in Excel Per Day",null,null,null,null,null,null,null,null,null,null,null,"JOB TITLES",null,0,null,0]
[null,null,null,null,null,null,null,null,null,null,null,null,null,null,null,{"$f":"IF(OFFSET(Analysis!G5,0+Dashboard!$P$27,0,1,1)=0,\"-\",OFFSET(Analysis!G5,0+Dashboard!$P$27,0,1,1))","v":"Accounting analyst"},".",{"$f":"OFFSET(Analysis!P5,0+Dashboard!$R$27,0,1,1)","v":"Accountant"}]
[null,null,null,null,null,null,null,null,null,null,null,null,null,null,null,{"$f":"IF(OFFSET(Analysis!G6,0+Dashboard!$P$27,0,1,1)=0,\"-\",OFFSET(Analysis!G6,0+Dashboard!$P$27,0,1,1))","v":"Analyst"},null,{"$f":"OFFSET(Analysis!P6,0+Dashboard!$R$27,0,1,1)","v":"Administration Officer"}]
[null,null,null,null,null,null,null,null,null,null,null,null,null,null,null,{"$f":"IF(OFFSET(Analysis!G7,0+Dashboard!$P$27,0,1,1)=0,\"-\",OFFSET(Analysis!G7,0+Dashboard!$P$27,0,1,1))","v":"busines analist"},null,{"$f":"OFFSET(Analysis!P7,0+Dashboard!$R$27,0,1,1)","v":"Analysis & insight consultant"}]
[null,null,null,null,null,null,null,null,null,null,null,null,null,null,null,{"$f":"IF(OFFSET(Analysis!G8,0+Dashboard!$P$27,0,1,1)=0,\"-\",OFFSET(Analysis!G8,0+Dashboard!$P$27,0,1,1))","v":"business analyst"},null,{"$f":"OFFSET(Analysis!P8,0+Dashboard!$R$27,0,1,1)","v":"Analyst"}]
[null,null,null,null,null,null,null,null,null,null,null,null,null,null,null,{"$f":"IF(OFFSET(Analysis!G9,0+Dashboard!$P$27,0,1,1)=0,\"-\",OFFSET(Analysis!G9,0+Dashboard!$P$27,0,1,1))","v":"Business Engineer"},null,{"$f":"OFFSET(Analysis!P9,0+Dashboard!$R$27,0,1,1)","v":"assistant account manager"}]
[null,null,null,null,null,null,null,null,null,null,null,null,null,null,null,{"$f":"IF(OFFSET(Analysis!G10,0+Dashboard!$P$27,0,1,1)=0,\"-\",OFFSET(Analysis!G10,0+Dashboard!$P$27,0,1,1))","v":"consultant bi"},null,{"$f":"OFFSET(Analysis!P10,0+Dashboard!$R$27,0,1,1)","v":"Assistant Accountant"}]

{"sheet":"Analysis","index":1,"n_rows":1337,"n_cols":87,"rows_kept":1337,"cut":false,"hidden":true,"merged":[[1,34,2,65],[0,1,0,7],[0,10,0,16],[1,68,2,73]]}
[null,"First Choice in Comparison",null,null,null,null,null,null,null,null,"Second Choice in Comparison",null,null,null,null,null,null,null,null,null,null,null,null,null,null,null,null,null,"rankCountries",null,"rankCountries2"]
[null,"C1","C1 clean","C1 highest","C1 lowest","C1 exp","C1 Job Title",null,null,null,"C2","C2 clean","C2 highest","C2 lowest","C2 exp","C2 Job Title",null,null,null,"Non-choices",null,null,"listCountries","listCountries2",null,null,null,null,{"$f":"COUNTA($AC$4:$AC$111)-15","v":88},null,{"$f":"COUNTA(AE4:AE15)-15","v":-3},null,null,null,"Job Type Box and Whisker",null,null,null,null,null,null,null,null,null,null,null,null,null,null,null,null,null,null,null,null,null,null,null,null,null,null,null,null,null,null,null,null,null,"Hours Per Day Box and Whisker",null,null,null,null,null,null,null,null,null,"Source: BLS"]
[null,{"$f":"IF(Dashboard!$P$4=\"All\",Data!G554,IF(Data!K554=Dashboard!$P$4,Data!G554,NA()))","v":{"$error":"#N/A"}},{"$f":"IF(ISNA(B3),\"\",B3)","v":""},{"$f":"IF(C3>=PERCENTILE($C$3:$C$1337,0.9),C3,\"\")","v":""},{"$f":"IF(C3<=PERCENTILE($C$3:$C$1337,0.1),C3,\"\")","v":""},{"$f":"IF(C3<>\"\",Data!$M554,\"\")","v":""},"clean Country","Netherlands",null,null,{"$f":"IF(Dashboard!$R$4=\"All\",Data!G554,IF(Data!K554=Dashboard!$R$4,Data!G554,NA()))","v":{"$error":"#N/A"}},{"$f":"IF(ISNA(K3),\"\",K3)","v":""},{"$f":"IF(L3>=PERCENTILE($L$3:$L$1337,0.9),L3,\"\")","v":""},{"$f":"IF(L3<=PERCENTILE($L$3:$L$1337,0.1),L3,\"\")","v":""},{"$f":"IF(L3<>\"\",Data!$M554,\"\")","v":""},"clean Country","UK",null,null,{"$f":"IF(OR(Dashboard!$P$4=\"All\",Dashboard!$R$4=\"All\"),NA(),IF(OR(Data!K554<>Dashboard!$P$4,Data!K554<>Dashboard!$R$4),Data!G554,NA()))","v":54000},null,null,"All","All",1883,null,null,null,null,"Average of Salary in USD","country","avg salary",null,null,null,null,null,null,null,null,null,null,null,null,null,null,null,null,null,null,null,null,null,null,null,null,null,null,null,null,null,null,null,null,null,null,null,null,null,null,null,null,null,null,null,null,null,null,"Salary Benchmarks",null,null,null,"clean Country","(All)",null,"clean Country","USA"]
[null,{"$f":"IF(Dashboard!$P$4=\"All\",Data!G555,IF(Data!K555=Dashboard!$P$4,Data!G555,NA()))","v":{"$error":"#N/A"}},{"$f":"IF(ISNA(B4),\"\",B4)","v":""},{"$f":"IF(C4>=PERCENTILE($C$3:$C$1337,0.9),C4,\"\")","v":""},{"$f":"IF(C4<=PERCENTILE($C$3:$C$1337,0.1),C4,\"\")","v":""},{"$f":"IF(C4<>\"\",Data!$M555,\"\")","v":""},{"$f":"COUNTA(G5:G1337)-6","v":16},null,null,null,{"$f":"IF(Dashboard!$R$4=\"All\",Data!G555,IF(Data!K555=Dashboard!$R$4,Data!G555,NA()))","v":{"$error":"#N/A"}},{"$f":"IF(ISNA(K4),\"\",K4)","v":""},{"$f":"IF(L4>=PERCENTILE($L$3:$L$1337,0.9),L4,\"\")","v":""},{"$f":"IF(L4<=PERCENTILE($L$3:$L$1337,0.1),L4,\"\")","v":""},{"$f":"IF(L4<>\"\",Data!$M555,\"\")","v":""},{"$f":"COUNTA(P5:P1337)-6","v":109},null,null,null,{"$f":"IF(OR(Dashboard!$P$4=\"All\",Dashboard!$R$4=\"All\"),NA(),IF(OR(Data!K555<>Dashboard!$P$4,Data!K555<>Dashboard!$R$4),Data!G555,NA()))","v":15600},null,null,"Albania","Australia",81,null,null,{"$f":"1","v":1},"Lesotho",177600,"Australia",92857.629854916348,null,null,null,null,null,null,null,null,null,null,null,null,null,null,null,null,null,null,null,null,null,null,null,"dummy",{"$f":"IF(ISNA(BE6),NA(),0)","v":0},{"$f":"IF(ISNA(BF6),NA(),0)","v":0},0,0,0,0,0,0,0,0,null,null,"dummy",{"$f":"IF(ISNA(BR5),NA(),0)","v":0},{"$f":"IF(ISNA(BS5),NA(),0)","v":0},0,0,0,null,null,null,null,"Hourly","Annual"]
[null,{"$f":"IF(Dashboard!$P$4=\"All\",Data!G556,IF(Data!K556=Dashboard!$P$4,Data!G556,NA()))","v":{"$error":"#N/A"}},"","","",{"$f":"IF(C5<>\"\",Data!$M556,\"\")","v":""},"Accounting analyst",null,null,null,{"$f":"IF(Dashboard!$R$4=\"All\",Data!G556,IF(Data!K556=Dashboard!$R$4,Data!G556,NA()))","v":{"$error":"#N/A"}},"","","",{"$f":"IF(L5<>\"\",Data!$M556,\"\")","v":""},"Accountant",null,null,null,{"$f":"IF(OR(Dashboard!$P$4=\"All\",Dashboard!$R$4=\"All\"),NA(),IF(OR(Data!K556<>Dashboard!$P$4,Data!K556<>Dashboard!$R$4),Data!G556,NA()))","v":35000},null,null,"Arabian Gulf","Brazil",20,null,null,{"$f":"AB4+1","v":2},"Switzerland",137525.55715529469,"Canada",89799.526836779929,null,null,null,{"$f":"IF(AJ23=\"\",NA(),AJ23)","v":"Analyst"},null,{"$f":"IF(AL23=\"\",NA(),AL23)","v":"Manager"},null,"Accountant",null,"CXO or Top Mgmt.",null,"Engineer",null,"Specialist",null,"Consultant",null,"Controller",null,"Reporting",null,"Misc.",null,"Job Type",{"$f":"AJ5","v":"Analyst"},{"$f":"AL5","v":"Manager"},{"$f":"AN5","v":"Accountant"},{"$f":"AP5","v":"CXO or Top Mgmt."},{"$f":"AR5","v":"Engineer"},{"$f":"AT5","v":"Specialist"},{"$f":"AV5","v":"Consultant"},{"$f":"AX5","v":"Controller"},{"$f":"AZ5","v":"Reporting"},{"$f":"BB5","v":"Misc."},null,null,"Hours Per Day",{"$f":"IF(BR24=\"\",NA(),BR24)","v":"1 or 2 hours a day"},{"$f":"IF(BS24=\"\",NA(),BS24)","v":"2 to 3 hours per day"},"4 to 6 hours a day","All the 8 hours baby, all the 8!","Excel ?!? What Excel?",null,null,null,"Accountant",29.33,{"$f":"CA5*2088","v":61241.039999999994},null,null,"Values",null,null,"Values"]
[null,{"$f":"IF(Dashboard!$P$4=\"All\",Data!G557,IF(Data!K557=Dashboard!$P$4,Data!G557,NA()))","v":{"$error":"#N/A"}},"","","",{"$f":"IF(C6<>\"\",Data!$M557,\"\")","v":""},"Analyst",null,null,null,{"$f":"IF(Dashboard!$R$4=\"All\",Data!G557,IF(Data!K557=Dashboard!$R$4,Data!G557,NA()))","v":{"$error":"#N/A"}},"","","",{"$f":"IF(L6<>\"\",Data!$M557,\"\")","v":""},"Administration Officer",null,null,null,{"$f":"IF(OR(Dashboard!$P$4=\"All\",Dashboard!$R$4=\"All\"),NA(),IF(OR(Data!K557<>Dashboard!$P$4,Data!K557<>Dashboard!$R$4),Data!G557,NA()))","v":188000},null,null,"Argentina","Canada",58,null,null,{"$f":"AB5+1","v":3},"Europe",123889.35329046159,"Germany",79637.147017647629,null,null,"Count",{"$f":"IF(AJ24=\"\",NA(),COUNT(AJ25:AJ2005))","v":297},null,{"$f":"IF(AL24=\"\",NA(),COUNT(AL25:AL2005))","v":145},null,{"$f":"IF(AN24=\"\",NA(),COUNT(AN25:AN2005))","v":42},null,39,null,26,null,25,null,18,null,17,null,5,null,3,null,"Count",{"$f":"AJ6","v":297},{"$f":"AL6","v":145},{"$f":"AN6","v":42},{"$f":"AP6","v":39},{"$f":"AR6","v":26},{"$f":"AT6","v":25},{"$f":"AV6","v":18},{"$f":"AX6","v":17},{"$f":"AZ6","v":5},{"$f":"BB6","v":3},null,null,"Count",{"$f":"IF(COUNT(BR$25:BR$1907)=0,\"\",COUNT(BR$25:BR$1907))","v":43},{"$f":"IF(COUNT(BS$25:BS$1907)=0,\"\",COUNT(BS$25:BS$1907))","v":155},282,134,3,null,null,null,"Analyst",34.880000000000003,{"$f":"CA6*2088","v":72829.440000000002},null,null,"Average of Salary in USD","Average of Years of Experience",null,"Average of Salary in USD","Average of Years of Experience"]
[null,{"$f":"IF(Dashboard!$P$4=\"All\",Data!G558,IF(Data!K558=Dashboard!$P$4,Data!G558,NA()))","v":{"$error":"#N/A"}},"","","",{"$f":"IF(C7<>\"\",Data!$M558,\"\")","v":""},"busines analist",null,null,null,{"$f":"IF(Dashboard!$R$4=\"All\",Data!G558,IF(Data!K558=Dashboard!$R$4,Data!G558,NA()))","v":{"$error":"#N/A"}},"","","",{"$f":"IF(L7<>\"\",Data!$M558,\"\")","v":""},"Analysis & insight consultant",null,null,null,{"$f":"IF(OR(Dashboard!$P$4=\"All\",Dashboard!$R$4=\"All\"),NA(),IF(OR(Data!K558<>Dashboard!$P$4,Data!K558<>Dashboard!$R$4),Data!G558,NA()))","v":27500},null,null,"Armenia","Germany",17,null,null,4,"Oman",100800,"Netherlands",73006.431203838249,null,null,"Mean",{"$f":"IF(AJ24=\"\",NA(),AVERAGE(AJ25:AJ2005))","v":62583.737373737371},null,{"$f":"IF(AL24=\"\",NA(),AVERAGE(AL25:AL2005))","v":77581.710344827588},null,{"$f":"IF(AN24=\"\",NA(),AVERAGE(AN25:AN2005))","v":64737.190476190473},null,{"$f":"IF(AP24=\"\",NA(),AVERAGE(AP25:AP2005))","v":125615.38461538461},null,{"$f":"IF(AR24=\"\",NA(),AVERAGE(AR25:AR2005))","v":72056.153846153844},null,{"$f":"IF(AT24=\"\",NA(),AVERAGE(AT25:AT2005))","v":69800},null,{"$f":"IF(AV24=\"\",NA(),AVERAGE(AV25:AV2005))","v":98388.888888888891},null,87813.23529411765,null,58200,null,83820.333333333328,null,"Mean",{"$f":"AJ7","v":62583.737373737371},{"$f":"AL7","v":77581.710344827588},{"$f":"AN7","v":64737.190476190473},{"$f":"AP7","v":125615.38461538461},{"$f":"AR7","v":72056.153846153844},{"$f":"AT7","v":69800},{"$f":"AV7","v":98388.888888888891},{"$f":"AX7","v":87813.23529411765},{"$f":"AZ7","v":58200},{"$f":"BB7","v":83820.333333333328},null,null,"Mean",{"$f":"IF(OR(BR6<1,BR6=\"\"),NA(),AVERAGE(BR$25:BR$1907))","v":80399.093023255817},{"$f":"IF(OR(BS6<1,BS6=\"\"),NA(),AVERAGE(BS$25:BS$1907))","v":76343.612903225803},69667.656028368801,73087.507462686568,49666.666666666664,null,null,null,"CXO & Top Mgmt",76.48,{"$f":"CA7*2088","v":159690.24000000002},null,null,49814.598255586949,8.6566292134831464,null,72738.12965964344,10.292035398230089]
[null,{"$f":"IF(Dashboard!$P$4=\"All\",Data!G559,IF(Data!K559=Dashboard!$P$4,Data!G559,NA()))","v":{"$error":"#N/A"}},"","","",{"$f":"IF(C8<>\"\",Data!$M559,\"\")","v":""},"business analyst",null,null,null,{"$f":"IF(Dashboard!$R$4=\"All\",Data!G559,IF(Data!K559=Dashboard!$R$4,Data!G559,NA()))","v":{"$error":"#N/A"}},"","","",{"$f":"IF(L8<>\"\",Data!$M559,\"\")","v":""},"Analyst",null,null,null,{"$f":"IF(OR(Dashboard!$P$4=\"All\",Dashboard!$R$4=\"All\"),NA(),IF(OR(Data!K559<>Dashboard!$P$4,Data!K559<>Dashboard!$R$4),Data!G559,NA()))","v":140000},null,null,"Aruba","India",565,null,null,5,"Uganda",100000,"USA",72738.12965964344,null,null,"SD",{"$f":"IF(AJ6=1,0,IF(AJ24=\"\",NA(),STDEV(AJ25:AJ2005)))","v":22359.036863980713},null,{"$f":"IF(AL6=1,0,IF(AL24=\"\",NA(),STDEV(AL25:AL2005)))","v":40819.500740032541},null,27012.9733206356,null,58163.501570828383,null,22977.667083831304,null,70881.944104263952,null,66415.925525424187,null,45831.527526814731,null,28154.928520598307,null,8243.0480001837896,null,"SD",22359.036863980713,40819.500740032541,27012.9733206356,58163.501570828383,22977.667083831304,70881.944104263952,66415.925525424187,45831.527526814731,28154.928520598307,8243.0480001837896,null,null,"SD",{"$f":"STDEV(BR$25:BR$1907)","v":61176.622068834811},{"$f":"STDEV(BS$25:BS$1907)","v":40875.64367139044},28316.259349161028,47957.071537755386,18610.03313627715,null,null,null,"Engineer",41.99,{"$f":"CA8*2088","v":87675.12000000001}]
[null,{"$f":"IF(Dashboard!$P$4=\"All\",Data!G560,IF(Data!K560=Dashboard!$P$4,Data!G560,NA()))","v":69871.969144538423},69871.969144538423,"","",{"$f":"IF(C9<>\"\",Data!$M560,\"\")","v":6},"Business Engineer",null,null,null,{"$f":"IF(Dashboard!$R$4=\"All\",Data!G560,IF(Data!K560=Dashboard!$R$4,Data!G560,NA()))","v":{"$error":"#N/A"}},"","","",{"$f":"IF(L9<>\"\",Data!$M560,\"\")","v":""},"assistant account manager",null,null,null,{"$f":"IF(OR(Dashboard!$P$4=\"All\",Dashboard!$R$4=\"All\"),NA(),IF(OR(Data!K560<>Dashboard!$P$4,Data!K560<>Dashboard!$R$4),Data!G560,NA()))","v":69871.969144538423},null,null,"Asia","Netherlands",23,null,null,6,"Norway",99016.174371435307,"New Zealand",70287.554967112796,null,null,"Min",{"$f":"IF(AJ24=\"\",NA(),MIN(AJ25:AJ2005))","v":10000},null,{"$f":"IF(AL24=\"\",NA(),MIN(AL25:AL2005))","v":15000},null,22880,null,16000,null,24000,null,31000,null,12000,null,24000,null,32000,null,74461,null,"Min",10000,15000,22880,16000,24000,31000,12000,24000,32000,74461,null,null,"Min",{"$f":"MIN(BR$25:BR$1907)","v":12000},{"$f":"MIN(BS$25:BS$1907)","v":12000},10000,15000,30000,null,null,null,null,null,null,null,null,null,null,null,{"$f":"ABS(CH7-CE7)/MAX((CH7,CE7))","v":0.31515151009959119},{"$f":"ABS(CI7-CF7)/MAX((CI7,CF7))","v":0.15890017100292736}]
[null,{"$f":"IF(Dashboard!$P$4=\"All\",Data!G561,IF(Data!K561=Dashboard!$P$4,Data!G561,NA()))","v":{"$error":"#N/A"}},"","","",{"$f":"IF(C10<>\"\",Data!$M561,\"\")","v":""},"consultant bi",null,null,null,{"$f":"IF(Dashboard!$R$4=\"All\",Data!G561,IF(Data!K561=Dashboard!$R$4,Data!G561,NA()))","v":{"$error":"#N/A"}},"","","",{"$f":"IF(L10<>\"\",Data!$M561,\"\")","v":""},"Assistant Accountant",null,null,null,{"$f":"IF(OR(Dashboard!$P$4=\"All\",Dashboard!$R$4=\"All\"),NA(),IF(OR(Data!K561<>Dashboard!$P$4,Data!K561<>Dashboard!$R$4),Data!G561,NA()))","v":45000},null,null,"Australia","Pakistan",29,null,null,7,"Central America",95000,"UK",67240.730112795849,null,null,"Q1",{"$f":"IF(AJ24=\"\",NA(),QUARTILE(AJ25:AJ2005,1))","v":46000},null,{"$f":"IF(AL24=\"\",NA(),QUARTILE(AL25:AL2005,1))","v":52500},null,45750,null,90000,null,57750,null,45000,null,69750,null,65000,null,37000,null,80730.5,null,"Q1",46000,52500,45750,90000,57750,45000,69750,65000,37000,80730.5,null,null,"Q1",{"$f":"QUARTILE(BR$25:BR$1907,1)","v":51500},{"$f":"QUARTILE(BS$25:BS$1907,1)","v":50000},50000,47875,41000,null,null,null,null,null,null,null,null,null,null,null,{"$f":"IF(CH7>CE7,\"higher\",\"lower\")","v":"higher"},{"$f":"IF(CI7>CF7,\"higher\",\"lower\")","v":"higher"}]
[null,{"$f":"IF(Dashboard!$P$4=\"All\",Data!G562,IF(Data!K562=Dashboard!$P$4,Data!G562,NA()))","v":{"$error":"#N/A"}},"","","",{"$f":"IF(C11<>\"\",Data!$M562,\"\")","v":""},"controller",null,null,null,{"$f":"IF(Dashboard!$R$4=\"All\",Data!G562,IF(Data!K562=Dashboard!$R$4,Data!G562,NA()))","v":{"$error":"#N/A"}},"","","",{"$f":"IF(L11<>\"\",Data!$M562,\"\")","v":""},"Assistant Director - Performance Information",null,null,null,{"$f":"IF(OR(Dashboard!$P$4=\"All\",Dashboard!$R$4=\"All\"),NA(),IF(OR(Data!K562<>Dashboard!$P$4,Data!K562<>Dashboard!$R$4),Data!G562,NA()))","v":95000},null,null,"Austria","South Africa",19,null,null,8,"Australia",92857.629854916348,"South Africa",49555.624994016209,null,null,"Median",{"$f":"IF(AJ24=\"\",NA(),MEDIAN(AJ25:AJ2005))","v":60000},null,{"$f":"IF(AL24=\"\",NA(),MEDIAN(AL25:AL2005))","v":70000},null,59000,null,114000,null,73250,null,50000,null,87500,null,80000,null,45000,null,87000,null,"Median",60000,70000,59000,114000,73250,50000,87500,80000,45000,87000,null,null,"Median",{"$f":"MEDIAN(BR$25:BR$1907)","v":75000},{"$f":"MEDIAN(BS$25:BS$1907)","v":69960},65000,62000,52000]
[null,{"$f":"IF(Dashboard!$P$4=\"All\",Data!G563,IF(Data!K563=Dashboard!$P$4,Data!G563,NA()))","v":{"$error":"#N/A"}},"","","",{"$f":"IF(C12<>\"\",Data!$M563,\"\")","v":""},"data analist",null,null,null,{"$f":"IF(Dashboard!$R$4=\"All\",Data!G563,IF(Data!K563=Dashboard!$R$4,Data!G563,NA()))","v":{"$error":"#N/A"}},"","","",{"$f":"IF(L12<>\"\",Data!$M563,\"\")","v":""},"Assistant Financial Accountant",null,null,null,{"$f":"IF(OR(Dashboard!$P$4=\"All\",Dashboard!$R$4=\"All\"),NA(),IF(OR(Data!K563<>Dashboard!$P$4,Data!K563<>Dashboard!$R$4),Data!G563,NA()))","v":158085.99674240855},null,null,"Azerbaijan","UAE",19,null,null,9,"Canada",89799.526836779929,"UAE",43014.900191685309,null,null,"Q3",{"$f":"IF(AJ24=\"\",NA(),QUARTILE(AJ25:AJ2005,3))","v":75000},null,{"$f":"IF(AL24=\"\",NA(),QUARTILE(AL25:AL2005,3))","v":90000},null,75000,null,150000,null,85000,null,73000,null,113250,null,99000,null,85000,null,88500,null,"Q3",75000,90000,75000,150000,85000,73000,113250,99000,85000,88500,null,null,"Q3",{"$f":"QUARTILE(BR$25:BR$1907,3)","v":90500},{"$f":"QUARTILE(BS$25:BS$1907,3)","v":90000},85000,76750,59500]
[null,{"$f":"IF(Dashboard!$P$4=\"All\",Data!G564,IF(Data!K564=Dashboard!$P$4,Data!G564,NA()))","v":{"$error":"#N/A"}},"","","",{"$f":"IF(C13<>\"\",Data!$M564,\"\")","v":""},"education advisor",null,null,null,{"$f":"IF(Dashboard!$R$4=\"All\",Data!G564,IF(Data!K564=Dashboard!$R$4,Data!G564,NA()))","v":{"$error":"#N/A"}},"","","",{"$f":"IF(L13<>\"\",Data!$M564,\"\")","v":""},"Associate",null,null,null,{"$f":"IF(OR(Dashboard!$P$4=\"All\",Dashboard!$R$4=\"All\"),NA(),IF(OR(Data!K564<>Dashboard!$P$4,Data!K564<>Dashboard!$R$4),Data!G564,NA()))","v":63807.047488395103},null,null,"Baltic","UK",154,null,null,10,"CEE",87167.974754622352,"Brazil",42672.036574334947,null,null,"Max",{"$f":"IF(AJ24=\"\",NA(),MAX(AJ25:AJ2005))","v":160000},null,{"$f":"IF(AL24=\"\",NA(),MAX(AL25:AL2005))","v":400000},null,150000,null,300000,null,130000,null,400000,null,250000,null,214000,null,92000,null,90000,null,"Max",160000,400000,150000,300000,130000,400000,250000,214000,92000,90000,null,null,"Max",{"$f":"MAX(BR$25:BR$1907)","v":400000},{"$f":"MAX(BS$25:BS$1907)","v":300000},225000,400000,67000]
[null,{"$f":"IF(Dashboard!$P$4=\"All\",Data!G565,IF(Data!K565=Dashboard!$P$4,Data!G565,NA()))","v":{"$error":"#N/A"}},"","","",{"$f":"IF(C14<>\"\",Data!$M565,\"\")","v":""},"Finance Project Manager",null,null,null,{"$f":"IF(Dashboard!$R$4=\"All\",Data!G565,IF(Data!K565=Dashboard!$R$4,Data!G565,NA()))","v":{"$error":"#N/A"}},"","","",{"$f":"IF(L14<>\"\",Data!$M565,\"\")","v":""},"Building Design and Performance Researcher",null,null,null,{"$f":"IF(OR(Dashboard!$P$4=\"All\",Dashboard!$R$4=\"All\"),NA(),IF(OR(Data!K565<>Dashboard!$P$4,Data!K565<>Dashboard!$R$4),Data!G565,NA()))","v":38000},null,null,"Bangladesh","USA",617,null,null,11,"Sweden",84477.260092140481,"India",13529.430894182482,null,null,"Bottom",{"$f":"IF(AJ5=\"\",NA(),IF(COUNT(AJ25:AJ2005)<=15,0,IF(AJ24=\"\",NA(),AJ10)))","v":46000},null,{"$f":"IF(AL5=\"\",NA(),IF(COUNT(AL25:AL2005)<=15,0,IF(AL24=\"\",NA(),AL10)))","v":52500},null,45750,null,90000,null,57750,null,45000,null,69750,null,65000,null,0,null,0,null,"Bottom",46000,52500,45750,90000,57750,{"$f":"AT14","v":45000},69750,65000,0,0,null,null,"Bottom",{"$f":"IF(BR6<=15,0,BR10)","v":51500},{"$f":"IF(BS6<=15,0,BS10)","v":50000},50000,47875,0]
[null,{"$f":"IF(Dashboard!$P$4=\"All\",Data!G566,IF(Data!K566=Dashboard!$P$4,Data!G566,NA()))","v":{"$error":"#N/A"}},"","","",{"$f":"IF(C15<>\"\",Data!$M566,\"\")","v":""},"Financial Advisor",null,null,null,{"$f":"IF(Dashboard!$R$4=\"All\",Data!G566,IF(Data!K566=Dashboard!$R$4,Data!G566,NA()))","v":{"$error":"#N/A"}},"","","",{"$f":"IF(L15<>\"\",Data!$M566,\"\")","v":""},"business analyst",null,null,null,{"$f":"IF(OR(Dashboard!$P$4=\"All\",Dashboard!$R$4=\"All\"),NA(),IF(OR(Data!K566<>Dashboard!$P$4,Data!K566<>Dashboard!$R$4),Data!G566,NA()))","v":90000},null,null,"Belgium",null,null,null,null,12,"Denmark",82525.525402351297,"Pakistan",11873.552586779413,null,null,"2Q Box",{"$f":"IF(AJ5=\"\",NA(),IF(COUNT(AJ25:AJ2005)<=15,0,IF(AJ24=\"\",NA(),AJ11-AJ10)))","v":14000},null,{"$f":"IF(AL5=\"\",NA(),IF(COUNT(AL25:AL2005)<=15,0,IF(AL24=\"\",NA(),AL11-AL10)))","v":17500},null,13250,null,24000,null,15500,null,5000,null,17750,null,15000,null,0,null,0,null,"2Q Box",14000,17500,13250,24000,15500,5000,17750,15000,0,0,null,null,"2Q Box",{"$f":"IF(BR6<=15,0,BR11-BR10)","v":23500},{"$f":"IF(BS6<=15,0,BS11-BS10)","v":19960},15000,14125,0]
[null,{"$f":"IF(Dashboard!$P$4=\"All\",Data!G567,IF(Data!K567=Dashboard!$P$4,Data!G567,NA()))","v":{"$error":"#N/A"}},"","","",{"$f":"IF(C16<>\"\",Data!$M567,\"\")","v":""},"Financial Analyst",null,null,null,{"$f":"IF(Dashboard!$R$4=\"All\",Data!G567,IF(Data!K567=Dashboard!$R$4,Data!G567,NA()))","v":45393.934235537781},45393.934235537781,"","",{"$f":"IF(L16<>\"\",Data!$M567,\"\")","v":27},"Business Analyst - Central Finance",null,null,null,{"$f":"IF(OR(Dashboard!$P$4=\"All\",Dashboard!$R$4=\"All\"),NA(),IF(OR(Data!K567<>Dashboard!$P$4,Data!K567<>Dashboard!$R$4),Data!G567,NA()))","v":45393.934235537781},null,null,"Bermuda",true,null,null,null,13,"Germany",79637.147017647629,null,null,null,null,"3Q Box",{"$f":"IF(AJ5=\"\",NA(),IF(COUNT(AJ25:AJ2005)<=15,0,IF(AJ24=\"\",NA(),AJ12-AJ11)))","v":15000},null,{"$f":"IF(AL5=\"\",NA(),IF(COUNT(AL25:AL2005)<=15,0,IF(AL24=\"\",NA(),AL12-AL11)))","v":20000},null,16000,null,36000,null,11750,null,23000,null,25750,null,19000,null,0,null,0,null,"3Q Box",15000,20000,16000,36000,11750,23000,25750,19000,0,0,null,null,"3Q Box",{"$f":"IF(BR6<=15,0,BR12-BR11)","v":15500},{"$f":"IF(BS6<=15,0,BS12-BS11)","v":20040},20000,14750,0]
[null,{"$f":"IF(Dashboard!$P$4=\"All\",Data!G568,IF(Data!K568=Dashboard!$P$4,Data!G568,NA()))","v":{"$error":"#N/A"}},"","","",{"$f":"IF(C17<>\"\",Data!$M568,\"\")","v":""},"Information Analyst",null,null,null,{"$f":"IF(Dashboard!$R$4=\"All\",Data!G568,IF(Data!K568=Dashboard!$R$4,Data!G568,NA()))","v":33099.743713412965},33099.743713412965,"",33099.743713412965,{"$f":"IF(L17<>\"\",Data!$M568,\"\")","v":10},"business data analyst",null,null,null,{"$f":"IF(OR(Dashboard!$P$4=\"All\",Dashboard!$R$4=\"All\"),NA(),IF(OR(Data!K568<>Dashboard!$P$4,Data!K568<>Dashboard!$R$4),Data!G568,NA()))","v":33099.743713412965},null,null,"Bhutan",null,null,null,null,14,"Bermuda",78000,null,null,null,null,"Whisker-",{"$f":"IF(AJ5=\"\",NA(),IF(COUNT(AJ25:AJ2005)<=15,0,IF(AJ24=\"\",NA(),AJ10-AJ9)))","v":36000},null,{"$f":"IF(AL5=\"\",NA(),IF(COUNT(AL25:AL2005)<=15,0,IF(AL24=\"\",NA(),AL10-AL9)))","v":37500},null,22870,null,74000,null,33750,null,14000,null,57750,null,41000,null,0,null,0,null,"Whisker-",36000,37500,22870,74000,33750,14000,57750,41000,0,0,null,null,"Whisker-",{"$f":"IF(BR6<=15,0,BR10-BR9)","v":39500},{"$f":"IF(BS6<=15,0,BS10-BS9)","v":38000},40000,32875,0]
[null,{"$f":"IF(Dashboard!$P$4=\"All\",Data!G569,IF(Data!K569=Dashboard!$P$4,Data!G569,NA()))","v":{"$error":"#N/A"}},"","","",{"$f":"IF(C18<>\"\",Data!$M569,\"\")","v":""},"IT Trainer",null,null,null,{"$f":"IF(Dashboard!$R$4=\"All\",Data!G569,IF(Data!K569=Dashboard!$R$4,Data!G569,NA()))","v":{"$error":"#N/A"}},"","","",{"$f":"IF(L18<>\"\",Data!$M569,\"\")","v":""},"Business Improvement Specialist",null,null,null,{"$f":"IF(OR(Dashboard!$P$4=\"All\",Dashboard!$R$4=\"All\"),NA(),IF(OR(Data!K569<>Dashboard!$P$4,Data!K569<>Dashboard!$R$4),Data!G569,NA()))","v":4285},null,null,"Bolivia",null,null,null,null,15,"Somalia",78000,null,null,null,null,"Whisker+",{"$f":"IF(AJ5=\"\",NA(),IF(COUNT(AJ25:AJ2005)<=15,0,IF(AJ24=\"\",NA(),AJ13-AJ12)))","v":85000},null,{"$f":"IF(AL5=\"\",NA(),IF(COUNT(AL25:AL2005)<=15,0,IF(AL24=\"\",NA(),AL13-AL12)))","v":310000},null,75000,null,150000,null,45000,null,327000,null,136750,null,115000,null,0,null,0,null,"Whisker+",85000,310000,75000,150000,45000,327000,136750,115000,0,0,null,null,"Whisker+",{"$f":"IF(BR6<=15,0,BR13-BR12)","v":309500},{"$f":"IF(BS6<=15,0,BS13-BS12)","v":210000},140000,323250,0]
[null,{"$f":"IF(Dashboard!$P$4=\"All\",Data!G570,IF(Data!K570=Dashboard!$P$4,Data!G570,NA()))","v":{"$error":"#N/A"}},"","","",{"$f":"IF(C19<>\"\",Data!$M570,\"\")","v":""},"Medical information analist",null,null,null,{"$f":"IF(Dashboard!$R$4=\"All\",Data!G570,IF(Data!K570=Dashboard!$R$4,Data!G570,NA()))","v":{"$error":"#N/A"}},"","","",{"$f":"IF(L19<>\"\",Data!$M570,\"\")","v":""},"Business Intelligence Analyst",null,null,null,{"$f":"IF(OR(Dashboard!$P$4=\"All\",Dashboard!$R$4=\"All\"),NA(),IF(OR(Data!K570<>Dashboard!$P$4,Data!K570<>Dashboard!$R$4),Data!G570,NA()))","v":6000},null,null,"Brazil",null,null,null,null,16,"Finland",75389.415540034111,null,null,null,null,"Offset",{"$f":"IF(AJ24=\"\",NA(),0.5)","v":0.5},null,{"$f":"IF(AL24=\"\",NA(),AJ19+1)","v":1.5},null,{"$f":"IF(AN24=\"\",NA(),AL19+1)","v":2.5},null,3.5,null,4.5,null,5.5,null,6.5,null,7.5,null,8.5,null,9.5,null,"Offset",0.5,1.5,2.5,3.5,4.5,5.5,6.5,7.5,8.5,9.5,null,null,"Category axis",{"$f":"IF(ISNA(BR5),NA(),1)","v":1},{"$f":"IF(ISNA(BS5),NA(),BR19+1)","v":2},{"$f":"IF(ISNA(BT5),NA(),BS19+1)","v":3},4,5]
[null,{"$f":"IF(Dashboard!$P$4=\"All\",Data!G571,IF(Data!K571=Dashboard!$P$4,Data!G571,NA()))","v":{"$error":"#N/A"}},"","","",{"$f":"IF(C20<>\"\",Data!$M571,\"\")","v":""},"Online Traffic Manager / Web Analist",null,null,null,{"$f":"IF(Dashboard!$R$4=\"All\",Data!G571,IF(Data!K571=Dashboard!$R$4,Data!G571,NA()))","v":{"$error":"#N/A"}},"","","",{"$f":"IF(L20<>\"\",Data!$M571,\"\")","v":""},"Business Modeller",null,null,null,{"$f":"IF(OR(Dashboard!$P$4=\"All\",Dashboard!$R$4=\"All\"),NA(),IF(OR(Data!K571<>Dashboard!$P$4,Data!K571<>Dashboard!$R$4),Data!G571,NA()))","v":22438.012440857987},null,null,"Bulgaria",null,null,null,null,17,"Netherlands",73006.431203838249,null,null,null,null,null,null,null,null,null,null,null,null,null,null,null,null,null,null,null,null,null,null,null,null,null,"Benchmark",{"$f":"IF($BD$22=FALSE,NA(),IF(ISNA(VLOOKUP(BE5,$BZ$5:$CB$8,3,FALSE)),NA(),VLOOKUP(BE5,$BZ$5:$CB$8,3,FALSE)))","v":72829.440000000002},{"$f":"IF($BD$22=FALSE,NA(),IF(ISNA(VLOOKUP(BF5,$BZ$5:$CB$8,3,FALSE)),NA(),VLOOKUP(BF5,$BZ$5:$CB$8,3,FALSE)))","v":{"$error":"#N/A"}},61241.039999999994,{"$error":"#N/A"},87675.12000000001,{"$error":"#N/A"},{"$error":"#N/A"},{"$error":"#N/A"},{"$error":"#N/A"},{"$error":"#N/A"},null,null,"Dummy gridline",{"$f":"IF(ISNA(BR5),NA(),0.5)","v":0.5},{"$f":"IF(ISNA(BS5),NA(),BR20+1)","v":1.5},{"$f":"IF(ISNA(BT5),NA(),BS20+1)","v":2.5},3.5,4.5]
[null,{"$f":"IF(Dashboard!$P$4=\"All\",Data!G572,IF(Data!K572=Dashboard!$P$4,Data!G572,NA()))","v":{"$error":"#N/A"}},"","","",{"$f":"IF(C21<>\"\",Data!$M572,\"\")","v":""},"Project Engineer",null,null,null,{"$f":"IF(Dashboard!$R$4=\"All\",Data!G572,IF(Data!K572=Dashboard!$R$4,Data!G572,NA()))","v":{"$error":"#N/A"}},"","","",{"$f":"IF(L21<>\"\",Data!$M572,\"\")","v":""},"Business Operations Co-ordinator",null,null,null,{"$f":"IF(OR(Dashboard!$P$4=\"All\",Dashboard!$R$4=\"All\"),NA(),IF(OR(Data!K572<>Dashboard!$P$4,Data!K572<>Dashboard!$R$4),Data!G572,NA()))","v":90000},null,null,"Cambodia",null,null,null,null,18,"Thailand",73000,null,null,null,null,"clean Country","USA",null,null,null,null,null,null,null,null,null,null,null,null,null,null,null,null,null,null,null,"Benchmark Name",{"$f":"IF($BD$22=FALSE,NA(),IF(ISNA(VLOOKUP(BE5,$BZ$5:$CB$8,1,FALSE)),NA(),VLOOKUP(BE5,$BZ$5:$CB$8,1,FALSE)))","v":"Analyst"},{"$f":"IF($BD$22=FALSE,NA(),IF(ISNA(VLOOKUP(BF5,$BZ$5:$CB$8,1,FALSE)),NA(),VLOOKUP(BF5,$BZ$5:$CB$8,1,FALSE)))","v":{"$error":"#N/A"}},"Accountant",{"$error":"#N/A"},"Engineer",{"$error":"#N/A"},{"$error":"#N/A"},{"$error":"#N/A"},{"$error":"#N/A"},{"$error":"#N/A"},null,null,"clean Country","USA"]
[null,{"$f":"IF(Dashboard!$P$4=\"All\",Data!G573,IF(Data!K573=Dashboard!$P$4,Data!G573,NA()))","v":{"$error":"#N/A"}},"","","",{"$f":"IF(C22<>\"\",Data!$M573,\"\")","v":""},"Risk analyst",null,null,null,{"$f":"IF(Dashboard!$R$4=\"All\",Data!G573,IF(Data!K573=Dashboard!$R$4,Data!G573,NA()))","v":{"$error":"#N/A"}},"","","",{"$f":"IF(L22<>\"\",Data!$M573,\"\")","v":""},"Business Support Specialist",null,null,null,{"$f":"IF(OR(Dashboard!$P$4=\"All\",Dashboard!$R$4=\"All\"),NA(),IF(OR(Data!K573<>Dashboard!$P$4,Data!K573<>Dashboard!$R$4),Data!G573,NA()))","v":150000},null,null,"Canada",null,null,null,null,19,"USA",72738.12965964344,null,null,null,null,null,null,null,null,null,null,null,null,null,null,null,null,null,null,null,null,null,null,null,null,"Flag",true]
[null,{"$f":"IF(Dashboard!$P$4=\"All\",Data!G574,IF(Data!K574=Dashboard!$P$4,Data!G574,NA()))","v":{"$error":"#N/A"}},"","","",{"$f":"IF(C23<>\"\",Data!$M574,\"\")","v":""},"Risk Officer",null,null,null,{"$f":"IF(Dashboard!$R$4=\"All\",Data!G574,IF(Data!K574=Dashboard!$R$4,Data!G574,NA()))","v":{"$error":"#N/A"}},"","","",{"$f":"IF(L23<>\"\",Data!$M574,\"\")","v":""},"Buyer",null,null,null,{"$f":"IF(OR(Dashboard!$P$4=\"All\",Dashboard!$R$4=\"All\"),NA(),IF(OR(Data!K574<>Dashboard!$P$4,Data!K574<>Dashboard!$R$4),Data!G574,NA()))","v":132588.25533234264},null,null,"CEE",null,null,null,null,20,"New Zealand",70287.554967112796,null,null,null,null,null,"Analyst",null,"Manager",null,"Accountant",null,"CXO or Top Mgmt.",null,"Engineer",null,"Specialist",null,"Consultant",null,"Controller",null,"Reporting",null,"Misc.",null,null,null,null,null,null,null,null,null,null,null,null,null,null,"Sum of Salary in USD"]
[null,{"$f":"IF(Dashboard!$P$4=\"All\",Data!G575,IF(Data!K575=Dashboard!$P$4,Data!G575,NA()))","v":{"$error":"#N/A"}},"","","",{"$f":"IF(C24<>\"\",Data!$M575,\"\")","v":""},"Salary Professsional",null,null,null,{"$f":"IF(Dashboard!$R$4=\"All\",Data!G575,IF(Data!K575=Dashboard!$R$4,Data!G575,NA()))","v":{"$error":"#N/A"}},"","","",{"$f":"IF(L24<>\"\",Data!$M575,\"\")","v":""},"Central Services Manager",null,null,null,{"$f":"IF(OR(Dashboard!$P$4=\"All\",Dashboard!$R$4=\"All\"),NA(),IF(OR(Data!K575<>Dashboard!$P$4,Data!K575<>Dashboard!$R$4),Data!G575,NA()))","v":45000},null,null,"Central America",null,null,null,null,21,"Japan",67564.774036395989,null,null,null,null,null,"Sum of Salary in USD","Count of Your Salary","Sum of Salary in USD","Count of Your Salary","Sum of Salary in USD","Count of Your Salary","Sum of Salary in USD","Count of Your Salary","Sum of Salary in USD","Count of Your Salary","Sum of Salary in USD","Count of Your Salary","Sum of Salary in USD","Count of Your Salary","Sum of Salary in USD","Count of Your Salary","Sum of Salary in USD","Count of Your Salary","Sum of Salary in USD","Count of Your Salary",null,null,null,null,null,null,null,null,null,null,null,null,null,null,"1 or 2 hours a day","2 to 3 hours per day","4 to 6 hours a day","All the 8 hours baby, all the 8!","Excel ?!? What Excel?"]
[null,{"$f":"IF(Dashboard!$P$4=\"All\",Data!G576,IF(Data!K576=Dashboard!$P$4,Data!G576,NA()))","v":{"$error":"#N/A"}},"","","",{"$f":"IF(C25<>\"\",Data!$M576,\"\")","v":""},"Stafmember",null,null,null,{"$f":"IF(Dashboard!$R$4=\"All\",Data!G576,IF(Data!K576=Dashboard!$R$4,Data!G576,NA()))","v":{"$error":"#N/A"}},"","","",{"$f":"IF(L25<>\"\",Data!$M576,\"\")","v":""},"Clinical audit manager",null,null,null,{"$f":"IF(OR(Dashboard!$P$4=\"All\",Dashboard!$R$4=\"All\"),NA(),IF(OR(Data!K576<>Dashboard!$P$4,Data!K576<>Dashboard!$R$4),Data!G576,NA()))","v":50000},null,null,"China",null,null,null,null,22,"UK",67240.730112795849,null,null,null,null,"ID0003",58000,1,null,null,null,null,null,null,null,null,null,null,null,null,null,null,null,null,null,null,null,null,null,null,null,null,null,null,null,null,null,null,null,"ID0003",null,null,null,58000]
[null,{"$f":"IF(Dashboard!$P$4=\"All\",Data!G577,IF(Data!K577=Dashboard!$P$4,Data!G577,NA()))","v":{"$error":"#N/A"}},"","","",{"$f":"IF(C26<>\"\",Data!$M577,\"\")","v":""},"Trade Marketing",null,null,null,{"$f":"IF(Dashboard!$R$4=\"All\",Data!G577,IF(Data!K577=Dashboard!$R$4,Data!G577,NA()))","v":{"$error":"#N/A"}},"","","",{"$f":"IF(L26<>\"\",Data!$M577,\"\")","v":""},"Commercial Accountant",null,null,null,{"$f":"IF(OR(Dashboard!$P$4=\"All\",Dashboard!$R$4=\"All\"),NA(),IF(OR(Data!K577<>Dashboard!$P$4,Data!K577<>Dashboard!$R$4),Data!G577,NA()))","v":300000},null,null,"Colombia",null,null,null,null,23,"Israel",66840,null,null,null,null,"ID0005",null,null,null,null,null,null,null,null,54000,1,null,null,null,null,null,null,null,null,null,null,null,null,null,null,null,null,null,null,null,null,null,null,null,"ID0005",null,null,null,54000]
[null,{"$f":"IF(Dashboard!$P$4=\"All\",Data!G578,IF(Data!K578=Dashboard!$P$4,Data!G578,NA()))","v":{"$error":"#N/A"}},"","","",{"$f":"IF(C27<>\"\",Data!$M578,\"\")","v":""},null,null,null,null,{"$f":"IF(Dashboard!$R$4=\"All\",Data!G578,IF(Data!K578=Dashboard!$R$4,Data!G578,NA()))","v":{"$error":"#N/A"}},"","","",{"$f":"IF(L27<>\"\",Data!$M578,\"\")","v":""},"Commercial Director",null,null,null,{"$f":"IF(OR(Dashboard!$P$4=\"All\",Dashboard!$R$4=\"All\"),NA(),IF(OR(Data!K578<>Dashboard!$P$4,Data!K578<>Dashboard!$R$4),Data!G578,NA()))","v":104030.78495306884},null,null,"Costa Rica",null,null,null,null,24,"Ireland",61652.484774262724,null,null,null,null,"ID0014",49000,1,null,null,null,null,null,null,null,null,null,null,null,null,null,null,null,null,null,null,null,null,null,null,null,null,null,null,null,null,null,null,null,"ID0014",null,null,null,49000]
[null,{"$f":"IF(Dashboard!$P$4=\"All\",Data!G579,IF(Data!K579=Dashboard!$P$4,Data!G579,NA()))","v":{"$error":"#N/A"}},"","","",{"$f":"IF(C28<>\"\",Data!$M579,\"\")","v":""},null,null,null,null,{"$f":"IF(Dashboard!$R$4=\"All\",Data!G579,IF(Data!K579=Dashboard!$R$4,Data!G579,NA()))","v":{"$error":"#N/A"}},"","","",{"$f":"IF(L28<>\"\",Data!$M579,\"\")","v":""},"Commercial Manager",null,null,null,{"$f":"IF(OR(Dashboard!$P$4=\"All\",Dashboard!$R$4=\"All\"),NA(),IF(OR(Data!K579<>Dashboard!$P$4,Data!K579<>Dashboard!$R$4),Data!G579,NA()))","v":115000},null,null,"Croatia",null,null,null,null,25,"France",56952.725049143286,null,null,null,null,"ID0015",null,null,null,null,null,null,null,null,85000,1,null,null,null,null,null,null,null,null,null,null,null,null,null,null,null,null,null,null,null,null,null,null,null,"ID0015",85000]
[null,{"$f":"IF(Dashboard!$P$4=\"All\",Data!G580,IF(Data!K580=Dashboard!$P$4,Data!G580,NA()))","v":{"$error":"#N/A"}},"","","",{"$f":"IF(C29<>\"\",Data!$M580,\"\")","v":""},null,null,null,null,{"$f":"IF(Dashboard!$R$4=\"All\",Data!G580,IF(Data!K580=Dashboard!$R$4,Data!G580,NA()))","v":{"$error":"#N/A"}},"","","",{"$f":"IF(L29<>\"\",Data!$M580,\"\")","v":""},"compliance manager",null,null,null,{"$f":"IF(OR(Dashboard!$P$4=\"All\",Dashboard!$R$4=\"All\"),NA(),IF(OR(Data!K580<>Dashboard!$P$4,Data!K580<>Dashboard!$R$4),Data!G580,NA()))","v":70000},null,null,"Czech Republic",null,null,null,null,26,"Russia",55905.222222222219,null,null,null,null,"ID0016",null,null,null,null,null,null,null,null,75000,1,null,null,null,null,null,null,null,null,null,null,null,null,null,null,null,null,null,null,null,null,null,null,null,"ID0016",null,null,null,75000]
[null,{"$f":"IF(Dashboard!$P$4=\"All\",Data!G581,IF(Data!K581=Dashboard!$P$4,Data!G581,NA()))","v":{"$error":"#N/A"}},"","","",{"$f":"IF(C30<>\"\",Data!$M581,\"\")","v":""},null,null,null,null,{"$f":"IF(Dashboard!$R$4=\"All\",Data!G581,IF(Data!K581=Dashboard!$R$4,Data!G581,NA()))","v":{"$error":"#N/A"}},"","","",{"$f":"IF(L30<>\"\",Data!$M581,\"\")","v":""},"Construction Estimator",null,null,null,{"$f":"IF(OR(Dashboard!$P$4=\"All\",Dashboard!$R$4=\"All\"),NA(),IF(OR(Data!K581<>Dashboard!$P$4,Data!K581<>Dashboard!$R$4),Data!G581,NA()))","v":108110.42357867939},null,null,"Denmark",null,null,null,null,27,"Qatar",53066.666666666664,null,null,null,null,"ID0022",96000,1,null,null,null,null,null,null,null,null,null,null,null,null,null,null,null,null,null,null,null,null,null,null,null,null,null,null,null,null,null,null,null,"ID0022",null,96000]
[null,{"$f":"IF(Dashboard!$P$4=\"All\",Data!G582,IF(Data!K582=Dashboard!$P$4,Data!G582,NA()))","v":{"$error":"#N/A"}},"","","",{"$f":"IF(C31<>\"\",Data!$M582,\"\")","v":""},null,null,null,null,{"$f":"IF(Dashboard!$R$4=\"All\",Data!G582,IF(Data!K582=Dashboard!$R$4,Data!G582,NA()))","v":{"$error":"#N/A"}},"","","",{"$f":"IF(L31<>\"\",Data!$M582,\"\")","v":""},"consultant",null,null,null,{"$f":"IF(OR(Dashboard!$P$4=\"All\",Dashboard!$R$4=\"All\"),NA(),IF(OR(Data!K582<>Dashboard!$P$4,Data!K582<>Dashboard!$R$4),Data!G582,NA()))","v":75000},null,null,"Dominican Republic",null,null,null,null,28,"Singapore",52154.754053796576,null,null,null,null,"ID0024",null,null,null,null,null,null,75000,1,null,null,null,null,null,null,null,null,null,null,null,null,null,null,null,null,null,null,null,null,null,null,null,null,null,"ID0024",null,null,75000]
[null,{"$f":"IF(Dashboard!$P$4=\"All\",Data!G583,IF(Data!K583=Dashboard!$P$4,Data!G583,NA()))","v":{"$error":"#N/A"}},"","","",{"$f":"IF(C32<>\"\",Data!$M583,\"\")","v":""},null,null,null,null,{"$f":"IF(Dashboard!$R$4=\"All\",Data!G583,IF(Data!K583=Dashboard!$R$4,Data!G583,NA()))","v":{"$error":"#N/A"}},"","","",{"$f":"IF(L32<>\"\",Data!$M583,\"\")","v":""},"contracts officer",null,null,null,{"$f":"IF(OR(Dashboard!$P$4=\"All\",Dashboard!$R$4=\"All\"),NA(),IF(OR(Data!K583<>Dashboard!$P$4,Data!K583<>Dashboard!$R$4),Data!G583,NA()))","v":40414},null,null,"Dubai",null,null,null,null,29,"Kenya",51497.005988023957,null,null,null,null,"ID0025",null,null,40000,1,null,null,null,null,null,null,null,null,null,null,null,null,null,null,null,null,null,null,null,null,null,null,null,null,null,null,null,null,null,"ID0025",null,40000]
[null,{"$f":"IF(Dashboard!$P$4=\"All\",Data!G584,IF(Data!K584=Dashboard!$P$4,Data!G584,NA()))","v":{"$error":"#N/A"}},"","","",{"$f":"IF(C33<>\"\",Data!$M584,\"\")","v":""},null,null,null,null,{"$f":"IF(Dashboard!$R$4=\"All\",Data!G584,IF(Data!K584=Dashboard!$R$4,Data!G584,NA()))","v":{"$error":"#N/A"}},"","","",{"$f":"IF(L33<>\"\",Data!$M584,\"\")","v":""},"Corporate Finance Executive",null,null,null,{"$f":"IF(OR(Dashboard!$P$4=\"All\",Dashboard!$R$4=\"All\"),NA(),IF(OR(Data!K584<>Dashboard!$P$4,Data!K584<>Dashboard!$R$4),Data!G584,NA()))","v":65000},null,null,"Egypt",null,null,null,null,30,"Austria",50815.977559664309,null,null,null,null,"ID0026",60000,1,null,null,null,null,null,null,null,null,null,null,null,null,null,null,null,null,null,null,null,null,null,null,null,null,null,null,null,null,null,null,null,"ID0026",null,null,null,60000]
[null,{"$f":"IF(Dashboard!$P$4=\"All\",Data!G585,IF(Data!K585=Dashboard!$P$4,Data!G585,NA()))","v":{"$error":"#N/A"}},"","","",{"$f":"IF(C34<>\"\",Data!$M585,\"\")","v":""},null,null,null,null,{"$f":"IF(Dashboard!$R$4=\"All\",Data!G585,IF(Data!K585=Dashboard!$R$4,Data!G585,NA()))","v":{"$error":"#N/A"}},"","","",{"$f":"IF(L34<>\"\",Data!$M585,\"\")","v":""},"Corporate Finance Manager",null,null,null,{"$f":"IF(OR(Dashboard!$P$4=\"All\",Dashboard!$R$4=\"All\"),NA(),IF(OR(Data!K585<>Dashboard!$P$4,Data!K585<>Dashboard!$R$4),Data!G585,NA()))","v":120000},null,null,"Estonia",null,null,null,null,31,"self-employed",50000,null,null,null,null,"ID0037",null,null,150000,1,null,null,null,null,null,null,null,null,null,null,null,null,null,null,null,null,null,null,null,null,null,null,null,null,null,null,null,null,null,"ID0037",null,150000]
[null,{"$f":"IF(Dashboard!$P$4=\"All\",Data!G586,IF(Data!K586=Dashboard!$P$4,Data!G586,NA()))","v":{"$error":"#N/A"}},"","","",{"$f":"IF(C35<>\"\",Data!$M586,\"\")","v":""},null,null,null,null,{"$f":"IF(Dashboard!$R$4=\"All\",Data!G586,IF(Data!K586=Dashboard!$R$4,Data!G586,NA()))","v":{"$error":"#N/A"}},"","","",{"$f":"IF(L35<>\"\",Data!$M586,\"\")","v":""},"Cost Analyst",null,null,null,{"$f":"IF(OR(Dashboard!$P$4=\"All\",Dashboard!$R$4=\"All\"),NA(),IF(OR(Data!K586<>Dashboard!$P$4,Data!K586<>Dashboard!$R$4),Data!G586,NA()))","v":15092.18020692008},null,null,"Ethiopia",null,null,null,null,32,"South Africa",49555.624994016209,null,null,null,null,"ID0038",null,null,null,null,null,null,null,null,69000,1,null,null,null,null,null,null,null,null,null,null,null,null,null,null,null,null,null,null,null,null,null,null,null,"ID0038",null,null,69000]
[null,{"$f":"IF(Dashboard!$P$4=\"All\",Data!G587,IF(Data!K587=Dashboard!$P$4,Data!G587,NA()))","v":{"$error":"#N/A"}},"","","",{"$f":"IF(C36<>\"\",Data!$M587,\"\")","v":""},null,null,null,null,{"$f":"IF(Dashboard!$R$4=\"All\",Data!G587,IF(Data!K587=Dashboard!$R$4,Data!G587,NA()))","v":{"$error":"#N/A"}},"","","",{"$f":"IF(L36<>\"\",Data!$M587,\"\")","v":""},"Data Analyst",null,null,null,{"$f":"IF(OR(Dashboard!$P$4=\"All\",Dashboard!$R$4=\"All\"),NA(),IF(OR(Data!K587<>Dashboard!$P$4,Data!K587<>Dashboard!$R$4),Data!G587,NA()))","v":36000},null,null,"Europe",null,null,null,null,33,"Turkey",48000,null,null,null,null,"ID0039",null,null,null,null,null,null,null,null,null,null,null,null,30000,1,null,null,null,null,null,null,null,null,null,null,null,null,null,null,null,null,null,null,null,"ID0039",null,30000]
[null,{"$f":"IF(Dashboard!$P$4=\"All\",Data!G588,IF(Data!K588=Dashboard!$P$4,Data!G588,NA()))","v":{"$error":"#N/A"}},"","","",{"$f":"IF(C37<>\"\",Data!$M588,\"\")","v":""},null,null,null,null,{"$f":"IF(Dashboard!$R$4=\"All\",Data!G588,IF(Data!K588=Dashboard!$R$4,Data!G588,NA()))","v":{"$error":"#N/A"}},"","","",{"$f":"IF(L37<>\"\",Data!$M588,\"\")","v":""},"Data Management Officer",null,null,null,{"$f":"IF(OR(Dashboard!$P$4=\"All\",Dashboard!$R$4=\"All\"),NA(),IF(OR(Data!K588<>Dashboard!$P$4,Data!K588<>Dashboard!$R$4),Data!G588,NA()))","v":63519.971949580387},null,null,"Finland",null,null,null,null,34,"Italy",47258.859130487806,null,null,null,null,"ID0044",null,null,null,null,58000,1,null,null,null,null,null,null,null,null,null,null,null,null,null,null,null,null,null,null,null,null,null,null,null,null,null,null,null,"ID0044",null,null,58000]
[null,{"$f":"IF(Dashboard!$P$4=\"All\",Data!G589,IF(Data!K589=Dashboard!$P$4,Data!G589,NA()))","v":{"$error":"#N/A"}},"","","",{"$f":"IF(C38<>\"\",Data!$M589,\"\")","v":""},null,null,null,null,{"$f":"IF(Dashboard!$R$4=\"All\",Data!G589,IF(Data!K589=Dashboard!$R$4,Data!G589,NA()))","v":{"$error":"#N/A"}},"","","",{"$f":"IF(L38<>\"\",Data!$M589,\"\")","v":""},"Data Quality & Analysis Manager",null,null,null,{"$f":"IF(OR(Dashboard!$P$4=\"All\",Dashboard!$R$4=\"All\"),NA(),IF(OR(Data!K589<>Dashboard!$P$4,Data!K589<>Dashboard!$R$4),Data!G589,NA()))","v":108000},null,null,"France",null,null,null,null,35,"Spain",46235.660112252495,null,null,null,null,"ID0045",null,null,null,null,null,null,null,null,null,null,null,null,null,null,null,null,null,null,90000,1,null,null,null,null,null,null,null,null,null,null,null,null,null,"ID0045",90000]
[null,{"$f":"IF(Dashboard!$P$4=\"All\",Data!G590,IF(Data!K590=Dashboard!$P$4,Data!G590,NA()))","v":{"$error":"#N/A"}},"","","",{"$f":"IF(C39<>\"\",Data!$M590,\"\")","v":""},null,null,null,null,{"$f":"IF(Dashboard!$R$4=\"All\",Data!G590,IF(Data!K590=Dashboard!$R$4,Data!G590,NA()))","v":{"$error":"#N/A"}},"","","",{"$f":"IF(L39<>\"\",Data!$M590,\"\")","v":""},"Data Team Leader",null,null,null,{"$f":"IF(OR(Dashboard!$P$4=\"All\",Dashboard!$R$4=\"All\"),NA(),IF(OR(Data!K590<>Dashboard!$P$4,Data!K590<>Dashboard!$R$4),Data!G590,NA()))","v":75000},null,null,"Germany",null,null,null,null,36,"Panama",44759.985974790194,null,null,null,null,"ID0048",null,null,null,null,null,null,null,null,null,null,null,null,12000,1,null,null,null,null,null,null,null,null,null,null,null,null,null,null,null,null,null,null,null,"ID0048",12000]
[null,{"$f":"IF(Dashboard!$P$4=\"All\",Data!G591,IF(Data!K591=Dashboard!$P$4,Data!G591,NA()))","v":{"$error":"#N/A"}},"","","",{"$f":"IF(C40<>\"\",Data!$M591,\"\")","v":""},null,null,null,null,{"$f":"IF(Dashboard!$R$4=\"All\",Data!G591,IF(Data!K591=Dashboard!$R$4,Data!G591,NA()))","v":{"$error":"#N/A"}},"","","",{"$f":"IF(L40<>\"\",Data!$M591,\"\")","v":""},"Database Manager",null,null,null,{"$f":"IF(OR(Dashboard!$P$4=\"All\",Dashboard!$R$4=\"All\"),NA(),IF(OR(Data!K591<>Dashboard!$P$4,Data!K591<>Dashboard!$R$4),Data!G591,NA()))","v":7123.1666749770275},null,null,"Ghana",null,null,null,null,37,"Croatia",43489.586535798582,null,null,null,null,"ID0051",null,null,null,null,57000,1,null,null,null,null,null,null,null,null,null,null,null,null,null,null,null,null,null,null,null,null,null,null,null,null,null,null,null,"ID0051",null,57000]
[null,{"$f":"IF(Dashboard!$P$4=\"All\",Data!G592,IF(Data!K592=Dashboard!$P$4,Data!G592,NA()))","v":{"$error":"#N/A"}},"","","",{"$f":"IF(C41<>\"\",Data!$M592,\"\")","v":""},null,null,null,null,{"$f":"IF(Dashboard!$R$4=\"All\",Data!G592,IF(Data!K592=Dashboard!$R$4,Data!G592,NA()))","v":{"$error":"#N/A"}},"","","",{"$f":"IF(L41<>\"\",Data!$M592,\"\")","v":""},"Decision Analyst & Modeller",null,null,null,{"$f":"IF(OR(Dashboard!$P$4=\"All\",Dashboard!$R$4=\"All\"),NA(),IF(OR(Data!K592<>Dashboard!$P$4,Data!K592<>Dashboard!$R$4),Data!G592,NA()))","v":50000},null,null,"Greece",null,null,null,null,38,"UAE",43014.900191685309,null,null,null,null,"ID0055",62000,1,null,null,null,null,null,null,null,null,null,null,null,null,null,null,null,null,null,null,null,null,null,null,null,null,null,null,null,null,null,null,null,"ID0055",null,null,62000]
[null,{"$f":"IF(Dashboard!$P$4=\"All\",Data!G593,IF(Data!K593=Dashboard!$P$4,Data!G593,NA()))","v":{"$error":"#N/A"}},"","","",{"$f":"IF(C42<>\"\",Data!$M593,\"\")","v":""},null,null,null,null,{"$f":"IF(Dashboard!$R$4=\"All\",Data!G593,IF(Data!K593=Dashboard!$R$4,Data!G593,NA()))","v":{"$error":"#N/A"}},"","","",{"$f":"IF(L42<>\"\",Data!$M593,\"\")","v":""},"Developer",null,null,null,{"$f":"IF(OR(Dashboard!$P$4=\"All\",Dashboard!$R$4=\"All\"),NA(),IF(OR(Data!K593<>Dashboard!$P$4,Data!K593<>Dashboard!$R$4),Data!G593,NA()))","v":45000},null,null,"Guyana",null,null,null,null,39,"Brazil",42672.036574334947,null,null,null,null,"ID0059",38000,1,null,null,null,null,null,null,null,null,null,null,null,null,null,null,null,null,null,null,null,null,null,null,null,null,null,null,null,null,null,null,null,"ID0059",null,null,38000]
[null,{"$f":"IF(Dashboard!$P$4=\"All\",Data!G594,IF(Data!K594=Dashboard!$P$4,Data!G594,NA()))","v":{"$error":"#N/A"}},"","","",{"$f":"IF(C43<>\"\",Data!$M594,\"\")","v":""},null,null,null,null,{"$f":"IF(Dashboard!$R$4=\"All\",Data!G594,IF(Data!K594=Dashboard!$R$4,Data!G594,NA()))","v":{"$error":"#N/A"}},"","","",{"$f":"IF(L43<>\"\",Data!$M594,\"\")","v":""},"Development (Project & Planning) Manager",null,null,null,{"$f":"IF(OR(Dashboard!$P$4=\"All\",Dashboard!$R$4=\"All\"),NA(),IF(OR(Data!K594<>Dashboard!$P$4,Data!K594<>Dashboard!$R$4),Data!G594,NA()))","v":45000},null,null,"Hong Kong",null,null,null,null,40,"Kuwait",42666.666666666664,null,null,null,null,"ID0060",null,null,null,null,null,null,null,null,null,null,41000,1,null,null,null,null,null,null,null,null,null,null,null,null,null,null,null,null,null,null,null,null,null,"ID0060",null,null,41000]
[null,{"$f":"IF(Dashboard!$P$4=\"All\",Data!G595,IF(Data!K595=Dashboard!$P$4,Data!G595,NA()))","v":{"$error":"#N/A"}},"","","",{"$f":"IF(C44<>\"\",Data!$M595,\"\")","v":""},null,null,null,null,{"$f":"IF(Dashboard!$R$4=\"All\",Data!G595,IF(Data!K595=Dashboard!$R$4,Data!G595,NA()))","v":{"$error":"#N/A"}},"","","",{"$f":"IF(L44<>\"\",Data!$M595,\"\")","v":""},"Energy Analyst",null,null,null,{"$f":"IF(OR(Dashboard!$P$4=\"All\",Dashboard!$R$4=\"All\"),NA(),IF(OR(Data!K595<>Dashboard!$P$4,Data!K595<>Dashboard!$R$4),Data!G595,NA()))","v":90000},null,null,"Hungary",null,null,null,null,41,"Iceland",41731,null,null,null,null,"ID0061",68000,1,null,null,null,null,null,null,null,null,null,null,null,null,null,null,null,null,null,null,null,null,null,null,null,null,null,null,null,null,null,null,null,"ID0061",null,null,null,68000]
[null,{"$f":"IF(Dashboard!$P$4=\"All\",Data!G596,IF(Data!K596=Dashboard!$P$4,Data!G596,NA()))","v":{"$error":"#N/A"}},"","","",{"$f":"IF(C45<>\"\",Data!$M596,\"\")","v":""},null,null,null,null,{"$f":"IF(Dashboard!$R$4=\"All\",Data!G596,IF(Data!K596=Dashboard!$R$4,Data!G596,NA()))","v":{"$error":"#N/A"}},"","","",{"$f":"IF(L45<>\"\",Data!$M596,\"\")","v":""},"Engineering Tech",null,null,null,{"$f":"IF(OR(Dashboard!$P$4=\"All\",Dashboard!$R$4=\"All\"),NA(),IF(OR(Data!K596<>Dashboard!$P$4,Data!K596<>Dashboard!$R$4),Data!G596,NA()))","v":4273.9000049862161},null,null,"Iceland",null,null,null,null,42,"Belgium",41707.21358209449,null,null,null,null,"ID0065",null,null,85000,1,null,null,null,null,null,null,null,null,null,null,null,null,null,null,null,null,null,null,null,null,null,null,null,null,null,null,null,null,null,"ID0065",null,null,85000]
[null,{"$f":"IF(Dashboard!$P$4=\"All\",Data!G597,IF(Data!K597=Dashboard!$P$4,Data!G597,NA()))","v":{"$error":"#N/A"}},"","","",{"$f":"IF(C46<>\"\",Data!$M597,\"\")","v":""},null,null,null,null,{"$f":"IF(Dashboard!$R$4=\"All\",Data!G597,IF(Data!K597=Dashboard!$R$4,Data!G597,NA()))","v":{"$error":"#N/A"}},"","","",{"$f":"IF(L46<>\"\",Data!$M597,\"\")","v":""},"Environmental Information Analyst",null,null,null,{"$f":"IF(OR(Dashboard!$P$4=\"All\",Dashboard!$R$4=\"All\"),NA(),IF(OR(Data!K597<>Dashboard!$P$4,Data!K597<>Dashboard!$R$4),Data!G597,NA()))","v":50000},null,null,"India",null,null,null,null,43,"Zimbabwe",36400,null,null,null,null,"ID0068",85087,1,null,null,null,null,null,null,null,null,null,null,null,null,null,null,null,null,null,null,null,null,null,null,null,null,null,null,null,null,null,null,null,"ID0068",null,85087]
[null,{"$f":"IF(Dashboard!$P$4=\"All\",Data!G598,IF(Data!K598=Dashboard!$P$4,Data!G598,NA()))","v":{"$error":"#N/A"}},"","","",{"$f":"IF(C47<>\"\",Data!$M598,\"\")","v":""},null,null,null,null,{"$f":"IF(Dashboard!$R$4=\"All\",Data!G598,IF(Data!K598=Dashboard!$R$4,Data!G598,NA()))","v":{"$error":"#N/A"}},"","","",{"$f":"IF(L47<>\"\",Data!$M598,\"\")","v":""},"Excel Consultant",null,null,null,{"$f":"IF(OR(Dashboard!$P$4=\"All\",Dashboard!$R$4=\"All\"),NA(),IF(OR(Data!K598<>Dashboard!$P$4,Data!K598<>Dashboard!$R$4),Data!G598,NA()))","v":65000},null,null,"Indonesia",null,null,null,null,44,"Azerbaijan",36000,null,null,null,null,"ID0069",50000,1,null,null,null,null,null,null,null,null,null,null,null,null,null,null,null,null,null,null,null,null,null,null,null,null,null,null,null,null,null,null,null,"ID0069",null,null,null,50000]
[null,{"$f":"IF(Dashboard!$P$4=\"All\",Data!G599,IF(Data!K599=Dashboard!$P$4,Data!G599,NA()))","v":{"$error":"#N/A"}},"","","",{"$f":"IF(C48<>\"\",Data!$M599,\"\")","v":""},null,null,null,null,{"$f":"IF(Dashboard!$R$4=\"All\",Data!G599,IF(Data!K599=Dashboard!$R$4,Data!G599,NA()))","v":{"$error":"#N/A"}},"","","",{"$f":"IF(L48<>\"\",Data!$M599,\"\")","v":""},"Finance Analyst",null,null,null,{"$f":"IF(OR(Dashboard!$P$4=\"All\",Dashboard!$R$4=\"All\"),NA(),IF(OR(Data!K599<>Dashboard!$P$4,Data!K599<>Dashboard!$R$4),Data!G599,NA()))","v":70000},null,null,"Iran",null,null,null,null,45,"Czech Republic",36000,null,null,null,null,"ID0071",57000,1,null,null,null,null,null,null,null,null,null,null,null,null,null,null,null,null,null,null,null,null,null,null,null,null,null,null,null,null,null,null,null,"ID0071",null,null,57000]
[null,{"$f":"IF(Dashboard!$P$4=\"All\",Data!G600,IF(Data!K600=Dashboard!$P$4,Data!G600,NA()))","v":{"$error":"#N/A"}},"","","",{"$f":"IF(C49<>\"\",Data!$M600,\"\")","v":""},null,null,null,null,{"$f":"IF(Dashboard!$R$4=\"All\",Data!G600,IF(Data!K600=Dashboard!$R$4,Data!G600,NA()))","v":{"$error":"#N/A"}},"","","",{"$f":"IF(L49<>\"\",Data!$M600,\"\")","v":""},"finance assistant",null,null,null,{"$f":"IF(OR(Dashboard!$P$4=\"All\",Dashboard!$R$4=\"All\"),NA(),IF(OR(Data!K600<>Dashboard!$P$4,Data!K600<>Dashboard!$R$4),Data!G600,NA()))","v":160000},null,null,"Ireland",null,null,null,null,46,"Saudi Arabia",35832.121212121208,null,null,null,null,"ID0072",null,null,75000,1,null,null,null,null,null,null,null,null,null,null,null,null,null,null,null,null,null,null,null,null,null,null,null,null,null,null,null,null,null,"ID0072",null,null,null,75000]
[null,{"$f":"IF(Dashboard!$P$4=\"All\",Data!G601,IF(Data!K601=Dashboard!$P$4,Data!G601,NA()))","v":{"$error":"#N/A"}},"","","",{"$f":"IF(C50<>\"\",Data!$M601,\"\")","v":""},null,null,null,null,{"$f":"IF(Dashboard!$R$4=\"All\",Data!G601,IF(Data!K601=Dashboard!$R$4,Data!G601,NA()))","v":{"$error":"#N/A"}},"","","",{"$f":"IF(L50<>\"\",Data!$M601,\"\")","v":""},"Finance Director",null,null,null,{"$f":"IF(OR(Dashboard!$P$4=\"All\",Dashboard!$R$4=\"All\"),NA(),IF(OR(Data!K601<>Dashboard!$P$4,Data!K601<>Dashboard!$R$4),Data!G601,NA()))","v":101990.96564026357},null,null,"Israel",null,null,null,null,47,"Uruguay",35000,null,null,null,null,"ID0076",null,null,null,null,null,null,null,null,null,null,null,null,15000,1,null,null,null,null,null,null,null,null,null,null,null,null,null,null,null,null,null,null,null,"ID0076",null,null,null,15000]
[null,{"$f":"IF(Dashboard!$P$4=\"All\",Data!G602,IF(Data!K602=Dashboard!$P$4,Data!G602,NA()))","v":{"$error":"#N/A"}},"","","",{"$f":"IF(C51<>\"\",Data!$M602,\"\")","v":""},null,null,null,null,{"$f":"IF(Dashboard!$R$4=\"All\",Data!G602,IF(Data!K602=Dashboard!$R$4,Data!G602,NA()))","v":{"$error":"#N/A"}},"","","",{"$f":"IF(L51<>\"\",Data!$M602,\"\")","v":""},"Finance manager",null,null,null,{"$f":"IF(OR(Dashboard!$P$4=\"All\",Dashboard!$R$4=\"All\"),NA(),IF(OR(Data!K602<>Dashboard!$P$4,Data!K602<>Dashboard!$R$4),Data!G602,NA()))","v":6767.0083412281756},null,null,"Italy",null,null,null,null,48,"Poland",34210.345381590014,null,null,null,null,"ID0080",null,null,50000,1,null,null,null,null,null,null,null,null,null,null,null,null,null,null,null,null,null,null,null,null,null,null,null,null,null,null,null,null,null,"ID0080",null,50000]
[null,{"$f":"IF(Dashboard!$P$4=\"All\",Data!G603,IF(Data!K603=Dashboard!$P$4,Data!G603,NA()))","v":{"$error":"#N/A"}},"","","",{"$f":"IF(C52<>\"\",Data!$M603,\"\")","v":""},null,null,null,null,{"$f":"IF(Dashboard!$R$4=\"All\",Data!G603,IF(Data!K603=Dashboard!$R$4,Data!G603,NA()))","v":{"$error":"#N/A"}},"","","",{"$f":"IF(L52<>\"\",Data!$M603,\"\")","v":""},"financial accountant",null,null,null,{"$f":"IF(OR(Dashboard!$P$4=\"All\",Dashboard!$R$4=\"All\"),NA(),IF(OR(Data!K603<>Dashboard!$P$4,Data!K603<>Dashboard!$R$4),Data!G603,NA()))","v":30000},null,null,"Japan",null,null,null,null,49,"Portugal",32907.763410971675,null,null,null,null,"ID0083",null,null,null,null,null,null,150000,1,null,null,null,null,null,null,null,null,null,null,null,null,null,null,null,null,null,null,null,null,null,null,null,null,null,"ID0083",null,null,null,150000]
[null,{"$f":"IF(Dashboard!$P$4=\"All\",Data!G604,IF(Data!K604=Dashboard!$P$4,Data!G604,NA()))","v":{"$error":"#N/A"}},"","","",{"$f":"IF(C53<>\"\",Data!$M604,\"\")","v":""},null,null,null,null,{"$f":"IF(Dashboard!$R$4=\"All\",Data!G604,IF(Data!K604=Dashboard!$R$4,Data!G604,NA()))","v":{"$error":"#N/A"}},"","","",{"$f":"IF(L53<>\"\",Data!$M604,\"\")","v":""},"Financial Analyst",null,null,null,{"$f":"IF(OR(Dashboard!$P$4=\"All\",Dashboard!$R$4=\"All\"),NA(),IF(OR(Data!K604<>Dashboard!$P$4,Data!K604<>Dashboard!$R$4),Data!G604,NA()))","v":7479.3250087258784},null,null,"Kenya",null,null,null,null,50,"Dubai",32166.959188895635,null,null,null,null,"ID0084",null,null,120000,1,null,null,null,null,null,null,null,null,null,null,null,null,null,null,null,null,null,null,null,null,null,null,null,null,null,null,null,null,null,"ID0084",null,null,120000]
[null,{"$f":"IF(Dashboard!$P$4=\"All\",Data!G605,IF(Data!K605=Dashboard!$P$4,Data!G605,NA()))","v":{"$error":"#N/A"}},"","","",{"$f":"IF(C54<>\"\",Data!$M605,\"\")","v":""},null,null,null,null,{"$f":"IF(Dashboard!$R$4=\"All\",Data!G605,IF(Data!K605=Dashboard!$R$4,Data!G605,NA()))","v":{"$error":"#N/A"}},"","","",{"$f":"IF(L54<>\"\",Data!$M605,\"\")","v":""},"Financial Controller",null,null,null,{"$f":"IF(OR(Dashboard!$P$4=\"All\",Dashboard!$R$4=\"All\"),NA(),IF(OR(Data!K605<>Dashboard!$P$4,Data!K605<>Dashboard!$R$4),Data!G605,NA()))","v":61000},null,null,"Kuwait",null,null,null,null,51,"Mexico",32138.498288519273,null,null,null,null,"ID0087",null,null,null,null,null,null,null,null,110000,1,null,null,null,null,null,null,null,null,null,null,null,null,null,null,null,null,null,null,null,null,null,null,null,"ID0087",null,110000]
[null,{"$f":"IF(Dashboard!$P$4=\"All\",Data!G606,IF(Data!K606=Dashboard!$P$4,Data!G606,NA()))","v":{"$error":"#N/A"}},"","","",{"$f":"IF(C55<>\"\",Data!$M606,\"\")","v":""},null,null,null,null,{"$f":"IF(Dashboard!$R$4=\"All\",Data!G606,IF(Data!K606=Dashboard!$R$4,Data!G606,NA()))","v":{"$error":"#N/A"}},"","","",{"$f":"IF(L55<>\"\",Data!$M606,\"\")","v":""},"Financial Modeller",null,null,null,{"$f":"IF(OR(Dashboard!$P$4=\"All\",Dashboard!$R$4=\"All\"),NA(),IF(OR(Data!K606<>Dashboard!$P$4,Data!K606<>Dashboard!$R$4),Data!G606,NA()))","v":13800},null,null,"Kuwait ",null,null,null,null,52,"Greece",30066.120056134718,null,null,null,null,"ID0089",40000,1,null,null,null,null,null,null,null,null,null,null,null,null,null,null,null,null,null,null,null,null,null,null,null,null,null,null,null,null,null,null,null,"ID0089",null,null,40000]
[null,{"$f":"IF(Dashboard!$P$4=\"All\",Data!G607,IF(Data!K607=Dashboard!$P$4,Data!G607,NA()))","v":{"$error":"#N/A"}},"","","",{"$f":"IF(C56<>\"\",Data!$M607,\"\")","v":""},null,null,null,null,{"$f":"IF(Dashboard!$R$4=\"All\",Data!G607,IF(Data!K607=Dashboard!$R$4,Data!G607,NA()))","v":{"$error":"#N/A"}},"","","",{"$f":"IF(L56<>\"\",Data!$M607,\"\")","v":""},"Graduate Structural Engineer",null,null,null,{"$f":"IF(OR(Dashboard!$P$4=\"All\",Dashboard!$R$4=\"All\"),NA(),IF(OR(Data!K607<>Dashboard!$P$4,Data!K607<>Dashboard!$R$4),Data!G607,NA()))","v":15136.729184326183},null,null,"Latin America",null,null,null,null,53,"Indonesia",28872.83679733074,null,null,null,null,"ID0091",null,null,null,null,null,null,125000,1,null,null,null,null,null,null,null,null,null,null,null,null,null,null,null,null,null,null,null,null,null,null,null,null,null,"ID0091",null,null,125000]
[null,{"$f":"IF(Dashboard!$P$4=\"All\",Data!G608,IF(Data!K608=Dashboard!$P$4,Data!G608,NA()))","v":{"$error":"#N/A"}},"","","",{"$f":"IF(C57<>\"\",Data!$M608,\"\")","v":""},null,null,null,null,{"$f":"IF(Dashboard!$R$4=\"All\",Data!G608,IF(Data!K608=Dashboard!$R$4,Data!G608,NA()))","v":{"$error":"#N/A"}},"","","",{"$f":"IF(L57<>\"\",Data!$M608,\"\")","v":""},"Head of Finance",null,null,null,{"$f":"IF(OR(Dashboard!$P$4=\"All\",Dashboard!$R$4=\"All\"),NA(),IF(OR(Data!K608<>Dashboard!$P$4,Data!K608<>Dashboard!$R$4),Data!G608,NA()))","v":32054.250037396621},null,null,"Lesotho",null,null,null,null,54,"Costa Rica",28109.627547434993,null,null,null,null,"ID0092",null,null,36000,1,null,null,null,null,null,null,null,null,null,null,null,null,null,null,null,null,null,null,null,null,null,null,null,null,null,null,null,null,null,"ID0092",null,36000]
[null,{"$f":"IF(Dashboard!$P$4=\"All\",Data!G609,IF(Data!K609=Dashboard!$P$4,Data!G609,NA()))","v":{"$error":"#N/A"}},"","","",{"$f":"IF(C58<>\"\",Data!$M609,\"\")","v":""},null,null,null,null,{"$f":"IF(Dashboard!$R$4=\"All\",Data!G609,IF(Data!K609=Dashboard!$R$4,Data!G609,NA()))","v":{"$error":"#N/A"}},"","","",{"$f":"IF(L58<>\"\",Data!$M609,\"\")","v":""},"Health and safety advisor",null,null,null,{"$f":"IF(OR(Dashboard!$P$4=\"All\",Dashboard!$R$4=\"All\"),NA(),IF(OR(Data!K609<>Dashboard!$P$4,Data!K609<>Dashboard!$R$4),Data!G609,NA()))","v":80000},null,null,"Libya",null,null,null,null,55,"Libya",24864,null,null,null,null,"ID0094",75000,1,null,null,null,null,null,null,null,null,null,null,null,null,null,null,null,null,null,null,null,null,null,null,null,null,null,null,null,null,null,null,null,"ID0094",75000]
[null,{"$f":"IF(Dashboard!$P$4=\"All\",Data!G610,IF(Data!K610=Dashboard!$P$4,Data!G610,NA()))","v":{"$error":"#N/A"}},"","","",{"$f":"IF(C59<>\"\",Data!$M610,\"\")","v":""},null,null,null,null,{"$f":"IF(Dashboard!$R$4=\"All\",Data!G610,IF(Data!K610=Dashboard!$R$4,Data!G610,NA()))","v":{"$error":"#N/A"}},"","","",{"$f":"IF(L59<>\"\",Data!$M610,\"\")","v":""},"HR Advisor - Systems & MI",null,null,null,{"$f":"IF(OR(Dashboard!$P$4=\"All\",Dashboard!$R$4=\"All\"),NA(),IF(OR(Data!K610<>Dashboard!$P$4,Data!K610<>Dashboard!$R$4),Data!G610,NA()))","v":21000},null,null,"Lithuania",null,null,null,null,56,"Hungary",24716.347245901055,null,null,null,null,"ID0095",null,null,null,null,null,null,95000,1,null,null,null,null,null,null,null,null,null,null,null,null,null,null,null,null,null,null,null,null,null,null,null,null,null,"ID0095",null,null,95000]
[null,{"$f":"IF(Dashboard!$P$4=\"All\",Data!G611,IF(Data!K611=Dashboard!$P$4,Data!G611,NA()))","v":{"$error":"#N/A"}},"","","",{"$f":"IF(C60<>\"\",Data!$M611,\"\")","v":""},null,null,null,null,{"$f":"IF(Dashboard!$R$4=\"All\",Data!G611,IF(Data!K611=Dashboard!$R$4,Data!G611,NA()))","v":{"$error":"#N/A"}},"","","",{"$f":"IF(L60<>\"\",Data!$M611,\"\")","v":""},"ICT Technical Analyst",null,null,null,{"$f":"IF(OR(Dashboard!$P$4=\"All\",Dashboard!$R$4=\"All\"),NA(),IF(OR(Data!K611<>Dashboard!$P$4,Data!K611<>Dashboard!$R$4),Data!G611,NA()))","v":245840.3807575817},null,null,"Malaysia",null,null,null,null,57,"Mozambique",24000,null,null,null,null,"ID0096",null,null,24000,1,null,null,null,null,null,null,null,null,null,null,null,null,null,null,null,null,null,null,null,null,null,null,null,null,null,null,null,null,null,"ID0096",null,24000]
[null,{"$f":"IF(Dashboard!$P$4=\"All\",Data!G612,IF(Data!K612=Dashboard!$P$4,Data!G612,NA()))","v":{"$error":"#N/A"}},"","","",{"$f":"IF(C61<>\"\",Data!$M612,\"\")","v":""},null,null,null,null,{"$f":"IF(Dashboard!$R$4=\"All\",Data!G612,IF(Data!K612=Dashboard!$R$4,Data!G612,NA()))","v":{"$error":"#N/A"}},"","","",{"$f":"IF(L61<>\"\",Data!$M612,\"\")","v":""},"Infection Prevention Surveillance Specialist",null,null,null,{"$f":"IF(OR(Dashboard!$P$4=\"All\",Dashboard!$R$4=\"All\"),NA(),IF(OR(Data!K612<>Dashboard!$P$4,Data!K612<>Dashboard!$R$4),Data!G612,NA()))","v":2849.2666699908109},null,null,"Mauritius",null,null,null,null,58,"Argentina",24000,null,null,null,null,"ID0097",null,null,91000,1,null,null,null,null,null,null,null,null,null,null,null,null,null,null,null,null,null,null,null,null,null,null,null,null,null,null,null,null,null,"ID0097",91000]
[null,{"$f":"IF(Dashboard!$P$4=\"All\",Data!G613,IF(Data!K613=Dashboard!$P$4,Data!G613,NA()))","v":{"$error":"#N/A"}},"","","",{"$f":"IF(C62<>\"\",Data!$M613,\"\")","v":""},null,null,null,null,{"$f":"IF(Dashboard!$R$4=\"All\",Data!G613,IF(Data!K613=Dashboard!$R$4,Data!G613,NA()))","v":{"$error":"#N/A"}},"","","",{"$f":"IF(L62<>\"\",Data!$M613,\"\")","v":""},"Information Analyst",null,null,null,{"$f":"IF(OR(Dashboard!$P$4=\"All\",Dashboard!$R$4=\"All\"),NA(),IF(OR(Data!K613<>Dashboard!$P$4,Data!K613<>Dashboard!$R$4),Data!G613,NA()))","v":8400},null,null,"Mexico",null,null,null,null,59,"Malaysia",23371.616569936894,null,null,null,null,"ID0098",40000,1,null,null,null,null,null,null,null,null,null,null,null,null,null,null,null,null,null,null,null,null,null,null,null,null,null,null,null,null,null,null,null,"ID0098",null,null,40000]
[null,{"$f":"IF(Dashboard!$P$4=\"All\",Data!G614,IF(Data!K614=Dashboard!$P$4,Data!G614,NA()))","v":{"$error":"#N/A"}},"","","",{"$f":"IF(C63<>\"\",Data!$M614,\"\")","v":""},null,null,null,null,{"$f":"IF(Dashboard!$R$4=\"All\",Data!G614,IF(Data!K614=Dashboard!$R$4,Data!G614,NA()))","v":{"$error":"#N/A"}},"","","",{"$f":"IF(L63<>\"\",Data!$M614,\"\")","v":""},"investment accountant",null,null,null,{"$f":"IF(OR(Dashboard!$P$4=\"All\",Dashboard!$R$4=\"All\"),NA(),IF(OR(Data!K614<>Dashboard!$P$4,Data!K614<>Dashboard!$R$4),Data!G614,NA()))","v":86692.320794224041},null,null,"Mongolia",null,null,null,null,60,"Sri Lanka",22921.154792448855,null,null,null,null,"ID0099",null,null,57000,1,null,null,null,null,null,null,null,null,null,null,null,null,null,null,null,null,null,null,null,null,null,null,null,null,null,null,null,null,null,"ID0099",null,null,57000]
[null,{"$f":"IF(Dashboard!$P$4=\"All\",Data!G615,IF(Data!K615=Dashboard!$P$4,Data!G615,NA()))","v":{"$error":"#N/A"}},"","","",{"$f":"IF(C64<>\"\",Data!$M615,\"\")","v":""},null,null,null,null,{"$f":"IF(Dashboard!$R$4=\"All\",Data!G615,IF(Data!K615=Dashboard!$R$4,Data!G615,NA()))","v":{"$error":"#N/A"}},"","","",{"$f":"IF(L64<>\"\",Data!$M615,\"\")","v":""},"IT consultant",null,null,null,{"$f":"IF(OR(Dashboard!$P$4=\"All\",Dashboard!$R$4=\"All\"),NA(),IF(OR(Data!K615<>Dashboard!$P$4,Data!K615<>Dashboard!$R$4),Data!G615,NA()))","v":50000},null,null,"Montenegro",null,null,null,null,61,"Arabian Gulf",21000,null,null,null,null,"ID0100",null,null,null,null,null,null,null,null,null,null,null,null,74000,1,null,null,null,null,null,null,null,null,null,null,null,null,null,null,null,null,null,null,null,"ID0100",null,null,74000]
[null,{"$f":"IF(Dashboard!$P$4=\"All\",Data!G616,IF(Data!K616=Dashboard!$P$4,Data!G616,NA()))","v":{"$error":"#N/A"}},"","","",{"$f":"IF(C65<>\"\",Data!$M616,\"\")","v":""},null,null,null,null,{"$f":"IF(Dashboard!$R$4=\"All\",Data!G616,IF(Data!K616=Dashboard!$R$4,Data!G616,NA()))","v":{"$error":"#N/A"}},"","","",{"$f":"IF(L65<>\"\",Data!$M616,\"\")","v":""},"IT Project Manager, EMEA",null,null,null,{"$f":"IF(OR(Dashboard!$P$4=\"All\",Dashboard!$R$4=\"All\"),NA(),IF(OR(Data!K616<>Dashboard!$P$4,Data!K616<>Dashboard!$R$4),Data!G616,NA()))","v":4000},null,null,"Morocco",null,null,null,null,62,"Albania",20571,null,null,null,null,"ID0101",80000,1,null,null,null,null,null,null,null,null,null,null,null,null,null,null,null,null,null,null,null,null,null,null,null,null,null,null,null,null,null,null,null,"ID0101",null,null,80000]
[null,{"$f":"IF(Dashboard!$P$4=\"All\",Data!G617,IF(Data!K617=Dashboard!$P$4,Data!G617,NA()))","v":{"$error":"#N/A"}},"","","",{"$f":"IF(C66<>\"\",Data!$M617,\"\")","v":""},null,null,null,null,{"$f":"IF(Dashboard!$R$4=\"All\",Data!G617,IF(Data!K617=Dashboard!$R$4,Data!G617,NA()))","v":{"$error":"#N/A"}},"","","",{"$f":"IF(L66<>\"\",Data!$M617,\"\")","v":""},"Job Build analyst",null,null,null,{"$f":"IF(OR(Dashboard!$P$4=\"All\",Dashboard!$R$4=\"All\"),NA(),IF(OR(Data!K617<>Dashboard!$P$4,Data!K617<>Dashboard!$R$4),Data!G617,NA()))","v":101990.96564026357},null,null,"Mozambique",null,null,null,null,63,"Paraguay",20000,null,null,null,null,"ID0102",null,null,null,null,null,null,null,null,null,null,90000,1,null,null,null,null,null,null,null,null,null,null,null,null,null,null,null,null,null,null,null,null,null,"ID0102",null,null,90000]
[null,{"$f":"IF(Dashboard!$P$4=\"All\",Data!G618,IF(Data!K618=Dashboard!$P$4,Data!G618,NA()))","v":{"$error":"#N/A"}},"","","",{"$f":"IF(C67<>\"\",Data!$M618,\"\")","v":""},null,null,null,null,{"$f":"IF(Dashboard!$R$4=\"All\",Data!G618,IF(Data!K618=Dashboard!$R$4,Data!G618,NA()))","v":{"$error":"#N/A"}},"","","",{"$f":"IF(L67<>\"\",Data!$M618,\"\")","v":""},"LOGISTIC MANAGER",null,null,null,{"$f":"IF(OR(Dashboard!$P$4=\"All\",Dashboard!$R$4=\"All\"),NA(),IF(OR(Data!K618<>Dashboard!$P$4,Data!K618<>Dashboard!$R$4),Data!G618,NA()))","v":95000},null,null,"Myanmar",null,null,null,null,64,"Hong Kong",20000,null,null,null,null,"ID0104",null,null,52000,1,null,null,null,null,null,null,null,null,null,null,null,null,null,null,null,null,null,null,null,null,null,null,null,null,null,null,null,null,null,"ID0104",null,null,52000]
[null,{"$f":"IF(Dashboard!$P$4=\"All\",Data!G619,IF(Data!K619=Dashboard!$P$4,Data!G619,NA()))","v":{"$error":"#N/A"}},{"$f":"IF(ISNA(B68),\"\",B68)","v":""},{"$f":"IF(C68>=PERCENTILE($C$3:$C$1337,0.9),C68,\"\")","v":""},{"$f":"IF(C68<=PERCENTILE($C$3:$C$1337,0.1),C68,\"\")","v":""},{"$f":"IF(C68<>\"\",Data!$M619,\"\")","v":""},null,null,null,null,{"$f":"IF(Dashboard!$R$4=\"All\",Data!G619,IF(Data!K619=Dashboard!$R$4,Data!G619,NA()))","v":{"$error":"#N/A"}},{"$f":"IF(ISNA(K68),\"\",K68)","v":""},{"$f":"IF(L68>=PERCENTILE($L$3:$L$1337,0.9),L68,\"\")","v":""},{"$f":"IF(L68<=PERCENTILE($L$3:$L$1337,0.1),L68,\"\")","v":""},{"$f":"IF(L68<>\"\",Data!$M619,\"\")","v":""},"management accountant",null,null,null,{"$f":"IF(OR(Dashboard!$P$4=\"All\",Dashboard!$R$4=\"All\"),NA(),IF(OR(Data!K619<>Dashboard!$P$4,Data!K619<>Dashboard!$R$4),Data!G619,NA()))","v":10000},null,null,"Netherlands",null,null,null,null,65,"Egypt",19831.432821021317,null,null,null,null,"ID0106",36000,1,null,null,null,null,null,null,null,null,null,null,null,null,null,null,null,null,null,null,null,null,null,null,null,null,null,null,null,null,null,null,null,"ID0106",null,null,36000]
[null,{"$f":"IF(Dashboard!$P$4=\"All\",Data!G620,IF(Data!K620=Dashboard!$P$4,Data!G620,NA()))","v":{"$error":"#N/A"}},"","","",{"$f":"IF(C69<>\"\",Data!$M620,\"\")","v":""},null,null,null,null,{"$f":"IF(Dashboard!$R$4=\"All\",Data!G620,IF(Data!K620=Dashboard!$R$4,Data!G620,NA()))","v":{"$error":"#N/A"}},"","","",{"$f":"IF(L69<>\"\",Data!$M620,\"\")","v":""},"Management Consultant",null,null,null,{"$f":"IF(OR(Dashboard!$P$4=\"All\",Dashboard!$R$4=\"All\"),NA(),IF(OR(Data!K620<>Dashboard!$P$4,Data!K620<>Dashboard!$R$4),Data!G620,NA()))","v":4200},null,null,"New Zealand",null,null,null,null,66,"Slovenia",19055.991584874118,null,null,null,null,"ID0107",57400,1,null,null,null,null,null,null,null,null,null,null,null,null,null,null,null,null,null,null,null,null,null,null,null,null,null,null,null,null,null,null,null,"ID0107",null,null,57400]
[null,{"$f":"IF(Dashboard!$P$4=\"All\",Data!G621,IF(Data!K621=Dashboard!$P$4,Data!G621,NA()))","v":{"$error":"#N/A"}},"","","",{"$f":"IF(C70<>\"\",Data!$M621,\"\")","v":""},null,null,null,null,{"$f":"IF(Dashboard!$R$4=\"All\",Data!G621,IF(Data!K621=Dashboard!$R$4,Data!G621,NA()))","v":{"$error":"#N/A"}},"","","",{"$f":"IF(L70<>\"\",Data!$M621,\"\")","v":""},"Management Information Analyst",null,null,null,{"$f":"IF(OR(Dashboard!$P$4=\"All\",Dashboard!$R$4=\"All\"),NA(),IF(OR(Data!K621<>Dashboard!$P$4,Data!K621<>Dashboard!$R$4),Data!G621,NA()))","v":12821.700014958649},null,null,"Nigeria",null,null,null,null,{"$f":"AB69+1","v":67},"Ghana",18000,null,null,null,null,"ID0108",66000,1,null,null,null,null,null,null,null,null,null,null,null,null,null,null,null,null,null,null,null,null,null,null,null,null,null,null,null,null,null,null,null,"ID0108",null,66000]
[null,{"$f":"IF(Dashboard!$P$4=\"All\",Data!G622,IF(Data!K622=Dashboard!$P$4,Data!G622,NA()))","v":{"$error":"#N/A"}},"","","",{"$f":"IF(C71<>\"\",Data!$M622,\"\")","v":""},null,null,null,null,{"$f":"IF(Dashboard!$R$4=\"All\",Data!G622,IF(Data!K622=Dashboard!$R$4,Data!G622,NA()))","v":{"$error":"#N/A"}},"","","",{"$f":"IF(L71<>\"\",Data!$M622,\"\")","v":""},"Manager",null,null,null,{"$f":"IF(OR(Dashboard!$P$4=\"All\",Dashboard!$R$4=\"All\"),NA(),IF(OR(Data!K622<>Dashboard!$P$4,Data!K622<>Dashboard!$R$4),Data!G622,NA()))","v":39000},null,null,"Norway",null,null,null,null,68,"Iran",18000,null,null,null,null,"ID0111",85000,1,null,null,null,null,null,null,null,null,null,null,null,null,null,null,null,null,null,null,null,null,null,null,null,null,null,null,null,null,null,null,null,"ID0111",null,null,85000]
[null,{"$f":"IF(Dashboard!$P$4=\"All\",Data!G623,IF(Data!K623=Dashboard!$P$4,Data!G623,NA()))","v":{"$error":"#N/A"}},"","","",{"$f":"IF(C72<>\"\",Data!$M623,\"\")","v":""},null,null,null,null,{"$f":"IF(Dashboard!$R$4=\"All\",Data!G623,IF(Data!K623=Dashboard!$R$4,Data!G623,NA()))","v":{"$error":"#N/A"}},"","","",{"$f":"IF(L72<>\"\",Data!$M623,\"\")","v":""},"Managing Director",null,null,null,{"$f":"IF(OR(Dashboard!$P$4=\"All\",Dashboard!$R$4=\"All\"),NA(),IF(OR(Data!K623<>Dashboard!$P$4,Data!K623<>Dashboard!$R$4),Data!G623,NA()))","v":60000},null,null,"Oman",null,null,null,null,69,"Myanmar",17700,null,null,null,null,"ID0112",null,null,null,null,null,null,null,null,null,null,50000,1,null,null,null,null,null,null,null,null,null,null,null,null,null,null,null,null,null,null,null,null,null,"ID0112",null,null,50000]
[null,{"$f":"IF(Dashboard!$P$4=\"All\",Data!G624,IF(Data!K624=Dashboard!$P$4,Data!G624,NA()))","v":{"$error":"#N/A"}},"","","",{"$f":"IF(C73<>\"\",Data!$M624,\"\")","v":""},null,null,null,null,{"$f":"IF(Dashboard!$R$4=\"All\",Data!G624,IF(Data!K624=Dashboard!$R$4,Data!G624,NA()))","v":{"$error":"#N/A"}},"","","",{"$f":"IF(L73<>\"\",Data!$M624,\"\")","v":""},"Managing Partner",null,null,null,{"$f":"IF(OR(Dashboard!$P$4=\"All\",Dashboard!$R$4=\"All\"),NA(),IF(OR(Data!K624<>Dashboard!$P$4,Data!K624<>Dashboard!$R$4),Data!G624,NA()))","v":173384.64158844808},null,null,"Pakistan",null,null,null,null,70,"Philippines",17479.292364753517,null,null,null,null,"ID0113",null,null,58000,1,null,null,null,null,null,null,null,null,null,null,null,null,null,null,null,null,null,null,null,null,null,null,null,null,null,null,null,null,null,"ID0113",null,null,58000]
[null,{"$f":"IF(Dashboard!$P$4=\"All\",Data!G625,IF(Data!K625=Dashboard!$P$4,Data!G625,NA()))","v":{"$error":"#N/A"}},"","","",{"$f":"IF(C74<>\"\",Data!$M625,\"\")","v":""},null,null,null,null,{"$f":"IF(Dashboard!$R$4=\"All\",Data!G625,IF(Data!K625=Dashboard!$R$4,Data!G625,NA()))","v":{"$error":"#N/A"}},"","","",{"$f":"IF(L74<>\"\",Data!$M625,\"\")","v":""},"Manufacturing consultant",null,null,null,{"$f":"IF(OR(Dashboard!$P$4=\"All\",Dashboard!$R$4=\"All\"),NA(),IF(OR(Data!K625<>Dashboard!$P$4,Data!K625<>Dashboard!$R$4),Data!G625,NA()))","v":125000},null,null,"Panama",null,null,null,null,71,"China",17046.090103460039,null,null,null,null,"ID0114",null,null,null,null,37900,1,null,null,null,null,null,null,null,null,null,null,null,null,null,null,null,null,null,null,null,null,null,null,null,null,null,null,null,"ID0114",null,null,null,37900]
[null,{"$f":"IF(Dashboard!$P$4=\"All\",Data!G626,IF(Data!K626=Dashboard!$P$4,Data!G626,NA()))","v":{"$error":"#N/A"}},"","","",{"$f":"IF(C75<>\"\",Data!$M626,\"\")","v":""},null,null,null,null,{"$f":"IF(Dashboard!$R$4=\"All\",Data!G626,IF(Data!K626=Dashboard!$R$4,Data!G626,NA()))","v":{"$error":"#N/A"}},"","","",{"$f":"IF(L75<>\"\",Data!$M626,\"\")","v":""},"Market Analyst",null,null,null,{"$f":"IF(OR(Dashboard!$P$4=\"All\",Dashboard!$R$4=\"All\"),NA(),IF(OR(Data!K626<>Dashboard!$P$4,Data!K626<>Dashboard!$R$4),Data!G626,NA()))","v":79552.953199405587},null,null,"Paraguay",null,null,null,null,72,"Romania",16449.976756585475,null,null,null,null,"ID0116",67000,1,null,null,null,null,null,null,null,null,null,null,null,null,null,null,null,null,null,null,null,null,null,null,null,null,null,null,null,null,null,null,null,"ID0116",null,null,67000]
[null,{"$f":"IF(Dashboard!$P$4=\"All\",Data!G627,IF(Data!K627=Dashboard!$P$4,Data!G627,NA()))","v":{"$error":"#N/A"}},"","","",{"$f":"IF(C76<>\"\",Data!$M627,\"\")","v":""},null,null,null,null,{"$f":"IF(Dashboard!$R$4=\"All\",Data!G627,IF(Data!K627=Dashboard!$R$4,Data!G627,NA()))","v":{"$error":"#N/A"}},"","","",{"$f":"IF(L76<>\"\",Data!$M627,\"\")","v":""},"MDM Executive (Business Analyst)",null,null,null,{"$f":"IF(OR(Dashboard!$P$4=\"All\",Dashboard!$R$4=\"All\"),NA(),IF(OR(Data!K627<>Dashboard!$P$4,Data!K627<>Dashboard!$R$4),Data!G627,NA()))","v":3561.5833374885137},null,null,"Peru",null,null,null,null,73,"Peru",15840,null,null,null,null,"ID0118",56160,1,null,null,null,null,null,null,null,null,null,null,null,null,null,null,null,null,null,null,null,null,null,null,null,null,null,null,null,null,null,null,null,"ID0118",null,null,56160]
[null,{"$f":"IF(Dashboard!$P$4=\"All\",Data!G628,IF(Data!K628=Dashboard!$P$4,Data!G628,NA()))","v":{"$error":"#N/A"}},"","","",{"$f":"IF(C77<>\"\",Data!$M628,\"\")","v":""},null,null,null,null,{"$f":"IF(Dashboard!$R$4=\"All\",Data!G628,IF(Data!K628=Dashboard!$R$4,Data!G628,NA()))","v":{"$error":"#N/A"}},"","","",{"$f":"IF(L77<>\"\",Data!$M628,\"\")","v":""},"Mgmt Accountant",null,null,null,{"$f":"IF(OR(Dashboard!$P$4=\"All\",Dashboard!$R$4=\"All\"),NA(),IF(OR(Data!K628<>Dashboard!$P$4,Data!K628<>Dashboard!$R$4),Data!G628,NA()))","v":80000},null,null,"Philippines",null,null,null,null,74,"Kuwait ",15600,null,null,null,null,"ID0120",52000,1,null,null,null,null,null,null,null,null,null,null,null,null,null,null,null,null,null,null,null,null,null,null,null,null,null,null,null,null,null,null,null,"ID0120",null,null,null,null,52000]
[null,{"$f":"IF(Dashboard!$P$4=\"All\",Data!G629,IF(Data!K629=Dashboard!$P$4,Data!G629,NA()))","v":{"$error":"#N/A"}},"","","",{"$f":"IF(C78<>\"\",Data!$M629,\"\")","v":""},null,null,null,null,{"$f":"IF(Dashboard!$R$4=\"All\",Data!G629,IF(Data!K629=Dashboard!$R$4,Data!G629,NA()))","v":{"$error":"#N/A"}},"","","",{"$f":"IF(L78<>\"\",Data!$M629,\"\")","v":""},"MI Analyst",null,null,null,{"$f":"IF(OR(Dashboard!$P$4=\"All\",Dashboard!$R$4=\"All\"),NA(),IF(OR(Data!K629<>Dashboard!$P$4,Data!K629<>Dashboard!$R$4),Data!G629,NA()))","v":10684.750012465542},null,null,"Poland",null,null,null,null,75,"Lithuania",15000,null,null,null,null,"ID0122",null,null,null,null,70000,1,null,null,null,null,null,null,null,null,null,null,null,null,null,null,null,null,null,null,null,null,null,null,null,null,null,null,null,"ID0122",null,null,null,70000]
[null,{"$f":"IF(Dashboard!$P$4=\"All\",Data!G630,IF(Data!K630=Dashboard!$P$4,Data!G630,NA()))","v":{"$error":"#N/A"}},"","","",{"$f":"IF(C79<>\"\",Data!$M630,\"\")","v":""},null,null,null,null,{"$f":"IF(Dashboard!$R$4=\"All\",Data!G630,IF(Data!K630=Dashboard!$R$4,Data!G630,NA()))","v":{"$error":"#N/A"}},"","","",{"$f":"IF(L79<>\"\",Data!$M630,\"\")","v":""},"MI Specialist",null,null,null,{"$f":"IF(OR(Dashboard!$P$4=\"All\",Dashboard!$R$4=\"All\"),NA(),IF(OR(Data!K630<>Dashboard!$P$4,Data!K630<>Dashboard!$R$4),Data!G630,NA()))","v":5342.3750062327708},null,null,"Portugal",null,null,null,null,76,"Bulgaria",14400,null,null,null,null,"ID0123",null,null,null,null,null,null,null,null,null,null,50000,1,null,null,null,null,null,null,null,null,null,null,null,null,null,null,null,null,null,null,null,null,null,"ID0123",null,null,50000]
[null,{"$f":"IF(Dashboard!$P$4=\"All\",Data!G631,IF(Data!K631=Dashboard!$P$4,Data!G631,NA()))","v":{"$error":"#N/A"}},"","","",{"$f":"IF(C80<>\"\",Data!$M631,\"\")","v":""},null,null,null,null,{"$f":"IF(Dashboard!$R$4=\"All\",Data!G631,IF(Data!K631=Dashboard!$R$4,Data!G631,NA()))","v":{"$error":"#N/A"}},"","","",{"$f":"IF(L80<>\"\",Data!$M631,\"\")","v":""},"Modeller",null,null,null,{"$f":"IF(OR(Dashboard!$P$4=\"All\",Dashboard!$R$4=\"All\"),NA(),IF(OR(Data!K631<>Dashboard!$P$4,Data!K631<>Dashboard!$R$4),Data!G631,NA()))","v":71231.666749770273},null,null,"Qatar",null,null,null,null,77,"Morocco",13745.704467353951,null,null,null,null,"ID0125",80000,1,null,null,null,null,null,null,null,null,null,null,null,null,null,null,null,null,null,null,null,null,null,null,null,null,null,null,null,null,null,null,null,"ID0125",null,null,80000]
[null,{"$f":"IF(Dashboard!$P$4=\"All\",Data!G632,IF(Data!K632=Dashboard!$P$4,Data!G632,NA()))","v":{"$error":"#N/A"}},"","","",{"$f":"IF(C81<>\"\",Data!$M632,\"\")","v":""},null,null,null,null,{"$f":"IF(Dashboard!$R$4=\"All\",Data!G632,IF(Data!K632=Dashboard!$R$4,Data!G632,NA()))","v":{"$error":"#N/A"}},"","","",{"$f":"IF(L81<>\"\",Data!$M632,\"\")","v":""},"Network Administrator",null,null,null,{"$f":"IF(OR(Dashboard!$P$4=\"All\",Dashboard!$R$4=\"All\"),NA(),IF(OR(Data!K632<>Dashboard!$P$4,Data!K632<>Dashboard!$R$4),Data!G632,NA()))","v":80135.625093491559},null,null,"Republic of Georgia",null,null,null,null,78,"India",13529.430894182482,null,null,null,null,"ID0126",null,null,128000,1,null,null,null,null,null,null,null,null,null,null,null,null,null,null,null,null,null,null,null,null,null,null,null,null,null,null,null,null,null,"ID0126",null,null,null,128000]
[null,{"$f":"IF(Dashboard!$P$4=\"All\",Data!G633,IF(Data!K633=Dashboard!$P$4,Data!G633,NA()))","v":{"$error":"#N/A"}},"","","",{"$f":"IF(C82<>\"\",Data!$M633,\"\")","v":""},null,null,null,null,{"$f":"IF(Dashboard!$R$4=\"All\",Data!G633,IF(Data!K633=Dashboard!$R$4,Data!G633,NA()))","v":{"$error":"#N/A"}},"","","",{"$f":"IF(L82<>\"\",Data!$M633,\"\")","v":""},"Network Designer",null,null,null,{"$f":"IF(OR(Dashboard!$P$4=\"All\",Dashboard!$R$4=\"All\"),NA(),IF(OR(Data!K633<>Dashboard!$P$4,Data!K633<>Dashboard!$R$4),Data!G633,NA()))","v":54084.883766667976},null,null,"Romania",null,null,null,null,79,"Montenegro",13500,null,null,null,null,"ID0127",null,null,44000,1,null,null,null,null,null,null,null,null,null,null,null,null,null,null,null,null,null,null,null,null,null,null,null,null,null,null,null,null,null,"ID0127",44000]
[null,{"$f":"IF(Dashboard!$P$4=\"All\",Data!G634,IF(Data!K634=Dashboard!$P$4,Data!G634,NA()))","v":{"$error":"#N/A"}},"","","",{"$f":"IF(C83<>\"\",Data!$M634,\"\")","v":""},null,null,null,null,{"$f":"IF(Dashboard!$R$4=\"All\",Data!G634,IF(Data!K634=Dashboard!$R$4,Data!G634,NA()))","v":{"$error":"#N/A"}},"","","",{"$f":"IF(L83<>\"\",Data!$M634,\"\")","v":""},"Operations Analyst",null,null,null,{"$f":"IF(OR(Dashboard!$P$4=\"All\",Dashboard!$R$4=\"All\"),NA(),IF(OR(Data!K634<>Dashboard!$P$4,Data!K634<>Dashboard!$R$4),Data!G634,NA()))","v":53000},null,null,"Russia",null,null,null,null,80,"Nigeria",13494.896250642014,null,null,null,null,"ID0128",null,null,null,null,65000,1,null,null,null,null,null,null,null,null,null,null,null,null,null,null,null,null,null,null,null,null,null,null,null,null,null,null,null,"ID0128",null,null,null,65000]
[null,{"$f":"IF(Dashboard!$P$4=\"All\",Data!G635,IF(Data!K635=Dashboard!$P$4,Data!G635,NA()))","v":{"$error":"#N/A"}},"","","",{"$f":"IF(C84<>\"\",Data!$M635,\"\")","v":""},null,null,null,null,{"$f":"IF(Dashboard!$R$4=\"All\",Data!G635,IF(Data!K635=Dashboard!$R$4,Data!G635,NA()))","v":{"$error":"#N/A"}},"","","",{"$f":"IF(L84<>\"\",Data!$M635,\"\")","v":""},"Ops Adminstrator",null,null,null,{"$f":"IF(OR(Dashboard!$P$4=\"All\",Dashboard!$R$4=\"All\"),NA(),IF(OR(Data!K635<>Dashboard!$P$4,Data!K635<>Dashboard!$R$4),Data!G635,NA()))","v":5342.3750062327708},null,null,"Saudi Arabia",null,null,null,null,81,"Slovakia",13000,null,null,null,null,"ID0132",45000,1,null,null,null,null,null,null,null,null,null,null,null,null,null,null,null,null,null,null,null,null,null,null,null,null,null,null,null,null,null,null,null,"ID0132",null,null,45000]
[null,{"$f":"IF(Dashboard!$P$4=\"All\",Data!G636,IF(Data!K636=Dashboard!$P$4,Data!G636,NA()))","v":{"$error":"#N/A"}},"","","",{"$f":"IF(C85<>\"\",Data!$M636,\"\")","v":""},null,null,null,null,{"$f":"IF(Dashboard!$R$4=\"All\",Data!G636,IF(Data!K636=Dashboard!$R$4,Data!G636,NA()))","v":{"$error":"#N/A"}},"","","",{"$f":"IF(L85<>\"\",Data!$M636,\"\")","v":""},"Owner of Business Improvement Consultancy",null,null,null,{"$f":"IF(OR(Dashboard!$P$4=\"All\",Dashboard!$R$4=\"All\"),NA(),IF(OR(Data!K636<>Dashboard!$P$4,Data!K636<>Dashboard!$R$4),Data!G636,NA()))","v":7123.1666749770275},null,null,"self-employed",null,null,null,null,82,"Zambia",13000,null,null,null,null,"ID0133",54000,1,null,null,null,null,null,null,null,null,null,null,null,null,null,null,null,null,null,null,null,null,null,null,null,null,null,null,null,null,null,null,null,"ID0133",null,54000]
[null,{"$f":"IF(Dashboard!$P$4=\"All\",Data!G637,IF(Data!K637=Dashboard!$P$4,Data!G637,NA()))","v":{"$error":"#N/A"}},"","","",{"$f":"IF(C86<>\"\",Data!$M637,\"\")","v":""},null,null,null,null,{"$f":"IF(Dashboard!$R$4=\"All\",Data!G637,IF(Data!K637=Dashboard!$R$4,Data!G637,NA()))","v":{"$error":"#N/A"}},"","","",{"$f":"IF(L86<>\"\",Data!$M637,\"\")","v":""},"Planning & Scheduling Manager",null,null,null,{"$f":"IF(OR(Dashboard!$P$4=\"All\",Dashboard!$R$4=\"All\"),NA(),IF(OR(Data!K637<>Dashboard!$P$4,Data!K637<>Dashboard!$R$4),Data!G637,NA()))","v":10684.750012465542},null,null,"Singapore",null,null,null,null,83,"Colombia",12362,null,null,null,null,"ID0135",71000,1,null,null,null,null,null,null,null,null,null,null,null,null,null,null,null,null,null,null,null,null,null,null,null,null,null,null,null,null,null,null,null,"ID0135",null,null,71000]
[null,{"$f":"IF(Dashboard!$P$4=\"All\",Data!G638,IF(Data!K638=Dashboard!$P$4,Data!G638,NA()))","v":{"$error":"#N/A"}},"","","",{"$f":"IF(C87<>\"\",Data!$M638,\"\")","v":""},null,null,null,null,{"$f":"IF(Dashboard!$R$4=\"All\",Data!G638,IF(Data!K638=Dashboard!$R$4,Data!G638,NA()))","v":{"$error":"#N/A"}},"","","",{"$f":"IF(L87<>\"\",Data!$M638,\"\")","v":""},"Policy, Performance and Research Officer",null,null,null,{"$f":"IF(OR(Dashboard!$P$4=\"All\",Dashboard!$R$4=\"All\"),NA(),IF(OR(Data!K638<>Dashboard!$P$4,Data!K638<>Dashboard!$R$4),Data!G638,NA()))","v":4000},null,null,"Slovakia",null,null,null,null,84,"Estonia",12000,null,null,null,null,"ID0139",40000,1,null,null,null,null,null,null,null,null,null,null,null,null,null,null,null,null,null,null,null,null,null,null,null,null,null,null,null,null,null,null,null,"ID0139",null,null,40000]
[null,{"$f":"IF(Dashboard!$P$4=\"All\",Data!G639,IF(Data!K639=Dashboard!$P$4,Data!G639,NA()))","v":{"$error":"#N/A"}},"","","",{"$f":"IF(C88<>\"\",Data!$M639,\"\")","v":""},null,null,null,null,{"$f":"IF(Dashboard!$R$4=\"All\",Data!G639,IF(Data!K639=Dashboard!$R$4,Data!G639,NA()))","v":{"$error":"#N/A"}},"","","",{"$f":"IF(L88<>\"\",Data!$M639,\"\")","v":""},"pricing manager",null,null,null,{"$f":"IF(OR(Dashboard!$P$4=\"All\",Dashboard!$R$4=\"All\"),NA(),IF(OR(Data!K639<>Dashboard!$P$4,Data!K639<>Dashboard!$R$4),Data!G639,NA()))","v":8000},null,null,"Slovenia",null,null,null,null,85,"Asia",12000,null,null,null,null,"ID0142",53000,1,null,null,null,null,null,null,null,null,null,null,null,null,null,null,null,null,null,null,null,null,null,null,null,null,null,null,null,null,null,null,null,"ID0142",null,null,53000]
[null,{"$f":"IF(Dashboard!$P$4=\"All\",Data!G640,IF(Data!K640=Dashboard!$P$4,Data!G640,NA()))","v":{"$error":"#N/A"}},"","","",{"$f":"IF(C89<>\"\",Data!$M640,\"\")","v":""},null,null,null,null,{"$f":"IF(Dashboard!$R$4=\"All\",Data!G640,IF(Data!K640=Dashboard!$R$4,Data!G640,NA()))","v":{"$error":"#N/A"}},"","","",{"$f":"IF(L89<>\"\",Data!$M640,\"\")","v":""},"Process Analyst",null,null,null,{"$f":"IF(OR(Dashboard!$P$4=\"All\",Dashboard!$R$4=\"All\"),NA(),IF(OR(Data!K640<>Dashboard!$P$4,Data!K640<>Dashboard!$R$4),Data!G640,NA()))","v":2671.1875031163854},null,null,"Somalia",null,null,null,null,86,"Pakistan",11873.552586779413,null,null,null,null,"ID0143",null,null,null,null,null,null,104000,1,null,null,null,null,null,null,null,null,null,null,null,null,null,null,null,null,null,null,null,null,null,null,null,null,null,"ID0143",null,104000]
[null,{"$f":"IF(Dashboard!$P$4=\"All\",Data!G641,IF(Data!K641=Dashboard!$P$4,Data!G641,NA()))","v":{"$error":"#N/A"}},"","","",{"$f":"IF(C90<>\"\",Data!$M641,\"\")","v":""},null,null,null,null,{"$f":"IF(Dashboard!$R$4=\"All\",Data!G641,IF(Data!K641=Dashboard!$R$4,Data!G641,NA()))","v":{"$error":"#N/A"}},"","","",{"$f":"IF(L90<>\"\",Data!$M641,\"\")","v":""},"Procurement manager",null,null,null,{"$f":"IF(OR(Dashboard!$P$4=\"All\",Dashboard!$R$4=\"All\"),NA(),IF(OR(Data!K641<>Dashboard!$P$4,Data!K641<>Dashboard!$R$4),Data!G641,NA()))","v":14246.333349954055},null,null,"South Africa",null,null,null,null,87,"Ukraine",11650,null,null,null,null,"ID0144",null,null,null,null,null,null,null,null,57000,1,null,null,null,null,null,null,null,null,null,null,null,null,null,null,null,null,null,null,null,null,null,null,null,"ID0144",null,null,57000]
[null,{"$f":"IF(Dashboard!$P$4=\"All\",Data!G642,IF(Data!K642=Dashboard!$P$4,Data!G642,NA()))","v":{"$error":"#N/A"}},"","","",{"$f":"IF(C91<>\"\",Data!$M642,\"\")","v":""},null,null,null,null,{"$f":"IF(Dashboard!$R$4=\"All\",Data!G642,IF(Data!K642=Dashboard!$R$4,Data!G642,NA()))","v":{"$error":"#N/A"}},"","","",{"$f":"IF(L91<>\"\",Data!$M642,\"\")","v":""},"Production Manager",null,null,null,{"$f":"IF(OR(Dashboard!$P$4=\"All\",Dashboard!$R$4=\"All\"),NA(),IF(OR(Data!K642<>Dashboard!$P$4,Data!K642<>Dashboard!$R$4),Data!G642,NA()))","v":8547.8000099724322},null,null,"Spain",null,null,null,null,88,"Dominican Republic",11016.682284980743,null,null,null,null,"ID0145",45000,1,null,null,null,null,null,null,null,null,null,null,null,null,null,null,null,null,null,null,null,null,null,null,null,null,null,null,null,null,null,null,null,"ID0145",null,45000]
[null,{"$f":"IF(Dashboard!$P$4=\"All\",Data!G643,IF(Data!K643=Dashboard!$P$4,Data!G643,NA()))","v":{"$error":"#N/A"}},"","","",{"$f":"IF(C92<>\"\",Data!$M643,\"\")","v":""},null,null,null,null,{"$f":"IF(Dashboard!$R$4=\"All\",Data!G643,IF(Data!K643=Dashboard!$R$4,Data!G643,NA()))","v":{"$error":"#N/A"}},"","","",{"$f":"IF(L92<>\"\",Data!$M643,\"\")","v":""},"Project manager",null,null,null,{"$f":"IF(OR(Dashboard!$P$4=\"All\",Dashboard!$R$4=\"All\"),NA(),IF(OR(Data!K643<>Dashboard!$P$4,Data!K643<>Dashboard!$R$4),Data!G643,NA()))","v":7693.0200089751897},null,null,"Sri Lanka",null,null,null,null,89,"Tunisia",11000,null,null,null,null,"ID0146",92000,1,null,null,null,null,null,null,null,null,null,null,null,null,null,null,null,null,null,null,null,null,null,null,null,null,null,null,null,null,null,null,null,"ID0146",null,null,92000]
[null,{"$f":"IF(Dashboard!$P$4=\"All\",Data!G644,IF(Data!K644=Dashboard!$P$4,Data!G644,NA()))","v":{"$error":"#N/A"}},"","","",{"$f":"IF(C93<>\"\",Data!$M644,\"\")","v":""},null,null,null,null,{"$f":"IF(Dashboard!$R$4=\"All\",Data!G644,IF(Data!K644=Dashboard!$R$4,Data!G644,NA()))","v":{"$error":"#N/A"}},"","","",{"$f":"IF(L93<>\"\",Data!$M644,\"\")","v":""},"project Support",null,null,null,{"$f":"IF(OR(Dashboard!$P$4=\"All\",Dashboard!$R$4=\"All\"),NA(),IF(OR(Data!K644<>Dashboard!$P$4,Data!K644<>Dashboard!$R$4),Data!G644,NA()))","v":4000},null,null,"Sweden",null,null,null,null,90,"Bangladesh",10299.008645025993,null,null,null,null,"ID0147",null,null,88000,1,null,null,null,null,null,null,null,null,null,null,null,null,null,null,null,null,null,null,null,null,null,null,null,null,null,null,null,null,null,"ID0147",null,null,88000]
[null,{"$f":"IF(Dashboard!$P$4=\"All\",Data!G645,IF(Data!K645=Dashboard!$P$4,Data!G645,NA()))","v":{"$error":"#N/A"}},"","","",{"$f":"IF(C94<>\"\",Data!$M645,\"\")","v":""},null,null,null,null,{"$f":"IF(Dashboard!$R$4=\"All\",Data!G645,IF(Data!K645=Dashboard!$R$4,Data!G645,NA()))","v":{"$error":"#N/A"}},"","","",{"$f":"IF(L94<>\"\",Data!$M645,\"\")","v":""},"Reporting Accountant",null,null,null,{"$f":"IF(OR(Dashboard!$P$4=\"All\",Dashboard!$R$4=\"All\"),NA(),IF(OR(Data!K645<>Dashboard!$P$4,Data!K645<>Dashboard!$R$4),Data!G645,NA()))","v":5400},null,null,"Switzerland",null,null,null,null,91,"Vietnam",10000,null,null,null,null,"ID0148",80000,1,null,null,null,null,null,null,null,null,null,null,null,null,null,null,null,null,null,null,null,null,null,null,null,null,null,null,null,null,null,null,null,"ID0148",null,80000]
[null,{"$f":"IF(Dashboard!$P$4=\"All\",Data!G646,IF(Data!K646=Dashboard!$P$4,Data!G646,NA()))","v":{"$error":"#N/A"}},"","","",{"$f":"IF(C95<>\"\",Data!$M646,\"\")","v":""},null,null,null,null,{"$f":"IF(Dashboard!$R$4=\"All\",Data!G646,IF(Data!K646=Dashboard!$R$4,Data!G646,NA()))","v":{"$error":"#N/A"}},"","","",{"$f":"IF(L95<>\"\",Data!$M646,\"\")","v":""},"Reporting Assistant",null,null,null,{"$f":"IF(OR(Dashboard!$P$4=\"All\",Dashboard!$R$4=\"All\"),NA(),IF(OR(Data!K646<>Dashboard!$P$4,Data!K646<>Dashboard!$R$4),Data!G646,NA()))","v":186983.12521814698},null,null,"Thailand",null,null,null,null,92,"Bolivia",9600,null,null,null,null,"ID0149",null,null,null,null,null,null,null,null,null,null,null,null,69000,1,null,null,null,null,null,null,null,null,null,null,null,null,null,null,null,null,null,null,null,"ID0149",null,null,69000]
[null,{"$f":"IF(Dashboard!$P$4=\"All\",Data!G647,IF(Data!K647=Dashboard!$P$4,Data!G647,NA()))","v":{"$error":"#N/A"}},"","","",{"$f":"IF(C96<>\"\",Data!$M647,\"\")","v":""},null,null,null,null,{"$f":"IF(Dashboard!$R$4=\"All\",Data!G647,IF(Data!K647=Dashboard!$R$4,Data!G647,NA()))","v":{"$error":"#N/A"}},"","","",{"$f":"IF(L96<>\"\",Data!$M647,\"\")","v":""},"Reporting Team Lead",null,null,null,{"$f":"IF(OR(Dashboard!$P$4=\"All\",Dashboard!$R$4=\"All\"),NA(),IF(OR(Data!K647<>Dashboard!$P$4,Data!K647<>Dashboard!$R$4),Data!G647,NA()))","v":21500},null,null,"Tunisia",null,null,null,null,93,"Mauritius",9376.2513877177607,null,null,null,null,"ID0151",null,null,35000,1,null,null,null,null,null,null,null,null,null,null,null,null,null,null,null,null,null,null,null,null,null,null,null,null,null,null,null,null,null,"ID0151",null,35000]
[null,{"$f":"IF(Dashboard!$P$4=\"All\",Data!G648,IF(Data!K648=Dashboard!$P$4,Data!G648,NA()))","v":{"$error":"#N/A"}},"","","",{"$f":"IF(C97<>\"\",Data!$M648,\"\")","v":""},null,null,null,null,{"$f":"IF(Dashboard!$R$4=\"All\",Data!G648,IF(Data!K648=Dashboard!$R$4,Data!G648,NA()))","v":{"$error":"#N/A"}},"","","",{"$f":"IF(L97<>\"\",Data!$M648,\"\")","v":""},"Research Analyst",null,null,null,{"$f":"IF(OR(Dashboard!$P$4=\"All\",Dashboard!$R$4=\"All\"),NA(),IF(OR(Data!K648<>Dashboard!$P$4,Data!K648<>Dashboard!$R$4),Data!G648,NA()))","v":15000},null,null,"Turkey",null,null,null,null,94,"Baltic",8400,null,null,null,null,"ID0152",96000,1,null,null,null,null,null,null,null,null,null,null,null,null,null,null,null,null,null,null,null,null,null,null,null,null,null,null,null,null,null,null,null,"ID0152",null,null,96000]
[null,{"$f":"IF(Dashboard!$P$4=\"All\",Data!G649,IF(Data!K649=Dashboard!$P$4,Data!G649,NA()))","v":{"$error":"#N/A"}},"","","",{"$f":"IF(C98<>\"\",Data!$M649,\"\")","v":""},null,null,null,null,{"$f":"IF(Dashboard!$R$4=\"All\",Data!G649,IF(Data!K649=Dashboard!$R$4,Data!G649,NA()))","v":{"$error":"#N/A"}},"","","",{"$f":"IF(L98<>\"\",Data!$M649,\"\")","v":""},"RS",null,null,null,{"$f":"IF(OR(Dashboard!$P$4=\"All\",Dashboard!$R$4=\"All\"),NA(),IF(OR(Data!K649<>Dashboard!$P$4,Data!K649<>Dashboard!$R$4),Data!G649,NA()))","v":2122.8177433598262},null,null,"UAE",null,null,null,null,95,"Mongolia",7261.724659606657,null,null,null,null,"ID0153",null,null,null,null,65000,1,null,null,null,null,null,null,null,null,null,null,null,null,null,null,null,null,null,null,null,null,null,null,null,null,null,null,null,"ID0153",null,null,null,65000]
[null,{"$f":"IF(Dashboard!$P$4=\"All\",Data!G650,IF(Data!K650=Dashboard!$P$4,Data!G650,NA()))","v":{"$error":"#N/A"}},"","","",{"$f":"IF(C99<>\"\",Data!$M650,\"\")","v":""},null,null,null,null,{"$f":"IF(Dashboard!$R$4=\"All\",Data!G650,IF(Data!K650=Dashboard!$R$4,Data!G650,NA()))","v":{"$error":"#N/A"}},"","","",{"$f":"IF(L99<>\"\",Data!$M650,\"\")","v":""},"Sales Analyst",null,null,null,{"$f":"IF(OR(Dashboard!$P$4=\"All\",Dashboard!$R$4=\"All\"),NA(),IF(OR(Data!K650<>Dashboard!$P$4,Data!K650<>Dashboard!$R$4),Data!G650,NA()))","v":16917.52085307044},null,null,"Uganda",null,null,null,null,96,"Guyana",6000,null,null,null,null,"ID0154",37440,1,null,null,null,null,null,null,null,null,null,null,null,null,null,null,null,null,null,null,null,null,null,null,null,null,null,null,null,null,null,null,null,"ID0154",null,null,null,37440]
[null,{"$f":"IF(Dashboard!$P$4=\"All\",Data!G651,IF(Data!K651=Dashboard!$P$4,Data!G651,NA()))","v":{"$error":"#N/A"}},"","","",{"$f":"IF(C100<>\"\",Data!$M651,\"\")","v":""},null,null,null,null,{"$f":"IF(Dashboard!$R$4=\"All\",Data!G651,IF(Data!K651=Dashboard!$R$4,Data!G651,NA()))","v":{"$error":"#N/A"}},"","","",{"$f":"IF(L100<>\"\",Data!$M651,\"\")","v":""},"Senior Accountant",null,null,null,{"$f":"IF(OR(Dashboard!$P$4=\"All\",Dashboard!$R$4=\"All\"),NA(),IF(OR(Data!K651<>Dashboard!$P$4,Data!K651<>Dashboard!$R$4),Data!G651,NA()))","v":2938.3062534280239},null,null,"UK",null,null,null,null,97,"Armenia",6000,null,null,null,null,"ID0156",90000,1,null,null,null,null,null,null,null,null,null,null,null,null,null,null,null,null,null,null,null,null,null,null,null,null,null,null,null,null,null,null,null,"ID0156",null,90000]
[null,{"$f":"IF(Dashboard!$P$4=\"All\",Data!G652,IF(Data!K652=Dashboard!$P$4,Data!G652,NA()))","v":{"$error":"#N/A"}},"","","",{"$f":"IF(C101<>\"\",Data!$M652,\"\")","v":""},null,null,null,null,{"$f":"IF(Dashboard!$R$4=\"All\",Data!G652,IF(Data!K652=Dashboard!$R$4,Data!G652,NA()))","v":{"$error":"#N/A"}},"","","",{"$f":"IF(L101<>\"\",Data!$M652,\"\")","v":""},"Senior Accounts Clerk",null,null,null,{"$f":"IF(OR(Dashboard!$P$4=\"All\",Dashboard!$R$4=\"All\"),NA(),IF(OR(Data!K652<>Dashboard!$P$4,Data!K652<>Dashboard!$R$4),Data!G652,NA()))","v":16800},null,null,"Ukraine",null,null,null,null,98,"Republic of Georgia",5250,null,null,null,null,"ID0157",66500,1,null,null,null,null,null,null,null,null,null,null,null,null,null,null,null,null,null,null,null,null,null,null,null,null,null,null,null,null,null,null,null,"ID0157",null,null,null,66500]
[null,{"$f":"IF(Dashboard!$P$4=\"All\",Data!G653,IF(Data!K653=Dashboard!$P$4,Data!G653,NA()))","v":{"$error":"#N/A"}},"","","",{"$f":"IF(C102<>\"\",Data!$M653,\"\")","v":""},null,null,null,null,{"$f":"IF(Dashboard!$R$4=\"All\",Data!G653,IF(Data!K653=Dashboard!$R$4,Data!G653,NA()))","v":{"$error":"#N/A"}},"","","",{"$f":"IF(L102<>\"\",Data!$M653,\"\")","v":""},"Senior Consultant",null,null,null,{"$f":"IF(OR(Dashboard!$P$4=\"All\",Dashboard!$R$4=\"All\"),NA(),IF(OR(Data!K653<>Dashboard!$P$4,Data!K653<>Dashboard!$R$4),Data!G653,NA()))","v":37000},null,null,"Uruguay",null,null,null,null,99,"Aruba",5000,null,null,null,null,"ID0158",null,null,null,null,100000,1,null,null,null,null,null,null,null,null,null,null,null,null,null,null,null,null,null,null,null,null,null,null,null,null,null,null,null,"ID0158",null,null,null,100000]
[null,{"$f":"IF(Dashboard!$P$4=\"All\",Data!G654,IF(Data!K654=Dashboard!$P$4,Data!G654,NA()))","v":{"$error":"#N/A"}},"","","",{"$f":"IF(C103<>\"\",Data!$M654,\"\")","v":""},null,null,null,null,{"$f":"IF(Dashboard!$R$4=\"All\",Data!G654,IF(Data!K654=Dashboard!$R$4,Data!G654,NA()))","v":{"$error":"#N/A"}},"","","",{"$f":"IF(L103<>\"\",Data!$M654,\"\")","v":""},"Senior Data Analyst",null,null,null,{"$f":"IF(OR(Dashboard!$P$4=\"All\",Dashboard!$R$4=\"All\"),NA(),IF(OR(Data!K654<>Dashboard!$P$4,Data!K654<>Dashboard!$R$4),Data!G654,NA()))","v":5342.3750062327708},null,null,"USA",null,null,null,null,100,"Bhutan",4800,null,null,null,null,"ID0161",75000,1,null,null,null,null,null,null,null,null,null,null,null,null,null,null,null,null,null,null,null,null,null,null,null,null,null,null,null,null,null,null,null,"ID0161",75000]
[null,{"$f":"IF(Dashboard!$P$4=\"All\",Data!G655,IF(Data!K655=Dashboard!$P$4,Data!G655,NA()))","v":{"$error":"#N/A"}},"","","",{"$f":"IF(C104<>\"\",Data!$M655,\"\")","v":""},null,null,null,null,{"$f":"IF(Dashboard!$R$4=\"All\",Data!G655,IF(Data!K655=Dashboard!$R$4,Data!G655,NA()))","v":{"$error":"#N/A"}},"","","",{"$f":"IF(L104<>\"\",Data!$M655,\"\")","v":""},"Senior intelligence analyst",null,null,null,{"$f":"IF(OR(Dashboard!$P$4=\"All\",Dashboard!$R$4=\"All\"),NA(),IF(OR(Data!K655<>Dashboard!$P$4,Data!K655<>Dashboard!$R$4),Data!G655,NA()))","v":3561.5833374885137},null,null,"Vietnam",null,null,null,null,101,"Latin America",4400,null,null,null,null,"ID0163",null,null,55000,1,null,null,null,null,null,null,null,null,null,null,null,null,null,null,null,null,null,null,null,null,null,null,null,null,null,null,null,null,null,"ID0163",null,55000]
[null,{"$f":"IF(Dashboard!$P$4=\"All\",Data!G656,IF(Data!K656=Dashboard!$P$4,Data!G656,NA()))","v":{"$error":"#N/A"}},"","","",{"$f":"IF(C105<>\"\",Data!$M656,\"\")","v":""},null,null,null,null,{"$f":"IF(Dashboard!$R$4=\"All\",Data!G656,IF(Data!K656=Dashboard!$R$4,Data!G656,NA()))","v":{"$error":"#N/A"}},"","","",{"$f":"IF(L105<>\"\",Data!$M656,\"\")","v":""},"Senior Manufacturing Engineer",null,null,null,{"$f":"IF(OR(Dashboard!$P$4=\"All\",Dashboard!$R$4=\"All\"),NA(),IF(OR(Data!K656<>Dashboard!$P$4,Data!K656<>Dashboard!$R$4),Data!G656,NA()))","v":8547.8000099724322},null,null,"Zambia",null,null,null,null,102,"Cambodia",3000,null,null,null,null,"ID0164",60000,1,null,null,null,null,null,null,null,null,null,null,null,null,null,null,null,null,null,null,null,null,null,null,null,null,null,null,null,null,null,null,null,"ID0164",null,null,60000]
[null,{"$f":"IF(Dashboard!$P$4=\"All\",Data!G657,IF(Data!K657=Dashboard!$P$4,Data!G657,NA()))","v":{"$error":"#N/A"}},"","","",{"$f":"IF(C106<>\"\",Data!$M657,\"\")","v":""},null,null,null,null,{"$f":"IF(Dashboard!$R$4=\"All\",Data!G657,IF(Data!K657=Dashboard!$R$4,Data!G657,NA()))","v":{"$error":"#N/A"}},"","","",{"$f":"IF(L106<>\"\",Data!$M657,\"\")","v":""},"Senior officer data reporting",null,null,null,{"$f":"IF(OR(Dashboard!$P$4=\"All\",Dashboard!$R$4=\"All\"),NA(),IF(OR(Data!K657<>Dashboard!$P$4,Data!K657<>Dashboard!$R$4),Data!G657,NA()))","v":5800},null,null,"Zimbabwe",null,null,null,null,103,"Ethiopia",2953.8461538461538,null,null,null,null,"ID0168",null,null,null,null,22880,1,null,null,null,null,null,null,null,null,null,null,null,null,null,null,null,null,null,null,null,null,null,null,null,null,null,null,null,"ID0168",null,null,22880]
[null,{"$f":"IF(Dashboard!$P$4=\"All\",Data!G658,IF(Data!K658=Dashboard!$P$4,Data!G658,NA()))","v":{"$error":"#N/A"}},"","","",{"$f":"IF(C107<>\"\",Data!$M658,\"\")","v":""},null,null,null,null,{"$f":"IF(Dashboard!$R$4=\"All\",Data!G658,IF(Data!K658=Dashboard!$R$4,Data!G658,NA()))","v":{"$error":"#N/A"}},"","","",{"$f":"IF(L107<>\"\",Data!$M658,\"\")","v":""},"Senior Planning Engineer",null,null,null,{"$f":"IF(OR(Dashboard!$P$4=\"All\",Dashboard!$R$4=\"All\"),NA(),IF(OR(Data!K658<>Dashboard!$P$4,Data!K658<>Dashboard!$R$4),Data!G658,NA()))","v":4095.8208381117906},null,null,null,null,null,null,null,104,null,null,null,null,null,null,"ID0169",null,null,null,null,null,null,null,null,null,null,null,null,80000,1,null,null,null,null,null,null,null,null,null,null,null,null,null,null,null,null,null,null,null,"ID0169",null,null,80000]
[null,{"$f":"IF(Dashboard!$P$4=\"All\",Data!G659,IF(Data!K659=Dashboard!$P$4,Data!G659,NA()))","v":{"$error":"#N/A"}},"","","",{"$f":"IF(C108<>\"\",Data!$M659,\"\")","v":""},null,null,null,null,{"$f":"IF(Dashboard!$R$4=\"All\",Data!G659,IF(Data!K659=Dashboard!$R$4,Data!G659,NA()))","v":{"$error":"#N/A"}},"","","",{"$f":"IF(L108<>\"\",Data!$M659,\"\")","v":""},"Service Analyst",null,null,null,{"$f":"IF(OR(Dashboard!$P$4=\"All\",Dashboard!$R$4=\"All\"),NA(),IF(OR(Data!K659<>Dashboard!$P$4,Data!K659<>Dashboard!$R$4),Data!G659,NA()))","v":4914.9850057341491},null,null,null,null,null,null,null,105,null,null,null,null,null,null,"ID0173",46584,1,null,null,null,null,null,null,null,null,null,null,null,null,null,null,null,null,null,null,null,null,null,null,null,null,null,null,null,null,null,null,null,"ID0173",null,null,46584]
[null,{"$f":"IF(Dashboard!$P$4=\"All\",Data!G660,IF(Data!K660=Dashboard!$P$4,Data!G660,NA()))","v":{"$error":"#N/A"}},"","","",{"$f":"IF(C109<>\"\",Data!$M660,\"\")","v":""},null,null,null,null,{"$f":"IF(Dashboard!$R$4=\"All\",Data!G660,IF(Data!K660=Dashboard!$R$4,Data!G660,NA()))","v":{"$error":"#N/A"}},"","","",{"$f":"IF(L109<>\"\",Data!$M660,\"\")","v":""},"ServiceDesk Supervisor",null,null,null,{"$f":"IF(OR(Dashboard!$P$4=\"All\",Dashboard!$R$4=\"All\"),NA(),IF(OR(Data!K660<>Dashboard!$P$4,Data!K660<>Dashboard!$R$4),Data!G660,NA()))","v":24000},null,null,null,null,null,null,null,106,null,null,null,null,null,null,"ID0174",67000,1,null,null,null,null,null,null,null,null,null,null,null,null,null,null,null,null,null,null,null,null,null,null,null,null,null,null,null,null,null,null,null,"ID0174",null,null,67000]
[null,{"$f":"IF(Dashboard!$P$4=\"All\",Data!G661,IF(Data!K661=Dashboard!$P$4,Data!G661,NA()))","v":{"$error":"#N/A"}},"","","",{"$f":"IF(C110<>\"\",Data!$M661,\"\")","v":""},null,null,null,null,{"$f":"IF(Dashboard!$R$4=\"All\",Data!G661,IF(Data!K661=Dashboard!$R$4,Data!G661,NA()))","v":{"$error":"#N/A"}},"","","",{"$f":"IF(L110<>\"\",Data!$M661,\"\")","v":""},"Strategy Consultant",null,null,null,{"$f":"IF(OR(Dashboard!$P$4=\"All\",Dashboard!$R$4=\"All\"),NA(),IF(OR(Data!K661<>Dashboard!$P$4,Data!K661<>Dashboard!$R$4),Data!G661,NA()))","v":24000},null,null,null,null,null,null,null,107,null,null,null,null,null,null,"ID0176",null,null,null,null,null,null,null,null,92000,1,null,null,null,null,null,null,null,null,null,null,null,null,null,null,null,null,null,null,null,null,null,null,null,"ID0176",null,null,92000]
[null,{"$f":"IF(Dashboard!$P$4=\"All\",Data!G662,IF(Data!K662=Dashboard!$P$4,Data!G662,NA()))","v":{"$error":"#N/A"}},"","","",{"$f":"IF(C111<>\"\",Data!$M662,\"\")","v":""},null,null,null,null,{"$f":"IF(Dashboard!$R$4=\"All\",Data!G662,IF(Data!K662=Dashboard!$R$4,Data!G662,NA()))","v":{"$error":"#N/A"}},"","","",{"$f":"IF(L111<>\"\",Data!$M662,\"\")","v":""},"Supply/Demand Planner",null,null,null,{"$f":"IF(OR(Dashboard!$P$4=\"All\",Dashboard!$R$4=\"All\"),NA(),IF(OR(Data!K662<>Dashboard!$P$4,Data!K662<>Dashboard!$R$4),Data!G662,NA()))","v":8738},null,null,null,null,null,null,null,108,null,null,null,null,null,null,"ID0177",null,null,null,null,null,null,null,null,null,null,75000,1,null,null,null,null,null,null,null,null,null,null,null,null,null,null,null,null,null,null,null,null,null,"ID0177",null,null,null,75000]
[null,{"$f":"IF(Dashboard!$P$4=\"All\",Data!G663,IF(Data!K663=Dashboard!$P$4,Data!G663,NA()))","v":{"$error":"#N/A"}},"","","",{"$f":"IF(C112<>\"\",Data!$M663,\"\")","v":""},null,null,null,null,{"$f":"IF(Dashboard!$R$4=\"All\",Data!G663,IF(Data!K663=Dashboard!$R$4,Data!G663,NA()))","v":{"$error":"#N/A"}},"","","",{"$f":"IF(L112<>\"\",Data!$M663,\"\")","v":""},"Systems Analyst",null,null,null,{"$f":"IF(OR(Dashboard!$P$4=\"All\",Dashboard!$R$4=\"All\"),NA(),IF(OR(Data!K663<>Dashboard!$P$4,Data!K663<>Dashboard!$R$4),Data!G663,NA()))","v":15000},null,null,null,null,null,null,null,109,null,null,null,null,null,null,"ID0180",40000,1,null,null,null,null,null,null,null,null,null,null,null,null,null,null,null,null,null,null,null,null,null,null,null,null,null,null,null,null,null,null,null,"ID0180",null,null,null,40000]
[null,{"$f":"IF(Dashboard!$P$4=\"All\",Data!G664,IF(Data!K664=Dashboard!$P$4,Data!G664,NA()))","v":{"$error":"#N/A"}},"","","",{"$f":"IF(C113<>\"\",Data!$M664,\"\")","v":""},null,null,null,null,{"$f":"IF(Dashboard!$R$4=\"All\",Data!G664,IF(Data!K664=Dashboard!$R$4,Data!G664,NA()))","v":{"$error":"#N/A"}},"","","",{"$f":"IF(L113<>\"\",Data!$M664,\"\")","v":""},"Technical Specialist",null,null,null,{"$f":"IF(OR(Dashboard!$P$4=\"All\",Dashboard!$R$4=\"All\"),NA(),IF(OR(Data!K664<>Dashboard!$P$4,Data!K664<>Dashboard!$R$4),Data!G664,NA()))","v":56400},null,null,null,null,null,null,null,110,null,null,null,null,null,null,"ID0181",111680,1,null,null,null,null,null,null,null,null,null,null,null,null,null,null,null,null,null,null,null,null,null,null,null,null,null,null,null,null,null,null,null,"ID0181",null,111680]
[null,{"$f":"IF(Dashboard!$P$4=\"All\",Data!G665,IF(Data!K665=Dashboard!$P$4,Data!G665,NA()))","v":{"$error":"#N/A"}},"","","",{"$f":"IF(C114<>\"\",Data!$M665,\"\")","v":""},null,null,null,null,{"$f":"IF(Dashboard!$R$4=\"All\",Data!G665,IF(Data!K665=Dashboard!$R$4,Data!G665,NA()))","v":{"$error":"#N/A"}},"","","",{"$f":"IF(L114<>\"\",Data!$M665,\"\")","v":""},"Technical Web Analyst",null,null,null,{"$f":"IF(OR(Dashboard!$P$4=\"All\",Dashboard!$R$4=\"All\"),NA(),IF(OR(Data!K665<>Dashboard!$P$4,Data!K665<>Dashboard!$R$4),Data!G665,NA()))","v":10200},null,null,null,null,null,null,null,null,null,null,null,null,null,null,"ID0183",null,null,70000,1,null,null,null,null,null,null,null,null,null,null,null,null,null,null,null,null,null,null,null,null,null,null,null,null,null,null,null,null,null,"ID0183",null,null,70000]
[null,{"$f":"IF(Dashboard!$P$4=\"All\",Data!G666,IF(Data!K666=Dashboard!$P$4,Data!G666,NA()))","v":{"$error":"#N/A"}},"","","",{"$f":"IF(C115<>\"\",Data!$M666,\"\")","v":""},null,null,null,null,{"$f":"IF(Dashboard!$R$4=\"All\",Data!G666,IF(Data!K666=Dashboard!$R$4,Data!G666,NA()))","v":{"$error":"#N/A"}},"","","",{"$f":"IF(L115<>\"\",Data!$M666,\"\")","v":""},"Telecoms Engineer",null,null,null,{"$f":"IF(OR(Dashboard!$P$4=\"All\",Dashboard!$R$4=\"All\"),NA(),IF(OR(Data!K666<>Dashboard!$P$4,Data!K666<>Dashboard!$R$4),Data!G666,NA()))","v":5787.5729234188348},null,null,null,null,null,null,null,null,null,null,null,null,null,null,"ID0184",40700,1,null,null,null,null,null,null,null,null,null,null,null,null,null,null,null,null,null,null,null,null,null,null,null,null,null,null,null,null,null,null,null,"ID0184",40700]
[null,{"$f":"IF(Dashboard!$P$4=\"All\",Data!G667,IF(Data!K667=Dashboard!$P$4,Data!G667,NA()))","v":{"$error":"#N/A"}},"","","",{"$f":"IF(C116<>\"\",Data!$M667,\"\")","v":""},null,null,null,null,{"$f":"IF(Dashboard!$R$4=\"All\",Data!G667,IF(Data!K667=Dashboard!$R$4,Data!G667,NA()))","v":{"$error":"#N/A"}},"","","",{"$f":"IF(L116<>\"\",Data!$M667,\"\")","v":""},"Trainee Management Accountant",null,null,null,{"$f":"IF(OR(Dashboard!$P$4=\"All\",Dashboard!$R$4=\"All\"),NA(),IF(OR(Data!K667<>Dashboard!$P$4,Data!K667<>Dashboard!$R$4),Data!G667,NA()))","v":105000},null,null,null,null,null,null,null,null,null,null,null,null,null,null,"ID0185",40000,1,null,null,null,null,null,null,null,null,null,null,null,null,null,null,null,null,null,null,null,null,null,null,null,null,null,null,null,null,null,null,null,"ID0185",null,null,40000]
[null,{"$f":"IF(Dashboard!$P$4=\"All\",Data!G668,IF(Data!K668=Dashboard!$P$4,Data!G668,NA()))","v":{"$error":"#N/A"}},"","","",{"$f":"IF(C117<>\"\",Data!$M668,\"\")","v":""},null,null,null,null,{"$f":"IF(Dashboard!$R$4=\"All\",Data!G668,IF(Data!K668=Dashboard!$R$4,Data!G668,NA()))","v":{"$error":"#N/A"}},"","","",{"$f":"IF(L117<>\"\",Data!$M668,\"\")","v":""},"vba specialist",null,null,null,{"$f":"IF(OR(Dashboard!$P$4=\"All\",Dashboard!$R$4=\"All\"),NA(),IF(OR(Data!K668<>Dashboard!$P$4,Data!K668<>Dashboard!$R$4),Data!G668,NA()))","v":4451.9791718606421},null,null,null,null,null,null,null,null,null,null,null,null,null,null,"ID0186",null,null,null,null,60000,1,null,null,null,null,null,null,null,null,null,null,null,null,null,null,null,null,null,null,null,null,null,null,null,null,null,null,null,"ID0186",null,null,60000]
[null,{"$f":"IF(Dashboard!$P$4=\"All\",Data!G669,IF(Data!K669=Dashboard!$P$4,Data!G669,NA()))","v":{"$error":"#N/A"}},"","","",{"$f":"IF(C118<>\"\",Data!$M669,\"\")","v":""},null,null,null,null,{"$f":"IF(Dashboard!$R$4=\"All\",Data!G669,IF(Data!K669=Dashboard!$R$4,Data!G669,NA()))","v":{"$error":"#N/A"}},"","","",{"$f":"IF(L118<>\"\",Data!$M669,\"\")","v":""},"Verification Agent",null,null,null,{"$f":"IF(OR(Dashboard!$P$4=\"All\",Dashboard!$R$4=\"All\"),NA(),IF(OR(Data!K669<>Dashboard!$P$4,Data!K669<>Dashboard!$R$4),Data!G669,NA()))","v":8369.7208430980063},null,null,null,null,null,null,null,null,null,null,null,null,null,null,"ID0189",null,null,80000,1,null,null,null,null,null,null,null,null,null,null,null,null,null,null,null,null,null,null,null,null,null,null,null,null,null,null,null,null,null,"ID0189",null,80000]
[null,{"$f":"IF(Dashboard!$P$4=\"All\",Data!G670,IF(Data!K670=Dashboard!$P$4,Data!G670,NA()))","v":{"$error":"#N/A"}},"","","",{"$f":"IF(C119<>\"\",Data!$M670,\"\")","v":""},null,null,null,null,{"$f":"IF(Dashboard!$R$4=\"All\",Data!G670,IF(Data!K670=Dashboard!$R$4,Data!G670,NA()))","v":{"$error":"#N/A"}},"","","",{"$f":"IF(L119<>\"\",Data!$M670,\"\")","v":""},"web analyst",null,null,null,{"$f":"IF(OR(Dashboard!$P$4=\"All\",Dashboard!$R$4=\"All\"),NA(),IF(OR(Data!K670<>Dashboard!$P$4,Data!K670<>Dashboard!$R$4),Data!G670,NA()))","v":17067.637625607145},null,null,null,null,null,null,null,null,null,null,null,null,null,null,"ID0192",28000,1,null,null,null,null,null,null,null,null,null,null,null,null,null,null,null,null,null,null,null,null,null,null,null,null,null,null,null,null,null,null,null,"ID0192",null,null,28000]
[null,{"$f":"IF(Dashboard!$P$4=\"All\",Data!G671,IF(Data!K671=Dashboard!$P$4,Data!G671,NA()))","v":{"$error":"#N/A"}},"","","",{"$f":"IF(C120<>\"\",Data!$M671,\"\")","v":""},null,null,null,null,{"$f":"IF(Dashboard!$R$4=\"All\",Data!G671,IF(Data!K671=Dashboard!$R$4,Data!G671,NA()))","v":{"$error":"#N/A"}},"","","",{"$f":"IF(L120<>\"\",Data!$M671,\"\")","v":""},null,null,null,null,{"$f":"IF(OR(Dashboard!$P$4=\"All\",Dashboard!$R$4=\"All\"),NA(),IF(OR(Data!K671<>Dashboard!$P$4,Data!K671<>Dashboard!$R$4),Data!G671,NA()))","v":101990.96564026357},null,null,null,null,null,null,null,null,null,null,null,null,null,null,"ID0193",60000,1,null,null,null,null,null,null,null,null,null,null,null,null,null,null,null,null,null,null,null,null,null,null,null,null,null,null,null,null,null,null,null,"ID0193",null,null,60000]
[null,{"$f":"IF(Dashboard!$P$4=\"All\",Data!G672,IF(Data!K672=Dashboard!$P$4,Data!G672,NA()))","v":{"$error":"#N/A"}},"","","",{"$f":"IF(C121<>\"\",Data!$M672,\"\")","v":""},null,null,null,null,{"$f":"IF(Dashboard!$R$4=\"All\",Data!G672,IF(Data!K672=Dashboard!$R$4,Data!G672,NA()))","v":{"$error":"#N/A"}},"","","",{"$f":"IF(L121<>\"\",Data!$M672,\"\")","v":""},null,null,null,null,{"$f":"IF(OR(Dashboard!$P$4=\"All\",Dashboard!$R$4=\"All\"),NA(),IF(OR(Data!K672<>Dashboard!$P$4,Data!K672<>Dashboard!$R$4),Data!G672,NA()))","v":3917.7416712373652},null,null,null,null,null,null,null,null,null,null,null,null,null,null,"ID0194",null,null,null,null,null,null,null,null,null,null,96000,1,null,null,null,null,null,null,null,null,null,null,null,null,null,null,null,null,null,null,null,null,null,"ID0194",null,96000]
[null,{"$f":"IF(Dashboard!$P$4=\"All\",Data!G673,IF(Data!K673=Dashboard!$P$4,Data!G673,NA()))","v":{"$error":"#N/A"}},"","","",{"$f":"IF(C122<>\"\",Data!$M673,\"\")","v":""},null,null,null,null,{"$f":"IF(Dashboard!$R$4=\"All\",Data!G673,IF(Data!K673=Dashboard!$R$4,Data!G673,NA()))","v":{"$error":"#N/A"}},"","","",{"$f":"IF(L122<>\"\",Data!$M673,\"\")","v":""},null,null,null,null,{"$f":"IF(OR(Dashboard!$P$4=\"All\",Dashboard!$R$4=\"All\"),NA(),IF(OR(Data!K673<>Dashboard!$P$4,Data!K673<>Dashboard!$R$4),Data!G673,NA()))","v":52000},null,null,null,null,null,null,null,null,null,null,null,null,null,null,"ID0195",67000,1,null,null,null,null,null,null,null,null,null,null,null,null,null,null,null,null,null,null,null,null,null,null,null,null,null,null,null,null,null,null,null,"ID0195",null,null,67000]
[null,{"$f":"IF(Dashboard!$P$4=\"All\",Data!G674,IF(Data!K674=Dashboard!$P$4,Data!G674,NA()))","v":{"$error":"#N/A"}},"","","",{"$f":"IF(C123<>\"\",Data!$M674,\"\")","v":""},null,null,null,null,{"$f":"IF(Dashboard!$R$4=\"All\",Data!G674,IF(Data!K674=Dashboard!$R$4,Data!G674,NA()))","v":{"$error":"#N/A"}},"","","",{"$f":"IF(L123<>\"\",Data!$M674,\"\")","v":""},null,null,null,null,{"$f":"IF(OR(Dashboard!$P$4=\"All\",Dashboard!$R$4=\"All\"),NA(),IF(OR(Data!K674<>Dashboard!$P$4,Data!K674<>Dashboard!$R$4),Data!G674,NA()))","v":4630.058338735068},null,null,null,null,null,null,null,null,null,null,null,null,null,null,"ID0196",70000,1,null,null,null,null,null,null,null,null,null,null,null,null,null,null,null,null,null,null,null,null,null,null,null,null,null,null,null,null,null,null,null,"ID0196",null,null,70000]
[null,{"$f":"IF(Dashboard!$P$4=\"All\",Data!G675,IF(Data!K675=Dashboard!$P$4,Data!G675,NA()))","v":{"$error":"#N/A"}},"","","",{"$f":"IF(C124<>\"\",Data!$M675,\"\")","v":""},null,null,null,null,{"$f":"IF(Dashboard!$R$4=\"All\",Data!G675,IF(Data!K675=Dashboard!$R$4,Data!G675,NA()))","v":{"$error":"#N/A"}},"","","",{"$f":"IF(L124<>\"\",Data!$M675,\"\")","v":""},null,null,null,null,{"$f":"IF(OR(Dashboard!$P$4=\"All\",Dashboard!$R$4=\"All\"),NA(),IF(OR(Data!K675<>Dashboard!$P$4,Data!K675<>Dashboard!$R$4),Data!G675,NA()))","v":2136.9500024931081},null,null,null,null,null,null,null,null,null,null,null,null,null,null,"ID0198",null,null,null,null,null,null,null,null,null,null,null,null,null,null,99000,1,null,null,null,null,null,null,null,null,null,null,null,null,null,null,null,null,null,"ID0198",null,null,99000]
[null,{"$f":"IF(Dashboard!$P$4=\"All\",Data!G676,IF(Data!K676=Dashboard!$P$4,Data!G676,NA()))","v":{"$error":"#N/A"}},"","","",{"$f":"IF(C125<>\"\",Data!$M676,\"\")","v":""},null,null,null,null,{"$f":"IF(Dashboard!$R$4=\"All\",Data!G676,IF(Data!K676=Dashboard!$R$4,Data!G676,NA()))","v":{"$error":"#N/A"}},"","","",{"$f":"IF(L125<>\"\",Data!$M676,\"\")","v":""},null,null,null,null,{"$f":"IF(OR(Dashboard!$P$4=\"All\",Dashboard!$R$4=\"All\"),NA(),IF(OR(Data!K676<>Dashboard!$P$4,Data!K676<>Dashboard!$R$4),Data!G676,NA()))","v":13000},null,null,null,null,null,null,null,null,null,null,null,null,null,null,"ID0200",null,null,90000,1,null,null,null,null,null,null,null,null,null,null,null,null,null,null,null,null,null,null,null,null,null,null,null,null,null,null,null,null,null,"ID0200",null,90000]
[null,{"$f":"IF(Dashboard!$P$4=\"All\",Data!G677,IF(Data!K677=Dashboard!$P$4,Data!G677,NA()))","v":{"$error":"#N/A"}},"","","",{"$f":"IF(C126<>\"\",Data!$M677,\"\")","v":""},null,null,null,null,{"$f":"IF(Dashboard!$R$4=\"All\",Data!G677,IF(Data!K677=Dashboard!$R$4,Data!G677,NA()))","v":{"$error":"#N/A"}},"","","",{"$f":"IF(L126<>\"\",Data!$M677,\"\")","v":""},null,null,null,null,{"$f":"IF(OR(Dashboard!$P$4=\"All\",Dashboard!$R$4=\"All\"),NA(),IF(OR(Data!K677<>Dashboard!$P$4,Data!K677<>Dashboard!$R$4),Data!G677,NA()))","v":2564.3400029917298},null,null,null,null,null,null,null,null,null,null,null,null,null,null,"ID0203",null,null,51000,1,null,null,null,null,null,null,null,null,null,null,null,null,null,null,null,null,null,null,null,null,null,null,null,null,null,null,null,null,null,"ID0203",null,null,51000]
[null,{"$f":"IF(Dashboard!$P$4=\"All\",Data!G678,IF(Data!K678=Dashboard!$P$4,Data!G678,NA()))","v":{"$error":"#N/A"}},"","","",{"$f":"IF(C127<>\"\",Data!$M678,\"\")","v":""},null,null,null,null,{"$f":"IF(Dashboard!$R$4=\"All\",Data!G678,IF(Data!K678=Dashboard!$R$4,Data!G678,NA()))","v":{"$error":"#N/A"}},"","","",{"$f":"IF(L127<>\"\",Data!$M678,\"\")","v":""},null,null,null,null,{"$f":"IF(OR(Dashboard!$P$4=\"All\",Dashboard!$R$4=\"All\"),NA(),IF(OR(Data!K678<>Dashboard!$P$4,Data!K678<>Dashboard!$R$4),Data!G678,NA()))","v":20479.104190558952},null,null,null,null,null,null,null,null,null,null,null,null,null,null,"ID0204",null,null,100000,1,null,null,null,null,null,null,null,null,null,null,null,null,null,null,null,null,null,null,null,null,null,null,null,null,null,null,null,null,null,"ID0204",null,null,null,100000]
[null,{"$f":"IF(Dashboard!$P$4=\"All\",Data!G679,IF(Data!K679=Dashboard!$P$4,Data!G679,NA()))","v":{"$error":"#N/A"}},"","","",{"$f":"IF(C128<>\"\",Data!$M679,\"\")","v":""},null,null,null,null,{"$f":"IF(Dashboard!$R$4=\"All\",Data!G679,IF(Data!K679=Dashboard!$R$4,Data!G679,NA()))","v":{"$error":"#N/A"}},"","","",{"$f":"IF(L128<>\"\",Data!$M679,\"\")","v":""},null,null,null,null,{"$f":"IF(OR(Dashboard!$P$4=\"All\",Dashboard!$R$4=\"All\"),NA(),IF(OR(Data!K679<>Dashboard!$P$4,Data!K679<>Dashboard!$R$4),Data!G679,NA()))","v":33500},null,null,null,null,null,null,null,null,null,null,null,null,null,null,"ID0209",108160,1,null,null,null,null,null,null,null,null,null,null,null,null,null,null,null,null,null,null,null,null,null,null,null,null,null,null,null,null,null,null,null,"ID0209",null,null,108160]
[null,{"$f":"IF(Dashboard!$P$4=\"All\",Data!G680,IF(Data!K680=Dashboard!$P$4,Data!G680,NA()))","v":{"$error":"#N/A"}},"","","",{"$f":"IF(C129<>\"\",Data!$M680,\"\")","v":""},null,null,null,null,{"$f":"IF(Dashboard!$R$4=\"All\",Data!G680,IF(Data!K680=Dashboard!$R$4,Data!G680,NA()))","v":{"$error":"#N/A"}},"","","",{"$f":"IF(L129<>\"\",Data!$M680,\"\")","v":""},null,null,null,null,{"$f":"IF(OR(Dashboard!$P$4=\"All\",Dashboard!$R$4=\"All\"),NA(),IF(OR(Data!K680<>Dashboard!$P$4,Data!K680<>Dashboard!$R$4),Data!G680,NA()))","v":50000},null,null,null,null,null,null,null,null,null,null,null,null,null,null,"ID0210",null,null,50000,1,null,null,null,null,null,null,null,null,null,null,null,null,null,null,null,null,null,null,null,null,null,null,null,null,null,null,null,null,null,"ID0210",null,null,50000]
[null,{"$f":"IF(Dashboard!$P$4=\"All\",Data!G681,IF(Data!K681=Dashboard!$P$4,Data!G681,NA()))","v":{"$error":"#N/A"}},"","","",{"$f":"IF(C130<>\"\",Data!$M681,\"\")","v":""},null,null,null,null,{"$f":"IF(Dashboard!$R$4=\"All\",Data!G681,IF(Data!K681=Dashboard!$R$4,Data!G681,NA()))","v":{"$error":"#N/A"}},"","","",{"$f":"IF(L130<>\"\",Data!$M681,\"\")","v":""},null,null,null,null,{"$f":"IF(OR(Dashboard!$P$4=\"All\",Dashboard!$R$4=\"All\"),NA(),IF(OR(Data!K681<>Dashboard!$P$4,Data!K681<>Dashboard!$R$4),Data!G681,NA()))","v":5342.3750062327708},null,null,null,null,null,null,null,null,null,null,null,null,null,null,"ID0211",null,null,400000,1,null,null,null,null,null,null,null,null,null,null,null,null,null,null,null,null,null,null,null,null,null,null,null,null,null,null,null,null,null,"ID0211",400000]
[null,{"$f":"IF(Dashboard!$P$4=\"All\",Data!G682,IF(Data!K682=Dashboard!$P$4,Data!G682,NA()))","v":{"$error":"#N/A"}},"","","",{"$f":"IF(C131<>\"\",Data!$M682,\"\")","v":""},null,null,null,null,{"$f":"IF(Dashboard!$R$4=\"All\",Data!G682,IF(Data!K682=Dashboard!$R$4,Data!G682,NA()))","v":{"$error":"#N/A"}},"","","",{"$f":"IF(L131<>\"\",Data!$M682,\"\")","v":""},null,null,null,null,{"$f":"IF(OR(Dashboard!$P$4=\"All\",Dashboard!$R$4=\"All\"),NA(),IF(OR(Data!K682<>Dashboard!$P$4,Data!K682<>Dashboard!$R$4),Data!G682,NA()))","v":11539.530013462785},null,null,null,null,null,null,null,null,null,null,null,null,null,null,"ID0212",43000,1,null,null,null,null,null,null,null,null,null,null,null,null,null,null,null,null,null,null,null,null,null,null,null,null,null,null,null,null,null,null,null,"ID0212",null,null,null,43000]
[null,{"$f":"IF(Dashboard!$P$4=\"All\",Data!G683,IF(Data!K683=Dashboard!$P$4,Data!G683,NA()))","v":{"$error":"#N/A"}},{"$f":"IF(ISNA(B132),\"\",B132)","v":""},{"$f":"IF(C132>=PERCENTILE($C$3:$C$1337,0.9),C132,\"\")","v":""},{"$f":"IF(C132<=PERCENTILE($C$3:$C$1337,0.1),C132,\"\")","v":""},{"$f":"IF(C132<>\"\",Data!$M683,\"\")","v":""},null,null,null,null,{"$f":"IF(Dashboard!$R$4=\"All\",Data!G683,IF(Data!K683=Dashboard!$R$4,Data!G683,NA()))","v":{"$error":"#N/A"}},{"$f":"IF(ISNA(K132),\"\",K132)","v":""},{"$f":"IF(L132>=PERCENTILE($L$3:$L$1337,0.9),L132,\"\")","v":""},{"$f":"IF(L132<=PERCENTILE($L$3:$L$1337,0.1),L132,\"\")","v":""},{"$f":"IF(L132<>\"\",Data!$M683,\"\")","v":""},null,null,null,null,{"$f":"IF(OR(Dashboard!$P$4=\"All\",Dashboard!$R$4=\"All\"),NA(),IF(OR(Data!K683<>Dashboard!$P$4,Data!K683<>Dashboard!$R$4),Data!G683,NA()))","v":7000},null,null,null,null,null,null,null,null,null,null,null,null,null,null,"ID0214",null,null,41000,1,null,null,null,null,null,null,null,null,null,null,null,null,null,null,null,null,null,null,null,null,null,null,null,null,null,null,null,null,null,"ID0214",null,null,null,41000]
[null,{"$f":"IF(Dashboard!$P$4=\"All\",Data!G684,IF(Data!K684=Dashboard!$P$4,Data!G684,NA()))","v":{"$error":"#N/A"}},"","","",{"$f":"IF(C133<>\"\",Data!$M684,\"\")","v":""},null,null,null,null,{"$f":"IF(Dashboard!$R$4=\"All\",Data!G684,IF(Data!K684=Dashboard!$R$4,Data!G684,NA()))","v":{"$error":"#N/A"}},"","","",{"$f":"IF(L133<>\"\",Data!$M684,\"\")","v":""},null,null,null,null,{"$f":"IF(OR(Dashboard!$P$4=\"All\",Dashboard!$R$4=\"All\"),NA(),IF(OR(Data!K684<>Dashboard!$P$4,Data!K684<>Dashboard!$R$4),Data!G684,NA()))","v":6767.0083412281756},null,null,null,null,null,null,null,null,null,null,null,null,null,null,"ID0215",null,null,null,null,null,null,100000,1,null,null,null,null,null,null,null,null,null,null,null,null,null,null,null,null,null,null,null,null,null,null,null,null,null,"ID0215",null,null,100000]
[null,{"$f":"IF(Dashboard!$P$4=\"All\",Data!G685,IF(Data!K685=Dashboard!$P$4,Data!G685,NA()))","v":{"$error":"#N/A"}},"","","",{"$f":"IF(C134<>\"\",Data!$M685,\"\")","v":""},null,null,null,null,{"$f":"IF(Dashboard!$R$4=\"All\",Data!G685,IF(Data!K685=Dashboard!$R$4,Data!G685,NA()))","v":{"$error":"#N/A"}},"","","",{"$f":"IF(L134<>\"\",Data!$M685,\"\")","v":""},null,null,null,null,{"$f":"IF(OR(Dashboard!$P$4=\"All\",Dashboard!$R$4=\"All\"),NA(),IF(OR(Data!K685<>Dashboard!$P$4,Data!K685<>Dashboard!$R$4),Data!G685,NA()))","v":3000},null,null,null,null,null,null,null,null,null,null,null,null,null,null,"ID0216",42140,1,null,null,null,null,null,null,null,null,null,null,null,null,null,null,null,null,null,null,null,null,null,null,null,null,null,null,null,null,null,null,null,"ID0216",null,null,42140]
[null,{"$f":"IF(Dashboard!$P$4=\"All\",Data!G686,IF(Data!K686=Dashboard!$P$4,Data!G686,NA()))","v":{"$error":"#N/A"}},"","","",{"$f":"IF(C135<>\"\",Data!$M686,\"\")","v":""},null,null,null,null,{"$f":"IF(Dashboard!$R$4=\"All\",Data!G686,IF(Data!K686=Dashboard!$R$4,Data!G686,NA()))","v":{"$error":"#N/A"}},"","","",{"$f":"IF(L135<>\"\",Data!$M686,\"\")","v":""},null,null,null,null,{"$f":"IF(OR(Dashboard!$P$4=\"All\",Dashboard!$R$4=\"All\"),NA(),IF(OR(Data!K686<>Dashboard!$P$4,Data!K686<>Dashboard!$R$4),Data!G686,NA()))","v":4451.9791718606421},null,null,null,null,null,null,null,null,null,null,null,null,null,null,"ID0217",80000,1,null,null,null,null,null,null,null,null,null,null,null,null,null,null,null,null,null,null,null,null,null,null,null,null,null,null,null,null,null,null,null,"ID0217",null,null,80000]
[null,{"$f":"IF(Dashboard!$P$4=\"All\",Data!G687,IF(Data!K687=Dashboard!$P$4,Data!G687,NA()))","v":{"$error":"#N/A"}},"","","",{"$f":"IF(C136<>\"\",Data!$M687,\"\")","v":""},null,null,null,null,{"$f":"IF(Dashboard!$R$4=\"All\",Data!G687,IF(Data!K687=Dashboard!$R$4,Data!G687,NA()))","v":{"$error":"#N/A"}},"","","",{"$f":"IF(L136<>\"\",Data!$M687,\"\")","v":""},null,null,null,null,{"$f":"IF(OR(Dashboard!$P$4=\"All\",Dashboard!$R$4=\"All\"),NA(),IF(OR(Data!K687<>Dashboard!$P$4,Data!K687<>Dashboard!$R$4),Data!G687,NA()))","v":2671.1875031163854},null,null,null,null,null,null,null,null,null,null,null,null,null,null,"ID0218",null,null,41600,1,null,null,null,null,null,null,null,null,null,null,null,null,null,null,null,null,null,null,null,null,null,null,null,null,null,null,null,null,null,"ID0218",null,null,41600]
[null,{"$f":"IF(Dashboard!$P$4=\"All\",Data!G688,IF(Data!K688=Dashboard!$P$4,Data!G688,NA()))","v":{"$error":"#N/A"}},"","","",{"$f":"IF(C137<>\"\",Data!$M688,\"\")","v":""},null,null,null,null,{"$f":"IF(Dashboard!$R$4=\"All\",Data!G688,IF(Data!K688=Dashboard!$R$4,Data!G688,NA()))","v":{"$error":"#N/A"}},"","","",{"$f":"IF(L137<>\"\",Data!$M688,\"\")","v":""},null,null,null,null,{"$f":"IF(OR(Dashboard!$P$4=\"All\",Dashboard!$R$4=\"All\"),NA(),IF(OR(Data!K688<>Dashboard!$P$4,Data!K688<>Dashboard!$R$4),Data!G688,NA()))","v":4957.7240057840108},null,null,null,null,null,null,null,null,null,null,null,null,null,null,"ID0219",null,null,null,null,45000,1,null,null,null,null,null,null,null,null,null,null,null,null,null,null,null,null,null,null,null,null,null,null,null,null,null,null,null,"ID0219",null,45000]
[null,{"$f":"IF(Dashboard!$P$4=\"All\",Data!G689,IF(Data!K689=Dashboard!$P$4,Data!G689,NA()))","v":{"$error":"#N/A"}},"","","",{"$f":"IF(C138<>\"\",Data!$M689,\"\")","v":""},null,null,null,null,{"$f":"IF(Dashboard!$R$4=\"All\",Data!G689,IF(Data!K689=Dashboard!$R$4,Data!G689,NA()))","v":{"$error":"#N/A"}},"","","",{"$f":"IF(L138<>\"\",Data!$M689,\"\")","v":""},null,null,null,null,{"$f":"IF(OR(Dashboard!$P$4=\"All\",Dashboard!$R$4=\"All\"),NA(),IF(OR(Data!K689<>Dashboard!$P$4,Data!K689<>Dashboard!$R$4),Data!G689,NA()))","v":3205.4250037396623},null,null,null,null,null,null,null,null,null,null,null,null,null,null,"ID0223",null,null,null,null,null,null,null,null,null,null,null,null,null,null,72500,1,null,null,null,null,null,null,null,null,null,null,null,null,null,null,null,null,null,"ID0223",null,null,72500]
[null,{"$f":"IF(Dashboard!$P$4=\"All\",Data!G690,IF(Data!K690=Dashboard!$P$4,Data!G690,NA()))","v":{"$error":"#N/A"}},"","","",{"$f":"IF(C139<>\"\",Data!$M690,\"\")","v":""},null,null,null,null,{"$f":"IF(Dashboard!$R$4=\"All\",Data!G690,IF(Data!K690=Dashboard!$R$4,Data!G690,NA()))","v":{"$error":"#N/A"}},"","","",{"$f":"IF(L139<>\"\",Data!$M690,\"\")","v":""},null,null,null,null,{"$f":"IF(OR(Dashboard!$P$4=\"All\",Dashboard!$R$4=\"All\"),NA(),IF(OR(Data!K690<>Dashboard!$P$4,Data!K690<>Dashboard!$R$4),Data!G690,NA()))","v":14246.333349954055},null,null,null,null,null,null,null,null,null,null,null,null,null,null,"ID0226",80000,1,null,null,null,null,null,null,null,null,null,null,null,null,null,null,null,null,null,null,null,null,null,null,null,null,null,null,null,null,null,null,null,"ID0226",null,null,80000]
[null,{"$f":"IF(Dashboard!$P$4=\"All\",Data!G691,IF(Data!K691=Dashboard!$P$4,Data!G691,NA()))","v":{"$error":"#N/A"}},"","","",{"$f":"IF(C140<>\"\",Data!$M691,\"\")","v":""},null,null,null,null,{"$f":"IF(Dashboard!$R$4=\"All\",Data!G691,IF(Data!K691=Dashboard!$R$4,Data!G691,NA()))","v":{"$error":"#N/A"}},"","","",{"$f":"IF(L140<>\"\",Data!$M691,\"\")","v":""},null,null,null,null,{"$f":"IF(OR(Dashboard!$P$4=\"All\",Dashboard!$R$4=\"All\"),NA(),IF(OR(Data!K691<>Dashboard!$P$4,Data!K691<>Dashboard!$R$4),Data!G691,NA()))","v":5342.3750062327708},null,null,null,null,null,null,null,null,null,null,null,null,null,null,"ID0227",null,null,50000,1,null,null,null,null,null,null,null,null,null,null,null,null,null,null,null,null,null,null,null,null,null,null,null,null,null,null,null,null,null,"ID0227",null,null,50000]
[null,{"$f":"IF(Dashboard!$P$4=\"All\",Data!G692,IF(Data!K692=Dashboard!$P$4,Data!G692,NA()))","v":{"$error":"#N/A"}},"","","",{"$f":"IF(C141<>\"\",Data!$M692,\"\")","v":""},null,null,null,null,{"$f":"IF(Dashboard!$R$4=\"All\",Data!G692,IF(Data!K692=Dashboard!$R$4,Data!G692,NA()))","v":{"$error":"#N/A"}},"","","",{"$f":"IF(L141<>\"\",Data!$M692,\"\")","v":""},null,null,null,null,{"$f":"IF(OR(Dashboard!$P$4=\"All\",Dashboard!$R$4=\"All\"),NA(),IF(OR(Data!K692<>Dashboard!$P$4,Data!K692<>Dashboard!$R$4),Data!G692,NA()))","v":6588.9291743537506},null,null,null,null,null,null,null,null,null,null,null,null,null,null,"ID0231",null,null,null,null,null,null,null,null,null,null,65000,1,null,null,null,null,null,null,null,null,null,null,null,null,null,null,null,null,null,null,null,null,null,"ID0231",null,65000]
[null,{"$f":"IF(Dashboard!$P$4=\"All\",Data!G693,IF(Data!K693=Dashboard!$P$4,Data!G693,NA()))","v":{"$error":"#N/A"}},"","","",{"$f":"IF(C142<>\"\",Data!$M693,\"\")","v":""},null,null,null,null,{"$f":"IF(Dashboard!$R$4=\"All\",Data!G693,IF(Data!K693=Dashboard!$R$4,Data!G693,NA()))","v":{"$error":"#N/A"}},"","","",{"$f":"IF(L142<>\"\",Data!$M693,\"\")","v":""},null,null,null,null,{"$f":"IF(OR(Dashboard!$P$4=\"All\",Dashboard!$R$4=\"All\"),NA(),IF(OR(Data!K693<>Dashboard!$P$4,Data!K693<>Dashboard!$R$4),Data!G693,NA()))","v":6588.9291743537506},null,null,null,null,null,null,null,null,null,null,null,null,null,null,"ID0232",null,null,null,null,null,null,114000,1,null,null,null,null,null,null,null,null,null,null,null,null,null,null,null,null,null,null,null,null,null,null,null,null,null,"ID0232",null,114000]
[null,{"$f":"IF(Dashboard!$P$4=\"All\",Data!G694,IF(Data!K694=Dashboard!$P$4,Data!G694,NA()))","v":{"$error":"#N/A"}},"","","",{"$f":"IF(C143<>\"\",Data!$M694,\"\")","v":""},null,null,null,null,{"$f":"IF(Dashboard!$R$4=\"All\",Data!G694,IF(Data!K694=Dashboard!$R$4,Data!G694,NA()))","v":{"$error":"#N/A"}},"","","",{"$f":"IF(L143<>\"\",Data!$M694,\"\")","v":""},null,null,null,null,{"$f":"IF(OR(Dashboard!$P$4=\"All\",Dashboard!$R$4=\"All\"),NA(),IF(OR(Data!K694<>Dashboard!$P$4,Data!K694<>Dashboard!$R$4),Data!G694,NA()))","v":35000},null,null,null,null,null,null,null,null,null,null,null,null,null,null,"ID0233",null,null,null,null,null,null,95000,1,null,null,null,null,null,null,null,null,null,null,null,null,null,null,null,null,null,null,null,null,null,null,null,null,null,"ID0233",null,null,95000]
[null,{"$f":"IF(Dashboard!$P$4=\"All\",Data!G695,IF(Data!K695=Dashboard!$P$4,Data!G695,NA()))","v":{"$error":"#N/A"}},"","","",{"$f":"IF(C144<>\"\",Data!$M695,\"\")","v":""},null,null,null,null,{"$f":"IF(Dashboard!$R$4=\"All\",Data!G695,IF(Data!K695=Dashboard!$R$4,Data!G695,NA()))","v":{"$error":"#N/A"}},"","","",{"$f":"IF(L144<>\"\",Data!$M695,\"\")","v":""},null,null,null,null,{"$f":"IF(OR(Dashboard!$P$4=\"All\",Dashboard!$R$4=\"All\"),NA(),IF(OR(Data!K695<>Dashboard!$P$4,Data!K695<>Dashboard!$R$4),Data!G695,NA()))","v":12821.700014958649},null,null,null,null,null,null,null,null,null,null,null,null,null,null,"ID0234",52500,1,null,null,null,null,null,null,null,null,null,null,null,null,null,null,null,null,null,null,null,null,null,null,null,null,null,null,null,null,null,null,null,"ID0234",null,null,52500]
[null,{"$f":"IF(Dashboard!$P$4=\"All\",Data!G696,IF(Data!K696=Dashboard!$P$4,Data!G696,NA()))","v":{"$error":"#N/A"}},"","","",{"$f":"IF(C145<>\"\",Data!$M696,\"\")","v":""},null,null,null,null,{"$f":"IF(Dashboard!$R$4=\"All\",Data!G696,IF(Data!K696=Dashboard!$R$4,Data!G696,NA()))","v":{"$error":"#N/A"}},"","","",{"$f":"IF(L145<>\"\",Data!$M696,\"\")","v":""},null,null,null,null,{"$f":"IF(OR(Dashboard!$P$4=\"All\",Dashboard!$R$4=\"All\"),NA(),IF(OR(Data!K696<>Dashboard!$P$4,Data!K696<>Dashboard!$R$4),Data!G696,NA()))","v":10684.750012465542},null,null,null,null,null,null,null,null,null,null,null,null,null,null,"ID0236",60000,1,null,null,null,null,null,null,null,null,null,null,null,null,null,null,null,null,null,null,null,null,null,null,null,null,null,null,null,null,null,null,null,"ID0236",null,null,60000]
[null,{"$f":"IF(Dashboard!$P$4=\"All\",Data!G697,IF(Data!K697=Dashboard!$P$4,Data!G697,NA()))","v":{"$error":"#N/A"}},"","","",{"$f":"IF(C146<>\"\",Data!$M697,\"\")","v":""},null,null,null,null,{"$f":"IF(Dashboard!$R$4=\"All\",Data!G697,IF(Data!K697=Dashboard!$R$4,Data!G697,NA()))","v":{"$error":"#N/A"}},"","","",{"$f":"IF(L146<>\"\",Data!$M697,\"\")","v":""},null,null,null,null,{"$f":"IF(OR(Dashboard!$P$4=\"All\",Dashboard!$R$4=\"All\"),NA(),IF(OR(Data!K697<>Dashboard!$P$4,Data!K697<>Dashboard!$R$4),Data!G697,NA()))","v":10000},null,null,null,null,null,null,null,null,null,null,null,null,null,null,"ID0237",null,null,null,null,65250,1,null,null,null,null,null,null,null,null,null,null,null,null,null,null,null,null,null,null,null,null,null,null,null,null,null,null,null,"ID0237",null,null,65250]
[null,{"$f":"IF(Dashboard!$P$4=\"All\",Data!G698,IF(Data!K698=Dashboard!$P$4,Data!G698,NA()))","v":{"$error":"#N/A"}},"","","",{"$f":"IF(C147<>\"\",Data!$M698,\"\")","v":""},null,null,null,null,{"$f":"IF(Dashboard!$R$4=\"All\",Data!G698,IF(Data!K698=Dashboard!$R$4,Data!G698,NA()))","v":{"$error":"#N/A"}},"","","",{"$f":"IF(L147<>\"\",Data!$M698,\"\")","v":""},null,null,null,null,{"$f":"IF(OR(Dashboard!$P$4=\"All\",Dashboard!$R$4=\"All\"),NA(),IF(OR(Data!K698<>Dashboard!$P$4,Data!K698<>Dashboard!$R$4),Data!G698,NA()))","v":2136.9500024931081},null,null,null,null,null,null,null,null,null,null,null,null,null,null,"ID0241",73000,1,null,null,null,null,null,null,null,null,null,null,null,null,null,null,null,null,null,null,null,null,null,null,null,null,null,null,null,null,null,null,null,"ID0241",null,null,73000]
[null,{"$f":"IF(Dashboard!$P$4=\"All\",Data!G699,IF(Data!K699=Dashboard!$P$4,Data!G699,NA()))","v":{"$error":"#N/A"}},"","","",{"$f":"IF(C148<>\"\",Data!$M699,\"\")","v":""},null,null,null,null,{"$f":"IF(Dashboard!$R$4=\"All\",Data!G699,IF(Data!K699=Dashboard!$R$4,Data!G699,NA()))","v":{"$error":"#N/A"}},"","","",{"$f":"IF(L148<>\"\",Data!$M699,\"\")","v":""},null,null,null,null,{"$f":"IF(OR(Dashboard!$P$4=\"All\",Dashboard!$R$4=\"All\"),NA(),IF(OR(Data!K699<>Dashboard!$P$4,Data!K699<>Dashboard!$R$4),Data!G699,NA()))","v":8547.8000099724322},null,null,null,null,null,null,null,null,null,null,null,null,null,null,"ID0242",50000,1,null,null,null,null,null,null,null,null,null,null,null,null,null,null,null,null,null,null,null,null,null,null,null,null,null,null,null,null,null,null,null,"ID0242",null,null,null,50000]
[null,{"$f":"IF(Dashboard!$P$4=\"All\",Data!G700,IF(Data!K700=Dashboard!$P$4,Data!G700,NA()))","v":{"$error":"#N/A"}},"","","",{"$f":"IF(C149<>\"\",Data!$M700,\"\")","v":""},null,null,null,null,{"$f":"IF(Dashboard!$R$4=\"All\",Data!G700,IF(Data!K700=Dashboard!$R$4,Data!G700,NA()))","v":{"$error":"#N/A"}},"","","",{"$f":"IF(L149<>\"\",Data!$M700,\"\")","v":""},null,null,null,null,{"$f":"IF(OR(Dashboard!$P$4=\"All\",Dashboard!$R$4=\"All\"),NA(),IF(OR(Data!K700<>Dashboard!$P$4,Data!K700<>Dashboard!$R$4),Data!G700,NA()))","v":8013.5625093491553},null,null,null,null,null,null,null,null,null,null,null,null,null,null,"ID0243",null,null,null,null,79000,1,null,null,null,null,null,null,null,null,null,null,null,null,null,null,null,null,null,null,null,null,null,null,null,null,null,null,null,"ID0243",null,79000]
[null,{"$f":"IF(Dashboard!$P$4=\"All\",Data!G701,IF(Data!K701=Dashboard!$P$4,Data!G701,NA()))","v":{"$error":"#N/A"}},"","","",{"$f":"IF(C150<>\"\",Data!$M701,\"\")","v":""},null,null,null,null,{"$f":"IF(Dashboard!$R$4=\"All\",Data!G701,IF(Data!K701=Dashboard!$R$4,Data!G701,NA()))","v":{"$error":"#N/A"}},"","","",{"$f":"IF(L150<>\"\",Data!$M701,\"\")","v":""},null,null,null,null,{"$f":"IF(OR(Dashboard!$P$4=\"All\",Dashboard!$R$4=\"All\"),NA(),IF(OR(Data!K701<>Dashboard!$P$4,Data!K701<>Dashboard!$R$4),Data!G701,NA()))","v":7123.1666749770275},null,null,null,null,null,null,null,null,null,null,null,null,null,null,"ID0244",null,null,90000,1,null,null,null,null,null,null,null,null,null,null,null,null,null,null,null,null,null,null,null,null,null,null,null,null,null,null,null,null,null,"ID0244",null,null,90000]
[null,{"$f":"IF(Dashboard!$P$4=\"All\",Data!G702,IF(Data!K702=Dashboard!$P$4,Data!G702,NA()))","v":{"$error":"#N/A"}},"","","",{"$f":"IF(C151<>\"\",Data!$M702,\"\")","v":""},null,null,null,null,{"$f":"IF(Dashboard!$R$4=\"All\",Data!G702,IF(Data!K702=Dashboard!$R$4,Data!G702,NA()))","v":{"$error":"#N/A"}},"","","",{"$f":"IF(L151<>\"\",Data!$M702,\"\")","v":""},null,null,null,null,{"$f":"IF(OR(Dashboard!$P$4=\"All\",Dashboard!$R$4=\"All\"),NA(),IF(OR(Data!K702<>Dashboard!$P$4,Data!K702<>Dashboard!$R$4),Data!G702,NA()))","v":40958.208381117904},null,null,null,null,null,null,null,null,null,null,null,null,null,null,"ID0245",null,null,70000,1,null,null,null,null,null,null,null,null,null,null,null,null,null,null,null,null,null,null,null,null,null,null,null,null,null,null,null,null,null,"ID0245",null,70000]
[null,{"$f":"IF(Dashboard!$P$4=\"All\",Data!G703,IF(Data!K703=Dashboard!$P$4,Data!G703,NA()))","v":{"$error":"#N/A"}},"","","",{"$f":"IF(C152<>\"\",Data!$M703,\"\")","v":""},null,null,null,null,{"$f":"IF(Dashboard!$R$4=\"All\",Data!G703,IF(Data!K703=Dashboard!$R$4,Data!G703,NA()))","v":{"$error":"#N/A"}},"","","",{"$f":"IF(L152<>\"\",Data!$M703,\"\")","v":""},null,null,null,null,{"$f":"IF(OR(Dashboard!$P$4=\"All\",Dashboard!$R$4=\"All\"),NA(),IF(OR(Data!K703<>Dashboard!$P$4,Data!K703<>Dashboard!$R$4),Data!G703,NA()))","v":11325.835013213473},null,null,null,null,null,null,null,null,null,null,null,null,null,null,"ID0247",80000,1,null,null,null,null,null,null,null,null,null,null,null,null,null,null,null,null,null,null,null,null,null,null,null,null,null,null,null,null,null,null,null,"ID0247",null,null,80000]
[null,{"$f":"IF(Dashboard!$P$4=\"All\",Data!G704,IF(Data!K704=Dashboard!$P$4,Data!G704,NA()))","v":{"$error":"#N/A"}},"","","",{"$f":"IF(C153<>\"\",Data!$M704,\"\")","v":""},null,null,null,null,{"$f":"IF(Dashboard!$R$4=\"All\",Data!G704,IF(Data!K704=Dashboard!$R$4,Data!G704,NA()))","v":{"$error":"#N/A"}},"","","",{"$f":"IF(L153<>\"\",Data!$M704,\"\")","v":""},null,null,null,null,{"$f":"IF(OR(Dashboard!$P$4=\"All\",Dashboard!$R$4=\"All\"),NA(),IF(OR(Data!K704<>Dashboard!$P$4,Data!K704<>Dashboard!$R$4),Data!G704,NA()))","v":15000},null,null,null,null,null,null,null,null,null,null,null,null,null,null,"ID0248",null,null,140000,1,null,null,null,null,null,null,null,null,null,null,null,null,null,null,null,null,null,null,null,null,null,null,null,null,null,null,null,null,null,"ID0248",null,null,140000]
[null,{"$f":"IF(Dashboard!$P$4=\"All\",Data!G705,IF(Data!K705=Dashboard!$P$4,Data!G705,NA()))","v":{"$error":"#N/A"}},"","","",{"$f":"IF(C154<>\"\",Data!$M705,\"\")","v":""},null,null,null,null,{"$f":"IF(Dashboard!$R$4=\"All\",Data!G705,IF(Data!K705=Dashboard!$R$4,Data!G705,NA()))","v":{"$error":"#N/A"}},"","","",{"$f":"IF(L154<>\"\",Data!$M705,\"\")","v":""},null,null,null,null,{"$f":"IF(OR(Dashboard!$P$4=\"All\",Dashboard!$R$4=\"All\"),NA(),IF(OR(Data!K705<>Dashboard!$P$4,Data!K705<>Dashboard!$R$4),Data!G705,NA()))","v":12000},null,null,null,null,null,null,null,null,null,null,null,null,null,null,"ID0251",47700,1,null,null,null,null,null,null,null,null,null,null,null,null,null,null,null,null,null,null,null,null,null,null,null,null,null,null,null,null,null,null,null,"ID0251",null,null,47700]
[null,{"$f":"IF(Dashboard!$P$4=\"All\",Data!G706,IF(Data!K706=Dashboard!$P$4,Data!G706,NA()))","v":{"$error":"#N/A"}},"","","",{"$f":"IF(C155<>\"\",Data!$M706,\"\")","v":""},null,null,null,null,{"$f":"IF(Dashboard!$R$4=\"All\",Data!G706,IF(Data!K706=Dashboard!$R$4,Data!G706,NA()))","v":{"$error":"#N/A"}},"","","",{"$f":"IF(L155<>\"\",Data!$M706,\"\")","v":""},null,null,null,null,{"$f":"IF(OR(Dashboard!$P$4=\"All\",Dashboard!$R$4=\"All\"),NA(),IF(OR(Data!K706<>Dashboard!$P$4,Data!K706<>Dashboard!$R$4),Data!G706,NA()))","v":8903.9583437212841},null,null,null,null,null,null,null,null,null,null,null,null,null,null,"ID0253",52500,1,null,null,null,null,null,null,null,null,null,null,null,null,null,null,null,null,null,null,null,null,null,null,null,null,null,null,null,null,null,null,null,"ID0253",null,null,52500]
[null,{"$f":"IF(Dashboard!$P$4=\"All\",Data!G707,IF(Data!K707=Dashboard!$P$4,Data!G707,NA()))","v":{"$error":"#N/A"}},"","","",{"$f":"IF(C156<>\"\",Data!$M707,\"\")","v":""},null,null,null,null,{"$f":"IF(Dashboard!$R$4=\"All\",Data!G707,IF(Data!K707=Dashboard!$R$4,Data!G707,NA()))","v":{"$error":"#N/A"}},"","","",{"$f":"IF(L156<>\"\",Data!$M707,\"\")","v":""},null,null,null,null,{"$f":"IF(OR(Dashboard!$P$4=\"All\",Dashboard!$R$4=\"All\"),NA(),IF(OR(Data!K707<>Dashboard!$P$4,Data!K707<>Dashboard!$R$4),Data!G707,NA()))","v":8903.9583437212841},null,null,null,null,null,null,null,null,null,null,null,null,null,null,"ID0254",40000,1,null,null,null,null,null,null,null,null,null,null,null,null,null,null,null,null,null,null,null,null,null,null,null,null,null,null,null,null,null,null,null,"ID0254",null,null,null,40000]
[null,{"$f":"IF(Dashboard!$P$4=\"All\",Data!G708,IF(Data!K708=Dashboard!$P$4,Data!G708,NA()))","v":{"$error":"#N/A"}},"","","",{"$f":"IF(C157<>\"\",Data!$M708,\"\")","v":""},null,null,null,null,{"$f":"IF(Dashboard!$R$4=\"All\",Data!G708,IF(Data!K708=Dashboard!$R$4,Data!G708,NA()))","v":{"$error":"#N/A"}},"","","",{"$f":"IF(L157<>\"\",Data!$M708,\"\")","v":""},null,null,null,null,{"$f":"IF(OR(Dashboard!$P$4=\"All\",Dashboard!$R$4=\"All\"),NA(),IF(OR(Data!K708<>Dashboard!$P$4,Data!K708<>Dashboard!$R$4),Data!G708,NA()))","v":12821.700014958649},null,null,null,null,null,null,null,null,null,null,null,null,null,null,"ID0255",31000,1,null,null,null,null,null,null,null,null,null,null,null,null,null,null,null,null,null,null,null,null,null,null,null,null,null,null,null,null,null,null,null,"ID0255",null,null,31000]
[null,{"$f":"IF(Dashboard!$P$4=\"All\",Data!G709,IF(Data!K709=Dashboard!$P$4,Data!G709,NA()))","v":{"$error":"#N/A"}},"","","",{"$f":"IF(C158<>\"\",Data!$M709,\"\")","v":""},null,null,null,null,{"$f":"IF(Dashboard!$R$4=\"All\",Data!G709,IF(Data!K709=Dashboard!$R$4,Data!G709,NA()))","v":{"$error":"#N/A"}},"","","",{"$f":"IF(L158<>\"\",Data!$M709,\"\")","v":""},null,null,null,null,{"$f":"IF(OR(Dashboard!$P$4=\"All\",Dashboard!$R$4=\"All\"),NA(),IF(OR(Data!K709<>Dashboard!$P$4,Data!K709<>Dashboard!$R$4),Data!G709,NA()))","v":3205.4250037396623},null,null,null,null,null,null,null,null,null,null,null,null,null,null,"ID0257",null,null,130000,1,null,null,null,null,null,null,null,null,null,null,null,null,null,null,null,null,null,null,null,null,null,null,null,null,null,null,null,null,null,"ID0257",null,null,130000]
[null,{"$f":"IF(Dashboard!$P$4=\"All\",Data!G710,IF(Data!K710=Dashboard!$P$4,Data!G710,NA()))","v":{"$error":"#N/A"}},"","","",{"$f":"IF(C159<>\"\",Data!$M710,\"\")","v":""},null,null,null,null,{"$f":"IF(Dashboard!$R$4=\"All\",Data!G710,IF(Data!K710=Dashboard!$R$4,Data!G710,NA()))","v":{"$error":"#N/A"}},"","","",{"$f":"IF(L159<>\"\",Data!$M710,\"\")","v":""},null,null,null,null,{"$f":"IF(OR(Dashboard!$P$4=\"All\",Dashboard!$R$4=\"All\"),NA(),IF(OR(Data!K710<>Dashboard!$P$4,Data!K710<>Dashboard!$R$4),Data!G710,NA()))","v":6677.9687577909626},null,null,null,null,null,null,null,null,null,null,null,null,null,null,"ID0259",51000,1,null,null,null,null,null,null,null,null,null,null,null,null,null,null,null,null,null,null,null,null,null,null,null,null,null,null,null,null,null,null,null,"ID0259",null,51000]
[null,{"$f":"IF(Dashboard!$P$4=\"All\",Data!G711,IF(Data!K711=Dashboard!$P$4,Data!G711,NA()))","v":{"$error":"#N/A"}},"","","",{"$f":"IF(C160<>\"\",Data!$M711,\"\")","v":""},null,null,null,null,{"$f":"IF(Dashboard!$R$4=\"All\",Data!G711,IF(Data!K711=Dashboard!$R$4,Data!G711,NA()))","v":{"$error":"#N/A"}},"","","",{"$f":"IF(L160<>\"\",Data!$M711,\"\")","v":""},null,null,null,null,{"$f":"IF(OR(Dashboard!$P$4=\"All\",Dashboard!$R$4=\"All\"),NA(),IF(OR(Data!K711<>Dashboard!$P$4,Data!K711<>Dashboard!$R$4),Data!G711,NA()))","v":67794.987956419791},null,null,null,null,null,null,null,null,null,null,null,null,null,null,"ID0263",null,null,null,null,null,null,null,null,null,null,73000,1,null,null,null,null,null,null,null,null,null,null,null,null,null,null,null,null,null,null,null,null,null,"ID0263",null,null,73000]
[null,{"$f":"IF(Dashboard!$P$4=\"All\",Data!G712,IF(Data!K712=Dashboard!$P$4,Data!G712,NA()))","v":{"$error":"#N/A"}},"","","",{"$f":"IF(C161<>\"\",Data!$M712,\"\")","v":""},null,null,null,null,{"$f":"IF(Dashboard!$R$4=\"All\",Data!G712,IF(Data!K712=Dashboard!$R$4,Data!G712,NA()))","v":{"$error":"#N/A"}},"","","",{"$f":"IF(L161<>\"\",Data!$M712,\"\")","v":""},null,null,null,null,{"$f":"IF(OR(Dashboard!$P$4=\"All\",Dashboard!$R$4=\"All\"),NA(),IF(OR(Data!K712<>Dashboard!$P$4,Data!K712<>Dashboard!$R$4),Data!G712,NA()))","v":31250},null,null,null,null,null,null,null,null,null,null,null,null,null,null,"ID0264",null,null,null,null,62400,1,null,null,null,null,null,null,null,null,null,null,null,null,null,null,null,null,null,null,null,null,null,null,null,null,null,null,null,"ID0264",null,null,null,62400]
[null,{"$f":"IF(Dashboard!$P$4=\"All\",Data!G713,IF(Data!K713=Dashboard!$P$4,Data!G713,NA()))","v":{"$error":"#N/A"}},"","","",{"$f":"IF(C162<>\"\",Data!$M713,\"\")","v":""},null,null,null,null,{"$f":"IF(Dashboard!$R$4=\"All\",Data!G713,IF(Data!K713=Dashboard!$R$4,Data!G713,NA()))","v":{"$error":"#N/A"}},"","","",{"$f":"IF(L162<>\"\",Data!$M713,\"\")","v":""},null,null,null,null,{"$f":"IF(OR(Dashboard!$P$4=\"All\",Dashboard!$R$4=\"All\"),NA(),IF(OR(Data!K713<>Dashboard!$P$4,Data!K713<>Dashboard!$R$4),Data!G713,NA()))","v":2165.2740982270229},null,null,null,null,null,null,null,null,null,null,null,null,null,null,"ID0266",null,null,54000,1,null,null,null,null,null,null,null,null,null,null,null,null,null,null,null,null,null,null,null,null,null,null,null,null,null,null,null,null,null,"ID0266",null,null,null,54000]
[null,{"$f":"IF(Dashboard!$P$4=\"All\",Data!G714,IF(Data!K714=Dashboard!$P$4,Data!G714,NA()))","v":{"$error":"#N/A"}},"","","",{"$f":"IF(C163<>\"\",Data!$M714,\"\")","v":""},null,null,null,null,{"$f":"IF(Dashboard!$R$4=\"All\",Data!G714,IF(Data!K714=Dashboard!$R$4,Data!G714,NA()))","v":{"$error":"#N/A"}},"","","",{"$f":"IF(L163<>\"\",Data!$M714,\"\")","v":""},null,null,null,null,{"$f":"IF(OR(Dashboard!$P$4=\"All\",Dashboard!$R$4=\"All\"),NA(),IF(OR(Data!K714<>Dashboard!$P$4,Data!K714<>Dashboard!$R$4),Data!G714,NA()))","v":7123.1666749770275},null,null,null,null,null,null,null,null,null,null,null,null,null,null,"ID0268",null,null,null,null,77000,1,null,null,null,null,null,null,null,null,null,null,null,null,null,null,null,null,null,null,null,null,null,null,null,null,null,null,null,"ID0268",null,null,77000]
[null,{"$f":"IF(Dashboard!$P$4=\"All\",Data!G715,IF(Data!K715=Dashboard!$P$4,Data!G715,NA()))","v":{"$error":"#N/A"}},"","","",{"$f":"IF(C164<>\"\",Data!$M715,\"\")","v":""},null,null,null,null,{"$f":"IF(Dashboard!$R$4=\"All\",Data!G715,IF(Data!K715=Dashboard!$R$4,Data!G715,NA()))","v":{"$error":"#N/A"}},"","","",{"$f":"IF(L164<>\"\",Data!$M715,\"\")","v":""},null,null,null,null,{"$f":"IF(OR(Dashboard!$P$4=\"All\",Dashboard!$R$4=\"All\"),NA(),IF(OR(Data!K715<>Dashboard!$P$4,Data!K715<>Dashboard!$R$4),Data!G715,NA()))","v":130000},null,null,null,null,null,null,null,null,null,null,null,null,null,null,"ID0269",null,null,76000,1,null,null,null,null,null,null,null,null,null,null,null,null,null,null,null,null,null,null,null,null,null,null,null,null,null,null,null,null,null,"ID0269",null,null,null,76000]
[null,{"$f":"IF(Dashboard!$P$4=\"All\",Data!G716,IF(Data!K716=Dashboard!$P$4,Data!G716,NA()))","v":{"$error":"#N/A"}},"","","",{"$f":"IF(C165<>\"\",Data!$M716,\"\")","v":""},null,null,null,null,{"$f":"IF(Dashboard!$R$4=\"All\",Data!G716,IF(Data!K716=Dashboard!$R$4,Data!G716,NA()))","v":{"$error":"#N/A"}},"","","",{"$f":"IF(L165<>\"\",Data!$M716,\"\")","v":""},null,null,null,null,{"$f":"IF(OR(Dashboard!$P$4=\"All\",Dashboard!$R$4=\"All\"),NA(),IF(OR(Data!K716<>Dashboard!$P$4,Data!K716<>Dashboard!$R$4),Data!G716,NA()))","v":4451.9791718606421},null,null,null,null,null,null,null,null,null,null,null,null,null,null,"ID0270",null,null,null,null,null,null,103000,1,null,null,null,null,null,null,null,null,null,null,null,null,null,null,null,null,null,null,null,null,null,null,null,null,null,"ID0270",null,103000]
[null,{"$f":"IF(Dashboard!$P$4=\"All\",Data!G717,IF(Data!K717=Dashboard!$P$4,Data!G717,NA()))","v":{"$error":"#N/A"}},"","","",{"$f":"IF(C166<>\"\",Data!$M717,\"\")","v":""},null,null,null,null,{"$f":"IF(Dashboard!$R$4=\"All\",Data!G717,IF(Data!K717=Dashboard!$R$4,Data!G717,NA()))","v":{"$error":"#N/A"}},"","","",{"$f":"IF(L166<>\"\",Data!$M717,\"\")","v":""},null,null,null,null,{"$f":"IF(OR(Dashboard!$P$4=\"All\",Dashboard!$R$4=\"All\"),NA(),IF(OR(Data!K717<>Dashboard!$P$4,Data!K717<>Dashboard!$R$4),Data!G717,NA()))","v":9600},null,null,null,null,null,null,null,null,null,null,null,null,null,null,"ID0272",40000,1,null,null,null,null,null,null,null,null,null,null,null,null,null,null,null,null,null,null,null,null,null,null,null,null,null,null,null,null,null,null,null,"ID0272",null,null,40000]
[null,{"$f":"IF(Dashboard!$P$4=\"All\",Data!G718,IF(Data!K718=Dashboard!$P$4,Data!G718,NA()))","v":{"$error":"#N/A"}},"","","",{"$f":"IF(C167<>\"\",Data!$M718,\"\")","v":""},null,null,null,null,{"$f":"IF(Dashboard!$R$4=\"All\",Data!G718,IF(Data!K718=Dashboard!$R$4,Data!G718,NA()))","v":{"$error":"#N/A"}},"","","",{"$f":"IF(L167<>\"\",Data!$M718,\"\")","v":""},null,null,null,null,{"$f":"IF(OR(Dashboard!$P$4=\"All\",Dashboard!$R$4=\"All\"),NA(),IF(OR(Data!K718<>Dashboard!$P$4,Data!K718<>Dashboard!$R$4),Data!G718,NA()))","v":6945.0875081026015},null,null,null,null,null,null,null,null,null,null,null,null,null,null,"ID0273",null,null,null,null,null,null,80000,1,null,null,null,null,null,null,null,null,null,null,null,null,null,null,null,null,null,null,null,null,null,null,null,null,null,"ID0273",null,80000]
[null,{"$f":"IF(Dashboard!$P$4=\"All\",Data!G719,IF(Data!K719=Dashboard!$P$4,Data!G719,NA()))","v":{"$error":"#N/A"}},"","","",{"$f":"IF(C168<>\"\",Data!$M719,\"\")","v":""},null,null,null,null,{"$f":"IF(Dashboard!$R$4=\"All\",Data!G719,IF(Data!K719=Dashboard!$R$4,Data!G719,NA()))","v":{"$error":"#N/A"}},"","","",{"$f":"IF(L168<>\"\",Data!$M719,\"\")","v":""},null,null,null,null,{"$f":"IF(OR(Dashboard!$P$4=\"All\",Dashboard!$R$4=\"All\"),NA(),IF(OR(Data!K719<>Dashboard!$P$4,Data!K719<>Dashboard!$R$4),Data!G719,NA()))","v":10684.750012465542},null,null,null,null,null,null,null,null,null,null,null,null,null,null,"ID0274",55000,1,null,null,null,null,null,null,null,null,null,null,null,null,null,null,null,null,null,null,null,null,null,null,null,null,null,null,null,null,null,null,null,"ID0274",null,null,null,55000]
[null,{"$f":"IF(Dashboard!$P$4=\"All\",Data!G720,IF(Data!K720=Dashboard!$P$4,Data!G720,NA()))","v":{"$error":"#N/A"}},"","","",{"$f":"IF(C169<>\"\",Data!$M720,\"\")","v":""},null,null,null,null,{"$f":"IF(Dashboard!$R$4=\"All\",Data!G720,IF(Data!K720=Dashboard!$R$4,Data!G720,NA()))","v":{"$error":"#N/A"}},"","","",{"$f":"IF(L169<>\"\",Data!$M720,\"\")","v":""},null,null,null,null,{"$f":"IF(OR(Dashboard!$P$4=\"All\",Dashboard!$R$4=\"All\"),NA(),IF(OR(Data!K720<>Dashboard!$P$4,Data!K720<>Dashboard!$R$4),Data!G720,NA()))","v":8547.8000099724322},null,null,null,null,null,null,null,null,null,null,null,null,null,null,"ID0275",99000,1,null,null,null,null,null,null,null,null,null,null,null,null,null,null,null,null,null,null,null,null,null,null,null,null,null,null,null,null,null,null,null,"ID0275",null,99000]
[null,{"$f":"IF(Dashboard!$P$4=\"All\",Data!G721,IF(Data!K721=Dashboard!$P$4,Data!G721,NA()))","v":{"$error":"#N/A"}},"","","",{"$f":"IF(C170<>\"\",Data!$M721,\"\")","v":""},null,null,null,null,{"$f":"IF(Dashboard!$R$4=\"All\",Data!G721,IF(Data!K721=Dashboard!$R$4,Data!G721,NA()))","v":{"$error":"#N/A"}},"","","",{"$f":"IF(L170<>\"\",Data!$M721,\"\")","v":""},null,null,null,null,{"$f":"IF(OR(Dashboard!$P$4=\"All\",Dashboard!$R$4=\"All\"),NA(),IF(OR(Data!K721<>Dashboard!$P$4,Data!K721<>Dashboard!$R$4),Data!G721,NA()))","v":35000},null,null,null,null,null,null,null,null,null,null,null,null,null,null,"ID0277",75000,1,null,null,null,null,null,null,null,null,null,null,null,null,null,null,null,null,null,null,null,null,null,null,null,null,null,null,null,null,null,null,null,"ID0277",null,null,75000]
[null,{"$f":"IF(Dashboard!$P$4=\"All\",Data!G722,IF(Data!K722=Dashboard!$P$4,Data!G722,NA()))","v":{"$error":"#N/A"}},"","","",{"$f":"IF(C171<>\"\",Data!$M722,\"\")","v":""},null,null,null,null,{"$f":"IF(Dashboard!$R$4=\"All\",Data!G722,IF(Data!K722=Dashboard!$R$4,Data!G722,NA()))","v":{"$error":"#N/A"}},"","","",{"$f":"IF(L171<>\"\",Data!$M722,\"\")","v":""},null,null,null,null,{"$f":"IF(OR(Dashboard!$P$4=\"All\",Dashboard!$R$4=\"All\"),NA(),IF(OR(Data!K722<>Dashboard!$P$4,Data!K722<>Dashboard!$R$4),Data!G722,NA()))","v":17807.916687442568},null,null,null,null,null,null,null,null,null,null,null,null,null,null,"ID0278",null,null,80000,1,null,null,null,null,null,null,null,null,null,null,null,null,null,null,null,null,null,null,null,null,null,null,null,null,null,null,null,null,null,"ID0278",null,80000]
[null,{"$f":"IF(Dashboard!$P$4=\"All\",Data!G723,IF(Data!K723=Dashboard!$P$4,Data!G723,NA()))","v":{"$error":"#N/A"}},"","","",{"$f":"IF(C172<>\"\",Data!$M723,\"\")","v":""},null,null,null,null,{"$f":"IF(Dashboard!$R$4=\"All\",Data!G723,IF(Data!K723=Dashboard!$R$4,Data!G723,NA()))","v":{"$error":"#N/A"}},"","","",{"$f":"IF(L172<>\"\",Data!$M723,\"\")","v":""},null,null,null,null,{"$f":"IF(OR(Dashboard!$P$4=\"All\",Dashboard!$R$4=\"All\"),NA(),IF(OR(Data!K723<>Dashboard!$P$4,Data!K723<>Dashboard!$R$4),Data!G723,NA()))","v":3205.4250037396623},null,null,null,null,null,null,null,null,null,null,null,null,null,null,"ID0280",40000,1,null,null,null,null,null,null,null,null,null,null,null,null,null,null,null,null,null,null,null,null,null,null,null,null,null,null,null,null,null,null,null,"ID0280",null,null,null,40000]
[null,{"$f":"IF(Dashboard!$P$4=\"All\",Data!G724,IF(Data!K724=Dashboard!$P$4,Data!G724,NA()))","v":{"$error":"#N/A"}},"","","",{"$f":"IF(C173<>\"\",Data!$M724,\"\")","v":""},null,null,null,null,{"$f":"IF(Dashboard!$R$4=\"All\",Data!G724,IF(Data!K724=Dashboard!$R$4,Data!G724,NA()))","v":{"$error":"#N/A"}},"","","",{"$f":"IF(L173<>\"\",Data!$M724,\"\")","v":""},null,null,null,null,{"$f":"IF(OR(Dashboard!$P$4=\"All\",Dashboard!$R$4=\"All\"),NA(),IF(OR(Data!K724<>Dashboard!$P$4,Data!K724<>Dashboard!$R$4),Data!G724,NA()))","v":60000},null,null,null,null,null,null,null,null,null,null,null,null,null,null,"ID0281",46000,1,null,null,null,null,null,null,null,null,null,null,null,null,null,null,null,null,null,null,null,null,null,null,null,null,null,null,null,null,null,null,null,"ID0281",null,null,null,46000]
[null,{"$f":"IF(Dashboard!$P$4=\"All\",Data!G725,IF(Data!K725=Dashboard!$P$4,Data!G725,NA()))","v":{"$error":"#N/A"}},"","","",{"$f":"IF(C174<>\"\",Data!$M725,\"\")","v":""},null,null,null,null,{"$f":"IF(Dashboard!$R$4=\"All\",Data!G725,IF(Data!K725=Dashboard!$R$4,Data!G725,NA()))","v":{"$error":"#N/A"}},"","","",{"$f":"IF(L174<>\"\",Data!$M725,\"\")","v":""},null,null,null,null,{"$f":"IF(OR(Dashboard!$P$4=\"All\",Dashboard!$R$4=\"All\"),NA(),IF(OR(Data!K725<>Dashboard!$P$4,Data!K725<>Dashboard!$R$4),Data!G725,NA()))","v":14246.333349954055},null,null,null,null,null,null,null,null,null,null,null,null,null,null,"ID0283",null,null,null,null,null,null,null,null,70000,1,null,null,null,null,null,null,null,null,null,null,null,null,null,null,null,null,null,null,null,null,null,null,null,"ID0283",null,null,null,70000]
[null,{"$f":"IF(Dashboard!$P$4=\"All\",Data!G726,IF(Data!K726=Dashboard!$P$4,Data!G726,NA()))","v":{"$error":"#N/A"}},"","","",{"$f":"IF(C175<>\"\",Data!$M726,\"\")","v":""},null,null,null,null,{"$f":"IF(Dashboard!$R$4=\"All\",Data!G726,IF(Data!K726=Dashboard!$R$4,Data!G726,NA()))","v":{"$error":"#N/A"}},"","","",{"$f":"IF(L175<>\"\",Data!$M726,\"\")","v":""},null,null,null,null,{"$f":"IF(OR(Dashboard!$P$4=\"All\",Dashboard!$R$4=\"All\"),NA(),IF(OR(Data!K726<>Dashboard!$P$4,Data!K726<>Dashboard!$R$4),Data!G726,NA()))","v":10684.750012465542},null,null,null,null,null,null,null,null,null,null,null,null,null,null,"ID0285",null,null,15000,1,null,null,null,null,null,null,null,null,null,null,null,null,null,null,null,null,null,null,null,null,null,null,null,null,null,null,null,null,null,"ID0285",null,15000]
[null,{"$f":"IF(Dashboard!$P$4=\"All\",Data!G727,IF(Data!K727=Dashboard!$P$4,Data!G727,NA()))","v":{"$error":"#N/A"}},"","","",{"$f":"IF(C176<>\"\",Data!$M727,\"\")","v":""},null,null,null,null,{"$f":"IF(Dashboard!$R$4=\"All\",Data!G727,IF(Data!K727=Dashboard!$R$4,Data!G727,NA()))","v":{"$error":"#N/A"}},"","","",{"$f":"IF(L176<>\"\",Data!$M727,\"\")","v":""},null,null,null,null,{"$f":"IF(OR(Dashboard!$P$4=\"All\",Dashboard!$R$4=\"All\"),NA(),IF(OR(Data!K727<>Dashboard!$P$4,Data!K727<>Dashboard!$R$4),Data!G727,NA()))","v":40000},null,null,null,null,null,null,null,null,null,null,null,null,null,null,"ID0289",null,null,68000,1,null,null,null,null,null,null,null,null,null,null,null,null,null,null,null,null,null,null,null,null,null,null,null,null,null,null,null,null,null,"ID0289",null,null,null,68000]
[null,{"$f":"IF(Dashboard!$P$4=\"All\",Data!G728,IF(Data!K728=Dashboard!$P$4,Data!G728,NA()))","v":{"$error":"#N/A"}},"","","",{"$f":"IF(C177<>\"\",Data!$M728,\"\")","v":""},null,null,null,null,{"$f":"IF(Dashboard!$R$4=\"All\",Data!G728,IF(Data!K728=Dashboard!$R$4,Data!G728,NA()))","v":{"$error":"#N/A"}},"","","",{"$f":"IF(L177<>\"\",Data!$M728,\"\")","v":""},null,null,null,null,{"$f":"IF(OR(Dashboard!$P$4=\"All\",Dashboard!$R$4=\"All\"),NA(),IF(OR(Data!K728<>Dashboard!$P$4,Data!K728<>Dashboard!$R$4),Data!G728,NA()))","v":5022},null,null,null,null,null,null,null,null,null,null,null,null,null,null,"ID0290",97000,1,null,null,null,null,null,null,null,null,null,null,null,null,null,null,null,null,null,null,null,null,null,null,null,null,null,null,null,null,null,null,null,"ID0290",null,null,null,97000]
[null,{"$f":"IF(Dashboard!$P$4=\"All\",Data!G729,IF(Data!K729=Dashboard!$P$4,Data!G729,NA()))","v":{"$error":"#N/A"}},"","","",{"$f":"IF(C178<>\"\",Data!$M729,\"\")","v":""},null,null,null,null,{"$f":"IF(Dashboard!$R$4=\"All\",Data!G729,IF(Data!K729=Dashboard!$R$4,Data!G729,NA()))","v":{"$error":"#N/A"}},"","","",{"$f":"IF(L178<>\"\",Data!$M729,\"\")","v":""},null,null,null,null,{"$f":"IF(OR(Dashboard!$P$4=\"All\",Dashboard!$R$4=\"All\"),NA(),IF(OR(Data!K729<>Dashboard!$P$4,Data!K729<>Dashboard!$R$4),Data!G729,NA()))","v":7301.2458418514525},null,null,null,null,null,null,null,null,null,null,null,null,null,null,"ID0292",65000,1,null,null,null,null,null,null,null,null,null,null,null,null,null,null,null,null,null,null,null,null,null,null,null,null,null,null,null,null,null,null,null,"ID0292",null,null,65000]
[null,{"$f":"IF(Dashboard!$P$4=\"All\",Data!G730,IF(Data!K730=Dashboard!$P$4,Data!G730,NA()))","v":{"$error":"#N/A"}},"","","",{"$f":"IF(C179<>\"\",Data!$M730,\"\")","v":""},null,null,null,null,{"$f":"IF(Dashboard!$R$4=\"All\",Data!G730,IF(Data!K730=Dashboard!$R$4,Data!G730,NA()))","v":{"$error":"#N/A"}},"","","",{"$f":"IF(L179<>\"\",Data!$M730,\"\")","v":""},null,null,null,null,{"$f":"IF(OR(Dashboard!$P$4=\"All\",Dashboard!$R$4=\"All\"),NA(),IF(OR(Data!K730<>Dashboard!$P$4,Data!K730<>Dashboard!$R$4),Data!G730,NA()))","v":19831.432821021317},null,null,null,null,null,null,null,null,null,null,null,null,null,null,"ID0295",50000,1,null,null,null,null,null,null,null,null,null,null,null,null,null,null,null,null,null,null,null,null,null,null,null,null,null,null,null,null,null,null,null,"ID0295",null,null,null,50000]
[null,{"$f":"IF(Dashboard!$P$4=\"All\",Data!G731,IF(Data!K731=Dashboard!$P$4,Data!G731,NA()))","v":{"$error":"#N/A"}},"","","",{"$f":"IF(C180<>\"\",Data!$M731,\"\")","v":""},null,null,null,null,{"$f":"IF(Dashboard!$R$4=\"All\",Data!G731,IF(Data!K731=Dashboard!$R$4,Data!G731,NA()))","v":{"$error":"#N/A"}},"","","",{"$f":"IF(L180<>\"\",Data!$M731,\"\")","v":""},null,null,null,null,{"$f":"IF(OR(Dashboard!$P$4=\"All\",Dashboard!$R$4=\"All\"),NA(),IF(OR(Data!K731<>Dashboard!$P$4,Data!K731<>Dashboard!$R$4),Data!G731,NA()))","v":10684.750012465542},null,null,null,null,null,null,null,null,null,null,null,null,null,null,"ID0296",45000,1,null,null,null,null,null,null,null,null,null,null,null,null,null,null,null,null,null,null,null,null,null,null,null,null,null,null,null,null,null,null,null,"ID0296",null,null,45000]
[null,{"$f":"IF(Dashboard!$P$4=\"All\",Data!G732,IF(Data!K732=Dashboard!$P$4,Data!G732,NA()))","v":{"$error":"#N/A"}},"","","",{"$f":"IF(C181<>\"\",Data!$M732,\"\")","v":""},null,null,null,null,{"$f":"IF(Dashboard!$R$4=\"All\",Data!G732,IF(Data!K732=Dashboard!$R$4,Data!G732,NA()))","v":{"$error":"#N/A"}},"","","",{"$f":"IF(L181<>\"\",Data!$M732,\"\")","v":""},null,null,null,null,{"$f":"IF(OR(Dashboard!$P$4=\"All\",Dashboard!$R$4=\"All\"),NA(),IF(OR(Data!K732<>Dashboard!$P$4,Data!K732<>Dashboard!$R$4),Data!G732,NA()))","v":4800},null,null,null,null,null,null,null,null,null,null,null,null,null,null,"ID0298",null,null,60000,1,null,null,null,null,null,null,null,null,null,null,null,null,null,null,null,null,null,null,null,null,null,null,null,null,null,null,null,null,null,"ID0298",null,null,null,60000]
[null,{"$f":"IF(Dashboard!$P$4=\"All\",Data!G733,IF(Data!K733=Dashboard!$P$4,Data!G733,NA()))","v":{"$error":"#N/A"}},"","","",{"$f":"IF(C182<>\"\",Data!$M733,\"\")","v":""},null,null,null,null,{"$f":"IF(Dashboard!$R$4=\"All\",Data!G733,IF(Data!K733=Dashboard!$R$4,Data!G733,NA()))","v":{"$error":"#N/A"}},"","","",{"$f":"IF(L182<>\"\",Data!$M733,\"\")","v":""},null,null,null,null,{"$f":"IF(OR(Dashboard!$P$4=\"All\",Dashboard!$R$4=\"All\"),NA(),IF(OR(Data!K733<>Dashboard!$P$4,Data!K733<>Dashboard!$R$4),Data!G733,NA()))","v":83846.362973446114},null,null,null,null,null,null,null,null,null,null,null,null,null,null,"ID0299",null,null,null,null,null,null,null,null,null,null,31000,1,null,null,null,null,null,null,null,null,null,null,null,null,null,null,null,null,null,null,null,null,null,"ID0299",null,31000]
[null,{"$f":"IF(Dashboard!$P$4=\"All\",Data!G734,IF(Data!K734=Dashboard!$P$4,Data!G734,NA()))","v":{"$error":"#N/A"}},"","","",{"$f":"IF(C183<>\"\",Data!$M734,\"\")","v":""},null,null,null,null,{"$f":"IF(Dashboard!$R$4=\"All\",Data!G734,IF(Data!K734=Dashboard!$R$4,Data!G734,NA()))","v":{"$error":"#N/A"}},"","","",{"$f":"IF(L183<>\"\",Data!$M734,\"\")","v":""},null,null,null,null,{"$f":"IF(OR(Dashboard!$P$4=\"All\",Dashboard!$R$4=\"All\"),NA(),IF(OR(Data!K734<>Dashboard!$P$4,Data!K734<>Dashboard!$R$4),Data!G734,NA()))","v":15000},null,null,null,null,null,null,null,null,null,null,null,null,null,null,"ID0300",75000,1,null,null,null,null,null,null,null,null,null,null,null,null,null,null,null,null,null,null,null,null,null,null,null,null,null,null,null,null,null,null,null,"ID0300",null,null,75000]
[null,{"$f":"IF(Dashboard!$P$4=\"All\",Data!G735,IF(Data!K735=Dashboard!$P$4,Data!G735,NA()))","v":{"$error":"#N/A"}},"","","",{"$f":"IF(C184<>\"\",Data!$M735,\"\")","v":""},null,null,null,null,{"$f":"IF(Dashboard!$R$4=\"All\",Data!G735,IF(Data!K735=Dashboard!$R$4,Data!G735,NA()))","v":{"$error":"#N/A"}},"","","",{"$f":"IF(L184<>\"\",Data!$M735,\"\")","v":""},null,null,null,null,{"$f":"IF(OR(Dashboard!$P$4=\"All\",Dashboard!$R$4=\"All\"),NA(),IF(OR(Data!K735<>Dashboard!$P$4,Data!K735<>Dashboard!$R$4),Data!G735,NA()))","v":10000},null,null,null,null,null,null,null,null,null,null,null,null,null,null,"ID0301",null,null,null,null,null,null,16000,1,null,null,null,null,null,null,null,null,null,null,null,null,null,null,null,null,null,null,null,null,null,null,null,null,null,"ID0301",16000]
[null,{"$f":"IF(Dashboard!$P$4=\"All\",Data!G736,IF(Data!K736=Dashboard!$P$4,Data!G736,NA()))","v":{"$error":"#N/A"}},"","","",{"$f":"IF(C185<>\"\",Data!$M736,\"\")","v":""},null,null,null,null,{"$f":"IF(Dashboard!$R$4=\"All\",Data!G736,IF(Data!K736=Dashboard!$R$4,Data!G736,NA()))","v":116637.19213297902},116637.19213297902,116637.19213297902,"",{"$f":"IF(L185<>\"\",Data!$M736,\"\")","v":5},null,null,null,null,{"$f":"IF(OR(Dashboard!$P$4=\"All\",Dashboard!$R$4=\"All\"),NA(),IF(OR(Data!K736<>Dashboard!$P$4,Data!K736<>Dashboard!$R$4),Data!G736,NA()))","v":116637.19213297902},null,null,null,null,null,null,null,null,null,null,null,null,null,null,"ID0302",36000,1,null,null,null,null,null,null,null,null,null,null,null,null,null,null,null,null,null,null,null,null,null,null,null,null,null,null,null,null,null,null,null,"ID0302",null,null,null,36000]
[null,{"$f":"IF(Dashboard!$P$4=\"All\",Data!G737,IF(Data!K737=Dashboard!$P$4,Data!G737,NA()))","v":{"$error":"#N/A"}},"","","",{"$f":"IF(C186<>\"\",Data!$M737,\"\")","v":""},null,null,null,null,{"$f":"IF(Dashboard!$R$4=\"All\",Data!G737,IF(Data!K737=Dashboard!$R$4,Data!G737,NA()))","v":34357.533974522659},34357.533974522659,"","",{"$f":"IF(L186<>\"\",Data!$M737,\"\")","v":1.5},null,null,null,null,{"$f":"IF(OR(Dashboard!$P$4=\"All\",Dashboard!$R$4=\"All\"),NA(),IF(OR(Data!K737<>Dashboard!$P$4,Data!K737<>Dashboard!$R$4),Data!G737,NA()))","v":34357.533974522659},null,null,null,null,null,null,null,null,null,null,null,null,null,null,"ID0304",53000,1,null,null,null,null,null,null,null,null,null,null,null,null,null,null,null,null,null,null,null,null,null,null,null,null,null,null,null,null,null,null,null,"ID0304",null,null,53000]
[null,{"$f":"IF(Dashboard!$P$4=\"All\",Data!G738,IF(Data!K738=Dashboard!$P$4,Data!G738,NA()))","v":{"$error":"#N/A"}},"","","",{"$f":"IF(C187<>\"\",Data!$M738,\"\")","v":""},null,null,null,null,{"$f":"IF(Dashboard!$R$4=\"All\",Data!G738,IF(Data!K738=Dashboard!$R$4,Data!G738,NA()))","v":102451.58768437347},102451.58768437347,"","",{"$f":"IF(L187<>\"\",Data!$M738,\"\")","v":15},null,null,null,null,{"$f":"IF(OR(Dashboard!$P$4=\"All\",Dashboard!$R$4=\"All\"),NA(),IF(OR(Data!K738<>Dashboard!$P$4,Data!K738<>Dashboard!$R$4),Data!G738,NA()))","v":102451.58768437347},null,null,null,null,null,null,null,null,null,null,null,null,null,null,"ID0306",67000,1,null,null,null,null,null,null,null,null,null,null,null,null,null,null,null,null,null,null,null,null,null,null,null,null,null,null,null,null,null,null,null,"ID0306",null,null,67000]
[null,{"$f":"IF(Dashboard!$P$4=\"All\",Data!G739,IF(Data!K739=Dashboard!$P$4,Data!G739,NA()))","v":{"$error":"#N/A"}},"","","",{"$f":"IF(C188<>\"\",Data!$M739,\"\")","v":""},null,null,null,null,{"$f":"IF(Dashboard!$R$4=\"All\",Data!G739,IF(Data!K739=Dashboard!$R$4,Data!G739,NA()))","v":{"$error":"#N/A"}},"","","",{"$f":"IF(L188<>\"\",Data!$M739,\"\")","v":""},null,null,null,null,{"$f":"IF(OR(Dashboard!$P$4=\"All\",Dashboard!$R$4=\"All\"),NA(),IF(OR(Data!K739<>Dashboard!$P$4,Data!K739<>Dashboard!$R$4),Data!G739,NA()))","v":16000},null,null,null,null,null,null,null,null,null,null,null,null,null,null,"ID0308",null,null,null,null,null,null,null,null,null,null,null,null,null,null,85000,1,null,null,null,null,null,null,null,null,null,null,null,null,null,null,null,null,null,"ID0308",null,null,null,85000]
[null,{"$f":"IF(Dashboard!$P$4=\"All\",Data!G740,IF(Data!K740=Dashboard!$P$4,Data!G740,NA()))","v":{"$error":"#N/A"}},"","","",{"$f":"IF(C189<>\"\",Data!$M740,\"\")","v":""},null,null,null,null,{"$f":"IF(Dashboard!$R$4=\"All\",Data!G740,IF(Data!K740=Dashboard!$R$4,Data!G740,NA()))","v":{"$error":"#N/A"}},"","","",{"$f":"IF(L189<>\"\",Data!$M740,\"\")","v":""},null,null,null,null,{"$f":"IF(OR(Dashboard!$P$4=\"All\",Dashboard!$R$4=\"All\"),NA(),IF(OR(Data!K740<>Dashboard!$P$4,Data!K740<>Dashboard!$R$4),Data!G740,NA()))","v":6000},null,null,null,null,null,null,null,null,null,null,null,null,null,null,"ID0310",null,null,40000,1,null,null,null,null,null,null,null,null,null,null,null,null,null,null,null,null,null,null,null,null,null,null,null,null,null,null,null,null,null,"ID0310",null,null,40000]
[null,{"$f":"IF(Dashboard!$P$4=\"All\",Data!G741,IF(Data!K741=Dashboard!$P$4,Data!G741,NA()))","v":{"$error":"#N/A"}},"","","",{"$f":"IF(C190<>\"\",Data!$M741,\"\")","v":""},null,null,null,null,{"$f":"IF(Dashboard!$R$4=\"All\",Data!G741,IF(Data!K741=Dashboard!$R$4,Data!G741,NA()))","v":{"$error":"#N/A"}},"","","",{"$f":"IF(L190<>\"\",Data!$M741,\"\")","v":""},null,null,null,null,{"$f":"IF(OR(Dashboard!$P$4=\"All\",Dashboard!$R$4=\"All\"),NA(),IF(OR(Data!K741<>Dashboard!$P$4,Data!K741<>Dashboard!$R$4),Data!G741,NA()))","v":6410.8500074793246},null,null,null,null,null,null,null,null,null,null,null,null,null,null,"ID0312",41000,1,null,null,null,null,null,null,null,null,null,null,null,null,null,null,null,null,null,null,null,null,null,null,null,null,null,null,null,null,null,null,null,"ID0312",null,null,41000]
[null,{"$f":"IF(Dashboard!$P$4=\"All\",Data!G742,IF(Data!K742=Dashboard!$P$4,Data!G742,NA()))","v":{"$error":"#N/A"}},"","","",{"$f":"IF(C191<>\"\",Data!$M742,\"\")","v":""},null,null,null,null,{"$f":"IF(Dashboard!$R$4=\"All\",Data!G742,IF(Data!K742=Dashboard!$R$4,Data!G742,NA()))","v":{"$error":"#N/A"}},"","","",{"$f":"IF(L191<>\"\",Data!$M742,\"\")","v":""},null,null,null,null,{"$f":"IF(OR(Dashboard!$P$4=\"All\",Dashboard!$R$4=\"All\"),NA(),IF(OR(Data!K742<>Dashboard!$P$4,Data!K742<>Dashboard!$R$4),Data!G742,NA()))","v":36000},null,null,null,null,null,null,null,null,null,null,null,null,null,null,"ID0314",null,null,125000,1,null,null,null,null,null,null,null,null,null,null,null,null,null,null,null,null,null,null,null,null,null,null,null,null,null,null,null,null,null,"ID0314",null,null,125000]
[null,{"$f":"IF(Dashboard!$P$4=\"All\",Data!G743,IF(Data!K743=Dashboard!$P$4,Data!G743,NA()))","v":{"$error":"#N/A"}},"","","",{"$f":"IF(C192<>\"\",Data!$M743,\"\")","v":""},null,null,null,null,{"$f":"IF(Dashboard!$R$4=\"All\",Data!G743,IF(Data!K743=Dashboard!$R$4,Data!G743,NA()))","v":{"$error":"#N/A"}},"","","",{"$f":"IF(L192<>\"\",Data!$M743,\"\")","v":""},null,null,null,null,{"$f":"IF(OR(Dashboard!$P$4=\"All\",Dashboard!$R$4=\"All\"),NA(),IF(OR(Data!K743<>Dashboard!$P$4,Data!K743<>Dashboard!$R$4),Data!G743,NA()))","v":20000},null,null,null,null,null,null,null,null,null,null,null,null,null,null,"ID0317",70000,1,null,null,null,null,null,null,null,null,null,null,null,null,null,null,null,null,null,null,null,null,null,null,null,null,null,null,null,null,null,null,null,"ID0317",null,70000]
[null,{"$f":"IF(Dashboard!$P$4=\"All\",Data!G744,IF(Data!K744=Dashboard!$P$4,Data!G744,NA()))","v":{"$error":"#N/A"}},"","","",{"$f":"IF(C193<>\"\",Data!$M744,\"\")","v":""},null,null,null,null,{"$f":"IF(Dashboard!$R$4=\"All\",Data!G744,IF(Data!K744=Dashboard!$R$4,Data!G744,NA()))","v":{"$error":"#N/A"}},"","","",{"$f":"IF(L193<>\"\",Data!$M744,\"\")","v":""},null,null,null,null,{"$f":"IF(OR(Dashboard!$P$4=\"All\",Dashboard!$R$4=\"All\"),NA(),IF(OR(Data!K744<>Dashboard!$P$4,Data!K744<>Dashboard!$R$4),Data!G744,NA()))","v":4273.9000049862161},null,null,null,null,null,null,null,null,null,null,null,null,null,null,"ID0318",null,null,null,null,null,null,null,null,null,null,400000,1,null,null,null,null,null,null,null,null,null,null,null,null,null,null,null,null,null,null,null,null,null,"ID0318",null,null,null,400000]
[null,{"$f":"IF(Dashboard!$P$4=\"All\",Data!G745,IF(Data!K745=Dashboard!$P$4,Data!G745,NA()))","v":{"$error":"#N/A"}},"","","",{"$f":"IF(C194<>\"\",Data!$M745,\"\")","v":""},null,null,null,null,{"$f":"IF(Dashboard!$R$4=\"All\",Data!G745,IF(Data!K745=Dashboard!$R$4,Data!G745,NA()))","v":37828.278529614821},37828.278529614821,"","",{"$f":"IF(L194<>\"\",Data!$M745,\"\")","v":8},null,null,null,null,{"$f":"IF(OR(Dashboard!$P$4=\"All\",Dashboard!$R$4=\"All\"),NA(),IF(OR(Data!K745<>Dashboard!$P$4,Data!K745<>Dashboard!$R$4),Data!G745,NA()))","v":37828.278529614821},null,null,null,null,null,null,null,null,null,null,null,null,null,null,"ID0319",55000,1,null,null,null,null,null,null,null,null,null,null,null,null,null,null,null,null,null,null,null,null,null,null,null,null,null,null,null,null,null,null,null,"ID0319",null,null,55000]
[null,{"$f":"IF(Dashboard!$P$4=\"All\",Data!G746,IF(Data!K746=Dashboard!$P$4,Data!G746,NA()))","v":{"$error":"#N/A"}},"","","",{"$f":"IF(C195<>\"\",Data!$M746,\"\")","v":""},null,null,null,null,{"$f":"IF(Dashboard!$R$4=\"All\",Data!G746,IF(Data!K746=Dashboard!$R$4,Data!G746,NA()))","v":{"$error":"#N/A"}},"","","",{"$f":"IF(L195<>\"\",Data!$M746,\"\")","v":""},null,null,null,null,{"$f":"IF(OR(Dashboard!$P$4=\"All\",Dashboard!$R$4=\"All\"),NA(),IF(OR(Data!K746<>Dashboard!$P$4,Data!K746<>Dashboard!$R$4),Data!G746,NA()))","v":11000},null,null,null,null,null,null,null,null,null,null,null,null,null,null,"ID0320",60000,1,null,null,null,null,null,null,null,null,null,null,null,null,null,null,null,null,null,null,null,null,null,null,null,null,null,null,null,null,null,null,null,"ID0320",null,null,60000]
[null,{"$f":"IF(Dashboard!$P$4=\"All\",Data!G747,IF(Data!K747=Dashboard!$P$4,Data!G747,NA()))","v":{"$error":"#N/A"}},{"$f":"IF(ISNA(B196),\"\",B196)","v":""},{"$f":"IF(C196>=PERCENTILE($C$3:$C$1337,0.9),C196,\"\")","v":""},{"$f":"IF(C196<=PERCENTILE($C$3:$C$1337,0.1),C196,\"\")","v":""},{"$f":"IF(C196<>\"\",Data!$M747,\"\")","v":""},null,null,null,null,{"$f":"IF(Dashboard!$R$4=\"All\",Data!G747,IF(Data!K747=Dashboard!$R$4,Data!G747,NA()))","v":{"$error":"#N/A"}},{"$f":"IF(ISNA(K196),\"\",K196)","v":""},{"$f":"IF(L196>=PERCENTILE($L$3:$L$1337,0.9),L196,\"\")","v":""},{"$f":"IF(L196<=PERCENTILE($L$3:$L$1337,0.1),L196,\"\")","v":""},{"$f":"IF(L196<>\"\",Data!$M747,\"\")","v":""},null,null,null,null,{"$f":"IF(OR(Dashboard!$P$4=\"All\",Dashboard!$R$4=\"All\"),NA(),IF(OR(Data!K747<>Dashboard!$P$4,Data!K747<>Dashboard!$R$4),Data!G747,NA()))","v":8000},null,null,null,null,null,null,null,null,null,null,null,null,null,null,"ID0323",137500,1,null,null,null,null,null,null,null,null,null,null,null,null,null,null,null,null,null,null,null,null,null,null,null,null,null,null,null,null,null,null,null,"ID0323",null,null,137500]
[null,{"$f":"IF(Dashboard!$P$4=\"All\",Data!G748,IF(Data!K748=Dashboard!$P$4,Data!G748,NA()))","v":{"$error":"#N/A"}},"","","",{"$f":"IF(C197<>\"\",Data!$M748,\"\")","v":""},null,null,null,null,{"$f":"IF(Dashboard!$R$4=\"All\",Data!G748,IF(Data!K748=Dashboard!$R$4,Data!G748,NA()))","v":{"$error":"#N/A"}},"","","",{"$f":"IF(L197<>\"\",Data!$M748,\"\")","v":""},null,null,null,null,{"$f":"IF(OR(Dashboard!$P$4=\"All\",Dashboard!$R$4=\"All\"),NA(),IF(OR(Data!K748<>Dashboard!$P$4,Data!K748<>Dashboard!$R$4),Data!G748,NA()))","v":4006.7812546745777},null,null,null,null,null,null,null,null,null,null,null,null,null,null,"ID0326",null,null,null,null,null,null,null,null,null,null,47000,1,null,null,null,null,null,null,null,null,null,null,null,null,null,null,null,null,null,null,null,null,null,"ID0326",null,null,47000]
[null,{"$f":"IF(Dashboard!$P$4=\"All\",Data!G749,IF(Data!K749=Dashboard!$P$4,Data!G749,NA()))","v":{"$error":"#N/A"}},"","","",{"$f":"IF(C198<>\"\",Data!$M749,\"\")","v":""},null,null,null,null,{"$f":"IF(Dashboard!$R$4=\"All\",Data!G749,IF(Data!K749=Dashboard!$R$4,Data!G749,NA()))","v":{"$error":"#N/A"}},"","","",{"$f":"IF(L198<>\"\",Data!$M749,\"\")","v":""},null,null,null,null,{"$f":"IF(OR(Dashboard!$P$4=\"All\",Dashboard!$R$4=\"All\"),NA(),IF(OR(Data!K749<>Dashboard!$P$4,Data!K749<>Dashboard!$R$4),Data!G749,NA()))","v":9171.0323574730355},null,null,null,null,null,null,null,null,null,null,null,null,null,null,"ID0327",65000,1,null,null,null,null,null,null,null,null,null,null,null,null,null,null,null,null,null,null,null,null,null,null,null,null,null,null,null,null,null,null,null,"ID0327",null,null,null,65000]
[null,{"$f":"IF(Dashboard!$P$4=\"All\",Data!G750,IF(Data!K750=Dashboard!$P$4,Data!G750,NA()))","v":{"$error":"#N/A"}},"","","",{"$f":"IF(C199<>\"\",Data!$M750,\"\")","v":""},null,null,null,null,{"$f":"IF(Dashboard!$R$4=\"All\",Data!G750,IF(Data!K750=Dashboard!$R$4,Data!G750,NA()))","v":{"$error":"#N/A"}},"","","",{"$f":"IF(L199<>\"\",Data!$M750,\"\")","v":""},null,null,null,null,{"$f":"IF(OR(Dashboard!$P$4=\"All\",Dashboard!$R$4=\"All\"),NA(),IF(OR(Data!K750<>Dashboard!$P$4,Data!K750<>Dashboard!$R$4),Data!G750,NA()))","v":4273.9000049862161},null,null,null,null,null,null,null,null,null,null,null,null,null,null,"ID0329",null,null,92000,1,null,null,null,null,null,null,null,null,null,null,null,null,null,null,null,null,null,null,null,null,null,null,null,null,null,null,null,null,null,"ID0329",null,null,92000]
[null,{"$f":"IF(Dashboard!$P$4=\"All\",Data!G751,IF(Data!K751=Dashboard!$P$4,Data!G751,NA()))","v":{"$error":"#N/A"}},"","","",{"$f":"IF(C200<>\"\",Data!$M751,\"\")","v":""},null,null,null,null,{"$f":"IF(Dashboard!$R$4=\"All\",Data!G751,IF(Data!K751=Dashboard!$R$4,Data!G751,NA()))","v":{"$error":"#N/A"}},"","","",{"$f":"IF(L200<>\"\",Data!$M751,\"\")","v":""},null,null,null,null,{"$f":"IF(OR(Dashboard!$P$4=\"All\",Dashboard!$R$4=\"All\"),NA(),IF(OR(Data!K751<>Dashboard!$P$4,Data!K751<>Dashboard!$R$4),Data!G751,NA()))","v":12465.541681209797},null,null,null,null,null,null,null,null,null,null,null,null,null,null,"ID0331",null,null,108000,1,null,null,null,null,null,null,null,null,null,null,null,null,null,null,null,null,null,null,null,null,null,null,null,null,null,null,null,null,null,"ID0331",null,108000]
[null,{"$f":"IF(Dashboard!$P$4=\"All\",Data!G752,IF(Data!K752=Dashboard!$P$4,Data!G752,NA()))","v":{"$error":"#N/A"}},"","","",{"$f":"IF(C201<>\"\",Data!$M752,\"\")","v":""},null,null,null,null,{"$f":"IF(Dashboard!$R$4=\"All\",Data!G752,IF(Data!K752=Dashboard!$R$4,Data!G752,NA()))","v":{"$error":"#N/A"}},"","","",{"$f":"IF(L201<>\"\",Data!$M752,\"\")","v":""},null,null,null,null,{"$f":"IF(OR(Dashboard!$P$4=\"All\",Dashboard!$R$4=\"All\"),NA(),IF(OR(Data!K752<>Dashboard!$P$4,Data!K752<>Dashboard!$R$4),Data!G752,NA()))","v":24000},null,null,null,null,null,null,null,null,null,null,null,null,null,null,"ID0332",61000,1,null,null,null,null,null,null,null,null,null,null,null,null,null,null,null,null,null,null,null,null,null,null,null,null,null,null,null,null,null,null,null,"ID0332",61000]
[null,{"$f":"IF(Dashboard!$P$4=\"All\",Data!G753,IF(Data!K753=Dashboard!$P$4,Data!G753,NA()))","v":{"$error":"#N/A"}},"","","",{"$f":"IF(C202<>\"\",Data!$M753,\"\")","v":""},null,null,null,null,{"$f":"IF(Dashboard!$R$4=\"All\",Data!G753,IF(Data!K753=Dashboard!$R$4,Data!G753,NA()))","v":{"$error":"#N/A"}},"","","",{"$f":"IF(L202<>\"\",Data!$M753,\"\")","v":""},null,null,null,null,{"$f":"IF(OR(Dashboard!$P$4=\"All\",Dashboard!$R$4=\"All\"),NA(),IF(OR(Data!K753<>Dashboard!$P$4,Data!K753<>Dashboard!$R$4),Data!G753,NA()))","v":20000},null,null,null,null,null,null,null,null,null,null,null,null,null,null,"ID0334",50000,1,null,null,null,null,null,null,null,null,null,null,null,null,null,null,null,null,null,null,null,null,null,null,null,null,null,null,null,null,null,null,null,"ID0334",null,null,null,50000]
[null,{"$f":"IF(Dashboard!$P$4=\"All\",Data!G754,IF(Data!K754=Dashboard!$P$4,Data!G754,NA()))","v":{"$error":"#N/A"}},"","","",{"$f":"IF(C203<>\"\",Data!$M754,\"\")","v":""},null,null,null,null,{"$f":"IF(Dashboard!$R$4=\"All\",Data!G754,IF(Data!K754=Dashboard!$R$4,Data!G754,NA()))","v":{"$error":"#N/A"}},"","","",{"$f":"IF(L203<>\"\",Data!$M754,\"\")","v":""},null,null,null,null,{"$f":"IF(OR(Dashboard!$P$4=\"All\",Dashboard!$R$4=\"All\"),NA(),IF(OR(Data!K754<>Dashboard!$P$4,Data!K754<>Dashboard!$R$4),Data!G754,NA()))","v":62000},null,null,null,null,null,null,null,null,null,null,null,null,null,null,"ID0335",null,null,null,null,150000,1,null,null,null,null,null,null,null,null,null,null,null,null,null,null,null,null,null,null,null,null,null,null,null,null,null,null,null,"ID0335",null,null,null,150000]
[null,{"$f":"IF(Dashboard!$P$4=\"All\",Data!G755,IF(Data!K755=Dashboard!$P$4,Data!G755,NA()))","v":{"$error":"#N/A"}},"","","",{"$f":"IF(C204<>\"\",Data!$M755,\"\")","v":""},null,null,null,null,{"$f":"IF(Dashboard!$R$4=\"All\",Data!G755,IF(Data!K755=Dashboard!$R$4,Data!G755,NA()))","v":{"$error":"#N/A"}},"","","",{"$f":"IF(L204<>\"\",Data!$M755,\"\")","v":""},null,null,null,null,{"$f":"IF(OR(Dashboard!$P$4=\"All\",Dashboard!$R$4=\"All\"),NA(),IF(OR(Data!K755<>Dashboard!$P$4,Data!K755<>Dashboard!$R$4),Data!G755,NA()))","v":14960},null,null,null,null,null,null,null,null,null,null,null,null,null,null,"ID0338",null,null,null,null,null,null,null,null,null,null,45000,1,null,null,null,null,null,null,null,null,null,null,null,null,null,null,null,null,null,null,null,null,null,"ID0338",null,null,45000]
[null,{"$f":"IF(Dashboard!$P$4=\"All\",Data!G756,IF(Data!K756=Dashboard!$P$4,Data!G756,NA()))","v":{"$error":"#N/A"}},"","","",{"$f":"IF(C205<>\"\",Data!$M756,\"\")","v":""},null,null,null,null,{"$f":"IF(Dashboard!$R$4=\"All\",Data!G756,IF(Data!K756=Dashboard!$R$4,Data!G756,NA()))","v":{"$error":"#N/A"}},"","","",{"$f":"IF(L205<>\"\",Data!$M756,\"\")","v":""},null,null,null,null,{"$f":"IF(OR(Dashboard!$P$4=\"All\",Dashboard!$R$4=\"All\"),NA(),IF(OR(Data!K756<>Dashboard!$P$4,Data!K756<>Dashboard!$R$4),Data!G756,NA()))","v":2136.9500024931081},null,null,null,null,null,null,null,null,null,null,null,null,null,null,"ID0339",null,null,135000,1,null,null,null,null,null,null,null,null,null,null,null,null,null,null,null,null,null,null,null,null,null,null,null,null,null,null,null,null,null,"ID0339",null,null,null,135000]
[null,{"$f":"IF(Dashboard!$P$4=\"All\",Data!G757,IF(Data!K757=Dashboard!$P$4,Data!G757,NA()))","v":{"$error":"#N/A"}},"","","",{"$f":"IF(C206<>\"\",Data!$M757,\"\")","v":""},null,null,null,null,{"$f":"IF(Dashboard!$R$4=\"All\",Data!G757,IF(Data!K757=Dashboard!$R$4,Data!G757,NA()))","v":{"$error":"#N/A"}},"","","",{"$f":"IF(L206<>\"\",Data!$M757,\"\")","v":""},null,null,null,null,{"$f":"IF(OR(Dashboard!$P$4=\"All\",Dashboard!$R$4=\"All\"),NA(),IF(OR(Data!K757<>Dashboard!$P$4,Data!K757<>Dashboard!$R$4),Data!G757,NA()))","v":30232},null,null,null,null,null,null,null,null,null,null,null,null,null,null,"ID0341",null,null,29000,1,null,null,null,null,null,null,null,null,null,null,null,null,null,null,null,null,null,null,null,null,null,null,null,null,null,null,null,null,null,"ID0341",null,null,29000]
[null,{"$f":"IF(Dashboard!$P$4=\"All\",Data!G758,IF(Data!K758=Dashboard!$P$4,Data!G758,NA()))","v":{"$error":"#N/A"}},"","","",{"$f":"IF(C207<>\"\",Data!$M758,\"\")","v":""},null,null,null,null,{"$f":"IF(Dashboard!$R$4=\"All\",Data!G758,IF(Data!K758=Dashboard!$R$4,Data!G758,NA()))","v":{"$error":"#N/A"}},"","","",{"$f":"IF(L207<>\"\",Data!$M758,\"\")","v":""},null,null,null,null,{"$f":"IF(OR(Dashboard!$P$4=\"All\",Dashboard!$R$4=\"All\"),NA(),IF(OR(Data!K758<>Dashboard!$P$4,Data!K758<>Dashboard!$R$4),Data!G758,NA()))","v":41000},null,null,null,null,null,null,null,null,null,null,null,null,null,null,"ID0343",63000,1,null,null,null,null,null,null,null,null,null,null,null,null,null,null,null,null,null,null,null,null,null,null,null,null,null,null,null,null,null,null,null,"ID0343",null,null,null,63000]
[null,{"$f":"IF(Dashboard!$P$4=\"All\",Data!G759,IF(Data!K759=Dashboard!$P$4,Data!G759,NA()))","v":{"$error":"#N/A"}},"","","",{"$f":"IF(C208<>\"\",Data!$M759,\"\")","v":""},null,null,null,null,{"$f":"IF(Dashboard!$R$4=\"All\",Data!G759,IF(Data!K759=Dashboard!$R$4,Data!G759,NA()))","v":{"$error":"#N/A"}},"","","",{"$f":"IF(L208<>\"\",Data!$M759,\"\")","v":""},null,null,null,null,{"$f":"IF(OR(Dashboard!$P$4=\"All\",Dashboard!$R$4=\"All\"),NA(),IF(OR(Data!K759<>Dashboard!$P$4,Data!K759<>Dashboard!$R$4),Data!G759,NA()))","v":96891.417358250401},null,null,null,null,null,null,null,null,null,null,null,null,null,null,"ID0344",95000,1,null,null,null,null,null,null,null,null,null,null,null,null,null,null,null,null,null,null,null,null,null,null,null,null,null,null,null,null,null,null,null,"ID0344",null,null,95000]
[null,{"$f":"IF(Dashboard!$P$4=\"All\",Data!G760,IF(Data!K760=Dashboard!$P$4,Data!G760,NA()))","v":{"$error":"#N/A"}},"","","",{"$f":"IF(C209<>\"\",Data!$M760,\"\")","v":""},null,null,null,null,{"$f":"IF(Dashboard!$R$4=\"All\",Data!G760,IF(Data!K760=Dashboard!$R$4,Data!G760,NA()))","v":{"$error":"#N/A"}},"","","",{"$f":"IF(L209<>\"\",Data!$M760,\"\")","v":""},null,null,null,null,{"$f":"IF(OR(Dashboard!$P$4=\"All\",Dashboard!$R$4=\"All\"),NA(),IF(OR(Data!K760<>Dashboard!$P$4,Data!K760<>Dashboard!$R$4),Data!G760,NA()))","v":21369.500024931083},null,null,null,null,null,null,null,null,null,null,null,null,null,null,"ID0350",null,null,53000,1,null,null,null,null,null,null,null,null,null,null,null,null,null,null,null,null,null,null,null,null,null,null,null,null,null,null,null,null,null,"ID0350",null,53000]
[null,{"$f":"IF(Dashboard!$P$4=\"All\",Data!G761,IF(Data!K761=Dashboard!$P$4,Data!G761,NA()))","v":{"$error":"#N/A"}},"","","",{"$f":"IF(C210<>\"\",Data!$M761,\"\")","v":""},null,null,null,null,{"$f":"IF(Dashboard!$R$4=\"All\",Data!G761,IF(Data!K761=Dashboard!$R$4,Data!G761,NA()))","v":{"$error":"#N/A"}},"","","",{"$f":"IF(L210<>\"\",Data!$M761,\"\")","v":""},null,null,null,null,{"$f":"IF(OR(Dashboard!$P$4=\"All\",Dashboard!$R$4=\"All\"),NA(),IF(OR(Data!K761<>Dashboard!$P$4,Data!K761<>Dashboard!$R$4),Data!G761,NA()))","v":3650.6229209257262},null,null,null,null,null,null,null,null,null,null,null,null,null,null,"ID0351",null,null,null,null,null,null,null,null,130000,1,null,null,null,null,null,null,null,null,null,null,null,null,null,null,null,null,null,null,null,null,null,null,null,"ID0351",null,null,130000]
[null,{"$f":"IF(Dashboard!$P$4=\"All\",Data!G762,IF(Data!K762=Dashboard!$P$4,Data!G762,NA()))","v":{"$error":"#N/A"}},"","","",{"$f":"IF(C211<>\"\",Data!$M762,\"\")","v":""},null,null,null,null,{"$f":"IF(Dashboard!$R$4=\"All\",Data!G762,IF(Data!K762=Dashboard!$R$4,Data!G762,NA()))","v":{"$error":"#N/A"}},"","","",{"$f":"IF(L211<>\"\",Data!$M762,\"\")","v":""},null,null,null,null,{"$f":"IF(OR(Dashboard!$P$4=\"All\",Dashboard!$R$4=\"All\"),NA(),IF(OR(Data!K762<>Dashboard!$P$4,Data!K762<>Dashboard!$R$4),Data!G762,NA()))","v":19068},null,null,null,null,null,null,null,null,null,null,null,null,null,null,"ID0354",44200,1,null,null,null,null,null,null,null,null,null,null,null,null,null,null,null,null,null,null,null,null,null,null,null,null,null,null,null,null,null,null,null,"ID0354",null,null,null,44200]
[null,{"$f":"IF(Dashboard!$P$4=\"All\",Data!G763,IF(Data!K763=Dashboard!$P$4,Data!G763,NA()))","v":{"$error":"#N/A"}},"","","",{"$f":"IF(C212<>\"\",Data!$M763,\"\")","v":""},null,null,null,null,{"$f":"IF(Dashboard!$R$4=\"All\",Data!G763,IF(Data!K763=Dashboard!$R$4,Data!G763,NA()))","v":{"$error":"#N/A"}},"","","",{"$f":"IF(L212<>\"\",Data!$M763,\"\")","v":""},null,null,null,null,{"$f":"IF(OR(Dashboard!$P$4=\"All\",Dashboard!$R$4=\"All\"),NA(),IF(OR(Data!K763<>Dashboard!$P$4,Data!K763<>Dashboard!$R$4),Data!G763,NA()))","v":5342.3750062327708},null,null,null,null,null,null,null,null,null,null,null,null,null,null,"ID0355",null,null,56000,1,null,null,null,null,null,null,null,null,null,null,null,null,null,null,null,null,null,null,null,null,null,null,null,null,null,null,null,null,null,"ID0355",null,56000]
[null,{"$f":"IF(Dashboard!$P$4=\"All\",Data!G764,IF(Data!K764=Dashboard!$P$4,Data!G764,NA()))","v":{"$error":"#N/A"}},"","","",{"$f":"IF(C213<>\"\",Data!$M764,\"\")","v":""},null,null,null,null,{"$f":"IF(Dashboard!$R$4=\"All\",Data!G764,IF(Data!K764=Dashboard!$R$4,Data!G764,NA()))","v":{"$error":"#N/A"}},"","","",{"$f":"IF(L213<>\"\",Data!$M764,\"\")","v":""},null,null,null,null,{"$f":"IF(OR(Dashboard!$P$4=\"All\",Dashboard!$R$4=\"All\"),NA(),IF(OR(Data!K764<>Dashboard!$P$4,Data!K764<>Dashboard!$R$4),Data!G764,NA()))","v":48000},null,null,null,null,null,null,null,null,null,null,null,null,null,null,"ID0356",null,null,null,null,null,null,null,null,72500,1,null,null,null,null,null,null,null,null,null,null,null,null,null,null,null,null,null,null,null,null,null,null,null,"ID0356",null,72500]
[null,{"$f":"IF(Dashboard!$P$4=\"All\",Data!G765,IF(Data!K765=Dashboard!$P$4,Data!G765,NA()))","v":{"$error":"#N/A"}},"","","",{"$f":"IF(C214<>\"\",Data!$M765,\"\")","v":""},null,null,null,null,{"$f":"IF(Dashboard!$R$4=\"All\",Data!G765,IF(Data!K765=Dashboard!$R$4,Data!G765,NA()))","v":{"$error":"#N/A"}},"","","",{"$f":"IF(L214<>\"\",Data!$M765,\"\")","v":""},null,null,null,null,{"$f":"IF(OR(Dashboard!$P$4=\"All\",Dashboard!$R$4=\"All\"),NA(),IF(OR(Data!K765<>Dashboard!$P$4,Data!K765<>Dashboard!$R$4),Data!G765,NA()))","v":3917.7416712373652},null,null,null,null,null,null,null,null,null,null,null,null,null,null,"ID0359",null,null,68000,1,null,null,null,null,null,null,null,null,null,null,null,null,null,null,null,null,null,null,null,null,null,null,null,null,null,null,null,null,null,"ID0359",null,68000]
[null,{"$f":"IF(Dashboard!$P$4=\"All\",Data!G766,IF(Data!K766=Dashboard!$P$4,Data!G766,NA()))","v":{"$error":"#N/A"}},"","","",{"$f":"IF(C215<>\"\",Data!$M766,\"\")","v":""},null,null,null,null,{"$f":"IF(Dashboard!$R$4=\"All\",Data!G766,IF(Data!K766=Dashboard!$R$4,Data!G766,NA()))","v":{"$error":"#N/A"}},"","","",{"$f":"IF(L215<>\"\",Data!$M766,\"\")","v":""},null,null,null,null,{"$f":"IF(OR(Dashboard!$P$4=\"All\",Dashboard!$R$4=\"All\"),NA(),IF(OR(Data!K766<>Dashboard!$P$4,Data!K766<>Dashboard!$R$4),Data!G766,NA()))","v":13500},null,null,null,null,null,null,null,null,null,null,null,null,null,null,"ID0360",75000,1,null,null,null,null,null,null,null,null,null,null,null,null,null,null,null,null,null,null,null,null,null,null,null,null,null,null,null,null,null,null,null,"ID0360",null,null,null,75000]
[null,{"$f":"IF(Dashboard!$P$4=\"All\",Data!G767,IF(Data!K767=Dashboard!$P$4,Data!G767,NA()))","v":{"$error":"#N/A"}},"","","",{"$f":"IF(C216<>\"\",Data!$M767,\"\")","v":""},null,null,null,null,{"$f":"IF(Dashboard!$R$4=\"All\",Data!G767,IF(Data!K767=Dashboard!$R$4,Data!G767,NA()))","v":{"$error":"#N/A"}},"","","",{"$f":"IF(L216<>\"\",Data!$M767,\"\")","v":""},null,null,null,null,{"$f":"IF(OR(Dashboard!$P$4=\"All\",Dashboard!$R$4=\"All\"),NA(),IF(OR(Data!K767<>Dashboard!$P$4,Data!K767<>Dashboard!$R$4),Data!G767,NA()))","v":45000},null,null,null,null,null,null,null,null,null,null,null,null,null,null,"ID0361",null,null,null,null,null,null,62500,1,null,null,null,null,null,null,null,null,null,null,null,null,null,null,null,null,null,null,null,null,null,null,null,null,null,"ID0361",null,null,null,62500]
[null,{"$f":"IF(Dashboard!$P$4=\"All\",Data!G768,IF(Data!K768=Dashboard!$P$4,Data!G768,NA()))","v":{"$error":"#N/A"}},"","","",{"$f":"IF(C217<>\"\",Data!$M768,\"\")","v":""},null,null,null,null,{"$f":"IF(Dashboard!$R$4=\"All\",Data!G768,IF(Data!K768=Dashboard!$R$4,Data!G768,NA()))","v":{"$error":"#N/A"}},"","","",{"$f":"IF(L217<>\"\",Data!$M768,\"\")","v":""},null,null,null,null,{"$f":"IF(OR(Dashboard!$P$4=\"All\",Dashboard!$R$4=\"All\"),NA(),IF(OR(Data!K768<>Dashboard!$P$4,Data!K768<>Dashboard!$R$4),Data!G768,NA()))","v":69871.969144538423},null,null,null,null,null,null,null,null,null,null,null,null,null,null,"ID0365",85000,1,null,null,null,null,null,null,null,null,null,null,null,null,null,null,null,null,null,null,null,null,null,null,null,null,null,null,null,null,null,null,null,"ID0365",null,null,85000]
[null,{"$f":"IF(Dashboard!$P$4=\"All\",Data!G769,IF(Data!K769=Dashboard!$P$4,Data!G769,NA()))","v":{"$error":"#N/A"}},"","","",{"$f":"IF(C218<>\"\",Data!$M769,\"\")","v":""},null,null,null,null,{"$f":"IF(Dashboard!$R$4=\"All\",Data!G769,IF(Data!K769=Dashboard!$R$4,Data!G769,NA()))","v":{"$error":"#N/A"}},"","","",{"$f":"IF(L218<>\"\",Data!$M769,\"\")","v":""},null,null,null,null,{"$f":"IF(OR(Dashboard!$P$4=\"All\",Dashboard!$R$4=\"All\"),NA(),IF(OR(Data!K769<>Dashboard!$P$4,Data!K769<>Dashboard!$R$4),Data!G769,NA()))","v":8547.8000099724322},null,null,null,null,null,null,null,null,null,null,null,null,null,null,"ID0367",null,null,89000,1,null,null,null,null,null,null,null,null,null,null,null,null,null,null,null,null,null,null,null,null,null,null,null,null,null,null,null,null,null,"ID0367",null,null,89000]
[null,{"$f":"IF(Dashboard!$P$4=\"All\",Data!G770,IF(Data!K770=Dashboard!$P$4,Data!G770,NA()))","v":{"$error":"#N/A"}},"","","",{"$f":"IF(C219<>\"\",Data!$M770,\"\")","v":""},null,null,null,null,{"$f":"IF(Dashboard!$R$4=\"All\",Data!G770,IF(Data!K770=Dashboard!$R$4,Data!G770,NA()))","v":{"$error":"#N/A"}},"","","",{"$f":"IF(L219<>\"\",Data!$M770,\"\")","v":""},null,null,null,null,{"$f":"IF(OR(Dashboard!$P$4=\"All\",Dashboard!$R$4=\"All\"),NA(),IF(OR(Data!K770<>Dashboard!$P$4,Data!K770<>Dashboard!$R$4),Data!G770,NA()))","v":9146.5655463031271},null,null,null,null,null,null,null,null,null,null,null,null,null,null,"ID0369",null,null,47500,1,null,null,null,null,null,null,null,null,null,null,null,null,null,null,null,null,null,null,null,null,null,null,null,null,null,null,null,null,null,"ID0369",null,null,null,47500]
[null,{"$f":"IF(Dashboard!$P$4=\"All\",Data!G771,IF(Data!K771=Dashboard!$P$4,Data!G771,NA()))","v":{"$error":"#N/A"}},"","","",{"$f":"IF(C220<>\"\",Data!$M771,\"\")","v":""},null,null,null,null,{"$f":"IF(Dashboard!$R$4=\"All\",Data!G771,IF(Data!K771=Dashboard!$R$4,Data!G771,NA()))","v":{"$error":"#N/A"}},"","","",{"$f":"IF(L220<>\"\",Data!$M771,\"\")","v":""},null,null,null,null,{"$f":"IF(OR(Dashboard!$P$4=\"All\",Dashboard!$R$4=\"All\"),NA(),IF(OR(Data!K771<>Dashboard!$P$4,Data!K771<>Dashboard!$R$4),Data!G771,NA()))","v":10150.512511842264},null,null,null,null,null,null,null,null,null,null,null,null,null,null,"ID0370",null,null,130000,1,null,null,null,null,null,null,null,null,null,null,null,null,null,null,null,null,null,null,null,null,null,null,null,null,null,null,null,null,null,"ID0370",null,130000]
[null,{"$f":"IF(Dashboard!$P$4=\"All\",Data!G772,IF(Data!K772=Dashboard!$P$4,Data!G772,NA()))","v":{"$error":"#N/A"}},"","","",{"$f":"IF(C221<>\"\",Data!$M772,\"\")","v":""},null,null,null,null,{"$f":"IF(Dashboard!$R$4=\"All\",Data!G772,IF(Data!K772=Dashboard!$R$4,Data!G772,NA()))","v":{"$error":"#N/A"}},"","","",{"$f":"IF(L221<>\"\",Data!$M772,\"\")","v":""},null,null,null,null,{"$f":"IF(OR(Dashboard!$P$4=\"All\",Dashboard!$R$4=\"All\"),NA(),IF(OR(Data!K772<>Dashboard!$P$4,Data!K772<>Dashboard!$R$4),Data!G772,NA()))","v":11325.835013213473},null,null,null,null,null,null,null,null,null,null,null,null,null,null,"ID0373",null,null,41932,1,null,null,null,null,null,null,null,null,null,null,null,null,null,null,null,null,null,null,null,null,null,null,null,null,null,null,null,null,null,"ID0373",null,41932]
[null,{"$f":"IF(Dashboard!$P$4=\"All\",Data!G773,IF(Data!K773=Dashboard!$P$4,Data!G773,NA()))","v":{"$error":"#N/A"}},"","","",{"$f":"IF(C222<>\"\",Data!$M773,\"\")","v":""},null,null,null,null,{"$f":"IF(Dashboard!$R$4=\"All\",Data!G773,IF(Data!K773=Dashboard!$R$4,Data!G773,NA()))","v":{"$error":"#N/A"}},"","","",{"$f":"IF(L222<>\"\",Data!$M773,\"\")","v":""},null,null,null,null,{"$f":"IF(OR(Dashboard!$P$4=\"All\",Dashboard!$R$4=\"All\"),NA(),IF(OR(Data!K773<>Dashboard!$P$4,Data!K773<>Dashboard!$R$4),Data!G773,NA()))","v":1910.5359690238436},null,null,null,null,null,null,null,null,null,null,null,null,null,null,"ID0375",null,null,null,null,null,null,194000,1,null,null,null,null,null,null,null,null,null,null,null,null,null,null,null,null,null,null,null,null,null,null,null,null,null,"ID0375",null,194000]
[null,{"$f":"IF(Dashboard!$P$4=\"All\",Data!G774,IF(Data!K774=Dashboard!$P$4,Data!G774,NA()))","v":{"$error":"#N/A"}},"","","",{"$f":"IF(C223<>\"\",Data!$M774,\"\")","v":""},null,null,null,null,{"$f":"IF(Dashboard!$R$4=\"All\",Data!G774,IF(Data!K774=Dashboard!$R$4,Data!G774,NA()))","v":{"$error":"#N/A"}},"","","",{"$f":"IF(L223<>\"\",Data!$M774,\"\")","v":""},null,null,null,null,{"$f":"IF(OR(Dashboard!$P$4=\"All\",Dashboard!$R$4=\"All\"),NA(),IF(OR(Data!K774<>Dashboard!$P$4,Data!K774<>Dashboard!$R$4),Data!G774,NA()))","v":36000},null,null,null,null,null,null,null,null,null,null,null,null,null,null,"ID0381",95000,1,null,null,null,null,null,null,null,null,null,null,null,null,null,null,null,null,null,null,null,null,null,null,null,null,null,null,null,null,null,null,null,"ID0381",null,null,null,95000]
[null,{"$f":"IF(Dashboard!$P$4=\"All\",Data!G775,IF(Data!K775=Dashboard!$P$4,Data!G775,NA()))","v":{"$error":"#N/A"}},"","","",{"$f":"IF(C224<>\"\",Data!$M775,\"\")","v":""},null,null,null,null,{"$f":"IF(Dashboard!$R$4=\"All\",Data!G775,IF(Data!K775=Dashboard!$R$4,Data!G775,NA()))","v":{"$error":"#N/A"}},"","","",{"$f":"IF(L224<>\"\",Data!$M775,\"\")","v":""},null,null,null,null,{"$f":"IF(OR(Dashboard!$P$4=\"All\",Dashboard!$R$4=\"All\"),NA(),IF(OR(Data!K775<>Dashboard!$P$4,Data!K775<>Dashboard!$R$4),Data!G775,NA()))","v":40067.812546745779},null,null,null,null,null,null,null,null,null,null,null,null,null,null,"ID0383",48000,1,null,null,null,null,null,null,null,null,null,null,null,null,null,null,null,null,null,null,null,null,null,null,null,null,null,null,null,null,null,null,null,"ID0383",48000]
[null,{"$f":"IF(Dashboard!$P$4=\"All\",Data!G776,IF(Data!K776=Dashboard!$P$4,Data!G776,NA()))","v":{"$error":"#N/A"}},"","","",{"$f":"IF(C225<>\"\",Data!$M776,\"\")","v":""},null,null,null,null,{"$f":"IF(Dashboard!$R$4=\"All\",Data!G776,IF(Data!K776=Dashboard!$R$4,Data!G776,NA()))","v":{"$error":"#N/A"}},"","","",{"$f":"IF(L225<>\"\",Data!$M776,\"\")","v":""},null,null,null,null,{"$f":"IF(OR(Dashboard!$P$4=\"All\",Dashboard!$R$4=\"All\"),NA(),IF(OR(Data!K776<>Dashboard!$P$4,Data!K776<>Dashboard!$R$4),Data!G776,NA()))","v":16000},null,null,null,null,null,null,null,null,null,null,null,null,null,null,"ID0384",46000,1,null,null,null,null,null,null,null,null,null,null,null,null,null,null,null,null,null,null,null,null,null,null,null,null,null,null,null,null,null,null,null,"ID0384",null,null,46000]
[null,{"$f":"IF(Dashboard!$P$4=\"All\",Data!G777,IF(Data!K777=Dashboard!$P$4,Data!G777,NA()))","v":{"$error":"#N/A"}},"","","",{"$f":"IF(C226<>\"\",Data!$M777,\"\")","v":""},null,null,null,null,{"$f":"IF(Dashboard!$R$4=\"All\",Data!G777,IF(Data!K777=Dashboard!$R$4,Data!G777,NA()))","v":{"$error":"#N/A"}},"","","",{"$f":"IF(L226<>\"\",Data!$M777,\"\")","v":""},null,null,null,null,{"$f":"IF(OR(Dashboard!$P$4=\"All\",Dashboard!$R$4=\"All\"),NA(),IF(OR(Data!K777<>Dashboard!$P$4,Data!K777<>Dashboard!$R$4),Data!G777,NA()))","v":4273.9000049862161},null,null,null,null,null,null,null,null,null,null,null,null,null,null,"ID0388",null,null,47000,1,null,null,null,null,null,null,null,null,null,null,null,null,null,null,null,null,null,null,null,null,null,null,null,null,null,null,null,null,null,"ID0388",null,47000]
[null,{"$f":"IF(Dashboard!$P$4=\"All\",Data!G778,IF(Data!K778=Dashboard!$P$4,Data!G778,NA()))","v":{"$error":"#N/A"}},"","","",{"$f":"IF(C227<>\"\",Data!$M778,\"\")","v":""},null,null,null,null,{"$f":"IF(Dashboard!$R$4=\"All\",Data!G778,IF(Data!K778=Dashboard!$R$4,Data!G778,NA()))","v":{"$error":"#N/A"}},"","","",{"$f":"IF(L227<>\"\",Data!$M778,\"\")","v":""},null,null,null,null,{"$f":"IF(OR(Dashboard!$P$4=\"All\",Dashboard!$R$4=\"All\"),NA(),IF(OR(Data!K778<>Dashboard!$P$4,Data!K778<>Dashboard!$R$4),Data!G778,NA()))","v":7123.1666749770275},null,null,null,null,null,null,null,null,null,null,null,null,null,null,"ID0389",44000,1,null,null,null,null,null,null,null,null,null,null,null,null,null,null,null,null,null,null,null,null,null,null,null,null,null,null,null,null,null,null,null,"ID0389",null,44000]
[null,{"$f":"IF(Dashboard!$P$4=\"All\",Data!G779,IF(Data!K779=Dashboard!$P$4,Data!G779,NA()))","v":{"$error":"#N/A"}},"","","",{"$f":"IF(C228<>\"\",Data!$M779,\"\")","v":""},null,null,null,null,{"$f":"IF(Dashboard!$R$4=\"All\",Data!G779,IF(Data!K779=Dashboard!$R$4,Data!G779,NA()))","v":{"$error":"#N/A"}},"","","",{"$f":"IF(L228<>\"\",Data!$M779,\"\")","v":""},null,null,null,null,{"$f":"IF(OR(Dashboard!$P$4=\"All\",Dashboard!$R$4=\"All\"),NA(),IF(OR(Data!K779<>Dashboard!$P$4,Data!K779<>Dashboard!$R$4),Data!G779,NA()))","v":10000},null,null,null,null,null,null,null,null,null,null,null,null,null,null,"ID0390",null,null,null,null,55000,1,null,null,null,null,null,null,null,null,null,null,null,null,null,null,null,null,null,null,null,null,null,null,null,null,null,null,null,"ID0390",null,null,55000]
[null,{"$f":"IF(Dashboard!$P$4=\"All\",Data!G780,IF(Data!K780=Dashboard!$P$4,Data!G780,NA()))","v":{"$error":"#N/A"}},"","","",{"$f":"IF(C229<>\"\",Data!$M780,\"\")","v":""},null,null,null,null,{"$f":"IF(Dashboard!$R$4=\"All\",Data!G780,IF(Data!K780=Dashboard!$R$4,Data!G780,NA()))","v":{"$error":"#N/A"}},"","","",{"$f":"IF(L229<>\"\",Data!$M780,\"\")","v":""},null,null,null,null,{"$f":"IF(OR(Dashboard!$P$4=\"All\",Dashboard!$R$4=\"All\"),NA(),IF(OR(Data!K780<>Dashboard!$P$4,Data!K780<>Dashboard!$R$4),Data!G780,NA()))","v":64901.860520001574},null,null,null,null,null,null,null,null,null,null,null,null,null,null,"ID0392",null,null,50000,1,null,null,null,null,null,null,null,null,null,null,null,null,null,null,null,null,null,null,null,null,null,null,null,null,null,null,null,null,null,"ID0392",null,50000]
[null,{"$f":"IF(Dashboard!$P$4=\"All\",Data!G781,IF(Data!K781=Dashboard!$P$4,Data!G781,NA()))","v":{"$error":"#N/A"}},"","","",{"$f":"IF(C230<>\"\",Data!$M781,\"\")","v":""},null,null,null,null,{"$f":"IF(Dashboard!$R$4=\"All\",Data!G781,IF(Data!K781=Dashboard!$R$4,Data!G781,NA()))","v":{"$error":"#N/A"}},"","","",{"$f":"IF(L230<>\"\",Data!$M781,\"\")","v":""},null,null,null,null,{"$f":"IF(OR(Dashboard!$P$4=\"All\",Dashboard!$R$4=\"All\"),NA(),IF(OR(Data!K781<>Dashboard!$P$4,Data!K781<>Dashboard!$R$4),Data!G781,NA()))","v":65000},null,null,null,null,null,null,null,null,null,null,null,null,null,null,"ID0395",null,null,45880,1,null,null,null,null,null,null,null,null,null,null,null,null,null,null,null,null,null,null,null,null,null,null,null,null,null,null,null,null,null,"ID0395",null,null,null,45880]
[null,{"$f":"IF(Dashboard!$P$4=\"All\",Data!G782,IF(Data!K782=Dashboard!$P$4,Data!G782,NA()))","v":{"$error":"#N/A"}},"","","",{"$f":"IF(C231<>\"\",Data!$M782,\"\")","v":""},null,null,null,null,{"$f":"IF(Dashboard!$R$4=\"All\",Data!G782,IF(Data!K782=Dashboard!$R$4,Data!G782,NA()))","v":{"$error":"#N/A"}},"","","",{"$f":"IF(L231<>\"\",Data!$M782,\"\")","v":""},null,null,null,null,{"$f":"IF(OR(Dashboard!$P$4=\"All\",Dashboard!$R$4=\"All\"),NA(),IF(OR(Data!K782<>Dashboard!$P$4,Data!K782<>Dashboard!$R$4),Data!G782,NA()))","v":8013.5625093491553},null,null,null,null,null,null,null,null,null,null,null,null,null,null,"ID0396",null,null,70000,1,null,null,null,null,null,null,null,null,null,null,null,null,null,null,null,null,null,null,null,null,null,null,null,null,null,null,null,null,null,"ID0396",null,null,70000]
[null,{"$f":"IF(Dashboard!$P$4=\"All\",Data!G783,IF(Data!K783=Dashboard!$P$4,Data!G783,NA()))","v":{"$error":"#N/A"}},"","","",{"$f":"IF(C232<>\"\",Data!$M783,\"\")","v":""},null,null,null,null,{"$f":"IF(Dashboard!$R$4=\"All\",Data!G783,IF(Data!K783=Dashboard!$R$4,Data!G783,NA()))","v":{"$error":"#N/A"}},"","","",{"$f":"IF(L232<>\"\",Data!$M783,\"\")","v":""},null,null,null,null,{"$f":"IF(OR(Dashboard!$P$4=\"All\",Dashboard!$R$4=\"All\"),NA(),IF(OR(Data!K783<>Dashboard!$P$4,Data!K783<>Dashboard!$R$4),Data!G783,NA()))","v":98336.152303032693},null,null,null,null,null,null,null,null,null,null,null,null,null,null,"ID0397",100000,1,null,null,null,null,null,null,null,null,null,null,null,null,null,null,null,null,null,null,null,null,null,null,null,null,null,null,null,null,null,null,null,"ID0397",null,null,null,100000]
[null,{"$f":"IF(Dashboard!$P$4=\"All\",Data!G784,IF(Data!K784=Dashboard!$P$4,Data!G784,NA()))","v":{"$error":"#N/A"}},"","","",{"$f":"IF(C233<>\"\",Data!$M784,\"\")","v":""},null,null,null,null,{"$f":"IF(Dashboard!$R$4=\"All\",Data!G784,IF(Data!K784=Dashboard!$R$4,Data!G784,NA()))","v":{"$error":"#N/A"}},"","","",{"$f":"IF(L233<>\"\",Data!$M784,\"\")","v":""},null,null,null,null,{"$f":"IF(OR(Dashboard!$P$4=\"All\",Dashboard!$R$4=\"All\"),NA(),IF(OR(Data!K784<>Dashboard!$P$4,Data!K784<>Dashboard!$R$4),Data!G784,NA()))","v":2671.1875031163854},null,null,null,null,null,null,null,null,null,null,null,null,null,null,"ID0399",null,null,null,null,null,null,null,null,85000,1,null,null,null,null,null,null,null,null,null,null,null,null,null,null,null,null,null,null,null,null,null,null,null,"ID0399",null,85000]
[null,{"$f":"IF(Dashboard!$P$4=\"All\",Data!G785,IF(Data!K785=Dashboard!$P$4,Data!G785,NA()))","v":{"$error":"#N/A"}},"","","",{"$f":"IF(C234<>\"\",Data!$M785,\"\")","v":""},null,null,null,null,{"$f":"IF(Dashboard!$R$4=\"All\",Data!G785,IF(Data!K785=Dashboard!$R$4,Data!G785,NA()))","v":{"$error":"#N/A"}},"","","",{"$f":"IF(L234<>\"\",Data!$M785,\"\")","v":""},null,null,null,null,{"$f":"IF(OR(Dashboard!$P$4=\"All\",Dashboard!$R$4=\"All\"),NA(),IF(OR(Data!K785<>Dashboard!$P$4,Data!K785<>Dashboard!$R$4),Data!G785,NA()))","v":96000},null,null,null,null,null,null,null,null,null,null,null,null,null,null,"ID0400",null,null,47000,1,null,null,null,null,null,null,null,null,null,null,null,null,null,null,null,null,null,null,null,null,null,null,null,null,null,null,null,null,null,"ID0400",null,null,47000]
[null,{"$f":"IF(Dashboard!$P$4=\"All\",Data!G786,IF(Data!K786=Dashboard!$P$4,Data!G786,NA()))","v":{"$error":"#N/A"}},"","","",{"$f":"IF(C235<>\"\",Data!$M786,\"\")","v":""},null,null,null,null,{"$f":"IF(Dashboard!$R$4=\"All\",Data!G786,IF(Data!K786=Dashboard!$R$4,Data!G786,NA()))","v":{"$error":"#N/A"}},"","","",{"$f":"IF(L235<>\"\",Data!$M786,\"\")","v":""},null,null,null,null,{"$f":"IF(OR(Dashboard!$P$4=\"All\",Dashboard!$R$4=\"All\"),NA(),IF(OR(Data!K786<>Dashboard!$P$4,Data!K786<>Dashboard!$R$4),Data!G786,NA()))","v":20514.720023933838},null,null,null,null,null,null,null,null,null,null,null,null,null,null,"ID0401",null,null,40000,1,null,null,null,null,null,null,null,null,null,null,null,null,null,null,null,null,null,null,null,null,null,null,null,null,null,null,null,null,null,"ID0401",null,40000]
[null,{"$f":"IF(Dashboard!$P$4=\"All\",Data!G787,IF(Data!K787=Dashboard!$P$4,Data!G787,NA()))","v":{"$error":"#N/A"}},"","","",{"$f":"IF(C236<>\"\",Data!$M787,\"\")","v":""},null,null,null,null,{"$f":"IF(Dashboard!$R$4=\"All\",Data!G787,IF(Data!K787=Dashboard!$R$4,Data!G787,NA()))","v":{"$error":"#N/A"}},"","","",{"$f":"IF(L236<>\"\",Data!$M787,\"\")","v":""},null,null,null,null,{"$f":"IF(OR(Dashboard!$P$4=\"All\",Dashboard!$R$4=\"All\"),NA(),IF(OR(Data!K787<>Dashboard!$P$4,Data!K787<>Dashboard!$R$4),Data!G787,NA()))","v":19055.991584874118},null,null,null,null,null,null,null,null,null,null,null,null,null,null,"ID0404",34000,1,null,null,null,null,null,null,null,null,null,null,null,null,null,null,null,null,null,null,null,null,null,null,null,null,null,null,null,null,null,null,null,"ID0404",null,null,34000]
[null,{"$f":"IF(Dashboard!$P$4=\"All\",Data!G788,IF(Data!K788=Dashboard!$P$4,Data!G788,NA()))","v":{"$error":"#N/A"}},"","","",{"$f":"IF(C237<>\"\",Data!$M788,\"\")","v":""},null,null,null,null,{"$f":"IF(Dashboard!$R$4=\"All\",Data!G788,IF(Data!K788=Dashboard!$R$4,Data!G788,NA()))","v":{"$error":"#N/A"}},"","","",{"$f":"IF(L237<>\"\",Data!$M788,\"\")","v":""},null,null,null,null,{"$f":"IF(OR(Dashboard!$P$4=\"All\",Dashboard!$R$4=\"All\"),NA(),IF(OR(Data!K788<>Dashboard!$P$4,Data!K788<>Dashboard!$R$4),Data!G788,NA()))","v":66294.12766617132},null,null,null,null,null,null,null,null,null,null,null,null,null,null,"ID0405",52000,1,null,null,null,null,null,null,null,null,null,null,null,null,null,null,null,null,null,null,null,null,null,null,null,null,null,null,null,null,null,null,null,"ID0405",null,null,52000]
[null,{"$f":"IF(Dashboard!$P$4=\"All\",Data!G789,IF(Data!K789=Dashboard!$P$4,Data!G789,NA()))","v":{"$error":"#N/A"}},"","","",{"$f":"IF(C238<>\"\",Data!$M789,\"\")","v":""},null,null,null,null,{"$f":"IF(Dashboard!$R$4=\"All\",Data!G789,IF(Data!K789=Dashboard!$R$4,Data!G789,NA()))","v":{"$error":"#N/A"}},"","","",{"$f":"IF(L238<>\"\",Data!$M789,\"\")","v":""},null,null,null,null,{"$f":"IF(OR(Dashboard!$P$4=\"All\",Dashboard!$R$4=\"All\"),NA(),IF(OR(Data!K789<>Dashboard!$P$4,Data!K789<>Dashboard!$R$4),Data!G789,NA()))","v":6713.584591165848},null,null,null,null,null,null,null,null,null,null,null,null,null,null,"ID0410",60000,1,null,null,null,null,null,null,null,null,null,null,null,null,null,null,null,null,null,null,null,null,null,null,null,null,null,null,null,null,null,null,null,"ID0410",null,null,60000]
[null,{"$f":"IF(Dashboard!$P$4=\"All\",Data!G790,IF(Data!K790=Dashboard!$P$4,Data!G790,NA()))","v":{"$error":"#N/A"}},"","","",{"$f":"IF(C239<>\"\",Data!$M790,\"\")","v":""},null,null,null,null,{"$f":"IF(Dashboard!$R$4=\"All\",Data!G790,IF(Data!K790=Dashboard!$R$4,Data!G790,NA()))","v":45709.169889951241},45709.169889951241,"","",{"$f":"IF(L239<>\"\",Data!$M790,\"\")","v":15},null,null,null,null,{"$f":"IF(OR(Dashboard!$P$4=\"All\",Dashboard!$R$4=\"All\"),NA(),IF(OR(Data!K790<>Dashboard!$P$4,Data!K790<>Dashboard!$R$4),Data!G790,NA()))","v":45709.169889951241},null,null,null,null,null,null,null,null,null,null,null,null,null,null,"ID0413",56000,1,null,null,null,null,null,null,null,null,null,null,null,null,null,null,null,null,null,null,null,null,null,null,null,null,null,null,null,null,null,null,null,"ID0413",null,null,56000]
[null,{"$f":"IF(Dashboard!$P$4=\"All\",Data!G791,IF(Data!K791=Dashboard!$P$4,Data!G791,NA()))","v":{"$error":"#N/A"}},"","","",{"$f":"IF(C240<>\"\",Data!$M791,\"\")","v":""},null,null,null,null,{"$f":"IF(Dashboard!$R$4=\"All\",Data!G791,IF(Data!K791=Dashboard!$R$4,Data!G791,NA()))","v":{"$error":"#N/A"}},"","","",{"$f":"IF(L240<>\"\",Data!$M791,\"\")","v":""},null,null,null,null,{"$f":"IF(OR(Dashboard!$P$4=\"All\",Dashboard!$R$4=\"All\"),NA(),IF(OR(Data!K791<>Dashboard!$P$4,Data!K791<>Dashboard!$R$4),Data!G791,NA()))","v":48500},null,null,null,null,null,null,null,null,null,null,null,null,null,null,"ID0414",null,null,null,null,52000,1,null,null,null,null,null,null,null,null,null,null,null,null,null,null,null,null,null,null,null,null,null,null,null,null,null,null,null,"ID0414",null,null,52000]
[null,{"$f":"IF(Dashboard!$P$4=\"All\",Data!G792,IF(Data!K792=Dashboard!$P$4,Data!G792,NA()))","v":{"$error":"#N/A"}},"","","",{"$f":"IF(C241<>\"\",Data!$M792,\"\")","v":""},null,null,null,null,{"$f":"IF(Dashboard!$R$4=\"All\",Data!G792,IF(Data!K792=Dashboard!$R$4,Data!G792,NA()))","v":{"$error":"#N/A"}},"","","",{"$f":"IF(L241<>\"\",Data!$M792,\"\")","v":""},null,null,null,null,{"$f":"IF(OR(Dashboard!$P$4=\"All\",Dashboard!$R$4=\"All\"),NA(),IF(OR(Data!K792<>Dashboard!$P$4,Data!K792<>Dashboard!$R$4),Data!G792,NA()))","v":10684.750012465542},null,null,null,null,null,null,null,null,null,null,null,null,null,null,"ID0415",51613,1,null,null,null,null,null,null,null,null,null,null,null,null,null,null,null,null,null,null,null,null,null,null,null,null,null,null,null,null,null,null,null,"ID0415",null,null,null,51613]
[null,{"$f":"IF(Dashboard!$P$4=\"All\",Data!G793,IF(Data!K793=Dashboard!$P$4,Data!G793,NA()))","v":{"$error":"#N/A"}},"","","",{"$f":"IF(C242<>\"\",Data!$M793,\"\")","v":""},null,null,null,null,{"$f":"IF(Dashboard!$R$4=\"All\",Data!G793,IF(Data!K793=Dashboard!$R$4,Data!G793,NA()))","v":{"$error":"#N/A"}},"","","",{"$f":"IF(L242<>\"\",Data!$M793,\"\")","v":""},null,null,null,null,{"$f":"IF(OR(Dashboard!$P$4=\"All\",Dashboard!$R$4=\"All\"),NA(),IF(OR(Data!K793<>Dashboard!$P$4,Data!K793<>Dashboard!$R$4),Data!G793,NA()))","v":33900},null,null,null,null,null,null,null,null,null,null,null,null,null,null,"ID0417",null,null,56000,1,null,null,null,null,null,null,null,null,null,null,null,null,null,null,null,null,null,null,null,null,null,null,null,null,null,null,null,null,null,"ID0417",null,null,null,56000]
[null,{"$f":"IF(Dashboard!$P$4=\"All\",Data!G794,IF(Data!K794=Dashboard!$P$4,Data!G794,NA()))","v":{"$error":"#N/A"}},"","","",{"$f":"IF(C243<>\"\",Data!$M794,\"\")","v":""},null,null,null,null,{"$f":"IF(Dashboard!$R$4=\"All\",Data!G794,IF(Data!K794=Dashboard!$R$4,Data!G794,NA()))","v":{"$error":"#N/A"}},"","","",{"$f":"IF(L243<>\"\",Data!$M794,\"\")","v":""},null,null,null,null,{"$f":"IF(OR(Dashboard!$P$4=\"All\",Dashboard!$R$4=\"All\"),NA(),IF(OR(Data!K794<>Dashboard!$P$4,Data!K794<>Dashboard!$R$4),Data!G794,NA()))","v":109729.60187662003},null,null,null,null,null,null,null,null,null,null,null,null,null,null,"ID0418",null,null,null,null,null,null,null,null,null,null,null,null,115000,1,null,null,null,null,null,null,null,null,null,null,null,null,null,null,null,null,null,null,null,"ID0418",null,115000]
[null,{"$f":"IF(Dashboard!$P$4=\"All\",Data!G795,IF(Data!K795=Dashboard!$P$4,Data!G795,NA()))","v":{"$error":"#N/A"}},"","","",{"$f":"IF(C244<>\"\",Data!$M795,\"\")","v":""},null,null,null,null,{"$f":"IF(Dashboard!$R$4=\"All\",Data!G795,IF(Data!K795=Dashboard!$R$4,Data!G795,NA()))","v":{"$error":"#N/A"}},"","","",{"$f":"IF(L244<>\"\",Data!$M795,\"\")","v":""},null,null,null,null,{"$f":"IF(OR(Dashboard!$P$4=\"All\",Dashboard!$R$4=\"All\"),NA(),IF(OR(Data!K795<>Dashboard!$P$4,Data!K795<>Dashboard!$R$4),Data!G795,NA()))","v":15136.729184326183},null,null,null,null,null,null,null,null,null,null,null,null,null,null,"ID0421",null,null,null,null,null,null,72000,1,null,null,null,null,null,null,null,null,null,null,null,null,null,null,null,null,null,null,null,null,null,null,null,null,null,"ID0421",null,null,72000]
[null,{"$f":"IF(Dashboard!$P$4=\"All\",Data!G796,IF(Data!K796=Dashboard!$P$4,Data!G796,NA()))","v":{"$error":"#N/A"}},"","","",{"$f":"IF(C245<>\"\",Data!$M796,\"\")","v":""},null,null,null,null,{"$f":"IF(Dashboard!$R$4=\"All\",Data!G796,IF(Data!K796=Dashboard!$R$4,Data!G796,NA()))","v":{"$error":"#N/A"}},"","","",{"$f":"IF(L245<>\"\",Data!$M796,\"\")","v":""},null,null,null,null,{"$f":"IF(OR(Dashboard!$P$4=\"All\",Dashboard!$R$4=\"All\"),NA(),IF(OR(Data!K796<>Dashboard!$P$4,Data!K796<>Dashboard!$R$4),Data!G796,NA()))","v":85000},null,null,null,null,null,null,null,null,null,null,null,null,null,null,"ID0422",90000,1,null,null,null,null,null,null,null,null,null,null,null,null,null,null,null,null,null,null,null,null,null,null,null,null,null,null,null,null,null,null,null,"ID0422",null,null,null,90000]
[null,{"$f":"IF(Dashboard!$P$4=\"All\",Data!G797,IF(Data!K797=Dashboard!$P$4,Data!G797,NA()))","v":{"$error":"#N/A"}},"","","",{"$f":"IF(C246<>\"\",Data!$M797,\"\")","v":""},null,null,null,null,{"$f":"IF(Dashboard!$R$4=\"All\",Data!G797,IF(Data!K797=Dashboard!$R$4,Data!G797,NA()))","v":{"$error":"#N/A"}},"","","",{"$f":"IF(L246<>\"\",Data!$M797,\"\")","v":""},null,null,null,null,{"$f":"IF(OR(Dashboard!$P$4=\"All\",Dashboard!$R$4=\"All\"),NA(),IF(OR(Data!K797<>Dashboard!$P$4,Data!K797<>Dashboard!$R$4),Data!G797,NA()))","v":8013.5625093491553},null,null,null,null,null,null,null,null,null,null,null,null,null,null,"ID0425",null,null,null,null,null,null,null,null,null,null,null,null,250000,1,null,null,null,null,null,null,null,null,null,null,null,null,null,null,null,null,null,null,null,"ID0425",null,null,null,250000]
[null,{"$f":"IF(Dashboard!$P$4=\"All\",Data!G798,IF(Data!K798=Dashboard!$P$4,Data!G798,NA()))","v":{"$error":"#N/A"}},"","","",{"$f":"IF(C247<>\"\",Data!$M798,\"\")","v":""},null,null,null,null,{"$f":"IF(Dashboard!$R$4=\"All\",Data!G798,IF(Data!K798=Dashboard!$R$4,Data!G798,NA()))","v":{"$error":"#N/A"}},"","","",{"$f":"IF(L247<>\"\",Data!$M798,\"\")","v":""},null,null,null,null,{"$f":"IF(OR(Dashboard!$P$4=\"All\",Dashboard!$R$4=\"All\"),NA(),IF(OR(Data!K798<>Dashboard!$P$4,Data!K798<>Dashboard!$R$4),Data!G798,NA()))","v":48000},null,null,null,null,null,null,null,null,null,null,null,null,null,null,"ID0428",null,null,30000,1,null,null,null,null,null,null,null,null,null,null,null,null,null,null,null,null,null,null,null,null,null,null,null,null,null,null,null,null,null,"ID0428",null,30000]
[null,{"$f":"IF(Dashboard!$P$4=\"All\",Data!G799,IF(Data!K799=Dashboard!$P$4,Data!G799,NA()))","v":{"$error":"#N/A"}},"","","",{"$f":"IF(C248<>\"\",Data!$M799,\"\")","v":""},null,null,null,null,{"$f":"IF(Dashboard!$R$4=\"All\",Data!G799,IF(Data!K799=Dashboard!$R$4,Data!G799,NA()))","v":{"$error":"#N/A"}},"","","",{"$f":"IF(L248<>\"\",Data!$M799,\"\")","v":""},null,null,null,null,{"$f":"IF(OR(Dashboard!$P$4=\"All\",Dashboard!$R$4=\"All\"),NA(),IF(OR(Data!K799<>Dashboard!$P$4,Data!K799<>Dashboard!$R$4),Data!G799,NA()))","v":3027.3458368652364},null,null,null,null,null,null,null,null,null,null,null,null,null,null,"ID0430",null,null,null,null,null,null,null,null,24000,1,null,null,null,null,null,null,null,null,null,null,null,null,null,null,null,null,null,null,null,null,null,null,null,"ID0430",24000]
[null,{"$f":"IF(Dashboard!$P$4=\"All\",Data!G800,IF(Data!K800=Dashboard!$P$4,Data!G800,NA()))","v":{"$error":"#N/A"}},"","","",{"$f":"IF(C249<>\"\",Data!$M800,\"\")","v":""},null,null,null,null,{"$f":"IF(Dashboard!$R$4=\"All\",Data!G800,IF(Data!K800=Dashboard!$R$4,Data!G800,NA()))","v":{"$error":"#N/A"}},"","","",{"$f":"IF(L249<>\"\",Data!$M800,\"\")","v":""},null,null,null,null,{"$f":"IF(OR(Dashboard!$P$4=\"All\",Dashboard!$R$4=\"All\"),NA(),IF(OR(Data!K800<>Dashboard!$P$4,Data!K800<>Dashboard!$R$4),Data!G800,NA()))","v":13100},null,null,null,null,null,null,null,null,null,null,null,null,null,null,"ID0431",null,null,60000,1,null,null,null,null,null,null,null,null,null,null,null,null,null,null,null,null,null,null,null,null,null,null,null,null,null,null,null,null,null,"ID0431",null,null,60000]
[null,{"$f":"IF(Dashboard!$P$4=\"All\",Data!G801,IF(Data!K801=Dashboard!$P$4,Data!G801,NA()))","v":{"$error":"#N/A"}},"","","",{"$f":"IF(C250<>\"\",Data!$M801,\"\")","v":""},null,null,null,null,{"$f":"IF(Dashboard!$R$4=\"All\",Data!G801,IF(Data!K801=Dashboard!$R$4,Data!G801,NA()))","v":{"$error":"#N/A"}},"","","",{"$f":"IF(L250<>\"\",Data!$M801,\"\")","v":""},null,null,null,null,{"$f":"IF(OR(Dashboard!$P$4=\"All\",Dashboard!$R$4=\"All\"),NA(),IF(OR(Data!K801<>Dashboard!$P$4,Data!K801<>Dashboard!$R$4),Data!G801,NA()))","v":60000},null,null,null,null,null,null,null,null,null,null,null,null,null,null,"ID0432",76600,1,null,null,null,null,null,null,null,null,null,null,null,null,null,null,null,null,null,null,null,null,null,null,null,null,null,null,null,null,null,null,null,"ID0432",null,76600]
[null,{"$f":"IF(Dashboard!$P$4=\"All\",Data!G802,IF(Data!K802=Dashboard!$P$4,Data!G802,NA()))","v":{"$error":"#N/A"}},"","","",{"$f":"IF(C251<>\"\",Data!$M802,\"\")","v":""},null,null,null,null,{"$f":"IF(Dashboard!$R$4=\"All\",Data!G802,IF(Data!K802=Dashboard!$R$4,Data!G802,NA()))","v":{"$error":"#N/A"}},"","","",{"$f":"IF(L251<>\"\",Data!$M802,\"\")","v":""},null,null,null,null,{"$f":"IF(OR(Dashboard!$P$4=\"All\",Dashboard!$R$4=\"All\"),NA(),IF(OR(Data!K802<>Dashboard!$P$4,Data!K802<>Dashboard!$R$4),Data!G802,NA()))","v":24000},null,null,null,null,null,null,null,null,null,null,null,null,null,null,"ID0435",90000,1,null,null,null,null,null,null,null,null,null,null,null,null,null,null,null,null,null,null,null,null,null,null,null,null,null,null,null,null,null,null,null,"ID0435",90000]
[null,{"$f":"IF(Dashboard!$P$4=\"All\",Data!G803,IF(Data!K803=Dashboard!$P$4,Data!G803,NA()))","v":{"$error":"#N/A"}},"","","",{"$f":"IF(C252<>\"\",Data!$M803,\"\")","v":""},null,null,null,null,{"$f":"IF(Dashboard!$R$4=\"All\",Data!G803,IF(Data!K803=Dashboard!$R$4,Data!G803,NA()))","v":{"$error":"#N/A"}},"","","",{"$f":"IF(L252<>\"\",Data!$M803,\"\")","v":""},null,null,null,null,{"$f":"IF(OR(Dashboard!$P$4=\"All\",Dashboard!$R$4=\"All\"),NA(),IF(OR(Data!K803<>Dashboard!$P$4,Data!K803<>Dashboard!$R$4),Data!G803,NA()))","v":4273.9000049862161},null,null,null,null,null,null,null,null,null,null,null,null,null,null,"ID0437",75000,1,null,null,null,null,null,null,null,null,null,null,null,null,null,null,null,null,null,null,null,null,null,null,null,null,null,null,null,null,null,null,null,"ID0437",null,null,75000]
[null,{"$f":"IF(Dashboard!$P$4=\"All\",Data!G804,IF(Data!K804=Dashboard!$P$4,Data!G804,NA()))","v":{"$error":"#N/A"}},"","","",{"$f":"IF(C253<>\"\",Data!$M804,\"\")","v":""},null,null,null,null,{"$f":"IF(Dashboard!$R$4=\"All\",Data!G804,IF(Data!K804=Dashboard!$R$4,Data!G804,NA()))","v":{"$error":"#N/A"}},"","","",{"$f":"IF(L253<>\"\",Data!$M804,\"\")","v":""},null,null,null,null,{"$f":"IF(OR(Dashboard!$P$4=\"All\",Dashboard!$R$4=\"All\"),NA(),IF(OR(Data!K804<>Dashboard!$P$4,Data!K804<>Dashboard!$R$4),Data!G804,NA()))","v":11575.14584683767},null,null,null,null,null,null,null,null,null,null,null,null,null,null,"ID0438",72000,1,null,null,null,null,null,null,null,null,null,null,null,null,null,null,null,null,null,null,null,null,null,null,null,null,null,null,null,null,null,null,null,"ID0438",null,72000]
[null,{"$f":"IF(Dashboard!$P$4=\"All\",Data!G805,IF(Data!K805=Dashboard!$P$4,Data!G805,NA()))","v":{"$error":"#N/A"}},"","","",{"$f":"IF(C254<>\"\",Data!$M805,\"\")","v":""},null,null,null,null,{"$f":"IF(Dashboard!$R$4=\"All\",Data!G805,IF(Data!K805=Dashboard!$R$4,Data!G805,NA()))","v":{"$error":"#N/A"}},"","","",{"$f":"IF(L254<>\"\",Data!$M805,\"\")","v":""},null,null,null,null,{"$f":"IF(OR(Dashboard!$P$4=\"All\",Dashboard!$R$4=\"All\"),NA(),IF(OR(Data!K805<>Dashboard!$P$4,Data!K805<>Dashboard!$R$4),Data!G805,NA()))","v":95000},null,null,null,null,null,null,null,null,null,null,null,null,null,null,"ID0439",65000,1,null,null,null,null,null,null,null,null,null,null,null,null,null,null,null,null,null,null,null,null,null,null,null,null,null,null,null,null,null,null,null,"ID0439",null,null,65000]
[null,{"$f":"IF(Dashboard!$P$4=\"All\",Data!G806,IF(Data!K806=Dashboard!$P$4,Data!G806,NA()))","v":{"$error":"#N/A"}},"","","",{"$f":"IF(C255<>\"\",Data!$M806,\"\")","v":""},null,null,null,null,{"$f":"IF(Dashboard!$R$4=\"All\",Data!G806,IF(Data!K806=Dashboard!$R$4,Data!G806,NA()))","v":{"$error":"#N/A"}},"","","",{"$f":"IF(L255<>\"\",Data!$M806,\"\")","v":""},null,null,null,null,{"$f":"IF(OR(Dashboard!$P$4=\"All\",Dashboard!$R$4=\"All\"),NA(),IF(OR(Data!K806<>Dashboard!$P$4,Data!K806<>Dashboard!$R$4),Data!G806,NA()))","v":9188.8850107203652},null,null,null,null,null,null,null,null,null,null,null,null,null,null,"ID0440",null,null,null,null,null,null,120000,1,null,null,null,null,null,null,null,null,null,null,null,null,null,null,null,null,null,null,null,null,null,null,null,null,null,"ID0440",120000]
[null,{"$f":"IF(Dashboard!$P$4=\"All\",Data!G807,IF(Data!K807=Dashboard!$P$4,Data!G807,NA()))","v":{"$error":"#N/A"}},"","","",{"$f":"IF(C256<>\"\",Data!$M807,\"\")","v":""},null,null,null,null,{"$f":"IF(Dashboard!$R$4=\"All\",Data!G807,IF(Data!K807=Dashboard!$R$4,Data!G807,NA()))","v":{"$error":"#N/A"}},"","","",{"$f":"IF(L256<>\"\",Data!$M807,\"\")","v":""},null,null,null,null,{"$f":"IF(OR(Dashboard!$P$4=\"All\",Dashboard!$R$4=\"All\"),NA(),IF(OR(Data!K807<>Dashboard!$P$4,Data!K807<>Dashboard!$R$4),Data!G807,NA()))","v":8975.1900104710548},null,null,null,null,null,null,null,null,null,null,null,null,null,null,"ID0444",80000,1,null,null,null,null,null,null,null,null,null,null,null,null,null,null,null,null,null,null,null,null,null,null,null,null,null,null,null,null,null,null,null,"ID0444",null,null,80000]
[null,{"$f":"IF(Dashboard!$P$4=\"All\",Data!G808,IF(Data!K808=Dashboard!$P$4,Data!G808,NA()))","v":{"$error":"#N/A"}},"","","",{"$f":"IF(C257<>\"\",Data!$M808,\"\")","v":""},null,null,null,null,{"$f":"IF(Dashboard!$R$4=\"All\",Data!G808,IF(Data!K808=Dashboard!$R$4,Data!G808,NA()))","v":{"$error":"#N/A"}},"","","",{"$f":"IF(L257<>\"\",Data!$M808,\"\")","v":""},null,null,null,null,{"$f":"IF(OR(Dashboard!$P$4=\"All\",Dashboard!$R$4=\"All\"),NA(),IF(OR(Data!K808<>Dashboard!$P$4,Data!K808<>Dashboard!$R$4),Data!G808,NA()))","v":2564.3400029917298},null,null,null,null,null,null,null,null,null,null,null,null,null,null,"ID0447",null,null,51000,1,null,null,null,null,null,null,null,null,null,null,null,null,null,null,null,null,null,null,null,null,null,null,null,null,null,null,null,null,null,"ID0447",null,51000]
[null,{"$f":"IF(Dashboard!$P$4=\"All\",Data!G809,IF(Data!K809=Dashboard!$P$4,Data!G809,NA()))","v":{"$error":"#N/A"}},"","","",{"$f":"IF(C258<>\"\",Data!$M809,\"\")","v":""},null,null,null,null,{"$f":"IF(Dashboard!$R$4=\"All\",Data!G809,IF(Data!K809=Dashboard!$R$4,Data!G809,NA()))","v":86689.804963700633},86689.804963700633,"","",{"$f":"IF(L258<>\"\",Data!$M809,\"\")","v":12},null,null,null,null,{"$f":"IF(OR(Dashboard!$P$4=\"All\",Dashboard!$R$4=\"All\"),NA(),IF(OR(Data!K809<>Dashboard!$P$4,Data!K809<>Dashboard!$R$4),Data!G809,NA()))","v":86689.804963700633},null,null,null,null,null,null,null,null,null,null,null,null,null,null,"ID0449",null,null,null,null,null,null,null,null,74000,1,null,null,null,null,null,null,null,null,null,null,null,null,null,null,null,null,null,null,null,null,null,null,null,"ID0449",null,null,74000]
[null,{"$f":"IF(Dashboard!$P$4=\"All\",Data!G810,IF(Data!K810=Dashboard!$P$4,Data!G810,NA()))","v":{"$error":"#N/A"}},"","","",{"$f":"IF(C259<>\"\",Data!$M810,\"\")","v":""},null,null,null,null,{"$f":"IF(Dashboard!$R$4=\"All\",Data!G810,IF(Data!K810=Dashboard!$R$4,Data!G810,NA()))","v":{"$error":"#N/A"}},"","","",{"$f":"IF(L259<>\"\",Data!$M810,\"\")","v":""},null,null,null,null,{"$f":"IF(OR(Dashboard!$P$4=\"All\",Dashboard!$R$4=\"All\"),NA(),IF(OR(Data!K810<>Dashboard!$P$4,Data!K810<>Dashboard!$R$4),Data!G810,NA()))","v":15500},null,null,null,null,null,null,null,null,null,null,null,null,null,null,"ID0451",50000,1,null,null,null,null,null,null,null,null,null,null,null,null,null,null,null,null,null,null,null,null,null,null,null,null,null,null,null,null,null,null,null,"ID0451",null,null,50000]
[null,{"$f":"IF(Dashboard!$P$4=\"All\",Data!G811,IF(Data!K811=Dashboard!$P$4,Data!G811,NA()))","v":{"$error":"#N/A"}},{"$f":"IF(ISNA(B260),\"\",B260)","v":""},{"$f":"IF(C260>=PERCENTILE($C$3:$C$1337,0.9),C260,\"\")","v":""},{"$f":"IF(C260<=PERCENTILE($C$3:$C$1337,0.1),C260,\"\")","v":""},{"$f":"IF(C260<>\"\",Data!$M811,\"\")","v":""},null,null,null,null,{"$f":"IF(Dashboard!$R$4=\"All\",Data!G811,IF(Data!K811=Dashboard!$R$4,Data!G811,NA()))","v":{"$error":"#N/A"}},{"$f":"IF(ISNA(K260),\"\",K260)","v":""},{"$f":"IF(L260>=PERCENTILE($L$3:$L$1337,0.9),L260,\"\")","v":""},{"$f":"IF(L260<=PERCENTILE($L$3:$L$1337,0.1),L260,\"\")","v":""},{"$f":"IF(L260<>\"\",Data!$M811,\"\")","v":""},null,null,null,null,{"$f":"IF(OR(Dashboard!$P$4=\"All\",Dashboard!$R$4=\"All\"),NA(),IF(OR(Data!K811<>Dashboard!$P$4,Data!K811<>Dashboard!$R$4),Data!G811,NA()))","v":148284.35006969364},null,null,null,null,null,null,null,null,null,null,null,null,null,null,"ID0456",60000,1,null,null,null,null,null,null,null,null,null,null,null,null,null,null,null,null,null,null,null,null,null,null,null,null,null,null,null,null,null,null,null,"ID0456",null,null,null,60000]
[null,{"$f":"IF(Dashboard!$P$4=\"All\",Data!G812,IF(Data!K812=Dashboard!$P$4,Data!G812,NA()))","v":{"$error":"#N/A"}},"","","",{"$f":"IF(C261<>\"\",Data!$M812,\"\")","v":""},null,null,null,null,{"$f":"IF(Dashboard!$R$4=\"All\",Data!G812,IF(Data!K812=Dashboard!$R$4,Data!G812,NA()))","v":{"$error":"#N/A"}},"","","",{"$f":"IF(L261<>\"\",Data!$M812,\"\")","v":""},null,null,null,null,{"$f":"IF(OR(Dashboard!$P$4=\"All\",Dashboard!$R$4=\"All\"),NA(),IF(OR(Data!K812<>Dashboard!$P$4,Data!K812<>Dashboard!$R$4),Data!G812,NA()))","v":10684.750012465542},null,null,null,null,null,null,null,null,null,null,null,null,null,null,"ID0458",null,null,80000,1,null,null,null,null,null,null,null,null,null,null,null,null,null,null,null,null,null,null,null,null,null,null,null,null,null,null,null,null,null,"ID0458",80000]
[null,{"$f":"IF(Dashboard!$P$4=\"All\",Data!G813,IF(Data!K813=Dashboard!$P$4,Data!G813,NA()))","v":{"$error":"#N/A"}},"","","",{"$f":"IF(C262<>\"\",Data!$M813,\"\")","v":""},null,null,null,null,{"$f":"IF(Dashboard!$R$4=\"All\",Data!G813,IF(Data!K813=Dashboard!$R$4,Data!G813,NA()))","v":{"$error":"#N/A"}},"","","",{"$f":"IF(L262<>\"\",Data!$M813,\"\")","v":""},null,null,null,null,{"$f":"IF(OR(Dashboard!$P$4=\"All\",Dashboard!$R$4=\"All\"),NA(),IF(OR(Data!K813<>Dashboard!$P$4,Data!K813<>Dashboard!$R$4),Data!G813,NA()))","v":75000},null,null,null,null,null,null,null,null,null,null,null,null,null,null,"ID0461",null,null,125000,1,null,null,null,null,null,null,null,null,null,null,null,null,null,null,null,null,null,null,null,null,null,null,null,null,null,null,null,null,null,"ID0461",null,125000]
[null,{"$f":"IF(Dashboard!$P$4=\"All\",Data!G814,IF(Data!K814=Dashboard!$P$4,Data!G814,NA()))","v":{"$error":"#N/A"}},"","","",{"$f":"IF(C263<>\"\",Data!$M814,\"\")","v":""},null,null,null,null,{"$f":"IF(Dashboard!$R$4=\"All\",Data!G814,IF(Data!K814=Dashboard!$R$4,Data!G814,NA()))","v":{"$error":"#N/A"}},"","","",{"$f":"IF(L263<>\"\",Data!$M814,\"\")","v":""},null,null,null,null,{"$f":"IF(OR(Dashboard!$P$4=\"All\",Dashboard!$R$4=\"All\"),NA(),IF(OR(Data!K814<>Dashboard!$P$4,Data!K814<>Dashboard!$R$4),Data!G814,NA()))","v":12000},null,null,null,null,null,null,null,null,null,null,null,null,null,null,"ID0462",52000,1,null,null,null,null,null,null,null,null,null,null,null,null,null,null,null,null,null,null,null,null,null,null,null,null,null,null,null,null,null,null,null,"ID0462",null,52000]
[null,{"$f":"IF(Dashboard!$P$4=\"All\",Data!G815,IF(Data!K815=Dashboard!$P$4,Data!G815,NA()))","v":{"$error":"#N/A"}},"","","",{"$f":"IF(C264<>\"\",Data!$M815,\"\")","v":""},null,null,null,null,{"$f":"IF(Dashboard!$R$4=\"All\",Data!G815,IF(Data!K815=Dashboard!$R$4,Data!G815,NA()))","v":{"$error":"#N/A"}},"","","",{"$f":"IF(L264<>\"\",Data!$M815,\"\")","v":""},null,null,null,null,{"$f":"IF(OR(Dashboard!$P$4=\"All\",Dashboard!$R$4=\"All\"),NA(),IF(OR(Data!K815<>Dashboard!$P$4,Data!K815<>Dashboard!$R$4),Data!G815,NA()))","v":30273.458368652366},null,null,null,null,null,null,null,null,null,null,null,null,null,null,"ID0463",45000,1,null,null,null,null,null,null,null,null,null,null,null,null,null,null,null,null,null,null,null,null,null,null,null,null,null,null,null,null,null,null,null,"ID0463",null,null,45000]
[null,{"$f":"IF(Dashboard!$P$4=\"All\",Data!G816,IF(Data!K816=Dashboard!$P$4,Data!G816,NA()))","v":{"$error":"#N/A"}},"","","",{"$f":"IF(C265<>\"\",Data!$M816,\"\")","v":""},null,null,null,null,{"$f":"IF(Dashboard!$R$4=\"All\",Data!G816,IF(Data!K816=Dashboard!$R$4,Data!G816,NA()))","v":{"$error":"#N/A"}},"","","",{"$f":"IF(L265<>\"\",Data!$M816,\"\")","v":""},null,null,null,null,{"$f":"IF(OR(Dashboard!$P$4=\"All\",Dashboard!$R$4=\"All\"),NA(),IF(OR(Data!K816<>Dashboard!$P$4,Data!K816<>Dashboard!$R$4),Data!G816,NA()))","v":30000},null,null,null,null,null,null,null,null,null,null,null,null,null,null,"ID0465",null,null,60000,1,null,null,null,null,null,null,null,null,null,null,null,null,null,null,null,null,null,null,null,null,null,null,null,null,null,null,null,null,null,"ID0465",null,null,null,60000]
[null,{"$f":"IF(Dashboard!$P$4=\"All\",Data!G817,IF(Data!K817=Dashboard!$P$4,Data!G817,NA()))","v":{"$error":"#N/A"}},"","","",{"$f":"IF(C266<>\"\",Data!$M817,\"\")","v":""},null,null,null,null,{"$f":"IF(Dashboard!$R$4=\"All\",Data!G817,IF(Data!K817=Dashboard!$R$4,Data!G817,NA()))","v":{"$error":"#N/A"}},"","","",{"$f":"IF(L266<>\"\",Data!$M817,\"\")","v":""},null,null,null,null,{"$f":"IF(OR(Dashboard!$P$4=\"All\",Dashboard!$R$4=\"All\"),NA(),IF(OR(Data!K817<>Dashboard!$P$4,Data!K817<>Dashboard!$R$4),Data!G817,NA()))","v":6410.8500074793246},null,null,null,null,null,null,null,null,null,null,null,null,null,null,"ID0470",null,null,null,null,null,null,150000,1,null,null,null,null,null,null,null,null,null,null,null,null,null,null,null,null,null,null,null,null,null,null,null,null,null,"ID0470",null,150000]
[null,{"$f":"IF(Dashboard!$P$4=\"All\",Data!G818,IF(Data!K818=Dashboard!$P$4,Data!G818,NA()))","v":{"$error":"#N/A"}},"","","",{"$f":"IF(C267<>\"\",Data!$M818,\"\")","v":""},null,null,null,null,{"$f":"IF(Dashboard!$R$4=\"All\",Data!G818,IF(Data!K818=Dashboard!$R$4,Data!G818,NA()))","v":{"$error":"#N/A"}},"","","",{"$f":"IF(L267<>\"\",Data!$M818,\"\")","v":""},null,null,null,null,{"$f":"IF(OR(Dashboard!$P$4=\"All\",Dashboard!$R$4=\"All\"),NA(),IF(OR(Data!K818<>Dashboard!$P$4,Data!K818<>Dashboard!$R$4),Data!G818,NA()))","v":100000},null,null,null,null,null,null,null,null,null,null,null,null,null,null,"ID0471",50000,1,null,null,null,null,null,null,null,null,null,null,null,null,null,null,null,null,null,null,null,null,null,null,null,null,null,null,null,null,null,null,null,"ID0471",null,null,50000]
[null,{"$f":"IF(Dashboard!$P$4=\"All\",Data!G819,IF(Data!K819=Dashboard!$P$4,Data!G819,NA()))","v":53356.776437647524},53356.776437647524,"","",{"$f":"IF(C268<>\"\",Data!$M819,\"\")","v":2},null,null,null,null,{"$f":"IF(Dashboard!$R$4=\"All\",Data!G819,IF(Data!K819=Dashboard!$R$4,Data!G819,NA()))","v":{"$error":"#N/A"}},"","","",{"$f":"IF(L268<>\"\",Data!$M819,\"\")","v":""},null,null,null,null,{"$f":"IF(OR(Dashboard!$P$4=\"All\",Dashboard!$R$4=\"All\"),NA(),IF(OR(Data!K819<>Dashboard!$P$4,Data!K819<>Dashboard!$R$4),Data!G819,NA()))","v":53356.776437647524},null,null,null,null,null,null,null,null,null,null,null,null,null,null,"ID0472",70000,1,null,null,null,null,null,null,null,null,null,null,null,null,null,null,null,null,null,null,null,null,null,null,null,null,null,null,null,null,null,null,null,"ID0472",null,null,70000]
[null,{"$f":"IF(Dashboard!$P$4=\"All\",Data!G820,IF(Data!K820=Dashboard!$P$4,Data!G820,NA()))","v":{"$error":"#N/A"}},"","","",{"$f":"IF(C269<>\"\",Data!$M820,\"\")","v":""},null,null,null,null,{"$f":"IF(Dashboard!$R$4=\"All\",Data!G820,IF(Data!K820=Dashboard!$R$4,Data!G820,NA()))","v":{"$error":"#N/A"}},"","","",{"$f":"IF(L269<>\"\",Data!$M820,\"\")","v":""},null,null,null,null,{"$f":"IF(OR(Dashboard!$P$4=\"All\",Dashboard!$R$4=\"All\"),NA(),IF(OR(Data!K820<>Dashboard!$P$4,Data!K820<>Dashboard!$R$4),Data!G820,NA()))","v":40000},null,null,null,null,null,null,null,null,null,null,null,null,null,null,"ID0478",30000,1,null,null,null,null,null,null,null,null,null,null,null,null,null,null,null,null,null,null,null,null,null,null,null,null,null,null,null,null,null,null,null,"ID0478",null,null,null,null,30000]
[null,{"$f":"IF(Dashboard!$P$4=\"All\",Data!G821,IF(Data!K821=Dashboard!$P$4,Data!G821,NA()))","v":{"$error":"#N/A"}},"","","",{"$f":"IF(C270<>\"\",Data!$M821,\"\")","v":""},null,null,null,null,{"$f":"IF(Dashboard!$R$4=\"All\",Data!G821,IF(Data!K821=Dashboard!$R$4,Data!G821,NA()))","v":{"$error":"#N/A"}},"","","",{"$f":"IF(L270<>\"\",Data!$M821,\"\")","v":""},null,null,null,null,{"$f":"IF(OR(Dashboard!$P$4=\"All\",Dashboard!$R$4=\"All\"),NA(),IF(OR(Data!K821<>Dashboard!$P$4,Data!K821<>Dashboard!$R$4),Data!G821,NA()))","v":9794.354178093412},null,null,null,null,null,null,null,null,null,null,null,null,null,null,"ID0480",null,null,null,null,null,null,null,null,92000,1,null,null,null,null,null,null,null,null,null,null,null,null,null,null,null,null,null,null,null,null,null,null,null,"ID0480",92000]
[null,{"$f":"IF(Dashboard!$P$4=\"All\",Data!G822,IF(Data!K822=Dashboard!$P$4,Data!G822,NA()))","v":{"$error":"#N/A"}},"","","",{"$f":"IF(C271<>\"\",Data!$M822,\"\")","v":""},null,null,null,null,{"$f":"IF(Dashboard!$R$4=\"All\",Data!G822,IF(Data!K822=Dashboard!$R$4,Data!G822,NA()))","v":{"$error":"#N/A"}},"","","",{"$f":"IF(L271<>\"\",Data!$M822,\"\")","v":""},null,null,null,null,{"$f":"IF(OR(Dashboard!$P$4=\"All\",Dashboard!$R$4=\"All\"),NA(),IF(OR(Data!K822<>Dashboard!$P$4,Data!K822<>Dashboard!$R$4),Data!G822,NA()))","v":18499.860539512854},null,null,null,null,null,null,null,null,null,null,null,null,null,null,"ID0481",52000,1,null,null,null,null,null,null,null,null,null,null,null,null,null,null,null,null,null,null,null,null,null,null,null,null,null,null,null,null,null,null,null,"ID0481",null,null,52000]
[null,{"$f":"IF(Dashboard!$P$4=\"All\",Data!G823,IF(Data!K823=Dashboard!$P$4,Data!G823,NA()))","v":{"$error":"#N/A"}},"","","",{"$f":"IF(C272<>\"\",Data!$M823,\"\")","v":""},null,null,null,null,{"$f":"IF(Dashboard!$R$4=\"All\",Data!G823,IF(Data!K823=Dashboard!$R$4,Data!G823,NA()))","v":{"$error":"#N/A"}},"","","",{"$f":"IF(L272<>\"\",Data!$M823,\"\")","v":""},null,null,null,null,{"$f":"IF(OR(Dashboard!$P$4=\"All\",Dashboard!$R$4=\"All\"),NA(),IF(OR(Data!K823<>Dashboard!$P$4,Data!K823<>Dashboard!$R$4),Data!G823,NA()))","v":19818.231248269083},null,null,null,null,null,null,null,null,null,null,null,null,null,null,"ID0482",null,null,null,null,null,null,169000,1,null,null,null,null,null,null,null,null,null,null,null,null,null,null,null,null,null,null,null,null,null,null,null,null,null,"ID0482",null,169000]
[null,{"$f":"IF(Dashboard!$P$4=\"All\",Data!G824,IF(Data!K824=Dashboard!$P$4,Data!G824,NA()))","v":{"$error":"#N/A"}},"","","",{"$f":"IF(C273<>\"\",Data!$M824,\"\")","v":""},null,null,null,null,{"$f":"IF(Dashboard!$R$4=\"All\",Data!G824,IF(Data!K824=Dashboard!$R$4,Data!G824,NA()))","v":{"$error":"#N/A"}},"","","",{"$f":"IF(L273<>\"\",Data!$M824,\"\")","v":""},null,null,null,null,{"$f":"IF(OR(Dashboard!$P$4=\"All\",Dashboard!$R$4=\"All\"),NA(),IF(OR(Data!K824<>Dashboard!$P$4,Data!K824<>Dashboard!$R$4),Data!G824,NA()))","v":10684.750012465542},null,null,null,null,null,null,null,null,null,null,null,null,null,null,"ID0487",50000,1,null,null,null,null,null,null,null,null,null,null,null,null,null,null,null,null,null,null,null,null,null,null,null,null,null,null,null,null,null,null,null,"ID0487",null,null,50000]
[null,{"$f":"IF(Dashboard!$P$4=\"All\",Data!G825,IF(Data!K825=Dashboard!$P$4,Data!G825,NA()))","v":{"$error":"#N/A"}},"","","",{"$f":"IF(C274<>\"\",Data!$M825,\"\")","v":""},null,null,null,null,{"$f":"IF(Dashboard!$R$4=\"All\",Data!G825,IF(Data!K825=Dashboard!$R$4,Data!G825,NA()))","v":{"$error":"#N/A"}},"","","",{"$f":"IF(L274<>\"\",Data!$M825,\"\")","v":""},null,null,null,null,{"$f":"IF(OR(Dashboard!$P$4=\"All\",Dashboard!$R$4=\"All\"),NA(),IF(OR(Data!K825<>Dashboard!$P$4,Data!K825<>Dashboard!$R$4),Data!G825,NA()))","v":10684.750012465542},null,null,null,null,null,null,null,null,null,null,null,null,null,null,"ID0488",65000,1,null,null,null,null,null,null,null,null,null,null,null,null,null,null,null,null,null,null,null,null,null,null,null,null,null,null,null,null,null,null,null,"ID0488",null,65000]
[null,{"$f":"IF(Dashboard!$P$4=\"All\",Data!G826,IF(Data!K826=Dashboard!$P$4,Data!G826,NA()))","v":{"$error":"#N/A"}},"","","",{"$f":"IF(C275<>\"\",Data!$M826,\"\")","v":""},null,null,null,null,{"$f":"IF(Dashboard!$R$4=\"All\",Data!G826,IF(Data!K826=Dashboard!$R$4,Data!G826,NA()))","v":{"$error":"#N/A"}},"","","",{"$f":"IF(L275<>\"\",Data!$M826,\"\")","v":""},null,null,null,null,{"$f":"IF(OR(Dashboard!$P$4=\"All\",Dashboard!$R$4=\"All\"),NA(),IF(OR(Data!K826<>Dashboard!$P$4,Data!K826<>Dashboard!$R$4),Data!G826,NA()))","v":17807.916687442568},null,null,null,null,null,null,null,null,null,null,null,null,null,null,"ID0490",55000,1,null,null,null,null,null,null,null,null,null,null,null,null,null,null,null,null,null,null,null,null,null,null,null,null,null,null,null,null,null,null,null,"ID0490",null,55000]
[null,{"$f":"IF(Dashboard!$P$4=\"All\",Data!G827,IF(Data!K827=Dashboard!$P$4,Data!G827,NA()))","v":{"$error":"#N/A"}},"","","",{"$f":"IF(C276<>\"\",Data!$M827,\"\")","v":""},null,null,null,null,{"$f":"IF(Dashboard!$R$4=\"All\",Data!G827,IF(Data!K827=Dashboard!$R$4,Data!G827,NA()))","v":{"$error":"#N/A"}},"","","",{"$f":"IF(L276<>\"\",Data!$M827,\"\")","v":""},null,null,null,null,{"$f":"IF(OR(Dashboard!$P$4=\"All\",Dashboard!$R$4=\"All\"),NA(),IF(OR(Data!K827<>Dashboard!$P$4,Data!K827<>Dashboard!$R$4),Data!G827,NA()))","v":13000},null,null,null,null,null,null,null,null,null,null,null,null,null,null,"ID0495",40000,1,null,null,null,null,null,null,null,null,null,null,null,null,null,null,null,null,null,null,null,null,null,null,null,null,null,null,null,null,null,null,null,"ID0495",null,40000]
[null,{"$f":"IF(Dashboard!$P$4=\"All\",Data!G828,IF(Data!K828=Dashboard!$P$4,Data!G828,NA()))","v":{"$error":"#N/A"}},"","","",{"$f":"IF(C277<>\"\",Data!$M828,\"\")","v":""},null,null,null,null,{"$f":"IF(Dashboard!$R$4=\"All\",Data!G828,IF(Data!K828=Dashboard!$R$4,Data!G828,NA()))","v":{"$error":"#N/A"}},"","","",{"$f":"IF(L277<>\"\",Data!$M828,\"\")","v":""},null,null,null,null,{"$f":"IF(OR(Dashboard!$P$4=\"All\",Dashboard!$R$4=\"All\"),NA(),IF(OR(Data!K828<>Dashboard!$P$4,Data!K828<>Dashboard!$R$4),Data!G828,NA()))","v":16027.125018698311},null,null,null,null,null,null,null,null,null,null,null,null,null,null,"ID0498",84000,1,null,null,null,null,null,null,null,null,null,null,null,null,null,null,null,null,null,null,null,null,null,null,null,null,null,null,null,null,null,null,null,"ID0498",null,null,null,84000]
[null,{"$f":"IF(Dashboard!$P$4=\"All\",Data!G829,IF(Data!K829=Dashboard!$P$4,Data!G829,NA()))","v":{"$error":"#N/A"}},"","","",{"$f":"IF(C278<>\"\",Data!$M829,\"\")","v":""},null,null,null,null,{"$f":"IF(Dashboard!$R$4=\"All\",Data!G829,IF(Data!K829=Dashboard!$R$4,Data!G829,NA()))","v":{"$error":"#N/A"}},"","","",{"$f":"IF(L278<>\"\",Data!$M829,\"\")","v":""},null,null,null,null,{"$f":"IF(OR(Dashboard!$P$4=\"All\",Dashboard!$R$4=\"All\"),NA(),IF(OR(Data!K829<>Dashboard!$P$4,Data!K829<>Dashboard!$R$4),Data!G829,NA()))","v":85000},null,null,null,null,null,null,null,null,null,null,null,null,null,null,"ID0504",77000,1,null,null,null,null,null,null,null,null,null,null,null,null,null,null,null,null,null,null,null,null,null,null,null,null,null,null,null,null,null,null,null,"ID0504",null,null,null,77000]
[null,{"$f":"IF(Dashboard!$P$4=\"All\",Data!G830,IF(Data!K830=Dashboard!$P$4,Data!G830,NA()))","v":{"$error":"#N/A"}},"","","",{"$f":"IF(C279<>\"\",Data!$M830,\"\")","v":""},null,null,null,null,{"$f":"IF(Dashboard!$R$4=\"All\",Data!G830,IF(Data!K830=Dashboard!$R$4,Data!G830,NA()))","v":{"$error":"#N/A"}},"","","",{"$f":"IF(L279<>\"\",Data!$M830,\"\")","v":""},null,null,null,null,{"$f":"IF(OR(Dashboard!$P$4=\"All\",Dashboard!$R$4=\"All\"),NA(),IF(OR(Data!K830<>Dashboard!$P$4,Data!K830<>Dashboard!$R$4),Data!G830,NA()))","v":6000},null,null,null,null,null,null,null,null,null,null,null,null,null,null,"ID0505",100000,1,null,null,null,null,null,null,null,null,null,null,null,null,null,null,null,null,null,null,null,null,null,null,null,null,null,null,null,null,null,null,null,"ID0505",null,null,100000]
[null,{"$f":"IF(Dashboard!$P$4=\"All\",Data!G831,IF(Data!K831=Dashboard!$P$4,Data!G831,NA()))","v":{"$error":"#N/A"}},"","","",{"$f":"IF(C280<>\"\",Data!$M831,\"\")","v":""},null,null,null,null,{"$f":"IF(Dashboard!$R$4=\"All\",Data!G831,IF(Data!K831=Dashboard!$R$4,Data!G831,NA()))","v":{"$error":"#N/A"}},"","","",{"$f":"IF(L280<>\"\",Data!$M831,\"\")","v":""},null,null,null,null,{"$f":"IF(OR(Dashboard!$P$4=\"All\",Dashboard!$R$4=\"All\"),NA(),IF(OR(Data!K831<>Dashboard!$P$4,Data!K831<>Dashboard!$R$4),Data!G831,NA()))","v":30000},null,null,null,null,null,null,null,null,null,null,null,null,null,null,"ID0512",null,null,65000,1,null,null,null,null,null,null,null,null,null,null,null,null,null,null,null,null,null,null,null,null,null,null,null,null,null,null,null,null,null,"ID0512",null,null,null,65000]
[null,{"$f":"IF(Dashboard!$P$4=\"All\",Data!G832,IF(Data!K832=Dashboard!$P$4,Data!G832,NA()))","v":{"$error":"#N/A"}},"","","",{"$f":"IF(C281<>\"\",Data!$M832,\"\")","v":""},null,null,null,null,{"$f":"IF(Dashboard!$R$4=\"All\",Data!G832,IF(Data!K832=Dashboard!$R$4,Data!G832,NA()))","v":157617.8272067284},157617.8272067284,157617.8272067284,"",{"$f":"IF(L281<>\"\",Data!$M832,\"\")","v":20},null,null,null,null,{"$f":"IF(OR(Dashboard!$P$4=\"All\",Dashboard!$R$4=\"All\"),NA(),IF(OR(Data!K832<>Dashboard!$P$4,Data!K832<>Dashboard!$R$4),Data!G832,NA()))","v":157617.8272067284},null,null,null,null,null,null,null,null,null,null,null,null,null,null,"ID0515",null,null,76000,1,null,null,null,null,null,null,null,null,null,null,null,null,null,null,null,null,null,null,null,null,null,null,null,null,null,null,null,null,null,"ID0515",null,76000]
[null,{"$f":"IF(Dashboard!$P$4=\"All\",Data!G833,IF(Data!K833=Dashboard!$P$4,Data!G833,NA()))","v":{"$error":"#N/A"}},"","","",{"$f":"IF(C282<>\"\",Data!$M833,\"\")","v":""},null,null,null,null,{"$f":"IF(Dashboard!$R$4=\"All\",Data!G833,IF(Data!K833=Dashboard!$R$4,Data!G833,NA()))","v":{"$error":"#N/A"}},"","","",{"$f":"IF(L282<>\"\",Data!$M833,\"\")","v":""},null,null,null,null,{"$f":"IF(OR(Dashboard!$P$4=\"All\",Dashboard!$R$4=\"All\"),NA(),IF(OR(Data!K833<>Dashboard!$P$4,Data!K833<>Dashboard!$R$4),Data!G833,NA()))","v":21369.500024931083},null,null,null,null,null,null,null,null,null,null,null,null,null,null,"ID0516",null,null,null,null,null,null,null,null,null,null,null,null,150000,1,null,null,null,null,null,null,null,null,null,null,null,null,null,null,null,null,null,null,null,"ID0516",null,null,null,150000]
[null,{"$f":"IF(Dashboard!$P$4=\"All\",Data!G834,IF(Data!K834=Dashboard!$P$4,Data!G834,NA()))","v":{"$error":"#N/A"}},"","","",{"$f":"IF(C283<>\"\",Data!$M834,\"\")","v":""},null,null,null,null,{"$f":"IF(Dashboard!$R$4=\"All\",Data!G834,IF(Data!K834=Dashboard!$R$4,Data!G834,NA()))","v":{"$error":"#N/A"}},"","","",{"$f":"IF(L283<>\"\",Data!$M834,\"\")","v":""},null,null,null,null,{"$f":"IF(OR(Dashboard!$P$4=\"All\",Dashboard!$R$4=\"All\"),NA(),IF(OR(Data!K834<>Dashboard!$P$4,Data!K834<>Dashboard!$R$4),Data!G834,NA()))","v":3561.5833374885137},null,null,null,null,null,null,null,null,null,null,null,null,null,null,"ID0517",54000,1,null,null,null,null,null,null,null,null,null,null,null,null,null,null,null,null,null,null,null,null,null,null,null,null,null,null,null,null,null,null,null,"ID0517",null,null,54000]
[null,{"$f":"IF(Dashboard!$P$4=\"All\",Data!G835,IF(Data!K835=Dashboard!$P$4,Data!G835,NA()))","v":{"$error":"#N/A"}},"","","",{"$f":"IF(C284<>\"\",Data!$M835,\"\")","v":""},null,null,null,null,{"$f":"IF(Dashboard!$R$4=\"All\",Data!G835,IF(Data!K835=Dashboard!$R$4,Data!G835,NA()))","v":{"$error":"#N/A"}},"","","",{"$f":"IF(L284<>\"\",Data!$M835,\"\")","v":""},null,null,null,null,{"$f":"IF(OR(Dashboard!$P$4=\"All\",Dashboard!$R$4=\"All\"),NA(),IF(OR(Data!K835<>Dashboard!$P$4,Data!K835<>Dashboard!$R$4),Data!G835,NA()))","v":5000},null,null,null,null,null,null,null,null,null,null,null,null,null,null,"ID0519",null,null,null,null,61000,1,null,null,null,null,null,null,null,null,null,null,null,null,null,null,null,null,null,null,null,null,null,null,null,null,null,null,null,"ID0519",null,null,61000]
[null,{"$f":"IF(Dashboard!$P$4=\"All\",Data!G836,IF(Data!K836=Dashboard!$P$4,Data!G836,NA()))","v":{"$error":"#N/A"}},"","","",{"$f":"IF(C285<>\"\",Data!$M836,\"\")","v":""},null,null,null,null,{"$f":"IF(Dashboard!$R$4=\"All\",Data!G836,IF(Data!K836=Dashboard!$R$4,Data!G836,NA()))","v":{"$error":"#N/A"}},"","","",{"$f":"IF(L285<>\"\",Data!$M836,\"\")","v":""},null,null,null,null,{"$f":"IF(OR(Dashboard!$P$4=\"All\",Dashboard!$R$4=\"All\"),NA(),IF(OR(Data!K836<>Dashboard!$P$4,Data!K836<>Dashboard!$R$4),Data!G836,NA()))","v":3561.5833374885137},null,null,null,null,null,null,null,null,null,null,null,null,null,null,"ID0520",70000,1,null,null,null,null,null,null,null,null,null,null,null,null,null,null,null,null,null,null,null,null,null,null,null,null,null,null,null,null,null,null,null,"ID0520",null,null,null,70000]
[null,{"$f":"IF(Dashboard!$P$4=\"All\",Data!G837,IF(Data!K837=Dashboard!$P$4,Data!G837,NA()))","v":{"$error":"#N/A"}},"","","",{"$f":"IF(C286<>\"\",Data!$M837,\"\")","v":""},null,null,null,null,{"$f":"IF(Dashboard!$R$4=\"All\",Data!G837,IF(Data!K837=Dashboard!$R$4,Data!G837,NA()))","v":{"$error":"#N/A"}},"","","",{"$f":"IF(L286<>\"\",Data!$M837,\"\")","v":""},null,null,null,null,{"$f":"IF(OR(Dashboard!$P$4=\"All\",Dashboard!$R$4=\"All\"),NA(),IF(OR(Data!K837<>Dashboard!$P$4,Data!K837<>Dashboard!$R$4),Data!G837,NA()))","v":38111.983169748237},null,null,null,null,null,null,null,null,null,null,null,null,null,null,"ID0523",null,null,72600,1,null,null,null,null,null,null,null,null,null,null,null,null,null,null,null,null,null,null,null,null,null,null,null,null,null,null,null,null,null,"ID0523",null,72600]
[null,{"$f":"IF(Dashboard!$P$4=\"All\",Data!G838,IF(Data!K838=Dashboard!$P$4,Data!G838,NA()))","v":{"$error":"#N/A"}},"","","",{"$f":"IF(C287<>\"\",Data!$M838,\"\")","v":""},null,null,null,null,{"$f":"IF(Dashboard!$R$4=\"All\",Data!G838,IF(Data!K838=Dashboard!$R$4,Data!G838,NA()))","v":{"$error":"#N/A"}},"","","",{"$f":"IF(L287<>\"\",Data!$M838,\"\")","v":""},null,null,null,null,{"$f":"IF(OR(Dashboard!$P$4=\"All\",Dashboard!$R$4=\"All\"),NA(),IF(OR(Data!K838<>Dashboard!$P$4,Data!K838<>Dashboard!$R$4),Data!G838,NA()))","v":17807.916687442568},null,null,null,null,null,null,null,null,null,null,null,null,null,null,"ID0524",null,null,null,null,null,null,100000,1,null,null,null,null,null,null,null,null,null,null,null,null,null,null,null,null,null,null,null,null,null,null,null,null,null,"ID0524",null,100000]
[null,{"$f":"IF(Dashboard!$P$4=\"All\",Data!G839,IF(Data!K839=Dashboard!$P$4,Data!G839,NA()))","v":{"$error":"#N/A"}},"","","",{"$f":"IF(C288<>\"\",Data!$M839,\"\")","v":""},null,null,null,null,{"$f":"IF(Dashboard!$R$4=\"All\",Data!G839,IF(Data!K839=Dashboard!$R$4,Data!G839,NA()))","v":{"$error":"#N/A"}},"","","",{"$f":"IF(L288<>\"\",Data!$M839,\"\")","v":""},null,null,null,null,{"$f":"IF(OR(Dashboard!$P$4=\"All\",Dashboard!$R$4=\"All\"),NA(),IF(OR(Data!K839<>Dashboard!$P$4,Data!K839<>Dashboard!$R$4),Data!G839,NA()))","v":11575.14584683767},null,null,null,null,null,null,null,null,null,null,null,null,null,null,"ID0525",104000,1,null,null,null,null,null,null,null,null,null,null,null,null,null,null,null,null,null,null,null,null,null,null,null,null,null,null,null,null,null,null,null,"ID0525",null,null,104000]
[null,{"$f":"IF(Dashboard!$P$4=\"All\",Data!G840,IF(Data!K840=Dashboard!$P$4,Data!G840,NA()))","v":{"$error":"#N/A"}},"","","",{"$f":"IF(C289<>\"\",Data!$M840,\"\")","v":""},null,null,null,null,{"$f":"IF(Dashboard!$R$4=\"All\",Data!G840,IF(Data!K840=Dashboard!$R$4,Data!G840,NA()))","v":{"$error":"#N/A"}},"","","",{"$f":"IF(L289<>\"\",Data!$M840,\"\")","v":""},null,null,null,null,{"$f":"IF(OR(Dashboard!$P$4=\"All\",Dashboard!$R$4=\"All\"),NA(),IF(OR(Data!K840<>Dashboard!$P$4,Data!K840<>Dashboard!$R$4),Data!G840,NA()))","v":98336.152303032693},null,null,null,null,null,null,null,null,null,null,null,null,null,null,"ID0527",null,null,null,null,null,null,200000,1,null,null,null,null,null,null,null,null,null,null,null,null,null,null,null,null,null,null,null,null,null,null,null,null,null,"ID0527",null,200000]
[null,{"$f":"IF(Dashboard!$P$4=\"All\",Data!G841,IF(Data!K841=Dashboard!$P$4,Data!G841,NA()))","v":{"$error":"#N/A"}},"","","",{"$f":"IF(C290<>\"\",Data!$M841,\"\")","v":""},null,null,null,null,{"$f":"IF(Dashboard!$R$4=\"All\",Data!G841,IF(Data!K841=Dashboard!$R$4,Data!G841,NA()))","v":{"$error":"#N/A"}},"","","",{"$f":"IF(L290<>\"\",Data!$M841,\"\")","v":""},null,null,null,null,{"$f":"IF(OR(Dashboard!$P$4=\"All\",Dashboard!$R$4=\"All\"),NA(),IF(OR(Data!K841<>Dashboard!$P$4,Data!K841<>Dashboard!$R$4),Data!G841,NA()))","v":92500},null,null,null,null,null,null,null,null,null,null,null,null,null,null,"ID0530",null,null,82300,1,null,null,null,null,null,null,null,null,null,null,null,null,null,null,null,null,null,null,null,null,null,null,null,null,null,null,null,null,null,"ID0530",null,82300]
[null,{"$f":"IF(Dashboard!$P$4=\"All\",Data!G842,IF(Data!K842=Dashboard!$P$4,Data!G842,NA()))","v":{"$error":"#N/A"}},"","","",{"$f":"IF(C291<>\"\",Data!$M842,\"\")","v":""},null,null,null,null,{"$f":"IF(Dashboard!$R$4=\"All\",Data!G842,IF(Data!K842=Dashboard!$R$4,Data!G842,NA()))","v":{"$error":"#N/A"}},"","","",{"$f":"IF(L291<>\"\",Data!$M842,\"\")","v":""},null,null,null,null,{"$f":"IF(OR(Dashboard!$P$4=\"All\",Dashboard!$R$4=\"All\"),NA(),IF(OR(Data!K842<>Dashboard!$P$4,Data!K842<>Dashboard!$R$4),Data!G842,NA()))","v":9794.354178093412},null,null,null,null,null,null,null,null,null,null,null,null,null,null,"ID0531",null,null,null,null,null,null,null,null,null,null,null,null,95000,1,null,null,null,null,null,null,null,null,null,null,null,null,null,null,null,null,null,null,null,"ID0531",null,null,95000]
[null,{"$f":"IF(Dashboard!$P$4=\"All\",Data!G843,IF(Data!K843=Dashboard!$P$4,Data!G843,NA()))","v":{"$error":"#N/A"}},"","","",{"$f":"IF(C292<>\"\",Data!$M843,\"\")","v":""},null,null,null,null,{"$f":"IF(Dashboard!$R$4=\"All\",Data!G843,IF(Data!K843=Dashboard!$R$4,Data!G843,NA()))","v":{"$error":"#N/A"}},"","","",{"$f":"IF(L292<>\"\",Data!$M843,\"\")","v":""},null,null,null,null,{"$f":"IF(OR(Dashboard!$P$4=\"All\",Dashboard!$R$4=\"All\"),NA(),IF(OR(Data!K843<>Dashboard!$P$4,Data!K843<>Dashboard!$R$4),Data!G843,NA()))","v":32000},null,null,null,null,null,null,null,null,null,null,null,null,null,null,"ID0537",50000,1,null,null,null,null,null,null,null,null,null,null,null,null,null,null,null,null,null,null,null,null,null,null,null,null,null,null,null,null,null,null,null,"ID0537",null,50000]
[null,{"$f":"IF(Dashboard!$P$4=\"All\",Data!G844,IF(Data!K844=Dashboard!$P$4,Data!G844,NA()))","v":{"$error":"#N/A"}},"","","",{"$f":"IF(C293<>\"\",Data!$M844,\"\")","v":""},null,null,null,null,{"$f":"IF(Dashboard!$R$4=\"All\",Data!G844,IF(Data!K844=Dashboard!$R$4,Data!G844,NA()))","v":{"$error":"#N/A"}},"","","",{"$f":"IF(L293<>\"\",Data!$M844,\"\")","v":""},null,null,null,null,{"$f":"IF(OR(Dashboard!$P$4=\"All\",Dashboard!$R$4=\"All\"),NA(),IF(OR(Data!K844<>Dashboard!$P$4,Data!K844<>Dashboard!$R$4),Data!G844,NA()))","v":55000},null,null,null,null,null,null,null,null,null,null,null,null,null,null,"ID0540",46000,1,null,null,null,null,null,null,null,null,null,null,null,null,null,null,null,null,null,null,null,null,null,null,null,null,null,null,null,null,null,null,null,"ID0540",null,46000]
[null,{"$f":"IF(Dashboard!$P$4=\"All\",Data!G845,IF(Data!K845=Dashboard!$P$4,Data!G845,NA()))","v":{"$error":"#N/A"}},"","","",{"$f":"IF(C294<>\"\",Data!$M845,\"\")","v":""},null,null,null,null,{"$f":"IF(Dashboard!$R$4=\"All\",Data!G845,IF(Data!K845=Dashboard!$R$4,Data!G845,NA()))","v":{"$error":"#N/A"}},"","","",{"$f":"IF(L294<>\"\",Data!$M845,\"\")","v":""},null,null,null,null,{"$f":"IF(OR(Dashboard!$P$4=\"All\",Dashboard!$R$4=\"All\"),NA(),IF(OR(Data!K845<>Dashboard!$P$4,Data!K845<>Dashboard!$R$4),Data!G845,NA()))","v":40000},null,null,null,null,null,null,null,null,null,null,null,null,null,null,"ID0545",null,null,null,null,43000,1,null,null,null,null,null,null,null,null,null,null,null,null,null,null,null,null,null,null,null,null,null,null,null,null,null,null,null,"ID0545",null,null,null,43000]
[null,{"$f":"IF(Dashboard!$P$4=\"All\",Data!G846,IF(Data!K846=Dashboard!$P$4,Data!G846,NA()))","v":{"$error":"#N/A"}},"","","",{"$f":"IF(C295<>\"\",Data!$M846,\"\")","v":""},null,null,null,null,{"$f":"IF(Dashboard!$R$4=\"All\",Data!G846,IF(Data!K846=Dashboard!$R$4,Data!G846,NA()))","v":{"$error":"#N/A"}},"","","",{"$f":"IF(L295<>\"\",Data!$M846,\"\")","v":""},null,null,null,null,{"$f":"IF(OR(Dashboard!$P$4=\"All\",Dashboard!$R$4=\"All\"),NA(),IF(OR(Data!K846<>Dashboard!$P$4,Data!K846<>Dashboard!$R$4),Data!G846,NA()))","v":3000},null,null,null,null,null,null,null,null,null,null,null,null,null,null,"ID0547",55000,1,null,null,null,null,null,null,null,null,null,null,null,null,null,null,null,null,null,null,null,null,null,null,null,null,null,null,null,null,null,null,null,"ID0547",null,55000]
[null,{"$f":"IF(Dashboard!$P$4=\"All\",Data!G847,IF(Data!K847=Dashboard!$P$4,Data!G847,NA()))","v":{"$error":"#N/A"}},"","","",{"$f":"IF(C296<>\"\",Data!$M847,\"\")","v":""},null,null,null,null,{"$f":"IF(Dashboard!$R$4=\"All\",Data!G847,IF(Data!K847=Dashboard!$R$4,Data!G847,NA()))","v":{"$error":"#N/A"}},"","","",{"$f":"IF(L296<>\"\",Data!$M847,\"\")","v":""},null,null,null,null,{"$f":"IF(OR(Dashboard!$P$4=\"All\",Dashboard!$R$4=\"All\"),NA(),IF(OR(Data!K847<>Dashboard!$P$4,Data!K847<>Dashboard!$R$4),Data!G847,NA()))","v":43600},null,null,null,null,null,null,null,null,null,null,null,null,null,null,"ID0549",null,null,null,null,null,null,null,null,null,null,null,null,null,null,null,null,45000,1,null,null,null,null,null,null,null,null,null,null,null,null,null,null,null,"ID0549",null,null,null,45000]
[null,{"$f":"IF(Dashboard!$P$4=\"All\",Data!G848,IF(Data!K848=Dashboard!$P$4,Data!G848,NA()))","v":{"$error":"#N/A"}},"","","",{"$f":"IF(C297<>\"\",Data!$M848,\"\")","v":""},null,null,null,null,{"$f":"IF(Dashboard!$R$4=\"All\",Data!G848,IF(Data!K848=Dashboard!$R$4,Data!G848,NA()))","v":{"$error":"#N/A"}},"","","",{"$f":"IF(L297<>\"\",Data!$M848,\"\")","v":""},null,null,null,null,{"$f":"IF(OR(Dashboard!$P$4=\"All\",Dashboard!$R$4=\"All\"),NA(),IF(OR(Data!K848<>Dashboard!$P$4,Data!K848<>Dashboard!$R$4),Data!G848,NA()))","v":9616.275011218986},null,null,null,null,null,null,null,null,null,null,null,null,null,null,"ID0550",null,null,50000,1,null,null,null,null,null,null,null,null,null,null,null,null,null,null,null,null,null,null,null,null,null,null,null,null,null,null,null,null,null,"ID0550",null,null,50000]
[null,{"$f":"IF(Dashboard!$P$4=\"All\",Data!G849,IF(Data!K849=Dashboard!$P$4,Data!G849,NA()))","v":{"$error":"#N/A"}},"","","",{"$f":"IF(C298<>\"\",Data!$M849,\"\")","v":""},null,null,null,null,{"$f":"IF(Dashboard!$R$4=\"All\",Data!G849,IF(Data!K849=Dashboard!$R$4,Data!G849,NA()))","v":{"$error":"#N/A"}},"","","",{"$f":"IF(L298<>\"\",Data!$M849,\"\")","v":""},null,null,null,null,{"$f":"IF(OR(Dashboard!$P$4=\"All\",Dashboard!$R$4=\"All\"),NA(),IF(OR(Data!K849<>Dashboard!$P$4,Data!K849<>Dashboard!$R$4),Data!G849,NA()))","v":35000},null,null,null,null,null,null,null,null,null,null,null,null,null,null,"ID0551",80000,1,null,null,null,null,null,null,null,null,null,null,null,null,null,null,null,null,null,null,null,null,null,null,null,null,null,null,null,null,null,null,null,"ID0551",null,null,null,80000]
[null,{"$f":"IF(Dashboard!$P$4=\"All\",Data!G850,IF(Data!K850=Dashboard!$P$4,Data!G850,NA()))","v":{"$error":"#N/A"}},"","","",{"$f":"IF(C299<>\"\",Data!$M850,\"\")","v":""},null,null,null,null,{"$f":"IF(Dashboard!$R$4=\"All\",Data!G850,IF(Data!K850=Dashboard!$R$4,Data!G850,NA()))","v":{"$error":"#N/A"}},"","","",{"$f":"IF(L299<>\"\",Data!$M850,\"\")","v":""},null,null,null,null,{"$f":"IF(OR(Dashboard!$P$4=\"All\",Dashboard!$R$4=\"All\"),NA(),IF(OR(Data!K850<>Dashboard!$P$4,Data!K850<>Dashboard!$R$4),Data!G850,NA()))","v":12000},null,null,null,null,null,null,null,null,null,null,null,null,null,null,"ID0552",67000,1,null,null,null,null,null,null,null,null,null,null,null,null,null,null,null,null,null,null,null,null,null,null,null,null,null,null,null,null,null,null,null,"ID0552",null,null,67000]
[null,{"$f":"IF(Dashboard!$P$4=\"All\",Data!G851,IF(Data!K851=Dashboard!$P$4,Data!G851,NA()))","v":{"$error":"#N/A"}},"","","",{"$f":"IF(C300<>\"\",Data!$M851,\"\")","v":""},null,null,null,null,{"$f":"IF(Dashboard!$R$4=\"All\",Data!G851,IF(Data!K851=Dashboard!$R$4,Data!G851,NA()))","v":{"$error":"#N/A"}},"","","",{"$f":"IF(L300<>\"\",Data!$M851,\"\")","v":""},null,null,null,null,{"$f":"IF(OR(Dashboard!$P$4=\"All\",Dashboard!$R$4=\"All\"),NA(),IF(OR(Data!K851<>Dashboard!$P$4,Data!K851<>Dashboard!$R$4),Data!G851,NA()))","v":5000},null,null,null,null,null,null,null,null,null,null,null,null,null,null,"ID0554",null,null,null,null,null,null,120000,1,null,null,null,null,null,null,null,null,null,null,null,null,null,null,null,null,null,null,null,null,null,null,null,null,null,"ID0554",null,null,120000]
[null,{"$f":"IF(Dashboard!$P$4=\"All\",Data!G852,IF(Data!K852=Dashboard!$P$4,Data!G852,NA()))","v":{"$error":"#N/A"}},"","","",{"$f":"IF(C301<>\"\",Data!$M852,\"\")","v":""},null,null,null,null,{"$f":"IF(Dashboard!$R$4=\"All\",Data!G852,IF(Data!K852=Dashboard!$R$4,Data!G852,NA()))","v":{"$error":"#N/A"}},"","","",{"$f":"IF(L301<>\"\",Data!$M852,\"\")","v":""},null,null,null,null,{"$f":"IF(OR(Dashboard!$P$4=\"All\",Dashboard!$R$4=\"All\"),NA(),IF(OR(Data!K852<>Dashboard!$P$4,Data!K852<>Dashboard!$R$4),Data!G852,NA()))","v":16337.518501630093},null,null,null,null,null,null,null,null,null,null,null,null,null,null,"ID0557",null,null,null,null,null,null,null,null,null,null,60000,1,null,null,null,null,null,null,null,null,null,null,null,null,null,null,null,null,null,null,null,null,null,"ID0557",60000]
[null,{"$f":"IF(Dashboard!$P$4=\"All\",Data!G853,IF(Data!K853=Dashboard!$P$4,Data!G853,NA()))","v":{"$error":"#N/A"}},"","","",{"$f":"IF(C302<>\"\",Data!$M853,\"\")","v":""},null,null,null,null,{"$f":"IF(Dashboard!$R$4=\"All\",Data!G853,IF(Data!K853=Dashboard!$R$4,Data!G853,NA()))","v":{"$error":"#N/A"}},"","","",{"$f":"IF(L302<>\"\",Data!$M853,\"\")","v":""},null,null,null,null,{"$f":"IF(OR(Dashboard!$P$4=\"All\",Dashboard!$R$4=\"All\"),NA(),IF(OR(Data!K853<>Dashboard!$P$4,Data!K853<>Dashboard!$R$4),Data!G853,NA()))","v":65000},null,null,null,null,null,null,null,null,null,null,null,null,null,null,"ID0558",35000,1,null,null,null,null,null,null,null,null,null,null,null,null,null,null,null,null,null,null,null,null,null,null,null,null,null,null,null,null,null,null,null,"ID0558",null,35000]
[null,{"$f":"IF(Dashboard!$P$4=\"All\",Data!G854,IF(Data!K854=Dashboard!$P$4,Data!G854,NA()))","v":{"$error":"#N/A"}},"","","",{"$f":"IF(C303<>\"\",Data!$M854,\"\")","v":""},null,null,null,null,{"$f":"IF(Dashboard!$R$4=\"All\",Data!G854,IF(Data!K854=Dashboard!$R$4,Data!G854,NA()))","v":{"$error":"#N/A"}},"","","",{"$f":"IF(L303<>\"\",Data!$M854,\"\")","v":""},null,null,null,null,{"$f":"IF(OR(Dashboard!$P$4=\"All\",Dashboard!$R$4=\"All\"),NA(),IF(OR(Data!K854<>Dashboard!$P$4,Data!K854<>Dashboard!$R$4),Data!G854,NA()))","v":40000},null,null,null,null,null,null,null,null,null,null,null,null,null,null,"ID0560",null,null,null,null,null,null,null,null,null,null,54000,1,null,null,null,null,null,null,null,null,null,null,null,null,null,null,null,null,null,null,null,null,null,"ID0560",null,null,null,54000]
[null,{"$f":"IF(Dashboard!$P$4=\"All\",Data!G855,IF(Data!K855=Dashboard!$P$4,Data!G855,NA()))","v":{"$error":"#N/A"}},"","","",{"$f":"IF(C304<>\"\",Data!$M855,\"\")","v":""},null,null,null,null,{"$f":"IF(Dashboard!$R$4=\"All\",Data!G855,IF(Data!K855=Dashboard!$R$4,Data!G855,NA()))","v":{"$error":"#N/A"}},"","","",{"$f":"IF(L304<>\"\",Data!$M855,\"\")","v":""},null,null,null,null,{"$f":"IF(OR(Dashboard!$P$4=\"All\",Dashboard!$R$4=\"All\"),NA(),IF(OR(Data!K855<>Dashboard!$P$4,Data!K855<>Dashboard!$R$4),Data!G855,NA()))","v":98000},null,null,null,null,null,null,null,null,null,null,null,null,null,null,"ID0562",35000,1,null,null,null,null,null,null,null,null,null,null,null,null,null,null,null,null,null,null,null,null,null,null,null,null,null,null,null,null,null,null,null,"ID0562",35000]
[null,{"$f":"IF(Dashboard!$P$4=\"All\",Data!G856,IF(Data!K856=Dashboard!$P$4,Data!G856,NA()))","v":{"$error":"#N/A"}},"","","",{"$f":"IF(C305<>\"\",Data!$M856,\"\")","v":""},null,null,null,null,{"$f":"IF(Dashboard!$R$4=\"All\",Data!G856,IF(Data!K856=Dashboard!$R$4,Data!G856,NA()))","v":{"$error":"#N/A"}},"","","",{"$f":"IF(L305<>\"\",Data!$M856,\"\")","v":""},null,null,null,null,{"$f":"IF(OR(Dashboard!$P$4=\"All\",Dashboard!$R$4=\"All\"),NA(),IF(OR(Data!K856<>Dashboard!$P$4,Data!K856<>Dashboard!$R$4),Data!G856,NA()))","v":50000},null,null,null,null,null,null,null,null,null,null,null,null,null,null,"ID0563",null,null,null,null,null,null,188000,1,null,null,null,null,null,null,null,null,null,null,null,null,null,null,null,null,null,null,null,null,null,null,null,null,null,"ID0563",188000]
[null,{"$f":"IF(Dashboard!$P$4=\"All\",Data!G857,IF(Data!K857=Dashboard!$P$4,Data!G857,NA()))","v":{"$error":"#N/A"}},"","","",{"$f":"IF(C306<>\"\",Data!$M857,\"\")","v":""},null,null,null,null,{"$f":"IF(Dashboard!$R$4=\"All\",Data!G857,IF(Data!K857=Dashboard!$R$4,Data!G857,NA()))","v":{"$error":"#N/A"}},"","","",{"$f":"IF(L306<>\"\",Data!$M857,\"\")","v":""},null,null,null,null,{"$f":"IF(OR(Dashboard!$P$4=\"All\",Dashboard!$R$4=\"All\"),NA(),IF(OR(Data!K857<>Dashboard!$P$4,Data!K857<>Dashboard!$R$4),Data!G857,NA()))","v":135000},null,null,null,null,null,null,null,null,null,null,null,null,null,null,"ID0564",27500,1,null,null,null,null,null,null,null,null,null,null,null,null,null,null,null,null,null,null,null,null,null,null,null,null,null,null,null,null,null,null,null,"ID0564",null,null,null,27500]
[null,{"$f":"IF(Dashboard!$P$4=\"All\",Data!G858,IF(Data!K858=Dashboard!$P$4,Data!G858,NA()))","v":{"$error":"#N/A"}},"","","",{"$f":"IF(C307<>\"\",Data!$M858,\"\")","v":""},null,null,null,null,{"$f":"IF(Dashboard!$R$4=\"All\",Data!G858,IF(Data!K858=Dashboard!$R$4,Data!G858,NA()))","v":{"$error":"#N/A"}},"","","",{"$f":"IF(L307<>\"\",Data!$M858,\"\")","v":""},null,null,null,null,{"$f":"IF(OR(Dashboard!$P$4=\"All\",Dashboard!$R$4=\"All\"),NA(),IF(OR(Data!K858<>Dashboard!$P$4,Data!K858<>Dashboard!$R$4),Data!G858,NA()))","v":125000},null,null,null,null,null,null,null,null,null,null,null,null,null,null,"ID0565",null,null,null,null,null,null,null,null,null,null,null,null,null,null,140000,1,null,null,null,null,null,null,null,null,null,null,null,null,null,null,null,null,null,"ID0565",null,140000]
[null,{"$f":"IF(Dashboard!$P$4=\"All\",Data!G859,IF(Data!K859=Dashboard!$P$4,Data!G859,NA()))","v":{"$error":"#N/A"}},"","","",{"$f":"IF(C308<>\"\",Data!$M859,\"\")","v":""},null,null,null,null,{"$f":"IF(Dashboard!$R$4=\"All\",Data!G859,IF(Data!K859=Dashboard!$R$4,Data!G859,NA()))","v":{"$error":"#N/A"}},"","","",{"$f":"IF(L308<>\"\",Data!$M859,\"\")","v":""},null,null,null,null,{"$f":"IF(OR(Dashboard!$P$4=\"All\",Dashboard!$R$4=\"All\"),NA(),IF(OR(Data!K859<>Dashboard!$P$4,Data!K859<>Dashboard!$R$4),Data!G859,NA()))","v":4500},null,null,null,null,null,null,null,null,null,null,null,null,null,null,"ID0567",45000,1,null,null,null,null,null,null,null,null,null,null,null,null,null,null,null,null,null,null,null,null,null,null,null,null,null,null,null,null,null,null,null,"ID0567",null,null,45000]
[null,{"$f":"IF(Dashboard!$P$4=\"All\",Data!G860,IF(Data!K860=Dashboard!$P$4,Data!G860,NA()))","v":{"$error":"#N/A"}},"","","",{"$f":"IF(C309<>\"\",Data!$M860,\"\")","v":""},null,null,null,null,{"$f":"IF(Dashboard!$R$4=\"All\",Data!G860,IF(Data!K860=Dashboard!$R$4,Data!G860,NA()))","v":{"$error":"#N/A"}},"","","",{"$f":"IF(L309<>\"\",Data!$M860,\"\")","v":""},null,null,null,null,{"$f":"IF(OR(Dashboard!$P$4=\"All\",Dashboard!$R$4=\"All\"),NA(),IF(OR(Data!K860<>Dashboard!$P$4,Data!K860<>Dashboard!$R$4),Data!G860,NA()))","v":115000},null,null,null,null,null,null,null,null,null,null,null,null,null,null,"ID0572",38000,1,null,null,null,null,null,null,null,null,null,null,null,null,null,null,null,null,null,null,null,null,null,null,null,null,null,null,null,null,null,null,null,"ID0572",null,null,null,38000]
[null,{"$f":"IF(Dashboard!$P$4=\"All\",Data!G861,IF(Data!K861=Dashboard!$P$4,Data!G861,NA()))","v":{"$error":"#N/A"}},"","","",{"$f":"IF(C310<>\"\",Data!$M861,\"\")","v":""},null,null,null,null,{"$f":"IF(Dashboard!$R$4=\"All\",Data!G861,IF(Data!K861=Dashboard!$R$4,Data!G861,NA()))","v":{"$error":"#N/A"}},"","","",{"$f":"IF(L310<>\"\",Data!$M861,\"\")","v":""},null,null,null,null,{"$f":"IF(OR(Dashboard!$P$4=\"All\",Dashboard!$R$4=\"All\"),NA(),IF(OR(Data!K861<>Dashboard!$P$4,Data!K861<>Dashboard!$R$4),Data!G861,NA()))","v":70000},null,null,null,null,null,null,null,null,null,null,null,null,null,null,"ID0573",null,null,90000,1,null,null,null,null,null,null,null,null,null,null,null,null,null,null,null,null,null,null,null,null,null,null,null,null,null,null,null,null,null,"ID0573",null,null,90000]
[null,{"$f":"IF(Dashboard!$P$4=\"All\",Data!G862,IF(Data!K862=Dashboard!$P$4,Data!G862,NA()))","v":{"$error":"#N/A"}},"","","",{"$f":"IF(C311<>\"\",Data!$M862,\"\")","v":""},null,null,null,null,{"$f":"IF(Dashboard!$R$4=\"All\",Data!G862,IF(Data!K862=Dashboard!$R$4,Data!G862,NA()))","v":{"$error":"#N/A"}},"","","",{"$f":"IF(L311<>\"\",Data!$M862,\"\")","v":""},null,null,null,null,{"$f":"IF(OR(Dashboard!$P$4=\"All\",Dashboard!$R$4=\"All\"),NA(),IF(OR(Data!K862<>Dashboard!$P$4,Data!K862<>Dashboard!$R$4),Data!G862,NA()))","v":60000},null,null,null,null,null,null,null,null,null,null,null,null,null,null,"ID0579",null,null,90000,1,null,null,null,null,null,null,null,null,null,null,null,null,null,null,null,null,null,null,null,null,null,null,null,null,null,null,null,null,null,"ID0579",null,90000]
[null,{"$f":"IF(Dashboard!$P$4=\"All\",Data!G863,IF(Data!K863=Dashboard!$P$4,Data!G863,NA()))","v":{"$error":"#N/A"}},"","","",{"$f":"IF(C312<>\"\",Data!$M863,\"\")","v":""},null,null,null,null,{"$f":"IF(Dashboard!$R$4=\"All\",Data!G863,IF(Data!K863=Dashboard!$R$4,Data!G863,NA()))","v":{"$error":"#N/A"}},"","","",{"$f":"IF(L312<>\"\",Data!$M863,\"\")","v":""},null,null,null,null,{"$f":"IF(OR(Dashboard!$P$4=\"All\",Dashboard!$R$4=\"All\"),NA(),IF(OR(Data!K863<>Dashboard!$P$4,Data!K863<>Dashboard!$R$4),Data!G863,NA()))","v":87456},null,null,null,null,null,null,null,null,null,null,null,null,null,null,"ID0580",null,null,null,null,null,null,150000,1,null,null,null,null,null,null,null,null,null,null,null,null,null,null,null,null,null,null,null,null,null,null,null,null,null,"ID0580",null,null,150000]
[null,{"$f":"IF(Dashboard!$P$4=\"All\",Data!G864,IF(Data!K864=Dashboard!$P$4,Data!G864,NA()))","v":{"$error":"#N/A"}},"","","",{"$f":"IF(C313<>\"\",Data!$M864,\"\")","v":""},null,null,null,null,{"$f":"IF(Dashboard!$R$4=\"All\",Data!G864,IF(Data!K864=Dashboard!$R$4,Data!G864,NA()))","v":{"$error":"#N/A"}},"","","",{"$f":"IF(L313<>\"\",Data!$M864,\"\")","v":""},null,null,null,null,{"$f":"IF(OR(Dashboard!$P$4=\"All\",Dashboard!$R$4=\"All\"),NA(),IF(OR(Data!K864<>Dashboard!$P$4,Data!K864<>Dashboard!$R$4),Data!G864,NA()))","v":26400},null,null,null,null,null,null,null,null,null,null,null,null,null,null,"ID0582",45000,1,null,null,null,null,null,null,null,null,null,null,null,null,null,null,null,null,null,null,null,null,null,null,null,null,null,null,null,null,null,null,null,"ID0582",null,null,45000]
[null,{"$f":"IF(Dashboard!$P$4=\"All\",Data!G865,IF(Data!K865=Dashboard!$P$4,Data!G865,NA()))","v":{"$error":"#N/A"}},"","","",{"$f":"IF(C314<>\"\",Data!$M865,\"\")","v":""},null,null,null,null,{"$f":"IF(Dashboard!$R$4=\"All\",Data!G865,IF(Data!K865=Dashboard!$R$4,Data!G865,NA()))","v":{"$error":"#N/A"}},"","","",{"$f":"IF(L314<>\"\",Data!$M865,\"\")","v":""},null,null,null,null,{"$f":"IF(OR(Dashboard!$P$4=\"All\",Dashboard!$R$4=\"All\"),NA(),IF(OR(Data!K865<>Dashboard!$P$4,Data!K865<>Dashboard!$R$4),Data!G865,NA()))","v":12000},null,null,null,null,null,null,null,null,null,null,null,null,null,null,"ID0583",null,null,null,null,null,null,null,null,null,null,50000,1,null,null,null,null,null,null,null,null,null,null,null,null,null,null,null,null,null,null,null,null,null,"ID0583",null,50000]
[null,{"$f":"IF(Dashboard!$P$4=\"All\",Data!G866,IF(Data!K866=Dashboard!$P$4,Data!G866,NA()))","v":{"$error":"#N/A"}},"","","",{"$f":"IF(C315<>\"\",Data!$M866,\"\")","v":""},null,null,null,null,{"$f":"IF(Dashboard!$R$4=\"All\",Data!G866,IF(Data!K866=Dashboard!$R$4,Data!G866,NA()))","v":{"$error":"#N/A"}},"","","",{"$f":"IF(L315<>\"\",Data!$M866,\"\")","v":""},null,null,null,null,{"$f":"IF(OR(Dashboard!$P$4=\"All\",Dashboard!$R$4=\"All\"),NA(),IF(OR(Data!K866<>Dashboard!$P$4,Data!K866<>Dashboard!$R$4),Data!G866,NA()))","v":2564.3400029917298},null,null,null,null,null,null,null,null,null,null,null,null,null,null,"ID0584",null,null,null,null,null,null,300000,1,null,null,null,null,null,null,null,null,null,null,null,null,null,null,null,null,null,null,null,null,null,null,null,null,null,"ID0584",null,300000]
[null,{"$f":"IF(Dashboard!$P$4=\"All\",Data!G867,IF(Data!K867=Dashboard!$P$4,Data!G867,NA()))","v":{"$error":"#N/A"}},"","","",{"$f":"IF(C316<>\"\",Data!$M867,\"\")","v":""},null,null,null,null,{"$f":"IF(Dashboard!$R$4=\"All\",Data!G867,IF(Data!K867=Dashboard!$R$4,Data!G867,NA()))","v":{"$error":"#N/A"}},"","","",{"$f":"IF(L316<>\"\",Data!$M867,\"\")","v":""},null,null,null,null,{"$f":"IF(OR(Dashboard!$P$4=\"All\",Dashboard!$R$4=\"All\"),NA(),IF(OR(Data!K867<>Dashboard!$P$4,Data!K867<>Dashboard!$R$4),Data!G867,NA()))","v":62000},null,null,null,null,null,null,null,null,null,null,null,null,null,null,"ID0586",null,null,115000,1,null,null,null,null,null,null,null,null,null,null,null,null,null,null,null,null,null,null,null,null,null,null,null,null,null,null,null,null,null,"ID0586",null,null,115000]
[null,{"$f":"IF(Dashboard!$P$4=\"All\",Data!G868,IF(Data!K868=Dashboard!$P$4,Data!G868,NA()))","v":{"$error":"#N/A"}},"","","",{"$f":"IF(C317<>\"\",Data!$M868,\"\")","v":""},null,null,null,null,{"$f":"IF(Dashboard!$R$4=\"All\",Data!G868,IF(Data!K868=Dashboard!$R$4,Data!G868,NA()))","v":{"$error":"#N/A"}},"","","",{"$f":"IF(L317<>\"\",Data!$M868,\"\")","v":""},null,null,null,null,{"$f":"IF(OR(Dashboard!$P$4=\"All\",Dashboard!$R$4=\"All\"),NA(),IF(OR(Data!K868<>Dashboard!$P$4,Data!K868<>Dashboard!$R$4),Data!G868,NA()))","v":5342.3750062327708},null,null,null,null,null,null,null,null,null,null,null,null,null,null,"ID0587",70000,1,null,null,null,null,null,null,null,null,null,null,null,null,null,null,null,null,null,null,null,null,null,null,null,null,null,null,null,null,null,null,null,"ID0587",null,null,70000]
[null,{"$f":"IF(Dashboard!$P$4=\"All\",Data!G869,IF(Data!K869=Dashboard!$P$4,Data!G869,NA()))","v":50815.977559664309},50815.977559664309,"","",{"$f":"IF(C318<>\"\",Data!$M869,\"\")","v":4},null,null,null,null,{"$f":"IF(Dashboard!$R$4=\"All\",Data!G869,IF(Data!K869=Dashboard!$R$4,Data!G869,NA()))","v":{"$error":"#N/A"}},"","","",{"$f":"IF(L318<>\"\",Data!$M869,\"\")","v":""},null,null,null,null,{"$f":"IF(OR(Dashboard!$P$4=\"All\",Dashboard!$R$4=\"All\"),NA(),IF(OR(Data!K869<>Dashboard!$P$4,Data!K869<>Dashboard!$R$4),Data!G869,NA()))","v":50815.977559664309},null,null,null,null,null,null,null,null,null,null,null,null,null,null,"ID0589",75000,1,null,null,null,null,null,null,null,null,null,null,null,null,null,null,null,null,null,null,null,null,null,null,null,null,null,null,null,null,null,null,null,"ID0589",null,75000]
[null,{"$f":"IF(Dashboard!$P$4=\"All\",Data!G870,IF(Data!K870=Dashboard!$P$4,Data!G870,NA()))","v":{"$error":"#N/A"}},"","","",{"$f":"IF(C319<>\"\",Data!$M870,\"\")","v":""},null,null,null,null,{"$f":"IF(Dashboard!$R$4=\"All\",Data!G870,IF(Data!K870=Dashboard!$R$4,Data!G870,NA()))","v":{"$error":"#N/A"}},"","","",{"$f":"IF(L319<>\"\",Data!$M870,\"\")","v":""},null,null,null,null,{"$f":"IF(OR(Dashboard!$P$4=\"All\",Dashboard!$R$4=\"All\"),NA(),IF(OR(Data!K870<>Dashboard!$P$4,Data!K870<>Dashboard!$R$4),Data!G870,NA()))","v":25560},null,null,null,null,null,null,null,null,null,null,null,null,null,null,"ID0590",40414,1,null,null,null,null,null,null,null,null,null,null,null,null,null,null,null,null,null,null,null,null,null,null,null,null,null,null,null,null,null,null,null,"ID0590",null,null,40414]
[null,{"$f":"IF(Dashboard!$P$4=\"All\",Data!G871,IF(Data!K871=Dashboard!$P$4,Data!G871,NA()))","v":{"$error":"#N/A"}},"","","",{"$f":"IF(C320<>\"\",Data!$M871,\"\")","v":""},null,null,null,null,{"$f":"IF(Dashboard!$R$4=\"All\",Data!G871,IF(Data!K871=Dashboard!$R$4,Data!G871,NA()))","v":{"$error":"#N/A"}},"","","",{"$f":"IF(L320<>\"\",Data!$M871,\"\")","v":""},null,null,null,null,{"$f":"IF(OR(Dashboard!$P$4=\"All\",Dashboard!$R$4=\"All\"),NA(),IF(OR(Data!K871<>Dashboard!$P$4,Data!K871<>Dashboard!$R$4),Data!G871,NA()))","v":12821.700014958649},null,null,null,null,null,null,null,null,null,null,null,null,null,null,"ID0591",65000,1,null,null,null,null,null,null,null,null,null,null,null,null,null,null,null,null,null,null,null,null,null,null,null,null,null,null,null,null,null,null,null,"ID0591",null,null,65000]
[null,{"$f":"IF(Dashboard!$P$4=\"All\",Data!G872,IF(Data!K872=Dashboard!$P$4,Data!G872,NA()))","v":{"$error":"#N/A"}},"","","",{"$f":"IF(C321<>\"\",Data!$M872,\"\")","v":""},null,null,null,null,{"$f":"IF(Dashboard!$R$4=\"All\",Data!G872,IF(Data!K872=Dashboard!$R$4,Data!G872,NA()))","v":{"$error":"#N/A"}},"","","",{"$f":"IF(L321<>\"\",Data!$M872,\"\")","v":""},null,null,null,null,{"$f":"IF(OR(Dashboard!$P$4=\"All\",Dashboard!$R$4=\"All\"),NA(),IF(OR(Data!K872<>Dashboard!$P$4,Data!K872<>Dashboard!$R$4),Data!G872,NA()))","v":10684.750012465542},null,null,null,null,null,null,null,null,null,null,null,null,null,null,"ID0592",120000,1,null,null,null,null,null,null,null,null,null,null,null,null,null,null,null,null,null,null,null,null,null,null,null,null,null,null,null,null,null,null,null,"ID0592",null,null,null,120000]
[null,{"$f":"IF(Dashboard!$P$4=\"All\",Data!G873,IF(Data!K873=Dashboard!$P$4,Data!G873,NA()))","v":{"$error":"#N/A"}},"","","",{"$f":"IF(C322<>\"\",Data!$M873,\"\")","v":""},null,null,null,null,{"$f":"IF(Dashboard!$R$4=\"All\",Data!G873,IF(Data!K873=Dashboard!$R$4,Data!G873,NA()))","v":{"$error":"#N/A"}},"","","",{"$f":"IF(L322<>\"\",Data!$M873,\"\")","v":""},null,null,null,null,{"$f":"IF(OR(Dashboard!$P$4=\"All\",Dashboard!$R$4=\"All\"),NA(),IF(OR(Data!K873<>Dashboard!$P$4,Data!K873<>Dashboard!$R$4),Data!G873,NA()))","v":4457.9172610556352},null,null,null,null,null,null,null,null,null,null,null,null,null,null,"ID0596",null,null,null,null,null,null,null,null,null,null,null,null,108000,1,null,null,null,null,null,null,null,null,null,null,null,null,null,null,null,null,null,null,null,"ID0596",null,108000]
[null,{"$f":"IF(Dashboard!$P$4=\"All\",Data!G874,IF(Data!K874=Dashboard!$P$4,Data!G874,NA()))","v":{"$error":"#N/A"}},"","","",{"$f":"IF(C323<>\"\",Data!$M874,\"\")","v":""},null,null,null,null,{"$f":"IF(Dashboard!$R$4=\"All\",Data!G874,IF(Data!K874=Dashboard!$R$4,Data!G874,NA()))","v":{"$error":"#N/A"}},"","","",{"$f":"IF(L323<>\"\",Data!$M874,\"\")","v":""},null,null,null,null,{"$f":"IF(OR(Dashboard!$P$4=\"All\",Dashboard!$R$4=\"All\"),NA(),IF(OR(Data!K874<>Dashboard!$P$4,Data!K874<>Dashboard!$R$4),Data!G874,NA()))","v":125000},null,null,null,null,null,null,null,null,null,null,null,null,null,null,"ID0597",75000,1,null,null,null,null,null,null,null,null,null,null,null,null,null,null,null,null,null,null,null,null,null,null,null,null,null,null,null,null,null,null,null,"ID0597",null,null,75000]
[null,{"$f":"IF(Dashboard!$P$4=\"All\",Data!G875,IF(Data!K875=Dashboard!$P$4,Data!G875,NA()))","v":{"$error":"#N/A"}},{"$f":"IF(ISNA(B324),\"\",B324)","v":""},{"$f":"IF(C324>=PERCENTILE($C$3:$C$1337,0.9),C324,\"\")","v":""},{"$f":"IF(C324<=PERCENTILE($C$3:$C$1337,0.1),C324,\"\")","v":""},{"$f":"IF(C324<>\"\",Data!$M875,\"\")","v":""},null,null,null,null,{"$f":"IF(Dashboard!$R$4=\"All\",Data!G875,IF(Data!K875=Dashboard!$R$4,Data!G875,NA()))","v":{"$error":"#N/A"}},{"$f":"IF(ISNA(K324),\"\",K324)","v":""},{"$f":"IF(L324>=PERCENTILE($L$3:$L$1337,0.9),L324,\"\")","v":""},{"$f":"IF(L324<=PERCENTILE($L$3:$L$1337,0.1),L324,\"\")","v":""},{"$f":"IF(L324<>\"\",Data!$M875,\"\")","v":""},null,null,null,null,{"$f":"IF(OR(Dashboard!$P$4=\"All\",Dashboard!$R$4=\"All\"),NA(),IF(OR(Data!K875<>Dashboard!$P$4,Data!K875<>Dashboard!$R$4),Data!G875,NA()))","v":43000},null,null,null,null,null,null,null,null,null,null,null,null,null,null,"ID0600",45000,1,null,null,null,null,null,null,null,null,null,null,null,null,null,null,null,null,null,null,null,null,null,null,null,null,null,null,null,null,null,null,null,"ID0600",null,null,45000]
[null,{"$f":"IF(Dashboard!$P$4=\"All\",Data!G876,IF(Data!K876=Dashboard!$P$4,Data!G876,NA()))","v":{"$error":"#N/A"}},"","","",{"$f":"IF(C325<>\"\",Data!$M876,\"\")","v":""},null,null,null,null,{"$f":"IF(Dashboard!$R$4=\"All\",Data!G876,IF(Data!K876=Dashboard!$R$4,Data!G876,NA()))","v":{"$error":"#N/A"}},"","","",{"$f":"IF(L325<>\"\",Data!$M876,\"\")","v":""},null,null,null,null,{"$f":"IF(OR(Dashboard!$P$4=\"All\",Dashboard!$R$4=\"All\"),NA(),IF(OR(Data!K876<>Dashboard!$P$4,Data!K876<>Dashboard!$R$4),Data!G876,NA()))","v":7123.1666749770275},null,null,null,null,null,null,null,null,null,null,null,null,null,null,"ID0601",null,null,null,null,45000,1,null,null,null,null,null,null,null,null,null,null,null,null,null,null,null,null,null,null,null,null,null,null,null,null,null,null,null,"ID0601",null,null,45000]
[null,{"$f":"IF(Dashboard!$P$4=\"All\",Data!G877,IF(Data!K877=Dashboard!$P$4,Data!G877,NA()))","v":{"$error":"#N/A"}},"","","",{"$f":"IF(C326<>\"\",Data!$M877,\"\")","v":""},null,null,null,null,{"$f":"IF(Dashboard!$R$4=\"All\",Data!G877,IF(Data!K877=Dashboard!$R$4,Data!G877,NA()))","v":{"$error":"#N/A"}},"","","",{"$f":"IF(L326<>\"\",Data!$M877,\"\")","v":""},null,null,null,null,{"$f":"IF(OR(Dashboard!$P$4=\"All\",Dashboard!$R$4=\"All\"),NA(),IF(OR(Data!K877<>Dashboard!$P$4,Data!K877<>Dashboard!$R$4),Data!G877,NA()))","v":10000},null,null,null,null,null,null,null,null,null,null,null,null,null,null,"ID0602",null,null,90000,1,null,null,null,null,null,null,null,null,null,null,null,null,null,null,null,null,null,null,null,null,null,null,null,null,null,null,null,null,null,"ID0602",null,90000]
[null,{"$f":"IF(Dashboard!$P$4=\"All\",Data!G878,IF(Data!K878=Dashboard!$P$4,Data!G878,NA()))","v":{"$error":"#N/A"}},"","","",{"$f":"IF(C327<>\"\",Data!$M878,\"\")","v":""},null,null,null,null,{"$f":"IF(Dashboard!$R$4=\"All\",Data!G878,IF(Data!K878=Dashboard!$R$4,Data!G878,NA()))","v":{"$error":"#N/A"}},"","","",{"$f":"IF(L327<>\"\",Data!$M878,\"\")","v":""},null,null,null,null,{"$f":"IF(OR(Dashboard!$P$4=\"All\",Dashboard!$R$4=\"All\"),NA(),IF(OR(Data!K878<>Dashboard!$P$4,Data!K878<>Dashboard!$R$4),Data!G878,NA()))","v":8903.9583437212841},null,null,null,null,null,null,null,null,null,null,null,null,null,null,"ID0605",65000,1,null,null,null,null,null,null,null,null,null,null,null,null,null,null,null,null,null,null,null,null,null,null,null,null,null,null,null,null,null,null,null,"ID0605",null,65000]
[null,{"$f":"IF(Dashboard!$P$4=\"All\",Data!G879,IF(Data!K879=Dashboard!$P$4,Data!G879,NA()))","v":{"$error":"#N/A"}},"","","",{"$f":"IF(C328<>\"\",Data!$M879,\"\")","v":""},null,null,null,null,{"$f":"IF(Dashboard!$R$4=\"All\",Data!G879,IF(Data!K879=Dashboard!$R$4,Data!G879,NA()))","v":{"$error":"#N/A"}},"","","",{"$f":"IF(L328<>\"\",Data!$M879,\"\")","v":""},null,null,null,null,{"$f":"IF(OR(Dashboard!$P$4=\"All\",Dashboard!$R$4=\"All\"),NA(),IF(OR(Data!K879<>Dashboard!$P$4,Data!K879<>Dashboard!$R$4),Data!G879,NA()))","v":36500},null,null,null,null,null,null,null,null,null,null,null,null,null,null,"ID0606",70000,1,null,null,null,null,null,null,null,null,null,null,null,null,null,null,null,null,null,null,null,null,null,null,null,null,null,null,null,null,null,null,null,"ID0606",null,70000]
[null,{"$f":"IF(Dashboard!$P$4=\"All\",Data!G880,IF(Data!K880=Dashboard!$P$4,Data!G880,NA()))","v":{"$error":"#N/A"}},"","","",{"$f":"IF(C329<>\"\",Data!$M880,\"\")","v":""},null,null,null,null,{"$f":"IF(Dashboard!$R$4=\"All\",Data!G880,IF(Data!K880=Dashboard!$R$4,Data!G880,NA()))","v":{"$error":"#N/A"}},"","","",{"$f":"IF(L329<>\"\",Data!$M880,\"\")","v":""},null,null,null,null,{"$f":"IF(OR(Dashboard!$P$4=\"All\",Dashboard!$R$4=\"All\"),NA(),IF(OR(Data!K880<>Dashboard!$P$4,Data!K880<>Dashboard!$R$4),Data!G880,NA()))","v":100000},null,null,null,null,null,null,null,null,null,null,null,null,null,null,"ID0608",160000,1,null,null,null,null,null,null,null,null,null,null,null,null,null,null,null,null,null,null,null,null,null,null,null,null,null,null,null,null,null,null,null,"ID0608",null,null,160000]
[null,{"$f":"IF(Dashboard!$P$4=\"All\",Data!G881,IF(Data!K881=Dashboard!$P$4,Data!G881,NA()))","v":{"$error":"#N/A"}},"","","",{"$f":"IF(C330<>\"\",Data!$M881,\"\")","v":""},null,null,null,null,{"$f":"IF(Dashboard!$R$4=\"All\",Data!G881,IF(Data!K881=Dashboard!$R$4,Data!G881,NA()))","v":{"$error":"#N/A"}},"","","",{"$f":"IF(L330<>\"\",Data!$M881,\"\")","v":""},null,null,null,null,{"$f":"IF(OR(Dashboard!$P$4=\"All\",Dashboard!$R$4=\"All\"),NA(),IF(OR(Data!K881<>Dashboard!$P$4,Data!K881<>Dashboard!$R$4),Data!G881,NA()))","v":7123.1666749770275},null,null,null,null,null,null,null,null,null,null,null,null,null,null,"ID0612",30000,1,null,null,null,null,null,null,null,null,null,null,null,null,null,null,null,null,null,null,null,null,null,null,null,null,null,null,null,null,null,null,null,"ID0612",null,30000]
[null,{"$f":"IF(Dashboard!$P$4=\"All\",Data!G882,IF(Data!K882=Dashboard!$P$4,Data!G882,NA()))","v":{"$error":"#N/A"}},"","","",{"$f":"IF(C331<>\"\",Data!$M882,\"\")","v":""},null,null,null,null,{"$f":"IF(Dashboard!$R$4=\"All\",Data!G882,IF(Data!K882=Dashboard!$R$4,Data!G882,NA()))","v":{"$error":"#N/A"}},"","","",{"$f":"IF(L331<>\"\",Data!$M882,\"\")","v":""},null,null,null,null,{"$f":"IF(OR(Dashboard!$P$4=\"All\",Dashboard!$R$4=\"All\"),NA(),IF(OR(Data!K882<>Dashboard!$P$4,Data!K882<>Dashboard!$R$4),Data!G882,NA()))","v":40958.208381117904},null,null,null,null,null,null,null,null,null,null,null,null,null,null,"ID0614",null,null,61000,1,null,null,null,null,null,null,null,null,null,null,null,null,null,null,null,null,null,null,null,null,null,null,null,null,null,null,null,null,null,"ID0614",null,null,61000]
[null,{"$f":"IF(Dashboard!$P$4=\"All\",Data!G883,IF(Data!K883=Dashboard!$P$4,Data!G883,NA()))","v":{"$error":"#N/A"}},"","","",{"$f":"IF(C332<>\"\",Data!$M883,\"\")","v":""},null,null,null,null,{"$f":"IF(Dashboard!$R$4=\"All\",Data!G883,IF(Data!K883=Dashboard!$R$4,Data!G883,NA()))","v":{"$error":"#N/A"}},"","","",{"$f":"IF(L332<>\"\",Data!$M883,\"\")","v":""},null,null,null,null,{"$f":"IF(OR(Dashboard!$P$4=\"All\",Dashboard!$R$4=\"All\"),NA(),IF(OR(Data!K883<>Dashboard!$P$4,Data!K883<>Dashboard!$R$4),Data!G883,NA()))","v":21369.500024931083},null,null,null,null,null,null,null,null,null,null,null,null,null,null,"ID0618",null,null,null,null,null,null,null,null,null,null,null,null,null,null,80000,1,null,null,null,null,null,null,null,null,null,null,null,null,null,null,null,null,null,"ID0618",null,null,80000]
[null,{"$f":"IF(Dashboard!$P$4=\"All\",Data!G884,IF(Data!K884=Dashboard!$P$4,Data!G884,NA()))","v":{"$error":"#N/A"}},"","","",{"$f":"IF(C333<>\"\",Data!$M884,\"\")","v":""},null,null,null,null,{"$f":"IF(Dashboard!$R$4=\"All\",Data!G884,IF(Data!K884=Dashboard!$R$4,Data!G884,NA()))","v":{"$error":"#N/A"}},"","","",{"$f":"IF(L333<>\"\",Data!$M884,\"\")","v":""},null,null,null,null,{"$f":"IF(OR(Dashboard!$P$4=\"All\",Dashboard!$R$4=\"All\"),NA(),IF(OR(Data!K884<>Dashboard!$P$4,Data!K884<>Dashboard!$R$4),Data!G884,NA()))","v":2136.9500024931081},null,null,null,null,null,null,null,null,null,null,null,null,null,null,"ID0624",null,null,50000,1,null,null,null,null,null,null,null,null,null,null,null,null,null,null,null,null,null,null,null,null,null,null,null,null,null,null,null,null,null,"ID0624",null,null,50000]
[null,{"$f":"IF(Dashboard!$P$4=\"All\",Data!G885,IF(Data!K885=Dashboard!$P$4,Data!G885,NA()))","v":{"$error":"#N/A"}},"","","",{"$f":"IF(C334<>\"\",Data!$M885,\"\")","v":""},null,null,null,null,{"$f":"IF(Dashboard!$R$4=\"All\",Data!G885,IF(Data!K885=Dashboard!$R$4,Data!G885,NA()))","v":{"$error":"#N/A"}},"","","",{"$f":"IF(L334<>\"\",Data!$M885,\"\")","v":""},null,null,null,null,{"$f":"IF(OR(Dashboard!$P$4=\"All\",Dashboard!$R$4=\"All\"),NA(),IF(OR(Data!K885<>Dashboard!$P$4,Data!K885<>Dashboard!$R$4),Data!G885,NA()))","v":8903.9583437212841},null,null,null,null,null,null,null,null,null,null,null,null,null,null,"ID0627",null,null,95000,1,null,null,null,null,null,null,null,null,null,null,null,null,null,null,null,null,null,null,null,null,null,null,null,null,null,null,null,null,null,"ID0627",95000]
[null,{"$f":"IF(Dashboard!$P$4=\"All\",Data!G886,IF(Data!K886=Dashboard!$P$4,Data!G886,NA()))","v":{"$error":"#N/A"}},"","","",{"$f":"IF(C335<>\"\",Data!$M886,\"\")","v":""},null,null,null,null,{"$f":"IF(Dashboard!$R$4=\"All\",Data!G886,IF(Data!K886=Dashboard!$R$4,Data!G886,NA()))","v":{"$error":"#N/A"}},"","","",{"$f":"IF(L335<>\"\",Data!$M886,\"\")","v":""},null,null,null,null,{"$f":"IF(OR(Dashboard!$P$4=\"All\",Dashboard!$R$4=\"All\"),NA(),IF(OR(Data!K886<>Dashboard!$P$4,Data!K886<>Dashboard!$R$4),Data!G886,NA()))","v":17807.916687442568},null,null,null,null,null,null,null,null,null,null,null,null,null,null,"ID0631",39000,1,null,null,null,null,null,null,null,null,null,null,null,null,null,null,null,null,null,null,null,null,null,null,null,null,null,null,null,null,null,null,null,"ID0631",null,null,null,39000]
[null,{"$f":"IF(Dashboard!$P$4=\"All\",Data!G887,IF(Data!K887=Dashboard!$P$4,Data!G887,NA()))","v":{"$error":"#N/A"}},"","","",{"$f":"IF(C336<>\"\",Data!$M887,\"\")","v":""},null,null,null,null,{"$f":"IF(Dashboard!$R$4=\"All\",Data!G887,IF(Data!K887=Dashboard!$R$4,Data!G887,NA()))","v":{"$error":"#N/A"}},"","","",{"$f":"IF(L336<>\"\",Data!$M887,\"\")","v":""},null,null,null,null,{"$f":"IF(OR(Dashboard!$P$4=\"All\",Dashboard!$R$4=\"All\"),NA(),IF(OR(Data!K887<>Dashboard!$P$4,Data!K887<>Dashboard!$R$4),Data!G887,NA()))","v":15136.729184326183},null,null,null,null,null,null,null,null,null,null,null,null,null,null,"ID0632",60000,1,null,null,null,null,null,null,null,null,null,null,null,null,null,null,null,null,null,null,null,null,null,null,null,null,null,null,null,null,null,null,null,"ID0632",null,null,60000]
[null,{"$f":"IF(Dashboard!$P$4=\"All\",Data!G888,IF(Data!K888=Dashboard!$P$4,Data!G888,NA()))","v":{"$error":"#N/A"}},"","","",{"$f":"IF(C337<>\"\",Data!$M888,\"\")","v":""},null,null,null,null,{"$f":"IF(Dashboard!$R$4=\"All\",Data!G888,IF(Data!K888=Dashboard!$R$4,Data!G888,NA()))","v":{"$error":"#N/A"}},"","","",{"$f":"IF(L337<>\"\",Data!$M888,\"\")","v":""},null,null,null,null,{"$f":"IF(OR(Dashboard!$P$4=\"All\",Dashboard!$R$4=\"All\"),NA(),IF(OR(Data!K888<>Dashboard!$P$4,Data!K888<>Dashboard!$R$4),Data!G888,NA()))","v":3982.448779308334},null,null,null,null,null,null,null,null,null,null,null,null,null,null,"ID0634",125000,1,null,null,null,null,null,null,null,null,null,null,null,null,null,null,null,null,null,null,null,null,null,null,null,null,null,null,null,null,null,null,null,"ID0634",null,125000]
[null,{"$f":"IF(Dashboard!$P$4=\"All\",Data!G889,IF(Data!K889=Dashboard!$P$4,Data!G889,NA()))","v":{"$error":"#N/A"}},"","","",{"$f":"IF(C338<>\"\",Data!$M889,\"\")","v":""},null,null,null,null,{"$f":"IF(Dashboard!$R$4=\"All\",Data!G889,IF(Data!K889=Dashboard!$R$4,Data!G889,NA()))","v":{"$error":"#N/A"}},"","","",{"$f":"IF(L338<>\"\",Data!$M889,\"\")","v":""},null,null,null,null,{"$f":"IF(OR(Dashboard!$P$4=\"All\",Dashboard!$R$4=\"All\"),NA(),IF(OR(Data!K889<>Dashboard!$P$4,Data!K889<>Dashboard!$R$4),Data!G889,NA()))","v":15600},null,null,null,null,null,null,null,null,null,null,null,null,null,null,"ID0637",null,null,80000,1,null,null,null,null,null,null,null,null,null,null,null,null,null,null,null,null,null,null,null,null,null,null,null,null,null,null,null,null,null,"ID0637",null,null,80000]
[null,{"$f":"IF(Dashboard!$P$4=\"All\",Data!G890,IF(Data!K890=Dashboard!$P$4,Data!G890,NA()))","v":{"$error":"#N/A"}},"","","",{"$f":"IF(C339<>\"\",Data!$M890,\"\")","v":""},null,null,null,null,{"$f":"IF(Dashboard!$R$4=\"All\",Data!G890,IF(Data!K890=Dashboard!$R$4,Data!G890,NA()))","v":{"$error":"#N/A"}},"","","",{"$f":"IF(L339<>\"\",Data!$M890,\"\")","v":""},null,null,null,null,{"$f":"IF(OR(Dashboard!$P$4=\"All\",Dashboard!$R$4=\"All\"),NA(),IF(OR(Data!K890<>Dashboard!$P$4,Data!K890<>Dashboard!$R$4),Data!G890,NA()))","v":3205.4250037396623},null,null,null,null,null,null,null,null,null,null,null,null,null,null,"ID0643",53000,1,null,null,null,null,null,null,null,null,null,null,null,null,null,null,null,null,null,null,null,null,null,null,null,null,null,null,null,null,null,null,null,"ID0643",null,null,53000]
[null,{"$f":"IF(Dashboard!$P$4=\"All\",Data!G891,IF(Data!K891=Dashboard!$P$4,Data!G891,NA()))","v":{"$error":"#N/A"}},"","","",{"$f":"IF(C340<>\"\",Data!$M891,\"\")","v":""},null,null,null,null,{"$f":"IF(Dashboard!$R$4=\"All\",Data!G891,IF(Data!K891=Dashboard!$R$4,Data!G891,NA()))","v":{"$error":"#N/A"}},"","","",{"$f":"IF(L340<>\"\",Data!$M891,\"\")","v":""},null,null,null,null,{"$f":"IF(OR(Dashboard!$P$4=\"All\",Dashboard!$R$4=\"All\"),NA(),IF(OR(Data!K891<>Dashboard!$P$4,Data!K891<>Dashboard!$R$4),Data!G891,NA()))","v":10000},null,null,null,null,null,null,null,null,null,null,null,null,null,null,"ID0677",null,null,null,null,null,null,null,null,null,null,null,null,105000,1,null,null,null,null,null,null,null,null,null,null,null,null,null,null,null,null,null,null,null,"ID0677",null,105000]
[null,{"$f":"IF(Dashboard!$P$4=\"All\",Data!G892,IF(Data!K892=Dashboard!$P$4,Data!G892,NA()))","v":{"$error":"#N/A"}},"","","",{"$f":"IF(C341<>\"\",Data!$M892,\"\")","v":""},null,null,null,null,{"$f":"IF(Dashboard!$R$4=\"All\",Data!G892,IF(Data!K892=Dashboard!$R$4,Data!G892,NA()))","v":{"$error":"#N/A"}},"","","",{"$f":"IF(L341<>\"\",Data!$M892,\"\")","v":""},null,null,null,null,{"$f":"IF(OR(Dashboard!$P$4=\"All\",Dashboard!$R$4=\"All\"),NA(),IF(OR(Data!K892<>Dashboard!$P$4,Data!K892<>Dashboard!$R$4),Data!G892,NA()))","v":75010},null,null,null,null,null,null,null,null,null,null,null,null,null,null,"ID0683",null,null,null,null,null,null,null,null,null,null,52000,1,null,null,null,null,null,null,null,null,null,null,null,null,null,null,null,null,null,null,null,null,null,"ID0683",null,null,52000]
[null,{"$f":"IF(Dashboard!$P$4=\"All\",Data!G893,IF(Data!K893=Dashboard!$P$4,Data!G893,NA()))","v":{"$error":"#N/A"}},"","","",{"$f":"IF(C342<>\"\",Data!$M893,\"\")","v":""},null,null,null,null,{"$f":"IF(Dashboard!$R$4=\"All\",Data!G893,IF(Data!K893=Dashboard!$R$4,Data!G893,NA()))","v":{"$error":"#N/A"}},"","","",{"$f":"IF(L342<>\"\",Data!$M893,\"\")","v":""},null,null,null,null,{"$f":"IF(OR(Dashboard!$P$4=\"All\",Dashboard!$R$4=\"All\"),NA(),IF(OR(Data!K893<>Dashboard!$P$4,Data!K893<>Dashboard!$R$4),Data!G893,NA()))","v":10684.750012465542},null,null,null,null,null,null,null,null,null,null,null,null,null,null,"ID0704",null,null,null,null,null,null,null,null,null,null,35000,1,null,null,null,null,null,null,null,null,null,null,null,null,null,null,null,null,null,null,null,null,null,"ID0704",null,null,35000]
[null,{"$f":"IF(Dashboard!$P$4=\"All\",Data!G894,IF(Data!K894=Dashboard!$P$4,Data!G894,NA()))","v":{"$error":"#N/A"}},"","","",{"$f":"IF(C343<>\"\",Data!$M894,\"\")","v":""},null,null,null,null,{"$f":"IF(Dashboard!$R$4=\"All\",Data!G894,IF(Data!K894=Dashboard!$R$4,Data!G894,NA()))","v":{"$error":"#N/A"}},"","","",{"$f":"IF(L343<>\"\",Data!$M894,\"\")","v":""},null,null,null,null,{"$f":"IF(OR(Dashboard!$P$4=\"All\",Dashboard!$R$4=\"All\"),NA(),IF(OR(Data!K894<>Dashboard!$P$4,Data!K894<>Dashboard!$R$4),Data!G894,NA()))","v":16350},null,null,null,null,null,null,null,null,null,null,null,null,null,null,"ID0764",62000,1,null,null,null,null,null,null,null,null,null,null,null,null,null,null,null,null,null,null,null,null,null,null,null,null,null,null,null,null,null,null,null,"ID0764",null,62000]
[null,{"$f":"IF(Dashboard!$P$4=\"All\",Data!G895,IF(Data!K895=Dashboard!$P$4,Data!G895,NA()))","v":{"$error":"#N/A"}},"","","",{"$f":"IF(C344<>\"\",Data!$M895,\"\")","v":""},null,null,null,null,{"$f":"IF(Dashboard!$R$4=\"All\",Data!G895,IF(Data!K895=Dashboard!$R$4,Data!G895,NA()))","v":126094.26176538273},126094.26176538273,126094.26176538273,"",{"$f":"IF(L344<>\"\",Data!$M895,\"\")","v":10},null,null,null,null,{"$f":"IF(OR(Dashboard!$P$4=\"All\",Dashboard!$R$4=\"All\"),NA(),IF(OR(Data!K895<>Dashboard!$P$4,Data!K895<>Dashboard!$R$4),Data!G895,NA()))","v":126094.26176538273},null,null,null,null,null,null,null,null,null,null,null,null,null,null,"ID0767",null,null,null,null,30232,1,null,null,null,null,null,null,null,null,null,null,null,null,null,null,null,null,null,null,null,null,null,null,null,null,null,null,null,"ID0767",null,30232]
[null,{"$f":"IF(Dashboard!$P$4=\"All\",Data!G896,IF(Data!K896=Dashboard!$P$4,Data!G896,NA()))","v":{"$error":"#N/A"}},"","","",{"$f":"IF(C345<>\"\",Data!$M896,\"\")","v":""},null,null,null,null,{"$f":"IF(Dashboard!$R$4=\"All\",Data!G896,IF(Data!K896=Dashboard!$R$4,Data!G896,NA()))","v":{"$error":"#N/A"}},"","","",{"$f":"IF(L345<>\"\",Data!$M896,\"\")","v":""},null,null,null,null,{"$f":"IF(OR(Dashboard!$P$4=\"All\",Dashboard!$R$4=\"All\"),NA(),IF(OR(Data!K896<>Dashboard!$P$4,Data!K896<>Dashboard!$R$4),Data!G896,NA()))","v":60000},null,null,null,null,null,null,null,null,null,null,null,null,null,null,"ID0768",41000,1,null,null,null,null,null,null,null,null,null,null,null,null,null,null,null,null,null,null,null,null,null,null,null,null,null,null,null,null,null,null,null,"ID0768",null,null,null,41000]
[null,{"$f":"IF(Dashboard!$P$4=\"All\",Data!G897,IF(Data!K897=Dashboard!$P$4,Data!G897,NA()))","v":{"$error":"#N/A"}},"","","",{"$f":"IF(C346<>\"\",Data!$M897,\"\")","v":""},null,null,null,null,{"$f":"IF(Dashboard!$R$4=\"All\",Data!G897,IF(Data!K897=Dashboard!$R$4,Data!G897,NA()))","v":{"$error":"#N/A"}},"","","",{"$f":"IF(L346<>\"\",Data!$M897,\"\")","v":""},null,null,null,null,{"$f":"IF(OR(Dashboard!$P$4=\"All\",Dashboard!$R$4=\"All\"),NA(),IF(OR(Data!K897<>Dashboard!$P$4,Data!K897<>Dashboard!$R$4),Data!G897,NA()))","v":23150.291693675339},null,null,null,null,null,null,null,null,null,null,null,null,null,null,"ID0791",65000,1,null,null,null,null,null,null,null,null,null,null,null,null,null,null,null,null,null,null,null,null,null,null,null,null,null,null,null,null,null,null,null,"ID0791",null,65000]
[null,{"$f":"IF(Dashboard!$P$4=\"All\",Data!G898,IF(Data!K898=Dashboard!$P$4,Data!G898,NA()))","v":{"$error":"#N/A"}},"","","",{"$f":"IF(C347<>\"\",Data!$M898,\"\")","v":""},null,null,null,null,{"$f":"IF(Dashboard!$R$4=\"All\",Data!G898,IF(Data!K898=Dashboard!$R$4,Data!G898,NA()))","v":{"$error":"#N/A"}},"","","",{"$f":"IF(L347<>\"\",Data!$M898,\"\")","v":""},null,null,null,null,{"$f":"IF(OR(Dashboard!$P$4=\"All\",Dashboard!$R$4=\"All\"),NA(),IF(OR(Data!K898<>Dashboard!$P$4,Data!K898<>Dashboard!$R$4),Data!G898,NA()))","v":13801.135432767991},null,null,null,null,null,null,null,null,null,null,null,null,null,null,"ID0801",null,null,48500,1,null,null,null,null,null,null,null,null,null,null,null,null,null,null,null,null,null,null,null,null,null,null,null,null,null,null,null,null,null,"ID0801",null,48500]
[null,{"$f":"IF(Dashboard!$P$4=\"All\",Data!G899,IF(Data!K899=Dashboard!$P$4,Data!G899,NA()))","v":{"$error":"#N/A"}},"","","",{"$f":"IF(C348<>\"\",Data!$M899,\"\")","v":""},null,null,null,null,{"$f":"IF(Dashboard!$R$4=\"All\",Data!G899,IF(Data!K899=Dashboard!$R$4,Data!G899,NA()))","v":{"$error":"#N/A"}},"","","",{"$f":"IF(L348<>\"\",Data!$M899,\"\")","v":""},null,null,null,null,{"$f":"IF(OR(Dashboard!$P$4=\"All\",Dashboard!$R$4=\"All\"),NA(),IF(OR(Data!K899<>Dashboard!$P$4,Data!K899<>Dashboard!$R$4),Data!G899,NA()))","v":18698.312521814696},null,null,null,null,null,null,null,null,null,null,null,null,null,null,"ID0803",33900,1,null,null,null,null,null,null,null,null,null,null,null,null,null,null,null,null,null,null,null,null,null,null,null,null,null,null,null,null,null,null,null,"ID0803",null,33900]
[null,{"$f":"IF(Dashboard!$P$4=\"All\",Data!G900,IF(Data!K900=Dashboard!$P$4,Data!G900,NA()))","v":{"$error":"#N/A"}},"","","",{"$f":"IF(C349<>\"\",Data!$M900,\"\")","v":""},null,null,null,null,{"$f":"IF(Dashboard!$R$4=\"All\",Data!G900,IF(Data!K900=Dashboard!$R$4,Data!G900,NA()))","v":{"$error":"#N/A"}},"","","",{"$f":"IF(L349<>\"\",Data!$M900,\"\")","v":""},null,null,null,null,{"$f":"IF(OR(Dashboard!$P$4=\"All\",Dashboard!$R$4=\"All\"),NA(),IF(OR(Data!K900<>Dashboard!$P$4,Data!K900<>Dashboard!$R$4),Data!G900,NA()))","v":36000},null,null,null,null,null,null,null,null,null,null,null,null,null,null,"ID0806",null,null,null,null,null,null,85000,1,null,null,null,null,null,null,null,null,null,null,null,null,null,null,null,null,null,null,null,null,null,null,null,null,null,"ID0806",null,null,85000]
[null,{"$f":"IF(Dashboard!$P$4=\"All\",Data!G901,IF(Data!K901=Dashboard!$P$4,Data!G901,NA()))","v":{"$error":"#N/A"}},"","","",{"$f":"IF(C350<>\"\",Data!$M901,\"\")","v":""},null,null,null,null,{"$f":"IF(Dashboard!$R$4=\"All\",Data!G901,IF(Data!K901=Dashboard!$R$4,Data!G901,NA()))","v":{"$error":"#N/A"}},"","","",{"$f":"IF(L350<>\"\",Data!$M901,\"\")","v":""},null,null,null,null,{"$f":"IF(OR(Dashboard!$P$4=\"All\",Dashboard!$R$4=\"All\"),NA(),IF(OR(Data!K901<>Dashboard!$P$4,Data!K901<>Dashboard!$R$4),Data!G901,NA()))","v":8654.6475100970874},null,null,null,null,null,null,null,null,null,null,null,null,null,null,"ID0808",null,null,48000,1,null,null,null,null,null,null,null,null,null,null,null,null,null,null,null,null,null,null,null,null,null,null,null,null,null,null,null,null,null,"ID0808",null,48000]
[null,{"$f":"IF(Dashboard!$P$4=\"All\",Data!G902,IF(Data!K902=Dashboard!$P$4,Data!G902,NA()))","v":{"$error":"#N/A"}},"","","",{"$f":"IF(C351<>\"\",Data!$M902,\"\")","v":""},null,null,null,null,{"$f":"IF(Dashboard!$R$4=\"All\",Data!G902,IF(Data!K902=Dashboard!$R$4,Data!G902,NA()))","v":102451.58768437347},102451.58768437347,"","",{"$f":"IF(L351<>\"\",Data!$M902,\"\")","v":15},null,null,null,null,{"$f":"IF(OR(Dashboard!$P$4=\"All\",Dashboard!$R$4=\"All\"),NA(),IF(OR(Data!K902<>Dashboard!$P$4,Data!K902<>Dashboard!$R$4),Data!G902,NA()))","v":102451.58768437347},null,null,null,null,null,null,null,null,null,null,null,null,null,null,"ID0815",95000,1,null,null,null,null,null,null,null,null,null,null,null,null,null,null,null,null,null,null,null,null,null,null,null,null,null,null,null,null,null,null,null,"ID0815",null,95000]
[null,{"$f":"IF(Dashboard!$P$4=\"All\",Data!G903,IF(Data!K903=Dashboard!$P$4,Data!G903,NA()))","v":{"$error":"#N/A"}},"","","",{"$f":"IF(C352<>\"\",Data!$M903,\"\")","v":""},null,null,null,null,{"$f":"IF(Dashboard!$R$4=\"All\",Data!G903,IF(Data!K903=Dashboard!$R$4,Data!G903,NA()))","v":{"$error":"#N/A"}},"","","",{"$f":"IF(L352<>\"\",Data!$M903,\"\")","v":""},null,null,null,null,{"$f":"IF(OR(Dashboard!$P$4=\"All\",Dashboard!$R$4=\"All\"),NA(),IF(OR(Data!K903<>Dashboard!$P$4,Data!K903<>Dashboard!$R$4),Data!G903,NA()))","v":36400},null,null,null,null,null,null,null,null,null,null,null,null,null,null,"ID0824",75000,1,null,null,null,null,null,null,null,null,null,null,null,null,null,null,null,null,null,null,null,null,null,null,null,null,null,null,null,null,null,null,null,"ID0824",null,75000]
[null,{"$f":"IF(Dashboard!$P$4=\"All\",Data!G904,IF(Data!K904=Dashboard!$P$4,Data!G904,NA()))","v":{"$error":"#N/A"}},"","","",{"$f":"IF(C353<>\"\",Data!$M904,\"\")","v":""},null,null,null,null,{"$f":"IF(Dashboard!$R$4=\"All\",Data!G904,IF(Data!K904=Dashboard!$R$4,Data!G904,NA()))","v":101206.40684944032},101206.40684944032,"","",{"$f":"IF(L353<>\"\",Data!$M904,\"\")","v":16},null,null,null,null,{"$f":"IF(OR(Dashboard!$P$4=\"All\",Dashboard!$R$4=\"All\"),NA(),IF(OR(Data!K904<>Dashboard!$P$4,Data!K904<>Dashboard!$R$4),Data!G904,NA()))","v":101206.40684944032},null,null,null,null,null,null,null,null,null,null,null,null,null,null,"ID0829",null,null,null,null,null,null,100000,1,null,null,null,null,null,null,null,null,null,null,null,null,null,null,null,null,null,null,null,null,null,null,null,null,null,"ID0829",null,null,100000]
[null,{"$f":"IF(Dashboard!$P$4=\"All\",Data!G905,IF(Data!K905=Dashboard!$P$4,Data!G905,NA()))","v":{"$error":"#N/A"}},"","","",{"$f":"IF(C354<>\"\",Data!$M905,\"\")","v":""},null,null,null,null,{"$f":"IF(Dashboard!$R$4=\"All\",Data!G905,IF(Data!K905=Dashboard!$R$4,Data!G905,NA()))","v":{"$error":"#N/A"}},"","","",{"$f":"IF(L354<>\"\",Data!$M905,\"\")","v":""},null,null,null,null,{"$f":"IF(OR(Dashboard!$P$4=\"All\",Dashboard!$R$4=\"All\"),NA(),IF(OR(Data!K905<>Dashboard!$P$4,Data!K905<>Dashboard!$R$4),Data!G905,NA()))","v":5342.3750062327708},null,null,null,null,null,null,null,null,null,null,null,null,null,null,"ID0831",null,null,40000,1,null,null,null,null,null,null,null,null,null,null,null,null,null,null,null,null,null,null,null,null,null,null,null,null,null,null,null,null,null,"ID0831",null,40000]
[null,{"$f":"IF(Dashboard!$P$4=\"All\",Data!G906,IF(Data!K906=Dashboard!$P$4,Data!G906,NA()))","v":{"$error":"#N/A"}},"","","",{"$f":"IF(C355<>\"\",Data!$M906,\"\")","v":""},null,null,null,null,{"$f":"IF(Dashboard!$R$4=\"All\",Data!G906,IF(Data!K906=Dashboard!$R$4,Data!G906,NA()))","v":{"$error":"#N/A"}},"","","",{"$f":"IF(L355<>\"\",Data!$M906,\"\")","v":""},null,null,null,null,{"$f":"IF(OR(Dashboard!$P$4=\"All\",Dashboard!$R$4=\"All\"),NA(),IF(OR(Data!K906<>Dashboard!$P$4,Data!K906<>Dashboard!$R$4),Data!G906,NA()))","v":28310.79811950968},null,null,null,null,null,null,null,null,null,null,null,null,null,null,"ID0840",null,null,null,null,85000,1,null,null,null,null,null,null,null,null,null,null,null,null,null,null,null,null,null,null,null,null,null,null,null,null,null,null,null,"ID0840",null,null,null,85000]
[null,{"$f":"IF(Dashboard!$P$4=\"All\",Data!G907,IF(Data!K907=Dashboard!$P$4,Data!G907,NA()))","v":{"$error":"#N/A"}},"","","",{"$f":"IF(C356<>\"\",Data!$M907,\"\")","v":""},null,null,null,null,{"$f":"IF(Dashboard!$R$4=\"All\",Data!G907,IF(Data!K907=Dashboard!$R$4,Data!G907,NA()))","v":{"$error":"#N/A"}},"","","",{"$f":"IF(L356<>\"\",Data!$M907,\"\")","v":""},null,null,null,null,{"$f":"IF(OR(Dashboard!$P$4=\"All\",Dashboard!$R$4=\"All\"),NA(),IF(OR(Data!K907<>Dashboard!$P$4,Data!K907<>Dashboard!$R$4),Data!G907,NA()))","v":26043.18849932796},null,null,null,null,null,null,null,null,null,null,null,null,null,null,"ID0854",92500,1,null,null,null,null,null,null,null,null,null,null,null,null,null,null,null,null,null,null,null,null,null,null,null,null,null,null,null,null,null,null,null,"ID0854",null,92500]
[null,{"$f":"IF(Dashboard!$P$4=\"All\",Data!G908,IF(Data!K908=Dashboard!$P$4,Data!G908,NA()))","v":{"$error":"#N/A"}},"","","",{"$f":"IF(C357<>\"\",Data!$M908,\"\")","v":""},null,null,null,null,{"$f":"IF(Dashboard!$R$4=\"All\",Data!G908,IF(Data!K908=Dashboard!$R$4,Data!G908,NA()))","v":{"$error":"#N/A"}},"","","",{"$f":"IF(L357<>\"\",Data!$M908,\"\")","v":""},null,null,null,null,{"$f":"IF(OR(Dashboard!$P$4=\"All\",Dashboard!$R$4=\"All\"),NA(),IF(OR(Data!K908<>Dashboard!$P$4,Data!K908<>Dashboard!$R$4),Data!G908,NA()))","v":96891.417358250401},null,null,null,null,null,null,null,null,null,null,null,null,null,null,"ID0856",null,null,32000,1,null,null,null,null,null,null,null,null,null,null,null,null,null,null,null,null,null,null,null,null,null,null,null,null,null,null,null,null,null,"ID0856",null,null,32000]
[null,{"$f":"IF(Dashboard!$P$4=\"All\",Data!G909,IF(Data!K909=Dashboard!$P$4,Data!G909,NA()))","v":{"$error":"#N/A"}},"","","",{"$f":"IF(C358<>\"\",Data!$M909,\"\")","v":""},null,null,null,null,{"$f":"IF(Dashboard!$R$4=\"All\",Data!G909,IF(Data!K909=Dashboard!$R$4,Data!G909,NA()))","v":{"$error":"#N/A"}},"","","",{"$f":"IF(L358<>\"\",Data!$M909,\"\")","v":""},null,null,null,null,{"$f":"IF(OR(Dashboard!$P$4=\"All\",Dashboard!$R$4=\"All\"),NA(),IF(OR(Data!K909<>Dashboard!$P$4,Data!K909<>Dashboard!$R$4),Data!G909,NA()))","v":2564.3400029917298},null,null,null,null,null,null,null,null,null,null,null,null,null,null,"ID0857",55000,1,null,null,null,null,null,null,null,null,null,null,null,null,null,null,null,null,null,null,null,null,null,null,null,null,null,null,null,null,null,null,null,"ID0857",null,null,55000]
[null,{"$f":"IF(Dashboard!$P$4=\"All\",Data!G910,IF(Data!K910=Dashboard!$P$4,Data!G910,NA()))","v":{"$error":"#N/A"}},"","","",{"$f":"IF(C359<>\"\",Data!$M910,\"\")","v":""},null,null,null,null,{"$f":"IF(Dashboard!$R$4=\"All\",Data!G910,IF(Data!K910=Dashboard!$R$4,Data!G910,NA()))","v":{"$error":"#N/A"}},"","","",{"$f":"IF(L359<>\"\",Data!$M910,\"\")","v":""},null,null,null,null,{"$f":"IF(OR(Dashboard!$P$4=\"All\",Dashboard!$R$4=\"All\"),NA(),IF(OR(Data!K910<>Dashboard!$P$4,Data!K910<>Dashboard!$R$4),Data!G910,NA()))","v":3205.4250037396623},null,null,null,null,null,null,null,null,null,null,null,null,null,null,"ID0858",40000,1,null,null,null,null,null,null,null,null,null,null,null,null,null,null,null,null,null,null,null,null,null,null,null,null,null,null,null,null,null,null,null,"ID0858",null,null,null,40000]
[null,{"$f":"IF(Dashboard!$P$4=\"All\",Data!G911,IF(Data!K911=Dashboard!$P$4,Data!G911,NA()))","v":{"$error":"#N/A"}},"","","",{"$f":"IF(C360<>\"\",Data!$M911,\"\")","v":""},null,null,null,null,{"$f":"IF(Dashboard!$R$4=\"All\",Data!G911,IF(Data!K911=Dashboard!$R$4,Data!G911,NA()))","v":{"$error":"#N/A"}},"","","",{"$f":"IF(L360<>\"\",Data!$M911,\"\")","v":""},null,null,null,null,{"$f":"IF(OR(Dashboard!$P$4=\"All\",Dashboard!$R$4=\"All\"),NA(),IF(OR(Data!K911<>Dashboard!$P$4,Data!K911<>Dashboard!$R$4),Data!G911,NA()))","v":10684.750012465542},null,null,null,null,null,null,null,null,null,null,null,null,null,null,"ID0860",43600,1,null,null,null,null,null,null,null,null,null,null,null,null,null,null,null,null,null,null,null,null,null,null,null,null,null,null,null,null,null,null,null,"ID0860",null,null,43600]
[null,{"$f":"IF(Dashboard!$P$4=\"All\",Data!G912,IF(Data!K912=Dashboard!$P$4,Data!G912,NA()))","v":{"$error":"#N/A"}},"","","",{"$f":"IF(C361<>\"\",Data!$M912,\"\")","v":""},null,null,null,null,{"$f":"IF(Dashboard!$R$4=\"All\",Data!G912,IF(Data!K912=Dashboard!$R$4,Data!G912,NA()))","v":{"$error":"#N/A"}},"","","",{"$f":"IF(L361<>\"\",Data!$M912,\"\")","v":""},null,null,null,null,{"$f":"IF(OR(Dashboard!$P$4=\"All\",Dashboard!$R$4=\"All\"),NA(),IF(OR(Data!K912<>Dashboard!$P$4,Data!K912<>Dashboard!$R$4),Data!G912,NA()))","v":150000},null,null,null,null,null,null,null,null,null,null,null,null,null,null,"ID0866",65000,1,null,null,null,null,null,null,null,null,null,null,null,null,null,null,null,null,null,null,null,null,null,null,null,null,null,null,null,null,null,null,null,"ID0866",65000]
[null,{"$f":"IF(Dashboard!$P$4=\"All\",Data!G913,IF(Data!K913=Dashboard!$P$4,Data!G913,NA()))","v":{"$error":"#N/A"}},"","","",{"$f":"IF(C362<>\"\",Data!$M913,\"\")","v":""},null,null,null,null,{"$f":"IF(Dashboard!$R$4=\"All\",Data!G913,IF(Data!K913=Dashboard!$R$4,Data!G913,NA()))","v":{"$error":"#N/A"}},"","","",{"$f":"IF(L362<>\"\",Data!$M913,\"\")","v":""},null,null,null,null,{"$f":"IF(OR(Dashboard!$P$4=\"All\",Dashboard!$R$4=\"All\"),NA(),IF(OR(Data!K913<>Dashboard!$P$4,Data!K913<>Dashboard!$R$4),Data!G913,NA()))","v":12465.541681209797},null,null,null,null,null,null,null,null,null,null,null,null,null,null,"ID0867",40000,1,null,null,null,null,null,null,null,null,null,null,null,null,null,null,null,null,null,null,null,null,null,null,null,null,null,null,null,null,null,null,null,"ID0867",null,null,null,40000]
[null,{"$f":"IF(Dashboard!$P$4=\"All\",Data!G914,IF(Data!K914=Dashboard!$P$4,Data!G914,NA()))","v":{"$error":"#N/A"}},"","","",{"$f":"IF(C363<>\"\",Data!$M914,\"\")","v":""},null,null,null,null,{"$f":"IF(Dashboard!$R$4=\"All\",Data!G914,IF(Data!K914=Dashboard!$R$4,Data!G914,NA()))","v":{"$error":"#N/A"}},"","","",{"$f":"IF(L363<>\"\",Data!$M914,\"\")","v":""},null,null,null,null,{"$f":"IF(OR(Dashboard!$P$4=\"All\",Dashboard!$R$4=\"All\"),NA(),IF(OR(Data!K914<>Dashboard!$P$4,Data!K914<>Dashboard!$R$4),Data!G914,NA()))","v":19055.991584874118},null,null,null,null,null,null,null,null,null,null,null,null,null,null,"ID0869",null,null,null,null,null,null,50000,1,null,null,null,null,null,null,null,null,null,null,null,null,null,null,null,null,null,null,null,null,null,null,null,null,null,"ID0869",null,null,null,50000]
[null,{"$f":"IF(Dashboard!$P$4=\"All\",Data!G915,IF(Data!K915=Dashboard!$P$4,Data!G915,NA()))","v":{"$error":"#N/A"}},"","","",{"$f":"IF(C364<>\"\",Data!$M915,\"\")","v":""},null,null,null,null,{"$f":"IF(Dashboard!$R$4=\"All\",Data!G915,IF(Data!K915=Dashboard!$R$4,Data!G915,NA()))","v":{"$error":"#N/A"}},"","","",{"$f":"IF(L364<>\"\",Data!$M915,\"\")","v":""},null,null,null,null,{"$f":"IF(OR(Dashboard!$P$4=\"All\",Dashboard!$R$4=\"All\"),NA(),IF(OR(Data!K915<>Dashboard!$P$4,Data!K915<>Dashboard!$R$4),Data!G915,NA()))","v":105000},null,null,null,null,null,null,null,null,null,null,null,null,null,null,"ID0870",null,null,null,null,null,null,135000,1,null,null,null,null,null,null,null,null,null,null,null,null,null,null,null,null,null,null,null,null,null,null,null,null,null,"ID0870",null,null,135000]
[null,{"$f":"IF(Dashboard!$P$4=\"All\",Data!G916,IF(Data!K916=Dashboard!$P$4,Data!G916,NA()))","v":{"$error":"#N/A"}},"","","",{"$f":"IF(C365<>\"\",Data!$M916,\"\")","v":""},null,null,null,null,{"$f":"IF(Dashboard!$R$4=\"All\",Data!G916,IF(Data!K916=Dashboard!$R$4,Data!G916,NA()))","v":{"$error":"#N/A"}},"","","",{"$f":"IF(L365<>\"\",Data!$M916,\"\")","v":""},null,null,null,null,{"$f":"IF(OR(Dashboard!$P$4=\"All\",Dashboard!$R$4=\"All\"),NA(),IF(OR(Data!K916<>Dashboard!$P$4,Data!K916<>Dashboard!$R$4),Data!G916,NA()))","v":24000},null,null,null,null,null,null,null,null,null,null,null,null,null,null,"ID0873",115000,1,null,null,null,null,null,null,null,null,null,null,null,null,null,null,null,null,null,null,null,null,null,null,null,null,null,null,null,null,null,null,null,"ID0873",null,null,115000]
[null,{"$f":"IF(Dashboard!$P$4=\"All\",Data!G917,IF(Data!K917=Dashboard!$P$4,Data!G917,NA()))","v":{"$error":"#N/A"}},"","","",{"$f":"IF(C366<>\"\",Data!$M917,\"\")","v":""},null,null,null,null,{"$f":"IF(Dashboard!$R$4=\"All\",Data!G917,IF(Data!K917=Dashboard!$R$4,Data!G917,NA()))","v":78808.913603364199},78808.913603364199,"","",{"$f":"IF(L366<>\"\",Data!$M917,\"\")","v":10},null,null,null,null,{"$f":"IF(OR(Dashboard!$P$4=\"All\",Dashboard!$R$4=\"All\"),NA(),IF(OR(Data!K917<>Dashboard!$P$4,Data!K917<>Dashboard!$R$4),Data!G917,NA()))","v":78808.913603364199},null,null,null,null,null,null,null,null,null,null,null,null,null,null,"ID0874",70000,1,null,null,null,null,null,null,null,null,null,null,null,null,null,null,null,null,null,null,null,null,null,null,null,null,null,null,null,null,null,null,null,"ID0874",null,null,null,70000]
[null,{"$f":"IF(Dashboard!$P$4=\"All\",Data!G918,IF(Data!K918=Dashboard!$P$4,Data!G918,NA()))","v":{"$error":"#N/A"}},"","","",{"$f":"IF(C367<>\"\",Data!$M918,\"\")","v":""},null,null,null,null,{"$f":"IF(Dashboard!$R$4=\"All\",Data!G918,IF(Data!K918=Dashboard!$R$4,Data!G918,NA()))","v":{"$error":"#N/A"}},"","","",{"$f":"IF(L367<>\"\",Data!$M918,\"\")","v":""},null,null,null,null,{"$f":"IF(OR(Dashboard!$P$4=\"All\",Dashboard!$R$4=\"All\"),NA(),IF(OR(Data!K918<>Dashboard!$P$4,Data!K918<>Dashboard!$R$4),Data!G918,NA()))","v":42000},null,null,null,null,null,null,null,null,null,null,null,null,null,null,"ID0875",60000,1,null,null,null,null,null,null,null,null,null,null,null,null,null,null,null,null,null,null,null,null,null,null,null,null,null,null,null,null,null,null,null,"ID0875",null,60000]
[null,{"$f":"IF(Dashboard!$P$4=\"All\",Data!G919,IF(Data!K919=Dashboard!$P$4,Data!G919,NA()))","v":{"$error":"#N/A"}},"","","",{"$f":"IF(C368<>\"\",Data!$M919,\"\")","v":""},null,null,null,null,{"$f":"IF(Dashboard!$R$4=\"All\",Data!G919,IF(Data!K919=Dashboard!$R$4,Data!G919,NA()))","v":{"$error":"#N/A"}},"","","",{"$f":"IF(L368<>\"\",Data!$M919,\"\")","v":""},null,null,null,null,{"$f":"IF(OR(Dashboard!$P$4=\"All\",Dashboard!$R$4=\"All\"),NA(),IF(OR(Data!K919<>Dashboard!$P$4,Data!K919<>Dashboard!$R$4),Data!G919,NA()))","v":9490.1984044603923},null,null,null,null,null,null,null,null,null,null,null,null,null,null,"ID0876",null,null,87456,1,null,null,null,null,null,null,null,null,null,null,null,null,null,null,null,null,null,null,null,null,null,null,null,null,null,null,null,null,null,"ID0876",null,87456]
[null,{"$f":"IF(Dashboard!$P$4=\"All\",Data!G920,IF(Data!K920=Dashboard!$P$4,Data!G920,NA()))","v":{"$error":"#N/A"}},"","","",{"$f":"IF(C369<>\"\",Data!$M920,\"\")","v":""},null,null,null,null,{"$f":"IF(Dashboard!$R$4=\"All\",Data!G920,IF(Data!K920=Dashboard!$R$4,Data!G920,NA()))","v":{"$error":"#N/A"}},"","","",{"$f":"IF(L369<>\"\",Data!$M920,\"\")","v":""},null,null,null,null,{"$f":"IF(OR(Dashboard!$P$4=\"All\",Dashboard!$R$4=\"All\"),NA(),IF(OR(Data!K920<>Dashboard!$P$4,Data!K920<>Dashboard!$R$4),Data!G920,NA()))","v":60000},null,null,null,null,null,null,null,null,null,null,null,null,null,null,"ID0888",43000,1,null,null,null,null,null,null,null,null,null,null,null,null,null,null,null,null,null,null,null,null,null,null,null,null,null,null,null,null,null,null,null,"ID0888",null,null,43000]
[null,{"$f":"IF(Dashboard!$P$4=\"All\",Data!G921,IF(Data!K921=Dashboard!$P$4,Data!G921,NA()))","v":{"$error":"#N/A"}},"","","",{"$f":"IF(C370<>\"\",Data!$M921,\"\")","v":""},null,null,null,null,{"$f":"IF(Dashboard!$R$4=\"All\",Data!G921,IF(Data!K921=Dashboard!$R$4,Data!G921,NA()))","v":{"$error":"#N/A"}},"","","",{"$f":"IF(L370<>\"\",Data!$M921,\"\")","v":""},null,null,null,null,{"$f":"IF(OR(Dashboard!$P$4=\"All\",Dashboard!$R$4=\"All\"),NA(),IF(OR(Data!K921<>Dashboard!$P$4,Data!K921<>Dashboard!$R$4),Data!G921,NA()))","v":17807.916687442568},null,null,null,null,null,null,null,null,null,null,null,null,null,null,"ID0906",75010,1,null,null,null,null,null,null,null,null,null,null,null,null,null,null,null,null,null,null,null,null,null,null,null,null,null,null,null,null,null,null,null,"ID0906",null,75010]
[null,{"$f":"IF(Dashboard!$P$4=\"All\",Data!G922,IF(Data!K922=Dashboard!$P$4,Data!G922,NA()))","v":{"$error":"#N/A"}},"","","",{"$f":"IF(C371<>\"\",Data!$M922,\"\")","v":""},null,null,null,null,{"$f":"IF(Dashboard!$R$4=\"All\",Data!G922,IF(Data!K922=Dashboard!$R$4,Data!G922,NA()))","v":{"$error":"#N/A"}},"","","",{"$f":"IF(L371<>\"\",Data!$M922,\"\")","v":""},null,null,null,null,{"$f":"IF(OR(Dashboard!$P$4=\"All\",Dashboard!$R$4=\"All\"),NA(),IF(OR(Data!K922<>Dashboard!$P$4,Data!K922<>Dashboard!$R$4),Data!G922,NA()))","v":12465.541681209797},null,null,null,null,null,null,null,null,null,null,null,null,null,null,"ID0927",null,null,null,null,null,null,null,null,null,null,null,null,null,null,150000,1,null,null,null,null,null,null,null,null,null,null,null,null,null,null,null,null,null,"ID0927",null,null,150000]
[null,{"$f":"IF(Dashboard!$P$4=\"All\",Data!G923,IF(Data!K923=Dashboard!$P$4,Data!G923,NA()))","v":{"$error":"#N/A"}},"","","",{"$f":"IF(C372<>\"\",Data!$M923,\"\")","v":""},null,null,null,null,{"$f":"IF(Dashboard!$R$4=\"All\",Data!G923,IF(Data!K923=Dashboard!$R$4,Data!G923,NA()))","v":{"$error":"#N/A"}},"","","",{"$f":"IF(L372<>\"\",Data!$M923,\"\")","v":""},null,null,null,null,{"$f":"IF(OR(Dashboard!$P$4=\"All\",Dashboard!$R$4=\"All\"),NA(),IF(OR(Data!K923<>Dashboard!$P$4,Data!K923<>Dashboard!$R$4),Data!G923,NA()))","v":20571},null,null,null,null,null,null,null,null,null,null,null,null,null,null,"ID0930",105000,1,null,null,null,null,null,null,null,null,null,null,null,null,null,null,null,null,null,null,null,null,null,null,null,null,null,null,null,null,null,null,null,"ID0930",null,null,105000]
[null,{"$f":"IF(Dashboard!$P$4=\"All\",Data!G924,IF(Data!K924=Dashboard!$P$4,Data!G924,NA()))","v":{"$error":"#N/A"}},"","","",{"$f":"IF(C373<>\"\",Data!$M924,\"\")","v":""},null,null,null,null,{"$f":"IF(Dashboard!$R$4=\"All\",Data!G924,IF(Data!K924=Dashboard!$R$4,Data!G924,NA()))","v":{"$error":"#N/A"}},"","","",{"$f":"IF(L373<>\"\",Data!$M924,\"\")","v":""},null,null,null,null,{"$f":"IF(OR(Dashboard!$P$4=\"All\",Dashboard!$R$4=\"All\"),NA(),IF(OR(Data!K924<>Dashboard!$P$4,Data!K924<>Dashboard!$R$4),Data!G924,NA()))","v":3480},null,null,null,null,null,null,null,null,null,null,null,null,null,null,"ID0945",null,null,70000,1,null,null,null,null,null,null,null,null,null,null,null,null,null,null,null,null,null,null,null,null,null,null,null,null,null,null,null,null,null,"ID0945",null,null,70000]
[null,{"$f":"IF(Dashboard!$P$4=\"All\",Data!G925,IF(Data!K925=Dashboard!$P$4,Data!G925,NA()))","v":{"$error":"#N/A"}},"","","",{"$f":"IF(C374<>\"\",Data!$M925,\"\")","v":""},null,null,null,null,{"$f":"IF(Dashboard!$R$4=\"All\",Data!G925,IF(Data!K925=Dashboard!$R$4,Data!G925,NA()))","v":{"$error":"#N/A"}},"","","",{"$f":"IF(L374<>\"\",Data!$M925,\"\")","v":""},null,null,null,null,{"$f":"IF(OR(Dashboard!$P$4=\"All\",Dashboard!$R$4=\"All\"),NA(),IF(OR(Data!K925<>Dashboard!$P$4,Data!K925<>Dashboard!$R$4),Data!G925,NA()))","v":18060},null,null,null,null,null,null,null,null,null,null,null,null,null,null,"ID0953",null,null,null,null,null,null,null,null,57000,1,null,null,null,null,null,null,null,null,null,null,null,null,null,null,null,null,null,null,null,null,null,null,null,"ID0953",null,57000]
[null,{"$f":"IF(Dashboard!$P$4=\"All\",Data!G926,IF(Data!K926=Dashboard!$P$4,Data!G926,NA()))","v":{"$error":"#N/A"}},"","","",{"$f":"IF(C375<>\"\",Data!$M926,\"\")","v":""},null,null,null,null,{"$f":"IF(Dashboard!$R$4=\"All\",Data!G926,IF(Data!K926=Dashboard!$R$4,Data!G926,NA()))","v":{"$error":"#N/A"}},"","","",{"$f":"IF(L375<>\"\",Data!$M926,\"\")","v":""},null,null,null,null,{"$f":"IF(OR(Dashboard!$P$4=\"All\",Dashboard!$R$4=\"All\"),NA(),IF(OR(Data!K926<>Dashboard!$P$4,Data!K926<>Dashboard!$R$4),Data!G926,NA()))","v":30000},null,null,null,null,null,null,null,null,null,null,null,null,null,null,"ID0954",null,null,135000,1,null,null,null,null,null,null,null,null,null,null,null,null,null,null,null,null,null,null,null,null,null,null,null,null,null,null,null,null,null,"ID0954",null,null,null,135000]
[null,{"$f":"IF(Dashboard!$P$4=\"All\",Data!G927,IF(Data!K927=Dashboard!$P$4,Data!G927,NA()))","v":{"$error":"#N/A"}},"","","",{"$f":"IF(C376<>\"\",Data!$M927,\"\")","v":""},null,null,null,null,{"$f":"IF(Dashboard!$R$4=\"All\",Data!G927,IF(Data!K927=Dashboard!$R$4,Data!G927,NA()))","v":{"$error":"#N/A"}},"","","",{"$f":"IF(L376<>\"\",Data!$M927,\"\")","v":""},null,null,null,null,{"$f":"IF(OR(Dashboard!$P$4=\"All\",Dashboard!$R$4=\"All\"),NA(),IF(OR(Data!K927<>Dashboard!$P$4,Data!K927<>Dashboard!$R$4),Data!G927,NA()))","v":24000},null,null,null,null,null,null,null,null,null,null,null,null,null,null,"ID0970",null,null,60000,1,null,null,null,null,null,null,null,null,null,null,null,null,null,null,null,null,null,null,null,null,null,null,null,null,null,null,null,null,null,"ID0970",null,60000]
[null,{"$f":"IF(Dashboard!$P$4=\"All\",Data!G928,IF(Data!K928=Dashboard!$P$4,Data!G928,NA()))","v":{"$error":"#N/A"}},"","","",{"$f":"IF(C377<>\"\",Data!$M928,\"\")","v":""},null,null,null,null,{"$f":"IF(Dashboard!$R$4=\"All\",Data!G928,IF(Data!K928=Dashboard!$R$4,Data!G928,NA()))","v":{"$error":"#N/A"}},"","","",{"$f":"IF(L377<>\"\",Data!$M928,\"\")","v":""},null,null,null,null,{"$f":"IF(OR(Dashboard!$P$4=\"All\",Dashboard!$R$4=\"All\"),NA(),IF(OR(Data!K928<>Dashboard!$P$4,Data!K928<>Dashboard!$R$4),Data!G928,NA()))","v":80289.244544269619},null,null,null,null,null,null,null,null,null,null,null,null,null,null,"ID0981",null,null,null,null,null,null,260000,1,null,null,null,null,null,null,null,null,null,null,null,null,null,null,null,null,null,null,null,null,null,null,null,null,null,"ID0981",null,260000]
[null,{"$f":"IF(Dashboard!$P$4=\"All\",Data!G929,IF(Data!K929=Dashboard!$P$4,Data!G929,NA()))","v":{"$error":"#N/A"}},"","","",{"$f":"IF(C378<>\"\",Data!$M929,\"\")","v":""},null,null,null,null,{"$f":"IF(Dashboard!$R$4=\"All\",Data!G929,IF(Data!K929=Dashboard!$R$4,Data!G929,NA()))","v":{"$error":"#N/A"}},"","","",{"$f":"IF(L378<>\"\",Data!$M929,\"\")","v":""},null,null,null,null,{"$f":"IF(OR(Dashboard!$P$4=\"All\",Dashboard!$R$4=\"All\"),NA(),IF(OR(Data!K929<>Dashboard!$P$4,Data!K929<>Dashboard!$R$4),Data!G929,NA()))","v":70000},null,null,null,null,null,null,null,null,null,null,null,null,null,null,"ID0991",null,null,null,null,null,null,125000,1,null,null,null,null,null,null,null,null,null,null,null,null,null,null,null,null,null,null,null,null,null,null,null,null,null,"ID0991",null,null,125000]
[null,{"$f":"IF(Dashboard!$P$4=\"All\",Data!G930,IF(Data!K930=Dashboard!$P$4,Data!G930,NA()))","v":{"$error":"#N/A"}},"","","",{"$f":"IF(C379<>\"\",Data!$M930,\"\")","v":""},null,null,null,null,{"$f":"IF(Dashboard!$R$4=\"All\",Data!G930,IF(Data!K930=Dashboard!$R$4,Data!G930,NA()))","v":{"$error":"#N/A"}},"","","",{"$f":"IF(L379<>\"\",Data!$M930,\"\")","v":""},null,null,null,null,{"$f":"IF(OR(Dashboard!$P$4=\"All\",Dashboard!$R$4=\"All\"),NA(),IF(OR(Data!K930<>Dashboard!$P$4,Data!K930<>Dashboard!$R$4),Data!G930,NA()))","v":8547.8000099724322},null,null,null,null,null,null,null,null,null,null,null,null,null,null,"ID1006",null,null,null,null,45000,1,null,null,null,null,null,null,null,null,null,null,null,null,null,null,null,null,null,null,null,null,null,null,null,null,null,null,null,"ID1006",null,null,null,45000]
[null,{"$f":"IF(Dashboard!$P$4=\"All\",Data!G931,IF(Data!K931=Dashboard!$P$4,Data!G931,NA()))","v":{"$error":"#N/A"}},"","","",{"$f":"IF(C380<>\"\",Data!$M931,\"\")","v":""},null,null,null,null,{"$f":"IF(Dashboard!$R$4=\"All\",Data!G931,IF(Data!K931=Dashboard!$R$4,Data!G931,NA()))","v":{"$error":"#N/A"}},"","","",{"$f":"IF(L380<>\"\",Data!$M931,\"\")","v":""},null,null,null,null,{"$f":"IF(OR(Dashboard!$P$4=\"All\",Dashboard!$R$4=\"All\"),NA(),IF(OR(Data!K931<>Dashboard!$P$4,Data!K931<>Dashboard!$R$4),Data!G931,NA()))","v":10684.750012465542},null,null,null,null,null,null,null,null,null,null,null,null,null,null,"ID1025",null,null,null,null,null,null,null,null,null,null,null,null,null,null,65000,1,null,null,null,null,null,null,null,null,null,null,null,null,null,null,null,null,null,"ID1025",null,null,65000]
[null,{"$f":"IF(Dashboard!$P$4=\"All\",Data!G932,IF(Data!K932=Dashboard!$P$4,Data!G932,NA()))","v":{"$error":"#N/A"}},"","","",{"$f":"IF(C381<>\"\",Data!$M932,\"\")","v":""},null,null,null,null,{"$f":"IF(Dashboard!$R$4=\"All\",Data!G932,IF(Data!K932=Dashboard!$R$4,Data!G932,NA()))","v":{"$error":"#N/A"}},"","","",{"$f":"IF(L381<>\"\",Data!$M932,\"\")","v":""},null,null,null,null,{"$f":"IF(OR(Dashboard!$P$4=\"All\",Dashboard!$R$4=\"All\"),NA(),IF(OR(Data!K932<>Dashboard!$P$4,Data!K932<>Dashboard!$R$4),Data!G932,NA()))","v":10684.750012465542},null,null,null,null,null,null,null,null,null,null,null,null,null,null,"ID1138",null,null,90000,1,null,null,null,null,null,null,null,null,null,null,null,null,null,null,null,null,null,null,null,null,null,null,null,null,null,null,null,null,null,"ID1138",null,null,90000]
[null,{"$f":"IF(Dashboard!$P$4=\"All\",Data!G933,IF(Data!K933=Dashboard!$P$4,Data!G933,NA()))","v":{"$error":"#N/A"}},"","","",{"$f":"IF(C382<>\"\",Data!$M933,\"\")","v":""},null,null,null,null,{"$f":"IF(Dashboard!$R$4=\"All\",Data!G933,IF(Data!K933=Dashboard!$R$4,Data!G933,NA()))","v":{"$error":"#N/A"}},"","","",{"$f":"IF(L382<>\"\",Data!$M933,\"\")","v":""},null,null,null,null,{"$f":"IF(OR(Dashboard!$P$4=\"All\",Dashboard!$R$4=\"All\"),NA(),IF(OR(Data!K933<>Dashboard!$P$4,Data!K933<>Dashboard!$R$4),Data!G933,NA()))","v":20000},null,null,null,null,null,null,null,null,null,null,null,null,null,null,"ID1144",60000,1,null,null,null,null,null,null,null,null,null,null,null,null,null,null,null,null,null,null,null,null,null,null,null,null,null,null,null,null,null,null,null,"ID1144",null,60000]
[null,{"$f":"IF(Dashboard!$P$4=\"All\",Data!G934,IF(Data!K934=Dashboard!$P$4,Data!G934,NA()))","v":{"$error":"#N/A"}},"","","",{"$f":"IF(C383<>\"\",Data!$M934,\"\")","v":""},null,null,null,null,{"$f":"IF(Dashboard!$R$4=\"All\",Data!G934,IF(Data!K934=Dashboard!$R$4,Data!G934,NA()))","v":{"$error":"#N/A"}},"","","",{"$f":"IF(L383<>\"\",Data!$M934,\"\")","v":""},null,null,null,null,{"$f":"IF(OR(Dashboard!$P$4=\"All\",Dashboard!$R$4=\"All\"),NA(),IF(OR(Data!K934<>Dashboard!$P$4,Data!K934<>Dashboard!$R$4),Data!G934,NA()))","v":53356.776437647524},null,null,null,null,null,null,null,null,null,null,null,null,null,null,"ID1152",35000,1,null,null,null,null,null,null,null,null,null,null,null,null,null,null,null,null,null,null,null,null,null,null,null,null,null,null,null,null,null,null,null,"ID1152",null,null,null,35000]
[null,{"$f":"IF(Dashboard!$P$4=\"All\",Data!G935,IF(Data!K935=Dashboard!$P$4,Data!G935,NA()))","v":{"$error":"#N/A"}},"","","",{"$f":"IF(C384<>\"\",Data!$M935,\"\")","v":""},null,null,null,null,{"$f":"IF(Dashboard!$R$4=\"All\",Data!G935,IF(Data!K935=Dashboard!$R$4,Data!G935,NA()))","v":{"$error":"#N/A"}},"","","",{"$f":"IF(L384<>\"\",Data!$M935,\"\")","v":""},null,null,null,null,{"$f":"IF(OR(Dashboard!$P$4=\"All\",Dashboard!$R$4=\"All\"),NA(),IF(OR(Data!K935<>Dashboard!$P$4,Data!K935<>Dashboard!$R$4),Data!G935,NA()))","v":36000},null,null,null,null,null,null,null,null,null,null,null,null,null,null,"ID1159",69000,1,null,null,null,null,null,null,null,null,null,null,null,null,null,null,null,null,null,null,null,null,null,null,null,null,null,null,null,null,null,null,null,"ID1159",null,69000]
[null,{"$f":"IF(Dashboard!$P$4=\"All\",Data!G936,IF(Data!K936=Dashboard!$P$4,Data!G936,NA()))","v":{"$error":"#N/A"}},"","","",{"$f":"IF(C385<>\"\",Data!$M936,\"\")","v":""},null,null,null,null,{"$f":"IF(Dashboard!$R$4=\"All\",Data!G936,IF(Data!K936=Dashboard!$R$4,Data!G936,NA()))","v":{"$error":"#N/A"}},"","","",{"$f":"IF(L385<>\"\",Data!$M936,\"\")","v":""},null,null,null,null,{"$f":"IF(OR(Dashboard!$P$4=\"All\",Dashboard!$R$4=\"All\"),NA(),IF(OR(Data!K936<>Dashboard!$P$4,Data!K936<>Dashboard!$R$4),Data!G936,NA()))","v":57000},null,null,null,null,null,null,null,null,null,null,null,null,null,null,"ID1167",null,null,null,null,null,null,null,null,null,null,null,null,null,null,75000,1,null,null,null,null,null,null,null,null,null,null,null,null,null,null,null,null,null,"ID1167",null,75000]
[null,{"$f":"IF(Dashboard!$P$4=\"All\",Data!G937,IF(Data!K937=Dashboard!$P$4,Data!G937,NA()))","v":{"$error":"#N/A"}},"","","",{"$f":"IF(C386<>\"\",Data!$M937,\"\")","v":""},null,null,null,null,{"$f":"IF(Dashboard!$R$4=\"All\",Data!G937,IF(Data!K937=Dashboard!$R$4,Data!G937,NA()))","v":{"$error":"#N/A"}},"","","",{"$f":"IF(L386<>\"\",Data!$M937,\"\")","v":""},null,null,null,null,{"$f":"IF(OR(Dashboard!$P$4=\"All\",Dashboard!$R$4=\"All\"),NA(),IF(OR(Data!K937<>Dashboard!$P$4,Data!K937<>Dashboard!$R$4),Data!G937,NA()))","v":135000},null,null,null,null,null,null,null,null,null,null,null,null,null,null,"ID1168",59000,1,null,null,null,null,null,null,null,null,null,null,null,null,null,null,null,null,null,null,null,null,null,null,null,null,null,null,null,null,null,null,null,"ID1168",null,null,59000]
[null,{"$f":"IF(Dashboard!$P$4=\"All\",Data!G938,IF(Data!K938=Dashboard!$P$4,Data!G938,NA()))","v":95279.957924370581},95279.957924370581,95279.957924370581,"",{"$f":"IF(C387<>\"\",Data!$M938,\"\")","v":4},null,null,null,null,{"$f":"IF(Dashboard!$R$4=\"All\",Data!G938,IF(Data!K938=Dashboard!$R$4,Data!G938,NA()))","v":{"$error":"#N/A"}},"","","",{"$f":"IF(L387<>\"\",Data!$M938,\"\")","v":""},null,null,null,null,{"$f":"IF(OR(Dashboard!$P$4=\"All\",Dashboard!$R$4=\"All\"),NA(),IF(OR(Data!K938<>Dashboard!$P$4,Data!K938<>Dashboard!$R$4),Data!G938,NA()))","v":95279.957924370581},null,null,null,null,null,null,null,null,null,null,null,null,null,null,"ID1183",27840,1,null,null,null,null,null,null,null,null,null,null,null,null,null,null,null,null,null,null,null,null,null,null,null,null,null,null,null,null,null,null,null,"ID1183",null,27840]
[null,{"$f":"IF(Dashboard!$P$4=\"All\",Data!G939,IF(Data!K939=Dashboard!$P$4,Data!G939,NA()))","v":57167.974754622352},{"$f":"IF(ISNA(B388),\"\",B388)","v":57167.974754622352},{"$f":"IF(C388>=PERCENTILE($C$3:$C$1337,0.9),C388,\"\")","v":""},{"$f":"IF(C388<=PERCENTILE($C$3:$C$1337,0.1),C388,\"\")","v":""},{"$f":"IF(C388<>\"\",Data!$M939,\"\")","v":10},null,null,null,null,{"$f":"IF(Dashboard!$R$4=\"All\",Data!G939,IF(Data!K939=Dashboard!$R$4,Data!G939,NA()))","v":{"$error":"#N/A"}},{"$f":"IF(ISNA(K388),\"\",K388)","v":""},{"$f":"IF(L388>=PERCENTILE($L$3:$L$1337,0.9),L388,\"\")","v":""},{"$f":"IF(L388<=PERCENTILE($L$3:$L$1337,0.1),L388,\"\")","v":""},{"$f":"IF(L388<>\"\",Data!$M939,\"\")","v":""},null,null,null,null,{"$f":"IF(OR(Dashboard!$P$4=\"All\",Dashboard!$R$4=\"All\"),NA(),IF(OR(Data!K939<>Dashboard!$P$4,Data!K939<>Dashboard!$R$4),Data!G939,NA()))","v":57167.974754622352},null,null,null,null,null,null,null,null,null,null,null,null,null,null,"ID1188",75000,1,null,null,null,null,null,null,null,null,null,null,null,null,null,null,null,null,null,null,null,null,null,null,null,null,null,null,null,null,null,null,null,"ID1188",null,null,75000]
[null,{"$f":"IF(Dashboard!$P$4=\"All\",Data!G940,IF(Data!K940=Dashboard!$P$4,Data!G940,NA()))","v":{"$error":"#N/A"}},"","","",{"$f":"IF(C389<>\"\",Data!$M940,\"\")","v":""},null,null,null,null,{"$f":"IF(Dashboard!$R$4=\"All\",Data!G940,IF(Data!K940=Dashboard!$R$4,Data!G940,NA()))","v":{"$error":"#N/A"}},"","","",{"$f":"IF(L389<>\"\",Data!$M940,\"\")","v":""},null,null,null,null,{"$f":"IF(OR(Dashboard!$P$4=\"All\",Dashboard!$R$4=\"All\"),NA(),IF(OR(Data!K940<>Dashboard!$P$4,Data!K940<>Dashboard!$R$4),Data!G940,NA()))","v":12326.656394453004},null,null,null,null,null,null,null,null,null,null,null,null,null,null,"ID1191",null,null,60000,1,null,null,null,null,null,null,null,null,null,null,null,null,null,null,null,null,null,null,null,null,null,null,null,null,null,null,null,null,null,"ID1191",null,60000]
[null,{"$f":"IF(Dashboard!$P$4=\"All\",Data!G941,IF(Data!K941=Dashboard!$P$4,Data!G941,NA()))","v":{"$error":"#N/A"}},"","","",{"$f":"IF(C390<>\"\",Data!$M941,\"\")","v":""},null,null,null,null,{"$f":"IF(Dashboard!$R$4=\"All\",Data!G941,IF(Data!K941=Dashboard!$R$4,Data!G941,NA()))","v":{"$error":"#N/A"}},"","","",{"$f":"IF(L390<>\"\",Data!$M941,\"\")","v":""},null,null,null,null,{"$f":"IF(OR(Dashboard!$P$4=\"All\",Dashboard!$R$4=\"All\"),NA(),IF(OR(Data!K941<>Dashboard!$P$4,Data!K941<>Dashboard!$R$4),Data!G941,NA()))","v":8000},null,null,null,null,null,null,null,null,null,null,null,null,null,null,"ID1194",56000,1,null,null,null,null,null,null,null,null,null,null,null,null,null,null,null,null,null,null,null,null,null,null,null,null,null,null,null,null,null,null,null,"ID1194",56000]
[null,{"$f":"IF(Dashboard!$P$4=\"All\",Data!G942,IF(Data!K942=Dashboard!$P$4,Data!G942,NA()))","v":{"$error":"#N/A"}},"","","",{"$f":"IF(C391<>\"\",Data!$M942,\"\")","v":""},null,null,null,null,{"$f":"IF(Dashboard!$R$4=\"All\",Data!G942,IF(Data!K942=Dashboard!$R$4,Data!G942,NA()))","v":{"$error":"#N/A"}},"","","",{"$f":"IF(L391<>\"\",Data!$M942,\"\")","v":""},null,null,null,null,{"$f":"IF(OR(Dashboard!$P$4=\"All\",Dashboard!$R$4=\"All\"),NA(),IF(OR(Data!K942<>Dashboard!$P$4,Data!K942<>Dashboard!$R$4),Data!G942,NA()))","v":48000},null,null,null,null,null,null,null,null,null,null,null,null,null,null,"ID1198",null,null,88000,1,null,null,null,null,null,null,null,null,null,null,null,null,null,null,null,null,null,null,null,null,null,null,null,null,null,null,null,null,null,"ID1198",null,null,88000]
[null,{"$f":"IF(Dashboard!$P$4=\"All\",Data!G943,IF(Data!K943=Dashboard!$P$4,Data!G943,NA()))","v":{"$error":"#N/A"}},"","","",{"$f":"IF(C392<>\"\",Data!$M943,\"\")","v":""},null,null,null,null,{"$f":"IF(Dashboard!$R$4=\"All\",Data!G943,IF(Data!K943=Dashboard!$R$4,Data!G943,NA()))","v":{"$error":"#N/A"}},"","","",{"$f":"IF(L392<>\"\",Data!$M943,\"\")","v":""},null,null,null,null,{"$f":"IF(OR(Dashboard!$P$4=\"All\",Dashboard!$R$4=\"All\"),NA(),IF(OR(Data!K943<>Dashboard!$P$4,Data!K943<>Dashboard!$R$4),Data!G943,NA()))","v":40000},null,null,null,null,null,null,null,null,null,null,null,null,null,null,"ID1199",80000,1,null,null,null,null,null,null,null,null,null,null,null,null,null,null,null,null,null,null,null,null,null,null,null,null,null,null,null,null,null,null,null,"ID1199",null,null,80000]
[null,{"$f":"IF(Dashboard!$P$4=\"All\",Data!G944,IF(Data!K944=Dashboard!$P$4,Data!G944,NA()))","v":{"$error":"#N/A"}},"","","",{"$f":"IF(C393<>\"\",Data!$M944,\"\")","v":""},null,null,null,null,{"$f":"IF(Dashboard!$R$4=\"All\",Data!G944,IF(Data!K944=Dashboard!$R$4,Data!G944,NA()))","v":{"$error":"#N/A"}},"","","",{"$f":"IF(L393<>\"\",Data!$M944,\"\")","v":""},null,null,null,null,{"$f":"IF(OR(Dashboard!$P$4=\"All\",Dashboard!$R$4=\"All\"),NA(),IF(OR(Data!K944<>Dashboard!$P$4,Data!K944<>Dashboard!$R$4),Data!G944,NA()))","v":59819.107020370408},null,null,null,null,null,null,null,null,null,null,null,null,null,null,"ID1204",61000,1,null,null,null,null,null,null,null,null,null,null,null,null,null,null,null,null,null,null,null,null,null,null,null,null,null,null,null,null,null,null,null,"ID1204",null,null,61000]
[null,{"$f":"IF(Dashboard!$P$4=\"All\",Data!G945,IF(Data!K945=Dashboard!$P$4,Data!G945,NA()))","v":{"$error":"#N/A"}},"","","",{"$f":"IF(C394<>\"\",Data!$M945,\"\")","v":""},null,null,null,null,{"$f":"IF(Dashboard!$R$4=\"All\",Data!G945,IF(Data!K945=Dashboard!$R$4,Data!G945,NA()))","v":{"$error":"#N/A"}},"","","",{"$f":"IF(L394<>\"\",Data!$M945,\"\")","v":""},null,null,null,null,{"$f":"IF(OR(Dashboard!$P$4=\"All\",Dashboard!$R$4=\"All\"),NA(),IF(OR(Data!K945<>Dashboard!$P$4,Data!K945<>Dashboard!$R$4),Data!G945,NA()))","v":150000},null,null,null,null,null,null,null,null,null,null,null,null,null,null,"ID1211",null,null,null,null,null,null,null,null,60000,1,null,null,null,null,null,null,null,null,null,null,null,null,null,null,null,null,null,null,null,null,null,null,null,"ID1211",60000]
[null,{"$f":"IF(Dashboard!$P$4=\"All\",Data!G946,IF(Data!K946=Dashboard!$P$4,Data!G946,NA()))","v":{"$error":"#N/A"}},"","","",{"$f":"IF(C395<>\"\",Data!$M946,\"\")","v":""},null,null,null,null,{"$f":"IF(Dashboard!$R$4=\"All\",Data!G946,IF(Data!K946=Dashboard!$R$4,Data!G946,NA()))","v":{"$error":"#N/A"}},"","","",{"$f":"IF(L395<>\"\",Data!$M946,\"\")","v":""},null,null,null,null,{"$f":"IF(OR(Dashboard!$P$4=\"All\",Dashboard!$R$4=\"All\"),NA(),IF(OR(Data!K946<>Dashboard!$P$4,Data!K946<>Dashboard!$R$4),Data!G946,NA()))","v":81592.772512210868},null,null,null,null,null,null,null,null,null,null,null,null,null,null,"ID1215",null,null,60000,1,null,null,null,null,null,null,null,null,null,null,null,null,null,null,null,null,null,null,null,null,null,null,null,null,null,null,null,null,null,"ID1215",null,null,60000]
[null,{"$f":"IF(Dashboard!$P$4=\"All\",Data!G947,IF(Data!K947=Dashboard!$P$4,Data!G947,NA()))","v":{"$error":"#N/A"}},"","","",{"$f":"IF(C396<>\"\",Data!$M947,\"\")","v":""},null,null,null,null,{"$f":"IF(Dashboard!$R$4=\"All\",Data!G947,IF(Data!K947=Dashboard!$R$4,Data!G947,NA()))","v":{"$error":"#N/A"}},"","","",{"$f":"IF(L396<>\"\",Data!$M947,\"\")","v":""},null,null,null,null,{"$f":"IF(OR(Dashboard!$P$4=\"All\",Dashboard!$R$4=\"All\"),NA(),IF(OR(Data!K947<>Dashboard!$P$4,Data!K947<>Dashboard!$R$4),Data!G947,NA()))","v":96891.417358250401},null,null,null,null,null,null,null,null,null,null,null,null,null,null,"ID1218",null,null,null,null,null,null,null,null,null,null,74000,1,null,null,null,null,null,null,null,null,null,null,null,null,null,null,null,null,null,null,null,null,null,"ID1218",null,null,74000]
[null,{"$f":"IF(Dashboard!$P$4=\"All\",Data!G948,IF(Data!K948=Dashboard!$P$4,Data!G948,NA()))","v":{"$error":"#N/A"}},"","","",{"$f":"IF(C397<>\"\",Data!$M948,\"\")","v":""},null,null,null,null,{"$f":"IF(Dashboard!$R$4=\"All\",Data!G948,IF(Data!K948=Dashboard!$R$4,Data!G948,NA()))","v":{"$error":"#N/A"}},"","","",{"$f":"IF(L397<>\"\",Data!$M948,\"\")","v":""},null,null,null,null,{"$f":"IF(OR(Dashboard!$P$4=\"All\",Dashboard!$R$4=\"All\"),NA(),IF(OR(Data!K948<>Dashboard!$P$4,Data!K948<>Dashboard!$R$4),Data!G948,NA()))","v":91791.869076237213},null,null,null,null,null,null,null,null,null,null,null,null,null,null,"ID1219",95856,1,null,null,null,null,null,null,null,null,null,null,null,null,null,null,null,null,null,null,null,null,null,null,null,null,null,null,null,null,null,null,null,"ID1219",null,95856]
[null,{"$f":"IF(Dashboard!$P$4=\"All\",Data!G949,IF(Data!K949=Dashboard!$P$4,Data!G949,NA()))","v":{"$error":"#N/A"}},"","","",{"$f":"IF(C398<>\"\",Data!$M949,\"\")","v":""},null,null,null,null,{"$f":"IF(Dashboard!$R$4=\"All\",Data!G949,IF(Data!K949=Dashboard!$R$4,Data!G949,NA()))","v":{"$error":"#N/A"}},"","","",{"$f":"IF(L398<>\"\",Data!$M949,\"\")","v":""},null,null,null,null,{"$f":"IF(OR(Dashboard!$P$4=\"All\",Dashboard!$R$4=\"All\"),NA(),IF(OR(Data!K949<>Dashboard!$P$4,Data!K949<>Dashboard!$R$4),Data!G949,NA()))","v":15000},null,null,null,null,null,null,null,null,null,null,null,null,null,null,"ID1220",null,null,null,null,40000,1,null,null,null,null,null,null,null,null,null,null,null,null,null,null,null,null,null,null,null,null,null,null,null,null,null,null,null,"ID1220",null,40000]
[null,{"$f":"IF(Dashboard!$P$4=\"All\",Data!G950,IF(Data!K950=Dashboard!$P$4,Data!G950,NA()))","v":{"$error":"#N/A"}},"","","",{"$f":"IF(C399<>\"\",Data!$M950,\"\")","v":""},null,null,null,null,{"$f":"IF(Dashboard!$R$4=\"All\",Data!G950,IF(Data!K950=Dashboard!$R$4,Data!G950,NA()))","v":{"$error":"#N/A"}},"","","",{"$f":"IF(L399<>\"\",Data!$M950,\"\")","v":""},null,null,null,null,{"$f":"IF(OR(Dashboard!$P$4=\"All\",Dashboard!$R$4=\"All\"),NA(),IF(OR(Data!K950<>Dashboard!$P$4,Data!K950<>Dashboard!$R$4),Data!G950,NA()))","v":66294.12766617132},null,null,null,null,null,null,null,null,null,null,null,null,null,null,"ID1222",90000,1,null,null,null,null,null,null,null,null,null,null,null,null,null,null,null,null,null,null,null,null,null,null,null,null,null,null,null,null,null,null,null,"ID1222",null,null,90000]
[null,{"$f":"IF(Dashboard!$P$4=\"All\",Data!G951,IF(Data!K951=Dashboard!$P$4,Data!G951,NA()))","v":{"$error":"#N/A"}},"","","",{"$f":"IF(C400<>\"\",Data!$M951,\"\")","v":""},null,null,null,null,{"$f":"IF(Dashboard!$R$4=\"All\",Data!G951,IF(Data!K951=Dashboard!$R$4,Data!G951,NA()))","v":{"$error":"#N/A"}},"","","",{"$f":"IF(L400<>\"\",Data!$M951,\"\")","v":""},null,null,null,null,{"$f":"IF(OR(Dashboard!$P$4=\"All\",Dashboard!$R$4=\"All\"),NA(),IF(OR(Data!K951<>Dashboard!$P$4,Data!K951<>Dashboard!$R$4),Data!G951,NA()))","v":101990.96564026357},null,null,null,null,null,null,null,null,null,null,null,null,null,null,"ID1227",null,null,100000,1,null,null,null,null,null,null,null,null,null,null,null,null,null,null,null,null,null,null,null,null,null,null,null,null,null,null,null,null,null,"ID1227",null,null,100000]
[null,{"$f":"IF(Dashboard!$P$4=\"All\",Data!G952,IF(Data!K952=Dashboard!$P$4,Data!G952,NA()))","v":{"$error":"#N/A"}},"","","",{"$f":"IF(C401<>\"\",Data!$M952,\"\")","v":""},null,null,null,null,{"$f":"IF(Dashboard!$R$4=\"All\",Data!G952,IF(Data!K952=Dashboard!$R$4,Data!G952,NA()))","v":{"$error":"#N/A"}},"","","",{"$f":"IF(L401<>\"\",Data!$M952,\"\")","v":""},null,null,null,null,{"$f":"IF(OR(Dashboard!$P$4=\"All\",Dashboard!$R$4=\"All\"),NA(),IF(OR(Data!K952<>Dashboard!$P$4,Data!K952<>Dashboard!$R$4),Data!G952,NA()))","v":60000},null,null,null,null,null,null,null,null,null,null,null,null,null,null,"ID1244",null,null,null,null,56000,1,null,null,null,null,null,null,null,null,null,null,null,null,null,null,null,null,null,null,null,null,null,null,null,null,null,null,null,"ID1244",null,null,56000]
[null,{"$f":"IF(Dashboard!$P$4=\"All\",Data!G953,IF(Data!K953=Dashboard!$P$4,Data!G953,NA()))","v":{"$error":"#N/A"}},"","","",{"$f":"IF(C402<>\"\",Data!$M953,\"\")","v":""},null,null,null,null,{"$f":"IF(Dashboard!$R$4=\"All\",Data!G953,IF(Data!K953=Dashboard!$R$4,Data!G953,NA()))","v":{"$error":"#N/A"}},"","","",{"$f":"IF(L402<>\"\",Data!$M953,\"\")","v":""},null,null,null,null,{"$f":"IF(OR(Dashboard!$P$4=\"All\",Dashboard!$R$4=\"All\"),NA(),IF(OR(Data!K953<>Dashboard!$P$4,Data!K953<>Dashboard!$R$4),Data!G953,NA()))","v":43856.11522531334},null,null,null,null,null,null,null,null,null,null,null,null,null,null,"ID1248",85000,1,null,null,null,null,null,null,null,null,null,null,null,null,null,null,null,null,null,null,null,null,null,null,null,null,null,null,null,null,null,null,null,"ID1248",null,null,85000]
[null,{"$f":"IF(Dashboard!$P$4=\"All\",Data!G954,IF(Data!K954=Dashboard!$P$4,Data!G954,NA()))","v":{"$error":"#N/A"}},"","","",{"$f":"IF(C403<>\"\",Data!$M954,\"\")","v":""},null,null,null,null,{"$f":"IF(Dashboard!$R$4=\"All\",Data!G954,IF(Data!K954=Dashboard!$R$4,Data!G954,NA()))","v":{"$error":"#N/A"}},"","","",{"$f":"IF(L403<>\"\",Data!$M954,\"\")","v":""},null,null,null,null,{"$f":"IF(OR(Dashboard!$P$4=\"All\",Dashboard!$R$4=\"All\"),NA(),IF(OR(Data!K954<>Dashboard!$P$4,Data!K954<>Dashboard!$R$4),Data!G954,NA()))","v":45616},null,null,null,null,null,null,null,null,null,null,null,null,null,null,"ID1250",55000,1,null,null,null,null,null,null,null,null,null,null,null,null,null,null,null,null,null,null,null,null,null,null,null,null,null,null,null,null,null,null,null,"ID1250",55000]
[null,{"$f":"IF(Dashboard!$P$4=\"All\",Data!G955,IF(Data!K955=Dashboard!$P$4,Data!G955,NA()))","v":{"$error":"#N/A"}},"","","",{"$f":"IF(C404<>\"\",Data!$M955,\"\")","v":""},null,null,null,null,{"$f":"IF(Dashboard!$R$4=\"All\",Data!G955,IF(Data!K955=Dashboard!$R$4,Data!G955,NA()))","v":{"$error":"#N/A"}},"","","",{"$f":"IF(L404<>\"\",Data!$M955,\"\")","v":""},null,null,null,null,{"$f":"IF(OR(Dashboard!$P$4=\"All\",Dashboard!$R$4=\"All\"),NA(),IF(OR(Data!K955<>Dashboard!$P$4,Data!K955<>Dashboard!$R$4),Data!G955,NA()))","v":75770.868892469181},null,null,null,null,null,null,null,null,null,null,null,null,null,null,"ID1253",50846,1,null,null,null,null,null,null,null,null,null,null,null,null,null,null,null,null,null,null,null,null,null,null,null,null,null,null,null,null,null,null,null,"ID1253",null,null,50846]
[null,{"$f":"IF(Dashboard!$P$4=\"All\",Data!G956,IF(Data!K956=Dashboard!$P$4,Data!G956,NA()))","v":{"$error":"#N/A"}},"","","",{"$f":"IF(C405<>\"\",Data!$M956,\"\")","v":""},null,null,null,null,{"$f":"IF(Dashboard!$R$4=\"All\",Data!G956,IF(Data!K956=Dashboard!$R$4,Data!G956,NA()))","v":{"$error":"#N/A"}},"","","",{"$f":"IF(L405<>\"\",Data!$M956,\"\")","v":""},null,null,null,null,{"$f":"IF(OR(Dashboard!$P$4=\"All\",Dashboard!$R$4=\"All\"),NA(),IF(OR(Data!K956<>Dashboard!$P$4,Data!K956<>Dashboard!$R$4),Data!G956,NA()))","v":57726.886552389187},null,null,null,null,null,null,null,null,null,null,null,null,null,null,"ID1254",null,null,null,null,63000,1,null,null,null,null,null,null,null,null,null,null,null,null,null,null,null,null,null,null,null,null,null,null,null,null,null,null,null,"ID1254",null,null,null,63000]
[null,{"$f":"IF(Dashboard!$P$4=\"All\",Data!G957,IF(Data!K957=Dashboard!$P$4,Data!G957,NA()))","v":{"$error":"#N/A"}},"","","",{"$f":"IF(C406<>\"\",Data!$M957,\"\")","v":""},null,null,null,null,{"$f":"IF(Dashboard!$R$4=\"All\",Data!G957,IF(Data!K957=Dashboard!$R$4,Data!G957,NA()))","v":{"$error":"#N/A"}},"","","",{"$f":"IF(L406<>\"\",Data!$M957,\"\")","v":""},null,null,null,null,{"$f":"IF(OR(Dashboard!$P$4=\"All\",Dashboard!$R$4=\"All\"),NA(),IF(OR(Data!K957<>Dashboard!$P$4,Data!K957<>Dashboard!$R$4),Data!G957,NA()))","v":20000},null,null,null,null,null,null,null,null,null,null,null,null,null,null,"ID1258",70000,1,null,null,null,null,null,null,null,null,null,null,null,null,null,null,null,null,null,null,null,null,null,null,null,null,null,null,null,null,null,null,null,"ID1258",70000]
[null,{"$f":"IF(Dashboard!$P$4=\"All\",Data!G958,IF(Data!K958=Dashboard!$P$4,Data!G958,NA()))","v":{"$error":"#N/A"}},"","","",{"$f":"IF(C407<>\"\",Data!$M958,\"\")","v":""},null,null,null,null,{"$f":"IF(Dashboard!$R$4=\"All\",Data!G958,IF(Data!K958=Dashboard!$R$4,Data!G958,NA()))","v":{"$error":"#N/A"}},"","","",{"$f":"IF(L407<>\"\",Data!$M958,\"\")","v":""},null,null,null,null,{"$f":"IF(OR(Dashboard!$P$4=\"All\",Dashboard!$R$4=\"All\"),NA(),IF(OR(Data!K958<>Dashboard!$P$4,Data!K958<>Dashboard!$R$4),Data!G958,NA()))","v":203981.93128052715},null,null,null,null,null,null,null,null,null,null,null,null,null,null,"ID1265",null,null,40000,1,null,null,null,null,null,null,null,null,null,null,null,null,null,null,null,null,null,null,null,null,null,null,null,null,null,null,null,null,null,"ID1265",null,40000]
[null,{"$f":"IF(Dashboard!$P$4=\"All\",Data!G959,IF(Data!K959=Dashboard!$P$4,Data!G959,NA()))","v":{"$error":"#N/A"}},"","","",{"$f":"IF(C408<>\"\",Data!$M959,\"\")","v":""},null,null,null,null,{"$f":"IF(Dashboard!$R$4=\"All\",Data!G959,IF(Data!K959=Dashboard!$R$4,Data!G959,NA()))","v":{"$error":"#N/A"}},"","","",{"$f":"IF(L408<>\"\",Data!$M959,\"\")","v":""},null,null,null,null,{"$f":"IF(OR(Dashboard!$P$4=\"All\",Dashboard!$R$4=\"All\"),NA(),IF(OR(Data!K959<>Dashboard!$P$4,Data!K959<>Dashboard!$R$4),Data!G959,NA()))","v":50995.482820131787},null,null,null,null,null,null,null,null,null,null,null,null,null,null,"ID1266",null,null,null,null,107000,1,null,null,null,null,null,null,null,null,null,null,null,null,null,null,null,null,null,null,null,null,null,null,null,null,null,null,null,"ID1266",null,null,107000]
[null,{"$f":"IF(Dashboard!$P$4=\"All\",Data!G960,IF(Data!K960=Dashboard!$P$4,Data!G960,NA()))","v":{"$error":"#N/A"}},"","","",{"$f":"IF(C409<>\"\",Data!$M960,\"\")","v":""},null,null,null,null,{"$f":"IF(Dashboard!$R$4=\"All\",Data!G960,IF(Data!K960=Dashboard!$R$4,Data!G960,NA()))","v":{"$error":"#N/A"}},"","","",{"$f":"IF(L409<>\"\",Data!$M960,\"\")","v":""},null,null,null,null,{"$f":"IF(OR(Dashboard!$P$4=\"All\",Dashboard!$R$4=\"All\"),NA(),IF(OR(Data!K960<>Dashboard!$P$4,Data!K960<>Dashboard!$R$4),Data!G960,NA()))","v":127488.70705032947},null,null,null,null,null,null,null,null,null,null,null,null,null,null,"ID1267",null,null,82000,1,null,null,null,null,null,null,null,null,null,null,null,null,null,null,null,null,null,null,null,null,null,null,null,null,null,null,null,null,null,"ID1267",null,null,82000]
[null,{"$f":"IF(Dashboard!$P$4=\"All\",Data!G961,IF(Data!K961=Dashboard!$P$4,Data!G961,NA()))","v":{"$error":"#N/A"}},"","","",{"$f":"IF(C410<>\"\",Data!$M961,\"\")","v":""},null,null,null,null,{"$f":"IF(Dashboard!$R$4=\"All\",Data!G961,IF(Data!K961=Dashboard!$R$4,Data!G961,NA()))","v":{"$error":"#N/A"}},"","","",{"$f":"IF(L410<>\"\",Data!$M961,\"\")","v":""},null,null,null,null,{"$f":"IF(OR(Dashboard!$P$4=\"All\",Dashboard!$R$4=\"All\"),NA(),IF(OR(Data!K961<>Dashboard!$P$4,Data!K961<>Dashboard!$R$4),Data!G961,NA()))","v":66294.12766617132},null,null,null,null,null,null,null,null,null,null,null,null,null,null,"ID1271",null,null,null,null,null,null,null,null,null,null,null,null,null,null,69000,1,null,null,null,null,null,null,null,null,null,null,null,null,null,null,null,null,null,"ID1271",null,null,69000]
[null,{"$f":"IF(Dashboard!$P$4=\"All\",Data!G962,IF(Data!K962=Dashboard!$P$4,Data!G962,NA()))","v":{"$error":"#N/A"}},"","","",{"$f":"IF(C411<>\"\",Data!$M962,\"\")","v":""},null,null,null,null,{"$f":"IF(Dashboard!$R$4=\"All\",Data!G962,IF(Data!K962=Dashboard!$R$4,Data!G962,NA()))","v":{"$error":"#N/A"}},"","","",{"$f":"IF(L411<>\"\",Data!$M962,\"\")","v":""},null,null,null,null,{"$f":"IF(OR(Dashboard!$P$4=\"All\",Dashboard!$R$4=\"All\"),NA(),IF(OR(Data!K962<>Dashboard!$P$4,Data!K962<>Dashboard!$R$4),Data!G962,NA()))","v":63234.398696963413},null,null,null,null,null,null,null,null,null,null,null,null,null,null,"ID1275",null,null,70000,1,null,null,null,null,null,null,null,null,null,null,null,null,null,null,null,null,null,null,null,null,null,null,null,null,null,null,null,null,null,"ID1275",null,null,70000]
[null,{"$f":"IF(Dashboard!$P$4=\"All\",Data!G963,IF(Data!K963=Dashboard!$P$4,Data!G963,NA()))","v":{"$error":"#N/A"}},"","","",{"$f":"IF(C412<>\"\",Data!$M963,\"\")","v":""},null,null,null,null,{"$f":"IF(Dashboard!$R$4=\"All\",Data!G963,IF(Data!K963=Dashboard!$R$4,Data!G963,NA()))","v":{"$error":"#N/A"}},"","","",{"$f":"IF(L412<>\"\",Data!$M963,\"\")","v":""},null,null,null,null,{"$f":"IF(OR(Dashboard!$P$4=\"All\",Dashboard!$R$4=\"All\"),NA(),IF(OR(Data!K963<>Dashboard!$P$4,Data!K963<>Dashboard!$R$4),Data!G963,NA()))","v":260000},null,null,null,null,null,null,null,null,null,null,null,null,null,null,"ID1276",45000,1,null,null,null,null,null,null,null,null,null,null,null,null,null,null,null,null,null,null,null,null,null,null,null,null,null,null,null,null,null,null,null,"ID1276",null,null,45000]
[null,{"$f":"IF(Dashboard!$P$4=\"All\",Data!G964,IF(Data!K964=Dashboard!$P$4,Data!G964,NA()))","v":{"$error":"#N/A"}},"","","",{"$f":"IF(C413<>\"\",Data!$M964,\"\")","v":""},null,null,null,null,{"$f":"IF(Dashboard!$R$4=\"All\",Data!G964,IF(Data!K964=Dashboard!$R$4,Data!G964,NA()))","v":{"$error":"#N/A"}},"","","",{"$f":"IF(L413<>\"\",Data!$M964,\"\")","v":""},null,null,null,null,{"$f":"IF(OR(Dashboard!$P$4=\"All\",Dashboard!$R$4=\"All\"),NA(),IF(OR(Data!K964<>Dashboard!$P$4,Data!K964<>Dashboard!$R$4),Data!G964,NA()))","v":112190.06220428993},null,null,null,null,null,null,null,null,null,null,null,null,null,null,"ID1282",50000,1,null,null,null,null,null,null,null,null,null,null,null,null,null,null,null,null,null,null,null,null,null,null,null,null,null,null,null,null,null,null,null,"ID1282",null,null,50000]
[null,{"$f":"IF(Dashboard!$P$4=\"All\",Data!G965,IF(Data!K965=Dashboard!$P$4,Data!G965,NA()))","v":{"$error":"#N/A"}},"","","",{"$f":"IF(C414<>\"\",Data!$M965,\"\")","v":""},null,null,null,null,{"$f":"IF(Dashboard!$R$4=\"All\",Data!G965,IF(Data!K965=Dashboard!$R$4,Data!G965,NA()))","v":{"$error":"#N/A"}},"","","",{"$f":"IF(L414<>\"\",Data!$M965,\"\")","v":""},null,null,null,null,{"$f":"IF(OR(Dashboard!$P$4=\"All\",Dashboard!$R$4=\"All\"),NA(),IF(OR(Data!K965<>Dashboard!$P$4,Data!K965<>Dashboard!$R$4),Data!G965,NA()))","v":71393.675948184507},null,null,null,null,null,null,null,null,null,null,null,null,null,null,"ID1286",null,null,null,null,null,null,192000,1,null,null,null,null,null,null,null,null,null,null,null,null,null,null,null,null,null,null,null,null,null,null,null,null,null,"ID1286",null,null,null,192000]
[null,{"$f":"IF(Dashboard!$P$4=\"All\",Data!G966,IF(Data!K966=Dashboard!$P$4,Data!G966,NA()))","v":{"$error":"#N/A"}},"","","",{"$f":"IF(C415<>\"\",Data!$M966,\"\")","v":""},null,null,null,null,{"$f":"IF(Dashboard!$R$4=\"All\",Data!G966,IF(Data!K966=Dashboard!$R$4,Data!G966,NA()))","v":{"$error":"#N/A"}},"","","",{"$f":"IF(L415<>\"\",Data!$M966,\"\")","v":""},null,null,null,null,{"$f":"IF(OR(Dashboard!$P$4=\"All\",Dashboard!$R$4=\"All\"),NA(),IF(OR(Data!K966<>Dashboard!$P$4,Data!K966<>Dashboard!$R$4),Data!G966,NA()))","v":85000},null,null,null,null,null,null,null,null,null,null,null,null,null,null,"ID1287",54000,1,null,null,null,null,null,null,null,null,null,null,null,null,null,null,null,null,null,null,null,null,null,null,null,null,null,null,null,null,null,null,null,"ID1287",null,null,null,54000]
[null,{"$f":"IF(Dashboard!$P$4=\"All\",Data!G967,IF(Data!K967=Dashboard!$P$4,Data!G967,NA()))","v":{"$error":"#N/A"}},"","","",{"$f":"IF(C416<>\"\",Data!$M967,\"\")","v":""},null,null,null,null,{"$f":"IF(Dashboard!$R$4=\"All\",Data!G967,IF(Data!K967=Dashboard!$R$4,Data!G967,NA()))","v":{"$error":"#N/A"}},"","","",{"$f":"IF(L416<>\"\",Data!$M967,\"\")","v":""},null,null,null,null,{"$f":"IF(OR(Dashboard!$P$4=\"All\",Dashboard!$R$4=\"All\"),NA(),IF(OR(Data!K967<>Dashboard!$P$4,Data!K967<>Dashboard!$R$4),Data!G967,NA()))","v":95871.50770184776},null,null,null,null,null,null,null,null,null,null,null,null,null,null,"ID1296",null,null,null,null,140000,1,null,null,null,null,null,null,null,null,null,null,null,null,null,null,null,null,null,null,null,null,null,null,null,null,null,null,null,"ID1296",null,null,140000]
[null,{"$f":"IF(Dashboard!$P$4=\"All\",Data!G968,IF(Data!K968=Dashboard!$P$4,Data!G968,NA()))","v":{"$error":"#N/A"}},"","","",{"$f":"IF(C417<>\"\",Data!$M968,\"\")","v":""},null,null,null,null,{"$f":"IF(Dashboard!$R$4=\"All\",Data!G968,IF(Data!K968=Dashboard!$R$4,Data!G968,NA()))","v":{"$error":"#N/A"}},"","","",{"$f":"IF(L417<>\"\",Data!$M968,\"\")","v":""},null,null,null,null,{"$f":"IF(OR(Dashboard!$P$4=\"All\",Dashboard!$R$4=\"All\"),NA(),IF(OR(Data!K968<>Dashboard!$P$4,Data!K968<>Dashboard!$R$4),Data!G968,NA()))","v":109130.33323508203},null,null,null,null,null,null,null,null,null,null,null,null,null,null,"ID1303",null,null,80000,1,null,null,null,null,null,null,null,null,null,null,null,null,null,null,null,null,null,null,null,null,null,null,null,null,null,null,null,null,null,"ID1303",80000]
[null,{"$f":"IF(Dashboard!$P$4=\"All\",Data!G969,IF(Data!K969=Dashboard!$P$4,Data!G969,NA()))","v":{"$error":"#N/A"}},"","","",{"$f":"IF(C418<>\"\",Data!$M969,\"\")","v":""},null,null,null,null,{"$f":"IF(Dashboard!$R$4=\"All\",Data!G969,IF(Data!K969=Dashboard!$R$4,Data!G969,NA()))","v":{"$error":"#N/A"}},"","","",{"$f":"IF(L418<>\"\",Data!$M969,\"\")","v":""},null,null,null,null,{"$f":"IF(OR(Dashboard!$P$4=\"All\",Dashboard!$R$4=\"All\"),NA(),IF(OR(Data!K969<>Dashboard!$P$4,Data!K969<>Dashboard!$R$4),Data!G969,NA()))","v":36000},null,null,null,null,null,null,null,null,null,null,null,null,null,null,"ID1346",49500,1,null,null,null,null,null,null,null,null,null,null,null,null,null,null,null,null,null,null,null,null,null,null,null,null,null,null,null,null,null,null,null,"ID1346",null,null,49500]
[null,{"$f":"IF(Dashboard!$P$4=\"All\",Data!G970,IF(Data!K970=Dashboard!$P$4,Data!G970,NA()))","v":{"$error":"#N/A"}},"","","",{"$f":"IF(C419<>\"\",Data!$M970,\"\")","v":""},null,null,null,null,{"$f":"IF(Dashboard!$R$4=\"All\",Data!G970,IF(Data!K970=Dashboard!$R$4,Data!G970,NA()))","v":{"$error":"#N/A"}},"","","",{"$f":"IF(L419<>\"\",Data!$M970,\"\")","v":""},null,null,null,null,{"$f":"IF(OR(Dashboard!$P$4=\"All\",Dashboard!$R$4=\"All\"),NA(),IF(OR(Data!K970<>Dashboard!$P$4,Data!K970<>Dashboard!$R$4),Data!G970,NA()))","v":122389.15876831629},null,null,null,null,null,null,null,null,null,null,null,null,null,null,"ID1352",80000,1,null,null,null,null,null,null,null,null,null,null,null,null,null,null,null,null,null,null,null,null,null,null,null,null,null,null,null,null,null,null,null,"ID1352",80000]
[null,{"$f":"IF(Dashboard!$P$4=\"All\",Data!G971,IF(Data!K971=Dashboard!$P$4,Data!G971,NA()))","v":{"$error":"#N/A"}},"","","",{"$f":"IF(C420<>\"\",Data!$M971,\"\")","v":""},null,null,null,null,{"$f":"IF(Dashboard!$R$4=\"All\",Data!G971,IF(Data!K971=Dashboard!$R$4,Data!G971,NA()))","v":{"$error":"#N/A"}},"","","",{"$f":"IF(L420<>\"\",Data!$M971,\"\")","v":""},null,null,null,null,{"$f":"IF(OR(Dashboard!$P$4=\"All\",Dashboard!$R$4=\"All\"),NA(),IF(OR(Data!K971<>Dashboard!$P$4,Data!K971<>Dashboard!$R$4),Data!G971,NA()))","v":53035.30213293706},null,null,null,null,null,null,null,null,null,null,null,null,null,null,"ID1355",null,null,125000,1,null,null,null,null,null,null,null,null,null,null,null,null,null,null,null,null,null,null,null,null,null,null,null,null,null,null,null,null,null,"ID1355",null,null,125000]
[null,{"$f":"IF(Dashboard!$P$4=\"All\",Data!G972,IF(Data!K972=Dashboard!$P$4,Data!G972,NA()))","v":{"$error":"#N/A"}},"","","",{"$f":"IF(C421<>\"\",Data!$M972,\"\")","v":""},null,null,null,null,{"$f":"IF(Dashboard!$R$4=\"All\",Data!G972,IF(Data!K972=Dashboard!$R$4,Data!G972,NA()))","v":{"$error":"#N/A"}},"","","",{"$f":"IF(L421<>\"\",Data!$M972,\"\")","v":""},null,null,null,null,{"$f":"IF(OR(Dashboard!$P$4=\"All\",Dashboard!$R$4=\"All\"),NA(),IF(OR(Data!K972<>Dashboard!$P$4,Data!K972<>Dashboard!$R$4),Data!G972,NA()))","v":125000},null,null,null,null,null,null,null,null,null,null,null,null,null,null,"ID1357",null,null,null,null,null,null,105000,1,null,null,null,null,null,null,null,null,null,null,null,null,null,null,null,null,null,null,null,null,null,null,null,null,null,"ID1357",105000]
[null,{"$f":"IF(Dashboard!$P$4=\"All\",Data!G973,IF(Data!K973=Dashboard!$P$4,Data!G973,NA()))","v":{"$error":"#N/A"}},"","","",{"$f":"IF(C422<>\"\",Data!$M973,\"\")","v":""},null,null,null,null,{"$f":"IF(Dashboard!$R$4=\"All\",Data!G973,IF(Data!K973=Dashboard!$R$4,Data!G973,NA()))","v":{"$error":"#N/A"}},"","","",{"$f":"IF(L422<>\"\",Data!$M973,\"\")","v":""},null,null,null,null,{"$f":"IF(OR(Dashboard!$P$4=\"All\",Dashboard!$R$4=\"All\"),NA(),IF(OR(Data!K973<>Dashboard!$P$4,Data!K973<>Dashboard!$R$4),Data!G973,NA()))","v":19000},null,null,null,null,null,null,null,null,null,null,null,null,null,null,"ID1359",75000,1,null,null,null,null,null,null,null,null,null,null,null,null,null,null,null,null,null,null,null,null,null,null,null,null,null,null,null,null,null,null,null,"ID1359",null,null,75000]
[null,{"$f":"IF(Dashboard!$P$4=\"All\",Data!G974,IF(Data!K974=Dashboard!$P$4,Data!G974,NA()))","v":{"$error":"#N/A"}},"","","",{"$f":"IF(C423<>\"\",Data!$M974,\"\")","v":""},null,null,null,null,{"$f":"IF(Dashboard!$R$4=\"All\",Data!G974,IF(Data!K974=Dashboard!$R$4,Data!G974,NA()))","v":{"$error":"#N/A"}},"","","",{"$f":"IF(L423<>\"\",Data!$M974,\"\")","v":""},null,null,null,null,{"$f":"IF(OR(Dashboard!$P$4=\"All\",Dashboard!$R$4=\"All\"),NA(),IF(OR(Data!K974<>Dashboard!$P$4,Data!K974<>Dashboard!$R$4),Data!G974,NA()))","v":93831.688389042494},null,null,null,null,null,null,null,null,null,null,null,null,null,null,"ID1361",110000,1,null,null,null,null,null,null,null,null,null,null,null,null,null,null,null,null,null,null,null,null,null,null,null,null,null,null,null,null,null,null,null,"ID1361",110000]
[null,{"$f":"IF(Dashboard!$P$4=\"All\",Data!G975,IF(Data!K975=Dashboard!$P$4,Data!G975,NA()))","v":{"$error":"#N/A"}},"","","",{"$f":"IF(C424<>\"\",Data!$M975,\"\")","v":""},null,null,null,null,{"$f":"IF(Dashboard!$R$4=\"All\",Data!G975,IF(Data!K975=Dashboard!$R$4,Data!G975,NA()))","v":{"$error":"#N/A"}},"","","",{"$f":"IF(L424<>\"\",Data!$M975,\"\")","v":""},null,null,null,null,{"$f":"IF(OR(Dashboard!$P$4=\"All\",Dashboard!$R$4=\"All\"),NA(),IF(OR(Data!K975<>Dashboard!$P$4,Data!K975<>Dashboard!$R$4),Data!G975,NA()))","v":101990.96564026357},null,null,null,null,null,null,null,null,null,null,null,null,null,null,"ID1364",null,null,125000,1,null,null,null,null,null,null,null,null,null,null,null,null,null,null,null,null,null,null,null,null,null,null,null,null,null,null,null,null,null,"ID1364",null,null,125000]
[null,{"$f":"IF(Dashboard!$P$4=\"All\",Data!G976,IF(Data!K976=Dashboard!$P$4,Data!G976,NA()))","v":{"$error":"#N/A"}},"","","",{"$f":"IF(C425<>\"\",Data!$M976,\"\")","v":""},null,null,null,null,{"$f":"IF(Dashboard!$R$4=\"All\",Data!G976,IF(Data!K976=Dashboard!$R$4,Data!G976,NA()))","v":{"$error":"#N/A"}},"","","",{"$f":"IF(L425<>\"\",Data!$M976,\"\")","v":""},null,null,null,null,{"$f":"IF(OR(Dashboard!$P$4=\"All\",Dashboard!$R$4=\"All\"),NA(),IF(OR(Data!K976<>Dashboard!$P$4,Data!K976<>Dashboard!$R$4),Data!G976,NA()))","v":122389.15876831629},null,null,null,null,null,null,null,null,null,null,null,null,null,null,"ID1365",60000,1,null,null,null,null,null,null,null,null,null,null,null,null,null,null,null,null,null,null,null,null,null,null,null,null,null,null,null,null,null,null,null,"ID1365",null,null,null,60000]
[null,{"$f":"IF(Dashboard!$P$4=\"All\",Data!G977,IF(Data!K977=Dashboard!$P$4,Data!G977,NA()))","v":{"$error":"#N/A"}},"","","",{"$f":"IF(C426<>\"\",Data!$M977,\"\")","v":""},null,null,null,null,{"$f":"IF(Dashboard!$R$4=\"All\",Data!G977,IF(Data!K977=Dashboard!$R$4,Data!G977,NA()))","v":{"$error":"#N/A"}},"","","",{"$f":"IF(L426<>\"\",Data!$M977,\"\")","v":""},null,null,null,null,{"$f":"IF(OR(Dashboard!$P$4=\"All\",Dashboard!$R$4=\"All\"),NA(),IF(OR(Data!K977<>Dashboard!$P$4,Data!K977<>Dashboard!$R$4),Data!G977,NA()))","v":34417.653306061438},null,null,null,null,null,null,null,null,null,null,null,null,null,null,"ID1369",null,null,57500,1,null,null,null,null,null,null,null,null,null,null,null,null,null,null,null,null,null,null,null,null,null,null,null,null,null,null,null,null,null,"ID1369",null,null,57500]
[null,{"$f":"IF(Dashboard!$P$4=\"All\",Data!G978,IF(Data!K978=Dashboard!$P$4,Data!G978,NA()))","v":{"$error":"#N/A"}},"","","",{"$f":"IF(C427<>\"\",Data!$M978,\"\")","v":""},null,null,null,null,{"$f":"IF(Dashboard!$R$4=\"All\",Data!G978,IF(Data!K978=Dashboard!$R$4,Data!G978,NA()))","v":{"$error":"#N/A"}},"","","",{"$f":"IF(L427<>\"\",Data!$M978,\"\")","v":""},null,null,null,null,{"$f":"IF(OR(Dashboard!$P$4=\"All\",Dashboard!$R$4=\"All\"),NA(),IF(OR(Data!K978<>Dashboard!$P$4,Data!K978<>Dashboard!$R$4),Data!G978,NA()))","v":12000},null,null,null,null,null,null,null,null,null,null,null,null,null,null,"ID1371",null,null,80000,1,null,null,null,null,null,null,null,null,null,null,null,null,null,null,null,null,null,null,null,null,null,null,null,null,null,null,null,null,null,"ID1371",null,null,80000]
[null,{"$f":"IF(Dashboard!$P$4=\"All\",Data!G979,IF(Data!K979=Dashboard!$P$4,Data!G979,NA()))","v":{"$error":"#N/A"}},"","","",{"$f":"IF(C428<>\"\",Data!$M979,\"\")","v":""},null,null,null,null,{"$f":"IF(Dashboard!$R$4=\"All\",Data!G979,IF(Data!K979=Dashboard!$R$4,Data!G979,NA()))","v":{"$error":"#N/A"}},"","","",{"$f":"IF(L428<>\"\",Data!$M979,\"\")","v":""},null,null,null,null,{"$f":"IF(OR(Dashboard!$P$4=\"All\",Dashboard!$R$4=\"All\"),NA(),IF(OR(Data!K979<>Dashboard!$P$4,Data!K979<>Dashboard!$R$4),Data!G979,NA()))","v":3632.815004238284},null,null,null,null,null,null,null,null,null,null,null,null,null,null,"ID1373",null,null,null,null,null,null,null,null,null,null,null,null,null,null,33000,1,null,null,null,null,null,null,null,null,null,null,null,null,null,null,null,null,null,"ID1373",null,null,33000]
[null,{"$f":"IF(Dashboard!$P$4=\"All\",Data!G980,IF(Data!K980=Dashboard!$P$4,Data!G980,NA()))","v":{"$error":"#N/A"}},"","","",{"$f":"IF(C429<>\"\",Data!$M980,\"\")","v":""},null,null,null,null,{"$f":"IF(Dashboard!$R$4=\"All\",Data!G980,IF(Data!K980=Dashboard!$R$4,Data!G980,NA()))","v":{"$error":"#N/A"}},"","","",{"$f":"IF(L429<>\"\",Data!$M980,\"\")","v":""},null,null,null,null,{"$f":"IF(OR(Dashboard!$P$4=\"All\",Dashboard!$R$4=\"All\"),NA(),IF(OR(Data!K980<>Dashboard!$P$4,Data!K980<>Dashboard!$R$4),Data!G980,NA()))","v":21369.500024931083},null,null,null,null,null,null,null,null,null,null,null,null,null,null,"ID1374",100000,1,null,null,null,null,null,null,null,null,null,null,null,null,null,null,null,null,null,null,null,null,null,null,null,null,null,null,null,null,null,null,null,"ID1374",null,null,100000]
[null,{"$f":"IF(Dashboard!$P$4=\"All\",Data!G981,IF(Data!K981=Dashboard!$P$4,Data!G981,NA()))","v":{"$error":"#N/A"}},"","","",{"$f":"IF(C430<>\"\",Data!$M981,\"\")","v":""},null,null,null,null,{"$f":"IF(Dashboard!$R$4=\"All\",Data!G981,IF(Data!K981=Dashboard!$R$4,Data!G981,NA()))","v":{"$error":"#N/A"}},"","","",{"$f":"IF(L430<>\"\",Data!$M981,\"\")","v":""},null,null,null,null,{"$f":"IF(OR(Dashboard!$P$4=\"All\",Dashboard!$R$4=\"All\"),NA(),IF(OR(Data!K981<>Dashboard!$P$4,Data!K981<>Dashboard!$R$4),Data!G981,NA()))","v":8903.9583437212841},null,null,null,null,null,null,null,null,null,null,null,null,null,null,"ID1375",null,null,60000,1,null,null,null,null,null,null,null,null,null,null,null,null,null,null,null,null,null,null,null,null,null,null,null,null,null,null,null,null,null,"ID1375",null,60000]
[null,{"$f":"IF(Dashboard!$P$4=\"All\",Data!G982,IF(Data!K982=Dashboard!$P$4,Data!G982,NA()))","v":{"$error":"#N/A"}},"","","",{"$f":"IF(C431<>\"\",Data!$M982,\"\")","v":""},null,null,null,null,{"$f":"IF(Dashboard!$R$4=\"All\",Data!G982,IF(Data!K982=Dashboard!$R$4,Data!G982,NA()))","v":{"$error":"#N/A"}},"","","",{"$f":"IF(L431<>\"\",Data!$M982,\"\")","v":""},null,null,null,null,{"$f":"IF(OR(Dashboard!$P$4=\"All\",Dashboard!$R$4=\"All\"),NA(),IF(OR(Data!K982<>Dashboard!$P$4,Data!K982<>Dashboard!$R$4),Data!G982,NA()))","v":15206.427249917633},null,null,null,null,null,null,null,null,null,null,null,null,null,null,"ID1376",95000,1,null,null,null,null,null,null,null,null,null,null,null,null,null,null,null,null,null,null,null,null,null,null,null,null,null,null,null,null,null,null,null,"ID1376",null,95000]
[null,{"$f":"IF(Dashboard!$P$4=\"All\",Data!G983,IF(Data!K983=Dashboard!$P$4,Data!G983,NA()))","v":{"$error":"#N/A"}},"","","",{"$f":"IF(C432<>\"\",Data!$M983,\"\")","v":""},null,null,null,null,{"$f":"IF(Dashboard!$R$4=\"All\",Data!G983,IF(Data!K983=Dashboard!$R$4,Data!G983,NA()))","v":{"$error":"#N/A"}},"","","",{"$f":"IF(L432<>\"\",Data!$M983,\"\")","v":""},null,null,null,null,{"$f":"IF(OR(Dashboard!$P$4=\"All\",Dashboard!$R$4=\"All\"),NA(),IF(OR(Data!K983<>Dashboard!$P$4,Data!K983<>Dashboard!$R$4),Data!G983,NA()))","v":143565.85684888897},null,null,null,null,null,null,null,null,null,null,null,null,null,null,"ID1377",24000,1,null,null,null,null,null,null,null,null,null,null,null,null,null,null,null,null,null,null,null,null,null,null,null,null,null,null,null,null,null,null,null,"ID1377",24000]
[null,{"$f":"IF(Dashboard!$P$4=\"All\",Data!G984,IF(Data!K984=Dashboard!$P$4,Data!G984,NA()))","v":{"$error":"#N/A"}},"","","",{"$f":"IF(C433<>\"\",Data!$M984,\"\")","v":""},null,null,null,null,{"$f":"IF(Dashboard!$R$4=\"All\",Data!G984,IF(Data!K984=Dashboard!$R$4,Data!G984,NA()))","v":{"$error":"#N/A"}},"","","",{"$f":"IF(L433<>\"\",Data!$M984,\"\")","v":""},null,null,null,null,{"$f":"IF(OR(Dashboard!$P$4=\"All\",Dashboard!$R$4=\"All\"),NA(),IF(OR(Data!K984<>Dashboard!$P$4,Data!K984<>Dashboard!$R$4),Data!G984,NA()))","v":9705.3145946561999},null,null,null,null,null,null,null,null,null,null,null,null,null,null,"ID1378",null,null,null,null,null,null,null,null,50000,1,null,null,null,null,null,null,null,null,null,null,null,null,null,null,null,null,null,null,null,null,null,null,null,"ID1378",null,null,50000]
[null,{"$f":"IF(Dashboard!$P$4=\"All\",Data!G985,IF(Data!K985=Dashboard!$P$4,Data!G985,NA()))","v":{"$error":"#N/A"}},"","","",{"$f":"IF(C434<>\"\",Data!$M985,\"\")","v":""},null,null,null,null,{"$f":"IF(Dashboard!$R$4=\"All\",Data!G985,IF(Data!K985=Dashboard!$R$4,Data!G985,NA()))","v":{"$error":"#N/A"}},"","","",{"$f":"IF(L434<>\"\",Data!$M985,\"\")","v":""},null,null,null,null,{"$f":"IF(OR(Dashboard!$P$4=\"All\",Dashboard!$R$4=\"All\"),NA(),IF(OR(Data!K985<>Dashboard!$P$4,Data!K985<>Dashboard!$R$4),Data!G985,NA()))","v":17807.916687442568},null,null,null,null,null,null,null,null,null,null,null,null,null,null,"ID1379",null,null,null,null,null,null,null,null,null,null,null,null,null,null,103000,1,null,null,null,null,null,null,null,null,null,null,null,null,null,null,null,null,null,"ID1379",null,null,103000]
[null,{"$f":"IF(Dashboard!$P$4=\"All\",Data!G986,IF(Data!K986=Dashboard!$P$4,Data!G986,NA()))","v":{"$error":"#N/A"}},"","","",{"$f":"IF(C435<>\"\",Data!$M986,\"\")","v":""},null,null,null,null,{"$f":"IF(Dashboard!$R$4=\"All\",Data!G986,IF(Data!K986=Dashboard!$R$4,Data!G986,NA()))","v":{"$error":"#N/A"}},"","","",{"$f":"IF(L435<>\"\",Data!$M986,\"\")","v":""},null,null,null,null,{"$f":"IF(OR(Dashboard!$P$4=\"All\",Dashboard!$R$4=\"All\"),NA(),IF(OR(Data!K986<>Dashboard!$P$4,Data!K986<>Dashboard!$R$4),Data!G986,NA()))","v":3205.4250037396623},null,null,null,null,null,null,null,null,null,null,null,null,null,null,"ID1380",null,null,null,null,null,null,null,null,null,null,36000,1,null,null,null,null,null,null,null,null,null,null,null,null,null,null,null,null,null,null,null,null,null,"ID1380",null,null,null,36000]
[null,{"$f":"IF(Dashboard!$P$4=\"All\",Data!G987,IF(Data!K987=Dashboard!$P$4,Data!G987,NA()))","v":{"$error":"#N/A"}},"","","",{"$f":"IF(C436<>\"\",Data!$M987,\"\")","v":""},null,null,null,null,{"$f":"IF(Dashboard!$R$4=\"All\",Data!G987,IF(Data!K987=Dashboard!$R$4,Data!G987,NA()))","v":{"$error":"#N/A"}},"","","",{"$f":"IF(L436<>\"\",Data!$M987,\"\")","v":""},null,null,null,null,{"$f":"IF(OR(Dashboard!$P$4=\"All\",Dashboard!$R$4=\"All\"),NA(),IF(OR(Data!K987<>Dashboard!$P$4,Data!K987<>Dashboard!$R$4),Data!G987,NA()))","v":45000},null,null,null,null,null,null,null,null,null,null,null,null,null,null,"ID1381",85000,1,null,null,null,null,null,null,null,null,null,null,null,null,null,null,null,null,null,null,null,null,null,null,null,null,null,null,null,null,null,null,null,"ID1381",null,null,85000]
[null,{"$f":"IF(Dashboard!$P$4=\"All\",Data!G988,IF(Data!K988=Dashboard!$P$4,Data!G988,NA()))","v":{"$error":"#N/A"}},"","","",{"$f":"IF(C437<>\"\",Data!$M988,\"\")","v":""},null,null,null,null,{"$f":"IF(Dashboard!$R$4=\"All\",Data!G988,IF(Data!K988=Dashboard!$R$4,Data!G988,NA()))","v":{"$error":"#N/A"}},"","","",{"$f":"IF(L437<>\"\",Data!$M988,\"\")","v":""},null,null,null,null,{"$f":"IF(OR(Dashboard!$P$4=\"All\",Dashboard!$R$4=\"All\"),NA(),IF(OR(Data!K988<>Dashboard!$P$4,Data!K988<>Dashboard!$R$4),Data!G988,NA()))","v":12465.541681209797},null,null,null,null,null,null,null,null,null,null,null,null,null,null,"ID1384",null,null,null,null,null,null,null,null,85000,1,null,null,null,null,null,null,null,null,null,null,null,null,null,null,null,null,null,null,null,null,null,null,null,"ID1384",null,85000]
[null,{"$f":"IF(Dashboard!$P$4=\"All\",Data!G989,IF(Data!K989=Dashboard!$P$4,Data!G989,NA()))","v":{"$error":"#N/A"}},"","","",{"$f":"IF(C438<>\"\",Data!$M989,\"\")","v":""},null,null,null,null,{"$f":"IF(Dashboard!$R$4=\"All\",Data!G989,IF(Data!K989=Dashboard!$R$4,Data!G989,NA()))","v":{"$error":"#N/A"}},"","","",{"$f":"IF(L438<>\"\",Data!$M989,\"\")","v":""},null,null,null,null,{"$f":"IF(OR(Dashboard!$P$4=\"All\",Dashboard!$R$4=\"All\"),NA(),IF(OR(Data!K989<>Dashboard!$P$4,Data!K989<>Dashboard!$R$4),Data!G989,NA()))","v":95871.50770184776},null,null,null,null,null,null,null,null,null,null,null,null,null,null,"ID1385",null,null,120000,1,null,null,null,null,null,null,null,null,null,null,null,null,null,null,null,null,null,null,null,null,null,null,null,null,null,null,null,null,null,"ID1385",null,120000]
[null,{"$f":"IF(Dashboard!$P$4=\"All\",Data!G990,IF(Data!K990=Dashboard!$P$4,Data!G990,NA()))","v":{"$error":"#N/A"}},"","","",{"$f":"IF(C439<>\"\",Data!$M990,\"\")","v":""},null,null,null,null,{"$f":"IF(Dashboard!$R$4=\"All\",Data!G990,IF(Data!K990=Dashboard!$R$4,Data!G990,NA()))","v":{"$error":"#N/A"}},"","","",{"$f":"IF(L439<>\"\",Data!$M990,\"\")","v":""},null,null,null,null,{"$f":"IF(OR(Dashboard!$P$4=\"All\",Dashboard!$R$4=\"All\"),NA(),IF(OR(Data!K990<>Dashboard!$P$4,Data!K990<>Dashboard!$R$4),Data!G990,NA()))","v":173384.64158844808},null,null,null,null,null,null,null,null,null,null,null,null,null,null,"ID1386",null,null,null,null,null,null,null,null,69960,1,null,null,null,null,null,null,null,null,null,null,null,null,null,null,null,null,null,null,null,null,null,null,null,"ID1386",null,69960]
[null,{"$f":"IF(Dashboard!$P$4=\"All\",Data!G991,IF(Data!K991=Dashboard!$P$4,Data!G991,NA()))","v":{"$error":"#N/A"}},"","","",{"$f":"IF(C440<>\"\",Data!$M991,\"\")","v":""},null,null,null,null,{"$f":"IF(Dashboard!$R$4=\"All\",Data!G991,IF(Data!K991=Dashboard!$R$4,Data!G991,NA()))","v":{"$error":"#N/A"}},"","","",{"$f":"IF(L440<>\"\",Data!$M991,\"\")","v":""},null,null,null,null,{"$f":"IF(OR(Dashboard!$P$4=\"All\",Dashboard!$R$4=\"All\"),NA(),IF(OR(Data!K991<>Dashboard!$P$4,Data!K991<>Dashboard!$R$4),Data!G991,NA()))","v":11575.14584683767},null,null,null,null,null,null,null,null,null,null,null,null,null,null,"ID1387",null,null,97000,1,null,null,null,null,null,null,null,null,null,null,null,null,null,null,null,null,null,null,null,null,null,null,null,null,null,null,null,null,null,"ID1387",null,null,97000]
[null,{"$f":"IF(Dashboard!$P$4=\"All\",Data!G992,IF(Data!K992=Dashboard!$P$4,Data!G992,NA()))","v":{"$error":"#N/A"}},"","","",{"$f":"IF(C441<>\"\",Data!$M992,\"\")","v":""},null,null,null,null,{"$f":"IF(Dashboard!$R$4=\"All\",Data!G992,IF(Data!K992=Dashboard!$R$4,Data!G992,NA()))","v":{"$error":"#N/A"}},"","","",{"$f":"IF(L441<>\"\",Data!$M992,\"\")","v":""},null,null,null,null,{"$f":"IF(OR(Dashboard!$P$4=\"All\",Dashboard!$R$4=\"All\"),NA(),IF(OR(Data!K992<>Dashboard!$P$4,Data!K992<>Dashboard!$R$4),Data!G992,NA()))","v":18000},null,null,null,null,null,null,null,null,null,null,null,null,null,null,"ID1391",null,null,null,null,null,null,null,null,null,null,62000,1,null,null,null,null,null,null,null,null,null,null,null,null,null,null,null,null,null,null,null,null,null,"ID1391",null,null,null,62000]
[null,{"$f":"IF(Dashboard!$P$4=\"All\",Data!G993,IF(Data!K993=Dashboard!$P$4,Data!G993,NA()))","v":{"$error":"#N/A"}},"","","",{"$f":"IF(C442<>\"\",Data!$M993,\"\")","v":""},null,null,null,null,{"$f":"IF(Dashboard!$R$4=\"All\",Data!G993,IF(Data!K993=Dashboard!$R$4,Data!G993,NA()))","v":{"$error":"#N/A"}},"","","",{"$f":"IF(L442<>\"\",Data!$M993,\"\")","v":""},null,null,null,null,{"$f":"IF(OR(Dashboard!$P$4=\"All\",Dashboard!$R$4=\"All\"),NA(),IF(OR(Data!K993<>Dashboard!$P$4,Data!K993<>Dashboard!$R$4),Data!G993,NA()))","v":71393.675948184507},null,null,null,null,null,null,null,null,null,null,null,null,null,null,"ID1392",null,null,null,null,null,null,null,null,44000,1,null,null,null,null,null,null,null,null,null,null,null,null,null,null,null,null,null,null,null,null,null,null,null,"ID1392",null,null,44000]
[null,{"$f":"IF(Dashboard!$P$4=\"All\",Data!G994,IF(Data!K994=Dashboard!$P$4,Data!G994,NA()))","v":{"$error":"#N/A"}},"","","",{"$f":"IF(C443<>\"\",Data!$M994,\"\")","v":""},null,null,null,null,{"$f":"IF(Dashboard!$R$4=\"All\",Data!G994,IF(Data!K994=Dashboard!$R$4,Data!G994,NA()))","v":{"$error":"#N/A"}},"","","",{"$f":"IF(L443<>\"\",Data!$M994,\"\")","v":""},null,null,null,null,{"$f":"IF(OR(Dashboard!$P$4=\"All\",Dashboard!$R$4=\"All\"),NA(),IF(OR(Data!K994<>Dashboard!$P$4,Data!K994<>Dashboard!$R$4),Data!G994,NA()))","v":6232.7708406048987},null,null,null,null,null,null,null,null,null,null,null,null,null,null,"ID1393",null,null,150000,1,null,null,null,null,null,null,null,null,null,null,null,null,null,null,null,null,null,null,null,null,null,null,null,null,null,null,null,null,null,"ID1393",null,150000]
[null,{"$f":"IF(Dashboard!$P$4=\"All\",Data!G995,IF(Data!K995=Dashboard!$P$4,Data!G995,NA()))","v":{"$error":"#N/A"}},"","","",{"$f":"IF(C444<>\"\",Data!$M995,\"\")","v":""},null,null,null,null,{"$f":"IF(Dashboard!$R$4=\"All\",Data!G995,IF(Data!K995=Dashboard!$R$4,Data!G995,NA()))","v":{"$error":"#N/A"}},"","","",{"$f":"IF(L444<>\"\",Data!$M995,\"\")","v":""},null,null,null,null,{"$f":"IF(OR(Dashboard!$P$4=\"All\",Dashboard!$R$4=\"All\"),NA(),IF(OR(Data!K995<>Dashboard!$P$4,Data!K995<>Dashboard!$R$4),Data!G995,NA()))","v":1805.7739622442759},null,null,null,null,null,null,null,null,null,null,null,null,null,null,"ID1395",73500,1,null,null,null,null,null,null,null,null,null,null,null,null,null,null,null,null,null,null,null,null,null,null,null,null,null,null,null,null,null,null,null,"ID1395",null,null,null,73500]
[null,{"$f":"IF(Dashboard!$P$4=\"All\",Data!G996,IF(Data!K996=Dashboard!$P$4,Data!G996,NA()))","v":{"$error":"#N/A"}},"","","",{"$f":"IF(C445<>\"\",Data!$M996,\"\")","v":""},null,null,null,null,{"$f":"IF(Dashboard!$R$4=\"All\",Data!G996,IF(Data!K996=Dashboard!$R$4,Data!G996,NA()))","v":{"$error":"#N/A"}},"","","",{"$f":"IF(L445<>\"\",Data!$M996,\"\")","v":""},null,null,null,null,{"$f":"IF(OR(Dashboard!$P$4=\"All\",Dashboard!$R$4=\"All\"),NA(),IF(OR(Data!K996<>Dashboard!$P$4,Data!K996<>Dashboard!$R$4),Data!G996,NA()))","v":11397.066679963244},null,null,null,null,null,null,null,null,null,null,null,null,null,null,"ID1396",77500,1,null,null,null,null,null,null,null,null,null,null,null,null,null,null,null,null,null,null,null,null,null,null,null,null,null,null,null,null,null,null,null,"ID1396",null,null,77500]
[null,{"$f":"IF(Dashboard!$P$4=\"All\",Data!G997,IF(Data!K997=Dashboard!$P$4,Data!G997,NA()))","v":{"$error":"#N/A"}},"","","",{"$f":"IF(C446<>\"\",Data!$M997,\"\")","v":""},null,null,null,null,{"$f":"IF(Dashboard!$R$4=\"All\",Data!G997,IF(Data!K997=Dashboard!$R$4,Data!G997,NA()))","v":{"$error":"#N/A"}},"","","",{"$f":"IF(L446<>\"\",Data!$M997,\"\")","v":""},null,null,null,null,{"$f":"IF(OR(Dashboard!$P$4=\"All\",Dashboard!$R$4=\"All\"),NA(),IF(OR(Data!K997<>Dashboard!$P$4,Data!K997<>Dashboard!$R$4),Data!G997,NA()))","v":15000},null,null,null,null,null,null,null,null,null,null,null,null,null,null,"ID1397",60800,1,null,null,null,null,null,null,null,null,null,null,null,null,null,null,null,null,null,null,null,null,null,null,null,null,null,null,null,null,null,null,null,"ID1397",null,null,null,60800]
[null,{"$f":"IF(Dashboard!$P$4=\"All\",Data!G998,IF(Data!K998=Dashboard!$P$4,Data!G998,NA()))","v":{"$error":"#N/A"}},"","","",{"$f":"IF(C447<>\"\",Data!$M998,\"\")","v":""},null,null,null,null,{"$f":"IF(Dashboard!$R$4=\"All\",Data!G998,IF(Data!K998=Dashboard!$R$4,Data!G998,NA()))","v":{"$error":"#N/A"}},"","","",{"$f":"IF(L447<>\"\",Data!$M998,\"\")","v":""},null,null,null,null,{"$f":"IF(OR(Dashboard!$P$4=\"All\",Dashboard!$R$4=\"All\"),NA(),IF(OR(Data!K998<>Dashboard!$P$4,Data!K998<>Dashboard!$R$4),Data!G998,NA()))","v":37612.869087708088},null,null,null,null,null,null,null,null,null,null,null,null,null,null,"ID1398",null,null,136000,1,null,null,null,null,null,null,null,null,null,null,null,null,null,null,null,null,null,null,null,null,null,null,null,null,null,null,null,null,null,"ID1398",null,null,136000]
[null,{"$f":"IF(Dashboard!$P$4=\"All\",Data!G999,IF(Data!K999=Dashboard!$P$4,Data!G999,NA()))","v":{"$error":"#N/A"}},"","","",{"$f":"IF(C448<>\"\",Data!$M999,\"\")","v":""},null,null,null,null,{"$f":"IF(Dashboard!$R$4=\"All\",Data!G999,IF(Data!K999=Dashboard!$R$4,Data!G999,NA()))","v":{"$error":"#N/A"}},"","","",{"$f":"IF(L448<>\"\",Data!$M999,\"\")","v":""},null,null,null,null,{"$f":"IF(OR(Dashboard!$P$4=\"All\",Dashboard!$R$4=\"All\"),NA(),IF(OR(Data!K999<>Dashboard!$P$4,Data!K999<>Dashboard!$R$4),Data!G999,NA()))","v":6499.8895909165376},null,null,null,null,null,null,null,null,null,null,null,null,null,null,"ID1400",null,null,null,null,null,null,null,null,95000,1,null,null,null,null,null,null,null,null,null,null,null,null,null,null,null,null,null,null,null,null,null,null,null,"ID1400",null,null,95000]
[null,{"$f":"IF(Dashboard!$P$4=\"All\",Data!G1000,IF(Data!K1000=Dashboard!$P$4,Data!G1000,NA()))","v":{"$error":"#N/A"}},"","","",{"$f":"IF(C449<>\"\",Data!$M1000,\"\")","v":""},null,null,null,null,{"$f":"IF(Dashboard!$R$4=\"All\",Data!G1000,IF(Data!K1000=Dashboard!$R$4,Data!G1000,NA()))","v":{"$error":"#N/A"}},"","","",{"$f":"IF(L449<>\"\",Data!$M1000,\"\")","v":""},null,null,null,null,{"$f":"IF(OR(Dashboard!$P$4=\"All\",Dashboard!$R$4=\"All\"),NA(),IF(OR(Data!K1000<>Dashboard!$P$4,Data!K1000<>Dashboard!$R$4),Data!G1000,NA()))","v":20000},null,null,null,null,null,null,null,null,null,null,null,null,null,null,"ID1401",null,null,130000,1,null,null,null,null,null,null,null,null,null,null,null,null,null,null,null,null,null,null,null,null,null,null,null,null,null,null,null,null,null,"ID1401",130000]
[null,{"$f":"IF(Dashboard!$P$4=\"All\",Data!G1001,IF(Data!K1001=Dashboard!$P$4,Data!G1001,NA()))","v":{"$error":"#N/A"}},"","","",{"$f":"IF(C450<>\"\",Data!$M1001,\"\")","v":""},null,null,null,null,{"$f":"IF(Dashboard!$R$4=\"All\",Data!G1001,IF(Data!K1001=Dashboard!$R$4,Data!G1001,NA()))","v":{"$error":"#N/A"}},"","","",{"$f":"IF(L450<>\"\",Data!$M1001,\"\")","v":""},null,null,null,null,{"$f":"IF(OR(Dashboard!$P$4=\"All\",Dashboard!$R$4=\"All\"),NA(),IF(OR(Data!K1001<>Dashboard!$P$4,Data!K1001<>Dashboard!$R$4),Data!G1001,NA()))","v":7265},null,null,null,null,null,null,null,null,null,null,null,null,null,null,"ID1402",65000,1,null,null,null,null,null,null,null,null,null,null,null,null,null,null,null,null,null,null,null,null,null,null,null,null,null,null,null,null,null,null,null,"ID1402",null,65000]
[null,{"$f":"IF(Dashboard!$P$4=\"All\",Data!G1002,IF(Data!K1002=Dashboard!$P$4,Data!G1002,NA()))","v":{"$error":"#N/A"}},"","","",{"$f":"IF(C451<>\"\",Data!$M1002,\"\")","v":""},null,null,null,null,{"$f":"IF(Dashboard!$R$4=\"All\",Data!G1002,IF(Data!K1002=Dashboard!$R$4,Data!G1002,NA()))","v":{"$error":"#N/A"}},"","","",{"$f":"IF(L451<>\"\",Data!$M1002,\"\")","v":""},null,null,null,null,{"$f":"IF(OR(Dashboard!$P$4=\"All\",Dashboard!$R$4=\"All\"),NA(),IF(OR(Data!K1002<>Dashboard!$P$4,Data!K1002<>Dashboard!$R$4),Data!G1002,NA()))","v":72571.80269935554},null,null,null,null,null,null,null,null,null,null,null,null,null,null,"ID1403",null,null,null,null,null,null,null,null,null,null,null,null,80000,1,null,null,null,null,null,null,null,null,null,null,null,null,null,null,null,null,null,null,null,"ID1403",null,80000]
[null,{"$f":"IF(Dashboard!$P$4=\"All\",Data!G1003,IF(Data!K1003=Dashboard!$P$4,Data!G1003,NA()))","v":{"$error":"#N/A"}},{"$f":"IF(ISNA(B452),\"\",B452)","v":""},{"$f":"IF(C452>=PERCENTILE($C$3:$C$1337,0.9),C452,\"\")","v":""},{"$f":"IF(C452<=PERCENTILE($C$3:$C$1337,0.1),C452,\"\")","v":""},{"$f":"IF(C452<>\"\",Data!$M1003,\"\")","v":""},null,null,null,null,{"$f":"IF(Dashboard!$R$4=\"All\",Data!G1003,IF(Data!K1003=Dashboard!$R$4,Data!G1003,NA()))","v":{"$error":"#N/A"}},{"$f":"IF(ISNA(K452),\"\",K452)","v":""},{"$f":"IF(L452>=PERCENTILE($L$3:$L$1337,0.9),L452,\"\")","v":""},{"$f":"IF(L452<=PERCENTILE($L$3:$L$1337,0.1),L452,\"\")","v":""},{"$f":"IF(L452<>\"\",Data!$M1003,\"\")","v":""},null,null,null,null,{"$f":"IF(OR(Dashboard!$P$4=\"All\",Dashboard!$R$4=\"All\"),NA(),IF(OR(Data!K1003<>Dashboard!$P$4,Data!K1003<>Dashboard!$R$4),Data!G1003,NA()))","v":8013.5625093491553},null,null,null,null,null,null,null,null,null,null,null,null,null,null,"ID1404",null,null,null,null,null,null,null,null,null,null,null,null,null,null,null,null,37000,1,null,null,null,null,null,null,null,null,null,null,null,null,null,null,null,"ID1404",null,37000]
[null,{"$f":"IF(Dashboard!$P$4=\"All\",Data!G1004,IF(Data!K1004=Dashboard!$P$4,Data!G1004,NA()))","v":{"$error":"#N/A"}},"","","",{"$f":"IF(C453<>\"\",Data!$M1004,\"\")","v":""},null,null,null,null,{"$f":"IF(Dashboard!$R$4=\"All\",Data!G1004,IF(Data!K1004=Dashboard!$R$4,Data!G1004,NA()))","v":{"$error":"#N/A"}},"","","",{"$f":"IF(L453<>\"\",Data!$M1004,\"\")","v":""},null,null,null,null,{"$f":"IF(OR(Dashboard!$P$4=\"All\",Dashboard!$R$4=\"All\"),NA(),IF(OR(Data!K1004<>Dashboard!$P$4,Data!K1004<>Dashboard!$R$4),Data!G1004,NA()))","v":10150.512511842264},null,null,null,null,null,null,null,null,null,null,null,null,null,null,"ID1405",null,null,40000,1,null,null,null,null,null,null,null,null,null,null,null,null,null,null,null,null,null,null,null,null,null,null,null,null,null,null,null,null,null,"ID1405",40000]
[null,{"$f":"IF(Dashboard!$P$4=\"All\",Data!G1005,IF(Data!K1005=Dashboard!$P$4,Data!G1005,NA()))","v":{"$error":"#N/A"}},"","","",{"$f":"IF(C454<>\"\",Data!$M1005,\"\")","v":""},null,null,null,null,{"$f":"IF(Dashboard!$R$4=\"All\",Data!G1005,IF(Data!K1005=Dashboard!$R$4,Data!G1005,NA()))","v":{"$error":"#N/A"}},"","","",{"$f":"IF(L454<>\"\",Data!$M1005,\"\")","v":""},null,null,null,null,{"$f":"IF(OR(Dashboard!$P$4=\"All\",Dashboard!$R$4=\"All\"),NA(),IF(OR(Data!K1005<>Dashboard!$P$4,Data!K1005<>Dashboard!$R$4),Data!G1005,NA()))","v":65000},null,null,null,null,null,null,null,null,null,null,null,null,null,null,"ID1406",49000,1,null,null,null,null,null,null,null,null,null,null,null,null,null,null,null,null,null,null,null,null,null,null,null,null,null,null,null,null,null,null,null,"ID1406",null,null,49000]
[null,{"$f":"IF(Dashboard!$P$4=\"All\",Data!G1006,IF(Data!K1006=Dashboard!$P$4,Data!G1006,NA()))","v":{"$error":"#N/A"}},"","","",{"$f":"IF(C455<>\"\",Data!$M1006,\"\")","v":""},null,null,null,null,{"$f":"IF(Dashboard!$R$4=\"All\",Data!G1006,IF(Data!K1006=Dashboard!$R$4,Data!G1006,NA()))","v":{"$error":"#N/A"}},"","","",{"$f":"IF(L455<>\"\",Data!$M1006,\"\")","v":""},null,null,null,null,{"$f":"IF(OR(Dashboard!$P$4=\"All\",Dashboard!$R$4=\"All\"),NA(),IF(OR(Data!K1006<>Dashboard!$P$4,Data!K1006<>Dashboard!$R$4),Data!G1006,NA()))","v":3184.2266150397395},null,null,null,null,null,null,null,null,null,null,null,null,null,null,"ID1407",65000,1,null,null,null,null,null,null,null,null,null,null,null,null,null,null,null,null,null,null,null,null,null,null,null,null,null,null,null,null,null,null,null,"ID1407",null,null,null,65000]
[null,{"$f":"IF(Dashboard!$P$4=\"All\",Data!G1007,IF(Data!K1007=Dashboard!$P$4,Data!G1007,NA()))","v":{"$error":"#N/A"}},"","","",{"$f":"IF(C456<>\"\",Data!$M1007,\"\")","v":""},null,null,null,null,{"$f":"IF(Dashboard!$R$4=\"All\",Data!G1007,IF(Data!K1007=Dashboard!$R$4,Data!G1007,NA()))","v":{"$error":"#N/A"}},"","","",{"$f":"IF(L456<>\"\",Data!$M1007,\"\")","v":""},null,null,null,null,{"$f":"IF(OR(Dashboard!$P$4=\"All\",Dashboard!$R$4=\"All\"),NA(),IF(OR(Data!K1007<>Dashboard!$P$4,Data!K1007<>Dashboard!$R$4),Data!G1007,NA()))","v":10898.445012714852},null,null,null,null,null,null,null,null,null,null,null,null,null,null,"ID1408",55000,1,null,null,null,null,null,null,null,null,null,null,null,null,null,null,null,null,null,null,null,null,null,null,null,null,null,null,null,null,null,null,null,"ID1408",null,null,null,55000]
[null,{"$f":"IF(Dashboard!$P$4=\"All\",Data!G1008,IF(Data!K1008=Dashboard!$P$4,Data!G1008,NA()))","v":{"$error":"#N/A"}},"","","",{"$f":"IF(C457<>\"\",Data!$M1008,\"\")","v":""},null,null,null,null,{"$f":"IF(Dashboard!$R$4=\"All\",Data!G1008,IF(Data!K1008=Dashboard!$R$4,Data!G1008,NA()))","v":{"$error":"#N/A"}},"","","",{"$f":"IF(L457<>\"\",Data!$M1008,\"\")","v":""},null,null,null,null,{"$f":"IF(OR(Dashboard!$P$4=\"All\",Dashboard!$R$4=\"All\"),NA(),IF(OR(Data!K1008<>Dashboard!$P$4,Data!K1008<>Dashboard!$R$4),Data!G1008,NA()))","v":10800},null,null,null,null,null,null,null,null,null,null,null,null,null,null,"ID1409",null,null,40000,1,null,null,null,null,null,null,null,null,null,null,null,null,null,null,null,null,null,null,null,null,null,null,null,null,null,null,null,null,null,"ID1409",null,null,40000]
[null,{"$f":"IF(Dashboard!$P$4=\"All\",Data!G1009,IF(Data!K1009=Dashboard!$P$4,Data!G1009,NA()))","v":{"$error":"#N/A"}},"","","",{"$f":"IF(C458<>\"\",Data!$M1009,\"\")","v":""},null,null,null,null,{"$f":"IF(Dashboard!$R$4=\"All\",Data!G1009,IF(Data!K1009=Dashboard!$R$4,Data!G1009,NA()))","v":{"$error":"#N/A"}},"","","",{"$f":"IF(L458<>\"\",Data!$M1009,\"\")","v":""},null,null,null,null,{"$f":"IF(OR(Dashboard!$P$4=\"All\",Dashboard!$R$4=\"All\"),NA(),IF(OR(Data!K1009<>Dashboard!$P$4,Data!K1009<>Dashboard!$R$4),Data!G1009,NA()))","v":2136.9500024931081},null,null,null,null,null,null,null,null,null,null,null,null,null,null,"ID1410",60000,1,null,null,null,null,null,null,null,null,null,null,null,null,null,null,null,null,null,null,null,null,null,null,null,null,null,null,null,null,null,null,null,"ID1410",null,null,60000]
[null,{"$f":"IF(Dashboard!$P$4=\"All\",Data!G1010,IF(Data!K1010=Dashboard!$P$4,Data!G1010,NA()))","v":{"$error":"#N/A"}},"","","",{"$f":"IF(C459<>\"\",Data!$M1010,\"\")","v":""},null,null,null,null,{"$f":"IF(Dashboard!$R$4=\"All\",Data!G1010,IF(Data!K1010=Dashboard!$R$4,Data!G1010,NA()))","v":{"$error":"#N/A"}},"","","",{"$f":"IF(L459<>\"\",Data!$M1010,\"\")","v":""},null,null,null,null,{"$f":"IF(OR(Dashboard!$P$4=\"All\",Dashboard!$R$4=\"All\"),NA(),IF(OR(Data!K1010<>Dashboard!$P$4,Data!K1010<>Dashboard!$R$4),Data!G1010,NA()))","v":45000},null,null,null,null,null,null,null,null,null,null,null,null,null,null,"ID1412",150000,1,null,null,null,null,null,null,null,null,null,null,null,null,null,null,null,null,null,null,null,null,null,null,null,null,null,null,null,null,null,null,null,"ID1412",null,150000]
[null,{"$f":"IF(Dashboard!$P$4=\"All\",Data!G1011,IF(Data!K1011=Dashboard!$P$4,Data!G1011,NA()))","v":{"$error":"#N/A"}},"","","",{"$f":"IF(C460<>\"\",Data!$M1011,\"\")","v":""},null,null,null,null,{"$f":"IF(Dashboard!$R$4=\"All\",Data!G1011,IF(Data!K1011=Dashboard!$R$4,Data!G1011,NA()))","v":{"$error":"#N/A"}},"","","",{"$f":"IF(L460<>\"\",Data!$M1011,\"\")","v":""},null,null,null,null,{"$f":"IF(OR(Dashboard!$P$4=\"All\",Dashboard!$R$4=\"All\"),NA(),IF(OR(Data!K1011<>Dashboard!$P$4,Data!K1011<>Dashboard!$R$4),Data!G1011,NA()))","v":7123.1666749770275},null,null,null,null,null,null,null,null,null,null,null,null,null,null,"ID1413",null,null,88000,1,null,null,null,null,null,null,null,null,null,null,null,null,null,null,null,null,null,null,null,null,null,null,null,null,null,null,null,null,null,"ID1413",null,null,88000]
[null,{"$f":"IF(Dashboard!$P$4=\"All\",Data!G1012,IF(Data!K1012=Dashboard!$P$4,Data!G1012,NA()))","v":{"$error":"#N/A"}},"","","",{"$f":"IF(C461<>\"\",Data!$M1012,\"\")","v":""},null,null,null,null,{"$f":"IF(Dashboard!$R$4=\"All\",Data!G1012,IF(Data!K1012=Dashboard!$R$4,Data!G1012,NA()))","v":{"$error":"#N/A"}},"","","",{"$f":"IF(L461<>\"\",Data!$M1012,\"\")","v":""},null,null,null,null,{"$f":"IF(OR(Dashboard!$P$4=\"All\",Dashboard!$R$4=\"All\"),NA(),IF(OR(Data!K1012<>Dashboard!$P$4,Data!K1012<>Dashboard!$R$4),Data!G1012,NA()))","v":5342.3750062327708},null,null,null,null,null,null,null,null,null,null,null,null,null,null,"ID1414",64500,1,null,null,null,null,null,null,null,null,null,null,null,null,null,null,null,null,null,null,null,null,null,null,null,null,null,null,null,null,null,null,null,"ID1414",null,null,64500]
[null,{"$f":"IF(Dashboard!$P$4=\"All\",Data!G1013,IF(Data!K1013=Dashboard!$P$4,Data!G1013,NA()))","v":{"$error":"#N/A"}},"","","",{"$f":"IF(C462<>\"\",Data!$M1013,\"\")","v":""},null,null,null,null,{"$f":"IF(Dashboard!$R$4=\"All\",Data!G1013,IF(Data!K1013=Dashboard!$R$4,Data!G1013,NA()))","v":{"$error":"#N/A"}},"","","",{"$f":"IF(L462<>\"\",Data!$M1013,\"\")","v":""},null,null,null,null,{"$f":"IF(OR(Dashboard!$P$4=\"All\",Dashboard!$R$4=\"All\"),NA(),IF(OR(Data!K1013<>Dashboard!$P$4,Data!K1013<>Dashboard!$R$4),Data!G1013,NA()))","v":18000},null,null,null,null,null,null,null,null,null,null,null,null,null,null,"ID1416",null,null,null,null,50000,1,null,null,null,null,null,null,null,null,null,null,null,null,null,null,null,null,null,null,null,null,null,null,null,null,null,null,null,"ID1416",null,null,50000]
[null,{"$f":"IF(Dashboard!$P$4=\"All\",Data!G1014,IF(Data!K1014=Dashboard!$P$4,Data!G1014,NA()))","v":{"$error":"#N/A"}},"","","",{"$f":"IF(C463<>\"\",Data!$M1014,\"\")","v":""},null,null,null,null,{"$f":"IF(Dashboard!$R$4=\"All\",Data!G1014,IF(Data!K1014=Dashboard!$R$4,Data!G1014,NA()))","v":{"$error":"#N/A"}},"","","",{"$f":"IF(L463<>\"\",Data!$M1014,\"\")","v":""},null,null,null,null,{"$f":"IF(OR(Dashboard!$P$4=\"All\",Dashboard!$R$4=\"All\"),NA(),IF(OR(Data!K1014<>Dashboard!$P$4,Data!K1014<>Dashboard!$R$4),Data!G1014,NA()))","v":4840.0244548604041},null,null,null,null,null,null,null,null,null,null,null,null,null,null,"ID1417",null,null,120000,1,null,null,null,null,null,null,null,null,null,null,null,null,null,null,null,null,null,null,null,null,null,null,null,null,null,null,null,null,null,"ID1417",null,120000]
[null,{"$f":"IF(Dashboard!$P$4=\"All\",Data!G1015,IF(Data!K1015=Dashboard!$P$4,Data!G1015,NA()))","v":{"$error":"#N/A"}},"","","",{"$f":"IF(C464<>\"\",Data!$M1015,\"\")","v":""},null,null,null,null,{"$f":"IF(Dashboard!$R$4=\"All\",Data!G1015,IF(Data!K1015=Dashboard!$R$4,Data!G1015,NA()))","v":{"$error":"#N/A"}},"","","",{"$f":"IF(L464<>\"\",Data!$M1015,\"\")","v":""},null,null,null,null,{"$f":"IF(OR(Dashboard!$P$4=\"All\",Dashboard!$R$4=\"All\"),NA(),IF(OR(Data!K1015<>Dashboard!$P$4,Data!K1015<>Dashboard!$R$4),Data!G1015,NA()))","v":7479.3250087258784},null,null,null,null,null,null,null,null,null,null,null,null,null,null,"ID1418",null,null,107000,1,null,null,null,null,null,null,null,null,null,null,null,null,null,null,null,null,null,null,null,null,null,null,null,null,null,null,null,null,null,"ID1418",null,null,null,107000]
[null,{"$f":"IF(Dashboard!$P$4=\"All\",Data!G1016,IF(Data!K1016=Dashboard!$P$4,Data!G1016,NA()))","v":{"$error":"#N/A"}},"","","",{"$f":"IF(C465<>\"\",Data!$M1016,\"\")","v":""},null,null,null,null,{"$f":"IF(Dashboard!$R$4=\"All\",Data!G1016,IF(Data!K1016=Dashboard!$R$4,Data!G1016,NA()))","v":{"$error":"#N/A"}},"","","",{"$f":"IF(L465<>\"\",Data!$M1016,\"\")","v":""},null,null,null,null,{"$f":"IF(OR(Dashboard!$P$4=\"All\",Dashboard!$R$4=\"All\"),NA(),IF(OR(Data!K1016<>Dashboard!$P$4,Data!K1016<>Dashboard!$R$4),Data!G1016,NA()))","v":3739.6625043629392},null,null,null,null,null,null,null,null,null,null,null,null,null,null,"ID1419",40000,1,null,null,null,null,null,null,null,null,null,null,null,null,null,null,null,null,null,null,null,null,null,null,null,null,null,null,null,null,null,null,null,"ID1419",null,40000]
[null,{"$f":"IF(Dashboard!$P$4=\"All\",Data!G1017,IF(Data!K1017=Dashboard!$P$4,Data!G1017,NA()))","v":{"$error":"#N/A"}},"","","",{"$f":"IF(C466<>\"\",Data!$M1017,\"\")","v":""},null,null,null,null,{"$f":"IF(Dashboard!$R$4=\"All\",Data!G1017,IF(Data!K1017=Dashboard!$R$4,Data!G1017,NA()))","v":{"$error":"#N/A"}},"","","",{"$f":"IF(L466<>\"\",Data!$M1017,\"\")","v":""},null,null,null,null,{"$f":"IF(OR(Dashboard!$P$4=\"All\",Dashboard!$R$4=\"All\"),NA(),IF(OR(Data!K1017<>Dashboard!$P$4,Data!K1017<>Dashboard!$R$4),Data!G1017,NA()))","v":42000},null,null,null,null,null,null,null,null,null,null,null,null,null,null,"ID1420",null,null,81000,1,null,null,null,null,null,null,null,null,null,null,null,null,null,null,null,null,null,null,null,null,null,null,null,null,null,null,null,null,null,"ID1420",81000]
[null,{"$f":"IF(Dashboard!$P$4=\"All\",Data!G1018,IF(Data!K1018=Dashboard!$P$4,Data!G1018,NA()))","v":{"$error":"#N/A"}},"","","",{"$f":"IF(C467<>\"\",Data!$M1018,\"\")","v":""},null,null,null,null,{"$f":"IF(Dashboard!$R$4=\"All\",Data!G1018,IF(Data!K1018=Dashboard!$R$4,Data!G1018,NA()))","v":{"$error":"#N/A"}},"","","",{"$f":"IF(L467<>\"\",Data!$M1018,\"\")","v":""},null,null,null,null,{"$f":"IF(OR(Dashboard!$P$4=\"All\",Dashboard!$R$4=\"All\"),NA(),IF(OR(Data!K1018<>Dashboard!$P$4,Data!K1018<>Dashboard!$R$4),Data!G1018,NA()))","v":28000},null,null,null,null,null,null,null,null,null,null,null,null,null,null,"ID1421",null,null,null,null,null,null,null,null,null,null,45000,1,null,null,null,null,null,null,null,null,null,null,null,null,null,null,null,null,null,null,null,null,null,"ID1421",null,null,45000]
[null,{"$f":"IF(Dashboard!$P$4=\"All\",Data!G1019,IF(Data!K1019=Dashboard!$P$4,Data!G1019,NA()))","v":{"$error":"#N/A"}},"","","",{"$f":"IF(C468<>\"\",Data!$M1019,\"\")","v":""},null,null,null,null,{"$f":"IF(Dashboard!$R$4=\"All\",Data!G1019,IF(Data!K1019=Dashboard!$R$4,Data!G1019,NA()))","v":{"$error":"#N/A"}},"","","",{"$f":"IF(L468<>\"\",Data!$M1019,\"\")","v":""},null,null,null,null,{"$f":"IF(OR(Dashboard!$P$4=\"All\",Dashboard!$R$4=\"All\"),NA(),IF(OR(Data!K1019<>Dashboard!$P$4,Data!K1019<>Dashboard!$R$4),Data!G1019,NA()))","v":6000},null,null,null,null,null,null,null,null,null,null,null,null,null,null,"ID1422",null,null,null,null,null,null,null,null,null,null,49000,1,null,null,null,null,null,null,null,null,null,null,null,null,null,null,null,null,null,null,null,null,null,"ID1422",null,null,49000]
[null,{"$f":"IF(Dashboard!$P$4=\"All\",Data!G1020,IF(Data!K1020=Dashboard!$P$4,Data!G1020,NA()))","v":{"$error":"#N/A"}},"","","",{"$f":"IF(C469<>\"\",Data!$M1020,\"\")","v":""},null,null,null,null,{"$f":"IF(Dashboard!$R$4=\"All\",Data!G1020,IF(Data!K1020=Dashboard!$R$4,Data!G1020,NA()))","v":{"$error":"#N/A"}},"","","",{"$f":"IF(L469<>\"\",Data!$M1020,\"\")","v":""},null,null,null,null,{"$f":"IF(OR(Dashboard!$P$4=\"All\",Dashboard!$R$4=\"All\"),NA(),IF(OR(Data!K1020<>Dashboard!$P$4,Data!K1020<>Dashboard!$R$4),Data!G1020,NA()))","v":43867.345148271634},null,null,null,null,null,null,null,null,null,null,null,null,null,null,"ID1424",null,null,72000,1,null,null,null,null,null,null,null,null,null,null,null,null,null,null,null,null,null,null,null,null,null,null,null,null,null,null,null,null,null,"ID1424",72000]
[null,{"$f":"IF(Dashboard!$P$4=\"All\",Data!G1021,IF(Data!K1021=Dashboard!$P$4,Data!G1021,NA()))","v":{"$error":"#N/A"}},"","","",{"$f":"IF(C470<>\"\",Data!$M1021,\"\")","v":""},null,null,null,null,{"$f":"IF(Dashboard!$R$4=\"All\",Data!G1021,IF(Data!K1021=Dashboard!$R$4,Data!G1021,NA()))","v":{"$error":"#N/A"}},"","","",{"$f":"IF(L470<>\"\",Data!$M1021,\"\")","v":""},null,null,null,null,{"$f":"IF(OR(Dashboard!$P$4=\"All\",Dashboard!$R$4=\"All\"),NA(),IF(OR(Data!K1021<>Dashboard!$P$4,Data!K1021<>Dashboard!$R$4),Data!G1021,NA()))","v":17807.916687442568},null,null,null,null,null,null,null,null,null,null,null,null,null,null,"ID1425",50000,1,null,null,null,null,null,null,null,null,null,null,null,null,null,null,null,null,null,null,null,null,null,null,null,null,null,null,null,null,null,null,null,"ID1425",null,null,50000]
[null,{"$f":"IF(Dashboard!$P$4=\"All\",Data!G1022,IF(Data!K1022=Dashboard!$P$4,Data!G1022,NA()))","v":{"$error":"#N/A"}},"","","",{"$f":"IF(C471<>\"\",Data!$M1022,\"\")","v":""},null,null,null,null,{"$f":"IF(Dashboard!$R$4=\"All\",Data!G1022,IF(Data!K1022=Dashboard!$R$4,Data!G1022,NA()))","v":{"$error":"#N/A"}},"","","",{"$f":"IF(L471<>\"\",Data!$M1022,\"\")","v":""},null,null,null,null,{"$f":"IF(OR(Dashboard!$P$4=\"All\",Dashboard!$R$4=\"All\"),NA(),IF(OR(Data!K1022<>Dashboard!$P$4,Data!K1022<>Dashboard!$R$4),Data!G1022,NA()))","v":10684.750012465542},null,null,null,null,null,null,null,null,null,null,null,null,null,null,"ID1426",57678,1,null,null,null,null,null,null,null,null,null,null,null,null,null,null,null,null,null,null,null,null,null,null,null,null,null,null,null,null,null,null,null,"ID1426",null,null,57678]
[null,{"$f":"IF(Dashboard!$P$4=\"All\",Data!G1023,IF(Data!K1023=Dashboard!$P$4,Data!G1023,NA()))","v":{"$error":"#N/A"}},"","","",{"$f":"IF(C472<>\"\",Data!$M1023,\"\")","v":""},null,null,null,null,{"$f":"IF(Dashboard!$R$4=\"All\",Data!G1023,IF(Data!K1023=Dashboard!$R$4,Data!G1023,NA()))","v":{"$error":"#N/A"}},"","","",{"$f":"IF(L472<>\"\",Data!$M1023,\"\")","v":""},null,null,null,null,{"$f":"IF(OR(Dashboard!$P$4=\"All\",Dashboard!$R$4=\"All\"),NA(),IF(OR(Data!K1023<>Dashboard!$P$4,Data!K1023<>Dashboard!$R$4),Data!G1023,NA()))","v":60000},null,null,null,null,null,null,null,null,null,null,null,null,null,null,"ID1427",80442,1,null,null,null,null,null,null,null,null,null,null,null,null,null,null,null,null,null,null,null,null,null,null,null,null,null,null,null,null,null,null,null,"ID1427",null,null,80442]
[null,{"$f":"IF(Dashboard!$P$4=\"All\",Data!G1024,IF(Data!K1024=Dashboard!$P$4,Data!G1024,NA()))","v":{"$error":"#N/A"}},"","","",{"$f":"IF(C473<>\"\",Data!$M1024,\"\")","v":""},null,null,null,null,{"$f":"IF(Dashboard!$R$4=\"All\",Data!G1024,IF(Data!K1024=Dashboard!$R$4,Data!G1024,NA()))","v":{"$error":"#N/A"}},"","","",{"$f":"IF(L473<>\"\",Data!$M1024,\"\")","v":""},null,null,null,null,{"$f":"IF(OR(Dashboard!$P$4=\"All\",Dashboard!$R$4=\"All\"),NA(),IF(OR(Data!K1024<>Dashboard!$P$4,Data!K1024<>Dashboard!$R$4),Data!G1024,NA()))","v":8476.5683432226633},null,null,null,null,null,null,null,null,null,null,null,null,null,null,"ID1428",null,null,75000,1,null,null,null,null,null,null,null,null,null,null,null,null,null,null,null,null,null,null,null,null,null,null,null,null,null,null,null,null,null,"ID1428",75000]
[null,{"$f":"IF(Dashboard!$P$4=\"All\",Data!G1025,IF(Data!K1025=Dashboard!$P$4,Data!G1025,NA()))","v":{"$error":"#N/A"}},"","","",{"$f":"IF(C474<>\"\",Data!$M1025,\"\")","v":""},null,null,null,null,{"$f":"IF(Dashboard!$R$4=\"All\",Data!G1025,IF(Data!K1025=Dashboard!$R$4,Data!G1025,NA()))","v":{"$error":"#N/A"}},"","","",{"$f":"IF(L474<>\"\",Data!$M1025,\"\")","v":""},null,null,null,null,{"$f":"IF(OR(Dashboard!$P$4=\"All\",Dashboard!$R$4=\"All\"),NA(),IF(OR(Data!K1025<>Dashboard!$P$4,Data!K1025<>Dashboard!$R$4),Data!G1025,NA()))","v":8700},null,null,null,null,null,null,null,null,null,null,null,null,null,null,"ID1429",61000,1,null,null,null,null,null,null,null,null,null,null,null,null,null,null,null,null,null,null,null,null,null,null,null,null,null,null,null,null,null,null,null,"ID1429",null,null,61000]
[null,{"$f":"IF(Dashboard!$P$4=\"All\",Data!G1026,IF(Data!K1026=Dashboard!$P$4,Data!G1026,NA()))","v":{"$error":"#N/A"}},"","","",{"$f":"IF(C475<>\"\",Data!$M1026,\"\")","v":""},null,null,null,null,{"$f":"IF(Dashboard!$R$4=\"All\",Data!G1026,IF(Data!K1026=Dashboard!$R$4,Data!G1026,NA()))","v":{"$error":"#N/A"}},"","","",{"$f":"IF(L475<>\"\",Data!$M1026,\"\")","v":""},null,null,null,null,{"$f":"IF(OR(Dashboard!$P$4=\"All\",Dashboard!$R$4=\"All\"),NA(),IF(OR(Data!K1026<>Dashboard!$P$4,Data!K1026<>Dashboard!$R$4),Data!G1026,NA()))","v":3561.5833374885137},null,null,null,null,null,null,null,null,null,null,null,null,null,null,"ID1430",null,null,null,null,null,null,null,null,77000,1,null,null,null,null,null,null,null,null,null,null,null,null,null,null,null,null,null,null,null,null,null,null,null,"ID1430",null,null,77000]
[null,{"$f":"IF(Dashboard!$P$4=\"All\",Data!G1027,IF(Data!K1027=Dashboard!$P$4,Data!G1027,NA()))","v":{"$error":"#N/A"}},"","","",{"$f":"IF(C476<>\"\",Data!$M1027,\"\")","v":""},null,null,null,null,{"$f":"IF(Dashboard!$R$4=\"All\",Data!G1027,IF(Data!K1027=Dashboard!$R$4,Data!G1027,NA()))","v":{"$error":"#N/A"}},"","","",{"$f":"IF(L476<>\"\",Data!$M1027,\"\")","v":""},null,null,null,null,{"$f":"IF(OR(Dashboard!$P$4=\"All\",Dashboard!$R$4=\"All\"),NA(),IF(OR(Data!K1027<>Dashboard!$P$4,Data!K1027<>Dashboard!$R$4),Data!G1027,NA()))","v":3205.4250037396623},null,null,null,null,null,null,null,null,null,null,null,null,null,null,"ID1431",null,null,null,null,null,null,null,null,null,null,null,null,null,null,92000,1,null,null,null,null,null,null,null,null,null,null,null,null,null,null,null,null,null,"ID1431",null,92000]
[null,{"$f":"IF(Dashboard!$P$4=\"All\",Data!G1028,IF(Data!K1028=Dashboard!$P$4,Data!G1028,NA()))","v":{"$error":"#N/A"}},"","","",{"$f":"IF(C477<>\"\",Data!$M1028,\"\")","v":""},null,null,null,null,{"$f":"IF(Dashboard!$R$4=\"All\",Data!G1028,IF(Data!K1028=Dashboard!$R$4,Data!G1028,NA()))","v":{"$error":"#N/A"}},"","","",{"$f":"IF(L477<>\"\",Data!$M1028,\"\")","v":""},null,null,null,null,{"$f":"IF(OR(Dashboard!$P$4=\"All\",Dashboard!$R$4=\"All\"),NA(),IF(OR(Data!K1028<>Dashboard!$P$4,Data!K1028<>Dashboard!$R$4),Data!G1028,NA()))","v":4487.5950052355274},null,null,null,null,null,null,null,null,null,null,null,null,null,null,"ID1432",72000,1,null,null,null,null,null,null,null,null,null,null,null,null,null,null,null,null,null,null,null,null,null,null,null,null,null,null,null,null,null,null,null,"ID1432",null,null,null,72000]
[null,{"$f":"IF(Dashboard!$P$4=\"All\",Data!G1029,IF(Data!K1029=Dashboard!$P$4,Data!G1029,NA()))","v":{"$error":"#N/A"}},"","","",{"$f":"IF(C478<>\"\",Data!$M1029,\"\")","v":""},null,null,null,null,{"$f":"IF(Dashboard!$R$4=\"All\",Data!G1029,IF(Data!K1029=Dashboard!$R$4,Data!G1029,NA()))","v":{"$error":"#N/A"}},"","","",{"$f":"IF(L478<>\"\",Data!$M1029,\"\")","v":""},null,null,null,null,{"$f":"IF(OR(Dashboard!$P$4=\"All\",Dashboard!$R$4=\"All\"),NA(),IF(OR(Data!K1029<>Dashboard!$P$4,Data!K1029<>Dashboard!$R$4),Data!G1029,NA()))","v":12465.541681209797},null,null,null,null,null,null,null,null,null,null,null,null,null,null,"ID1434",null,null,111000,1,null,null,null,null,null,null,null,null,null,null,null,null,null,null,null,null,null,null,null,null,null,null,null,null,null,null,null,null,null,"ID1434",null,111000]
[null,{"$f":"IF(Dashboard!$P$4=\"All\",Data!G1030,IF(Data!K1030=Dashboard!$P$4,Data!G1030,NA()))","v":{"$error":"#N/A"}},"","","",{"$f":"IF(C479<>\"\",Data!$M1030,\"\")","v":""},null,null,null,null,{"$f":"IF(Dashboard!$R$4=\"All\",Data!G1030,IF(Data!K1030=Dashboard!$R$4,Data!G1030,NA()))","v":{"$error":"#N/A"}},"","","",{"$f":"IF(L479<>\"\",Data!$M1030,\"\")","v":""},null,null,null,null,{"$f":"IF(OR(Dashboard!$P$4=\"All\",Dashboard!$R$4=\"All\"),NA(),IF(OR(Data!K1030<>Dashboard!$P$4,Data!K1030<>Dashboard!$R$4),Data!G1030,NA()))","v":2400},null,null,null,null,null,null,null,null,null,null,null,null,null,null,"ID1435",80000,1,null,null,null,null,null,null,null,null,null,null,null,null,null,null,null,null,null,null,null,null,null,null,null,null,null,null,null,null,null,null,null,"ID1435",null,null,80000]
[null,{"$f":"IF(Dashboard!$P$4=\"All\",Data!G1031,IF(Data!K1031=Dashboard!$P$4,Data!G1031,NA()))","v":{"$error":"#N/A"}},"","","",{"$f":"IF(C480<>\"\",Data!$M1031,\"\")","v":""},null,null,null,null,{"$f":"IF(Dashboard!$R$4=\"All\",Data!G1031,IF(Data!K1031=Dashboard!$R$4,Data!G1031,NA()))","v":{"$error":"#N/A"}},"","","",{"$f":"IF(L480<>\"\",Data!$M1031,\"\")","v":""},null,null,null,null,{"$f":"IF(OR(Dashboard!$P$4=\"All\",Dashboard!$R$4=\"All\"),NA(),IF(OR(Data!K1031<>Dashboard!$P$4,Data!K1031<>Dashboard!$R$4),Data!G1031,NA()))","v":55000},null,null,null,null,null,null,null,null,null,null,null,null,null,null,"ID1438",null,null,null,null,null,null,null,null,null,null,null,null,null,null,24000,1,null,null,null,null,null,null,null,null,null,null,null,null,null,null,null,null,null,"ID1438",24000]
[null,{"$f":"IF(Dashboard!$P$4=\"All\",Data!G1032,IF(Data!K1032=Dashboard!$P$4,Data!G1032,NA()))","v":{"$error":"#N/A"}},"","","",{"$f":"IF(C481<>\"\",Data!$M1032,\"\")","v":""},null,null,null,null,{"$f":"IF(Dashboard!$R$4=\"All\",Data!G1032,IF(Data!K1032=Dashboard!$R$4,Data!G1032,NA()))","v":{"$error":"#N/A"}},"","","",{"$f":"IF(L481<>\"\",Data!$M1032,\"\")","v":""},null,null,null,null,{"$f":"IF(OR(Dashboard!$P$4=\"All\",Dashboard!$R$4=\"All\"),NA(),IF(OR(Data!K1032<>Dashboard!$P$4,Data!K1032<>Dashboard!$R$4),Data!G1032,NA()))","v":12000},null,null,null,null,null,null,null,null,null,null,null,null,null,null,"ID1439",null,null,61000,1,null,null,null,null,null,null,null,null,null,null,null,null,null,null,null,null,null,null,null,null,null,null,null,null,null,null,null,null,null,"ID1439",null,61000]
[null,{"$f":"IF(Dashboard!$P$4=\"All\",Data!G1033,IF(Data!K1033=Dashboard!$P$4,Data!G1033,NA()))","v":{"$error":"#N/A"}},"","","",{"$f":"IF(C482<>\"\",Data!$M1033,\"\")","v":""},null,null,null,null,{"$f":"IF(Dashboard!$R$4=\"All\",Data!G1033,IF(Data!K1033=Dashboard!$R$4,Data!G1033,NA()))","v":{"$error":"#N/A"}},"","","",{"$f":"IF(L482<>\"\",Data!$M1033,\"\")","v":""},null,null,null,null,{"$f":"IF(OR(Dashboard!$P$4=\"All\",Dashboard!$R$4=\"All\"),NA(),IF(OR(Data!K1033<>Dashboard!$P$4,Data!K1033<>Dashboard!$R$4),Data!G1033,NA()))","v":55262.375596134938},null,null,null,null,null,null,null,null,null,null,null,null,null,null,"ID1443",null,null,96230,1,null,null,null,null,null,null,null,null,null,null,null,null,null,null,null,null,null,null,null,null,null,null,null,null,null,null,null,null,null,"ID1443",null,null,96230]
[null,{"$f":"IF(Dashboard!$P$4=\"All\",Data!G1034,IF(Data!K1034=Dashboard!$P$4,Data!G1034,NA()))","v":{"$error":"#N/A"}},"","","",{"$f":"IF(C483<>\"\",Data!$M1034,\"\")","v":""},null,null,null,null,{"$f":"IF(Dashboard!$R$4=\"All\",Data!G1034,IF(Data!K1034=Dashboard!$R$4,Data!G1034,NA()))","v":{"$error":"#N/A"}},"","","",{"$f":"IF(L483<>\"\",Data!$M1034,\"\")","v":""},null,null,null,null,{"$f":"IF(OR(Dashboard!$P$4=\"All\",Dashboard!$R$4=\"All\"),NA(),IF(OR(Data!K1034<>Dashboard!$P$4,Data!K1034<>Dashboard!$R$4),Data!G1034,NA()))","v":21369.500024931083},null,null,null,null,null,null,null,null,null,null,null,null,null,null,"ID1444",75000,1,null,null,null,null,null,null,null,null,null,null,null,null,null,null,null,null,null,null,null,null,null,null,null,null,null,null,null,null,null,null,null,"ID1444",null,75000]
[null,{"$f":"IF(Dashboard!$P$4=\"All\",Data!G1035,IF(Data!K1035=Dashboard!$P$4,Data!G1035,NA()))","v":{"$error":"#N/A"}},"","","",{"$f":"IF(C484<>\"\",Data!$M1035,\"\")","v":""},null,null,null,null,{"$f":"IF(Dashboard!$R$4=\"All\",Data!G1035,IF(Data!K1035=Dashboard!$R$4,Data!G1035,NA()))","v":40980.635073749385},40980.635073749385,"","",{"$f":"IF(L484<>\"\",Data!$M1035,\"\")","v":8},null,null,null,null,{"$f":"IF(OR(Dashboard!$P$4=\"All\",Dashboard!$R$4=\"All\"),NA(),IF(OR(Data!K1035<>Dashboard!$P$4,Data!K1035<>Dashboard!$R$4),Data!G1035,NA()))","v":40980.635073749385},null,null,null,null,null,null,null,null,null,null,null,null,null,null,"ID1445",102000,1,null,null,null,null,null,null,null,null,null,null,null,null,null,null,null,null,null,null,null,null,null,null,null,null,null,null,null,null,null,null,null,"ID1445",null,null,102000]
[null,{"$f":"IF(Dashboard!$P$4=\"All\",Data!G1036,IF(Data!K1036=Dashboard!$P$4,Data!G1036,NA()))","v":{"$error":"#N/A"}},"","","",{"$f":"IF(C485<>\"\",Data!$M1036,\"\")","v":""},null,null,null,null,{"$f":"IF(Dashboard!$R$4=\"All\",Data!G1036,IF(Data!K1036=Dashboard!$R$4,Data!G1036,NA()))","v":{"$error":"#N/A"}},"","","",{"$f":"IF(L485<>\"\",Data!$M1036,\"\")","v":""},null,null,null,null,{"$f":"IF(OR(Dashboard!$P$4=\"All\",Dashboard!$R$4=\"All\"),NA(),IF(OR(Data!K1036<>Dashboard!$P$4,Data!K1036<>Dashboard!$R$4),Data!G1036,NA()))","v":50995.482820131787},null,null,null,null,null,null,null,null,null,null,null,null,null,null,"ID1449",null,null,67000,1,null,null,null,null,null,null,null,null,null,null,null,null,null,null,null,null,null,null,null,null,null,null,null,null,null,null,null,null,null,"ID1449",null,67000]
[null,{"$f":"IF(Dashboard!$P$4=\"All\",Data!G1037,IF(Data!K1037=Dashboard!$P$4,Data!G1037,NA()))","v":{"$error":"#N/A"}},"","","",{"$f":"IF(C486<>\"\",Data!$M1037,\"\")","v":""},null,null,null,null,{"$f":"IF(Dashboard!$R$4=\"All\",Data!G1037,IF(Data!K1037=Dashboard!$R$4,Data!G1037,NA()))","v":{"$error":"#N/A"}},"","","",{"$f":"IF(L486<>\"\",Data!$M1037,\"\")","v":""},null,null,null,null,{"$f":"IF(OR(Dashboard!$P$4=\"All\",Dashboard!$R$4=\"All\"),NA(),IF(OR(Data!K1037<>Dashboard!$P$4,Data!K1037<>Dashboard!$R$4),Data!G1037,NA()))","v":20326.391023865726},null,null,null,null,null,null,null,null,null,null,null,null,null,null,"ID1459",null,null,60000,1,null,null,null,null,null,null,null,null,null,null,null,null,null,null,null,null,null,null,null,null,null,null,null,null,null,null,null,null,null,"ID1459",null,60000]
[null,{"$f":"IF(Dashboard!$P$4=\"All\",Data!G1038,IF(Data!K1038=Dashboard!$P$4,Data!G1038,NA()))","v":{"$error":"#N/A"}},"","","",{"$f":"IF(C487<>\"\",Data!$M1038,\"\")","v":""},null,null,null,null,{"$f":"IF(Dashboard!$R$4=\"All\",Data!G1038,IF(Data!K1038=Dashboard!$R$4,Data!G1038,NA()))","v":{"$error":"#N/A"}},"","","",{"$f":"IF(L487<>\"\",Data!$M1038,\"\")","v":""},null,null,null,null,{"$f":"IF(OR(Dashboard!$P$4=\"All\",Dashboard!$R$4=\"All\"),NA(),IF(OR(Data!K1038<>Dashboard!$P$4,Data!K1038<>Dashboard!$R$4),Data!G1038,NA()))","v":12000},null,null,null,null,null,null,null,null,null,null,null,null,null,null,"ID1480",42000,1,null,null,null,null,null,null,null,null,null,null,null,null,null,null,null,null,null,null,null,null,null,null,null,null,null,null,null,null,null,null,null,"ID1480",null,null,null,42000]
[null,{"$f":"IF(Dashboard!$P$4=\"All\",Data!G1039,IF(Data!K1039=Dashboard!$P$4,Data!G1039,NA()))","v":{"$error":"#N/A"}},"","","",{"$f":"IF(C488<>\"\",Data!$M1039,\"\")","v":""},null,null,null,null,{"$f":"IF(Dashboard!$R$4=\"All\",Data!G1039,IF(Data!K1039=Dashboard!$R$4,Data!G1039,NA()))","v":{"$error":"#N/A"}},"","","",{"$f":"IF(L488<>\"\",Data!$M1039,\"\")","v":""},null,null,null,null,{"$f":"IF(OR(Dashboard!$P$4=\"All\",Dashboard!$R$4=\"All\"),NA(),IF(OR(Data!K1039<>Dashboard!$P$4,Data!K1039<>Dashboard!$R$4),Data!G1039,NA()))","v":29261.227167098674},null,null,null,null,null,null,null,null,null,null,null,null,null,null,"ID1483",85000,1,null,null,null,null,null,null,null,null,null,null,null,null,null,null,null,null,null,null,null,null,null,null,null,null,null,null,null,null,null,null,null,"ID1483",null,null,85000]
[null,{"$f":"IF(Dashboard!$P$4=\"All\",Data!G1040,IF(Data!K1040=Dashboard!$P$4,Data!G1040,NA()))","v":{"$error":"#N/A"}},"","","",{"$f":"IF(C489<>\"\",Data!$M1040,\"\")","v":""},null,null,null,null,{"$f":"IF(Dashboard!$R$4=\"All\",Data!G1040,IF(Data!K1040=Dashboard!$R$4,Data!G1040,NA()))","v":{"$error":"#N/A"}},"","","",{"$f":"IF(L489<>\"\",Data!$M1040,\"\")","v":""},null,null,null,null,{"$f":"IF(OR(Dashboard!$P$4=\"All\",Dashboard!$R$4=\"All\"),NA(),IF(OR(Data!K1040<>Dashboard!$P$4,Data!K1040<>Dashboard!$R$4),Data!G1040,NA()))","v":14630.613583549337},null,null,null,null,null,null,null,null,null,null,null,null,null,null,"ID1484",null,null,109000,1,null,null,null,null,null,null,null,null,null,null,null,null,null,null,null,null,null,null,null,null,null,null,null,null,null,null,null,null,null,"ID1484",null,null,109000]
[null,{"$f":"IF(Dashboard!$P$4=\"All\",Data!G1041,IF(Data!K1041=Dashboard!$P$4,Data!G1041,NA()))","v":{"$error":"#N/A"}},"","","",{"$f":"IF(C490<>\"\",Data!$M1041,\"\")","v":""},null,null,null,null,{"$f":"IF(Dashboard!$R$4=\"All\",Data!G1041,IF(Data!K1041=Dashboard!$R$4,Data!G1041,NA()))","v":{"$error":"#N/A"}},"","","",{"$f":"IF(L490<>\"\",Data!$M1041,\"\")","v":""},null,null,null,null,{"$f":"IF(OR(Dashboard!$P$4=\"All\",Dashboard!$R$4=\"All\"),NA(),IF(OR(Data!K1041<>Dashboard!$P$4,Data!K1041<>Dashboard!$R$4),Data!G1041,NA()))","v":7265.630008476568},null,null,null,null,null,null,null,null,null,null,null,null,null,null,"ID1486",null,null,null,null,null,null,null,null,77000,1,null,null,null,null,null,null,null,null,null,null,null,null,null,null,null,null,null,null,null,null,null,null,null,"ID1486",null,77000]
[null,{"$f":"IF(Dashboard!$P$4=\"All\",Data!G1042,IF(Data!K1042=Dashboard!$P$4,Data!G1042,NA()))","v":{"$error":"#N/A"}},"","","",{"$f":"IF(C491<>\"\",Data!$M1042,\"\")","v":""},null,null,null,null,{"$f":"IF(Dashboard!$R$4=\"All\",Data!G1042,IF(Data!K1042=Dashboard!$R$4,Data!G1042,NA()))","v":44132.991617883956},44132.991617883956,"","",{"$f":"IF(L491<>\"\",Data!$M1042,\"\")","v":16},null,null,null,null,{"$f":"IF(OR(Dashboard!$P$4=\"All\",Dashboard!$R$4=\"All\"),NA(),IF(OR(Data!K1042<>Dashboard!$P$4,Data!K1042<>Dashboard!$R$4),Data!G1042,NA()))","v":44132.991617883956},null,null,null,null,null,null,null,null,null,null,null,null,null,null,"ID1488",null,null,64000,1,null,null,null,null,null,null,null,null,null,null,null,null,null,null,null,null,null,null,null,null,null,null,null,null,null,null,null,null,null,"ID1488",null,64000]
[null,{"$f":"IF(Dashboard!$P$4=\"All\",Data!G1043,IF(Data!K1043=Dashboard!$P$4,Data!G1043,NA()))","v":{"$error":"#N/A"}},"","","",{"$f":"IF(C492<>\"\",Data!$M1043,\"\")","v":""},null,null,null,null,{"$f":"IF(Dashboard!$R$4=\"All\",Data!G1043,IF(Data!K1043=Dashboard!$R$4,Data!G1043,NA()))","v":{"$error":"#N/A"}},"","","",{"$f":"IF(L492<>\"\",Data!$M1043,\"\")","v":""},null,null,null,null,{"$f":"IF(OR(Dashboard!$P$4=\"All\",Dashboard!$R$4=\"All\"),NA(),IF(OR(Data!K1043<>Dashboard!$P$4,Data!K1043<>Dashboard!$R$4),Data!G1043,NA()))","v":9438.1958443445619},null,null,null,null,null,null,null,null,null,null,null,null,null,null,"ID1490",76000,1,null,null,null,null,null,null,null,null,null,null,null,null,null,null,null,null,null,null,null,null,null,null,null,null,null,null,null,null,null,null,null,"ID1490",null,null,null,76000]
[null,{"$f":"IF(Dashboard!$P$4=\"All\",Data!G1044,IF(Data!K1044=Dashboard!$P$4,Data!G1044,NA()))","v":{"$error":"#N/A"}},"","","",{"$f":"IF(C493<>\"\",Data!$M1044,\"\")","v":""},null,null,null,null,{"$f":"IF(Dashboard!$R$4=\"All\",Data!G1044,IF(Data!K1044=Dashboard!$R$4,Data!G1044,NA()))","v":{"$error":"#N/A"}},"","","",{"$f":"IF(L493<>\"\",Data!$M1044,\"\")","v":""},null,null,null,null,{"$f":"IF(OR(Dashboard!$P$4=\"All\",Dashboard!$R$4=\"All\"),NA(),IF(OR(Data!K1044<>Dashboard!$P$4,Data!K1044<>Dashboard!$R$4),Data!G1044,NA()))","v":18000},null,null,null,null,null,null,null,null,null,null,null,null,null,null,"ID1496",null,null,null,null,null,null,null,null,null,null,45000,1,null,null,null,null,null,null,null,null,null,null,null,null,null,null,null,null,null,null,null,null,null,"ID1496",null,45000]
[null,{"$f":"IF(Dashboard!$P$4=\"All\",Data!G1045,IF(Data!K1045=Dashboard!$P$4,Data!G1045,NA()))","v":{"$error":"#N/A"}},"","","",{"$f":"IF(C494<>\"\",Data!$M1045,\"\")","v":""},null,null,null,null,{"$f":"IF(Dashboard!$R$4=\"All\",Data!G1045,IF(Data!K1045=Dashboard!$R$4,Data!G1045,NA()))","v":{"$error":"#N/A"}},"","","",{"$f":"IF(L494<>\"\",Data!$M1045,\"\")","v":""},null,null,null,null,{"$f":"IF(OR(Dashboard!$P$4=\"All\",Dashboard!$R$4=\"All\"),NA(),IF(OR(Data!K1045<>Dashboard!$P$4,Data!K1045<>Dashboard!$R$4),Data!G1045,NA()))","v":3561.5833374885137},null,null,null,null,null,null,null,null,null,null,null,null,null,null,"ID1501",61000,1,null,null,null,null,null,null,null,null,null,null,null,null,null,null,null,null,null,null,null,null,null,null,null,null,null,null,null,null,null,null,null,"ID1501",null,null,61000]
[null,{"$f":"IF(Dashboard!$P$4=\"All\",Data!G1046,IF(Data!K1046=Dashboard!$P$4,Data!G1046,NA()))","v":{"$error":"#N/A"}},"","","",{"$f":"IF(C495<>\"\",Data!$M1046,\"\")","v":""},null,null,null,null,{"$f":"IF(Dashboard!$R$4=\"All\",Data!G1046,IF(Data!K1046=Dashboard!$R$4,Data!G1046,NA()))","v":{"$error":"#N/A"}},"","","",{"$f":"IF(L495<>\"\",Data!$M1046,\"\")","v":""},null,null,null,null,{"$f":"IF(OR(Dashboard!$P$4=\"All\",Dashboard!$R$4=\"All\"),NA(),IF(OR(Data!K1046<>Dashboard!$P$4,Data!K1046<>Dashboard!$R$4),Data!G1046,NA()))","v":3561.5833374885137},null,null,null,null,null,null,null,null,null,null,null,null,null,null,"ID1502",66000,1,null,null,null,null,null,null,null,null,null,null,null,null,null,null,null,null,null,null,null,null,null,null,null,null,null,null,null,null,null,null,null,"ID1502",null,null,66000]
[null,{"$f":"IF(Dashboard!$P$4=\"All\",Data!G1047,IF(Data!K1047=Dashboard!$P$4,Data!G1047,NA()))","v":{"$error":"#N/A"}},"","","",{"$f":"IF(C496<>\"\",Data!$M1047,\"\")","v":""},null,null,null,null,{"$f":"IF(Dashboard!$R$4=\"All\",Data!G1047,IF(Data!K1047=Dashboard!$R$4,Data!G1047,NA()))","v":{"$error":"#N/A"}},"","","",{"$f":"IF(L496<>\"\",Data!$M1047,\"\")","v":""},null,null,null,null,{"$f":"IF(OR(Dashboard!$P$4=\"All\",Dashboard!$R$4=\"All\"),NA(),IF(OR(Data!K1047<>Dashboard!$P$4,Data!K1047<>Dashboard!$R$4),Data!G1047,NA()))","v":5100},null,null,null,null,null,null,null,null,null,null,null,null,null,null,"ID1504",null,null,55000,1,null,null,null,null,null,null,null,null,null,null,null,null,null,null,null,null,null,null,null,null,null,null,null,null,null,null,null,null,null,"ID1504",null,55000]
[null,{"$f":"IF(Dashboard!$P$4=\"All\",Data!G1048,IF(Data!K1048=Dashboard!$P$4,Data!G1048,NA()))","v":{"$error":"#N/A"}},"","","",{"$f":"IF(C497<>\"\",Data!$M1048,\"\")","v":""},null,null,null,null,{"$f":"IF(Dashboard!$R$4=\"All\",Data!G1048,IF(Data!K1048=Dashboard!$R$4,Data!G1048,NA()))","v":{"$error":"#N/A"}},"","","",{"$f":"IF(L497<>\"\",Data!$M1048,\"\")","v":""},null,null,null,null,{"$f":"IF(OR(Dashboard!$P$4=\"All\",Dashboard!$R$4=\"All\"),NA(),IF(OR(Data!K1048<>Dashboard!$P$4,Data!K1048<>Dashboard!$R$4),Data!G1048,NA()))","v":21369.500024931083},null,null,null,null,null,null,null,null,null,null,null,null,null,null,"ID1505",null,null,null,null,null,null,null,null,null,null,null,null,null,null,null,null,32000,1,null,null,null,null,null,null,null,null,null,null,null,null,null,null,null,"ID1505",null,null,32000]
[null,{"$f":"IF(Dashboard!$P$4=\"All\",Data!G1049,IF(Data!K1049=Dashboard!$P$4,Data!G1049,NA()))","v":{"$error":"#N/A"}},"","","",{"$f":"IF(C498<>\"\",Data!$M1049,\"\")","v":""},null,null,null,null,{"$f":"IF(Dashboard!$R$4=\"All\",Data!G1049,IF(Data!K1049=Dashboard!$R$4,Data!G1049,NA()))","v":{"$error":"#N/A"}},"","","",{"$f":"IF(L498<>\"\",Data!$M1049,\"\")","v":""},null,null,null,null,{"$f":"IF(OR(Dashboard!$P$4=\"All\",Dashboard!$R$4=\"All\"),NA(),IF(OR(Data!K1049<>Dashboard!$P$4,Data!K1049<>Dashboard!$R$4),Data!G1049,NA()))","v":5342.3750062327708},null,null,null,null,null,null,null,null,null,null,null,null,null,null,"ID1511",74300,1,null,null,null,null,null,null,null,null,null,null,null,null,null,null,null,null,null,null,null,null,null,null,null,null,null,null,null,null,null,null,null,"ID1511",null,null,74300]
[null,{"$f":"IF(Dashboard!$P$4=\"All\",Data!G1050,IF(Data!K1050=Dashboard!$P$4,Data!G1050,NA()))","v":{"$error":"#N/A"}},"","","",{"$f":"IF(C499<>\"\",Data!$M1050,\"\")","v":""},null,null,null,null,{"$f":"IF(Dashboard!$R$4=\"All\",Data!G1050,IF(Data!K1050=Dashboard!$R$4,Data!G1050,NA()))","v":{"$error":"#N/A"}},"","","",{"$f":"IF(L499<>\"\",Data!$M1050,\"\")","v":""},null,null,null,null,{"$f":"IF(OR(Dashboard!$P$4=\"All\",Dashboard!$R$4=\"All\"),NA(),IF(OR(Data!K1050<>Dashboard!$P$4,Data!K1050<>Dashboard!$R$4),Data!G1050,NA()))","v":50000},null,null,null,null,null,null,null,null,null,null,null,null,null,null,"ID1514",95000,1,null,null,null,null,null,null,null,null,null,null,null,null,null,null,null,null,null,null,null,null,null,null,null,null,null,null,null,null,null,null,null,"ID1514",null,null,95000]
[null,{"$f":"IF(Dashboard!$P$4=\"All\",Data!G1051,IF(Data!K1051=Dashboard!$P$4,Data!G1051,NA()))","v":{"$error":"#N/A"}},"","","",{"$f":"IF(C500<>\"\",Data!$M1051,\"\")","v":""},null,null,null,null,{"$f":"IF(Dashboard!$R$4=\"All\",Data!G1051,IF(Data!K1051=Dashboard!$R$4,Data!G1051,NA()))","v":{"$error":"#N/A"}},"","","",{"$f":"IF(L500<>\"\",Data!$M1051,\"\")","v":""},null,null,null,null,{"$f":"IF(OR(Dashboard!$P$4=\"All\",Dashboard!$R$4=\"All\"),NA(),IF(OR(Data!K1051<>Dashboard!$P$4,Data!K1051<>Dashboard!$R$4),Data!G1051,NA()))","v":28492.66669990811},null,null,null,null,null,null,null,null,null,null,null,null,null,null,"ID1515",null,null,null,null,64300,1,null,null,null,null,null,null,null,null,null,null,null,null,null,null,null,null,null,null,null,null,null,null,null,null,null,null,null,"ID1515",null,null,64300]
[null,{"$f":"IF(Dashboard!$P$4=\"All\",Data!G1052,IF(Data!K1052=Dashboard!$P$4,Data!G1052,NA()))","v":{"$error":"#N/A"}},"","","",{"$f":"IF(C501<>\"\",Data!$M1052,\"\")","v":""},null,null,null,null,{"$f":"IF(Dashboard!$R$4=\"All\",Data!G1052,IF(Data!K1052=Dashboard!$R$4,Data!G1052,NA()))","v":24588.381044249632},24588.381044249632,"",24588.381044249632,{"$f":"IF(L501<>\"\",Data!$M1052,\"\")","v":0},null,null,null,null,{"$f":"IF(OR(Dashboard!$P$4=\"All\",Dashboard!$R$4=\"All\"),NA(),IF(OR(Data!K1052<>Dashboard!$P$4,Data!K1052<>Dashboard!$R$4),Data!G1052,NA()))","v":24588.381044249632},null,null,null,null,null,null,null,null,null,null,null,null,null,null,"ID1516",null,null,null,null,null,null,null,null,null,null,null,null,250000,1,null,null,null,null,null,null,null,null,null,null,null,null,null,null,null,null,null,null,null,"ID1516",null,null,null,250000]
[null,{"$f":"IF(Dashboard!$P$4=\"All\",Data!G1053,IF(Data!K1053=Dashboard!$P$4,Data!G1053,NA()))","v":{"$error":"#N/A"}},"","","",{"$f":"IF(C502<>\"\",Data!$M1053,\"\")","v":""},null,null,null,null,{"$f":"IF(Dashboard!$R$4=\"All\",Data!G1053,IF(Data!K1053=Dashboard!$R$4,Data!G1053,NA()))","v":{"$error":"#N/A"}},"","","",{"$f":"IF(L502<>\"\",Data!$M1053,\"\")","v":""},null,null,null,null,{"$f":"IF(OR(Dashboard!$P$4=\"All\",Dashboard!$R$4=\"All\"),NA(),IF(OR(Data!K1053<>Dashboard!$P$4,Data!K1053<>Dashboard!$R$4),Data!G1053,NA()))","v":7000},null,null,null,null,null,null,null,null,null,null,null,null,null,null,"ID1519",null,null,89000,1,null,null,null,null,null,null,null,null,null,null,null,null,null,null,null,null,null,null,null,null,null,null,null,null,null,null,null,null,null,"ID1519",null,89000]
[null,{"$f":"IF(Dashboard!$P$4=\"All\",Data!G1054,IF(Data!K1054=Dashboard!$P$4,Data!G1054,NA()))","v":{"$error":"#N/A"}},"","","",{"$f":"IF(C503<>\"\",Data!$M1054,\"\")","v":""},null,null,null,null,{"$f":"IF(Dashboard!$R$4=\"All\",Data!G1054,IF(Data!K1054=Dashboard!$R$4,Data!G1054,NA()))","v":{"$error":"#N/A"}},"","","",{"$f":"IF(L503<>\"\",Data!$M1054,\"\")","v":""},null,null,null,null,{"$f":"IF(OR(Dashboard!$P$4=\"All\",Dashboard!$R$4=\"All\"),NA(),IF(OR(Data!K1054<>Dashboard!$P$4,Data!K1054<>Dashboard!$R$4),Data!G1054,NA()))","v":7799.8675090998449},null,null,null,null,null,null,null,null,null,null,null,null,null,null,"ID1520",75000,1,null,null,null,null,null,null,null,null,null,null,null,null,null,null,null,null,null,null,null,null,null,null,null,null,null,null,null,null,null,null,null,"ID1520",null,null,null,75000]
[null,{"$f":"IF(Dashboard!$P$4=\"All\",Data!G1055,IF(Data!K1055=Dashboard!$P$4,Data!G1055,NA()))","v":{"$error":"#N/A"}},"","","",{"$f":"IF(C504<>\"\",Data!$M1055,\"\")","v":""},null,null,null,null,{"$f":"IF(Dashboard!$R$4=\"All\",Data!G1055,IF(Data!K1055=Dashboard!$R$4,Data!G1055,NA()))","v":78808.913603364199},78808.913603364199,"","",{"$f":"IF(L504<>\"\",Data!$M1055,\"\")","v":12},null,null,null,null,{"$f":"IF(OR(Dashboard!$P$4=\"All\",Dashboard!$R$4=\"All\"),NA(),IF(OR(Data!K1055<>Dashboard!$P$4,Data!K1055<>Dashboard!$R$4),Data!G1055,NA()))","v":78808.913603364199},null,null,null,null,null,null,null,null,null,null,null,null,null,null,"ID1521",45000,1,null,null,null,null,null,null,null,null,null,null,null,null,null,null,null,null,null,null,null,null,null,null,null,null,null,null,null,null,null,null,null,"ID1521",null,null,null,45000]
[null,{"$f":"IF(Dashboard!$P$4=\"All\",Data!G1056,IF(Data!K1056=Dashboard!$P$4,Data!G1056,NA()))","v":{"$error":"#N/A"}},"","","",{"$f":"IF(C505<>\"\",Data!$M1056,\"\")","v":""},null,null,null,null,{"$f":"IF(Dashboard!$R$4=\"All\",Data!G1056,IF(Data!K1056=Dashboard!$R$4,Data!G1056,NA()))","v":{"$error":"#N/A"}},"","","",{"$f":"IF(L505<>\"\",Data!$M1056,\"\")","v":""},null,null,null,null,{"$f":"IF(OR(Dashboard!$P$4=\"All\",Dashboard!$R$4=\"All\"),NA(),IF(OR(Data!K1056<>Dashboard!$P$4,Data!K1056<>Dashboard!$R$4),Data!G1056,NA()))","v":6720},null,null,null,null,null,null,null,null,null,null,null,null,null,null,"ID1522",null,null,null,null,null,null,127500,1,null,null,null,null,null,null,null,null,null,null,null,null,null,null,null,null,null,null,null,null,null,null,null,null,null,"ID1522",null,null,null,127500]
[null,{"$f":"IF(Dashboard!$P$4=\"All\",Data!G1057,IF(Data!K1057=Dashboard!$P$4,Data!G1057,NA()))","v":{"$error":"#N/A"}},"","","",{"$f":"IF(C506<>\"\",Data!$M1057,\"\")","v":""},null,null,null,null,{"$f":"IF(Dashboard!$R$4=\"All\",Data!G1057,IF(Data!K1057=Dashboard!$R$4,Data!G1057,NA()))","v":{"$error":"#N/A"}},"","","",{"$f":"IF(L506<>\"\",Data!$M1057,\"\")","v":""},null,null,null,null,{"$f":"IF(OR(Dashboard!$P$4=\"All\",Dashboard!$R$4=\"All\"),NA(),IF(OR(Data!K1057<>Dashboard!$P$4,Data!K1057<>Dashboard!$R$4),Data!G1057,NA()))","v":4451.9791718606421},null,null,null,null,null,null,null,null,null,null,null,null,null,null,"ID1523",null,null,null,null,null,null,170000,1,null,null,null,null,null,null,null,null,null,null,null,null,null,null,null,null,null,null,null,null,null,null,null,null,null,"ID1523",null,170000]
[null,{"$f":"IF(Dashboard!$P$4=\"All\",Data!G1058,IF(Data!K1058=Dashboard!$P$4,Data!G1058,NA()))","v":{"$error":"#N/A"}},"","","",{"$f":"IF(C507<>\"\",Data!$M1058,\"\")","v":""},null,null,null,null,{"$f":"IF(Dashboard!$R$4=\"All\",Data!G1058,IF(Data!K1058=Dashboard!$R$4,Data!G1058,NA()))","v":47285.348162018527},47285.348162018527,"","",{"$f":"IF(L507<>\"\",Data!$M1058,\"\")","v":15},null,null,null,null,{"$f":"IF(OR(Dashboard!$P$4=\"All\",Dashboard!$R$4=\"All\"),NA(),IF(OR(Data!K1058<>Dashboard!$P$4,Data!K1058<>Dashboard!$R$4),Data!G1058,NA()))","v":47285.348162018527},null,null,null,null,null,null,null,null,null,null,null,null,null,null,"ID1525",62000,1,null,null,null,null,null,null,null,null,null,null,null,null,null,null,null,null,null,null,null,null,null,null,null,null,null,null,null,null,null,null,null,"ID1525",null,null,null,62000]
[null,{"$f":"IF(Dashboard!$P$4=\"All\",Data!G1059,IF(Data!K1059=Dashboard!$P$4,Data!G1059,NA()))","v":{"$error":"#N/A"}},"","","",{"$f":"IF(C508<>\"\",Data!$M1059,\"\")","v":""},null,null,null,null,{"$f":"IF(Dashboard!$R$4=\"All\",Data!G1059,IF(Data!K1059=Dashboard!$R$4,Data!G1059,NA()))","v":{"$error":"#N/A"}},"","","",{"$f":"IF(L508<>\"\",Data!$M1059,\"\")","v":""},null,null,null,null,{"$f":"IF(OR(Dashboard!$P$4=\"All\",Dashboard!$R$4=\"All\"),NA(),IF(OR(Data!K1059<>Dashboard!$P$4,Data!K1059<>Dashboard!$R$4),Data!G1059,NA()))","v":7200},null,null,null,null,null,null,null,null,null,null,null,null,null,null,"ID1526",null,null,22000,1,null,null,null,null,null,null,null,null,null,null,null,null,null,null,null,null,null,null,null,null,null,null,null,null,null,null,null,null,null,"ID1526",null,null,22000]
[null,{"$f":"IF(Dashboard!$P$4=\"All\",Data!G1060,IF(Data!K1060=Dashboard!$P$4,Data!G1060,NA()))","v":{"$error":"#N/A"}},"","","",{"$f":"IF(C509<>\"\",Data!$M1060,\"\")","v":""},null,null,null,null,{"$f":"IF(Dashboard!$R$4=\"All\",Data!G1060,IF(Data!K1060=Dashboard!$R$4,Data!G1060,NA()))","v":{"$error":"#N/A"}},"","","",{"$f":"IF(L509<>\"\",Data!$M1060,\"\")","v":""},null,null,null,null,{"$f":"IF(OR(Dashboard!$P$4=\"All\",Dashboard!$R$4=\"All\"),NA(),IF(OR(Data!K1060<>Dashboard!$P$4,Data!K1060<>Dashboard!$R$4),Data!G1060,NA()))","v":44519.791718606422},null,null,null,null,null,null,null,null,null,null,null,null,null,null,"ID1527",45000,1,null,null,null,null,null,null,null,null,null,null,null,null,null,null,null,null,null,null,null,null,null,null,null,null,null,null,null,null,null,null,null,"ID1527",null,null,45000]
[null,{"$f":"IF(Dashboard!$P$4=\"All\",Data!G1061,IF(Data!K1061=Dashboard!$P$4,Data!G1061,NA()))","v":{"$error":"#N/A"}},"","","",{"$f":"IF(C510<>\"\",Data!$M1061,\"\")","v":""},null,null,null,null,{"$f":"IF(Dashboard!$R$4=\"All\",Data!G1061,IF(Data!K1061=Dashboard!$R$4,Data!G1061,NA()))","v":{"$error":"#N/A"}},"","","",{"$f":"IF(L510<>\"\",Data!$M1061,\"\")","v":""},null,null,null,null,{"$f":"IF(OR(Dashboard!$P$4=\"All\",Dashboard!$R$4=\"All\"),NA(),IF(OR(Data!K1061<>Dashboard!$P$4,Data!K1061<>Dashboard!$R$4),Data!G1061,NA()))","v":2493.1083362419595},null,null,null,null,null,null,null,null,null,null,null,null,null,null,"ID1528",145000,1,null,null,null,null,null,null,null,null,null,null,null,null,null,null,null,null,null,null,null,null,null,null,null,null,null,null,null,null,null,null,null,"ID1528",null,null,145000]
[null,{"$f":"IF(Dashboard!$P$4=\"All\",Data!G1062,IF(Data!K1062=Dashboard!$P$4,Data!G1062,NA()))","v":{"$error":"#N/A"}},"","","",{"$f":"IF(C511<>\"\",Data!$M1062,\"\")","v":""},null,null,null,null,{"$f":"IF(Dashboard!$R$4=\"All\",Data!G1062,IF(Data!K1062=Dashboard!$R$4,Data!G1062,NA()))","v":31523.565441345683},31523.565441345683,"",31523.565441345683,{"$f":"IF(L511<>\"\",Data!$M1062,\"\")","v":1},null,null,null,null,{"$f":"IF(OR(Dashboard!$P$4=\"All\",Dashboard!$R$4=\"All\"),NA(),IF(OR(Data!K1062<>Dashboard!$P$4,Data!K1062<>Dashboard!$R$4),Data!G1062,NA()))","v":31523.565441345683},null,null,null,null,null,null,null,null,null,null,null,null,null,null,"ID1529",89000,1,null,null,null,null,null,null,null,null,null,null,null,null,null,null,null,null,null,null,null,null,null,null,null,null,null,null,null,null,null,null,null,"ID1529",null,null,null,89000]
[null,{"$f":"IF(Dashboard!$P$4=\"All\",Data!G1063,IF(Data!K1063=Dashboard!$P$4,Data!G1063,NA()))","v":{"$error":"#N/A"}},"","","",{"$f":"IF(C512<>\"\",Data!$M1063,\"\")","v":""},null,null,null,null,{"$f":"IF(Dashboard!$R$4=\"All\",Data!G1063,IF(Data!K1063=Dashboard!$R$4,Data!G1063,NA()))","v":{"$error":"#N/A"}},"","","",{"$f":"IF(L512<>\"\",Data!$M1063,\"\")","v":""},null,null,null,null,{"$f":"IF(OR(Dashboard!$P$4=\"All\",Dashboard!$R$4=\"All\"),NA(),IF(OR(Data!K1063<>Dashboard!$P$4,Data!K1063<>Dashboard!$R$4),Data!G1063,NA()))","v":21369.500024931083},null,null,null,null,null,null,null,null,null,null,null,null,null,null,"ID1530",null,null,null,null,38000,1,null,null,null,null,null,null,null,null,null,null,null,null,null,null,null,null,null,null,null,null,null,null,null,null,null,null,null,"ID1530",null,null,38000]
[null,{"$f":"IF(Dashboard!$P$4=\"All\",Data!G1064,IF(Data!K1064=Dashboard!$P$4,Data!G1064,NA()))","v":{"$error":"#N/A"}},"","","",{"$f":"IF(C513<>\"\",Data!$M1064,\"\")","v":""},null,null,null,null,{"$f":"IF(Dashboard!$R$4=\"All\",Data!G1064,IF(Data!K1064=Dashboard!$R$4,Data!G1064,NA()))","v":126094.26176538273},126094.26176538273,126094.26176538273,"",{"$f":"IF(L513<>\"\",Data!$M1064,\"\")","v":10},null,null,null,null,{"$f":"IF(OR(Dashboard!$P$4=\"All\",Dashboard!$R$4=\"All\"),NA(),IF(OR(Data!K1064<>Dashboard!$P$4,Data!K1064<>Dashboard!$R$4),Data!G1064,NA()))","v":126094.26176538273},null,null,null,null,null,null,null,null,null,null,null,null,null,null,"ID1534",null,null,105000,1,null,null,null,null,null,null,null,null,null,null,null,null,null,null,null,null,null,null,null,null,null,null,null,null,null,null,null,null,null,"ID1534",105000]
[null,{"$f":"IF(Dashboard!$P$4=\"All\",Data!G1065,IF(Data!K1065=Dashboard!$P$4,Data!G1065,NA()))","v":{"$error":"#N/A"}},"","","",{"$f":"IF(C514<>\"\",Data!$M1065,\"\")","v":""},null,null,null,null,{"$f":"IF(Dashboard!$R$4=\"All\",Data!G1065,IF(Data!K1065=Dashboard!$R$4,Data!G1065,NA()))","v":99299.231140238902},99299.231140238902,"","",{"$f":"IF(L514<>\"\",Data!$M1065,\"\")","v":1},null,null,null,null,{"$f":"IF(OR(Dashboard!$P$4=\"All\",Dashboard!$R$4=\"All\"),NA(),IF(OR(Data!K1065<>Dashboard!$P$4,Data!K1065<>Dashboard!$R$4),Data!G1065,NA()))","v":99299.231140238902},null,null,null,null,null,null,null,null,null,null,null,null,null,null,"ID1554",70970,1,null,null,null,null,null,null,null,null,null,null,null,null,null,null,null,null,null,null,null,null,null,null,null,null,null,null,null,null,null,null,null,"ID1554",null,null,70970]
[null,{"$f":"IF(Dashboard!$P$4=\"All\",Data!G1066,IF(Data!K1066=Dashboard!$P$4,Data!G1066,NA()))","v":{"$error":"#N/A"}},"","","",{"$f":"IF(C515<>\"\",Data!$M1066,\"\")","v":""},null,null,null,null,{"$f":"IF(Dashboard!$R$4=\"All\",Data!G1066,IF(Data!K1066=Dashboard!$R$4,Data!G1066,NA()))","v":86689.804963700633},86689.804963700633,"","",{"$f":"IF(L515<>\"\",Data!$M1066,\"\")","v":22},null,null,null,null,{"$f":"IF(OR(Dashboard!$P$4=\"All\",Dashboard!$R$4=\"All\"),NA(),IF(OR(Data!K1066<>Dashboard!$P$4,Data!K1066<>Dashboard!$R$4),Data!G1066,NA()))","v":86689.804963700633},null,null,null,null,null,null,null,null,null,null,null,null,null,null,"ID1558",null,null,null,null,null,null,null,null,null,null,null,null,125000,1,null,null,null,null,null,null,null,null,null,null,null,null,null,null,null,null,null,null,null,"ID1558",null,null,null,125000]
[null,{"$f":"IF(Dashboard!$P$4=\"All\",Data!G1067,IF(Data!K1067=Dashboard!$P$4,Data!G1067,NA()))","v":{"$error":"#N/A"}},{"$f":"IF(ISNA(B516),\"\",B516)","v":""},{"$f":"IF(C516>=PERCENTILE($C$3:$C$1337,0.9),C516,\"\")","v":""},{"$f":"IF(C516<=PERCENTILE($C$3:$C$1337,0.1),C516,\"\")","v":""},{"$f":"IF(C516<>\"\",Data!$M1067,\"\")","v":""},null,null,null,null,{"$f":"IF(Dashboard!$R$4=\"All\",Data!G1067,IF(Data!K1067=Dashboard!$R$4,Data!G1067,NA()))","v":{"$error":"#N/A"}},{"$f":"IF(ISNA(K516),\"\",K516)","v":""},{"$f":"IF(L516>=PERCENTILE($L$3:$L$1337,0.9),L516,\"\")","v":""},{"$f":"IF(L516<=PERCENTILE($L$3:$L$1337,0.1),L516,\"\")","v":""},{"$f":"IF(L516<>\"\",Data!$M1067,\"\")","v":""},null,null,null,null,{"$f":"IF(OR(Dashboard!$P$4=\"All\",Dashboard!$R$4=\"All\"),NA(),IF(OR(Data!K1067<>Dashboard!$P$4,Data!K1067<>Dashboard!$R$4),Data!G1067,NA()))","v":50000},null,null,null,null,null,null,null,null,null,null,null,null,null,null,"ID1560",null,null,59000,1,null,null,null,null,null,null,null,null,null,null,null,null,null,null,null,null,null,null,null,null,null,null,null,null,null,null,null,null,null,"ID1560",null,null,59000]
[null,{"$f":"IF(Dashboard!$P$4=\"All\",Data!G1068,IF(Data!K1068=Dashboard!$P$4,Data!G1068,NA()))","v":{"$error":"#N/A"}},"","","",{"$f":"IF(C517<>\"\",Data!$M1068,\"\")","v":""},null,null,null,null,{"$f":"IF(Dashboard!$R$4=\"All\",Data!G1068,IF(Data!K1068=Dashboard!$R$4,Data!G1068,NA()))","v":{"$error":"#N/A"}},"","","",{"$f":"IF(L517<>\"\",Data!$M1068,\"\")","v":""},null,null,null,null,{"$f":"IF(OR(Dashboard!$P$4=\"All\",Dashboard!$R$4=\"All\"),NA(),IF(OR(Data!K1068<>Dashboard!$P$4,Data!K1068<>Dashboard!$R$4),Data!G1068,NA()))","v":4273.9000049862161},null,null,null,null,null,null,null,null,null,null,null,null,null,null,"ID1561",71500,1,null,null,null,null,null,null,null,null,null,null,null,null,null,null,null,null,null,null,null,null,null,null,null,null,null,null,null,null,null,null,null,"ID1561",null,null,71500]
[null,{"$f":"IF(Dashboard!$P$4=\"All\",Data!G1069,IF(Data!K1069=Dashboard!$P$4,Data!G1069,NA()))","v":{"$error":"#N/A"}},"","","",{"$f":"IF(C518<>\"\",Data!$M1069,\"\")","v":""},null,null,null,null,{"$f":"IF(Dashboard!$R$4=\"All\",Data!G1069,IF(Data!K1069=Dashboard!$R$4,Data!G1069,NA()))","v":{"$error":"#N/A"}},"","","",{"$f":"IF(L518<>\"\",Data!$M1069,\"\")","v":""},null,null,null,null,{"$f":"IF(OR(Dashboard!$P$4=\"All\",Dashboard!$R$4=\"All\"),NA(),IF(OR(Data!K1069<>Dashboard!$P$4,Data!K1069<>Dashboard!$R$4),Data!G1069,NA()))","v":4451.9791718606421},null,null,null,null,null,null,null,null,null,null,null,null,null,null,"ID1564",null,null,90000,1,null,null,null,null,null,null,null,null,null,null,null,null,null,null,null,null,null,null,null,null,null,null,null,null,null,null,null,null,null,"ID1564",null,null,90000]
[null,{"$f":"IF(Dashboard!$P$4=\"All\",Data!G1070,IF(Data!K1070=Dashboard!$P$4,Data!G1070,NA()))","v":{"$error":"#N/A"}},"","","",{"$f":"IF(C519<>\"\",Data!$M1070,\"\")","v":""},null,null,null,null,{"$f":"IF(Dashboard!$R$4=\"All\",Data!G1070,IF(Data!K1070=Dashboard!$R$4,Data!G1070,NA()))","v":{"$error":"#N/A"}},"","","",{"$f":"IF(L519<>\"\",Data!$M1070,\"\")","v":""},null,null,null,null,{"$f":"IF(OR(Dashboard!$P$4=\"All\",Dashboard!$R$4=\"All\"),NA(),IF(OR(Data!K1070<>Dashboard!$P$4,Data!K1070<>Dashboard!$R$4),Data!G1070,NA()))","v":10684.750012465542},null,null,null,null,null,null,null,null,null,null,null,null,null,null,"ID1566",40000,1,null,null,null,null,null,null,null,null,null,null,null,null,null,null,null,null,null,null,null,null,null,null,null,null,null,null,null,null,null,null,null,"ID1566",null,null,40000]
[null,{"$f":"IF(Dashboard!$P$4=\"All\",Data!G1071,IF(Data!K1071=Dashboard!$P$4,Data!G1071,NA()))","v":{"$error":"#N/A"}},"","","",{"$f":"IF(C520<>\"\",Data!$M1071,\"\")","v":""},null,null,null,null,{"$f":"IF(Dashboard!$R$4=\"All\",Data!G1071,IF(Data!K1071=Dashboard!$R$4,Data!G1071,NA()))","v":63835.220018725006},63835.220018725006,"","",{"$f":"IF(L520<>\"\",Data!$M1071,\"\")","v":25},null,null,null,null,{"$f":"IF(OR(Dashboard!$P$4=\"All\",Dashboard!$R$4=\"All\"),NA(),IF(OR(Data!K1071<>Dashboard!$P$4,Data!K1071<>Dashboard!$R$4),Data!G1071,NA()))","v":63835.220018725006},null,null,null,null,null,null,null,null,null,null,null,null,null,null,"ID1569",null,null,null,null,null,null,null,null,null,null,null,null,null,null,46325,1,null,null,null,null,null,null,null,null,null,null,null,null,null,null,null,null,null,"ID1569",null,null,46325]
[null,{"$f":"IF(Dashboard!$P$4=\"All\",Data!G1072,IF(Data!K1072=Dashboard!$P$4,Data!G1072,NA()))","v":{"$error":"#N/A"}},"","","",{"$f":"IF(C521<>\"\",Data!$M1072,\"\")","v":""},null,null,null,null,{"$f":"IF(Dashboard!$R$4=\"All\",Data!G1072,IF(Data!K1072=Dashboard!$R$4,Data!G1072,NA()))","v":36252.100257547536},36252.100257547536,"","",{"$f":"IF(L521<>\"\",Data!$M1072,\"\")","v":5},null,null,null,null,{"$f":"IF(OR(Dashboard!$P$4=\"All\",Dashboard!$R$4=\"All\"),NA(),IF(OR(Data!K1072<>Dashboard!$P$4,Data!K1072<>Dashboard!$R$4),Data!G1072,NA()))","v":36252.100257547536},null,null,null,null,null,null,null,null,null,null,null,null,null,null,"ID1570",15000,1,null,null,null,null,null,null,null,null,null,null,null,null,null,null,null,null,null,null,null,null,null,null,null,null,null,null,null,null,null,null,null,"ID1570",null,null,null,15000]
[null,{"$f":"IF(Dashboard!$P$4=\"All\",Data!G1073,IF(Data!K1073=Dashboard!$P$4,Data!G1073,NA()))","v":{"$error":"#N/A"}},"","","",{"$f":"IF(C522<>\"\",Data!$M1073,\"\")","v":""},null,null,null,null,{"$f":"IF(Dashboard!$R$4=\"All\",Data!G1073,IF(Data!K1073=Dashboard!$R$4,Data!G1073,NA()))","v":{"$error":"#N/A"}},"","","",{"$f":"IF(L522<>\"\",Data!$M1073,\"\")","v":""},null,null,null,null,{"$f":"IF(OR(Dashboard!$P$4=\"All\",Dashboard!$R$4=\"All\"),NA(),IF(OR(Data!K1073<>Dashboard!$P$4,Data!K1073<>Dashboard!$R$4),Data!G1073,NA()))","v":7960},null,null,null,null,null,null,null,null,null,null,null,null,null,null,"ID1571",31200,1,null,null,null,null,null,null,null,null,null,null,null,null,null,null,null,null,null,null,null,null,null,null,null,null,null,null,null,null,null,null,null,"ID1571",null,null,31200]
[null,{"$f":"IF(Dashboard!$P$4=\"All\",Data!G1074,IF(Data!K1074=Dashboard!$P$4,Data!G1074,NA()))","v":{"$error":"#N/A"}},"","","",{"$f":"IF(C523<>\"\",Data!$M1074,\"\")","v":""},null,null,null,null,{"$f":"IF(Dashboard!$R$4=\"All\",Data!G1074,IF(Data!K1074=Dashboard!$R$4,Data!G1074,NA()))","v":{"$error":"#N/A"}},"","","",{"$f":"IF(L523<>\"\",Data!$M1074,\"\")","v":""},null,null,null,null,{"$f":"IF(OR(Dashboard!$P$4=\"All\",Dashboard!$R$4=\"All\"),NA(),IF(OR(Data!K1074<>Dashboard!$P$4,Data!K1074<>Dashboard!$R$4),Data!G1074,NA()))","v":8903.9583437212841},null,null,null,null,null,null,null,null,null,null,null,null,null,null,"ID1575",null,null,null,null,null,null,null,null,null,null,null,null,41000,1,null,null,null,null,null,null,null,null,null,null,null,null,null,null,null,null,null,null,null,"ID1575",null,null,41000]
[null,{"$f":"IF(Dashboard!$P$4=\"All\",Data!G1075,IF(Data!K1075=Dashboard!$P$4,Data!G1075,NA()))","v":50815.977559664309},50815.977559664309,"","",{"$f":"IF(C524<>\"\",Data!$M1075,\"\")","v":3},null,null,null,null,{"$f":"IF(Dashboard!$R$4=\"All\",Data!G1075,IF(Data!K1075=Dashboard!$R$4,Data!G1075,NA()))","v":{"$error":"#N/A"}},"","","",{"$f":"IF(L524<>\"\",Data!$M1075,\"\")","v":""},null,null,null,null,{"$f":"IF(OR(Dashboard!$P$4=\"All\",Dashboard!$R$4=\"All\"),NA(),IF(OR(Data!K1075<>Dashboard!$P$4,Data!K1075<>Dashboard!$R$4),Data!G1075,NA()))","v":50815.977559664309},null,null,null,null,null,null,null,null,null,null,null,null,null,null,"ID1581",null,null,null,null,50000,1,null,null,null,null,null,null,null,null,null,null,null,null,null,null,null,null,null,null,null,null,null,null,null,null,null,null,null,"ID1581",null,null,50000]
[null,{"$f":"IF(Dashboard!$P$4=\"All\",Data!G1076,IF(Data!K1076=Dashboard!$P$4,Data!G1076,NA()))","v":{"$error":"#N/A"}},"","","",{"$f":"IF(C525<>\"\",Data!$M1076,\"\")","v":""},null,null,null,null,{"$f":"IF(Dashboard!$R$4=\"All\",Data!G1076,IF(Data!K1076=Dashboard!$R$4,Data!G1076,NA()))","v":47285.348162018527},47285.348162018527,"","",{"$f":"IF(L525<>\"\",Data!$M1076,\"\")","v":4},null,null,null,null,{"$f":"IF(OR(Dashboard!$P$4=\"All\",Dashboard!$R$4=\"All\"),NA(),IF(OR(Data!K1076<>Dashboard!$P$4,Data!K1076<>Dashboard!$R$4),Data!G1076,NA()))","v":47285.348162018527},null,null,null,null,null,null,null,null,null,null,null,null,null,null,"ID1583",null,null,null,null,null,null,null,null,null,null,null,null,null,null,null,null,85000,1,null,null,null,null,null,null,null,null,null,null,null,null,null,null,null,"ID1583",null,null,85000]
[null,{"$f":"IF(Dashboard!$P$4=\"All\",Data!G1077,IF(Data!K1077=Dashboard!$P$4,Data!G1077,NA()))","v":{"$error":"#N/A"}},"","","",{"$f":"IF(C526<>\"\",Data!$M1077,\"\")","v":""},null,null,null,null,{"$f":"IF(Dashboard!$R$4=\"All\",Data!G1077,IF(Data!K1077=Dashboard!$R$4,Data!G1077,NA()))","v":75656.557059229643},75656.557059229643,"","",{"$f":"IF(L526<>\"\",Data!$M1077,\"\")","v":10},null,null,null,null,{"$f":"IF(OR(Dashboard!$P$4=\"All\",Dashboard!$R$4=\"All\"),NA(),IF(OR(Data!K1077<>Dashboard!$P$4,Data!K1077<>Dashboard!$R$4),Data!G1077,NA()))","v":75656.557059229643},null,null,null,null,null,null,null,null,null,null,null,null,null,null,"ID1589",44000,1,null,null,null,null,null,null,null,null,null,null,null,null,null,null,null,null,null,null,null,null,null,null,null,null,null,null,null,null,null,null,null,"ID1589",null,null,44000]
[null,{"$f":"IF(Dashboard!$P$4=\"All\",Data!G1078,IF(Data!K1078=Dashboard!$P$4,Data!G1078,NA()))","v":{"$error":"#N/A"}},"","","",{"$f":"IF(C527<>\"\",Data!$M1078,\"\")","v":""},null,null,null,null,{"$f":"IF(Dashboard!$R$4=\"All\",Data!G1078,IF(Data!K1078=Dashboard!$R$4,Data!G1078,NA()))","v":{"$error":"#N/A"}},"","","",{"$f":"IF(L527<>\"\",Data!$M1078,\"\")","v":""},null,null,null,null,{"$f":"IF(OR(Dashboard!$P$4=\"All\",Dashboard!$R$4=\"All\"),NA(),IF(OR(Data!K1078<>Dashboard!$P$4,Data!K1078<>Dashboard!$R$4),Data!G1078,NA()))","v":4273.9000049862161},null,null,null,null,null,null,null,null,null,null,null,null,null,null,"ID1593",52000,1,null,null,null,null,null,null,null,null,null,null,null,null,null,null,null,null,null,null,null,null,null,null,null,null,null,null,null,null,null,null,null,"ID1593",null,null,null,52000]
[null,{"$f":"IF(Dashboard!$P$4=\"All\",Data!G1079,IF(Data!K1079=Dashboard!$P$4,Data!G1079,NA()))","v":{"$error":"#N/A"}},"","","",{"$f":"IF(C528<>\"\",Data!$M1079,\"\")","v":""},null,null,null,null,{"$f":"IF(Dashboard!$R$4=\"All\",Data!G1079,IF(Data!K1079=Dashboard!$R$4,Data!G1079,NA()))","v":{"$error":"#N/A"}},"","","",{"$f":"IF(L528<>\"\",Data!$M1079,\"\")","v":""},null,null,null,null,{"$f":"IF(OR(Dashboard!$P$4=\"All\",Dashboard!$R$4=\"All\"),NA(),IF(OR(Data!K1079<>Dashboard!$P$4,Data!K1079<>Dashboard!$R$4),Data!G1079,NA()))","v":47004.779242689488},null,null,null,null,null,null,null,null,null,null,null,null,null,null,"ID1603",50000,1,null,null,null,null,null,null,null,null,null,null,null,null,null,null,null,null,null,null,null,null,null,null,null,null,null,null,null,null,null,null,null,"ID1603",null,null,null,50000]
[null,{"$f":"IF(Dashboard!$P$4=\"All\",Data!G1080,IF(Data!K1080=Dashboard!$P$4,Data!G1080,NA()))","v":{"$error":"#N/A"}},"","","",{"$f":"IF(C529<>\"\",Data!$M1080,\"\")","v":""},null,null,null,null,{"$f":"IF(Dashboard!$R$4=\"All\",Data!G1080,IF(Data!K1080=Dashboard!$R$4,Data!G1080,NA()))","v":47285.348162018527},47285.348162018527,"","",{"$f":"IF(L529<>\"\",Data!$M1080,\"\")","v":10},null,null,null,null,{"$f":"IF(OR(Dashboard!$P$4=\"All\",Dashboard!$R$4=\"All\"),NA(),IF(OR(Data!K1080<>Dashboard!$P$4,Data!K1080<>Dashboard!$R$4),Data!G1080,NA()))","v":47285.348162018527},null,null,null,null,null,null,null,null,null,null,null,null,null,null,"ID1605",50000,1,null,null,null,null,null,null,null,null,null,null,null,null,null,null,null,null,null,null,null,null,null,null,null,null,null,null,null,null,null,null,null,"ID1605",null,null,null,50000]
[null,{"$f":"IF(Dashboard!$P$4=\"All\",Data!G1081,IF(Data!K1081=Dashboard!$P$4,Data!G1081,NA()))","v":{"$error":"#N/A"}},"","","",{"$f":"IF(C530<>\"\",Data!$M1081,\"\")","v":""},null,null,null,null,{"$f":"IF(Dashboard!$R$4=\"All\",Data!G1081,IF(Data!K1081=Dashboard!$R$4,Data!G1081,NA()))","v":91418.339779902482},91418.339779902482,"","",{"$f":"IF(L530<>\"\",Data!$M1081,\"\")","v":8},null,null,null,null,{"$f":"IF(OR(Dashboard!$P$4=\"All\",Dashboard!$R$4=\"All\"),NA(),IF(OR(Data!K1081<>Dashboard!$P$4,Data!K1081<>Dashboard!$R$4),Data!G1081,NA()))","v":91418.339779902482},null,null,null,null,null,null,null,null,null,null,null,null,null,null,"ID1610",55000,1,null,null,null,null,null,null,null,null,null,null,null,null,null,null,null,null,null,null,null,null,null,null,null,null,null,null,null,null,null,null,null,"ID1610",null,null,55000]
[null,{"$f":"IF(Dashboard!$P$4=\"All\",Data!G1082,IF(Data!K1082=Dashboard!$P$4,Data!G1082,NA()))","v":{"$error":"#N/A"}},"","","",{"$f":"IF(C531<>\"\",Data!$M1082,\"\")","v":""},null,null,null,null,{"$f":"IF(Dashboard!$R$4=\"All\",Data!G1082,IF(Data!K1082=Dashboard!$R$4,Data!G1082,NA()))","v":124518.08349331544},124518.08349331544,124518.08349331544,"",{"$f":"IF(L531<>\"\",Data!$M1082,\"\")","v":14},null,null,null,null,{"$f":"IF(OR(Dashboard!$P$4=\"All\",Dashboard!$R$4=\"All\"),NA(),IF(OR(Data!K1082<>Dashboard!$P$4,Data!K1082<>Dashboard!$R$4),Data!G1082,NA()))","v":124518.08349331544},null,null,null,null,null,null,null,null,null,null,null,null,null,null,"ID1611",38000,1,null,null,null,null,null,null,null,null,null,null,null,null,null,null,null,null,null,null,null,null,null,null,null,null,null,null,null,null,null,null,null,"ID1611",null,null,null,38000]
[null,{"$f":"IF(Dashboard!$P$4=\"All\",Data!G1083,IF(Data!K1083=Dashboard!$P$4,Data!G1083,NA()))","v":{"$error":"#N/A"}},"","","",{"$f":"IF(C532<>\"\",Data!$M1083,\"\")","v":""},null,null,null,null,{"$f":"IF(Dashboard!$R$4=\"All\",Data!G1083,IF(Data!K1083=Dashboard!$R$4,Data!G1083,NA()))","v":69213.140283018583},69213.140283018583,"","",{"$f":"IF(L532<>\"\",Data!$M1083,\"\")","v":3},null,null,null,null,{"$f":"IF(OR(Dashboard!$P$4=\"All\",Dashboard!$R$4=\"All\"),NA(),IF(OR(Data!K1083<>Dashboard!$P$4,Data!K1083<>Dashboard!$R$4),Data!G1083,NA()))","v":69213.140283018583},null,null,null,null,null,null,null,null,null,null,null,null,null,null,"ID1613",35500,1,null,null,null,null,null,null,null,null,null,null,null,null,null,null,null,null,null,null,null,null,null,null,null,null,null,null,null,null,null,null,null,"ID1613",null,null,35500]
[null,{"$f":"IF(Dashboard!$P$4=\"All\",Data!G1084,IF(Data!K1084=Dashboard!$P$4,Data!G1084,NA()))","v":{"$error":"#N/A"}},"","","",{"$f":"IF(C533<>\"\",Data!$M1084,\"\")","v":""},null,null,null,null,{"$f":"IF(Dashboard!$R$4=\"All\",Data!G1084,IF(Data!K1084=Dashboard!$R$4,Data!G1084,NA()))","v":{"$error":"#N/A"}},"","","",{"$f":"IF(L533<>\"\",Data!$M1084,\"\")","v":""},null,null,null,null,{"$f":"IF(OR(Dashboard!$P$4=\"All\",Dashboard!$R$4=\"All\"),NA(),IF(OR(Data!K1084<>Dashboard!$P$4,Data!K1084<>Dashboard!$R$4),Data!G1084,NA()))","v":3500},null,null,null,null,null,null,null,null,null,null,null,null,null,null,"ID1614",62000,1,null,null,null,null,null,null,null,null,null,null,null,null,null,null,null,null,null,null,null,null,null,null,null,null,null,null,null,null,null,null,null,"ID1614",null,62000]
[null,{"$f":"IF(Dashboard!$P$4=\"All\",Data!G1085,IF(Data!K1085=Dashboard!$P$4,Data!G1085,NA()))","v":{"$error":"#N/A"}},"","","",{"$f":"IF(C534<>\"\",Data!$M1085,\"\")","v":""},null,null,null,null,{"$f":"IF(Dashboard!$R$4=\"All\",Data!G1085,IF(Data!K1085=Dashboard!$R$4,Data!G1085,NA()))","v":63047.130882691366},63047.130882691366,"","",{"$f":"IF(L534<>\"\",Data!$M1085,\"\")","v":20},null,null,null,null,{"$f":"IF(OR(Dashboard!$P$4=\"All\",Dashboard!$R$4=\"All\"),NA(),IF(OR(Data!K1085<>Dashboard!$P$4,Data!K1085<>Dashboard!$R$4),Data!G1085,NA()))","v":63047.130882691366},null,null,null,null,null,null,null,null,null,null,null,null,null,null,"ID1616",60000,1,null,null,null,null,null,null,null,null,null,null,null,null,null,null,null,null,null,null,null,null,null,null,null,null,null,null,null,null,null,null,null,"ID1616",null,60000]
[null,{"$f":"IF(Dashboard!$P$4=\"All\",Data!G1086,IF(Data!K1086=Dashboard!$P$4,Data!G1086,NA()))","v":{"$error":"#N/A"}},"","","",{"$f":"IF(C535<>\"\",Data!$M1086,\"\")","v":""},null,null,null,null,{"$f":"IF(Dashboard!$R$4=\"All\",Data!G1086,IF(Data!K1086=Dashboard!$R$4,Data!G1086,NA()))","v":{"$error":"#N/A"}},"","","",{"$f":"IF(L535<>\"\",Data!$M1086,\"\")","v":""},null,null,null,null,{"$f":"IF(OR(Dashboard!$P$4=\"All\",Dashboard!$R$4=\"All\"),NA(),IF(OR(Data!K1086<>Dashboard!$P$4,Data!K1086<>Dashboard!$R$4),Data!G1086,NA()))","v":72412.768022521646},null,null,null,null,null,null,null,null,null,null,null,null,null,null,"ID1617",32884,1,null,null,null,null,null,null,null,null,null,null,null,null,null,null,null,null,null,null,null,null,null,null,null,null,null,null,null,null,null,null,null,"ID1617",null,null,null,32884]
[null,{"$f":"IF(Dashboard!$P$4=\"All\",Data!G1087,IF(Data!K1087=Dashboard!$P$4,Data!G1087,NA()))","v":{"$error":"#N/A"}},"","","",{"$f":"IF(C536<>\"\",Data!$M1087,\"\")","v":""},null,null,null,null,{"$f":"IF(Dashboard!$R$4=\"All\",Data!G1087,IF(Data!K1087=Dashboard!$R$4,Data!G1087,NA()))","v":{"$error":"#N/A"}},"","","",{"$f":"IF(L536<>\"\",Data!$M1087,\"\")","v":""},null,null,null,null,{"$f":"IF(OR(Dashboard!$P$4=\"All\",Dashboard!$R$4=\"All\"),NA(),IF(OR(Data!K1087<>Dashboard!$P$4,Data!K1087<>Dashboard!$R$4),Data!G1087,NA()))","v":50815.977559664309},null,null,null,null,null,null,null,null,null,null,null,null,null,null,"ID1618",42000,1,null,null,null,null,null,null,null,null,null,null,null,null,null,null,null,null,null,null,null,null,null,null,null,null,null,null,null,null,null,null,null,"ID1618",null,null,42000]
[null,{"$f":"IF(Dashboard!$P$4=\"All\",Data!G1088,IF(Data!K1088=Dashboard!$P$4,Data!G1088,NA()))","v":{"$error":"#N/A"}},"","","",{"$f":"IF(C537<>\"\",Data!$M1088,\"\")","v":""},null,null,null,null,{"$f":"IF(Dashboard!$R$4=\"All\",Data!G1088,IF(Data!K1088=Dashboard!$R$4,Data!G1088,NA()))","v":{"$error":"#N/A"}},"","","",{"$f":"IF(L537<>\"\",Data!$M1088,\"\")","v":""},null,null,null,null,{"$f":"IF(OR(Dashboard!$P$4=\"All\",Dashboard!$R$4=\"All\"),NA(),IF(OR(Data!K1088<>Dashboard!$P$4,Data!K1088<>Dashboard!$R$4),Data!G1088,NA()))","v":21369.500024931083},null,null,null,null,null,null,null,null,null,null,null,null,null,null,"ID1619",68000,1,null,null,null,null,null,null,null,null,null,null,null,null,null,null,null,null,null,null,null,null,null,null,null,null,null,null,null,null,null,null,null,"ID1619",null,null,68000]
[null,{"$f":"IF(Dashboard!$P$4=\"All\",Data!G1089,IF(Data!K1089=Dashboard!$P$4,Data!G1089,NA()))","v":{"$error":"#N/A"}},"","","",{"$f":"IF(C538<>\"\",Data!$M1089,\"\")","v":""},null,null,null,null,{"$f":"IF(Dashboard!$R$4=\"All\",Data!G1089,IF(Data!K1089=Dashboard!$R$4,Data!G1089,NA()))","v":55166.239522354947},55166.239522354947,"","",{"$f":"IF(L538<>\"\",Data!$M1089,\"\")","v":6},null,null,null,null,{"$f":"IF(OR(Dashboard!$P$4=\"All\",Dashboard!$R$4=\"All\"),NA(),IF(OR(Data!K1089<>Dashboard!$P$4,Data!K1089<>Dashboard!$R$4),Data!G1089,NA()))","v":55166.239522354947},null,null,null,null,null,null,null,null,null,null,null,null,null,null,"ID1620",null,null,null,null,85000,1,null,null,null,null,null,null,null,null,null,null,null,null,null,null,null,null,null,null,null,null,null,null,null,null,null,null,null,"ID1620",null,85000]
[null,{"$f":"IF(Dashboard!$P$4=\"All\",Data!G1090,IF(Data!K1090=Dashboard!$P$4,Data!G1090,NA()))","v":{"$error":"#N/A"}},"","","",{"$f":"IF(C539<>\"\",Data!$M1090,\"\")","v":""},null,null,null,null,{"$f":"IF(Dashboard!$R$4=\"All\",Data!G1090,IF(Data!K1090=Dashboard!$R$4,Data!G1090,NA()))","v":{"$error":"#N/A"}},"","","",{"$f":"IF(L539<>\"\",Data!$M1090,\"\")","v":""},null,null,null,null,{"$f":"IF(OR(Dashboard!$P$4=\"All\",Dashboard!$R$4=\"All\"),NA(),IF(OR(Data!K1090<>Dashboard!$P$4,Data!K1090<>Dashboard!$R$4),Data!G1090,NA()))","v":3205.4250037396623},null,null,null,null,null,null,null,null,null,null,null,null,null,null,"ID1626",null,null,140000,1,null,null,null,null,null,null,null,null,null,null,null,null,null,null,null,null,null,null,null,null,null,null,null,null,null,null,null,null,null,"ID1626",null,null,140000]
[null,{"$f":"IF(Dashboard!$P$4=\"All\",Data!G1091,IF(Data!K1091=Dashboard!$P$4,Data!G1091,NA()))","v":{"$error":"#N/A"}},"","","",{"$f":"IF(C540<>\"\",Data!$M1091,\"\")","v":""},null,null,null,null,{"$f":"IF(Dashboard!$R$4=\"All\",Data!G1091,IF(Data!K1091=Dashboard!$R$4,Data!G1091,NA()))","v":{"$error":"#N/A"}},"","","",{"$f":"IF(L540<>\"\",Data!$M1091,\"\")","v":""},null,null,null,null,{"$f":"IF(OR(Dashboard!$P$4=\"All\",Dashboard!$R$4=\"All\"),NA(),IF(OR(Data!K1091<>Dashboard!$P$4,Data!K1091<>Dashboard!$R$4),Data!G1091,NA()))","v":10684.750012465542},null,null,null,null,null,null,null,null,null,null,null,null,null,null,"ID1630",55000,1,null,null,null,null,null,null,null,null,null,null,null,null,null,null,null,null,null,null,null,null,null,null,null,null,null,null,null,null,null,null,null,"ID1630",null,null,55000]
[null,{"$f":"IF(Dashboard!$P$4=\"All\",Data!G1092,IF(Data!K1092=Dashboard!$P$4,Data!G1092,NA()))","v":{"$error":"#N/A"}},"","","",{"$f":"IF(C541<>\"\",Data!$M1092,\"\")","v":""},null,null,null,null,{"$f":"IF(Dashboard!$R$4=\"All\",Data!G1092,IF(Data!K1092=Dashboard!$R$4,Data!G1092,NA()))","v":{"$error":"#N/A"}},"","","",{"$f":"IF(L541<>\"\",Data!$M1092,\"\")","v":""},null,null,null,null,{"$f":"IF(OR(Dashboard!$P$4=\"All\",Dashboard!$R$4=\"All\"),NA(),IF(OR(Data!K1092<>Dashboard!$P$4,Data!K1092<>Dashboard!$R$4),Data!G1092,NA()))","v":5342.3750062327708},null,null,null,null,null,null,null,null,null,null,null,null,null,null,"ID1642",null,null,null,null,null,null,54000,1,null,null,null,null,null,null,null,null,null,null,null,null,null,null,null,null,null,null,null,null,null,null,null,null,null,"ID1642",null,null,54000]
[null,{"$f":"IF(Dashboard!$P$4=\"All\",Data!G1093,IF(Data!K1093=Dashboard!$P$4,Data!G1093,NA()))","v":{"$error":"#N/A"}},"","","",{"$f":"IF(C542<>\"\",Data!$M1093,\"\")","v":""},null,null,null,null,{"$f":"IF(Dashboard!$R$4=\"All\",Data!G1093,IF(Data!K1093=Dashboard!$R$4,Data!G1093,NA()))","v":118213.37040504631},118213.37040504631,118213.37040504631,"",{"$f":"IF(L542<>\"\",Data!$M1093,\"\")","v":10},null,null,null,null,{"$f":"IF(OR(Dashboard!$P$4=\"All\",Dashboard!$R$4=\"All\"),NA(),IF(OR(Data!K1093<>Dashboard!$P$4,Data!K1093<>Dashboard!$R$4),Data!G1093,NA()))","v":118213.37040504631},null,null,null,null,null,null,null,null,null,null,null,null,null,null,"ID1643",null,null,null,null,null,null,null,null,null,null,null,null,100000,1,null,null,null,null,null,null,null,null,null,null,null,null,null,null,null,null,null,null,null,"ID1643",null,100000]
[null,{"$f":"IF(Dashboard!$P$4=\"All\",Data!G1094,IF(Data!K1094=Dashboard!$P$4,Data!G1094,NA()))","v":{"$error":"#N/A"}},"","","",{"$f":"IF(C543<>\"\",Data!$M1094,\"\")","v":""},null,null,null,null,{"$f":"IF(Dashboard!$R$4=\"All\",Data!G1094,IF(Data!K1094=Dashboard!$R$4,Data!G1094,NA()))","v":{"$error":"#N/A"}},"","","",{"$f":"IF(L543<>\"\",Data!$M1094,\"\")","v":""},null,null,null,null,{"$f":"IF(OR(Dashboard!$P$4=\"All\",Dashboard!$R$4=\"All\"),NA(),IF(OR(Data!K1094<>Dashboard!$P$4,Data!K1094<>Dashboard!$R$4),Data!G1094,NA()))","v":12192.177986291113},null,null,null,null,null,null,null,null,null,null,null,null,null,null,"ID1654",70000,1,null,null,null,null,null,null,null,null,null,null,null,null,null,null,null,null,null,null,null,null,null,null,null,null,null,null,null,null,null,null,null,"ID1654",null,null,70000]
[null,{"$f":"IF(Dashboard!$P$4=\"All\",Data!G1095,IF(Data!K1095=Dashboard!$P$4,Data!G1095,NA()))","v":{"$error":"#N/A"}},"","","",{"$f":"IF(C544<>\"\",Data!$M1095,\"\")","v":""},null,null,null,null,{"$f":"IF(Dashboard!$R$4=\"All\",Data!G1095,IF(Data!K1095=Dashboard!$R$4,Data!G1095,NA()))","v":70928.022243027779},70928.022243027779,"","",{"$f":"IF(L544<>\"\",Data!$M1095,\"\")","v":8},null,null,null,null,{"$f":"IF(OR(Dashboard!$P$4=\"All\",Dashboard!$R$4=\"All\"),NA(),IF(OR(Data!K1095<>Dashboard!$P$4,Data!K1095<>Dashboard!$R$4),Data!G1095,NA()))","v":70928.022243027779},null,null,null,null,null,null,null,null,null,null,null,null,null,null,"ID1655",null,null,155000,1,null,null,null,null,null,null,null,null,null,null,null,null,null,null,null,null,null,null,null,null,null,null,null,null,null,null,null,null,null,"ID1655",155000]
[null,{"$f":"IF(Dashboard!$P$4=\"All\",Data!G1096,IF(Data!K1096=Dashboard!$P$4,Data!G1096,NA()))","v":{"$error":"#N/A"}},"","","",{"$f":"IF(C545<>\"\",Data!$M1096,\"\")","v":""},null,null,null,null,{"$f":"IF(Dashboard!$R$4=\"All\",Data!G1096,IF(Data!K1096=Dashboard!$R$4,Data!G1096,NA()))","v":39404.456801682099},39404.456801682099,"","",{"$f":"IF(L545<>\"\",Data!$M1096,\"\")","v":3},null,null,null,null,{"$f":"IF(OR(Dashboard!$P$4=\"All\",Dashboard!$R$4=\"All\"),NA(),IF(OR(Data!K1096<>Dashboard!$P$4,Data!K1096<>Dashboard!$R$4),Data!G1096,NA()))","v":39404.456801682099},null,null,null,null,null,null,null,null,null,null,null,null,null,null,"ID1656",null,null,null,null,null,null,225000,1,null,null,null,null,null,null,null,null,null,null,null,null,null,null,null,null,null,null,null,null,null,null,null,null,null,"ID1656",null,null,225000]
[null,{"$f":"IF(Dashboard!$P$4=\"All\",Data!G1097,IF(Data!K1097=Dashboard!$P$4,Data!G1097,NA()))","v":{"$error":"#N/A"}},"","","",{"$f":"IF(C546<>\"\",Data!$M1097,\"\")","v":""},null,null,null,null,{"$f":"IF(Dashboard!$R$4=\"All\",Data!G1097,IF(Data!K1097=Dashboard!$R$4,Data!G1097,NA()))","v":{"$error":"#N/A"}},"","","",{"$f":"IF(L546<>\"\",Data!$M1097,\"\")","v":""},null,null,null,null,{"$f":"IF(OR(Dashboard!$P$4=\"All\",Dashboard!$R$4=\"All\"),NA(),IF(OR(Data!K1097<>Dashboard!$P$4,Data!K1097<>Dashboard!$R$4),Data!G1097,NA()))","v":18987},null,null,null,null,null,null,null,null,null,null,null,null,null,null,"ID1668",null,null,null,null,null,null,null,null,null,null,null,null,null,null,null,null,92000,1,null,null,null,null,null,null,null,null,null,null,null,null,null,null,null,"ID1668",null,92000]
[null,{"$f":"IF(Dashboard!$P$4=\"All\",Data!G1098,IF(Data!K1098=Dashboard!$P$4,Data!G1098,NA()))","v":{"$error":"#N/A"}},"","","",{"$f":"IF(C547<>\"\",Data!$M1098,\"\")","v":""},null,null,null,null,{"$f":"IF(Dashboard!$R$4=\"All\",Data!G1098,IF(Data!K1098=Dashboard!$R$4,Data!G1098,NA()))","v":44921.080753917595},44921.080753917595,"","",{"$f":"IF(L547<>\"\",Data!$M1098,\"\")","v":15},null,null,null,null,{"$f":"IF(OR(Dashboard!$P$4=\"All\",Dashboard!$R$4=\"All\"),NA(),IF(OR(Data!K1098<>Dashboard!$P$4,Data!K1098<>Dashboard!$R$4),Data!G1098,NA()))","v":44921.080753917595},null,null,null,null,null,null,null,null,null,null,null,null,null,null,"ID1669",null,null,85000,1,null,null,null,null,null,null,null,null,null,null,null,null,null,null,null,null,null,null,null,null,null,null,null,null,null,null,null,null,null,"ID1669",null,null,null,85000]
[null,{"$f":"IF(Dashboard!$P$4=\"All\",Data!G1099,IF(Data!K1099=Dashboard!$P$4,Data!G1099,NA()))","v":{"$error":"#N/A"}},"","","",{"$f":"IF(C548<>\"\",Data!$M1099,\"\")","v":""},null,null,null,null,{"$f":"IF(Dashboard!$R$4=\"All\",Data!G1099,IF(Data!K1099=Dashboard!$R$4,Data!G1099,NA()))","v":{"$error":"#N/A"}},"","","",{"$f":"IF(L548<>\"\",Data!$M1099,\"\")","v":""},null,null,null,null,{"$f":"IF(OR(Dashboard!$P$4=\"All\",Dashboard!$R$4=\"All\"),NA(),IF(OR(Data!K1099<>Dashboard!$P$4,Data!K1099<>Dashboard!$R$4),Data!G1099,NA()))","v":60000},null,null,null,null,null,null,null,null,null,null,null,null,null,null,"ID1672",49000,1,null,null,null,null,null,null,null,null,null,null,null,null,null,null,null,null,null,null,null,null,null,null,null,null,null,null,null,null,null,null,null,"ID1672",null,49000]
[null,{"$f":"IF(Dashboard!$P$4=\"All\",Data!G1100,IF(Data!K1100=Dashboard!$P$4,Data!G1100,NA()))","v":{"$error":"#N/A"}},"","","",{"$f":"IF(C549<>\"\",Data!$M1100,\"\")","v":""},null,null,null,null,{"$f":"IF(Dashboard!$R$4=\"All\",Data!G1100,IF(Data!K1100=Dashboard!$R$4,Data!G1100,NA()))","v":71243.257897441246},71243.257897441246,"","",{"$f":"IF(L549<>\"\",Data!$M1100,\"\")","v":5},null,null,null,null,{"$f":"IF(OR(Dashboard!$P$4=\"All\",Dashboard!$R$4=\"All\"),NA(),IF(OR(Data!K1100<>Dashboard!$P$4,Data!K1100<>Dashboard!$R$4),Data!G1100,NA()))","v":71243.257897441246},null,null,null,null,null,null,null,null,null,null,null,null,null,null,"ID1673",null,null,59000,1,null,null,null,null,null,null,null,null,null,null,null,null,null,null,null,null,null,null,null,null,null,null,null,null,null,null,null,null,null,"ID1673",59000]
[null,{"$f":"IF(Dashboard!$P$4=\"All\",Data!G1101,IF(Data!K1101=Dashboard!$P$4,Data!G1101,NA()))","v":{"$error":"#N/A"}},"","","",{"$f":"IF(C550<>\"\",Data!$M1101,\"\")","v":""},null,null,null,null,{"$f":"IF(Dashboard!$R$4=\"All\",Data!G1101,IF(Data!K1101=Dashboard!$R$4,Data!G1101,NA()))","v":{"$error":"#N/A"}},"","","",{"$f":"IF(L550<>\"\",Data!$M1101,\"\")","v":""},null,null,null,null,{"$f":"IF(OR(Dashboard!$P$4=\"All\",Dashboard!$R$4=\"All\"),NA(),IF(OR(Data!K1101<>Dashboard!$P$4,Data!K1101<>Dashboard!$R$4),Data!G1101,NA()))","v":4487.5950052355274},null,null,null,null,null,null,null,null,null,null,null,null,null,null,"ID1674",55000,1,null,null,null,null,null,null,null,null,null,null,null,null,null,null,null,null,null,null,null,null,null,null,null,null,null,null,null,null,null,null,null,"ID1674",null,null,55000]
[null,{"$f":"IF(Dashboard!$P$4=\"All\",Data!G1102,IF(Data!K1102=Dashboard!$P$4,Data!G1102,NA()))","v":{"$error":"#N/A"}},"","","",{"$f":"IF(C551<>\"\",Data!$M1102,\"\")","v":""},null,null,null,null,{"$f":"IF(Dashboard!$R$4=\"All\",Data!G1102,IF(Data!K1102=Dashboard!$R$4,Data!G1102,NA()))","v":{"$error":"#N/A"}},"","","",{"$f":"IF(L551<>\"\",Data!$M1102,\"\")","v":""},null,null,null,null,{"$f":"IF(OR(Dashboard!$P$4=\"All\",Dashboard!$R$4=\"All\"),NA(),IF(OR(Data!K1102<>Dashboard!$P$4,Data!K1102<>Dashboard!$R$4),Data!G1102,NA()))","v":4314.929445034084},null,null,null,null,null,null,null,null,null,null,null,null,null,null,"ID1675",null,null,null,null,75000,1,null,null,null,null,null,null,null,null,null,null,null,null,null,null,null,null,null,null,null,null,null,null,null,null,null,null,null,"ID1675",null,null,75000]
[null,{"$f":"IF(Dashboard!$P$4=\"All\",Data!G1103,IF(Data!K1103=Dashboard!$P$4,Data!G1103,NA()))","v":{"$error":"#N/A"}},"","","",{"$f":"IF(C552<>\"\",Data!$M1103,\"\")","v":""},null,null,null,null,{"$f":"IF(Dashboard!$R$4=\"All\",Data!G1103,IF(Data!K1103=Dashboard!$R$4,Data!G1103,NA()))","v":{"$error":"#N/A"}},"","","",{"$f":"IF(L552<>\"\",Data!$M1103,\"\")","v":""},null,null,null,null,{"$f":"IF(OR(Dashboard!$P$4=\"All\",Dashboard!$R$4=\"All\"),NA(),IF(OR(Data!K1103<>Dashboard!$P$4,Data!K1103<>Dashboard!$R$4),Data!G1103,NA()))","v":3739.6625043629392},null,null,null,null,null,null,null,null,null,null,null,null,null,null,"ID1679",null,null,null,null,null,null,null,null,null,null,80000,1,null,null,null,null,null,null,null,null,null,null,null,null,null,null,null,null,null,null,null,null,null,"ID1679",null,80000]
[null,{"$f":"IF(Dashboard!$P$4=\"All\",Data!G1104,IF(Data!K1104=Dashboard!$P$4,Data!G1104,NA()))","v":{"$error":"#N/A"}},"","","",{"$f":"IF(C553<>\"\",Data!$M1104,\"\")","v":""},null,null,null,null,{"$f":"IF(Dashboard!$R$4=\"All\",Data!G1104,IF(Data!K1104=Dashboard!$R$4,Data!G1104,NA()))","v":{"$error":"#N/A"}},"","","",{"$f":"IF(L553<>\"\",Data!$M1104,\"\")","v":""},null,null,null,null,{"$f":"IF(OR(Dashboard!$P$4=\"All\",Dashboard!$R$4=\"All\"),NA(),IF(OR(Data!K1104<>Dashboard!$P$4,Data!K1104<>Dashboard!$R$4),Data!G1104,NA()))","v":76223.966339496474},null,null,null,null,null,null,null,null,null,null,null,null,null,null,"ID1680",12000,1,null,null,null,null,null,null,null,null,null,null,null,null,null,null,null,null,null,null,null,null,null,null,null,null,null,null,null,null,null,null,null,"ID1680",null,12000]
[null,{"$f":"IF(Dashboard!$P$4=\"All\",Data!G1105,IF(Data!K1105=Dashboard!$P$4,Data!G1105,NA()))","v":{"$error":"#N/A"}},"","","",{"$f":"IF(C554<>\"\",Data!$M1105,\"\")","v":""},null,null,null,null,{"$f":"IF(Dashboard!$R$4=\"All\",Data!G1105,IF(Data!K1105=Dashboard!$R$4,Data!G1105,NA()))","v":{"$error":"#N/A"}},"","","",{"$f":"IF(L554<>\"\",Data!$M1105,\"\")","v":""},null,null,null,null,{"$f":"IF(OR(Dashboard!$P$4=\"All\",Dashboard!$R$4=\"All\"),NA(),IF(OR(Data!K1105<>Dashboard!$P$4,Data!K1105<>Dashboard!$R$4),Data!G1105,NA()))","v":32666.305522511171},null,null,null,null,null,null,null,null,null,null,null,null,null,null,"ID1681",48500,1,null,null,null,null,null,null,null,null,null,null,null,null,null,null,null,null,null,null,null,null,null,null,null,null,null,null,null,null,null,null,null,"ID1681",null,null,48500]
[null,{"$f":"IF(Dashboard!$P$4=\"All\",Data!G1106,IF(Data!K1106=Dashboard!$P$4,Data!G1106,NA()))","v":{"$error":"#N/A"}},"","","",{"$f":"IF(C555<>\"\",Data!$M1106,\"\")","v":""},null,null,null,null,{"$f":"IF(Dashboard!$R$4=\"All\",Data!G1106,IF(Data!K1106=Dashboard!$R$4,Data!G1106,NA()))","v":19000},19000,"",19000,{"$f":"IF(L555<>\"\",Data!$M1106,\"\")","v":8},null,null,null,null,{"$f":"IF(OR(Dashboard!$P$4=\"All\",Dashboard!$R$4=\"All\"),NA(),IF(OR(Data!K1106<>Dashboard!$P$4,Data!K1106<>Dashboard!$R$4),Data!G1106,NA()))","v":19000},null,null,null,null,null,null,null,null,null,null,null,null,null,null,"ID1688",null,null,null,null,null,null,null,null,62000,1,null,null,null,null,null,null,null,null,null,null,null,null,null,null,null,null,null,null,null,null,null,null,null,"ID1688",null,62000]
[null,{"$f":"IF(Dashboard!$P$4=\"All\",Data!G1107,IF(Data!K1107=Dashboard!$P$4,Data!G1107,NA()))","v":{"$error":"#N/A"}},"","","",{"$f":"IF(C556<>\"\",Data!$M1107,\"\")","v":""},null,null,null,null,{"$f":"IF(Dashboard!$R$4=\"All\",Data!G1107,IF(Data!K1107=Dashboard!$R$4,Data!G1107,NA()))","v":{"$error":"#N/A"}},"","","",{"$f":"IF(L556<>\"\",Data!$M1107,\"\")","v":""},null,null,null,null,{"$f":"IF(OR(Dashboard!$P$4=\"All\",Dashboard!$R$4=\"All\"),NA(),IF(OR(Data!K1107<>Dashboard!$P$4,Data!K1107<>Dashboard!$R$4),Data!G1107,NA()))","v":63519.971949580387},null,null,null,null,null,null,null,null,null,null,null,null,null,null,"ID1692",90000,1,null,null,null,null,null,null,null,null,null,null,null,null,null,null,null,null,null,null,null,null,null,null,null,null,null,null,null,null,null,null,null,"ID1692",null,90000]
[null,{"$f":"IF(Dashboard!$P$4=\"All\",Data!G1108,IF(Data!K1108=Dashboard!$P$4,Data!G1108,NA()))","v":{"$error":"#N/A"}},"","","",{"$f":"IF(C557<>\"\",Data!$M1108,\"\")","v":""},null,null,null,null,{"$f":"IF(Dashboard!$R$4=\"All\",Data!G1108,IF(Data!K1108=Dashboard!$R$4,Data!G1108,NA()))","v":{"$error":"#N/A"}},"","","",{"$f":"IF(L557<>\"\",Data!$M1108,\"\")","v":""},null,null,null,null,{"$f":"IF(OR(Dashboard!$P$4=\"All\",Dashboard!$R$4=\"All\"),NA(),IF(OR(Data!K1108<>Dashboard!$P$4,Data!K1108<>Dashboard!$R$4),Data!G1108,NA()))","v":16027.125018698311},null,null,null,null,null,null,null,null,null,null,null,null,null,null,"ID1694",85000,1,null,null,null,null,null,null,null,null,null,null,null,null,null,null,null,null,null,null,null,null,null,null,null,null,null,null,null,null,null,null,null,"ID1694",null,null,85000]
[null,{"$f":"IF(Dashboard!$P$4=\"All\",Data!G1109,IF(Data!K1109=Dashboard!$P$4,Data!G1109,NA()))","v":{"$error":"#N/A"}},"","","",{"$f":"IF(C558<>\"\",Data!$M1109,\"\")","v":""},null,null,null,null,{"$f":"IF(Dashboard!$R$4=\"All\",Data!G1109,IF(Data!K1109=Dashboard!$R$4,Data!G1109,NA()))","v":{"$error":"#N/A"}},"","","",{"$f":"IF(L558<>\"\",Data!$M1109,\"\")","v":""},null,null,null,null,{"$f":"IF(OR(Dashboard!$P$4=\"All\",Dashboard!$R$4=\"All\"),NA(),IF(OR(Data!K1109<>Dashboard!$P$4,Data!K1109<>Dashboard!$R$4),Data!G1109,NA()))","v":7123.1666749770275},null,null,null,null,null,null,null,null,null,null,null,null,null,null,"ID1696",65000,1,null,null,null,null,null,null,null,null,null,null,null,null,null,null,null,null,null,null,null,null,null,null,null,null,null,null,null,null,null,null,null,"ID1696",null,null,65000]
[null,{"$f":"IF(Dashboard!$P$4=\"All\",Data!G1110,IF(Data!K1110=Dashboard!$P$4,Data!G1110,NA()))","v":{"$error":"#N/A"}},"","","",{"$f":"IF(C559<>\"\",Data!$M1110,\"\")","v":""},null,null,null,null,{"$f":"IF(Dashboard!$R$4=\"All\",Data!G1110,IF(Data!K1110=Dashboard!$R$4,Data!G1110,NA()))","v":{"$error":"#N/A"}},"","","",{"$f":"IF(L559<>\"\",Data!$M1110,\"\")","v":""},null,null,null,null,{"$f":"IF(OR(Dashboard!$P$4=\"All\",Dashboard!$R$4=\"All\"),NA(),IF(OR(Data!K1110<>Dashboard!$P$4,Data!K1110<>Dashboard!$R$4),Data!G1110,NA()))","v":2675.675098121621},null,null,null,null,null,null,null,null,null,null,null,null,null,null,"ID1697",null,null,null,null,null,null,75000,1,null,null,null,null,null,null,null,null,null,null,null,null,null,null,null,null,null,null,null,null,null,null,null,null,null,"ID1697",null,75000]
[null,{"$f":"IF(Dashboard!$P$4=\"All\",Data!G1111,IF(Data!K1111=Dashboard!$P$4,Data!G1111,NA()))","v":{"$error":"#N/A"}},"","","",{"$f":"IF(C560<>\"\",Data!$M1111,\"\")","v":""},null,null,null,null,{"$f":"IF(Dashboard!$R$4=\"All\",Data!G1111,IF(Data!K1111=Dashboard!$R$4,Data!G1111,NA()))","v":23642.674081009263},23642.674081009263,"",23642.674081009263,{"$f":"IF(L560<>\"\",Data!$M1111,\"\")","v":2},null,null,null,null,{"$f":"IF(OR(Dashboard!$P$4=\"All\",Dashboard!$R$4=\"All\"),NA(),IF(OR(Data!K1111<>Dashboard!$P$4,Data!K1111<>Dashboard!$R$4),Data!G1111,NA()))","v":23642.674081009263},null,null,null,null,null,null,null,null,null,null,null,null,null,null,"ID1698",92000,1,null,null,null,null,null,null,null,null,null,null,null,null,null,null,null,null,null,null,null,null,null,null,null,null,null,null,null,null,null,null,null,"ID1698",null,null,92000]
[null,{"$f":"IF(Dashboard!$P$4=\"All\",Data!G1112,IF(Data!K1112=Dashboard!$P$4,Data!G1112,NA()))","v":{"$error":"#N/A"}},"","","",{"$f":"IF(C561<>\"\",Data!$M1112,\"\")","v":""},null,null,null,null,{"$f":"IF(Dashboard!$R$4=\"All\",Data!G1112,IF(Data!K1112=Dashboard!$R$4,Data!G1112,NA()))","v":{"$error":"#N/A"}},"","","",{"$f":"IF(L561<>\"\",Data!$M1112,\"\")","v":""},null,null,null,null,{"$f":"IF(OR(Dashboard!$P$4=\"All\",Dashboard!$R$4=\"All\"),NA(),IF(OR(Data!K1112<>Dashboard!$P$4,Data!K1112<>Dashboard!$R$4),Data!G1112,NA()))","v":57167.974754622352},null,null,null,null,null,null,null,null,null,null,null,null,null,null,"ID1701",45000,1,null,null,null,null,null,null,null,null,null,null,null,null,null,null,null,null,null,null,null,null,null,null,null,null,null,null,null,null,null,null,null,"ID1701",null,45000]
[null,{"$f":"IF(Dashboard!$P$4=\"All\",Data!G1113,IF(Data!K1113=Dashboard!$P$4,Data!G1113,NA()))","v":{"$error":"#N/A"}},"","","",{"$f":"IF(C562<>\"\",Data!$M1113,\"\")","v":""},null,null,null,null,{"$f":"IF(Dashboard!$R$4=\"All\",Data!G1113,IF(Data!K1113=Dashboard!$R$4,Data!G1113,NA()))","v":{"$error":"#N/A"}},"","","",{"$f":"IF(L562<>\"\",Data!$M1113,\"\")","v":""},null,null,null,null,{"$f":"IF(OR(Dashboard!$P$4=\"All\",Dashboard!$R$4=\"All\"),NA(),IF(OR(Data!K1113<>Dashboard!$P$4,Data!K1113<>Dashboard!$R$4),Data!G1113,NA()))","v":42739.000049862167},null,null,null,null,null,null,null,null,null,null,null,null,null,null,"ID1705",60000,1,null,null,null,null,null,null,null,null,null,null,null,null,null,null,null,null,null,null,null,null,null,null,null,null,null,null,null,null,null,null,null,"ID1705",null,null,null,60000]
[null,{"$f":"IF(Dashboard!$P$4=\"All\",Data!G1114,IF(Data!K1114=Dashboard!$P$4,Data!G1114,NA()))","v":{"$error":"#N/A"}},"","","",{"$f":"IF(C563<>\"\",Data!$M1114,\"\")","v":""},null,null,null,null,{"$f":"IF(Dashboard!$R$4=\"All\",Data!G1114,IF(Data!K1114=Dashboard!$R$4,Data!G1114,NA()))","v":{"$error":"#N/A"}},"","","",{"$f":"IF(L563<>\"\",Data!$M1114,\"\")","v":""},null,null,null,null,{"$f":"IF(OR(Dashboard!$P$4=\"All\",Dashboard!$R$4=\"All\"),NA(),IF(OR(Data!K1114<>Dashboard!$P$4,Data!K1114<>Dashboard!$R$4),Data!G1114,NA()))","v":5120.2912876821438},null,null,null,null,null,null,null,null,null,null,null,null,null,null,"ID1706",65000,1,null,null,null,null,null,null,null,null,null,null,null,null,null,null,null,null,null,null,null,null,null,null,null,null,null,null,null,null,null,null,null,"ID1706",null,null,null,65000]
[null,{"$f":"IF(Dashboard!$P$4=\"All\",Data!G1115,IF(Data!K1115=Dashboard!$P$4,Data!G1115,NA()))","v":{"$error":"#N/A"}},"","","",{"$f":"IF(C564<>\"\",Data!$M1115,\"\")","v":""},null,null,null,null,{"$f":"IF(Dashboard!$R$4=\"All\",Data!G1115,IF(Data!K1115=Dashboard!$R$4,Data!G1115,NA()))","v":{"$error":"#N/A"}},"","","",{"$f":"IF(L564<>\"\",Data!$M1115,\"\")","v":""},null,null,null,null,{"$f":"IF(OR(Dashboard!$P$4=\"All\",Dashboard!$R$4=\"All\"),NA(),IF(OR(Data!K1115<>Dashboard!$P$4,Data!K1115<>Dashboard!$R$4),Data!G1115,NA()))","v":127039.94389916077},null,null,null,null,null,null,null,null,null,null,null,null,null,null,"ID1707",null,null,73000,1,null,null,null,null,null,null,null,null,null,null,null,null,null,null,null,null,null,null,null,null,null,null,null,null,null,null,null,null,null,"ID1707",null,73000]
[null,{"$f":"IF(Dashboard!$P$4=\"All\",Data!G1116,IF(Data!K1116=Dashboard!$P$4,Data!G1116,NA()))","v":{"$error":"#N/A"}},"","","",{"$f":"IF(C565<>\"\",Data!$M1116,\"\")","v":""},null,null,null,null,{"$f":"IF(Dashboard!$R$4=\"All\",Data!G1116,IF(Data!K1116=Dashboard!$R$4,Data!G1116,NA()))","v":{"$error":"#N/A"}},"","","",{"$f":"IF(L565<>\"\",Data!$M1116,\"\")","v":""},null,null,null,null,{"$f":"IF(OR(Dashboard!$P$4=\"All\",Dashboard!$R$4=\"All\"),NA(),IF(OR(Data!K1116<>Dashboard!$P$4,Data!K1116<>Dashboard!$R$4),Data!G1116,NA()))","v":90000},null,null,null,null,null,null,null,null,null,null,null,null,null,null,"ID1708",54000,1,null,null,null,null,null,null,null,null,null,null,null,null,null,null,null,null,null,null,null,null,null,null,null,null,null,null,null,null,null,null,null,"ID1708",null,null,null,54000]
[null,{"$f":"IF(Dashboard!$P$4=\"All\",Data!G1117,IF(Data!K1117=Dashboard!$P$4,Data!G1117,NA()))","v":{"$error":"#N/A"}},"","","",{"$f":"IF(C566<>\"\",Data!$M1117,\"\")","v":""},null,null,null,null,{"$f":"IF(Dashboard!$R$4=\"All\",Data!G1117,IF(Data!K1117=Dashboard!$R$4,Data!G1117,NA()))","v":{"$error":"#N/A"}},"","","",{"$f":"IF(L566<>\"\",Data!$M1117,\"\")","v":""},null,null,null,null,{"$f":"IF(OR(Dashboard!$P$4=\"All\",Dashboard!$R$4=\"All\"),NA(),IF(OR(Data!K1117<>Dashboard!$P$4,Data!K1117<>Dashboard!$R$4),Data!G1117,NA()))","v":7123.1666749770275},null,null,null,null,null,null,null,null,null,null,null,null,null,null,"ID1710",81000,1,null,null,null,null,null,null,null,null,null,null,null,null,null,null,null,null,null,null,null,null,null,null,null,null,null,null,null,null,null,null,null,"ID1710",null,null,81000]
[null,{"$f":"IF(Dashboard!$P$4=\"All\",Data!G1118,IF(Data!K1118=Dashboard!$P$4,Data!G1118,NA()))","v":{"$error":"#N/A"}},"","","",{"$f":"IF(C567<>\"\",Data!$M1118,\"\")","v":""},null,null,null,null,{"$f":"IF(Dashboard!$R$4=\"All\",Data!G1118,IF(Data!K1118=Dashboard!$R$4,Data!G1118,NA()))","v":{"$error":"#N/A"}},"","","",{"$f":"IF(L567<>\"\",Data!$M1118,\"\")","v":""},null,null,null,null,{"$f":"IF(OR(Dashboard!$P$4=\"All\",Dashboard!$R$4=\"All\"),NA(),IF(OR(Data!K1118<>Dashboard!$P$4,Data!K1118<>Dashboard!$R$4),Data!G1118,NA()))","v":10000},null,null,null,null,null,null,null,null,null,null,null,null,null,null,"ID1711",10000,1,null,null,null,null,null,null,null,null,null,null,null,null,null,null,null,null,null,null,null,null,null,null,null,null,null,null,null,null,null,null,null,"ID1711",null,null,10000]
[null,{"$f":"IF(Dashboard!$P$4=\"All\",Data!G1119,IF(Data!K1119=Dashboard!$P$4,Data!G1119,NA()))","v":{"$error":"#N/A"}},"","","",{"$f":"IF(C568<>\"\",Data!$M1119,\"\")","v":""},null,null,null,null,{"$f":"IF(Dashboard!$R$4=\"All\",Data!G1119,IF(Data!K1119=Dashboard!$R$4,Data!G1119,NA()))","v":45709.169889951241},45709.169889951241,"","",{"$f":"IF(L568<>\"\",Data!$M1119,\"\")","v":14},null,null,null,null,{"$f":"IF(OR(Dashboard!$P$4=\"All\",Dashboard!$R$4=\"All\"),NA(),IF(OR(Data!K1119<>Dashboard!$P$4,Data!K1119<>Dashboard!$R$4),Data!G1119,NA()))","v":45709.169889951241},null,null,null,null,null,null,null,null,null,null,null,null,null,null,"ID1712",null,null,null,null,42000,1,null,null,null,null,null,null,null,null,null,null,null,null,null,null,null,null,null,null,null,null,null,null,null,null,null,null,null,"ID1712",null,null,42000]
[null,{"$f":"IF(Dashboard!$P$4=\"All\",Data!G1120,IF(Data!K1120=Dashboard!$P$4,Data!G1120,NA()))","v":{"$error":"#N/A"}},"","","",{"$f":"IF(C569<>\"\",Data!$M1120,\"\")","v":""},null,null,null,null,{"$f":"IF(Dashboard!$R$4=\"All\",Data!G1120,IF(Data!K1120=Dashboard!$R$4,Data!G1120,NA()))","v":{"$error":"#N/A"}},"","","",{"$f":"IF(L569<>\"\",Data!$M1120,\"\")","v":""},null,null,null,null,{"$f":"IF(OR(Dashboard!$P$4=\"All\",Dashboard!$R$4=\"All\"),NA(),IF(OR(Data!K1120<>Dashboard!$P$4,Data!K1120<>Dashboard!$R$4),Data!G1120,NA()))","v":3561.5833374885137},null,null,null,null,null,null,null,null,null,null,null,null,null,null,"ID1740",45000,1,null,null,null,null,null,null,null,null,null,null,null,null,null,null,null,null,null,null,null,null,null,null,null,null,null,null,null,null,null,null,null,"ID1740",null,null,null,45000]
[null,{"$f":"IF(Dashboard!$P$4=\"All\",Data!G1121,IF(Data!K1121=Dashboard!$P$4,Data!G1121,NA()))","v":{"$error":"#N/A"}},"","","",{"$f":"IF(C570<>\"\",Data!$M1121,\"\")","v":""},null,null,null,null,{"$f":"IF(Dashboard!$R$4=\"All\",Data!G1121,IF(Data!K1121=Dashboard!$R$4,Data!G1121,NA()))","v":{"$error":"#N/A"}},"","","",{"$f":"IF(L570<>\"\",Data!$M1121,\"\")","v":""},null,null,null,null,{"$f":"IF(OR(Dashboard!$P$4=\"All\",Dashboard!$R$4=\"All\"),NA(),IF(OR(Data!K1121<>Dashboard!$P$4,Data!K1121<>Dashboard!$R$4),Data!G1121,NA()))","v":38111.983169748237},null,null,null,null,null,null,null,null,null,null,null,null,null,null,"ID1741",36000,1,null,null,null,null,null,null,null,null,null,null,null,null,null,null,null,null,null,null,null,null,null,null,null,null,null,null,null,null,null,null,null,"ID1741",null,null,36000]
[null,{"$f":"IF(Dashboard!$P$4=\"All\",Data!G1122,IF(Data!K1122=Dashboard!$P$4,Data!G1122,NA()))","v":{"$error":"#N/A"}},"","","",{"$f":"IF(C571<>\"\",Data!$M1122,\"\")","v":""},null,null,null,null,{"$f":"IF(Dashboard!$R$4=\"All\",Data!G1122,IF(Data!K1122=Dashboard!$R$4,Data!G1122,NA()))","v":{"$error":"#N/A"}},"","","",{"$f":"IF(L571<>\"\",Data!$M1122,\"\")","v":""},null,null,null,null,{"$f":"IF(OR(Dashboard!$P$4=\"All\",Dashboard!$R$4=\"All\"),NA(),IF(OR(Data!K1122<>Dashboard!$P$4,Data!K1122<>Dashboard!$R$4),Data!G1122,NA()))","v":60000},null,null,null,null,null,null,null,null,null,null,null,null,null,null,"ID1742",68000,1,null,null,null,null,null,null,null,null,null,null,null,null,null,null,null,null,null,null,null,null,null,null,null,null,null,null,null,null,null,null,null,"ID1742",null,null,68000]
[null,{"$f":"IF(Dashboard!$P$4=\"All\",Data!G1123,IF(Data!K1123=Dashboard!$P$4,Data!G1123,NA()))","v":{"$error":"#N/A"}},"","","",{"$f":"IF(C572<>\"\",Data!$M1123,\"\")","v":""},null,null,null,null,{"$f":"IF(Dashboard!$R$4=\"All\",Data!G1123,IF(Data!K1123=Dashboard!$R$4,Data!G1123,NA()))","v":{"$error":"#N/A"}},"","","",{"$f":"IF(L572<>\"\",Data!$M1123,\"\")","v":""},null,null,null,null,{"$f":"IF(OR(Dashboard!$P$4=\"All\",Dashboard!$R$4=\"All\"),NA(),IF(OR(Data!K1123<>Dashboard!$P$4,Data!K1123<>Dashboard!$R$4),Data!G1123,NA()))","v":40000},null,null,null,null,null,null,null,null,null,null,null,null,null,null,"ID1743",75000,1,null,null,null,null,null,null,null,null,null,null,null,null,null,null,null,null,null,null,null,null,null,null,null,null,null,null,null,null,null,null,null,"ID1743",null,null,null,75000]
[null,{"$f":"IF(Dashboard!$P$4=\"All\",Data!G1124,IF(Data!K1124=Dashboard!$P$4,Data!G1124,NA()))","v":{"$error":"#N/A"}},"","","",{"$f":"IF(C573<>\"\",Data!$M1124,\"\")","v":""},null,null,null,null,{"$f":"IF(Dashboard!$R$4=\"All\",Data!G1124,IF(Data!K1124=Dashboard!$R$4,Data!G1124,NA()))","v":{"$error":"#N/A"}},"","","",{"$f":"IF(L573<>\"\",Data!$M1124,\"\")","v":""},null,null,null,null,{"$f":"IF(OR(Dashboard!$P$4=\"All\",Dashboard!$R$4=\"All\"),NA(),IF(OR(Data!K1124<>Dashboard!$P$4,Data!K1124<>Dashboard!$R$4),Data!G1124,NA()))","v":15190.15293438851},null,null,null,null,null,null,null,null,null,null,null,null,null,null,"ID1744",88000,1,null,null,null,null,null,null,null,null,null,null,null,null,null,null,null,null,null,null,null,null,null,null,null,null,null,null,null,null,null,null,null,"ID1744",null,null,null,88000]
[null,{"$f":"IF(Dashboard!$P$4=\"All\",Data!G1125,IF(Data!K1125=Dashboard!$P$4,Data!G1125,NA()))","v":{"$error":"#N/A"}},"","","",{"$f":"IF(C574<>\"\",Data!$M1125,\"\")","v":""},null,null,null,null,{"$f":"IF(Dashboard!$R$4=\"All\",Data!G1125,IF(Data!K1125=Dashboard!$R$4,Data!G1125,NA()))","v":{"$error":"#N/A"}},"","","",{"$f":"IF(L574<>\"\",Data!$M1125,\"\")","v":""},null,null,null,null,{"$f":"IF(OR(Dashboard!$P$4=\"All\",Dashboard!$R$4=\"All\"),NA(),IF(OR(Data!K1125<>Dashboard!$P$4,Data!K1125<>Dashboard!$R$4),Data!G1125,NA()))","v":114335.9495092447},null,null,null,null,null,null,null,null,null,null,null,null,null,null,"ID1746",69000,1,null,null,null,null,null,null,null,null,null,null,null,null,null,null,null,null,null,null,null,null,null,null,null,null,null,null,null,null,null,null,null,"ID1746",null,null,null,69000]
[null,{"$f":"IF(Dashboard!$P$4=\"All\",Data!G1126,IF(Data!K1126=Dashboard!$P$4,Data!G1126,NA()))","v":{"$error":"#N/A"}},"","","",{"$f":"IF(C575<>\"\",Data!$M1126,\"\")","v":""},null,null,null,null,{"$f":"IF(Dashboard!$R$4=\"All\",Data!G1126,IF(Data!K1126=Dashboard!$R$4,Data!G1126,NA()))","v":36252.100257547536},36252.100257547536,"","",{"$f":"IF(L575<>\"\",Data!$M1126,\"\")","v":10},null,null,null,null,{"$f":"IF(OR(Dashboard!$P$4=\"All\",Dashboard!$R$4=\"All\"),NA(),IF(OR(Data!K1126<>Dashboard!$P$4,Data!K1126<>Dashboard!$R$4),Data!G1126,NA()))","v":36252.100257547536},null,null,null,null,null,null,null,null,null,null,null,null,null,null,"ID1747",null,null,30000,1,null,null,null,null,null,null,null,null,null,null,null,null,null,null,null,null,null,null,null,null,null,null,null,null,null,null,null,null,null,"ID1747",null,null,30000]
[null,{"$f":"IF(Dashboard!$P$4=\"All\",Data!G1127,IF(Data!K1127=Dashboard!$P$4,Data!G1127,NA()))","v":{"$error":"#N/A"}},"","","",{"$f":"IF(C576<>\"\",Data!$M1127,\"\")","v":""},null,null,null,null,{"$f":"IF(Dashboard!$R$4=\"All\",Data!G1127,IF(Data!K1127=Dashboard!$R$4,Data!G1127,NA()))","v":47285.348162018527},47285.348162018527,"","",{"$f":"IF(L576<>\"\",Data!$M1127,\"\")","v":5},null,null,null,null,{"$f":"IF(OR(Dashboard!$P$4=\"All\",Dashboard!$R$4=\"All\"),NA(),IF(OR(Data!K1127<>Dashboard!$P$4,Data!K1127<>Dashboard!$R$4),Data!G1127,NA()))","v":47285.348162018527},null,null,null,null,null,null,null,null,null,null,null,null,null,null,"ID1748",null,null,80000,1,null,null,null,null,null,null,null,null,null,null,null,null,null,null,null,null,null,null,null,null,null,null,null,null,null,null,null,null,null,"ID1748",null,null,80000]
[null,{"$f":"IF(Dashboard!$P$4=\"All\",Data!G1128,IF(Data!K1128=Dashboard!$P$4,Data!G1128,NA()))","v":{"$error":"#N/A"}},"","","",{"$f":"IF(C577<>\"\",Data!$M1128,\"\")","v":""},null,null,null,null,{"$f":"IF(Dashboard!$R$4=\"All\",Data!G1128,IF(Data!K1128=Dashboard!$R$4,Data!G1128,NA()))","v":{"$error":"#N/A"}},"","","",{"$f":"IF(L577<>\"\",Data!$M1128,\"\")","v":""},null,null,null,null,{"$f":"IF(OR(Dashboard!$P$4=\"All\",Dashboard!$R$4=\"All\"),NA(),IF(OR(Data!K1128<>Dashboard!$P$4,Data!K1128<>Dashboard!$R$4),Data!G1128,NA()))","v":88927.960729412545},null,null,null,null,null,null,null,null,null,null,null,null,null,null,"ID1749",null,null,null,null,75000,1,null,null,null,null,null,null,null,null,null,null,null,null,null,null,null,null,null,null,null,null,null,null,null,null,null,null,null,"ID1749",null,null,null,75000]
[null,{"$f":"IF(Dashboard!$P$4=\"All\",Data!G1129,IF(Data!K1129=Dashboard!$P$4,Data!G1129,NA()))","v":{"$error":"#N/A"}},"","","",{"$f":"IF(C578<>\"\",Data!$M1129,\"\")","v":""},null,null,null,null,{"$f":"IF(Dashboard!$R$4=\"All\",Data!G1129,IF(Data!K1129=Dashboard!$R$4,Data!G1129,NA()))","v":{"$error":"#N/A"}},"","","",{"$f":"IF(L578<>\"\",Data!$M1129,\"\")","v":""},null,null,null,null,{"$f":"IF(OR(Dashboard!$P$4=\"All\",Dashboard!$R$4=\"All\"),NA(),IF(OR(Data!K1129<>Dashboard!$P$4,Data!K1129<>Dashboard!$R$4),Data!G1129,NA()))","v":6000},null,null,null,null,null,null,null,null,null,null,null,null,null,null,"ID1751",null,null,null,null,85000,1,null,null,null,null,null,null,null,null,null,null,null,null,null,null,null,null,null,null,null,null,null,null,null,null,null,null,null,"ID1751",null,null,85000]
[null,{"$f":"IF(Dashboard!$P$4=\"All\",Data!G1130,IF(Data!K1130=Dashboard!$P$4,Data!G1130,NA()))","v":{"$error":"#N/A"}},"","","",{"$f":"IF(C579<>\"\",Data!$M1130,\"\")","v":""},null,null,null,null,{"$f":"IF(Dashboard!$R$4=\"All\",Data!G1130,IF(Data!K1130=Dashboard!$R$4,Data!G1130,NA()))","v":{"$error":"#N/A"}},"","","",{"$f":"IF(L579<>\"\",Data!$M1130,\"\")","v":""},null,null,null,null,{"$f":"IF(OR(Dashboard!$P$4=\"All\",Dashboard!$R$4=\"All\"),NA(),IF(OR(Data!K1130<>Dashboard!$P$4,Data!K1130<>Dashboard!$R$4),Data!G1130,NA()))","v":35000},null,null,null,null,null,null,null,null,null,null,null,null,null,null,"ID1754",null,null,60000,1,null,null,null,null,null,null,null,null,null,null,null,null,null,null,null,null,null,null,null,null,null,null,null,null,null,null,null,null,null,"ID1754",null,null,null,60000]
[null,{"$f":"IF(Dashboard!$P$4=\"All\",Data!G1131,IF(Data!K1131=Dashboard!$P$4,Data!G1131,NA()))","v":{"$error":"#N/A"}},{"$f":"IF(ISNA(B580),\"\",B580)","v":""},{"$f":"IF(C580>=PERCENTILE($C$3:$C$1337,0.9),C580,\"\")","v":""},{"$f":"IF(C580<=PERCENTILE($C$3:$C$1337,0.1),C580,\"\")","v":""},{"$f":"IF(C580<>\"\",Data!$M1131,\"\")","v":""},null,null,null,null,{"$f":"IF(Dashboard!$R$4=\"All\",Data!G1131,IF(Data!K1131=Dashboard!$R$4,Data!G1131,NA()))","v":55166.239522354947},{"$f":"IF(ISNA(K580),\"\",K580)","v":55166.239522354947},{"$f":"IF(L580>=PERCENTILE($L$3:$L$1337,0.9),L580,\"\")","v":""},{"$f":"IF(L580<=PERCENTILE($L$3:$L$1337,0.1),L580,\"\")","v":""},{"$f":"IF(L580<>\"\",Data!$M1131,\"\")","v":10},null,null,null,null,{"$f":"IF(OR(Dashboard!$P$4=\"All\",Dashboard!$R$4=\"All\"),NA(),IF(OR(Data!K1131<>Dashboard!$P$4,Data!K1131<>Dashboard!$R$4),Data!G1131,NA()))","v":55166.239522354947},null,null,null,null,null,null,null,null,null,null,null,null,null,null,"ID1755",null,null,60000,1,null,null,null,null,null,null,null,null,null,null,null,null,null,null,null,null,null,null,null,null,null,null,null,null,null,null,null,null,null,"ID1755",null,null,null,60000]
[null,{"$f":"IF(Dashboard!$P$4=\"All\",Data!G1132,IF(Data!K1132=Dashboard!$P$4,Data!G1132,NA()))","v":{"$error":"#N/A"}},"","","",{"$f":"IF(C581<>\"\",Data!$M1132,\"\")","v":""},null,null,null,null,{"$f":"IF(Dashboard!$R$4=\"All\",Data!G1132,IF(Data!K1132=Dashboard!$R$4,Data!G1132,NA()))","v":{"$error":"#N/A"}},"","","",{"$f":"IF(L581<>\"\",Data!$M1132,\"\")","v":""},null,null,null,null,{"$f":"IF(OR(Dashboard!$P$4=\"All\",Dashboard!$R$4=\"All\"),NA(),IF(OR(Data!K1132<>Dashboard!$P$4,Data!K1132<>Dashboard!$R$4),Data!G1132,NA()))","v":1783.166904422254},null,null,null,null,null,null,null,null,null,null,null,null,null,null,"ID1762",null,null,67000,1,null,null,null,null,null,null,null,null,null,null,null,null,null,null,null,null,null,null,null,null,null,null,null,null,null,null,null,null,null,"ID1762",null,null,67000]
[null,{"$f":"IF(Dashboard!$P$4=\"All\",Data!G1133,IF(Data!K1133=Dashboard!$P$4,Data!G1133,NA()))","v":{"$error":"#N/A"}},"","","",{"$f":"IF(C582<>\"\",Data!$M1133,\"\")","v":""},null,null,null,null,{"$f":"IF(Dashboard!$R$4=\"All\",Data!G1133,IF(Data!K1133=Dashboard!$R$4,Data!G1133,NA()))","v":{"$error":"#N/A"}},"","","",{"$f":"IF(L582<>\"\",Data!$M1133,\"\")","v":""},null,null,null,null,{"$f":"IF(OR(Dashboard!$P$4=\"All\",Dashboard!$R$4=\"All\"),NA(),IF(OR(Data!K1133<>Dashboard!$P$4,Data!K1133<>Dashboard!$R$4),Data!G1133,NA()))","v":13500},null,null,null,null,null,null,null,null,null,null,null,null,null,null,"ID1763",30000,1,null,null,null,null,null,null,null,null,null,null,null,null,null,null,null,null,null,null,null,null,null,null,null,null,null,null,null,null,null,null,null,"ID1763",null,30000]
[null,{"$f":"IF(Dashboard!$P$4=\"All\",Data!G1134,IF(Data!K1134=Dashboard!$P$4,Data!G1134,NA()))","v":{"$error":"#N/A"}},"","","",{"$f":"IF(C583<>\"\",Data!$M1134,\"\")","v":""},null,null,null,null,{"$f":"IF(Dashboard!$R$4=\"All\",Data!G1134,IF(Data!K1134=Dashboard!$R$4,Data!G1134,NA()))","v":59106.685202523156},59106.685202523156,"","",{"$f":"IF(L583<>\"\",Data!$M1134,\"\")","v":5},null,null,null,null,{"$f":"IF(OR(Dashboard!$P$4=\"All\",Dashboard!$R$4=\"All\"),NA(),IF(OR(Data!K1134<>Dashboard!$P$4,Data!K1134<>Dashboard!$R$4),Data!G1134,NA()))","v":59106.685202523156},null,null,null,null,null,null,null,null,null,null,null,null,null,null,"ID1765",null,null,71500,1,null,null,null,null,null,null,null,null,null,null,null,null,null,null,null,null,null,null,null,null,null,null,null,null,null,null,null,null,null,"ID1765",null,null,null,71500]
[null,{"$f":"IF(Dashboard!$P$4=\"All\",Data!G1135,IF(Data!K1135=Dashboard!$P$4,Data!G1135,NA()))","v":{"$error":"#N/A"}},"","","",{"$f":"IF(C584<>\"\",Data!$M1135,\"\")","v":""},null,null,null,null,{"$f":"IF(Dashboard!$R$4=\"All\",Data!G1135,IF(Data!K1135=Dashboard!$R$4,Data!G1135,NA()))","v":{"$error":"#N/A"}},"","","",{"$f":"IF(L584<>\"\",Data!$M1135,\"\")","v":""},null,null,null,null,{"$f":"IF(OR(Dashboard!$P$4=\"All\",Dashboard!$R$4=\"All\"),NA(),IF(OR(Data!K1135<>Dashboard!$P$4,Data!K1135<>Dashboard!$R$4),Data!G1135,NA()))","v":12608.005014709339},null,null,null,null,null,null,null,null,null,null,null,null,null,null,"ID1766",null,null,67000,1,null,null,null,null,null,null,null,null,null,null,null,null,null,null,null,null,null,null,null,null,null,null,null,null,null,null,null,null,null,"ID1766",null,null,null,null,67000]
[null,{"$f":"IF(Dashboard!$P$4=\"All\",Data!G1136,IF(Data!K1136=Dashboard!$P$4,Data!G1136,NA()))","v":{"$error":"#N/A"}},"","","",{"$f":"IF(C585<>\"\",Data!$M1136,\"\")","v":""},null,null,null,null,{"$f":"IF(Dashboard!$R$4=\"All\",Data!G1136,IF(Data!K1136=Dashboard!$R$4,Data!G1136,NA()))","v":{"$error":"#N/A"}},"","","",{"$f":"IF(L585<>\"\",Data!$M1136,\"\")","v":""},null,null,null,null,{"$f":"IF(OR(Dashboard!$P$4=\"All\",Dashboard!$R$4=\"All\"),NA(),IF(OR(Data!K1136<>Dashboard!$P$4,Data!K1136<>Dashboard!$R$4),Data!G1136,NA()))","v":44654.095718350931},null,null,null,null,null,null,null,null,null,null,null,null,null,null,"ID1767",40000,1,null,null,null,null,null,null,null,null,null,null,null,null,null,null,null,null,null,null,null,null,null,null,null,null,null,null,null,null,null,null,null,"ID1767",null,null,40000]
[null,{"$f":"IF(Dashboard!$P$4=\"All\",Data!G1137,IF(Data!K1137=Dashboard!$P$4,Data!G1137,NA()))","v":{"$error":"#N/A"}},"","","",{"$f":"IF(C586<>\"\",Data!$M1137,\"\")","v":""},null,null,null,null,{"$f":"IF(Dashboard!$R$4=\"All\",Data!G1137,IF(Data!K1137=Dashboard!$R$4,Data!G1137,NA()))","v":{"$error":"#N/A"}},"","","",{"$f":"IF(L586<>\"\",Data!$M1137,\"\")","v":""},null,null,null,null,{"$f":"IF(OR(Dashboard!$P$4=\"All\",Dashboard!$R$4=\"All\"),NA(),IF(OR(Data!K1137<>Dashboard!$P$4,Data!K1137<>Dashboard!$R$4),Data!G1137,NA()))","v":69000},null,null,null,null,null,null,null,null,null,null,null,null,null,null,"ID1768",null,null,65000,1,null,null,null,null,null,null,null,null,null,null,null,null,null,null,null,null,null,null,null,null,null,null,null,null,null,null,null,null,null,"ID1768",null,null,65000]
[null,{"$f":"IF(Dashboard!$P$4=\"All\",Data!G1138,IF(Data!K1138=Dashboard!$P$4,Data!G1138,NA()))","v":{"$error":"#N/A"}},"","","",{"$f":"IF(C587<>\"\",Data!$M1138,\"\")","v":""},null,null,null,null,{"$f":"IF(Dashboard!$R$4=\"All\",Data!G1138,IF(Data!K1138=Dashboard!$R$4,Data!G1138,NA()))","v":{"$error":"#N/A"}},"","","",{"$f":"IF(L587<>\"\",Data!$M1138,\"\")","v":""},null,null,null,null,{"$f":"IF(OR(Dashboard!$P$4=\"All\",Dashboard!$R$4=\"All\"),NA(),IF(OR(Data!K1138<>Dashboard!$P$4,Data!K1138<>Dashboard!$R$4),Data!G1138,NA()))","v":6000},null,null,null,null,null,null,null,null,null,null,null,null,null,null,"ID1769",null,null,null,null,null,null,null,null,null,null,null,null,72000,1,null,null,null,null,null,null,null,null,null,null,null,null,null,null,null,null,null,null,null,"ID1769",null,72000]
[null,{"$f":"IF(Dashboard!$P$4=\"All\",Data!G1139,IF(Data!K1139=Dashboard!$P$4,Data!G1139,NA()))","v":{"$error":"#N/A"}},"","","",{"$f":"IF(C588<>\"\",Data!$M1139,\"\")","v":""},null,null,null,null,{"$f":"IF(Dashboard!$R$4=\"All\",Data!G1139,IF(Data!K1139=Dashboard!$R$4,Data!G1139,NA()))","v":{"$error":"#N/A"}},"","","",{"$f":"IF(L588<>\"\",Data!$M1139,\"\")","v":""},null,null,null,null,{"$f":"IF(OR(Dashboard!$P$4=\"All\",Dashboard!$R$4=\"All\"),NA(),IF(OR(Data!K1139<>Dashboard!$P$4,Data!K1139<>Dashboard!$R$4),Data!G1139,NA()))","v":8903.9583437212841},null,null,null,null,null,null,null,null,null,null,null,null,null,null,"ID1770",null,null,52500,1,null,null,null,null,null,null,null,null,null,null,null,null,null,null,null,null,null,null,null,null,null,null,null,null,null,null,null,null,null,"ID1770",null,null,null,52500]
[null,{"$f":"IF(Dashboard!$P$4=\"All\",Data!G1140,IF(Data!K1140=Dashboard!$P$4,Data!G1140,NA()))","v":{"$error":"#N/A"}},"","","",{"$f":"IF(C589<>\"\",Data!$M1140,\"\")","v":""},null,null,null,null,{"$f":"IF(Dashboard!$R$4=\"All\",Data!G1140,IF(Data!K1140=Dashboard!$R$4,Data!G1140,NA()))","v":{"$error":"#N/A"}},"","","",{"$f":"IF(L589<>\"\",Data!$M1140,\"\")","v":""},null,null,null,null,{"$f":"IF(OR(Dashboard!$P$4=\"All\",Dashboard!$R$4=\"All\"),NA(),IF(OR(Data!K1140<>Dashboard!$P$4,Data!K1140<>Dashboard!$R$4),Data!G1140,NA()))","v":30000},null,null,null,null,null,null,null,null,null,null,null,null,null,null,"ID1775",null,null,85000,1,null,null,null,null,null,null,null,null,null,null,null,null,null,null,null,null,null,null,null,null,null,null,null,null,null,null,null,null,null,"ID1775",null,85000]
[null,{"$f":"IF(Dashboard!$P$4=\"All\",Data!G1141,IF(Data!K1141=Dashboard!$P$4,Data!G1141,NA()))","v":{"$error":"#N/A"}},"","","",{"$f":"IF(C590<>\"\",Data!$M1141,\"\")","v":""},null,null,null,null,{"$f":"IF(Dashboard!$R$4=\"All\",Data!G1141,IF(Data!K1141=Dashboard!$R$4,Data!G1141,NA()))","v":{"$error":"#N/A"}},"","","",{"$f":"IF(L590<>\"\",Data!$M1141,\"\")","v":""},null,null,null,null,{"$f":"IF(OR(Dashboard!$P$4=\"All\",Dashboard!$R$4=\"All\"),NA(),IF(OR(Data!K1141<>Dashboard!$P$4,Data!K1141<>Dashboard!$R$4),Data!G1141,NA()))","v":8600},null,null,null,null,null,null,null,null,null,null,null,null,null,null,"ID1778",null,null,125000,1,null,null,null,null,null,null,null,null,null,null,null,null,null,null,null,null,null,null,null,null,null,null,null,null,null,null,null,null,null,"ID1778",null,null,null,125000]
[null,{"$f":"IF(Dashboard!$P$4=\"All\",Data!G1142,IF(Data!K1142=Dashboard!$P$4,Data!G1142,NA()))","v":{"$error":"#N/A"}},"","","",{"$f":"IF(C591<>\"\",Data!$M1142,\"\")","v":""},null,null,null,null,{"$f":"IF(Dashboard!$R$4=\"All\",Data!G1142,IF(Data!K1142=Dashboard!$R$4,Data!G1142,NA()))","v":81600},81600,"","",{"$f":"IF(L591<>\"\",Data!$M1142,\"\")","v":4},null,null,null,null,{"$f":"IF(OR(Dashboard!$P$4=\"All\",Dashboard!$R$4=\"All\"),NA(),IF(OR(Data!K1142<>Dashboard!$P$4,Data!K1142<>Dashboard!$R$4),Data!G1142,NA()))","v":81600},null,null,null,null,null,null,null,null,null,null,null,null,null,null,"ID1788",null,null,null,null,null,null,null,null,null,null,null,null,null,null,null,null,null,null,74461,1,null,null,null,null,null,null,null,null,null,null,null,null,null,"ID1788",74461]
[null,{"$f":"IF(Dashboard!$P$4=\"All\",Data!G1143,IF(Data!K1143=Dashboard!$P$4,Data!G1143,NA()))","v":{"$error":"#N/A"}},"","","",{"$f":"IF(C592<>\"\",Data!$M1143,\"\")","v":""},null,null,null,null,{"$f":"IF(Dashboard!$R$4=\"All\",Data!G1143,IF(Data!K1143=Dashboard!$R$4,Data!G1143,NA()))","v":{"$error":"#N/A"}},"","","",{"$f":"IF(L592<>\"\",Data!$M1143,\"\")","v":""},null,null,null,null,{"$f":"IF(OR(Dashboard!$P$4=\"All\",Dashboard!$R$4=\"All\"),NA(),IF(OR(Data!K1143<>Dashboard!$P$4,Data!K1143<>Dashboard!$R$4),Data!G1143,NA()))","v":15404.364569961488},null,null,null,null,null,null,null,null,null,null,null,null,null,null,"ID1794",40000,1,null,null,null,null,null,null,null,null,null,null,null,null,null,null,null,null,null,null,null,null,null,null,null,null,null,null,null,null,null,null,null,"ID1794",null,40000]
[null,{"$f":"IF(Dashboard!$P$4=\"All\",Data!G1144,IF(Data!K1144=Dashboard!$P$4,Data!G1144,NA()))","v":{"$error":"#N/A"}},"","","",{"$f":"IF(C593<>\"\",Data!$M1144,\"\")","v":""},null,null,null,null,{"$f":"IF(Dashboard!$R$4=\"All\",Data!G1144,IF(Data!K1144=Dashboard!$R$4,Data!G1144,NA()))","v":{"$error":"#N/A"}},"","","",{"$f":"IF(L593<>\"\",Data!$M1144,\"\")","v":""},null,null,null,null,{"$f":"IF(OR(Dashboard!$P$4=\"All\",Dashboard!$R$4=\"All\"),NA(),IF(OR(Data!K1144<>Dashboard!$P$4,Data!K1144<>Dashboard!$R$4),Data!G1144,NA()))","v":63918.498996971248},null,null,null,null,null,null,null,null,null,null,null,null,null,null,"ID1796",null,null,56600,1,null,null,null,null,null,null,null,null,null,null,null,null,null,null,null,null,null,null,null,null,null,null,null,null,null,null,null,null,null,"ID1796",null,null,56600]
[null,{"$f":"IF(Dashboard!$P$4=\"All\",Data!G1145,IF(Data!K1145=Dashboard!$P$4,Data!G1145,NA()))","v":{"$error":"#N/A"}},"","","",{"$f":"IF(C594<>\"\",Data!$M1145,\"\")","v":""},null,null,null,null,{"$f":"IF(Dashboard!$R$4=\"All\",Data!G1145,IF(Data!K1145=Dashboard!$R$4,Data!G1145,NA()))","v":{"$error":"#N/A"}},"","","",{"$f":"IF(L594<>\"\",Data!$M1145,\"\")","v":""},null,null,null,null,{"$f":"IF(OR(Dashboard!$P$4=\"All\",Dashboard!$R$4=\"All\"),NA(),IF(OR(Data!K1145<>Dashboard!$P$4,Data!K1145<>Dashboard!$R$4),Data!G1145,NA()))","v":75000},null,null,null,null,null,null,null,null,null,null,null,null,null,null,"ID1799",100000,1,null,null,null,null,null,null,null,null,null,null,null,null,null,null,null,null,null,null,null,null,null,null,null,null,null,null,null,null,null,null,null,"ID1799",null,null,null,100000]
[null,{"$f":"IF(Dashboard!$P$4=\"All\",Data!G1146,IF(Data!K1146=Dashboard!$P$4,Data!G1146,NA()))","v":{"$error":"#N/A"}},"","","",{"$f":"IF(C595<>\"\",Data!$M1146,\"\")","v":""},null,null,null,null,{"$f":"IF(Dashboard!$R$4=\"All\",Data!G1146,IF(Data!K1146=Dashboard!$R$4,Data!G1146,NA()))","v":{"$error":"#N/A"}},"","","",{"$f":"IF(L595<>\"\",Data!$M1146,\"\")","v":""},null,null,null,null,{"$f":"IF(OR(Dashboard!$P$4=\"All\",Dashboard!$R$4=\"All\"),NA(),IF(OR(Data!K1146<>Dashboard!$P$4,Data!K1146<>Dashboard!$R$4),Data!G1146,NA()))","v":59000},null,null,null,null,null,null,null,null,null,null,null,null,null,null,"ID1802",65000,1,null,null,null,null,null,null,null,null,null,null,null,null,null,null,null,null,null,null,null,null,null,null,null,null,null,null,null,null,null,null,null,"ID1802",null,null,65000]
[null,{"$f":"IF(Dashboard!$P$4=\"All\",Data!G1147,IF(Data!K1147=Dashboard!$P$4,Data!G1147,NA()))","v":{"$error":"#N/A"}},"","","",{"$f":"IF(C596<>\"\",Data!$M1147,\"\")","v":""},null,null,null,null,{"$f":"IF(Dashboard!$R$4=\"All\",Data!G1147,IF(Data!K1147=Dashboard!$R$4,Data!G1147,NA()))","v":{"$error":"#N/A"}},"","","",{"$f":"IF(L596<>\"\",Data!$M1147,\"\")","v":""},null,null,null,null,{"$f":"IF(OR(Dashboard!$P$4=\"All\",Dashboard!$R$4=\"All\"),NA(),IF(OR(Data!K1147<>Dashboard!$P$4,Data!K1147<>Dashboard!$R$4),Data!G1147,NA()))","v":50000},null,null,null,null,null,null,null,null,null,null,null,null,null,null,"ID1803",65000,1,null,null,null,null,null,null,null,null,null,null,null,null,null,null,null,null,null,null,null,null,null,null,null,null,null,null,null,null,null,null,null,"ID1803",null,65000]
[null,{"$f":"IF(Dashboard!$P$4=\"All\",Data!G1148,IF(Data!K1148=Dashboard!$P$4,Data!G1148,NA()))","v":{"$error":"#N/A"}},"","","",{"$f":"IF(C597<>\"\",Data!$M1148,\"\")","v":""},null,null,null,null,{"$f":"IF(Dashboard!$R$4=\"All\",Data!G1148,IF(Data!K1148=Dashboard!$R$4,Data!G1148,NA()))","v":126094.26176538273},126094.26176538273,126094.26176538273,"",{"$f":"IF(L597<>\"\",Data!$M1148,\"\")","v":15},null,null,null,null,{"$f":"IF(OR(Dashboard!$P$4=\"All\",Dashboard!$R$4=\"All\"),NA(),IF(OR(Data!K1148<>Dashboard!$P$4,Data!K1148<>Dashboard!$R$4),Data!G1148,NA()))","v":126094.26176538273},null,null,null,null,null,null,null,null,null,null,null,null,null,null,"ID1804",null,null,null,null,null,null,null,null,null,null,null,null,null,null,65000,1,null,null,null,null,null,null,null,null,null,null,null,null,null,null,null,null,null,"ID1804",null,65000]
[null,{"$f":"IF(Dashboard!$P$4=\"All\",Data!G1149,IF(Data!K1149=Dashboard!$P$4,Data!G1149,NA()))","v":{"$error":"#N/A"}},"","","",{"$f":"IF(C598<>\"\",Data!$M1149,\"\")","v":""},null,null,null,null,{"$f":"IF(Dashboard!$R$4=\"All\",Data!G1149,IF(Data!K1149=Dashboard!$R$4,Data!G1149,NA()))","v":{"$error":"#N/A"}},"","","",{"$f":"IF(L598<>\"\",Data!$M1149,\"\")","v":""},null,null,null,null,{"$f":"IF(OR(Dashboard!$P$4=\"All\",Dashboard!$R$4=\"All\"),NA(),IF(OR(Data!K1149<>Dashboard!$P$4,Data!K1149<>Dashboard!$R$4),Data!G1149,NA()))","v":26691.183012544854},null,null,null,null,null,null,null,null,null,null,null,null,null,null,"ID1806",63000,1,null,null,null,null,null,null,null,null,null,null,null,null,null,null,null,null,null,null,null,null,null,null,null,null,null,null,null,null,null,null,null,"ID1806",null,null,null,63000]
[null,{"$f":"IF(Dashboard!$P$4=\"All\",Data!G1150,IF(Data!K1150=Dashboard!$P$4,Data!G1150,NA()))","v":{"$error":"#N/A"}},"","","",{"$f":"IF(C599<>\"\",Data!$M1150,\"\")","v":""},null,null,null,null,{"$f":"IF(Dashboard!$R$4=\"All\",Data!G1150,IF(Data!K1150=Dashboard!$R$4,Data!G1150,NA()))","v":{"$error":"#N/A"}},"","","",{"$f":"IF(L599<>\"\",Data!$M1150,\"\")","v":""},null,null,null,null,{"$f":"IF(OR(Dashboard!$P$4=\"All\",Dashboard!$R$4=\"All\"),NA(),IF(OR(Data!K1150<>Dashboard!$P$4,Data!K1150<>Dashboard!$R$4),Data!G1150,NA()))","v":8903.9583437212841},null,null,null,null,null,null,null,null,null,null,null,null,null,null,"ID1807",null,null,null,null,null,null,null,null,null,null,null,null,null,null,null,null,null,null,87000,1,null,null,null,null,null,null,null,null,null,null,null,null,null,"ID1807",null,null,87000]
[null,{"$f":"IF(Dashboard!$P$4=\"All\",Data!G1151,IF(Data!K1151=Dashboard!$P$4,Data!G1151,NA()))","v":{"$error":"#N/A"}},"","","",{"$f":"IF(C600<>\"\",Data!$M1151,\"\")","v":""},null,null,null,null,{"$f":"IF(Dashboard!$R$4=\"All\",Data!G1151,IF(Data!K1151=Dashboard!$R$4,Data!G1151,NA()))","v":{"$error":"#N/A"}},"","","",{"$f":"IF(L600<>\"\",Data!$M1151,\"\")","v":""},null,null,null,null,{"$f":"IF(OR(Dashboard!$P$4=\"All\",Dashboard!$R$4=\"All\"),NA(),IF(OR(Data!K1151<>Dashboard!$P$4,Data!K1151<>Dashboard!$R$4),Data!G1151,NA()))","v":8725},null,null,null,null,null,null,null,null,null,null,null,null,null,null,"ID1808",45000,1,null,null,null,null,null,null,null,null,null,null,null,null,null,null,null,null,null,null,null,null,null,null,null,null,null,null,null,null,null,null,null,"ID1808",null,null,45000]
[null,{"$f":"IF(Dashboard!$P$4=\"All\",Data!G1152,IF(Data!K1152=Dashboard!$P$4,Data!G1152,NA()))","v":{"$error":"#N/A"}},"","","",{"$f":"IF(C601<>\"\",Data!$M1152,\"\")","v":""},null,null,null,null,{"$f":"IF(Dashboard!$R$4=\"All\",Data!G1152,IF(Data!K1152=Dashboard!$R$4,Data!G1152,NA()))","v":50437.70470615309},50437.70470615309,"","",{"$f":"IF(L601<>\"\",Data!$M1152,\"\")","v":4},null,null,null,null,{"$f":"IF(OR(Dashboard!$P$4=\"All\",Dashboard!$R$4=\"All\"),NA(),IF(OR(Data!K1152<>Dashboard!$P$4,Data!K1152<>Dashboard!$R$4),Data!G1152,NA()))","v":50437.70470615309},null,null,null,null,null,null,null,null,null,null,null,null,null,null,"ID1809",85000,1,null,null,null,null,null,null,null,null,null,null,null,null,null,null,null,null,null,null,null,null,null,null,null,null,null,null,null,null,null,null,null,"ID1809",null,null,null,85000]
[null,{"$f":"IF(Dashboard!$P$4=\"All\",Data!G1153,IF(Data!K1153=Dashboard!$P$4,Data!G1153,NA()))","v":{"$error":"#N/A"}},"","","",{"$f":"IF(C602<>\"\",Data!$M1153,\"\")","v":""},null,null,null,null,{"$f":"IF(Dashboard!$R$4=\"All\",Data!G1153,IF(Data!K1153=Dashboard!$R$4,Data!G1153,NA()))","v":67775.665698893223},67775.665698893223,"","",{"$f":"IF(L602<>\"\",Data!$M1153,\"\")","v":15},null,null,null,null,{"$f":"IF(OR(Dashboard!$P$4=\"All\",Dashboard!$R$4=\"All\"),NA(),IF(OR(Data!K1153<>Dashboard!$P$4,Data!K1153<>Dashboard!$R$4),Data!G1153,NA()))","v":67775.665698893223},null,null,null,null,null,null,null,null,null,null,null,null,null,null,"ID1821",null,null,80000,1,null,null,null,null,null,null,null,null,null,null,null,null,null,null,null,null,null,null,null,null,null,null,null,null,null,null,null,null,null,"ID1821",null,null,80000]
[null,{"$f":"IF(Dashboard!$P$4=\"All\",Data!G1154,IF(Data!K1154=Dashboard!$P$4,Data!G1154,NA()))","v":{"$error":"#N/A"}},"","","",{"$f":"IF(C603<>\"\",Data!$M1154,\"\")","v":""},null,null,null,null,{"$f":"IF(Dashboard!$R$4=\"All\",Data!G1154,IF(Data!K1154=Dashboard!$R$4,Data!G1154,NA()))","v":{"$error":"#N/A"}},"","","",{"$f":"IF(L603<>\"\",Data!$M1154,\"\")","v":""},null,null,null,null,{"$f":"IF(OR(Dashboard!$P$4=\"All\",Dashboard!$R$4=\"All\"),NA(),IF(OR(Data!K1154<>Dashboard!$P$4,Data!K1154<>Dashboard!$R$4),Data!G1154,NA()))","v":52118.160720607324},null,null,null,null,null,null,null,null,null,null,null,null,null,null,"ID1824",70000,1,null,null,null,null,null,null,null,null,null,null,null,null,null,null,null,null,null,null,null,null,null,null,null,null,null,null,null,null,null,null,null,"ID1824",null,70000]
[null,{"$f":"IF(Dashboard!$P$4=\"All\",Data!G1155,IF(Data!K1155=Dashboard!$P$4,Data!G1155,NA()))","v":{"$error":"#N/A"}},"","","",{"$f":"IF(C604<>\"\",Data!$M1155,\"\")","v":""},null,null,null,null,{"$f":"IF(Dashboard!$R$4=\"All\",Data!G1155,IF(Data!K1155=Dashboard!$R$4,Data!G1155,NA()))","v":{"$error":"#N/A"}},"","","",{"$f":"IF(L604<>\"\",Data!$M1155,\"\")","v":""},null,null,null,null,{"$f":"IF(OR(Dashboard!$P$4=\"All\",Dashboard!$R$4=\"All\"),NA(),IF(OR(Data!K1155<>Dashboard!$P$4,Data!K1155<>Dashboard!$R$4),Data!G1155,NA()))","v":3561.5833374885137},null,null,null,null,null,null,null,null,null,null,null,null,null,null,"ID1825",null,null,null,null,null,null,null,null,null,null,null,null,null,null,214000,1,null,null,null,null,null,null,null,null,null,null,null,null,null,null,null,null,null,"ID1825",null,null,null,214000]
[null,{"$f":"IF(Dashboard!$P$4=\"All\",Data!G1156,IF(Data!K1156=Dashboard!$P$4,Data!G1156,NA()))","v":{"$error":"#N/A"}},"","","",{"$f":"IF(C605<>\"\",Data!$M1156,\"\")","v":""},null,null,null,null,{"$f":"IF(Dashboard!$R$4=\"All\",Data!G1156,IF(Data!K1156=Dashboard!$R$4,Data!G1156,NA()))","v":{"$error":"#N/A"}},"","","",{"$f":"IF(L605<>\"\",Data!$M1156,\"\")","v":""},null,null,null,null,{"$f":"IF(OR(Dashboard!$P$4=\"All\",Dashboard!$R$4=\"All\"),NA(),IF(OR(Data!K1156<>Dashboard!$P$4,Data!K1156<>Dashboard!$R$4),Data!G1156,NA()))","v":8013.5625093491553},null,null,null,null,null,null,null,null,null,null,null,null,null,null,"ID1826",null,null,null,null,null,null,null,null,78000,1,null,null,null,null,null,null,null,null,null,null,null,null,null,null,null,null,null,null,null,null,null,null,null,"ID1826",null,null,null,78000]
[null,{"$f":"IF(Dashboard!$P$4=\"All\",Data!G1157,IF(Data!K1157=Dashboard!$P$4,Data!G1157,NA()))","v":{"$error":"#N/A"}},"","","",{"$f":"IF(C606<>\"\",Data!$M1157,\"\")","v":""},null,null,null,null,{"$f":"IF(Dashboard!$R$4=\"All\",Data!G1157,IF(Data!K1157=Dashboard!$R$4,Data!G1157,NA()))","v":{"$error":"#N/A"}},"","","",{"$f":"IF(L606<>\"\",Data!$M1157,\"\")","v":""},null,null,null,null,{"$f":"IF(OR(Dashboard!$P$4=\"All\",Dashboard!$R$4=\"All\"),NA(),IF(OR(Data!K1157<>Dashboard!$P$4,Data!K1157<>Dashboard!$R$4),Data!G1157,NA()))","v":28000},null,null,null,null,null,null,null,null,null,null,null,null,null,null,"ID1827",42307,1,null,null,null,null,null,null,null,null,null,null,null,null,null,null,null,null,null,null,null,null,null,null,null,null,null,null,null,null,null,null,null,"ID1827",null,42307]
[null,{"$f":"IF(Dashboard!$P$4=\"All\",Data!G1158,IF(Data!K1158=Dashboard!$P$4,Data!G1158,NA()))","v":{"$error":"#N/A"}},"","","",{"$f":"IF(C607<>\"\",Data!$M1158,\"\")","v":""},null,null,null,null,{"$f":"IF(Dashboard!$R$4=\"All\",Data!G1158,IF(Data!K1158=Dashboard!$R$4,Data!G1158,NA()))","v":50064.150455673145},50064.150455673145,"","",{"$f":"IF(L607<>\"\",Data!$M1158,\"\")","v":2},null,null,null,null,{"$f":"IF(OR(Dashboard!$P$4=\"All\",Dashboard!$R$4=\"All\"),NA(),IF(OR(Data!K1158<>Dashboard!$P$4,Data!K1158<>Dashboard!$R$4),Data!G1158,NA()))","v":50064.150455673145},null,null,null,null,null,null,null,null,null,null,null,null,null,null,"ID1828",null,null,33250,1,null,null,null,null,null,null,null,null,null,null,null,null,null,null,null,null,null,null,null,null,null,null,null,null,null,null,null,null,null,"ID1828",null,null,null,33250]
[null,{"$f":"IF(Dashboard!$P$4=\"All\",Data!G1159,IF(Data!K1159=Dashboard!$P$4,Data!G1159,NA()))","v":{"$error":"#N/A"}},"","","",{"$f":"IF(C608<>\"\",Data!$M1159,\"\")","v":""},null,null,null,null,{"$f":"IF(Dashboard!$R$4=\"All\",Data!G1159,IF(Data!K1159=Dashboard!$R$4,Data!G1159,NA()))","v":{"$error":"#N/A"}},"","","",{"$f":"IF(L608<>\"\",Data!$M1159,\"\")","v":""},null,null,null,null,{"$f":"IF(OR(Dashboard!$P$4=\"All\",Dashboard!$R$4=\"All\"),NA(),IF(OR(Data!K1159<>Dashboard!$P$4,Data!K1159<>Dashboard!$R$4),Data!G1159,NA()))","v":50437.70470615309},null,null,null,null,null,null,null,null,null,null,null,null,null,null,"ID1830",null,null,null,null,120000,1,null,null,null,null,null,null,null,null,null,null,null,null,null,null,null,null,null,null,null,null,null,null,null,null,null,null,null,"ID1830",null,null,120000]
[null,{"$f":"IF(Dashboard!$P$4=\"All\",Data!G1160,IF(Data!K1160=Dashboard!$P$4,Data!G1160,NA()))","v":{"$error":"#N/A"}},"","","",{"$f":"IF(C609<>\"\",Data!$M1160,\"\")","v":""},null,null,null,null,{"$f":"IF(Dashboard!$R$4=\"All\",Data!G1160,IF(Data!K1160=Dashboard!$R$4,Data!G1160,NA()))","v":{"$error":"#N/A"}},"","","",{"$f":"IF(L609<>\"\",Data!$M1160,\"\")","v":""},null,null,null,null,{"$f":"IF(OR(Dashboard!$P$4=\"All\",Dashboard!$R$4=\"All\"),NA(),IF(OR(Data!K1160<>Dashboard!$P$4,Data!K1160<>Dashboard!$R$4),Data!G1160,NA()))","v":27840},null,null,null,null,null,null,null,null,null,null,null,null,null,null,"ID1839",60000,1,null,null,null,null,null,null,null,null,null,null,null,null,null,null,null,null,null,null,null,null,null,null,null,null,null,null,null,null,null,null,null,"ID1839",null,null,60000]
[null,{"$f":"IF(Dashboard!$P$4=\"All\",Data!G1161,IF(Data!K1161=Dashboard!$P$4,Data!G1161,NA()))","v":{"$error":"#N/A"}},"","","",{"$f":"IF(C610<>\"\",Data!$M1161,\"\")","v":""},null,null,null,null,{"$f":"IF(Dashboard!$R$4=\"All\",Data!G1161,IF(Data!K1161=Dashboard!$R$4,Data!G1161,NA()))","v":{"$error":"#N/A"}},"","","",{"$f":"IF(L610<>\"\",Data!$M1161,\"\")","v":""},null,null,null,null,{"$f":"IF(OR(Dashboard!$P$4=\"All\",Dashboard!$R$4=\"All\"),NA(),IF(OR(Data!K1161<>Dashboard!$P$4,Data!K1161<>Dashboard!$R$4),Data!G1161,NA()))","v":6232.7708406048987},null,null,null,null,null,null,null,null,null,null,null,null,null,null,"ID1840",null,null,null,null,57000,1,null,null,null,null,null,null,null,null,null,null,null,null,null,null,null,null,null,null,null,null,null,null,null,null,null,null,null,"ID1840",null,null,57000]
[null,{"$f":"IF(Dashboard!$P$4=\"All\",Data!G1162,IF(Data!K1162=Dashboard!$P$4,Data!G1162,NA()))","v":{"$error":"#N/A"}},"","","",{"$f":"IF(C611<>\"\",Data!$M1162,\"\")","v":""},null,null,null,null,{"$f":"IF(Dashboard!$R$4=\"All\",Data!G1162,IF(Data!K1162=Dashboard!$R$4,Data!G1162,NA()))","v":{"$error":"#N/A"}},"","","",{"$f":"IF(L611<>\"\",Data!$M1162,\"\")","v":""},null,null,null,null,{"$f":"IF(OR(Dashboard!$P$4=\"All\",Dashboard!$R$4=\"All\"),NA(),IF(OR(Data!K1162<>Dashboard!$P$4,Data!K1162<>Dashboard!$R$4),Data!G1162,NA()))","v":50000},null,null,null,null,null,null,null,null,null,null,null,null,null,null,"ID1841",40000,1,null,null,null,null,null,null,null,null,null,null,null,null,null,null,null,null,null,null,null,null,null,null,null,null,null,null,null,null,null,null,null,"ID1841",null,40000]
[null,{"$f":"IF(Dashboard!$P$4=\"All\",Data!G1163,IF(Data!K1163=Dashboard!$P$4,Data!G1163,NA()))","v":{"$error":"#N/A"}},"","","",{"$f":"IF(C612<>\"\",Data!$M1163,\"\")","v":""},null,null,null,null,{"$f":"IF(Dashboard!$R$4=\"All\",Data!G1163,IF(Data!K1163=Dashboard!$R$4,Data!G1163,NA()))","v":{"$error":"#N/A"}},"","","",{"$f":"IF(L612<>\"\",Data!$M1163,\"\")","v":""},null,null,null,null,{"$f":"IF(OR(Dashboard!$P$4=\"All\",Dashboard!$R$4=\"All\"),NA(),IF(OR(Data!K1163<>Dashboard!$P$4,Data!K1163<>Dashboard!$R$4),Data!G1163,NA()))","v":48000},null,null,null,null,null,null,null,null,null,null,null,null,null,null,"ID1842",null,null,null,null,null,null,null,null,null,null,null,null,null,null,80000,1,null,null,null,null,null,null,null,null,null,null,null,null,null,null,null,null,null,"ID1842",null,null,80000]
[null,{"$f":"IF(Dashboard!$P$4=\"All\",Data!G1164,IF(Data!K1164=Dashboard!$P$4,Data!G1164,NA()))","v":{"$error":"#N/A"}},"","","",{"$f":"IF(C613<>\"\",Data!$M1164,\"\")","v":""},null,null,null,null,{"$f":"IF(Dashboard!$R$4=\"All\",Data!G1164,IF(Data!K1164=Dashboard!$R$4,Data!G1164,NA()))","v":{"$error":"#N/A"}},"","","",{"$f":"IF(L613<>\"\",Data!$M1164,\"\")","v":""},null,null,null,null,{"$f":"IF(OR(Dashboard!$P$4=\"All\",Dashboard!$R$4=\"All\"),NA(),IF(OR(Data!K1164<>Dashboard!$P$4,Data!K1164<>Dashboard!$R$4),Data!G1164,NA()))","v":24000},null,null,null,null,null,null,null,null,null,null,null,null,null,null,"ID1843",null,null,null,null,null,null,118000,1,null,null,null,null,null,null,null,null,null,null,null,null,null,null,null,null,null,null,null,null,null,null,null,null,null,"ID1843",null,null,118000]
[null,{"$f":"IF(Dashboard!$P$4=\"All\",Data!G1165,IF(Data!K1165=Dashboard!$P$4,Data!G1165,NA()))","v":{"$error":"#N/A"}},"","","",{"$f":"IF(C614<>\"\",Data!$M1165,\"\")","v":""},null,null,null,null,{"$f":"IF(Dashboard!$R$4=\"All\",Data!G1165,IF(Data!K1165=Dashboard!$R$4,Data!G1165,NA()))","v":{"$error":"#N/A"}},"","","",{"$f":"IF(L614<>\"\",Data!$M1165,\"\")","v":""},null,null,null,null,{"$f":"IF(OR(Dashboard!$P$4=\"All\",Dashboard!$R$4=\"All\"),NA(),IF(OR(Data!K1165<>Dashboard!$P$4,Data!K1165<>Dashboard!$R$4),Data!G1165,NA()))","v":75000},null,null,null,null,null,null,null,null,null,null,null,null,null,null,"ID1847",50000,1,null,null,null,null,null,null,null,null,null,null,null,null,null,null,null,null,null,null,null,null,null,null,null,null,null,null,null,null,null,null,null,"ID1847",null,null,null,50000]
[null,{"$f":"IF(Dashboard!$P$4=\"All\",Data!G1166,IF(Data!K1166=Dashboard!$P$4,Data!G1166,NA()))","v":{"$error":"#N/A"}},"","","",{"$f":"IF(C615<>\"\",Data!$M1166,\"\")","v":""},null,null,null,null,{"$f":"IF(Dashboard!$R$4=\"All\",Data!G1166,IF(Data!K1166=Dashboard!$R$4,Data!G1166,NA()))","v":{"$error":"#N/A"}},"","","",{"$f":"IF(L615<>\"\",Data!$M1166,\"\")","v":""},null,null,null,null,{"$f":"IF(OR(Dashboard!$P$4=\"All\",Dashboard!$R$4=\"All\"),NA(),IF(OR(Data!K1166<>Dashboard!$P$4,Data!K1166<>Dashboard!$R$4),Data!G1166,NA()))","v":58799.349940520107},null,null,null,null,null,null,null,null,null,null,null,null,null,null,"ID1849",60000,1,null,null,null,null,null,null,null,null,null,null,null,null,null,null,null,null,null,null,null,null,null,null,null,null,null,null,null,null,null,null,null,"ID1849",null,60000]
[null,{"$f":"IF(Dashboard!$P$4=\"All\",Data!G1167,IF(Data!K1167=Dashboard!$P$4,Data!G1167,NA()))","v":{"$error":"#N/A"}},"","","",{"$f":"IF(C616<>\"\",Data!$M1167,\"\")","v":""},null,null,null,null,{"$f":"IF(Dashboard!$R$4=\"All\",Data!G1167,IF(Data!K1167=Dashboard!$R$4,Data!G1167,NA()))","v":{"$error":"#N/A"}},"","","",{"$f":"IF(L616<>\"\",Data!$M1167,\"\")","v":""},null,null,null,null,{"$f":"IF(OR(Dashboard!$P$4=\"All\",Dashboard!$R$4=\"All\"),NA(),IF(OR(Data!K1167<>Dashboard!$P$4,Data!K1167<>Dashboard!$R$4),Data!G1167,NA()))","v":21228.177433598263},null,null,null,null,null,null,null,null,null,null,null,null,null,null,"ID1851",null,null,null,null,null,null,null,null,null,null,40000,1,null,null,null,null,null,null,null,null,null,null,null,null,null,null,null,null,null,null,null,null,null,"ID1851",null,null,40000]
[null,{"$f":"IF(Dashboard!$P$4=\"All\",Data!G1168,IF(Data!K1168=Dashboard!$P$4,Data!G1168,NA()))","v":{"$error":"#N/A"}},"","","",{"$f":"IF(C617<>\"\",Data!$M1168,\"\")","v":""},null,null,null,null,{"$f":"IF(Dashboard!$R$4=\"All\",Data!G1168,IF(Data!K1168=Dashboard!$R$4,Data!G1168,NA()))","v":{"$error":"#N/A"}},"","","",{"$f":"IF(L617<>\"\",Data!$M1168,\"\")","v":""},null,null,null,null,{"$f":"IF(OR(Dashboard!$P$4=\"All\",Dashboard!$R$4=\"All\"),NA(),IF(OR(Data!K1168<>Dashboard!$P$4,Data!K1168<>Dashboard!$R$4),Data!G1168,NA()))","v":60000},null,null,null,null,null,null,null,null,null,null,null,null,null,null,"ID1852",null,null,null,null,null,null,85000,1,null,null,null,null,null,null,null,null,null,null,null,null,null,null,null,null,null,null,null,null,null,null,null,null,null,"ID1852",null,85000]
[null,{"$f":"IF(Dashboard!$P$4=\"All\",Data!G1169,IF(Data!K1169=Dashboard!$P$4,Data!G1169,NA()))","v":{"$error":"#N/A"}},"","","",{"$f":"IF(C618<>\"\",Data!$M1169,\"\")","v":""},null,null,null,null,{"$f":"IF(Dashboard!$R$4=\"All\",Data!G1169,IF(Data!K1169=Dashboard!$R$4,Data!G1169,NA()))","v":{"$error":"#N/A"}},"","","",{"$f":"IF(L618<>\"\",Data!$M1169,\"\")","v":""},null,null,null,null,{"$f":"IF(OR(Dashboard!$P$4=\"All\",Dashboard!$R$4=\"All\"),NA(),IF(OR(Data!K1169<>Dashboard!$P$4,Data!K1169<>Dashboard!$R$4),Data!G1169,NA()))","v":18018.883790212141},null,null,null,null,null,null,null,null,null,null,null,null,null,null,"ID1855",null,null,null,null,null,null,null,null,29000,1,null,null,null,null,null,null,null,null,null,null,null,null,null,null,null,null,null,null,null,null,null,null,null,"ID1855",null,null,null,29000]
[null,{"$f":"IF(Dashboard!$P$4=\"All\",Data!G1170,IF(Data!K1170=Dashboard!$P$4,Data!G1170,NA()))","v":{"$error":"#N/A"}},"","","",{"$f":"IF(C619<>\"\",Data!$M1170,\"\")","v":""},null,null,null,null,{"$f":"IF(Dashboard!$R$4=\"All\",Data!G1170,IF(Data!K1170=Dashboard!$R$4,Data!G1170,NA()))","v":{"$error":"#N/A"}},"","","",{"$f":"IF(L619<>\"\",Data!$M1170,\"\")","v":""},null,null,null,null,{"$f":"IF(OR(Dashboard!$P$4=\"All\",Dashboard!$R$4=\"All\"),NA(),IF(OR(Data!K1170<>Dashboard!$P$4,Data!K1170<>Dashboard!$R$4),Data!G1170,NA()))","v":7200},null,null,null,null,null,null,null,null,null,null,null,null,null,null,"ID1857",null,null,null,null,48000,1,null,null,null,null,null,null,null,null,null,null,null,null,null,null,null,null,null,null,null,null,null,null,null,null,null,null,null,"ID1857",null,null,48000]
[null,{"$f":"IF(Dashboard!$P$4=\"All\",Data!G1171,IF(Data!K1171=Dashboard!$P$4,Data!G1171,NA()))","v":{"$error":"#N/A"}},"","","",{"$f":"IF(C620<>\"\",Data!$M1171,\"\")","v":""},null,null,null,null,{"$f":"IF(Dashboard!$R$4=\"All\",Data!G1171,IF(Data!K1171=Dashboard!$R$4,Data!G1171,NA()))","v":{"$error":"#N/A"}},"","","",{"$f":"IF(L620<>\"\",Data!$M1171,\"\")","v":""},null,null,null,null,{"$f":"IF(OR(Dashboard!$P$4=\"All\",Dashboard!$R$4=\"All\"),NA(),IF(OR(Data!K1171<>Dashboard!$P$4,Data!K1171<>Dashboard!$R$4),Data!G1171,NA()))","v":56000},null,null,null,null,null,null,null,null,null,null,null,null,null,null,"ID1858",null,null,null,null,48000,1,null,null,null,null,null,null,null,null,null,null,null,null,null,null,null,null,null,null,null,null,null,null,null,null,null,null,null,"ID1858",null,null,48000]
[null,{"$f":"IF(Dashboard!$P$4=\"All\",Data!G1172,IF(Data!K1172=Dashboard!$P$4,Data!G1172,NA()))","v":{"$error":"#N/A"}},"","","",{"$f":"IF(C621<>\"\",Data!$M1172,\"\")","v":""},null,null,null,null,{"$f":"IF(Dashboard!$R$4=\"All\",Data!G1172,IF(Data!K1172=Dashboard!$R$4,Data!G1172,NA()))","v":{"$error":"#N/A"}},"","","",{"$f":"IF(L621<>\"\",Data!$M1172,\"\")","v":""},null,null,null,null,{"$f":"IF(OR(Dashboard!$P$4=\"All\",Dashboard!$R$4=\"All\"),NA(),IF(OR(Data!K1172<>Dashboard!$P$4,Data!K1172<>Dashboard!$R$4),Data!G1172,NA()))","v":9616.275011218986},null,null,null,null,null,null,null,null,null,null,null,null,null,null,"ID1865",null,null,112000,1,null,null,null,null,null,null,null,null,null,null,null,null,null,null,null,null,null,null,null,null,null,null,null,null,null,null,null,null,null,"ID1865",null,112000]
[null,{"$f":"IF(Dashboard!$P$4=\"All\",Data!G1173,IF(Data!K1173=Dashboard!$P$4,Data!G1173,NA()))","v":{"$error":"#N/A"}},"","","",{"$f":"IF(C622<>\"\",Data!$M1173,\"\")","v":""},null,null,null,null,{"$f":"IF(Dashboard!$R$4=\"All\",Data!G1173,IF(Data!K1173=Dashboard!$R$4,Data!G1173,NA()))","v":{"$error":"#N/A"}},"","","",{"$f":"IF(L622<>\"\",Data!$M1173,\"\")","v":""},null,null,null,null,{"$f":"IF(OR(Dashboard!$P$4=\"All\",Dashboard!$R$4=\"All\"),NA(),IF(OR(Data!K1173<>Dashboard!$P$4,Data!K1173<>Dashboard!$R$4),Data!G1173,NA()))","v":51497.005988023957},null,null,null,null,null,null,null,null,null,null,null,null,null,null,"ID1869",null,null,72000,1,null,null,null,null,null,null,null,null,null,null,null,null,null,null,null,null,null,null,null,null,null,null,null,null,null,null,null,null,null,"ID1869",null,null,72000]
[null,{"$f":"IF(Dashboard!$P$4=\"All\",Data!G1174,IF(Data!K1174=Dashboard!$P$4,Data!G1174,NA()))","v":104172.75399731184},104172.75399731184,104172.75399731184,"",{"$f":"IF(C623<>\"\",Data!$M1174,\"\")","v":25},null,null,null,null,{"$f":"IF(Dashboard!$R$4=\"All\",Data!G1174,IF(Data!K1174=Dashboard!$R$4,Data!G1174,NA()))","v":{"$error":"#N/A"}},"","","",{"$f":"IF(L623<>\"\",Data!$M1174,\"\")","v":""},null,null,null,null,{"$f":"IF(OR(Dashboard!$P$4=\"All\",Dashboard!$R$4=\"All\"),NA(),IF(OR(Data!K1174<>Dashboard!$P$4,Data!K1174<>Dashboard!$R$4),Data!G1174,NA()))","v":104172.75399731184},null,null,null,null,null,null,null,null,null,null,null,null,null,null,"ID1870",60000,1,null,null,null,null,null,null,null,null,null,null,null,null,null,null,null,null,null,null,null,null,null,null,null,null,null,null,null,null,null,null,null,"ID1870",null,null,null,60000]
[null,{"$f":"IF(Dashboard!$P$4=\"All\",Data!G1175,IF(Data!K1175=Dashboard!$P$4,Data!G1175,NA()))","v":{"$error":"#N/A"}},"","","",{"$f":"IF(C624<>\"\",Data!$M1175,\"\")","v":""},null,null,null,null,{"$f":"IF(Dashboard!$R$4=\"All\",Data!G1175,IF(Data!K1175=Dashboard!$R$4,Data!G1175,NA()))","v":{"$error":"#N/A"}},"","","",{"$f":"IF(L624<>\"\",Data!$M1175,\"\")","v":""},null,null,null,null,{"$f":"IF(OR(Dashboard!$P$4=\"All\",Dashboard!$R$4=\"All\"),NA(),IF(OR(Data!K1175<>Dashboard!$P$4,Data!K1175<>Dashboard!$R$4),Data!G1175,NA()))","v":88000},null,null,null,null,null,null,null,null,null,null,null,null,null,null,"ID1871",67000,1,null,null,null,null,null,null,null,null,null,null,null,null,null,null,null,null,null,null,null,null,null,null,null,null,null,null,null,null,null,null,null,"ID1871",null,null,67000]
[null,{"$f":"IF(Dashboard!$P$4=\"All\",Data!G1176,IF(Data!K1176=Dashboard!$P$4,Data!G1176,NA()))","v":{"$error":"#N/A"}},"","","",{"$f":"IF(C625<>\"\",Data!$M1176,\"\")","v":""},null,null,null,null,{"$f":"IF(Dashboard!$R$4=\"All\",Data!G1176,IF(Data!K1176=Dashboard!$R$4,Data!G1176,NA()))","v":{"$error":"#N/A"}},"","","",{"$f":"IF(L625<>\"\",Data!$M1176,\"\")","v":""},null,null,null,null,{"$f":"IF(OR(Dashboard!$P$4=\"All\",Dashboard!$R$4=\"All\"),NA(),IF(OR(Data!K1176<>Dashboard!$P$4,Data!K1176<>Dashboard!$R$4),Data!G1176,NA()))","v":80000},null,null,null,null,null,null,null,null,null,null,null,null,null,null,"ID1872",54000,1,null,null,null,null,null,null,null,null,null,null,null,null,null,null,null,null,null,null,null,null,null,null,null,null,null,null,null,null,null,null,null,"ID1872",null,null,54000]
[null,{"$f":"IF(Dashboard!$P$4=\"All\",Data!G1177,IF(Data!K1177=Dashboard!$P$4,Data!G1177,NA()))","v":{"$error":"#N/A"}},"","","",{"$f":"IF(C626<>\"\",Data!$M1177,\"\")","v":""},null,null,null,null,{"$f":"IF(Dashboard!$R$4=\"All\",Data!G1177,IF(Data!K1177=Dashboard!$R$4,Data!G1177,NA()))","v":19000},19000,"",19000,{"$f":"IF(L626<>\"\",Data!$M1177,\"\")","v":20},null,null,null,null,{"$f":"IF(OR(Dashboard!$P$4=\"All\",Dashboard!$R$4=\"All\"),NA(),IF(OR(Data!K1177<>Dashboard!$P$4,Data!K1177<>Dashboard!$R$4),Data!G1177,NA()))","v":19000},null,null,null,null,null,null,null,null,null,null,null,null,null,null,"ID1874",63000,1,null,null,null,null,null,null,null,null,null,null,null,null,null,null,null,null,null,null,null,null,null,null,null,null,null,null,null,null,null,null,null,"ID1874",null,null,63000]
[null,{"$f":"IF(Dashboard!$P$4=\"All\",Data!G1178,IF(Data!K1178=Dashboard!$P$4,Data!G1178,NA()))","v":{"$error":"#N/A"}},"","","",{"$f":"IF(C627<>\"\",Data!$M1178,\"\")","v":""},null,null,null,null,{"$f":"IF(Dashboard!$R$4=\"All\",Data!G1178,IF(Data!K1178=Dashboard!$R$4,Data!G1178,NA()))","v":{"$error":"#N/A"}},"","","",{"$f":"IF(L627<>\"\",Data!$M1178,\"\")","v":""},null,null,null,null,{"$f":"IF(OR(Dashboard!$P$4=\"All\",Dashboard!$R$4=\"All\"),NA(),IF(OR(Data!K1178<>Dashboard!$P$4,Data!K1178<>Dashboard!$R$4),Data!G1178,NA()))","v":19055.991584874118},null,null,null,null,null,null,null,null,null,null,null,null,null,null,"ID1875",63000,1,null,null,null,null,null,null,null,null,null,null,null,null,null,null,null,null,null,null,null,null,null,null,null,null,null,null,null,null,null,null,null,"ID1875",null,null,null,63000]
[null,{"$f":"IF(Dashboard!$P$4=\"All\",Data!G1179,IF(Data!K1179=Dashboard!$P$4,Data!G1179,NA()))","v":{"$error":"#N/A"}},"","","",{"$f":"IF(C628<>\"\",Data!$M1179,\"\")","v":""},null,null,null,null,{"$f":"IF(Dashboard!$R$4=\"All\",Data!G1179,IF(Data!K1179=Dashboard!$R$4,Data!G1179,NA()))","v":{"$error":"#N/A"}},"","","",{"$f":"IF(L628<>\"\",Data!$M1179,\"\")","v":""},null,null,null,null,{"$f":"IF(OR(Dashboard!$P$4=\"All\",Dashboard!$R$4=\"All\"),NA(),IF(OR(Data!K1179<>Dashboard!$P$4,Data!K1179<>Dashboard!$R$4),Data!G1179,NA()))","v":8547.8000099724322},null,null,null,null,null,null,null,null,null,null,null,null,null,null,"ID1891",46000,1,null,null,null,null,null,null,null,null,null,null,null,null,null,null,null,null,null,null,null,null,null,null,null,null,null,null,null,null,null,null,null,"ID1891",null,null,null,46000]
[null,{"$f":"IF(Dashboard!$P$4=\"All\",Data!G1180,IF(Data!K1180=Dashboard!$P$4,Data!G1180,NA()))","v":{"$error":"#N/A"}},"","","",{"$f":"IF(C629<>\"\",Data!$M1180,\"\")","v":""},null,null,null,null,{"$f":"IF(Dashboard!$R$4=\"All\",Data!G1180,IF(Data!K1180=Dashboard!$R$4,Data!G1180,NA()))","v":{"$error":"#N/A"}},"","","",{"$f":"IF(L629<>\"\",Data!$M1180,\"\")","v":""},null,null,null,null,{"$f":"IF(OR(Dashboard!$P$4=\"All\",Dashboard!$R$4=\"All\"),NA(),IF(OR(Data!K1180<>Dashboard!$P$4,Data!K1180<>Dashboard!$R$4),Data!G1180,NA()))","v":19588.708356186824},null,null,null,null,null,null,null,null,null,null,null,null,null,null,"ID1896",null,null,null,null,45000,1,null,null,null,null,null,null,null,null,null,null,null,null,null,null,null,null,null,null,null,null,null,null,null,null,null,null,null,"ID1896",null,45000]
[null,{"$f":"IF(Dashboard!$P$4=\"All\",Data!G1181,IF(Data!K1181=Dashboard!$P$4,Data!G1181,NA()))","v":{"$error":"#N/A"}},"","","",{"$f":"IF(C630<>\"\",Data!$M1181,\"\")","v":""},null,null,null,null,{"$f":"IF(Dashboard!$R$4=\"All\",Data!G1181,IF(Data!K1181=Dashboard!$R$4,Data!G1181,NA()))","v":{"$error":"#N/A"}},"","","",{"$f":"IF(L630<>\"\",Data!$M1181,\"\")","v":""},null,null,null,null,{"$f":"IF(OR(Dashboard!$P$4=\"All\",Dashboard!$R$4=\"All\"),NA(),IF(OR(Data!K1181<>Dashboard!$P$4,Data!K1181<>Dashboard!$R$4),Data!G1181,NA()))","v":61000},null,null,null,null,null,null,null,null,null,null,null,null,null,null,"ID1898",43000,1,null,null,null,null,null,null,null,null,null,null,null,null,null,null,null,null,null,null,null,null,null,null,null,null,null,null,null,null,null,null,null,"ID1898",null,null,43000]
[null,{"$f":"IF(Dashboard!$P$4=\"All\",Data!G1182,IF(Data!K1182=Dashboard!$P$4,Data!G1182,NA()))","v":{"$error":"#N/A"}},"","","",{"$f":"IF(C631<>\"\",Data!$M1182,\"\")","v":""},null,null,null,null,{"$f":"IF(Dashboard!$R$4=\"All\",Data!G1182,IF(Data!K1182=Dashboard!$R$4,Data!G1182,NA()))","v":53590.061250287661},53590.061250287661,"","",{"$f":"IF(L631<>\"\",Data!$M1182,\"\")","v":10},null,null,null,null,{"$f":"IF(OR(Dashboard!$P$4=\"All\",Dashboard!$R$4=\"All\"),NA(),IF(OR(Data!K1182<>Dashboard!$P$4,Data!K1182<>Dashboard!$R$4),Data!G1182,NA()))","v":53590.061250287661},null,null,null,null,null,null,null,null,null,null,null,null,null,null,"ID1900",48000,1,null,null,null,null,null,null,null,null,null,null,null,null,null,null,null,null,null,null,null,null,null,null,null,null,null,null,null,null,null,null,null,"ID1900",null,null,48000]
[null,{"$f":"IF(Dashboard!$P$4=\"All\",Data!G1183,IF(Data!K1183=Dashboard!$P$4,Data!G1183,NA()))","v":{"$error":"#N/A"}},"","","",{"$f":"IF(C632<>\"\",Data!$M1183,\"\")","v":""},null,null,null,null,{"$f":"IF(Dashboard!$R$4=\"All\",Data!G1183,IF(Data!K1183=Dashboard!$R$4,Data!G1183,NA()))","v":53590.061250287661},53590.061250287661,"","",{"$f":"IF(L632<>\"\",Data!$M1183,\"\")","v":10},null,null,null,null,{"$f":"IF(OR(Dashboard!$P$4=\"All\",Dashboard!$R$4=\"All\"),NA(),IF(OR(Data!K1183<>Dashboard!$P$4,Data!K1183<>Dashboard!$R$4),Data!G1183,NA()))","v":53590.061250287661},null,null,null,null,null,null,null,null,null,null,null,null,null,null,"ID1910",62000,1,null,null,null,null,null,null,null,null,null,null,null,null,null,null,null,null,null,null,null,null,null,null,null,null,null,null,null,null,null,null,null,"ID1910",null,null,62000]
[null,{"$f":"IF(Dashboard!$P$4=\"All\",Data!G1184,IF(Data!K1184=Dashboard!$P$4,Data!G1184,NA()))","v":{"$error":"#N/A"}},"","","",{"$f":"IF(C633<>\"\",Data!$M1184,\"\")","v":""},null,null,null,null,{"$f":"IF(Dashboard!$R$4=\"All\",Data!G1184,IF(Data!K1184=Dashboard!$R$4,Data!G1184,NA()))","v":{"$error":"#N/A"}},"","","",{"$f":"IF(L633<>\"\",Data!$M1184,\"\")","v":""},null,null,null,null,{"$f":"IF(OR(Dashboard!$P$4=\"All\",Dashboard!$R$4=\"All\"),NA(),IF(OR(Data!K1184<>Dashboard!$P$4,Data!K1184<>Dashboard!$R$4),Data!G1184,NA()))","v":4451.9791718606421},null,null,null,null,null,null,null,null,null,null,null,null,null,null,"ID1911",48000,1,null,null,null,null,null,null,null,null,null,null,null,null,null,null,null,null,null,null,null,null,null,null,null,null,null,null,null,null,null,null,null,"ID1911",null,null,48000]
[null,{"$f":"IF(Dashboard!$P$4=\"All\",Data!G1185,IF(Data!K1185=Dashboard!$P$4,Data!G1185,NA()))","v":{"$error":"#N/A"}},"","","",{"$f":"IF(C634<>\"\",Data!$M1185,\"\")","v":""},null,null,null,null,{"$f":"IF(Dashboard!$R$4=\"All\",Data!G1185,IF(Data!K1185=Dashboard!$R$4,Data!G1185,NA()))","v":{"$error":"#N/A"}},"","","",{"$f":"IF(L634<>\"\",Data!$M1185,\"\")","v":""},null,null,null,null,{"$f":"IF(OR(Dashboard!$P$4=\"All\",Dashboard!$R$4=\"All\"),NA(),IF(OR(Data!K1185<>Dashboard!$P$4,Data!K1185<>Dashboard!$R$4),Data!G1185,NA()))","v":25407.988779832154},null,null,null,null,null,null,null,null,null,null,null,null,null,null,"ID1915",75000,1,null,null,null,null,null,null,null,null,null,null,null,null,null,null,null,null,null,null,null,null,null,null,null,null,null,null,null,null,null,null,null,"ID1915",75000]
[null,{"$f":"IF(Dashboard!$P$4=\"All\",Data!G1186,IF(Data!K1186=Dashboard!$P$4,Data!G1186,NA()))","v":{"$error":"#N/A"}},"","","",{"$f":"IF(C635<>\"\",Data!$M1186,\"\")","v":""},null,null,null,null,{"$f":"IF(Dashboard!$R$4=\"All\",Data!G1186,IF(Data!K1186=Dashboard!$R$4,Data!G1186,NA()))","v":{"$error":"#N/A"}},"","","",{"$f":"IF(L635<>\"\",Data!$M1186,\"\")","v":""},null,null,null,null,{"$f":"IF(OR(Dashboard!$P$4=\"All\",Dashboard!$R$4=\"All\"),NA(),IF(OR(Data!K1186<>Dashboard!$P$4,Data!K1186<>Dashboard!$R$4),Data!G1186,NA()))","v":23000},null,null,null,null,null,null,null,null,null,null,null,null,null,null,"ID1919",null,null,null,null,null,null,110000,1,null,null,null,null,null,null,null,null,null,null,null,null,null,null,null,null,null,null,null,null,null,null,null,null,null,"ID1919",null,null,110000]
[null,{"$f":"IF(Dashboard!$P$4=\"All\",Data!G1187,IF(Data!K1187=Dashboard!$P$4,Data!G1187,NA()))","v":{"$error":"#N/A"}},"","","",{"$f":"IF(C636<>\"\",Data!$M1187,\"\")","v":""},null,null,null,null,{"$f":"IF(Dashboard!$R$4=\"All\",Data!G1187,IF(Data!K1187=Dashboard!$R$4,Data!G1187,NA()))","v":{"$error":"#N/A"}},"","","",{"$f":"IF(L636<>\"\",Data!$M1187,\"\")","v":""},null,null,null,null,{"$f":"IF(OR(Dashboard!$P$4=\"All\",Dashboard!$R$4=\"All\"),NA(),IF(OR(Data!K1187<>Dashboard!$P$4,Data!K1187<>Dashboard!$R$4),Data!G1187,NA()))","v":16027.125018698311},null,null,null,null,null,null,null,null,null,null,null,null,null,null,"ID1920",50000,1,null,null,null,null,null,null,null,null,null,null,null,null,null,null,null,null,null,null,null,null,null,null,null,null,null,null,null,null,null,null,null,"ID1920",null,null,null,50000]
[null,{"$f":"IF(Dashboard!$P$4=\"All\",Data!G1188,IF(Data!K1188=Dashboard!$P$4,Data!G1188,NA()))","v":{"$error":"#N/A"}},"","","",{"$f":"IF(C637<>\"\",Data!$M1188,\"\")","v":""},null,null,null,null,{"$f":"IF(Dashboard!$R$4=\"All\",Data!G1188,IF(Data!K1188=Dashboard!$R$4,Data!G1188,NA()))","v":{"$error":"#N/A"}},"","","",{"$f":"IF(L637<>\"\",Data!$M1188,\"\")","v":""},null,null,null,null,{"$f":"IF(OR(Dashboard!$P$4=\"All\",Dashboard!$R$4=\"All\"),NA(),IF(OR(Data!K1188<>Dashboard!$P$4,Data!K1188<>Dashboard!$R$4),Data!G1188,NA()))","v":60000},null,null,null,null,null,null,null,null,null,null,null,null,null,null,"ID1921",46000,1,null,null,null,null,null,null,null,null,null,null,null,null,null,null,null,null,null,null,null,null,null,null,null,null,null,null,null,null,null,null,null,"ID1921",null,null,46000]
[null,{"$f":"IF(Dashboard!$P$4=\"All\",Data!G1189,IF(Data!K1189=Dashboard!$P$4,Data!G1189,NA()))","v":{"$error":"#N/A"}},"","","",{"$f":"IF(C638<>\"\",Data!$M1189,\"\")","v":""},null,null,null,null,{"$f":"IF(Dashboard!$R$4=\"All\",Data!G1189,IF(Data!K1189=Dashboard!$R$4,Data!G1189,NA()))","v":{"$error":"#N/A"}},"","","",{"$f":"IF(L638<>\"\",Data!$M1189,\"\")","v":""},null,null,null,null,{"$f":"IF(OR(Dashboard!$P$4=\"All\",Dashboard!$R$4=\"All\"),NA(),IF(OR(Data!K1189<>Dashboard!$P$4,Data!K1189<>Dashboard!$R$4),Data!G1189,NA()))","v":4800},null,null,null,null,null,null,null,null,null,null,null,null,null,null,"ID1922",115000,1,null,null,null,null,null,null,null,null,null,null,null,null,null,null,null,null,null,null,null,null,null,null,null,null,null,null,null,null,null,null,null,"ID1922",null,null,null,115000]
[null,{"$f":"IF(Dashboard!$P$4=\"All\",Data!G1190,IF(Data!K1190=Dashboard!$P$4,Data!G1190,NA()))","v":{"$error":"#N/A"}},"","","",{"$f":"IF(C639<>\"\",Data!$M1190,\"\")","v":""},null,null,null,null,{"$f":"IF(Dashboard!$R$4=\"All\",Data!G1190,IF(Data!K1190=Dashboard!$R$4,Data!G1190,NA()))","v":{"$error":"#N/A"}},"","","",{"$f":"IF(L639<>\"\",Data!$M1190,\"\")","v":""},null,null,null,null,{"$f":"IF(OR(Dashboard!$P$4=\"All\",Dashboard!$R$4=\"All\"),NA(),IF(OR(Data!K1190<>Dashboard!$P$4,Data!K1190<>Dashboard!$R$4),Data!G1190,NA()))","v":106815.148267971},null,null,null,null,null,null,null,null,null,null,null,null,null,null,"ID1930",40000,1,null,null,null,null,null,null,null,null,null,null,null,null,null,null,null,null,null,null,null,null,null,null,null,null,null,null,null,null,null,null,null,"ID1930",40000]
[null,{"$f":"IF(Dashboard!$P$4=\"All\",Data!G1191,IF(Data!K1191=Dashboard!$P$4,Data!G1191,NA()))","v":{"$error":"#N/A"}},"","","",{"$f":"IF(C640<>\"\",Data!$M1191,\"\")","v":""},null,null,null,null,{"$f":"IF(Dashboard!$R$4=\"All\",Data!G1191,IF(Data!K1191=Dashboard!$R$4,Data!G1191,NA()))","v":{"$error":"#N/A"}},"","","",{"$f":"IF(L640<>\"\",Data!$M1191,\"\")","v":""},null,null,null,null,{"$f":"IF(OR(Dashboard!$P$4=\"All\",Dashboard!$R$4=\"All\"),NA(),IF(OR(Data!K1191<>Dashboard!$P$4,Data!K1191<>Dashboard!$R$4),Data!G1191,NA()))","v":8903.9583437212841},null,null,null,null,null,null,null,null,null,null,null,null,null,null,"ID1931",46359,1,null,null,null,null,null,null,null,null,null,null,null,null,null,null,null,null,null,null,null,null,null,null,null,null,null,null,null,null,null,null,null,"ID1931",null,null,null,46359]
[null,{"$f":"IF(Dashboard!$P$4=\"All\",Data!G1192,IF(Data!K1192=Dashboard!$P$4,Data!G1192,NA()))","v":{"$error":"#N/A"}},"","","",{"$f":"IF(C641<>\"\",Data!$M1192,\"\")","v":""},null,null,null,null,{"$f":"IF(Dashboard!$R$4=\"All\",Data!G1192,IF(Data!K1192=Dashboard!$R$4,Data!G1192,NA()))","v":{"$error":"#N/A"}},"","","",{"$f":"IF(L641<>\"\",Data!$M1192,\"\")","v":""},null,null,null,null,{"$f":"IF(OR(Dashboard!$P$4=\"All\",Dashboard!$R$4=\"All\"),NA(),IF(OR(Data!K1192<>Dashboard!$P$4,Data!K1192<>Dashboard!$R$4),Data!G1192,NA()))","v":60000},null,null,null,null,null,null,null,null,null,null,null,null,null,null,"ID1932",70000,1,null,null,null,null,null,null,null,null,null,null,null,null,null,null,null,null,null,null,null,null,null,null,null,null,null,null,null,null,null,null,null,"ID1932",null,null,70000]
[null,{"$f":"IF(Dashboard!$P$4=\"All\",Data!G1193,IF(Data!K1193=Dashboard!$P$4,Data!G1193,NA()))","v":{"$error":"#N/A"}},"","","",{"$f":"IF(C642<>\"\",Data!$M1193,\"\")","v":""},null,null,null,null,{"$f":"IF(Dashboard!$R$4=\"All\",Data!G1193,IF(Data!K1193=Dashboard!$R$4,Data!G1193,NA()))","v":{"$error":"#N/A"}},"","","",{"$f":"IF(L642<>\"\",Data!$M1193,\"\")","v":""},null,null,null,null,{"$f":"IF(OR(Dashboard!$P$4=\"All\",Dashboard!$R$4=\"All\"),NA(),IF(OR(Data!K1193<>Dashboard!$P$4,Data!K1193<>Dashboard!$R$4),Data!G1193,NA()))","v":46300.583387350678}]
[null,{"$f":"IF(Dashboard!$P$4=\"All\",Data!G1194,IF(Data!K1194=Dashboard!$P$4,Data!G1194,NA()))","v":{"$error":"#N/A"}},"","","",{"$f":"IF(C643<>\"\",Data!$M1194,\"\")","v":""},null,null,null,null,{"$f":"IF(Dashboard!$R$4=\"All\",Data!G1194,IF(Data!K1194=Dashboard!$R$4,Data!G1194,NA()))","v":{"$error":"#N/A"}},"","","",{"$f":"IF(L643<>\"\",Data!$M1194,\"\")","v":""},null,null,null,null,{"$f":"IF(OR(Dashboard!$P$4=\"All\",Dashboard!$R$4=\"All\"),NA(),IF(OR(Data!K1194<>Dashboard!$P$4,Data!K1194<>Dashboard!$R$4),Data!G1194,NA()))","v":13355.937515581925}]
[null,{"$f":"IF(Dashboard!$P$4=\"All\",Data!G1195,IF(Data!K1195=Dashboard!$P$4,Data!G1195,NA()))","v":{"$error":"#N/A"}},{"$f":"IF(ISNA(B644),\"\",B644)","v":""},{"$f":"IF(C644>=PERCENTILE($C$3:$C$1337,0.9),C644,\"\")","v":""},{"$f":"IF(C644<=PERCENTILE($C$3:$C$1337,0.1),C644,\"\")","v":""},{"$f":"IF(C644<>\"\",Data!$M1195,\"\")","v":""},null,null,null,null,{"$f":"IF(Dashboard!$R$4=\"All\",Data!G1195,IF(Data!K1195=Dashboard!$R$4,Data!G1195,NA()))","v":{"$error":"#N/A"}},{"$f":"IF(ISNA(K644),\"\",K644)","v":""},{"$f":"IF(L644>=PERCENTILE($L$3:$L$1337,0.9),L644,\"\")","v":""},{"$f":"IF(L644<=PERCENTILE($L$3:$L$1337,0.1),L644,\"\")","v":""},{"$f":"IF(L644<>\"\",Data!$M1195,\"\")","v":""},null,null,null,null,{"$f":"IF(OR(Dashboard!$P$4=\"All\",Dashboard!$R$4=\"All\"),NA(),IF(OR(Data!K1195<>Dashboard!$P$4,Data!K1195<>Dashboard!$R$4),Data!G1195,NA()))","v":74000}]
[null,{"$f":"IF(Dashboard!$P$4=\"All\",Data!G1196,IF(Data!K1196=Dashboard!$P$4,Data!G1196,NA()))","v":{"$error":"#N/A"}},"","","",{"$f":"IF(C645<>\"\",Data!$M1196,\"\")","v":""},null,null,null,null,{"$f":"IF(Dashboard!$R$4=\"All\",Data!G1196,IF(Data!K1196=Dashboard!$R$4,Data!G1196,NA()))","v":{"$error":"#N/A"}},"","","",{"$f":"IF(L645<>\"\",Data!$M1196,\"\")","v":""},null,null,null,null,{"$f":"IF(OR(Dashboard!$P$4=\"All\",Dashboard!$R$4=\"All\"),NA(),IF(OR(Data!K1196<>Dashboard!$P$4,Data!K1196<>Dashboard!$R$4),Data!G1196,NA()))","v":95856}]
[null,{"$f":"IF(Dashboard!$P$4=\"All\",Data!G1197,IF(Data!K1197=Dashboard!$P$4,Data!G1197,NA()))","v":{"$error":"#N/A"}},"","","",{"$f":"IF(C646<>\"\",Data!$M1197,\"\")","v":""},null,null,null,null,{"$f":"IF(Dashboard!$R$4=\"All\",Data!G1197,IF(Data!K1197=Dashboard!$R$4,Data!G1197,NA()))","v":{"$error":"#N/A"}},"","","",{"$f":"IF(L646<>\"\",Data!$M1197,\"\")","v":""},null,null,null,null,{"$f":"IF(OR(Dashboard!$P$4=\"All\",Dashboard!$R$4=\"All\"),NA(),IF(OR(Data!K1197<>Dashboard!$P$4,Data!K1197<>Dashboard!$R$4),Data!G1197,NA()))","v":40000}]
[null,{"$f":"IF(Dashboard!$P$4=\"All\",Data!G1198,IF(Data!K1198=Dashboard!$P$4,Data!G1198,NA()))","v":{"$error":"#N/A"}},"","","",{"$f":"IF(C647<>\"\",Data!$M1198,\"\")","v":""},null,null,null,null,{"$f":"IF(Dashboard!$R$4=\"All\",Data!G1198,IF(Data!K1198=Dashboard!$R$4,Data!G1198,NA()))","v":{"$error":"#N/A"}},"","","",{"$f":"IF(L647<>\"\",Data!$M1198,\"\")","v":""},null,null,null,null,{"$f":"IF(OR(Dashboard!$P$4=\"All\",Dashboard!$R$4=\"All\"),NA(),IF(OR(Data!K1198<>Dashboard!$P$4,Data!K1198<>Dashboard!$R$4),Data!G1198,NA()))","v":4400}]
[null,{"$f":"IF(Dashboard!$P$4=\"All\",Data!G1199,IF(Data!K1199=Dashboard!$P$4,Data!G1199,NA()))","v":{"$error":"#N/A"}},"","","",{"$f":"IF(C648<>\"\",Data!$M1199,\"\")","v":""},null,null,null,null,{"$f":"IF(Dashboard!$R$4=\"All\",Data!G1199,IF(Data!K1199=Dashboard!$R$4,Data!G1199,NA()))","v":{"$error":"#N/A"}},"","","",{"$f":"IF(L648<>\"\",Data!$M1199,\"\")","v":""},null,null,null,null,{"$f":"IF(OR(Dashboard!$P$4=\"All\",Dashboard!$R$4=\"All\"),NA(),IF(OR(Data!K1199<>Dashboard!$P$4,Data!K1199<>Dashboard!$R$4),Data!G1199,NA()))","v":90000}]
[null,{"$f":"IF(Dashboard!$P$4=\"All\",Data!G1200,IF(Data!K1200=Dashboard!$P$4,Data!G1200,NA()))","v":{"$error":"#N/A"}},"","","",{"$f":"IF(C649<>\"\",Data!$M1200,\"\")","v":""},null,null,null,null,{"$f":"IF(Dashboard!$R$4=\"All\",Data!G1200,IF(Data!K1200=Dashboard!$R$4,Data!G1200,NA()))","v":{"$error":"#N/A"}},"","","",{"$f":"IF(L649<>\"\",Data!$M1200,\"\")","v":""},null,null,null,null,{"$f":"IF(OR(Dashboard!$P$4=\"All\",Dashboard!$R$4=\"All\"),NA(),IF(OR(Data!K1200<>Dashboard!$P$4,Data!K1200<>Dashboard!$R$4),Data!G1200,NA()))","v":8013.5625093491553}]
[null,{"$f":"IF(Dashboard!$P$4=\"All\",Data!G1201,IF(Data!K1201=Dashboard!$P$4,Data!G1201,NA()))","v":{"$error":"#N/A"}},"","","",{"$f":"IF(C650<>\"\",Data!$M1201,\"\")","v":""},null,null,null,null,{"$f":"IF(Dashboard!$R$4=\"All\",Data!G1201,IF(Data!K1201=Dashboard!$R$4,Data!G1201,NA()))","v":{"$error":"#N/A"}},"","","",{"$f":"IF(L650<>\"\",Data!$M1201,\"\")","v":""},null,null,null,null,{"$f":"IF(OR(Dashboard!$P$4=\"All\",Dashboard!$R$4=\"All\"),NA(),IF(OR(Data!K1201<>Dashboard!$P$4,Data!K1201<>Dashboard!$R$4),Data!G1201,NA()))","v":17807.916687442568}]
[null,{"$f":"IF(Dashboard!$P$4=\"All\",Data!G1202,IF(Data!K1202=Dashboard!$P$4,Data!G1202,NA()))","v":{"$error":"#N/A"}},"","","",{"$f":"IF(C651<>\"\",Data!$M1202,\"\")","v":""},null,null,null,null,{"$f":"IF(Dashboard!$R$4=\"All\",Data!G1202,IF(Data!K1202=Dashboard!$R$4,Data!G1202,NA()))","v":{"$error":"#N/A"}},"","","",{"$f":"IF(L651<>\"\",Data!$M1202,\"\")","v":""},null,null,null,null,{"$f":"IF(OR(Dashboard!$P$4=\"All\",Dashboard!$R$4=\"All\"),NA(),IF(OR(Data!K1202<>Dashboard!$P$4,Data!K1202<>Dashboard!$R$4),Data!G1202,NA()))","v":12465.541681209797}]
[null,{"$f":"IF(Dashboard!$P$4=\"All\",Data!G1203,IF(Data!K1203=Dashboard!$P$4,Data!G1203,NA()))","v":{"$error":"#N/A"}},"","","",{"$f":"IF(C652<>\"\",Data!$M1203,\"\")","v":""},null,null,null,null,{"$f":"IF(Dashboard!$R$4=\"All\",Data!G1203,IF(Data!K1203=Dashboard!$R$4,Data!G1203,NA()))","v":{"$error":"#N/A"}},"","","",{"$f":"IF(L652<>\"\",Data!$M1203,\"\")","v":""},null,null,null,null,{"$f":"IF(OR(Dashboard!$P$4=\"All\",Dashboard!$R$4=\"All\"),NA(),IF(OR(Data!K1203<>Dashboard!$P$4,Data!K1203<>Dashboard!$R$4),Data!G1203,NA()))","v":80000}]
[null,{"$f":"IF(Dashboard!$P$4=\"All\",Data!G1204,IF(Data!K1204=Dashboard!$P$4,Data!G1204,NA()))","v":{"$error":"#N/A"}},"","","",{"$f":"IF(C653<>\"\",Data!$M1204,\"\")","v":""},null,null,null,null,{"$f":"IF(Dashboard!$R$4=\"All\",Data!G1204,IF(Data!K1204=Dashboard!$R$4,Data!G1204,NA()))","v":{"$error":"#N/A"}},"","","",{"$f":"IF(L653<>\"\",Data!$M1204,\"\")","v":""},null,null,null,null,{"$f":"IF(OR(Dashboard!$P$4=\"All\",Dashboard!$R$4=\"All\"),NA(),IF(OR(Data!K1204<>Dashboard!$P$4,Data!K1204<>Dashboard!$R$4),Data!G1204,NA()))","v":100000}]
[null,{"$f":"IF(Dashboard!$P$4=\"All\",Data!G1205,IF(Data!K1205=Dashboard!$P$4,Data!G1205,NA()))","v":{"$error":"#N/A"}},"","","",{"$f":"IF(C654<>\"\",Data!$M1205,\"\")","v":""},null,null,null,null,{"$f":"IF(Dashboard!$R$4=\"All\",Data!G1205,IF(Data!K1205=Dashboard!$R$4,Data!G1205,NA()))","v":{"$error":"#N/A"}},"","","",{"$f":"IF(L654<>\"\",Data!$M1205,\"\")","v":""},null,null,null,null,{"$f":"IF(OR(Dashboard!$P$4=\"All\",Dashboard!$R$4=\"All\"),NA(),IF(OR(Data!K1205<>Dashboard!$P$4,Data!K1205<>Dashboard!$R$4),Data!G1205,NA()))","v":49200}]
[null,{"$f":"IF(Dashboard!$P$4=\"All\",Data!G1206,IF(Data!K1206=Dashboard!$P$4,Data!G1206,NA()))","v":{"$error":"#N/A"}},"","","",{"$f":"IF(C655<>\"\",Data!$M1206,\"\")","v":""},null,null,null,null,{"$f":"IF(Dashboard!$R$4=\"All\",Data!G1206,IF(Data!K1206=Dashboard!$R$4,Data!G1206,NA()))","v":{"$error":"#N/A"}},"","","",{"$f":"IF(L655<>\"\",Data!$M1206,\"\")","v":""},null,null,null,null,{"$f":"IF(OR(Dashboard!$P$4=\"All\",Dashboard!$R$4=\"All\"),NA(),IF(OR(Data!K1206<>Dashboard!$P$4,Data!K1206<>Dashboard!$R$4),Data!G1206,NA()))","v":9000}]
[null,{"$f":"IF(Dashboard!$P$4=\"All\",Data!G1207,IF(Data!K1207=Dashboard!$P$4,Data!G1207,NA()))","v":{"$error":"#N/A"}},"","","",{"$f":"IF(C656<>\"\",Data!$M1207,\"\")","v":""},null,null,null,null,{"$f":"IF(Dashboard!$R$4=\"All\",Data!G1207,IF(Data!K1207=Dashboard!$R$4,Data!G1207,NA()))","v":{"$error":"#N/A"}},"","","",{"$f":"IF(L656<>\"\",Data!$M1207,\"\")","v":""},null,null,null,null,{"$f":"IF(OR(Dashboard!$P$4=\"All\",Dashboard!$R$4=\"All\"),NA(),IF(OR(Data!K1207<>Dashboard!$P$4,Data!K1207<>Dashboard!$R$4),Data!G1207,NA()))","v":5342.3750062327708}]
[null,{"$f":"IF(Dashboard!$P$4=\"All\",Data!G1208,IF(Data!K1208=Dashboard!$P$4,Data!G1208,NA()))","v":{"$error":"#N/A"}},"","","",{"$f":"IF(C657<>\"\",Data!$M1208,\"\")","v":""},null,null,null,null,{"$f":"IF(Dashboard!$R$4=\"All\",Data!G1208,IF(Data!K1208=Dashboard!$R$4,Data!G1208,NA()))","v":{"$error":"#N/A"}},"","","",{"$f":"IF(L657<>\"\",Data!$M1208,\"\")","v":""},null,null,null,null,{"$f":"IF(OR(Dashboard!$P$4=\"All\",Dashboard!$R$4=\"All\"),NA(),IF(OR(Data!K1208<>Dashboard!$P$4,Data!K1208<>Dashboard!$R$4),Data!G1208,NA()))","v":40000}]
[null,{"$f":"IF(Dashboard!$P$4=\"All\",Data!G1209,IF(Data!K1209=Dashboard!$P$4,Data!G1209,NA()))","v":{"$error":"#N/A"}},"","","",{"$f":"IF(C658<>\"\",Data!$M1209,\"\")","v":""},null,null,null,null,{"$f":"IF(Dashboard!$R$4=\"All\",Data!G1209,IF(Data!K1209=Dashboard!$R$4,Data!G1209,NA()))","v":40980.635073749385},40980.635073749385,"","",{"$f":"IF(L658<>\"\",Data!$M1209,\"\")","v":2},null,null,null,null,{"$f":"IF(OR(Dashboard!$P$4=\"All\",Dashboard!$R$4=\"All\"),NA(),IF(OR(Data!K1209<>Dashboard!$P$4,Data!K1209<>Dashboard!$R$4),Data!G1209,NA()))","v":40980.635073749385}]
[null,{"$f":"IF(Dashboard!$P$4=\"All\",Data!G1210,IF(Data!K1210=Dashboard!$P$4,Data!G1210,NA()))","v":{"$error":"#N/A"}},"","","",{"$f":"IF(C659<>\"\",Data!$M1210,\"\")","v":""},null,null,null,null,{"$f":"IF(Dashboard!$R$4=\"All\",Data!G1210,IF(Data!K1210=Dashboard!$R$4,Data!G1210,NA()))","v":45709.169889951241},45709.169889951241,"","",{"$f":"IF(L659<>\"\",Data!$M1210,\"\")","v":8},null,null,null,null,{"$f":"IF(OR(Dashboard!$P$4=\"All\",Dashboard!$R$4=\"All\"),NA(),IF(OR(Data!K1210<>Dashboard!$P$4,Data!K1210<>Dashboard!$R$4),Data!G1210,NA()))","v":45709.169889951241}]
[null,{"$f":"IF(Dashboard!$P$4=\"All\",Data!G1211,IF(Data!K1211=Dashboard!$P$4,Data!G1211,NA()))","v":{"$error":"#N/A"}},"","","",{"$f":"IF(C660<>\"\",Data!$M1211,\"\")","v":""},null,null,null,null,{"$f":"IF(Dashboard!$R$4=\"All\",Data!G1211,IF(Data!K1211=Dashboard!$R$4,Data!G1211,NA()))","v":{"$error":"#N/A"}},"","","",{"$f":"IF(L660<>\"\",Data!$M1211,\"\")","v":""},null,null,null,null,{"$f":"IF(OR(Dashboard!$P$4=\"All\",Dashboard!$R$4=\"All\"),NA(),IF(OR(Data!K1211<>Dashboard!$P$4,Data!K1211<>Dashboard!$R$4),Data!G1211,NA()))","v":7123.1666749770275}]
[null,{"$f":"IF(Dashboard!$P$4=\"All\",Data!G1212,IF(Data!K1212=Dashboard!$P$4,Data!G1212,NA()))","v":{"$error":"#N/A"}},"","","",{"$f":"IF(C661<>\"\",Data!$M1212,\"\")","v":""},null,null,null,null,{"$f":"IF(Dashboard!$R$4=\"All\",Data!G1212,IF(Data!K1212=Dashboard!$R$4,Data!G1212,NA()))","v":{"$error":"#N/A"}},"","","",{"$f":"IF(L661<>\"\",Data!$M1212,\"\")","v":""},null,null,null,null,{"$f":"IF(OR(Dashboard!$P$4=\"All\",Dashboard!$R$4=\"All\"),NA(),IF(OR(Data!K1212<>Dashboard!$P$4,Data!K1212<>Dashboard!$R$4),Data!G1212,NA()))","v":100000}]
[null,{"$f":"IF(Dashboard!$P$4=\"All\",Data!G1213,IF(Data!K1213=Dashboard!$P$4,Data!G1213,NA()))","v":78764.765217479682},78764.765217479682,"","",{"$f":"IF(C662<>\"\",Data!$M1213,\"\")","v":15},null,null,null,null,{"$f":"IF(Dashboard!$R$4=\"All\",Data!G1213,IF(Data!K1213=Dashboard!$R$4,Data!G1213,NA()))","v":{"$error":"#N/A"}},"","","",{"$f":"IF(L662<>\"\",Data!$M1213,\"\")","v":""},null,null,null,null,{"$f":"IF(OR(Dashboard!$P$4=\"All\",Dashboard!$R$4=\"All\"),NA(),IF(OR(Data!K1213<>Dashboard!$P$4,Data!K1213<>Dashboard!$R$4),Data!G1213,NA()))","v":78764.765217479682}]
[null,{"$f":"IF(Dashboard!$P$4=\"All\",Data!G1214,IF(Data!K1214=Dashboard!$P$4,Data!G1214,NA()))","v":{"$error":"#N/A"}},"","","",{"$f":"IF(C663<>\"\",Data!$M1214,\"\")","v":""},null,null,null,null,{"$f":"IF(Dashboard!$R$4=\"All\",Data!G1214,IF(Data!K1214=Dashboard!$R$4,Data!G1214,NA()))","v":{"$error":"#N/A"}},"","","",{"$f":"IF(L663<>\"\",Data!$M1214,\"\")","v":""},null,null,null,null,{"$f":"IF(OR(Dashboard!$P$4=\"All\",Dashboard!$R$4=\"All\"),NA(),IF(OR(Data!K1214<>Dashboard!$P$4,Data!K1214<>Dashboard!$R$4),Data!G1214,NA()))","v":152986.44846039536}]
[null,{"$f":"IF(Dashboard!$P$4=\"All\",Data!G1215,IF(Data!K1215=Dashboard!$P$4,Data!G1215,NA()))","v":{"$error":"#N/A"}},"","","",{"$f":"IF(C664<>\"\",Data!$M1215,\"\")","v":""},null,null,null,null,{"$f":"IF(Dashboard!$R$4=\"All\",Data!G1215,IF(Data!K1215=Dashboard!$R$4,Data!G1215,NA()))","v":{"$error":"#N/A"}},"","","",{"$f":"IF(L664<>\"\",Data!$M1215,\"\")","v":""},null,null,null,null,{"$f":"IF(OR(Dashboard!$P$4=\"All\",Dashboard!$R$4=\"All\"),NA(),IF(OR(Data!K1215<>Dashboard!$P$4,Data!K1215<>Dashboard!$R$4),Data!G1215,NA()))","v":44463.980364706273}]
[null,{"$f":"IF(Dashboard!$P$4=\"All\",Data!G1216,IF(Data!K1216=Dashboard!$P$4,Data!G1216,NA()))","v":38111.983169748237},38111.983169748237,"",38111.983169748237,{"$f":"IF(C665<>\"\",Data!$M1216,\"\")","v":8},null,null,null,null,{"$f":"IF(Dashboard!$R$4=\"All\",Data!G1216,IF(Data!K1216=Dashboard!$R$4,Data!G1216,NA()))","v":{"$error":"#N/A"}},"","","",{"$f":"IF(L665<>\"\",Data!$M1216,\"\")","v":""},null,null,null,null,{"$f":"IF(OR(Dashboard!$P$4=\"All\",Dashboard!$R$4=\"All\"),NA(),IF(OR(Data!K1216<>Dashboard!$P$4,Data!K1216<>Dashboard!$R$4),Data!G1216,NA()))","v":38111.983169748237}]
[null,{"$f":"IF(Dashboard!$P$4=\"All\",Data!G1217,IF(Data!K1217=Dashboard!$P$4,Data!G1217,NA()))","v":{"$error":"#N/A"}},"","","",{"$f":"IF(C666<>\"\",Data!$M1217,\"\")","v":""},null,null,null,null,{"$f":"IF(Dashboard!$R$4=\"All\",Data!G1217,IF(Data!K1217=Dashboard!$R$4,Data!G1217,NA()))","v":118213.37040504631},118213.37040504631,118213.37040504631,"",{"$f":"IF(L666<>\"\",Data!$M1217,\"\")","v":20},null,null,null,null,{"$f":"IF(OR(Dashboard!$P$4=\"All\",Dashboard!$R$4=\"All\"),NA(),IF(OR(Data!K1217<>Dashboard!$P$4,Data!K1217<>Dashboard!$R$4),Data!G1217,NA()))","v":118213.37040504631}]
[null,{"$f":"IF(Dashboard!$P$4=\"All\",Data!G1218,IF(Data!K1218=Dashboard!$P$4,Data!G1218,NA()))","v":{"$error":"#N/A"}},"","","",{"$f":"IF(C667<>\"\",Data!$M1218,\"\")","v":""},null,null,null,null,{"$f":"IF(Dashboard!$R$4=\"All\",Data!G1218,IF(Data!K1218=Dashboard!$R$4,Data!G1218,NA()))","v":39404.456801682099},39404.456801682099,"","",{"$f":"IF(L667<>\"\",Data!$M1218,\"\")","v":10},null,null,null,null,{"$f":"IF(OR(Dashboard!$P$4=\"All\",Dashboard!$R$4=\"All\"),NA(),IF(OR(Data!K1218<>Dashboard!$P$4,Data!K1218<>Dashboard!$R$4),Data!G1218,NA()))","v":39404.456801682099}]
[null,{"$f":"IF(Dashboard!$P$4=\"All\",Data!G1219,IF(Data!K1219=Dashboard!$P$4,Data!G1219,NA()))","v":{"$error":"#N/A"}},"","","",{"$f":"IF(C668<>\"\",Data!$M1219,\"\")","v":""},null,null,null,null,{"$f":"IF(Dashboard!$R$4=\"All\",Data!G1219,IF(Data!K1219=Dashboard!$R$4,Data!G1219,NA()))","v":{"$error":"#N/A"}},"","","",{"$f":"IF(L668<>\"\",Data!$M1219,\"\")","v":""},null,null,null,null,{"$f":"IF(OR(Dashboard!$P$4=\"All\",Dashboard!$R$4=\"All\"),NA(),IF(OR(Data!K1219<>Dashboard!$P$4,Data!K1219<>Dashboard!$R$4),Data!G1219,NA()))","v":90198.36016840415}]
[null,{"$f":"IF(Dashboard!$P$4=\"All\",Data!G1220,IF(Data!K1220=Dashboard!$P$4,Data!G1220,NA()))","v":{"$error":"#N/A"}},"","","",{"$f":"IF(C669<>\"\",Data!$M1220,\"\")","v":""},null,null,null,null,{"$f":"IF(Dashboard!$R$4=\"All\",Data!G1220,IF(Data!K1220=Dashboard!$R$4,Data!G1220,NA()))","v":47285.348162018527},47285.348162018527,"","",{"$f":"IF(L669<>\"\",Data!$M1220,\"\")","v":14},null,null,null,null,{"$f":"IF(OR(Dashboard!$P$4=\"All\",Dashboard!$R$4=\"All\"),NA(),IF(OR(Data!K1220<>Dashboard!$P$4,Data!K1220<>Dashboard!$R$4),Data!G1220,NA()))","v":47285.348162018527}]
[null,{"$f":"IF(Dashboard!$P$4=\"All\",Data!G1221,IF(Data!K1221=Dashboard!$P$4,Data!G1221,NA()))","v":{"$error":"#N/A"}},"","","",{"$f":"IF(C670<>\"\",Data!$M1221,\"\")","v":""},null,null,null,null,{"$f":"IF(Dashboard!$R$4=\"All\",Data!G1221,IF(Data!K1221=Dashboard!$R$4,Data!G1221,NA()))","v":{"$error":"#N/A"}},"","","",{"$f":"IF(L670<>\"\",Data!$M1221,\"\")","v":""},null,null,null,null,{"$f":"IF(OR(Dashboard!$P$4=\"All\",Dashboard!$R$4=\"All\"),NA(),IF(OR(Data!K1221<>Dashboard!$P$4,Data!K1221<>Dashboard!$R$4),Data!G1221,NA()))","v":56000}]
[null,{"$f":"IF(Dashboard!$P$4=\"All\",Data!G1222,IF(Data!K1222=Dashboard!$P$4,Data!G1222,NA()))","v":{"$error":"#N/A"}},"","","",{"$f":"IF(C671<>\"\",Data!$M1222,\"\")","v":""},null,null,null,null,{"$f":"IF(Dashboard!$R$4=\"All\",Data!G1222,IF(Data!K1222=Dashboard!$R$4,Data!G1222,NA()))","v":{"$error":"#N/A"}},"","","",{"$f":"IF(L671<>\"\",Data!$M1222,\"\")","v":""},null,null,null,null,{"$f":"IF(OR(Dashboard!$P$4=\"All\",Dashboard!$R$4=\"All\"),NA(),IF(OR(Data!K1222<>Dashboard!$P$4,Data!K1222<>Dashboard!$R$4),Data!G1222,NA()))","v":5082.6943786459069}]
[null,{"$f":"IF(Dashboard!$P$4=\"All\",Data!G1223,IF(Data!K1223=Dashboard!$P$4,Data!G1223,NA()))","v":{"$error":"#N/A"}},"","","",{"$f":"IF(C672<>\"\",Data!$M1223,\"\")","v":""},null,null,null,null,{"$f":"IF(Dashboard!$R$4=\"All\",Data!G1223,IF(Data!K1223=Dashboard!$R$4,Data!G1223,NA()))","v":53590.061250287661},53590.061250287661,"","",{"$f":"IF(L672<>\"\",Data!$M1223,\"\")","v":10},null,null,null,null,{"$f":"IF(OR(Dashboard!$P$4=\"All\",Dashboard!$R$4=\"All\"),NA(),IF(OR(Data!K1223<>Dashboard!$P$4,Data!K1223<>Dashboard!$R$4),Data!G1223,NA()))","v":53590.061250287661}]
[null,{"$f":"IF(Dashboard!$P$4=\"All\",Data!G1224,IF(Data!K1224=Dashboard!$P$4,Data!G1224,NA()))","v":{"$error":"#N/A"}},"","","",{"$f":"IF(C673<>\"\",Data!$M1224,\"\")","v":""},null,null,null,null,{"$f":"IF(Dashboard!$R$4=\"All\",Data!G1224,IF(Data!K1224=Dashboard!$R$4,Data!G1224,NA()))","v":{"$error":"#N/A"}},"","","",{"$f":"IF(L673<>\"\",Data!$M1224,\"\")","v":""},null,null,null,null,{"$f":"IF(OR(Dashboard!$P$4=\"All\",Dashboard!$R$4=\"All\"),NA(),IF(OR(Data!K1224<>Dashboard!$P$4,Data!K1224<>Dashboard!$R$4),Data!G1224,NA()))","v":76906.906752939132}]
[null,{"$f":"IF(Dashboard!$P$4=\"All\",Data!G1225,IF(Data!K1225=Dashboard!$P$4,Data!G1225,NA()))","v":{"$error":"#N/A"}},"","","",{"$f":"IF(C674<>\"\",Data!$M1225,\"\")","v":""},null,null,null,null,{"$f":"IF(Dashboard!$R$4=\"All\",Data!G1225,IF(Data!K1225=Dashboard!$R$4,Data!G1225,NA()))","v":{"$error":"#N/A"}},"","","",{"$f":"IF(L674<>\"\",Data!$M1225,\"\")","v":""},null,null,null,null,{"$f":"IF(OR(Dashboard!$P$4=\"All\",Dashboard!$R$4=\"All\"),NA(),IF(OR(Data!K1225<>Dashboard!$P$4,Data!K1225<>Dashboard!$R$4),Data!G1225,NA()))","v":85000}]
[null,{"$f":"IF(Dashboard!$P$4=\"All\",Data!G1226,IF(Data!K1226=Dashboard!$P$4,Data!G1226,NA()))","v":{"$error":"#N/A"}},"","","",{"$f":"IF(C675<>\"\",Data!$M1226,\"\")","v":""},null,null,null,null,{"$f":"IF(Dashboard!$R$4=\"All\",Data!G1226,IF(Data!K1226=Dashboard!$R$4,Data!G1226,NA()))","v":{"$error":"#N/A"}},"","","",{"$f":"IF(L675<>\"\",Data!$M1226,\"\")","v":""},null,null,null,null,{"$f":"IF(OR(Dashboard!$P$4=\"All\",Dashboard!$R$4=\"All\"),NA(),IF(OR(Data!K1226<>Dashboard!$P$4,Data!K1226<>Dashboard!$R$4),Data!G1226,NA()))","v":72000}]
[null,{"$f":"IF(Dashboard!$P$4=\"All\",Data!G1227,IF(Data!K1227=Dashboard!$P$4,Data!G1227,NA()))","v":{"$error":"#N/A"}},"","","",{"$f":"IF(C676<>\"\",Data!$M1227,\"\")","v":""},null,null,null,null,{"$f":"IF(Dashboard!$R$4=\"All\",Data!G1227,IF(Data!K1227=Dashboard!$R$4,Data!G1227,NA()))","v":{"$error":"#N/A"}},"","","",{"$f":"IF(L676<>\"\",Data!$M1227,\"\")","v":""},null,null,null,null,{"$f":"IF(OR(Dashboard!$P$4=\"All\",Dashboard!$R$4=\"All\"),NA(),IF(OR(Data!K1227<>Dashboard!$P$4,Data!K1227<>Dashboard!$R$4),Data!G1227,NA()))","v":55000}]
[null,{"$f":"IF(Dashboard!$P$4=\"All\",Data!G1228,IF(Data!K1228=Dashboard!$P$4,Data!G1228,NA()))","v":{"$error":"#N/A"}},"","","",{"$f":"IF(C677<>\"\",Data!$M1228,\"\")","v":""},null,null,null,null,{"$f":"IF(Dashboard!$R$4=\"All\",Data!G1228,IF(Data!K1228=Dashboard!$R$4,Data!G1228,NA()))","v":67775.665698893223},67775.665698893223,"","",{"$f":"IF(L677<>\"\",Data!$M1228,\"\")","v":25},null,null,null,null,{"$f":"IF(OR(Dashboard!$P$4=\"All\",Dashboard!$R$4=\"All\"),NA(),IF(OR(Data!K1228<>Dashboard!$P$4,Data!K1228<>Dashboard!$R$4),Data!G1228,NA()))","v":67775.665698893223}]
[null,{"$f":"IF(Dashboard!$P$4=\"All\",Data!G1229,IF(Data!K1229=Dashboard!$P$4,Data!G1229,NA()))","v":{"$error":"#N/A"}},"","","",{"$f":"IF(C678<>\"\",Data!$M1229,\"\")","v":""},null,null,null,null,{"$f":"IF(Dashboard!$R$4=\"All\",Data!G1229,IF(Data!K1229=Dashboard!$R$4,Data!G1229,NA()))","v":40586.590505732565},40586.590505732565,"","",{"$f":"IF(L678<>\"\",Data!$M1229,\"\")","v":1},null,null,null,null,{"$f":"IF(OR(Dashboard!$P$4=\"All\",Dashboard!$R$4=\"All\"),NA(),IF(OR(Data!K1229<>Dashboard!$P$4,Data!K1229<>Dashboard!$R$4),Data!G1229,NA()))","v":40586.590505732565}]
[null,{"$f":"IF(Dashboard!$P$4=\"All\",Data!G1230,IF(Data!K1230=Dashboard!$P$4,Data!G1230,NA()))","v":{"$error":"#N/A"}},"","","",{"$f":"IF(C679<>\"\",Data!$M1230,\"\")","v":""},null,null,null,null,{"$f":"IF(Dashboard!$R$4=\"All\",Data!G1230,IF(Data!K1230=Dashboard!$R$4,Data!G1230,NA()))","v":{"$error":"#N/A"}},"","","",{"$f":"IF(L679<>\"\",Data!$M1230,\"\")","v":""},null,null,null,null,{"$f":"IF(OR(Dashboard!$P$4=\"All\",Dashboard!$R$4=\"All\"),NA(),IF(OR(Data!K1230<>Dashboard!$P$4,Data!K1230<>Dashboard!$R$4),Data!G1230,NA()))","v":50846}]
[null,{"$f":"IF(Dashboard!$P$4=\"All\",Data!G1231,IF(Data!K1231=Dashboard!$P$4,Data!G1231,NA()))","v":{"$error":"#N/A"}},"","","",{"$f":"IF(C680<>\"\",Data!$M1231,\"\")","v":""},null,null,null,null,{"$f":"IF(Dashboard!$R$4=\"All\",Data!G1231,IF(Data!K1231=Dashboard!$R$4,Data!G1231,NA()))","v":{"$error":"#N/A"}},"","","",{"$f":"IF(L680<>\"\",Data!$M1231,\"\")","v":""},null,null,null,null,{"$f":"IF(OR(Dashboard!$P$4=\"All\",Dashboard!$R$4=\"All\"),NA(),IF(OR(Data!K1231<>Dashboard!$P$4,Data!K1231<>Dashboard!$R$4),Data!G1231,NA()))","v":63000}]
[null,{"$f":"IF(Dashboard!$P$4=\"All\",Data!G1232,IF(Data!K1232=Dashboard!$P$4,Data!G1232,NA()))","v":{"$error":"#N/A"}},"","","",{"$f":"IF(C681<>\"\",Data!$M1232,\"\")","v":""},null,null,null,null,{"$f":"IF(Dashboard!$R$4=\"All\",Data!G1232,IF(Data!K1232=Dashboard!$R$4,Data!G1232,NA()))","v":{"$error":"#N/A"}},"","","",{"$f":"IF(L681<>\"\",Data!$M1232,\"\")","v":""},null,null,null,null,{"$f":"IF(OR(Dashboard!$P$4=\"All\",Dashboard!$R$4=\"All\"),NA(),IF(OR(Data!K1232<>Dashboard!$P$4,Data!K1232<>Dashboard!$R$4),Data!G1232,NA()))","v":81592.772512210868}]
[null,{"$f":"IF(Dashboard!$P$4=\"All\",Data!G1233,IF(Data!K1233=Dashboard!$P$4,Data!G1233,NA()))","v":{"$error":"#N/A"}},"","","",{"$f":"IF(C682<>\"\",Data!$M1233,\"\")","v":""},null,null,null,null,{"$f":"IF(Dashboard!$R$4=\"All\",Data!G1233,IF(Data!K1233=Dashboard!$R$4,Data!G1233,NA()))","v":{"$error":"#N/A"}},"","","",{"$f":"IF(L682<>\"\",Data!$M1233,\"\")","v":""},null,null,null,null,{"$f":"IF(OR(Dashboard!$P$4=\"All\",Dashboard!$R$4=\"All\"),NA(),IF(OR(Data!K1233<>Dashboard!$P$4,Data!K1233<>Dashboard!$R$4),Data!G1233,NA()))","v":50700}]
[null,{"$f":"IF(Dashboard!$P$4=\"All\",Data!G1234,IF(Data!K1234=Dashboard!$P$4,Data!G1234,NA()))","v":{"$error":"#N/A"}},"","","",{"$f":"IF(C683<>\"\",Data!$M1234,\"\")","v":""},null,null,null,null,{"$f":"IF(Dashboard!$R$4=\"All\",Data!G1234,IF(Data!K1234=Dashboard!$R$4,Data!G1234,NA()))","v":31523.565441345683},31523.565441345683,"",31523.565441345683,{"$f":"IF(L683<>\"\",Data!$M1234,\"\")","v":1},null,null,null,null,{"$f":"IF(OR(Dashboard!$P$4=\"All\",Dashboard!$R$4=\"All\"),NA(),IF(OR(Data!K1234<>Dashboard!$P$4,Data!K1234<>Dashboard!$R$4),Data!G1234,NA()))","v":31523.565441345683}]
[null,{"$f":"IF(Dashboard!$P$4=\"All\",Data!G1235,IF(Data!K1235=Dashboard!$P$4,Data!G1235,NA()))","v":{"$error":"#N/A"}},"","","",{"$f":"IF(C684<>\"\",Data!$M1235,\"\")","v":""},null,null,null,null,{"$f":"IF(Dashboard!$R$4=\"All\",Data!G1235,IF(Data!K1235=Dashboard!$R$4,Data!G1235,NA()))","v":{"$error":"#N/A"}},"","","",{"$f":"IF(L684<>\"\",Data!$M1235,\"\")","v":""},null,null,null,null,{"$f":"IF(OR(Dashboard!$P$4=\"All\",Dashboard!$R$4=\"All\"),NA(),IF(OR(Data!K1235<>Dashboard!$P$4,Data!K1235<>Dashboard!$R$4),Data!G1235,NA()))","v":70000}]
[null,{"$f":"IF(Dashboard!$P$4=\"All\",Data!G1236,IF(Data!K1236=Dashboard!$P$4,Data!G1236,NA()))","v":{"$error":"#N/A"}},"","","",{"$f":"IF(C685<>\"\",Data!$M1236,\"\")","v":""},null,null,null,null,{"$f":"IF(Dashboard!$R$4=\"All\",Data!G1236,IF(Data!K1236=Dashboard!$R$4,Data!G1236,NA()))","v":{"$error":"#N/A"}},"","","",{"$f":"IF(L685<>\"\",Data!$M1236,\"\")","v":""},null,null,null,null,{"$f":"IF(OR(Dashboard!$P$4=\"All\",Dashboard!$R$4=\"All\"),NA(),IF(OR(Data!K1236<>Dashboard!$P$4,Data!K1236<>Dashboard!$R$4),Data!G1236,NA()))","v":63918.498996971248}]
[null,{"$f":"IF(Dashboard!$P$4=\"All\",Data!G1237,IF(Data!K1237=Dashboard!$P$4,Data!G1237,NA()))","v":{"$error":"#N/A"}},"","","",{"$f":"IF(C686<>\"\",Data!$M1237,\"\")","v":""},null,null,null,null,{"$f":"IF(Dashboard!$R$4=\"All\",Data!G1237,IF(Data!K1237=Dashboard!$R$4,Data!G1237,NA()))","v":{"$error":"#N/A"}},"","","",{"$f":"IF(L686<>\"\",Data!$M1237,\"\")","v":""},null,null,null,null,{"$f":"IF(OR(Dashboard!$P$4=\"All\",Dashboard!$R$4=\"All\"),NA(),IF(OR(Data!K1237<>Dashboard!$P$4,Data!K1237<>Dashboard!$R$4),Data!G1237,NA()))","v":7261.724659606657}]
[null,{"$f":"IF(Dashboard!$P$4=\"All\",Data!G1238,IF(Data!K1238=Dashboard!$P$4,Data!G1238,NA()))","v":{"$error":"#N/A"}},"","","",{"$f":"IF(C687<>\"\",Data!$M1238,\"\")","v":""},null,null,null,null,{"$f":"IF(Dashboard!$R$4=\"All\",Data!G1238,IF(Data!K1238=Dashboard!$R$4,Data!G1238,NA()))","v":{"$error":"#N/A"}},"","","",{"$f":"IF(L687<>\"\",Data!$M1238,\"\")","v":""},null,null,null,null,{"$f":"IF(OR(Dashboard!$P$4=\"All\",Dashboard!$R$4=\"All\"),NA(),IF(OR(Data!K1238<>Dashboard!$P$4,Data!K1238<>Dashboard!$R$4),Data!G1238,NA()))","v":11404.820437438224}]
[null,{"$f":"IF(Dashboard!$P$4=\"All\",Data!G1239,IF(Data!K1239=Dashboard!$P$4,Data!G1239,NA()))","v":{"$error":"#N/A"}},"","","",{"$f":"IF(C688<>\"\",Data!$M1239,\"\")","v":""},null,null,null,null,{"$f":"IF(Dashboard!$R$4=\"All\",Data!G1239,IF(Data!K1239=Dashboard!$R$4,Data!G1239,NA()))","v":{"$error":"#N/A"}},"","","",{"$f":"IF(L688<>\"\",Data!$M1239,\"\")","v":""},null,null,null,null,{"$f":"IF(OR(Dashboard!$P$4=\"All\",Dashboard!$R$4=\"All\"),NA(),IF(OR(Data!K1239<>Dashboard!$P$4,Data!K1239<>Dashboard!$R$4),Data!G1239,NA()))","v":120000}]
[null,{"$f":"IF(Dashboard!$P$4=\"All\",Data!G1240,IF(Data!K1240=Dashboard!$P$4,Data!G1240,NA()))","v":{"$error":"#N/A"}},"","","",{"$f":"IF(C689<>\"\",Data!$M1240,\"\")","v":""},null,null,null,null,{"$f":"IF(Dashboard!$R$4=\"All\",Data!G1240,IF(Data!K1240=Dashboard!$R$4,Data!G1240,NA()))","v":{"$error":"#N/A"}},"","","",{"$f":"IF(L689<>\"\",Data!$M1240,\"\")","v":""},null,null,null,null,{"$f":"IF(OR(Dashboard!$P$4=\"All\",Dashboard!$R$4=\"All\"),NA(),IF(OR(Data!K1240<>Dashboard!$P$4,Data!K1240<>Dashboard!$R$4),Data!G1240,NA()))","v":91791.869076237213}]
[null,{"$f":"IF(Dashboard!$P$4=\"All\",Data!G1241,IF(Data!K1241=Dashboard!$P$4,Data!G1241,NA()))","v":{"$error":"#N/A"}},"","","",{"$f":"IF(C690<>\"\",Data!$M1241,\"\")","v":""},null,null,null,null,{"$f":"IF(Dashboard!$R$4=\"All\",Data!G1241,IF(Data!K1241=Dashboard!$R$4,Data!G1241,NA()))","v":{"$error":"#N/A"}},"","","",{"$f":"IF(L690<>\"\",Data!$M1241,\"\")","v":""},null,null,null,null,{"$f":"IF(OR(Dashboard!$P$4=\"All\",Dashboard!$R$4=\"All\"),NA(),IF(OR(Data!K1241<>Dashboard!$P$4,Data!K1241<>Dashboard!$R$4),Data!G1241,NA()))","v":112190.06220428993}]
[null,{"$f":"IF(Dashboard!$P$4=\"All\",Data!G1242,IF(Data!K1242=Dashboard!$P$4,Data!G1242,NA()))","v":{"$error":"#N/A"}},"","","",{"$f":"IF(C691<>\"\",Data!$M1242,\"\")","v":""},null,null,null,null,{"$f":"IF(Dashboard!$R$4=\"All\",Data!G1242,IF(Data!K1242=Dashboard!$R$4,Data!G1242,NA()))","v":{"$error":"#N/A"}},"","","",{"$f":"IF(L691<>\"\",Data!$M1242,\"\")","v":""},null,null,null,null,{"$f":"IF(OR(Dashboard!$P$4=\"All\",Dashboard!$R$4=\"All\"),NA(),IF(OR(Data!K1242<>Dashboard!$P$4,Data!K1242<>Dashboard!$R$4),Data!G1242,NA()))","v":40000}]
[null,{"$f":"IF(Dashboard!$P$4=\"All\",Data!G1243,IF(Data!K1243=Dashboard!$P$4,Data!G1243,NA()))","v":{"$error":"#N/A"}},"","","",{"$f":"IF(C692<>\"\",Data!$M1243,\"\")","v":""},null,null,null,null,{"$f":"IF(Dashboard!$R$4=\"All\",Data!G1243,IF(Data!K1243=Dashboard!$R$4,Data!G1243,NA()))","v":{"$error":"#N/A"}},"","","",{"$f":"IF(L692<>\"\",Data!$M1243,\"\")","v":""},null,null,null,null,{"$f":"IF(OR(Dashboard!$P$4=\"All\",Dashboard!$R$4=\"All\"),NA(),IF(OR(Data!K1243<>Dashboard!$P$4,Data!K1243<>Dashboard!$R$4),Data!G1243,NA()))","v":107000}]
[null,{"$f":"IF(Dashboard!$P$4=\"All\",Data!G1244,IF(Data!K1244=Dashboard!$P$4,Data!G1244,NA()))","v":{"$error":"#N/A"}},"","","",{"$f":"IF(C693<>\"\",Data!$M1244,\"\")","v":""},null,null,null,null,{"$f":"IF(Dashboard!$R$4=\"All\",Data!G1244,IF(Data!K1244=Dashboard!$R$4,Data!G1244,NA()))","v":{"$error":"#N/A"}},"","","",{"$f":"IF(L693<>\"\",Data!$M1244,\"\")","v":""},null,null,null,null,{"$f":"IF(OR(Dashboard!$P$4=\"All\",Dashboard!$R$4=\"All\"),NA(),IF(OR(Data!K1244<>Dashboard!$P$4,Data!K1244<>Dashboard!$R$4),Data!G1244,NA()))","v":82000}]
[null,{"$f":"IF(Dashboard!$P$4=\"All\",Data!G1245,IF(Data!K1245=Dashboard!$P$4,Data!G1245,NA()))","v":{"$error":"#N/A"}},"","","",{"$f":"IF(C694<>\"\",Data!$M1245,\"\")","v":""},null,null,null,null,{"$f":"IF(Dashboard!$R$4=\"All\",Data!G1245,IF(Data!K1245=Dashboard!$R$4,Data!G1245,NA()))","v":{"$error":"#N/A"}},"","","",{"$f":"IF(L694<>\"\",Data!$M1245,\"\")","v":""},null,null,null,null,{"$f":"IF(OR(Dashboard!$P$4=\"All\",Dashboard!$R$4=\"All\"),NA(),IF(OR(Data!K1245<>Dashboard!$P$4,Data!K1245<>Dashboard!$R$4),Data!G1245,NA()))","v":101990.96564026357}]
[null,{"$f":"IF(Dashboard!$P$4=\"All\",Data!G1246,IF(Data!K1246=Dashboard!$P$4,Data!G1246,NA()))","v":{"$error":"#N/A"}},"","","",{"$f":"IF(C695<>\"\",Data!$M1246,\"\")","v":""},null,null,null,null,{"$f":"IF(Dashboard!$R$4=\"All\",Data!G1246,IF(Data!K1246=Dashboard!$R$4,Data!G1246,NA()))","v":{"$error":"#N/A"}},"","","",{"$f":"IF(L695<>\"\",Data!$M1246,\"\")","v":""},null,null,null,null,{"$f":"IF(OR(Dashboard!$P$4=\"All\",Dashboard!$R$4=\"All\"),NA(),IF(OR(Data!K1246<>Dashboard!$P$4,Data!K1246<>Dashboard!$R$4),Data!G1246,NA()))","v":43000}]
[null,{"$f":"IF(Dashboard!$P$4=\"All\",Data!G1247,IF(Data!K1247=Dashboard!$P$4,Data!G1247,NA()))","v":{"$error":"#N/A"}},"","","",{"$f":"IF(C696<>\"\",Data!$M1247,\"\")","v":""},null,null,null,null,{"$f":"IF(Dashboard!$R$4=\"All\",Data!G1247,IF(Data!K1247=Dashboard!$R$4,Data!G1247,NA()))","v":{"$error":"#N/A"}},"","","",{"$f":"IF(L696<>\"\",Data!$M1247,\"\")","v":""},null,null,null,null,{"$f":"IF(OR(Dashboard!$P$4=\"All\",Dashboard!$R$4=\"All\"),NA(),IF(OR(Data!K1247<>Dashboard!$P$4,Data!K1247<>Dashboard!$R$4),Data!G1247,NA()))","v":69000}]
[null,{"$f":"IF(Dashboard!$P$4=\"All\",Data!G1248,IF(Data!K1248=Dashboard!$P$4,Data!G1248,NA()))","v":{"$error":"#N/A"}},"","","",{"$f":"IF(C697<>\"\",Data!$M1248,\"\")","v":""},null,null,null,null,{"$f":"IF(Dashboard!$R$4=\"All\",Data!G1248,IF(Data!K1248=Dashboard!$R$4,Data!G1248,NA()))","v":{"$error":"#N/A"}},"","","",{"$f":"IF(L697<>\"\",Data!$M1248,\"\")","v":""},null,null,null,null,{"$f":"IF(OR(Dashboard!$P$4=\"All\",Dashboard!$R$4=\"All\"),NA(),IF(OR(Data!K1248<>Dashboard!$P$4,Data!K1248<>Dashboard!$R$4),Data!G1248,NA()))","v":30000}]
[null,{"$f":"IF(Dashboard!$P$4=\"All\",Data!G1249,IF(Data!K1249=Dashboard!$P$4,Data!G1249,NA()))","v":{"$error":"#N/A"}},"","","",{"$f":"IF(C698<>\"\",Data!$M1249,\"\")","v":""},null,null,null,null,{"$f":"IF(Dashboard!$R$4=\"All\",Data!G1249,IF(Data!K1249=Dashboard!$R$4,Data!G1249,NA()))","v":{"$error":"#N/A"}},"","","",{"$f":"IF(L698<>\"\",Data!$M1249,\"\")","v":""},null,null,null,null,{"$f":"IF(OR(Dashboard!$P$4=\"All\",Dashboard!$R$4=\"All\"),NA(),IF(OR(Data!K1249<>Dashboard!$P$4,Data!K1249<>Dashboard!$R$4),Data!G1249,NA()))","v":48955.663507326513}]
[null,{"$f":"IF(Dashboard!$P$4=\"All\",Data!G1250,IF(Data!K1250=Dashboard!$P$4,Data!G1250,NA()))","v":{"$error":"#N/A"}},"","","",{"$f":"IF(C699<>\"\",Data!$M1250,\"\")","v":""},null,null,null,null,{"$f":"IF(Dashboard!$R$4=\"All\",Data!G1250,IF(Data!K1250=Dashboard!$R$4,Data!G1250,NA()))","v":{"$error":"#N/A"}},"","","",{"$f":"IF(L699<>\"\",Data!$M1250,\"\")","v":""},null,null,null,null,{"$f":"IF(OR(Dashboard!$P$4=\"All\",Dashboard!$R$4=\"All\"),NA(),IF(OR(Data!K1250<>Dashboard!$P$4,Data!K1250<>Dashboard!$R$4),Data!G1250,NA()))","v":70000}]
[null,{"$f":"IF(Dashboard!$P$4=\"All\",Data!G1251,IF(Data!K1251=Dashboard!$P$4,Data!G1251,NA()))","v":{"$error":"#N/A"}},"","","",{"$f":"IF(C700<>\"\",Data!$M1251,\"\")","v":""},null,null,null,null,{"$f":"IF(Dashboard!$R$4=\"All\",Data!G1251,IF(Data!K1251=Dashboard!$R$4,Data!G1251,NA()))","v":{"$error":"#N/A"}},"","","",{"$f":"IF(L700<>\"\",Data!$M1251,\"\")","v":""},null,null,null,null,{"$f":"IF(OR(Dashboard!$P$4=\"All\",Dashboard!$R$4=\"All\"),NA(),IF(OR(Data!K1251<>Dashboard!$P$4,Data!K1251<>Dashboard!$R$4),Data!G1251,NA()))","v":45000}]
[null,{"$f":"IF(Dashboard!$P$4=\"All\",Data!G1252,IF(Data!K1252=Dashboard!$P$4,Data!G1252,NA()))","v":{"$error":"#N/A"}},"","","",{"$f":"IF(C701<>\"\",Data!$M1252,\"\")","v":""},null,null,null,null,{"$f":"IF(Dashboard!$R$4=\"All\",Data!G1252,IF(Data!K1252=Dashboard!$R$4,Data!G1252,NA()))","v":{"$error":"#N/A"}},"","","",{"$f":"IF(L701<>\"\",Data!$M1252,\"\")","v":""},null,null,null,null,{"$f":"IF(OR(Dashboard!$P$4=\"All\",Dashboard!$R$4=\"All\"),NA(),IF(OR(Data!K1252<>Dashboard!$P$4,Data!K1252<>Dashboard!$R$4),Data!G1252,NA()))","v":35000}]
[null,{"$f":"IF(Dashboard!$P$4=\"All\",Data!G1253,IF(Data!K1253=Dashboard!$P$4,Data!G1253,NA()))","v":{"$error":"#N/A"}},"","","",{"$f":"IF(C702<>\"\",Data!$M1253,\"\")","v":""},null,null,null,null,{"$f":"IF(Dashboard!$R$4=\"All\",Data!G1253,IF(Data!K1253=Dashboard!$R$4,Data!G1253,NA()))","v":{"$error":"#N/A"}},"","","",{"$f":"IF(L702<>\"\",Data!$M1253,\"\")","v":""},null,null,null,null,{"$f":"IF(OR(Dashboard!$P$4=\"All\",Dashboard!$R$4=\"All\"),NA(),IF(OR(Data!K1253<>Dashboard!$P$4,Data!K1253<>Dashboard!$R$4),Data!G1253,NA()))","v":8903.9583437212841}]
[null,{"$f":"IF(Dashboard!$P$4=\"All\",Data!G1254,IF(Data!K1254=Dashboard!$P$4,Data!G1254,NA()))","v":{"$error":"#N/A"}},"","","",{"$f":"IF(C703<>\"\",Data!$M1254,\"\")","v":""},null,null,null,null,{"$f":"IF(Dashboard!$R$4=\"All\",Data!G1254,IF(Data!K1254=Dashboard!$R$4,Data!G1254,NA()))","v":{"$error":"#N/A"}},"","","",{"$f":"IF(L703<>\"\",Data!$M1254,\"\")","v":""},null,null,null,null,{"$f":"IF(OR(Dashboard!$P$4=\"All\",Dashboard!$R$4=\"All\"),NA(),IF(OR(Data!K1254<>Dashboard!$P$4,Data!K1254<>Dashboard!$R$4),Data!G1254,NA()))","v":28353.650809742252}]
[null,{"$f":"IF(Dashboard!$P$4=\"All\",Data!G1255,IF(Data!K1255=Dashboard!$P$4,Data!G1255,NA()))","v":{"$error":"#N/A"}},"","","",{"$f":"IF(C704<>\"\",Data!$M1255,\"\")","v":""},null,null,null,null,{"$f":"IF(Dashboard!$R$4=\"All\",Data!G1255,IF(Data!K1255=Dashboard!$R$4,Data!G1255,NA()))","v":{"$error":"#N/A"}},"","","",{"$f":"IF(L704<>\"\",Data!$M1255,\"\")","v":""},null,null,null,null,{"$f":"IF(OR(Dashboard!$P$4=\"All\",Dashboard!$R$4=\"All\"),NA(),IF(OR(Data!K1255<>Dashboard!$P$4,Data!K1255<>Dashboard!$R$4),Data!G1255,NA()))","v":11800}]
[null,{"$f":"IF(Dashboard!$P$4=\"All\",Data!G1256,IF(Data!K1256=Dashboard!$P$4,Data!G1256,NA()))","v":{"$error":"#N/A"}},"","","",{"$f":"IF(C705<>\"\",Data!$M1256,\"\")","v":""},null,null,null,null,{"$f":"IF(Dashboard!$R$4=\"All\",Data!G1256,IF(Data!K1256=Dashboard!$R$4,Data!G1256,NA()))","v":{"$error":"#N/A"}},"","","",{"$f":"IF(L705<>\"\",Data!$M1256,\"\")","v":""},null,null,null,null,{"$f":"IF(OR(Dashboard!$P$4=\"All\",Dashboard!$R$4=\"All\"),NA(),IF(OR(Data!K1256<>Dashboard!$P$4,Data!K1256<>Dashboard!$R$4),Data!G1256,NA()))","v":6410.8500074793246}]
[null,{"$f":"IF(Dashboard!$P$4=\"All\",Data!G1257,IF(Data!K1257=Dashboard!$P$4,Data!G1257,NA()))","v":{"$error":"#N/A"}},"","","",{"$f":"IF(C706<>\"\",Data!$M1257,\"\")","v":""},null,null,null,null,{"$f":"IF(Dashboard!$R$4=\"All\",Data!G1257,IF(Data!K1257=Dashboard!$R$4,Data!G1257,NA()))","v":{"$error":"#N/A"}},"","","",{"$f":"IF(L706<>\"\",Data!$M1257,\"\")","v":""},null,null,null,null,{"$f":"IF(OR(Dashboard!$P$4=\"All\",Dashboard!$R$4=\"All\"),NA(),IF(OR(Data!K1257<>Dashboard!$P$4,Data!K1257<>Dashboard!$R$4),Data!G1257,NA()))","v":50000}]
[null,{"$f":"IF(Dashboard!$P$4=\"All\",Data!G1258,IF(Data!K1258=Dashboard!$P$4,Data!G1258,NA()))","v":{"$error":"#N/A"}},"","","",{"$f":"IF(C707<>\"\",Data!$M1258,\"\")","v":""},null,null,null,null,{"$f":"IF(Dashboard!$R$4=\"All\",Data!G1258,IF(Data!K1258=Dashboard!$R$4,Data!G1258,NA()))","v":{"$error":"#N/A"}},"","","",{"$f":"IF(L707<>\"\",Data!$M1258,\"\")","v":""},null,null,null,null,{"$f":"IF(OR(Dashboard!$P$4=\"All\",Dashboard!$R$4=\"All\"),NA(),IF(OR(Data!K1258<>Dashboard!$P$4,Data!K1258<>Dashboard!$R$4),Data!G1258,NA()))","v":85000}]
[null,{"$f":"IF(Dashboard!$P$4=\"All\",Data!G1259,IF(Data!K1259=Dashboard!$P$4,Data!G1259,NA()))","v":{"$error":"#N/A"}},{"$f":"IF(ISNA(B708),\"\",B708)","v":""},{"$f":"IF(C708>=PERCENTILE($C$3:$C$1337,0.9),C708,\"\")","v":""},{"$f":"IF(C708<=PERCENTILE($C$3:$C$1337,0.1),C708,\"\")","v":""},{"$f":"IF(C708<>\"\",Data!$M1259,\"\")","v":""},null,null,null,null,{"$f":"IF(Dashboard!$R$4=\"All\",Data!G1259,IF(Data!K1259=Dashboard!$R$4,Data!G1259,NA()))","v":{"$error":"#N/A"}},{"$f":"IF(ISNA(K708),\"\",K708)","v":""},{"$f":"IF(L708>=PERCENTILE($L$3:$L$1337,0.9),L708,\"\")","v":""},{"$f":"IF(L708<=PERCENTILE($L$3:$L$1337,0.1),L708,\"\")","v":""},{"$f":"IF(L708<>\"\",Data!$M1259,\"\")","v":""},null,null,null,null,{"$f":"IF(OR(Dashboard!$P$4=\"All\",Dashboard!$R$4=\"All\"),NA(),IF(OR(Data!K1259<>Dashboard!$P$4,Data!K1259<>Dashboard!$R$4),Data!G1259,NA()))","v":17807.916687442568}]
[null,{"$f":"IF(Dashboard!$P$4=\"All\",Data!G1260,IF(Data!K1260=Dashboard!$P$4,Data!G1260,NA()))","v":{"$error":"#N/A"}},"","","",{"$f":"IF(C709<>\"\",Data!$M1260,\"\")","v":""},null,null,null,null,{"$f":"IF(Dashboard!$R$4=\"All\",Data!G1260,IF(Data!K1260=Dashboard!$R$4,Data!G1260,NA()))","v":{"$error":"#N/A"}},"","","",{"$f":"IF(L709<>\"\",Data!$M1260,\"\")","v":""},null,null,null,null,{"$f":"IF(OR(Dashboard!$P$4=\"All\",Dashboard!$R$4=\"All\"),NA(),IF(OR(Data!K1260<>Dashboard!$P$4,Data!K1260<>Dashboard!$R$4),Data!G1260,NA()))","v":16027.125018698311}]
[null,{"$f":"IF(Dashboard!$P$4=\"All\",Data!G1261,IF(Data!K1261=Dashboard!$P$4,Data!G1261,NA()))","v":{"$error":"#N/A"}},"","","",{"$f":"IF(C710<>\"\",Data!$M1261,\"\")","v":""},null,null,null,null,{"$f":"IF(Dashboard!$R$4=\"All\",Data!G1261,IF(Data!K1261=Dashboard!$R$4,Data!G1261,NA()))","v":{"$error":"#N/A"}},"","","",{"$f":"IF(L710<>\"\",Data!$M1261,\"\")","v":""},null,null,null,null,{"$f":"IF(OR(Dashboard!$P$4=\"All\",Dashboard!$R$4=\"All\"),NA(),IF(OR(Data!K1261<>Dashboard!$P$4,Data!K1261<>Dashboard!$R$4),Data!G1261,NA()))","v":192000}]
[null,{"$f":"IF(Dashboard!$P$4=\"All\",Data!G1262,IF(Data!K1262=Dashboard!$P$4,Data!G1262,NA()))","v":{"$error":"#N/A"}},"","","",{"$f":"IF(C711<>\"\",Data!$M1262,\"\")","v":""},null,null,null,null,{"$f":"IF(Dashboard!$R$4=\"All\",Data!G1262,IF(Data!K1262=Dashboard!$R$4,Data!G1262,NA()))","v":{"$error":"#N/A"}},"","","",{"$f":"IF(L711<>\"\",Data!$M1262,\"\")","v":""},null,null,null,null,{"$f":"IF(OR(Dashboard!$P$4=\"All\",Dashboard!$R$4=\"All\"),NA(),IF(OR(Data!K1262<>Dashboard!$P$4,Data!K1262<>Dashboard!$R$4),Data!G1262,NA()))","v":54000}]
[null,{"$f":"IF(Dashboard!$P$4=\"All\",Data!G1263,IF(Data!K1263=Dashboard!$P$4,Data!G1263,NA()))","v":{"$error":"#N/A"}},"","","",{"$f":"IF(C712<>\"\",Data!$M1263,\"\")","v":""},null,null,null,null,{"$f":"IF(Dashboard!$R$4=\"All\",Data!G1263,IF(Data!K1263=Dashboard!$R$4,Data!G1263,NA()))","v":{"$error":"#N/A"}},"","","",{"$f":"IF(L712<>\"\",Data!$M1263,\"\")","v":""},null,null,null,null,{"$f":"IF(OR(Dashboard!$P$4=\"All\",Dashboard!$R$4=\"All\"),NA(),IF(OR(Data!K1263<>Dashboard!$P$4,Data!K1263<>Dashboard!$R$4),Data!G1263,NA()))","v":18000}]
[null,{"$f":"IF(Dashboard!$P$4=\"All\",Data!G1264,IF(Data!K1264=Dashboard!$P$4,Data!G1264,NA()))","v":{"$error":"#N/A"}},"","","",{"$f":"IF(C713<>\"\",Data!$M1264,\"\")","v":""},null,null,null,null,{"$f":"IF(Dashboard!$R$4=\"All\",Data!G1264,IF(Data!K1264=Dashboard!$R$4,Data!G1264,NA()))","v":{"$error":"#N/A"}},"","","",{"$f":"IF(L713<>\"\",Data!$M1264,\"\")","v":""},null,null,null,null,{"$f":"IF(OR(Dashboard!$P$4=\"All\",Dashboard!$R$4=\"All\"),NA(),IF(OR(Data!K1264<>Dashboard!$P$4,Data!K1264<>Dashboard!$R$4),Data!G1264,NA()))","v":5342.3750062327708}]
[null,{"$f":"IF(Dashboard!$P$4=\"All\",Data!G1265,IF(Data!K1265=Dashboard!$P$4,Data!G1265,NA()))","v":{"$error":"#N/A"}},"","","",{"$f":"IF(C714<>\"\",Data!$M1265,\"\")","v":""},null,null,null,null,{"$f":"IF(Dashboard!$R$4=\"All\",Data!G1265,IF(Data!K1265=Dashboard!$R$4,Data!G1265,NA()))","v":{"$error":"#N/A"}},"","","",{"$f":"IF(L714<>\"\",Data!$M1265,\"\")","v":""},null,null,null,null,{"$f":"IF(OR(Dashboard!$P$4=\"All\",Dashboard!$R$4=\"All\"),NA(),IF(OR(Data!K1265<>Dashboard!$P$4,Data!K1265<>Dashboard!$R$4),Data!G1265,NA()))","v":7123.1666749770275}]
[null,{"$f":"IF(Dashboard!$P$4=\"All\",Data!G1266,IF(Data!K1266=Dashboard!$P$4,Data!G1266,NA()))","v":{"$error":"#N/A"}},"","","",{"$f":"IF(C715<>\"\",Data!$M1266,\"\")","v":""},null,null,null,null,{"$f":"IF(Dashboard!$R$4=\"All\",Data!G1266,IF(Data!K1266=Dashboard!$R$4,Data!G1266,NA()))","v":{"$error":"#N/A"}},"","","",{"$f":"IF(L715<>\"\",Data!$M1266,\"\")","v":""},null,null,null,null,{"$f":"IF(OR(Dashboard!$P$4=\"All\",Dashboard!$R$4=\"All\"),NA(),IF(OR(Data!K1266<>Dashboard!$P$4,Data!K1266<>Dashboard!$R$4),Data!G1266,NA()))","v":15000}]
[null,{"$f":"IF(Dashboard!$P$4=\"All\",Data!G1267,IF(Data!K1267=Dashboard!$P$4,Data!G1267,NA()))","v":{"$error":"#N/A"}},"","","",{"$f":"IF(C716<>\"\",Data!$M1267,\"\")","v":""},null,null,null,null,{"$f":"IF(Dashboard!$R$4=\"All\",Data!G1267,IF(Data!K1267=Dashboard!$R$4,Data!G1267,NA()))","v":{"$error":"#N/A"}},"","","",{"$f":"IF(L716<>\"\",Data!$M1267,\"\")","v":""},null,null,null,null,{"$f":"IF(OR(Dashboard!$P$4=\"All\",Dashboard!$R$4=\"All\"),NA(),IF(OR(Data!K1267<>Dashboard!$P$4,Data!K1267<>Dashboard!$R$4),Data!G1267,NA()))","v":14000}]
[null,{"$f":"IF(Dashboard!$P$4=\"All\",Data!G1268,IF(Data!K1268=Dashboard!$P$4,Data!G1268,NA()))","v":{"$error":"#N/A"}},"","","",{"$f":"IF(C717<>\"\",Data!$M1268,\"\")","v":""},null,null,null,null,{"$f":"IF(Dashboard!$R$4=\"All\",Data!G1268,IF(Data!K1268=Dashboard!$R$4,Data!G1268,NA()))","v":{"$error":"#N/A"}},"","","",{"$f":"IF(L717<>\"\",Data!$M1268,\"\")","v":""},null,null,null,null,{"$f":"IF(OR(Dashboard!$P$4=\"All\",Dashboard!$R$4=\"All\"),NA(),IF(OR(Data!K1268<>Dashboard!$P$4,Data!K1268<>Dashboard!$R$4),Data!G1268,NA()))","v":8000}]
[null,{"$f":"IF(Dashboard!$P$4=\"All\",Data!G1269,IF(Data!K1269=Dashboard!$P$4,Data!G1269,NA()))","v":{"$error":"#N/A"}},"","","",{"$f":"IF(C718<>\"\",Data!$M1269,\"\")","v":""},null,null,null,null,{"$f":"IF(Dashboard!$R$4=\"All\",Data!G1269,IF(Data!K1269=Dashboard!$R$4,Data!G1269,NA()))","v":{"$error":"#N/A"}},"","","",{"$f":"IF(L718<>\"\",Data!$M1269,\"\")","v":""},null,null,null,null,{"$f":"IF(OR(Dashboard!$P$4=\"All\",Dashboard!$R$4=\"All\"),NA(),IF(OR(Data!K1269<>Dashboard!$P$4,Data!K1269<>Dashboard!$R$4),Data!G1269,NA()))","v":12500}]
[null,{"$f":"IF(Dashboard!$P$4=\"All\",Data!G1270,IF(Data!K1270=Dashboard!$P$4,Data!G1270,NA()))","v":{"$error":"#N/A"}},"","","",{"$f":"IF(C719<>\"\",Data!$M1270,\"\")","v":""},null,null,null,null,{"$f":"IF(Dashboard!$R$4=\"All\",Data!G1270,IF(Data!K1270=Dashboard!$R$4,Data!G1270,NA()))","v":{"$error":"#N/A"}},"","","",{"$f":"IF(L719<>\"\",Data!$M1270,\"\")","v":""},null,null,null,null,{"$f":"IF(OR(Dashboard!$P$4=\"All\",Dashboard!$R$4=\"All\"),NA(),IF(OR(Data!K1270<>Dashboard!$P$4,Data!K1270<>Dashboard!$R$4),Data!G1270,NA()))","v":140000}]
[null,{"$f":"IF(Dashboard!$P$4=\"All\",Data!G1271,IF(Data!K1271=Dashboard!$P$4,Data!G1271,NA()))","v":{"$error":"#N/A"}},"","","",{"$f":"IF(C720<>\"\",Data!$M1271,\"\")","v":""},null,null,null,null,{"$f":"IF(Dashboard!$R$4=\"All\",Data!G1271,IF(Data!K1271=Dashboard!$R$4,Data!G1271,NA()))","v":{"$error":"#N/A"}},"","","",{"$f":"IF(L720<>\"\",Data!$M1271,\"\")","v":""},null,null,null,null,{"$f":"IF(OR(Dashboard!$P$4=\"All\",Dashboard!$R$4=\"All\"),NA(),IF(OR(Data!K1271<>Dashboard!$P$4,Data!K1271<>Dashboard!$R$4),Data!G1271,NA()))","v":12000}]
[null,{"$f":"IF(Dashboard!$P$4=\"All\",Data!G1272,IF(Data!K1272=Dashboard!$P$4,Data!G1272,NA()))","v":{"$error":"#N/A"}},"","","",{"$f":"IF(C721<>\"\",Data!$M1272,\"\")","v":""},null,null,null,null,{"$f":"IF(Dashboard!$R$4=\"All\",Data!G1272,IF(Data!K1272=Dashboard!$R$4,Data!G1272,NA()))","v":{"$error":"#N/A"}},"","","",{"$f":"IF(L721<>\"\",Data!$M1272,\"\")","v":""},null,null,null,null,{"$f":"IF(OR(Dashboard!$P$4=\"All\",Dashboard!$R$4=\"All\"),NA(),IF(OR(Data!K1272<>Dashboard!$P$4,Data!K1272<>Dashboard!$R$4),Data!G1272,NA()))","v":38111.983169748237}]
[null,{"$f":"IF(Dashboard!$P$4=\"All\",Data!G1273,IF(Data!K1273=Dashboard!$P$4,Data!G1273,NA()))","v":{"$error":"#N/A"}},"","","",{"$f":"IF(C722<>\"\",Data!$M1273,\"\")","v":""},null,null,null,null,{"$f":"IF(Dashboard!$R$4=\"All\",Data!G1273,IF(Data!K1273=Dashboard!$R$4,Data!G1273,NA()))","v":{"$error":"#N/A"}},"","","",{"$f":"IF(L722<>\"\",Data!$M1273,\"\")","v":""},null,null,null,null,{"$f":"IF(OR(Dashboard!$P$4=\"All\",Dashboard!$R$4=\"All\"),NA(),IF(OR(Data!K1273<>Dashboard!$P$4,Data!K1273<>Dashboard!$R$4),Data!G1273,NA()))","v":10684.750012465542}]
[null,{"$f":"IF(Dashboard!$P$4=\"All\",Data!G1274,IF(Data!K1274=Dashboard!$P$4,Data!G1274,NA()))","v":{"$error":"#N/A"}},"","","",{"$f":"IF(C723<>\"\",Data!$M1274,\"\")","v":""},null,null,null,null,{"$f":"IF(Dashboard!$R$4=\"All\",Data!G1274,IF(Data!K1274=Dashboard!$R$4,Data!G1274,NA()))","v":{"$error":"#N/A"}},"","","",{"$f":"IF(L723<>\"\",Data!$M1274,\"\")","v":""},null,null,null,null,{"$f":"IF(OR(Dashboard!$P$4=\"All\",Dashboard!$R$4=\"All\"),NA(),IF(OR(Data!K1274<>Dashboard!$P$4,Data!K1274<>Dashboard!$R$4),Data!G1274,NA()))","v":6232.7708406048987}]
[null,{"$f":"IF(Dashboard!$P$4=\"All\",Data!G1275,IF(Data!K1275=Dashboard!$P$4,Data!G1275,NA()))","v":{"$error":"#N/A"}},"","","",{"$f":"IF(C724<>\"\",Data!$M1275,\"\")","v":""},null,null,null,null,{"$f":"IF(Dashboard!$R$4=\"All\",Data!G1275,IF(Data!K1275=Dashboard!$R$4,Data!G1275,NA()))","v":{"$error":"#N/A"}},"","","",{"$f":"IF(L724<>\"\",Data!$M1275,\"\")","v":""},null,null,null,null,{"$f":"IF(OR(Dashboard!$P$4=\"All\",Dashboard!$R$4=\"All\"),NA(),IF(OR(Data!K1275<>Dashboard!$P$4,Data!K1275<>Dashboard!$R$4),Data!G1275,NA()))","v":45000}]
[null,{"$f":"IF(Dashboard!$P$4=\"All\",Data!G1276,IF(Data!K1276=Dashboard!$P$4,Data!G1276,NA()))","v":{"$error":"#N/A"}},"","","",{"$f":"IF(C725<>\"\",Data!$M1276,\"\")","v":""},null,null,null,null,{"$f":"IF(Dashboard!$R$4=\"All\",Data!G1276,IF(Data!K1276=Dashboard!$R$4,Data!G1276,NA()))","v":{"$error":"#N/A"}},"","","",{"$f":"IF(L725<>\"\",Data!$M1276,\"\")","v":""},null,null,null,null,{"$f":"IF(OR(Dashboard!$P$4=\"All\",Dashboard!$R$4=\"All\"),NA(),IF(OR(Data!K1276<>Dashboard!$P$4,Data!K1276<>Dashboard!$R$4),Data!G1276,NA()))","v":80000}]
[null,{"$f":"IF(Dashboard!$P$4=\"All\",Data!G1277,IF(Data!K1277=Dashboard!$P$4,Data!G1277,NA()))","v":{"$error":"#N/A"}},"","","",{"$f":"IF(C726<>\"\",Data!$M1277,\"\")","v":""},null,null,null,null,{"$f":"IF(Dashboard!$R$4=\"All\",Data!G1277,IF(Data!K1277=Dashboard!$R$4,Data!G1277,NA()))","v":{"$error":"#N/A"}},"","","",{"$f":"IF(L726<>\"\",Data!$M1277,\"\")","v":""},null,null,null,null,{"$f":"IF(OR(Dashboard!$P$4=\"All\",Dashboard!$R$4=\"All\"),NA(),IF(OR(Data!K1277<>Dashboard!$P$4,Data!K1277<>Dashboard!$R$4),Data!G1277,NA()))","v":26711.875031163851}]
[null,{"$f":"IF(Dashboard!$P$4=\"All\",Data!G1278,IF(Data!K1278=Dashboard!$P$4,Data!G1278,NA()))","v":{"$error":"#N/A"}},"","","",{"$f":"IF(C727<>\"\",Data!$M1278,\"\")","v":""},null,null,null,null,{"$f":"IF(Dashboard!$R$4=\"All\",Data!G1278,IF(Data!K1278=Dashboard!$R$4,Data!G1278,NA()))","v":{"$error":"#N/A"}},"","","",{"$f":"IF(L727<>\"\",Data!$M1278,\"\")","v":""},null,null,null,null,{"$f":"IF(OR(Dashboard!$P$4=\"All\",Dashboard!$R$4=\"All\"),NA(),IF(OR(Data!K1278<>Dashboard!$P$4,Data!K1278<>Dashboard!$R$4),Data!G1278,NA()))","v":100000}]
[null,{"$f":"IF(Dashboard!$P$4=\"All\",Data!G1279,IF(Data!K1279=Dashboard!$P$4,Data!G1279,NA()))","v":{"$error":"#N/A"}},"","","",{"$f":"IF(C728<>\"\",Data!$M1279,\"\")","v":""},null,null,null,null,{"$f":"IF(Dashboard!$R$4=\"All\",Data!G1279,IF(Data!K1279=Dashboard!$R$4,Data!G1279,NA()))","v":{"$error":"#N/A"}},"","","",{"$f":"IF(L728<>\"\",Data!$M1279,\"\")","v":""},null,null,null,null,{"$f":"IF(OR(Dashboard!$P$4=\"All\",Dashboard!$R$4=\"All\"),NA(),IF(OR(Data!K1279<>Dashboard!$P$4,Data!K1279<>Dashboard!$R$4),Data!G1279,NA()))","v":69353.856635379227}]
[null,{"$f":"IF(Dashboard!$P$4=\"All\",Data!G1280,IF(Data!K1280=Dashboard!$P$4,Data!G1280,NA()))","v":{"$error":"#N/A"}},"","","",{"$f":"IF(C729<>\"\",Data!$M1280,\"\")","v":""},null,null,null,null,{"$f":"IF(Dashboard!$R$4=\"All\",Data!G1280,IF(Data!K1280=Dashboard!$R$4,Data!G1280,NA()))","v":{"$error":"#N/A"}},"","","",{"$f":"IF(L729<>\"\",Data!$M1280,\"\")","v":""},null,null,null,null,{"$f":"IF(OR(Dashboard!$P$4=\"All\",Dashboard!$R$4=\"All\"),NA(),IF(OR(Data!K1280<>Dashboard!$P$4,Data!K1280<>Dashboard!$R$4),Data!G1280,NA()))","v":49975.573163729154}]
[null,{"$f":"IF(Dashboard!$P$4=\"All\",Data!G1281,IF(Data!K1281=Dashboard!$P$4,Data!G1281,NA()))","v":{"$error":"#N/A"}},"","","",{"$f":"IF(C730<>\"\",Data!$M1281,\"\")","v":""},null,null,null,null,{"$f":"IF(Dashboard!$R$4=\"All\",Data!G1281,IF(Data!K1281=Dashboard!$R$4,Data!G1281,NA()))","v":{"$error":"#N/A"}},"","","",{"$f":"IF(L730<>\"\",Data!$M1281,\"\")","v":""},null,null,null,null,{"$f":"IF(OR(Dashboard!$P$4=\"All\",Dashboard!$R$4=\"All\"),NA(),IF(OR(Data!K1281<>Dashboard!$P$4,Data!K1281<>Dashboard!$R$4),Data!G1281,NA()))","v":10239.552095279476}]
[null,{"$f":"IF(Dashboard!$P$4=\"All\",Data!G1282,IF(Data!K1282=Dashboard!$P$4,Data!G1282,NA()))","v":{"$error":"#N/A"}},"","","",{"$f":"IF(C731<>\"\",Data!$M1282,\"\")","v":""},null,null,null,null,{"$f":"IF(Dashboard!$R$4=\"All\",Data!G1282,IF(Data!K1282=Dashboard!$R$4,Data!G1282,NA()))","v":{"$error":"#N/A"}},"","","",{"$f":"IF(L731<>\"\",Data!$M1282,\"\")","v":""},null,null,null,null,{"$f":"IF(OR(Dashboard!$P$4=\"All\",Dashboard!$R$4=\"All\"),NA(),IF(OR(Data!K1282<>Dashboard!$P$4,Data!K1282<>Dashboard!$R$4),Data!G1282,NA()))","v":8903.9583437212841}]
[null,{"$f":"IF(Dashboard!$P$4=\"All\",Data!G1283,IF(Data!K1283=Dashboard!$P$4,Data!G1283,NA()))","v":{"$error":"#N/A"}},"","","",{"$f":"IF(C732<>\"\",Data!$M1283,\"\")","v":""},null,null,null,null,{"$f":"IF(Dashboard!$R$4=\"All\",Data!G1283,IF(Data!K1283=Dashboard!$R$4,Data!G1283,NA()))","v":{"$error":"#N/A"}},"","","",{"$f":"IF(L732<>\"\",Data!$M1283,\"\")","v":""},null,null,null,null,{"$f":"IF(OR(Dashboard!$P$4=\"All\",Dashboard!$R$4=\"All\"),NA(),IF(OR(Data!K1283<>Dashboard!$P$4,Data!K1283<>Dashboard!$R$4),Data!G1283,NA()))","v":36000}]
[null,{"$f":"IF(Dashboard!$P$4=\"All\",Data!G1284,IF(Data!K1284=Dashboard!$P$4,Data!G1284,NA()))","v":{"$error":"#N/A"}},"","","",{"$f":"IF(C733<>\"\",Data!$M1284,\"\")","v":""},null,null,null,null,{"$f":"IF(Dashboard!$R$4=\"All\",Data!G1284,IF(Data!K1284=Dashboard!$R$4,Data!G1284,NA()))","v":{"$error":"#N/A"}},"","","",{"$f":"IF(L733<>\"\",Data!$M1284,\"\")","v":""},null,null,null,null,{"$f":"IF(OR(Dashboard!$P$4=\"All\",Dashboard!$R$4=\"All\"),NA(),IF(OR(Data!K1284<>Dashboard!$P$4,Data!K1284<>Dashboard!$R$4),Data!G1284,NA()))","v":3739.6625043629392}]
[null,{"$f":"IF(Dashboard!$P$4=\"All\",Data!G1285,IF(Data!K1285=Dashboard!$P$4,Data!G1285,NA()))","v":61614.372791092981},61614.372791092981,"","",{"$f":"IF(C734<>\"\",Data!$M1285,\"\")","v":8},null,null,null,null,{"$f":"IF(Dashboard!$R$4=\"All\",Data!G1285,IF(Data!K1285=Dashboard!$R$4,Data!G1285,NA()))","v":{"$error":"#N/A"}},"","","",{"$f":"IF(L734<>\"\",Data!$M1285,\"\")","v":""},null,null,null,null,{"$f":"IF(OR(Dashboard!$P$4=\"All\",Dashboard!$R$4=\"All\"),NA(),IF(OR(Data!K1285<>Dashboard!$P$4,Data!K1285<>Dashboard!$R$4),Data!G1285,NA()))","v":61614.372791092981}]
[null,{"$f":"IF(Dashboard!$P$4=\"All\",Data!G1286,IF(Data!K1286=Dashboard!$P$4,Data!G1286,NA()))","v":{"$error":"#N/A"}},"","","",{"$f":"IF(C735<>\"\",Data!$M1286,\"\")","v":""},null,null,null,null,{"$f":"IF(Dashboard!$R$4=\"All\",Data!G1286,IF(Data!K1286=Dashboard!$R$4,Data!G1286,NA()))","v":{"$error":"#N/A"}},"","","",{"$f":"IF(L735<>\"\",Data!$M1286,\"\")","v":""},null,null,null,null,{"$f":"IF(OR(Dashboard!$P$4=\"All\",Dashboard!$R$4=\"All\"),NA(),IF(OR(Data!K1286<>Dashboard!$P$4,Data!K1286<>Dashboard!$R$4),Data!G1286,NA()))","v":3561.5833374885137}]
[null,{"$f":"IF(Dashboard!$P$4=\"All\",Data!G1287,IF(Data!K1287=Dashboard!$P$4,Data!G1287,NA()))","v":{"$error":"#N/A"}},"","","",{"$f":"IF(C736<>\"\",Data!$M1287,\"\")","v":""},null,null,null,null,{"$f":"IF(Dashboard!$R$4=\"All\",Data!G1287,IF(Data!K1287=Dashboard!$R$4,Data!G1287,NA()))","v":{"$error":"#N/A"}},"","","",{"$f":"IF(L736<>\"\",Data!$M1287,\"\")","v":""},null,null,null,null,{"$f":"IF(OR(Dashboard!$P$4=\"All\",Dashboard!$R$4=\"All\"),NA(),IF(OR(Data!K1287<>Dashboard!$P$4,Data!K1287<>Dashboard!$R$4),Data!G1287,NA()))","v":6410.8500074793246}]
[null,{"$f":"IF(Dashboard!$P$4=\"All\",Data!G1288,IF(Data!K1288=Dashboard!$P$4,Data!G1288,NA()))","v":36206.384011260823},36206.384011260823,"",36206.384011260823,{"$f":"IF(C737<>\"\",Data!$M1288,\"\")","v":5},null,null,null,null,{"$f":"IF(Dashboard!$R$4=\"All\",Data!G1288,IF(Data!K1288=Dashboard!$R$4,Data!G1288,NA()))","v":{"$error":"#N/A"}},"","","",{"$f":"IF(L737<>\"\",Data!$M1288,\"\")","v":""},null,null,null,null,{"$f":"IF(OR(Dashboard!$P$4=\"All\",Dashboard!$R$4=\"All\"),NA(),IF(OR(Data!K1288<>Dashboard!$P$4,Data!K1288<>Dashboard!$R$4),Data!G1288,NA()))","v":36206.384011260823}]
[null,{"$f":"IF(Dashboard!$P$4=\"All\",Data!G1289,IF(Data!K1289=Dashboard!$P$4,Data!G1289,NA()))","v":{"$error":"#N/A"}},"","","",{"$f":"IF(C738<>\"\",Data!$M1289,\"\")","v":""},null,null,null,null,{"$f":"IF(Dashboard!$R$4=\"All\",Data!G1289,IF(Data!K1289=Dashboard!$R$4,Data!G1289,NA()))","v":{"$error":"#N/A"}},"","","",{"$f":"IF(L738<>\"\",Data!$M1289,\"\")","v":""},null,null,null,null,{"$f":"IF(OR(Dashboard!$P$4=\"All\",Dashboard!$R$4=\"All\"),NA(),IF(OR(Data!K1289<>Dashboard!$P$4,Data!K1289<>Dashboard!$R$4),Data!G1289,NA()))","v":13500}]
[null,{"$f":"IF(Dashboard!$P$4=\"All\",Data!G1290,IF(Data!K1290=Dashboard!$P$4,Data!G1290,NA()))","v":{"$error":"#N/A"}},"","","",{"$f":"IF(C739<>\"\",Data!$M1290,\"\")","v":""},null,null,null,null,{"$f":"IF(Dashboard!$R$4=\"All\",Data!G1290,IF(Data!K1290=Dashboard!$R$4,Data!G1290,NA()))","v":{"$error":"#N/A"}},"","","",{"$f":"IF(L739<>\"\",Data!$M1290,\"\")","v":""},null,null,null,null,{"$f":"IF(OR(Dashboard!$P$4=\"All\",Dashboard!$R$4=\"All\"),NA(),IF(OR(Data!K1290<>Dashboard!$P$4,Data!K1290<>Dashboard!$R$4),Data!G1290,NA()))","v":3000}]
[null,{"$f":"IF(Dashboard!$P$4=\"All\",Data!G1291,IF(Data!K1291=Dashboard!$P$4,Data!G1291,NA()))","v":{"$error":"#N/A"}},"","","",{"$f":"IF(C740<>\"\",Data!$M1291,\"\")","v":""},null,null,null,null,{"$f":"IF(Dashboard!$R$4=\"All\",Data!G1291,IF(Data!K1291=Dashboard!$R$4,Data!G1291,NA()))","v":{"$error":"#N/A"}},"","","",{"$f":"IF(L740<>\"\",Data!$M1291,\"\")","v":""},null,null,null,null,{"$f":"IF(OR(Dashboard!$P$4=\"All\",Dashboard!$R$4=\"All\"),NA(),IF(OR(Data!K1291<>Dashboard!$P$4,Data!K1291<>Dashboard!$R$4),Data!G1291,NA()))","v":21369.500024931083}]
[null,{"$f":"IF(Dashboard!$P$4=\"All\",Data!G1292,IF(Data!K1292=Dashboard!$P$4,Data!G1292,NA()))","v":{"$error":"#N/A"}},"","","",{"$f":"IF(C741<>\"\",Data!$M1292,\"\")","v":""},null,null,null,null,{"$f":"IF(Dashboard!$R$4=\"All\",Data!G1292,IF(Data!K1292=Dashboard!$R$4,Data!G1292,NA()))","v":{"$error":"#N/A"}},"","","",{"$f":"IF(L741<>\"\",Data!$M1292,\"\")","v":""},null,null,null,null,{"$f":"IF(OR(Dashboard!$P$4=\"All\",Dashboard!$R$4=\"All\"),NA(),IF(OR(Data!K1292<>Dashboard!$P$4,Data!K1292<>Dashboard!$R$4),Data!G1292,NA()))","v":10684.750012465542}]
[null,{"$f":"IF(Dashboard!$P$4=\"All\",Data!G1293,IF(Data!K1293=Dashboard!$P$4,Data!G1293,NA()))","v":{"$error":"#N/A"}},"","","",{"$f":"IF(C742<>\"\",Data!$M1293,\"\")","v":""},null,null,null,null,{"$f":"IF(Dashboard!$R$4=\"All\",Data!G1293,IF(Data!K1293=Dashboard!$R$4,Data!G1293,NA()))","v":{"$error":"#N/A"}},"","","",{"$f":"IF(L742<>\"\",Data!$M1293,\"\")","v":""},null,null,null,null,{"$f":"IF(OR(Dashboard!$P$4=\"All\",Dashboard!$R$4=\"All\"),NA(),IF(OR(Data!K1293<>Dashboard!$P$4,Data!K1293<>Dashboard!$R$4),Data!G1293,NA()))","v":176585.52201983347}]
[null,{"$f":"IF(Dashboard!$P$4=\"All\",Data!G1294,IF(Data!K1294=Dashboard!$P$4,Data!G1294,NA()))","v":{"$error":"#N/A"}},"","","",{"$f":"IF(C743<>\"\",Data!$M1294,\"\")","v":""},null,null,null,null,{"$f":"IF(Dashboard!$R$4=\"All\",Data!G1294,IF(Data!K1294=Dashboard!$R$4,Data!G1294,NA()))","v":{"$error":"#N/A"}},"","","",{"$f":"IF(L743<>\"\",Data!$M1294,\"\")","v":""},null,null,null,null,{"$f":"IF(OR(Dashboard!$P$4=\"All\",Dashboard!$R$4=\"All\"),NA(),IF(OR(Data!K1294<>Dashboard!$P$4,Data!K1294<>Dashboard!$R$4),Data!G1294,NA()))","v":54627.175876639136}]
[null,{"$f":"IF(Dashboard!$P$4=\"All\",Data!G1295,IF(Data!K1295=Dashboard!$P$4,Data!G1295,NA()))","v":{"$error":"#N/A"}},"","","",{"$f":"IF(C744<>\"\",Data!$M1295,\"\")","v":""},null,null,null,null,{"$f":"IF(Dashboard!$R$4=\"All\",Data!G1295,IF(Data!K1295=Dashboard!$R$4,Data!G1295,NA()))","v":{"$error":"#N/A"}},"","","",{"$f":"IF(L744<>\"\",Data!$M1295,\"\")","v":""},null,null,null,null,{"$f":"IF(OR(Dashboard!$P$4=\"All\",Dashboard!$R$4=\"All\"),NA(),IF(OR(Data!K1295<>Dashboard!$P$4,Data!K1295<>Dashboard!$R$4),Data!G1295,NA()))","v":30489.586535798586}]
[null,{"$f":"IF(Dashboard!$P$4=\"All\",Data!G1296,IF(Data!K1296=Dashboard!$P$4,Data!G1296,NA()))","v":{"$error":"#N/A"}},"","","",{"$f":"IF(C745<>\"\",Data!$M1296,\"\")","v":""},null,null,null,null,{"$f":"IF(Dashboard!$R$4=\"All\",Data!G1296,IF(Data!K1296=Dashboard!$R$4,Data!G1296,NA()))","v":{"$error":"#N/A"}},"","","",{"$f":"IF(L745<>\"\",Data!$M1296,\"\")","v":""},null,null,null,null,{"$f":"IF(OR(Dashboard!$P$4=\"All\",Dashboard!$R$4=\"All\"),NA(),IF(OR(Data!K1296<>Dashboard!$P$4,Data!K1296<>Dashboard!$R$4),Data!G1296,NA()))","v":5591.6858398569666}]
[null,{"$f":"IF(Dashboard!$P$4=\"All\",Data!G1297,IF(Data!K1297=Dashboard!$P$4,Data!G1297,NA()))","v":{"$error":"#N/A"}},"","","",{"$f":"IF(C746<>\"\",Data!$M1297,\"\")","v":""},null,null,null,null,{"$f":"IF(Dashboard!$R$4=\"All\",Data!G1297,IF(Data!K1297=Dashboard!$R$4,Data!G1297,NA()))","v":{"$error":"#N/A"}},"","","",{"$f":"IF(L746<>\"\",Data!$M1297,\"\")","v":""},null,null,null,null,{"$f":"IF(OR(Dashboard!$P$4=\"All\",Dashboard!$R$4=\"All\"),NA(),IF(OR(Data!K1297<>Dashboard!$P$4,Data!K1297<>Dashboard!$R$4),Data!G1297,NA()))","v":82000}]
[null,{"$f":"IF(Dashboard!$P$4=\"All\",Data!G1298,IF(Data!K1298=Dashboard!$P$4,Data!G1298,NA()))","v":{"$error":"#N/A"}},"","","",{"$f":"IF(C747<>\"\",Data!$M1298,\"\")","v":""},null,null,null,null,{"$f":"IF(Dashboard!$R$4=\"All\",Data!G1298,IF(Data!K1298=Dashboard!$R$4,Data!G1298,NA()))","v":{"$error":"#N/A"}},"","","",{"$f":"IF(L747<>\"\",Data!$M1298,\"\")","v":""},null,null,null,null,{"$f":"IF(OR(Dashboard!$P$4=\"All\",Dashboard!$R$4=\"All\"),NA(),IF(OR(Data!K1298<>Dashboard!$P$4,Data!K1298<>Dashboard!$R$4),Data!G1298,NA()))","v":10000}]
[null,{"$f":"IF(Dashboard!$P$4=\"All\",Data!G1299,IF(Data!K1299=Dashboard!$P$4,Data!G1299,NA()))","v":{"$error":"#N/A"}},"","","",{"$f":"IF(C748<>\"\",Data!$M1299,\"\")","v":""},null,null,null,null,{"$f":"IF(Dashboard!$R$4=\"All\",Data!G1299,IF(Data!K1299=Dashboard!$R$4,Data!G1299,NA()))","v":{"$error":"#N/A"}},"","","",{"$f":"IF(L748<>\"\",Data!$M1299,\"\")","v":""},null,null,null,null,{"$f":"IF(OR(Dashboard!$P$4=\"All\",Dashboard!$R$4=\"All\"),NA(),IF(OR(Data!K1299<>Dashboard!$P$4,Data!K1299<>Dashboard!$R$4),Data!G1299,NA()))","v":9000}]
[null,{"$f":"IF(Dashboard!$P$4=\"All\",Data!G1300,IF(Data!K1300=Dashboard!$P$4,Data!G1300,NA()))","v":{"$error":"#N/A"}},"","","",{"$f":"IF(C749<>\"\",Data!$M1300,\"\")","v":""},null,null,null,null,{"$f":"IF(Dashboard!$R$4=\"All\",Data!G1300,IF(Data!K1300=Dashboard!$R$4,Data!G1300,NA()))","v":{"$error":"#N/A"}},"","","",{"$f":"IF(L749<>\"\",Data!$M1300,\"\")","v":""},null,null,null,null,{"$f":"IF(OR(Dashboard!$P$4=\"All\",Dashboard!$R$4=\"All\"),NA(),IF(OR(Data!K1300<>Dashboard!$P$4,Data!K1300<>Dashboard!$R$4),Data!G1300,NA()))","v":9000}]
[null,{"$f":"IF(Dashboard!$P$4=\"All\",Data!G1301,IF(Data!K1301=Dashboard!$P$4,Data!G1301,NA()))","v":{"$error":"#N/A"}},"","","",{"$f":"IF(C750<>\"\",Data!$M1301,\"\")","v":""},null,null,null,null,{"$f":"IF(Dashboard!$R$4=\"All\",Data!G1301,IF(Data!K1301=Dashboard!$R$4,Data!G1301,NA()))","v":{"$error":"#N/A"}},"","","",{"$f":"IF(L750<>\"\",Data!$M1301,\"\")","v":""},null,null,null,null,{"$f":"IF(OR(Dashboard!$P$4=\"All\",Dashboard!$R$4=\"All\"),NA(),IF(OR(Data!K1301<>Dashboard!$P$4,Data!K1301<>Dashboard!$R$4),Data!G1301,NA()))","v":11753.225013712095}]
[null,{"$f":"IF(Dashboard!$P$4=\"All\",Data!G1302,IF(Data!K1302=Dashboard!$P$4,Data!G1302,NA()))","v":{"$error":"#N/A"}},"","","",{"$f":"IF(C751<>\"\",Data!$M1302,\"\")","v":""},null,null,null,null,{"$f":"IF(Dashboard!$R$4=\"All\",Data!G1302,IF(Data!K1302=Dashboard!$R$4,Data!G1302,NA()))","v":{"$error":"#N/A"}},"","","",{"$f":"IF(L751<>\"\",Data!$M1302,\"\")","v":""},null,null,null,null,{"$f":"IF(OR(Dashboard!$P$4=\"All\",Dashboard!$R$4=\"All\"),NA(),IF(OR(Data!K1302<>Dashboard!$P$4,Data!K1302<>Dashboard!$R$4),Data!G1302,NA()))","v":3632.815004238284}]
[null,{"$f":"IF(Dashboard!$P$4=\"All\",Data!G1303,IF(Data!K1303=Dashboard!$P$4,Data!G1303,NA()))","v":95279.957924370581},95279.957924370581,95279.957924370581,"",{"$f":"IF(C752<>\"\",Data!$M1303,\"\")","v":16},null,null,null,null,{"$f":"IF(Dashboard!$R$4=\"All\",Data!G1303,IF(Data!K1303=Dashboard!$R$4,Data!G1303,NA()))","v":{"$error":"#N/A"}},"","","",{"$f":"IF(L752<>\"\",Data!$M1303,\"\")","v":""},null,null,null,null,{"$f":"IF(OR(Dashboard!$P$4=\"All\",Dashboard!$R$4=\"All\"),NA(),IF(OR(Data!K1303<>Dashboard!$P$4,Data!K1303<>Dashboard!$R$4),Data!G1303,NA()))","v":95279.957924370581}]
[null,{"$f":"IF(Dashboard!$P$4=\"All\",Data!G1304,IF(Data!K1304=Dashboard!$P$4,Data!G1304,NA()))","v":{"$error":"#N/A"}},"","","",{"$f":"IF(C753<>\"\",Data!$M1304,\"\")","v":""},null,null,null,null,{"$f":"IF(Dashboard!$R$4=\"All\",Data!G1304,IF(Data!K1304=Dashboard!$R$4,Data!G1304,NA()))","v":70928.022243027779},70928.022243027779,"","",{"$f":"IF(L753<>\"\",Data!$M1304,\"\")","v":4},null,null,null,null,{"$f":"IF(OR(Dashboard!$P$4=\"All\",Dashboard!$R$4=\"All\"),NA(),IF(OR(Data!K1304<>Dashboard!$P$4,Data!K1304<>Dashboard!$R$4),Data!G1304,NA()))","v":70928.022243027779}]
[null,{"$f":"IF(Dashboard!$P$4=\"All\",Data!G1305,IF(Data!K1305=Dashboard!$P$4,Data!G1305,NA()))","v":{"$error":"#N/A"}},"","","",{"$f":"IF(C754<>\"\",Data!$M1305,\"\")","v":""},null,null,null,null,{"$f":"IF(Dashboard!$R$4=\"All\",Data!G1305,IF(Data!K1305=Dashboard!$R$4,Data!G1305,NA()))","v":{"$error":"#N/A"}},"","","",{"$f":"IF(L754<>\"\",Data!$M1305,\"\")","v":""},null,null,null,null,{"$f":"IF(OR(Dashboard!$P$4=\"All\",Dashboard!$R$4=\"All\"),NA(),IF(OR(Data!K1305<>Dashboard!$P$4,Data!K1305<>Dashboard!$R$4),Data!G1305,NA()))","v":52086.37699865592}]
[null,{"$f":"IF(Dashboard!$P$4=\"All\",Data!G1306,IF(Data!K1306=Dashboard!$P$4,Data!G1306,NA()))","v":{"$error":"#N/A"}},"","","",{"$f":"IF(C755<>\"\",Data!$M1306,\"\")","v":""},null,null,null,null,{"$f":"IF(Dashboard!$R$4=\"All\",Data!G1306,IF(Data!K1306=Dashboard!$R$4,Data!G1306,NA()))","v":{"$error":"#N/A"}},"","","",{"$f":"IF(L755<>\"\",Data!$M1306,\"\")","v":""},null,null,null,null,{"$f":"IF(OR(Dashboard!$P$4=\"All\",Dashboard!$R$4=\"All\"),NA(),IF(OR(Data!K1306<>Dashboard!$P$4,Data!K1306<>Dashboard!$R$4),Data!G1306,NA()))","v":4897.177089046706}]
[null,{"$f":"IF(Dashboard!$P$4=\"All\",Data!G1307,IF(Data!K1307=Dashboard!$P$4,Data!G1307,NA()))","v":{"$error":"#N/A"}},"","","",{"$f":"IF(C756<>\"\",Data!$M1307,\"\")","v":""},null,null,null,null,{"$f":"IF(Dashboard!$R$4=\"All\",Data!G1307,IF(Data!K1307=Dashboard!$R$4,Data!G1307,NA()))","v":{"$error":"#N/A"}},"","","",{"$f":"IF(L756<>\"\",Data!$M1307,\"\")","v":""},null,null,null,null,{"$f":"IF(OR(Dashboard!$P$4=\"All\",Dashboard!$R$4=\"All\"),NA(),IF(OR(Data!K1307<>Dashboard!$P$4,Data!K1307<>Dashboard!$R$4),Data!G1307,NA()))","v":63807.047488395103}]
[null,{"$f":"IF(Dashboard!$P$4=\"All\",Data!G1308,IF(Data!K1308=Dashboard!$P$4,Data!G1308,NA()))","v":{"$error":"#N/A"}},"","","",{"$f":"IF(C757<>\"\",Data!$M1308,\"\")","v":""},null,null,null,null,{"$f":"IF(Dashboard!$R$4=\"All\",Data!G1308,IF(Data!K1308=Dashboard!$R$4,Data!G1308,NA()))","v":{"$error":"#N/A"}},"","","",{"$f":"IF(L757<>\"\",Data!$M1308,\"\")","v":""},null,null,null,null,{"$f":"IF(OR(Dashboard!$P$4=\"All\",Dashboard!$R$4=\"All\"),NA(),IF(OR(Data!K1308<>Dashboard!$P$4,Data!K1308<>Dashboard!$R$4),Data!G1308,NA()))","v":24000}]
[null,{"$f":"IF(Dashboard!$P$4=\"All\",Data!G1309,IF(Data!K1309=Dashboard!$P$4,Data!G1309,NA()))","v":{"$error":"#N/A"}},"","","",{"$f":"IF(C758<>\"\",Data!$M1309,\"\")","v":""},null,null,null,null,{"$f":"IF(Dashboard!$R$4=\"All\",Data!G1309,IF(Data!K1309=Dashboard!$R$4,Data!G1309,NA()))","v":{"$error":"#N/A"}},"","","",{"$f":"IF(L758<>\"\",Data!$M1309,\"\")","v":""},null,null,null,null,{"$f":"IF(OR(Dashboard!$P$4=\"All\",Dashboard!$R$4=\"All\"),NA(),IF(OR(Data!K1309<>Dashboard!$P$4,Data!K1309<>Dashboard!$R$4),Data!G1309,NA()))","v":60000}]
[null,{"$f":"IF(Dashboard!$P$4=\"All\",Data!G1310,IF(Data!K1310=Dashboard!$P$4,Data!G1310,NA()))","v":{"$error":"#N/A"}},"","","",{"$f":"IF(C759<>\"\",Data!$M1310,\"\")","v":""},null,null,null,null,{"$f":"IF(Dashboard!$R$4=\"All\",Data!G1310,IF(Data!K1310=Dashboard!$R$4,Data!G1310,NA()))","v":{"$error":"#N/A"}},"","","",{"$f":"IF(L759<>\"\",Data!$M1310,\"\")","v":""},null,null,null,null,{"$f":"IF(OR(Dashboard!$P$4=\"All\",Dashboard!$R$4=\"All\"),NA(),IF(OR(Data!K1310<>Dashboard!$P$4,Data!K1310<>Dashboard!$R$4),Data!G1310,NA()))","v":5342.3750062327708}]
[null,{"$f":"IF(Dashboard!$P$4=\"All\",Data!G1311,IF(Data!K1311=Dashboard!$P$4,Data!G1311,NA()))","v":{"$error":"#N/A"}},"","","",{"$f":"IF(C760<>\"\",Data!$M1311,\"\")","v":""},null,null,null,null,{"$f":"IF(Dashboard!$R$4=\"All\",Data!G1311,IF(Data!K1311=Dashboard!$R$4,Data!G1311,NA()))","v":{"$error":"#N/A"}},"","","",{"$f":"IF(L760<>\"\",Data!$M1311,\"\")","v":""},null,null,null,null,{"$f":"IF(OR(Dashboard!$P$4=\"All\",Dashboard!$R$4=\"All\"),NA(),IF(OR(Data!K1311<>Dashboard!$P$4,Data!K1311<>Dashboard!$R$4),Data!G1311,NA()))","v":8903.9583437212841}]
[null,{"$f":"IF(Dashboard!$P$4=\"All\",Data!G1312,IF(Data!K1312=Dashboard!$P$4,Data!G1312,NA()))","v":{"$error":"#N/A"}},"","","",{"$f":"IF(C761<>\"\",Data!$M1312,\"\")","v":""},null,null,null,null,{"$f":"IF(Dashboard!$R$4=\"All\",Data!G1312,IF(Data!K1312=Dashboard!$R$4,Data!G1312,NA()))","v":40980.635073749385},40980.635073749385,"","",{"$f":"IF(L761<>\"\",Data!$M1312,\"\")","v":2},null,null,null,null,{"$f":"IF(OR(Dashboard!$P$4=\"All\",Dashboard!$R$4=\"All\"),NA(),IF(OR(Data!K1312<>Dashboard!$P$4,Data!K1312<>Dashboard!$R$4),Data!G1312,NA()))","v":40980.635073749385}]
[null,{"$f":"IF(Dashboard!$P$4=\"All\",Data!G1313,IF(Data!K1313=Dashboard!$P$4,Data!G1313,NA()))","v":{"$error":"#N/A"}},"","","",{"$f":"IF(C762<>\"\",Data!$M1313,\"\")","v":""},null,null,null,null,{"$f":"IF(Dashboard!$R$4=\"All\",Data!G1313,IF(Data!K1313=Dashboard!$R$4,Data!G1313,NA()))","v":{"$error":"#N/A"}},"","","",{"$f":"IF(L762<>\"\",Data!$M1313,\"\")","v":""},null,null,null,null,{"$f":"IF(OR(Dashboard!$P$4=\"All\",Dashboard!$R$4=\"All\"),NA(),IF(OR(Data!K1313<>Dashboard!$P$4,Data!K1313<>Dashboard!$R$4),Data!G1313,NA()))","v":10684.750012465542}]
[null,{"$f":"IF(Dashboard!$P$4=\"All\",Data!G1314,IF(Data!K1314=Dashboard!$P$4,Data!G1314,NA()))","v":{"$error":"#N/A"}},"","","",{"$f":"IF(C763<>\"\",Data!$M1314,\"\")","v":""},null,null,null,null,{"$f":"IF(Dashboard!$R$4=\"All\",Data!G1314,IF(Data!K1314=Dashboard!$R$4,Data!G1314,NA()))","v":{"$error":"#N/A"}},"","","",{"$f":"IF(L763<>\"\",Data!$M1314,\"\")","v":""},null,null,null,null,{"$f":"IF(OR(Dashboard!$P$4=\"All\",Dashboard!$R$4=\"All\"),NA(),IF(OR(Data!K1314<>Dashboard!$P$4,Data!K1314<>Dashboard!$R$4),Data!G1314,NA()))","v":21369.500024931083}]
[null,{"$f":"IF(Dashboard!$P$4=\"All\",Data!G1315,IF(Data!K1315=Dashboard!$P$4,Data!G1315,NA()))","v":{"$error":"#N/A"}},"","","",{"$f":"IF(C764<>\"\",Data!$M1315,\"\")","v":""},null,null,null,null,{"$f":"IF(Dashboard!$R$4=\"All\",Data!G1315,IF(Data!K1315=Dashboard!$R$4,Data!G1315,NA()))","v":{"$error":"#N/A"}},"","","",{"$f":"IF(L764<>\"\",Data!$M1315,\"\")","v":""},null,null,null,null,{"$f":"IF(OR(Dashboard!$P$4=\"All\",Dashboard!$R$4=\"All\"),NA(),IF(OR(Data!K1315<>Dashboard!$P$4,Data!K1315<>Dashboard!$R$4),Data!G1315,NA()))","v":18000}]
[null,{"$f":"IF(Dashboard!$P$4=\"All\",Data!G1316,IF(Data!K1316=Dashboard!$P$4,Data!G1316,NA()))","v":{"$error":"#N/A"}},"","","",{"$f":"IF(C765<>\"\",Data!$M1316,\"\")","v":""},null,null,null,null,{"$f":"IF(Dashboard!$R$4=\"All\",Data!G1316,IF(Data!K1316=Dashboard!$R$4,Data!G1316,NA()))","v":{"$error":"#N/A"}},"","","",{"$f":"IF(L765<>\"\",Data!$M1316,\"\")","v":""},null,null,null,null,{"$f":"IF(OR(Dashboard!$P$4=\"All\",Dashboard!$R$4=\"All\"),NA(),IF(OR(Data!K1316<>Dashboard!$P$4,Data!K1316<>Dashboard!$R$4),Data!G1316,NA()))","v":41000}]
[null,{"$f":"IF(Dashboard!$P$4=\"All\",Data!G1317,IF(Data!K1317=Dashboard!$P$4,Data!G1317,NA()))","v":{"$error":"#N/A"}},"","","",{"$f":"IF(C766<>\"\",Data!$M1317,\"\")","v":""},null,null,null,null,{"$f":"IF(Dashboard!$R$4=\"All\",Data!G1317,IF(Data!K1317=Dashboard!$R$4,Data!G1317,NA()))","v":{"$error":"#N/A"}},"","","",{"$f":"IF(L766<>\"\",Data!$M1317,\"\")","v":""},null,null,null,null,{"$f":"IF(OR(Dashboard!$P$4=\"All\",Dashboard!$R$4=\"All\"),NA(),IF(OR(Data!K1317<>Dashboard!$P$4,Data!K1317<>Dashboard!$R$4),Data!G1317,NA()))","v":28492.66669990811}]
[null,{"$f":"IF(Dashboard!$P$4=\"All\",Data!G1318,IF(Data!K1318=Dashboard!$P$4,Data!G1318,NA()))","v":{"$error":"#N/A"}},"","","",{"$f":"IF(C767<>\"\",Data!$M1318,\"\")","v":""},null,null,null,null,{"$f":"IF(Dashboard!$R$4=\"All\",Data!G1318,IF(Data!K1318=Dashboard!$R$4,Data!G1318,NA()))","v":{"$error":"#N/A"}},"","","",{"$f":"IF(L767<>\"\",Data!$M1318,\"\")","v":""},null,null,null,null,{"$f":"IF(OR(Dashboard!$P$4=\"All\",Dashboard!$R$4=\"All\"),NA(),IF(OR(Data!K1318<>Dashboard!$P$4,Data!K1318<>Dashboard!$R$4),Data!G1318,NA()))","v":49500}]
[null,{"$f":"IF(Dashboard!$P$4=\"All\",Data!G1319,IF(Data!K1319=Dashboard!$P$4,Data!G1319,NA()))","v":{"$error":"#N/A"}},"","","",{"$f":"IF(C768<>\"\",Data!$M1319,\"\")","v":""},null,null,null,null,{"$f":"IF(Dashboard!$R$4=\"All\",Data!G1319,IF(Data!K1319=Dashboard!$R$4,Data!G1319,NA()))","v":{"$error":"#N/A"}},"","","",{"$f":"IF(L768<>\"\",Data!$M1319,\"\")","v":""},null,null,null,null,{"$f":"IF(OR(Dashboard!$P$4=\"All\",Dashboard!$R$4=\"All\"),NA(),IF(OR(Data!K1319<>Dashboard!$P$4,Data!K1319<>Dashboard!$R$4),Data!G1319,NA()))","v":6600}]
[null,{"$f":"IF(Dashboard!$P$4=\"All\",Data!G1320,IF(Data!K1320=Dashboard!$P$4,Data!G1320,NA()))","v":{"$error":"#N/A"}},"","","",{"$f":"IF(C769<>\"\",Data!$M1320,\"\")","v":""},null,null,null,null,{"$f":"IF(Dashboard!$R$4=\"All\",Data!G1320,IF(Data!K1320=Dashboard!$R$4,Data!G1320,NA()))","v":110332.47904470989},110332.47904470989,110332.47904470989,"",{"$f":"IF(L769<>\"\",Data!$M1320,\"\")","v":15},null,null,null,null,{"$f":"IF(OR(Dashboard!$P$4=\"All\",Dashboard!$R$4=\"All\"),NA(),IF(OR(Data!K1320<>Dashboard!$P$4,Data!K1320<>Dashboard!$R$4),Data!G1320,NA()))","v":110332.47904470989}]
[null,{"$f":"IF(Dashboard!$P$4=\"All\",Data!G1321,IF(Data!K1321=Dashboard!$P$4,Data!G1321,NA()))","v":{"$error":"#N/A"}},"","","",{"$f":"IF(C770<>\"\",Data!$M1321,\"\")","v":""},null,null,null,null,{"$f":"IF(Dashboard!$R$4=\"All\",Data!G1321,IF(Data!K1321=Dashboard!$R$4,Data!G1321,NA()))","v":47285.348162018527},47285.348162018527,"","",{"$f":"IF(L770<>\"\",Data!$M1321,\"\")","v":6},null,null,null,null,{"$f":"IF(OR(Dashboard!$P$4=\"All\",Dashboard!$R$4=\"All\"),NA(),IF(OR(Data!K1321<>Dashboard!$P$4,Data!K1321<>Dashboard!$R$4),Data!G1321,NA()))","v":47285.348162018527}]
[null,{"$f":"IF(Dashboard!$P$4=\"All\",Data!G1322,IF(Data!K1322=Dashboard!$P$4,Data!G1322,NA()))","v":{"$error":"#N/A"}},"","","",{"$f":"IF(C771<>\"\",Data!$M1322,\"\")","v":""},null,null,null,null,{"$f":"IF(Dashboard!$R$4=\"All\",Data!G1322,IF(Data!K1322=Dashboard!$R$4,Data!G1322,NA()))","v":{"$error":"#N/A"}},"","","",{"$f":"IF(L771<>\"\",Data!$M1322,\"\")","v":""},null,null,null,null,{"$f":"IF(OR(Dashboard!$P$4=\"All\",Dashboard!$R$4=\"All\"),NA(),IF(OR(Data!K1322<>Dashboard!$P$4,Data!K1322<>Dashboard!$R$4),Data!G1322,NA()))","v":5300}]
[null,{"$f":"IF(Dashboard!$P$4=\"All\",Data!G1323,IF(Data!K1323=Dashboard!$P$4,Data!G1323,NA()))","v":43828.780645210471},{"$f":"IF(ISNA(B772),\"\",B772)","v":43828.780645210471},{"$f":"IF(C772>=PERCENTILE($C$3:$C$1337,0.9),C772,\"\")","v":""},{"$f":"IF(C772<=PERCENTILE($C$3:$C$1337,0.1),C772,\"\")","v":""},{"$f":"IF(C772<>\"\",Data!$M1323,\"\")","v":15},null,null,null,null,{"$f":"IF(Dashboard!$R$4=\"All\",Data!G1323,IF(Data!K1323=Dashboard!$R$4,Data!G1323,NA()))","v":{"$error":"#N/A"}},{"$f":"IF(ISNA(K772),\"\",K772)","v":""},{"$f":"IF(L772>=PERCENTILE($L$3:$L$1337,0.9),L772,\"\")","v":""},{"$f":"IF(L772<=PERCENTILE($L$3:$L$1337,0.1),L772,\"\")","v":""},{"$f":"IF(L772<>\"\",Data!$M1323,\"\")","v":""},null,null,null,null,{"$f":"IF(OR(Dashboard!$P$4=\"All\",Dashboard!$R$4=\"All\"),NA(),IF(OR(Data!K1323<>Dashboard!$P$4,Data!K1323<>Dashboard!$R$4),Data!G1323,NA()))","v":43828.780645210471}]
[null,{"$f":"IF(Dashboard!$P$4=\"All\",Data!G1324,IF(Data!K1324=Dashboard!$P$4,Data!G1324,NA()))","v":{"$error":"#N/A"}},"","","",{"$f":"IF(C773<>\"\",Data!$M1324,\"\")","v":""},null,null,null,null,{"$f":"IF(Dashboard!$R$4=\"All\",Data!G1324,IF(Data!K1324=Dashboard!$R$4,Data!G1324,NA()))","v":{"$error":"#N/A"}},"","","",{"$f":"IF(L773<>\"\",Data!$M1324,\"\")","v":""},null,null,null,null,{"$f":"IF(OR(Dashboard!$P$4=\"All\",Dashboard!$R$4=\"All\"),NA(),IF(OR(Data!K1324<>Dashboard!$P$4,Data!K1324<>Dashboard!$R$4),Data!G1324,NA()))","v":80000}]
[null,{"$f":"IF(Dashboard!$P$4=\"All\",Data!G1325,IF(Data!K1325=Dashboard!$P$4,Data!G1325,NA()))","v":{"$error":"#N/A"}},"","","",{"$f":"IF(C774<>\"\",Data!$M1325,\"\")","v":""},null,null,null,null,{"$f":"IF(Dashboard!$R$4=\"All\",Data!G1325,IF(Data!K1325=Dashboard!$R$4,Data!G1325,NA()))","v":{"$error":"#N/A"}},"","","",{"$f":"IF(L774<>\"\",Data!$M1325,\"\")","v":""},null,null,null,null,{"$f":"IF(OR(Dashboard!$P$4=\"All\",Dashboard!$R$4=\"All\"),NA(),IF(OR(Data!K1325<>Dashboard!$P$4,Data!K1325<>Dashboard!$R$4),Data!G1325,NA()))","v":11518.711713336908}]
[null,{"$f":"IF(Dashboard!$P$4=\"All\",Data!G1326,IF(Data!K1326=Dashboard!$P$4,Data!G1326,NA()))","v":{"$error":"#N/A"}},"","","",{"$f":"IF(C775<>\"\",Data!$M1326,\"\")","v":""},null,null,null,null,{"$f":"IF(Dashboard!$R$4=\"All\",Data!G1326,IF(Data!K1326=Dashboard!$R$4,Data!G1326,NA()))","v":{"$error":"#N/A"}},"","","",{"$f":"IF(L775<>\"\",Data!$M1326,\"\")","v":""},null,null,null,null,{"$f":"IF(OR(Dashboard!$P$4=\"All\",Dashboard!$R$4=\"All\"),NA(),IF(OR(Data!K1326<>Dashboard!$P$4,Data!K1326<>Dashboard!$R$4),Data!G1326,NA()))","v":152986.44846039536}]
[null,{"$f":"IF(Dashboard!$P$4=\"All\",Data!G1327,IF(Data!K1327=Dashboard!$P$4,Data!G1327,NA()))","v":{"$error":"#N/A"}},"","","",{"$f":"IF(C776<>\"\",Data!$M1327,\"\")","v":""},null,null,null,null,{"$f":"IF(Dashboard!$R$4=\"All\",Data!G1327,IF(Data!K1327=Dashboard!$R$4,Data!G1327,NA()))","v":{"$error":"#N/A"}},"","","",{"$f":"IF(L776<>\"\",Data!$M1327,\"\")","v":""},null,null,null,null,{"$f":"IF(OR(Dashboard!$P$4=\"All\",Dashboard!$R$4=\"All\"),NA(),IF(OR(Data!K1327<>Dashboard!$P$4,Data!K1327<>Dashboard!$R$4),Data!G1327,NA()))","v":125000}]
[null,{"$f":"IF(Dashboard!$P$4=\"All\",Data!G1328,IF(Data!K1328=Dashboard!$P$4,Data!G1328,NA()))","v":{"$error":"#N/A"}},"","","",{"$f":"IF(C777<>\"\",Data!$M1328,\"\")","v":""},null,null,null,null,{"$f":"IF(Dashboard!$R$4=\"All\",Data!G1328,IF(Data!K1328=Dashboard!$R$4,Data!G1328,NA()))","v":{"$error":"#N/A"}},"","","",{"$f":"IF(L777<>\"\",Data!$M1328,\"\")","v":""},null,null,null,null,{"$f":"IF(OR(Dashboard!$P$4=\"All\",Dashboard!$R$4=\"All\"),NA(),IF(OR(Data!K1328<>Dashboard!$P$4,Data!K1328<>Dashboard!$R$4),Data!G1328,NA()))","v":101990.96564026357}]
[null,{"$f":"IF(Dashboard!$P$4=\"All\",Data!G1329,IF(Data!K1329=Dashboard!$P$4,Data!G1329,NA()))","v":{"$error":"#N/A"}},"","","",{"$f":"IF(C778<>\"\",Data!$M1329,\"\")","v":""},null,null,null,null,{"$f":"IF(Dashboard!$R$4=\"All\",Data!G1329,IF(Data!K1329=Dashboard!$R$4,Data!G1329,NA()))","v":{"$error":"#N/A"}},"","","",{"$f":"IF(L778<>\"\",Data!$M1329,\"\")","v":""},null,null,null,null,{"$f":"IF(OR(Dashboard!$P$4=\"All\",Dashboard!$R$4=\"All\"),NA(),IF(OR(Data!K1329<>Dashboard!$P$4,Data!K1329<>Dashboard!$R$4),Data!G1329,NA()))","v":105000}]
[null,{"$f":"IF(Dashboard!$P$4=\"All\",Data!G1330,IF(Data!K1330=Dashboard!$P$4,Data!G1330,NA()))","v":{"$error":"#N/A"}},"","","",{"$f":"IF(C779<>\"\",Data!$M1330,\"\")","v":""},null,null,null,null,{"$f":"IF(Dashboard!$R$4=\"All\",Data!G1330,IF(Data!K1330=Dashboard!$R$4,Data!G1330,NA()))","v":{"$error":"#N/A"}},"","","",{"$f":"IF(L779<>\"\",Data!$M1330,\"\")","v":""},null,null,null,null,{"$f":"IF(OR(Dashboard!$P$4=\"All\",Dashboard!$R$4=\"All\"),NA(),IF(OR(Data!K1330<>Dashboard!$P$4,Data!K1330<>Dashboard!$R$4),Data!G1330,NA()))","v":50815.977559664309}]
[null,{"$f":"IF(Dashboard!$P$4=\"All\",Data!G1331,IF(Data!K1331=Dashboard!$P$4,Data!G1331,NA()))","v":{"$error":"#N/A"}},"","","",{"$f":"IF(C780<>\"\",Data!$M1331,\"\")","v":""},null,null,null,null,{"$f":"IF(Dashboard!$R$4=\"All\",Data!G1331,IF(Data!K1331=Dashboard!$R$4,Data!G1331,NA()))","v":{"$error":"#N/A"}},"","","",{"$f":"IF(L780<>\"\",Data!$M1331,\"\")","v":""},null,null,null,null,{"$f":"IF(OR(Dashboard!$P$4=\"All\",Dashboard!$R$4=\"All\"),NA(),IF(OR(Data!K1331<>Dashboard!$P$4,Data!K1331<>Dashboard!$R$4),Data!G1331,NA()))","v":75000}]
[null,{"$f":"IF(Dashboard!$P$4=\"All\",Data!G1332,IF(Data!K1332=Dashboard!$P$4,Data!G1332,NA()))","v":{"$error":"#N/A"}},"","","",{"$f":"IF(C781<>\"\",Data!$M1332,\"\")","v":""},null,null,null,null,{"$f":"IF(Dashboard!$R$4=\"All\",Data!G1332,IF(Data!K1332=Dashboard!$R$4,Data!G1332,NA()))","v":{"$error":"#N/A"}},"","","",{"$f":"IF(L781<>\"\",Data!$M1332,\"\")","v":""},null,null,null,null,{"$f":"IF(OR(Dashboard!$P$4=\"All\",Dashboard!$R$4=\"All\"),NA(),IF(OR(Data!K1332<>Dashboard!$P$4,Data!K1332<>Dashboard!$R$4),Data!G1332,NA()))","v":4451.9791718606421}]
[null,{"$f":"IF(Dashboard!$P$4=\"All\",Data!G1333,IF(Data!K1333=Dashboard!$P$4,Data!G1333,NA()))","v":{"$error":"#N/A"}},"","","",{"$f":"IF(C782<>\"\",Data!$M1333,\"\")","v":""},null,null,null,null,{"$f":"IF(Dashboard!$R$4=\"All\",Data!G1333,IF(Data!K1333=Dashboard!$R$4,Data!G1333,NA()))","v":{"$error":"#N/A"}},"","","",{"$f":"IF(L782<>\"\",Data!$M1333,\"\")","v":""},null,null,null,null,{"$f":"IF(OR(Dashboard!$P$4=\"All\",Dashboard!$R$4=\"All\"),NA(),IF(OR(Data!K1333<>Dashboard!$P$4,Data!K1333<>Dashboard!$R$4),Data!G1333,NA()))","v":110000}]
[null,{"$f":"IF(Dashboard!$P$4=\"All\",Data!G1334,IF(Data!K1334=Dashboard!$P$4,Data!G1334,NA()))","v":{"$error":"#N/A"}},"","","",{"$f":"IF(C783<>\"\",Data!$M1334,\"\")","v":""},null,null,null,null,{"$f":"IF(Dashboard!$R$4=\"All\",Data!G1334,IF(Data!K1334=Dashboard!$R$4,Data!G1334,NA()))","v":42556.81334581667},42556.81334581667,"","",{"$f":"IF(L783<>\"\",Data!$M1334,\"\")","v":1},null,null,null,null,{"$f":"IF(OR(Dashboard!$P$4=\"All\",Dashboard!$R$4=\"All\"),NA(),IF(OR(Data!K1334<>Dashboard!$P$4,Data!K1334<>Dashboard!$R$4),Data!G1334,NA()))","v":42556.81334581667}]
[null,{"$f":"IF(Dashboard!$P$4=\"All\",Data!G1335,IF(Data!K1335=Dashboard!$P$4,Data!G1335,NA()))","v":{"$error":"#N/A"}},"","","",{"$f":"IF(C784<>\"\",Data!$M1335,\"\")","v":""},null,null,null,null,{"$f":"IF(Dashboard!$R$4=\"All\",Data!G1335,IF(Data!K1335=Dashboard!$R$4,Data!G1335,NA()))","v":{"$error":"#N/A"}},"","","",{"$f":"IF(L784<>\"\",Data!$M1335,\"\")","v":""},null,null,null,null,{"$f":"IF(OR(Dashboard!$P$4=\"All\",Dashboard!$R$4=\"All\"),NA(),IF(OR(Data!K1335<>Dashboard!$P$4,Data!K1335<>Dashboard!$R$4),Data!G1335,NA()))","v":8013.5625093491553}]
[null,{"$f":"IF(Dashboard!$P$4=\"All\",Data!G1336,IF(Data!K1336=Dashboard!$P$4,Data!G1336,NA()))","v":{"$error":"#N/A"}},"","","",{"$f":"IF(C785<>\"\",Data!$M1336,\"\")","v":""},null,null,null,null,{"$f":"IF(Dashboard!$R$4=\"All\",Data!G1336,IF(Data!K1336=Dashboard!$R$4,Data!G1336,NA()))","v":{"$error":"#N/A"}},"","","",{"$f":"IF(L785<>\"\",Data!$M1336,\"\")","v":""},null,null,null,null,{"$f":"IF(OR(Dashboard!$P$4=\"All\",Dashboard!$R$4=\"All\"),NA(),IF(OR(Data!K1336<>Dashboard!$P$4,Data!K1336<>Dashboard!$R$4),Data!G1336,NA()))","v":125000}]
[null,{"$f":"IF(Dashboard!$P$4=\"All\",Data!G1337,IF(Data!K1337=Dashboard!$P$4,Data!G1337,NA()))","v":{"$error":"#N/A"}},"","","",{"$f":"IF(C786<>\"\",Data!$M1337,\"\")","v":""},null,null,null,null,{"$f":"IF(Dashboard!$R$4=\"All\",Data!G1337,IF(Data!K1337=Dashboard!$R$4,Data!G1337,NA()))","v":{"$error":"#N/A"}},"","","",{"$f":"IF(L786<>\"\",Data!$M1337,\"\")","v":""},null,null,null,null,{"$f":"IF(OR(Dashboard!$P$4=\"All\",Dashboard!$R$4=\"All\"),NA(),IF(OR(Data!K1337<>Dashboard!$P$4,Data!K1337<>Dashboard!$R$4),Data!G1337,NA()))","v":60000}]
[null,{"$f":"IF(Dashboard!$P$4=\"All\",Data!G1338,IF(Data!K1338=Dashboard!$P$4,Data!G1338,NA()))","v":{"$error":"#N/A"}},"","","",{"$f":"IF(C787<>\"\",Data!$M1338,\"\")","v":""},null,null,null,null,{"$f":"IF(Dashboard!$R$4=\"All\",Data!G1338,IF(Data!K1338=Dashboard!$R$4,Data!G1338,NA()))","v":{"$error":"#N/A"}},"","","",{"$f":"IF(L787<>\"\",Data!$M1338,\"\")","v":""},null,null,null,null,{"$f":"IF(OR(Dashboard!$P$4=\"All\",Dashboard!$R$4=\"All\"),NA(),IF(OR(Data!K1338<>Dashboard!$P$4,Data!K1338<>Dashboard!$R$4),Data!G1338,NA()))","v":39355.495879248076}]
[null,{"$f":"IF(Dashboard!$P$4=\"All\",Data!G1339,IF(Data!K1339=Dashboard!$P$4,Data!G1339,NA()))","v":{"$error":"#N/A"}},"","","",{"$f":"IF(C788<>\"\",Data!$M1339,\"\")","v":""},null,null,null,null,{"$f":"IF(Dashboard!$R$4=\"All\",Data!G1339,IF(Data!K1339=Dashboard!$R$4,Data!G1339,NA()))","v":{"$error":"#N/A"}},"","","",{"$f":"IF(L788<>\"\",Data!$M1339,\"\")","v":""},null,null,null,null,{"$f":"IF(OR(Dashboard!$P$4=\"All\",Dashboard!$R$4=\"All\"),NA(),IF(OR(Data!K1339<>Dashboard!$P$4,Data!K1339<>Dashboard!$R$4),Data!G1339,NA()))","v":57167.974754622352}]
[null,{"$f":"IF(Dashboard!$P$4=\"All\",Data!G1340,IF(Data!K1340=Dashboard!$P$4,Data!G1340,NA()))","v":{"$error":"#N/A"}},"","","",{"$f":"IF(C789<>\"\",Data!$M1340,\"\")","v":""},null,null,null,null,{"$f":"IF(Dashboard!$R$4=\"All\",Data!G1340,IF(Data!K1340=Dashboard!$R$4,Data!G1340,NA()))","v":{"$error":"#N/A"}},"","","",{"$f":"IF(L789<>\"\",Data!$M1340,\"\")","v":""},null,null,null,null,{"$f":"IF(OR(Dashboard!$P$4=\"All\",Dashboard!$R$4=\"All\"),NA(),IF(OR(Data!K1340<>Dashboard!$P$4,Data!K1340<>Dashboard!$R$4),Data!G1340,NA()))","v":50694.322109187968}]
[null,{"$f":"IF(Dashboard!$P$4=\"All\",Data!G1341,IF(Data!K1341=Dashboard!$P$4,Data!G1341,NA()))","v":{"$error":"#N/A"}},"","","",{"$f":"IF(C790<>\"\",Data!$M1341,\"\")","v":""},null,null,null,null,{"$f":"IF(Dashboard!$R$4=\"All\",Data!G1341,IF(Data!K1341=Dashboard!$R$4,Data!G1341,NA()))","v":{"$error":"#N/A"}},"","","",{"$f":"IF(L790<>\"\",Data!$M1341,\"\")","v":""},null,null,null,null,{"$f":"IF(OR(Dashboard!$P$4=\"All\",Dashboard!$R$4=\"All\"),NA(),IF(OR(Data!K1341<>Dashboard!$P$4,Data!K1341<>Dashboard!$R$4),Data!G1341,NA()))","v":57500}]
[null,{"$f":"IF(Dashboard!$P$4=\"All\",Data!G1342,IF(Data!K1342=Dashboard!$P$4,Data!G1342,NA()))","v":78764.765217479682},78764.765217479682,"","",{"$f":"IF(C791<>\"\",Data!$M1342,\"\")","v":15},null,null,null,null,{"$f":"IF(Dashboard!$R$4=\"All\",Data!G1342,IF(Data!K1342=Dashboard!$R$4,Data!G1342,NA()))","v":{"$error":"#N/A"}},"","","",{"$f":"IF(L791<>\"\",Data!$M1342,\"\")","v":""},null,null,null,null,{"$f":"IF(OR(Dashboard!$P$4=\"All\",Dashboard!$R$4=\"All\"),NA(),IF(OR(Data!K1342<>Dashboard!$P$4,Data!K1342<>Dashboard!$R$4),Data!G1342,NA()))","v":78764.765217479682}]
[null,{"$f":"IF(Dashboard!$P$4=\"All\",Data!G1343,IF(Data!K1343=Dashboard!$P$4,Data!G1343,NA()))","v":{"$error":"#N/A"}},"","","",{"$f":"IF(C792<>\"\",Data!$M1343,\"\")","v":""},null,null,null,null,{"$f":"IF(Dashboard!$R$4=\"All\",Data!G1343,IF(Data!K1343=Dashboard!$R$4,Data!G1343,NA()))","v":{"$error":"#N/A"}},"","","",{"$f":"IF(L792<>\"\",Data!$M1343,\"\")","v":""},null,null,null,null,{"$f":"IF(OR(Dashboard!$P$4=\"All\",Dashboard!$R$4=\"All\"),NA(),IF(OR(Data!K1343<>Dashboard!$P$4,Data!K1343<>Dashboard!$R$4),Data!G1343,NA()))","v":80000}]
[null,{"$f":"IF(Dashboard!$P$4=\"All\",Data!G1344,IF(Data!K1344=Dashboard!$P$4,Data!G1344,NA()))","v":{"$error":"#N/A"}},"","","",{"$f":"IF(C793<>\"\",Data!$M1344,\"\")","v":""},null,null,null,null,{"$f":"IF(Dashboard!$R$4=\"All\",Data!G1344,IF(Data!K1344=Dashboard!$R$4,Data!G1344,NA()))","v":70928.022243027779},70928.022243027779,"","",{"$f":"IF(L793<>\"\",Data!$M1344,\"\")","v":15},null,null,null,null,{"$f":"IF(OR(Dashboard!$P$4=\"All\",Dashboard!$R$4=\"All\"),NA(),IF(OR(Data!K1344<>Dashboard!$P$4,Data!K1344<>Dashboard!$R$4),Data!G1344,NA()))","v":70928.022243027779}]
[null,{"$f":"IF(Dashboard!$P$4=\"All\",Data!G1345,IF(Data!K1345=Dashboard!$P$4,Data!G1345,NA()))","v":{"$error":"#N/A"}},"","","",{"$f":"IF(C794<>\"\",Data!$M1345,\"\")","v":""},null,null,null,null,{"$f":"IF(Dashboard!$R$4=\"All\",Data!G1345,IF(Data!K1345=Dashboard!$R$4,Data!G1345,NA()))","v":{"$error":"#N/A"}},"","","",{"$f":"IF(L794<>\"\",Data!$M1345,\"\")","v":""},null,null,null,null,{"$f":"IF(OR(Dashboard!$P$4=\"All\",Dashboard!$R$4=\"All\"),NA(),IF(OR(Data!K1345<>Dashboard!$P$4,Data!K1345<>Dashboard!$R$4),Data!G1345,NA()))","v":33000}]
[null,{"$f":"IF(Dashboard!$P$4=\"All\",Data!G1346,IF(Data!K1346=Dashboard!$P$4,Data!G1346,NA()))","v":{"$error":"#N/A"}},"","","",{"$f":"IF(C795<>\"\",Data!$M1346,\"\")","v":""},null,null,null,null,{"$f":"IF(Dashboard!$R$4=\"All\",Data!G1346,IF(Data!K1346=Dashboard!$R$4,Data!G1346,NA()))","v":{"$error":"#N/A"}},"","","",{"$f":"IF(L795<>\"\",Data!$M1346,\"\")","v":""},null,null,null,null,{"$f":"IF(OR(Dashboard!$P$4=\"All\",Dashboard!$R$4=\"All\"),NA(),IF(OR(Data!K1346<>Dashboard!$P$4,Data!K1346<>Dashboard!$R$4),Data!G1346,NA()))","v":100000}]
[null,{"$f":"IF(Dashboard!$P$4=\"All\",Data!G1347,IF(Data!K1347=Dashboard!$P$4,Data!G1347,NA()))","v":{"$error":"#N/A"}},"","","",{"$f":"IF(C796<>\"\",Data!$M1347,\"\")","v":""},null,null,null,null,{"$f":"IF(Dashboard!$R$4=\"All\",Data!G1347,IF(Data!K1347=Dashboard!$R$4,Data!G1347,NA()))","v":{"$error":"#N/A"}},"","","",{"$f":"IF(L796<>\"\",Data!$M1347,\"\")","v":""},null,null,null,null,{"$f":"IF(OR(Dashboard!$P$4=\"All\",Dashboard!$R$4=\"All\"),NA(),IF(OR(Data!K1347<>Dashboard!$P$4,Data!K1347<>Dashboard!$R$4),Data!G1347,NA()))","v":60000}]
[null,{"$f":"IF(Dashboard!$P$4=\"All\",Data!G1348,IF(Data!K1348=Dashboard!$P$4,Data!G1348,NA()))","v":{"$error":"#N/A"}},"","","",{"$f":"IF(C797<>\"\",Data!$M1348,\"\")","v":""},null,null,null,null,{"$f":"IF(Dashboard!$R$4=\"All\",Data!G1348,IF(Data!K1348=Dashboard!$R$4,Data!G1348,NA()))","v":{"$error":"#N/A"}},"","","",{"$f":"IF(L797<>\"\",Data!$M1348,\"\")","v":""},null,null,null,null,{"$f":"IF(OR(Dashboard!$P$4=\"All\",Dashboard!$R$4=\"All\"),NA(),IF(OR(Data!K1348<>Dashboard!$P$4,Data!K1348<>Dashboard!$R$4),Data!G1348,NA()))","v":95000}]
[null,{"$f":"IF(Dashboard!$P$4=\"All\",Data!G1349,IF(Data!K1349=Dashboard!$P$4,Data!G1349,NA()))","v":{"$error":"#N/A"}},"","","",{"$f":"IF(C798<>\"\",Data!$M1349,\"\")","v":""},null,null,null,null,{"$f":"IF(Dashboard!$R$4=\"All\",Data!G1349,IF(Data!K1349=Dashboard!$R$4,Data!G1349,NA()))","v":{"$error":"#N/A"}},"","","",{"$f":"IF(L798<>\"\",Data!$M1349,\"\")","v":""},null,null,null,null,{"$f":"IF(OR(Dashboard!$P$4=\"All\",Dashboard!$R$4=\"All\"),NA(),IF(OR(Data!K1349<>Dashboard!$P$4,Data!K1349<>Dashboard!$R$4),Data!G1349,NA()))","v":24000}]
[null,{"$f":"IF(Dashboard!$P$4=\"All\",Data!G1350,IF(Data!K1350=Dashboard!$P$4,Data!G1350,NA()))","v":{"$error":"#N/A"}},"","","",{"$f":"IF(C799<>\"\",Data!$M1350,\"\")","v":""},null,null,null,null,{"$f":"IF(Dashboard!$R$4=\"All\",Data!G1350,IF(Data!K1350=Dashboard!$R$4,Data!G1350,NA()))","v":{"$error":"#N/A"}},"","","",{"$f":"IF(L799<>\"\",Data!$M1350,\"\")","v":""},null,null,null,null,{"$f":"IF(OR(Dashboard!$P$4=\"All\",Dashboard!$R$4=\"All\"),NA(),IF(OR(Data!K1350<>Dashboard!$P$4,Data!K1350<>Dashboard!$R$4),Data!G1350,NA()))","v":50000}]
[null,{"$f":"IF(Dashboard!$P$4=\"All\",Data!G1351,IF(Data!K1351=Dashboard!$P$4,Data!G1351,NA()))","v":{"$error":"#N/A"}},"","","",{"$f":"IF(C800<>\"\",Data!$M1351,\"\")","v":""},null,null,null,null,{"$f":"IF(Dashboard!$R$4=\"All\",Data!G1351,IF(Data!K1351=Dashboard!$R$4,Data!G1351,NA()))","v":{"$error":"#N/A"}},"","","",{"$f":"IF(L800<>\"\",Data!$M1351,\"\")","v":""},null,null,null,null,{"$f":"IF(OR(Dashboard!$P$4=\"All\",Dashboard!$R$4=\"All\"),NA(),IF(OR(Data!K1351<>Dashboard!$P$4,Data!K1351<>Dashboard!$R$4),Data!G1351,NA()))","v":103000}]
[null,{"$f":"IF(Dashboard!$P$4=\"All\",Data!G1352,IF(Data!K1352=Dashboard!$P$4,Data!G1352,NA()))","v":{"$error":"#N/A"}},"","","",{"$f":"IF(C801<>\"\",Data!$M1352,\"\")","v":""},null,null,null,null,{"$f":"IF(Dashboard!$R$4=\"All\",Data!G1352,IF(Data!K1352=Dashboard!$R$4,Data!G1352,NA()))","v":{"$error":"#N/A"}},"","","",{"$f":"IF(L801<>\"\",Data!$M1352,\"\")","v":""},null,null,null,null,{"$f":"IF(OR(Dashboard!$P$4=\"All\",Dashboard!$R$4=\"All\"),NA(),IF(OR(Data!K1352<>Dashboard!$P$4,Data!K1352<>Dashboard!$R$4),Data!G1352,NA()))","v":36000}]
[null,{"$f":"IF(Dashboard!$P$4=\"All\",Data!G1353,IF(Data!K1353=Dashboard!$P$4,Data!G1353,NA()))","v":{"$error":"#N/A"}},"","","",{"$f":"IF(C802<>\"\",Data!$M1353,\"\")","v":""},null,null,null,null,{"$f":"IF(Dashboard!$R$4=\"All\",Data!G1353,IF(Data!K1353=Dashboard!$R$4,Data!G1353,NA()))","v":{"$error":"#N/A"}},"","","",{"$f":"IF(L802<>\"\",Data!$M1353,\"\")","v":""},null,null,null,null,{"$f":"IF(OR(Dashboard!$P$4=\"All\",Dashboard!$R$4=\"All\"),NA(),IF(OR(Data!K1353<>Dashboard!$P$4,Data!K1353<>Dashboard!$R$4),Data!G1353,NA()))","v":85000}]
[null,{"$f":"IF(Dashboard!$P$4=\"All\",Data!G1354,IF(Data!K1354=Dashboard!$P$4,Data!G1354,NA()))","v":{"$error":"#N/A"}},"","","",{"$f":"IF(C803<>\"\",Data!$M1354,\"\")","v":""},null,null,null,null,{"$f":"IF(Dashboard!$R$4=\"All\",Data!G1354,IF(Data!K1354=Dashboard!$R$4,Data!G1354,NA()))","v":{"$error":"#N/A"}},"","","",{"$f":"IF(L803<>\"\",Data!$M1354,\"\")","v":""},null,null,null,null,{"$f":"IF(OR(Dashboard!$P$4=\"All\",Dashboard!$R$4=\"All\"),NA(),IF(OR(Data!K1354<>Dashboard!$P$4,Data!K1354<>Dashboard!$R$4),Data!G1354,NA()))","v":100000}]
[null,{"$f":"IF(Dashboard!$P$4=\"All\",Data!G1355,IF(Data!K1355=Dashboard!$P$4,Data!G1355,NA()))","v":{"$error":"#N/A"}},"","","",{"$f":"IF(C804<>\"\",Data!$M1355,\"\")","v":""},null,null,null,null,{"$f":"IF(Dashboard!$R$4=\"All\",Data!G1355,IF(Data!K1355=Dashboard!$R$4,Data!G1355,NA()))","v":{"$error":"#N/A"}},"","","",{"$f":"IF(L804<>\"\",Data!$M1355,\"\")","v":""},null,null,null,null,{"$f":"IF(OR(Dashboard!$P$4=\"All\",Dashboard!$R$4=\"All\"),NA(),IF(OR(Data!K1355<>Dashboard!$P$4,Data!K1355<>Dashboard!$R$4),Data!G1355,NA()))","v":83000}]
[null,{"$f":"IF(Dashboard!$P$4=\"All\",Data!G1356,IF(Data!K1356=Dashboard!$P$4,Data!G1356,NA()))","v":{"$error":"#N/A"}},"","","",{"$f":"IF(C805<>\"\",Data!$M1356,\"\")","v":""},null,null,null,null,{"$f":"IF(Dashboard!$R$4=\"All\",Data!G1356,IF(Data!K1356=Dashboard!$R$4,Data!G1356,NA()))","v":{"$error":"#N/A"}},"","","",{"$f":"IF(L805<>\"\",Data!$M1356,\"\")","v":""},null,null,null,null,{"$f":"IF(OR(Dashboard!$P$4=\"All\",Dashboard!$R$4=\"All\"),NA(),IF(OR(Data!K1356<>Dashboard!$P$4,Data!K1356<>Dashboard!$R$4),Data!G1356,NA()))","v":85000}]
[null,{"$f":"IF(Dashboard!$P$4=\"All\",Data!G1357,IF(Data!K1357=Dashboard!$P$4,Data!G1357,NA()))","v":{"$error":"#N/A"}},"","","",{"$f":"IF(C806<>\"\",Data!$M1357,\"\")","v":""},null,null,null,null,{"$f":"IF(Dashboard!$R$4=\"All\",Data!G1357,IF(Data!K1357=Dashboard!$R$4,Data!G1357,NA()))","v":{"$error":"#N/A"}},"","","",{"$f":"IF(L806<>\"\",Data!$M1357,\"\")","v":""},null,null,null,null,{"$f":"IF(OR(Dashboard!$P$4=\"All\",Dashboard!$R$4=\"All\"),NA(),IF(OR(Data!K1357<>Dashboard!$P$4,Data!K1357<>Dashboard!$R$4),Data!G1357,NA()))","v":120000}]
[null,{"$f":"IF(Dashboard!$P$4=\"All\",Data!G1358,IF(Data!K1358=Dashboard!$P$4,Data!G1358,NA()))","v":{"$error":"#N/A"}},"","","",{"$f":"IF(C807<>\"\",Data!$M1358,\"\")","v":""},null,null,null,null,{"$f":"IF(Dashboard!$R$4=\"All\",Data!G1358,IF(Data!K1358=Dashboard!$R$4,Data!G1358,NA()))","v":{"$error":"#N/A"}},"","","",{"$f":"IF(L807<>\"\",Data!$M1358,\"\")","v":""},null,null,null,null,{"$f":"IF(OR(Dashboard!$P$4=\"All\",Dashboard!$R$4=\"All\"),NA(),IF(OR(Data!K1358<>Dashboard!$P$4,Data!K1358<>Dashboard!$R$4),Data!G1358,NA()))","v":69960}]
[null,{"$f":"IF(Dashboard!$P$4=\"All\",Data!G1359,IF(Data!K1359=Dashboard!$P$4,Data!G1359,NA()))","v":{"$error":"#N/A"}},"","","",{"$f":"IF(C808<>\"\",Data!$M1359,\"\")","v":""},null,null,null,null,{"$f":"IF(Dashboard!$R$4=\"All\",Data!G1359,IF(Data!K1359=Dashboard!$R$4,Data!G1359,NA()))","v":{"$error":"#N/A"}},"","","",{"$f":"IF(L808<>\"\",Data!$M1359,\"\")","v":""},null,null,null,null,{"$f":"IF(OR(Dashboard!$P$4=\"All\",Dashboard!$R$4=\"All\"),NA(),IF(OR(Data!K1359<>Dashboard!$P$4,Data!K1359<>Dashboard!$R$4),Data!G1359,NA()))","v":97000}]
[null,{"$f":"IF(Dashboard!$P$4=\"All\",Data!G1360,IF(Data!K1360=Dashboard!$P$4,Data!G1360,NA()))","v":{"$error":"#N/A"}},"","","",{"$f":"IF(C809<>\"\",Data!$M1360,\"\")","v":""},null,null,null,null,{"$f":"IF(Dashboard!$R$4=\"All\",Data!G1360,IF(Data!K1360=Dashboard!$R$4,Data!G1360,NA()))","v":94570.696324037053},94570.696324037053,"","",{"$f":"IF(L809<>\"\",Data!$M1360,\"\")","v":7},null,null,null,null,{"$f":"IF(OR(Dashboard!$P$4=\"All\",Dashboard!$R$4=\"All\"),NA(),IF(OR(Data!K1360<>Dashboard!$P$4,Data!K1360<>Dashboard!$R$4),Data!G1360,NA()))","v":94570.696324037053}]
[null,{"$f":"IF(Dashboard!$P$4=\"All\",Data!G1361,IF(Data!K1361=Dashboard!$P$4,Data!G1361,NA()))","v":{"$error":"#N/A"}},"","","",{"$f":"IF(C810<>\"\",Data!$M1361,\"\")","v":""},null,null,null,null,{"$f":"IF(Dashboard!$R$4=\"All\",Data!G1361,IF(Data!K1361=Dashboard!$R$4,Data!G1361,NA()))","v":{"$error":"#N/A"}},"","","",{"$f":"IF(L810<>\"\",Data!$M1361,\"\")","v":""},null,null,null,null,{"$f":"IF(OR(Dashboard!$P$4=\"All\",Dashboard!$R$4=\"All\"),NA(),IF(OR(Data!K1361<>Dashboard!$P$4,Data!K1361<>Dashboard!$R$4),Data!G1361,NA()))","v":39000}]
[null,{"$f":"IF(Dashboard!$P$4=\"All\",Data!G1362,IF(Data!K1362=Dashboard!$P$4,Data!G1362,NA()))","v":{"$error":"#N/A"}},"","","",{"$f":"IF(C811<>\"\",Data!$M1362,\"\")","v":""},null,null,null,null,{"$f":"IF(Dashboard!$R$4=\"All\",Data!G1362,IF(Data!K1362=Dashboard!$R$4,Data!G1362,NA()))","v":{"$error":"#N/A"}},"","","",{"$f":"IF(L811<>\"\",Data!$M1362,\"\")","v":""},null,null,null,null,{"$f":"IF(OR(Dashboard!$P$4=\"All\",Dashboard!$R$4=\"All\"),NA(),IF(OR(Data!K1362<>Dashboard!$P$4,Data!K1362<>Dashboard!$R$4),Data!G1362,NA()))","v":4451.9791718606421}]
[null,{"$f":"IF(Dashboard!$P$4=\"All\",Data!G1363,IF(Data!K1363=Dashboard!$P$4,Data!G1363,NA()))","v":{"$error":"#N/A"}},"","","",{"$f":"IF(C812<>\"\",Data!$M1363,\"\")","v":""},null,null,null,null,{"$f":"IF(Dashboard!$R$4=\"All\",Data!G1363,IF(Data!K1363=Dashboard!$R$4,Data!G1363,NA()))","v":{"$error":"#N/A"}},"","","",{"$f":"IF(L812<>\"\",Data!$M1363,\"\")","v":""},null,null,null,null,{"$f":"IF(OR(Dashboard!$P$4=\"All\",Dashboard!$R$4=\"All\"),NA(),IF(OR(Data!K1363<>Dashboard!$P$4,Data!K1363<>Dashboard!$R$4),Data!G1363,NA()))","v":62000}]
[null,{"$f":"IF(Dashboard!$P$4=\"All\",Data!G1364,IF(Data!K1364=Dashboard!$P$4,Data!G1364,NA()))","v":{"$error":"#N/A"}},"","","",{"$f":"IF(C813<>\"\",Data!$M1364,\"\")","v":""},null,null,null,null,{"$f":"IF(Dashboard!$R$4=\"All\",Data!G1364,IF(Data!K1364=Dashboard!$R$4,Data!G1364,NA()))","v":{"$error":"#N/A"}},"","","",{"$f":"IF(L813<>\"\",Data!$M1364,\"\")","v":""},null,null,null,null,{"$f":"IF(OR(Dashboard!$P$4=\"All\",Dashboard!$R$4=\"All\"),NA(),IF(OR(Data!K1364<>Dashboard!$P$4,Data!K1364<>Dashboard!$R$4),Data!G1364,NA()))","v":44000}]
[null,{"$f":"IF(Dashboard!$P$4=\"All\",Data!G1365,IF(Data!K1365=Dashboard!$P$4,Data!G1365,NA()))","v":{"$error":"#N/A"}},"","","",{"$f":"IF(C814<>\"\",Data!$M1365,\"\")","v":""},null,null,null,null,{"$f":"IF(Dashboard!$R$4=\"All\",Data!G1365,IF(Data!K1365=Dashboard!$R$4,Data!G1365,NA()))","v":{"$error":"#N/A"}},"","","",{"$f":"IF(L814<>\"\",Data!$M1365,\"\")","v":""},null,null,null,null,{"$f":"IF(OR(Dashboard!$P$4=\"All\",Dashboard!$R$4=\"All\"),NA(),IF(OR(Data!K1365<>Dashboard!$P$4,Data!K1365<>Dashboard!$R$4),Data!G1365,NA()))","v":150000}]
[null,{"$f":"IF(Dashboard!$P$4=\"All\",Data!G1366,IF(Data!K1366=Dashboard!$P$4,Data!G1366,NA()))","v":{"$error":"#N/A"}},"","","",{"$f":"IF(C815<>\"\",Data!$M1366,\"\")","v":""},null,null,null,null,{"$f":"IF(Dashboard!$R$4=\"All\",Data!G1366,IF(Data!K1366=Dashboard!$R$4,Data!G1366,NA()))","v":{"$error":"#N/A"}},"","","",{"$f":"IF(L815<>\"\",Data!$M1366,\"\")","v":""},null,null,null,null,{"$f":"IF(OR(Dashboard!$P$4=\"All\",Dashboard!$R$4=\"All\"),NA(),IF(OR(Data!K1366<>Dashboard!$P$4,Data!K1366<>Dashboard!$R$4),Data!G1366,NA()))","v":228671.89901848941}]
[null,{"$f":"IF(Dashboard!$P$4=\"All\",Data!G1367,IF(Data!K1367=Dashboard!$P$4,Data!G1367,NA()))","v":{"$error":"#N/A"}},"","","",{"$f":"IF(C816<>\"\",Data!$M1367,\"\")","v":""},null,null,null,null,{"$f":"IF(Dashboard!$R$4=\"All\",Data!G1367,IF(Data!K1367=Dashboard!$R$4,Data!G1367,NA()))","v":{"$error":"#N/A"}},"","","",{"$f":"IF(L816<>\"\",Data!$M1367,\"\")","v":""},null,null,null,null,{"$f":"IF(OR(Dashboard!$P$4=\"All\",Dashboard!$R$4=\"All\"),NA(),IF(OR(Data!K1367<>Dashboard!$P$4,Data!K1367<>Dashboard!$R$4),Data!G1367,NA()))","v":73500}]
[null,{"$f":"IF(Dashboard!$P$4=\"All\",Data!G1368,IF(Data!K1368=Dashboard!$P$4,Data!G1368,NA()))","v":{"$error":"#N/A"}},"","","",{"$f":"IF(C817<>\"\",Data!$M1368,\"\")","v":""},null,null,null,null,{"$f":"IF(Dashboard!$R$4=\"All\",Data!G1368,IF(Data!K1368=Dashboard!$R$4,Data!G1368,NA()))","v":{"$error":"#N/A"}},"","","",{"$f":"IF(L817<>\"\",Data!$M1368,\"\")","v":""},null,null,null,null,{"$f":"IF(OR(Dashboard!$P$4=\"All\",Dashboard!$R$4=\"All\"),NA(),IF(OR(Data!K1368<>Dashboard!$P$4,Data!K1368<>Dashboard!$R$4),Data!G1368,NA()))","v":77500}]
[null,{"$f":"IF(Dashboard!$P$4=\"All\",Data!G1369,IF(Data!K1369=Dashboard!$P$4,Data!G1369,NA()))","v":{"$error":"#N/A"}},"","","",{"$f":"IF(C818<>\"\",Data!$M1369,\"\")","v":""},null,null,null,null,{"$f":"IF(Dashboard!$R$4=\"All\",Data!G1369,IF(Data!K1369=Dashboard!$R$4,Data!G1369,NA()))","v":{"$error":"#N/A"}},"","","",{"$f":"IF(L818<>\"\",Data!$M1369,\"\")","v":""},null,null,null,null,{"$f":"IF(OR(Dashboard!$P$4=\"All\",Dashboard!$R$4=\"All\"),NA(),IF(OR(Data!K1369<>Dashboard!$P$4,Data!K1369<>Dashboard!$R$4),Data!G1369,NA()))","v":60800}]
[null,{"$f":"IF(Dashboard!$P$4=\"All\",Data!G1370,IF(Data!K1370=Dashboard!$P$4,Data!G1370,NA()))","v":{"$error":"#N/A"}},"","","",{"$f":"IF(C819<>\"\",Data!$M1370,\"\")","v":""},null,null,null,null,{"$f":"IF(Dashboard!$R$4=\"All\",Data!G1370,IF(Data!K1370=Dashboard!$R$4,Data!G1370,NA()))","v":{"$error":"#N/A"}},"","","",{"$f":"IF(L819<>\"\",Data!$M1370,\"\")","v":""},null,null,null,null,{"$f":"IF(OR(Dashboard!$P$4=\"All\",Dashboard!$R$4=\"All\"),NA(),IF(OR(Data!K1370<>Dashboard!$P$4,Data!K1370<>Dashboard!$R$4),Data!G1370,NA()))","v":136000}]
[null,{"$f":"IF(Dashboard!$P$4=\"All\",Data!G1371,IF(Data!K1371=Dashboard!$P$4,Data!G1371,NA()))","v":{"$error":"#N/A"}},"","","",{"$f":"IF(C820<>\"\",Data!$M1371,\"\")","v":""},null,null,null,null,{"$f":"IF(Dashboard!$R$4=\"All\",Data!G1371,IF(Data!K1371=Dashboard!$R$4,Data!G1371,NA()))","v":{"$error":"#N/A"}},"","","",{"$f":"IF(L820<>\"\",Data!$M1371,\"\")","v":""},null,null,null,null,{"$f":"IF(OR(Dashboard!$P$4=\"All\",Dashboard!$R$4=\"All\"),NA(),IF(OR(Data!K1371<>Dashboard!$P$4,Data!K1371<>Dashboard!$R$4),Data!G1371,NA()))","v":20000}]
[null,{"$f":"IF(Dashboard!$P$4=\"All\",Data!G1372,IF(Data!K1372=Dashboard!$P$4,Data!G1372,NA()))","v":{"$error":"#N/A"}},"","","",{"$f":"IF(C821<>\"\",Data!$M1372,\"\")","v":""},null,null,null,null,{"$f":"IF(Dashboard!$R$4=\"All\",Data!G1372,IF(Data!K1372=Dashboard!$R$4,Data!G1372,NA()))","v":{"$error":"#N/A"}},"","","",{"$f":"IF(L821<>\"\",Data!$M1372,\"\")","v":""},null,null,null,null,{"$f":"IF(OR(Dashboard!$P$4=\"All\",Dashboard!$R$4=\"All\"),NA(),IF(OR(Data!K1372<>Dashboard!$P$4,Data!K1372<>Dashboard!$R$4),Data!G1372,NA()))","v":95000}]
[null,{"$f":"IF(Dashboard!$P$4=\"All\",Data!G1373,IF(Data!K1373=Dashboard!$P$4,Data!G1373,NA()))","v":{"$error":"#N/A"}},"","","",{"$f":"IF(C822<>\"\",Data!$M1373,\"\")","v":""},null,null,null,null,{"$f":"IF(Dashboard!$R$4=\"All\",Data!G1373,IF(Data!K1373=Dashboard!$R$4,Data!G1373,NA()))","v":{"$error":"#N/A"}},"","","",{"$f":"IF(L822<>\"\",Data!$M1373,\"\")","v":""},null,null,null,null,{"$f":"IF(OR(Dashboard!$P$4=\"All\",Dashboard!$R$4=\"All\"),NA(),IF(OR(Data!K1373<>Dashboard!$P$4,Data!K1373<>Dashboard!$R$4),Data!G1373,NA()))","v":130000}]
[null,{"$f":"IF(Dashboard!$P$4=\"All\",Data!G1374,IF(Data!K1374=Dashboard!$P$4,Data!G1374,NA()))","v":{"$error":"#N/A"}},"","","",{"$f":"IF(C823<>\"\",Data!$M1374,\"\")","v":""},null,null,null,null,{"$f":"IF(Dashboard!$R$4=\"All\",Data!G1374,IF(Data!K1374=Dashboard!$R$4,Data!G1374,NA()))","v":{"$error":"#N/A"}},"","","",{"$f":"IF(L823<>\"\",Data!$M1374,\"\")","v":""},null,null,null,null,{"$f":"IF(OR(Dashboard!$P$4=\"All\",Dashboard!$R$4=\"All\"),NA(),IF(OR(Data!K1374<>Dashboard!$P$4,Data!K1374<>Dashboard!$R$4),Data!G1374,NA()))","v":65000}]
[null,{"$f":"IF(Dashboard!$P$4=\"All\",Data!G1375,IF(Data!K1375=Dashboard!$P$4,Data!G1375,NA()))","v":{"$error":"#N/A"}},"","","",{"$f":"IF(C824<>\"\",Data!$M1375,\"\")","v":""},null,null,null,null,{"$f":"IF(Dashboard!$R$4=\"All\",Data!G1375,IF(Data!K1375=Dashboard!$R$4,Data!G1375,NA()))","v":{"$error":"#N/A"}},"","","",{"$f":"IF(L824<>\"\",Data!$M1375,\"\")","v":""},null,null,null,null,{"$f":"IF(OR(Dashboard!$P$4=\"All\",Dashboard!$R$4=\"All\"),NA(),IF(OR(Data!K1375<>Dashboard!$P$4,Data!K1375<>Dashboard!$R$4),Data!G1375,NA()))","v":80000}]
[null,{"$f":"IF(Dashboard!$P$4=\"All\",Data!G1376,IF(Data!K1376=Dashboard!$P$4,Data!G1376,NA()))","v":{"$error":"#N/A"}},"","","",{"$f":"IF(C825<>\"\",Data!$M1376,\"\")","v":""},null,null,null,null,{"$f":"IF(Dashboard!$R$4=\"All\",Data!G1376,IF(Data!K1376=Dashboard!$R$4,Data!G1376,NA()))","v":{"$error":"#N/A"}},"","","",{"$f":"IF(L825<>\"\",Data!$M1376,\"\")","v":""},null,null,null,null,{"$f":"IF(OR(Dashboard!$P$4=\"All\",Dashboard!$R$4=\"All\"),NA(),IF(OR(Data!K1376<>Dashboard!$P$4,Data!K1376<>Dashboard!$R$4),Data!G1376,NA()))","v":37000}]
[null,{"$f":"IF(Dashboard!$P$4=\"All\",Data!G1377,IF(Data!K1377=Dashboard!$P$4,Data!G1377,NA()))","v":{"$error":"#N/A"}},"","","",{"$f":"IF(C826<>\"\",Data!$M1377,\"\")","v":""},null,null,null,null,{"$f":"IF(Dashboard!$R$4=\"All\",Data!G1377,IF(Data!K1377=Dashboard!$R$4,Data!G1377,NA()))","v":{"$error":"#N/A"}},"","","",{"$f":"IF(L826<>\"\",Data!$M1377,\"\")","v":""},null,null,null,null,{"$f":"IF(OR(Dashboard!$P$4=\"All\",Dashboard!$R$4=\"All\"),NA(),IF(OR(Data!K1377<>Dashboard!$P$4,Data!K1377<>Dashboard!$R$4),Data!G1377,NA()))","v":40000}]
[null,{"$f":"IF(Dashboard!$P$4=\"All\",Data!G1378,IF(Data!K1378=Dashboard!$P$4,Data!G1378,NA()))","v":{"$error":"#N/A"}},"","","",{"$f":"IF(C827<>\"\",Data!$M1378,\"\")","v":""},null,null,null,null,{"$f":"IF(Dashboard!$R$4=\"All\",Data!G1378,IF(Data!K1378=Dashboard!$R$4,Data!G1378,NA()))","v":{"$error":"#N/A"}},"","","",{"$f":"IF(L827<>\"\",Data!$M1378,\"\")","v":""},null,null,null,null,{"$f":"IF(OR(Dashboard!$P$4=\"All\",Dashboard!$R$4=\"All\"),NA(),IF(OR(Data!K1378<>Dashboard!$P$4,Data!K1378<>Dashboard!$R$4),Data!G1378,NA()))","v":49000}]
[null,{"$f":"IF(Dashboard!$P$4=\"All\",Data!G1379,IF(Data!K1379=Dashboard!$P$4,Data!G1379,NA()))","v":{"$error":"#N/A"}},"","","",{"$f":"IF(C828<>\"\",Data!$M1379,\"\")","v":""},null,null,null,null,{"$f":"IF(Dashboard!$R$4=\"All\",Data!G1379,IF(Data!K1379=Dashboard!$R$4,Data!G1379,NA()))","v":{"$error":"#N/A"}},"","","",{"$f":"IF(L828<>\"\",Data!$M1379,\"\")","v":""},null,null,null,null,{"$f":"IF(OR(Dashboard!$P$4=\"All\",Dashboard!$R$4=\"All\"),NA(),IF(OR(Data!K1379<>Dashboard!$P$4,Data!K1379<>Dashboard!$R$4),Data!G1379,NA()))","v":65000}]
[null,{"$f":"IF(Dashboard!$P$4=\"All\",Data!G1380,IF(Data!K1380=Dashboard!$P$4,Data!G1380,NA()))","v":{"$error":"#N/A"}},"","","",{"$f":"IF(C829<>\"\",Data!$M1380,\"\")","v":""},null,null,null,null,{"$f":"IF(Dashboard!$R$4=\"All\",Data!G1380,IF(Data!K1380=Dashboard!$R$4,Data!G1380,NA()))","v":{"$error":"#N/A"}},"","","",{"$f":"IF(L829<>\"\",Data!$M1380,\"\")","v":""},null,null,null,null,{"$f":"IF(OR(Dashboard!$P$4=\"All\",Dashboard!$R$4=\"All\"),NA(),IF(OR(Data!K1380<>Dashboard!$P$4,Data!K1380<>Dashboard!$R$4),Data!G1380,NA()))","v":55000}]
[null,{"$f":"IF(Dashboard!$P$4=\"All\",Data!G1381,IF(Data!K1381=Dashboard!$P$4,Data!G1381,NA()))","v":{"$error":"#N/A"}},"","","",{"$f":"IF(C830<>\"\",Data!$M1381,\"\")","v":""},null,null,null,null,{"$f":"IF(Dashboard!$R$4=\"All\",Data!G1381,IF(Data!K1381=Dashboard!$R$4,Data!G1381,NA()))","v":{"$error":"#N/A"}},"","","",{"$f":"IF(L830<>\"\",Data!$M1381,\"\")","v":""},null,null,null,null,{"$f":"IF(OR(Dashboard!$P$4=\"All\",Dashboard!$R$4=\"All\"),NA(),IF(OR(Data!K1381<>Dashboard!$P$4,Data!K1381<>Dashboard!$R$4),Data!G1381,NA()))","v":40000}]
[null,{"$f":"IF(Dashboard!$P$4=\"All\",Data!G1382,IF(Data!K1382=Dashboard!$P$4,Data!G1382,NA()))","v":{"$error":"#N/A"}},"","","",{"$f":"IF(C831<>\"\",Data!$M1382,\"\")","v":""},null,null,null,null,{"$f":"IF(Dashboard!$R$4=\"All\",Data!G1382,IF(Data!K1382=Dashboard!$R$4,Data!G1382,NA()))","v":{"$error":"#N/A"}},"","","",{"$f":"IF(L831<>\"\",Data!$M1382,\"\")","v":""},null,null,null,null,{"$f":"IF(OR(Dashboard!$P$4=\"All\",Dashboard!$R$4=\"All\"),NA(),IF(OR(Data!K1382<>Dashboard!$P$4,Data!K1382<>Dashboard!$R$4),Data!G1382,NA()))","v":60000}]
[null,{"$f":"IF(Dashboard!$P$4=\"All\",Data!G1383,IF(Data!K1383=Dashboard!$P$4,Data!G1383,NA()))","v":{"$error":"#N/A"}},"","","",{"$f":"IF(C832<>\"\",Data!$M1383,\"\")","v":""},null,null,null,null,{"$f":"IF(Dashboard!$R$4=\"All\",Data!G1383,IF(Data!K1383=Dashboard!$R$4,Data!G1383,NA()))","v":{"$error":"#N/A"}},"","","",{"$f":"IF(L832<>\"\",Data!$M1383,\"\")","v":""},null,null,null,null,{"$f":"IF(OR(Dashboard!$P$4=\"All\",Dashboard!$R$4=\"All\"),NA(),IF(OR(Data!K1383<>Dashboard!$P$4,Data!K1383<>Dashboard!$R$4),Data!G1383,NA()))","v":45734.379803697877}]
[null,{"$f":"IF(Dashboard!$P$4=\"All\",Data!G1384,IF(Data!K1384=Dashboard!$P$4,Data!G1384,NA()))","v":{"$error":"#N/A"}},"","","",{"$f":"IF(C833<>\"\",Data!$M1384,\"\")","v":""},null,null,null,null,{"$f":"IF(Dashboard!$R$4=\"All\",Data!G1384,IF(Data!K1384=Dashboard!$R$4,Data!G1384,NA()))","v":{"$error":"#N/A"}},"","","",{"$f":"IF(L833<>\"\",Data!$M1384,\"\")","v":""},null,null,null,null,{"$f":"IF(OR(Dashboard!$P$4=\"All\",Dashboard!$R$4=\"All\"),NA(),IF(OR(Data!K1384<>Dashboard!$P$4,Data!K1384<>Dashboard!$R$4),Data!G1384,NA()))","v":150000}]
[null,{"$f":"IF(Dashboard!$P$4=\"All\",Data!G1385,IF(Data!K1385=Dashboard!$P$4,Data!G1385,NA()))","v":{"$error":"#N/A"}},"","","",{"$f":"IF(C834<>\"\",Data!$M1385,\"\")","v":""},null,null,null,null,{"$f":"IF(Dashboard!$R$4=\"All\",Data!G1385,IF(Data!K1385=Dashboard!$R$4,Data!G1385,NA()))","v":{"$error":"#N/A"}},"","","",{"$f":"IF(L834<>\"\",Data!$M1385,\"\")","v":""},null,null,null,null,{"$f":"IF(OR(Dashboard!$P$4=\"All\",Dashboard!$R$4=\"All\"),NA(),IF(OR(Data!K1385<>Dashboard!$P$4,Data!K1385<>Dashboard!$R$4),Data!G1385,NA()))","v":88000}]
[null,{"$f":"IF(Dashboard!$P$4=\"All\",Data!G1386,IF(Data!K1386=Dashboard!$P$4,Data!G1386,NA()))","v":{"$error":"#N/A"}},"","","",{"$f":"IF(C835<>\"\",Data!$M1386,\"\")","v":""},null,null,null,null,{"$f":"IF(Dashboard!$R$4=\"All\",Data!G1386,IF(Data!K1386=Dashboard!$R$4,Data!G1386,NA()))","v":{"$error":"#N/A"}},"","","",{"$f":"IF(L835<>\"\",Data!$M1386,\"\")","v":""},null,null,null,null,{"$f":"IF(OR(Dashboard!$P$4=\"All\",Dashboard!$R$4=\"All\"),NA(),IF(OR(Data!K1386<>Dashboard!$P$4,Data!K1386<>Dashboard!$R$4),Data!G1386,NA()))","v":64500}]
[null,{"$f":"IF(Dashboard!$P$4=\"All\",Data!G1387,IF(Data!K1387=Dashboard!$P$4,Data!G1387,NA()))","v":{"$error":"#N/A"}},{"$f":"IF(ISNA(B836),\"\",B836)","v":""},{"$f":"IF(C836>=PERCENTILE($C$3:$C$1337,0.9),C836,\"\")","v":""},{"$f":"IF(C836<=PERCENTILE($C$3:$C$1337,0.1),C836,\"\")","v":""},{"$f":"IF(C836<>\"\",Data!$M1387,\"\")","v":""},null,null,null,null,{"$f":"IF(Dashboard!$R$4=\"All\",Data!G1387,IF(Data!K1387=Dashboard!$R$4,Data!G1387,NA()))","v":{"$error":"#N/A"}},{"$f":"IF(ISNA(K836),\"\",K836)","v":""},{"$f":"IF(L836>=PERCENTILE($L$3:$L$1337,0.9),L836,\"\")","v":""},{"$f":"IF(L836<=PERCENTILE($L$3:$L$1337,0.1),L836,\"\")","v":""},{"$f":"IF(L836<>\"\",Data!$M1387,\"\")","v":""},null,null,null,null,{"$f":"IF(OR(Dashboard!$P$4=\"All\",Dashboard!$R$4=\"All\"),NA(),IF(OR(Data!K1387<>Dashboard!$P$4,Data!K1387<>Dashboard!$R$4),Data!G1387,NA()))","v":57600}]
[null,{"$f":"IF(Dashboard!$P$4=\"All\",Data!G1388,IF(Data!K1388=Dashboard!$P$4,Data!G1388,NA()))","v":{"$error":"#N/A"}},"","","",{"$f":"IF(C837<>\"\",Data!$M1388,\"\")","v":""},null,null,null,null,{"$f":"IF(Dashboard!$R$4=\"All\",Data!G1388,IF(Data!K1388=Dashboard!$R$4,Data!G1388,NA()))","v":{"$error":"#N/A"}},"","","",{"$f":"IF(L837<>\"\",Data!$M1388,\"\")","v":""},null,null,null,null,{"$f":"IF(OR(Dashboard!$P$4=\"All\",Dashboard!$R$4=\"All\"),NA(),IF(OR(Data!K1388<>Dashboard!$P$4,Data!K1388<>Dashboard!$R$4),Data!G1388,NA()))","v":50000}]
[null,{"$f":"IF(Dashboard!$P$4=\"All\",Data!G1389,IF(Data!K1389=Dashboard!$P$4,Data!G1389,NA()))","v":{"$error":"#N/A"}},"","","",{"$f":"IF(C838<>\"\",Data!$M1389,\"\")","v":""},null,null,null,null,{"$f":"IF(Dashboard!$R$4=\"All\",Data!G1389,IF(Data!K1389=Dashboard!$R$4,Data!G1389,NA()))","v":{"$error":"#N/A"}},"","","",{"$f":"IF(L838<>\"\",Data!$M1389,\"\")","v":""},null,null,null,null,{"$f":"IF(OR(Dashboard!$P$4=\"All\",Dashboard!$R$4=\"All\"),NA(),IF(OR(Data!K1389<>Dashboard!$P$4,Data!K1389<>Dashboard!$R$4),Data!G1389,NA()))","v":120000}]
[null,{"$f":"IF(Dashboard!$P$4=\"All\",Data!G1390,IF(Data!K1390=Dashboard!$P$4,Data!G1390,NA()))","v":{"$error":"#N/A"}},"","","",{"$f":"IF(C839<>\"\",Data!$M1390,\"\")","v":""},null,null,null,null,{"$f":"IF(Dashboard!$R$4=\"All\",Data!G1390,IF(Data!K1390=Dashboard!$R$4,Data!G1390,NA()))","v":{"$error":"#N/A"}},"","","",{"$f":"IF(L839<>\"\",Data!$M1390,\"\")","v":""},null,null,null,null,{"$f":"IF(OR(Dashboard!$P$4=\"All\",Dashboard!$R$4=\"All\"),NA(),IF(OR(Data!K1390<>Dashboard!$P$4,Data!K1390<>Dashboard!$R$4),Data!G1390,NA()))","v":107000}]
[null,{"$f":"IF(Dashboard!$P$4=\"All\",Data!G1391,IF(Data!K1391=Dashboard!$P$4,Data!G1391,NA()))","v":{"$error":"#N/A"}},"","","",{"$f":"IF(C840<>\"\",Data!$M1391,\"\")","v":""},null,null,null,null,{"$f":"IF(Dashboard!$R$4=\"All\",Data!G1391,IF(Data!K1391=Dashboard!$R$4,Data!G1391,NA()))","v":{"$error":"#N/A"}},"","","",{"$f":"IF(L840<>\"\",Data!$M1391,\"\")","v":""},null,null,null,null,{"$f":"IF(OR(Dashboard!$P$4=\"All\",Dashboard!$R$4=\"All\"),NA(),IF(OR(Data!K1391<>Dashboard!$P$4,Data!K1391<>Dashboard!$R$4),Data!G1391,NA()))","v":40000}]
[null,{"$f":"IF(Dashboard!$P$4=\"All\",Data!G1392,IF(Data!K1392=Dashboard!$P$4,Data!G1392,NA()))","v":{"$error":"#N/A"}},"","","",{"$f":"IF(C841<>\"\",Data!$M1392,\"\")","v":""},null,null,null,null,{"$f":"IF(Dashboard!$R$4=\"All\",Data!G1392,IF(Data!K1392=Dashboard!$R$4,Data!G1392,NA()))","v":{"$error":"#N/A"}},"","","",{"$f":"IF(L841<>\"\",Data!$M1392,\"\")","v":""},null,null,null,null,{"$f":"IF(OR(Dashboard!$P$4=\"All\",Dashboard!$R$4=\"All\"),NA(),IF(OR(Data!K1392<>Dashboard!$P$4,Data!K1392<>Dashboard!$R$4),Data!G1392,NA()))","v":81000}]
[null,{"$f":"IF(Dashboard!$P$4=\"All\",Data!G1393,IF(Data!K1393=Dashboard!$P$4,Data!G1393,NA()))","v":{"$error":"#N/A"}},"","","",{"$f":"IF(C842<>\"\",Data!$M1393,\"\")","v":""},null,null,null,null,{"$f":"IF(Dashboard!$R$4=\"All\",Data!G1393,IF(Data!K1393=Dashboard!$R$4,Data!G1393,NA()))","v":{"$error":"#N/A"}},"","","",{"$f":"IF(L842<>\"\",Data!$M1393,\"\")","v":""},null,null,null,null,{"$f":"IF(OR(Dashboard!$P$4=\"All\",Dashboard!$R$4=\"All\"),NA(),IF(OR(Data!K1393<>Dashboard!$P$4,Data!K1393<>Dashboard!$R$4),Data!G1393,NA()))","v":45000}]
[null,{"$f":"IF(Dashboard!$P$4=\"All\",Data!G1394,IF(Data!K1394=Dashboard!$P$4,Data!G1394,NA()))","v":{"$error":"#N/A"}},"","","",{"$f":"IF(C843<>\"\",Data!$M1394,\"\")","v":""},null,null,null,null,{"$f":"IF(Dashboard!$R$4=\"All\",Data!G1394,IF(Data!K1394=Dashboard!$R$4,Data!G1394,NA()))","v":{"$error":"#N/A"}},"","","",{"$f":"IF(L843<>\"\",Data!$M1394,\"\")","v":""},null,null,null,null,{"$f":"IF(OR(Dashboard!$P$4=\"All\",Dashboard!$R$4=\"All\"),NA(),IF(OR(Data!K1394<>Dashboard!$P$4,Data!K1394<>Dashboard!$R$4),Data!G1394,NA()))","v":49000}]
[null,{"$f":"IF(Dashboard!$P$4=\"All\",Data!G1395,IF(Data!K1395=Dashboard!$P$4,Data!G1395,NA()))","v":{"$error":"#N/A"}},"","","",{"$f":"IF(C844<>\"\",Data!$M1395,\"\")","v":""},null,null,null,null,{"$f":"IF(Dashboard!$R$4=\"All\",Data!G1395,IF(Data!K1395=Dashboard!$R$4,Data!G1395,NA()))","v":{"$error":"#N/A"}},"","","",{"$f":"IF(L844<>\"\",Data!$M1395,\"\")","v":""},null,null,null,null,{"$f":"IF(OR(Dashboard!$P$4=\"All\",Dashboard!$R$4=\"All\"),NA(),IF(OR(Data!K1395<>Dashboard!$P$4,Data!K1395<>Dashboard!$R$4),Data!G1395,NA()))","v":13355.937515581925}]
[null,{"$f":"IF(Dashboard!$P$4=\"All\",Data!G1396,IF(Data!K1396=Dashboard!$P$4,Data!G1396,NA()))","v":{"$error":"#N/A"}},"","","",{"$f":"IF(C845<>\"\",Data!$M1396,\"\")","v":""},null,null,null,null,{"$f":"IF(Dashboard!$R$4=\"All\",Data!G1396,IF(Data!K1396=Dashboard!$R$4,Data!G1396,NA()))","v":{"$error":"#N/A"}},"","","",{"$f":"IF(L845<>\"\",Data!$M1396,\"\")","v":""},null,null,null,null,{"$f":"IF(OR(Dashboard!$P$4=\"All\",Dashboard!$R$4=\"All\"),NA(),IF(OR(Data!K1396<>Dashboard!$P$4,Data!K1396<>Dashboard!$R$4),Data!G1396,NA()))","v":72000}]
[null,{"$f":"IF(Dashboard!$P$4=\"All\",Data!G1397,IF(Data!K1397=Dashboard!$P$4,Data!G1397,NA()))","v":{"$error":"#N/A"}},"","","",{"$f":"IF(C846<>\"\",Data!$M1397,\"\")","v":""},null,null,null,null,{"$f":"IF(Dashboard!$R$4=\"All\",Data!G1397,IF(Data!K1397=Dashboard!$R$4,Data!G1397,NA()))","v":{"$error":"#N/A"}},"","","",{"$f":"IF(L846<>\"\",Data!$M1397,\"\")","v":""},null,null,null,null,{"$f":"IF(OR(Dashboard!$P$4=\"All\",Dashboard!$R$4=\"All\"),NA(),IF(OR(Data!K1397<>Dashboard!$P$4,Data!K1397<>Dashboard!$R$4),Data!G1397,NA()))","v":50000}]
[null,{"$f":"IF(Dashboard!$P$4=\"All\",Data!G1398,IF(Data!K1398=Dashboard!$P$4,Data!G1398,NA()))","v":{"$error":"#N/A"}},"","","",{"$f":"IF(C847<>\"\",Data!$M1398,\"\")","v":""},null,null,null,null,{"$f":"IF(Dashboard!$R$4=\"All\",Data!G1398,IF(Data!K1398=Dashboard!$R$4,Data!G1398,NA()))","v":{"$error":"#N/A"}},"","","",{"$f":"IF(L847<>\"\",Data!$M1398,\"\")","v":""},null,null,null,null,{"$f":"IF(OR(Dashboard!$P$4=\"All\",Dashboard!$R$4=\"All\"),NA(),IF(OR(Data!K1398<>Dashboard!$P$4,Data!K1398<>Dashboard!$R$4),Data!G1398,NA()))","v":57678}]
[null,{"$f":"IF(Dashboard!$P$4=\"All\",Data!G1399,IF(Data!K1399=Dashboard!$P$4,Data!G1399,NA()))","v":{"$error":"#N/A"}},"","","",{"$f":"IF(C848<>\"\",Data!$M1399,\"\")","v":""},null,null,null,null,{"$f":"IF(Dashboard!$R$4=\"All\",Data!G1399,IF(Data!K1399=Dashboard!$R$4,Data!G1399,NA()))","v":{"$error":"#N/A"}},"","","",{"$f":"IF(L848<>\"\",Data!$M1399,\"\")","v":""},null,null,null,null,{"$f":"IF(OR(Dashboard!$P$4=\"All\",Dashboard!$R$4=\"All\"),NA(),IF(OR(Data!K1399<>Dashboard!$P$4,Data!K1399<>Dashboard!$R$4),Data!G1399,NA()))","v":80442}]
[null,{"$f":"IF(Dashboard!$P$4=\"All\",Data!G1400,IF(Data!K1400=Dashboard!$P$4,Data!G1400,NA()))","v":{"$error":"#N/A"}},"","","",{"$f":"IF(C849<>\"\",Data!$M1400,\"\")","v":""},null,null,null,null,{"$f":"IF(Dashboard!$R$4=\"All\",Data!G1400,IF(Data!K1400=Dashboard!$R$4,Data!G1400,NA()))","v":{"$error":"#N/A"}},"","","",{"$f":"IF(L849<>\"\",Data!$M1400,\"\")","v":""},null,null,null,null,{"$f":"IF(OR(Dashboard!$P$4=\"All\",Dashboard!$R$4=\"All\"),NA(),IF(OR(Data!K1400<>Dashboard!$P$4,Data!K1400<>Dashboard!$R$4),Data!G1400,NA()))","v":75000}]
[null,{"$f":"IF(Dashboard!$P$4=\"All\",Data!G1401,IF(Data!K1401=Dashboard!$P$4,Data!G1401,NA()))","v":{"$error":"#N/A"}},"","","",{"$f":"IF(C850<>\"\",Data!$M1401,\"\")","v":""},null,null,null,null,{"$f":"IF(Dashboard!$R$4=\"All\",Data!G1401,IF(Data!K1401=Dashboard!$R$4,Data!G1401,NA()))","v":{"$error":"#N/A"}},"","","",{"$f":"IF(L850<>\"\",Data!$M1401,\"\")","v":""},null,null,null,null,{"$f":"IF(OR(Dashboard!$P$4=\"All\",Dashboard!$R$4=\"All\"),NA(),IF(OR(Data!K1401<>Dashboard!$P$4,Data!K1401<>Dashboard!$R$4),Data!G1401,NA()))","v":61000}]
[null,{"$f":"IF(Dashboard!$P$4=\"All\",Data!G1402,IF(Data!K1402=Dashboard!$P$4,Data!G1402,NA()))","v":{"$error":"#N/A"}},"","","",{"$f":"IF(C851<>\"\",Data!$M1402,\"\")","v":""},null,null,null,null,{"$f":"IF(Dashboard!$R$4=\"All\",Data!G1402,IF(Data!K1402=Dashboard!$R$4,Data!G1402,NA()))","v":{"$error":"#N/A"}},"","","",{"$f":"IF(L851<>\"\",Data!$M1402,\"\")","v":""},null,null,null,null,{"$f":"IF(OR(Dashboard!$P$4=\"All\",Dashboard!$R$4=\"All\"),NA(),IF(OR(Data!K1402<>Dashboard!$P$4,Data!K1402<>Dashboard!$R$4),Data!G1402,NA()))","v":77000}]
[null,{"$f":"IF(Dashboard!$P$4=\"All\",Data!G1403,IF(Data!K1403=Dashboard!$P$4,Data!G1403,NA()))","v":{"$error":"#N/A"}},"","","",{"$f":"IF(C852<>\"\",Data!$M1403,\"\")","v":""},null,null,null,null,{"$f":"IF(Dashboard!$R$4=\"All\",Data!G1403,IF(Data!K1403=Dashboard!$R$4,Data!G1403,NA()))","v":{"$error":"#N/A"}},"","","",{"$f":"IF(L852<>\"\",Data!$M1403,\"\")","v":""},null,null,null,null,{"$f":"IF(OR(Dashboard!$P$4=\"All\",Dashboard!$R$4=\"All\"),NA(),IF(OR(Data!K1403<>Dashboard!$P$4,Data!K1403<>Dashboard!$R$4),Data!G1403,NA()))","v":92000}]
[null,{"$f":"IF(Dashboard!$P$4=\"All\",Data!G1404,IF(Data!K1404=Dashboard!$P$4,Data!G1404,NA()))","v":{"$error":"#N/A"}},"","","",{"$f":"IF(C853<>\"\",Data!$M1404,\"\")","v":""},null,null,null,null,{"$f":"IF(Dashboard!$R$4=\"All\",Data!G1404,IF(Data!K1404=Dashboard!$R$4,Data!G1404,NA()))","v":{"$error":"#N/A"}},"","","",{"$f":"IF(L853<>\"\",Data!$M1404,\"\")","v":""},null,null,null,null,{"$f":"IF(OR(Dashboard!$P$4=\"All\",Dashboard!$R$4=\"All\"),NA(),IF(OR(Data!K1404<>Dashboard!$P$4,Data!K1404<>Dashboard!$R$4),Data!G1404,NA()))","v":72000}]
[null,{"$f":"IF(Dashboard!$P$4=\"All\",Data!G1405,IF(Data!K1405=Dashboard!$P$4,Data!G1405,NA()))","v":{"$error":"#N/A"}},"","","",{"$f":"IF(C854<>\"\",Data!$M1405,\"\")","v":""},null,null,null,null,{"$f":"IF(Dashboard!$R$4=\"All\",Data!G1405,IF(Data!K1405=Dashboard!$R$4,Data!G1405,NA()))","v":{"$error":"#N/A"}},"","","",{"$f":"IF(L854<>\"\",Data!$M1405,\"\")","v":""},null,null,null,null,{"$f":"IF(OR(Dashboard!$P$4=\"All\",Dashboard!$R$4=\"All\"),NA(),IF(OR(Data!K1405<>Dashboard!$P$4,Data!K1405<>Dashboard!$R$4),Data!G1405,NA()))","v":14000}]
[null,{"$f":"IF(Dashboard!$P$4=\"All\",Data!G1406,IF(Data!K1406=Dashboard!$P$4,Data!G1406,NA()))","v":{"$error":"#N/A"}},"","","",{"$f":"IF(C855<>\"\",Data!$M1406,\"\")","v":""},null,null,null,null,{"$f":"IF(Dashboard!$R$4=\"All\",Data!G1406,IF(Data!K1406=Dashboard!$R$4,Data!G1406,NA()))","v":{"$error":"#N/A"}},"","","",{"$f":"IF(L855<>\"\",Data!$M1406,\"\")","v":""},null,null,null,null,{"$f":"IF(OR(Dashboard!$P$4=\"All\",Dashboard!$R$4=\"All\"),NA(),IF(OR(Data!K1406<>Dashboard!$P$4,Data!K1406<>Dashboard!$R$4),Data!G1406,NA()))","v":111000}]
[null,{"$f":"IF(Dashboard!$P$4=\"All\",Data!G1407,IF(Data!K1407=Dashboard!$P$4,Data!G1407,NA()))","v":{"$error":"#N/A"}},"","","",{"$f":"IF(C856<>\"\",Data!$M1407,\"\")","v":""},null,null,null,null,{"$f":"IF(Dashboard!$R$4=\"All\",Data!G1407,IF(Data!K1407=Dashboard!$R$4,Data!G1407,NA()))","v":{"$error":"#N/A"}},"","","",{"$f":"IF(L856<>\"\",Data!$M1407,\"\")","v":""},null,null,null,null,{"$f":"IF(OR(Dashboard!$P$4=\"All\",Dashboard!$R$4=\"All\"),NA(),IF(OR(Data!K1407<>Dashboard!$P$4,Data!K1407<>Dashboard!$R$4),Data!G1407,NA()))","v":80000}]
[null,{"$f":"IF(Dashboard!$P$4=\"All\",Data!G1408,IF(Data!K1408=Dashboard!$P$4,Data!G1408,NA()))","v":{"$error":"#N/A"}},"","","",{"$f":"IF(C857<>\"\",Data!$M1408,\"\")","v":""},null,null,null,null,{"$f":"IF(Dashboard!$R$4=\"All\",Data!G1408,IF(Data!K1408=Dashboard!$R$4,Data!G1408,NA()))","v":{"$error":"#N/A"}},"","","",{"$f":"IF(L857<>\"\",Data!$M1408,\"\")","v":""},null,null,null,null,{"$f":"IF(OR(Dashboard!$P$4=\"All\",Dashboard!$R$4=\"All\"),NA(),IF(OR(Data!K1408<>Dashboard!$P$4,Data!K1408<>Dashboard!$R$4),Data!G1408,NA()))","v":57875.729234188344}]
[null,{"$f":"IF(Dashboard!$P$4=\"All\",Data!G1409,IF(Data!K1409=Dashboard!$P$4,Data!G1409,NA()))","v":{"$error":"#N/A"}},"","","",{"$f":"IF(C858<>\"\",Data!$M1409,\"\")","v":""},null,null,null,null,{"$f":"IF(Dashboard!$R$4=\"All\",Data!G1409,IF(Data!K1409=Dashboard!$R$4,Data!G1409,NA()))","v":{"$error":"#N/A"}},"","","",{"$f":"IF(L858<>\"\",Data!$M1409,\"\")","v":""},null,null,null,null,{"$f":"IF(OR(Dashboard!$P$4=\"All\",Dashboard!$R$4=\"All\"),NA(),IF(OR(Data!K1409<>Dashboard!$P$4,Data!K1409<>Dashboard!$R$4),Data!G1409,NA()))","v":25000}]
[null,{"$f":"IF(Dashboard!$P$4=\"All\",Data!G1410,IF(Data!K1410=Dashboard!$P$4,Data!G1410,NA()))","v":{"$error":"#N/A"}},"","","",{"$f":"IF(C859<>\"\",Data!$M1410,\"\")","v":""},null,null,null,null,{"$f":"IF(Dashboard!$R$4=\"All\",Data!G1410,IF(Data!K1410=Dashboard!$R$4,Data!G1410,NA()))","v":{"$error":"#N/A"}},"","","",{"$f":"IF(L859<>\"\",Data!$M1410,\"\")","v":""},null,null,null,null,{"$f":"IF(OR(Dashboard!$P$4=\"All\",Dashboard!$R$4=\"All\"),NA(),IF(OR(Data!K1410<>Dashboard!$P$4,Data!K1410<>Dashboard!$R$4),Data!G1410,NA()))","v":24000}]
[null,{"$f":"IF(Dashboard!$P$4=\"All\",Data!G1411,IF(Data!K1411=Dashboard!$P$4,Data!G1411,NA()))","v":{"$error":"#N/A"}},"","","",{"$f":"IF(C860<>\"\",Data!$M1411,\"\")","v":""},null,null,null,null,{"$f":"IF(Dashboard!$R$4=\"All\",Data!G1411,IF(Data!K1411=Dashboard!$R$4,Data!G1411,NA()))","v":{"$error":"#N/A"}},"","","",{"$f":"IF(L860<>\"\",Data!$M1411,\"\")","v":""},null,null,null,null,{"$f":"IF(OR(Dashboard!$P$4=\"All\",Dashboard!$R$4=\"All\"),NA(),IF(OR(Data!K1411<>Dashboard!$P$4,Data!K1411<>Dashboard!$R$4),Data!G1411,NA()))","v":61000}]
[null,{"$f":"IF(Dashboard!$P$4=\"All\",Data!G1412,IF(Data!K1412=Dashboard!$P$4,Data!G1412,NA()))","v":{"$error":"#N/A"}},"","","",{"$f":"IF(C861<>\"\",Data!$M1412,\"\")","v":""},null,null,null,null,{"$f":"IF(Dashboard!$R$4=\"All\",Data!G1412,IF(Data!K1412=Dashboard!$R$4,Data!G1412,NA()))","v":{"$error":"#N/A"}},"","","",{"$f":"IF(L861<>\"\",Data!$M1412,\"\")","v":""},null,null,null,null,{"$f":"IF(OR(Dashboard!$P$4=\"All\",Dashboard!$R$4=\"All\"),NA(),IF(OR(Data!K1412<>Dashboard!$P$4,Data!K1412<>Dashboard!$R$4),Data!G1412,NA()))","v":56095.031102144967}]
[null,{"$f":"IF(Dashboard!$P$4=\"All\",Data!G1413,IF(Data!K1413=Dashboard!$P$4,Data!G1413,NA()))","v":{"$error":"#N/A"}},"","","",{"$f":"IF(C862<>\"\",Data!$M1413,\"\")","v":""},null,null,null,null,{"$f":"IF(Dashboard!$R$4=\"All\",Data!G1413,IF(Data!K1413=Dashboard!$R$4,Data!G1413,NA()))","v":{"$error":"#N/A"}},"","","",{"$f":"IF(L862<>\"\",Data!$M1413,\"\")","v":""},null,null,null,null,{"$f":"IF(OR(Dashboard!$P$4=\"All\",Dashboard!$R$4=\"All\"),NA(),IF(OR(Data!K1413<>Dashboard!$P$4,Data!K1413<>Dashboard!$R$4),Data!G1413,NA()))","v":71393.675948184507}]
[null,{"$f":"IF(Dashboard!$P$4=\"All\",Data!G1414,IF(Data!K1414=Dashboard!$P$4,Data!G1414,NA()))","v":{"$error":"#N/A"}},"","","",{"$f":"IF(C863<>\"\",Data!$M1414,\"\")","v":""},null,null,null,null,{"$f":"IF(Dashboard!$R$4=\"All\",Data!G1414,IF(Data!K1414=Dashboard!$R$4,Data!G1414,NA()))","v":{"$error":"#N/A"}},"","","",{"$f":"IF(L863<>\"\",Data!$M1414,\"\")","v":""},null,null,null,null,{"$f":"IF(OR(Dashboard!$P$4=\"All\",Dashboard!$R$4=\"All\"),NA(),IF(OR(Data!K1414<>Dashboard!$P$4,Data!K1414<>Dashboard!$R$4),Data!G1414,NA()))","v":96230}]
[null,{"$f":"IF(Dashboard!$P$4=\"All\",Data!G1415,IF(Data!K1415=Dashboard!$P$4,Data!G1415,NA()))","v":{"$error":"#N/A"}},"","","",{"$f":"IF(C864<>\"\",Data!$M1415,\"\")","v":""},null,null,null,null,{"$f":"IF(Dashboard!$R$4=\"All\",Data!G1415,IF(Data!K1415=Dashboard!$R$4,Data!G1415,NA()))","v":{"$error":"#N/A"}},"","","",{"$f":"IF(L864<>\"\",Data!$M1415,\"\")","v":""},null,null,null,null,{"$f":"IF(OR(Dashboard!$P$4=\"All\",Dashboard!$R$4=\"All\"),NA(),IF(OR(Data!K1415<>Dashboard!$P$4,Data!K1415<>Dashboard!$R$4),Data!G1415,NA()))","v":75000}]
[null,{"$f":"IF(Dashboard!$P$4=\"All\",Data!G1416,IF(Data!K1416=Dashboard!$P$4,Data!G1416,NA()))","v":{"$error":"#N/A"}},"","","",{"$f":"IF(C865<>\"\",Data!$M1416,\"\")","v":""},null,null,null,null,{"$f":"IF(Dashboard!$R$4=\"All\",Data!G1416,IF(Data!K1416=Dashboard!$R$4,Data!G1416,NA()))","v":{"$error":"#N/A"}},"","","",{"$f":"IF(L865<>\"\",Data!$M1416,\"\")","v":""},null,null,null,null,{"$f":"IF(OR(Dashboard!$P$4=\"All\",Dashboard!$R$4=\"All\"),NA(),IF(OR(Data!K1416<>Dashboard!$P$4,Data!K1416<>Dashboard!$R$4),Data!G1416,NA()))","v":102000}]
[null,{"$f":"IF(Dashboard!$P$4=\"All\",Data!G1417,IF(Data!K1417=Dashboard!$P$4,Data!G1417,NA()))","v":{"$error":"#N/A"}},"","","",{"$f":"IF(C866<>\"\",Data!$M1417,\"\")","v":""},null,null,null,null,{"$f":"IF(Dashboard!$R$4=\"All\",Data!G1417,IF(Data!K1417=Dashboard!$R$4,Data!G1417,NA()))","v":{"$error":"#N/A"}},"","","",{"$f":"IF(L866<>\"\",Data!$M1417,\"\")","v":""},null,null,null,null,{"$f":"IF(OR(Dashboard!$P$4=\"All\",Dashboard!$R$4=\"All\"),NA(),IF(OR(Data!K1417<>Dashboard!$P$4,Data!K1417<>Dashboard!$R$4),Data!G1417,NA()))","v":19008.034062397041}]
[null,{"$f":"IF(Dashboard!$P$4=\"All\",Data!G1418,IF(Data!K1418=Dashboard!$P$4,Data!G1418,NA()))","v":{"$error":"#N/A"}},"","","",{"$f":"IF(C867<>\"\",Data!$M1418,\"\")","v":""},null,null,null,null,{"$f":"IF(Dashboard!$R$4=\"All\",Data!G1418,IF(Data!K1418=Dashboard!$R$4,Data!G1418,NA()))","v":{"$error":"#N/A"}},"","","",{"$f":"IF(L867<>\"\",Data!$M1418,\"\")","v":""},null,null,null,null,{"$f":"IF(OR(Dashboard!$P$4=\"All\",Dashboard!$R$4=\"All\"),NA(),IF(OR(Data!K1418<>Dashboard!$P$4,Data!K1418<>Dashboard!$R$4),Data!G1418,NA()))","v":4356}]
[null,{"$f":"IF(Dashboard!$P$4=\"All\",Data!G1419,IF(Data!K1419=Dashboard!$P$4,Data!G1419,NA()))","v":{"$error":"#N/A"}},"","","",{"$f":"IF(C868<>\"\",Data!$M1419,\"\")","v":""},null,null,null,null,{"$f":"IF(Dashboard!$R$4=\"All\",Data!G1419,IF(Data!K1419=Dashboard!$R$4,Data!G1419,NA()))","v":{"$error":"#N/A"}},"","","",{"$f":"IF(L868<>\"\",Data!$M1419,\"\")","v":""},null,null,null,null,{"$f":"IF(OR(Dashboard!$P$4=\"All\",Dashboard!$R$4=\"All\"),NA(),IF(OR(Data!K1419<>Dashboard!$P$4,Data!K1419<>Dashboard!$R$4),Data!G1419,NA()))","v":5342.3750062327708}]
[null,{"$f":"IF(Dashboard!$P$4=\"All\",Data!G1420,IF(Data!K1420=Dashboard!$P$4,Data!G1420,NA()))","v":{"$error":"#N/A"}},"","","",{"$f":"IF(C869<>\"\",Data!$M1420,\"\")","v":""},null,null,null,null,{"$f":"IF(Dashboard!$R$4=\"All\",Data!G1420,IF(Data!K1420=Dashboard!$R$4,Data!G1420,NA()))","v":{"$error":"#N/A"}},"","","",{"$f":"IF(L869<>\"\",Data!$M1420,\"\")","v":""},null,null,null,null,{"$f":"IF(OR(Dashboard!$P$4=\"All\",Dashboard!$R$4=\"All\"),NA(),IF(OR(Data!K1420<>Dashboard!$P$4,Data!K1420<>Dashboard!$R$4),Data!G1420,NA()))","v":67000}]
[null,{"$f":"IF(Dashboard!$P$4=\"All\",Data!G1421,IF(Data!K1421=Dashboard!$P$4,Data!G1421,NA()))","v":{"$error":"#N/A"}},"","","",{"$f":"IF(C870<>\"\",Data!$M1421,\"\")","v":""},null,null,null,null,{"$f":"IF(Dashboard!$R$4=\"All\",Data!G1421,IF(Data!K1421=Dashboard!$R$4,Data!G1421,NA()))","v":{"$error":"#N/A"}},"","","",{"$f":"IF(L870<>\"\",Data!$M1421,\"\")","v":""},null,null,null,null,{"$f":"IF(OR(Dashboard!$P$4=\"All\",Dashboard!$R$4=\"All\"),NA(),IF(OR(Data!K1421<>Dashboard!$P$4,Data!K1421<>Dashboard!$R$4),Data!G1421,NA()))","v":8547.8000099724322}]
[null,{"$f":"IF(Dashboard!$P$4=\"All\",Data!G1422,IF(Data!K1422=Dashboard!$P$4,Data!G1422,NA()))","v":{"$error":"#N/A"}},"","","",{"$f":"IF(C871<>\"\",Data!$M1422,\"\")","v":""},null,null,null,null,{"$f":"IF(Dashboard!$R$4=\"All\",Data!G1422,IF(Data!K1422=Dashboard!$R$4,Data!G1422,NA()))","v":{"$error":"#N/A"}},"","","",{"$f":"IF(L871<>\"\",Data!$M1422,\"\")","v":""},null,null,null,null,{"$f":"IF(OR(Dashboard!$P$4=\"All\",Dashboard!$R$4=\"All\"),NA(),IF(OR(Data!K1422<>Dashboard!$P$4,Data!K1422<>Dashboard!$R$4),Data!G1422,NA()))","v":16027.125018698311}]
[null,{"$f":"IF(Dashboard!$P$4=\"All\",Data!G1423,IF(Data!K1423=Dashboard!$P$4,Data!G1423,NA()))","v":{"$error":"#N/A"}},"","","",{"$f":"IF(C872<>\"\",Data!$M1423,\"\")","v":""},null,null,null,null,{"$f":"IF(Dashboard!$R$4=\"All\",Data!G1423,IF(Data!K1423=Dashboard!$R$4,Data!G1423,NA()))","v":{"$error":"#N/A"}},"","","",{"$f":"IF(L872<>\"\",Data!$M1423,\"\")","v":""},null,null,null,null,{"$f":"IF(OR(Dashboard!$P$4=\"All\",Dashboard!$R$4=\"All\"),NA(),IF(OR(Data!K1423<>Dashboard!$P$4,Data!K1423<>Dashboard!$R$4),Data!G1423,NA()))","v":10684.750012465542}]
[null,{"$f":"IF(Dashboard!$P$4=\"All\",Data!G1424,IF(Data!K1424=Dashboard!$P$4,Data!G1424,NA()))","v":{"$error":"#N/A"}},"","","",{"$f":"IF(C873<>\"\",Data!$M1424,\"\")","v":""},null,null,null,null,{"$f":"IF(Dashboard!$R$4=\"All\",Data!G1424,IF(Data!K1424=Dashboard!$R$4,Data!G1424,NA()))","v":{"$error":"#N/A"}},"","","",{"$f":"IF(L873<>\"\",Data!$M1424,\"\")","v":""},null,null,null,null,{"$f":"IF(OR(Dashboard!$P$4=\"All\",Dashboard!$R$4=\"All\"),NA(),IF(OR(Data!K1424<>Dashboard!$P$4,Data!K1424<>Dashboard!$R$4),Data!G1424,NA()))","v":30000}]
[null,{"$f":"IF(Dashboard!$P$4=\"All\",Data!G1425,IF(Data!K1425=Dashboard!$P$4,Data!G1425,NA()))","v":{"$error":"#N/A"}},"","","",{"$f":"IF(C874<>\"\",Data!$M1425,\"\")","v":""},null,null,null,null,{"$f":"IF(Dashboard!$R$4=\"All\",Data!G1425,IF(Data!K1425=Dashboard!$R$4,Data!G1425,NA()))","v":{"$error":"#N/A"}},"","","",{"$f":"IF(L874<>\"\",Data!$M1425,\"\")","v":""},null,null,null,null,{"$f":"IF(OR(Dashboard!$P$4=\"All\",Dashboard!$R$4=\"All\"),NA(),IF(OR(Data!K1425<>Dashboard!$P$4,Data!K1425<>Dashboard!$R$4),Data!G1425,NA()))","v":8903.9583437212841}]
[null,{"$f":"IF(Dashboard!$P$4=\"All\",Data!G1426,IF(Data!K1426=Dashboard!$P$4,Data!G1426,NA()))","v":{"$error":"#N/A"}},"","","",{"$f":"IF(C875<>\"\",Data!$M1426,\"\")","v":""},null,null,null,null,{"$f":"IF(Dashboard!$R$4=\"All\",Data!G1426,IF(Data!K1426=Dashboard!$R$4,Data!G1426,NA()))","v":{"$error":"#N/A"}},"","","",{"$f":"IF(L875<>\"\",Data!$M1426,\"\")","v":""},null,null,null,null,{"$f":"IF(OR(Dashboard!$P$4=\"All\",Dashboard!$R$4=\"All\"),NA(),IF(OR(Data!K1426<>Dashboard!$P$4,Data!K1426<>Dashboard!$R$4),Data!G1426,NA()))","v":20000}]
[null,{"$f":"IF(Dashboard!$P$4=\"All\",Data!G1427,IF(Data!K1427=Dashboard!$P$4,Data!G1427,NA()))","v":{"$error":"#N/A"}},"","","",{"$f":"IF(C876<>\"\",Data!$M1427,\"\")","v":""},null,null,null,null,{"$f":"IF(Dashboard!$R$4=\"All\",Data!G1427,IF(Data!K1427=Dashboard!$R$4,Data!G1427,NA()))","v":{"$error":"#N/A"}},"","","",{"$f":"IF(L876<>\"\",Data!$M1427,\"\")","v":""},null,null,null,null,{"$f":"IF(OR(Dashboard!$P$4=\"All\",Dashboard!$R$4=\"All\"),NA(),IF(OR(Data!K1427<>Dashboard!$P$4,Data!K1427<>Dashboard!$R$4),Data!G1427,NA()))","v":87712.230450626681}]
[null,{"$f":"IF(Dashboard!$P$4=\"All\",Data!G1428,IF(Data!K1428=Dashboard!$P$4,Data!G1428,NA()))","v":{"$error":"#N/A"}},"","","",{"$f":"IF(C877<>\"\",Data!$M1428,\"\")","v":""},null,null,null,null,{"$f":"IF(Dashboard!$R$4=\"All\",Data!G1428,IF(Data!K1428=Dashboard!$R$4,Data!G1428,NA()))","v":{"$error":"#N/A"}},"","","",{"$f":"IF(L877<>\"\",Data!$M1428,\"\")","v":""},null,null,null,null,{"$f":"IF(OR(Dashboard!$P$4=\"All\",Dashboard!$R$4=\"All\"),NA(),IF(OR(Data!K1428<>Dashboard!$P$4,Data!K1428<>Dashboard!$R$4),Data!G1428,NA()))","v":17807.916687442568}]
[null,{"$f":"IF(Dashboard!$P$4=\"All\",Data!G1429,IF(Data!K1429=Dashboard!$P$4,Data!G1429,NA()))","v":{"$error":"#N/A"}},"","","",{"$f":"IF(C878<>\"\",Data!$M1429,\"\")","v":""},null,null,null,null,{"$f":"IF(Dashboard!$R$4=\"All\",Data!G1429,IF(Data!K1429=Dashboard!$R$4,Data!G1429,NA()))","v":{"$error":"#N/A"}},"","","",{"$f":"IF(L878<>\"\",Data!$M1429,\"\")","v":""},null,null,null,null,{"$f":"IF(OR(Dashboard!$P$4=\"All\",Dashboard!$R$4=\"All\"),NA(),IF(OR(Data!K1429<>Dashboard!$P$4,Data!K1429<>Dashboard!$R$4),Data!G1429,NA()))","v":41000}]
[null,{"$f":"IF(Dashboard!$P$4=\"All\",Data!G1430,IF(Data!K1430=Dashboard!$P$4,Data!G1430,NA()))","v":{"$error":"#N/A"}},"","","",{"$f":"IF(C879<>\"\",Data!$M1430,\"\")","v":""},null,null,null,null,{"$f":"IF(Dashboard!$R$4=\"All\",Data!G1430,IF(Data!K1430=Dashboard!$R$4,Data!G1430,NA()))","v":{"$error":"#N/A"}},"","","",{"$f":"IF(L879<>\"\",Data!$M1430,\"\")","v":""},null,null,null,null,{"$f":"IF(OR(Dashboard!$P$4=\"All\",Dashboard!$R$4=\"All\"),NA(),IF(OR(Data!K1430<>Dashboard!$P$4,Data!K1430<>Dashboard!$R$4),Data!G1430,NA()))","v":60000}]
[null,{"$f":"IF(Dashboard!$P$4=\"All\",Data!G1431,IF(Data!K1431=Dashboard!$P$4,Data!G1431,NA()))","v":{"$error":"#N/A"}},"","","",{"$f":"IF(C880<>\"\",Data!$M1431,\"\")","v":""},null,null,null,null,{"$f":"IF(Dashboard!$R$4=\"All\",Data!G1431,IF(Data!K1431=Dashboard!$R$4,Data!G1431,NA()))","v":{"$error":"#N/A"}},"","","",{"$f":"IF(L880<>\"\",Data!$M1431,\"\")","v":""},null,null,null,null,{"$f":"IF(OR(Dashboard!$P$4=\"All\",Dashboard!$R$4=\"All\"),NA(),IF(OR(Data!K1431<>Dashboard!$P$4,Data!K1431<>Dashboard!$R$4),Data!G1431,NA()))","v":32187.34988380854}]
[null,{"$f":"IF(Dashboard!$P$4=\"All\",Data!G1432,IF(Data!K1432=Dashboard!$P$4,Data!G1432,NA()))","v":{"$error":"#N/A"}},"","","",{"$f":"IF(C881<>\"\",Data!$M1432,\"\")","v":""},null,null,null,null,{"$f":"IF(Dashboard!$R$4=\"All\",Data!G1432,IF(Data!K1432=Dashboard!$R$4,Data!G1432,NA()))","v":{"$error":"#N/A"}},"","","",{"$f":"IF(L881<>\"\",Data!$M1432,\"\")","v":""},null,null,null,null,{"$f":"IF(OR(Dashboard!$P$4=\"All\",Dashboard!$R$4=\"All\"),NA(),IF(OR(Data!K1432<>Dashboard!$P$4,Data!K1432<>Dashboard!$R$4),Data!G1432,NA()))","v":39879.404680246938}]
[null,{"$f":"IF(Dashboard!$P$4=\"All\",Data!G1433,IF(Data!K1433=Dashboard!$P$4,Data!G1433,NA()))","v":{"$error":"#N/A"}},"","","",{"$f":"IF(C882<>\"\",Data!$M1433,\"\")","v":""},null,null,null,null,{"$f":"IF(Dashboard!$R$4=\"All\",Data!G1433,IF(Data!K1433=Dashboard!$R$4,Data!G1433,NA()))","v":{"$error":"#N/A"}},"","","",{"$f":"IF(L882<>\"\",Data!$M1433,\"\")","v":""},null,null,null,null,{"$f":"IF(OR(Dashboard!$P$4=\"All\",Dashboard!$R$4=\"All\"),NA(),IF(OR(Data!K1433<>Dashboard!$P$4,Data!K1433<>Dashboard!$R$4),Data!G1433,NA()))","v":5698.5333399816218}]
[null,{"$f":"IF(Dashboard!$P$4=\"All\",Data!G1434,IF(Data!K1434=Dashboard!$P$4,Data!G1434,NA()))","v":{"$error":"#N/A"}},"","","",{"$f":"IF(C883<>\"\",Data!$M1434,\"\")","v":""},null,null,null,null,{"$f":"IF(Dashboard!$R$4=\"All\",Data!G1434,IF(Data!K1434=Dashboard!$R$4,Data!G1434,NA()))","v":{"$error":"#N/A"}},"","","",{"$f":"IF(L883<>\"\",Data!$M1434,\"\")","v":""},null,null,null,null,{"$f":"IF(OR(Dashboard!$P$4=\"All\",Dashboard!$R$4=\"All\"),NA(),IF(OR(Data!K1434<>Dashboard!$P$4,Data!K1434<>Dashboard!$R$4),Data!G1434,NA()))","v":7123.1666749770275}]
[null,{"$f":"IF(Dashboard!$P$4=\"All\",Data!G1435,IF(Data!K1435=Dashboard!$P$4,Data!G1435,NA()))","v":{"$error":"#N/A"}},"","","",{"$f":"IF(C884<>\"\",Data!$M1435,\"\")","v":""},null,null,null,null,{"$f":"IF(Dashboard!$R$4=\"All\",Data!G1435,IF(Data!K1435=Dashboard!$R$4,Data!G1435,NA()))","v":{"$error":"#N/A"}},"","","",{"$f":"IF(L884<>\"\",Data!$M1435,\"\")","v":""},null,null,null,null,{"$f":"IF(OR(Dashboard!$P$4=\"All\",Dashboard!$R$4=\"All\"),NA(),IF(OR(Data!K1435<>Dashboard!$P$4,Data!K1435<>Dashboard!$R$4),Data!G1435,NA()))","v":4451.9791718606421}]
[null,{"$f":"IF(Dashboard!$P$4=\"All\",Data!G1436,IF(Data!K1436=Dashboard!$P$4,Data!G1436,NA()))","v":{"$error":"#N/A"}},"","","",{"$f":"IF(C885<>\"\",Data!$M1436,\"\")","v":""},null,null,null,null,{"$f":"IF(Dashboard!$R$4=\"All\",Data!G1436,IF(Data!K1436=Dashboard!$R$4,Data!G1436,NA()))","v":{"$error":"#N/A"}},"","","",{"$f":"IF(L885<>\"\",Data!$M1436,\"\")","v":""},null,null,null,null,{"$f":"IF(OR(Dashboard!$P$4=\"All\",Dashboard!$R$4=\"All\"),NA(),IF(OR(Data!K1436<>Dashboard!$P$4,Data!K1436<>Dashboard!$R$4),Data!G1436,NA()))","v":6410.8500074793246}]
[null,{"$f":"IF(Dashboard!$P$4=\"All\",Data!G1437,IF(Data!K1437=Dashboard!$P$4,Data!G1437,NA()))","v":{"$error":"#N/A"}},"","","",{"$f":"IF(C886<>\"\",Data!$M1437,\"\")","v":""},null,null,null,null,{"$f":"IF(Dashboard!$R$4=\"All\",Data!G1437,IF(Data!K1437=Dashboard!$R$4,Data!G1437,NA()))","v":{"$error":"#N/A"}},"","","",{"$f":"IF(L886<>\"\",Data!$M1437,\"\")","v":""},null,null,null,null,{"$f":"IF(OR(Dashboard!$P$4=\"All\",Dashboard!$R$4=\"All\"),NA(),IF(OR(Data!K1437<>Dashboard!$P$4,Data!K1437<>Dashboard!$R$4),Data!G1437,NA()))","v":20479.104190558952}]
[null,{"$f":"IF(Dashboard!$P$4=\"All\",Data!G1438,IF(Data!K1438=Dashboard!$P$4,Data!G1438,NA()))","v":{"$error":"#N/A"}},"","","",{"$f":"IF(C887<>\"\",Data!$M1438,\"\")","v":""},null,null,null,null,{"$f":"IF(Dashboard!$R$4=\"All\",Data!G1438,IF(Data!K1438=Dashboard!$R$4,Data!G1438,NA()))","v":{"$error":"#N/A"}},"","","",{"$f":"IF(L887<>\"\",Data!$M1438,\"\")","v":""},null,null,null,null,{"$f":"IF(OR(Dashboard!$P$4=\"All\",Dashboard!$R$4=\"All\"),NA(),IF(OR(Data!K1438<>Dashboard!$P$4,Data!K1438<>Dashboard!$R$4),Data!G1438,NA()))","v":11040.908346214392}]
[null,{"$f":"IF(Dashboard!$P$4=\"All\",Data!G1439,IF(Data!K1439=Dashboard!$P$4,Data!G1439,NA()))","v":{"$error":"#N/A"}},"","","",{"$f":"IF(C888<>\"\",Data!$M1439,\"\")","v":""},null,null,null,null,{"$f":"IF(Dashboard!$R$4=\"All\",Data!G1439,IF(Data!K1439=Dashboard!$R$4,Data!G1439,NA()))","v":{"$error":"#N/A"}},"","","",{"$f":"IF(L888<>\"\",Data!$M1439,\"\")","v":""},null,null,null,null,{"$f":"IF(OR(Dashboard!$P$4=\"All\",Dashboard!$R$4=\"All\"),NA(),IF(OR(Data!K1439<>Dashboard!$P$4,Data!K1439<>Dashboard!$R$4),Data!G1439,NA()))","v":17807.916687442568}]
[null,{"$f":"IF(Dashboard!$P$4=\"All\",Data!G1440,IF(Data!K1440=Dashboard!$P$4,Data!G1440,NA()))","v":{"$error":"#N/A"}},"","","",{"$f":"IF(C889<>\"\",Data!$M1440,\"\")","v":""},null,null,null,null,{"$f":"IF(Dashboard!$R$4=\"All\",Data!G1440,IF(Data!K1440=Dashboard!$R$4,Data!G1440,NA()))","v":{"$error":"#N/A"}},"","","",{"$f":"IF(L889<>\"\",Data!$M1440,\"\")","v":""},null,null,null,null,{"$f":"IF(OR(Dashboard!$P$4=\"All\",Dashboard!$R$4=\"All\"),NA(),IF(OR(Data!K1440<>Dashboard!$P$4,Data!K1440<>Dashboard!$R$4),Data!G1440,NA()))","v":3561.5833374885137}]
[null,{"$f":"IF(Dashboard!$P$4=\"All\",Data!G1441,IF(Data!K1441=Dashboard!$P$4,Data!G1441,NA()))","v":{"$error":"#N/A"}},"","","",{"$f":"IF(C890<>\"\",Data!$M1441,\"\")","v":""},null,null,null,null,{"$f":"IF(Dashboard!$R$4=\"All\",Data!G1441,IF(Data!K1441=Dashboard!$R$4,Data!G1441,NA()))","v":26795.030625143831},26795.030625143831,"",26795.030625143831,{"$f":"IF(L890<>\"\",Data!$M1441,\"\")","v":5},null,null,null,null,{"$f":"IF(OR(Dashboard!$P$4=\"All\",Dashboard!$R$4=\"All\"),NA(),IF(OR(Data!K1441<>Dashboard!$P$4,Data!K1441<>Dashboard!$R$4),Data!G1441,NA()))","v":26795.030625143831}]
[null,{"$f":"IF(Dashboard!$P$4=\"All\",Data!G1442,IF(Data!K1442=Dashboard!$P$4,Data!G1442,NA()))","v":{"$error":"#N/A"}},"","","",{"$f":"IF(C891<>\"\",Data!$M1442,\"\")","v":""},null,null,null,null,{"$f":"IF(Dashboard!$R$4=\"All\",Data!G1442,IF(Data!K1442=Dashboard!$R$4,Data!G1442,NA()))","v":{"$error":"#N/A"}},"","","",{"$f":"IF(L891<>\"\",Data!$M1442,\"\")","v":""},null,null,null,null,{"$f":"IF(OR(Dashboard!$P$4=\"All\",Dashboard!$R$4=\"All\"),NA(),IF(OR(Data!K1442<>Dashboard!$P$4,Data!K1442<>Dashboard!$R$4),Data!G1442,NA()))","v":20400}]
[null,{"$f":"IF(Dashboard!$P$4=\"All\",Data!G1443,IF(Data!K1443=Dashboard!$P$4,Data!G1443,NA()))","v":{"$error":"#N/A"}},"","","",{"$f":"IF(C892<>\"\",Data!$M1443,\"\")","v":""},null,null,null,null,{"$f":"IF(Dashboard!$R$4=\"All\",Data!G1443,IF(Data!K1443=Dashboard!$R$4,Data!G1443,NA()))","v":39404.456801682099},39404.456801682099,"","",{"$f":"IF(L892<>\"\",Data!$M1443,\"\")","v":35},null,null,null,null,{"$f":"IF(OR(Dashboard!$P$4=\"All\",Dashboard!$R$4=\"All\"),NA(),IF(OR(Data!K1443<>Dashboard!$P$4,Data!K1443<>Dashboard!$R$4),Data!G1443,NA()))","v":39404.456801682099}]
[null,{"$f":"IF(Dashboard!$P$4=\"All\",Data!G1444,IF(Data!K1444=Dashboard!$P$4,Data!G1444,NA()))","v":{"$error":"#N/A"}},"","","",{"$f":"IF(C893<>\"\",Data!$M1444,\"\")","v":""},null,null,null,null,{"$f":"IF(Dashboard!$R$4=\"All\",Data!G1444,IF(Data!K1444=Dashboard!$R$4,Data!G1444,NA()))","v":{"$error":"#N/A"}},"","","",{"$f":"IF(L893<>\"\",Data!$M1444,\"\")","v":""},null,null,null,null,{"$f":"IF(OR(Dashboard!$P$4=\"All\",Dashboard!$R$4=\"All\"),NA(),IF(OR(Data!K1444<>Dashboard!$P$4,Data!K1444<>Dashboard!$R$4),Data!G1444,NA()))","v":149907.13380100971}]
[null,{"$f":"IF(Dashboard!$P$4=\"All\",Data!G1445,IF(Data!K1445=Dashboard!$P$4,Data!G1445,NA()))","v":{"$error":"#N/A"}},"","","",{"$f":"IF(C894<>\"\",Data!$M1445,\"\")","v":""},null,null,null,null,{"$f":"IF(Dashboard!$R$4=\"All\",Data!G1445,IF(Data!K1445=Dashboard!$R$4,Data!G1445,NA()))","v":{"$error":"#N/A"}},"","","",{"$f":"IF(L894<>\"\",Data!$M1445,\"\")","v":""},null,null,null,null,{"$f":"IF(OR(Dashboard!$P$4=\"All\",Dashboard!$R$4=\"All\"),NA(),IF(OR(Data!K1445<>Dashboard!$P$4,Data!K1445<>Dashboard!$R$4),Data!G1445,NA()))","v":4095.8208381117906}]
[null,{"$f":"IF(Dashboard!$P$4=\"All\",Data!G1446,IF(Data!K1446=Dashboard!$P$4,Data!G1446,NA()))","v":{"$error":"#N/A"}},"","","",{"$f":"IF(C895<>\"\",Data!$M1446,\"\")","v":""},null,null,null,null,{"$f":"IF(Dashboard!$R$4=\"All\",Data!G1446,IF(Data!K1446=Dashboard!$R$4,Data!G1446,NA()))","v":{"$error":"#N/A"}},"","","",{"$f":"IF(L895<>\"\",Data!$M1446,\"\")","v":""},null,null,null,null,{"$f":"IF(OR(Dashboard!$P$4=\"All\",Dashboard!$R$4=\"All\"),NA(),IF(OR(Data!K1446<>Dashboard!$P$4,Data!K1446<>Dashboard!$R$4),Data!G1446,NA()))","v":127488.70705032947}]
[null,{"$f":"IF(Dashboard!$P$4=\"All\",Data!G1447,IF(Data!K1447=Dashboard!$P$4,Data!G1447,NA()))","v":{"$error":"#N/A"}},"","","",{"$f":"IF(C896<>\"\",Data!$M1447,\"\")","v":""},null,null,null,null,{"$f":"IF(Dashboard!$R$4=\"All\",Data!G1447,IF(Data!K1447=Dashboard!$R$4,Data!G1447,NA()))","v":58318.59606648951},58318.59606648951,"","",{"$f":"IF(L896<>\"\",Data!$M1447,\"\")","v":20},null,null,null,null,{"$f":"IF(OR(Dashboard!$P$4=\"All\",Dashboard!$R$4=\"All\"),NA(),IF(OR(Data!K1447<>Dashboard!$P$4,Data!K1447<>Dashboard!$R$4),Data!G1447,NA()))","v":58318.59606648951}]
[null,{"$f":"IF(Dashboard!$P$4=\"All\",Data!G1448,IF(Data!K1448=Dashboard!$P$4,Data!G1448,NA()))","v":{"$error":"#N/A"}},"","","",{"$f":"IF(C897<>\"\",Data!$M1448,\"\")","v":""},null,null,null,null,{"$f":"IF(Dashboard!$R$4=\"All\",Data!G1448,IF(Data!K1448=Dashboard!$R$4,Data!G1448,NA()))","v":{"$error":"#N/A"}},"","","",{"$f":"IF(L897<>\"\",Data!$M1448,\"\")","v":""},null,null,null,null,{"$f":"IF(OR(Dashboard!$P$4=\"All\",Dashboard!$R$4=\"All\"),NA(),IF(OR(Data!K1448<>Dashboard!$P$4,Data!K1448<>Dashboard!$R$4),Data!G1448,NA()))","v":9509.8988293070688}]
[null,{"$f":"IF(Dashboard!$P$4=\"All\",Data!G1449,IF(Data!K1449=Dashboard!$P$4,Data!G1449,NA()))","v":{"$error":"#N/A"}},"","","",{"$f":"IF(C898<>\"\",Data!$M1449,\"\")","v":""},null,null,null,null,{"$f":"IF(Dashboard!$R$4=\"All\",Data!G1449,IF(Data!K1449=Dashboard!$R$4,Data!G1449,NA()))","v":{"$error":"#N/A"}},"","","",{"$f":"IF(L898<>\"\",Data!$M1449,\"\")","v":""},null,null,null,null,{"$f":"IF(OR(Dashboard!$P$4=\"All\",Dashboard!$R$4=\"All\"),NA(),IF(OR(Data!K1449<>Dashboard!$P$4,Data!K1449<>Dashboard!$R$4),Data!G1449,NA()))","v":12821.700014958649}]
[null,{"$f":"IF(Dashboard!$P$4=\"All\",Data!G1450,IF(Data!K1450=Dashboard!$P$4,Data!G1450,NA()))","v":{"$error":"#N/A"}},"","","",{"$f":"IF(C899<>\"\",Data!$M1450,\"\")","v":""},null,null,null,null,{"$f":"IF(Dashboard!$R$4=\"All\",Data!G1450,IF(Data!K1450=Dashboard!$R$4,Data!G1450,NA()))","v":{"$error":"#N/A"}},"","","",{"$f":"IF(L899<>\"\",Data!$M1450,\"\")","v":""},null,null,null,null,{"$f":"IF(OR(Dashboard!$P$4=\"All\",Dashboard!$R$4=\"All\"),NA(),IF(OR(Data!K1450<>Dashboard!$P$4,Data!K1450<>Dashboard!$R$4),Data!G1450,NA()))","v":4000}]
[null,{"$f":"IF(Dashboard!$P$4=\"All\",Data!G1451,IF(Data!K1451=Dashboard!$P$4,Data!G1451,NA()))","v":{"$error":"#N/A"}},{"$f":"IF(ISNA(B900),\"\",B900)","v":""},{"$f":"IF(C900>=PERCENTILE($C$3:$C$1337,0.9),C900,\"\")","v":""},{"$f":"IF(C900<=PERCENTILE($C$3:$C$1337,0.1),C900,\"\")","v":""},{"$f":"IF(C900<>\"\",Data!$M1451,\"\")","v":""},null,null,null,null,{"$f":"IF(Dashboard!$R$4=\"All\",Data!G1451,IF(Data!K1451=Dashboard!$R$4,Data!G1451,NA()))","v":{"$error":"#N/A"}},{"$f":"IF(ISNA(K900),\"\",K900)","v":""},{"$f":"IF(L900>=PERCENTILE($L$3:$L$1337,0.9),L900,\"\")","v":""},{"$f":"IF(L900<=PERCENTILE($L$3:$L$1337,0.1),L900,\"\")","v":""},{"$f":"IF(L900<>\"\",Data!$M1451,\"\")","v":""},null,null,null,null,{"$f":"IF(OR(Dashboard!$P$4=\"All\",Dashboard!$R$4=\"All\"),NA(),IF(OR(Data!K1451<>Dashboard!$P$4,Data!K1451<>Dashboard!$R$4),Data!G1451,NA()))","v":42000}]
[null,{"$f":"IF(Dashboard!$P$4=\"All\",Data!G1452,IF(Data!K1452=Dashboard!$P$4,Data!G1452,NA()))","v":{"$error":"#N/A"}},"","","",{"$f":"IF(C901<>\"\",Data!$M1452,\"\")","v":""},null,null,null,null,{"$f":"IF(Dashboard!$R$4=\"All\",Data!G1452,IF(Data!K1452=Dashboard!$R$4,Data!G1452,NA()))","v":{"$error":"#N/A"}},"","","",{"$f":"IF(L901<>\"\",Data!$M1452,\"\")","v":""},null,null,null,null,{"$f":"IF(OR(Dashboard!$P$4=\"All\",Dashboard!$R$4=\"All\"),NA(),IF(OR(Data!K1452<>Dashboard!$P$4,Data!K1452<>Dashboard!$R$4),Data!G1452,NA()))","v":3200}]
[null,{"$f":"IF(Dashboard!$P$4=\"All\",Data!G1453,IF(Data!K1453=Dashboard!$P$4,Data!G1453,NA()))","v":{"$error":"#N/A"}},"","","",{"$f":"IF(C902<>\"\",Data!$M1453,\"\")","v":""},null,null,null,null,{"$f":"IF(Dashboard!$R$4=\"All\",Data!G1453,IF(Data!K1453=Dashboard!$R$4,Data!G1453,NA()))","v":{"$error":"#N/A"}},"","","",{"$f":"IF(L902<>\"\",Data!$M1453,\"\")","v":""},null,null,null,null,{"$f":"IF(OR(Dashboard!$P$4=\"All\",Dashboard!$R$4=\"All\"),NA(),IF(OR(Data!K1453<>Dashboard!$P$4,Data!K1453<>Dashboard!$R$4),Data!G1453,NA()))","v":60000}]
[null,{"$f":"IF(Dashboard!$P$4=\"All\",Data!G1454,IF(Data!K1454=Dashboard!$P$4,Data!G1454,NA()))","v":{"$error":"#N/A"}},"","","",{"$f":"IF(C903<>\"\",Data!$M1454,\"\")","v":""},null,null,null,null,{"$f":"IF(Dashboard!$R$4=\"All\",Data!G1454,IF(Data!K1454=Dashboard!$R$4,Data!G1454,NA()))","v":{"$error":"#N/A"}},"","","",{"$f":"IF(L903<>\"\",Data!$M1454,\"\")","v":""},null,null,null,null,{"$f":"IF(OR(Dashboard!$P$4=\"All\",Dashboard!$R$4=\"All\"),NA(),IF(OR(Data!K1454<>Dashboard!$P$4,Data!K1454<>Dashboard!$R$4),Data!G1454,NA()))","v":85000}]
[null,{"$f":"IF(Dashboard!$P$4=\"All\",Data!G1455,IF(Data!K1455=Dashboard!$P$4,Data!G1455,NA()))","v":{"$error":"#N/A"}},"","","",{"$f":"IF(C904<>\"\",Data!$M1455,\"\")","v":""},null,null,null,null,{"$f":"IF(Dashboard!$R$4=\"All\",Data!G1455,IF(Data!K1455=Dashboard!$R$4,Data!G1455,NA()))","v":{"$error":"#N/A"}},"","","",{"$f":"IF(L904<>\"\",Data!$M1455,\"\")","v":""},null,null,null,null,{"$f":"IF(OR(Dashboard!$P$4=\"All\",Dashboard!$R$4=\"All\"),NA(),IF(OR(Data!K1455<>Dashboard!$P$4,Data!K1455<>Dashboard!$R$4),Data!G1455,NA()))","v":109000}]
[null,{"$f":"IF(Dashboard!$P$4=\"All\",Data!G1456,IF(Data!K1456=Dashboard!$P$4,Data!G1456,NA()))","v":{"$error":"#N/A"}},"","","",{"$f":"IF(C905<>\"\",Data!$M1456,\"\")","v":""},null,null,null,null,{"$f":"IF(Dashboard!$R$4=\"All\",Data!G1456,IF(Data!K1456=Dashboard!$R$4,Data!G1456,NA()))","v":{"$error":"#N/A"}},"","","",{"$f":"IF(L905<>\"\",Data!$M1456,\"\")","v":""},null,null,null,null,{"$f":"IF(OR(Dashboard!$P$4=\"All\",Dashboard!$R$4=\"All\"),NA(),IF(OR(Data!K1456<>Dashboard!$P$4,Data!K1456<>Dashboard!$R$4),Data!G1456,NA()))","v":76223.966339496474}]
[null,{"$f":"IF(Dashboard!$P$4=\"All\",Data!G1457,IF(Data!K1457=Dashboard!$P$4,Data!G1457,NA()))","v":{"$error":"#N/A"}},"","","",{"$f":"IF(C906<>\"\",Data!$M1457,\"\")","v":""},null,null,null,null,{"$f":"IF(Dashboard!$R$4=\"All\",Data!G1457,IF(Data!K1457=Dashboard!$R$4,Data!G1457,NA()))","v":{"$error":"#N/A"}},"","","",{"$f":"IF(L906<>\"\",Data!$M1457,\"\")","v":""},null,null,null,null,{"$f":"IF(OR(Dashboard!$P$4=\"All\",Dashboard!$R$4=\"All\"),NA(),IF(OR(Data!K1457<>Dashboard!$P$4,Data!K1457<>Dashboard!$R$4),Data!G1457,NA()))","v":77000}]
[null,{"$f":"IF(Dashboard!$P$4=\"All\",Data!G1458,IF(Data!K1458=Dashboard!$P$4,Data!G1458,NA()))","v":{"$error":"#N/A"}},"","","",{"$f":"IF(C907<>\"\",Data!$M1458,\"\")","v":""},null,null,null,null,{"$f":"IF(Dashboard!$R$4=\"All\",Data!G1458,IF(Data!K1458=Dashboard!$R$4,Data!G1458,NA()))","v":{"$error":"#N/A"}},"","","",{"$f":"IF(L907<>\"\",Data!$M1458,\"\")","v":""},null,null,null,null,{"$f":"IF(OR(Dashboard!$P$4=\"All\",Dashboard!$R$4=\"All\"),NA(),IF(OR(Data!K1458<>Dashboard!$P$4,Data!K1458<>Dashboard!$R$4),Data!G1458,NA()))","v":25000}]
[null,{"$f":"IF(Dashboard!$P$4=\"All\",Data!G1459,IF(Data!K1459=Dashboard!$P$4,Data!G1459,NA()))","v":{"$error":"#N/A"}},"","","",{"$f":"IF(C908<>\"\",Data!$M1459,\"\")","v":""},null,null,null,null,{"$f":"IF(Dashboard!$R$4=\"All\",Data!G1459,IF(Data!K1459=Dashboard!$R$4,Data!G1459,NA()))","v":{"$error":"#N/A"}},"","","",{"$f":"IF(L908<>\"\",Data!$M1459,\"\")","v":""},null,null,null,null,{"$f":"IF(OR(Dashboard!$P$4=\"All\",Dashboard!$R$4=\"All\"),NA(),IF(OR(Data!K1459<>Dashboard!$P$4,Data!K1459<>Dashboard!$R$4),Data!G1459,NA()))","v":64000}]
[null,{"$f":"IF(Dashboard!$P$4=\"All\",Data!G1460,IF(Data!K1460=Dashboard!$P$4,Data!G1460,NA()))","v":{"$error":"#N/A"}},"","","",{"$f":"IF(C909<>\"\",Data!$M1460,\"\")","v":""},null,null,null,null,{"$f":"IF(Dashboard!$R$4=\"All\",Data!G1460,IF(Data!K1460=Dashboard!$R$4,Data!G1460,NA()))","v":231119.74856804207},231119.74856804207,231119.74856804207,"",{"$f":"IF(L909<>\"\",Data!$M1460,\"\")","v":10},null,null,null,null,{"$f":"IF(OR(Dashboard!$P$4=\"All\",Dashboard!$R$4=\"All\"),NA(),IF(OR(Data!K1460<>Dashboard!$P$4,Data!K1460<>Dashboard!$R$4),Data!G1460,NA()))","v":231119.74856804207}]
[null,{"$f":"IF(Dashboard!$P$4=\"All\",Data!G1461,IF(Data!K1461=Dashboard!$P$4,Data!G1461,NA()))","v":{"$error":"#N/A"}},"","","",{"$f":"IF(C910<>\"\",Data!$M1461,\"\")","v":""},null,null,null,null,{"$f":"IF(Dashboard!$R$4=\"All\",Data!G1461,IF(Data!K1461=Dashboard!$R$4,Data!G1461,NA()))","v":{"$error":"#N/A"}},"","","",{"$f":"IF(L910<>\"\",Data!$M1461,\"\")","v":""},null,null,null,null,{"$f":"IF(OR(Dashboard!$P$4=\"All\",Dashboard!$R$4=\"All\"),NA(),IF(OR(Data!K1461<>Dashboard!$P$4,Data!K1461<>Dashboard!$R$4),Data!G1461,NA()))","v":76000}]
[null,{"$f":"IF(Dashboard!$P$4=\"All\",Data!G1462,IF(Data!K1462=Dashboard!$P$4,Data!G1462,NA()))","v":{"$error":"#N/A"}},"","","",{"$f":"IF(C911<>\"\",Data!$M1462,\"\")","v":""},null,null,null,null,{"$f":"IF(Dashboard!$R$4=\"All\",Data!G1462,IF(Data!K1462=Dashboard!$R$4,Data!G1462,NA()))","v":15761.782720672842},15761.782720672842,"",15761.782720672842,{"$f":"IF(L911<>\"\",Data!$M1462,\"\")","v":8},null,null,null,null,{"$f":"IF(OR(Dashboard!$P$4=\"All\",Dashboard!$R$4=\"All\"),NA(),IF(OR(Data!K1462<>Dashboard!$P$4,Data!K1462<>Dashboard!$R$4),Data!G1462,NA()))","v":15761.782720672842}]
[null,{"$f":"IF(Dashboard!$P$4=\"All\",Data!G1463,IF(Data!K1463=Dashboard!$P$4,Data!G1463,NA()))","v":{"$error":"#N/A"}},"","","",{"$f":"IF(C912<>\"\",Data!$M1463,\"\")","v":""},null,null,null,null,{"$f":"IF(Dashboard!$R$4=\"All\",Data!G1463,IF(Data!K1463=Dashboard!$R$4,Data!G1463,NA()))","v":{"$error":"#N/A"}},"","","",{"$f":"IF(L912<>\"\",Data!$M1463,\"\")","v":""},null,null,null,null,{"$f":"IF(OR(Dashboard!$P$4=\"All\",Dashboard!$R$4=\"All\"),NA(),IF(OR(Data!K1463<>Dashboard!$P$4,Data!K1463<>Dashboard!$R$4),Data!G1463,NA()))","v":168285.09330643489}]
[null,{"$f":"IF(Dashboard!$P$4=\"All\",Data!G1464,IF(Data!K1464=Dashboard!$P$4,Data!G1464,NA()))","v":{"$error":"#N/A"}},"","","",{"$f":"IF(C913<>\"\",Data!$M1464,\"\")","v":""},null,null,null,null,{"$f":"IF(Dashboard!$R$4=\"All\",Data!G1464,IF(Data!K1464=Dashboard!$R$4,Data!G1464,NA()))","v":{"$error":"#N/A"}},"","","",{"$f":"IF(L913<>\"\",Data!$M1464,\"\")","v":""},null,null,null,null,{"$f":"IF(OR(Dashboard!$P$4=\"All\",Dashboard!$R$4=\"All\"),NA(),IF(OR(Data!K1464<>Dashboard!$P$4,Data!K1464<>Dashboard!$R$4),Data!G1464,NA()))","v":50000}]
[null,{"$f":"IF(Dashboard!$P$4=\"All\",Data!G1465,IF(Data!K1465=Dashboard!$P$4,Data!G1465,NA()))","v":{"$error":"#N/A"}},"","","",{"$f":"IF(C914<>\"\",Data!$M1465,\"\")","v":""},null,null,null,null,{"$f":"IF(Dashboard!$R$4=\"All\",Data!G1465,IF(Data!K1465=Dashboard!$R$4,Data!G1465,NA()))","v":{"$error":"#N/A"}},"","","",{"$f":"IF(L914<>\"\",Data!$M1465,\"\")","v":""},null,null,null,null,{"$f":"IF(OR(Dashboard!$P$4=\"All\",Dashboard!$R$4=\"All\"),NA(),IF(OR(Data!K1465<>Dashboard!$P$4,Data!K1465<>Dashboard!$R$4),Data!G1465,NA()))","v":7200}]
[null,{"$f":"IF(Dashboard!$P$4=\"All\",Data!G1466,IF(Data!K1466=Dashboard!$P$4,Data!G1466,NA()))","v":{"$error":"#N/A"}},"","","",{"$f":"IF(C915<>\"\",Data!$M1466,\"\")","v":""},null,null,null,null,{"$f":"IF(Dashboard!$R$4=\"All\",Data!G1466,IF(Data!K1466=Dashboard!$R$4,Data!G1466,NA()))","v":{"$error":"#N/A"}},"","","",{"$f":"IF(L915<>\"\",Data!$M1466,\"\")","v":""},null,null,null,null,{"$f":"IF(OR(Dashboard!$P$4=\"All\",Dashboard!$R$4=\"All\"),NA(),IF(OR(Data!K1466<>Dashboard!$P$4,Data!K1466<>Dashboard!$R$4),Data!G1466,NA()))","v":53356.776437647524}]
[null,{"$f":"IF(Dashboard!$P$4=\"All\",Data!G1467,IF(Data!K1467=Dashboard!$P$4,Data!G1467,NA()))","v":{"$error":"#N/A"}},"","","",{"$f":"IF(C916<>\"\",Data!$M1467,\"\")","v":""},null,null,null,null,{"$f":"IF(Dashboard!$R$4=\"All\",Data!G1467,IF(Data!K1467=Dashboard!$R$4,Data!G1467,NA()))","v":{"$error":"#N/A"}},"","","",{"$f":"IF(L916<>\"\",Data!$M1467,\"\")","v":""},null,null,null,null,{"$f":"IF(OR(Dashboard!$P$4=\"All\",Dashboard!$R$4=\"All\"),NA(),IF(OR(Data!K1467<>Dashboard!$P$4,Data!K1467<>Dashboard!$R$4),Data!G1467,NA()))","v":45000}]
[null,{"$f":"IF(Dashboard!$P$4=\"All\",Data!G1468,IF(Data!K1468=Dashboard!$P$4,Data!G1468,NA()))","v":{"$error":"#N/A"}},"","","",{"$f":"IF(C917<>\"\",Data!$M1468,\"\")","v":""},null,null,null,null,{"$f":"IF(Dashboard!$R$4=\"All\",Data!G1468,IF(Data!K1468=Dashboard!$R$4,Data!G1468,NA()))","v":{"$error":"#N/A"}},"","","",{"$f":"IF(L917<>\"\",Data!$M1468,\"\")","v":""},null,null,null,null,{"$f":"IF(OR(Dashboard!$P$4=\"All\",Dashboard!$R$4=\"All\"),NA(),IF(OR(Data!K1468<>Dashboard!$P$4,Data!K1468<>Dashboard!$R$4),Data!G1468,NA()))","v":5000}]
[null,{"$f":"IF(Dashboard!$P$4=\"All\",Data!G1469,IF(Data!K1469=Dashboard!$P$4,Data!G1469,NA()))","v":{"$error":"#N/A"}},"","","",{"$f":"IF(C918<>\"\",Data!$M1469,\"\")","v":""},null,null,null,null,{"$f":"IF(Dashboard!$R$4=\"All\",Data!G1469,IF(Data!K1469=Dashboard!$R$4,Data!G1469,NA()))","v":{"$error":"#N/A"}},"","","",{"$f":"IF(L918<>\"\",Data!$M1469,\"\")","v":""},null,null,null,null,{"$f":"IF(OR(Dashboard!$P$4=\"All\",Dashboard!$R$4=\"All\"),NA(),IF(OR(Data!K1469<>Dashboard!$P$4,Data!K1469<>Dashboard!$R$4),Data!G1469,NA()))","v":75473.31457379504}]
[null,{"$f":"IF(Dashboard!$P$4=\"All\",Data!G1470,IF(Data!K1470=Dashboard!$P$4,Data!G1470,NA()))","v":{"$error":"#N/A"}},"","","",{"$f":"IF(C919<>\"\",Data!$M1470,\"\")","v":""},null,null,null,null,{"$f":"IF(Dashboard!$R$4=\"All\",Data!G1470,IF(Data!K1470=Dashboard!$R$4,Data!G1470,NA()))","v":{"$error":"#N/A"}},"","","",{"$f":"IF(L919<>\"\",Data!$M1470,\"\")","v":""},null,null,null,null,{"$f":"IF(OR(Dashboard!$P$4=\"All\",Dashboard!$R$4=\"All\"),NA(),IF(OR(Data!K1470<>Dashboard!$P$4,Data!K1470<>Dashboard!$R$4),Data!G1470,NA()))","v":15000}]
[null,{"$f":"IF(Dashboard!$P$4=\"All\",Data!G1471,IF(Data!K1471=Dashboard!$P$4,Data!G1471,NA()))","v":{"$error":"#N/A"}},"","","",{"$f":"IF(C920<>\"\",Data!$M1471,\"\")","v":""},null,null,null,null,{"$f":"IF(Dashboard!$R$4=\"All\",Data!G1471,IF(Data!K1471=Dashboard!$R$4,Data!G1471,NA()))","v":{"$error":"#N/A"}},"","","",{"$f":"IF(L920<>\"\",Data!$M1471,\"\")","v":""},null,null,null,null,{"$f":"IF(OR(Dashboard!$P$4=\"All\",Dashboard!$R$4=\"All\"),NA(),IF(OR(Data!K1471<>Dashboard!$P$4,Data!K1471<>Dashboard!$R$4),Data!G1471,NA()))","v":42558.381206218859}]
[null,{"$f":"IF(Dashboard!$P$4=\"All\",Data!G1472,IF(Data!K1472=Dashboard!$P$4,Data!G1472,NA()))","v":{"$error":"#N/A"}},"","","",{"$f":"IF(C921<>\"\",Data!$M1472,\"\")","v":""},null,null,null,null,{"$f":"IF(Dashboard!$R$4=\"All\",Data!G1472,IF(Data!K1472=Dashboard!$R$4,Data!G1472,NA()))","v":{"$error":"#N/A"}},"","","",{"$f":"IF(L921<>\"\",Data!$M1472,\"\")","v":""},null,null,null,null,{"$f":"IF(OR(Dashboard!$P$4=\"All\",Dashboard!$R$4=\"All\"),NA(),IF(OR(Data!K1472<>Dashboard!$P$4,Data!K1472<>Dashboard!$R$4),Data!G1472,NA()))","v":61000}]
[null,{"$f":"IF(Dashboard!$P$4=\"All\",Data!G1473,IF(Data!K1473=Dashboard!$P$4,Data!G1473,NA()))","v":{"$error":"#N/A"}},"","","",{"$f":"IF(C922<>\"\",Data!$M1473,\"\")","v":""},null,null,null,null,{"$f":"IF(Dashboard!$R$4=\"All\",Data!G1473,IF(Data!K1473=Dashboard!$R$4,Data!G1473,NA()))","v":{"$error":"#N/A"}},"","","",{"$f":"IF(L922<>\"\",Data!$M1473,\"\")","v":""},null,null,null,null,{"$f":"IF(OR(Dashboard!$P$4=\"All\",Dashboard!$R$4=\"All\"),NA(),IF(OR(Data!K1473<>Dashboard!$P$4,Data!K1473<>Dashboard!$R$4),Data!G1473,NA()))","v":66000}]
[null,{"$f":"IF(Dashboard!$P$4=\"All\",Data!G1474,IF(Data!K1474=Dashboard!$P$4,Data!G1474,NA()))","v":{"$error":"#N/A"}},"","","",{"$f":"IF(C923<>\"\",Data!$M1474,\"\")","v":""},null,null,null,null,{"$f":"IF(Dashboard!$R$4=\"All\",Data!G1474,IF(Data!K1474=Dashboard!$R$4,Data!G1474,NA()))","v":{"$error":"#N/A"}},"","","",{"$f":"IF(L923<>\"\",Data!$M1474,\"\")","v":""},null,null,null,null,{"$f":"IF(OR(Dashboard!$P$4=\"All\",Dashboard!$R$4=\"All\"),NA(),IF(OR(Data!K1474<>Dashboard!$P$4,Data!K1474<>Dashboard!$R$4),Data!G1474,NA()))","v":4950.6008391090336}]
[null,{"$f":"IF(Dashboard!$P$4=\"All\",Data!G1475,IF(Data!K1475=Dashboard!$P$4,Data!G1475,NA()))","v":{"$error":"#N/A"}},"","","",{"$f":"IF(C924<>\"\",Data!$M1475,\"\")","v":""},null,null,null,null,{"$f":"IF(Dashboard!$R$4=\"All\",Data!G1475,IF(Data!K1475=Dashboard!$R$4,Data!G1475,NA()))","v":{"$error":"#N/A"}},"","","",{"$f":"IF(L924<>\"\",Data!$M1475,\"\")","v":""},null,null,null,null,{"$f":"IF(OR(Dashboard!$P$4=\"All\",Dashboard!$R$4=\"All\"),NA(),IF(OR(Data!K1475<>Dashboard!$P$4,Data!K1475<>Dashboard!$R$4),Data!G1475,NA()))","v":55000}]
[null,{"$f":"IF(Dashboard!$P$4=\"All\",Data!G1476,IF(Data!K1476=Dashboard!$P$4,Data!G1476,NA()))","v":{"$error":"#N/A"}},"","","",{"$f":"IF(C925<>\"\",Data!$M1476,\"\")","v":""},null,null,null,null,{"$f":"IF(Dashboard!$R$4=\"All\",Data!G1476,IF(Data!K1476=Dashboard!$R$4,Data!G1476,NA()))","v":{"$error":"#N/A"}},"","","",{"$f":"IF(L925<>\"\",Data!$M1476,\"\")","v":""},null,null,null,null,{"$f":"IF(OR(Dashboard!$P$4=\"All\",Dashboard!$R$4=\"All\"),NA(),IF(OR(Data!K1476<>Dashboard!$P$4,Data!K1476<>Dashboard!$R$4),Data!G1476,NA()))","v":32000}]
[null,{"$f":"IF(Dashboard!$P$4=\"All\",Data!G1477,IF(Data!K1477=Dashboard!$P$4,Data!G1477,NA()))","v":{"$error":"#N/A"}},"","","",{"$f":"IF(C926<>\"\",Data!$M1477,\"\")","v":""},null,null,null,null,{"$f":"IF(Dashboard!$R$4=\"All\",Data!G1477,IF(Data!K1477=Dashboard!$R$4,Data!G1477,NA()))","v":{"$error":"#N/A"}},"","","",{"$f":"IF(L926<>\"\",Data!$M1477,\"\")","v":""},null,null,null,null,{"$f":"IF(OR(Dashboard!$P$4=\"All\",Dashboard!$R$4=\"All\"),NA(),IF(OR(Data!K1477<>Dashboard!$P$4,Data!K1477<>Dashboard!$R$4),Data!G1477,NA()))","v":18000}]
[null,{"$f":"IF(Dashboard!$P$4=\"All\",Data!G1478,IF(Data!K1478=Dashboard!$P$4,Data!G1478,NA()))","v":{"$error":"#N/A"}},"","","",{"$f":"IF(C927<>\"\",Data!$M1478,\"\")","v":""},null,null,null,null,{"$f":"IF(Dashboard!$R$4=\"All\",Data!G1478,IF(Data!K1478=Dashboard!$R$4,Data!G1478,NA()))","v":{"$error":"#N/A"}},"","","",{"$f":"IF(L927<>\"\",Data!$M1478,\"\")","v":""},null,null,null,null,{"$f":"IF(OR(Dashboard!$P$4=\"All\",Dashboard!$R$4=\"All\"),NA(),IF(OR(Data!K1478<>Dashboard!$P$4,Data!K1478<>Dashboard!$R$4),Data!G1478,NA()))","v":11575.14584683767}]
[null,{"$f":"IF(Dashboard!$P$4=\"All\",Data!G1479,IF(Data!K1479=Dashboard!$P$4,Data!G1479,NA()))","v":{"$error":"#N/A"}},"","","",{"$f":"IF(C928<>\"\",Data!$M1479,\"\")","v":""},null,null,null,null,{"$f":"IF(Dashboard!$R$4=\"All\",Data!G1479,IF(Data!K1479=Dashboard!$R$4,Data!G1479,NA()))","v":{"$error":"#N/A"}},"","","",{"$f":"IF(L928<>\"\",Data!$M1479,\"\")","v":""},null,null,null,null,{"$f":"IF(OR(Dashboard!$P$4=\"All\",Dashboard!$R$4=\"All\"),NA(),IF(OR(Data!K1479<>Dashboard!$P$4,Data!K1479<>Dashboard!$R$4),Data!G1479,NA()))","v":63519.971949580387}]
[null,{"$f":"IF(Dashboard!$P$4=\"All\",Data!G1480,IF(Data!K1480=Dashboard!$P$4,Data!G1480,NA()))","v":{"$error":"#N/A"}},"","","",{"$f":"IF(C929<>\"\",Data!$M1480,\"\")","v":""},null,null,null,null,{"$f":"IF(Dashboard!$R$4=\"All\",Data!G1480,IF(Data!K1480=Dashboard!$R$4,Data!G1480,NA()))","v":{"$error":"#N/A"}},"","","",{"$f":"IF(L929<>\"\",Data!$M1480,\"\")","v":""},null,null,null,null,{"$f":"IF(OR(Dashboard!$P$4=\"All\",Dashboard!$R$4=\"All\"),NA(),IF(OR(Data!K1480<>Dashboard!$P$4,Data!K1480<>Dashboard!$R$4),Data!G1480,NA()))","v":71231.666749770273}]
[null,{"$f":"IF(Dashboard!$P$4=\"All\",Data!G1481,IF(Data!K1481=Dashboard!$P$4,Data!G1481,NA()))","v":{"$error":"#N/A"}},"","","",{"$f":"IF(C930<>\"\",Data!$M1481,\"\")","v":""},null,null,null,null,{"$f":"IF(Dashboard!$R$4=\"All\",Data!G1481,IF(Data!K1481=Dashboard!$R$4,Data!G1481,NA()))","v":{"$error":"#N/A"}},"","","",{"$f":"IF(L930<>\"\",Data!$M1481,\"\")","v":""},null,null,null,null,{"$f":"IF(OR(Dashboard!$P$4=\"All\",Dashboard!$R$4=\"All\"),NA(),IF(OR(Data!K1481<>Dashboard!$P$4,Data!K1481<>Dashboard!$R$4),Data!G1481,NA()))","v":10000}]
[null,{"$f":"IF(Dashboard!$P$4=\"All\",Data!G1482,IF(Data!K1482=Dashboard!$P$4,Data!G1482,NA()))","v":{"$error":"#N/A"}},"","","",{"$f":"IF(C931<>\"\",Data!$M1482,\"\")","v":""},null,null,null,null,{"$f":"IF(Dashboard!$R$4=\"All\",Data!G1482,IF(Data!K1482=Dashboard!$R$4,Data!G1482,NA()))","v":{"$error":"#N/A"}},"","","",{"$f":"IF(L931<>\"\",Data!$M1482,\"\")","v":""},null,null,null,null,{"$f":"IF(OR(Dashboard!$P$4=\"All\",Dashboard!$R$4=\"All\"),NA(),IF(OR(Data!K1482<>Dashboard!$P$4,Data!K1482<>Dashboard!$R$4),Data!G1482,NA()))","v":74300}]
[null,{"$f":"IF(Dashboard!$P$4=\"All\",Data!G1483,IF(Data!K1483=Dashboard!$P$4,Data!G1483,NA()))","v":{"$error":"#N/A"}},"","","",{"$f":"IF(C932<>\"\",Data!$M1483,\"\")","v":""},null,null,null,null,{"$f":"IF(Dashboard!$R$4=\"All\",Data!G1483,IF(Data!K1483=Dashboard!$R$4,Data!G1483,NA()))","v":{"$error":"#N/A"}},"","","",{"$f":"IF(L932<>\"\",Data!$M1483,\"\")","v":""},null,null,null,null,{"$f":"IF(OR(Dashboard!$P$4=\"All\",Dashboard!$R$4=\"All\"),NA(),IF(OR(Data!K1483<>Dashboard!$P$4,Data!K1483<>Dashboard!$R$4),Data!G1483,NA()))","v":26711.875031163851}]
[null,{"$f":"IF(Dashboard!$P$4=\"All\",Data!G1484,IF(Data!K1484=Dashboard!$P$4,Data!G1484,NA()))","v":{"$error":"#N/A"}},"","","",{"$f":"IF(C933<>\"\",Data!$M1484,\"\")","v":""},null,null,null,null,{"$f":"IF(Dashboard!$R$4=\"All\",Data!G1484,IF(Data!K1484=Dashboard!$R$4,Data!G1484,NA()))","v":{"$error":"#N/A"}},"","","",{"$f":"IF(L933<>\"\",Data!$M1484,\"\")","v":""},null,null,null,null,{"$f":"IF(OR(Dashboard!$P$4=\"All\",Dashboard!$R$4=\"All\"),NA(),IF(OR(Data!K1484<>Dashboard!$P$4,Data!K1484<>Dashboard!$R$4),Data!G1484,NA()))","v":9545.0433444692171}]
[null,{"$f":"IF(Dashboard!$P$4=\"All\",Data!G1485,IF(Data!K1485=Dashboard!$P$4,Data!G1485,NA()))","v":{"$error":"#N/A"}},"","","",{"$f":"IF(C934<>\"\",Data!$M1485,\"\")","v":""},null,null,null,null,{"$f":"IF(Dashboard!$R$4=\"All\",Data!G1485,IF(Data!K1485=Dashboard!$R$4,Data!G1485,NA()))","v":{"$error":"#N/A"}},"","","",{"$f":"IF(L934<>\"\",Data!$M1485,\"\")","v":""},null,null,null,null,{"$f":"IF(OR(Dashboard!$P$4=\"All\",Dashboard!$R$4=\"All\"),NA(),IF(OR(Data!K1485<>Dashboard!$P$4,Data!K1485<>Dashboard!$R$4),Data!G1485,NA()))","v":95000}]
[null,{"$f":"IF(Dashboard!$P$4=\"All\",Data!G1486,IF(Data!K1486=Dashboard!$P$4,Data!G1486,NA()))","v":{"$error":"#N/A"}},"","","",{"$f":"IF(C935<>\"\",Data!$M1486,\"\")","v":""},null,null,null,null,{"$f":"IF(Dashboard!$R$4=\"All\",Data!G1486,IF(Data!K1486=Dashboard!$R$4,Data!G1486,NA()))","v":{"$error":"#N/A"}},"","","",{"$f":"IF(L935<>\"\",Data!$M1486,\"\")","v":""},null,null,null,null,{"$f":"IF(OR(Dashboard!$P$4=\"All\",Dashboard!$R$4=\"All\"),NA(),IF(OR(Data!K1486<>Dashboard!$P$4,Data!K1486<>Dashboard!$R$4),Data!G1486,NA()))","v":64300}]
[null,{"$f":"IF(Dashboard!$P$4=\"All\",Data!G1487,IF(Data!K1487=Dashboard!$P$4,Data!G1487,NA()))","v":{"$error":"#N/A"}},"","","",{"$f":"IF(C936<>\"\",Data!$M1487,\"\")","v":""},null,null,null,null,{"$f":"IF(Dashboard!$R$4=\"All\",Data!G1487,IF(Data!K1487=Dashboard!$R$4,Data!G1487,NA()))","v":{"$error":"#N/A"}},"","","",{"$f":"IF(L936<>\"\",Data!$M1487,\"\")","v":""},null,null,null,null,{"$f":"IF(OR(Dashboard!$P$4=\"All\",Dashboard!$R$4=\"All\"),NA(),IF(OR(Data!K1487<>Dashboard!$P$4,Data!K1487<>Dashboard!$R$4),Data!G1487,NA()))","v":250000}]
[null,{"$f":"IF(Dashboard!$P$4=\"All\",Data!G1488,IF(Data!K1488=Dashboard!$P$4,Data!G1488,NA()))","v":{"$error":"#N/A"}},"","","",{"$f":"IF(C937<>\"\",Data!$M1488,\"\")","v":""},null,null,null,null,{"$f":"IF(Dashboard!$R$4=\"All\",Data!G1488,IF(Data!K1488=Dashboard!$R$4,Data!G1488,NA()))","v":{"$error":"#N/A"}},"","","",{"$f":"IF(L937<>\"\",Data!$M1488,\"\")","v":""},null,null,null,null,{"$f":"IF(OR(Dashboard!$P$4=\"All\",Dashboard!$R$4=\"All\"),NA(),IF(OR(Data!K1488<>Dashboard!$P$4,Data!K1488<>Dashboard!$R$4),Data!G1488,NA()))","v":89000}]
[null,{"$f":"IF(Dashboard!$P$4=\"All\",Data!G1489,IF(Data!K1489=Dashboard!$P$4,Data!G1489,NA()))","v":{"$error":"#N/A"}},"","","",{"$f":"IF(C938<>\"\",Data!$M1489,\"\")","v":""},null,null,null,null,{"$f":"IF(Dashboard!$R$4=\"All\",Data!G1489,IF(Data!K1489=Dashboard!$R$4,Data!G1489,NA()))","v":{"$error":"#N/A"}},"","","",{"$f":"IF(L938<>\"\",Data!$M1489,\"\")","v":""},null,null,null,null,{"$f":"IF(OR(Dashboard!$P$4=\"All\",Dashboard!$R$4=\"All\"),NA(),IF(OR(Data!K1489<>Dashboard!$P$4,Data!K1489<>Dashboard!$R$4),Data!G1489,NA()))","v":75000}]
[null,{"$f":"IF(Dashboard!$P$4=\"All\",Data!G1490,IF(Data!K1490=Dashboard!$P$4,Data!G1490,NA()))","v":{"$error":"#N/A"}},"","","",{"$f":"IF(C939<>\"\",Data!$M1490,\"\")","v":""},null,null,null,null,{"$f":"IF(Dashboard!$R$4=\"All\",Data!G1490,IF(Data!K1490=Dashboard!$R$4,Data!G1490,NA()))","v":{"$error":"#N/A"}},"","","",{"$f":"IF(L939<>\"\",Data!$M1490,\"\")","v":""},null,null,null,null,{"$f":"IF(OR(Dashboard!$P$4=\"All\",Dashboard!$R$4=\"All\"),NA(),IF(OR(Data!K1490<>Dashboard!$P$4,Data!K1490<>Dashboard!$R$4),Data!G1490,NA()))","v":45000}]
[null,{"$f":"IF(Dashboard!$P$4=\"All\",Data!G1491,IF(Data!K1491=Dashboard!$P$4,Data!G1491,NA()))","v":{"$error":"#N/A"}},"","","",{"$f":"IF(C940<>\"\",Data!$M1491,\"\")","v":""},null,null,null,null,{"$f":"IF(Dashboard!$R$4=\"All\",Data!G1491,IF(Data!K1491=Dashboard!$R$4,Data!G1491,NA()))","v":{"$error":"#N/A"}},"","","",{"$f":"IF(L940<>\"\",Data!$M1491,\"\")","v":""},null,null,null,null,{"$f":"IF(OR(Dashboard!$P$4=\"All\",Dashboard!$R$4=\"All\"),NA(),IF(OR(Data!K1491<>Dashboard!$P$4,Data!K1491<>Dashboard!$R$4),Data!G1491,NA()))","v":127500}]
[null,{"$f":"IF(Dashboard!$P$4=\"All\",Data!G1492,IF(Data!K1492=Dashboard!$P$4,Data!G1492,NA()))","v":{"$error":"#N/A"}},"","","",{"$f":"IF(C941<>\"\",Data!$M1492,\"\")","v":""},null,null,null,null,{"$f":"IF(Dashboard!$R$4=\"All\",Data!G1492,IF(Data!K1492=Dashboard!$R$4,Data!G1492,NA()))","v":{"$error":"#N/A"}},"","","",{"$f":"IF(L941<>\"\",Data!$M1492,\"\")","v":""},null,null,null,null,{"$f":"IF(OR(Dashboard!$P$4=\"All\",Dashboard!$R$4=\"All\"),NA(),IF(OR(Data!K1492<>Dashboard!$P$4,Data!K1492<>Dashboard!$R$4),Data!G1492,NA()))","v":170000}]
[null,{"$f":"IF(Dashboard!$P$4=\"All\",Data!G1493,IF(Data!K1493=Dashboard!$P$4,Data!G1493,NA()))","v":{"$error":"#N/A"}},"","","",{"$f":"IF(C942<>\"\",Data!$M1493,\"\")","v":""},null,null,null,null,{"$f":"IF(Dashboard!$R$4=\"All\",Data!G1493,IF(Data!K1493=Dashboard!$R$4,Data!G1493,NA()))","v":{"$error":"#N/A"}},"","","",{"$f":"IF(L942<>\"\",Data!$M1493,\"\")","v":""},null,null,null,null,{"$f":"IF(OR(Dashboard!$P$4=\"All\",Dashboard!$R$4=\"All\"),NA(),IF(OR(Data!K1493<>Dashboard!$P$4,Data!K1493<>Dashboard!$R$4),Data!G1493,NA()))","v":9600}]
[null,{"$f":"IF(Dashboard!$P$4=\"All\",Data!G1494,IF(Data!K1494=Dashboard!$P$4,Data!G1494,NA()))","v":{"$error":"#N/A"}},"","","",{"$f":"IF(C943<>\"\",Data!$M1494,\"\")","v":""},null,null,null,null,{"$f":"IF(Dashboard!$R$4=\"All\",Data!G1494,IF(Data!K1494=Dashboard!$R$4,Data!G1494,NA()))","v":{"$error":"#N/A"}},"","","",{"$f":"IF(L943<>\"\",Data!$M1494,\"\")","v":""},null,null,null,null,{"$f":"IF(OR(Dashboard!$P$4=\"All\",Dashboard!$R$4=\"All\"),NA(),IF(OR(Data!K1494<>Dashboard!$P$4,Data!K1494<>Dashboard!$R$4),Data!G1494,NA()))","v":62000}]
[null,{"$f":"IF(Dashboard!$P$4=\"All\",Data!G1495,IF(Data!K1495=Dashboard!$P$4,Data!G1495,NA()))","v":{"$error":"#N/A"}},"","","",{"$f":"IF(C944<>\"\",Data!$M1495,\"\")","v":""},null,null,null,null,{"$f":"IF(Dashboard!$R$4=\"All\",Data!G1495,IF(Data!K1495=Dashboard!$R$4,Data!G1495,NA()))","v":{"$error":"#N/A"}},"","","",{"$f":"IF(L944<>\"\",Data!$M1495,\"\")","v":""},null,null,null,null,{"$f":"IF(OR(Dashboard!$P$4=\"All\",Dashboard!$R$4=\"All\"),NA(),IF(OR(Data!K1495<>Dashboard!$P$4,Data!K1495<>Dashboard!$R$4),Data!G1495,NA()))","v":22000}]
[null,{"$f":"IF(Dashboard!$P$4=\"All\",Data!G1496,IF(Data!K1496=Dashboard!$P$4,Data!G1496,NA()))","v":{"$error":"#N/A"}},"","","",{"$f":"IF(C945<>\"\",Data!$M1496,\"\")","v":""},null,null,null,null,{"$f":"IF(Dashboard!$R$4=\"All\",Data!G1496,IF(Data!K1496=Dashboard!$R$4,Data!G1496,NA()))","v":{"$error":"#N/A"}},"","","",{"$f":"IF(L945<>\"\",Data!$M1496,\"\")","v":""},null,null,null,null,{"$f":"IF(OR(Dashboard!$P$4=\"All\",Dashboard!$R$4=\"All\"),NA(),IF(OR(Data!K1496<>Dashboard!$P$4,Data!K1496<>Dashboard!$R$4),Data!G1496,NA()))","v":45000}]
[null,{"$f":"IF(Dashboard!$P$4=\"All\",Data!G1497,IF(Data!K1497=Dashboard!$P$4,Data!G1497,NA()))","v":{"$error":"#N/A"}},"","","",{"$f":"IF(C946<>\"\",Data!$M1497,\"\")","v":""},null,null,null,null,{"$f":"IF(Dashboard!$R$4=\"All\",Data!G1497,IF(Data!K1497=Dashboard!$R$4,Data!G1497,NA()))","v":{"$error":"#N/A"}},"","","",{"$f":"IF(L946<>\"\",Data!$M1497,\"\")","v":""},null,null,null,null,{"$f":"IF(OR(Dashboard!$P$4=\"All\",Dashboard!$R$4=\"All\"),NA(),IF(OR(Data!K1497<>Dashboard!$P$4,Data!K1497<>Dashboard!$R$4),Data!G1497,NA()))","v":145000}]
[null,{"$f":"IF(Dashboard!$P$4=\"All\",Data!G1498,IF(Data!K1498=Dashboard!$P$4,Data!G1498,NA()))","v":{"$error":"#N/A"}},"","","",{"$f":"IF(C947<>\"\",Data!$M1498,\"\")","v":""},null,null,null,null,{"$f":"IF(Dashboard!$R$4=\"All\",Data!G1498,IF(Data!K1498=Dashboard!$R$4,Data!G1498,NA()))","v":{"$error":"#N/A"}},"","","",{"$f":"IF(L947<>\"\",Data!$M1498,\"\")","v":""},null,null,null,null,{"$f":"IF(OR(Dashboard!$P$4=\"All\",Dashboard!$R$4=\"All\"),NA(),IF(OR(Data!K1498<>Dashboard!$P$4,Data!K1498<>Dashboard!$R$4),Data!G1498,NA()))","v":89000}]
[null,{"$f":"IF(Dashboard!$P$4=\"All\",Data!G1499,IF(Data!K1499=Dashboard!$P$4,Data!G1499,NA()))","v":{"$error":"#N/A"}},"","","",{"$f":"IF(C948<>\"\",Data!$M1499,\"\")","v":""},null,null,null,null,{"$f":"IF(Dashboard!$R$4=\"All\",Data!G1499,IF(Data!K1499=Dashboard!$R$4,Data!G1499,NA()))","v":{"$error":"#N/A"}},"","","",{"$f":"IF(L948<>\"\",Data!$M1499,\"\")","v":""},null,null,null,null,{"$f":"IF(OR(Dashboard!$P$4=\"All\",Dashboard!$R$4=\"All\"),NA(),IF(OR(Data!K1499<>Dashboard!$P$4,Data!K1499<>Dashboard!$R$4),Data!G1499,NA()))","v":38000}]
[null,{"$f":"IF(Dashboard!$P$4=\"All\",Data!G1500,IF(Data!K1500=Dashboard!$P$4,Data!G1500,NA()))","v":{"$error":"#N/A"}},"","","",{"$f":"IF(C949<>\"\",Data!$M1500,\"\")","v":""},null,null,null,null,{"$f":"IF(Dashboard!$R$4=\"All\",Data!G1500,IF(Data!K1500=Dashboard!$R$4,Data!G1500,NA()))","v":{"$error":"#N/A"}},"","","",{"$f":"IF(L949<>\"\",Data!$M1500,\"\")","v":""},null,null,null,null,{"$f":"IF(OR(Dashboard!$P$4=\"All\",Dashboard!$R$4=\"All\"),NA(),IF(OR(Data!K1500<>Dashboard!$P$4,Data!K1500<>Dashboard!$R$4),Data!G1500,NA()))","v":49168.076151516347}]
[null,{"$f":"IF(Dashboard!$P$4=\"All\",Data!G1501,IF(Data!K1501=Dashboard!$P$4,Data!G1501,NA()))","v":{"$error":"#N/A"}},"","","",{"$f":"IF(C950<>\"\",Data!$M1501,\"\")","v":""},null,null,null,null,{"$f":"IF(Dashboard!$R$4=\"All\",Data!G1501,IF(Data!K1501=Dashboard!$R$4,Data!G1501,NA()))","v":{"$error":"#N/A"}},"","","",{"$f":"IF(L950<>\"\",Data!$M1501,\"\")","v":""},null,null,null,null,{"$f":"IF(OR(Dashboard!$P$4=\"All\",Dashboard!$R$4=\"All\"),NA(),IF(OR(Data!K1501<>Dashboard!$P$4,Data!K1501<>Dashboard!$R$4),Data!G1501,NA()))","v":8903.9583437212841}]
[null,{"$f":"IF(Dashboard!$P$4=\"All\",Data!G1502,IF(Data!K1502=Dashboard!$P$4,Data!G1502,NA()))","v":{"$error":"#N/A"}},"","","",{"$f":"IF(C951<>\"\",Data!$M1502,\"\")","v":""},null,null,null,null,{"$f":"IF(Dashboard!$R$4=\"All\",Data!G1502,IF(Data!K1502=Dashboard!$R$4,Data!G1502,NA()))","v":{"$error":"#N/A"}},"","","",{"$f":"IF(L951<>\"\",Data!$M1502,\"\")","v":""},null,null,null,null,{"$f":"IF(OR(Dashboard!$P$4=\"All\",Dashboard!$R$4=\"All\"),NA(),IF(OR(Data!K1502<>Dashboard!$P$4,Data!K1502<>Dashboard!$R$4),Data!G1502,NA()))","v":10000}]
[null,{"$f":"IF(Dashboard!$P$4=\"All\",Data!G1503,IF(Data!K1503=Dashboard!$P$4,Data!G1503,NA()))","v":{"$error":"#N/A"}},"","","",{"$f":"IF(C952<>\"\",Data!$M1503,\"\")","v":""},null,null,null,null,{"$f":"IF(Dashboard!$R$4=\"All\",Data!G1503,IF(Data!K1503=Dashboard!$R$4,Data!G1503,NA()))","v":{"$error":"#N/A"}},"","","",{"$f":"IF(L952<>\"\",Data!$M1503,\"\")","v":""},null,null,null,null,{"$f":"IF(OR(Dashboard!$P$4=\"All\",Dashboard!$R$4=\"All\"),NA(),IF(OR(Data!K1503<>Dashboard!$P$4,Data!K1503<>Dashboard!$R$4),Data!G1503,NA()))","v":105000}]
[null,{"$f":"IF(Dashboard!$P$4=\"All\",Data!G1504,IF(Data!K1504=Dashboard!$P$4,Data!G1504,NA()))","v":{"$error":"#N/A"}},"","","",{"$f":"IF(C953<>\"\",Data!$M1504,\"\")","v":""},null,null,null,null,{"$f":"IF(Dashboard!$R$4=\"All\",Data!G1504,IF(Data!K1504=Dashboard!$R$4,Data!G1504,NA()))","v":{"$error":"#N/A"}},"","","",{"$f":"IF(L953<>\"\",Data!$M1504,\"\")","v":""},null,null,null,null,{"$f":"IF(OR(Dashboard!$P$4=\"All\",Dashboard!$R$4=\"All\"),NA(),IF(OR(Data!K1504<>Dashboard!$P$4,Data!K1504<>Dashboard!$R$4),Data!G1504,NA()))","v":12000}]
[null,{"$f":"IF(Dashboard!$P$4=\"All\",Data!G1505,IF(Data!K1505=Dashboard!$P$4,Data!G1505,NA()))","v":{"$error":"#N/A"}},"","","",{"$f":"IF(C954<>\"\",Data!$M1505,\"\")","v":""},null,null,null,null,{"$f":"IF(Dashboard!$R$4=\"All\",Data!G1505,IF(Data!K1505=Dashboard!$R$4,Data!G1505,NA()))","v":{"$error":"#N/A"}},"","","",{"$f":"IF(L954<>\"\",Data!$M1505,\"\")","v":""},null,null,null,null,{"$f":"IF(OR(Dashboard!$P$4=\"All\",Dashboard!$R$4=\"All\"),NA(),IF(OR(Data!K1505<>Dashboard!$P$4,Data!K1505<>Dashboard!$R$4),Data!G1505,NA()))","v":3561.5833374885137}]
[null,{"$f":"IF(Dashboard!$P$4=\"All\",Data!G1506,IF(Data!K1506=Dashboard!$P$4,Data!G1506,NA()))","v":{"$error":"#N/A"}},"","","",{"$f":"IF(C955<>\"\",Data!$M1506,\"\")","v":""},null,null,null,null,{"$f":"IF(Dashboard!$R$4=\"All\",Data!G1506,IF(Data!K1506=Dashboard!$R$4,Data!G1506,NA()))","v":{"$error":"#N/A"}},"","","",{"$f":"IF(L955<>\"\",Data!$M1506,\"\")","v":""},null,null,null,null,{"$f":"IF(OR(Dashboard!$P$4=\"All\",Dashboard!$R$4=\"All\"),NA(),IF(OR(Data!K1506<>Dashboard!$P$4,Data!K1506<>Dashboard!$R$4),Data!G1506,NA()))","v":86692.320794224041}]
[null,{"$f":"IF(Dashboard!$P$4=\"All\",Data!G1507,IF(Data!K1507=Dashboard!$P$4,Data!G1507,NA()))","v":{"$error":"#N/A"}},"","","",{"$f":"IF(C956<>\"\",Data!$M1507,\"\")","v":""},null,null,null,null,{"$f":"IF(Dashboard!$R$4=\"All\",Data!G1507,IF(Data!K1507=Dashboard!$R$4,Data!G1507,NA()))","v":{"$error":"#N/A"}},"","","",{"$f":"IF(L956<>\"\",Data!$M1507,\"\")","v":""},null,null,null,null,{"$f":"IF(OR(Dashboard!$P$4=\"All\",Dashboard!$R$4=\"All\"),NA(),IF(OR(Data!K1507<>Dashboard!$P$4,Data!K1507<>Dashboard!$R$4),Data!G1507,NA()))","v":8000}]
[null,{"$f":"IF(Dashboard!$P$4=\"All\",Data!G1508,IF(Data!K1508=Dashboard!$P$4,Data!G1508,NA()))","v":{"$error":"#N/A"}},"","","",{"$f":"IF(C957<>\"\",Data!$M1508,\"\")","v":""},null,null,null,null,{"$f":"IF(Dashboard!$R$4=\"All\",Data!G1508,IF(Data!K1508=Dashboard!$R$4,Data!G1508,NA()))","v":{"$error":"#N/A"}},"","","",{"$f":"IF(L957<>\"\",Data!$M1508,\"\")","v":""},null,null,null,null,{"$f":"IF(OR(Dashboard!$P$4=\"All\",Dashboard!$R$4=\"All\"),NA(),IF(OR(Data!K1508<>Dashboard!$P$4,Data!K1508<>Dashboard!$R$4),Data!G1508,NA()))","v":6767.0083412281756}]
[null,{"$f":"IF(Dashboard!$P$4=\"All\",Data!G1509,IF(Data!K1509=Dashboard!$P$4,Data!G1509,NA()))","v":{"$error":"#N/A"}},"","","",{"$f":"IF(C958<>\"\",Data!$M1509,\"\")","v":""},null,null,null,null,{"$f":"IF(Dashboard!$R$4=\"All\",Data!G1509,IF(Data!K1509=Dashboard!$R$4,Data!G1509,NA()))","v":48073.437298052166},48073.437298052166,"","",{"$f":"IF(L958<>\"\",Data!$M1509,\"\")","v":14},null,null,null,null,{"$f":"IF(OR(Dashboard!$P$4=\"All\",Dashboard!$R$4=\"All\"),NA(),IF(OR(Data!K1509<>Dashboard!$P$4,Data!K1509<>Dashboard!$R$4),Data!G1509,NA()))","v":48073.437298052166}]
[null,{"$f":"IF(Dashboard!$P$4=\"All\",Data!G1510,IF(Data!K1510=Dashboard!$P$4,Data!G1510,NA()))","v":76223.966339496474},76223.966339496474,"","",{"$f":"IF(C959<>\"\",Data!$M1510,\"\")","v":15},null,null,null,null,{"$f":"IF(Dashboard!$R$4=\"All\",Data!G1510,IF(Data!K1510=Dashboard!$R$4,Data!G1510,NA()))","v":{"$error":"#N/A"}},"","","",{"$f":"IF(L959<>\"\",Data!$M1510,\"\")","v":""},null,null,null,null,{"$f":"IF(OR(Dashboard!$P$4=\"All\",Dashboard!$R$4=\"All\"),NA(),IF(OR(Data!K1510<>Dashboard!$P$4,Data!K1510<>Dashboard!$R$4),Data!G1510,NA()))","v":76223.966339496474}]
[null,{"$f":"IF(Dashboard!$P$4=\"All\",Data!G1511,IF(Data!K1511=Dashboard!$P$4,Data!G1511,NA()))","v":{"$error":"#N/A"}},"","","",{"$f":"IF(C960<>\"\",Data!$M1511,\"\")","v":""},null,null,null,null,{"$f":"IF(Dashboard!$R$4=\"All\",Data!G1511,IF(Data!K1511=Dashboard!$R$4,Data!G1511,NA()))","v":{"$error":"#N/A"}},"","","",{"$f":"IF(L960<>\"\",Data!$M1511,\"\")","v":""},null,null,null,null,{"$f":"IF(OR(Dashboard!$P$4=\"All\",Dashboard!$R$4=\"All\"),NA(),IF(OR(Data!K1511<>Dashboard!$P$4,Data!K1511<>Dashboard!$R$4),Data!G1511,NA()))","v":85333.333333333328}]
[null,{"$f":"IF(Dashboard!$P$4=\"All\",Data!G1512,IF(Data!K1512=Dashboard!$P$4,Data!G1512,NA()))","v":{"$error":"#N/A"}},"","","",{"$f":"IF(C961<>\"\",Data!$M1512,\"\")","v":""},null,null,null,null,{"$f":"IF(Dashboard!$R$4=\"All\",Data!G1512,IF(Data!K1512=Dashboard!$R$4,Data!G1512,NA()))","v":76223.981237173866},76223.981237173866,"","",{"$f":"IF(L961<>\"\",Data!$M1512,\"\")","v":8},null,null,null,null,{"$f":"IF(OR(Dashboard!$P$4=\"All\",Dashboard!$R$4=\"All\"),NA(),IF(OR(Data!K1512<>Dashboard!$P$4,Data!K1512<>Dashboard!$R$4),Data!G1512,NA()))","v":76223.981237173866}]
[null,{"$f":"IF(Dashboard!$P$4=\"All\",Data!G1513,IF(Data!K1513=Dashboard!$P$4,Data!G1513,NA()))","v":{"$error":"#N/A"}},"","","",{"$f":"IF(C962<>\"\",Data!$M1513,\"\")","v":""},null,null,null,null,{"$f":"IF(Dashboard!$R$4=\"All\",Data!G1513,IF(Data!K1513=Dashboard!$R$4,Data!G1513,NA()))","v":{"$error":"#N/A"}},"","","",{"$f":"IF(L962<>\"\",Data!$M1513,\"\")","v":""},null,null,null,null,{"$f":"IF(OR(Dashboard!$P$4=\"All\",Dashboard!$R$4=\"All\"),NA(),IF(OR(Data!K1513<>Dashboard!$P$4,Data!K1513<>Dashboard!$R$4),Data!G1513,NA()))","v":30000}]
[null,{"$f":"IF(Dashboard!$P$4=\"All\",Data!G1514,IF(Data!K1514=Dashboard!$P$4,Data!G1514,NA()))","v":{"$error":"#N/A"}},"","","",{"$f":"IF(C963<>\"\",Data!$M1514,\"\")","v":""},null,null,null,null,{"$f":"IF(Dashboard!$R$4=\"All\",Data!G1514,IF(Data!K1514=Dashboard!$R$4,Data!G1514,NA()))","v":{"$error":"#N/A"}},"","","",{"$f":"IF(L963<>\"\",Data!$M1514,\"\")","v":""},null,null,null,null,{"$f":"IF(OR(Dashboard!$P$4=\"All\",Dashboard!$R$4=\"All\"),NA(),IF(OR(Data!K1514<>Dashboard!$P$4,Data!K1514<>Dashboard!$R$4),Data!G1514,NA()))","v":34000}]
[null,{"$f":"IF(Dashboard!$P$4=\"All\",Data!G1515,IF(Data!K1515=Dashboard!$P$4,Data!G1515,NA()))","v":{"$error":"#N/A"}},{"$f":"IF(ISNA(B964),\"\",B964)","v":""},{"$f":"IF(C964>=PERCENTILE($C$3:$C$1337,0.9),C964,\"\")","v":""},{"$f":"IF(C964<=PERCENTILE($C$3:$C$1337,0.1),C964,\"\")","v":""},{"$f":"IF(C964<>\"\",Data!$M1515,\"\")","v":""},null,null,null,null,{"$f":"IF(Dashboard!$R$4=\"All\",Data!G1515,IF(Data!K1515=Dashboard!$R$4,Data!G1515,NA()))","v":{"$error":"#N/A"}},{"$f":"IF(ISNA(K964),\"\",K964)","v":""},{"$f":"IF(L964>=PERCENTILE($L$3:$L$1337,0.9),L964,\"\")","v":""},{"$f":"IF(L964<=PERCENTILE($L$3:$L$1337,0.1),L964,\"\")","v":""},{"$f":"IF(L964<>\"\",Data!$M1515,\"\")","v":""},null,null,null,null,{"$f":"IF(OR(Dashboard!$P$4=\"All\",Dashboard!$R$4=\"All\"),NA(),IF(OR(Data!K1515<>Dashboard!$P$4,Data!K1515<>Dashboard!$R$4),Data!G1515,NA()))","v":3205.4250037396623}]
[null,{"$f":"IF(Dashboard!$P$4=\"All\",Data!G1516,IF(Data!K1516=Dashboard!$P$4,Data!G1516,NA()))","v":{"$error":"#N/A"}},"","","",{"$f":"IF(C965<>\"\",Data!$M1516,\"\")","v":""},null,null,null,null,{"$f":"IF(Dashboard!$R$4=\"All\",Data!G1516,IF(Data!K1516=Dashboard!$R$4,Data!G1516,NA()))","v":{"$error":"#N/A"}},"","","",{"$f":"IF(L965<>\"\",Data!$M1516,\"\")","v":""},null,null,null,null,{"$f":"IF(OR(Dashboard!$P$4=\"All\",Dashboard!$R$4=\"All\"),NA(),IF(OR(Data!K1516<>Dashboard!$P$4,Data!K1516<>Dashboard!$R$4),Data!G1516,NA()))","v":45000}]
[null,{"$f":"IF(Dashboard!$P$4=\"All\",Data!G1517,IF(Data!K1517=Dashboard!$P$4,Data!G1517,NA()))","v":{"$error":"#N/A"}},"","","",{"$f":"IF(C966<>\"\",Data!$M1517,\"\")","v":""},null,null,null,null,{"$f":"IF(Dashboard!$R$4=\"All\",Data!G1517,IF(Data!K1517=Dashboard!$R$4,Data!G1517,NA()))","v":{"$error":"#N/A"}},"","","",{"$f":"IF(L966<>\"\",Data!$M1517,\"\")","v":""},null,null,null,null,{"$f":"IF(OR(Dashboard!$P$4=\"All\",Dashboard!$R$4=\"All\"),NA(),IF(OR(Data!K1517<>Dashboard!$P$4,Data!K1517<>Dashboard!$R$4),Data!G1517,NA()))","v":24864}]
[null,{"$f":"IF(Dashboard!$P$4=\"All\",Data!G1518,IF(Data!K1518=Dashboard!$P$4,Data!G1518,NA()))","v":{"$error":"#N/A"}},"","","",{"$f":"IF(C967<>\"\",Data!$M1518,\"\")","v":""},null,null,null,null,{"$f":"IF(Dashboard!$R$4=\"All\",Data!G1518,IF(Data!K1518=Dashboard!$R$4,Data!G1518,NA()))","v":47285.348162018527},47285.348162018527,"","",{"$f":"IF(L967<>\"\",Data!$M1518,\"\")","v":7},null,null,null,null,{"$f":"IF(OR(Dashboard!$P$4=\"All\",Dashboard!$R$4=\"All\"),NA(),IF(OR(Data!K1518<>Dashboard!$P$4,Data!K1518<>Dashboard!$R$4),Data!G1518,NA()))","v":47285.348162018527}]
[null,{"$f":"IF(Dashboard!$P$4=\"All\",Data!G1519,IF(Data!K1519=Dashboard!$P$4,Data!G1519,NA()))","v":{"$error":"#N/A"}},"","","",{"$f":"IF(C968<>\"\",Data!$M1519,\"\")","v":""},null,null,null,null,{"$f":"IF(Dashboard!$R$4=\"All\",Data!G1519,IF(Data!K1519=Dashboard!$R$4,Data!G1519,NA()))","v":{"$error":"#N/A"}},"","","",{"$f":"IF(L968<>\"\",Data!$M1519,\"\")","v":""},null,null,null,null,{"$f":"IF(OR(Dashboard!$P$4=\"All\",Dashboard!$R$4=\"All\"),NA(),IF(OR(Data!K1519<>Dashboard!$P$4,Data!K1519<>Dashboard!$R$4),Data!G1519,NA()))","v":17807.916687442568}]
[null,{"$f":"IF(Dashboard!$P$4=\"All\",Data!G1520,IF(Data!K1520=Dashboard!$P$4,Data!G1520,NA()))","v":{"$error":"#N/A"}},"","","",{"$f":"IF(C969<>\"\",Data!$M1520,\"\")","v":""},null,null,null,null,{"$f":"IF(Dashboard!$R$4=\"All\",Data!G1520,IF(Data!K1520=Dashboard!$R$4,Data!G1520,NA()))","v":55166.239522354947},55166.239522354947,"","",{"$f":"IF(L969<>\"\",Data!$M1520,\"\")","v":3},null,null,null,null,{"$f":"IF(OR(Dashboard!$P$4=\"All\",Dashboard!$R$4=\"All\"),NA(),IF(OR(Data!K1520<>Dashboard!$P$4,Data!K1520<>Dashboard!$R$4),Data!G1520,NA()))","v":55166.239522354947}]
[null,{"$f":"IF(Dashboard!$P$4=\"All\",Data!G1521,IF(Data!K1521=Dashboard!$P$4,Data!G1521,NA()))","v":69871.969144538423},69871.969144538423,"","",{"$f":"IF(C970<>\"\",Data!$M1521,\"\")","v":5},null,null,null,null,{"$f":"IF(Dashboard!$R$4=\"All\",Data!G1521,IF(Data!K1521=Dashboard!$R$4,Data!G1521,NA()))","v":{"$error":"#N/A"}},"","","",{"$f":"IF(L970<>\"\",Data!$M1521,\"\")","v":""},null,null,null,null,{"$f":"IF(OR(Dashboard!$P$4=\"All\",Dashboard!$R$4=\"All\"),NA(),IF(OR(Data!K1521<>Dashboard!$P$4,Data!K1521<>Dashboard!$R$4),Data!G1521,NA()))","v":69871.969144538423}]
[null,{"$f":"IF(Dashboard!$P$4=\"All\",Data!G1522,IF(Data!K1522=Dashboard!$P$4,Data!G1522,NA()))","v":{"$error":"#N/A"}},"","","",{"$f":"IF(C971<>\"\",Data!$M1522,\"\")","v":""},null,null,null,null,{"$f":"IF(Dashboard!$R$4=\"All\",Data!G1522,IF(Data!K1522=Dashboard!$R$4,Data!G1522,NA()))","v":{"$error":"#N/A"}},"","","",{"$f":"IF(L971<>\"\",Data!$M1522,\"\")","v":""},null,null,null,null,{"$f":"IF(OR(Dashboard!$P$4=\"All\",Dashboard!$R$4=\"All\"),NA(),IF(OR(Data!K1522<>Dashboard!$P$4,Data!K1522<>Dashboard!$R$4),Data!G1522,NA()))","v":70970}]
[null,{"$f":"IF(Dashboard!$P$4=\"All\",Data!G1523,IF(Data!K1523=Dashboard!$P$4,Data!G1523,NA()))","v":76223.966339496474},76223.966339496474,"","",{"$f":"IF(C972<>\"\",Data!$M1523,\"\")","v":7},null,null,null,null,{"$f":"IF(Dashboard!$R$4=\"All\",Data!G1523,IF(Data!K1523=Dashboard!$R$4,Data!G1523,NA()))","v":{"$error":"#N/A"}},"","","",{"$f":"IF(L972<>\"\",Data!$M1523,\"\")","v":""},null,null,null,null,{"$f":"IF(OR(Dashboard!$P$4=\"All\",Dashboard!$R$4=\"All\"),NA(),IF(OR(Data!K1523<>Dashboard!$P$4,Data!K1523<>Dashboard!$R$4),Data!G1523,NA()))","v":76223.966339496474}]
[null,{"$f":"IF(Dashboard!$P$4=\"All\",Data!G1524,IF(Data!K1524=Dashboard!$P$4,Data!G1524,NA()))","v":{"$error":"#N/A"}},"","","",{"$f":"IF(C973<>\"\",Data!$M1524,\"\")","v":""},null,null,null,null,{"$f":"IF(Dashboard!$R$4=\"All\",Data!G1524,IF(Data!K1524=Dashboard!$R$4,Data!G1524,NA()))","v":{"$error":"#N/A"}},"","","",{"$f":"IF(L973<>\"\",Data!$M1524,\"\")","v":""},null,null,null,null,{"$f":"IF(OR(Dashboard!$P$4=\"All\",Dashboard!$R$4=\"All\"),NA(),IF(OR(Data!K1524<>Dashboard!$P$4,Data!K1524<>Dashboard!$R$4),Data!G1524,NA()))","v":110000}]
[null,{"$f":"IF(Dashboard!$P$4=\"All\",Data!G1525,IF(Data!K1525=Dashboard!$P$4,Data!G1525,NA()))","v":{"$error":"#N/A"}},"","","",{"$f":"IF(C974<>\"\",Data!$M1525,\"\")","v":""},null,null,null,null,{"$f":"IF(Dashboard!$R$4=\"All\",Data!G1525,IF(Data!K1525=Dashboard!$R$4,Data!G1525,NA()))","v":{"$error":"#N/A"}},"","","",{"$f":"IF(L974<>\"\",Data!$M1525,\"\")","v":""},null,null,null,null,{"$f":"IF(OR(Dashboard!$P$4=\"All\",Dashboard!$R$4=\"All\"),NA(),IF(OR(Data!K1525<>Dashboard!$P$4,Data!K1525<>Dashboard!$R$4),Data!G1525,NA()))","v":14400}]
[null,{"$f":"IF(Dashboard!$P$4=\"All\",Data!G1526,IF(Data!K1526=Dashboard!$P$4,Data!G1526,NA()))","v":{"$error":"#N/A"}},"","","",{"$f":"IF(C975<>\"\",Data!$M1526,\"\")","v":""},null,null,null,null,{"$f":"IF(Dashboard!$R$4=\"All\",Data!G1526,IF(Data!K1526=Dashboard!$R$4,Data!G1526,NA()))","v":{"$error":"#N/A"}},"","","",{"$f":"IF(L975<>\"\",Data!$M1526,\"\")","v":""},null,null,null,null,{"$f":"IF(OR(Dashboard!$P$4=\"All\",Dashboard!$R$4=\"All\"),NA(),IF(OR(Data!K1526<>Dashboard!$P$4,Data!K1526<>Dashboard!$R$4),Data!G1526,NA()))","v":125000}]
[null,{"$f":"IF(Dashboard!$P$4=\"All\",Data!G1527,IF(Data!K1527=Dashboard!$P$4,Data!G1527,NA()))","v":{"$error":"#N/A"}},"","","",{"$f":"IF(C976<>\"\",Data!$M1527,\"\")","v":""},null,null,null,null,{"$f":"IF(Dashboard!$R$4=\"All\",Data!G1527,IF(Data!K1527=Dashboard!$R$4,Data!G1527,NA()))","v":{"$error":"#N/A"}},"","","",{"$f":"IF(L976<>\"\",Data!$M1527,\"\")","v":""},null,null,null,null,{"$f":"IF(OR(Dashboard!$P$4=\"All\",Dashboard!$R$4=\"All\"),NA(),IF(OR(Data!K1527<>Dashboard!$P$4,Data!K1527<>Dashboard!$R$4),Data!G1527,NA()))","v":72768.752704244194}]
[null,{"$f":"IF(Dashboard!$P$4=\"All\",Data!G1528,IF(Data!K1528=Dashboard!$P$4,Data!G1528,NA()))","v":{"$error":"#N/A"}},"","","",{"$f":"IF(C977<>\"\",Data!$M1528,\"\")","v":""},null,null,null,null,{"$f":"IF(Dashboard!$R$4=\"All\",Data!G1528,IF(Data!K1528=Dashboard!$R$4,Data!G1528,NA()))","v":{"$error":"#N/A"}},"","","",{"$f":"IF(L977<>\"\",Data!$M1528,\"\")","v":""},null,null,null,null,{"$f":"IF(OR(Dashboard!$P$4=\"All\",Dashboard!$R$4=\"All\"),NA(),IF(OR(Data!K1528<>Dashboard!$P$4,Data!K1528<>Dashboard!$R$4),Data!G1528,NA()))","v":59000}]
[null,{"$f":"IF(Dashboard!$P$4=\"All\",Data!G1529,IF(Data!K1529=Dashboard!$P$4,Data!G1529,NA()))","v":{"$error":"#N/A"}},"","","",{"$f":"IF(C978<>\"\",Data!$M1529,\"\")","v":""},null,null,null,null,{"$f":"IF(Dashboard!$R$4=\"All\",Data!G1529,IF(Data!K1529=Dashboard!$R$4,Data!G1529,NA()))","v":{"$error":"#N/A"}},"","","",{"$f":"IF(L978<>\"\",Data!$M1529,\"\")","v":""},null,null,null,null,{"$f":"IF(OR(Dashboard!$P$4=\"All\",Dashboard!$R$4=\"All\"),NA(),IF(OR(Data!K1529<>Dashboard!$P$4,Data!K1529<>Dashboard!$R$4),Data!G1529,NA()))","v":71500}]
[null,{"$f":"IF(Dashboard!$P$4=\"All\",Data!G1530,IF(Data!K1530=Dashboard!$P$4,Data!G1530,NA()))","v":{"$error":"#N/A"}},"","","",{"$f":"IF(C979<>\"\",Data!$M1530,\"\")","v":""},null,null,null,null,{"$f":"IF(Dashboard!$R$4=\"All\",Data!G1530,IF(Data!K1530=Dashboard!$R$4,Data!G1530,NA()))","v":39404.456801682099},39404.456801682099,"","",{"$f":"IF(L979<>\"\",Data!$M1530,\"\")","v":2},null,null,null,null,{"$f":"IF(OR(Dashboard!$P$4=\"All\",Dashboard!$R$4=\"All\"),NA(),IF(OR(Data!K1530<>Dashboard!$P$4,Data!K1530<>Dashboard!$R$4),Data!G1530,NA()))","v":39404.456801682099}]
[null,{"$f":"IF(Dashboard!$P$4=\"All\",Data!G1531,IF(Data!K1531=Dashboard!$P$4,Data!G1531,NA()))","v":{"$error":"#N/A"}},"","","",{"$f":"IF(C980<>\"\",Data!$M1531,\"\")","v":""},null,null,null,null,{"$f":"IF(Dashboard!$R$4=\"All\",Data!G1531,IF(Data!K1531=Dashboard!$R$4,Data!G1531,NA()))","v":{"$error":"#N/A"}},"","","",{"$f":"IF(L980<>\"\",Data!$M1531,\"\")","v":""},null,null,null,null,{"$f":"IF(OR(Dashboard!$P$4=\"All\",Dashboard!$R$4=\"All\"),NA(),IF(OR(Data!K1531<>Dashboard!$P$4,Data!K1531<>Dashboard!$R$4),Data!G1531,NA()))","v":88927.960729412545}]
[null,{"$f":"IF(Dashboard!$P$4=\"All\",Data!G1532,IF(Data!K1532=Dashboard!$P$4,Data!G1532,NA()))","v":{"$error":"#N/A"}},"","","",{"$f":"IF(C981<>\"\",Data!$M1532,\"\")","v":""},null,null,null,null,{"$f":"IF(Dashboard!$R$4=\"All\",Data!G1532,IF(Data!K1532=Dashboard!$R$4,Data!G1532,NA()))","v":{"$error":"#N/A"}},"","","",{"$f":"IF(L981<>\"\",Data!$M1532,\"\")","v":""},null,null,null,null,{"$f":"IF(OR(Dashboard!$P$4=\"All\",Dashboard!$R$4=\"All\"),NA(),IF(OR(Data!K1532<>Dashboard!$P$4,Data!K1532<>Dashboard!$R$4),Data!G1532,NA()))","v":90000}]
[null,{"$f":"IF(Dashboard!$P$4=\"All\",Data!G1533,IF(Data!K1533=Dashboard!$P$4,Data!G1533,NA()))","v":{"$error":"#N/A"}},"","","",{"$f":"IF(C982<>\"\",Data!$M1533,\"\")","v":""},null,null,null,null,{"$f":"IF(Dashboard!$R$4=\"All\",Data!G1533,IF(Data!K1533=Dashboard!$R$4,Data!G1533,NA()))","v":{"$error":"#N/A"}},"","","",{"$f":"IF(L982<>\"\",Data!$M1533,\"\")","v":""},null,null,null,null,{"$f":"IF(OR(Dashboard!$P$4=\"All\",Dashboard!$R$4=\"All\"),NA(),IF(OR(Data!K1533<>Dashboard!$P$4,Data!K1533<>Dashboard!$R$4),Data!G1533,NA()))","v":12465.541681209797}]
[null,{"$f":"IF(Dashboard!$P$4=\"All\",Data!G1534,IF(Data!K1534=Dashboard!$P$4,Data!G1534,NA()))","v":{"$error":"#N/A"}},"","","",{"$f":"IF(C983<>\"\",Data!$M1534,\"\")","v":""},null,null,null,null,{"$f":"IF(Dashboard!$R$4=\"All\",Data!G1534,IF(Data!K1534=Dashboard!$R$4,Data!G1534,NA()))","v":{"$error":"#N/A"}},"","","",{"$f":"IF(L983<>\"\",Data!$M1534,\"\")","v":""},null,null,null,null,{"$f":"IF(OR(Dashboard!$P$4=\"All\",Dashboard!$R$4=\"All\"),NA(),IF(OR(Data!K1534<>Dashboard!$P$4,Data!K1534<>Dashboard!$R$4),Data!G1534,NA()))","v":40000}]
[null,{"$f":"IF(Dashboard!$P$4=\"All\",Data!G1535,IF(Data!K1535=Dashboard!$P$4,Data!G1535,NA()))","v":{"$error":"#N/A"}},"","","",{"$f":"IF(C984<>\"\",Data!$M1535,\"\")","v":""},null,null,null,null,{"$f":"IF(Dashboard!$R$4=\"All\",Data!G1535,IF(Data!K1535=Dashboard!$R$4,Data!G1535,NA()))","v":{"$error":"#N/A"}},"","","",{"$f":"IF(L984<>\"\",Data!$M1535,\"\")","v":""},null,null,null,null,{"$f":"IF(OR(Dashboard!$P$4=\"All\",Dashboard!$R$4=\"All\"),NA(),IF(OR(Data!K1535<>Dashboard!$P$4,Data!K1535<>Dashboard!$R$4),Data!G1535,NA()))","v":30000}]
[null,{"$f":"IF(Dashboard!$P$4=\"All\",Data!G1536,IF(Data!K1536=Dashboard!$P$4,Data!G1536,NA()))","v":{"$error":"#N/A"}},"","","",{"$f":"IF(C985<>\"\",Data!$M1536,\"\")","v":""},null,null,null,null,{"$f":"IF(Dashboard!$R$4=\"All\",Data!G1536,IF(Data!K1536=Dashboard!$R$4,Data!G1536,NA()))","v":{"$error":"#N/A"}},"","","",{"$f":"IF(L985<>\"\",Data!$M1536,\"\")","v":""},null,null,null,null,{"$f":"IF(OR(Dashboard!$P$4=\"All\",Dashboard!$R$4=\"All\"),NA(),IF(OR(Data!K1536<>Dashboard!$P$4,Data!K1536<>Dashboard!$R$4),Data!G1536,NA()))","v":46325}]
[null,{"$f":"IF(Dashboard!$P$4=\"All\",Data!G1537,IF(Data!K1537=Dashboard!$P$4,Data!G1537,NA()))","v":{"$error":"#N/A"}},"","","",{"$f":"IF(C986<>\"\",Data!$M1537,\"\")","v":""},null,null,null,null,{"$f":"IF(Dashboard!$R$4=\"All\",Data!G1537,IF(Data!K1537=Dashboard!$R$4,Data!G1537,NA()))","v":{"$error":"#N/A"}},"","","",{"$f":"IF(L986<>\"\",Data!$M1537,\"\")","v":""},null,null,null,null,{"$f":"IF(OR(Dashboard!$P$4=\"All\",Dashboard!$R$4=\"All\"),NA(),IF(OR(Data!K1537<>Dashboard!$P$4,Data!K1537<>Dashboard!$R$4),Data!G1537,NA()))","v":15000}]
[null,{"$f":"IF(Dashboard!$P$4=\"All\",Data!G1538,IF(Data!K1538=Dashboard!$P$4,Data!G1538,NA()))","v":{"$error":"#N/A"}},"","","",{"$f":"IF(C987<>\"\",Data!$M1538,\"\")","v":""},null,null,null,null,{"$f":"IF(Dashboard!$R$4=\"All\",Data!G1538,IF(Data!K1538=Dashboard!$R$4,Data!G1538,NA()))","v":{"$error":"#N/A"}},"","","",{"$f":"IF(L987<>\"\",Data!$M1538,\"\")","v":""},null,null,null,null,{"$f":"IF(OR(Dashboard!$P$4=\"All\",Dashboard!$R$4=\"All\"),NA(),IF(OR(Data!K1538<>Dashboard!$P$4,Data!K1538<>Dashboard!$R$4),Data!G1538,NA()))","v":31200}]
[null,{"$f":"IF(Dashboard!$P$4=\"All\",Data!G1539,IF(Data!K1539=Dashboard!$P$4,Data!G1539,NA()))","v":{"$error":"#N/A"}},"","","",{"$f":"IF(C988<>\"\",Data!$M1539,\"\")","v":""},null,null,null,null,{"$f":"IF(Dashboard!$R$4=\"All\",Data!G1539,IF(Data!K1539=Dashboard!$R$4,Data!G1539,NA()))","v":{"$error":"#N/A"}},"","","",{"$f":"IF(L988<>\"\",Data!$M1539,\"\")","v":""},null,null,null,null,{"$f":"IF(OR(Dashboard!$P$4=\"All\",Dashboard!$R$4=\"All\"),NA(),IF(OR(Data!K1539<>Dashboard!$P$4,Data!K1539<>Dashboard!$R$4),Data!G1539,NA()))","v":8903.9583437212841}]
[null,{"$f":"IF(Dashboard!$P$4=\"All\",Data!G1540,IF(Data!K1540=Dashboard!$P$4,Data!G1540,NA()))","v":{"$error":"#N/A"}},"","","",{"$f":"IF(C989<>\"\",Data!$M1540,\"\")","v":""},null,null,null,null,{"$f":"IF(Dashboard!$R$4=\"All\",Data!G1540,IF(Data!K1540=Dashboard!$R$4,Data!G1540,NA()))","v":{"$error":"#N/A"}},"","","",{"$f":"IF(L989<>\"\",Data!$M1540,\"\")","v":""},null,null,null,null,{"$f":"IF(OR(Dashboard!$P$4=\"All\",Dashboard!$R$4=\"All\"),NA(),IF(OR(Data!K1540<>Dashboard!$P$4,Data!K1540<>Dashboard!$R$4),Data!G1540,NA()))","v":15840}]
[null,{"$f":"IF(Dashboard!$P$4=\"All\",Data!G1541,IF(Data!K1541=Dashboard!$P$4,Data!G1541,NA()))","v":{"$error":"#N/A"}},"","","",{"$f":"IF(C990<>\"\",Data!$M1541,\"\")","v":""},null,null,null,null,{"$f":"IF(Dashboard!$R$4=\"All\",Data!G1541,IF(Data!K1541=Dashboard!$R$4,Data!G1541,NA()))","v":{"$error":"#N/A"}},"","","",{"$f":"IF(L990<>\"\",Data!$M1541,\"\")","v":""},null,null,null,null,{"$f":"IF(OR(Dashboard!$P$4=\"All\",Dashboard!$R$4=\"All\"),NA(),IF(OR(Data!K1541<>Dashboard!$P$4,Data!K1541<>Dashboard!$R$4),Data!G1541,NA()))","v":15136.729184326183}]
[null,{"$f":"IF(Dashboard!$P$4=\"All\",Data!G1542,IF(Data!K1542=Dashboard!$P$4,Data!G1542,NA()))","v":{"$error":"#N/A"}},"","","",{"$f":"IF(C991<>\"\",Data!$M1542,\"\")","v":""},null,null,null,null,{"$f":"IF(Dashboard!$R$4=\"All\",Data!G1542,IF(Data!K1542=Dashboard!$R$4,Data!G1542,NA()))","v":{"$error":"#N/A"}},"","","",{"$f":"IF(L991<>\"\",Data!$M1542,\"\")","v":""},null,null,null,null,{"$f":"IF(OR(Dashboard!$P$4=\"All\",Dashboard!$R$4=\"All\"),NA(),IF(OR(Data!K1542<>Dashboard!$P$4,Data!K1542<>Dashboard!$R$4),Data!G1542,NA()))","v":41000}]
[null,{"$f":"IF(Dashboard!$P$4=\"All\",Data!G1543,IF(Data!K1543=Dashboard!$P$4,Data!G1543,NA()))","v":{"$error":"#N/A"}},"","","",{"$f":"IF(C992<>\"\",Data!$M1543,\"\")","v":""},null,null,null,null,{"$f":"IF(Dashboard!$R$4=\"All\",Data!G1543,IF(Data!K1543=Dashboard!$R$4,Data!G1543,NA()))","v":{"$error":"#N/A"}},"","","",{"$f":"IF(L992<>\"\",Data!$M1543,\"\")","v":""},null,null,null,null,{"$f":"IF(OR(Dashboard!$P$4=\"All\",Dashboard!$R$4=\"All\"),NA(),IF(OR(Data!K1543<>Dashboard!$P$4,Data!K1543<>Dashboard!$R$4),Data!G1543,NA()))","v":11000}]
[null,{"$f":"IF(Dashboard!$P$4=\"All\",Data!G1544,IF(Data!K1544=Dashboard!$P$4,Data!G1544,NA()))","v":{"$error":"#N/A"}},"","","",{"$f":"IF(C993<>\"\",Data!$M1544,\"\")","v":""},null,null,null,null,{"$f":"IF(Dashboard!$R$4=\"All\",Data!G1544,IF(Data!K1544=Dashboard!$R$4,Data!G1544,NA()))","v":55166.239522354947},55166.239522354947,"","",{"$f":"IF(L993<>\"\",Data!$M1544,\"\")","v":30},null,null,null,null,{"$f":"IF(OR(Dashboard!$P$4=\"All\",Dashboard!$R$4=\"All\"),NA(),IF(OR(Data!K1544<>Dashboard!$P$4,Data!K1544<>Dashboard!$R$4),Data!G1544,NA()))","v":55166.239522354947}]
[null,{"$f":"IF(Dashboard!$P$4=\"All\",Data!G1545,IF(Data!K1545=Dashboard!$P$4,Data!G1545,NA()))","v":{"$error":"#N/A"}},"","","",{"$f":"IF(C994<>\"\",Data!$M1545,\"\")","v":""},null,null,null,null,{"$f":"IF(Dashboard!$R$4=\"All\",Data!G1545,IF(Data!K1545=Dashboard!$R$4,Data!G1545,NA()))","v":{"$error":"#N/A"}},"","","",{"$f":"IF(L994<>\"\",Data!$M1545,\"\")","v":""},null,null,null,null,{"$f":"IF(OR(Dashboard!$P$4=\"All\",Dashboard!$R$4=\"All\"),NA(),IF(OR(Data!K1545<>Dashboard!$P$4,Data!K1545<>Dashboard!$R$4),Data!G1545,NA()))","v":5689.2125418690484}]
[null,{"$f":"IF(Dashboard!$P$4=\"All\",Data!G1546,IF(Data!K1546=Dashboard!$P$4,Data!G1546,NA()))","v":{"$error":"#N/A"}},"","","",{"$f":"IF(C995<>\"\",Data!$M1546,\"\")","v":""},null,null,null,null,{"$f":"IF(Dashboard!$R$4=\"All\",Data!G1546,IF(Data!K1546=Dashboard!$R$4,Data!G1546,NA()))","v":{"$error":"#N/A"}},"","","",{"$f":"IF(L995<>\"\",Data!$M1546,\"\")","v":""},null,null,null,null,{"$f":"IF(OR(Dashboard!$P$4=\"All\",Dashboard!$R$4=\"All\"),NA(),IF(OR(Data!K1546<>Dashboard!$P$4,Data!K1546<>Dashboard!$R$4),Data!G1546,NA()))","v":17728}]
[null,{"$f":"IF(Dashboard!$P$4=\"All\",Data!G1547,IF(Data!K1547=Dashboard!$P$4,Data!G1547,NA()))","v":{"$error":"#N/A"}},"","","",{"$f":"IF(C996<>\"\",Data!$M1547,\"\")","v":""},null,null,null,null,{"$f":"IF(Dashboard!$R$4=\"All\",Data!G1547,IF(Data!K1547=Dashboard!$R$4,Data!G1547,NA()))","v":{"$error":"#N/A"}},"","","",{"$f":"IF(L996<>\"\",Data!$M1547,\"\")","v":""},null,null,null,null,{"$f":"IF(OR(Dashboard!$P$4=\"All\",Dashboard!$R$4=\"All\"),NA(),IF(OR(Data!K1547<>Dashboard!$P$4,Data!K1547<>Dashboard!$R$4),Data!G1547,NA()))","v":13745.704467353951}]
[null,{"$f":"IF(Dashboard!$P$4=\"All\",Data!G1548,IF(Data!K1548=Dashboard!$P$4,Data!G1548,NA()))","v":{"$error":"#N/A"}},"","","",{"$f":"IF(C997<>\"\",Data!$M1548,\"\")","v":""},null,null,null,null,{"$f":"IF(Dashboard!$R$4=\"All\",Data!G1548,IF(Data!K1548=Dashboard!$R$4,Data!G1548,NA()))","v":{"$error":"#N/A"}},"","","",{"$f":"IF(L997<>\"\",Data!$M1548,\"\")","v":""},null,null,null,null,{"$f":"IF(OR(Dashboard!$P$4=\"All\",Dashboard!$R$4=\"All\"),NA(),IF(OR(Data!K1548<>Dashboard!$P$4,Data!K1548<>Dashboard!$R$4),Data!G1548,NA()))","v":50000}]
[null,{"$f":"IF(Dashboard!$P$4=\"All\",Data!G1549,IF(Data!K1549=Dashboard!$P$4,Data!G1549,NA()))","v":{"$error":"#N/A"}},"","","",{"$f":"IF(C998<>\"\",Data!$M1549,\"\")","v":""},null,null,null,null,{"$f":"IF(Dashboard!$R$4=\"All\",Data!G1549,IF(Data!K1549=Dashboard!$R$4,Data!G1549,NA()))","v":{"$error":"#N/A"}},"","","",{"$f":"IF(L998<>\"\",Data!$M1549,\"\")","v":""},null,null,null,null,{"$f":"IF(OR(Dashboard!$P$4=\"All\",Dashboard!$R$4=\"All\"),NA(),IF(OR(Data!K1549<>Dashboard!$P$4,Data!K1549<>Dashboard!$R$4),Data!G1549,NA()))","v":78668.921842426149}]
[null,{"$f":"IF(Dashboard!$P$4=\"All\",Data!G1550,IF(Data!K1550=Dashboard!$P$4,Data!G1550,NA()))","v":{"$error":"#N/A"}},"","","",{"$f":"IF(C999<>\"\",Data!$M1550,\"\")","v":""},null,null,null,null,{"$f":"IF(Dashboard!$R$4=\"All\",Data!G1550,IF(Data!K1550=Dashboard!$R$4,Data!G1550,NA()))","v":{"$error":"#N/A"}},"","","",{"$f":"IF(L999<>\"\",Data!$M1550,\"\")","v":""},null,null,null,null,{"$f":"IF(OR(Dashboard!$P$4=\"All\",Dashboard!$R$4=\"All\"),NA(),IF(OR(Data!K1550<>Dashboard!$P$4,Data!K1550<>Dashboard!$R$4),Data!G1550,NA()))","v":85000}]
[null,{"$f":"IF(Dashboard!$P$4=\"All\",Data!G1551,IF(Data!K1551=Dashboard!$P$4,Data!G1551,NA()))","v":{"$error":"#N/A"}},"","","",{"$f":"IF(C1000<>\"\",Data!$M1551,\"\")","v":""},null,null,null,null,{"$f":"IF(Dashboard!$R$4=\"All\",Data!G1551,IF(Data!K1551=Dashboard!$R$4,Data!G1551,NA()))","v":{"$error":"#N/A"}},"","","",{"$f":"IF(L1000<>\"\",Data!$M1551,\"\")","v":""},null,null,null,null,{"$f":"IF(OR(Dashboard!$P$4=\"All\",Dashboard!$R$4=\"All\"),NA(),IF(OR(Data!K1551<>Dashboard!$P$4,Data!K1551<>Dashboard!$R$4),Data!G1551,NA()))","v":101990.96564026357}]
[null,{"$f":"IF(Dashboard!$P$4=\"All\",Data!G1552,IF(Data!K1552=Dashboard!$P$4,Data!G1552,NA()))","v":{"$error":"#N/A"}},"","","",{"$f":"IF(C1001<>\"\",Data!$M1552,\"\")","v":""},null,null,null,null,{"$f":"IF(Dashboard!$R$4=\"All\",Data!G1552,IF(Data!K1552=Dashboard!$R$4,Data!G1552,NA()))","v":{"$error":"#N/A"}},"","","",{"$f":"IF(L1001<>\"\",Data!$M1552,\"\")","v":""},null,null,null,null,{"$f":"IF(OR(Dashboard!$P$4=\"All\",Dashboard!$R$4=\"All\"),NA(),IF(OR(Data!K1552<>Dashboard!$P$4,Data!K1552<>Dashboard!$R$4),Data!G1552,NA()))","v":100614.72928405051}]
[null,{"$f":"IF(Dashboard!$P$4=\"All\",Data!G1553,IF(Data!K1553=Dashboard!$P$4,Data!G1553,NA()))","v":{"$error":"#N/A"}},"","","",{"$f":"IF(C1002<>\"\",Data!$M1553,\"\")","v":""},null,null,null,null,{"$f":"IF(Dashboard!$R$4=\"All\",Data!G1553,IF(Data!K1553=Dashboard!$R$4,Data!G1553,NA()))","v":{"$error":"#N/A"}},"","","",{"$f":"IF(L1002<>\"\",Data!$M1553,\"\")","v":""},null,null,null,null,{"$f":"IF(OR(Dashboard!$P$4=\"All\",Dashboard!$R$4=\"All\"),NA(),IF(OR(Data!K1553<>Dashboard!$P$4,Data!K1553<>Dashboard!$R$4),Data!G1553,NA()))","v":86692.320794224041}]
[null,{"$f":"IF(Dashboard!$P$4=\"All\",Data!G1554,IF(Data!K1554=Dashboard!$P$4,Data!G1554,NA()))","v":{"$error":"#N/A"}},"","","",{"$f":"IF(C1003<>\"\",Data!$M1554,\"\")","v":""},null,null,null,null,{"$f":"IF(Dashboard!$R$4=\"All\",Data!G1554,IF(Data!K1554=Dashboard!$R$4,Data!G1554,NA()))","v":{"$error":"#N/A"}},"","","",{"$f":"IF(L1003<>\"\",Data!$M1554,\"\")","v":""},null,null,null,null,{"$f":"IF(OR(Dashboard!$P$4=\"All\",Dashboard!$R$4=\"All\"),NA(),IF(OR(Data!K1554<>Dashboard!$P$4,Data!K1554<>Dashboard!$R$4),Data!G1554,NA()))","v":122389.15876831629}]
[null,{"$f":"IF(Dashboard!$P$4=\"All\",Data!G1555,IF(Data!K1555=Dashboard!$P$4,Data!G1555,NA()))","v":{"$error":"#N/A"}},"","","",{"$f":"IF(C1004<>\"\",Data!$M1555,\"\")","v":""},null,null,null,null,{"$f":"IF(Dashboard!$R$4=\"All\",Data!G1555,IF(Data!K1555=Dashboard!$R$4,Data!G1555,NA()))","v":{"$error":"#N/A"}},"","","",{"$f":"IF(L1004<>\"\",Data!$M1555,\"\")","v":""},null,null,null,null,{"$f":"IF(OR(Dashboard!$P$4=\"All\",Dashboard!$R$4=\"All\"),NA(),IF(OR(Data!K1555<>Dashboard!$P$4,Data!K1555<>Dashboard!$R$4),Data!G1555,NA()))","v":6410.8500074793246}]
[null,{"$f":"IF(Dashboard!$P$4=\"All\",Data!G1556,IF(Data!K1556=Dashboard!$P$4,Data!G1556,NA()))","v":{"$error":"#N/A"}},"","","",{"$f":"IF(C1005<>\"\",Data!$M1556,\"\")","v":""},null,null,null,null,{"$f":"IF(Dashboard!$R$4=\"All\",Data!G1556,IF(Data!K1556=Dashboard!$R$4,Data!G1556,NA()))","v":{"$error":"#N/A"}},"","","",{"$f":"IF(L1005<>\"\",Data!$M1556,\"\")","v":""},null,null,null,null,{"$f":"IF(OR(Dashboard!$P$4=\"All\",Dashboard!$R$4=\"All\"),NA(),IF(OR(Data!K1556<>Dashboard!$P$4,Data!K1556<>Dashboard!$R$4),Data!G1556,NA()))","v":44000}]
[null,{"$f":"IF(Dashboard!$P$4=\"All\",Data!G1557,IF(Data!K1557=Dashboard!$P$4,Data!G1557,NA()))","v":{"$error":"#N/A"}},"","","",{"$f":"IF(C1006<>\"\",Data!$M1557,\"\")","v":""},null,null,null,null,{"$f":"IF(Dashboard!$R$4=\"All\",Data!G1557,IF(Data!K1557=Dashboard!$R$4,Data!G1557,NA()))","v":{"$error":"#N/A"}},"","","",{"$f":"IF(L1006<>\"\",Data!$M1557,\"\")","v":""},null,null,null,null,{"$f":"IF(OR(Dashboard!$P$4=\"All\",Dashboard!$R$4=\"All\"),NA(),IF(OR(Data!K1557<>Dashboard!$P$4,Data!K1557<>Dashboard!$R$4),Data!G1557,NA()))","v":4451.9791718606421}]
[null,{"$f":"IF(Dashboard!$P$4=\"All\",Data!G1558,IF(Data!K1558=Dashboard!$P$4,Data!G1558,NA()))","v":{"$error":"#N/A"}},"","","",{"$f":"IF(C1007<>\"\",Data!$M1558,\"\")","v":""},null,null,null,null,{"$f":"IF(Dashboard!$R$4=\"All\",Data!G1558,IF(Data!K1558=Dashboard!$R$4,Data!G1558,NA()))","v":{"$error":"#N/A"}},"","","",{"$f":"IF(L1007<>\"\",Data!$M1558,\"\")","v":""},null,null,null,null,{"$f":"IF(OR(Dashboard!$P$4=\"All\",Dashboard!$R$4=\"All\"),NA(),IF(OR(Data!K1558<>Dashboard!$P$4,Data!K1558<>Dashboard!$R$4),Data!G1558,NA()))","v":4500}]
[null,{"$f":"IF(Dashboard!$P$4=\"All\",Data!G1559,IF(Data!K1559=Dashboard!$P$4,Data!G1559,NA()))","v":{"$error":"#N/A"}},"","","",{"$f":"IF(C1008<>\"\",Data!$M1559,\"\")","v":""},null,null,null,null,{"$f":"IF(Dashboard!$R$4=\"All\",Data!G1559,IF(Data!K1559=Dashboard!$R$4,Data!G1559,NA()))","v":{"$error":"#N/A"}},"","","",{"$f":"IF(L1008<>\"\",Data!$M1559,\"\")","v":""},null,null,null,null,{"$f":"IF(OR(Dashboard!$P$4=\"All\",Dashboard!$R$4=\"All\"),NA(),IF(OR(Data!K1559<>Dashboard!$P$4,Data!K1559<>Dashboard!$R$4),Data!G1559,NA()))","v":30273.458368652366}]
[null,{"$f":"IF(Dashboard!$P$4=\"All\",Data!G1560,IF(Data!K1560=Dashboard!$P$4,Data!G1560,NA()))","v":{"$error":"#N/A"}},"","","",{"$f":"IF(C1009<>\"\",Data!$M1560,\"\")","v":""},null,null,null,null,{"$f":"IF(Dashboard!$R$4=\"All\",Data!G1560,IF(Data!K1560=Dashboard!$R$4,Data!G1560,NA()))","v":{"$error":"#N/A"}},"","","",{"$f":"IF(L1009<>\"\",Data!$M1560,\"\")","v":""},null,null,null,null,{"$f":"IF(OR(Dashboard!$P$4=\"All\",Dashboard!$R$4=\"All\"),NA(),IF(OR(Data!K1560<>Dashboard!$P$4,Data!K1560<>Dashboard!$R$4),Data!G1560,NA()))","v":52000}]
[null,{"$f":"IF(Dashboard!$P$4=\"All\",Data!G1561,IF(Data!K1561=Dashboard!$P$4,Data!G1561,NA()))","v":{"$error":"#N/A"}},"","","",{"$f":"IF(C1010<>\"\",Data!$M1561,\"\")","v":""},null,null,null,null,{"$f":"IF(Dashboard!$R$4=\"All\",Data!G1561,IF(Data!K1561=Dashboard!$R$4,Data!G1561,NA()))","v":{"$error":"#N/A"}},"","","",{"$f":"IF(L1010<>\"\",Data!$M1561,\"\")","v":""},null,null,null,null,{"$f":"IF(OR(Dashboard!$P$4=\"All\",Dashboard!$R$4=\"All\"),NA(),IF(OR(Data!K1561<>Dashboard!$P$4,Data!K1561<>Dashboard!$R$4),Data!G1561,NA()))","v":75000}]
[null,{"$f":"IF(Dashboard!$P$4=\"All\",Data!G1562,IF(Data!K1562=Dashboard!$P$4,Data!G1562,NA()))","v":{"$error":"#N/A"}},"","","",{"$f":"IF(C1011<>\"\",Data!$M1562,\"\")","v":""},null,null,null,null,{"$f":"IF(Dashboard!$R$4=\"All\",Data!G1562,IF(Data!K1562=Dashboard!$R$4,Data!G1562,NA()))","v":{"$error":"#N/A"}},"","","",{"$f":"IF(L1011<>\"\",Data!$M1562,\"\")","v":""},null,null,null,null,{"$f":"IF(OR(Dashboard!$P$4=\"All\",Dashboard!$R$4=\"All\"),NA(),IF(OR(Data!K1562<>Dashboard!$P$4,Data!K1562<>Dashboard!$R$4),Data!G1562,NA()))","v":17807.916687442568}]
[null,{"$f":"IF(Dashboard!$P$4=\"All\",Data!G1563,IF(Data!K1563=Dashboard!$P$4,Data!G1563,NA()))","v":{"$error":"#N/A"}},"","","",{"$f":"IF(C1012<>\"\",Data!$M1563,\"\")","v":""},null,null,null,null,{"$f":"IF(Dashboard!$R$4=\"All\",Data!G1563,IF(Data!K1563=Dashboard!$R$4,Data!G1563,NA()))","v":{"$error":"#N/A"}},"","","",{"$f":"IF(L1012<>\"\",Data!$M1563,\"\")","v":""},null,null,null,null,{"$f":"IF(OR(Dashboard!$P$4=\"All\",Dashboard!$R$4=\"All\"),NA(),IF(OR(Data!K1563<>Dashboard!$P$4,Data!K1563<>Dashboard!$R$4),Data!G1563,NA()))","v":177600}]
[null,{"$f":"IF(Dashboard!$P$4=\"All\",Data!G1564,IF(Data!K1564=Dashboard!$P$4,Data!G1564,NA()))","v":{"$error":"#N/A"}},"","","",{"$f":"IF(C1013<>\"\",Data!$M1564,\"\")","v":""},null,null,null,null,{"$f":"IF(Dashboard!$R$4=\"All\",Data!G1564,IF(Data!K1564=Dashboard!$R$4,Data!G1564,NA()))","v":{"$error":"#N/A"}},"","","",{"$f":"IF(L1013<>\"\",Data!$M1564,\"\")","v":""},null,null,null,null,{"$f":"IF(OR(Dashboard!$P$4=\"All\",Dashboard!$R$4=\"All\"),NA(),IF(OR(Data!K1564<>Dashboard!$P$4,Data!K1564<>Dashboard!$R$4),Data!G1564,NA()))","v":11575.14584683767}]
[null,{"$f":"IF(Dashboard!$P$4=\"All\",Data!G1565,IF(Data!K1565=Dashboard!$P$4,Data!G1565,NA()))","v":{"$error":"#N/A"}},"","","",{"$f":"IF(C1014<>\"\",Data!$M1565,\"\")","v":""},null,null,null,null,{"$f":"IF(Dashboard!$R$4=\"All\",Data!G1565,IF(Data!K1565=Dashboard!$R$4,Data!G1565,NA()))","v":{"$error":"#N/A"}},"","","",{"$f":"IF(L1014<>\"\",Data!$M1565,\"\")","v":""},null,null,null,null,{"$f":"IF(OR(Dashboard!$P$4=\"All\",Dashboard!$R$4=\"All\"),NA(),IF(OR(Data!K1565<>Dashboard!$P$4,Data!K1565<>Dashboard!$R$4),Data!G1565,NA()))","v":26678.388218823762}]
[null,{"$f":"IF(Dashboard!$P$4=\"All\",Data!G1566,IF(Data!K1566=Dashboard!$P$4,Data!G1566,NA()))","v":{"$error":"#N/A"}},"","","",{"$f":"IF(C1015<>\"\",Data!$M1566,\"\")","v":""},null,null,null,null,{"$f":"IF(Dashboard!$R$4=\"All\",Data!G1566,IF(Data!K1566=Dashboard!$R$4,Data!G1566,NA()))","v":126094.26176538273},126094.26176538273,126094.26176538273,"",{"$f":"IF(L1015<>\"\",Data!$M1566,\"\")","v":12},null,null,null,null,{"$f":"IF(OR(Dashboard!$P$4=\"All\",Dashboard!$R$4=\"All\"),NA(),IF(OR(Data!K1566<>Dashboard!$P$4,Data!K1566<>Dashboard!$R$4),Data!G1566,NA()))","v":126094.26176538273}]
[null,{"$f":"IF(Dashboard!$P$4=\"All\",Data!G1567,IF(Data!K1567=Dashboard!$P$4,Data!G1567,NA()))","v":{"$error":"#N/A"}},"","","",{"$f":"IF(C1016<>\"\",Data!$M1567,\"\")","v":""},null,null,null,null,{"$f":"IF(Dashboard!$R$4=\"All\",Data!G1567,IF(Data!K1567=Dashboard!$R$4,Data!G1567,NA()))","v":{"$error":"#N/A"}},"","","",{"$f":"IF(L1016<>\"\",Data!$M1567,\"\")","v":""},null,null,null,null,{"$f":"IF(OR(Dashboard!$P$4=\"All\",Dashboard!$R$4=\"All\"),NA(),IF(OR(Data!K1567<>Dashboard!$P$4,Data!K1567<>Dashboard!$R$4),Data!G1567,NA()))","v":6000}]
[null,{"$f":"IF(Dashboard!$P$4=\"All\",Data!G1568,IF(Data!K1568=Dashboard!$P$4,Data!G1568,NA()))","v":{"$error":"#N/A"}},"","","",{"$f":"IF(C1017<>\"\",Data!$M1568,\"\")","v":""},null,null,null,null,{"$f":"IF(Dashboard!$R$4=\"All\",Data!G1568,IF(Data!K1568=Dashboard!$R$4,Data!G1568,NA()))","v":{"$error":"#N/A"}},"","","",{"$f":"IF(L1017<>\"\",Data!$M1568,\"\")","v":""},null,null,null,null,{"$f":"IF(OR(Dashboard!$P$4=\"All\",Dashboard!$R$4=\"All\"),NA(),IF(OR(Data!K1568<>Dashboard!$P$4,Data!K1568<>Dashboard!$R$4),Data!G1568,NA()))","v":10000}]
[null,{"$f":"IF(Dashboard!$P$4=\"All\",Data!G1569,IF(Data!K1569=Dashboard!$P$4,Data!G1569,NA()))","v":{"$error":"#N/A"}},"","","",{"$f":"IF(C1018<>\"\",Data!$M1569,\"\")","v":""},null,null,null,null,{"$f":"IF(Dashboard!$R$4=\"All\",Data!G1569,IF(Data!K1569=Dashboard!$R$4,Data!G1569,NA()))","v":{"$error":"#N/A"}},"","","",{"$f":"IF(L1018<>\"\",Data!$M1569,\"\")","v":""},null,null,null,null,{"$f":"IF(OR(Dashboard!$P$4=\"All\",Dashboard!$R$4=\"All\"),NA(),IF(OR(Data!K1569<>Dashboard!$P$4,Data!K1569<>Dashboard!$R$4),Data!G1569,NA()))","v":50000}]
[null,{"$f":"IF(Dashboard!$P$4=\"All\",Data!G1570,IF(Data!K1570=Dashboard!$P$4,Data!G1570,NA()))","v":{"$error":"#N/A"}},"","","",{"$f":"IF(C1019<>\"\",Data!$M1570,\"\")","v":""},null,null,null,null,{"$f":"IF(Dashboard!$R$4=\"All\",Data!G1570,IF(Data!K1570=Dashboard!$R$4,Data!G1570,NA()))","v":{"$error":"#N/A"}},"","","",{"$f":"IF(L1019<>\"\",Data!$M1570,\"\")","v":""},null,null,null,null,{"$f":"IF(OR(Dashboard!$P$4=\"All\",Dashboard!$R$4=\"All\"),NA(),IF(OR(Data!K1570<>Dashboard!$P$4,Data!K1570<>Dashboard!$R$4),Data!G1570,NA()))","v":10000}]
[null,{"$f":"IF(Dashboard!$P$4=\"All\",Data!G1571,IF(Data!K1571=Dashboard!$P$4,Data!G1571,NA()))","v":{"$error":"#N/A"}},"","","",{"$f":"IF(C1020<>\"\",Data!$M1571,\"\")","v":""},null,null,null,null,{"$f":"IF(Dashboard!$R$4=\"All\",Data!G1571,IF(Data!K1571=Dashboard!$R$4,Data!G1571,NA()))","v":{"$error":"#N/A"}},"","","",{"$f":"IF(L1020<>\"\",Data!$M1571,\"\")","v":""},null,null,null,null,{"$f":"IF(OR(Dashboard!$P$4=\"All\",Dashboard!$R$4=\"All\"),NA(),IF(OR(Data!K1571<>Dashboard!$P$4,Data!K1571<>Dashboard!$R$4),Data!G1571,NA()))","v":50000}]
[null,{"$f":"IF(Dashboard!$P$4=\"All\",Data!G1572,IF(Data!K1572=Dashboard!$P$4,Data!G1572,NA()))","v":{"$error":"#N/A"}},"","","",{"$f":"IF(C1021<>\"\",Data!$M1572,\"\")","v":""},null,null,null,null,{"$f":"IF(Dashboard!$R$4=\"All\",Data!G1572,IF(Data!K1572=Dashboard!$R$4,Data!G1572,NA()))","v":{"$error":"#N/A"}},"","","",{"$f":"IF(L1021<>\"\",Data!$M1572,\"\")","v":""},null,null,null,null,{"$f":"IF(OR(Dashboard!$P$4=\"All\",Dashboard!$R$4=\"All\"),NA(),IF(OR(Data!K1572<>Dashboard!$P$4,Data!K1572<>Dashboard!$R$4),Data!G1572,NA()))","v":20000}]
[null,{"$f":"IF(Dashboard!$P$4=\"All\",Data!G1573,IF(Data!K1573=Dashboard!$P$4,Data!G1573,NA()))","v":{"$error":"#N/A"}},"","","",{"$f":"IF(C1022<>\"\",Data!$M1573,\"\")","v":""},null,null,null,null,{"$f":"IF(Dashboard!$R$4=\"All\",Data!G1573,IF(Data!K1573=Dashboard!$R$4,Data!G1573,NA()))","v":31523.565441345683},31523.565441345683,"",31523.565441345683,{"$f":"IF(L1022<>\"\",Data!$M1573,\"\")","v":3},null,null,null,null,{"$f":"IF(OR(Dashboard!$P$4=\"All\",Dashboard!$R$4=\"All\"),NA(),IF(OR(Data!K1573<>Dashboard!$P$4,Data!K1573<>Dashboard!$R$4),Data!G1573,NA()))","v":31523.565441345683}]
[null,{"$f":"IF(Dashboard!$P$4=\"All\",Data!G1574,IF(Data!K1574=Dashboard!$P$4,Data!G1574,NA()))","v":63519.971949580387},63519.971949580387,"","",{"$f":"IF(C1023<>\"\",Data!$M1574,\"\")","v":10},null,null,null,null,{"$f":"IF(Dashboard!$R$4=\"All\",Data!G1574,IF(Data!K1574=Dashboard!$R$4,Data!G1574,NA()))","v":{"$error":"#N/A"}},"","","",{"$f":"IF(L1023<>\"\",Data!$M1574,\"\")","v":""},null,null,null,null,{"$f":"IF(OR(Dashboard!$P$4=\"All\",Dashboard!$R$4=\"All\"),NA(),IF(OR(Data!K1574<>Dashboard!$P$4,Data!K1574<>Dashboard!$R$4),Data!G1574,NA()))","v":63519.971949580387}]
[null,{"$f":"IF(Dashboard!$P$4=\"All\",Data!G1575,IF(Data!K1575=Dashboard!$P$4,Data!G1575,NA()))","v":{"$error":"#N/A"}},"","","",{"$f":"IF(C1024<>\"\",Data!$M1575,\"\")","v":""},null,null,null,null,{"$f":"IF(Dashboard!$R$4=\"All\",Data!G1575,IF(Data!K1575=Dashboard!$R$4,Data!G1575,NA()))","v":{"$error":"#N/A"}},"","","",{"$f":"IF(L1024<>\"\",Data!$M1575,\"\")","v":""},null,null,null,null,{"$f":"IF(OR(Dashboard!$P$4=\"All\",Dashboard!$R$4=\"All\"),NA(),IF(OR(Data!K1575<>Dashboard!$P$4,Data!K1575<>Dashboard!$R$4),Data!G1575,NA()))","v":35063.024516168378}]
[null,{"$f":"IF(Dashboard!$P$4=\"All\",Data!G1576,IF(Data!K1576=Dashboard!$P$4,Data!G1576,NA()))","v":{"$error":"#N/A"}},"","","",{"$f":"IF(C1025<>\"\",Data!$M1576,\"\")","v":""},null,null,null,null,{"$f":"IF(Dashboard!$R$4=\"All\",Data!G1576,IF(Data!K1576=Dashboard!$R$4,Data!G1576,NA()))","v":{"$error":"#N/A"}},"","","",{"$f":"IF(L1025<>\"\",Data!$M1576,\"\")","v":""},null,null,null,null,{"$f":"IF(OR(Dashboard!$P$4=\"All\",Dashboard!$R$4=\"All\"),NA(),IF(OR(Data!K1576<>Dashboard!$P$4,Data!K1576<>Dashboard!$R$4),Data!G1576,NA()))","v":55000}]
[null,{"$f":"IF(Dashboard!$P$4=\"All\",Data!G1577,IF(Data!K1577=Dashboard!$P$4,Data!G1577,NA()))","v":{"$error":"#N/A"}},"","","",{"$f":"IF(C1026<>\"\",Data!$M1577,\"\")","v":""},null,null,null,null,{"$f":"IF(Dashboard!$R$4=\"All\",Data!G1577,IF(Data!K1577=Dashboard!$R$4,Data!G1577,NA()))","v":{"$error":"#N/A"}},"","","",{"$f":"IF(L1026<>\"\",Data!$M1577,\"\")","v":""},null,null,null,null,{"$f":"IF(OR(Dashboard!$P$4=\"All\",Dashboard!$R$4=\"All\"),NA(),IF(OR(Data!K1577<>Dashboard!$P$4,Data!K1577<>Dashboard!$R$4),Data!G1577,NA()))","v":38000}]
[null,{"$f":"IF(Dashboard!$P$4=\"All\",Data!G1578,IF(Data!K1578=Dashboard!$P$4,Data!G1578,NA()))","v":{"$error":"#N/A"}},"","","",{"$f":"IF(C1027<>\"\",Data!$M1578,\"\")","v":""},null,null,null,null,{"$f":"IF(Dashboard!$R$4=\"All\",Data!G1578,IF(Data!K1578=Dashboard!$R$4,Data!G1578,NA()))","v":{"$error":"#N/A"}},"","","",{"$f":"IF(L1027<>\"\",Data!$M1578,\"\")","v":""},null,null,null,null,{"$f":"IF(OR(Dashboard!$P$4=\"All\",Dashboard!$R$4=\"All\"),NA(),IF(OR(Data!K1578<>Dashboard!$P$4,Data!K1578<>Dashboard!$R$4),Data!G1578,NA()))","v":32054.250037396621}]
[null,{"$f":"IF(Dashboard!$P$4=\"All\",Data!G1579,IF(Data!K1579=Dashboard!$P$4,Data!G1579,NA()))","v":{"$error":"#N/A"}},{"$f":"IF(ISNA(B1028),\"\",B1028)","v":""},{"$f":"IF(C1028>=PERCENTILE($C$3:$C$1337,0.9),C1028,\"\")","v":""},{"$f":"IF(C1028<=PERCENTILE($C$3:$C$1337,0.1),C1028,\"\")","v":""},{"$f":"IF(C1028<>\"\",Data!$M1579,\"\")","v":""},null,null,null,null,{"$f":"IF(Dashboard!$R$4=\"All\",Data!G1579,IF(Data!K1579=Dashboard!$R$4,Data!G1579,NA()))","v":{"$error":"#N/A"}},{"$f":"IF(ISNA(K1028),\"\",K1028)","v":""},{"$f":"IF(L1028>=PERCENTILE($L$3:$L$1337,0.9),L1028,\"\")","v":""},{"$f":"IF(L1028<=PERCENTILE($L$3:$L$1337,0.1),L1028,\"\")","v":""},{"$f":"IF(L1028<>\"\",Data!$M1579,\"\")","v":""},null,null,null,null,{"$f":"IF(OR(Dashboard!$P$4=\"All\",Dashboard!$R$4=\"All\"),NA(),IF(OR(Data!K1579<>Dashboard!$P$4,Data!K1579<>Dashboard!$R$4),Data!G1579,NA()))","v":35500}]
[null,{"$f":"IF(Dashboard!$P$4=\"All\",Data!G1580,IF(Data!K1580=Dashboard!$P$4,Data!G1580,NA()))","v":{"$error":"#N/A"}},"","","",{"$f":"IF(C1029<>\"\",Data!$M1580,\"\")","v":""},null,null,null,null,{"$f":"IF(Dashboard!$R$4=\"All\",Data!G1580,IF(Data!K1580=Dashboard!$R$4,Data!G1580,NA()))","v":{"$error":"#N/A"}},"","","",{"$f":"IF(L1029<>\"\",Data!$M1580,\"\")","v":""},null,null,null,null,{"$f":"IF(OR(Dashboard!$P$4=\"All\",Dashboard!$R$4=\"All\"),NA(),IF(OR(Data!K1580<>Dashboard!$P$4,Data!K1580<>Dashboard!$R$4),Data!G1580,NA()))","v":62000}]
[null,{"$f":"IF(Dashboard!$P$4=\"All\",Data!G1581,IF(Data!K1581=Dashboard!$P$4,Data!G1581,NA()))","v":{"$error":"#N/A"}},"","","",{"$f":"IF(C1030<>\"\",Data!$M1581,\"\")","v":""},null,null,null,null,{"$f":"IF(Dashboard!$R$4=\"All\",Data!G1581,IF(Data!K1581=Dashboard!$R$4,Data!G1581,NA()))","v":33887.832849446611},33887.832849446611,"","",{"$f":"IF(L1030<>\"\",Data!$M1581,\"\")","v":1},null,null,null,null,{"$f":"IF(OR(Dashboard!$P$4=\"All\",Dashboard!$R$4=\"All\"),NA(),IF(OR(Data!K1581<>Dashboard!$P$4,Data!K1581<>Dashboard!$R$4),Data!G1581,NA()))","v":33887.832849446611}]
[null,{"$f":"IF(Dashboard!$P$4=\"All\",Data!G1582,IF(Data!K1582=Dashboard!$P$4,Data!G1582,NA()))","v":{"$error":"#N/A"}},"","","",{"$f":"IF(C1031<>\"\",Data!$M1582,\"\")","v":""},null,null,null,null,{"$f":"IF(Dashboard!$R$4=\"All\",Data!G1582,IF(Data!K1582=Dashboard!$R$4,Data!G1582,NA()))","v":{"$error":"#N/A"}},"","","",{"$f":"IF(L1031<>\"\",Data!$M1582,\"\")","v":""},null,null,null,null,{"$f":"IF(OR(Dashboard!$P$4=\"All\",Dashboard!$R$4=\"All\"),NA(),IF(OR(Data!K1582<>Dashboard!$P$4,Data!K1582<>Dashboard!$R$4),Data!G1582,NA()))","v":60000}]
[null,{"$f":"IF(Dashboard!$P$4=\"All\",Data!G1583,IF(Data!K1583=Dashboard!$P$4,Data!G1583,NA()))","v":{"$error":"#N/A"}},"","","",{"$f":"IF(C1032<>\"\",Data!$M1583,\"\")","v":""},null,null,null,null,{"$f":"IF(Dashboard!$R$4=\"All\",Data!G1583,IF(Data!K1583=Dashboard!$R$4,Data!G1583,NA()))","v":{"$error":"#N/A"}},"","","",{"$f":"IF(L1032<>\"\",Data!$M1583,\"\")","v":""},null,null,null,null,{"$f":"IF(OR(Dashboard!$P$4=\"All\",Dashboard!$R$4=\"All\"),NA(),IF(OR(Data!K1583<>Dashboard!$P$4,Data!K1583<>Dashboard!$R$4),Data!G1583,NA()))","v":32884}]
[null,{"$f":"IF(Dashboard!$P$4=\"All\",Data!G1584,IF(Data!K1584=Dashboard!$P$4,Data!G1584,NA()))","v":{"$error":"#N/A"}},"","","",{"$f":"IF(C1033<>\"\",Data!$M1584,\"\")","v":""},null,null,null,null,{"$f":"IF(Dashboard!$R$4=\"All\",Data!G1584,IF(Data!K1584=Dashboard!$R$4,Data!G1584,NA()))","v":{"$error":"#N/A"}},"","","",{"$f":"IF(L1033<>\"\",Data!$M1584,\"\")","v":""},null,null,null,null,{"$f":"IF(OR(Dashboard!$P$4=\"All\",Dashboard!$R$4=\"All\"),NA(),IF(OR(Data!K1584<>Dashboard!$P$4,Data!K1584<>Dashboard!$R$4),Data!G1584,NA()))","v":42000}]
[null,{"$f":"IF(Dashboard!$P$4=\"All\",Data!G1585,IF(Data!K1585=Dashboard!$P$4,Data!G1585,NA()))","v":{"$error":"#N/A"}},"","","",{"$f":"IF(C1034<>\"\",Data!$M1585,\"\")","v":""},null,null,null,null,{"$f":"IF(Dashboard!$R$4=\"All\",Data!G1585,IF(Data!K1585=Dashboard!$R$4,Data!G1585,NA()))","v":{"$error":"#N/A"}},"","","",{"$f":"IF(L1034<>\"\",Data!$M1585,\"\")","v":""},null,null,null,null,{"$f":"IF(OR(Dashboard!$P$4=\"All\",Dashboard!$R$4=\"All\"),NA(),IF(OR(Data!K1585<>Dashboard!$P$4,Data!K1585<>Dashboard!$R$4),Data!G1585,NA()))","v":68000}]
[null,{"$f":"IF(Dashboard!$P$4=\"All\",Data!G1586,IF(Data!K1586=Dashboard!$P$4,Data!G1586,NA()))","v":{"$error":"#N/A"}},"","","",{"$f":"IF(C1035<>\"\",Data!$M1586,\"\")","v":""},null,null,null,null,{"$f":"IF(Dashboard!$R$4=\"All\",Data!G1586,IF(Data!K1586=Dashboard!$R$4,Data!G1586,NA()))","v":{"$error":"#N/A"}},"","","",{"$f":"IF(L1035<>\"\",Data!$M1586,\"\")","v":""},null,null,null,null,{"$f":"IF(OR(Dashboard!$P$4=\"All\",Dashboard!$R$4=\"All\"),NA(),IF(OR(Data!K1586<>Dashboard!$P$4,Data!K1586<>Dashboard!$R$4),Data!G1586,NA()))","v":85000}]
[null,{"$f":"IF(Dashboard!$P$4=\"All\",Data!G1587,IF(Data!K1587=Dashboard!$P$4,Data!G1587,NA()))","v":{"$error":"#N/A"}},"","","",{"$f":"IF(C1036<>\"\",Data!$M1587,\"\")","v":""},null,null,null,null,{"$f":"IF(Dashboard!$R$4=\"All\",Data!G1587,IF(Data!K1587=Dashboard!$R$4,Data!G1587,NA()))","v":{"$error":"#N/A"}},"","","",{"$f":"IF(L1036<>\"\",Data!$M1587,\"\")","v":""},null,null,null,null,{"$f":"IF(OR(Dashboard!$P$4=\"All\",Dashboard!$R$4=\"All\"),NA(),IF(OR(Data!K1587<>Dashboard!$P$4,Data!K1587<>Dashboard!$R$4),Data!G1587,NA()))","v":13000}]
[null,{"$f":"IF(Dashboard!$P$4=\"All\",Data!G1588,IF(Data!K1588=Dashboard!$P$4,Data!G1588,NA()))","v":{"$error":"#N/A"}},"","","",{"$f":"IF(C1037<>\"\",Data!$M1588,\"\")","v":""},null,null,null,null,{"$f":"IF(Dashboard!$R$4=\"All\",Data!G1588,IF(Data!K1588=Dashboard!$R$4,Data!G1588,NA()))","v":{"$error":"#N/A"}},"","","",{"$f":"IF(L1037<>\"\",Data!$M1588,\"\")","v":""},null,null,null,null,{"$f":"IF(OR(Dashboard!$P$4=\"All\",Dashboard!$R$4=\"All\"),NA(),IF(OR(Data!K1588<>Dashboard!$P$4,Data!K1588<>Dashboard!$R$4),Data!G1588,NA()))","v":15000}]
[null,{"$f":"IF(Dashboard!$P$4=\"All\",Data!G1589,IF(Data!K1589=Dashboard!$P$4,Data!G1589,NA()))","v":{"$error":"#N/A"}},"","","",{"$f":"IF(C1038<>\"\",Data!$M1589,\"\")","v":""},null,null,null,null,{"$f":"IF(Dashboard!$R$4=\"All\",Data!G1589,IF(Data!K1589=Dashboard!$R$4,Data!G1589,NA()))","v":{"$error":"#N/A"}},"","","",{"$f":"IF(L1038<>\"\",Data!$M1589,\"\")","v":""},null,null,null,null,{"$f":"IF(OR(Dashboard!$P$4=\"All\",Dashboard!$R$4=\"All\"),NA(),IF(OR(Data!K1589<>Dashboard!$P$4,Data!K1589<>Dashboard!$R$4),Data!G1589,NA()))","v":50000}]
[null,{"$f":"IF(Dashboard!$P$4=\"All\",Data!G1590,IF(Data!K1590=Dashboard!$P$4,Data!G1590,NA()))","v":{"$error":"#N/A"}},"","","",{"$f":"IF(C1039<>\"\",Data!$M1590,\"\")","v":""},null,null,null,null,{"$f":"IF(Dashboard!$R$4=\"All\",Data!G1590,IF(Data!K1590=Dashboard!$R$4,Data!G1590,NA()))","v":{"$error":"#N/A"}},"","","",{"$f":"IF(L1039<>\"\",Data!$M1590,\"\")","v":""},null,null,null,null,{"$f":"IF(OR(Dashboard!$P$4=\"All\",Dashboard!$R$4=\"All\"),NA(),IF(OR(Data!K1590<>Dashboard!$P$4,Data!K1590<>Dashboard!$R$4),Data!G1590,NA()))","v":7000}]
[null,{"$f":"IF(Dashboard!$P$4=\"All\",Data!G1591,IF(Data!K1591=Dashboard!$P$4,Data!G1591,NA()))","v":{"$error":"#N/A"}},"","","",{"$f":"IF(C1040<>\"\",Data!$M1591,\"\")","v":""},null,null,null,null,{"$f":"IF(Dashboard!$R$4=\"All\",Data!G1591,IF(Data!K1591=Dashboard!$R$4,Data!G1591,NA()))","v":{"$error":"#N/A"}},"","","",{"$f":"IF(L1040<>\"\",Data!$M1591,\"\")","v":""},null,null,null,null,{"$f":"IF(OR(Dashboard!$P$4=\"All\",Dashboard!$R$4=\"All\"),NA(),IF(OR(Data!K1591<>Dashboard!$P$4,Data!K1591<>Dashboard!$R$4),Data!G1591,NA()))","v":140000}]
[null,{"$f":"IF(Dashboard!$P$4=\"All\",Data!G1592,IF(Data!K1592=Dashboard!$P$4,Data!G1592,NA()))","v":{"$error":"#N/A"}},"","","",{"$f":"IF(C1041<>\"\",Data!$M1592,\"\")","v":""},null,null,null,null,{"$f":"IF(Dashboard!$R$4=\"All\",Data!G1592,IF(Data!K1592=Dashboard!$R$4,Data!G1592,NA()))","v":{"$error":"#N/A"}},"","","",{"$f":"IF(L1041<>\"\",Data!$M1592,\"\")","v":""},null,null,null,null,{"$f":"IF(OR(Dashboard!$P$4=\"All\",Dashboard!$R$4=\"All\"),NA(),IF(OR(Data!K1592<>Dashboard!$P$4,Data!K1592<>Dashboard!$R$4),Data!G1592,NA()))","v":7123.1666749770275}]
[null,{"$f":"IF(Dashboard!$P$4=\"All\",Data!G1593,IF(Data!K1593=Dashboard!$P$4,Data!G1593,NA()))","v":{"$error":"#N/A"}},"","","",{"$f":"IF(C1042<>\"\",Data!$M1593,\"\")","v":""},null,null,null,null,{"$f":"IF(Dashboard!$R$4=\"All\",Data!G1593,IF(Data!K1593=Dashboard!$R$4,Data!G1593,NA()))","v":58318.59606648951},58318.59606648951,"","",{"$f":"IF(L1042<>\"\",Data!$M1593,\"\")","v":9},null,null,null,null,{"$f":"IF(OR(Dashboard!$P$4=\"All\",Dashboard!$R$4=\"All\"),NA(),IF(OR(Data!K1593<>Dashboard!$P$4,Data!K1593<>Dashboard!$R$4),Data!G1593,NA()))","v":58318.59606648951}]
[null,{"$f":"IF(Dashboard!$P$4=\"All\",Data!G1594,IF(Data!K1594=Dashboard!$P$4,Data!G1594,NA()))","v":{"$error":"#N/A"}},"","","",{"$f":"IF(C1043<>\"\",Data!$M1594,\"\")","v":""},null,null,null,null,{"$f":"IF(Dashboard!$R$4=\"All\",Data!G1594,IF(Data!K1594=Dashboard!$R$4,Data!G1594,NA()))","v":{"$error":"#N/A"}},"","","",{"$f":"IF(L1043<>\"\",Data!$M1594,\"\")","v":""},null,null,null,null,{"$f":"IF(OR(Dashboard!$P$4=\"All\",Dashboard!$R$4=\"All\"),NA(),IF(OR(Data!K1594<>Dashboard!$P$4,Data!K1594<>Dashboard!$R$4),Data!G1594,NA()))","v":12109.383347460946}]
[null,{"$f":"IF(Dashboard!$P$4=\"All\",Data!G1595,IF(Data!K1595=Dashboard!$P$4,Data!G1595,NA()))","v":{"$error":"#N/A"}},"","","",{"$f":"IF(C1044<>\"\",Data!$M1595,\"\")","v":""},null,null,null,null,{"$f":"IF(Dashboard!$R$4=\"All\",Data!G1595,IF(Data!K1595=Dashboard!$R$4,Data!G1595,NA()))","v":{"$error":"#N/A"}},"","","",{"$f":"IF(L1044<>\"\",Data!$M1595,\"\")","v":""},null,null,null,null,{"$f":"IF(OR(Dashboard!$P$4=\"All\",Dashboard!$R$4=\"All\"),NA(),IF(OR(Data!K1595<>Dashboard!$P$4,Data!K1595<>Dashboard!$R$4),Data!G1595,NA()))","v":55000}]
[null,{"$f":"IF(Dashboard!$P$4=\"All\",Data!G1596,IF(Data!K1596=Dashboard!$P$4,Data!G1596,NA()))","v":{"$error":"#N/A"}},"","","",{"$f":"IF(C1045<>\"\",Data!$M1596,\"\")","v":""},null,null,null,null,{"$f":"IF(Dashboard!$R$4=\"All\",Data!G1596,IF(Data!K1596=Dashboard!$R$4,Data!G1596,NA()))","v":{"$error":"#N/A"}},"","","",{"$f":"IF(L1045<>\"\",Data!$M1596,\"\")","v":""},null,null,null,null,{"$f":"IF(OR(Dashboard!$P$4=\"All\",Dashboard!$R$4=\"All\"),NA(),IF(OR(Data!K1596<>Dashboard!$P$4,Data!K1596<>Dashboard!$R$4),Data!G1596,NA()))","v":60000}]
[null,{"$f":"IF(Dashboard!$P$4=\"All\",Data!G1597,IF(Data!K1597=Dashboard!$P$4,Data!G1597,NA()))","v":{"$error":"#N/A"}},"","","",{"$f":"IF(C1046<>\"\",Data!$M1597,\"\")","v":""},null,null,null,null,{"$f":"IF(Dashboard!$R$4=\"All\",Data!G1597,IF(Data!K1597=Dashboard!$R$4,Data!G1597,NA()))","v":{"$error":"#N/A"}},"","","",{"$f":"IF(L1046<>\"\",Data!$M1597,\"\")","v":""},null,null,null,null,{"$f":"IF(OR(Dashboard!$P$4=\"All\",Dashboard!$R$4=\"All\"),NA(),IF(OR(Data!K1597<>Dashboard!$P$4,Data!K1597<>Dashboard!$R$4),Data!G1597,NA()))","v":5698.5333399816218}]
[null,{"$f":"IF(Dashboard!$P$4=\"All\",Data!G1598,IF(Data!K1598=Dashboard!$P$4,Data!G1598,NA()))","v":{"$error":"#N/A"}},"","","",{"$f":"IF(C1047<>\"\",Data!$M1598,\"\")","v":""},null,null,null,null,{"$f":"IF(Dashboard!$R$4=\"All\",Data!G1598,IF(Data!K1598=Dashboard!$R$4,Data!G1598,NA()))","v":{"$error":"#N/A"}},"","","",{"$f":"IF(L1047<>\"\",Data!$M1598,\"\")","v":""},null,null,null,null,{"$f":"IF(OR(Dashboard!$P$4=\"All\",Dashboard!$R$4=\"All\"),NA(),IF(OR(Data!K1598<>Dashboard!$P$4,Data!K1598<>Dashboard!$R$4),Data!G1598,NA()))","v":9376.2513877177607}]
[null,{"$f":"IF(Dashboard!$P$4=\"All\",Data!G1599,IF(Data!K1599=Dashboard!$P$4,Data!G1599,NA()))","v":{"$error":"#N/A"}},"","","",{"$f":"IF(C1048<>\"\",Data!$M1599,\"\")","v":""},null,null,null,null,{"$f":"IF(Dashboard!$R$4=\"All\",Data!G1599,IF(Data!K1599=Dashboard!$R$4,Data!G1599,NA()))","v":94570.696324037053},94570.696324037053,"","",{"$f":"IF(L1048<>\"\",Data!$M1599,\"\")","v":5},null,null,null,null,{"$f":"IF(OR(Dashboard!$P$4=\"All\",Dashboard!$R$4=\"All\"),NA(),IF(OR(Data!K1599<>Dashboard!$P$4,Data!K1599<>Dashboard!$R$4),Data!G1599,NA()))","v":94570.696324037053}]
[null,{"$f":"IF(Dashboard!$P$4=\"All\",Data!G1600,IF(Data!K1600=Dashboard!$P$4,Data!G1600,NA()))","v":{"$error":"#N/A"}},"","","",{"$f":"IF(C1049<>\"\",Data!$M1600,\"\")","v":""},null,null,null,null,{"$f":"IF(Dashboard!$R$4=\"All\",Data!G1600,IF(Data!K1600=Dashboard!$R$4,Data!G1600,NA()))","v":{"$error":"#N/A"}},"","","",{"$f":"IF(L1049<>\"\",Data!$M1600,\"\")","v":""},null,null,null,null,{"$f":"IF(OR(Dashboard!$P$4=\"All\",Dashboard!$R$4=\"All\"),NA(),IF(OR(Data!K1600<>Dashboard!$P$4,Data!K1600<>Dashboard!$R$4),Data!G1600,NA()))","v":36000}]
[null,{"$f":"IF(Dashboard!$P$4=\"All\",Data!G1601,IF(Data!K1601=Dashboard!$P$4,Data!G1601,NA()))","v":{"$error":"#N/A"}},"","","",{"$f":"IF(C1050<>\"\",Data!$M1601,\"\")","v":""},null,null,null,null,{"$f":"IF(Dashboard!$R$4=\"All\",Data!G1601,IF(Data!K1601=Dashboard!$R$4,Data!G1601,NA()))","v":{"$error":"#N/A"}},"","","",{"$f":"IF(L1050<>\"\",Data!$M1601,\"\")","v":""},null,null,null,null,{"$f":"IF(OR(Dashboard!$P$4=\"All\",Dashboard!$R$4=\"All\"),NA(),IF(OR(Data!K1601<>Dashboard!$P$4,Data!K1601<>Dashboard!$R$4),Data!G1601,NA()))","v":65889.291743537498}]
[null,{"$f":"IF(Dashboard!$P$4=\"All\",Data!G1602,IF(Data!K1602=Dashboard!$P$4,Data!G1602,NA()))","v":{"$error":"#N/A"}},"","","",{"$f":"IF(C1051<>\"\",Data!$M1602,\"\")","v":""},null,null,null,null,{"$f":"IF(Dashboard!$R$4=\"All\",Data!G1602,IF(Data!K1602=Dashboard!$R$4,Data!G1602,NA()))","v":{"$error":"#N/A"}},"","","",{"$f":"IF(L1051<>\"\",Data!$M1602,\"\")","v":""},null,null,null,null,{"$f":"IF(OR(Dashboard!$P$4=\"All\",Dashboard!$R$4=\"All\"),NA(),IF(OR(Data!K1602<>Dashboard!$P$4,Data!K1602<>Dashboard!$R$4),Data!G1602,NA()))","v":106000}]
[null,{"$f":"IF(Dashboard!$P$4=\"All\",Data!G1603,IF(Data!K1603=Dashboard!$P$4,Data!G1603,NA()))","v":{"$error":"#N/A"}},"","","",{"$f":"IF(C1052<>\"\",Data!$M1603,\"\")","v":""},null,null,null,null,{"$f":"IF(Dashboard!$R$4=\"All\",Data!G1603,IF(Data!K1603=Dashboard!$R$4,Data!G1603,NA()))","v":{"$error":"#N/A"}},"","","",{"$f":"IF(L1052<>\"\",Data!$M1603,\"\")","v":""},null,null,null,null,{"$f":"IF(OR(Dashboard!$P$4=\"All\",Dashboard!$R$4=\"All\"),NA(),IF(OR(Data!K1603<>Dashboard!$P$4,Data!K1603<>Dashboard!$R$4),Data!G1603,NA()))","v":82888.5550559455}]
[null,{"$f":"IF(Dashboard!$P$4=\"All\",Data!G1604,IF(Data!K1604=Dashboard!$P$4,Data!G1604,NA()))","v":{"$error":"#N/A"}},"","","",{"$f":"IF(C1053<>\"\",Data!$M1604,\"\")","v":""},null,null,null,null,{"$f":"IF(Dashboard!$R$4=\"All\",Data!G1604,IF(Data!K1604=Dashboard!$R$4,Data!G1604,NA()))","v":{"$error":"#N/A"}},"","","",{"$f":"IF(L1053<>\"\",Data!$M1604,\"\")","v":""},null,null,null,null,{"$f":"IF(OR(Dashboard!$P$4=\"All\",Dashboard!$R$4=\"All\"),NA(),IF(OR(Data!K1604<>Dashboard!$P$4,Data!K1604<>Dashboard!$R$4),Data!G1604,NA()))","v":59819.107020370408}]
[null,{"$f":"IF(Dashboard!$P$4=\"All\",Data!G1605,IF(Data!K1605=Dashboard!$P$4,Data!G1605,NA()))","v":{"$error":"#N/A"}},"","","",{"$f":"IF(C1054<>\"\",Data!$M1605,\"\")","v":""},null,null,null,null,{"$f":"IF(Dashboard!$R$4=\"All\",Data!G1605,IF(Data!K1605=Dashboard!$R$4,Data!G1605,NA()))","v":{"$error":"#N/A"}},"","","",{"$f":"IF(L1054<>\"\",Data!$M1605,\"\")","v":""},null,null,null,null,{"$f":"IF(OR(Dashboard!$P$4=\"All\",Dashboard!$R$4=\"All\"),NA(),IF(OR(Data!K1605<>Dashboard!$P$4,Data!K1605<>Dashboard!$R$4),Data!G1605,NA()))","v":6545}]
[null,{"$f":"IF(Dashboard!$P$4=\"All\",Data!G1606,IF(Data!K1606=Dashboard!$P$4,Data!G1606,NA()))","v":{"$error":"#N/A"}},"","","",{"$f":"IF(C1055<>\"\",Data!$M1606,\"\")","v":""},null,null,null,null,{"$f":"IF(Dashboard!$R$4=\"All\",Data!G1606,IF(Data!K1606=Dashboard!$R$4,Data!G1606,NA()))","v":{"$error":"#N/A"}},"","","",{"$f":"IF(L1055<>\"\",Data!$M1606,\"\")","v":""},null,null,null,null,{"$f":"IF(OR(Dashboard!$P$4=\"All\",Dashboard!$R$4=\"All\"),NA(),IF(OR(Data!K1606<>Dashboard!$P$4,Data!K1606<>Dashboard!$R$4),Data!G1606,NA()))","v":17807.916687442568}]
[null,{"$f":"IF(Dashboard!$P$4=\"All\",Data!G1607,IF(Data!K1607=Dashboard!$P$4,Data!G1607,NA()))","v":{"$error":"#N/A"}},"","","",{"$f":"IF(C1056<>\"\",Data!$M1607,\"\")","v":""},null,null,null,null,{"$f":"IF(Dashboard!$R$4=\"All\",Data!G1607,IF(Data!K1607=Dashboard!$R$4,Data!G1607,NA()))","v":{"$error":"#N/A"}},"","","",{"$f":"IF(L1056<>\"\",Data!$M1607,\"\")","v":""},null,null,null,null,{"$f":"IF(OR(Dashboard!$P$4=\"All\",Dashboard!$R$4=\"All\"),NA(),IF(OR(Data!K1607<>Dashboard!$P$4,Data!K1607<>Dashboard!$R$4),Data!G1607,NA()))","v":54000}]
[null,{"$f":"IF(Dashboard!$P$4=\"All\",Data!G1608,IF(Data!K1608=Dashboard!$P$4,Data!G1608,NA()))","v":{"$error":"#N/A"}},"","","",{"$f":"IF(C1057<>\"\",Data!$M1608,\"\")","v":""},null,null,null,null,{"$f":"IF(Dashboard!$R$4=\"All\",Data!G1608,IF(Data!K1608=Dashboard!$R$4,Data!G1608,NA()))","v":{"$error":"#N/A"}},"","","",{"$f":"IF(L1057<>\"\",Data!$M1608,\"\")","v":""},null,null,null,null,{"$f":"IF(OR(Dashboard!$P$4=\"All\",Dashboard!$R$4=\"All\"),NA(),IF(OR(Data!K1608<>Dashboard!$P$4,Data!K1608<>Dashboard!$R$4),Data!G1608,NA()))","v":100000}]
[null,{"$f":"IF(Dashboard!$P$4=\"All\",Data!G1609,IF(Data!K1609=Dashboard!$P$4,Data!G1609,NA()))","v":{"$error":"#N/A"}},"","","",{"$f":"IF(C1058<>\"\",Data!$M1609,\"\")","v":""},null,null,null,null,{"$f":"IF(Dashboard!$R$4=\"All\",Data!G1609,IF(Data!K1609=Dashboard!$R$4,Data!G1609,NA()))","v":{"$error":"#N/A"}},"","","",{"$f":"IF(L1058<>\"\",Data!$M1609,\"\")","v":""},null,null,null,null,{"$f":"IF(OR(Dashboard!$P$4=\"All\",Dashboard!$R$4=\"All\"),NA(),IF(OR(Data!K1609<>Dashboard!$P$4,Data!K1609<>Dashboard!$R$4),Data!G1609,NA()))","v":49168.076151516347}]
[null,{"$f":"IF(Dashboard!$P$4=\"All\",Data!G1610,IF(Data!K1610=Dashboard!$P$4,Data!G1610,NA()))","v":{"$error":"#N/A"}},"","","",{"$f":"IF(C1059<>\"\",Data!$M1610,\"\")","v":""},null,null,null,null,{"$f":"IF(Dashboard!$R$4=\"All\",Data!G1610,IF(Data!K1610=Dashboard!$R$4,Data!G1610,NA()))","v":{"$error":"#N/A"}},"","","",{"$f":"IF(L1059<>\"\",Data!$M1610,\"\")","v":""},null,null,null,null,{"$f":"IF(OR(Dashboard!$P$4=\"All\",Dashboard!$R$4=\"All\"),NA(),IF(OR(Data!K1610<>Dashboard!$P$4,Data!K1610<>Dashboard!$R$4),Data!G1610,NA()))","v":4019}]
[null,{"$f":"IF(Dashboard!$P$4=\"All\",Data!G1611,IF(Data!K1611=Dashboard!$P$4,Data!G1611,NA()))","v":{"$error":"#N/A"}},"","","",{"$f":"IF(C1060<>\"\",Data!$M1611,\"\")","v":""},null,null,null,null,{"$f":"IF(Dashboard!$R$4=\"All\",Data!G1611,IF(Data!K1611=Dashboard!$R$4,Data!G1611,NA()))","v":{"$error":"#N/A"}},"","","",{"$f":"IF(L1060<>\"\",Data!$M1611,\"\")","v":""},null,null,null,null,{"$f":"IF(OR(Dashboard!$P$4=\"All\",Dashboard!$R$4=\"All\"),NA(),IF(OR(Data!K1611<>Dashboard!$P$4,Data!K1611<>Dashboard!$R$4),Data!G1611,NA()))","v":15000}]
[null,{"$f":"IF(Dashboard!$P$4=\"All\",Data!G1612,IF(Data!K1612=Dashboard!$P$4,Data!G1612,NA()))","v":{"$error":"#N/A"}},"","","",{"$f":"IF(C1061<>\"\",Data!$M1612,\"\")","v":""},null,null,null,null,{"$f":"IF(Dashboard!$R$4=\"All\",Data!G1612,IF(Data!K1612=Dashboard!$R$4,Data!G1612,NA()))","v":{"$error":"#N/A"}},"","","",{"$f":"IF(L1061<>\"\",Data!$M1612,\"\")","v":""},null,null,null,null,{"$f":"IF(OR(Dashboard!$P$4=\"All\",Dashboard!$R$4=\"All\"),NA(),IF(OR(Data!K1612<>Dashboard!$P$4,Data!K1612<>Dashboard!$R$4),Data!G1612,NA()))","v":17807.916687442568}]
[null,{"$f":"IF(Dashboard!$P$4=\"All\",Data!G1613,IF(Data!K1613=Dashboard!$P$4,Data!G1613,NA()))","v":{"$error":"#N/A"}},"","","",{"$f":"IF(C1062<>\"\",Data!$M1613,\"\")","v":""},null,null,null,null,{"$f":"IF(Dashboard!$R$4=\"All\",Data!G1613,IF(Data!K1613=Dashboard!$R$4,Data!G1613,NA()))","v":{"$error":"#N/A"}},"","","",{"$f":"IF(L1062<>\"\",Data!$M1613,\"\")","v":""},null,null,null,null,{"$f":"IF(OR(Dashboard!$P$4=\"All\",Dashboard!$R$4=\"All\"),NA(),IF(OR(Data!K1613<>Dashboard!$P$4,Data!K1613<>Dashboard!$R$4),Data!G1613,NA()))","v":12000}]
[null,{"$f":"IF(Dashboard!$P$4=\"All\",Data!G1614,IF(Data!K1614=Dashboard!$P$4,Data!G1614,NA()))","v":{"$error":"#N/A"}},"","","",{"$f":"IF(C1063<>\"\",Data!$M1614,\"\")","v":""},null,null,null,null,{"$f":"IF(Dashboard!$R$4=\"All\",Data!G1614,IF(Data!K1614=Dashboard!$R$4,Data!G1614,NA()))","v":{"$error":"#N/A"}},"","","",{"$f":"IF(L1063<>\"\",Data!$M1614,\"\")","v":""},null,null,null,null,{"$f":"IF(OR(Dashboard!$P$4=\"All\",Dashboard!$R$4=\"All\"),NA(),IF(OR(Data!K1614<>Dashboard!$P$4,Data!K1614<>Dashboard!$R$4),Data!G1614,NA()))","v":2225.989585930321}]
[null,{"$f":"IF(Dashboard!$P$4=\"All\",Data!G1615,IF(Data!K1615=Dashboard!$P$4,Data!G1615,NA()))","v":{"$error":"#N/A"}},"","","",{"$f":"IF(C1064<>\"\",Data!$M1615,\"\")","v":""},null,null,null,null,{"$f":"IF(Dashboard!$R$4=\"All\",Data!G1615,IF(Data!K1615=Dashboard!$R$4,Data!G1615,NA()))","v":{"$error":"#N/A"}},"","","",{"$f":"IF(L1064<>\"\",Data!$M1615,\"\")","v":""},null,null,null,null,{"$f":"IF(OR(Dashboard!$P$4=\"All\",Dashboard!$R$4=\"All\"),NA(),IF(OR(Data!K1615<>Dashboard!$P$4,Data!K1615<>Dashboard!$R$4),Data!G1615,NA()))","v":86000}]
[null,{"$f":"IF(Dashboard!$P$4=\"All\",Data!G1616,IF(Data!K1616=Dashboard!$P$4,Data!G1616,NA()))","v":{"$error":"#N/A"}},"","","",{"$f":"IF(C1065<>\"\",Data!$M1616,\"\")","v":""},null,null,null,null,{"$f":"IF(Dashboard!$R$4=\"All\",Data!G1616,IF(Data!K1616=Dashboard!$R$4,Data!G1616,NA()))","v":{"$error":"#N/A"}},"","","",{"$f":"IF(L1065<>\"\",Data!$M1616,\"\")","v":""},null,null,null,null,{"$f":"IF(OR(Dashboard!$P$4=\"All\",Dashboard!$R$4=\"All\"),NA(),IF(OR(Data!K1616<>Dashboard!$P$4,Data!K1616<>Dashboard!$R$4),Data!G1616,NA()))","v":6054.6916737304728}]
[null,{"$f":"IF(Dashboard!$P$4=\"All\",Data!G1617,IF(Data!K1617=Dashboard!$P$4,Data!G1617,NA()))","v":{"$error":"#N/A"}},"","","",{"$f":"IF(C1066<>\"\",Data!$M1617,\"\")","v":""},null,null,null,null,{"$f":"IF(Dashboard!$R$4=\"All\",Data!G1617,IF(Data!K1617=Dashboard!$R$4,Data!G1617,NA()))","v":{"$error":"#N/A"}},"","","",{"$f":"IF(L1066<>\"\",Data!$M1617,\"\")","v":""},null,null,null,null,{"$f":"IF(OR(Dashboard!$P$4=\"All\",Dashboard!$R$4=\"All\"),NA(),IF(OR(Data!K1617<>Dashboard!$P$4,Data!K1617<>Dashboard!$R$4),Data!G1617,NA()))","v":3360}]
[null,{"$f":"IF(Dashboard!$P$4=\"All\",Data!G1618,IF(Data!K1618=Dashboard!$P$4,Data!G1618,NA()))","v":{"$error":"#N/A"}},"","","",{"$f":"IF(C1067<>\"\",Data!$M1618,\"\")","v":""},null,null,null,null,{"$f":"IF(Dashboard!$R$4=\"All\",Data!G1618,IF(Data!K1618=Dashboard!$R$4,Data!G1618,NA()))","v":{"$error":"#N/A"}},"","","",{"$f":"IF(L1067<>\"\",Data!$M1618,\"\")","v":""},null,null,null,null,{"$f":"IF(OR(Dashboard!$P$4=\"All\",Dashboard!$R$4=\"All\"),NA(),IF(OR(Data!K1618<>Dashboard!$P$4,Data!K1618<>Dashboard!$R$4),Data!G1618,NA()))","v":10000}]
[null,{"$f":"IF(Dashboard!$P$4=\"All\",Data!G1619,IF(Data!K1619=Dashboard!$P$4,Data!G1619,NA()))","v":{"$error":"#N/A"}},"","","",{"$f":"IF(C1068<>\"\",Data!$M1619,\"\")","v":""},null,null,null,null,{"$f":"IF(Dashboard!$R$4=\"All\",Data!G1619,IF(Data!K1619=Dashboard!$R$4,Data!G1619,NA()))","v":{"$error":"#N/A"}},"","","",{"$f":"IF(L1068<>\"\",Data!$M1619,\"\")","v":""},null,null,null,null,{"$f":"IF(OR(Dashboard!$P$4=\"All\",Dashboard!$R$4=\"All\"),NA(),IF(OR(Data!K1619<>Dashboard!$P$4,Data!K1619<>Dashboard!$R$4),Data!G1619,NA()))","v":70000}]
[null,{"$f":"IF(Dashboard!$P$4=\"All\",Data!G1620,IF(Data!K1620=Dashboard!$P$4,Data!G1620,NA()))","v":{"$error":"#N/A"}},"","","",{"$f":"IF(C1069<>\"\",Data!$M1620,\"\")","v":""},null,null,null,null,{"$f":"IF(Dashboard!$R$4=\"All\",Data!G1620,IF(Data!K1620=Dashboard!$R$4,Data!G1620,NA()))","v":{"$error":"#N/A"}},"","","",{"$f":"IF(L1069<>\"\",Data!$M1620,\"\")","v":""},null,null,null,null,{"$f":"IF(OR(Dashboard!$P$4=\"All\",Dashboard!$R$4=\"All\"),NA(),IF(OR(Data!K1620<>Dashboard!$P$4,Data!K1620<>Dashboard!$R$4),Data!G1620,NA()))","v":155000}]
[null,{"$f":"IF(Dashboard!$P$4=\"All\",Data!G1621,IF(Data!K1621=Dashboard!$P$4,Data!G1621,NA()))","v":{"$error":"#N/A"}},"","","",{"$f":"IF(C1070<>\"\",Data!$M1621,\"\")","v":""},null,null,null,null,{"$f":"IF(Dashboard!$R$4=\"All\",Data!G1621,IF(Data!K1621=Dashboard!$R$4,Data!G1621,NA()))","v":{"$error":"#N/A"}},"","","",{"$f":"IF(L1070<>\"\",Data!$M1621,\"\")","v":""},null,null,null,null,{"$f":"IF(OR(Dashboard!$P$4=\"All\",Dashboard!$R$4=\"All\"),NA(),IF(OR(Data!K1621<>Dashboard!$P$4,Data!K1621<>Dashboard!$R$4),Data!G1621,NA()))","v":225000}]
[null,{"$f":"IF(Dashboard!$P$4=\"All\",Data!G1622,IF(Data!K1622=Dashboard!$P$4,Data!G1622,NA()))","v":{"$error":"#N/A"}},"","","",{"$f":"IF(C1071<>\"\",Data!$M1622,\"\")","v":""},null,null,null,null,{"$f":"IF(Dashboard!$R$4=\"All\",Data!G1622,IF(Data!K1622=Dashboard!$R$4,Data!G1622,NA()))","v":{"$error":"#N/A"}},"","","",{"$f":"IF(L1071<>\"\",Data!$M1622,\"\")","v":""},null,null,null,null,{"$f":"IF(OR(Dashboard!$P$4=\"All\",Dashboard!$R$4=\"All\"),NA(),IF(OR(Data!K1622<>Dashboard!$P$4,Data!K1622<>Dashboard!$R$4),Data!G1622,NA()))","v":10000}]
[null,{"$f":"IF(Dashboard!$P$4=\"All\",Data!G1623,IF(Data!K1623=Dashboard!$P$4,Data!G1623,NA()))","v":{"$error":"#N/A"}},"","","",{"$f":"IF(C1072<>\"\",Data!$M1623,\"\")","v":""},null,null,null,null,{"$f":"IF(Dashboard!$R$4=\"All\",Data!G1623,IF(Data!K1623=Dashboard!$R$4,Data!G1623,NA()))","v":{"$error":"#N/A"}},"","","",{"$f":"IF(L1072<>\"\",Data!$M1623,\"\")","v":""},null,null,null,null,{"$f":"IF(OR(Dashboard!$P$4=\"All\",Dashboard!$R$4=\"All\"),NA(),IF(OR(Data!K1623<>Dashboard!$P$4,Data!K1623<>Dashboard!$R$4),Data!G1623,NA()))","v":5342.3750062327708}]
[null,{"$f":"IF(Dashboard!$P$4=\"All\",Data!G1624,IF(Data!K1624=Dashboard!$P$4,Data!G1624,NA()))","v":{"$error":"#N/A"}},"","","",{"$f":"IF(C1073<>\"\",Data!$M1624,\"\")","v":""},null,null,null,null,{"$f":"IF(Dashboard!$R$4=\"All\",Data!G1624,IF(Data!K1624=Dashboard!$R$4,Data!G1624,NA()))","v":{"$error":"#N/A"}},"","","",{"$f":"IF(L1073<>\"\",Data!$M1624,\"\")","v":""},null,null,null,null,{"$f":"IF(OR(Dashboard!$P$4=\"All\",Dashboard!$R$4=\"All\"),NA(),IF(OR(Data!K1624<>Dashboard!$P$4,Data!K1624<>Dashboard!$R$4),Data!G1624,NA()))","v":85672.4111378214}]
[null,{"$f":"IF(Dashboard!$P$4=\"All\",Data!G1625,IF(Data!K1625=Dashboard!$P$4,Data!G1625,NA()))","v":{"$error":"#N/A"}},"","","",{"$f":"IF(C1074<>\"\",Data!$M1625,\"\")","v":""},null,null,null,null,{"$f":"IF(Dashboard!$R$4=\"All\",Data!G1625,IF(Data!K1625=Dashboard!$R$4,Data!G1625,NA()))","v":{"$error":"#N/A"}},"","","",{"$f":"IF(L1074<>\"\",Data!$M1625,\"\")","v":""},null,null,null,null,{"$f":"IF(OR(Dashboard!$P$4=\"All\",Dashboard!$R$4=\"All\"),NA(),IF(OR(Data!K1625<>Dashboard!$P$4,Data!K1625<>Dashboard!$R$4),Data!G1625,NA()))","v":4273.9000049862161}]
[null,{"$f":"IF(Dashboard!$P$4=\"All\",Data!G1626,IF(Data!K1626=Dashboard!$P$4,Data!G1626,NA()))","v":{"$error":"#N/A"}},"","","",{"$f":"IF(C1075<>\"\",Data!$M1626,\"\")","v":""},null,null,null,null,{"$f":"IF(Dashboard!$R$4=\"All\",Data!G1626,IF(Data!K1626=Dashboard!$R$4,Data!G1626,NA()))","v":{"$error":"#N/A"}},"","","",{"$f":"IF(L1075<>\"\",Data!$M1626,\"\")","v":""},null,null,null,null,{"$f":"IF(OR(Dashboard!$P$4=\"All\",Dashboard!$R$4=\"All\"),NA(),IF(OR(Data!K1626<>Dashboard!$P$4,Data!K1626<>Dashboard!$R$4),Data!G1626,NA()))","v":8903.9583437212841}]
[null,{"$f":"IF(Dashboard!$P$4=\"All\",Data!G1627,IF(Data!K1627=Dashboard!$P$4,Data!G1627,NA()))","v":{"$error":"#N/A"}},"","","",{"$f":"IF(C1076<>\"\",Data!$M1627,\"\")","v":""},null,null,null,null,{"$f":"IF(Dashboard!$R$4=\"All\",Data!G1627,IF(Data!K1627=Dashboard!$R$4,Data!G1627,NA()))","v":66199.48742682593},66199.48742682593,"","",{"$f":"IF(L1076<>\"\",Data!$M1627,\"\")","v":23},null,null,null,null,{"$f":"IF(OR(Dashboard!$P$4=\"All\",Dashboard!$R$4=\"All\"),NA(),IF(OR(Data!K1627<>Dashboard!$P$4,Data!K1627<>Dashboard!$R$4),Data!G1627,NA()))","v":66199.48742682593}]
[null,{"$f":"IF(Dashboard!$P$4=\"All\",Data!G1628,IF(Data!K1628=Dashboard!$P$4,Data!G1628,NA()))","v":{"$error":"#N/A"}},"","","",{"$f":"IF(C1077<>\"\",Data!$M1628,\"\")","v":""},null,null,null,null,{"$f":"IF(Dashboard!$R$4=\"All\",Data!G1628,IF(Data!K1628=Dashboard!$R$4,Data!G1628,NA()))","v":{"$error":"#N/A"}},"","","",{"$f":"IF(L1077<>\"\",Data!$M1628,\"\")","v":""},null,null,null,null,{"$f":"IF(OR(Dashboard!$P$4=\"All\",Dashboard!$R$4=\"All\"),NA(),IF(OR(Data!K1628<>Dashboard!$P$4,Data!K1628<>Dashboard!$R$4),Data!G1628,NA()))","v":5698.5333399816218}]
[null,{"$f":"IF(Dashboard!$P$4=\"All\",Data!G1629,IF(Data!K1629=Dashboard!$P$4,Data!G1629,NA()))","v":{"$error":"#N/A"}},"","","",{"$f":"IF(C1078<>\"\",Data!$M1629,\"\")","v":""},null,null,null,null,{"$f":"IF(Dashboard!$R$4=\"All\",Data!G1629,IF(Data!K1629=Dashboard!$R$4,Data!G1629,NA()))","v":34675.92198548025},34675.92198548025,"","",{"$f":"IF(L1078<>\"\",Data!$M1629,\"\")","v":17},null,null,null,null,{"$f":"IF(OR(Dashboard!$P$4=\"All\",Dashboard!$R$4=\"All\"),NA(),IF(OR(Data!K1629<>Dashboard!$P$4,Data!K1629<>Dashboard!$R$4),Data!G1629,NA()))","v":34675.92198548025}]
[null,{"$f":"IF(Dashboard!$P$4=\"All\",Data!G1630,IF(Data!K1630=Dashboard!$P$4,Data!G1630,NA()))","v":{"$error":"#N/A"}},"","","",{"$f":"IF(C1079<>\"\",Data!$M1630,\"\")","v":""},null,null,null,null,{"$f":"IF(Dashboard!$R$4=\"All\",Data!G1630,IF(Data!K1630=Dashboard!$R$4,Data!G1630,NA()))","v":{"$error":"#N/A"}},"","","",{"$f":"IF(L1079<>\"\",Data!$M1630,\"\")","v":""},null,null,null,null,{"$f":"IF(OR(Dashboard!$P$4=\"All\",Dashboard!$R$4=\"All\"),NA(),IF(OR(Data!K1630<>Dashboard!$P$4,Data!K1630<>Dashboard!$R$4),Data!G1630,NA()))","v":31200}]
[null,{"$f":"IF(Dashboard!$P$4=\"All\",Data!G1631,IF(Data!K1631=Dashboard!$P$4,Data!G1631,NA()))","v":{"$error":"#N/A"}},"","","",{"$f":"IF(C1080<>\"\",Data!$M1631,\"\")","v":""},null,null,null,null,{"$f":"IF(Dashboard!$R$4=\"All\",Data!G1631,IF(Data!K1631=Dashboard!$R$4,Data!G1631,NA()))","v":{"$error":"#N/A"}},"","","",{"$f":"IF(L1080<>\"\",Data!$M1631,\"\")","v":""},null,null,null,null,{"$f":"IF(OR(Dashboard!$P$4=\"All\",Dashboard!$R$4=\"All\"),NA(),IF(OR(Data!K1631<>Dashboard!$P$4,Data!K1631<>Dashboard!$R$4),Data!G1631,NA()))","v":55068.245289698301}]
[null,{"$f":"IF(Dashboard!$P$4=\"All\",Data!G1632,IF(Data!K1632=Dashboard!$P$4,Data!G1632,NA()))","v":{"$error":"#N/A"}},"","","",{"$f":"IF(C1081<>\"\",Data!$M1632,\"\")","v":""},null,null,null,null,{"$f":"IF(Dashboard!$R$4=\"All\",Data!G1632,IF(Data!K1632=Dashboard!$R$4,Data!G1632,NA()))","v":{"$error":"#N/A"}},"","","",{"$f":"IF(L1081<>\"\",Data!$M1632,\"\")","v":""},null,null,null,null,{"$f":"IF(OR(Dashboard!$P$4=\"All\",Dashboard!$R$4=\"All\"),NA(),IF(OR(Data!K1632<>Dashboard!$P$4,Data!K1632<>Dashboard!$R$4),Data!G1632,NA()))","v":13000}]
[null,{"$f":"IF(Dashboard!$P$4=\"All\",Data!G1633,IF(Data!K1633=Dashboard!$P$4,Data!G1633,NA()))","v":{"$error":"#N/A"}},"","","",{"$f":"IF(C1082<>\"\",Data!$M1633,\"\")","v":""},null,null,null,null,{"$f":"IF(Dashboard!$R$4=\"All\",Data!G1633,IF(Data!K1633=Dashboard!$R$4,Data!G1633,NA()))","v":{"$error":"#N/A"}},"","","",{"$f":"IF(L1082<>\"\",Data!$M1633,\"\")","v":""},null,null,null,null,{"$f":"IF(OR(Dashboard!$P$4=\"All\",Dashboard!$R$4=\"All\"),NA(),IF(OR(Data!K1633<>Dashboard!$P$4,Data!K1633<>Dashboard!$R$4),Data!G1633,NA()))","v":92000}]
[null,{"$f":"IF(Dashboard!$P$4=\"All\",Data!G1634,IF(Data!K1634=Dashboard!$P$4,Data!G1634,NA()))","v":{"$error":"#N/A"}},"","","",{"$f":"IF(C1083<>\"\",Data!$M1634,\"\")","v":""},null,null,null,null,{"$f":"IF(Dashboard!$R$4=\"All\",Data!G1634,IF(Data!K1634=Dashboard!$R$4,Data!G1634,NA()))","v":{"$error":"#N/A"}},"","","",{"$f":"IF(L1083<>\"\",Data!$M1634,\"\")","v":""},null,null,null,null,{"$f":"IF(OR(Dashboard!$P$4=\"All\",Dashboard!$R$4=\"All\"),NA(),IF(OR(Data!K1634<>Dashboard!$P$4,Data!K1634<>Dashboard!$R$4),Data!G1634,NA()))","v":85000}]
[null,{"$f":"IF(Dashboard!$P$4=\"All\",Data!G1635,IF(Data!K1635=Dashboard!$P$4,Data!G1635,NA()))","v":{"$error":"#N/A"}},"","","",{"$f":"IF(C1084<>\"\",Data!$M1635,\"\")","v":""},null,null,null,null,{"$f":"IF(Dashboard!$R$4=\"All\",Data!G1635,IF(Data!K1635=Dashboard!$R$4,Data!G1635,NA()))","v":{"$error":"#N/A"}},"","","",{"$f":"IF(L1084<>\"\",Data!$M1635,\"\")","v":""},null,null,null,null,{"$f":"IF(OR(Dashboard!$P$4=\"All\",Dashboard!$R$4=\"All\"),NA(),IF(OR(Data!K1635<>Dashboard!$P$4,Data!K1635<>Dashboard!$R$4),Data!G1635,NA()))","v":11000}]
[null,{"$f":"IF(Dashboard!$P$4=\"All\",Data!G1636,IF(Data!K1636=Dashboard!$P$4,Data!G1636,NA()))","v":{"$error":"#N/A"}},"","","",{"$f":"IF(C1085<>\"\",Data!$M1636,\"\")","v":""},null,null,null,null,{"$f":"IF(Dashboard!$R$4=\"All\",Data!G1636,IF(Data!K1636=Dashboard!$R$4,Data!G1636,NA()))","v":{"$error":"#N/A"}},"","","",{"$f":"IF(L1085<>\"\",Data!$M1636,\"\")","v":""},null,null,null,null,{"$f":"IF(OR(Dashboard!$P$4=\"All\",Dashboard!$R$4=\"All\"),NA(),IF(OR(Data!K1636<>Dashboard!$P$4,Data!K1636<>Dashboard!$R$4),Data!G1636,NA()))","v":38111.983169748237}]
[null,{"$f":"IF(Dashboard!$P$4=\"All\",Data!G1637,IF(Data!K1637=Dashboard!$P$4,Data!G1637,NA()))","v":{"$error":"#N/A"}},"","","",{"$f":"IF(C1086<>\"\",Data!$M1637,\"\")","v":""},null,null,null,null,{"$f":"IF(Dashboard!$R$4=\"All\",Data!G1637,IF(Data!K1637=Dashboard!$R$4,Data!G1637,NA()))","v":{"$error":"#N/A"}},"","","",{"$f":"IF(L1086<>\"\",Data!$M1637,\"\")","v":""},null,null,null,null,{"$f":"IF(OR(Dashboard!$P$4=\"All\",Dashboard!$R$4=\"All\"),NA(),IF(OR(Data!K1637<>Dashboard!$P$4,Data!K1637<>Dashboard!$R$4),Data!G1637,NA()))","v":49000}]
[null,{"$f":"IF(Dashboard!$P$4=\"All\",Data!G1638,IF(Data!K1638=Dashboard!$P$4,Data!G1638,NA()))","v":{"$error":"#N/A"}},"","","",{"$f":"IF(C1087<>\"\",Data!$M1638,\"\")","v":""},null,null,null,null,{"$f":"IF(Dashboard!$R$4=\"All\",Data!G1638,IF(Data!K1638=Dashboard!$R$4,Data!G1638,NA()))","v":{"$error":"#N/A"}},"","","",{"$f":"IF(L1087<>\"\",Data!$M1638,\"\")","v":""},null,null,null,null,{"$f":"IF(OR(Dashboard!$P$4=\"All\",Dashboard!$R$4=\"All\"),NA(),IF(OR(Data!K1638<>Dashboard!$P$4,Data!K1638<>Dashboard!$R$4),Data!G1638,NA()))","v":59000}]
[null,{"$f":"IF(Dashboard!$P$4=\"All\",Data!G1639,IF(Data!K1639=Dashboard!$P$4,Data!G1639,NA()))","v":{"$error":"#N/A"}},"","","",{"$f":"IF(C1088<>\"\",Data!$M1639,\"\")","v":""},null,null,null,null,{"$f":"IF(Dashboard!$R$4=\"All\",Data!G1639,IF(Data!K1639=Dashboard!$R$4,Data!G1639,NA()))","v":{"$error":"#N/A"}},"","","",{"$f":"IF(L1088<>\"\",Data!$M1639,\"\")","v":""},null,null,null,null,{"$f":"IF(OR(Dashboard!$P$4=\"All\",Dashboard!$R$4=\"All\"),NA(),IF(OR(Data!K1639<>Dashboard!$P$4,Data!K1639<>Dashboard!$R$4),Data!G1639,NA()))","v":55000}]
[null,{"$f":"IF(Dashboard!$P$4=\"All\",Data!G1640,IF(Data!K1640=Dashboard!$P$4,Data!G1640,NA()))","v":{"$error":"#N/A"}},"","","",{"$f":"IF(C1089<>\"\",Data!$M1640,\"\")","v":""},null,null,null,null,{"$f":"IF(Dashboard!$R$4=\"All\",Data!G1640,IF(Data!K1640=Dashboard!$R$4,Data!G1640,NA()))","v":{"$error":"#N/A"}},"","","",{"$f":"IF(L1089<>\"\",Data!$M1640,\"\")","v":""},null,null,null,null,{"$f":"IF(OR(Dashboard!$P$4=\"All\",Dashboard!$R$4=\"All\"),NA(),IF(OR(Data!K1640<>Dashboard!$P$4,Data!K1640<>Dashboard!$R$4),Data!G1640,NA()))","v":75000}]
[null,{"$f":"IF(Dashboard!$P$4=\"All\",Data!G1641,IF(Data!K1641=Dashboard!$P$4,Data!G1641,NA()))","v":{"$error":"#N/A"}},"","","",{"$f":"IF(C1090<>\"\",Data!$M1641,\"\")","v":""},null,null,null,null,{"$f":"IF(Dashboard!$R$4=\"All\",Data!G1641,IF(Data!K1641=Dashboard!$R$4,Data!G1641,NA()))","v":{"$error":"#N/A"}},"","","",{"$f":"IF(L1090<>\"\",Data!$M1641,\"\")","v":""},null,null,null,null,{"$f":"IF(OR(Dashboard!$P$4=\"All\",Dashboard!$R$4=\"All\"),NA(),IF(OR(Data!K1641<>Dashboard!$P$4,Data!K1641<>Dashboard!$R$4),Data!G1641,NA()))","v":50307.817784067665}]
[null,{"$f":"IF(Dashboard!$P$4=\"All\",Data!G1642,IF(Data!K1642=Dashboard!$P$4,Data!G1642,NA()))","v":{"$error":"#N/A"}},"","","",{"$f":"IF(C1091<>\"\",Data!$M1642,\"\")","v":""},null,null,null,null,{"$f":"IF(Dashboard!$R$4=\"All\",Data!G1642,IF(Data!K1642=Dashboard!$R$4,Data!G1642,NA()))","v":{"$error":"#N/A"}},"","","",{"$f":"IF(L1091<>\"\",Data!$M1642,\"\")","v":""},null,null,null,null,{"$f":"IF(OR(Dashboard!$P$4=\"All\",Dashboard!$R$4=\"All\"),NA(),IF(OR(Data!K1642<>Dashboard!$P$4,Data!K1642<>Dashboard!$R$4),Data!G1642,NA()))","v":30500}]
[null,{"$f":"IF(Dashboard!$P$4=\"All\",Data!G1643,IF(Data!K1643=Dashboard!$P$4,Data!G1643,NA()))","v":{"$error":"#N/A"}},{"$f":"IF(ISNA(B1092),\"\",B1092)","v":""},{"$f":"IF(C1092>=PERCENTILE($C$3:$C$1337,0.9),C1092,\"\")","v":""},{"$f":"IF(C1092<=PERCENTILE($C$3:$C$1337,0.1),C1092,\"\")","v":""},{"$f":"IF(C1092<>\"\",Data!$M1643,\"\")","v":""},null,null,null,null,{"$f":"IF(Dashboard!$R$4=\"All\",Data!G1643,IF(Data!K1643=Dashboard!$R$4,Data!G1643,NA()))","v":{"$error":"#N/A"}},{"$f":"IF(ISNA(K1092),\"\",K1092)","v":""},{"$f":"IF(L1092>=PERCENTILE($L$3:$L$1337,0.9),L1092,\"\")","v":""},{"$f":"IF(L1092<=PERCENTILE($L$3:$L$1337,0.1),L1092,\"\")","v":""},{"$f":"IF(L1092<>\"\",Data!$M1643,\"\")","v":""},null,null,null,null,{"$f":"IF(OR(Dashboard!$P$4=\"All\",Dashboard!$R$4=\"All\"),NA(),IF(OR(Data!K1643<>Dashboard!$P$4,Data!K1643<>Dashboard!$R$4),Data!G1643,NA()))","v":80000}]
[null,{"$f":"IF(Dashboard!$P$4=\"All\",Data!G1644,IF(Data!K1644=Dashboard!$P$4,Data!G1644,NA()))","v":{"$error":"#N/A"}},"","","",{"$f":"IF(C1093<>\"\",Data!$M1644,\"\")","v":""},null,null,null,null,{"$f":"IF(Dashboard!$R$4=\"All\",Data!G1644,IF(Data!K1644=Dashboard!$R$4,Data!G1644,NA()))","v":{"$error":"#N/A"}},"","","",{"$f":"IF(L1093<>\"\",Data!$M1644,\"\")","v":""},null,null,null,null,{"$f":"IF(OR(Dashboard!$P$4=\"All\",Dashboard!$R$4=\"All\"),NA(),IF(OR(Data!K1644<>Dashboard!$P$4,Data!K1644<>Dashboard!$R$4),Data!G1644,NA()))","v":12000}]
[null,{"$f":"IF(Dashboard!$P$4=\"All\",Data!G1645,IF(Data!K1645=Dashboard!$P$4,Data!G1645,NA()))","v":{"$error":"#N/A"}},"","","",{"$f":"IF(C1094<>\"\",Data!$M1645,\"\")","v":""},null,null,null,null,{"$f":"IF(Dashboard!$R$4=\"All\",Data!G1645,IF(Data!K1645=Dashboard!$R$4,Data!G1645,NA()))","v":{"$error":"#N/A"}},"","","",{"$f":"IF(L1094<>\"\",Data!$M1645,\"\")","v":""},null,null,null,null,{"$f":"IF(OR(Dashboard!$P$4=\"All\",Dashboard!$R$4=\"All\"),NA(),IF(OR(Data!K1645<>Dashboard!$P$4,Data!K1645<>Dashboard!$R$4),Data!G1645,NA()))","v":48500}]
[null,{"$f":"IF(Dashboard!$P$4=\"All\",Data!G1646,IF(Data!K1646=Dashboard!$P$4,Data!G1646,NA()))","v":{"$error":"#N/A"}},"","","",{"$f":"IF(C1095<>\"\",Data!$M1646,\"\")","v":""},null,null,null,null,{"$f":"IF(Dashboard!$R$4=\"All\",Data!G1646,IF(Data!K1646=Dashboard!$R$4,Data!G1646,NA()))","v":63047.130882691366},63047.130882691366,"","",{"$f":"IF(L1095<>\"\",Data!$M1646,\"\")","v":25},null,null,null,null,{"$f":"IF(OR(Dashboard!$P$4=\"All\",Dashboard!$R$4=\"All\"),NA(),IF(OR(Data!K1646<>Dashboard!$P$4,Data!K1646<>Dashboard!$R$4),Data!G1646,NA()))","v":63047.130882691366}]
[null,{"$f":"IF(Dashboard!$P$4=\"All\",Data!G1647,IF(Data!K1647=Dashboard!$P$4,Data!G1647,NA()))","v":{"$error":"#N/A"}},"","","",{"$f":"IF(C1096<>\"\",Data!$M1647,\"\")","v":""},null,null,null,null,{"$f":"IF(Dashboard!$R$4=\"All\",Data!G1647,IF(Data!K1647=Dashboard!$R$4,Data!G1647,NA()))","v":{"$error":"#N/A"}},"","","",{"$f":"IF(L1096<>\"\",Data!$M1647,\"\")","v":""},null,null,null,null,{"$f":"IF(OR(Dashboard!$P$4=\"All\",Dashboard!$R$4=\"All\"),NA(),IF(OR(Data!K1647<>Dashboard!$P$4,Data!K1647<>Dashboard!$R$4),Data!G1647,NA()))","v":3419.1200039889732}]
[null,{"$f":"IF(Dashboard!$P$4=\"All\",Data!G1648,IF(Data!K1648=Dashboard!$P$4,Data!G1648,NA()))","v":{"$error":"#N/A"}},"","","",{"$f":"IF(C1097<>\"\",Data!$M1648,\"\")","v":""},null,null,null,null,{"$f":"IF(Dashboard!$R$4=\"All\",Data!G1648,IF(Data!K1648=Dashboard!$R$4,Data!G1648,NA()))","v":{"$error":"#N/A"}},"","","",{"$f":"IF(L1097<>\"\",Data!$M1648,\"\")","v":""},null,null,null,null,{"$f":"IF(OR(Dashboard!$P$4=\"All\",Dashboard!$R$4=\"All\"),NA(),IF(OR(Data!K1648<>Dashboard!$P$4,Data!K1648<>Dashboard!$R$4),Data!G1648,NA()))","v":87734.690296543267}]
[null,{"$f":"IF(Dashboard!$P$4=\"All\",Data!G1649,IF(Data!K1649=Dashboard!$P$4,Data!G1649,NA()))","v":{"$error":"#N/A"}},"","","",{"$f":"IF(C1098<>\"\",Data!$M1649,\"\")","v":""},null,null,null,null,{"$f":"IF(Dashboard!$R$4=\"All\",Data!G1649,IF(Data!K1649=Dashboard!$R$4,Data!G1649,NA()))","v":{"$error":"#N/A"}},"","","",{"$f":"IF(L1098<>\"\",Data!$M1649,\"\")","v":""},null,null,null,null,{"$f":"IF(OR(Dashboard!$P$4=\"All\",Dashboard!$R$4=\"All\"),NA(),IF(OR(Data!K1649<>Dashboard!$P$4,Data!K1649<>Dashboard!$R$4),Data!G1649,NA()))","v":56628.754645950656}]
[null,{"$f":"IF(Dashboard!$P$4=\"All\",Data!G1650,IF(Data!K1650=Dashboard!$P$4,Data!G1650,NA()))","v":{"$error":"#N/A"}},"","","",{"$f":"IF(C1099<>\"\",Data!$M1650,\"\")","v":""},null,null,null,null,{"$f":"IF(Dashboard!$R$4=\"All\",Data!G1650,IF(Data!K1650=Dashboard!$R$4,Data!G1650,NA()))","v":{"$error":"#N/A"}},"","","",{"$f":"IF(L1099<>\"\",Data!$M1650,\"\")","v":""},null,null,null,null,{"$f":"IF(OR(Dashboard!$P$4=\"All\",Dashboard!$R$4=\"All\"),NA(),IF(OR(Data!K1650<>Dashboard!$P$4,Data!K1650<>Dashboard!$R$4),Data!G1650,NA()))","v":8013.5625093491553}]
[null,{"$f":"IF(Dashboard!$P$4=\"All\",Data!G1651,IF(Data!K1651=Dashboard!$P$4,Data!G1651,NA()))","v":{"$error":"#N/A"}},"","","",{"$f":"IF(C1100<>\"\",Data!$M1651,\"\")","v":""},null,null,null,null,{"$f":"IF(Dashboard!$R$4=\"All\",Data!G1651,IF(Data!K1651=Dashboard!$R$4,Data!G1651,NA()))","v":{"$error":"#N/A"}},"","","",{"$f":"IF(L1100<>\"\",Data!$M1651,\"\")","v":""},null,null,null,null,{"$f":"IF(OR(Dashboard!$P$4=\"All\",Dashboard!$R$4=\"All\"),NA(),IF(OR(Data!K1651<>Dashboard!$P$4,Data!K1651<>Dashboard!$R$4),Data!G1651,NA()))","v":3561.5833374885137}]
[null,{"$f":"IF(Dashboard!$P$4=\"All\",Data!G1652,IF(Data!K1652=Dashboard!$P$4,Data!G1652,NA()))","v":{"$error":"#N/A"}},"","","",{"$f":"IF(C1101<>\"\",Data!$M1652,\"\")","v":""},null,null,null,null,{"$f":"IF(Dashboard!$R$4=\"All\",Data!G1652,IF(Data!K1652=Dashboard!$R$4,Data!G1652,NA()))","v":{"$error":"#N/A"}},"","","",{"$f":"IF(L1101<>\"\",Data!$M1652,\"\")","v":""},null,null,null,null,{"$f":"IF(OR(Dashboard!$P$4=\"All\",Dashboard!$R$4=\"All\"),NA(),IF(OR(Data!K1652<>Dashboard!$P$4,Data!K1652<>Dashboard!$R$4),Data!G1652,NA()))","v":62000}]
[null,{"$f":"IF(Dashboard!$P$4=\"All\",Data!G1653,IF(Data!K1653=Dashboard!$P$4,Data!G1653,NA()))","v":{"$error":"#N/A"}},"","","",{"$f":"IF(C1102<>\"\",Data!$M1653,\"\")","v":""},null,null,null,null,{"$f":"IF(Dashboard!$R$4=\"All\",Data!G1653,IF(Data!K1653=Dashboard!$R$4,Data!G1653,NA()))","v":{"$error":"#N/A"}},"","","",{"$f":"IF(L1102<>\"\",Data!$M1653,\"\")","v":""},null,null,null,null,{"$f":"IF(OR(Dashboard!$P$4=\"All\",Dashboard!$R$4=\"All\"),NA(),IF(OR(Data!K1653<>Dashboard!$P$4,Data!K1653<>Dashboard!$R$4),Data!G1653,NA()))","v":26678.388218823762}]
[null,{"$f":"IF(Dashboard!$P$4=\"All\",Data!G1654,IF(Data!K1654=Dashboard!$P$4,Data!G1654,NA()))","v":{"$error":"#N/A"}},"","","",{"$f":"IF(C1103<>\"\",Data!$M1654,\"\")","v":""},null,null,null,null,{"$f":"IF(Dashboard!$R$4=\"All\",Data!G1654,IF(Data!K1654=Dashboard!$R$4,Data!G1654,NA()))","v":70928.022243027779},70928.022243027779,"","",{"$f":"IF(L1103<>\"\",Data!$M1654,\"\")","v":5},null,null,null,null,{"$f":"IF(OR(Dashboard!$P$4=\"All\",Dashboard!$R$4=\"All\"),NA(),IF(OR(Data!K1654<>Dashboard!$P$4,Data!K1654<>Dashboard!$R$4),Data!G1654,NA()))","v":70928.022243027779}]
[null,{"$f":"IF(Dashboard!$P$4=\"All\",Data!G1655,IF(Data!K1655=Dashboard!$P$4,Data!G1655,NA()))","v":{"$error":"#N/A"}},"","","",{"$f":"IF(C1104<>\"\",Data!$M1655,\"\")","v":""},null,null,null,null,{"$f":"IF(Dashboard!$R$4=\"All\",Data!G1655,IF(Data!K1655=Dashboard!$R$4,Data!G1655,NA()))","v":{"$error":"#N/A"}},"","","",{"$f":"IF(L1104<>\"\",Data!$M1655,\"\")","v":""},null,null,null,null,{"$f":"IF(OR(Dashboard!$P$4=\"All\",Dashboard!$R$4=\"All\"),NA(),IF(OR(Data!K1655<>Dashboard!$P$4,Data!K1655<>Dashboard!$R$4),Data!G1655,NA()))","v":41923.181486723057}]
[null,{"$f":"IF(Dashboard!$P$4=\"All\",Data!G1656,IF(Data!K1656=Dashboard!$P$4,Data!G1656,NA()))","v":{"$error":"#N/A"}},"","","",{"$f":"IF(C1105<>\"\",Data!$M1656,\"\")","v":""},null,null,null,null,{"$f":"IF(Dashboard!$R$4=\"All\",Data!G1656,IF(Data!K1656=Dashboard!$R$4,Data!G1656,NA()))","v":{"$error":"#N/A"}},"","","",{"$f":"IF(L1105<>\"\",Data!$M1656,\"\")","v":""},null,null,null,null,{"$f":"IF(OR(Dashboard!$P$4=\"All\",Dashboard!$R$4=\"All\"),NA(),IF(OR(Data!K1656<>Dashboard!$P$4,Data!K1656<>Dashboard!$R$4),Data!G1656,NA()))","v":90000}]
[null,{"$f":"IF(Dashboard!$P$4=\"All\",Data!G1657,IF(Data!K1657=Dashboard!$P$4,Data!G1657,NA()))","v":{"$error":"#N/A"}},"","","",{"$f":"IF(C1106<>\"\",Data!$M1657,\"\")","v":""},null,null,null,null,{"$f":"IF(Dashboard!$R$4=\"All\",Data!G1657,IF(Data!K1657=Dashboard!$R$4,Data!G1657,NA()))","v":{"$error":"#N/A"}},"","","",{"$f":"IF(L1106<>\"\",Data!$M1657,\"\")","v":""},null,null,null,null,{"$f":"IF(OR(Dashboard!$P$4=\"All\",Dashboard!$R$4=\"All\"),NA(),IF(OR(Data!K1657<>Dashboard!$P$4,Data!K1657<>Dashboard!$R$4),Data!G1657,NA()))","v":67700.452577525488}]
[null,{"$f":"IF(Dashboard!$P$4=\"All\",Data!G1658,IF(Data!K1658=Dashboard!$P$4,Data!G1658,NA()))","v":{"$error":"#N/A"}},"","","",{"$f":"IF(C1107<>\"\",Data!$M1658,\"\")","v":""},null,null,null,null,{"$f":"IF(Dashboard!$R$4=\"All\",Data!G1658,IF(Data!K1658=Dashboard!$R$4,Data!G1658,NA()))","v":{"$error":"#N/A"}},"","","",{"$f":"IF(L1107<>\"\",Data!$M1658,\"\")","v":""},null,null,null,null,{"$f":"IF(OR(Dashboard!$P$4=\"All\",Dashboard!$R$4=\"All\"),NA(),IF(OR(Data!K1658<>Dashboard!$P$4,Data!K1658<>Dashboard!$R$4),Data!G1658,NA()))","v":85000}]
[null,{"$f":"IF(Dashboard!$P$4=\"All\",Data!G1659,IF(Data!K1659=Dashboard!$P$4,Data!G1659,NA()))","v":{"$error":"#N/A"}},"","","",{"$f":"IF(C1108<>\"\",Data!$M1659,\"\")","v":""},null,null,null,null,{"$f":"IF(Dashboard!$R$4=\"All\",Data!G1659,IF(Data!K1659=Dashboard!$R$4,Data!G1659,NA()))","v":78808.913603364199},78808.913603364199,"","",{"$f":"IF(L1108<>\"\",Data!$M1659,\"\")","v":10},null,null,null,null,{"$f":"IF(OR(Dashboard!$P$4=\"All\",Dashboard!$R$4=\"All\"),NA(),IF(OR(Data!K1659<>Dashboard!$P$4,Data!K1659<>Dashboard!$R$4),Data!G1659,NA()))","v":78808.913603364199}]
[null,{"$f":"IF(Dashboard!$P$4=\"All\",Data!G1660,IF(Data!K1660=Dashboard!$P$4,Data!G1660,NA()))","v":{"$error":"#N/A"}},"","","",{"$f":"IF(C1109<>\"\",Data!$M1660,\"\")","v":""},null,null,null,null,{"$f":"IF(Dashboard!$R$4=\"All\",Data!G1660,IF(Data!K1660=Dashboard!$R$4,Data!G1660,NA()))","v":{"$error":"#N/A"}},"","","",{"$f":"IF(L1109<>\"\",Data!$M1660,\"\")","v":""},null,null,null,null,{"$f":"IF(OR(Dashboard!$P$4=\"All\",Dashboard!$R$4=\"All\"),NA(),IF(OR(Data!K1660<>Dashboard!$P$4,Data!K1660<>Dashboard!$R$4),Data!G1660,NA()))","v":65000}]
[null,{"$f":"IF(Dashboard!$P$4=\"All\",Data!G1661,IF(Data!K1661=Dashboard!$P$4,Data!G1661,NA()))","v":{"$error":"#N/A"}},"","","",{"$f":"IF(C1110<>\"\",Data!$M1661,\"\")","v":""},null,null,null,null,{"$f":"IF(Dashboard!$R$4=\"All\",Data!G1661,IF(Data!K1661=Dashboard!$R$4,Data!G1661,NA()))","v":{"$error":"#N/A"}},"","","",{"$f":"IF(L1110<>\"\",Data!$M1661,\"\")","v":""},null,null,null,null,{"$f":"IF(OR(Dashboard!$P$4=\"All\",Dashboard!$R$4=\"All\"),NA(),IF(OR(Data!K1661<>Dashboard!$P$4,Data!K1661<>Dashboard!$R$4),Data!G1661,NA()))","v":75000}]
[null,{"$f":"IF(Dashboard!$P$4=\"All\",Data!G1662,IF(Data!K1662=Dashboard!$P$4,Data!G1662,NA()))","v":{"$error":"#N/A"}},"","","",{"$f":"IF(C1111<>\"\",Data!$M1662,\"\")","v":""},null,null,null,null,{"$f":"IF(Dashboard!$R$4=\"All\",Data!G1662,IF(Data!K1662=Dashboard!$R$4,Data!G1662,NA()))","v":{"$error":"#N/A"}},"","","",{"$f":"IF(L1111<>\"\",Data!$M1662,\"\")","v":""},null,null,null,null,{"$f":"IF(OR(Dashboard!$P$4=\"All\",Dashboard!$R$4=\"All\"),NA(),IF(OR(Data!K1662<>Dashboard!$P$4,Data!K1662<>Dashboard!$R$4),Data!G1662,NA()))","v":92000}]
[null,{"$f":"IF(Dashboard!$P$4=\"All\",Data!G1663,IF(Data!K1663=Dashboard!$P$4,Data!G1663,NA()))","v":{"$error":"#N/A"}},"","","",{"$f":"IF(C1112<>\"\",Data!$M1663,\"\")","v":""},null,null,null,null,{"$f":"IF(Dashboard!$R$4=\"All\",Data!G1663,IF(Data!K1663=Dashboard!$R$4,Data!G1663,NA()))","v":{"$error":"#N/A"}},"","","",{"$f":"IF(L1112<>\"\",Data!$M1663,\"\")","v":""},null,null,null,null,{"$f":"IF(OR(Dashboard!$P$4=\"All\",Dashboard!$R$4=\"All\"),NA(),IF(OR(Data!K1663<>Dashboard!$P$4,Data!K1663<>Dashboard!$R$4),Data!G1663,NA()))","v":50815.977559664309}]
[null,{"$f":"IF(Dashboard!$P$4=\"All\",Data!G1664,IF(Data!K1664=Dashboard!$P$4,Data!G1664,NA()))","v":{"$error":"#N/A"}},"","","",{"$f":"IF(C1113<>\"\",Data!$M1664,\"\")","v":""},null,null,null,null,{"$f":"IF(Dashboard!$R$4=\"All\",Data!G1664,IF(Data!K1664=Dashboard!$R$4,Data!G1664,NA()))","v":55954.328658388586},55954.328658388586,"","",{"$f":"IF(L1113<>\"\",Data!$M1664,\"\")","v":8},null,null,null,null,{"$f":"IF(OR(Dashboard!$P$4=\"All\",Dashboard!$R$4=\"All\"),NA(),IF(OR(Data!K1664<>Dashboard!$P$4,Data!K1664<>Dashboard!$R$4),Data!G1664,NA()))","v":55954.328658388586}]
[null,{"$f":"IF(Dashboard!$P$4=\"All\",Data!G1665,IF(Data!K1665=Dashboard!$P$4,Data!G1665,NA()))","v":{"$error":"#N/A"}},"","","",{"$f":"IF(C1114<>\"\",Data!$M1665,\"\")","v":""},null,null,null,null,{"$f":"IF(Dashboard!$R$4=\"All\",Data!G1665,IF(Data!K1665=Dashboard!$R$4,Data!G1665,NA()))","v":{"$error":"#N/A"}},"","","",{"$f":"IF(L1114<>\"\",Data!$M1665,\"\")","v":""},null,null,null,null,{"$f":"IF(OR(Dashboard!$P$4=\"All\",Dashboard!$R$4=\"All\"),NA(),IF(OR(Data!K1665<>Dashboard!$P$4,Data!K1665<>Dashboard!$R$4),Data!G1665,NA()))","v":45000}]
[null,{"$f":"IF(Dashboard!$P$4=\"All\",Data!G1666,IF(Data!K1666=Dashboard!$P$4,Data!G1666,NA()))","v":{"$error":"#N/A"}},"","","",{"$f":"IF(C1115<>\"\",Data!$M1666,\"\")","v":""},null,null,null,null,{"$f":"IF(Dashboard!$R$4=\"All\",Data!G1666,IF(Data!K1666=Dashboard!$R$4,Data!G1666,NA()))","v":{"$error":"#N/A"}},"","","",{"$f":"IF(L1115<>\"\",Data!$M1666,\"\")","v":""},null,null,null,null,{"$f":"IF(OR(Dashboard!$P$4=\"All\",Dashboard!$R$4=\"All\"),NA(),IF(OR(Data!K1666<>Dashboard!$P$4,Data!K1666<>Dashboard!$R$4),Data!G1666,NA()))","v":7123.1666749770275}]
[null,{"$f":"IF(Dashboard!$P$4=\"All\",Data!G1667,IF(Data!K1667=Dashboard!$P$4,Data!G1667,NA()))","v":{"$error":"#N/A"}},"","","",{"$f":"IF(C1116<>\"\",Data!$M1667,\"\")","v":""},null,null,null,null,{"$f":"IF(Dashboard!$R$4=\"All\",Data!G1667,IF(Data!K1667=Dashboard!$R$4,Data!G1667,NA()))","v":{"$error":"#N/A"}},"","","",{"$f":"IF(L1116<>\"\",Data!$M1667,\"\")","v":""},null,null,null,null,{"$f":"IF(OR(Dashboard!$P$4=\"All\",Dashboard!$R$4=\"All\"),NA(),IF(OR(Data!K1667<>Dashboard!$P$4,Data!K1667<>Dashboard!$R$4),Data!G1667,NA()))","v":49443.946165553374}]
[null,{"$f":"IF(Dashboard!$P$4=\"All\",Data!G1668,IF(Data!K1668=Dashboard!$P$4,Data!G1668,NA()))","v":{"$error":"#N/A"}},"","","",{"$f":"IF(C1117<>\"\",Data!$M1668,\"\")","v":""},null,null,null,null,{"$f":"IF(Dashboard!$R$4=\"All\",Data!G1668,IF(Data!K1668=Dashboard!$R$4,Data!G1668,NA()))","v":{"$error":"#N/A"}},"","","",{"$f":"IF(L1117<>\"\",Data!$M1668,\"\")","v":""},null,null,null,null,{"$f":"IF(OR(Dashboard!$P$4=\"All\",Dashboard!$R$4=\"All\"),NA(),IF(OR(Data!K1668<>Dashboard!$P$4,Data!K1668<>Dashboard!$R$4),Data!G1668,NA()))","v":45000}]
[null,{"$f":"IF(Dashboard!$P$4=\"All\",Data!G1669,IF(Data!K1669=Dashboard!$P$4,Data!G1669,NA()))","v":{"$error":"#N/A"}},"","","",{"$f":"IF(C1118<>\"\",Data!$M1669,\"\")","v":""},null,null,null,null,{"$f":"IF(Dashboard!$R$4=\"All\",Data!G1669,IF(Data!K1669=Dashboard!$R$4,Data!G1669,NA()))","v":{"$error":"#N/A"}},"","","",{"$f":"IF(L1118<>\"\",Data!$M1669,\"\")","v":""},null,null,null,null,{"$f":"IF(OR(Dashboard!$P$4=\"All\",Dashboard!$R$4=\"All\"),NA(),IF(OR(Data!K1669<>Dashboard!$P$4,Data!K1669<>Dashboard!$R$4),Data!G1669,NA()))","v":60000}]
[null,{"$f":"IF(Dashboard!$P$4=\"All\",Data!G1670,IF(Data!K1670=Dashboard!$P$4,Data!G1670,NA()))","v":{"$error":"#N/A"}},"","","",{"$f":"IF(C1119<>\"\",Data!$M1670,\"\")","v":""},null,null,null,null,{"$f":"IF(Dashboard!$R$4=\"All\",Data!G1670,IF(Data!K1670=Dashboard!$R$4,Data!G1670,NA()))","v":{"$error":"#N/A"}},"","","",{"$f":"IF(L1119<>\"\",Data!$M1670,\"\")","v":""},null,null,null,null,{"$f":"IF(OR(Dashboard!$P$4=\"All\",Dashboard!$R$4=\"All\"),NA(),IF(OR(Data!K1670<>Dashboard!$P$4,Data!K1670<>Dashboard!$R$4),Data!G1670,NA()))","v":65000}]
[null,{"$f":"IF(Dashboard!$P$4=\"All\",Data!G1671,IF(Data!K1671=Dashboard!$P$4,Data!G1671,NA()))","v":{"$error":"#N/A"}},"","","",{"$f":"IF(C1120<>\"\",Data!$M1671,\"\")","v":""},null,null,null,null,{"$f":"IF(Dashboard!$R$4=\"All\",Data!G1671,IF(Data!K1671=Dashboard!$R$4,Data!G1671,NA()))","v":{"$error":"#N/A"}},"","","",{"$f":"IF(L1120<>\"\",Data!$M1671,\"\")","v":""},null,null,null,null,{"$f":"IF(OR(Dashboard!$P$4=\"All\",Dashboard!$R$4=\"All\"),NA(),IF(OR(Data!K1671<>Dashboard!$P$4,Data!K1671<>Dashboard!$R$4),Data!G1671,NA()))","v":73000}]
[null,{"$f":"IF(Dashboard!$P$4=\"All\",Data!G1672,IF(Data!K1672=Dashboard!$P$4,Data!G1672,NA()))","v":{"$error":"#N/A"}},"","","",{"$f":"IF(C1121<>\"\",Data!$M1672,\"\")","v":""},null,null,null,null,{"$f":"IF(Dashboard!$R$4=\"All\",Data!G1672,IF(Data!K1672=Dashboard!$R$4,Data!G1672,NA()))","v":{"$error":"#N/A"}},"","","",{"$f":"IF(L1121<>\"\",Data!$M1672,\"\")","v":""},null,null,null,null,{"$f":"IF(OR(Dashboard!$P$4=\"All\",Dashboard!$R$4=\"All\"),NA(),IF(OR(Data!K1672<>Dashboard!$P$4,Data!K1672<>Dashboard!$R$4),Data!G1672,NA()))","v":54000}]
[null,{"$f":"IF(Dashboard!$P$4=\"All\",Data!G1673,IF(Data!K1673=Dashboard!$P$4,Data!G1673,NA()))","v":{"$error":"#N/A"}},"","","",{"$f":"IF(C1122<>\"\",Data!$M1673,\"\")","v":""},null,null,null,null,{"$f":"IF(Dashboard!$R$4=\"All\",Data!G1673,IF(Data!K1673=Dashboard!$R$4,Data!G1673,NA()))","v":{"$error":"#N/A"}},"","","",{"$f":"IF(L1122<>\"\",Data!$M1673,\"\")","v":""},null,null,null,null,{"$f":"IF(OR(Dashboard!$P$4=\"All\",Dashboard!$R$4=\"All\"),NA(),IF(OR(Data!K1673<>Dashboard!$P$4,Data!K1673<>Dashboard!$R$4),Data!G1673,NA()))","v":81000}]
[null,{"$f":"IF(Dashboard!$P$4=\"All\",Data!G1674,IF(Data!K1674=Dashboard!$P$4,Data!G1674,NA()))","v":{"$error":"#N/A"}},"","","",{"$f":"IF(C1123<>\"\",Data!$M1674,\"\")","v":""},null,null,null,null,{"$f":"IF(Dashboard!$R$4=\"All\",Data!G1674,IF(Data!K1674=Dashboard!$R$4,Data!G1674,NA()))","v":{"$error":"#N/A"}},"","","",{"$f":"IF(L1123<>\"\",Data!$M1674,\"\")","v":""},null,null,null,null,{"$f":"IF(OR(Dashboard!$P$4=\"All\",Dashboard!$R$4=\"All\"),NA(),IF(OR(Data!K1674<>Dashboard!$P$4,Data!K1674<>Dashboard!$R$4),Data!G1674,NA()))","v":10000}]
[null,{"$f":"IF(Dashboard!$P$4=\"All\",Data!G1675,IF(Data!K1675=Dashboard!$P$4,Data!G1675,NA()))","v":{"$error":"#N/A"}},"","","",{"$f":"IF(C1124<>\"\",Data!$M1675,\"\")","v":""},null,null,null,null,{"$f":"IF(Dashboard!$R$4=\"All\",Data!G1675,IF(Data!K1675=Dashboard!$R$4,Data!G1675,NA()))","v":{"$error":"#N/A"}},"","","",{"$f":"IF(L1124<>\"\",Data!$M1675,\"\")","v":""},null,null,null,null,{"$f":"IF(OR(Dashboard!$P$4=\"All\",Dashboard!$R$4=\"All\"),NA(),IF(OR(Data!K1675<>Dashboard!$P$4,Data!K1675<>Dashboard!$R$4),Data!G1675,NA()))","v":42000}]
[null,{"$f":"IF(Dashboard!$P$4=\"All\",Data!G1676,IF(Data!K1676=Dashboard!$P$4,Data!G1676,NA()))","v":{"$error":"#N/A"}},"","","",{"$f":"IF(C1125<>\"\",Data!$M1676,\"\")","v":""},null,null,null,null,{"$f":"IF(Dashboard!$R$4=\"All\",Data!G1676,IF(Data!K1676=Dashboard!$R$4,Data!G1676,NA()))","v":{"$error":"#N/A"}},"","","",{"$f":"IF(L1125<>\"\",Data!$M1676,\"\")","v":""},null,null,null,null,{"$f":"IF(OR(Dashboard!$P$4=\"All\",Dashboard!$R$4=\"All\"),NA(),IF(OR(Data!K1676<>Dashboard!$P$4,Data!K1676<>Dashboard!$R$4),Data!G1676,NA()))","v":81592.772512210868}]
[null,{"$f":"IF(Dashboard!$P$4=\"All\",Data!G1677,IF(Data!K1677=Dashboard!$P$4,Data!G1677,NA()))","v":{"$error":"#N/A"}},"","","",{"$f":"IF(C1126<>\"\",Data!$M1677,\"\")","v":""},null,null,null,null,{"$f":"IF(Dashboard!$R$4=\"All\",Data!G1677,IF(Data!K1677=Dashboard!$R$4,Data!G1677,NA()))","v":{"$error":"#N/A"}},"","","",{"$f":"IF(L1126<>\"\",Data!$M1677,\"\")","v":""},null,null,null,null,{"$f":"IF(OR(Dashboard!$P$4=\"All\",Dashboard!$R$4=\"All\"),NA(),IF(OR(Data!K1677<>Dashboard!$P$4,Data!K1677<>Dashboard!$R$4),Data!G1677,NA()))","v":35401.014829091764}]
[null,{"$f":"IF(Dashboard!$P$4=\"All\",Data!G1678,IF(Data!K1678=Dashboard!$P$4,Data!G1678,NA()))","v":{"$error":"#N/A"}},"","","",{"$f":"IF(C1127<>\"\",Data!$M1678,\"\")","v":""},null,null,null,null,{"$f":"IF(Dashboard!$R$4=\"All\",Data!G1678,IF(Data!K1678=Dashboard!$R$4,Data!G1678,NA()))","v":{"$error":"#N/A"}},"","","",{"$f":"IF(L1127<>\"\",Data!$M1678,\"\")","v":""},null,null,null,null,{"$f":"IF(OR(Dashboard!$P$4=\"All\",Dashboard!$R$4=\"All\"),NA(),IF(OR(Data!K1678<>Dashboard!$P$4,Data!K1678<>Dashboard!$R$4),Data!G1678,NA()))","v":8903.9583437212841}]
[null,{"$f":"IF(Dashboard!$P$4=\"All\",Data!G1679,IF(Data!K1679=Dashboard!$P$4,Data!G1679,NA()))","v":{"$error":"#N/A"}},"","","",{"$f":"IF(C1128<>\"\",Data!$M1679,\"\")","v":""},null,null,null,null,{"$f":"IF(Dashboard!$R$4=\"All\",Data!G1679,IF(Data!K1679=Dashboard!$R$4,Data!G1679,NA()))","v":{"$error":"#N/A"}},"","","",{"$f":"IF(L1128<>\"\",Data!$M1679,\"\")","v":""},null,null,null,null,{"$f":"IF(OR(Dashboard!$P$4=\"All\",Dashboard!$R$4=\"All\"),NA(),IF(OR(Data!K1679<>Dashboard!$P$4,Data!K1679<>Dashboard!$R$4),Data!G1679,NA()))","v":10684.750012465542}]
[null,{"$f":"IF(Dashboard!$P$4=\"All\",Data!G1680,IF(Data!K1680=Dashboard!$P$4,Data!G1680,NA()))","v":{"$error":"#N/A"}},"","","",{"$f":"IF(C1129<>\"\",Data!$M1680,\"\")","v":""},null,null,null,null,{"$f":"IF(Dashboard!$R$4=\"All\",Data!G1680,IF(Data!K1680=Dashboard!$R$4,Data!G1680,NA()))","v":{"$error":"#N/A"}},"","","",{"$f":"IF(L1129<>\"\",Data!$M1680,\"\")","v":""},null,null,null,null,{"$f":"IF(OR(Dashboard!$P$4=\"All\",Dashboard!$R$4=\"All\"),NA(),IF(OR(Data!K1680<>Dashboard!$P$4,Data!K1680<>Dashboard!$R$4),Data!G1680,NA()))","v":8400}]
[null,{"$f":"IF(Dashboard!$P$4=\"All\",Data!G1681,IF(Data!K1681=Dashboard!$P$4,Data!G1681,NA()))","v":{"$error":"#N/A"}},"","","",{"$f":"IF(C1130<>\"\",Data!$M1681,\"\")","v":""},null,null,null,null,{"$f":"IF(Dashboard!$R$4=\"All\",Data!G1681,IF(Data!K1681=Dashboard!$R$4,Data!G1681,NA()))","v":{"$error":"#N/A"}},"","","",{"$f":"IF(L1130<>\"\",Data!$M1681,\"\")","v":""},null,null,null,null,{"$f":"IF(OR(Dashboard!$P$4=\"All\",Dashboard!$R$4=\"All\"),NA(),IF(OR(Data!K1681<>Dashboard!$P$4,Data!K1681<>Dashboard!$R$4),Data!G1681,NA()))","v":9794.354178093412}]
[null,{"$f":"IF(Dashboard!$P$4=\"All\",Data!G1682,IF(Data!K1682=Dashboard!$P$4,Data!G1682,NA()))","v":{"$error":"#N/A"}},"","","",{"$f":"IF(C1131<>\"\",Data!$M1682,\"\")","v":""},null,null,null,null,{"$f":"IF(Dashboard!$R$4=\"All\",Data!G1682,IF(Data!K1682=Dashboard!$R$4,Data!G1682,NA()))","v":{"$error":"#N/A"}},"","","",{"$f":"IF(L1131<>\"\",Data!$M1682,\"\")","v":""},null,null,null,null,{"$f":"IF(OR(Dashboard!$P$4=\"All\",Dashboard!$R$4=\"All\"),NA(),IF(OR(Data!K1682<>Dashboard!$P$4,Data!K1682<>Dashboard!$R$4),Data!G1682,NA()))","v":14400}]
[null,{"$f":"IF(Dashboard!$P$4=\"All\",Data!G1683,IF(Data!K1683=Dashboard!$P$4,Data!G1683,NA()))","v":{"$error":"#N/A"}},"","","",{"$f":"IF(C1132<>\"\",Data!$M1683,\"\")","v":""},null,null,null,null,{"$f":"IF(Dashboard!$R$4=\"All\",Data!G1683,IF(Data!K1683=Dashboard!$R$4,Data!G1683,NA()))","v":{"$error":"#N/A"}},"","","",{"$f":"IF(L1132<>\"\",Data!$M1683,\"\")","v":""},null,null,null,null,{"$f":"IF(OR(Dashboard!$P$4=\"All\",Dashboard!$R$4=\"All\"),NA(),IF(OR(Data!K1683<>Dashboard!$P$4,Data!K1683<>Dashboard!$R$4),Data!G1683,NA()))","v":2671.1875031163854}]
[null,{"$f":"IF(Dashboard!$P$4=\"All\",Data!G1684,IF(Data!K1684=Dashboard!$P$4,Data!G1684,NA()))","v":{"$error":"#N/A"}},"","","",{"$f":"IF(C1133<>\"\",Data!$M1684,\"\")","v":""},null,null,null,null,{"$f":"IF(Dashboard!$R$4=\"All\",Data!G1684,IF(Data!K1684=Dashboard!$R$4,Data!G1684,NA()))","v":{"$error":"#N/A"}},"","","",{"$f":"IF(L1133<>\"\",Data!$M1684,\"\")","v":""},null,null,null,null,{"$f":"IF(OR(Dashboard!$P$4=\"All\",Dashboard!$R$4=\"All\"),NA(),IF(OR(Data!K1684<>Dashboard!$P$4,Data!K1684<>Dashboard!$R$4),Data!G1684,NA()))","v":22000}]
[null,{"$f":"IF(Dashboard!$P$4=\"All\",Data!G1685,IF(Data!K1685=Dashboard!$P$4,Data!G1685,NA()))","v":{"$error":"#N/A"}},"","","",{"$f":"IF(C1134<>\"\",Data!$M1685,\"\")","v":""},null,null,null,null,{"$f":"IF(Dashboard!$R$4=\"All\",Data!G1685,IF(Data!K1685=Dashboard!$R$4,Data!G1685,NA()))","v":{"$error":"#N/A"}},"","","",{"$f":"IF(L1134<>\"\",Data!$M1685,\"\")","v":""},null,null,null,null,{"$f":"IF(OR(Dashboard!$P$4=\"All\",Dashboard!$R$4=\"All\"),NA(),IF(OR(Data!K1685<>Dashboard!$P$4,Data!K1685<>Dashboard!$R$4),Data!G1685,NA()))","v":100000}]
[null,{"$f":"IF(Dashboard!$P$4=\"All\",Data!G1686,IF(Data!K1686=Dashboard!$P$4,Data!G1686,NA()))","v":{"$error":"#N/A"}},"","","",{"$f":"IF(C1135<>\"\",Data!$M1686,\"\")","v":""},null,null,null,null,{"$f":"IF(Dashboard!$R$4=\"All\",Data!G1686,IF(Data!K1686=Dashboard!$R$4,Data!G1686,NA()))","v":63047.130882691366},63047.130882691366,"","",{"$f":"IF(L1135<>\"\",Data!$M1686,\"\")","v":15},null,null,null,null,{"$f":"IF(OR(Dashboard!$P$4=\"All\",Dashboard!$R$4=\"All\"),NA(),IF(OR(Data!K1686<>Dashboard!$P$4,Data!K1686<>Dashboard!$R$4),Data!G1686,NA()))","v":63047.130882691366}]
[null,{"$f":"IF(Dashboard!$P$4=\"All\",Data!G1687,IF(Data!K1687=Dashboard!$P$4,Data!G1687,NA()))","v":{"$error":"#N/A"}},"","","",{"$f":"IF(C1136<>\"\",Data!$M1687,\"\")","v":""},null,null,null,null,{"$f":"IF(Dashboard!$R$4=\"All\",Data!G1687,IF(Data!K1687=Dashboard!$R$4,Data!G1687,NA()))","v":56742.417794422225},56742.417794422225,"","",{"$f":"IF(L1136<>\"\",Data!$M1687,\"\")","v":25},null,null,null,null,{"$f":"IF(OR(Dashboard!$P$4=\"All\",Dashboard!$R$4=\"All\"),NA(),IF(OR(Data!K1687<>Dashboard!$P$4,Data!K1687<>Dashboard!$R$4),Data!G1687,NA()))","v":56742.417794422225}]
[null,{"$f":"IF(Dashboard!$P$4=\"All\",Data!G1688,IF(Data!K1688=Dashboard!$P$4,Data!G1688,NA()))","v":{"$error":"#N/A"}},"","","",{"$f":"IF(C1137<>\"\",Data!$M1688,\"\")","v":""},null,null,null,null,{"$f":"IF(Dashboard!$R$4=\"All\",Data!G1688,IF(Data!K1688=Dashboard!$R$4,Data!G1688,NA()))","v":{"$error":"#N/A"}},"","","",{"$f":"IF(L1137<>\"\",Data!$M1688,\"\")","v":""},null,null,null,null,{"$f":"IF(OR(Dashboard!$P$4=\"All\",Dashboard!$R$4=\"All\"),NA(),IF(OR(Data!K1688<>Dashboard!$P$4,Data!K1688<>Dashboard!$R$4),Data!G1688,NA()))","v":25000}]
[null,{"$f":"IF(Dashboard!$P$4=\"All\",Data!G1689,IF(Data!K1689=Dashboard!$P$4,Data!G1689,NA()))","v":{"$error":"#N/A"}},"","","",{"$f":"IF(C1138<>\"\",Data!$M1689,\"\")","v":""},null,null,null,null,{"$f":"IF(Dashboard!$R$4=\"All\",Data!G1689,IF(Data!K1689=Dashboard!$R$4,Data!G1689,NA()))","v":{"$error":"#N/A"}},"","","",{"$f":"IF(L1138<>\"\",Data!$M1689,\"\")","v":""},null,null,null,null,{"$f":"IF(OR(Dashboard!$P$4=\"All\",Dashboard!$R$4=\"All\"),NA(),IF(OR(Data!K1689<>Dashboard!$P$4,Data!K1689<>Dashboard!$R$4),Data!G1689,NA()))","v":8903.9583437212841}]
[null,{"$f":"IF(Dashboard!$P$4=\"All\",Data!G1690,IF(Data!K1690=Dashboard!$P$4,Data!G1690,NA()))","v":{"$error":"#N/A"}},"","","",{"$f":"IF(C1139<>\"\",Data!$M1690,\"\")","v":""},null,null,null,null,{"$f":"IF(Dashboard!$R$4=\"All\",Data!G1690,IF(Data!K1690=Dashboard!$R$4,Data!G1690,NA()))","v":42556.81334581667},42556.81334581667,"","",{"$f":"IF(L1139<>\"\",Data!$M1690,\"\")","v":2},null,null,null,null,{"$f":"IF(OR(Dashboard!$P$4=\"All\",Dashboard!$R$4=\"All\"),NA(),IF(OR(Data!K1690<>Dashboard!$P$4,Data!K1690<>Dashboard!$R$4),Data!G1690,NA()))","v":42556.81334581667}]
[null,{"$f":"IF(Dashboard!$P$4=\"All\",Data!G1691,IF(Data!K1691=Dashboard!$P$4,Data!G1691,NA()))","v":{"$error":"#N/A"}},"","","",{"$f":"IF(C1140<>\"\",Data!$M1691,\"\")","v":""},null,null,null,null,{"$f":"IF(Dashboard!$R$4=\"All\",Data!G1691,IF(Data!K1691=Dashboard!$R$4,Data!G1691,NA()))","v":{"$error":"#N/A"}},"","","",{"$f":"IF(L1140<>\"\",Data!$M1691,\"\")","v":""},null,null,null,null,{"$f":"IF(OR(Dashboard!$P$4=\"All\",Dashboard!$R$4=\"All\"),NA(),IF(OR(Data!K1691<>Dashboard!$P$4,Data!K1691<>Dashboard!$R$4),Data!G1691,NA()))","v":131770.4440860638}]
[null,{"$f":"IF(Dashboard!$P$4=\"All\",Data!G1692,IF(Data!K1692=Dashboard!$P$4,Data!G1692,NA()))","v":{"$error":"#N/A"}},"","","",{"$f":"IF(C1141<>\"\",Data!$M1692,\"\")","v":""},null,null,null,null,{"$f":"IF(Dashboard!$R$4=\"All\",Data!G1692,IF(Data!K1692=Dashboard!$R$4,Data!G1692,NA()))","v":{"$error":"#N/A"}},"","","",{"$f":"IF(L1141<>\"\",Data!$M1692,\"\")","v":""},null,null,null,null,{"$f":"IF(OR(Dashboard!$P$4=\"All\",Dashboard!$R$4=\"All\"),NA(),IF(OR(Data!K1692<>Dashboard!$P$4,Data!K1692<>Dashboard!$R$4),Data!G1692,NA()))","v":68835.306612122877}]
[null,{"$f":"IF(Dashboard!$P$4=\"All\",Data!G1693,IF(Data!K1693=Dashboard!$P$4,Data!G1693,NA()))","v":{"$error":"#N/A"}},"","","",{"$f":"IF(C1142<>\"\",Data!$M1693,\"\")","v":""},null,null,null,null,{"$f":"IF(Dashboard!$R$4=\"All\",Data!G1693,IF(Data!K1693=Dashboard!$R$4,Data!G1693,NA()))","v":{"$error":"#N/A"}},"","","",{"$f":"IF(L1142<>\"\",Data!$M1693,\"\")","v":""},null,null,null,null,{"$f":"IF(OR(Dashboard!$P$4=\"All\",Dashboard!$R$4=\"All\"),NA(),IF(OR(Data!K1693<>Dashboard!$P$4,Data!K1693<>Dashboard!$R$4),Data!G1693,NA()))","v":6000}]
[null,{"$f":"IF(Dashboard!$P$4=\"All\",Data!G1694,IF(Data!K1694=Dashboard!$P$4,Data!G1694,NA()))","v":{"$error":"#N/A"}},"","","",{"$f":"IF(C1143<>\"\",Data!$M1694,\"\")","v":""},null,null,null,null,{"$f":"IF(Dashboard!$R$4=\"All\",Data!G1694,IF(Data!K1694=Dashboard!$R$4,Data!G1694,NA()))","v":78808.913603364199},78808.913603364199,"","",{"$f":"IF(L1143<>\"\",Data!$M1694,\"\")","v":2},null,null,null,null,{"$f":"IF(OR(Dashboard!$P$4=\"All\",Dashboard!$R$4=\"All\"),NA(),IF(OR(Data!K1694<>Dashboard!$P$4,Data!K1694<>Dashboard!$R$4),Data!G1694,NA()))","v":78808.913603364199}]
[null,{"$f":"IF(Dashboard!$P$4=\"All\",Data!G1695,IF(Data!K1695=Dashboard!$P$4,Data!G1695,NA()))","v":{"$error":"#N/A"}},"","","",{"$f":"IF(C1144<>\"\",Data!$M1695,\"\")","v":""},null,null,null,null,{"$f":"IF(Dashboard!$R$4=\"All\",Data!G1695,IF(Data!K1695=Dashboard!$R$4,Data!G1695,NA()))","v":{"$error":"#N/A"}},"","","",{"$f":"IF(L1144<>\"\",Data!$M1695,\"\")","v":""},null,null,null,null,{"$f":"IF(OR(Dashboard!$P$4=\"All\",Dashboard!$R$4=\"All\"),NA(),IF(OR(Data!K1695<>Dashboard!$P$4,Data!K1695<>Dashboard!$R$4),Data!G1695,NA()))","v":7497.1329254133216}]
[null,{"$f":"IF(Dashboard!$P$4=\"All\",Data!G1696,IF(Data!K1696=Dashboard!$P$4,Data!G1696,NA()))","v":{"$error":"#N/A"}},"","","",{"$f":"IF(C1145<>\"\",Data!$M1696,\"\")","v":""},null,null,null,null,{"$f":"IF(Dashboard!$R$4=\"All\",Data!G1696,IF(Data!K1696=Dashboard!$R$4,Data!G1696,NA()))","v":{"$error":"#N/A"}},"","","",{"$f":"IF(L1145<>\"\",Data!$M1696,\"\")","v":""},null,null,null,null,{"$f":"IF(OR(Dashboard!$P$4=\"All\",Dashboard!$R$4=\"All\"),NA(),IF(OR(Data!K1696<>Dashboard!$P$4,Data!K1696<>Dashboard!$R$4),Data!G1696,NA()))","v":10000}]
[null,{"$f":"IF(Dashboard!$P$4=\"All\",Data!G1697,IF(Data!K1697=Dashboard!$P$4,Data!G1697,NA()))","v":{"$error":"#N/A"}},"","","",{"$f":"IF(C1146<>\"\",Data!$M1697,\"\")","v":""},null,null,null,null,{"$f":"IF(Dashboard!$R$4=\"All\",Data!G1697,IF(Data!K1697=Dashboard!$R$4,Data!G1697,NA()))","v":{"$error":"#N/A"}},"","","",{"$f":"IF(L1146<>\"\",Data!$M1697,\"\")","v":""},null,null,null,null,{"$f":"IF(OR(Dashboard!$P$4=\"All\",Dashboard!$R$4=\"All\"),NA(),IF(OR(Data!K1697<>Dashboard!$P$4,Data!K1697<>Dashboard!$R$4),Data!G1697,NA()))","v":6410.8500074793246}]
[null,{"$f":"IF(Dashboard!$P$4=\"All\",Data!G1698,IF(Data!K1698=Dashboard!$P$4,Data!G1698,NA()))","v":{"$error":"#N/A"}},"","","",{"$f":"IF(C1147<>\"\",Data!$M1698,\"\")","v":""},null,null,null,null,{"$f":"IF(Dashboard!$R$4=\"All\",Data!G1698,IF(Data!K1698=Dashboard!$R$4,Data!G1698,NA()))","v":63047.130882691366},63047.130882691366,"","",{"$f":"IF(L1147<>\"\",Data!$M1698,\"\")","v":5},null,null,null,null,{"$f":"IF(OR(Dashboard!$P$4=\"All\",Dashboard!$R$4=\"All\"),NA(),IF(OR(Data!K1698<>Dashboard!$P$4,Data!K1698<>Dashboard!$R$4),Data!G1698,NA()))","v":63047.130882691366}]
[null,{"$f":"IF(Dashboard!$P$4=\"All\",Data!G1699,IF(Data!K1699=Dashboard!$P$4,Data!G1699,NA()))","v":{"$error":"#N/A"}},"","","",{"$f":"IF(C1148<>\"\",Data!$M1699,\"\")","v":""},null,null,null,null,{"$f":"IF(Dashboard!$R$4=\"All\",Data!G1699,IF(Data!K1699=Dashboard!$R$4,Data!G1699,NA()))","v":{"$error":"#N/A"}},"","","",{"$f":"IF(L1148<>\"\",Data!$M1699,\"\")","v":""},null,null,null,null,{"$f":"IF(OR(Dashboard!$P$4=\"All\",Dashboard!$R$4=\"All\"),NA(),IF(OR(Data!K1699<>Dashboard!$P$4,Data!K1699<>Dashboard!$R$4),Data!G1699,NA()))","v":61194.579384158147}]
[null,{"$f":"IF(Dashboard!$P$4=\"All\",Data!G1700,IF(Data!K1700=Dashboard!$P$4,Data!G1700,NA()))","v":{"$error":"#N/A"}},"","","",{"$f":"IF(C1149<>\"\",Data!$M1700,\"\")","v":""},null,null,null,null,{"$f":"IF(Dashboard!$R$4=\"All\",Data!G1700,IF(Data!K1700=Dashboard!$R$4,Data!G1700,NA()))","v":115061.01386091174},115061.01386091174,115061.01386091174,"",{"$f":"IF(L1149<>\"\",Data!$M1700,\"\")","v":8},null,null,null,null,{"$f":"IF(OR(Dashboard!$P$4=\"All\",Dashboard!$R$4=\"All\"),NA(),IF(OR(Data!K1700<>Dashboard!$P$4,Data!K1700<>Dashboard!$R$4),Data!G1700,NA()))","v":115061.01386091174}]
[null,{"$f":"IF(Dashboard!$P$4=\"All\",Data!G1701,IF(Data!K1701=Dashboard!$P$4,Data!G1701,NA()))","v":{"$error":"#N/A"}},"","","",{"$f":"IF(C1150<>\"\",Data!$M1701,\"\")","v":""},null,null,null,null,{"$f":"IF(Dashboard!$R$4=\"All\",Data!G1701,IF(Data!K1701=Dashboard!$R$4,Data!G1701,NA()))","v":{"$error":"#N/A"}},"","","",{"$f":"IF(L1150<>\"\",Data!$M1701,\"\")","v":""},null,null,null,null,{"$f":"IF(OR(Dashboard!$P$4=\"All\",Dashboard!$R$4=\"All\"),NA(),IF(OR(Data!K1701<>Dashboard!$P$4,Data!K1701<>Dashboard!$R$4),Data!G1701,NA()))","v":45000}]
[null,{"$f":"IF(Dashboard!$P$4=\"All\",Data!G1702,IF(Data!K1702=Dashboard!$P$4,Data!G1702,NA()))","v":{"$error":"#N/A"}},"","","",{"$f":"IF(C1151<>\"\",Data!$M1702,\"\")","v":""},null,null,null,null,{"$f":"IF(Dashboard!$R$4=\"All\",Data!G1702,IF(Data!K1702=Dashboard!$R$4,Data!G1702,NA()))","v":{"$error":"#N/A"}},"","","",{"$f":"IF(L1151<>\"\",Data!$M1702,\"\")","v":""},null,null,null,null,{"$f":"IF(OR(Dashboard!$P$4=\"All\",Dashboard!$R$4=\"All\"),NA(),IF(OR(Data!K1702<>Dashboard!$P$4,Data!K1702<>Dashboard!$R$4),Data!G1702,NA()))","v":36000}]
[null,{"$f":"IF(Dashboard!$P$4=\"All\",Data!G1703,IF(Data!K1703=Dashboard!$P$4,Data!G1703,NA()))","v":{"$error":"#N/A"}},"","","",{"$f":"IF(C1152<>\"\",Data!$M1703,\"\")","v":""},null,null,null,null,{"$f":"IF(Dashboard!$R$4=\"All\",Data!G1703,IF(Data!K1703=Dashboard!$R$4,Data!G1703,NA()))","v":{"$error":"#N/A"}},"","","",{"$f":"IF(L1152<>\"\",Data!$M1703,\"\")","v":""},null,null,null,null,{"$f":"IF(OR(Dashboard!$P$4=\"All\",Dashboard!$R$4=\"All\"),NA(),IF(OR(Data!K1703<>Dashboard!$P$4,Data!K1703<>Dashboard!$R$4),Data!G1703,NA()))","v":68000}]
[null,{"$f":"IF(Dashboard!$P$4=\"All\",Data!G1704,IF(Data!K1704=Dashboard!$P$4,Data!G1704,NA()))","v":{"$error":"#N/A"}},"","","",{"$f":"IF(C1153<>\"\",Data!$M1704,\"\")","v":""},null,null,null,null,{"$f":"IF(Dashboard!$R$4=\"All\",Data!G1704,IF(Data!K1704=Dashboard!$R$4,Data!G1704,NA()))","v":{"$error":"#N/A"}},"","","",{"$f":"IF(L1153<>\"\",Data!$M1704,\"\")","v":""},null,null,null,null,{"$f":"IF(OR(Dashboard!$P$4=\"All\",Dashboard!$R$4=\"All\"),NA(),IF(OR(Data!K1704<>Dashboard!$P$4,Data!K1704<>Dashboard!$R$4),Data!G1704,NA()))","v":75000}]
[null,{"$f":"IF(Dashboard!$P$4=\"All\",Data!G1705,IF(Data!K1705=Dashboard!$P$4,Data!G1705,NA()))","v":{"$error":"#N/A"}},"","","",{"$f":"IF(C1154<>\"\",Data!$M1705,\"\")","v":""},null,null,null,null,{"$f":"IF(Dashboard!$R$4=\"All\",Data!G1705,IF(Data!K1705=Dashboard!$R$4,Data!G1705,NA()))","v":{"$error":"#N/A"}},"","","",{"$f":"IF(L1154<>\"\",Data!$M1705,\"\")","v":""},null,null,null,null,{"$f":"IF(OR(Dashboard!$P$4=\"All\",Dashboard!$R$4=\"All\"),NA(),IF(OR(Data!K1705<>Dashboard!$P$4,Data!K1705<>Dashboard!$R$4),Data!G1705,NA()))","v":88000}]
[null,{"$f":"IF(Dashboard!$P$4=\"All\",Data!G1706,IF(Data!K1706=Dashboard!$P$4,Data!G1706,NA()))","v":{"$error":"#N/A"}},"","","",{"$f":"IF(C1155<>\"\",Data!$M1706,\"\")","v":""},null,null,null,null,{"$f":"IF(Dashboard!$R$4=\"All\",Data!G1706,IF(Data!K1706=Dashboard!$R$4,Data!G1706,NA()))","v":{"$error":"#N/A"}},"","","",{"$f":"IF(L1155<>\"\",Data!$M1706,\"\")","v":""},null,null,null,null,{"$f":"IF(OR(Dashboard!$P$4=\"All\",Dashboard!$R$4=\"All\"),NA(),IF(OR(Data!K1706<>Dashboard!$P$4,Data!K1706<>Dashboard!$R$4),Data!G1706,NA()))","v":4594.4425053601826}]
[null,{"$f":"IF(Dashboard!$P$4=\"All\",Data!G1707,IF(Data!K1707=Dashboard!$P$4,Data!G1707,NA()))","v":{"$error":"#N/A"}},{"$f":"IF(ISNA(B1156),\"\",B1156)","v":""},{"$f":"IF(C1156>=PERCENTILE($C$3:$C$1337,0.9),C1156,\"\")","v":""},{"$f":"IF(C1156<=PERCENTILE($C$3:$C$1337,0.1),C1156,\"\")","v":""},{"$f":"IF(C1156<>\"\",Data!$M1707,\"\")","v":""},null,null,null,null,{"$f":"IF(Dashboard!$R$4=\"All\",Data!G1707,IF(Data!K1707=Dashboard!$R$4,Data!G1707,NA()))","v":{"$error":"#N/A"}},{"$f":"IF(ISNA(K1156),\"\",K1156)","v":""},{"$f":"IF(L1156>=PERCENTILE($L$3:$L$1337,0.9),L1156,\"\")","v":""},{"$f":"IF(L1156<=PERCENTILE($L$3:$L$1337,0.1),L1156,\"\")","v":""},{"$f":"IF(L1156<>\"\",Data!$M1707,\"\")","v":""},null,null,null,null,{"$f":"IF(OR(Dashboard!$P$4=\"All\",Dashboard!$R$4=\"All\"),NA(),IF(OR(Data!K1707<>Dashboard!$P$4,Data!K1707<>Dashboard!$R$4),Data!G1707,NA()))","v":69000}]
[null,{"$f":"IF(Dashboard!$P$4=\"All\",Data!G1708,IF(Data!K1708=Dashboard!$P$4,Data!G1708,NA()))","v":{"$error":"#N/A"}},"","","",{"$f":"IF(C1157<>\"\",Data!$M1708,\"\")","v":""},null,null,null,null,{"$f":"IF(Dashboard!$R$4=\"All\",Data!G1708,IF(Data!K1708=Dashboard!$R$4,Data!G1708,NA()))","v":{"$error":"#N/A"}},"","","",{"$f":"IF(L1157<>\"\",Data!$M1708,\"\")","v":""},null,null,null,null,{"$f":"IF(OR(Dashboard!$P$4=\"All\",Dashboard!$R$4=\"All\"),NA(),IF(OR(Data!K1708<>Dashboard!$P$4,Data!K1708<>Dashboard!$R$4),Data!G1708,NA()))","v":30000}]
[null,{"$f":"IF(Dashboard!$P$4=\"All\",Data!G1709,IF(Data!K1709=Dashboard!$P$4,Data!G1709,NA()))","v":{"$error":"#N/A"}},"","","",{"$f":"IF(C1158<>\"\",Data!$M1709,\"\")","v":""},null,null,null,null,{"$f":"IF(Dashboard!$R$4=\"All\",Data!G1709,IF(Data!K1709=Dashboard!$R$4,Data!G1709,NA()))","v":{"$error":"#N/A"}},"","","",{"$f":"IF(L1158<>\"\",Data!$M1709,\"\")","v":""},null,null,null,null,{"$f":"IF(OR(Dashboard!$P$4=\"All\",Dashboard!$R$4=\"All\"),NA(),IF(OR(Data!K1709<>Dashboard!$P$4,Data!K1709<>Dashboard!$R$4),Data!G1709,NA()))","v":80000}]
[null,{"$f":"IF(Dashboard!$P$4=\"All\",Data!G1710,IF(Data!K1710=Dashboard!$P$4,Data!G1710,NA()))","v":{"$error":"#N/A"}},"","","",{"$f":"IF(C1159<>\"\",Data!$M1710,\"\")","v":""},null,null,null,null,{"$f":"IF(Dashboard!$R$4=\"All\",Data!G1710,IF(Data!K1710=Dashboard!$R$4,Data!G1710,NA()))","v":{"$error":"#N/A"}},"","","",{"$f":"IF(L1159<>\"\",Data!$M1710,\"\")","v":""},null,null,null,null,{"$f":"IF(OR(Dashboard!$P$4=\"All\",Dashboard!$R$4=\"All\"),NA(),IF(OR(Data!K1710<>Dashboard!$P$4,Data!K1710<>Dashboard!$R$4),Data!G1710,NA()))","v":75000}]
[null,{"$f":"IF(Dashboard!$P$4=\"All\",Data!G1711,IF(Data!K1711=Dashboard!$P$4,Data!G1711,NA()))","v":{"$error":"#N/A"}},"","","",{"$f":"IF(C1160<>\"\",Data!$M1711,\"\")","v":""},null,null,null,null,{"$f":"IF(Dashboard!$R$4=\"All\",Data!G1711,IF(Data!K1711=Dashboard!$R$4,Data!G1711,NA()))","v":{"$error":"#N/A"}},"","","",{"$f":"IF(L1160<>\"\",Data!$M1711,\"\")","v":""},null,null,null,null,{"$f":"IF(OR(Dashboard!$P$4=\"All\",Dashboard!$R$4=\"All\"),NA(),IF(OR(Data!K1711<>Dashboard!$P$4,Data!K1711<>Dashboard!$R$4),Data!G1711,NA()))","v":31200}]
[null,{"$f":"IF(Dashboard!$P$4=\"All\",Data!G1712,IF(Data!K1712=Dashboard!$P$4,Data!G1712,NA()))","v":{"$error":"#N/A"}},"","","",{"$f":"IF(C1161<>\"\",Data!$M1712,\"\")","v":""},null,null,null,null,{"$f":"IF(Dashboard!$R$4=\"All\",Data!G1712,IF(Data!K1712=Dashboard!$R$4,Data!G1712,NA()))","v":{"$error":"#N/A"}},"","","",{"$f":"IF(L1161<>\"\",Data!$M1712,\"\")","v":""},null,null,null,null,{"$f":"IF(OR(Dashboard!$P$4=\"All\",Dashboard!$R$4=\"All\"),NA(),IF(OR(Data!K1712<>Dashboard!$P$4,Data!K1712<>Dashboard!$R$4),Data!G1712,NA()))","v":85000}]
[null,{"$f":"IF(Dashboard!$P$4=\"All\",Data!G1713,IF(Data!K1713=Dashboard!$P$4,Data!G1713,NA()))","v":{"$error":"#N/A"}},"","","",{"$f":"IF(C1162<>\"\",Data!$M1713,\"\")","v":""},null,null,null,null,{"$f":"IF(Dashboard!$R$4=\"All\",Data!G1713,IF(Data!K1713=Dashboard!$R$4,Data!G1713,NA()))","v":{"$error":"#N/A"}},"","","",{"$f":"IF(L1162<>\"\",Data!$M1713,\"\")","v":""},null,null,null,null,{"$f":"IF(OR(Dashboard!$P$4=\"All\",Dashboard!$R$4=\"All\"),NA(),IF(OR(Data!K1713<>Dashboard!$P$4,Data!K1713<>Dashboard!$R$4),Data!G1713,NA()))","v":16917.52085307044}]
[null,{"$f":"IF(Dashboard!$P$4=\"All\",Data!G1714,IF(Data!K1714=Dashboard!$P$4,Data!G1714,NA()))","v":{"$error":"#N/A"}},"","","",{"$f":"IF(C1163<>\"\",Data!$M1714,\"\")","v":""},null,null,null,null,{"$f":"IF(Dashboard!$R$4=\"All\",Data!G1714,IF(Data!K1714=Dashboard!$R$4,Data!G1714,NA()))","v":{"$error":"#N/A"}},"","","",{"$f":"IF(L1163<>\"\",Data!$M1714,\"\")","v":""},null,null,null,null,{"$f":"IF(OR(Dashboard!$P$4=\"All\",Dashboard!$R$4=\"All\"),NA(),IF(OR(Data!K1714<>Dashboard!$P$4,Data!K1714<>Dashboard!$R$4),Data!G1714,NA()))","v":3205.4250037396623}]
[null,{"$f":"IF(Dashboard!$P$4=\"All\",Data!G1715,IF(Data!K1715=Dashboard!$P$4,Data!G1715,NA()))","v":{"$error":"#N/A"}},"","","",{"$f":"IF(C1164<>\"\",Data!$M1715,\"\")","v":""},null,null,null,null,{"$f":"IF(Dashboard!$R$4=\"All\",Data!G1715,IF(Data!K1715=Dashboard!$R$4,Data!G1715,NA()))","v":{"$error":"#N/A"}},"","","",{"$f":"IF(L1164<>\"\",Data!$M1715,\"\")","v":""},null,null,null,null,{"$f":"IF(OR(Dashboard!$P$4=\"All\",Dashboard!$R$4=\"All\"),NA(),IF(OR(Data!K1715<>Dashboard!$P$4,Data!K1715<>Dashboard!$R$4),Data!G1715,NA()))","v":60000}]
[null,{"$f":"IF(Dashboard!$P$4=\"All\",Data!G1716,IF(Data!K1716=Dashboard!$P$4,Data!G1716,NA()))","v":{"$error":"#N/A"}},"","","",{"$f":"IF(C1165<>\"\",Data!$M1716,\"\")","v":""},null,null,null,null,{"$f":"IF(Dashboard!$R$4=\"All\",Data!G1716,IF(Data!K1716=Dashboard!$R$4,Data!G1716,NA()))","v":{"$error":"#N/A"}},"","","",{"$f":"IF(L1165<>\"\",Data!$M1716,\"\")","v":""},null,null,null,null,{"$f":"IF(OR(Dashboard!$P$4=\"All\",Dashboard!$R$4=\"All\"),NA(),IF(OR(Data!K1716<>Dashboard!$P$4,Data!K1716<>Dashboard!$R$4),Data!G1716,NA()))","v":60000}]
[null,{"$f":"IF(Dashboard!$P$4=\"All\",Data!G1717,IF(Data!K1717=Dashboard!$P$4,Data!G1717,NA()))","v":{"$error":"#N/A"}},"","","",{"$f":"IF(C1166<>\"\",Data!$M1717,\"\")","v":""},null,null,null,null,{"$f":"IF(Dashboard!$R$4=\"All\",Data!G1717,IF(Data!K1717=Dashboard!$R$4,Data!G1717,NA()))","v":{"$error":"#N/A"}},"","","",{"$f":"IF(L1166<>\"\",Data!$M1717,\"\")","v":""},null,null,null,null,{"$f":"IF(OR(Dashboard!$P$4=\"All\",Dashboard!$R$4=\"All\"),NA(),IF(OR(Data!K1717<>Dashboard!$P$4,Data!K1717<>Dashboard!$R$4),Data!G1717,NA()))","v":14246.333349954055}]
[null,{"$f":"IF(Dashboard!$P$4=\"All\",Data!G1718,IF(Data!K1718=Dashboard!$P$4,Data!G1718,NA()))","v":{"$error":"#N/A"}},"","","",{"$f":"IF(C1167<>\"\",Data!$M1718,\"\")","v":""},null,null,null,null,{"$f":"IF(Dashboard!$R$4=\"All\",Data!G1718,IF(Data!K1718=Dashboard!$R$4,Data!G1718,NA()))","v":{"$error":"#N/A"}},"","","",{"$f":"IF(L1167<>\"\",Data!$M1718,\"\")","v":""},null,null,null,null,{"$f":"IF(OR(Dashboard!$P$4=\"All\",Dashboard!$R$4=\"All\"),NA(),IF(OR(Data!K1718<>Dashboard!$P$4,Data!K1718<>Dashboard!$R$4),Data!G1718,NA()))","v":14246.333349954055}]
[null,{"$f":"IF(Dashboard!$P$4=\"All\",Data!G1719,IF(Data!K1719=Dashboard!$P$4,Data!G1719,NA()))","v":{"$error":"#N/A"}},"","","",{"$f":"IF(C1168<>\"\",Data!$M1719,\"\")","v":""},null,null,null,null,{"$f":"IF(Dashboard!$R$4=\"All\",Data!G1719,IF(Data!K1719=Dashboard!$R$4,Data!G1719,NA()))","v":{"$error":"#N/A"}},"","","",{"$f":"IF(L1168<>\"\",Data!$M1719,\"\")","v":""},null,null,null,null,{"$f":"IF(OR(Dashboard!$P$4=\"All\",Dashboard!$R$4=\"All\"),NA(),IF(OR(Data!K1719<>Dashboard!$P$4,Data!K1719<>Dashboard!$R$4),Data!G1719,NA()))","v":28995}]
[null,{"$f":"IF(Dashboard!$P$4=\"All\",Data!G1720,IF(Data!K1720=Dashboard!$P$4,Data!G1720,NA()))","v":{"$error":"#N/A"}},"","","",{"$f":"IF(C1169<>\"\",Data!$M1720,\"\")","v":""},null,null,null,null,{"$f":"IF(Dashboard!$R$4=\"All\",Data!G1720,IF(Data!K1720=Dashboard!$R$4,Data!G1720,NA()))","v":{"$error":"#N/A"}},"","","",{"$f":"IF(L1169<>\"\",Data!$M1720,\"\")","v":""},null,null,null,null,{"$f":"IF(OR(Dashboard!$P$4=\"All\",Dashboard!$R$4=\"All\"),NA(),IF(OR(Data!K1720<>Dashboard!$P$4,Data!K1720<>Dashboard!$R$4),Data!G1720,NA()))","v":21903.737525554359}]
[null,{"$f":"IF(Dashboard!$P$4=\"All\",Data!G1721,IF(Data!K1721=Dashboard!$P$4,Data!G1721,NA()))","v":{"$error":"#N/A"}},"","","",{"$f":"IF(C1170<>\"\",Data!$M1721,\"\")","v":""},null,null,null,null,{"$f":"IF(Dashboard!$R$4=\"All\",Data!G1721,IF(Data!K1721=Dashboard!$R$4,Data!G1721,NA()))","v":{"$error":"#N/A"}},"","","",{"$f":"IF(L1170<>\"\",Data!$M1721,\"\")","v":""},null,null,null,null,{"$f":"IF(OR(Dashboard!$P$4=\"All\",Dashboard!$R$4=\"All\"),NA(),IF(OR(Data!K1721<>Dashboard!$P$4,Data!K1721<>Dashboard!$R$4),Data!G1721,NA()))","v":20122.945856810104}]
[null,{"$f":"IF(Dashboard!$P$4=\"All\",Data!G1722,IF(Data!K1722=Dashboard!$P$4,Data!G1722,NA()))","v":{"$error":"#N/A"}},"","","",{"$f":"IF(C1171<>\"\",Data!$M1722,\"\")","v":""},null,null,null,null,{"$f":"IF(Dashboard!$R$4=\"All\",Data!G1722,IF(Data!K1722=Dashboard!$R$4,Data!G1722,NA()))","v":70928.022243027779},70928.022243027779,"","",{"$f":"IF(L1171<>\"\",Data!$M1722,\"\")","v":20},null,null,null,null,{"$f":"IF(OR(Dashboard!$P$4=\"All\",Dashboard!$R$4=\"All\"),NA(),IF(OR(Data!K1722<>Dashboard!$P$4,Data!K1722<>Dashboard!$R$4),Data!G1722,NA()))","v":70928.022243027779}]
[null,{"$f":"IF(Dashboard!$P$4=\"All\",Data!G1723,IF(Data!K1723=Dashboard!$P$4,Data!G1723,NA()))","v":{"$error":"#N/A"}},"","","",{"$f":"IF(C1172<>\"\",Data!$M1723,\"\")","v":""},null,null,null,null,{"$f":"IF(Dashboard!$R$4=\"All\",Data!G1723,IF(Data!K1723=Dashboard!$R$4,Data!G1723,NA()))","v":{"$error":"#N/A"}},"","","",{"$f":"IF(L1172<>\"\",Data!$M1723,\"\")","v":""},null,null,null,null,{"$f":"IF(OR(Dashboard!$P$4=\"All\",Dashboard!$R$4=\"All\"),NA(),IF(OR(Data!K1723<>Dashboard!$P$4,Data!K1723<>Dashboard!$R$4),Data!G1723,NA()))","v":67000}]
[null,{"$f":"IF(Dashboard!$P$4=\"All\",Data!G1724,IF(Data!K1724=Dashboard!$P$4,Data!G1724,NA()))","v":{"$error":"#N/A"}},"","","",{"$f":"IF(C1173<>\"\",Data!$M1724,\"\")","v":""},null,null,null,null,{"$f":"IF(Dashboard!$R$4=\"All\",Data!G1724,IF(Data!K1724=Dashboard!$R$4,Data!G1724,NA()))","v":{"$error":"#N/A"}},"","","",{"$f":"IF(L1173<>\"\",Data!$M1724,\"\")","v":""},null,null,null,null,{"$f":"IF(OR(Dashboard!$P$4=\"All\",Dashboard!$R$4=\"All\"),NA(),IF(OR(Data!K1724<>Dashboard!$P$4,Data!K1724<>Dashboard!$R$4),Data!G1724,NA()))","v":30000}]
[null,{"$f":"IF(Dashboard!$P$4=\"All\",Data!G1725,IF(Data!K1725=Dashboard!$P$4,Data!G1725,NA()))","v":{"$error":"#N/A"}},"","","",{"$f":"IF(C1174<>\"\",Data!$M1725,\"\")","v":""},null,null,null,null,{"$f":"IF(Dashboard!$R$4=\"All\",Data!G1725,IF(Data!K1725=Dashboard!$R$4,Data!G1725,NA()))","v":{"$error":"#N/A"}},"","","",{"$f":"IF(L1174<>\"\",Data!$M1725,\"\")","v":""},null,null,null,null,{"$f":"IF(OR(Dashboard!$P$4=\"All\",Dashboard!$R$4=\"All\"),NA(),IF(OR(Data!K1725<>Dashboard!$P$4,Data!K1725<>Dashboard!$R$4),Data!G1725,NA()))","v":148102.22862117883}]
[null,{"$f":"IF(Dashboard!$P$4=\"All\",Data!G1726,IF(Data!K1726=Dashboard!$P$4,Data!G1726,NA()))","v":{"$error":"#N/A"}},"","","",{"$f":"IF(C1175<>\"\",Data!$M1726,\"\")","v":""},null,null,null,null,{"$f":"IF(Dashboard!$R$4=\"All\",Data!G1726,IF(Data!K1726=Dashboard!$R$4,Data!G1726,NA()))","v":{"$error":"#N/A"}},"","","",{"$f":"IF(L1175<>\"\",Data!$M1726,\"\")","v":""},null,null,null,null,{"$f":"IF(OR(Dashboard!$P$4=\"All\",Dashboard!$R$4=\"All\"),NA(),IF(OR(Data!K1726<>Dashboard!$P$4,Data!K1726<>Dashboard!$R$4),Data!G1726,NA()))","v":71500}]
[null,{"$f":"IF(Dashboard!$P$4=\"All\",Data!G1727,IF(Data!K1727=Dashboard!$P$4,Data!G1727,NA()))","v":{"$error":"#N/A"}},"","","",{"$f":"IF(C1176<>\"\",Data!$M1727,\"\")","v":""},null,null,null,null,{"$f":"IF(Dashboard!$R$4=\"All\",Data!G1727,IF(Data!K1727=Dashboard!$R$4,Data!G1727,NA()))","v":{"$error":"#N/A"}},"","","",{"$f":"IF(L1176<>\"\",Data!$M1727,\"\")","v":""},null,null,null,null,{"$f":"IF(OR(Dashboard!$P$4=\"All\",Dashboard!$R$4=\"All\"),NA(),IF(OR(Data!K1727<>Dashboard!$P$4,Data!K1727<>Dashboard!$R$4),Data!G1727,NA()))","v":67000}]
[null,{"$f":"IF(Dashboard!$P$4=\"All\",Data!G1728,IF(Data!K1728=Dashboard!$P$4,Data!G1728,NA()))","v":{"$error":"#N/A"}},"","","",{"$f":"IF(C1177<>\"\",Data!$M1728,\"\")","v":""},null,null,null,null,{"$f":"IF(Dashboard!$R$4=\"All\",Data!G1728,IF(Data!K1728=Dashboard!$R$4,Data!G1728,NA()))","v":{"$error":"#N/A"}},"","","",{"$f":"IF(L1177<>\"\",Data!$M1728,\"\")","v":""},null,null,null,null,{"$f":"IF(OR(Dashboard!$P$4=\"All\",Dashboard!$R$4=\"All\"),NA(),IF(OR(Data!K1728<>Dashboard!$P$4,Data!K1728<>Dashboard!$R$4),Data!G1728,NA()))","v":40000}]
[null,{"$f":"IF(Dashboard!$P$4=\"All\",Data!G1729,IF(Data!K1729=Dashboard!$P$4,Data!G1729,NA()))","v":{"$error":"#N/A"}},"","","",{"$f":"IF(C1178<>\"\",Data!$M1729,\"\")","v":""},null,null,null,null,{"$f":"IF(Dashboard!$R$4=\"All\",Data!G1729,IF(Data!K1729=Dashboard!$R$4,Data!G1729,NA()))","v":{"$error":"#N/A"}},"","","",{"$f":"IF(L1178<>\"\",Data!$M1729,\"\")","v":""},null,null,null,null,{"$f":"IF(OR(Dashboard!$P$4=\"All\",Dashboard!$R$4=\"All\"),NA(),IF(OR(Data!K1729<>Dashboard!$P$4,Data!K1729<>Dashboard!$R$4),Data!G1729,NA()))","v":65000}]
[null,{"$f":"IF(Dashboard!$P$4=\"All\",Data!G1730,IF(Data!K1730=Dashboard!$P$4,Data!G1730,NA()))","v":{"$error":"#N/A"}},"","","",{"$f":"IF(C1179<>\"\",Data!$M1730,\"\")","v":""},null,null,null,null,{"$f":"IF(Dashboard!$R$4=\"All\",Data!G1730,IF(Data!K1730=Dashboard!$R$4,Data!G1730,NA()))","v":{"$error":"#N/A"}},"","","",{"$f":"IF(L1179<>\"\",Data!$M1730,\"\")","v":""},null,null,null,null,{"$f":"IF(OR(Dashboard!$P$4=\"All\",Dashboard!$R$4=\"All\"),NA(),IF(OR(Data!K1730<>Dashboard!$P$4,Data!K1730<>Dashboard!$R$4),Data!G1730,NA()))","v":72000}]
[null,{"$f":"IF(Dashboard!$P$4=\"All\",Data!G1731,IF(Data!K1731=Dashboard!$P$4,Data!G1731,NA()))","v":{"$error":"#N/A"}},"","","",{"$f":"IF(C1180<>\"\",Data!$M1731,\"\")","v":""},null,null,null,null,{"$f":"IF(Dashboard!$R$4=\"All\",Data!G1731,IF(Data!K1731=Dashboard!$R$4,Data!G1731,NA()))","v":{"$error":"#N/A"}},"","","",{"$f":"IF(L1180<>\"\",Data!$M1731,\"\")","v":""},null,null,null,null,{"$f":"IF(OR(Dashboard!$P$4=\"All\",Dashboard!$R$4=\"All\"),NA(),IF(OR(Data!K1731<>Dashboard!$P$4,Data!K1731<>Dashboard!$R$4),Data!G1731,NA()))","v":52500}]
[null,{"$f":"IF(Dashboard!$P$4=\"All\",Data!G1732,IF(Data!K1732=Dashboard!$P$4,Data!G1732,NA()))","v":{"$error":"#N/A"}},"","","",{"$f":"IF(C1181<>\"\",Data!$M1732,\"\")","v":""},null,null,null,null,{"$f":"IF(Dashboard!$R$4=\"All\",Data!G1732,IF(Data!K1732=Dashboard!$R$4,Data!G1732,NA()))","v":{"$error":"#N/A"}},"","","",{"$f":"IF(L1181<>\"\",Data!$M1732,\"\")","v":""},null,null,null,null,{"$f":"IF(OR(Dashboard!$P$4=\"All\",Dashboard!$R$4=\"All\"),NA(),IF(OR(Data!K1732<>Dashboard!$P$4,Data!K1732<>Dashboard!$R$4),Data!G1732,NA()))","v":5320}]
[null,{"$f":"IF(Dashboard!$P$4=\"All\",Data!G1733,IF(Data!K1733=Dashboard!$P$4,Data!G1733,NA()))","v":{"$error":"#N/A"}},"","","",{"$f":"IF(C1182<>\"\",Data!$M1733,\"\")","v":""},null,null,null,null,{"$f":"IF(Dashboard!$R$4=\"All\",Data!G1733,IF(Data!K1733=Dashboard!$R$4,Data!G1733,NA()))","v":{"$error":"#N/A"}},"","","",{"$f":"IF(L1182<>\"\",Data!$M1733,\"\")","v":""},null,null,null,null,{"$f":"IF(OR(Dashboard!$P$4=\"All\",Dashboard!$R$4=\"All\"),NA(),IF(OR(Data!K1733<>Dashboard!$P$4,Data!K1733<>Dashboard!$R$4),Data!G1733,NA()))","v":18000}]
[null,{"$f":"IF(Dashboard!$P$4=\"All\",Data!G1734,IF(Data!K1734=Dashboard!$P$4,Data!G1734,NA()))","v":{"$error":"#N/A"}},"","","",{"$f":"IF(C1183<>\"\",Data!$M1734,\"\")","v":""},null,null,null,null,{"$f":"IF(Dashboard!$R$4=\"All\",Data!G1734,IF(Data!K1734=Dashboard!$R$4,Data!G1734,NA()))","v":{"$error":"#N/A"}},"","","",{"$f":"IF(L1183<>\"\",Data!$M1734,\"\")","v":""},null,null,null,null,{"$f":"IF(OR(Dashboard!$P$4=\"All\",Dashboard!$R$4=\"All\"),NA(),IF(OR(Data!K1734<>Dashboard!$P$4,Data!K1734<>Dashboard!$R$4),Data!G1734,NA()))","v":2493.1083362419595}]
[null,{"$f":"IF(Dashboard!$P$4=\"All\",Data!G1735,IF(Data!K1735=Dashboard!$P$4,Data!G1735,NA()))","v":{"$error":"#N/A"}},"","","",{"$f":"IF(C1184<>\"\",Data!$M1735,\"\")","v":""},null,null,null,null,{"$f":"IF(Dashboard!$R$4=\"All\",Data!G1735,IF(Data!K1735=Dashboard!$R$4,Data!G1735,NA()))","v":{"$error":"#N/A"}},"","","",{"$f":"IF(L1184<>\"\",Data!$M1735,\"\")","v":""},null,null,null,null,{"$f":"IF(OR(Dashboard!$P$4=\"All\",Dashboard!$R$4=\"All\"),NA(),IF(OR(Data!K1735<>Dashboard!$P$4,Data!K1735<>Dashboard!$R$4),Data!G1735,NA()))","v":21342.710575059013}]
[null,{"$f":"IF(Dashboard!$P$4=\"All\",Data!G1736,IF(Data!K1736=Dashboard!$P$4,Data!G1736,NA()))","v":{"$error":"#N/A"}},"","","",{"$f":"IF(C1185<>\"\",Data!$M1736,\"\")","v":""},null,null,null,null,{"$f":"IF(Dashboard!$R$4=\"All\",Data!G1736,IF(Data!K1736=Dashboard!$R$4,Data!G1736,NA()))","v":{"$error":"#N/A"}},"","","",{"$f":"IF(L1185<>\"\",Data!$M1736,\"\")","v":""},null,null,null,null,{"$f":"IF(OR(Dashboard!$P$4=\"All\",Dashboard!$R$4=\"All\"),NA(),IF(OR(Data!K1736<>Dashboard!$P$4,Data!K1736<>Dashboard!$R$4),Data!G1736,NA()))","v":85000}]
[null,{"$f":"IF(Dashboard!$P$4=\"All\",Data!G1737,IF(Data!K1737=Dashboard!$P$4,Data!G1737,NA()))","v":{"$error":"#N/A"}},"","","",{"$f":"IF(C1186<>\"\",Data!$M1737,\"\")","v":""},null,null,null,null,{"$f":"IF(Dashboard!$R$4=\"All\",Data!G1737,IF(Data!K1737=Dashboard!$R$4,Data!G1737,NA()))","v":{"$error":"#N/A"}},"","","",{"$f":"IF(L1186<>\"\",Data!$M1737,\"\")","v":""},null,null,null,null,{"$f":"IF(OR(Dashboard!$P$4=\"All\",Dashboard!$R$4=\"All\"),NA(),IF(OR(Data!K1737<>Dashboard!$P$4,Data!K1737<>Dashboard!$R$4),Data!G1737,NA()))","v":80000}]
[null,{"$f":"IF(Dashboard!$P$4=\"All\",Data!G1738,IF(Data!K1738=Dashboard!$P$4,Data!G1738,NA()))","v":{"$error":"#N/A"}},"","","",{"$f":"IF(C1187<>\"\",Data!$M1738,\"\")","v":""},null,null,null,null,{"$f":"IF(Dashboard!$R$4=\"All\",Data!G1738,IF(Data!K1738=Dashboard!$R$4,Data!G1738,NA()))","v":{"$error":"#N/A"}},"","","",{"$f":"IF(L1187<>\"\",Data!$M1738,\"\")","v":""},null,null,null,null,{"$f":"IF(OR(Dashboard!$P$4=\"All\",Dashboard!$R$4=\"All\"),NA(),IF(OR(Data!K1738<>Dashboard!$P$4,Data!K1738<>Dashboard!$R$4),Data!G1738,NA()))","v":8903.9583437212841}]
[null,{"$f":"IF(Dashboard!$P$4=\"All\",Data!G1739,IF(Data!K1739=Dashboard!$P$4,Data!G1739,NA()))","v":{"$error":"#N/A"}},"","","",{"$f":"IF(C1188<>\"\",Data!$M1739,\"\")","v":""},null,null,null,null,{"$f":"IF(Dashboard!$R$4=\"All\",Data!G1739,IF(Data!K1739=Dashboard!$R$4,Data!G1739,NA()))","v":{"$error":"#N/A"}},"","","",{"$f":"IF(L1188<>\"\",Data!$M1739,\"\")","v":""},null,null,null,null,{"$f":"IF(OR(Dashboard!$P$4=\"All\",Dashboard!$R$4=\"All\"),NA(),IF(OR(Data!K1739<>Dashboard!$P$4,Data!K1739<>Dashboard!$R$4),Data!G1739,NA()))","v":125000}]
[null,{"$f":"IF(Dashboard!$P$4=\"All\",Data!G1740,IF(Data!K1740=Dashboard!$P$4,Data!G1740,NA()))","v":{"$error":"#N/A"}},"","","",{"$f":"IF(C1189<>\"\",Data!$M1740,\"\")","v":""},null,null,null,null,{"$f":"IF(Dashboard!$R$4=\"All\",Data!G1740,IF(Data!K1740=Dashboard!$R$4,Data!G1740,NA()))","v":{"$error":"#N/A"}},"","","",{"$f":"IF(L1189<>\"\",Data!$M1740,\"\")","v":""},null,null,null,null,{"$f":"IF(OR(Dashboard!$P$4=\"All\",Dashboard!$R$4=\"All\"),NA(),IF(OR(Data!K1740<>Dashboard!$P$4,Data!K1740<>Dashboard!$R$4),Data!G1740,NA()))","v":23150.291693675339}]
[null,{"$f":"IF(Dashboard!$P$4=\"All\",Data!G1741,IF(Data!K1741=Dashboard!$P$4,Data!G1741,NA()))","v":{"$error":"#N/A"}},"","","",{"$f":"IF(C1190<>\"\",Data!$M1741,\"\")","v":""},null,null,null,null,{"$f":"IF(Dashboard!$R$4=\"All\",Data!G1741,IF(Data!K1741=Dashboard!$R$4,Data!G1741,NA()))","v":{"$error":"#N/A"}},"","","",{"$f":"IF(L1190<>\"\",Data!$M1741,\"\")","v":""},null,null,null,null,{"$f":"IF(OR(Dashboard!$P$4=\"All\",Dashboard!$R$4=\"All\"),NA(),IF(OR(Data!K1741<>Dashboard!$P$4,Data!K1741<>Dashboard!$R$4),Data!G1741,NA()))","v":12000}]
[null,{"$f":"IF(Dashboard!$P$4=\"All\",Data!G1742,IF(Data!K1742=Dashboard!$P$4,Data!G1742,NA()))","v":{"$error":"#N/A"}},"","","",{"$f":"IF(C1191<>\"\",Data!$M1742,\"\")","v":""},null,null,null,null,{"$f":"IF(Dashboard!$R$4=\"All\",Data!G1742,IF(Data!K1742=Dashboard!$R$4,Data!G1742,NA()))","v":{"$error":"#N/A"}},"","","",{"$f":"IF(L1191<>\"\",Data!$M1742,\"\")","v":""},null,null,null,null,{"$f":"IF(OR(Dashboard!$P$4=\"All\",Dashboard!$R$4=\"All\"),NA(),IF(OR(Data!K1742<>Dashboard!$P$4,Data!K1742<>Dashboard!$R$4),Data!G1742,NA()))","v":30000}]
[null,{"$f":"IF(Dashboard!$P$4=\"All\",Data!G1743,IF(Data!K1743=Dashboard!$P$4,Data!G1743,NA()))","v":{"$error":"#N/A"}},"","","",{"$f":"IF(C1192<>\"\",Data!$M1743,\"\")","v":""},null,null,null,null,{"$f":"IF(Dashboard!$R$4=\"All\",Data!G1743,IF(Data!K1743=Dashboard!$R$4,Data!G1743,NA()))","v":{"$error":"#N/A"}},"","","",{"$f":"IF(L1192<>\"\",Data!$M1743,\"\")","v":""},null,null,null,null,{"$f":"IF(OR(Dashboard!$P$4=\"All\",Dashboard!$R$4=\"All\"),NA(),IF(OR(Data!K1743<>Dashboard!$P$4,Data!K1743<>Dashboard!$R$4),Data!G1743,NA()))","v":91468.759607395754}]
[null,{"$f":"IF(Dashboard!$P$4=\"All\",Data!G1744,IF(Data!K1744=Dashboard!$P$4,Data!G1744,NA()))","v":{"$error":"#N/A"}},"","","",{"$f":"IF(C1193<>\"\",Data!$M1744,\"\")","v":""},null,null,null,null,{"$f":"IF(Dashboard!$R$4=\"All\",Data!G1744,IF(Data!K1744=Dashboard!$R$4,Data!G1744,NA()))","v":35148.775467100437},35148.775467100437,"","",{"$f":"IF(L1193<>\"\",Data!$M1744,\"\")","v":4},null,null,null,null,{"$f":"IF(OR(Dashboard!$P$4=\"All\",Dashboard!$R$4=\"All\"),NA(),IF(OR(Data!K1744<>Dashboard!$P$4,Data!K1744<>Dashboard!$R$4),Data!G1744,NA()))","v":35148.775467100437}]
[null,{"$f":"IF(Dashboard!$P$4=\"All\",Data!G1745,IF(Data!K1745=Dashboard!$P$4,Data!G1745,NA()))","v":{"$error":"#N/A"}},"","","",{"$f":"IF(C1194<>\"\",Data!$M1745,\"\")","v":""},null,null,null,null,{"$f":"IF(Dashboard!$R$4=\"All\",Data!G1745,IF(Data!K1745=Dashboard!$R$4,Data!G1745,NA()))","v":49153.119414418252},49153.119414418252,"","",{"$f":"IF(L1194<>\"\",Data!$M1745,\"\")","v":7},null,null,null,null,{"$f":"IF(OR(Dashboard!$P$4=\"All\",Dashboard!$R$4=\"All\"),NA(),IF(OR(Data!K1745<>Dashboard!$P$4,Data!K1745<>Dashboard!$R$4),Data!G1745,NA()))","v":49153.119414418252}]
[null,{"$f":"IF(Dashboard!$P$4=\"All\",Data!G1746,IF(Data!K1746=Dashboard!$P$4,Data!G1746,NA()))","v":{"$error":"#N/A"}},"","","",{"$f":"IF(C1195<>\"\",Data!$M1746,\"\")","v":""},null,null,null,null,{"$f":"IF(Dashboard!$R$4=\"All\",Data!G1746,IF(Data!K1746=Dashboard!$R$4,Data!G1746,NA()))","v":{"$error":"#N/A"}},"","","",{"$f":"IF(L1195<>\"\",Data!$M1746,\"\")","v":""},null,null,null,null,{"$f":"IF(OR(Dashboard!$P$4=\"All\",Dashboard!$R$4=\"All\"),NA(),IF(OR(Data!K1746<>Dashboard!$P$4,Data!K1746<>Dashboard!$R$4),Data!G1746,NA()))","v":2671.1875031163854}]
[null,{"$f":"IF(Dashboard!$P$4=\"All\",Data!G1747,IF(Data!K1747=Dashboard!$P$4,Data!G1747,NA()))","v":{"$error":"#N/A"}},"","","",{"$f":"IF(C1196<>\"\",Data!$M1747,\"\")","v":""},null,null,null,null,{"$f":"IF(Dashboard!$R$4=\"All\",Data!G1747,IF(Data!K1747=Dashboard!$R$4,Data!G1747,NA()))","v":42556.81334581667},42556.81334581667,"","",{"$f":"IF(L1196<>\"\",Data!$M1747,\"\")","v":3},null,null,null,null,{"$f":"IF(OR(Dashboard!$P$4=\"All\",Dashboard!$R$4=\"All\"),NA(),IF(OR(Data!K1747<>Dashboard!$P$4,Data!K1747<>Dashboard!$R$4),Data!G1747,NA()))","v":42556.81334581667}]
[null,{"$f":"IF(Dashboard!$P$4=\"All\",Data!G1748,IF(Data!K1748=Dashboard!$P$4,Data!G1748,NA()))","v":{"$error":"#N/A"}},"","","",{"$f":"IF(C1197<>\"\",Data!$M1748,\"\")","v":""},null,null,null,null,{"$f":"IF(Dashboard!$R$4=\"All\",Data!G1748,IF(Data!K1748=Dashboard!$R$4,Data!G1748,NA()))","v":42556.81334581667},42556.81334581667,"","",{"$f":"IF(L1197<>\"\",Data!$M1748,\"\")","v":3},null,null,null,null,{"$f":"IF(OR(Dashboard!$P$4=\"All\",Dashboard!$R$4=\"All\"),NA(),IF(OR(Data!K1748<>Dashboard!$P$4,Data!K1748<>Dashboard!$R$4),Data!G1748,NA()))","v":42556.81334581667}]
[null,{"$f":"IF(Dashboard!$P$4=\"All\",Data!G1749,IF(Data!K1749=Dashboard!$P$4,Data!G1749,NA()))","v":{"$error":"#N/A"}},"","","",{"$f":"IF(C1198<>\"\",Data!$M1749,\"\")","v":""},null,null,null,null,{"$f":"IF(Dashboard!$R$4=\"All\",Data!G1749,IF(Data!K1749=Dashboard!$R$4,Data!G1749,NA()))","v":{"$error":"#N/A"}},"","","",{"$f":"IF(L1198<>\"\",Data!$M1749,\"\")","v":""},null,null,null,null,{"$f":"IF(OR(Dashboard!$P$4=\"All\",Dashboard!$R$4=\"All\"),NA(),IF(OR(Data!K1749<>Dashboard!$P$4,Data!K1749<>Dashboard!$R$4),Data!G1749,NA()))","v":74461}]
[null,{"$f":"IF(Dashboard!$P$4=\"All\",Data!G1750,IF(Data!K1750=Dashboard!$P$4,Data!G1750,NA()))","v":{"$error":"#N/A"}},"","","",{"$f":"IF(C1199<>\"\",Data!$M1750,\"\")","v":""},null,null,null,null,{"$f":"IF(Dashboard!$R$4=\"All\",Data!G1750,IF(Data!K1750=Dashboard!$R$4,Data!G1750,NA()))","v":41768.724209783031},41768.724209783031,"","",{"$f":"IF(L1199<>\"\",Data!$M1750,\"\")","v":16},null,null,null,null,{"$f":"IF(OR(Dashboard!$P$4=\"All\",Dashboard!$R$4=\"All\"),NA(),IF(OR(Data!K1750<>Dashboard!$P$4,Data!K1750<>Dashboard!$R$4),Data!G1750,NA()))","v":41768.724209783031}]
[null,{"$f":"IF(Dashboard!$P$4=\"All\",Data!G1751,IF(Data!K1751=Dashboard!$P$4,Data!G1751,NA()))","v":{"$error":"#N/A"}},"","","",{"$f":"IF(C1200<>\"\",Data!$M1751,\"\")","v":""},null,null,null,null,{"$f":"IF(Dashboard!$R$4=\"All\",Data!G1751,IF(Data!K1751=Dashboard!$R$4,Data!G1751,NA()))","v":{"$error":"#N/A"}},"","","",{"$f":"IF(L1200<>\"\",Data!$M1751,\"\")","v":""},null,null,null,null,{"$f":"IF(OR(Dashboard!$P$4=\"All\",Dashboard!$R$4=\"All\"),NA(),IF(OR(Data!K1751<>Dashboard!$P$4,Data!K1751<>Dashboard!$R$4),Data!G1751,NA()))","v":8547.8000099724322}]
[null,{"$f":"IF(Dashboard!$P$4=\"All\",Data!G1752,IF(Data!K1752=Dashboard!$P$4,Data!G1752,NA()))","v":{"$error":"#N/A"}},"","","",{"$f":"IF(C1201<>\"\",Data!$M1752,\"\")","v":""},null,null,null,null,{"$f":"IF(Dashboard!$R$4=\"All\",Data!G1752,IF(Data!K1752=Dashboard!$R$4,Data!G1752,NA()))","v":{"$error":"#N/A"}},"","","",{"$f":"IF(L1201<>\"\",Data!$M1752,\"\")","v":""},null,null,null,null,{"$f":"IF(OR(Dashboard!$P$4=\"All\",Dashboard!$R$4=\"All\"),NA(),IF(OR(Data!K1752<>Dashboard!$P$4,Data!K1752<>Dashboard!$R$4),Data!G1752,NA()))","v":2400}]
[null,{"$f":"IF(Dashboard!$P$4=\"All\",Data!G1753,IF(Data!K1753=Dashboard!$P$4,Data!G1753,NA()))","v":{"$error":"#N/A"}},"","","",{"$f":"IF(C1202<>\"\",Data!$M1753,\"\")","v":""},null,null,null,null,{"$f":"IF(Dashboard!$R$4=\"All\",Data!G1753,IF(Data!K1753=Dashboard!$R$4,Data!G1753,NA()))","v":{"$error":"#N/A"}},"","","",{"$f":"IF(L1202<>\"\",Data!$M1753,\"\")","v":""},null,null,null,null,{"$f":"IF(OR(Dashboard!$P$4=\"All\",Dashboard!$R$4=\"All\"),NA(),IF(OR(Data!K1753<>Dashboard!$P$4,Data!K1753<>Dashboard!$R$4),Data!G1753,NA()))","v":3000}]
[null,{"$f":"IF(Dashboard!$P$4=\"All\",Data!G1754,IF(Data!K1754=Dashboard!$P$4,Data!G1754,NA()))","v":{"$error":"#N/A"}},"","","",{"$f":"IF(C1203<>\"\",Data!$M1754,\"\")","v":""},null,null,null,null,{"$f":"IF(Dashboard!$R$4=\"All\",Data!G1754,IF(Data!K1754=Dashboard!$R$4,Data!G1754,NA()))","v":{"$error":"#N/A"}},"","","",{"$f":"IF(L1203<>\"\",Data!$M1754,\"\")","v":""},null,null,null,null,{"$f":"IF(OR(Dashboard!$P$4=\"All\",Dashboard!$R$4=\"All\"),NA(),IF(OR(Data!K1754<>Dashboard!$P$4,Data!K1754<>Dashboard!$R$4),Data!G1754,NA()))","v":11000}]
[null,{"$f":"IF(Dashboard!$P$4=\"All\",Data!G1755,IF(Data!K1755=Dashboard!$P$4,Data!G1755,NA()))","v":{"$error":"#N/A"}},"","","",{"$f":"IF(C1204<>\"\",Data!$M1755,\"\")","v":""},null,null,null,null,{"$f":"IF(Dashboard!$R$4=\"All\",Data!G1755,IF(Data!K1755=Dashboard!$R$4,Data!G1755,NA()))","v":{"$error":"#N/A"}},"","","",{"$f":"IF(L1204<>\"\",Data!$M1755,\"\")","v":""},null,null,null,null,{"$f":"IF(OR(Dashboard!$P$4=\"All\",Dashboard!$R$4=\"All\"),NA(),IF(OR(Data!K1755<>Dashboard!$P$4,Data!K1755<>Dashboard!$R$4),Data!G1755,NA()))","v":40000}]
[null,{"$f":"IF(Dashboard!$P$4=\"All\",Data!G1756,IF(Data!K1756=Dashboard!$P$4,Data!G1756,NA()))","v":{"$error":"#N/A"}},"","","",{"$f":"IF(C1205<>\"\",Data!$M1756,\"\")","v":""},null,null,null,null,{"$f":"IF(Dashboard!$R$4=\"All\",Data!G1756,IF(Data!K1756=Dashboard!$R$4,Data!G1756,NA()))","v":{"$error":"#N/A"}},"","","",{"$f":"IF(L1205<>\"\",Data!$M1756,\"\")","v":""},null,null,null,null,{"$f":"IF(OR(Dashboard!$P$4=\"All\",Dashboard!$R$4=\"All\"),NA(),IF(OR(Data!K1756<>Dashboard!$P$4,Data!K1756<>Dashboard!$R$4),Data!G1756,NA()))","v":3600}]
[null,{"$f":"IF(Dashboard!$P$4=\"All\",Data!G1757,IF(Data!K1757=Dashboard!$P$4,Data!G1757,NA()))","v":{"$error":"#N/A"}},"","","",{"$f":"IF(C1206<>\"\",Data!$M1757,\"\")","v":""},null,null,null,null,{"$f":"IF(Dashboard!$R$4=\"All\",Data!G1757,IF(Data!K1757=Dashboard!$R$4,Data!G1757,NA()))","v":{"$error":"#N/A"}},"","","",{"$f":"IF(L1206<>\"\",Data!$M1757,\"\")","v":""},null,null,null,null,{"$f":"IF(OR(Dashboard!$P$4=\"All\",Dashboard!$R$4=\"All\"),NA(),IF(OR(Data!K1757<>Dashboard!$P$4,Data!K1757<>Dashboard!$R$4),Data!G1757,NA()))","v":56600}]
[null,{"$f":"IF(Dashboard!$P$4=\"All\",Data!G1758,IF(Data!K1758=Dashboard!$P$4,Data!G1758,NA()))","v":{"$error":"#N/A"}},"","","",{"$f":"IF(C1207<>\"\",Data!$M1758,\"\")","v":""},null,null,null,null,{"$f":"IF(Dashboard!$R$4=\"All\",Data!G1758,IF(Data!K1758=Dashboard!$R$4,Data!G1758,NA()))","v":{"$error":"#N/A"}},"","","",{"$f":"IF(L1207<>\"\",Data!$M1758,\"\")","v":""},null,null,null,null,{"$f":"IF(OR(Dashboard!$P$4=\"All\",Dashboard!$R$4=\"All\"),NA(),IF(OR(Data!K1758<>Dashboard!$P$4,Data!K1758<>Dashboard!$R$4),Data!G1758,NA()))","v":33600}]
[null,{"$f":"IF(Dashboard!$P$4=\"All\",Data!G1759,IF(Data!K1759=Dashboard!$P$4,Data!G1759,NA()))","v":{"$error":"#N/A"}},"","","",{"$f":"IF(C1208<>\"\",Data!$M1759,\"\")","v":""},null,null,null,null,{"$f":"IF(Dashboard!$R$4=\"All\",Data!G1759,IF(Data!K1759=Dashboard!$R$4,Data!G1759,NA()))","v":{"$error":"#N/A"}},"","","",{"$f":"IF(L1208<>\"\",Data!$M1759,\"\")","v":""},null,null,null,null,{"$f":"IF(OR(Dashboard!$P$4=\"All\",Dashboard!$R$4=\"All\"),NA(),IF(OR(Data!K1759<>Dashboard!$P$4,Data!K1759<>Dashboard!$R$4),Data!G1759,NA()))","v":33600}]
[null,{"$f":"IF(Dashboard!$P$4=\"All\",Data!G1760,IF(Data!K1760=Dashboard!$P$4,Data!G1760,NA()))","v":{"$error":"#N/A"}},"","","",{"$f":"IF(C1209<>\"\",Data!$M1760,\"\")","v":""},null,null,null,null,{"$f":"IF(Dashboard!$R$4=\"All\",Data!G1760,IF(Data!K1760=Dashboard!$R$4,Data!G1760,NA()))","v":{"$error":"#N/A"}},"","","",{"$f":"IF(L1209<>\"\",Data!$M1760,\"\")","v":""},null,null,null,null,{"$f":"IF(OR(Dashboard!$P$4=\"All\",Dashboard!$R$4=\"All\"),NA(),IF(OR(Data!K1760<>Dashboard!$P$4,Data!K1760<>Dashboard!$R$4),Data!G1760,NA()))","v":100000}]
[null,{"$f":"IF(Dashboard!$P$4=\"All\",Data!G1761,IF(Data!K1761=Dashboard!$P$4,Data!G1761,NA()))","v":{"$error":"#N/A"}},"","","",{"$f":"IF(C1210<>\"\",Data!$M1761,\"\")","v":""},null,null,null,null,{"$f":"IF(Dashboard!$R$4=\"All\",Data!G1761,IF(Data!K1761=Dashboard!$R$4,Data!G1761,NA()))","v":{"$error":"#N/A"}},"","","",{"$f":"IF(L1210<>\"\",Data!$M1761,\"\")","v":""},null,null,null,null,{"$f":"IF(OR(Dashboard!$P$4=\"All\",Dashboard!$R$4=\"All\"),NA(),IF(OR(Data!K1761<>Dashboard!$P$4,Data!K1761<>Dashboard!$R$4),Data!G1761,NA()))","v":39334.460921213074}]
[null,{"$f":"IF(Dashboard!$P$4=\"All\",Data!G1762,IF(Data!K1762=Dashboard!$P$4,Data!G1762,NA()))","v":{"$error":"#N/A"}},"","","",{"$f":"IF(C1211<>\"\",Data!$M1762,\"\")","v":""},null,null,null,null,{"$f":"IF(Dashboard!$R$4=\"All\",Data!G1762,IF(Data!K1762=Dashboard!$R$4,Data!G1762,NA()))","v":{"$error":"#N/A"}},"","","",{"$f":"IF(L1211<>\"\",Data!$M1762,\"\")","v":""},null,null,null,null,{"$f":"IF(OR(Dashboard!$P$4=\"All\",Dashboard!$R$4=\"All\"),NA(),IF(OR(Data!K1762<>Dashboard!$P$4,Data!K1762<>Dashboard!$R$4),Data!G1762,NA()))","v":7123.1666749770275}]
[null,{"$f":"IF(Dashboard!$P$4=\"All\",Data!G1763,IF(Data!K1763=Dashboard!$P$4,Data!G1763,NA()))","v":{"$error":"#N/A"}},"","","",{"$f":"IF(C1212<>\"\",Data!$M1763,\"\")","v":""},null,null,null,null,{"$f":"IF(Dashboard!$R$4=\"All\",Data!G1763,IF(Data!K1763=Dashboard!$R$4,Data!G1763,NA()))","v":{"$error":"#N/A"}},"","","",{"$f":"IF(L1212<>\"\",Data!$M1763,\"\")","v":""},null,null,null,null,{"$f":"IF(OR(Dashboard!$P$4=\"All\",Dashboard!$R$4=\"All\"),NA(),IF(OR(Data!K1763<>Dashboard!$P$4,Data!K1763<>Dashboard!$R$4),Data!G1763,NA()))","v":65000}]
[null,{"$f":"IF(Dashboard!$P$4=\"All\",Data!G1764,IF(Data!K1764=Dashboard!$P$4,Data!G1764,NA()))","v":{"$error":"#N/A"}},"","","",{"$f":"IF(C1213<>\"\",Data!$M1764,\"\")","v":""},null,null,null,null,{"$f":"IF(Dashboard!$R$4=\"All\",Data!G1764,IF(Data!K1764=Dashboard!$R$4,Data!G1764,NA()))","v":{"$error":"#N/A"}},"","","",{"$f":"IF(L1213<>\"\",Data!$M1764,\"\")","v":""},null,null,null,null,{"$f":"IF(OR(Dashboard!$P$4=\"All\",Dashboard!$R$4=\"All\"),NA(),IF(OR(Data!K1764<>Dashboard!$P$4,Data!K1764<>Dashboard!$R$4),Data!G1764,NA()))","v":65000}]
[null,{"$f":"IF(Dashboard!$P$4=\"All\",Data!G1765,IF(Data!K1765=Dashboard!$P$4,Data!G1765,NA()))","v":{"$error":"#N/A"}},"","","",{"$f":"IF(C1214<>\"\",Data!$M1765,\"\")","v":""},null,null,null,null,{"$f":"IF(Dashboard!$R$4=\"All\",Data!G1765,IF(Data!K1765=Dashboard!$R$4,Data!G1765,NA()))","v":{"$error":"#N/A"}},"","","",{"$f":"IF(L1214<>\"\",Data!$M1765,\"\")","v":""},null,null,null,null,{"$f":"IF(OR(Dashboard!$P$4=\"All\",Dashboard!$R$4=\"All\"),NA(),IF(OR(Data!K1765<>Dashboard!$P$4,Data!K1765<>Dashboard!$R$4),Data!G1765,NA()))","v":65000}]
[null,{"$f":"IF(Dashboard!$P$4=\"All\",Data!G1766,IF(Data!K1766=Dashboard!$P$4,Data!G1766,NA()))","v":{"$error":"#N/A"}},"","","",{"$f":"IF(C1215<>\"\",Data!$M1766,\"\")","v":""},null,null,null,null,{"$f":"IF(Dashboard!$R$4=\"All\",Data!G1766,IF(Data!K1766=Dashboard!$R$4,Data!G1766,NA()))","v":{"$error":"#N/A"}},"","","",{"$f":"IF(L1215<>\"\",Data!$M1766,\"\")","v":""},null,null,null,null,{"$f":"IF(OR(Dashboard!$P$4=\"All\",Dashboard!$R$4=\"All\"),NA(),IF(OR(Data!K1766<>Dashboard!$P$4,Data!K1766<>Dashboard!$R$4),Data!G1766,NA()))","v":76702.198796365497}]
[null,{"$f":"IF(Dashboard!$P$4=\"All\",Data!G1767,IF(Data!K1767=Dashboard!$P$4,Data!G1767,NA()))","v":{"$error":"#N/A"}},"","","",{"$f":"IF(C1216<>\"\",Data!$M1767,\"\")","v":""},null,null,null,null,{"$f":"IF(Dashboard!$R$4=\"All\",Data!G1767,IF(Data!K1767=Dashboard!$R$4,Data!G1767,NA()))","v":{"$error":"#N/A"}},"","","",{"$f":"IF(L1216<>\"\",Data!$M1767,\"\")","v":""},null,null,null,null,{"$f":"IF(OR(Dashboard!$P$4=\"All\",Dashboard!$R$4=\"All\"),NA(),IF(OR(Data!K1767<>Dashboard!$P$4,Data!K1767<>Dashboard!$R$4),Data!G1767,NA()))","v":63000}]
[null,{"$f":"IF(Dashboard!$P$4=\"All\",Data!G1768,IF(Data!K1768=Dashboard!$P$4,Data!G1768,NA()))","v":{"$error":"#N/A"}},"","","",{"$f":"IF(C1217<>\"\",Data!$M1768,\"\")","v":""},null,null,null,null,{"$f":"IF(Dashboard!$R$4=\"All\",Data!G1768,IF(Data!K1768=Dashboard!$R$4,Data!G1768,NA()))","v":{"$error":"#N/A"}},"","","",{"$f":"IF(L1217<>\"\",Data!$M1768,\"\")","v":""},null,null,null,null,{"$f":"IF(OR(Dashboard!$P$4=\"All\",Dashboard!$R$4=\"All\"),NA(),IF(OR(Data!K1768<>Dashboard!$P$4,Data!K1768<>Dashboard!$R$4),Data!G1768,NA()))","v":87000}]
[null,{"$f":"IF(Dashboard!$P$4=\"All\",Data!G1769,IF(Data!K1769=Dashboard!$P$4,Data!G1769,NA()))","v":{"$error":"#N/A"}},"","","",{"$f":"IF(C1218<>\"\",Data!$M1769,\"\")","v":""},null,null,null,null,{"$f":"IF(Dashboard!$R$4=\"All\",Data!G1769,IF(Data!K1769=Dashboard!$R$4,Data!G1769,NA()))","v":{"$error":"#N/A"}},"","","",{"$f":"IF(L1218<>\"\",Data!$M1769,\"\")","v":""},null,null,null,null,{"$f":"IF(OR(Dashboard!$P$4=\"All\",Dashboard!$R$4=\"All\"),NA(),IF(OR(Data!K1769<>Dashboard!$P$4,Data!K1769<>Dashboard!$R$4),Data!G1769,NA()))","v":45000}]
[null,{"$f":"IF(Dashboard!$P$4=\"All\",Data!G1770,IF(Data!K1770=Dashboard!$P$4,Data!G1770,NA()))","v":{"$error":"#N/A"}},"","","",{"$f":"IF(C1219<>\"\",Data!$M1770,\"\")","v":""},null,null,null,null,{"$f":"IF(Dashboard!$R$4=\"All\",Data!G1770,IF(Data!K1770=Dashboard!$R$4,Data!G1770,NA()))","v":{"$error":"#N/A"}},"","","",{"$f":"IF(L1219<>\"\",Data!$M1770,\"\")","v":""},null,null,null,null,{"$f":"IF(OR(Dashboard!$P$4=\"All\",Dashboard!$R$4=\"All\"),NA(),IF(OR(Data!K1770<>Dashboard!$P$4,Data!K1770<>Dashboard!$R$4),Data!G1770,NA()))","v":85000}]
[null,{"$f":"IF(Dashboard!$P$4=\"All\",Data!G1771,IF(Data!K1771=Dashboard!$P$4,Data!G1771,NA()))","v":{"$error":"#N/A"}},{"$f":"IF(ISNA(B1220),\"\",B1220)","v":""},{"$f":"IF(C1220>=PERCENTILE($C$3:$C$1337,0.9),C1220,\"\")","v":""},{"$f":"IF(C1220<=PERCENTILE($C$3:$C$1337,0.1),C1220,\"\")","v":""},{"$f":"IF(C1220<>\"\",Data!$M1771,\"\")","v":""},null,null,null,null,{"$f":"IF(Dashboard!$R$4=\"All\",Data!G1771,IF(Data!K1771=Dashboard!$R$4,Data!G1771,NA()))","v":{"$error":"#N/A"}},{"$f":"IF(ISNA(K1220),\"\",K1220)","v":""},{"$f":"IF(L1220>=PERCENTILE($L$3:$L$1337,0.9),L1220,\"\")","v":""},{"$f":"IF(L1220<=PERCENTILE($L$3:$L$1337,0.1),L1220,\"\")","v":""},{"$f":"IF(L1220<>\"\",Data!$M1771,\"\")","v":""},null,null,null,null,{"$f":"IF(OR(Dashboard!$P$4=\"All\",Dashboard!$R$4=\"All\"),NA(),IF(OR(Data!K1771<>Dashboard!$P$4,Data!K1771<>Dashboard!$R$4),Data!G1771,NA()))","v":159105.90639881117}]
[null,{"$f":"IF(Dashboard!$P$4=\"All\",Data!G1772,IF(Data!K1772=Dashboard!$P$4,Data!G1772,NA()))","v":{"$error":"#N/A"}},"","","",{"$f":"IF(C1221<>\"\",Data!$M1772,\"\")","v":""},null,null,null,null,{"$f":"IF(Dashboard!$R$4=\"All\",Data!G1772,IF(Data!K1772=Dashboard!$R$4,Data!G1772,NA()))","v":{"$error":"#N/A"}},"","","",{"$f":"IF(L1221<>\"\",Data!$M1772,\"\")","v":""},null,null,null,null,{"$f":"IF(OR(Dashboard!$P$4=\"All\",Dashboard!$R$4=\"All\"),NA(),IF(OR(Data!K1772<>Dashboard!$P$4,Data!K1772<>Dashboard!$R$4),Data!G1772,NA()))","v":9972.4333449678379}]
[null,{"$f":"IF(Dashboard!$P$4=\"All\",Data!G1773,IF(Data!K1773=Dashboard!$P$4,Data!G1773,NA()))","v":{"$error":"#N/A"}},"","","",{"$f":"IF(C1222<>\"\",Data!$M1773,\"\")","v":""},null,null,null,null,{"$f":"IF(Dashboard!$R$4=\"All\",Data!G1773,IF(Data!K1773=Dashboard!$R$4,Data!G1773,NA()))","v":{"$error":"#N/A"}},"","","",{"$f":"IF(L1222<>\"\",Data!$M1773,\"\")","v":""},null,null,null,null,{"$f":"IF(OR(Dashboard!$P$4=\"All\",Dashboard!$R$4=\"All\"),NA(),IF(OR(Data!K1773<>Dashboard!$P$4,Data!K1773<>Dashboard!$R$4),Data!G1773,NA()))","v":14000}]
[null,{"$f":"IF(Dashboard!$P$4=\"All\",Data!G1774,IF(Data!K1774=Dashboard!$P$4,Data!G1774,NA()))","v":{"$error":"#N/A"}},"","","",{"$f":"IF(C1223<>\"\",Data!$M1774,\"\")","v":""},null,null,null,null,{"$f":"IF(Dashboard!$R$4=\"All\",Data!G1774,IF(Data!K1774=Dashboard!$R$4,Data!G1774,NA()))","v":50437.70470615309},50437.70470615309,"","",{"$f":"IF(L1223<>\"\",Data!$M1774,\"\")","v":20},null,null,null,null,{"$f":"IF(OR(Dashboard!$P$4=\"All\",Dashboard!$R$4=\"All\"),NA(),IF(OR(Data!K1774<>Dashboard!$P$4,Data!K1774<>Dashboard!$R$4),Data!G1774,NA()))","v":50437.70470615309}]
[null,{"$f":"IF(Dashboard!$P$4=\"All\",Data!G1775,IF(Data!K1775=Dashboard!$P$4,Data!G1775,NA()))","v":{"$error":"#N/A"}},"","","",{"$f":"IF(C1224<>\"\",Data!$M1775,\"\")","v":""},null,null,null,null,{"$f":"IF(Dashboard!$R$4=\"All\",Data!G1775,IF(Data!K1775=Dashboard!$R$4,Data!G1775,NA()))","v":50437.70470615309},50437.70470615309,"","",{"$f":"IF(L1224<>\"\",Data!$M1775,\"\")","v":1},null,null,null,null,{"$f":"IF(OR(Dashboard!$P$4=\"All\",Dashboard!$R$4=\"All\"),NA(),IF(OR(Data!K1775<>Dashboard!$P$4,Data!K1775<>Dashboard!$R$4),Data!G1775,NA()))","v":50437.70470615309}]
[null,{"$f":"IF(Dashboard!$P$4=\"All\",Data!G1776,IF(Data!K1776=Dashboard!$P$4,Data!G1776,NA()))","v":{"$error":"#N/A"}},"","","",{"$f":"IF(C1225<>\"\",Data!$M1776,\"\")","v":""},null,null,null,null,{"$f":"IF(Dashboard!$R$4=\"All\",Data!G1776,IF(Data!K1776=Dashboard!$R$4,Data!G1776,NA()))","v":{"$error":"#N/A"}},"","","",{"$f":"IF(L1225<>\"\",Data!$M1776,\"\")","v":""},null,null,null,null,{"$f":"IF(OR(Dashboard!$P$4=\"All\",Dashboard!$R$4=\"All\"),NA(),IF(OR(Data!K1776<>Dashboard!$P$4,Data!K1776<>Dashboard!$R$4),Data!G1776,NA()))","v":13603.016099449767}]
[null,{"$f":"IF(Dashboard!$P$4=\"All\",Data!G1777,IF(Data!K1777=Dashboard!$P$4,Data!G1777,NA()))","v":{"$error":"#N/A"}},"","","",{"$f":"IF(C1226<>\"\",Data!$M1777,\"\")","v":""},null,null,null,null,{"$f":"IF(Dashboard!$R$4=\"All\",Data!G1777,IF(Data!K1777=Dashboard!$R$4,Data!G1777,NA()))","v":{"$error":"#N/A"}},"","","",{"$f":"IF(L1226<>\"\",Data!$M1777,\"\")","v":""},null,null,null,null,{"$f":"IF(OR(Dashboard!$P$4=\"All\",Dashboard!$R$4=\"All\"),NA(),IF(OR(Data!K1777<>Dashboard!$P$4,Data!K1777<>Dashboard!$R$4),Data!G1777,NA()))","v":147886.90017838217}]
[null,{"$f":"IF(Dashboard!$P$4=\"All\",Data!G1778,IF(Data!K1778=Dashboard!$P$4,Data!G1778,NA()))","v":{"$error":"#N/A"}},"","","",{"$f":"IF(C1227<>\"\",Data!$M1778,\"\")","v":""},null,null,null,null,{"$f":"IF(Dashboard!$R$4=\"All\",Data!G1778,IF(Data!K1778=Dashboard!$R$4,Data!G1778,NA()))","v":{"$error":"#N/A"}},"","","",{"$f":"IF(L1227<>\"\",Data!$M1778,\"\")","v":""},null,null,null,null,{"$f":"IF(OR(Dashboard!$P$4=\"All\",Dashboard!$R$4=\"All\"),NA(),IF(OR(Data!K1778<>Dashboard!$P$4,Data!K1778<>Dashboard!$R$4),Data!G1778,NA()))","v":4986.216672483919}]
[null,{"$f":"IF(Dashboard!$P$4=\"All\",Data!G1779,IF(Data!K1779=Dashboard!$P$4,Data!G1779,NA()))","v":{"$error":"#N/A"}},"","","",{"$f":"IF(C1228<>\"\",Data!$M1779,\"\")","v":""},null,null,null,null,{"$f":"IF(Dashboard!$R$4=\"All\",Data!G1779,IF(Data!K1779=Dashboard!$R$4,Data!G1779,NA()))","v":{"$error":"#N/A"}},"","","",{"$f":"IF(L1228<>\"\",Data!$M1779,\"\")","v":""},null,null,null,null,{"$f":"IF(OR(Dashboard!$P$4=\"All\",Dashboard!$R$4=\"All\"),NA(),IF(OR(Data!K1779<>Dashboard!$P$4,Data!K1779<>Dashboard!$R$4),Data!G1779,NA()))","v":4800}]
[null,{"$f":"IF(Dashboard!$P$4=\"All\",Data!G1780,IF(Data!K1780=Dashboard!$P$4,Data!G1780,NA()))","v":{"$error":"#N/A"}},"","","",{"$f":"IF(C1229<>\"\",Data!$M1780,\"\")","v":""},null,null,null,null,{"$f":"IF(Dashboard!$R$4=\"All\",Data!G1780,IF(Data!K1780=Dashboard!$R$4,Data!G1780,NA()))","v":{"$error":"#N/A"}},"","","",{"$f":"IF(L1229<>\"\",Data!$M1780,\"\")","v":""},null,null,null,null,{"$f":"IF(OR(Dashboard!$P$4=\"All\",Dashboard!$R$4=\"All\"),NA(),IF(OR(Data!K1780<>Dashboard!$P$4,Data!K1780<>Dashboard!$R$4),Data!G1780,NA()))","v":8013.5625093491553}]
[null,{"$f":"IF(Dashboard!$P$4=\"All\",Data!G1781,IF(Data!K1781=Dashboard!$P$4,Data!G1781,NA()))","v":{"$error":"#N/A"}},"","","",{"$f":"IF(C1230<>\"\",Data!$M1781,\"\")","v":""},null,null,null,null,{"$f":"IF(Dashboard!$R$4=\"All\",Data!G1781,IF(Data!K1781=Dashboard!$R$4,Data!G1781,NA()))","v":{"$error":"#N/A"}},"","","",{"$f":"IF(L1230<>\"\",Data!$M1781,\"\")","v":""},null,null,null,null,{"$f":"IF(OR(Dashboard!$P$4=\"All\",Dashboard!$R$4=\"All\"),NA(),IF(OR(Data!K1781<>Dashboard!$P$4,Data!K1781<>Dashboard!$R$4),Data!G1781,NA()))","v":80000}]
[null,{"$f":"IF(Dashboard!$P$4=\"All\",Data!G1782,IF(Data!K1782=Dashboard!$P$4,Data!G1782,NA()))","v":57167.974754622352},57167.974754622352,"","",{"$f":"IF(C1231<>\"\",Data!$M1782,\"\")","v":14},null,null,null,null,{"$f":"IF(Dashboard!$R$4=\"All\",Data!G1782,IF(Data!K1782=Dashboard!$R$4,Data!G1782,NA()))","v":{"$error":"#N/A"}},"","","",{"$f":"IF(L1231<>\"\",Data!$M1782,\"\")","v":""},null,null,null,null,{"$f":"IF(OR(Dashboard!$P$4=\"All\",Dashboard!$R$4=\"All\"),NA(),IF(OR(Data!K1782<>Dashboard!$P$4,Data!K1782<>Dashboard!$R$4),Data!G1782,NA()))","v":57167.974754622352}]
[null,{"$f":"IF(Dashboard!$P$4=\"All\",Data!G1783,IF(Data!K1783=Dashboard!$P$4,Data!G1783,NA()))","v":{"$error":"#N/A"}},"","","",{"$f":"IF(C1232<>\"\",Data!$M1783,\"\")","v":""},null,null,null,null,{"$f":"IF(Dashboard!$R$4=\"All\",Data!G1783,IF(Data!K1783=Dashboard!$R$4,Data!G1783,NA()))","v":{"$error":"#N/A"}},"","","",{"$f":"IF(L1232<>\"\",Data!$M1783,\"\")","v":""},null,null,null,null,{"$f":"IF(OR(Dashboard!$P$4=\"All\",Dashboard!$R$4=\"All\"),NA(),IF(OR(Data!K1783<>Dashboard!$P$4,Data!K1783<>Dashboard!$R$4),Data!G1783,NA()))","v":20000}]
[null,{"$f":"IF(Dashboard!$P$4=\"All\",Data!G1784,IF(Data!K1784=Dashboard!$P$4,Data!G1784,NA()))","v":{"$error":"#N/A"}},"","","",{"$f":"IF(C1233<>\"\",Data!$M1784,\"\")","v":""},null,null,null,null,{"$f":"IF(Dashboard!$R$4=\"All\",Data!G1784,IF(Data!K1784=Dashboard!$R$4,Data!G1784,NA()))","v":{"$error":"#N/A"}},"","","",{"$f":"IF(L1233<>\"\",Data!$M1784,\"\")","v":""},null,null,null,null,{"$f":"IF(OR(Dashboard!$P$4=\"All\",Dashboard!$R$4=\"All\"),NA(),IF(OR(Data!K1784<>Dashboard!$P$4,Data!K1784<>Dashboard!$R$4),Data!G1784,NA()))","v":70000}]
[null,{"$f":"IF(Dashboard!$P$4=\"All\",Data!G1785,IF(Data!K1785=Dashboard!$P$4,Data!G1785,NA()))","v":{"$error":"#N/A"}},"","","",{"$f":"IF(C1234<>\"\",Data!$M1785,\"\")","v":""},null,null,null,null,{"$f":"IF(Dashboard!$R$4=\"All\",Data!G1785,IF(Data!K1785=Dashboard!$R$4,Data!G1785,NA()))","v":{"$error":"#N/A"}},"","","",{"$f":"IF(L1234<>\"\",Data!$M1785,\"\")","v":""},null,null,null,null,{"$f":"IF(OR(Dashboard!$P$4=\"All\",Dashboard!$R$4=\"All\"),NA(),IF(OR(Data!K1785<>Dashboard!$P$4,Data!K1785<>Dashboard!$R$4),Data!G1785,NA()))","v":214000}]
[null,{"$f":"IF(Dashboard!$P$4=\"All\",Data!G1786,IF(Data!K1786=Dashboard!$P$4,Data!G1786,NA()))","v":{"$error":"#N/A"}},"","","",{"$f":"IF(C1235<>\"\",Data!$M1786,\"\")","v":""},null,null,null,null,{"$f":"IF(Dashboard!$R$4=\"All\",Data!G1786,IF(Data!K1786=Dashboard!$R$4,Data!G1786,NA()))","v":{"$error":"#N/A"}},"","","",{"$f":"IF(L1235<>\"\",Data!$M1786,\"\")","v":""},null,null,null,null,{"$f":"IF(OR(Dashboard!$P$4=\"All\",Dashboard!$R$4=\"All\"),NA(),IF(OR(Data!K1786<>Dashboard!$P$4,Data!K1786<>Dashboard!$R$4),Data!G1786,NA()))","v":78000}]
[null,{"$f":"IF(Dashboard!$P$4=\"All\",Data!G1787,IF(Data!K1787=Dashboard!$P$4,Data!G1787,NA()))","v":{"$error":"#N/A"}},"","","",{"$f":"IF(C1236<>\"\",Data!$M1787,\"\")","v":""},null,null,null,null,{"$f":"IF(Dashboard!$R$4=\"All\",Data!G1787,IF(Data!K1787=Dashboard!$R$4,Data!G1787,NA()))","v":{"$error":"#N/A"}},"","","",{"$f":"IF(L1236<>\"\",Data!$M1787,\"\")","v":""},null,null,null,null,{"$f":"IF(OR(Dashboard!$P$4=\"All\",Dashboard!$R$4=\"All\"),NA(),IF(OR(Data!K1787<>Dashboard!$P$4,Data!K1787<>Dashboard!$R$4),Data!G1787,NA()))","v":42307}]
[null,{"$f":"IF(Dashboard!$P$4=\"All\",Data!G1788,IF(Data!K1788=Dashboard!$P$4,Data!G1788,NA()))","v":{"$error":"#N/A"}},"","","",{"$f":"IF(C1237<>\"\",Data!$M1788,\"\")","v":""},null,null,null,null,{"$f":"IF(Dashboard!$R$4=\"All\",Data!G1788,IF(Data!K1788=Dashboard!$R$4,Data!G1788,NA()))","v":{"$error":"#N/A"}},"","","",{"$f":"IF(L1237<>\"\",Data!$M1788,\"\")","v":""},null,null,null,null,{"$f":"IF(OR(Dashboard!$P$4=\"All\",Dashboard!$R$4=\"All\"),NA(),IF(OR(Data!K1788<>Dashboard!$P$4,Data!K1788<>Dashboard!$R$4),Data!G1788,NA()))","v":33250}]
[null,{"$f":"IF(Dashboard!$P$4=\"All\",Data!G1789,IF(Data!K1789=Dashboard!$P$4,Data!G1789,NA()))","v":{"$error":"#N/A"}},"","","",{"$f":"IF(C1238<>\"\",Data!$M1789,\"\")","v":""},null,null,null,null,{"$f":"IF(Dashboard!$R$4=\"All\",Data!G1789,IF(Data!K1789=Dashboard!$R$4,Data!G1789,NA()))","v":{"$error":"#N/A"}},"","","",{"$f":"IF(L1238<>\"\",Data!$M1789,\"\")","v":""},null,null,null,null,{"$f":"IF(OR(Dashboard!$P$4=\"All\",Dashboard!$R$4=\"All\"),NA(),IF(OR(Data!K1789<>Dashboard!$P$4,Data!K1789<>Dashboard!$R$4),Data!G1789,NA()))","v":24391.669228638868}]
[null,{"$f":"IF(Dashboard!$P$4=\"All\",Data!G1790,IF(Data!K1790=Dashboard!$P$4,Data!G1790,NA()))","v":{"$error":"#N/A"}},"","","",{"$f":"IF(C1239<>\"\",Data!$M1790,\"\")","v":""},null,null,null,null,{"$f":"IF(Dashboard!$R$4=\"All\",Data!G1790,IF(Data!K1790=Dashboard!$R$4,Data!G1790,NA()))","v":{"$error":"#N/A"}},"","","",{"$f":"IF(L1239<>\"\",Data!$M1790,\"\")","v":""},null,null,null,null,{"$f":"IF(OR(Dashboard!$P$4=\"All\",Dashboard!$R$4=\"All\"),NA(),IF(OR(Data!K1790<>Dashboard!$P$4,Data!K1790<>Dashboard!$R$4),Data!G1790,NA()))","v":120000}]
[null,{"$f":"IF(Dashboard!$P$4=\"All\",Data!G1791,IF(Data!K1791=Dashboard!$P$4,Data!G1791,NA()))","v":{"$error":"#N/A"}},"","","",{"$f":"IF(C1240<>\"\",Data!$M1791,\"\")","v":""},null,null,null,null,{"$f":"IF(Dashboard!$R$4=\"All\",Data!G1791,IF(Data!K1791=Dashboard!$R$4,Data!G1791,NA()))","v":{"$error":"#N/A"}},"","","",{"$f":"IF(L1240<>\"\",Data!$M1791,\"\")","v":""},null,null,null,null,{"$f":"IF(OR(Dashboard!$P$4=\"All\",Dashboard!$R$4=\"All\"),NA(),IF(OR(Data!K1791<>Dashboard!$P$4,Data!K1791<>Dashboard!$R$4),Data!G1791,NA()))","v":20000}]
[null,{"$f":"IF(Dashboard!$P$4=\"All\",Data!G1792,IF(Data!K1792=Dashboard!$P$4,Data!G1792,NA()))","v":{"$error":"#N/A"}},"","","",{"$f":"IF(C1241<>\"\",Data!$M1792,\"\")","v":""},null,null,null,null,{"$f":"IF(Dashboard!$R$4=\"All\",Data!G1792,IF(Data!K1792=Dashboard!$R$4,Data!G1792,NA()))","v":{"$error":"#N/A"}},"","","",{"$f":"IF(L1241<>\"\",Data!$M1792,\"\")","v":""},null,null,null,null,{"$f":"IF(OR(Dashboard!$P$4=\"All\",Dashboard!$R$4=\"All\"),NA(),IF(OR(Data!K1792<>Dashboard!$P$4,Data!K1792<>Dashboard!$R$4),Data!G1792,NA()))","v":15000}]
[null,{"$f":"IF(Dashboard!$P$4=\"All\",Data!G1793,IF(Data!K1793=Dashboard!$P$4,Data!G1793,NA()))","v":{"$error":"#N/A"}},"","","",{"$f":"IF(C1242<>\"\",Data!$M1793,\"\")","v":""},null,null,null,null,{"$f":"IF(Dashboard!$R$4=\"All\",Data!G1793,IF(Data!K1793=Dashboard!$R$4,Data!G1793,NA()))","v":{"$error":"#N/A"}},"","","",{"$f":"IF(L1242<>\"\",Data!$M1793,\"\")","v":""},null,null,null,null,{"$f":"IF(OR(Dashboard!$P$4=\"All\",Dashboard!$R$4=\"All\"),NA(),IF(OR(Data!K1793<>Dashboard!$P$4,Data!K1793<>Dashboard!$R$4),Data!G1793,NA()))","v":17807.916687442568}]
[null,{"$f":"IF(Dashboard!$P$4=\"All\",Data!G1794,IF(Data!K1794=Dashboard!$P$4,Data!G1794,NA()))","v":{"$error":"#N/A"}},"","","",{"$f":"IF(C1243<>\"\",Data!$M1794,\"\")","v":""},null,null,null,null,{"$f":"IF(Dashboard!$R$4=\"All\",Data!G1794,IF(Data!K1794=Dashboard!$R$4,Data!G1794,NA()))","v":{"$error":"#N/A"}},"","","",{"$f":"IF(L1243<>\"\",Data!$M1794,\"\")","v":""},null,null,null,null,{"$f":"IF(OR(Dashboard!$P$4=\"All\",Dashboard!$R$4=\"All\"),NA(),IF(OR(Data!K1794<>Dashboard!$P$4,Data!K1794<>Dashboard!$R$4),Data!G1794,NA()))","v":16027.125018698311}]
[null,{"$f":"IF(Dashboard!$P$4=\"All\",Data!G1795,IF(Data!K1795=Dashboard!$P$4,Data!G1795,NA()))","v":{"$error":"#N/A"}},"","","",{"$f":"IF(C1244<>\"\",Data!$M1795,\"\")","v":""},null,null,null,null,{"$f":"IF(Dashboard!$R$4=\"All\",Data!G1795,IF(Data!K1795=Dashboard!$R$4,Data!G1795,NA()))","v":56742.417794422225},56742.417794422225,"","",{"$f":"IF(L1244<>\"\",Data!$M1795,\"\")","v":7},null,null,null,null,{"$f":"IF(OR(Dashboard!$P$4=\"All\",Dashboard!$R$4=\"All\"),NA(),IF(OR(Data!K1795<>Dashboard!$P$4,Data!K1795<>Dashboard!$R$4),Data!G1795,NA()))","v":56742.417794422225}]
[null,{"$f":"IF(Dashboard!$P$4=\"All\",Data!G1796,IF(Data!K1796=Dashboard!$P$4,Data!G1796,NA()))","v":{"$error":"#N/A"}},"","","",{"$f":"IF(C1245<>\"\",Data!$M1796,\"\")","v":""},null,null,null,null,{"$f":"IF(Dashboard!$R$4=\"All\",Data!G1796,IF(Data!K1796=Dashboard!$R$4,Data!G1796,NA()))","v":{"$error":"#N/A"}},"","","",{"$f":"IF(L1245<>\"\",Data!$M1796,\"\")","v":""},null,null,null,null,{"$f":"IF(OR(Dashboard!$P$4=\"All\",Dashboard!$R$4=\"All\"),NA(),IF(OR(Data!K1796<>Dashboard!$P$4,Data!K1796<>Dashboard!$R$4),Data!G1796,NA()))","v":21369.500024931083}]
[null,{"$f":"IF(Dashboard!$P$4=\"All\",Data!G1797,IF(Data!K1797=Dashboard!$P$4,Data!G1797,NA()))","v":{"$error":"#N/A"}},"","","",{"$f":"IF(C1246<>\"\",Data!$M1797,\"\")","v":""},null,null,null,null,{"$f":"IF(Dashboard!$R$4=\"All\",Data!G1797,IF(Data!K1797=Dashboard!$R$4,Data!G1797,NA()))","v":{"$error":"#N/A"}},"","","",{"$f":"IF(L1246<>\"\",Data!$M1797,\"\")","v":""},null,null,null,null,{"$f":"IF(OR(Dashboard!$P$4=\"All\",Dashboard!$R$4=\"All\"),NA(),IF(OR(Data!K1797<>Dashboard!$P$4,Data!K1797<>Dashboard!$R$4),Data!G1797,NA()))","v":7568.3645921630914}]
[null,{"$f":"IF(Dashboard!$P$4=\"All\",Data!G1798,IF(Data!K1798=Dashboard!$P$4,Data!G1798,NA()))","v":{"$error":"#N/A"}},"","","",{"$f":"IF(C1247<>\"\",Data!$M1798,\"\")","v":""},null,null,null,null,{"$f":"IF(Dashboard!$R$4=\"All\",Data!G1798,IF(Data!K1798=Dashboard!$R$4,Data!G1798,NA()))","v":78808.913603364199},78808.913603364199,"","",{"$f":"IF(L1247<>\"\",Data!$M1798,\"\")","v":10},null,null,null,null,{"$f":"IF(OR(Dashboard!$P$4=\"All\",Dashboard!$R$4=\"All\"),NA(),IF(OR(Data!K1798<>Dashboard!$P$4,Data!K1798<>Dashboard!$R$4),Data!G1798,NA()))","v":78808.913603364199}]
[null,{"$f":"IF(Dashboard!$P$4=\"All\",Data!G1799,IF(Data!K1799=Dashboard!$P$4,Data!G1799,NA()))","v":{"$error":"#N/A"}},"","","",{"$f":"IF(C1248<>\"\",Data!$M1799,\"\")","v":""},null,null,null,null,{"$f":"IF(Dashboard!$R$4=\"All\",Data!G1799,IF(Data!K1799=Dashboard!$R$4,Data!G1799,NA()))","v":{"$error":"#N/A"}},"","","",{"$f":"IF(L1248<>\"\",Data!$M1799,\"\")","v":""},null,null,null,null,{"$f":"IF(OR(Dashboard!$P$4=\"All\",Dashboard!$R$4=\"All\"),NA(),IF(OR(Data!K1799<>Dashboard!$P$4,Data!K1799<>Dashboard!$R$4),Data!G1799,NA()))","v":60000}]
[null,{"$f":"IF(Dashboard!$P$4=\"All\",Data!G1800,IF(Data!K1800=Dashboard!$P$4,Data!G1800,NA()))","v":{"$error":"#N/A"}},"","","",{"$f":"IF(C1249<>\"\",Data!$M1800,\"\")","v":""},null,null,null,null,{"$f":"IF(Dashboard!$R$4=\"All\",Data!G1800,IF(Data!K1800=Dashboard!$R$4,Data!G1800,NA()))","v":{"$error":"#N/A"}},"","","",{"$f":"IF(L1249<>\"\",Data!$M1800,\"\")","v":""},null,null,null,null,{"$f":"IF(OR(Dashboard!$P$4=\"All\",Dashboard!$R$4=\"All\"),NA(),IF(OR(Data!K1800<>Dashboard!$P$4,Data!K1800<>Dashboard!$R$4),Data!G1800,NA()))","v":57000}]
[null,{"$f":"IF(Dashboard!$P$4=\"All\",Data!G1801,IF(Data!K1801=Dashboard!$P$4,Data!G1801,NA()))","v":{"$error":"#N/A"}},"","","",{"$f":"IF(C1250<>\"\",Data!$M1801,\"\")","v":""},null,null,null,null,{"$f":"IF(Dashboard!$R$4=\"All\",Data!G1801,IF(Data!K1801=Dashboard!$R$4,Data!G1801,NA()))","v":{"$error":"#N/A"}},"","","",{"$f":"IF(L1250<>\"\",Data!$M1801,\"\")","v":""},null,null,null,null,{"$f":"IF(OR(Dashboard!$P$4=\"All\",Dashboard!$R$4=\"All\"),NA(),IF(OR(Data!K1801<>Dashboard!$P$4,Data!K1801<>Dashboard!$R$4),Data!G1801,NA()))","v":40000}]
[null,{"$f":"IF(Dashboard!$P$4=\"All\",Data!G1802,IF(Data!K1802=Dashboard!$P$4,Data!G1802,NA()))","v":{"$error":"#N/A"}},"","","",{"$f":"IF(C1251<>\"\",Data!$M1802,\"\")","v":""},null,null,null,null,{"$f":"IF(Dashboard!$R$4=\"All\",Data!G1802,IF(Data!K1802=Dashboard!$R$4,Data!G1802,NA()))","v":{"$error":"#N/A"}},"","","",{"$f":"IF(L1251<>\"\",Data!$M1802,\"\")","v":""},null,null,null,null,{"$f":"IF(OR(Dashboard!$P$4=\"All\",Dashboard!$R$4=\"All\"),NA(),IF(OR(Data!K1802<>Dashboard!$P$4,Data!K1802<>Dashboard!$R$4),Data!G1802,NA()))","v":80000}]
[null,{"$f":"IF(Dashboard!$P$4=\"All\",Data!G1803,IF(Data!K1803=Dashboard!$P$4,Data!G1803,NA()))","v":{"$error":"#N/A"}},"","","",{"$f":"IF(C1252<>\"\",Data!$M1803,\"\")","v":""},null,null,null,null,{"$f":"IF(Dashboard!$R$4=\"All\",Data!G1803,IF(Data!K1803=Dashboard!$R$4,Data!G1803,NA()))","v":{"$error":"#N/A"}},"","","",{"$f":"IF(L1252<>\"\",Data!$M1803,\"\")","v":""},null,null,null,null,{"$f":"IF(OR(Dashboard!$P$4=\"All\",Dashboard!$R$4=\"All\"),NA(),IF(OR(Data!K1803<>Dashboard!$P$4,Data!K1803<>Dashboard!$R$4),Data!G1803,NA()))","v":118000}]
[null,{"$f":"IF(Dashboard!$P$4=\"All\",Data!G1804,IF(Data!K1804=Dashboard!$P$4,Data!G1804,NA()))","v":{"$error":"#N/A"}},"","","",{"$f":"IF(C1253<>\"\",Data!$M1804,\"\")","v":""},null,null,null,null,{"$f":"IF(Dashboard!$R$4=\"All\",Data!G1804,IF(Data!K1804=Dashboard!$R$4,Data!G1804,NA()))","v":{"$error":"#N/A"}},"","","",{"$f":"IF(L1253<>\"\",Data!$M1804,\"\")","v":""},null,null,null,null,{"$f":"IF(OR(Dashboard!$P$4=\"All\",Dashboard!$R$4=\"All\"),NA(),IF(OR(Data!K1804<>Dashboard!$P$4,Data!K1804<>Dashboard!$R$4),Data!G1804,NA()))","v":60000}]
[null,{"$f":"IF(Dashboard!$P$4=\"All\",Data!G1805,IF(Data!K1805=Dashboard!$P$4,Data!G1805,NA()))","v":{"$error":"#N/A"}},"","","",{"$f":"IF(C1254<>\"\",Data!$M1805,\"\")","v":""},null,null,null,null,{"$f":"IF(Dashboard!$R$4=\"All\",Data!G1805,IF(Data!K1805=Dashboard!$R$4,Data!G1805,NA()))","v":{"$error":"#N/A"}},"","","",{"$f":"IF(L1254<>\"\",Data!$M1805,\"\")","v":""},null,null,null,null,{"$f":"IF(OR(Dashboard!$P$4=\"All\",Dashboard!$R$4=\"All\"),NA(),IF(OR(Data!K1805<>Dashboard!$P$4,Data!K1805<>Dashboard!$R$4),Data!G1805,NA()))","v":6720}]
[null,{"$f":"IF(Dashboard!$P$4=\"All\",Data!G1806,IF(Data!K1806=Dashboard!$P$4,Data!G1806,NA()))","v":{"$error":"#N/A"}},"","","",{"$f":"IF(C1255<>\"\",Data!$M1806,\"\")","v":""},null,null,null,null,{"$f":"IF(Dashboard!$R$4=\"All\",Data!G1806,IF(Data!K1806=Dashboard!$R$4,Data!G1806,NA()))","v":{"$error":"#N/A"}},"","","",{"$f":"IF(L1255<>\"\",Data!$M1806,\"\")","v":""},null,null,null,null,{"$f":"IF(OR(Dashboard!$P$4=\"All\",Dashboard!$R$4=\"All\"),NA(),IF(OR(Data!K1806<>Dashboard!$P$4,Data!K1806<>Dashboard!$R$4),Data!G1806,NA()))","v":20640}]
[null,{"$f":"IF(Dashboard!$P$4=\"All\",Data!G1807,IF(Data!K1807=Dashboard!$P$4,Data!G1807,NA()))","v":{"$error":"#N/A"}},"","","",{"$f":"IF(C1256<>\"\",Data!$M1807,\"\")","v":""},null,null,null,null,{"$f":"IF(Dashboard!$R$4=\"All\",Data!G1807,IF(Data!K1807=Dashboard!$R$4,Data!G1807,NA()))","v":{"$error":"#N/A"}},"","","",{"$f":"IF(L1256<>\"\",Data!$M1807,\"\")","v":""},null,null,null,null,{"$f":"IF(OR(Dashboard!$P$4=\"All\",Dashboard!$R$4=\"All\"),NA(),IF(OR(Data!K1807<>Dashboard!$P$4,Data!K1807<>Dashboard!$R$4),Data!G1807,NA()))","v":50000}]
[null,{"$f":"IF(Dashboard!$P$4=\"All\",Data!G1808,IF(Data!K1808=Dashboard!$P$4,Data!G1808,NA()))","v":{"$error":"#N/A"}},"","","",{"$f":"IF(C1257<>\"\",Data!$M1808,\"\")","v":""},null,null,null,null,{"$f":"IF(Dashboard!$R$4=\"All\",Data!G1808,IF(Data!K1808=Dashboard!$R$4,Data!G1808,NA()))","v":{"$error":"#N/A"}},"","","",{"$f":"IF(L1257<>\"\",Data!$M1808,\"\")","v":""},null,null,null,null,{"$f":"IF(OR(Dashboard!$P$4=\"All\",Dashboard!$R$4=\"All\"),NA(),IF(OR(Data!K1808<>Dashboard!$P$4,Data!K1808<>Dashboard!$R$4),Data!G1808,NA()))","v":24000}]
[null,{"$f":"IF(Dashboard!$P$4=\"All\",Data!G1809,IF(Data!K1809=Dashboard!$P$4,Data!G1809,NA()))","v":{"$error":"#N/A"}},"","","",{"$f":"IF(C1258<>\"\",Data!$M1809,\"\")","v":""},null,null,null,null,{"$f":"IF(Dashboard!$R$4=\"All\",Data!G1809,IF(Data!K1809=Dashboard!$R$4,Data!G1809,NA()))","v":{"$error":"#N/A"}},"","","",{"$f":"IF(L1258<>\"\",Data!$M1809,\"\")","v":""},null,null,null,null,{"$f":"IF(OR(Dashboard!$P$4=\"All\",Dashboard!$R$4=\"All\"),NA(),IF(OR(Data!K1809<>Dashboard!$P$4,Data!K1809<>Dashboard!$R$4),Data!G1809,NA()))","v":60000}]
[null,{"$f":"IF(Dashboard!$P$4=\"All\",Data!G1810,IF(Data!K1810=Dashboard!$P$4,Data!G1810,NA()))","v":{"$error":"#N/A"}},"","","",{"$f":"IF(C1259<>\"\",Data!$M1810,\"\")","v":""},null,null,null,null,{"$f":"IF(Dashboard!$R$4=\"All\",Data!G1810,IF(Data!K1810=Dashboard!$R$4,Data!G1810,NA()))","v":{"$error":"#N/A"}},"","","",{"$f":"IF(L1259<>\"\",Data!$M1810,\"\")","v":""},null,null,null,null,{"$f":"IF(OR(Dashboard!$P$4=\"All\",Dashboard!$R$4=\"All\"),NA(),IF(OR(Data!K1810<>Dashboard!$P$4,Data!K1810<>Dashboard!$R$4),Data!G1810,NA()))","v":37500}]
[null,{"$f":"IF(Dashboard!$P$4=\"All\",Data!G1811,IF(Data!K1811=Dashboard!$P$4,Data!G1811,NA()))","v":{"$error":"#N/A"}},"","","",{"$f":"IF(C1260<>\"\",Data!$M1811,\"\")","v":""},null,null,null,null,{"$f":"IF(Dashboard!$R$4=\"All\",Data!G1811,IF(Data!K1811=Dashboard!$R$4,Data!G1811,NA()))","v":{"$error":"#N/A"}},"","","",{"$f":"IF(L1260<>\"\",Data!$M1811,\"\")","v":""},null,null,null,null,{"$f":"IF(OR(Dashboard!$P$4=\"All\",Dashboard!$R$4=\"All\"),NA(),IF(OR(Data!K1811<>Dashboard!$P$4,Data!K1811<>Dashboard!$R$4),Data!G1811,NA()))","v":40000}]
[null,{"$f":"IF(Dashboard!$P$4=\"All\",Data!G1812,IF(Data!K1812=Dashboard!$P$4,Data!G1812,NA()))","v":{"$error":"#N/A"}},"","","",{"$f":"IF(C1261<>\"\",Data!$M1812,\"\")","v":""},null,null,null,null,{"$f":"IF(Dashboard!$R$4=\"All\",Data!G1812,IF(Data!K1812=Dashboard!$R$4,Data!G1812,NA()))","v":{"$error":"#N/A"}},"","","",{"$f":"IF(L1261<>\"\",Data!$M1812,\"\")","v":""},null,null,null,null,{"$f":"IF(OR(Dashboard!$P$4=\"All\",Dashboard!$R$4=\"All\"),NA(),IF(OR(Data!K1812<>Dashboard!$P$4,Data!K1812<>Dashboard!$R$4),Data!G1812,NA()))","v":85000}]
[null,{"$f":"IF(Dashboard!$P$4=\"All\",Data!G1813,IF(Data!K1813=Dashboard!$P$4,Data!G1813,NA()))","v":{"$error":"#N/A"}},"","","",{"$f":"IF(C1262<>\"\",Data!$M1813,\"\")","v":""},null,null,null,null,{"$f":"IF(Dashboard!$R$4=\"All\",Data!G1813,IF(Data!K1813=Dashboard!$R$4,Data!G1813,NA()))","v":{"$error":"#N/A"}},"","","",{"$f":"IF(L1262<>\"\",Data!$M1813,\"\")","v":""},null,null,null,null,{"$f":"IF(OR(Dashboard!$P$4=\"All\",Dashboard!$R$4=\"All\"),NA(),IF(OR(Data!K1813<>Dashboard!$P$4,Data!K1813<>Dashboard!$R$4),Data!G1813,NA()))","v":30000}]
[null,{"$f":"IF(Dashboard!$P$4=\"All\",Data!G1814,IF(Data!K1814=Dashboard!$P$4,Data!G1814,NA()))","v":{"$error":"#N/A"}},"","","",{"$f":"IF(C1263<>\"\",Data!$M1814,\"\")","v":""},null,null,null,null,{"$f":"IF(Dashboard!$R$4=\"All\",Data!G1814,IF(Data!K1814=Dashboard!$R$4,Data!G1814,NA()))","v":52801.972114254015},52801.972114254015,"","",{"$f":"IF(L1263<>\"\",Data!$M1814,\"\")","v":7},null,null,null,null,{"$f":"IF(OR(Dashboard!$P$4=\"All\",Dashboard!$R$4=\"All\"),NA(),IF(OR(Data!K1814<>Dashboard!$P$4,Data!K1814<>Dashboard!$R$4),Data!G1814,NA()))","v":52801.972114254015}]
[null,{"$f":"IF(Dashboard!$P$4=\"All\",Data!G1815,IF(Data!K1815=Dashboard!$P$4,Data!G1815,NA()))","v":{"$error":"#N/A"}},"","","",{"$f":"IF(C1264<>\"\",Data!$M1815,\"\")","v":""},null,null,null,null,{"$f":"IF(Dashboard!$R$4=\"All\",Data!G1815,IF(Data!K1815=Dashboard!$R$4,Data!G1815,NA()))","v":{"$error":"#N/A"}},"","","",{"$f":"IF(L1264<>\"\",Data!$M1815,\"\")","v":""},null,null,null,null,{"$f":"IF(OR(Dashboard!$P$4=\"All\",Dashboard!$R$4=\"All\"),NA(),IF(OR(Data!K1815<>Dashboard!$P$4,Data!K1815<>Dashboard!$R$4),Data!G1815,NA()))","v":29000}]
[null,{"$f":"IF(Dashboard!$P$4=\"All\",Data!G1816,IF(Data!K1816=Dashboard!$P$4,Data!G1816,NA()))","v":{"$error":"#N/A"}},"","","",{"$f":"IF(C1265<>\"\",Data!$M1816,\"\")","v":""},null,null,null,null,{"$f":"IF(Dashboard!$R$4=\"All\",Data!G1816,IF(Data!K1816=Dashboard!$R$4,Data!G1816,NA()))","v":{"$error":"#N/A"}},"","","",{"$f":"IF(L1265<>\"\",Data!$M1816,\"\")","v":""},null,null,null,null,{"$f":"IF(OR(Dashboard!$P$4=\"All\",Dashboard!$R$4=\"All\"),NA(),IF(OR(Data!K1816<>Dashboard!$P$4,Data!K1816<>Dashboard!$R$4),Data!G1816,NA()))","v":48000}]
[null,{"$f":"IF(Dashboard!$P$4=\"All\",Data!G1817,IF(Data!K1817=Dashboard!$P$4,Data!G1817,NA()))","v":{"$error":"#N/A"}},"","","",{"$f":"IF(C1266<>\"\",Data!$M1817,\"\")","v":""},null,null,null,null,{"$f":"IF(Dashboard!$R$4=\"All\",Data!G1817,IF(Data!K1817=Dashboard!$R$4,Data!G1817,NA()))","v":{"$error":"#N/A"}},"","","",{"$f":"IF(L1266<>\"\",Data!$M1817,\"\")","v":""},null,null,null,null,{"$f":"IF(OR(Dashboard!$P$4=\"All\",Dashboard!$R$4=\"All\"),NA(),IF(OR(Data!K1817<>Dashboard!$P$4,Data!K1817<>Dashboard!$R$4),Data!G1817,NA()))","v":48000}]
[null,{"$f":"IF(Dashboard!$P$4=\"All\",Data!G1818,IF(Data!K1818=Dashboard!$P$4,Data!G1818,NA()))","v":{"$error":"#N/A"}},"","","",{"$f":"IF(C1267<>\"\",Data!$M1818,\"\")","v":""},null,null,null,null,{"$f":"IF(Dashboard!$R$4=\"All\",Data!G1818,IF(Data!K1818=Dashboard!$R$4,Data!G1818,NA()))","v":{"$error":"#N/A"}},"","","",{"$f":"IF(L1267<>\"\",Data!$M1818,\"\")","v":""},null,null,null,null,{"$f":"IF(OR(Dashboard!$P$4=\"All\",Dashboard!$R$4=\"All\"),NA(),IF(OR(Data!K1818<>Dashboard!$P$4,Data!K1818<>Dashboard!$R$4),Data!G1818,NA()))","v":8400}]
[null,{"$f":"IF(Dashboard!$P$4=\"All\",Data!G1819,IF(Data!K1819=Dashboard!$P$4,Data!G1819,NA()))","v":{"$error":"#N/A"}},"","","",{"$f":"IF(C1268<>\"\",Data!$M1819,\"\")","v":""},null,null,null,null,{"$f":"IF(Dashboard!$R$4=\"All\",Data!G1819,IF(Data!K1819=Dashboard!$R$4,Data!G1819,NA()))","v":{"$error":"#N/A"}},"","","",{"$f":"IF(L1268<>\"\",Data!$M1819,\"\")","v":""},null,null,null,null,{"$f":"IF(OR(Dashboard!$P$4=\"All\",Dashboard!$R$4=\"All\"),NA(),IF(OR(Data!K1819<>Dashboard!$P$4,Data!K1819<>Dashboard!$R$4),Data!G1819,NA()))","v":4808.137505609493}]
[null,{"$f":"IF(Dashboard!$P$4=\"All\",Data!G1820,IF(Data!K1820=Dashboard!$P$4,Data!G1820,NA()))","v":{"$error":"#N/A"}},"","","",{"$f":"IF(C1269<>\"\",Data!$M1820,\"\")","v":""},null,null,null,null,{"$f":"IF(Dashboard!$R$4=\"All\",Data!G1820,IF(Data!K1820=Dashboard!$R$4,Data!G1820,NA()))","v":{"$error":"#N/A"}},"","","",{"$f":"IF(L1269<>\"\",Data!$M1820,\"\")","v":""},null,null,null,null,{"$f":"IF(OR(Dashboard!$P$4=\"All\",Dashboard!$R$4=\"All\"),NA(),IF(OR(Data!K1820<>Dashboard!$P$4,Data!K1820<>Dashboard!$R$4),Data!G1820,NA()))","v":24931.083362419595}]
[null,{"$f":"IF(Dashboard!$P$4=\"All\",Data!G1821,IF(Data!K1821=Dashboard!$P$4,Data!G1821,NA()))","v":{"$error":"#N/A"}},"","","",{"$f":"IF(C1270<>\"\",Data!$M1821,\"\")","v":""},null,null,null,null,{"$f":"IF(Dashboard!$R$4=\"All\",Data!G1821,IF(Data!K1821=Dashboard!$R$4,Data!G1821,NA()))","v":{"$error":"#N/A"}},"","","",{"$f":"IF(L1270<>\"\",Data!$M1821,\"\")","v":""},null,null,null,null,{"$f":"IF(OR(Dashboard!$P$4=\"All\",Dashboard!$R$4=\"All\"),NA(),IF(OR(Data!K1821<>Dashboard!$P$4,Data!K1821<>Dashboard!$R$4),Data!G1821,NA()))","v":12465.541681209797}]
[null,{"$f":"IF(Dashboard!$P$4=\"All\",Data!G1822,IF(Data!K1822=Dashboard!$P$4,Data!G1822,NA()))","v":{"$error":"#N/A"}},"","","",{"$f":"IF(C1271<>\"\",Data!$M1822,\"\")","v":""},null,null,null,null,{"$f":"IF(Dashboard!$R$4=\"All\",Data!G1822,IF(Data!K1822=Dashboard!$R$4,Data!G1822,NA()))","v":31523.565441345683},31523.565441345683,"",31523.565441345683,{"$f":"IF(L1271<>\"\",Data!$M1822,\"\")","v":10},null,null,null,null,{"$f":"IF(OR(Dashboard!$P$4=\"All\",Dashboard!$R$4=\"All\"),NA(),IF(OR(Data!K1822<>Dashboard!$P$4,Data!K1822<>Dashboard!$R$4),Data!G1822,NA()))","v":31523.565441345683}]
[null,{"$f":"IF(Dashboard!$P$4=\"All\",Data!G1823,IF(Data!K1823=Dashboard!$P$4,Data!G1823,NA()))","v":{"$error":"#N/A"}},"","","",{"$f":"IF(C1272<>\"\",Data!$M1823,\"\")","v":""},null,null,null,null,{"$f":"IF(Dashboard!$R$4=\"All\",Data!G1823,IF(Data!K1823=Dashboard!$R$4,Data!G1823,NA()))","v":{"$error":"#N/A"}},"","","",{"$f":"IF(L1272<>\"\",Data!$M1823,\"\")","v":""},null,null,null,null,{"$f":"IF(OR(Dashboard!$P$4=\"All\",Dashboard!$R$4=\"All\"),NA(),IF(OR(Data!K1823<>Dashboard!$P$4,Data!K1823<>Dashboard!$R$4),Data!G1823,NA()))","v":17807.916687442568}]
[null,{"$f":"IF(Dashboard!$P$4=\"All\",Data!G1824,IF(Data!K1824=Dashboard!$P$4,Data!G1824,NA()))","v":{"$error":"#N/A"}},"","","",{"$f":"IF(C1273<>\"\",Data!$M1824,\"\")","v":""},null,null,null,null,{"$f":"IF(Dashboard!$R$4=\"All\",Data!G1824,IF(Data!K1824=Dashboard!$R$4,Data!G1824,NA()))","v":{"$error":"#N/A"}},"","","",{"$f":"IF(L1273<>\"\",Data!$M1824,\"\")","v":""},null,null,null,null,{"$f":"IF(OR(Dashboard!$P$4=\"All\",Dashboard!$R$4=\"All\"),NA(),IF(OR(Data!K1824<>Dashboard!$P$4,Data!K1824<>Dashboard!$R$4),Data!G1824,NA()))","v":112000}]
[null,{"$f":"IF(Dashboard!$P$4=\"All\",Data!G1825,IF(Data!K1825=Dashboard!$P$4,Data!G1825,NA()))","v":{"$error":"#N/A"}},"","","",{"$f":"IF(C1274<>\"\",Data!$M1825,\"\")","v":""},null,null,null,null,{"$f":"IF(Dashboard!$R$4=\"All\",Data!G1825,IF(Data!K1825=Dashboard!$R$4,Data!G1825,NA()))","v":{"$error":"#N/A"}},"","","",{"$f":"IF(L1274<>\"\",Data!$M1825,\"\")","v":""},null,null,null,null,{"$f":"IF(OR(Dashboard!$P$4=\"All\",Dashboard!$R$4=\"All\"),NA(),IF(OR(Data!K1825<>Dashboard!$P$4,Data!K1825<>Dashboard!$R$4),Data!G1825,NA()))","v":11000}]
[null,{"$f":"IF(Dashboard!$P$4=\"All\",Data!G1826,IF(Data!K1826=Dashboard!$P$4,Data!G1826,NA()))","v":{"$error":"#N/A"}},"","","",{"$f":"IF(C1275<>\"\",Data!$M1826,\"\")","v":""},null,null,null,null,{"$f":"IF(Dashboard!$R$4=\"All\",Data!G1826,IF(Data!K1826=Dashboard!$R$4,Data!G1826,NA()))","v":{"$error":"#N/A"}},"","","",{"$f":"IF(L1275<>\"\",Data!$M1826,\"\")","v":""},null,null,null,null,{"$f":"IF(OR(Dashboard!$P$4=\"All\",Dashboard!$R$4=\"All\"),NA(),IF(OR(Data!K1826<>Dashboard!$P$4,Data!K1826<>Dashboard!$R$4),Data!G1826,NA()))","v":114335.9495092447}]
[null,{"$f":"IF(Dashboard!$P$4=\"All\",Data!G1827,IF(Data!K1827=Dashboard!$P$4,Data!G1827,NA()))","v":{"$error":"#N/A"}},"","","",{"$f":"IF(C1276<>\"\",Data!$M1827,\"\")","v":""},null,null,null,null,{"$f":"IF(Dashboard!$R$4=\"All\",Data!G1827,IF(Data!K1827=Dashboard!$R$4,Data!G1827,NA()))","v":{"$error":"#N/A"}},"","","",{"$f":"IF(L1276<>\"\",Data!$M1827,\"\")","v":""},null,null,null,null,{"$f":"IF(OR(Dashboard!$P$4=\"All\",Dashboard!$R$4=\"All\"),NA(),IF(OR(Data!K1827<>Dashboard!$P$4,Data!K1827<>Dashboard!$R$4),Data!G1827,NA()))","v":16110}]
[null,{"$f":"IF(Dashboard!$P$4=\"All\",Data!G1828,IF(Data!K1828=Dashboard!$P$4,Data!G1828,NA()))","v":{"$error":"#N/A"}},"","","",{"$f":"IF(C1277<>\"\",Data!$M1828,\"\")","v":""},null,null,null,null,{"$f":"IF(Dashboard!$R$4=\"All\",Data!G1828,IF(Data!K1828=Dashboard!$R$4,Data!G1828,NA()))","v":{"$error":"#N/A"}},"","","",{"$f":"IF(L1277<>\"\",Data!$M1828,\"\")","v":""},null,null,null,null,{"$f":"IF(OR(Dashboard!$P$4=\"All\",Dashboard!$R$4=\"All\"),NA(),IF(OR(Data!K1828<>Dashboard!$P$4,Data!K1828<>Dashboard!$R$4),Data!G1828,NA()))","v":72000}]
[null,{"$f":"IF(Dashboard!$P$4=\"All\",Data!G1829,IF(Data!K1829=Dashboard!$P$4,Data!G1829,NA()))","v":{"$error":"#N/A"}},"","","",{"$f":"IF(C1278<>\"\",Data!$M1829,\"\")","v":""},null,null,null,null,{"$f":"IF(Dashboard!$R$4=\"All\",Data!G1829,IF(Data!K1829=Dashboard!$R$4,Data!G1829,NA()))","v":{"$error":"#N/A"}},"","","",{"$f":"IF(L1278<>\"\",Data!$M1829,\"\")","v":""},null,null,null,null,{"$f":"IF(OR(Dashboard!$P$4=\"All\",Dashboard!$R$4=\"All\"),NA(),IF(OR(Data!K1829<>Dashboard!$P$4,Data!K1829<>Dashboard!$R$4),Data!G1829,NA()))","v":60000}]
[null,{"$f":"IF(Dashboard!$P$4=\"All\",Data!G1830,IF(Data!K1830=Dashboard!$P$4,Data!G1830,NA()))","v":{"$error":"#N/A"}},"","","",{"$f":"IF(C1279<>\"\",Data!$M1830,\"\")","v":""},null,null,null,null,{"$f":"IF(Dashboard!$R$4=\"All\",Data!G1830,IF(Data!K1830=Dashboard!$R$4,Data!G1830,NA()))","v":{"$error":"#N/A"}},"","","",{"$f":"IF(L1279<>\"\",Data!$M1830,\"\")","v":""},null,null,null,null,{"$f":"IF(OR(Dashboard!$P$4=\"All\",Dashboard!$R$4=\"All\"),NA(),IF(OR(Data!K1830<>Dashboard!$P$4,Data!K1830<>Dashboard!$R$4),Data!G1830,NA()))","v":67000}]
[null,{"$f":"IF(Dashboard!$P$4=\"All\",Data!G1831,IF(Data!K1831=Dashboard!$P$4,Data!G1831,NA()))","v":{"$error":"#N/A"}},"","","",{"$f":"IF(C1280<>\"\",Data!$M1831,\"\")","v":""},null,null,null,null,{"$f":"IF(Dashboard!$R$4=\"All\",Data!G1831,IF(Data!K1831=Dashboard!$R$4,Data!G1831,NA()))","v":{"$error":"#N/A"}},"","","",{"$f":"IF(L1280<>\"\",Data!$M1831,\"\")","v":""},null,null,null,null,{"$f":"IF(OR(Dashboard!$P$4=\"All\",Dashboard!$R$4=\"All\"),NA(),IF(OR(Data!K1831<>Dashboard!$P$4,Data!K1831<>Dashboard!$R$4),Data!G1831,NA()))","v":54000}]
[null,{"$f":"IF(Dashboard!$P$4=\"All\",Data!G1832,IF(Data!K1832=Dashboard!$P$4,Data!G1832,NA()))","v":{"$error":"#N/A"}},"","","",{"$f":"IF(C1281<>\"\",Data!$M1832,\"\")","v":""},null,null,null,null,{"$f":"IF(Dashboard!$R$4=\"All\",Data!G1832,IF(Data!K1832=Dashboard!$R$4,Data!G1832,NA()))","v":{"$error":"#N/A"}},"","","",{"$f":"IF(L1281<>\"\",Data!$M1832,\"\")","v":""},null,null,null,null,{"$f":"IF(OR(Dashboard!$P$4=\"All\",Dashboard!$R$4=\"All\"),NA(),IF(OR(Data!K1832<>Dashboard!$P$4,Data!K1832<>Dashboard!$R$4),Data!G1832,NA()))","v":38666}]
[null,{"$f":"IF(Dashboard!$P$4=\"All\",Data!G1833,IF(Data!K1833=Dashboard!$P$4,Data!G1833,NA()))","v":{"$error":"#N/A"}},"","","",{"$f":"IF(C1282<>\"\",Data!$M1833,\"\")","v":""},null,null,null,null,{"$f":"IF(Dashboard!$R$4=\"All\",Data!G1833,IF(Data!K1833=Dashboard!$R$4,Data!G1833,NA()))","v":{"$error":"#N/A"}},"","","",{"$f":"IF(L1282<>\"\",Data!$M1833,\"\")","v":""},null,null,null,null,{"$f":"IF(OR(Dashboard!$P$4=\"All\",Dashboard!$R$4=\"All\"),NA(),IF(OR(Data!K1833<>Dashboard!$P$4,Data!K1833<>Dashboard!$R$4),Data!G1833,NA()))","v":63000}]
[null,{"$f":"IF(Dashboard!$P$4=\"All\",Data!G1834,IF(Data!K1834=Dashboard!$P$4,Data!G1834,NA()))","v":{"$error":"#N/A"}},"","","",{"$f":"IF(C1283<>\"\",Data!$M1834,\"\")","v":""},null,null,null,null,{"$f":"IF(Dashboard!$R$4=\"All\",Data!G1834,IF(Data!K1834=Dashboard!$R$4,Data!G1834,NA()))","v":{"$error":"#N/A"}},"","","",{"$f":"IF(L1283<>\"\",Data!$M1834,\"\")","v":""},null,null,null,null,{"$f":"IF(OR(Dashboard!$P$4=\"All\",Dashboard!$R$4=\"All\"),NA(),IF(OR(Data!K1834<>Dashboard!$P$4,Data!K1834<>Dashboard!$R$4),Data!G1834,NA()))","v":63000}]
[null,{"$f":"IF(Dashboard!$P$4=\"All\",Data!G1835,IF(Data!K1835=Dashboard!$P$4,Data!G1835,NA()))","v":{"$error":"#N/A"}},{"$f":"IF(ISNA(B1284),\"\",B1284)","v":""},{"$f":"IF(C1284>=PERCENTILE($C$3:$C$1337,0.9),C1284,\"\")","v":""},{"$f":"IF(C1284<=PERCENTILE($C$3:$C$1337,0.1),C1284,\"\")","v":""},{"$f":"IF(C1284<>\"\",Data!$M1835,\"\")","v":""},null,null,null,null,{"$f":"IF(Dashboard!$R$4=\"All\",Data!G1835,IF(Data!K1835=Dashboard!$R$4,Data!G1835,NA()))","v":{"$error":"#N/A"}},{"$f":"IF(ISNA(K1284),\"\",K1284)","v":""},{"$f":"IF(L1284>=PERCENTILE($L$3:$L$1337,0.9),L1284,\"\")","v":""},{"$f":"IF(L1284<=PERCENTILE($L$3:$L$1337,0.1),L1284,\"\")","v":""},{"$f":"IF(L1284<>\"\",Data!$M1835,\"\")","v":""},null,null,null,null,{"$f":"IF(OR(Dashboard!$P$4=\"All\",Dashboard!$R$4=\"All\"),NA(),IF(OR(Data!K1835<>Dashboard!$P$4,Data!K1835<>Dashboard!$R$4),Data!G1835,NA()))","v":6410.8500074793246}]
[null,{"$f":"IF(Dashboard!$P$4=\"All\",Data!G1836,IF(Data!K1836=Dashboard!$P$4,Data!G1836,NA()))","v":{"$error":"#N/A"}},"","","",{"$f":"IF(C1285<>\"\",Data!$M1836,\"\")","v":""},null,null,null,null,{"$f":"IF(Dashboard!$R$4=\"All\",Data!G1836,IF(Data!K1836=Dashboard!$R$4,Data!G1836,NA()))","v":{"$error":"#N/A"}},"","","",{"$f":"IF(L1285<>\"\",Data!$M1836,\"\")","v":""},null,null,null,null,{"$f":"IF(OR(Dashboard!$P$4=\"All\",Dashboard!$R$4=\"All\"),NA(),IF(OR(Data!K1836<>Dashboard!$P$4,Data!K1836<>Dashboard!$R$4),Data!G1836,NA()))","v":10684.750012465542}]
[null,{"$f":"IF(Dashboard!$P$4=\"All\",Data!G1837,IF(Data!K1837=Dashboard!$P$4,Data!G1837,NA()))","v":{"$error":"#N/A"}},"","","",{"$f":"IF(C1286<>\"\",Data!$M1837,\"\")","v":""},null,null,null,null,{"$f":"IF(Dashboard!$R$4=\"All\",Data!G1837,IF(Data!K1837=Dashboard!$R$4,Data!G1837,NA()))","v":{"$error":"#N/A"}},"","","",{"$f":"IF(L1286<>\"\",Data!$M1837,\"\")","v":""},null,null,null,null,{"$f":"IF(OR(Dashboard!$P$4=\"All\",Dashboard!$R$4=\"All\"),NA(),IF(OR(Data!K1837<>Dashboard!$P$4,Data!K1837<>Dashboard!$R$4),Data!G1837,NA()))","v":40000}]
[null,{"$f":"IF(Dashboard!$P$4=\"All\",Data!G1838,IF(Data!K1838=Dashboard!$P$4,Data!G1838,NA()))","v":{"$error":"#N/A"}},"","","",{"$f":"IF(C1287<>\"\",Data!$M1838,\"\")","v":""},null,null,null,null,{"$f":"IF(Dashboard!$R$4=\"All\",Data!G1838,IF(Data!K1838=Dashboard!$R$4,Data!G1838,NA()))","v":{"$error":"#N/A"}},"","","",{"$f":"IF(L1287<>\"\",Data!$M1838,\"\")","v":""},null,null,null,null,{"$f":"IF(OR(Dashboard!$P$4=\"All\",Dashboard!$R$4=\"All\"),NA(),IF(OR(Data!K1838<>Dashboard!$P$4,Data!K1838<>Dashboard!$R$4),Data!G1838,NA()))","v":6232.7708406048987}]
[null,{"$f":"IF(Dashboard!$P$4=\"All\",Data!G1839,IF(Data!K1839=Dashboard!$P$4,Data!G1839,NA()))","v":{"$error":"#N/A"}},"","","",{"$f":"IF(C1288<>\"\",Data!$M1839,\"\")","v":""},null,null,null,null,{"$f":"IF(Dashboard!$R$4=\"All\",Data!G1839,IF(Data!K1839=Dashboard!$R$4,Data!G1839,NA()))","v":{"$error":"#N/A"}},"","","",{"$f":"IF(L1288<>\"\",Data!$M1839,\"\")","v":""},null,null,null,null,{"$f":"IF(OR(Dashboard!$P$4=\"All\",Dashboard!$R$4=\"All\"),NA(),IF(OR(Data!K1839<>Dashboard!$P$4,Data!K1839<>Dashboard!$R$4),Data!G1839,NA()))","v":41712.231189497601}]
[null,{"$f":"IF(Dashboard!$P$4=\"All\",Data!G1840,IF(Data!K1840=Dashboard!$P$4,Data!G1840,NA()))","v":{"$error":"#N/A"}},"","","",{"$f":"IF(C1289<>\"\",Data!$M1840,\"\")","v":""},null,null,null,null,{"$f":"IF(Dashboard!$R$4=\"All\",Data!G1840,IF(Data!K1840=Dashboard!$R$4,Data!G1840,NA()))","v":{"$error":"#N/A"}},"","","",{"$f":"IF(L1289<>\"\",Data!$M1840,\"\")","v":""},null,null,null,null,{"$f":"IF(OR(Dashboard!$P$4=\"All\",Dashboard!$R$4=\"All\"),NA(),IF(OR(Data!K1840<>Dashboard!$P$4,Data!K1840<>Dashboard!$R$4),Data!G1840,NA()))","v":12465.541681209797}]
[null,{"$f":"IF(Dashboard!$P$4=\"All\",Data!G1841,IF(Data!K1841=Dashboard!$P$4,Data!G1841,NA()))","v":{"$error":"#N/A"}},"","","",{"$f":"IF(C1290<>\"\",Data!$M1841,\"\")","v":""},null,null,null,null,{"$f":"IF(Dashboard!$R$4=\"All\",Data!G1841,IF(Data!K1841=Dashboard!$R$4,Data!G1841,NA()))","v":32311.654577379326},32311.654577379326,"",32311.654577379326,{"$f":"IF(L1290<>\"\",Data!$M1841,\"\")","v":20},null,null,null,null,{"$f":"IF(OR(Dashboard!$P$4=\"All\",Dashboard!$R$4=\"All\"),NA(),IF(OR(Data!K1841<>Dashboard!$P$4,Data!K1841<>Dashboard!$R$4),Data!G1841,NA()))","v":32311.654577379326}]
[null,{"$f":"IF(Dashboard!$P$4=\"All\",Data!G1842,IF(Data!K1842=Dashboard!$P$4,Data!G1842,NA()))","v":{"$error":"#N/A"}},"","","",{"$f":"IF(C1291<>\"\",Data!$M1842,\"\")","v":""},null,null,null,null,{"$f":"IF(Dashboard!$R$4=\"All\",Data!G1842,IF(Data!K1842=Dashboard!$R$4,Data!G1842,NA()))","v":{"$error":"#N/A"}},"","","",{"$f":"IF(L1291<>\"\",Data!$M1842,\"\")","v":""},null,null,null,null,{"$f":"IF(OR(Dashboard!$P$4=\"All\",Dashboard!$R$4=\"All\"),NA(),IF(OR(Data!K1842<>Dashboard!$P$4,Data!K1842<>Dashboard!$R$4),Data!G1842,NA()))","v":7123.1666749770275}]
[null,{"$f":"IF(Dashboard!$P$4=\"All\",Data!G1843,IF(Data!K1843=Dashboard!$P$4,Data!G1843,NA()))","v":{"$error":"#N/A"}},"","","",{"$f":"IF(C1292<>\"\",Data!$M1843,\"\")","v":""},null,null,null,null,{"$f":"IF(Dashboard!$R$4=\"All\",Data!G1843,IF(Data!K1843=Dashboard!$R$4,Data!G1843,NA()))","v":{"$error":"#N/A"}},"","","",{"$f":"IF(L1292<>\"\",Data!$M1843,\"\")","v":""},null,null,null,null,{"$f":"IF(OR(Dashboard!$P$4=\"All\",Dashboard!$R$4=\"All\"),NA(),IF(OR(Data!K1843<>Dashboard!$P$4,Data!K1843<>Dashboard!$R$4),Data!G1843,NA()))","v":100000}]
[null,{"$f":"IF(Dashboard!$P$4=\"All\",Data!G1844,IF(Data!K1844=Dashboard!$P$4,Data!G1844,NA()))","v":{"$error":"#N/A"}},"","","",{"$f":"IF(C1293<>\"\",Data!$M1844,\"\")","v":""},null,null,null,null,{"$f":"IF(Dashboard!$R$4=\"All\",Data!G1844,IF(Data!K1844=Dashboard!$R$4,Data!G1844,NA()))","v":{"$error":"#N/A"}},"","","",{"$f":"IF(L1293<>\"\",Data!$M1844,\"\")","v":""},null,null,null,null,{"$f":"IF(OR(Dashboard!$P$4=\"All\",Dashboard!$R$4=\"All\"),NA(),IF(OR(Data!K1844<>Dashboard!$P$4,Data!K1844<>Dashboard!$R$4),Data!G1844,NA()))","v":59819.107020370408}]
[null,{"$f":"IF(Dashboard!$P$4=\"All\",Data!G1845,IF(Data!K1845=Dashboard!$P$4,Data!G1845,NA()))","v":{"$error":"#N/A"}},"","","",{"$f":"IF(C1294<>\"\",Data!$M1845,\"\")","v":""},null,null,null,null,{"$f":"IF(Dashboard!$R$4=\"All\",Data!G1845,IF(Data!K1845=Dashboard!$R$4,Data!G1845,NA()))","v":{"$error":"#N/A"}},"","","",{"$f":"IF(L1294<>\"\",Data!$M1845,\"\")","v":""},null,null,null,null,{"$f":"IF(OR(Dashboard!$P$4=\"All\",Dashboard!$R$4=\"All\"),NA(),IF(OR(Data!K1845<>Dashboard!$P$4,Data!K1845<>Dashboard!$R$4),Data!G1845,NA()))","v":25000}]
[null,{"$f":"IF(Dashboard!$P$4=\"All\",Data!G1846,IF(Data!K1846=Dashboard!$P$4,Data!G1846,NA()))","v":{"$error":"#N/A"}},"","","",{"$f":"IF(C1295<>\"\",Data!$M1846,\"\")","v":""},null,null,null,null,{"$f":"IF(Dashboard!$R$4=\"All\",Data!G1846,IF(Data!K1846=Dashboard!$R$4,Data!G1846,NA()))","v":{"$error":"#N/A"}},"","","",{"$f":"IF(L1295<>\"\",Data!$M1846,\"\")","v":""},null,null,null,null,{"$f":"IF(OR(Dashboard!$P$4=\"All\",Dashboard!$R$4=\"All\"),NA(),IF(OR(Data!K1846<>Dashboard!$P$4,Data!K1846<>Dashboard!$R$4),Data!G1846,NA()))","v":5000}]
[null,{"$f":"IF(Dashboard!$P$4=\"All\",Data!G1847,IF(Data!K1847=Dashboard!$P$4,Data!G1847,NA()))","v":{"$error":"#N/A"}},"","","",{"$f":"IF(C1296<>\"\",Data!$M1847,\"\")","v":""},null,null,null,null,{"$f":"IF(Dashboard!$R$4=\"All\",Data!G1847,IF(Data!K1847=Dashboard!$R$4,Data!G1847,NA()))","v":{"$error":"#N/A"}},"","","",{"$f":"IF(L1296<>\"\",Data!$M1847,\"\")","v":""},null,null,null,null,{"$f":"IF(OR(Dashboard!$P$4=\"All\",Dashboard!$R$4=\"All\"),NA(),IF(OR(Data!K1847<>Dashboard!$P$4,Data!K1847<>Dashboard!$R$4),Data!G1847,NA()))","v":64254.308353366054}]
[null,{"$f":"IF(Dashboard!$P$4=\"All\",Data!G1848,IF(Data!K1848=Dashboard!$P$4,Data!G1848,NA()))","v":{"$error":"#N/A"}},"","","",{"$f":"IF(C1297<>\"\",Data!$M1848,\"\")","v":""},null,null,null,null,{"$f":"IF(Dashboard!$R$4=\"All\",Data!G1848,IF(Data!K1848=Dashboard!$R$4,Data!G1848,NA()))","v":{"$error":"#N/A"}},"","","",{"$f":"IF(L1297<>\"\",Data!$M1848,\"\")","v":""},null,null,null,null,{"$f":"IF(OR(Dashboard!$P$4=\"All\",Dashboard!$R$4=\"All\"),NA(),IF(OR(Data!K1848<>Dashboard!$P$4,Data!K1848<>Dashboard!$R$4),Data!G1848,NA()))","v":76223.966339496474}]
[null,{"$f":"IF(Dashboard!$P$4=\"All\",Data!G1849,IF(Data!K1849=Dashboard!$P$4,Data!G1849,NA()))","v":{"$error":"#N/A"}},"","","",{"$f":"IF(C1298<>\"\",Data!$M1849,\"\")","v":""},null,null,null,null,{"$f":"IF(Dashboard!$R$4=\"All\",Data!G1849,IF(Data!K1849=Dashboard!$R$4,Data!G1849,NA()))","v":{"$error":"#N/A"}},"","","",{"$f":"IF(L1298<>\"\",Data!$M1849,\"\")","v":""},null,null,null,null,{"$f":"IF(OR(Dashboard!$P$4=\"All\",Dashboard!$R$4=\"All\"),NA(),IF(OR(Data!K1849<>Dashboard!$P$4,Data!K1849<>Dashboard!$R$4),Data!G1849,NA()))","v":102542.54233725216}]
[null,{"$f":"IF(Dashboard!$P$4=\"All\",Data!G1850,IF(Data!K1850=Dashboard!$P$4,Data!G1850,NA()))","v":{"$error":"#N/A"}},"","","",{"$f":"IF(C1299<>\"\",Data!$M1850,\"\")","v":""},null,null,null,null,{"$f":"IF(Dashboard!$R$4=\"All\",Data!G1850,IF(Data!K1850=Dashboard!$R$4,Data!G1850,NA()))","v":{"$error":"#N/A"}},"","","",{"$f":"IF(L1299<>\"\",Data!$M1850,\"\")","v":""},null,null,null,null,{"$f":"IF(OR(Dashboard!$P$4=\"All\",Dashboard!$R$4=\"All\"),NA(),IF(OR(Data!K1850<>Dashboard!$P$4,Data!K1850<>Dashboard!$R$4),Data!G1850,NA()))","v":46000}]
[null,{"$f":"IF(Dashboard!$P$4=\"All\",Data!G1851,IF(Data!K1851=Dashboard!$P$4,Data!G1851,NA()))","v":{"$error":"#N/A"}},"","","",{"$f":"IF(C1300<>\"\",Data!$M1851,\"\")","v":""},null,null,null,null,{"$f":"IF(Dashboard!$R$4=\"All\",Data!G1851,IF(Data!K1851=Dashboard!$R$4,Data!G1851,NA()))","v":{"$error":"#N/A"}},"","","",{"$f":"IF(L1300<>\"\",Data!$M1851,\"\")","v":""},null,null,null,null,{"$f":"IF(OR(Dashboard!$P$4=\"All\",Dashboard!$R$4=\"All\"),NA(),IF(OR(Data!K1851<>Dashboard!$P$4,Data!K1851<>Dashboard!$R$4),Data!G1851,NA()))","v":5000}]
[null,{"$f":"IF(Dashboard!$P$4=\"All\",Data!G1852,IF(Data!K1852=Dashboard!$P$4,Data!G1852,NA()))","v":{"$error":"#N/A"}},"","","",{"$f":"IF(C1301<>\"\",Data!$M1852,\"\")","v":""},null,null,null,null,{"$f":"IF(Dashboard!$R$4=\"All\",Data!G1852,IF(Data!K1852=Dashboard!$R$4,Data!G1852,NA()))","v":{"$error":"#N/A"}},"","","",{"$f":"IF(L1301<>\"\",Data!$M1852,\"\")","v":""},null,null,null,null,{"$f":"IF(OR(Dashboard!$P$4=\"All\",Dashboard!$R$4=\"All\"),NA(),IF(OR(Data!K1852<>Dashboard!$P$4,Data!K1852<>Dashboard!$R$4),Data!G1852,NA()))","v":77819.106783521114}]
[null,{"$f":"IF(Dashboard!$P$4=\"All\",Data!G1853,IF(Data!K1853=Dashboard!$P$4,Data!G1853,NA()))","v":{"$error":"#N/A"}},"","","",{"$f":"IF(C1302<>\"\",Data!$M1853,\"\")","v":""},null,null,null,null,{"$f":"IF(Dashboard!$R$4=\"All\",Data!G1853,IF(Data!K1853=Dashboard!$R$4,Data!G1853,NA()))","v":{"$error":"#N/A"}},"","","",{"$f":"IF(L1302<>\"\",Data!$M1853,\"\")","v":""},null,null,null,null,{"$f":"IF(OR(Dashboard!$P$4=\"All\",Dashboard!$R$4=\"All\"),NA(),IF(OR(Data!K1853<>Dashboard!$P$4,Data!K1853<>Dashboard!$R$4),Data!G1853,NA()))","v":6232.7708406048987}]
[null,{"$f":"IF(Dashboard!$P$4=\"All\",Data!G1854,IF(Data!K1854=Dashboard!$P$4,Data!G1854,NA()))","v":{"$error":"#N/A"}},"","","",{"$f":"IF(C1303<>\"\",Data!$M1854,\"\")","v":""},null,null,null,null,{"$f":"IF(Dashboard!$R$4=\"All\",Data!G1854,IF(Data!K1854=Dashboard!$R$4,Data!G1854,NA()))","v":55166.239522354947},55166.239522354947,"","",{"$f":"IF(L1303<>\"\",Data!$M1854,\"\")","v":34},null,null,null,null,{"$f":"IF(OR(Dashboard!$P$4=\"All\",Dashboard!$R$4=\"All\"),NA(),IF(OR(Data!K1854<>Dashboard!$P$4,Data!K1854<>Dashboard!$R$4),Data!G1854,NA()))","v":55166.239522354947}]
[null,{"$f":"IF(Dashboard!$P$4=\"All\",Data!G1855,IF(Data!K1855=Dashboard!$P$4,Data!G1855,NA()))","v":{"$error":"#N/A"}},"","","",{"$f":"IF(C1304<>\"\",Data!$M1855,\"\")","v":""},null,null,null,null,{"$f":"IF(Dashboard!$R$4=\"All\",Data!G1855,IF(Data!K1855=Dashboard!$R$4,Data!G1855,NA()))","v":{"$error":"#N/A"}},"","","",{"$f":"IF(L1304<>\"\",Data!$M1855,\"\")","v":""},null,null,null,null,{"$f":"IF(OR(Dashboard!$P$4=\"All\",Dashboard!$R$4=\"All\"),NA(),IF(OR(Data!K1855<>Dashboard!$P$4,Data!K1855<>Dashboard!$R$4),Data!G1855,NA()))","v":45000}]
[null,{"$f":"IF(Dashboard!$P$4=\"All\",Data!G1856,IF(Data!K1856=Dashboard!$P$4,Data!G1856,NA()))","v":{"$error":"#N/A"}},"","","",{"$f":"IF(C1305<>\"\",Data!$M1856,\"\")","v":""},null,null,null,null,{"$f":"IF(Dashboard!$R$4=\"All\",Data!G1856,IF(Data!K1856=Dashboard!$R$4,Data!G1856,NA()))","v":{"$error":"#N/A"}},"","","",{"$f":"IF(L1305<>\"\",Data!$M1856,\"\")","v":""},null,null,null,null,{"$f":"IF(OR(Dashboard!$P$4=\"All\",Dashboard!$R$4=\"All\"),NA(),IF(OR(Data!K1856<>Dashboard!$P$4,Data!K1856<>Dashboard!$R$4),Data!G1856,NA()))","v":60000}]
[null,{"$f":"IF(Dashboard!$P$4=\"All\",Data!G1857,IF(Data!K1857=Dashboard!$P$4,Data!G1857,NA()))","v":{"$error":"#N/A"}},"","","",{"$f":"IF(C1306<>\"\",Data!$M1857,\"\")","v":""},null,null,null,null,{"$f":"IF(Dashboard!$R$4=\"All\",Data!G1857,IF(Data!K1857=Dashboard!$R$4,Data!G1857,NA()))","v":{"$error":"#N/A"}},"","","",{"$f":"IF(L1306<>\"\",Data!$M1857,\"\")","v":""},null,null,null,null,{"$f":"IF(OR(Dashboard!$P$4=\"All\",Dashboard!$R$4=\"All\"),NA(),IF(OR(Data!K1857<>Dashboard!$P$4,Data!K1857<>Dashboard!$R$4),Data!G1857,NA()))","v":43000}]
[null,{"$f":"IF(Dashboard!$P$4=\"All\",Data!G1858,IF(Data!K1858=Dashboard!$P$4,Data!G1858,NA()))","v":{"$error":"#N/A"}},"","","",{"$f":"IF(C1307<>\"\",Data!$M1858,\"\")","v":""},null,null,null,null,{"$f":"IF(Dashboard!$R$4=\"All\",Data!G1858,IF(Data!K1858=Dashboard!$R$4,Data!G1858,NA()))","v":{"$error":"#N/A"}},"","","",{"$f":"IF(L1307<>\"\",Data!$M1858,\"\")","v":""},null,null,null,null,{"$f":"IF(OR(Dashboard!$P$4=\"All\",Dashboard!$R$4=\"All\"),NA(),IF(OR(Data!K1858<>Dashboard!$P$4,Data!K1858<>Dashboard!$R$4),Data!G1858,NA()))","v":35571.184291765021}]
[null,{"$f":"IF(Dashboard!$P$4=\"All\",Data!G1859,IF(Data!K1859=Dashboard!$P$4,Data!G1859,NA()))","v":{"$error":"#N/A"}},"","","",{"$f":"IF(C1308<>\"\",Data!$M1859,\"\")","v":""},null,null,null,null,{"$f":"IF(Dashboard!$R$4=\"All\",Data!G1859,IF(Data!K1859=Dashboard!$R$4,Data!G1859,NA()))","v":{"$error":"#N/A"}},"","","",{"$f":"IF(L1308<>\"\",Data!$M1859,\"\")","v":""},null,null,null,null,{"$f":"IF(OR(Dashboard!$P$4=\"All\",Dashboard!$R$4=\"All\"),NA(),IF(OR(Data!K1859<>Dashboard!$P$4,Data!K1859<>Dashboard!$R$4),Data!G1859,NA()))","v":48000}]
[null,{"$f":"IF(Dashboard!$P$4=\"All\",Data!G1860,IF(Data!K1860=Dashboard!$P$4,Data!G1860,NA()))","v":{"$error":"#N/A"}},"","","",{"$f":"IF(C1309<>\"\",Data!$M1860,\"\")","v":""},null,null,null,null,{"$f":"IF(Dashboard!$R$4=\"All\",Data!G1860,IF(Data!K1860=Dashboard!$R$4,Data!G1860,NA()))","v":{"$error":"#N/A"}},"","","",{"$f":"IF(L1309<>\"\",Data!$M1860,\"\")","v":""},null,null,null,null,{"$f":"IF(OR(Dashboard!$P$4=\"All\",Dashboard!$R$4=\"All\"),NA(),IF(OR(Data!K1860<>Dashboard!$P$4,Data!K1860<>Dashboard!$R$4),Data!G1860,NA()))","v":122389.15876831629}]
[null,{"$f":"IF(Dashboard!$P$4=\"All\",Data!G1861,IF(Data!K1861=Dashboard!$P$4,Data!G1861,NA()))","v":{"$error":"#N/A"}},"","","",{"$f":"IF(C1310<>\"\",Data!$M1861,\"\")","v":""},null,null,null,null,{"$f":"IF(Dashboard!$R$4=\"All\",Data!G1861,IF(Data!K1861=Dashboard!$R$4,Data!G1861,NA()))","v":{"$error":"#N/A"}},"","","",{"$f":"IF(L1310<>\"\",Data!$M1861,\"\")","v":""},null,null,null,null,{"$f":"IF(OR(Dashboard!$P$4=\"All\",Dashboard!$R$4=\"All\"),NA(),IF(OR(Data!K1861<>Dashboard!$P$4,Data!K1861<>Dashboard!$R$4),Data!G1861,NA()))","v":4000}]
[null,{"$f":"IF(Dashboard!$P$4=\"All\",Data!G1862,IF(Data!K1862=Dashboard!$P$4,Data!G1862,NA()))","v":{"$error":"#N/A"}},"","","",{"$f":"IF(C1311<>\"\",Data!$M1862,\"\")","v":""},null,null,null,null,{"$f":"IF(Dashboard!$R$4=\"All\",Data!G1862,IF(Data!K1862=Dashboard!$R$4,Data!G1862,NA()))","v":{"$error":"#N/A"}},"","","",{"$f":"IF(L1311<>\"\",Data!$M1862,\"\")","v":""},null,null,null,null,{"$f":"IF(OR(Dashboard!$P$4=\"All\",Dashboard!$R$4=\"All\"),NA(),IF(OR(Data!K1862<>Dashboard!$P$4,Data!K1862<>Dashboard!$R$4),Data!G1862,NA()))","v":4451.9791718606421}]
[null,{"$f":"IF(Dashboard!$P$4=\"All\",Data!G1863,IF(Data!K1863=Dashboard!$P$4,Data!G1863,NA()))","v":{"$error":"#N/A"}},"","","",{"$f":"IF(C1312<>\"\",Data!$M1863,\"\")","v":""},null,null,null,null,{"$f":"IF(Dashboard!$R$4=\"All\",Data!G1863,IF(Data!K1863=Dashboard!$R$4,Data!G1863,NA()))","v":{"$error":"#N/A"}},"","","",{"$f":"IF(L1312<>\"\",Data!$M1863,\"\")","v":""},null,null,null,null,{"$f":"IF(OR(Dashboard!$P$4=\"All\",Dashboard!$R$4=\"All\"),NA(),IF(OR(Data!K1863<>Dashboard!$P$4,Data!K1863<>Dashboard!$R$4),Data!G1863,NA()))","v":2953.8461538461538}]
[null,{"$f":"IF(Dashboard!$P$4=\"All\",Data!G1864,IF(Data!K1864=Dashboard!$P$4,Data!G1864,NA()))","v":{"$error":"#N/A"}},"","","",{"$f":"IF(C1313<>\"\",Data!$M1864,\"\")","v":""},null,null,null,null,{"$f":"IF(Dashboard!$R$4=\"All\",Data!G1864,IF(Data!K1864=Dashboard!$R$4,Data!G1864,NA()))","v":39404.456801682099},39404.456801682099,"","",{"$f":"IF(L1313<>\"\",Data!$M1864,\"\")","v":3},null,null,null,null,{"$f":"IF(OR(Dashboard!$P$4=\"All\",Dashboard!$R$4=\"All\"),NA(),IF(OR(Data!K1864<>Dashboard!$P$4,Data!K1864<>Dashboard!$R$4),Data!G1864,NA()))","v":39404.456801682099}]
[null,{"$f":"IF(Dashboard!$P$4=\"All\",Data!G1865,IF(Data!K1865=Dashboard!$P$4,Data!G1865,NA()))","v":{"$error":"#N/A"}},"","","",{"$f":"IF(C1314<>\"\",Data!$M1865,\"\")","v":""},null,null,null,null,{"$f":"IF(Dashboard!$R$4=\"All\",Data!G1865,IF(Data!K1865=Dashboard!$R$4,Data!G1865,NA()))","v":{"$error":"#N/A"}},"","","",{"$f":"IF(L1314<>\"\",Data!$M1865,\"\")","v":""},null,null,null,null,{"$f":"IF(OR(Dashboard!$P$4=\"All\",Dashboard!$R$4=\"All\"),NA(),IF(OR(Data!K1865<>Dashboard!$P$4,Data!K1865<>Dashboard!$R$4),Data!G1865,NA()))","v":75473.31457379504}]
[null,{"$f":"IF(Dashboard!$P$4=\"All\",Data!G1866,IF(Data!K1866=Dashboard!$P$4,Data!G1866,NA()))","v":{"$error":"#N/A"}},"","","",{"$f":"IF(C1315<>\"\",Data!$M1866,\"\")","v":""},null,null,null,null,{"$f":"IF(Dashboard!$R$4=\"All\",Data!G1866,IF(Data!K1866=Dashboard!$R$4,Data!G1866,NA()))","v":{"$error":"#N/A"}},"","","",{"$f":"IF(L1315<>\"\",Data!$M1866,\"\")","v":""},null,null,null,null,{"$f":"IF(OR(Dashboard!$P$4=\"All\",Dashboard!$R$4=\"All\"),NA(),IF(OR(Data!K1866<>Dashboard!$P$4,Data!K1866<>Dashboard!$R$4),Data!G1866,NA()))","v":13355.937515581925}]
[null,{"$f":"IF(Dashboard!$P$4=\"All\",Data!G1867,IF(Data!K1867=Dashboard!$P$4,Data!G1867,NA()))","v":{"$error":"#N/A"}},"","","",{"$f":"IF(C1316<>\"\",Data!$M1867,\"\")","v":""},null,null,null,null,{"$f":"IF(Dashboard!$R$4=\"All\",Data!G1867,IF(Data!K1867=Dashboard!$R$4,Data!G1867,NA()))","v":{"$error":"#N/A"}},"","","",{"$f":"IF(L1316<>\"\",Data!$M1867,\"\")","v":""},null,null,null,null,{"$f":"IF(OR(Dashboard!$P$4=\"All\",Dashboard!$R$4=\"All\"),NA(),IF(OR(Data!K1867<>Dashboard!$P$4,Data!K1867<>Dashboard!$R$4),Data!G1867,NA()))","v":25000}]
[null,{"$f":"IF(Dashboard!$P$4=\"All\",Data!G1868,IF(Data!K1868=Dashboard!$P$4,Data!G1868,NA()))","v":{"$error":"#N/A"}},"","","",{"$f":"IF(C1317<>\"\",Data!$M1868,\"\")","v":""},null,null,null,null,{"$f":"IF(Dashboard!$R$4=\"All\",Data!G1868,IF(Data!K1868=Dashboard!$R$4,Data!G1868,NA()))","v":{"$error":"#N/A"}},"","","",{"$f":"IF(L1317<>\"\",Data!$M1868,\"\")","v":""},null,null,null,null,{"$f":"IF(OR(Dashboard!$P$4=\"All\",Dashboard!$R$4=\"All\"),NA(),IF(OR(Data!K1868<>Dashboard!$P$4,Data!K1868<>Dashboard!$R$4),Data!G1868,NA()))","v":7479.3250087258784}]
[null,{"$f":"IF(Dashboard!$P$4=\"All\",Data!G1869,IF(Data!K1869=Dashboard!$P$4,Data!G1869,NA()))","v":{"$error":"#N/A"}},"","","",{"$f":"IF(C1318<>\"\",Data!$M1869,\"\")","v":""},null,null,null,null,{"$f":"IF(Dashboard!$R$4=\"All\",Data!G1869,IF(Data!K1869=Dashboard!$R$4,Data!G1869,NA()))","v":{"$error":"#N/A"}},"","","",{"$f":"IF(L1318<>\"\",Data!$M1869,\"\")","v":""},null,null,null,null,{"$f":"IF(OR(Dashboard!$P$4=\"All\",Dashboard!$R$4=\"All\"),NA(),IF(OR(Data!K1869<>Dashboard!$P$4,Data!K1869<>Dashboard!$R$4),Data!G1869,NA()))","v":62000}]
[null,{"$f":"IF(Dashboard!$P$4=\"All\",Data!G1870,IF(Data!K1870=Dashboard!$P$4,Data!G1870,NA()))","v":{"$error":"#N/A"}},"","","",{"$f":"IF(C1319<>\"\",Data!$M1870,\"\")","v":""},null,null,null,null,{"$f":"IF(Dashboard!$R$4=\"All\",Data!G1870,IF(Data!K1870=Dashboard!$R$4,Data!G1870,NA()))","v":{"$error":"#N/A"}},"","","",{"$f":"IF(L1319<>\"\",Data!$M1870,\"\")","v":""},null,null,null,null,{"$f":"IF(OR(Dashboard!$P$4=\"All\",Dashboard!$R$4=\"All\"),NA(),IF(OR(Data!K1870<>Dashboard!$P$4,Data!K1870<>Dashboard!$R$4),Data!G1870,NA()))","v":48000}]
[null,{"$f":"IF(Dashboard!$P$4=\"All\",Data!G1871,IF(Data!K1871=Dashboard!$P$4,Data!G1871,NA()))","v":{"$error":"#N/A"}},"","","",{"$f":"IF(C1320<>\"\",Data!$M1871,\"\")","v":""},null,null,null,null,{"$f":"IF(Dashboard!$R$4=\"All\",Data!G1871,IF(Data!K1871=Dashboard!$R$4,Data!G1871,NA()))","v":{"$error":"#N/A"}},"","","",{"$f":"IF(L1320<>\"\",Data!$M1871,\"\")","v":""},null,null,null,null,{"$f":"IF(OR(Dashboard!$P$4=\"All\",Dashboard!$R$4=\"All\"),NA(),IF(OR(Data!K1871<>Dashboard!$P$4,Data!K1871<>Dashboard!$R$4),Data!G1871,NA()))","v":5000}]
[null,{"$f":"IF(Dashboard!$P$4=\"All\",Data!G1872,IF(Data!K1872=Dashboard!$P$4,Data!G1872,NA()))","v":{"$error":"#N/A"}},"","","",{"$f":"IF(C1321<>\"\",Data!$M1872,\"\")","v":""},null,null,null,null,{"$f":"IF(Dashboard!$R$4=\"All\",Data!G1872,IF(Data!K1872=Dashboard!$R$4,Data!G1872,NA()))","v":{"$error":"#N/A"}},"","","",{"$f":"IF(L1321<>\"\",Data!$M1872,\"\")","v":""},null,null,null,null,{"$f":"IF(OR(Dashboard!$P$4=\"All\",Dashboard!$R$4=\"All\"),NA(),IF(OR(Data!K1872<>Dashboard!$P$4,Data!K1872<>Dashboard!$R$4),Data!G1872,NA()))","v":4914.9850057341491}]
[null,{"$f":"IF(Dashboard!$P$4=\"All\",Data!G1873,IF(Data!K1873=Dashboard!$P$4,Data!G1873,NA()))","v":{"$error":"#N/A"}},"","","",{"$f":"IF(C1322<>\"\",Data!$M1873,\"\")","v":""},null,null,null,null,{"$f":"IF(Dashboard!$R$4=\"All\",Data!G1873,IF(Data!K1873=Dashboard!$R$4,Data!G1873,NA()))","v":{"$error":"#N/A"}},"","","",{"$f":"IF(L1322<>\"\",Data!$M1873,\"\")","v":""},null,null,null,null,{"$f":"IF(OR(Dashboard!$P$4=\"All\",Dashboard!$R$4=\"All\"),NA(),IF(OR(Data!K1873<>Dashboard!$P$4,Data!K1873<>Dashboard!$R$4),Data!G1873,NA()))","v":75000}]
[null,{"$f":"IF(Dashboard!$P$4=\"All\",Data!G1874,IF(Data!K1874=Dashboard!$P$4,Data!G1874,NA()))","v":{"$error":"#N/A"}},"","","",{"$f":"IF(C1323<>\"\",Data!$M1874,\"\")","v":""},null,null,null,null,{"$f":"IF(Dashboard!$R$4=\"All\",Data!G1874,IF(Data!K1874=Dashboard!$R$4,Data!G1874,NA()))","v":{"$error":"#N/A"}},"","","",{"$f":"IF(L1323<>\"\",Data!$M1874,\"\")","v":""},null,null,null,null,{"$f":"IF(OR(Dashboard!$P$4=\"All\",Dashboard!$R$4=\"All\"),NA(),IF(OR(Data!K1874<>Dashboard!$P$4,Data!K1874<>Dashboard!$R$4),Data!G1874,NA()))","v":4451.9791718606421}]
[null,{"$f":"IF(Dashboard!$P$4=\"All\",Data!G1875,IF(Data!K1875=Dashboard!$P$4,Data!G1875,NA()))","v":{"$error":"#N/A"}},"","","",{"$f":"IF(C1324<>\"\",Data!$M1875,\"\")","v":""},null,null,null,null,{"$f":"IF(Dashboard!$R$4=\"All\",Data!G1875,IF(Data!K1875=Dashboard!$R$4,Data!G1875,NA()))","v":{"$error":"#N/A"}},"","","",{"$f":"IF(L1324<>\"\",Data!$M1875,\"\")","v":""},null,null,null,null,{"$f":"IF(OR(Dashboard!$P$4=\"All\",Dashboard!$R$4=\"All\"),NA(),IF(OR(Data!K1875<>Dashboard!$P$4,Data!K1875<>Dashboard!$R$4),Data!G1875,NA()))","v":8400}]
[null,{"$f":"IF(Dashboard!$P$4=\"All\",Data!G1876,IF(Data!K1876=Dashboard!$P$4,Data!G1876,NA()))","v":{"$error":"#N/A"}},"","","",{"$f":"IF(C1325<>\"\",Data!$M1876,\"\")","v":""},null,null,null,null,{"$f":"IF(Dashboard!$R$4=\"All\",Data!G1876,IF(Data!K1876=Dashboard!$R$4,Data!G1876,NA()))","v":{"$error":"#N/A"}},"","","",{"$f":"IF(L1325<>\"\",Data!$M1876,\"\")","v":""},null,null,null,null,{"$f":"IF(OR(Dashboard!$P$4=\"All\",Dashboard!$R$4=\"All\"),NA(),IF(OR(Data!K1876<>Dashboard!$P$4,Data!K1876<>Dashboard!$R$4),Data!G1876,NA()))","v":20000}]
[null,{"$f":"IF(Dashboard!$P$4=\"All\",Data!G1877,IF(Data!K1877=Dashboard!$P$4,Data!G1877,NA()))","v":{"$error":"#N/A"}},"","","",{"$f":"IF(C1326<>\"\",Data!$M1877,\"\")","v":""},null,null,null,null,{"$f":"IF(Dashboard!$R$4=\"All\",Data!G1877,IF(Data!K1877=Dashboard!$R$4,Data!G1877,NA()))","v":{"$error":"#N/A"}},"","","",{"$f":"IF(L1326<>\"\",Data!$M1877,\"\")","v":""},null,null,null,null,{"$f":"IF(OR(Dashboard!$P$4=\"All\",Dashboard!$R$4=\"All\"),NA(),IF(OR(Data!K1877<>Dashboard!$P$4,Data!K1877<>Dashboard!$R$4),Data!G1877,NA()))","v":110000}]
[null,{"$f":"IF(Dashboard!$P$4=\"All\",Data!G1878,IF(Data!K1878=Dashboard!$P$4,Data!G1878,NA()))","v":{"$error":"#N/A"}},"","","",{"$f":"IF(C1327<>\"\",Data!$M1878,\"\")","v":""},null,null,null,null,{"$f":"IF(Dashboard!$R$4=\"All\",Data!G1878,IF(Data!K1878=Dashboard!$R$4,Data!G1878,NA()))","v":{"$error":"#N/A"}},"","","",{"$f":"IF(L1327<>\"\",Data!$M1878,\"\")","v":""},null,null,null,null,{"$f":"IF(OR(Dashboard!$P$4=\"All\",Dashboard!$R$4=\"All\"),NA(),IF(OR(Data!K1878<>Dashboard!$P$4,Data!K1878<>Dashboard!$R$4),Data!G1878,NA()))","v":50000}]
[null,{"$f":"IF(Dashboard!$P$4=\"All\",Data!G1879,IF(Data!K1879=Dashboard!$P$4,Data!G1879,NA()))","v":{"$error":"#N/A"}},"","","",{"$f":"IF(C1328<>\"\",Data!$M1879,\"\")","v":""},null,null,null,null,{"$f":"IF(Dashboard!$R$4=\"All\",Data!G1879,IF(Data!K1879=Dashboard!$R$4,Data!G1879,NA()))","v":{"$error":"#N/A"}},"","","",{"$f":"IF(L1328<>\"\",Data!$M1879,\"\")","v":""},null,null,null,null,{"$f":"IF(OR(Dashboard!$P$4=\"All\",Dashboard!$R$4=\"All\"),NA(),IF(OR(Data!K1879<>Dashboard!$P$4,Data!K1879<>Dashboard!$R$4),Data!G1879,NA()))","v":46000}]
[null,{"$f":"IF(Dashboard!$P$4=\"All\",Data!G1880,IF(Data!K1880=Dashboard!$P$4,Data!G1880,NA()))","v":{"$error":"#N/A"}},"","","",{"$f":"IF(C1329<>\"\",Data!$M1880,\"\")","v":""},null,null,null,null,{"$f":"IF(Dashboard!$R$4=\"All\",Data!G1880,IF(Data!K1880=Dashboard!$R$4,Data!G1880,NA()))","v":{"$error":"#N/A"}},"","","",{"$f":"IF(L1329<>\"\",Data!$M1880,\"\")","v":""},null,null,null,null,{"$f":"IF(OR(Dashboard!$P$4=\"All\",Dashboard!$R$4=\"All\"),NA(),IF(OR(Data!K1880<>Dashboard!$P$4,Data!K1880<>Dashboard!$R$4),Data!G1880,NA()))","v":115000}]
[null,{"$f":"IF(Dashboard!$P$4=\"All\",Data!G1881,IF(Data!K1881=Dashboard!$P$4,Data!G1881,NA()))","v":{"$error":"#N/A"}},"","","",{"$f":"IF(C1330<>\"\",Data!$M1881,\"\")","v":""},null,null,null,null,{"$f":"IF(Dashboard!$R$4=\"All\",Data!G1881,IF(Data!K1881=Dashboard!$R$4,Data!G1881,NA()))","v":{"$error":"#N/A"}},"","","",{"$f":"IF(L1330<>\"\",Data!$M1881,\"\")","v":""},null,null,null,null,{"$f":"IF(OR(Dashboard!$P$4=\"All\",Dashboard!$R$4=\"All\"),NA(),IF(OR(Data!K1881<>Dashboard!$P$4,Data!K1881<>Dashboard!$R$4),Data!G1881,NA()))","v":3205.4250037396623}]
[null,{"$f":"IF(Dashboard!$P$4=\"All\",Data!G1882,IF(Data!K1882=Dashboard!$P$4,Data!G1882,NA()))","v":{"$error":"#N/A"}},"","","",{"$f":"IF(C1331<>\"\",Data!$M1882,\"\")","v":""},null,null,null,null,{"$f":"IF(Dashboard!$R$4=\"All\",Data!G1882,IF(Data!K1882=Dashboard!$R$4,Data!G1882,NA()))","v":{"$error":"#N/A"}},"","","",{"$f":"IF(L1331<>\"\",Data!$M1882,\"\")","v":""},null,null,null,null,{"$f":"IF(OR(Dashboard!$P$4=\"All\",Dashboard!$R$4=\"All\"),NA(),IF(OR(Data!K1882<>Dashboard!$P$4,Data!K1882<>Dashboard!$R$4),Data!G1882,NA()))","v":76223.966339496474}]
[null,{"$f":"IF(Dashboard!$P$4=\"All\",Data!G1883,IF(Data!K1883=Dashboard!$P$4,Data!G1883,NA()))","v":{"$error":"#N/A"}},"","","",{"$f":"IF(C1332<>\"\",Data!$M1883,\"\")","v":""},null,null,null,null,{"$f":"IF(Dashboard!$R$4=\"All\",Data!G1883,IF(Data!K1883=Dashboard!$R$4,Data!G1883,NA()))","v":{"$error":"#N/A"}},"","","",{"$f":"IF(L1332<>\"\",Data!$M1883,\"\")","v":""},null,null,null,null,{"$f":"IF(OR(Dashboard!$P$4=\"All\",Dashboard!$R$4=\"All\"),NA(),IF(OR(Data!K1883<>Dashboard!$P$4,Data!K1883<>Dashboard!$R$4),Data!G1883,NA()))","v":52500}]
[null,{"$f":"IF(Dashboard!$P$4=\"All\",Data!G1884,IF(Data!K1884=Dashboard!$P$4,Data!G1884,NA()))","v":{"$error":"#N/A"}},"","","",{"$f":"IF(C1333<>\"\",Data!$M1884,\"\")","v":""},null,null,null,null,{"$f":"IF(Dashboard!$R$4=\"All\",Data!G1884,IF(Data!K1884=Dashboard!$R$4,Data!G1884,NA()))","v":{"$error":"#N/A"}},"","","",{"$f":"IF(L1333<>\"\",Data!$M1884,\"\")","v":""},null,null,null,null,{"$f":"IF(OR(Dashboard!$P$4=\"All\",Dashboard!$R$4=\"All\"),NA(),IF(OR(Data!K1884<>Dashboard!$P$4,Data!K1884<>Dashboard!$R$4),Data!G1884,NA()))","v":100800}]
[null,{"$f":"IF(Dashboard!$P$4=\"All\",Data!G1885,IF(Data!K1885=Dashboard!$P$4,Data!G1885,NA()))","v":{"$error":"#N/A"}},"","","",{"$f":"IF(C1334<>\"\",Data!$M1885,\"\")","v":""},null,null,null,null,{"$f":"IF(Dashboard!$R$4=\"All\",Data!G1885,IF(Data!K1885=Dashboard!$R$4,Data!G1885,NA()))","v":{"$error":"#N/A"}},"","","",{"$f":"IF(L1334<>\"\",Data!$M1885,\"\")","v":""},null,null,null,null,{"$f":"IF(OR(Dashboard!$P$4=\"All\",Dashboard!$R$4=\"All\"),NA(),IF(OR(Data!K1885<>Dashboard!$P$4,Data!K1885<>Dashboard!$R$4),Data!G1885,NA()))","v":21000}]
[null,{"$f":"IF(Dashboard!$P$4=\"All\",Data!G1886,IF(Data!K1886=Dashboard!$P$4,Data!G1886,NA()))","v":{"$error":"#N/A"}},"","","",{"$f":"IF(C1335<>\"\",Data!$M1886,\"\")","v":""},null,null,null,null,{"$f":"IF(Dashboard!$R$4=\"All\",Data!G1886,IF(Data!K1886=Dashboard!$R$4,Data!G1886,NA()))","v":{"$error":"#N/A"}},"","","",{"$f":"IF(L1335<>\"\",Data!$M1886,\"\")","v":""},null,null,null,null,{"$f":"IF(OR(Dashboard!$P$4=\"All\",Dashboard!$R$4=\"All\"),NA(),IF(OR(Data!K1886<>Dashboard!$P$4,Data!K1886<>Dashboard!$R$4),Data!G1886,NA()))","v":40000}]
[null,{"$f":"IF(Dashboard!$P$4=\"All\",Data!G1887,IF(Data!K1887=Dashboard!$P$4,Data!G1887,NA()))","v":{"$error":"#N/A"}},"","","",{"$f":"IF(C1336<>\"\",Data!$M1887,\"\")","v":""},null,null,null,null,{"$f":"IF(Dashboard!$R$4=\"All\",Data!G1887,IF(Data!K1887=Dashboard!$R$4,Data!G1887,NA()))","v":{"$error":"#N/A"}},"","","",{"$f":"IF(L1336<>\"\",Data!$M1887,\"\")","v":""},null,null,null,null,{"$f":"IF(OR(Dashboard!$P$4=\"All\",Dashboard!$R$4=\"All\"),NA(),IF(OR(Data!K1887<>Dashboard!$P$4,Data!K1887<>Dashboard!$R$4),Data!G1887,NA()))","v":46359}]
[null,{"$f":"IF(Dashboard!$P$4=\"All\",Data!G1888,IF(Data!K1888=Dashboard!$P$4,Data!G1888,NA()))","v":{"$error":"#N/A"}},"","","",{"$f":"IF(C1337<>\"\",Data!$M1888,\"\")","v":""},null,null,null,null,{"$f":"IF(Dashboard!$R$4=\"All\",Data!G1888,IF(Data!K1888=Dashboard!$R$4,Data!G1888,NA()))","v":{"$error":"#N/A"}},"","","",{"$f":"IF(L1337<>\"\",Data!$M1888,\"\")","v":""},null,null,null,null,{"$f":"IF(OR(Dashboard!$P$4=\"All\",Dashboard!$R$4=\"All\"),NA(),IF(OR(Data!K1888<>Dashboard!$P$4,Data!K1888<>Dashboard!$R$4),Data!G1888,NA()))","v":70000}]

{"sheet":"Data","index":2,"n_rows":1888,"n_cols":13,"rows_kept":1888,"cut":false,"hidden":false,"merged":[[0,1,0,4]]}
[null,"Excel Salary Survey Data"]
[]
[null,"Note: Experience data is not available for first few hundred rows."]
[]
[null,"Unique ID","Timestamp","Your Salary","clean Salary (in local currency)","Currency","Salary in USD","Your Job Title","Job Type","Where do you work","clean Country","How many hours of a day you work on Excel","Years of Experience"]
[null,"ID0001","2012-05-25T03:11:32",5846,5846,"USD",{"$f":"tblSalaries[[#This Row],[clean Salary (in local currency)]]*VLOOKUP(tblSalaries[[#This Row],[Currency]],tblXrate[],2,FALSE)","v":5846},"MIS Analyst","Analyst","India",{"$f":"VLOOKUP(tblSalaries[[#This Row],[Where do you work]],tblCountries[[Actual]:[Mapping]],2,FALSE)","v":"India"},"4 to 6 hours a day"]
[null,"ID0002","2012-05-25T03:13:13","15000 usd",15000,"USD",{"$f":"tblSalaries[[#This Row],[clean Salary (in local currency)]]*VLOOKUP(tblSalaries[[#This Row],[Currency]],tblXrate[],2,FALSE)","v":15000},"cost control","Controller","europe/Croatia",{"$f":"VLOOKUP(tblSalaries[[#This Row],[Where do you work]],tblCountries[[Actual]:[Mapping]],2,FALSE)","v":"Croatia"},"All the 8 hours baby, all the 8!"]
[null,"ID0003","2012-05-25T03:16:26",58000,58000,"USD",{"$f":"tblSalaries[[#This Row],[clean Salary (in local currency)]]*VLOOKUP(tblSalaries[[#This Row],[Currency]],tblXrate[],2,FALSE)","v":58000},"Financial Analyst","Analyst","USA",{"$f":"VLOOKUP(tblSalaries[[#This Row],[Where do you work]],tblCountries[[Actual]:[Mapping]],2,FALSE)","v":"USA"},"All the 8 hours baby, all the 8!"]
[null,"ID0004","2012-05-25T03:23:42",48000,48000,"USD",{"$f":"tblSalaries[[#This Row],[clean Salary (in local currency)]]*VLOOKUP(tblSalaries[[#This Row],[Currency]],tblXrate[],2,FALSE)","v":48000},"Quality Control","Controller","Pakistan",{"$f":"VLOOKUP(tblSalaries[[#This Row],[Where do you work]],tblCountries[[Actual]:[Mapping]],2,FALSE)","v":"Pakistan"},"2 to 3 hours per day"]
[null,"ID0005","2012-05-25T03:27:04",54000,54000,"USD",{"$f":"tblSalaries[[#This Row],[clean Salary (in local currency)]]*VLOOKUP(tblSalaries[[#This Row],[Currency]],tblXrate[],2,FALSE)","v":54000},"Quality Engineer","Engineer","USA",{"$f":"VLOOKUP(tblSalaries[[#This Row],[Where do you work]],tblCountries[[Actual]:[Mapping]],2,FALSE)","v":"USA"},"All the 8 hours baby, all the 8!"]
[null,"ID0006","2012-05-25T03:28:28",41731,41731,"USD",{"$f":"tblSalaries[[#This Row],[clean Salary (in local currency)]]*VLOOKUP(tblSalaries[[#This Row],[Currency]],tblXrate[],2,FALSE)","v":41731},"Analyst","Analyst","Iceland",{"$f":"VLOOKUP(tblSalaries[[#This Row],[Where do you work]],tblCountries[[Actual]:[Mapping]],2,FALSE)","v":"Iceland"},"All the 8 hours baby, all the 8!"]
[null,"ID0007","2012-05-25T03:33:51",145000,145000,"EUR",{"$f":"tblSalaries[[#This Row],[clean Salary (in local currency)]]*VLOOKUP(tblSalaries[[#This Row],[Currency]],tblXrate[],2,FALSE)","v":184207.91865378313},"senior project manager","Manager","Germany",{"$f":"VLOOKUP(tblSalaries[[#This Row],[Where do you work]],tblCountries[[Actual]:[Mapping]],2,FALSE)","v":"Germany"},"1 or 2 hours a day"]
[null,"ID0008","2012-05-25T03:36:37",12000,12000,"USD",{"$f":"tblSalaries[[#This Row],[clean Salary (in local currency)]]*VLOOKUP(tblSalaries[[#This Row],[Currency]],tblXrate[],2,FALSE)","v":12000},"Assistant SP&A","Analyst","Ukraine",{"$f":"VLOOKUP(tblSalaries[[#This Row],[Where do you work]],tblCountries[[Actual]:[Mapping]],2,FALSE)","v":"Ukraine"},"All the 8 hours baby, all the 8!"]
[null,"ID0009","2012-05-25T03:37:17","44000 $",44000,"USD",{"$f":"tblSalaries[[#This Row],[clean Salary (in local currency)]]*VLOOKUP(tblSalaries[[#This Row],[Currency]],tblXrate[],2,FALSE)","v":44000},"CFO","CXO or Top Mgmt.","Portugal",{"$f":"VLOOKUP(tblSalaries[[#This Row],[Where do you work]],tblCountries[[Actual]:[Mapping]],2,FALSE)","v":"Portugal"},"1 or 2 hours a day"]
[null,"ID0010","2012-05-25T03:38:57","PKR 8,000",1152000,"PKR",{"$f":"tblSalaries[[#This Row],[clean Salary (in local currency)]]*VLOOKUP(tblSalaries[[#This Row],[Currency]],tblXrate[],2,FALSE)","v":12227.430201752599},"Audit Trainee ","Accountant","Pakistan",{"$f":"VLOOKUP(tblSalaries[[#This Row],[Where do you work]],tblCountries[[Actual]:[Mapping]],2,FALSE)","v":"Pakistan"},"All the 8 hours baby, all the 8!"]
[null,"ID0011","2012-05-25T03:43:45","â‚¬ 51650",51650,"EUR",{"$f":"tblSalaries[[#This Row],[clean Salary (in local currency)]]*VLOOKUP(tblSalaries[[#This Row],[Currency]],tblXrate[],2,FALSE)","v":65616.131023916547},"Training Specialist","Specialist","Ireland",{"$f":"VLOOKUP(tblSalaries[[#This Row],[Where do you work]],tblCountries[[Actual]:[Mapping]],2,FALSE)","v":"Ireland"},"2 to 3 hours per day"]
[null,"ID0012","2012-05-25T03:43:56",14000,14000,"USD",{"$f":"tblSalaries[[#This Row],[clean Salary (in local currency)]]*VLOOKUP(tblSalaries[[#This Row],[Currency]],tblXrate[],2,FALSE)","v":14000},"quality engineer","Engineer","Hungary",{"$f":"VLOOKUP(tblSalaries[[#This Row],[Where do you work]],tblCountries[[Actual]:[Mapping]],2,FALSE)","v":"Hungary"},"4 to 6 hours a day"]
[null,"ID0013","2012-05-25T03:48:53","749000 INR",749000,"INR",{"$f":"tblSalaries[[#This Row],[clean Salary (in local currency)]]*VLOOKUP(tblSalaries[[#This Row],[Currency]],tblXrate[],2,FALSE)","v":13338.129598894484},"Senion Analyst","Analyst","India",{"$f":"VLOOKUP(tblSalaries[[#This Row],[Where do you work]],tblCountries[[Actual]:[Mapping]],2,FALSE)","v":"India"},"All the 8 hours baby, all the 8!"]
[null,"ID0014","2012-05-25T03:50:58",49000,49000,"USD",{"$f":"tblSalaries[[#This Row],[clean Salary (in local currency)]]*VLOOKUP(tblSalaries[[#This Row],[Currency]],tblXrate[],2,FALSE)","v":49000},"business analyst","Analyst","USA",{"$f":"VLOOKUP(tblSalaries[[#This Row],[Where do you work]],tblCountries[[Actual]:[Mapping]],2,FALSE)","v":"USA"},"All the 8 hours baby, all the 8!"]
[null,"ID0015","2012-05-25T03:53:22",85000,85000,"USD",{"$f":"tblSalaries[[#This Row],[clean Salary (in local currency)]]*VLOOKUP(tblSalaries[[#This Row],[Currency]],tblXrate[],2,FALSE)","v":85000},"Project Engineer","Engineer","USA",{"$f":"VLOOKUP(tblSalaries[[#This Row],[Where do you work]],tblCountries[[Actual]:[Mapping]],2,FALSE)","v":"USA"},"1 or 2 hours a day"]
[null,"ID0016","2012-05-25T03:56:40",75000,75000,"USD",{"$f":"tblSalaries[[#This Row],[clean Salary (in local currency)]]*VLOOKUP(tblSalaries[[#This Row],[Currency]],tblXrate[],2,FALSE)","v":75000},"Sr Project Engineer","Engineer","USA",{"$f":"VLOOKUP(tblSalaries[[#This Row],[Where do you work]],tblCountries[[Actual]:[Mapping]],2,FALSE)","v":"USA"},"All the 8 hours baby, all the 8!"]
[null,"ID0017","2012-05-25T04:10:11",107000,107000,"USD",{"$f":"tblSalaries[[#This Row],[clean Salary (in local currency)]]*VLOOKUP(tblSalaries[[#This Row],[Currency]],tblXrate[],2,FALSE)","v":107000},"Business Development","Manager","Switzerland",{"$f":"VLOOKUP(tblSalaries[[#This Row],[Where do you work]],tblCountries[[Actual]:[Mapping]],2,FALSE)","v":"Switzerland"},"4 to 6 hours a day"]
[null,"ID0018","2012-05-25T04:10:44",45000,45000,"USD",{"$f":"tblSalaries[[#This Row],[clean Salary (in local currency)]]*VLOOKUP(tblSalaries[[#This Row],[Currency]],tblXrate[],2,FALSE)","v":45000},"Excel Report Writer","Reporting","South Africa",{"$f":"VLOOKUP(tblSalaries[[#This Row],[Where do you work]],tblCountries[[Actual]:[Mapping]],2,FALSE)","v":"South Africa"},"All the 8 hours baby, all the 8!"]
[null,"ID0019","2012-05-25T04:16:32",550000,550000,"INR",{"$f":"tblSalaries[[#This Row],[clean Salary (in local currency)]]*VLOOKUP(tblSalaries[[#This Row],[Currency]],tblXrate[],2,FALSE)","v":9794.354178093412},"AGM","Manager","India",{"$f":"VLOOKUP(tblSalaries[[#This Row],[Where do you work]],tblCountries[[Actual]:[Mapping]],2,FALSE)","v":"India"},"2 to 3 hours per day"]
[null,"ID0020","2012-05-25T04:19:22",50000,50000,"USD",{"$f":"tblSalaries[[#This Row],[clean Salary (in local currency)]]*VLOOKUP(tblSalaries[[#This Row],[Currency]],tblXrate[],2,FALSE)","v":50000},"GM","Manager","India",{"$f":"VLOOKUP(tblSalaries[[#This Row],[Where do you work]],tblCountries[[Actual]:[Mapping]],2,FALSE)","v":"India"},"1 or 2 hours a day"]
[null,"ID0021","2012-05-25T04:24:01",13500,13500,"USD",{"$f":"tblSalaries[[#This Row],[clean Salary (in local currency)]]*VLOOKUP(tblSalaries[[#This Row],[Currency]],tblXrate[],2,FALSE)","v":13500},"DSE Co-ordinator","Manager","India",{"$f":"VLOOKUP(tblSalaries[[#This Row],[Where do you work]],tblCountries[[Actual]:[Mapping]],2,FALSE)","v":"India"},"4 to 6 hours a day"]
[null,"ID0022","2012-05-25T04:24:12",96000,96000,"USD",{"$f":"tblSalaries[[#This Row],[clean Salary (in local currency)]]*VLOOKUP(tblSalaries[[#This Row],[Currency]],tblXrate[],2,FALSE)","v":96000},"Analyst","Analyst","USA",{"$f":"VLOOKUP(tblSalaries[[#This Row],[Where do you work]],tblCountries[[Actual]:[Mapping]],2,FALSE)","v":"USA"},"2 to 3 hours per day"]
[null,"ID0023","2012-05-25T04:31:41",1000000,1000000,"INR",{"$f":"tblSalaries[[#This Row],[clean Salary (in local currency)]]*VLOOKUP(tblSalaries[[#This Row],[Currency]],tblXrate[],2,FALSE)","v":17807.916687442568},"Manager","Manager","India",{"$f":"VLOOKUP(tblSalaries[[#This Row],[Where do you work]],tblCountries[[Actual]:[Mapping]],2,FALSE)","v":"India"},"4 to 6 hours a day"]
[null,"ID0024","2012-05-25T04:32:49",75000,75000,"USD",{"$f":"tblSalaries[[#This Row],[clean Salary (in local currency)]]*VLOOKUP(tblSalaries[[#This Row],[Currency]],tblXrate[],2,FALSE)","v":75000},"Marketing Director","CXO or Top Mgmt.","USA",{"$f":"VLOOKUP(tblSalaries[[#This Row],[Where do you work]],tblCountries[[Actual]:[Mapping]],2,FALSE)","v":"USA"},"4 to 6 hours a day"]
[null,"ID0025","2012-05-25T04:43:51","40000 us",40000,"USD",{"$f":"tblSalaries[[#This Row],[clean Salary (in local currency)]]*VLOOKUP(tblSalaries[[#This Row],[Currency]],tblXrate[],2,FALSE)","v":40000},"sales and marketing","Manager","USA",{"$f":"VLOOKUP(tblSalaries[[#This Row],[Where do you work]],tblCountries[[Actual]:[Mapping]],2,FALSE)","v":"USA"},"2 to 3 hours per day"]
[null,"ID0026","2012-05-25T04:45:01",60000,60000,"USD",{"$f":"tblSalaries[[#This Row],[clean Salary (in local currency)]]*VLOOKUP(tblSalaries[[#This Row],[Currency]],tblXrate[],2,FALSE)","v":60000},"Analyst II","Analyst","USA",{"$f":"VLOOKUP(tblSalaries[[#This Row],[Where do you work]],tblCountries[[Actual]:[Mapping]],2,FALSE)","v":"USA"},"All the 8 hours baby, all the 8!"]
[null,"ID0028","2012-05-25T04:48:33",2700,32400,"EUR",{"$f":"tblSalaries[[#This Row],[clean Salary (in local currency)]]*VLOOKUP(tblSalaries[[#This Row],[Currency]],tblXrate[],2,FALSE)","v":41160.941823328096},"Project Leader","Manager","Belgium",{"$f":"VLOOKUP(tblSalaries[[#This Row],[Where do you work]],tblCountries[[Actual]:[Mapping]],2,FALSE)","v":"Belgium"},"4 to 6 hours a day"]
[null,"ID0029","2012-05-25T04:52:23","900000 INR",900000,"INR",{"$f":"tblSalaries[[#This Row],[clean Salary (in local currency)]]*VLOOKUP(tblSalaries[[#This Row],[Currency]],tblXrate[],2,FALSE)","v":16027.125018698311},"Applications Engineer","Engineer","India",{"$f":"VLOOKUP(tblSalaries[[#This Row],[Where do you work]],tblCountries[[Actual]:[Mapping]],2,FALSE)","v":"India"},"1 or 2 hours a day"]
[null,"ID0030","2012-05-25T04:55:35","Rs 600000",600000,"INR",{"$f":"tblSalaries[[#This Row],[clean Salary (in local currency)]]*VLOOKUP(tblSalaries[[#This Row],[Currency]],tblXrate[],2,FALSE)","v":10684.750012465542},"strategy manager","Manager","India",{"$f":"VLOOKUP(tblSalaries[[#This Row],[Where do you work]],tblCountries[[Actual]:[Mapping]],2,FALSE)","v":"India"},"4 to 6 hours a day"]
[null,"ID0031","2012-05-25T04:55:48",41000,41000,"USD",{"$f":"tblSalaries[[#This Row],[clean Salary (in local currency)]]*VLOOKUP(tblSalaries[[#This Row],[Currency]],tblXrate[],2,FALSE)","v":41000},"Chief of the department of public budget analisis and forecasting","Manager","Russia",{"$f":"VLOOKUP(tblSalaries[[#This Row],[Where do you work]],tblCountries[[Actual]:[Mapping]],2,FALSE)","v":"Russia"},"All the 8 hours baby, all the 8!"]
[null,"ID0032","2012-05-25T04:57:06","360000 INR",360000,"INR",{"$f":"tblSalaries[[#This Row],[clean Salary (in local currency)]]*VLOOKUP(tblSalaries[[#This Row],[Currency]],tblXrate[],2,FALSE)","v":6410.8500074793246},"Specialist","Specialist","India",{"$f":"VLOOKUP(tblSalaries[[#This Row],[Where do you work]],tblCountries[[Actual]:[Mapping]],2,FALSE)","v":"India"},"4 to 6 hours a day"]
[null,"ID0033","2012-05-25T04:58:45","Â£35000",35000,"GBP",{"$f":"tblSalaries[[#This Row],[clean Salary (in local currency)]]*VLOOKUP(tblSalaries[[#This Row],[Currency]],tblXrate[],2,FALSE)","v":55166.239522354947},"Management Information Analyst","Analyst","UK",{"$f":"VLOOKUP(tblSalaries[[#This Row],[Where do you work]],tblCountries[[Actual]:[Mapping]],2,FALSE)","v":"UK"},"All the 8 hours baby, all the 8!"]
[null,"ID0035","2012-05-25T05:01:09","1600 $",19200,"USD",{"$f":"tblSalaries[[#This Row],[clean Salary (in local currency)]]*VLOOKUP(tblSalaries[[#This Row],[Currency]],tblXrate[],2,FALSE)","v":19200},"Analyst","Analyst","Poland",{"$f":"VLOOKUP(tblSalaries[[#This Row],[Where do you work]],tblCountries[[Actual]:[Mapping]],2,FALSE)","v":"Poland"},"2 to 3 hours per day"]
[null,"ID0036","2012-05-25T05:04:12",500000,500000,"INR",{"$f":"tblSalaries[[#This Row],[clean Salary (in local currency)]]*VLOOKUP(tblSalaries[[#This Row],[Currency]],tblXrate[],2,FALSE)","v":8903.9583437212841},"Senior Consultant","Consultant","India",{"$f":"VLOOKUP(tblSalaries[[#This Row],[Where do you work]],tblCountries[[Actual]:[Mapping]],2,FALSE)","v":"India"},"All the 8 hours baby, all the 8!"]
[null,"ID0037","2012-05-25T05:07:31",150000,150000,"USD",{"$f":"tblSalaries[[#This Row],[clean Salary (in local currency)]]*VLOOKUP(tblSalaries[[#This Row],[Currency]],tblXrate[],2,FALSE)","v":150000},"Portfolio Manager","Manager","USA",{"$f":"VLOOKUP(tblSalaries[[#This Row],[Where do you work]],tblCountries[[Actual]:[Mapping]],2,FALSE)","v":"USA"},"2 to 3 hours per day"]
[null,"ID0038","2012-05-25T05:10:29",69000,69000,"USD",{"$f":"tblSalaries[[#This Row],[clean Salary (in local currency)]]*VLOOKUP(tblSalaries[[#This Row],[Currency]],tblXrate[],2,FALSE)","v":69000},"Design Engineer","Engineer","USA",{"$f":"VLOOKUP(tblSalaries[[#This Row],[Where do you work]],tblCountries[[Actual]:[Mapping]],2,FALSE)","v":"USA"},"4 to 6 hours a day"]
[null,"ID0039","2012-05-25T05:11:37",30000,30000,"USD",{"$f":"tblSalaries[[#This Row],[clean Salary (in local currency)]]*VLOOKUP(tblSalaries[[#This Row],[Currency]],tblXrate[],2,FALSE)","v":30000},"Academic Advisor","Consultant","USA",{"$f":"VLOOKUP(tblSalaries[[#This Row],[Where do you work]],tblCountries[[Actual]:[Mapping]],2,FALSE)","v":"USA"},"2 to 3 hours per day"]
[null,"ID0040","2012-05-25T05:13:50","Rs. 400000",400000,"INR",{"$f":"tblSalaries[[#This Row],[clean Salary (in local currency)]]*VLOOKUP(tblSalaries[[#This Row],[Currency]],tblXrate[],2,FALSE)","v":7123.1666749770275},"Coordination","Manager","India",{"$f":"VLOOKUP(tblSalaries[[#This Row],[Where do you work]],tblCountries[[Actual]:[Mapping]],2,FALSE)","v":"India"},"4 to 6 hours a day"]
[null,"ID0041","2012-05-25T05:18:48",70000,70000,"AUD",{"$f":"tblSalaries[[#This Row],[clean Salary (in local currency)]]*VLOOKUP(tblSalaries[[#This Row],[Currency]],tblXrate[],2,FALSE)","v":71393.675948184507},"consultant","Consultant","Australia",{"$f":"VLOOKUP(tblSalaries[[#This Row],[Where do you work]],tblCountries[[Actual]:[Mapping]],2,FALSE)","v":"Australia"},"2 to 3 hours per day"]
[null,"ID0042","2012-05-25T05:20:10",14500,14500,"USD",{"$f":"tblSalaries[[#This Row],[clean Salary (in local currency)]]*VLOOKUP(tblSalaries[[#This Row],[Currency]],tblXrate[],2,FALSE)","v":14500},"Business Analsyt","Analyst","India",{"$f":"VLOOKUP(tblSalaries[[#This Row],[Where do you work]],tblCountries[[Actual]:[Mapping]],2,FALSE)","v":"India"},"4 to 6 hours a day"]
[null,"ID0043","2012-05-25T05:30:39",70000,70000,"CAD",{"$f":"tblSalaries[[#This Row],[clean Salary (in local currency)]]*VLOOKUP(tblSalaries[[#This Row],[Currency]],tblXrate[],2,FALSE)","v":68835.306612122877},"Product Engineer","Engineer","Canada",{"$f":"VLOOKUP(tblSalaries[[#This Row],[Where do you work]],tblCountries[[Actual]:[Mapping]],2,FALSE)","v":"Canada"},"2 to 3 hours per day"]
[null,"ID0044","2012-05-25T05:35:28",58000,58000,"USD",{"$f":"tblSalaries[[#This Row],[clean Salary (in local currency)]]*VLOOKUP(tblSalaries[[#This Row],[Currency]],tblXrate[],2,FALSE)","v":58000},"Senior Accountant","Accountant","USA",{"$f":"VLOOKUP(tblSalaries[[#This Row],[Where do you work]],tblCountries[[Actual]:[Mapping]],2,FALSE)","v":"USA"},"4 to 6 hours a day"]
[null,"ID0045","2012-05-25T05:45:01",90000,90000,"USD",{"$f":"tblSalaries[[#This Row],[clean Salary (in local currency)]]*VLOOKUP(tblSalaries[[#This Row],[Currency]],tblXrate[],2,FALSE)","v":90000},"Scientist","Misc.","USA",{"$f":"VLOOKUP(tblSalaries[[#This Row],[Where do you work]],tblCountries[[Actual]:[Mapping]],2,FALSE)","v":"USA"},"1 or 2 hours a day"]
[null,"ID0046","2012-05-25T05:46:47",800000,800000,"INR",{"$f":"tblSalaries[[#This Row],[clean Salary (in local currency)]]*VLOOKUP(tblSalaries[[#This Row],[Currency]],tblXrate[],2,FALSE)","v":14246.333349954055},"Team Lead","Manager","India",{"$f":"VLOOKUP(tblSalaries[[#This Row],[Where do you work]],tblCountries[[Actual]:[Mapping]],2,FALSE)","v":"India"},"2 to 3 hours per day"]
[null,"ID0047","2012-05-25T05:47:10",32000,32000,"GBP",{"$f":"tblSalaries[[#This Row],[clean Salary (in local currency)]]*VLOOKUP(tblSalaries[[#This Row],[Currency]],tblXrate[],2,FALSE)","v":50437.70470615309},"Senior intelligence analyst","Analyst","UK",{"$f":"VLOOKUP(tblSalaries[[#This Row],[Where do you work]],tblCountries[[Actual]:[Mapping]],2,FALSE)","v":"UK"},"4 to 6 hours a day"]
[null,"ID0048","2012-05-25T05:47:52",1000,12000,"USD",{"$f":"tblSalaries[[#This Row],[clean Salary (in local currency)]]*VLOOKUP(tblSalaries[[#This Row],[Currency]],tblXrate[],2,FALSE)","v":12000},"Freelance consultant","Consultant","USA",{"$f":"VLOOKUP(tblSalaries[[#This Row],[Where do you work]],tblCountries[[Actual]:[Mapping]],2,FALSE)","v":"USA"},"1 or 2 hours a day"]
[null,"ID0049","2012-05-25T06:04:42","â‚¬ 45",45000,"EUR",{"$f":"tblSalaries[[#This Row],[clean Salary (in local currency)]]*VLOOKUP(tblSalaries[[#This Row],[Currency]],tblXrate[],2,FALSE)","v":57167.974754622352},"Online Traffic Manager / Web Analist","Manager","The Netherlands",{"$f":"VLOOKUP(tblSalaries[[#This Row],[Where do you work]],tblCountries[[Actual]:[Mapping]],2,FALSE)","v":"Netherlands"},"4 to 6 hours a day"]
[null,"ID0050","2012-05-25T06:04:57","100000 USD",100000,"USD",{"$f":"tblSalaries[[#This Row],[clean Salary (in local currency)]]*VLOOKUP(tblSalaries[[#This Row],[Currency]],tblXrate[],2,FALSE)","v":100000},"Seinor Financial Analyst","Analyst","Germany",{"$f":"VLOOKUP(tblSalaries[[#This Row],[Where do you work]],tblCountries[[Actual]:[Mapping]],2,FALSE)","v":"Germany"},"All the 8 hours baby, all the 8!"]
[null,"ID0051","2012-05-25T06:05:17",57000,57000,"USD",{"$f":"tblSalaries[[#This Row],[clean Salary (in local currency)]]*VLOOKUP(tblSalaries[[#This Row],[Currency]],tblXrate[],2,FALSE)","v":57000},"Senior Accounting Supervisor","Accountant","USA",{"$f":"VLOOKUP(tblSalaries[[#This Row],[Where do you work]],tblCountries[[Actual]:[Mapping]],2,FALSE)","v":"USA"},"2 to 3 hours per day"]
[null,"ID0052","2012-05-25T06:07:15",40000,40000,"GBP",{"$f":"tblSalaries[[#This Row],[clean Salary (in local currency)]]*VLOOKUP(tblSalaries[[#This Row],[Currency]],tblXrate[],2,FALSE)","v":63047.130882691366},"Senior Accountant","Accountant","UK",{"$f":"VLOOKUP(tblSalaries[[#This Row],[Where do you work]],tblCountries[[Actual]:[Mapping]],2,FALSE)","v":"UK"},"4 to 6 hours a day"]
[null,"ID0053","2012-05-25T06:09:44","2000 Euros",24000,"EUR",{"$f":"tblSalaries[[#This Row],[clean Salary (in local currency)]]*VLOOKUP(tblSalaries[[#This Row],[Currency]],tblXrate[],2,FALSE)","v":30489.586535798586},"PPC Manager","Manager","Germany",{"$f":"VLOOKUP(tblSalaries[[#This Row],[Where do you work]],tblCountries[[Actual]:[Mapping]],2,FALSE)","v":"Germany"},"All the 8 hours baby, all the 8!"]
[null,"ID0054","2012-05-25T06:10:18",4320,4320,"USD",{"$f":"tblSalaries[[#This Row],[clean Salary (in local currency)]]*VLOOKUP(tblSalaries[[#This Row],[Currency]],tblXrate[],2,FALSE)","v":4320},"Financial Planner","Accountant","India",{"$f":"VLOOKUP(tblSalaries[[#This Row],[Where do you work]],tblCountries[[Actual]:[Mapping]],2,FALSE)","v":"India"},"2 to 3 hours per day"]
[null,"ID0055","2012-05-25T06:15:42",62000,62000,"USD",{"$f":"tblSalaries[[#This Row],[clean Salary (in local currency)]]*VLOOKUP(tblSalaries[[#This Row],[Currency]],tblXrate[],2,FALSE)","v":62000},"Analyst","Analyst","USA",{"$f":"VLOOKUP(tblSalaries[[#This Row],[Where do you work]],tblCountries[[Actual]:[Mapping]],2,FALSE)","v":"USA"},"4 to 6 hours a day"]
[null,"ID0056","2012-05-25T06:26:44",7500,7500,"USD",{"$f":"tblSalaries[[#This Row],[clean Salary (in local currency)]]*VLOOKUP(tblSalaries[[#This Row],[Currency]],tblXrate[],2,FALSE)","v":7500},"Analyst","Analyst","India",{"$f":"VLOOKUP(tblSalaries[[#This Row],[Where do you work]],tblCountries[[Actual]:[Mapping]],2,FALSE)","v":"India"},"4 to 6 hours a day"]
[null,"ID0057","2012-05-25T06:27:29","Â£18000",18000,"GBP",{"$f":"tblSalaries[[#This Row],[clean Salary (in local currency)]]*VLOOKUP(tblSalaries[[#This Row],[Currency]],tblXrate[],2,FALSE)","v":28371.208897211112},"Building Design and Performance Researcher","Manager","UK",{"$f":"VLOOKUP(tblSalaries[[#This Row],[Where do you work]],tblCountries[[Actual]:[Mapping]],2,FALSE)","v":"UK"},"1 or 2 hours a day"]
[null,"ID0058","2012-05-25T06:49:25",49000,49000,"EUR",{"$f":"tblSalaries[[#This Row],[clean Salary (in local currency)]]*VLOOKUP(tblSalaries[[#This Row],[Currency]],tblXrate[],2,FALSE)","v":62249.572510588783},"Project leader","Manager","France",{"$f":"VLOOKUP(tblSalaries[[#This Row],[Where do you work]],tblCountries[[Actual]:[Mapping]],2,FALSE)","v":"France"},"2 to 3 hours per day"]
[null,"ID0059","2012-05-25T06:57:52",38000,38000,"USD",{"$f":"tblSalaries[[#This Row],[clean Salary (in local currency)]]*VLOOKUP(tblSalaries[[#This Row],[Currency]],tblXrate[],2,FALSE)","v":38000},"Senior Analyst","Analyst","USA",{"$f":"VLOOKUP(tblSalaries[[#This Row],[Where do you work]],tblCountries[[Actual]:[Mapping]],2,FALSE)","v":"USA"},"4 to 6 hours a day"]
[null,"ID0060","2012-05-25T07:00:52",41000,41000,"USD",{"$f":"tblSalaries[[#This Row],[clean Salary (in local currency)]]*VLOOKUP(tblSalaries[[#This Row],[Currency]],tblXrate[],2,FALSE)","v":41000},"Specialist","Specialist","USA",{"$f":"VLOOKUP(tblSalaries[[#This Row],[Where do you work]],tblCountries[[Actual]:[Mapping]],2,FALSE)","v":"USA"},"4 to 6 hours a day"]
[null,"ID0061","2012-05-25T07:11:09",68000,68000,"USD",{"$f":"tblSalaries[[#This Row],[clean Salary (in local currency)]]*VLOOKUP(tblSalaries[[#This Row],[Currency]],tblXrate[],2,FALSE)","v":68000},"Engineering Data Analyst","Analyst","USA",{"$f":"VLOOKUP(tblSalaries[[#This Row],[Where do you work]],tblCountries[[Actual]:[Mapping]],2,FALSE)","v":"USA"},"All the 8 hours baby, all the 8!"]
[null,"ID0062","2012-05-25T07:13:31",56000,56000,"CAD",{"$f":"tblSalaries[[#This Row],[clean Salary (in local currency)]]*VLOOKUP(tblSalaries[[#This Row],[Currency]],tblXrate[],2,FALSE)","v":55068.245289698301},"Sales Analyst","Analyst","CANADA",{"$f":"VLOOKUP(tblSalaries[[#This Row],[Where do you work]],tblCountries[[Actual]:[Mapping]],2,FALSE)","v":"Canada"},"All the 8 hours baby, all the 8!"]
[null,"ID0063","2012-05-25T07:15:12",61000,61000,"USD",{"$f":"tblSalaries[[#This Row],[clean Salary (in local currency)]]*VLOOKUP(tblSalaries[[#This Row],[Currency]],tblXrate[],2,FALSE)","v":61000},"Coordinator Of Costa and Buget","Manager","Brasil",{"$f":"VLOOKUP(tblSalaries[[#This Row],[Where do you work]],tblCountries[[Actual]:[Mapping]],2,FALSE)","v":"Brazil"},"All the 8 hours baby, all the 8!"]
[null,"ID0064","2012-05-25T07:18:53",43000,43000,"EUR",{"$f":"tblSalaries[[#This Row],[clean Salary (in local currency)]]*VLOOKUP(tblSalaries[[#This Row],[Currency]],tblXrate[],2,FALSE)","v":54627.175876639136},"SAP consultant","Consultant","FR",{"$f":"VLOOKUP(tblSalaries[[#This Row],[Where do you work]],tblCountries[[Actual]:[Mapping]],2,FALSE)","v":"France"},"4 to 6 hours a day"]
[null,"ID0065","2012-05-25T07:20:08",85000,85000,"USD",{"$f":"tblSalaries[[#This Row],[clean Salary (in local currency)]]*VLOOKUP(tblSalaries[[#This Row],[Currency]],tblXrate[],2,FALSE)","v":85000},"Manager","Manager","USA",{"$f":"VLOOKUP(tblSalaries[[#This Row],[Where do you work]],tblCountries[[Actual]:[Mapping]],2,FALSE)","v":"USA"},"4 to 6 hours a day"]
[null,"ID0066","2012-05-25T07:21:18","â‚¬ 38000",38000,"EUR",{"$f":"tblSalaries[[#This Row],[clean Salary (in local currency)]]*VLOOKUP(tblSalaries[[#This Row],[Currency]],tblXrate[],2,FALSE)","v":48275.178681681093},"busines analist","Analyst","The Netherlands",{"$f":"VLOOKUP(tblSalaries[[#This Row],[Where do you work]],tblCountries[[Actual]:[Mapping]],2,FALSE)","v":"Netherlands"},"1 or 2 hours a day"]
[null,"ID0067","2012-05-25T07:25:12",85000,85000,"AUD",{"$f":"tblSalaries[[#This Row],[clean Salary (in local currency)]]*VLOOKUP(tblSalaries[[#This Row],[Currency]],tblXrate[],2,FALSE)","v":86692.320794224041},"head of data","CXO or Top Mgmt.","Australia",{"$f":"VLOOKUP(tblSalaries[[#This Row],[Where do you work]],tblCountries[[Actual]:[Mapping]],2,FALSE)","v":"Australia"},"4 to 6 hours a day"]
[null,"ID0068","2012-05-25T07:29:12",85087,85087,"USD",{"$f":"tblSalaries[[#This Row],[clean Salary (in local currency)]]*VLOOKUP(tblSalaries[[#This Row],[Currency]],tblXrate[],2,FALSE)","v":85087},"Business Systems Analyst","Analyst","USA",{"$f":"VLOOKUP(tblSalaries[[#This Row],[Where do you work]],tblCountries[[Actual]:[Mapping]],2,FALSE)","v":"USA"},"2 to 3 hours per day"]
[null,"ID0069","2012-05-25T07:38:22",50000,50000,"USD",{"$f":"tblSalaries[[#This Row],[clean Salary (in local currency)]]*VLOOKUP(tblSalaries[[#This Row],[Currency]],tblXrate[],2,FALSE)","v":50000},"Financial Analyst II","Analyst","USA",{"$f":"VLOOKUP(tblSalaries[[#This Row],[Where do you work]],tblCountries[[Actual]:[Mapping]],2,FALSE)","v":"USA"},"All the 8 hours baby, all the 8!"]
[null,"ID0070","2012-05-25T07:47:00",100000,100000,"USD",{"$f":"tblSalaries[[#This Row],[clean Salary (in local currency)]]*VLOOKUP(tblSalaries[[#This Row],[Currency]],tblXrate[],2,FALSE)","v":100000},"Mngr MI","Manager","RSA",{"$f":"VLOOKUP(tblSalaries[[#This Row],[Where do you work]],tblCountries[[Actual]:[Mapping]],2,FALSE)","v":"South Africa"},"4 to 6 hours a day"]
[null,"ID0071","2012-05-25T22:49:00",57000,57000,"USD",{"$f":"tblSalaries[[#This Row],[clean Salary (in local currency)]]*VLOOKUP(tblSalaries[[#This Row],[Currency]],tblXrate[],2,FALSE)","v":57000},"sales analyst","Analyst","USA",{"$f":"VLOOKUP(tblSalaries[[#This Row],[Where do you work]],tblCountries[[Actual]:[Mapping]],2,FALSE)","v":"USA"},"4 to 6 hours a day"]
[null,"ID0072","2012-05-25T22:52:28",75000,75000,"USD",{"$f":"tblSalaries[[#This Row],[clean Salary (in local currency)]]*VLOOKUP(tblSalaries[[#This Row],[Currency]],tblXrate[],2,FALSE)","v":75000},"Consumer Research Program Manager","Manager","USA",{"$f":"VLOOKUP(tblSalaries[[#This Row],[Where do you work]],tblCountries[[Actual]:[Mapping]],2,FALSE)","v":"USA"},"All the 8 hours baby, all the 8!"]
[null,"ID0073","2012-05-25T22:59:05","$AUD100000",100000,"AUD",{"$f":"tblSalaries[[#This Row],[clean Salary (in local currency)]]*VLOOKUP(tblSalaries[[#This Row],[Currency]],tblXrate[],2,FALSE)","v":101990.96564026357},"technical trainer","Manager","Australia",{"$f":"VLOOKUP(tblSalaries[[#This Row],[Where do you work]],tblCountries[[Actual]:[Mapping]],2,FALSE)","v":"Australia"},"4 to 6 hours a day"]
[null,"ID0074","2012-05-25T23:01:20",2785,33420,"USD",{"$f":"tblSalaries[[#This Row],[clean Salary (in local currency)]]*VLOOKUP(tblSalaries[[#This Row],[Currency]],tblXrate[],2,FALSE)","v":33420},"Process Flow Coordinator","Manager","United Arab Emirates",{"$f":"VLOOKUP(tblSalaries[[#This Row],[Where do you work]],tblCountries[[Actual]:[Mapping]],2,FALSE)","v":"UAE"},"All the 8 hours baby, all the 8!"]
[null,"ID0075","2012-05-25T23:03:00",59450,59450,"CAD",{"$f":"tblSalaries[[#This Row],[clean Salary (in local currency)]]*VLOOKUP(tblSalaries[[#This Row],[Currency]],tblXrate[],2,FALSE)","v":58460.842544152933},"Process Improvement Specialist","Specialist","Canada",{"$f":"VLOOKUP(tblSalaries[[#This Row],[Where do you work]],tblCountries[[Actual]:[Mapping]],2,FALSE)","v":"Canada"},"All the 8 hours baby, all the 8!"]
[null,"ID0076","2012-05-25T23:12:29",15000,15000,"USD",{"$f":"tblSalaries[[#This Row],[clean Salary (in local currency)]]*VLOOKUP(tblSalaries[[#This Row],[Currency]],tblXrate[],2,FALSE)","v":15000},"Excel Programmer Consultant","Consultant","USA",{"$f":"VLOOKUP(tblSalaries[[#This Row],[Where do you work]],tblCountries[[Actual]:[Mapping]],2,FALSE)","v":"USA"},"All the 8 hours baby, all the 8!"]
[null,"ID0077","2012-05-25T23:15:34","US $60,000",60000,"USD",{"$f":"tblSalaries[[#This Row],[clean Salary (in local currency)]]*VLOOKUP(tblSalaries[[#This Row],[Currency]],tblXrate[],2,FALSE)","v":60000},"Statistical Analyst","Analyst","Canada",{"$f":"VLOOKUP(tblSalaries[[#This Row],[Where do you work]],tblCountries[[Actual]:[Mapping]],2,FALSE)","v":"Canada"},"1 or 2 hours a day"]
[null,"ID0078","2012-05-25T23:18:45",100000,100000,"GBP",{"$f":"tblSalaries[[#This Row],[clean Salary (in local currency)]]*VLOOKUP(tblSalaries[[#This Row],[Currency]],tblXrate[],2,FALSE)","v":157617.8272067284},"Analyst","Analyst","UK",{"$f":"VLOOKUP(tblSalaries[[#This Row],[Where do you work]],tblCountries[[Actual]:[Mapping]],2,FALSE)","v":"UK"},"2 to 3 hours per day"]
[null,"ID0079","2012-05-25T23:20:46","Us$ 18000",18000,"USD",{"$f":"tblSalaries[[#This Row],[clean Salary (in local currency)]]*VLOOKUP(tblSalaries[[#This Row],[Currency]],tblXrate[],2,FALSE)","v":18000},"Operational Analyst","Analyst","Saudi Arabia",{"$f":"VLOOKUP(tblSalaries[[#This Row],[Where do you work]],tblCountries[[Actual]:[Mapping]],2,FALSE)","v":"Saudi Arabia"},"All the 8 hours baby, all the 8!"]
[null,"ID0080","2012-05-25T23:31:16",50000,50000,"USD",{"$f":"tblSalaries[[#This Row],[clean Salary (in local currency)]]*VLOOKUP(tblSalaries[[#This Row],[Currency]],tblXrate[],2,FALSE)","v":50000},"Exceler","Manager","USA",{"$f":"VLOOKUP(tblSalaries[[#This Row],[Where do you work]],tblCountries[[Actual]:[Mapping]],2,FALSE)","v":"USA"},"2 to 3 hours per day"]
[null,"ID0081","2012-05-25T23:33:15",26000,26000,"USD",{"$f":"tblSalaries[[#This Row],[clean Salary (in local currency)]]*VLOOKUP(tblSalaries[[#This Row],[Currency]],tblXrate[],2,FALSE)","v":26000},"Marketing Analyst","Analyst","Panama",{"$f":"VLOOKUP(tblSalaries[[#This Row],[Where do you work]],tblCountries[[Actual]:[Mapping]],2,FALSE)","v":"Panama"},"All the 8 hours baby, all the 8!"]
[null,"ID0082","2012-05-25T23:49:27","Â£30000",30000,"GBP",{"$f":"tblSalaries[[#This Row],[clean Salary (in local currency)]]*VLOOKUP(tblSalaries[[#This Row],[Currency]],tblXrate[],2,FALSE)","v":47285.348162018527},"Database Manager","Manager","UK",{"$f":"VLOOKUP(tblSalaries[[#This Row],[Where do you work]],tblCountries[[Actual]:[Mapping]],2,FALSE)","v":"UK"},"4 to 6 hours a day"]
[null,"ID0083","2012-05-26T00:00:52",150000,150000,"USD",{"$f":"tblSalaries[[#This Row],[clean Salary (in local currency)]]*VLOOKUP(tblSalaries[[#This Row],[Currency]],tblXrate[],2,FALSE)","v":150000},"Director","CXO or Top Mgmt.","USA",{"$f":"VLOOKUP(tblSalaries[[#This Row],[Where do you work]],tblCountries[[Actual]:[Mapping]],2,FALSE)","v":"USA"},"All the 8 hours baby, all the 8!"]
[null,"ID0084","2012-05-26T00:05:45",120000,120000,"USD",{"$f":"tblSalaries[[#This Row],[clean Salary (in local currency)]]*VLOOKUP(tblSalaries[[#This Row],[Currency]],tblXrate[],2,FALSE)","v":120000},"Manager, Forecasts & Budgets","Manager","USA",{"$f":"VLOOKUP(tblSalaries[[#This Row],[Where do you work]],tblCountries[[Actual]:[Mapping]],2,FALSE)","v":"USA"},"4 to 6 hours a day"]
[null,"ID0085","2012-05-26T00:10:17",500000,500000,"INR",{"$f":"tblSalaries[[#This Row],[clean Salary (in local currency)]]*VLOOKUP(tblSalaries[[#This Row],[Currency]],tblXrate[],2,FALSE)","v":8903.9583437212841},"Senior Consultant","Consultant","India",{"$f":"VLOOKUP(tblSalaries[[#This Row],[Where do you work]],tblCountries[[Actual]:[Mapping]],2,FALSE)","v":"India"},"All the 8 hours baby, all the 8!"]
[null,"ID0086","2012-05-26T00:11:21","US $ 31330.00",31330,"USD",{"$f":"tblSalaries[[#This Row],[clean Salary (in local currency)]]*VLOOKUP(tblSalaries[[#This Row],[Currency]],tblXrate[],2,FALSE)","v":31330},"VBA Analyst","Analyst","Brazil",{"$f":"VLOOKUP(tblSalaries[[#This Row],[Where do you work]],tblCountries[[Actual]:[Mapping]],2,FALSE)","v":"Brazil"},"All the 8 hours baby, all the 8!"]
[null,"ID0087","2012-05-26T00:15:17",110000,110000,"USD",{"$f":"tblSalaries[[#This Row],[clean Salary (in local currency)]]*VLOOKUP(tblSalaries[[#This Row],[Currency]],tblXrate[],2,FALSE)","v":110000},"Senior Scheduling Engineer","Engineer","USA",{"$f":"VLOOKUP(tblSalaries[[#This Row],[Where do you work]],tblCountries[[Actual]:[Mapping]],2,FALSE)","v":"USA"},"2 to 3 hours per day"]
[null,"ID0088","2012-05-26T00:22:49","81,000USD",81000,"USD",{"$f":"tblSalaries[[#This Row],[clean Salary (in local currency)]]*VLOOKUP(tblSalaries[[#This Row],[Currency]],tblXrate[],2,FALSE)","v":81000},"Strategy Consultant","Consultant","UK",{"$f":"VLOOKUP(tblSalaries[[#This Row],[Where do you work]],tblCountries[[Actual]:[Mapping]],2,FALSE)","v":"UK"},"4 to 6 hours a day"]
[null,"ID0089","2012-05-26T00:39:04",40000,40000,"USD",{"$f":"tblSalaries[[#This Row],[clean Salary (in local currency)]]*VLOOKUP(tblSalaries[[#This Row],[Currency]],tblXrate[],2,FALSE)","v":40000},"Admin","Analyst","USA",{"$f":"VLOOKUP(tblSalaries[[#This Row],[Where do you work]],tblCountries[[Actual]:[Mapping]],2,FALSE)","v":"USA"},"4 to 6 hours a day"]
[null,"ID0090","2012-05-26T00:39:28",42000,42000,"CAD",{"$f":"tblSalaries[[#This Row],[clean Salary (in local currency)]]*VLOOKUP(tblSalaries[[#This Row],[Currency]],tblXrate[],2,FALSE)","v":41301.183967273726},"IT Asset Administrator","Analyst","Canada",{"$f":"VLOOKUP(tblSalaries[[#This Row],[Where do you work]],tblCountries[[Actual]:[Mapping]],2,FALSE)","v":"Canada"},"4 to 6 hours a day"]
[null,"ID0091","2012-05-26T00:39:36",125000,125000,"USD",{"$f":"tblSalaries[[#This Row],[clean Salary (in local currency)]]*VLOOKUP(tblSalaries[[#This Row],[Currency]],tblXrate[],2,FALSE)","v":125000},"Director of Marketing","CXO or Top Mgmt.","USA",{"$f":"VLOOKUP(tblSalaries[[#This Row],[Where do you work]],tblCountries[[Actual]:[Mapping]],2,FALSE)","v":"USA"},"4 to 6 hours a day"]
[null,"ID0092","2012-05-26T00:39:38",36000,36000,"USD",{"$f":"tblSalaries[[#This Row],[clean Salary (in local currency)]]*VLOOKUP(tblSalaries[[#This Row],[Currency]],tblXrate[],2,FALSE)","v":36000},"Graphic Design Manager","Manager","USA",{"$f":"VLOOKUP(tblSalaries[[#This Row],[Where do you work]],tblCountries[[Actual]:[Mapping]],2,FALSE)","v":"USA"},"2 to 3 hours per day"]
[null,"ID0093","2012-05-26T00:39:54","Rs. 12,000/-",144000,"INR",{"$f":"tblSalaries[[#This Row],[clean Salary (in local currency)]]*VLOOKUP(tblSalaries[[#This Row],[Currency]],tblXrate[],2,FALSE)","v":2564.3400029917298},"Financial Consultant","Consultant","India",{"$f":"VLOOKUP(tblSalaries[[#This Row],[Where do you work]],tblCountries[[Actual]:[Mapping]],2,FALSE)","v":"India"},"1 or 2 hours a day"]
[null,"ID0094","2012-05-26T00:40:00",75000,75000,"USD",{"$f":"tblSalaries[[#This Row],[clean Salary (in local currency)]]*VLOOKUP(tblSalaries[[#This Row],[Currency]],tblXrate[],2,FALSE)","v":75000},"Data Analyst","Analyst","USA",{"$f":"VLOOKUP(tblSalaries[[#This Row],[Where do you work]],tblCountries[[Actual]:[Mapping]],2,FALSE)","v":"USA"},"1 or 2 hours a day"]
[null,"ID0095","2012-05-26T00:40:20",95000,95000,"USD",{"$f":"tblSalaries[[#This Row],[clean Salary (in local currency)]]*VLOOKUP(tblSalaries[[#This Row],[Currency]],tblXrate[],2,FALSE)","v":95000},"CFO","CXO or Top Mgmt.","USA",{"$f":"VLOOKUP(tblSalaries[[#This Row],[Where do you work]],tblCountries[[Actual]:[Mapping]],2,FALSE)","v":"USA"},"4 to 6 hours a day"]
[null,"ID0096","2012-05-26T00:40:27",24000,24000,"USD",{"$f":"tblSalaries[[#This Row],[clean Salary (in local currency)]]*VLOOKUP(tblSalaries[[#This Row],[Currency]],tblXrate[],2,FALSE)","v":24000},"Paraeducator","Manager","USA",{"$f":"VLOOKUP(tblSalaries[[#This Row],[Where do you work]],tblCountries[[Actual]:[Mapping]],2,FALSE)","v":"USA"},"2 to 3 hours per day"]
[null,"ID0097","2012-05-26T00:40:31","91,000 USD",91000,"USD",{"$f":"tblSalaries[[#This Row],[clean Salary (in local currency)]]*VLOOKUP(tblSalaries[[#This Row],[Currency]],tblXrate[],2,FALSE)","v":91000},"Channel Marketing Manager","Manager","USA",{"$f":"VLOOKUP(tblSalaries[[#This Row],[Where do you work]],tblCountries[[Actual]:[Mapping]],2,FALSE)","v":"USA"},"1 or 2 hours a day"]
[null,"ID0098","2012-05-26T00:40:39",40000,40000,"USD",{"$f":"tblSalaries[[#This Row],[clean Salary (in local currency)]]*VLOOKUP(tblSalaries[[#This Row],[Currency]],tblXrate[],2,FALSE)","v":40000},"Sales and Marketing Analyst ","Analyst","USA",{"$f":"VLOOKUP(tblSalaries[[#This Row],[Where do you work]],tblCountries[[Actual]:[Mapping]],2,FALSE)","v":"USA"},"4 to 6 hours a day"]
[null,"ID0099","2012-05-26T00:40:40",57000,57000,"USD",{"$f":"tblSalaries[[#This Row],[clean Salary (in local currency)]]*VLOOKUP(tblSalaries[[#This Row],[Currency]],tblXrate[],2,FALSE)","v":57000},"Production Scheduler","Manager","USA",{"$f":"VLOOKUP(tblSalaries[[#This Row],[Where do you work]],tblCountries[[Actual]:[Mapping]],2,FALSE)","v":"USA"},"4 to 6 hours a day"]
[null,"ID0100","2012-05-26T00:40:41",74000,74000,"USD",{"$f":"tblSalaries[[#This Row],[clean Salary (in local currency)]]*VLOOKUP(tblSalaries[[#This Row],[Currency]],tblXrate[],2,FALSE)","v":74000},"Senior Consultant","Consultant","USA",{"$f":"VLOOKUP(tblSalaries[[#This Row],[Where do you work]],tblCountries[[Actual]:[Mapping]],2,FALSE)","v":"USA"},"4 to 6 hours a day"]
[null,"ID0101","2012-05-26T00:40:42","80k",80000,"USD",{"$f":"tblSalaries[[#This Row],[clean Salary (in local currency)]]*VLOOKUP(tblSalaries[[#This Row],[Currency]],tblXrate[],2,FALSE)","v":80000},"financial analyst","Analyst","USA",{"$f":"VLOOKUP(tblSalaries[[#This Row],[Where do you work]],tblCountries[[Actual]:[Mapping]],2,FALSE)","v":"USA"},"4 to 6 hours a day"]
[null,"ID0102","2012-05-26T00:40:46",90000,90000,"USD",{"$f":"tblSalaries[[#This Row],[clean Salary (in local currency)]]*VLOOKUP(tblSalaries[[#This Row],[Currency]],tblXrate[],2,FALSE)","v":90000},"Product Specialist","Specialist","USA",{"$f":"VLOOKUP(tblSalaries[[#This Row],[Where do you work]],tblCountries[[Actual]:[Mapping]],2,FALSE)","v":"USA"},"4 to 6 hours a day"]
[null,"ID0103","2012-05-26T00:40:48",21000,21000,"USD",{"$f":"tblSalaries[[#This Row],[clean Salary (in local currency)]]*VLOOKUP(tblSalaries[[#This Row],[Currency]],tblXrate[],2,FALSE)","v":21000},"IT support","Analyst","arabian Gulf",{"$f":"VLOOKUP(tblSalaries[[#This Row],[Where do you work]],tblCountries[[Actual]:[Mapping]],2,FALSE)","v":"Arabian Gulf"},"1 or 2 hours a day"]
[null,"ID0104","2012-05-26T00:40:50",52000,52000,"USD",{"$f":"tblSalaries[[#This Row],[clean Salary (in local currency)]]*VLOOKUP(tblSalaries[[#This Row],[Currency]],tblXrate[],2,FALSE)","v":52000},"sr. project coordinator","Manager","USA",{"$f":"VLOOKUP(tblSalaries[[#This Row],[Where do you work]],tblCountries[[Actual]:[Mapping]],2,FALSE)","v":"USA"},"4 to 6 hours a day"]
[null,"ID0105","2012-05-26T00:40:52",19200,19200,"USD",{"$f":"tblSalaries[[#This Row],[clean Salary (in local currency)]]*VLOOKUP(tblSalaries[[#This Row],[Currency]],tblXrate[],2,FALSE)","v":19200},"Sr Administrative Assistant","Analyst","Mexico",{"$f":"VLOOKUP(tblSalaries[[#This Row],[Where do you work]],tblCountries[[Actual]:[Mapping]],2,FALSE)","v":"Mexico"},"4 to 6 hours a day"]
[null,"ID0106","2012-05-26T00:40:57",36000,36000,"USD",{"$f":"tblSalaries[[#This Row],[clean Salary (in local currency)]]*VLOOKUP(tblSalaries[[#This Row],[Currency]],tblXrate[],2,FALSE)","v":36000},"Analyst","Analyst","USA",{"$f":"VLOOKUP(tblSalaries[[#This Row],[Where do you work]],tblCountries[[Actual]:[Mapping]],2,FALSE)","v":"USA"},"4 to 6 hours a day"]
[null,"ID0107","2012-05-26T00:41:02",57400,57400,"USD",{"$f":"tblSalaries[[#This Row],[clean Salary (in local currency)]]*VLOOKUP(tblSalaries[[#This Row],[Currency]],tblXrate[],2,FALSE)","v":57400},"IT Analyst","Analyst","USA",{"$f":"VLOOKUP(tblSalaries[[#This Row],[Where do you work]],tblCountries[[Actual]:[Mapping]],2,FALSE)","v":"USA"},"4 to 6 hours a day"]
[null,"ID0108","2012-05-26T00:41:03",66000,66000,"USD",{"$f":"tblSalaries[[#This Row],[clean Salary (in local currency)]]*VLOOKUP(tblSalaries[[#This Row],[Currency]],tblXrate[],2,FALSE)","v":66000},"Analyst","Analyst","USA",{"$f":"VLOOKUP(tblSalaries[[#This Row],[Where do you work]],tblCountries[[Actual]:[Mapping]],2,FALSE)","v":"USA"},"2 to 3 hours per day"]
[null,"ID0109","2012-05-26T00:41:06",35000,35000,"EUR",{"$f":"tblSalaries[[#This Row],[clean Salary (in local currency)]]*VLOOKUP(tblSalaries[[#This Row],[Currency]],tblXrate[],2,FALSE)","v":44463.980364706273},"Project manager","Manager","Greece",{"$f":"VLOOKUP(tblSalaries[[#This Row],[Where do you work]],tblCountries[[Actual]:[Mapping]],2,FALSE)","v":"Greece"},"4 to 6 hours a day"]
[null,"ID0111","2012-05-26T00:41:16","$85,000+",85000,"USD",{"$f":"tblSalaries[[#This Row],[clean Salary (in local currency)]]*VLOOKUP(tblSalaries[[#This Row],[Currency]],tblXrate[],2,FALSE)","v":85000},"Strategic Analyst","Analyst","USA",{"$f":"VLOOKUP(tblSalaries[[#This Row],[Where do you work]],tblCountries[[Actual]:[Mapping]],2,FALSE)","v":"USA"},"4 to 6 hours a day"]
[null,"ID0112","2012-05-26T00:41:22",50000,50000,"USD",{"$f":"tblSalaries[[#This Row],[clean Salary (in local currency)]]*VLOOKUP(tblSalaries[[#This Row],[Currency]],tblXrate[],2,FALSE)","v":50000},"Transportation Specialist","Specialist","USA",{"$f":"VLOOKUP(tblSalaries[[#This Row],[Where do you work]],tblCountries[[Actual]:[Mapping]],2,FALSE)","v":"USA"},"4 to 6 hours a day"]
[null,"ID0113","2012-05-26T00:41:27","$58,000 USD",58000,"USD",{"$f":"tblSalaries[[#This Row],[clean Salary (in local currency)]]*VLOOKUP(tblSalaries[[#This Row],[Currency]],tblXrate[],2,FALSE)","v":58000},"Operations Programs Support","Manager","USA",{"$f":"VLOOKUP(tblSalaries[[#This Row],[Where do you work]],tblCountries[[Actual]:[Mapping]],2,FALSE)","v":"USA"},"4 to 6 hours a day"]
[null,"ID0114","2012-05-26T00:41:28",37900,37900,"USD",{"$f":"tblSalaries[[#This Row],[clean Salary (in local currency)]]*VLOOKUP(tblSalaries[[#This Row],[Currency]],tblXrate[],2,FALSE)","v":37900},"Accounting Coordinator","Accountant","USA",{"$f":"VLOOKUP(tblSalaries[[#This Row],[Where do you work]],tblCountries[[Actual]:[Mapping]],2,FALSE)","v":"USA"},"All the 8 hours baby, all the 8!"]
[null,"ID0115","2012-05-26T00:41:30",4000,48000,"USD",{"$f":"tblSalaries[[#This Row],[clean Salary (in local currency)]]*VLOOKUP(tblSalaries[[#This Row],[Currency]],tblXrate[],2,FALSE)","v":48000},"Asst.Manager Finance","Manager","UAE",{"$f":"VLOOKUP(tblSalaries[[#This Row],[Where do you work]],tblCountries[[Actual]:[Mapping]],2,FALSE)","v":"UAE"},"2 to 3 hours per day"]
[null,"ID0116","2012-05-26T00:41:32",67000,67000,"USD",{"$f":"tblSalaries[[#This Row],[clean Salary (in local currency)]]*VLOOKUP(tblSalaries[[#This Row],[Currency]],tblXrate[],2,FALSE)","v":67000},"Operations Cost Analyst","Analyst","USA",{"$f":"VLOOKUP(tblSalaries[[#This Row],[Where do you work]],tblCountries[[Actual]:[Mapping]],2,FALSE)","v":"USA"},"4 to 6 hours a day"]
[null,"ID0117","2012-05-26T00:41:35",85000,85000,"USD",{"$f":"tblSalaries[[#This Row],[clean Salary (in local currency)]]*VLOOKUP(tblSalaries[[#This Row],[Currency]],tblXrate[],2,FALSE)","v":85000},"Financial Controller","Controller","UAE",{"$f":"VLOOKUP(tblSalaries[[#This Row],[Where do you work]],tblCountries[[Actual]:[Mapping]],2,FALSE)","v":"UAE"},"4 to 6 hours a day"]
[null,"ID0118","2012-05-26T00:41:35",56160,56160,"USD",{"$f":"tblSalaries[[#This Row],[clean Salary (in local currency)]]*VLOOKUP(tblSalaries[[#This Row],[Currency]],tblXrate[],2,FALSE)","v":56160},"Utilization Analyst","Analyst","USA",{"$f":"VLOOKUP(tblSalaries[[#This Row],[Where do you work]],tblCountries[[Actual]:[Mapping]],2,FALSE)","v":"USA"},"4 to 6 hours a day"]
[null,"ID0119","2012-05-26T00:41:38",2000,24000,"USD",{"$f":"tblSalaries[[#This Row],[clean Salary (in local currency)]]*VLOOKUP(tblSalaries[[#This Row],[Currency]],tblXrate[],2,FALSE)","v":24000},"Researcher","Manager","Colombia",{"$f":"VLOOKUP(tblSalaries[[#This Row],[Where do you work]],tblCountries[[Actual]:[Mapping]],2,FALSE)","v":"Colombia"},"All the 8 hours baby, all the 8!"]
[null,"ID0120","2012-05-26T00:41:38",52000,52000,"USD",{"$f":"tblSalaries[[#This Row],[clean Salary (in local currency)]]*VLOOKUP(tblSalaries[[#This Row],[Currency]],tblXrate[],2,FALSE)","v":52000},"Market Analyst","Analyst","USA",{"$f":"VLOOKUP(tblSalaries[[#This Row],[Where do you work]],tblCountries[[Actual]:[Mapping]],2,FALSE)","v":"USA"},"Excel ?!? What Excel?"]
[null,"ID0121","2012-05-26T00:41:41",60000,60000,"CAD",{"$f":"tblSalaries[[#This Row],[clean Salary (in local currency)]]*VLOOKUP(tblSalaries[[#This Row],[Currency]],tblXrate[],2,FALSE)","v":59001.691381819612},"Web Developer","Analyst","Canada",{"$f":"VLOOKUP(tblSalaries[[#This Row],[Where do you work]],tblCountries[[Actual]:[Mapping]],2,FALSE)","v":"Canada"},"Excel ?!? What Excel?"]
[null,"ID0122","2012-05-26T00:41:43",70000,70000,"USD",{"$f":"tblSalaries[[#This Row],[clean Salary (in local currency)]]*VLOOKUP(tblSalaries[[#This Row],[Currency]],tblXrate[],2,FALSE)","v":70000},"Sr. Acct","Accountant","USA",{"$f":"VLOOKUP(tblSalaries[[#This Row],[Where do you work]],tblCountries[[Actual]:[Mapping]],2,FALSE)","v":"USA"},"All the 8 hours baby, all the 8!"]
[null,"ID0123","2012-05-26T00:41:56",50000,50000,"USD",{"$f":"tblSalaries[[#This Row],[clean Salary (in local currency)]]*VLOOKUP(tblSalaries[[#This Row],[Currency]],tblXrate[],2,FALSE)","v":50000},"Information Systems Specialist","Specialist","USA",{"$f":"VLOOKUP(tblSalaries[[#This Row],[Where do you work]],tblCountries[[Actual]:[Mapping]],2,FALSE)","v":"USA"},"4 to 6 hours a day"]
[null,"ID0124","2012-05-26T00:41:58",2300000,2300000,"INR",{"$f":"tblSalaries[[#This Row],[clean Salary (in local currency)]]*VLOOKUP(tblSalaries[[#This Row],[Currency]],tblXrate[],2,FALSE)","v":40958.208381117904},"Analytics lead","Analyst","India",{"$f":"VLOOKUP(tblSalaries[[#This Row],[Where do you work]],tblCountries[[Actual]:[Mapping]],2,FALSE)","v":"India"},"1 or 2 hours a day"]
[null,"ID0125","2012-05-26T00:42:00",80000,80000,"USD",{"$f":"tblSalaries[[#This Row],[clean Salary (in local currency)]]*VLOOKUP(tblSalaries[[#This Row],[Currency]],tblXrate[],2,FALSE)","v":80000},"Financial Analyst","Analyst","USA",{"$f":"VLOOKUP(tblSalaries[[#This Row],[Where do you work]],tblCountries[[Actual]:[Mapping]],2,FALSE)","v":"USA"},"4 to 6 hours a day"]
[null,"ID0126","2012-05-26T00:42:08",128000,128000,"USD",{"$f":"tblSalaries[[#This Row],[clean Salary (in local currency)]]*VLOOKUP(tblSalaries[[#This Row],[Currency]],tblXrate[],2,FALSE)","v":128000},"Actuary","Manager","USA",{"$f":"VLOOKUP(tblSalaries[[#This Row],[Where do you work]],tblCountries[[Actual]:[Mapping]],2,FALSE)","v":"USA"},"All the 8 hours baby, all the 8!"]
[null,"ID0127","2012-05-26T00:42:10","US $44,000",44000,"USD",{"$f":"tblSalaries[[#This Row],[clean Salary (in local currency)]]*VLOOKUP(tblSalaries[[#This Row],[Currency]],tblXrate[],2,FALSE)","v":44000},"School Tech Coordinator","Manager","USA",{"$f":"VLOOKUP(tblSalaries[[#This Row],[Where do you work]],tblCountries[[Actual]:[Mapping]],2,FALSE)","v":"USA"},"1 or 2 hours a day"]
[null,"ID0128","2012-05-26T00:42:11",65000,65000,"USD",{"$f":"tblSalaries[[#This Row],[clean Salary (in local currency)]]*VLOOKUP(tblSalaries[[#This Row],[Currency]],tblXrate[],2,FALSE)","v":65000},"sr accountant","Accountant","USA",{"$f":"VLOOKUP(tblSalaries[[#This Row],[Where do you work]],tblCountries[[Actual]:[Mapping]],2,FALSE)","v":"USA"},"All the 8 hours baby, all the 8!"]
[null,"ID0129","2012-05-26T00:42:32","36000 usd",36000,"USD",{"$f":"tblSalaries[[#This Row],[clean Salary (in local currency)]]*VLOOKUP(tblSalaries[[#This Row],[Currency]],tblXrate[],2,FALSE)","v":36000},"senior accountant","Accountant","Turkey",{"$f":"VLOOKUP(tblSalaries[[#This Row],[Where do you work]],tblCountries[[Actual]:[Mapping]],2,FALSE)","v":"Turkey"},"4 to 6 hours a day"]
[null,"ID0130","2012-05-26T00:42:34",1000,12000,"USD",{"$f":"tblSalaries[[#This Row],[clean Salary (in local currency)]]*VLOOKUP(tblSalaries[[#This Row],[Currency]],tblXrate[],2,FALSE)","v":12000},"Freelance","Consultant","Pakistan",{"$f":"VLOOKUP(tblSalaries[[#This Row],[Where do you work]],tblCountries[[Actual]:[Mapping]],2,FALSE)","v":"Pakistan"},"1 or 2 hours a day"]
[null,"ID0131","2012-05-26T00:42:41",28159.200000000001,28159,"GBP",{"$f":"tblSalaries[[#This Row],[clean Salary (in local currency)]]*VLOOKUP(tblSalaries[[#This Row],[Currency]],tblXrate[],2,FALSE)","v":44383.603963142654},"Data Analyst","Analyst","UK",{"$f":"VLOOKUP(tblSalaries[[#This Row],[Where do you work]],tblCountries[[Actual]:[Mapping]],2,FALSE)","v":"UK"},"All the 8 hours baby, all the 8!"]
[null,"ID0132","2012-05-26T00:42:46",45000,45000,"USD",{"$f":"tblSalaries[[#This Row],[clean Salary (in local currency)]]*VLOOKUP(tblSalaries[[#This Row],[Currency]],tblXrate[],2,FALSE)","v":45000},"DBA","Analyst","USA",{"$f":"VLOOKUP(tblSalaries[[#This Row],[Where do you work]],tblCountries[[Actual]:[Mapping]],2,FALSE)","v":"USA"},"4 to 6 hours a day"]
[null,"ID0133","2012-05-26T00:42:58",54000,54000,"USD",{"$f":"tblSalaries[[#This Row],[clean Salary (in local currency)]]*VLOOKUP(tblSalaries[[#This Row],[Currency]],tblXrate[],2,FALSE)","v":54000},"Research Analyst","Analyst","USA",{"$f":"VLOOKUP(tblSalaries[[#This Row],[Where do you work]],tblCountries[[Actual]:[Mapping]],2,FALSE)","v":"USA"},"2 to 3 hours per day"]
[null,"ID0134","2012-05-26T00:43:03",70000,70000,"GBP",{"$f":"tblSalaries[[#This Row],[clean Salary (in local currency)]]*VLOOKUP(tblSalaries[[#This Row],[Currency]],tblXrate[],2,FALSE)","v":110332.47904470989},"Project Manager","Manager","UK",{"$f":"VLOOKUP(tblSalaries[[#This Row],[Where do you work]],tblCountries[[Actual]:[Mapping]],2,FALSE)","v":"UK"},"2 to 3 hours per day"]
[null,"ID0135","2012-05-26T00:43:07",71000,71000,"USD",{"$f":"tblSalaries[[#This Row],[clean Salary (in local currency)]]*VLOOKUP(tblSalaries[[#This Row],[Currency]],tblXrate[],2,FALSE)","v":71000},"Market Research Analyst","Analyst","USA",{"$f":"VLOOKUP(tblSalaries[[#This Row],[Where do you work]],tblCountries[[Actual]:[Mapping]],2,FALSE)","v":"USA"},"4 to 6 hours a day"]
[null,"ID0136","2012-05-26T00:43:08",800000,800000,"INR",{"$f":"tblSalaries[[#This Row],[clean Salary (in local currency)]]*VLOOKUP(tblSalaries[[#This Row],[Currency]],tblXrate[],2,FALSE)","v":14246.333349954055},"Manager : Accounts","Manager","India",{"$f":"VLOOKUP(tblSalaries[[#This Row],[Where do you work]],tblCountries[[Actual]:[Mapping]],2,FALSE)","v":"India"},"2 to 3 hours per day"]
[null,"ID0137","2012-05-26T00:43:17",70000,70000,"CAD",{"$f":"tblSalaries[[#This Row],[clean Salary (in local currency)]]*VLOOKUP(tblSalaries[[#This Row],[Currency]],tblXrate[],2,FALSE)","v":68835.306612122877},"project manager","Manager","canada",{"$f":"VLOOKUP(tblSalaries[[#This Row],[Where do you work]],tblCountries[[Actual]:[Mapping]],2,FALSE)","v":"Canada"},"4 to 6 hours a day"]
[null,"ID0138","2012-05-26T00:43:25",50000,50000,"CAD",{"$f":"tblSalaries[[#This Row],[clean Salary (in local currency)]]*VLOOKUP(tblSalaries[[#This Row],[Currency]],tblXrate[],2,FALSE)","v":49168.076151516347},"Inventory manger","Manager","Canada",{"$f":"VLOOKUP(tblSalaries[[#This Row],[Where do you work]],tblCountries[[Actual]:[Mapping]],2,FALSE)","v":"Canada"},"4 to 6 hours a day"]
[null,"ID0139","2012-05-26T00:43:27",40000,40000,"USD",{"$f":"tblSalaries[[#This Row],[clean Salary (in local currency)]]*VLOOKUP(tblSalaries[[#This Row],[Currency]],tblXrate[],2,FALSE)","v":40000},"Business Analyst","Analyst","USA",{"$f":"VLOOKUP(tblSalaries[[#This Row],[Where do you work]],tblCountries[[Actual]:[Mapping]],2,FALSE)","v":"USA"},"4 to 6 hours a day"]
[null,"ID0140","2012-05-26T00:43:34","$62,000 CND",62000,"CAD",{"$f":"tblSalaries[[#This Row],[clean Salary (in local currency)]]*VLOOKUP(tblSalaries[[#This Row],[Currency]],tblXrate[],2,FALSE)","v":60968.414427880263},"Process Technician","Analyst","Canada",{"$f":"VLOOKUP(tblSalaries[[#This Row],[Where do you work]],tblCountries[[Actual]:[Mapping]],2,FALSE)","v":"Canada"},"2 to 3 hours per day"]
[null,"ID0141","2012-05-26T00:43:36","28000rs",336000,"INR",{"$f":"tblSalaries[[#This Row],[clean Salary (in local currency)]]*VLOOKUP(tblSalaries[[#This Row],[Currency]],tblXrate[],2,FALSE)","v":5983.4600069807029},"MIS Team Leader","Reporting","India",{"$f":"VLOOKUP(tblSalaries[[#This Row],[Where do you work]],tblCountries[[Actual]:[Mapping]],2,FALSE)","v":"India"},"4 to 6 hours a day"]
[null,"ID0142","2012-05-26T00:43:36",53000,53000,"USD",{"$f":"tblSalaries[[#This Row],[clean Salary (in local currency)]]*VLOOKUP(tblSalaries[[#This Row],[Currency]],tblXrate[],2,FALSE)","v":53000},"Data Analyst","Analyst","USA",{"$f":"VLOOKUP(tblSalaries[[#This Row],[Where do you work]],tblCountries[[Actual]:[Mapping]],2,FALSE)","v":"USA"},"4 to 6 hours a day"]
[null,"ID0143","2012-05-26T00:43:49",104000,104000,"USD",{"$f":"tblSalaries[[#This Row],[clean Salary (in local currency)]]*VLOOKUP(tblSalaries[[#This Row],[Currency]],tblXrate[],2,FALSE)","v":104000},"Finance Director","CXO or Top Mgmt.","USA",{"$f":"VLOOKUP(tblSalaries[[#This Row],[Where do you work]],tblCountries[[Actual]:[Mapping]],2,FALSE)","v":"USA"},"2 to 3 hours per day"]
[null,"ID0144","2012-05-26T00:44:02",57000,57000,"USD",{"$f":"tblSalaries[[#This Row],[clean Salary (in local currency)]]*VLOOKUP(tblSalaries[[#This Row],[Currency]],tblXrate[],2,FALSE)","v":57000},"Industrial Engineer","Engineer","USA",{"$f":"VLOOKUP(tblSalaries[[#This Row],[Where do you work]],tblCountries[[Actual]:[Mapping]],2,FALSE)","v":"USA"},"4 to 6 hours a day"]
[null,"ID0145","2012-05-26T00:44:09",45000,45000,"USD",{"$f":"tblSalaries[[#This Row],[clean Salary (in local currency)]]*VLOOKUP(tblSalaries[[#This Row],[Currency]],tblXrate[],2,FALSE)","v":45000},"data analyst","Analyst","USA",{"$f":"VLOOKUP(tblSalaries[[#This Row],[Where do you work]],tblCountries[[Actual]:[Mapping]],2,FALSE)","v":"USA"},"2 to 3 hours per day"]
[null,"ID0146","2012-05-26T00:44:15",92000,92000,"USD",{"$f":"tblSalaries[[#This Row],[clean Salary (in local currency)]]*VLOOKUP(tblSalaries[[#This Row],[Currency]],tblXrate[],2,FALSE)","v":92000},"Senior Financial & Systems Analyst","Analyst","USA",{"$f":"VLOOKUP(tblSalaries[[#This Row],[Where do you work]],tblCountries[[Actual]:[Mapping]],2,FALSE)","v":"USA"},"4 to 6 hours a day"]
[null,"ID0147","2012-05-26T00:44:18",88000,88000,"USD",{"$f":"tblSalaries[[#This Row],[clean Salary (in local currency)]]*VLOOKUP(tblSalaries[[#This Row],[Currency]],tblXrate[],2,FALSE)","v":88000},"project manager - metrics","Manager","USA",{"$f":"VLOOKUP(tblSalaries[[#This Row],[Where do you work]],tblCountries[[Actual]:[Mapping]],2,FALSE)","v":"USA"},"4 to 6 hours a day"]
[null,"ID0148","2012-05-26T00:44:20",80000,80000,"USD",{"$f":"tblSalaries[[#This Row],[clean Salary (in local currency)]]*VLOOKUP(tblSalaries[[#This Row],[Currency]],tblXrate[],2,FALSE)","v":80000},"Informatics Research Analyst","Analyst","USA",{"$f":"VLOOKUP(tblSalaries[[#This Row],[Where do you work]],tblCountries[[Actual]:[Mapping]],2,FALSE)","v":"USA"},"2 to 3 hours per day"]
[null,"ID0149","2012-05-26T00:44:22",69000,69000,"USD",{"$f":"tblSalaries[[#This Row],[clean Salary (in local currency)]]*VLOOKUP(tblSalaries[[#This Row],[Currency]],tblXrate[],2,FALSE)","v":69000},"Business Technical Consultant","Consultant","USA",{"$f":"VLOOKUP(tblSalaries[[#This Row],[Where do you work]],tblCountries[[Actual]:[Mapping]],2,FALSE)","v":"USA"},"4 to 6 hours a day"]
[null,"ID0150","2012-05-26T00:44:23",50000,50000,"USD",{"$f":"tblSalaries[[#This Row],[clean Salary (in local currency)]]*VLOOKUP(tblSalaries[[#This Row],[Currency]],tblXrate[],2,FALSE)","v":50000},"Business Operations Reporting Analyst","Analyst","Mexico",{"$f":"VLOOKUP(tblSalaries[[#This Row],[Where do you work]],tblCountries[[Actual]:[Mapping]],2,FALSE)","v":"Mexico"},"All the 8 hours baby, all the 8!"]
[null,"ID0151","2012-05-26T00:44:40",35000,35000,"USD",{"$f":"tblSalaries[[#This Row],[clean Salary (in local currency)]]*VLOOKUP(tblSalaries[[#This Row],[Currency]],tblXrate[],2,FALSE)","v":35000},"Program Services Coordinator","Manager","USA",{"$f":"VLOOKUP(tblSalaries[[#This Row],[Where do you work]],tblCountries[[Actual]:[Mapping]],2,FALSE)","v":"USA"},"2 to 3 hours per day"]
[null,"ID0152","2012-05-26T00:44:59",96000,96000,"USD",{"$f":"tblSalaries[[#This Row],[clean Salary (in local currency)]]*VLOOKUP(tblSalaries[[#This Row],[Currency]],tblXrate[],2,FALSE)","v":96000},"Specialist - Finance Planning and Analysis","Analyst","USA",{"$f":"VLOOKUP(tblSalaries[[#This Row],[Where do you work]],tblCountries[[Actual]:[Mapping]],2,FALSE)","v":"USA"},"4 to 6 hours a day"]
[null,"ID0153","2012-05-26T00:45:00",65000,65000,"USD",{"$f":"tblSalaries[[#This Row],[clean Salary (in local currency)]]*VLOOKUP(tblSalaries[[#This Row],[Currency]],tblXrate[],2,FALSE)","v":65000},"Sr Accountant","Accountant","USA",{"$f":"VLOOKUP(tblSalaries[[#This Row],[Where do you work]],tblCountries[[Actual]:[Mapping]],2,FALSE)","v":"USA"},"All the 8 hours baby, all the 8!"]
[null,"ID0154","2012-05-26T00:45:06",37440,37440,"USD",{"$f":"tblSalaries[[#This Row],[clean Salary (in local currency)]]*VLOOKUP(tblSalaries[[#This Row],[Currency]],tblXrate[],2,FALSE)","v":37440},"sales analyst","Analyst","USA",{"$f":"VLOOKUP(tblSalaries[[#This Row],[Where do you work]],tblCountries[[Actual]:[Mapping]],2,FALSE)","v":"USA"},"All the 8 hours baby, all the 8!"]
[null,"ID0155","2012-05-26T00:45:11",15500,15500,"USD",{"$f":"tblSalaries[[#This Row],[clean Salary (in local currency)]]*VLOOKUP(tblSalaries[[#This Row],[Currency]],tblXrate[],2,FALSE)","v":15500},"Proces auditor","Accountant","Mexico",{"$f":"VLOOKUP(tblSalaries[[#This Row],[Where do you work]],tblCountries[[Actual]:[Mapping]],2,FALSE)","v":"Mexico"},"All the 8 hours baby, all the 8!"]
[null,"ID0156","2012-05-26T00:45:17","90000 USD",90000,"USD",{"$f":"tblSalaries[[#This Row],[clean Salary (in local currency)]]*VLOOKUP(tblSalaries[[#This Row],[Currency]],tblXrate[],2,FALSE)","v":90000},"Senior Data Quality Analyst","Analyst","USA",{"$f":"VLOOKUP(tblSalaries[[#This Row],[Where do you work]],tblCountries[[Actual]:[Mapping]],2,FALSE)","v":"USA"},"2 to 3 hours per day"]
[null,"ID0157","2012-05-26T00:45:46",66500,66500,"USD",{"$f":"tblSalaries[[#This Row],[clean Salary (in local currency)]]*VLOOKUP(tblSalaries[[#This Row],[Currency]],tblXrate[],2,FALSE)","v":66500},"Sr Business Analyst","Analyst","USA",{"$f":"VLOOKUP(tblSalaries[[#This Row],[Where do you work]],tblCountries[[Actual]:[Mapping]],2,FALSE)","v":"USA"},"All the 8 hours baby, all the 8!"]
[null,"ID0158","2012-05-26T00:45:49",100000,100000,"USD",{"$f":"tblSalaries[[#This Row],[clean Salary (in local currency)]]*VLOOKUP(tblSalaries[[#This Row],[Currency]],tblXrate[],2,FALSE)","v":100000},"COST ACCOUNTANT","Accountant","USA",{"$f":"VLOOKUP(tblSalaries[[#This Row],[Where do you work]],tblCountries[[Actual]:[Mapping]],2,FALSE)","v":"USA"},"All the 8 hours baby, all the 8!"]
[null,"ID0159","2012-05-26T00:45:51","Â£32250",32250,"GBP",{"$f":"tblSalaries[[#This Row],[clean Salary (in local currency)]]*VLOOKUP(tblSalaries[[#This Row],[Currency]],tblXrate[],2,FALSE)","v":50831.74927416991},"project Support","Manager","UK",{"$f":"VLOOKUP(tblSalaries[[#This Row],[Where do you work]],tblCountries[[Actual]:[Mapping]],2,FALSE)","v":"UK"},"4 to 6 hours a day"]
[null,"ID0160","2012-05-26T00:45:53",420000,420000,"INR",{"$f":"tblSalaries[[#This Row],[clean Salary (in local currency)]]*VLOOKUP(tblSalaries[[#This Row],[Currency]],tblXrate[],2,FALSE)","v":7479.3250087258784},"managerial","Manager","India",{"$f":"VLOOKUP(tblSalaries[[#This Row],[Where do you work]],tblCountries[[Actual]:[Mapping]],2,FALSE)","v":"India"},"1 or 2 hours a day"]
[null,"ID0161","2012-05-26T00:46:00",75000,75000,"USD",{"$f":"tblSalaries[[#This Row],[clean Salary (in local currency)]]*VLOOKUP(tblSalaries[[#This Row],[Currency]],tblXrate[],2,FALSE)","v":75000},"Program Analyst","Analyst","USA",{"$f":"VLOOKUP(tblSalaries[[#This Row],[Where do you work]],tblCountries[[Actual]:[Mapping]],2,FALSE)","v":"USA"},"1 or 2 hours a day"]
[null,"ID0162","2012-05-26T00:46:25",58,58000,"USD",{"$f":"tblSalaries[[#This Row],[clean Salary (in local currency)]]*VLOOKUP(tblSalaries[[#This Row],[Currency]],tblXrate[],2,FALSE)","v":58000},"Team Lead - Computer Discounts","Manager","Canada",{"$f":"VLOOKUP(tblSalaries[[#This Row],[Where do you work]],tblCountries[[Actual]:[Mapping]],2,FALSE)","v":"Canada"},"1 or 2 hours a day"]
[null,"ID0163","2012-05-26T00:46:29",55000,55000,"USD",{"$f":"tblSalaries[[#This Row],[clean Salary (in local currency)]]*VLOOKUP(tblSalaries[[#This Row],[Currency]],tblXrate[],2,FALSE)","v":55000},"Change Architect","Manager","USA",{"$f":"VLOOKUP(tblSalaries[[#This Row],[Where do you work]],tblCountries[[Actual]:[Mapping]],2,FALSE)","v":"USA"},"2 to 3 hours per day"]
[null,"ID0164","2012-05-26T00:47:42",60000,60000,"USD",{"$f":"tblSalaries[[#This Row],[clean Salary (in local currency)]]*VLOOKUP(tblSalaries[[#This Row],[Currency]],tblXrate[],2,FALSE)","v":60000},"Telecom Technician","Analyst","USA",{"$f":"VLOOKUP(tblSalaries[[#This Row],[Where do you work]],tblCountries[[Actual]:[Mapping]],2,FALSE)","v":"USA"},"4 to 6 hours a day"]
[null,"ID0165","2012-05-26T00:47:45","Rs. 1300000",1300000,"INR",{"$f":"tblSalaries[[#This Row],[clean Salary (in local currency)]]*VLOOKUP(tblSalaries[[#This Row],[Currency]],tblXrate[],2,FALSE)","v":23150.291693675339},"Manager","Manager","India",{"$f":"VLOOKUP(tblSalaries[[#This Row],[Where do you work]],tblCountries[[Actual]:[Mapping]],2,FALSE)","v":"India"},"4 to 6 hours a day"]
[null,"ID0166","2012-05-26T00:47:50",107000,107000,"CAD",{"$f":"tblSalaries[[#This Row],[clean Salary (in local currency)]]*VLOOKUP(tblSalaries[[#This Row],[Currency]],tblXrate[],2,FALSE)","v":105219.68296424497},"Manager, Asset Optimization","Manager","Canada",{"$f":"VLOOKUP(tblSalaries[[#This Row],[Where do you work]],tblCountries[[Actual]:[Mapping]],2,FALSE)","v":"Canada"},"2 to 3 hours per day"]
[null,"ID0167","2012-05-26T00:47:57",145000,145000,"USD",{"$f":"tblSalaries[[#This Row],[clean Salary (in local currency)]]*VLOOKUP(tblSalaries[[#This Row],[Currency]],tblXrate[],2,FALSE)","v":145000},"Financialcontroller","Controller","Switzerland",{"$f":"VLOOKUP(tblSalaries[[#This Row],[Where do you work]],tblCountries[[Actual]:[Mapping]],2,FALSE)","v":"Switzerland"},"All the 8 hours baby, all the 8!"]
[null,"ID0168","2012-05-26T00:48:04",22880,22880,"USD",{"$f":"tblSalaries[[#This Row],[clean Salary (in local currency)]]*VLOOKUP(tblSalaries[[#This Row],[Currency]],tblXrate[],2,FALSE)","v":22880},"Accounting ","Accountant","USA",{"$f":"VLOOKUP(tblSalaries[[#This Row],[Where do you work]],tblCountries[[Actual]:[Mapping]],2,FALSE)","v":"USA"},"4 to 6 hours a day"]
[null,"ID0169","2012-05-26T00:48:07",80000,80000,"USD",{"$f":"tblSalaries[[#This Row],[clean Salary (in local currency)]]*VLOOKUP(tblSalaries[[#This Row],[Currency]],tblXrate[],2,FALSE)","v":80000},"Consultant, HR Services & Governance","Consultant","USA",{"$f":"VLOOKUP(tblSalaries[[#This Row],[Where do you work]],tblCountries[[Actual]:[Mapping]],2,FALSE)","v":"USA"},"4 to 6 hours a day"]
[null,"ID0170","2012-05-26T00:48:11","Rs 5 lakh",500000,"INR",{"$f":"tblSalaries[[#This Row],[clean Salary (in local currency)]]*VLOOKUP(tblSalaries[[#This Row],[Currency]],tblXrate[],2,FALSE)","v":8903.9583437212841},"QA Executive","Analyst","India",{"$f":"VLOOKUP(tblSalaries[[#This Row],[Where do you work]],tblCountries[[Actual]:[Mapping]],2,FALSE)","v":"India"},"2 to 3 hours per day"]
[null,"ID0171","2012-05-26T00:48:46",90000,90000,"CAD",{"$f":"tblSalaries[[#This Row],[clean Salary (in local currency)]]*VLOOKUP(tblSalaries[[#This Row],[Currency]],tblXrate[],2,FALSE)","v":88502.537072729421},"Senior Actuarial Analyst","Analyst","Canada",{"$f":"VLOOKUP(tblSalaries[[#This Row],[Where do you work]],tblCountries[[Actual]:[Mapping]],2,FALSE)","v":"Canada"},"4 to 6 hours a day"]
[null,"ID0172","2012-05-26T00:48:48",180000,180000,"INR",{"$f":"tblSalaries[[#This Row],[clean Salary (in local currency)]]*VLOOKUP(tblSalaries[[#This Row],[Currency]],tblXrate[],2,FALSE)","v":3205.4250037396623},"Sr. Associate","Analyst","India",{"$f":"VLOOKUP(tblSalaries[[#This Row],[Where do you work]],tblCountries[[Actual]:[Mapping]],2,FALSE)","v":"India"},"4 to 6 hours a day"]
[null,"ID0173","2012-05-26T00:48:48",46584,46584,"USD",{"$f":"tblSalaries[[#This Row],[clean Salary (in local currency)]]*VLOOKUP(tblSalaries[[#This Row],[Currency]],tblXrate[],2,FALSE)","v":46584},"Budget Analyst","Analyst","USA",{"$f":"VLOOKUP(tblSalaries[[#This Row],[Where do you work]],tblCountries[[Actual]:[Mapping]],2,FALSE)","v":"USA"},"4 to 6 hours a day"]
[null,"ID0174","2012-05-26T00:48:48",67000,67000,"USD",{"$f":"tblSalaries[[#This Row],[clean Salary (in local currency)]]*VLOOKUP(tblSalaries[[#This Row],[Currency]],tblXrate[],2,FALSE)","v":67000},"B.I. Data Analyst II","Analyst","USA",{"$f":"VLOOKUP(tblSalaries[[#This Row],[Where do you work]],tblCountries[[Actual]:[Mapping]],2,FALSE)","v":"USA"},"4 to 6 hours a day"]
[null,"ID0175","2012-05-26T00:48:57","Rd. 11 lakhs",1100000,"INR",{"$f":"tblSalaries[[#This Row],[clean Salary (in local currency)]]*VLOOKUP(tblSalaries[[#This Row],[Currency]],tblXrate[],2,FALSE)","v":19588.708356186824},"Asst manager investor relations and business analytics","Manager","India",{"$f":"VLOOKUP(tblSalaries[[#This Row],[Where do you work]],tblCountries[[Actual]:[Mapping]],2,FALSE)","v":"India"},"4 to 6 hours a day"]
[null,"ID0176","2012-05-26T00:49:18",92000,92000,"USD",{"$f":"tblSalaries[[#This Row],[clean Salary (in local currency)]]*VLOOKUP(tblSalaries[[#This Row],[Currency]],tblXrate[],2,FALSE)","v":92000},"Industrial Engineer (Fed)","Engineer","USA",{"$f":"VLOOKUP(tblSalaries[[#This Row],[Where do you work]],tblCountries[[Actual]:[Mapping]],2,FALSE)","v":"USA"},"4 to 6 hours a day"]
[null,"ID0177","2012-05-26T00:49:21",75000,75000,"USD",{"$f":"tblSalaries[[#This Row],[clean Salary (in local currency)]]*VLOOKUP(tblSalaries[[#This Row],[Currency]],tblXrate[],2,FALSE)","v":75000},"Informatics specialist","Specialist","USA",{"$f":"VLOOKUP(tblSalaries[[#This Row],[Where do you work]],tblCountries[[Actual]:[Mapping]],2,FALSE)","v":"USA"},"All the 8 hours baby, all the 8!"]
[null,"ID0178","2012-05-26T00:49:35",180000,180000,"INR",{"$f":"tblSalaries[[#This Row],[clean Salary (in local currency)]]*VLOOKUP(tblSalaries[[#This Row],[Currency]],tblXrate[],2,FALSE)","v":3205.4250037396623},"Sr. Associate","Analyst","India",{"$f":"VLOOKUP(tblSalaries[[#This Row],[Where do you work]],tblCountries[[Actual]:[Mapping]],2,FALSE)","v":"India"},"4 to 6 hours a day"]
[null,"ID0179","2012-05-26T00:49:48",18500,18500,"GBP",{"$f":"tblSalaries[[#This Row],[clean Salary (in local currency)]]*VLOOKUP(tblSalaries[[#This Row],[Currency]],tblXrate[],2,FALSE)","v":29159.298033244755},"Trainee Management Accountant","Manager","UK",{"$f":"VLOOKUP(tblSalaries[[#This Row],[Where do you work]],tblCountries[[Actual]:[Mapping]],2,FALSE)","v":"UK"},"All the 8 hours baby, all the 8!"]
[null,"ID0180","2012-05-26T00:49:50",40000,40000,"USD",{"$f":"tblSalaries[[#This Row],[clean Salary (in local currency)]]*VLOOKUP(tblSalaries[[#This Row],[Currency]],tblXrate[],2,FALSE)","v":40000},"Senior analyst","Analyst","USA",{"$f":"VLOOKUP(tblSalaries[[#This Row],[Where do you work]],tblCountries[[Actual]:[Mapping]],2,FALSE)","v":"USA"},"All the 8 hours baby, all the 8!"]
[null,"ID0181","2012-05-26T00:49:59",111680,111680,"USD",{"$f":"tblSalaries[[#This Row],[clean Salary (in local currency)]]*VLOOKUP(tblSalaries[[#This Row],[Currency]],tblXrate[],2,FALSE)","v":111680},"Director of Analytics","Analyst","USA",{"$f":"VLOOKUP(tblSalaries[[#This Row],[Where do you work]],tblCountries[[Actual]:[Mapping]],2,FALSE)","v":"USA"},"2 to 3 hours per day"]
[null,"ID0182","2012-05-26T00:50:11",41.405999999999999,41406,"USD",{"$f":"tblSalaries[[#This Row],[clean Salary (in local currency)]]*VLOOKUP(tblSalaries[[#This Row],[Currency]],tblXrate[],2,FALSE)","v":41406},"Executive Assistant","Analyst","Canada",{"$f":"VLOOKUP(tblSalaries[[#This Row],[Where do you work]],tblCountries[[Actual]:[Mapping]],2,FALSE)","v":"Canada"},"1 or 2 hours a day"]
[null,"ID0183","2012-05-26T00:50:15",70000,70000,"USD",{"$f":"tblSalaries[[#This Row],[clean Salary (in local currency)]]*VLOOKUP(tblSalaries[[#This Row],[Currency]],tblXrate[],2,FALSE)","v":70000},"Project Speciast","Manager","USA",{"$f":"VLOOKUP(tblSalaries[[#This Row],[Where do you work]],tblCountries[[Actual]:[Mapping]],2,FALSE)","v":"USA"},"4 to 6 hours a day"]
[null,"ID0184","2012-05-26T00:50:31",40700,40700,"USD",{"$f":"tblSalaries[[#This Row],[clean Salary (in local currency)]]*VLOOKUP(tblSalaries[[#This Row],[Currency]],tblXrate[],2,FALSE)","v":40700},"Sales Coordinator & Analytical Support","Analyst","USA",{"$f":"VLOOKUP(tblSalaries[[#This Row],[Where do you work]],tblCountries[[Actual]:[Mapping]],2,FALSE)","v":"USA"},"1 or 2 hours a day"]
[null,"ID0185","2012-05-26T00:50:32",40000,40000,"USD",{"$f":"tblSalaries[[#This Row],[clean Salary (in local currency)]]*VLOOKUP(tblSalaries[[#This Row],[Currency]],tblXrate[],2,FALSE)","v":40000},"analyst","Analyst","USA",{"$f":"VLOOKUP(tblSalaries[[#This Row],[Where do you work]],tblCountries[[Actual]:[Mapping]],2,FALSE)","v":"USA"},"4 to 6 hours a day"]
[null,"ID0186","2012-05-26T00:50:38",60000,60000,"USD",{"$f":"tblSalaries[[#This Row],[clean Salary (in local currency)]]*VLOOKUP(tblSalaries[[#This Row],[Currency]],tblXrate[],2,FALSE)","v":60000},"Senior Staff Accountant","Accountant","USA",{"$f":"VLOOKUP(tblSalaries[[#This Row],[Where do you work]],tblCountries[[Actual]:[Mapping]],2,FALSE)","v":"USA"},"4 to 6 hours a day"]
[null,"ID0187","2012-05-26T00:50:41",92000,92000,"CAD",{"$f":"tblSalaries[[#This Row],[clean Salary (in local currency)]]*VLOOKUP(tblSalaries[[#This Row],[Currency]],tblXrate[],2,FALSE)","v":90469.260118790073},"Consultant - Retail Mkts","Consultant","Canada",{"$f":"VLOOKUP(tblSalaries[[#This Row],[Where do you work]],tblCountries[[Actual]:[Mapping]],2,FALSE)","v":"Canada"},"All the 8 hours baby, all the 8!"]
[null,"ID0188","2012-05-26T00:50:43",13636.36,13636,"USD",{"$f":"tblSalaries[[#This Row],[clean Salary (in local currency)]]*VLOOKUP(tblSalaries[[#This Row],[Currency]],tblXrate[],2,FALSE)","v":13636},"Process Manager","Manager","India",{"$f":"VLOOKUP(tblSalaries[[#This Row],[Where do you work]],tblCountries[[Actual]:[Mapping]],2,FALSE)","v":"India"},"All the 8 hours baby, all the 8!"]
[null,"ID0189","2012-05-26T00:50:43",80000,80000,"USD",{"$f":"tblSalaries[[#This Row],[clean Salary (in local currency)]]*VLOOKUP(tblSalaries[[#This Row],[Currency]],tblXrate[],2,FALSE)","v":80000},"Project Manager (Process Owner)","Manager","USA",{"$f":"VLOOKUP(tblSalaries[[#This Row],[Where do you work]],tblCountries[[Actual]:[Mapping]],2,FALSE)","v":"USA"},"2 to 3 hours per day"]
[null,"ID0190","2012-05-26T00:51:00","60000 CAD$",60000,"CAD",{"$f":"tblSalaries[[#This Row],[clean Salary (in local currency)]]*VLOOKUP(tblSalaries[[#This Row],[Currency]],tblXrate[],2,FALSE)","v":59001.691381819612},"Demographer","Analyst","Canada",{"$f":"VLOOKUP(tblSalaries[[#This Row],[Where do you work]],tblCountries[[Actual]:[Mapping]],2,FALSE)","v":"Canada"},"2 to 3 hours per day"]
[null,"ID0192","2012-05-26T00:51:43",28000,28000,"USD",{"$f":"tblSalaries[[#This Row],[clean Salary (in local currency)]]*VLOOKUP(tblSalaries[[#This Row],[Currency]],tblXrate[],2,FALSE)","v":28000},"Administrative Assistant","Analyst","USA",{"$f":"VLOOKUP(tblSalaries[[#This Row],[Where do you work]],tblCountries[[Actual]:[Mapping]],2,FALSE)","v":"USA"},"4 to 6 hours a day"]
[null,"ID0193","2012-05-26T00:51:55",60000,60000,"USD",{"$f":"tblSalaries[[#This Row],[clean Salary (in local currency)]]*VLOOKUP(tblSalaries[[#This Row],[Currency]],tblXrate[],2,FALSE)","v":60000},"Accounting/Financial Analyst","Analyst","USA",{"$f":"VLOOKUP(tblSalaries[[#This Row],[Where do you work]],tblCountries[[Actual]:[Mapping]],2,FALSE)","v":"USA"},"4 to 6 hours a day"]
[null,"ID0194","2012-05-26T00:51:59",96000,96000,"USD",{"$f":"tblSalaries[[#This Row],[clean Salary (in local currency)]]*VLOOKUP(tblSalaries[[#This Row],[Currency]],tblXrate[],2,FALSE)","v":96000},"Business Process Specialist","Specialist","USA",{"$f":"VLOOKUP(tblSalaries[[#This Row],[Where do you work]],tblCountries[[Actual]:[Mapping]],2,FALSE)","v":"USA"},"2 to 3 hours per day"]
[null,"ID0195","2012-05-26T00:52:21",67000,67000,"USD",{"$f":"tblSalaries[[#This Row],[clean Salary (in local currency)]]*VLOOKUP(tblSalaries[[#This Row],[Currency]],tblXrate[],2,FALSE)","v":67000},"Financial Analyst","Analyst","USA",{"$f":"VLOOKUP(tblSalaries[[#This Row],[Where do you work]],tblCountries[[Actual]:[Mapping]],2,FALSE)","v":"USA"},"4 to 6 hours a day"]
[null,"ID0196","2012-05-26T00:52:25",70000,70000,"USD",{"$f":"tblSalaries[[#This Row],[clean Salary (in local currency)]]*VLOOKUP(tblSalaries[[#This Row],[Currency]],tblXrate[],2,FALSE)","v":70000},"Sr Financial Analyst","Analyst","USA",{"$f":"VLOOKUP(tblSalaries[[#This Row],[Where do you work]],tblCountries[[Actual]:[Mapping]],2,FALSE)","v":"USA"},"4 to 6 hours a day"]
[null,"ID0197","2012-05-26T00:52:30",233000,233000,"INR",{"$f":"tblSalaries[[#This Row],[clean Salary (in local currency)]]*VLOOKUP(tblSalaries[[#This Row],[Currency]],tblXrate[],2,FALSE)","v":4149.2445881741187},"Asst. Manager (MIS)","Manager","India",{"$f":"VLOOKUP(tblSalaries[[#This Row],[Where do you work]],tblCountries[[Actual]:[Mapping]],2,FALSE)","v":"India"},"All the 8 hours baby, all the 8!"]
[null,"ID0198","2012-05-26T00:52:37","US$ 99000",99000,"USD",{"$f":"tblSalaries[[#This Row],[clean Salary (in local currency)]]*VLOOKUP(tblSalaries[[#This Row],[Currency]],tblXrate[],2,FALSE)","v":99000},"Business Controller","Controller","USA",{"$f":"VLOOKUP(tblSalaries[[#This Row],[Where do you work]],tblCountries[[Actual]:[Mapping]],2,FALSE)","v":"USA"},"4 to 6 hours a day"]
[null,"ID0200","2012-05-26T00:53:00",90000,90000,"USD",{"$f":"tblSalaries[[#This Row],[clean Salary (in local currency)]]*VLOOKUP(tblSalaries[[#This Row],[Currency]],tblXrate[],2,FALSE)","v":90000},"Project Manager","Manager","USA",{"$f":"VLOOKUP(tblSalaries[[#This Row],[Where do you work]],tblCountries[[Actual]:[Mapping]],2,FALSE)","v":"USA"},"2 to 3 hours per day"]
[null,"ID0201","2012-05-26T00:53:02","Rs. 275000",275000,"INR",{"$f":"tblSalaries[[#This Row],[clean Salary (in local currency)]]*VLOOKUP(tblSalaries[[#This Row],[Currency]],tblXrate[],2,FALSE)","v":4897.177089046706},"low level monitoring","Analyst","India",{"$f":"VLOOKUP(tblSalaries[[#This Row],[Where do you work]],tblCountries[[Actual]:[Mapping]],2,FALSE)","v":"India"},"2 to 3 hours per day"]
[null,"ID0202","2012-05-26T00:53:18","INR 16000",192000,"INR",{"$f":"tblSalaries[[#This Row],[clean Salary (in local currency)]]*VLOOKUP(tblSalaries[[#This Row],[Currency]],tblXrate[],2,FALSE)","v":3419.1200039889732},"Administrative","Analyst","India",{"$f":"VLOOKUP(tblSalaries[[#This Row],[Where do you work]],tblCountries[[Actual]:[Mapping]],2,FALSE)","v":"India"},"All the 8 hours baby, all the 8!"]
[null,"ID0203","2012-05-26T00:53:37",51000,51000,"USD",{"$f":"tblSalaries[[#This Row],[clean Salary (in local currency)]]*VLOOKUP(tblSalaries[[#This Row],[Currency]],tblXrate[],2,FALSE)","v":51000},"Service Line Coordinator","Manager","USA",{"$f":"VLOOKUP(tblSalaries[[#This Row],[Where do you work]],tblCountries[[Actual]:[Mapping]],2,FALSE)","v":"USA"},"4 to 6 hours a day"]
[null,"ID0204","2012-05-26T00:53:42",100000,100000,"USD",{"$f":"tblSalaries[[#This Row],[clean Salary (in local currency)]]*VLOOKUP(tblSalaries[[#This Row],[Currency]],tblXrate[],2,FALSE)","v":100000},"Strategic Sourcing Manager","Manager","USA",{"$f":"VLOOKUP(tblSalaries[[#This Row],[Where do you work]],tblCountries[[Actual]:[Mapping]],2,FALSE)","v":"USA"},"All the 8 hours baby, all the 8!"]
[null,"ID0205","2012-05-26T00:53:46","INR18Lacs or US$36000",1800000,"INR",{"$f":"tblSalaries[[#This Row],[clean Salary (in local currency)]]*VLOOKUP(tblSalaries[[#This Row],[Currency]],tblXrate[],2,FALSE)","v":32054.250037396621},"Chief Manager","Manager","India",{"$f":"VLOOKUP(tblSalaries[[#This Row],[Where do you work]],tblCountries[[Actual]:[Mapping]],2,FALSE)","v":"India"},"1 or 2 hours a day"]
[null,"ID0207","2012-05-26T00:54:12","Â£30000",30000,"GBP",{"$f":"tblSalaries[[#This Row],[clean Salary (in local currency)]]*VLOOKUP(tblSalaries[[#This Row],[Currency]],tblXrate[],2,FALSE)","v":47285.348162018527},"Business Intelligence Analyst","Analyst","UK",{"$f":"VLOOKUP(tblSalaries[[#This Row],[Where do you work]],tblCountries[[Actual]:[Mapping]],2,FALSE)","v":"UK"},"2 to 3 hours per day"]
[null,"ID0208","2012-05-26T00:54:14","â‚¬ 50000",50000,"EUR",{"$f":"tblSalaries[[#This Row],[clean Salary (in local currency)]]*VLOOKUP(tblSalaries[[#This Row],[Currency]],tblXrate[],2,FALSE)","v":63519.971949580387},"Data Analyst","Analyst","Ireland",{"$f":"VLOOKUP(tblSalaries[[#This Row],[Where do you work]],tblCountries[[Actual]:[Mapping]],2,FALSE)","v":"Ireland"},"4 to 6 hours a day"]
[null,"ID0209","2012-05-26T00:54:16",108160,108160,"USD",{"$f":"tblSalaries[[#This Row],[clean Salary (in local currency)]]*VLOOKUP(tblSalaries[[#This Row],[Currency]],tblXrate[],2,FALSE)","v":108160},"Sr. Financial Analyst","Analyst","USA",{"$f":"VLOOKUP(tblSalaries[[#This Row],[Where do you work]],tblCountries[[Actual]:[Mapping]],2,FALSE)","v":"USA"},"4 to 6 hours a day"]
[null,"ID0210","2012-05-26T00:54:27",50000,50000,"USD",{"$f":"tblSalaries[[#This Row],[clean Salary (in local currency)]]*VLOOKUP(tblSalaries[[#This Row],[Currency]],tblXrate[],2,FALSE)","v":50000},"Buyer","Manager","USA",{"$f":"VLOOKUP(tblSalaries[[#This Row],[Where do you work]],tblCountries[[Actual]:[Mapping]],2,FALSE)","v":"USA"},"4 to 6 hours a day"]
[null,"ID0211","2012-05-26T00:54:28",400000,400000,"USD",{"$f":"tblSalaries[[#This Row],[clean Salary (in local currency)]]*VLOOKUP(tblSalaries[[#This Row],[Currency]],tblXrate[],2,FALSE)","v":400000},"program manager","Manager","USA",{"$f":"VLOOKUP(tblSalaries[[#This Row],[Where do you work]],tblCountries[[Actual]:[Mapping]],2,FALSE)","v":"USA"},"1 or 2 hours a day"]
[null,"ID0212","2012-05-26T00:54:41",43000,43000,"USD",{"$f":"tblSalaries[[#This Row],[clean Salary (in local currency)]]*VLOOKUP(tblSalaries[[#This Row],[Currency]],tblXrate[],2,FALSE)","v":43000},"Reporting Analyst Team Lead","Analyst","USA",{"$f":"VLOOKUP(tblSalaries[[#This Row],[Where do you work]],tblCountries[[Actual]:[Mapping]],2,FALSE)","v":"USA"},"All the 8 hours baby, all the 8!"]
[null,"ID0213","2012-05-26T00:54:46",27000,27000,"USD",{"$f":"tblSalaries[[#This Row],[clean Salary (in local currency)]]*VLOOKUP(tblSalaries[[#This Row],[Currency]],tblXrate[],2,FALSE)","v":27000},"Innovation Analyst","Analyst","Singapore",{"$f":"VLOOKUP(tblSalaries[[#This Row],[Where do you work]],tblCountries[[Actual]:[Mapping]],2,FALSE)","v":"Singapore"},"All the 8 hours baby, all the 8!"]
[null,"ID0214","2012-05-26T00:54:56",41000,41000,"USD",{"$f":"tblSalaries[[#This Row],[clean Salary (in local currency)]]*VLOOKUP(tblSalaries[[#This Row],[Currency]],tblXrate[],2,FALSE)","v":41000},"Operations Expert","Manager","USA",{"$f":"VLOOKUP(tblSalaries[[#This Row],[Where do you work]],tblCountries[[Actual]:[Mapping]],2,FALSE)","v":"USA"},"All the 8 hours baby, all the 8!"]
[null,"ID0215","2012-05-26T00:55:06",100000,100000,"USD",{"$f":"tblSalaries[[#This Row],[clean Salary (in local currency)]]*VLOOKUP(tblSalaries[[#This Row],[Currency]],tblXrate[],2,FALSE)","v":100000},"Director of Finance","CXO or Top Mgmt.","USA",{"$f":"VLOOKUP(tblSalaries[[#This Row],[Where do you work]],tblCountries[[Actual]:[Mapping]],2,FALSE)","v":"USA"},"4 to 6 hours a day"]
[null,"ID0216","2012-05-26T00:55:50",42140,42140,"USD",{"$f":"tblSalaries[[#This Row],[clean Salary (in local currency)]]*VLOOKUP(tblSalaries[[#This Row],[Currency]],tblXrate[],2,FALSE)","v":42140},"Information Analyst II","Analyst","USA",{"$f":"VLOOKUP(tblSalaries[[#This Row],[Where do you work]],tblCountries[[Actual]:[Mapping]],2,FALSE)","v":"USA"},"4 to 6 hours a day"]
[null,"ID0217","2012-05-26T00:56:06",80000,80000,"USD",{"$f":"tblSalaries[[#This Row],[clean Salary (in local currency)]]*VLOOKUP(tblSalaries[[#This Row],[Currency]],tblXrate[],2,FALSE)","v":80000},"Marketing Analyst","Analyst","USA",{"$f":"VLOOKUP(tblSalaries[[#This Row],[Where do you work]],tblCountries[[Actual]:[Mapping]],2,FALSE)","v":"USA"},"4 to 6 hours a day"]
[null,"ID0218","2012-05-26T00:56:37",41600,41600,"USD",{"$f":"tblSalaries[[#This Row],[clean Salary (in local currency)]]*VLOOKUP(tblSalaries[[#This Row],[Currency]],tblXrate[],2,FALSE)","v":41600},"Project Manager","Manager","USA",{"$f":"VLOOKUP(tblSalaries[[#This Row],[Where do you work]],tblCountries[[Actual]:[Mapping]],2,FALSE)","v":"USA"},"4 to 6 hours a day"]
[null,"ID0219","2012-05-26T00:56:37","45k",45000,"USD",{"$f":"tblSalaries[[#This Row],[clean Salary (in local currency)]]*VLOOKUP(tblSalaries[[#This Row],[Currency]],tblXrate[],2,FALSE)","v":45000},"Accounting Assistant","Accountant","USA",{"$f":"VLOOKUP(tblSalaries[[#This Row],[Where do you work]],tblCountries[[Actual]:[Mapping]],2,FALSE)","v":"USA"},"2 to 3 hours per day"]
[null,"ID0220","2012-05-26T00:56:54",78000,78000,"USD",{"$f":"tblSalaries[[#This Row],[clean Salary (in local currency)]]*VLOOKUP(tblSalaries[[#This Row],[Currency]],tblXrate[],2,FALSE)","v":78000},"Tax Professional","Accountant","Bermuda",{"$f":"VLOOKUP(tblSalaries[[#This Row],[Where do you work]],tblCountries[[Actual]:[Mapping]],2,FALSE)","v":"Bermuda"},"4 to 6 hours a day"]
[null,"ID0221","2012-05-26T00:57:21","INR 500000",500000,"INR",{"$f":"tblSalaries[[#This Row],[clean Salary (in local currency)]]*VLOOKUP(tblSalaries[[#This Row],[Currency]],tblXrate[],2,FALSE)","v":8903.9583437212841},"Project Manager","Manager","India",{"$f":"VLOOKUP(tblSalaries[[#This Row],[Where do you work]],tblCountries[[Actual]:[Mapping]],2,FALSE)","v":"India"},"4 to 6 hours a day"]
[null,"ID0222","2012-05-26T00:57:35","INR 350k",350000,"INR",{"$f":"tblSalaries[[#This Row],[clean Salary (in local currency)]]*VLOOKUP(tblSalaries[[#This Row],[Currency]],tblXrate[],2,FALSE)","v":6232.7708406048987},"Jr. Executive Finance","Accountant","India",{"$f":"VLOOKUP(tblSalaries[[#This Row],[Where do you work]],tblCountries[[Actual]:[Mapping]],2,FALSE)","v":"India"},"4 to 6 hours a day"]
[null,"ID0223","2012-05-26T00:57:44",72500,72500,"USD",{"$f":"tblSalaries[[#This Row],[clean Salary (in local currency)]]*VLOOKUP(tblSalaries[[#This Row],[Currency]],tblXrate[],2,FALSE)","v":72500},"Assistant Controller","Controller","USA",{"$f":"VLOOKUP(tblSalaries[[#This Row],[Where do you work]],tblCountries[[Actual]:[Mapping]],2,FALSE)","v":"USA"},"4 to 6 hours a day"]
[null,"ID0224","2012-05-26T00:57:52","US$ 138K",138000,"USD",{"$f":"tblSalaries[[#This Row],[clean Salary (in local currency)]]*VLOOKUP(tblSalaries[[#This Row],[Currency]],tblXrate[],2,FALSE)","v":138000},"Project engineer","Engineer","Thailand",{"$f":"VLOOKUP(tblSalaries[[#This Row],[Where do you work]],tblCountries[[Actual]:[Mapping]],2,FALSE)","v":"Thailand"},"4 to 6 hours a day"]
[null,"ID0225","2012-05-26T00:58:03",480000,480000,"INR",{"$f":"tblSalaries[[#This Row],[clean Salary (in local currency)]]*VLOOKUP(tblSalaries[[#This Row],[Currency]],tblXrate[],2,FALSE)","v":8547.8000099724322},"Cash Officer","Manager","India",{"$f":"VLOOKUP(tblSalaries[[#This Row],[Where do you work]],tblCountries[[Actual]:[Mapping]],2,FALSE)","v":"India"},"4 to 6 hours a day"]
[null,"ID0226","2012-05-26T00:58:05",80000,80000,"USD",{"$f":"tblSalaries[[#This Row],[clean Salary (in local currency)]]*VLOOKUP(tblSalaries[[#This Row],[Currency]],tblXrate[],2,FALSE)","v":80000},"Senior Analyst","Analyst","USA",{"$f":"VLOOKUP(tblSalaries[[#This Row],[Where do you work]],tblCountries[[Actual]:[Mapping]],2,FALSE)","v":"USA"},"4 to 6 hours a day"]
[null,"ID0227","2012-05-26T00:58:06",50000,50000,"USD",{"$f":"tblSalaries[[#This Row],[clean Salary (in local currency)]]*VLOOKUP(tblSalaries[[#This Row],[Currency]],tblXrate[],2,FALSE)","v":50000},"Project Manager","Manager","USA",{"$f":"VLOOKUP(tblSalaries[[#This Row],[Where do you work]],tblCountries[[Actual]:[Mapping]],2,FALSE)","v":"USA"},"4 to 6 hours a day"]
[null,"ID0228","2012-05-26T00:58:10",45000,45000,"CAD",{"$f":"tblSalaries[[#This Row],[clean Salary (in local currency)]]*VLOOKUP(tblSalaries[[#This Row],[Currency]],tblXrate[],2,FALSE)","v":44251.268536364711},"Technical support specialist","Specialist","Canada",{"$f":"VLOOKUP(tblSalaries[[#This Row],[Where do you work]],tblCountries[[Actual]:[Mapping]],2,FALSE)","v":"Canada"},"1 or 2 hours a day"]
[null,"ID0229","2012-05-26T00:58:22",43000,43000,"GBP",{"$f":"tblSalaries[[#This Row],[clean Salary (in local currency)]]*VLOOKUP(tblSalaries[[#This Row],[Currency]],tblXrate[],2,FALSE)","v":67775.665698893223},"ServiceDesk Supervisor","Manager","UK",{"$f":"VLOOKUP(tblSalaries[[#This Row],[Where do you work]],tblCountries[[Actual]:[Mapping]],2,FALSE)","v":"UK"},"2 to 3 hours per day"]
[null,"ID0230","2012-05-26T00:58:56",200000,200000,"INR",{"$f":"tblSalaries[[#This Row],[clean Salary (in local currency)]]*VLOOKUP(tblSalaries[[#This Row],[Currency]],tblXrate[],2,FALSE)","v":3561.5833374885137},"medical biller","Analyst","India",{"$f":"VLOOKUP(tblSalaries[[#This Row],[Where do you work]],tblCountries[[Actual]:[Mapping]],2,FALSE)","v":"India"},"1 or 2 hours a day"]
[null,"ID0231","2012-05-26T00:59:03",65000,65000,"USD",{"$f":"tblSalaries[[#This Row],[clean Salary (in local currency)]]*VLOOKUP(tblSalaries[[#This Row],[Currency]],tblXrate[],2,FALSE)","v":65000},"Sr. Strategic Development Specialist","Specialist","USA",{"$f":"VLOOKUP(tblSalaries[[#This Row],[Where do you work]],tblCountries[[Actual]:[Mapping]],2,FALSE)","v":"USA"},"2 to 3 hours per day"]
[null,"ID0232","2012-05-26T00:59:09",114000,114000,"USD",{"$f":"tblSalaries[[#This Row],[clean Salary (in local currency)]]*VLOOKUP(tblSalaries[[#This Row],[Currency]],tblXrate[],2,FALSE)","v":114000},"Director","CXO or Top Mgmt.","USA",{"$f":"VLOOKUP(tblSalaries[[#This Row],[Where do you work]],tblCountries[[Actual]:[Mapping]],2,FALSE)","v":"USA"},"2 to 3 hours per day"]
[null,"ID0233","2012-05-26T00:59:27",95000,95000,"USD",{"$f":"tblSalaries[[#This Row],[clean Salary (in local currency)]]*VLOOKUP(tblSalaries[[#This Row],[Currency]],tblXrate[],2,FALSE)","v":95000},"VP - Procurment","CXO or Top Mgmt.","USA",{"$f":"VLOOKUP(tblSalaries[[#This Row],[Where do you work]],tblCountries[[Actual]:[Mapping]],2,FALSE)","v":"USA"},"4 to 6 hours a day"]
[null,"ID0234","2012-05-26T01:00:51","52500.00 USD",52500,"USD",{"$f":"tblSalaries[[#This Row],[clean Salary (in local currency)]]*VLOOKUP(tblSalaries[[#This Row],[Currency]],tblXrate[],2,FALSE)","v":52500},"HRIS Analyst","Analyst","USA",{"$f":"VLOOKUP(tblSalaries[[#This Row],[Where do you work]],tblCountries[[Actual]:[Mapping]],2,FALSE)","v":"USA"},"4 to 6 hours a day"]
[null,"ID0235","2012-05-26T01:01:03",45000,45000,"GBP",{"$f":"tblSalaries[[#This Row],[clean Salary (in local currency)]]*VLOOKUP(tblSalaries[[#This Row],[Currency]],tblXrate[],2,FALSE)","v":70928.022243027779},"Procurement manager","Manager","UK",{"$f":"VLOOKUP(tblSalaries[[#This Row],[Where do you work]],tblCountries[[Actual]:[Mapping]],2,FALSE)","v":"UK"},"2 to 3 hours per day"]
[null,"ID0236","2012-05-26T01:01:32",60000,60000,"USD",{"$f":"tblSalaries[[#This Row],[clean Salary (in local currency)]]*VLOOKUP(tblSalaries[[#This Row],[Currency]],tblXrate[],2,FALSE)","v":60000},"Energy Analyst","Analyst","USA",{"$f":"VLOOKUP(tblSalaries[[#This Row],[Where do you work]],tblCountries[[Actual]:[Mapping]],2,FALSE)","v":"USA"},"4 to 6 hours a day"]
[null,"ID0237","2012-05-26T01:02:04",65250,65250,"USD",{"$f":"tblSalaries[[#This Row],[clean Salary (in local currency)]]*VLOOKUP(tblSalaries[[#This Row],[Currency]],tblXrate[],2,FALSE)","v":65250},"Accountant","Accountant","USA",{"$f":"VLOOKUP(tblSalaries[[#This Row],[Where do you work]],tblCountries[[Actual]:[Mapping]],2,FALSE)","v":"USA"},"4 to 6 hours a day"]
[null,"ID0238","2012-05-26T01:02:07",1200000,1200000,"INR",{"$f":"tblSalaries[[#This Row],[clean Salary (in local currency)]]*VLOOKUP(tblSalaries[[#This Row],[Currency]],tblXrate[],2,FALSE)","v":21369.500024931083},"Branch head -sales","Manager","India",{"$f":"VLOOKUP(tblSalaries[[#This Row],[Where do you work]],tblCountries[[Actual]:[Mapping]],2,FALSE)","v":"India"},"2 to 3 hours per day"]
[null,"ID0239","2012-05-26T01:02:10",100000,100000,"CAD",{"$f":"tblSalaries[[#This Row],[clean Salary (in local currency)]]*VLOOKUP(tblSalaries[[#This Row],[Currency]],tblXrate[],2,FALSE)","v":98336.152303032693},"retail buyer","Manager","Canada",{"$f":"VLOOKUP(tblSalaries[[#This Row],[Where do you work]],tblCountries[[Actual]:[Mapping]],2,FALSE)","v":"Canada"},"2 to 3 hours per day"]
[null,"ID0240","2012-05-26T01:02:16","1000 â‚¬",12000,"EUR",{"$f":"tblSalaries[[#This Row],[clean Salary (in local currency)]]*VLOOKUP(tblSalaries[[#This Row],[Currency]],tblXrate[],2,FALSE)","v":15244.793267899293},"HR Specialist","Specialist","Portugal",{"$f":"VLOOKUP(tblSalaries[[#This Row],[Where do you work]],tblCountries[[Actual]:[Mapping]],2,FALSE)","v":"Portugal"},"All the 8 hours baby, all the 8!"]
[null,"ID0241","2012-05-26T01:02:21",73000,73000,"USD",{"$f":"tblSalaries[[#This Row],[clean Salary (in local currency)]]*VLOOKUP(tblSalaries[[#This Row],[Currency]],tblXrate[],2,FALSE)","v":73000},"Financial Analyst","Analyst","USA",{"$f":"VLOOKUP(tblSalaries[[#This Row],[Where do you work]],tblCountries[[Actual]:[Mapping]],2,FALSE)","v":"USA"},"4 to 6 hours a day"]
[null,"ID0242","2012-05-26T01:02:47",50000,50000,"USD",{"$f":"tblSalaries[[#This Row],[clean Salary (in local currency)]]*VLOOKUP(tblSalaries[[#This Row],[Currency]],tblXrate[],2,FALSE)","v":50000},"data analyst","Analyst","USA",{"$f":"VLOOKUP(tblSalaries[[#This Row],[Where do you work]],tblCountries[[Actual]:[Mapping]],2,FALSE)","v":"USA"},"All the 8 hours baby, all the 8!"]
[null,"ID0243","2012-05-26T01:02:51",79000,79000,"USD",{"$f":"tblSalaries[[#This Row],[clean Salary (in local currency)]]*VLOOKUP(tblSalaries[[#This Row],[Currency]],tblXrate[],2,FALSE)","v":79000},"Director of Finance and Accounting","Accountant","USA",{"$f":"VLOOKUP(tblSalaries[[#This Row],[Where do you work]],tblCountries[[Actual]:[Mapping]],2,FALSE)","v":"USA"},"2 to 3 hours per day"]
[null,"ID0244","2012-05-26T01:03:07",90000,90000,"USD",{"$f":"tblSalaries[[#This Row],[clean Salary (in local currency)]]*VLOOKUP(tblSalaries[[#This Row],[Currency]],tblXrate[],2,FALSE)","v":90000},"Manager Business Control","Manager","USA",{"$f":"VLOOKUP(tblSalaries[[#This Row],[Where do you work]],tblCountries[[Actual]:[Mapping]],2,FALSE)","v":"USA"},"4 to 6 hours a day"]
[null,"ID0245","2012-05-26T01:03:28",70000,70000,"USD",{"$f":"tblSalaries[[#This Row],[clean Salary (in local currency)]]*VLOOKUP(tblSalaries[[#This Row],[Currency]],tblXrate[],2,FALSE)","v":70000},"Manager Pricing","Manager","USA",{"$f":"VLOOKUP(tblSalaries[[#This Row],[Where do you work]],tblCountries[[Actual]:[Mapping]],2,FALSE)","v":"USA"},"2 to 3 hours per day"]
[null,"ID0246","2012-05-26T01:03:34",65000,65000,"CAD",{"$f":"tblSalaries[[#This Row],[clean Salary (in local currency)]]*VLOOKUP(tblSalaries[[#This Row],[Currency]],tblXrate[],2,FALSE)","v":63918.498996971248},"Insurance Manager","Manager","Canada",{"$f":"VLOOKUP(tblSalaries[[#This Row],[Where do you work]],tblCountries[[Actual]:[Mapping]],2,FALSE)","v":"Canada"},"4 to 6 hours a day"]
[null,"ID0247","2012-05-26T01:03:52",80000,80000,"USD",{"$f":"tblSalaries[[#This Row],[clean Salary (in local currency)]]*VLOOKUP(tblSalaries[[#This Row],[Currency]],tblXrate[],2,FALSE)","v":80000},"Analyst","Analyst","USA",{"$f":"VLOOKUP(tblSalaries[[#This Row],[Where do you work]],tblCountries[[Actual]:[Mapping]],2,FALSE)","v":"USA"},"4 to 6 hours a day"]
[null,"ID0248","2012-05-26T01:03:54",140000,140000,"USD",{"$f":"tblSalaries[[#This Row],[clean Salary (in local currency)]]*VLOOKUP(tblSalaries[[#This Row],[Currency]],tblXrate[],2,FALSE)","v":140000},"Manager","Manager","USA",{"$f":"VLOOKUP(tblSalaries[[#This Row],[Where do you work]],tblCountries[[Actual]:[Mapping]],2,FALSE)","v":"USA"},"4 to 6 hours a day"]
[null,"ID0249","2012-05-26T01:04:13","US$ 96k",96000,"USD",{"$f":"tblSalaries[[#This Row],[clean Salary (in local currency)]]*VLOOKUP(tblSalaries[[#This Row],[Currency]],tblXrate[],2,FALSE)","v":96000},"Freellance","Consultant","Poland",{"$f":"VLOOKUP(tblSalaries[[#This Row],[Where do you work]],tblCountries[[Actual]:[Mapping]],2,FALSE)","v":"Poland"},"2 to 3 hours per day"]
[null,"ID0250","2012-05-26T01:04:17",20000,20000,"USD",{"$f":"tblSalaries[[#This Row],[clean Salary (in local currency)]]*VLOOKUP(tblSalaries[[#This Row],[Currency]],tblXrate[],2,FALSE)","v":20000},"category manager","Manager","India",{"$f":"VLOOKUP(tblSalaries[[#This Row],[Where do you work]],tblCountries[[Actual]:[Mapping]],2,FALSE)","v":"India"},"4 to 6 hours a day"]
[null,"ID0251","2012-05-26T01:04:50",47700,47700,"USD",{"$f":"tblSalaries[[#This Row],[clean Salary (in local currency)]]*VLOOKUP(tblSalaries[[#This Row],[Currency]],tblXrate[],2,FALSE)","v":47700},"Customer Operations Analyst","Analyst","USA",{"$f":"VLOOKUP(tblSalaries[[#This Row],[Where do you work]],tblCountries[[Actual]:[Mapping]],2,FALSE)","v":"USA"},"4 to 6 hours a day"]
[null,"ID0252","2012-05-26T01:05:14",25000,25000,"USD",{"$f":"tblSalaries[[#This Row],[clean Salary (in local currency)]]*VLOOKUP(tblSalaries[[#This Row],[Currency]],tblXrate[],2,FALSE)","v":25000},"Team Lead","Manager","India",{"$f":"VLOOKUP(tblSalaries[[#This Row],[Where do you work]],tblCountries[[Actual]:[Mapping]],2,FALSE)","v":"India"},"1 or 2 hours a day"]
[null,"ID0253","2012-05-26T01:05:18",52500,52500,"USD",{"$f":"tblSalaries[[#This Row],[clean Salary (in local currency)]]*VLOOKUP(tblSalaries[[#This Row],[Currency]],tblXrate[],2,FALSE)","v":52500},"Analyst","Analyst","USA",{"$f":"VLOOKUP(tblSalaries[[#This Row],[Where do you work]],tblCountries[[Actual]:[Mapping]],2,FALSE)","v":"USA"},"4 to 6 hours a day"]
[null,"ID0254","2012-05-26T01:05:27",40000,40000,"USD",{"$f":"tblSalaries[[#This Row],[clean Salary (in local currency)]]*VLOOKUP(tblSalaries[[#This Row],[Currency]],tblXrate[],2,FALSE)","v":40000},"Business Analyst","Analyst","USA",{"$f":"VLOOKUP(tblSalaries[[#This Row],[Where do you work]],tblCountries[[Actual]:[Mapping]],2,FALSE)","v":"USA"},"All the 8 hours baby, all the 8!"]
[null,"ID0255","2012-05-26T01:06:02","$31,000 USD",31000,"USD",{"$f":"tblSalaries[[#This Row],[clean Salary (in local currency)]]*VLOOKUP(tblSalaries[[#This Row],[Currency]],tblXrate[],2,FALSE)","v":31000},"Site Technician","Analyst","USA",{"$f":"VLOOKUP(tblSalaries[[#This Row],[Where do you work]],tblCountries[[Actual]:[Mapping]],2,FALSE)","v":"USA"},"4 to 6 hours a day"]
[null,"ID0256","2012-05-26T01:06:12",4390,52680,"GBP",{"$f":"tblSalaries[[#This Row],[clean Salary (in local currency)]]*VLOOKUP(tblSalaries[[#This Row],[Currency]],tblXrate[],2,FALSE)","v":83033.071372504521},"Excel Consultant","Consultant","UK",{"$f":"VLOOKUP(tblSalaries[[#This Row],[Where do you work]],tblCountries[[Actual]:[Mapping]],2,FALSE)","v":"UK"},"All the 8 hours baby, all the 8!"]
[null,"ID0257","2012-05-26T01:06:31",130000,130000,"USD",{"$f":"tblSalaries[[#This Row],[clean Salary (in local currency)]]*VLOOKUP(tblSalaries[[#This Row],[Currency]],tblXrate[],2,FALSE)","v":130000},"Senior Project Manager","Manager","USA",{"$f":"VLOOKUP(tblSalaries[[#This Row],[Where do you work]],tblCountries[[Actual]:[Mapping]],2,FALSE)","v":"USA"},"4 to 6 hours a day"]
[null,"ID0258","2012-05-26T01:06:38","Rs 470000",470000,"INR",{"$f":"tblSalaries[[#This Row],[clean Salary (in local currency)]]*VLOOKUP(tblSalaries[[#This Row],[Currency]],tblXrate[],2,FALSE)","v":8369.7208430980063},"Web Statistics Analyst","Analyst","India",{"$f":"VLOOKUP(tblSalaries[[#This Row],[Where do you work]],tblCountries[[Actual]:[Mapping]],2,FALSE)","v":"India"},"All the 8 hours baby, all the 8!"]
[null,"ID0259","2012-05-26T01:07:02",51000,51000,"USD",{"$f":"tblSalaries[[#This Row],[clean Salary (in local currency)]]*VLOOKUP(tblSalaries[[#This Row],[Currency]],tblXrate[],2,FALSE)","v":51000},"Business Data Analyst I","Analyst","USA",{"$f":"VLOOKUP(tblSalaries[[#This Row],[Where do you work]],tblCountries[[Actual]:[Mapping]],2,FALSE)","v":"USA"},"2 to 3 hours per day"]
[null,"ID0260","2012-05-26T01:07:18","Â£60000",60000,"GBP",{"$f":"tblSalaries[[#This Row],[clean Salary (in local currency)]]*VLOOKUP(tblSalaries[[#This Row],[Currency]],tblXrate[],2,FALSE)","v":94570.696324037053},"Decision Analyst & Modeller","Analyst","UK",{"$f":"VLOOKUP(tblSalaries[[#This Row],[Where do you work]],tblCountries[[Actual]:[Mapping]],2,FALSE)","v":"UK"},"All the 8 hours baby, all the 8!"]
[null,"ID0261","2012-05-26T01:07:42",1920000,1920000,"INR",{"$f":"tblSalaries[[#This Row],[clean Salary (in local currency)]]*VLOOKUP(tblSalaries[[#This Row],[Currency]],tblXrate[],2,FALSE)","v":34191.200039889729},"Project Manager","Manager","India",{"$f":"VLOOKUP(tblSalaries[[#This Row],[Where do you work]],tblCountries[[Actual]:[Mapping]],2,FALSE)","v":"India"},"2 to 3 hours per day"]
[null,"ID0262","2012-05-26T01:08:00",28000,28000,"GBP",{"$f":"tblSalaries[[#This Row],[clean Salary (in local currency)]]*VLOOKUP(tblSalaries[[#This Row],[Currency]],tblXrate[],2,FALSE)","v":44132.991617883956},"Ops Adminstrator","Analyst","UK",{"$f":"VLOOKUP(tblSalaries[[#This Row],[Where do you work]],tblCountries[[Actual]:[Mapping]],2,FALSE)","v":"UK"},"All the 8 hours baby, all the 8!"]
[null,"ID0263","2012-05-26T01:08:04",73000,73000,"USD",{"$f":"tblSalaries[[#This Row],[clean Salary (in local currency)]]*VLOOKUP(tblSalaries[[#This Row],[Currency]],tblXrate[],2,FALSE)","v":73000},"Sr. Global marketing Specialist","Specialist","USA",{"$f":"VLOOKUP(tblSalaries[[#This Row],[Where do you work]],tblCountries[[Actual]:[Mapping]],2,FALSE)","v":"USA"},"4 to 6 hours a day"]
[null,"ID0264","2012-05-26T01:08:19",62400,62400,"USD",{"$f":"tblSalaries[[#This Row],[clean Salary (in local currency)]]*VLOOKUP(tblSalaries[[#This Row],[Currency]],tblXrate[],2,FALSE)","v":62400},"financial accountant","Accountant","USA",{"$f":"VLOOKUP(tblSalaries[[#This Row],[Where do you work]],tblCountries[[Actual]:[Mapping]],2,FALSE)","v":"USA"},"All the 8 hours baby, all the 8!"]
[null,"ID0265","2012-05-26T01:08:21",2300,27600,"USD",{"$f":"tblSalaries[[#This Row],[clean Salary (in local currency)]]*VLOOKUP(tblSalaries[[#This Row],[Currency]],tblXrate[],2,FALSE)","v":27600},"Software Consultant","Consultant","Singapore",{"$f":"VLOOKUP(tblSalaries[[#This Row],[Where do you work]],tblCountries[[Actual]:[Mapping]],2,FALSE)","v":"Singapore"},"All the 8 hours baby, all the 8!"]
[null,"ID0266","2012-05-26T01:08:35",54000,54000,"USD",{"$f":"tblSalaries[[#This Row],[clean Salary (in local currency)]]*VLOOKUP(tblSalaries[[#This Row],[Currency]],tblXrate[],2,FALSE)","v":54000},"Anaylst","Manager","USA",{"$f":"VLOOKUP(tblSalaries[[#This Row],[Where do you work]],tblCountries[[Actual]:[Mapping]],2,FALSE)","v":"USA"},"All the 8 hours baby, all the 8!"]
[null,"ID0267","2012-05-26T01:08:39","rs 2.76 lakhs per year",276000,"INR",{"$f":"tblSalaries[[#This Row],[clean Salary (in local currency)]]*VLOOKUP(tblSalaries[[#This Row],[Currency]],tblXrate[],2,FALSE)","v":4914.9850057341491},"analyst","Analyst","India",{"$f":"VLOOKUP(tblSalaries[[#This Row],[Where do you work]],tblCountries[[Actual]:[Mapping]],2,FALSE)","v":"India"},"All the 8 hours baby, all the 8!"]
[null,"ID0268","2012-05-26T01:08:42","$77,000 USD",77000,"USD",{"$f":"tblSalaries[[#This Row],[clean Salary (in local currency)]]*VLOOKUP(tblSalaries[[#This Row],[Currency]],tblXrate[],2,FALSE)","v":77000},"senior accounting coordinator","Accountant","USA",{"$f":"VLOOKUP(tblSalaries[[#This Row],[Where do you work]],tblCountries[[Actual]:[Mapping]],2,FALSE)","v":"USA"},"4 to 6 hours a day"]
[null,"ID0269","2012-05-26T01:09:01",76000,76000,"USD",{"$f":"tblSalaries[[#This Row],[clean Salary (in local currency)]]*VLOOKUP(tblSalaries[[#This Row],[Currency]],tblXrate[],2,FALSE)","v":76000},"Demand Planning Mgr","Manager","USA",{"$f":"VLOOKUP(tblSalaries[[#This Row],[Where do you work]],tblCountries[[Actual]:[Mapping]],2,FALSE)","v":"USA"},"All the 8 hours baby, all the 8!"]
[null,"ID0270","2012-05-26T01:09:32",103000,103000,"USD",{"$f":"tblSalaries[[#This Row],[clean Salary (in local currency)]]*VLOOKUP(tblSalaries[[#This Row],[Currency]],tblXrate[],2,FALSE)","v":103000},"VP / Credit Administrator","CXO or Top Mgmt.","USA",{"$f":"VLOOKUP(tblSalaries[[#This Row],[Where do you work]],tblCountries[[Actual]:[Mapping]],2,FALSE)","v":"USA"},"2 to 3 hours per day"]
[null,"ID0271","2012-05-26T01:09:34",7600,7600,"USD",{"$f":"tblSalaries[[#This Row],[clean Salary (in local currency)]]*VLOOKUP(tblSalaries[[#This Row],[Currency]],tblXrate[],2,FALSE)","v":7600},"DP specialist","Specialist","Ukraine",{"$f":"VLOOKUP(tblSalaries[[#This Row],[Where do you work]],tblCountries[[Actual]:[Mapping]],2,FALSE)","v":"Ukraine"},"1 or 2 hours a day"]
[null,"ID0272","2012-05-26T01:09:56",40000,40000,"USD",{"$f":"tblSalaries[[#This Row],[clean Salary (in local currency)]]*VLOOKUP(tblSalaries[[#This Row],[Currency]],tblXrate[],2,FALSE)","v":40000},"Analyst 2","Analyst","USA",{"$f":"VLOOKUP(tblSalaries[[#This Row],[Where do you work]],tblCountries[[Actual]:[Mapping]],2,FALSE)","v":"USA"},"4 to 6 hours a day"]
[null,"ID0273","2012-05-26T01:10:20",80000,80000,"USD",{"$f":"tblSalaries[[#This Row],[clean Salary (in local currency)]]*VLOOKUP(tblSalaries[[#This Row],[Currency]],tblXrate[],2,FALSE)","v":80000},"VP","CXO or Top Mgmt.","USA",{"$f":"VLOOKUP(tblSalaries[[#This Row],[Where do you work]],tblCountries[[Actual]:[Mapping]],2,FALSE)","v":"USA"},"2 to 3 hours per day"]
[null,"ID0274","2012-05-26T01:10:24",55000,55000,"USD",{"$f":"tblSalaries[[#This Row],[clean Salary (in local currency)]]*VLOOKUP(tblSalaries[[#This Row],[Currency]],tblXrate[],2,FALSE)","v":55000},"data analyst","Analyst","USA",{"$f":"VLOOKUP(tblSalaries[[#This Row],[Where do you work]],tblCountries[[Actual]:[Mapping]],2,FALSE)","v":"USA"},"All the 8 hours baby, all the 8!"]
[null,"ID0275","2012-05-26T01:10:55",99000,99000,"USD",{"$f":"tblSalaries[[#This Row],[clean Salary (in local currency)]]*VLOOKUP(tblSalaries[[#This Row],[Currency]],tblXrate[],2,FALSE)","v":99000},"Business Analyst","Analyst","USA",{"$f":"VLOOKUP(tblSalaries[[#This Row],[Where do you work]],tblCountries[[Actual]:[Mapping]],2,FALSE)","v":"USA"},"2 to 3 hours per day"]
[null,"ID0276","2012-05-26T01:10:56","35,000 Philippine Peso",420000,"PHP",{"$f":"tblSalaries[[#This Row],[clean Salary (in local currency)]]*VLOOKUP(tblSalaries[[#This Row],[Currency]],tblXrate[],2,FALSE)","v":9956.1219482708348},"Global Problem Management - IT","Manager","Philippines",{"$f":"VLOOKUP(tblSalaries[[#This Row],[Where do you work]],tblCountries[[Actual]:[Mapping]],2,FALSE)","v":"Philippines"},"4 to 6 hours a day"]
[null,"ID0277","2012-05-26T01:11:12",75000,75000,"USD",{"$f":"tblSalaries[[#This Row],[clean Salary (in local currency)]]*VLOOKUP(tblSalaries[[#This Row],[Currency]],tblXrate[],2,FALSE)","v":75000},"financial analyst","Analyst","USA",{"$f":"VLOOKUP(tblSalaries[[#This Row],[Where do you work]],tblCountries[[Actual]:[Mapping]],2,FALSE)","v":"USA"},"4 to 6 hours a day"]
[null,"ID0278","2012-05-26T01:11:54",80000,80000,"USD",{"$f":"tblSalaries[[#This Row],[clean Salary (in local currency)]]*VLOOKUP(tblSalaries[[#This Row],[Currency]],tblXrate[],2,FALSE)","v":80000},"Enterprise Performance Metrics Manager","Manager","USA",{"$f":"VLOOKUP(tblSalaries[[#This Row],[Where do you work]],tblCountries[[Actual]:[Mapping]],2,FALSE)","v":"USA"},"2 to 3 hours per day"]
[null,"ID0279","2012-05-26T01:12:41",20000,20000,"USD",{"$f":"tblSalaries[[#This Row],[clean Salary (in local currency)]]*VLOOKUP(tblSalaries[[#This Row],[Currency]],tblXrate[],2,FALSE)","v":20000},"Analyst","Analyst","India",{"$f":"VLOOKUP(tblSalaries[[#This Row],[Where do you work]],tblCountries[[Actual]:[Mapping]],2,FALSE)","v":"India"},"All the 8 hours baby, all the 8!"]
[null,"ID0280","2012-05-26T01:13:50",40000,40000,"USD",{"$f":"tblSalaries[[#This Row],[clean Salary (in local currency)]]*VLOOKUP(tblSalaries[[#This Row],[Currency]],tblXrate[],2,FALSE)","v":40000},"Business Analyst","Analyst","USA",{"$f":"VLOOKUP(tblSalaries[[#This Row],[Where do you work]],tblCountries[[Actual]:[Mapping]],2,FALSE)","v":"USA"},"All the 8 hours baby, all the 8!"]
[null,"ID0281","2012-05-26T01:14:27",46000,46000,"USD",{"$f":"tblSalaries[[#This Row],[clean Salary (in local currency)]]*VLOOKUP(tblSalaries[[#This Row],[Currency]],tblXrate[],2,FALSE)","v":46000},"University Relations Intern","Analyst","USA",{"$f":"VLOOKUP(tblSalaries[[#This Row],[Where do you work]],tblCountries[[Actual]:[Mapping]],2,FALSE)","v":"USA"},"All the 8 hours baby, all the 8!"]
[null,"ID0282","2012-05-26T01:14:55",14000,14000,"USD",{"$f":"tblSalaries[[#This Row],[clean Salary (in local currency)]]*VLOOKUP(tblSalaries[[#This Row],[Currency]],tblXrate[],2,FALSE)","v":14000},"Auxiliar Administrativo","Analyst","Brazil",{"$f":"VLOOKUP(tblSalaries[[#This Row],[Where do you work]],tblCountries[[Actual]:[Mapping]],2,FALSE)","v":"Brazil"},"1 or 2 hours a day"]
[null,"ID0283","2012-05-26T01:15:05",70000,70000,"USD",{"$f":"tblSalaries[[#This Row],[clean Salary (in local currency)]]*VLOOKUP(tblSalaries[[#This Row],[Currency]],tblXrate[],2,FALSE)","v":70000},"Engineering Tech Sr.","Engineer","USA",{"$f":"VLOOKUP(tblSalaries[[#This Row],[Where do you work]],tblCountries[[Actual]:[Mapping]],2,FALSE)","v":"USA"},"All the 8 hours baby, all the 8!"]
[null,"ID0284","2012-05-26T01:15:12","36000 $",36000,"USD",{"$f":"tblSalaries[[#This Row],[clean Salary (in local currency)]]*VLOOKUP(tblSalaries[[#This Row],[Currency]],tblXrate[],2,FALSE)","v":36000},"Senior Specialist","Specialist","Russia",{"$f":"VLOOKUP(tblSalaries[[#This Row],[Where do you work]],tblCountries[[Actual]:[Mapping]],2,FALSE)","v":"Russia"},"4 to 6 hours a day"]
[null,"ID0285","2012-05-26T01:15:25",15000,15000,"USD",{"$f":"tblSalaries[[#This Row],[clean Salary (in local currency)]]*VLOOKUP(tblSalaries[[#This Row],[Currency]],tblXrate[],2,FALSE)","v":15000},"moneymaker","Manager","USA",{"$f":"VLOOKUP(tblSalaries[[#This Row],[Where do you work]],tblCountries[[Actual]:[Mapping]],2,FALSE)","v":"USA"},"2 to 3 hours per day"]
[null,"ID0286","2012-05-26T01:16:18","INR 15,00,000",1500000,"INR",{"$f":"tblSalaries[[#This Row],[clean Salary (in local currency)]]*VLOOKUP(tblSalaries[[#This Row],[Currency]],tblXrate[],2,FALSE)","v":26711.875031163851},"Consultant","Consultant","India",{"$f":"VLOOKUP(tblSalaries[[#This Row],[Where do you work]],tblCountries[[Actual]:[Mapping]],2,FALSE)","v":"India"},"All the 8 hours baby, all the 8!"]
[null,"ID0287","2012-05-26T01:17:11","AED100000",100000,"AED",{"$f":"tblSalaries[[#This Row],[clean Salary (in local currency)]]*VLOOKUP(tblSalaries[[#This Row],[Currency]],tblXrate[],2,FALSE)","v":27221.92126875931},"Accountant","Accountant","Dubai",{"$f":"VLOOKUP(tblSalaries[[#This Row],[Where do you work]],tblCountries[[Actual]:[Mapping]],2,FALSE)","v":"Dubai"},"4 to 6 hours a day"]
[null,"ID0288","2012-05-26T01:17:50",22000,22000,"USD",{"$f":"tblSalaries[[#This Row],[clean Salary (in local currency)]]*VLOOKUP(tblSalaries[[#This Row],[Currency]],tblXrate[],2,FALSE)","v":22000},"MIS","Reporting","India",{"$f":"VLOOKUP(tblSalaries[[#This Row],[Where do you work]],tblCountries[[Actual]:[Mapping]],2,FALSE)","v":"India"},"All the 8 hours baby, all the 8!"]
[null,"ID0289","2012-05-26T01:17:56",68000,68000,"USD",{"$f":"tblSalaries[[#This Row],[clean Salary (in local currency)]]*VLOOKUP(tblSalaries[[#This Row],[Currency]],tblXrate[],2,FALSE)","v":68000},"management accountant","Manager","USA",{"$f":"VLOOKUP(tblSalaries[[#This Row],[Where do you work]],tblCountries[[Actual]:[Mapping]],2,FALSE)","v":"USA"},"All the 8 hours baby, all the 8!"]
[null,"ID0290","2012-05-26T01:17:57",97000,97000,"USD",{"$f":"tblSalaries[[#This Row],[clean Salary (in local currency)]]*VLOOKUP(tblSalaries[[#This Row],[Currency]],tblXrate[],2,FALSE)","v":97000},"business analyst","Analyst","USA",{"$f":"VLOOKUP(tblSalaries[[#This Row],[Where do you work]],tblCountries[[Actual]:[Mapping]],2,FALSE)","v":"USA"},"All the 8 hours baby, all the 8!"]
[null,"ID0291","2012-05-26T01:18:35","Â£31000",31000,"GBP",{"$f":"tblSalaries[[#This Row],[clean Salary (in local currency)]]*VLOOKUP(tblSalaries[[#This Row],[Currency]],tblXrate[],2,FALSE)","v":48861.526434085805},"Telecoms Engineer","Engineer","UK",{"$f":"VLOOKUP(tblSalaries[[#This Row],[Where do you work]],tblCountries[[Actual]:[Mapping]],2,FALSE)","v":"UK"},"2 to 3 hours per day"]
[null,"ID0292","2012-05-26T01:18:49",65000,65000,"USD",{"$f":"tblSalaries[[#This Row],[clean Salary (in local currency)]]*VLOOKUP(tblSalaries[[#This Row],[Currency]],tblXrate[],2,FALSE)","v":65000},"Software Support","Analyst","USA",{"$f":"VLOOKUP(tblSalaries[[#This Row],[Where do you work]],tblCountries[[Actual]:[Mapping]],2,FALSE)","v":"USA"},"4 to 6 hours a day"]
[null,"ID0293","2012-05-26T01:18:58",3600,43200,"USD",{"$f":"tblSalaries[[#This Row],[clean Salary (in local currency)]]*VLOOKUP(tblSalaries[[#This Row],[Currency]],tblXrate[],2,FALSE)","v":43200},"Projects Planner","Manager","Saudi Arabia",{"$f":"VLOOKUP(tblSalaries[[#This Row],[Where do you work]],tblCountries[[Actual]:[Mapping]],2,FALSE)","v":"Saudi Arabia"},"4 to 6 hours a day"]
[null,"ID0294","2012-05-26T01:19:09","4.5 lakh INR",450000,"INR",{"$f":"tblSalaries[[#This Row],[clean Salary (in local currency)]]*VLOOKUP(tblSalaries[[#This Row],[Currency]],tblXrate[],2,FALSE)","v":8013.5625093491553},"Business Analyst","Analyst","India",{"$f":"VLOOKUP(tblSalaries[[#This Row],[Where do you work]],tblCountries[[Actual]:[Mapping]],2,FALSE)","v":"India"},"4 to 6 hours a day"]
[null,"ID0295","2012-05-26T01:19:09",50000,50000,"USD",{"$f":"tblSalaries[[#This Row],[clean Salary (in local currency)]]*VLOOKUP(tblSalaries[[#This Row],[Currency]],tblXrate[],2,FALSE)","v":50000},"Mathematical Data Analyist","Analyst","USA",{"$f":"VLOOKUP(tblSalaries[[#This Row],[Where do you work]],tblCountries[[Actual]:[Mapping]],2,FALSE)","v":"USA"},"All the 8 hours baby, all the 8!"]
[null,"ID0296","2012-05-26T01:19:22",45000,45000,"USD",{"$f":"tblSalaries[[#This Row],[clean Salary (in local currency)]]*VLOOKUP(tblSalaries[[#This Row],[Currency]],tblXrate[],2,FALSE)","v":45000},"sales support","Analyst","USA",{"$f":"VLOOKUP(tblSalaries[[#This Row],[Where do you work]],tblCountries[[Actual]:[Mapping]],2,FALSE)","v":"USA"},"4 to 6 hours a day"]
[null,"ID0297","2012-05-26T01:19:37","Rs.1.8 lakhs ",180000,"INR",{"$f":"tblSalaries[[#This Row],[clean Salary (in local currency)]]*VLOOKUP(tblSalaries[[#This Row],[Currency]],tblXrate[],2,FALSE)","v":3205.4250037396623},"Administrative Officer","Manager","India",{"$f":"VLOOKUP(tblSalaries[[#This Row],[Where do you work]],tblCountries[[Actual]:[Mapping]],2,FALSE)","v":"India"},"4 to 6 hours a day"]
[null,"ID0298","2012-05-26T01:20:01",60000,60000,"USD",{"$f":"tblSalaries[[#This Row],[clean Salary (in local currency)]]*VLOOKUP(tblSalaries[[#This Row],[Currency]],tblXrate[],2,FALSE)","v":60000},"IS Manager","Manager","USA",{"$f":"VLOOKUP(tblSalaries[[#This Row],[Where do you work]],tblCountries[[Actual]:[Mapping]],2,FALSE)","v":"USA"},"All the 8 hours baby, all the 8!"]
[null,"ID0299","2012-05-26T01:20:46",31000,31000,"USD",{"$f":"tblSalaries[[#This Row],[clean Salary (in local currency)]]*VLOOKUP(tblSalaries[[#This Row],[Currency]],tblXrate[],2,FALSE)","v":31000},"Support Specialist ","Specialist","USA",{"$f":"VLOOKUP(tblSalaries[[#This Row],[Where do you work]],tblCountries[[Actual]:[Mapping]],2,FALSE)","v":"USA"},"2 to 3 hours per day"]
[null,"ID0300","2012-05-26T01:21:06",75000,75000,"USD",{"$f":"tblSalaries[[#This Row],[clean Salary (in local currency)]]*VLOOKUP(tblSalaries[[#This Row],[Currency]],tblXrate[],2,FALSE)","v":75000},"FA","Analyst","USA",{"$f":"VLOOKUP(tblSalaries[[#This Row],[Where do you work]],tblCountries[[Actual]:[Mapping]],2,FALSE)","v":"USA"},"4 to 6 hours a day"]
[null,"ID0301","2012-05-26T01:22:09",16000,16000,"USD",{"$f":"tblSalaries[[#This Row],[clean Salary (in local currency)]]*VLOOKUP(tblSalaries[[#This Row],[Currency]],tblXrate[],2,FALSE)","v":16000},"VP of Finance","CXO or Top Mgmt.","USA",{"$f":"VLOOKUP(tblSalaries[[#This Row],[Where do you work]],tblCountries[[Actual]:[Mapping]],2,FALSE)","v":"USA"},"1 or 2 hours a day"]
[null,"ID0302","2012-05-26T01:22:22","36,000 USD",36000,"USD",{"$f":"tblSalaries[[#This Row],[clean Salary (in local currency)]]*VLOOKUP(tblSalaries[[#This Row],[Currency]],tblXrate[],2,FALSE)","v":36000},"PRODUCTION ASSISTANT","Analyst","USA",{"$f":"VLOOKUP(tblSalaries[[#This Row],[Where do you work]],tblCountries[[Actual]:[Mapping]],2,FALSE)","v":"USA"},"All the 8 hours baby, all the 8!"]
[null,"ID0303","2012-05-26T01:22:40",42000,42000,"CAD",{"$f":"tblSalaries[[#This Row],[clean Salary (in local currency)]]*VLOOKUP(tblSalaries[[#This Row],[Currency]],tblXrate[],2,FALSE)","v":41301.183967273726},"Financial Analyst","Analyst","Canada",{"$f":"VLOOKUP(tblSalaries[[#This Row],[Where do you work]],tblCountries[[Actual]:[Mapping]],2,FALSE)","v":"Canada"},"All the 8 hours baby, all the 8!"]
[null,"ID0304","2012-05-26T01:22:45",53000,53000,"USD",{"$f":"tblSalaries[[#This Row],[clean Salary (in local currency)]]*VLOOKUP(tblSalaries[[#This Row],[Currency]],tblXrate[],2,FALSE)","v":53000},"Data Analyst","Analyst","USA",{"$f":"VLOOKUP(tblSalaries[[#This Row],[Where do you work]],tblCountries[[Actual]:[Mapping]],2,FALSE)","v":"USA"},"4 to 6 hours a day"]
[null,"ID0305","2012-05-26T01:22:48","65000 euro",65000,"EUR",{"$f":"tblSalaries[[#This Row],[clean Salary (in local currency)]]*VLOOKUP(tblSalaries[[#This Row],[Currency]],tblXrate[],2,FALSE)","v":82575.963534454509},"controller","Controller","germany",{"$f":"VLOOKUP(tblSalaries[[#This Row],[Where do you work]],tblCountries[[Actual]:[Mapping]],2,FALSE)","v":"Germany"},"All the 8 hours baby, all the 8!"]
[null,"ID0306","2012-05-26T01:22:56",67000,67000,"USD",{"$f":"tblSalaries[[#This Row],[clean Salary (in local currency)]]*VLOOKUP(tblSalaries[[#This Row],[Currency]],tblXrate[],2,FALSE)","v":67000},"HR Analyst","Analyst","USA",{"$f":"VLOOKUP(tblSalaries[[#This Row],[Where do you work]],tblCountries[[Actual]:[Mapping]],2,FALSE)","v":"USA"},"4 to 6 hours a day"]
[null,"ID0307","2012-05-26T01:23:21",12000,12000,"USD",{"$f":"tblSalaries[[#This Row],[clean Salary (in local currency)]]*VLOOKUP(tblSalaries[[#This Row],[Currency]],tblXrate[],2,FALSE)","v":12000},"Analyst","Analyst","India",{"$f":"VLOOKUP(tblSalaries[[#This Row],[Where do you work]],tblCountries[[Actual]:[Mapping]],2,FALSE)","v":"India"},"All the 8 hours baby, all the 8!"]
[null,"ID0308","2012-05-26T01:23:43",85000,85000,"USD",{"$f":"tblSalaries[[#This Row],[clean Salary (in local currency)]]*VLOOKUP(tblSalaries[[#This Row],[Currency]],tblXrate[],2,FALSE)","v":85000},"Plant Controller","Controller","USA",{"$f":"VLOOKUP(tblSalaries[[#This Row],[Where do you work]],tblCountries[[Actual]:[Mapping]],2,FALSE)","v":"USA"},"All the 8 hours baby, all the 8!"]
[null,"ID0309","2012-05-26T01:23:50",200000,200000,"EUR",{"$f":"tblSalaries[[#This Row],[clean Salary (in local currency)]]*VLOOKUP(tblSalaries[[#This Row],[Currency]],tblXrate[],2,FALSE)","v":254079.88779832155},"consultant bi","Reporting","The netherlands",{"$f":"VLOOKUP(tblSalaries[[#This Row],[Where do you work]],tblCountries[[Actual]:[Mapping]],2,FALSE)","v":"Netherlands"},"All the 8 hours baby, all the 8!"]
[null,"ID0310","2012-05-26T01:23:57",40000,40000,"USD",{"$f":"tblSalaries[[#This Row],[clean Salary (in local currency)]]*VLOOKUP(tblSalaries[[#This Row],[Currency]],tblXrate[],2,FALSE)","v":40000},"Royalties Coordinator","Manager","USA",{"$f":"VLOOKUP(tblSalaries[[#This Row],[Where do you work]],tblCountries[[Actual]:[Mapping]],2,FALSE)","v":"USA"},"4 to 6 hours a day"]
[null,"ID0311","2012-05-26T01:24:03","Â£20000/year but i work part time 30h/week",20000,"GBP",{"$f":"tblSalaries[[#This Row],[clean Salary (in local currency)]]*VLOOKUP(tblSalaries[[#This Row],[Currency]],tblXrate[],2,FALSE)","v":31523.565441345683},"Graduate Structural Engineer","Engineer","UK",{"$f":"VLOOKUP(tblSalaries[[#This Row],[Where do you work]],tblCountries[[Actual]:[Mapping]],2,FALSE)","v":"UK"},"1 or 2 hours a day"]
[null,"ID0312","2012-05-26T01:25:05",41000,41000,"USD",{"$f":"tblSalaries[[#This Row],[clean Salary (in local currency)]]*VLOOKUP(tblSalaries[[#This Row],[Currency]],tblXrate[],2,FALSE)","v":41000},"Operations Analyst","Analyst","USA",{"$f":"VLOOKUP(tblSalaries[[#This Row],[Where do you work]],tblCountries[[Actual]:[Mapping]],2,FALSE)","v":"USA"},"4 to 6 hours a day"]
[null,"ID0313","2012-05-26T01:25:06",1400000,1400000,"INR",{"$f":"tblSalaries[[#This Row],[clean Salary (in local currency)]]*VLOOKUP(tblSalaries[[#This Row],[Currency]],tblXrate[],2,FALSE)","v":24931.083362419595},"Marketing","Manager","India",{"$f":"VLOOKUP(tblSalaries[[#This Row],[Where do you work]],tblCountries[[Actual]:[Mapping]],2,FALSE)","v":"India"},"1 or 2 hours a day"]
[null,"ID0314","2012-05-26T01:25:30",125000,125000,"USD",{"$f":"tblSalaries[[#This Row],[clean Salary (in local currency)]]*VLOOKUP(tblSalaries[[#This Row],[Currency]],tblXrate[],2,FALSE)","v":125000},"Finance, Manager ","Manager","USA",{"$f":"VLOOKUP(tblSalaries[[#This Row],[Where do you work]],tblCountries[[Actual]:[Mapping]],2,FALSE)","v":"USA"},"4 to 6 hours a day"]
[null,"ID0315","2012-05-26T01:26:26",60000,60000,"CAD",{"$f":"tblSalaries[[#This Row],[clean Salary (in local currency)]]*VLOOKUP(tblSalaries[[#This Row],[Currency]],tblXrate[],2,FALSE)","v":59001.691381819612},"Sr. Business Analyst","Analyst","Canada",{"$f":"VLOOKUP(tblSalaries[[#This Row],[Where do you work]],tblCountries[[Actual]:[Mapping]],2,FALSE)","v":"Canada"},"All the 8 hours baby, all the 8!"]
[null,"ID0316","2012-05-26T01:26:37","150000 MXN",150000,"MXN",{"$f":"tblSalaries[[#This Row],[clean Salary (in local currency)]]*VLOOKUP(tblSalaries[[#This Row],[Currency]],tblXrate[],2,FALSE)","v":10956.982885192734},"Information Analyst","Analyst","Mexico",{"$f":"VLOOKUP(tblSalaries[[#This Row],[Where do you work]],tblCountries[[Actual]:[Mapping]],2,FALSE)","v":"Mexico"},"All the 8 hours baby, all the 8!"]
[null,"ID0317","2012-05-26T01:26:52",70000,70000,"USD",{"$f":"tblSalaries[[#This Row],[clean Salary (in local currency)]]*VLOOKUP(tblSalaries[[#This Row],[Currency]],tblXrate[],2,FALSE)","v":70000},"Analyst","Analyst","USA",{"$f":"VLOOKUP(tblSalaries[[#This Row],[Where do you work]],tblCountries[[Actual]:[Mapping]],2,FALSE)","v":"USA"},"2 to 3 hours per day"]
[null,"ID0318","2012-05-26T01:27:03",400000,400000,"USD",{"$f":"tblSalaries[[#This Row],[clean Salary (in local currency)]]*VLOOKUP(tblSalaries[[#This Row],[Currency]],tblXrate[],2,FALSE)","v":400000},"Financial Specialist","Specialist","USA",{"$f":"VLOOKUP(tblSalaries[[#This Row],[Where do you work]],tblCountries[[Actual]:[Mapping]],2,FALSE)","v":"USA"},"All the 8 hours baby, all the 8!"]
[null,"ID0319","2012-05-26T01:27:26",55,55000,"USD",{"$f":"tblSalaries[[#This Row],[clean Salary (in local currency)]]*VLOOKUP(tblSalaries[[#This Row],[Currency]],tblXrate[],2,FALSE)","v":55000},"Business Analyst","Analyst","USA",{"$f":"VLOOKUP(tblSalaries[[#This Row],[Where do you work]],tblCountries[[Actual]:[Mapping]],2,FALSE)","v":"USA"},"4 to 6 hours a day"]
[null,"ID0320","2012-05-26T01:27:29",60000,60000,"USD",{"$f":"tblSalaries[[#This Row],[clean Salary (in local currency)]]*VLOOKUP(tblSalaries[[#This Row],[Currency]],tblXrate[],2,FALSE)","v":60000},"Management Analyst","Analyst","USA",{"$f":"VLOOKUP(tblSalaries[[#This Row],[Where do you work]],tblCountries[[Actual]:[Mapping]],2,FALSE)","v":"USA"},"4 to 6 hours a day"]
[null,"ID0321","2012-05-26T01:27:44","INR 1000000",1000000,"INR",{"$f":"tblSalaries[[#This Row],[clean Salary (in local currency)]]*VLOOKUP(tblSalaries[[#This Row],[Currency]],tblXrate[],2,FALSE)","v":17807.916687442568},"Manager","Manager","India",{"$f":"VLOOKUP(tblSalaries[[#This Row],[Where do you work]],tblCountries[[Actual]:[Mapping]],2,FALSE)","v":"India"},"4 to 6 hours a day"]
[null,"ID0322","2012-05-26T01:27:52",40000,40000,"USD",{"$f":"tblSalaries[[#This Row],[clean Salary (in local currency)]]*VLOOKUP(tblSalaries[[#This Row],[Currency]],tblXrate[],2,FALSE)","v":40000},"Dp manager","Manager","Hungary",{"$f":"VLOOKUP(tblSalaries[[#This Row],[Where do you work]],tblCountries[[Actual]:[Mapping]],2,FALSE)","v":"Hungary"},"4 to 6 hours a day"]
[null,"ID0323","2012-05-26T01:28:37",137500,137500,"USD",{"$f":"tblSalaries[[#This Row],[clean Salary (in local currency)]]*VLOOKUP(tblSalaries[[#This Row],[Currency]],tblXrate[],2,FALSE)","v":137500},"director of analytics","Analyst","USA",{"$f":"VLOOKUP(tblSalaries[[#This Row],[Where do you work]],tblCountries[[Actual]:[Mapping]],2,FALSE)","v":"USA"},"4 to 6 hours a day"]
[null,"ID0324","2012-05-26T01:29:32","US$ 4.545",4545,"USD",{"$f":"tblSalaries[[#This Row],[clean Salary (in local currency)]]*VLOOKUP(tblSalaries[[#This Row],[Currency]],tblXrate[],2,FALSE)","v":4545},"Supply Processes Analyst","Analyst","Brasil",{"$f":"VLOOKUP(tblSalaries[[#This Row],[Where do you work]],tblCountries[[Actual]:[Mapping]],2,FALSE)","v":"Brazil"},"All the 8 hours baby, all the 8!"]
[null,"ID0325","2012-05-26T01:29:37","Â£29000",29000,"GBP",{"$f":"tblSalaries[[#This Row],[clean Salary (in local currency)]]*VLOOKUP(tblSalaries[[#This Row],[Currency]],tblXrate[],2,FALSE)","v":45709.169889951241},"ICT Technical Analyst","Analyst","UK",{"$f":"VLOOKUP(tblSalaries[[#This Row],[Where do you work]],tblCountries[[Actual]:[Mapping]],2,FALSE)","v":"UK"},"4 to 6 hours a day"]
[null,"ID0326","2012-05-26T01:30:12",47000,47000,"USD",{"$f":"tblSalaries[[#This Row],[clean Salary (in local currency)]]*VLOOKUP(tblSalaries[[#This Row],[Currency]],tblXrate[],2,FALSE)","v":47000},"Sourcing Specialist","Specialist","USA",{"$f":"VLOOKUP(tblSalaries[[#This Row],[Where do you work]],tblCountries[[Actual]:[Mapping]],2,FALSE)","v":"USA"},"4 to 6 hours a day"]
[null,"ID0327","2012-05-26T01:30:39",65000,65000,"USD",{"$f":"tblSalaries[[#This Row],[clean Salary (in local currency)]]*VLOOKUP(tblSalaries[[#This Row],[Currency]],tblXrate[],2,FALSE)","v":65000},"business analyst","Analyst","USA",{"$f":"VLOOKUP(tblSalaries[[#This Row],[Where do you work]],tblCountries[[Actual]:[Mapping]],2,FALSE)","v":"USA"},"All the 8 hours baby, all the 8!"]
[null,"ID0328","2012-05-26T01:30:56","PhP 456,000",456000,"PHP",{"$f":"tblSalaries[[#This Row],[clean Salary (in local currency)]]*VLOOKUP(tblSalaries[[#This Row],[Currency]],tblXrate[],2,FALSE)","v":10809.503829551191},"Reporting Shared Services Oferring Lead","Reporting","Philippines",{"$f":"VLOOKUP(tblSalaries[[#This Row],[Where do you work]],tblCountries[[Actual]:[Mapping]],2,FALSE)","v":"Philippines"},"4 to 6 hours a day"]
[null,"ID0329","2012-05-26T01:31:26",92000,92000,"USD",{"$f":"tblSalaries[[#This Row],[clean Salary (in local currency)]]*VLOOKUP(tblSalaries[[#This Row],[Currency]],tblXrate[],2,FALSE)","v":92000},"Sales Analytics Manager","Manager","USA",{"$f":"VLOOKUP(tblSalaries[[#This Row],[Where do you work]],tblCountries[[Actual]:[Mapping]],2,FALSE)","v":"USA"},"4 to 6 hours a day"]
[null,"ID0330","2012-05-26T01:31:42","22000 usd",22000,"USD",{"$f":"tblSalaries[[#This Row],[clean Salary (in local currency)]]*VLOOKUP(tblSalaries[[#This Row],[Currency]],tblXrate[],2,FALSE)","v":22000},"Product Manager Sr","Manager","Mexico",{"$f":"VLOOKUP(tblSalaries[[#This Row],[Where do you work]],tblCountries[[Actual]:[Mapping]],2,FALSE)","v":"Mexico"},"4 to 6 hours a day"]
[null,"ID0331","2012-05-26T01:31:58",108000,108000,"USD",{"$f":"tblSalaries[[#This Row],[clean Salary (in local currency)]]*VLOOKUP(tblSalaries[[#This Row],[Currency]],tblXrate[],2,FALSE)","v":108000},"Database Architect","Manager","USA",{"$f":"VLOOKUP(tblSalaries[[#This Row],[Where do you work]],tblCountries[[Actual]:[Mapping]],2,FALSE)","v":"USA"},"2 to 3 hours per day"]
[null,"ID0332","2012-05-26T01:32:08",61000,61000,"USD",{"$f":"tblSalaries[[#This Row],[clean Salary (in local currency)]]*VLOOKUP(tblSalaries[[#This Row],[Currency]],tblXrate[],2,FALSE)","v":61000},"Data Analyst","Analyst","USA",{"$f":"VLOOKUP(tblSalaries[[#This Row],[Where do you work]],tblCountries[[Actual]:[Mapping]],2,FALSE)","v":"USA"},"1 or 2 hours a day"]
[null,"ID0333","2012-05-26T01:32:14","CAD 65000",65000,"CAD",{"$f":"tblSalaries[[#This Row],[clean Salary (in local currency)]]*VLOOKUP(tblSalaries[[#This Row],[Currency]],tblXrate[],2,FALSE)","v":63918.498996971248},"Product developer","Manager","CANADA",{"$f":"VLOOKUP(tblSalaries[[#This Row],[Where do you work]],tblCountries[[Actual]:[Mapping]],2,FALSE)","v":"Canada"},"2 to 3 hours per day"]
[null,"ID0334","2012-05-26T01:32:26",50000,50000,"USD",{"$f":"tblSalaries[[#This Row],[clean Salary (in local currency)]]*VLOOKUP(tblSalaries[[#This Row],[Currency]],tblXrate[],2,FALSE)","v":50000},"Supply Chain Analyst","Analyst","USA",{"$f":"VLOOKUP(tblSalaries[[#This Row],[Where do you work]],tblCountries[[Actual]:[Mapping]],2,FALSE)","v":"USA"},"All the 8 hours baby, all the 8!"]
[null,"ID0335","2012-05-26T01:33:03",150000,150000,"USD",{"$f":"tblSalaries[[#This Row],[clean Salary (in local currency)]]*VLOOKUP(tblSalaries[[#This Row],[Currency]],tblXrate[],2,FALSE)","v":150000},"financial planning","Accountant","USA",{"$f":"VLOOKUP(tblSalaries[[#This Row],[Where do you work]],tblCountries[[Actual]:[Mapping]],2,FALSE)","v":"USA"},"All the 8 hours baby, all the 8!"]
[null,"ID0336","2012-05-26T01:33:37","400000 INR",400000,"INR",{"$f":"tblSalaries[[#This Row],[clean Salary (in local currency)]]*VLOOKUP(tblSalaries[[#This Row],[Currency]],tblXrate[],2,FALSE)","v":7123.1666749770275},"Test Analyst","Analyst","India",{"$f":"VLOOKUP(tblSalaries[[#This Row],[Where do you work]],tblCountries[[Actual]:[Mapping]],2,FALSE)","v":"India"},"4 to 6 hours a day"]
[null,"ID0337","2012-05-26T01:33:45",150000,150000,"USD",{"$f":"tblSalaries[[#This Row],[clean Salary (in local currency)]]*VLOOKUP(tblSalaries[[#This Row],[Currency]],tblXrate[],2,FALSE)","v":150000},"project manager, project finance consultant","Manager","Israel",{"$f":"VLOOKUP(tblSalaries[[#This Row],[Where do you work]],tblCountries[[Actual]:[Mapping]],2,FALSE)","v":"Israel"},"4 to 6 hours a day"]
[null,"ID0338","2012-05-26T01:34:56",45000,45000,"USD",{"$f":"tblSalaries[[#This Row],[clean Salary (in local currency)]]*VLOOKUP(tblSalaries[[#This Row],[Currency]],tblXrate[],2,FALSE)","v":45000},"QC Fabrication Inspector","Specialist","USA",{"$f":"VLOOKUP(tblSalaries[[#This Row],[Where do you work]],tblCountries[[Actual]:[Mapping]],2,FALSE)","v":"USA"},"4 to 6 hours a day"]
[null,"ID0339","2012-05-26T01:35:02",135000,135000,"USD",{"$f":"tblSalaries[[#This Row],[clean Salary (in local currency)]]*VLOOKUP(tblSalaries[[#This Row],[Currency]],tblXrate[],2,FALSE)","v":135000},"Manager of Trade Investment & Analysis","Manager","USA",{"$f":"VLOOKUP(tblSalaries[[#This Row],[Where do you work]],tblCountries[[Actual]:[Mapping]],2,FALSE)","v":"USA"},"All the 8 hours baby, all the 8!"]
[null,"ID0340","2012-05-26T01:35:18","30000 Rs",360000,"INR",{"$f":"tblSalaries[[#This Row],[clean Salary (in local currency)]]*VLOOKUP(tblSalaries[[#This Row],[Currency]],tblXrate[],2,FALSE)","v":6410.8500074793246},"Business Analysit","Analyst","India",{"$f":"VLOOKUP(tblSalaries[[#This Row],[Where do you work]],tblCountries[[Actual]:[Mapping]],2,FALSE)","v":"India"},"2 to 3 hours per day"]
[null,"ID0341","2012-05-26T01:35:35",29000,29000,"USD",{"$f":"tblSalaries[[#This Row],[clean Salary (in local currency)]]*VLOOKUP(tblSalaries[[#This Row],[Currency]],tblXrate[],2,FALSE)","v":29000},"Assistant Outside Plant Project Manager","Manager","USA",{"$f":"VLOOKUP(tblSalaries[[#This Row],[Where do you work]],tblCountries[[Actual]:[Mapping]],2,FALSE)","v":"USA"},"4 to 6 hours a day"]
[null,"ID0342","2012-05-26T01:37:33",13000,13000,"USD",{"$f":"tblSalaries[[#This Row],[clean Salary (in local currency)]]*VLOOKUP(tblSalaries[[#This Row],[Currency]],tblXrate[],2,FALSE)","v":13000},"operation-manager","Manager","India",{"$f":"VLOOKUP(tblSalaries[[#This Row],[Where do you work]],tblCountries[[Actual]:[Mapping]],2,FALSE)","v":"India"},"All the 8 hours baby, all the 8!"]
[null,"ID0343","2012-05-26T01:38:06","63000 USD",63000,"USD",{"$f":"tblSalaries[[#This Row],[clean Salary (in local currency)]]*VLOOKUP(tblSalaries[[#This Row],[Currency]],tblXrate[],2,FALSE)","v":63000},"Sales Analyst","Analyst","USA",{"$f":"VLOOKUP(tblSalaries[[#This Row],[Where do you work]],tblCountries[[Actual]:[Mapping]],2,FALSE)","v":"USA"},"All the 8 hours baby, all the 8!"]
[null,"ID0344","2012-05-26T01:38:06",95000,95000,"USD",{"$f":"tblSalaries[[#This Row],[clean Salary (in local currency)]]*VLOOKUP(tblSalaries[[#This Row],[Currency]],tblXrate[],2,FALSE)","v":95000},"Senior Financial Analyst","Analyst","USA",{"$f":"VLOOKUP(tblSalaries[[#This Row],[Where do you work]],tblCountries[[Actual]:[Mapping]],2,FALSE)","v":"USA"},"4 to 6 hours a day"]
[null,"ID0346","2012-05-26T01:38:51","100,000 US$ equiv",100000,"USD",{"$f":"tblSalaries[[#This Row],[clean Salary (in local currency)]]*VLOOKUP(tblSalaries[[#This Row],[Currency]],tblXrate[],2,FALSE)","v":100000},"Senior Data Analyst","Analyst","UK",{"$f":"VLOOKUP(tblSalaries[[#This Row],[Where do you work]],tblCountries[[Actual]:[Mapping]],2,FALSE)","v":"UK"},"4 to 6 hours a day"]
[null,"ID0347","2012-05-26T01:39:37","3.8 k",3800,"USD",{"$f":"tblSalaries[[#This Row],[clean Salary (in local currency)]]*VLOOKUP(tblSalaries[[#This Row],[Currency]],tblXrate[],2,FALSE)","v":3800},"MIS EXCUTIVE","Reporting","India",{"$f":"VLOOKUP(tblSalaries[[#This Row],[Where do you work]],tblCountries[[Actual]:[Mapping]],2,FALSE)","v":"India"},"4 to 6 hours a day"]
[null,"ID0348","2012-05-26T01:40:05",950,11400,"USD",{"$f":"tblSalaries[[#This Row],[clean Salary (in local currency)]]*VLOOKUP(tblSalaries[[#This Row],[Currency]],tblXrate[],2,FALSE)","v":11400},"Advisor","Consultant","Brazil",{"$f":"VLOOKUP(tblSalaries[[#This Row],[Where do you work]],tblCountries[[Actual]:[Mapping]],2,FALSE)","v":"Brazil"},"4 to 6 hours a day"]
[null,"ID0349","2012-05-26T01:40:18",56000,56000,"CAD",{"$f":"tblSalaries[[#This Row],[clean Salary (in local currency)]]*VLOOKUP(tblSalaries[[#This Row],[Currency]],tblXrate[],2,FALSE)","v":55068.245289698301},"Online Analyst","Analyst","Canada",{"$f":"VLOOKUP(tblSalaries[[#This Row],[Where do you work]],tblCountries[[Actual]:[Mapping]],2,FALSE)","v":"Canada"},"4 to 6 hours a day"]
[null,"ID0350","2012-05-26T01:40:28",53000,53000,"USD",{"$f":"tblSalaries[[#This Row],[clean Salary (in local currency)]]*VLOOKUP(tblSalaries[[#This Row],[Currency]],tblXrate[],2,FALSE)","v":53000},"General Manager","Manager","USA",{"$f":"VLOOKUP(tblSalaries[[#This Row],[Where do you work]],tblCountries[[Actual]:[Mapping]],2,FALSE)","v":"USA"},"2 to 3 hours per day"]
[null,"ID0351","2012-05-26T01:40:51",130000,130000,"USD",{"$f":"tblSalaries[[#This Row],[clean Salary (in local currency)]]*VLOOKUP(tblSalaries[[#This Row],[Currency]],tblXrate[],2,FALSE)","v":130000},"Sr Staff Engineer","Engineer","USA",{"$f":"VLOOKUP(tblSalaries[[#This Row],[Where do you work]],tblCountries[[Actual]:[Mapping]],2,FALSE)","v":"USA"},"4 to 6 hours a day"]
[null,"ID0352","2012-05-26T01:41:32","3,70,000",370000,"INR",{"$f":"tblSalaries[[#This Row],[clean Salary (in local currency)]]*VLOOKUP(tblSalaries[[#This Row],[Currency]],tblXrate[],2,FALSE)","v":6588.9291743537506},"Senior Design Associate","Analyst","India",{"$f":"VLOOKUP(tblSalaries[[#This Row],[Where do you work]],tblCountries[[Actual]:[Mapping]],2,FALSE)","v":"India"},"All the 8 hours baby, all the 8!"]
[null,"ID0353","2012-05-26T01:41:53",160000,160000,"CAD",{"$f":"tblSalaries[[#This Row],[clean Salary (in local currency)]]*VLOOKUP(tblSalaries[[#This Row],[Currency]],tblXrate[],2,FALSE)","v":157337.8436848523},"Consultant","Consultant","Canada",{"$f":"VLOOKUP(tblSalaries[[#This Row],[Where do you work]],tblCountries[[Actual]:[Mapping]],2,FALSE)","v":"Canada"},"2 to 3 hours per day"]
[null,"ID0354","2012-05-26T01:41:54",44200,44200,"USD",{"$f":"tblSalaries[[#This Row],[clean Salary (in local currency)]]*VLOOKUP(tblSalaries[[#This Row],[Currency]],tblXrate[],2,FALSE)","v":44200},"Planning and Analysis Supervisor","Analyst","USA",{"$f":"VLOOKUP(tblSalaries[[#This Row],[Where do you work]],tblCountries[[Actual]:[Mapping]],2,FALSE)","v":"USA"},"All the 8 hours baby, all the 8!"]
[null,"ID0355","2012-05-26T01:42:07",56000,56000,"USD",{"$f":"tblSalaries[[#This Row],[clean Salary (in local currency)]]*VLOOKUP(tblSalaries[[#This Row],[Currency]],tblXrate[],2,FALSE)","v":56000},"asset manager","Manager","USA",{"$f":"VLOOKUP(tblSalaries[[#This Row],[Where do you work]],tblCountries[[Actual]:[Mapping]],2,FALSE)","v":"USA"},"2 to 3 hours per day"]
[null,"ID0356","2012-05-26T01:42:27",72500,72500,"USD",{"$f":"tblSalaries[[#This Row],[clean Salary (in local currency)]]*VLOOKUP(tblSalaries[[#This Row],[Currency]],tblXrate[],2,FALSE)","v":72500},"Transportation Engineer","Engineer","USA",{"$f":"VLOOKUP(tblSalaries[[#This Row],[Where do you work]],tblCountries[[Actual]:[Mapping]],2,FALSE)","v":"USA"},"2 to 3 hours per day"]
[null,"ID0357","2012-05-26T01:42:31",75000,75000,"CAD",{"$f":"tblSalaries[[#This Row],[clean Salary (in local currency)]]*VLOOKUP(tblSalaries[[#This Row],[Currency]],tblXrate[],2,FALSE)","v":73752.11422727452},"web marketing analyst","Analyst","canada",{"$f":"VLOOKUP(tblSalaries[[#This Row],[Where do you work]],tblCountries[[Actual]:[Mapping]],2,FALSE)","v":"Canada"},"4 to 6 hours a day"]
[null,"ID0358","2012-05-26T01:42:53","170000 usd",170000,"USD",{"$f":"tblSalaries[[#This Row],[clean Salary (in local currency)]]*VLOOKUP(tblSalaries[[#This Row],[Currency]],tblXrate[],2,FALSE)","v":170000},"RS","Analyst","UK",{"$f":"VLOOKUP(tblSalaries[[#This Row],[Where do you work]],tblCountries[[Actual]:[Mapping]],2,FALSE)","v":"UK"},"Excel ?!? What Excel?"]
[null,"ID0359","2012-05-26T01:43:48",68000,68000,"USD",{"$f":"tblSalaries[[#This Row],[clean Salary (in local currency)]]*VLOOKUP(tblSalaries[[#This Row],[Currency]],tblXrate[],2,FALSE)","v":68000},"Project Manager","Manager","USA",{"$f":"VLOOKUP(tblSalaries[[#This Row],[Where do you work]],tblCountries[[Actual]:[Mapping]],2,FALSE)","v":"USA"},"2 to 3 hours per day"]
[null,"ID0360","2012-05-26T01:44:59",75000,75000,"USD",{"$f":"tblSalaries[[#This Row],[clean Salary (in local currency)]]*VLOOKUP(tblSalaries[[#This Row],[Currency]],tblXrate[],2,FALSE)","v":75000},"Sr. Financial Analyst","Analyst","USA",{"$f":"VLOOKUP(tblSalaries[[#This Row],[Where do you work]],tblCountries[[Actual]:[Mapping]],2,FALSE)","v":"USA"},"All the 8 hours baby, all the 8!"]
[null,"ID0361","2012-05-26T01:45:50","62500.00 USD",62500,"USD",{"$f":"tblSalaries[[#This Row],[clean Salary (in local currency)]]*VLOOKUP(tblSalaries[[#This Row],[Currency]],tblXrate[],2,FALSE)","v":62500},"Director of Payroll","CXO or Top Mgmt.","USA",{"$f":"VLOOKUP(tblSalaries[[#This Row],[Where do you work]],tblCountries[[Actual]:[Mapping]],2,FALSE)","v":"USA"},"All the 8 hours baby, all the 8!"]
[null,"ID0362","2012-05-26T01:45:58",25000,25000,"USD",{"$f":"tblSalaries[[#This Row],[clean Salary (in local currency)]]*VLOOKUP(tblSalaries[[#This Row],[Currency]],tblXrate[],2,FALSE)","v":25000},"Manager","Manager","India",{"$f":"VLOOKUP(tblSalaries[[#This Row],[Where do you work]],tblCountries[[Actual]:[Mapping]],2,FALSE)","v":"India"},"4 to 6 hours a day"]
[null,"ID0363","2012-05-26T01:46:24","480 000 SEK / 70000 US$",480000,"SEK",{"$f":"tblSalaries[[#This Row],[clean Salary (in local currency)]]*VLOOKUP(tblSalaries[[#This Row],[Currency]],tblXrate[],2,FALSE)","v":68954.520184280962},"IT consultant","Consultant","Sweden",{"$f":"VLOOKUP(tblSalaries[[#This Row],[Where do you work]],tblCountries[[Actual]:[Mapping]],2,FALSE)","v":"Sweden"},"1 or 2 hours a day"]
[null,"ID0365","2012-05-26T01:49:19",85000,85000,"USD",{"$f":"tblSalaries[[#This Row],[clean Salary (in local currency)]]*VLOOKUP(tblSalaries[[#This Row],[Currency]],tblXrate[],2,FALSE)","v":85000},"Sr. Financial Analyst","Analyst","USA",{"$f":"VLOOKUP(tblSalaries[[#This Row],[Where do you work]],tblCountries[[Actual]:[Mapping]],2,FALSE)","v":"USA"},"4 to 6 hours a day"]
[null,"ID0366","2012-05-26T01:49:55",43000,43000,"GBP",{"$f":"tblSalaries[[#This Row],[clean Salary (in local currency)]]*VLOOKUP(tblSalaries[[#This Row],[Currency]],tblXrate[],2,FALSE)","v":67775.665698893223},"Commercial Manager","Manager","UK",{"$f":"VLOOKUP(tblSalaries[[#This Row],[Where do you work]],tblCountries[[Actual]:[Mapping]],2,FALSE)","v":"UK"},"4 to 6 hours a day"]
[null,"ID0367","2012-05-26T01:49:56",89000,89000,"USD",{"$f":"tblSalaries[[#This Row],[clean Salary (in local currency)]]*VLOOKUP(tblSalaries[[#This Row],[Currency]],tblXrate[],2,FALSE)","v":89000},"Quality Assurance Officer","Manager","USA",{"$f":"VLOOKUP(tblSalaries[[#This Row],[Where do you work]],tblCountries[[Actual]:[Mapping]],2,FALSE)","v":"USA"},"4 to 6 hours a day"]
[null,"ID0368","2012-05-26T01:50:00",35000,35000,"USD",{"$f":"tblSalaries[[#This Row],[clean Salary (in local currency)]]*VLOOKUP(tblSalaries[[#This Row],[Currency]],tblXrate[],2,FALSE)","v":35000},"Senior Treasury Analyst","Analyst","Brasil",{"$f":"VLOOKUP(tblSalaries[[#This Row],[Where do you work]],tblCountries[[Actual]:[Mapping]],2,FALSE)","v":"Brazil"},"All the 8 hours baby, all the 8!"]
[null,"ID0369","2012-05-26T01:50:28",47500,47500,"USD",{"$f":"tblSalaries[[#This Row],[clean Salary (in local currency)]]*VLOOKUP(tblSalaries[[#This Row],[Currency]],tblXrate[],2,FALSE)","v":47500},"Supervisor, Contracts, Rebates, Chargebacks and Returns","Manager","USA",{"$f":"VLOOKUP(tblSalaries[[#This Row],[Where do you work]],tblCountries[[Actual]:[Mapping]],2,FALSE)","v":"USA"},"All the 8 hours baby, all the 8!"]
[null,"ID0370","2012-05-26T01:50:30",130000,130000,"USD",{"$f":"tblSalaries[[#This Row],[clean Salary (in local currency)]]*VLOOKUP(tblSalaries[[#This Row],[Currency]],tblXrate[],2,FALSE)","v":130000},"Project Manager","Manager","USA",{"$f":"VLOOKUP(tblSalaries[[#This Row],[Where do you work]],tblCountries[[Actual]:[Mapping]],2,FALSE)","v":"USA"},"2 to 3 hours per day"]
[null,"ID0371","2012-05-26T01:50:56",18000,18000,"USD",{"$f":"tblSalaries[[#This Row],[clean Salary (in local currency)]]*VLOOKUP(tblSalaries[[#This Row],[Currency]],tblXrate[],2,FALSE)","v":18000},"ceo","CXO or Top Mgmt.","India",{"$f":"VLOOKUP(tblSalaries[[#This Row],[Where do you work]],tblCountries[[Actual]:[Mapping]],2,FALSE)","v":"India"},"2 to 3 hours per day"]
[null,"ID0372","2012-05-26T01:50:59","480000 Rs.",480000,"INR",{"$f":"tblSalaries[[#This Row],[clean Salary (in local currency)]]*VLOOKUP(tblSalaries[[#This Row],[Currency]],tblXrate[],2,FALSE)","v":8547.8000099724322},"System Manager","Manager","India",{"$f":"VLOOKUP(tblSalaries[[#This Row],[Where do you work]],tblCountries[[Actual]:[Mapping]],2,FALSE)","v":"India"},"1 or 2 hours a day"]
[null,"ID0373","2012-05-26T01:51:24",41932,41932,"USD",{"$f":"tblSalaries[[#This Row],[clean Salary (in local currency)]]*VLOOKUP(tblSalaries[[#This Row],[Currency]],tblXrate[],2,FALSE)","v":41932},"Buyer","Manager","USA",{"$f":"VLOOKUP(tblSalaries[[#This Row],[Where do you work]],tblCountries[[Actual]:[Mapping]],2,FALSE)","v":"USA"},"2 to 3 hours per day"]
[null,"ID0374","2012-05-26T01:52:01","2207,00",220700,"USD",{"$f":"tblSalaries[[#This Row],[clean Salary (in local currency)]]*VLOOKUP(tblSalaries[[#This Row],[Currency]],tblXrate[],2,FALSE)","v":220700},"Consultant","Consultant","Brazil",{"$f":"VLOOKUP(tblSalaries[[#This Row],[Where do you work]],tblCountries[[Actual]:[Mapping]],2,FALSE)","v":"Brazil"},"All the 8 hours baby, all the 8!"]
[null,"ID0375","2012-05-26T01:52:04",194000,194000,"USD",{"$f":"tblSalaries[[#This Row],[clean Salary (in local currency)]]*VLOOKUP(tblSalaries[[#This Row],[Currency]],tblXrate[],2,FALSE)","v":194000},"director","CXO or Top Mgmt.","USA",{"$f":"VLOOKUP(tblSalaries[[#This Row],[Where do you work]],tblCountries[[Actual]:[Mapping]],2,FALSE)","v":"USA"},"2 to 3 hours per day"]
[null,"ID0376","2012-05-26T01:54:28",9000000,9000000,"INR",{"$f":"tblSalaries[[#This Row],[clean Salary (in local currency)]]*VLOOKUP(tblSalaries[[#This Row],[Currency]],tblXrate[],2,FALSE)","v":160271.25018698312},"Financial Analyst","Analyst","India",{"$f":"VLOOKUP(tblSalaries[[#This Row],[Where do you work]],tblCountries[[Actual]:[Mapping]],2,FALSE)","v":"India"},"4 to 6 hours a day"]
[null,"ID0377","2012-05-26T01:54:47","Rs. 500000",500000,"INR",{"$f":"tblSalaries[[#This Row],[clean Salary (in local currency)]]*VLOOKUP(tblSalaries[[#This Row],[Currency]],tblXrate[],2,FALSE)","v":8903.9583437212841},"Owner","Manager","India",{"$f":"VLOOKUP(tblSalaries[[#This Row],[Where do you work]],tblCountries[[Actual]:[Mapping]],2,FALSE)","v":"India"},"2 to 3 hours per day"]
[null,"ID0378","2012-05-26T01:57:23",80000,80000,"CAD",{"$f":"tblSalaries[[#This Row],[clean Salary (in local currency)]]*VLOOKUP(tblSalaries[[#This Row],[Currency]],tblXrate[],2,FALSE)","v":78668.921842426149},"Senior Business Analyst","Analyst","Canada",{"$f":"VLOOKUP(tblSalaries[[#This Row],[Where do you work]],tblCountries[[Actual]:[Mapping]],2,FALSE)","v":"Canada"},"4 to 6 hours a day"]
[null,"ID0379","2012-05-26T01:57:40",1500,18000,"EUR",{"$f":"tblSalaries[[#This Row],[clean Salary (in local currency)]]*VLOOKUP(tblSalaries[[#This Row],[Currency]],tblXrate[],2,FALSE)","v":22867.189901848938},"marketing and sales ","Manager","Portugal",{"$f":"VLOOKUP(tblSalaries[[#This Row],[Where do you work]],tblCountries[[Actual]:[Mapping]],2,FALSE)","v":"Portugal"},"2 to 3 hours per day"]
[null,"ID0380","2012-05-26T01:58:19","Â£60000",60000,"GBP",{"$f":"tblSalaries[[#This Row],[clean Salary (in local currency)]]*VLOOKUP(tblSalaries[[#This Row],[Currency]],tblXrate[],2,FALSE)","v":94570.696324037053},"Managing Director","CXO or Top Mgmt.","UK",{"$f":"VLOOKUP(tblSalaries[[#This Row],[Where do you work]],tblCountries[[Actual]:[Mapping]],2,FALSE)","v":"UK"},"2 to 3 hours per day"]
[null,"ID0381","2012-05-26T01:58:42",95000,95000,"USD",{"$f":"tblSalaries[[#This Row],[clean Salary (in local currency)]]*VLOOKUP(tblSalaries[[#This Row],[Currency]],tblXrate[],2,FALSE)","v":95000},"Senior Financial Analyst","Analyst","USA",{"$f":"VLOOKUP(tblSalaries[[#This Row],[Where do you work]],tblCountries[[Actual]:[Mapping]],2,FALSE)","v":"USA"},"All the 8 hours baby, all the 8!"]
[null,"ID0382","2012-05-26T01:59:21","INR 5,40,000",540000,"INR",{"$f":"tblSalaries[[#This Row],[clean Salary (in local currency)]]*VLOOKUP(tblSalaries[[#This Row],[Currency]],tblXrate[],2,FALSE)","v":9616.275011218986},"Senior Billing Engineer","Engineer","India",{"$f":"VLOOKUP(tblSalaries[[#This Row],[Where do you work]],tblCountries[[Actual]:[Mapping]],2,FALSE)","v":"India"},"4 to 6 hours a day"]
[null,"ID0383","2012-05-26T01:59:40",48000,48000,"USD",{"$f":"tblSalaries[[#This Row],[clean Salary (in local currency)]]*VLOOKUP(tblSalaries[[#This Row],[Currency]],tblXrate[],2,FALSE)","v":48000},"Quality Analyst","Analyst","USA",{"$f":"VLOOKUP(tblSalaries[[#This Row],[Where do you work]],tblCountries[[Actual]:[Mapping]],2,FALSE)","v":"USA"},"1 or 2 hours a day"]
[null,"ID0384","2012-05-26T01:59:45","46000 usd",46000,"USD",{"$f":"tblSalaries[[#This Row],[clean Salary (in local currency)]]*VLOOKUP(tblSalaries[[#This Row],[Currency]],tblXrate[],2,FALSE)","v":46000},"Financial analyst","Analyst","USA",{"$f":"VLOOKUP(tblSalaries[[#This Row],[Where do you work]],tblCountries[[Actual]:[Mapping]],2,FALSE)","v":"USA"},"4 to 6 hours a day"]
[null,"ID0385","2012-05-26T01:59:48",15000,15000,"USD",{"$f":"tblSalaries[[#This Row],[clean Salary (in local currency)]]*VLOOKUP(tblSalaries[[#This Row],[Currency]],tblXrate[],2,FALSE)","v":15000},"Economist","Reporting","Ukraine",{"$f":"VLOOKUP(tblSalaries[[#This Row],[Where do you work]],tblCountries[[Actual]:[Mapping]],2,FALSE)","v":"Ukraine"},"2 to 3 hours per day"]
[null,"ID0386","2012-05-26T02:00:04","Rs 6.2 lakhs",620000,"INR",{"$f":"tblSalaries[[#This Row],[clean Salary (in local currency)]]*VLOOKUP(tblSalaries[[#This Row],[Currency]],tblXrate[],2,FALSE)","v":11040.908346214392},"assistant manager (finance)","Manager","India",{"$f":"VLOOKUP(tblSalaries[[#This Row],[Where do you work]],tblCountries[[Actual]:[Mapping]],2,FALSE)","v":"India"},"1 or 2 hours a day"]
[null,"ID0387","2012-05-26T02:00:10","Â£28000",28000,"GBP",{"$f":"tblSalaries[[#This Row],[clean Salary (in local currency)]]*VLOOKUP(tblSalaries[[#This Row],[Currency]],tblXrate[],2,FALSE)","v":44132.991617883956},"Central Services Manager","Manager","UK",{"$f":"VLOOKUP(tblSalaries[[#This Row],[Where do you work]],tblCountries[[Actual]:[Mapping]],2,FALSE)","v":"UK"},"2 to 3 hours per day"]
[null,"ID0388","2012-05-26T02:00:14",47000,47000,"USD",{"$f":"tblSalaries[[#This Row],[clean Salary (in local currency)]]*VLOOKUP(tblSalaries[[#This Row],[Currency]],tblXrate[],2,FALSE)","v":47000},"Trainer ","Manager","USA",{"$f":"VLOOKUP(tblSalaries[[#This Row],[Where do you work]],tblCountries[[Actual]:[Mapping]],2,FALSE)","v":"USA"},"2 to 3 hours per day"]
[null,"ID0389","2012-05-26T02:00:42",44000,44000,"USD",{"$f":"tblSalaries[[#This Row],[clean Salary (in local currency)]]*VLOOKUP(tblSalaries[[#This Row],[Currency]],tblXrate[],2,FALSE)","v":44000},"continuous improvement team member","Analyst","USA",{"$f":"VLOOKUP(tblSalaries[[#This Row],[Where do you work]],tblCountries[[Actual]:[Mapping]],2,FALSE)","v":"USA"},"2 to 3 hours per day"]
[null,"ID0390","2012-05-26T02:00:46",55000,55000,"USD",{"$f":"tblSalaries[[#This Row],[clean Salary (in local currency)]]*VLOOKUP(tblSalaries[[#This Row],[Currency]],tblXrate[],2,FALSE)","v":55000},"Accountant","Accountant","USA",{"$f":"VLOOKUP(tblSalaries[[#This Row],[Where do you work]],tblCountries[[Actual]:[Mapping]],2,FALSE)","v":"USA"},"4 to 6 hours a day"]
[null,"ID0391","2012-05-26T02:00:54",12000,12000,"USD",{"$f":"tblSalaries[[#This Row],[clean Salary (in local currency)]]*VLOOKUP(tblSalaries[[#This Row],[Currency]],tblXrate[],2,FALSE)","v":12000},"MIS Officer","Reporting","South Africa",{"$f":"VLOOKUP(tblSalaries[[#This Row],[Where do you work]],tblCountries[[Actual]:[Mapping]],2,FALSE)","v":"South Africa"},"4 to 6 hours a day"]
[null,"ID0392","2012-05-26T02:01:07",50000,50000,"USD",{"$f":"tblSalaries[[#This Row],[clean Salary (in local currency)]]*VLOOKUP(tblSalaries[[#This Row],[Currency]],tblXrate[],2,FALSE)","v":50000},"IR Manager","Manager","USA",{"$f":"VLOOKUP(tblSalaries[[#This Row],[Where do you work]],tblCountries[[Actual]:[Mapping]],2,FALSE)","v":"USA"},"2 to 3 hours per day"]
[null,"ID0393","2012-05-26T02:01:31","7,50,000 INR",750000,"INR",{"$f":"tblSalaries[[#This Row],[clean Salary (in local currency)]]*VLOOKUP(tblSalaries[[#This Row],[Currency]],tblXrate[],2,FALSE)","v":13355.937515581925},"Business Analyst","Analyst","India",{"$f":"VLOOKUP(tblSalaries[[#This Row],[Where do you work]],tblCountries[[Actual]:[Mapping]],2,FALSE)","v":"India"},"1 or 2 hours a day"]
[null,"ID0394","2012-05-26T02:02:02","99147 $",99147,"USD",{"$f":"tblSalaries[[#This Row],[clean Salary (in local currency)]]*VLOOKUP(tblSalaries[[#This Row],[Currency]],tblXrate[],2,FALSE)","v":99147},"Chief Specialist of Economics & Planning","Specialist","Russia",{"$f":"VLOOKUP(tblSalaries[[#This Row],[Where do you work]],tblCountries[[Actual]:[Mapping]],2,FALSE)","v":"Russia"},"4 to 6 hours a day"]
[null,"ID0395","2012-05-26T02:03:35",45880,45880,"USD",{"$f":"tblSalaries[[#This Row],[clean Salary (in local currency)]]*VLOOKUP(tblSalaries[[#This Row],[Currency]],tblXrate[],2,FALSE)","v":45880},"Campus Budget Officer","Manager","USA",{"$f":"VLOOKUP(tblSalaries[[#This Row],[Where do you work]],tblCountries[[Actual]:[Mapping]],2,FALSE)","v":"USA"},"All the 8 hours baby, all the 8!"]
[null,"ID0396","2012-05-26T02:03:45",70000,70000,"USD",{"$f":"tblSalaries[[#This Row],[clean Salary (in local currency)]]*VLOOKUP(tblSalaries[[#This Row],[Currency]],tblXrate[],2,FALSE)","v":70000},"Management Ananlyst","Manager","USA",{"$f":"VLOOKUP(tblSalaries[[#This Row],[Where do you work]],tblCountries[[Actual]:[Mapping]],2,FALSE)","v":"USA"},"4 to 6 hours a day"]
[null,"ID0397","2012-05-26T02:04:01",100000,100000,"USD",{"$f":"tblSalaries[[#This Row],[clean Salary (in local currency)]]*VLOOKUP(tblSalaries[[#This Row],[Currency]],tblXrate[],2,FALSE)","v":100000},"Sales Operations Analyst","Analyst","USA",{"$f":"VLOOKUP(tblSalaries[[#This Row],[Where do you work]],tblCountries[[Actual]:[Mapping]],2,FALSE)","v":"USA"},"All the 8 hours baby, all the 8!"]
[null,"ID0398","2012-05-26T02:04:05","120000 BDT",1440000,"BDT",{"$f":"tblSalaries[[#This Row],[clean Salary (in local currency)]]*VLOOKUP(tblSalaries[[#This Row],[Currency]],tblXrate[],2,FALSE)","v":17598.017290051986},"Computer Operator","Analyst","Bangladesh",{"$f":"VLOOKUP(tblSalaries[[#This Row],[Where do you work]],tblCountries[[Actual]:[Mapping]],2,FALSE)","v":"Bangladesh"},"2 to 3 hours per day"]
[null,"ID0399","2012-05-26T02:05:06",85000,85000,"USD",{"$f":"tblSalaries[[#This Row],[clean Salary (in local currency)]]*VLOOKUP(tblSalaries[[#This Row],[Currency]],tblXrate[],2,FALSE)","v":85000},"ENGINEER","Engineer","USA",{"$f":"VLOOKUP(tblSalaries[[#This Row],[Where do you work]],tblCountries[[Actual]:[Mapping]],2,FALSE)","v":"USA"},"2 to 3 hours per day"]
[null,"ID0400","2012-05-26T02:05:49",47000,47000,"USD",{"$f":"tblSalaries[[#This Row],[clean Salary (in local currency)]]*VLOOKUP(tblSalaries[[#This Row],[Currency]],tblXrate[],2,FALSE)","v":47000},"Sr Management Analytst 2","Manager","USA",{"$f":"VLOOKUP(tblSalaries[[#This Row],[Where do you work]],tblCountries[[Actual]:[Mapping]],2,FALSE)","v":"USA"},"4 to 6 hours a day"]
[null,"ID0401","2012-05-26T02:05:58",40000,40000,"USD",{"$f":"tblSalaries[[#This Row],[clean Salary (in local currency)]]*VLOOKUP(tblSalaries[[#This Row],[Currency]],tblXrate[],2,FALSE)","v":40000},"Accounting Manager","Manager","USA",{"$f":"VLOOKUP(tblSalaries[[#This Row],[Where do you work]],tblCountries[[Actual]:[Mapping]],2,FALSE)","v":"USA"},"2 to 3 hours per day"]
[null,"ID0402","2012-05-26T02:06:38",30000,30000,"USD",{"$f":"tblSalaries[[#This Row],[clean Salary (in local currency)]]*VLOOKUP(tblSalaries[[#This Row],[Currency]],tblXrate[],2,FALSE)","v":30000},"ceo","CXO or Top Mgmt.","India",{"$f":"VLOOKUP(tblSalaries[[#This Row],[Where do you work]],tblCountries[[Actual]:[Mapping]],2,FALSE)","v":"India"},"2 to 3 hours per day"]
[null,"ID0403","2012-05-26T02:06:56",72000,72000,"CAD",{"$f":"tblSalaries[[#This Row],[clean Salary (in local currency)]]*VLOOKUP(tblSalaries[[#This Row],[Currency]],tblXrate[],2,FALSE)","v":70802.029658183528},"Controller","Controller","Canada",{"$f":"VLOOKUP(tblSalaries[[#This Row],[Where do you work]],tblCountries[[Actual]:[Mapping]],2,FALSE)","v":"Canada"},"4 to 6 hours a day"]
[null,"ID0404","2012-05-26T02:07:28",34000,34000,"USD",{"$f":"tblSalaries[[#This Row],[clean Salary (in local currency)]]*VLOOKUP(tblSalaries[[#This Row],[Currency]],tblXrate[],2,FALSE)","v":34000},"Information Research Technician II","Analyst","USA",{"$f":"VLOOKUP(tblSalaries[[#This Row],[Where do you work]],tblCountries[[Actual]:[Mapping]],2,FALSE)","v":"USA"},"4 to 6 hours a day"]
[null,"ID0405","2012-05-26T02:07:49",52000,52000,"USD",{"$f":"tblSalaries[[#This Row],[clean Salary (in local currency)]]*VLOOKUP(tblSalaries[[#This Row],[Currency]],tblXrate[],2,FALSE)","v":52000},"Data Analyst","Analyst","USA",{"$f":"VLOOKUP(tblSalaries[[#This Row],[Where do you work]],tblCountries[[Actual]:[Mapping]],2,FALSE)","v":"USA"},"4 to 6 hours a day"]
[null,"ID0406","2012-05-26T02:08:10",300000,300000,"INR",{"$f":"tblSalaries[[#This Row],[clean Salary (in local currency)]]*VLOOKUP(tblSalaries[[#This Row],[Currency]],tblXrate[],2,FALSE)","v":5342.3750062327708},"Sr. Systems Engineer","Engineer","India",{"$f":"VLOOKUP(tblSalaries[[#This Row],[Where do you work]],tblCountries[[Actual]:[Mapping]],2,FALSE)","v":"India"},"1 or 2 hours a day"]
[null,"ID0407","2012-05-26T02:09:57",400000,400000,"INR",{"$f":"tblSalaries[[#This Row],[clean Salary (in local currency)]]*VLOOKUP(tblSalaries[[#This Row],[Currency]],tblXrate[],2,FALSE)","v":7123.1666749770275},"Analyst","Analyst","India",{"$f":"VLOOKUP(tblSalaries[[#This Row],[Where do you work]],tblCountries[[Actual]:[Mapping]],2,FALSE)","v":"India"},"4 to 6 hours a day"]
[null,"ID0408","2012-05-26T02:10:35",63586.95,63586,"USD",{"$f":"tblSalaries[[#This Row],[clean Salary (in local currency)]]*VLOOKUP(tblSalaries[[#This Row],[Currency]],tblXrate[],2,FALSE)","v":63586},"Senior Purchasing Officer","Manager","United Arab Emriate",{"$f":"VLOOKUP(tblSalaries[[#This Row],[Where do you work]],tblCountries[[Actual]:[Mapping]],2,FALSE)","v":"UAE"},"2 to 3 hours per day"]
[null,"ID0409","2012-05-26T02:11:40","Â£35000",35000,"GBP",{"$f":"tblSalaries[[#This Row],[clean Salary (in local currency)]]*VLOOKUP(tblSalaries[[#This Row],[Currency]],tblXrate[],2,FALSE)","v":55166.239522354947},"Mgmt Accountant","Accountant","UK",{"$f":"VLOOKUP(tblSalaries[[#This Row],[Where do you work]],tblCountries[[Actual]:[Mapping]],2,FALSE)","v":"UK"},"4 to 6 hours a day"]
[null,"ID0410","2012-05-26T02:12:58",60000,60000,"USD",{"$f":"tblSalaries[[#This Row],[clean Salary (in local currency)]]*VLOOKUP(tblSalaries[[#This Row],[Currency]],tblXrate[],2,FALSE)","v":60000},"Sr financial analyst ","Analyst","USA",{"$f":"VLOOKUP(tblSalaries[[#This Row],[Where do you work]],tblCountries[[Actual]:[Mapping]],2,FALSE)","v":"USA"},"4 to 6 hours a day"]
[null,"ID0411","2012-05-26T02:13:57",19200,19200,"USD",{"$f":"tblSalaries[[#This Row],[clean Salary (in local currency)]]*VLOOKUP(tblSalaries[[#This Row],[Currency]],tblXrate[],2,FALSE)","v":19200},"Department Manager","Manager","Romania",{"$f":"VLOOKUP(tblSalaries[[#This Row],[Where do you work]],tblCountries[[Actual]:[Mapping]],2,FALSE)","v":"Romania"},"All the 8 hours baby, all the 8!"]
[null,"ID0412","2012-05-26T02:14:05","Â¢ 14.000.000,00",14000000,"COSTARICAN",{"$f":"tblSalaries[[#This Row],[clean Salary (in local currency)]]*VLOOKUP(tblSalaries[[#This Row],[Currency]],tblXrate[],2,FALSE)","v":28109.627547434993},"Businees Adminstratot","Analyst","Costa Rica",{"$f":"VLOOKUP(tblSalaries[[#This Row],[Where do you work]],tblCountries[[Actual]:[Mapping]],2,FALSE)","v":"Costa Rica"},"All the 8 hours baby, all the 8!"]
[null,"ID0413","2012-05-26T02:14:29",56000,56000,"USD",{"$f":"tblSalaries[[#This Row],[clean Salary (in local currency)]]*VLOOKUP(tblSalaries[[#This Row],[Currency]],tblXrate[],2,FALSE)","v":56000},"Staff assistant ","Analyst","USA",{"$f":"VLOOKUP(tblSalaries[[#This Row],[Where do you work]],tblCountries[[Actual]:[Mapping]],2,FALSE)","v":"USA"},"4 to 6 hours a day"]
[null,"ID0414","2012-05-26T02:14:48",52000,52000,"USD",{"$f":"tblSalaries[[#This Row],[clean Salary (in local currency)]]*VLOOKUP(tblSalaries[[#This Row],[Currency]],tblXrate[],2,FALSE)","v":52000},"Sr. Accountant","Accountant","USA",{"$f":"VLOOKUP(tblSalaries[[#This Row],[Where do you work]],tblCountries[[Actual]:[Mapping]],2,FALSE)","v":"USA"},"4 to 6 hours a day"]
[null,"ID0415","2012-05-26T02:15:19",51613,51613,"USD",{"$f":"tblSalaries[[#This Row],[clean Salary (in local currency)]]*VLOOKUP(tblSalaries[[#This Row],[Currency]],tblXrate[],2,FALSE)","v":51613},"Air Planning Analyst","Analyst","USA",{"$f":"VLOOKUP(tblSalaries[[#This Row],[Where do you work]],tblCountries[[Actual]:[Mapping]],2,FALSE)","v":"USA"},"All the 8 hours baby, all the 8!"]
[null,"ID0416","2012-05-26T02:17:01",35000,35000,"USD",{"$f":"tblSalaries[[#This Row],[clean Salary (in local currency)]]*VLOOKUP(tblSalaries[[#This Row],[Currency]],tblXrate[],2,FALSE)","v":35000},"Credit Analyst","Analyst","Russia",{"$f":"VLOOKUP(tblSalaries[[#This Row],[Where do you work]],tblCountries[[Actual]:[Mapping]],2,FALSE)","v":"Russia"},"4 to 6 hours a day"]
[null,"ID0417","2012-05-26T02:17:18",56000,56000,"USD",{"$f":"tblSalaries[[#This Row],[clean Salary (in local currency)]]*VLOOKUP(tblSalaries[[#This Row],[Currency]],tblXrate[],2,FALSE)","v":56000},"financial management consultant","Manager","USA",{"$f":"VLOOKUP(tblSalaries[[#This Row],[Where do you work]],tblCountries[[Actual]:[Mapping]],2,FALSE)","v":"USA"},"All the 8 hours baby, all the 8!"]
[null,"ID0418","2012-05-26T02:17:38","US$115000",115000,"USD",{"$f":"tblSalaries[[#This Row],[clean Salary (in local currency)]]*VLOOKUP(tblSalaries[[#This Row],[Currency]],tblXrate[],2,FALSE)","v":115000},"Consultant","Consultant","USA",{"$f":"VLOOKUP(tblSalaries[[#This Row],[Where do you work]],tblCountries[[Actual]:[Mapping]],2,FALSE)","v":"USA"},"2 to 3 hours per day"]
[null,"ID0419","2012-05-26T02:18:03","Â£66000",66000,"GBP",{"$f":"tblSalaries[[#This Row],[clean Salary (in local currency)]]*VLOOKUP(tblSalaries[[#This Row],[Currency]],tblXrate[],2,FALSE)","v":104027.76595644075},"IT Project Manager, EMEA","Manager","UK",{"$f":"VLOOKUP(tblSalaries[[#This Row],[Where do you work]],tblCountries[[Actual]:[Mapping]],2,FALSE)","v":"UK"},"1 or 2 hours a day"]
[null,"ID0420","2012-05-26T02:19:12","INR 200000",200000,"INR",{"$f":"tblSalaries[[#This Row],[clean Salary (in local currency)]]*VLOOKUP(tblSalaries[[#This Row],[Currency]],tblXrate[],2,FALSE)","v":3561.5833374885137},"Consultant","Consultant","India",{"$f":"VLOOKUP(tblSalaries[[#This Row],[Where do you work]],tblCountries[[Actual]:[Mapping]],2,FALSE)","v":"India"},"1 or 2 hours a day"]
[null,"ID0421","2012-05-26T02:19:48",72000,72000,"USD",{"$f":"tblSalaries[[#This Row],[clean Salary (in local currency)]]*VLOOKUP(tblSalaries[[#This Row],[Currency]],tblXrate[],2,FALSE)","v":72000},"IS Director","CXO or Top Mgmt.","USA",{"$f":"VLOOKUP(tblSalaries[[#This Row],[Where do you work]],tblCountries[[Actual]:[Mapping]],2,FALSE)","v":"USA"},"4 to 6 hours a day"]
[null,"ID0422","2012-05-26T02:19:52",90000,90000,"USD",{"$f":"tblSalaries[[#This Row],[clean Salary (in local currency)]]*VLOOKUP(tblSalaries[[#This Row],[Currency]],tblXrate[],2,FALSE)","v":90000},"Financial Analyst","Analyst","USA",{"$f":"VLOOKUP(tblSalaries[[#This Row],[Where do you work]],tblCountries[[Actual]:[Mapping]],2,FALSE)","v":"USA"},"All the 8 hours baby, all the 8!"]
[null,"ID0423","2012-05-26T02:20:15","8500 USD",8500,"USD",{"$f":"tblSalaries[[#This Row],[clean Salary (in local currency)]]*VLOOKUP(tblSalaries[[#This Row],[Currency]],tblXrate[],2,FALSE)","v":8500},"Accounting Coordinator","Accountant","Romania",{"$f":"VLOOKUP(tblSalaries[[#This Row],[Where do you work]],tblCountries[[Actual]:[Mapping]],2,FALSE)","v":"Romania"},"2 to 3 hours per day"]
[null,"ID0424","2012-05-26T02:20:22",12000,12000,"USD",{"$f":"tblSalaries[[#This Row],[clean Salary (in local currency)]]*VLOOKUP(tblSalaries[[#This Row],[Currency]],tblXrate[],2,FALSE)","v":12000},"teacher","Analyst","iran",{"$f":"VLOOKUP(tblSalaries[[#This Row],[Where do you work]],tblCountries[[Actual]:[Mapping]],2,FALSE)","v":"Iran"},"2 to 3 hours per day"]
[null,"ID0425","2012-05-26T02:22:17","250000 to 270000",250000,"USD",{"$f":"tblSalaries[[#This Row],[clean Salary (in local currency)]]*VLOOKUP(tblSalaries[[#This Row],[Currency]],tblXrate[],2,FALSE)","v":250000},"consultant","Consultant","USA",{"$f":"VLOOKUP(tblSalaries[[#This Row],[Where do you work]],tblCountries[[Actual]:[Mapping]],2,FALSE)","v":"USA"},"All the 8 hours baby, all the 8!"]
[null,"ID0426","2012-05-26T02:24:24",5900,70800,"EUR",{"$f":"tblSalaries[[#This Row],[clean Salary (in local currency)]]*VLOOKUP(tblSalaries[[#This Row],[Currency]],tblXrate[],2,FALSE)","v":89944.280280605832},"Excel trainer","Analyst","Finland",{"$f":"VLOOKUP(tblSalaries[[#This Row],[Where do you work]],tblCountries[[Actual]:[Mapping]],2,FALSE)","v":"Finland"},"All the 8 hours baby, all the 8!"]
[null,"ID0427","2012-05-26T02:25:10","20000 RS",240000,"INR",{"$f":"tblSalaries[[#This Row],[clean Salary (in local currency)]]*VLOOKUP(tblSalaries[[#This Row],[Currency]],tblXrate[],2,FALSE)","v":4273.9000049862161},"WFM Team Lead","Manager","India",{"$f":"VLOOKUP(tblSalaries[[#This Row],[Where do you work]],tblCountries[[Actual]:[Mapping]],2,FALSE)","v":"India"},"All the 8 hours baby, all the 8!"]
[null,"ID0428","2012-05-26T02:27:50","US $30,000.00 ",30000,"USD",{"$f":"tblSalaries[[#This Row],[clean Salary (in local currency)]]*VLOOKUP(tblSalaries[[#This Row],[Currency]],tblXrate[],2,FALSE)","v":30000},"Supervisor","Manager","USA",{"$f":"VLOOKUP(tblSalaries[[#This Row],[Where do you work]],tblCountries[[Actual]:[Mapping]],2,FALSE)","v":"USA"},"2 to 3 hours per day"]
[null,"ID0429","2012-05-26T02:29:37","30000 $",30000,"USD",{"$f":"tblSalaries[[#This Row],[clean Salary (in local currency)]]*VLOOKUP(tblSalaries[[#This Row],[Currency]],tblXrate[],2,FALSE)","v":30000},"BI Developer","Reporting","Romania",{"$f":"VLOOKUP(tblSalaries[[#This Row],[Where do you work]],tblCountries[[Actual]:[Mapping]],2,FALSE)","v":"Romania"},"1 or 2 hours a day"]
[null,"ID0430","2012-05-26T02:31:24",24,24000,"USD",{"$f":"tblSalaries[[#This Row],[clean Salary (in local currency)]]*VLOOKUP(tblSalaries[[#This Row],[Currency]],tblXrate[],2,FALSE)","v":24000},"engineer","Engineer","USA",{"$f":"VLOOKUP(tblSalaries[[#This Row],[Where do you work]],tblCountries[[Actual]:[Mapping]],2,FALSE)","v":"USA"},"1 or 2 hours a day"]
[null,"ID0431","2012-05-26T02:33:00",60000,60000,"USD",{"$f":"tblSalaries[[#This Row],[clean Salary (in local currency)]]*VLOOKUP(tblSalaries[[#This Row],[Currency]],tblXrate[],2,FALSE)","v":60000},"Planner","Manager","USA",{"$f":"VLOOKUP(tblSalaries[[#This Row],[Where do you work]],tblCountries[[Actual]:[Mapping]],2,FALSE)","v":"USA"},"4 to 6 hours a day"]
[null,"ID0432","2012-05-26T02:33:06",76600,76600,"USD",{"$f":"tblSalaries[[#This Row],[clean Salary (in local currency)]]*VLOOKUP(tblSalaries[[#This Row],[Currency]],tblXrate[],2,FALSE)","v":76600},"Analyst","Analyst","USA",{"$f":"VLOOKUP(tblSalaries[[#This Row],[Where do you work]],tblCountries[[Actual]:[Mapping]],2,FALSE)","v":"USA"},"2 to 3 hours per day"]
[null,"ID0433","2012-05-26T02:33:10","Â£65000",65000,"GBP",{"$f":"tblSalaries[[#This Row],[clean Salary (in local currency)]]*VLOOKUP(tblSalaries[[#This Row],[Currency]],tblXrate[],2,FALSE)","v":102451.58768437347},"Financial Controller","Controller","UK",{"$f":"VLOOKUP(tblSalaries[[#This Row],[Where do you work]],tblCountries[[Actual]:[Mapping]],2,FALSE)","v":"UK"},"2 to 3 hours per day"]
[null,"ID0434","2012-05-26T02:34:00","US $6,629.00",6629,"USD",{"$f":"tblSalaries[[#This Row],[clean Salary (in local currency)]]*VLOOKUP(tblSalaries[[#This Row],[Currency]],tblXrate[],2,FALSE)","v":6629},"Engineer","Engineer","Dominican Republic",{"$f":"VLOOKUP(tblSalaries[[#This Row],[Where do you work]],tblCountries[[Actual]:[Mapping]],2,FALSE)","v":"Dominican Republic"},"All the 8 hours baby, all the 8!"]
[null,"ID0435","2012-05-26T02:34:37",90000,90000,"USD",{"$f":"tblSalaries[[#This Row],[clean Salary (in local currency)]]*VLOOKUP(tblSalaries[[#This Row],[Currency]],tblXrate[],2,FALSE)","v":90000},"senior analyst","Analyst","USA",{"$f":"VLOOKUP(tblSalaries[[#This Row],[Where do you work]],tblCountries[[Actual]:[Mapping]],2,FALSE)","v":"USA"},"1 or 2 hours a day"]
[null,"ID0436","2012-05-26T02:35:10",8500,8500,"USD",{"$f":"tblSalaries[[#This Row],[clean Salary (in local currency)]]*VLOOKUP(tblSalaries[[#This Row],[Currency]],tblXrate[],2,FALSE)","v":8500},"Assesor","Analyst","Colombia",{"$f":"VLOOKUP(tblSalaries[[#This Row],[Where do you work]],tblCountries[[Actual]:[Mapping]],2,FALSE)","v":"Colombia"},"1 or 2 hours a day"]
[null,"ID0437","2012-05-26T02:35:11",75000,75000,"USD",{"$f":"tblSalaries[[#This Row],[clean Salary (in local currency)]]*VLOOKUP(tblSalaries[[#This Row],[Currency]],tblXrate[],2,FALSE)","v":75000},"Financial Analys","Analyst","USA",{"$f":"VLOOKUP(tblSalaries[[#This Row],[Where do you work]],tblCountries[[Actual]:[Mapping]],2,FALSE)","v":"USA"},"4 to 6 hours a day"]
[null,"ID0438","2012-05-26T02:37:50",72000,72000,"USD",{"$f":"tblSalaries[[#This Row],[clean Salary (in local currency)]]*VLOOKUP(tblSalaries[[#This Row],[Currency]],tblXrate[],2,FALSE)","v":72000},"Sr. Information Systems Analyst","Analyst","USA",{"$f":"VLOOKUP(tblSalaries[[#This Row],[Where do you work]],tblCountries[[Actual]:[Mapping]],2,FALSE)","v":"USA"},"2 to 3 hours per day"]
[null,"ID0439","2012-05-26T02:38:34",65000,65000,"USD",{"$f":"tblSalaries[[#This Row],[clean Salary (in local currency)]]*VLOOKUP(tblSalaries[[#This Row],[Currency]],tblXrate[],2,FALSE)","v":65000},"Senior Claims Analyst","Analyst","USA",{"$f":"VLOOKUP(tblSalaries[[#This Row],[Where do you work]],tblCountries[[Actual]:[Mapping]],2,FALSE)","v":"USA"},"4 to 6 hours a day"]
[null,"ID0440","2012-05-26T02:39:56",120000,120000,"USD",{"$f":"tblSalaries[[#This Row],[clean Salary (in local currency)]]*VLOOKUP(tblSalaries[[#This Row],[Currency]],tblXrate[],2,FALSE)","v":120000},"Director","CXO or Top Mgmt.","USA",{"$f":"VLOOKUP(tblSalaries[[#This Row],[Where do you work]],tblCountries[[Actual]:[Mapping]],2,FALSE)","v":"USA"},"1 or 2 hours a day"]
[null,"ID0441","2012-05-26T02:40:39","INR 40L",4000000,"INR",{"$f":"tblSalaries[[#This Row],[clean Salary (in local currency)]]*VLOOKUP(tblSalaries[[#This Row],[Currency]],tblXrate[],2,FALSE)","v":71231.666749770273},"Sr Mgr Finance","Accountant","India",{"$f":"VLOOKUP(tblSalaries[[#This Row],[Where do you work]],tblCountries[[Actual]:[Mapping]],2,FALSE)","v":"India"},"All the 8 hours baby, all the 8!"]
[null,"ID0442","2012-05-26T02:42:20","Rs. 300000",300000,"INR",{"$f":"tblSalaries[[#This Row],[clean Salary (in local currency)]]*VLOOKUP(tblSalaries[[#This Row],[Currency]],tblXrate[],2,FALSE)","v":5342.3750062327708},"Web Portal Manager","Manager","India",{"$f":"VLOOKUP(tblSalaries[[#This Row],[Where do you work]],tblCountries[[Actual]:[Mapping]],2,FALSE)","v":"India"},"4 to 6 hours a day"]
[null,"ID0443","2012-05-26T02:43:21",1100000,1100000,"INR",{"$f":"tblSalaries[[#This Row],[clean Salary (in local currency)]]*VLOOKUP(tblSalaries[[#This Row],[Currency]],tblXrate[],2,FALSE)","v":19588.708356186824},"manager - MIS & operations planning","Manager","India",{"$f":"VLOOKUP(tblSalaries[[#This Row],[Where do you work]],tblCountries[[Actual]:[Mapping]],2,FALSE)","v":"India"},"4 to 6 hours a day"]
[null,"ID0444","2012-05-26T02:46:18",80000,80000,"USD",{"$f":"tblSalaries[[#This Row],[clean Salary (in local currency)]]*VLOOKUP(tblSalaries[[#This Row],[Currency]],tblXrate[],2,FALSE)","v":80000},"web analyst","Analyst","USA",{"$f":"VLOOKUP(tblSalaries[[#This Row],[Where do you work]],tblCountries[[Actual]:[Mapping]],2,FALSE)","v":"USA"},"4 to 6 hours a day"]
[null,"ID0445","2012-05-26T02:46:56","INR 30,00,000",3000000,"INR",{"$f":"tblSalaries[[#This Row],[clean Salary (in local currency)]]*VLOOKUP(tblSalaries[[#This Row],[Currency]],tblXrate[],2,FALSE)","v":53423.750062327701},"Management Consultant","Manager","India",{"$f":"VLOOKUP(tblSalaries[[#This Row],[Where do you work]],tblCountries[[Actual]:[Mapping]],2,FALSE)","v":"India"},"4 to 6 hours a day"]
[null,"ID0446","2012-05-26T02:48:32",110000,110000,"CAD",{"$f":"tblSalaries[[#This Row],[clean Salary (in local currency)]]*VLOOKUP(tblSalaries[[#This Row],[Currency]],tblXrate[],2,FALSE)","v":108169.76753333595},"Continuos improvment","Controller","Canad",{"$f":"VLOOKUP(tblSalaries[[#This Row],[Where do you work]],tblCountries[[Actual]:[Mapping]],2,FALSE)","v":"Canada"},"2 to 3 hours per day"]
[null,"ID0447","2012-05-26T02:49:24",51000,51000,"USD",{"$f":"tblSalaries[[#This Row],[clean Salary (in local currency)]]*VLOOKUP(tblSalaries[[#This Row],[Currency]],tblXrate[],2,FALSE)","v":51000},"Direct marketing manager","Manager","USA",{"$f":"VLOOKUP(tblSalaries[[#This Row],[Where do you work]],tblCountries[[Actual]:[Mapping]],2,FALSE)","v":"USA"},"2 to 3 hours per day"]
[null,"ID0448","2012-05-26T02:50:16","5000 $",5000,"USD",{"$f":"tblSalaries[[#This Row],[clean Salary (in local currency)]]*VLOOKUP(tblSalaries[[#This Row],[Currency]],tblXrate[],2,FALSE)","v":5000},"mis","Reporting","India",{"$f":"VLOOKUP(tblSalaries[[#This Row],[Where do you work]],tblCountries[[Actual]:[Mapping]],2,FALSE)","v":"India"},"4 to 6 hours a day"]
[null,"ID0449","2012-05-26T02:53:29",74000,74000,"USD",{"$f":"tblSalaries[[#This Row],[clean Salary (in local currency)]]*VLOOKUP(tblSalaries[[#This Row],[Currency]],tblXrate[],2,FALSE)","v":74000},"Engineer","Engineer","USA",{"$f":"VLOOKUP(tblSalaries[[#This Row],[Where do you work]],tblCountries[[Actual]:[Mapping]],2,FALSE)","v":"USA"},"4 to 6 hours a day"]
[null,"ID0450","2012-05-26T02:53:48","Â£60000",60000,"GBP",{"$f":"tblSalaries[[#This Row],[clean Salary (in local currency)]]*VLOOKUP(tblSalaries[[#This Row],[Currency]],tblXrate[],2,FALSE)","v":94570.696324037053},"Excel Consultant","Consultant","UK",{"$f":"VLOOKUP(tblSalaries[[#This Row],[Where do you work]],tblCountries[[Actual]:[Mapping]],2,FALSE)","v":"UK"},"4 to 6 hours a day"]
[null,"ID0451","2012-05-26T02:55:27",50000,50000,"USD",{"$f":"tblSalaries[[#This Row],[clean Salary (in local currency)]]*VLOOKUP(tblSalaries[[#This Row],[Currency]],tblXrate[],2,FALSE)","v":50000},"Wine Analyst","Analyst","USA",{"$f":"VLOOKUP(tblSalaries[[#This Row],[Where do you work]],tblCountries[[Actual]:[Mapping]],2,FALSE)","v":"USA"},"4 to 6 hours a day"]
[null,"ID0452","2012-05-26T02:55:29","500000 rupees",500000,"INR",{"$f":"tblSalaries[[#This Row],[clean Salary (in local currency)]]*VLOOKUP(tblSalaries[[#This Row],[Currency]],tblXrate[],2,FALSE)","v":8903.9583437212841},"Business Analyst","Analyst","India",{"$f":"VLOOKUP(tblSalaries[[#This Row],[Where do you work]],tblCountries[[Actual]:[Mapping]],2,FALSE)","v":"India"},"4 to 6 hours a day"]
[null,"ID0453","2012-05-26T02:57:32",78000,78000,"USD",{"$f":"tblSalaries[[#This Row],[clean Salary (in local currency)]]*VLOOKUP(tblSalaries[[#This Row],[Currency]],tblXrate[],2,FALSE)","v":78000},"FinanceManager","Manager","Somalia",{"$f":"VLOOKUP(tblSalaries[[#This Row],[Where do you work]],tblCountries[[Actual]:[Mapping]],2,FALSE)","v":"Somalia"},"4 to 6 hours a day"]
[null,"ID0454","2012-05-26T02:57:47",900000,900000,"INR",{"$f":"tblSalaries[[#This Row],[clean Salary (in local currency)]]*VLOOKUP(tblSalaries[[#This Row],[Currency]],tblXrate[],2,FALSE)","v":16027.125018698311},"Regional Manager","Manager","India",{"$f":"VLOOKUP(tblSalaries[[#This Row],[Where do you work]],tblCountries[[Actual]:[Mapping]],2,FALSE)","v":"India"},"1 or 2 hours a day"]
[null,"ID0455","2012-05-26T03:01:31","7500 USD",7500,"USD",{"$f":"tblSalaries[[#This Row],[clean Salary (in local currency)]]*VLOOKUP(tblSalaries[[#This Row],[Currency]],tblXrate[],2,FALSE)","v":7500},"HR reporting analyst","Analyst","Romania",{"$f":"VLOOKUP(tblSalaries[[#This Row],[Where do you work]],tblCountries[[Actual]:[Mapping]],2,FALSE)","v":"Romania"},"All the 8 hours baby, all the 8!"]
[null,"ID0456","2012-05-26T03:01:42",60000,60000,"USD",{"$f":"tblSalaries[[#This Row],[clean Salary (in local currency)]]*VLOOKUP(tblSalaries[[#This Row],[Currency]],tblXrate[],2,FALSE)","v":60000},"Finalcial Reporting Analyst","Analyst","USA",{"$f":"VLOOKUP(tblSalaries[[#This Row],[Where do you work]],tblCountries[[Actual]:[Mapping]],2,FALSE)","v":"USA"},"All the 8 hours baby, all the 8!"]
[null,"ID0457","2012-05-26T03:02:42","800000 rupees",800000,"INR",{"$f":"tblSalaries[[#This Row],[clean Salary (in local currency)]]*VLOOKUP(tblSalaries[[#This Row],[Currency]],tblXrate[],2,FALSE)","v":14246.333349954055},"Partner","CXO or Top Mgmt.","India",{"$f":"VLOOKUP(tblSalaries[[#This Row],[Where do you work]],tblCountries[[Actual]:[Mapping]],2,FALSE)","v":"India"},"All the 8 hours baby, all the 8!"]
[null,"ID0458","2012-05-26T03:03:09",80000,80000,"USD",{"$f":"tblSalaries[[#This Row],[clean Salary (in local currency)]]*VLOOKUP(tblSalaries[[#This Row],[Currency]],tblXrate[],2,FALSE)","v":80000},"operations tech","Manager","USA",{"$f":"VLOOKUP(tblSalaries[[#This Row],[Where do you work]],tblCountries[[Actual]:[Mapping]],2,FALSE)","v":"USA"},"1 or 2 hours a day"]
[null,"ID0459","2012-05-26T03:03:29","Â£38000",38000,"GBP",{"$f":"tblSalaries[[#This Row],[clean Salary (in local currency)]]*VLOOKUP(tblSalaries[[#This Row],[Currency]],tblXrate[],2,FALSE)","v":59894.774338556796},"Commercial Accountant","Accountant","UK",{"$f":"VLOOKUP(tblSalaries[[#This Row],[Where do you work]],tblCountries[[Actual]:[Mapping]],2,FALSE)","v":"UK"},"4 to 6 hours a day"]
[null,"ID0460","2012-05-26T03:04:06","52,000 Cdn",52000,"CAD",{"$f":"tblSalaries[[#This Row],[clean Salary (in local currency)]]*VLOOKUP(tblSalaries[[#This Row],[Currency]],tblXrate[],2,FALSE)","v":51134.799197576998},"Office Manager","Manager","Canada",{"$f":"VLOOKUP(tblSalaries[[#This Row],[Where do you work]],tblCountries[[Actual]:[Mapping]],2,FALSE)","v":"Canada"},"4 to 6 hours a day"]
[null,"ID0461","2012-05-26T03:06:16",125000,125000,"USD",{"$f":"tblSalaries[[#This Row],[clean Salary (in local currency)]]*VLOOKUP(tblSalaries[[#This Row],[Currency]],tblXrate[],2,FALSE)","v":125000},"Prod Mgr","Manager","USA",{"$f":"VLOOKUP(tblSalaries[[#This Row],[Where do you work]],tblCountries[[Actual]:[Mapping]],2,FALSE)","v":"USA"},"2 to 3 hours per day"]
[null,"ID0462","2012-05-26T03:06:37",52000,52000,"USD",{"$f":"tblSalaries[[#This Row],[clean Salary (in local currency)]]*VLOOKUP(tblSalaries[[#This Row],[Currency]],tblXrate[],2,FALSE)","v":52000},"Graphics/Web Document Designer","Analyst","USA",{"$f":"VLOOKUP(tblSalaries[[#This Row],[Where do you work]],tblCountries[[Actual]:[Mapping]],2,FALSE)","v":"USA"},"2 to 3 hours per day"]
[null,"ID0463","2012-05-26T03:07:46",45000,45000,"USD",{"$f":"tblSalaries[[#This Row],[clean Salary (in local currency)]]*VLOOKUP(tblSalaries[[#This Row],[Currency]],tblXrate[],2,FALSE)","v":45000},"Analyst","Analyst","USA",{"$f":"VLOOKUP(tblSalaries[[#This Row],[Where do you work]],tblCountries[[Actual]:[Mapping]],2,FALSE)","v":"USA"},"4 to 6 hours a day"]
[null,"ID0464","2012-05-26T03:08:28",25000,25000,"GBP",{"$f":"tblSalaries[[#This Row],[clean Salary (in local currency)]]*VLOOKUP(tblSalaries[[#This Row],[Currency]],tblXrate[],2,FALSE)","v":39404.456801682099},"Analyst","Analyst","UK",{"$f":"VLOOKUP(tblSalaries[[#This Row],[Where do you work]],tblCountries[[Actual]:[Mapping]],2,FALSE)","v":"UK"},"4 to 6 hours a day"]
[null,"ID0465","2012-05-26T03:09:43",60000,60000,"USD",{"$f":"tblSalaries[[#This Row],[clean Salary (in local currency)]]*VLOOKUP(tblSalaries[[#This Row],[Currency]],tblXrate[],2,FALSE)","v":60000},"Business intelligence manager","Manager","USA",{"$f":"VLOOKUP(tblSalaries[[#This Row],[Where do you work]],tblCountries[[Actual]:[Mapping]],2,FALSE)","v":"USA"},"All the 8 hours baby, all the 8!"]
[null,"ID0466","2012-05-26T03:09:49","CDN $70,000",70000,"CAD",{"$f":"tblSalaries[[#This Row],[clean Salary (in local currency)]]*VLOOKUP(tblSalaries[[#This Row],[Currency]],tblXrate[],2,FALSE)","v":68835.306612122877},"Program Manager","Manager","Canada",{"$f":"VLOOKUP(tblSalaries[[#This Row],[Where do you work]],tblCountries[[Actual]:[Mapping]],2,FALSE)","v":"Canada"},"1 or 2 hours a day"]
[null,"ID0467","2012-05-26T03:11:21","5250 $",5250,"USD",{"$f":"tblSalaries[[#This Row],[clean Salary (in local currency)]]*VLOOKUP(tblSalaries[[#This Row],[Currency]],tblXrate[],2,FALSE)","v":5250},"Treasure Specialist","Specialist","Republic of Georgia",{"$f":"VLOOKUP(tblSalaries[[#This Row],[Where do you work]],tblCountries[[Actual]:[Mapping]],2,FALSE)","v":"Republic of Georgia"},"4 to 6 hours a day"]
[null,"ID0468","2012-05-26T03:11:44",87000,87000,"CAD",{"$f":"tblSalaries[[#This Row],[clean Salary (in local currency)]]*VLOOKUP(tblSalaries[[#This Row],[Currency]],tblXrate[],2,FALSE)","v":85552.452503638444},"Business Manager","Manager","Canada",{"$f":"VLOOKUP(tblSalaries[[#This Row],[Where do you work]],tblCountries[[Actual]:[Mapping]],2,FALSE)","v":"Canada"},"4 to 6 hours a day"]
[null,"ID0469","2012-05-26T03:13:13",125000,125000,"INR",{"$f":"tblSalaries[[#This Row],[clean Salary (in local currency)]]*VLOOKUP(tblSalaries[[#This Row],[Currency]],tblXrate[],2,FALSE)","v":2225.989585930321},"clerk","Analyst","India",{"$f":"VLOOKUP(tblSalaries[[#This Row],[Where do you work]],tblCountries[[Actual]:[Mapping]],2,FALSE)","v":"India"},"4 to 6 hours a day"]
[null,"ID0470","2012-05-26T03:14:44",150000,150000,"USD",{"$f":"tblSalaries[[#This Row],[clean Salary (in local currency)]]*VLOOKUP(tblSalaries[[#This Row],[Currency]],tblXrate[],2,FALSE)","v":150000},"CFO","CXO or Top Mgmt.","USA",{"$f":"VLOOKUP(tblSalaries[[#This Row],[Where do you work]],tblCountries[[Actual]:[Mapping]],2,FALSE)","v":"USA"},"2 to 3 hours per day"]
[null,"ID0471","2012-05-26T03:15:01",50000,50000,"USD",{"$f":"tblSalaries[[#This Row],[clean Salary (in local currency)]]*VLOOKUP(tblSalaries[[#This Row],[Currency]],tblXrate[],2,FALSE)","v":50000},"Researcher & Data Analyst","Analyst","USA",{"$f":"VLOOKUP(tblSalaries[[#This Row],[Where do you work]],tblCountries[[Actual]:[Mapping]],2,FALSE)","v":"USA"},"4 to 6 hours a day"]
[null,"ID0472","2012-05-26T03:15:04",70000,70000,"USD",{"$f":"tblSalaries[[#This Row],[clean Salary (in local currency)]]*VLOOKUP(tblSalaries[[#This Row],[Currency]],tblXrate[],2,FALSE)","v":70000},"Analyst","Analyst","USA",{"$f":"VLOOKUP(tblSalaries[[#This Row],[Where do you work]],tblCountries[[Actual]:[Mapping]],2,FALSE)","v":"USA"},"4 to 6 hours a day"]
[null,"ID0473","2012-05-26T03:15:30","Â£28500",28500,"GBP",{"$f":"tblSalaries[[#This Row],[clean Salary (in local currency)]]*VLOOKUP(tblSalaries[[#This Row],[Currency]],tblXrate[],2,FALSE)","v":44921.080753917595},"Data Quality & Analysis Manager","Manager","UK",{"$f":"VLOOKUP(tblSalaries[[#This Row],[Where do you work]],tblCountries[[Actual]:[Mapping]],2,FALSE)","v":"UK"},"2 to 3 hours per day"]
[null,"ID0474","2012-05-26T03:15:50",20000,20000,"USD",{"$f":"tblSalaries[[#This Row],[clean Salary (in local currency)]]*VLOOKUP(tblSalaries[[#This Row],[Currency]],tblXrate[],2,FALSE)","v":20000},"Specialist","Specialist","India",{"$f":"VLOOKUP(tblSalaries[[#This Row],[Where do you work]],tblCountries[[Actual]:[Mapping]],2,FALSE)","v":"India"},"4 to 6 hours a day"]
[null,"ID0476","2012-05-26T03:16:58",12000,12000,"USD",{"$f":"tblSalaries[[#This Row],[clean Salary (in local currency)]]*VLOOKUP(tblSalaries[[#This Row],[Currency]],tblXrate[],2,FALSE)","v":12000},"Resource managment Analyst","Analyst","Estonia",{"$f":"VLOOKUP(tblSalaries[[#This Row],[Where do you work]],tblCountries[[Actual]:[Mapping]],2,FALSE)","v":"Estonia"},"All the 8 hours baby, all the 8!"]
[null,"ID0477","2012-05-26T03:17:19",1250000,1250000,"CAD",{"$f":"tblSalaries[[#This Row],[clean Salary (in local currency)]]*VLOOKUP(tblSalaries[[#This Row],[Currency]],tblXrate[],2,FALSE)","v":1229201.9037879086},"Account Executive","Accountant","Canada",{"$f":"VLOOKUP(tblSalaries[[#This Row],[Where do you work]],tblCountries[[Actual]:[Mapping]],2,FALSE)","v":"Canada"},"4 to 6 hours a day"]
[null,"ID0478","2012-05-26T03:19:00",30000,30000,"USD",{"$f":"tblSalaries[[#This Row],[clean Salary (in local currency)]]*VLOOKUP(tblSalaries[[#This Row],[Currency]],tblXrate[],2,FALSE)","v":30000},"video production","Analyst","USA",{"$f":"VLOOKUP(tblSalaries[[#This Row],[Where do you work]],tblCountries[[Actual]:[Mapping]],2,FALSE)","v":"USA"},"Excel ?!? What Excel?"]
[null,"ID0479","2012-05-26T03:21:26",2000,24000,"USD",{"$f":"tblSalaries[[#This Row],[clean Salary (in local currency)]]*VLOOKUP(tblSalaries[[#This Row],[Currency]],tblXrate[],2,FALSE)","v":24000},"engineer","Engineer","mozambique",{"$f":"VLOOKUP(tblSalaries[[#This Row],[Where do you work]],tblCountries[[Actual]:[Mapping]],2,FALSE)","v":"Mozambique"},"2 to 3 hours per day"]
[null,"ID0480","2012-05-26T03:21:55",92000,92000,"USD",{"$f":"tblSalaries[[#This Row],[clean Salary (in local currency)]]*VLOOKUP(tblSalaries[[#This Row],[Currency]],tblXrate[],2,FALSE)","v":92000},"principal engineer","Engineer","USA",{"$f":"VLOOKUP(tblSalaries[[#This Row],[Where do you work]],tblCountries[[Actual]:[Mapping]],2,FALSE)","v":"USA"},"1 or 2 hours a day"]
[null,"ID0481","2012-05-26T03:22:33",52000,52000,"USD",{"$f":"tblSalaries[[#This Row],[clean Salary (in local currency)]]*VLOOKUP(tblSalaries[[#This Row],[Currency]],tblXrate[],2,FALSE)","v":52000},"budget analyst","Analyst","USA",{"$f":"VLOOKUP(tblSalaries[[#This Row],[Where do you work]],tblCountries[[Actual]:[Mapping]],2,FALSE)","v":"USA"},"4 to 6 hours a day"]
[null,"ID0482","2012-05-26T03:23:51","US$169,000",169000,"USD",{"$f":"tblSalaries[[#This Row],[clean Salary (in local currency)]]*VLOOKUP(tblSalaries[[#This Row],[Currency]],tblXrate[],2,FALSE)","v":169000},"Category Director (Marketing)","CXO or Top Mgmt.","USA",{"$f":"VLOOKUP(tblSalaries[[#This Row],[Where do you work]],tblCountries[[Actual]:[Mapping]],2,FALSE)","v":"USA"},"2 to 3 hours per day"]
[null,"ID0484","2012-05-26T03:25:57",110000,110000,"USD",{"$f":"tblSalaries[[#This Row],[clean Salary (in local currency)]]*VLOOKUP(tblSalaries[[#This Row],[Currency]],tblXrate[],2,FALSE)","v":110000},"Senior consultant accounting","Accountant","Norway",{"$f":"VLOOKUP(tblSalaries[[#This Row],[Where do you work]],tblCountries[[Actual]:[Mapping]],2,FALSE)","v":"Norway"},"2 to 3 hours per day"]
[null,"ID0485","2012-05-26T03:27:56","Zar 1080000",1080000,"ZAR",{"$f":"tblSalaries[[#This Row],[clean Salary (in local currency)]]*VLOOKUP(tblSalaries[[#This Row],[Currency]],tblXrate[],2,FALSE)","v":131675.52225194403},"Finance manager","Manager","South africa",{"$f":"VLOOKUP(tblSalaries[[#This Row],[Where do you work]],tblCountries[[Actual]:[Mapping]],2,FALSE)","v":"South Africa"},"2 to 3 hours per day"]
[null,"ID0486","2012-05-26T03:30:42","GB Sterling 59k",59000,"GBP",{"$f":"tblSalaries[[#This Row],[clean Salary (in local currency)]]*VLOOKUP(tblSalaries[[#This Row],[Currency]],tblXrate[],2,FALSE)","v":92994.518051969761},"Health and safety advisor","Consultant","UK",{"$f":"VLOOKUP(tblSalaries[[#This Row],[Where do you work]],tblCountries[[Actual]:[Mapping]],2,FALSE)","v":"UK"},"2 to 3 hours per day"]
[null,"ID0487","2012-05-26T03:31:34",50000,50000,"USD",{"$f":"tblSalaries[[#This Row],[clean Salary (in local currency)]]*VLOOKUP(tblSalaries[[#This Row],[Currency]],tblXrate[],2,FALSE)","v":50000},"Workforce Analyst","Analyst","USA",{"$f":"VLOOKUP(tblSalaries[[#This Row],[Where do you work]],tblCountries[[Actual]:[Mapping]],2,FALSE)","v":"USA"},"4 to 6 hours a day"]
[null,"ID0488","2012-05-26T03:32:13",65000,65000,"USD",{"$f":"tblSalaries[[#This Row],[clean Salary (in local currency)]]*VLOOKUP(tblSalaries[[#This Row],[Currency]],tblXrate[],2,FALSE)","v":65000},"Business Systems Analyst","Analyst","USA",{"$f":"VLOOKUP(tblSalaries[[#This Row],[Where do you work]],tblCountries[[Actual]:[Mapping]],2,FALSE)","v":"USA"},"2 to 3 hours per day"]
[null,"ID0489","2012-05-26T03:32:53",46000,46000,"CAD",{"$f":"tblSalaries[[#This Row],[clean Salary (in local currency)]]*VLOOKUP(tblSalaries[[#This Row],[Currency]],tblXrate[],2,FALSE)","v":45234.630059395036},"Sr. Marketing Solutions Analyst","Analyst","Canada",{"$f":"VLOOKUP(tblSalaries[[#This Row],[Where do you work]],tblCountries[[Actual]:[Mapping]],2,FALSE)","v":"Canada"},"All the 8 hours baby, all the 8!"]
[null,"ID0490","2012-05-26T03:33:32",55000,55000,"USD",{"$f":"tblSalaries[[#This Row],[clean Salary (in local currency)]]*VLOOKUP(tblSalaries[[#This Row],[Currency]],tblXrate[],2,FALSE)","v":55000},"Analyst","Analyst","USA",{"$f":"VLOOKUP(tblSalaries[[#This Row],[Where do you work]],tblCountries[[Actual]:[Mapping]],2,FALSE)","v":"USA"},"2 to 3 hours per day"]
[null,"ID0491","2012-05-26T03:34:04","20000 US$",20000,"USD",{"$f":"tblSalaries[[#This Row],[clean Salary (in local currency)]]*VLOOKUP(tblSalaries[[#This Row],[Currency]],tblXrate[],2,FALSE)","v":20000},"Consultant","Consultant","India",{"$f":"VLOOKUP(tblSalaries[[#This Row],[Where do you work]],tblCountries[[Actual]:[Mapping]],2,FALSE)","v":"India"},"2 to 3 hours per day"]
[null,"ID0492","2012-05-26T03:34:15",6000,6000,"USD",{"$f":"tblSalaries[[#This Row],[clean Salary (in local currency)]]*VLOOKUP(tblSalaries[[#This Row],[Currency]],tblXrate[],2,FALSE)","v":6000},"MIS","Reporting","India",{"$f":"VLOOKUP(tblSalaries[[#This Row],[Where do you work]],tblCountries[[Actual]:[Mapping]],2,FALSE)","v":"India"},"All the 8 hours baby, all the 8!"]
[null,"ID0493","2012-05-26T03:37:33",190000,190000,"GBP",{"$f":"tblSalaries[[#This Row],[clean Salary (in local currency)]]*VLOOKUP(tblSalaries[[#This Row],[Currency]],tblXrate[],2,FALSE)","v":299473.87169278396},"Managing Partner","CXO or Top Mgmt.","UK",{"$f":"VLOOKUP(tblSalaries[[#This Row],[Where do you work]],tblCountries[[Actual]:[Mapping]],2,FALSE)","v":"UK"},"4 to 6 hours a day"]
[null,"ID0494","2012-05-26T03:37:46",28164,28164,"GBP",{"$f":"tblSalaries[[#This Row],[clean Salary (in local currency)]]*VLOOKUP(tblSalaries[[#This Row],[Currency]],tblXrate[],2,FALSE)","v":44391.484854502989},"Administration Officer","Manager","UK",{"$f":"VLOOKUP(tblSalaries[[#This Row],[Where do you work]],tblCountries[[Actual]:[Mapping]],2,FALSE)","v":"UK"},"4 to 6 hours a day"]
[null,"ID0495","2012-05-26T03:40:26",40000,40000,"USD",{"$f":"tblSalaries[[#This Row],[clean Salary (in local currency)]]*VLOOKUP(tblSalaries[[#This Row],[Currency]],tblXrate[],2,FALSE)","v":40000},"BAS","Analyst","USA",{"$f":"VLOOKUP(tblSalaries[[#This Row],[Where do you work]],tblCountries[[Actual]:[Mapping]],2,FALSE)","v":"USA"},"2 to 3 hours per day"]
[null,"ID0496","2012-05-26T03:48:42","USD 108,000",108000,"USD",{"$f":"tblSalaries[[#This Row],[clean Salary (in local currency)]]*VLOOKUP(tblSalaries[[#This Row],[Currency]],tblXrate[],2,FALSE)","v":108000},"Manager","Manager","Norway",{"$f":"VLOOKUP(tblSalaries[[#This Row],[Where do you work]],tblCountries[[Actual]:[Mapping]],2,FALSE)","v":"Norway"},"4 to 6 hours a day"]
[null,"ID0497","2012-05-26T03:49:21","200000 Rupees",200000,"INR",{"$f":"tblSalaries[[#This Row],[clean Salary (in local currency)]]*VLOOKUP(tblSalaries[[#This Row],[Currency]],tblXrate[],2,FALSE)","v":3561.5833374885137},"chemist","Analyst","India",{"$f":"VLOOKUP(tblSalaries[[#This Row],[Where do you work]],tblCountries[[Actual]:[Mapping]],2,FALSE)","v":"India"},"2 to 3 hours per day"]
[null,"ID0498","2012-05-26T03:50:24",84000,84000,"USD",{"$f":"tblSalaries[[#This Row],[clean Salary (in local currency)]]*VLOOKUP(tblSalaries[[#This Row],[Currency]],tblXrate[],2,FALSE)","v":84000},"Senior Analyst","Analyst","USA",{"$f":"VLOOKUP(tblSalaries[[#This Row],[Where do you work]],tblCountries[[Actual]:[Mapping]],2,FALSE)","v":"USA"},"All the 8 hours baby, all the 8!"]
[null,"ID0499","2012-05-26T03:52:24",33000,33000,"GBP",{"$f":"tblSalaries[[#This Row],[clean Salary (in local currency)]]*VLOOKUP(tblSalaries[[#This Row],[Currency]],tblXrate[],2,FALSE)","v":52013.882978220376},"LOGISTIC MANAGER","Manager","UK",{"$f":"VLOOKUP(tblSalaries[[#This Row],[Where do you work]],tblCountries[[Actual]:[Mapping]],2,FALSE)","v":"UK"},"4 to 6 hours a day"]
[null,"ID0500","2012-05-26T03:53:29","Rs. 7,20,000/-",720000,"INR",{"$f":"tblSalaries[[#This Row],[clean Salary (in local currency)]]*VLOOKUP(tblSalaries[[#This Row],[Currency]],tblXrate[],2,FALSE)","v":12821.700014958649},"Manager Finance","Manager","India",{"$f":"VLOOKUP(tblSalaries[[#This Row],[Where do you work]],tblCountries[[Actual]:[Mapping]],2,FALSE)","v":"India"},"2 to 3 hours per day"]
[null,"ID0501","2012-05-26T04:00:21",68500,68500,"CAD",{"$f":"tblSalaries[[#This Row],[clean Salary (in local currency)]]*VLOOKUP(tblSalaries[[#This Row],[Currency]],tblXrate[],2,FALSE)","v":67360.264327577388},"Financial Analyst","Analyst","Canada",{"$f":"VLOOKUP(tblSalaries[[#This Row],[Where do you work]],tblCountries[[Actual]:[Mapping]],2,FALSE)","v":"Canada"},"4 to 6 hours a day"]
[null,"ID0502","2012-05-26T04:01:45","23000 USD",23000,"USD",{"$f":"tblSalaries[[#This Row],[clean Salary (in local currency)]]*VLOOKUP(tblSalaries[[#This Row],[Currency]],tblXrate[],2,FALSE)","v":23000},"IT solutions coordinator","Manager","Hungary",{"$f":"VLOOKUP(tblSalaries[[#This Row],[Where do you work]],tblCountries[[Actual]:[Mapping]],2,FALSE)","v":"Hungary"},"4 to 6 hours a day"]
[null,"ID0503","2012-05-26T04:01:59",58000,58000,"GBP",{"$f":"tblSalaries[[#This Row],[clean Salary (in local currency)]]*VLOOKUP(tblSalaries[[#This Row],[Currency]],tblXrate[],2,FALSE)","v":91418.339779902482},"Business Modeller","Manager","UK",{"$f":"VLOOKUP(tblSalaries[[#This Row],[Where do you work]],tblCountries[[Actual]:[Mapping]],2,FALSE)","v":"UK"},"All the 8 hours baby, all the 8!"]
[null,"ID0504","2012-05-26T04:03:33",77000,77000,"USD",{"$f":"tblSalaries[[#This Row],[clean Salary (in local currency)]]*VLOOKUP(tblSalaries[[#This Row],[Currency]],tblXrate[],2,FALSE)","v":77000},"Senior Financial Analyst","Analyst","USA",{"$f":"VLOOKUP(tblSalaries[[#This Row],[Where do you work]],tblCountries[[Actual]:[Mapping]],2,FALSE)","v":"USA"},"All the 8 hours baby, all the 8!"]
[null,"ID0505","2012-05-26T04:05:08",100000,100000,"USD",{"$f":"tblSalaries[[#This Row],[clean Salary (in local currency)]]*VLOOKUP(tblSalaries[[#This Row],[Currency]],tblXrate[],2,FALSE)","v":100000},"Analyst","Analyst","USA",{"$f":"VLOOKUP(tblSalaries[[#This Row],[Where do you work]],tblCountries[[Actual]:[Mapping]],2,FALSE)","v":"USA"},"4 to 6 hours a day"]
[null,"ID0506","2012-05-26T04:10:53",55500,55500,"USD",{"$f":"tblSalaries[[#This Row],[clean Salary (in local currency)]]*VLOOKUP(tblSalaries[[#This Row],[Currency]],tblXrate[],2,FALSE)","v":55500},"Sr QS","Controller","UAE",{"$f":"VLOOKUP(tblSalaries[[#This Row],[Where do you work]],tblCountries[[Actual]:[Mapping]],2,FALSE)","v":"UAE"},"4 to 6 hours a day"]
[null,"ID0507","2012-05-26T04:12:16","15000 â‚¬",15000,"EUR",{"$f":"tblSalaries[[#This Row],[clean Salary (in local currency)]]*VLOOKUP(tblSalaries[[#This Row],[Currency]],tblXrate[],2,FALSE)","v":19055.991584874118},"Report Analyst","Analyst","Spain",{"$f":"VLOOKUP(tblSalaries[[#This Row],[Where do you work]],tblCountries[[Actual]:[Mapping]],2,FALSE)","v":"Spain"},"All the 8 hours baby, all the 8!"]
[null,"ID0508","2012-05-26T04:13:54","Rs 6L",600000,"INR",{"$f":"tblSalaries[[#This Row],[clean Salary (in local currency)]]*VLOOKUP(tblSalaries[[#This Row],[Currency]],tblXrate[],2,FALSE)","v":10684.750012465542},"Business Co ordinator","Manager","India",{"$f":"VLOOKUP(tblSalaries[[#This Row],[Where do you work]],tblCountries[[Actual]:[Mapping]],2,FALSE)","v":"India"},"4 to 6 hours a day"]
[null,"ID0509","2012-05-26T04:14:27",8400,8400,"USD",{"$f":"tblSalaries[[#This Row],[clean Salary (in local currency)]]*VLOOKUP(tblSalaries[[#This Row],[Currency]],tblXrate[],2,FALSE)","v":8400},"Manager","Manager","India",{"$f":"VLOOKUP(tblSalaries[[#This Row],[Where do you work]],tblCountries[[Actual]:[Mapping]],2,FALSE)","v":"India"},"4 to 6 hours a day"]
[null,"ID0510","2012-05-26T04:16:16","Rs 500000",500000,"INR",{"$f":"tblSalaries[[#This Row],[clean Salary (in local currency)]]*VLOOKUP(tblSalaries[[#This Row],[Currency]],tblXrate[],2,FALSE)","v":8903.9583437212841},"duty manager","Manager","India",{"$f":"VLOOKUP(tblSalaries[[#This Row],[Where do you work]],tblCountries[[Actual]:[Mapping]],2,FALSE)","v":"India"},"2 to 3 hours per day"]
[null,"ID0511","2012-05-26T04:17:20",12000,12000,"USD",{"$f":"tblSalaries[[#This Row],[clean Salary (in local currency)]]*VLOOKUP(tblSalaries[[#This Row],[Currency]],tblXrate[],2,FALSE)","v":12000},"Report Analyst","Analyst","Brazil",{"$f":"VLOOKUP(tblSalaries[[#This Row],[Where do you work]],tblCountries[[Actual]:[Mapping]],2,FALSE)","v":"Brazil"},"All the 8 hours baby, all the 8!"]
[null,"ID0512","2012-05-26T04:18:15",65000,65000,"USD",{"$f":"tblSalaries[[#This Row],[clean Salary (in local currency)]]*VLOOKUP(tblSalaries[[#This Row],[Currency]],tblXrate[],2,FALSE)","v":65000},"Retail Store Manager","Manager","USA",{"$f":"VLOOKUP(tblSalaries[[#This Row],[Where do you work]],tblCountries[[Actual]:[Mapping]],2,FALSE)","v":"USA"},"All the 8 hours baby, all the 8!"]
[null,"ID0513","2012-05-26T04:19:05","Â£16400",16400,"GBP",{"$f":"tblSalaries[[#This Row],[clean Salary (in local currency)]]*VLOOKUP(tblSalaries[[#This Row],[Currency]],tblXrate[],2,FALSE)","v":25849.323661903458},"Job Build analyst","Analyst","UK",{"$f":"VLOOKUP(tblSalaries[[#This Row],[Where do you work]],tblCountries[[Actual]:[Mapping]],2,FALSE)","v":"UK"},"4 to 6 hours a day"]
[null,"ID0514","2012-05-26T04:20:17",78000,78000,"GBP",{"$f":"tblSalaries[[#This Row],[clean Salary (in local currency)]]*VLOOKUP(tblSalaries[[#This Row],[Currency]],tblXrate[],2,FALSE)","v":122941.90522124816},"Associate","Analyst","UK",{"$f":"VLOOKUP(tblSalaries[[#This Row],[Where do you work]],tblCountries[[Actual]:[Mapping]],2,FALSE)","v":"UK"},"1 or 2 hours a day"]
[null,"ID0515","2012-05-26T04:25:24",76000,76000,"USD",{"$f":"tblSalaries[[#This Row],[clean Salary (in local currency)]]*VLOOKUP(tblSalaries[[#This Row],[Currency]],tblXrate[],2,FALSE)","v":76000},"Accounting Manager","Manager","USA",{"$f":"VLOOKUP(tblSalaries[[#This Row],[Where do you work]],tblCountries[[Actual]:[Mapping]],2,FALSE)","v":"USA"},"2 to 3 hours per day"]
[null,"ID0516","2012-05-26T04:26:10","$150000pa",150000,"USD",{"$f":"tblSalaries[[#This Row],[clean Salary (in local currency)]]*VLOOKUP(tblSalaries[[#This Row],[Currency]],tblXrate[],2,FALSE)","v":150000},"Consultant","Consultant","USA",{"$f":"VLOOKUP(tblSalaries[[#This Row],[Where do you work]],tblCountries[[Actual]:[Mapping]],2,FALSE)","v":"USA"},"All the 8 hours baby, all the 8!"]
[null,"ID0517","2012-05-26T04:27:12",54000,54000,"USD",{"$f":"tblSalaries[[#This Row],[clean Salary (in local currency)]]*VLOOKUP(tblSalaries[[#This Row],[Currency]],tblXrate[],2,FALSE)","v":54000},"Business Analyst","Analyst","USA",{"$f":"VLOOKUP(tblSalaries[[#This Row],[Where do you work]],tblCountries[[Actual]:[Mapping]],2,FALSE)","v":"USA"},"4 to 6 hours a day"]
[null,"ID0518","2012-05-26T04:33:03","57000 USD",57000,"USD",{"$f":"tblSalaries[[#This Row],[clean Salary (in local currency)]]*VLOOKUP(tblSalaries[[#This Row],[Currency]],tblXrate[],2,FALSE)","v":57000},"project finance manager","Manager","israel",{"$f":"VLOOKUP(tblSalaries[[#This Row],[Where do you work]],tblCountries[[Actual]:[Mapping]],2,FALSE)","v":"Israel"},"4 to 6 hours a day"]
[null,"ID0519","2012-05-26T04:33:27",61000,61000,"USD",{"$f":"tblSalaries[[#This Row],[clean Salary (in local currency)]]*VLOOKUP(tblSalaries[[#This Row],[Currency]],tblXrate[],2,FALSE)","v":61000},"Senior Accountant","Accountant","USA",{"$f":"VLOOKUP(tblSalaries[[#This Row],[Where do you work]],tblCountries[[Actual]:[Mapping]],2,FALSE)","v":"USA"},"4 to 6 hours a day"]
[null,"ID0520","2012-05-26T04:34:41",70000,70000,"USD",{"$f":"tblSalaries[[#This Row],[clean Salary (in local currency)]]*VLOOKUP(tblSalaries[[#This Row],[Currency]],tblXrate[],2,FALSE)","v":70000},"Metrics Analyst","Analyst","USA",{"$f":"VLOOKUP(tblSalaries[[#This Row],[Where do you work]],tblCountries[[Actual]:[Mapping]],2,FALSE)","v":"USA"},"All the 8 hours baby, all the 8!"]
[null,"ID0521","2012-05-26T04:36:43",15000,15000,"USD",{"$f":"tblSalaries[[#This Row],[clean Salary (in local currency)]]*VLOOKUP(tblSalaries[[#This Row],[Currency]],tblXrate[],2,FALSE)","v":15000},"Asst.Manager","Manager","India",{"$f":"VLOOKUP(tblSalaries[[#This Row],[Where do you work]],tblCountries[[Actual]:[Mapping]],2,FALSE)","v":"India"},"4 to 6 hours a day"]
[null,"ID0522","2012-05-26T04:39:11",87550,87550,"CAD",{"$f":"tblSalaries[[#This Row],[clean Salary (in local currency)]]*VLOOKUP(tblSalaries[[#This Row],[Currency]],tblXrate[],2,FALSE)","v":86093.301341305123},"Manager","Manager","Canada",{"$f":"VLOOKUP(tblSalaries[[#This Row],[Where do you work]],tblCountries[[Actual]:[Mapping]],2,FALSE)","v":"Canada"},"4 to 6 hours a day"]
[null,"ID0523","2012-05-26T04:40:36",72600,72600,"USD",{"$f":"tblSalaries[[#This Row],[clean Salary (in local currency)]]*VLOOKUP(tblSalaries[[#This Row],[Currency]],tblXrate[],2,FALSE)","v":72600},"Accounting Operations Manager","Manager","USA",{"$f":"VLOOKUP(tblSalaries[[#This Row],[Where do you work]],tblCountries[[Actual]:[Mapping]],2,FALSE)","v":"USA"},"2 to 3 hours per day"]
[null,"ID0524","2012-05-26T04:41:20",100000,100000,"USD",{"$f":"tblSalaries[[#This Row],[clean Salary (in local currency)]]*VLOOKUP(tblSalaries[[#This Row],[Currency]],tblXrate[],2,FALSE)","v":100000},"Director","CXO or Top Mgmt.","USA",{"$f":"VLOOKUP(tblSalaries[[#This Row],[Where do you work]],tblCountries[[Actual]:[Mapping]],2,FALSE)","v":"USA"},"2 to 3 hours per day"]
[null,"ID0525","2012-05-26T04:44:26",104000,104000,"USD",{"$f":"tblSalaries[[#This Row],[clean Salary (in local currency)]]*VLOOKUP(tblSalaries[[#This Row],[Currency]],tblXrate[],2,FALSE)","v":104000},"Vice President, Analyst","Analyst","USA",{"$f":"VLOOKUP(tblSalaries[[#This Row],[Where do you work]],tblCountries[[Actual]:[Mapping]],2,FALSE)","v":"USA"},"4 to 6 hours a day"]
[null,"ID0526","2012-05-26T04:48:35",600000,600000,"INR",{"$f":"tblSalaries[[#This Row],[clean Salary (in local currency)]]*VLOOKUP(tblSalaries[[#This Row],[Currency]],tblXrate[],2,FALSE)","v":10684.750012465542},"Project Manager","Manager","India",{"$f":"VLOOKUP(tblSalaries[[#This Row],[Where do you work]],tblCountries[[Actual]:[Mapping]],2,FALSE)","v":"India"},"4 to 6 hours a day"]
[null,"ID0527","2012-05-26T04:48:54",200000,200000,"USD",{"$f":"tblSalaries[[#This Row],[clean Salary (in local currency)]]*VLOOKUP(tblSalaries[[#This Row],[Currency]],tblXrate[],2,FALSE)","v":200000},"COO","CXO or Top Mgmt.","USA",{"$f":"VLOOKUP(tblSalaries[[#This Row],[Where do you work]],tblCountries[[Actual]:[Mapping]],2,FALSE)","v":"USA"},"2 to 3 hours per day"]
[null,"ID0528","2012-05-26T04:50:21","EUR 49248",49248,"EUR",{"$f":"tblSalaries[[#This Row],[clean Salary (in local currency)]]*VLOOKUP(tblSalaries[[#This Row],[Currency]],tblXrate[],2,FALSE)","v":62564.631571458704},"Financial Advisor","Accountant","Netherlands",{"$f":"VLOOKUP(tblSalaries[[#This Row],[Where do you work]],tblCountries[[Actual]:[Mapping]],2,FALSE)","v":"Netherlands"},"All the 8 hours baby, all the 8!"]
[null,"ID0529","2012-05-26T04:50:47",36500,36500,"GBP",{"$f":"tblSalaries[[#This Row],[clean Salary (in local currency)]]*VLOOKUP(tblSalaries[[#This Row],[Currency]],tblXrate[],2,FALSE)","v":57530.506930455871},"Production Manager","Manager","UK",{"$f":"VLOOKUP(tblSalaries[[#This Row],[Where do you work]],tblCountries[[Actual]:[Mapping]],2,FALSE)","v":"UK"},"2 to 3 hours per day"]
[null,"ID0530","2012-05-26T05:00:21",82300,82300,"USD",{"$f":"tblSalaries[[#This Row],[clean Salary (in local currency)]]*VLOOKUP(tblSalaries[[#This Row],[Currency]],tblXrate[],2,FALSE)","v":82300},"Manager - Finance","Manager","USA",{"$f":"VLOOKUP(tblSalaries[[#This Row],[Where do you work]],tblCountries[[Actual]:[Mapping]],2,FALSE)","v":"USA"},"2 to 3 hours per day"]
[null,"ID0531","2012-05-26T05:04:49",95000,95000,"USD",{"$f":"tblSalaries[[#This Row],[clean Salary (in local currency)]]*VLOOKUP(tblSalaries[[#This Row],[Currency]],tblXrate[],2,FALSE)","v":95000},"Process Design Consultant","Consultant","USA",{"$f":"VLOOKUP(tblSalaries[[#This Row],[Where do you work]],tblCountries[[Actual]:[Mapping]],2,FALSE)","v":"USA"},"4 to 6 hours a day"]
[null,"ID0532","2012-05-26T05:07:30",140000,140000,"GBP",{"$f":"tblSalaries[[#This Row],[clean Salary (in local currency)]]*VLOOKUP(tblSalaries[[#This Row],[Currency]],tblXrate[],2,FALSE)","v":220664.95808941979},"vba specialist","Specialist","UK",{"$f":"VLOOKUP(tblSalaries[[#This Row],[Where do you work]],tblCountries[[Actual]:[Mapping]],2,FALSE)","v":"UK"},"All the 8 hours baby, all the 8!"]
[null,"ID0533","2012-05-26T05:13:03",72000,72000,"USD",{"$f":"tblSalaries[[#This Row],[clean Salary (in local currency)]]*VLOOKUP(tblSalaries[[#This Row],[Currency]],tblXrate[],2,FALSE)","v":72000},"Analytical Department Director ","Analyst","Russia",{"$f":"VLOOKUP(tblSalaries[[#This Row],[Where do you work]],tblCountries[[Actual]:[Mapping]],2,FALSE)","v":"Russia"},"2 to 3 hours per day"]
[null,"ID0534","2012-05-26T05:15:54",60000,60000,"AUD",{"$f":"tblSalaries[[#This Row],[clean Salary (in local currency)]]*VLOOKUP(tblSalaries[[#This Row],[Currency]],tblXrate[],2,FALSE)","v":61194.579384158147},"Analyst","Analyst","Australia",{"$f":"VLOOKUP(tblSalaries[[#This Row],[Where do you work]],tblCountries[[Actual]:[Mapping]],2,FALSE)","v":"Australia"},"2 to 3 hours per day"]
[null,"ID0535","2012-05-26T05:18:12","120k",120000,"USD",{"$f":"tblSalaries[[#This Row],[clean Salary (in local currency)]]*VLOOKUP(tblSalaries[[#This Row],[Currency]],tblXrate[],2,FALSE)","v":120000},"manager","Manager","nz",{"$f":"VLOOKUP(tblSalaries[[#This Row],[Where do you work]],tblCountries[[Actual]:[Mapping]],2,FALSE)","v":"New Zealand"},"2 to 3 hours per day"]
[null,"ID0536","2012-05-26T05:18:27","US$95K",95000,"USD",{"$f":"tblSalaries[[#This Row],[clean Salary (in local currency)]]*VLOOKUP(tblSalaries[[#This Row],[Currency]],tblXrate[],2,FALSE)","v":95000},"Director of Supply Chain","CXO or Top Mgmt.","Central America",{"$f":"VLOOKUP(tblSalaries[[#This Row],[Where do you work]],tblCountries[[Actual]:[Mapping]],2,FALSE)","v":"Central America"},"2 to 3 hours per day"]
[null,"ID0537","2012-05-26T05:20:43",50000,50000,"USD",{"$f":"tblSalaries[[#This Row],[clean Salary (in local currency)]]*VLOOKUP(tblSalaries[[#This Row],[Currency]],tblXrate[],2,FALSE)","v":50000},"Research Assistant","Analyst","USA",{"$f":"VLOOKUP(tblSalaries[[#This Row],[Where do you work]],tblCountries[[Actual]:[Mapping]],2,FALSE)","v":"USA"},"2 to 3 hours per day"]
[null,"ID0538","2012-05-26T05:23:20","73,000 GBP",73000,"GBP",{"$f":"tblSalaries[[#This Row],[clean Salary (in local currency)]]*VLOOKUP(tblSalaries[[#This Row],[Currency]],tblXrate[],2,FALSE)","v":115061.01386091174},"Finance Manager","Manager","UK",{"$f":"VLOOKUP(tblSalaries[[#This Row],[Where do you work]],tblCountries[[Actual]:[Mapping]],2,FALSE)","v":"UK"},"4 to 6 hours a day"]
[null,"ID0539","2012-05-26T05:24:16",50000,50000,"USD",{"$f":"tblSalaries[[#This Row],[clean Salary (in local currency)]]*VLOOKUP(tblSalaries[[#This Row],[Currency]],tblXrate[],2,FALSE)","v":50000},"Excel professional","Analyst","self-employed",{"$f":"VLOOKUP(tblSalaries[[#This Row],[Where do you work]],tblCountries[[Actual]:[Mapping]],2,FALSE)","v":"self-employed"},"4 to 6 hours a day"]
[null,"ID0540","2012-05-26T05:27:14",46000,46000,"USD",{"$f":"tblSalaries[[#This Row],[clean Salary (in local currency)]]*VLOOKUP(tblSalaries[[#This Row],[Currency]],tblXrate[],2,FALSE)","v":46000},"Research Analyst","Analyst","USA",{"$f":"VLOOKUP(tblSalaries[[#This Row],[Where do you work]],tblCountries[[Actual]:[Mapping]],2,FALSE)","v":"USA"},"2 to 3 hours per day"]
[null,"ID0541","2012-05-26T05:27:37","PKR 50,000",600000,"PKR",{"$f":"tblSalaries[[#This Row],[clean Salary (in local currency)]]*VLOOKUP(tblSalaries[[#This Row],[Currency]],tblXrate[],2,FALSE)","v":6368.453230079479},"Trainer","Consultant","Pakistan",{"$f":"VLOOKUP(tblSalaries[[#This Row],[Where do you work]],tblCountries[[Actual]:[Mapping]],2,FALSE)","v":"Pakistan"},"4 to 6 hours a day"]
[null,"ID0543","2012-05-26T05:28:46",85000,85000,"AUD",{"$f":"tblSalaries[[#This Row],[clean Salary (in local currency)]]*VLOOKUP(tblSalaries[[#This Row],[Currency]],tblXrate[],2,FALSE)","v":86692.320794224041},"Business analyst","Analyst","Australia",{"$f":"VLOOKUP(tblSalaries[[#This Row],[Where do you work]],tblCountries[[Actual]:[Mapping]],2,FALSE)","v":"Australia"},"4 to 6 hours a day"]
[null,"ID0544","2012-05-26T05:29:55",450000,450000,"INR",{"$f":"tblSalaries[[#This Row],[clean Salary (in local currency)]]*VLOOKUP(tblSalaries[[#This Row],[Currency]],tblXrate[],2,FALSE)","v":8013.5625093491553},"deputy manager","Manager","India",{"$f":"VLOOKUP(tblSalaries[[#This Row],[Where do you work]],tblCountries[[Actual]:[Mapping]],2,FALSE)","v":"India"},"All the 8 hours baby, all the 8!"]
[null,"ID0545","2012-05-26T05:29:58",43000,43000,"USD",{"$f":"tblSalaries[[#This Row],[clean Salary (in local currency)]]*VLOOKUP(tblSalaries[[#This Row],[Currency]],tblXrate[],2,FALSE)","v":43000},"Accountant","Accountant","USA",{"$f":"VLOOKUP(tblSalaries[[#This Row],[Where do you work]],tblCountries[[Actual]:[Mapping]],2,FALSE)","v":"USA"},"All the 8 hours baby, all the 8!"]
[null,"ID0546","2012-05-26T05:30:12",1500,18000,"USD",{"$f":"tblSalaries[[#This Row],[clean Salary (in local currency)]]*VLOOKUP(tblSalaries[[#This Row],[Currency]],tblXrate[],2,FALSE)","v":18000},"Engineer","Engineer","Brazil",{"$f":"VLOOKUP(tblSalaries[[#This Row],[Where do you work]],tblCountries[[Actual]:[Mapping]],2,FALSE)","v":"Brazil"},"4 to 6 hours a day"]
[null,"ID0547","2012-05-26T05:31:06",55000,55000,"USD",{"$f":"tblSalaries[[#This Row],[clean Salary (in local currency)]]*VLOOKUP(tblSalaries[[#This Row],[Currency]],tblXrate[],2,FALSE)","v":55000},"Marketing","Analyst","USA",{"$f":"VLOOKUP(tblSalaries[[#This Row],[Where do you work]],tblCountries[[Actual]:[Mapping]],2,FALSE)","v":"USA"},"2 to 3 hours per day"]
[null,"ID0548","2012-05-26T05:31:25","Rs. 500000",500000,"INR",{"$f":"tblSalaries[[#This Row],[clean Salary (in local currency)]]*VLOOKUP(tblSalaries[[#This Row],[Currency]],tblXrate[],2,FALSE)","v":8903.9583437212841},"Research Associate","Analyst","India",{"$f":"VLOOKUP(tblSalaries[[#This Row],[Where do you work]],tblCountries[[Actual]:[Mapping]],2,FALSE)","v":"India"},"All the 8 hours baby, all the 8!"]
[null,"ID0549","2012-05-26T05:33:43",45000,45000,"USD",{"$f":"tblSalaries[[#This Row],[clean Salary (in local currency)]]*VLOOKUP(tblSalaries[[#This Row],[Currency]],tblXrate[],2,FALSE)","v":45000},"Reports Coordinator","Reporting","USA",{"$f":"VLOOKUP(tblSalaries[[#This Row],[Where do you work]],tblCountries[[Actual]:[Mapping]],2,FALSE)","v":"USA"},"All the 8 hours baby, all the 8!"]
[null,"ID0550","2012-05-26T05:35:00",50000,50000,"USD",{"$f":"tblSalaries[[#This Row],[clean Salary (in local currency)]]*VLOOKUP(tblSalaries[[#This Row],[Currency]],tblXrate[],2,FALSE)","v":50000},"Quality Compliance Manager","Manager","USA",{"$f":"VLOOKUP(tblSalaries[[#This Row],[Where do you work]],tblCountries[[Actual]:[Mapping]],2,FALSE)","v":"USA"},"4 to 6 hours a day"]
[null,"ID0551","2012-05-26T05:44:42","80,000 USD",80000,"USD",{"$f":"tblSalaries[[#This Row],[clean Salary (in local currency)]]*VLOOKUP(tblSalaries[[#This Row],[Currency]],tblXrate[],2,FALSE)","v":80000},"Cost Analyst","Analyst","USA",{"$f":"VLOOKUP(tblSalaries[[#This Row],[Where do you work]],tblCountries[[Actual]:[Mapping]],2,FALSE)","v":"USA"},"All the 8 hours baby, all the 8!"]
[null,"ID0552","2012-05-26T05:46:02",67000,67000,"USD",{"$f":"tblSalaries[[#This Row],[clean Salary (in local currency)]]*VLOOKUP(tblSalaries[[#This Row],[Currency]],tblXrate[],2,FALSE)","v":67000},"Management Analyst","Analyst","USA",{"$f":"VLOOKUP(tblSalaries[[#This Row],[Where do you work]],tblCountries[[Actual]:[Mapping]],2,FALSE)","v":"USA"},"4 to 6 hours a day"]
[null,"ID0553","2012-05-26T05:46:42",111000,111000,"USD",{"$f":"tblSalaries[[#This Row],[clean Salary (in local currency)]]*VLOOKUP(tblSalaries[[#This Row],[Currency]],tblXrate[],2,FALSE)","v":111000},"Senior Financial Analyst","Analyst","Japan",{"$f":"VLOOKUP(tblSalaries[[#This Row],[Where do you work]],tblCountries[[Actual]:[Mapping]],2,FALSE)","v":"Japan"},"All the 8 hours baby, all the 8!"]
[null,"ID0554","2012-05-26T05:48:10",120000,120000,"USD",{"$f":"tblSalaries[[#This Row],[clean Salary (in local currency)]]*VLOOKUP(tblSalaries[[#This Row],[Currency]],tblXrate[],2,FALSE)","v":120000},"Director","CXO or Top Mgmt.","USA",{"$f":"VLOOKUP(tblSalaries[[#This Row],[Where do you work]],tblCountries[[Actual]:[Mapping]],2,FALSE)","v":"USA"},"4 to 6 hours a day"]
[null,"ID0555","2012-05-26T05:48:12","Â£20000",20000,"GBP",{"$f":"tblSalaries[[#This Row],[clean Salary (in local currency)]]*VLOOKUP(tblSalaries[[#This Row],[Currency]],tblXrate[],2,FALSE)","v":31523.565441345683},"IT Consultant","Consultant","UK",{"$f":"VLOOKUP(tblSalaries[[#This Row],[Where do you work]],tblCountries[[Actual]:[Mapping]],2,FALSE)","v":"UK"},"4 to 6 hours a day"]
[null,"ID0556","2012-05-26T05:50:21",77000,77000,"AUD",{"$f":"tblSalaries[[#This Row],[clean Salary (in local currency)]]*VLOOKUP(tblSalaries[[#This Row],[Currency]],tblXrate[],2,FALSE)","v":78533.043543002947},"Intelligence Analyst","Analyst","Australia",{"$f":"VLOOKUP(tblSalaries[[#This Row],[Where do you work]],tblCountries[[Actual]:[Mapping]],2,FALSE)","v":"Australia"},"2 to 3 hours per day"]
[null,"ID0557","2012-05-26T05:50:23",60000,60000,"USD",{"$f":"tblSalaries[[#This Row],[clean Salary (in local currency)]]*VLOOKUP(tblSalaries[[#This Row],[Currency]],tblXrate[],2,FALSE)","v":60000},"Marketing Specialist","Specialist","USA",{"$f":"VLOOKUP(tblSalaries[[#This Row],[Where do you work]],tblCountries[[Actual]:[Mapping]],2,FALSE)","v":"USA"},"1 or 2 hours a day"]
[null,"ID0558","2012-05-26T05:50:26",35000,35000,"USD",{"$f":"tblSalaries[[#This Row],[clean Salary (in local currency)]]*VLOOKUP(tblSalaries[[#This Row],[Currency]],tblXrate[],2,FALSE)","v":35000},"Analyst","Analyst","USA",{"$f":"VLOOKUP(tblSalaries[[#This Row],[Where do you work]],tblCountries[[Actual]:[Mapping]],2,FALSE)","v":"USA"},"2 to 3 hours per day"]
[null,"ID0559","2012-05-26T05:52:47",50000,50000,"EUR",{"$f":"tblSalaries[[#This Row],[clean Salary (in local currency)]]*VLOOKUP(tblSalaries[[#This Row],[Currency]],tblXrate[],2,FALSE)","v":63519.971949580387},"Proyect Manager","Manager","Panama",{"$f":"VLOOKUP(tblSalaries[[#This Row],[Where do you work]],tblCountries[[Actual]:[Mapping]],2,FALSE)","v":"Panama"},"2 to 3 hours per day"]
[null,"ID0560","2012-05-26T05:55:22",54000,54000,"USD",{"$f":"tblSalaries[[#This Row],[clean Salary (in local currency)]]*VLOOKUP(tblSalaries[[#This Row],[Currency]],tblXrate[],2,FALSE)","v":54000},"IT Specialist","Specialist","USA",{"$f":"VLOOKUP(tblSalaries[[#This Row],[Where do you work]],tblCountries[[Actual]:[Mapping]],2,FALSE)","v":"USA"},"All the 8 hours baby, all the 8!",5]
[null,"ID0561","2012-05-26T06:01:57",1300,15600,"USD",{"$f":"tblSalaries[[#This Row],[clean Salary (in local currency)]]*VLOOKUP(tblSalaries[[#This Row],[Currency]],tblXrate[],2,FALSE)","v":15600},"CONTROLLER","Controller","BRA",{"$f":"VLOOKUP(tblSalaries[[#This Row],[Where do you work]],tblCountries[[Actual]:[Mapping]],2,FALSE)","v":"Brazil"},"4 to 6 hours a day",20]
[null,"ID0562","2012-05-26T06:08:23",35000,35000,"USD",{"$f":"tblSalaries[[#This Row],[clean Salary (in local currency)]]*VLOOKUP(tblSalaries[[#This Row],[Currency]],tblXrate[],2,FALSE)","v":35000},"Technical Support Technician","Analyst","USA",{"$f":"VLOOKUP(tblSalaries[[#This Row],[Where do you work]],tblCountries[[Actual]:[Mapping]],2,FALSE)","v":"USA"},"1 or 2 hours a day",7]
[null,"ID0563","2012-05-26T06:10:08",188000,188000,"USD",{"$f":"tblSalaries[[#This Row],[clean Salary (in local currency)]]*VLOOKUP(tblSalaries[[#This Row],[Currency]],tblXrate[],2,FALSE)","v":188000},"Director, Supply Chain Operations","CXO or Top Mgmt.","USA",{"$f":"VLOOKUP(tblSalaries[[#This Row],[Where do you work]],tblCountries[[Actual]:[Mapping]],2,FALSE)","v":"USA"},"1 or 2 hours a day",20]
[null,"ID0564","2012-05-26T06:14:13",27500,27500,"USD",{"$f":"tblSalaries[[#This Row],[clean Salary (in local currency)]]*VLOOKUP(tblSalaries[[#This Row],[Currency]],tblXrate[],2,FALSE)","v":27500},"Associate","Analyst","USA",{"$f":"VLOOKUP(tblSalaries[[#This Row],[Where do you work]],tblCountries[[Actual]:[Mapping]],2,FALSE)","v":"USA"},"All the 8 hours baby, all the 8!",1]
[null,"ID0565","2012-05-26T06:20:38",140000,140000,"USD",{"$f":"tblSalaries[[#This Row],[clean Salary (in local currency)]]*VLOOKUP(tblSalaries[[#This Row],[Currency]],tblXrate[],2,FALSE)","v":140000},"controller","Controller","USA",{"$f":"VLOOKUP(tblSalaries[[#This Row],[Where do you work]],tblCountries[[Actual]:[Mapping]],2,FALSE)","v":"USA"},"2 to 3 hours per day",10]
[null,"ID0566","2012-05-26T06:24:03",55000,55000,"EUR",{"$f":"tblSalaries[[#This Row],[clean Salary (in local currency)]]*VLOOKUP(tblSalaries[[#This Row],[Currency]],tblXrate[],2,FALSE)","v":69871.969144538423},"Business analyst","Analyst","Netherlands",{"$f":"VLOOKUP(tblSalaries[[#This Row],[Where do you work]],tblCountries[[Actual]:[Mapping]],2,FALSE)","v":"Netherlands"},"All the 8 hours baby, all the 8!",6]
[null,"ID0567","2012-05-26T06:40:59",45000,45000,"USD",{"$f":"tblSalaries[[#This Row],[clean Salary (in local currency)]]*VLOOKUP(tblSalaries[[#This Row],[Currency]],tblXrate[],2,FALSE)","v":45000},"Workflow Analyst","Analyst","USA",{"$f":"VLOOKUP(tblSalaries[[#This Row],[Where do you work]],tblCountries[[Actual]:[Mapping]],2,FALSE)","v":"USA"},"4 to 6 hours a day",2]
[null,"ID0568","2012-05-26T06:46:03","95000 USD",95000,"USD",{"$f":"tblSalaries[[#This Row],[clean Salary (in local currency)]]*VLOOKUP(tblSalaries[[#This Row],[Currency]],tblXrate[],2,FALSE)","v":95000},"Business Analyst","Analyst","Australia",{"$f":"VLOOKUP(tblSalaries[[#This Row],[Where do you work]],tblCountries[[Actual]:[Mapping]],2,FALSE)","v":"Australia"},"2 to 3 hours per day",11]
[null,"ID0569","2012-05-26T06:47:00","AUD $155,000",155000,"AUD",{"$f":"tblSalaries[[#This Row],[clean Salary (in local currency)]]*VLOOKUP(tblSalaries[[#This Row],[Currency]],tblXrate[],2,FALSE)","v":158085.99674240855},"Finance Manager Business Services","Manager","Australia",{"$f":"VLOOKUP(tblSalaries[[#This Row],[Where do you work]],tblCountries[[Actual]:[Mapping]],2,FALSE)","v":"Australia"},"4 to 6 hours a day",20]
[null,"ID0570","2012-05-26T06:47:59","NZ $80,000",80000,"NZD",{"$f":"tblSalaries[[#This Row],[clean Salary (in local currency)]]*VLOOKUP(tblSalaries[[#This Row],[Currency]],tblXrate[],2,FALSE)","v":63807.047488395103},"Accountant/Analyst","Analyst","New Zealand",{"$f":"VLOOKUP(tblSalaries[[#This Row],[Where do you work]],tblCountries[[Actual]:[Mapping]],2,FALSE)","v":"New Zealand"},"4 to 6 hours a day",23]
[null,"ID0572","2012-05-26T06:50:23",38000,38000,"USD",{"$f":"tblSalaries[[#This Row],[clean Salary (in local currency)]]*VLOOKUP(tblSalaries[[#This Row],[Currency]],tblXrate[],2,FALSE)","v":38000},"Costing Analysis","Analyst","USA",{"$f":"VLOOKUP(tblSalaries[[#This Row],[Where do you work]],tblCountries[[Actual]:[Mapping]],2,FALSE)","v":"USA"},"All the 8 hours baby, all the 8!",11]
[null,"ID0573","2012-05-26T06:54:40",90000,90000,"USD",{"$f":"tblSalaries[[#This Row],[clean Salary (in local currency)]]*VLOOKUP(tblSalaries[[#This Row],[Currency]],tblXrate[],2,FALSE)","v":90000},"Sales Operations Supervisor","Manager","USA",{"$f":"VLOOKUP(tblSalaries[[#This Row],[Where do you work]],tblCountries[[Actual]:[Mapping]],2,FALSE)","v":"USA"},"4 to 6 hours a day",6]
[null,"ID0574","2012-05-26T06:57:09","Â£28800",28800,"GBP",{"$f":"tblSalaries[[#This Row],[clean Salary (in local currency)]]*VLOOKUP(tblSalaries[[#This Row],[Currency]],tblXrate[],2,FALSE)","v":45393.934235537781},"Finance Manager","Manager","UK",{"$f":"VLOOKUP(tblSalaries[[#This Row],[Where do you work]],tblCountries[[Actual]:[Mapping]],2,FALSE)","v":"UK"},"4 to 6 hours a day",27]
[null,"ID0575","2012-05-26T07:01:10","Â£21000",21000,"GBP",{"$f":"tblSalaries[[#This Row],[clean Salary (in local currency)]]*VLOOKUP(tblSalaries[[#This Row],[Currency]],tblXrate[],2,FALSE)","v":33099.743713412965},"Sales Analyst","Analyst","UK",{"$f":"VLOOKUP(tblSalaries[[#This Row],[Where do you work]],tblCountries[[Actual]:[Mapping]],2,FALSE)","v":"UK"},"All the 8 hours baby, all the 8!",10]
[null,"ID0576","2012-05-26T07:06:50","USD 4285.00",4285,"USD",{"$f":"tblSalaries[[#This Row],[clean Salary (in local currency)]]*VLOOKUP(tblSalaries[[#This Row],[Currency]],tblXrate[],2,FALSE)","v":4285},"Assistant","Analyst","India",{"$f":"VLOOKUP(tblSalaries[[#This Row],[Where do you work]],tblCountries[[Actual]:[Mapping]],2,FALSE)","v":"India"},"All the 8 hours baby, all the 8!",6]
[null,"ID0577","2012-05-26T07:14:02",6000,6000,"USD",{"$f":"tblSalaries[[#This Row],[clean Salary (in local currency)]]*VLOOKUP(tblSalaries[[#This Row],[Currency]],tblXrate[],2,FALSE)","v":6000},"In Charge","Manager","Guyana",{"$f":"VLOOKUP(tblSalaries[[#This Row],[Where do you work]],tblCountries[[Actual]:[Mapping]],2,FALSE)","v":"Guyana"},"1 or 2 hours a day",20]
[null,"ID0578","2012-05-26T07:15:48","$22,000 AUD",22000,"AUD",{"$f":"tblSalaries[[#This Row],[clean Salary (in local currency)]]*VLOOKUP(tblSalaries[[#This Row],[Currency]],tblXrate[],2,FALSE)","v":22438.012440857987},"Sales Analyst","Analyst","Australia",{"$f":"VLOOKUP(tblSalaries[[#This Row],[Where do you work]],tblCountries[[Actual]:[Mapping]],2,FALSE)","v":"Australia"},"4 to 6 hours a day",8]
[null,"ID0579","2012-05-26T07:18:57",90000,90000,"USD",{"$f":"tblSalaries[[#This Row],[clean Salary (in local currency)]]*VLOOKUP(tblSalaries[[#This Row],[Currency]],tblXrate[],2,FALSE)","v":90000},"Manager","Manager","USA",{"$f":"VLOOKUP(tblSalaries[[#This Row],[Where do you work]],tblCountries[[Actual]:[Mapping]],2,FALSE)","v":"USA"},"2 to 3 hours per day",15]
[null,"ID0580","2012-05-26T07:23:11",150000,150000,"USD",{"$f":"tblSalaries[[#This Row],[clean Salary (in local currency)]]*VLOOKUP(tblSalaries[[#This Row],[Currency]],tblXrate[],2,FALSE)","v":150000},"CFO","CXO or Top Mgmt.","USA",{"$f":"VLOOKUP(tblSalaries[[#This Row],[Where do you work]],tblCountries[[Actual]:[Mapping]],2,FALSE)","v":"USA"},"4 to 6 hours a day",22]
[null,"ID0581","2012-05-26T07:32:19",130000,130000,"AUD",{"$f":"tblSalaries[[#This Row],[clean Salary (in local currency)]]*VLOOKUP(tblSalaries[[#This Row],[Currency]],tblXrate[],2,FALSE)","v":132588.25533234264},"Accountant","Accountant","Australia",{"$f":"VLOOKUP(tblSalaries[[#This Row],[Where do you work]],tblCountries[[Actual]:[Mapping]],2,FALSE)","v":"Australia"},"2 to 3 hours per day",27]
[null,"ID0582","2012-05-26T07:36:23",45000,45000,"USD",{"$f":"tblSalaries[[#This Row],[clean Salary (in local currency)]]*VLOOKUP(tblSalaries[[#This Row],[Currency]],tblXrate[],2,FALSE)","v":45000},"business analyst","Analyst","USA",{"$f":"VLOOKUP(tblSalaries[[#This Row],[Where do you work]],tblCountries[[Actual]:[Mapping]],2,FALSE)","v":"USA"},"4 to 6 hours a day",3]
[null,"ID0583","2012-05-26T07:37:53",50000,50000,"USD",{"$f":"tblSalaries[[#This Row],[clean Salary (in local currency)]]*VLOOKUP(tblSalaries[[#This Row],[Currency]],tblXrate[],2,FALSE)","v":50000},"IT Specialist","Specialist","USA",{"$f":"VLOOKUP(tblSalaries[[#This Row],[Where do you work]],tblCountries[[Actual]:[Mapping]],2,FALSE)","v":"USA"},"2 to 3 hours per day",10]
[null,"ID0584","2012-05-26T07:44:04",300000,300000,"USD",{"$f":"tblSalaries[[#This Row],[clean Salary (in local currency)]]*VLOOKUP(tblSalaries[[#This Row],[Currency]],tblXrate[],2,FALSE)","v":300000},"CEO","CXO or Top Mgmt.","USA",{"$f":"VLOOKUP(tblSalaries[[#This Row],[Where do you work]],tblCountries[[Actual]:[Mapping]],2,FALSE)","v":"USA"},"2 to 3 hours per day",30]
[null,"ID0585","2012-05-26T07:48:29",102000,102000,"AUD",{"$f":"tblSalaries[[#This Row],[clean Salary (in local currency)]]*VLOOKUP(tblSalaries[[#This Row],[Currency]],tblXrate[],2,FALSE)","v":104030.78495306884},"coordinator lismore regional airport","Manager","Australia",{"$f":"VLOOKUP(tblSalaries[[#This Row],[Where do you work]],tblCountries[[Actual]:[Mapping]],2,FALSE)","v":"Australia"},"1 or 2 hours a day",10]
[null,"ID0586","2012-05-26T07:50:50",115000,115000,"USD",{"$f":"tblSalaries[[#This Row],[clean Salary (in local currency)]]*VLOOKUP(tblSalaries[[#This Row],[Currency]],tblXrate[],2,FALSE)","v":115000},"Mgr Op Excellence","Manager","USA",{"$f":"VLOOKUP(tblSalaries[[#This Row],[Where do you work]],tblCountries[[Actual]:[Mapping]],2,FALSE)","v":"USA"},"4 to 6 hours a day",15]
[null,"ID0587","2012-05-26T07:53:13",70000,70000,"USD",{"$f":"tblSalaries[[#This Row],[clean Salary (in local currency)]]*VLOOKUP(tblSalaries[[#This Row],[Currency]],tblXrate[],2,FALSE)","v":70000},"Financial Analyst","Analyst","USA",{"$f":"VLOOKUP(tblSalaries[[#This Row],[Where do you work]],tblCountries[[Actual]:[Mapping]],2,FALSE)","v":"USA"},"4 to 6 hours a day",3]
[null,"ID0588","2012-05-26T07:57:04",106000,106000,"AUD",{"$f":"tblSalaries[[#This Row],[clean Salary (in local currency)]]*VLOOKUP(tblSalaries[[#This Row],[Currency]],tblXrate[],2,FALSE)","v":108110.42357867939},"Pricing and Strategy Specialist","Specialist","Australia",{"$f":"VLOOKUP(tblSalaries[[#This Row],[Where do you work]],tblCountries[[Actual]:[Mapping]],2,FALSE)","v":"Australia"},"4 to 6 hours a day",16]
[null,"ID0589","2012-05-26T08:01:44",75000,75000,"USD",{"$f":"tblSalaries[[#This Row],[clean Salary (in local currency)]]*VLOOKUP(tblSalaries[[#This Row],[Currency]],tblXrate[],2,FALSE)","v":75000},"Sr. Human Resources Analyst","Analyst","USA",{"$f":"VLOOKUP(tblSalaries[[#This Row],[Where do you work]],tblCountries[[Actual]:[Mapping]],2,FALSE)","v":"USA"},"2 to 3 hours per day",25]
[null,"ID0590","2012-05-26T08:05:23",40414,40414,"USD",{"$f":"tblSalaries[[#This Row],[clean Salary (in local currency)]]*VLOOKUP(tblSalaries[[#This Row],[Currency]],tblXrate[],2,FALSE)","v":40414},"Performance Improvement Analyst","Analyst","USA",{"$f":"VLOOKUP(tblSalaries[[#This Row],[Where do you work]],tblCountries[[Actual]:[Mapping]],2,FALSE)","v":"USA"},"4 to 6 hours a day",8]
[null,"ID0591","2012-05-26T08:05:39",65000,65000,"USD",{"$f":"tblSalaries[[#This Row],[clean Salary (in local currency)]]*VLOOKUP(tblSalaries[[#This Row],[Currency]],tblXrate[],2,FALSE)","v":65000},"Data Analyst","Analyst","USA",{"$f":"VLOOKUP(tblSalaries[[#This Row],[Where do you work]],tblCountries[[Actual]:[Mapping]],2,FALSE)","v":"USA"},"4 to 6 hours a day",3]
[null,"ID0592","2012-05-26T08:08:43",120000,120000,"USD",{"$f":"tblSalaries[[#This Row],[clean Salary (in local currency)]]*VLOOKUP(tblSalaries[[#This Row],[Currency]],tblXrate[],2,FALSE)","v":120000},"Sr. Analyst","Analyst","USA",{"$f":"VLOOKUP(tblSalaries[[#This Row],[Where do you work]],tblCountries[[Actual]:[Mapping]],2,FALSE)","v":"USA"},"All the 8 hours baby, all the 8!",7]
[null,"ID0593","2012-05-26T08:10:43",8000,96000,"CNY",{"$f":"tblSalaries[[#This Row],[clean Salary (in local currency)]]*VLOOKUP(tblSalaries[[#This Row],[Currency]],tblXrate[],2,FALSE)","v":15092.18020692008},"finance","Accountant","china",{"$f":"VLOOKUP(tblSalaries[[#This Row],[Where do you work]],tblCountries[[Actual]:[Mapping]],2,FALSE)","v":"China"},"4 to 6 hours a day",10]
[null,"ID0594","2012-05-26T08:17:53","$36 000",36000,"USD",{"$f":"tblSalaries[[#This Row],[clean Salary (in local currency)]]*VLOOKUP(tblSalaries[[#This Row],[Currency]],tblXrate[],2,FALSE)","v":36000},"Consulting","Consultant","Russia",{"$f":"VLOOKUP(tblSalaries[[#This Row],[Where do you work]],tblCountries[[Actual]:[Mapping]],2,FALSE)","v":"Russia"},"All the 8 hours baby, all the 8!",10]
[null,"ID0595","2012-05-26T08:30:00","â‚¬ 50000",50000,"EUR",{"$f":"tblSalaries[[#This Row],[clean Salary (in local currency)]]*VLOOKUP(tblSalaries[[#This Row],[Currency]],tblXrate[],2,FALSE)","v":63519.971949580387},"Analyst","Analyst","Germany",{"$f":"VLOOKUP(tblSalaries[[#This Row],[Where do you work]],tblCountries[[Actual]:[Mapping]],2,FALSE)","v":"Germany"},"2 to 3 hours per day",4]
[null,"ID0596","2012-05-26T08:43:07",108000,108000,"USD",{"$f":"tblSalaries[[#This Row],[clean Salary (in local currency)]]*VLOOKUP(tblSalaries[[#This Row],[Currency]],tblXrate[],2,FALSE)","v":108000},"Technology consultant ","Consultant","USA",{"$f":"VLOOKUP(tblSalaries[[#This Row],[Where do you work]],tblCountries[[Actual]:[Mapping]],2,FALSE)","v":"USA"},"2 to 3 hours per day",7]
[null,"ID0597","2012-05-26T08:45:34",75000,75000,"USD",{"$f":"tblSalaries[[#This Row],[clean Salary (in local currency)]]*VLOOKUP(tblSalaries[[#This Row],[Currency]],tblXrate[],2,FALSE)","v":75000},"Financial Analyst","Analyst","USA",{"$f":"VLOOKUP(tblSalaries[[#This Row],[Where do you work]],tblCountries[[Actual]:[Mapping]],2,FALSE)","v":"USA"},"4 to 6 hours a day",5]
[null,"ID0598","2012-05-26T08:51:04","4,00,000",400000,"INR",{"$f":"tblSalaries[[#This Row],[clean Salary (in local currency)]]*VLOOKUP(tblSalaries[[#This Row],[Currency]],tblXrate[],2,FALSE)","v":7123.1666749770275},"BPO","Manager","India",{"$f":"VLOOKUP(tblSalaries[[#This Row],[Where do you work]],tblCountries[[Actual]:[Mapping]],2,FALSE)","v":"India"},"1 or 2 hours a day",3]
[null,"ID0599","2012-05-26T08:52:00",50000,50000,"USD",{"$f":"tblSalaries[[#This Row],[clean Salary (in local currency)]]*VLOOKUP(tblSalaries[[#This Row],[Currency]],tblXrate[],2,FALSE)","v":50000},"General manager","Manager","India",{"$f":"VLOOKUP(tblSalaries[[#This Row],[Where do you work]],tblCountries[[Actual]:[Mapping]],2,FALSE)","v":"India"},"1 or 2 hours a day",25]
[null,"ID0600","2012-05-26T08:55:12",45000,45000,"USD",{"$f":"tblSalaries[[#This Row],[clean Salary (in local currency)]]*VLOOKUP(tblSalaries[[#This Row],[Currency]],tblXrate[],2,FALSE)","v":45000},"Technical Analyst","Analyst","USA",{"$f":"VLOOKUP(tblSalaries[[#This Row],[Where do you work]],tblCountries[[Actual]:[Mapping]],2,FALSE)","v":"USA"},"4 to 6 hours a day",15]
[null,"ID0601","2012-05-26T08:55:17",45000,45000,"USD",{"$f":"tblSalaries[[#This Row],[clean Salary (in local currency)]]*VLOOKUP(tblSalaries[[#This Row],[Currency]],tblXrate[],2,FALSE)","v":45000},"Head Accounts","Accountant","USA",{"$f":"VLOOKUP(tblSalaries[[#This Row],[Where do you work]],tblCountries[[Actual]:[Mapping]],2,FALSE)","v":"USA"},"4 to 6 hours a day",7]
[null,"ID0602","2012-05-26T08:56:13","90 k",90000,"USD",{"$f":"tblSalaries[[#This Row],[clean Salary (in local currency)]]*VLOOKUP(tblSalaries[[#This Row],[Currency]],tblXrate[],2,FALSE)","v":90000},"Operations","Manager","USA",{"$f":"VLOOKUP(tblSalaries[[#This Row],[Where do you work]],tblCountries[[Actual]:[Mapping]],2,FALSE)","v":"USA"},"2 to 3 hours per day",20]
[null,"ID0603","2012-05-26T08:58:55","Rs. 20000",240000,"INR",{"$f":"tblSalaries[[#This Row],[clean Salary (in local currency)]]*VLOOKUP(tblSalaries[[#This Row],[Currency]],tblXrate[],2,FALSE)","v":4273.9000049862161},"Talati","Analyst","India",{"$f":"VLOOKUP(tblSalaries[[#This Row],[Where do you work]],tblCountries[[Actual]:[Mapping]],2,FALSE)","v":"India"},"2 to 3 hours per day",5]
[null,"ID0604","2012-05-26T09:28:32",50000,50000,"USD",{"$f":"tblSalaries[[#This Row],[clean Salary (in local currency)]]*VLOOKUP(tblSalaries[[#This Row],[Currency]],tblXrate[],2,FALSE)","v":50000},"Product manager","Manager","India",{"$f":"VLOOKUP(tblSalaries[[#This Row],[Where do you work]],tblCountries[[Actual]:[Mapping]],2,FALSE)","v":"India"},"1 or 2 hours a day",10]
[null,"ID0605","2012-05-26T09:28:50",65000,65000,"USD",{"$f":"tblSalaries[[#This Row],[clean Salary (in local currency)]]*VLOOKUP(tblSalaries[[#This Row],[Currency]],tblXrate[],2,FALSE)","v":65000},"Helicopter Mechanic","Analyst","USA",{"$f":"VLOOKUP(tblSalaries[[#This Row],[Where do you work]],tblCountries[[Actual]:[Mapping]],2,FALSE)","v":"USA"},"2 to 3 hours per day",17]
[null,"ID0606","2012-05-26T09:36:28",70000,70000,"USD",{"$f":"tblSalaries[[#This Row],[clean Salary (in local currency)]]*VLOOKUP(tblSalaries[[#This Row],[Currency]],tblXrate[],2,FALSE)","v":70000},"Program/Mgt Analyst","Analyst","USA",{"$f":"VLOOKUP(tblSalaries[[#This Row],[Where do you work]],tblCountries[[Actual]:[Mapping]],2,FALSE)","v":"USA"},"2 to 3 hours per day",18]
[null,"ID0608","2012-05-26T09:51:47",160000,160000,"USD",{"$f":"tblSalaries[[#This Row],[clean Salary (in local currency)]]*VLOOKUP(tblSalaries[[#This Row],[Currency]],tblXrate[],2,FALSE)","v":160000},"Director, Analytics","Analyst","USA",{"$f":"VLOOKUP(tblSalaries[[#This Row],[Where do you work]],tblCountries[[Actual]:[Mapping]],2,FALSE)","v":"USA"},"4 to 6 hours a day",5]
[null,"ID0609","2012-05-26T09:52:22",100000,100000,"AUD",{"$f":"tblSalaries[[#This Row],[clean Salary (in local currency)]]*VLOOKUP(tblSalaries[[#This Row],[Currency]],tblXrate[],2,FALSE)","v":101990.96564026357},"Purchasing Manager","Manager","Australia",{"$f":"VLOOKUP(tblSalaries[[#This Row],[Where do you work]],tblCountries[[Actual]:[Mapping]],2,FALSE)","v":"Australia"},"2 to 3 hours per day",20]
[null,"ID0611","2012-05-26T10:01:28",380000,380000,"INR",{"$f":"tblSalaries[[#This Row],[clean Salary (in local currency)]]*VLOOKUP(tblSalaries[[#This Row],[Currency]],tblXrate[],2,FALSE)","v":6767.0083412281756},"Incharge","Manager","India",{"$f":"VLOOKUP(tblSalaries[[#This Row],[Where do you work]],tblCountries[[Actual]:[Mapping]],2,FALSE)","v":"India"},"4 to 6 hours a day",10]
[null,"ID0612","2012-05-26T10:20:35",30000,30000,"USD",{"$f":"tblSalaries[[#This Row],[clean Salary (in local currency)]]*VLOOKUP(tblSalaries[[#This Row],[Currency]],tblXrate[],2,FALSE)","v":30000},"Sales Assistant","Analyst","USA",{"$f":"VLOOKUP(tblSalaries[[#This Row],[Where do you work]],tblCountries[[Actual]:[Mapping]],2,FALSE)","v":"USA"},"2 to 3 hours per day",8]
[null,"ID0613","2012-05-26T10:22:45","INR 420000",420000,"INR",{"$f":"tblSalaries[[#This Row],[clean Salary (in local currency)]]*VLOOKUP(tblSalaries[[#This Row],[Currency]],tblXrate[],2,FALSE)","v":7479.3250087258784},"Assistant EDP","Analyst","India",{"$f":"VLOOKUP(tblSalaries[[#This Row],[Where do you work]],tblCountries[[Actual]:[Mapping]],2,FALSE)","v":"India"},"4 to 6 hours a day",3]
[null,"ID0614","2012-05-26T10:31:42",61000,61000,"USD",{"$f":"tblSalaries[[#This Row],[clean Salary (in local currency)]]*VLOOKUP(tblSalaries[[#This Row],[Currency]],tblXrate[],2,FALSE)","v":61000},"Sales ops","Manager","USA",{"$f":"VLOOKUP(tblSalaries[[#This Row],[Where do you work]],tblCountries[[Actual]:[Mapping]],2,FALSE)","v":"USA"},"4 to 6 hours a day",5]
[null,"ID0615","2012-05-26T10:32:07","1150 $",13800,"USD",{"$f":"tblSalaries[[#This Row],[clean Salary (in local currency)]]*VLOOKUP(tblSalaries[[#This Row],[Currency]],tblXrate[],2,FALSE)","v":13800},"QS","Controller","Sri Lanka",{"$f":"VLOOKUP(tblSalaries[[#This Row],[Where do you work]],tblCountries[[Actual]:[Mapping]],2,FALSE)","v":"Sri Lanka"},"4 to 6 hours a day",20]
[null,"ID0616","2012-05-26T10:41:11","INR 850,000",850000,"INR",{"$f":"tblSalaries[[#This Row],[clean Salary (in local currency)]]*VLOOKUP(tblSalaries[[#This Row],[Currency]],tblXrate[],2,FALSE)","v":15136.729184326183},"Sales Analyst","Analyst","India",{"$f":"VLOOKUP(tblSalaries[[#This Row],[Where do you work]],tblCountries[[Actual]:[Mapping]],2,FALSE)","v":"India"},"4 to 6 hours a day",6]
[null,"ID0617","2012-05-26T10:43:53",1800000,1800000,"INR",{"$f":"tblSalaries[[#This Row],[clean Salary (in local currency)]]*VLOOKUP(tblSalaries[[#This Row],[Currency]],tblXrate[],2,FALSE)","v":32054.250037396621},"AGM Finance","Manager","India",{"$f":"VLOOKUP(tblSalaries[[#This Row],[Where do you work]],tblCountries[[Actual]:[Mapping]],2,FALSE)","v":"India"},"2 to 3 hours per day",10]
[null,"ID0618","2012-05-26T10:51:05",80000,80000,"USD",{"$f":"tblSalaries[[#This Row],[clean Salary (in local currency)]]*VLOOKUP(tblSalaries[[#This Row],[Currency]],tblXrate[],2,FALSE)","v":80000},"Sales Controller","Controller","USA",{"$f":"VLOOKUP(tblSalaries[[#This Row],[Where do you work]],tblCountries[[Actual]:[Mapping]],2,FALSE)","v":"USA"},"4 to 6 hours a day",15]
[null,"ID0619","2012-05-26T10:54:22",21000,21000,"USD",{"$f":"tblSalaries[[#This Row],[clean Salary (in local currency)]]*VLOOKUP(tblSalaries[[#This Row],[Currency]],tblXrate[],2,FALSE)","v":21000},"Manager","Manager","India",{"$f":"VLOOKUP(tblSalaries[[#This Row],[Where do you work]],tblCountries[[Actual]:[Mapping]],2,FALSE)","v":"India"},"All the 8 hours baby, all the 8!",23]
[null,"ID0620","2012-05-26T10:59:10",250000,250000,"CAD",{"$f":"tblSalaries[[#This Row],[clean Salary (in local currency)]]*VLOOKUP(tblSalaries[[#This Row],[Currency]],tblXrate[],2,FALSE)","v":245840.3807575817},"Business Analyst","Analyst","Canada",{"$f":"VLOOKUP(tblSalaries[[#This Row],[Where do you work]],tblCountries[[Actual]:[Mapping]],2,FALSE)","v":"Canada"},"4 to 6 hours a day",32]
[null,"ID0621","2012-05-26T10:59:39","1 lakh 60 thousand INR/Year",160000,"INR",{"$f":"tblSalaries[[#This Row],[clean Salary (in local currency)]]*VLOOKUP(tblSalaries[[#This Row],[Currency]],tblXrate[],2,FALSE)","v":2849.2666699908109},"MIS Executive","Reporting","India",{"$f":"VLOOKUP(tblSalaries[[#This Row],[Where do you work]],tblCountries[[Actual]:[Mapping]],2,FALSE)","v":"India"},"All the 8 hours baby, all the 8!",3]
[null,"ID0622","2012-05-26T11:01:56",700,8400,"USD",{"$f":"tblSalaries[[#This Row],[clean Salary (in local currency)]]*VLOOKUP(tblSalaries[[#This Row],[Currency]],tblXrate[],2,FALSE)","v":8400},"SYSTEM MANAGER","Manager","India",{"$f":"VLOOKUP(tblSalaries[[#This Row],[Where do you work]],tblCountries[[Actual]:[Mapping]],2,FALSE)","v":"India"},"All the 8 hours baby, all the 8!",26]
[null,"ID0623","2012-05-26T11:03:02","A$85000",85000,"AUD",{"$f":"tblSalaries[[#This Row],[clean Salary (in local currency)]]*VLOOKUP(tblSalaries[[#This Row],[Currency]],tblXrate[],2,FALSE)","v":86692.320794224041},"Trainer","Consultant","Australia",{"$f":"VLOOKUP(tblSalaries[[#This Row],[Where do you work]],tblCountries[[Actual]:[Mapping]],2,FALSE)","v":"Australia"},"1 or 2 hours a day",20]
[null,"ID0624","2012-05-26T11:03:06",50000,50000,"USD",{"$f":"tblSalaries[[#This Row],[clean Salary (in local currency)]]*VLOOKUP(tblSalaries[[#This Row],[Currency]],tblXrate[],2,FALSE)","v":50000},"Project coordinator","Manager","USA",{"$f":"VLOOKUP(tblSalaries[[#This Row],[Where do you work]],tblCountries[[Actual]:[Mapping]],2,FALSE)","v":"USA"},"4 to 6 hours a day",20]
[null,"ID0625","2012-05-26T11:03:48",4000,4000,"USD",{"$f":"tblSalaries[[#This Row],[clean Salary (in local currency)]]*VLOOKUP(tblSalaries[[#This Row],[Currency]],tblXrate[],2,FALSE)","v":4000},"MIS Executive","Reporting","India",{"$f":"VLOOKUP(tblSalaries[[#This Row],[Where do you work]],tblCountries[[Actual]:[Mapping]],2,FALSE)","v":"India"},"All the 8 hours baby, all the 8!",6]
[null,"ID0626","2012-05-26T11:05:45",100000,100000,"AUD",{"$f":"tblSalaries[[#This Row],[clean Salary (in local currency)]]*VLOOKUP(tblSalaries[[#This Row],[Currency]],tblXrate[],2,FALSE)","v":101990.96564026357},"Business Analyst","Analyst","Australia",{"$f":"VLOOKUP(tblSalaries[[#This Row],[Where do you work]],tblCountries[[Actual]:[Mapping]],2,FALSE)","v":"Australia"},"All the 8 hours baby, all the 8!",1]
[null,"ID0627","2012-05-26T11:05:58",95000,95000,"USD",{"$f":"tblSalaries[[#This Row],[clean Salary (in local currency)]]*VLOOKUP(tblSalaries[[#This Row],[Currency]],tblXrate[],2,FALSE)","v":95000},"Program Manager","Manager","USA",{"$f":"VLOOKUP(tblSalaries[[#This Row],[Where do you work]],tblCountries[[Actual]:[Mapping]],2,FALSE)","v":"USA"},"1 or 2 hours a day",10]
[null,"ID0628","2012-05-26T11:07:01",10000,10000,"USD",{"$f":"tblSalaries[[#This Row],[clean Salary (in local currency)]]*VLOOKUP(tblSalaries[[#This Row],[Currency]],tblXrate[],2,FALSE)","v":10000},"executive","Manager","Indonesia",{"$f":"VLOOKUP(tblSalaries[[#This Row],[Where do you work]],tblCountries[[Actual]:[Mapping]],2,FALSE)","v":"Indonesia"},"2 to 3 hours per day",5]
[null,"ID0629","2012-05-26T11:09:27",4200,4200,"USD",{"$f":"tblSalaries[[#This Row],[clean Salary (in local currency)]]*VLOOKUP(tblSalaries[[#This Row],[Currency]],tblXrate[],2,FALSE)","v":4200},"MIS Executive","Reporting","India",{"$f":"VLOOKUP(tblSalaries[[#This Row],[Where do you work]],tblCountries[[Actual]:[Mapping]],2,FALSE)","v":"India"},"All the 8 hours baby, all the 8!",4]
[null,"ID0630","2012-05-26T11:10:23","Rs60000",720000,"INR",{"$f":"tblSalaries[[#This Row],[clean Salary (in local currency)]]*VLOOKUP(tblSalaries[[#This Row],[Currency]],tblXrate[],2,FALSE)","v":12821.700014958649},"Quantity Surveyor","Manager","India",{"$f":"VLOOKUP(tblSalaries[[#This Row],[Where do you work]],tblCountries[[Actual]:[Mapping]],2,FALSE)","v":"India"},"4 to 6 hours a day",12]
[null,"ID0631","2012-05-26T11:17:56",39000,39000,"USD",{"$f":"tblSalaries[[#This Row],[clean Salary (in local currency)]]*VLOOKUP(tblSalaries[[#This Row],[Currency]],tblXrate[],2,FALSE)","v":39000},"Content Analyst ","Analyst","USA",{"$f":"VLOOKUP(tblSalaries[[#This Row],[Where do you work]],tblCountries[[Actual]:[Mapping]],2,FALSE)","v":"USA"},"All the 8 hours baby, all the 8!",3]
[null,"ID0632","2012-05-26T11:26:46",60000,60000,"USD",{"$f":"tblSalaries[[#This Row],[clean Salary (in local currency)]]*VLOOKUP(tblSalaries[[#This Row],[Currency]],tblXrate[],2,FALSE)","v":60000},"business analyst","Analyst","USA",{"$f":"VLOOKUP(tblSalaries[[#This Row],[Where do you work]],tblCountries[[Actual]:[Mapping]],2,FALSE)","v":"USA"},"4 to 6 hours a day",12]
[null,"ID0633","2012-05-26T11:30:39","A$170000",170000,"AUD",{"$f":"tblSalaries[[#This Row],[clean Salary (in local currency)]]*VLOOKUP(tblSalaries[[#This Row],[Currency]],tblXrate[],2,FALSE)","v":173384.64158844808},"senior business analyst","Analyst","Australia",{"$f":"VLOOKUP(tblSalaries[[#This Row],[Where do you work]],tblCountries[[Actual]:[Mapping]],2,FALSE)","v":"Australia"},"All the 8 hours baby, all the 8!",10]
[null,"ID0634","2012-05-26T11:31:08",125000,125000,"USD",{"$f":"tblSalaries[[#This Row],[clean Salary (in local currency)]]*VLOOKUP(tblSalaries[[#This Row],[Currency]],tblXrate[],2,FALSE)","v":125000},"Analyst","Analyst","USA",{"$f":"VLOOKUP(tblSalaries[[#This Row],[Where do you work]],tblCountries[[Actual]:[Mapping]],2,FALSE)","v":"USA"},"2 to 3 hours per day",20]
[null,"ID0635","2012-05-26T11:31:52",78000,78000,"AUD",{"$f":"tblSalaries[[#This Row],[clean Salary (in local currency)]]*VLOOKUP(tblSalaries[[#This Row],[Currency]],tblXrate[],2,FALSE)","v":79552.953199405587},"Corporate Accountant","Accountant","Australia",{"$f":"VLOOKUP(tblSalaries[[#This Row],[Where do you work]],tblCountries[[Actual]:[Mapping]],2,FALSE)","v":"Australia"},"All the 8 hours baby, all the 8!",4]
[null,"ID0636","2012-05-26T11:36:04","Rs. 200000",200000,"INR",{"$f":"tblSalaries[[#This Row],[clean Salary (in local currency)]]*VLOOKUP(tblSalaries[[#This Row],[Currency]],tblXrate[],2,FALSE)","v":3561.5833374885137},"Auditor","Accountant","India",{"$f":"VLOOKUP(tblSalaries[[#This Row],[Where do you work]],tblCountries[[Actual]:[Mapping]],2,FALSE)","v":"India"},"4 to 6 hours a day",3]
[null,"ID0637","2012-05-26T11:37:26",80000,80000,"USD",{"$f":"tblSalaries[[#This Row],[clean Salary (in local currency)]]*VLOOKUP(tblSalaries[[#This Row],[Currency]],tblXrate[],2,FALSE)","v":80000},"program coordinator - automotive","Manager","USA",{"$f":"VLOOKUP(tblSalaries[[#This Row],[Where do you work]],tblCountries[[Actual]:[Mapping]],2,FALSE)","v":"USA"},"4 to 6 hours a day",8]
[null,"ID0638","2012-05-26T11:37:53",600000,600000,"INR",{"$f":"tblSalaries[[#This Row],[clean Salary (in local currency)]]*VLOOKUP(tblSalaries[[#This Row],[Currency]],tblXrate[],2,FALSE)","v":10684.750012465542},"Financial Analyst","Analyst","India",{"$f":"VLOOKUP(tblSalaries[[#This Row],[Where do you work]],tblCountries[[Actual]:[Mapping]],2,FALSE)","v":"India"},"2 to 3 hours per day",3]
[null,"ID0639","2012-05-26T11:39:48","Rs 300000",300000,"INR",{"$f":"tblSalaries[[#This Row],[clean Salary (in local currency)]]*VLOOKUP(tblSalaries[[#This Row],[Currency]],tblXrate[],2,FALSE)","v":5342.3750062327708},"Planning Engineer","Engineer","India",{"$f":"VLOOKUP(tblSalaries[[#This Row],[Where do you work]],tblCountries[[Actual]:[Mapping]],2,FALSE)","v":"India"},"All the 8 hours baby, all the 8!",2]
[null,"ID0640","2012-05-26T11:40:34","4000000 INR",4000000,"INR",{"$f":"tblSalaries[[#This Row],[clean Salary (in local currency)]]*VLOOKUP(tblSalaries[[#This Row],[Currency]],tblXrate[],2,FALSE)","v":71231.666749770273},"Senior Executive","Manager","India",{"$f":"VLOOKUP(tblSalaries[[#This Row],[Where do you work]],tblCountries[[Actual]:[Mapping]],2,FALSE)","v":"India"},"4 to 6 hours a day",1.5]
[null,"ID0641","2012-05-26T11:45:37","4500000 inr/pa",4500000,"INR",{"$f":"tblSalaries[[#This Row],[clean Salary (in local currency)]]*VLOOKUP(tblSalaries[[#This Row],[Currency]],tblXrate[],2,FALSE)","v":80135.625093491559},"cmo","CXO or Top Mgmt.","India",{"$f":"VLOOKUP(tblSalaries[[#This Row],[Where do you work]],tblCountries[[Actual]:[Mapping]],2,FALSE)","v":"India"},"1 or 2 hours a day",6]
[null,"ID0642","2012-05-26T11:46:20",55000,55000,"CAD",{"$f":"tblSalaries[[#This Row],[clean Salary (in local currency)]]*VLOOKUP(tblSalaries[[#This Row],[Currency]],tblXrate[],2,FALSE)","v":54084.883766667976},"Project coordinator","Manager","Canada",{"$f":"VLOOKUP(tblSalaries[[#This Row],[Where do you work]],tblCountries[[Actual]:[Mapping]],2,FALSE)","v":"Canada"},"4 to 6 hours a day",5]
[null,"ID0643","2012-05-26T11:47:18",53000,53000,"USD",{"$f":"tblSalaries[[#This Row],[clean Salary (in local currency)]]*VLOOKUP(tblSalaries[[#This Row],[Currency]],tblXrate[],2,FALSE)","v":53000},"Financial Analyst","Analyst","USA",{"$f":"VLOOKUP(tblSalaries[[#This Row],[Where do you work]],tblCountries[[Actual]:[Mapping]],2,FALSE)","v":"USA"},"4 to 6 hours a day",30]
[null,"ID0644","2012-05-26T11:47:38","25000 INR",300000,"INR",{"$f":"tblSalaries[[#This Row],[clean Salary (in local currency)]]*VLOOKUP(tblSalaries[[#This Row],[Currency]],tblXrate[],2,FALSE)","v":5342.3750062327708},"MIS","Reporting","India",{"$f":"VLOOKUP(tblSalaries[[#This Row],[Where do you work]],tblCountries[[Actual]:[Mapping]],2,FALSE)","v":"India"},"4 to 6 hours a day",1]
[null,"ID0645","2012-05-26T11:50:03","Rs 4,00,000",400000,"INR",{"$f":"tblSalaries[[#This Row],[clean Salary (in local currency)]]*VLOOKUP(tblSalaries[[#This Row],[Currency]],tblXrate[],2,FALSE)","v":7123.1666749770275},"Sr Processor","Manager","India",{"$f":"VLOOKUP(tblSalaries[[#This Row],[Where do you work]],tblCountries[[Actual]:[Mapping]],2,FALSE)","v":"India"},"1 or 2 hours a day",5]
[null,"ID0646","2012-05-26T11:50:34","6,00,000",600000,"INR",{"$f":"tblSalaries[[#This Row],[clean Salary (in local currency)]]*VLOOKUP(tblSalaries[[#This Row],[Currency]],tblXrate[],2,FALSE)","v":10684.750012465542},"Organiser","Manager","India",{"$f":"VLOOKUP(tblSalaries[[#This Row],[Where do you work]],tblCountries[[Actual]:[Mapping]],2,FALSE)","v":"India"},"4 to 6 hours a day",11]
[null,"ID0647","2012-05-26T11:55:17",4000,4000,"USD",{"$f":"tblSalaries[[#This Row],[clean Salary (in local currency)]]*VLOOKUP(tblSalaries[[#This Row],[Currency]],tblXrate[],2,FALSE)","v":4000},"MIS Executive","Reporting","India",{"$f":"VLOOKUP(tblSalaries[[#This Row],[Where do you work]],tblCountries[[Actual]:[Mapping]],2,FALSE)","v":"India"},"All the 8 hours baby, all the 8!",4]
[null,"ID0648","2012-05-26T11:58:23",8000,8000,"USD",{"$f":"tblSalaries[[#This Row],[clean Salary (in local currency)]]*VLOOKUP(tblSalaries[[#This Row],[Currency]],tblXrate[],2,FALSE)","v":8000},"Quality officer","Manager","bangkok",{"$f":"VLOOKUP(tblSalaries[[#This Row],[Where do you work]],tblCountries[[Actual]:[Mapping]],2,FALSE)","v":"Thailand"},"All the 8 hours baby, all the 8!",1]
[null,"ID0649","2012-05-26T12:05:35",150000,150000,"INR",{"$f":"tblSalaries[[#This Row],[clean Salary (in local currency)]]*VLOOKUP(tblSalaries[[#This Row],[Currency]],tblXrate[],2,FALSE)","v":2671.1875031163854},"Executive","Manager","India",{"$f":"VLOOKUP(tblSalaries[[#This Row],[Where do you work]],tblCountries[[Actual]:[Mapping]],2,FALSE)","v":"India"},"2 to 3 hours per day",5]
[null,"ID0650","2012-05-26T12:14:07","Rs 800000",800000,"INR",{"$f":"tblSalaries[[#This Row],[clean Salary (in local currency)]]*VLOOKUP(tblSalaries[[#This Row],[Currency]],tblXrate[],2,FALSE)","v":14246.333349954055},"Engineer","Engineer","India",{"$f":"VLOOKUP(tblSalaries[[#This Row],[Where do you work]],tblCountries[[Actual]:[Mapping]],2,FALSE)","v":"India"},"2 to 3 hours per day",3]
[null,"ID0651","2012-05-26T12:17:01",480000,480000,"INR",{"$f":"tblSalaries[[#This Row],[clean Salary (in local currency)]]*VLOOKUP(tblSalaries[[#This Row],[Currency]],tblXrate[],2,FALSE)","v":8547.8000099724322},"BI Consultant","Reporting","India",{"$f":"VLOOKUP(tblSalaries[[#This Row],[Where do you work]],tblCountries[[Actual]:[Mapping]],2,FALSE)","v":"India"},"1 or 2 hours a day",3]
[null,"ID0652","2012-05-26T12:19:47","Rs. 4.32 Lakhs",432000,"INR",{"$f":"tblSalaries[[#This Row],[clean Salary (in local currency)]]*VLOOKUP(tblSalaries[[#This Row],[Currency]],tblXrate[],2,FALSE)","v":7693.0200089751897},"Assistant Manager - IT","Manager","India",{"$f":"VLOOKUP(tblSalaries[[#This Row],[Where do you work]],tblCountries[[Actual]:[Mapping]],2,FALSE)","v":"India"},"2 to 3 hours per day",5]
[null,"ID0653","2012-05-26T12:19:53",4000,4000,"USD",{"$f":"tblSalaries[[#This Row],[clean Salary (in local currency)]]*VLOOKUP(tblSalaries[[#This Row],[Currency]],tblXrate[],2,FALSE)","v":4000},"Coordinator","Manager","India",{"$f":"VLOOKUP(tblSalaries[[#This Row],[Where do you work]],tblCountries[[Actual]:[Mapping]],2,FALSE)","v":"India"},"All the 8 hours baby, all the 8!",8]
[null,"ID0654","2012-05-26T12:20:07",450,5400,"USD",{"$f":"tblSalaries[[#This Row],[clean Salary (in local currency)]]*VLOOKUP(tblSalaries[[#This Row],[Currency]],tblXrate[],2,FALSE)","v":5400},"manager","Manager","India",{"$f":"VLOOKUP(tblSalaries[[#This Row],[Where do you work]],tblCountries[[Actual]:[Mapping]],2,FALSE)","v":"India"},"All the 8 hours baby, all the 8!",3]
[null,"ID0655","2012-05-26T12:23:14",10500000,10500000,"INR",{"$f":"tblSalaries[[#This Row],[clean Salary (in local currency)]]*VLOOKUP(tblSalaries[[#This Row],[Currency]],tblXrate[],2,FALSE)","v":186983.12521814698},"MANAGER","Manager","India",{"$f":"VLOOKUP(tblSalaries[[#This Row],[Where do you work]],tblCountries[[Actual]:[Mapping]],2,FALSE)","v":"India"},"2 to 3 hours per day",10]
[null,"ID0657","2012-05-26T12:25:09",21500,21500,"USD",{"$f":"tblSalaries[[#This Row],[clean Salary (in local currency)]]*VLOOKUP(tblSalaries[[#This Row],[Currency]],tblXrate[],2,FALSE)","v":21500},"Asst Mgr","Analyst","India",{"$f":"VLOOKUP(tblSalaries[[#This Row],[Where do you work]],tblCountries[[Actual]:[Mapping]],2,FALSE)","v":"India"},"4 to 6 hours a day",9]
[null,"ID0658","2012-05-26T12:26:33",15000,15000,"USD",{"$f":"tblSalaries[[#This Row],[clean Salary (in local currency)]]*VLOOKUP(tblSalaries[[#This Row],[Currency]],tblXrate[],2,FALSE)","v":15000},"MIS Executive","Reporting","India",{"$f":"VLOOKUP(tblSalaries[[#This Row],[Where do you work]],tblCountries[[Actual]:[Mapping]],2,FALSE)","v":"India"},"All the 8 hours baby, all the 8!",2]
[null,"ID0659","2012-05-26T12:27:20",200000,200000,"PKR",{"$f":"tblSalaries[[#This Row],[clean Salary (in local currency)]]*VLOOKUP(tblSalaries[[#This Row],[Currency]],tblXrate[],2,FALSE)","v":2122.8177433598262},"Accounts Officer","Accountant","Pakistan",{"$f":"VLOOKUP(tblSalaries[[#This Row],[Where do you work]],tblCountries[[Actual]:[Mapping]],2,FALSE)","v":"Pakistan"},"2 to 3 hours per day",2]
[null,"ID0660","2012-05-26T12:28:05","INR 9,50,000",950000,"INR",{"$f":"tblSalaries[[#This Row],[clean Salary (in local currency)]]*VLOOKUP(tblSalaries[[#This Row],[Currency]],tblXrate[],2,FALSE)","v":16917.52085307044},"Investment Banker","Manager","India",{"$f":"VLOOKUP(tblSalaries[[#This Row],[Where do you work]],tblCountries[[Actual]:[Mapping]],2,FALSE)","v":"India"},"4 to 6 hours a day",3]
[null,"ID0661","2012-05-26T12:28:11","INR 165000",165000,"INR",{"$f":"tblSalaries[[#This Row],[clean Salary (in local currency)]]*VLOOKUP(tblSalaries[[#This Row],[Currency]],tblXrate[],2,FALSE)","v":2938.3062534280239},"Co-operative bank","Manager","India",{"$f":"VLOOKUP(tblSalaries[[#This Row],[Where do you work]],tblCountries[[Actual]:[Mapping]],2,FALSE)","v":"India"},"All the 8 hours baby, all the 8!",11]
[null,"ID0662","2012-05-26T12:30:22",1400,16800,"USD",{"$f":"tblSalaries[[#This Row],[clean Salary (in local currency)]]*VLOOKUP(tblSalaries[[#This Row],[Currency]],tblXrate[],2,FALSE)","v":16800},"Assistant","Analyst","Pakistan",{"$f":"VLOOKUP(tblSalaries[[#This Row],[Where do you work]],tblCountries[[Actual]:[Mapping]],2,FALSE)","v":"Pakistan"},"4 to 6 hours a day",12]
[null,"ID0663","2012-05-26T12:31:29",37000,37000,"USD",{"$f":"tblSalaries[[#This Row],[clean Salary (in local currency)]]*VLOOKUP(tblSalaries[[#This Row],[Currency]],tblXrate[],2,FALSE)","v":37000},"Cad Engineer","Engineer","India",{"$f":"VLOOKUP(tblSalaries[[#This Row],[Where do you work]],tblCountries[[Actual]:[Mapping]],2,FALSE)","v":"India"},"4 to 6 hours a day",10]
[null,"ID0664","2012-05-26T12:33:48","Rs 300000",300000,"INR",{"$f":"tblSalaries[[#This Row],[clean Salary (in local currency)]]*VLOOKUP(tblSalaries[[#This Row],[Currency]],tblXrate[],2,FALSE)","v":5342.3750062327708},"Mis Analyst","Analyst","India",{"$f":"VLOOKUP(tblSalaries[[#This Row],[Where do you work]],tblCountries[[Actual]:[Mapping]],2,FALSE)","v":"India"},"4 to 6 hours a day",4.5]
[null,"ID0665","2012-05-26T12:35:42","INR 2 l;acks",200000,"INR",{"$f":"tblSalaries[[#This Row],[clean Salary (in local currency)]]*VLOOKUP(tblSalaries[[#This Row],[Currency]],tblXrate[],2,FALSE)","v":3561.5833374885137},"MIS EXECUTIVE","Reporting","India",{"$f":"VLOOKUP(tblSalaries[[#This Row],[Where do you work]],tblCountries[[Actual]:[Mapping]],2,FALSE)","v":"India"},"All the 8 hours baby, all the 8!",3]
[null,"ID0666","2012-05-26T12:36:53","Rs 480000",480000,"INR",{"$f":"tblSalaries[[#This Row],[clean Salary (in local currency)]]*VLOOKUP(tblSalaries[[#This Row],[Currency]],tblXrate[],2,FALSE)","v":8547.8000099724322},"PMO","Manager","India",{"$f":"VLOOKUP(tblSalaries[[#This Row],[Where do you work]],tblCountries[[Actual]:[Mapping]],2,FALSE)","v":"India"},"2 to 3 hours per day",8]
[null,"ID0667","2012-05-26T12:46:26",5800,5800,"USD",{"$f":"tblSalaries[[#This Row],[clean Salary (in local currency)]]*VLOOKUP(tblSalaries[[#This Row],[Currency]],tblXrate[],2,FALSE)","v":5800},"Asst. Manager(Commercial)","Manager","India",{"$f":"VLOOKUP(tblSalaries[[#This Row],[Where do you work]],tblCountries[[Actual]:[Mapping]],2,FALSE)","v":"India"},"All the 8 hours baby, all the 8!",8]
[null,"ID0668","2012-05-26T12:48:19","230000 INR",230000,"INR",{"$f":"tblSalaries[[#This Row],[clean Salary (in local currency)]]*VLOOKUP(tblSalaries[[#This Row],[Currency]],tblXrate[],2,FALSE)","v":4095.8208381117906},"MIS Executive","Reporting","India",{"$f":"VLOOKUP(tblSalaries[[#This Row],[Where do you work]],tblCountries[[Actual]:[Mapping]],2,FALSE)","v":"India"},"All the 8 hours baby, all the 8!",3]
[null,"ID0669","2012-05-26T12:50:08","23000 Rupees",276000,"INR",{"$f":"tblSalaries[[#This Row],[clean Salary (in local currency)]]*VLOOKUP(tblSalaries[[#This Row],[Currency]],tblXrate[],2,FALSE)","v":4914.9850057341491},"Education Officer","Manager","Pakistan",{"$f":"VLOOKUP(tblSalaries[[#This Row],[Where do you work]],tblCountries[[Actual]:[Mapping]],2,FALSE)","v":"Pakistan"},"1 or 2 hours a day",3]
[null,"ID0670","2012-05-26T12:52:37",24000,24000,"USD",{"$f":"tblSalaries[[#This Row],[clean Salary (in local currency)]]*VLOOKUP(tblSalaries[[#This Row],[Currency]],tblXrate[],2,FALSE)","v":24000},"Management Accountant","Manager","Saudi Arabai",{"$f":"VLOOKUP(tblSalaries[[#This Row],[Where do you work]],tblCountries[[Actual]:[Mapping]],2,FALSE)","v":"Saudi Arabia"},"4 to 6 hours a day",12]
[null,"ID0671","2012-05-26T12:53:43","Us$24000",24000,"USD",{"$f":"tblSalaries[[#This Row],[clean Salary (in local currency)]]*VLOOKUP(tblSalaries[[#This Row],[Currency]],tblXrate[],2,FALSE)","v":24000},"Accountant","Accountant","UAE",{"$f":"VLOOKUP(tblSalaries[[#This Row],[Where do you work]],tblCountries[[Actual]:[Mapping]],2,FALSE)","v":"UAE"},"2 to 3 hours per day",15]
[null,"ID0672","2012-05-26T12:54:15",8738,8738,"USD",{"$f":"tblSalaries[[#This Row],[clean Salary (in local currency)]]*VLOOKUP(tblSalaries[[#This Row],[Currency]],tblXrate[],2,FALSE)","v":8738},"Sales Coordinator","Manager","India",{"$f":"VLOOKUP(tblSalaries[[#This Row],[Where do you work]],tblCountries[[Actual]:[Mapping]],2,FALSE)","v":"India"},"All the 8 hours baby, all the 8!",7.3]
[null,"ID0673","2012-05-26T12:54:36",15000,15000,"USD",{"$f":"tblSalaries[[#This Row],[clean Salary (in local currency)]]*VLOOKUP(tblSalaries[[#This Row],[Currency]],tblXrate[],2,FALSE)","v":15000},"TA","Analyst","Indonesia",{"$f":"VLOOKUP(tblSalaries[[#This Row],[Where do you work]],tblCountries[[Actual]:[Mapping]],2,FALSE)","v":"Indonesia"},"4 to 6 hours a day",1]
[null,"ID0674","2012-05-26T12:55:09",4700,56400,"USD",{"$f":"tblSalaries[[#This Row],[clean Salary (in local currency)]]*VLOOKUP(tblSalaries[[#This Row],[Currency]],tblXrate[],2,FALSE)","v":56400},"Finance Manager","Manager","UAE",{"$f":"VLOOKUP(tblSalaries[[#This Row],[Where do you work]],tblCountries[[Actual]:[Mapping]],2,FALSE)","v":"UAE"},"2 to 3 hours per day",6]
[null,"ID0675","2012-05-26T12:59:13",10200,10200,"USD",{"$f":"tblSalaries[[#This Row],[clean Salary (in local currency)]]*VLOOKUP(tblSalaries[[#This Row],[Currency]],tblXrate[],2,FALSE)","v":10200},"business analyst","Analyst","India",{"$f":"VLOOKUP(tblSalaries[[#This Row],[Where do you work]],tblCountries[[Actual]:[Mapping]],2,FALSE)","v":"India"},"4 to 6 hours a day",4.5]
[null,"ID0676","2012-05-26T12:59:41",325000,325000,"INR",{"$f":"tblSalaries[[#This Row],[clean Salary (in local currency)]]*VLOOKUP(tblSalaries[[#This Row],[Currency]],tblXrate[],2,FALSE)","v":5787.5729234188348},"MIS Executive","Reporting","India",{"$f":"VLOOKUP(tblSalaries[[#This Row],[Where do you work]],tblCountries[[Actual]:[Mapping]],2,FALSE)","v":"India"},"All the 8 hours baby, all the 8!",4.5]
[null,"ID0677","2012-05-26T13:01:44",105000,105000,"USD",{"$f":"tblSalaries[[#This Row],[clean Salary (in local currency)]]*VLOOKUP(tblSalaries[[#This Row],[Currency]],tblXrate[],2,FALSE)","v":105000},"Senior Consultant","Consultant","USA",{"$f":"VLOOKUP(tblSalaries[[#This Row],[Where do you work]],tblCountries[[Actual]:[Mapping]],2,FALSE)","v":"USA"},"2 to 3 hours per day",15]
[null,"ID0678","2012-05-26T13:01:53","2.5lakh",250000,"INR",{"$f":"tblSalaries[[#This Row],[clean Salary (in local currency)]]*VLOOKUP(tblSalaries[[#This Row],[Currency]],tblXrate[],2,FALSE)","v":4451.9791718606421},"ASM","Manager","India",{"$f":"VLOOKUP(tblSalaries[[#This Row],[Where do you work]],tblCountries[[Actual]:[Mapping]],2,FALSE)","v":"India"},"2 to 3 hours per day",5]
[null,"ID0679","2012-05-26T13:02:50",470000,470000,"INR",{"$f":"tblSalaries[[#This Row],[clean Salary (in local currency)]]*VLOOKUP(tblSalaries[[#This Row],[Currency]],tblXrate[],2,FALSE)","v":8369.7208430980063},"Consultant","Consultant","India",{"$f":"VLOOKUP(tblSalaries[[#This Row],[Where do you work]],tblCountries[[Actual]:[Mapping]],2,FALSE)","v":"India"},"All the 8 hours baby, all the 8!",4]
[null,"ID0680","2012-05-26T13:03:32",720000,720000,"PHP",{"$f":"tblSalaries[[#This Row],[clean Salary (in local currency)]]*VLOOKUP(tblSalaries[[#This Row],[Currency]],tblXrate[],2,FALSE)","v":17067.637625607145},"System Manager","Manager","Philippines",{"$f":"VLOOKUP(tblSalaries[[#This Row],[Where do you work]],tblCountries[[Actual]:[Mapping]],2,FALSE)","v":"Philippines"},"4 to 6 hours a day",9]
[null,"ID0681","2012-05-26T13:03:58",100000,100000,"AUD",{"$f":"tblSalaries[[#This Row],[clean Salary (in local currency)]]*VLOOKUP(tblSalaries[[#This Row],[Currency]],tblXrate[],2,FALSE)","v":101990.96564026357},"principal developer","Manager","Australia",{"$f":"VLOOKUP(tblSalaries[[#This Row],[Where do you work]],tblCountries[[Actual]:[Mapping]],2,FALSE)","v":"Australia"},"1 or 2 hours a day",20]
[null,"ID0682","2012-05-26T13:05:03","220000 in INR",220000,"INR",{"$f":"tblSalaries[[#This Row],[clean Salary (in local currency)]]*VLOOKUP(tblSalaries[[#This Row],[Currency]],tblXrate[],2,FALSE)","v":3917.7416712373652},"Accounts Payable Analyst","Analyst","India",{"$f":"VLOOKUP(tblSalaries[[#This Row],[Where do you work]],tblCountries[[Actual]:[Mapping]],2,FALSE)","v":"India"},"2 to 3 hours per day",3]
[null,"ID0683","2012-05-26T13:08:39",52000,52000,"USD",{"$f":"tblSalaries[[#This Row],[clean Salary (in local currency)]]*VLOOKUP(tblSalaries[[#This Row],[Currency]],tblXrate[],2,FALSE)","v":52000},"Maint Sys Support Specialist","Specialist","USA",{"$f":"VLOOKUP(tblSalaries[[#This Row],[Where do you work]],tblCountries[[Actual]:[Mapping]],2,FALSE)","v":"USA"},"4 to 6 hours a day",18]
[null,"ID0684","2012-05-26T13:11:01","Rs. 260000",260000,"INR",{"$f":"tblSalaries[[#This Row],[clean Salary (in local currency)]]*VLOOKUP(tblSalaries[[#This Row],[Currency]],tblXrate[],2,FALSE)","v":4630.058338735068},"Analyst","Analyst","India",{"$f":"VLOOKUP(tblSalaries[[#This Row],[Where do you work]],tblCountries[[Actual]:[Mapping]],2,FALSE)","v":"India"},"4 to 6 hours a day",2]
[null,"ID0685","2012-05-26T13:12:48","1,20,000 INR",120000,"INR",{"$f":"tblSalaries[[#This Row],[clean Salary (in local currency)]]*VLOOKUP(tblSalaries[[#This Row],[Currency]],tblXrate[],2,FALSE)","v":2136.9500024931081},"Data Analyst","Analyst","India",{"$f":"VLOOKUP(tblSalaries[[#This Row],[Where do you work]],tblCountries[[Actual]:[Mapping]],2,FALSE)","v":"India"},"2 to 3 hours per day",3]
[null,"ID0686","2012-05-26T13:16:21",13000,13000,"USD",{"$f":"tblSalaries[[#This Row],[clean Salary (in local currency)]]*VLOOKUP(tblSalaries[[#This Row],[Currency]],tblXrate[],2,FALSE)","v":13000},"Analyst","Analyst","India",{"$f":"VLOOKUP(tblSalaries[[#This Row],[Where do you work]],tblCountries[[Actual]:[Mapping]],2,FALSE)","v":"India"},"1 or 2 hours a day",4]
[null,"ID0687","2012-05-26T13:17:36","Rs. 144000",144000,"INR",{"$f":"tblSalaries[[#This Row],[clean Salary (in local currency)]]*VLOOKUP(tblSalaries[[#This Row],[Currency]],tblXrate[],2,FALSE)","v":2564.3400029917298},"Team Leader","Manager","India",{"$f":"VLOOKUP(tblSalaries[[#This Row],[Where do you work]],tblCountries[[Actual]:[Mapping]],2,FALSE)","v":"India"},"2 to 3 hours per day",7]
[null,"ID0688","2012-05-26T13:18:03","inr 11.5",1150000,"INR",{"$f":"tblSalaries[[#This Row],[clean Salary (in local currency)]]*VLOOKUP(tblSalaries[[#This Row],[Currency]],tblXrate[],2,FALSE)","v":20479.104190558952},"manager portfolio monitoring","Manager","India",{"$f":"VLOOKUP(tblSalaries[[#This Row],[Where do you work]],tblCountries[[Actual]:[Mapping]],2,FALSE)","v":"India"},"2 to 3 hours per day",7]
[null,"ID0689","2012-05-26T13:18:32","33,500 US $",33500,"USD",{"$f":"tblSalaries[[#This Row],[clean Salary (in local currency)]]*VLOOKUP(tblSalaries[[#This Row],[Currency]],tblXrate[],2,FALSE)","v":33500},"Sr. Executive Finance & Accounts","Accountant","Dubai",{"$f":"VLOOKUP(tblSalaries[[#This Row],[Where do you work]],tblCountries[[Actual]:[Mapping]],2,FALSE)","v":"Dubai"},"1 or 2 hours a day",10]
[null,"ID0690","2012-05-26T13:19:42",50000,50000,"USD",{"$f":"tblSalaries[[#This Row],[clean Salary (in local currency)]]*VLOOKUP(tblSalaries[[#This Row],[Currency]],tblXrate[],2,FALSE)","v":50000},"AREA SALES MANAGER","Manager","India",{"$f":"VLOOKUP(tblSalaries[[#This Row],[Where do you work]],tblCountries[[Actual]:[Mapping]],2,FALSE)","v":"India"},"2 to 3 hours per day",20]
[null,"ID0691","2012-05-26T13:22:43",300000,300000,"INR",{"$f":"tblSalaries[[#This Row],[clean Salary (in local currency)]]*VLOOKUP(tblSalaries[[#This Row],[Currency]],tblXrate[],2,FALSE)","v":5342.3750062327708},"govt","Manager","India",{"$f":"VLOOKUP(tblSalaries[[#This Row],[Where do you work]],tblCountries[[Actual]:[Mapping]],2,FALSE)","v":"India"},"2 to 3 hours per day",3]
[null,"ID0692","2012-05-26T13:24:05","4500 rs. per month",648000,"INR",{"$f":"tblSalaries[[#This Row],[clean Salary (in local currency)]]*VLOOKUP(tblSalaries[[#This Row],[Currency]],tblXrate[],2,FALSE)","v":11539.530013462785},"COMPUTER OPERATOR","Analyst","India",{"$f":"VLOOKUP(tblSalaries[[#This Row],[Where do you work]],tblCountries[[Actual]:[Mapping]],2,FALSE)","v":"India"},"All the 8 hours baby, all the 8!",2]
[null,"ID0693","2012-05-26T13:24:14",7000,7000,"USD",{"$f":"tblSalaries[[#This Row],[clean Salary (in local currency)]]*VLOOKUP(tblSalaries[[#This Row],[Currency]],tblXrate[],2,FALSE)","v":7000},"Business Executive","Manager","India",{"$f":"VLOOKUP(tblSalaries[[#This Row],[Where do you work]],tblCountries[[Actual]:[Mapping]],2,FALSE)","v":"India"},"4 to 6 hours a day",23]
[null,"ID0694","2012-05-26T13:24:36",380000,380000,"INR",{"$f":"tblSalaries[[#This Row],[clean Salary (in local currency)]]*VLOOKUP(tblSalaries[[#This Row],[Currency]],tblXrate[],2,FALSE)","v":6767.0083412281756},"Team Lead Mis","Reporting","India",{"$f":"VLOOKUP(tblSalaries[[#This Row],[Where do you work]],tblCountries[[Actual]:[Mapping]],2,FALSE)","v":"India"},"2 to 3 hours per day",6]
[null,"ID0695","2012-05-26T13:29:12","3000 $",3000,"USD",{"$f":"tblSalaries[[#This Row],[clean Salary (in local currency)]]*VLOOKUP(tblSalaries[[#This Row],[Currency]],tblXrate[],2,FALSE)","v":3000},"Call Centre Consultant","Consultant","Cambodia",{"$f":"VLOOKUP(tblSalaries[[#This Row],[Where do you work]],tblCountries[[Actual]:[Mapping]],2,FALSE)","v":"Cambodia"},"2 to 3 hours per day",2]
[null,"ID0696","2012-05-26T13:29:35","250000 rupees",250000,"INR",{"$f":"tblSalaries[[#This Row],[clean Salary (in local currency)]]*VLOOKUP(tblSalaries[[#This Row],[Currency]],tblXrate[],2,FALSE)","v":4451.9791718606421},"MIS executive","Reporting","India",{"$f":"VLOOKUP(tblSalaries[[#This Row],[Where do you work]],tblCountries[[Actual]:[Mapping]],2,FALSE)","v":"India"},"All the 8 hours baby, all the 8!",4]
[null,"ID0697","2012-05-26T13:31:20","Rs. 150000",150000,"INR",{"$f":"tblSalaries[[#This Row],[clean Salary (in local currency)]]*VLOOKUP(tblSalaries[[#This Row],[Currency]],tblXrate[],2,FALSE)","v":2671.1875031163854},"Oprations head","CXO or Top Mgmt.","India",{"$f":"VLOOKUP(tblSalaries[[#This Row],[Where do you work]],tblCountries[[Actual]:[Mapping]],2,FALSE)","v":"India"},"4 to 6 hours a day",4.5]
[null,"ID0698","2012-05-26T13:37:50",278400,278400,"INR",{"$f":"tblSalaries[[#This Row],[clean Salary (in local currency)]]*VLOOKUP(tblSalaries[[#This Row],[Currency]],tblXrate[],2,FALSE)","v":4957.7240057840108},"Asst. Manager","Manager","India",{"$f":"VLOOKUP(tblSalaries[[#This Row],[Where do you work]],tblCountries[[Actual]:[Mapping]],2,FALSE)","v":"India"},"4 to 6 hours a day",5]
[null,"ID0699","2012-05-26T13:42:21",180000,180000,"INR",{"$f":"tblSalaries[[#This Row],[clean Salary (in local currency)]]*VLOOKUP(tblSalaries[[#This Row],[Currency]],tblXrate[],2,FALSE)","v":3205.4250037396623},"accounts","Accountant","India",{"$f":"VLOOKUP(tblSalaries[[#This Row],[Where do you work]],tblCountries[[Actual]:[Mapping]],2,FALSE)","v":"India"},"2 to 3 hours per day",14]
[null,"ID0700","2012-05-26T13:42:58",800000,800000,"INR",{"$f":"tblSalaries[[#This Row],[clean Salary (in local currency)]]*VLOOKUP(tblSalaries[[#This Row],[Currency]],tblXrate[],2,FALSE)","v":14246.333349954055},"Manager","Manager","India",{"$f":"VLOOKUP(tblSalaries[[#This Row],[Where do you work]],tblCountries[[Actual]:[Mapping]],2,FALSE)","v":"India"},"4 to 6 hours a day",7]
[null,"ID0701","2012-05-26T13:44:53","25000 rupess",300000,"INR",{"$f":"tblSalaries[[#This Row],[clean Salary (in local currency)]]*VLOOKUP(tblSalaries[[#This Row],[Currency]],tblXrate[],2,FALSE)","v":5342.3750062327708},"Analyst","Analyst","India",{"$f":"VLOOKUP(tblSalaries[[#This Row],[Where do you work]],tblCountries[[Actual]:[Mapping]],2,FALSE)","v":"India"},"All the 8 hours baby, all the 8!",7]
[null,"ID0702","2012-05-26T13:46:52","370000 inr",370000,"INR",{"$f":"tblSalaries[[#This Row],[clean Salary (in local currency)]]*VLOOKUP(tblSalaries[[#This Row],[Currency]],tblXrate[],2,FALSE)","v":6588.9291743537506},"Operations Analyst","Analyst","India",{"$f":"VLOOKUP(tblSalaries[[#This Row],[Where do you work]],tblCountries[[Actual]:[Mapping]],2,FALSE)","v":"India"},"All the 8 hours baby, all the 8!",2]
[null,"ID0703","2012-05-26T13:47:06","370000 inr",370000,"INR",{"$f":"tblSalaries[[#This Row],[clean Salary (in local currency)]]*VLOOKUP(tblSalaries[[#This Row],[Currency]],tblXrate[],2,FALSE)","v":6588.9291743537506},"Operations Analyst","Analyst","India",{"$f":"VLOOKUP(tblSalaries[[#This Row],[Where do you work]],tblCountries[[Actual]:[Mapping]],2,FALSE)","v":"India"},"All the 8 hours baby, all the 8!",2]
[null,"ID0704","2012-05-26T13:49:54",35000,35000,"USD",{"$f":"tblSalaries[[#This Row],[clean Salary (in local currency)]]*VLOOKUP(tblSalaries[[#This Row],[Currency]],tblXrate[],2,FALSE)","v":35000},"IT Specialist","Specialist","USA",{"$f":"VLOOKUP(tblSalaries[[#This Row],[Where do you work]],tblCountries[[Actual]:[Mapping]],2,FALSE)","v":"USA"},"4 to 6 hours a day",10]
[null,"ID0705","2012-05-26T13:57:11",720000,720000,"INR",{"$f":"tblSalaries[[#This Row],[clean Salary (in local currency)]]*VLOOKUP(tblSalaries[[#This Row],[Currency]],tblXrate[],2,FALSE)","v":12821.700014958649},"Cost Accountant","Accountant","India",{"$f":"VLOOKUP(tblSalaries[[#This Row],[Where do you work]],tblCountries[[Actual]:[Mapping]],2,FALSE)","v":"India"},"4 to 6 hours a day",4]
[null,"ID0706","2012-05-26T14:01:00",600000,600000,"INR",{"$f":"tblSalaries[[#This Row],[clean Salary (in local currency)]]*VLOOKUP(tblSalaries[[#This Row],[Currency]],tblXrate[],2,FALSE)","v":10684.750012465542},"senior executive","Manager","India",{"$f":"VLOOKUP(tblSalaries[[#This Row],[Where do you work]],tblCountries[[Actual]:[Mapping]],2,FALSE)","v":"India"},"1 or 2 hours a day",2]
[null,"ID0707","2012-05-26T14:01:09",10000,10000,"USD",{"$f":"tblSalaries[[#This Row],[clean Salary (in local currency)]]*VLOOKUP(tblSalaries[[#This Row],[Currency]],tblXrate[],2,FALSE)","v":10000},"Executive","Manager","India",{"$f":"VLOOKUP(tblSalaries[[#This Row],[Where do you work]],tblCountries[[Actual]:[Mapping]],2,FALSE)","v":"India"},"4 to 6 hours a day",2]
[null,"ID0708","2012-05-26T14:04:35","Rs 10000",120000,"INR",{"$f":"tblSalaries[[#This Row],[clean Salary (in local currency)]]*VLOOKUP(tblSalaries[[#This Row],[Currency]],tblXrate[],2,FALSE)","v":2136.9500024931081},"Intern","Analyst","India",{"$f":"VLOOKUP(tblSalaries[[#This Row],[Where do you work]],tblCountries[[Actual]:[Mapping]],2,FALSE)","v":"India"},"1 or 2 hours a day",0]
[null,"ID0709","2012-05-26T14:10:51","4,80,000 Ruppes",480000,"INR",{"$f":"tblSalaries[[#This Row],[clean Salary (in local currency)]]*VLOOKUP(tblSalaries[[#This Row],[Currency]],tblXrate[],2,FALSE)","v":8547.8000099724322},"Business Analyst","Analyst","India",{"$f":"VLOOKUP(tblSalaries[[#This Row],[Where do you work]],tblCountries[[Actual]:[Mapping]],2,FALSE)","v":"India"},"4 to 6 hours a day",4]
[null,"ID0710","2012-05-26T14:11:52","Re. 4.5 Lacs Per Annum",450000,"INR",{"$f":"tblSalaries[[#This Row],[clean Salary (in local currency)]]*VLOOKUP(tblSalaries[[#This Row],[Currency]],tblXrate[],2,FALSE)","v":8013.5625093491553},"Data Analyst","Analyst","India",{"$f":"VLOOKUP(tblSalaries[[#This Row],[Where do you work]],tblCountries[[Actual]:[Mapping]],2,FALSE)","v":"India"},"All the 8 hours baby, all the 8!",8]
[null,"ID0711","2012-05-26T14:14:35",400000,400000,"INR",{"$f":"tblSalaries[[#This Row],[clean Salary (in local currency)]]*VLOOKUP(tblSalaries[[#This Row],[Currency]],tblXrate[],2,FALSE)","v":7123.1666749770275},"Consultant","Consultant","India",{"$f":"VLOOKUP(tblSalaries[[#This Row],[Where do you work]],tblCountries[[Actual]:[Mapping]],2,FALSE)","v":"India"},"4 to 6 hours a day",0]
[null,"ID0712","2012-05-26T14:16:14","inr 2300000",2300000,"INR",{"$f":"tblSalaries[[#This Row],[clean Salary (in local currency)]]*VLOOKUP(tblSalaries[[#This Row],[Currency]],tblXrate[],2,FALSE)","v":40958.208381117904},"analyst","Analyst","India",{"$f":"VLOOKUP(tblSalaries[[#This Row],[Where do you work]],tblCountries[[Actual]:[Mapping]],2,FALSE)","v":"India"},"All the 8 hours baby, all the 8!",5]
[null,"ID0713","2012-05-26T14:18:11",636000,636000,"INR",{"$f":"tblSalaries[[#This Row],[clean Salary (in local currency)]]*VLOOKUP(tblSalaries[[#This Row],[Currency]],tblXrate[],2,FALSE)","v":11325.835013213473},"Audit Manager","Manager","India",{"$f":"VLOOKUP(tblSalaries[[#This Row],[Where do you work]],tblCountries[[Actual]:[Mapping]],2,FALSE)","v":"India"},"4 to 6 hours a day",2]
[null,"ID0714","2012-05-26T14:20:23","15000 USD",15000,"USD",{"$f":"tblSalaries[[#This Row],[clean Salary (in local currency)]]*VLOOKUP(tblSalaries[[#This Row],[Currency]],tblXrate[],2,FALSE)","v":15000},"Audit - senior assistant","Accountant","Lithuania",{"$f":"VLOOKUP(tblSalaries[[#This Row],[Where do you work]],tblCountries[[Actual]:[Mapping]],2,FALSE)","v":"Lithuania"},"4 to 6 hours a day",2]
[null,"ID0715","2012-05-26T14:22:05",1000,12000,"USD",{"$f":"tblSalaries[[#This Row],[clean Salary (in local currency)]]*VLOOKUP(tblSalaries[[#This Row],[Currency]],tblXrate[],2,FALSE)","v":12000},"tech operator (oil)","Analyst","uae",{"$f":"VLOOKUP(tblSalaries[[#This Row],[Where do you work]],tblCountries[[Actual]:[Mapping]],2,FALSE)","v":"UAE"},"4 to 6 hours a day",12]
[null,"ID0716","2012-05-26T14:23:48",500000,500000,"INR",{"$f":"tblSalaries[[#This Row],[clean Salary (in local currency)]]*VLOOKUP(tblSalaries[[#This Row],[Currency]],tblXrate[],2,FALSE)","v":8903.9583437212841},"mis ","Reporting","India",{"$f":"VLOOKUP(tblSalaries[[#This Row],[Where do you work]],tblCountries[[Actual]:[Mapping]],2,FALSE)","v":"India"},"2 to 3 hours per day",1]
[null,"ID0717","2012-05-26T14:33:11",500000,500000,"INR",{"$f":"tblSalaries[[#This Row],[clean Salary (in local currency)]]*VLOOKUP(tblSalaries[[#This Row],[Currency]],tblXrate[],2,FALSE)","v":8903.9583437212841},"Engineer","Engineer","India",{"$f":"VLOOKUP(tblSalaries[[#This Row],[Where do you work]],tblCountries[[Actual]:[Mapping]],2,FALSE)","v":"India"},"All the 8 hours baby, all the 8!",2]
[null,"ID0718","2012-05-26T14:35:48","Inr 60000",720000,"INR",{"$f":"tblSalaries[[#This Row],[clean Salary (in local currency)]]*VLOOKUP(tblSalaries[[#This Row],[Currency]],tblXrate[],2,FALSE)","v":12821.700014958649},"Asstt manager","Manager","India",{"$f":"VLOOKUP(tblSalaries[[#This Row],[Where do you work]],tblCountries[[Actual]:[Mapping]],2,FALSE)","v":"India"},"All the 8 hours baby, all the 8!",10]
[null,"ID0719","2012-05-26T14:41:00","Rs 15000",180000,"INR",{"$f":"tblSalaries[[#This Row],[clean Salary (in local currency)]]*VLOOKUP(tblSalaries[[#This Row],[Currency]],tblXrate[],2,FALSE)","v":3205.4250037396623},"Import & Export Documentation Executive","Manager","India",{"$f":"VLOOKUP(tblSalaries[[#This Row],[Where do you work]],tblCountries[[Actual]:[Mapping]],2,FALSE)","v":"India"},"All the 8 hours baby, all the 8!",7]
[null,"ID0720","2012-05-26T14:46:55",375000,375000,"INR",{"$f":"tblSalaries[[#This Row],[clean Salary (in local currency)]]*VLOOKUP(tblSalaries[[#This Row],[Currency]],tblXrate[],2,FALSE)","v":6677.9687577909626},"Team Lead","Manager","India",{"$f":"VLOOKUP(tblSalaries[[#This Row],[Where do you work]],tblCountries[[Actual]:[Mapping]],2,FALSE)","v":"India"},"2 to 3 hours per day",6]
[null,"ID0721","2012-05-26T14:51:02",85000,85000,"NZD",{"$f":"tblSalaries[[#This Row],[clean Salary (in local currency)]]*VLOOKUP(tblSalaries[[#This Row],[Currency]],tblXrate[],2,FALSE)","v":67794.987956419791},"Systems Manager","Manager","New Zealand",{"$f":"VLOOKUP(tblSalaries[[#This Row],[Where do you work]],tblCountries[[Actual]:[Mapping]],2,FALSE)","v":"New Zealand"},"4 to 6 hours a day",15]
[null,"ID0722","2012-05-26T14:57:39",31250,31250,"USD",{"$f":"tblSalaries[[#This Row],[clean Salary (in local currency)]]*VLOOKUP(tblSalaries[[#This Row],[Currency]],tblXrate[],2,FALSE)","v":31250},"Program management","Manager","India",{"$f":"VLOOKUP(tblSalaries[[#This Row],[Where do you work]],tblCountries[[Actual]:[Mapping]],2,FALSE)","v":"India"},"2 to 3 hours per day",6]
[null,"ID0723","2012-05-26T14:57:45","PKR 17000",204000,"PKR",{"$f":"tblSalaries[[#This Row],[clean Salary (in local currency)]]*VLOOKUP(tblSalaries[[#This Row],[Currency]],tblXrate[],2,FALSE)","v":2165.2740982270229},"Accounts Manager","Manager","Pakistan",{"$f":"VLOOKUP(tblSalaries[[#This Row],[Where do you work]],tblCountries[[Actual]:[Mapping]],2,FALSE)","v":"Pakistan"},"All the 8 hours baby, all the 8!",2]
[null,"ID0724","2012-05-26T14:58:24","Rs.4lk ",400000,"INR",{"$f":"tblSalaries[[#This Row],[clean Salary (in local currency)]]*VLOOKUP(tblSalaries[[#This Row],[Currency]],tblXrate[],2,FALSE)","v":7123.1666749770275},"sr. mis executive","Reporting","India",{"$f":"VLOOKUP(tblSalaries[[#This Row],[Where do you work]],tblCountries[[Actual]:[Mapping]],2,FALSE)","v":"India"},"All the 8 hours baby, all the 8!",4]
[null,"ID0725","2012-05-26T15:01:00","USD130000",130000,"USD",{"$f":"tblSalaries[[#This Row],[clean Salary (in local currency)]]*VLOOKUP(tblSalaries[[#This Row],[Currency]],tblXrate[],2,FALSE)","v":130000},"Modeller","Manager","Australia",{"$f":"VLOOKUP(tblSalaries[[#This Row],[Where do you work]],tblCountries[[Actual]:[Mapping]],2,FALSE)","v":"Australia"},"4 to 6 hours a day",3]
[null,"ID0726","2012-05-26T15:01:41","Rs. 250000",250000,"INR",{"$f":"tblSalaries[[#This Row],[clean Salary (in local currency)]]*VLOOKUP(tblSalaries[[#This Row],[Currency]],tblXrate[],2,FALSE)","v":4451.9791718606421},"Asst. Manager","Manager","India",{"$f":"VLOOKUP(tblSalaries[[#This Row],[Where do you work]],tblCountries[[Actual]:[Mapping]],2,FALSE)","v":"India"},"4 to 6 hours a day",6]
[null,"ID0727","2012-05-26T15:02:34",800,9600,"USD",{"$f":"tblSalaries[[#This Row],[clean Salary (in local currency)]]*VLOOKUP(tblSalaries[[#This Row],[Currency]],tblXrate[],2,FALSE)","v":9600},"Admin","Analyst","South Africa",{"$f":"VLOOKUP(tblSalaries[[#This Row],[Where do you work]],tblCountries[[Actual]:[Mapping]],2,FALSE)","v":"South Africa"},"4 to 6 hours a day",2]
[null,"ID0728","2012-05-26T15:04:33","INR 390000 PA",390000,"INR",{"$f":"tblSalaries[[#This Row],[clean Salary (in local currency)]]*VLOOKUP(tblSalaries[[#This Row],[Currency]],tblXrate[],2,FALSE)","v":6945.0875081026015},"Business Analyst","Analyst","India",{"$f":"VLOOKUP(tblSalaries[[#This Row],[Where do you work]],tblCountries[[Actual]:[Mapping]],2,FALSE)","v":"India"},"4 to 6 hours a day",1]
[null,"ID0729","2012-05-26T15:05:42",600000,600000,"INR",{"$f":"tblSalaries[[#This Row],[clean Salary (in local currency)]]*VLOOKUP(tblSalaries[[#This Row],[Currency]],tblXrate[],2,FALSE)","v":10684.750012465542},"Sr Financial Execative","Accountant","India",{"$f":"VLOOKUP(tblSalaries[[#This Row],[Where do you work]],tblCountries[[Actual]:[Mapping]],2,FALSE)","v":"India"},"All the 8 hours baby, all the 8!",7]
[null,"ID0730","2012-05-26T15:06:00",4.8,480000,"INR",{"$f":"tblSalaries[[#This Row],[clean Salary (in local currency)]]*VLOOKUP(tblSalaries[[#This Row],[Currency]],tblXrate[],2,FALSE)","v":8547.8000099724322},"Asst Mngr","Analyst","India",{"$f":"VLOOKUP(tblSalaries[[#This Row],[Where do you work]],tblCountries[[Actual]:[Mapping]],2,FALSE)","v":"India"},"2 to 3 hours per day",3.5]
[null,"ID0731","2012-05-26T15:07:39",35000,35000,"USD",{"$f":"tblSalaries[[#This Row],[clean Salary (in local currency)]]*VLOOKUP(tblSalaries[[#This Row],[Currency]],tblXrate[],2,FALSE)","v":35000},"Associate","Analyst","India",{"$f":"VLOOKUP(tblSalaries[[#This Row],[Where do you work]],tblCountries[[Actual]:[Mapping]],2,FALSE)","v":"India"},"4 to 6 hours a day",10]
[null,"ID0732","2012-05-26T15:09:27","Ind Rs.10,00,000.00",1000000,"INR",{"$f":"tblSalaries[[#This Row],[clean Salary (in local currency)]]*VLOOKUP(tblSalaries[[#This Row],[Currency]],tblXrate[],2,FALSE)","v":17807.916687442568},"Sr Associate","Analyst","India",{"$f":"VLOOKUP(tblSalaries[[#This Row],[Where do you work]],tblCountries[[Actual]:[Mapping]],2,FALSE)","v":"India"},"2 to 3 hours per day",12]
[null,"ID0733","2012-05-26T15:21:41",180000,180000,"INR",{"$f":"tblSalaries[[#This Row],[clean Salary (in local currency)]]*VLOOKUP(tblSalaries[[#This Row],[Currency]],tblXrate[],2,FALSE)","v":3205.4250037396623},"Accountant","Accountant","India",{"$f":"VLOOKUP(tblSalaries[[#This Row],[Where do you work]],tblCountries[[Actual]:[Mapping]],2,FALSE)","v":"India"},"All the 8 hours baby, all the 8!",4]
[null,"ID0734","2012-05-26T15:24:32",5000,60000,"USD",{"$f":"tblSalaries[[#This Row],[clean Salary (in local currency)]]*VLOOKUP(tblSalaries[[#This Row],[Currency]],tblXrate[],2,FALSE)","v":60000},"Manager","Manager","Russia",{"$f":"VLOOKUP(tblSalaries[[#This Row],[Where do you work]],tblCountries[[Actual]:[Mapping]],2,FALSE)","v":"Russia"},"4 to 6 hours a day",10]
[null,"ID0735","2012-05-26T15:27:48","8 Lakhs",800000,"INR",{"$f":"tblSalaries[[#This Row],[clean Salary (in local currency)]]*VLOOKUP(tblSalaries[[#This Row],[Currency]],tblXrate[],2,FALSE)","v":14246.333349954055},"Manager","Manager","India",{"$f":"VLOOKUP(tblSalaries[[#This Row],[Where do you work]],tblCountries[[Actual]:[Mapping]],2,FALSE)","v":"India"},"2 to 3 hours per day",13]
[null,"ID0736","2012-05-26T15:30:23","6 Lac Rs",600000,"INR",{"$f":"tblSalaries[[#This Row],[clean Salary (in local currency)]]*VLOOKUP(tblSalaries[[#This Row],[Currency]],tblXrate[],2,FALSE)","v":10684.750012465542},"ERP Co-Ordinator","Manager","India",{"$f":"VLOOKUP(tblSalaries[[#This Row],[Where do you work]],tblCountries[[Actual]:[Mapping]],2,FALSE)","v":"India"},"2 to 3 hours per day",8]
[null,"ID0737","2012-05-26T15:35:43",40000,40000,"USD",{"$f":"tblSalaries[[#This Row],[clean Salary (in local currency)]]*VLOOKUP(tblSalaries[[#This Row],[Currency]],tblXrate[],2,FALSE)","v":40000},"Revenue Manager","Manager","India",{"$f":"VLOOKUP(tblSalaries[[#This Row],[Where do you work]],tblCountries[[Actual]:[Mapping]],2,FALSE)","v":"India"},"All the 8 hours baby, all the 8!",15]
[null,"ID0738","2012-05-26T15:44:32",5022,5022,"USD",{"$f":"tblSalaries[[#This Row],[clean Salary (in local currency)]]*VLOOKUP(tblSalaries[[#This Row],[Currency]],tblXrate[],2,FALSE)","v":5022},"Accounts analyst","Analyst","Pakistan",{"$f":"VLOOKUP(tblSalaries[[#This Row],[Where do you work]],tblCountries[[Actual]:[Mapping]],2,FALSE)","v":"Pakistan"},"4 to 6 hours a day",15]
[null,"ID0739","2012-05-26T15:51:11",410000,410000,"INR",{"$f":"tblSalaries[[#This Row],[clean Salary (in local currency)]]*VLOOKUP(tblSalaries[[#This Row],[Currency]],tblXrate[],2,FALSE)","v":7301.2458418514525},"MIS Analyst","Analyst","India",{"$f":"VLOOKUP(tblSalaries[[#This Row],[Where do you work]],tblCountries[[Actual]:[Mapping]],2,FALSE)","v":"India"},"All the 8 hours baby, all the 8!",5]
[null,"ID0740","2012-05-26T15:53:10",10000,120000,"EGYPT",{"$f":"tblSalaries[[#This Row],[clean Salary (in local currency)]]*VLOOKUP(tblSalaries[[#This Row],[Currency]],tblXrate[],2,FALSE)","v":19831.432821021317},"Estimator","Analyst","Egypt",{"$f":"VLOOKUP(tblSalaries[[#This Row],[Where do you work]],tblCountries[[Actual]:[Mapping]],2,FALSE)","v":"Egypt"},"All the 8 hours baby, all the 8!",5]
[null,"ID0741","2012-05-26T15:54:00","50 k per month",600000,"INR",{"$f":"tblSalaries[[#This Row],[clean Salary (in local currency)]]*VLOOKUP(tblSalaries[[#This Row],[Currency]],tblXrate[],2,FALSE)","v":10684.750012465542},"Finance Manager","Manager","India",{"$f":"VLOOKUP(tblSalaries[[#This Row],[Where do you work]],tblCountries[[Actual]:[Mapping]],2,FALSE)","v":"India"},"4 to 6 hours a day",5]
[null,"ID0742","2012-05-26T15:56:57","4800 $",4800,"USD",{"$f":"tblSalaries[[#This Row],[clean Salary (in local currency)]]*VLOOKUP(tblSalaries[[#This Row],[Currency]],tblXrate[],2,FALSE)","v":4800},"Data Analysis","Analyst","Bhutan",{"$f":"VLOOKUP(tblSalaries[[#This Row],[Where do you work]],tblCountries[[Actual]:[Mapping]],2,FALSE)","v":"Bhutan"},"4 to 6 hours a day",2]
[null,"ID0743","2012-05-26T15:59:44","66000 â‚¬",66000,"EUR",{"$f":"tblSalaries[[#This Row],[clean Salary (in local currency)]]*VLOOKUP(tblSalaries[[#This Row],[Currency]],tblXrate[],2,FALSE)","v":83846.362973446114},"Logistics Analyst","Analyst","germany",{"$f":"VLOOKUP(tblSalaries[[#This Row],[Where do you work]],tblCountries[[Actual]:[Mapping]],2,FALSE)","v":"Germany"},"4 to 6 hours a day",7]
[null,"ID0744","2012-05-26T16:01:54",15000,15000,"USD",{"$f":"tblSalaries[[#This Row],[clean Salary (in local currency)]]*VLOOKUP(tblSalaries[[#This Row],[Currency]],tblXrate[],2,FALSE)","v":15000},"PROCSS ASOCIATE","Controller","India",{"$f":"VLOOKUP(tblSalaries[[#This Row],[Where do you work]],tblCountries[[Actual]:[Mapping]],2,FALSE)","v":"India"},"2 to 3 hours per day",2]
[null,"ID0745","2012-05-26T16:05:02",10000,10000,"USD",{"$f":"tblSalaries[[#This Row],[clean Salary (in local currency)]]*VLOOKUP(tblSalaries[[#This Row],[Currency]],tblXrate[],2,FALSE)","v":10000},"Reporting Analyst","Analyst","India",{"$f":"VLOOKUP(tblSalaries[[#This Row],[Where do you work]],tblCountries[[Actual]:[Mapping]],2,FALSE)","v":"India"},"4 to 6 hours a day",12]
[null,"ID0746","2012-05-26T16:10:08",74000,74000,"GBP",{"$f":"tblSalaries[[#This Row],[clean Salary (in local currency)]]*VLOOKUP(tblSalaries[[#This Row],[Currency]],tblXrate[],2,FALSE)","v":116637.19213297902},"Corporate Finance Manager","Manager","UK",{"$f":"VLOOKUP(tblSalaries[[#This Row],[Where do you work]],tblCountries[[Actual]:[Mapping]],2,FALSE)","v":"UK"},"4 to 6 hours a day",5]
[null,"ID0747","2012-05-26T16:12:09","GBP21798",21798,"GBP",{"$f":"tblSalaries[[#This Row],[clean Salary (in local currency)]]*VLOOKUP(tblSalaries[[#This Row],[Currency]],tblXrate[],2,FALSE)","v":34357.533974522659},"Data Analyst","Analyst","UK",{"$f":"VLOOKUP(tblSalaries[[#This Row],[Where do you work]],tblCountries[[Actual]:[Mapping]],2,FALSE)","v":"UK"},"All the 8 hours baby, all the 8!",1.5]
[null,"ID0748","2012-05-26T16:16:39",65000,65000,"GBP",{"$f":"tblSalaries[[#This Row],[clean Salary (in local currency)]]*VLOOKUP(tblSalaries[[#This Row],[Currency]],tblXrate[],2,FALSE)","v":102451.58768437347},"compliance manager","Manager","UK",{"$f":"VLOOKUP(tblSalaries[[#This Row],[Where do you work]],tblCountries[[Actual]:[Mapping]],2,FALSE)","v":"UK"},"4 to 6 hours a day",15]
[null,"ID0749","2012-05-26T16:23:30",16000,16000,"USD",{"$f":"tblSalaries[[#This Row],[clean Salary (in local currency)]]*VLOOKUP(tblSalaries[[#This Row],[Currency]],tblXrate[],2,FALSE)","v":16000},"Engineer","Engineer","India",{"$f":"VLOOKUP(tblSalaries[[#This Row],[Where do you work]],tblCountries[[Actual]:[Mapping]],2,FALSE)","v":"India"},"2 to 3 hours per day",5]
[null,"ID0750","2012-05-26T16:25:53",6000,6000,"USD",{"$f":"tblSalaries[[#This Row],[clean Salary (in local currency)]]*VLOOKUP(tblSalaries[[#This Row],[Currency]],tblXrate[],2,FALSE)","v":6000},"Merchandiser","Manager","India",{"$f":"VLOOKUP(tblSalaries[[#This Row],[Where do you work]],tblCountries[[Actual]:[Mapping]],2,FALSE)","v":"India"},"2 to 3 hours per day",6]
[null,"ID0751","2012-05-26T16:26:35","INR 30000",360000,"INR",{"$f":"tblSalaries[[#This Row],[clean Salary (in local currency)]]*VLOOKUP(tblSalaries[[#This Row],[Currency]],tblXrate[],2,FALSE)","v":6410.8500074793246},"Project Lead","Manager","India",{"$f":"VLOOKUP(tblSalaries[[#This Row],[Where do you work]],tblCountries[[Actual]:[Mapping]],2,FALSE)","v":"India"},"All the 8 hours baby, all the 8!",6]
[null,"ID0752","2012-05-26T16:29:36",36000,36000,"USD",{"$f":"tblSalaries[[#This Row],[clean Salary (in local currency)]]*VLOOKUP(tblSalaries[[#This Row],[Currency]],tblXrate[],2,FALSE)","v":36000},"ENGINEER","Engineer","uae",{"$f":"VLOOKUP(tblSalaries[[#This Row],[Where do you work]],tblCountries[[Actual]:[Mapping]],2,FALSE)","v":"UAE"},"1 or 2 hours a day",7]
[null,"ID0753","2012-05-26T16:33:58",20000,20000,"USD",{"$f":"tblSalaries[[#This Row],[clean Salary (in local currency)]]*VLOOKUP(tblSalaries[[#This Row],[Currency]],tblXrate[],2,FALSE)","v":20000},"engineer","Engineer","India",{"$f":"VLOOKUP(tblSalaries[[#This Row],[Where do you work]],tblCountries[[Actual]:[Mapping]],2,FALSE)","v":"India"},"1 or 2 hours a day",7]
[null,"ID0754","2012-05-26T16:34:18","INR240000",240000,"INR",{"$f":"tblSalaries[[#This Row],[clean Salary (in local currency)]]*VLOOKUP(tblSalaries[[#This Row],[Currency]],tblXrate[],2,FALSE)","v":4273.9000049862161},"SR. ACCOUNTS EXECUTIVE","Accountant","India",{"$f":"VLOOKUP(tblSalaries[[#This Row],[Where do you work]],tblCountries[[Actual]:[Mapping]],2,FALSE)","v":"India"},"4 to 6 hours a day",8]
[null,"ID0755","2012-05-26T16:34:57","Â£ 24000",24000,"GBP",{"$f":"tblSalaries[[#This Row],[clean Salary (in local currency)]]*VLOOKUP(tblSalaries[[#This Row],[Currency]],tblXrate[],2,FALSE)","v":37828.278529614821},"Business Support Specialist","Specialist","UK",{"$f":"VLOOKUP(tblSalaries[[#This Row],[Where do you work]],tblCountries[[Actual]:[Mapping]],2,FALSE)","v":"UK"},"All the 8 hours baby, all the 8!",8]
[null,"ID0756","2012-05-26T16:50:08","US $ 11,000",11000,"USD",{"$f":"tblSalaries[[#This Row],[clean Salary (in local currency)]]*VLOOKUP(tblSalaries[[#This Row],[Currency]],tblXrate[],2,FALSE)","v":11000},"Assistant Manager - Group MIS","Manager","Sri Lanka",{"$f":"VLOOKUP(tblSalaries[[#This Row],[Where do you work]],tblCountries[[Actual]:[Mapping]],2,FALSE)","v":"Sri Lanka"},"All the 8 hours baby, all the 8!",4.5]
[null,"ID0757","2012-05-26T16:50:46",8000,8000,"USD",{"$f":"tblSalaries[[#This Row],[clean Salary (in local currency)]]*VLOOKUP(tblSalaries[[#This Row],[Currency]],tblXrate[],2,FALSE)","v":8000},"Business Analyst","Analyst","India",{"$f":"VLOOKUP(tblSalaries[[#This Row],[Where do you work]],tblCountries[[Actual]:[Mapping]],2,FALSE)","v":"India"},"2 to 3 hours per day",6]
[null,"ID0758","2012-05-26T17:02:46","Rs. 225000",225000,"INR",{"$f":"tblSalaries[[#This Row],[clean Salary (in local currency)]]*VLOOKUP(tblSalaries[[#This Row],[Currency]],tblXrate[],2,FALSE)","v":4006.7812546745777},"MIS Executive","Reporting","India",{"$f":"VLOOKUP(tblSalaries[[#This Row],[Where do you work]],tblCountries[[Actual]:[Mapping]],2,FALSE)","v":"India"},"All the 8 hours baby, all the 8!",5.5]
[null,"ID0759","2012-05-26T17:03:02",1488000,1488000,"NAIRA",{"$f":"tblSalaries[[#This Row],[clean Salary (in local currency)]]*VLOOKUP(tblSalaries[[#This Row],[Currency]],tblXrate[],2,FALSE)","v":9171.0323574730355},"Company Systems Integration Manager","Manager","Nigeria",{"$f":"VLOOKUP(tblSalaries[[#This Row],[Where do you work]],tblCountries[[Actual]:[Mapping]],2,FALSE)","v":"Nigeria"},"2 to 3 hours per day",5]
[null,"ID0760","2012-05-26T17:03:26","INR 20000",240000,"INR",{"$f":"tblSalaries[[#This Row],[clean Salary (in local currency)]]*VLOOKUP(tblSalaries[[#This Row],[Currency]],tblXrate[],2,FALSE)","v":4273.9000049862161},"EXECUTIVE","Analyst","India",{"$f":"VLOOKUP(tblSalaries[[#This Row],[Where do you work]],tblCountries[[Actual]:[Mapping]],2,FALSE)","v":"India"},"2 to 3 hours per day",20]
[null,"ID0761","2012-05-26T17:04:23","INR 700000",700000,"INR",{"$f":"tblSalaries[[#This Row],[clean Salary (in local currency)]]*VLOOKUP(tblSalaries[[#This Row],[Currency]],tblXrate[],2,FALSE)","v":12465.541681209797},"Sales Management Analyst","Analyst","India",{"$f":"VLOOKUP(tblSalaries[[#This Row],[Where do you work]],tblCountries[[Actual]:[Mapping]],2,FALSE)","v":"India"},"All the 8 hours baby, all the 8!",5]
[null,"ID0762","2012-05-26T17:06:48",2000,24000,"USD",{"$f":"tblSalaries[[#This Row],[clean Salary (in local currency)]]*VLOOKUP(tblSalaries[[#This Row],[Currency]],tblXrate[],2,FALSE)","v":24000},"Asst Production Planner","Analyst","India",{"$f":"VLOOKUP(tblSalaries[[#This Row],[Where do you work]],tblCountries[[Actual]:[Mapping]],2,FALSE)","v":"India"},"2 to 3 hours per day",1]
[null,"ID0763","2012-05-26T17:07:30",20000,20000,"USD",{"$f":"tblSalaries[[#This Row],[clean Salary (in local currency)]]*VLOOKUP(tblSalaries[[#This Row],[Currency]],tblXrate[],2,FALSE)","v":20000},"Consultat","Consultant","Denmark",{"$f":"VLOOKUP(tblSalaries[[#This Row],[Where do you work]],tblCountries[[Actual]:[Mapping]],2,FALSE)","v":"Denmark"},"2 to 3 hours per day",15]
[null,"ID0764","2012-05-26T17:08:09",62000,62000,"USD",{"$f":"tblSalaries[[#This Row],[clean Salary (in local currency)]]*VLOOKUP(tblSalaries[[#This Row],[Currency]],tblXrate[],2,FALSE)","v":62000},"System Analyst ","Analyst","USA",{"$f":"VLOOKUP(tblSalaries[[#This Row],[Where do you work]],tblCountries[[Actual]:[Mapping]],2,FALSE)","v":"USA"},"2 to 3 hours per day",20]
[null,"ID0765","2012-05-26T17:09:24","14960 $",14960,"USD",{"$f":"tblSalaries[[#This Row],[clean Salary (in local currency)]]*VLOOKUP(tblSalaries[[#This Row],[Currency]],tblXrate[],2,FALSE)","v":14960},"Stock Controller","Controller","Saudi Arabia",{"$f":"VLOOKUP(tblSalaries[[#This Row],[Where do you work]],tblCountries[[Actual]:[Mapping]],2,FALSE)","v":"Saudi Arabia"},"All the 8 hours baby, all the 8!",2]
[null,"ID0766","2012-05-26T17:10:20",120000,120000,"INR",{"$f":"tblSalaries[[#This Row],[clean Salary (in local currency)]]*VLOOKUP(tblSalaries[[#This Row],[Currency]],tblXrate[],2,FALSE)","v":2136.9500024931081},"ACCOUNTANT","Accountant","India",{"$f":"VLOOKUP(tblSalaries[[#This Row],[Where do you work]],tblCountries[[Actual]:[Mapping]],2,FALSE)","v":"India"},"2 to 3 hours per day",2]
[null,"ID0767","2012-05-26T17:24:41",30232,30232,"USD",{"$f":"tblSalaries[[#This Row],[clean Salary (in local currency)]]*VLOOKUP(tblSalaries[[#This Row],[Currency]],tblXrate[],2,FALSE)","v":30232},"Accounts Supervisor","Accountant","KSA",{"$f":"VLOOKUP(tblSalaries[[#This Row],[Where do you work]],tblCountries[[Actual]:[Mapping]],2,FALSE)","v":"USA"},"2 to 3 hours per day",5]
[null,"ID0768","2012-05-26T17:24:41",41000,41000,"USD",{"$f":"tblSalaries[[#This Row],[clean Salary (in local currency)]]*VLOOKUP(tblSalaries[[#This Row],[Currency]],tblXrate[],2,FALSE)","v":41000},"Business Analyst","Analyst","USA",{"$f":"VLOOKUP(tblSalaries[[#This Row],[Where do you work]],tblCountries[[Actual]:[Mapping]],2,FALSE)","v":"USA"},"All the 8 hours baby, all the 8!",4]
[null,"ID0769","2012-05-26T17:31:56","95000 AUD",95000,"AUD",{"$f":"tblSalaries[[#This Row],[clean Salary (in local currency)]]*VLOOKUP(tblSalaries[[#This Row],[Currency]],tblXrate[],2,FALSE)","v":96891.417358250401},"Data Analyst - Report Writer","Analyst","Australia",{"$f":"VLOOKUP(tblSalaries[[#This Row],[Where do you work]],tblCountries[[Actual]:[Mapping]],2,FALSE)","v":"Australia"},"2 to 3 hours per day",11]
[null,"ID0770","2012-05-26T17:44:34","Rs 1200000",1200000,"INR",{"$f":"tblSalaries[[#This Row],[clean Salary (in local currency)]]*VLOOKUP(tblSalaries[[#This Row],[Currency]],tblXrate[],2,FALSE)","v":21369.500024931083},"Regional Formwork Head ","Manager","India",{"$f":"VLOOKUP(tblSalaries[[#This Row],[Where do you work]],tblCountries[[Actual]:[Mapping]],2,FALSE)","v":"India"},"All the 8 hours baby, all the 8!",14]
[null,"ID0771","2012-05-26T17:47:00",205000,205000,"INR",{"$f":"tblSalaries[[#This Row],[clean Salary (in local currency)]]*VLOOKUP(tblSalaries[[#This Row],[Currency]],tblXrate[],2,FALSE)","v":3650.6229209257262},"BRANCH ACCOUNTANT","Accountant","India",{"$f":"VLOOKUP(tblSalaries[[#This Row],[Where do you work]],tblCountries[[Actual]:[Mapping]],2,FALSE)","v":"India"},"All the 8 hours baby, all the 8!",10]
[null,"ID0772","2012-05-26T17:47:10","$1,589.00/per month",19068,"USD",{"$f":"tblSalaries[[#This Row],[clean Salary (in local currency)]]*VLOOKUP(tblSalaries[[#This Row],[Currency]],tblXrate[],2,FALSE)","v":19068},"Accounting Head","Accountant","Philippines",{"$f":"VLOOKUP(tblSalaries[[#This Row],[Where do you work]],tblCountries[[Actual]:[Mapping]],2,FALSE)","v":"Philippines"},"All the 8 hours baby, all the 8!",20]
[null,"ID0773","2012-05-26T17:49:17","Rs. 300000",300000,"INR",{"$f":"tblSalaries[[#This Row],[clean Salary (in local currency)]]*VLOOKUP(tblSalaries[[#This Row],[Currency]],tblXrate[],2,FALSE)","v":5342.3750062327708},"OPEX CONTROL","Controller","India",{"$f":"VLOOKUP(tblSalaries[[#This Row],[Where do you work]],tblCountries[[Actual]:[Mapping]],2,FALSE)","v":"India"},"All the 8 hours baby, all the 8!",4]
[null,"ID0774","2012-05-26T17:51:27",48000,48000,"USD",{"$f":"tblSalaries[[#This Row],[clean Salary (in local currency)]]*VLOOKUP(tblSalaries[[#This Row],[Currency]],tblXrate[],2,FALSE)","v":48000},"Consultant","Consultant","Singapore",{"$f":"VLOOKUP(tblSalaries[[#This Row],[Where do you work]],tblCountries[[Actual]:[Mapping]],2,FALSE)","v":"Singapore"},"All the 8 hours baby, all the 8!",3]
[null,"ID0775","2012-05-26T18:19:49","2.2 lakhs per annum",220000,"INR",{"$f":"tblSalaries[[#This Row],[clean Salary (in local currency)]]*VLOOKUP(tblSalaries[[#This Row],[Currency]],tblXrate[],2,FALSE)","v":3917.7416712373652},"Associate Software Engineer","Engineer","India",{"$f":"VLOOKUP(tblSalaries[[#This Row],[Where do you work]],tblCountries[[Actual]:[Mapping]],2,FALSE)","v":"India"},"4 to 6 hours a day",2]
[null,"ID0776","2012-05-26T18:29:06",13500,13500,"USD",{"$f":"tblSalaries[[#This Row],[clean Salary (in local currency)]]*VLOOKUP(tblSalaries[[#This Row],[Currency]],tblXrate[],2,FALSE)","v":13500},"MIS","Reporting","India",{"$f":"VLOOKUP(tblSalaries[[#This Row],[Where do you work]],tblCountries[[Actual]:[Mapping]],2,FALSE)","v":"India"},"All the 8 hours baby, all the 8!",2.5]
[null,"ID0777","2012-05-26T18:35:20","45000 $",45000,"USD",{"$f":"tblSalaries[[#This Row],[clean Salary (in local currency)]]*VLOOKUP(tblSalaries[[#This Row],[Currency]],tblXrate[],2,FALSE)","v":45000},"AGM","Manager","India",{"$f":"VLOOKUP(tblSalaries[[#This Row],[Where do you work]],tblCountries[[Actual]:[Mapping]],2,FALSE)","v":"India"},"1 or 2 hours a day",15]
[null,"ID0778","2012-05-26T18:38:41",55000,55000,"EUR",{"$f":"tblSalaries[[#This Row],[clean Salary (in local currency)]]*VLOOKUP(tblSalaries[[#This Row],[Currency]],tblXrate[],2,FALSE)","v":69871.969144538423},"CFO","CXO or Top Mgmt.","italy",{"$f":"VLOOKUP(tblSalaries[[#This Row],[Where do you work]],tblCountries[[Actual]:[Mapping]],2,FALSE)","v":"Italy"},"2 to 3 hours per day",18]
[null,"ID0779","2012-05-26T18:41:31","Rs 40000",480000,"INR",{"$f":"tblSalaries[[#This Row],[clean Salary (in local currency)]]*VLOOKUP(tblSalaries[[#This Row],[Currency]],tblXrate[],2,FALSE)","v":8547.8000099724322},"Banker","Manager","India",{"$f":"VLOOKUP(tblSalaries[[#This Row],[Where do you work]],tblCountries[[Actual]:[Mapping]],2,FALSE)","v":"India"},"4 to 6 hours a day",11]
[null,"ID0780","2012-05-26T18:44:00","Dhs 2800 + Accomodation",33600,"AED",{"$f":"tblSalaries[[#This Row],[clean Salary (in local currency)]]*VLOOKUP(tblSalaries[[#This Row],[Currency]],tblXrate[],2,FALSE)","v":9146.5655463031271},"Accountant","Accountant","Dubai",{"$f":"VLOOKUP(tblSalaries[[#This Row],[Where do you work]],tblCountries[[Actual]:[Mapping]],2,FALSE)","v":"Dubai"},"1 or 2 hours a day",7]
[null,"ID0781","2012-05-26T18:56:52",570000,570000,"INR",{"$f":"tblSalaries[[#This Row],[clean Salary (in local currency)]]*VLOOKUP(tblSalaries[[#This Row],[Currency]],tblXrate[],2,FALSE)","v":10150.512511842264},"Analyst","Analyst","India",{"$f":"VLOOKUP(tblSalaries[[#This Row],[Where do you work]],tblCountries[[Actual]:[Mapping]],2,FALSE)","v":"India"},"All the 8 hours baby, all the 8!",2.4]
[null,"ID0782","2012-05-26T19:07:55",636000,636000,"INR",{"$f":"tblSalaries[[#This Row],[clean Salary (in local currency)]]*VLOOKUP(tblSalaries[[#This Row],[Currency]],tblXrate[],2,FALSE)","v":11325.835013213473},"Program Manager","Manager","India",{"$f":"VLOOKUP(tblSalaries[[#This Row],[Where do you work]],tblCountries[[Actual]:[Mapping]],2,FALSE)","v":"India"},"4 to 6 hours a day",7]
[null,"ID0783","2012-05-26T19:13:39","180000 PKR",180000,"PKR",{"$f":"tblSalaries[[#This Row],[clean Salary (in local currency)]]*VLOOKUP(tblSalaries[[#This Row],[Currency]],tblXrate[],2,FALSE)","v":1910.5359690238436},"S&D Reporting & Analysis Team Leader","Reporting","Pakistan",{"$f":"VLOOKUP(tblSalaries[[#This Row],[Where do you work]],tblCountries[[Actual]:[Mapping]],2,FALSE)","v":"Pakistan"},"All the 8 hours baby, all the 8!",7]
[null,"ID0784","2012-05-26T19:22:53","AUS$36000",36000,"USD",{"$f":"tblSalaries[[#This Row],[clean Salary (in local currency)]]*VLOOKUP(tblSalaries[[#This Row],[Currency]],tblXrate[],2,FALSE)","v":36000},"Key Expert User","Manager","Australia",{"$f":"VLOOKUP(tblSalaries[[#This Row],[Where do you work]],tblCountries[[Actual]:[Mapping]],2,FALSE)","v":"Australia"},"2 to 3 hours per day",12]
[null,"ID0785","2012-05-26T19:29:23","2.25 lakhs per year(prof income)",2250000,"INR",{"$f":"tblSalaries[[#This Row],[clean Salary (in local currency)]]*VLOOKUP(tblSalaries[[#This Row],[Currency]],tblXrate[],2,FALSE)","v":40067.812546745779},"company secretary","Accountant","India",{"$f":"VLOOKUP(tblSalaries[[#This Row],[Where do you work]],tblCountries[[Actual]:[Mapping]],2,FALSE)","v":"India"},"1 or 2 hours a day",5]
[null,"ID0786","2012-05-26T19:29:34",16000,16000,"USD",{"$f":"tblSalaries[[#This Row],[clean Salary (in local currency)]]*VLOOKUP(tblSalaries[[#This Row],[Currency]],tblXrate[],2,FALSE)","v":16000},"Mis executiv","Reporting","India",{"$f":"VLOOKUP(tblSalaries[[#This Row],[Where do you work]],tblCountries[[Actual]:[Mapping]],2,FALSE)","v":"India"},"All the 8 hours baby, all the 8!",1]
[null,"ID0787","2012-05-26T19:34:12",240000,240000,"INR",{"$f":"tblSalaries[[#This Row],[clean Salary (in local currency)]]*VLOOKUP(tblSalaries[[#This Row],[Currency]],tblXrate[],2,FALSE)","v":4273.9000049862161},"Analyst","Analyst","India",{"$f":"VLOOKUP(tblSalaries[[#This Row],[Where do you work]],tblCountries[[Actual]:[Mapping]],2,FALSE)","v":"India"},"All the 8 hours baby, all the 8!",4]
[null,"ID0788","2012-05-26T19:43:36","INR 400000",400000,"INR",{"$f":"tblSalaries[[#This Row],[clean Salary (in local currency)]]*VLOOKUP(tblSalaries[[#This Row],[Currency]],tblXrate[],2,FALSE)","v":7123.1666749770275},"Asst.Manager","Manager","India",{"$f":"VLOOKUP(tblSalaries[[#This Row],[Where do you work]],tblCountries[[Actual]:[Mapping]],2,FALSE)","v":"India"},"4 to 6 hours a day",7]
[null,"ID0789","2012-05-26T20:08:21",10000,10000,"USD",{"$f":"tblSalaries[[#This Row],[clean Salary (in local currency)]]*VLOOKUP(tblSalaries[[#This Row],[Currency]],tblXrate[],2,FALSE)","v":10000},"BDM","Manager","India",{"$f":"VLOOKUP(tblSalaries[[#This Row],[Where do you work]],tblCountries[[Actual]:[Mapping]],2,FALSE)","v":"India"},"1 or 2 hours a day",12]
[null,"ID0790","2012-05-26T20:16:28","CA$66000",66000,"CAD",{"$f":"tblSalaries[[#This Row],[clean Salary (in local currency)]]*VLOOKUP(tblSalaries[[#This Row],[Currency]],tblXrate[],2,FALSE)","v":64901.860520001574},"Programmer-analyst","Analyst","Canada",{"$f":"VLOOKUP(tblSalaries[[#This Row],[Where do you work]],tblCountries[[Actual]:[Mapping]],2,FALSE)","v":"Canada"},"2 to 3 hours per day",20]
[null,"ID0791","2012-05-26T20:19:36",65000,65000,"USD",{"$f":"tblSalaries[[#This Row],[clean Salary (in local currency)]]*VLOOKUP(tblSalaries[[#This Row],[Currency]],tblXrate[],2,FALSE)","v":65000},"security analyst","Analyst","USA",{"$f":"VLOOKUP(tblSalaries[[#This Row],[Where do you work]],tblCountries[[Actual]:[Mapping]],2,FALSE)","v":"USA"},"2 to 3 hours per day",10]
[null,"ID0792","2012-05-26T20:20:34","Rs 450000",450000,"INR",{"$f":"tblSalaries[[#This Row],[clean Salary (in local currency)]]*VLOOKUP(tblSalaries[[#This Row],[Currency]],tblXrate[],2,FALSE)","v":8013.5625093491553},"Material Planner","Manager","India",{"$f":"VLOOKUP(tblSalaries[[#This Row],[Where do you work]],tblCountries[[Actual]:[Mapping]],2,FALSE)","v":"India"},"All the 8 hours baby, all the 8!",1.5]
[null,"ID0793","2012-05-26T20:27:19",100000,100000,"CAD",{"$f":"tblSalaries[[#This Row],[clean Salary (in local currency)]]*VLOOKUP(tblSalaries[[#This Row],[Currency]],tblXrate[],2,FALSE)","v":98336.152303032693},"VP Infrastructure","CXO or Top Mgmt.","Canada",{"$f":"VLOOKUP(tblSalaries[[#This Row],[Where do you work]],tblCountries[[Actual]:[Mapping]],2,FALSE)","v":"Canada"},"4 to 6 hours a day",5]
[null,"ID0794","2012-05-26T20:31:30","ONE LACK FIFTY THOUSAND(INR)",150000,"INR",{"$f":"tblSalaries[[#This Row],[clean Salary (in local currency)]]*VLOOKUP(tblSalaries[[#This Row],[Currency]],tblXrate[],2,FALSE)","v":2671.1875031163854},"WORKING WITH PRODUCT TEAM OF MAKEMYTRIP.COM","Analyst","India",{"$f":"VLOOKUP(tblSalaries[[#This Row],[Where do you work]],tblCountries[[Actual]:[Mapping]],2,FALSE)","v":"India"},"4 to 6 hours a day",2]
[null,"ID0795","2012-05-26T20:50:07",96000,96000,"USD",{"$f":"tblSalaries[[#This Row],[clean Salary (in local currency)]]*VLOOKUP(tblSalaries[[#This Row],[Currency]],tblXrate[],2,FALSE)","v":96000},"MIS Executive","Reporting","India",{"$f":"VLOOKUP(tblSalaries[[#This Row],[Where do you work]],tblCountries[[Actual]:[Mapping]],2,FALSE)","v":"India"},"All the 8 hours baby, all the 8!",8]
[null,"ID0796","2012-05-26T20:57:13","Rs. 8000",1152000,"INR",{"$f":"tblSalaries[[#This Row],[clean Salary (in local currency)]]*VLOOKUP(tblSalaries[[#This Row],[Currency]],tblXrate[],2,FALSE)","v":20514.720023933838},"Cashier","Accountant","India",{"$f":"VLOOKUP(tblSalaries[[#This Row],[Where do you work]],tblCountries[[Actual]:[Mapping]],2,FALSE)","v":"India"},"4 to 6 hours a day",6]
[null,"ID0797","2012-05-26T20:57:17",15000,15000,"EUR",{"$f":"tblSalaries[[#This Row],[clean Salary (in local currency)]]*VLOOKUP(tblSalaries[[#This Row],[Currency]],tblXrate[],2,FALSE)","v":19055.991584874118},"Technician","Analyst","Spain",{"$f":"VLOOKUP(tblSalaries[[#This Row],[Where do you work]],tblCountries[[Actual]:[Mapping]],2,FALSE)","v":"Spain"},"2 to 3 hours per day",10]
[null,"ID0798","2012-05-26T21:00:40","Aud 65000",65000,"AUD",{"$f":"tblSalaries[[#This Row],[clean Salary (in local currency)]]*VLOOKUP(tblSalaries[[#This Row],[Currency]],tblXrate[],2,FALSE)","v":66294.12766617132},"Market analyst","Analyst","Australia",{"$f":"VLOOKUP(tblSalaries[[#This Row],[Where do you work]],tblCountries[[Actual]:[Mapping]],2,FALSE)","v":"Australia"},"All the 8 hours baby, all the 8!",10]
[null,"ID0799","2012-05-26T21:05:35","Rs. 377000",377000,"INR",{"$f":"tblSalaries[[#This Row],[clean Salary (in local currency)]]*VLOOKUP(tblSalaries[[#This Row],[Currency]],tblXrate[],2,FALSE)","v":6713.584591165848},"Team Developer","Analyst","India",{"$f":"VLOOKUP(tblSalaries[[#This Row],[Where do you work]],tblCountries[[Actual]:[Mapping]],2,FALSE)","v":"India"},"1 or 2 hours a day",7]
[null,"ID0800","2012-05-26T21:07:14","Â£29000",29000,"GBP",{"$f":"tblSalaries[[#This Row],[clean Salary (in local currency)]]*VLOOKUP(tblSalaries[[#This Row],[Currency]],tblXrate[],2,FALSE)","v":45709.169889951241},"Reporting Assistant","Reporting","UK",{"$f":"VLOOKUP(tblSalaries[[#This Row],[Where do you work]],tblCountries[[Actual]:[Mapping]],2,FALSE)","v":"UK"},"2 to 3 hours per day",15]
[null,"ID0801","2012-05-26T21:10:20",48500,48500,"USD",{"$f":"tblSalaries[[#This Row],[clean Salary (in local currency)]]*VLOOKUP(tblSalaries[[#This Row],[Currency]],tblXrate[],2,FALSE)","v":48500},"Loss Prevention Finance Coordinator","Manager","USA",{"$f":"VLOOKUP(tblSalaries[[#This Row],[Where do you work]],tblCountries[[Actual]:[Mapping]],2,FALSE)","v":"USA"},"2 to 3 hours per day",10]
[null,"ID0802","2012-05-26T21:13:02",600000,600000,"INR",{"$f":"tblSalaries[[#This Row],[clean Salary (in local currency)]]*VLOOKUP(tblSalaries[[#This Row],[Currency]],tblXrate[],2,FALSE)","v":10684.750012465542},"MIS Analyst","Analyst","India",{"$f":"VLOOKUP(tblSalaries[[#This Row],[Where do you work]],tblCountries[[Actual]:[Mapping]],2,FALSE)","v":"India"},"All the 8 hours baby, all the 8!",4]
[null,"ID0803","2012-05-26T21:13:51",33900,33900,"USD",{"$f":"tblSalaries[[#This Row],[clean Salary (in local currency)]]*VLOOKUP(tblSalaries[[#This Row],[Currency]],tblXrate[],2,FALSE)","v":33900},"Administrative Assistant","Analyst","USA",{"$f":"VLOOKUP(tblSalaries[[#This Row],[Where do you work]],tblCountries[[Actual]:[Mapping]],2,FALSE)","v":"USA"},"2 to 3 hours per day",10]
[null,"ID0804","2012-05-26T21:24:39","ZAR900,000",900000,"ZAR",{"$f":"tblSalaries[[#This Row],[clean Salary (in local currency)]]*VLOOKUP(tblSalaries[[#This Row],[Currency]],tblXrate[],2,FALSE)","v":109729.60187662003},"Business Analyst","Analyst","South Africa",{"$f":"VLOOKUP(tblSalaries[[#This Row],[Where do you work]],tblCountries[[Actual]:[Mapping]],2,FALSE)","v":"South Africa"},"All the 8 hours baby, all the 8!",40]
[null,"ID0805","2012-05-26T21:27:01",850000,850000,"INR",{"$f":"tblSalaries[[#This Row],[clean Salary (in local currency)]]*VLOOKUP(tblSalaries[[#This Row],[Currency]],tblXrate[],2,FALSE)","v":15136.729184326183},"Senior Research Analyst","Analyst","India",{"$f":"VLOOKUP(tblSalaries[[#This Row],[Where do you work]],tblCountries[[Actual]:[Mapping]],2,FALSE)","v":"India"},"4 to 6 hours a day",2]
[null,"ID0806","2012-05-26T21:27:17",85000,85000,"USD",{"$f":"tblSalaries[[#This Row],[clean Salary (in local currency)]]*VLOOKUP(tblSalaries[[#This Row],[Currency]],tblXrate[],2,FALSE)","v":85000},"Director, IT/Operations","CXO or Top Mgmt.","USA",{"$f":"VLOOKUP(tblSalaries[[#This Row],[Where do you work]],tblCountries[[Actual]:[Mapping]],2,FALSE)","v":"USA"},"4 to 6 hours a day",15]
[null,"ID0807","2012-05-26T21:40:49","Rs. 450000",450000,"INR",{"$f":"tblSalaries[[#This Row],[clean Salary (in local currency)]]*VLOOKUP(tblSalaries[[#This Row],[Currency]],tblXrate[],2,FALSE)","v":8013.5625093491553},"Sr. Executive","Manager","India",{"$f":"VLOOKUP(tblSalaries[[#This Row],[Where do you work]],tblCountries[[Actual]:[Mapping]],2,FALSE)","v":"India"},"4 to 6 hours a day",6]
[null,"ID0808","2012-05-26T21:43:54",48000,48000,"USD",{"$f":"tblSalaries[[#This Row],[clean Salary (in local currency)]]*VLOOKUP(tblSalaries[[#This Row],[Currency]],tblXrate[],2,FALSE)","v":48000},"Operations Support Coordinator","Manager","USA",{"$f":"VLOOKUP(tblSalaries[[#This Row],[Where do you work]],tblCountries[[Actual]:[Mapping]],2,FALSE)","v":"USA"},"2 to 3 hours per day",16]
[null,"ID0809","2012-05-26T21:56:36",170000,170000,"INR",{"$f":"tblSalaries[[#This Row],[clean Salary (in local currency)]]*VLOOKUP(tblSalaries[[#This Row],[Currency]],tblXrate[],2,FALSE)","v":3027.3458368652364},"Sr. Executive MIS","Reporting","India",{"$f":"VLOOKUP(tblSalaries[[#This Row],[Where do you work]],tblCountries[[Actual]:[Mapping]],2,FALSE)","v":"India"},"4 to 6 hours a day",2]
[null,"ID0810","2012-05-26T21:56:49",13100,13100,"USD",{"$f":"tblSalaries[[#This Row],[clean Salary (in local currency)]]*VLOOKUP(tblSalaries[[#This Row],[Currency]],tblXrate[],2,FALSE)","v":13100},"accountant","Accountant","India",{"$f":"VLOOKUP(tblSalaries[[#This Row],[Where do you work]],tblCountries[[Actual]:[Mapping]],2,FALSE)","v":"India"},"2 to 3 hours per day",5]
[null,"ID0811","2012-05-26T22:02:53",5000,60000,"USD",{"$f":"tblSalaries[[#This Row],[clean Salary (in local currency)]]*VLOOKUP(tblSalaries[[#This Row],[Currency]],tblXrate[],2,FALSE)","v":60000},"Audit Manager","Manager","UAE",{"$f":"VLOOKUP(tblSalaries[[#This Row],[Where do you work]],tblCountries[[Actual]:[Mapping]],2,FALSE)","v":"UAE"},"2 to 3 hours per day",15]
[null,"ID0812","2012-05-26T22:07:39","24000 $",24000,"USD",{"$f":"tblSalaries[[#This Row],[clean Salary (in local currency)]]*VLOOKUP(tblSalaries[[#This Row],[Currency]],tblXrate[],2,FALSE)","v":24000},"Logistic KA Manager","Manager","Croatia",{"$f":"VLOOKUP(tblSalaries[[#This Row],[Where do you work]],tblCountries[[Actual]:[Mapping]],2,FALSE)","v":"Croatia"},"2 to 3 hours per day",5]
[null,"ID0813","2012-05-26T22:08:56","Rs 20000",240000,"INR",{"$f":"tblSalaries[[#This Row],[clean Salary (in local currency)]]*VLOOKUP(tblSalaries[[#This Row],[Currency]],tblXrate[],2,FALSE)","v":4273.9000049862161},"MANAGER","Manager","India",{"$f":"VLOOKUP(tblSalaries[[#This Row],[Where do you work]],tblCountries[[Actual]:[Mapping]],2,FALSE)","v":"India"},"2 to 3 hours per day",3]
[null,"ID0814","2012-05-26T22:16:10","INR 650000",650000,"INR",{"$f":"tblSalaries[[#This Row],[clean Salary (in local currency)]]*VLOOKUP(tblSalaries[[#This Row],[Currency]],tblXrate[],2,FALSE)","v":11575.14584683767},"Deputy Manager","Manager","India",{"$f":"VLOOKUP(tblSalaries[[#This Row],[Where do you work]],tblCountries[[Actual]:[Mapping]],2,FALSE)","v":"India"},"2 to 3 hours per day",5]
[null,"ID0815","2012-05-26T22:22:58",95000,95000,"USD",{"$f":"tblSalaries[[#This Row],[clean Salary (in local currency)]]*VLOOKUP(tblSalaries[[#This Row],[Currency]],tblXrate[],2,FALSE)","v":95000},"Business Analyst","Analyst","USA",{"$f":"VLOOKUP(tblSalaries[[#This Row],[Where do you work]],tblCountries[[Actual]:[Mapping]],2,FALSE)","v":"USA"},"2 to 3 hours per day",13]
[null,"ID0816","2012-05-26T22:23:38",516000,516000,"INR",{"$f":"tblSalaries[[#This Row],[clean Salary (in local currency)]]*VLOOKUP(tblSalaries[[#This Row],[Currency]],tblXrate[],2,FALSE)","v":9188.8850107203652},"Management Trainee","Manager","India",{"$f":"VLOOKUP(tblSalaries[[#This Row],[Where do you work]],tblCountries[[Actual]:[Mapping]],2,FALSE)","v":"India"},"4 to 6 hours a day",0]
[null,"ID0817","2012-05-26T22:29:16","3500 Rs",504000,"INR",{"$f":"tblSalaries[[#This Row],[clean Salary (in local currency)]]*VLOOKUP(tblSalaries[[#This Row],[Currency]],tblXrate[],2,FALSE)","v":8975.1900104710548},"MNR","Manager","India",{"$f":"VLOOKUP(tblSalaries[[#This Row],[Where do you work]],tblCountries[[Actual]:[Mapping]],2,FALSE)","v":"India"},"All the 8 hours baby, all the 8!",3]
[null,"ID0818","2012-05-26T22:29:21",144000,144000,"INR",{"$f":"tblSalaries[[#This Row],[clean Salary (in local currency)]]*VLOOKUP(tblSalaries[[#This Row],[Currency]],tblXrate[],2,FALSE)","v":2564.3400029917298},"BPO information process enabler","Analyst","India",{"$f":"VLOOKUP(tblSalaries[[#This Row],[Where do you work]],tblCountries[[Actual]:[Mapping]],2,FALSE)","v":"India"},"All the 8 hours baby, all the 8!",1]
[null,"ID0820","2012-05-26T22:43:11","Â£55000",55000,"GBP",{"$f":"tblSalaries[[#This Row],[clean Salary (in local currency)]]*VLOOKUP(tblSalaries[[#This Row],[Currency]],tblXrate[],2,FALSE)","v":86689.804963700633},"Financial controller","Controller","UK",{"$f":"VLOOKUP(tblSalaries[[#This Row],[Where do you work]],tblCountries[[Actual]:[Mapping]],2,FALSE)","v":"UK"},"4 to 6 hours a day",12]
[null,"ID0821","2012-05-26T22:43:12",15500,15500,"USD",{"$f":"tblSalaries[[#This Row],[clean Salary (in local currency)]]*VLOOKUP(tblSalaries[[#This Row],[Currency]],tblXrate[],2,FALSE)","v":15500},"Engineer","Engineer","India",{"$f":"VLOOKUP(tblSalaries[[#This Row],[Where do you work]],tblCountries[[Actual]:[Mapping]],2,FALSE)","v":"India"},"1 or 2 hours a day",3]
[null,"ID0822","2012-05-26T22:45:14","R$3.000,00",300000,"BRL",{"$f":"tblSalaries[[#This Row],[clean Salary (in local currency)]]*VLOOKUP(tblSalaries[[#This Row],[Currency]],tblXrate[],2,FALSE)","v":148284.35006969364},"Market Intelligence Analyst","Analyst","Brazil",{"$f":"VLOOKUP(tblSalaries[[#This Row],[Where do you work]],tblCountries[[Actual]:[Mapping]],2,FALSE)","v":"Brazil"},"All the 8 hours baby, all the 8!",3]
[null,"ID0823","2012-05-26T22:48:11",600000,600000,"INR",{"$f":"tblSalaries[[#This Row],[clean Salary (in local currency)]]*VLOOKUP(tblSalaries[[#This Row],[Currency]],tblXrate[],2,FALSE)","v":10684.750012465542},"Reporting Analyst","Analyst","India",{"$f":"VLOOKUP(tblSalaries[[#This Row],[Where do you work]],tblCountries[[Actual]:[Mapping]],2,FALSE)","v":"India"},"All the 8 hours baby, all the 8!",5]
[null,"ID0824","2012-05-26T22:49:34",75000,75000,"USD",{"$f":"tblSalaries[[#This Row],[clean Salary (in local currency)]]*VLOOKUP(tblSalaries[[#This Row],[Currency]],tblXrate[],2,FALSE)","v":75000},"sr financial analyst","Analyst","USA",{"$f":"VLOOKUP(tblSalaries[[#This Row],[Where do you work]],tblCountries[[Actual]:[Mapping]],2,FALSE)","v":"USA"},"2 to 3 hours per day",27]
[null,"ID0825","2012-05-26T22:53:35","12000 $",12000,"USD",{"$f":"tblSalaries[[#This Row],[clean Salary (in local currency)]]*VLOOKUP(tblSalaries[[#This Row],[Currency]],tblXrate[],2,FALSE)","v":12000},"Investment manager","Manager","Ukraine",{"$f":"VLOOKUP(tblSalaries[[#This Row],[Where do you work]],tblCountries[[Actual]:[Mapping]],2,FALSE)","v":"Ukraine"},"4 to 6 hours a day",5]
[null,"ID0826","2012-05-26T23:02:00","INR 1700000",1700000,"INR",{"$f":"tblSalaries[[#This Row],[clean Salary (in local currency)]]*VLOOKUP(tblSalaries[[#This Row],[Currency]],tblXrate[],2,FALSE)","v":30273.458368652366},"Operations Lead","Manager","India",{"$f":"VLOOKUP(tblSalaries[[#This Row],[Where do you work]],tblCountries[[Actual]:[Mapping]],2,FALSE)","v":"India"},"All the 8 hours baby, all the 8!",1.1000000000000001]
[null,"ID0827","2012-05-26T23:03:21","US$30,000",30000,"USD",{"$f":"tblSalaries[[#This Row],[clean Salary (in local currency)]]*VLOOKUP(tblSalaries[[#This Row],[Currency]],tblXrate[],2,FALSE)","v":30000},"Financial Control Section Headm","Controller","Inonesia",{"$f":"VLOOKUP(tblSalaries[[#This Row],[Where do you work]],tblCountries[[Actual]:[Mapping]],2,FALSE)","v":"Indonesia"},"4 to 6 hours a day",7]
[null,"ID0828","2012-05-26T23:03:59","30000 Rs",360000,"INR",{"$f":"tblSalaries[[#This Row],[clean Salary (in local currency)]]*VLOOKUP(tblSalaries[[#This Row],[Currency]],tblXrate[],2,FALSE)","v":6410.8500074793246},"Application Developer","Analyst","India",{"$f":"VLOOKUP(tblSalaries[[#This Row],[Where do you work]],tblCountries[[Actual]:[Mapping]],2,FALSE)","v":"India"},"All the 8 hours baby, all the 8!",4]
[null,"ID0829","2012-05-26T23:04:02",100000,100000,"USD",{"$f":"tblSalaries[[#This Row],[clean Salary (in local currency)]]*VLOOKUP(tblSalaries[[#This Row],[Currency]],tblXrate[],2,FALSE)","v":100000},"director","CXO or Top Mgmt.","USA",{"$f":"VLOOKUP(tblSalaries[[#This Row],[Where do you work]],tblCountries[[Actual]:[Mapping]],2,FALSE)","v":"USA"},"4 to 6 hours a day",10]
[null,"ID0830","2012-05-26T23:04:53",42000,42000,"EUR",{"$f":"tblSalaries[[#This Row],[clean Salary (in local currency)]]*VLOOKUP(tblSalaries[[#This Row],[Currency]],tblXrate[],2,FALSE)","v":53356.776437647524},"Project Engineer","Engineer","The Netherlands",{"$f":"VLOOKUP(tblSalaries[[#This Row],[Where do you work]],tblCountries[[Actual]:[Mapping]],2,FALSE)","v":"Netherlands"},"4 to 6 hours a day",2]
[null,"ID0831","2012-05-26T23:05:15",40000,40000,"USD",{"$f":"tblSalaries[[#This Row],[clean Salary (in local currency)]]*VLOOKUP(tblSalaries[[#This Row],[Currency]],tblXrate[],2,FALSE)","v":40000},"High School Teacher","Manager","USA",{"$f":"VLOOKUP(tblSalaries[[#This Row],[Where do you work]],tblCountries[[Actual]:[Mapping]],2,FALSE)","v":"USA"},"2 to 3 hours per day",20]
[null,"ID0832","2012-05-26T23:14:58","5.5 lakhs",550000,"INR",{"$f":"tblSalaries[[#This Row],[clean Salary (in local currency)]]*VLOOKUP(tblSalaries[[#This Row],[Currency]],tblXrate[],2,FALSE)","v":9794.354178093412},"web analyst","Analyst","India",{"$f":"VLOOKUP(tblSalaries[[#This Row],[Where do you work]],tblCountries[[Actual]:[Mapping]],2,FALSE)","v":"India"},"4 to 6 hours a day",1]
[null,"ID0833","2012-05-26T23:15:18","65000 ron",65000,"RON",{"$f":"tblSalaries[[#This Row],[clean Salary (in local currency)]]*VLOOKUP(tblSalaries[[#This Row],[Currency]],tblXrate[],2,FALSE)","v":18499.860539512854},"HR Planning Specialist","Specialist","Romania",{"$f":"VLOOKUP(tblSalaries[[#This Row],[Where do you work]],tblCountries[[Actual]:[Mapping]],2,FALSE)","v":"Romania"},"4 to 6 hours a day",6]
[null,"ID0834","2012-05-26T23:17:09","15600 â‚¬",15600,"EUR",{"$f":"tblSalaries[[#This Row],[clean Salary (in local currency)]]*VLOOKUP(tblSalaries[[#This Row],[Currency]],tblXrate[],2,FALSE)","v":19818.231248269083},"Managment controller","Controller","Portugal",{"$f":"VLOOKUP(tblSalaries[[#This Row],[Where do you work]],tblCountries[[Actual]:[Mapping]],2,FALSE)","v":"Portugal"},"4 to 6 hours a day",5]
[null,"ID0835","2012-05-26T23:21:57","Rs.6,00,000/-",600000,"INR",{"$f":"tblSalaries[[#This Row],[clean Salary (in local currency)]]*VLOOKUP(tblSalaries[[#This Row],[Currency]],tblXrate[],2,FALSE)","v":10684.750012465542},"AO","Manager","India",{"$f":"VLOOKUP(tblSalaries[[#This Row],[Where do you work]],tblCountries[[Actual]:[Mapping]],2,FALSE)","v":"India"},"All the 8 hours baby, all the 8!",20]
[null,"ID0836","2012-05-26T23:36:14","Rs. 6,00,000",600000,"INR",{"$f":"tblSalaries[[#This Row],[clean Salary (in local currency)]]*VLOOKUP(tblSalaries[[#This Row],[Currency]],tblXrate[],2,FALSE)","v":10684.750012465542},"Project Manager","Manager","India",{"$f":"VLOOKUP(tblSalaries[[#This Row],[Where do you work]],tblCountries[[Actual]:[Mapping]],2,FALSE)","v":"India"},"2 to 3 hours per day",18]
[null,"ID0837","2012-05-26T23:38:24",1000000,1000000,"INR",{"$f":"tblSalaries[[#This Row],[clean Salary (in local currency)]]*VLOOKUP(tblSalaries[[#This Row],[Currency]],tblXrate[],2,FALSE)","v":17807.916687442568},"business analyist","Analyst","India",{"$f":"VLOOKUP(tblSalaries[[#This Row],[Where do you work]],tblCountries[[Actual]:[Mapping]],2,FALSE)","v":"India"},"4 to 6 hours a day",10]
[null,"ID0838","2012-05-26T23:47:34","13000 USD",13000,"USD",{"$f":"tblSalaries[[#This Row],[clean Salary (in local currency)]]*VLOOKUP(tblSalaries[[#This Row],[Currency]],tblXrate[],2,FALSE)","v":13000},"Business Analyst","Analyst","India",{"$f":"VLOOKUP(tblSalaries[[#This Row],[Where do you work]],tblCountries[[Actual]:[Mapping]],2,FALSE)","v":"India"},"All the 8 hours baby, all the 8!",6]
[null,"ID0839","2012-05-26T23:58:53","900000 Rs",900000,"INR",{"$f":"tblSalaries[[#This Row],[clean Salary (in local currency)]]*VLOOKUP(tblSalaries[[#This Row],[Currency]],tblXrate[],2,FALSE)","v":16027.125018698311},"Deputy Manager","Manager","India",{"$f":"VLOOKUP(tblSalaries[[#This Row],[Where do you work]],tblCountries[[Actual]:[Mapping]],2,FALSE)","v":"India"},"1 or 2 hours a day",9]
[null,"ID0840","2012-05-27T00:02:45",85000,85000,"USD",{"$f":"tblSalaries[[#This Row],[clean Salary (in local currency)]]*VLOOKUP(tblSalaries[[#This Row],[Currency]],tblXrate[],2,FALSE)","v":85000},"actuary","Accountant","USA",{"$f":"VLOOKUP(tblSalaries[[#This Row],[Where do you work]],tblCountries[[Actual]:[Mapping]],2,FALSE)","v":"USA"},"All the 8 hours baby, all the 8!",1]
[null,"ID0841","2012-05-27T00:07:52",6000,6000,"USD",{"$f":"tblSalaries[[#This Row],[clean Salary (in local currency)]]*VLOOKUP(tblSalaries[[#This Row],[Currency]],tblXrate[],2,FALSE)","v":6000},"Analysis Quality","Analyst","Colombia - South America",{"$f":"VLOOKUP(tblSalaries[[#This Row],[Where do you work]],tblCountries[[Actual]:[Mapping]],2,FALSE)","v":"Colombia"},"1 or 2 hours a day",10]
[null,"ID0842","2012-05-27T00:12:53",30000,30000,"USD",{"$f":"tblSalaries[[#This Row],[clean Salary (in local currency)]]*VLOOKUP(tblSalaries[[#This Row],[Currency]],tblXrate[],2,FALSE)","v":30000},"MIS Executive","Reporting","India",{"$f":"VLOOKUP(tblSalaries[[#This Row],[Where do you work]],tblCountries[[Actual]:[Mapping]],2,FALSE)","v":"India"},"4 to 6 hours a day",2]
[null,"ID0844","2012-05-27T00:19:04",100000,100000,"GBP",{"$f":"tblSalaries[[#This Row],[clean Salary (in local currency)]]*VLOOKUP(tblSalaries[[#This Row],[Currency]],tblXrate[],2,FALSE)","v":157617.8272067284},"Financial Controller","Controller","UK",{"$f":"VLOOKUP(tblSalaries[[#This Row],[Where do you work]],tblCountries[[Actual]:[Mapping]],2,FALSE)","v":"UK"},"2 to 3 hours per day",20]
[null,"ID0845","2012-05-27T00:33:06","1200000 Rs",1200000,"INR",{"$f":"tblSalaries[[#This Row],[clean Salary (in local currency)]]*VLOOKUP(tblSalaries[[#This Row],[Currency]],tblXrate[],2,FALSE)","v":21369.500024931083},"project manager","Manager","India",{"$f":"VLOOKUP(tblSalaries[[#This Row],[Where do you work]],tblCountries[[Actual]:[Mapping]],2,FALSE)","v":"India"},"1 or 2 hours a day",18]
[null,"ID0846","2012-05-27T00:53:20","2 lac",200000,"INR",{"$f":"tblSalaries[[#This Row],[clean Salary (in local currency)]]*VLOOKUP(tblSalaries[[#This Row],[Currency]],tblXrate[],2,FALSE)","v":3561.5833374885137},"Bio-Statiscian","Reporting","India",{"$f":"VLOOKUP(tblSalaries[[#This Row],[Where do you work]],tblCountries[[Actual]:[Mapping]],2,FALSE)","v":"India"},"4 to 6 hours a day",1]
[null,"ID0847","2012-05-27T01:04:46",5000,5000,"USD",{"$f":"tblSalaries[[#This Row],[clean Salary (in local currency)]]*VLOOKUP(tblSalaries[[#This Row],[Currency]],tblXrate[],2,FALSE)","v":5000},"Management Intern","Manager","India",{"$f":"VLOOKUP(tblSalaries[[#This Row],[Where do you work]],tblCountries[[Actual]:[Mapping]],2,FALSE)","v":"India"},"4 to 6 hours a day",1]
[null,"ID0848","2012-05-27T01:22:06","INR 2,00,000",200000,"INR",{"$f":"tblSalaries[[#This Row],[clean Salary (in local currency)]]*VLOOKUP(tblSalaries[[#This Row],[Currency]],tblXrate[],2,FALSE)","v":3561.5833374885137},"Sales Analyst","Analyst","India",{"$f":"VLOOKUP(tblSalaries[[#This Row],[Where do you work]],tblCountries[[Actual]:[Mapping]],2,FALSE)","v":"India"},"4 to 6 hours a day",2]
[null,"ID0849","2012-05-27T01:30:55","30000 eur",30000,"EUR",{"$f":"tblSalaries[[#This Row],[clean Salary (in local currency)]]*VLOOKUP(tblSalaries[[#This Row],[Currency]],tblXrate[],2,FALSE)","v":38111.983169748237},"financialcotroller","Accountant","portugal",{"$f":"VLOOKUP(tblSalaries[[#This Row],[Where do you work]],tblCountries[[Actual]:[Mapping]],2,FALSE)","v":"Portugal"},"All the 8 hours baby, all the 8!",8]
[null,"ID0850","2012-05-27T01:41:11","Rs. 10,00,000",1000000,"INR",{"$f":"tblSalaries[[#This Row],[clean Salary (in local currency)]]*VLOOKUP(tblSalaries[[#This Row],[Currency]],tblXrate[],2,FALSE)","v":17807.916687442568},"HR Analyst","Analyst","India",{"$f":"VLOOKUP(tblSalaries[[#This Row],[Where do you work]],tblCountries[[Actual]:[Mapping]],2,FALSE)","v":"India"},"4 to 6 hours a day",6.5]
[null,"ID0851","2012-05-27T01:46:00",650000,650000,"INR",{"$f":"tblSalaries[[#This Row],[clean Salary (in local currency)]]*VLOOKUP(tblSalaries[[#This Row],[Currency]],tblXrate[],2,FALSE)","v":11575.14584683767},"Financial Analyist","Analyst","India",{"$f":"VLOOKUP(tblSalaries[[#This Row],[Where do you work]],tblCountries[[Actual]:[Mapping]],2,FALSE)","v":"India"},"All the 8 hours baby, all the 8!",3.5]
[null,"ID0852","2012-05-27T02:33:22",100000,100000,"CAD",{"$f":"tblSalaries[[#This Row],[clean Salary (in local currency)]]*VLOOKUP(tblSalaries[[#This Row],[Currency]],tblXrate[],2,FALSE)","v":98336.152303032693},"Marketing Manager","Manager","Canada",{"$f":"VLOOKUP(tblSalaries[[#This Row],[Where do you work]],tblCountries[[Actual]:[Mapping]],2,FALSE)","v":"Canada"},"2 to 3 hours per day",10]
[null,"ID0854","2012-05-27T03:06:02",92500,92500,"USD",{"$f":"tblSalaries[[#This Row],[clean Salary (in local currency)]]*VLOOKUP(tblSalaries[[#This Row],[Currency]],tblXrate[],2,FALSE)","v":92500},"Dir of Analytics","Analyst","USA",{"$f":"VLOOKUP(tblSalaries[[#This Row],[Where do you work]],tblCountries[[Actual]:[Mapping]],2,FALSE)","v":"USA"},"2 to 3 hours per day",15]
[null,"ID0855","2012-05-27T03:16:05","Rs. 550000",550000,"INR",{"$f":"tblSalaries[[#This Row],[clean Salary (in local currency)]]*VLOOKUP(tblSalaries[[#This Row],[Currency]],tblXrate[],2,FALSE)","v":9794.354178093412},"Analyst","Analyst","India",{"$f":"VLOOKUP(tblSalaries[[#This Row],[Where do you work]],tblCountries[[Actual]:[Mapping]],2,FALSE)","v":"India"},"4 to 6 hours a day",1]
[null,"ID0856","2012-05-27T03:19:29",32000,32000,"USD",{"$f":"tblSalaries[[#This Row],[clean Salary (in local currency)]]*VLOOKUP(tblSalaries[[#This Row],[Currency]],tblXrate[],2,FALSE)","v":32000},"Reporting Manager","Manager","USA",{"$f":"VLOOKUP(tblSalaries[[#This Row],[Where do you work]],tblCountries[[Actual]:[Mapping]],2,FALSE)","v":"USA"},"4 to 6 hours a day",1]
[null,"ID0857","2012-05-27T03:25:05",55000,55000,"USD",{"$f":"tblSalaries[[#This Row],[clean Salary (in local currency)]]*VLOOKUP(tblSalaries[[#This Row],[Currency]],tblXrate[],2,FALSE)","v":55000},"Analyst","Analyst","USA",{"$f":"VLOOKUP(tblSalaries[[#This Row],[Where do you work]],tblCountries[[Actual]:[Mapping]],2,FALSE)","v":"USA"},"4 to 6 hours a day",10]
[null,"ID0858","2012-05-27T03:25:53",40000,40000,"USD",{"$f":"tblSalaries[[#This Row],[clean Salary (in local currency)]]*VLOOKUP(tblSalaries[[#This Row],[Currency]],tblXrate[],2,FALSE)","v":40000},"Data Research Assistant","Analyst","USA",{"$f":"VLOOKUP(tblSalaries[[#This Row],[Where do you work]],tblCountries[[Actual]:[Mapping]],2,FALSE)","v":"USA"},"All the 8 hours baby, all the 8!",4]
[null,"ID0859","2012-05-27T03:37:32","3000 $",3000,"USD",{"$f":"tblSalaries[[#This Row],[clean Salary (in local currency)]]*VLOOKUP(tblSalaries[[#This Row],[Currency]],tblXrate[],2,FALSE)","v":3000},"Statistical Analyst","Analyst","Pakistan",{"$f":"VLOOKUP(tblSalaries[[#This Row],[Where do you work]],tblCountries[[Actual]:[Mapping]],2,FALSE)","v":"Pakistan"},"2 to 3 hours per day",2]
[null,"ID0860","2012-05-27T03:37:36",43600,43600,"USD",{"$f":"tblSalaries[[#This Row],[clean Salary (in local currency)]]*VLOOKUP(tblSalaries[[#This Row],[Currency]],tblXrate[],2,FALSE)","v":43600},"Data Analyst","Analyst","USA",{"$f":"VLOOKUP(tblSalaries[[#This Row],[Where do you work]],tblCountries[[Actual]:[Mapping]],2,FALSE)","v":"USA"},"4 to 6 hours a day",5]
[null,"ID0861","2012-05-27T04:00:14","Rs. 45000",540000,"INR",{"$f":"tblSalaries[[#This Row],[clean Salary (in local currency)]]*VLOOKUP(tblSalaries[[#This Row],[Currency]],tblXrate[],2,FALSE)","v":9616.275011218986},"Senior analyst","Analyst","India",{"$f":"VLOOKUP(tblSalaries[[#This Row],[Where do you work]],tblCountries[[Actual]:[Mapping]],2,FALSE)","v":"India"},"All the 8 hours baby, all the 8!",8]
[null,"ID0862","2012-05-27T04:05:28",35000,35000,"USD",{"$f":"tblSalaries[[#This Row],[clean Salary (in local currency)]]*VLOOKUP(tblSalaries[[#This Row],[Currency]],tblXrate[],2,FALSE)","v":35000},"Purchasing Manager","Manager","Uruguay",{"$f":"VLOOKUP(tblSalaries[[#This Row],[Where do you work]],tblCountries[[Actual]:[Mapping]],2,FALSE)","v":"Uruguay"},"All the 8 hours baby, all the 8!",10]
[null,"ID0863","2012-05-27T04:07:07",12000,12000,"USD",{"$f":"tblSalaries[[#This Row],[clean Salary (in local currency)]]*VLOOKUP(tblSalaries[[#This Row],[Currency]],tblXrate[],2,FALSE)","v":12000},"Guide for About.com","Consultant","Spain",{"$f":"VLOOKUP(tblSalaries[[#This Row],[Where do you work]],tblCountries[[Actual]:[Mapping]],2,FALSE)","v":"Spain"},"2 to 3 hours per day",15]
[null,"ID0864","2012-05-27T04:12:04",5000,5000,"USD",{"$f":"tblSalaries[[#This Row],[clean Salary (in local currency)]]*VLOOKUP(tblSalaries[[#This Row],[Currency]],tblXrate[],2,FALSE)","v":5000},"Policy advisor","Consultant","Aruba",{"$f":"VLOOKUP(tblSalaries[[#This Row],[Where do you work]],tblCountries[[Actual]:[Mapping]],2,FALSE)","v":"Aruba"},"1 or 2 hours a day",13]
[null,"ID0865","2012-05-27T04:31:08","R134000",134000,"ZAR",{"$f":"tblSalaries[[#This Row],[clean Salary (in local currency)]]*VLOOKUP(tblSalaries[[#This Row],[Currency]],tblXrate[],2,FALSE)","v":16337.518501630093},"Data Analyst","Analyst","South Africa",{"$f":"VLOOKUP(tblSalaries[[#This Row],[Where do you work]],tblCountries[[Actual]:[Mapping]],2,FALSE)","v":"South Africa"},"4 to 6 hours a day",2]
[null,"ID0866","2012-05-27T04:40:33",65000,65000,"USD",{"$f":"tblSalaries[[#This Row],[clean Salary (in local currency)]]*VLOOKUP(tblSalaries[[#This Row],[Currency]],tblXrate[],2,FALSE)","v":65000},"Security Access Governance Analyst","Analyst","USA",{"$f":"VLOOKUP(tblSalaries[[#This Row],[Where do you work]],tblCountries[[Actual]:[Mapping]],2,FALSE)","v":"USA"},"1 or 2 hours a day",8]
[null,"ID0867","2012-05-27T06:17:41",40000,40000,"USD",{"$f":"tblSalaries[[#This Row],[clean Salary (in local currency)]]*VLOOKUP(tblSalaries[[#This Row],[Currency]],tblXrate[],2,FALSE)","v":40000},"IT Capacity Planner","Analyst","USA",{"$f":"VLOOKUP(tblSalaries[[#This Row],[Where do you work]],tblCountries[[Actual]:[Mapping]],2,FALSE)","v":"USA"},"All the 8 hours baby, all the 8!",2]
[null,"ID0868","2012-05-27T06:37:13",98000,98000,"USD",{"$f":"tblSalaries[[#This Row],[clean Salary (in local currency)]]*VLOOKUP(tblSalaries[[#This Row],[Currency]],tblXrate[],2,FALSE)","v":98000},"supply chain manager","Manager","indonesia",{"$f":"VLOOKUP(tblSalaries[[#This Row],[Where do you work]],tblCountries[[Actual]:[Mapping]],2,FALSE)","v":"Indonesia"},"2 to 3 hours per day",14]
[null,"ID0869","2012-05-27T06:37:15",50000,50000,"USD",{"$f":"tblSalaries[[#This Row],[clean Salary (in local currency)]]*VLOOKUP(tblSalaries[[#This Row],[Currency]],tblXrate[],2,FALSE)","v":50000},"Boss","CXO or Top Mgmt.","USA",{"$f":"VLOOKUP(tblSalaries[[#This Row],[Where do you work]],tblCountries[[Actual]:[Mapping]],2,FALSE)","v":"USA"},"All the 8 hours baby, all the 8!",15]
[null,"ID0870","2012-05-27T07:19:14",135000,135000,"USD",{"$f":"tblSalaries[[#This Row],[clean Salary (in local currency)]]*VLOOKUP(tblSalaries[[#This Row],[Currency]],tblXrate[],2,FALSE)","v":135000},"Director, P&A","CXO or Top Mgmt.","USA",{"$f":"VLOOKUP(tblSalaries[[#This Row],[Where do you work]],tblCountries[[Actual]:[Mapping]],2,FALSE)","v":"USA"},"4 to 6 hours a day",25]
[null,"ID0871","2012-05-27T08:07:40","125 $",125000,"USD",{"$f":"tblSalaries[[#This Row],[clean Salary (in local currency)]]*VLOOKUP(tblSalaries[[#This Row],[Currency]],tblXrate[],2,FALSE)","v":125000},"Project controls manager","Manager","Norway",{"$f":"VLOOKUP(tblSalaries[[#This Row],[Where do you work]],tblCountries[[Actual]:[Mapping]],2,FALSE)","v":"Norway"},"4 to 6 hours a day",6]
[null,"ID0872","2012-05-27T08:54:28",4500,4500,"USD",{"$f":"tblSalaries[[#This Row],[clean Salary (in local currency)]]*VLOOKUP(tblSalaries[[#This Row],[Currency]],tblXrate[],2,FALSE)","v":4500},"senior associate","Analyst","indonesia",{"$f":"VLOOKUP(tblSalaries[[#This Row],[Where do you work]],tblCountries[[Actual]:[Mapping]],2,FALSE)","v":"Indonesia"},"2 to 3 hours per day",4]
[null,"ID0873","2012-05-27T08:55:36",115000,115000,"USD",{"$f":"tblSalaries[[#This Row],[clean Salary (in local currency)]]*VLOOKUP(tblSalaries[[#This Row],[Currency]],tblXrate[],2,FALSE)","v":115000},"Principal Financial Analyst","Analyst","USA",{"$f":"VLOOKUP(tblSalaries[[#This Row],[Where do you work]],tblCountries[[Actual]:[Mapping]],2,FALSE)","v":"USA"},"4 to 6 hours a day",10]
[null,"ID0874","2012-05-27T09:17:47",70000,70000,"USD",{"$f":"tblSalaries[[#This Row],[clean Salary (in local currency)]]*VLOOKUP(tblSalaries[[#This Row],[Currency]],tblXrate[],2,FALSE)","v":70000},"Financial Analyst","Analyst","USA",{"$f":"VLOOKUP(tblSalaries[[#This Row],[Where do you work]],tblCountries[[Actual]:[Mapping]],2,FALSE)","v":"USA"},"All the 8 hours baby, all the 8!",15]
[null,"ID0875","2012-05-27T09:49:30",5000,60000,"USD",{"$f":"tblSalaries[[#This Row],[clean Salary (in local currency)]]*VLOOKUP(tblSalaries[[#This Row],[Currency]],tblXrate[],2,FALSE)","v":60000},"Store keeper","Analyst","USA",{"$f":"VLOOKUP(tblSalaries[[#This Row],[Where do you work]],tblCountries[[Actual]:[Mapping]],2,FALSE)","v":"USA"},"2 to 3 hours per day",8]
[null,"ID0876","2012-05-27T10:13:27",87456,87456,"USD",{"$f":"tblSalaries[[#This Row],[clean Salary (in local currency)]]*VLOOKUP(tblSalaries[[#This Row],[Currency]],tblXrate[],2,FALSE)","v":87456},"qa team supervisor ","Manager","USA",{"$f":"VLOOKUP(tblSalaries[[#This Row],[Where do you work]],tblCountries[[Actual]:[Mapping]],2,FALSE)","v":"USA"},"2 to 3 hours per day",12]
[null,"ID0877","2012-05-27T11:32:17",26400,26400,"USD",{"$f":"tblSalaries[[#This Row],[clean Salary (in local currency)]]*VLOOKUP(tblSalaries[[#This Row],[Currency]],tblXrate[],2,FALSE)","v":26400},"Supply Chain Administrator","Analyst","UAE",{"$f":"VLOOKUP(tblSalaries[[#This Row],[Where do you work]],tblCountries[[Actual]:[Mapping]],2,FALSE)","v":"UAE"},"All the 8 hours baby, all the 8!",6]
[null,"ID0878","2012-05-27T11:50:16",1000,12000,"USD",{"$f":"tblSalaries[[#This Row],[clean Salary (in local currency)]]*VLOOKUP(tblSalaries[[#This Row],[Currency]],tblXrate[],2,FALSE)","v":12000},"sup","Manager","UAE",{"$f":"VLOOKUP(tblSalaries[[#This Row],[Where do you work]],tblCountries[[Actual]:[Mapping]],2,FALSE)","v":"UAE"},"All the 8 hours baby, all the 8!",18]
[null,"ID0879","2012-05-27T12:03:51",144000,144000,"INR",{"$f":"tblSalaries[[#This Row],[clean Salary (in local currency)]]*VLOOKUP(tblSalaries[[#This Row],[Currency]],tblXrate[],2,FALSE)","v":2564.3400029917298},"Cost Trainee","Analyst","India",{"$f":"VLOOKUP(tblSalaries[[#This Row],[Where do you work]],tblCountries[[Actual]:[Mapping]],2,FALSE)","v":"India"},"4 to 6 hours a day",1]
[null,"ID0880","2012-05-27T12:32:45","62000 USD",62000,"USD",{"$f":"tblSalaries[[#This Row],[clean Salary (in local currency)]]*VLOOKUP(tblSalaries[[#This Row],[Currency]],tblXrate[],2,FALSE)","v":62000},"Deputy Manager Finance","Manager","Qatar",{"$f":"VLOOKUP(tblSalaries[[#This Row],[Where do you work]],tblCountries[[Actual]:[Mapping]],2,FALSE)","v":"Qatar"},"All the 8 hours baby, all the 8!",11]
[null,"ID0881","2012-05-27T12:35:15","3 lacs P.A",300000,"INR",{"$f":"tblSalaries[[#This Row],[clean Salary (in local currency)]]*VLOOKUP(tblSalaries[[#This Row],[Currency]],tblXrate[],2,FALSE)","v":5342.3750062327708},"Sales","Analyst","India",{"$f":"VLOOKUP(tblSalaries[[#This Row],[Where do you work]],tblCountries[[Actual]:[Mapping]],2,FALSE)","v":"India"},"1 or 2 hours a day",10]
[null,"ID0882","2012-05-27T12:37:02",40000,40000,"EUR",{"$f":"tblSalaries[[#This Row],[clean Salary (in local currency)]]*VLOOKUP(tblSalaries[[#This Row],[Currency]],tblXrate[],2,FALSE)","v":50815.977559664309},"Medical information analist","Analyst","Netherlands",{"$f":"VLOOKUP(tblSalaries[[#This Row],[Where do you work]],tblCountries[[Actual]:[Mapping]],2,FALSE)","v":"Netherlands"},"4 to 6 hours a day",4]
[null,"ID0883","2012-05-27T12:41:29","US 2130",25560,"USD",{"$f":"tblSalaries[[#This Row],[clean Salary (in local currency)]]*VLOOKUP(tblSalaries[[#This Row],[Currency]],tblXrate[],2,FALSE)","v":25560},"Training Coordinator","Manager","saudi arabia",{"$f":"VLOOKUP(tblSalaries[[#This Row],[Where do you work]],tblCountries[[Actual]:[Mapping]],2,FALSE)","v":"Saudi Arabia"},"4 to 6 hours a day",3]
[null,"ID0884","2012-05-27T12:57:51","Rs.60000/-",720000,"INR",{"$f":"tblSalaries[[#This Row],[clean Salary (in local currency)]]*VLOOKUP(tblSalaries[[#This Row],[Currency]],tblXrate[],2,FALSE)","v":12821.700014958649},"Article (Internship) - CA","Accountant","India",{"$f":"VLOOKUP(tblSalaries[[#This Row],[Where do you work]],tblCountries[[Actual]:[Mapping]],2,FALSE)","v":"India"},"4 to 6 hours a day",3]
[null,"ID0885","2012-05-27T13:06:50",600000,600000,"INR",{"$f":"tblSalaries[[#This Row],[clean Salary (in local currency)]]*VLOOKUP(tblSalaries[[#This Row],[Currency]],tblXrate[],2,FALSE)","v":10684.750012465542},"Asst Manager","Manager","India",{"$f":"VLOOKUP(tblSalaries[[#This Row],[Where do you work]],tblCountries[[Actual]:[Mapping]],2,FALSE)","v":"India"},"All the 8 hours baby, all the 8!",5]
[null,"ID0886","2012-05-27T13:27:19","Rs. 35000",420000,"PKR",{"$f":"tblSalaries[[#This Row],[clean Salary (in local currency)]]*VLOOKUP(tblSalaries[[#This Row],[Currency]],tblXrate[],2,FALSE)","v":4457.9172610556352},"Assistant Manager","Manager","Pakistan",{"$f":"VLOOKUP(tblSalaries[[#This Row],[Where do you work]],tblCountries[[Actual]:[Mapping]],2,FALSE)","v":"Pakistan"},"All the 8 hours baby, all the 8!",4]
[null,"ID0887","2012-05-27T13:29:52","$125000 / a excl bonus",125000,"USD",{"$f":"tblSalaries[[#This Row],[clean Salary (in local currency)]]*VLOOKUP(tblSalaries[[#This Row],[Currency]],tblXrate[],2,FALSE)","v":125000},"Commercial Director","CXO or Top Mgmt.","South Africa",{"$f":"VLOOKUP(tblSalaries[[#This Row],[Where do you work]],tblCountries[[Actual]:[Mapping]],2,FALSE)","v":"South Africa"},"4 to 6 hours a day",20]
[null,"ID0888","2012-05-27T13:34:12",43000,43000,"USD",{"$f":"tblSalaries[[#This Row],[clean Salary (in local currency)]]*VLOOKUP(tblSalaries[[#This Row],[Currency]],tblXrate[],2,FALSE)","v":43000},"Financial Analyst","Analyst","USA",{"$f":"VLOOKUP(tblSalaries[[#This Row],[Where do you work]],tblCountries[[Actual]:[Mapping]],2,FALSE)","v":"USA"},"4 to 6 hours a day",1]
[null,"ID0889","2012-05-27T13:41:04","400000 Rs",400000,"INR",{"$f":"tblSalaries[[#This Row],[clean Salary (in local currency)]]*VLOOKUP(tblSalaries[[#This Row],[Currency]],tblXrate[],2,FALSE)","v":7123.1666749770275},"engineer","Engineer","India",{"$f":"VLOOKUP(tblSalaries[[#This Row],[Where do you work]],tblCountries[[Actual]:[Mapping]],2,FALSE)","v":"India"},"2 to 3 hours per day",6]
[null,"ID0890","2012-05-27T13:41:05",10000,10000,"USD",{"$f":"tblSalaries[[#This Row],[clean Salary (in local currency)]]*VLOOKUP(tblSalaries[[#This Row],[Currency]],tblXrate[],2,FALSE)","v":10000},"Finance Staff","Accountant","Viet Nam",{"$f":"VLOOKUP(tblSalaries[[#This Row],[Where do you work]],tblCountries[[Actual]:[Mapping]],2,FALSE)","v":"Vietnam"},"4 to 6 hours a day",4]
[null,"ID0891","2012-05-27T13:42:15","inr 500000",500000,"INR",{"$f":"tblSalaries[[#This Row],[clean Salary (in local currency)]]*VLOOKUP(tblSalaries[[#This Row],[Currency]],tblXrate[],2,FALSE)","v":8903.9583437212841},"team coach","Manager","India",{"$f":"VLOOKUP(tblSalaries[[#This Row],[Where do you work]],tblCountries[[Actual]:[Mapping]],2,FALSE)","v":"India"},"1 or 2 hours a day",5]
[null,"ID0892","2012-05-27T13:45:47",36500,36500,"USD",{"$f":"tblSalaries[[#This Row],[clean Salary (in local currency)]]*VLOOKUP(tblSalaries[[#This Row],[Currency]],tblXrate[],2,FALSE)","v":36500},"Accountant","Accountant","Saudi Arabia",{"$f":"VLOOKUP(tblSalaries[[#This Row],[Where do you work]],tblCountries[[Actual]:[Mapping]],2,FALSE)","v":"Saudi Arabia"},"4 to 6 hours a day",15]
[null,"ID0893","2012-05-27T13:52:53","100,000 usd",100000,"USD",{"$f":"tblSalaries[[#This Row],[clean Salary (in local currency)]]*VLOOKUP(tblSalaries[[#This Row],[Currency]],tblXrate[],2,FALSE)","v":100000},"Director","CXO or Top Mgmt.","MÃ©xico",{"$f":"VLOOKUP(tblSalaries[[#This Row],[Where do you work]],tblCountries[[Actual]:[Mapping]],2,FALSE)","v":"Mexico"},"All the 8 hours baby, all the 8!",10]
[null,"ID0894","2012-05-27T14:04:31","Rs. 400000",400000,"INR",{"$f":"tblSalaries[[#This Row],[clean Salary (in local currency)]]*VLOOKUP(tblSalaries[[#This Row],[Currency]],tblXrate[],2,FALSE)","v":7123.1666749770275},"Accountancy","Accountant","India",{"$f":"VLOOKUP(tblSalaries[[#This Row],[Where do you work]],tblCountries[[Actual]:[Mapping]],2,FALSE)","v":"India"},"2 to 3 hours per day",8]
[null,"ID0895","2012-05-27T14:22:11","INR 23 L",2300000,"INR",{"$f":"tblSalaries[[#This Row],[clean Salary (in local currency)]]*VLOOKUP(tblSalaries[[#This Row],[Currency]],tblXrate[],2,FALSE)","v":40958.208381117904},"Manager - Business Planning & Reporting","Manager","India",{"$f":"VLOOKUP(tblSalaries[[#This Row],[Where do you work]],tblCountries[[Actual]:[Mapping]],2,FALSE)","v":"India"},"2 to 3 hours per day",8]
[null,"ID0896","2012-05-27T14:27:33","rs 100000",1200000,"INR",{"$f":"tblSalaries[[#This Row],[clean Salary (in local currency)]]*VLOOKUP(tblSalaries[[#This Row],[Currency]],tblXrate[],2,FALSE)","v":21369.500024931083},"ASST VICE PREDISDENT","CXO or Top Mgmt.","India",{"$f":"VLOOKUP(tblSalaries[[#This Row],[Where do you work]],tblCountries[[Actual]:[Mapping]],2,FALSE)","v":"India"},"4 to 6 hours a day",17]
[null,"ID0897","2012-05-27T14:47:21",120000,120000,"INR",{"$f":"tblSalaries[[#This Row],[clean Salary (in local currency)]]*VLOOKUP(tblSalaries[[#This Row],[Currency]],tblXrate[],2,FALSE)","v":2136.9500024931081},"co ordinator","Manager","India",{"$f":"VLOOKUP(tblSalaries[[#This Row],[Where do you work]],tblCountries[[Actual]:[Mapping]],2,FALSE)","v":"India"},"4 to 6 hours a day",5]
[null,"ID0898","2012-05-27T14:49:12","5,00,000 INR",500000,"INR",{"$f":"tblSalaries[[#This Row],[clean Salary (in local currency)]]*VLOOKUP(tblSalaries[[#This Row],[Currency]],tblXrate[],2,FALSE)","v":8903.9583437212841},"Planning Engineer","Engineer","India",{"$f":"VLOOKUP(tblSalaries[[#This Row],[Where do you work]],tblCountries[[Actual]:[Mapping]],2,FALSE)","v":"India"},"2 to 3 hours per day",3]
[null,"ID0899","2012-05-27T14:50:56",1000000,1000000,"INR",{"$f":"tblSalaries[[#This Row],[clean Salary (in local currency)]]*VLOOKUP(tblSalaries[[#This Row],[Currency]],tblXrate[],2,FALSE)","v":17807.916687442568},"Engagement Lead","Manager","India",{"$f":"VLOOKUP(tblSalaries[[#This Row],[Where do you work]],tblCountries[[Actual]:[Mapping]],2,FALSE)","v":"India"},"4 to 6 hours a day",5]
[null,"ID0900","2012-05-27T14:55:30","INR 850,000",850000,"INR",{"$f":"tblSalaries[[#This Row],[clean Salary (in local currency)]]*VLOOKUP(tblSalaries[[#This Row],[Currency]],tblXrate[],2,FALSE)","v":15136.729184326183},"Assistant Manager","Manager","India",{"$f":"VLOOKUP(tblSalaries[[#This Row],[Where do you work]],tblCountries[[Actual]:[Mapping]],2,FALSE)","v":"India"},"2 to 3 hours per day",3]
[null,"ID0901","2012-05-27T15:01:02","PhP168000",168000,"PHP",{"$f":"tblSalaries[[#This Row],[clean Salary (in local currency)]]*VLOOKUP(tblSalaries[[#This Row],[Currency]],tblXrate[],2,FALSE)","v":3982.448779308334},"Clerk","Analyst","Philippines",{"$f":"VLOOKUP(tblSalaries[[#This Row],[Where do you work]],tblCountries[[Actual]:[Mapping]],2,FALSE)","v":"Philippines"},"4 to 6 hours a day",10]
[null,"ID0903","2012-05-27T15:25:40",1300,15600,"USD",{"$f":"tblSalaries[[#This Row],[clean Salary (in local currency)]]*VLOOKUP(tblSalaries[[#This Row],[Currency]],tblXrate[],2,FALSE)","v":15600},"Document controller ","Controller","Kuwait ",{"$f":"VLOOKUP(tblSalaries[[#This Row],[Where do you work]],tblCountries[[Actual]:[Mapping]],2,FALSE)","v":"Kuwait "},"4 to 6 hours a day",13]
[null,"ID0904","2012-05-27T15:26:34","180000 INR",180000,"INR",{"$f":"tblSalaries[[#This Row],[clean Salary (in local currency)]]*VLOOKUP(tblSalaries[[#This Row],[Currency]],tblXrate[],2,FALSE)","v":3205.4250037396623},"Executive","Analyst","India",{"$f":"VLOOKUP(tblSalaries[[#This Row],[Where do you work]],tblCountries[[Actual]:[Mapping]],2,FALSE)","v":"India"},"2 to 3 hours per day",3.5]
[null,"ID0905","2012-05-27T15:32:10",10000,10000,"USD",{"$f":"tblSalaries[[#This Row],[clean Salary (in local currency)]]*VLOOKUP(tblSalaries[[#This Row],[Currency]],tblXrate[],2,FALSE)","v":10000},"Planner","Manager","India",{"$f":"VLOOKUP(tblSalaries[[#This Row],[Where do you work]],tblCountries[[Actual]:[Mapping]],2,FALSE)","v":"India"},"4 to 6 hours a day",6]
[null,"ID0906","2012-05-27T15:44:07",75010,75010,"USD",{"$f":"tblSalaries[[#This Row],[clean Salary (in local currency)]]*VLOOKUP(tblSalaries[[#This Row],[Currency]],tblXrate[],2,FALSE)","v":75010},"Senior Business Analyst","Analyst","USA",{"$f":"VLOOKUP(tblSalaries[[#This Row],[Where do you work]],tblCountries[[Actual]:[Mapping]],2,FALSE)","v":"USA"},"2 to 3 hours per day",6]
[null,"ID0907","2012-05-27T15:44:52","Rs 600000/-",600000,"INR",{"$f":"tblSalaries[[#This Row],[clean Salary (in local currency)]]*VLOOKUP(tblSalaries[[#This Row],[Currency]],tblXrate[],2,FALSE)","v":10684.750012465542},"Manager","Manager","India",{"$f":"VLOOKUP(tblSalaries[[#This Row],[Where do you work]],tblCountries[[Actual]:[Mapping]],2,FALSE)","v":"India"},"All the 8 hours baby, all the 8!",9]
[null,"ID0908","2012-05-27T15:48:03",16350,16350,"USD",{"$f":"tblSalaries[[#This Row],[clean Salary (in local currency)]]*VLOOKUP(tblSalaries[[#This Row],[Currency]],tblXrate[],2,FALSE)","v":16350},"Estimator","Manager","India",{"$f":"VLOOKUP(tblSalaries[[#This Row],[Where do you work]],tblCountries[[Actual]:[Mapping]],2,FALSE)","v":"India"},"4 to 6 hours a day",5]
[null,"ID0909","2012-05-27T16:10:04",80000,80000,"GBP",{"$f":"tblSalaries[[#This Row],[clean Salary (in local currency)]]*VLOOKUP(tblSalaries[[#This Row],[Currency]],tblXrate[],2,FALSE)","v":126094.26176538273},"Financial Modeller","Accountant","UK",{"$f":"VLOOKUP(tblSalaries[[#This Row],[Where do you work]],tblCountries[[Actual]:[Mapping]],2,FALSE)","v":"UK"},"4 to 6 hours a day",10]
[null,"ID0910","2012-05-27T16:10:27",60000,60000,"USD",{"$f":"tblSalaries[[#This Row],[clean Salary (in local currency)]]*VLOOKUP(tblSalaries[[#This Row],[Currency]],tblXrate[],2,FALSE)","v":60000},"Cost accountant","Accountant","Singapore",{"$f":"VLOOKUP(tblSalaries[[#This Row],[Where do you work]],tblCountries[[Actual]:[Mapping]],2,FALSE)","v":"Singapore"},"All the 8 hours baby, all the 8!",10]
[null,"ID0911","2012-05-27T16:24:50",1300000,1300000,"INR",{"$f":"tblSalaries[[#This Row],[clean Salary (in local currency)]]*VLOOKUP(tblSalaries[[#This Row],[Currency]],tblXrate[],2,FALSE)","v":23150.291693675339},"banker","Manager","India",{"$f":"VLOOKUP(tblSalaries[[#This Row],[Where do you work]],tblCountries[[Actual]:[Mapping]],2,FALSE)","v":"India"},"1 or 2 hours a day",3]
[null,"ID0912","2012-05-27T16:30:54",775000,775000,"INR",{"$f":"tblSalaries[[#This Row],[clean Salary (in local currency)]]*VLOOKUP(tblSalaries[[#This Row],[Currency]],tblXrate[],2,FALSE)","v":13801.135432767991},"Analyst","Analyst","India",{"$f":"VLOOKUP(tblSalaries[[#This Row],[Where do you work]],tblCountries[[Actual]:[Mapping]],2,FALSE)","v":"India"},"4 to 6 hours a day",2]
[null,"ID0913","2012-05-27T16:50:50","1050000 INR",1050000,"INR",{"$f":"tblSalaries[[#This Row],[clean Salary (in local currency)]]*VLOOKUP(tblSalaries[[#This Row],[Currency]],tblXrate[],2,FALSE)","v":18698.312521814696},"Manager Market Reesrach","Manager","India",{"$f":"VLOOKUP(tblSalaries[[#This Row],[Where do you work]],tblCountries[[Actual]:[Mapping]],2,FALSE)","v":"India"},"All the 8 hours baby, all the 8!",5]
[null,"ID0914","2012-05-27T17:10:36",36000,36000,"USD",{"$f":"tblSalaries[[#This Row],[clean Salary (in local currency)]]*VLOOKUP(tblSalaries[[#This Row],[Currency]],tblXrate[],2,FALSE)","v":36000},"QA Supervisor","Controller","Czech Republic",{"$f":"VLOOKUP(tblSalaries[[#This Row],[Where do you work]],tblCountries[[Actual]:[Mapping]],2,FALSE)","v":"Czech Republic"},"2 to 3 hours per day",9]
[null,"ID0915","2012-05-27T17:16:55","486000 INR",486000,"INR",{"$f":"tblSalaries[[#This Row],[clean Salary (in local currency)]]*VLOOKUP(tblSalaries[[#This Row],[Currency]],tblXrate[],2,FALSE)","v":8654.6475100970874},"Assistant manager","Manager","India",{"$f":"VLOOKUP(tblSalaries[[#This Row],[Where do you work]],tblCountries[[Actual]:[Mapping]],2,FALSE)","v":"India"},"All the 8 hours baby, all the 8!",6]
[null,"ID0916","2012-05-27T17:17:24","Â£65000",65000,"GBP",{"$f":"tblSalaries[[#This Row],[clean Salary (in local currency)]]*VLOOKUP(tblSalaries[[#This Row],[Currency]],tblXrate[],2,FALSE)","v":102451.58768437347},"Manager","Manager","UK",{"$f":"VLOOKUP(tblSalaries[[#This Row],[Where do you work]],tblCountries[[Actual]:[Mapping]],2,FALSE)","v":"UK"},"1 or 2 hours a day",15]
[null,"ID0917","2012-05-27T17:24:09",36400,36400,"USD",{"$f":"tblSalaries[[#This Row],[clean Salary (in local currency)]]*VLOOKUP(tblSalaries[[#This Row],[Currency]],tblXrate[],2,FALSE)","v":36400},"Analyst","Analyst","Zimbabwe",{"$f":"VLOOKUP(tblSalaries[[#This Row],[Where do you work]],tblCountries[[Actual]:[Mapping]],2,FALSE)","v":"Zimbabwe"},"4 to 6 hours a day",20]
[null,"ID0918","2012-05-27T18:19:31",64210.1,64210,"GBP",{"$f":"tblSalaries[[#This Row],[clean Salary (in local currency)]]*VLOOKUP(tblSalaries[[#This Row],[Currency]],tblXrate[],2,FALSE)","v":101206.40684944032},"HR Advisor - Systems & MI","Consultant","UK",{"$f":"VLOOKUP(tblSalaries[[#This Row],[Where do you work]],tblCountries[[Actual]:[Mapping]],2,FALSE)","v":"UK"},"4 to 6 hours a day",16]
[null,"ID0919","2012-05-27T18:33:51","300000RS",300000,"INR",{"$f":"tblSalaries[[#This Row],[clean Salary (in local currency)]]*VLOOKUP(tblSalaries[[#This Row],[Currency]],tblXrate[],2,FALSE)","v":5342.3750062327708},"ANALYST","Analyst","India",{"$f":"VLOOKUP(tblSalaries[[#This Row],[Where do you work]],tblCountries[[Actual]:[Mapping]],2,FALSE)","v":"India"},"4 to 6 hours a day",0.5]
[null,"ID0920","2012-05-27T19:39:26",104000,104000,"AED",{"$f":"tblSalaries[[#This Row],[clean Salary (in local currency)]]*VLOOKUP(tblSalaries[[#This Row],[Currency]],tblXrate[],2,FALSE)","v":28310.79811950968},"Financial Analyst","Analyst","UAE",{"$f":"VLOOKUP(tblSalaries[[#This Row],[Where do you work]],tblCountries[[Actual]:[Mapping]],2,FALSE)","v":"UAE"},"4 to 6 hours a day",11]
[null,"ID0921","2012-05-27T19:41:55",20500,20500,"EUR",{"$f":"tblSalaries[[#This Row],[clean Salary (in local currency)]]*VLOOKUP(tblSalaries[[#This Row],[Currency]],tblXrate[],2,FALSE)","v":26043.18849932796},"C&B Manager","Manager","Poland",{"$f":"VLOOKUP(tblSalaries[[#This Row],[Where do you work]],tblCountries[[Actual]:[Mapping]],2,FALSE)","v":"Poland"},"4 to 6 hours a day",8]
[null,"ID0922","2012-05-27T20:18:50","95000 AUD",95000,"AUD",{"$f":"tblSalaries[[#This Row],[clean Salary (in local currency)]]*VLOOKUP(tblSalaries[[#This Row],[Currency]],tblXrate[],2,FALSE)","v":96891.417358250401},"Senior Marketing Analyst","Analyst","Australia",{"$f":"VLOOKUP(tblSalaries[[#This Row],[Where do you work]],tblCountries[[Actual]:[Mapping]],2,FALSE)","v":"Australia"},"1 or 2 hours a day",7]
[null,"ID0923","2012-05-27T20:43:13","Rs. 144000",144000,"INR",{"$f":"tblSalaries[[#This Row],[clean Salary (in local currency)]]*VLOOKUP(tblSalaries[[#This Row],[Currency]],tblXrate[],2,FALSE)","v":2564.3400029917298},"operation supervisor","Controller","India",{"$f":"VLOOKUP(tblSalaries[[#This Row],[Where do you work]],tblCountries[[Actual]:[Mapping]],2,FALSE)","v":"India"},"4 to 6 hours a day",4]
[null,"ID0924","2012-05-27T20:51:55",180000,180000,"INR",{"$f":"tblSalaries[[#This Row],[clean Salary (in local currency)]]*VLOOKUP(tblSalaries[[#This Row],[Currency]],tblXrate[],2,FALSE)","v":3205.4250037396623},"MIS TEAM MEMBER","Reporting","India",{"$f":"VLOOKUP(tblSalaries[[#This Row],[Where do you work]],tblCountries[[Actual]:[Mapping]],2,FALSE)","v":"India"},"All the 8 hours baby, all the 8!",8]
[null,"ID0925","2012-05-27T21:04:07",600000,600000,"INR",{"$f":"tblSalaries[[#This Row],[clean Salary (in local currency)]]*VLOOKUP(tblSalaries[[#This Row],[Currency]],tblXrate[],2,FALSE)","v":10684.750012465542},"Sales Analyst","Analyst","India",{"$f":"VLOOKUP(tblSalaries[[#This Row],[Where do you work]],tblCountries[[Actual]:[Mapping]],2,FALSE)","v":"India"},"All the 8 hours baby, all the 8!",8]
[null,"ID0927","2012-05-27T21:21:41",150000,150000,"USD",{"$f":"tblSalaries[[#This Row],[clean Salary (in local currency)]]*VLOOKUP(tblSalaries[[#This Row],[Currency]],tblXrate[],2,FALSE)","v":150000},"Controller","Controller","USA",{"$f":"VLOOKUP(tblSalaries[[#This Row],[Where do you work]],tblCountries[[Actual]:[Mapping]],2,FALSE)","v":"USA"},"4 to 6 hours a day",25]
[null,"ID0928","2012-05-27T21:24:42","7 Lakhs",700000,"INR",{"$f":"tblSalaries[[#This Row],[clean Salary (in local currency)]]*VLOOKUP(tblSalaries[[#This Row],[Currency]],tblXrate[],2,FALSE)","v":12465.541681209797},"Business Support Executive","Manager","India",{"$f":"VLOOKUP(tblSalaries[[#This Row],[Where do you work]],tblCountries[[Actual]:[Mapping]],2,FALSE)","v":"India"},"4 to 6 hours a day",3]
[null,"ID0929","2012-05-27T21:44:39","15000 â‚¬",15000,"EUR",{"$f":"tblSalaries[[#This Row],[clean Salary (in local currency)]]*VLOOKUP(tblSalaries[[#This Row],[Currency]],tblXrate[],2,FALSE)","v":19055.991584874118},"analytic","Analyst","Slovenia",{"$f":"VLOOKUP(tblSalaries[[#This Row],[Where do you work]],tblCountries[[Actual]:[Mapping]],2,FALSE)","v":"Slovenia"},"4 to 6 hours a day",4]
[null,"ID0930","2012-05-27T21:49:55",105000,105000,"USD",{"$f":"tblSalaries[[#This Row],[clean Salary (in local currency)]]*VLOOKUP(tblSalaries[[#This Row],[Currency]],tblXrate[],2,FALSE)","v":105000},"business analyst","Analyst","USA",{"$f":"VLOOKUP(tblSalaries[[#This Row],[Where do you work]],tblCountries[[Actual]:[Mapping]],2,FALSE)","v":"USA"},"4 to 6 hours a day",20]
[null,"ID0931","2012-05-27T22:05:15",24000,24000,"USD",{"$f":"tblSalaries[[#This Row],[clean Salary (in local currency)]]*VLOOKUP(tblSalaries[[#This Row],[Currency]],tblXrate[],2,FALSE)","v":24000},"business analyst","Analyst","India",{"$f":"VLOOKUP(tblSalaries[[#This Row],[Where do you work]],tblCountries[[Actual]:[Mapping]],2,FALSE)","v":"India"},"4 to 6 hours a day",3]
[null,"ID0932","2012-05-27T22:22:01","50000 GBP",50000,"GBP",{"$f":"tblSalaries[[#This Row],[clean Salary (in local currency)]]*VLOOKUP(tblSalaries[[#This Row],[Currency]],tblXrate[],2,FALSE)","v":78808.913603364199},"Finance Analyst","Analyst","UK",{"$f":"VLOOKUP(tblSalaries[[#This Row],[Where do you work]],tblCountries[[Actual]:[Mapping]],2,FALSE)","v":"UK"},"All the 8 hours baby, all the 8!",10]
[null,"ID0933","2012-05-27T22:35:22",42000,42000,"USD",{"$f":"tblSalaries[[#This Row],[clean Salary (in local currency)]]*VLOOKUP(tblSalaries[[#This Row],[Currency]],tblXrate[],2,FALSE)","v":42000},"Credit Controller","Controller","Saudi Arabia",{"$f":"VLOOKUP(tblSalaries[[#This Row],[Where do you work]],tblCountries[[Actual]:[Mapping]],2,FALSE)","v":"Saudi Arabia"},"All the 8 hours baby, all the 8!",15]
[null,"ID0934","2012-05-27T22:40:38","R$ 19.200,00",19200,"BRL",{"$f":"tblSalaries[[#This Row],[clean Salary (in local currency)]]*VLOOKUP(tblSalaries[[#This Row],[Currency]],tblXrate[],2,FALSE)","v":9490.1984044603923},"Programmer","Analyst","Brazil",{"$f":"VLOOKUP(tblSalaries[[#This Row],[Where do you work]],tblCountries[[Actual]:[Mapping]],2,FALSE)","v":"Brazil"},"All the 8 hours baby, all the 8!",8]
[null,"ID0935","2012-05-27T22:58:39",60000,60000,"USD",{"$f":"tblSalaries[[#This Row],[clean Salary (in local currency)]]*VLOOKUP(tblSalaries[[#This Row],[Currency]],tblXrate[],2,FALSE)","v":60000},"Consultant","Consultant","Singapore",{"$f":"VLOOKUP(tblSalaries[[#This Row],[Where do you work]],tblCountries[[Actual]:[Mapping]],2,FALSE)","v":"Singapore"},"4 to 6 hours a day",5]
[null,"ID0936","2012-05-27T23:03:21",1000000,1000000,"INR",{"$f":"tblSalaries[[#This Row],[clean Salary (in local currency)]]*VLOOKUP(tblSalaries[[#This Row],[Currency]],tblXrate[],2,FALSE)","v":17807.916687442568},"business","Manager","India",{"$f":"VLOOKUP(tblSalaries[[#This Row],[Where do you work]],tblCountries[[Actual]:[Mapping]],2,FALSE)","v":"India"},"All the 8 hours baby, all the 8!",8]
[null,"ID0937","2012-05-27T23:10:01","Rs.7,00,000",700000,"INR",{"$f":"tblSalaries[[#This Row],[clean Salary (in local currency)]]*VLOOKUP(tblSalaries[[#This Row],[Currency]],tblXrate[],2,FALSE)","v":12465.541681209797},"Business Analyst","Analyst","India",{"$f":"VLOOKUP(tblSalaries[[#This Row],[Where do you work]],tblCountries[[Actual]:[Mapping]],2,FALSE)","v":"India"},"All the 8 hours baby, all the 8!",1]
[null,"ID0938","2012-05-27T23:32:30",20571,20571,"USD",{"$f":"tblSalaries[[#This Row],[clean Salary (in local currency)]]*VLOOKUP(tblSalaries[[#This Row],[Currency]],tblXrate[],2,FALSE)","v":20571},"CFO","CXO or Top Mgmt.","Albania",{"$f":"VLOOKUP(tblSalaries[[#This Row],[Where do you work]],tblCountries[[Actual]:[Mapping]],2,FALSE)","v":"Albania"},"4 to 6 hours a day",8]
[null,"ID0939","2012-05-27T23:43:21",290,3480,"USD",{"$f":"tblSalaries[[#This Row],[clean Salary (in local currency)]]*VLOOKUP(tblSalaries[[#This Row],[Currency]],tblXrate[],2,FALSE)","v":3480},"Reconciliation Manager in Textile Mill","Manager","Pakistan",{"$f":"VLOOKUP(tblSalaries[[#This Row],[Where do you work]],tblCountries[[Actual]:[Mapping]],2,FALSE)","v":"Pakistan"},"All the 8 hours baby, all the 8!",6]
[null,"ID0940","2012-05-27T23:46:03",18060,18060,"USD",{"$f":"tblSalaries[[#This Row],[clean Salary (in local currency)]]*VLOOKUP(tblSalaries[[#This Row],[Currency]],tblXrate[],2,FALSE)","v":18060},"Reporting Supervisor","Reporting","Philippines",{"$f":"VLOOKUP(tblSalaries[[#This Row],[Where do you work]],tblCountries[[Actual]:[Mapping]],2,FALSE)","v":"Philippines"},"4 to 6 hours a day",12]
[null,"ID0941","2012-05-27T23:47:25","30000 $",30000,"USD",{"$f":"tblSalaries[[#This Row],[clean Salary (in local currency)]]*VLOOKUP(tblSalaries[[#This Row],[Currency]],tblXrate[],2,FALSE)","v":30000},"Financial Expert","Accountant","Iran",{"$f":"VLOOKUP(tblSalaries[[#This Row],[Where do you work]],tblCountries[[Actual]:[Mapping]],2,FALSE)","v":"Iran"},"2 to 3 hours per day",30]
[null,"ID0943","2012-05-27T23:52:48","usd 2000 per month",24000,"USD",{"$f":"tblSalaries[[#This Row],[clean Salary (in local currency)]]*VLOOKUP(tblSalaries[[#This Row],[Currency]],tblXrate[],2,FALSE)","v":24000},"sr manager","Manager","India",{"$f":"VLOOKUP(tblSalaries[[#This Row],[Where do you work]],tblCountries[[Actual]:[Mapping]],2,FALSE)","v":"India"},"4 to 6 hours a day",10]
[null,"ID0944","2012-05-28T00:10:43",63200,63200,"EUR",{"$f":"tblSalaries[[#This Row],[clean Salary (in local currency)]]*VLOOKUP(tblSalaries[[#This Row],[Currency]],tblXrate[],2,FALSE)","v":80289.244544269619},"Consultant","Consultant","France",{"$f":"VLOOKUP(tblSalaries[[#This Row],[Where do you work]],tblCountries[[Actual]:[Mapping]],2,FALSE)","v":"France"},"4 to 6 hours a day",3]
[null,"ID0945","2012-05-28T00:17:26",70000,70000,"USD",{"$f":"tblSalaries[[#This Row],[clean Salary (in local currency)]]*VLOOKUP(tblSalaries[[#This Row],[Currency]],tblXrate[],2,FALSE)","v":70000},"Client Manager","Manager","USA",{"$f":"VLOOKUP(tblSalaries[[#This Row],[Where do you work]],tblCountries[[Actual]:[Mapping]],2,FALSE)","v":"USA"},"4 to 6 hours a day",4]
[null,"ID0946","2012-05-28T00:28:56","Rs 40000",480000,"INR",{"$f":"tblSalaries[[#This Row],[clean Salary (in local currency)]]*VLOOKUP(tblSalaries[[#This Row],[Currency]],tblXrate[],2,FALSE)","v":8547.8000099724322},"Manager","Manager","India",{"$f":"VLOOKUP(tblSalaries[[#This Row],[Where do you work]],tblCountries[[Actual]:[Mapping]],2,FALSE)","v":"India"},"2 to 3 hours per day",2]
[null,"ID0948","2012-05-28T00:36:20","INR 600K",600000,"INR",{"$f":"tblSalaries[[#This Row],[clean Salary (in local currency)]]*VLOOKUP(tblSalaries[[#This Row],[Currency]],tblXrate[],2,FALSE)","v":10684.750012465542},"Asst. Mgr. Finance","Analyst","India",{"$f":"VLOOKUP(tblSalaries[[#This Row],[Where do you work]],tblCountries[[Actual]:[Mapping]],2,FALSE)","v":"India"},"4 to 6 hours a day",11]
[null,"ID0949","2012-05-28T00:43:40","600000 INR",600000,"INR",{"$f":"tblSalaries[[#This Row],[clean Salary (in local currency)]]*VLOOKUP(tblSalaries[[#This Row],[Currency]],tblXrate[],2,FALSE)","v":10684.750012465542},"Executive","Analyst","India",{"$f":"VLOOKUP(tblSalaries[[#This Row],[Where do you work]],tblCountries[[Actual]:[Mapping]],2,FALSE)","v":"India"},"2 to 3 hours per day",4]
[null,"ID0950","2012-05-28T00:48:23",20000,20000,"USD",{"$f":"tblSalaries[[#This Row],[clean Salary (in local currency)]]*VLOOKUP(tblSalaries[[#This Row],[Currency]],tblXrate[],2,FALSE)","v":20000},"Financial Modeller","Accountant","Zambia",{"$f":"VLOOKUP(tblSalaries[[#This Row],[Where do you work]],tblCountries[[Actual]:[Mapping]],2,FALSE)","v":"Zambia"},"All the 8 hours baby, all the 8!",2]
[null,"ID0951","2012-05-28T01:17:17","42000 â‚¬",42000,"EUR",{"$f":"tblSalaries[[#This Row],[clean Salary (in local currency)]]*VLOOKUP(tblSalaries[[#This Row],[Currency]],tblXrate[],2,FALSE)","v":53356.776437647524},"Consultant","Consultant","Germany",{"$f":"VLOOKUP(tblSalaries[[#This Row],[Where do you work]],tblCountries[[Actual]:[Mapping]],2,FALSE)","v":"Germany"},"2 to 3 hours per day",3]
[null,"ID0952","2012-05-28T01:29:19",3000,36000,"USD",{"$f":"tblSalaries[[#This Row],[clean Salary (in local currency)]]*VLOOKUP(tblSalaries[[#This Row],[Currency]],tblXrate[],2,FALSE)","v":36000},"Accountant","Accountant","United Arab Emirates",{"$f":"VLOOKUP(tblSalaries[[#This Row],[Where do you work]],tblCountries[[Actual]:[Mapping]],2,FALSE)","v":"UAE"},"4 to 6 hours a day",4.5]
[null,"ID0953","2012-05-28T01:30:29",57000,57000,"USD",{"$f":"tblSalaries[[#This Row],[clean Salary (in local currency)]]*VLOOKUP(tblSalaries[[#This Row],[Currency]],tblXrate[],2,FALSE)","v":57000},"Construction Engineer","Engineer","USA",{"$f":"VLOOKUP(tblSalaries[[#This Row],[Where do you work]],tblCountries[[Actual]:[Mapping]],2,FALSE)","v":"USA"},"2 to 3 hours per day",4]
[null,"ID0954","2012-05-28T01:47:29",135000,135000,"USD",{"$f":"tblSalaries[[#This Row],[clean Salary (in local currency)]]*VLOOKUP(tblSalaries[[#This Row],[Currency]],tblXrate[],2,FALSE)","v":135000},"Marketing Insights Manager","Manager","USA",{"$f":"VLOOKUP(tblSalaries[[#This Row],[Where do you work]],tblCountries[[Actual]:[Mapping]],2,FALSE)","v":"USA"},"All the 8 hours baby, all the 8!",15]
[null,"ID0955","2012-05-28T02:25:13",75000,75000,"EUR",{"$f":"tblSalaries[[#This Row],[clean Salary (in local currency)]]*VLOOKUP(tblSalaries[[#This Row],[Currency]],tblXrate[],2,FALSE)","v":95279.957924370581},"Risk analyst","Analyst","Netherlands",{"$f":"VLOOKUP(tblSalaries[[#This Row],[Where do you work]],tblCountries[[Actual]:[Mapping]],2,FALSE)","v":"Netherlands"},"4 to 6 hours a day",4]
[null,"ID0957","2012-05-28T03:34:14",45000,45000,"EUR",{"$f":"tblSalaries[[#This Row],[clean Salary (in local currency)]]*VLOOKUP(tblSalaries[[#This Row],[Currency]],tblXrate[],2,FALSE)","v":57167.974754622352},"data analist","Analyst","netherlands",{"$f":"VLOOKUP(tblSalaries[[#This Row],[Where do you work]],tblCountries[[Actual]:[Mapping]],2,FALSE)","v":"Netherlands"},"2 to 3 hours per day",10]
[null,"ID0958","2012-05-28T03:44:00","2,000,000 Naira",2000000,"NAIRA",{"$f":"tblSalaries[[#This Row],[clean Salary (in local currency)]]*VLOOKUP(tblSalaries[[#This Row],[Currency]],tblXrate[],2,FALSE)","v":12326.656394453004},"Head Business Advisory","Manager","Nigeria",{"$f":"VLOOKUP(tblSalaries[[#This Row],[Where do you work]],tblCountries[[Actual]:[Mapping]],2,FALSE)","v":"Nigeria"},"4 to 6 hours a day",5]
[null,"ID0959","2012-05-28T04:05:14",8000,8000,"USD",{"$f":"tblSalaries[[#This Row],[clean Salary (in local currency)]]*VLOOKUP(tblSalaries[[#This Row],[Currency]],tblXrate[],2,FALSE)","v":8000},"IT Analyst","Analyst","India",{"$f":"VLOOKUP(tblSalaries[[#This Row],[Where do you work]],tblCountries[[Actual]:[Mapping]],2,FALSE)","v":"India"},"1 or 2 hours a day",5]
[null,"ID0960","2012-05-28T04:40:41","48000 $",48000,"USD",{"$f":"tblSalaries[[#This Row],[clean Salary (in local currency)]]*VLOOKUP(tblSalaries[[#This Row],[Currency]],tblXrate[],2,FALSE)","v":48000},"Merchandise planner","Manager","France",{"$f":"VLOOKUP(tblSalaries[[#This Row],[Where do you work]],tblCountries[[Actual]:[Mapping]],2,FALSE)","v":"France"},"4 to 6 hours a day",5]
[null,"ID0961","2012-05-28T05:07:44",40000,40000,"USD",{"$f":"tblSalaries[[#This Row],[clean Salary (in local currency)]]*VLOOKUP(tblSalaries[[#This Row],[Currency]],tblXrate[],2,FALSE)","v":40000},"analyst","Analyst","NZ",{"$f":"VLOOKUP(tblSalaries[[#This Row],[Where do you work]],tblCountries[[Actual]:[Mapping]],2,FALSE)","v":"New Zealand"},"4 to 6 hours a day",5]
[null,"ID0962","2012-05-28T05:09:12","NZ$ 75000",75000,"NZD",{"$f":"tblSalaries[[#This Row],[clean Salary (in local currency)]]*VLOOKUP(tblSalaries[[#This Row],[Currency]],tblXrate[],2,FALSE)","v":59819.107020370408},"Information Analyst","Analyst","New  Zealand",{"$f":"VLOOKUP(tblSalaries[[#This Row],[Where do you work]],tblCountries[[Actual]:[Mapping]],2,FALSE)","v":"New Zealand"},"4 to 6 hours a day",10]
[null,"ID0963","2012-05-28T05:12:38",150000,150000,"USD",{"$f":"tblSalaries[[#This Row],[clean Salary (in local currency)]]*VLOOKUP(tblSalaries[[#This Row],[Currency]],tblXrate[],2,FALSE)","v":150000},"Software Tester","Analyst","Switzerland",{"$f":"VLOOKUP(tblSalaries[[#This Row],[Where do you work]],tblCountries[[Actual]:[Mapping]],2,FALSE)","v":"Switzerland"},"1 or 2 hours a day",20]
[null,"ID0964","2012-05-28T05:20:41",80000,80000,"AUD",{"$f":"tblSalaries[[#This Row],[clean Salary (in local currency)]]*VLOOKUP(tblSalaries[[#This Row],[Currency]],tblXrate[],2,FALSE)","v":81592.772512210868},"Billing manager","Manager","Australia",{"$f":"VLOOKUP(tblSalaries[[#This Row],[Where do you work]],tblCountries[[Actual]:[Mapping]],2,FALSE)","v":"Australia"},"4 to 6 hours a day",25]
[null,"ID0965","2012-05-28T05:48:56",95000,95000,"AUD",{"$f":"tblSalaries[[#This Row],[clean Salary (in local currency)]]*VLOOKUP(tblSalaries[[#This Row],[Currency]],tblXrate[],2,FALSE)","v":96891.417358250401},"financial analyst","Analyst","Australia",{"$f":"VLOOKUP(tblSalaries[[#This Row],[Where do you work]],tblCountries[[Actual]:[Mapping]],2,FALSE)","v":"Australia"},"2 to 3 hours per day",20]
[null,"ID0966","2012-05-28T05:51:10","AUD90000",90000,"AUD",{"$f":"tblSalaries[[#This Row],[clean Salary (in local currency)]]*VLOOKUP(tblSalaries[[#This Row],[Currency]],tblXrate[],2,FALSE)","v":91791.869076237213},"Senior Research Analyst","Analyst","Australia",{"$f":"VLOOKUP(tblSalaries[[#This Row],[Where do you work]],tblCountries[[Actual]:[Mapping]],2,FALSE)","v":"Australia"},"4 to 6 hours a day",13]
[null,"ID0967","2012-05-28T05:51:20",15000,15000,"USD",{"$f":"tblSalaries[[#This Row],[clean Salary (in local currency)]]*VLOOKUP(tblSalaries[[#This Row],[Currency]],tblXrate[],2,FALSE)","v":15000},"Quality Executive","Analyst","India",{"$f":"VLOOKUP(tblSalaries[[#This Row],[Where do you work]],tblCountries[[Actual]:[Mapping]],2,FALSE)","v":"India"},"2 to 3 hours per day",2]
[null,"ID0968","2012-05-28T06:25:36","AU$65",65000,"AUD",{"$f":"tblSalaries[[#This Row],[clean Salary (in local currency)]]*VLOOKUP(tblSalaries[[#This Row],[Currency]],tblXrate[],2,FALSE)","v":66294.12766617132},"Business Support ","Manager","Australia",{"$f":"VLOOKUP(tblSalaries[[#This Row],[Where do you work]],tblCountries[[Actual]:[Mapping]],2,FALSE)","v":"Australia"},"2 to 3 hours per day",5]
[null,"ID0969","2012-05-28T06:35:50",100000,100000,"AUD",{"$f":"tblSalaries[[#This Row],[clean Salary (in local currency)]]*VLOOKUP(tblSalaries[[#This Row],[Currency]],tblXrate[],2,FALSE)","v":101990.96564026357},"Senior Consultant","Consultant","Australia",{"$f":"VLOOKUP(tblSalaries[[#This Row],[Where do you work]],tblCountries[[Actual]:[Mapping]],2,FALSE)","v":"Australia"},"All the 8 hours baby, all the 8!",6]
[null,"ID0970","2012-05-28T06:51:54",60000,60000,"USD",{"$f":"tblSalaries[[#This Row],[clean Salary (in local currency)]]*VLOOKUP(tblSalaries[[#This Row],[Currency]],tblXrate[],2,FALSE)","v":60000},"Sales Manager","Manager","USA",{"$f":"VLOOKUP(tblSalaries[[#This Row],[Where do you work]],tblCountries[[Actual]:[Mapping]],2,FALSE)","v":"USA"},"2 to 3 hours per day",3]
[null,"ID0971","2012-05-28T06:52:05",43000,43000,"AUD",{"$f":"tblSalaries[[#This Row],[clean Salary (in local currency)]]*VLOOKUP(tblSalaries[[#This Row],[Currency]],tblXrate[],2,FALSE)","v":43856.11522531334},"Finance Officer","Manager","Australia",{"$f":"VLOOKUP(tblSalaries[[#This Row],[Where do you work]],tblCountries[[Actual]:[Mapping]],2,FALSE)","v":"Australia"},"All the 8 hours baby, all the 8!",1]
[null,"ID0972","2012-05-28T06:52:05",45616,45616,"USD",{"$f":"tblSalaries[[#This Row],[clean Salary (in local currency)]]*VLOOKUP(tblSalaries[[#This Row],[Currency]],tblXrate[],2,FALSE)","v":45616},"Assistant Fleet Analyst","Analyst","Australia",{"$f":"VLOOKUP(tblSalaries[[#This Row],[Where do you work]],tblCountries[[Actual]:[Mapping]],2,FALSE)","v":"Australia"},"4 to 6 hours a day",1.5]
[null,"ID0973","2012-05-28T07:00:25",95000,95000,"NZD",{"$f":"tblSalaries[[#This Row],[clean Salary (in local currency)]]*VLOOKUP(tblSalaries[[#This Row],[Currency]],tblXrate[],2,FALSE)","v":75770.868892469181},"Cost Accountant","Accountant","New Zealand",{"$f":"VLOOKUP(tblSalaries[[#This Row],[Where do you work]],tblCountries[[Actual]:[Mapping]],2,FALSE)","v":"New Zealand"},"4 to 6 hours a day",20]
[null,"ID0974","2012-05-28T07:21:12",56600,56600,"AUD",{"$f":"tblSalaries[[#This Row],[clean Salary (in local currency)]]*VLOOKUP(tblSalaries[[#This Row],[Currency]],tblXrate[],2,FALSE)","v":57726.886552389187},"Operations Coordinator","Manager","Australia",{"$f":"VLOOKUP(tblSalaries[[#This Row],[Where do you work]],tblCountries[[Actual]:[Mapping]],2,FALSE)","v":"Australia"},"2 to 3 hours per day",2]
[null,"ID0975","2012-05-28T07:23:07",20000,20000,"USD",{"$f":"tblSalaries[[#This Row],[clean Salary (in local currency)]]*VLOOKUP(tblSalaries[[#This Row],[Currency]],tblXrate[],2,FALSE)","v":20000},"data analyst","Analyst","Australia",{"$f":"VLOOKUP(tblSalaries[[#This Row],[Where do you work]],tblCountries[[Actual]:[Mapping]],2,FALSE)","v":"Australia"},"2 to 3 hours per day",2]
[null,"ID0976","2012-05-28T07:28:07","AUD$200,000",200000,"AUD",{"$f":"tblSalaries[[#This Row],[clean Salary (in local currency)]]*VLOOKUP(tblSalaries[[#This Row],[Currency]],tblXrate[],2,FALSE)","v":203981.93128052715},"Corporate Finance Manager","Manager","Australia",{"$f":"VLOOKUP(tblSalaries[[#This Row],[Where do you work]],tblCountries[[Actual]:[Mapping]],2,FALSE)","v":"Australia"},"4 to 6 hours a day",15]
[null,"ID0977","2012-05-28T07:28:34",50000,50000,"AUD",{"$f":"tblSalaries[[#This Row],[clean Salary (in local currency)]]*VLOOKUP(tblSalaries[[#This Row],[Currency]],tblXrate[],2,FALSE)","v":50995.482820131787},"Operations","Controller","Australia",{"$f":"VLOOKUP(tblSalaries[[#This Row],[Where do you work]],tblCountries[[Actual]:[Mapping]],2,FALSE)","v":"Australia"},"1 or 2 hours a day",5]
[null,"ID0978","2012-05-28T07:29:43",125000,125000,"AUD",{"$f":"tblSalaries[[#This Row],[clean Salary (in local currency)]]*VLOOKUP(tblSalaries[[#This Row],[Currency]],tblXrate[],2,FALSE)","v":127488.70705032947},"Director, Informatics","CXO or Top Mgmt.","Australia",{"$f":"VLOOKUP(tblSalaries[[#This Row],[Where do you work]],tblCountries[[Actual]:[Mapping]],2,FALSE)","v":"Australia"},"4 to 6 hours a day",15]
[null,"ID0979","2012-05-28T07:33:29",65000,65000,"AUD",{"$f":"tblSalaries[[#This Row],[clean Salary (in local currency)]]*VLOOKUP(tblSalaries[[#This Row],[Currency]],tblXrate[],2,FALSE)","v":66294.12766617132},"Data Analyst","Analyst","Australia",{"$f":"VLOOKUP(tblSalaries[[#This Row],[Where do you work]],tblCountries[[Actual]:[Mapping]],2,FALSE)","v":"Australia"},"4 to 6 hours a day",4]
[null,"ID0980","2012-05-28T07:39:22",62000,62000,"AUD",{"$f":"tblSalaries[[#This Row],[clean Salary (in local currency)]]*VLOOKUP(tblSalaries[[#This Row],[Currency]],tblXrate[],2,FALSE)","v":63234.398696963413},"Business Analyst","Analyst","Australia",{"$f":"VLOOKUP(tblSalaries[[#This Row],[Where do you work]],tblCountries[[Actual]:[Mapping]],2,FALSE)","v":"Australia"},"4 to 6 hours a day",3]
[null,"ID0981","2012-05-28T07:46:28",260000,260000,"USD",{"$f":"tblSalaries[[#This Row],[clean Salary (in local currency)]]*VLOOKUP(tblSalaries[[#This Row],[Currency]],tblXrate[],2,FALSE)","v":260000},"CFO","CXO or Top Mgmt.","USA",{"$f":"VLOOKUP(tblSalaries[[#This Row],[Where do you work]],tblCountries[[Actual]:[Mapping]],2,FALSE)","v":"USA"},"2 to 3 hours per day",10]
[null,"ID0983","2012-05-28T07:59:49",110000,110000,"AUD",{"$f":"tblSalaries[[#This Row],[clean Salary (in local currency)]]*VLOOKUP(tblSalaries[[#This Row],[Currency]],tblXrate[],2,FALSE)","v":112190.06220428993},"Sustainability Strategy Advisor","Manager","Australia",{"$f":"VLOOKUP(tblSalaries[[#This Row],[Where do you work]],tblCountries[[Actual]:[Mapping]],2,FALSE)","v":"Australia"},"2 to 3 hours per day",8]
[null,"ID0984","2012-05-28T08:03:10","AUD$70,000",70000,"AUD",{"$f":"tblSalaries[[#This Row],[clean Salary (in local currency)]]*VLOOKUP(tblSalaries[[#This Row],[Currency]],tblXrate[],2,FALSE)","v":71393.675948184507},"Business Development","Manager","Australia",{"$f":"VLOOKUP(tblSalaries[[#This Row],[Where do you work]],tblCountries[[Actual]:[Mapping]],2,FALSE)","v":"Australia"},"4 to 6 hours a day",7]
[null,"ID0985","2012-05-28T08:22:44","USD 85000.00",85000,"USD",{"$f":"tblSalaries[[#This Row],[clean Salary (in local currency)]]*VLOOKUP(tblSalaries[[#This Row],[Currency]],tblXrate[],2,FALSE)","v":85000},"Reporting and DB Analyist","Reporting","Australia",{"$f":"VLOOKUP(tblSalaries[[#This Row],[Where do you work]],tblCountries[[Actual]:[Mapping]],2,FALSE)","v":"Australia"},"4 to 6 hours a day",8]
[null,"ID0986","2012-05-28T08:26:43",94000,94000,"AUD",{"$f":"tblSalaries[[#This Row],[clean Salary (in local currency)]]*VLOOKUP(tblSalaries[[#This Row],[Currency]],tblXrate[],2,FALSE)","v":95871.50770184776},"Business Analyst","Analyst","Australia",{"$f":"VLOOKUP(tblSalaries[[#This Row],[Where do you work]],tblCountries[[Actual]:[Mapping]],2,FALSE)","v":"Australia"},"2 to 3 hours per day",2.5]
[null,"ID0987","2012-05-28T08:35:32","A$107000",107000,"AUD",{"$f":"tblSalaries[[#This Row],[clean Salary (in local currency)]]*VLOOKUP(tblSalaries[[#This Row],[Currency]],tblXrate[],2,FALSE)","v":109130.33323508203},"Management Accountant","Manager","Australia",{"$f":"VLOOKUP(tblSalaries[[#This Row],[Where do you work]],tblCountries[[Actual]:[Mapping]],2,FALSE)","v":"Australia"},"4 to 6 hours a day",35]
[null,"ID0988","2012-05-28T08:39:53",3000,36000,"USD",{"$f":"tblSalaries[[#This Row],[clean Salary (in local currency)]]*VLOOKUP(tblSalaries[[#This Row],[Currency]],tblXrate[],2,FALSE)","v":36000},"Project manager","Manager","malaysia",{"$f":"VLOOKUP(tblSalaries[[#This Row],[Where do you work]],tblCountries[[Actual]:[Mapping]],2,FALSE)","v":"Malaysia"},"1 or 2 hours a day",3]
[null,"ID0989","2012-05-28T08:41:13",120000,120000,"AUD",{"$f":"tblSalaries[[#This Row],[clean Salary (in local currency)]]*VLOOKUP(tblSalaries[[#This Row],[Currency]],tblXrate[],2,FALSE)","v":122389.15876831629},"analyst","Analyst","Australia",{"$f":"VLOOKUP(tblSalaries[[#This Row],[Where do you work]],tblCountries[[Actual]:[Mapping]],2,FALSE)","v":"Australia"},"4 to 6 hours a day",2]
[null,"ID0990","2012-05-28T08:47:39","AU$52.000",52000,"AUD",{"$f":"tblSalaries[[#This Row],[clean Salary (in local currency)]]*VLOOKUP(tblSalaries[[#This Row],[Currency]],tblXrate[],2,FALSE)","v":53035.30213293706},"Shipping Administrator","Analyst","Australia",{"$f":"VLOOKUP(tblSalaries[[#This Row],[Where do you work]],tblCountries[[Actual]:[Mapping]],2,FALSE)","v":"Australia"},"4 to 6 hours a day",4]
[null,"ID0991","2012-05-28T08:48:56",125000,125000,"USD",{"$f":"tblSalaries[[#This Row],[clean Salary (in local currency)]]*VLOOKUP(tblSalaries[[#This Row],[Currency]],tblXrate[],2,FALSE)","v":125000},"VP, Operational Analytics","CXO or Top Mgmt.","USA",{"$f":"VLOOKUP(tblSalaries[[#This Row],[Where do you work]],tblCountries[[Actual]:[Mapping]],2,FALSE)","v":"USA"},"4 to 6 hours a day",10]
[null,"ID0992","2012-05-28T09:03:56",19000,19000,"USD",{"$f":"tblSalaries[[#This Row],[clean Salary (in local currency)]]*VLOOKUP(tblSalaries[[#This Row],[Currency]],tblXrate[],2,FALSE)","v":19000},"Finance analyst","Analyst","China",{"$f":"VLOOKUP(tblSalaries[[#This Row],[Where do you work]],tblCountries[[Actual]:[Mapping]],2,FALSE)","v":"China"},"4 to 6 hours a day",6]
[null,"ID0993","2012-05-28T09:12:27",92000,92000,"AUD",{"$f":"tblSalaries[[#This Row],[clean Salary (in local currency)]]*VLOOKUP(tblSalaries[[#This Row],[Currency]],tblXrate[],2,FALSE)","v":93831.688389042494},"Finance analyst","Analyst","Australia",{"$f":"VLOOKUP(tblSalaries[[#This Row],[Where do you work]],tblCountries[[Actual]:[Mapping]],2,FALSE)","v":"Australia"},"All the 8 hours baby, all the 8!",6]
[null,"ID0994","2012-05-28T09:21:56",100000,100000,"AUD",{"$f":"tblSalaries[[#This Row],[clean Salary (in local currency)]]*VLOOKUP(tblSalaries[[#This Row],[Currency]],tblXrate[],2,FALSE)","v":101990.96564026357},"Reporting Analyst","Analyst","Australia",{"$f":"VLOOKUP(tblSalaries[[#This Row],[Where do you work]],tblCountries[[Actual]:[Mapping]],2,FALSE)","v":"Australia"},"4 to 6 hours a day",20]
[null,"ID0995","2012-05-28T09:26:10",120000,120000,"AUD",{"$f":"tblSalaries[[#This Row],[clean Salary (in local currency)]]*VLOOKUP(tblSalaries[[#This Row],[Currency]],tblXrate[],2,FALSE)","v":122389.15876831629},"HSLP Data Analyst","Analyst","Australia",{"$f":"VLOOKUP(tblSalaries[[#This Row],[Where do you work]],tblCountries[[Actual]:[Mapping]],2,FALSE)","v":"Australia"},"4 to 6 hours a day",5]
[null,"ID0996","2012-05-28T09:38:29",35000,35000,"CAD",{"$f":"tblSalaries[[#This Row],[clean Salary (in local currency)]]*VLOOKUP(tblSalaries[[#This Row],[Currency]],tblXrate[],2,FALSE)","v":34417.653306061438},"Reporting Analyst","Analyst","Canada",{"$f":"VLOOKUP(tblSalaries[[#This Row],[Where do you work]],tblCountries[[Actual]:[Mapping]],2,FALSE)","v":"Canada"},"All the 8 hours baby, all the 8!",4]
[null,"ID0997","2012-05-28T09:40:10","US$12,000/year",12000,"USD",{"$f":"tblSalaries[[#This Row],[clean Salary (in local currency)]]*VLOOKUP(tblSalaries[[#This Row],[Currency]],tblXrate[],2,FALSE)","v":12000},"Manager","Manager","Asia",{"$f":"VLOOKUP(tblSalaries[[#This Row],[Where do you work]],tblCountries[[Actual]:[Mapping]],2,FALSE)","v":"Asia"},"All the 8 hours baby, all the 8!",3]
[null,"ID0998","2012-05-28T09:41:04",204000,204000,"INR",{"$f":"tblSalaries[[#This Row],[clean Salary (in local currency)]]*VLOOKUP(tblSalaries[[#This Row],[Currency]],tblXrate[],2,FALSE)","v":3632.815004238284},"Retired Government Officer, having knowledge in excel.","Manager","India",{"$f":"VLOOKUP(tblSalaries[[#This Row],[Where do you work]],tblCountries[[Actual]:[Mapping]],2,FALSE)","v":"India"},"4 to 6 hours a day",0]
[null,"ID0999","2012-05-28T09:43:33","1200000 INR",1200000,"INR",{"$f":"tblSalaries[[#This Row],[clean Salary (in local currency)]]*VLOOKUP(tblSalaries[[#This Row],[Currency]],tblXrate[],2,FALSE)","v":21369.500024931083},"Senior Consultant","Consultant","India",{"$f":"VLOOKUP(tblSalaries[[#This Row],[Where do you work]],tblCountries[[Actual]:[Mapping]],2,FALSE)","v":"India"},"All the 8 hours baby, all the 8!",6]
[null,"ID1000","2012-05-28T09:51:24","Rs. 500000",500000,"INR",{"$f":"tblSalaries[[#This Row],[clean Salary (in local currency)]]*VLOOKUP(tblSalaries[[#This Row],[Currency]],tblXrate[],2,FALSE)","v":8903.9583437212841},"Business Analyst","Analyst","India",{"$f":"VLOOKUP(tblSalaries[[#This Row],[Where do you work]],tblCountries[[Actual]:[Mapping]],2,FALSE)","v":"India"},"4 to 6 hours a day",7]
[null,"ID1001","2012-05-28T10:15:27","RM48,000",48000,"MYR",{"$f":"tblSalaries[[#This Row],[clean Salary (in local currency)]]*VLOOKUP(tblSalaries[[#This Row],[Currency]],tblXrate[],2,FALSE)","v":15206.427249917633},"Credit Risk Manager","Manager","Malaysia",{"$f":"VLOOKUP(tblSalaries[[#This Row],[Where do you work]],tblCountries[[Actual]:[Mapping]],2,FALSE)","v":"Malaysia"},"4 to 6 hours a day",2]
[null,"ID1002","2012-05-28T10:21:58","NZD 180000",180000,"NZD",{"$f":"tblSalaries[[#This Row],[clean Salary (in local currency)]]*VLOOKUP(tblSalaries[[#This Row],[Currency]],tblXrate[],2,FALSE)","v":143565.85684888897},"Commercial Manager","Manager","New Zealand",{"$f":"VLOOKUP(tblSalaries[[#This Row],[Where do you work]],tblCountries[[Actual]:[Mapping]],2,FALSE)","v":"New Zealand"},"4 to 6 hours a day",25]
[null,"ID1003","2012-05-28T10:25:51","Rs.5,45,000",545000,"INR",{"$f":"tblSalaries[[#This Row],[clean Salary (in local currency)]]*VLOOKUP(tblSalaries[[#This Row],[Currency]],tblXrate[],2,FALSE)","v":9705.3145946561999},"Assistant Manager","Manager","India",{"$f":"VLOOKUP(tblSalaries[[#This Row],[Where do you work]],tblCountries[[Actual]:[Mapping]],2,FALSE)","v":"India"},"2 to 3 hours per day",6]
[null,"ID1004","2012-05-28T10:27:45","Rs.10,00,000",1000000,"INR",{"$f":"tblSalaries[[#This Row],[clean Salary (in local currency)]]*VLOOKUP(tblSalaries[[#This Row],[Currency]],tblXrate[],2,FALSE)","v":17807.916687442568},"Credit Manager - Loans","Manager","India",{"$f":"VLOOKUP(tblSalaries[[#This Row],[Where do you work]],tblCountries[[Actual]:[Mapping]],2,FALSE)","v":"India"},"All the 8 hours baby, all the 8!",8]
[null,"ID1005","2012-05-28T10:27:48",180000,180000,"INR",{"$f":"tblSalaries[[#This Row],[clean Salary (in local currency)]]*VLOOKUP(tblSalaries[[#This Row],[Currency]],tblXrate[],2,FALSE)","v":3205.4250037396623},"Audit executive","Analyst","INDIA",{"$f":"VLOOKUP(tblSalaries[[#This Row],[Where do you work]],tblCountries[[Actual]:[Mapping]],2,FALSE)","v":"India"},"4 to 6 hours a day",10]
[null,"ID1006","2012-05-28T10:29:41","$45,000  USD",45000,"USD",{"$f":"tblSalaries[[#This Row],[clean Salary (in local currency)]]*VLOOKUP(tblSalaries[[#This Row],[Currency]],tblXrate[],2,FALSE)","v":45000},"Staff accountant -- Auditing","Accountant","USA",{"$f":"VLOOKUP(tblSalaries[[#This Row],[Where do you work]],tblCountries[[Actual]:[Mapping]],2,FALSE)","v":"USA"},"All the 8 hours baby, all the 8!",3]
[null,"ID1007","2012-05-28T10:38:53",700000,700000,"INR",{"$f":"tblSalaries[[#This Row],[clean Salary (in local currency)]]*VLOOKUP(tblSalaries[[#This Row],[Currency]],tblXrate[],2,FALSE)","v":12465.541681209797},"Asst Manager - Quality","Manager","India",{"$f":"VLOOKUP(tblSalaries[[#This Row],[Where do you work]],tblCountries[[Actual]:[Mapping]],2,FALSE)","v":"India"},"2 to 3 hours per day",7]
[null,"ID1008","2012-05-28T10:41:38",94000,94000,"AUD",{"$f":"tblSalaries[[#This Row],[clean Salary (in local currency)]]*VLOOKUP(tblSalaries[[#This Row],[Currency]],tblXrate[],2,FALSE)","v":95871.50770184776},"Principal Analyst","Analyst","Australia",{"$f":"VLOOKUP(tblSalaries[[#This Row],[Where do you work]],tblCountries[[Actual]:[Mapping]],2,FALSE)","v":"Australia"},"2 to 3 hours per day",14]
[null,"ID1009","2012-05-28T10:42:08",170000,170000,"AUD",{"$f":"tblSalaries[[#This Row],[clean Salary (in local currency)]]*VLOOKUP(tblSalaries[[#This Row],[Currency]],tblXrate[],2,FALSE)","v":173384.64158844808},"Business Consultant","Consultant","Australia",{"$f":"VLOOKUP(tblSalaries[[#This Row],[Where do you work]],tblCountries[[Actual]:[Mapping]],2,FALSE)","v":"Australia"},"2 to 3 hours per day",8]
[null,"ID1010","2012-05-28T11:11:53",650000,650000,"INR",{"$f":"tblSalaries[[#This Row],[clean Salary (in local currency)]]*VLOOKUP(tblSalaries[[#This Row],[Currency]],tblXrate[],2,FALSE)","v":11575.14584683767},"Ass Research  Manager","Manager","India",{"$f":"VLOOKUP(tblSalaries[[#This Row],[Where do you work]],tblCountries[[Actual]:[Mapping]],2,FALSE)","v":"India"},"2 to 3 hours per day",1]
[null,"ID1011","2012-05-28T11:31:20",18000,18000,"USD",{"$f":"tblSalaries[[#This Row],[clean Salary (in local currency)]]*VLOOKUP(tblSalaries[[#This Row],[Currency]],tblXrate[],2,FALSE)","v":18000},"Data Specialist","Specialist","India",{"$f":"VLOOKUP(tblSalaries[[#This Row],[Where do you work]],tblCountries[[Actual]:[Mapping]],2,FALSE)","v":"India"},"All the 8 hours baby, all the 8!",8]
[null,"ID1012","2012-05-28T11:33:05","AUD$70,000",70000,"AUD",{"$f":"tblSalaries[[#This Row],[clean Salary (in local currency)]]*VLOOKUP(tblSalaries[[#This Row],[Currency]],tblXrate[],2,FALSE)","v":71393.675948184507},"Director","CXO or Top Mgmt.","Australia",{"$f":"VLOOKUP(tblSalaries[[#This Row],[Where do you work]],tblCountries[[Actual]:[Mapping]],2,FALSE)","v":"Australia"},"All the 8 hours baby, all the 8!",2]
[null,"ID1013","2012-05-28T11:33:07","350000 Rs",350000,"INR",{"$f":"tblSalaries[[#This Row],[clean Salary (in local currency)]]*VLOOKUP(tblSalaries[[#This Row],[Currency]],tblXrate[],2,FALSE)","v":6232.7708406048987},"Data Analyst","Analyst","India",{"$f":"VLOOKUP(tblSalaries[[#This Row],[Where do you work]],tblCountries[[Actual]:[Mapping]],2,FALSE)","v":"India"},"4 to 6 hours a day",2.5]
[null,"ID1014","2012-05-28T11:37:17","LKR 240000",240000,"LKR",{"$f":"tblSalaries[[#This Row],[clean Salary (in local currency)]]*VLOOKUP(tblSalaries[[#This Row],[Currency]],tblXrate[],2,FALSE)","v":1805.7739622442759},"Management Trainee","Manager","Sri Lanka",{"$f":"VLOOKUP(tblSalaries[[#This Row],[Where do you work]],tblCountries[[Actual]:[Mapping]],2,FALSE)","v":"Sri Lanka"},"4 to 6 hours a day",3]
[null,"ID1015","2012-05-28T11:39:01","Rs.6.4 lakhs",640000,"INR",{"$f":"tblSalaries[[#This Row],[clean Salary (in local currency)]]*VLOOKUP(tblSalaries[[#This Row],[Currency]],tblXrate[],2,FALSE)","v":11397.066679963244},"Sr.Analyst - Process Excellence","Analyst","India",{"$f":"VLOOKUP(tblSalaries[[#This Row],[Where do you work]],tblCountries[[Actual]:[Mapping]],2,FALSE)","v":"India"},"All the 8 hours baby, all the 8!",6]
[null,"ID1016","2012-05-28T11:41:11",15000,15000,"USD",{"$f":"tblSalaries[[#This Row],[clean Salary (in local currency)]]*VLOOKUP(tblSalaries[[#This Row],[Currency]],tblXrate[],2,FALSE)","v":15000},"Operations Management","Manager","India",{"$f":"VLOOKUP(tblSalaries[[#This Row],[Where do you work]],tblCountries[[Actual]:[Mapping]],2,FALSE)","v":"India"},"4 to 6 hours a day",4]
[null,"ID1017","2012-05-28T11:58:39","R308 500",308500,"ZAR",{"$f":"tblSalaries[[#This Row],[clean Salary (in local currency)]]*VLOOKUP(tblSalaries[[#This Row],[Currency]],tblXrate[],2,FALSE)","v":37612.869087708088},"Management Information Consultant","Manager","South Africa",{"$f":"VLOOKUP(tblSalaries[[#This Row],[Where do you work]],tblCountries[[Actual]:[Mapping]],2,FALSE)","v":"South Africa"},"All the 8 hours baby, all the 8!",3]
[null,"ID1018","2012-05-28T12:00:14",3.65,365000,"INR",{"$f":"tblSalaries[[#This Row],[clean Salary (in local currency)]]*VLOOKUP(tblSalaries[[#This Row],[Currency]],tblXrate[],2,FALSE)","v":6499.8895909165376},"associate analyst","Analyst","India",{"$f":"VLOOKUP(tblSalaries[[#This Row],[Where do you work]],tblCountries[[Actual]:[Mapping]],2,FALSE)","v":"India"},"4 to 6 hours a day",3]
[null,"ID1019","2012-05-28T12:09:37","usd 20.000",20000,"USD",{"$f":"tblSalaries[[#This Row],[clean Salary (in local currency)]]*VLOOKUP(tblSalaries[[#This Row],[Currency]],tblXrate[],2,FALSE)","v":20000},"Head of Financial Reporting","Reporting","Paraguay",{"$f":"VLOOKUP(tblSalaries[[#This Row],[Where do you work]],tblCountries[[Actual]:[Mapping]],2,FALSE)","v":"Paraguay"},"All the 8 hours baby, all the 8!",6]
[null,"ID1020","2012-05-28T12:10:09",7265,7265,"USD",{"$f":"tblSalaries[[#This Row],[clean Salary (in local currency)]]*VLOOKUP(tblSalaries[[#This Row],[Currency]],tblXrate[],2,FALSE)","v":7265},"Softwar Engineer","Engineer","India",{"$f":"VLOOKUP(tblSalaries[[#This Row],[Where do you work]],tblCountries[[Actual]:[Mapping]],2,FALSE)","v":"India"},"4 to 6 hours a day",6]
[null,"ID1021","2012-05-28T12:15:53","SGD92,000",92000,"SGD",{"$f":"tblSalaries[[#This Row],[clean Salary (in local currency)]]*VLOOKUP(tblSalaries[[#This Row],[Currency]],tblXrate[],2,FALSE)","v":72571.80269935554},"Finance Manager","Manager","Singapore",{"$f":"VLOOKUP(tblSalaries[[#This Row],[Where do you work]],tblCountries[[Actual]:[Mapping]],2,FALSE)","v":"Singapore"},"All the 8 hours baby, all the 8!",15]
[null,"ID1023","2012-05-28T12:20:48","INR 4.5 Lac",450000,"INR",{"$f":"tblSalaries[[#This Row],[clean Salary (in local currency)]]*VLOOKUP(tblSalaries[[#This Row],[Currency]],tblXrate[],2,FALSE)","v":8013.5625093491553},"Asst. Manager","Manager","India",{"$f":"VLOOKUP(tblSalaries[[#This Row],[Where do you work]],tblCountries[[Actual]:[Mapping]],2,FALSE)","v":"India"},"All the 8 hours baby, all the 8!",15]
[null,"ID1024","2012-05-28T12:26:01","Rs.5.7 lacs",570000,"INR",{"$f":"tblSalaries[[#This Row],[clean Salary (in local currency)]]*VLOOKUP(tblSalaries[[#This Row],[Currency]],tblXrate[],2,FALSE)","v":10150.512511842264},"MIS & Analysis","Analyst","India",{"$f":"VLOOKUP(tblSalaries[[#This Row],[Where do you work]],tblCountries[[Actual]:[Mapping]],2,FALSE)","v":"India"},"4 to 6 hours a day",5]
[null,"ID1025","2012-05-28T12:26:42",65000,65000,"USD",{"$f":"tblSalaries[[#This Row],[clean Salary (in local currency)]]*VLOOKUP(tblSalaries[[#This Row],[Currency]],tblXrate[],2,FALSE)","v":65000},"Controller","Controller","USA",{"$f":"VLOOKUP(tblSalaries[[#This Row],[Where do you work]],tblCountries[[Actual]:[Mapping]],2,FALSE)","v":"USA"},"4 to 6 hours a day",9]
[null,"ID1026","2012-05-28T12:32:12",300000,300000,"PKR",{"$f":"tblSalaries[[#This Row],[clean Salary (in local currency)]]*VLOOKUP(tblSalaries[[#This Row],[Currency]],tblXrate[],2,FALSE)","v":3184.2266150397395},"Banker","Manager","Pakistan",{"$f":"VLOOKUP(tblSalaries[[#This Row],[Where do you work]],tblCountries[[Actual]:[Mapping]],2,FALSE)","v":"Pakistan"},"4 to 6 hours a day",4]
[null,"ID1027","2012-05-28T12:35:38","Net- 56000Rs, Gross - 61000Rs",612000,"INR",{"$f":"tblSalaries[[#This Row],[clean Salary (in local currency)]]*VLOOKUP(tblSalaries[[#This Row],[Currency]],tblXrate[],2,FALSE)","v":10898.445012714852},"Asst. Manager ","Manager","India",{"$f":"VLOOKUP(tblSalaries[[#This Row],[Where do you work]],tblCountries[[Actual]:[Mapping]],2,FALSE)","v":"India"},"2 to 3 hours per day",13]
[null,"ID1028","2012-05-28T12:40:26",900,10800,"USD",{"$f":"tblSalaries[[#This Row],[clean Salary (in local currency)]]*VLOOKUP(tblSalaries[[#This Row],[Currency]],tblXrate[],2,FALSE)","v":10800},"Project Managment Office","Manager","Pakistan",{"$f":"VLOOKUP(tblSalaries[[#This Row],[Where do you work]],tblCountries[[Actual]:[Mapping]],2,FALSE)","v":"Pakistan"},"All the 8 hours baby, all the 8!",5]
[null,"ID1029","2012-05-28T12:47:20",120000,120000,"INR",{"$f":"tblSalaries[[#This Row],[clean Salary (in local currency)]]*VLOOKUP(tblSalaries[[#This Row],[Currency]],tblXrate[],2,FALSE)","v":2136.9500024931081},"Audit Assistant","Analyst","India",{"$f":"VLOOKUP(tblSalaries[[#This Row],[Where do you work]],tblCountries[[Actual]:[Mapping]],2,FALSE)","v":"India"},"2 to 3 hours per day",3.5]
[null,"ID1030","2012-05-28T12:51:53",45000,45000,"USD",{"$f":"tblSalaries[[#This Row],[clean Salary (in local currency)]]*VLOOKUP(tblSalaries[[#This Row],[Currency]],tblXrate[],2,FALSE)","v":45000},"Engineer","Engineer","singapore",{"$f":"VLOOKUP(tblSalaries[[#This Row],[Where do you work]],tblCountries[[Actual]:[Mapping]],2,FALSE)","v":"Singapore"},"2 to 3 hours per day",4]
[null,"ID1031","2012-05-28T12:57:13","Rs. 4,00,000/-",400000,"INR",{"$f":"tblSalaries[[#This Row],[clean Salary (in local currency)]]*VLOOKUP(tblSalaries[[#This Row],[Currency]],tblXrate[],2,FALSE)","v":7123.1666749770275},"Sr. Executive","Manager","India",{"$f":"VLOOKUP(tblSalaries[[#This Row],[Where do you work]],tblCountries[[Actual]:[Mapping]],2,FALSE)","v":"India"},"2 to 3 hours per day",5]
[null,"ID1032","2012-05-28T12:58:44","3 Lakh ",300000,"INR",{"$f":"tblSalaries[[#This Row],[clean Salary (in local currency)]]*VLOOKUP(tblSalaries[[#This Row],[Currency]],tblXrate[],2,FALSE)","v":5342.3750062327708},"ACCOUNTS","Accountant","India",{"$f":"VLOOKUP(tblSalaries[[#This Row],[Where do you work]],tblCountries[[Actual]:[Mapping]],2,FALSE)","v":"India"},"2 to 3 hours per day",5]
[null,"ID1033","2012-05-28T12:59:59",18000,18000,"USD",{"$f":"tblSalaries[[#This Row],[clean Salary (in local currency)]]*VLOOKUP(tblSalaries[[#This Row],[Currency]],tblXrate[],2,FALSE)","v":18000},"Area Sales Manager","Manager","India",{"$f":"VLOOKUP(tblSalaries[[#This Row],[Where do you work]],tblCountries[[Actual]:[Mapping]],2,FALSE)","v":"India"},"2 to 3 hours per day",4.5999999999999996]
[null,"ID1034","2012-05-28T13:01:42","PK RS 456000",456000,"PKR",{"$f":"tblSalaries[[#This Row],[clean Salary (in local currency)]]*VLOOKUP(tblSalaries[[#This Row],[Currency]],tblXrate[],2,FALSE)","v":4840.0244548604041},"Strategic Planning Executive","Manager","Pakistan",{"$f":"VLOOKUP(tblSalaries[[#This Row],[Where do you work]],tblCountries[[Actual]:[Mapping]],2,FALSE)","v":"Pakistan"},"4 to 6 hours a day",2]
[null,"ID1035","2012-05-28T13:02:56","Rs 4,20,000 ",420000,"INR",{"$f":"tblSalaries[[#This Row],[clean Salary (in local currency)]]*VLOOKUP(tblSalaries[[#This Row],[Currency]],tblXrate[],2,FALSE)","v":7479.3250087258784},"Analyst","Analyst","India",{"$f":"VLOOKUP(tblSalaries[[#This Row],[Where do you work]],tblCountries[[Actual]:[Mapping]],2,FALSE)","v":"India"},"2 to 3 hours per day",10]
[null,"ID1036","2012-05-28T13:05:39",210000,210000,"INR",{"$f":"tblSalaries[[#This Row],[clean Salary (in local currency)]]*VLOOKUP(tblSalaries[[#This Row],[Currency]],tblXrate[],2,FALSE)","v":3739.6625043629392},"MIS executive","Reporting","India",{"$f":"VLOOKUP(tblSalaries[[#This Row],[Where do you work]],tblCountries[[Actual]:[Mapping]],2,FALSE)","v":"India"},"All the 8 hours baby, all the 8!",3.5]
[null,"ID1037","2012-05-28T13:06:37",3500,42000,"USD",{"$f":"tblSalaries[[#This Row],[clean Salary (in local currency)]]*VLOOKUP(tblSalaries[[#This Row],[Currency]],tblXrate[],2,FALSE)","v":42000},"Category Operations Supv.","Manager","Kuwait",{"$f":"VLOOKUP(tblSalaries[[#This Row],[Where do you work]],tblCountries[[Actual]:[Mapping]],2,FALSE)","v":"Kuwait"},"All the 8 hours baby, all the 8!",5]
[null,"ID1038","2012-05-28T13:10:02",28000,28000,"USD",{"$f":"tblSalaries[[#This Row],[clean Salary (in local currency)]]*VLOOKUP(tblSalaries[[#This Row],[Currency]],tblXrate[],2,FALSE)","v":28000},"BI","Reporting","India",{"$f":"VLOOKUP(tblSalaries[[#This Row],[Where do you work]],tblCountries[[Actual]:[Mapping]],2,FALSE)","v":"India"},"2 to 3 hours per day",3]
[null,"ID1039","2012-05-28T13:11:42",6000,6000,"USD",{"$f":"tblSalaries[[#This Row],[clean Salary (in local currency)]]*VLOOKUP(tblSalaries[[#This Row],[Currency]],tblXrate[],2,FALSE)","v":6000},"Manager","Manager","India",{"$f":"VLOOKUP(tblSalaries[[#This Row],[Where do you work]],tblCountries[[Actual]:[Mapping]],2,FALSE)","v":"India"},"4 to 6 hours a day",5]
[null,"ID1040","2012-05-28T13:26:22",55,55000,"NZD",{"$f":"tblSalaries[[#This Row],[clean Salary (in local currency)]]*VLOOKUP(tblSalaries[[#This Row],[Currency]],tblXrate[],2,FALSE)","v":43867.345148271634},"Financial Analyst","Analyst","New Zealand",{"$f":"VLOOKUP(tblSalaries[[#This Row],[Where do you work]],tblCountries[[Actual]:[Mapping]],2,FALSE)","v":"New Zealand"},"All the 8 hours baby, all the 8!",10]
[null,"ID1041","2012-05-28T13:27:46","10 Lakh",1000000,"INR",{"$f":"tblSalaries[[#This Row],[clean Salary (in local currency)]]*VLOOKUP(tblSalaries[[#This Row],[Currency]],tblXrate[],2,FALSE)","v":17807.916687442568},"Teaching","Analyst","India",{"$f":"VLOOKUP(tblSalaries[[#This Row],[Where do you work]],tblCountries[[Actual]:[Mapping]],2,FALSE)","v":"India"},"1 or 2 hours a day",25]
[null,"ID1042","2012-05-28T13:37:10",600000,600000,"INR",{"$f":"tblSalaries[[#This Row],[clean Salary (in local currency)]]*VLOOKUP(tblSalaries[[#This Row],[Currency]],tblXrate[],2,FALSE)","v":10684.750012465542},"Business Analyst","Analyst","India",{"$f":"VLOOKUP(tblSalaries[[#This Row],[Where do you work]],tblCountries[[Actual]:[Mapping]],2,FALSE)","v":"India"},"All the 8 hours baby, all the 8!",12]
[null,"ID1043","2012-05-28T13:40:58","USD 60000",60000,"USD",{"$f":"tblSalaries[[#This Row],[clean Salary (in local currency)]]*VLOOKUP(tblSalaries[[#This Row],[Currency]],tblXrate[],2,FALSE)","v":60000},"Excel Developer","Consultant","Finland",{"$f":"VLOOKUP(tblSalaries[[#This Row],[Where do you work]],tblCountries[[Actual]:[Mapping]],2,FALSE)","v":"Finland"},"All the 8 hours baby, all the 8!",5]
[null,"ID1044","2012-05-28T13:41:33",476000,476000,"INR",{"$f":"tblSalaries[[#This Row],[clean Salary (in local currency)]]*VLOOKUP(tblSalaries[[#This Row],[Currency]],tblXrate[],2,FALSE)","v":8476.5683432226633},"Report Specialist","Reporting","India",{"$f":"VLOOKUP(tblSalaries[[#This Row],[Where do you work]],tblCountries[[Actual]:[Mapping]],2,FALSE)","v":"India"},"4 to 6 hours a day",8]
[null,"ID1045","2012-05-28T13:42:12",725,8700,"USD",{"$f":"tblSalaries[[#This Row],[clean Salary (in local currency)]]*VLOOKUP(tblSalaries[[#This Row],[Currency]],tblXrate[],2,FALSE)","v":8700},"Project Controlling (MIS Reports)","Controller","India",{"$f":"VLOOKUP(tblSalaries[[#This Row],[Where do you work]],tblCountries[[Actual]:[Mapping]],2,FALSE)","v":"India"},"2 to 3 hours per day",7]
[null,"ID1046","2012-05-28T13:42:35","2,00,000 INR",200000,"INR",{"$f":"tblSalaries[[#This Row],[clean Salary (in local currency)]]*VLOOKUP(tblSalaries[[#This Row],[Currency]],tblXrate[],2,FALSE)","v":3561.5833374885137},"Monitoring & evaluation officer","Manager","India",{"$f":"VLOOKUP(tblSalaries[[#This Row],[Where do you work]],tblCountries[[Actual]:[Mapping]],2,FALSE)","v":"India"},"All the 8 hours baby, all the 8!",8]
[null,"ID1047","2012-05-28T13:43:01",1.8,180000,"INR",{"$f":"tblSalaries[[#This Row],[clean Salary (in local currency)]]*VLOOKUP(tblSalaries[[#This Row],[Currency]],tblXrate[],2,FALSE)","v":3205.4250037396623},"MIS EXCUTIVE","Reporting","India",{"$f":"VLOOKUP(tblSalaries[[#This Row],[Where do you work]],tblCountries[[Actual]:[Mapping]],2,FALSE)","v":"India"},"All the 8 hours baby, all the 8!",4]
[null,"ID1048","2012-05-28T13:46:17",252000,252000,"INR",{"$f":"tblSalaries[[#This Row],[clean Salary (in local currency)]]*VLOOKUP(tblSalaries[[#This Row],[Currency]],tblXrate[],2,FALSE)","v":4487.5950052355274},"Accounts Exec","Accountant","India",{"$f":"VLOOKUP(tblSalaries[[#This Row],[Where do you work]],tblCountries[[Actual]:[Mapping]],2,FALSE)","v":"India"},"1 or 2 hours a day",5]
[null,"ID1049","2012-05-28T13:54:57","Rs. 700000",700000,"INR",{"$f":"tblSalaries[[#This Row],[clean Salary (in local currency)]]*VLOOKUP(tblSalaries[[#This Row],[Currency]],tblXrate[],2,FALSE)","v":12465.541681209797},"Credit Analyst","Analyst","India",{"$f":"VLOOKUP(tblSalaries[[#This Row],[Where do you work]],tblCountries[[Actual]:[Mapping]],2,FALSE)","v":"India"},"4 to 6 hours a day",5]
[null,"ID1050","2012-05-28T14:00:56",194,2400,"USD",{"$f":"tblSalaries[[#This Row],[clean Salary (in local currency)]]*VLOOKUP(tblSalaries[[#This Row],[Currency]],tblXrate[],2,FALSE)","v":2400},"Accounts Officer","Accountant","Pakistan",{"$f":"VLOOKUP(tblSalaries[[#This Row],[Where do you work]],tblCountries[[Actual]:[Mapping]],2,FALSE)","v":"Pakistan"},"2 to 3 hours per day",15]
[null,"ID1051","2012-05-28T14:11:34","55000 usd",55000,"USD",{"$f":"tblSalaries[[#This Row],[clean Salary (in local currency)]]*VLOOKUP(tblSalaries[[#This Row],[Currency]],tblXrate[],2,FALSE)","v":55000},"Economist","Reporting","Israel",{"$f":"VLOOKUP(tblSalaries[[#This Row],[Where do you work]],tblCountries[[Actual]:[Mapping]],2,FALSE)","v":"Israel"},"4 to 6 hours a day",6]
[null,"ID1052","2012-05-28T14:12:35","12000 $",12000,"USD",{"$f":"tblSalaries[[#This Row],[clean Salary (in local currency)]]*VLOOKUP(tblSalaries[[#This Row],[Currency]],tblXrate[],2,FALSE)","v":12000},"planning & Sales Control emploee","Controller","Iran",{"$f":"VLOOKUP(tblSalaries[[#This Row],[Where do you work]],tblCountries[[Actual]:[Mapping]],2,FALSE)","v":"Iran"},"4 to 6 hours a day",3]
[null,"ID1053","2012-05-28T14:12:50",43500,43500,"EUR",{"$f":"tblSalaries[[#This Row],[clean Salary (in local currency)]]*VLOOKUP(tblSalaries[[#This Row],[Currency]],tblXrate[],2,FALSE)","v":55262.375596134938},"RRHH","Manager","SPAIN",{"$f":"VLOOKUP(tblSalaries[[#This Row],[Where do you work]],tblCountries[[Actual]:[Mapping]],2,FALSE)","v":"Spain"},"2 to 3 hours per day",10]
[null,"ID1054","2012-05-28T14:12:52","Rs. 1200000",1200000,"INR",{"$f":"tblSalaries[[#This Row],[clean Salary (in local currency)]]*VLOOKUP(tblSalaries[[#This Row],[Currency]],tblXrate[],2,FALSE)","v":21369.500024931083},"Management Trainee","Manager","India",{"$f":"VLOOKUP(tblSalaries[[#This Row],[Where do you work]],tblCountries[[Actual]:[Mapping]],2,FALSE)","v":"India"},"2 to 3 hours per day",2]
[null,"ID1055","2012-05-28T14:18:40",26000,26000,"GBP",{"$f":"tblSalaries[[#This Row],[clean Salary (in local currency)]]*VLOOKUP(tblSalaries[[#This Row],[Currency]],tblXrate[],2,FALSE)","v":40980.635073749385},"Consultant","Consultant","UK",{"$f":"VLOOKUP(tblSalaries[[#This Row],[Where do you work]],tblCountries[[Actual]:[Mapping]],2,FALSE)","v":"UK"},"All the 8 hours baby, all the 8!",8]
[null,"ID1056","2012-05-28T14:21:27",50000,50000,"AUD",{"$f":"tblSalaries[[#This Row],[clean Salary (in local currency)]]*VLOOKUP(tblSalaries[[#This Row],[Currency]],tblXrate[],2,FALSE)","v":50995.482820131787},"BA","Analyst","Australia",{"$f":"VLOOKUP(tblSalaries[[#This Row],[Where do you work]],tblCountries[[Actual]:[Mapping]],2,FALSE)","v":"Australia"},"4 to 6 hours a day",4]
[null,"ID1057","2012-05-28T14:22:02","16000 euro",16000,"EUR",{"$f":"tblSalaries[[#This Row],[clean Salary (in local currency)]]*VLOOKUP(tblSalaries[[#This Row],[Currency]],tblXrate[],2,FALSE)","v":20326.391023865726},"Management Information Systems","Manager","Greece",{"$f":"VLOOKUP(tblSalaries[[#This Row],[Where do you work]],tblCountries[[Actual]:[Mapping]],2,FALSE)","v":"Greece"},"All the 8 hours baby, all the 8!",16]
[null,"ID1058","2012-05-28T14:23:57",1000,12000,"USD",{"$f":"tblSalaries[[#This Row],[clean Salary (in local currency)]]*VLOOKUP(tblSalaries[[#This Row],[Currency]],tblXrate[],2,FALSE)","v":12000},"consultant","Consultant","India",{"$f":"VLOOKUP(tblSalaries[[#This Row],[Where do you work]],tblCountries[[Actual]:[Mapping]],2,FALSE)","v":"India"},"2 to 3 hours per day",8]
[null,"ID1059","2012-05-28T14:30:05","ZAR240000",240000,"ZAR",{"$f":"tblSalaries[[#This Row],[clean Salary (in local currency)]]*VLOOKUP(tblSalaries[[#This Row],[Currency]],tblXrate[],2,FALSE)","v":29261.227167098674},"Bookkeeper","Accountant","South Africa",{"$f":"VLOOKUP(tblSalaries[[#This Row],[Where do you work]],tblCountries[[Actual]:[Mapping]],2,FALSE)","v":"South Africa"},"2 to 3 hours per day",20]
[null,"ID1060","2012-05-28T14:32:11",120000,120000,"ZAR",{"$f":"tblSalaries[[#This Row],[clean Salary (in local currency)]]*VLOOKUP(tblSalaries[[#This Row],[Currency]],tblXrate[],2,FALSE)","v":14630.613583549337},"VP","CXO or Top Mgmt.","South Africa",{"$f":"VLOOKUP(tblSalaries[[#This Row],[Where do you work]],tblCountries[[Actual]:[Mapping]],2,FALSE)","v":"South Africa"},"4 to 6 hours a day",10]
[null,"ID1061","2012-05-28T14:34:34",408000,408000,"INR",{"$f":"tblSalaries[[#This Row],[clean Salary (in local currency)]]*VLOOKUP(tblSalaries[[#This Row],[Currency]],tblXrate[],2,FALSE)","v":7265.630008476568},"Sr Exec - Finance","Accountant","India",{"$f":"VLOOKUP(tblSalaries[[#This Row],[Where do you work]],tblCountries[[Actual]:[Mapping]],2,FALSE)","v":"India"},"All the 8 hours baby, all the 8!",5]
[null,"ID1062","2012-05-28T14:34:37","Â£28000",28000,"GBP",{"$f":"tblSalaries[[#This Row],[clean Salary (in local currency)]]*VLOOKUP(tblSalaries[[#This Row],[Currency]],tblXrate[],2,FALSE)","v":44132.991617883956},"Modeller","Analyst","UK",{"$f":"VLOOKUP(tblSalaries[[#This Row],[Where do you work]],tblCountries[[Actual]:[Mapping]],2,FALSE)","v":"UK"},"2 to 3 hours per day",16]
[null,"ID1063","2012-05-28T14:40:54","INR 530000 ",530000,"INR",{"$f":"tblSalaries[[#This Row],[clean Salary (in local currency)]]*VLOOKUP(tblSalaries[[#This Row],[Currency]],tblXrate[],2,FALSE)","v":9438.1958443445619},"Project Administrator","Analyst","India",{"$f":"VLOOKUP(tblSalaries[[#This Row],[Where do you work]],tblCountries[[Actual]:[Mapping]],2,FALSE)","v":"India"},"2 to 3 hours per day",7]
[null,"ID1064","2012-05-28T14:43:40","1500 $",18000,"USD",{"$f":"tblSalaries[[#This Row],[clean Salary (in local currency)]]*VLOOKUP(tblSalaries[[#This Row],[Currency]],tblXrate[],2,FALSE)","v":18000},"Analyst","Analyst","Poland",{"$f":"VLOOKUP(tblSalaries[[#This Row],[Where do you work]],tblCountries[[Actual]:[Mapping]],2,FALSE)","v":"Poland"},"4 to 6 hours a day",7]
[null,"ID1065","2012-05-28T14:44:26","Rs 200000",200000,"INR",{"$f":"tblSalaries[[#This Row],[clean Salary (in local currency)]]*VLOOKUP(tblSalaries[[#This Row],[Currency]],tblXrate[],2,FALSE)","v":3561.5833374885137},"Business Development Executive","Manager","India",{"$f":"VLOOKUP(tblSalaries[[#This Row],[Where do you work]],tblCountries[[Actual]:[Mapping]],2,FALSE)","v":"India"},"2 to 3 hours per day",5]
[null,"ID1066","2012-05-28T14:45:04","2LAKHS",200000,"INR",{"$f":"tblSalaries[[#This Row],[clean Salary (in local currency)]]*VLOOKUP(tblSalaries[[#This Row],[Currency]],tblXrate[],2,FALSE)","v":3561.5833374885137},"MIS Executive","Reporting","India",{"$f":"VLOOKUP(tblSalaries[[#This Row],[Where do you work]],tblCountries[[Actual]:[Mapping]],2,FALSE)","v":"India"},"4 to 6 hours a day",3]
[null,"ID1067","2012-05-28T14:46:42",5100,5100,"USD",{"$f":"tblSalaries[[#This Row],[clean Salary (in local currency)]]*VLOOKUP(tblSalaries[[#This Row],[Currency]],tblXrate[],2,FALSE)","v":5100},"MIS Executive","Reporting","India",{"$f":"VLOOKUP(tblSalaries[[#This Row],[Where do you work]],tblCountries[[Actual]:[Mapping]],2,FALSE)","v":"India"},"All the 8 hours baby, all the 8!",8]
[null,"ID1068","2012-05-28T14:50:03",100000,1200000,"INR",{"$f":"tblSalaries[[#This Row],[clean Salary (in local currency)]]*VLOOKUP(tblSalaries[[#This Row],[Currency]],tblXrate[],2,FALSE)","v":21369.500024931083},"executive","Analyst","India",{"$f":"VLOOKUP(tblSalaries[[#This Row],[Where do you work]],tblCountries[[Actual]:[Mapping]],2,FALSE)","v":"India"},"4 to 6 hours a day",7]
[null,"ID1069","2012-05-28T14:52:45","Rs. 25000",300000,"INR",{"$f":"tblSalaries[[#This Row],[clean Salary (in local currency)]]*VLOOKUP(tblSalaries[[#This Row],[Currency]],tblXrate[],2,FALSE)","v":5342.3750062327708},"Professional consultant-Finance","Consultant","India",{"$f":"VLOOKUP(tblSalaries[[#This Row],[Where do you work]],tblCountries[[Actual]:[Mapping]],2,FALSE)","v":"India"},"2 to 3 hours per day",1]
[null,"ID1070","2012-05-28T14:53:02",50000,50000,"USD",{"$f":"tblSalaries[[#This Row],[clean Salary (in local currency)]]*VLOOKUP(tblSalaries[[#This Row],[Currency]],tblXrate[],2,FALSE)","v":50000},"Managing Partner","CXO or Top Mgmt.","India",{"$f":"VLOOKUP(tblSalaries[[#This Row],[Where do you work]],tblCountries[[Actual]:[Mapping]],2,FALSE)","v":"India"},"1 or 2 hours a day",26]
[null,"ID1071","2012-05-28T14:53:44","1600000Rs",1600000,"INR",{"$f":"tblSalaries[[#This Row],[clean Salary (in local currency)]]*VLOOKUP(tblSalaries[[#This Row],[Currency]],tblXrate[],2,FALSE)","v":28492.66669990811},"Manager Fin","Manager","India",{"$f":"VLOOKUP(tblSalaries[[#This Row],[Where do you work]],tblCountries[[Actual]:[Mapping]],2,FALSE)","v":"India"},"All the 8 hours baby, all the 8!",9]
[null,"ID1072","2012-05-28T14:56:27",15600,15600,"GBP",{"$f":"tblSalaries[[#This Row],[clean Salary (in local currency)]]*VLOOKUP(tblSalaries[[#This Row],[Currency]],tblXrate[],2,FALSE)","v":24588.381044249632},"business data analyst","Analyst","UK",{"$f":"VLOOKUP(tblSalaries[[#This Row],[Where do you work]],tblCountries[[Actual]:[Mapping]],2,FALSE)","v":"UK"},"All the 8 hours baby, all the 8!",0]
[null,"ID1074","2012-05-28T15:12:38",7000,7000,"USD",{"$f":"tblSalaries[[#This Row],[clean Salary (in local currency)]]*VLOOKUP(tblSalaries[[#This Row],[Currency]],tblXrate[],2,FALSE)","v":7000},"MIS Executive","Reporting","India",{"$f":"VLOOKUP(tblSalaries[[#This Row],[Where do you work]],tblCountries[[Actual]:[Mapping]],2,FALSE)","v":"India"},"All the 8 hours baby, all the 8!",5]
[null,"ID1075","2012-05-28T15:16:20","Rs. 438000",438000,"INR",{"$f":"tblSalaries[[#This Row],[clean Salary (in local currency)]]*VLOOKUP(tblSalaries[[#This Row],[Currency]],tblXrate[],2,FALSE)","v":7799.8675090998449},"Assistant Professor","Analyst","India",{"$f":"VLOOKUP(tblSalaries[[#This Row],[Where do you work]],tblCountries[[Actual]:[Mapping]],2,FALSE)","v":"India"},"1 or 2 hours a day",10]
[null,"ID1076","2012-05-28T15:21:51","Â£50",50000,"GBP",{"$f":"tblSalaries[[#This Row],[clean Salary (in local currency)]]*VLOOKUP(tblSalaries[[#This Row],[Currency]],tblXrate[],2,FALSE)","v":78808.913603364199},"Production manager","Manager","UK",{"$f":"VLOOKUP(tblSalaries[[#This Row],[Where do you work]],tblCountries[[Actual]:[Mapping]],2,FALSE)","v":"UK"},"2 to 3 hours per day",12]
[null,"ID1077","2012-05-28T15:27:59",560,6720,"USD",{"$f":"tblSalaries[[#This Row],[clean Salary (in local currency)]]*VLOOKUP(tblSalaries[[#This Row],[Currency]],tblXrate[],2,FALSE)","v":6720},"MIS Executive","Reporting","India",{"$f":"VLOOKUP(tblSalaries[[#This Row],[Where do you work]],tblCountries[[Actual]:[Mapping]],2,FALSE)","v":"India"},"4 to 6 hours a day",6]
[null,"ID1078","2012-05-28T15:29:24","INR 2.5 Lakh",250000,"INR",{"$f":"tblSalaries[[#This Row],[clean Salary (in local currency)]]*VLOOKUP(tblSalaries[[#This Row],[Currency]],tblXrate[],2,FALSE)","v":4451.9791718606421},"SR. MIS ","Reporting","India",{"$f":"VLOOKUP(tblSalaries[[#This Row],[Where do you work]],tblCountries[[Actual]:[Mapping]],2,FALSE)","v":"India"},"All the 8 hours baby, all the 8!",3.5]
[null,"ID1079","2012-05-28T15:29:53","Â£30000",30000,"GBP",{"$f":"tblSalaries[[#This Row],[clean Salary (in local currency)]]*VLOOKUP(tblSalaries[[#This Row],[Currency]],tblXrate[],2,FALSE)","v":47285.348162018527},"Data Analyst","Analyst","UK",{"$f":"VLOOKUP(tblSalaries[[#This Row],[Where do you work]],tblCountries[[Actual]:[Mapping]],2,FALSE)","v":"UK"},"All the 8 hours baby, all the 8!",15]
[null,"ID1080","2012-05-28T15:33:23",600,7200,"USD",{"$f":"tblSalaries[[#This Row],[clean Salary (in local currency)]]*VLOOKUP(tblSalaries[[#This Row],[Currency]],tblXrate[],2,FALSE)","v":7200},"Data Entry Operator","Analyst","India",{"$f":"VLOOKUP(tblSalaries[[#This Row],[Where do you work]],tblCountries[[Actual]:[Mapping]],2,FALSE)","v":"India"},"All the 8 hours baby, all the 8!",10]
[null,"ID1081","2012-05-28T15:33:37","INR 2500000",2500000,"INR",{"$f":"tblSalaries[[#This Row],[clean Salary (in local currency)]]*VLOOKUP(tblSalaries[[#This Row],[Currency]],tblXrate[],2,FALSE)","v":44519.791718606422},"Vice President","CXO or Top Mgmt.","India",{"$f":"VLOOKUP(tblSalaries[[#This Row],[Where do you work]],tblCountries[[Actual]:[Mapping]],2,FALSE)","v":"India"},"4 to 6 hours a day",9]
[null,"ID1082","2012-05-28T15:34:12",140000,140000,"INR",{"$f":"tblSalaries[[#This Row],[clean Salary (in local currency)]]*VLOOKUP(tblSalaries[[#This Row],[Currency]],tblXrate[],2,FALSE)","v":2493.1083362419595},"Accountant","Accountant","India",{"$f":"VLOOKUP(tblSalaries[[#This Row],[Where do you work]],tblCountries[[Actual]:[Mapping]],2,FALSE)","v":"India"},"4 to 6 hours a day",4]
[null,"ID1083","2012-05-28T15:35:32",20000,20000,"GBP",{"$f":"tblSalaries[[#This Row],[clean Salary (in local currency)]]*VLOOKUP(tblSalaries[[#This Row],[Currency]],tblXrate[],2,FALSE)","v":31523.565441345683},"finance assistant","Analyst","UK",{"$f":"VLOOKUP(tblSalaries[[#This Row],[Where do you work]],tblCountries[[Actual]:[Mapping]],2,FALSE)","v":"UK"},"4 to 6 hours a day",1]
[null,"ID1084","2012-05-28T15:37:23",1200000,1200000,"INR",{"$f":"tblSalaries[[#This Row],[clean Salary (in local currency)]]*VLOOKUP(tblSalaries[[#This Row],[Currency]],tblXrate[],2,FALSE)","v":21369.500024931083},"finance controller","Controller","India",{"$f":"VLOOKUP(tblSalaries[[#This Row],[Where do you work]],tblCountries[[Actual]:[Mapping]],2,FALSE)","v":"India"},"4 to 6 hours a day",8]
[null,"ID1085","2012-05-28T15:42:04",80000,80000,"GBP",{"$f":"tblSalaries[[#This Row],[clean Salary (in local currency)]]*VLOOKUP(tblSalaries[[#This Row],[Currency]],tblXrate[],2,FALSE)","v":126094.26176538273},"Manufacturing consultant","Consultant","UK",{"$f":"VLOOKUP(tblSalaries[[#This Row],[Where do you work]],tblCountries[[Actual]:[Mapping]],2,FALSE)","v":"UK"},"4 to 6 hours a day",10]
[null,"ID1086","2012-05-28T15:44:12","Â£63000",63000,"GBP",{"$f":"tblSalaries[[#This Row],[clean Salary (in local currency)]]*VLOOKUP(tblSalaries[[#This Row],[Currency]],tblXrate[],2,FALSE)","v":99299.231140238902},"Business Improvement Specialist","Specialist","UK",{"$f":"VLOOKUP(tblSalaries[[#This Row],[Where do you work]],tblCountries[[Actual]:[Mapping]],2,FALSE)","v":"UK"},"2 to 3 hours per day",1]
[null,"ID1087","2012-05-28T15:47:46","Â£55000",55000,"GBP",{"$f":"tblSalaries[[#This Row],[clean Salary (in local currency)]]*VLOOKUP(tblSalaries[[#This Row],[Currency]],tblXrate[],2,FALSE)","v":86689.804963700633},"Finance Director","CXO or Top Mgmt.","UK",{"$f":"VLOOKUP(tblSalaries[[#This Row],[Where do you work]],tblCountries[[Actual]:[Mapping]],2,FALSE)","v":"UK"},"2 to 3 hours per day",22]
[null,"ID1088","2012-05-28T15:48:23","50000 US $ per year",50000,"USD",{"$f":"tblSalaries[[#This Row],[clean Salary (in local currency)]]*VLOOKUP(tblSalaries[[#This Row],[Currency]],tblXrate[],2,FALSE)","v":50000},"Sr. Manager MIS","Manager","India",{"$f":"VLOOKUP(tblSalaries[[#This Row],[Where do you work]],tblCountries[[Actual]:[Mapping]],2,FALSE)","v":"India"},"2 to 3 hours per day",30]
[null,"ID1089","2012-05-28T15:49:22",240000,240000,"INR",{"$f":"tblSalaries[[#This Row],[clean Salary (in local currency)]]*VLOOKUP(tblSalaries[[#This Row],[Currency]],tblXrate[],2,FALSE)","v":4273.9000049862161},"Executive","Analyst","India",{"$f":"VLOOKUP(tblSalaries[[#This Row],[Where do you work]],tblCountries[[Actual]:[Mapping]],2,FALSE)","v":"India"},"2 to 3 hours per day",3]
[null,"ID1090","2012-05-28T15:49:54","Rs. 250000",250000,"INR",{"$f":"tblSalaries[[#This Row],[clean Salary (in local currency)]]*VLOOKUP(tblSalaries[[#This Row],[Currency]],tblXrate[],2,FALSE)","v":4451.9791718606421},"MIS Executive","Reporting","India",{"$f":"VLOOKUP(tblSalaries[[#This Row],[Where do you work]],tblCountries[[Actual]:[Mapping]],2,FALSE)","v":"India"},"2 to 3 hours per day",3]
[null,"ID1091","2012-05-28T15:51:32","50000 INR",600000,"INR",{"$f":"tblSalaries[[#This Row],[clean Salary (in local currency)]]*VLOOKUP(tblSalaries[[#This Row],[Currency]],tblXrate[],2,FALSE)","v":10684.750012465542},"Sr.Supervisor","Analyst","India",{"$f":"VLOOKUP(tblSalaries[[#This Row],[Where do you work]],tblCountries[[Actual]:[Mapping]],2,FALSE)","v":"India"},"4 to 6 hours a day",10]
[null,"ID1092","2012-05-28T15:59:46",40500,40500,"GBP",{"$f":"tblSalaries[[#This Row],[clean Salary (in local currency)]]*VLOOKUP(tblSalaries[[#This Row],[Currency]],tblXrate[],2,FALSE)","v":63835.220018725006},"Policy, Performance and Research Officer","Manager","UK",{"$f":"VLOOKUP(tblSalaries[[#This Row],[Where do you work]],tblCountries[[Actual]:[Mapping]],2,FALSE)","v":"UK"},"2 to 3 hours per day",25]
[null,"ID1093","2012-05-28T16:01:05","Â£23000",23000,"GBP",{"$f":"tblSalaries[[#This Row],[clean Salary (in local currency)]]*VLOOKUP(tblSalaries[[#This Row],[Currency]],tblXrate[],2,FALSE)","v":36252.100257547536},"Data Analyst","Analyst","UK",{"$f":"VLOOKUP(tblSalaries[[#This Row],[Where do you work]],tblCountries[[Actual]:[Mapping]],2,FALSE)","v":"UK"},"All the 8 hours baby, all the 8!",5]
[null,"ID1094","2012-05-28T16:03:18",7960,7960,"USD",{"$f":"tblSalaries[[#This Row],[clean Salary (in local currency)]]*VLOOKUP(tblSalaries[[#This Row],[Currency]],tblXrate[],2,FALSE)","v":7960},"Team Leader","Manager","India",{"$f":"VLOOKUP(tblSalaries[[#This Row],[Where do you work]],tblCountries[[Actual]:[Mapping]],2,FALSE)","v":"India"},"4 to 6 hours a day",7]
[null,"ID1095","2012-05-28T16:03:45","Rs500000",500000,"INR",{"$f":"tblSalaries[[#This Row],[clean Salary (in local currency)]]*VLOOKUP(tblSalaries[[#This Row],[Currency]],tblXrate[],2,FALSE)","v":8903.9583437212841},"Executive","Analyst","India",{"$f":"VLOOKUP(tblSalaries[[#This Row],[Where do you work]],tblCountries[[Actual]:[Mapping]],2,FALSE)","v":"India"},"2 to 3 hours per day",23]
[null,"ID1096","2012-05-28T16:05:43","40000 euro",40000,"EUR",{"$f":"tblSalaries[[#This Row],[clean Salary (in local currency)]]*VLOOKUP(tblSalaries[[#This Row],[Currency]],tblXrate[],2,FALSE)","v":50815.977559664309},"Accounting analyst","Analyst","Netherlands",{"$f":"VLOOKUP(tblSalaries[[#This Row],[Where do you work]],tblCountries[[Actual]:[Mapping]],2,FALSE)","v":"Netherlands"},"4 to 6 hours a day",3]
[null,"ID1097","2012-05-28T16:07:51","Â£30000",30000,"GBP",{"$f":"tblSalaries[[#This Row],[clean Salary (in local currency)]]*VLOOKUP(tblSalaries[[#This Row],[Currency]],tblXrate[],2,FALSE)","v":47285.348162018527},"Information Analyst","Analyst","UK",{"$f":"VLOOKUP(tblSalaries[[#This Row],[Where do you work]],tblCountries[[Actual]:[Mapping]],2,FALSE)","v":"UK"},"4 to 6 hours a day",4]
[null,"ID1098","2012-05-28T16:07:51",48000,48000,"GBP",{"$f":"tblSalaries[[#This Row],[clean Salary (in local currency)]]*VLOOKUP(tblSalaries[[#This Row],[Currency]],tblXrate[],2,FALSE)","v":75656.557059229643},"Business Operations Co-ordinator","Manager","UK",{"$f":"VLOOKUP(tblSalaries[[#This Row],[Where do you work]],tblCountries[[Actual]:[Mapping]],2,FALSE)","v":"UK"},"2 to 3 hours per day",10]
[null,"ID1099","2012-05-28T16:10:52","Rs. 20000",240000,"INR",{"$f":"tblSalaries[[#This Row],[clean Salary (in local currency)]]*VLOOKUP(tblSalaries[[#This Row],[Currency]],tblXrate[],2,FALSE)","v":4273.9000049862161},"Accountant","Accountant","India",{"$f":"VLOOKUP(tblSalaries[[#This Row],[Where do you work]],tblCountries[[Actual]:[Mapping]],2,FALSE)","v":"India"},"All the 8 hours baby, all the 8!",20]
[null,"ID1100","2012-05-28T16:19:21",37000,37000,"EUR",{"$f":"tblSalaries[[#This Row],[clean Salary (in local currency)]]*VLOOKUP(tblSalaries[[#This Row],[Currency]],tblXrate[],2,FALSE)","v":47004.779242689488},"Project Control Analyst","Analyst","Spain",{"$f":"VLOOKUP(tblSalaries[[#This Row],[Where do you work]],tblCountries[[Actual]:[Mapping]],2,FALSE)","v":"Spain"},"4 to 6 hours a day",11]
[null,"ID1101","2012-05-28T16:19:41","Â£30000",30000,"GBP",{"$f":"tblSalaries[[#This Row],[clean Salary (in local currency)]]*VLOOKUP(tblSalaries[[#This Row],[Currency]],tblXrate[],2,FALSE)","v":47285.348162018527},"MDM Executive (Business Analyst)","Analyst","UK",{"$f":"VLOOKUP(tblSalaries[[#This Row],[Where do you work]],tblCountries[[Actual]:[Mapping]],2,FALSE)","v":"UK"},"All the 8 hours baby, all the 8!",10]
[null,"ID1102","2012-05-28T16:20:52",58000,58000,"GBP",{"$f":"tblSalaries[[#This Row],[clean Salary (in local currency)]]*VLOOKUP(tblSalaries[[#This Row],[Currency]],tblXrate[],2,FALSE)","v":91418.339779902482},"Data analyst","Analyst","UK",{"$f":"VLOOKUP(tblSalaries[[#This Row],[Where do you work]],tblCountries[[Actual]:[Mapping]],2,FALSE)","v":"UK"},"All the 8 hours baby, all the 8!",8]
[null,"ID1103","2012-05-28T16:21:27",79000,79000,"GBP",{"$f":"tblSalaries[[#This Row],[clean Salary (in local currency)]]*VLOOKUP(tblSalaries[[#This Row],[Currency]],tblXrate[],2,FALSE)","v":124518.08349331544},"Market Analyst","Analyst","UK",{"$f":"VLOOKUP(tblSalaries[[#This Row],[Where do you work]],tblCountries[[Actual]:[Mapping]],2,FALSE)","v":"UK"},"2 to 3 hours per day",14]
[null,"ID1104","2012-05-28T16:26:14",43912.03,43912,"GBP",{"$f":"tblSalaries[[#This Row],[clean Salary (in local currency)]]*VLOOKUP(tblSalaries[[#This Row],[Currency]],tblXrate[],2,FALSE)","v":69213.140283018583},"Senior Data Analyst","Analyst","UK",{"$f":"VLOOKUP(tblSalaries[[#This Row],[Where do you work]],tblCountries[[Actual]:[Mapping]],2,FALSE)","v":"UK"},"All the 8 hours baby, all the 8!",3]
[null,"ID1105","2012-05-28T16:28:25",3500,3500,"USD",{"$f":"tblSalaries[[#This Row],[clean Salary (in local currency)]]*VLOOKUP(tblSalaries[[#This Row],[Currency]],tblXrate[],2,FALSE)","v":3500},"OFFICER","Manager","PAKISTAN",{"$f":"VLOOKUP(tblSalaries[[#This Row],[Where do you work]],tblCountries[[Actual]:[Mapping]],2,FALSE)","v":"Pakistan"},"4 to 6 hours a day",4]
[null,"ID1107","2012-05-28T16:34:48","Â£40000",40000,"GBP",{"$f":"tblSalaries[[#This Row],[clean Salary (in local currency)]]*VLOOKUP(tblSalaries[[#This Row],[Currency]],tblXrate[],2,FALSE)","v":63047.130882691366},"Buyer","Manager","UK",{"$f":"VLOOKUP(tblSalaries[[#This Row],[Where do you work]],tblCountries[[Actual]:[Mapping]],2,FALSE)","v":"UK"},"1 or 2 hours a day",20]
[null,"ID1108","2012-05-28T16:35:19",57000,57000,"EUR",{"$f":"tblSalaries[[#This Row],[clean Salary (in local currency)]]*VLOOKUP(tblSalaries[[#This Row],[Currency]],tblXrate[],2,FALSE)","v":72412.768022521646},"Spare Part Coordinator","Manager","Norway",{"$f":"VLOOKUP(tblSalaries[[#This Row],[Where do you work]],tblCountries[[Actual]:[Mapping]],2,FALSE)","v":"Norway"},"1 or 2 hours a day",15]
[null,"ID1109","2012-05-28T16:41:27",40000,40000,"EUR",{"$f":"tblSalaries[[#This Row],[clean Salary (in local currency)]]*VLOOKUP(tblSalaries[[#This Row],[Currency]],tblXrate[],2,FALSE)","v":50815.977559664309},"Actuary","Accountant","Portugal",{"$f":"VLOOKUP(tblSalaries[[#This Row],[Where do you work]],tblCountries[[Actual]:[Mapping]],2,FALSE)","v":"Portugal"},"2 to 3 hours per day",10]
[null,"ID1110","2012-05-28T16:45:28",100000,1200000,"INR",{"$f":"tblSalaries[[#This Row],[clean Salary (in local currency)]]*VLOOKUP(tblSalaries[[#This Row],[Currency]],tblXrate[],2,FALSE)","v":21369.500024931083},"coordinator","Manager","India",{"$f":"VLOOKUP(tblSalaries[[#This Row],[Where do you work]],tblCountries[[Actual]:[Mapping]],2,FALSE)","v":"India"},"2 to 3 hours per day",5]
[null,"ID1111","2012-05-28T16:45:32","Â£35000",35000,"GBP",{"$f":"tblSalaries[[#This Row],[clean Salary (in local currency)]]*VLOOKUP(tblSalaries[[#This Row],[Currency]],tblXrate[],2,FALSE)","v":55166.239522354947},"Systems Analyst","Analyst","UK",{"$f":"VLOOKUP(tblSalaries[[#This Row],[Where do you work]],tblCountries[[Actual]:[Mapping]],2,FALSE)","v":"UK"},"2 to 3 hours per day",6]
[null,"ID1112","2012-05-28T16:53:13","Rs. 15000",180000,"INR",{"$f":"tblSalaries[[#This Row],[clean Salary (in local currency)]]*VLOOKUP(tblSalaries[[#This Row],[Currency]],tblXrate[],2,FALSE)","v":3205.4250037396623},"Logistics Operation Analyst","Analyst","India",{"$f":"VLOOKUP(tblSalaries[[#This Row],[Where do you work]],tblCountries[[Actual]:[Mapping]],2,FALSE)","v":"India"},"All the 8 hours baby, all the 8!",3]
[null,"ID1113","2012-05-28T16:58:03","Rs. 600000",600000,"INR",{"$f":"tblSalaries[[#This Row],[clean Salary (in local currency)]]*VLOOKUP(tblSalaries[[#This Row],[Currency]],tblXrate[],2,FALSE)","v":10684.750012465542},"Company Secretary","Accountant","India",{"$f":"VLOOKUP(tblSalaries[[#This Row],[Where do you work]],tblCountries[[Actual]:[Mapping]],2,FALSE)","v":"India"},"2 to 3 hours per day",8]
[null,"ID1114","2012-05-28T16:59:48","INR 300000",300000,"INR",{"$f":"tblSalaries[[#This Row],[clean Salary (in local currency)]]*VLOOKUP(tblSalaries[[#This Row],[Currency]],tblXrate[],2,FALSE)","v":5342.3750062327708},"Analyst","Analyst","India",{"$f":"VLOOKUP(tblSalaries[[#This Row],[Where do you work]],tblCountries[[Actual]:[Mapping]],2,FALSE)","v":"India"},"4 to 6 hours a day",5]
[null,"ID1115","2012-05-28T17:02:43",75000,75000,"GBP",{"$f":"tblSalaries[[#This Row],[clean Salary (in local currency)]]*VLOOKUP(tblSalaries[[#This Row],[Currency]],tblXrate[],2,FALSE)","v":118213.37040504631},"Management Consultant","Manager","UK",{"$f":"VLOOKUP(tblSalaries[[#This Row],[Where do you work]],tblCountries[[Actual]:[Mapping]],2,FALSE)","v":"UK"},"2 to 3 hours per day",10]
[null,"ID1116","2012-05-28T17:04:04","R100,000",100000,"ZAR",{"$f":"tblSalaries[[#This Row],[clean Salary (in local currency)]]*VLOOKUP(tblSalaries[[#This Row],[Currency]],tblXrate[],2,FALSE)","v":12192.177986291113},"Q.A.Officer","Manager","South Africa",{"$f":"VLOOKUP(tblSalaries[[#This Row],[Where do you work]],tblCountries[[Actual]:[Mapping]],2,FALSE)","v":"South Africa"},"All the 8 hours baby, all the 8!",15]
[null,"ID1117","2012-05-28T17:05:07","Â£45000",45000,"GBP",{"$f":"tblSalaries[[#This Row],[clean Salary (in local currency)]]*VLOOKUP(tblSalaries[[#This Row],[Currency]],tblXrate[],2,FALSE)","v":70928.022243027779},"Assistant Director - Performance Information","CXO or Top Mgmt.","UK",{"$f":"VLOOKUP(tblSalaries[[#This Row],[Where do you work]],tblCountries[[Actual]:[Mapping]],2,FALSE)","v":"UK"},"4 to 6 hours a day",8]
[null,"ID1118","2012-05-28T17:09:40","Â£25000",25000,"GBP",{"$f":"tblSalaries[[#This Row],[clean Salary (in local currency)]]*VLOOKUP(tblSalaries[[#This Row],[Currency]],tblXrate[],2,FALSE)","v":39404.456801682099},"Developer","Analyst","UK",{"$f":"VLOOKUP(tblSalaries[[#This Row],[Where do you work]],tblCountries[[Actual]:[Mapping]],2,FALSE)","v":"UK"},"4 to 6 hours a day",3]
[null,"ID1119","2012-05-28T17:12:47",18987,18987,"USD",{"$f":"tblSalaries[[#This Row],[clean Salary (in local currency)]]*VLOOKUP(tblSalaries[[#This Row],[Currency]],tblXrate[],2,FALSE)","v":18987},"Business Analyst","Analyst","Nigeria",{"$f":"VLOOKUP(tblSalaries[[#This Row],[Where do you work]],tblCountries[[Actual]:[Mapping]],2,FALSE)","v":"Nigeria"},"All the 8 hours baby, all the 8!",7]
[null,"ID1120","2012-05-28T17:15:29","Â£28500",28500,"GBP",{"$f":"tblSalaries[[#This Row],[clean Salary (in local currency)]]*VLOOKUP(tblSalaries[[#This Row],[Currency]],tblXrate[],2,FALSE)","v":44921.080753917595},"Development (Project & Planning) Manager","Manager","UK",{"$f":"VLOOKUP(tblSalaries[[#This Row],[Where do you work]],tblCountries[[Actual]:[Mapping]],2,FALSE)","v":"UK"},"1 or 2 hours a day",15]
[null,"ID1121","2012-05-28T17:17:39",60000,60000,"USD",{"$f":"tblSalaries[[#This Row],[clean Salary (in local currency)]]*VLOOKUP(tblSalaries[[#This Row],[Currency]],tblXrate[],2,FALSE)","v":60000},"manager","Manager","India",{"$f":"VLOOKUP(tblSalaries[[#This Row],[Where do you work]],tblCountries[[Actual]:[Mapping]],2,FALSE)","v":"India"},"All the 8 hours baby, all the 8!",14]
[null,"ID1122","2012-05-28T17:18:47","GBP Â£45200",45200,"GBP",{"$f":"tblSalaries[[#This Row],[clean Salary (in local currency)]]*VLOOKUP(tblSalaries[[#This Row],[Currency]],tblXrate[],2,FALSE)","v":71243.257897441246},"Clinical audit manager","Manager","UK",{"$f":"VLOOKUP(tblSalaries[[#This Row],[Where do you work]],tblCountries[[Actual]:[Mapping]],2,FALSE)","v":"UK"},"2 to 3 hours per day",5]
[null,"ID1123","2012-05-28T17:22:19","252000 INR",252000,"INR",{"$f":"tblSalaries[[#This Row],[clean Salary (in local currency)]]*VLOOKUP(tblSalaries[[#This Row],[Currency]],tblXrate[],2,FALSE)","v":4487.5950052355274},"Inventory Manager","Manager","India",{"$f":"VLOOKUP(tblSalaries[[#This Row],[Where do you work]],tblCountries[[Actual]:[Mapping]],2,FALSE)","v":"India"},"1 or 2 hours a day",16]
[null,"ID1124","2012-05-28T17:34:16",242304,242304,"INR",{"$f":"tblSalaries[[#This Row],[clean Salary (in local currency)]]*VLOOKUP(tblSalaries[[#This Row],[Currency]],tblXrate[],2,FALSE)","v":4314.929445034084},"accountant","Accountant","India",{"$f":"VLOOKUP(tblSalaries[[#This Row],[Where do you work]],tblCountries[[Actual]:[Mapping]],2,FALSE)","v":"India"},"4 to 6 hours a day",7]
[null,"ID1125","2012-05-28T17:38:46",210000,210000,"INR",{"$f":"tblSalaries[[#This Row],[clean Salary (in local currency)]]*VLOOKUP(tblSalaries[[#This Row],[Currency]],tblXrate[],2,FALSE)","v":3739.6625043629392},"information Analyst","Analyst","India",{"$f":"VLOOKUP(tblSalaries[[#This Row],[Where do you work]],tblCountries[[Actual]:[Mapping]],2,FALSE)","v":"India"},"All the 8 hours baby, all the 8!",1]
[null,"ID1126","2012-05-28T17:42:11",5000,60000,"EUR",{"$f":"tblSalaries[[#This Row],[clean Salary (in local currency)]]*VLOOKUP(tblSalaries[[#This Row],[Currency]],tblXrate[],2,FALSE)","v":76223.966339496474},"Development Manager","Manager","Finland",{"$f":"VLOOKUP(tblSalaries[[#This Row],[Where do you work]],tblCountries[[Actual]:[Mapping]],2,FALSE)","v":"Finland"},"1 or 2 hours a day",4]
[null,"ID1127","2012-05-28T17:42:22","AED 120000",120000,"AED",{"$f":"tblSalaries[[#This Row],[clean Salary (in local currency)]]*VLOOKUP(tblSalaries[[#This Row],[Currency]],tblXrate[],2,FALSE)","v":32666.305522511171},"Finance Manager","Manager","UAE",{"$f":"VLOOKUP(tblSalaries[[#This Row],[Where do you work]],tblCountries[[Actual]:[Mapping]],2,FALSE)","v":"UAE"},"2 to 3 hours per day",12]
[null,"ID1128","2012-05-28T17:42:51",19000,19000,"USD",{"$f":"tblSalaries[[#This Row],[clean Salary (in local currency)]]*VLOOKUP(tblSalaries[[#This Row],[Currency]],tblXrate[],2,FALSE)","v":19000},"MI Specialist","Reporting","UK",{"$f":"VLOOKUP(tblSalaries[[#This Row],[Where do you work]],tblCountries[[Actual]:[Mapping]],2,FALSE)","v":"UK"},"All the 8 hours baby, all the 8!",8]
[null,"ID1129","2012-05-28T17:42:57",50000,50000,"EUR",{"$f":"tblSalaries[[#This Row],[clean Salary (in local currency)]]*VLOOKUP(tblSalaries[[#This Row],[Currency]],tblXrate[],2,FALSE)","v":63519.971949580387},"Network Enginer","Engineer","Portugal",{"$f":"VLOOKUP(tblSalaries[[#This Row],[Where do you work]],tblCountries[[Actual]:[Mapping]],2,FALSE)","v":"Portugal"},"2 to 3 hours per day",14]
[null,"ID1130","2012-05-28T17:53:43","Rs. 900000",900000,"INR",{"$f":"tblSalaries[[#This Row],[clean Salary (in local currency)]]*VLOOKUP(tblSalaries[[#This Row],[Currency]],tblXrate[],2,FALSE)","v":16027.125018698311},"officer","Manager","India",{"$f":"VLOOKUP(tblSalaries[[#This Row],[Where do you work]],tblCountries[[Actual]:[Mapping]],2,FALSE)","v":"India"},"4 to 6 hours a day",22]
[null,"ID1131","2012-05-28T18:02:44","4,00,000",400000,"INR",{"$f":"tblSalaries[[#This Row],[clean Salary (in local currency)]]*VLOOKUP(tblSalaries[[#This Row],[Currency]],tblXrate[],2,FALSE)","v":7123.1666749770275},"Sr. Team Lead - MIS","Reporting","India",{"$f":"VLOOKUP(tblSalaries[[#This Row],[Where do you work]],tblCountries[[Actual]:[Mapping]],2,FALSE)","v":"India"},"4 to 6 hours a day",9]
[null,"ID1132","2012-05-28T18:05:13",150252,150252,"INR",{"$f":"tblSalaries[[#This Row],[clean Salary (in local currency)]]*VLOOKUP(tblSalaries[[#This Row],[Currency]],tblXrate[],2,FALSE)","v":2675.675098121621},"KEY","Manager","India",{"$f":"VLOOKUP(tblSalaries[[#This Row],[Where do you work]],tblCountries[[Actual]:[Mapping]],2,FALSE)","v":"India"},"2 to 3 hours per day",5]
[null,"ID1133","2012-05-28T18:05:16","Â£15000",15000,"GBP",{"$f":"tblSalaries[[#This Row],[clean Salary (in local currency)]]*VLOOKUP(tblSalaries[[#This Row],[Currency]],tblXrate[],2,FALSE)","v":23642.674081009263},"MI Specialist","Reporting","UK",{"$f":"VLOOKUP(tblSalaries[[#This Row],[Where do you work]],tblCountries[[Actual]:[Mapping]],2,FALSE)","v":"UK"},"All the 8 hours baby, all the 8!",2]
[null,"ID1134","2012-05-28T18:11:36","â‚¬ 45000",45000,"EUR",{"$f":"tblSalaries[[#This Row],[clean Salary (in local currency)]]*VLOOKUP(tblSalaries[[#This Row],[Currency]],tblXrate[],2,FALSE)","v":57167.974754622352},"Sales Planning","Manager","Spain",{"$f":"VLOOKUP(tblSalaries[[#This Row],[Where do you work]],tblCountries[[Actual]:[Mapping]],2,FALSE)","v":"Spain"},"4 to 6 hours a day",14]
[null,"ID1135","2012-05-28T18:30:51","Rs 2400000",2400000,"INR",{"$f":"tblSalaries[[#This Row],[clean Salary (in local currency)]]*VLOOKUP(tblSalaries[[#This Row],[Currency]],tblXrate[],2,FALSE)","v":42739.000049862167},"GM Finance","Manager","India",{"$f":"VLOOKUP(tblSalaries[[#This Row],[Where do you work]],tblCountries[[Actual]:[Mapping]],2,FALSE)","v":"India"},"All the 8 hours baby, all the 8!",10]
[null,"ID1136","2012-05-28T18:34:12","PhP 216,000",216000,"PHP",{"$f":"tblSalaries[[#This Row],[clean Salary (in local currency)]]*VLOOKUP(tblSalaries[[#This Row],[Currency]],tblXrate[],2,FALSE)","v":5120.2912876821438},"Planner","Manager","Philippines",{"$f":"VLOOKUP(tblSalaries[[#This Row],[Where do you work]],tblCountries[[Actual]:[Mapping]],2,FALSE)","v":"Philippines"},"4 to 6 hours a day",2]
[null,"ID1137","2012-05-28T18:38:06",100000,100000,"EUR",{"$f":"tblSalaries[[#This Row],[clean Salary (in local currency)]]*VLOOKUP(tblSalaries[[#This Row],[Currency]],tblXrate[],2,FALSE)","v":127039.94389916077},"Finance Director","CXO or Top Mgmt.","Spain",{"$f":"VLOOKUP(tblSalaries[[#This Row],[Where do you work]],tblCountries[[Actual]:[Mapping]],2,FALSE)","v":"Spain"},"1 or 2 hours a day",20]
[null,"ID1138","2012-05-28T18:39:19",90000,90000,"USD",{"$f":"tblSalaries[[#This Row],[clean Salary (in local currency)]]*VLOOKUP(tblSalaries[[#This Row],[Currency]],tblXrate[],2,FALSE)","v":90000},"Performance manager","Manager","USA",{"$f":"VLOOKUP(tblSalaries[[#This Row],[Where do you work]],tblCountries[[Actual]:[Mapping]],2,FALSE)","v":"USA"},"4 to 6 hours a day",5]
[null,"ID1139","2012-05-28T18:40:08",400000,400000,"INR",{"$f":"tblSalaries[[#This Row],[clean Salary (in local currency)]]*VLOOKUP(tblSalaries[[#This Row],[Currency]],tblXrate[],2,FALSE)","v":7123.1666749770275},"software engineer","Engineer","India",{"$f":"VLOOKUP(tblSalaries[[#This Row],[Where do you work]],tblCountries[[Actual]:[Mapping]],2,FALSE)","v":"India"},"1 or 2 hours a day",2]
[null,"ID1140","2012-05-28T18:45:00",10000,10000,"USD",{"$f":"tblSalaries[[#This Row],[clean Salary (in local currency)]]*VLOOKUP(tblSalaries[[#This Row],[Currency]],tblXrate[],2,FALSE)","v":10000},"Business analyst","Analyst","India",{"$f":"VLOOKUP(tblSalaries[[#This Row],[Where do you work]],tblCountries[[Actual]:[Mapping]],2,FALSE)","v":"India"},"2 to 3 hours per day",5]
[null,"ID1141","2012-05-28T18:50:35",29000,29000,"GBP",{"$f":"tblSalaries[[#This Row],[clean Salary (in local currency)]]*VLOOKUP(tblSalaries[[#This Row],[Currency]],tblXrate[],2,FALSE)","v":45709.169889951241},"Financial Analyst","Analyst","UK",{"$f":"VLOOKUP(tblSalaries[[#This Row],[Where do you work]],tblCountries[[Actual]:[Mapping]],2,FALSE)","v":"UK"},"4 to 6 hours a day",14]
[null,"ID1142","2012-05-28T19:05:22","200000 rupees",200000,"INR",{"$f":"tblSalaries[[#This Row],[clean Salary (in local currency)]]*VLOOKUP(tblSalaries[[#This Row],[Currency]],tblXrate[],2,FALSE)","v":3561.5833374885137},"MIS Sr. Executive","Reporting","India",{"$f":"VLOOKUP(tblSalaries[[#This Row],[Where do you work]],tblCountries[[Actual]:[Mapping]],2,FALSE)","v":"India"},"All the 8 hours baby, all the 8!",5]
[null,"ID1143","2012-05-28T19:09:37",30000,30000,"EUR",{"$f":"tblSalaries[[#This Row],[clean Salary (in local currency)]]*VLOOKUP(tblSalaries[[#This Row],[Currency]],tblXrate[],2,FALSE)","v":38111.983169748237},"Translator","Analyst","Belgium",{"$f":"VLOOKUP(tblSalaries[[#This Row],[Where do you work]],tblCountries[[Actual]:[Mapping]],2,FALSE)","v":"Belgium"},"1 or 2 hours a day",15]
[null,"ID1144","2012-05-28T19:19:51",5000,60000,"USD",{"$f":"tblSalaries[[#This Row],[clean Salary (in local currency)]]*VLOOKUP(tblSalaries[[#This Row],[Currency]],tblXrate[],2,FALSE)","v":60000},"Business Anaylyst","Analyst","USA",{"$f":"VLOOKUP(tblSalaries[[#This Row],[Where do you work]],tblCountries[[Actual]:[Mapping]],2,FALSE)","v":"USA"},"2 to 3 hours per day",4]
[null,"ID1145","2012-05-28T19:23:29",40000,40000,"USD",{"$f":"tblSalaries[[#This Row],[clean Salary (in local currency)]]*VLOOKUP(tblSalaries[[#This Row],[Currency]],tblXrate[],2,FALSE)","v":40000},"Engineer","Engineer","India",{"$f":"VLOOKUP(tblSalaries[[#This Row],[Where do you work]],tblCountries[[Actual]:[Mapping]],2,FALSE)","v":"India"},"2 to 3 hours per day",2]
[null,"ID1146","2012-05-28T19:25:04","INR 853000",853000,"INR",{"$f":"tblSalaries[[#This Row],[clean Salary (in local currency)]]*VLOOKUP(tblSalaries[[#This Row],[Currency]],tblXrate[],2,FALSE)","v":15190.15293438851},"Lead Research Analyst","Analyst","India",{"$f":"VLOOKUP(tblSalaries[[#This Row],[Where do you work]],tblCountries[[Actual]:[Mapping]],2,FALSE)","v":"India"},"2 to 3 hours per day",6]
[null,"ID1147","2012-05-28T19:25:35",90000,90000,"EUR",{"$f":"tblSalaries[[#This Row],[clean Salary (in local currency)]]*VLOOKUP(tblSalaries[[#This Row],[Currency]],tblXrate[],2,FALSE)","v":114335.9495092447},"Management Information Manager","Manager","Continental Europe",{"$f":"VLOOKUP(tblSalaries[[#This Row],[Where do you work]],tblCountries[[Actual]:[Mapping]],2,FALSE)","v":"CEE"},"2 to 3 hours per day",20]
[null,"ID1148","2012-05-28T19:32:15","Â£23000",23000,"GBP",{"$f":"tblSalaries[[#This Row],[clean Salary (in local currency)]]*VLOOKUP(tblSalaries[[#This Row],[Currency]],tblXrate[],2,FALSE)","v":36252.100257547536},"Data Management Officer","Manager","UK",{"$f":"VLOOKUP(tblSalaries[[#This Row],[Where do you work]],tblCountries[[Actual]:[Mapping]],2,FALSE)","v":"UK"},"4 to 6 hours a day",10]
[null,"ID1149","2012-05-28T19:53:14","Â£30000",30000,"GBP",{"$f":"tblSalaries[[#This Row],[clean Salary (in local currency)]]*VLOOKUP(tblSalaries[[#This Row],[Currency]],tblXrate[],2,FALSE)","v":47285.348162018527},"Reporting Accountant","Accountant","UK",{"$f":"VLOOKUP(tblSalaries[[#This Row],[Where do you work]],tblCountries[[Actual]:[Mapping]],2,FALSE)","v":"UK"},"2 to 3 hours per day",5]
[null,"ID1150","2012-05-28T20:05:20","â‚¬70k",70000,"EUR",{"$f":"tblSalaries[[#This Row],[clean Salary (in local currency)]]*VLOOKUP(tblSalaries[[#This Row],[Currency]],tblXrate[],2,FALSE)","v":88927.960729412545},"Construction Planner","Consultant","Ireland",{"$f":"VLOOKUP(tblSalaries[[#This Row],[Where do you work]],tblCountries[[Actual]:[Mapping]],2,FALSE)","v":"Ireland"},"2 to 3 hours per day",20]
[null,"ID1151","2012-05-28T20:19:57",6000,6000,"USD",{"$f":"tblSalaries[[#This Row],[clean Salary (in local currency)]]*VLOOKUP(tblSalaries[[#This Row],[Currency]],tblXrate[],2,FALSE)","v":6000},"Assistant Accountant","Accountant","Zambia",{"$f":"VLOOKUP(tblSalaries[[#This Row],[Where do you work]],tblCountries[[Actual]:[Mapping]],2,FALSE)","v":"Zambia"},"All the 8 hours baby, all the 8!",5]
[null,"ID1152","2012-05-28T20:20:54",35000,35000,"USD",{"$f":"tblSalaries[[#This Row],[clean Salary (in local currency)]]*VLOOKUP(tblSalaries[[#This Row],[Currency]],tblXrate[],2,FALSE)","v":35000},"BI Analyst","Analyst","USA",{"$f":"VLOOKUP(tblSalaries[[#This Row],[Where do you work]],tblCountries[[Actual]:[Mapping]],2,FALSE)","v":"USA"},"All the 8 hours baby, all the 8!",20]
[null,"ID1153","2012-05-28T20:35:30","Â£35000",35000,"GBP",{"$f":"tblSalaries[[#This Row],[clean Salary (in local currency)]]*VLOOKUP(tblSalaries[[#This Row],[Currency]],tblXrate[],2,FALSE)","v":55166.239522354947},"MI Analyst","Analyst","UK",{"$f":"VLOOKUP(tblSalaries[[#This Row],[Where do you work]],tblCountries[[Actual]:[Mapping]],2,FALSE)","v":"UK"},"4 to 6 hours a day",10]
[null,"ID1154","2012-05-28T20:43:31",168000,168000,"PKR",{"$f":"tblSalaries[[#This Row],[clean Salary (in local currency)]]*VLOOKUP(tblSalaries[[#This Row],[Currency]],tblXrate[],2,FALSE)","v":1783.166904422254},"Accounts Assistant","Accountant","Pakistan",{"$f":"VLOOKUP(tblSalaries[[#This Row],[Where do you work]],tblCountries[[Actual]:[Mapping]],2,FALSE)","v":"Pakistan"},"4 to 6 hours a day",10]
[null,"ID1155","2012-05-28T20:45:35",13.5,13500,"USD",{"$f":"tblSalaries[[#This Row],[clean Salary (in local currency)]]*VLOOKUP(tblSalaries[[#This Row],[Currency]],tblXrate[],2,FALSE)","v":13500},"Project manager","Manager","Montenegro",{"$f":"VLOOKUP(tblSalaries[[#This Row],[Where do you work]],tblCountries[[Actual]:[Mapping]],2,FALSE)","v":"Montenegro"},"4 to 6 hours a day",13]
[null,"ID1156","2012-05-28T20:51:37","Â£37500",37500,"GBP",{"$f":"tblSalaries[[#This Row],[clean Salary (in local currency)]]*VLOOKUP(tblSalaries[[#This Row],[Currency]],tblXrate[],2,FALSE)","v":59106.685202523156},"Corporate Finance Executive","Accountant","UK",{"$f":"VLOOKUP(tblSalaries[[#This Row],[Where do you work]],tblCountries[[Actual]:[Mapping]],2,FALSE)","v":"UK"},"2 to 3 hours per day",5]
[null,"ID1157","2012-05-28T20:54:29","Rs. 59,000 (Per Month)",708000,"INR",{"$f":"tblSalaries[[#This Row],[clean Salary (in local currency)]]*VLOOKUP(tblSalaries[[#This Row],[Currency]],tblXrate[],2,FALSE)","v":12608.005014709339},"Manager-Operation","Manager","India",{"$f":"VLOOKUP(tblSalaries[[#This Row],[Where do you work]],tblCountries[[Actual]:[Mapping]],2,FALSE)","v":"India"},"4 to 6 hours a day",5]
[null,"ID1158","2012-05-28T21:14:25","R366252",366252,"ZAR",{"$f":"tblSalaries[[#This Row],[clean Salary (in local currency)]]*VLOOKUP(tblSalaries[[#This Row],[Currency]],tblXrate[],2,FALSE)","v":44654.095718350931},"Accountant","Accountant","South Africa",{"$f":"VLOOKUP(tblSalaries[[#This Row],[Where do you work]],tblCountries[[Actual]:[Mapping]],2,FALSE)","v":"South Africa"},"All the 8 hours baby, all the 8!",15]
[null,"ID1159","2012-05-28T21:17:04",69000,69000,"USD",{"$f":"tblSalaries[[#This Row],[clean Salary (in local currency)]]*VLOOKUP(tblSalaries[[#This Row],[Currency]],tblXrate[],2,FALSE)","v":69000},"Financial Analysist","Analyst","USA",{"$f":"VLOOKUP(tblSalaries[[#This Row],[Where do you work]],tblCountries[[Actual]:[Mapping]],2,FALSE)","v":"USA"},"2 to 3 hours per day",20]
[null,"ID1160","2012-05-28T21:55:25",500,6000,"USD",{"$f":"tblSalaries[[#This Row],[clean Salary (in local currency)]]*VLOOKUP(tblSalaries[[#This Row],[Currency]],tblXrate[],2,FALSE)","v":6000},"AM Ops","Manager","India",{"$f":"VLOOKUP(tblSalaries[[#This Row],[Where do you work]],tblCountries[[Actual]:[Mapping]],2,FALSE)","v":"India"},"4 to 6 hours a day",6]
[null,"ID1161","2012-05-28T22:08:12","Rs.5,00,000",500000,"INR",{"$f":"tblSalaries[[#This Row],[clean Salary (in local currency)]]*VLOOKUP(tblSalaries[[#This Row],[Currency]],tblXrate[],2,FALSE)","v":8903.9583437212841},"Deputy Manager","Manager","India",{"$f":"VLOOKUP(tblSalaries[[#This Row],[Where do you work]],tblCountries[[Actual]:[Mapping]],2,FALSE)","v":"India"},"1 or 2 hours a day",25]
[null,"ID1162","2012-05-28T22:10:12",30000,30000,"USD",{"$f":"tblSalaries[[#This Row],[clean Salary (in local currency)]]*VLOOKUP(tblSalaries[[#This Row],[Currency]],tblXrate[],2,FALSE)","v":30000},"pricing and cost manager","Manager","mexico",{"$f":"VLOOKUP(tblSalaries[[#This Row],[Where do you work]],tblCountries[[Actual]:[Mapping]],2,FALSE)","v":"Mexico"},"All the 8 hours baby, all the 8!",17]
[null,"ID1163","2012-05-28T22:13:24",8600,8600,"USD",{"$f":"tblSalaries[[#This Row],[clean Salary (in local currency)]]*VLOOKUP(tblSalaries[[#This Row],[Currency]],tblXrate[],2,FALSE)","v":8600},"Catlog associates","Analyst","India",{"$f":"VLOOKUP(tblSalaries[[#This Row],[Where do you work]],tblCountries[[Actual]:[Mapping]],2,FALSE)","v":"India"},"4 to 6 hours a day",2]
[null,"ID1164","2012-05-28T22:25:04","Â£51,000/$81,600",81600,"USD",{"$f":"tblSalaries[[#This Row],[clean Salary (in local currency)]]*VLOOKUP(tblSalaries[[#This Row],[Currency]],tblXrate[],2,FALSE)","v":81600},"Business Analyst - Central Finance","Analyst","UK",{"$f":"VLOOKUP(tblSalaries[[#This Row],[Where do you work]],tblCountries[[Actual]:[Mapping]],2,FALSE)","v":"UK"},"4 to 6 hours a day",4]
[null,"ID1165","2012-05-28T22:33:29",600000,600000,"DOP",{"$f":"tblSalaries[[#This Row],[clean Salary (in local currency)]]*VLOOKUP(tblSalaries[[#This Row],[Currency]],tblXrate[],2,FALSE)","v":15404.364569961488},"Analista de Produccion","Analyst","Republica Dominicana",{"$f":"VLOOKUP(tblSalaries[[#This Row],[Where do you work]],tblCountries[[Actual]:[Mapping]],2,FALSE)","v":"Dominican Republic"},"All the 8 hours baby, all the 8!",3]
[null,"ID1166","2012-05-28T22:35:56","CAD$65000",65000,"CAD",{"$f":"tblSalaries[[#This Row],[clean Salary (in local currency)]]*VLOOKUP(tblSalaries[[#This Row],[Currency]],tblXrate[],2,FALSE)","v":63918.498996971248},"IT Analyst (Reporting)","Analyst","Canada",{"$f":"VLOOKUP(tblSalaries[[#This Row],[Where do you work]],tblCountries[[Actual]:[Mapping]],2,FALSE)","v":"Canada"},"4 to 6 hours a day",20]
[null,"ID1167","2012-05-28T22:36:22",75000,75000,"USD",{"$f":"tblSalaries[[#This Row],[clean Salary (in local currency)]]*VLOOKUP(tblSalaries[[#This Row],[Currency]],tblXrate[],2,FALSE)","v":75000},"Controller","Controller","USA",{"$f":"VLOOKUP(tblSalaries[[#This Row],[Where do you work]],tblCountries[[Actual]:[Mapping]],2,FALSE)","v":"USA"},"2 to 3 hours per day",20]
[null,"ID1168","2012-05-28T22:36:47",59000,59000,"USD",{"$f":"tblSalaries[[#This Row],[clean Salary (in local currency)]]*VLOOKUP(tblSalaries[[#This Row],[Currency]],tblXrate[],2,FALSE)","v":59000},"Management Analyst","Analyst","USA",{"$f":"VLOOKUP(tblSalaries[[#This Row],[Where do you work]],tblCountries[[Actual]:[Mapping]],2,FALSE)","v":"USA"},"4 to 6 hours a day",14]
[null,"ID1169","2012-05-28T22:38:37","$50,000 U.S.",50000,"USD",{"$f":"tblSalaries[[#This Row],[clean Salary (in local currency)]]*VLOOKUP(tblSalaries[[#This Row],[Currency]],tblXrate[],2,FALSE)","v":50000},"Program Manager","Manager","Canada",{"$f":"VLOOKUP(tblSalaries[[#This Row],[Where do you work]],tblCountries[[Actual]:[Mapping]],2,FALSE)","v":"Canada"},"1 or 2 hours a day",5]
[null,"ID1170","2012-05-28T22:39:09","Â£80000",80000,"GBP",{"$f":"tblSalaries[[#This Row],[clean Salary (in local currency)]]*VLOOKUP(tblSalaries[[#This Row],[Currency]],tblXrate[],2,FALSE)","v":126094.26176538273},"Financial Controller","Controller","UK",{"$f":"VLOOKUP(tblSalaries[[#This Row],[Where do you work]],tblCountries[[Actual]:[Mapping]],2,FALSE)","v":"UK"},"4 to 6 hours a day",15]
[null,"ID1171","2012-05-28T22:41:01","R$ 54000",54000,"BRL",{"$f":"tblSalaries[[#This Row],[clean Salary (in local currency)]]*VLOOKUP(tblSalaries[[#This Row],[Currency]],tblXrate[],2,FALSE)","v":26691.183012544854},"Logistics Coordinator","Manager","Brazil",{"$f":"VLOOKUP(tblSalaries[[#This Row],[Where do you work]],tblCountries[[Actual]:[Mapping]],2,FALSE)","v":"Brazil"},"1 or 2 hours a day",7]
[null,"ID1172","2012-05-28T22:41:15",500000,500000,"INR",{"$f":"tblSalaries[[#This Row],[clean Salary (in local currency)]]*VLOOKUP(tblSalaries[[#This Row],[Currency]],tblXrate[],2,FALSE)","v":8903.9583437212841},"Business Analyst","Analyst","India",{"$f":"VLOOKUP(tblSalaries[[#This Row],[Where do you work]],tblCountries[[Actual]:[Mapping]],2,FALSE)","v":"India"},"4 to 6 hours a day",0.8]
[null,"ID1173","2012-05-28T22:41:26","8725 $",8725,"USD",{"$f":"tblSalaries[[#This Row],[clean Salary (in local currency)]]*VLOOKUP(tblSalaries[[#This Row],[Currency]],tblXrate[],2,FALSE)","v":8725},"Administration Officer","Manager","Pakistan",{"$f":"VLOOKUP(tblSalaries[[#This Row],[Where do you work]],tblCountries[[Actual]:[Mapping]],2,FALSE)","v":"Pakistan"},"2 to 3 hours per day",18]
[null,"ID1175","2012-05-28T22:44:48","Â£32000",32000,"GBP",{"$f":"tblSalaries[[#This Row],[clean Salary (in local currency)]]*VLOOKUP(tblSalaries[[#This Row],[Currency]],tblXrate[],2,FALSE)","v":50437.70470615309},"Service Analyst","Analyst","UK",{"$f":"VLOOKUP(tblSalaries[[#This Row],[Where do you work]],tblCountries[[Actual]:[Mapping]],2,FALSE)","v":"UK"},"4 to 6 hours a day",4]
[null,"ID1176","2012-05-28T22:45:49","Â£43000",43000,"GBP",{"$f":"tblSalaries[[#This Row],[clean Salary (in local currency)]]*VLOOKUP(tblSalaries[[#This Row],[Currency]],tblXrate[],2,FALSE)","v":67775.665698893223},"Head of Finance","Accountant","UK",{"$f":"VLOOKUP(tblSalaries[[#This Row],[Where do you work]],tblCountries[[Actual]:[Mapping]],2,FALSE)","v":"UK"},"All the 8 hours baby, all the 8!",15]
[null,"ID1177","2012-05-28T22:46:37","CAD $53,000/-",53000,"CAD",{"$f":"tblSalaries[[#This Row],[clean Salary (in local currency)]]*VLOOKUP(tblSalaries[[#This Row],[Currency]],tblXrate[],2,FALSE)","v":52118.160720607324},"Data Analyst","Analyst","Canada",{"$f":"VLOOKUP(tblSalaries[[#This Row],[Where do you work]],tblCountries[[Actual]:[Mapping]],2,FALSE)","v":"Canada"},"4 to 6 hours a day",6]
[null,"ID1178","2012-05-28T22:48:32","INR 20 Lakhs p.a.",200000,"INR",{"$f":"tblSalaries[[#This Row],[clean Salary (in local currency)]]*VLOOKUP(tblSalaries[[#This Row],[Currency]],tblXrate[],2,FALSE)","v":3561.5833374885137},"Associate","Analyst","India",{"$f":"VLOOKUP(tblSalaries[[#This Row],[Where do you work]],tblCountries[[Actual]:[Mapping]],2,FALSE)","v":"India"},"1 or 2 hours a day",6]
[null,"ID1179","2012-05-28T22:49:15","4.5 laks",450000,"INR",{"$f":"tblSalaries[[#This Row],[clean Salary (in local currency)]]*VLOOKUP(tblSalaries[[#This Row],[Currency]],tblXrate[],2,FALSE)","v":8013.5625093491553},"Production Manager","Manager","India",{"$f":"VLOOKUP(tblSalaries[[#This Row],[Where do you work]],tblCountries[[Actual]:[Mapping]],2,FALSE)","v":"India"},"4 to 6 hours a day",21]
[null,"ID1180","2012-05-28T22:50:51",28000,28000,"USD",{"$f":"tblSalaries[[#This Row],[clean Salary (in local currency)]]*VLOOKUP(tblSalaries[[#This Row],[Currency]],tblXrate[],2,FALSE)","v":28000},"Business Intelligence Manager","Manager","Poland",{"$f":"VLOOKUP(tblSalaries[[#This Row],[Where do you work]],tblCountries[[Actual]:[Mapping]],2,FALSE)","v":"Poland"},"4 to 6 hours a day",5]
[null,"ID1181","2012-05-28T22:51:27",31763,31763,"GBP",{"$f":"tblSalaries[[#This Row],[clean Salary (in local currency)]]*VLOOKUP(tblSalaries[[#This Row],[Currency]],tblXrate[],2,FALSE)","v":50064.150455673145},"Network Administrator","Analyst","UK",{"$f":"VLOOKUP(tblSalaries[[#This Row],[Where do you work]],tblCountries[[Actual]:[Mapping]],2,FALSE)","v":"UK"},"2 to 3 hours per day",2]
[null,"ID1182","2012-05-28T22:52:19","GBPÂ£32000",32000,"GBP",{"$f":"tblSalaries[[#This Row],[clean Salary (in local currency)]]*VLOOKUP(tblSalaries[[#This Row],[Currency]],tblXrate[],2,FALSE)","v":50437.70470615309},"Performance Analyst","Analyst","Canada",{"$f":"VLOOKUP(tblSalaries[[#This Row],[Where do you work]],tblCountries[[Actual]:[Mapping]],2,FALSE)","v":"Canada"},"4 to 6 hours a day",9]
[null,"ID1183","2012-05-28T22:53:03",27840,27840,"USD",{"$f":"tblSalaries[[#This Row],[clean Salary (in local currency)]]*VLOOKUP(tblSalaries[[#This Row],[Currency]],tblXrate[],2,FALSE)","v":27840},"Data Entry Clerk III","Analyst","USA",{"$f":"VLOOKUP(tblSalaries[[#This Row],[Where do you work]],tblCountries[[Actual]:[Mapping]],2,FALSE)","v":"USA"},"2 to 3 hours per day",1]
[null,"ID1184","2012-05-28T22:54:24","Rs. 350000",350000,"INR",{"$f":"tblSalaries[[#This Row],[clean Salary (in local currency)]]*VLOOKUP(tblSalaries[[#This Row],[Currency]],tblXrate[],2,FALSE)","v":6232.7708406048987},"officer accounts","Accountant","India",{"$f":"VLOOKUP(tblSalaries[[#This Row],[Where do you work]],tblCountries[[Actual]:[Mapping]],2,FALSE)","v":"India"},"2 to 3 hours per day",1.5]
[null,"ID1185","2012-05-28T22:55:40","S$50000",50000,"USD",{"$f":"tblSalaries[[#This Row],[clean Salary (in local currency)]]*VLOOKUP(tblSalaries[[#This Row],[Currency]],tblXrate[],2,FALSE)","v":50000},"Engineer","Engineer","Singapore",{"$f":"VLOOKUP(tblSalaries[[#This Row],[Where do you work]],tblCountries[[Actual]:[Mapping]],2,FALSE)","v":"Singapore"},"2 to 3 hours per day",25]
[null,"ID1186","2012-05-28T22:58:25",48000,48000,"USD",{"$f":"tblSalaries[[#This Row],[clean Salary (in local currency)]]*VLOOKUP(tblSalaries[[#This Row],[Currency]],tblXrate[],2,FALSE)","v":48000},"Cost Controlling Executive","Controller","Qatar",{"$f":"VLOOKUP(tblSalaries[[#This Row],[Where do you work]],tblCountries[[Actual]:[Mapping]],2,FALSE)","v":"Qatar"},"2 to 3 hours per day",10]
[null,"ID1187","2012-05-28T22:59:16",2000,24000,"USD",{"$f":"tblSalaries[[#This Row],[clean Salary (in local currency)]]*VLOOKUP(tblSalaries[[#This Row],[Currency]],tblXrate[],2,FALSE)","v":24000},"Administration Manager","Manager","Argentina",{"$f":"VLOOKUP(tblSalaries[[#This Row],[Where do you work]],tblCountries[[Actual]:[Mapping]],2,FALSE)","v":"Argentina"},"4 to 6 hours a day",21]
[null,"ID1188","2012-05-28T23:02:08",75000,75000,"USD",{"$f":"tblSalaries[[#This Row],[clean Salary (in local currency)]]*VLOOKUP(tblSalaries[[#This Row],[Currency]],tblXrate[],2,FALSE)","v":75000},"Financial Analyst","Analyst","USA",{"$f":"VLOOKUP(tblSalaries[[#This Row],[Where do you work]],tblCountries[[Actual]:[Mapping]],2,FALSE)","v":"USA"},"4 to 6 hours a day",12]
[null,"ID1189","2012-05-28T23:05:03","216000 AED",216000,"AED",{"$f":"tblSalaries[[#This Row],[clean Salary (in local currency)]]*VLOOKUP(tblSalaries[[#This Row],[Currency]],tblXrate[],2,FALSE)","v":58799.349940520107},"Financial analyst","Analyst","Dubai",{"$f":"VLOOKUP(tblSalaries[[#This Row],[Where do you work]],tblCountries[[Actual]:[Mapping]],2,FALSE)","v":"Dubai"},"4 to 6 hours a day",2]
[null,"ID1190","2012-05-28T23:06:22","Rupees : 2,000,000",2000000,"PKR",{"$f":"tblSalaries[[#This Row],[clean Salary (in local currency)]]*VLOOKUP(tblSalaries[[#This Row],[Currency]],tblXrate[],2,FALSE)","v":21228.177433598263},"Excel Corporate Trainer","Consultant","Pakistan",{"$f":"VLOOKUP(tblSalaries[[#This Row],[Where do you work]],tblCountries[[Actual]:[Mapping]],2,FALSE)","v":"Pakistan"},"All the 8 hours baby, all the 8!",8]
[null,"ID1191","2012-05-28T23:13:24",60000,60000,"USD",{"$f":"tblSalaries[[#This Row],[clean Salary (in local currency)]]*VLOOKUP(tblSalaries[[#This Row],[Currency]],tblXrate[],2,FALSE)","v":60000},"Quality Management","Manager","USA",{"$f":"VLOOKUP(tblSalaries[[#This Row],[Where do you work]],tblCountries[[Actual]:[Mapping]],2,FALSE)","v":"USA"},"2 to 3 hours per day",10]
[null,"ID1192","2012-05-28T23:13:31","5000  PLN   net",60000,"PLN",{"$f":"tblSalaries[[#This Row],[clean Salary (in local currency)]]*VLOOKUP(tblSalaries[[#This Row],[Currency]],tblXrate[],2,FALSE)","v":18018.883790212141},"Sales Analyst","Analyst","Poland",{"$f":"VLOOKUP(tblSalaries[[#This Row],[Where do you work]],tblCountries[[Actual]:[Mapping]],2,FALSE)","v":"Poland"},"All the 8 hours baby, all the 8!",10]
[null,"ID1193","2012-05-28T23:17:12","US$ 7,200",7200,"USD",{"$f":"tblSalaries[[#This Row],[clean Salary (in local currency)]]*VLOOKUP(tblSalaries[[#This Row],[Currency]],tblXrate[],2,FALSE)","v":7200},"Supervisor MIS","Reporting","India",{"$f":"VLOOKUP(tblSalaries[[#This Row],[Where do you work]],tblCountries[[Actual]:[Mapping]],2,FALSE)","v":"India"},"4 to 6 hours a day",7]
[null,"ID1194","2012-05-28T23:17:31",56000,56000,"USD",{"$f":"tblSalaries[[#This Row],[clean Salary (in local currency)]]*VLOOKUP(tblSalaries[[#This Row],[Currency]],tblXrate[],2,FALSE)","v":56000},"Analyst","Analyst","USA",{"$f":"VLOOKUP(tblSalaries[[#This Row],[Where do you work]],tblCountries[[Actual]:[Mapping]],2,FALSE)","v":"USA"},"1 or 2 hours a day",2]
[null,"ID1195","2012-05-28T23:19:36","Rs 5,40,000",540000,"INR",{"$f":"tblSalaries[[#This Row],[clean Salary (in local currency)]]*VLOOKUP(tblSalaries[[#This Row],[Currency]],tblXrate[],2,FALSE)","v":9616.275011218986},"Business Analyst - Solutions","Analyst","India",{"$f":"VLOOKUP(tblSalaries[[#This Row],[Where do you work]],tblCountries[[Actual]:[Mapping]],2,FALSE)","v":"India"},"4 to 6 hours a day",7.9]
[null,"ID1196","2012-05-28T23:21:02","KES 4.3 million",4300000,"KENYA",{"$f":"tblSalaries[[#This Row],[clean Salary (in local currency)]]*VLOOKUP(tblSalaries[[#This Row],[Currency]],tblXrate[],2,FALSE)","v":51497.005988023957},"Finance Manager","Manager","Kenya",{"$f":"VLOOKUP(tblSalaries[[#This Row],[Where do you work]],tblCountries[[Actual]:[Mapping]],2,FALSE)","v":"Kenya"},"4 to 6 hours a day",9]
[null,"ID1197","2012-05-28T23:25:32","82.000 Euro (pre-tax)",82000,"EUR",{"$f":"tblSalaries[[#This Row],[clean Salary (in local currency)]]*VLOOKUP(tblSalaries[[#This Row],[Currency]],tblXrate[],2,FALSE)","v":104172.75399731184},"Finance Project Manager","Manager","Netherlands",{"$f":"VLOOKUP(tblSalaries[[#This Row],[Where do you work]],tblCountries[[Actual]:[Mapping]],2,FALSE)","v":"Netherlands"},"All the 8 hours baby, all the 8!",25]
[null,"ID1198","2012-05-28T23:33:59",88000,88000,"USD",{"$f":"tblSalaries[[#This Row],[clean Salary (in local currency)]]*VLOOKUP(tblSalaries[[#This Row],[Currency]],tblXrate[],2,FALSE)","v":88000},"Manager, Strategy & Insights","Manager","USA",{"$f":"VLOOKUP(tblSalaries[[#This Row],[Where do you work]],tblCountries[[Actual]:[Mapping]],2,FALSE)","v":"USA"},"4 to 6 hours a day",2]
[null,"ID1199","2012-05-28T23:38:52",80000,80000,"USD",{"$f":"tblSalaries[[#This Row],[clean Salary (in local currency)]]*VLOOKUP(tblSalaries[[#This Row],[Currency]],tblXrate[],2,FALSE)","v":80000},"Financial/Data Analyst","Analyst","USA",{"$f":"VLOOKUP(tblSalaries[[#This Row],[Where do you work]],tblCountries[[Actual]:[Mapping]],2,FALSE)","v":"USA"},"4 to 6 hours a day",6]
[null,"ID1200","2012-05-28T23:47:10",19000,19000,"USD",{"$f":"tblSalaries[[#This Row],[clean Salary (in local currency)]]*VLOOKUP(tblSalaries[[#This Row],[Currency]],tblXrate[],2,FALSE)","v":19000},"Accountant","Accountant","UK",{"$f":"VLOOKUP(tblSalaries[[#This Row],[Where do you work]],tblCountries[[Actual]:[Mapping]],2,FALSE)","v":"UK"},"4 to 6 hours a day",20]
[null,"ID1201","2012-05-28T23:51:37","Euro 15.000",15000,"EUR",{"$f":"tblSalaries[[#This Row],[clean Salary (in local currency)]]*VLOOKUP(tblSalaries[[#This Row],[Currency]],tblXrate[],2,FALSE)","v":19055.991584874118},"business consultant","Consultant","Italy",{"$f":"VLOOKUP(tblSalaries[[#This Row],[Where do you work]],tblCountries[[Actual]:[Mapping]],2,FALSE)","v":"Italy"},"4 to 6 hours a day",3]
[null,"ID1202","2012-05-28T23:52:42",480000,480000,"INR",{"$f":"tblSalaries[[#This Row],[clean Salary (in local currency)]]*VLOOKUP(tblSalaries[[#This Row],[Currency]],tblXrate[],2,FALSE)","v":8547.8000099724322},"Documentation Consultant","Consultant","India",{"$f":"VLOOKUP(tblSalaries[[#This Row],[Where do you work]],tblCountries[[Actual]:[Mapping]],2,FALSE)","v":"India"},"All the 8 hours baby, all the 8!",15]
[null,"ID1203","2012-05-28T23:53:02",1100000,1100000,"INR",{"$f":"tblSalaries[[#This Row],[clean Salary (in local currency)]]*VLOOKUP(tblSalaries[[#This Row],[Currency]],tblXrate[],2,FALSE)","v":19588.708356186824},"Sr. Consultant","Consultant","India",{"$f":"VLOOKUP(tblSalaries[[#This Row],[Where do you work]],tblCountries[[Actual]:[Mapping]],2,FALSE)","v":"India"},"All the 8 hours baby, all the 8!",13]
[null,"ID1204","2012-05-29T00:00:21",61000,61000,"USD",{"$f":"tblSalaries[[#This Row],[clean Salary (in local currency)]]*VLOOKUP(tblSalaries[[#This Row],[Currency]],tblXrate[],2,FALSE)","v":61000},"Financial Analyst","Analyst","USA",{"$f":"VLOOKUP(tblSalaries[[#This Row],[Where do you work]],tblCountries[[Actual]:[Mapping]],2,FALSE)","v":"USA"},"4 to 6 hours a day",1.5]
[null,"ID1205","2012-05-29T00:03:43",34000,34000,"GBP",{"$f":"tblSalaries[[#This Row],[clean Salary (in local currency)]]*VLOOKUP(tblSalaries[[#This Row],[Currency]],tblXrate[],2,FALSE)","v":53590.061250287661},"investment accountant","Accountant","UK",{"$f":"VLOOKUP(tblSalaries[[#This Row],[Where do you work]],tblCountries[[Actual]:[Mapping]],2,FALSE)","v":"UK"},"All the 8 hours baby, all the 8!",10]
[null,"ID1206","2012-05-29T00:03:48",34000,34000,"GBP",{"$f":"tblSalaries[[#This Row],[clean Salary (in local currency)]]*VLOOKUP(tblSalaries[[#This Row],[Currency]],tblXrate[],2,FALSE)","v":53590.061250287661},"investment accountant","Accountant","UK",{"$f":"VLOOKUP(tblSalaries[[#This Row],[Where do you work]],tblCountries[[Actual]:[Mapping]],2,FALSE)","v":"UK"},"All the 8 hours baby, all the 8!",10]
[null,"ID1207","2012-05-29T00:07:00",250000,250000,"INR",{"$f":"tblSalaries[[#This Row],[clean Salary (in local currency)]]*VLOOKUP(tblSalaries[[#This Row],[Currency]],tblXrate[],2,FALSE)","v":4451.9791718606421},"Officer Production","Manager","India",{"$f":"VLOOKUP(tblSalaries[[#This Row],[Where do you work]],tblCountries[[Actual]:[Mapping]],2,FALSE)","v":"India"},"4 to 6 hours a day",1]
[null,"ID1208","2012-05-29T00:07:36",20000,20000,"EUR",{"$f":"tblSalaries[[#This Row],[clean Salary (in local currency)]]*VLOOKUP(tblSalaries[[#This Row],[Currency]],tblXrate[],2,FALSE)","v":25407.988779832154},"warehouse management","Manager","GREECE",{"$f":"VLOOKUP(tblSalaries[[#This Row],[Where do you work]],tblCountries[[Actual]:[Mapping]],2,FALSE)","v":"Greece"},"1 or 2 hours a day",12]
[null,"ID1209","2012-05-29T00:12:23",23000,23000,"USD",{"$f":"tblSalaries[[#This Row],[clean Salary (in local currency)]]*VLOOKUP(tblSalaries[[#This Row],[Currency]],tblXrate[],2,FALSE)","v":23000},"Chief Accountant","Accountant","Saudi Arabia",{"$f":"VLOOKUP(tblSalaries[[#This Row],[Where do you work]],tblCountries[[Actual]:[Mapping]],2,FALSE)","v":"Saudi Arabia"},"All the 8 hours baby, all the 8!",14]
[null,"ID1210","2012-05-29T00:16:55","Rs. 900000",900000,"INR",{"$f":"tblSalaries[[#This Row],[clean Salary (in local currency)]]*VLOOKUP(tblSalaries[[#This Row],[Currency]],tblXrate[],2,FALSE)","v":16027.125018698311},"Manager F & A","Manager","India",{"$f":"VLOOKUP(tblSalaries[[#This Row],[Where do you work]],tblCountries[[Actual]:[Mapping]],2,FALSE)","v":"India"},"1 or 2 hours a day",13]
[null,"ID1211","2012-05-29T00:25:39",60000,60000,"USD",{"$f":"tblSalaries[[#This Row],[clean Salary (in local currency)]]*VLOOKUP(tblSalaries[[#This Row],[Currency]],tblXrate[],2,FALSE)","v":60000},"Quality Assurance Engineer","Engineer","USA",{"$f":"VLOOKUP(tblSalaries[[#This Row],[Where do you work]],tblCountries[[Actual]:[Mapping]],2,FALSE)","v":"USA"},"1 or 2 hours a day",6]
[null,"ID1212","2012-05-29T00:25:46",800,4800,"USD",{"$f":"tblSalaries[[#This Row],[clean Salary (in local currency)]]*VLOOKUP(tblSalaries[[#This Row],[Currency]],tblXrate[],2,FALSE)","v":4800},"Financial Analyst","Analyst","India",{"$f":"VLOOKUP(tblSalaries[[#This Row],[Where do you work]],tblCountries[[Actual]:[Mapping]],2,FALSE)","v":"India"},"4 to 6 hours a day",5]
[null,"ID1213","2012-05-29T00:26:21","DKK 625000",625000,"DKK",{"$f":"tblSalaries[[#This Row],[clean Salary (in local currency)]]*VLOOKUP(tblSalaries[[#This Row],[Currency]],tblXrate[],2,FALSE)","v":106815.148267971},"Manager Business Controlling","Manager","Denmark",{"$f":"VLOOKUP(tblSalaries[[#This Row],[Where do you work]],tblCountries[[Actual]:[Mapping]],2,FALSE)","v":"Denmark"},"4 to 6 hours a day",25]
[null,"ID1214","2012-05-29T00:28:38",500000,500000,"INR",{"$f":"tblSalaries[[#This Row],[clean Salary (in local currency)]]*VLOOKUP(tblSalaries[[#This Row],[Currency]],tblXrate[],2,FALSE)","v":8903.9583437212841},"Consultant","Consultant","India",{"$f":"VLOOKUP(tblSalaries[[#This Row],[Where do you work]],tblCountries[[Actual]:[Mapping]],2,FALSE)","v":"India"},"2 to 3 hours per day",3]
[null,"ID1215","2012-05-29T00:29:32",60000,60000,"USD",{"$f":"tblSalaries[[#This Row],[clean Salary (in local currency)]]*VLOOKUP(tblSalaries[[#This Row],[Currency]],tblXrate[],2,FALSE)","v":60000},"sample manager","Manager","USA",{"$f":"VLOOKUP(tblSalaries[[#This Row],[Where do you work]],tblCountries[[Actual]:[Mapping]],2,FALSE)","v":"USA"},"4 to 6 hours a day",12]
[null,"ID1216","2012-05-29T00:30:42",2600000,2600000,"INR",{"$f":"tblSalaries[[#This Row],[clean Salary (in local currency)]]*VLOOKUP(tblSalaries[[#This Row],[Currency]],tblXrate[],2,FALSE)","v":46300.583387350678},"Practice Manager","Manager","India",{"$f":"VLOOKUP(tblSalaries[[#This Row],[Where do you work]],tblCountries[[Actual]:[Mapping]],2,FALSE)","v":"India"},"4 to 6 hours a day",4]
[null,"ID1217","2012-05-29T00:32:35","INR 750,000",750000,"INR",{"$f":"tblSalaries[[#This Row],[clean Salary (in local currency)]]*VLOOKUP(tblSalaries[[#This Row],[Currency]],tblXrate[],2,FALSE)","v":13355.937515581925},"Assistant Manager","Manager","India",{"$f":"VLOOKUP(tblSalaries[[#This Row],[Where do you work]],tblCountries[[Actual]:[Mapping]],2,FALSE)","v":"India"},"2 to 3 hours per day",3]
[null,"ID1218","2012-05-29T00:36:21",74000,74000,"USD",{"$f":"tblSalaries[[#This Row],[clean Salary (in local currency)]]*VLOOKUP(tblSalaries[[#This Row],[Currency]],tblXrate[],2,FALSE)","v":74000},"marketing specialist","Specialist","USA",{"$f":"VLOOKUP(tblSalaries[[#This Row],[Where do you work]],tblCountries[[Actual]:[Mapping]],2,FALSE)","v":"USA"},"4 to 6 hours a day",10]
[null,"ID1219","2012-05-29T00:47:17",95856,95856,"USD",{"$f":"tblSalaries[[#This Row],[clean Salary (in local currency)]]*VLOOKUP(tblSalaries[[#This Row],[Currency]],tblXrate[],2,FALSE)","v":95856},"Analyst","Analyst","USA",{"$f":"VLOOKUP(tblSalaries[[#This Row],[Where do you work]],tblCountries[[Actual]:[Mapping]],2,FALSE)","v":"USA"},"2 to 3 hours per day",13]
[null,"ID1220","2012-05-29T01:03:19","40,000 US",40000,"USD",{"$f":"tblSalaries[[#This Row],[clean Salary (in local currency)]]*VLOOKUP(tblSalaries[[#This Row],[Currency]],tblXrate[],2,FALSE)","v":40000},"Staff Accountant","Accountant","USA",{"$f":"VLOOKUP(tblSalaries[[#This Row],[Where do you work]],tblCountries[[Actual]:[Mapping]],2,FALSE)","v":"USA"},"2 to 3 hours per day",15]
[null,"ID1221","2012-05-29T01:06:44",4400,4400,"USD",{"$f":"tblSalaries[[#This Row],[clean Salary (in local currency)]]*VLOOKUP(tblSalaries[[#This Row],[Currency]],tblXrate[],2,FALSE)","v":4400},"Manager Corporate Finance","Manager","Latin America",{"$f":"VLOOKUP(tblSalaries[[#This Row],[Where do you work]],tblCountries[[Actual]:[Mapping]],2,FALSE)","v":"Latin America"},"2 to 3 hours per day",5]
[null,"ID1222","2012-05-29T01:12:28",90000,90000,"USD",{"$f":"tblSalaries[[#This Row],[clean Salary (in local currency)]]*VLOOKUP(tblSalaries[[#This Row],[Currency]],tblXrate[],2,FALSE)","v":90000},"Senior Analyst","Analyst","USA",{"$f":"VLOOKUP(tblSalaries[[#This Row],[Where do you work]],tblCountries[[Actual]:[Mapping]],2,FALSE)","v":"USA"},"4 to 6 hours a day",30]
[null,"ID1223","2012-05-29T01:19:26","INR 450000",450000,"INR",{"$f":"tblSalaries[[#This Row],[clean Salary (in local currency)]]*VLOOKUP(tblSalaries[[#This Row],[Currency]],tblXrate[],2,FALSE)","v":8013.5625093491553},"ASSISTANT MANAGER","Manager","India",{"$f":"VLOOKUP(tblSalaries[[#This Row],[Where do you work]],tblCountries[[Actual]:[Mapping]],2,FALSE)","v":"India"},"All the 8 hours baby, all the 8!",2]
[null,"ID1224","2012-05-29T01:22:59","INR 1000000",1000000,"INR",{"$f":"tblSalaries[[#This Row],[clean Salary (in local currency)]]*VLOOKUP(tblSalaries[[#This Row],[Currency]],tblXrate[],2,FALSE)","v":17807.916687442568},"Asst Manager","Manager","India",{"$f":"VLOOKUP(tblSalaries[[#This Row],[Where do you work]],tblCountries[[Actual]:[Mapping]],2,FALSE)","v":"India"},"4 to 6 hours a day",8.5]
[null,"ID1225","2012-05-29T01:31:39","700000 INR",700000,"INR",{"$f":"tblSalaries[[#This Row],[clean Salary (in local currency)]]*VLOOKUP(tblSalaries[[#This Row],[Currency]],tblXrate[],2,FALSE)","v":12465.541681209797},"Lead Executive MIS","Reporting","India",{"$f":"VLOOKUP(tblSalaries[[#This Row],[Where do you work]],tblCountries[[Actual]:[Mapping]],2,FALSE)","v":"India"},"4 to 6 hours a day",6]
[null,"ID1226","2012-05-29T01:41:00",80000,80000,"USD",{"$f":"tblSalaries[[#This Row],[clean Salary (in local currency)]]*VLOOKUP(tblSalaries[[#This Row],[Currency]],tblXrate[],2,FALSE)","v":80000},"Snr Business Analyst","Analyst","Singapore",{"$f":"VLOOKUP(tblSalaries[[#This Row],[Where do you work]],tblCountries[[Actual]:[Mapping]],2,FALSE)","v":"Singapore"},"1 or 2 hours a day",6]
[null,"ID1227","2012-05-29T01:44:03",100000,100000,"USD",{"$f":"tblSalaries[[#This Row],[clean Salary (in local currency)]]*VLOOKUP(tblSalaries[[#This Row],[Currency]],tblXrate[],2,FALSE)","v":100000},"Finance Manager","Manager","USA",{"$f":"VLOOKUP(tblSalaries[[#This Row],[Where do you work]],tblCountries[[Actual]:[Mapping]],2,FALSE)","v":"USA"},"4 to 6 hours a day",11]
[null,"ID1228","2012-05-29T01:45:13",4100,49200,"USD",{"$f":"tblSalaries[[#This Row],[clean Salary (in local currency)]]*VLOOKUP(tblSalaries[[#This Row],[Currency]],tblXrate[],2,FALSE)","v":49200},"Chief Accountant","Accountant","QATAR",{"$f":"VLOOKUP(tblSalaries[[#This Row],[Where do you work]],tblCountries[[Actual]:[Mapping]],2,FALSE)","v":"Qatar"},"2 to 3 hours per day",25]
[null,"ID1229","2012-05-29T01:47:39",750,9000,"USD",{"$f":"tblSalaries[[#This Row],[clean Salary (in local currency)]]*VLOOKUP(tblSalaries[[#This Row],[Currency]],tblXrate[],2,FALSE)","v":9000},"assurance manager","Manager","India",{"$f":"VLOOKUP(tblSalaries[[#This Row],[Where do you work]],tblCountries[[Actual]:[Mapping]],2,FALSE)","v":"India"},"4 to 6 hours a day",1]
[null,"ID1230","2012-05-29T01:50:01",300000,300000,"INR",{"$f":"tblSalaries[[#This Row],[clean Salary (in local currency)]]*VLOOKUP(tblSalaries[[#This Row],[Currency]],tblXrate[],2,FALSE)","v":5342.3750062327708},"Finance Analyst","Analyst","India",{"$f":"VLOOKUP(tblSalaries[[#This Row],[Where do you work]],tblCountries[[Actual]:[Mapping]],2,FALSE)","v":"India"},"4 to 6 hours a day",6]
[null,"ID1231","2012-05-29T02:02:39","$40K",40000,"USD",{"$f":"tblSalaries[[#This Row],[clean Salary (in local currency)]]*VLOOKUP(tblSalaries[[#This Row],[Currency]],tblXrate[],2,FALSE)","v":40000},"SOX,SAP, Insurance Coordinator","Manager","Pakistan, Angola",{"$f":"VLOOKUP(tblSalaries[[#This Row],[Where do you work]],tblCountries[[Actual]:[Mapping]],2,FALSE)","v":"Pakistan"},"4 to 6 hours a day",15]
[null,"ID1232","2012-05-29T02:12:32","Â£26000",26000,"GBP",{"$f":"tblSalaries[[#This Row],[clean Salary (in local currency)]]*VLOOKUP(tblSalaries[[#This Row],[Currency]],tblXrate[],2,FALSE)","v":40980.635073749385},"Business Analyst","Analyst","UK",{"$f":"VLOOKUP(tblSalaries[[#This Row],[Where do you work]],tblCountries[[Actual]:[Mapping]],2,FALSE)","v":"UK"},"4 to 6 hours a day",2]
[null,"ID1233","2012-05-29T02:19:27","Â£29000",29000,"GBP",{"$f":"tblSalaries[[#This Row],[clean Salary (in local currency)]]*VLOOKUP(tblSalaries[[#This Row],[Currency]],tblXrate[],2,FALSE)","v":45709.169889951241},"Financial Accountant","Accountant","UK",{"$f":"VLOOKUP(tblSalaries[[#This Row],[Where do you work]],tblCountries[[Actual]:[Mapping]],2,FALSE)","v":"UK"},"2 to 3 hours per day",8]
[null,"ID1234","2012-05-29T02:22:13",400000,400000,"INR",{"$f":"tblSalaries[[#This Row],[clean Salary (in local currency)]]*VLOOKUP(tblSalaries[[#This Row],[Currency]],tblXrate[],2,FALSE)","v":7123.1666749770275},"Pmo","Manager","India",{"$f":"VLOOKUP(tblSalaries[[#This Row],[Where do you work]],tblCountries[[Actual]:[Mapping]],2,FALSE)","v":"India"},"4 to 6 hours a day",1]
[null,"ID1235","2012-05-29T02:26:28","100000 USD",100000,"USD",{"$f":"tblSalaries[[#This Row],[clean Salary (in local currency)]]*VLOOKUP(tblSalaries[[#This Row],[Currency]],tblXrate[],2,FALSE)","v":100000},"Controller","Controller","Norway",{"$f":"VLOOKUP(tblSalaries[[#This Row],[Where do you work]],tblCountries[[Actual]:[Mapping]],2,FALSE)","v":"Norway"},"4 to 6 hours a day",12]
[null,"ID1236","2012-05-29T02:43:44","62.000 euro",62000,"EUR",{"$f":"tblSalaries[[#This Row],[clean Salary (in local currency)]]*VLOOKUP(tblSalaries[[#This Row],[Currency]],tblXrate[],2,FALSE)","v":78764.765217479682},"Stafmember","Analyst","Netherlands",{"$f":"VLOOKUP(tblSalaries[[#This Row],[Where do you work]],tblCountries[[Actual]:[Mapping]],2,FALSE)","v":"Netherlands"},"4 to 6 hours a day",15]
[null,"ID1237","2012-05-29T03:16:02",150000,150000,"AUD",{"$f":"tblSalaries[[#This Row],[clean Salary (in local currency)]]*VLOOKUP(tblSalaries[[#This Row],[Currency]],tblXrate[],2,FALSE)","v":152986.44846039536},"Analyst","Analyst","Australia",{"$f":"VLOOKUP(tblSalaries[[#This Row],[Where do you work]],tblCountries[[Actual]:[Mapping]],2,FALSE)","v":"Australia"},"2 to 3 hours per day",10]
[null,"ID1238","2012-05-29T03:28:37","â‚¬35,000 / â‚¬44,000",35000,"EUR",{"$f":"tblSalaries[[#This Row],[clean Salary (in local currency)]]*VLOOKUP(tblSalaries[[#This Row],[Currency]],tblXrate[],2,FALSE)","v":44463.980364706273},"Business Analyst","Analyst","Ireland",{"$f":"VLOOKUP(tblSalaries[[#This Row],[Where do you work]],tblCountries[[Actual]:[Mapping]],2,FALSE)","v":"Ireland"},"All the 8 hours baby, all the 8!",12]
[null,"ID1239","2012-05-29T03:51:09",30,30000,"EUR",{"$f":"tblSalaries[[#This Row],[clean Salary (in local currency)]]*VLOOKUP(tblSalaries[[#This Row],[Currency]],tblXrate[],2,FALSE)","v":38111.983169748237},"education advisor","Consultant","the Netherlands",{"$f":"VLOOKUP(tblSalaries[[#This Row],[Where do you work]],tblCountries[[Actual]:[Mapping]],2,FALSE)","v":"Netherlands"},"1 or 2 hours a day",8]
[null,"ID1240","2012-05-29T03:51:28",75000,75000,"GBP",{"$f":"tblSalaries[[#This Row],[clean Salary (in local currency)]]*VLOOKUP(tblSalaries[[#This Row],[Currency]],tblXrate[],2,FALSE)","v":118213.37040504631},"Finance Manager","Manager","UK",{"$f":"VLOOKUP(tblSalaries[[#This Row],[Where do you work]],tblCountries[[Actual]:[Mapping]],2,FALSE)","v":"UK"},"4 to 6 hours a day",20]
[null,"ID1241","2012-05-29T04:03:07",25000,25000,"GBP",{"$f":"tblSalaries[[#This Row],[clean Salary (in local currency)]]*VLOOKUP(tblSalaries[[#This Row],[Currency]],tblXrate[],2,FALSE)","v":39404.456801682099},"Senior Accounts Clerk","Accountant","UK",{"$f":"VLOOKUP(tblSalaries[[#This Row],[Where do you work]],tblCountries[[Actual]:[Mapping]],2,FALSE)","v":"UK"},"2 to 3 hours per day",10]
[null,"ID1242","2012-05-29T04:08:45",71000,71000,"EUR",{"$f":"tblSalaries[[#This Row],[clean Salary (in local currency)]]*VLOOKUP(tblSalaries[[#This Row],[Currency]],tblXrate[],2,FALSE)","v":90198.36016840415},"Consultant","Consultant","Germany",{"$f":"VLOOKUP(tblSalaries[[#This Row],[Where do you work]],tblCountries[[Actual]:[Mapping]],2,FALSE)","v":"Germany"},"1 or 2 hours a day",3]
[null,"ID1243","2012-05-29T04:11:58","Â£30000",30000,"GBP",{"$f":"tblSalaries[[#This Row],[clean Salary (in local currency)]]*VLOOKUP(tblSalaries[[#This Row],[Currency]],tblXrate[],2,FALSE)","v":47285.348162018527},"Infection Prevention Surveillance Specialist","Specialist","UK",{"$f":"VLOOKUP(tblSalaries[[#This Row],[Where do you work]],tblCountries[[Actual]:[Mapping]],2,FALSE)","v":"UK"},"4 to 6 hours a day",14]
[null,"ID1244","2012-05-29T04:25:02",56000,56000,"USD",{"$f":"tblSalaries[[#This Row],[clean Salary (in local currency)]]*VLOOKUP(tblSalaries[[#This Row],[Currency]],tblXrate[],2,FALSE)","v":56000},"Accountant","Accountant","USA",{"$f":"VLOOKUP(tblSalaries[[#This Row],[Where do you work]],tblCountries[[Actual]:[Mapping]],2,FALSE)","v":"USA"},"4 to 6 hours a day",1]
[null,"ID1245","2012-05-29T04:30:10","IDR 4000000",48000000,"IDR",{"$f":"tblSalaries[[#This Row],[clean Salary (in local currency)]]*VLOOKUP(tblSalaries[[#This Row],[Currency]],tblXrate[],2,FALSE)","v":5082.6943786459069},"Office Instructor","Analyst","Indonesia",{"$f":"VLOOKUP(tblSalaries[[#This Row],[Where do you work]],tblCountries[[Actual]:[Mapping]],2,FALSE)","v":"Indonesia"},"1 or 2 hours a day",2]
[null,"ID1246","2012-05-29T04:33:37","GBP 34000",34000,"GBP",{"$f":"tblSalaries[[#This Row],[clean Salary (in local currency)]]*VLOOKUP(tblSalaries[[#This Row],[Currency]],tblXrate[],2,FALSE)","v":53590.061250287661},"Investment Accountant","Accountant","UK",{"$f":"VLOOKUP(tblSalaries[[#This Row],[Where do you work]],tblCountries[[Actual]:[Mapping]],2,FALSE)","v":"UK"},"All the 8 hours baby, all the 8!",10]
[null,"ID1247","2012-05-29T05:03:26","dkk 450000",450000,"DKK",{"$f":"tblSalaries[[#This Row],[clean Salary (in local currency)]]*VLOOKUP(tblSalaries[[#This Row],[Currency]],tblXrate[],2,FALSE)","v":76906.906752939132},"owner","CXO or Top Mgmt.","Denmark",{"$f":"VLOOKUP(tblSalaries[[#This Row],[Where do you work]],tblCountries[[Actual]:[Mapping]],2,FALSE)","v":"Denmark"},"All the 8 hours baby, all the 8!",17]
[null,"ID1248","2012-05-29T05:08:57","85000 USD",85000,"USD",{"$f":"tblSalaries[[#This Row],[clean Salary (in local currency)]]*VLOOKUP(tblSalaries[[#This Row],[Currency]],tblXrate[],2,FALSE)","v":85000},"Senior Executive Compensation Analyst ","Analyst","USA",{"$f":"VLOOKUP(tblSalaries[[#This Row],[Where do you work]],tblCountries[[Actual]:[Mapping]],2,FALSE)","v":"USA"},"4 to 6 hours a day",5]
[null,"ID1249","2012-05-29T05:11:03","USD72000",72000,"USD",{"$f":"tblSalaries[[#This Row],[clean Salary (in local currency)]]*VLOOKUP(tblSalaries[[#This Row],[Currency]],tblXrate[],2,FALSE)","v":72000},"Markets Adviser","Consultant","New Zealand",{"$f":"VLOOKUP(tblSalaries[[#This Row],[Where do you work]],tblCountries[[Actual]:[Mapping]],2,FALSE)","v":"New Zealand"},"2 to 3 hours per day",10]
[null,"ID1250","2012-05-29T05:21:39",55000,55000,"USD",{"$f":"tblSalaries[[#This Row],[clean Salary (in local currency)]]*VLOOKUP(tblSalaries[[#This Row],[Currency]],tblXrate[],2,FALSE)","v":55000},"Systems Analyst","Analyst","USA",{"$f":"VLOOKUP(tblSalaries[[#This Row],[Where do you work]],tblCountries[[Actual]:[Mapping]],2,FALSE)","v":"USA"},"1 or 2 hours a day",7]
[null,"ID1251","2012-05-29T05:47:34","GBP 43,000",43000,"GBP",{"$f":"tblSalaries[[#This Row],[clean Salary (in local currency)]]*VLOOKUP(tblSalaries[[#This Row],[Currency]],tblXrate[],2,FALSE)","v":67775.665698893223},"Financial Controller","Controller","UK",{"$f":"VLOOKUP(tblSalaries[[#This Row],[Where do you work]],tblCountries[[Actual]:[Mapping]],2,FALSE)","v":"UK"},"4 to 6 hours a day",25]
[null,"ID1252","2012-05-29T05:53:42","Â£25750",25750,"GBP",{"$f":"tblSalaries[[#This Row],[clean Salary (in local currency)]]*VLOOKUP(tblSalaries[[#This Row],[Currency]],tblXrate[],2,FALSE)","v":40586.590505732565},"Energy Analyst","Analyst","UK",{"$f":"VLOOKUP(tblSalaries[[#This Row],[Where do you work]],tblCountries[[Actual]:[Mapping]],2,FALSE)","v":"UK"},"4 to 6 hours a day",1]
[null,"ID1253","2012-05-29T06:08:12",50846,50846,"USD",{"$f":"tblSalaries[[#This Row],[clean Salary (in local currency)]]*VLOOKUP(tblSalaries[[#This Row],[Currency]],tblXrate[],2,FALSE)","v":50846},"Program & Policy Analyst-Advanced","Analyst","USA",{"$f":"VLOOKUP(tblSalaries[[#This Row],[Where do you work]],tblCountries[[Actual]:[Mapping]],2,FALSE)","v":"USA"},"4 to 6 hours a day",25]
[null,"ID1254","2012-05-29T06:24:36",63000,63000,"USD",{"$f":"tblSalaries[[#This Row],[clean Salary (in local currency)]]*VLOOKUP(tblSalaries[[#This Row],[Currency]],tblXrate[],2,FALSE)","v":63000},"Senior Staff Accountant","Accountant","USA",{"$f":"VLOOKUP(tblSalaries[[#This Row],[Where do you work]],tblCountries[[Actual]:[Mapping]],2,FALSE)","v":"USA"},"All the 8 hours baby, all the 8!",16]
[null,"ID1255","2012-05-29T06:26:05",80000,80000,"AUD",{"$f":"tblSalaries[[#This Row],[clean Salary (in local currency)]]*VLOOKUP(tblSalaries[[#This Row],[Currency]],tblXrate[],2,FALSE)","v":81592.772512210868},"systems accountant","Accountant","Australia",{"$f":"VLOOKUP(tblSalaries[[#This Row],[Where do you work]],tblCountries[[Actual]:[Mapping]],2,FALSE)","v":"Australia"},"4 to 6 hours a day",5]
[null,"ID1256","2012-05-29T07:21:41",50700,50700,"USD",{"$f":"tblSalaries[[#This Row],[clean Salary (in local currency)]]*VLOOKUP(tblSalaries[[#This Row],[Currency]],tblXrate[],2,FALSE)","v":50700},"Sr. Systems Analyst","Analyst","Brazil",{"$f":"VLOOKUP(tblSalaries[[#This Row],[Where do you work]],tblCountries[[Actual]:[Mapping]],2,FALSE)","v":"Brazil"},"1 or 2 hours a day",15]
[null,"ID1257","2012-05-29T07:28:41",20000,20000,"GBP",{"$f":"tblSalaries[[#This Row],[clean Salary (in local currency)]]*VLOOKUP(tblSalaries[[#This Row],[Currency]],tblXrate[],2,FALSE)","v":31523.565441345683},"Environmental Information Analyst","Analyst","UK",{"$f":"VLOOKUP(tblSalaries[[#This Row],[Where do you work]],tblCountries[[Actual]:[Mapping]],2,FALSE)","v":"UK"},"4 to 6 hours a day",1]
[null,"ID1258","2012-05-29T07:46:56",70000,70000,"USD",{"$f":"tblSalaries[[#This Row],[clean Salary (in local currency)]]*VLOOKUP(tblSalaries[[#This Row],[Currency]],tblXrate[],2,FALSE)","v":70000},"Develope","Analyst","USA",{"$f":"VLOOKUP(tblSalaries[[#This Row],[Where do you work]],tblCountries[[Actual]:[Mapping]],2,FALSE)","v":"USA"},"1 or 2 hours a day",6]
[null,"ID1259","2012-05-29T07:52:56",65000,65000,"CAD",{"$f":"tblSalaries[[#This Row],[clean Salary (in local currency)]]*VLOOKUP(tblSalaries[[#This Row],[Currency]],tblXrate[],2,FALSE)","v":63918.498996971248},"it manager","Manager","Canada",{"$f":"VLOOKUP(tblSalaries[[#This Row],[Where do you work]],tblCountries[[Actual]:[Mapping]],2,FALSE)","v":"Canada"},"2 to 3 hours per day",15]
[null,"ID1260","2012-05-29T07:57:04",800000,9600000,"MONGOLIAN",{"$f":"tblSalaries[[#This Row],[clean Salary (in local currency)]]*VLOOKUP(tblSalaries[[#This Row],[Currency]],tblXrate[],2,FALSE)","v":7261.724659606657},"Analyst","Analyst","Mongolia",{"$f":"VLOOKUP(tblSalaries[[#This Row],[Where do you work]],tblCountries[[Actual]:[Mapping]],2,FALSE)","v":"Mongolia"},"All the 8 hours baby, all the 8!",2]
[null,"ID1261","2012-05-29T08:13:06","RM3000",36000,"MYR",{"$f":"tblSalaries[[#This Row],[clean Salary (in local currency)]]*VLOOKUP(tblSalaries[[#This Row],[Currency]],tblXrate[],2,FALSE)","v":11404.820437438224},"Process Engineering","Engineer","Malaysia",{"$f":"VLOOKUP(tblSalaries[[#This Row],[Where do you work]],tblCountries[[Actual]:[Mapping]],2,FALSE)","v":"Malaysia"},"4 to 6 hours a day",2]
[null,"ID1262","2012-05-29T08:25:51","120,000  US$",120000,"USD",{"$f":"tblSalaries[[#This Row],[clean Salary (in local currency)]]*VLOOKUP(tblSalaries[[#This Row],[Currency]],tblXrate[],2,FALSE)","v":120000},"Consultant - Process Improvement","Consultant","Singapore",{"$f":"VLOOKUP(tblSalaries[[#This Row],[Where do you work]],tblCountries[[Actual]:[Mapping]],2,FALSE)","v":"Singapore"},"1 or 2 hours a day",5]
[null,"ID1263","2012-05-29T08:41:02",90000,90000,"AUD",{"$f":"tblSalaries[[#This Row],[clean Salary (in local currency)]]*VLOOKUP(tblSalaries[[#This Row],[Currency]],tblXrate[],2,FALSE)","v":91791.869076237213},"Business Analyst","Analyst","Australia",{"$f":"VLOOKUP(tblSalaries[[#This Row],[Where do you work]],tblCountries[[Actual]:[Mapping]],2,FALSE)","v":"Australia"},"4 to 6 hours a day",5]
[null,"ID1264","2012-05-29T08:41:14",110000,110000,"AUD",{"$f":"tblSalaries[[#This Row],[clean Salary (in local currency)]]*VLOOKUP(tblSalaries[[#This Row],[Currency]],tblXrate[],2,FALSE)","v":112190.06220428993},"Analyst","Analyst","Australia",{"$f":"VLOOKUP(tblSalaries[[#This Row],[Where do you work]],tblCountries[[Actual]:[Mapping]],2,FALSE)","v":"Australia"},"2 to 3 hours per day",7]
[null,"ID1265","2012-05-29T08:47:48",40000,40000,"USD",{"$f":"tblSalaries[[#This Row],[clean Salary (in local currency)]]*VLOOKUP(tblSalaries[[#This Row],[Currency]],tblXrate[],2,FALSE)","v":40000},"Senior Materials Handler","Manager","USA",{"$f":"VLOOKUP(tblSalaries[[#This Row],[Where do you work]],tblCountries[[Actual]:[Mapping]],2,FALSE)","v":"USA"},"2 to 3 hours per day",18]
[null,"ID1266","2012-05-29T08:59:41",107000,107000,"USD",{"$f":"tblSalaries[[#This Row],[clean Salary (in local currency)]]*VLOOKUP(tblSalaries[[#This Row],[Currency]],tblXrate[],2,FALSE)","v":107000},"Certified Public Accountant","Accountant","USA",{"$f":"VLOOKUP(tblSalaries[[#This Row],[Where do you work]],tblCountries[[Actual]:[Mapping]],2,FALSE)","v":"USA"},"4 to 6 hours a day",12]
[null,"ID1267","2012-05-29T09:15:09",82000,82000,"USD",{"$f":"tblSalaries[[#This Row],[clean Salary (in local currency)]]*VLOOKUP(tblSalaries[[#This Row],[Currency]],tblXrate[],2,FALSE)","v":82000},"Manager - Marketing Analytics","Manager","USA",{"$f":"VLOOKUP(tblSalaries[[#This Row],[Where do you work]],tblCountries[[Actual]:[Mapping]],2,FALSE)","v":"USA"},"4 to 6 hours a day",10]
[null,"ID1268","2012-05-29T09:25:31",100000,100000,"AUD",{"$f":"tblSalaries[[#This Row],[clean Salary (in local currency)]]*VLOOKUP(tblSalaries[[#This Row],[Currency]],tblXrate[],2,FALSE)","v":101990.96564026357},"Contractor/Consultant","Consultant","Australia",{"$f":"VLOOKUP(tblSalaries[[#This Row],[Where do you work]],tblCountries[[Actual]:[Mapping]],2,FALSE)","v":"Australia"},"4 to 6 hours a day",15]
[null,"ID1270","2012-05-29T09:37:40","AUD $43000",43000,"USD",{"$f":"tblSalaries[[#This Row],[clean Salary (in local currency)]]*VLOOKUP(tblSalaries[[#This Row],[Currency]],tblXrate[],2,FALSE)","v":43000},"Operations Support Officer","Manager","Australia",{"$f":"VLOOKUP(tblSalaries[[#This Row],[Where do you work]],tblCountries[[Actual]:[Mapping]],2,FALSE)","v":"Australia"},"2 to 3 hours per day",4]
[null,"ID1271","2012-05-29T09:38:14",69000,69000,"USD",{"$f":"tblSalaries[[#This Row],[clean Salary (in local currency)]]*VLOOKUP(tblSalaries[[#This Row],[Currency]],tblXrate[],2,FALSE)","v":69000},"master scheduler","Controller","USA",{"$f":"VLOOKUP(tblSalaries[[#This Row],[Where do you work]],tblCountries[[Actual]:[Mapping]],2,FALSE)","v":"USA"},"4 to 6 hours a day",20]
[null,"ID1273","2012-05-29T09:47:47",30000,30000,"USD",{"$f":"tblSalaries[[#This Row],[clean Salary (in local currency)]]*VLOOKUP(tblSalaries[[#This Row],[Currency]],tblXrate[],2,FALSE)","v":30000},"Practice Manager - Business Operations","Manager","India",{"$f":"VLOOKUP(tblSalaries[[#This Row],[Where do you work]],tblCountries[[Actual]:[Mapping]],2,FALSE)","v":"India"},"2 to 3 hours per day",3]
[null,"ID1274","2012-05-29T09:52:02","48000 $AUD",48000,"AUD",{"$f":"tblSalaries[[#This Row],[clean Salary (in local currency)]]*VLOOKUP(tblSalaries[[#This Row],[Currency]],tblXrate[],2,FALSE)","v":48955.663507326513},"Research Assistant","Analyst","Australia",{"$f":"VLOOKUP(tblSalaries[[#This Row],[Where do you work]],tblCountries[[Actual]:[Mapping]],2,FALSE)","v":"Australia"},"1 or 2 hours a day",2]
[null,"ID1275","2012-05-29T10:08:21",70000,70000,"USD",{"$f":"tblSalaries[[#This Row],[clean Salary (in local currency)]]*VLOOKUP(tblSalaries[[#This Row],[Currency]],tblXrate[],2,FALSE)","v":70000},"Project Manager","Manager","USA",{"$f":"VLOOKUP(tblSalaries[[#This Row],[Where do you work]],tblCountries[[Actual]:[Mapping]],2,FALSE)","v":"USA"},"4 to 6 hours a day",8]
[null,"ID1276","2012-05-29T10:09:37",45000,45000,"USD",{"$f":"tblSalaries[[#This Row],[clean Salary (in local currency)]]*VLOOKUP(tblSalaries[[#This Row],[Currency]],tblXrate[],2,FALSE)","v":45000},"Staff Assistant","Analyst","USA",{"$f":"VLOOKUP(tblSalaries[[#This Row],[Where do you work]],tblCountries[[Actual]:[Mapping]],2,FALSE)","v":"USA"},"4 to 6 hours a day",7]
[null,"ID1277","2012-05-29T10:11:28",35000,35000,"USD",{"$f":"tblSalaries[[#This Row],[clean Salary (in local currency)]]*VLOOKUP(tblSalaries[[#This Row],[Currency]],tblXrate[],2,FALSE)","v":35000},"AVP Securitisation","CXO or Top Mgmt.","Malaysia",{"$f":"VLOOKUP(tblSalaries[[#This Row],[Where do you work]],tblCountries[[Actual]:[Mapping]],2,FALSE)","v":"Malaysia"},"All the 8 hours baby, all the 8!",12]
[null,"ID1278","2012-05-29T10:43:49",500000,500000,"INR",{"$f":"tblSalaries[[#This Row],[clean Salary (in local currency)]]*VLOOKUP(tblSalaries[[#This Row],[Currency]],tblXrate[],2,FALSE)","v":8903.9583437212841},"Asstt. Manager","Manager","India",{"$f":"VLOOKUP(tblSalaries[[#This Row],[Where do you work]],tblCountries[[Actual]:[Mapping]],2,FALSE)","v":"India"},"2 to 3 hours per day",29]
[null,"ID1279","2012-05-29T10:45:46","MYR89500",89500,"MYR",{"$f":"tblSalaries[[#This Row],[clean Salary (in local currency)]]*VLOOKUP(tblSalaries[[#This Row],[Currency]],tblXrate[],2,FALSE)","v":28353.650809742252},"Manager","Manager","Malaysia",{"$f":"VLOOKUP(tblSalaries[[#This Row],[Where do you work]],tblCountries[[Actual]:[Mapping]],2,FALSE)","v":"Malaysia"},"2 to 3 hours per day",20]
[null,"ID1280","2012-05-29T10:48:33","USD 11800 (INR 650000)",11800,"USD",{"$f":"tblSalaries[[#This Row],[clean Salary (in local currency)]]*VLOOKUP(tblSalaries[[#This Row],[Currency]],tblXrate[],2,FALSE)","v":11800},"Assistant Data Analyst","Analyst","India",{"$f":"VLOOKUP(tblSalaries[[#This Row],[Where do you work]],tblCountries[[Actual]:[Mapping]],2,FALSE)","v":"India"},"4 to 6 hours a day",10]
[null,"ID1281","2012-05-29T10:51:02","Rs.3.6 Lakhs pa",360000,"INR",{"$f":"tblSalaries[[#This Row],[clean Salary (in local currency)]]*VLOOKUP(tblSalaries[[#This Row],[Currency]],tblXrate[],2,FALSE)","v":6410.8500074793246},"Team Leader WFM","Manager","India",{"$f":"VLOOKUP(tblSalaries[[#This Row],[Where do you work]],tblCountries[[Actual]:[Mapping]],2,FALSE)","v":"India"},"All the 8 hours baby, all the 8!",6]
[null,"ID1282","2012-05-29T10:51:31",50000,50000,"USD",{"$f":"tblSalaries[[#This Row],[clean Salary (in local currency)]]*VLOOKUP(tblSalaries[[#This Row],[Currency]],tblXrate[],2,FALSE)","v":50000},"Data Analyst","Analyst","USA",{"$f":"VLOOKUP(tblSalaries[[#This Row],[Where do you work]],tblCountries[[Actual]:[Mapping]],2,FALSE)","v":"USA"},"4 to 6 hours a day",3]
[null,"ID1283","2012-05-29T11:00:32",85000,85000,"USD",{"$f":"tblSalaries[[#This Row],[clean Salary (in local currency)]]*VLOOKUP(tblSalaries[[#This Row],[Currency]],tblXrate[],2,FALSE)","v":85000},"manager operation","Manager","srilanka",{"$f":"VLOOKUP(tblSalaries[[#This Row],[Where do you work]],tblCountries[[Actual]:[Mapping]],2,FALSE)","v":"Sri Lanka"},"All the 8 hours baby, all the 8!",10]
[null,"ID1284","2012-05-29T11:35:53","Indian Rs 10 Lakhs",1000000,"INR",{"$f":"tblSalaries[[#This Row],[clean Salary (in local currency)]]*VLOOKUP(tblSalaries[[#This Row],[Currency]],tblXrate[],2,FALSE)","v":17807.916687442568},"Manager","Manager","India",{"$f":"VLOOKUP(tblSalaries[[#This Row],[Where do you work]],tblCountries[[Actual]:[Mapping]],2,FALSE)","v":"India"},"2 to 3 hours per day",10]
[null,"ID1285","2012-05-29T11:46:47","INR 900000",900000,"INR",{"$f":"tblSalaries[[#This Row],[clean Salary (in local currency)]]*VLOOKUP(tblSalaries[[#This Row],[Currency]],tblXrate[],2,FALSE)","v":16027.125018698311},"RENTAL INVENTORY CONTROLLER","Controller","India",{"$f":"VLOOKUP(tblSalaries[[#This Row],[Where do you work]],tblCountries[[Actual]:[Mapping]],2,FALSE)","v":"India"},"All the 8 hours baby, all the 8!",8]
[null,"ID1286","2012-05-29T11:51:35",192000,192000,"USD",{"$f":"tblSalaries[[#This Row],[clean Salary (in local currency)]]*VLOOKUP(tblSalaries[[#This Row],[Currency]],tblXrate[],2,FALSE)","v":192000},"Publisher","CXO or Top Mgmt.","USA",{"$f":"VLOOKUP(tblSalaries[[#This Row],[Where do you work]],tblCountries[[Actual]:[Mapping]],2,FALSE)","v":"USA"},"All the 8 hours baby, all the 8!",27]
[null,"ID1287","2012-05-29T12:14:02",54000,54000,"USD",{"$f":"tblSalaries[[#This Row],[clean Salary (in local currency)]]*VLOOKUP(tblSalaries[[#This Row],[Currency]],tblXrate[],2,FALSE)","v":54000},"Resource Planning Analyst","Analyst","USA",{"$f":"VLOOKUP(tblSalaries[[#This Row],[Where do you work]],tblCountries[[Actual]:[Mapping]],2,FALSE)","v":"USA"},"All the 8 hours baby, all the 8!",6]
[null,"ID1288","2012-05-29T12:17:07",18000,18000,"USD",{"$f":"tblSalaries[[#This Row],[clean Salary (in local currency)]]*VLOOKUP(tblSalaries[[#This Row],[Currency]],tblXrate[],2,FALSE)","v":18000},"Manager","Manager","India",{"$f":"VLOOKUP(tblSalaries[[#This Row],[Where do you work]],tblCountries[[Actual]:[Mapping]],2,FALSE)","v":"India"},"4 to 6 hours a day",12]
[null,"ID1289","2012-05-29T12:19:39","3,00,000.00",300000,"INR",{"$f":"tblSalaries[[#This Row],[clean Salary (in local currency)]]*VLOOKUP(tblSalaries[[#This Row],[Currency]],tblXrate[],2,FALSE)","v":5342.3750062327708},"MIS OFFICER","Reporting","India",{"$f":"VLOOKUP(tblSalaries[[#This Row],[Where do you work]],tblCountries[[Actual]:[Mapping]],2,FALSE)","v":"India"},"2 to 3 hours per day",5]
[null,"ID1290","2012-05-29T12:20:32","400000INR",400000,"INR",{"$f":"tblSalaries[[#This Row],[clean Salary (in local currency)]]*VLOOKUP(tblSalaries[[#This Row],[Currency]],tblXrate[],2,FALSE)","v":7123.1666749770275},"PMO","Manager","India",{"$f":"VLOOKUP(tblSalaries[[#This Row],[Where do you work]],tblCountries[[Actual]:[Mapping]],2,FALSE)","v":"India"},"All the 8 hours baby, all the 8!",3]
[null,"ID1291","2012-05-29T12:28:41",15000,15000,"USD",{"$f":"tblSalaries[[#This Row],[clean Salary (in local currency)]]*VLOOKUP(tblSalaries[[#This Row],[Currency]],tblXrate[],2,FALSE)","v":15000},"Monitoring & Evaluation officer","Manager","Myanmar",{"$f":"VLOOKUP(tblSalaries[[#This Row],[Where do you work]],tblCountries[[Actual]:[Mapping]],2,FALSE)","v":"Myanmar"},"4 to 6 hours a day",10]
[null,"ID1292","2012-05-29T12:29:12","us $ 14000",14000,"USD",{"$f":"tblSalaries[[#This Row],[clean Salary (in local currency)]]*VLOOKUP(tblSalaries[[#This Row],[Currency]],tblXrate[],2,FALSE)","v":14000},"Pricing Analyst","Analyst","India",{"$f":"VLOOKUP(tblSalaries[[#This Row],[Where do you work]],tblCountries[[Actual]:[Mapping]],2,FALSE)","v":"India"},"4 to 6 hours a day",12]
[null,"ID1294","2012-05-29T13:06:30",8000,8000,"USD",{"$f":"tblSalaries[[#This Row],[clean Salary (in local currency)]]*VLOOKUP(tblSalaries[[#This Row],[Currency]],tblXrate[],2,FALSE)","v":8000},"Data Analyst","Analyst","India",{"$f":"VLOOKUP(tblSalaries[[#This Row],[Where do you work]],tblCountries[[Actual]:[Mapping]],2,FALSE)","v":"India"},"All the 8 hours baby, all the 8!",4]
[null,"ID1295","2012-05-29T13:13:56",12500,12500,"USD",{"$f":"tblSalaries[[#This Row],[clean Salary (in local currency)]]*VLOOKUP(tblSalaries[[#This Row],[Currency]],tblXrate[],2,FALSE)","v":12500},"Specialist","Specialist","Philippines",{"$f":"VLOOKUP(tblSalaries[[#This Row],[Where do you work]],tblCountries[[Actual]:[Mapping]],2,FALSE)","v":"Philippines"},"2 to 3 hours per day",7]
[null,"ID1296","2012-05-29T13:15:17",140000,140000,"USD",{"$f":"tblSalaries[[#This Row],[clean Salary (in local currency)]]*VLOOKUP(tblSalaries[[#This Row],[Currency]],tblXrate[],2,FALSE)","v":140000},"Senior Accountant","Accountant","USA",{"$f":"VLOOKUP(tblSalaries[[#This Row],[Where do you work]],tblCountries[[Actual]:[Mapping]],2,FALSE)","v":"USA"},"4 to 6 hours a day",12]
[null,"ID1297","2012-05-29T13:16:45",1000,12000,"USD",{"$f":"tblSalaries[[#This Row],[clean Salary (in local currency)]]*VLOOKUP(tblSalaries[[#This Row],[Currency]],tblXrate[],2,FALSE)","v":12000},"excel prof","Consultant","pakistan",{"$f":"VLOOKUP(tblSalaries[[#This Row],[Where do you work]],tblCountries[[Actual]:[Mapping]],2,FALSE)","v":"Pakistan"},"4 to 6 hours a day",1]
[null,"ID1298","2012-05-29T13:16:59","30000 EUR",30000,"EUR",{"$f":"tblSalaries[[#This Row],[clean Salary (in local currency)]]*VLOOKUP(tblSalaries[[#This Row],[Currency]],tblXrate[],2,FALSE)","v":38111.983169748237},"Employee","Analyst","Belgium",{"$f":"VLOOKUP(tblSalaries[[#This Row],[Where do you work]],tblCountries[[Actual]:[Mapping]],2,FALSE)","v":"Belgium"},"2 to 3 hours per day",15]
[null,"ID1299","2012-05-29T13:23:45","6,00,000 INR",600000,"INR",{"$f":"tblSalaries[[#This Row],[clean Salary (in local currency)]]*VLOOKUP(tblSalaries[[#This Row],[Currency]],tblXrate[],2,FALSE)","v":10684.750012465542},"Senior Business Executive","Manager","India",{"$f":"VLOOKUP(tblSalaries[[#This Row],[Where do you work]],tblCountries[[Actual]:[Mapping]],2,FALSE)","v":"India"},"2 to 3 hours per day",2]
[null,"ID1301","2012-05-29T13:40:09","3.5 lakhs p.a",350000,"INR",{"$f":"tblSalaries[[#This Row],[clean Salary (in local currency)]]*VLOOKUP(tblSalaries[[#This Row],[Currency]],tblXrate[],2,FALSE)","v":6232.7708406048987},"I dont know","Analyst","India",{"$f":"VLOOKUP(tblSalaries[[#This Row],[Where do you work]],tblCountries[[Actual]:[Mapping]],2,FALSE)","v":"India"},"4 to 6 hours a day",1.5]
[null,"ID1302","2012-05-29T13:52:13",45000,45000,"USD",{"$f":"tblSalaries[[#This Row],[clean Salary (in local currency)]]*VLOOKUP(tblSalaries[[#This Row],[Currency]],tblXrate[],2,FALSE)","v":45000},"Financial Analysis","Analyst","Pakistan",{"$f":"VLOOKUP(tblSalaries[[#This Row],[Where do you work]],tblCountries[[Actual]:[Mapping]],2,FALSE)","v":"Pakistan"},"All the 8 hours baby, all the 8!",8]
[null,"ID1303","2012-05-29T13:53:59",80000,80000,"USD",{"$f":"tblSalaries[[#This Row],[clean Salary (in local currency)]]*VLOOKUP(tblSalaries[[#This Row],[Currency]],tblXrate[],2,FALSE)","v":80000},"Manager","Manager","USA",{"$f":"VLOOKUP(tblSalaries[[#This Row],[Where do you work]],tblCountries[[Actual]:[Mapping]],2,FALSE)","v":"USA"},"1 or 2 hours a day",6]
[null,"ID1304","2012-05-29T13:54:38","Rs 1500000",1500000,"INR",{"$f":"tblSalaries[[#This Row],[clean Salary (in local currency)]]*VLOOKUP(tblSalaries[[#This Row],[Currency]],tblXrate[],2,FALSE)","v":26711.875031163851},"Analyst","Analyst","India",{"$f":"VLOOKUP(tblSalaries[[#This Row],[Where do you work]],tblCountries[[Actual]:[Mapping]],2,FALSE)","v":"India"},"4 to 6 hours a day",7]
[null,"ID1305","2012-05-29T13:58:30","US$ 100,000",100000,"USD",{"$f":"tblSalaries[[#This Row],[clean Salary (in local currency)]]*VLOOKUP(tblSalaries[[#This Row],[Currency]],tblXrate[],2,FALSE)","v":100000},"Business Analyst","Analyst","Uganda",{"$f":"VLOOKUP(tblSalaries[[#This Row],[Where do you work]],tblCountries[[Actual]:[Mapping]],2,FALSE)","v":"Uganda"},"4 to 6 hours a day",17]
[null,"ID1306","2012-05-29T13:59:14",68000,68000,"AUD",{"$f":"tblSalaries[[#This Row],[clean Salary (in local currency)]]*VLOOKUP(tblSalaries[[#This Row],[Currency]],tblXrate[],2,FALSE)","v":69353.856635379227},"Project Support Officer","Manager","Australia",{"$f":"VLOOKUP(tblSalaries[[#This Row],[Where do you work]],tblCountries[[Actual]:[Mapping]],2,FALSE)","v":"Australia"},"4 to 6 hours a day",10]
[null,"ID1307","2012-05-29T14:10:28","AUS 49,000",49000,"AUD",{"$f":"tblSalaries[[#This Row],[clean Salary (in local currency)]]*VLOOKUP(tblSalaries[[#This Row],[Currency]],tblXrate[],2,FALSE)","v":49975.573163729154},"Document Control","Controller","Australia",{"$f":"VLOOKUP(tblSalaries[[#This Row],[Where do you work]],tblCountries[[Actual]:[Mapping]],2,FALSE)","v":"Australia"},"4 to 6 hours a day",30]
[null,"ID1308","2012-05-29T14:16:06","5,75,000",575000,"INR",{"$f":"tblSalaries[[#This Row],[clean Salary (in local currency)]]*VLOOKUP(tblSalaries[[#This Row],[Currency]],tblXrate[],2,FALSE)","v":10239.552095279476},"Asst Manager HR","Manager","India",{"$f":"VLOOKUP(tblSalaries[[#This Row],[Where do you work]],tblCountries[[Actual]:[Mapping]],2,FALSE)","v":"India"},"2 to 3 hours per day",5]
[null,"ID1309","2012-05-29T14:34:42","500000 Rupees",500000,"INR",{"$f":"tblSalaries[[#This Row],[clean Salary (in local currency)]]*VLOOKUP(tblSalaries[[#This Row],[Currency]],tblXrate[],2,FALSE)","v":8903.9583437212841},"Senior software engineer","Engineer","India",{"$f":"VLOOKUP(tblSalaries[[#This Row],[Where do you work]],tblCountries[[Actual]:[Mapping]],2,FALSE)","v":"India"},"4 to 6 hours a day",2]
[null,"ID1310","2012-05-29T14:55:21","36K",36000,"USD",{"$f":"tblSalaries[[#This Row],[clean Salary (in local currency)]]*VLOOKUP(tblSalaries[[#This Row],[Currency]],tblXrate[],2,FALSE)","v":36000},"Administrative Assistant","Analyst","Kuwait",{"$f":"VLOOKUP(tblSalaries[[#This Row],[Where do you work]],tblCountries[[Actual]:[Mapping]],2,FALSE)","v":"Kuwait"},"2 to 3 hours per day",10]
[null,"ID1311","2012-05-29T14:55:29","210000 per annum",210000,"INR",{"$f":"tblSalaries[[#This Row],[clean Salary (in local currency)]]*VLOOKUP(tblSalaries[[#This Row],[Currency]],tblXrate[],2,FALSE)","v":3739.6625043629392},"MIS cum Purchase Executive","Reporting","India",{"$f":"VLOOKUP(tblSalaries[[#This Row],[Where do you work]],tblCountries[[Actual]:[Mapping]],2,FALSE)","v":"India"},"1 or 2 hours a day",4.5]
[null,"ID1312","2012-05-29T14:59:11","â‚¬ 48500",48500,"EUR",{"$f":"tblSalaries[[#This Row],[clean Salary (in local currency)]]*VLOOKUP(tblSalaries[[#This Row],[Currency]],tblXrate[],2,FALSE)","v":61614.372791092981},"Information analyst","Analyst","Netherlands",{"$f":"VLOOKUP(tblSalaries[[#This Row],[Where do you work]],tblCountries[[Actual]:[Mapping]],2,FALSE)","v":"Netherlands"},"4 to 6 hours a day",8]
[null,"ID1313","2012-05-29T15:02:56","2 LPA",200000,"INR",{"$f":"tblSalaries[[#This Row],[clean Salary (in local currency)]]*VLOOKUP(tblSalaries[[#This Row],[Currency]],tblXrate[],2,FALSE)","v":3561.5833374885137},"MIS","Reporting","India",{"$f":"VLOOKUP(tblSalaries[[#This Row],[Where do you work]],tblCountries[[Actual]:[Mapping]],2,FALSE)","v":"India"},"2 to 3 hours per day",3]
[null,"ID1314","2012-05-29T15:04:11","INR360000",360000,"INR",{"$f":"tblSalaries[[#This Row],[clean Salary (in local currency)]]*VLOOKUP(tblSalaries[[#This Row],[Currency]],tblXrate[],2,FALSE)","v":6410.8500074793246},"Sr. Executive -HR","Analyst","India",{"$f":"VLOOKUP(tblSalaries[[#This Row],[Where do you work]],tblCountries[[Actual]:[Mapping]],2,FALSE)","v":"India"},"All the 8 hours baby, all the 8!",6]
[null,"ID1315","2012-05-29T15:08:12","â‚¬ 28500",28500,"EUR",{"$f":"tblSalaries[[#This Row],[clean Salary (in local currency)]]*VLOOKUP(tblSalaries[[#This Row],[Currency]],tblXrate[],2,FALSE)","v":36206.384011260823},"Salary Professsional","Analyst","Netherlands",{"$f":"VLOOKUP(tblSalaries[[#This Row],[Where do you work]],tblCountries[[Actual]:[Mapping]],2,FALSE)","v":"Netherlands"},"1 or 2 hours a day",5]
[null,"ID1316","2012-05-29T15:10:24",13500,13500,"USD",{"$f":"tblSalaries[[#This Row],[clean Salary (in local currency)]]*VLOOKUP(tblSalaries[[#This Row],[Currency]],tblXrate[],2,FALSE)","v":13500},"Asst. Manager","Manager","India",{"$f":"VLOOKUP(tblSalaries[[#This Row],[Where do you work]],tblCountries[[Actual]:[Mapping]],2,FALSE)","v":"India"},"2 to 3 hours per day",20]
[null,"ID1317","2012-05-29T15:18:45",250,3000,"USD",{"$f":"tblSalaries[[#This Row],[clean Salary (in local currency)]]*VLOOKUP(tblSalaries[[#This Row],[Currency]],tblXrate[],2,FALSE)","v":3000},"FANANCE","Accountant","SRI LANKA",{"$f":"VLOOKUP(tblSalaries[[#This Row],[Where do you work]],tblCountries[[Actual]:[Mapping]],2,FALSE)","v":"Sri Lanka"},"4 to 6 hours a day",2]
[null,"ID1318","2012-05-29T15:24:45",1200000,1200000,"INR",{"$f":"tblSalaries[[#This Row],[clean Salary (in local currency)]]*VLOOKUP(tblSalaries[[#This Row],[Currency]],tblXrate[],2,FALSE)","v":21369.500024931083},"Manager - Corporate strategy and Planning","Manager","India",{"$f":"VLOOKUP(tblSalaries[[#This Row],[Where do you work]],tblCountries[[Actual]:[Mapping]],2,FALSE)","v":"India"},"4 to 6 hours a day",9]
[null,"ID1319","2012-05-29T15:36:25","6lakhs",600000,"INR",{"$f":"tblSalaries[[#This Row],[clean Salary (in local currency)]]*VLOOKUP(tblSalaries[[#This Row],[Currency]],tblXrate[],2,FALSE)","v":10684.750012465542},"General Manager","Manager","India",{"$f":"VLOOKUP(tblSalaries[[#This Row],[Where do you work]],tblCountries[[Actual]:[Mapping]],2,FALSE)","v":"India"},"2 to 3 hours per day",28]
[null,"ID1320","2012-05-29T15:36:42",139000,139000,"EUR",{"$f":"tblSalaries[[#This Row],[clean Salary (in local currency)]]*VLOOKUP(tblSalaries[[#This Row],[Currency]],tblXrate[],2,FALSE)","v":176585.52201983347},"NAF Support Manager","Manager","Germany",{"$f":"VLOOKUP(tblSalaries[[#This Row],[Where do you work]],tblCountries[[Actual]:[Mapping]],2,FALSE)","v":"Germany"},"1 or 2 hours a day",25]
[null,"ID1322","2012-05-29T15:38:40","43000 EUR",43000,"EUR",{"$f":"tblSalaries[[#This Row],[clean Salary (in local currency)]]*VLOOKUP(tblSalaries[[#This Row],[Currency]],tblXrate[],2,FALSE)","v":54627.175876639136},"Project manager of IT infrastructure","Manager","France",{"$f":"VLOOKUP(tblSalaries[[#This Row],[Where do you work]],tblCountries[[Actual]:[Mapping]],2,FALSE)","v":"France"},"All the 8 hours baby, all the 8!",7]
[null,"ID1323","2012-05-29T15:46:17","about 24.000 â‚¬",24000,"EUR",{"$f":"tblSalaries[[#This Row],[clean Salary (in local currency)]]*VLOOKUP(tblSalaries[[#This Row],[Currency]],tblXrate[],2,FALSE)","v":30489.586535798586},"Controller","Controller","Italy",{"$f":"VLOOKUP(tblSalaries[[#This Row],[Where do you work]],tblCountries[[Actual]:[Mapping]],2,FALSE)","v":"Italy"},"4 to 6 hours a day",10]
[null,"ID1324","2012-05-29T15:49:41",314000,314000,"INR",{"$f":"tblSalaries[[#This Row],[clean Salary (in local currency)]]*VLOOKUP(tblSalaries[[#This Row],[Currency]],tblXrate[],2,FALSE)","v":5591.6858398569666},"relationship manager","Manager","India",{"$f":"VLOOKUP(tblSalaries[[#This Row],[Where do you work]],tblCountries[[Actual]:[Mapping]],2,FALSE)","v":"India"},"1 or 2 hours a day",0.1]
[null,"ID1325","2012-05-29T15:51:21","82000 USD",82000,"USD",{"$f":"tblSalaries[[#This Row],[clean Salary (in local currency)]]*VLOOKUP(tblSalaries[[#This Row],[Currency]],tblXrate[],2,FALSE)","v":82000},"Consultant","Consultant","South Africa",{"$f":"VLOOKUP(tblSalaries[[#This Row],[Where do you work]],tblCountries[[Actual]:[Mapping]],2,FALSE)","v":"South Africa"},"4 to 6 hours a day",10]
[null,"ID1326","2012-05-29T15:53:14",10000,10000,"USD",{"$f":"tblSalaries[[#This Row],[clean Salary (in local currency)]]*VLOOKUP(tblSalaries[[#This Row],[Currency]],tblXrate[],2,FALSE)","v":10000},"MIS","Reporting","India",{"$f":"VLOOKUP(tblSalaries[[#This Row],[Where do you work]],tblCountries[[Actual]:[Mapping]],2,FALSE)","v":"India"},"1 or 2 hours a day",0.5]
[null,"ID1327","2012-05-29T16:07:59",9000,9000,"USD",{"$f":"tblSalaries[[#This Row],[clean Salary (in local currency)]]*VLOOKUP(tblSalaries[[#This Row],[Currency]],tblXrate[],2,FALSE)","v":9000},"Data Analyst","Analyst","India",{"$f":"VLOOKUP(tblSalaries[[#This Row],[Where do you work]],tblCountries[[Actual]:[Mapping]],2,FALSE)","v":"India"},"All the 8 hours baby, all the 8!",0.6]
[null,"ID1328","2012-05-29T16:08:40",9000,9000,"USD",{"$f":"tblSalaries[[#This Row],[clean Salary (in local currency)]]*VLOOKUP(tblSalaries[[#This Row],[Currency]],tblXrate[],2,FALSE)","v":9000},"Data Analyst","Analyst","India",{"$f":"VLOOKUP(tblSalaries[[#This Row],[Where do you work]],tblCountries[[Actual]:[Mapping]],2,FALSE)","v":"India"},"4 to 6 hours a day",1]
[null,"ID1329","2012-05-29T16:18:59","6.6 Lacs",660000,"INR",{"$f":"tblSalaries[[#This Row],[clean Salary (in local currency)]]*VLOOKUP(tblSalaries[[#This Row],[Currency]],tblXrate[],2,FALSE)","v":11753.225013712095},"AM business Intelligence","Manager","India",{"$f":"VLOOKUP(tblSalaries[[#This Row],[Where do you work]],tblCountries[[Actual]:[Mapping]],2,FALSE)","v":"India"},"All the 8 hours baby, all the 8!",7]
[null,"ID1330","2012-05-29T16:26:15","17000 Rs",204000,"INR",{"$f":"tblSalaries[[#This Row],[clean Salary (in local currency)]]*VLOOKUP(tblSalaries[[#This Row],[Currency]],tblXrate[],2,FALSE)","v":3632.815004238284},"MIS Associate","Reporting","India",{"$f":"VLOOKUP(tblSalaries[[#This Row],[Where do you work]],tblCountries[[Actual]:[Mapping]],2,FALSE)","v":"India"},"All the 8 hours baby, all the 8!",2]
[null,"ID1331","2012-05-29T16:31:06",75000,75000,"EUR",{"$f":"tblSalaries[[#This Row],[clean Salary (in local currency)]]*VLOOKUP(tblSalaries[[#This Row],[Currency]],tblXrate[],2,FALSE)","v":95279.957924370581},"Financial Analyst","Analyst","Netherlands",{"$f":"VLOOKUP(tblSalaries[[#This Row],[Where do you work]],tblCountries[[Actual]:[Mapping]],2,FALSE)","v":"Netherlands"},"All the 8 hours baby, all the 8!",16]
[null,"ID1332","2012-05-29T16:39:11","Â£45000",45000,"GBP",{"$f":"tblSalaries[[#This Row],[clean Salary (in local currency)]]*VLOOKUP(tblSalaries[[#This Row],[Currency]],tblXrate[],2,FALSE)","v":70928.022243027779},"Senior Consultant","Consultant","UK",{"$f":"VLOOKUP(tblSalaries[[#This Row],[Where do you work]],tblCountries[[Actual]:[Mapping]],2,FALSE)","v":"UK"},"2 to 3 hours per day",4]
[null,"ID1333","2012-05-29T16:41:19","41000 â‚¬",41000,"EUR",{"$f":"tblSalaries[[#This Row],[clean Salary (in local currency)]]*VLOOKUP(tblSalaries[[#This Row],[Currency]],tblXrate[],2,FALSE)","v":52086.37699865592},"engineer","Engineer","Spain",{"$f":"VLOOKUP(tblSalaries[[#This Row],[Where do you work]],tblCountries[[Actual]:[Mapping]],2,FALSE)","v":"Spain"},"4 to 6 hours a day",12]
[null,"ID1334","2012-05-29T16:49:44",275000,275000,"INR",{"$f":"tblSalaries[[#This Row],[clean Salary (in local currency)]]*VLOOKUP(tblSalaries[[#This Row],[Currency]],tblXrate[],2,FALSE)","v":4897.177089046706},"TL WFM","Manager","India",{"$f":"VLOOKUP(tblSalaries[[#This Row],[Where do you work]],tblCountries[[Actual]:[Mapping]],2,FALSE)","v":"India"},"All the 8 hours baby, all the 8!",4]
[null,"ID1335","2012-05-29T16:55:43",80000,80000,"NZD",{"$f":"tblSalaries[[#This Row],[clean Salary (in local currency)]]*VLOOKUP(tblSalaries[[#This Row],[Currency]],tblXrate[],2,FALSE)","v":63807.047488395103},"accountant","Accountant","new zealand",{"$f":"VLOOKUP(tblSalaries[[#This Row],[Where do you work]],tblCountries[[Actual]:[Mapping]],2,FALSE)","v":"New Zealand"},"All the 8 hours baby, all the 8!",15]
[null,"ID1336","2012-05-29T17:05:31",24000,24000,"USD",{"$f":"tblSalaries[[#This Row],[clean Salary (in local currency)]]*VLOOKUP(tblSalaries[[#This Row],[Currency]],tblXrate[],2,FALSE)","v":24000},"Dir. Revenue Mgt","Manager","Kingdom of Saudi Arabia",{"$f":"VLOOKUP(tblSalaries[[#This Row],[Where do you work]],tblCountries[[Actual]:[Mapping]],2,FALSE)","v":"Saudi Arabia"},"4 to 6 hours a day",5]
[null,"ID1337","2012-05-29T17:09:02","60000 USD p.a.",60000,"USD",{"$f":"tblSalaries[[#This Row],[clean Salary (in local currency)]]*VLOOKUP(tblSalaries[[#This Row],[Currency]],tblXrate[],2,FALSE)","v":60000},"Controlling Manager","Manager","CEE",{"$f":"VLOOKUP(tblSalaries[[#This Row],[Where do you work]],tblCountries[[Actual]:[Mapping]],2,FALSE)","v":"CEE"},"All the 8 hours baby, all the 8!",20]
[null,"ID1338","2012-05-29T17:09:52",300000,300000,"INR",{"$f":"tblSalaries[[#This Row],[clean Salary (in local currency)]]*VLOOKUP(tblSalaries[[#This Row],[Currency]],tblXrate[],2,FALSE)","v":5342.3750062327708},"Financial Modelling Analyst","Analyst","India",{"$f":"VLOOKUP(tblSalaries[[#This Row],[Where do you work]],tblCountries[[Actual]:[Mapping]],2,FALSE)","v":"India"},"All the 8 hours baby, all the 8!",3]
[null,"ID1339","2012-05-29T17:16:20",500000,500000,"INR",{"$f":"tblSalaries[[#This Row],[clean Salary (in local currency)]]*VLOOKUP(tblSalaries[[#This Row],[Currency]],tblXrate[],2,FALSE)","v":8903.9583437212841},"support manager","Manager","India",{"$f":"VLOOKUP(tblSalaries[[#This Row],[Where do you work]],tblCountries[[Actual]:[Mapping]],2,FALSE)","v":"India"},"2 to 3 hours per day",5]
[null,"ID1340","2012-05-29T17:17:13","Â£26000",26000,"GBP",{"$f":"tblSalaries[[#This Row],[clean Salary (in local currency)]]*VLOOKUP(tblSalaries[[#This Row],[Currency]],tblXrate[],2,FALSE)","v":40980.635073749385},"Web Analyst","Analyst","UK",{"$f":"VLOOKUP(tblSalaries[[#This Row],[Where do you work]],tblCountries[[Actual]:[Mapping]],2,FALSE)","v":"UK"},"4 to 6 hours a day",2]
[null,"ID1341","2012-05-29T17:17:46","Rs.6,00,000",600000,"INR",{"$f":"tblSalaries[[#This Row],[clean Salary (in local currency)]]*VLOOKUP(tblSalaries[[#This Row],[Currency]],tblXrate[],2,FALSE)","v":10684.750012465542},"Assistant Manager","Manager","India",{"$f":"VLOOKUP(tblSalaries[[#This Row],[Where do you work]],tblCountries[[Actual]:[Mapping]],2,FALSE)","v":"India"},"1 or 2 hours a day",7]
[null,"ID1342","2012-05-29T17:30:43",1200000,1200000,"INR",{"$f":"tblSalaries[[#This Row],[clean Salary (in local currency)]]*VLOOKUP(tblSalaries[[#This Row],[Currency]],tblXrate[],2,FALSE)","v":21369.500024931083},"Consultant","Consultant","India",{"$f":"VLOOKUP(tblSalaries[[#This Row],[Where do you work]],tblCountries[[Actual]:[Mapping]],2,FALSE)","v":"India"},"2 to 3 hours per day",21]
[null,"ID1343","2012-05-29T17:36:13",18000,18000,"USD",{"$f":"tblSalaries[[#This Row],[clean Salary (in local currency)]]*VLOOKUP(tblSalaries[[#This Row],[Currency]],tblXrate[],2,FALSE)","v":18000},"liquidity manager","Manager","Ghana",{"$f":"VLOOKUP(tblSalaries[[#This Row],[Where do you work]],tblCountries[[Actual]:[Mapping]],2,FALSE)","v":"Ghana"},"4 to 6 hours a day",12]
[null,"ID1344","2012-05-29T17:39:55","41000 $",41000,"USD",{"$f":"tblSalaries[[#This Row],[clean Salary (in local currency)]]*VLOOKUP(tblSalaries[[#This Row],[Currency]],tblXrate[],2,FALSE)","v":41000},"PO/PMO/Planner/PM","Manager","Israel",{"$f":"VLOOKUP(tblSalaries[[#This Row],[Where do you work]],tblCountries[[Actual]:[Mapping]],2,FALSE)","v":"Israel"},"2 to 3 hours per day",4]
[null,"ID1345","2012-05-29T17:45:59","16,00,000",1600000,"INR",{"$f":"tblSalaries[[#This Row],[clean Salary (in local currency)]]*VLOOKUP(tblSalaries[[#This Row],[Currency]],tblXrate[],2,FALSE)","v":28492.66669990811},"Senior Associate ","Analyst","India",{"$f":"VLOOKUP(tblSalaries[[#This Row],[Where do you work]],tblCountries[[Actual]:[Mapping]],2,FALSE)","v":"India"},"2 to 3 hours per day",4]
[null,"ID1346","2012-05-29T17:48:04",49500,49500,"USD",{"$f":"tblSalaries[[#This Row],[clean Salary (in local currency)]]*VLOOKUP(tblSalaries[[#This Row],[Currency]],tblXrate[],2,FALSE)","v":49500},"Financial Analyst II","Analyst","USA",{"$f":"VLOOKUP(tblSalaries[[#This Row],[Where do you work]],tblCountries[[Actual]:[Mapping]],2,FALSE)","v":"USA"},"4 to 6 hours a day",4.5]
[null,"ID1347","2012-05-29T18:00:19",6600,6600,"USD",{"$f":"tblSalaries[[#This Row],[clean Salary (in local currency)]]*VLOOKUP(tblSalaries[[#This Row],[Currency]],tblXrate[],2,FALSE)","v":6600},"MIS HR,HRIS","Reporting","India",{"$f":"VLOOKUP(tblSalaries[[#This Row],[Where do you work]],tblCountries[[Actual]:[Mapping]],2,FALSE)","v":"India"},"2 to 3 hours per day",6.4]
[null,"ID1348","2012-05-29T18:05:50","Â£70000",70000,"GBP",{"$f":"tblSalaries[[#This Row],[clean Salary (in local currency)]]*VLOOKUP(tblSalaries[[#This Row],[Currency]],tblXrate[],2,FALSE)","v":110332.47904470989},"Consultant","Consultant","UK",{"$f":"VLOOKUP(tblSalaries[[#This Row],[Where do you work]],tblCountries[[Actual]:[Mapping]],2,FALSE)","v":"UK"},"4 to 6 hours a day",15]
[null,"ID1349","2012-05-29T18:14:48","Â£30000",30000,"GBP",{"$f":"tblSalaries[[#This Row],[clean Salary (in local currency)]]*VLOOKUP(tblSalaries[[#This Row],[Currency]],tblXrate[],2,FALSE)","v":47285.348162018527},"Market Analyst","Analyst","UK",{"$f":"VLOOKUP(tblSalaries[[#This Row],[Where do you work]],tblCountries[[Actual]:[Mapping]],2,FALSE)","v":"UK"},"All the 8 hours baby, all the 8!",6]
[null,"ID1350","2012-05-29T18:14:53","USD 5300",5300,"USD",{"$f":"tblSalaries[[#This Row],[clean Salary (in local currency)]]*VLOOKUP(tblSalaries[[#This Row],[Currency]],tblXrate[],2,FALSE)","v":5300},"Asst. Production Manager","Manager","Pakistan",{"$f":"VLOOKUP(tblSalaries[[#This Row],[Where do you work]],tblCountries[[Actual]:[Mapping]],2,FALSE)","v":"Pakistan"},"4 to 6 hours a day",5]
[null,"ID1351","2012-05-29T18:21:13",34500,34500,"EUR",{"$f":"tblSalaries[[#This Row],[clean Salary (in local currency)]]*VLOOKUP(tblSalaries[[#This Row],[Currency]],tblXrate[],2,FALSE)","v":43828.780645210471},"Analyst","Analyst","Netherlands",{"$f":"VLOOKUP(tblSalaries[[#This Row],[Where do you work]],tblCountries[[Actual]:[Mapping]],2,FALSE)","v":"Netherlands"},"4 to 6 hours a day",15]
[null,"ID1352","2012-05-29T18:33:08",80000,80000,"USD",{"$f":"tblSalaries[[#This Row],[clean Salary (in local currency)]]*VLOOKUP(tblSalaries[[#This Row],[Currency]],tblXrate[],2,FALSE)","v":80000},"Developer","Analyst","USA",{"$f":"VLOOKUP(tblSalaries[[#This Row],[Where do you work]],tblCountries[[Actual]:[Mapping]],2,FALSE)","v":"USA"},"1 or 2 hours a day",14]
[null,"ID1353","2012-05-29T18:35:10","9 067",9067,"EUR",{"$f":"tblSalaries[[#This Row],[clean Salary (in local currency)]]*VLOOKUP(tblSalaries[[#This Row],[Currency]],tblXrate[],2,FALSE)","v":11518.711713336908},"assistant","Analyst","Hungary",{"$f":"VLOOKUP(tblSalaries[[#This Row],[Where do you work]],tblCountries[[Actual]:[Mapping]],2,FALSE)","v":"Hungary"},"2 to 3 hours per day",3]
[null,"ID1354","2012-05-29T18:35:31","A$150000",150000,"AUD",{"$f":"tblSalaries[[#This Row],[clean Salary (in local currency)]]*VLOOKUP(tblSalaries[[#This Row],[Currency]],tblXrate[],2,FALSE)","v":152986.44846039536},"Bus Analyst","Analyst","Australia",{"$f":"VLOOKUP(tblSalaries[[#This Row],[Where do you work]],tblCountries[[Actual]:[Mapping]],2,FALSE)","v":"Australia"},"1 or 2 hours a day",5.5]
[null,"ID1355","2012-05-29T18:38:51",125000,125000,"USD",{"$f":"tblSalaries[[#This Row],[clean Salary (in local currency)]]*VLOOKUP(tblSalaries[[#This Row],[Currency]],tblXrate[],2,FALSE)","v":125000},"Vice President of Performance Management","Manager","USA",{"$f":"VLOOKUP(tblSalaries[[#This Row],[Where do you work]],tblCountries[[Actual]:[Mapping]],2,FALSE)","v":"USA"},"4 to 6 hours a day",2]
[null,"ID1356","2012-05-29T18:55:18",100000,100000,"AUD",{"$f":"tblSalaries[[#This Row],[clean Salary (in local currency)]]*VLOOKUP(tblSalaries[[#This Row],[Currency]],tblXrate[],2,FALSE)","v":101990.96564026357},"Principal advisor","Consultant","Australia",{"$f":"VLOOKUP(tblSalaries[[#This Row],[Where do you work]],tblCountries[[Actual]:[Mapping]],2,FALSE)","v":"Australia"},"1 or 2 hours a day",30]
[null,"ID1357","2012-05-29T18:55:20",105000,105000,"USD",{"$f":"tblSalaries[[#This Row],[clean Salary (in local currency)]]*VLOOKUP(tblSalaries[[#This Row],[Currency]],tblXrate[],2,FALSE)","v":105000},"Director of Technology","CXO or Top Mgmt.","USA",{"$f":"VLOOKUP(tblSalaries[[#This Row],[Where do you work]],tblCountries[[Actual]:[Mapping]],2,FALSE)","v":"USA"},"1 or 2 hours a day",15]
[null,"ID1358","2012-05-29T19:01:05",40000,40000,"EUR",{"$f":"tblSalaries[[#This Row],[clean Salary (in local currency)]]*VLOOKUP(tblSalaries[[#This Row],[Currency]],tblXrate[],2,FALSE)","v":50815.977559664309},"officer","Manager","Austria",{"$f":"VLOOKUP(tblSalaries[[#This Row],[Where do you work]],tblCountries[[Actual]:[Mapping]],2,FALSE)","v":"Austria"},"4 to 6 hours a day",20]
[null,"ID1359","2012-05-29T19:01:48",75000,75000,"USD",{"$f":"tblSalaries[[#This Row],[clean Salary (in local currency)]]*VLOOKUP(tblSalaries[[#This Row],[Currency]],tblXrate[],2,FALSE)","v":75000},"Financial Analyst","Analyst","USA",{"$f":"VLOOKUP(tblSalaries[[#This Row],[Where do you work]],tblCountries[[Actual]:[Mapping]],2,FALSE)","v":"USA"},"4 to 6 hours a day",7]
[null,"ID1360","2012-05-29T19:06:14","2.5 per lacks",250000,"INR",{"$f":"tblSalaries[[#This Row],[clean Salary (in local currency)]]*VLOOKUP(tblSalaries[[#This Row],[Currency]],tblXrate[],2,FALSE)","v":4451.9791718606421},"Credit Executive","Analyst","India",{"$f":"VLOOKUP(tblSalaries[[#This Row],[Where do you work]],tblCountries[[Actual]:[Mapping]],2,FALSE)","v":"India"},"All the 8 hours baby, all the 8!",8]
[null,"ID1361","2012-05-29T19:08:37",110000,110000,"USD",{"$f":"tblSalaries[[#This Row],[clean Salary (in local currency)]]*VLOOKUP(tblSalaries[[#This Row],[Currency]],tblXrate[],2,FALSE)","v":110000},"Business Analytics Associate","Analyst","USA",{"$f":"VLOOKUP(tblSalaries[[#This Row],[Where do you work]],tblCountries[[Actual]:[Mapping]],2,FALSE)","v":"USA"},"1 or 2 hours a day",10]
[null,"ID1362","2012-05-29T19:10:05","27,000.GBP 42,353 USD ",27000,"GBP",{"$f":"tblSalaries[[#This Row],[clean Salary (in local currency)]]*VLOOKUP(tblSalaries[[#This Row],[Currency]],tblXrate[],2,FALSE)","v":42556.81334581667},"Engineering Tech","Engineer","UK",{"$f":"VLOOKUP(tblSalaries[[#This Row],[Where do you work]],tblCountries[[Actual]:[Mapping]],2,FALSE)","v":"UK"},"4 to 6 hours a day",1]
[null,"ID1363","2012-05-29T19:11:31","Rs. 4.5 lakhs ",450000,"INR",{"$f":"tblSalaries[[#This Row],[clean Salary (in local currency)]]*VLOOKUP(tblSalaries[[#This Row],[Currency]],tblXrate[],2,FALSE)","v":8013.5625093491553},"Mechanical Design engineer","Engineer","India",{"$f":"VLOOKUP(tblSalaries[[#This Row],[Where do you work]],tblCountries[[Actual]:[Mapping]],2,FALSE)","v":"India"},"1 or 2 hours a day",7]
[null,"ID1364","2012-05-29T19:12:19",125000,125000,"USD",{"$f":"tblSalaries[[#This Row],[clean Salary (in local currency)]]*VLOOKUP(tblSalaries[[#This Row],[Currency]],tblXrate[],2,FALSE)","v":125000},"Finance Manager","Manager","USA",{"$f":"VLOOKUP(tblSalaries[[#This Row],[Where do you work]],tblCountries[[Actual]:[Mapping]],2,FALSE)","v":"USA"},"4 to 6 hours a day",25]
[null,"ID1365","2012-05-29T19:23:32",60000,60000,"USD",{"$f":"tblSalaries[[#This Row],[clean Salary (in local currency)]]*VLOOKUP(tblSalaries[[#This Row],[Currency]],tblXrate[],2,FALSE)","v":60000},"Business Information Analyst","Analyst","USA",{"$f":"VLOOKUP(tblSalaries[[#This Row],[Where do you work]],tblCountries[[Actual]:[Mapping]],2,FALSE)","v":"USA"},"All the 8 hours baby, all the 8!",12]
[null,"ID1366","2012-05-29T19:31:32","2.21Lac",2210000,"INR",{"$f":"tblSalaries[[#This Row],[clean Salary (in local currency)]]*VLOOKUP(tblSalaries[[#This Row],[Currency]],tblXrate[],2,FALSE)","v":39355.495879248076},"Marketing","Analyst","India",{"$f":"VLOOKUP(tblSalaries[[#This Row],[Where do you work]],tblCountries[[Actual]:[Mapping]],2,FALSE)","v":"India"},"1 or 2 hours a day",5.6]
[null,"ID1367","2012-05-29T19:33:07",45000,45000,"EUR",{"$f":"tblSalaries[[#This Row],[clean Salary (in local currency)]]*VLOOKUP(tblSalaries[[#This Row],[Currency]],tblXrate[],2,FALSE)","v":57167.974754622352},"Junior Controller","Controller","Germany",{"$f":"VLOOKUP(tblSalaries[[#This Row],[Where do you work]],tblCountries[[Actual]:[Mapping]],2,FALSE)","v":"Germany"},"4 to 6 hours a day",12]
[null,"ID1368","2012-05-29T19:39:35","4000000 JPY",4000000,"JPY",{"$f":"tblSalaries[[#This Row],[clean Salary (in local currency)]]*VLOOKUP(tblSalaries[[#This Row],[Currency]],tblXrate[],2,FALSE)","v":50694.322109187968},"System Analyst (Configuration Mgmt)","Analyst","Japan",{"$f":"VLOOKUP(tblSalaries[[#This Row],[Where do you work]],tblCountries[[Actual]:[Mapping]],2,FALSE)","v":"Japan"},"4 to 6 hours a day",8]
[null,"ID1369","2012-05-29T19:47:18",57500,57500,"USD",{"$f":"tblSalaries[[#This Row],[clean Salary (in local currency)]]*VLOOKUP(tblSalaries[[#This Row],[Currency]],tblXrate[],2,FALSE)","v":57500},"Planning Supervisor","Manager","USA",{"$f":"VLOOKUP(tblSalaries[[#This Row],[Where do you work]],tblCountries[[Actual]:[Mapping]],2,FALSE)","v":"USA"},"4 to 6 hours a day",30]
[null,"ID1370","2012-05-29T19:50:25",62000,62000,"EUR",{"$f":"tblSalaries[[#This Row],[clean Salary (in local currency)]]*VLOOKUP(tblSalaries[[#This Row],[Currency]],tblXrate[],2,FALSE)","v":78764.765217479682},"Controller","Controller","Netherlands",{"$f":"VLOOKUP(tblSalaries[[#This Row],[Where do you work]],tblCountries[[Actual]:[Mapping]],2,FALSE)","v":"Netherlands"},"4 to 6 hours a day",15]
[null,"ID1371","2012-05-29T19:52:35","$80,000 USD",80000,"USD",{"$f":"tblSalaries[[#This Row],[clean Salary (in local currency)]]*VLOOKUP(tblSalaries[[#This Row],[Currency]],tblXrate[],2,FALSE)","v":80000},"Manager of Data Analytics","Manager","USA",{"$f":"VLOOKUP(tblSalaries[[#This Row],[Where do you work]],tblCountries[[Actual]:[Mapping]],2,FALSE)","v":"USA"},"4 to 6 hours a day",10]
[null,"ID1372","2012-05-29T19:54:38","Â£45000",45000,"GBP",{"$f":"tblSalaries[[#This Row],[clean Salary (in local currency)]]*VLOOKUP(tblSalaries[[#This Row],[Currency]],tblXrate[],2,FALSE)","v":70928.022243027779},"Management Accountant","Manager","UK",{"$f":"VLOOKUP(tblSalaries[[#This Row],[Where do you work]],tblCountries[[Actual]:[Mapping]],2,FALSE)","v":"UK"},"2 to 3 hours per day",15]
[null,"ID1373","2012-05-29T20:03:07",33000,33000,"USD",{"$f":"tblSalaries[[#This Row],[clean Salary (in local currency)]]*VLOOKUP(tblSalaries[[#This Row],[Currency]],tblXrate[],2,FALSE)","v":33000},"Quality Control Supervisor","Controller","USA",{"$f":"VLOOKUP(tblSalaries[[#This Row],[Where do you work]],tblCountries[[Actual]:[Mapping]],2,FALSE)","v":"USA"},"4 to 6 hours a day",3]
[null,"ID1374","2012-05-29T20:20:21","$100,000 US",100000,"USD",{"$f":"tblSalaries[[#This Row],[clean Salary (in local currency)]]*VLOOKUP(tblSalaries[[#This Row],[Currency]],tblXrate[],2,FALSE)","v":100000},"Senior Financial Analyst","Analyst","USA",{"$f":"VLOOKUP(tblSalaries[[#This Row],[Where do you work]],tblCountries[[Actual]:[Mapping]],2,FALSE)","v":"USA"},"4 to 6 hours a day",1]
[null,"ID1375","2012-05-29T20:40:12","$60,000 USD",60000,"USD",{"$f":"tblSalaries[[#This Row],[clean Salary (in local currency)]]*VLOOKUP(tblSalaries[[#This Row],[Currency]],tblXrate[],2,FALSE)","v":60000},"project manager","Manager","USA",{"$f":"VLOOKUP(tblSalaries[[#This Row],[Where do you work]],tblCountries[[Actual]:[Mapping]],2,FALSE)","v":"USA"},"2 to 3 hours per day",20]
[null,"ID1376","2012-05-29T20:53:43",95000,95000,"USD",{"$f":"tblSalaries[[#This Row],[clean Salary (in local currency)]]*VLOOKUP(tblSalaries[[#This Row],[Currency]],tblXrate[],2,FALSE)","v":95000},"Cost Analyst","Analyst","USA",{"$f":"VLOOKUP(tblSalaries[[#This Row],[Where do you work]],tblCountries[[Actual]:[Mapping]],2,FALSE)","v":"USA"},"2 to 3 hours per day",7]
[null,"ID1377","2012-05-29T21:07:27",24000,24000,"USD",{"$f":"tblSalaries[[#This Row],[clean Salary (in local currency)]]*VLOOKUP(tblSalaries[[#This Row],[Currency]],tblXrate[],2,FALSE)","v":24000},"clerk 24 hrs per week","Analyst","USA",{"$f":"VLOOKUP(tblSalaries[[#This Row],[Where do you work]],tblCountries[[Actual]:[Mapping]],2,FALSE)","v":"USA"},"1 or 2 hours a day",33]
[null,"ID1378","2012-05-29T21:17:26",50000,50000,"USD",{"$f":"tblSalaries[[#This Row],[clean Salary (in local currency)]]*VLOOKUP(tblSalaries[[#This Row],[Currency]],tblXrate[],2,FALSE)","v":50000},"Engineering Intern","Engineer","USA",{"$f":"VLOOKUP(tblSalaries[[#This Row],[Where do you work]],tblCountries[[Actual]:[Mapping]],2,FALSE)","v":"USA"},"4 to 6 hours a day",0.5]
[null,"ID1379","2012-05-29T21:25:03",103000,103000,"USD",{"$f":"tblSalaries[[#This Row],[clean Salary (in local currency)]]*VLOOKUP(tblSalaries[[#This Row],[Currency]],tblXrate[],2,FALSE)","v":103000},"Controller","Controller","USA",{"$f":"VLOOKUP(tblSalaries[[#This Row],[Where do you work]],tblCountries[[Actual]:[Mapping]],2,FALSE)","v":"USA"},"4 to 6 hours a day",22]
[null,"ID1380","2012-05-29T21:27:23",36000,36000,"USD",{"$f":"tblSalaries[[#This Row],[clean Salary (in local currency)]]*VLOOKUP(tblSalaries[[#This Row],[Currency]],tblXrate[],2,FALSE)","v":36000},"Data Specialist","Specialist","USA",{"$f":"VLOOKUP(tblSalaries[[#This Row],[Where do you work]],tblCountries[[Actual]:[Mapping]],2,FALSE)","v":"USA"},"All the 8 hours baby, all the 8!",8]
[null,"ID1381","2012-05-29T21:28:07",85000,85000,"USD",{"$f":"tblSalaries[[#This Row],[clean Salary (in local currency)]]*VLOOKUP(tblSalaries[[#This Row],[Currency]],tblXrate[],2,FALSE)","v":85000},"Senior Analyst","Analyst","USA",{"$f":"VLOOKUP(tblSalaries[[#This Row],[Where do you work]],tblCountries[[Actual]:[Mapping]],2,FALSE)","v":"USA"},"4 to 6 hours a day",17]
[null,"ID1382","2012-05-29T21:29:36",100000,100000,"USD",{"$f":"tblSalaries[[#This Row],[clean Salary (in local currency)]]*VLOOKUP(tblSalaries[[#This Row],[Currency]],tblXrate[],2,FALSE)","v":100000},"Vice Head of Dpt in Education","CXO or Top Mgmt.","Sweden",{"$f":"VLOOKUP(tblSalaries[[#This Row],[Where do you work]],tblCountries[[Actual]:[Mapping]],2,FALSE)","v":"Sweden"},"2 to 3 hours per day",20]
[null,"ID1383","2012-05-29T21:33:42","$83000 USD ",83000,"USD",{"$f":"tblSalaries[[#This Row],[clean Salary (in local currency)]]*VLOOKUP(tblSalaries[[#This Row],[Currency]],tblXrate[],2,FALSE)","v":83000},"Senior Planning Analyst","Analyst","Canada",{"$f":"VLOOKUP(tblSalaries[[#This Row],[Where do you work]],tblCountries[[Actual]:[Mapping]],2,FALSE)","v":"Canada"},"4 to 6 hours a day",12]
[null,"ID1384","2012-05-29T21:38:10",85000,85000,"USD",{"$f":"tblSalaries[[#This Row],[clean Salary (in local currency)]]*VLOOKUP(tblSalaries[[#This Row],[Currency]],tblXrate[],2,FALSE)","v":85000},"energy engineer","Engineer","USA",{"$f":"VLOOKUP(tblSalaries[[#This Row],[Where do you work]],tblCountries[[Actual]:[Mapping]],2,FALSE)","v":"USA"},"2 to 3 hours per day",25]
[null,"ID1385","2012-05-29T21:42:44",120000,120000,"USD",{"$f":"tblSalaries[[#This Row],[clean Salary (in local currency)]]*VLOOKUP(tblSalaries[[#This Row],[Currency]],tblXrate[],2,FALSE)","v":120000},"Finance Manager","Manager","USA",{"$f":"VLOOKUP(tblSalaries[[#This Row],[Where do you work]],tblCountries[[Actual]:[Mapping]],2,FALSE)","v":"USA"},"2 to 3 hours per day",5]
[null,"ID1386","2012-05-29T21:44:00",69960,69960,"USD",{"$f":"tblSalaries[[#This Row],[clean Salary (in local currency)]]*VLOOKUP(tblSalaries[[#This Row],[Currency]],tblXrate[],2,FALSE)","v":69960},"Measurement & Verification Engineer","Engineer","USA",{"$f":"VLOOKUP(tblSalaries[[#This Row],[Where do you work]],tblCountries[[Actual]:[Mapping]],2,FALSE)","v":"USA"},"2 to 3 hours per day",22]
[null,"ID1387","2012-05-29T21:46:28","97,000 USD",97000,"USD",{"$f":"tblSalaries[[#This Row],[clean Salary (in local currency)]]*VLOOKUP(tblSalaries[[#This Row],[Currency]],tblXrate[],2,FALSE)","v":97000},"Sr. Manager of Finance","Manager","USA",{"$f":"VLOOKUP(tblSalaries[[#This Row],[Where do you work]],tblCountries[[Actual]:[Mapping]],2,FALSE)","v":"USA"},"4 to 6 hours a day",14]
[null,"ID1388","2012-05-29T21:48:13","60000 $",60000,"GBP",{"$f":"tblSalaries[[#This Row],[clean Salary (in local currency)]]*VLOOKUP(tblSalaries[[#This Row],[Currency]],tblXrate[],2,FALSE)","v":94570.696324037053},"Analyst","Analyst","UK",{"$f":"VLOOKUP(tblSalaries[[#This Row],[Where do you work]],tblCountries[[Actual]:[Mapping]],2,FALSE)","v":"UK"},"4 to 6 hours a day",7]
[null,"ID1389","2012-05-29T21:50:30",39000,39000,"USD",{"$f":"tblSalaries[[#This Row],[clean Salary (in local currency)]]*VLOOKUP(tblSalaries[[#This Row],[Currency]],tblXrate[],2,FALSE)","v":39000},"I.T Manager","Manager","South Africa",{"$f":"VLOOKUP(tblSalaries[[#This Row],[Where do you work]],tblCountries[[Actual]:[Mapping]],2,FALSE)","v":"South Africa"},"All the 8 hours baby, all the 8!",6]
[null,"ID1390","2012-05-29T21:50:45","Rs 250000",250000,"INR",{"$f":"tblSalaries[[#This Row],[clean Salary (in local currency)]]*VLOOKUP(tblSalaries[[#This Row],[Currency]],tblXrate[],2,FALSE)","v":4451.9791718606421},"Manager","Manager","India",{"$f":"VLOOKUP(tblSalaries[[#This Row],[Where do you work]],tblCountries[[Actual]:[Mapping]],2,FALSE)","v":"India"},"1 or 2 hours a day",15]
[null,"ID1391","2012-05-29T21:54:33",62000,62000,"USD",{"$f":"tblSalaries[[#This Row],[clean Salary (in local currency)]]*VLOOKUP(tblSalaries[[#This Row],[Currency]],tblXrate[],2,FALSE)","v":62000},"Measurement Specialist","Specialist","USA",{"$f":"VLOOKUP(tblSalaries[[#This Row],[Where do you work]],tblCountries[[Actual]:[Mapping]],2,FALSE)","v":"USA"},"All the 8 hours baby, all the 8!",25]
[null,"ID1392","2012-05-29T21:59:35",44000,44000,"USD",{"$f":"tblSalaries[[#This Row],[clean Salary (in local currency)]]*VLOOKUP(tblSalaries[[#This Row],[Currency]],tblXrate[],2,FALSE)","v":44000},"Test engineer","Engineer","USA",{"$f":"VLOOKUP(tblSalaries[[#This Row],[Where do you work]],tblCountries[[Actual]:[Mapping]],2,FALSE)","v":"USA"},"4 to 6 hours a day",15]
[null,"ID1393","2012-05-29T22:02:31",150000,150000,"USD",{"$f":"tblSalaries[[#This Row],[clean Salary (in local currency)]]*VLOOKUP(tblSalaries[[#This Row],[Currency]],tblXrate[],2,FALSE)","v":150000},"VP, Business Management","Manager","USA",{"$f":"VLOOKUP(tblSalaries[[#This Row],[Where do you work]],tblCountries[[Actual]:[Mapping]],2,FALSE)","v":"USA"},"2 to 3 hours per day",30]
[null,"ID1394","2012-05-29T22:04:09",180000,180000,"EUR",{"$f":"tblSalaries[[#This Row],[clean Salary (in local currency)]]*VLOOKUP(tblSalaries[[#This Row],[Currency]],tblXrate[],2,FALSE)","v":228671.89901848941},"MIS Controller","Controller","Europe",{"$f":"VLOOKUP(tblSalaries[[#This Row],[Where do you work]],tblCountries[[Actual]:[Mapping]],2,FALSE)","v":"Europe"},"4 to 6 hours a day",15]
[null,"ID1395","2012-05-29T22:13:08",73500,73500,"USD",{"$f":"tblSalaries[[#This Row],[clean Salary (in local currency)]]*VLOOKUP(tblSalaries[[#This Row],[Currency]],tblXrate[],2,FALSE)","v":73500},"Senior Underwriting Analyst","Analyst","USA",{"$f":"VLOOKUP(tblSalaries[[#This Row],[Where do you work]],tblCountries[[Actual]:[Mapping]],2,FALSE)","v":"USA"},"All the 8 hours baby, all the 8!",6]
[null,"ID1396","2012-05-29T22:14:19",77500,77500,"USD",{"$f":"tblSalaries[[#This Row],[clean Salary (in local currency)]]*VLOOKUP(tblSalaries[[#This Row],[Currency]],tblXrate[],2,FALSE)","v":77500},"Sr Financial Analyst","Analyst","USA",{"$f":"VLOOKUP(tblSalaries[[#This Row],[Where do you work]],tblCountries[[Actual]:[Mapping]],2,FALSE)","v":"USA"},"4 to 6 hours a day",7]
[null,"ID1397","2012-05-29T22:18:48",60800,60800,"USD",{"$f":"tblSalaries[[#This Row],[clean Salary (in local currency)]]*VLOOKUP(tblSalaries[[#This Row],[Currency]],tblXrate[],2,FALSE)","v":60800},"Data Integrity & Reporting Tool Analyst","Analyst","USA",{"$f":"VLOOKUP(tblSalaries[[#This Row],[Where do you work]],tblCountries[[Actual]:[Mapping]],2,FALSE)","v":"USA"},"All the 8 hours baby, all the 8!",10]
[null,"ID1398","2012-05-29T22:24:28",136000,136000,"USD",{"$f":"tblSalaries[[#This Row],[clean Salary (in local currency)]]*VLOOKUP(tblSalaries[[#This Row],[Currency]],tblXrate[],2,FALSE)","v":136000},"Manager FP and A","Manager","USA",{"$f":"VLOOKUP(tblSalaries[[#This Row],[Where do you work]],tblCountries[[Actual]:[Mapping]],2,FALSE)","v":"USA"},"4 to 6 hours a day",10]
[null,"ID1399","2012-05-29T22:32:16",20000,20000,"USD",{"$f":"tblSalaries[[#This Row],[clean Salary (in local currency)]]*VLOOKUP(tblSalaries[[#This Row],[Currency]],tblXrate[],2,FALSE)","v":20000},"Business Operation Specialist","Specialist","India",{"$f":"VLOOKUP(tblSalaries[[#This Row],[Where do you work]],tblCountries[[Actual]:[Mapping]],2,FALSE)","v":"India"},"4 to 6 hours a day",6]
[null,"ID1400","2012-05-29T22:35:17",95000,95000,"USD",{"$f":"tblSalaries[[#This Row],[clean Salary (in local currency)]]*VLOOKUP(tblSalaries[[#This Row],[Currency]],tblXrate[],2,FALSE)","v":95000},"Stress Engineer","Engineer","USA",{"$f":"VLOOKUP(tblSalaries[[#This Row],[Where do you work]],tblCountries[[Actual]:[Mapping]],2,FALSE)","v":"USA"},"4 to 6 hours a day",14]
[null,"ID1401","2012-05-29T22:47:10",130000,130000,"USD",{"$f":"tblSalaries[[#This Row],[clean Salary (in local currency)]]*VLOOKUP(tblSalaries[[#This Row],[Currency]],tblXrate[],2,FALSE)","v":130000},"Manager","Manager","USA",{"$f":"VLOOKUP(tblSalaries[[#This Row],[Where do you work]],tblCountries[[Actual]:[Mapping]],2,FALSE)","v":"USA"},"1 or 2 hours a day",25]
[null,"ID1402","2012-05-29T22:50:16",65000,65000,"USD",{"$f":"tblSalaries[[#This Row],[clean Salary (in local currency)]]*VLOOKUP(tblSalaries[[#This Row],[Currency]],tblXrate[],2,FALSE)","v":65000},"eeo analyst","Analyst","USA",{"$f":"VLOOKUP(tblSalaries[[#This Row],[Where do you work]],tblCountries[[Actual]:[Mapping]],2,FALSE)","v":"USA"},"2 to 3 hours per day",10]
[null,"ID1403","2012-05-29T22:50:20",80000,80000,"USD",{"$f":"tblSalaries[[#This Row],[clean Salary (in local currency)]]*VLOOKUP(tblSalaries[[#This Row],[Currency]],tblXrate[],2,FALSE)","v":80000},"Sr Process Consultant","Consultant","USA",{"$f":"VLOOKUP(tblSalaries[[#This Row],[Where do you work]],tblCountries[[Actual]:[Mapping]],2,FALSE)","v":"USA"},"2 to 3 hours per day",8]
[null,"ID1404","2012-05-29T22:56:24","37K",37000,"USD",{"$f":"tblSalaries[[#This Row],[clean Salary (in local currency)]]*VLOOKUP(tblSalaries[[#This Row],[Currency]],tblXrate[],2,FALSE)","v":37000},"Credentialing Coordinator & Productivity Reports \"Guru\"","Reporting","USA",{"$f":"VLOOKUP(tblSalaries[[#This Row],[Where do you work]],tblCountries[[Actual]:[Mapping]],2,FALSE)","v":"USA"},"2 to 3 hours per day",30]
[null,"ID1405","2012-05-29T23:06:00",40000,40000,"USD",{"$f":"tblSalaries[[#This Row],[clean Salary (in local currency)]]*VLOOKUP(tblSalaries[[#This Row],[Currency]],tblXrate[],2,FALSE)","v":40000},"Transportation Planner","Manager","USA",{"$f":"VLOOKUP(tblSalaries[[#This Row],[Where do you work]],tblCountries[[Actual]:[Mapping]],2,FALSE)","v":"USA"},"1 or 2 hours a day",8]
[null,"ID1406","2012-05-29T23:08:45",49000,49000,"USD",{"$f":"tblSalaries[[#This Row],[clean Salary (in local currency)]]*VLOOKUP(tblSalaries[[#This Row],[Currency]],tblXrate[],2,FALSE)","v":49000},"Research Analyst","Analyst","USA",{"$f":"VLOOKUP(tblSalaries[[#This Row],[Where do you work]],tblCountries[[Actual]:[Mapping]],2,FALSE)","v":"USA"},"4 to 6 hours a day",10]
[null,"ID1407","2012-05-29T23:09:29",65000,65000,"USD",{"$f":"tblSalaries[[#This Row],[clean Salary (in local currency)]]*VLOOKUP(tblSalaries[[#This Row],[Currency]],tblXrate[],2,FALSE)","v":65000},"Data Analyst","Analyst","USA",{"$f":"VLOOKUP(tblSalaries[[#This Row],[Where do you work]],tblCountries[[Actual]:[Mapping]],2,FALSE)","v":"USA"},"All the 8 hours baby, all the 8!",14]
[null,"ID1408","2012-05-29T23:13:32",55000,55000,"USD",{"$f":"tblSalaries[[#This Row],[clean Salary (in local currency)]]*VLOOKUP(tblSalaries[[#This Row],[Currency]],tblXrate[],2,FALSE)","v":55000},"Risk Analyst","Analyst","USA",{"$f":"VLOOKUP(tblSalaries[[#This Row],[Where do you work]],tblCountries[[Actual]:[Mapping]],2,FALSE)","v":"USA"},"All the 8 hours baby, all the 8!",1]
[null,"ID1409","2012-05-29T23:20:41",40000,40000,"USD",{"$f":"tblSalaries[[#This Row],[clean Salary (in local currency)]]*VLOOKUP(tblSalaries[[#This Row],[Currency]],tblXrate[],2,FALSE)","v":40000},"Project Coordinator","Manager","USA",{"$f":"VLOOKUP(tblSalaries[[#This Row],[Where do you work]],tblCountries[[Actual]:[Mapping]],2,FALSE)","v":"USA"},"4 to 6 hours a day",1]
[null,"ID1410","2012-05-29T23:21:25",60000,60000,"USD",{"$f":"tblSalaries[[#This Row],[clean Salary (in local currency)]]*VLOOKUP(tblSalaries[[#This Row],[Currency]],tblXrate[],2,FALSE)","v":60000},"business analyst","Analyst","USA",{"$f":"VLOOKUP(tblSalaries[[#This Row],[Where do you work]],tblCountries[[Actual]:[Mapping]],2,FALSE)","v":"USA"},"4 to 6 hours a day",15]
[null,"ID1411","2012-05-29T23:31:03","36000 euros",36000,"EUR",{"$f":"tblSalaries[[#This Row],[clean Salary (in local currency)]]*VLOOKUP(tblSalaries[[#This Row],[Currency]],tblXrate[],2,FALSE)","v":45734.379803697877},"Data Analytics Consultant","Analyst","Ireland",{"$f":"VLOOKUP(tblSalaries[[#This Row],[Where do you work]],tblCountries[[Actual]:[Mapping]],2,FALSE)","v":"Ireland"},"2 to 3 hours per day",4]
[null,"ID1412","2012-05-29T23:39:13",150000,150000,"USD",{"$f":"tblSalaries[[#This Row],[clean Salary (in local currency)]]*VLOOKUP(tblSalaries[[#This Row],[Currency]],tblXrate[],2,FALSE)","v":150000},"Senior Analyst","Analyst","USA",{"$f":"VLOOKUP(tblSalaries[[#This Row],[Where do you work]],tblCountries[[Actual]:[Mapping]],2,FALSE)","v":"USA"},"2 to 3 hours per day",30]
[null,"ID1413","2012-05-29T23:44:26",88000,88000,"USD",{"$f":"tblSalaries[[#This Row],[clean Salary (in local currency)]]*VLOOKUP(tblSalaries[[#This Row],[Currency]],tblXrate[],2,FALSE)","v":88000},"Manager, Financial Planning & Analysis","Manager","USA",{"$f":"VLOOKUP(tblSalaries[[#This Row],[Where do you work]],tblCountries[[Actual]:[Mapping]],2,FALSE)","v":"USA"},"4 to 6 hours a day",21]
[null,"ID1414","2012-05-30T00:02:08",64500,64500,"USD",{"$f":"tblSalaries[[#This Row],[clean Salary (in local currency)]]*VLOOKUP(tblSalaries[[#This Row],[Currency]],tblXrate[],2,FALSE)","v":64500},"Lead Budget/Financial Analyst","Analyst","USA",{"$f":"VLOOKUP(tblSalaries[[#This Row],[Where do you work]],tblCountries[[Actual]:[Mapping]],2,FALSE)","v":"USA"},"4 to 6 hours a day",13]
[null,"ID1415","2012-05-30T00:13:07","216000.00 Saudi Riyak",216000,"SAR",{"$f":"tblSalaries[[#This Row],[clean Salary (in local currency)]]*VLOOKUP(tblSalaries[[#This Row],[Currency]],tblXrate[],2,FALSE)","v":57600},"Senior Electrical Engineer","Engineer","Saudi Arabia",{"$f":"VLOOKUP(tblSalaries[[#This Row],[Where do you work]],tblCountries[[Actual]:[Mapping]],2,FALSE)","v":"Saudi Arabia"},"4 to 6 hours a day",20]
[null,"ID1416","2012-05-30T00:22:28",50000,50000,"USD",{"$f":"tblSalaries[[#This Row],[clean Salary (in local currency)]]*VLOOKUP(tblSalaries[[#This Row],[Currency]],tblXrate[],2,FALSE)","v":50000},"Accounting Supervisor","Accountant","USA",{"$f":"VLOOKUP(tblSalaries[[#This Row],[Where do you work]],tblCountries[[Actual]:[Mapping]],2,FALSE)","v":"USA"},"4 to 6 hours a day",15]
[null,"ID1417","2012-05-30T00:25:43",120000,120000,"USD",{"$f":"tblSalaries[[#This Row],[clean Salary (in local currency)]]*VLOOKUP(tblSalaries[[#This Row],[Currency]],tblXrate[],2,FALSE)","v":120000},"Finance Manager","Manager","USA",{"$f":"VLOOKUP(tblSalaries[[#This Row],[Where do you work]],tblCountries[[Actual]:[Mapping]],2,FALSE)","v":"USA"},"2 to 3 hours per day",10]
[null,"ID1418","2012-05-30T00:34:53",107000,107000,"USD",{"$f":"tblSalaries[[#This Row],[clean Salary (in local currency)]]*VLOOKUP(tblSalaries[[#This Row],[Currency]],tblXrate[],2,FALSE)","v":107000},"Tax Manager","Manager","USA",{"$f":"VLOOKUP(tblSalaries[[#This Row],[Where do you work]],tblCountries[[Actual]:[Mapping]],2,FALSE)","v":"USA"},"All the 8 hours baby, all the 8!",29]
[null,"ID1419","2012-05-30T00:42:50",40000,40000,"USD",{"$f":"tblSalaries[[#This Row],[clean Salary (in local currency)]]*VLOOKUP(tblSalaries[[#This Row],[Currency]],tblXrate[],2,FALSE)","v":40000},"Metrics Analyst","Analyst","USA",{"$f":"VLOOKUP(tblSalaries[[#This Row],[Where do you work]],tblCountries[[Actual]:[Mapping]],2,FALSE)","v":"USA"},"2 to 3 hours per day",6]
[null,"ID1420","2012-05-30T00:50:03",81000,81000,"USD",{"$f":"tblSalaries[[#This Row],[clean Salary (in local currency)]]*VLOOKUP(tblSalaries[[#This Row],[Currency]],tblXrate[],2,FALSE)","v":81000},"Finance & IT Manager","Manager","USA",{"$f":"VLOOKUP(tblSalaries[[#This Row],[Where do you work]],tblCountries[[Actual]:[Mapping]],2,FALSE)","v":"USA"},"1 or 2 hours a day",12]
[null,"ID1421","2012-05-30T01:05:26",45000,45000,"USD",{"$f":"tblSalaries[[#This Row],[clean Salary (in local currency)]]*VLOOKUP(tblSalaries[[#This Row],[Currency]],tblXrate[],2,FALSE)","v":45000},"Technical Support Specialist","Specialist","USA",{"$f":"VLOOKUP(tblSalaries[[#This Row],[Where do you work]],tblCountries[[Actual]:[Mapping]],2,FALSE)","v":"USA"},"4 to 6 hours a day",20]
[null,"ID1422","2012-05-30T01:12:04",49000,49000,"USD",{"$f":"tblSalaries[[#This Row],[clean Salary (in local currency)]]*VLOOKUP(tblSalaries[[#This Row],[Currency]],tblXrate[],2,FALSE)","v":49000},"Clinical Data Specialist","Specialist","USA",{"$f":"VLOOKUP(tblSalaries[[#This Row],[Where do you work]],tblCountries[[Actual]:[Mapping]],2,FALSE)","v":"USA"},"4 to 6 hours a day",5]
[null,"ID1423","2012-05-30T01:12:35","INR 750000",750000,"INR",{"$f":"tblSalaries[[#This Row],[clean Salary (in local currency)]]*VLOOKUP(tblSalaries[[#This Row],[Currency]],tblXrate[],2,FALSE)","v":13355.937515581925},"Associate - Indirect Tax","CXO or Top Mgmt.","India",{"$f":"VLOOKUP(tblSalaries[[#This Row],[Where do you work]],tblCountries[[Actual]:[Mapping]],2,FALSE)","v":"India"},"1 or 2 hours a day",1]
[null,"ID1424","2012-05-30T01:15:32",72000,72000,"USD",{"$f":"tblSalaries[[#This Row],[clean Salary (in local currency)]]*VLOOKUP(tblSalaries[[#This Row],[Currency]],tblXrate[],2,FALSE)","v":72000},"Manager","Manager","USA",{"$f":"VLOOKUP(tblSalaries[[#This Row],[Where do you work]],tblCountries[[Actual]:[Mapping]],2,FALSE)","v":"USA"},"1 or 2 hours a day",20]
[null,"ID1425","2012-05-30T01:25:17",50000,50000,"USD",{"$f":"tblSalaries[[#This Row],[clean Salary (in local currency)]]*VLOOKUP(tblSalaries[[#This Row],[Currency]],tblXrate[],2,FALSE)","v":50000},"Digital Analyst","Analyst","USA",{"$f":"VLOOKUP(tblSalaries[[#This Row],[Where do you work]],tblCountries[[Actual]:[Mapping]],2,FALSE)","v":"USA"},"4 to 6 hours a day",7]
[null,"ID1426","2012-05-30T01:25:26",57678.400000000001,57678,"USD",{"$f":"tblSalaries[[#This Row],[clean Salary (in local currency)]]*VLOOKUP(tblSalaries[[#This Row],[Currency]],tblXrate[],2,FALSE)","v":57678},"Financial Analyst","Analyst","USA",{"$f":"VLOOKUP(tblSalaries[[#This Row],[Where do you work]],tblCountries[[Actual]:[Mapping]],2,FALSE)","v":"USA"},"4 to 6 hours a day",2]
[null,"ID1427","2012-05-30T01:29:51",80442,80442,"USD",{"$f":"tblSalaries[[#This Row],[clean Salary (in local currency)]]*VLOOKUP(tblSalaries[[#This Row],[Currency]],tblXrate[],2,FALSE)","v":80442},"Senior Budget Analyst","Analyst","USA",{"$f":"VLOOKUP(tblSalaries[[#This Row],[Where do you work]],tblCountries[[Actual]:[Mapping]],2,FALSE)","v":"USA"},"4 to 6 hours a day",16]
[null,"ID1428","2012-05-30T01:48:18",75000,75000,"USD",{"$f":"tblSalaries[[#This Row],[clean Salary (in local currency)]]*VLOOKUP(tblSalaries[[#This Row],[Currency]],tblXrate[],2,FALSE)","v":75000},"HR Cordinator","Manager","USA",{"$f":"VLOOKUP(tblSalaries[[#This Row],[Where do you work]],tblCountries[[Actual]:[Mapping]],2,FALSE)","v":"USA"},"1 or 2 hours a day",9]
[null,"ID1429","2012-05-30T01:52:33",61000,61000,"USD",{"$f":"tblSalaries[[#This Row],[clean Salary (in local currency)]]*VLOOKUP(tblSalaries[[#This Row],[Currency]],tblXrate[],2,FALSE)","v":61000},"Treasury Analyst","Analyst","USA",{"$f":"VLOOKUP(tblSalaries[[#This Row],[Where do you work]],tblCountries[[Actual]:[Mapping]],2,FALSE)","v":"USA"},"4 to 6 hours a day",12]
[null,"ID1430","2012-05-30T01:57:58",77000,77000,"USD",{"$f":"tblSalaries[[#This Row],[clean Salary (in local currency)]]*VLOOKUP(tblSalaries[[#This Row],[Currency]],tblXrate[],2,FALSE)","v":77000},"Assistant Engineer","Engineer","USA",{"$f":"VLOOKUP(tblSalaries[[#This Row],[Where do you work]],tblCountries[[Actual]:[Mapping]],2,FALSE)","v":"USA"},"4 to 6 hours a day",10]
[null,"ID1431","2012-05-30T02:18:02","92000 USD",92000,"USD",{"$f":"tblSalaries[[#This Row],[clean Salary (in local currency)]]*VLOOKUP(tblSalaries[[#This Row],[Currency]],tblXrate[],2,FALSE)","v":92000},"Controller","Controller","USA",{"$f":"VLOOKUP(tblSalaries[[#This Row],[Where do you work]],tblCountries[[Actual]:[Mapping]],2,FALSE)","v":"USA"},"2 to 3 hours per day",9]
[null,"ID1432","2012-05-30T02:18:30",72000,72000,"USD",{"$f":"tblSalaries[[#This Row],[clean Salary (in local currency)]]*VLOOKUP(tblSalaries[[#This Row],[Currency]],tblXrate[],2,FALSE)","v":72000},"sr. senior analyst","Analyst","USA",{"$f":"VLOOKUP(tblSalaries[[#This Row],[Where do you work]],tblCountries[[Actual]:[Mapping]],2,FALSE)","v":"USA"},"All the 8 hours baby, all the 8!",10]
[null,"ID1433","2012-05-30T02:22:39",14000,14000,"USD",{"$f":"tblSalaries[[#This Row],[clean Salary (in local currency)]]*VLOOKUP(tblSalaries[[#This Row],[Currency]],tblXrate[],2,FALSE)","v":14000},"Consultant","Consultant","India",{"$f":"VLOOKUP(tblSalaries[[#This Row],[Where do you work]],tblCountries[[Actual]:[Mapping]],2,FALSE)","v":"India"},"4 to 6 hours a day",3]
[null,"ID1434","2012-05-30T02:22:59",111000,111000,"USD",{"$f":"tblSalaries[[#This Row],[clean Salary (in local currency)]]*VLOOKUP(tblSalaries[[#This Row],[Currency]],tblXrate[],2,FALSE)","v":111000},"Project Manager - Finance","Manager","USA",{"$f":"VLOOKUP(tblSalaries[[#This Row],[Where do you work]],tblCountries[[Actual]:[Mapping]],2,FALSE)","v":"USA"},"2 to 3 hours per day",10]
[null,"ID1435","2012-05-30T02:32:17",80000,80000,"USD",{"$f":"tblSalaries[[#This Row],[clean Salary (in local currency)]]*VLOOKUP(tblSalaries[[#This Row],[Currency]],tblXrate[],2,FALSE)","v":80000},"Senior analyst, ops support","Analyst","USA",{"$f":"VLOOKUP(tblSalaries[[#This Row],[Where do you work]],tblCountries[[Actual]:[Mapping]],2,FALSE)","v":"USA"},"4 to 6 hours a day",20]
[null,"ID1436","2012-05-30T02:35:40","Rs 3.25 Lacs",3250000,"INR",{"$f":"tblSalaries[[#This Row],[clean Salary (in local currency)]]*VLOOKUP(tblSalaries[[#This Row],[Currency]],tblXrate[],2,FALSE)","v":57875.729234188344},"ISO TS Documentation","Analyst","India",{"$f":"VLOOKUP(tblSalaries[[#This Row],[Where do you work]],tblCountries[[Actual]:[Mapping]],2,FALSE)","v":"India"},"4 to 6 hours a day",5.5]
[null,"ID1437","2012-05-30T02:39:50",25000,25000,"USD",{"$f":"tblSalaries[[#This Row],[clean Salary (in local currency)]]*VLOOKUP(tblSalaries[[#This Row],[Currency]],tblXrate[],2,FALSE)","v":25000},"Accountant","Accountant","India",{"$f":"VLOOKUP(tblSalaries[[#This Row],[Where do you work]],tblCountries[[Actual]:[Mapping]],2,FALSE)","v":"India"},"2 to 3 hours per day",8]
[null,"ID1438","2012-05-30T03:20:17","24000 USD",24000,"USD",{"$f":"tblSalaries[[#This Row],[clean Salary (in local currency)]]*VLOOKUP(tblSalaries[[#This Row],[Currency]],tblXrate[],2,FALSE)","v":24000},"inventory controller","Controller","USA",{"$f":"VLOOKUP(tblSalaries[[#This Row],[Where do you work]],tblCountries[[Actual]:[Mapping]],2,FALSE)","v":"USA"},"1 or 2 hours a day",2]
[null,"ID1439","2012-05-30T04:13:50",61000,61000,"USD",{"$f":"tblSalaries[[#This Row],[clean Salary (in local currency)]]*VLOOKUP(tblSalaries[[#This Row],[Currency]],tblXrate[],2,FALSE)","v":61000},"Accounting manager","Manager","USA",{"$f":"VLOOKUP(tblSalaries[[#This Row],[Where do you work]],tblCountries[[Actual]:[Mapping]],2,FALSE)","v":"USA"},"2 to 3 hours per day",25]
[null,"ID1440","2012-05-30T08:05:16","AUD55,000",55000,"AUD",{"$f":"tblSalaries[[#This Row],[clean Salary (in local currency)]]*VLOOKUP(tblSalaries[[#This Row],[Currency]],tblXrate[],2,FALSE)","v":56095.031102144967},"PA","Analyst","Australia",{"$f":"VLOOKUP(tblSalaries[[#This Row],[Where do you work]],tblCountries[[Actual]:[Mapping]],2,FALSE)","v":"Australia"},"2 to 3 hours per day",11]
[null,"ID1442","2012-05-30T09:42:01",70000,70000,"AUD",{"$f":"tblSalaries[[#This Row],[clean Salary (in local currency)]]*VLOOKUP(tblSalaries[[#This Row],[Currency]],tblXrate[],2,FALSE)","v":71393.675948184507},"Assistant Accountant","Accountant","Australia",{"$f":"VLOOKUP(tblSalaries[[#This Row],[Where do you work]],tblCountries[[Actual]:[Mapping]],2,FALSE)","v":"Australia"},"2 to 3 hours per day",5]
[null,"ID1443","2012-05-30T10:11:19",96230,96230,"USD",{"$f":"tblSalaries[[#This Row],[clean Salary (in local currency)]]*VLOOKUP(tblSalaries[[#This Row],[Currency]],tblXrate[],2,FALSE)","v":96230},"Manager, Data Management","Manager","USA",{"$f":"VLOOKUP(tblSalaries[[#This Row],[Where do you work]],tblCountries[[Actual]:[Mapping]],2,FALSE)","v":"USA"},"4 to 6 hours a day",18]
[null,"ID1444","2012-05-30T10:40:24",75000,75000,"USD",{"$f":"tblSalaries[[#This Row],[clean Salary (in local currency)]]*VLOOKUP(tblSalaries[[#This Row],[Currency]],tblXrate[],2,FALSE)","v":75000},"Business Analyst","Analyst","USA",{"$f":"VLOOKUP(tblSalaries[[#This Row],[Where do you work]],tblCountries[[Actual]:[Mapping]],2,FALSE)","v":"USA"},"2 to 3 hours per day",1.5]
[null,"ID1445","2012-05-30T10:57:38",8500,102000,"USD",{"$f":"tblSalaries[[#This Row],[clean Salary (in local currency)]]*VLOOKUP(tblSalaries[[#This Row],[Currency]],tblXrate[],2,FALSE)","v":102000},"Sales Analyst","Analyst","USA",{"$f":"VLOOKUP(tblSalaries[[#This Row],[Where do you work]],tblCountries[[Actual]:[Mapping]],2,FALSE)","v":"USA"},"4 to 6 hours a day",5]
[null,"ID1446","2012-05-30T11:20:33","MYR60000",60000,"MYR",{"$f":"tblSalaries[[#This Row],[clean Salary (in local currency)]]*VLOOKUP(tblSalaries[[#This Row],[Currency]],tblXrate[],2,FALSE)","v":19008.034062397041},"Liquidity Management Executive","Manager","Malaysia",{"$f":"VLOOKUP(tblSalaries[[#This Row],[Where do you work]],tblCountries[[Actual]:[Mapping]],2,FALSE)","v":"Malaysia"},"4 to 6 hours a day",3]
[null,"ID1447","2012-05-30T11:38:53",363,4356,"USD",{"$f":"tblSalaries[[#This Row],[clean Salary (in local currency)]]*VLOOKUP(tblSalaries[[#This Row],[Currency]],tblXrate[],2,FALSE)","v":4356},"Business Analyst","Analyst","India",{"$f":"VLOOKUP(tblSalaries[[#This Row],[Where do you work]],tblCountries[[Actual]:[Mapping]],2,FALSE)","v":"India"},"4 to 6 hours a day",5]
[null,"ID1448","2012-05-30T11:43:50",300000,300000,"INR",{"$f":"tblSalaries[[#This Row],[clean Salary (in local currency)]]*VLOOKUP(tblSalaries[[#This Row],[Currency]],tblXrate[],2,FALSE)","v":5342.3750062327708},"accountant","Accountant","India",{"$f":"VLOOKUP(tblSalaries[[#This Row],[Where do you work]],tblCountries[[Actual]:[Mapping]],2,FALSE)","v":"India"},"4 to 6 hours a day",4]
[null,"ID1449","2012-05-30T12:12:38",67000,67000,"USD",{"$f":"tblSalaries[[#This Row],[clean Salary (in local currency)]]*VLOOKUP(tblSalaries[[#This Row],[Currency]],tblXrate[],2,FALSE)","v":67000},"accounting systems manager ","Manager","USA",{"$f":"VLOOKUP(tblSalaries[[#This Row],[Where do you work]],tblCountries[[Actual]:[Mapping]],2,FALSE)","v":"USA"},"2 to 3 hours per day",20]
[null,"ID1450","2012-05-30T12:25:23",480000,480000,"INR",{"$f":"tblSalaries[[#This Row],[clean Salary (in local currency)]]*VLOOKUP(tblSalaries[[#This Row],[Currency]],tblXrate[],2,FALSE)","v":8547.8000099724322},"Performance Analyst","Analyst","India",{"$f":"VLOOKUP(tblSalaries[[#This Row],[Where do you work]],tblCountries[[Actual]:[Mapping]],2,FALSE)","v":"India"},"4 to 6 hours a day",7]
[null,"ID1451","2012-05-30T12:35:08","Rs. 900000 per annum",900000,"INR",{"$f":"tblSalaries[[#This Row],[clean Salary (in local currency)]]*VLOOKUP(tblSalaries[[#This Row],[Currency]],tblXrate[],2,FALSE)","v":16027.125018698311},"Data Analyst","Analyst","India",{"$f":"VLOOKUP(tblSalaries[[#This Row],[Where do you work]],tblCountries[[Actual]:[Mapping]],2,FALSE)","v":"India"},"4 to 6 hours a day",4]
[null,"ID1452","2012-05-30T12:56:38","Rs  6 lakhs/annum",600000,"INR",{"$f":"tblSalaries[[#This Row],[clean Salary (in local currency)]]*VLOOKUP(tblSalaries[[#This Row],[Currency]],tblXrate[],2,FALSE)","v":10684.750012465542},"consultant","Consultant","India",{"$f":"VLOOKUP(tblSalaries[[#This Row],[Where do you work]],tblCountries[[Actual]:[Mapping]],2,FALSE)","v":"India"},"2 to 3 hours per day",36]
[null,"ID1453","2012-05-30T13:06:12",30000,30000,"USD",{"$f":"tblSalaries[[#This Row],[clean Salary (in local currency)]]*VLOOKUP(tblSalaries[[#This Row],[Currency]],tblXrate[],2,FALSE)","v":30000},"Accounting Specialist","Accountant","UAE",{"$f":"VLOOKUP(tblSalaries[[#This Row],[Where do you work]],tblCountries[[Actual]:[Mapping]],2,FALSE)","v":"UAE"},"4 to 6 hours a day",8]
[null,"ID1454","2012-05-30T13:21:06",500000,500000,"INR",{"$f":"tblSalaries[[#This Row],[clean Salary (in local currency)]]*VLOOKUP(tblSalaries[[#This Row],[Currency]],tblXrate[],2,FALSE)","v":8903.9583437212841},"Project Management","Manager","India",{"$f":"VLOOKUP(tblSalaries[[#This Row],[Where do you work]],tblCountries[[Actual]:[Mapping]],2,FALSE)","v":"India"},"2 to 3 hours per day",0]
[null,"ID1455","2012-05-30T13:25:12",20000,20000,"USD",{"$f":"tblSalaries[[#This Row],[clean Salary (in local currency)]]*VLOOKUP(tblSalaries[[#This Row],[Currency]],tblXrate[],2,FALSE)","v":20000},"manager","Manager","India",{"$f":"VLOOKUP(tblSalaries[[#This Row],[Where do you work]],tblCountries[[Actual]:[Mapping]],2,FALSE)","v":"India"},"Excel ?!? What Excel?",10]
[null,"ID1456","2012-05-30T13:31:35",86000,86000,"AUD",{"$f":"tblSalaries[[#This Row],[clean Salary (in local currency)]]*VLOOKUP(tblSalaries[[#This Row],[Currency]],tblXrate[],2,FALSE)","v":87712.230450626681},"data analyst","Analyst","Australia",{"$f":"VLOOKUP(tblSalaries[[#This Row],[Where do you work]],tblCountries[[Actual]:[Mapping]],2,FALSE)","v":"Australia"},"4 to 6 hours a day",10]
[null,"ID1457","2012-05-30T13:36:42",1000000,1000000,"INR",{"$f":"tblSalaries[[#This Row],[clean Salary (in local currency)]]*VLOOKUP(tblSalaries[[#This Row],[Currency]],tblXrate[],2,FALSE)","v":17807.916687442568},"project management","Manager","India",{"$f":"VLOOKUP(tblSalaries[[#This Row],[Where do you work]],tblCountries[[Actual]:[Mapping]],2,FALSE)","v":"India"},"All the 8 hours baby, all the 8!",6]
[null,"ID1458","2012-05-30T13:36:48",41000,41000,"USD",{"$f":"tblSalaries[[#This Row],[clean Salary (in local currency)]]*VLOOKUP(tblSalaries[[#This Row],[Currency]],tblXrate[],2,FALSE)","v":41000},"Marketing Analyst","Analyst","Japan",{"$f":"VLOOKUP(tblSalaries[[#This Row],[Where do you work]],tblCountries[[Actual]:[Mapping]],2,FALSE)","v":"Japan"},"2 to 3 hours per day",2]
[null,"ID1459","2012-05-30T13:41:41",60000,60000,"USD",{"$f":"tblSalaries[[#This Row],[clean Salary (in local currency)]]*VLOOKUP(tblSalaries[[#This Row],[Currency]],tblXrate[],2,FALSE)","v":60000},"Business Intelligence Supervisor","Manager","USA",{"$f":"VLOOKUP(tblSalaries[[#This Row],[Where do you work]],tblCountries[[Actual]:[Mapping]],2,FALSE)","v":"USA"},"2 to 3 hours per day",4]
[null,"ID1460","2012-05-30T13:47:51","zar22000",264000,"ZAR",{"$f":"tblSalaries[[#This Row],[clean Salary (in local currency)]]*VLOOKUP(tblSalaries[[#This Row],[Currency]],tblXrate[],2,FALSE)","v":32187.34988380854},"Analyst","Analyst","SouthAfrica",{"$f":"VLOOKUP(tblSalaries[[#This Row],[Where do you work]],tblCountries[[Actual]:[Mapping]],2,FALSE)","v":"South Africa"},"All the 8 hours baby, all the 8!",2]
[null,"ID1461","2012-05-30T13:56:27",50000,50000,"NZD",{"$f":"tblSalaries[[#This Row],[clean Salary (in local currency)]]*VLOOKUP(tblSalaries[[#This Row],[Currency]],tblXrate[],2,FALSE)","v":39879.404680246938},"stress engineer","Engineer","nld",{"$f":"VLOOKUP(tblSalaries[[#This Row],[Where do you work]],tblCountries[[Actual]:[Mapping]],2,FALSE)","v":"New Zealand"},"4 to 6 hours a day",5]
[null,"ID1462","2012-05-30T13:56:48","320000 INR",320000,"INR",{"$f":"tblSalaries[[#This Row],[clean Salary (in local currency)]]*VLOOKUP(tblSalaries[[#This Row],[Currency]],tblXrate[],2,FALSE)","v":5698.5333399816218},"Analyst","Analyst","India",{"$f":"VLOOKUP(tblSalaries[[#This Row],[Where do you work]],tblCountries[[Actual]:[Mapping]],2,FALSE)","v":"India"},"2 to 3 hours per day",2]
[null,"ID1463","2012-05-30T14:09:10","4 Lakhs INR p.a",400000,"INR",{"$f":"tblSalaries[[#This Row],[clean Salary (in local currency)]]*VLOOKUP(tblSalaries[[#This Row],[Currency]],tblXrate[],2,FALSE)","v":7123.1666749770275},"Reporting Manager","Manager","India",{"$f":"VLOOKUP(tblSalaries[[#This Row],[Where do you work]],tblCountries[[Actual]:[Mapping]],2,FALSE)","v":"India"},"4 to 6 hours a day",6]
[null,"ID1464","2012-05-30T14:19:07","Rs.2,50,000.00",250000,"INR",{"$f":"tblSalaries[[#This Row],[clean Salary (in local currency)]]*VLOOKUP(tblSalaries[[#This Row],[Currency]],tblXrate[],2,FALSE)","v":4451.9791718606421},"Manager Commercial","Manager","India",{"$f":"VLOOKUP(tblSalaries[[#This Row],[Where do you work]],tblCountries[[Actual]:[Mapping]],2,FALSE)","v":"India"},"2 to 3 hours per day",15]
[null,"ID1465","2012-05-30T14:21:57",360000,360000,"INR",{"$f":"tblSalaries[[#This Row],[clean Salary (in local currency)]]*VLOOKUP(tblSalaries[[#This Row],[Currency]],tblXrate[],2,FALSE)","v":6410.8500074793246},"analyst","Analyst","India",{"$f":"VLOOKUP(tblSalaries[[#This Row],[Where do you work]],tblCountries[[Actual]:[Mapping]],2,FALSE)","v":"India"},"2 to 3 hours per day",6]
[null,"ID1466","2012-05-30T14:28:57","Rs. 1150000/-",1150000,"INR",{"$f":"tblSalaries[[#This Row],[clean Salary (in local currency)]]*VLOOKUP(tblSalaries[[#This Row],[Currency]],tblXrate[],2,FALSE)","v":20479.104190558952},"Project Manager","Manager","India",{"$f":"VLOOKUP(tblSalaries[[#This Row],[Where do you work]],tblCountries[[Actual]:[Mapping]],2,FALSE)","v":"India"},"All the 8 hours baby, all the 8!",12]
[null,"ID1467","2012-05-30T14:31:33",620000,620000,"INR",{"$f":"tblSalaries[[#This Row],[clean Salary (in local currency)]]*VLOOKUP(tblSalaries[[#This Row],[Currency]],tblXrate[],2,FALSE)","v":11040.908346214392},"Catalog Auditor","Analyst","India",{"$f":"VLOOKUP(tblSalaries[[#This Row],[Where do you work]],tblCountries[[Actual]:[Mapping]],2,FALSE)","v":"India"},"1 or 2 hours a day",5]
[null,"ID1468","2012-05-30T15:59:01","Rs 10,00,000",1000000,"INR",{"$f":"tblSalaries[[#This Row],[clean Salary (in local currency)]]*VLOOKUP(tblSalaries[[#This Row],[Currency]],tblXrate[],2,FALSE)","v":17807.916687442568},"Marketing Specialist","Specialist","India",{"$f":"VLOOKUP(tblSalaries[[#This Row],[Where do you work]],tblCountries[[Actual]:[Mapping]],2,FALSE)","v":"India"},"2 to 3 hours per day",7]
[null,"ID1469","2012-05-30T16:12:34","Rs. 200000",200000,"INR",{"$f":"tblSalaries[[#This Row],[clean Salary (in local currency)]]*VLOOKUP(tblSalaries[[#This Row],[Currency]],tblXrate[],2,FALSE)","v":3561.5833374885137},"Executive","Analyst","India",{"$f":"VLOOKUP(tblSalaries[[#This Row],[Where do you work]],tblCountries[[Actual]:[Mapping]],2,FALSE)","v":"India"},"4 to 6 hours a day",11]
[null,"ID1470","2012-05-30T16:22:19","Â£17000",17000,"GBP",{"$f":"tblSalaries[[#This Row],[clean Salary (in local currency)]]*VLOOKUP(tblSalaries[[#This Row],[Currency]],tblXrate[],2,FALSE)","v":26795.030625143831},"Verification Agent","Analyst","UK",{"$f":"VLOOKUP(tblSalaries[[#This Row],[Where do you work]],tblCountries[[Actual]:[Mapping]],2,FALSE)","v":"UK"},"2 to 3 hours per day",5]
[null,"ID1471","2012-05-30T16:48:32",1700,20400,"USD",{"$f":"tblSalaries[[#This Row],[clean Salary (in local currency)]]*VLOOKUP(tblSalaries[[#This Row],[Currency]],tblXrate[],2,FALSE)","v":20400},"M & E Officer","Manager","Myanmar [Burma]",{"$f":"VLOOKUP(tblSalaries[[#This Row],[Where do you work]],tblCountries[[Actual]:[Mapping]],2,FALSE)","v":"Myanmar"},"1 or 2 hours a day",10]
[null,"ID1472","2012-05-30T16:49:15","Â£25000",25000,"GBP",{"$f":"tblSalaries[[#This Row],[clean Salary (in local currency)]]*VLOOKUP(tblSalaries[[#This Row],[Currency]],tblXrate[],2,FALSE)","v":39404.456801682099},"Assistant Financial Accountant","Accountant","UK",{"$f":"VLOOKUP(tblSalaries[[#This Row],[Where do you work]],tblCountries[[Actual]:[Mapping]],2,FALSE)","v":"UK"},"4 to 6 hours a day",35]
[null,"ID1473","2012-05-30T16:55:51",118000,118000,"EUR",{"$f":"tblSalaries[[#This Row],[clean Salary (in local currency)]]*VLOOKUP(tblSalaries[[#This Row],[Currency]],tblXrate[],2,FALSE)","v":149907.13380100971},"Support","Analyst","EU",{"$f":"VLOOKUP(tblSalaries[[#This Row],[Where do you work]],tblCountries[[Actual]:[Mapping]],2,FALSE)","v":"Europe"},"4 to 6 hours a day",7]
[null,"ID1474","2012-05-30T17:01:10",230000,230000,"INR",{"$f":"tblSalaries[[#This Row],[clean Salary (in local currency)]]*VLOOKUP(tblSalaries[[#This Row],[Currency]],tblXrate[],2,FALSE)","v":4095.8208381117906},"Process Assocaite","Analyst","India",{"$f":"VLOOKUP(tblSalaries[[#This Row],[Where do you work]],tblCountries[[Actual]:[Mapping]],2,FALSE)","v":"India"},"4 to 6 hours a day",1.6]
[null,"ID1475","2012-05-30T17:04:53","$AUD 125,000 +",125000,"AUD",{"$f":"tblSalaries[[#This Row],[clean Salary (in local currency)]]*VLOOKUP(tblSalaries[[#This Row],[Currency]],tblXrate[],2,FALSE)","v":127488.70705032947},"Financial Application Developer","Accountant","Australia",{"$f":"VLOOKUP(tblSalaries[[#This Row],[Where do you work]],tblCountries[[Actual]:[Mapping]],2,FALSE)","v":"Australia"},"4 to 6 hours a day",7]
[null,"ID1476","2012-05-30T17:07:47","Â£37000",37000,"GBP",{"$f":"tblSalaries[[#This Row],[clean Salary (in local currency)]]*VLOOKUP(tblSalaries[[#This Row],[Currency]],tblXrate[],2,FALSE)","v":58318.59606648951},"Planning & Scheduling Manager","Manager","UK",{"$f":"VLOOKUP(tblSalaries[[#This Row],[Where do you work]],tblCountries[[Actual]:[Mapping]],2,FALSE)","v":"UK"},"All the 8 hours baby, all the 8!",20]
[null,"ID1477","2012-05-30T17:14:27","ZAR6500",78000,"ZAR",{"$f":"tblSalaries[[#This Row],[clean Salary (in local currency)]]*VLOOKUP(tblSalaries[[#This Row],[Currency]],tblXrate[],2,FALSE)","v":9509.8988293070688},"Online Stats Controller","Controller","South Africa",{"$f":"VLOOKUP(tblSalaries[[#This Row],[Where do you work]],tblCountries[[Actual]:[Mapping]],2,FALSE)","v":"South Africa"},"4 to 6 hours a day",2]
[null,"ID1478","2012-05-30T17:18:38","INR 60000",720000,"INR",{"$f":"tblSalaries[[#This Row],[clean Salary (in local currency)]]*VLOOKUP(tblSalaries[[#This Row],[Currency]],tblXrate[],2,FALSE)","v":12821.700014958649},"DEO","Analyst","India",{"$f":"VLOOKUP(tblSalaries[[#This Row],[Where do you work]],tblCountries[[Actual]:[Mapping]],2,FALSE)","v":"India"},"4 to 6 hours a day",3]
[null,"ID1479","2012-05-30T18:15:28",4000,4000,"USD",{"$f":"tblSalaries[[#This Row],[clean Salary (in local currency)]]*VLOOKUP(tblSalaries[[#This Row],[Currency]],tblXrate[],2,FALSE)","v":4000},"M I S Executive","Analyst","India",{"$f":"VLOOKUP(tblSalaries[[#This Row],[Where do you work]],tblCountries[[Actual]:[Mapping]],2,FALSE)","v":"India"},"All the 8 hours baby, all the 8!",6]
[null,"ID1480","2012-05-30T18:16:05",42000,42000,"USD",{"$f":"tblSalaries[[#This Row],[clean Salary (in local currency)]]*VLOOKUP(tblSalaries[[#This Row],[Currency]],tblXrate[],2,FALSE)","v":42000},"Service Solution Rep","Analyst","USA",{"$f":"VLOOKUP(tblSalaries[[#This Row],[Where do you work]],tblCountries[[Actual]:[Mapping]],2,FALSE)","v":"USA"},"All the 8 hours baby, all the 8!",2]
[null,"ID1481","2012-05-30T18:47:17","US $ 3200",3200,"USD",{"$f":"tblSalaries[[#This Row],[clean Salary (in local currency)]]*VLOOKUP(tblSalaries[[#This Row],[Currency]],tblXrate[],2,FALSE)","v":3200},"Regional Business Manager ","Manager","India",{"$f":"VLOOKUP(tblSalaries[[#This Row],[Where do you work]],tblCountries[[Actual]:[Mapping]],2,FALSE)","v":"India"},"All the 8 hours baby, all the 8!",19]
[null,"ID1482","2012-05-30T18:51:57",60000,60000,"USD",{"$f":"tblSalaries[[#This Row],[clean Salary (in local currency)]]*VLOOKUP(tblSalaries[[#This Row],[Currency]],tblXrate[],2,FALSE)","v":60000},"sales&marketing","Analyst","turkey",{"$f":"VLOOKUP(tblSalaries[[#This Row],[Where do you work]],tblCountries[[Actual]:[Mapping]],2,FALSE)","v":"Turkey"},"2 to 3 hours per day",10]
[null,"ID1483","2012-05-30T19:01:20",85000,85000,"USD",{"$f":"tblSalaries[[#This Row],[clean Salary (in local currency)]]*VLOOKUP(tblSalaries[[#This Row],[Currency]],tblXrate[],2,FALSE)","v":85000},"sr analyst","Analyst","USA",{"$f":"VLOOKUP(tblSalaries[[#This Row],[Where do you work]],tblCountries[[Actual]:[Mapping]],2,FALSE)","v":"USA"},"4 to 6 hours a day",9]
[null,"ID1484","2012-05-30T19:04:44",109000,109000,"USD",{"$f":"tblSalaries[[#This Row],[clean Salary (in local currency)]]*VLOOKUP(tblSalaries[[#This Row],[Currency]],tblXrate[],2,FALSE)","v":109000},"Mgr Technology","Manager","USA",{"$f":"VLOOKUP(tblSalaries[[#This Row],[Where do you work]],tblCountries[[Actual]:[Mapping]],2,FALSE)","v":"USA"},"4 to 6 hours a day",15]
[null,"ID1485","2012-05-30T19:27:35","60000 Euros",60000,"EUR",{"$f":"tblSalaries[[#This Row],[clean Salary (in local currency)]]*VLOOKUP(tblSalaries[[#This Row],[Currency]],tblXrate[],2,FALSE)","v":76223.966339496474},"Sales Analyst","Analyst","Italy",{"$f":"VLOOKUP(tblSalaries[[#This Row],[Where do you work]],tblCountries[[Actual]:[Mapping]],2,FALSE)","v":"Italy"},"All the 8 hours baby, all the 8!",14]
[null,"ID1486","2012-05-30T19:42:50",77000,77000,"USD",{"$f":"tblSalaries[[#This Row],[clean Salary (in local currency)]]*VLOOKUP(tblSalaries[[#This Row],[Currency]],tblXrate[],2,FALSE)","v":77000},"Chemical Engineer","Engineer","USA",{"$f":"VLOOKUP(tblSalaries[[#This Row],[Where do you work]],tblCountries[[Actual]:[Mapping]],2,FALSE)","v":"USA"},"2 to 3 hours per day",13]
[null,"ID1487","2012-05-30T19:43:43",25000,25000,"USD",{"$f":"tblSalaries[[#This Row],[clean Salary (in local currency)]]*VLOOKUP(tblSalaries[[#This Row],[Currency]],tblXrate[],2,FALSE)","v":25000},"data analyst","Analyst","India",{"$f":"VLOOKUP(tblSalaries[[#This Row],[Where do you work]],tblCountries[[Actual]:[Mapping]],2,FALSE)","v":"India"},"All the 8 hours baby, all the 8!",4]
[null,"ID1488","2012-05-30T20:19:51",64000,64000,"USD",{"$f":"tblSalaries[[#This Row],[clean Salary (in local currency)]]*VLOOKUP(tblSalaries[[#This Row],[Currency]],tblXrate[],2,FALSE)","v":64000},"Program Manager","Manager","USA",{"$f":"VLOOKUP(tblSalaries[[#This Row],[Where do you work]],tblCountries[[Actual]:[Mapping]],2,FALSE)","v":"USA"},"2 to 3 hours per day",12]
[null,"ID1489","2012-05-30T20:26:10",146633,146633,"GBP",{"$f":"tblSalaries[[#This Row],[clean Salary (in local currency)]]*VLOOKUP(tblSalaries[[#This Row],[Currency]],tblXrate[],2,FALSE)","v":231119.74856804207},"Senior Planning Engineer","Engineer","UK",{"$f":"VLOOKUP(tblSalaries[[#This Row],[Where do you work]],tblCountries[[Actual]:[Mapping]],2,FALSE)","v":"UK"},"2 to 3 hours per day",10]
[null,"ID1490","2012-05-30T20:40:45",76000,76000,"USD",{"$f":"tblSalaries[[#This Row],[clean Salary (in local currency)]]*VLOOKUP(tblSalaries[[#This Row],[Currency]],tblXrate[],2,FALSE)","v":76000},"Sr. Analyst","Analyst","USA",{"$f":"VLOOKUP(tblSalaries[[#This Row],[Where do you work]],tblCountries[[Actual]:[Mapping]],2,FALSE)","v":"USA"},"All the 8 hours baby, all the 8!",10]
[null,"ID1491","2012-05-30T20:42:27",10000,10000,"GBP",{"$f":"tblSalaries[[#This Row],[clean Salary (in local currency)]]*VLOOKUP(tblSalaries[[#This Row],[Currency]],tblXrate[],2,FALSE)","v":15761.782720672842},"Analyst","Analyst","UK",{"$f":"VLOOKUP(tblSalaries[[#This Row],[Where do you work]],tblCountries[[Actual]:[Mapping]],2,FALSE)","v":"UK"},"2 to 3 hours per day",8]
[null,"ID1492","2012-05-30T20:42:47","AUD 165000",165000,"AUD",{"$f":"tblSalaries[[#This Row],[clean Salary (in local currency)]]*VLOOKUP(tblSalaries[[#This Row],[Currency]],tblXrate[],2,FALSE)","v":168285.09330643489},"Engineer","Engineer","Australia",{"$f":"VLOOKUP(tblSalaries[[#This Row],[Where do you work]],tblCountries[[Actual]:[Mapping]],2,FALSE)","v":"Australia"},"2 to 3 hours per day",17]
[null,"ID1493","2012-05-30T20:47:55","50000 US$",50000,"USD",{"$f":"tblSalaries[[#This Row],[clean Salary (in local currency)]]*VLOOKUP(tblSalaries[[#This Row],[Currency]],tblXrate[],2,FALSE)","v":50000},"Sr. Financial Analyst","Analyst","Kuwait",{"$f":"VLOOKUP(tblSalaries[[#This Row],[Where do you work]],tblCountries[[Actual]:[Mapping]],2,FALSE)","v":"Kuwait"},"4 to 6 hours a day",13]
[null,"ID1494","2012-05-30T20:53:12","7200 USD per year aprox",7200,"USD",{"$f":"tblSalaries[[#This Row],[clean Salary (in local currency)]]*VLOOKUP(tblSalaries[[#This Row],[Currency]],tblXrate[],2,FALSE)","v":7200},"control process auxiliary","Controller","Colombia",{"$f":"VLOOKUP(tblSalaries[[#This Row],[Where do you work]],tblCountries[[Actual]:[Mapping]],2,FALSE)","v":"Colombia"},"4 to 6 hours a day",8]
[null,"ID1495","2012-05-30T21:07:54",42000,42000,"EUR",{"$f":"tblSalaries[[#This Row],[clean Salary (in local currency)]]*VLOOKUP(tblSalaries[[#This Row],[Currency]],tblXrate[],2,FALSE)","v":53356.776437647524},"Business Intelligence Consultant","Consultant","Germany",{"$f":"VLOOKUP(tblSalaries[[#This Row],[Where do you work]],tblCountries[[Actual]:[Mapping]],2,FALSE)","v":"Germany"},"All the 8 hours baby, all the 8!",7]
[null,"ID1496","2012-05-30T21:19:31",45000,45000,"USD",{"$f":"tblSalaries[[#This Row],[clean Salary (in local currency)]]*VLOOKUP(tblSalaries[[#This Row],[Currency]],tblXrate[],2,FALSE)","v":45000},"Data Specialist","Specialist","USA",{"$f":"VLOOKUP(tblSalaries[[#This Row],[Where do you work]],tblCountries[[Actual]:[Mapping]],2,FALSE)","v":"USA"},"2 to 3 hours per day",10]
[null,"ID1497","2012-05-30T21:26:04",5000,5000,"USD",{"$f":"tblSalaries[[#This Row],[clean Salary (in local currency)]]*VLOOKUP(tblSalaries[[#This Row],[Currency]],tblXrate[],2,FALSE)","v":5000},"Officer MIS","Manager","India",{"$f":"VLOOKUP(tblSalaries[[#This Row],[Where do you work]],tblCountries[[Actual]:[Mapping]],2,FALSE)","v":"India"},"All the 8 hours baby, all the 8!",4]
[null,"ID1498","2012-05-30T21:45:06",74000,74000,"AUD",{"$f":"tblSalaries[[#This Row],[clean Salary (in local currency)]]*VLOOKUP(tblSalaries[[#This Row],[Currency]],tblXrate[],2,FALSE)","v":75473.31457379504},"operations Administrator","Analyst","Australia",{"$f":"VLOOKUP(tblSalaries[[#This Row],[Where do you work]],tblCountries[[Actual]:[Mapping]],2,FALSE)","v":"Australia"},"All the 8 hours baby, all the 8!",20]
[null,"ID1499","2012-05-30T22:11:21","15000 USD",15000,"USD",{"$f":"tblSalaries[[#This Row],[clean Salary (in local currency)]]*VLOOKUP(tblSalaries[[#This Row],[Currency]],tblXrate[],2,FALSE)","v":15000},"Manager","Manager","Romania",{"$f":"VLOOKUP(tblSalaries[[#This Row],[Where do you work]],tblCountries[[Actual]:[Mapping]],2,FALSE)","v":"Romania"},"2 to 3 hours per day",5]
[null,"ID1500","2012-05-30T22:31:33","33500 â‚¬",33500,"EUR",{"$f":"tblSalaries[[#This Row],[clean Salary (in local currency)]]*VLOOKUP(tblSalaries[[#This Row],[Currency]],tblXrate[],2,FALSE)","v":42558.381206218859},"Controller / VBA Developet","Controller","Germany",{"$f":"VLOOKUP(tblSalaries[[#This Row],[Where do you work]],tblCountries[[Actual]:[Mapping]],2,FALSE)","v":"Germany"},"All the 8 hours baby, all the 8!",8]
[null,"ID1501","2012-05-30T22:31:35","61K",61000,"USD",{"$f":"tblSalaries[[#This Row],[clean Salary (in local currency)]]*VLOOKUP(tblSalaries[[#This Row],[Currency]],tblXrate[],2,FALSE)","v":61000},"Financial Analyst","Analyst","USA",{"$f":"VLOOKUP(tblSalaries[[#This Row],[Where do you work]],tblCountries[[Actual]:[Mapping]],2,FALSE)","v":"USA"},"4 to 6 hours a day",5]
[null,"ID1502","2012-05-30T22:32:21",66000,66000,"USD",{"$f":"tblSalaries[[#This Row],[clean Salary (in local currency)]]*VLOOKUP(tblSalaries[[#This Row],[Currency]],tblXrate[],2,FALSE)","v":66000},"Director of Business Analytics","Analyst","USA",{"$f":"VLOOKUP(tblSalaries[[#This Row],[Where do you work]],tblCountries[[Actual]:[Mapping]],2,FALSE)","v":"USA"},"4 to 6 hours a day",2]
[null,"ID1503","2012-05-30T22:59:44","278000 PA",278000,"INR",{"$f":"tblSalaries[[#This Row],[clean Salary (in local currency)]]*VLOOKUP(tblSalaries[[#This Row],[Currency]],tblXrate[],2,FALSE)","v":4950.6008391090336},"MIS Executive","Reporting","India",{"$f":"VLOOKUP(tblSalaries[[#This Row],[Where do you work]],tblCountries[[Actual]:[Mapping]],2,FALSE)","v":"India"},"All the 8 hours baby, all the 8!",8]
[null,"ID1504","2012-05-30T23:01:48",55000,55000,"USD",{"$f":"tblSalaries[[#This Row],[clean Salary (in local currency)]]*VLOOKUP(tblSalaries[[#This Row],[Currency]],tblXrate[],2,FALSE)","v":55000},"Supplier Manager","Manager","USA",{"$f":"VLOOKUP(tblSalaries[[#This Row],[Where do you work]],tblCountries[[Actual]:[Mapping]],2,FALSE)","v":"USA"},"2 to 3 hours per day",14]
[null,"ID1505","2012-05-30T23:26:00",32000,32000,"USD",{"$f":"tblSalaries[[#This Row],[clean Salary (in local currency)]]*VLOOKUP(tblSalaries[[#This Row],[Currency]],tblXrate[],2,FALSE)","v":32000},"Reports Writer","Reporting","USA",{"$f":"VLOOKUP(tblSalaries[[#This Row],[Where do you work]],tblCountries[[Actual]:[Mapping]],2,FALSE)","v":"USA"},"4 to 6 hours a day",10]
[null,"ID1506","2012-05-30T23:29:58",18000,18000,"USD",{"$f":"tblSalaries[[#This Row],[clean Salary (in local currency)]]*VLOOKUP(tblSalaries[[#This Row],[Currency]],tblXrate[],2,FALSE)","v":18000},"Process Associate","Analyst","India",{"$f":"VLOOKUP(tblSalaries[[#This Row],[Where do you work]],tblCountries[[Actual]:[Mapping]],2,FALSE)","v":"India"},"All the 8 hours baby, all the 8!",6]
[null,"ID1507","2012-05-30T23:59:22","6.5 LAKHS",650000,"INR",{"$f":"tblSalaries[[#This Row],[clean Salary (in local currency)]]*VLOOKUP(tblSalaries[[#This Row],[Currency]],tblXrate[],2,FALSE)","v":11575.14584683767},"HR/ADMINISTRATION","Analyst","India",{"$f":"VLOOKUP(tblSalaries[[#This Row],[Where do you work]],tblCountries[[Actual]:[Mapping]],2,FALSE)","v":"India"},"4 to 6 hours a day",21]
[null,"ID1508","2012-05-31T00:36:30",50000,50000,"EUR",{"$f":"tblSalaries[[#This Row],[clean Salary (in local currency)]]*VLOOKUP(tblSalaries[[#This Row],[Currency]],tblXrate[],2,FALSE)","v":63519.971949580387},"accountant","Accountant","italy",{"$f":"VLOOKUP(tblSalaries[[#This Row],[Where do you work]],tblCountries[[Actual]:[Mapping]],2,FALSE)","v":"Italy"},"All the 8 hours baby, all the 8!",15]
[null,"ID1509","2012-05-31T00:46:55","4.00 lac",4000000,"INR",{"$f":"tblSalaries[[#This Row],[clean Salary (in local currency)]]*VLOOKUP(tblSalaries[[#This Row],[Currency]],tblXrate[],2,FALSE)","v":71231.666749770273},"Operational Specialist","Specialist","India",{"$f":"VLOOKUP(tblSalaries[[#This Row],[Where do you work]],tblCountries[[Actual]:[Mapping]],2,FALSE)","v":"India"},"All the 8 hours baby, all the 8!",5]
[null,"ID1510","2012-05-31T01:09:06","US$ 10000",10000,"USD",{"$f":"tblSalaries[[#This Row],[clean Salary (in local currency)]]*VLOOKUP(tblSalaries[[#This Row],[Currency]],tblXrate[],2,FALSE)","v":10000},"Trainee","Analyst","Brazil",{"$f":"VLOOKUP(tblSalaries[[#This Row],[Where do you work]],tblCountries[[Actual]:[Mapping]],2,FALSE)","v":"Brazil"},"4 to 6 hours a day",1]
[null,"ID1511","2012-05-31T01:17:16",74300,74300,"USD",{"$f":"tblSalaries[[#This Row],[clean Salary (in local currency)]]*VLOOKUP(tblSalaries[[#This Row],[Currency]],tblXrate[],2,FALSE)","v":74300},"Senior Business Research Analyst","Analyst","USA",{"$f":"VLOOKUP(tblSalaries[[#This Row],[Where do you work]],tblCountries[[Actual]:[Mapping]],2,FALSE)","v":"USA"},"4 to 6 hours a day",3]
[null,"ID1512","2012-05-31T01:17:48",1500000,1500000,"INR",{"$f":"tblSalaries[[#This Row],[clean Salary (in local currency)]]*VLOOKUP(tblSalaries[[#This Row],[Currency]],tblXrate[],2,FALSE)","v":26711.875031163851},"Senior Consultant - PMO","Consultant","India",{"$f":"VLOOKUP(tblSalaries[[#This Row],[Where do you work]],tblCountries[[Actual]:[Mapping]],2,FALSE)","v":"India"},"4 to 6 hours a day",10]
[null,"ID1513","2012-05-31T01:45:48","Rs 5,36,000",536000,"INR",{"$f":"tblSalaries[[#This Row],[clean Salary (in local currency)]]*VLOOKUP(tblSalaries[[#This Row],[Currency]],tblXrate[],2,FALSE)","v":9545.0433444692171},"Team Lead","Manager","India",{"$f":"VLOOKUP(tblSalaries[[#This Row],[Where do you work]],tblCountries[[Actual]:[Mapping]],2,FALSE)","v":"India"},"4 to 6 hours a day",4]
[null,"ID1514","2012-05-31T01:50:26",95000,95000,"USD",{"$f":"tblSalaries[[#This Row],[clean Salary (in local currency)]]*VLOOKUP(tblSalaries[[#This Row],[Currency]],tblXrate[],2,FALSE)","v":95000},"Sr Financial Analyst","Analyst","USA",{"$f":"VLOOKUP(tblSalaries[[#This Row],[Where do you work]],tblCountries[[Actual]:[Mapping]],2,FALSE)","v":"USA"},"4 to 6 hours a day",15]
[null,"ID1515","2012-05-31T02:24:37",64300,64300,"USD",{"$f":"tblSalaries[[#This Row],[clean Salary (in local currency)]]*VLOOKUP(tblSalaries[[#This Row],[Currency]],tblXrate[],2,FALSE)","v":64300},"Financial Analst","Accountant","USA",{"$f":"VLOOKUP(tblSalaries[[#This Row],[Where do you work]],tblCountries[[Actual]:[Mapping]],2,FALSE)","v":"USA"},"4 to 6 hours a day",15]
[null,"ID1516","2012-05-31T02:37:09",250000,250000,"USD",{"$f":"tblSalaries[[#This Row],[clean Salary (in local currency)]]*VLOOKUP(tblSalaries[[#This Row],[Currency]],tblXrate[],2,FALSE)","v":250000},"consultant","Consultant","USA",{"$f":"VLOOKUP(tblSalaries[[#This Row],[Where do you work]],tblCountries[[Actual]:[Mapping]],2,FALSE)","v":"USA"},"All the 8 hours baby, all the 8!",20]
[null,"ID1519","2012-05-31T03:07:09",89000,89000,"USD",{"$f":"tblSalaries[[#This Row],[clean Salary (in local currency)]]*VLOOKUP(tblSalaries[[#This Row],[Currency]],tblXrate[],2,FALSE)","v":89000},"Finance Manager","Manager","USA",{"$f":"VLOOKUP(tblSalaries[[#This Row],[Where do you work]],tblCountries[[Actual]:[Mapping]],2,FALSE)","v":"USA"},"2 to 3 hours per day",10]
[null,"ID1520","2012-05-31T04:12:19",75000,75000,"USD",{"$f":"tblSalaries[[#This Row],[clean Salary (in local currency)]]*VLOOKUP(tblSalaries[[#This Row],[Currency]],tblXrate[],2,FALSE)","v":75000},"Financial Analyst","Analyst","USA",{"$f":"VLOOKUP(tblSalaries[[#This Row],[Where do you work]],tblCountries[[Actual]:[Mapping]],2,FALSE)","v":"USA"},"All the 8 hours baby, all the 8!",1.5]
[null,"ID1521","2012-05-31T05:02:59",45000,45000,"USD",{"$f":"tblSalaries[[#This Row],[clean Salary (in local currency)]]*VLOOKUP(tblSalaries[[#This Row],[Currency]],tblXrate[],2,FALSE)","v":45000},"Excel Business Analyst","Analyst","USA",{"$f":"VLOOKUP(tblSalaries[[#This Row],[Where do you work]],tblCountries[[Actual]:[Mapping]],2,FALSE)","v":"USA"},"All the 8 hours baby, all the 8!",5]
[null,"ID1522","2012-05-31T05:23:58",127500,127500,"USD",{"$f":"tblSalaries[[#This Row],[clean Salary (in local currency)]]*VLOOKUP(tblSalaries[[#This Row],[Currency]],tblXrate[],2,FALSE)","v":127500},"SVP","CXO or Top Mgmt.","USA",{"$f":"VLOOKUP(tblSalaries[[#This Row],[Where do you work]],tblCountries[[Actual]:[Mapping]],2,FALSE)","v":"USA"},"All the 8 hours baby, all the 8!",22]
[null,"ID1523","2012-05-31T05:31:54",170000,170000,"USD",{"$f":"tblSalaries[[#This Row],[clean Salary (in local currency)]]*VLOOKUP(tblSalaries[[#This Row],[Currency]],tblXrate[],2,FALSE)","v":170000},"CFO","CXO or Top Mgmt.","USA",{"$f":"VLOOKUP(tblSalaries[[#This Row],[Where do you work]],tblCountries[[Actual]:[Mapping]],2,FALSE)","v":"USA"},"2 to 3 hours per day",18]
[null,"ID1524","2012-05-31T05:37:29",800,9600,"USD",{"$f":"tblSalaries[[#This Row],[clean Salary (in local currency)]]*VLOOKUP(tblSalaries[[#This Row],[Currency]],tblXrate[],2,FALSE)","v":9600},"Reporting Analyst","Analyst","Bolivia",{"$f":"VLOOKUP(tblSalaries[[#This Row],[Where do you work]],tblCountries[[Actual]:[Mapping]],2,FALSE)","v":"Bolivia"},"All the 8 hours baby, all the 8!",2]
[null,"ID1525","2012-05-31T06:13:42",62000,62000,"USD",{"$f":"tblSalaries[[#This Row],[clean Salary (in local currency)]]*VLOOKUP(tblSalaries[[#This Row],[Currency]],tblXrate[],2,FALSE)","v":62000},"info analyst","Analyst","USA",{"$f":"VLOOKUP(tblSalaries[[#This Row],[Where do you work]],tblCountries[[Actual]:[Mapping]],2,FALSE)","v":"USA"},"All the 8 hours baby, all the 8!",27]
[null,"ID1526","2012-05-31T06:23:09",22000,22000,"USD",{"$f":"tblSalaries[[#This Row],[clean Salary (in local currency)]]*VLOOKUP(tblSalaries[[#This Row],[Currency]],tblXrate[],2,FALSE)","v":22000},"Data Manager","Manager","USA",{"$f":"VLOOKUP(tblSalaries[[#This Row],[Where do you work]],tblCountries[[Actual]:[Mapping]],2,FALSE)","v":"USA"},"4 to 6 hours a day",3]
[null,"ID1527","2012-05-31T06:23:55",45000,45000,"USD",{"$f":"tblSalaries[[#This Row],[clean Salary (in local currency)]]*VLOOKUP(tblSalaries[[#This Row],[Currency]],tblXrate[],2,FALSE)","v":45000},"Business Analyst","Analyst","USA",{"$f":"VLOOKUP(tblSalaries[[#This Row],[Where do you work]],tblCountries[[Actual]:[Mapping]],2,FALSE)","v":"USA"},"4 to 6 hours a day",8]
[null,"ID1528","2012-05-31T07:17:36",145000,145000,"USD",{"$f":"tblSalaries[[#This Row],[clean Salary (in local currency)]]*VLOOKUP(tblSalaries[[#This Row],[Currency]],tblXrate[],2,FALSE)","v":145000},"Associate","Analyst","USA",{"$f":"VLOOKUP(tblSalaries[[#This Row],[Where do you work]],tblCountries[[Actual]:[Mapping]],2,FALSE)","v":"USA"},"4 to 6 hours a day",6]
[null,"ID1529","2012-05-31T08:20:03",89000,89000,"USD",{"$f":"tblSalaries[[#This Row],[clean Salary (in local currency)]]*VLOOKUP(tblSalaries[[#This Row],[Currency]],tblXrate[],2,FALSE)","v":89000},"BI Analyst","Analyst","USA",{"$f":"VLOOKUP(tblSalaries[[#This Row],[Where do you work]],tblCountries[[Actual]:[Mapping]],2,FALSE)","v":"USA"},"All the 8 hours baby, all the 8!",14]
[null,"ID1530","2012-05-31T09:28:05",38000,38000,"USD",{"$f":"tblSalaries[[#This Row],[clean Salary (in local currency)]]*VLOOKUP(tblSalaries[[#This Row],[Currency]],tblXrate[],2,FALSE)","v":38000},"Accountant","Accountant","USA",{"$f":"VLOOKUP(tblSalaries[[#This Row],[Where do you work]],tblCountries[[Actual]:[Mapping]],2,FALSE)","v":"USA"},"4 to 6 hours a day",11]
[null,"ID1531","2012-05-31T09:45:09",50000,50000,"CAD",{"$f":"tblSalaries[[#This Row],[clean Salary (in local currency)]]*VLOOKUP(tblSalaries[[#This Row],[Currency]],tblXrate[],2,FALSE)","v":49168.076151516347},"Business Analyst","Analyst","Canada",{"$f":"VLOOKUP(tblSalaries[[#This Row],[Where do you work]],tblCountries[[Actual]:[Mapping]],2,FALSE)","v":"Canada"},"4 to 6 hours a day",3]
[null,"ID1532","2012-05-31T10:29:42",500000,500000,"INR",{"$f":"tblSalaries[[#This Row],[clean Salary (in local currency)]]*VLOOKUP(tblSalaries[[#This Row],[Currency]],tblXrate[],2,FALSE)","v":8903.9583437212841},"Developer","Analyst","India",{"$f":"VLOOKUP(tblSalaries[[#This Row],[Where do you work]],tblCountries[[Actual]:[Mapping]],2,FALSE)","v":"India"},"4 to 6 hours a day",8]
[null,"ID1533","2012-05-31T10:33:07","10000 US$",10000,"USD",{"$f":"tblSalaries[[#This Row],[clean Salary (in local currency)]]*VLOOKUP(tblSalaries[[#This Row],[Currency]],tblXrate[],2,FALSE)","v":10000},"Project management","Manager","Vietnam",{"$f":"VLOOKUP(tblSalaries[[#This Row],[Where do you work]],tblCountries[[Actual]:[Mapping]],2,FALSE)","v":"Vietnam"},"2 to 3 hours per day",8]
[null,"ID1534","2012-05-31T10:37:38",105000,105000,"USD",{"$f":"tblSalaries[[#This Row],[clean Salary (in local currency)]]*VLOOKUP(tblSalaries[[#This Row],[Currency]],tblXrate[],2,FALSE)","v":105000},"Business Banker","Manager","USA",{"$f":"VLOOKUP(tblSalaries[[#This Row],[Where do you work]],tblCountries[[Actual]:[Mapping]],2,FALSE)","v":"USA"},"1 or 2 hours a day",30]
[null,"ID1535","2012-05-31T10:54:48",1000,12000,"USD",{"$f":"tblSalaries[[#This Row],[clean Salary (in local currency)]]*VLOOKUP(tblSalaries[[#This Row],[Currency]],tblXrate[],2,FALSE)","v":12000},"Associate Analyst","Analyst","MYS",{"$f":"VLOOKUP(tblSalaries[[#This Row],[Where do you work]],tblCountries[[Actual]:[Mapping]],2,FALSE)","v":"Malaysia"},"2 to 3 hours per day",0]
[null,"ID1536","2012-05-31T11:08:38","Rs. 200000/-",200000,"INR",{"$f":"tblSalaries[[#This Row],[clean Salary (in local currency)]]*VLOOKUP(tblSalaries[[#This Row],[Currency]],tblXrate[],2,FALSE)","v":3561.5833374885137},"Accounts Executive","Accountant","India",{"$f":"VLOOKUP(tblSalaries[[#This Row],[Where do you work]],tblCountries[[Actual]:[Mapping]],2,FALSE)","v":"India"},"All the 8 hours baby, all the 8!",3]
[null,"ID1537","2012-05-31T13:25:49","85,000 AUD",85000,"AUD",{"$f":"tblSalaries[[#This Row],[clean Salary (in local currency)]]*VLOOKUP(tblSalaries[[#This Row],[Currency]],tblXrate[],2,FALSE)","v":86692.320794224041},"Demand Planner","Analyst","Australia",{"$f":"VLOOKUP(tblSalaries[[#This Row],[Where do you work]],tblCountries[[Actual]:[Mapping]],2,FALSE)","v":"Australia"},"1 or 2 hours a day",5]
[null,"ID1539","2012-05-31T16:00:16",8000,8000,"USD",{"$f":"tblSalaries[[#This Row],[clean Salary (in local currency)]]*VLOOKUP(tblSalaries[[#This Row],[Currency]],tblXrate[],2,FALSE)","v":8000},"Owner","CXO or Top Mgmt.","India",{"$f":"VLOOKUP(tblSalaries[[#This Row],[Where do you work]],tblCountries[[Actual]:[Mapping]],2,FALSE)","v":"India"},"4 to 6 hours a day",18]
[null,"ID1540","2012-05-31T16:10:28","Rs. 380000",380000,"INR",{"$f":"tblSalaries[[#This Row],[clean Salary (in local currency)]]*VLOOKUP(tblSalaries[[#This Row],[Currency]],tblXrate[],2,FALSE)","v":6767.0083412281756},"reporting analyst","Analyst","India",{"$f":"VLOOKUP(tblSalaries[[#This Row],[Where do you work]],tblCountries[[Actual]:[Mapping]],2,FALSE)","v":"India"},"2 to 3 hours per day",6]
[null,"ID1541","2012-05-31T16:16:11","Â£30500",30500,"GBP",{"$f":"tblSalaries[[#This Row],[clean Salary (in local currency)]]*VLOOKUP(tblSalaries[[#This Row],[Currency]],tblXrate[],2,FALSE)","v":48073.437298052166},"Construction Estimator","Consultant","UK",{"$f":"VLOOKUP(tblSalaries[[#This Row],[Where do you work]],tblCountries[[Actual]:[Mapping]],2,FALSE)","v":"UK"},"4 to 6 hours a day",14]
[null,"ID1542","2012-05-31T16:25:23","60K â‚¬",60000,"EUR",{"$f":"tblSalaries[[#This Row],[clean Salary (in local currency)]]*VLOOKUP(tblSalaries[[#This Row],[Currency]],tblXrate[],2,FALSE)","v":76223.966339496474},"Trade Marketing","Manager","NL",{"$f":"VLOOKUP(tblSalaries[[#This Row],[Where do you work]],tblCountries[[Actual]:[Mapping]],2,FALSE)","v":"Netherlands"},"2 to 3 hours per day",15]
[null,"ID1543","2012-05-31T16:25:24",320000,320000,"SAR",{"$f":"tblSalaries[[#This Row],[clean Salary (in local currency)]]*VLOOKUP(tblSalaries[[#This Row],[Currency]],tblXrate[],2,FALSE)","v":85333.333333333328},"Merchandise Planning Manager","Manager","Saudi Arabia",{"$f":"VLOOKUP(tblSalaries[[#This Row],[Where do you work]],tblCountries[[Actual]:[Mapping]],2,FALSE)","v":"Saudi Arabia"},"2 to 3 hours per day",15]
[null,"ID1544","2012-05-31T16:30:09",48360,48360,"GBP",{"$f":"tblSalaries[[#This Row],[clean Salary (in local currency)]]*VLOOKUP(tblSalaries[[#This Row],[Currency]],tblXrate[],2,FALSE)","v":76223.981237173866},"pricing manager","Manager","UK",{"$f":"VLOOKUP(tblSalaries[[#This Row],[Where do you work]],tblCountries[[Actual]:[Mapping]],2,FALSE)","v":"UK"},"All the 8 hours baby, all the 8!",8]
[null,"ID1545","2012-05-31T17:08:59",30000,30000,"USD",{"$f":"tblSalaries[[#This Row],[clean Salary (in local currency)]]*VLOOKUP(tblSalaries[[#This Row],[Currency]],tblXrate[],2,FALSE)","v":30000},"Marketing Services Manager","Manager","Pakistan",{"$f":"VLOOKUP(tblSalaries[[#This Row],[Where do you work]],tblCountries[[Actual]:[Mapping]],2,FALSE)","v":"Pakistan"},"4 to 6 hours a day",5]
[null,"ID1546","2012-05-31T17:21:45",34000,34000,"USD",{"$f":"tblSalaries[[#This Row],[clean Salary (in local currency)]]*VLOOKUP(tblSalaries[[#This Row],[Currency]],tblXrate[],2,FALSE)","v":34000},"Sr Analyst","Analyst","India",{"$f":"VLOOKUP(tblSalaries[[#This Row],[Where do you work]],tblCountries[[Actual]:[Mapping]],2,FALSE)","v":"India"},"All the 8 hours baby, all the 8!",4]
[null,"ID1547","2012-05-31T17:34:34","Rs. 180000",180000,"INR",{"$f":"tblSalaries[[#This Row],[clean Salary (in local currency)]]*VLOOKUP(tblSalaries[[#This Row],[Currency]],tblXrate[],2,FALSE)","v":3205.4250037396623},"Asst Store Manager","Manager","India",{"$f":"VLOOKUP(tblSalaries[[#This Row],[Where do you work]],tblCountries[[Actual]:[Mapping]],2,FALSE)","v":"India"},"4 to 6 hours a day",5]
[null,"ID1548","2012-05-31T17:35:33","45.000 USD",45000,"USD",{"$f":"tblSalaries[[#This Row],[clean Salary (in local currency)]]*VLOOKUP(tblSalaries[[#This Row],[Currency]],tblXrate[],2,FALSE)","v":45000},"Junior Reporting Manager","Manager","Germany",{"$f":"VLOOKUP(tblSalaries[[#This Row],[Where do you work]],tblCountries[[Actual]:[Mapping]],2,FALSE)","v":"Germany"},"2 to 3 hours per day",5]
[null,"ID1549","2012-05-31T18:35:30",24864,24864,"USD",{"$f":"tblSalaries[[#This Row],[clean Salary (in local currency)]]*VLOOKUP(tblSalaries[[#This Row],[Currency]],tblXrate[],2,FALSE)","v":24864},"Brand manager","Manager","Libya",{"$f":"VLOOKUP(tblSalaries[[#This Row],[Where do you work]],tblCountries[[Actual]:[Mapping]],2,FALSE)","v":"Libya"},"All the 8 hours baby, all the 8!",8]
[null,"ID1550","2012-05-31T19:51:29","Â£30000",30000,"GBP",{"$f":"tblSalaries[[#This Row],[clean Salary (in local currency)]]*VLOOKUP(tblSalaries[[#This Row],[Currency]],tblXrate[],2,FALSE)","v":47285.348162018527},"Cost Analyst","Analyst","UK",{"$f":"VLOOKUP(tblSalaries[[#This Row],[Where do you work]],tblCountries[[Actual]:[Mapping]],2,FALSE)","v":"UK"},"4 to 6 hours a day",7]
[null,"ID1551","2012-05-31T20:13:27",1000000,1000000,"INR",{"$f":"tblSalaries[[#This Row],[clean Salary (in local currency)]]*VLOOKUP(tblSalaries[[#This Row],[Currency]],tblXrate[],2,FALSE)","v":17807.916687442568},"Financial analyst","Analyst","India",{"$f":"VLOOKUP(tblSalaries[[#This Row],[Where do you work]],tblCountries[[Actual]:[Mapping]],2,FALSE)","v":"India"},"All the 8 hours baby, all the 8!",10]
[null,"ID1552","2012-05-31T20:14:20","Â£35000",35000,"GBP",{"$f":"tblSalaries[[#This Row],[clean Salary (in local currency)]]*VLOOKUP(tblSalaries[[#This Row],[Currency]],tblXrate[],2,FALSE)","v":55166.239522354947},"Research Analyst","Analyst","UK",{"$f":"VLOOKUP(tblSalaries[[#This Row],[Where do you work]],tblCountries[[Actual]:[Mapping]],2,FALSE)","v":"UK"},"4 to 6 hours a day",3]
[null,"ID1553","2012-05-31T21:05:02","55000 EUR",55000,"EUR",{"$f":"tblSalaries[[#This Row],[clean Salary (in local currency)]]*VLOOKUP(tblSalaries[[#This Row],[Currency]],tblXrate[],2,FALSE)","v":69871.969144538423},"Risk Officer","Manager","The Netherlands",{"$f":"VLOOKUP(tblSalaries[[#This Row],[Where do you work]],tblCountries[[Actual]:[Mapping]],2,FALSE)","v":"Netherlands"},"1 or 2 hours a day",5]
[null,"ID1554","2012-05-31T21:06:45",70970,70970,"USD",{"$f":"tblSalaries[[#This Row],[clean Salary (in local currency)]]*VLOOKUP(tblSalaries[[#This Row],[Currency]],tblXrate[],2,FALSE)","v":70970},"Sr. Risk Analyst","Analyst","USA",{"$f":"VLOOKUP(tblSalaries[[#This Row],[Where do you work]],tblCountries[[Actual]:[Mapping]],2,FALSE)","v":"USA"},"4 to 6 hours a day",17]
[null,"ID1555","2012-05-31T21:45:03","60000 EUR",60000,"EUR",{"$f":"tblSalaries[[#This Row],[clean Salary (in local currency)]]*VLOOKUP(tblSalaries[[#This Row],[Currency]],tblXrate[],2,FALSE)","v":76223.966339496474},"Business Engineer","Engineer","Netherlands",{"$f":"VLOOKUP(tblSalaries[[#This Row],[Where do you work]],tblCountries[[Actual]:[Mapping]],2,FALSE)","v":"Netherlands"},"4 to 6 hours a day",7]
[null,"ID1556","2012-05-31T21:47:37",110000,110000,"USD",{"$f":"tblSalaries[[#This Row],[clean Salary (in local currency)]]*VLOOKUP(tblSalaries[[#This Row],[Currency]],tblXrate[],2,FALSE)","v":110000},"Business Controller","Controller","Norway",{"$f":"VLOOKUP(tblSalaries[[#This Row],[Where do you work]],tblCountries[[Actual]:[Mapping]],2,FALSE)","v":"Norway"},"All the 8 hours baby, all the 8!",5]
[null,"ID1557","2012-05-31T21:48:35",1200,14400,"USD",{"$f":"tblSalaries[[#This Row],[clean Salary (in local currency)]]*VLOOKUP(tblSalaries[[#This Row],[Currency]],tblXrate[],2,FALSE)","v":14400},"FA /financial Analyst","Analyst","Bulgaria",{"$f":"VLOOKUP(tblSalaries[[#This Row],[Where do you work]],tblCountries[[Actual]:[Mapping]],2,FALSE)","v":"Bulgaria"},"All the 8 hours baby, all the 8!",15]
[null,"ID1558","2012-05-31T22:05:03",125000,125000,"USD",{"$f":"tblSalaries[[#This Row],[clean Salary (in local currency)]]*VLOOKUP(tblSalaries[[#This Row],[Currency]],tblXrate[],2,FALSE)","v":125000},"Consultant","Consultant","USA",{"$f":"VLOOKUP(tblSalaries[[#This Row],[Where do you work]],tblCountries[[Actual]:[Mapping]],2,FALSE)","v":"USA"},"All the 8 hours baby, all the 8!",8]
[null,"ID1559","2012-05-31T22:06:59",74000,74000,"CAD",{"$f":"tblSalaries[[#This Row],[clean Salary (in local currency)]]*VLOOKUP(tblSalaries[[#This Row],[Currency]],tblXrate[],2,FALSE)","v":72768.752704244194},"Operations Analyst","Analyst","Canada",{"$f":"VLOOKUP(tblSalaries[[#This Row],[Where do you work]],tblCountries[[Actual]:[Mapping]],2,FALSE)","v":"Canada"},"4 to 6 hours a day",10]
[null,"ID1560","2012-05-31T22:56:21","$59,000 USD",59000,"USD",{"$f":"tblSalaries[[#This Row],[clean Salary (in local currency)]]*VLOOKUP(tblSalaries[[#This Row],[Currency]],tblXrate[],2,FALSE)","v":59000},"Operations Manager","Manager","USA",{"$f":"VLOOKUP(tblSalaries[[#This Row],[Where do you work]],tblCountries[[Actual]:[Mapping]],2,FALSE)","v":"USA"},"4 to 6 hours a day",15]
[null,"ID1561","2012-05-31T23:08:12",71500,71500,"USD",{"$f":"tblSalaries[[#This Row],[clean Salary (in local currency)]]*VLOOKUP(tblSalaries[[#This Row],[Currency]],tblXrate[],2,FALSE)","v":71500},"Management Reporting Analyst","Analyst","USA",{"$f":"VLOOKUP(tblSalaries[[#This Row],[Where do you work]],tblCountries[[Actual]:[Mapping]],2,FALSE)","v":"USA"},"4 to 6 hours a day",5]
[null,"ID1562","2012-05-31T23:09:08","Â£25000",25000,"GBP",{"$f":"tblSalaries[[#This Row],[clean Salary (in local currency)]]*VLOOKUP(tblSalaries[[#This Row],[Currency]],tblXrate[],2,FALSE)","v":39404.456801682099},"Reporting Team Lead","Reporting","UK",{"$f":"VLOOKUP(tblSalaries[[#This Row],[Where do you work]],tblCountries[[Actual]:[Mapping]],2,FALSE)","v":"UK"},"4 to 6 hours a day",2]
[null,"ID1563","2012-05-31T23:10:44","70000 â‚¬",70000,"EUR",{"$f":"tblSalaries[[#This Row],[clean Salary (in local currency)]]*VLOOKUP(tblSalaries[[#This Row],[Currency]],tblXrate[],2,FALSE)","v":88927.960729412545},"Specialist Learning Technology","Specialist","Germany",{"$f":"VLOOKUP(tblSalaries[[#This Row],[Where do you work]],tblCountries[[Actual]:[Mapping]],2,FALSE)","v":"Germany"},"1 or 2 hours a day",5]
[null,"ID1564","2012-05-31T23:48:36","USD90,000",90000,"USD",{"$f":"tblSalaries[[#This Row],[clean Salary (in local currency)]]*VLOOKUP(tblSalaries[[#This Row],[Currency]],tblXrate[],2,FALSE)","v":90000},"Operationsl Regional Manager","Manager","USA",{"$f":"VLOOKUP(tblSalaries[[#This Row],[Where do you work]],tblCountries[[Actual]:[Mapping]],2,FALSE)","v":"USA"},"4 to 6 hours a day",25]
[null,"ID1565","2012-06-01T00:02:34","Rs. 700000",700000,"INR",{"$f":"tblSalaries[[#This Row],[clean Salary (in local currency)]]*VLOOKUP(tblSalaries[[#This Row],[Currency]],tblXrate[],2,FALSE)","v":12465.541681209797},"Manager - Business Development","Manager","India",{"$f":"VLOOKUP(tblSalaries[[#This Row],[Where do you work]],tblCountries[[Actual]:[Mapping]],2,FALSE)","v":"India"},"All the 8 hours baby, all the 8!",30]
[null,"ID1566","2012-06-01T00:18:35","$40,000 USD",40000,"USD",{"$f":"tblSalaries[[#This Row],[clean Salary (in local currency)]]*VLOOKUP(tblSalaries[[#This Row],[Currency]],tblXrate[],2,FALSE)","v":40000},"QA Data Analyst","Analyst","USA",{"$f":"VLOOKUP(tblSalaries[[#This Row],[Where do you work]],tblCountries[[Actual]:[Mapping]],2,FALSE)","v":"USA"},"4 to 6 hours a day",8]
[null,"ID1567","2012-06-01T00:23:54",30000,30000,"USD",{"$f":"tblSalaries[[#This Row],[clean Salary (in local currency)]]*VLOOKUP(tblSalaries[[#This Row],[Currency]],tblXrate[],2,FALSE)","v":30000},"SME","Analyst","India",{"$f":"VLOOKUP(tblSalaries[[#This Row],[Where do you work]],tblCountries[[Actual]:[Mapping]],2,FALSE)","v":"India"},"All the 8 hours baby, all the 8!",4]
[null,"ID1569","2012-06-01T01:29:02",46325,46325,"USD",{"$f":"tblSalaries[[#This Row],[clean Salary (in local currency)]]*VLOOKUP(tblSalaries[[#This Row],[Currency]],tblXrate[],2,FALSE)","v":46325},"Work Force Scheduler for Call Center","Controller","USA",{"$f":"VLOOKUP(tblSalaries[[#This Row],[Where do you work]],tblCountries[[Actual]:[Mapping]],2,FALSE)","v":"USA"},"4 to 6 hours a day",1]
[null,"ID1570","2012-06-01T01:47:43",15000,15000,"USD",{"$f":"tblSalaries[[#This Row],[clean Salary (in local currency)]]*VLOOKUP(tblSalaries[[#This Row],[Currency]],tblXrate[],2,FALSE)","v":15000},"Application Developer","Analyst","USA",{"$f":"VLOOKUP(tblSalaries[[#This Row],[Where do you work]],tblCountries[[Actual]:[Mapping]],2,FALSE)","v":"USA"},"All the 8 hours baby, all the 8!",8]
[null,"ID1571","2012-06-01T02:33:02",31200,31200,"USD",{"$f":"tblSalaries[[#This Row],[clean Salary (in local currency)]]*VLOOKUP(tblSalaries[[#This Row],[Currency]],tblXrate[],2,FALSE)","v":31200},"Data Analyst","Analyst","USA",{"$f":"VLOOKUP(tblSalaries[[#This Row],[Where do you work]],tblCountries[[Actual]:[Mapping]],2,FALSE)","v":"USA"},"4 to 6 hours a day",15]
[null,"ID1572","2012-06-01T02:46:21","Rs. 500000",500000,"INR",{"$f":"tblSalaries[[#This Row],[clean Salary (in local currency)]]*VLOOKUP(tblSalaries[[#This Row],[Currency]],tblXrate[],2,FALSE)","v":8903.9583437212841},"Sr. Associate","Analyst","India",{"$f":"VLOOKUP(tblSalaries[[#This Row],[Where do you work]],tblCountries[[Actual]:[Mapping]],2,FALSE)","v":"India"},"4 to 6 hours a day",9]
[null,"ID1573","2012-06-01T03:01:04",1320,15840,"USD",{"$f":"tblSalaries[[#This Row],[clean Salary (in local currency)]]*VLOOKUP(tblSalaries[[#This Row],[Currency]],tblXrate[],2,FALSE)","v":15840},"Asistente","Analyst","Peru",{"$f":"VLOOKUP(tblSalaries[[#This Row],[Where do you work]],tblCountries[[Actual]:[Mapping]],2,FALSE)","v":"Peru"},"All the 8 hours baby, all the 8!",8]
[null,"ID1574","2012-06-01T03:07:31","INR 850000",850000,"INR",{"$f":"tblSalaries[[#This Row],[clean Salary (in local currency)]]*VLOOKUP(tblSalaries[[#This Row],[Currency]],tblXrate[],2,FALSE)","v":15136.729184326183},"Sr Business analyst","Analyst","India",{"$f":"VLOOKUP(tblSalaries[[#This Row],[Where do you work]],tblCountries[[Actual]:[Mapping]],2,FALSE)","v":"India"},"4 to 6 hours a day",5]
[null,"ID1575","2012-06-01T04:10:52",41000,41000,"USD",{"$f":"tblSalaries[[#This Row],[clean Salary (in local currency)]]*VLOOKUP(tblSalaries[[#This Row],[Currency]],tblXrate[],2,FALSE)","v":41000},"Excel Developer","Consultant","USA",{"$f":"VLOOKUP(tblSalaries[[#This Row],[Where do you work]],tblCountries[[Actual]:[Mapping]],2,FALSE)","v":"USA"},"4 to 6 hours a day",10]
[null,"ID1576","2012-06-01T04:44:29",11000,11000,"USD",{"$f":"tblSalaries[[#This Row],[clean Salary (in local currency)]]*VLOOKUP(tblSalaries[[#This Row],[Currency]],tblXrate[],2,FALSE)","v":11000},"Coordinator","Manager","MÃ©xico",{"$f":"VLOOKUP(tblSalaries[[#This Row],[Where do you work]],tblCountries[[Actual]:[Mapping]],2,FALSE)","v":"Mexico"},"4 to 6 hours a day",2]
[null,"ID1577","2012-06-01T05:32:31","35000 GBP",35000,"GBP",{"$f":"tblSalaries[[#This Row],[clean Salary (in local currency)]]*VLOOKUP(tblSalaries[[#This Row],[Currency]],tblXrate[],2,FALSE)","v":55166.239522354947},"finance director","CXO or Top Mgmt.","UK",{"$f":"VLOOKUP(tblSalaries[[#This Row],[Where do you work]],tblCountries[[Actual]:[Mapping]],2,FALSE)","v":"UK"},"2 to 3 hours per day",30]
[null,"ID1578","2012-06-01T05:37:32",240000,240000,"PHP",{"$f":"tblSalaries[[#This Row],[clean Salary (in local currency)]]*VLOOKUP(tblSalaries[[#This Row],[Currency]],tblXrate[],2,FALSE)","v":5689.2125418690484},"IT Coordinator","Manager","Philippines",{"$f":"VLOOKUP(tblSalaries[[#This Row],[Where do you work]],tblCountries[[Actual]:[Mapping]],2,FALSE)","v":"Philippines"},"4 to 6 hours a day",15]
[null,"ID1579","2012-06-01T05:52:11",17728.57,17728,"USD",{"$f":"tblSalaries[[#This Row],[clean Salary (in local currency)]]*VLOOKUP(tblSalaries[[#This Row],[Currency]],tblXrate[],2,FALSE)","v":17728},"Financial analyst","Analyst","Mexico",{"$f":"VLOOKUP(tblSalaries[[#This Row],[Where do you work]],tblCountries[[Actual]:[Mapping]],2,FALSE)","v":"Mexico"},"4 to 6 hours a day",3]
[null,"ID1580","2012-06-01T05:56:20","120000 MAD",120000,"MAD",{"$f":"tblSalaries[[#This Row],[clean Salary (in local currency)]]*VLOOKUP(tblSalaries[[#This Row],[Currency]],tblXrate[],2,FALSE)","v":13745.704467353951},"Supply chain Controller","Controller","Morocco",{"$f":"VLOOKUP(tblSalaries[[#This Row],[Where do you work]],tblCountries[[Actual]:[Mapping]],2,FALSE)","v":"Morocco"},"All the 8 hours baby, all the 8!",8]
[null,"ID1581","2012-06-01T06:17:19",50000,50000,"USD",{"$f":"tblSalaries[[#This Row],[clean Salary (in local currency)]]*VLOOKUP(tblSalaries[[#This Row],[Currency]],tblXrate[],2,FALSE)","v":50000},"Staff Accountant","Accountant","USA",{"$f":"VLOOKUP(tblSalaries[[#This Row],[Where do you work]],tblCountries[[Actual]:[Mapping]],2,FALSE)","v":"USA"},"4 to 6 hours a day",15]
[null,"ID1582","2012-06-01T06:31:49",80000,80000,"CAD",{"$f":"tblSalaries[[#This Row],[clean Salary (in local currency)]]*VLOOKUP(tblSalaries[[#This Row],[Currency]],tblXrate[],2,FALSE)","v":78668.921842426149},"Business Operations Analyst","Analyst","Canada",{"$f":"VLOOKUP(tblSalaries[[#This Row],[Where do you work]],tblCountries[[Actual]:[Mapping]],2,FALSE)","v":"Canada"},"4 to 6 hours a day",7]
[null,"ID1583","2012-06-01T06:53:52",85000,85000,"USD",{"$f":"tblSalaries[[#This Row],[clean Salary (in local currency)]]*VLOOKUP(tblSalaries[[#This Row],[Currency]],tblXrate[],2,FALSE)","v":85000},"Sr Report Developer","Reporting","USA",{"$f":"VLOOKUP(tblSalaries[[#This Row],[Where do you work]],tblCountries[[Actual]:[Mapping]],2,FALSE)","v":"USA"},"4 to 6 hours a day",10]
[null,"ID1584","2012-06-01T07:22:36",100000,100000,"AUD",{"$f":"tblSalaries[[#This Row],[clean Salary (in local currency)]]*VLOOKUP(tblSalaries[[#This Row],[Currency]],tblXrate[],2,FALSE)","v":101990.96564026357},"Management Accountant","Manager","Australia",{"$f":"VLOOKUP(tblSalaries[[#This Row],[Where do you work]],tblCountries[[Actual]:[Mapping]],2,FALSE)","v":"Australia"},"4 to 6 hours a day",20]
[null,"ID1585","2012-06-01T08:06:34","5.65 lac per annum",5650000,"INR",{"$f":"tblSalaries[[#This Row],[clean Salary (in local currency)]]*VLOOKUP(tblSalaries[[#This Row],[Currency]],tblXrate[],2,FALSE)","v":100614.72928405051},"MIS","Reporting","India",{"$f":"VLOOKUP(tblSalaries[[#This Row],[Where do you work]],tblCountries[[Actual]:[Mapping]],2,FALSE)","v":"India"},"2 to 3 hours per day",6]
[null,"ID1586","2012-06-01T08:52:31",85000,85000,"AUD",{"$f":"tblSalaries[[#This Row],[clean Salary (in local currency)]]*VLOOKUP(tblSalaries[[#This Row],[Currency]],tblXrate[],2,FALSE)","v":86692.320794224041},"Administrator","Analyst","Australia",{"$f":"VLOOKUP(tblSalaries[[#This Row],[Where do you work]],tblCountries[[Actual]:[Mapping]],2,FALSE)","v":"Australia"},"4 to 6 hours a day",30]
[null,"ID1587","2012-06-01T10:55:27","AU $120000",120000,"AUD",{"$f":"tblSalaries[[#This Row],[clean Salary (in local currency)]]*VLOOKUP(tblSalaries[[#This Row],[Currency]],tblXrate[],2,FALSE)","v":122389.15876831629},"Reporting Analyst","Analyst","Australia",{"$f":"VLOOKUP(tblSalaries[[#This Row],[Where do you work]],tblCountries[[Actual]:[Mapping]],2,FALSE)","v":"Australia"},"2 to 3 hours per day",5]
[null,"ID1588","2012-06-01T10:57:59","30000 Rs",360000,"INR",{"$f":"tblSalaries[[#This Row],[clean Salary (in local currency)]]*VLOOKUP(tblSalaries[[#This Row],[Currency]],tblXrate[],2,FALSE)","v":6410.8500074793246},"team leader ","Manager","India",{"$f":"VLOOKUP(tblSalaries[[#This Row],[Where do you work]],tblCountries[[Actual]:[Mapping]],2,FALSE)","v":"India"},"2 to 3 hours per day",8]
[null,"ID1589","2012-06-01T13:03:18",44000,44000,"USD",{"$f":"tblSalaries[[#This Row],[clean Salary (in local currency)]]*VLOOKUP(tblSalaries[[#This Row],[Currency]],tblXrate[],2,FALSE)","v":44000},"Quality Assurance Analyst","Analyst","USA",{"$f":"VLOOKUP(tblSalaries[[#This Row],[Where do you work]],tblCountries[[Actual]:[Mapping]],2,FALSE)","v":"USA"},"4 to 6 hours a day",3.5]
[null,"ID1590","2012-06-01T14:32:41",250000,250000,"INR",{"$f":"tblSalaries[[#This Row],[clean Salary (in local currency)]]*VLOOKUP(tblSalaries[[#This Row],[Currency]],tblXrate[],2,FALSE)","v":4451.9791718606421},"Analytics engineer","Engineer","India",{"$f":"VLOOKUP(tblSalaries[[#This Row],[Where do you work]],tblCountries[[Actual]:[Mapping]],2,FALSE)","v":"India"},"4 to 6 hours a day",2.5]
[null,"ID1591","2012-06-01T14:50:41",4500,4500,"USD",{"$f":"tblSalaries[[#This Row],[clean Salary (in local currency)]]*VLOOKUP(tblSalaries[[#This Row],[Currency]],tblXrate[],2,FALSE)","v":4500},"Assistant Manger Service Quality Assurance","Analyst","Pakistan",{"$f":"VLOOKUP(tblSalaries[[#This Row],[Where do you work]],tblCountries[[Actual]:[Mapping]],2,FALSE)","v":"Pakistan"},"4 to 6 hours a day",6]
[null,"ID1592","2012-06-01T15:09:27",1700000,1700000,"INR",{"$f":"tblSalaries[[#This Row],[clean Salary (in local currency)]]*VLOOKUP(tblSalaries[[#This Row],[Currency]],tblXrate[],2,FALSE)","v":30273.458368652366},"AVP","CXO or Top Mgmt.","India",{"$f":"VLOOKUP(tblSalaries[[#This Row],[Where do you work]],tblCountries[[Actual]:[Mapping]],2,FALSE)","v":"India"},"4 to 6 hours a day",6]
[null,"ID1593","2012-06-01T15:39:20","U$52,000/annual",52000,"USD",{"$f":"tblSalaries[[#This Row],[clean Salary (in local currency)]]*VLOOKUP(tblSalaries[[#This Row],[Currency]],tblXrate[],2,FALSE)","v":52000},"Planner","Analyst","USA",{"$f":"VLOOKUP(tblSalaries[[#This Row],[Where do you work]],tblCountries[[Actual]:[Mapping]],2,FALSE)","v":"USA"},"All the 8 hours baby, all the 8!",5]
[null,"ID1594","2012-06-01T18:08:07","75000 $",75000,"USD",{"$f":"tblSalaries[[#This Row],[clean Salary (in local currency)]]*VLOOKUP(tblSalaries[[#This Row],[Currency]],tblXrate[],2,FALSE)","v":75000},"Consultant","Consultant","Germany",{"$f":"VLOOKUP(tblSalaries[[#This Row],[Where do you work]],tblCountries[[Actual]:[Mapping]],2,FALSE)","v":"Germany"},"2 to 3 hours per day",9]
[null,"ID1595","2012-06-01T18:18:31","Rs 1000000",1000000,"INR",{"$f":"tblSalaries[[#This Row],[clean Salary (in local currency)]]*VLOOKUP(tblSalaries[[#This Row],[Currency]],tblXrate[],2,FALSE)","v":17807.916687442568},"Senior Analyst","Analyst","India",{"$f":"VLOOKUP(tblSalaries[[#This Row],[Where do you work]],tblCountries[[Actual]:[Mapping]],2,FALSE)","v":"India"},"All the 8 hours baby, all the 8!",4]
[null,"ID1596","2012-06-01T18:58:42",177600,177600,"USD",{"$f":"tblSalaries[[#This Row],[clean Salary (in local currency)]]*VLOOKUP(tblSalaries[[#This Row],[Currency]],tblXrate[],2,FALSE)","v":177600},"Accountant","Accountant","Lesotho",{"$f":"VLOOKUP(tblSalaries[[#This Row],[Where do you work]],tblCountries[[Actual]:[Mapping]],2,FALSE)","v":"Lesotho"},"4 to 6 hours a day",6]
[null,"ID1597","2012-06-01T19:42:46",650000,650000,"INR",{"$f":"tblSalaries[[#This Row],[clean Salary (in local currency)]]*VLOOKUP(tblSalaries[[#This Row],[Currency]],tblXrate[],2,FALSE)","v":11575.14584683767},"Associate","Analyst","India",{"$f":"VLOOKUP(tblSalaries[[#This Row],[Where do you work]],tblCountries[[Actual]:[Mapping]],2,FALSE)","v":"India"},"4 to 6 hours a day",5]
[null,"ID1598","2012-06-01T19:46:33","21000EUR",21000,"EUR",{"$f":"tblSalaries[[#This Row],[clean Salary (in local currency)]]*VLOOKUP(tblSalaries[[#This Row],[Currency]],tblXrate[],2,FALSE)","v":26678.388218823762},"Coordenador PeÃ§as Grupo","Manager","Portugal",{"$f":"VLOOKUP(tblSalaries[[#This Row],[Where do you work]],tblCountries[[Actual]:[Mapping]],2,FALSE)","v":"Portugal"},"4 to 6 hours a day",10]
[null,"ID1600","2012-06-01T19:57:45","Â£80000",80000,"GBP",{"$f":"tblSalaries[[#This Row],[clean Salary (in local currency)]]*VLOOKUP(tblSalaries[[#This Row],[Currency]],tblXrate[],2,FALSE)","v":126094.26176538273},"Owner of Business Improvement Consultancy","Consultant","UK",{"$f":"VLOOKUP(tblSalaries[[#This Row],[Where do you work]],tblCountries[[Actual]:[Mapping]],2,FALSE)","v":"UK"},"4 to 6 hours a day",12]
[null,"ID1601","2012-06-01T20:12:22","500 USD",6000,"USD",{"$f":"tblSalaries[[#This Row],[clean Salary (in local currency)]]*VLOOKUP(tblSalaries[[#This Row],[Currency]],tblXrate[],2,FALSE)","v":6000},"Business Analyst","Analyst","India",{"$f":"VLOOKUP(tblSalaries[[#This Row],[Where do you work]],tblCountries[[Actual]:[Mapping]],2,FALSE)","v":"India"},"4 to 6 hours a day",2]
[null,"ID1602","2012-06-01T20:27:23",10000,10000,"USD",{"$f":"tblSalaries[[#This Row],[clean Salary (in local currency)]]*VLOOKUP(tblSalaries[[#This Row],[Currency]],tblXrate[],2,FALSE)","v":10000},"MIS","Reporting","India",{"$f":"VLOOKUP(tblSalaries[[#This Row],[Where do you work]],tblCountries[[Actual]:[Mapping]],2,FALSE)","v":"India"},"All the 8 hours baby, all the 8!",6]
[null,"ID1603","2012-06-01T20:37:53",50000,50000,"USD",{"$f":"tblSalaries[[#This Row],[clean Salary (in local currency)]]*VLOOKUP(tblSalaries[[#This Row],[Currency]],tblXrate[],2,FALSE)","v":50000},"Sales Operations Analyst","Analyst","USA",{"$f":"VLOOKUP(tblSalaries[[#This Row],[Where do you work]],tblCountries[[Actual]:[Mapping]],2,FALSE)","v":"USA"},"All the 8 hours baby, all the 8!",2]
[null,"ID1604","2012-06-01T20:38:57",10000,10000,"USD",{"$f":"tblSalaries[[#This Row],[clean Salary (in local currency)]]*VLOOKUP(tblSalaries[[#This Row],[Currency]],tblXrate[],2,FALSE)","v":10000},"dgm","Manager","India",{"$f":"VLOOKUP(tblSalaries[[#This Row],[Where do you work]],tblCountries[[Actual]:[Mapping]],2,FALSE)","v":"India"},"All the 8 hours baby, all the 8!",12]
[null,"ID1605","2012-06-01T20:53:08",50000,50000,"USD",{"$f":"tblSalaries[[#This Row],[clean Salary (in local currency)]]*VLOOKUP(tblSalaries[[#This Row],[Currency]],tblXrate[],2,FALSE)","v":50000},"Catalog Circulation Analyst","Analyst","USA",{"$f":"VLOOKUP(tblSalaries[[#This Row],[Where do you work]],tblCountries[[Actual]:[Mapping]],2,FALSE)","v":"USA"},"All the 8 hours baby, all the 8!",12]
[null,"ID1606","2012-06-01T22:20:26","20000 $",20000,"USD",{"$f":"tblSalaries[[#This Row],[clean Salary (in local currency)]]*VLOOKUP(tblSalaries[[#This Row],[Currency]],tblXrate[],2,FALSE)","v":20000},"Manager","Manager","India",{"$f":"VLOOKUP(tblSalaries[[#This Row],[Where do you work]],tblCountries[[Actual]:[Mapping]],2,FALSE)","v":"India"},"4 to 6 hours a day",1]
[null,"ID1607","2012-06-01T23:29:43","Â£20000",20000,"GBP",{"$f":"tblSalaries[[#This Row],[clean Salary (in local currency)]]*VLOOKUP(tblSalaries[[#This Row],[Currency]],tblXrate[],2,FALSE)","v":31523.565441345683},"Operations Analyst","Analyst","UK",{"$f":"VLOOKUP(tblSalaries[[#This Row],[Where do you work]],tblCountries[[Actual]:[Mapping]],2,FALSE)","v":"UK"},"All the 8 hours baby, all the 8!",3]
[null,"ID1608","2012-06-02T01:29:04","â‚¬ 50k",50000,"EUR",{"$f":"tblSalaries[[#This Row],[clean Salary (in local currency)]]*VLOOKUP(tblSalaries[[#This Row],[Currency]],tblXrate[],2,FALSE)","v":63519.971949580387},"Controller","Controller","Netherlands",{"$f":"VLOOKUP(tblSalaries[[#This Row],[Where do you work]],tblCountries[[Actual]:[Mapping]],2,FALSE)","v":"Netherlands"},"4 to 6 hours a day",10]
[null,"ID1609","2012-06-02T01:43:24",2300,27600,"EUR",{"$f":"tblSalaries[[#This Row],[clean Salary (in local currency)]]*VLOOKUP(tblSalaries[[#This Row],[Currency]],tblXrate[],2,FALSE)","v":35063.024516168378},"controller","Controller","Hungary",{"$f":"VLOOKUP(tblSalaries[[#This Row],[Where do you work]],tblCountries[[Actual]:[Mapping]],2,FALSE)","v":"Hungary"},"All the 8 hours baby, all the 8!",15]
[null,"ID1610","2012-06-02T02:24:39",55000,55000,"USD",{"$f":"tblSalaries[[#This Row],[clean Salary (in local currency)]]*VLOOKUP(tblSalaries[[#This Row],[Currency]],tblXrate[],2,FALSE)","v":55000},"Business Analyst","Analyst","USA",{"$f":"VLOOKUP(tblSalaries[[#This Row],[Where do you work]],tblCountries[[Actual]:[Mapping]],2,FALSE)","v":"USA"},"4 to 6 hours a day",2]
[null,"ID1611","2012-06-02T02:28:30",38000,38000,"USD",{"$f":"tblSalaries[[#This Row],[clean Salary (in local currency)]]*VLOOKUP(tblSalaries[[#This Row],[Currency]],tblXrate[],2,FALSE)","v":38000},"Business Analyst","Analyst","USA",{"$f":"VLOOKUP(tblSalaries[[#This Row],[Where do you work]],tblCountries[[Actual]:[Mapping]],2,FALSE)","v":"USA"},"All the 8 hours baby, all the 8!",1]
[null,"ID1612","2012-06-02T03:08:50",1800000,1800000,"INR",{"$f":"tblSalaries[[#This Row],[clean Salary (in local currency)]]*VLOOKUP(tblSalaries[[#This Row],[Currency]],tblXrate[],2,FALSE)","v":32054.250037396621},"analyst","Analyst","India",{"$f":"VLOOKUP(tblSalaries[[#This Row],[Where do you work]],tblCountries[[Actual]:[Mapping]],2,FALSE)","v":"India"},"All the 8 hours baby, all the 8!",1]
[null,"ID1613","2012-06-02T03:13:57",35500,35500,"USD",{"$f":"tblSalaries[[#This Row],[clean Salary (in local currency)]]*VLOOKUP(tblSalaries[[#This Row],[Currency]],tblXrate[],2,FALSE)","v":35500},"SAS Adminstrator","Analyst","USA",{"$f":"VLOOKUP(tblSalaries[[#This Row],[Where do you work]],tblCountries[[Actual]:[Mapping]],2,FALSE)","v":"USA"},"4 to 6 hours a day",20]
[null,"ID1614","2012-06-02T03:23:09",62000,62000,"USD",{"$f":"tblSalaries[[#This Row],[clean Salary (in local currency)]]*VLOOKUP(tblSalaries[[#This Row],[Currency]],tblXrate[],2,FALSE)","v":62000},"Financial Analyst","Analyst","USA",{"$f":"VLOOKUP(tblSalaries[[#This Row],[Where do you work]],tblCountries[[Actual]:[Mapping]],2,FALSE)","v":"USA"},"2 to 3 hours per day",5]
[null,"ID1615","2012-06-02T03:29:19","Â£21500Uk",21500,"GBP",{"$f":"tblSalaries[[#This Row],[clean Salary (in local currency)]]*VLOOKUP(tblSalaries[[#This Row],[Currency]],tblXrate[],2,FALSE)","v":33887.832849446611},"Data Analyst","Analyst","UK",{"$f":"VLOOKUP(tblSalaries[[#This Row],[Where do you work]],tblCountries[[Actual]:[Mapping]],2,FALSE)","v":"UK"},"All the 8 hours baby, all the 8!",1]
[null,"ID1616","2012-06-02T04:49:42",60000,60000,"USD",{"$f":"tblSalaries[[#This Row],[clean Salary (in local currency)]]*VLOOKUP(tblSalaries[[#This Row],[Currency]],tblXrate[],2,FALSE)","v":60000},"Data Analyst","Analyst","USA",{"$f":"VLOOKUP(tblSalaries[[#This Row],[Where do you work]],tblCountries[[Actual]:[Mapping]],2,FALSE)","v":"USA"},"2 to 3 hours per day",1]
[null,"ID1617","2012-06-02T06:21:45",32884.800000000003,32884,"USD",{"$f":"tblSalaries[[#This Row],[clean Salary (in local currency)]]*VLOOKUP(tblSalaries[[#This Row],[Currency]],tblXrate[],2,FALSE)","v":32884},"Administrative Assistant","Analyst","USA",{"$f":"VLOOKUP(tblSalaries[[#This Row],[Where do you work]],tblCountries[[Actual]:[Mapping]],2,FALSE)","v":"USA"},"All the 8 hours baby, all the 8!",10]
[null,"ID1618","2012-06-02T06:31:21","42000 US",42000,"USD",{"$f":"tblSalaries[[#This Row],[clean Salary (in local currency)]]*VLOOKUP(tblSalaries[[#This Row],[Currency]],tblXrate[],2,FALSE)","v":42000},"production clerk","Analyst","USA",{"$f":"VLOOKUP(tblSalaries[[#This Row],[Where do you work]],tblCountries[[Actual]:[Mapping]],2,FALSE)","v":"USA"},"4 to 6 hours a day",2]
[null,"ID1619","2012-06-02T06:43:25",68000,68000,"USD",{"$f":"tblSalaries[[#This Row],[clean Salary (in local currency)]]*VLOOKUP(tblSalaries[[#This Row],[Currency]],tblXrate[],2,FALSE)","v":68000},"Supply Chain Analyst","Analyst","USA",{"$f":"VLOOKUP(tblSalaries[[#This Row],[Where do you work]],tblCountries[[Actual]:[Mapping]],2,FALSE)","v":"USA"},"4 to 6 hours a day",12]
[null,"ID1620","2012-06-02T07:42:02",85000,85000,"USD",{"$f":"tblSalaries[[#This Row],[clean Salary (in local currency)]]*VLOOKUP(tblSalaries[[#This Row],[Currency]],tblXrate[],2,FALSE)","v":85000},"Senior Accountant","Accountant","USA",{"$f":"VLOOKUP(tblSalaries[[#This Row],[Where do you work]],tblCountries[[Actual]:[Mapping]],2,FALSE)","v":"USA"},"2 to 3 hours per day",8]
[null,"ID1621","2012-06-02T11:11:18","U$13,000",13000,"USD",{"$f":"tblSalaries[[#This Row],[clean Salary (in local currency)]]*VLOOKUP(tblSalaries[[#This Row],[Currency]],tblXrate[],2,FALSE)","v":13000},"Dss Analyst","Analyst","Brazil",{"$f":"VLOOKUP(tblSalaries[[#This Row],[Where do you work]],tblCountries[[Actual]:[Mapping]],2,FALSE)","v":"Brazil"},"All the 8 hours baby, all the 8!",4]
[null,"ID1623","2012-06-02T13:58:46",15000,15000,"USD",{"$f":"tblSalaries[[#This Row],[clean Salary (in local currency)]]*VLOOKUP(tblSalaries[[#This Row],[Currency]],tblXrate[],2,FALSE)","v":15000},"Business Analysis & MIS ","Analyst","India",{"$f":"VLOOKUP(tblSalaries[[#This Row],[Where do you work]],tblCountries[[Actual]:[Mapping]],2,FALSE)","v":"India"},"4 to 6 hours a day",5]
[null,"ID1624","2012-06-02T17:34:20","50000USD",50000,"USD",{"$f":"tblSalaries[[#This Row],[clean Salary (in local currency)]]*VLOOKUP(tblSalaries[[#This Row],[Currency]],tblXrate[],2,FALSE)","v":50000},"Associate Vice President","CXO or Top Mgmt.","India",{"$f":"VLOOKUP(tblSalaries[[#This Row],[Where do you work]],tblCountries[[Actual]:[Mapping]],2,FALSE)","v":"India"},"1 or 2 hours a day",8]
[null,"ID1625","2012-06-02T18:47:32",7000,7000,"USD",{"$f":"tblSalaries[[#This Row],[clean Salary (in local currency)]]*VLOOKUP(tblSalaries[[#This Row],[Currency]],tblXrate[],2,FALSE)","v":7000},"M.I.S","Reporting","India",{"$f":"VLOOKUP(tblSalaries[[#This Row],[Where do you work]],tblCountries[[Actual]:[Mapping]],2,FALSE)","v":"India"},"4 to 6 hours a day",1]
[null,"ID1626","2012-06-02T19:14:35",140000,140000,"USD",{"$f":"tblSalaries[[#This Row],[clean Salary (in local currency)]]*VLOOKUP(tblSalaries[[#This Row],[Currency]],tblXrate[],2,FALSE)","v":140000},"sr manager","Manager","USA",{"$f":"VLOOKUP(tblSalaries[[#This Row],[Where do you work]],tblCountries[[Actual]:[Mapping]],2,FALSE)","v":"USA"},"4 to 6 hours a day",12]
[null,"ID1627","2012-06-02T20:50:40",400000,400000,"INR",{"$f":"tblSalaries[[#This Row],[clean Salary (in local currency)]]*VLOOKUP(tblSalaries[[#This Row],[Currency]],tblXrate[],2,FALSE)","v":7123.1666749770275},"application dev","Analyst","India",{"$f":"VLOOKUP(tblSalaries[[#This Row],[Where do you work]],tblCountries[[Actual]:[Mapping]],2,FALSE)","v":"India"},"1 or 2 hours a day",2.5]
[null,"ID1628","2012-06-02T20:52:59","37000GBP",37000,"GBP",{"$f":"tblSalaries[[#This Row],[clean Salary (in local currency)]]*VLOOKUP(tblSalaries[[#This Row],[Currency]],tblXrate[],2,FALSE)","v":58318.59606648951},"Technical Web Analyst","Analyst","UK",{"$f":"VLOOKUP(tblSalaries[[#This Row],[Where do you work]],tblCountries[[Actual]:[Mapping]],2,FALSE)","v":"UK"},"4 to 6 hours a day",9]
[null,"ID1629","2012-06-02T21:42:42","6.8 Lac INR",680000,"INR",{"$f":"tblSalaries[[#This Row],[clean Salary (in local currency)]]*VLOOKUP(tblSalaries[[#This Row],[Currency]],tblXrate[],2,FALSE)","v":12109.383347460946},"Deputy Manager","Manager","India",{"$f":"VLOOKUP(tblSalaries[[#This Row],[Where do you work]],tblCountries[[Actual]:[Mapping]],2,FALSE)","v":"India"},"1 or 2 hours a day",2]
[null,"ID1630","2012-06-02T22:33:32",55000,55000,"USD",{"$f":"tblSalaries[[#This Row],[clean Salary (in local currency)]]*VLOOKUP(tblSalaries[[#This Row],[Currency]],tblXrate[],2,FALSE)","v":55000},"Supply Chain Analyst","Analyst","USA",{"$f":"VLOOKUP(tblSalaries[[#This Row],[Where do you work]],tblCountries[[Actual]:[Mapping]],2,FALSE)","v":"USA"},"4 to 6 hours a day",1]
[null,"ID1631","2012-06-02T22:38:56",60000,60000,"USD",{"$f":"tblSalaries[[#This Row],[clean Salary (in local currency)]]*VLOOKUP(tblSalaries[[#This Row],[Currency]],tblXrate[],2,FALSE)","v":60000},"Head of Business","Manager","Indonesia",{"$f":"VLOOKUP(tblSalaries[[#This Row],[Where do you work]],tblCountries[[Actual]:[Mapping]],2,FALSE)","v":"Indonesia"},"2 to 3 hours per day",16]
[null,"ID1632","2012-06-03T01:33:57",320000,320000,"INR",{"$f":"tblSalaries[[#This Row],[clean Salary (in local currency)]]*VLOOKUP(tblSalaries[[#This Row],[Currency]],tblXrate[],2,FALSE)","v":5698.5333399816218},"senior executive","Manager","India",{"$f":"VLOOKUP(tblSalaries[[#This Row],[Where do you work]],tblCountries[[Actual]:[Mapping]],2,FALSE)","v":"India"},"4 to 6 hours a day",5]
[null,"ID1633","2012-06-03T01:36:43","24 K mauritian Rupees",288000,"MUR",{"$f":"tblSalaries[[#This Row],[clean Salary (in local currency)]]*VLOOKUP(tblSalaries[[#This Row],[Currency]],tblXrate[],2,FALSE)","v":9376.2513877177607},"IT Support Engineer","Engineer","Mauritius",{"$f":"VLOOKUP(tblSalaries[[#This Row],[Where do you work]],tblCountries[[Actual]:[Mapping]],2,FALSE)","v":"Mauritius"},"4 to 6 hours a day",7]
[null,"ID1634","2012-06-03T02:06:44","Â£60000",60000,"GBP",{"$f":"tblSalaries[[#This Row],[clean Salary (in local currency)]]*VLOOKUP(tblSalaries[[#This Row],[Currency]],tblXrate[],2,FALSE)","v":94570.696324037053},"Data Analyst","Analyst","UK",{"$f":"VLOOKUP(tblSalaries[[#This Row],[Where do you work]],tblCountries[[Actual]:[Mapping]],2,FALSE)","v":"UK"},"4 to 6 hours a day",5]
[null,"ID1635","2012-06-03T02:54:32",36000,36000,"USD",{"$f":"tblSalaries[[#This Row],[clean Salary (in local currency)]]*VLOOKUP(tblSalaries[[#This Row],[Currency]],tblXrate[],2,FALSE)","v":36000},"Environmental Adviser","Consultant","Azerbaijan",{"$f":"VLOOKUP(tblSalaries[[#This Row],[Where do you work]],tblCountries[[Actual]:[Mapping]],2,FALSE)","v":"Azerbaijan"},"4 to 6 hours a day",5]
[null,"ID1636","2012-06-03T04:14:45","Rs. 3.70 lacs",3700000,"INR",{"$f":"tblSalaries[[#This Row],[clean Salary (in local currency)]]*VLOOKUP(tblSalaries[[#This Row],[Currency]],tblXrate[],2,FALSE)","v":65889.291743537498},"Senior Officer","Manager","India",{"$f":"VLOOKUP(tblSalaries[[#This Row],[Where do you work]],tblCountries[[Actual]:[Mapping]],2,FALSE)","v":"India"},"All the 8 hours baby, all the 8!",4]
[null,"ID1637","2012-06-03T04:42:54",106000,106000,"USD",{"$f":"tblSalaries[[#This Row],[clean Salary (in local currency)]]*VLOOKUP(tblSalaries[[#This Row],[Currency]],tblXrate[],2,FALSE)","v":106000},"IT Developer","Analyst","Denmark",{"$f":"VLOOKUP(tblSalaries[[#This Row],[Where do you work]],tblCountries[[Actual]:[Mapping]],2,FALSE)","v":"Denmark"},"1 or 2 hours a day",7]
[null,"ID1638","2012-06-03T07:16:47","485000 DKK",485000,"DKK",{"$f":"tblSalaries[[#This Row],[clean Salary (in local currency)]]*VLOOKUP(tblSalaries[[#This Row],[Currency]],tblXrate[],2,FALSE)","v":82888.5550559455},"Controller","Controller","Denmark",{"$f":"VLOOKUP(tblSalaries[[#This Row],[Where do you work]],tblCountries[[Actual]:[Mapping]],2,FALSE)","v":"Denmark"},"4 to 6 hours a day",18]
[null,"ID1639","2012-06-03T09:42:40",75000,75000,"NZD",{"$f":"tblSalaries[[#This Row],[clean Salary (in local currency)]]*VLOOKUP(tblSalaries[[#This Row],[Currency]],tblXrate[],2,FALSE)","v":59819.107020370408},"business support analyst","Analyst","New zealand",{"$f":"VLOOKUP(tblSalaries[[#This Row],[Where do you work]],tblCountries[[Actual]:[Mapping]],2,FALSE)","v":"New Zealand"},"2 to 3 hours per day",10]
[null,"ID1640","2012-06-03T10:10:43",6545,6545,"USD",{"$f":"tblSalaries[[#This Row],[clean Salary (in local currency)]]*VLOOKUP(tblSalaries[[#This Row],[Currency]],tblXrate[],2,FALSE)","v":6545},"Operations","Manager","India",{"$f":"VLOOKUP(tblSalaries[[#This Row],[Where do you work]],tblCountries[[Actual]:[Mapping]],2,FALSE)","v":"India"},"All the 8 hours baby, all the 8!",9]
[null,"ID1641","2012-06-03T12:09:27","10 lacs INR",1000000,"INR",{"$f":"tblSalaries[[#This Row],[clean Salary (in local currency)]]*VLOOKUP(tblSalaries[[#This Row],[Currency]],tblXrate[],2,FALSE)","v":17807.916687442568},"Category Manager","Manager","India",{"$f":"VLOOKUP(tblSalaries[[#This Row],[Where do you work]],tblCountries[[Actual]:[Mapping]],2,FALSE)","v":"India"},"2 to 3 hours per day",13]
[null,"ID1642","2012-06-03T12:16:15",54000,54000,"USD",{"$f":"tblSalaries[[#This Row],[clean Salary (in local currency)]]*VLOOKUP(tblSalaries[[#This Row],[Currency]],tblXrate[],2,FALSE)","v":54000},"assistant director of finance","CXO or Top Mgmt.","USA",{"$f":"VLOOKUP(tblSalaries[[#This Row],[Where do you work]],tblCountries[[Actual]:[Mapping]],2,FALSE)","v":"USA"},"4 to 6 hours a day",10]
[null,"ID1643","2012-06-03T12:27:07",100000,100000,"USD",{"$f":"tblSalaries[[#This Row],[clean Salary (in local currency)]]*VLOOKUP(tblSalaries[[#This Row],[Currency]],tblXrate[],2,FALSE)","v":100000},"Consultant","Consultant","USA",{"$f":"VLOOKUP(tblSalaries[[#This Row],[Where do you work]],tblCountries[[Actual]:[Mapping]],2,FALSE)","v":"USA"},"2 to 3 hours per day",4]
[null,"ID1644","2012-06-03T13:30:47",50000,50000,"CAD",{"$f":"tblSalaries[[#This Row],[clean Salary (in local currency)]]*VLOOKUP(tblSalaries[[#This Row],[Currency]],tblXrate[],2,FALSE)","v":49168.076151516347},"Application Developer","Analyst","Canada",{"$f":"VLOOKUP(tblSalaries[[#This Row],[Where do you work]],tblCountries[[Actual]:[Mapping]],2,FALSE)","v":"Canada"},"4 to 6 hours a day",5]
[null,"ID1645","2012-06-03T14:27:29",4019,4019,"USD",{"$f":"tblSalaries[[#This Row],[clean Salary (in local currency)]]*VLOOKUP(tblSalaries[[#This Row],[Currency]],tblXrate[],2,FALSE)","v":4019},"Clinical Intake Specialist","Specialist","Philippines",{"$f":"VLOOKUP(tblSalaries[[#This Row],[Where do you work]],tblCountries[[Actual]:[Mapping]],2,FALSE)","v":"Philippines"},"2 to 3 hours per day",3]
[null,"ID1646","2012-06-03T14:34:56",15000,15000,"USD",{"$f":"tblSalaries[[#This Row],[clean Salary (in local currency)]]*VLOOKUP(tblSalaries[[#This Row],[Currency]],tblXrate[],2,FALSE)","v":15000},"Marketing services","Analyst","Pakistan",{"$f":"VLOOKUP(tblSalaries[[#This Row],[Where do you work]],tblCountries[[Actual]:[Mapping]],2,FALSE)","v":"Pakistan"},"4 to 6 hours a day",5]
[null,"ID1647","2012-06-03T14:52:21","INR 1000000",1000000,"INR",{"$f":"tblSalaries[[#This Row],[clean Salary (in local currency)]]*VLOOKUP(tblSalaries[[#This Row],[Currency]],tblXrate[],2,FALSE)","v":17807.916687442568},"Senior Associate, Finance","Analyst","India",{"$f":"VLOOKUP(tblSalaries[[#This Row],[Where do you work]],tblCountries[[Actual]:[Mapping]],2,FALSE)","v":"India"},"All the 8 hours baby, all the 8!",4]
[null,"ID1648","2012-06-03T16:48:54",12000,12000,"USD",{"$f":"tblSalaries[[#This Row],[clean Salary (in local currency)]]*VLOOKUP(tblSalaries[[#This Row],[Currency]],tblXrate[],2,FALSE)","v":12000},"MIS ","Reporting","India",{"$f":"VLOOKUP(tblSalaries[[#This Row],[Where do you work]],tblCountries[[Actual]:[Mapping]],2,FALSE)","v":"India"},"All the 8 hours baby, all the 8!",3]
[null,"ID1649","2012-06-03T17:39:14","Rs. 125000",125000,"INR",{"$f":"tblSalaries[[#This Row],[clean Salary (in local currency)]]*VLOOKUP(tblSalaries[[#This Row],[Currency]],tblXrate[],2,FALSE)","v":2225.989585930321},"No","Analyst","India",{"$f":"VLOOKUP(tblSalaries[[#This Row],[Where do you work]],tblCountries[[Actual]:[Mapping]],2,FALSE)","v":"India"},"2 to 3 hours per day",4]
[null,"ID1650","2012-06-03T19:40:18",86000,86000,"USD",{"$f":"tblSalaries[[#This Row],[clean Salary (in local currency)]]*VLOOKUP(tblSalaries[[#This Row],[Currency]],tblXrate[],2,FALSE)","v":86000},"Analyst","Analyst","Philippines",{"$f":"VLOOKUP(tblSalaries[[#This Row],[Where do you work]],tblCountries[[Actual]:[Mapping]],2,FALSE)","v":"Philippines"},"All the 8 hours baby, all the 8!",3]
[null,"ID1651","2012-06-04T01:45:03",340000,340000,"INR",{"$f":"tblSalaries[[#This Row],[clean Salary (in local currency)]]*VLOOKUP(tblSalaries[[#This Row],[Currency]],tblXrate[],2,FALSE)","v":6054.6916737304728},"Assistant Manager","Manager","India",{"$f":"VLOOKUP(tblSalaries[[#This Row],[Where do you work]],tblCountries[[Actual]:[Mapping]],2,FALSE)","v":"India"},"4 to 6 hours a day",5]
[null,"ID1652","2012-06-04T02:03:53","280$/ month",3360,"USD",{"$f":"tblSalaries[[#This Row],[clean Salary (in local currency)]]*VLOOKUP(tblSalaries[[#This Row],[Currency]],tblXrate[],2,FALSE)","v":3360},"service executive","Analyst","India",{"$f":"VLOOKUP(tblSalaries[[#This Row],[Where do you work]],tblCountries[[Actual]:[Mapping]],2,FALSE)","v":"India"},"1 or 2 hours a day",3]
[null,"ID1653","2012-06-04T02:30:11",10000,10000,"USD",{"$f":"tblSalaries[[#This Row],[clean Salary (in local currency)]]*VLOOKUP(tblSalaries[[#This Row],[Currency]],tblXrate[],2,FALSE)","v":10000},"ceo","CXO or Top Mgmt.","India",{"$f":"VLOOKUP(tblSalaries[[#This Row],[Where do you work]],tblCountries[[Actual]:[Mapping]],2,FALSE)","v":"India"},"All the 8 hours baby, all the 8!",1]
[null,"ID1654","2012-06-04T04:31:53",70000,70000,"USD",{"$f":"tblSalaries[[#This Row],[clean Salary (in local currency)]]*VLOOKUP(tblSalaries[[#This Row],[Currency]],tblXrate[],2,FALSE)","v":70000},"Sr financial analyst","Analyst","USA",{"$f":"VLOOKUP(tblSalaries[[#This Row],[Where do you work]],tblCountries[[Actual]:[Mapping]],2,FALSE)","v":"USA"},"4 to 6 hours a day",9]
[null,"ID1655","2012-06-04T09:49:44",155000,155000,"USD",{"$f":"tblSalaries[[#This Row],[clean Salary (in local currency)]]*VLOOKUP(tblSalaries[[#This Row],[Currency]],tblXrate[],2,FALSE)","v":155000},"Consulting Practice Manager","Manager","USA",{"$f":"VLOOKUP(tblSalaries[[#This Row],[Where do you work]],tblCountries[[Actual]:[Mapping]],2,FALSE)","v":"USA"},"1 or 2 hours a day",14]
[null,"ID1656","2012-06-04T10:23:27",225000,225000,"USD",{"$f":"tblSalaries[[#This Row],[clean Salary (in local currency)]]*VLOOKUP(tblSalaries[[#This Row],[Currency]],tblXrate[],2,FALSE)","v":225000},"SVP of Acquisitions","CXO or Top Mgmt.","USA",{"$f":"VLOOKUP(tblSalaries[[#This Row],[Where do you work]],tblCountries[[Actual]:[Mapping]],2,FALSE)","v":"USA"},"4 to 6 hours a day",15]
[null,"ID1657","2012-06-04T12:22:05",10000,10000,"USD",{"$f":"tblSalaries[[#This Row],[clean Salary (in local currency)]]*VLOOKUP(tblSalaries[[#This Row],[Currency]],tblXrate[],2,FALSE)","v":10000},"MIS Executive","Reporting","India",{"$f":"VLOOKUP(tblSalaries[[#This Row],[Where do you work]],tblCountries[[Actual]:[Mapping]],2,FALSE)","v":"India"},"All the 8 hours baby, all the 8!",2]
[null,"ID1658","2012-06-04T12:58:06",300000,300000,"INR",{"$f":"tblSalaries[[#This Row],[clean Salary (in local currency)]]*VLOOKUP(tblSalaries[[#This Row],[Currency]],tblXrate[],2,FALSE)","v":5342.3750062327708},"Store Inventory","Analyst","India",{"$f":"VLOOKUP(tblSalaries[[#This Row],[Where do you work]],tblCountries[[Actual]:[Mapping]],2,FALSE)","v":"India"},"4 to 6 hours a day",8]
[null,"ID1659","2012-06-04T13:30:51",84000,84000,"AUD",{"$f":"tblSalaries[[#This Row],[clean Salary (in local currency)]]*VLOOKUP(tblSalaries[[#This Row],[Currency]],tblXrate[],2,FALSE)","v":85672.4111378214},"consultant","Consultant","Australia",{"$f":"VLOOKUP(tblSalaries[[#This Row],[Where do you work]],tblCountries[[Actual]:[Mapping]],2,FALSE)","v":"Australia"},"4 to 6 hours a day",6]
[null,"ID1660","2012-06-04T14:25:45","240000 INR",240000,"INR",{"$f":"tblSalaries[[#This Row],[clean Salary (in local currency)]]*VLOOKUP(tblSalaries[[#This Row],[Currency]],tblXrate[],2,FALSE)","v":4273.9000049862161},"Exicutive TQM","Controller","India",{"$f":"VLOOKUP(tblSalaries[[#This Row],[Where do you work]],tblCountries[[Actual]:[Mapping]],2,FALSE)","v":"India"},"2 to 3 hours per day",15]
[null,"ID1661","2012-06-04T16:31:09","Rs. 5 lacs",500000,"INR",{"$f":"tblSalaries[[#This Row],[clean Salary (in local currency)]]*VLOOKUP(tblSalaries[[#This Row],[Currency]],tblXrate[],2,FALSE)","v":8903.9583437212841},"Team Leader","Manager","India",{"$f":"VLOOKUP(tblSalaries[[#This Row],[Where do you work]],tblCountries[[Actual]:[Mapping]],2,FALSE)","v":"India"},"All the 8 hours baby, all the 8!",20]
[null,"ID1662","2012-06-04T18:03:21",42000,42000,"GBP",{"$f":"tblSalaries[[#This Row],[clean Salary (in local currency)]]*VLOOKUP(tblSalaries[[#This Row],[Currency]],tblXrate[],2,FALSE)","v":66199.48742682593},"Management Accountant","Manager","UK",{"$f":"VLOOKUP(tblSalaries[[#This Row],[Where do you work]],tblCountries[[Actual]:[Mapping]],2,FALSE)","v":"UK"},"4 to 6 hours a day",23]
[null,"ID1663","2012-06-04T18:55:54","INR 3.2 lpa",320000,"INR",{"$f":"tblSalaries[[#This Row],[clean Salary (in local currency)]]*VLOOKUP(tblSalaries[[#This Row],[Currency]],tblXrate[],2,FALSE)","v":5698.5333399816218},"Research Associate","Analyst","India",{"$f":"VLOOKUP(tblSalaries[[#This Row],[Where do you work]],tblCountries[[Actual]:[Mapping]],2,FALSE)","v":"India"},"4 to 6 hours a day",2.5]
[null,"ID1664","2012-06-04T19:11:18","Â£22k",22000,"GBP",{"$f":"tblSalaries[[#This Row],[clean Salary (in local currency)]]*VLOOKUP(tblSalaries[[#This Row],[Currency]],tblXrate[],2,FALSE)","v":34675.92198548025},"Supply/Demand Planner","Manager","UK",{"$f":"VLOOKUP(tblSalaries[[#This Row],[Where do you work]],tblCountries[[Actual]:[Mapping]],2,FALSE)","v":"UK"},"4 to 6 hours a day",17]
[null,"ID1665","2012-06-04T19:46:09","2600 $",31200,"USD",{"$f":"tblSalaries[[#This Row],[clean Salary (in local currency)]]*VLOOKUP(tblSalaries[[#This Row],[Currency]],tblXrate[],2,FALSE)","v":31200},"Economist","Reporting","ISRAEL",{"$f":"VLOOKUP(tblSalaries[[#This Row],[Where do you work]],tblCountries[[Actual]:[Mapping]],2,FALSE)","v":"Israel"},"All the 8 hours baby, all the 8!",11]
[null,"ID1666","2012-06-04T21:43:15",56000,56000,"CAD",{"$f":"tblSalaries[[#This Row],[clean Salary (in local currency)]]*VLOOKUP(tblSalaries[[#This Row],[Currency]],tblXrate[],2,FALSE)","v":55068.245289698301},"consultant","Consultant","Canada",{"$f":"VLOOKUP(tblSalaries[[#This Row],[Where do you work]],tblCountries[[Actual]:[Mapping]],2,FALSE)","v":"Canada"},"All the 8 hours baby, all the 8!",1]
[null,"ID1667","2012-06-04T22:16:00",13000,13000,"USD",{"$f":"tblSalaries[[#This Row],[clean Salary (in local currency)]]*VLOOKUP(tblSalaries[[#This Row],[Currency]],tblXrate[],2,FALSE)","v":13000},"logistics analyst","Analyst","Slovakia",{"$f":"VLOOKUP(tblSalaries[[#This Row],[Where do you work]],tblCountries[[Actual]:[Mapping]],2,FALSE)","v":"Slovakia"},"All the 8 hours baby, all the 8!",6]
[null,"ID1668","2012-06-04T23:00:10",92000,92000,"USD",{"$f":"tblSalaries[[#This Row],[clean Salary (in local currency)]]*VLOOKUP(tblSalaries[[#This Row],[Currency]],tblXrate[],2,FALSE)","v":92000},"BI director","Reporting","USA",{"$f":"VLOOKUP(tblSalaries[[#This Row],[Where do you work]],tblCountries[[Actual]:[Mapping]],2,FALSE)","v":"USA"},"2 to 3 hours per day",12]
[null,"ID1669","2012-06-04T23:18:41",85000,85000,"USD",{"$f":"tblSalaries[[#This Row],[clean Salary (in local currency)]]*VLOOKUP(tblSalaries[[#This Row],[Currency]],tblXrate[],2,FALSE)","v":85000},"Sr Manager","Manager","USA",{"$f":"VLOOKUP(tblSalaries[[#This Row],[Where do you work]],tblCountries[[Actual]:[Mapping]],2,FALSE)","v":"USA"},"All the 8 hours baby, all the 8!",10]
[null,"ID1670","2012-06-04T23:38:42","11000 USD",11000,"USD",{"$f":"tblSalaries[[#This Row],[clean Salary (in local currency)]]*VLOOKUP(tblSalaries[[#This Row],[Currency]],tblXrate[],2,FALSE)","v":11000},"Dataminer","Analyst","Tunisia",{"$f":"VLOOKUP(tblSalaries[[#This Row],[Where do you work]],tblCountries[[Actual]:[Mapping]],2,FALSE)","v":"Tunisia"},"4 to 6 hours a day",8]
[null,"ID1671","2012-06-04T23:38:47","30000 â‚¬",30000,"EUR",{"$f":"tblSalaries[[#This Row],[clean Salary (in local currency)]]*VLOOKUP(tblSalaries[[#This Row],[Currency]],tblXrate[],2,FALSE)","v":38111.983169748237},"Safety technician","Analyst","Spain",{"$f":"VLOOKUP(tblSalaries[[#This Row],[Where do you work]],tblCountries[[Actual]:[Mapping]],2,FALSE)","v":"Spain"},"1 or 2 hours a day",12]
[null,"ID1672","2012-06-04T23:41:47",49000,49000,"USD",{"$f":"tblSalaries[[#This Row],[clean Salary (in local currency)]]*VLOOKUP(tblSalaries[[#This Row],[Currency]],tblXrate[],2,FALSE)","v":49000},"Marketing Data Analyst","Analyst","USA",{"$f":"VLOOKUP(tblSalaries[[#This Row],[Where do you work]],tblCountries[[Actual]:[Mapping]],2,FALSE)","v":"USA"},"2 to 3 hours per day",3]
[null,"ID1673","2012-06-05T00:22:14",59000,59000,"USD",{"$f":"tblSalaries[[#This Row],[clean Salary (in local currency)]]*VLOOKUP(tblSalaries[[#This Row],[Currency]],tblXrate[],2,FALSE)","v":59000},"Category Leader","Manager","USA",{"$f":"VLOOKUP(tblSalaries[[#This Row],[Where do you work]],tblCountries[[Actual]:[Mapping]],2,FALSE)","v":"USA"},"1 or 2 hours a day",3]
[null,"ID1674","2012-06-05T02:03:48",55000,55000,"USD",{"$f":"tblSalaries[[#This Row],[clean Salary (in local currency)]]*VLOOKUP(tblSalaries[[#This Row],[Currency]],tblXrate[],2,FALSE)","v":55000},"Customer Sales Analyst","Analyst","USA",{"$f":"VLOOKUP(tblSalaries[[#This Row],[Where do you work]],tblCountries[[Actual]:[Mapping]],2,FALSE)","v":"USA"},"4 to 6 hours a day",15]
[null,"ID1675","2012-06-05T02:21:01",75000,75000,"USD",{"$f":"tblSalaries[[#This Row],[clean Salary (in local currency)]]*VLOOKUP(tblSalaries[[#This Row],[Currency]],tblXrate[],2,FALSE)","v":75000},"Accountant","Accountant","USA",{"$f":"VLOOKUP(tblSalaries[[#This Row],[Where do you work]],tblCountries[[Actual]:[Mapping]],2,FALSE)","v":"USA"},"4 to 6 hours a day",10]
[null,"ID1677","2012-06-05T03:50:02",3300,39600,"EUR",{"$f":"tblSalaries[[#This Row],[clean Salary (in local currency)]]*VLOOKUP(tblSalaries[[#This Row],[Currency]],tblXrate[],2,FALSE)","v":50307.817784067665},"Maintenance Manager","Manager","Europe",{"$f":"VLOOKUP(tblSalaries[[#This Row],[Where do you work]],tblCountries[[Actual]:[Mapping]],2,FALSE)","v":"Europe"},"1 or 2 hours a day",5]
[null,"ID1678","2012-06-05T03:55:36","US$ 30500",30500,"USD",{"$f":"tblSalaries[[#This Row],[clean Salary (in local currency)]]*VLOOKUP(tblSalaries[[#This Row],[Currency]],tblXrate[],2,FALSE)","v":30500},"Financial Analyst","Analyst","Brazil",{"$f":"VLOOKUP(tblSalaries[[#This Row],[Where do you work]],tblCountries[[Actual]:[Mapping]],2,FALSE)","v":"Brazil"},"All the 8 hours baby, all the 8!",8]
[null,"ID1679","2012-06-05T04:06:09",80000,80000,"USD",{"$f":"tblSalaries[[#This Row],[clean Salary (in local currency)]]*VLOOKUP(tblSalaries[[#This Row],[Currency]],tblXrate[],2,FALSE)","v":80000},"Data Resource Specialist","Specialist","USA",{"$f":"VLOOKUP(tblSalaries[[#This Row],[Where do you work]],tblCountries[[Actual]:[Mapping]],2,FALSE)","v":"USA"},"2 to 3 hours per day",2]
[null,"ID1680","2012-06-05T05:03:04",1000,12000,"USD",{"$f":"tblSalaries[[#This Row],[clean Salary (in local currency)]]*VLOOKUP(tblSalaries[[#This Row],[Currency]],tblXrate[],2,FALSE)","v":12000},"Waiter","Analyst","USA",{"$f":"VLOOKUP(tblSalaries[[#This Row],[Where do you work]],tblCountries[[Actual]:[Mapping]],2,FALSE)","v":"USA"},"2 to 3 hours per day",1]
[null,"ID1681","2012-06-05T05:03:20",48500,48500,"USD",{"$f":"tblSalaries[[#This Row],[clean Salary (in local currency)]]*VLOOKUP(tblSalaries[[#This Row],[Currency]],tblXrate[],2,FALSE)","v":48500},"Business Systems Analyst I","Analyst","USA",{"$f":"VLOOKUP(tblSalaries[[#This Row],[Where do you work]],tblCountries[[Actual]:[Mapping]],2,FALSE)","v":"USA"},"4 to 6 hours a day",6]
[null,"ID1682","2012-06-05T06:51:36","Â£40000",40000,"GBP",{"$f":"tblSalaries[[#This Row],[clean Salary (in local currency)]]*VLOOKUP(tblSalaries[[#This Row],[Currency]],tblXrate[],2,FALSE)","v":63047.130882691366},"Technical Specialist","Specialist","UK",{"$f":"VLOOKUP(tblSalaries[[#This Row],[Where do you work]],tblCountries[[Actual]:[Mapping]],2,FALSE)","v":"UK"},"2 to 3 hours per day",25]
[null,"ID1683","2012-06-05T07:05:12","Rs 16000",192000,"INR",{"$f":"tblSalaries[[#This Row],[clean Salary (in local currency)]]*VLOOKUP(tblSalaries[[#This Row],[Currency]],tblXrate[],2,FALSE)","v":3419.1200039889732},"Sr Associate","Analyst","India",{"$f":"VLOOKUP(tblSalaries[[#This Row],[Where do you work]],tblCountries[[Actual]:[Mapping]],2,FALSE)","v":"India"},"4 to 6 hours a day",5]
[null,"ID1684","2012-06-05T10:43:34",110000,110000,"NZD",{"$f":"tblSalaries[[#This Row],[clean Salary (in local currency)]]*VLOOKUP(tblSalaries[[#This Row],[Currency]],tblXrate[],2,FALSE)","v":87734.690296543267},"Enterprise Portfolio Manager","Manager","New Zealand",{"$f":"VLOOKUP(tblSalaries[[#This Row],[Where do you work]],tblCountries[[Actual]:[Mapping]],2,FALSE)","v":"New Zealand"},"4 to 6 hours a day",6]
[null,"ID1685","2012-06-05T12:42:38","NZD$71000",71000,"NZD",{"$f":"tblSalaries[[#This Row],[clean Salary (in local currency)]]*VLOOKUP(tblSalaries[[#This Row],[Currency]],tblXrate[],2,FALSE)","v":56628.754645950656},"Business Analyst","Analyst","NZ",{"$f":"VLOOKUP(tblSalaries[[#This Row],[Where do you work]],tblCountries[[Actual]:[Mapping]],2,FALSE)","v":"New Zealand"},"All the 8 hours baby, all the 8!",6]
[null,"ID1686","2012-06-05T17:59:39","INR 450000",450000,"INR",{"$f":"tblSalaries[[#This Row],[clean Salary (in local currency)]]*VLOOKUP(tblSalaries[[#This Row],[Currency]],tblXrate[],2,FALSE)","v":8013.5625093491553},"Sr Executive - MIS","Reporting","India",{"$f":"VLOOKUP(tblSalaries[[#This Row],[Where do you work]],tblCountries[[Actual]:[Mapping]],2,FALSE)","v":"India"},"All the 8 hours baby, all the 8!",4]
[null,"ID1687","2012-06-05T18:31:59","200000 INR",200000,"INR",{"$f":"tblSalaries[[#This Row],[clean Salary (in local currency)]]*VLOOKUP(tblSalaries[[#This Row],[Currency]],tblXrate[],2,FALSE)","v":3561.5833374885137},"Executive","Analyst","India",{"$f":"VLOOKUP(tblSalaries[[#This Row],[Where do you work]],tblCountries[[Actual]:[Mapping]],2,FALSE)","v":"India"},"1 or 2 hours a day",16]
[null,"ID1688","2012-06-05T19:14:04",62000,62000,"USD",{"$f":"tblSalaries[[#This Row],[clean Salary (in local currency)]]*VLOOKUP(tblSalaries[[#This Row],[Currency]],tblXrate[],2,FALSE)","v":62000},"Quality Engineer","Engineer","USA",{"$f":"VLOOKUP(tblSalaries[[#This Row],[Where do you work]],tblCountries[[Actual]:[Mapping]],2,FALSE)","v":"USA"},"2 to 3 hours per day",12]
[null,"ID1689","2012-06-05T19:16:03",21000,21000,"EUR",{"$f":"tblSalaries[[#This Row],[clean Salary (in local currency)]]*VLOOKUP(tblSalaries[[#This Row],[Currency]],tblXrate[],2,FALSE)","v":26678.388218823762},"Sales Planning","Analyst","Portugal",{"$f":"VLOOKUP(tblSalaries[[#This Row],[Where do you work]],tblCountries[[Actual]:[Mapping]],2,FALSE)","v":"Portugal"},"4 to 6 hours a day",5]
[null,"ID1690","2012-06-05T19:37:13","Â£45000",45000,"GBP",{"$f":"tblSalaries[[#This Row],[clean Salary (in local currency)]]*VLOOKUP(tblSalaries[[#This Row],[Currency]],tblXrate[],2,FALSE)","v":70928.022243027779},"Data Analyst","Analyst","UK",{"$f":"VLOOKUP(tblSalaries[[#This Row],[Where do you work]],tblCountries[[Actual]:[Mapping]],2,FALSE)","v":"UK"},"All the 8 hours baby, all the 8!",5]
[null,"ID1691","2012-06-05T19:59:35",33000,33000,"EUR",{"$f":"tblSalaries[[#This Row],[clean Salary (in local currency)]]*VLOOKUP(tblSalaries[[#This Row],[Currency]],tblXrate[],2,FALSE)","v":41923.181486723057},"assistant","Analyst","france",{"$f":"VLOOKUP(tblSalaries[[#This Row],[Where do you work]],tblCountries[[Actual]:[Mapping]],2,FALSE)","v":"France"},"4 to 6 hours a day",6]
[null,"ID1692","2012-06-05T20:43:21",90000,90000,"USD",{"$f":"tblSalaries[[#This Row],[clean Salary (in local currency)]]*VLOOKUP(tblSalaries[[#This Row],[Currency]],tblXrate[],2,FALSE)","v":90000},"Senior QA Tester","Analyst","USA",{"$f":"VLOOKUP(tblSalaries[[#This Row],[Where do you work]],tblCountries[[Actual]:[Mapping]],2,FALSE)","v":"USA"},"2 to 3 hours per day",8]
[null,"ID1693","2012-06-05T21:07:16","400 000 NOK",400000,"NOK",{"$f":"tblSalaries[[#This Row],[clean Salary (in local currency)]]*VLOOKUP(tblSalaries[[#This Row],[Currency]],tblXrate[],2,FALSE)","v":67700.452577525488},"Economic analyst","Analyst","Norway",{"$f":"VLOOKUP(tblSalaries[[#This Row],[Where do you work]],tblCountries[[Actual]:[Mapping]],2,FALSE)","v":"Norway"},"All the 8 hours baby, all the 8!",5]
[null,"ID1694","2012-06-05T21:33:47",85000,85000,"USD",{"$f":"tblSalaries[[#This Row],[clean Salary (in local currency)]]*VLOOKUP(tblSalaries[[#This Row],[Currency]],tblXrate[],2,FALSE)","v":85000},"Financial Analyst","Analyst","USA",{"$f":"VLOOKUP(tblSalaries[[#This Row],[Where do you work]],tblCountries[[Actual]:[Mapping]],2,FALSE)","v":"USA"},"4 to 6 hours a day",12]
[null,"ID1695","2012-06-05T21:49:10",50000,50000,"GBP",{"$f":"tblSalaries[[#This Row],[clean Salary (in local currency)]]*VLOOKUP(tblSalaries[[#This Row],[Currency]],tblXrate[],2,FALSE)","v":78808.913603364199},"Commercial Director","CXO or Top Mgmt.","UK",{"$f":"VLOOKUP(tblSalaries[[#This Row],[Where do you work]],tblCountries[[Actual]:[Mapping]],2,FALSE)","v":"UK"},"4 to 6 hours a day",10]
[null,"ID1696","2012-06-05T21:59:40",65000,65000,"USD",{"$f":"tblSalaries[[#This Row],[clean Salary (in local currency)]]*VLOOKUP(tblSalaries[[#This Row],[Currency]],tblXrate[],2,FALSE)","v":65000},"Business Analyst","Analyst","USA",{"$f":"VLOOKUP(tblSalaries[[#This Row],[Where do you work]],tblCountries[[Actual]:[Mapping]],2,FALSE)","v":"USA"},"4 to 6 hours a day",8]
[null,"ID1697","2012-06-05T22:05:10",75000,75000,"USD",{"$f":"tblSalaries[[#This Row],[clean Salary (in local currency)]]*VLOOKUP(tblSalaries[[#This Row],[Currency]],tblXrate[],2,FALSE)","v":75000},"Directer of Sales Support","CXO or Top Mgmt.","USA",{"$f":"VLOOKUP(tblSalaries[[#This Row],[Where do you work]],tblCountries[[Actual]:[Mapping]],2,FALSE)","v":"USA"},"2 to 3 hours per day",3]
[null,"ID1698","2012-06-05T22:44:27",92000,92000,"USD",{"$f":"tblSalaries[[#This Row],[clean Salary (in local currency)]]*VLOOKUP(tblSalaries[[#This Row],[Currency]],tblXrate[],2,FALSE)","v":92000},"Anallyst","Analyst","USA",{"$f":"VLOOKUP(tblSalaries[[#This Row],[Where do you work]],tblCountries[[Actual]:[Mapping]],2,FALSE)","v":"USA"},"4 to 6 hours a day",9]
[null,"ID1699","2012-06-05T22:50:20",40000,40000,"EUR",{"$f":"tblSalaries[[#This Row],[clean Salary (in local currency)]]*VLOOKUP(tblSalaries[[#This Row],[Currency]],tblXrate[],2,FALSE)","v":50815.977559664309},"Financial Analyst","Analyst","Germany",{"$f":"VLOOKUP(tblSalaries[[#This Row],[Where do you work]],tblCountries[[Actual]:[Mapping]],2,FALSE)","v":"Germany"},"2 to 3 hours per day",3]
[null,"ID1700","2012-06-05T23:09:44","Â£35500",35500,"GBP",{"$f":"tblSalaries[[#This Row],[clean Salary (in local currency)]]*VLOOKUP(tblSalaries[[#This Row],[Currency]],tblXrate[],2,FALSE)","v":55954.328658388586},"Assistant Accountant","Accountant","UK",{"$f":"VLOOKUP(tblSalaries[[#This Row],[Where do you work]],tblCountries[[Actual]:[Mapping]],2,FALSE)","v":"UK"},"4 to 6 hours a day",8]
[null,"ID1701","2012-06-06T00:49:15",45000,45000,"USD",{"$f":"tblSalaries[[#This Row],[clean Salary (in local currency)]]*VLOOKUP(tblSalaries[[#This Row],[Currency]],tblXrate[],2,FALSE)","v":45000},"Bussiness Analyst","Analyst","USA",{"$f":"VLOOKUP(tblSalaries[[#This Row],[Where do you work]],tblCountries[[Actual]:[Mapping]],2,FALSE)","v":"USA"},"2 to 3 hours per day",4]
[null,"ID1702","2012-06-06T01:04:35","4 lacs INR",400000,"INR",{"$f":"tblSalaries[[#This Row],[clean Salary (in local currency)]]*VLOOKUP(tblSalaries[[#This Row],[Currency]],tblXrate[],2,FALSE)","v":7123.1666749770275},"Analyst","Analyst","India",{"$f":"VLOOKUP(tblSalaries[[#This Row],[Where do you work]],tblCountries[[Actual]:[Mapping]],2,FALSE)","v":"India"},"4 to 6 hours a day",4]
[null,"ID1703","2012-06-06T01:26:56","38920EUR",38920,"EUR",{"$f":"tblSalaries[[#This Row],[clean Salary (in local currency)]]*VLOOKUP(tblSalaries[[#This Row],[Currency]],tblXrate[],2,FALSE)","v":49443.946165553374},"functional analyst","Analyst","Belgium",{"$f":"VLOOKUP(tblSalaries[[#This Row],[Where do you work]],tblCountries[[Actual]:[Mapping]],2,FALSE)","v":"Belgium"},"4 to 6 hours a day",1.5]
[null,"ID1704","2012-06-06T01:41:40","US$45,000",45000,"USD",{"$f":"tblSalaries[[#This Row],[clean Salary (in local currency)]]*VLOOKUP(tblSalaries[[#This Row],[Currency]],tblXrate[],2,FALSE)","v":45000},"CFO","CXO or Top Mgmt.","Mexico",{"$f":"VLOOKUP(tblSalaries[[#This Row],[Where do you work]],tblCountries[[Actual]:[Mapping]],2,FALSE)","v":"Mexico"},"4 to 6 hours a day",5]
[null,"ID1705","2012-06-06T02:11:58","US$60000",60000,"USD",{"$f":"tblSalaries[[#This Row],[clean Salary (in local currency)]]*VLOOKUP(tblSalaries[[#This Row],[Currency]],tblXrate[],2,FALSE)","v":60000},"Analyst","Analyst","USA",{"$f":"VLOOKUP(tblSalaries[[#This Row],[Where do you work]],tblCountries[[Actual]:[Mapping]],2,FALSE)","v":"USA"},"All the 8 hours baby, all the 8!",1]
[null,"ID1706","2012-06-06T02:17:14",65000,65000,"USD",{"$f":"tblSalaries[[#This Row],[clean Salary (in local currency)]]*VLOOKUP(tblSalaries[[#This Row],[Currency]],tblXrate[],2,FALSE)","v":65000},"Actuarial Analyst","Analyst","USA",{"$f":"VLOOKUP(tblSalaries[[#This Row],[Where do you work]],tblCountries[[Actual]:[Mapping]],2,FALSE)","v":"USA"},"All the 8 hours baby, all the 8!",4]
[null,"ID1707","2012-06-06T03:14:56",73000,73000,"USD",{"$f":"tblSalaries[[#This Row],[clean Salary (in local currency)]]*VLOOKUP(tblSalaries[[#This Row],[Currency]],tblXrate[],2,FALSE)","v":73000},"process coordinator","Manager","USA",{"$f":"VLOOKUP(tblSalaries[[#This Row],[Where do you work]],tblCountries[[Actual]:[Mapping]],2,FALSE)","v":"USA"},"2 to 3 hours per day",6]
[null,"ID1708","2012-06-06T04:00:52",54000,54000,"USD",{"$f":"tblSalaries[[#This Row],[clean Salary (in local currency)]]*VLOOKUP(tblSalaries[[#This Row],[Currency]],tblXrate[],2,FALSE)","v":54000},"Energy Analyst","Analyst","USA",{"$f":"VLOOKUP(tblSalaries[[#This Row],[Where do you work]],tblCountries[[Actual]:[Mapping]],2,FALSE)","v":"USA"},"All the 8 hours baby, all the 8!",6]
[null,"ID1710","2012-06-06T05:52:59",81000,81000,"USD",{"$f":"tblSalaries[[#This Row],[clean Salary (in local currency)]]*VLOOKUP(tblSalaries[[#This Row],[Currency]],tblXrate[],2,FALSE)","v":81000},"Contact Operations Analyst","Analyst","USA",{"$f":"VLOOKUP(tblSalaries[[#This Row],[Where do you work]],tblCountries[[Actual]:[Mapping]],2,FALSE)","v":"USA"},"4 to 6 hours a day",6]
[null,"ID1711","2012-06-06T07:28:48",10000,10000,"USD",{"$f":"tblSalaries[[#This Row],[clean Salary (in local currency)]]*VLOOKUP(tblSalaries[[#This Row],[Currency]],tblXrate[],2,FALSE)","v":10000},"Student assistant","Analyst","USA",{"$f":"VLOOKUP(tblSalaries[[#This Row],[Where do you work]],tblCountries[[Actual]:[Mapping]],2,FALSE)","v":"USA"},"4 to 6 hours a day",2]
[null,"ID1712","2012-06-06T08:25:56",42000,42000,"USD",{"$f":"tblSalaries[[#This Row],[clean Salary (in local currency)]]*VLOOKUP(tblSalaries[[#This Row],[Currency]],tblXrate[],2,FALSE)","v":42000},"Staff Accountant","Accountant","USA",{"$f":"VLOOKUP(tblSalaries[[#This Row],[Where do you work]],tblCountries[[Actual]:[Mapping]],2,FALSE)","v":"USA"},"4 to 6 hours a day",1]
[null,"ID1713","2012-06-06T09:31:47",80000,80000,"AUD",{"$f":"tblSalaries[[#This Row],[clean Salary (in local currency)]]*VLOOKUP(tblSalaries[[#This Row],[Currency]],tblXrate[],2,FALSE)","v":81592.772512210868},"PPC Search Specialist","Specialist","Australia",{"$f":"VLOOKUP(tblSalaries[[#This Row],[Where do you work]],tblCountries[[Actual]:[Mapping]],2,FALSE)","v":"Australia"},"4 to 6 hours a day",5]
[null,"ID1714","2012-06-06T11:21:08",36000,36000,"CAD",{"$f":"tblSalaries[[#This Row],[clean Salary (in local currency)]]*VLOOKUP(tblSalaries[[#This Row],[Currency]],tblXrate[],2,FALSE)","v":35401.014829091764},"data organizer","Analyst","Canada",{"$f":"VLOOKUP(tblSalaries[[#This Row],[Where do you work]],tblCountries[[Actual]:[Mapping]],2,FALSE)","v":"Canada"},"All the 8 hours baby, all the 8!",2]
[null,"ID1716","2012-06-06T16:03:39",500000,500000,"INR",{"$f":"tblSalaries[[#This Row],[clean Salary (in local currency)]]*VLOOKUP(tblSalaries[[#This Row],[Currency]],tblXrate[],2,FALSE)","v":8903.9583437212841},"Sr. Associate","Analyst","India",{"$f":"VLOOKUP(tblSalaries[[#This Row],[Where do you work]],tblCountries[[Actual]:[Mapping]],2,FALSE)","v":"India"},"4 to 6 hours a day",4]
[null,"ID1717","2012-06-06T17:41:41",600000,600000,"INR",{"$f":"tblSalaries[[#This Row],[clean Salary (in local currency)]]*VLOOKUP(tblSalaries[[#This Row],[Currency]],tblXrate[],2,FALSE)","v":10684.750012465542},"admin","Analyst","India",{"$f":"VLOOKUP(tblSalaries[[#This Row],[Where do you work]],tblCountries[[Actual]:[Mapping]],2,FALSE)","v":"India"},"All the 8 hours baby, all the 8!",5]
[null,"ID1718","2012-06-06T18:52:03",700,8400,"USD",{"$f":"tblSalaries[[#This Row],[clean Salary (in local currency)]]*VLOOKUP(tblSalaries[[#This Row],[Currency]],tblXrate[],2,FALSE)","v":8400},"gov employee","Analyst","indonesia",{"$f":"VLOOKUP(tblSalaries[[#This Row],[Where do you work]],tblCountries[[Actual]:[Mapping]],2,FALSE)","v":"Indonesia"},"4 to 6 hours a day",14]
[null,"ID1719","2012-06-06T19:39:06",550000,550000,"INR",{"$f":"tblSalaries[[#This Row],[clean Salary (in local currency)]]*VLOOKUP(tblSalaries[[#This Row],[Currency]],tblXrate[],2,FALSE)","v":9794.354178093412},"Accounts manager","Manager","India",{"$f":"VLOOKUP(tblSalaries[[#This Row],[Where do you work]],tblCountries[[Actual]:[Mapping]],2,FALSE)","v":"India"},"4 to 6 hours a day",13]
[null,"ID1720","2012-06-06T19:54:49",1200,14400,"USD",{"$f":"tblSalaries[[#This Row],[clean Salary (in local currency)]]*VLOOKUP(tblSalaries[[#This Row],[Currency]],tblXrate[],2,FALSE)","v":14400},"Engineer","Engineer","India",{"$f":"VLOOKUP(tblSalaries[[#This Row],[Where do you work]],tblCountries[[Actual]:[Mapping]],2,FALSE)","v":"India"},"1 or 2 hours a day",8]
[null,"ID1721","2012-06-06T20:07:43","1.5 LINR",150000,"INR",{"$f":"tblSalaries[[#This Row],[clean Salary (in local currency)]]*VLOOKUP(tblSalaries[[#This Row],[Currency]],tblXrate[],2,FALSE)","v":2671.1875031163854},"MIS Executive","Reporting","India",{"$f":"VLOOKUP(tblSalaries[[#This Row],[Where do you work]],tblCountries[[Actual]:[Mapping]],2,FALSE)","v":"India"},"All the 8 hours baby, all the 8!",3]
[null,"ID1722","2012-06-06T20:41:35",22000,22000,"USD",{"$f":"tblSalaries[[#This Row],[clean Salary (in local currency)]]*VLOOKUP(tblSalaries[[#This Row],[Currency]],tblXrate[],2,FALSE)","v":22000},"Manager (MIS)","Manager","India",{"$f":"VLOOKUP(tblSalaries[[#This Row],[Where do you work]],tblCountries[[Actual]:[Mapping]],2,FALSE)","v":"India"},"All the 8 hours baby, all the 8!",6]
[null,"ID1723","2012-06-06T21:18:51",100000,100000,"USD",{"$f":"tblSalaries[[#This Row],[clean Salary (in local currency)]]*VLOOKUP(tblSalaries[[#This Row],[Currency]],tblXrate[],2,FALSE)","v":100000},"financial analyst (real estate)","Analyst","Russia",{"$f":"VLOOKUP(tblSalaries[[#This Row],[Where do you work]],tblCountries[[Actual]:[Mapping]],2,FALSE)","v":"Russia"},"All the 8 hours baby, all the 8!",6]
[null,"ID1724","2012-06-06T21:20:38",40000,40000,"GBP",{"$f":"tblSalaries[[#This Row],[clean Salary (in local currency)]]*VLOOKUP(tblSalaries[[#This Row],[Currency]],tblXrate[],2,FALSE)","v":63047.130882691366},"project manager","Manager","UK",{"$f":"VLOOKUP(tblSalaries[[#This Row],[Where do you work]],tblCountries[[Actual]:[Mapping]],2,FALSE)","v":"UK"},"4 to 6 hours a day",15]
[null,"ID1725","2012-06-06T22:14:27","36000stg",36000,"GBP",{"$f":"tblSalaries[[#This Row],[clean Salary (in local currency)]]*VLOOKUP(tblSalaries[[#This Row],[Currency]],tblXrate[],2,FALSE)","v":56742.417794422225},"contracts officer","Manager","UK",{"$f":"VLOOKUP(tblSalaries[[#This Row],[Where do you work]],tblCountries[[Actual]:[Mapping]],2,FALSE)","v":"UK"},"1 or 2 hours a day",25]
[null,"ID1726","2012-06-06T22:42:16",25000,25000,"USD",{"$f":"tblSalaries[[#This Row],[clean Salary (in local currency)]]*VLOOKUP(tblSalaries[[#This Row],[Currency]],tblXrate[],2,FALSE)","v":25000},"exe","Analyst","India",{"$f":"VLOOKUP(tblSalaries[[#This Row],[Where do you work]],tblCountries[[Actual]:[Mapping]],2,FALSE)","v":"India"},"All the 8 hours baby, all the 8!",8]
[null,"ID1727","2012-06-07T00:32:24","500000vINR",500000,"INR",{"$f":"tblSalaries[[#This Row],[clean Salary (in local currency)]]*VLOOKUP(tblSalaries[[#This Row],[Currency]],tblXrate[],2,FALSE)","v":8903.9583437212841},"Business Analyst","Analyst","India",{"$f":"VLOOKUP(tblSalaries[[#This Row],[Where do you work]],tblCountries[[Actual]:[Mapping]],2,FALSE)","v":"India"},"4 to 6 hours a day",2]
[null,"ID1729","2012-06-07T06:22:17","Â£27000",27000,"GBP",{"$f":"tblSalaries[[#This Row],[clean Salary (in local currency)]]*VLOOKUP(tblSalaries[[#This Row],[Currency]],tblXrate[],2,FALSE)","v":42556.81334581667},"Network Designer","Analyst","UK",{"$f":"VLOOKUP(tblSalaries[[#This Row],[Where do you work]],tblCountries[[Actual]:[Mapping]],2,FALSE)","v":"UK"},"4 to 6 hours a day",2]
[null,"ID1730","2012-06-07T08:36:51",134000,134000,"CAD",{"$f":"tblSalaries[[#This Row],[clean Salary (in local currency)]]*VLOOKUP(tblSalaries[[#This Row],[Currency]],tblXrate[],2,FALSE)","v":131770.4440860638},"Senior Production Accountant","Accountant","Canada",{"$f":"VLOOKUP(tblSalaries[[#This Row],[Where do you work]],tblCountries[[Actual]:[Mapping]],2,FALSE)","v":"Canada"},"All the 8 hours baby, all the 8!",20]
[null,"ID1731","2012-06-07T09:25:45",70000,70000,"CAD",{"$f":"tblSalaries[[#This Row],[clean Salary (in local currency)]]*VLOOKUP(tblSalaries[[#This Row],[Currency]],tblXrate[],2,FALSE)","v":68835.306612122877},"Financial Analyst","Analyst","Canada",{"$f":"VLOOKUP(tblSalaries[[#This Row],[Where do you work]],tblCountries[[Actual]:[Mapping]],2,FALSE)","v":"Canada"},"All the 8 hours baby, all the 8!",2]
[null,"ID1732","2012-06-07T14:06:38","6000 US",6000,"USD",{"$f":"tblSalaries[[#This Row],[clean Salary (in local currency)]]*VLOOKUP(tblSalaries[[#This Row],[Currency]],tblXrate[],2,FALSE)","v":6000},"Reporting Coordinator","Reporting","Armenia",{"$f":"VLOOKUP(tblSalaries[[#This Row],[Where do you work]],tblCountries[[Actual]:[Mapping]],2,FALSE)","v":"Armenia"},"All the 8 hours baby, all the 8!",5]
[null,"ID1733","2012-06-07T15:19:53",50000,50000,"GBP",{"$f":"tblSalaries[[#This Row],[clean Salary (in local currency)]]*VLOOKUP(tblSalaries[[#This Row],[Currency]],tblXrate[],2,FALSE)","v":78808.913603364199},"Research Analyst","Analyst","UK",{"$f":"VLOOKUP(tblSalaries[[#This Row],[Where do you work]],tblCountries[[Actual]:[Mapping]],2,FALSE)","v":"UK"},"2 to 3 hours per day",2]
[null,"ID1734","2012-06-07T16:45:01",421000,421000,"INR",{"$f":"tblSalaries[[#This Row],[clean Salary (in local currency)]]*VLOOKUP(tblSalaries[[#This Row],[Currency]],tblXrate[],2,FALSE)","v":7497.1329254133216},"PMO Analyst","Analyst","India",{"$f":"VLOOKUP(tblSalaries[[#This Row],[Where do you work]],tblCountries[[Actual]:[Mapping]],2,FALSE)","v":"India"},"4 to 6 hours a day",4]
[null,"ID1735","2012-06-07T16:53:54",10000,10000,"USD",{"$f":"tblSalaries[[#This Row],[clean Salary (in local currency)]]*VLOOKUP(tblSalaries[[#This Row],[Currency]],tblXrate[],2,FALSE)","v":10000},"AGM - Operations & Customer Support","Manager","India",{"$f":"VLOOKUP(tblSalaries[[#This Row],[Where do you work]],tblCountries[[Actual]:[Mapping]],2,FALSE)","v":"India"},"4 to 6 hours a day",11]
[null,"ID1736","2012-06-07T17:09:18",360000,360000,"INR",{"$f":"tblSalaries[[#This Row],[clean Salary (in local currency)]]*VLOOKUP(tblSalaries[[#This Row],[Currency]],tblXrate[],2,FALSE)","v":6410.8500074793246},"Baan ERP Functional Consultant","Consultant","India",{"$f":"VLOOKUP(tblSalaries[[#This Row],[Where do you work]],tblCountries[[Actual]:[Mapping]],2,FALSE)","v":"India"},"1 or 2 hours a day",2]
[null,"ID1737","2012-06-07T17:13:42",40000,40000,"GBP",{"$f":"tblSalaries[[#This Row],[clean Salary (in local currency)]]*VLOOKUP(tblSalaries[[#This Row],[Currency]],tblXrate[],2,FALSE)","v":63047.130882691366},"Analyst","Analyst","UK",{"$f":"VLOOKUP(tblSalaries[[#This Row],[Where do you work]],tblCountries[[Actual]:[Mapping]],2,FALSE)","v":"UK"},"4 to 6 hours a day",5]
[null,"ID1738","2012-06-07T20:10:41",60000,60000,"AUD",{"$f":"tblSalaries[[#This Row],[clean Salary (in local currency)]]*VLOOKUP(tblSalaries[[#This Row],[Currency]],tblXrate[],2,FALSE)","v":61194.579384158147},"business analyst","Analyst","Australia",{"$f":"VLOOKUP(tblSalaries[[#This Row],[Where do you work]],tblCountries[[Actual]:[Mapping]],2,FALSE)","v":"Australia"},"2 to 3 hours per day",3]
[null,"ID1739","2012-06-07T20:48:04","Â£73000",73000,"GBP",{"$f":"tblSalaries[[#This Row],[clean Salary (in local currency)]]*VLOOKUP(tblSalaries[[#This Row],[Currency]],tblXrate[],2,FALSE)","v":115061.01386091174},"Financial Controller","Controller","UK",{"$f":"VLOOKUP(tblSalaries[[#This Row],[Where do you work]],tblCountries[[Actual]:[Mapping]],2,FALSE)","v":"UK"},"4 to 6 hours a day",8]
[null,"ID1740","2012-06-07T23:33:23",45000,45000,"USD",{"$f":"tblSalaries[[#This Row],[clean Salary (in local currency)]]*VLOOKUP(tblSalaries[[#This Row],[Currency]],tblXrate[],2,FALSE)","v":45000},"Sourcing Analyst","Analyst","USA",{"$f":"VLOOKUP(tblSalaries[[#This Row],[Where do you work]],tblCountries[[Actual]:[Mapping]],2,FALSE)","v":"USA"},"All the 8 hours baby, all the 8!",2]
[null,"ID1741","2012-06-07T23:48:29",36000,36000,"USD",{"$f":"tblSalaries[[#This Row],[clean Salary (in local currency)]]*VLOOKUP(tblSalaries[[#This Row],[Currency]],tblXrate[],2,FALSE)","v":36000},"clerk","Analyst","USA",{"$f":"VLOOKUP(tblSalaries[[#This Row],[Where do you work]],tblCountries[[Actual]:[Mapping]],2,FALSE)","v":"USA"},"4 to 6 hours a day",4]
[null,"ID1742","2012-06-08T00:01:49",68000,68000,"USD",{"$f":"tblSalaries[[#This Row],[clean Salary (in local currency)]]*VLOOKUP(tblSalaries[[#This Row],[Currency]],tblXrate[],2,FALSE)","v":68000},"Tax Associate","Analyst","USA",{"$f":"VLOOKUP(tblSalaries[[#This Row],[Where do you work]],tblCountries[[Actual]:[Mapping]],2,FALSE)","v":"USA"},"4 to 6 hours a day",2.5]
[null,"ID1743","2012-06-08T00:21:23",75000,75000,"USD",{"$f":"tblSalaries[[#This Row],[clean Salary (in local currency)]]*VLOOKUP(tblSalaries[[#This Row],[Currency]],tblXrate[],2,FALSE)","v":75000},"Senior Financial Analyst","Analyst","USA",{"$f":"VLOOKUP(tblSalaries[[#This Row],[Where do you work]],tblCountries[[Actual]:[Mapping]],2,FALSE)","v":"USA"},"All the 8 hours baby, all the 8!",5]
[null,"ID1744","2012-06-08T02:27:13",88000,88000,"USD",{"$f":"tblSalaries[[#This Row],[clean Salary (in local currency)]]*VLOOKUP(tblSalaries[[#This Row],[Currency]],tblXrate[],2,FALSE)","v":88000},"Senior Fiancial Analyst","Analyst","USA",{"$f":"VLOOKUP(tblSalaries[[#This Row],[Where do you work]],tblCountries[[Actual]:[Mapping]],2,FALSE)","v":"USA"},"All the 8 hours baby, all the 8!",10]
[null,"ID1745","2012-06-08T02:28:45","Rs. 21500",258000,"INR",{"$f":"tblSalaries[[#This Row],[clean Salary (in local currency)]]*VLOOKUP(tblSalaries[[#This Row],[Currency]],tblXrate[],2,FALSE)","v":4594.4425053601826},"Senior Data Associate","Analyst","India",{"$f":"VLOOKUP(tblSalaries[[#This Row],[Where do you work]],tblCountries[[Actual]:[Mapping]],2,FALSE)","v":"India"},"4 to 6 hours a day",4]
[null,"ID1746","2012-06-08T03:23:20",69000,69000,"USD",{"$f":"tblSalaries[[#This Row],[clean Salary (in local currency)]]*VLOOKUP(tblSalaries[[#This Row],[Currency]],tblXrate[],2,FALSE)","v":69000},"Business Analyst II","Analyst","USA",{"$f":"VLOOKUP(tblSalaries[[#This Row],[Where do you work]],tblCountries[[Actual]:[Mapping]],2,FALSE)","v":"USA"},"All the 8 hours baby, all the 8!",15]
[null,"ID1747","2012-06-08T03:34:51",30000,30000,"USD",{"$f":"tblSalaries[[#This Row],[clean Salary (in local currency)]]*VLOOKUP(tblSalaries[[#This Row],[Currency]],tblXrate[],2,FALSE)","v":30000},"Inventory Manager","Manager","USA",{"$f":"VLOOKUP(tblSalaries[[#This Row],[Where do you work]],tblCountries[[Actual]:[Mapping]],2,FALSE)","v":"USA"},"4 to 6 hours a day",1]
[null,"ID1748","2012-06-08T04:51:45",80000,80000,"USD",{"$f":"tblSalaries[[#This Row],[clean Salary (in local currency)]]*VLOOKUP(tblSalaries[[#This Row],[Currency]],tblXrate[],2,FALSE)","v":80000},"Sales / Finance Manager","Manager","USA",{"$f":"VLOOKUP(tblSalaries[[#This Row],[Where do you work]],tblCountries[[Actual]:[Mapping]],2,FALSE)","v":"USA"},"4 to 6 hours a day",7]
[null,"ID1749","2012-06-08T06:42:32",75000,75000,"USD",{"$f":"tblSalaries[[#This Row],[clean Salary (in local currency)]]*VLOOKUP(tblSalaries[[#This Row],[Currency]],tblXrate[],2,FALSE)","v":75000},"actuary","Accountant","USA",{"$f":"VLOOKUP(tblSalaries[[#This Row],[Where do you work]],tblCountries[[Actual]:[Mapping]],2,FALSE)","v":"USA"},"All the 8 hours baby, all the 8!",1]
[null,"ID1750","2012-06-08T08:15:54",31200,31200,"USD",{"$f":"tblSalaries[[#This Row],[clean Salary (in local currency)]]*VLOOKUP(tblSalaries[[#This Row],[Currency]],tblXrate[],2,FALSE)","v":31200},"Risk analyst","Analyst","Brazil",{"$f":"VLOOKUP(tblSalaries[[#This Row],[Where do you work]],tblCountries[[Actual]:[Mapping]],2,FALSE)","v":"Brazil"},"4 to 6 hours a day",4]
[null,"ID1751","2012-06-08T09:46:59",85000,85000,"USD",{"$f":"tblSalaries[[#This Row],[clean Salary (in local currency)]]*VLOOKUP(tblSalaries[[#This Row],[Currency]],tblXrate[],2,FALSE)","v":85000},"Actuary","Accountant","USA",{"$f":"VLOOKUP(tblSalaries[[#This Row],[Where do you work]],tblCountries[[Actual]:[Mapping]],2,FALSE)","v":"USA"},"4 to 6 hours a day",20]
[null,"ID1752","2012-06-08T13:38:45","9,50,000",950000,"INR",{"$f":"tblSalaries[[#This Row],[clean Salary (in local currency)]]*VLOOKUP(tblSalaries[[#This Row],[Currency]],tblXrate[],2,FALSE)","v":16917.52085307044},"Associate Manager, Drug Safety Operations","Manager","India",{"$f":"VLOOKUP(tblSalaries[[#This Row],[Where do you work]],tblCountries[[Actual]:[Mapping]],2,FALSE)","v":"India"},"2 to 3 hours per day",9]
[null,"ID1753","2012-06-08T13:55:44","15000inr",180000,"INR",{"$f":"tblSalaries[[#This Row],[clean Salary (in local currency)]]*VLOOKUP(tblSalaries[[#This Row],[Currency]],tblXrate[],2,FALSE)","v":3205.4250037396623},"mis","Reporting","India",{"$f":"VLOOKUP(tblSalaries[[#This Row],[Where do you work]],tblCountries[[Actual]:[Mapping]],2,FALSE)","v":"India"},"4 to 6 hours a day",2]
[null,"ID1754","2012-06-08T14:43:05",60000,60000,"USD",{"$f":"tblSalaries[[#This Row],[clean Salary (in local currency)]]*VLOOKUP(tblSalaries[[#This Row],[Currency]],tblXrate[],2,FALSE)","v":60000},"Project Lead ","Manager","USA",{"$f":"VLOOKUP(tblSalaries[[#This Row],[Where do you work]],tblCountries[[Actual]:[Mapping]],2,FALSE)","v":"USA"},"All the 8 hours baby, all the 8!",2]
[null,"ID1755","2012-06-08T14:43:40",60000,60000,"USD",{"$f":"tblSalaries[[#This Row],[clean Salary (in local currency)]]*VLOOKUP(tblSalaries[[#This Row],[Currency]],tblXrate[],2,FALSE)","v":60000},"Project Lead ","Manager","USA",{"$f":"VLOOKUP(tblSalaries[[#This Row],[Where do you work]],tblCountries[[Actual]:[Mapping]],2,FALSE)","v":"USA"},"All the 8 hours baby, all the 8!",2]
[null,"ID1756","2012-06-08T15:43:16","INR800000",800000,"INR",{"$f":"tblSalaries[[#This Row],[clean Salary (in local currency)]]*VLOOKUP(tblSalaries[[#This Row],[Currency]],tblXrate[],2,FALSE)","v":14246.333349954055},"MANAGER","Manager","India",{"$f":"VLOOKUP(tblSalaries[[#This Row],[Where do you work]],tblCountries[[Actual]:[Mapping]],2,FALSE)","v":"India"},"2 to 3 hours per day",0]
[null,"ID1757","2012-06-08T15:45:14",800000,800000,"INR",{"$f":"tblSalaries[[#This Row],[clean Salary (in local currency)]]*VLOOKUP(tblSalaries[[#This Row],[Currency]],tblXrate[],2,FALSE)","v":14246.333349954055},"MANAGER","Manager","India",{"$f":"VLOOKUP(tblSalaries[[#This Row],[Where do you work]],tblCountries[[Actual]:[Mapping]],2,FALSE)","v":"India"},"2 to 3 hours per day",0]
[null,"ID1758","2012-06-08T18:48:12",28995,28995,"USD",{"$f":"tblSalaries[[#This Row],[clean Salary (in local currency)]]*VLOOKUP(tblSalaries[[#This Row],[Currency]],tblXrate[],2,FALSE)","v":28995},"Senior Executive","Manager","India",{"$f":"VLOOKUP(tblSalaries[[#This Row],[Where do you work]],tblCountries[[Actual]:[Mapping]],2,FALSE)","v":"India"},"4 to 6 hours a day",6]
[null,"ID1759","2012-06-08T18:52:06",1230000,1230000,"INR",{"$f":"tblSalaries[[#This Row],[clean Salary (in local currency)]]*VLOOKUP(tblSalaries[[#This Row],[Currency]],tblXrate[],2,FALSE)","v":21903.737525554359},"Financial Analyst ","Analyst","India",{"$f":"VLOOKUP(tblSalaries[[#This Row],[Where do you work]],tblCountries[[Actual]:[Mapping]],2,FALSE)","v":"India"},"All the 8 hours baby, all the 8!",3]
[null,"ID1760","2012-06-08T18:52:44",1130000,1130000,"INR",{"$f":"tblSalaries[[#This Row],[clean Salary (in local currency)]]*VLOOKUP(tblSalaries[[#This Row],[Currency]],tblXrate[],2,FALSE)","v":20122.945856810104},"Financial Analyst ","Analyst","India",{"$f":"VLOOKUP(tblSalaries[[#This Row],[Where do you work]],tblCountries[[Actual]:[Mapping]],2,FALSE)","v":"India"},"All the 8 hours baby, all the 8!",3]
[null,"ID1761","2012-06-08T20:47:58",45000,45000,"GBP",{"$f":"tblSalaries[[#This Row],[clean Salary (in local currency)]]*VLOOKUP(tblSalaries[[#This Row],[Currency]],tblXrate[],2,FALSE)","v":70928.022243027779},"bUSINESS aNALYST","Analyst","UK",{"$f":"VLOOKUP(tblSalaries[[#This Row],[Where do you work]],tblCountries[[Actual]:[Mapping]],2,FALSE)","v":"UK"},"All the 8 hours baby, all the 8!",20]
[null,"ID1762","2012-06-08T21:00:25",67000,67000,"USD",{"$f":"tblSalaries[[#This Row],[clean Salary (in local currency)]]*VLOOKUP(tblSalaries[[#This Row],[Currency]],tblXrate[],2,FALSE)","v":67000},"Manager","Manager","USA",{"$f":"VLOOKUP(tblSalaries[[#This Row],[Where do you work]],tblCountries[[Actual]:[Mapping]],2,FALSE)","v":"USA"},"4 to 6 hours a day",16]
[null,"ID1763","2012-06-08T21:02:48",30000,30000,"USD",{"$f":"tblSalaries[[#This Row],[clean Salary (in local currency)]]*VLOOKUP(tblSalaries[[#This Row],[Currency]],tblXrate[],2,FALSE)","v":30000},"Customer Service","Analyst","USA",{"$f":"VLOOKUP(tblSalaries[[#This Row],[Where do you work]],tblCountries[[Actual]:[Mapping]],2,FALSE)","v":"USA"},"2 to 3 hours per day",4]
[null,"ID1764","2012-06-08T22:48:39","CHF140000",140000,"CHF",{"$f":"tblSalaries[[#This Row],[clean Salary (in local currency)]]*VLOOKUP(tblSalaries[[#This Row],[Currency]],tblXrate[],2,FALSE)","v":148102.22862117883},"Projektleiter","Manager","Switzerland",{"$f":"VLOOKUP(tblSalaries[[#This Row],[Where do you work]],tblCountries[[Actual]:[Mapping]],2,FALSE)","v":"Switzerland"},"2 to 3 hours per day",6]
[null,"ID1765","2012-06-08T23:20:36",71500,71500,"USD",{"$f":"tblSalaries[[#This Row],[clean Salary (in local currency)]]*VLOOKUP(tblSalaries[[#This Row],[Currency]],tblXrate[],2,FALSE)","v":71500},"Pricing Manager","Manager","USA",{"$f":"VLOOKUP(tblSalaries[[#This Row],[Where do you work]],tblCountries[[Actual]:[Mapping]],2,FALSE)","v":"USA"},"All the 8 hours baby, all the 8!",11]
[null,"ID1766","2012-06-08T23:46:11",67000,67000,"USD",{"$f":"tblSalaries[[#This Row],[clean Salary (in local currency)]]*VLOOKUP(tblSalaries[[#This Row],[Currency]],tblXrate[],2,FALSE)","v":67000},"Manager","Manager","USA",{"$f":"VLOOKUP(tblSalaries[[#This Row],[Where do you work]],tblCountries[[Actual]:[Mapping]],2,FALSE)","v":"USA"},"Excel ?!? What Excel?",6]
[null,"ID1767","2012-06-09T00:49:07",40000,40000,"USD",{"$f":"tblSalaries[[#This Row],[clean Salary (in local currency)]]*VLOOKUP(tblSalaries[[#This Row],[Currency]],tblXrate[],2,FALSE)","v":40000},"Market Research Analyst","Analyst","USA",{"$f":"VLOOKUP(tblSalaries[[#This Row],[Where do you work]],tblCountries[[Actual]:[Mapping]],2,FALSE)","v":"USA"},"4 to 6 hours a day",5]
[null,"ID1768","2012-06-09T01:15:44",65000,65000,"USD",{"$f":"tblSalaries[[#This Row],[clean Salary (in local currency)]]*VLOOKUP(tblSalaries[[#This Row],[Currency]],tblXrate[],2,FALSE)","v":65000},"Compliance Officer","Manager","USA",{"$f":"VLOOKUP(tblSalaries[[#This Row],[Where do you work]],tblCountries[[Actual]:[Mapping]],2,FALSE)","v":"USA"},"4 to 6 hours a day",2]
[null,"ID1769","2012-06-09T01:47:30",72000,72000,"USD",{"$f":"tblSalaries[[#This Row],[clean Salary (in local currency)]]*VLOOKUP(tblSalaries[[#This Row],[Currency]],tblXrate[],2,FALSE)","v":72000},"Consultant","Consultant","USA",{"$f":"VLOOKUP(tblSalaries[[#This Row],[Where do you work]],tblCountries[[Actual]:[Mapping]],2,FALSE)","v":"USA"},"2 to 3 hours per day",13]
[null,"ID1770","2012-06-09T03:20:15",52500,52500,"USD",{"$f":"tblSalaries[[#This Row],[clean Salary (in local currency)]]*VLOOKUP(tblSalaries[[#This Row],[Currency]],tblXrate[],2,FALSE)","v":52500},"Data Management Solutions Supervisor","Manager","USA",{"$f":"VLOOKUP(tblSalaries[[#This Row],[Where do you work]],tblCountries[[Actual]:[Mapping]],2,FALSE)","v":"USA"},"All the 8 hours baby, all the 8!",3]
[null,"ID1771","2012-06-09T12:01:19",444,5320,"USD",{"$f":"tblSalaries[[#This Row],[clean Salary (in local currency)]]*VLOOKUP(tblSalaries[[#This Row],[Currency]],tblXrate[],2,FALSE)","v":5320},"Officer","Manager","India",{"$f":"VLOOKUP(tblSalaries[[#This Row],[Where do you work]],tblCountries[[Actual]:[Mapping]],2,FALSE)","v":"India"},"2 to 3 hours per day",5]
[null,"ID1772","2012-06-09T20:38:03",1500,18000,"USD",{"$f":"tblSalaries[[#This Row],[clean Salary (in local currency)]]*VLOOKUP(tblSalaries[[#This Row],[Currency]],tblXrate[],2,FALSE)","v":18000},"accountant","Accountant","uae",{"$f":"VLOOKUP(tblSalaries[[#This Row],[Where do you work]],tblCountries[[Actual]:[Mapping]],2,FALSE)","v":"UAE"},"All the 8 hours baby, all the 8!",3]
[null,"ID1773","2012-06-10T00:50:26","1.40 lac",140000,"INR",{"$f":"tblSalaries[[#This Row],[clean Salary (in local currency)]]*VLOOKUP(tblSalaries[[#This Row],[Currency]],tblXrate[],2,FALSE)","v":2493.1083362419595},"magic","Misc.","India",{"$f":"VLOOKUP(tblSalaries[[#This Row],[Where do you work]],tblCountries[[Actual]:[Mapping]],2,FALSE)","v":"India"},"4 to 6 hours a day",5]
[null,"ID1774","2012-06-10T01:48:44",1400,16800,"EUR",{"$f":"tblSalaries[[#This Row],[clean Salary (in local currency)]]*VLOOKUP(tblSalaries[[#This Row],[Currency]],tblXrate[],2,FALSE)","v":21342.710575059013},"account","Accountant","portugal",{"$f":"VLOOKUP(tblSalaries[[#This Row],[Where do you work]],tblCountries[[Actual]:[Mapping]],2,FALSE)","v":"Portugal"},"4 to 6 hours a day",15]
[null,"ID1775","2012-06-10T02:20:05",85000,85000,"USD",{"$f":"tblSalaries[[#This Row],[clean Salary (in local currency)]]*VLOOKUP(tblSalaries[[#This Row],[Currency]],tblXrate[],2,FALSE)","v":85000},"purchasing manager","Manager","USA",{"$f":"VLOOKUP(tblSalaries[[#This Row],[Where do you work]],tblCountries[[Actual]:[Mapping]],2,FALSE)","v":"USA"},"2 to 3 hours per day",15]
[null,"ID1776","2012-06-10T02:29:57",80000,80000,"USD",{"$f":"tblSalaries[[#This Row],[clean Salary (in local currency)]]*VLOOKUP(tblSalaries[[#This Row],[Currency]],tblXrate[],2,FALSE)","v":80000},"Engineer","Engineer","Brazil",{"$f":"VLOOKUP(tblSalaries[[#This Row],[Where do you work]],tblCountries[[Actual]:[Mapping]],2,FALSE)","v":"Brazil"},"1 or 2 hours a day",9]
[null,"ID1777","2012-06-10T04:16:05",500000,500000,"INR",{"$f":"tblSalaries[[#This Row],[clean Salary (in local currency)]]*VLOOKUP(tblSalaries[[#This Row],[Currency]],tblXrate[],2,FALSE)","v":8903.9583437212841},"equity research trainee","Analyst","India",{"$f":"VLOOKUP(tblSalaries[[#This Row],[Where do you work]],tblCountries[[Actual]:[Mapping]],2,FALSE)","v":"India"},"All the 8 hours baby, all the 8!",0]
[null,"ID1778","2012-06-10T12:31:48",125000,125000,"USD",{"$f":"tblSalaries[[#This Row],[clean Salary (in local currency)]]*VLOOKUP(tblSalaries[[#This Row],[Currency]],tblXrate[],2,FALSE)","v":125000},"project manager","Manager","USA",{"$f":"VLOOKUP(tblSalaries[[#This Row],[Where do you work]],tblCountries[[Actual]:[Mapping]],2,FALSE)","v":"USA"},"All the 8 hours baby, all the 8!",10]
[null,"ID1779","2012-06-10T14:58:39",1300000,1300000,"INR",{"$f":"tblSalaries[[#This Row],[clean Salary (in local currency)]]*VLOOKUP(tblSalaries[[#This Row],[Currency]],tblXrate[],2,FALSE)","v":23150.291693675339},"Manager","Manager","India",{"$f":"VLOOKUP(tblSalaries[[#This Row],[Where do you work]],tblCountries[[Actual]:[Mapping]],2,FALSE)","v":"India"},"All the 8 hours baby, all the 8!",9]
[null,"ID1780","2012-06-10T15:20:01",1000,12000,"USD",{"$f":"tblSalaries[[#This Row],[clean Salary (in local currency)]]*VLOOKUP(tblSalaries[[#This Row],[Currency]],tblXrate[],2,FALSE)","v":12000},"project engineer ","Engineer","India",{"$f":"VLOOKUP(tblSalaries[[#This Row],[Where do you work]],tblCountries[[Actual]:[Mapping]],2,FALSE)","v":"India"},"2 to 3 hours per day",7]
[null,"ID1781","2012-06-10T15:59:17",30000,30000,"USD",{"$f":"tblSalaries[[#This Row],[clean Salary (in local currency)]]*VLOOKUP(tblSalaries[[#This Row],[Currency]],tblXrate[],2,FALSE)","v":30000},"Teacher","Analyst","Malaysia",{"$f":"VLOOKUP(tblSalaries[[#This Row],[Where do you work]],tblCountries[[Actual]:[Mapping]],2,FALSE)","v":"Malaysia"},"1 or 2 hours a day",12]
[null,"ID1782","2012-06-10T17:21:08",72000,72000,"EUR",{"$f":"tblSalaries[[#This Row],[clean Salary (in local currency)]]*VLOOKUP(tblSalaries[[#This Row],[Currency]],tblXrate[],2,FALSE)","v":91468.759607395754},"regional sales manager","Manager","croatia",{"$f":"VLOOKUP(tblSalaries[[#This Row],[Where do you work]],tblCountries[[Actual]:[Mapping]],2,FALSE)","v":"Croatia"},"1 or 2 hours a day",3]
[null,"ID1783","2012-06-10T20:30:23","Â£22300",22300,"GBP",{"$f":"tblSalaries[[#This Row],[clean Salary (in local currency)]]*VLOOKUP(tblSalaries[[#This Row],[Currency]],tblXrate[],2,FALSE)","v":35148.775467100437},"Analysis & insight consultant","Analyst","UK",{"$f":"VLOOKUP(tblSalaries[[#This Row],[Where do you work]],tblCountries[[Actual]:[Mapping]],2,FALSE)","v":"UK"},"All the 8 hours baby, all the 8!",4]
[null,"ID1784","2012-06-10T21:52:30","Â£31185",31185,"GBP",{"$f":"tblSalaries[[#This Row],[clean Salary (in local currency)]]*VLOOKUP(tblSalaries[[#This Row],[Currency]],tblXrate[],2,FALSE)","v":49153.119414418252},"Data Team Leader","Manager","UK",{"$f":"VLOOKUP(tblSalaries[[#This Row],[Where do you work]],tblCountries[[Actual]:[Mapping]],2,FALSE)","v":"UK"},"4 to 6 hours a day",7]
[null,"ID1785","2012-06-11T03:11:39",150000,150000,"INR",{"$f":"tblSalaries[[#This Row],[clean Salary (in local currency)]]*VLOOKUP(tblSalaries[[#This Row],[Currency]],tblXrate[],2,FALSE)","v":2671.1875031163854},"ENGINEER","Engineer","India",{"$f":"VLOOKUP(tblSalaries[[#This Row],[Where do you work]],tblCountries[[Actual]:[Mapping]],2,FALSE)","v":"India"},"2 to 3 hours per day",1]
[null,"ID1786","2012-06-11T05:59:09",27000,27000,"GBP",{"$f":"tblSalaries[[#This Row],[clean Salary (in local currency)]]*VLOOKUP(tblSalaries[[#This Row],[Currency]],tblXrate[],2,FALSE)","v":42556.81334581667},"assistant account manager","Manager","UK",{"$f":"VLOOKUP(tblSalaries[[#This Row],[Where do you work]],tblCountries[[Actual]:[Mapping]],2,FALSE)","v":"UK"},"4 to 6 hours a day",3]
[null,"ID1787","2012-06-11T05:59:55",27000,27000,"GBP",{"$f":"tblSalaries[[#This Row],[clean Salary (in local currency)]]*VLOOKUP(tblSalaries[[#This Row],[Currency]],tblXrate[],2,FALSE)","v":42556.81334581667},"assistant account manager","Manager","UK",{"$f":"VLOOKUP(tblSalaries[[#This Row],[Where do you work]],tblCountries[[Actual]:[Mapping]],2,FALSE)","v":"UK"},"4 to 6 hours a day",3]
[null,"ID1788","2012-06-11T10:04:43",74461,74461,"USD",{"$f":"tblSalaries[[#This Row],[clean Salary (in local currency)]]*VLOOKUP(tblSalaries[[#This Row],[Currency]],tblXrate[],2,FALSE)","v":74461},"Scientist III","Misc.","USA",{"$f":"VLOOKUP(tblSalaries[[#This Row],[Where do you work]],tblCountries[[Actual]:[Mapping]],2,FALSE)","v":"USA"},"1 or 2 hours a day",9]
[null,"ID1789","2012-06-11T16:55:40","Â£26500",26500,"GBP",{"$f":"tblSalaries[[#This Row],[clean Salary (in local currency)]]*VLOOKUP(tblSalaries[[#This Row],[Currency]],tblXrate[],2,FALSE)","v":41768.724209783031},"Compliance Manager","Manager","UK",{"$f":"VLOOKUP(tblSalaries[[#This Row],[Where do you work]],tblCountries[[Actual]:[Mapping]],2,FALSE)","v":"UK"},"4 to 6 hours a day",16]
[null,"ID1790","2012-06-11T17:01:58","Rs 480000",480000,"INR",{"$f":"tblSalaries[[#This Row],[clean Salary (in local currency)]]*VLOOKUP(tblSalaries[[#This Row],[Currency]],tblXrate[],2,FALSE)","v":8547.8000099724322},"Development Analyst","Analyst","India",{"$f":"VLOOKUP(tblSalaries[[#This Row],[Where do you work]],tblCountries[[Actual]:[Mapping]],2,FALSE)","v":"India"},"4 to 6 hours a day",1]
[null,"ID1791","2012-06-11T17:54:22",200,2400,"USD",{"$f":"tblSalaries[[#This Row],[clean Salary (in local currency)]]*VLOOKUP(tblSalaries[[#This Row],[Currency]],tblXrate[],2,FALSE)","v":2400},"computer operator","Analyst","India",{"$f":"VLOOKUP(tblSalaries[[#This Row],[Where do you work]],tblCountries[[Actual]:[Mapping]],2,FALSE)","v":"India"},"2 to 3 hours per day",3]
[null,"ID1792","2012-06-11T19:40:47","3000 $",3000,"USD",{"$f":"tblSalaries[[#This Row],[clean Salary (in local currency)]]*VLOOKUP(tblSalaries[[#This Row],[Currency]],tblXrate[],2,FALSE)","v":3000},"executive","Analyst","Bangladesh",{"$f":"VLOOKUP(tblSalaries[[#This Row],[Where do you work]],tblCountries[[Actual]:[Mapping]],2,FALSE)","v":"Bangladesh"},"1 or 2 hours a day",12]
[null,"ID1793","2012-06-11T19:56:36",11000,11000,"USD",{"$f":"tblSalaries[[#This Row],[clean Salary (in local currency)]]*VLOOKUP(tblSalaries[[#This Row],[Currency]],tblXrate[],2,FALSE)","v":11000},"Web Analyst","Analyst","India",{"$f":"VLOOKUP(tblSalaries[[#This Row],[Where do you work]],tblCountries[[Actual]:[Mapping]],2,FALSE)","v":"India"},"4 to 6 hours a day",2]
[null,"ID1794","2012-06-11T21:03:36",40000,40000,"USD",{"$f":"tblSalaries[[#This Row],[clean Salary (in local currency)]]*VLOOKUP(tblSalaries[[#This Row],[Currency]],tblXrate[],2,FALSE)","v":40000},"Intern","Analyst","USA",{"$f":"VLOOKUP(tblSalaries[[#This Row],[Where do you work]],tblCountries[[Actual]:[Mapping]],2,FALSE)","v":"USA"},"2 to 3 hours per day",2]
[null,"ID1795","2012-06-11T21:29:29",300,3600,"USD",{"$f":"tblSalaries[[#This Row],[clean Salary (in local currency)]]*VLOOKUP(tblSalaries[[#This Row],[Currency]],tblXrate[],2,FALSE)","v":3600},"Analyst","Analyst","India",{"$f":"VLOOKUP(tblSalaries[[#This Row],[Where do you work]],tblCountries[[Actual]:[Mapping]],2,FALSE)","v":"India"},"4 to 6 hours a day",1]
[null,"ID1796","2012-06-11T21:52:14",56600,56600,"USD",{"$f":"tblSalaries[[#This Row],[clean Salary (in local currency)]]*VLOOKUP(tblSalaries[[#This Row],[Currency]],tblXrate[],2,FALSE)","v":56600},"ECommerce Manager","Manager","USA",{"$f":"VLOOKUP(tblSalaries[[#This Row],[Where do you work]],tblCountries[[Actual]:[Mapping]],2,FALSE)","v":"USA"},"4 to 6 hours a day",12]
[null,"ID1797","2012-06-11T22:21:25",33600,33600,"USD",{"$f":"tblSalaries[[#This Row],[clean Salary (in local currency)]]*VLOOKUP(tblSalaries[[#This Row],[Currency]],tblXrate[],2,FALSE)","v":33600},"Executive","Analyst","Singapore",{"$f":"VLOOKUP(tblSalaries[[#This Row],[Where do you work]],tblCountries[[Actual]:[Mapping]],2,FALSE)","v":"Singapore"},"All the 8 hours baby, all the 8!",2]
[null,"ID1798","2012-06-11T22:22:00",33600,33600,"USD",{"$f":"tblSalaries[[#This Row],[clean Salary (in local currency)]]*VLOOKUP(tblSalaries[[#This Row],[Currency]],tblXrate[],2,FALSE)","v":33600},"Executive","Analyst","Singapore",{"$f":"VLOOKUP(tblSalaries[[#This Row],[Where do you work]],tblCountries[[Actual]:[Mapping]],2,FALSE)","v":"Singapore"},"All the 8 hours baby, all the 8!",2]
[null,"ID1799","2012-06-12T00:26:07",100000,100000,"USD",{"$f":"tblSalaries[[#This Row],[clean Salary (in local currency)]]*VLOOKUP(tblSalaries[[#This Row],[Currency]],tblXrate[],2,FALSE)","v":100000},"analyst","Analyst","USA",{"$f":"VLOOKUP(tblSalaries[[#This Row],[Where do you work]],tblCountries[[Actual]:[Mapping]],2,FALSE)","v":"USA"},"All the 8 hours baby, all the 8!",12]
[null,"ID1800","2012-06-12T01:55:12",40000,40000,"CAD",{"$f":"tblSalaries[[#This Row],[clean Salary (in local currency)]]*VLOOKUP(tblSalaries[[#This Row],[Currency]],tblXrate[],2,FALSE)","v":39334.460921213074},"Machine Scheduler","Analyst","Canada",{"$f":"VLOOKUP(tblSalaries[[#This Row],[Where do you work]],tblCountries[[Actual]:[Mapping]],2,FALSE)","v":"Canada"},"1 or 2 hours a day",1]
[null,"ID1801","2012-06-12T01:58:00",400000,400000,"INR",{"$f":"tblSalaries[[#This Row],[clean Salary (in local currency)]]*VLOOKUP(tblSalaries[[#This Row],[Currency]],tblXrate[],2,FALSE)","v":7123.1666749770275},"business analyst","Analyst","India",{"$f":"VLOOKUP(tblSalaries[[#This Row],[Where do you work]],tblCountries[[Actual]:[Mapping]],2,FALSE)","v":"India"},"2 to 3 hours per day",3]
[null,"ID1802","2012-06-12T02:43:17","$65,000 US",65000,"USD",{"$f":"tblSalaries[[#This Row],[clean Salary (in local currency)]]*VLOOKUP(tblSalaries[[#This Row],[Currency]],tblXrate[],2,FALSE)","v":65000},"Sr Financial Systems Analyst","Analyst","USA",{"$f":"VLOOKUP(tblSalaries[[#This Row],[Where do you work]],tblCountries[[Actual]:[Mapping]],2,FALSE)","v":"USA"},"4 to 6 hours a day",14]
[null,"ID1803","2012-06-12T02:59:16",65000,65000,"USD",{"$f":"tblSalaries[[#This Row],[clean Salary (in local currency)]]*VLOOKUP(tblSalaries[[#This Row],[Currency]],tblXrate[],2,FALSE)","v":65000},"Data Analyst","Analyst","USA",{"$f":"VLOOKUP(tblSalaries[[#This Row],[Where do you work]],tblCountries[[Actual]:[Mapping]],2,FALSE)","v":"USA"},"2 to 3 hours per day",10]
[null,"ID1804","2012-06-12T03:32:27",65000,65000,"USD",{"$f":"tblSalaries[[#This Row],[clean Salary (in local currency)]]*VLOOKUP(tblSalaries[[#This Row],[Currency]],tblXrate[],2,FALSE)","v":65000},"Assistant Controller","Controller","USA",{"$f":"VLOOKUP(tblSalaries[[#This Row],[Where do you work]],tblCountries[[Actual]:[Mapping]],2,FALSE)","v":"USA"},"2 to 3 hours per day",13]
[null,"ID1805","2012-06-12T03:45:25",78000,78000,"CAD",{"$f":"tblSalaries[[#This Row],[clean Salary (in local currency)]]*VLOOKUP(tblSalaries[[#This Row],[Currency]],tblXrate[],2,FALSE)","v":76702.198796365497},"SFA","Analyst","Canada",{"$f":"VLOOKUP(tblSalaries[[#This Row],[Where do you work]],tblCountries[[Actual]:[Mapping]],2,FALSE)","v":"Canada"},"All the 8 hours baby, all the 8!",4]
[null,"ID1806","2012-06-12T06:36:12",63000,63000,"USD",{"$f":"tblSalaries[[#This Row],[clean Salary (in local currency)]]*VLOOKUP(tblSalaries[[#This Row],[Currency]],tblXrate[],2,FALSE)","v":63000},"Sales Analyst","Analyst","USA",{"$f":"VLOOKUP(tblSalaries[[#This Row],[Where do you work]],tblCountries[[Actual]:[Mapping]],2,FALSE)","v":"USA"},"All the 8 hours baby, all the 8!",10]
[null,"ID1807","2012-06-12T08:36:15",87000,87000,"USD",{"$f":"tblSalaries[[#This Row],[clean Salary (in local currency)]]*VLOOKUP(tblSalaries[[#This Row],[Currency]],tblXrate[],2,FALSE)","v":87000},"Ð˜Ð¨ Ð¤Ñ‚Ñ„Ð´Ð½Ñ‹Ðµ","Misc.","USA",{"$f":"VLOOKUP(tblSalaries[[#This Row],[Where do you work]],tblCountries[[Actual]:[Mapping]],2,FALSE)","v":"USA"},"4 to 6 hours a day",3]
[null,"ID1808","2012-06-12T08:46:15",45000,45000,"USD",{"$f":"tblSalaries[[#This Row],[clean Salary (in local currency)]]*VLOOKUP(tblSalaries[[#This Row],[Currency]],tblXrate[],2,FALSE)","v":45000},"ba","Analyst","USA",{"$f":"VLOOKUP(tblSalaries[[#This Row],[Where do you work]],tblCountries[[Actual]:[Mapping]],2,FALSE)","v":"USA"},"4 to 6 hours a day",4]
[null,"ID1809","2012-06-12T12:15:46",85000,85000,"USD",{"$f":"tblSalaries[[#This Row],[clean Salary (in local currency)]]*VLOOKUP(tblSalaries[[#This Row],[Currency]],tblXrate[],2,FALSE)","v":85000},"Lead Financial Analyst","Analyst","USA",{"$f":"VLOOKUP(tblSalaries[[#This Row],[Where do you work]],tblCountries[[Actual]:[Mapping]],2,FALSE)","v":"USA"},"All the 8 hours baby, all the 8!",3]
[null,"ID1810","2012-06-12T15:09:22",156000,156000,"AUD",{"$f":"tblSalaries[[#This Row],[clean Salary (in local currency)]]*VLOOKUP(tblSalaries[[#This Row],[Currency]],tblXrate[],2,FALSE)","v":159105.90639881117},"Senior Associate Engineer","Engineer","Australia",{"$f":"VLOOKUP(tblSalaries[[#This Row],[Where do you work]],tblCountries[[Actual]:[Mapping]],2,FALSE)","v":"Australia"},"2 to 3 hours per day",12]
[null,"ID1811","2012-06-12T15:58:36",560000,560000,"INR",{"$f":"tblSalaries[[#This Row],[clean Salary (in local currency)]]*VLOOKUP(tblSalaries[[#This Row],[Currency]],tblXrate[],2,FALSE)","v":9972.4333449678379},"Associate Manager","Manager","India",{"$f":"VLOOKUP(tblSalaries[[#This Row],[Where do you work]],tblCountries[[Actual]:[Mapping]],2,FALSE)","v":"India"},"2 to 3 hours per day",4]
[null,"ID1812","2012-06-12T16:16:25",14000,14000,"USD",{"$f":"tblSalaries[[#This Row],[clean Salary (in local currency)]]*VLOOKUP(tblSalaries[[#This Row],[Currency]],tblXrate[],2,FALSE)","v":14000},"Manager","Manager","India",{"$f":"VLOOKUP(tblSalaries[[#This Row],[Where do you work]],tblCountries[[Actual]:[Mapping]],2,FALSE)","v":"India"},"4 to 6 hours a day",5]
[null,"ID1813","2012-06-12T18:09:58","Â£32000",32000,"GBP",{"$f":"tblSalaries[[#This Row],[clean Salary (in local currency)]]*VLOOKUP(tblSalaries[[#This Row],[Currency]],tblXrate[],2,FALSE)","v":50437.70470615309},"Business Analyst","Analyst","UK",{"$f":"VLOOKUP(tblSalaries[[#This Row],[Where do you work]],tblCountries[[Actual]:[Mapping]],2,FALSE)","v":"UK"},"4 to 6 hours a day",20]
[null,"ID1814","2012-06-12T18:28:39",32000,32000,"GBP",{"$f":"tblSalaries[[#This Row],[clean Salary (in local currency)]]*VLOOKUP(tblSalaries[[#This Row],[Currency]],tblXrate[],2,FALSE)","v":50437.70470615309},"Financial Analyst","Analyst","UK",{"$f":"VLOOKUP(tblSalaries[[#This Row],[Where do you work]],tblCountries[[Actual]:[Mapping]],2,FALSE)","v":"UK"},"All the 8 hours baby, all the 8!",1]
[null,"ID1815","2012-06-12T20:11:24",8900,1281600,"PKR",{"$f":"tblSalaries[[#This Row],[clean Salary (in local currency)]]*VLOOKUP(tblSalaries[[#This Row],[Currency]],tblXrate[],2,FALSE)","v":13603.016099449767},"Manager MIS & Analytics","Manager","pakistan",{"$f":"VLOOKUP(tblSalaries[[#This Row],[Where do you work]],tblCountries[[Actual]:[Mapping]],2,FALSE)","v":"Pakistan"},"All the 8 hours baby, all the 8!",8]
[null,"ID1816","2012-06-12T20:47:33","aud145000",145000,"AUD",{"$f":"tblSalaries[[#This Row],[clean Salary (in local currency)]]*VLOOKUP(tblSalaries[[#This Row],[Currency]],tblXrate[],2,FALSE)","v":147886.90017838217},"Financial controller","Controller","Australia",{"$f":"VLOOKUP(tblSalaries[[#This Row],[Where do you work]],tblCountries[[Actual]:[Mapping]],2,FALSE)","v":"Australia"},"2 to 3 hours per day",15]
[null,"ID1818","2012-06-12T21:47:54",280000,280000,"INR",{"$f":"tblSalaries[[#This Row],[clean Salary (in local currency)]]*VLOOKUP(tblSalaries[[#This Row],[Currency]],tblXrate[],2,FALSE)","v":4986.216672483919},"Sales Cordinator","Analyst","India",{"$f":"VLOOKUP(tblSalaries[[#This Row],[Where do you work]],tblCountries[[Actual]:[Mapping]],2,FALSE)","v":"India"},"All the 8 hours baby, all the 8!",8]
[null,"ID1819","2012-06-12T21:58:21",4800,4800,"USD",{"$f":"tblSalaries[[#This Row],[clean Salary (in local currency)]]*VLOOKUP(tblSalaries[[#This Row],[Currency]],tblXrate[],2,FALSE)","v":4800},"Sr Executive","Manager","India",{"$f":"VLOOKUP(tblSalaries[[#This Row],[Where do you work]],tblCountries[[Actual]:[Mapping]],2,FALSE)","v":"India"},"All the 8 hours baby, all the 8!",3]
[null,"ID1820","2012-06-13T00:20:14","4.5 Laks",450000,"INR",{"$f":"tblSalaries[[#This Row],[clean Salary (in local currency)]]*VLOOKUP(tblSalaries[[#This Row],[Currency]],tblXrate[],2,FALSE)","v":8013.5625093491553},"MIS Executive","Reporting","India",{"$f":"VLOOKUP(tblSalaries[[#This Row],[Where do you work]],tblCountries[[Actual]:[Mapping]],2,FALSE)","v":"India"},"4 to 6 hours a day",4]
[null,"ID1821","2012-06-13T00:23:31",80000,80000,"USD",{"$f":"tblSalaries[[#This Row],[clean Salary (in local currency)]]*VLOOKUP(tblSalaries[[#This Row],[Currency]],tblXrate[],2,FALSE)","v":80000},"Manager, Operations","Manager","USA",{"$f":"VLOOKUP(tblSalaries[[#This Row],[Where do you work]],tblCountries[[Actual]:[Mapping]],2,FALSE)","v":"USA"},"4 to 6 hours a day",2]
[null,"ID1822","2012-06-13T00:37:24","â‚¬ 45000",45000,"EUR",{"$f":"tblSalaries[[#This Row],[clean Salary (in local currency)]]*VLOOKUP(tblSalaries[[#This Row],[Currency]],tblXrate[],2,FALSE)","v":57167.974754622352},"IT Trainer","Analyst","Netherlands",{"$f":"VLOOKUP(tblSalaries[[#This Row],[Where do you work]],tblCountries[[Actual]:[Mapping]],2,FALSE)","v":"Netherlands"},"2 to 3 hours per day",14]
[null,"ID1823","2012-06-13T00:50:20",20000,20000,"USD",{"$f":"tblSalaries[[#This Row],[clean Salary (in local currency)]]*VLOOKUP(tblSalaries[[#This Row],[Currency]],tblXrate[],2,FALSE)","v":20000},"administrator","Analyst","Canada",{"$f":"VLOOKUP(tblSalaries[[#This Row],[Where do you work]],tblCountries[[Actual]:[Mapping]],2,FALSE)","v":"Canada"},"2 to 3 hours per day",2]
[null,"ID1824","2012-06-13T01:56:23",70000,70000,"USD",{"$f":"tblSalaries[[#This Row],[clean Salary (in local currency)]]*VLOOKUP(tblSalaries[[#This Row],[Currency]],tblXrate[],2,FALSE)","v":70000},"business analyst","Analyst","USA",{"$f":"VLOOKUP(tblSalaries[[#This Row],[Where do you work]],tblCountries[[Actual]:[Mapping]],2,FALSE)","v":"USA"},"2 to 3 hours per day",5]
[null,"ID1825","2012-06-13T03:23:05","$214,000  USD",214000,"USD",{"$f":"tblSalaries[[#This Row],[clean Salary (in local currency)]]*VLOOKUP(tblSalaries[[#This Row],[Currency]],tblXrate[],2,FALSE)","v":214000},"Assistant Corporate Controller","Controller","USA",{"$f":"VLOOKUP(tblSalaries[[#This Row],[Where do you work]],tblCountries[[Actual]:[Mapping]],2,FALSE)","v":"USA"},"All the 8 hours baby, all the 8!",20]
[null,"ID1826","2012-06-13T03:48:39",78000,78000,"USD",{"$f":"tblSalaries[[#This Row],[clean Salary (in local currency)]]*VLOOKUP(tblSalaries[[#This Row],[Currency]],tblXrate[],2,FALSE)","v":78000},"Data Integration Engenieer","Engineer","USA",{"$f":"VLOOKUP(tblSalaries[[#This Row],[Where do you work]],tblCountries[[Actual]:[Mapping]],2,FALSE)","v":"USA"},"All the 8 hours baby, all the 8!",5]
[null,"ID1827","2012-06-13T04:39:37",42307.199999999997,42307,"USD",{"$f":"tblSalaries[[#This Row],[clean Salary (in local currency)]]*VLOOKUP(tblSalaries[[#This Row],[Currency]],tblXrate[],2,FALSE)","v":42307},"purchasing operations administrator","Analyst","USA",{"$f":"VLOOKUP(tblSalaries[[#This Row],[Where do you work]],tblCountries[[Actual]:[Mapping]],2,FALSE)","v":"USA"},"2 to 3 hours per day",25]
[null,"ID1828","2012-06-13T04:40:03",33250,33250,"USD",{"$f":"tblSalaries[[#This Row],[clean Salary (in local currency)]]*VLOOKUP(tblSalaries[[#This Row],[Currency]],tblXrate[],2,FALSE)","v":33250},"Planning and Logistics Coordinator","Manager","USA",{"$f":"VLOOKUP(tblSalaries[[#This Row],[Where do you work]],tblCountries[[Actual]:[Mapping]],2,FALSE)","v":"USA"},"All the 8 hours baby, all the 8!",20]
[null,"ID1829","2012-06-13T05:20:32","1600â‚¬ net monthly",19200,"EUR",{"$f":"tblSalaries[[#This Row],[clean Salary (in local currency)]]*VLOOKUP(tblSalaries[[#This Row],[Currency]],tblXrate[],2,FALSE)","v":24391.669228638868},"bank clerk","Analyst","italy",{"$f":"VLOOKUP(tblSalaries[[#This Row],[Where do you work]],tblCountries[[Actual]:[Mapping]],2,FALSE)","v":"Italy"},"4 to 6 hours a day",10]
[null,"ID1830","2012-06-13T06:19:24",120000,120000,"USD",{"$f":"tblSalaries[[#This Row],[clean Salary (in local currency)]]*VLOOKUP(tblSalaries[[#This Row],[Currency]],tblXrate[],2,FALSE)","v":120000},"Financial Modeler","Accountant","USA",{"$f":"VLOOKUP(tblSalaries[[#This Row],[Where do you work]],tblCountries[[Actual]:[Mapping]],2,FALSE)","v":"USA"},"4 to 6 hours a day",20]
[null,"ID1831","2012-06-13T11:58:30",20000,20000,"USD",{"$f":"tblSalaries[[#This Row],[clean Salary (in local currency)]]*VLOOKUP(tblSalaries[[#This Row],[Currency]],tblXrate[],2,FALSE)","v":20000},"Personal Assistant","Analyst","Hong Kong",{"$f":"VLOOKUP(tblSalaries[[#This Row],[Where do you work]],tblCountries[[Actual]:[Mapping]],2,FALSE)","v":"Hong Kong"},"1 or 2 hours a day",1]
[null,"ID1832","2012-06-13T17:22:47",15000,15000,"USD",{"$f":"tblSalaries[[#This Row],[clean Salary (in local currency)]]*VLOOKUP(tblSalaries[[#This Row],[Currency]],tblXrate[],2,FALSE)","v":15000},"senior associate","Analyst","India",{"$f":"VLOOKUP(tblSalaries[[#This Row],[Where do you work]],tblCountries[[Actual]:[Mapping]],2,FALSE)","v":"India"},"2 to 3 hours per day",0.3]
[null,"ID1833","2012-06-13T18:25:00","INR 10 lacs p.a.",1000000,"INR",{"$f":"tblSalaries[[#This Row],[clean Salary (in local currency)]]*VLOOKUP(tblSalaries[[#This Row],[Currency]],tblXrate[],2,FALSE)","v":17807.916687442568},"Mnanager- Customer Project finance & recovery","Manager","India",{"$f":"VLOOKUP(tblSalaries[[#This Row],[Where do you work]],tblCountries[[Actual]:[Mapping]],2,FALSE)","v":"India"},"2 to 3 hours per day",10]
[null,"ID1834","2012-06-13T19:20:25",900000,900000,"INR",{"$f":"tblSalaries[[#This Row],[clean Salary (in local currency)]]*VLOOKUP(tblSalaries[[#This Row],[Currency]],tblXrate[],2,FALSE)","v":16027.125018698311},"Lead ","Manager","India",{"$f":"VLOOKUP(tblSalaries[[#This Row],[Where do you work]],tblCountries[[Actual]:[Mapping]],2,FALSE)","v":"India"},"2 to 3 hours per day",6]
[null,"ID1835","2012-06-13T19:33:58","36000 British pounds",36000,"GBP",{"$f":"tblSalaries[[#This Row],[clean Salary (in local currency)]]*VLOOKUP(tblSalaries[[#This Row],[Currency]],tblXrate[],2,FALSE)","v":56742.417794422225},"Senior officer data reporting","Manager","UK",{"$f":"VLOOKUP(tblSalaries[[#This Row],[Where do you work]],tblCountries[[Actual]:[Mapping]],2,FALSE)","v":"UK"},"All the 8 hours baby, all the 8!",7]
[null,"ID1836","2012-06-13T19:40:16",1200000,1200000,"INR",{"$f":"tblSalaries[[#This Row],[clean Salary (in local currency)]]*VLOOKUP(tblSalaries[[#This Row],[Currency]],tblXrate[],2,FALSE)","v":21369.500024931083},"AM","Manager","India",{"$f":"VLOOKUP(tblSalaries[[#This Row],[Where do you work]],tblCountries[[Actual]:[Mapping]],2,FALSE)","v":"India"},"4 to 6 hours a day",7]
[null,"ID1837","2012-06-13T20:39:18",425000,425000,"INR",{"$f":"tblSalaries[[#This Row],[clean Salary (in local currency)]]*VLOOKUP(tblSalaries[[#This Row],[Currency]],tblXrate[],2,FALSE)","v":7568.3645921630914},"accountant","Accountant","India",{"$f":"VLOOKUP(tblSalaries[[#This Row],[Where do you work]],tblCountries[[Actual]:[Mapping]],2,FALSE)","v":"India"},"2 to 3 hours per day",6]
[null,"ID1838","2012-06-13T23:32:36",50000,50000,"GBP",{"$f":"tblSalaries[[#This Row],[clean Salary (in local currency)]]*VLOOKUP(tblSalaries[[#This Row],[Currency]],tblXrate[],2,FALSE)","v":78808.913603364199},"Assistant Financial Accountant","Accountant","UK",{"$f":"VLOOKUP(tblSalaries[[#This Row],[Where do you work]],tblCountries[[Actual]:[Mapping]],2,FALSE)","v":"UK"},"2 to 3 hours per day",10]
[null,"ID1839","2012-06-14T01:55:13",60000,60000,"USD",{"$f":"tblSalaries[[#This Row],[clean Salary (in local currency)]]*VLOOKUP(tblSalaries[[#This Row],[Currency]],tblXrate[],2,FALSE)","v":60000},"Business Analyst","Analyst","USA",{"$f":"VLOOKUP(tblSalaries[[#This Row],[Where do you work]],tblCountries[[Actual]:[Mapping]],2,FALSE)","v":"USA"},"4 to 6 hours a day",15]
[null,"ID1840","2012-06-14T02:44:43",57000,57000,"USD",{"$f":"tblSalaries[[#This Row],[clean Salary (in local currency)]]*VLOOKUP(tblSalaries[[#This Row],[Currency]],tblXrate[],2,FALSE)","v":57000},"Staff Accountant","Accountant","USA",{"$f":"VLOOKUP(tblSalaries[[#This Row],[Where do you work]],tblCountries[[Actual]:[Mapping]],2,FALSE)","v":"USA"},"4 to 6 hours a day",9]
[null,"ID1841","2012-06-14T04:22:36",40000,40000,"USD",{"$f":"tblSalaries[[#This Row],[clean Salary (in local currency)]]*VLOOKUP(tblSalaries[[#This Row],[Currency]],tblXrate[],2,FALSE)","v":40000},"Rates Analyst","Analyst","USA",{"$f":"VLOOKUP(tblSalaries[[#This Row],[Where do you work]],tblCountries[[Actual]:[Mapping]],2,FALSE)","v":"USA"},"2 to 3 hours per day",0]
[null,"ID1842","2012-06-14T07:16:41",80000,80000,"USD",{"$f":"tblSalaries[[#This Row],[clean Salary (in local currency)]]*VLOOKUP(tblSalaries[[#This Row],[Currency]],tblXrate[],2,FALSE)","v":80000},"Project Controller","Controller","USA",{"$f":"VLOOKUP(tblSalaries[[#This Row],[Where do you work]],tblCountries[[Actual]:[Mapping]],2,FALSE)","v":"USA"},"4 to 6 hours a day",9]
[null,"ID1843","2012-06-14T12:27:30",118000,118000,"USD",{"$f":"tblSalaries[[#This Row],[clean Salary (in local currency)]]*VLOOKUP(tblSalaries[[#This Row],[Currency]],tblXrate[],2,FALSE)","v":118000},"AVP","CXO or Top Mgmt.","USA",{"$f":"VLOOKUP(tblSalaries[[#This Row],[Where do you work]],tblCountries[[Actual]:[Mapping]],2,FALSE)","v":"USA"},"4 to 6 hours a day",6]
[null,"ID1844","2012-06-14T14:08:58",5000,60000,"USD",{"$f":"tblSalaries[[#This Row],[clean Salary (in local currency)]]*VLOOKUP(tblSalaries[[#This Row],[Currency]],tblXrate[],2,FALSE)","v":60000},"Analyst","Analyst","UAE",{"$f":"VLOOKUP(tblSalaries[[#This Row],[Where do you work]],tblCountries[[Actual]:[Mapping]],2,FALSE)","v":"UAE"},"4 to 6 hours a day",5]
[null,"ID1845","2012-06-14T18:27:04",560,6720,"USD",{"$f":"tblSalaries[[#This Row],[clean Salary (in local currency)]]*VLOOKUP(tblSalaries[[#This Row],[Currency]],tblXrate[],2,FALSE)","v":6720},"accoutant","Accountant","India",{"$f":"VLOOKUP(tblSalaries[[#This Row],[Where do you work]],tblCountries[[Actual]:[Mapping]],2,FALSE)","v":"India"},"4 to 6 hours a day",5]
[null,"ID1846","2012-06-14T22:03:05",1720,20640,"USD",{"$f":"tblSalaries[[#This Row],[clean Salary (in local currency)]]*VLOOKUP(tblSalaries[[#This Row],[Currency]],tblXrate[],2,FALSE)","v":20640},"Programme Officer","Manager","Singapore",{"$f":"VLOOKUP(tblSalaries[[#This Row],[Where do you work]],tblCountries[[Actual]:[Mapping]],2,FALSE)","v":"Singapore"},"4 to 6 hours a day",3]
[null,"ID1847","2012-06-15T00:35:45",50000,50000,"USD",{"$f":"tblSalaries[[#This Row],[clean Salary (in local currency)]]*VLOOKUP(tblSalaries[[#This Row],[Currency]],tblXrate[],2,FALSE)","v":50000},"Digital Media Analyst","Analyst","USA",{"$f":"VLOOKUP(tblSalaries[[#This Row],[Where do you work]],tblCountries[[Actual]:[Mapping]],2,FALSE)","v":"USA"},"All the 8 hours baby, all the 8!",15]
[null,"ID1848","2012-06-15T00:52:38",2000,24000,"USD",{"$f":"tblSalaries[[#This Row],[clean Salary (in local currency)]]*VLOOKUP(tblSalaries[[#This Row],[Currency]],tblXrate[],2,FALSE)","v":24000},"Plant Controller","Controller","Russia",{"$f":"VLOOKUP(tblSalaries[[#This Row],[Where do you work]],tblCountries[[Actual]:[Mapping]],2,FALSE)","v":"Russia"},"All the 8 hours baby, all the 8!",23]
[null,"ID1849","2012-06-15T01:02:48",60000,60000,"USD",{"$f":"tblSalaries[[#This Row],[clean Salary (in local currency)]]*VLOOKUP(tblSalaries[[#This Row],[Currency]],tblXrate[],2,FALSE)","v":60000},"Business Analyst","Analyst","USA",{"$f":"VLOOKUP(tblSalaries[[#This Row],[Where do you work]],tblCountries[[Actual]:[Mapping]],2,FALSE)","v":"USA"},"2 to 3 hours per day",3]
[null,"ID1850","2012-06-15T01:10:09",37500,37500,"USD",{"$f":"tblSalaries[[#This Row],[clean Salary (in local currency)]]*VLOOKUP(tblSalaries[[#This Row],[Currency]],tblXrate[],2,FALSE)","v":37500},"consultant","Consultant","India",{"$f":"VLOOKUP(tblSalaries[[#This Row],[Where do you work]],tblCountries[[Actual]:[Mapping]],2,FALSE)","v":"India"},"All the 8 hours baby, all the 8!",0]
[null,"ID1851","2012-06-15T02:24:44",40000,40000,"USD",{"$f":"tblSalaries[[#This Row],[clean Salary (in local currency)]]*VLOOKUP(tblSalaries[[#This Row],[Currency]],tblXrate[],2,FALSE)","v":40000},"Research Support Specialist","Specialist","USA",{"$f":"VLOOKUP(tblSalaries[[#This Row],[Where do you work]],tblCountries[[Actual]:[Mapping]],2,FALSE)","v":"USA"},"4 to 6 hours a day",1]
[null,"ID1852","2012-06-15T02:30:11","US$ 85000",85000,"USD",{"$f":"tblSalaries[[#This Row],[clean Salary (in local currency)]]*VLOOKUP(tblSalaries[[#This Row],[Currency]],tblXrate[],2,FALSE)","v":85000},"Chief Financial Officer","CXO or Top Mgmt.","USA",{"$f":"VLOOKUP(tblSalaries[[#This Row],[Where do you work]],tblCountries[[Actual]:[Mapping]],2,FALSE)","v":"USA"},"2 to 3 hours per day",15]
[null,"ID1853","2012-06-15T03:00:04",30000,30000,"USD",{"$f":"tblSalaries[[#This Row],[clean Salary (in local currency)]]*VLOOKUP(tblSalaries[[#This Row],[Currency]],tblXrate[],2,FALSE)","v":30000},"Trainee","Analyst","Brazil",{"$f":"VLOOKUP(tblSalaries[[#This Row],[Where do you work]],tblCountries[[Actual]:[Mapping]],2,FALSE)","v":"Brazil"},"2 to 3 hours per day",1]
[null,"ID1854","2012-06-15T03:51:50","Â£33500",33500,"GBP",{"$f":"tblSalaries[[#This Row],[clean Salary (in local currency)]]*VLOOKUP(tblSalaries[[#This Row],[Currency]],tblXrate[],2,FALSE)","v":52801.972114254015},"Senior Manufacturing Engineer","Engineer","UK",{"$f":"VLOOKUP(tblSalaries[[#This Row],[Where do you work]],tblCountries[[Actual]:[Mapping]],2,FALSE)","v":"UK"},"2 to 3 hours per day",7]
[null,"ID1855","2012-06-15T05:44:30",29000,29000,"USD",{"$f":"tblSalaries[[#This Row],[clean Salary (in local currency)]]*VLOOKUP(tblSalaries[[#This Row],[Currency]],tblXrate[],2,FALSE)","v":29000},"Customer Experence Engineer","Engineer","USA",{"$f":"VLOOKUP(tblSalaries[[#This Row],[Where do you work]],tblCountries[[Actual]:[Mapping]],2,FALSE)","v":"USA"},"All the 8 hours baby, all the 8!",1]
[null,"ID1857","2012-06-15T09:00:08",48000,48000,"USD",{"$f":"tblSalaries[[#This Row],[clean Salary (in local currency)]]*VLOOKUP(tblSalaries[[#This Row],[Currency]],tblXrate[],2,FALSE)","v":48000},"Accountant","Accountant","USA",{"$f":"VLOOKUP(tblSalaries[[#This Row],[Where do you work]],tblCountries[[Actual]:[Mapping]],2,FALSE)","v":"USA"},"4 to 6 hours a day",1]
[null,"ID1858","2012-06-15T09:01:23",48000,48000,"USD",{"$f":"tblSalaries[[#This Row],[clean Salary (in local currency)]]*VLOOKUP(tblSalaries[[#This Row],[Currency]],tblXrate[],2,FALSE)","v":48000},"Accountant","Accountant","USA",{"$f":"VLOOKUP(tblSalaries[[#This Row],[Where do you work]],tblCountries[[Actual]:[Mapping]],2,FALSE)","v":"USA"},"4 to 6 hours a day",1]
[null,"ID1859","2012-06-15T15:07:11",700,8400,"USD",{"$f":"tblSalaries[[#This Row],[clean Salary (in local currency)]]*VLOOKUP(tblSalaries[[#This Row],[Currency]],tblXrate[],2,FALSE)","v":8400},"Analyst","Analyst","Baltic",{"$f":"VLOOKUP(tblSalaries[[#This Row],[Where do you work]],tblCountries[[Actual]:[Mapping]],2,FALSE)","v":"Baltic"},"All the 8 hours baby, all the 8!",0.3]
[null,"ID1860","2012-06-15T15:43:42",270000,270000,"INR",{"$f":"tblSalaries[[#This Row],[clean Salary (in local currency)]]*VLOOKUP(tblSalaries[[#This Row],[Currency]],tblXrate[],2,FALSE)","v":4808.137505609493},"Team Lead","Manager","India",{"$f":"VLOOKUP(tblSalaries[[#This Row],[Where do you work]],tblCountries[[Actual]:[Mapping]],2,FALSE)","v":"India"},"2 to 3 hours per day",5]
[null,"ID1861","2012-06-15T16:36:47",1400000,1400000,"INR",{"$f":"tblSalaries[[#This Row],[clean Salary (in local currency)]]*VLOOKUP(tblSalaries[[#This Row],[Currency]],tblXrate[],2,FALSE)","v":24931.083362419595},"Manager - Controlling","Manager","India",{"$f":"VLOOKUP(tblSalaries[[#This Row],[Where do you work]],tblCountries[[Actual]:[Mapping]],2,FALSE)","v":"India"},"4 to 6 hours a day",10]
[null,"ID1862","2012-06-15T17:16:19","INR 700000",700000,"INR",{"$f":"tblSalaries[[#This Row],[clean Salary (in local currency)]]*VLOOKUP(tblSalaries[[#This Row],[Currency]],tblXrate[],2,FALSE)","v":12465.541681209797},"Sr. System Analyst","Analyst","India",{"$f":"VLOOKUP(tblSalaries[[#This Row],[Where do you work]],tblCountries[[Actual]:[Mapping]],2,FALSE)","v":"India"},"2 to 3 hours per day",4]
[null,"ID1863","2012-06-15T17:35:32",20000,20000,"GBP",{"$f":"tblSalaries[[#This Row],[clean Salary (in local currency)]]*VLOOKUP(tblSalaries[[#This Row],[Currency]],tblXrate[],2,FALSE)","v":31523.565441345683},"Accountant","Accountant","UK",{"$f":"VLOOKUP(tblSalaries[[#This Row],[Where do you work]],tblCountries[[Actual]:[Mapping]],2,FALSE)","v":"UK"},"2 to 3 hours per day",10]
[null,"ID1864","2012-06-15T17:36:10","INR 1000000",1000000,"INR",{"$f":"tblSalaries[[#This Row],[clean Salary (in local currency)]]*VLOOKUP(tblSalaries[[#This Row],[Currency]],tblXrate[],2,FALSE)","v":17807.916687442568},"Sr.Manager","Manager","India",{"$f":"VLOOKUP(tblSalaries[[#This Row],[Where do you work]],tblCountries[[Actual]:[Mapping]],2,FALSE)","v":"India"},"All the 8 hours baby, all the 8!",10]
[null,"ID1865","2012-06-15T18:13:12",112000,112000,"USD",{"$f":"tblSalaries[[#This Row],[clean Salary (in local currency)]]*VLOOKUP(tblSalaries[[#This Row],[Currency]],tblXrate[],2,FALSE)","v":112000},"manager","Manager","USA",{"$f":"VLOOKUP(tblSalaries[[#This Row],[Where do you work]],tblCountries[[Actual]:[Mapping]],2,FALSE)","v":"USA"},"2 to 3 hours per day",8]
[null,"ID1866","2012-06-15T20:00:26",11000,11000,"USD",{"$f":"tblSalaries[[#This Row],[clean Salary (in local currency)]]*VLOOKUP(tblSalaries[[#This Row],[Currency]],tblXrate[],2,FALSE)","v":11000},"AM","Manager","India",{"$f":"VLOOKUP(tblSalaries[[#This Row],[Where do you work]],tblCountries[[Actual]:[Mapping]],2,FALSE)","v":"India"},"All the 8 hours baby, all the 8!",8]
[null,"ID1867","2012-06-15T20:50:49","EUR 90000",90000,"EUR",{"$f":"tblSalaries[[#This Row],[clean Salary (in local currency)]]*VLOOKUP(tblSalaries[[#This Row],[Currency]],tblXrate[],2,FALSE)","v":114335.9495092447},"Controller","Controller","mainland Europe (Euro zone)",{"$f":"VLOOKUP(tblSalaries[[#This Row],[Where do you work]],tblCountries[[Actual]:[Mapping]],2,FALSE)","v":"Europe"},"2 to 3 hours per day",20]
[null,"ID1868","2012-06-15T21:32:16","$US16.110,72",16110,"USD",{"$f":"tblSalaries[[#This Row],[clean Salary (in local currency)]]*VLOOKUP(tblSalaries[[#This Row],[Currency]],tblXrate[],2,FALSE)","v":16110},"INFORMATION ANALIST","Analyst","COLOMBIA",{"$f":"VLOOKUP(tblSalaries[[#This Row],[Where do you work]],tblCountries[[Actual]:[Mapping]],2,FALSE)","v":"Colombia"},"All the 8 hours baby, all the 8!",10]
[null,"ID1869","2012-06-15T22:36:45",72000,72000,"USD",{"$f":"tblSalaries[[#This Row],[clean Salary (in local currency)]]*VLOOKUP(tblSalaries[[#This Row],[Currency]],tblXrate[],2,FALSE)","v":72000},"HR Supervisor","Manager","USA",{"$f":"VLOOKUP(tblSalaries[[#This Row],[Where do you work]],tblCountries[[Actual]:[Mapping]],2,FALSE)","v":"USA"},"4 to 6 hours a day",10]
[null,"ID1870","2012-06-15T23:21:00",60000,60000,"USD",{"$f":"tblSalaries[[#This Row],[clean Salary (in local currency)]]*VLOOKUP(tblSalaries[[#This Row],[Currency]],tblXrate[],2,FALSE)","v":60000},"Marketing Initatities Analyst","Analyst","USA",{"$f":"VLOOKUP(tblSalaries[[#This Row],[Where do you work]],tblCountries[[Actual]:[Mapping]],2,FALSE)","v":"USA"},"All the 8 hours baby, all the 8!",10]
[null,"ID1871","2012-06-15T23:50:11",67000,67000,"USD",{"$f":"tblSalaries[[#This Row],[clean Salary (in local currency)]]*VLOOKUP(tblSalaries[[#This Row],[Currency]],tblXrate[],2,FALSE)","v":67000},"Sales Compensation Analyst","Analyst","USA",{"$f":"VLOOKUP(tblSalaries[[#This Row],[Where do you work]],tblCountries[[Actual]:[Mapping]],2,FALSE)","v":"USA"},"4 to 6 hours a day",6]
[null,"ID1872","2012-06-16T02:50:49",54000,54000,"USD",{"$f":"tblSalaries[[#This Row],[clean Salary (in local currency)]]*VLOOKUP(tblSalaries[[#This Row],[Currency]],tblXrate[],2,FALSE)","v":54000},"materials","Analyst","USA",{"$f":"VLOOKUP(tblSalaries[[#This Row],[Where do you work]],tblCountries[[Actual]:[Mapping]],2,FALSE)","v":"USA"},"4 to 6 hours a day",18]
[null,"ID1873","2012-06-16T05:23:03",38666,38666,"USD",{"$f":"tblSalaries[[#This Row],[clean Salary (in local currency)]]*VLOOKUP(tblSalaries[[#This Row],[Currency]],tblXrate[],2,FALSE)","v":38666},"Actuarial Specialist","Specialist","South Africa",{"$f":"VLOOKUP(tblSalaries[[#This Row],[Where do you work]],tblCountries[[Actual]:[Mapping]],2,FALSE)","v":"South Africa"},"All the 8 hours baby, all the 8!",10]
[null,"ID1874","2012-06-16T06:17:53",63000,63000,"USD",{"$f":"tblSalaries[[#This Row],[clean Salary (in local currency)]]*VLOOKUP(tblSalaries[[#This Row],[Currency]],tblXrate[],2,FALSE)","v":63000},"Marketing Database Analyst","Analyst","USA",{"$f":"VLOOKUP(tblSalaries[[#This Row],[Where do you work]],tblCountries[[Actual]:[Mapping]],2,FALSE)","v":"USA"},"4 to 6 hours a day",6]
[null,"ID1875","2012-06-16T08:10:59","63000 USD",63000,"USD",{"$f":"tblSalaries[[#This Row],[clean Salary (in local currency)]]*VLOOKUP(tblSalaries[[#This Row],[Currency]],tblXrate[],2,FALSE)","v":63000},"Financial Analyst","Analyst","USA",{"$f":"VLOOKUP(tblSalaries[[#This Row],[Where do you work]],tblCountries[[Actual]:[Mapping]],2,FALSE)","v":"USA"},"All the 8 hours baby, all the 8!",1]
[null,"ID1876","2012-06-16T14:10:51","INR 360000",360000,"INR",{"$f":"tblSalaries[[#This Row],[clean Salary (in local currency)]]*VLOOKUP(tblSalaries[[#This Row],[Currency]],tblXrate[],2,FALSE)","v":6410.8500074793246},"Analyst","Analyst","India",{"$f":"VLOOKUP(tblSalaries[[#This Row],[Where do you work]],tblCountries[[Actual]:[Mapping]],2,FALSE)","v":"India"},"All the 8 hours baby, all the 8!",2]
[null,"ID1877","2012-06-16T17:07:45","INR 50000",600000,"INR",{"$f":"tblSalaries[[#This Row],[clean Salary (in local currency)]]*VLOOKUP(tblSalaries[[#This Row],[Currency]],tblXrate[],2,FALSE)","v":10684.750012465542},"Manager- Customer Support","Manager","India",{"$f":"VLOOKUP(tblSalaries[[#This Row],[Where do you work]],tblCountries[[Actual]:[Mapping]],2,FALSE)","v":"India"},"4 to 6 hours a day",12]
[null,"ID1878","2012-06-16T17:14:03",40000,40000,"USD",{"$f":"tblSalaries[[#This Row],[clean Salary (in local currency)]]*VLOOKUP(tblSalaries[[#This Row],[Currency]],tblXrate[],2,FALSE)","v":40000},"Assistant Manager","Manager","India",{"$f":"VLOOKUP(tblSalaries[[#This Row],[Where do you work]],tblCountries[[Actual]:[Mapping]],2,FALSE)","v":"India"},"4 to 6 hours a day",5]
[null,"ID1879","2012-06-16T17:49:27","3.5 lac",350000,"INR",{"$f":"tblSalaries[[#This Row],[clean Salary (in local currency)]]*VLOOKUP(tblSalaries[[#This Row],[Currency]],tblXrate[],2,FALSE)","v":6232.7708406048987},"Analyst","Analyst","India",{"$f":"VLOOKUP(tblSalaries[[#This Row],[Where do you work]],tblCountries[[Actual]:[Mapping]],2,FALSE)","v":"India"},"4 to 6 hours a day",6]
[null,"ID1880","2012-06-16T18:31:59",2342342,2342342,"INR",{"$f":"tblSalaries[[#This Row],[clean Salary (in local currency)]]*VLOOKUP(tblSalaries[[#This Row],[Currency]],tblXrate[],2,FALSE)","v":41712.231189497601},"3r23regedf","Misc.","India",{"$f":"VLOOKUP(tblSalaries[[#This Row],[Where do you work]],tblCountries[[Actual]:[Mapping]],2,FALSE)","v":"India"},"2 to 3 hours per day",12]
[null,"ID1881","2012-06-16T18:33:25","Rs. 700000",700000,"INR",{"$f":"tblSalaries[[#This Row],[clean Salary (in local currency)]]*VLOOKUP(tblSalaries[[#This Row],[Currency]],tblXrate[],2,FALSE)","v":12465.541681209797},"Revenue Focus Manager","Manager","India",{"$f":"VLOOKUP(tblSalaries[[#This Row],[Where do you work]],tblCountries[[Actual]:[Mapping]],2,FALSE)","v":"India"},"2 to 3 hours per day",9]
[null,"ID1882","2012-06-16T22:24:30",20500,20500,"GBP",{"$f":"tblSalaries[[#This Row],[clean Salary (in local currency)]]*VLOOKUP(tblSalaries[[#This Row],[Currency]],tblXrate[],2,FALSE)","v":32311.654577379326},"analyst","Analyst","UK",{"$f":"VLOOKUP(tblSalaries[[#This Row],[Where do you work]],tblCountries[[Actual]:[Mapping]],2,FALSE)","v":"UK"},"4 to 6 hours a day",20]
[null,"ID1883","2012-06-17T01:34:46","4,00,000",400000,"INR",{"$f":"tblSalaries[[#This Row],[clean Salary (in local currency)]]*VLOOKUP(tblSalaries[[#This Row],[Currency]],tblXrate[],2,FALSE)","v":7123.1666749770275},"technical analyst","Analyst","India",{"$f":"VLOOKUP(tblSalaries[[#This Row],[Where do you work]],tblCountries[[Actual]:[Mapping]],2,FALSE)","v":"India"},"1 or 2 hours a day",2]
[null,"ID1884","2012-06-17T04:02:00","US$100,000",100000,"USD",{"$f":"tblSalaries[[#This Row],[clean Salary (in local currency)]]*VLOOKUP(tblSalaries[[#This Row],[Currency]],tblXrate[],2,FALSE)","v":100000},"Senior Manager MIS","Manager","UAE",{"$f":"VLOOKUP(tblSalaries[[#This Row],[Where do you work]],tblCountries[[Actual]:[Mapping]],2,FALSE)","v":"UAE"},"All the 8 hours baby, all the 8!",15]
[null,"ID1885","2012-06-17T11:38:53",75000,75000,"NZD",{"$f":"tblSalaries[[#This Row],[clean Salary (in local currency)]]*VLOOKUP(tblSalaries[[#This Row],[Currency]],tblXrate[],2,FALSE)","v":59819.107020370408},"Commercial Accountant","Accountant","New Zealand",{"$f":"VLOOKUP(tblSalaries[[#This Row],[Where do you work]],tblCountries[[Actual]:[Mapping]],2,FALSE)","v":"New Zealand"},"4 to 6 hours a day",4]
[null,"ID1886","2012-06-17T12:00:57",25000,25000,"USD",{"$f":"tblSalaries[[#This Row],[clean Salary (in local currency)]]*VLOOKUP(tblSalaries[[#This Row],[Currency]],tblXrate[],2,FALSE)","v":25000},"Data Analyst","Analyst","India",{"$f":"VLOOKUP(tblSalaries[[#This Row],[Where do you work]],tblCountries[[Actual]:[Mapping]],2,FALSE)","v":"India"},"All the 8 hours baby, all the 8!",1.5]
[null,"ID1887","2012-06-17T12:48:52",5000,5000,"USD",{"$f":"tblSalaries[[#This Row],[clean Salary (in local currency)]]*VLOOKUP(tblSalaries[[#This Row],[Currency]],tblXrate[],2,FALSE)","v":5000},"admin","Analyst","India",{"$f":"VLOOKUP(tblSalaries[[#This Row],[Where do you work]],tblCountries[[Actual]:[Mapping]],2,FALSE)","v":"India"},"2 to 3 hours per day",10]
[null,"ID1888","2012-06-17T13:26:38","AUD63000",63000,"AUD",{"$f":"tblSalaries[[#This Row],[clean Salary (in local currency)]]*VLOOKUP(tblSalaries[[#This Row],[Currency]],tblXrate[],2,FALSE)","v":64254.308353366054},"Financial Modelling adviser","Accountant","Australia",{"$f":"VLOOKUP(tblSalaries[[#This Row],[Where do you work]],tblCountries[[Actual]:[Mapping]],2,FALSE)","v":"Australia"},"All the 8 hours baby, all the 8!",3]
[null,"ID1889","2012-06-17T16:01:50",60000,60000,"EUR",{"$f":"tblSalaries[[#This Row],[clean Salary (in local currency)]]*VLOOKUP(tblSalaries[[#This Row],[Currency]],tblXrate[],2,FALSE)","v":76223.966339496474},"pm","Manager","Germany",{"$f":"VLOOKUP(tblSalaries[[#This Row],[Where do you work]],tblCountries[[Actual]:[Mapping]],2,FALSE)","v":"Germany"},"4 to 6 hours a day",6]
[null,"ID1890","2012-06-18T05:42:18",600000,600000,"DKK",{"$f":"tblSalaries[[#This Row],[clean Salary (in local currency)]]*VLOOKUP(tblSalaries[[#This Row],[Currency]],tblXrate[],2,FALSE)","v":102542.54233725216},"Engineer","Engineer","DK",{"$f":"VLOOKUP(tblSalaries[[#This Row],[Where do you work]],tblCountries[[Actual]:[Mapping]],2,FALSE)","v":"Denmark"},"2 to 3 hours per day",20]
[null,"ID1891","2012-06-18T06:14:35",46000,46000,"USD",{"$f":"tblSalaries[[#This Row],[clean Salary (in local currency)]]*VLOOKUP(tblSalaries[[#This Row],[Currency]],tblXrate[],2,FALSE)","v":46000},"AML Analyst","Analyst","USA",{"$f":"VLOOKUP(tblSalaries[[#This Row],[Where do you work]],tblCountries[[Actual]:[Mapping]],2,FALSE)","v":"USA"},"All the 8 hours baby, all the 8!",1]
[null,"ID1892","2012-06-18T08:19:01",5000,5000,"USD",{"$f":"tblSalaries[[#This Row],[clean Salary (in local currency)]]*VLOOKUP(tblSalaries[[#This Row],[Currency]],tblXrate[],2,FALSE)","v":5000},"analyst ","Analyst","India",{"$f":"VLOOKUP(tblSalaries[[#This Row],[Where do you work]],tblCountries[[Actual]:[Mapping]],2,FALSE)","v":"India"},"All the 8 hours baby, all the 8!",2]
[null,"ID1893","2012-06-18T14:27:59","$AUD 76300",76300,"AUD",{"$f":"tblSalaries[[#This Row],[clean Salary (in local currency)]]*VLOOKUP(tblSalaries[[#This Row],[Currency]],tblXrate[],2,FALSE)","v":77819.106783521114},"Operations Analyst","Analyst","Australia",{"$f":"VLOOKUP(tblSalaries[[#This Row],[Where do you work]],tblCountries[[Actual]:[Mapping]],2,FALSE)","v":"Australia"},"All the 8 hours baby, all the 8!",3]
[null,"ID1894","2012-06-18T17:51:52","Rs. 350000",350000,"INR",{"$f":"tblSalaries[[#This Row],[clean Salary (in local currency)]]*VLOOKUP(tblSalaries[[#This Row],[Currency]],tblXrate[],2,FALSE)","v":6232.7708406048987},"manager purchase","Manager","India",{"$f":"VLOOKUP(tblSalaries[[#This Row],[Where do you work]],tblCountries[[Actual]:[Mapping]],2,FALSE)","v":"India"},"2 to 3 hours per day",27]
[null,"ID1895","2012-06-18T18:26:47","Â£35000",35000,"GBP",{"$f":"tblSalaries[[#This Row],[clean Salary (in local currency)]]*VLOOKUP(tblSalaries[[#This Row],[Currency]],tblXrate[],2,FALSE)","v":55166.239522354947},"Process Analyst","Analyst","UK",{"$f":"VLOOKUP(tblSalaries[[#This Row],[Where do you work]],tblCountries[[Actual]:[Mapping]],2,FALSE)","v":"UK"},"All the 8 hours baby, all the 8!",34]
[null,"ID1896","2012-06-19T00:23:24",45000,45000,"USD",{"$f":"tblSalaries[[#This Row],[clean Salary (in local currency)]]*VLOOKUP(tblSalaries[[#This Row],[Currency]],tblXrate[],2,FALSE)","v":45000},"Senior Accountant","Accountant","USA",{"$f":"VLOOKUP(tblSalaries[[#This Row],[Where do you work]],tblCountries[[Actual]:[Mapping]],2,FALSE)","v":"USA"},"2 to 3 hours per day",5]
[null,"ID1897","2012-06-19T01:49:49","60k usd",60000,"USD",{"$f":"tblSalaries[[#This Row],[clean Salary (in local currency)]]*VLOOKUP(tblSalaries[[#This Row],[Currency]],tblXrate[],2,FALSE)","v":60000},"buyer","Manager","Canada",{"$f":"VLOOKUP(tblSalaries[[#This Row],[Where do you work]],tblCountries[[Actual]:[Mapping]],2,FALSE)","v":"Canada"},"2 to 3 hours per day",10]
[null,"ID1898","2012-06-19T03:25:34",43000,43000,"USD",{"$f":"tblSalaries[[#This Row],[clean Salary (in local currency)]]*VLOOKUP(tblSalaries[[#This Row],[Currency]],tblXrate[],2,FALSE)","v":43000},"Performance Improvement Analyst","Analyst","USA",{"$f":"VLOOKUP(tblSalaries[[#This Row],[Where do you work]],tblCountries[[Actual]:[Mapping]],2,FALSE)","v":"USA"},"4 to 6 hours a day",5]
[null,"ID1899","2012-06-19T04:55:06",28000,28000,"EUR",{"$f":"tblSalaries[[#This Row],[clean Salary (in local currency)]]*VLOOKUP(tblSalaries[[#This Row],[Currency]],tblXrate[],2,FALSE)","v":35571.184291765021},"controller","Controller","Spain",{"$f":"VLOOKUP(tblSalaries[[#This Row],[Where do you work]],tblCountries[[Actual]:[Mapping]],2,FALSE)","v":"Spain"},"4 to 6 hours a day",8]
[null,"ID1900","2012-06-19T06:50:47",48000,48000,"USD",{"$f":"tblSalaries[[#This Row],[clean Salary (in local currency)]]*VLOOKUP(tblSalaries[[#This Row],[Currency]],tblXrate[],2,FALSE)","v":48000},"Inventory Analyst","Analyst","USA",{"$f":"VLOOKUP(tblSalaries[[#This Row],[Where do you work]],tblCountries[[Actual]:[Mapping]],2,FALSE)","v":"USA"},"4 to 6 hours a day",12]
[null,"ID1901","2012-06-19T07:59:00",120000,120000,"AUD",{"$f":"tblSalaries[[#This Row],[clean Salary (in local currency)]]*VLOOKUP(tblSalaries[[#This Row],[Currency]],tblXrate[],2,FALSE)","v":122389.15876831629},"Manager","Manager","Australia",{"$f":"VLOOKUP(tblSalaries[[#This Row],[Where do you work]],tblCountries[[Actual]:[Mapping]],2,FALSE)","v":"Australia"},"1 or 2 hours a day",8]
[null,"ID1902","2012-06-19T12:39:16",4000,4000,"USD",{"$f":"tblSalaries[[#This Row],[clean Salary (in local currency)]]*VLOOKUP(tblSalaries[[#This Row],[Currency]],tblXrate[],2,FALSE)","v":4000},"operator","Analyst","India",{"$f":"VLOOKUP(tblSalaries[[#This Row],[Where do you work]],tblCountries[[Actual]:[Mapping]],2,FALSE)","v":"India"},"2 to 3 hours per day",4]
[null,"ID1903","2012-06-19T15:15:38",250000,250000,"INR",{"$f":"tblSalaries[[#This Row],[clean Salary (in local currency)]]*VLOOKUP(tblSalaries[[#This Row],[Currency]],tblXrate[],2,FALSE)","v":4451.9791718606421},"MIS EXECUTIVE","Reporting","India",{"$f":"VLOOKUP(tblSalaries[[#This Row],[Where do you work]],tblCountries[[Actual]:[Mapping]],2,FALSE)","v":"India"},"4 to 6 hours a day",3]
[null,"ID1904","2012-06-19T17:01:38","52,224.00ETB",52224,"ETB",{"$f":"tblSalaries[[#This Row],[clean Salary (in local currency)]]*VLOOKUP(tblSalaries[[#This Row],[Currency]],tblXrate[],2,FALSE)","v":2953.8461538461538},"Project Costing &Dashboard reporting","Reporting","Ethiopia",{"$f":"VLOOKUP(tblSalaries[[#This Row],[Where do you work]],tblCountries[[Actual]:[Mapping]],2,FALSE)","v":"Ethiopia"},"4 to 6 hours a day",3]
[null,"ID1905","2012-06-19T18:17:42",25000,25000,"GBP",{"$f":"tblSalaries[[#This Row],[clean Salary (in local currency)]]*VLOOKUP(tblSalaries[[#This Row],[Currency]],tblXrate[],2,FALSE)","v":39404.456801682099},"Data Analyst","Analyst","UK",{"$f":"VLOOKUP(tblSalaries[[#This Row],[Where do you work]],tblCountries[[Actual]:[Mapping]],2,FALSE)","v":"UK"},"4 to 6 hours a day",3]
[null,"ID1906","2012-06-19T19:33:25",74000,74000,"AUD",{"$f":"tblSalaries[[#This Row],[clean Salary (in local currency)]]*VLOOKUP(tblSalaries[[#This Row],[Currency]],tblXrate[],2,FALSE)","v":75473.31457379504},"Systems Analyst","Analyst","Australia",{"$f":"VLOOKUP(tblSalaries[[#This Row],[Where do you work]],tblCountries[[Actual]:[Mapping]],2,FALSE)","v":"Australia"},"4 to 6 hours a day",8]
[null,"ID1907","2012-06-19T20:16:30",750000,750000,"INR",{"$f":"tblSalaries[[#This Row],[clean Salary (in local currency)]]*VLOOKUP(tblSalaries[[#This Row],[Currency]],tblXrate[],2,FALSE)","v":13355.937515581925},"Analyst","Analyst","India",{"$f":"VLOOKUP(tblSalaries[[#This Row],[Where do you work]],tblCountries[[Actual]:[Mapping]],2,FALSE)","v":"India"},"4 to 6 hours a day",5]
[null,"ID1908","2012-06-19T20:35:35",25000,25000,"USD",{"$f":"tblSalaries[[#This Row],[clean Salary (in local currency)]]*VLOOKUP(tblSalaries[[#This Row],[Currency]],tblXrate[],2,FALSE)","v":25000},"Team Lead","Manager","India",{"$f":"VLOOKUP(tblSalaries[[#This Row],[Where do you work]],tblCountries[[Actual]:[Mapping]],2,FALSE)","v":"India"},"4 to 6 hours a day",10]
[null,"ID1909","2012-06-19T21:01:21",420000,420000,"INR",{"$f":"tblSalaries[[#This Row],[clean Salary (in local currency)]]*VLOOKUP(tblSalaries[[#This Row],[Currency]],tblXrate[],2,FALSE)","v":7479.3250087258784},"Analyst","Analyst","India",{"$f":"VLOOKUP(tblSalaries[[#This Row],[Where do you work]],tblCountries[[Actual]:[Mapping]],2,FALSE)","v":"India"},"4 to 6 hours a day",2]
[null,"ID1910","2012-06-19T21:06:16",62000,62000,"USD",{"$f":"tblSalaries[[#This Row],[clean Salary (in local currency)]]*VLOOKUP(tblSalaries[[#This Row],[Currency]],tblXrate[],2,FALSE)","v":62000},"Analyst","Analyst","USA",{"$f":"VLOOKUP(tblSalaries[[#This Row],[Where do you work]],tblCountries[[Actual]:[Mapping]],2,FALSE)","v":"USA"},"4 to 6 hours a day",4]
[null,"ID1911","2012-06-19T21:32:36",48000,48000,"USD",{"$f":"tblSalaries[[#This Row],[clean Salary (in local currency)]]*VLOOKUP(tblSalaries[[#This Row],[Currency]],tblXrate[],2,FALSE)","v":48000},"Marketing Analyst Co-op","Analyst","USA",{"$f":"VLOOKUP(tblSalaries[[#This Row],[Where do you work]],tblCountries[[Actual]:[Mapping]],2,FALSE)","v":"USA"},"4 to 6 hours a day",1]
[null,"ID1912","2012-06-19T22:42:55",5000,5000,"USD",{"$f":"tblSalaries[[#This Row],[clean Salary (in local currency)]]*VLOOKUP(tblSalaries[[#This Row],[Currency]],tblXrate[],2,FALSE)","v":5000},"abc","Misc.","India",{"$f":"VLOOKUP(tblSalaries[[#This Row],[Where do you work]],tblCountries[[Actual]:[Mapping]],2,FALSE)","v":"India"},"4 to 6 hours a day",3]
[null,"ID1914","2012-06-20T00:27:54","Rs23000/month",276000,"INR",{"$f":"tblSalaries[[#This Row],[clean Salary (in local currency)]]*VLOOKUP(tblSalaries[[#This Row],[Currency]],tblXrate[],2,FALSE)","v":4914.9850057341491},"MIS specialist","Reporting","India",{"$f":"VLOOKUP(tblSalaries[[#This Row],[Where do you work]],tblCountries[[Actual]:[Mapping]],2,FALSE)","v":"India"},"All the 8 hours baby, all the 8!",6]
[null,"ID1915","2012-06-20T00:55:28",75000,75000,"USD",{"$f":"tblSalaries[[#This Row],[clean Salary (in local currency)]]*VLOOKUP(tblSalaries[[#This Row],[Currency]],tblXrate[],2,FALSE)","v":75000},"Data Analyst","Analyst","USA",{"$f":"VLOOKUP(tblSalaries[[#This Row],[Where do you work]],tblCountries[[Actual]:[Mapping]],2,FALSE)","v":"USA"},"1 or 2 hours a day",3]
[null,"ID1916","2012-06-20T01:20:49",250000,250000,"INR",{"$f":"tblSalaries[[#This Row],[clean Salary (in local currency)]]*VLOOKUP(tblSalaries[[#This Row],[Currency]],tblXrate[],2,FALSE)","v":4451.9791718606421},"research associate","Analyst","India",{"$f":"VLOOKUP(tblSalaries[[#This Row],[Where do you work]],tblCountries[[Actual]:[Mapping]],2,FALSE)","v":"India"},"Excel ?!? What Excel?",1.6]
[null,"ID1917","2012-06-20T01:43:12",700,8400,"USD",{"$f":"tblSalaries[[#This Row],[clean Salary (in local currency)]]*VLOOKUP(tblSalaries[[#This Row],[Currency]],tblXrate[],2,FALSE)","v":8400},"Sr. Executive MIS","Reporting","India",{"$f":"VLOOKUP(tblSalaries[[#This Row],[Where do you work]],tblCountries[[Actual]:[Mapping]],2,FALSE)","v":"India"},"All the 8 hours baby, all the 8!",6]
[null,"ID1918","2012-06-20T01:54:10",20000,20000,"USD",{"$f":"tblSalaries[[#This Row],[clean Salary (in local currency)]]*VLOOKUP(tblSalaries[[#This Row],[Currency]],tblXrate[],2,FALSE)","v":20000},"Monitoring and Evaluation Officer","Manager","India",{"$f":"VLOOKUP(tblSalaries[[#This Row],[Where do you work]],tblCountries[[Actual]:[Mapping]],2,FALSE)","v":"India"},"2 to 3 hours per day",5]
[null,"ID1919","2012-06-20T02:31:52",110000,110000,"USD",{"$f":"tblSalaries[[#This Row],[clean Salary (in local currency)]]*VLOOKUP(tblSalaries[[#This Row],[Currency]],tblXrate[],2,FALSE)","v":110000},"Vice President - Finance","CXO or Top Mgmt.","USA",{"$f":"VLOOKUP(tblSalaries[[#This Row],[Where do you work]],tblCountries[[Actual]:[Mapping]],2,FALSE)","v":"USA"},"4 to 6 hours a day",10]
[null,"ID1920","2012-06-20T03:52:40",50000,50000,"USD",{"$f":"tblSalaries[[#This Row],[clean Salary (in local currency)]]*VLOOKUP(tblSalaries[[#This Row],[Currency]],tblXrate[],2,FALSE)","v":50000},"Operations Analyst ","Analyst","USA",{"$f":"VLOOKUP(tblSalaries[[#This Row],[Where do you work]],tblCountries[[Actual]:[Mapping]],2,FALSE)","v":"USA"},"All the 8 hours baby, all the 8!",3.5]
[null,"ID1921","2012-06-20T03:55:55",46000,46000,"USD",{"$f":"tblSalaries[[#This Row],[clean Salary (in local currency)]]*VLOOKUP(tblSalaries[[#This Row],[Currency]],tblXrate[],2,FALSE)","v":46000},"Poultry Analyst","Analyst","USA",{"$f":"VLOOKUP(tblSalaries[[#This Row],[Where do you work]],tblCountries[[Actual]:[Mapping]],2,FALSE)","v":"USA"},"4 to 6 hours a day",8]
[null,"ID1922","2012-06-20T05:03:44",115000,115000,"USD",{"$f":"tblSalaries[[#This Row],[clean Salary (in local currency)]]*VLOOKUP(tblSalaries[[#This Row],[Currency]],tblXrate[],2,FALSE)","v":115000},"Business Analyst","Analyst","USA",{"$f":"VLOOKUP(tblSalaries[[#This Row],[Where do you work]],tblCountries[[Actual]:[Mapping]],2,FALSE)","v":"USA"},"All the 8 hours baby, all the 8!",15]
[null,"ID1924","2012-06-20T12:53:56",180000,180000,"INR",{"$f":"tblSalaries[[#This Row],[clean Salary (in local currency)]]*VLOOKUP(tblSalaries[[#This Row],[Currency]],tblXrate[],2,FALSE)","v":3205.4250037396623},"Customer Resolution","Analyst","India",{"$f":"VLOOKUP(tblSalaries[[#This Row],[Where do you work]],tblCountries[[Actual]:[Mapping]],2,FALSE)","v":"India"},"4 to 6 hours a day",3]
[null,"ID1925","2012-06-20T13:05:17","60000 EUR",60000,"EUR",{"$f":"tblSalaries[[#This Row],[clean Salary (in local currency)]]*VLOOKUP(tblSalaries[[#This Row],[Currency]],tblXrate[],2,FALSE)","v":76223.966339496474},"Project Manager","Manager","Europe",{"$f":"VLOOKUP(tblSalaries[[#This Row],[Where do you work]],tblCountries[[Actual]:[Mapping]],2,FALSE)","v":"Europe"},"2 to 3 hours per day",20]
[null,"ID1927","2012-06-20T14:08:51",52500,52500,"USD",{"$f":"tblSalaries[[#This Row],[clean Salary (in local currency)]]*VLOOKUP(tblSalaries[[#This Row],[Currency]],tblXrate[],2,FALSE)","v":52500},"Business Analist","Analyst","south africa",{"$f":"VLOOKUP(tblSalaries[[#This Row],[Where do you work]],tblCountries[[Actual]:[Mapping]],2,FALSE)","v":"South Africa"},"4 to 6 hours a day",21]
[null,"ID1928","2012-06-20T20:58:23",8400,100800,"USD",{"$f":"tblSalaries[[#This Row],[clean Salary (in local currency)]]*VLOOKUP(tblSalaries[[#This Row],[Currency]],tblXrate[],2,FALSE)","v":100800},"AVP","CXO or Top Mgmt.","Oman",{"$f":"VLOOKUP(tblSalaries[[#This Row],[Where do you work]],tblCountries[[Actual]:[Mapping]],2,FALSE)","v":"Oman"},"4 to 6 hours a day",4]
[null,"ID1929","2012-06-21T03:46:23",21000,21000,"USD",{"$f":"tblSalaries[[#This Row],[clean Salary (in local currency)]]*VLOOKUP(tblSalaries[[#This Row],[Currency]],tblXrate[],2,FALSE)","v":21000},"eorl","Misc.","India",{"$f":"VLOOKUP(tblSalaries[[#This Row],[Where do you work]],tblCountries[[Actual]:[Mapping]],2,FALSE)","v":"India"},"All the 8 hours baby, all the 8!",5]
[null,"ID1930","2012-06-21T04:06:15",40000,40000,"USD",{"$f":"tblSalaries[[#This Row],[clean Salary (in local currency)]]*VLOOKUP(tblSalaries[[#This Row],[Currency]],tblXrate[],2,FALSE)","v":40000},"Corporate Trainer","Analyst","USA",{"$f":"VLOOKUP(tblSalaries[[#This Row],[Where do you work]],tblCountries[[Actual]:[Mapping]],2,FALSE)","v":"USA"},"1 or 2 hours a day",3]
[null,"ID1931","2012-06-21T04:44:20",46359,46359,"USD",{"$f":"tblSalaries[[#This Row],[clean Salary (in local currency)]]*VLOOKUP(tblSalaries[[#This Row],[Currency]],tblXrate[],2,FALSE)","v":46359},"Data Analyst","Analyst","USA",{"$f":"VLOOKUP(tblSalaries[[#This Row],[Where do you work]],tblCountries[[Actual]:[Mapping]],2,FALSE)","v":"USA"},"All the 8 hours baby, all the 8!",5]
[null,"ID1932","2012-06-21T04:46:24",70000,70000,"USD",{"$f":"tblSalaries[[#This Row],[clean Salary (in local currency)]]*VLOOKUP(tblSalaries[[#This Row],[Currency]],tblXrate[],2,FALSE)","v":70000},"Administrative Coordinator","Analyst","USA",{"$f":"VLOOKUP(tblSalaries[[#This Row],[Where do you work]],tblCountries[[Actual]:[Mapping]],2,FALSE)","v":"USA"},"4 to 6 hours a day",10]

{"sheet":"mapping","index":3,"n_rows":137,"n_cols":13,"rows_kept":137,"cut":false,"hidden":false,"merged":[[0,1,0,2]]}
[null,"Mapping Sheet",null,null,null,null,"Source: Xrates on 6/21/2012","and xe.com"]
[null,"Currency Mapping",null,null,null,null,null,null,null,null,null,"Country Mapping"]
[null,"Currency","in USD",null,null,null,"Value of 1 American Dollar",null,null,null,null,"Actual","Mapping"]
[null,"USD",1,null,null,null,"     Argentine Peso ",4.4927299999999999,"ARS",null,null,"Albania","Albania"]
[null,"EUR",{"$f":"1/INDEX($H$4:$H$64,MATCH(tblXrate[[#This Row],[Currency]],$I$4:$I$64,0))","v":1.2703994389916078},null,null,null,"     Australian Dollar ",0.98047899999999999,"AUD",null,null,"arabian Gulf","Arabian Gulf"]
[null,"PKR",{"$f":"1/INDEX($H$4:$H$64,MATCH(tblXrate[[#This Row],[Currency]],$I$4:$I$64,0))","v":1.0614088716799131E-2},null,null,null,"     Botswana Pula ",7.6569700000000003,"BWP",null,null,"Argentina","Argentina"]
[null,"INR",{"$f":"1/INDEX($H$4:$H$64,MATCH(tblXrate[[#This Row],[Currency]],$I$4:$I$64,0))","v":1.7807916687442568E-2},null,null,null,"     Brazilian Real ",2.0231400000000002,"BRL",null,null,"Armenia","Armenia"]
[null,"GBP",{"$f":"1/INDEX($H$4:$H$64,MATCH(tblXrate[[#This Row],[Currency]],$I$4:$I$64,0))","v":1.5761782720672841},null,null,null,"     British Pound ",0.63444599999999995,"GBP",null,null,"Aruba","Aruba"]
[null,"AUD",{"$f":"1/INDEX($H$4:$H$64,MATCH(tblXrate[[#This Row],[Currency]],$I$4:$I$64,0))","v":1.0199096564026358},null,null,null,"     Brunei dollar ",1.2686999999999999,"BND",null,null,"Asia","Asia"]
[null,"CAD",{"$f":"1/INDEX($H$4:$H$64,MATCH(tblXrate[[#This Row],[Currency]],$I$4:$I$64,0))","v":0.98336152303032687},null,null,null,"     Bulgarian Lev ",1.53952,"BGN",null,null,"Australia","Australia"]
[null,"PHP",{"$f":"1/INDEX($H$4:$H$64,MATCH(tblXrate[[#This Row],[Currency]],$I$4:$I$64,0))","v":2.3705052257787702E-2},null,null,null,"     Canadian Dollar ",1.01692,"CAD",null,null,"Austria","Austria"]
[null,"AED",{"$f":"1/INDEX($H$4:$H$64,MATCH(tblXrate[[#This Row],[Currency]],$I$4:$I$64,0))","v":0.27221921268759308},null,null,null,"     Chilean Peso ",497.26799999999997,"CLP",null,null,"Azerbaijan","Azerbaijan"]
[null,"MXN",{"$f":"1/INDEX($H$4:$H$64,MATCH(tblXrate[[#This Row],[Currency]],$I$4:$I$64,0))","v":7.3046552567951561E-2},null,null,null,"     Chinese Yuan ",6.3609099999999996,"CNY",null,null,"Baltic","Baltic"]
[null,"SEK",{"$f":"1/INDEX($H$4:$H$64,MATCH(tblXrate[[#This Row],[Currency]],$I$4:$I$64,0))","v":0.14365525038391866},null,null,null,"     Colombian Peso ",1769.79,"COP",null,null,"Bangladesh","Bangladesh"]
[null,"BDT",{"$f":"1/INDEX($H$4:$H$64,MATCH(tblXrate[[#This Row],[Currency]],$I$4:$I$64,0))","v":1.2220845340313881E-2},null,null,null,"     Croatian Kuna ",5.9367099999999997,"HRK",null,null,"Belgium","Belgium"]
[null,"COSTARICAN",{"$f":"1/INDEX($H$4:$H$64,MATCH(tblXrate[[#This Row],[Currency]],$I$4:$I$64,0))","v":2.0078305391024996E-3},null,null,null,"     Danish Krone ",5.8512300000000002,"DKK",null,null,"Bermuda","Bermuda"]
[null,"ZAR",{"$f":"1/INDEX($H$4:$H$64,MATCH(tblXrate[[#This Row],[Currency]],$I$4:$I$64,0))","v":0.12192177986291114},null,null,null,"     Euro ",0.78715400000000002,"EUR",null,null,"Bhutan","Bhutan"]
[null,"NZD",{"$f":"1/INDEX($H$4:$H$64,MATCH(tblXrate[[#This Row],[Currency]],$I$4:$I$64,0))","v":0.79758809360493876},null,null,null,"     Hong Kong Dollar ",7.7588900000000001,"HKD",null,null,"Bolivia","Bolivia"]
[null,"CNY",{"$f":"1/INDEX($H$4:$H$64,MATCH(tblXrate[[#This Row],[Currency]],$I$4:$I$64,0))","v":0.15721021048875083},null,null,null,"     Hungarian Forint ",225.874,"HUF",null,null,"Brasil","Brazil"]
[null,"EGYPT",{"$f":"1/INDEX($H$4:$H$64,MATCH(tblXrate[[#This Row],[Currency]],$I$4:$I$64,0))","v":0.16526194017517765},null,null,null,"     Iceland Krona ",124.697,"ISK",null,null,"Brazil","Brazil"]
[null,"NAIRA",{"$f":"1/INDEX($H$4:$H$64,MATCH(tblXrate[[#This Row],[Currency]],$I$4:$I$64,0))","v":6.1633281972265025E-3},null,null,null,"     Indian Rupee ",56.154800000000002,"INR",null,null,"BRA","Brazil"]
[null,"AED",{"$f":"1/INDEX($H$4:$H$64,MATCH(tblXrate[[#This Row],[Currency]],$I$4:$I$64,0))","v":0.27221921268759308},null,null,null,"     Indonesian Rupiah ",9443.81,"IDR",null,null,"Bulgaria","Bulgaria"]
[null,"BRL",{"$f":"1/INDEX($H$4:$H$64,MATCH(tblXrate[[#This Row],[Currency]],$I$4:$I$64,0))","v":0.49428116689897877},null,null,null,"     Israeli New Shekel ",3.86721,"ILS",null,null,"Cambodia","Cambodia"]
[null,"RON",{"$f":"1/INDEX($H$4:$H$64,MATCH(tblXrate[[#This Row],[Currency]],$I$4:$I$64,0))","v":0.28461323906942854},null,null,null,"     Japanese Yen ",78.904300000000006,"JPY",null,null,"Canada","Canada"]
[null,"USD",1,null,null,null,"     Kazakhstani Tenge ",148.88,"KZT",null,null,"Canad","Canada"]
[null,"MYR",{"$f":"1/INDEX($H$4:$H$64,MATCH(tblXrate[[#This Row],[Currency]],$I$4:$I$64,0))","v":0.31680056770661735},null,null,null,"     Kuwaiti Dinar ",0.27939999999999998,"KWD",null,null,"CEE","CEE"]
[null,"LKR",{"$f":"1/INDEX($H$4:$H$64,MATCH(tblXrate[[#This Row],[Currency]],$I$4:$I$64,0))","v":7.5240581760178168E-3},null,null,null,"     Latvian Lat ",0.548489,"LVL",null,null,"Continental Europe","CEE"]
[null,"SGD",{"$f":"1/INDEX($H$4:$H$64,MATCH(tblXrate[[#This Row],[Currency]],$I$4:$I$64,0))","v":0.78882394238429931},null,null,null,"     Libyan Dinar ",1.9323999999999999,"LYD",null,null,"Central America","Central America"]
[null,"GBP",{"$f":"1/INDEX($H$4:$H$64,MATCH(tblXrate[[#This Row],[Currency]],$I$4:$I$64,0))","v":1.5761782720672841},null,null,null,"     Lithuanian Litas ",2.7178800000000001,"LTL",null,null,"china","China"]
[null,"DOP",{"$f":"1/INDEX($H$4:$H$64,MATCH(tblXrate[[#This Row],[Currency]],$I$4:$I$64,0))","v":2.5673940949935813E-2},null,null,null,"     Malaysian Ringgit ",3.1565599999999998,"MYR",null,null,"Colombia","Colombia"]
[null,"PLN",{"$f":"1/INDEX($H$4:$H$64,MATCH(tblXrate[[#This Row],[Currency]],$I$4:$I$64,0))","v":0.30031472983686902},null,null,null,"     Mauritius Rupee ",30.715900000000001,"MUR",null,null,"Colombia - South America","Colombia"]
[null,"KENYA",{"$f":"1/INDEX($H$4:$H$64,MATCH(tblXrate[[#This Row],[Currency]],$I$4:$I$64,0))","v":1.1976047904191617E-2},null,null,null,"     Mexican Peso ",13.6899,"MXN",null,null,"Costa Rica","Costa Rica"]
[null,"DKK",{"$f":"1/INDEX($H$4:$H$64,MATCH(tblXrate[[#This Row],[Currency]],$I$4:$I$64,0))","v":0.17090423722875361},null,null,null,"     Nepalese Rupee ",89.65,"NPR",null,null,"Croatia","Croatia"]
[null,"IDR",{"$f":"1/INDEX($H$4:$H$64,MATCH(tblXrate[[#This Row],[Currency]],$I$4:$I$64,0))","v":1.0588946622178973E-4},null,null,null,"     New Zealand Dollar ",1.2537799999999999,"NZD",null,null,"europe/Croatia","Croatia"]
[null,"MONGOLIAN",{"$f":"1/INDEX($H$4:$H$64,MATCH(tblXrate[[#This Row],[Currency]],$I$4:$I$64,0))","v":7.5642965204236008E-4},null,null,null,"     Norwegian Kroner ",5.9083800000000002,"NOK",null,null,"Czech Republic","Czech Republic"]
[null,"JPY",{"$f":"1/INDEX($H$4:$H$64,MATCH(tblXrate[[#This Row],[Currency]],$I$4:$I$64,0))","v":1.2673580527296991E-2},null,null,null,"     Omani Rial ",0.38450000000000001,"OMR",null,null,"Denmark","Denmark"]
[null,"SAR",{"$f":"1/INDEX($H$4:$H$64,MATCH(tblXrate[[#This Row],[Currency]],$I$4:$I$64,0))","v":0.26666666666666666},null,null,null,"     Pakistan Rupee ",94.214399999999998,"PKR",null,null,"DK","Denmark"]
[null,"MAD",{"$f":"1/INDEX($H$4:$H$64,MATCH(tblXrate[[#This Row],[Currency]],$I$4:$I$64,0))","v":0.11454753722794959},null,null,null,"     Philippine Peso ",42.185099999999998,"PHP",null,null,"Dominican Republic","Dominican Republic"]
[null,"MUR",{"$f":"1/INDEX($H$4:$H$64,MATCH(tblXrate[[#This Row],[Currency]],$I$4:$I$64,0))","v":3.2556428429575561E-2},null,null,null,"     Qatari Rial ",3.64,"QAR",null,null,"Dubai","Dubai"]
[null,"NOK",{"$f":"1/INDEX($H$4:$H$64,MATCH(tblXrate[[#This Row],[Currency]],$I$4:$I$64,0))","v":0.16925113144381371},null,null,null,"     Romanian Leu ",3.5135399999999999,"RON",null,null,"Egypt","Egypt"]
[null,"CHF",{"$f":"1/INDEX($H$4:$H$64,MATCH(tblXrate[[#This Row],[Currency]],$I$4:$I$64,0))","v":1.0578730615798488},null,null,null,"     Russian Ruble ",32.5458,"RUB",null,null,"Estonia","Estonia"]
[null,"ETB",{"$f":"1/INDEX($H$4:$H$64,MATCH(tblXrate[[#This Row],[Currency]],$I$4:$I$64,0))","v":5.6561085972850679E-2},null,null,null,"     Saudi Riyal ",3.75,"SAR",null,null,"Ethiopia","Ethiopia"]
[null,null,null,null,null,null,"     Singapore Dollar ",1.2677099999999999,"SGD",null,null,"Europe","Europe"]
[null,null,null,null,null,null,"     South African Rand ",8.2019800000000007,"ZAR",null,null,"mainland Europe (Euro zone)","Europe"]
[null,null,null,null,null,null,"     South Korean Won ",1151.0899999999999,"KRW",null,null,"EU","Europe"]
[null,null,null,null,null,null,"     Sri Lanka Rupee ",132.90700000000001,"LKR",null,null,"Finland","Finland"]
[null,null,null,null,null,null,"     Swedish Krona ",6.9611099999999997,"SEK",null,null,"France","France"]
[null,null,null,null,null,null,"     Swiss Franc ",0.94529300000000005,"CHF",null,null,"FR","France"]
[null,null,null,null,null,null,"     Taiwan Dollar ",29.859400000000001,"TWD",null,null,"Germany","Germany"]
[null,null,null,null,null,null,"     Thai Baht ",31.500299999999999,"THB",null,null,"Ghana","Ghana"]
[null,null,null,null,null,null,"     Trinidad/Tobago Dollar ",6.3912199999999997,"TTD",null,null,"Greece","Greece"]
[null,null,null,null,null,null,"     Turkish Lira ",1.79447,"TRY",null,null,"Guyana","Guyana"]
[null,null,null,null,null,null,"     Venezuelan Bolivar ",4.2940199999999997,"VEF",null,null,"Hong Kong","Hong Kong"]
[null,null,null,null,null,null,"UAE Dirham",3.6735099999999998,"AED",null,null,"Hungary","Hungary"]
[null,null,null,null,null,null,"Bangladesh Takha",81.827399999999997,"BDT",null,null,"Iceland","Iceland"]
[null,null,null,null,null,null,"Costarican CRC",498.05,"Costarican",null,null,"India","India"]
[null,null,null,null,null,null,"Egyptian Pound",6.0510000000000002,"Egypt",null,null,"Indonesia","Indonesia"]
[null,null,null,null,null,null,"Nigerian Naira",162.25,"NAIRA",null,null,"Inonesia","Indonesia"]
[null,null,null,null,null,null,"Dominican Peso",38.950000000000003,"DOP",null,null,"iran","Iran"]
[null,null,null,null,null,null,"Polish Zloty",3.3298399999999999,"PLN",null,null,"Ireland","Ireland"]
[null,null,null,null,null,null,"Kenyan Shilling",83.5,"Kenya",null,null,"Israel","Israel"]
[null,null,null,null,null,null,"Mongolian Tughrik",1322,"Mongolian",null,null,"italy","Italy"]
[null,null,null,null,null,null,"Moroccan Dirham",8.73,"MAD",null,null,"Japan","Japan"]
[null,null,null,null,null,null,"Ethiopian Birr",17.68,"ETB",null,null,"Kenya","Kenya"]
[null,null,null,null,null,null,null,null,null,null,null,"Kuwait","Kuwait"]
[null,null,null,null,null,null,null,null,null,null,null,"Kuwait ","Kuwait "]
[null,null,null,null,null,null,null,null,null,null,null,"Latin America","Latin America"]
[null,null,null,null,null,null,null,null,null,null,null,"Lesotho","Lesotho"]
[null,null,null,null,null,null,null,null,null,null,null,"Libya","Libya"]
[null,null,null,null,null,null,null,null,null,null,null,"Lithuania","Lithuania"]
[null,null,null,null,null,null,null,null,null,null,null,"malaysia","Malaysia"]
[null,null,null,null,null,null,null,null,null,null,null,"MYS","Malaysia"]
[null,null,null,null,null,null,null,null,null,null,null,"Mauritius","Mauritius"]
[null,null,null,null,null,null,null,null,null,null,null,"Mexico","Mexico"]
[null,null,null,null,null,null,null,null,null,null,null,"MÃ©xico","Mexico"]
[null,null,null,null,null,null,null,null,null,null,null,"Mongolia","Mongolia"]
[null,null,null,null,null,null,null,null,null,null,null,"Montenegro","Montenegro"]
[null,null,null,null,null,null,null,null,null,null,null,"Morocco","Morocco"]
[null,null,null,null,null,null,null,null,null,null,null,"mozambique","Mozambique"]
[null,null,null,null,null,null,null,null,null,null,null,"Myanmar","Myanmar"]
[null,null,null,null,null,null,null,null,null,null,null,"Myanmar [Burma]","Myanmar"]
[null,null,null,null,null,null,null,null,null,null,null,"Netherlands","Netherlands"]
[null,null,null,null,null,null,null,null,null,null,null,"The Netherlands","Netherlands"]
[null,null,null,null,null,null,null,null,null,null,null,"NL","Netherlands"]
[null,null,null,null,null,null,null,null,null,null,null,"New Zealand","New Zealand"]
[null,null,null,null,null,null,null,null,null,null,null,"nz","New Zealand"]
[null,null,null,null,null,null,null,null,null,null,null,"New  Zealand","New Zealand"]
[null,null,null,null,null,null,null,null,null,null,null,"nld","New Zealand"]
[null,null,null,null,null,null,null,null,null,null,null,"Nigeria","Nigeria"]
[null,null,null,null,null,null,null,null,null,null,null,"Norway","Norway"]
[null,null,null,null,null,null,null,null,null,null,null,"Oman","Oman"]
[null,null,null,null,null,null,null,null,null,null,null,"Pakistan","Pakistan"]
[null,null,null,null,null,null,null,null,null,null,null,"Pakistan, Angola","Pakistan"]
[null,null,null,null,null,null,null,null,null,null,null,"Panama","Panama"]
[null,null,null,null,null,null,null,null,null,null,null,"Paraguay","Paraguay"]
[null,null,null,null,null,null,null,null,null,null,null,"Peru","Peru"]
[null,null,null,null,null,null,null,null,null,null,null,"Philippines","Philippines"]
[null,null,null,null,null,null,null,null,null,null,null,"Poland","Poland"]
[null,null,null,null,null,null,null,null,null,null,null,"Portugal","Portugal"]
[null,null,null,null,null,null,null,null,null,null,null,"Qatar","Qatar"]
[null,null,null,null,null,null,null,null,null,null,null,"Republic of Georgia","Republic of Georgia"]
[null,null,null,null,null,null,null,null,null,null,null,"Republica Dominicana","Dominican Republic"]
[null,null,null,null,null,null,null,null,null,null,null,"Romania","Romania"]
[null,null,null,null,null,null,null,null,null,null,null,"Russia","Russia"]
[null,null,null,null,null,null,null,null,null,null,null,"Saudi Arabia","Saudi Arabia"]
[null,null,null,null,null,null,null,null,null,null,null,"Saudi Arabai","Saudi Arabia"]
[null,null,null,null,null,null,null,null,null,null,null,"Kingdom of Saudi Arabia","Saudi Arabia"]
[null,null,null,null,null,null,null,null,null,null,null,"self-employed","self-employed"]
[null,null,null,null,null,null,null,null,null,null,null,"Singapore","Singapore"]
[null,null,null,null,null,null,null,null,null,null,null,"Slovakia","Slovakia"]
[null,null,null,null,null,null,null,null,null,null,null,"Slovenia","Slovenia"]
[null,null,null,null,null,null,null,null,null,null,null,"Somalia","Somalia"]
[null,null,null,null,null,null,null,null,null,null,null,"South Africa","South Africa"]
[null,null,null,null,null,null,null,null,null,null,null,"SouthAfrica","South Africa"]
[null,null,null,null,null,null,null,null,null,null,null,"RSA","South Africa"]
[null,null,null,null,null,null,null,null,null,null,null,"Spain","Spain"]
[null,null,null,null,null,null,null,null,null,null,null,"Sri Lanka","Sri Lanka"]
[null,null,null,null,null,null,null,null,null,null,null,"srilanka","Sri Lanka"]
[null,null,null,null,null,null,null,null,null,null,null,"Sweden","Sweden"]
[null,null,null,null,null,null,null,null,null,null,null,"Switzerland","Switzerland"]
[null,null,null,null,null,null,null,null,null,null,null,"Thailand","Thailand"]
[null,null,null,null,null,null,null,null,null,null,null,"bangkok","Thailand"]
[null,null,null,null,null,null,null,null,null,null,null,"Tunisia","Tunisia"]
[null,null,null,null,null,null,null,null,null,null,null,"Turkey","Turkey"]
[null,null,null,null,null,null,null,null,null,null,null,"UAE","UAE"]
[null,null,null,null,null,null,null,null,null,null,null,"United Arab Emirates","UAE"]
[null,null,null,null,null,null,null,null,null,null,null,"United Arab Emriate","UAE"]
[null,null,null,null,null,null,null,null,null,null,null,"Uganda","Uganda"]
[null,null,null,null,null,null,null,null,null,null,null,"UK","UK"]
[null,null,null,null,null,null,null,null,null,null,null,"Ukraine","Ukraine"]
[null,null,null,null,null,null,null,null,null,null,null,"Uruguay","Uruguay"]
[null,null,null,null,null,null,null,null,null,null,null,"USA","USA"]
[null,null,null,null,null,null,null,null,null,null,null,"ksa","USA"]
[null,null,null,null,null,null,null,null,null,null,null,"Viet Nam","Vietnam"]
[null,null,null,null,null,null,null,null,null,null,null,"Vietnam","Vietnam"]
[null,null,null,null,null,null,null,null,null,null,null,"Zambia","Zambia"]
[null,null,null,null,null,null,null,null,null,null,null,"Zimbabwe","Zimbabwe"]