{"text_format":"1","workbook":"xlsx","n_sheets":5,"sheets":["Main","Data","Control","Pivot","Sheet1"],"not_rendered":{"charts":4,"images":1,"macros":1,"external_links":1,"defined_names":192,"comments":1,"pivot_tables":5},"unopened":[],"bounds":{"document_bytes":16777216,"sheet_cells":100000,"rows_first":2000,"rows_last":500,"rows_between":2000,"halvings":0,"cell_chars":16384,"cell_head_chars":4096},"cells_cut":0,"cells_raw":0,"read":"whole","date_system":"1900"}

{"sheet":"Main","index":0,"n_rows":48,"n_cols":15,"rows_kept":48,"cut":false,"hidden":false,"merged":[]}
[]
[null,null,null,null,null,null,null,null,null,"Min:",null,null,null,null,"Max:"]
[null,null,null,null,"Where does it pay to know Excel?",null,null,null,null,{"$f":"Control!E16","v":11873.552586779413},null,null,null,null,{"$f":"Control!E15","v":99016.174371435307}]
[]
[]
[]
[]
[]
[]
[]
[]
[]
[]
[]
[]
[]
[]
[]
[]
[]
[]
[]
[]
[]
[]
[]
[]
[]
[]
[]
[]
[]
[]
[]
[]
[]
[]
[]
[]
[]
[]
[]
[]
[]
[]
[]
[null,null,null,null,null,null,"data source:","Chandoo salary survey (http://chandoo.org/wp/2012/06/25/excel-salary-data-contest/)"]
[null,null,null,null,null,null,"choropleth template:","Clearly and Simply (http://www.clearlyandsimply.com/clearly_and_simply/2009/06/choropleth-maps-with-excel.html)"]

{"sheet":"Data","index":1,"n_rows":194,"n_cols":11,"rows_kept":194,"cut":false,"hidden":true,"merged":[]}
[]
[null,"Data"]
[]
[null,"No.","Country","Abbreviation","Salary for All","Salary for Analyst","Salary for Mgr",null,null,null,"Selection"]
[null,1,"Afghanistan","AFG",{"$f":"IF(ISNA(VLOOKUP(D5,Pivot!$D$4:$E$30,2,0)),MIN(Pivot!$E$4:$E$30),VLOOKUP(D5,Pivot!$D$4:$E$30,2,0))","v":11873.552586779413},{"$f":"IF(ISNA(VLOOKUP(D5,Pivot!$F$4:$G$12,2,0)),MIN(Pivot!$F$4:$G$12),VLOOKUP(D5,Pivot!$F$4:$G$12,2,0))","v":11264.716264070181},{"$f":"IF(ISNA(VLOOKUP(D5,Pivot!$H$4:$I$10,2,0)),MIN(Pivot!$H$4:$I$10),VLOOKUP(D5,Pivot!$H$4:$I$10,2,0))","v":10382.341810335902},null,null,null,{"$f":"INDEX(E5:I5,1,Control!$C$10)","v":11873.552586779413}]
[null,{"$f":"B5+1","v":2},"Albania","ALB",{"$f":"IF(ISNA(VLOOKUP(D6,Pivot!$D$4:$E$30,2,0)),MIN(Pivot!$E$4:$E$30),VLOOKUP(D6,Pivot!$D$4:$E$30,2,0))","v":11873.552586779413},{"$f":"IF(ISNA(VLOOKUP(D6,Pivot!$F$4:$G$12,2,0)),MIN(Pivot!$F$4:$G$12),VLOOKUP(D6,Pivot!$F$4:$G$12,2,0))","v":11264.716264070181},{"$f":"IF(ISNA(VLOOKUP(D6,Pivot!$H$4:$I$10,2,0)),MIN(Pivot!$H$4:$I$10),VLOOKUP(D6,Pivot!$H$4:$I$10,2,0))","v":10382.341810335902},null,null,null,{"$f":"INDEX(E6:I6,1,Control!$C$10)","v":11873.552586779413}]
[null,{"$f":"B6+1","v":3},"Algeria","DZA",{"$f":"IF(ISNA(VLOOKUP(D7,Pivot!$D$4:$E$30,2,0)),MIN(Pivot!$E$4:$E$30),VLOOKUP(D7,Pivot!$D$4:$E$30,2,0))","v":11873.552586779413},{"$f":"IF(ISNA(VLOOKUP(D7,Pivot!$F$4:$G$12,2,0)),MIN(Pivot!$F$4:$G$12),VLOOKUP(D7,Pivot!$F$4:$G$12,2,0))","v":11264.716264070181},{"$f":"IF(ISNA(VLOOKUP(D7,Pivot!$H$4:$I$10,2,0)),MIN(Pivot!$H$4:$I$10),VLOOKUP(D7,Pivot!$H$4:$I$10,2,0))","v":10382.341810335902},null,null,null,{"$f":"INDEX(E7:I7,1,Control!$C$10)","v":11873.552586779413}]
[null,4,"Andorra","AND",{"$f":"IF(ISNA(VLOOKUP(D8,Pivot!$D$4:$E$30,2,0)),MIN(Pivot!$E$4:$E$30),VLOOKUP(D8,Pivot!$D$4:$E$30,2,0))","v":11873.552586779413},{"$f":"IF(ISNA(VLOOKUP(D8,Pivot!$F$4:$G$12,2,0)),MIN(Pivot!$F$4:$G$12),VLOOKUP(D8,Pivot!$F$4:$G$12,2,0))","v":11264.716264070181},{"$f":"IF(ISNA(VLOOKUP(D8,Pivot!$H$4:$I$10,2,0)),MIN(Pivot!$H$4:$I$10),VLOOKUP(D8,Pivot!$H$4:$I$10,2,0))","v":10382.341810335902},null,null,null,{"$f":"INDEX(E8:I8,1,Control!$C$10)","v":11873.552586779413}]
[null,5,"Angola","AGO",{"$f":"IF(ISNA(VLOOKUP(D9,Pivot!$D$4:$E$30,2,0)),MIN(Pivot!$E$4:$E$30),VLOOKUP(D9,Pivot!$D$4:$E$30,2,0))","v":11873.552586779413},{"$f":"IF(ISNA(VLOOKUP(D9,Pivot!$F$4:$G$12,2,0)),MIN(Pivot!$F$4:$G$12),VLOOKUP(D9,Pivot!$F$4:$G$12,2,0))","v":11264.716264070181},{"$f":"IF(ISNA(VLOOKUP(D9,Pivot!$H$4:$I$10,2,0)),MIN(Pivot!$H$4:$I$10),VLOOKUP(D9,Pivot!$H$4:$I$10,2,0))","v":10382.341810335902},null,null,null,{"$f":"INDEX(E9:I9,1,Control!$C$10)","v":11873.552586779413}]
[null,6,"Antigua and Barbuda","ATG",{"$f":"IF(ISNA(VLOOKUP(D10,Pivot!$D$4:$E$30,2,0)),MIN(Pivot!$E$4:$E$30),VLOOKUP(D10,Pivot!$D$4:$E$30,2,0))","v":11873.552586779413},{"$f":"IF(ISNA(VLOOKUP(D10,Pivot!$F$4:$G$12,2,0)),MIN(Pivot!$F$4:$G$12),VLOOKUP(D10,Pivot!$F$4:$G$12,2,0))","v":11264.716264070181},{"$f":"IF(ISNA(VLOOKUP(D10,Pivot!$H$4:$I$10,2,0)),MIN(Pivot!$H$4:$I$10),VLOOKUP(D10,Pivot!$H$4:$I$10,2,0))","v":10382.341810335902},null,null,null,{"$f":"INDEX(E10:I10,1,Control!$C$10)","v":11873.552586779413}]
[null,7,"Argentina","ARG",{"$f":"IF(ISNA(VLOOKUP(D11,Pivot!$D$4:$E$30,2,0)),MIN(Pivot!$E$4:$E$30),VLOOKUP(D11,Pivot!$D$4:$E$30,2,0))","v":11873.552586779413},{"$f":"IF(ISNA(VLOOKUP(D11,Pivot!$F$4:$G$12,2,0)),MIN(Pivot!$F$4:$G$12),VLOOKUP(D11,Pivot!$F$4:$G$12,2,0))","v":11264.716264070181},{"$f":"IF(ISNA(VLOOKUP(D11,Pivot!$H$4:$I$10,2,0)),MIN(Pivot!$H$4:$I$10),VLOOKUP(D11,Pivot!$H$4:$I$10,2,0))","v":10382.341810335902},null,null,null,{"$f":"INDEX(E11:I11,1,Control!$C$10)","v":11873.552586779413}]
[null,8,"Armenia","ARM",{"$f":"IF(ISNA(VLOOKUP(D12,Pivot!$D$4:$E$30,2,0)),MIN(Pivot!$E$4:$E$30),VLOOKUP(D12,Pivot!$D$4:$E$30,2,0))","v":11873.552586779413},{"$f":"IF(ISNA(VLOOKUP(D12,Pivot!$F$4:$G$12,2,0)),MIN(Pivot!$F$4:$G$12),VLOOKUP(D12,Pivot!$F$4:$G$12,2,0))","v":11264.716264070181},{"$f":"IF(ISNA(VLOOKUP(D12,Pivot!$H$4:$I$10,2,0)),MIN(Pivot!$H$4:$I$10),VLOOKUP(D12,Pivot!$H$4:$I$10,2,0))","v":10382.341810335902},null,null,null,{"$f":"INDEX(E12:I12,1,Control!$C$10)","v":11873.552586779413}]
[null,9,"Australia","AUS",{"$f":"IF(ISNA(VLOOKUP(D13,Pivot!$D$4:$E$30,2,0)),MIN(Pivot!$E$4:$E$30),VLOOKUP(D13,Pivot!$D$4:$E$30,2,0))","v":92857.629854916348},{"$f":"IF(ISNA(VLOOKUP(D13,Pivot!$F$4:$G$12,2,0)),MIN(Pivot!$F$4:$G$12),VLOOKUP(D13,Pivot!$F$4:$G$12,2,0))","v":86525.394195457935},{"$f":"IF(ISNA(VLOOKUP(D13,Pivot!$H$4:$I$10,2,0)),MIN(Pivot!$H$4:$I$10),VLOOKUP(D13,Pivot!$H$4:$I$10,2,0))","v":95631.029699178704},null,null,null,{"$f":"INDEX(E13:I13,1,Control!$C$10)","v":92857.629854916348}]
[null,10,"Austria","AUT",{"$f":"IF(ISNA(VLOOKUP(D14,Pivot!$D$4:$E$30,2,0)),MIN(Pivot!$E$4:$E$30),VLOOKUP(D14,Pivot!$D$4:$E$30,2,0))","v":11873.552586779413},{"$f":"IF(ISNA(VLOOKUP(D14,Pivot!$F$4:$G$12,2,0)),MIN(Pivot!$F$4:$G$12),VLOOKUP(D14,Pivot!$F$4:$G$12,2,0))","v":11264.716264070181},{"$f":"IF(ISNA(VLOOKUP(D14,Pivot!$H$4:$I$10,2,0)),MIN(Pivot!$H$4:$I$10),VLOOKUP(D14,Pivot!$H$4:$I$10,2,0))","v":10382.341810335902},null,null,null,{"$f":"INDEX(E14:I14,1,Control!$C$10)","v":11873.552586779413}]
[null,11,"Azerbaijan","AZE",{"$f":"IF(ISNA(VLOOKUP(D15,Pivot!$D$4:$E$30,2,0)),MIN(Pivot!$E$4:$E$30),VLOOKUP(D15,Pivot!$D$4:$E$30,2,0))","v":11873.552586779413},{"$f":"IF(ISNA(VLOOKUP(D15,Pivot!$F$4:$G$12,2,0)),MIN(Pivot!$F$4:$G$12),VLOOKUP(D15,Pivot!$F$4:$G$12,2,0))","v":11264.716264070181},{"$f":"IF(ISNA(VLOOKUP(D15,Pivot!$H$4:$I$10,2,0)),MIN(Pivot!$H$4:$I$10),VLOOKUP(D15,Pivot!$H$4:$I$10,2,0))","v":10382.341810335902},null,null,null,{"$f":"INDEX(E15:I15,1,Control!$C$10)","v":11873.552586779413}]
[null,12,"Bahamas, The","BHS",{"$f":"IF(ISNA(VLOOKUP(D16,Pivot!$D$4:$E$30,2,0)),MIN(Pivot!$E$4:$E$30),VLOOKUP(D16,Pivot!$D$4:$E$30,2,0))","v":11873.552586779413},{"$f":"IF(ISNA(VLOOKUP(D16,Pivot!$F$4:$G$12,2,0)),MIN(Pivot!$F$4:$G$12),VLOOKUP(D16,Pivot!$F$4:$G$12,2,0))","v":11264.716264070181},{"$f":"IF(ISNA(VLOOKUP(D16,Pivot!$H$4:$I$10,2,0)),MIN(Pivot!$H$4:$I$10),VLOOKUP(D16,Pivot!$H$4:$I$10,2,0))","v":10382.341810335902},null,null,null,{"$f":"INDEX(E16:I16,1,Control!$C$10)","v":11873.552586779413}]
[null,13,"Bahrain","BHR",{"$f":"IF(ISNA(VLOOKUP(D17,Pivot!$D$4:$E$30,2,0)),MIN(Pivot!$E$4:$E$30),VLOOKUP(D17,Pivot!$D$4:$E$30,2,0))","v":11873.552586779413},{"$f":"IF(ISNA(VLOOKUP(D17,Pivot!$F$4:$G$12,2,0)),MIN(Pivot!$F$4:$G$12),VLOOKUP(D17,Pivot!$F$4:$G$12,2,0))","v":11264.716264070181},{"$f":"IF(ISNA(VLOOKUP(D17,Pivot!$H$4:$I$10,2,0)),MIN(Pivot!$H$4:$I$10),VLOOKUP(D17,Pivot!$H$4:$I$10,2,0))","v":10382.341810335902},null,null,null,{"$f":"INDEX(E17:I17,1,Control!$C$10)","v":11873.552586779413}]
[null,14,"Bangladesh","BGD",{"$f":"IF(ISNA(VLOOKUP(D18,Pivot!$D$4:$E$30,2,0)),MIN(Pivot!$E$4:$E$30),VLOOKUP(D18,Pivot!$D$4:$E$30,2,0))","v":11873.552586779413},{"$f":"IF(ISNA(VLOOKUP(D18,Pivot!$F$4:$G$12,2,0)),MIN(Pivot!$F$4:$G$12),VLOOKUP(D18,Pivot!$F$4:$G$12,2,0))","v":11264.716264070181},{"$f":"IF(ISNA(VLOOKUP(D18,Pivot!$H$4:$I$10,2,0)),MIN(Pivot!$H$4:$I$10),VLOOKUP(D18,Pivot!$H$4:$I$10,2,0))","v":10382.341810335902},null,null,null,{"$f":"INDEX(E18:I18,1,Control!$C$10)","v":11873.552586779413}]
[null,15,"Barbados","BRB",{"$f":"IF(ISNA(VLOOKUP(D19,Pivot!$D$4:$E$30,2,0)),MIN(Pivot!$E$4:$E$30),VLOOKUP(D19,Pivot!$D$4:$E$30,2,0))","v":11873.552586779413},{"$f":"IF(ISNA(VLOOKUP(D19,Pivot!$F$4:$G$12,2,0)),MIN(Pivot!$F$4:$G$12),VLOOKUP(D19,Pivot!$F$4:$G$12,2,0))","v":11264.716264070181},{"$f":"IF(ISNA(VLOOKUP(D19,Pivot!$H$4:$I$10,2,0)),MIN(Pivot!$H$4:$I$10),VLOOKUP(D19,Pivot!$H$4:$I$10,2,0))","v":10382.341810335902},null,null,null,{"$f":"INDEX(E19:I19,1,Control!$C$10)","v":11873.552586779413}]
[null,16,"Belarus","BLR",{"$f":"IF(ISNA(VLOOKUP(D20,Pivot!$D$4:$E$30,2,0)),MIN(Pivot!$E$4:$E$30),VLOOKUP(D20,Pivot!$D$4:$E$30,2,0))","v":11873.552586779413},{"$f":"IF(ISNA(VLOOKUP(D20,Pivot!$F$4:$G$12,2,0)),MIN(Pivot!$F$4:$G$12),VLOOKUP(D20,Pivot!$F$4:$G$12,2,0))","v":11264.716264070181},{"$f":"IF(ISNA(VLOOKUP(D20,Pivot!$H$4:$I$10,2,0)),MIN(Pivot!$H$4:$I$10),VLOOKUP(D20,Pivot!$H$4:$I$10,2,0))","v":10382.341810335902},null,null,null,{"$f":"INDEX(E20:I20,1,Control!$C$10)","v":11873.552586779413}]
[null,17,"Belgium","BEL",{"$f":"IF(ISNA(VLOOKUP(D21,Pivot!$D$4:$E$30,2,0)),MIN(Pivot!$E$4:$E$30),VLOOKUP(D21,Pivot!$D$4:$E$30,2,0))","v":11873.552586779413},{"$f":"IF(ISNA(VLOOKUP(D21,Pivot!$F$4:$G$12,2,0)),MIN(Pivot!$F$4:$G$12),VLOOKUP(D21,Pivot!$F$4:$G$12,2,0))","v":11264.716264070181},{"$f":"IF(ISNA(VLOOKUP(D21,Pivot!$H$4:$I$10,2,0)),MIN(Pivot!$H$4:$I$10),VLOOKUP(D21,Pivot!$H$4:$I$10,2,0))","v":10382.341810335902},null,null,null,{"$f":"INDEX(E21:I21,1,Control!$C$10)","v":11873.552586779413}]
[null,18,"Belize","BLZ",{"$f":"IF(ISNA(VLOOKUP(D22,Pivot!$D$4:$E$30,2,0)),MIN(Pivot!$E$4:$E$30),VLOOKUP(D22,Pivot!$D$4:$E$30,2,0))","v":11873.552586779413},{"$f":"IF(ISNA(VLOOKUP(D22,Pivot!$F$4:$G$12,2,0)),MIN(Pivot!$F$4:$G$12),VLOOKUP(D22,Pivot!$F$4:$G$12,2,0))","v":11264.716264070181},{"$f":"IF(ISNA(VLOOKUP(D22,Pivot!$H$4:$I$10,2,0)),MIN(Pivot!$H$4:$I$10),VLOOKUP(D22,Pivot!$H$4:$I$10,2,0))","v":10382.341810335902},null,null,null,{"$f":"INDEX(E22:I22,1,Control!$C$10)","v":11873.552586779413}]
[null,19,"Benin","BEN",{"$f":"IF(ISNA(VLOOKUP(D23,Pivot!$D$4:$E$30,2,0)),MIN(Pivot!$E$4:$E$30),VLOOKUP(D23,Pivot!$D$4:$E$30,2,0))","v":11873.552586779413},{"$f":"IF(ISNA(VLOOKUP(D23,Pivot!$F$4:$G$12,2,0)),MIN(Pivot!$F$4:$G$12),VLOOKUP(D23,Pivot!$F$4:$G$12,2,0))","v":11264.716264070181},{"$f":"IF(ISNA(VLOOKUP(D23,Pivot!$H$4:$I$10,2,0)),MIN(Pivot!$H$4:$I$10),VLOOKUP(D23,Pivot!$H$4:$I$10,2,0))","v":10382.341810335902},null,null,null,{"$f":"INDEX(E23:I23,1,Control!$C$10)","v":11873.552586779413}]
[null,20,"Bhutan","BTN",{"$f":"IF(ISNA(VLOOKUP(D24,Pivot!$D$4:$E$30,2,0)),MIN(Pivot!$E$4:$E$30),VLOOKUP(D24,Pivot!$D$4:$E$30,2,0))","v":11873.552586779413},{"$f":"IF(ISNA(VLOOKUP(D24,Pivot!$F$4:$G$12,2,0)),MIN(Pivot!$F$4:$G$12),VLOOKUP(D24,Pivot!$F$4:$G$12,2,0))","v":11264.716264070181},{"$f":"IF(ISNA(VLOOKUP(D24,Pivot!$H$4:$I$10,2,0)),MIN(Pivot!$H$4:$I$10),VLOOKUP(D24,Pivot!$H$4:$I$10,2,0))","v":10382.341810335902},null,null,null,{"$f":"INDEX(E24:I24,1,Control!$C$10)","v":11873.552586779413}]
[null,21,"Bolivia","BOL",{"$f":"IF(ISNA(VLOOKUP(D25,Pivot!$D$4:$E$30,2,0)),MIN(Pivot!$E$4:$E$30),VLOOKUP(D25,Pivot!$D$4:$E$30,2,0))","v":11873.552586779413},{"$f":"IF(ISNA(VLOOKUP(D25,Pivot!$F$4:$G$12,2,0)),MIN(Pivot!$F$4:$G$12),VLOOKUP(D25,Pivot!$F$4:$G$12,2,0))","v":11264.716264070181},{"$f":"IF(ISNA(VLOOKUP(D25,Pivot!$H$4:$I$10,2,0)),MIN(Pivot!$H$4:$I$10),VLOOKUP(D25,Pivot!$H$4:$I$10,2,0))","v":10382.341810335902},null,null,null,{"$f":"INDEX(E25:I25,1,Control!$C$10)","v":11873.552586779413}]
[null,22,"Bosnia and Herzegovina","BIH",{"$f":"IF(ISNA(VLOOKUP(D26,Pivot!$D$4:$E$30,2,0)),MIN(Pivot!$E$4:$E$30),VLOOKUP(D26,Pivot!$D$4:$E$30,2,0))","v":11873.552586779413},{"$f":"IF(ISNA(VLOOKUP(D26,Pivot!$F$4:$G$12,2,0)),MIN(Pivot!$F$4:$G$12),VLOOKUP(D26,Pivot!$F$4:$G$12,2,0))","v":11264.716264070181},{"$f":"IF(ISNA(VLOOKUP(D26,Pivot!$H$4:$I$10,2,0)),MIN(Pivot!$H$4:$I$10),VLOOKUP(D26,Pivot!$H$4:$I$10,2,0))","v":10382.341810335902},null,null,null,{"$f":"INDEX(E26:I26,1,Control!$C$10)","v":11873.552586779413}]
[null,23,"Botswana","BWA",{"$f":"IF(ISNA(VLOOKUP(D27,Pivot!$D$4:$E$30,2,0)),MIN(Pivot!$E$4:$E$30),VLOOKUP(D27,Pivot!$D$4:$E$30,2,0))","v":11873.552586779413},{"$f":"IF(ISNA(VLOOKUP(D27,Pivot!$F$4:$G$12,2,0)),MIN(Pivot!$F$4:$G$12),VLOOKUP(D27,Pivot!$F$4:$G$12,2,0))","v":11264.716264070181},{"$f":"IF(ISNA(VLOOKUP(D27,Pivot!$H$4:$I$10,2,0)),MIN(Pivot!$H$4:$I$10),VLOOKUP(D27,Pivot!$H$4:$I$10,2,0))","v":10382.341810335902},null,null,null,{"$f":"INDEX(E27:I27,1,Control!$C$10)","v":11873.552586779413}]
[null,24,"Brazil","BRA",{"$f":"IF(ISNA(VLOOKUP(D28,Pivot!$D$4:$E$30,2,0)),MIN(Pivot!$E$4:$E$30),VLOOKUP(D28,Pivot!$D$4:$E$30,2,0))","v":44287.984205099929},{"$f":"IF(ISNA(VLOOKUP(D28,Pivot!$F$4:$G$12,2,0)),MIN(Pivot!$F$4:$G$12),VLOOKUP(D28,Pivot!$F$4:$G$12,2,0))","v":34591.322588559458},{"$f":"IF(ISNA(VLOOKUP(D28,Pivot!$H$4:$I$10,2,0)),MIN(Pivot!$H$4:$I$10),VLOOKUP(D28,Pivot!$H$4:$I$10,2,0))","v":10382.341810335902},null,null,null,{"$f":"INDEX(E28:I28,1,Control!$C$10)","v":44287.984205099929}]
[null,25,"Bulgaria","BGR",{"$f":"IF(ISNA(VLOOKUP(D29,Pivot!$D$4:$E$30,2,0)),MIN(Pivot!$E$4:$E$30),VLOOKUP(D29,Pivot!$D$4:$E$30,2,0))","v":11873.552586779413},{"$f":"IF(ISNA(VLOOKUP(D29,Pivot!$F$4:$G$12,2,0)),MIN(Pivot!$F$4:$G$12),VLOOKUP(D29,Pivot!$F$4:$G$12,2,0))","v":11264.716264070181},{"$f":"IF(ISNA(VLOOKUP(D29,Pivot!$H$4:$I$10,2,0)),MIN(Pivot!$H$4:$I$10),VLOOKUP(D29,Pivot!$H$4:$I$10,2,0))","v":10382.341810335902},null,null,null,{"$f":"INDEX(E29:I29,1,Control!$C$10)","v":11873.552586779413}]
[null,26,"Burkina Faso","BFA",{"$f":"IF(ISNA(VLOOKUP(D30,Pivot!$D$4:$E$30,2,0)),MIN(Pivot!$E$4:$E$30),VLOOKUP(D30,Pivot!$D$4:$E$30,2,0))","v":11873.552586779413},{"$f":"IF(ISNA(VLOOKUP(D30,Pivot!$F$4:$G$12,2,0)),MIN(Pivot!$F$4:$G$12),VLOOKUP(D30,Pivot!$F$4:$G$12,2,0))","v":11264.716264070181},{"$f":"IF(ISNA(VLOOKUP(D30,Pivot!$H$4:$I$10,2,0)),MIN(Pivot!$H$4:$I$10),VLOOKUP(D30,Pivot!$H$4:$I$10,2,0))","v":10382.341810335902},null,null,null,{"$f":"INDEX(E30:I30,1,Control!$C$10)","v":11873.552586779413}]
[null,27,"Burma","MMR",{"$f":"IF(ISNA(VLOOKUP(D31,Pivot!$D$4:$E$30,2,0)),MIN(Pivot!$E$4:$E$30),VLOOKUP(D31,Pivot!$D$4:$E$30,2,0))","v":11873.552586779413},{"$f":"IF(ISNA(VLOOKUP(D31,Pivot!$F$4:$G$12,2,0)),MIN(Pivot!$F$4:$G$12),VLOOKUP(D31,Pivot!$F$4:$G$12,2,0))","v":11264.716264070181},{"$f":"IF(ISNA(VLOOKUP(D31,Pivot!$H$4:$I$10,2,0)),MIN(Pivot!$H$4:$I$10),VLOOKUP(D31,Pivot!$H$4:$I$10,2,0))","v":10382.341810335902},null,null,null,{"$f":"INDEX(E31:I31,1,Control!$C$10)","v":11873.552586779413}]
[null,28,"Burundi","BDI",{"$f":"IF(ISNA(VLOOKUP(D32,Pivot!$D$4:$E$30,2,0)),MIN(Pivot!$E$4:$E$30),VLOOKUP(D32,Pivot!$D$4:$E$30,2,0))","v":11873.552586779413},{"$f":"IF(ISNA(VLOOKUP(D32,Pivot!$F$4:$G$12,2,0)),MIN(Pivot!$F$4:$G$12),VLOOKUP(D32,Pivot!$F$4:$G$12,2,0))","v":11264.716264070181},{"$f":"IF(ISNA(VLOOKUP(D32,Pivot!$H$4:$I$10,2,0)),MIN(Pivot!$H$4:$I$10),VLOOKUP(D32,Pivot!$H$4:$I$10,2,0))","v":10382.341810335902},null,null,null,{"$f":"INDEX(E32:I32,1,Control!$C$10)","v":11873.552586779413}]
[null,29,"Cambodia","KHM",{"$f":"IF(ISNA(VLOOKUP(D33,Pivot!$D$4:$E$30,2,0)),MIN(Pivot!$E$4:$E$30),VLOOKUP(D33,Pivot!$D$4:$E$30,2,0))","v":11873.552586779413},{"$f":"IF(ISNA(VLOOKUP(D33,Pivot!$F$4:$G$12,2,0)),MIN(Pivot!$F$4:$G$12),VLOOKUP(D33,Pivot!$F$4:$G$12,2,0))","v":11264.716264070181},{"$f":"IF(ISNA(VLOOKUP(D33,Pivot!$H$4:$I$10,2,0)),MIN(Pivot!$H$4:$I$10),VLOOKUP(D33,Pivot!$H$4:$I$10,2,0))","v":10382.341810335902},null,null,null,{"$f":"INDEX(E33:I33,1,Control!$C$10)","v":11873.552586779413}]
[null,30,"Cameroon","CMR",{"$f":"IF(ISNA(VLOOKUP(D34,Pivot!$D$4:$E$30,2,0)),MIN(Pivot!$E$4:$E$30),VLOOKUP(D34,Pivot!$D$4:$E$30,2,0))","v":11873.552586779413},{"$f":"IF(ISNA(VLOOKUP(D34,Pivot!$F$4:$G$12,2,0)),MIN(Pivot!$F$4:$G$12),VLOOKUP(D34,Pivot!$F$4:$G$12,2,0))","v":11264.716264070181},{"$f":"IF(ISNA(VLOOKUP(D34,Pivot!$H$4:$I$10,2,0)),MIN(Pivot!$H$4:$I$10),VLOOKUP(D34,Pivot!$H$4:$I$10,2,0))","v":10382.341810335902},null,null,null,{"$f":"INDEX(E34:I34,1,Control!$C$10)","v":11873.552586779413}]
[null,31,"Canada","CAN",{"$f":"IF(ISNA(VLOOKUP(D35,Pivot!$D$4:$E$30,2,0)),MIN(Pivot!$E$4:$E$30),VLOOKUP(D35,Pivot!$D$4:$E$30,2,0))","v":89799.526836779929},{"$f":"IF(ISNA(VLOOKUP(D35,Pivot!$F$4:$G$12,2,0)),MIN(Pivot!$F$4:$G$12),VLOOKUP(D35,Pivot!$F$4:$G$12,2,0))","v":63558.641342985735},{"$f":"IF(ISNA(VLOOKUP(D35,Pivot!$H$4:$I$10,2,0)),MIN(Pivot!$H$4:$I$10),VLOOKUP(D35,Pivot!$H$4:$I$10,2,0))","v":70334.475671635912},null,null,null,{"$f":"INDEX(E35:I35,1,Control!$C$10)","v":89799.526836779929}]
[null,32,"Cape Verde","CPV",{"$f":"IF(ISNA(VLOOKUP(D36,Pivot!$D$4:$E$30,2,0)),MIN(Pivot!$E$4:$E$30),VLOOKUP(D36,Pivot!$D$4:$E$30,2,0))","v":11873.552586779413},{"$f":"IF(ISNA(VLOOKUP(D36,Pivot!$F$4:$G$12,2,0)),MIN(Pivot!$F$4:$G$12),VLOOKUP(D36,Pivot!$F$4:$G$12,2,0))","v":11264.716264070181},{"$f":"IF(ISNA(VLOOKUP(D36,Pivot!$H$4:$I$10,2,0)),MIN(Pivot!$H$4:$I$10),VLOOKUP(D36,Pivot!$H$4:$I$10,2,0))","v":10382.341810335902},null,null,null,{"$f":"INDEX(E36:I36,1,Control!$C$10)","v":11873.552586779413}]
[null,33,"Central African Republic","CAF",{"$f":"IF(ISNA(VLOOKUP(D37,Pivot!$D$4:$E$30,2,0)),MIN(Pivot!$E$4:$E$30),VLOOKUP(D37,Pivot!$D$4:$E$30,2,0))","v":11873.552586779413},{"$f":"IF(ISNA(VLOOKUP(D37,Pivot!$F$4:$G$12,2,0)),MIN(Pivot!$F$4:$G$12),VLOOKUP(D37,Pivot!$F$4:$G$12,2,0))","v":11264.716264070181},{"$f":"IF(ISNA(VLOOKUP(D37,Pivot!$H$4:$I$10,2,0)),MIN(Pivot!$H$4:$I$10),VLOOKUP(D37,Pivot!$H$4:$I$10,2,0))","v":10382.341810335902},null,null,null,{"$f":"INDEX(E37:I37,1,Control!$C$10)","v":11873.552586779413}]
[null,34,"Chad","TCD",{"$f":"IF(ISNA(VLOOKUP(D38,Pivot!$D$4:$E$30,2,0)),MIN(Pivot!$E$4:$E$30),VLOOKUP(D38,Pivot!$D$4:$E$30,2,0))","v":11873.552586779413},{"$f":"IF(ISNA(VLOOKUP(D38,Pivot!$F$4:$G$12,2,0)),MIN(Pivot!$F$4:$G$12),VLOOKUP(D38,Pivot!$F$4:$G$12,2,0))","v":11264.716264070181},{"$f":"IF(ISNA(VLOOKUP(D38,Pivot!$H$4:$I$10,2,0)),MIN(Pivot!$H$4:$I$10),VLOOKUP(D38,Pivot!$H$4:$I$10,2,0))","v":10382.341810335902},null,null,null,{"$f":"INDEX(E38:I38,1,Control!$C$10)","v":11873.552586779413}]
[null,35,"Chile","CHL",{"$f":"IF(ISNA(VLOOKUP(D39,Pivot!$D$4:$E$30,2,0)),MIN(Pivot!$E$4:$E$30),VLOOKUP(D39,Pivot!$D$4:$E$30,2,0))","v":11873.552586779413},{"$f":"IF(ISNA(VLOOKUP(D39,Pivot!$F$4:$G$12,2,0)),MIN(Pivot!$F$4:$G$12),VLOOKUP(D39,Pivot!$F$4:$G$12,2,0))","v":11264.716264070181},{"$f":"IF(ISNA(VLOOKUP(D39,Pivot!$H$4:$I$10,2,0)),MIN(Pivot!$H$4:$I$10),VLOOKUP(D39,Pivot!$H$4:$I$10,2,0))","v":10382.341810335902},null,null,null,{"$f":"INDEX(E39:I39,1,Control!$C$10)","v":11873.552586779413}]
[null,36,"China","CHN",{"$f":"IF(ISNA(VLOOKUP(D40,Pivot!$D$4:$E$30,2,0)),MIN(Pivot!$E$4:$E$30),VLOOKUP(D40,Pivot!$D$4:$E$30,2,0))","v":11873.552586779413},{"$f":"IF(ISNA(VLOOKUP(D40,Pivot!$F$4:$G$12,2,0)),MIN(Pivot!$F$4:$G$12),VLOOKUP(D40,Pivot!$F$4:$G$12,2,0))","v":11264.716264070181},{"$f":"IF(ISNA(VLOOKUP(D40,Pivot!$H$4:$I$10,2,0)),MIN(Pivot!$H$4:$I$10),VLOOKUP(D40,Pivot!$H$4:$I$10,2,0))","v":10382.341810335902},null,null,null,{"$f":"INDEX(E40:I40,1,Control!$C$10)","v":11873.552586779413}]
[null,37,"Colombia","COL",{"$f":"IF(ISNA(VLOOKUP(D41,Pivot!$D$4:$E$30,2,0)),MIN(Pivot!$E$4:$E$30),VLOOKUP(D41,Pivot!$D$4:$E$30,2,0))","v":11873.552586779413},{"$f":"IF(ISNA(VLOOKUP(D41,Pivot!$F$4:$G$12,2,0)),MIN(Pivot!$F$4:$G$12),VLOOKUP(D41,Pivot!$F$4:$G$12,2,0))","v":11264.716264070181},{"$f":"IF(ISNA(VLOOKUP(D41,Pivot!$H$4:$I$10,2,0)),MIN(Pivot!$H$4:$I$10),VLOOKUP(D41,Pivot!$H$4:$I$10,2,0))","v":10382.341810335902},null,null,null,{"$f":"INDEX(E41:I41,1,Control!$C$10)","v":11873.552586779413}]
[null,38,"Comoros","COM",{"$f":"IF(ISNA(VLOOKUP(D42,Pivot!$D$4:$E$30,2,0)),MIN(Pivot!$E$4:$E$30),VLOOKUP(D42,Pivot!$D$4:$E$30,2,0))","v":11873.552586779413},{"$f":"IF(ISNA(VLOOKUP(D42,Pivot!$F$4:$G$12,2,0)),MIN(Pivot!$F$4:$G$12),VLOOKUP(D42,Pivot!$F$4:$G$12,2,0))","v":11264.716264070181},{"$f":"IF(ISNA(VLOOKUP(D42,Pivot!$H$4:$I$10,2,0)),MIN(Pivot!$H$4:$I$10),VLOOKUP(D42,Pivot!$H$4:$I$10,2,0))","v":10382.341810335902},null,null,null,{"$f":"INDEX(E42:I42,1,Control!$C$10)","v":11873.552586779413}]
[null,39,"Congo, Democratic Republic of the","COD",{"$f":"IF(ISNA(VLOOKUP(D43,Pivot!$D$4:$E$30,2,0)),MIN(Pivot!$E$4:$E$30),VLOOKUP(D43,Pivot!$D$4:$E$30,2,0))","v":11873.552586779413},{"$f":"IF(ISNA(VLOOKUP(D43,Pivot!$F$4:$G$12,2,0)),MIN(Pivot!$F$4:$G$12),VLOOKUP(D43,Pivot!$F$4:$G$12,2,0))","v":11264.716264070181},{"$f":"IF(ISNA(VLOOKUP(D43,Pivot!$H$4:$I$10,2,0)),MIN(Pivot!$H$4:$I$10),VLOOKUP(D43,Pivot!$H$4:$I$10,2,0))","v":10382.341810335902},null,null,null,{"$f":"INDEX(E43:I43,1,Control!$C$10)","v":11873.552586779413}]
[null,40,"Congo, Republic of the","COG",{"$f":"IF(ISNA(VLOOKUP(D44,Pivot!$D$4:$E$30,2,0)),MIN(Pivot!$E$4:$E$30),VLOOKUP(D44,Pivot!$D$4:$E$30,2,0))","v":11873.552586779413},{"$f":"IF(ISNA(VLOOKUP(D44,Pivot!$F$4:$G$12,2,0)),MIN(Pivot!$F$4:$G$12),VLOOKUP(D44,Pivot!$F$4:$G$12,2,0))","v":11264.716264070181},{"$f":"IF(ISNA(VLOOKUP(D44,Pivot!$H$4:$I$10,2,0)),MIN(Pivot!$H$4:$I$10),VLOOKUP(D44,Pivot!$H$4:$I$10,2,0))","v":10382.341810335902},null,null,null,{"$f":"INDEX(E44:I44,1,Control!$C$10)","v":11873.552586779413}]
[null,41,"Costa Rica","CRI",{"$f":"IF(ISNA(VLOOKUP(D45,Pivot!$D$4:$E$30,2,0)),MIN(Pivot!$E$4:$E$30),VLOOKUP(D45,Pivot!$D$4:$E$30,2,0))","v":11873.552586779413},{"$f":"IF(ISNA(VLOOKUP(D45,Pivot!$F$4:$G$12,2,0)),MIN(Pivot!$F$4:$G$12),VLOOKUP(D45,Pivot!$F$4:$G$12,2,0))","v":11264.716264070181},{"$f":"IF(ISNA(VLOOKUP(D45,Pivot!$H$4:$I$10,2,0)),MIN(Pivot!$H$4:$I$10),VLOOKUP(D45,Pivot!$H$4:$I$10,2,0))","v":10382.341810335902},null,null,null,{"$f":"INDEX(E45:I45,1,Control!$C$10)","v":11873.552586779413}]
[null,42,"Cote d'Ivoire","CIV",{"$f":"IF(ISNA(VLOOKUP(D46,Pivot!$D$4:$E$30,2,0)),MIN(Pivot!$E$4:$E$30),VLOOKUP(D46,Pivot!$D$4:$E$30,2,0))","v":11873.552586779413},{"$f":"IF(ISNA(VLOOKUP(D46,Pivot!$F$4:$G$12,2,0)),MIN(Pivot!$F$4:$G$12),VLOOKUP(D46,Pivot!$F$4:$G$12,2,0))","v":11264.716264070181},{"$f":"IF(ISNA(VLOOKUP(D46,Pivot!$H$4:$I$10,2,0)),MIN(Pivot!$H$4:$I$10),VLOOKUP(D46,Pivot!$H$4:$I$10,2,0))","v":10382.341810335902},null,null,null,{"$f":"INDEX(E46:I46,1,Control!$C$10)","v":11873.552586779413}]
[null,43,"Croatia","HRV",{"$f":"IF(ISNA(VLOOKUP(D47,Pivot!$D$4:$E$30,2,0)),MIN(Pivot!$E$4:$E$30),VLOOKUP(D47,Pivot!$D$4:$E$30,2,0))","v":11873.552586779413},{"$f":"IF(ISNA(VLOOKUP(D47,Pivot!$F$4:$G$12,2,0)),MIN(Pivot!$F$4:$G$12),VLOOKUP(D47,Pivot!$F$4:$G$12,2,0))","v":11264.716264070181},{"$f":"IF(ISNA(VLOOKUP(D47,Pivot!$H$4:$I$10,2,0)),MIN(Pivot!$H$4:$I$10),VLOOKUP(D47,Pivot!$H$4:$I$10,2,0))","v":10382.341810335902},null,null,null,{"$f":"INDEX(E47:I47,1,Control!$C$10)","v":11873.552586779413}]
[null,44,"Cuba","CUB",{"$f":"IF(ISNA(VLOOKUP(D48,Pivot!$D$4:$E$30,2,0)),MIN(Pivot!$E$4:$E$30),VLOOKUP(D48,Pivot!$D$4:$E$30,2,0))","v":11873.552586779413},{"$f":"IF(ISNA(VLOOKUP(D48,Pivot!$F$4:$G$12,2,0)),MIN(Pivot!$F$4:$G$12),VLOOKUP(D48,Pivot!$F$4:$G$12,2,0))","v":11264.716264070181},{"$f":"IF(ISNA(VLOOKUP(D48,Pivot!$H$4:$I$10,2,0)),MIN(Pivot!$H$4:$I$10),VLOOKUP(D48,Pivot!$H$4:$I$10,2,0))","v":10382.341810335902},null,null,null,{"$f":"INDEX(E48:I48,1,Control!$C$10)","v":11873.552586779413}]
[null,45,"Cyprus","CYP",{"$f":"IF(ISNA(VLOOKUP(D49,Pivot!$D$4:$E$30,2,0)),MIN(Pivot!$E$4:$E$30),VLOOKUP(D49,Pivot!$D$4:$E$30,2,0))","v":11873.552586779413},{"$f":"IF(ISNA(VLOOKUP(D49,Pivot!$F$4:$G$12,2,0)),MIN(Pivot!$F$4:$G$12),VLOOKUP(D49,Pivot!$F$4:$G$12,2,0))","v":11264.716264070181},{"$f":"IF(ISNA(VLOOKUP(D49,Pivot!$H$4:$I$10,2,0)),MIN(Pivot!$H$4:$I$10),VLOOKUP(D49,Pivot!$H$4:$I$10,2,0))","v":10382.341810335902},null,null,null,{"$f":"INDEX(E49:I49,1,Control!$C$10)","v":11873.552586779413}]
[null,46,"Czech Republic","CZE",{"$f":"IF(ISNA(VLOOKUP(D50,Pivot!$D$4:$E$30,2,0)),MIN(Pivot!$E$4:$E$30),VLOOKUP(D50,Pivot!$D$4:$E$30,2,0))","v":11873.552586779413},{"$f":"IF(ISNA(VLOOKUP(D50,Pivot!$F$4:$G$12,2,0)),MIN(Pivot!$F$4:$G$12),VLOOKUP(D50,Pivot!$F$4:$G$12,2,0))","v":11264.716264070181},{"$f":"IF(ISNA(VLOOKUP(D50,Pivot!$H$4:$I$10,2,0)),MIN(Pivot!$H$4:$I$10),VLOOKUP(D50,Pivot!$H$4:$I$10,2,0))","v":10382.341810335902},null,null,null,{"$f":"INDEX(E50:I50,1,Control!$C$10)","v":11873.552586779413}]
[null,47,"Denmark","DNK",{"$f":"IF(ISNA(VLOOKUP(D51,Pivot!$D$4:$E$30,2,0)),MIN(Pivot!$E$4:$E$30),VLOOKUP(D51,Pivot!$D$4:$E$30,2,0))","v":82525.525402351297},{"$f":"IF(ISNA(VLOOKUP(D51,Pivot!$F$4:$G$12,2,0)),MIN(Pivot!$F$4:$G$12),VLOOKUP(D51,Pivot!$F$4:$G$12,2,0))","v":11264.716264070181},{"$f":"IF(ISNA(VLOOKUP(D51,Pivot!$H$4:$I$10,2,0)),MIN(Pivot!$H$4:$I$10),VLOOKUP(D51,Pivot!$H$4:$I$10,2,0))","v":10382.341810335902},null,null,null,{"$f":"INDEX(E51:I51,1,Control!$C$10)","v":82525.525402351297}]
[null,48,"Djibouti","DJI",{"$f":"IF(ISNA(VLOOKUP(D52,Pivot!$D$4:$E$30,2,0)),MIN(Pivot!$E$4:$E$30),VLOOKUP(D52,Pivot!$D$4:$E$30,2,0))","v":11873.552586779413},{"$f":"IF(ISNA(VLOOKUP(D52,Pivot!$F$4:$G$12,2,0)),MIN(Pivot!$F$4:$G$12),VLOOKUP(D52,Pivot!$F$4:$G$12,2,0))","v":11264.716264070181},{"$f":"IF(ISNA(VLOOKUP(D52,Pivot!$H$4:$I$10,2,0)),MIN(Pivot!$H$4:$I$10),VLOOKUP(D52,Pivot!$H$4:$I$10,2,0))","v":10382.341810335902},null,null,null,{"$f":"INDEX(E52:I52,1,Control!$C$10)","v":11873.552586779413}]
[null,49,"Dominica","DMA",{"$f":"IF(ISNA(VLOOKUP(D53,Pivot!$D$4:$E$30,2,0)),MIN(Pivot!$E$4:$E$30),VLOOKUP(D53,Pivot!$D$4:$E$30,2,0))","v":11873.552586779413},{"$f":"IF(ISNA(VLOOKUP(D53,Pivot!$F$4:$G$12,2,0)),MIN(Pivot!$F$4:$G$12),VLOOKUP(D53,Pivot!$F$4:$G$12,2,0))","v":11264.716264070181},{"$f":"IF(ISNA(VLOOKUP(D53,Pivot!$H$4:$I$10,2,0)),MIN(Pivot!$H$4:$I$10),VLOOKUP(D53,Pivot!$H$4:$I$10,2,0))","v":10382.341810335902},null,null,null,{"$f":"INDEX(E53:I53,1,Control!$C$10)","v":11873.552586779413}]
[null,50,"Dominican Republic","DOM",{"$f":"IF(ISNA(VLOOKUP(D54,Pivot!$D$4:$E$30,2,0)),MIN(Pivot!$E$4:$E$30),VLOOKUP(D54,Pivot!$D$4:$E$30,2,0))","v":11873.552586779413},{"$f":"IF(ISNA(VLOOKUP(D54,Pivot!$F$4:$G$12,2,0)),MIN(Pivot!$F$4:$G$12),VLOOKUP(D54,Pivot!$F$4:$G$12,2,0))","v":11264.716264070181},{"$f":"IF(ISNA(VLOOKUP(D54,Pivot!$H$4:$I$10,2,0)),MIN(Pivot!$H$4:$I$10),VLOOKUP(D54,Pivot!$H$4:$I$10,2,0))","v":10382.341810335902},null,null,null,{"$f":"INDEX(E54:I54,1,Control!$C$10)","v":11873.552586779413}]
[null,51,"Ecuador","ECU",{"$f":"IF(ISNA(VLOOKUP(D55,Pivot!$D$4:$E$30,2,0)),MIN(Pivot!$E$4:$E$30),VLOOKUP(D55,Pivot!$D$4:$E$30,2,0))","v":11873.552586779413},{"$f":"IF(ISNA(VLOOKUP(D55,Pivot!$F$4:$G$12,2,0)),MIN(Pivot!$F$4:$G$12),VLOOKUP(D55,Pivot!$F$4:$G$12,2,0))","v":11264.716264070181},{"$f":"IF(ISNA(VLOOKUP(D55,Pivot!$H$4:$I$10,2,0)),MIN(Pivot!$H$4:$I$10),VLOOKUP(D55,Pivot!$H$4:$I$10,2,0))","v":10382.341810335902},null,null,null,{"$f":"INDEX(E55:I55,1,Control!$C$10)","v":11873.552586779413}]
[null,52,"Egypt","EGY",{"$f":"IF(ISNA(VLOOKUP(D56,Pivot!$D$4:$E$30,2,0)),MIN(Pivot!$E$4:$E$30),VLOOKUP(D56,Pivot!$D$4:$E$30,2,0))","v":11873.552586779413},{"$f":"IF(ISNA(VLOOKUP(D56,Pivot!$F$4:$G$12,2,0)),MIN(Pivot!$F$4:$G$12),VLOOKUP(D56,Pivot!$F$4:$G$12,2,0))","v":11264.716264070181},{"$f":"IF(ISNA(VLOOKUP(D56,Pivot!$H$4:$I$10,2,0)),MIN(Pivot!$H$4:$I$10),VLOOKUP(D56,Pivot!$H$4:$I$10,2,0))","v":10382.341810335902},null,null,null,{"$f":"INDEX(E56:I56,1,Control!$C$10)","v":11873.552586779413}]
[null,53,"El Salvador","SLV",{"$f":"IF(ISNA(VLOOKUP(D57,Pivot!$D$4:$E$30,2,0)),MIN(Pivot!$E$4:$E$30),VLOOKUP(D57,Pivot!$D$4:$E$30,2,0))","v":11873.552586779413},{"$f":"IF(ISNA(VLOOKUP(D57,Pivot!$F$4:$G$12,2,0)),MIN(Pivot!$F$4:$G$12),VLOOKUP(D57,Pivot!$F$4:$G$12,2,0))","v":11264.716264070181},{"$f":"IF(ISNA(VLOOKUP(D57,Pivot!$H$4:$I$10,2,0)),MIN(Pivot!$H$4:$I$10),VLOOKUP(D57,Pivot!$H$4:$I$10,2,0))","v":10382.341810335902},null,null,null,{"$f":"INDEX(E57:I57,1,Control!$C$10)","v":11873.552586779413}]
[null,54,"Equatorial Guinea","GNQ",{"$f":"IF(ISNA(VLOOKUP(D58,Pivot!$D$4:$E$30,2,0)),MIN(Pivot!$E$4:$E$30),VLOOKUP(D58,Pivot!$D$4:$E$30,2,0))","v":11873.552586779413},{"$f":"IF(ISNA(VLOOKUP(D58,Pivot!$F$4:$G$12,2,0)),MIN(Pivot!$F$4:$G$12),VLOOKUP(D58,Pivot!$F$4:$G$12,2,0))","v":11264.716264070181},{"$f":"IF(ISNA(VLOOKUP(D58,Pivot!$H$4:$I$10,2,0)),MIN(Pivot!$H$4:$I$10),VLOOKUP(D58,Pivot!$H$4:$I$10,2,0))","v":10382.341810335902},null,null,null,{"$f":"INDEX(E58:I58,1,Control!$C$10)","v":11873.552586779413}]
[null,55,"Eritrea","ERI",{"$f":"IF(ISNA(VLOOKUP(D59,Pivot!$D$4:$E$30,2,0)),MIN(Pivot!$E$4:$E$30),VLOOKUP(D59,Pivot!$D$4:$E$30,2,0))","v":11873.552586779413},{"$f":"IF(ISNA(VLOOKUP(D59,Pivot!$F$4:$G$12,2,0)),MIN(Pivot!$F$4:$G$12),VLOOKUP(D59,Pivot!$F$4:$G$12,2,0))","v":11264.716264070181},{"$f":"IF(ISNA(VLOOKUP(D59,Pivot!$H$4:$I$10,2,0)),MIN(Pivot!$H$4:$I$10),VLOOKUP(D59,Pivot!$H$4:$I$10,2,0))","v":10382.341810335902},null,null,null,{"$f":"INDEX(E59:I59,1,Control!$C$10)","v":11873.552586779413}]
[null,56,"Estonia","EST",{"$f":"IF(ISNA(VLOOKUP(D60,Pivot!$D$4:$E$30,2,0)),MIN(Pivot!$E$4:$E$30),VLOOKUP(D60,Pivot!$D$4:$E$30,2,0))","v":11873.552586779413},{"$f":"IF(ISNA(VLOOKUP(D60,Pivot!$F$4:$G$12,2,0)),MIN(Pivot!$F$4:$G$12),VLOOKUP(D60,Pivot!$F$4:$G$12,2,0))","v":11264.716264070181},{"$f":"IF(ISNA(VLOOKUP(D60,Pivot!$H$4:$I$10,2,0)),MIN(Pivot!$H$4:$I$10),VLOOKUP(D60,Pivot!$H$4:$I$10,2,0))","v":10382.341810335902},null,null,null,{"$f":"INDEX(E60:I60,1,Control!$C$10)","v":11873.552586779413}]
[null,57,"Ethiopia","ETH",{"$f":"IF(ISNA(VLOOKUP(D61,Pivot!$D$4:$E$30,2,0)),MIN(Pivot!$E$4:$E$30),VLOOKUP(D61,Pivot!$D$4:$E$30,2,0))","v":11873.552586779413},{"$f":"IF(ISNA(VLOOKUP(D61,Pivot!$F$4:$G$12,2,0)),MIN(Pivot!$F$4:$G$12),VLOOKUP(D61,Pivot!$F$4:$G$12,2,0))","v":11264.716264070181},{"$f":"IF(ISNA(VLOOKUP(D61,Pivot!$H$4:$I$10,2,0)),MIN(Pivot!$H$4:$I$10),VLOOKUP(D61,Pivot!$H$4:$I$10,2,0))","v":10382.341810335902},null,null,null,{"$f":"INDEX(E61:I61,1,Control!$C$10)","v":11873.552586779413}]
[null,58,"Fiji","FJI",{"$f":"IF(ISNA(VLOOKUP(D62,Pivot!$D$4:$E$30,2,0)),MIN(Pivot!$E$4:$E$30),VLOOKUP(D62,Pivot!$D$4:$E$30,2,0))","v":11873.552586779413},{"$f":"IF(ISNA(VLOOKUP(D62,Pivot!$F$4:$G$12,2,0)),MIN(Pivot!$F$4:$G$12),VLOOKUP(D62,Pivot!$F$4:$G$12,2,0))","v":11264.716264070181},{"$f":"IF(ISNA(VLOOKUP(D62,Pivot!$H$4:$I$10,2,0)),MIN(Pivot!$H$4:$I$10),VLOOKUP(D62,Pivot!$H$4:$I$10,2,0))","v":10382.341810335902},null,null,null,{"$f":"INDEX(E62:I62,1,Control!$C$10)","v":11873.552586779413}]
[null,59,"Finland","FIN",{"$f":"IF(ISNA(VLOOKUP(D63,Pivot!$D$4:$E$30,2,0)),MIN(Pivot!$E$4:$E$30),VLOOKUP(D63,Pivot!$D$4:$E$30,2,0))","v":11873.552586779413},{"$f":"IF(ISNA(VLOOKUP(D63,Pivot!$F$4:$G$12,2,0)),MIN(Pivot!$F$4:$G$12),VLOOKUP(D63,Pivot!$F$4:$G$12,2,0))","v":11264.716264070181},{"$f":"IF(ISNA(VLOOKUP(D63,Pivot!$H$4:$I$10,2,0)),MIN(Pivot!$H$4:$I$10),VLOOKUP(D63,Pivot!$H$4:$I$10,2,0))","v":10382.341810335902},null,null,null,{"$f":"INDEX(E63:I63,1,Control!$C$10)","v":11873.552586779413}]
[null,60,"France","FRA",{"$f":"IF(ISNA(VLOOKUP(D64,Pivot!$D$4:$E$30,2,0)),MIN(Pivot!$E$4:$E$30),VLOOKUP(D64,Pivot!$D$4:$E$30,2,0))","v":56952.725049143286},{"$f":"IF(ISNA(VLOOKUP(D64,Pivot!$F$4:$G$12,2,0)),MIN(Pivot!$F$4:$G$12),VLOOKUP(D64,Pivot!$F$4:$G$12,2,0))","v":11264.716264070181},{"$f":"IF(ISNA(VLOOKUP(D64,Pivot!$H$4:$I$10,2,0)),MIN(Pivot!$H$4:$I$10),VLOOKUP(D64,Pivot!$H$4:$I$10,2,0))","v":10382.341810335902},null,null,null,{"$f":"INDEX(E64:I64,1,Control!$C$10)","v":56952.725049143286}]
[null,61,"Gabon","GAB",{"$f":"IF(ISNA(VLOOKUP(D65,Pivot!$D$4:$E$30,2,0)),MIN(Pivot!$E$4:$E$30),VLOOKUP(D65,Pivot!$D$4:$E$30,2,0))","v":11873.552586779413},{"$f":"IF(ISNA(VLOOKUP(D65,Pivot!$F$4:$G$12,2,0)),MIN(Pivot!$F$4:$G$12),VLOOKUP(D65,Pivot!$F$4:$G$12,2,0))","v":11264.716264070181},{"$f":"IF(ISNA(VLOOKUP(D65,Pivot!$H$4:$I$10,2,0)),MIN(Pivot!$H$4:$I$10),VLOOKUP(D65,Pivot!$H$4:$I$10,2,0))","v":10382.341810335902},null,null,null,{"$f":"INDEX(E65:I65,1,Control!$C$10)","v":11873.552586779413}]
[null,62,"Gambia, The","GMB",{"$f":"IF(ISNA(VLOOKUP(D66,Pivot!$D$4:$E$30,2,0)),MIN(Pivot!$E$4:$E$30),VLOOKUP(D66,Pivot!$D$4:$E$30,2,0))","v":11873.552586779413},{"$f":"IF(ISNA(VLOOKUP(D66,Pivot!$F$4:$G$12,2,0)),MIN(Pivot!$F$4:$G$12),VLOOKUP(D66,Pivot!$F$4:$G$12,2,0))","v":11264.716264070181},{"$f":"IF(ISNA(VLOOKUP(D66,Pivot!$H$4:$I$10,2,0)),MIN(Pivot!$H$4:$I$10),VLOOKUP(D66,Pivot!$H$4:$I$10,2,0))","v":10382.341810335902},null,null,null,{"$f":"INDEX(E66:I66,1,Control!$C$10)","v":11873.552586779413}]
[null,63,"Georgia","GEO",{"$f":"IF(ISNA(VLOOKUP(D67,Pivot!$D$4:$E$30,2,0)),MIN(Pivot!$E$4:$E$30),VLOOKUP(D67,Pivot!$D$4:$E$30,2,0))","v":11873.552586779413},{"$f":"IF(ISNA(VLOOKUP(D67,Pivot!$F$4:$G$12,2,0)),MIN(Pivot!$F$4:$G$12),VLOOKUP(D67,Pivot!$F$4:$G$12,2,0))","v":11264.716264070181},{"$f":"IF(ISNA(VLOOKUP(D67,Pivot!$H$4:$I$10,2,0)),MIN(Pivot!$H$4:$I$10),VLOOKUP(D67,Pivot!$H$4:$I$10,2,0))","v":10382.341810335902},null,null,null,{"$f":"INDEX(E67:I67,1,Control!$C$10)","v":11873.552586779413}]
[null,64,"Germany","DEU",{"$f":"IF(ISNA(VLOOKUP(D68,Pivot!$D$4:$E$30,2,0)),MIN(Pivot!$E$4:$E$30),VLOOKUP(D68,Pivot!$D$4:$E$30,2,0))","v":79637.147017647629},{"$f":"IF(ISNA(VLOOKUP(D68,Pivot!$F$4:$G$12,2,0)),MIN(Pivot!$F$4:$G$12),VLOOKUP(D68,Pivot!$F$4:$G$12,2,0))","v":11264.716264070181},{"$f":"IF(ISNA(VLOOKUP(D68,Pivot!$H$4:$I$10,2,0)),MIN(Pivot!$H$4:$I$10),VLOOKUP(D68,Pivot!$H$4:$I$10,2,0))","v":10382.341810335902},null,null,null,{"$f":"INDEX(E68:I68,1,Control!$C$10)","v":79637.147017647629}]
[null,65,"Ghana","GHA",{"$f":"IF(ISNA(VLOOKUP(D69,Pivot!$D$4:$E$30,2,0)),MIN(Pivot!$E$4:$E$30),VLOOKUP(D69,Pivot!$D$4:$E$30,2,0))","v":11873.552586779413},{"$f":"IF(ISNA(VLOOKUP(D69,Pivot!$F$4:$G$12,2,0)),MIN(Pivot!$F$4:$G$12),VLOOKUP(D69,Pivot!$F$4:$G$12,2,0))","v":11264.716264070181},{"$f":"IF(ISNA(VLOOKUP(D69,Pivot!$H$4:$I$10,2,0)),MIN(Pivot!$H$4:$I$10),VLOOKUP(D69,Pivot!$H$4:$I$10,2,0))","v":10382.341810335902},null,null,null,{"$f":"INDEX(E69:I69,1,Control!$C$10)","v":11873.552586779413}]
[null,66,"Greece","GRC",{"$f":"IF(ISNA(VLOOKUP(D70,Pivot!$D$4:$E$30,2,0)),MIN(Pivot!$E$4:$E$30),VLOOKUP(D70,Pivot!$D$4:$E$30,2,0))","v":11873.552586779413},{"$f":"IF(ISNA(VLOOKUP(D70,Pivot!$F$4:$G$12,2,0)),MIN(Pivot!$F$4:$G$12),VLOOKUP(D70,Pivot!$F$4:$G$12,2,0))","v":11264.716264070181},{"$f":"IF(ISNA(VLOOKUP(D70,Pivot!$H$4:$I$10,2,0)),MIN(Pivot!$H$4:$I$10),VLOOKUP(D70,Pivot!$H$4:$I$10,2,0))","v":10382.341810335902},null,null,null,{"$f":"INDEX(E70:I70,1,Control!$C$10)","v":11873.552586779413}]
[null,{"$f":"B70+1","v":67},"Grenada","GRD",{"$f":"IF(ISNA(VLOOKUP(D71,Pivot!$D$4:$E$30,2,0)),MIN(Pivot!$E$4:$E$30),VLOOKUP(D71,Pivot!$D$4:$E$30,2,0))","v":11873.552586779413},{"$f":"IF(ISNA(VLOOKUP(D71,Pivot!$F$4:$G$12,2,0)),MIN(Pivot!$F$4:$G$12),VLOOKUP(D71,Pivot!$F$4:$G$12,2,0))","v":11264.716264070181},{"$f":"IF(ISNA(VLOOKUP(D71,Pivot!$H$4:$I$10,2,0)),MIN(Pivot!$H$4:$I$10),VLOOKUP(D71,Pivot!$H$4:$I$10,2,0))","v":10382.341810335902},null,null,null,{"$f":"INDEX(E71:I71,1,Control!$C$10)","v":11873.552586779413}]
[null,68,"Guatemala","GTM",{"$f":"IF(ISNA(VLOOKUP(D72,Pivot!$D$4:$E$30,2,0)),MIN(Pivot!$E$4:$E$30),VLOOKUP(D72,Pivot!$D$4:$E$30,2,0))","v":11873.552586779413},{"$f":"IF(ISNA(VLOOKUP(D72,Pivot!$F$4:$G$12,2,0)),MIN(Pivot!$F$4:$G$12),VLOOKUP(D72,Pivot!$F$4:$G$12,2,0))","v":11264.716264070181},{"$f":"IF(ISNA(VLOOKUP(D72,Pivot!$H$4:$I$10,2,0)),MIN(Pivot!$H$4:$I$10),VLOOKUP(D72,Pivot!$H$4:$I$10,2,0))","v":10382.341810335902},null,null,null,{"$f":"INDEX(E72:I72,1,Control!$C$10)","v":11873.552586779413}]
[null,69,"Guinea","GIN",{"$f":"IF(ISNA(VLOOKUP(D73,Pivot!$D$4:$E$30,2,0)),MIN(Pivot!$E$4:$E$30),VLOOKUP(D73,Pivot!$D$4:$E$30,2,0))","v":11873.552586779413},{"$f":"IF(ISNA(VLOOKUP(D73,Pivot!$F$4:$G$12,2,0)),MIN(Pivot!$F$4:$G$12),VLOOKUP(D73,Pivot!$F$4:$G$12,2,0))","v":11264.716264070181},{"$f":"IF(ISNA(VLOOKUP(D73,Pivot!$H$4:$I$10,2,0)),MIN(Pivot!$H$4:$I$10),VLOOKUP(D73,Pivot!$H$4:$I$10,2,0))","v":10382.341810335902},null,null,null,{"$f":"INDEX(E73:I73,1,Control!$C$10)","v":11873.552586779413}]
[null,70,"Guinea-Bissau","GNB",{"$f":"IF(ISNA(VLOOKUP(D74,Pivot!$D$4:$E$30,2,0)),MIN(Pivot!$E$4:$E$30),VLOOKUP(D74,Pivot!$D$4:$E$30,2,0))","v":11873.552586779413},{"$f":"IF(ISNA(VLOOKUP(D74,Pivot!$F$4:$G$12,2,0)),MIN(Pivot!$F$4:$G$12),VLOOKUP(D74,Pivot!$F$4:$G$12,2,0))","v":11264.716264070181},{"$f":"IF(ISNA(VLOOKUP(D74,Pivot!$H$4:$I$10,2,0)),MIN(Pivot!$H$4:$I$10),VLOOKUP(D74,Pivot!$H$4:$I$10,2,0))","v":10382.341810335902},null,null,null,{"$f":"INDEX(E74:I74,1,Control!$C$10)","v":11873.552586779413}]
[null,71,"Guyana","GUY",{"$f":"IF(ISNA(VLOOKUP(D75,Pivot!$D$4:$E$30,2,0)),MIN(Pivot!$E$4:$E$30),VLOOKUP(D75,Pivot!$D$4:$E$30,2,0))","v":11873.552586779413},{"$f":"IF(ISNA(VLOOKUP(D75,Pivot!$F$4:$G$12,2,0)),MIN(Pivot!$F$4:$G$12),VLOOKUP(D75,Pivot!$F$4:$G$12,2,0))","v":11264.716264070181},{"$f":"IF(ISNA(VLOOKUP(D75,Pivot!$H$4:$I$10,2,0)),MIN(Pivot!$H$4:$I$10),VLOOKUP(D75,Pivot!$H$4:$I$10,2,0))","v":10382.341810335902},null,null,null,{"$f":"INDEX(E75:I75,1,Control!$C$10)","v":11873.552586779413}]
[null,72,"Haiti","HTI",{"$f":"IF(ISNA(VLOOKUP(D76,Pivot!$D$4:$E$30,2,0)),MIN(Pivot!$E$4:$E$30),VLOOKUP(D76,Pivot!$D$4:$E$30,2,0))","v":11873.552586779413},{"$f":"IF(ISNA(VLOOKUP(D76,Pivot!$F$4:$G$12,2,0)),MIN(Pivot!$F$4:$G$12),VLOOKUP(D76,Pivot!$F$4:$G$12,2,0))","v":11264.716264070181},{"$f":"IF(ISNA(VLOOKUP(D76,Pivot!$H$4:$I$10,2,0)),MIN(Pivot!$H$4:$I$10),VLOOKUP(D76,Pivot!$H$4:$I$10,2,0))","v":10382.341810335902},null,null,null,{"$f":"INDEX(E76:I76,1,Control!$C$10)","v":11873.552586779413}]
[null,73,"Honduras","HND",{"$f":"IF(ISNA(VLOOKUP(D77,Pivot!$D$4:$E$30,2,0)),MIN(Pivot!$E$4:$E$30),VLOOKUP(D77,Pivot!$D$4:$E$30,2,0))","v":11873.552586779413},{"$f":"IF(ISNA(VLOOKUP(D77,Pivot!$F$4:$G$12,2,0)),MIN(Pivot!$F$4:$G$12),VLOOKUP(D77,Pivot!$F$4:$G$12,2,0))","v":11264.716264070181},{"$f":"IF(ISNA(VLOOKUP(D77,Pivot!$H$4:$I$10,2,0)),MIN(Pivot!$H$4:$I$10),VLOOKUP(D77,Pivot!$H$4:$I$10,2,0))","v":10382.341810335902},null,null,null,{"$f":"INDEX(E77:I77,1,Control!$C$10)","v":11873.552586779413}]
[null,74,"Hungary","HUN",{"$f":"IF(ISNA(VLOOKUP(D78,Pivot!$D$4:$E$30,2,0)),MIN(Pivot!$E$4:$E$30),VLOOKUP(D78,Pivot!$D$4:$E$30,2,0))","v":11873.552586779413},{"$f":"IF(ISNA(VLOOKUP(D78,Pivot!$F$4:$G$12,2,0)),MIN(Pivot!$F$4:$G$12),VLOOKUP(D78,Pivot!$F$4:$G$12,2,0))","v":11264.716264070181},{"$f":"IF(ISNA(VLOOKUP(D78,Pivot!$H$4:$I$10,2,0)),MIN(Pivot!$H$4:$I$10),VLOOKUP(D78,Pivot!$H$4:$I$10,2,0))","v":10382.341810335902},null,null,null,{"$f":"INDEX(E78:I78,1,Control!$C$10)","v":11873.552586779413}]
[null,75,"Iceland","ISL",{"$f":"IF(ISNA(VLOOKUP(D79,Pivot!$D$4:$E$30,2,0)),MIN(Pivot!$E$4:$E$30),VLOOKUP(D79,Pivot!$D$4:$E$30,2,0))","v":11873.552586779413},{"$f":"IF(ISNA(VLOOKUP(D79,Pivot!$F$4:$G$12,2,0)),MIN(Pivot!$F$4:$G$12),VLOOKUP(D79,Pivot!$F$4:$G$12,2,0))","v":11264.716264070181},{"$f":"IF(ISNA(VLOOKUP(D79,Pivot!$H$4:$I$10,2,0)),MIN(Pivot!$H$4:$I$10),VLOOKUP(D79,Pivot!$H$4:$I$10,2,0))","v":10382.341810335902},null,null,null,{"$f":"INDEX(E79:I79,1,Control!$C$10)","v":11873.552586779413}]
[null,76,"India","IND",{"$f":"IF(ISNA(VLOOKUP(D80,Pivot!$D$4:$E$30,2,0)),MIN(Pivot!$E$4:$E$30),VLOOKUP(D80,Pivot!$D$4:$E$30,2,0))","v":13529.430894182482},{"$f":"IF(ISNA(VLOOKUP(D80,Pivot!$F$4:$G$12,2,0)),MIN(Pivot!$F$4:$G$12),VLOOKUP(D80,Pivot!$F$4:$G$12,2,0))","v":11264.716264070181},{"$f":"IF(ISNA(VLOOKUP(D80,Pivot!$H$4:$I$10,2,0)),MIN(Pivot!$H$4:$I$10),VLOOKUP(D80,Pivot!$H$4:$I$10,2,0))","v":15642.546484974018},null,null,null,{"$f":"INDEX(E80:I80,1,Control!$C$10)","v":13529.430894182482}]
[null,77,"Indonesia","IDN",{"$f":"IF(ISNA(VLOOKUP(D81,Pivot!$D$4:$E$30,2,0)),MIN(Pivot!$E$4:$E$30),VLOOKUP(D81,Pivot!$D$4:$E$30,2,0))","v":28872.83679733074},{"$f":"IF(ISNA(VLOOKUP(D81,Pivot!$F$4:$G$12,2,0)),MIN(Pivot!$F$4:$G$12),VLOOKUP(D81,Pivot!$F$4:$G$12,2,0))","v":11264.716264070181},{"$f":"IF(ISNA(VLOOKUP(D81,Pivot!$H$4:$I$10,2,0)),MIN(Pivot!$H$4:$I$10),VLOOKUP(D81,Pivot!$H$4:$I$10,2,0))","v":10382.341810335902},null,null,null,{"$f":"INDEX(E81:I81,1,Control!$C$10)","v":28872.83679733074}]
[null,78,"Iran","IRN",{"$f":"IF(ISNA(VLOOKUP(D82,Pivot!$D$4:$E$30,2,0)),MIN(Pivot!$E$4:$E$30),VLOOKUP(D82,Pivot!$D$4:$E$30,2,0))","v":11873.552586779413},{"$f":"IF(ISNA(VLOOKUP(D82,Pivot!$F$4:$G$12,2,0)),MIN(Pivot!$F$4:$G$12),VLOOKUP(D82,Pivot!$F$4:$G$12,2,0))","v":11264.716264070181},{"$f":"IF(ISNA(VLOOKUP(D82,Pivot!$H$4:$I$10,2,0)),MIN(Pivot!$H$4:$I$10),VLOOKUP(D82,Pivot!$H$4:$I$10,2,0))","v":10382.341810335902},null,null,null,{"$f":"INDEX(E82:I82,1,Control!$C$10)","v":11873.552586779413}]
[null,79,"Iraq","IRQ",{"$f":"IF(ISNA(VLOOKUP(D83,Pivot!$D$4:$E$30,2,0)),MIN(Pivot!$E$4:$E$30),VLOOKUP(D83,Pivot!$D$4:$E$30,2,0))","v":11873.552586779413},{"$f":"IF(ISNA(VLOOKUP(D83,Pivot!$F$4:$G$12,2,0)),MIN(Pivot!$F$4:$G$12),VLOOKUP(D83,Pivot!$F$4:$G$12,2,0))","v":11264.716264070181},{"$f":"IF(ISNA(VLOOKUP(D83,Pivot!$H$4:$I$10,2,0)),MIN(Pivot!$H$4:$I$10),VLOOKUP(D83,Pivot!$H$4:$I$10,2,0))","v":10382.341810335902},null,null,null,{"$f":"INDEX(E83:I83,1,Control!$C$10)","v":11873.552586779413}]
[null,80,"Ireland","IRL",{"$f":"IF(ISNA(VLOOKUP(D84,Pivot!$D$4:$E$30,2,0)),MIN(Pivot!$E$4:$E$30),VLOOKUP(D84,Pivot!$D$4:$E$30,2,0))","v":11873.552586779413},{"$f":"IF(ISNA(VLOOKUP(D84,Pivot!$F$4:$G$12,2,0)),MIN(Pivot!$F$4:$G$12),VLOOKUP(D84,Pivot!$F$4:$G$12,2,0))","v":11264.716264070181},{"$f":"IF(ISNA(VLOOKUP(D84,Pivot!$H$4:$I$10,2,0)),MIN(Pivot!$H$4:$I$10),VLOOKUP(D84,Pivot!$H$4:$I$10,2,0))","v":10382.341810335902},null,null,null,{"$f":"INDEX(E84:I84,1,Control!$C$10)","v":11873.552586779413}]
[null,81,"Israel","ISR",{"$f":"IF(ISNA(VLOOKUP(D85,Pivot!$D$4:$E$30,2,0)),MIN(Pivot!$E$4:$E$30),VLOOKUP(D85,Pivot!$D$4:$E$30,2,0))","v":11873.552586779413},{"$f":"IF(ISNA(VLOOKUP(D85,Pivot!$F$4:$G$12,2,0)),MIN(Pivot!$F$4:$G$12),VLOOKUP(D85,Pivot!$F$4:$G$12,2,0))","v":11264.716264070181},{"$f":"IF(ISNA(VLOOKUP(D85,Pivot!$H$4:$I$10,2,0)),MIN(Pivot!$H$4:$I$10),VLOOKUP(D85,Pivot!$H$4:$I$10,2,0))","v":10382.341810335902},null,null,null,{"$f":"INDEX(E85:I85,1,Control!$C$10)","v":11873.552586779413}]
[null,82,"Italy","ITA",{"$f":"IF(ISNA(VLOOKUP(D86,Pivot!$D$4:$E$30,2,0)),MIN(Pivot!$E$4:$E$30),VLOOKUP(D86,Pivot!$D$4:$E$30,2,0))","v":47258.859130487806},{"$f":"IF(ISNA(VLOOKUP(D86,Pivot!$F$4:$G$12,2,0)),MIN(Pivot!$F$4:$G$12),VLOOKUP(D86,Pivot!$F$4:$G$12,2,0))","v":11264.716264070181},{"$f":"IF(ISNA(VLOOKUP(D86,Pivot!$H$4:$I$10,2,0)),MIN(Pivot!$H$4:$I$10),VLOOKUP(D86,Pivot!$H$4:$I$10,2,0))","v":10382.341810335902},null,null,null,{"$f":"INDEX(E86:I86,1,Control!$C$10)","v":47258.859130487806}]
[null,83,"Jamaica","JAM",{"$f":"IF(ISNA(VLOOKUP(D87,Pivot!$D$4:$E$30,2,0)),MIN(Pivot!$E$4:$E$30),VLOOKUP(D87,Pivot!$D$4:$E$30,2,0))","v":11873.552586779413},{"$f":"IF(ISNA(VLOOKUP(D87,Pivot!$F$4:$G$12,2,0)),MIN(Pivot!$F$4:$G$12),VLOOKUP(D87,Pivot!$F$4:$G$12,2,0))","v":11264.716264070181},{"$f":"IF(ISNA(VLOOKUP(D87,Pivot!$H$4:$I$10,2,0)),MIN(Pivot!$H$4:$I$10),VLOOKUP(D87,Pivot!$H$4:$I$10,2,0))","v":10382.341810335902},null,null,null,{"$f":"INDEX(E87:I87,1,Control!$C$10)","v":11873.552586779413}]
[null,84,"Japan","JPN",{"$f":"IF(ISNA(VLOOKUP(D88,Pivot!$D$4:$E$30,2,0)),MIN(Pivot!$E$4:$E$30),VLOOKUP(D88,Pivot!$D$4:$E$30,2,0))","v":11873.552586779413},{"$f":"IF(ISNA(VLOOKUP(D88,Pivot!$F$4:$G$12,2,0)),MIN(Pivot!$F$4:$G$12),VLOOKUP(D88,Pivot!$F$4:$G$12,2,0))","v":11264.716264070181},{"$f":"IF(ISNA(VLOOKUP(D88,Pivot!$H$4:$I$10,2,0)),MIN(Pivot!$H$4:$I$10),VLOOKUP(D88,Pivot!$H$4:$I$10,2,0))","v":10382.341810335902},null,null,null,{"$f":"INDEX(E88:I88,1,Control!$C$10)","v":11873.552586779413}]
[null,85,"Jordan","JOR",{"$f":"IF(ISNA(VLOOKUP(D89,Pivot!$D$4:$E$30,2,0)),MIN(Pivot!$E$4:$E$30),VLOOKUP(D89,Pivot!$D$4:$E$30,2,0))","v":11873.552586779413},{"$f":"IF(ISNA(VLOOKUP(D89,Pivot!$F$4:$G$12,2,0)),MIN(Pivot!$F$4:$G$12),VLOOKUP(D89,Pivot!$F$4:$G$12,2,0))","v":11264.716264070181},{"$f":"IF(ISNA(VLOOKUP(D89,Pivot!$H$4:$I$10,2,0)),MIN(Pivot!$H$4:$I$10),VLOOKUP(D89,Pivot!$H$4:$I$10,2,0))","v":10382.341810335902},null,null,null,{"$f":"INDEX(E89:I89,1,Control!$C$10)","v":11873.552586779413}]
[null,86,"Kazakhstan","KAZ",{"$f":"IF(ISNA(VLOOKUP(D90,Pivot!$D$4:$E$30,2,0)),MIN(Pivot!$E$4:$E$30),VLOOKUP(D90,Pivot!$D$4:$E$30,2,0))","v":11873.552586779413},{"$f":"IF(ISNA(VLOOKUP(D90,Pivot!$F$4:$G$12,2,0)),MIN(Pivot!$F$4:$G$12),VLOOKUP(D90,Pivot!$F$4:$G$12,2,0))","v":11264.716264070181},{"$f":"IF(ISNA(VLOOKUP(D90,Pivot!$H$4:$I$10,2,0)),MIN(Pivot!$H$4:$I$10),VLOOKUP(D90,Pivot!$H$4:$I$10,2,0))","v":10382.341810335902},null,null,null,{"$f":"INDEX(E90:I90,1,Control!$C$10)","v":11873.552586779413}]
[null,87,"Kenya","KEN",{"$f":"IF(ISNA(VLOOKUP(D91,Pivot!$D$4:$E$30,2,0)),MIN(Pivot!$E$4:$E$30),VLOOKUP(D91,Pivot!$D$4:$E$30,2,0))","v":11873.552586779413},{"$f":"IF(ISNA(VLOOKUP(D91,Pivot!$F$4:$G$12,2,0)),MIN(Pivot!$F$4:$G$12),VLOOKUP(D91,Pivot!$F$4:$G$12,2,0))","v":11264.716264070181},{"$f":"IF(ISNA(VLOOKUP(D91,Pivot!$H$4:$I$10,2,0)),MIN(Pivot!$H$4:$I$10),VLOOKUP(D91,Pivot!$H$4:$I$10,2,0))","v":10382.341810335902},null,null,null,{"$f":"INDEX(E91:I91,1,Control!$C$10)","v":11873.552586779413}]
[null,88,"Kiribati","KIR",{"$f":"IF(ISNA(VLOOKUP(D92,Pivot!$D$4:$E$30,2,0)),MIN(Pivot!$E$4:$E$30),VLOOKUP(D92,Pivot!$D$4:$E$30,2,0))","v":11873.552586779413},{"$f":"IF(ISNA(VLOOKUP(D92,Pivot!$F$4:$G$12,2,0)),MIN(Pivot!$F$4:$G$12),VLOOKUP(D92,Pivot!$F$4:$G$12,2,0))","v":11264.716264070181},{"$f":"IF(ISNA(VLOOKUP(D92,Pivot!$H$4:$I$10,2,0)),MIN(Pivot!$H$4:$I$10),VLOOKUP(D92,Pivot!$H$4:$I$10,2,0))","v":10382.341810335902},null,null,null,{"$f":"INDEX(E92:I92,1,Control!$C$10)","v":11873.552586779413}]
[null,89,"Korea, North","PRK",{"$f":"IF(ISNA(VLOOKUP(D93,Pivot!$D$4:$E$30,2,0)),MIN(Pivot!$E$4:$E$30),VLOOKUP(D93,Pivot!$D$4:$E$30,2,0))","v":11873.552586779413},{"$f":"IF(ISNA(VLOOKUP(D93,Pivot!$F$4:$G$12,2,0)),MIN(Pivot!$F$4:$G$12),VLOOKUP(D93,Pivot!$F$4:$G$12,2,0))","v":11264.716264070181},{"$f":"IF(ISNA(VLOOKUP(D93,Pivot!$H$4:$I$10,2,0)),MIN(Pivot!$H$4:$I$10),VLOOKUP(D93,Pivot!$H$4:$I$10,2,0))","v":10382.341810335902},null,null,null,{"$f":"INDEX(E93:I93,1,Control!$C$10)","v":11873.552586779413}]
[null,90,"Korea, South","KOR",{"$f":"IF(ISNA(VLOOKUP(D94,Pivot!$D$4:$E$30,2,0)),MIN(Pivot!$E$4:$E$30),VLOOKUP(D94,Pivot!$D$4:$E$30,2,0))","v":11873.552586779413},{"$f":"IF(ISNA(VLOOKUP(D94,Pivot!$F$4:$G$12,2,0)),MIN(Pivot!$F$4:$G$12),VLOOKUP(D94,Pivot!$F$4:$G$12,2,0))","v":11264.716264070181},{"$f":"IF(ISNA(VLOOKUP(D94,Pivot!$H$4:$I$10,2,0)),MIN(Pivot!$H$4:$I$10),VLOOKUP(D94,Pivot!$H$4:$I$10,2,0))","v":10382.341810335902},null,null,null,{"$f":"INDEX(E94:I94,1,Control!$C$10)","v":11873.552586779413}]
[null,91,"Kuwait","KWT",{"$f":"IF(ISNA(VLOOKUP(D95,Pivot!$D$4:$E$30,2,0)),MIN(Pivot!$E$4:$E$30),VLOOKUP(D95,Pivot!$D$4:$E$30,2,0))","v":11873.552586779413},{"$f":"IF(ISNA(VLOOKUP(D95,Pivot!$F$4:$G$12,2,0)),MIN(Pivot!$F$4:$G$12),VLOOKUP(D95,Pivot!$F$4:$G$12,2,0))","v":11264.716264070181},{"$f":"IF(ISNA(VLOOKUP(D95,Pivot!$H$4:$I$10,2,0)),MIN(Pivot!$H$4:$I$10),VLOOKUP(D95,Pivot!$H$4:$I$10,2,0))","v":10382.341810335902},null,null,null,{"$f":"INDEX(E95:I95,1,Control!$C$10)","v":11873.552586779413}]
[null,92,"Kyrgyzstan","KGZ",{"$f":"IF(ISNA(VLOOKUP(D96,Pivot!$D$4:$E$30,2,0)),MIN(Pivot!$E$4:$E$30),VLOOKUP(D96,Pivot!$D$4:$E$30,2,0))","v":11873.552586779413},{"$f":"IF(ISNA(VLOOKUP(D96,Pivot!$F$4:$G$12,2,0)),MIN(Pivot!$F$4:$G$12),VLOOKUP(D96,Pivot!$F$4:$G$12,2,0))","v":11264.716264070181},{"$f":"IF(ISNA(VLOOKUP(D96,Pivot!$H$4:$I$10,2,0)),MIN(Pivot!$H$4:$I$10),VLOOKUP(D96,Pivot!$H$4:$I$10,2,0))","v":10382.341810335902},null,null,null,{"$f":"INDEX(E96:I96,1,Control!$C$10)","v":11873.552586779413}]
[null,93,"Laos","LAO",{"$f":"IF(ISNA(VLOOKUP(D97,Pivot!$D$4:$E$30,2,0)),MIN(Pivot!$E$4:$E$30),VLOOKUP(D97,Pivot!$D$4:$E$30,2,0))","v":11873.552586779413},{"$f":"IF(ISNA(VLOOKUP(D97,Pivot!$F$4:$G$12,2,0)),MIN(Pivot!$F$4:$G$12),VLOOKUP(D97,Pivot!$F$4:$G$12,2,0))","v":11264.716264070181},{"$f":"IF(ISNA(VLOOKUP(D97,Pivot!$H$4:$I$10,2,0)),MIN(Pivot!$H$4:$I$10),VLOOKUP(D97,Pivot!$H$4:$I$10,2,0))","v":10382.341810335902},null,null,null,{"$f":"INDEX(E97:I97,1,Control!$C$10)","v":11873.552586779413}]
[null,94,"Latvia","LVA",{"$f":"IF(ISNA(VLOOKUP(D98,Pivot!$D$4:$E$30,2,0)),MIN(Pivot!$E$4:$E$30),VLOOKUP(D98,Pivot!$D$4:$E$30,2,0))","v":11873.552586779413},{"$f":"IF(ISNA(VLOOKUP(D98,Pivot!$F$4:$G$12,2,0)),MIN(Pivot!$F$4:$G$12),VLOOKUP(D98,Pivot!$F$4:$G$12,2,0))","v":11264.716264070181},{"$f":"IF(ISNA(VLOOKUP(D98,Pivot!$H$4:$I$10,2,0)),MIN(Pivot!$H$4:$I$10),VLOOKUP(D98,Pivot!$H$4:$I$10,2,0))","v":10382.341810335902},null,null,null,{"$f":"INDEX(E98:I98,1,Control!$C$10)","v":11873.552586779413}]
[null,95,"Lebanon","LBN",{"$f":"IF(ISNA(VLOOKUP(D99,Pivot!$D$4:$E$30,2,0)),MIN(Pivot!$E$4:$E$30),VLOOKUP(D99,Pivot!$D$4:$E$30,2,0))","v":11873.552586779413},{"$f":"IF(ISNA(VLOOKUP(D99,Pivot!$F$4:$G$12,2,0)),MIN(Pivot!$F$4:$G$12),VLOOKUP(D99,Pivot!$F$4:$G$12,2,0))","v":11264.716264070181},{"$f":"IF(ISNA(VLOOKUP(D99,Pivot!$H$4:$I$10,2,0)),MIN(Pivot!$H$4:$I$10),VLOOKUP(D99,Pivot!$H$4:$I$10,2,0))","v":10382.341810335902},null,null,null,{"$f":"INDEX(E99:I99,1,Control!$C$10)","v":11873.552586779413}]
[null,96,"Lesotho","LSO",{"$f":"IF(ISNA(VLOOKUP(D100,Pivot!$D$4:$E$30,2,0)),MIN(Pivot!$E$4:$E$30),VLOOKUP(D100,Pivot!$D$4:$E$30,2,0))","v":11873.552586779413},{"$f":"IF(ISNA(VLOOKUP(D100,Pivot!$F$4:$G$12,2,0)),MIN(Pivot!$F$4:$G$12),VLOOKUP(D100,Pivot!$F$4:$G$12,2,0))","v":11264.716264070181},{"$f":"IF(ISNA(VLOOKUP(D100,Pivot!$H$4:$I$10,2,0)),MIN(Pivot!$H$4:$I$10),VLOOKUP(D100,Pivot!$H$4:$I$10,2,0))","v":10382.341810335902},null,null,null,{"$f":"INDEX(E100:I100,1,Control!$C$10)","v":11873.552586779413}]
[null,97,"Liberia","LBR",{"$f":"IF(ISNA(VLOOKUP(D101,Pivot!$D$4:$E$30,2,0)),MIN(Pivot!$E$4:$E$30),VLOOKUP(D101,Pivot!$D$4:$E$30,2,0))","v":11873.552586779413},{"$f":"IF(ISNA(VLOOKUP(D101,Pivot!$F$4:$G$12,2,0)),MIN(Pivot!$F$4:$G$12),VLOOKUP(D101,Pivot!$F$4:$G$12,2,0))","v":11264.716264070181},{"$f":"IF(ISNA(VLOOKUP(D101,Pivot!$H$4:$I$10,2,0)),MIN(Pivot!$H$4:$I$10),VLOOKUP(D101,Pivot!$H$4:$I$10,2,0))","v":10382.341810335902},null,null,null,{"$f":"INDEX(E101:I101,1,Control!$C$10)","v":11873.552586779413}]
[null,98,"Libya","LBY",{"$f":"IF(ISNA(VLOOKUP(D102,Pivot!$D$4:$E$30,2,0)),MIN(Pivot!$E$4:$E$30),VLOOKUP(D102,Pivot!$D$4:$E$30,2,0))","v":11873.552586779413},{"$f":"IF(ISNA(VLOOKUP(D102,Pivot!$F$4:$G$12,2,0)),MIN(Pivot!$F$4:$G$12),VLOOKUP(D102,Pivot!$F$4:$G$12,2,0))","v":11264.716264070181},{"$f":"IF(ISNA(VLOOKUP(D102,Pivot!$H$4:$I$10,2,0)),MIN(Pivot!$H$4:$I$10),VLOOKUP(D102,Pivot!$H$4:$I$10,2,0))","v":10382.341810335902},null,null,null,{"$f":"INDEX(E102:I102,1,Control!$C$10)","v":11873.552586779413}]
[null,99,"Liechtenstein","LIE",{"$f":"IF(ISNA(VLOOKUP(D103,Pivot!$D$4:$E$30,2,0)),MIN(Pivot!$E$4:$E$30),VLOOKUP(D103,Pivot!$D$4:$E$30,2,0))","v":11873.552586779413},{"$f":"IF(ISNA(VLOOKUP(D103,Pivot!$F$4:$G$12,2,0)),MIN(Pivot!$F$4:$G$12),VLOOKUP(D103,Pivot!$F$4:$G$12,2,0))","v":11264.716264070181},{"$f":"IF(ISNA(VLOOKUP(D103,Pivot!$H$4:$I$10,2,0)),MIN(Pivot!$H$4:$I$10),VLOOKUP(D103,Pivot!$H$4:$I$10,2,0))","v":10382.341810335902},null,null,null,{"$f":"INDEX(E103:I103,1,Control!$C$10)","v":11873.552586779413}]
[null,100,"Lithuania","LTU",{"$f":"IF(ISNA(VLOOKUP(D104,Pivot!$D$4:$E$30,2,0)),MIN(Pivot!$E$4:$E$30),VLOOKUP(D104,Pivot!$D$4:$E$30,2,0))","v":11873.552586779413},{"$f":"IF(ISNA(VLOOKUP(D104,Pivot!$F$4:$G$12,2,0)),MIN(Pivot!$F$4:$G$12),VLOOKUP(D104,Pivot!$F$4:$G$12,2,0))","v":11264.716264070181},{"$f":"IF(ISNA(VLOOKUP(D104,Pivot!$H$4:$I$10,2,0)),MIN(Pivot!$H$4:$I$10),VLOOKUP(D104,Pivot!$H$4:$I$10,2,0))","v":10382.341810335902},null,null,null,{"$f":"INDEX(E104:I104,1,Control!$C$10)","v":11873.552586779413}]
[null,101,"Luxembourg","LUX",{"$f":"IF(ISNA(VLOOKUP(D105,Pivot!$D$4:$E$30,2,0)),MIN(Pivot!$E$4:$E$30),VLOOKUP(D105,Pivot!$D$4:$E$30,2,0))","v":11873.552586779413},{"$f":"IF(ISNA(VLOOKUP(D105,Pivot!$F$4:$G$12,2,0)),MIN(Pivot!$F$4:$G$12),VLOOKUP(D105,Pivot!$F$4:$G$12,2,0))","v":11264.716264070181},{"$f":"IF(ISNA(VLOOKUP(D105,Pivot!$H$4:$I$10,2,0)),MIN(Pivot!$H$4:$I$10),VLOOKUP(D105,Pivot!$H$4:$I$10,2,0))","v":10382.341810335902},null,null,null,{"$f":"INDEX(E105:I105,1,Control!$C$10)","v":11873.552586779413}]
[null,102,"Macedonia","MKD",{"$f":"IF(ISNA(VLOOKUP(D106,Pivot!$D$4:$E$30,2,0)),MIN(Pivot!$E$4:$E$30),VLOOKUP(D106,Pivot!$D$4:$E$30,2,0))","v":11873.552586779413},{"$f":"IF(ISNA(VLOOKUP(D106,Pivot!$F$4:$G$12,2,0)),MIN(Pivot!$F$4:$G$12),VLOOKUP(D106,Pivot!$F$4:$G$12,2,0))","v":11264.716264070181},{"$f":"IF(ISNA(VLOOKUP(D106,Pivot!$H$4:$I$10,2,0)),MIN(Pivot!$H$4:$I$10),VLOOKUP(D106,Pivot!$H$4:$I$10,2,0))","v":10382.341810335902},null,null,null,{"$f":"INDEX(E106:I106,1,Control!$C$10)","v":11873.552586779413}]
[null,103,"Madagascar","MDG",{"$f":"IF(ISNA(VLOOKUP(D107,Pivot!$D$4:$E$30,2,0)),MIN(Pivot!$E$4:$E$30),VLOOKUP(D107,Pivot!$D$4:$E$30,2,0))","v":11873.552586779413},{"$f":"IF(ISNA(VLOOKUP(D107,Pivot!$F$4:$G$12,2,0)),MIN(Pivot!$F$4:$G$12),VLOOKUP(D107,Pivot!$F$4:$G$12,2,0))","v":11264.716264070181},{"$f":"IF(ISNA(VLOOKUP(D107,Pivot!$H$4:$I$10,2,0)),MIN(Pivot!$H$4:$I$10),VLOOKUP(D107,Pivot!$H$4:$I$10,2,0))","v":10382.341810335902},null,null,null,{"$f":"INDEX(E107:I107,1,Control!$C$10)","v":11873.552586779413}]
[null,104,"Malawi","MWI",{"$f":"IF(ISNA(VLOOKUP(D108,Pivot!$D$4:$E$30,2,0)),MIN(Pivot!$E$4:$E$30),VLOOKUP(D108,Pivot!$D$4:$E$30,2,0))","v":11873.552586779413},{"$f":"IF(ISNA(VLOOKUP(D108,Pivot!$F$4:$G$12,2,0)),MIN(Pivot!$F$4:$G$12),VLOOKUP(D108,Pivot!$F$4:$G$12,2,0))","v":11264.716264070181},{"$f":"IF(ISNA(VLOOKUP(D108,Pivot!$H$4:$I$10,2,0)),MIN(Pivot!$H$4:$I$10),VLOOKUP(D108,Pivot!$H$4:$I$10,2,0))","v":10382.341810335902},null,null,null,{"$f":"INDEX(E108:I108,1,Control!$C$10)","v":11873.552586779413}]
[null,105,"Malaysia","MYS",{"$f":"IF(ISNA(VLOOKUP(D109,Pivot!$D$4:$E$30,2,0)),MIN(Pivot!$E$4:$E$30),VLOOKUP(D109,Pivot!$D$4:$E$30,2,0))","v":24996.133222785022},{"$f":"IF(ISNA(VLOOKUP(D109,Pivot!$F$4:$G$12,2,0)),MIN(Pivot!$F$4:$G$12),VLOOKUP(D109,Pivot!$F$4:$G$12,2,0))","v":11264.716264070181},{"$f":"IF(ISNA(VLOOKUP(D109,Pivot!$H$4:$I$10,2,0)),MIN(Pivot!$H$4:$I$10),VLOOKUP(D109,Pivot!$H$4:$I$10,2,0))","v":10382.341810335902},null,null,null,{"$f":"INDEX(E109:I109,1,Control!$C$10)","v":24996.133222785022}]
[null,106,"Maldives","MDV",{"$f":"IF(ISNA(VLOOKUP(D110,Pivot!$D$4:$E$30,2,0)),MIN(Pivot!$E$4:$E$30),VLOOKUP(D110,Pivot!$D$4:$E$30,2,0))","v":11873.552586779413},{"$f":"IF(ISNA(VLOOKUP(D110,Pivot!$F$4:$G$12,2,0)),MIN(Pivot!$F$4:$G$12),VLOOKUP(D110,Pivot!$F$4:$G$12,2,0))","v":11264.716264070181},{"$f":"IF(ISNA(VLOOKUP(D110,Pivot!$H$4:$I$10,2,0)),MIN(Pivot!$H$4:$I$10),VLOOKUP(D110,Pivot!$H$4:$I$10,2,0))","v":10382.341810335902},null,null,null,{"$f":"INDEX(E110:I110,1,Control!$C$10)","v":11873.552586779413}]
[null,107,"Mali","MLI",{"$f":"IF(ISNA(VLOOKUP(D111,Pivot!$D$4:$E$30,2,0)),MIN(Pivot!$E$4:$E$30),VLOOKUP(D111,Pivot!$D$4:$E$30,2,0))","v":11873.552586779413},{"$f":"IF(ISNA(VLOOKUP(D111,Pivot!$F$4:$G$12,2,0)),MIN(Pivot!$F$4:$G$12),VLOOKUP(D111,Pivot!$F$4:$G$12,2,0))","v":11264.716264070181},{"$f":"IF(ISNA(VLOOKUP(D111,Pivot!$H$4:$I$10,2,0)),MIN(Pivot!$H$4:$I$10),VLOOKUP(D111,Pivot!$H$4:$I$10,2,0))","v":10382.341810335902},null,null,null,{"$f":"INDEX(E111:I111,1,Control!$C$10)","v":11873.552586779413}]
[null,108,"Malta","MLT",{"$f":"IF(ISNA(VLOOKUP(D112,Pivot!$D$4:$E$30,2,0)),MIN(Pivot!$E$4:$E$30),VLOOKUP(D112,Pivot!$D$4:$E$30,2,0))","v":11873.552586779413},{"$f":"IF(ISNA(VLOOKUP(D112,Pivot!$F$4:$G$12,2,0)),MIN(Pivot!$F$4:$G$12),VLOOKUP(D112,Pivot!$F$4:$G$12,2,0))","v":11264.716264070181},{"$f":"IF(ISNA(VLOOKUP(D112,Pivot!$H$4:$I$10,2,0)),MIN(Pivot!$H$4:$I$10),VLOOKUP(D112,Pivot!$H$4:$I$10,2,0))","v":10382.341810335902},null,null,null,{"$f":"INDEX(E112:I112,1,Control!$C$10)","v":11873.552586779413}]
[null,109,"Marshall Islands","MHL",{"$f":"IF(ISNA(VLOOKUP(D113,Pivot!$D$4:$E$30,2,0)),MIN(Pivot!$E$4:$E$30),VLOOKUP(D113,Pivot!$D$4:$E$30,2,0))","v":11873.552586779413},{"$f":"IF(ISNA(VLOOKUP(D113,Pivot!$F$4:$G$12,2,0)),MIN(Pivot!$F$4:$G$12),VLOOKUP(D113,Pivot!$F$4:$G$12,2,0))","v":11264.716264070181},{"$f":"IF(ISNA(VLOOKUP(D113,Pivot!$H$4:$I$10,2,0)),MIN(Pivot!$H$4:$I$10),VLOOKUP(D113,Pivot!$H$4:$I$10,2,0))","v":10382.341810335902},null,null,null,{"$f":"INDEX(E113:I113,1,Control!$C$10)","v":11873.552586779413}]
[null,110,"Mauritania","MRT",{"$f":"IF(ISNA(VLOOKUP(D114,Pivot!$D$4:$E$30,2,0)),MIN(Pivot!$E$4:$E$30),VLOOKUP(D114,Pivot!$D$4:$E$30,2,0))","v":11873.552586779413},{"$f":"IF(ISNA(VLOOKUP(D114,Pivot!$F$4:$G$12,2,0)),MIN(Pivot!$F$4:$G$12),VLOOKUP(D114,Pivot!$F$4:$G$12,2,0))","v":11264.716264070181},{"$f":"IF(ISNA(VLOOKUP(D114,Pivot!$H$4:$I$10,2,0)),MIN(Pivot!$H$4:$I$10),VLOOKUP(D114,Pivot!$H$4:$I$10,2,0))","v":10382.341810335902},null,null,null,{"$f":"INDEX(E114:I114,1,Control!$C$10)","v":11873.552586779413}]
[null,111,"Mauritius","MUS",{"$f":"IF(ISNA(VLOOKUP(D115,Pivot!$D$4:$E$30,2,0)),MIN(Pivot!$E$4:$E$30),VLOOKUP(D115,Pivot!$D$4:$E$30,2,0))","v":11873.552586779413},{"$f":"IF(ISNA(VLOOKUP(D115,Pivot!$F$4:$G$12,2,0)),MIN(Pivot!$F$4:$G$12),VLOOKUP(D115,Pivot!$F$4:$G$12,2,0))","v":11264.716264070181},{"$f":"IF(ISNA(VLOOKUP(D115,Pivot!$H$4:$I$10,2,0)),MIN(Pivot!$H$4:$I$10),VLOOKUP(D115,Pivot!$H$4:$I$10,2,0))","v":10382.341810335902},null,null,null,{"$f":"INDEX(E115:I115,1,Control!$C$10)","v":11873.552586779413}]
[null,112,"Mexico","MEX",{"$f":"IF(ISNA(VLOOKUP(D116,Pivot!$D$4:$E$30,2,0)),MIN(Pivot!$E$4:$E$30),VLOOKUP(D116,Pivot!$D$4:$E$30,2,0))","v":32138.498288519273},{"$f":"IF(ISNA(VLOOKUP(D116,Pivot!$F$4:$G$12,2,0)),MIN(Pivot!$F$4:$G$12),VLOOKUP(D116,Pivot!$F$4:$G$12,2,0))","v":11264.716264070181},{"$f":"IF(ISNA(VLOOKUP(D116,Pivot!$H$4:$I$10,2,0)),MIN(Pivot!$H$4:$I$10),VLOOKUP(D116,Pivot!$H$4:$I$10,2,0))","v":10382.341810335902},null,null,null,{"$f":"INDEX(E116:I116,1,Control!$C$10)","v":32138.498288519273}]
[null,113,"Micronesia, Federated States of","FSM",{"$f":"IF(ISNA(VLOOKUP(D117,Pivot!$D$4:$E$30,2,0)),MIN(Pivot!$E$4:$E$30),VLOOKUP(D117,Pivot!$D$4:$E$30,2,0))","v":11873.552586779413},{"$f":"IF(ISNA(VLOOKUP(D117,Pivot!$F$4:$G$12,2,0)),MIN(Pivot!$F$4:$G$12),VLOOKUP(D117,Pivot!$F$4:$G$12,2,0))","v":11264.716264070181},{"$f":"IF(ISNA(VLOOKUP(D117,Pivot!$H$4:$I$10,2,0)),MIN(Pivot!$H$4:$I$10),VLOOKUP(D117,Pivot!$H$4:$I$10,2,0))","v":10382.341810335902},null,null,null,{"$f":"INDEX(E117:I117,1,Control!$C$10)","v":11873.552586779413}]
[null,114,"Moldova","MDA",{"$f":"IF(ISNA(VLOOKUP(D118,Pivot!$D$4:$E$30,2,0)),MIN(Pivot!$E$4:$E$30),VLOOKUP(D118,Pivot!$D$4:$E$30,2,0))","v":11873.552586779413},{"$f":"IF(ISNA(VLOOKUP(D118,Pivot!$F$4:$G$12,2,0)),MIN(Pivot!$F$4:$G$12),VLOOKUP(D118,Pivot!$F$4:$G$12,2,0))","v":11264.716264070181},{"$f":"IF(ISNA(VLOOKUP(D118,Pivot!$H$4:$I$10,2,0)),MIN(Pivot!$H$4:$I$10),VLOOKUP(D118,Pivot!$H$4:$I$10,2,0))","v":10382.341810335902},null,null,null,{"$f":"INDEX(E118:I118,1,Control!$C$10)","v":11873.552586779413}]
[null,115,"Monaco","MCO",{"$f":"IF(ISNA(VLOOKUP(D119,Pivot!$D$4:$E$30,2,0)),MIN(Pivot!$E$4:$E$30),VLOOKUP(D119,Pivot!$D$4:$E$30,2,0))","v":11873.552586779413},{"$f":"IF(ISNA(VLOOKUP(D119,Pivot!$F$4:$G$12,2,0)),MIN(Pivot!$F$4:$G$12),VLOOKUP(D119,Pivot!$F$4:$G$12,2,0))","v":11264.716264070181},{"$f":"IF(ISNA(VLOOKUP(D119,Pivot!$H$4:$I$10,2,0)),MIN(Pivot!$H$4:$I$10),VLOOKUP(D119,Pivot!$H$4:$I$10,2,0))","v":10382.341810335902},null,null,null,{"$f":"INDEX(E119:I119,1,Control!$C$10)","v":11873.552586779413}]
[null,116,"Mongolia","MNG",{"$f":"IF(ISNA(VLOOKUP(D120,Pivot!$D$4:$E$30,2,0)),MIN(Pivot!$E$4:$E$30),VLOOKUP(D120,Pivot!$D$4:$E$30,2,0))","v":11873.552586779413},{"$f":"IF(ISNA(VLOOKUP(D120,Pivot!$F$4:$G$12,2,0)),MIN(Pivot!$F$4:$G$12),VLOOKUP(D120,Pivot!$F$4:$G$12,2,0))","v":11264.716264070181},{"$f":"IF(ISNA(VLOOKUP(D120,Pivot!$H$4:$I$10,2,0)),MIN(Pivot!$H$4:$I$10),VLOOKUP(D120,Pivot!$H$4:$I$10,2,0))","v":10382.341810335902},null,null,null,{"$f":"INDEX(E120:I120,1,Control!$C$10)","v":11873.552586779413}]
[null,117,"Montenegro","CG",{"$f":"IF(ISNA(VLOOKUP(D121,Pivot!$D$4:$E$30,2,0)),MIN(Pivot!$E$4:$E$30),VLOOKUP(D121,Pivot!$D$4:$E$30,2,0))","v":11873.552586779413},{"$f":"IF(ISNA(VLOOKUP(D121,Pivot!$F$4:$G$12,2,0)),MIN(Pivot!$F$4:$G$12),VLOOKUP(D121,Pivot!$F$4:$G$12,2,0))","v":11264.716264070181},{"$f":"IF(ISNA(VLOOKUP(D121,Pivot!$H$4:$I$10,2,0)),MIN(Pivot!$H$4:$I$10),VLOOKUP(D121,Pivot!$H$4:$I$10,2,0))","v":10382.341810335902},null,null,null,{"$f":"INDEX(E121:I121,1,Control!$C$10)","v":11873.552586779413}]
[null,118,"Morocco","MAR",{"$f":"IF(ISNA(VLOOKUP(D122,Pivot!$D$4:$E$30,2,0)),MIN(Pivot!$E$4:$E$30),VLOOKUP(D122,Pivot!$D$4:$E$30,2,0))","v":11873.552586779413},{"$f":"IF(ISNA(VLOOKUP(D122,Pivot!$F$4:$G$12,2,0)),MIN(Pivot!$F$4:$G$12),VLOOKUP(D122,Pivot!$F$4:$G$12,2,0))","v":11264.716264070181},{"$f":"IF(ISNA(VLOOKUP(D122,Pivot!$H$4:$I$10,2,0)),MIN(Pivot!$H$4:$I$10),VLOOKUP(D122,Pivot!$H$4:$I$10,2,0))","v":10382.341810335902},null,null,null,{"$f":"INDEX(E122:I122,1,Control!$C$10)","v":11873.552586779413}]
[null,119,"Mozambique","MOZ",{"$f":"IF(ISNA(VLOOKUP(D123,Pivot!$D$4:$E$30,2,0)),MIN(Pivot!$E$4:$E$30),VLOOKUP(D123,Pivot!$D$4:$E$30,2,0))","v":11873.552586779413},{"$f":"IF(ISNA(VLOOKUP(D123,Pivot!$F$4:$G$12,2,0)),MIN(Pivot!$F$4:$G$12),VLOOKUP(D123,Pivot!$F$4:$G$12,2,0))","v":11264.716264070181},{"$f":"IF(ISNA(VLOOKUP(D123,Pivot!$H$4:$I$10,2,0)),MIN(Pivot!$H$4:$I$10),VLOOKUP(D123,Pivot!$H$4:$I$10,2,0))","v":10382.341810335902},null,null,null,{"$f":"INDEX(E123:I123,1,Control!$C$10)","v":11873.552586779413}]
[null,120,"Namibia","NAM",{"$f":"IF(ISNA(VLOOKUP(D124,Pivot!$D$4:$E$30,2,0)),MIN(Pivot!$E$4:$E$30),VLOOKUP(D124,Pivot!$D$4:$E$30,2,0))","v":11873.552586779413},{"$f":"IF(ISNA(VLOOKUP(D124,Pivot!$F$4:$G$12,2,0)),MIN(Pivot!$F$4:$G$12),VLOOKUP(D124,Pivot!$F$4:$G$12,2,0))","v":11264.716264070181},{"$f":"IF(ISNA(VLOOKUP(D124,Pivot!$H$4:$I$10,2,0)),MIN(Pivot!$H$4:$I$10),VLOOKUP(D124,Pivot!$H$4:$I$10,2,0))","v":10382.341810335902},null,null,null,{"$f":"INDEX(E124:I124,1,Control!$C$10)","v":11873.552586779413}]
[null,121,"Nauru","NRU",{"$f":"IF(ISNA(VLOOKUP(D125,Pivot!$D$4:$E$30,2,0)),MIN(Pivot!$E$4:$E$30),VLOOKUP(D125,Pivot!$D$4:$E$30,2,0))","v":11873.552586779413},{"$f":"IF(ISNA(VLOOKUP(D125,Pivot!$F$4:$G$12,2,0)),MIN(Pivot!$F$4:$G$12),VLOOKUP(D125,Pivot!$F$4:$G$12,2,0))","v":11264.716264070181},{"$f":"IF(ISNA(VLOOKUP(D125,Pivot!$H$4:$I$10,2,0)),MIN(Pivot!$H$4:$I$10),VLOOKUP(D125,Pivot!$H$4:$I$10,2,0))","v":10382.341810335902},null,null,null,{"$f":"INDEX(E125:I125,1,Control!$C$10)","v":11873.552586779413}]
[null,122,"Nepal","NPL",{"$f":"IF(ISNA(VLOOKUP(D126,Pivot!$D$4:$E$30,2,0)),MIN(Pivot!$E$4:$E$30),VLOOKUP(D126,Pivot!$D$4:$E$30,2,0))","v":11873.552586779413},{"$f":"IF(ISNA(VLOOKUP(D126,Pivot!$F$4:$G$12,2,0)),MIN(Pivot!$F$4:$G$12),VLOOKUP(D126,Pivot!$F$4:$G$12,2,0))","v":11264.716264070181},{"$f":"IF(ISNA(VLOOKUP(D126,Pivot!$H$4:$I$10,2,0)),MIN(Pivot!$H$4:$I$10),VLOOKUP(D126,Pivot!$H$4:$I$10,2,0))","v":10382.341810335902},null,null,null,{"$f":"INDEX(E126:I126,1,Control!$C$10)","v":11873.552586779413}]
[null,123,"Netherlands","NLD",{"$f":"IF(ISNA(VLOOKUP(D127,Pivot!$D$4:$E$30,2,0)),MIN(Pivot!$E$4:$E$30),VLOOKUP(D127,Pivot!$D$4:$E$30,2,0))","v":73006.431203838249},{"$f":"IF(ISNA(VLOOKUP(D127,Pivot!$F$4:$G$12,2,0)),MIN(Pivot!$F$4:$G$12),VLOOKUP(D127,Pivot!$F$4:$G$12,2,0))","v":62090.772580714816},{"$f":"IF(ISNA(VLOOKUP(D127,Pivot!$H$4:$I$10,2,0)),MIN(Pivot!$H$4:$I$10),VLOOKUP(D127,Pivot!$H$4:$I$10,2,0))","v":10382.341810335902},null,null,null,{"$f":"INDEX(E127:I127,1,Control!$C$10)","v":73006.431203838249}]
[null,124,"New Zealand","NZL",{"$f":"IF(ISNA(VLOOKUP(D128,Pivot!$D$4:$E$30,2,0)),MIN(Pivot!$E$4:$E$30),VLOOKUP(D128,Pivot!$D$4:$E$30,2,0))","v":70287.554967112796},{"$f":"IF(ISNA(VLOOKUP(D128,Pivot!$F$4:$G$12,2,0)),MIN(Pivot!$F$4:$G$12),VLOOKUP(D128,Pivot!$F$4:$G$12,2,0))","v":53990.226887226367},{"$f":"IF(ISNA(VLOOKUP(D128,Pivot!$H$4:$I$10,2,0)),MIN(Pivot!$H$4:$I$10),VLOOKUP(D128,Pivot!$H$4:$I$10,2,0))","v":10382.341810335902},null,null,null,{"$f":"INDEX(E128:I128,1,Control!$C$10)","v":70287.554967112796}]
[null,125,"Nicaragua","NIC",{"$f":"IF(ISNA(VLOOKUP(D129,Pivot!$D$4:$E$30,2,0)),MIN(Pivot!$E$4:$E$30),VLOOKUP(D129,Pivot!$D$4:$E$30,2,0))","v":11873.552586779413},{"$f":"IF(ISNA(VLOOKUP(D129,Pivot!$F$4:$G$12,2,0)),MIN(Pivot!$F$4:$G$12),VLOOKUP(D129,Pivot!$F$4:$G$12,2,0))","v":11264.716264070181},{"$f":"IF(ISNA(VLOOKUP(D129,Pivot!$H$4:$I$10,2,0)),MIN(Pivot!$H$4:$I$10),VLOOKUP(D129,Pivot!$H$4:$I$10,2,0))","v":10382.341810335902},null,null,null,{"$f":"INDEX(E129:I129,1,Control!$C$10)","v":11873.552586779413}]
[null,126,"Niger","NER",{"$f":"IF(ISNA(VLOOKUP(D130,Pivot!$D$4:$E$30,2,0)),MIN(Pivot!$E$4:$E$30),VLOOKUP(D130,Pivot!$D$4:$E$30,2,0))","v":11873.552586779413},{"$f":"IF(ISNA(VLOOKUP(D130,Pivot!$F$4:$G$12,2,0)),MIN(Pivot!$F$4:$G$12),VLOOKUP(D130,Pivot!$F$4:$G$12,2,0))","v":11264.716264070181},{"$f":"IF(ISNA(VLOOKUP(D130,Pivot!$H$4:$I$10,2,0)),MIN(Pivot!$H$4:$I$10),VLOOKUP(D130,Pivot!$H$4:$I$10,2,0))","v":10382.341810335902},null,null,null,{"$f":"INDEX(E130:I130,1,Control!$C$10)","v":11873.552586779413}]
[null,127,"Nigeria","NGA",{"$f":"IF(ISNA(VLOOKUP(D131,Pivot!$D$4:$E$30,2,0)),MIN(Pivot!$E$4:$E$30),VLOOKUP(D131,Pivot!$D$4:$E$30,2,0))","v":11873.552586779413},{"$f":"IF(ISNA(VLOOKUP(D131,Pivot!$F$4:$G$12,2,0)),MIN(Pivot!$F$4:$G$12),VLOOKUP(D131,Pivot!$F$4:$G$12,2,0))","v":11264.716264070181},{"$f":"IF(ISNA(VLOOKUP(D131,Pivot!$H$4:$I$10,2,0)),MIN(Pivot!$H$4:$I$10),VLOOKUP(D131,Pivot!$H$4:$I$10,2,0))","v":10382.341810335902},null,null,null,{"$f":"INDEX(E131:I131,1,Control!$C$10)","v":11873.552586779413}]
[null,128,"Norway","NOR",{"$f":"IF(ISNA(VLOOKUP(D132,Pivot!$D$4:$E$30,2,0)),MIN(Pivot!$E$4:$E$30),VLOOKUP(D132,Pivot!$D$4:$E$30,2,0))","v":99016.174371435307},{"$f":"IF(ISNA(VLOOKUP(D132,Pivot!$F$4:$G$12,2,0)),MIN(Pivot!$F$4:$G$12),VLOOKUP(D132,Pivot!$F$4:$G$12,2,0))","v":11264.716264070181},{"$f":"IF(ISNA(VLOOKUP(D132,Pivot!$H$4:$I$10,2,0)),MIN(Pivot!$H$4:$I$10),VLOOKUP(D132,Pivot!$H$4:$I$10,2,0))","v":10382.341810335902},null,null,null,{"$f":"INDEX(E132:I132,1,Control!$C$10)","v":99016.174371435307}]
[null,129,"Oman","OMN",{"$f":"IF(ISNA(VLOOKUP(D133,Pivot!$D$4:$E$30,2,0)),MIN(Pivot!$E$4:$E$30),VLOOKUP(D133,Pivot!$D$4:$E$30,2,0))","v":11873.552586779413},{"$f":"IF(ISNA(VLOOKUP(D133,Pivot!$F$4:$G$12,2,0)),MIN(Pivot!$F$4:$G$12),VLOOKUP(D133,Pivot!$F$4:$G$12,2,0))","v":11264.716264070181},{"$f":"IF(ISNA(VLOOKUP(D133,Pivot!$H$4:$I$10,2,0)),MIN(Pivot!$H$4:$I$10),VLOOKUP(D133,Pivot!$H$4:$I$10,2,0))","v":10382.341810335902},null,null,null,{"$f":"INDEX(E133:I133,1,Control!$C$10)","v":11873.552586779413}]
[null,130,"Pakistan","PAK",{"$f":"IF(ISNA(VLOOKUP(D134,Pivot!$D$4:$E$30,2,0)),MIN(Pivot!$E$4:$E$30),VLOOKUP(D134,Pivot!$D$4:$E$30,2,0))","v":11873.552586779413},{"$f":"IF(ISNA(VLOOKUP(D134,Pivot!$F$4:$G$12,2,0)),MIN(Pivot!$F$4:$G$12),VLOOKUP(D134,Pivot!$F$4:$G$12,2,0))","v":14887},{"$f":"IF(ISNA(VLOOKUP(D134,Pivot!$H$4:$I$10,2,0)),MIN(Pivot!$H$4:$I$10),VLOOKUP(D134,Pivot!$H$4:$I$10,2,0))","v":10382.341810335902},null,null,null,{"$f":"INDEX(E134:I134,1,Control!$C$10)","v":11873.552586779413}]
[null,{"$f":"B134+1","v":131},"Palau","PLW",{"$f":"IF(ISNA(VLOOKUP(D135,Pivot!$D$4:$E$30,2,0)),MIN(Pivot!$E$4:$E$30),VLOOKUP(D135,Pivot!$D$4:$E$30,2,0))","v":11873.552586779413},{"$f":"IF(ISNA(VLOOKUP(D135,Pivot!$F$4:$G$12,2,0)),MIN(Pivot!$F$4:$G$12),VLOOKUP(D135,Pivot!$F$4:$G$12,2,0))","v":11264.716264070181},{"$f":"IF(ISNA(VLOOKUP(D135,Pivot!$H$4:$I$10,2,0)),MIN(Pivot!$H$4:$I$10),VLOOKUP(D135,Pivot!$H$4:$I$10,2,0))","v":10382.341810335902},null,null,null,{"$f":"INDEX(E135:I135,1,Control!$C$10)","v":11873.552586779413}]
[null,{"$f":"B135+1","v":132},"Panama","PAN",{"$f":"IF(ISNA(VLOOKUP(D136,Pivot!$D$4:$E$30,2,0)),MIN(Pivot!$E$4:$E$30),VLOOKUP(D136,Pivot!$D$4:$E$30,2,0))","v":11873.552586779413},{"$f":"IF(ISNA(VLOOKUP(D136,Pivot!$F$4:$G$12,2,0)),MIN(Pivot!$F$4:$G$12),VLOOKUP(D136,Pivot!$F$4:$G$12,2,0))","v":11264.716264070181},{"$f":"IF(ISNA(VLOOKUP(D136,Pivot!$H$4:$I$10,2,0)),MIN(Pivot!$H$4:$I$10),VLOOKUP(D136,Pivot!$H$4:$I$10,2,0))","v":10382.341810335902},null,null,null,{"$f":"INDEX(E136:I136,1,Control!$C$10)","v":11873.552586779413}]
[null,{"$f":"B136+1","v":133},"Papua New Guinea","PNG",{"$f":"IF(ISNA(VLOOKUP(D137,Pivot!$D$4:$E$30,2,0)),MIN(Pivot!$E$4:$E$30),VLOOKUP(D137,Pivot!$D$4:$E$30,2,0))","v":11873.552586779413},{"$f":"IF(ISNA(VLOOKUP(D137,Pivot!$F$4:$G$12,2,0)),MIN(Pivot!$F$4:$G$12),VLOOKUP(D137,Pivot!$F$4:$G$12,2,0))","v":11264.716264070181},{"$f":"IF(ISNA(VLOOKUP(D137,Pivot!$H$4:$I$10,2,0)),MIN(Pivot!$H$4:$I$10),VLOOKUP(D137,Pivot!$H$4:$I$10,2,0))","v":10382.341810335902},null,null,null,{"$f":"INDEX(E137:I137,1,Control!$C$10)","v":11873.552586779413}]
[null,{"$f":"B137+1","v":134},"Paraguay","PRY",{"$f":"IF(ISNA(VLOOKUP(D138,Pivot!$D$4:$E$30,2,0)),MIN(Pivot!$E$4:$E$30),VLOOKUP(D138,Pivot!$D$4:$E$30,2,0))","v":11873.552586779413},{"$f":"IF(ISNA(VLOOKUP(D138,Pivot!$F$4:$G$12,2,0)),MIN(Pivot!$F$4:$G$12),VLOOKUP(D138,Pivot!$F$4:$G$12,2,0))","v":11264.716264070181},{"$f":"IF(ISNA(VLOOKUP(D138,Pivot!$H$4:$I$10,2,0)),MIN(Pivot!$H$4:$I$10),VLOOKUP(D138,Pivot!$H$4:$I$10,2,0))","v":10382.341810335902},null,null,null,{"$f":"INDEX(E138:I138,1,Control!$C$10)","v":11873.552586779413}]
[null,{"$f":"B138+1","v":135},"Peru","PER",{"$f":"IF(ISNA(VLOOKUP(D139,Pivot!$D$4:$E$30,2,0)),MIN(Pivot!$E$4:$E$30),VLOOKUP(D139,Pivot!$D$4:$E$30,2,0))","v":11873.552586779413},{"$f":"IF(ISNA(VLOOKUP(D139,Pivot!$F$4:$G$12,2,0)),MIN(Pivot!$F$4:$G$12),VLOOKUP(D139,Pivot!$F$4:$G$12,2,0))","v":11264.716264070181},{"$f":"IF(ISNA(VLOOKUP(D139,Pivot!$H$4:$I$10,2,0)),MIN(Pivot!$H$4:$I$10),VLOOKUP(D139,Pivot!$H$4:$I$10,2,0))","v":10382.341810335902},null,null,null,{"$f":"INDEX(E139:I139,1,Control!$C$10)","v":11873.552586779413}]
[null,136,"Philippines","PHL",{"$f":"IF(ISNA(VLOOKUP(D140,Pivot!$D$4:$E$30,2,0)),MIN(Pivot!$E$4:$E$30),VLOOKUP(D140,Pivot!$D$4:$E$30,2,0))","v":17479.292364753517},{"$f":"IF(ISNA(VLOOKUP(D140,Pivot!$F$4:$G$12,2,0)),MIN(Pivot!$F$4:$G$12),VLOOKUP(D140,Pivot!$F$4:$G$12,2,0))","v":11264.716264070181},{"$f":"IF(ISNA(VLOOKUP(D140,Pivot!$H$4:$I$10,2,0)),MIN(Pivot!$H$4:$I$10),VLOOKUP(D140,Pivot!$H$4:$I$10,2,0))","v":10382.341810335902},null,null,null,{"$f":"INDEX(E140:I140,1,Control!$C$10)","v":17479.292364753517}]
[null,137,"Poland","POL",{"$f":"IF(ISNA(VLOOKUP(D141,Pivot!$D$4:$E$30,2,0)),MIN(Pivot!$E$4:$E$30),VLOOKUP(D141,Pivot!$D$4:$E$30,2,0))","v":34210.345381590014},{"$f":"IF(ISNA(VLOOKUP(D141,Pivot!$F$4:$G$12,2,0)),MIN(Pivot!$F$4:$G$12),VLOOKUP(D141,Pivot!$F$4:$G$12,2,0))","v":11264.716264070181},{"$f":"IF(ISNA(VLOOKUP(D141,Pivot!$H$4:$I$10,2,0)),MIN(Pivot!$H$4:$I$10),VLOOKUP(D141,Pivot!$H$4:$I$10,2,0))","v":10382.341810335902},null,null,null,{"$f":"INDEX(E141:I141,1,Control!$C$10)","v":34210.345381590014}]
[null,138,"Portugal","PRT",{"$f":"IF(ISNA(VLOOKUP(D142,Pivot!$D$4:$E$30,2,0)),MIN(Pivot!$E$4:$E$30),VLOOKUP(D142,Pivot!$D$4:$E$30,2,0))","v":32907.763410971675},{"$f":"IF(ISNA(VLOOKUP(D142,Pivot!$F$4:$G$12,2,0)),MIN(Pivot!$F$4:$G$12),VLOOKUP(D142,Pivot!$F$4:$G$12,2,0))","v":11264.716264070181},{"$f":"IF(ISNA(VLOOKUP(D142,Pivot!$H$4:$I$10,2,0)),MIN(Pivot!$H$4:$I$10),VLOOKUP(D142,Pivot!$H$4:$I$10,2,0))","v":10382.341810335902},null,null,null,{"$f":"INDEX(E142:I142,1,Control!$C$10)","v":32907.763410971675}]
[null,139,"Qatar","QAT",{"$f":"IF(ISNA(VLOOKUP(D143,Pivot!$D$4:$E$30,2,0)),MIN(Pivot!$E$4:$E$30),VLOOKUP(D143,Pivot!$D$4:$E$30,2,0))","v":11873.552586779413},{"$f":"IF(ISNA(VLOOKUP(D143,Pivot!$F$4:$G$12,2,0)),MIN(Pivot!$F$4:$G$12),VLOOKUP(D143,Pivot!$F$4:$G$12,2,0))","v":11264.716264070181},{"$f":"IF(ISNA(VLOOKUP(D143,Pivot!$H$4:$I$10,2,0)),MIN(Pivot!$H$4:$I$10),VLOOKUP(D143,Pivot!$H$4:$I$10,2,0))","v":10382.341810335902},null,null,null,{"$f":"INDEX(E143:I143,1,Control!$C$10)","v":11873.552586779413}]
[null,140,"Romania","ROM",{"$f":"IF(ISNA(VLOOKUP(D144,Pivot!$D$4:$E$30,2,0)),MIN(Pivot!$E$4:$E$30),VLOOKUP(D144,Pivot!$D$4:$E$30,2,0))","v":16449.976756585475},{"$f":"IF(ISNA(VLOOKUP(D144,Pivot!$F$4:$G$12,2,0)),MIN(Pivot!$F$4:$G$12),VLOOKUP(D144,Pivot!$F$4:$G$12,2,0))","v":11264.716264070181},{"$f":"IF(ISNA(VLOOKUP(D144,Pivot!$H$4:$I$10,2,0)),MIN(Pivot!$H$4:$I$10),VLOOKUP(D144,Pivot!$H$4:$I$10,2,0))","v":10382.341810335902},null,null,null,{"$f":"INDEX(E144:I144,1,Control!$C$10)","v":16449.976756585475}]
[null,141,"Russia","RUS",{"$f":"IF(ISNA(VLOOKUP(D145,Pivot!$D$4:$E$30,2,0)),MIN(Pivot!$E$4:$E$30),VLOOKUP(D145,Pivot!$D$4:$E$30,2,0))","v":55905.222222222219},{"$f":"IF(ISNA(VLOOKUP(D145,Pivot!$F$4:$G$12,2,0)),MIN(Pivot!$F$4:$G$12),VLOOKUP(D145,Pivot!$F$4:$G$12,2,0))","v":11264.716264070181},{"$f":"IF(ISNA(VLOOKUP(D145,Pivot!$H$4:$I$10,2,0)),MIN(Pivot!$H$4:$I$10),VLOOKUP(D145,Pivot!$H$4:$I$10,2,0))","v":10382.341810335902},null,null,null,{"$f":"INDEX(E145:I145,1,Control!$C$10)","v":55905.222222222219}]
[null,142,"Rwanda","RWA",{"$f":"IF(ISNA(VLOOKUP(D146,Pivot!$D$4:$E$30,2,0)),MIN(Pivot!$E$4:$E$30),VLOOKUP(D146,Pivot!$D$4:$E$30,2,0))","v":11873.552586779413},{"$f":"IF(ISNA(VLOOKUP(D146,Pivot!$F$4:$G$12,2,0)),MIN(Pivot!$F$4:$G$12),VLOOKUP(D146,Pivot!$F$4:$G$12,2,0))","v":11264.716264070181},{"$f":"IF(ISNA(VLOOKUP(D146,Pivot!$H$4:$I$10,2,0)),MIN(Pivot!$H$4:$I$10),VLOOKUP(D146,Pivot!$H$4:$I$10,2,0))","v":10382.341810335902},null,null,null,{"$f":"INDEX(E146:I146,1,Control!$C$10)","v":11873.552586779413}]
[null,143,"Saint Lucia","LCA",{"$f":"IF(ISNA(VLOOKUP(D147,Pivot!$D$4:$E$30,2,0)),MIN(Pivot!$E$4:$E$30),VLOOKUP(D147,Pivot!$D$4:$E$30,2,0))","v":11873.552586779413},{"$f":"IF(ISNA(VLOOKUP(D147,Pivot!$F$4:$G$12,2,0)),MIN(Pivot!$F$4:$G$12),VLOOKUP(D147,Pivot!$F$4:$G$12,2,0))","v":11264.716264070181},{"$f":"IF(ISNA(VLOOKUP(D147,Pivot!$H$4:$I$10,2,0)),MIN(Pivot!$H$4:$I$10),VLOOKUP(D147,Pivot!$H$4:$I$10,2,0))","v":10382.341810335902},null,null,null,{"$f":"INDEX(E147:I147,1,Control!$C$10)","v":11873.552586779413}]
[null,144,"Samoa","WSM",{"$f":"IF(ISNA(VLOOKUP(D148,Pivot!$D$4:$E$30,2,0)),MIN(Pivot!$E$4:$E$30),VLOOKUP(D148,Pivot!$D$4:$E$30,2,0))","v":11873.552586779413},{"$f":"IF(ISNA(VLOOKUP(D148,Pivot!$F$4:$G$12,2,0)),MIN(Pivot!$F$4:$G$12),VLOOKUP(D148,Pivot!$F$4:$G$12,2,0))","v":11264.716264070181},{"$f":"IF(ISNA(VLOOKUP(D148,Pivot!$H$4:$I$10,2,0)),MIN(Pivot!$H$4:$I$10),VLOOKUP(D148,Pivot!$H$4:$I$10,2,0))","v":10382.341810335902},null,null,null,{"$f":"INDEX(E148:I148,1,Control!$C$10)","v":11873.552586779413}]
[null,145,"Saudi Arabia","SAU",{"$f":"IF(ISNA(VLOOKUP(D149,Pivot!$D$4:$E$30,2,0)),MIN(Pivot!$E$4:$E$30),VLOOKUP(D149,Pivot!$D$4:$E$30,2,0))","v":35832.121212121208},{"$f":"IF(ISNA(VLOOKUP(D149,Pivot!$F$4:$G$12,2,0)),MIN(Pivot!$F$4:$G$12),VLOOKUP(D149,Pivot!$F$4:$G$12,2,0))","v":11264.716264070181},{"$f":"IF(ISNA(VLOOKUP(D149,Pivot!$H$4:$I$10,2,0)),MIN(Pivot!$H$4:$I$10),VLOOKUP(D149,Pivot!$H$4:$I$10,2,0))","v":10382.341810335902},null,null,null,{"$f":"INDEX(E149:I149,1,Control!$C$10)","v":35832.121212121208}]
[null,146,"Senegal","SEN",{"$f":"IF(ISNA(VLOOKUP(D150,Pivot!$D$4:$E$30,2,0)),MIN(Pivot!$E$4:$E$30),VLOOKUP(D150,Pivot!$D$4:$E$30,2,0))","v":11873.552586779413},{"$f":"IF(ISNA(VLOOKUP(D150,Pivot!$F$4:$G$12,2,0)),MIN(Pivot!$F$4:$G$12),VLOOKUP(D150,Pivot!$F$4:$G$12,2,0))","v":11264.716264070181},{"$f":"IF(ISNA(VLOOKUP(D150,Pivot!$H$4:$I$10,2,0)),MIN(Pivot!$H$4:$I$10),VLOOKUP(D150,Pivot!$H$4:$I$10,2,0))","v":10382.341810335902},null,null,null,{"$f":"INDEX(E150:I150,1,Control!$C$10)","v":11873.552586779413}]
[null,147,"Serbia","SR",{"$f":"IF(ISNA(VLOOKUP(D151,Pivot!$D$4:$E$30,2,0)),MIN(Pivot!$E$4:$E$30),VLOOKUP(D151,Pivot!$D$4:$E$30,2,0))","v":11873.552586779413},{"$f":"IF(ISNA(VLOOKUP(D151,Pivot!$F$4:$G$12,2,0)),MIN(Pivot!$F$4:$G$12),VLOOKUP(D151,Pivot!$F$4:$G$12,2,0))","v":11264.716264070181},{"$f":"IF(ISNA(VLOOKUP(D151,Pivot!$H$4:$I$10,2,0)),MIN(Pivot!$H$4:$I$10),VLOOKUP(D151,Pivot!$H$4:$I$10,2,0))","v":10382.341810335902},null,null,null,{"$f":"INDEX(E151:I151,1,Control!$C$10)","v":11873.552586779413}]
[null,148,"Seychelles","SYC",{"$f":"IF(ISNA(VLOOKUP(D152,Pivot!$D$4:$E$30,2,0)),MIN(Pivot!$E$4:$E$30),VLOOKUP(D152,Pivot!$D$4:$E$30,2,0))","v":11873.552586779413},{"$f":"IF(ISNA(VLOOKUP(D152,Pivot!$F$4:$G$12,2,0)),MIN(Pivot!$F$4:$G$12),VLOOKUP(D152,Pivot!$F$4:$G$12,2,0))","v":11264.716264070181},{"$f":"IF(ISNA(VLOOKUP(D152,Pivot!$H$4:$I$10,2,0)),MIN(Pivot!$H$4:$I$10),VLOOKUP(D152,Pivot!$H$4:$I$10,2,0))","v":10382.341810335902},null,null,null,{"$f":"INDEX(E152:I152,1,Control!$C$10)","v":11873.552586779413}]
[null,149,"Sierra Leone","SLE",{"$f":"IF(ISNA(VLOOKUP(D153,Pivot!$D$4:$E$30,2,0)),MIN(Pivot!$E$4:$E$30),VLOOKUP(D153,Pivot!$D$4:$E$30,2,0))","v":11873.552586779413},{"$f":"IF(ISNA(VLOOKUP(D153,Pivot!$F$4:$G$12,2,0)),MIN(Pivot!$F$4:$G$12),VLOOKUP(D153,Pivot!$F$4:$G$12,2,0))","v":11264.716264070181},{"$f":"IF(ISNA(VLOOKUP(D153,Pivot!$H$4:$I$10,2,0)),MIN(Pivot!$H$4:$I$10),VLOOKUP(D153,Pivot!$H$4:$I$10,2,0))","v":10382.341810335902},null,null,null,{"$f":"INDEX(E153:I153,1,Control!$C$10)","v":11873.552586779413}]
[null,150,"Singapore","SGP",{"$f":"IF(ISNA(VLOOKUP(D154,Pivot!$D$4:$E$30,2,0)),MIN(Pivot!$E$4:$E$30),VLOOKUP(D154,Pivot!$D$4:$E$30,2,0))","v":52154.754053796576},{"$f":"IF(ISNA(VLOOKUP(D154,Pivot!$F$4:$G$12,2,0)),MIN(Pivot!$F$4:$G$12),VLOOKUP(D154,Pivot!$F$4:$G$12,2,0))","v":11264.716264070181},{"$f":"IF(ISNA(VLOOKUP(D154,Pivot!$H$4:$I$10,2,0)),MIN(Pivot!$H$4:$I$10),VLOOKUP(D154,Pivot!$H$4:$I$10,2,0))","v":10382.341810335902},null,null,null,{"$f":"INDEX(E154:I154,1,Control!$C$10)","v":52154.754053796576}]
[null,151,"Slovakia","SVK",{"$f":"IF(ISNA(VLOOKUP(D155,Pivot!$D$4:$E$30,2,0)),MIN(Pivot!$E$4:$E$30),VLOOKUP(D155,Pivot!$D$4:$E$30,2,0))","v":11873.552586779413},{"$f":"IF(ISNA(VLOOKUP(D155,Pivot!$F$4:$G$12,2,0)),MIN(Pivot!$F$4:$G$12),VLOOKUP(D155,Pivot!$F$4:$G$12,2,0))","v":11264.716264070181},{"$f":"IF(ISNA(VLOOKUP(D155,Pivot!$H$4:$I$10,2,0)),MIN(Pivot!$H$4:$I$10),VLOOKUP(D155,Pivot!$H$4:$I$10,2,0))","v":10382.341810335902},null,null,null,{"$f":"INDEX(E155:I155,1,Control!$C$10)","v":11873.552586779413}]
[null,152,"Slovenia","SVN",{"$f":"IF(ISNA(VLOOKUP(D156,Pivot!$D$4:$E$30,2,0)),MIN(Pivot!$E$4:$E$30),VLOOKUP(D156,Pivot!$D$4:$E$30,2,0))","v":11873.552586779413},{"$f":"IF(ISNA(VLOOKUP(D156,Pivot!$F$4:$G$12,2,0)),MIN(Pivot!$F$4:$G$12),VLOOKUP(D156,Pivot!$F$4:$G$12,2,0))","v":11264.716264070181},{"$f":"IF(ISNA(VLOOKUP(D156,Pivot!$H$4:$I$10,2,0)),MIN(Pivot!$H$4:$I$10),VLOOKUP(D156,Pivot!$H$4:$I$10,2,0))","v":10382.341810335902},null,null,null,{"$f":"INDEX(E156:I156,1,Control!$C$10)","v":11873.552586779413}]
[null,153,"Solomon Islands","SLB",{"$f":"IF(ISNA(VLOOKUP(D157,Pivot!$D$4:$E$30,2,0)),MIN(Pivot!$E$4:$E$30),VLOOKUP(D157,Pivot!$D$4:$E$30,2,0))","v":11873.552586779413},{"$f":"IF(ISNA(VLOOKUP(D157,Pivot!$F$4:$G$12,2,0)),MIN(Pivot!$F$4:$G$12),VLOOKUP(D157,Pivot!$F$4:$G$12,2,0))","v":11264.716264070181},{"$f":"IF(ISNA(VLOOKUP(D157,Pivot!$H$4:$I$10,2,0)),MIN(Pivot!$H$4:$I$10),VLOOKUP(D157,Pivot!$H$4:$I$10,2,0))","v":10382.341810335902},null,null,null,{"$f":"INDEX(E157:I157,1,Control!$C$10)","v":11873.552586779413}]
[null,154,"Somalia","SOM",{"$f":"IF(ISNA(VLOOKUP(D158,Pivot!$D$4:$E$30,2,0)),MIN(Pivot!$E$4:$E$30),VLOOKUP(D158,Pivot!$D$4:$E$30,2,0))","v":11873.552586779413},{"$f":"IF(ISNA(VLOOKUP(D158,Pivot!$F$4:$G$12,2,0)),MIN(Pivot!$F$4:$G$12),VLOOKUP(D158,Pivot!$F$4:$G$12,2,0))","v":11264.716264070181},{"$f":"IF(ISNA(VLOOKUP(D158,Pivot!$H$4:$I$10,2,0)),MIN(Pivot!$H$4:$I$10),VLOOKUP(D158,Pivot!$H$4:$I$10,2,0))","v":10382.341810335902},null,null,null,{"$f":"INDEX(E158:I158,1,Control!$C$10)","v":11873.552586779413}]
[null,155,"South Africa","ZAF",{"$f":"IF(ISNA(VLOOKUP(D159,Pivot!$D$4:$E$30,2,0)),MIN(Pivot!$E$4:$E$30),VLOOKUP(D159,Pivot!$D$4:$E$30,2,0))","v":49555.624994016209},{"$f":"IF(ISNA(VLOOKUP(D159,Pivot!$F$4:$G$12,2,0)),MIN(Pivot!$F$4:$G$12),VLOOKUP(D159,Pivot!$F$4:$G$12,2,0))","v":11264.716264070181},{"$f":"IF(ISNA(VLOOKUP(D159,Pivot!$H$4:$I$10,2,0)),MIN(Pivot!$H$4:$I$10),VLOOKUP(D159,Pivot!$H$4:$I$10,2,0))","v":10382.341810335902},null,null,null,{"$f":"INDEX(E159:I159,1,Control!$C$10)","v":49555.624994016209}]
[null,156,"Spain","ESP",{"$f":"IF(ISNA(VLOOKUP(D160,Pivot!$D$4:$E$30,2,0)),MIN(Pivot!$E$4:$E$30),VLOOKUP(D160,Pivot!$D$4:$E$30,2,0))","v":46235.660112252495},{"$f":"IF(ISNA(VLOOKUP(D160,Pivot!$F$4:$G$12,2,0)),MIN(Pivot!$F$4:$G$12),VLOOKUP(D160,Pivot!$F$4:$G$12,2,0))","v":11264.716264070181},{"$f":"IF(ISNA(VLOOKUP(D160,Pivot!$H$4:$I$10,2,0)),MIN(Pivot!$H$4:$I$10),VLOOKUP(D160,Pivot!$H$4:$I$10,2,0))","v":10382.341810335902},null,null,null,{"$f":"INDEX(E160:I160,1,Control!$C$10)","v":46235.660112252495}]
[null,157,"Sri Lanka","LKA",{"$f":"IF(ISNA(VLOOKUP(D161,Pivot!$D$4:$E$30,2,0)),MIN(Pivot!$E$4:$E$30),VLOOKUP(D161,Pivot!$D$4:$E$30,2,0))","v":11873.552586779413},{"$f":"IF(ISNA(VLOOKUP(D161,Pivot!$F$4:$G$12,2,0)),MIN(Pivot!$F$4:$G$12),VLOOKUP(D161,Pivot!$F$4:$G$12,2,0))","v":11264.716264070181},{"$f":"IF(ISNA(VLOOKUP(D161,Pivot!$H$4:$I$10,2,0)),MIN(Pivot!$H$4:$I$10),VLOOKUP(D161,Pivot!$H$4:$I$10,2,0))","v":10382.341810335902},null,null,null,{"$f":"INDEX(E161:I161,1,Control!$C$10)","v":11873.552586779413}]
[null,158,"Sudan","SDN",{"$f":"IF(ISNA(VLOOKUP(D162,Pivot!$D$4:$E$30,2,0)),MIN(Pivot!$E$4:$E$30),VLOOKUP(D162,Pivot!$D$4:$E$30,2,0))","v":11873.552586779413},{"$f":"IF(ISNA(VLOOKUP(D162,Pivot!$F$4:$G$12,2,0)),MIN(Pivot!$F$4:$G$12),VLOOKUP(D162,Pivot!$F$4:$G$12,2,0))","v":11264.716264070181},{"$f":"IF(ISNA(VLOOKUP(D162,Pivot!$H$4:$I$10,2,0)),MIN(Pivot!$H$4:$I$10),VLOOKUP(D162,Pivot!$H$4:$I$10,2,0))","v":10382.341810335902},null,null,null,{"$f":"INDEX(E162:I162,1,Control!$C$10)","v":11873.552586779413}]
[null,159,"Suriname","SUR",{"$f":"IF(ISNA(VLOOKUP(D163,Pivot!$D$4:$E$30,2,0)),MIN(Pivot!$E$4:$E$30),VLOOKUP(D163,Pivot!$D$4:$E$30,2,0))","v":11873.552586779413},{"$f":"IF(ISNA(VLOOKUP(D163,Pivot!$F$4:$G$12,2,0)),MIN(Pivot!$F$4:$G$12),VLOOKUP(D163,Pivot!$F$4:$G$12,2,0))","v":11264.716264070181},{"$f":"IF(ISNA(VLOOKUP(D163,Pivot!$H$4:$I$10,2,0)),MIN(Pivot!$H$4:$I$10),VLOOKUP(D163,Pivot!$H$4:$I$10,2,0))","v":10382.341810335902},null,null,null,{"$f":"INDEX(E163:I163,1,Control!$C$10)","v":11873.552586779413}]
[null,160,"Swaziland","SWZ",{"$f":"IF(ISNA(VLOOKUP(D164,Pivot!$D$4:$E$30,2,0)),MIN(Pivot!$E$4:$E$30),VLOOKUP(D164,Pivot!$D$4:$E$30,2,0))","v":11873.552586779413},{"$f":"IF(ISNA(VLOOKUP(D164,Pivot!$F$4:$G$12,2,0)),MIN(Pivot!$F$4:$G$12),VLOOKUP(D164,Pivot!$F$4:$G$12,2,0))","v":11264.716264070181},{"$f":"IF(ISNA(VLOOKUP(D164,Pivot!$H$4:$I$10,2,0)),MIN(Pivot!$H$4:$I$10),VLOOKUP(D164,Pivot!$H$4:$I$10,2,0))","v":10382.341810335902},null,null,null,{"$f":"INDEX(E164:I164,1,Control!$C$10)","v":11873.552586779413}]
[null,161,"Sweden","SWE",{"$f":"IF(ISNA(VLOOKUP(D165,Pivot!$D$4:$E$30,2,0)),MIN(Pivot!$E$4:$E$30),VLOOKUP(D165,Pivot!$D$4:$E$30,2,0))","v":11873.552586779413},{"$f":"IF(ISNA(VLOOKUP(D165,Pivot!$F$4:$G$12,2,0)),MIN(Pivot!$F$4:$G$12),VLOOKUP(D165,Pivot!$F$4:$G$12,2,0))","v":11264.716264070181},{"$f":"IF(ISNA(VLOOKUP(D165,Pivot!$H$4:$I$10,2,0)),MIN(Pivot!$H$4:$I$10),VLOOKUP(D165,Pivot!$H$4:$I$10,2,0))","v":10382.341810335902},null,null,null,{"$f":"INDEX(E165:I165,1,Control!$C$10)","v":11873.552586779413}]
[null,162,"Switzerland","CHE",{"$f":"IF(ISNA(VLOOKUP(D166,Pivot!$D$4:$E$30,2,0)),MIN(Pivot!$E$4:$E$30),VLOOKUP(D166,Pivot!$D$4:$E$30,2,0))","v":11873.552586779413},{"$f":"IF(ISNA(VLOOKUP(D166,Pivot!$F$4:$G$12,2,0)),MIN(Pivot!$F$4:$G$12),VLOOKUP(D166,Pivot!$F$4:$G$12,2,0))","v":11264.716264070181},{"$f":"IF(ISNA(VLOOKUP(D166,Pivot!$H$4:$I$10,2,0)),MIN(Pivot!$H$4:$I$10),VLOOKUP(D166,Pivot!$H$4:$I$10,2,0))","v":10382.341810335902},null,null,null,{"$f":"INDEX(E166:I166,1,Control!$C$10)","v":11873.552586779413}]
[null,163,"Syria","SYR",{"$f":"IF(ISNA(VLOOKUP(D167,Pivot!$D$4:$E$30,2,0)),MIN(Pivot!$E$4:$E$30),VLOOKUP(D167,Pivot!$D$4:$E$30,2,0))","v":11873.552586779413},{"$f":"IF(ISNA(VLOOKUP(D167,Pivot!$F$4:$G$12,2,0)),MIN(Pivot!$F$4:$G$12),VLOOKUP(D167,Pivot!$F$4:$G$12,2,0))","v":11264.716264070181},{"$f":"IF(ISNA(VLOOKUP(D167,Pivot!$H$4:$I$10,2,0)),MIN(Pivot!$H$4:$I$10),VLOOKUP(D167,Pivot!$H$4:$I$10,2,0))","v":10382.341810335902},null,null,null,{"$f":"INDEX(E167:I167,1,Control!$C$10)","v":11873.552586779413}]
[null,164,"Taiwan","TWN",{"$f":"IF(ISNA(VLOOKUP(D168,Pivot!$D$4:$E$30,2,0)),MIN(Pivot!$E$4:$E$30),VLOOKUP(D168,Pivot!$D$4:$E$30,2,0))","v":11873.552586779413},{"$f":"IF(ISNA(VLOOKUP(D168,Pivot!$F$4:$G$12,2,0)),MIN(Pivot!$F$4:$G$12),VLOOKUP(D168,Pivot!$F$4:$G$12,2,0))","v":11264.716264070181},{"$f":"IF(ISNA(VLOOKUP(D168,Pivot!$H$4:$I$10,2,0)),MIN(Pivot!$H$4:$I$10),VLOOKUP(D168,Pivot!$H$4:$I$10,2,0))","v":10382.341810335902},null,null,null,{"$f":"INDEX(E168:I168,1,Control!$C$10)","v":11873.552586779413}]
[null,165,"Taiwan","TAI",{"$f":"IF(ISNA(VLOOKUP(D169,Pivot!$D$4:$E$30,2,0)),MIN(Pivot!$E$4:$E$30),VLOOKUP(D169,Pivot!$D$4:$E$30,2,0))","v":11873.552586779413},{"$f":"IF(ISNA(VLOOKUP(D169,Pivot!$F$4:$G$12,2,0)),MIN(Pivot!$F$4:$G$12),VLOOKUP(D169,Pivot!$F$4:$G$12,2,0))","v":11264.716264070181},{"$f":"IF(ISNA(VLOOKUP(D169,Pivot!$H$4:$I$10,2,0)),MIN(Pivot!$H$4:$I$10),VLOOKUP(D169,Pivot!$H$4:$I$10,2,0))","v":10382.341810335902},null,null,null,{"$f":"INDEX(E169:I169,1,Control!$C$10)","v":11873.552586779413}]
[null,166,"Tajikistan","TJK",{"$f":"IF(ISNA(VLOOKUP(D170,Pivot!$D$4:$E$30,2,0)),MIN(Pivot!$E$4:$E$30),VLOOKUP(D170,Pivot!$D$4:$E$30,2,0))","v":11873.552586779413},{"$f":"IF(ISNA(VLOOKUP(D170,Pivot!$F$4:$G$12,2,0)),MIN(Pivot!$F$4:$G$12),VLOOKUP(D170,Pivot!$F$4:$G$12,2,0))","v":11264.716264070181},{"$f":"IF(ISNA(VLOOKUP(D170,Pivot!$H$4:$I$10,2,0)),MIN(Pivot!$H$4:$I$10),VLOOKUP(D170,Pivot!$H$4:$I$10,2,0))","v":10382.341810335902},null,null,null,{"$f":"INDEX(E170:I170,1,Control!$C$10)","v":11873.552586779413}]
[null,167,"Tanzania","TZA",{"$f":"IF(ISNA(VLOOKUP(D171,Pivot!$D$4:$E$30,2,0)),MIN(Pivot!$E$4:$E$30),VLOOKUP(D171,Pivot!$D$4:$E$30,2,0))","v":11873.552586779413},{"$f":"IF(ISNA(VLOOKUP(D171,Pivot!$F$4:$G$12,2,0)),MIN(Pivot!$F$4:$G$12),VLOOKUP(D171,Pivot!$F$4:$G$12,2,0))","v":11264.716264070181},{"$f":"IF(ISNA(VLOOKUP(D171,Pivot!$H$4:$I$10,2,0)),MIN(Pivot!$H$4:$I$10),VLOOKUP(D171,Pivot!$H$4:$I$10,2,0))","v":10382.341810335902},null,null,null,{"$f":"INDEX(E171:I171,1,Control!$C$10)","v":11873.552586779413}]
[null,168,"Thailand","THA",{"$f":"IF(ISNA(VLOOKUP(D172,Pivot!$D$4:$E$30,2,0)),MIN(Pivot!$E$4:$E$30),VLOOKUP(D172,Pivot!$D$4:$E$30,2,0))","v":11873.552586779413},{"$f":"IF(ISNA(VLOOKUP(D172,Pivot!$F$4:$G$12,2,0)),MIN(Pivot!$F$4:$G$12),VLOOKUP(D172,Pivot!$F$4:$G$12,2,0))","v":11264.716264070181},{"$f":"IF(ISNA(VLOOKUP(D172,Pivot!$H$4:$I$10,2,0)),MIN(Pivot!$H$4:$I$10),VLOOKUP(D172,Pivot!$H$4:$I$10,2,0))","v":10382.341810335902},null,null,null,{"$f":"INDEX(E172:I172,1,Control!$C$10)","v":11873.552586779413}]
[null,169,"Timor-Leste","TMP",{"$f":"IF(ISNA(VLOOKUP(D173,Pivot!$D$4:$E$30,2,0)),MIN(Pivot!$E$4:$E$30),VLOOKUP(D173,Pivot!$D$4:$E$30,2,0))","v":11873.552586779413},{"$f":"IF(ISNA(VLOOKUP(D173,Pivot!$F$4:$G$12,2,0)),MIN(Pivot!$F$4:$G$12),VLOOKUP(D173,Pivot!$F$4:$G$12,2,0))","v":11264.716264070181},{"$f":"IF(ISNA(VLOOKUP(D173,Pivot!$H$4:$I$10,2,0)),MIN(Pivot!$H$4:$I$10),VLOOKUP(D173,Pivot!$H$4:$I$10,2,0))","v":10382.341810335902},null,null,null,{"$f":"INDEX(E173:I173,1,Control!$C$10)","v":11873.552586779413}]
[null,170,"Togo","TGO",{"$f":"IF(ISNA(VLOOKUP(D174,Pivot!$D$4:$E$30,2,0)),MIN(Pivot!$E$4:$E$30),VLOOKUP(D174,Pivot!$D$4:$E$30,2,0))","v":11873.552586779413},{"$f":"IF(ISNA(VLOOKUP(D174,Pivot!$F$4:$G$12,2,0)),MIN(Pivot!$F$4:$G$12),VLOOKUP(D174,Pivot!$F$4:$G$12,2,0))","v":11264.716264070181},{"$f":"IF(ISNA(VLOOKUP(D174,Pivot!$H$4:$I$10,2,0)),MIN(Pivot!$H$4:$I$10),VLOOKUP(D174,Pivot!$H$4:$I$10,2,0))","v":10382.341810335902},null,null,null,{"$f":"INDEX(E174:I174,1,Control!$C$10)","v":11873.552586779413}]
[null,171,"Tonga","TON",{"$f":"IF(ISNA(VLOOKUP(D175,Pivot!$D$4:$E$30,2,0)),MIN(Pivot!$E$4:$E$30),VLOOKUP(D175,Pivot!$D$4:$E$30,2,0))","v":11873.552586779413},{"$f":"IF(ISNA(VLOOKUP(D175,Pivot!$F$4:$G$12,2,0)),MIN(Pivot!$F$4:$G$12),VLOOKUP(D175,Pivot!$F$4:$G$12,2,0))","v":11264.716264070181},{"$f":"IF(ISNA(VLOOKUP(D175,Pivot!$H$4:$I$10,2,0)),MIN(Pivot!$H$4:$I$10),VLOOKUP(D175,Pivot!$H$4:$I$10,2,0))","v":10382.341810335902},null,null,null,{"$f":"INDEX(E175:I175,1,Control!$C$10)","v":11873.552586779413}]
[null,172,"Trinidad and Tobago","TTO",{"$f":"IF(ISNA(VLOOKUP(D176,Pivot!$D$4:$E$30,2,0)),MIN(Pivot!$E$4:$E$30),VLOOKUP(D176,Pivot!$D$4:$E$30,2,0))","v":11873.552586779413},{"$f":"IF(ISNA(VLOOKUP(D176,Pivot!$F$4:$G$12,2,0)),MIN(Pivot!$F$4:$G$12),VLOOKUP(D176,Pivot!$F$4:$G$12,2,0))","v":11264.716264070181},{"$f":"IF(ISNA(VLOOKUP(D176,Pivot!$H$4:$I$10,2,0)),MIN(Pivot!$H$4:$I$10),VLOOKUP(D176,Pivot!$H$4:$I$10,2,0))","v":10382.341810335902},null,null,null,{"$f":"INDEX(E176:I176,1,Control!$C$10)","v":11873.552586779413}]
[null,173,"Tunisia","TUN",{"$f":"IF(ISNA(VLOOKUP(D177,Pivot!$D$4:$E$30,2,0)),MIN(Pivot!$E$4:$E$30),VLOOKUP(D177,Pivot!$D$4:$E$30,2,0))","v":11873.552586779413},{"$f":"IF(ISNA(VLOOKUP(D177,Pivot!$F$4:$G$12,2,0)),MIN(Pivot!$F$4:$G$12),VLOOKUP(D177,Pivot!$F$4:$G$12,2,0))","v":11264.716264070181},{"$f":"IF(ISNA(VLOOKUP(D177,Pivot!$H$4:$I$10,2,0)),MIN(Pivot!$H$4:$I$10),VLOOKUP(D177,Pivot!$H$4:$I$10,2,0))","v":10382.341810335902},null,null,null,{"$f":"INDEX(E177:I177,1,Control!$C$10)","v":11873.552586779413}]
[null,174,"Turkey","TUR",{"$f":"IF(ISNA(VLOOKUP(D178,Pivot!$D$4:$E$30,2,0)),MIN(Pivot!$E$4:$E$30),VLOOKUP(D178,Pivot!$D$4:$E$30,2,0))","v":11873.552586779413},{"$f":"IF(ISNA(VLOOKUP(D178,Pivot!$F$4:$G$12,2,0)),MIN(Pivot!$F$4:$G$12),VLOOKUP(D178,Pivot!$F$4:$G$12,2,0))","v":11264.716264070181},{"$f":"IF(ISNA(VLOOKUP(D178,Pivot!$H$4:$I$10,2,0)),MIN(Pivot!$H$4:$I$10),VLOOKUP(D178,Pivot!$H$4:$I$10,2,0))","v":10382.341810335902},null,null,null,{"$f":"INDEX(E178:I178,1,Control!$C$10)","v":11873.552586779413}]
[null,175,"Turkmenistan","TKM",{"$f":"IF(ISNA(VLOOKUP(D179,Pivot!$D$4:$E$30,2,0)),MIN(Pivot!$E$4:$E$30),VLOOKUP(D179,Pivot!$D$4:$E$30,2,0))","v":11873.552586779413},{"$f":"IF(ISNA(VLOOKUP(D179,Pivot!$F$4:$G$12,2,0)),MIN(Pivot!$F$4:$G$12),VLOOKUP(D179,Pivot!$F$4:$G$12,2,0))","v":11264.716264070181},{"$f":"IF(ISNA(VLOOKUP(D179,Pivot!$H$4:$I$10,2,0)),MIN(Pivot!$H$4:$I$10),VLOOKUP(D179,Pivot!$H$4:$I$10,2,0))","v":10382.341810335902},null,null,null,{"$f":"INDEX(E179:I179,1,Control!$C$10)","v":11873.552586779413}]
[null,176,"Tuvalu","TUV",{"$f":"IF(ISNA(VLOOKUP(D180,Pivot!$D$4:$E$30,2,0)),MIN(Pivot!$E$4:$E$30),VLOOKUP(D180,Pivot!$D$4:$E$30,2,0))","v":11873.552586779413},{"$f":"IF(ISNA(VLOOKUP(D180,Pivot!$F$4:$G$12,2,0)),MIN(Pivot!$F$4:$G$12),VLOOKUP(D180,Pivot!$F$4:$G$12,2,0))","v":11264.716264070181},{"$f":"IF(ISNA(VLOOKUP(D180,Pivot!$H$4:$I$10,2,0)),MIN(Pivot!$H$4:$I$10),VLOOKUP(D180,Pivot!$H$4:$I$10,2,0))","v":10382.341810335902},null,null,null,{"$f":"INDEX(E180:I180,1,Control!$C$10)","v":11873.552586779413}]
[null,177,"Uganda","UGA",{"$f":"IF(ISNA(VLOOKUP(D181,Pivot!$D$4:$E$30,2,0)),MIN(Pivot!$E$4:$E$30),VLOOKUP(D181,Pivot!$D$4:$E$30,2,0))","v":11873.552586779413},{"$f":"IF(ISNA(VLOOKUP(D181,Pivot!$F$4:$G$12,2,0)),MIN(Pivot!$F$4:$G$12),VLOOKUP(D181,Pivot!$F$4:$G$12,2,0))","v":11264.716264070181},{"$f":"IF(ISNA(VLOOKUP(D181,Pivot!$H$4:$I$10,2,0)),MIN(Pivot!$H$4:$I$10),VLOOKUP(D181,Pivot!$H$4:$I$10,2,0))","v":10382.341810335902},null,null,null,{"$f":"INDEX(E181:I181,1,Control!$C$10)","v":11873.552586779413}]
[null,178,"Ukraine","UKR",{"$f":"IF(ISNA(VLOOKUP(D182,Pivot!$D$4:$E$30,2,0)),MIN(Pivot!$E$4:$E$30),VLOOKUP(D182,Pivot!$D$4:$E$30,2,0))","v":11873.552586779413},{"$f":"IF(ISNA(VLOOKUP(D182,Pivot!$F$4:$G$12,2,0)),MIN(Pivot!$F$4:$G$12),VLOOKUP(D182,Pivot!$F$4:$G$12,2,0))","v":11264.716264070181},{"$f":"IF(ISNA(VLOOKUP(D182,Pivot!$H$4:$I$10,2,0)),MIN(Pivot!$H$4:$I$10),VLOOKUP(D182,Pivot!$H$4:$I$10,2,0))","v":10382.341810335902},null,null,null,{"$f":"INDEX(E182:I182,1,Control!$C$10)","v":11873.552586779413}]
[null,179,"United Arab Emirates","ARE",{"$f":"IF(ISNA(VLOOKUP(D183,Pivot!$D$4:$E$30,2,0)),MIN(Pivot!$E$4:$E$30),VLOOKUP(D183,Pivot!$D$4:$E$30,2,0))","v":43014.900191685309},{"$f":"IF(ISNA(VLOOKUP(D183,Pivot!$F$4:$G$12,2,0)),MIN(Pivot!$F$4:$G$12),VLOOKUP(D183,Pivot!$F$4:$G$12,2,0))","v":11264.716264070181},{"$f":"IF(ISNA(VLOOKUP(D183,Pivot!$H$4:$I$10,2,0)),MIN(Pivot!$H$4:$I$10),VLOOKUP(D183,Pivot!$H$4:$I$10,2,0))","v":50759.038190313891},null,null,null,{"$f":"INDEX(E183:I183,1,Control!$C$10)","v":43014.900191685309}]
[null,180,"United Kingdom","GBR",{"$f":"IF(ISNA(VLOOKUP(D184,Pivot!$D$4:$E$30,2,0)),MIN(Pivot!$E$4:$E$30),VLOOKUP(D184,Pivot!$D$4:$E$30,2,0))","v":67240.730112795849},{"$f":"IF(ISNA(VLOOKUP(D184,Pivot!$F$4:$G$12,2,0)),MIN(Pivot!$F$4:$G$12),VLOOKUP(D184,Pivot!$F$4:$G$12,2,0))","v":57469.449414841118},{"$f":"IF(ISNA(VLOOKUP(D184,Pivot!$H$4:$I$10,2,0)),MIN(Pivot!$H$4:$I$10),VLOOKUP(D184,Pivot!$H$4:$I$10,2,0))","v":66390.12811100109},null,null,null,{"$f":"INDEX(E184:I184,1,Control!$C$10)","v":67240.730112795849}]
[null,181,"United States","USA",{"$f":"IF(ISNA(VLOOKUP(D185,Pivot!$D$4:$E$30,2,0)),MIN(Pivot!$E$4:$E$30),VLOOKUP(D185,Pivot!$D$4:$E$30,2,0))","v":72738.12965964344},{"$f":"IF(ISNA(VLOOKUP(D185,Pivot!$F$4:$G$12,2,0)),MIN(Pivot!$F$4:$G$12),VLOOKUP(D185,Pivot!$F$4:$G$12,2,0))","v":62583.737373737371},{"$f":"IF(ISNA(VLOOKUP(D185,Pivot!$H$4:$I$10,2,0)),MIN(Pivot!$H$4:$I$10),VLOOKUP(D185,Pivot!$H$4:$I$10,2,0))","v":77581.710344827588},null,null,null,{"$f":"INDEX(E185:I185,1,Control!$C$10)","v":72738.12965964344}]
[null,182,"Uruguay","URY",{"$f":"IF(ISNA(VLOOKUP(D186,Pivot!$D$4:$E$30,2,0)),MIN(Pivot!$E$4:$E$30),VLOOKUP(D186,Pivot!$D$4:$E$30,2,0))","v":11873.552586779413},{"$f":"IF(ISNA(VLOOKUP(D186,Pivot!$F$4:$G$12,2,0)),MIN(Pivot!$F$4:$G$12),VLOOKUP(D186,Pivot!$F$4:$G$12,2,0))","v":11264.716264070181},{"$f":"IF(ISNA(VLOOKUP(D186,Pivot!$H$4:$I$10,2,0)),MIN(Pivot!$H$4:$I$10),VLOOKUP(D186,Pivot!$H$4:$I$10,2,0))","v":10382.341810335902},null,null,null,{"$f":"INDEX(E186:I186,1,Control!$C$10)","v":11873.552586779413}]
[null,183,"Uzbekistan","UZB",{"$f":"IF(ISNA(VLOOKUP(D187,Pivot!$D$4:$E$30,2,0)),MIN(Pivot!$E$4:$E$30),VLOOKUP(D187,Pivot!$D$4:$E$30,2,0))","v":11873.552586779413},{"$f":"IF(ISNA(VLOOKUP(D187,Pivot!$F$4:$G$12,2,0)),MIN(Pivot!$F$4:$G$12),VLOOKUP(D187,Pivot!$F$4:$G$12,2,0))","v":11264.716264070181},{"$f":"IF(ISNA(VLOOKUP(D187,Pivot!$H$4:$I$10,2,0)),MIN(Pivot!$H$4:$I$10),VLOOKUP(D187,Pivot!$H$4:$I$10,2,0))","v":10382.341810335902},null,null,null,{"$f":"INDEX(E187:I187,1,Control!$C$10)","v":11873.552586779413}]
[null,184,"Vanuatu","VUT",{"$f":"IF(ISNA(VLOOKUP(D188,Pivot!$D$4:$E$30,2,0)),MIN(Pivot!$E$4:$E$30),VLOOKUP(D188,Pivot!$D$4:$E$30,2,0))","v":11873.552586779413},{"$f":"IF(ISNA(VLOOKUP(D188,Pivot!$F$4:$G$12,2,0)),MIN(Pivot!$F$4:$G$12),VLOOKUP(D188,Pivot!$F$4:$G$12,2,0))","v":11264.716264070181},{"$f":"IF(ISNA(VLOOKUP(D188,Pivot!$H$4:$I$10,2,0)),MIN(Pivot!$H$4:$I$10),VLOOKUP(D188,Pivot!$H$4:$I$10,2,0))","v":10382.341810335902},null,null,null,{"$f":"INDEX(E188:I188,1,Control!$C$10)","v":11873.552586779413}]
[null,185,"Venezuela","VEN",{"$f":"IF(ISNA(VLOOKUP(D189,Pivot!$D$4:$E$30,2,0)),MIN(Pivot!$E$4:$E$30),VLOOKUP(D189,Pivot!$D$4:$E$30,2,0))","v":11873.552586779413},{"$f":"IF(ISNA(VLOOKUP(D189,Pivot!$F$4:$G$12,2,0)),MIN(Pivot!$F$4:$G$12),VLOOKUP(D189,Pivot!$F$4:$G$12,2,0))","v":11264.716264070181},{"$f":"IF(ISNA(VLOOKUP(D189,Pivot!$H$4:$I$10,2,0)),MIN(Pivot!$H$4:$I$10),VLOOKUP(D189,Pivot!$H$4:$I$10,2,0))","v":10382.341810335902},null,null,null,{"$f":"INDEX(E189:I189,1,Control!$C$10)","v":11873.552586779413}]
[null,186,"Vietnam","VNM",{"$f":"IF(ISNA(VLOOKUP(D190,Pivot!$D$4:$E$30,2,0)),MIN(Pivot!$E$4:$E$30),VLOOKUP(D190,Pivot!$D$4:$E$30,2,0))","v":11873.552586779413},{"$f":"IF(ISNA(VLOOKUP(D190,Pivot!$F$4:$G$12,2,0)),MIN(Pivot!$F$4:$G$12),VLOOKUP(D190,Pivot!$F$4:$G$12,2,0))","v":11264.716264070181},{"$f":"IF(ISNA(VLOOKUP(D190,Pivot!$H$4:$I$10,2,0)),MIN(Pivot!$H$4:$I$10),VLOOKUP(D190,Pivot!$H$4:$I$10,2,0))","v":10382.341810335902},null,null,null,{"$f":"INDEX(E190:I190,1,Control!$C$10)","v":11873.552586779413}]
[null,187,"Western Sahara","ESH",{"$f":"IF(ISNA(VLOOKUP(D191,Pivot!$D$4:$E$30,2,0)),MIN(Pivot!$E$4:$E$30),VLOOKUP(D191,Pivot!$D$4:$E$30,2,0))","v":11873.552586779413},{"$f":"IF(ISNA(VLOOKUP(D191,Pivot!$F$4:$G$12,2,0)),MIN(Pivot!$F$4:$G$12),VLOOKUP(D191,Pivot!$F$4:$G$12,2,0))","v":11264.716264070181},{"$f":"IF(ISNA(VLOOKUP(D191,Pivot!$H$4:$I$10,2,0)),MIN(Pivot!$H$4:$I$10),VLOOKUP(D191,Pivot!$H$4:$I$10,2,0))","v":10382.341810335902},null,null,null,{"$f":"INDEX(E191:I191,1,Control!$C$10)","v":11873.552586779413}]
[null,188,"Yemen","YEM",{"$f":"IF(ISNA(VLOOKUP(D192,Pivot!$D$4:$E$30,2,0)),MIN(Pivot!$E$4:$E$30),VLOOKUP(D192,Pivot!$D$4:$E$30,2,0))","v":11873.552586779413},{"$f":"IF(ISNA(VLOOKUP(D192,Pivot!$F$4:$G$12,2,0)),MIN(Pivot!$F$4:$G$12),VLOOKUP(D192,Pivot!$F$4:$G$12,2,0))","v":11264.716264070181},{"$f":"IF(ISNA(VLOOKUP(D192,Pivot!$H$4:$I$10,2,0)),MIN(Pivot!$H$4:$I$10),VLOOKUP(D192,Pivot!$H$4:$I$10,2,0))","v":10382.341810335902},null,null,null,{"$f":"INDEX(E192:I192,1,Control!$C$10)","v":11873.552586779413}]
[null,189,"Zambia","ZWB",{"$f":"IF(ISNA(VLOOKUP(D193,Pivot!$D$4:$E$30,2,0)),MIN(Pivot!$E$4:$E$30),VLOOKUP(D193,Pivot!$D$4:$E$30,2,0))","v":11873.552586779413},{"$f":"IF(ISNA(VLOOKUP(D193,Pivot!$F$4:$G$12,2,0)),MIN(Pivot!$F$4:$G$12),VLOOKUP(D193,Pivot!$F$4:$G$12,2,0))","v":11264.716264070181},{"$f":"IF(ISNA(VLOOKUP(D193,Pivot!$H$4:$I$10,2,0)),MIN(Pivot!$H$4:$I$10),VLOOKUP(D193,Pivot!$H$4:$I$10,2,0))","v":10382.341810335902},null,null,null,{"$f":"INDEX(E193:I193,1,Control!$C$10)","v":11873.552586779413}]
[null,190,"Zimbabwe","ZWE",{"$f":"IF(ISNA(VLOOKUP(D194,Pivot!$D$4:$E$30,2,0)),MIN(Pivot!$E$4:$E$30),VLOOKUP(D194,Pivot!$D$4:$E$30,2,0))","v":11873.552586779413},{"$f":"IF(ISNA(VLOOKUP(D194,Pivot!$F$4:$G$12,2,0)),MIN(Pivot!$F$4:$G$12),VLOOKUP(D194,Pivot!$F$4:$G$12,2,0))","v":11264.716264070181},{"$f":"IF(ISNA(VLOOKUP(D194,Pivot!$H$4:$I$10,2,0)),MIN(Pivot!$H$4:$I$10),VLOOKUP(D194,Pivot!$H$4:$I$10,2,0))","v":10382.341810335902},null,null,null,{"$f":"INDEX(E194:I194,1,Control!$C$10)","v":11873.552586779413}]

{"sheet":"Control","index":2,"n_rows":256,"n_cols":13,"rows_kept":256,"cut":false,"hidden":true,"merged":[]}
[]
[null,"Control"]
[null,null,null,null,null,null,null,null,null,null,null,null,"Salary for Analyst"]
[null,"List of metrics","Salary for All",null,null,null,null,null,null,null,null,null,"Salary for Mgr"]
[null,null,"Salary for only Analysts"]
[null,null,"Salary for only Managers"]
[]
[]
[]
[null,"Selection",1]
[]
[null,"Darkness",5,"the smaller the darker (max: 5,21)"]
[]
[null,"Steps","Threshold","RGB","Min / Max"]
[null,{"$f":"B16+$C$12","v":245},{"$f":"E16","v":11873.552586779413},{"$f":"udf_RGB(MIN(50+B15,245),MIN(100+B15,245),B15)","v":16119285},{"$f":"MAX(Data!$K$5:$K$194)","v":99016.174371435307},null,"245-255-250"]
[null,240,{"$f":"C15+$E$17","v":13689.023873959744},15791605,{"$f":"MIN(Data!$K$5:$K$194)","v":11873.552586779413}]
[null,235,15504.495161140076,15463925,{"$f":"(E15-E16)/(COUNT($B$15:$B$64)-2)","v":1815.4712871803313}]
[null,230,17319.966448320407,15136245]
[null,225,19135.437735500738,14808565]
[null,220,20950.909022681069,14480885]
[null,215,22766.380309861401,14153205]
[null,210,24581.851597041732,13825525]
[null,205,26397.322884222063,13497845]
[null,200,28212.794171402395,13170165]
[null,195,30028.265458582726,12842485]
[null,190,31843.736745763057,12514800,null,null,"211-211-211"]
[null,185,33659.208032943388,12187115]
[null,180,35474.679320123716,11859430]
[null,175,37290.150607304051,11531745]
[null,170,39105.621894484386,11204060]
[null,165,40921.093181664721,10876375]
[null,160,42736.564468845056,10548690]
[null,155,44552.035756025391,10221005]
[null,150,46367.507043205725,9893320]
[null,145,48182.97833038606,9565635]
[null,140,49998.449617566395,9236670]
[null,135,51813.92090474673,8907705]
[null,130,53629.392191927065,8578740]
[null,125,55444.8634791074,8249775]
[null,120,57260.334766287735,7920810]
[null,115,59075.80605346807,7591845]
[null,110,60891.277340648405,7262880]
[null,105,62706.74862782874,6933915]
[null,100,64522.219915009075,6604950]
[null,95,66337.69120218941,6275985]
[null,90,68153.162489369744,5947020]
[null,85,69968.633776550079,5618055]
[null,80,{"$f":"C47+$E$17","v":71784.105063730414},5289090]
[null,75,73599.576350910749,4960125]
[null,70,75415.047638091084,4631160]
[null,65,77230.518925271419,4302195]
[null,60,79045.990212451754,3973230]
[null,55,80861.461499632089,3644265]
[null,50,82676.932786812424,3315300]
[null,45,84492.404073992759,2986335]
[null,40,86307.875361173094,2657370]
[null,35,88123.346648353428,2328405]
[null,30,89938.817935533763,1999440]
[null,25,91754.289222714098,1670475]
[null,20,93569.760509894433,1341510]
[null,15,95385.231797074768,1012545]
[null,10,97200.703084255103,683580]
[null,{"$f":"B64+$C$12","v":5},99016.174371435438,354615]
[null,0,100831.64565861577,{"$f":"udf_RGB(MIN(50+B64,245),MIN(100+B64,245),B64)","v":25650},null,null,"34-139-34"]
[]
[null,"Name","Autoshape"]
[null,"D_AFG","S_AFG"]
[null,"D_AGO","S_AGO"]
[null,"D_ALB","S_ALB"]
[null,"D_AND","S_AND"]
[null,"D_ARE","S_ARE"]
[null,"D_ARG","S_ARG"]
[null,"D_ARM","S_ARM"]
[null,"D_ATG","S_ATG"]
[null,"D_AUS","S_AUS"]
[null,"D_AUT","S_AUT"]
[null,"D_AZE","S_AZE"]
[null,"D_BDI","S_BDI"]
[null,"D_BEL","S_BEL"]
[null,"D_BEN","S_BEN"]
[null,"D_BFA","S_BFA"]
[null,"D_BGD","S_BGD"]
[null,"D_BGR","S_BGR"]
[null,"D_BHR","S_BHR"]
[null,"D_BHS","S_BHS"]
[null,"D_BIH","S_BIH"]
[null,"D_BLR","S_BLR"]
[null,"D_BLZ","S_BLZ"]
[null,"D_BOL","S_BOL"]
[null,"D_BRA","S_BRA"]
[null,"D_BRB","S_BRB"]
[null,"D_BTN","S_BTN"]
[null,"D_BWA","S_BWA"]
[null,"D_CAF","S_CAF"]
[null,"D_CAN","S_CAN"]
[null,"D_CG","S_CG"]
[null,"D_CHE","S_CHE"]
[null,"D_CHL","S_CHL"]
[null,"D_CHN","S_CHN"]
[null,"D_CIV","S_CIV"]
[null,"D_CMR","S_CMR"]
[null,"D_COD","S_COD"]
[null,"D_COG","S_COG"]
[null,"D_COL","S_COL"]
[null,"D_COM","S_COM"]
[null,"D_CPV","S_CPV"]
[null,"D_CRI","S_CRI"]
[null,"D_CUB","S_CUB"]
[null,"D_CYP","S_CYP"]
[null,"D_CZE","S_CZE"]
[null,"D_DEU","S_DEU"]
[null,"D_DJI","S_DJI"]
[null,"D_DMA","S_DMA"]
[null,"D_DNK","S_DNK"]
[null,"D_DOM","S_DOM"]
[null,"D_DZA","S_DZA"]
[null,"D_ECU","S_ECU"]
[null,"D_EGY","S_EGY"]
[null,"D_ERI","S_ERI"]
[null,"D_ESH","S_ESH"]
[null,"D_ESP","S_ESP"]
[null,"D_EST","S_EST"]
[null,"D_ETH","S_ETH"]
[null,"D_FIN","S_FIN"]
[null,"D_FJI","S_FJI"]
[null,"D_FRA","S_FRA"]
[null,"D_FSM","S_FSM"]
[null,"D_GAB","S_GAB"]
[null,"D_GBR","S_GBR"]
[null,"D_GEO","S_GEO"]
[null,"D_GHA","S_GHA"]
[null,"D_GIN","S_GIN"]
[null,"D_GMB","S_GMB"]
[null,"D_GNB","S_GNB"]
[null,"D_GNQ","S_GNQ"]
[null,"D_GRC","S_GRC"]
[null,"D_GRD","S_GRD"]
[null,"D_GTM","S_GTM"]
[null,"D_GUY","S_GUY"]
[null,"D_HND","S_HND"]
[null,"D_HRV","S_HRV"]
[null,"D_HTI","S_HTI"]
[null,"D_HUN","S_HUN"]
[null,"D_IDN","S_IDN"]
[null,"D_IND","S_IND"]
[null,"D_IRL","S_IRL"]
[null,"D_IRN","S_IRN"]
[null,"D_IRQ","S_IRQ"]
[null,"D_ISL","S_ISL"]
[null,"D_ISR","S_ISR"]
[null,"D_ITA","S_ITA"]
[null,"D_JAM","S_JAM"]
[null,"D_JOR","S_JOR"]
[null,"D_JPN","S_JPN"]
[null,"D_KAZ","S_KAZ"]
[null,"D_KEN","S_KEN"]
[null,"D_KGZ","S_KGZ"]
[null,"D_KHM","S_KHM"]
[null,"D_KIR","S_KIR"]
[null,"D_KOR","S_KOR"]
[null,"D_KWT","S_KWT"]
[null,"D_LAO","S_LAO"]
[null,"D_LBN","S_LBN"]
[null,"D_LBR","S_LBR"]
[null,"D_LBY","S_LBY"]
[null,"D_LCA","S_LCA"]
[null,"D_LIE","S_LIE"]
[null,"D_LKA","S_LKA"]
[null,"D_LSO","S_LSO"]
[null,"D_LTU","S_LTU"]
[null,"D_LUX","S_LUX"]
[null,"D_LVA","S_LVA"]
[null,"D_MAR","S_MAR"]
[null,"D_MCO","S_MCO"]
[null,"D_MDA","S_MDA"]
[null,"D_MDG","S_MDG"]
[null,"D_MDV","S_MDV"]
[null,"D_MEX","S_MEX"]
[null,"D_MHL","S_MHL"]
[null,"D_MKD","S_MKD"]
[null,"D_MLI","S_MLI"]
[null,"D_MLT","S_MLT"]
[null,"D_MMR","S_MMR"]
[null,"D_MNG","S_MNG"]
[null,"D_MOZ","S_MOZ"]
[null,"D_MRT","S_MRT"]
[null,"D_MUS","S_MUS"]
[null,"D_MWI","S_MWI"]
[null,"D_MYS","S_MYS"]
[null,"D_NAM","S_NAM"]
[null,"D_NER","S_NER"]
[null,"D_NGA","S_NGA"]
[null,"D_NIC","S_NIC"]
[null,"D_NLD","S_NLD"]
[null,"D_NOR","S_NOR"]
[null,"D_NPL","S_NPL"]
[null,"D_NRU","S_NRU"]
[null,"D_NZL","S_NZL"]
[null,"D_OMN","S_OMN"]
[null,"D_PAK","S_PAK"]
[null,"D_PAN","S_PAN"]
[null,"D_PER","S_PER"]
[null,"D_PHL","S_PHL"]
[null,"D_PLW","S_PLW"]
[null,"D_PNG","S_PNG"]
[null,"D_POL","S_POL"]
[null,"D_PRK","S_PRK"]
[null,"D_PRT","S_PRT"]
[null,"D_PRY","S_PRY"]
[null,"D_QAT","S_QAT"]
[null,"D_ROM","S_ROM"]
[null,"D_RUS","S_RUS"]
[null,"D_RWA","S_RWA"]
[null,"D_SAU","S_SAU"]
[null,"D_SDN","S_SDN"]
[null,"D_SEN","S_SEN"]
[null,"D_SGP","S_SGP"]
[null,"D_SLB","S_SLB"]
[null,"D_SLE","S_SLE"]
[null,"D_SLV","S_SLV"]
[null,"D_SOM","S_SOM"]
[null,"D_SR","S_SR"]
[null,"D_SUR","S_SUR"]
[null,"D_SVK","S_SVK"]
[null,"D_SVN","S_SVN"]
[null,"D_SWE","S_SWE"]
[null,"D_SWZ","S_SWZ"]
[null,"D_SYC","S_SYC"]
[null,"D_SYR","S_SYR"]
[null,"D_TAI","S_TAI"]
[null,"D_TCD","S_TCD"]
[null,"D_TGO","S_TGO"]
[null,"D_THA","S_THA"]
[null,"D_TJK","S_TJK"]
[null,"D_TKM","S_TKM"]
[null,"D_TMP","S_TMP"]
[null,"D_TON","S_TON"]
[null,"D_TTO","S_TTO"]
[null,"D_TUN","S_TUN"]
[null,"D_TUR","S_TUR"]
[null,"D_TUV","S_TUV"]
[null,"D_TWN","S_TWN"]
[null,"D_TZA","S_TZA"]
[null,"D_UGA","S_UGA"]
[null,"D_UKR","S_UKR"]
[null,"D_URY","S_URY"]
[null,"D_USA","S_USA"]
[null,"D_UZB","S_UZB"]
[null,"D_VEN","S_VEN"]
[null,"D_VNM","S_VNM"]
[null,"D_VUT","S_VUT"]
[null,"D_WSM","S_WSM"]
[null,"D_YEM","S_YEM"]
[null,"D_ZAF","S_ZAF"]
[null,"D_ZWB","S_ZWB"]
[null,"D_ZWE","S_ZWE"]

{"sheet":"Pivot","index":3,"n_rows":161,"n_cols":46,"rows_kept":161,"cut":false,"hidden":true,"merged":[[2,3,2,4],[2,7,2,8],[2,5,2,6]]}
["Job Type","(All)"]
[null,null,null,null,null,null,null,null,null,null,null,"clean Country","(Multiple Items)"]
["Row Labels","Average of Salary in USD","Count of Unique ID","Avg Overall",null,"Avg ANALYST",null,"AVG MANAGER",null,null,null,null,null,null,null,null,null,"salary","count","Average of Years of Experience"]
["USA",72738.12965964344,617,"USA",72738.12965964344,"USA",62583.737373737371,"IND",15642.546484974018,null,null,null,"Values",null,null,null,"Accountant",56254.205053704041,121,9.3333333333333339,"Accountant",null,null,null,null,null,null,null,null,null,null,null,null,null,"Country","Job","Country","Salary (USD)","Job","Respondants"]
["India",13529.430894182482,565,"IND",13529.430894182482,"IND",11264.716264070181,"USA",77581.710344827588,null,null,"Job Type","Average of Salary in USD","Count of Unique ID",null,null,"Analyst",47076.271579145701,694,7.2947261663285996,"Analyst",null,null,null,null,null,null,null,null,"NOR",99016.174371435307,null,null,null,"USA","Accountant",{"$f":"VLOOKUP(AI5,$AS$17:$AT$43,2,0)","v":1},64737.190476190473,{"$f":"VLOOKUP(AJ5,$AS$5:$AT$15,2,0)","v":1},42,null,null,null,null,"Accountant",1]
["UK",67240.730112795849,154,"GBR",67240.730112795849,"GBR",57469.449414841118,"GBR",66390.12811100109,null,null,"Accountant",56254.205053704041,121,null,null,"Consultant",64329.565583209107,84,9.2452830188679247,"Consultant",null,null,null,null,null,null,null,null,"AUS",92857.629854916348,null,null,null,"USA","Analyst",{"$f":"VLOOKUP(AI6,$AS$17:$AT$43,2,0)","v":1},62583.737373737371,{"$f":"VLOOKUP(AJ6,$AS$5:$AT$15,2,0)","v":2},297,null,null,null,null,"Analyst",2]
["Australia",92857.629854916348,81,"AUS",92857.629854916348,"AUS",86525.394195457935,"AUS",95631.029699178704,null,null,"Analyst",47076.271579145701,694,null,null,"Controller",66864.484858455166,55,11.733333333333333,"Controller",null,null,null,null,null,null,null,null,"CAN",89799.526836779929,null,null,null,"USA","Consultant",1,98388.888888888891,3,18,null,null,null,null,"Consultant",3]
["Canada",89799.526836779929,58,"CAN",89799.526836779929,"CAN",63558.641342985735,"CAN",70334.475671635912,null,null,"Consultant",64329.565583209107,84,null,null,"CXO or Top Mgmt.",98289.713681683977,71,13.602272727272727,"CXO or Top Mgmt.",null,null,null,null,null,null,null,null,"DNK",82525.525402351297,null,null,null,"USA","Controller",1,87813.23529411765,4,17,null,null,null,null,"Controller",4]
["Pakistan",11873.552586779413,29,"PAK",11873.552586779413,"NLD",62090.772580714816,"PAK",10382.341810335902,null,null,"Controller",66864.484858455166,55,null,null,"Engineer",52679.941362757236,69,7.958333333333333,"Engineer",null,null,null,null,null,null,null,null,"DEU",79637.147017647629,null,null,null,"USA","CXO or Top Mgmt.",1,125615.38461538461,5,39,null,null,null,null,"CXO or Top Mgmt.",5]
["Netherlands",73006.431203838249,23,"NLD",73006.431203838249,"BRA",34591.322588559458,"ARE",50759.038190313891,null,null,"CXO or Top Mgmt.",98289.713681683977,71,null,null,"Manager",46683.104881983985,514,9.9102493074792246,"Manager",null,null,null,null,null,null,null,null,"NLD",73006.431203838249,null,null,null,"USA","Engineer",1,72056.153846153844,6,26,null,null,null,null,"Engineer",6]
["South Africa",49555.624994016209,19,"ZAF",49555.624994016209,"NZL",53990.226887226367,null,null,null,null,"Engineer",52679.941362757236,69,null,null,"Misc.",45952.334217962802,7,6.166666666666667,"Misc.",null,null,null,null,null,null,null,null,"USA",72738.12965964344,null,null,null,"USA","Manager",1,77581.710344827588,7,145,null,null,null,null,"Manager",7]
["UAE",43014.900191685309,19,"ARE",43014.900191685309,"PAK",14887,null,null,null,null,"Manager",46683.104881983985,514,null,null,"Reporting",19409.107948456251,77,5.21060606060606,"Reporting",null,null,null,null,null,null,null,null,"NZL",70287.554967112796,null,null,null,"USA","Misc.",1,83820.333333333328,8,3,null,null,null,null,"Misc.",8]
["Germany",79637.147017647629,17,"DEU",79637.147017647629,null,null,null,null,null,null,"Misc.",45952.334217962802,7,null,null,"Specialist",61916.568790768935,48,9.2592592592592595,"Specialist",null,null,null,null,null,null,null,null,"GBR",67240.730112795849,null,null,null,"USA","Reporting",1,58200,9,5,null,null,null,null,"Reporting",9]
["Brazil",44287.984205099929,17,"BRA",44287.984205099929,null,null,null,null,null,null,"Reporting",19409.107948456251,77,null,null,null,null,null,null,null,null,null,null,null,null,null,null,null,"FRA",56952.725049143286,null,null,null,"USA","Specialist",1,69800,10,25,null,null,null,null,"Specialist",10]
["New Zealand",70287.554967112796,15,"NZL",70287.554967112796,null,null,null,null,null,null,"Specialist",61916.568790768935,48,null,null,"Analyst",43819.276613241367,57,8.0878048780487806,"1 or 2 hours a day",null,null,null,null,null,null,null,null,"RUS",55905.222222222219,null,null,null,"India","Accountant",2,10766.881887825843,1,29]
["Singapore",52154.754053796576,13,"SGP",52154.754053796576,null,null,null,null,null,null,"Grand Total",50549.244799950196,1740,null,null,"Analyst",48572.511802634945,137,7.9584158415841584,"2 to 3 hours per day",null,null,null,null,null,null,null,null,"SGP",52154.754053796576,null,null,null,"India","Analyst",2,11264.716264070179,2,189]
["Saudi Arabia",35832.121212121208,11,"SAU",35832.121212121208,null,null,null,null,null,null,null,null,null,null,null,"Analyst",47705.91094588126,329,7.4029914529914524,"4 to 6 hours a day",null,null,null,null,null,null,null,null,"ZAF",49555.624994016209,null,null,null,"India","Consultant",2,13928.395969712295,3,20,null,null,null,null,"USA",1]
["Philippines",17479.292364753517,11,"PHL",17479.292364753517,null,null,null,null,null,null,null,null,null,null,null,"Analyst",42953.141493969306,215,6.5853333333333337,"All the 8 hours baby, all the 8!",null,null,null,null,null,null,null,null,"ITA",47258.859130487806,null,null,null,"India","Controller",2,10468.177151120017,4,7,null,null,null,null,"India",2]
["Spain",46235.660112252495,10,"ESP",46235.660112252495,null,null,null,null,null,null,null,null,null,null,null,null,null,null,null,null,null,null,null,null,null,null,null,null,"ESP",46235.660112252495,null,null,null,"India","CXO or Top Mgmt.",2,28659.371813410293,5,13,null,null,null,null,"UK",3]
["Mexico",32138.498288519273,10,"MEX",32138.498288519273,null,null,null,null,null,null,null,null,null,null,null,"Manager",57523.37251198075,65,11.502083333333333,"1 or 2 hours a day",null,null,null,null,null,null,null,null,"BRA",44287.984205099929,null,null,null,"India","Engineer",2,12397.82557404629,6,22,null,null,null,null,"Australia",4]
["Portugal",32907.763410971675,10,"PRT",32907.763410971675,null,null,null,null,null,null,null,null,null,null,null,"Manager",48023.281907762757,166,10.153043478260869,"2 to 3 hours per day",null,null,null,null,null,null,null,null,"ARE",43014.900191685309,null,null,null,"India","Manager",2,15642.546484974009,7,215,null,null,null,null,"Canada",5]
["Russia",55905.222222222219,9,"RUS",55905.222222222219,null,null,null,null,null,null,null,null,null,null,null,"Manager",47649.893196817437,215,9.2328767123287676,"4 to 6 hours a day",null,null,null,null,null,null,null,null,"SAU",35832.121212121208,null,null,null,"India","Misc.",2,17551.33488143489,8,4,null,null,null,null,"Pakistan",6]
["Indonesia",28872.83679733074,8,"IDN",28872.83679733074,null,null,null,null,null,null,null,null,null,null,null,"Manager",35434.79336782475,110,9.7277108433734956,"All the 8 hours baby, all the 8!",null,null,null,null,null,null,null,null,"POL",34210.345381590014,null,null,null,"India","Reporting",2,10314.751394359879,9,60,null,null,null,null,"Netherlands",7]
["malaysia",24996.133222785022,7,"MYS",24996.133222785022,null,null,null,null,null,null,"clean Country","(Multiple Items)",null,null,null,null,null,null,null,null,null,null,null,null,null,null,null,null,"PRT",32907.763410971675,null,null,null,"India","Specialist",2,25575.072240782029,10,6,null,null,null,null,"UAE",8]
["Norway",99016.174371435307,7,"NOR",99016.174371435307,null,null,null,null,null,null,null,null,null,null,null,null,null,null,null,null,null,null,null,null,null,null,null,null,"MEX",32138.498288519273,null,null,null,"UK","Accountant",3,55820.30473645281,1,17,null,null,null,null,"South Africa",9]
["Denmark",82525.525402351297,6,"DNK",82525.525402351297,null,null,null,null,null,null,null,"Values",null,null,null,null,null,null,null,null,null,null,null,null,null,null,null,null,"IDN",28872.83679733074,null,null,null,"UK","Analyst",3,57469.449414841103,2,58,null,null,null,null,"Germany",10]
["Romania",16449.976756585475,6,"ROM",16449.976756585475,null,null,null,null,null,null,"Job Type","Average of Salary in USD","Count of Unique ID","Sum of Years of Experience","Count of Years of Experience2","Average of Years of Experience",null,null,null,null,null,null,null,null,null,null,null,null,"MYS",24996.133222785022,null,null,null,"UK","Consultant",3,83902.612935800164,3,12,null,null,null,null,"Brazil",11]
["Poland",34210.345381590014,6,"POL",34210.345381590014,null,null,null,null,null,null,"Accountant",56254.205053704041,121,840,90,9.3333333333333339,{"$f":"O28/P28","v":9.3333333333333339},null,null,null,null,null,null,null,null,null,null,null,"PHL",17479.292364753517,null,null,null,"UK","Controller",3,109281.69352999836,4,6,null,null,null,null,"New Zealand",12]
["France",56952.725049143286,6,"FRA",56952.725049143286,null,null,null,null,null,null,"Analyst",47076.271579145701,694,3596.2999999999997,493,7.2947261663285996,{"$f":"O29/P29","v":7.2947261663285996},null,null,null,null,null,null,null,null,null,null,null,"ROM",16449.976756585475,null,null,null,"UK","CXO or Top Mgmt.",3,114272.92472487809,5,6,null,null,null,null,"Singapore",13]
["italy",47258.859130487806,6,"ITA",47258.859130487806,null,null,null,null,null,null,"Consultant",64329.565583209107,84,490,53,9.2452830188679247,9.2452830188679247,null,null,null,null,null,null,null,null,null,null,null,"IND",13529.430894182482,null,null,null,"UK","Engineer",3,81372.725180708847,6,5,null,null,null,null,"Saudi Arabia",14]
["Europe",123889.35329046159,5,null,null,null,null,null,null,null,null,"Controller",66864.484858455166,55,528,45,11.733333333333333,11.733333333333333,null,null,null,null,null,null,null,null,null,null,null,"PAK",11873.552586779413,null,null,null,"UK","Manager",3,66390.12811100109,7,41,null,null,null,null,"Philippines",15]
["Colombia",12362,5,null,null,null,null,null,null,null,null,"CXO or Top Mgmt.",98289.713681683977,71,598.5,44,13.602272727272727,13.602272727272727,null,null,null,null,null,null,null,null,null,null,null,null,null,null,null,null,"UK","Reporting",3,31939.07519316065,9,4,null,null,null,null,"Spain",16]
["Sri Lanka",22921.154792448855,5,null,null,null,null,null,null,null,null,"Engineer",52679.941362757236,69,382,48,7.958333333333333,7.958333333333333,null,null,null,null,null,null,null,null,null,null,null,null,null,null,null,null,"UK","Specialist",3,93624.989360796666,10,5,null,null,null,null,"Portugal",17]
["Hungary",24716.347245901055,5,null,null,null,null,null,null,null,null,"Manager",46683.104881983985,514,3577.6,361,9.9102493074792246,9.9102493074792246,null,null,null,null,null,null,null,null,null,null,null,null,null,null,null,null,"Australia","Accountant",4,92811.778732639854,1,6,null,null,null,null,"Mexico",18]
["Ireland",61652.484774262724,5,null,null,null,null,null,null,null,null,"Misc.",45952.334217962802,7,37,6,6.166666666666667,6.166666666666667,null,null,null,null,null,null,null,null,null,null,null,null,null,null,null,null,"Australia","Analyst",4,86525.394195457935,2,38,null,null,null,null,"Russia",19]
["Israel",66840,5,null,null,null,null,null,null,null,null,"Reporting",19409.107948456251,77,343.9,66,5.21060606060606,5.21060606060606,null,null,null,null,null,null,null,null,null,null,null,null,null,null,null,null,"Australia","Consultant",4,103302.27805563841,3,7,null,null,null,null,"Indonesia",20]
["Switzerland",137525.55715529469,4,null,null,null,null,null,null,null,null,"Specialist",61916.568790768935,48,250,27,9.2592592592592595,9.2592592592592595,null,null,null,null,null,null,null,null,null,null,null,null,null,null,null,null,"Australia","Controller",4,82952.652054081045,4,3,null,null,null,null,"malaysia",21]
["Belgium",41707.21358209449,4,null,null,null,null,null,null,null,null,"Grand Total",50549.244799950196,1740,10643.300000000001,1233,8.632035685320357,null,null,null,null,null,null,null,null,null,null,null,null,null,null,null,null,null,"Australia","CXO or Top Mgmt.",4,95191.567930912672,5,3,null,null,null,null,"Norway",22]
["Ukraine",11650,4,null,null,null,null,null,null,null,null,null,null,null,null,null,null,null,null,null,null,null,null,null,null,null,null,null,null,null,null,null,null,null,"Australia","Engineer",4,163695.49985262303,6,2,null,null,null,null,"France",23]
["Dubai",32166.959188895635,4,null,null,null,null,null,null,null,null,null,null,null,null,null,null,null,null,null,null,null,null,null,null,null,null,null,null,null,null,null,null,null,"Australia","Manager",4,95631.029699178704,7,19,null,null,null,null,"Denmark",24]
["Nigeria",13494.896250642014,3,null,null,null,null,null,null,null,null,null,null,null,null,null,null,null,null,null,null,null,null,null,null,null,null,null,null,null,null,null,null,null,"Australia","Reporting",4,85000,9,1,null,null,null,null,"Poland",25]
["Brasil",33515,3,null,null,null,null,null,null,null,null,null,null,null,null,null,null,null,null,null,null,null,null,null,null,null,null,null,null,null,null,null,null,null,"Australia","Specialist",4,94851.598045445135,10,2,null,null,null,null,"Romania",26]
["Greece",30066.120056134718,3,null,null,null,null,null,null,null,null,null,null,null,null,null,null,null,null,null,null,null,null,null,null,null,null,null,null,null,null,null,null,null,"Canada","Accountant",5,680486.17393698625,1,2,null,null,null,null,"italy",27]
["Qatar",53066.666666666664,3,null,null,null,null,null,null,null,null,null,null,null,null,null,null,null,null,null,null,null,null,null,null,null,null,null,null,null,null,null,null,null,"Canada","Analyst",5,63558.641342985735,2,31]
["iran",18000,3,null,null,null,null,null,null,null,null,null,null,null,null,null,null,null,null,null,null,null,null,null,null,null,null,null,null,null,null,null,null,null,"Canada","Consultant",5,100958.44969778023,3,3]
["Finland",75389.415540034111,3,null,null,null,null,null,null,null,null,null,null,"Values",null,null,null,null,null,null,null,null,null,null,null,null,null,null,null,null,null,null,null,null,"Canada","Controller",5,89485.898595759732,4,2]
["Croatia",43489.586535798582,3,null,null,null,null,null,null,null,null,"clean Country","Job Type","Average of Salary in USD","Count of Unique ID",null,null,null,null,null,null,null,null,null,null,null,null,null,null,null,null,null,null,null,"Canada","CXO or Top Mgmt.",5,98336.152303032693,5,1]
["Japan",67564.774036395989,3,null,null,null,null,null,null,null,null,"USA","Accountant",64737.190476190473,42,null,null,null,null,null,null,null,null,null,null,null,null,null,null,null,null,null,null,null,"Canada","Engineer",5,68835.306612122877,6,1]
["Kuwait",42666.666666666664,3,null,null,null,null,null,null,null,null,"USA","Analyst",62583.737373737371,297,null,null,null,null,null,null,null,null,null,null,null,null,null,null,null,null,null,null,null,"Canada","Manager",5,70334.475671635912,7,16]
["Thailand",73000,2,null,null,null,null,null,null,null,null,"USA","Consultant",98388.888888888891,18,null,null,null,null,null,null,null,null,null,null,null,null,null,null,null,null,null,null,null,"Canada","Specialist",5,51356.055540258822,10,2]
["Bangladesh",10299.008645025993,2,null,null,null,null,null,null,null,null,"USA","Controller",87813.23529411765,17,null,null,null,null,null,null,null,null,null,null,null,null,null,null,null,null,null,null,null,"Pakistan","Accountant",6,4633.3537123836695,1,4]
["Myanmar",17700,2,null,null,null,null,null,null,null,null,"USA","CXO or Top Mgmt.",125615.38461538461,39,null,null,null,null,null,null,null,null,null,null,null,null,null,null,null,null,null,null,null,"Pakistan","Analyst",6,14887,2,6]
["CEE",87167.974754622352,2,null,null,null,null,null,null,null,null,"USA","Engineer",72056.153846153844,26,null,null,null,null,null,null,null,null,null,null,null,null,null,null,null,null,null,null,null,"Pakistan","Consultant",6,12899.157665919436,3,4]
["Sweden",84477.260092140481,2,null,null,null,null,null,null,null,null,"USA","Manager",77581.710344827588,145,null,null,null,null,null,null,null,null,null,null,null,null,null,null,null,null,null,null,null,"Pakistan","Controller",6,48000,4,1]
["china",17046.090103460039,2,null,null,null,null,null,null,null,null,"USA","Misc.",83820.333333333328,3,null,null,null,null,null,null,null,null,null,null,null,null,null,null,null,null,null,null,null,"Pakistan","Manager",6,10382.341810335902,7,13]
["Turkey",48000,2,null,null,null,null,null,null,null,null,"USA","Reporting",58200,5,null,null,null,null,null,null,null,null,null,null,null,null,null,null,null,null,null,null,null,"Pakistan","Reporting",6,1910.5359690238436,9,1]
["Zambia",13000,2,null,null,null,null,null,null,null,null,"USA","Specialist",69800,25,null,null,null,null,null,null,null,null,null,null,null,null,null,null,null,null,null,null,null,"Netherlands","Accountant",7,62564.631571458704,1,1]
["Panama",44759.985974790194,2,null,null,null,null,null,null,null,null,"Grand Total",null,72738.12965964344,617,null,null,null,null,null,null,null,null,null,null,null,null,null,null,null,null,null,null,null,"Netherlands","Analyst",7,62090.772580714816,2,12]
["Slovakia",13000,1,null,null,null,null,null,null,null,null,null,null,null,null,null,null,null,null,null,null,null,null,null,null,null,null,null,null,null,null,null,null,null,"Netherlands","Consultant",7,38111.983169748237,3,1]
["Vietnam",10000,1,null,null,null,null,null,null,null,null,null,null,null,null,null,null,null,null,null,null,null,null,null,null,null,null,null,null,null,null,null,null,null,"Netherlands","Controller",7,71142.368583530042,4,2]
["Albania",20571,1,null,null,null,null,null,null,null,null,null,null,null,null,null,null,null,null,null,null,null,null,null,null,null,null,null,null,null,null,null,null,null,"Netherlands","Engineer",7,64790.371388571999,6,2]
["Lithuania",15000,1,null,null,null,null,null,null,null,null,null,null,null,null,null,null,null,null,null,null,null,null,null,null,null,null,null,null,null,null,null,null,null,"Netherlands","Manager",7,76859.166058992269,7,4]
["Bermuda",78000,1,null,null,null,null,null,null,null,null,null,null,null,null,null,null,null,null,null,null,null,null,null,null,null,null,null,null,null,null,null,null,null,"Netherlands","Reporting",7,254079.88779832155,9,1]
["arabian Gulf",21000,1,null,null,null,null,null,null,null,null,null,null,null,null,null,null,null,null,null,null,null,null,null,null,null,null,null,null,null,null,null,null,null,"UAE","Accountant",8,27000,1,4]
["Guyana",6000,1,null,null,null,null,null,null,null,null,"clean Country","(Multiple Items)",null,null,null,null,null,null,null,null,null,null,null,null,null,null,null,null,null,null,null,null,null,"UAE","Analyst",8,31677.69952987742,2,4]
["Mauritius",9376.2513877177607,1,null,null,null,null,null,null,null,null,null,null,null,null,null,null,null,null,null,null,null,null,null,null,null,null,null,null,null,null,null,null,null,"UAE","Controller",8,70250,4,2]
["Uganda",100000,1,null,null,null,null,null,null,null,null,null,null,"Values",null,null,null,null,null,null,null,null,null,null,null,null,null,null,null,null,null,null,null,null,"UAE","Engineer",8,36000,6,1]
["Costa Rica",28109.627547434993,1,null,null,null,null,null,null,null,null,"Job Type","How many hours of a day you work on Excel","Count of Unique ID","Average of Salary in USD","Average of Years of Experience",null,null,null,null,null,null,null,null,null,null,null,null,null,null,null,null,null,null,"UAE","Manager",8,50759.038190313899,7,8]
["Republica Dominicana",15404.364569961488,1,null,null,null,null,null,null,null,null,"Analyst","1 or 2 hours a day",50,45021.735675700198,7.6000000000000005,null,null,null,null,null,null,null,null,null,null,null,null,null,null,null,null,null,null,"South Africa","Accountant",9,36957.661442724799,1,2]
["Mongolia",7261.724659606657,1,null,null,null,null,null,null,null,null,null,"2 to 3 hours per day",128,49847.429882688688,8.0829787234042545,null,null,null,null,null,null,null,null,null,null,null,null,null,null,null,null,null,null,"South Africa","Analyst",{"$f":"VLOOKUP(AI70,$AS$17:$AT$43,2,0)","v":9},44070.894052411735,{"$f":"VLOOKUP(AJ70,$AS$5:$AT$15,2,0)","v":2},5]
["self-employed",50000,1,null,null,null,null,null,null,null,null,null,"4 to 6 hours a day",316,47571.594891279143,7.3713004484304934,null,null,null,null,null,null,null,null,null,null,null,null,null,null,null,null,null,null,"South Africa","Consultant",9,82000,3,1]
["Montenegro",13500,1,null,null,null,null,null,null,null,null,null,"All the 8 hours baby, all the 8!",195,44570.753902359298,6.6007194244604319,null,null,null,null,null,null,null,null,null,null,null,null,null,null,null,null,null,null,"South Africa","Controller",9,9509.8988293070688,4,1]
["Somalia",78000,1,null,null,null,null,null,null,null,null,null,"Excel ?!? What Excel?",5,63090.734110736055,1.6,null,null,null,null,null,null,null,null,null,null,null,null,null,null,null,null,null,null,"South Africa","CXO or Top Mgmt.",9,69815.306791774667,5,2]
["Morocco",13745.704467353951,1,null,null,null,null,null,null,null,null,"Manager","1 or 2 hours a day",59,58800.181029965359,11.859523809523811,null,null,null,null,null,null,null,null,null,null,null,null,null,null,null,null,null,null,"South Africa","Manager",9,64096.11386518865,7,5]
["Central America",95000,1,null,null,null,null,null,null,null,null,null,"2 to 3 hours per day",157,47650.392661857601,10.229906542056074,null,null,null,null,null,null,null,null,null,null,null,null,null,null,null,null,null,null,"South Africa","Reporting",9,28500,9,2]
["mozambique",24000,1,null,null,null,null,null,null,null,null,null,"4 to 6 hours a day",198,48005.841925370354,9.1240875912408761,null,null,null,null,null,null,null,null,null,null,null,null,null,null,null,null,null,null,"South Africa","Specialist",9,38666,10,1]
["Lesotho",177600,1,null,null,null,null,null,null,null,null,null,"All the 8 hours baby, all the 8!",98,35230.988565682208,9.8479452054794532,null,null,null,null,null,null,null,null,null,null,null,null,null,null,null,null,null,null,"Germany","Analyst",10,74545.578120672697,2,4]
["Kenya",51497.005988023957,1,null,null,null,null,null,null,null,null,null,"Excel ?!? What Excel?",2,43500,8,null,null,null,null,null,null,null,null,null,null,null,null,null,null,null,null,null,null,"Germany","Consultant",10,67977.978260924807,3,4]
["Libya",24864,1,null,null,null,null,null,null,null,null,"Grand Total",null,1208,46908.980451379859,8.400351288056207,null,null,null,null,null,null,null,null,null,null,null,null,null,null,null,null,null,null,"Germany","Controller",10,60767.43983176523,4,3]
["MYS",12000,1,null,null,null,null,null,null,null,null,null,null,null,null,null,null,null,null,null,null,null,null,null,null,null,null,null,null,null,null,null,null,null,"Germany","Manager",10,102501.39870978233,7,5]
["Republic of Georgia",5250,1,null,null,null,null,null,null,null,null,null,null,null,null,null,null,null,null,null,null,null,null,null,null,null,null,null,null,null,null,null,null,null,"Germany","Specialist",10,88927.960729412545,10,1]
["Austria",50815.977559664309,1,null,null,null,null,null,null,null,null,null,null,null,null,null,null,null,null,null,null,null,null,null,null,null,null,null,null,null,null,null,null,null,"Brazil","Analyst",11,34591.322588559458,2,11]
["Argentina",24000,1,null,null,null,null,null,null,null,null,null,null,null,null,null,null,null,null,null,null,null,null,null,null,null,null,null,null,null,null,null,null,null,"Brazil","Consultant",11,116050,3,2]
["Czech Republic",36000,1,null,null,null,null,null,null,null,null,null,null,null,null,null,null,null,null,null,null,null,null,null,null,null,null,null,null,null,null,null,null,null,"Brazil","Controller",11,15600,4,1]
["Bhutan",4800,1,null,null,null,null,null,null,null,null,null,null,null,null,null,null,null,null,null,null,null,null,null,null,null,null,null,null,null,null,null,null,null,"Brazil","Engineer",11,49000,6,2]
["Azerbaijan",36000,1,null,null,null,null,null,null,null,null,null,null,null,null,null,null,null,null,null,null,null,null,null,null,null,null,null,null,null,null,null,null,null,"Brazil","Manager",11,26691.183012544854,7,1]
["Ghana",18000,1,null,null,null,null,null,null,null,null,null,null,null,null,null,null,null,null,null,null,null,null,null,null,null,null,null,null,null,null,null,null,null,"New Zealand","Accountant",12,66465.674467078221,1,3]
["Dominican Republic",6629,1,null,null,null,null,null,null,null,null,null,null,null,null,null,null,null,null,null,null,null,null,null,null,null,null,null,null,null,null,null,null,null,"New Zealand","Analyst",12,53990.226887226374,2,6]
["Slovenia",19055.991584874118,1,null,null,null,null,null,null,null,null,null,null,null,null,null,null,null,null,null,null,null,null,null,null,null,null,null,null,null,null,null,null,null,"New Zealand","Consultant",12,72000,3,1]
["Oman",100800,1,null,null,null,null,null,null,null,null,null,null,null,null,null,null,null,null,null,null,null,null,null,null,null,null,null,null,null,null,null,null,null,"New Zealand","Engineer",12,39879.404680246938,6,1]
["Bolivia",9600,1,null,null,null,null,null,null,null,null,null,null,null,null,null,null,null,null,null,null,null,null,null,null,null,null,null,null,null,null,null,null,null,"New Zealand","Manager",12,104773.88377546301,7,4]
["Baltic",8400,1,null,null,null,null,null,null,null,null,null,null,null,null,null,null,null,null,null,null,null,null,null,null,null,null,null,null,null,null,null,null,null,"Singapore","Accountant",13,60000,1,1]
["Hong Kong",20000,1,null,null,null,null,null,null,null,null,null,null,null,null,null,null,null,null,null,null,null,null,null,null,null,null,null,null,null,null,null,null,null,"Singapore","Analyst",13,43550,2,4]
["Bulgaria",14400,1,null,null,null,null,null,null,null,null,null,null,null,null,null,null,null,null,null,null,null,null,null,null,null,null,null,null,null,null,null,null,null,"Singapore","Consultant",13,63900,3,4]
["Armenia",6000,1,null,null,null,null,null,null,null,null,null,null,null,null,null,null,null,null,null,null,null,null,null,null,null,null,null,null,null,null,null,null,null,"Singapore","Engineer",13,47500,6,2]
["Uruguay",35000,1,null,null,null,null,null,null,null,null,null,null,null,null,null,null,null,null,null,null,null,null,null,null,null,null,null,null,null,null,null,null,null,"Singapore","Manager",13,46605.90134967777,7,2]
["Tunisia",11000,1,null,null,null,null,null,null,null,null,null,null,null,null,null,null,null,null,null,null,null,null,null,null,null,null,null,null,null,null,null,null,null,"Saudi Arabia","Accountant",14,29750,1,2]
["Viet Nam",10000,1,null,null,null,null,null,null,null,null,null,null,null,null,null,null,null,null,null,null,null,null,null,null,null,null,null,null,null,null,null,null,null,"Saudi Arabia","Analyst",14,18000,2,1]
["Iceland",41731,1,null,null,null,null,null,null,null,null,null,null,null,null,null,null,null,null,null,null,null,null,null,null,null,null,null,null,null,null,null,null,null,"Saudi Arabia","Controller",14,28480,4,2]
["Egypt",19831.432821021317,1,null,null,null,null,null,null,null,null,null,null,null,null,null,null,null,null,null,null,null,null,null,null,null,null,null,null,null,null,null,null,null,"Saudi Arabia","Engineer",14,57600,6,1]
["Aruba",5000,1,null,null,null,null,null,null,null,null,null,null,null,null,null,null,null,null,null,null,null,null,null,null,null,null,null,null,null,null,null,null,null,"Saudi Arabia","Manager",14,40418.666666666664,7,5]
["Estonia",12000,1,null,null,null,null,null,null,null,null,null,null,null,null,null,null,null,null,null,null,null,null,null,null,null,null,null,null,null,null,null,null,null,"Philippines","Accountant",15,19068,1,1]
["Ethiopia",2953.8461538461538,1,null,null,null,null,null,null,null,null,null,null,null,null,null,null,null,null,null,null,null,null,null,null,null,null,null,null,null,null,null,null,null,"Philippines","Analyst",15,44991.224389654169,2,2]
["Cambodia",3000,1,null,null,null,null,null,null,null,null,null,null,null,null,null,null,null,null,null,null,null,null,null,null,null,null,null,null,null,null,null,null,null,"Philippines","Manager",15,9458.3158508572924,7,4]
["Paraguay",20000,1,null,null,null,null,null,null,null,null,null,null,null,null,null,null,null,null,null,null,null,null,null,null,null,null,null,null,null,null,null,null,null,"Philippines","Reporting",15,14434.751914775596,9,2]
["Asia",12000,1,null,null,null,null,null,null,null,null,null,null,null,null,null,null,null,null,null,null,null,null,null,null,null,null,null,null,null,null,null,null,null,"Philippines","Specialist",15,8259.5,10,2]
["Peru",15840,1,null,null,null,null,null,null,null,null,null,null,null,null,null,null,null,null,null,null,null,null,null,null,null,null,null,null,null,null,null,null,null,"Spain","Analyst",16,30807.186395546494,2,4]
["Zimbabwe",36400,1,null,null,null,null,null,null,null,null,null,null,null,null,null,null,null,null,null,null,null,null,null,null,null,null,null,null,null,null,null,null,null,"Spain","Consultant",16,12000,3,1]
["Kuwait ",15600,1,null,null,null,null,null,null,null,null,null,null,null,null,null,null,null,null,null,null,null,null,null,null,null,null,null,null,null,null,null,null,null,"Spain","Controller",16,35571.184291765021,4,1]
["Latin America",4400,1,null,null,null,null,null,null,null,null,null,null,null,null,null,null,null,null,null,null,null,null,null,null,null,null,null,null,null,null,null,null,null,"Spain","CXO or Top Mgmt.",16,127039.94389916077,5,1]
["Grand Total",49814.598255587051,1883,null,null,null,null,null,null,null,null,null,null,null,null,null,null,null,null,null,null,null,null,null,null,null,null,null,null,null,null,null,null,null,"Spain","Engineer",16,52086.37699865592,6,1]
[null,null,null,null,null,null,null,null,null,null,null,null,null,null,null,null,null,null,null,null,null,null,null,null,null,null,null,null,null,null,null,null,null,null,"Spain","Manager",16,56215.175175378645,7,2]
[null,null,null,null,null,null,null,null,null,null,null,null,null,null,null,null,null,null,null,null,null,null,null,null,null,null,null,null,null,null,null,null,null,null,"Portugal","Accountant",17,36756.89043482385,1,3]
[null,null,null,null,null,null,null,null,null,null,null,null,null,null,null,null,null,null,null,null,null,null,null,null,null,null,null,null,null,null,null,null,null,null,"Portugal","Analyst",17,26678.388218823762,2,1]
[null,null,null,null,null,null,null,null,null,null,null,null,null,null,null,null,null,null,null,null,null,null,null,null,null,null,null,null,null,null,null,null,null,null,"Portugal","Controller",17,19818.231248269083,4,1]
[null,null,null,null,null,null,null,null,null,null,null,null,null,null,null,null,null,null,null,null,null,null,null,null,null,null,null,null,null,null,null,null,null,null,"Portugal","CXO or Top Mgmt.",17,44000,5,1]
[null,null,null,null,null,null,null,null,null,null,null,null,null,null,null,null,null,null,null,null,null,null,null,null,null,null,null,null,null,null,null,null,null,null,"Portugal","Engineer",17,63519.971949580387,6,1]
[null,null,null,null,null,null,null,null,null,null,null,null,null,null,null,null,null,null,null,null,null,null,null,null,null,null,null,null,null,null,null,null,null,null,"Portugal","Manager",17,24772.789060336348,7,2]
[null,null,null,null,null,null,null,null,null,null,null,null,null,null,null,null,null,null,null,null,null,null,null,null,null,null,null,null,null,null,null,null,null,null,"Portugal","Specialist",17,15244.793267899293,10,1]
[null,null,null,null,null,null,null,null,null,null,null,null,null,null,null,null,null,null,null,null,null,null,null,null,null,null,null,null,null,null,null,null,null,null,"Mexico","Accountant",18,15500,1,1]
[null,null,null,null,null,null,null,null,null,null,null,null,null,null,null,null,null,null,null,null,null,null,null,null,null,null,null,null,null,null,null,null,null,null,"Mexico","Analyst",18,24471.245721298183,2,4]
[null,null,null,null,null,null,null,null,null,null,null,null,null,null,null,null,null,null,null,null,null,null,null,null,null,null,null,null,null,null,null,null,null,null,"Mexico","CXO or Top Mgmt.",18,72500,5,2]
[null,null,null,null,null,null,null,null,null,null,null,null,null,null,null,null,null,null,null,null,null,null,null,null,null,null,null,null,null,null,null,null,null,null,"Mexico","Manager",18,21000,7,3]
[null,null,null,null,null,null,null,null,null,null,null,null,null,null,null,null,null,null,null,null,null,null,null,null,null,null,null,null,null,null,null,null,null,null,"Russia","Analyst",19,69000,2,3]
[null,null,null,null,null,null,null,null,null,null,null,null,null,null,null,null,null,null,null,null,null,null,null,null,null,null,null,null,null,null,null,null,null,null,"Russia","Consultant",19,36000,3,1]
[null,null,null,null,null,null,null,null,null,null,null,null,null,null,null,null,null,null,null,null,null,null,null,null,null,null,null,null,null,null,null,null,null,null,"Russia","Controller",19,24000,4,1]
[null,null,null,null,null,null,null,null,null,null,null,null,null,null,null,null,null,null,null,null,null,null,null,null,null,null,null,null,null,null,null,null,null,null,"Russia","Manager",19,50500,7,2]
[null,null,null,null,null,null,null,null,null,null,null,null,null,null,null,null,null,null,null,null,null,null,null,null,null,null,null,null,null,null,null,null,null,null,"Russia","Specialist",19,67573.5,10,2]
[null,null,null,null,null,null,null,null,null,null,null,null,null,null,null,null,null,null,null,null,null,null,null,null,null,null,null,null,null,null,null,null,null,null,"Indonesia","Analyst",20,8245.6735946614772,2,4]
[null,null,null,null,null,null,null,null,null,null,null,null,null,null,null,null,null,null,null,null,null,null,null,null,null,null,null,null,null,null,null,null,null,null,"Indonesia","Controller",20,30000,4,1]
[null,null,null,null,null,null,null,null,null,null,null,null,null,null,null,null,null,null,null,null,null,null,null,null,null,null,null,null,null,null,null,null,null,null,"Indonesia","Manager",20,56000,7,3]
[null,null,null,null,null,null,null,null,null,null,null,null,null,null,null,null,null,null,null,null,null,null,null,null,null,null,null,null,null,null,null,null,null,null,"malaysia","Analyst",21,30000,2,1]
[null,null,null,null,null,null,null,null,null,null,null,null,null,null,null,null,null,null,null,null,null,null,null,null,null,null,null,null,null,null,null,null,null,null,"malaysia","CXO or Top Mgmt.",21,35000,5,1]
[null,null,null,null,null,null,null,null,null,null,null,null,null,null,null,null,null,null,null,null,null,null,null,null,null,null,null,null,null,null,null,null,null,null,"malaysia","Engineer",{"$f":"VLOOKUP(AI134,$AS$17:$AT$43,2,0)","v":21},11404.820437438224,{"$f":"VLOOKUP(AJ134,$AS$5:$AT$15,2,0)","v":6},1]
[null,null,null,null,null,null,null,null,null,null,null,null,null,null,null,null,null,null,null,null,null,null,null,null,null,null,null,null,null,null,null,null,null,null,"malaysia","Manager",21,24642.02803051423,7,4]
[null,null,null,null,null,null,null,null,null,null,null,null,null,null,null,null,null,null,null,null,null,null,null,null,null,null,null,null,null,null,null,null,null,null,"Norway","Accountant",22,110000,1,1]
[null,null,null,null,null,null,null,null,null,null,null,null,null,null,null,null,null,null,null,null,null,null,null,null,null,null,null,null,null,null,null,null,null,null,"Norway","Analyst",22,67700.452577525488,2,1]
[null,null,null,null,null,null,null,null,null,null,null,null,null,null,null,null,null,null,null,null,null,null,null,null,null,null,null,null,null,null,null,null,null,null,"Norway","Controller",22,105000,4,2]
[null,null,null,null,null,null,null,null,null,null,null,null,null,null,null,null,null,null,null,null,null,null,null,null,null,null,null,null,null,null,null,null,null,null,"Norway","Manager",22,101804.25600750721,7,3]
[null,null,null,null,null,null,null,null,null,null,null,null,null,null,null,null,null,null,null,null,null,null,null,null,null,null,null,null,null,null,null,null,null,null,"France","Analyst",23,41923.181486723057,2,1]
[null,null,null,null,null,null,null,null,null,null,null,null,null,null,null,null,null,null,null,null,null,null,null,null,null,null,null,null,null,null,null,null,null,null,"France","Consultant",23,67458.210210454374,3,2]
[null,null,null,null,null,null,null,null,null,null,null,null,null,null,null,null,null,null,null,null,null,null,null,null,null,null,null,null,null,null,null,null,null,null,"France","Manager",23,54958.916129075973,7,3]
[null,null,null,null,null,null,null,null,null,null,null,null,null,null,null,null,null,null,null,null,null,null,null,null,null,null,null,null,null,null,null,null,null,null,"Denmark","Analyst",24,106000,2,1]
[null,null,null,null,null,null,null,null,null,null,null,null,null,null,null,null,null,null,null,null,null,null,null,null,null,null,null,null,null,null,null,null,null,null,"Denmark","Consultant",24,20000,3,1]
[null,null,null,null,null,null,null,null,null,null,null,null,null,null,null,null,null,null,null,null,null,null,null,null,null,null,null,null,null,null,null,null,null,null,"Denmark","Controller",24,82888.5550559455,4,1]
[null,null,null,null,null,null,null,null,null,null,null,null,null,null,null,null,null,null,null,null,null,null,null,null,null,null,null,null,null,null,null,null,null,null,"Denmark","CXO or Top Mgmt.",24,76906.906752939132,5,1]
[null,null,null,null,null,null,null,null,null,null,null,null,null,null,null,null,null,null,null,null,null,null,null,null,null,null,null,null,null,null,null,null,null,null,"Denmark","Engineer",24,102542.54233725216,6,1]
[null,null,null,null,null,null,null,null,null,null,null,null,null,null,null,null,null,null,null,null,null,null,null,null,null,null,null,null,null,null,null,null,null,null,"Denmark","Manager",24,106815.148267971,7,1]
[null,null,null,null,null,null,null,null,null,null,null,null,null,null,null,null,null,null,null,null,null,null,null,null,null,null,null,null,null,null,null,null,null,null,"Poland","Analyst",25,18406.294596737382,2,3]
[null,null,null,null,null,null,null,null,null,null,null,null,null,null,null,null,null,null,null,null,null,null,null,null,null,null,null,null,null,null,null,null,null,null,"Poland","Consultant",25,96000,3,1]
[null,null,null,null,null,null,null,null,null,null,null,null,null,null,null,null,null,null,null,null,null,null,null,null,null,null,null,null,null,null,null,null,null,null,"Poland","Manager",25,27021.59424966398,7,2]
[null,null,null,null,null,null,null,null,null,null,null,null,null,null,null,null,null,null,null,null,null,null,null,null,null,null,null,null,null,null,null,null,null,null,"Romania","Accountant",26,8500,1,1]
[null,null,null,null,null,null,null,null,null,null,null,null,null,null,null,null,null,null,null,null,null,null,null,null,null,null,null,null,null,null,null,null,null,null,"Romania","Analyst",26,7500,2,1]
[null,null,null,null,null,null,null,null,null,null,null,null,null,null,null,null,null,null,null,null,null,null,null,null,null,null,null,null,null,null,null,null,null,null,"Romania","Manager",26,17100,7,2]
[null,null,null,null,null,null,null,null,null,null,null,null,null,null,null,null,null,null,null,null,null,null,null,null,null,null,null,null,null,null,null,null,null,null,"Romania","Reporting",26,30000,9,1]
[null,null,null,null,null,null,null,null,null,null,null,null,null,null,null,null,null,null,null,null,null,null,null,null,null,null,null,null,null,null,null,null,null,null,"Romania","Specialist",26,18499.860539512854,10,1]
[null,null,null,null,null,null,null,null,null,null,null,null,null,null,null,null,null,null,null,null,null,null,null,null,null,null,null,null,null,null,null,null,null,null,"italy","Accountant",27,63519.971949580387,1,1]
[null,null,null,null,null,null,null,null,null,null,null,null,null,null,null,null,null,null,null,null,null,null,null,null,null,null,null,null,null,null,null,null,null,null,"italy","Analyst",27,50307.817784067673,2,2]
[null,null,null,null,null,null,null,null,null,null,null,null,null,null,null,null,null,null,null,null,null,null,null,null,null,null,null,null,null,null,null,null,null,null,"italy","Consultant",27,19055.991584874118,3,1]
[null,null,null,null,null,null,null,null,null,null,null,null,null,null,null,null,null,null,null,null,null,null,null,null,null,null,null,null,null,null,null,null,null,null,"italy","Controller",27,30489.586535798586,4,1]
[null,null,null,null,null,null,null,null,null,null,null,null,null,null,null,null,null,null,null,null,null,null,null,null,null,null,null,null,null,null,null,null,null,null,"italy","CXO or Top Mgmt.",27,69871.969144538423,5,1]

{"sheet":"Sheet1","index":4,"n_rows":1884,"n_cols":11,"rows_kept":1884,"cut":false,"hidden":true,"merged":[]}
["Unique ID","Timestamp","clean Salary (in local currency)","Currency","Salary in USD","Your Job Title","Job Type","Where do you work","clean Country","How many hours of a day you work on Excel","Years of Experience"]
["ID0001","2012-05-25T03:11:32",5846,"USD",{"$f":"tblSalaries[[#This Row],[clean Salary (in local currency)]]*VLOOKUP(tblSalaries[[#This Row],[Currency]],[1]!tblXrate[#Data],2,FALSE)","v":5846},"MIS Analyst","Analyst","India",{"$f":"VLOOKUP(tblSalaries[[#This Row],[Where do you work]],[1]!tblCountries[[Actual]:[Mapping]],2,FALSE)","v":"India"},"4 to 6 hours a day"]
["ID0002","2012-05-25T03:13:13",15000,"USD",{"$f":"tblSalaries[[#This Row],[clean Salary (in local currency)]]*VLOOKUP(tblSalaries[[#This Row],[Currency]],[1]!tblXrate[#Data],2,FALSE)","v":15000},"cost control","Controller","europe/Croatia",{"$f":"VLOOKUP(tblSalaries[[#This Row],[Where do you work]],[1]!tblCountries[[Actual]:[Mapping]],2,FALSE)","v":"Croatia"},"All the 8 hours baby, all the 8!"]
["ID0003","2012-05-25T03:16:26",58000,"USD",{"$f":"tblSalaries[[#This Row],[clean Salary (in local currency)]]*VLOOKUP(tblSalaries[[#This Row],[Currency]],[1]!tblXrate[#Data],2,FALSE)","v":58000},"Financial Analyst","Analyst","USA",{"$f":"VLOOKUP(tblSalaries[[#This Row],[Where do you work]],[1]!tblCountries[[Actual]:[Mapping]],2,FALSE)","v":"USA"},"All the 8 hours baby, all the 8!"]
["ID0004","2012-05-25T03:23:42",48000,"USD",{"$f":"tblSalaries[[#This Row],[clean Salary (in local currency)]]*VLOOKUP(tblSalaries[[#This Row],[Currency]],[1]!tblXrate[#Data],2,FALSE)","v":48000},"Quality Control","Controller","Pakistan",{"$f":"VLOOKUP(tblSalaries[[#This Row],[Where do you work]],[1]!tblCountries[[Actual]:[Mapping]],2,FALSE)","v":"Pakistan"},"2 to 3 hours per day"]
["ID0005","2012-05-25T03:27:04",54000,"USD",{"$f":"tblSalaries[[#This Row],[clean Salary (in local currency)]]*VLOOKUP(tblSalaries[[#This Row],[Currency]],[1]!tblXrate[#Data],2,FALSE)","v":54000},"Quality Engineer","Engineer","USA",{"$f":"VLOOKUP(tblSalaries[[#This Row],[Where do you work]],[1]!tblCountries[[Actual]:[Mapping]],2,FALSE)","v":"USA"},"All the 8 hours baby, all the 8!"]
["ID0006","2012-05-25T03:28:28",41731,"USD",{"$f":"tblSalaries[[#This Row],[clean Salary (in local currency)]]*VLOOKUP(tblSalaries[[#This Row],[Currency]],[1]!tblXrate[#Data],2,FALSE)","v":41731},"Analyst","Analyst","Iceland",{"$f":"VLOOKUP(tblSalaries[[#This Row],[Where do you work]],[1]!tblCountries[[Actual]:[Mapping]],2,FALSE)","v":"Iceland"},"All the 8 hours baby, all the 8!"]
["ID0007","2012-05-25T03:33:51",145000,"EUR",{"$f":"tblSalaries[[#This Row],[clean Salary (in local currency)]]*VLOOKUP(tblSalaries[[#This Row],[Currency]],[1]!tblXrate[#Data],2,FALSE)","v":184207.91865378313},"senior project manager","Manager","Germany",{"$f":"VLOOKUP(tblSalaries[[#This Row],[Where do you work]],[1]!tblCountries[[Actual]:[Mapping]],2,FALSE)","v":"Germany"},"1 or 2 hours a day"]
["ID0008","2012-05-25T03:36:37",12000,"USD",{"$f":"tblSalaries[[#This Row],[clean Salary (in local currency)]]*VLOOKUP(tblSalaries[[#This Row],[Currency]],[1]!tblXrate[#Data],2,FALSE)","v":12000},"Assistant SP&A","Analyst","Ukraine",{"$f":"VLOOKUP(tblSalaries[[#This Row],[Where do you work]],[1]!tblCountries[[Actual]:[Mapping]],2,FALSE)","v":"Ukraine"},"All the 8 hours baby, all the 8!"]
["ID0009","2012-05-25T03:37:17",44000,"USD",{"$f":"tblSalaries[[#This Row],[clean Salary (in local currency)]]*VLOOKUP(tblSalaries[[#This Row],[Currency]],[1]!tblXrate[#Data],2,FALSE)","v":44000},"CFO","CXO or Top Mgmt.","Portugal",{"$f":"VLOOKUP(tblSalaries[[#This Row],[Where do you work]],[1]!tblCountries[[Actual]:[Mapping]],2,FALSE)","v":"Portugal"},"1 or 2 hours a day"]
["ID0010","2012-05-25T03:38:57",1152000,"PKR",{"$f":"tblSalaries[[#This Row],[clean Salary (in local currency)]]*VLOOKUP(tblSalaries[[#This Row],[Currency]],[1]!tblXrate[#Data],2,FALSE)","v":12227.430201752599},"Audit Trainee ","Accountant","Pakistan",{"$f":"VLOOKUP(tblSalaries[[#This Row],[Where do you work]],[1]!tblCountries[[Actual]:[Mapping]],2,FALSE)","v":"Pakistan"},"All the 8 hours baby, all the 8!"]
["ID0011","2012-05-25T03:43:45",51650,"EUR",{"$f":"tblSalaries[[#This Row],[clean Salary (in local currency)]]*VLOOKUP(tblSalaries[[#This Row],[Currency]],[1]!tblXrate[#Data],2,FALSE)","v":65616.131023916547},"Training Specialist","Specialist","Ireland",{"$f":"VLOOKUP(tblSalaries[[#This Row],[Where do you work]],[1]!tblCountries[[Actual]:[Mapping]],2,FALSE)","v":"Ireland"},"2 to 3 hours per day"]
["ID0012","2012-05-25T03:43:56",14000,"USD",{"$f":"tblSalaries[[#This Row],[clean Salary (in local currency)]]*VLOOKUP(tblSalaries[[#This Row],[Currency]],[1]!tblXrate[#Data],2,FALSE)","v":14000},"quality engineer","Engineer","Hungary",{"$f":"VLOOKUP(tblSalaries[[#This Row],[Where do you work]],[1]!tblCountries[[Actual]:[Mapping]],2,FALSE)","v":"Hungary"},"4 to 6 hours a day"]
["ID0013","2012-05-25T03:48:53",749000,"INR",{"$f":"tblSalaries[[#This Row],[clean Salary (in local currency)]]*VLOOKUP(tblSalaries[[#This Row],[Currency]],[1]!tblXrate[#Data],2,FALSE)","v":13338.129598894484},"Senion Analyst","Analyst","India",{"$f":"VLOOKUP(tblSalaries[[#This Row],[Where do you work]],[1]!tblCountries[[Actual]:[Mapping]],2,FALSE)","v":"India"},"All the 8 hours baby, all the 8!"]
["ID0014","2012-05-25T03:50:58",49000,"USD",{"$f":"tblSalaries[[#This Row],[clean Salary (in local currency)]]*VLOOKUP(tblSalaries[[#This Row],[Currency]],[1]!tblXrate[#Data],2,FALSE)","v":49000},"business analyst","Analyst","USA",{"$f":"VLOOKUP(tblSalaries[[#This Row],[Where do you work]],[1]!tblCountries[[Actual]:[Mapping]],2,FALSE)","v":"USA"},"All the 8 hours baby, all the 8!"]
["ID0015","2012-05-25T03:53:22",85000,"USD",{"$f":"tblSalaries[[#This Row],[clean Salary (in local currency)]]*VLOOKUP(tblSalaries[[#This Row],[Currency]],[1]!tblXrate[#Data],2,FALSE)","v":85000},"Project Engineer","Engineer","USA",{"$f":"VLOOKUP(tblSalaries[[#This Row],[Where do you work]],[1]!tblCountries[[Actual]:[Mapping]],2,FALSE)","v":"USA"},"1 or 2 hours a day"]
["ID0016","2012-05-25T03:56:40",75000,"USD",{"$f":"tblSalaries[[#This Row],[clean Salary (in local currency)]]*VLOOKUP(tblSalaries[[#This Row],[Currency]],[1]!tblXrate[#Data],2,FALSE)","v":75000},"Sr Project Engineer","Engineer","USA",{"$f":"VLOOKUP(tblSalaries[[#This Row],[Where do you work]],[1]!tblCountries[[Actual]:[Mapping]],2,FALSE)","v":"USA"},"All the 8 hours baby, all the 8!"]
["ID0017","2012-05-25T04:10:11",107000,"USD",{"$f":"tblSalaries[[#This Row],[clean Salary (in local currency)]]*VLOOKUP(tblSalaries[[#This Row],[Currency]],[1]!tblXrate[#Data],2,FALSE)","v":107000},"Business Development","Manager","Switzerland",{"$f":"VLOOKUP(tblSalaries[[#This Row],[Where do you work]],[1]!tblCountries[[Actual]:[Mapping]],2,FALSE)","v":"Switzerland"},"4 to 6 hours a day"]
["ID0018","2012-05-25T04:10:44",45000,"USD",{"$f":"tblSalaries[[#This Row],[clean Salary (in local currency)]]*VLOOKUP(tblSalaries[[#This Row],[Currency]],[1]!tblXrate[#Data],2,FALSE)","v":45000},"Excel Report Writer","Reporting","South Africa",{"$f":"VLOOKUP(tblSalaries[[#This Row],[Where do you work]],[1]!tblCountries[[Actual]:[Mapping]],2,FALSE)","v":"South Africa"},"All the 8 hours baby, all the 8!"]
["ID0019","2012-05-25T04:16:32",550000,"INR",{"$f":"tblSalaries[[#This Row],[clean Salary (in local currency)]]*VLOOKUP(tblSalaries[[#This Row],[Currency]],[1]!tblXrate[#Data],2,FALSE)","v":9794.354178093412},"AGM","Manager","India",{"$f":"VLOOKUP(tblSalaries[[#This Row],[Where do you work]],[1]!tblCountries[[Actual]:[Mapping]],2,FALSE)","v":"India"},"2 to 3 hours per day"]
["ID0020","2012-05-25T04:19:22",50000,"USD",{"$f":"tblSalaries[[#This Row],[clean Salary (in local currency)]]*VLOOKUP(tblSalaries[[#This Row],[Currency]],[1]!tblXrate[#Data],2,FALSE)","v":50000},"GM","Manager","India",{"$f":"VLOOKUP(tblSalaries[[#This Row],[Where do you work]],[1]!tblCountries[[Actual]:[Mapping]],2,FALSE)","v":"India"},"1 or 2 hours a day"]
["ID0021","2012-05-25T04:24:01",13500,"USD",{"$f":"tblSalaries[[#This Row],[clean Salary (in local currency)]]*VLOOKUP(tblSalaries[[#This Row],[Currency]],[1]!tblXrate[#Data],2,FALSE)","v":13500},"DSE Co-ordinator","Manager","India",{"$f":"VLOOKUP(tblSalaries[[#This Row],[Where do you work]],[1]!tblCountries[[Actual]:[Mapping]],2,FALSE)","v":"India"},"4 to 6 hours a day"]
["ID0022","2012-05-25T04:24:12",96000,"USD",{"$f":"tblSalaries[[#This Row],[clean Salary (in local currency)]]*VLOOKUP(tblSalaries[[#This Row],[Currency]],[1]!tblXrate[#Data],2,FALSE)","v":96000},"Analyst","Analyst","USA",{"$f":"VLOOKUP(tblSalaries[[#This Row],[Where do you work]],[1]!tblCountries[[Actual]:[Mapping]],2,FALSE)","v":"USA"},"2 to 3 hours per day"]
["ID0023","2012-05-25T04:31:41",1000000,"INR",{"$f":"tblSalaries[[#This Row],[clean Salary (in local currency)]]*VLOOKUP(tblSalaries[[#This Row],[Currency]],[1]!tblXrate[#Data],2,FALSE)","v":17807.916687442568},"Manager","Manager","India",{"$f":"VLOOKUP(tblSalaries[[#This Row],[Where do you work]],[1]!tblCountries[[Actual]:[Mapping]],2,FALSE)","v":"India"},"4 to 6 hours a day"]
["ID0024","2012-05-25T04:32:49",75000,"USD",{"$f":"tblSalaries[[#This Row],[clean Salary (in local currency)]]*VLOOKUP(tblSalaries[[#This Row],[Currency]],[1]!tblXrate[#Data],2,FALSE)","v":75000},"Marketing Director","CXO or Top Mgmt.","USA",{"$f":"VLOOKUP(tblSalaries[[#This Row],[Where do you work]],[1]!tblCountries[[Actual]:[Mapping]],2,FALSE)","v":"USA"},"4 to 6 hours a day"]
["ID0025","2012-05-25T04:43:51",40000,"USD",{"$f":"tblSalaries[[#This Row],[clean Salary (in local currency)]]*VLOOKUP(tblSalaries[[#This Row],[Currency]],[1]!tblXrate[#Data],2,FALSE)","v":40000},"sales and marketing","Manager","USA",{"$f":"VLOOKUP(tblSalaries[[#This Row],[Where do you work]],[1]!tblCountries[[Actual]:[Mapping]],2,FALSE)","v":"USA"},"2 to 3 hours per day"]
["ID0026","2012-05-25T04:45:01",60000,"USD",{"$f":"tblSalaries[[#This Row],[clean Salary (in local currency)]]*VLOOKUP(tblSalaries[[#This Row],[Currency]],[1]!tblXrate[#Data],2,FALSE)","v":60000},"Analyst II","Analyst","USA",{"$f":"VLOOKUP(tblSalaries[[#This Row],[Where do you work]],[1]!tblCountries[[Actual]:[Mapping]],2,FALSE)","v":"USA"},"All the 8 hours baby, all the 8!"]
["ID0028","2012-05-25T04:48:33",32400,"EUR",{"$f":"tblSalaries[[#This Row],[clean Salary (in local currency)]]*VLOOKUP(tblSalaries[[#This Row],[Currency]],[1]!tblXrate[#Data],2,FALSE)","v":41160.941823328096},"Project Leader","Manager","Belgium",{"$f":"VLOOKUP(tblSalaries[[#This Row],[Where do you work]],[1]!tblCountries[[Actual]:[Mapping]],2,FALSE)","v":"Belgium"},"4 to 6 hours a day"]
["ID0029","2012-05-25T04:52:23",900000,"INR",{"$f":"tblSalaries[[#This Row],[clean Salary (in local currency)]]*VLOOKUP(tblSalaries[[#This Row],[Currency]],[1]!tblXrate[#Data],2,FALSE)","v":16027.125018698311},"Applications Engineer","Engineer","India",{"$f":"VLOOKUP(tblSalaries[[#This Row],[Where do you work]],[1]!tblCountries[[Actual]:[Mapping]],2,FALSE)","v":"India"},"1 or 2 hours a day"]
["ID0030","2012-05-25T04:55:35",600000,"INR",{"$f":"tblSalaries[[#This Row],[clean Salary (in local currency)]]*VLOOKUP(tblSalaries[[#This Row],[Currency]],[1]!tblXrate[#Data],2,FALSE)","v":10684.750012465542},"strategy manager","Manager","India",{"$f":"VLOOKUP(tblSalaries[[#This Row],[Where do you work]],[1]!tblCountries[[Actual]:[Mapping]],2,FALSE)","v":"India"},"4 to 6 hours a day"]
["ID0031","2012-05-25T04:55:48",41000,"USD",{"$f":"tblSalaries[[#This Row],[clean Salary (in local currency)]]*VLOOKUP(tblSalaries[[#This Row],[Currency]],[1]!tblXrate[#Data],2,FALSE)","v":41000},"Chief of the department of public budget analisis and forecasting","Manager","Russia",{"$f":"VLOOKUP(tblSalaries[[#This Row],[Where do you work]],[1]!tblCountries[[Actual]:[Mapping]],2,FALSE)","v":"Russia"},"All the 8 hours baby, all the 8!"]
["ID0032","2012-05-25T04:57:06",360000,"INR",{"$f":"tblSalaries[[#This Row],[clean Salary (in local currency)]]*VLOOKUP(tblSalaries[[#This Row],[Currency]],[1]!tblXrate[#Data],2,FALSE)","v":6410.8500074793246},"Specialist","Specialist","India",{"$f":"VLOOKUP(tblSalaries[[#This Row],[Where do you work]],[1]!tblCountries[[Actual]:[Mapping]],2,FALSE)","v":"India"},"4 to 6 hours a day"]
["ID0033","2012-05-25T04:58:45",35000,"GBP",{"$f":"tblSalaries[[#This Row],[clean Salary (in local currency)]]*VLOOKUP(tblSalaries[[#This Row],[Currency]],[1]!tblXrate[#Data],2,FALSE)","v":55166.239522354947},"Management Information Analyst","Analyst","UK",{"$f":"VLOOKUP(tblSalaries[[#This Row],[Where do you work]],[1]!tblCountries[[Actual]:[Mapping]],2,FALSE)","v":"UK"},"All the 8 hours baby, all the 8!"]
["ID0035","2012-05-25T05:01:09",19200,"USD",{"$f":"tblSalaries[[#This Row],[clean Salary (in local currency)]]*VLOOKUP(tblSalaries[[#This Row],[Currency]],[1]!tblXrate[#Data],2,FALSE)","v":19200},"Analyst","Analyst","Poland",{"$f":"VLOOKUP(tblSalaries[[#This Row],[Where do you work]],[1]!tblCountries[[Actual]:[Mapping]],2,FALSE)","v":"Poland"},"2 to 3 hours per day"]
["ID0036","2012-05-25T05:04:12",500000,"INR",{"$f":"tblSalaries[[#This Row],[clean Salary (in local currency)]]*VLOOKUP(tblSalaries[[#This Row],[Currency]],[1]!tblXrate[#Data],2,FALSE)","v":8903.9583437212841},"Senior Consultant","Consultant","India",{"$f":"VLOOKUP(tblSalaries[[#This Row],[Where do you work]],[1]!tblCountries[[Actual]:[Mapping]],2,FALSE)","v":"India"},"All the 8 hours baby, all the 8!"]
["ID0037","2012-05-25T05:07:31",150000,"USD",{"$f":"tblSalaries[[#This Row],[clean Salary (in local currency)]]*VLOOKUP(tblSalaries[[#This Row],[Currency]],[1]!tblXrate[#Data],2,FALSE)","v":150000},"Portfolio Manager","Manager","USA",{"$f":"VLOOKUP(tblSalaries[[#This Row],[Where do you work]],[1]!tblCountries[[Actual]:[Mapping]],2,FALSE)","v":"USA"},"2 to 3 hours per day"]
["ID0038","2012-05-25T05:10:29",69000,"USD",{"$f":"tblSalaries[[#This Row],[clean Salary (in local currency)]]*VLOOKUP(tblSalaries[[#This Row],[Currency]],[1]!tblXrate[#Data],2,FALSE)","v":69000},"Design Engineer","Engineer","USA",{"$f":"VLOOKUP(tblSalaries[[#This Row],[Where do you work]],[1]!tblCountries[[Actual]:[Mapping]],2,FALSE)","v":"USA"},"4 to 6 hours a day"]
["ID0039","2012-05-25T05:11:37",30000,"USD",{"$f":"tblSalaries[[#This Row],[clean Salary (in local currency)]]*VLOOKUP(tblSalaries[[#This Row],[Currency]],[1]!tblXrate[#Data],2,FALSE)","v":30000},"Academic Advisor","Consultant","USA",{"$f":"VLOOKUP(tblSalaries[[#This Row],[Where do you work]],[1]!tblCountries[[Actual]:[Mapping]],2,FALSE)","v":"USA"},"2 to 3 hours per day"]
["ID0040","2012-05-25T05:13:50",400000,"INR",{"$f":"tblSalaries[[#This Row],[clean Salary (in local currency)]]*VLOOKUP(tblSalaries[[#This Row],[Currency]],[1]!tblXrate[#Data],2,FALSE)","v":7123.1666749770275},"Coordination","Manager","India",{"$f":"VLOOKUP(tblSalaries[[#This Row],[Where do you work]],[1]!tblCountries[[Actual]:[Mapping]],2,FALSE)","v":"India"},"4 to 6 hours a day"]
["ID0041","2012-05-25T05:18:48",70000,"AUD",{"$f":"tblSalaries[[#This Row],[clean Salary (in local currency)]]*VLOOKUP(tblSalaries[[#This Row],[Currency]],[1]!tblXrate[#Data],2,FALSE)","v":71393.675948184507},"consultant","Consultant","Australia",{"$f":"VLOOKUP(tblSalaries[[#This Row],[Where do you work]],[1]!tblCountries[[Actual]:[Mapping]],2,FALSE)","v":"Australia"},"2 to 3 hours per day"]
["ID0042","2012-05-25T05:20:10",14500,"USD",{"$f":"tblSalaries[[#This Row],[clean Salary (in local currency)]]*VLOOKUP(tblSalaries[[#This Row],[Currency]],[1]!tblXrate[#Data],2,FALSE)","v":14500},"Business Analsyt","Analyst","India",{"$f":"VLOOKUP(tblSalaries[[#This Row],[Where do you work]],[1]!tblCountries[[Actual]:[Mapping]],2,FALSE)","v":"India"},"4 to 6 hours a day"]
["ID0043","2012-05-25T05:30:39",70000,"CAD",{"$f":"tblSalaries[[#This Row],[clean Salary (in local currency)]]*VLOOKUP(tblSalaries[[#This Row],[Currency]],[1]!tblXrate[#Data],2,FALSE)","v":68835.306612122877},"Product Engineer","Engineer","Canada",{"$f":"VLOOKUP(tblSalaries[[#This Row],[Where do you work]],[1]!tblCountries[[Actual]:[Mapping]],2,FALSE)","v":"Canada"},"2 to 3 hours per day"]
["ID0044","2012-05-25T05:35:28",58000,"USD",{"$f":"tblSalaries[[#This Row],[clean Salary (in local currency)]]*VLOOKUP(tblSalaries[[#This Row],[Currency]],[1]!tblXrate[#Data],2,FALSE)","v":58000},"Senior Accountant","Accountant","USA",{"$f":"VLOOKUP(tblSalaries[[#This Row],[Where do you work]],[1]!tblCountries[[Actual]:[Mapping]],2,FALSE)","v":"USA"},"4 to 6 hours a day"]
["ID0045","2012-05-25T05:45:01",90000,"USD",{"$f":"tblSalaries[[#This Row],[clean Salary (in local currency)]]*VLOOKUP(tblSalaries[[#This Row],[Currency]],[1]!tblXrate[#Data],2,FALSE)","v":90000},"Scientist","Misc.","USA",{"$f":"VLOOKUP(tblSalaries[[#This Row],[Where do you work]],[1]!tblCountries[[Actual]:[Mapping]],2,FALSE)","v":"USA"},"1 or 2 hours a day"]
["ID0046","2012-05-25T05:46:47",800000,"INR",{"$f":"tblSalaries[[#This Row],[clean Salary (in local currency)]]*VLOOKUP(tblSalaries[[#This Row],[Currency]],[1]!tblXrate[#Data],2,FALSE)","v":14246.333349954055},"Team Lead","Manager","India",{"$f":"VLOOKUP(tblSalaries[[#This Row],[Where do you work]],[1]!tblCountries[[Actual]:[Mapping]],2,FALSE)","v":"India"},"2 to 3 hours per day"]
["ID0047","2012-05-25T05:47:10",32000,"GBP",{"$f":"tblSalaries[[#This Row],[clean Salary (in local currency)]]*VLOOKUP(tblSalaries[[#This Row],[Currency]],[1]!tblXrate[#Data],2,FALSE)","v":50437.70470615309},"Senior intelligence analyst","Analyst","UK",{"$f":"VLOOKUP(tblSalaries[[#This Row],[Where do you work]],[1]!tblCountries[[Actual]:[Mapping]],2,FALSE)","v":"UK"},"4 to 6 hours a day"]
["ID0048","2012-05-25T05:47:52",12000,"USD",{"$f":"tblSalaries[[#This Row],[clean Salary (in local currency)]]*VLOOKUP(tblSalaries[[#This Row],[Currency]],[1]!tblXrate[#Data],2,FALSE)","v":12000},"Freelance consultant","Consultant","USA",{"$f":"VLOOKUP(tblSalaries[[#This Row],[Where do you work]],[1]!tblCountries[[Actual]:[Mapping]],2,FALSE)","v":"USA"},"1 or 2 hours a day"]
["ID0049","2012-05-25T06:04:42",45000,"EUR",{"$f":"tblSalaries[[#This Row],[clean Salary (in local currency)]]*VLOOKUP(tblSalaries[[#This Row],[Currency]],[1]!tblXrate[#Data],2,FALSE)","v":57167.974754622352},"Online Traffic Manager / Web Analist","Manager","The Netherlands",{"$f":"VLOOKUP(tblSalaries[[#This Row],[Where do you work]],[1]!tblCountries[[Actual]:[Mapping]],2,FALSE)","v":"Netherlands"},"4 to 6 hours a day"]
["ID0050","2012-05-25T06:04:57",100000,"USD",{"$f":"tblSalaries[[#This Row],[clean Salary (in local currency)]]*VLOOKUP(tblSalaries[[#This Row],[Currency]],[1]!tblXrate[#Data],2,FALSE)","v":100000},"Seinor Financial Analyst","Analyst","Germany",{"$f":"VLOOKUP(tblSalaries[[#This Row],[Where do you work]],[1]!tblCountries[[Actual]:[Mapping]],2,FALSE)","v":"Germany"},"All the 8 hours baby, all the 8!"]
["ID0051","2012-05-25T06:05:17",57000,"USD",{"$f":"tblSalaries[[#This Row],[clean Salary (in local currency)]]*VLOOKUP(tblSalaries[[#This Row],[Currency]],[1]!tblXrate[#Data],2,FALSE)","v":57000},"Senior Accounting Supervisor","Accountant","USA",{"$f":"VLOOKUP(tblSalaries[[#This Row],[Where do you work]],[1]!tblCountries[[Actual]:[Mapping]],2,FALSE)","v":"USA"},"2 to 3 hours per day"]
["ID0052","2012-05-25T06:07:15",40000,"GBP",{"$f":"tblSalaries[[#This Row],[clean Salary (in local currency)]]*VLOOKUP(tblSalaries[[#This Row],[Currency]],[1]!tblXrate[#Data],2,FALSE)","v":63047.130882691366},"Senior Accountant","Accountant","UK",{"$f":"VLOOKUP(tblSalaries[[#This Row],[Where do you work]],[1]!tblCountries[[Actual]:[Mapping]],2,FALSE)","v":"UK"},"4 to 6 hours a day"]
["ID0053","2012-05-25T06:09:44",24000,"EUR",{"$f":"tblSalaries[[#This Row],[clean Salary (in local currency)]]*VLOOKUP(tblSalaries[[#This Row],[Currency]],[1]!tblXrate[#Data],2,FALSE)","v":30489.586535798586},"PPC Manager","Manager","Germany",{"$f":"VLOOKUP(tblSalaries[[#This Row],[Where do you work]],[1]!tblCountries[[Actual]:[Mapping]],2,FALSE)","v":"Germany"},"All the 8 hours baby, all the 8!"]
["ID0054","2012-05-25T06:10:18",4320,"USD",{"$f":"tblSalaries[[#This Row],[clean Salary (in local currency)]]*VLOOKUP(tblSalaries[[#This Row],[Currency]],[1]!tblXrate[#Data],2,FALSE)","v":4320},"Financial Planner","Accountant","India",{"$f":"VLOOKUP(tblSalaries[[#This Row],[Where do you work]],[1]!tblCountries[[Actual]:[Mapping]],2,FALSE)","v":"India"},"2 to 3 hours per day"]
["ID0055","2012-05-25T06:15:42",62000,"USD",{"$f":"tblSalaries[[#This Row],[clean Salary (in local currency)]]*VLOOKUP(tblSalaries[[#This Row],[Currency]],[1]!tblXrate[#Data],2,FALSE)","v":62000},"Analyst","Analyst","USA",{"$f":"VLOOKUP(tblSalaries[[#This Row],[Where do you work]],[1]!tblCountries[[Actual]:[Mapping]],2,FALSE)","v":"USA"},"4 to 6 hours a day"]
["ID0056","2012-05-25T06:26:44",7500,"USD",{"$f":"tblSalaries[[#This Row],[clean Salary (in local currency)]]*VLOOKUP(tblSalaries[[#This Row],[Currency]],[1]!tblXrate[#Data],2,FALSE)","v":7500},"Analyst","Analyst","India",{"$f":"VLOOKUP(tblSalaries[[#This Row],[Where do you work]],[1]!tblCountries[[Actual]:[Mapping]],2,FALSE)","v":"India"},"4 to 6 hours a day"]
["ID0057","2012-05-25T06:27:29",18000,"GBP",{"$f":"tblSalaries[[#This Row],[clean Salary (in local currency)]]*VLOOKUP(tblSalaries[[#This Row],[Currency]],[1]!tblXrate[#Data],2,FALSE)","v":28371.208897211112},"Building Design and Performance Researcher","Manager","UK",{"$f":"VLOOKUP(tblSalaries[[#This Row],[Where do you work]],[1]!tblCountries[[Actual]:[Mapping]],2,FALSE)","v":"UK"},"1 or 2 hours a day"]
["ID0058","2012-05-25T06:49:25",49000,"EUR",{"$f":"tblSalaries[[#This Row],[clean Salary (in local currency)]]*VLOOKUP(tblSalaries[[#This Row],[Currency]],[1]!tblXrate[#Data],2,FALSE)","v":62249.572510588783},"Project leader","Manager","France",{"$f":"VLOOKUP(tblSalaries[[#This Row],[Where do you work]],[1]!tblCountries[[Actual]:[Mapping]],2,FALSE)","v":"France"},"2 to 3 hours per day"]
["ID0059","2012-05-25T06:57:52",38000,"USD",{"$f":"tblSalaries[[#This Row],[clean Salary (in local currency)]]*VLOOKUP(tblSalaries[[#This Row],[Currency]],[1]!tblXrate[#Data],2,FALSE)","v":38000},"Senior Analyst","Analyst","USA",{"$f":"VLOOKUP(tblSalaries[[#This Row],[Where do you work]],[1]!tblCountries[[Actual]:[Mapping]],2,FALSE)","v":"USA"},"4 to 6 hours a day"]
["ID0060","2012-05-25T07:00:52",41000,"USD",{"$f":"tblSalaries[[#This Row],[clean Salary (in local currency)]]*VLOOKUP(tblSalaries[[#This Row],[Currency]],[1]!tblXrate[#Data],2,FALSE)","v":41000},"Specialist","Specialist","USA",{"$f":"VLOOKUP(tblSalaries[[#This Row],[Where do you work]],[1]!tblCountries[[Actual]:[Mapping]],2,FALSE)","v":"USA"},"4 to 6 hours a day"]
["ID0061","2012-05-25T07:11:09",68000,"USD",{"$f":"tblSalaries[[#This Row],[clean Salary (in local currency)]]*VLOOKUP(tblSalaries[[#This Row],[Currency]],[1]!tblXrate[#Data],2,FALSE)","v":68000},"Engineering Data Analyst","Analyst","USA",{"$f":"VLOOKUP(tblSalaries[[#This Row],[Where do you work]],[1]!tblCountries[[Actual]:[Mapping]],2,FALSE)","v":"USA"},"All the 8 hours baby, all the 8!"]
["ID0062","2012-05-25T07:13:31",56000,"CAD",{"$f":"tblSalaries[[#This Row],[clean Salary (in local currency)]]*VLOOKUP(tblSalaries[[#This Row],[Currency]],[1]!tblXrate[#Data],2,FALSE)","v":55068.245289698301},"Sales Analyst","Analyst","CANADA",{"$f":"VLOOKUP(tblSalaries[[#This Row],[Where do you work]],[1]!tblCountries[[Actual]:[Mapping]],2,FALSE)","v":"Canada"},"All the 8 hours baby, all the 8!"]
["ID0063","2012-05-25T07:15:12",61000,"USD",{"$f":"tblSalaries[[#This Row],[clean Salary (in local currency)]]*VLOOKUP(tblSalaries[[#This Row],[Currency]],[1]!tblXrate[#Data],2,FALSE)","v":61000},"Coordinator Of Costa and Buget","Manager","Brasil",{"$f":"VLOOKUP(tblSalaries[[#This Row],[Where do you work]],[1]!tblCountries[[Actual]:[Mapping]],2,FALSE)","v":"Brasil"},"All the 8 hours baby, all the 8!"]
["ID0064","2012-05-25T07:18:53",43000,"EUR",{"$f":"tblSalaries[[#This Row],[clean Salary (in local currency)]]*VLOOKUP(tblSalaries[[#This Row],[Currency]],[1]!tblXrate[#Data],2,FALSE)","v":54627.175876639136},"SAP consultant","Consultant","FR",{"$f":"VLOOKUP(tblSalaries[[#This Row],[Where do you work]],[1]!tblCountries[[Actual]:[Mapping]],2,FALSE)","v":"France"},"4 to 6 hours a day"]
["ID0065","2012-05-25T07:20:08",85000,"USD",{"$f":"tblSalaries[[#This Row],[clean Salary (in local currency)]]*VLOOKUP(tblSalaries[[#This Row],[Currency]],[1]!tblXrate[#Data],2,FALSE)","v":85000},"Manager","Manager","USA",{"$f":"VLOOKUP(tblSalaries[[#This Row],[Where do you work]],[1]!tblCountries[[Actual]:[Mapping]],2,FALSE)","v":"USA"},"4 to 6 hours a day"]
["ID0066","2012-05-25T07:21:18",38000,"EUR",{"$f":"tblSalaries[[#This Row],[clean Salary (in local currency)]]*VLOOKUP(tblSalaries[[#This Row],[Currency]],[1]!tblXrate[#Data],2,FALSE)","v":48275.178681681093},"busines analist","Analyst","The Netherlands",{"$f":"VLOOKUP(tblSalaries[[#This Row],[Where do you work]],[1]!tblCountries[[Actual]:[Mapping]],2,FALSE)","v":"Netherlands"},"1 or 2 hours a day"]
["ID0067","2012-05-25T07:25:12",85000,"AUD",{"$f":"tblSalaries[[#This Row],[clean Salary (in local currency)]]*VLOOKUP(tblSalaries[[#This Row],[Currency]],[1]!tblXrate[#Data],2,FALSE)","v":86692.320794224041},"head of data","CXO or Top Mgmt.","Australia",{"$f":"VLOOKUP(tblSalaries[[#This Row],[Where do you work]],[1]!tblCountries[[Actual]:[Mapping]],2,FALSE)","v":"Australia"},"4 to 6 hours a day"]
["ID0068","2012-05-25T07:29:12",85087,"USD",{"$f":"tblSalaries[[#This Row],[clean Salary (in local currency)]]*VLOOKUP(tblSalaries[[#This Row],[Currency]],[1]!tblXrate[#Data],2,FALSE)","v":85087},"Business Systems Analyst","Analyst","USA",{"$f":"VLOOKUP(tblSalaries[[#This Row],[Where do you work]],[1]!tblCountries[[Actual]:[Mapping]],2,FALSE)","v":"USA"},"2 to 3 hours per day"]
["ID0069","2012-05-25T07:38:22",50000,"USD",{"$f":"tblSalaries[[#This Row],[clean Salary (in local currency)]]*VLOOKUP(tblSalaries[[#This Row],[Currency]],[1]!tblXrate[#Data],2,FALSE)","v":50000},"Financial Analyst II","Analyst","USA",{"$f":"VLOOKUP(tblSalaries[[#This Row],[Where do you work]],[1]!tblCountries[[Actual]:[Mapping]],2,FALSE)","v":"USA"},"All the 8 hours baby, all the 8!"]
["ID0070","2012-05-25T07:47:00",100000,"USD",{"$f":"tblSalaries[[#This Row],[clean Salary (in local currency)]]*VLOOKUP(tblSalaries[[#This Row],[Currency]],[1]!tblXrate[#Data],2,FALSE)","v":100000},"Mngr MI","Manager","RSA",{"$f":"VLOOKUP(tblSalaries[[#This Row],[Where do you work]],[1]!tblCountries[[Actual]:[Mapping]],2,FALSE)","v":"South Africa"},"4 to 6 hours a day"]
["ID0071","2012-05-25T22:49:00",57000,"USD",{"$f":"tblSalaries[[#This Row],[clean Salary (in local currency)]]*VLOOKUP(tblSalaries[[#This Row],[Currency]],[1]!tblXrate[#Data],2,FALSE)","v":57000},"sales analyst","Analyst","USA",{"$f":"VLOOKUP(tblSalaries[[#This Row],[Where do you work]],[1]!tblCountries[[Actual]:[Mapping]],2,FALSE)","v":"USA"},"4 to 6 hours a day"]
["ID0072","2012-05-25T22:52:28",75000,"USD",{"$f":"tblSalaries[[#This Row],[clean Salary (in local currency)]]*VLOOKUP(tblSalaries[[#This Row],[Currency]],[1]!tblXrate[#Data],2,FALSE)","v":75000},"Consumer Research Program Manager","Manager","USA",{"$f":"VLOOKUP(tblSalaries[[#This Row],[Where do you work]],[1]!tblCountries[[Actual]:[Mapping]],2,FALSE)","v":"USA"},"All the 8 hours baby, all the 8!"]
["ID0073","2012-05-25T22:59:05",100000,"AUD",{"$f":"tblSalaries[[#This Row],[clean Salary (in local currency)]]*VLOOKUP(tblSalaries[[#This Row],[Currency]],[1]!tblXrate[#Data],2,FALSE)","v":101990.96564026357},"technical trainer","Manager","Australia",{"$f":"VLOOKUP(tblSalaries[[#This Row],[Where do you work]],[1]!tblCountries[[Actual]:[Mapping]],2,FALSE)","v":"Australia"},"4 to 6 hours a day"]
["ID0074","2012-05-25T23:01:20",33420,"USD",{"$f":"tblSalaries[[#This Row],[clean Salary (in local currency)]]*VLOOKUP(tblSalaries[[#This Row],[Currency]],[1]!tblXrate[#Data],2,FALSE)","v":33420},"Process Flow Coordinator","Manager","United Arab Emirates",{"$f":"VLOOKUP(tblSalaries[[#This Row],[Where do you work]],[1]!tblCountries[[Actual]:[Mapping]],2,FALSE)","v":"UAE"},"All the 8 hours baby, all the 8!"]
["ID0075","2012-05-25T23:03:00",59450,"CAD",{"$f":"tblSalaries[[#This Row],[clean Salary (in local currency)]]*VLOOKUP(tblSalaries[[#This Row],[Currency]],[1]!tblXrate[#Data],2,FALSE)","v":58460.842544152933},"Process Improvement Specialist","Specialist","Canada",{"$f":"VLOOKUP(tblSalaries[[#This Row],[Where do you work]],[1]!tblCountries[[Actual]:[Mapping]],2,FALSE)","v":"Canada"},"All the 8 hours baby, all the 8!"]
["ID0076","2012-05-25T23:12:29",15000,"USD",{"$f":"tblSalaries[[#This Row],[clean Salary (in local currency)]]*VLOOKUP(tblSalaries[[#This Row],[Currency]],[1]!tblXrate[#Data],2,FALSE)","v":15000},"Excel Programmer Consultant","Consultant","USA",{"$f":"VLOOKUP(tblSalaries[[#This Row],[Where do you work]],[1]!tblCountries[[Actual]:[Mapping]],2,FALSE)","v":"USA"},"All the 8 hours baby, all the 8!"]
["ID0077","2012-05-25T23:15:34",60000,"USD",{"$f":"tblSalaries[[#This Row],[clean Salary (in local currency)]]*VLOOKUP(tblSalaries[[#This Row],[Currency]],[1]!tblXrate[#Data],2,FALSE)","v":60000},"Statistical Analyst","Analyst","Canada",{"$f":"VLOOKUP(tblSalaries[[#This Row],[Where do you work]],[1]!tblCountries[[Actual]:[Mapping]],2,FALSE)","v":"Canada"},"1 or 2 hours a day"]
["ID0078","2012-05-25T23:18:45",100000,"GBP",{"$f":"tblSalaries[[#This Row],[clean Salary (in local currency)]]*VLOOKUP(tblSalaries[[#This Row],[Currency]],[1]!tblXrate[#Data],2,FALSE)","v":157617.8272067284},"Analyst","Analyst","UK",{"$f":"VLOOKUP(tblSalaries[[#This Row],[Where do you work]],[1]!tblCountries[[Actual]:[Mapping]],2,FALSE)","v":"UK"},"2 to 3 hours per day"]
["ID0079","2012-05-25T23:20:46",18000,"USD",{"$f":"tblSalaries[[#This Row],[clean Salary (in local currency)]]*VLOOKUP(tblSalaries[[#This Row],[Currency]],[1]!tblXrate[#Data],2,FALSE)","v":18000},"Operational Analyst","Analyst","Saudi Arabia",{"$f":"VLOOKUP(tblSalaries[[#This Row],[Where do you work]],[1]!tblCountries[[Actual]:[Mapping]],2,FALSE)","v":"Saudi Arabia"},"All the 8 hours baby, all the 8!"]
["ID0080","2012-05-25T23:31:16",50000,"USD",{"$f":"tblSalaries[[#This Row],[clean Salary (in local currency)]]*VLOOKUP(tblSalaries[[#This Row],[Currency]],[1]!tblXrate[#Data],2,FALSE)","v":50000},"Exceler","Manager","USA",{"$f":"VLOOKUP(tblSalaries[[#This Row],[Where do you work]],[1]!tblCountries[[Actual]:[Mapping]],2,FALSE)","v":"USA"},"2 to 3 hours per day"]
["ID0081","2012-05-25T23:33:15",26000,"USD",{"$f":"tblSalaries[[#This Row],[clean Salary (in local currency)]]*VLOOKUP(tblSalaries[[#This Row],[Currency]],[1]!tblXrate[#Data],2,FALSE)","v":26000},"Marketing Analyst","Analyst","Panama",{"$f":"VLOOKUP(tblSalaries[[#This Row],[Where do you work]],[1]!tblCountries[[Actual]:[Mapping]],2,FALSE)","v":"Panama"},"All the 8 hours baby, all the 8!"]
["ID0082","2012-05-25T23:49:27",30000,"GBP",{"$f":"tblSalaries[[#This Row],[clean Salary (in local currency)]]*VLOOKUP(tblSalaries[[#This Row],[Currency]],[1]!tblXrate[#Data],2,FALSE)","v":47285.348162018527},"Database Manager","Manager","UK",{"$f":"VLOOKUP(tblSalaries[[#This Row],[Where do you work]],[1]!tblCountries[[Actual]:[Mapping]],2,FALSE)","v":"UK"},"4 to 6 hours a day"]
["ID0083","2012-05-26T00:00:52",150000,"USD",{"$f":"tblSalaries[[#This Row],[clean Salary (in local currency)]]*VLOOKUP(tblSalaries[[#This Row],[Currency]],[1]!tblXrate[#Data],2,FALSE)","v":150000},"Director","CXO or Top Mgmt.","USA",{"$f":"VLOOKUP(tblSalaries[[#This Row],[Where do you work]],[1]!tblCountries[[Actual]:[Mapping]],2,FALSE)","v":"USA"},"All the 8 hours baby, all the 8!"]
["ID0084","2012-05-26T00:05:45",120000,"USD",{"$f":"tblSalaries[[#This Row],[clean Salary (in local currency)]]*VLOOKUP(tblSalaries[[#This Row],[Currency]],[1]!tblXrate[#Data],2,FALSE)","v":120000},"Manager, Forecasts & Budgets","Manager","USA",{"$f":"VLOOKUP(tblSalaries[[#This Row],[Where do you work]],[1]!tblCountries[[Actual]:[Mapping]],2,FALSE)","v":"USA"},"4 to 6 hours a day"]
["ID0085","2012-05-26T00:10:17",500000,"INR",{"$f":"tblSalaries[[#This Row],[clean Salary (in local currency)]]*VLOOKUP(tblSalaries[[#This Row],[Currency]],[1]!tblXrate[#Data],2,FALSE)","v":8903.9583437212841},"Senior Consultant","Consultant","India",{"$f":"VLOOKUP(tblSalaries[[#This Row],[Where do you work]],[1]!tblCountries[[Actual]:[Mapping]],2,FALSE)","v":"India"},"All the 8 hours baby, all the 8!"]
["ID0086","2012-05-26T00:11:21",31330,"USD",{"$f":"tblSalaries[[#This Row],[clean Salary (in local currency)]]*VLOOKUP(tblSalaries[[#This Row],[Currency]],[1]!tblXrate[#Data],2,FALSE)","v":31330},"VBA Analyst","Analyst","Brazil",{"$f":"VLOOKUP(tblSalaries[[#This Row],[Where do you work]],[1]!tblCountries[[Actual]:[Mapping]],2,FALSE)","v":"Brazil"},"All the 8 hours baby, all the 8!"]
["ID0087","2012-05-26T00:15:17",110000,"USD",{"$f":"tblSalaries[[#This Row],[clean Salary (in local currency)]]*VLOOKUP(tblSalaries[[#This Row],[Currency]],[1]!tblXrate[#Data],2,FALSE)","v":110000},"Senior Scheduling Engineer","Engineer","USA",{"$f":"VLOOKUP(tblSalaries[[#This Row],[Where do you work]],[1]!tblCountries[[Actual]:[Mapping]],2,FALSE)","v":"USA"},"2 to 3 hours per day"]
["ID0088","2012-05-26T00:22:49",81000,"USD",{"$f":"tblSalaries[[#This Row],[clean Salary (in local currency)]]*VLOOKUP(tblSalaries[[#This Row],[Currency]],[1]!tblXrate[#Data],2,FALSE)","v":81000},"Strategy Consultant","Consultant","UK",{"$f":"VLOOKUP(tblSalaries[[#This Row],[Where do you work]],[1]!tblCountries[[Actual]:[Mapping]],2,FALSE)","v":"UK"},"4 to 6 hours a day"]
["ID0089","2012-05-26T00:39:04",40000,"USD",{"$f":"tblSalaries[[#This Row],[clean Salary (in local currency)]]*VLOOKUP(tblSalaries[[#This Row],[Currency]],[1]!tblXrate[#Data],2,FALSE)","v":40000},"Admin","Analyst","USA",{"$f":"VLOOKUP(tblSalaries[[#This Row],[Where do you work]],[1]!tblCountries[[Actual]:[Mapping]],2,FALSE)","v":"USA"},"4 to 6 hours a day"]
["ID0090","2012-05-26T00:39:28",42000,"CAD",{"$f":"tblSalaries[[#This Row],[clean Salary (in local currency)]]*VLOOKUP(tblSalaries[[#This Row],[Currency]],[1]!tblXrate[#Data],2,FALSE)","v":41301.183967273726},"IT Asset Administrator","Analyst","Canada",{"$f":"VLOOKUP(tblSalaries[[#This Row],[Where do you work]],[1]!tblCountries[[Actual]:[Mapping]],2,FALSE)","v":"Canada"},"4 to 6 hours a day"]
["ID0091","2012-05-26T00:39:36",125000,"USD",{"$f":"tblSalaries[[#This Row],[clean Salary (in local currency)]]*VLOOKUP(tblSalaries[[#This Row],[Currency]],[1]!tblXrate[#Data],2,FALSE)","v":125000},"Director of Marketing","CXO or Top Mgmt.","USA",{"$f":"VLOOKUP(tblSalaries[[#This Row],[Where do you work]],[1]!tblCountries[[Actual]:[Mapping]],2,FALSE)","v":"USA"},"4 to 6 hours a day"]
["ID0092","2012-05-26T00:39:38",36000,"USD",{"$f":"tblSalaries[[#This Row],[clean Salary (in local currency)]]*VLOOKUP(tblSalaries[[#This Row],[Currency]],[1]!tblXrate[#Data],2,FALSE)","v":36000},"Graphic Design Manager","Manager","USA",{"$f":"VLOOKUP(tblSalaries[[#This Row],[Where do you work]],[1]!tblCountries[[Actual]:[Mapping]],2,FALSE)","v":"USA"},"2 to 3 hours per day"]
["ID0093","2012-05-26T00:39:54",144000,"INR",{"$f":"tblSalaries[[#This Row],[clean Salary (in local currency)]]*VLOOKUP(tblSalaries[[#This Row],[Currency]],[1]!tblXrate[#Data],2,FALSE)","v":2564.3400029917298},"Financial Consultant","Consultant","India",{"$f":"VLOOKUP(tblSalaries[[#This Row],[Where do you work]],[1]!tblCountries[[Actual]:[Mapping]],2,FALSE)","v":"India"},"1 or 2 hours a day"]
["ID0094","2012-05-26T00:40:00",75000,"USD",{"$f":"tblSalaries[[#This Row],[clean Salary (in local currency)]]*VLOOKUP(tblSalaries[[#This Row],[Currency]],[1]!tblXrate[#Data],2,FALSE)","v":75000},"Data Analyst","Analyst","USA",{"$f":"VLOOKUP(tblSalaries[[#This Row],[Where do you work]],[1]!tblCountries[[Actual]:[Mapping]],2,FALSE)","v":"USA"},"1 or 2 hours a day"]
["ID0095","2012-05-26T00:40:20",95000,"USD",{"$f":"tblSalaries[[#This Row],[clean Salary (in local currency)]]*VLOOKUP(tblSalaries[[#This Row],[Currency]],[1]!tblXrate[#Data],2,FALSE)","v":95000},"CFO","CXO or Top Mgmt.","USA",{"$f":"VLOOKUP(tblSalaries[[#This Row],[Where do you work]],[1]!tblCountries[[Actual]:[Mapping]],2,FALSE)","v":"USA"},"4 to 6 hours a day"]
["ID0096","2012-05-26T00:40:27",24000,"USD",{"$f":"tblSalaries[[#This Row],[clean Salary (in local currency)]]*VLOOKUP(tblSalaries[[#This Row],[Currency]],[1]!tblXrate[#Data],2,FALSE)","v":24000},"Paraeducator","Manager","USA",{"$f":"VLOOKUP(tblSalaries[[#This Row],[Where do you work]],[1]!tblCountries[[Actual]:[Mapping]],2,FALSE)","v":"USA"},"2 to 3 hours per day"]
["ID0097","2012-05-26T00:40:31",91000,"USD",{"$f":"tblSalaries[[#This Row],[clean Salary (in local currency)]]*VLOOKUP(tblSalaries[[#This Row],[Currency]],[1]!tblXrate[#Data],2,FALSE)","v":91000},"Channel Marketing Manager","Manager","USA",{"$f":"VLOOKUP(tblSalaries[[#This Row],[Where do you work]],[1]!tblCountries[[Actual]:[Mapping]],2,FALSE)","v":"USA"},"1 or 2 hours a day"]
["ID0098","2012-05-26T00:40:39",40000,"USD",{"$f":"tblSalaries[[#This Row],[clean Salary (in local currency)]]*VLOOKUP(tblSalaries[[#This Row],[Currency]],[1]!tblXrate[#Data],2,FALSE)","v":40000},"Sales and Marketing Analyst ","Analyst","USA",{"$f":"VLOOKUP(tblSalaries[[#This Row],[Where do you work]],[1]!tblCountries[[Actual]:[Mapping]],2,FALSE)","v":"USA"},"4 to 6 hours a day"]
["ID0099","2012-05-26T00:40:40",57000,"USD",{"$f":"tblSalaries[[#This Row],[clean Salary (in local currency)]]*VLOOKUP(tblSalaries[[#This Row],[Currency]],[1]!tblXrate[#Data],2,FALSE)","v":57000},"Production Scheduler","Manager","USA",{"$f":"VLOOKUP(tblSalaries[[#This Row],[Where do you work]],[1]!tblCountries[[Actual]:[Mapping]],2,FALSE)","v":"USA"},"4 to 6 hours a day"]
["ID0100","2012-05-26T00:40:41",74000,"USD",{"$f":"tblSalaries[[#This Row],[clean Salary (in local currency)]]*VLOOKUP(tblSalaries[[#This Row],[Currency]],[1]!tblXrate[#Data],2,FALSE)","v":74000},"Senior Consultant","Consultant","USA",{"$f":"VLOOKUP(tblSalaries[[#This Row],[Where do you work]],[1]!tblCountries[[Actual]:[Mapping]],2,FALSE)","v":"USA"},"4 to 6 hours a day"]
["ID0101","2012-05-26T00:40:42",80000,"USD",{"$f":"tblSalaries[[#This Row],[clean Salary (in local currency)]]*VLOOKUP(tblSalaries[[#This Row],[Currency]],[1]!tblXrate[#Data],2,FALSE)","v":80000},"financial analyst","Analyst","USA",{"$f":"VLOOKUP(tblSalaries[[#This Row],[Where do you work]],[1]!tblCountries[[Actual]:[Mapping]],2,FALSE)","v":"USA"},"4 to 6 hours a day"]
["ID0102","2012-05-26T00:40:46",90000,"USD",{"$f":"tblSalaries[[#This Row],[clean Salary (in local currency)]]*VLOOKUP(tblSalaries[[#This Row],[Currency]],[1]!tblXrate[#Data],2,FALSE)","v":90000},"Product Specialist","Specialist","USA",{"$f":"VLOOKUP(tblSalaries[[#This Row],[Where do you work]],[1]!tblCountries[[Actual]:[Mapping]],2,FALSE)","v":"USA"},"4 to 6 hours a day"]
["ID0103","2012-05-26T00:40:48",21000,"USD",{"$f":"tblSalaries[[#This Row],[clean Salary (in local currency)]]*VLOOKUP(tblSalaries[[#This Row],[Currency]],[1]!tblXrate[#Data],2,FALSE)","v":21000},"IT support","Analyst","arabian Gulf",{"$f":"VLOOKUP(tblSalaries[[#This Row],[Where do you work]],[1]!tblCountries[[Actual]:[Mapping]],2,FALSE)","v":"arabian Gulf"},"1 or 2 hours a day"]
["ID0104","2012-05-26T00:40:50",52000,"USD",{"$f":"tblSalaries[[#This Row],[clean Salary (in local currency)]]*VLOOKUP(tblSalaries[[#This Row],[Currency]],[1]!tblXrate[#Data],2,FALSE)","v":52000},"sr. project coordinator","Manager","USA",{"$f":"VLOOKUP(tblSalaries[[#This Row],[Where do you work]],[1]!tblCountries[[Actual]:[Mapping]],2,FALSE)","v":"USA"},"4 to 6 hours a day"]
["ID0105","2012-05-26T00:40:52",19200,"USD",{"$f":"tblSalaries[[#This Row],[clean Salary (in local currency)]]*VLOOKUP(tblSalaries[[#This Row],[Currency]],[1]!tblXrate[#Data],2,FALSE)","v":19200},"Sr Administrative Assistant","Analyst","Mexico",{"$f":"VLOOKUP(tblSalaries[[#This Row],[Where do you work]],[1]!tblCountries[[Actual]:[Mapping]],2,FALSE)","v":"Mexico"},"4 to 6 hours a day"]
["ID0106","2012-05-26T00:40:57",36000,"USD",{"$f":"tblSalaries[[#This Row],[clean Salary (in local currency)]]*VLOOKUP(tblSalaries[[#This Row],[Currency]],[1]!tblXrate[#Data],2,FALSE)","v":36000},"Analyst","Analyst","USA",{"$f":"VLOOKUP(tblSalaries[[#This Row],[Where do you work]],[1]!tblCountries[[Actual]:[Mapping]],2,FALSE)","v":"USA"},"4 to 6 hours a day"]
["ID0107","2012-05-26T00:41:02",57400,"USD",{"$f":"tblSalaries[[#This Row],[clean Salary (in local currency)]]*VLOOKUP(tblSalaries[[#This Row],[Currency]],[1]!tblXrate[#Data],2,FALSE)","v":57400},"IT Analyst","Analyst","USA",{"$f":"VLOOKUP(tblSalaries[[#This Row],[Where do you work]],[1]!tblCountries[[Actual]:[Mapping]],2,FALSE)","v":"USA"},"4 to 6 hours a day"]
["ID0108","2012-05-26T00:41:03",66000,"USD",{"$f":"tblSalaries[[#This Row],[clean Salary (in local currency)]]*VLOOKUP(tblSalaries[[#This Row],[Currency]],[1]!tblXrate[#Data],2,FALSE)","v":66000},"Analyst","Analyst","USA",{"$f":"VLOOKUP(tblSalaries[[#This Row],[Where do you work]],[1]!tblCountries[[Actual]:[Mapping]],2,FALSE)","v":"USA"},"2 to 3 hours per day"]
["ID0109","2012-05-26T00:41:06",35000,"EUR",{"$f":"tblSalaries[[#This Row],[clean Salary (in local currency)]]*VLOOKUP(tblSalaries[[#This Row],[Currency]],[1]!tblXrate[#Data],2,FALSE)","v":44463.980364706273},"Project manager","Manager","Greece",{"$f":"VLOOKUP(tblSalaries[[#This Row],[Where do you work]],[1]!tblCountries[[Actual]:[Mapping]],2,FALSE)","v":"Greece"},"4 to 6 hours a day"]
["ID0111","2012-05-26T00:41:16",85000,"USD",{"$f":"tblSalaries[[#This Row],[clean Salary (in local currency)]]*VLOOKUP(tblSalaries[[#This Row],[Currency]],[1]!tblXrate[#Data],2,FALSE)","v":85000},"Strategic Analyst","Analyst","USA",{"$f":"VLOOKUP(tblSalaries[[#This Row],[Where do you work]],[1]!tblCountries[[Actual]:[Mapping]],2,FALSE)","v":"USA"},"4 to 6 hours a day"]
["ID0112","2012-05-26T00:41:22",50000,"USD",{"$f":"tblSalaries[[#This Row],[clean Salary (in local currency)]]*VLOOKUP(tblSalaries[[#This Row],[Currency]],[1]!tblXrate[#Data],2,FALSE)","v":50000},"Transportation Specialist","Specialist","USA",{"$f":"VLOOKUP(tblSalaries[[#This Row],[Where do you work]],[1]!tblCountries[[Actual]:[Mapping]],2,FALSE)","v":"USA"},"4 to 6 hours a day"]
["ID0113","2012-05-26T00:41:27",58000,"USD",{"$f":"tblSalaries[[#This Row],[clean Salary (in local currency)]]*VLOOKUP(tblSalaries[[#This Row],[Currency]],[1]!tblXrate[#Data],2,FALSE)","v":58000},"Operations Programs Support","Manager","USA",{"$f":"VLOOKUP(tblSalaries[[#This Row],[Where do you work]],[1]!tblCountries[[Actual]:[Mapping]],2,FALSE)","v":"USA"},"4 to 6 hours a day"]
["ID0114","2012-05-26T00:41:28",37900,"USD",{"$f":"tblSalaries[[#This Row],[clean Salary (in local currency)]]*VLOOKUP(tblSalaries[[#This Row],[Currency]],[1]!tblXrate[#Data],2,FALSE)","v":37900},"Accounting Coordinator","Accountant","USA",{"$f":"VLOOKUP(tblSalaries[[#This Row],[Where do you work]],[1]!tblCountries[[Actual]:[Mapping]],2,FALSE)","v":"USA"},"All the 8 hours baby, all the 8!"]
["ID0115","2012-05-26T00:41:30",48000,"USD",{"$f":"tblSalaries[[#This Row],[clean Salary (in local currency)]]*VLOOKUP(tblSalaries[[#This Row],[Currency]],[1]!tblXrate[#Data],2,FALSE)","v":48000},"Asst.Manager Finance","Manager","UAE",{"$f":"VLOOKUP(tblSalaries[[#This Row],[Where do you work]],[1]!tblCountries[[Actual]:[Mapping]],2,FALSE)","v":"UAE"},"2 to 3 hours per day"]
["ID0116","2012-05-26T00:41:32",67000,"USD",{"$f":"tblSalaries[[#This Row],[clean Salary (in local currency)]]*VLOOKUP(tblSalaries[[#This Row],[Currency]],[1]!tblXrate[#Data],2,FALSE)","v":67000},"Operations Cost Analyst","Analyst","USA",{"$f":"VLOOKUP(tblSalaries[[#This Row],[Where do you work]],[1]!tblCountries[[Actual]:[Mapping]],2,FALSE)","v":"USA"},"4 to 6 hours a day"]
["ID0117","2012-05-26T00:41:35",85000,"USD",{"$f":"tblSalaries[[#This Row],[clean Salary (in local currency)]]*VLOOKUP(tblSalaries[[#This Row],[Currency]],[1]!tblXrate[#Data],2,FALSE)","v":85000},"Financial Controller","Controller","UAE",{"$f":"VLOOKUP(tblSalaries[[#This Row],[Where do you work]],[1]!tblCountries[[Actual]:[Mapping]],2,FALSE)","v":"UAE"},"4 to 6 hours a day"]
["ID0118","2012-05-26T00:41:35",56160,"USD",{"$f":"tblSalaries[[#This Row],[clean Salary (in local currency)]]*VLOOKUP(tblSalaries[[#This Row],[Currency]],[1]!tblXrate[#Data],2,FALSE)","v":56160},"Utilization Analyst","Analyst","USA",{"$f":"VLOOKUP(tblSalaries[[#This Row],[Where do you work]],[1]!tblCountries[[Actual]:[Mapping]],2,FALSE)","v":"USA"},"4 to 6 hours a day"]
["ID0119","2012-05-26T00:41:38",24000,"USD",{"$f":"tblSalaries[[#This Row],[clean Salary (in local currency)]]*VLOOKUP(tblSalaries[[#This Row],[Currency]],[1]!tblXrate[#Data],2,FALSE)","v":24000},"Researcher","Manager","Colombia",{"$f":"VLOOKUP(tblSalaries[[#This Row],[Where do you work]],[1]!tblCountries[[Actual]:[Mapping]],2,FALSE)","v":"Colombia"},"All the 8 hours baby, all the 8!"]
["ID0120","2012-05-26T00:41:38",52000,"USD",{"$f":"tblSalaries[[#This Row],[clean Salary (in local currency)]]*VLOOKUP(tblSalaries[[#This Row],[Currency]],[1]!tblXrate[#Data],2,FALSE)","v":52000},"Market Analyst","Analyst","USA",{"$f":"VLOOKUP(tblSalaries[[#This Row],[Where do you work]],[1]!tblCountries[[Actual]:[Mapping]],2,FALSE)","v":"USA"},"Excel ?!? What Excel?"]
["ID0121","2012-05-26T00:41:41",60000,"CAD",{"$f":"tblSalaries[[#This Row],[clean Salary (in local currency)]]*VLOOKUP(tblSalaries[[#This Row],[Currency]],[1]!tblXrate[#Data],2,FALSE)","v":59001.691381819612},"Web Developer","Analyst","Canada",{"$f":"VLOOKUP(tblSalaries[[#This Row],[Where do you work]],[1]!tblCountries[[Actual]:[Mapping]],2,FALSE)","v":"Canada"},"Excel ?!? What Excel?"]
["ID0122","2012-05-26T00:41:43",70000,"USD",{"$f":"tblSalaries[[#This Row],[clean Salary (in local currency)]]*VLOOKUP(tblSalaries[[#This Row],[Currency]],[1]!tblXrate[#Data],2,FALSE)","v":70000},"Sr. Acct","Accountant","USA",{"$f":"VLOOKUP(tblSalaries[[#This Row],[Where do you work]],[1]!tblCountries[[Actual]:[Mapping]],2,FALSE)","v":"USA"},"All the 8 hours baby, all the 8!"]
["ID0123","2012-05-26T00:41:56",50000,"USD",{"$f":"tblSalaries[[#This Row],[clean Salary (in local currency)]]*VLOOKUP(tblSalaries[[#This Row],[Currency]],[1]!tblXrate[#Data],2,FALSE)","v":50000},"Information Systems Specialist","Specialist","USA",{"$f":"VLOOKUP(tblSalaries[[#This Row],[Where do you work]],[1]!tblCountries[[Actual]:[Mapping]],2,FALSE)","v":"USA"},"4 to 6 hours a day"]
["ID0124","2012-05-26T00:41:58",2300000,"INR",{"$f":"tblSalaries[[#This Row],[clean Salary (in local currency)]]*VLOOKUP(tblSalaries[[#This Row],[Currency]],[1]!tblXrate[#Data],2,FALSE)","v":40958.208381117904},"Analytics lead","Analyst","India",{"$f":"VLOOKUP(tblSalaries[[#This Row],[Where do you work]],[1]!tblCountries[[Actual]:[Mapping]],2,FALSE)","v":"India"},"1 or 2 hours a day"]
["ID0125","2012-05-26T00:42:00",80000,"USD",{"$f":"tblSalaries[[#This Row],[clean Salary (in local currency)]]*VLOOKUP(tblSalaries[[#This Row],[Currency]],[1]!tblXrate[#Data],2,FALSE)","v":80000},"Financial Analyst","Analyst","USA",{"$f":"VLOOKUP(tblSalaries[[#This Row],[Where do you work]],[1]!tblCountries[[Actual]:[Mapping]],2,FALSE)","v":"USA"},"4 to 6 hours a day"]
["ID0126","2012-05-26T00:42:08",128000,"USD",{"$f":"tblSalaries[[#This Row],[clean Salary (in local currency)]]*VLOOKUP(tblSalaries[[#This Row],[Currency]],[1]!tblXrate[#Data],2,FALSE)","v":128000},"Actuary","Manager","USA",{"$f":"VLOOKUP(tblSalaries[[#This Row],[Where do you work]],[1]!tblCountries[[Actual]:[Mapping]],2,FALSE)","v":"USA"},"All the 8 hours baby, all the 8!"]
["ID0127","2012-05-26T00:42:10",44000,"USD",{"$f":"tblSalaries[[#This Row],[clean Salary (in local currency)]]*VLOOKUP(tblSalaries[[#This Row],[Currency]],[1]!tblXrate[#Data],2,FALSE)","v":44000},"School Tech Coordinator","Manager","USA",{"$f":"VLOOKUP(tblSalaries[[#This Row],[Where do you work]],[1]!tblCountries[[Actual]:[Mapping]],2,FALSE)","v":"USA"},"1 or 2 hours a day"]
["ID0128","2012-05-26T00:42:11",65000,"USD",{"$f":"tblSalaries[[#This Row],[clean Salary (in local currency)]]*VLOOKUP(tblSalaries[[#This Row],[Currency]],[1]!tblXrate[#Data],2,FALSE)","v":65000},"sr accountant","Accountant","USA",{"$f":"VLOOKUP(tblSalaries[[#This Row],[Where do you work]],[1]!tblCountries[[Actual]:[Mapping]],2,FALSE)","v":"USA"},"All the 8 hours baby, all the 8!"]
["ID0129","2012-05-26T00:42:32",36000,"USD",{"$f":"tblSalaries[[#This Row],[clean Salary (in local currency)]]*VLOOKUP(tblSalaries[[#This Row],[Currency]],[1]!tblXrate[#Data],2,FALSE)","v":36000},"senior accountant","Accountant","Turkey",{"$f":"VLOOKUP(tblSalaries[[#This Row],[Where do you work]],[1]!tblCountries[[Actual]:[Mapping]],2,FALSE)","v":"Turkey"},"4 to 6 hours a day"]
["ID0130","2012-05-26T00:42:34",12000,"USD",{"$f":"tblSalaries[[#This Row],[clean Salary (in local currency)]]*VLOOKUP(tblSalaries[[#This Row],[Currency]],[1]!tblXrate[#Data],2,FALSE)","v":12000},"Freelance","Consultant","Pakistan",{"$f":"VLOOKUP(tblSalaries[[#This Row],[Where do you work]],[1]!tblCountries[[Actual]:[Mapping]],2,FALSE)","v":"Pakistan"},"1 or 2 hours a day"]
["ID0131","2012-05-26T00:42:41",28159,"GBP",{"$f":"tblSalaries[[#This Row],[clean Salary (in local currency)]]*VLOOKUP(tblSalaries[[#This Row],[Currency]],[1]!tblXrate[#Data],2,FALSE)","v":44383.603963142654},"Data Analyst","Analyst","UK",{"$f":"VLOOKUP(tblSalaries[[#This Row],[Where do you work]],[1]!tblCountries[[Actual]:[Mapping]],2,FALSE)","v":"UK"},"All the 8 hours baby, all the 8!"]
["ID0132","2012-05-26T00:42:46",45000,"USD",{"$f":"tblSalaries[[#This Row],[clean Salary (in local currency)]]*VLOOKUP(tblSalaries[[#This Row],[Currency]],[1]!tblXrate[#Data],2,FALSE)","v":45000},"DBA","Analyst","USA",{"$f":"VLOOKUP(tblSalaries[[#This Row],[Where do you work]],[1]!tblCountries[[Actual]:[Mapping]],2,FALSE)","v":"USA"},"4 to 6 hours a day"]
["ID0133","2012-05-26T00:42:58",54000,"USD",{"$f":"tblSalaries[[#This Row],[clean Salary (in local currency)]]*VLOOKUP(tblSalaries[[#This Row],[Currency]],[1]!tblXrate[#Data],2,FALSE)","v":54000},"Research Analyst","Analyst","USA",{"$f":"VLOOKUP(tblSalaries[[#This Row],[Where do you work]],[1]!tblCountries[[Actual]:[Mapping]],2,FALSE)","v":"USA"},"2 to 3 hours per day"]
["ID0134","2012-05-26T00:43:03",70000,"GBP",{"$f":"tblSalaries[[#This Row],[clean Salary (in local currency)]]*VLOOKUP(tblSalaries[[#This Row],[Currency]],[1]!tblXrate[#Data],2,FALSE)","v":110332.47904470989},"Project Manager","Manager","UK",{"$f":"VLOOKUP(tblSalaries[[#This Row],[Where do you work]],[1]!tblCountries[[Actual]:[Mapping]],2,FALSE)","v":"UK"},"2 to 3 hours per day"]
["ID0135","2012-05-26T00:43:07",71000,"USD",{"$f":"tblSalaries[[#This Row],[clean Salary (in local currency)]]*VLOOKUP(tblSalaries[[#This Row],[Currency]],[1]!tblXrate[#Data],2,FALSE)","v":71000},"Market Research Analyst","Analyst","USA",{"$f":"VLOOKUP(tblSalaries[[#This Row],[Where do you work]],[1]!tblCountries[[Actual]:[Mapping]],2,FALSE)","v":"USA"},"4 to 6 hours a day"]
["ID0136","2012-05-26T00:43:08",800000,"INR",{"$f":"tblSalaries[[#This Row],[clean Salary (in local currency)]]*VLOOKUP(tblSalaries[[#This Row],[Currency]],[1]!tblXrate[#Data],2,FALSE)","v":14246.333349954055},"Manager : Accounts","Manager","India",{"$f":"VLOOKUP(tblSalaries[[#This Row],[Where do you work]],[1]!tblCountries[[Actual]:[Mapping]],2,FALSE)","v":"India"},"2 to 3 hours per day"]
["ID0137","2012-05-26T00:43:17",70000,"CAD",{"$f":"tblSalaries[[#This Row],[clean Salary (in local currency)]]*VLOOKUP(tblSalaries[[#This Row],[Currency]],[1]!tblXrate[#Data],2,FALSE)","v":68835.306612122877},"project manager","Manager","canada",{"$f":"VLOOKUP(tblSalaries[[#This Row],[Where do you work]],[1]!tblCountries[[Actual]:[Mapping]],2,FALSE)","v":"Canada"},"4 to 6 hours a day"]
["ID0138","2012-05-26T00:43:25",50000,"CAD",{"$f":"tblSalaries[[#This Row],[clean Salary (in local currency)]]*VLOOKUP(tblSalaries[[#This Row],[Currency]],[1]!tblXrate[#Data],2,FALSE)","v":49168.076151516347},"Inventory manger","Manager","Canada",{"$f":"VLOOKUP(tblSalaries[[#This Row],[Where do you work]],[1]!tblCountries[[Actual]:[Mapping]],2,FALSE)","v":"Canada"},"4 to 6 hours a day"]
["ID0139","2012-05-26T00:43:27",40000,"USD",{"$f":"tblSalaries[[#This Row],[clean Salary (in local currency)]]*VLOOKUP(tblSalaries[[#This Row],[Currency]],[1]!tblXrate[#Data],2,FALSE)","v":40000},"Business Analyst","Analyst","USA",{"$f":"VLOOKUP(tblSalaries[[#This Row],[Where do you work]],[1]!tblCountries[[Actual]:[Mapping]],2,FALSE)","v":"USA"},"4 to 6 hours a day"]
["ID0140","2012-05-26T00:43:34",62000,"CAD",{"$f":"tblSalaries[[#This Row],[clean Salary (in local currency)]]*VLOOKUP(tblSalaries[[#This Row],[Currency]],[1]!tblXrate[#Data],2,FALSE)","v":60968.414427880263},"Process Technician","Analyst","Canada",{"$f":"VLOOKUP(tblSalaries[[#This Row],[Where do you work]],[1]!tblCountries[[Actual]:[Mapping]],2,FALSE)","v":"Canada"},"2 to 3 hours per day"]
["ID0141","2012-05-26T00:43:36",336000,"INR",{"$f":"tblSalaries[[#This Row],[clean Salary (in local currency)]]*VLOOKUP(tblSalaries[[#This Row],[Currency]],[1]!tblXrate[#Data],2,FALSE)","v":5983.4600069807029},"MIS Team Leader","Reporting","India",{"$f":"VLOOKUP(tblSalaries[[#This Row],[Where do you work]],[1]!tblCountries[[Actual]:[Mapping]],2,FALSE)","v":"India"},"4 to 6 hours a day"]
["ID0142","2012-05-26T00:43:36",53000,"USD",{"$f":"tblSalaries[[#This Row],[clean Salary (in local currency)]]*VLOOKUP(tblSalaries[[#This Row],[Currency]],[1]!tblXrate[#Data],2,FALSE)","v":53000},"Data Analyst","Analyst","USA",{"$f":"VLOOKUP(tblSalaries[[#This Row],[Where do you work]],[1]!tblCountries[[Actual]:[Mapping]],2,FALSE)","v":"USA"},"4 to 6 hours a day"]
["ID0143","2012-05-26T00:43:49",104000,"USD",{"$f":"tblSalaries[[#This Row],[clean Salary (in local currency)]]*VLOOKUP(tblSalaries[[#This Row],[Currency]],[1]!tblXrate[#Data],2,FALSE)","v":104000},"Finance Director","CXO or Top Mgmt.","USA",{"$f":"VLOOKUP(tblSalaries[[#This Row],[Where do you work]],[1]!tblCountries[[Actual]:[Mapping]],2,FALSE)","v":"USA"},"2 to 3 hours per day"]
["ID0144","2012-05-26T00:44:02",57000,"USD",{"$f":"tblSalaries[[#This Row],[clean Salary (in local currency)]]*VLOOKUP(tblSalaries[[#This Row],[Currency]],[1]!tblXrate[#Data],2,FALSE)","v":57000},"Industrial Engineer","Engineer","USA",{"$f":"VLOOKUP(tblSalaries[[#This Row],[Where do you work]],[1]!tblCountries[[Actual]:[Mapping]],2,FALSE)","v":"USA"},"4 to 6 hours a day"]
["ID0145","2012-05-26T00:44:09",45000,"USD",{"$f":"tblSalaries[[#This Row],[clean Salary (in local currency)]]*VLOOKUP(tblSalaries[[#This Row],[Currency]],[1]!tblXrate[#Data],2,FALSE)","v":45000},"data analyst","Analyst","USA",{"$f":"VLOOKUP(tblSalaries[[#This Row],[Where do you work]],[1]!tblCountries[[Actual]:[Mapping]],2,FALSE)","v":"USA"},"2 to 3 hours per day"]
["ID0146","2012-05-26T00:44:15",92000,"USD",{"$f":"tblSalaries[[#This Row],[clean Salary (in local currency)]]*VLOOKUP(tblSalaries[[#This Row],[Currency]],[1]!tblXrate[#Data],2,FALSE)","v":92000},"Senior Financial & Systems Analyst","Analyst","USA",{"$f":"VLOOKUP(tblSalaries[[#This Row],[Where do you work]],[1]!tblCountries[[Actual]:[Mapping]],2,FALSE)","v":"USA"},"4 to 6 hours a day"]
["ID0147","2012-05-26T00:44:18",88000,"USD",{"$f":"tblSalaries[[#This Row],[clean Salary (in local currency)]]*VLOOKUP(tblSalaries[[#This Row],[Currency]],[1]!tblXrate[#Data],2,FALSE)","v":88000},"project manager - metrics","Manager","USA",{"$f":"VLOOKUP(tblSalaries[[#This Row],[Where do you work]],[1]!tblCountries[[Actual]:[Mapping]],2,FALSE)","v":"USA"},"4 to 6 hours a day"]
["ID0148","2012-05-26T00:44:20",80000,"USD",{"$f":"tblSalaries[[#This Row],[clean Salary (in local currency)]]*VLOOKUP(tblSalaries[[#This Row],[Currency]],[1]!tblXrate[#Data],2,FALSE)","v":80000},"Informatics Research Analyst","Analyst","USA",{"$f":"VLOOKUP(tblSalaries[[#This Row],[Where do you work]],[1]!tblCountries[[Actual]:[Mapping]],2,FALSE)","v":"USA"},"2 to 3 hours per day"]
["ID0149","2012-05-26T00:44:22",69000,"USD",{"$f":"tblSalaries[[#This Row],[clean Salary (in local currency)]]*VLOOKUP(tblSalaries[[#This Row],[Currency]],[1]!tblXrate[#Data],2,FALSE)","v":69000},"Business Technical Consultant","Consultant","USA",{"$f":"VLOOKUP(tblSalaries[[#This Row],[Where do you work]],[1]!tblCountries[[Actual]:[Mapping]],2,FALSE)","v":"USA"},"4 to 6 hours a day"]
["ID0150","2012-05-26T00:44:23",50000,"USD",{"$f":"tblSalaries[[#This Row],[clean Salary (in local currency)]]*VLOOKUP(tblSalaries[[#This Row],[Currency]],[1]!tblXrate[#Data],2,FALSE)","v":50000},"Business Operations Reporting Analyst","Analyst","Mexico",{"$f":"VLOOKUP(tblSalaries[[#This Row],[Where do you work]],[1]!tblCountries[[Actual]:[Mapping]],2,FALSE)","v":"Mexico"},"All the 8 hours baby, all the 8!"]
["ID0151","2012-05-26T00:44:40",35000,"USD",{"$f":"tblSalaries[[#This Row],[clean Salary (in local currency)]]*VLOOKUP(tblSalaries[[#This Row],[Currency]],[1]!tblXrate[#Data],2,FALSE)","v":35000},"Program Services Coordinator","Manager","USA",{"$f":"VLOOKUP(tblSalaries[[#This Row],[Where do you work]],[1]!tblCountries[[Actual]:[Mapping]],2,FALSE)","v":"USA"},"2 to 3 hours per day"]
["ID0152","2012-05-26T00:44:59",96000,"USD",{"$f":"tblSalaries[[#This Row],[clean Salary (in local currency)]]*VLOOKUP(tblSalaries[[#This Row],[Currency]],[1]!tblXrate[#Data],2,FALSE)","v":96000},"Specialist - Finance Planning and Analysis","Analyst","USA",{"$f":"VLOOKUP(tblSalaries[[#This Row],[Where do you work]],[1]!tblCountries[[Actual]:[Mapping]],2,FALSE)","v":"USA"},"4 to 6 hours a day"]
["ID0153","2012-05-26T00:45:00",65000,"USD",{"$f":"tblSalaries[[#This Row],[clean Salary (in local currency)]]*VLOOKUP(tblSalaries[[#This Row],[Currency]],[1]!tblXrate[#Data],2,FALSE)","v":65000},"Sr Accountant","Accountant","USA",{"$f":"VLOOKUP(tblSalaries[[#This Row],[Where do you work]],[1]!tblCountries[[Actual]:[Mapping]],2,FALSE)","v":"USA"},"All the 8 hours baby, all the 8!"]
["ID0154","2012-05-26T00:45:06",37440,"USD",{"$f":"tblSalaries[[#This Row],[clean Salary (in local currency)]]*VLOOKUP(tblSalaries[[#This Row],[Currency]],[1]!tblXrate[#Data],2,FALSE)","v":37440},"sales analyst","Analyst","USA",{"$f":"VLOOKUP(tblSalaries[[#This Row],[Where do you work]],[1]!tblCountries[[Actual]:[Mapping]],2,FALSE)","v":"USA"},"All the 8 hours baby, all the 8!"]
["ID0155","2012-05-26T00:45:11",15500,"USD",{"$f":"tblSalaries[[#This Row],[clean Salary (in local currency)]]*VLOOKUP(tblSalaries[[#This Row],[Currency]],[1]!tblXrate[#Data],2,FALSE)","v":15500},"Proces auditor","Accountant","Mexico",{"$f":"VLOOKUP(tblSalaries[[#This Row],[Where do you work]],[1]!tblCountries[[Actual]:[Mapping]],2,FALSE)","v":"Mexico"},"All the 8 hours baby, all the 8!"]
["ID0156","2012-05-26T00:45:17",90000,"USD",{"$f":"tblSalaries[[#This Row],[clean Salary (in local currency)]]*VLOOKUP(tblSalaries[[#This Row],[Currency]],[1]!tblXrate[#Data],2,FALSE)","v":90000},"Senior Data Quality Analyst","Analyst","USA",{"$f":"VLOOKUP(tblSalaries[[#This Row],[Where do you work]],[1]!tblCountries[[Actual]:[Mapping]],2,FALSE)","v":"USA"},"2 to 3 hours per day"]
["ID0157","2012-05-26T00:45:46",66500,"USD",{"$f":"tblSalaries[[#This Row],[clean Salary (in local currency)]]*VLOOKUP(tblSalaries[[#This Row],[Currency]],[1]!tblXrate[#Data],2,FALSE)","v":66500},"Sr Business Analyst","Analyst","USA",{"$f":"VLOOKUP(tblSalaries[[#This Row],[Where do you work]],[1]!tblCountries[[Actual]:[Mapping]],2,FALSE)","v":"USA"},"All the 8 hours baby, all the 8!"]
["ID0158","2012-05-26T00:45:49",100000,"USD",{"$f":"tblSalaries[[#This Row],[clean Salary (in local currency)]]*VLOOKUP(tblSalaries[[#This Row],[Currency]],[1]!tblXrate[#Data],2,FALSE)","v":100000},"COST ACCOUNTANT","Accountant","USA",{"$f":"VLOOKUP(tblSalaries[[#This Row],[Where do you work]],[1]!tblCountries[[Actual]:[Mapping]],2,FALSE)","v":"USA"},"All the 8 hours baby, all the 8!"]
["ID0159","2012-05-26T00:45:51",32250,"GBP",{"$f":"tblSalaries[[#This Row],[clean Salary (in local currency)]]*VLOOKUP(tblSalaries[[#This Row],[Currency]],[1]!tblXrate[#Data],2,FALSE)","v":50831.74927416991},"project Support","Manager","UK",{"$f":"VLOOKUP(tblSalaries[[#This Row],[Where do you work]],[1]!tblCountries[[Actual]:[Mapping]],2,FALSE)","v":"UK"},"4 to 6 hours a day"]
["ID0160","2012-05-26T00:45:53",420000,"INR",{"$f":"tblSalaries[[#This Row],[clean Salary (in local currency)]]*VLOOKUP(tblSalaries[[#This Row],[Currency]],[1]!tblXrate[#Data],2,FALSE)","v":7479.3250087258784},"managerial","Manager","India",{"$f":"VLOOKUP(tblSalaries[[#This Row],[Where do you work]],[1]!tblCountries[[Actual]:[Mapping]],2,FALSE)","v":"India"},"1 or 2 hours a day"]
["ID0161","2012-05-26T00:46:00",75000,"USD",{"$f":"tblSalaries[[#This Row],[clean Salary (in local currency)]]*VLOOKUP(tblSalaries[[#This Row],[Currency]],[1]!tblXrate[#Data],2,FALSE)","v":75000},"Program Analyst","Analyst","USA",{"$f":"VLOOKUP(tblSalaries[[#This Row],[Where do you work]],[1]!tblCountries[[Actual]:[Mapping]],2,FALSE)","v":"USA"},"1 or 2 hours a day"]
["ID0162","2012-05-26T00:46:25",58000,"USD",{"$f":"tblSalaries[[#This Row],[clean Salary (in local currency)]]*VLOOKUP(tblSalaries[[#This Row],[Currency]],[1]!tblXrate[#Data],2,FALSE)","v":58000},"Team Lead - Computer Discounts","Manager","Canada",{"$f":"VLOOKUP(tblSalaries[[#This Row],[Where do you work]],[1]!tblCountries[[Actual]:[Mapping]],2,FALSE)","v":"Canada"},"1 or 2 hours a day"]
["ID0163","2012-05-26T00:46:29",55000,"USD",{"$f":"tblSalaries[[#This Row],[clean Salary (in local currency)]]*VLOOKUP(tblSalaries[[#This Row],[Currency]],[1]!tblXrate[#Data],2,FALSE)","v":55000},"Change Architect","Manager","USA",{"$f":"VLOOKUP(tblSalaries[[#This Row],[Where do you work]],[1]!tblCountries[[Actual]:[Mapping]],2,FALSE)","v":"USA"},"2 to 3 hours per day"]
["ID0164","2012-05-26T00:47:42",60000,"USD",{"$f":"tblSalaries[[#This Row],[clean Salary (in local currency)]]*VLOOKUP(tblSalaries[[#This Row],[Currency]],[1]!tblXrate[#Data],2,FALSE)","v":60000},"Telecom Technician","Analyst","USA",{"$f":"VLOOKUP(tblSalaries[[#This Row],[Where do you work]],[1]!tblCountries[[Actual]:[Mapping]],2,FALSE)","v":"USA"},"4 to 6 hours a day"]
["ID0165","2012-05-26T00:47:45",1300000,"INR",{"$f":"tblSalaries[[#This Row],[clean Salary (in local currency)]]*VLOOKUP(tblSalaries[[#This Row],[Currency]],[1]!tblXrate[#Data],2,FALSE)","v":23150.291693675339},"Manager","Manager","India",{"$f":"VLOOKUP(tblSalaries[[#This Row],[Where do you work]],[1]!tblCountries[[Actual]:[Mapping]],2,FALSE)","v":"India"},"4 to 6 hours a day"]
["ID0166","2012-05-26T00:47:50",107000,"CAD",{"$f":"tblSalaries[[#This Row],[clean Salary (in local currency)]]*VLOOKUP(tblSalaries[[#This Row],[Currency]],[1]!tblXrate[#Data],2,FALSE)","v":105219.68296424497},"Manager, Asset Optimization","Manager","Canada",{"$f":"VLOOKUP(tblSalaries[[#This Row],[Where do you work]],[1]!tblCountries[[Actual]:[Mapping]],2,FALSE)","v":"Canada"},"2 to 3 hours per day"]
["ID0167","2012-05-26T00:47:57",145000,"USD",{"$f":"tblSalaries[[#This Row],[clean Salary (in local currency)]]*VLOOKUP(tblSalaries[[#This Row],[Currency]],[1]!tblXrate[#Data],2,FALSE)","v":145000},"Financialcontroller","Controller","Switzerland",{"$f":"VLOOKUP(tblSalaries[[#This Row],[Where do you work]],[1]!tblCountries[[Actual]:[Mapping]],2,FALSE)","v":"Switzerland"},"All the 8 hours baby, all the 8!"]
["ID0168","2012-05-26T00:48:04",22880,"USD",{"$f":"tblSalaries[[#This Row],[clean Salary (in local currency)]]*VLOOKUP(tblSalaries[[#This Row],[Currency]],[1]!tblXrate[#Data],2,FALSE)","v":22880},"Accounting ","Accountant","USA",{"$f":"VLOOKUP(tblSalaries[[#This Row],[Where do you work]],[1]!tblCountries[[Actual]:[Mapping]],2,FALSE)","v":"USA"},"4 to 6 hours a day"]
["ID0169","2012-05-26T00:48:07",80000,"USD",{"$f":"tblSalaries[[#This Row],[clean Salary (in local currency)]]*VLOOKUP(tblSalaries[[#This Row],[Currency]],[1]!tblXrate[#Data],2,FALSE)","v":80000},"Consultant, HR Services & Governance","Consultant","USA",{"$f":"VLOOKUP(tblSalaries[[#This Row],[Where do you work]],[1]!tblCountries[[Actual]:[Mapping]],2,FALSE)","v":"USA"},"4 to 6 hours a day"]
["ID0170","2012-05-26T00:48:11",500000,"INR",{"$f":"tblSalaries[[#This Row],[clean Salary (in local currency)]]*VLOOKUP(tblSalaries[[#This Row],[Currency]],[1]!tblXrate[#Data],2,FALSE)","v":8903.9583437212841},"QA Executive","Analyst","India",{"$f":"VLOOKUP(tblSalaries[[#This Row],[Where do you work]],[1]!tblCountries[[Actual]:[Mapping]],2,FALSE)","v":"India"},"2 to 3 hours per day"]
["ID0171","2012-05-26T00:48:46",90000,"CAD",{"$f":"tblSalaries[[#This Row],[clean Salary (in local currency)]]*VLOOKUP(tblSalaries[[#This Row],[Currency]],[1]!tblXrate[#Data],2,FALSE)","v":88502.537072729421},"Senior Actuarial Analyst","Analyst","Canada",{"$f":"VLOOKUP(tblSalaries[[#This Row],[Where do you work]],[1]!tblCountries[[Actual]:[Mapping]],2,FALSE)","v":"Canada"},"4 to 6 hours a day"]
["ID0172","2012-05-26T00:48:48",180000,"INR",{"$f":"tblSalaries[[#This Row],[clean Salary (in local currency)]]*VLOOKUP(tblSalaries[[#This Row],[Currency]],[1]!tblXrate[#Data],2,FALSE)","v":3205.4250037396623},"Sr. Associate","Analyst","India",{"$f":"VLOOKUP(tblSalaries[[#This Row],[Where do you work]],[1]!tblCountries[[Actual]:[Mapping]],2,FALSE)","v":"India"},"4 to 6 hours a day"]
["ID0173","2012-05-26T00:48:48",46584,"USD",{"$f":"tblSalaries[[#This Row],[clean Salary (in local currency)]]*VLOOKUP(tblSalaries[[#This Row],[Currency]],[1]!tblXrate[#Data],2,FALSE)","v":46584},"Budget Analyst","Analyst","USA",{"$f":"VLOOKUP(tblSalaries[[#This Row],[Where do you work]],[1]!tblCountries[[Actual]:[Mapping]],2,FALSE)","v":"USA"},"4 to 6 hours a day"]
["ID0174","2012-05-26T00:48:48",67000,"USD",{"$f":"tblSalaries[[#This Row],[clean Salary (in local currency)]]*VLOOKUP(tblSalaries[[#This Row],[Currency]],[1]!tblXrate[#Data],2,FALSE)","v":67000},"B.I. Data Analyst II","Analyst","USA",{"$f":"VLOOKUP(tblSalaries[[#This Row],[Where do you work]],[1]!tblCountries[[Actual]:[Mapping]],2,FALSE)","v":"USA"},"4 to 6 hours a day"]
["ID0175","2012-05-26T00:48:57",1100000,"INR",{"$f":"tblSalaries[[#This Row],[clean Salary (in local currency)]]*VLOOKUP(tblSalaries[[#This Row],[Currency]],[1]!tblXrate[#Data],2,FALSE)","v":19588.708356186824},"Asst manager investor relations and business analytics","Manager","India",{"$f":"VLOOKUP(tblSalaries[[#This Row],[Where do you work]],[1]!tblCountries[[Actual]:[Mapping]],2,FALSE)","v":"India"},"4 to 6 hours a day"]
["ID0176","2012-05-26T00:49:18",92000,"USD",{"$f":"tblSalaries[[#This Row],[clean Salary (in local currency)]]*VLOOKUP(tblSalaries[[#This Row],[Currency]],[1]!tblXrate[#Data],2,FALSE)","v":92000},"Industrial Engineer (Fed)","Engineer","USA",{"$f":"VLOOKUP(tblSalaries[[#This Row],[Where do you work]],[1]!tblCountries[[Actual]:[Mapping]],2,FALSE)","v":"USA"},"4 to 6 hours a day"]
["ID0177","2012-05-26T00:49:21",75000,"USD",{"$f":"tblSalaries[[#This Row],[clean Salary (in local currency)]]*VLOOKUP(tblSalaries[[#This Row],[Currency]],[1]!tblXrate[#Data],2,FALSE)","v":75000},"Informatics specialist","Specialist","USA",{"$f":"VLOOKUP(tblSalaries[[#This Row],[Where do you work]],[1]!tblCountries[[Actual]:[Mapping]],2,FALSE)","v":"USA"},"All the 8 hours baby, all the 8!"]
["ID0178","2012-05-26T00:49:35",180000,"INR",{"$f":"tblSalaries[[#This Row],[clean Salary (in local currency)]]*VLOOKUP(tblSalaries[[#This Row],[Currency]],[1]!tblXrate[#Data],2,FALSE)","v":3205.4250037396623},"Sr. Associate","Analyst","India",{"$f":"VLOOKUP(tblSalaries[[#This Row],[Where do you work]],[1]!tblCountries[[Actual]:[Mapping]],2,FALSE)","v":"India"},"4 to 6 hours a day"]
["ID0179","2012-05-26T00:49:48",18500,"GBP",{"$f":"tblSalaries[[#This Row],[clean Salary (in local currency)]]*VLOOKUP(tblSalaries[[#This Row],[Currency]],[1]!tblXrate[#Data],2,FALSE)","v":29159.298033244755},"Trainee Management Accountant","Manager","UK",{"$f":"VLOOKUP(tblSalaries[[#This Row],[Where do you work]],[1]!tblCountries[[Actual]:[Mapping]],2,FALSE)","v":"UK"},"All the 8 hours baby, all the 8!"]
["ID0180","2012-05-26T00:49:50",40000,"USD",{"$f":"tblSalaries[[#This Row],[clean Salary (in local currency)]]*VLOOKUP(tblSalaries[[#This Row],[Currency]],[1]!tblXrate[#Data],2,FALSE)","v":40000},"Senior analyst","Analyst","USA",{"$f":"VLOOKUP(tblSalaries[[#This Row],[Where do you work]],[1]!tblCountries[[Actual]:[Mapping]],2,FALSE)","v":"USA"},"All the 8 hours baby, all the 8!"]
["ID0181","2012-05-26T00:49:59",111680,"USD",{"$f":"tblSalaries[[#This Row],[clean Salary (in local currency)]]*VLOOKUP(tblSalaries[[#This Row],[Currency]],[1]!tblXrate[#Data],2,FALSE)","v":111680},"Director of Analytics","Analyst","USA",{"$f":"VLOOKUP(tblSalaries[[#This Row],[Where do you work]],[1]!tblCountries[[Actual]:[Mapping]],2,FALSE)","v":"USA"},"2 to 3 hours per day"]
["ID0182","2012-05-26T00:50:11",41406,"USD",{"$f":"tblSalaries[[#This Row],[clean Salary (in local currency)]]*VLOOKUP(tblSalaries[[#This Row],[Currency]],[1]!tblXrate[#Data],2,FALSE)","v":41406},"Executive Assistant","Analyst","Canada",{"$f":"VLOOKUP(tblSalaries[[#This Row],[Where do you work]],[1]!tblCountries[[Actual]:[Mapping]],2,FALSE)","v":"Canada"},"1 or 2 hours a day"]
["ID0183","2012-05-26T00:50:15",70000,"USD",{"$f":"tblSalaries[[#This Row],[clean Salary (in local currency)]]*VLOOKUP(tblSalaries[[#This Row],[Currency]],[1]!tblXrate[#Data],2,FALSE)","v":70000},"Project Speciast","Manager","USA",{"$f":"VLOOKUP(tblSalaries[[#This Row],[Where do you work]],[1]!tblCountries[[Actual]:[Mapping]],2,FALSE)","v":"USA"},"4 to 6 hours a day"]
["ID0184","2012-05-26T00:50:31",40700,"USD",{"$f":"tblSalaries[[#This Row],[clean Salary (in local currency)]]*VLOOKUP(tblSalaries[[#This Row],[Currency]],[1]!tblXrate[#Data],2,FALSE)","v":40700},"Sales Coordinator & Analytical Support","Analyst","USA",{"$f":"VLOOKUP(tblSalaries[[#This Row],[Where do you work]],[1]!tblCountries[[Actual]:[Mapping]],2,FALSE)","v":"USA"},"1 or 2 hours a day"]
["ID0185","2012-05-26T00:50:32",40000,"USD",{"$f":"tblSalaries[[#This Row],[clean Salary (in local currency)]]*VLOOKUP(tblSalaries[[#This Row],[Currency]],[1]!tblXrate[#Data],2,FALSE)","v":40000},"analyst","Analyst","USA",{"$f":"VLOOKUP(tblSalaries[[#This Row],[Where do you work]],[1]!tblCountries[[Actual]:[Mapping]],2,FALSE)","v":"USA"},"4 to 6 hours a day"]
["ID0186","2012-05-26T00:50:38",60000,"USD",{"$f":"tblSalaries[[#This Row],[clean Salary (in local currency)]]*VLOOKUP(tblSalaries[[#This Row],[Currency]],[1]!tblXrate[#Data],2,FALSE)","v":60000},"Senior Staff Accountant","Accountant","USA",{"$f":"VLOOKUP(tblSalaries[[#This Row],[Where do you work]],[1]!tblCountries[[Actual]:[Mapping]],2,FALSE)","v":"USA"},"4 to 6 hours a day"]
["ID0187","2012-05-26T00:50:41",92000,"CAD",{"$f":"tblSalaries[[#This Row],[clean Salary (in local currency)]]*VLOOKUP(tblSalaries[[#This Row],[Currency]],[1]!tblXrate[#Data],2,FALSE)","v":90469.260118790073},"Consultant - Retail Mkts","Consultant","Canada",{"$f":"VLOOKUP(tblSalaries[[#This Row],[Where do you work]],[1]!tblCountries[[Actual]:[Mapping]],2,FALSE)","v":"Canada"},"All the 8 hours baby, all the 8!"]
["ID0188","2012-05-26T00:50:43",13636,"USD",{"$f":"tblSalaries[[#This Row],[clean Salary (in local currency)]]*VLOOKUP(tblSalaries[[#This Row],[Currency]],[1]!tblXrate[#Data],2,FALSE)","v":13636},"Process Manager","Manager","India",{"$f":"VLOOKUP(tblSalaries[[#This Row],[Where do you work]],[1]!tblCountries[[Actual]:[Mapping]],2,FALSE)","v":"India"},"All the 8 hours baby, all the 8!"]
["ID0189","2012-05-26T00:50:43",80000,"USD",{"$f":"tblSalaries[[#This Row],[clean Salary (in local currency)]]*VLOOKUP(tblSalaries[[#This Row],[Currency]],[1]!tblXrate[#Data],2,FALSE)","v":80000},"Project Manager (Process Owner)","Manager","USA",{"$f":"VLOOKUP(tblSalaries[[#This Row],[Where do you work]],[1]!tblCountries[[Actual]:[Mapping]],2,FALSE)","v":"USA"},"2 to 3 hours per day"]
["ID0190","2012-05-26T00:51:00",60000,"CAD",{"$f":"tblSalaries[[#This Row],[clean Salary (in local currency)]]*VLOOKUP(tblSalaries[[#This Row],[Currency]],[1]!tblXrate[#Data],2,FALSE)","v":59001.691381819612},"Demographer","Analyst","Canada",{"$f":"VLOOKUP(tblSalaries[[#This Row],[Where do you work]],[1]!tblCountries[[Actual]:[Mapping]],2,FALSE)","v":"Canada"},"2 to 3 hours per day"]
["ID0192","2012-05-26T00:51:43",28000,"USD",{"$f":"tblSalaries[[#This Row],[clean Salary (in local currency)]]*VLOOKUP(tblSalaries[[#This Row],[Currency]],[1]!tblXrate[#Data],2,FALSE)","v":28000},"Administrative Assistant","Analyst","USA",{"$f":"VLOOKUP(tblSalaries[[#This Row],[Where do you work]],[1]!tblCountries[[Actual]:[Mapping]],2,FALSE)","v":"USA"},"4 to 6 hours a day"]
["ID0193","2012-05-26T00:51:55",60000,"USD",{"$f":"tblSalaries[[#This Row],[clean Salary (in local currency)]]*VLOOKUP(tblSalaries[[#This Row],[Currency]],[1]!tblXrate[#Data],2,FALSE)","v":60000},"Accounting/Financial Analyst","Analyst","USA",{"$f":"VLOOKUP(tblSalaries[[#This Row],[Where do you work]],[1]!tblCountries[[Actual]:[Mapping]],2,FALSE)","v":"USA"},"4 to 6 hours a day"]
["ID0194","2012-05-26T00:51:59",96000,"USD",{"$f":"tblSalaries[[#This Row],[clean Salary (in local currency)]]*VLOOKUP(tblSalaries[[#This Row],[Currency]],[1]!tblXrate[#Data],2,FALSE)","v":96000},"Business Process Specialist","Specialist","USA",{"$f":"VLOOKUP(tblSalaries[[#This Row],[Where do you work]],[1]!tblCountries[[Actual]:[Mapping]],2,FALSE)","v":"USA"},"2 to 3 hours per day"]
["ID0195","2012-05-26T00:52:21",67000,"USD",{"$f":"tblSalaries[[#This Row],[clean Salary (in local currency)]]*VLOOKUP(tblSalaries[[#This Row],[Currency]],[1]!tblXrate[#Data],2,FALSE)","v":67000},"Financial Analyst","Analyst","USA",{"$f":"VLOOKUP(tblSalaries[[#This Row],[Where do you work]],[1]!tblCountries[[Actual]:[Mapping]],2,FALSE)","v":"USA"},"4 to 6 hours a day"]
["ID0196","2012-05-26T00:52:25",70000,"USD",{"$f":"tblSalaries[[#This Row],[clean Salary (in local currency)]]*VLOOKUP(tblSalaries[[#This Row],[Currency]],[1]!tblXrate[#Data],2,FALSE)","v":70000},"Sr Financial Analyst","Analyst","USA",{"$f":"VLOOKUP(tblSalaries[[#This Row],[Where do you work]],[1]!tblCountries[[Actual]:[Mapping]],2,FALSE)","v":"USA"},"4 to 6 hours a day"]
["ID0197","2012-05-26T00:52:30",233000,"INR",{"$f":"tblSalaries[[#This Row],[clean Salary (in local currency)]]*VLOOKUP(tblSalaries[[#This Row],[Currency]],[1]!tblXrate[#Data],2,FALSE)","v":4149.2445881741187},"Asst. Manager (MIS)","Manager","India",{"$f":"VLOOKUP(tblSalaries[[#This Row],[Where do you work]],[1]!tblCountries[[Actual]:[Mapping]],2,FALSE)","v":"India"},"All the 8 hours baby, all the 8!"]
["ID0198","2012-05-26T00:52:37",99000,"USD",{"$f":"tblSalaries[[#This Row],[clean Salary (in local currency)]]*VLOOKUP(tblSalaries[[#This Row],[Currency]],[1]!tblXrate[#Data],2,FALSE)","v":99000},"Business Controller","Controller","USA",{"$f":"VLOOKUP(tblSalaries[[#This Row],[Where do you work]],[1]!tblCountries[[Actual]:[Mapping]],2,FALSE)","v":"USA"},"4 to 6 hours a day"]
["ID0200","2012-05-26T00:53:00",90000,"USD",{"$f":"tblSalaries[[#This Row],[clean Salary (in local currency)]]*VLOOKUP(tblSalaries[[#This Row],[Currency]],[1]!tblXrate[#Data],2,FALSE)","v":90000},"Project Manager","Manager","USA",{"$f":"VLOOKUP(tblSalaries[[#This Row],[Where do you work]],[1]!tblCountries[[Actual]:[Mapping]],2,FALSE)","v":"USA"},"2 to 3 hours per day"]
["ID0201","2012-05-26T00:53:02",275000,"INR",{"$f":"tblSalaries[[#This Row],[clean Salary (in local currency)]]*VLOOKUP(tblSalaries[[#This Row],[Currency]],[1]!tblXrate[#Data],2,FALSE)","v":4897.177089046706},"low level monitoring","Analyst","India",{"$f":"VLOOKUP(tblSalaries[[#This Row],[Where do you work]],[1]!tblCountries[[Actual]:[Mapping]],2,FALSE)","v":"India"},"2 to 3 hours per day"]
["ID0202","2012-05-26T00:53:18",192000,"INR",{"$f":"tblSalaries[[#This Row],[clean Salary (in local currency)]]*VLOOKUP(tblSalaries[[#This Row],[Currency]],[1]!tblXrate[#Data],2,FALSE)","v":3419.1200039889732},"Administrative","Analyst","India",{"$f":"VLOOKUP(tblSalaries[[#This Row],[Where do you work]],[1]!tblCountries[[Actual]:[Mapping]],2,FALSE)","v":"India"},"All the 8 hours baby, all the 8!"]
["ID0203","2012-05-26T00:53:37",51000,"USD",{"$f":"tblSalaries[[#This Row],[clean Salary (in local currency)]]*VLOOKUP(tblSalaries[[#This Row],[Currency]],[1]!tblXrate[#Data],2,FALSE)","v":51000},"Service Line Coordinator","Manager","USA",{"$f":"VLOOKUP(tblSalaries[[#This Row],[Where do you work]],[1]!tblCountries[[Actual]:[Mapping]],2,FALSE)","v":"USA"},"4 to 6 hours a day"]
["ID0204","2012-05-26T00:53:42",100000,"USD",{"$f":"tblSalaries[[#This Row],[clean Salary (in local currency)]]*VLOOKUP(tblSalaries[[#This Row],[Currency]],[1]!tblXrate[#Data],2,FALSE)","v":100000},"Strategic Sourcing Manager","Manager","USA",{"$f":"VLOOKUP(tblSalaries[[#This Row],[Where do you work]],[1]!tblCountries[[Actual]:[Mapping]],2,FALSE)","v":"USA"},"All the 8 hours baby, all the 8!"]
["ID0205","2012-05-26T00:53:46",1800000,"INR",{"$f":"tblSalaries[[#This Row],[clean Salary (in local currency)]]*VLOOKUP(tblSalaries[[#This Row],[Currency]],[1]!tblXrate[#Data],2,FALSE)","v":32054.250037396621},"Chief Manager","Manager","India",{"$f":"VLOOKUP(tblSalaries[[#This Row],[Where do you work]],[1]!tblCountries[[Actual]:[Mapping]],2,FALSE)","v":"India"},"1 or 2 hours a day"]
["ID0207","2012-05-26T00:54:12",30000,"GBP",{"$f":"tblSalaries[[#This Row],[clean Salary (in local currency)]]*VLOOKUP(tblSalaries[[#This Row],[Currency]],[1]!tblXrate[#Data],2,FALSE)","v":47285.348162018527},"Business Intelligence Analyst","Analyst","UK",{"$f":"VLOOKUP(tblSalaries[[#This Row],[Where do you work]],[1]!tblCountries[[Actual]:[Mapping]],2,FALSE)","v":"UK"},"2 to 3 hours per day"]
["ID0208","2012-05-26T00:54:14",50000,"EUR",{"$f":"tblSalaries[[#This Row],[clean Salary (in local currency)]]*VLOOKUP(tblSalaries[[#This Row],[Currency]],[1]!tblXrate[#Data],2,FALSE)","v":63519.971949580387},"Data Analyst","Analyst","Ireland",{"$f":"VLOOKUP(tblSalaries[[#This Row],[Where do you work]],[1]!tblCountries[[Actual]:[Mapping]],2,FALSE)","v":"Ireland"},"4 to 6 hours a day"]
["ID0209","2012-05-26T00:54:16",108160,"USD",{"$f":"tblSalaries[[#This Row],[clean Salary (in local currency)]]*VLOOKUP(tblSalaries[[#This Row],[Currency]],[1]!tblXrate[#Data],2,FALSE)","v":108160},"Sr. Financial Analyst","Analyst","USA",{"$f":"VLOOKUP(tblSalaries[[#This Row],[Where do you work]],[1]!tblCountries[[Actual]:[Mapping]],2,FALSE)","v":"USA"},"4 to 6 hours a day"]
["ID0210","2012-05-26T00:54:27",50000,"USD",{"$f":"tblSalaries[[#This Row],[clean Salary (in local currency)]]*VLOOKUP(tblSalaries[[#This Row],[Currency]],[1]!tblXrate[#Data],2,FALSE)","v":50000},"Buyer","Manager","USA",{"$f":"VLOOKUP(tblSalaries[[#This Row],[Where do you work]],[1]!tblCountries[[Actual]:[Mapping]],2,FALSE)","v":"USA"},"4 to 6 hours a day"]
["ID0211","2012-05-26T00:54:28",400000,"USD",{"$f":"tblSalaries[[#This Row],[clean Salary (in local currency)]]*VLOOKUP(tblSalaries[[#This Row],[Currency]],[1]!tblXrate[#Data],2,FALSE)","v":400000},"program manager","Manager","USA",{"$f":"VLOOKUP(tblSalaries[[#This Row],[Where do you work]],[1]!tblCountries[[Actual]:[Mapping]],2,FALSE)","v":"USA"},"1 or 2 hours a day"]
["ID0212","2012-05-26T00:54:41",43000,"USD",{"$f":"tblSalaries[[#This Row],[clean Salary (in local currency)]]*VLOOKUP(tblSalaries[[#This Row],[Currency]],[1]!tblXrate[#Data],2,FALSE)","v":43000},"Reporting Analyst Team Lead","Analyst","USA",{"$f":"VLOOKUP(tblSalaries[[#This Row],[Where do you work]],[1]!tblCountries[[Actual]:[Mapping]],2,FALSE)","v":"USA"},"All the 8 hours baby, all the 8!"]
["ID0213","2012-05-26T00:54:46",27000,"USD",{"$f":"tblSalaries[[#This Row],[clean Salary (in local currency)]]*VLOOKUP(tblSalaries[[#This Row],[Currency]],[1]!tblXrate[#Data],2,FALSE)","v":27000},"Innovation Analyst","Analyst","Singapore",{"$f":"VLOOKUP(tblSalaries[[#This Row],[Where do you work]],[1]!tblCountries[[Actual]:[Mapping]],2,FALSE)","v":"Singapore"},"All the 8 hours baby, all the 8!"]
["ID0214","2012-05-26T00:54:56",41000,"USD",{"$f":"tblSalaries[[#This Row],[clean Salary (in local currency)]]*VLOOKUP(tblSalaries[[#This Row],[Currency]],[1]!tblXrate[#Data],2,FALSE)","v":41000},"Operations Expert","Manager","USA",{"$f":"VLOOKUP(tblSalaries[[#This Row],[Where do you work]],[1]!tblCountries[[Actual]:[Mapping]],2,FALSE)","v":"USA"},"All the 8 hours baby, all the 8!"]
["ID0215","2012-05-26T00:55:06",100000,"USD",{"$f":"tblSalaries[[#This Row],[clean Salary (in local currency)]]*VLOOKUP(tblSalaries[[#This Row],[Currency]],[1]!tblXrate[#Data],2,FALSE)","v":100000},"Director of Finance","CXO or Top Mgmt.","USA",{"$f":"VLOOKUP(tblSalaries[[#This Row],[Where do you work]],[1]!tblCountries[[Actual]:[Mapping]],2,FALSE)","v":"USA"},"4 to 6 hours a day"]
["ID0216","2012-05-26T00:55:50",42140,"USD",{"$f":"tblSalaries[[#This Row],[clean Salary (in local currency)]]*VLOOKUP(tblSalaries[[#This Row],[Currency]],[1]!tblXrate[#Data],2,FALSE)","v":42140},"Information Analyst II","Analyst","USA",{"$f":"VLOOKUP(tblSalaries[[#This Row],[Where do you work]],[1]!tblCountries[[Actual]:[Mapping]],2,FALSE)","v":"USA"},"4 to 6 hours a day"]
["ID0217","2012-05-26T00:56:06",80000,"USD",{"$f":"tblSalaries[[#This Row],[clean Salary (in local currency)]]*VLOOKUP(tblSalaries[[#This Row],[Currency]],[1]!tblXrate[#Data],2,FALSE)","v":80000},"Marketing Analyst","Analyst","USA",{"$f":"VLOOKUP(tblSalaries[[#This Row],[Where do you work]],[1]!tblCountries[[Actual]:[Mapping]],2,FALSE)","v":"USA"},"4 to 6 hours a day"]
["ID0218","2012-05-26T00:56:37",41600,"USD",{"$f":"tblSalaries[[#This Row],[clean Salary (in local currency)]]*VLOOKUP(tblSalaries[[#This Row],[Currency]],[1]!tblXrate[#Data],2,FALSE)","v":41600},"Project Manager","Manager","USA",{"$f":"VLOOKUP(tblSalaries[[#This Row],[Where do you work]],[1]!tblCountries[[Actual]:[Mapping]],2,FALSE)","v":"USA"},"4 to 6 hours a day"]
["ID0219","2012-05-26T00:56:37",45000,"USD",{"$f":"tblSalaries[[#This Row],[clean Salary (in local currency)]]*VLOOKUP(tblSalaries[[#This Row],[Currency]],[1]!tblXrate[#Data],2,FALSE)","v":45000},"Accounting Assistant","Accountant","USA",{"$f":"VLOOKUP(tblSalaries[[#This Row],[Where do you work]],[1]!tblCountries[[Actual]:[Mapping]],2,FALSE)","v":"USA"},"2 to 3 hours per day"]
["ID0220","2012-05-26T00:56:54",78000,"USD",{"$f":"tblSalaries[[#This Row],[clean Salary (in local currency)]]*VLOOKUP(tblSalaries[[#This Row],[Currency]],[1]!tblXrate[#Data],2,FALSE)","v":78000},"Tax Professional","Accountant","Bermuda",{"$f":"VLOOKUP(tblSalaries[[#This Row],[Where do you work]],[1]!tblCountries[[Actual]:[Mapping]],2,FALSE)","v":"Bermuda"},"4 to 6 hours a day"]
["ID0221","2012-05-26T00:57:21",500000,"INR",{"$f":"tblSalaries[[#This Row],[clean Salary (in local currency)]]*VLOOKUP(tblSalaries[[#This Row],[Currency]],[1]!tblXrate[#Data],2,FALSE)","v":8903.9583437212841},"Project Manager","Manager","India",{"$f":"VLOOKUP(tblSalaries[[#This Row],[Where do you work]],[1]!tblCountries[[Actual]:[Mapping]],2,FALSE)","v":"India"},"4 to 6 hours a day"]
["ID0222","2012-05-26T00:57:35",350000,"INR",{"$f":"tblSalaries[[#This Row],[clean Salary (in local currency)]]*VLOOKUP(tblSalaries[[#This Row],[Currency]],[1]!tblXrate[#Data],2,FALSE)","v":6232.7708406048987},"Jr. Executive Finance","Accountant","India",{"$f":"VLOOKUP(tblSalaries[[#This Row],[Where do you work]],[1]!tblCountries[[Actual]:[Mapping]],2,FALSE)","v":"India"},"4 to 6 hours a day"]
["ID0223","2012-05-26T00:57:44",72500,"USD",{"$f":"tblSalaries[[#This Row],[clean Salary (in local currency)]]*VLOOKUP(tblSalaries[[#This Row],[Currency]],[1]!tblXrate[#Data],2,FALSE)","v":72500},"Assistant Controller","Controller","USA",{"$f":"VLOOKUP(tblSalaries[[#This Row],[Where do you work]],[1]!tblCountries[[Actual]:[Mapping]],2,FALSE)","v":"USA"},"4 to 6 hours a day"]
["ID0224","2012-05-26T00:57:52",138000,"USD",{"$f":"tblSalaries[[#This Row],[clean Salary (in local currency)]]*VLOOKUP(tblSalaries[[#This Row],[Currency]],[1]!tblXrate[#Data],2,FALSE)","v":138000},"Project engineer","Engineer","Thailand",{"$f":"VLOOKUP(tblSalaries[[#This Row],[Where do you work]],[1]!tblCountries[[Actual]:[Mapping]],2,FALSE)","v":"Thailand"},"4 to 6 hours a day"]
["ID0225","2012-05-26T00:58:03",480000,"INR",{"$f":"tblSalaries[[#This Row],[clean Salary (in local currency)]]*VLOOKUP(tblSalaries[[#This Row],[Currency]],[1]!tblXrate[#Data],2,FALSE)","v":8547.8000099724322},"Cash Officer","Manager","India",{"$f":"VLOOKUP(tblSalaries[[#This Row],[Where do you work]],[1]!tblCountries[[Actual]:[Mapping]],2,FALSE)","v":"India"},"4 to 6 hours a day"]
["ID0226","2012-05-26T00:58:05",80000,"USD",{"$f":"tblSalaries[[#This Row],[clean Salary (in local currency)]]*VLOOKUP(tblSalaries[[#This Row],[Currency]],[1]!tblXrate[#Data],2,FALSE)","v":80000},"Senior Analyst","Analyst","USA",{"$f":"VLOOKUP(tblSalaries[[#This Row],[Where do you work]],[1]!tblCountries[[Actual]:[Mapping]],2,FALSE)","v":"USA"},"4 to 6 hours a day"]
["ID0227","2012-05-26T00:58:06",50000,"USD",{"$f":"tblSalaries[[#This Row],[clean Salary (in local currency)]]*VLOOKUP(tblSalaries[[#This Row],[Currency]],[1]!tblXrate[#Data],2,FALSE)","v":50000},"Project Manager","Manager","USA",{"$f":"VLOOKUP(tblSalaries[[#This Row],[Where do you work]],[1]!tblCountries[[Actual]:[Mapping]],2,FALSE)","v":"USA"},"4 to 6 hours a day"]
["ID0228","2012-05-26T00:58:10",45000,"CAD",{"$f":"tblSalaries[[#This Row],[clean Salary (in local currency)]]*VLOOKUP(tblSalaries[[#This Row],[Currency]],[1]!tblXrate[#Data],2,FALSE)","v":44251.268536364711},"Technical support specialist","Specialist","Canada",{"$f":"VLOOKUP(tblSalaries[[#This Row],[Where do you work]],[1]!tblCountries[[Actual]:[Mapping]],2,FALSE)","v":"Canada"},"1 or 2 hours a day"]
["ID0229","2012-05-26T00:58:22",43000,"GBP",{"$f":"tblSalaries[[#This Row],[clean Salary (in local currency)]]*VLOOKUP(tblSalaries[[#This Row],[Currency]],[1]!tblXrate[#Data],2,FALSE)","v":67775.665698893223},"ServiceDesk Supervisor","Manager","UK",{"$f":"VLOOKUP(tblSalaries[[#This Row],[Where do you work]],[1]!tblCountries[[Actual]:[Mapping]],2,FALSE)","v":"UK"},"2 to 3 hours per day"]
["ID0230","2012-05-26T00:58:56",200000,"INR",{"$f":"tblSalaries[[#This Row],[clean Salary (in local currency)]]*VLOOKUP(tblSalaries[[#This Row],[Currency]],[1]!tblXrate[#Data],2,FALSE)","v":3561.5833374885137},"medical biller","Analyst","India",{"$f":"VLOOKUP(tblSalaries[[#This Row],[Where do you work]],[1]!tblCountries[[Actual]:[Mapping]],2,FALSE)","v":"India"},"1 or 2 hours a day"]
["ID0231","2012-05-26T00:59:03",65000,"USD",{"$f":"tblSalaries[[#This Row],[clean Salary (in local currency)]]*VLOOKUP(tblSalaries[[#This Row],[Currency]],[1]!tblXrate[#Data],2,FALSE)","v":65000},"Sr. Strategic Development Specialist","Specialist","USA",{"$f":"VLOOKUP(tblSalaries[[#This Row],[Where do you work]],[1]!tblCountries[[Actual]:[Mapping]],2,FALSE)","v":"USA"},"2 to 3 hours per day"]
["ID0232","2012-05-26T00:59:09",114000,"USD",{"$f":"tblSalaries[[#This Row],[clean Salary (in local currency)]]*VLOOKUP(tblSalaries[[#This Row],[Currency]],[1]!tblXrate[#Data],2,FALSE)","v":114000},"Director","CXO or Top Mgmt.","USA",{"$f":"VLOOKUP(tblSalaries[[#This Row],[Where do you work]],[1]!tblCountries[[Actual]:[Mapping]],2,FALSE)","v":"USA"},"2 to 3 hours per day"]
["ID0233","2012-05-26T00:59:27",95000,"USD",{"$f":"tblSalaries[[#This Row],[clean Salary (in local currency)]]*VLOOKUP(tblSalaries[[#This Row],[Currency]],[1]!tblXrate[#Data],2,FALSE)","v":95000},"VP - Procurment","CXO or Top Mgmt.","USA",{"$f":"VLOOKUP(tblSalaries[[#This Row],[Where do you work]],[1]!tblCountries[[Actual]:[Mapping]],2,FALSE)","v":"USA"},"4 to 6 hours a day"]
["ID0234","2012-05-26T01:00:51",52500,"USD",{"$f":"tblSalaries[[#This Row],[clean Salary (in local currency)]]*VLOOKUP(tblSalaries[[#This Row],[Currency]],[1]!tblXrate[#Data],2,FALSE)","v":52500},"HRIS Analyst","Analyst","USA",{"$f":"VLOOKUP(tblSalaries[[#This Row],[Where do you work]],[1]!tblCountries[[Actual]:[Mapping]],2,FALSE)","v":"USA"},"4 to 6 hours a day"]
["ID0235","2012-05-26T01:01:03",45000,"GBP",{"$f":"tblSalaries[[#This Row],[clean Salary (in local currency)]]*VLOOKUP(tblSalaries[[#This Row],[Currency]],[1]!tblXrate[#Data],2,FALSE)","v":70928.022243027779},"Procurement manager","Manager","UK",{"$f":"VLOOKUP(tblSalaries[[#This Row],[Where do you work]],[1]!tblCountries[[Actual]:[Mapping]],2,FALSE)","v":"UK"},"2 to 3 hours per day"]
["ID0236","2012-05-26T01:01:32",60000,"USD",{"$f":"tblSalaries[[#This Row],[clean Salary (in local currency)]]*VLOOKUP(tblSalaries[[#This Row],[Currency]],[1]!tblXrate[#Data],2,FALSE)","v":60000},"Energy Analyst","Analyst","USA",{"$f":"VLOOKUP(tblSalaries[[#This Row],[Where do you work]],[1]!tblCountries[[Actual]:[Mapping]],2,FALSE)","v":"USA"},"4 to 6 hours a day"]
["ID0237","2012-05-26T01:02:04",65250,"USD",{"$f":"tblSalaries[[#This Row],[clean Salary (in local currency)]]*VLOOKUP(tblSalaries[[#This Row],[Currency]],[1]!tblXrate[#Data],2,FALSE)","v":65250},"Accountant","Accountant","USA",{"$f":"VLOOKUP(tblSalaries[[#This Row],[Where do you work]],[1]!tblCountries[[Actual]:[Mapping]],2,FALSE)","v":"USA"},"4 to 6 hours a day"]
["ID0238","2012-05-26T01:02:07",1200000,"INR",{"$f":"tblSalaries[[#This Row],[clean Salary (in local currency)]]*VLOOKUP(tblSalaries[[#This Row],[Currency]],[1]!tblXrate[#Data],2,FALSE)","v":21369.500024931083},"Branch head -sales","Manager","India",{"$f":"VLOOKUP(tblSalaries[[#This Row],[Where do you work]],[1]!tblCountries[[Actual]:[Mapping]],2,FALSE)","v":"India"},"2 to 3 hours per day"]
["ID0239","2012-05-26T01:02:10",100000,"CAD",{"$f":"tblSalaries[[#This Row],[clean Salary (in local currency)]]*VLOOKUP(tblSalaries[[#This Row],[Currency]],[1]!tblXrate[#Data],2,FALSE)","v":98336.152303032693},"retail buyer","Manager","Canada",{"$f":"VLOOKUP(tblSalaries[[#This Row],[Where do you work]],[1]!tblCountries[[Actual]:[Mapping]],2,FALSE)","v":"Canada"},"2 to 3 hours per day"]
["ID0240","2012-05-26T01:02:16",12000,"EUR",{"$f":"tblSalaries[[#This Row],[clean Salary (in local currency)]]*VLOOKUP(tblSalaries[[#This Row],[Currency]],[1]!tblXrate[#Data],2,FALSE)","v":15244.793267899293},"HR Specialist","Specialist","Portugal",{"$f":"VLOOKUP(tblSalaries[[#This Row],[Where do you work]],[1]!tblCountries[[Actual]:[Mapping]],2,FALSE)","v":"Portugal"},"All the 8 hours baby, all the 8!"]
["ID0241","2012-05-26T01:02:21",73000,"USD",{"$f":"tblSalaries[[#This Row],[clean Salary (in local currency)]]*VLOOKUP(tblSalaries[[#This Row],[Currency]],[1]!tblXrate[#Data],2,FALSE)","v":73000},"Financial Analyst","Analyst","USA",{"$f":"VLOOKUP(tblSalaries[[#This Row],[Where do you work]],[1]!tblCountries[[Actual]:[Mapping]],2,FALSE)","v":"USA"},"4 to 6 hours a day"]
["ID0242","2012-05-26T01:02:47",50000,"USD",{"$f":"tblSalaries[[#This Row],[clean Salary (in local currency)]]*VLOOKUP(tblSalaries[[#This Row],[Currency]],[1]!tblXrate[#Data],2,FALSE)","v":50000},"data analyst","Analyst","USA",{"$f":"VLOOKUP(tblSalaries[[#This Row],[Where do you work]],[1]!tblCountries[[Actual]:[Mapping]],2,FALSE)","v":"USA"},"All the 8 hours baby, all the 8!"]
["ID0243","2012-05-26T01:02:51",79000,"USD",{"$f":"tblSalaries[[#This Row],[clean Salary (in local currency)]]*VLOOKUP(tblSalaries[[#This Row],[Currency]],[1]!tblXrate[#Data],2,FALSE)","v":79000},"Director of Finance and Accounting","Accountant","USA",{"$f":"VLOOKUP(tblSalaries[[#This Row],[Where do you work]],[1]!tblCountries[[Actual]:[Mapping]],2,FALSE)","v":"USA"},"2 to 3 hours per day"]
["ID0244","2012-05-26T01:03:07",90000,"USD",{"$f":"tblSalaries[[#This Row],[clean Salary (in local currency)]]*VLOOKUP(tblSalaries[[#This Row],[Currency]],[1]!tblXrate[#Data],2,FALSE)","v":90000},"Manager Business Control","Manager","USA",{"$f":"VLOOKUP(tblSalaries[[#This Row],[Where do you work]],[1]!tblCountries[[Actual]:[Mapping]],2,FALSE)","v":"USA"},"4 to 6 hours a day"]
["ID0245","2012-05-26T01:03:28",70000,"USD",{"$f":"tblSalaries[[#This Row],[clean Salary (in local currency)]]*VLOOKUP(tblSalaries[[#This Row],[Currency]],[1]!tblXrate[#Data],2,FALSE)","v":70000},"Manager Pricing","Manager","USA",{"$f":"VLOOKUP(tblSalaries[[#This Row],[Where do you work]],[1]!tblCountries[[Actual]:[Mapping]],2,FALSE)","v":"USA"},"2 to 3 hours per day"]
["ID0246","2012-05-26T01:03:34",65000,"CAD",{"$f":"tblSalaries[[#This Row],[clean Salary (in local currency)]]*VLOOKUP(tblSalaries[[#This Row],[Currency]],[1]!tblXrate[#Data],2,FALSE)","v":63918.498996971248},"Insurance Manager","Manager","Canada",{"$f":"VLOOKUP(tblSalaries[[#This Row],[Where do you work]],[1]!tblCountries[[Actual]:[Mapping]],2,FALSE)","v":"Canada"},"4 to 6 hours a day"]
["ID0247","2012-05-26T01:03:52",80000,"USD",{"$f":"tblSalaries[[#This Row],[clean Salary (in local currency)]]*VLOOKUP(tblSalaries[[#This Row],[Currency]],[1]!tblXrate[#Data],2,FALSE)","v":80000},"Analyst","Analyst","USA",{"$f":"VLOOKUP(tblSalaries[[#This Row],[Where do you work]],[1]!tblCountries[[Actual]:[Mapping]],2,FALSE)","v":"USA"},"4 to 6 hours a day"]
["ID0248","2012-05-26T01:03:54",140000,"USD",{"$f":"tblSalaries[[#This Row],[clean Salary (in local currency)]]*VLOOKUP(tblSalaries[[#This Row],[Currency]],[1]!tblXrate[#Data],2,FALSE)","v":140000},"Manager","Manager","USA",{"$f":"VLOOKUP(tblSalaries[[#This Row],[Where do you work]],[1]!tblCountries[[Actual]:[Mapping]],2,FALSE)","v":"USA"},"4 to 6 hours a day"]
["ID0249","2012-05-26T01:04:13",96000,"USD",{"$f":"tblSalaries[[#This Row],[clean Salary (in local currency)]]*VLOOKUP(tblSalaries[[#This Row],[Currency]],[1]!tblXrate[#Data],2,FALSE)","v":96000},"Freellance","Consultant","Poland",{"$f":"VLOOKUP(tblSalaries[[#This Row],[Where do you work]],[1]!tblCountries[[Actual]:[Mapping]],2,FALSE)","v":"Poland"},"2 to 3 hours per day"]
["ID0250","2012-05-26T01:04:17",20000,"USD",{"$f":"tblSalaries[[#This Row],[clean Salary (in local currency)]]*VLOOKUP(tblSalaries[[#This Row],[Currency]],[1]!tblXrate[#Data],2,FALSE)","v":20000},"category manager","Manager","India",{"$f":"VLOOKUP(tblSalaries[[#This Row],[Where do you work]],[1]!tblCountries[[Actual]:[Mapping]],2,FALSE)","v":"India"},"4 to 6 hours a day"]
["ID0251","2012-05-26T01:04:50",47700,"USD",{"$f":"tblSalaries[[#This Row],[clean Salary (in local currency)]]*VLOOKUP(tblSalaries[[#This Row],[Currency]],[1]!tblXrate[#Data],2,FALSE)","v":47700},"Customer Operations Analyst","Analyst","USA",{"$f":"VLOOKUP(tblSalaries[[#This Row],[Where do you work]],[1]!tblCountries[[Actual]:[Mapping]],2,FALSE)","v":"USA"},"4 to 6 hours a day"]
["ID0252","2012-05-26T01:05:14",25000,"USD",{"$f":"tblSalaries[[#This Row],[clean Salary (in local currency)]]*VLOOKUP(tblSalaries[[#This Row],[Currency]],[1]!tblXrate[#Data],2,FALSE)","v":25000},"Team Lead","Manager","India",{"$f":"VLOOKUP(tblSalaries[[#This Row],[Where do you work]],[1]!tblCountries[[Actual]:[Mapping]],2,FALSE)","v":"India"},"1 or 2 hours a day"]
["ID0253","2012-05-26T01:05:18",52500,"USD",{"$f":"tblSalaries[[#This Row],[clean Salary (in local currency)]]*VLOOKUP(tblSalaries[[#This Row],[Currency]],[1]!tblXrate[#Data],2,FALSE)","v":52500},"Analyst","Analyst","USA",{"$f":"VLOOKUP(tblSalaries[[#This Row],[Where do you work]],[1]!tblCountries[[Actual]:[Mapping]],2,FALSE)","v":"USA"},"4 to 6 hours a day"]
["ID0254","2012-05-26T01:05:27",40000,"USD",{"$f":"tblSalaries[[#This Row],[clean Salary (in local currency)]]*VLOOKUP(tblSalaries[[#This Row],[Currency]],[1]!tblXrate[#Data],2,FALSE)","v":40000},"Business Analyst","Analyst","USA",{"$f":"VLOOKUP(tblSalaries[[#This Row],[Where do you work]],[1]!tblCountries[[Actual]:[Mapping]],2,FALSE)","v":"USA"},"All the 8 hours baby, all the 8!"]
["ID0255","2012-05-26T01:06:02",31000,"USD",{"$f":"tblSalaries[[#This Row],[clean Salary (in local currency)]]*VLOOKUP(tblSalaries[[#This Row],[Currency]],[1]!tblXrate[#Data],2,FALSE)","v":31000},"Site Technician","Analyst","USA",{"$f":"VLOOKUP(tblSalaries[[#This Row],[Where do you work]],[1]!tblCountries[[Actual]:[Mapping]],2,FALSE)","v":"USA"},"4 to 6 hours a day"]
["ID0256","2012-05-26T01:06:12",52680,"GBP",{"$f":"tblSalaries[[#This Row],[clean Salary (in local currency)]]*VLOOKUP(tblSalaries[[#This Row],[Currency]],[1]!tblXrate[#Data],2,FALSE)","v":83033.071372504521},"Excel Consultant","Consultant","UK",{"$f":"VLOOKUP(tblSalaries[[#This Row],[Where do you work]],[1]!tblCountries[[Actual]:[Mapping]],2,FALSE)","v":"UK"},"All the 8 hours baby, all the 8!"]
["ID0257","2012-05-26T01:06:31",130000,"USD",{"$f":"tblSalaries[[#This Row],[clean Salary (in local currency)]]*VLOOKUP(tblSalaries[[#This Row],[Currency]],[1]!tblXrate[#Data],2,FALSE)","v":130000},"Senior Project Manager","Manager","USA",{"$f":"VLOOKUP(tblSalaries[[#This Row],[Where do you work]],[1]!tblCountries[[Actual]:[Mapping]],2,FALSE)","v":"USA"},"4 to 6 hours a day"]
["ID0258","2012-05-26T01:06:38",470000,"INR",{"$f":"tblSalaries[[#This Row],[clean Salary (in local currency)]]*VLOOKUP(tblSalaries[[#This Row],[Currency]],[1]!tblXrate[#Data],2,FALSE)","v":8369.7208430980063},"Web Statistics Analyst","Analyst","India",{"$f":"VLOOKUP(tblSalaries[[#This Row],[Where do you work]],[1]!tblCountries[[Actual]:[Mapping]],2,FALSE)","v":"India"},"All the 8 hours baby, all the 8!"]
["ID0259","2012-05-26T01:07:02",51000,"USD",{"$f":"tblSalaries[[#This Row],[clean Salary (in local currency)]]*VLOOKUP(tblSalaries[[#This Row],[Currency]],[1]!tblXrate[#Data],2,FALSE)","v":51000},"Business Data Analyst I","Analyst","USA",{"$f":"VLOOKUP(tblSalaries[[#This Row],[Where do you work]],[1]!tblCountries[[Actual]:[Mapping]],2,FALSE)","v":"USA"},"2 to 3 hours per day"]
["ID0260","2012-05-26T01:07:18",60000,"GBP",{"$f":"tblSalaries[[#This Row],[clean Salary (in local currency)]]*VLOOKUP(tblSalaries[[#This Row],[Currency]],[1]!tblXrate[#Data],2,FALSE)","v":94570.696324037053},"Decision Analyst & Modeller","Analyst","UK",{"$f":"VLOOKUP(tblSalaries[[#This Row],[Where do you work]],[1]!tblCountries[[Actual]:[Mapping]],2,FALSE)","v":"UK"},"All the 8 hours baby, all the 8!"]
["ID0261","2012-05-26T01:07:42",1920000,"INR",{"$f":"tblSalaries[[#This Row],[clean Salary (in local currency)]]*VLOOKUP(tblSalaries[[#This Row],[Currency]],[1]!tblXrate[#Data],2,FALSE)","v":34191.200039889729},"Project Manager","Manager","India",{"$f":"VLOOKUP(tblSalaries[[#This Row],[Where do you work]],[1]!tblCountries[[Actual]:[Mapping]],2,FALSE)","v":"India"},"2 to 3 hours per day"]
["ID0262","2012-05-26T01:08:00",28000,"GBP",{"$f":"tblSalaries[[#This Row],[clean Salary (in local currency)]]*VLOOKUP(tblSalaries[[#This Row],[Currency]],[1]!tblXrate[#Data],2,FALSE)","v":44132.991617883956},"Ops Adminstrator","Analyst","UK",{"$f":"VLOOKUP(tblSalaries[[#This Row],[Where do you work]],[1]!tblCountries[[Actual]:[Mapping]],2,FALSE)","v":"UK"},"All the 8 hours baby, all the 8!"]
["ID0263","2012-05-26T01:08:04",73000,"USD",{"$f":"tblSalaries[[#This Row],[clean Salary (in local currency)]]*VLOOKUP(tblSalaries[[#This Row],[Currency]],[1]!tblXrate[#Data],2,FALSE)","v":73000},"Sr. Global marketing Specialist","Specialist","USA",{"$f":"VLOOKUP(tblSalaries[[#This Row],[Where do you work]],[1]!tblCountries[[Actual]:[Mapping]],2,FALSE)","v":"USA"},"4 to 6 hours a day"]
["ID0264","2012-05-26T01:08:19",62400,"USD",{"$f":"tblSalaries[[#This Row],[clean Salary (in local currency)]]*VLOOKUP(tblSalaries[[#This Row],[Currency]],[1]!tblXrate[#Data],2,FALSE)","v":62400},"financial accountant","Accountant","USA",{"$f":"VLOOKUP(tblSalaries[[#This Row],[Where do you work]],[1]!tblCountries[[Actual]:[Mapping]],2,FALSE)","v":"USA"},"All the 8 hours baby, all the 8!"]
["ID0265","2012-05-26T01:08:21",27600,"USD",{"$f":"tblSalaries[[#This Row],[clean Salary (in local currency)]]*VLOOKUP(tblSalaries[[#This Row],[Currency]],[1]!tblXrate[#Data],2,FALSE)","v":27600},"Software Consultant","Consultant","Singapore",{"$f":"VLOOKUP(tblSalaries[[#This Row],[Where do you work]],[1]!tblCountries[[Actual]:[Mapping]],2,FALSE)","v":"Singapore"},"All the 8 hours baby, all the 8!"]
["ID0266","2012-05-26T01:08:35",54000,"USD",{"$f":"tblSalaries[[#This Row],[clean Salary (in local currency)]]*VLOOKUP(tblSalaries[[#This Row],[Currency]],[1]!tblXrate[#Data],2,FALSE)","v":54000},"Anaylst","Manager","USA",{"$f":"VLOOKUP(tblSalaries[[#This Row],[Where do you work]],[1]!tblCountries[[Actual]:[Mapping]],2,FALSE)","v":"USA"},"All the 8 hours baby, all the 8!"]
["ID0267","2012-05-26T01:08:39",276000,"INR",{"$f":"tblSalaries[[#This Row],[clean Salary (in local currency)]]*VLOOKUP(tblSalaries[[#This Row],[Currency]],[1]!tblXrate[#Data],2,FALSE)","v":4914.9850057341491},"analyst","Analyst","India",{"$f":"VLOOKUP(tblSalaries[[#This Row],[Where do you work]],[1]!tblCountries[[Actual]:[Mapping]],2,FALSE)","v":"India"},"All the 8 hours baby, all the 8!"]
["ID0268","2012-05-26T01:08:42",77000,"USD",{"$f":"tblSalaries[[#This Row],[clean Salary (in local currency)]]*VLOOKUP(tblSalaries[[#This Row],[Currency]],[1]!tblXrate[#Data],2,FALSE)","v":77000},"senior accounting coordinator","Accountant","USA",{"$f":"VLOOKUP(tblSalaries[[#This Row],[Where do you work]],[1]!tblCountries[[Actual]:[Mapping]],2,FALSE)","v":"USA"},"4 to 6 hours a day"]
["ID0269","2012-05-26T01:09:01",76000,"USD",{"$f":"tblSalaries[[#This Row],[clean Salary (in local currency)]]*VLOOKUP(tblSalaries[[#This Row],[Currency]],[1]!tblXrate[#Data],2,FALSE)","v":76000},"Demand Planning Mgr","Manager","USA",{"$f":"VLOOKUP(tblSalaries[[#This Row],[Where do you work]],[1]!tblCountries[[Actual]:[Mapping]],2,FALSE)","v":"USA"},"All the 8 hours baby, all the 8!"]
["ID0270","2012-05-26T01:09:32",103000,"USD",{"$f":"tblSalaries[[#This Row],[clean Salary (in local currency)]]*VLOOKUP(tblSalaries[[#This Row],[Currency]],[1]!tblXrate[#Data],2,FALSE)","v":103000},"VP / Credit Administrator","CXO or Top Mgmt.","USA",{"$f":"VLOOKUP(tblSalaries[[#This Row],[Where do you work]],[1]!tblCountries[[Actual]:[Mapping]],2,FALSE)","v":"USA"},"2 to 3 hours per day"]
["ID0271","2012-05-26T01:09:34",7600,"USD",{"$f":"tblSalaries[[#This Row],[clean Salary (in local currency)]]*VLOOKUP(tblSalaries[[#This Row],[Currency]],[1]!tblXrate[#Data],2,FALSE)","v":7600},"DP specialist","Specialist","Ukraine",{"$f":"VLOOKUP(tblSalaries[[#This Row],[Where do you work]],[1]!tblCountries[[Actual]:[Mapping]],2,FALSE)","v":"Ukraine"},"1 or 2 hours a day"]
["ID0272","2012-05-26T01:09:56",40000,"USD",{"$f":"tblSalaries[[#This Row],[clean Salary (in local currency)]]*VLOOKUP(tblSalaries[[#This Row],[Currency]],[1]!tblXrate[#Data],2,FALSE)","v":40000},"Analyst 2","Analyst","USA",{"$f":"VLOOKUP(tblSalaries[[#This Row],[Where do you work]],[1]!tblCountries[[Actual]:[Mapping]],2,FALSE)","v":"USA"},"4 to 6 hours a day"]
["ID0273","2012-05-26T01:10:20",80000,"USD",{"$f":"tblSalaries[[#This Row],[clean Salary (in local currency)]]*VLOOKUP(tblSalaries[[#This Row],[Currency]],[1]!tblXrate[#Data],2,FALSE)","v":80000},"VP","CXO or Top Mgmt.","USA",{"$f":"VLOOKUP(tblSalaries[[#This Row],[Where do you work]],[1]!tblCountries[[Actual]:[Mapping]],2,FALSE)","v":"USA"},"2 to 3 hours per day"]
["ID0274","2012-05-26T01:10:24",55000,"USD",{"$f":"tblSalaries[[#This Row],[clean Salary (in local currency)]]*VLOOKUP(tblSalaries[[#This Row],[Currency]],[1]!tblXrate[#Data],2,FALSE)","v":55000},"data analyst","Analyst","USA",{"$f":"VLOOKUP(tblSalaries[[#This Row],[Where do you work]],[1]!tblCountries[[Actual]:[Mapping]],2,FALSE)","v":"USA"},"All the 8 hours baby, all the 8!"]
["ID0275","2012-05-26T01:10:55",99000,"USD",{"$f":"tblSalaries[[#This Row],[clean Salary (in local currency)]]*VLOOKUP(tblSalaries[[#This Row],[Currency]],[1]!tblXrate[#Data],2,FALSE)","v":99000},"Business Analyst","Analyst","USA",{"$f":"VLOOKUP(tblSalaries[[#This Row],[Where do you work]],[1]!tblCountries[[Actual]:[Mapping]],2,FALSE)","v":"USA"},"2 to 3 hours per day"]
["ID0276","2012-05-26T01:10:56",420000,"PHP",{"$f":"tblSalaries[[#This Row],[clean Salary (in local currency)]]*VLOOKUP(tblSalaries[[#This Row],[Currency]],[1]!tblXrate[#Data],2,FALSE)","v":9956.1219482708348},"Global Problem Management - IT","Manager","Philippines",{"$f":"VLOOKUP(tblSalaries[[#This Row],[Where do you work]],[1]!tblCountries[[Actual]:[Mapping]],2,FALSE)","v":"Philippines"},"4 to 6 hours a day"]
["ID0277","2012-05-26T01:11:12",75000,"USD",{"$f":"tblSalaries[[#This Row],[clean Salary (in local currency)]]*VLOOKUP(tblSalaries[[#This Row],[Currency]],[1]!tblXrate[#Data],2,FALSE)","v":75000},"financial analyst","Analyst","USA",{"$f":"VLOOKUP(tblSalaries[[#This Row],[Where do you work]],[1]!tblCountries[[Actual]:[Mapping]],2,FALSE)","v":"USA"},"4 to 6 hours a day"]
["ID0278","2012-05-26T01:11:54",80000,"USD",{"$f":"tblSalaries[[#This Row],[clean Salary (in local currency)]]*VLOOKUP(tblSalaries[[#This Row],[Currency]],[1]!tblXrate[#Data],2,FALSE)","v":80000},"Enterprise Performance Metrics Manager","Manager","USA",{"$f":"VLOOKUP(tblSalaries[[#This Row],[Where do you work]],[1]!tblCountries[[Actual]:[Mapping]],2,FALSE)","v":"USA"},"2 to 3 hours per day"]
["ID0279","2012-05-26T01:12:41",20000,"USD",{"$f":"tblSalaries[[#This Row],[clean Salary (in local currency)]]*VLOOKUP(tblSalaries[[#This Row],[Currency]],[1]!tblXrate[#Data],2,FALSE)","v":20000},"Analyst","Analyst","India",{"$f":"VLOOKUP(tblSalaries[[#This Row],[Where do you work]],[1]!tblCountries[[Actual]:[Mapping]],2,FALSE)","v":"India"},"All the 8 hours baby, all the 8!"]
["ID0280","2012-05-26T01:13:50",40000,"USD",{"$f":"tblSalaries[[#This Row],[clean Salary (in local currency)]]*VLOOKUP(tblSalaries[[#This Row],[Currency]],[1]!tblXrate[#Data],2,FALSE)","v":40000},"Business Analyst","Analyst","USA",{"$f":"VLOOKUP(tblSalaries[[#This Row],[Where do you work]],[1]!tblCountries[[Actual]:[Mapping]],2,FALSE)","v":"USA"},"All the 8 hours baby, all the 8!"]
["ID0281","2012-05-26T01:14:27",46000,"USD",{"$f":"tblSalaries[[#This Row],[clean Salary (in local currency)]]*VLOOKUP(tblSalaries[[#This Row],[Currency]],[1]!tblXrate[#Data],2,FALSE)","v":46000},"University Relations Intern","Analyst","USA",{"$f":"VLOOKUP(tblSalaries[[#This Row],[Where do you work]],[1]!tblCountries[[Actual]:[Mapping]],2,FALSE)","v":"USA"},"All the 8 hours baby, all the 8!"]
["ID0282","2012-05-26T01:14:55",14000,"USD",{"$f":"tblSalaries[[#This Row],[clean Salary (in local currency)]]*VLOOKUP(tblSalaries[[#This Row],[Currency]],[1]!tblXrate[#Data],2,FALSE)","v":14000},"Auxiliar Administrativo","Analyst","Brazil",{"$f":"VLOOKUP(tblSalaries[[#This Row],[Where do you work]],[1]!tblCountries[[Actual]:[Mapping]],2,FALSE)","v":"Brazil"},"1 or 2 hours a day"]
["ID0283","2012-05-26T01:15:05",70000,"USD",{"$f":"tblSalaries[[#This Row],[clean Salary (in local currency)]]*VLOOKUP(tblSalaries[[#This Row],[Currency]],[1]!tblXrate[#Data],2,FALSE)","v":70000},"Engineering Tech Sr.","Engineer","USA",{"$f":"VLOOKUP(tblSalaries[[#This Row],[Where do you work]],[1]!tblCountries[[Actual]:[Mapping]],2,FALSE)","v":"USA"},"All the 8 hours baby, all the 8!"]
["ID0284","2012-05-26T01:15:12",36000,"USD",{"$f":"tblSalaries[[#This Row],[clean Salary (in local currency)]]*VLOOKUP(tblSalaries[[#This Row],[Currency]],[1]!tblXrate[#Data],2,FALSE)","v":36000},"Senior Specialist","Specialist","Russia",{"$f":"VLOOKUP(tblSalaries[[#This Row],[Where do you work]],[1]!tblCountries[[Actual]:[Mapping]],2,FALSE)","v":"Russia"},"4 to 6 hours a day"]
["ID0285","2012-05-26T01:15:25",15000,"USD",{"$f":"tblSalaries[[#This Row],[clean Salary (in local currency)]]*VLOOKUP(tblSalaries[[#This Row],[Currency]],[1]!tblXrate[#Data],2,FALSE)","v":15000},"moneymaker","Manager","USA",{"$f":"VLOOKUP(tblSalaries[[#This Row],[Where do you work]],[1]!tblCountries[[Actual]:[Mapping]],2,FALSE)","v":"USA"},"2 to 3 hours per day"]
["ID0286","2012-05-26T01:16:18",1500000,"INR",{"$f":"tblSalaries[[#This Row],[clean Salary (in local currency)]]*VLOOKUP(tblSalaries[[#This Row],[Currency]],[1]!tblXrate[#Data],2,FALSE)","v":26711.875031163851},"Consultant","Consultant","India",{"$f":"VLOOKUP(tblSalaries[[#This Row],[Where do you work]],[1]!tblCountries[[Actual]:[Mapping]],2,FALSE)","v":"India"},"All the 8 hours baby, all the 8!"]
["ID0287","2012-05-26T01:17:11",100000,"AED",{"$f":"tblSalaries[[#This Row],[clean Salary (in local currency)]]*VLOOKUP(tblSalaries[[#This Row],[Currency]],[1]!tblXrate[#Data],2,FALSE)","v":27221.92126875931},"Accountant","Accountant","Dubai",{"$f":"VLOOKUP(tblSalaries[[#This Row],[Where do you work]],[1]!tblCountries[[Actual]:[Mapping]],2,FALSE)","v":"Dubai"},"4 to 6 hours a day"]
["ID0288","2012-05-26T01:17:50",22000,"USD",{"$f":"tblSalaries[[#This Row],[clean Salary (in local currency)]]*VLOOKUP(tblSalaries[[#This Row],[Currency]],[1]!tblXrate[#Data],2,FALSE)","v":22000},"MIS","Reporting","India",{"$f":"VLOOKUP(tblSalaries[[#This Row],[Where do you work]],[1]!tblCountries[[Actual]:[Mapping]],2,FALSE)","v":"India"},"All the 8 hours baby, all the 8!"]
["ID0289","2012-05-26T01:17:56",68000,"USD",{"$f":"tblSalaries[[#This Row],[clean Salary (in local currency)]]*VLOOKUP(tblSalaries[[#This Row],[Currency]],[1]!tblXrate[#Data],2,FALSE)","v":68000},"management accountant","Manager","USA",{"$f":"VLOOKUP(tblSalaries[[#This Row],[Where do you work]],[1]!tblCountries[[Actual]:[Mapping]],2,FALSE)","v":"USA"},"All the 8 hours baby, all the 8!"]
["ID0290","2012-05-26T01:17:57",97000,"USD",{"$f":"tblSalaries[[#This Row],[clean Salary (in local currency)]]*VLOOKUP(tblSalaries[[#This Row],[Currency]],[1]!tblXrate[#Data],2,FALSE)","v":97000},"business analyst","Analyst","USA",{"$f":"VLOOKUP(tblSalaries[[#This Row],[Where do you work]],[1]!tblCountries[[Actual]:[Mapping]],2,FALSE)","v":"USA"},"All the 8 hours baby, all the 8!"]
["ID0291","2012-05-26T01:18:35",31000,"GBP",{"$f":"tblSalaries[[#This Row],[clean Salary (in local currency)]]*VLOOKUP(tblSalaries[[#This Row],[Currency]],[1]!tblXrate[#Data],2,FALSE)","v":48861.526434085805},"Telecoms Engineer","Engineer","UK",{"$f":"VLOOKUP(tblSalaries[[#This Row],[Where do you work]],[1]!tblCountries[[Actual]:[Mapping]],2,FALSE)","v":"UK"},"2 to 3 hours per day"]
["ID0292","2012-05-26T01:18:49",65000,"USD",{"$f":"tblSalaries[[#This Row],[clean Salary (in local currency)]]*VLOOKUP(tblSalaries[[#This Row],[Currency]],[1]!tblXrate[#Data],2,FALSE)","v":65000},"Software Support","Analyst","USA",{"$f":"VLOOKUP(tblSalaries[[#This Row],[Where do you work]],[1]!tblCountries[[Actual]:[Mapping]],2,FALSE)","v":"USA"},"4 to 6 hours a day"]
["ID0293","2012-05-26T01:18:58",43200,"USD",{"$f":"tblSalaries[[#This Row],[clean Salary (in local currency)]]*VLOOKUP(tblSalaries[[#This Row],[Currency]],[1]!tblXrate[#Data],2,FALSE)","v":43200},"Projects Planner","Manager","Saudi Arabia",{"$f":"VLOOKUP(tblSalaries[[#This Row],[Where do you work]],[1]!tblCountries[[Actual]:[Mapping]],2,FALSE)","v":"Saudi Arabia"},"4 to 6 hours a day"]
["ID0294","2012-05-26T01:19:09",450000,"INR",{"$f":"tblSalaries[[#This Row],[clean Salary (in local currency)]]*VLOOKUP(tblSalaries[[#This Row],[Currency]],[1]!tblXrate[#Data],2,FALSE)","v":8013.5625093491553},"Business Analyst","Analyst","India",{"$f":"VLOOKUP(tblSalaries[[#This Row],[Where do you work]],[1]!tblCountries[[Actual]:[Mapping]],2,FALSE)","v":"India"},"4 to 6 hours a day"]
["ID0295","2012-05-26T01:19:09",50000,"USD",{"$f":"tblSalaries[[#This Row],[clean Salary (in local currency)]]*VLOOKUP(tblSalaries[[#This Row],[Currency]],[1]!tblXrate[#Data],2,FALSE)","v":50000},"Mathematical Data Analyist","Analyst","USA",{"$f":"VLOOKUP(tblSalaries[[#This Row],[Where do you work]],[1]!tblCountries[[Actual]:[Mapping]],2,FALSE)","v":"USA"},"All the 8 hours baby, all the 8!"]
["ID0296","2012-05-26T01:19:22",45000,"USD",{"$f":"tblSalaries[[#This Row],[clean Salary (in local currency)]]*VLOOKUP(tblSalaries[[#This Row],[Currency]],[1]!tblXrate[#Data],2,FALSE)","v":45000},"sales support","Analyst","USA",{"$f":"VLOOKUP(tblSalaries[[#This Row],[Where do you work]],[1]!tblCountries[[Actual]:[Mapping]],2,FALSE)","v":"USA"},"4 to 6 hours a day"]
["ID0297","2012-05-26T01:19:37",180000,"INR",{"$f":"tblSalaries[[#This Row],[clean Salary (in local currency)]]*VLOOKUP(tblSalaries[[#This Row],[Currency]],[1]!tblXrate[#Data],2,FALSE)","v":3205.4250037396623},"Administrative Officer","Manager","India",{"$f":"VLOOKUP(tblSalaries[[#This Row],[Where do you work]],[1]!tblCountries[[Actual]:[Mapping]],2,FALSE)","v":"India"},"4 to 6 hours a day"]
["ID0298","2012-05-26T01:20:01",60000,"USD",{"$f":"tblSalaries[[#This Row],[clean Salary (in local currency)]]*VLOOKUP(tblSalaries[[#This Row],[Currency]],[1]!tblXrate[#Data],2,FALSE)","v":60000},"IS Manager","Manager","USA",{"$f":"VLOOKUP(tblSalaries[[#This Row],[Where do you work]],[1]!tblCountries[[Actual]:[Mapping]],2,FALSE)","v":"USA"},"All the 8 hours baby, all the 8!"]
["ID0299","2012-05-26T01:20:46",31000,"USD",{"$f":"tblSalaries[[#This Row],[clean Salary (in local currency)]]*VLOOKUP(tblSalaries[[#This Row],[Currency]],[1]!tblXrate[#Data],2,FALSE)","v":31000},"Support Specialist ","Specialist","USA",{"$f":"VLOOKUP(tblSalaries[[#This Row],[Where do you work]],[1]!tblCountries[[Actual]:[Mapping]],2,FALSE)","v":"USA"},"2 to 3 hours per day"]
["ID0300","2012-05-26T01:21:06",75000,"USD",{"$f":"tblSalaries[[#This Row],[clean Salary (in local currency)]]*VLOOKUP(tblSalaries[[#This Row],[Currency]],[1]!tblXrate[#Data],2,FALSE)","v":75000},"FA","Analyst","USA",{"$f":"VLOOKUP(tblSalaries[[#This Row],[Where do you work]],[1]!tblCountries[[Actual]:[Mapping]],2,FALSE)","v":"USA"},"4 to 6 hours a day"]
["ID0301","2012-05-26T01:22:09",16000,"USD",{"$f":"tblSalaries[[#This Row],[clean Salary (in local currency)]]*VLOOKUP(tblSalaries[[#This Row],[Currency]],[1]!tblXrate[#Data],2,FALSE)","v":16000},"VP of Finance","CXO or Top Mgmt.","USA",{"$f":"VLOOKUP(tblSalaries[[#This Row],[Where do you work]],[1]!tblCountries[[Actual]:[Mapping]],2,FALSE)","v":"USA"},"1 or 2 hours a day"]
["ID0302","2012-05-26T01:22:22",36000,"USD",{"$f":"tblSalaries[[#This Row],[clean Salary (in local currency)]]*VLOOKUP(tblSalaries[[#This Row],[Currency]],[1]!tblXrate[#Data],2,FALSE)","v":36000},"PRODUCTION ASSISTANT","Analyst","USA",{"$f":"VLOOKUP(tblSalaries[[#This Row],[Where do you work]],[1]!tblCountries[[Actual]:[Mapping]],2,FALSE)","v":"USA"},"All the 8 hours baby, all the 8!"]
["ID0303","2012-05-26T01:22:40",42000,"CAD",{"$f":"tblSalaries[[#This Row],[clean Salary (in local currency)]]*VLOOKUP(tblSalaries[[#This Row],[Currency]],[1]!tblXrate[#Data],2,FALSE)","v":41301.183967273726},"Financial Analyst","Analyst","Canada",{"$f":"VLOOKUP(tblSalaries[[#This Row],[Where do you work]],[1]!tblCountries[[Actual]:[Mapping]],2,FALSE)","v":"Canada"},"All the 8 hours baby, all the 8!"]
["ID0304","2012-05-26T01:22:45",53000,"USD",{"$f":"tblSalaries[[#This Row],[clean Salary (in local currency)]]*VLOOKUP(tblSalaries[[#This Row],[Currency]],[1]!tblXrate[#Data],2,FALSE)","v":53000},"Data Analyst","Analyst","USA",{"$f":"VLOOKUP(tblSalaries[[#This Row],[Where do you work]],[1]!tblCountries[[Actual]:[Mapping]],2,FALSE)","v":"USA"},"4 to 6 hours a day"]
["ID0305","2012-05-26T01:22:48",65000,"EUR",{"$f":"tblSalaries[[#This Row],[clean Salary (in local currency)]]*VLOOKUP(tblSalaries[[#This Row],[Currency]],[1]!tblXrate[#Data],2,FALSE)","v":82575.963534454509},"controller","Controller","germany",{"$f":"VLOOKUP(tblSalaries[[#This Row],[Where do you work]],[1]!tblCountries[[Actual]:[Mapping]],2,FALSE)","v":"Germany"},"All the 8 hours baby, all the 8!"]
["ID0306","2012-05-26T01:22:56",67000,"USD",{"$f":"tblSalaries[[#This Row],[clean Salary (in local currency)]]*VLOOKUP(tblSalaries[[#This Row],[Currency]],[1]!tblXrate[#Data],2,FALSE)","v":67000},"HR Analyst","Analyst","USA",{"$f":"VLOOKUP(tblSalaries[[#This Row],[Where do you work]],[1]!tblCountries[[Actual]:[Mapping]],2,FALSE)","v":"USA"},"4 to 6 hours a day"]
["ID0307","2012-05-26T01:23:21",12000,"USD",{"$f":"tblSalaries[[#This Row],[clean Salary (in local currency)]]*VLOOKUP(tblSalaries[[#This Row],[Currency]],[1]!tblXrate[#Data],2,FALSE)","v":12000},"Analyst","Analyst","India",{"$f":"VLOOKUP(tblSalaries[[#This Row],[Where do you work]],[1]!tblCountries[[Actual]:[Mapping]],2,FALSE)","v":"India"},"All the 8 hours baby, all the 8!"]
["ID0308","2012-05-26T01:23:43",85000,"USD",{"$f":"tblSalaries[[#This Row],[clean Salary (in local currency)]]*VLOOKUP(tblSalaries[[#This Row],[Currency]],[1]!tblXrate[#Data],2,FALSE)","v":85000},"Plant Controller","Controller","USA",{"$f":"VLOOKUP(tblSalaries[[#This Row],[Where do you work]],[1]!tblCountries[[Actual]:[Mapping]],2,FALSE)","v":"USA"},"All the 8 hours baby, all the 8!"]
["ID0309","2012-05-26T01:23:50",200000,"EUR",{"$f":"tblSalaries[[#This Row],[clean Salary (in local currency)]]*VLOOKUP(tblSalaries[[#This Row],[Currency]],[1]!tblXrate[#Data],2,FALSE)","v":254079.88779832155},"consultant bi","Reporting","The netherlands",{"$f":"VLOOKUP(tblSalaries[[#This Row],[Where do you work]],[1]!tblCountries[[Actual]:[Mapping]],2,FALSE)","v":"Netherlands"},"All the 8 hours baby, all the 8!"]
["ID0310","2012-05-26T01:23:57",40000,"USD",{"$f":"tblSalaries[[#This Row],[clean Salary (in local currency)]]*VLOOKUP(tblSalaries[[#This Row],[Currency]],[1]!tblXrate[#Data],2,FALSE)","v":40000},"Royalties Coordinator","Manager","USA",{"$f":"VLOOKUP(tblSalaries[[#This Row],[Where do you work]],[1]!tblCountries[[Actual]:[Mapping]],2,FALSE)","v":"USA"},"4 to 6 hours a day"]
["ID0311","2012-05-26T01:24:03",20000,"GBP",{"$f":"tblSalaries[[#This Row],[clean Salary (in local currency)]]*VLOOKUP(tblSalaries[[#This Row],[Currency]],[1]!tblXrate[#Data],2,FALSE)","v":31523.565441345683},"Graduate Structural Engineer","Engineer","UK",{"$f":"VLOOKUP(tblSalaries[[#This Row],[Where do you work]],[1]!tblCountries[[Actual]:[Mapping]],2,FALSE)","v":"UK"},"1 or 2 hours a day"]
["ID0312","2012-05-26T01:25:05",41000,"USD",{"$f":"tblSalaries[[#This Row],[clean Salary (in local currency)]]*VLOOKUP(tblSalaries[[#This Row],[Currency]],[1]!tblXrate[#Data],2,FALSE)","v":41000},"Operations Analyst","Analyst","USA",{"$f":"VLOOKUP(tblSalaries[[#This Row],[Where do you work]],[1]!tblCountries[[Actual]:[Mapping]],2,FALSE)","v":"USA"},"4 to 6 hours a day"]
["ID0313","2012-05-26T01:25:06",1400000,"INR",{"$f":"tblSalaries[[#This Row],[clean Salary (in local currency)]]*VLOOKUP(tblSalaries[[#This Row],[Currency]],[1]!tblXrate[#Data],2,FALSE)","v":24931.083362419595},"Marketing","Manager","India",{"$f":"VLOOKUP(tblSalaries[[#This Row],[Where do you work]],[1]!tblCountries[[Actual]:[Mapping]],2,FALSE)","v":"India"},"1 or 2 hours a day"]
["ID0314","2012-05-26T01:25:30",125000,"USD",{"$f":"tblSalaries[[#This Row],[clean Salary (in local currency)]]*VLOOKUP(tblSalaries[[#This Row],[Currency]],[1]!tblXrate[#Data],2,FALSE)","v":125000},"Finance, Manager ","Manager","USA",{"$f":"VLOOKUP(tblSalaries[[#This Row],[Where do you work]],[1]!tblCountries[[Actual]:[Mapping]],2,FALSE)","v":"USA"},"4 to 6 hours a day"]
["ID0315","2012-05-26T01:26:26",60000,"CAD",{"$f":"tblSalaries[[#This Row],[clean Salary (in local currency)]]*VLOOKUP(tblSalaries[[#This Row],[Currency]],[1]!tblXrate[#Data],2,FALSE)","v":59001.691381819612},"Sr. Business Analyst","Analyst","Canada",{"$f":"VLOOKUP(tblSalaries[[#This Row],[Where do you work]],[1]!tblCountries[[Actual]:[Mapping]],2,FALSE)","v":"Canada"},"All the 8 hours baby, all the 8!"]
["ID0316","2012-05-26T01:26:37",150000,"MXN",{"$f":"tblSalaries[[#This Row],[clean Salary (in local currency)]]*VLOOKUP(tblSalaries[[#This Row],[Currency]],[1]!tblXrate[#Data],2,FALSE)","v":10956.982885192734},"Information Analyst","Analyst","Mexico",{"$f":"VLOOKUP(tblSalaries[[#This Row],[Where do you work]],[1]!tblCountries[[Actual]:[Mapping]],2,FALSE)","v":"Mexico"},"All the 8 hours baby, all the 8!"]
["ID0317","2012-05-26T01:26:52",70000,"USD",{"$f":"tblSalaries[[#This Row],[clean Salary (in local currency)]]*VLOOKUP(tblSalaries[[#This Row],[Currency]],[1]!tblXrate[#Data],2,FALSE)","v":70000},"Analyst","Analyst","USA",{"$f":"VLOOKUP(tblSalaries[[#This Row],[Where do you work]],[1]!tblCountries[[Actual]:[Mapping]],2,FALSE)","v":"USA"},"2 to 3 hours per day"]
["ID0318","2012-05-26T01:27:03",400000,"USD",{"$f":"tblSalaries[[#This Row],[clean Salary (in local currency)]]*VLOOKUP(tblSalaries[[#This Row],[Currency]],[1]!tblXrate[#Data],2,FALSE)","v":400000},"Financial Specialist","Specialist","USA",{"$f":"VLOOKUP(tblSalaries[[#This Row],[Where do you work]],[1]!tblCountries[[Actual]:[Mapping]],2,FALSE)","v":"USA"},"All the 8 hours baby, all the 8!"]
["ID0319","2012-05-26T01:27:26",55000,"USD",{"$f":"tblSalaries[[#This Row],[clean Salary (in local currency)]]*VLOOKUP(tblSalaries[[#This Row],[Currency]],[1]!tblXrate[#Data],2,FALSE)","v":55000},"Business Analyst","Analyst","USA",{"$f":"VLOOKUP(tblSalaries[[#This Row],[Where do you work]],[1]!tblCountries[[Actual]:[Mapping]],2,FALSE)","v":"USA"},"4 to 6 hours a day"]
["ID0320","2012-05-26T01:27:29",60000,"USD",{"$f":"tblSalaries[[#This Row],[clean Salary (in local currency)]]*VLOOKUP(tblSalaries[[#This Row],[Currency]],[1]!tblXrate[#Data],2,FALSE)","v":60000},"Management Analyst","Analyst","USA",{"$f":"VLOOKUP(tblSalaries[[#This Row],[Where do you work]],[1]!tblCountries[[Actual]:[Mapping]],2,FALSE)","v":"USA"},"4 to 6 hours a day"]
["ID0321","2012-05-26T01:27:44",1000000,"INR",{"$f":"tblSalaries[[#This Row],[clean Salary (in local currency)]]*VLOOKUP(tblSalaries[[#This Row],[Currency]],[1]!tblXrate[#Data],2,FALSE)","v":17807.916687442568},"Manager","Manager","India",{"$f":"VLOOKUP(tblSalaries[[#This Row],[Where do you work]],[1]!tblCountries[[Actual]:[Mapping]],2,FALSE)","v":"India"},"4 to 6 hours a day"]
["ID0322","2012-05-26T01:27:52",40000,"USD",{"$f":"tblSalaries[[#This Row],[clean Salary (in local currency)]]*VLOOKUP(tblSalaries[[#This Row],[Currency]],[1]!tblXrate[#Data],2,FALSE)","v":40000},"Dp manager","Manager","Hungary",{"$f":"VLOOKUP(tblSalaries[[#This Row],[Where do you work]],[1]!tblCountries[[Actual]:[Mapping]],2,FALSE)","v":"Hungary"},"4 to 6 hours a day"]
["ID0323","2012-05-26T01:28:37",137500,"USD",{"$f":"tblSalaries[[#This Row],[clean Salary (in local currency)]]*VLOOKUP(tblSalaries[[#This Row],[Currency]],[1]!tblXrate[#Data],2,FALSE)","v":137500},"director of analytics","Analyst","USA",{"$f":"VLOOKUP(tblSalaries[[#This Row],[Where do you work]],[1]!tblCountries[[Actual]:[Mapping]],2,FALSE)","v":"USA"},"4 to 6 hours a day"]
["ID0324","2012-05-26T01:29:32",4545,"USD",{"$f":"tblSalaries[[#This Row],[clean Salary (in local currency)]]*VLOOKUP(tblSalaries[[#This Row],[Currency]],[1]!tblXrate[#Data],2,FALSE)","v":4545},"Supply Processes Analyst","Analyst","Brasil",{"$f":"VLOOKUP(tblSalaries[[#This Row],[Where do you work]],[1]!tblCountries[[Actual]:[Mapping]],2,FALSE)","v":"Brasil"},"All the 8 hours baby, all the 8!"]
["ID0325","2012-05-26T01:29:37",29000,"GBP",{"$f":"tblSalaries[[#This Row],[clean Salary (in local currency)]]*VLOOKUP(tblSalaries[[#This Row],[Currency]],[1]!tblXrate[#Data],2,FALSE)","v":45709.169889951241},"ICT Technical Analyst","Analyst","UK",{"$f":"VLOOKUP(tblSalaries[[#This Row],[Where do you work]],[1]!tblCountries[[Actual]:[Mapping]],2,FALSE)","v":"UK"},"4 to 6 hours a day"]
["ID0326","2012-05-26T01:30:12",47000,"USD",{"$f":"tblSalaries[[#This Row],[clean Salary (in local currency)]]*VLOOKUP(tblSalaries[[#This Row],[Currency]],[1]!tblXrate[#Data],2,FALSE)","v":47000},"Sourcing Specialist","Specialist","USA",{"$f":"VLOOKUP(tblSalaries[[#This Row],[Where do you work]],[1]!tblCountries[[Actual]:[Mapping]],2,FALSE)","v":"USA"},"4 to 6 hours a day"]
["ID0327","2012-05-26T01:30:39",65000,"USD",{"$f":"tblSalaries[[#This Row],[clean Salary (in local currency)]]*VLOOKUP(tblSalaries[[#This Row],[Currency]],[1]!tblXrate[#Data],2,FALSE)","v":65000},"business analyst","Analyst","USA",{"$f":"VLOOKUP(tblSalaries[[#This Row],[Where do you work]],[1]!tblCountries[[Actual]:[Mapping]],2,FALSE)","v":"USA"},"All the 8 hours baby, all the 8!"]
["ID0328","2012-05-26T01:30:56",456000,"PHP",{"$f":"tblSalaries[[#This Row],[clean Salary (in local currency)]]*VLOOKUP(tblSalaries[[#This Row],[Currency]],[1]!tblXrate[#Data],2,FALSE)","v":10809.503829551191},"Reporting Shared Services Oferring Lead","Reporting","Philippines",{"$f":"VLOOKUP(tblSalaries[[#This Row],[Where do you work]],[1]!tblCountries[[Actual]:[Mapping]],2,FALSE)","v":"Philippines"},"4 to 6 hours a day"]
["ID0329","2012-05-26T01:31:26",92000,"USD",{"$f":"tblSalaries[[#This Row],[clean Salary (in local currency)]]*VLOOKUP(tblSalaries[[#This Row],[Currency]],[1]!tblXrate[#Data],2,FALSE)","v":92000},"Sales Analytics Manager","Manager","USA",{"$f":"VLOOKUP(tblSalaries[[#This Row],[Where do you work]],[1]!tblCountries[[Actual]:[Mapping]],2,FALSE)","v":"USA"},"4 to 6 hours a day"]
["ID0330","2012-05-26T01:31:42",22000,"USD",{"$f":"tblSalaries[[#This Row],[clean Salary (in local currency)]]*VLOOKUP(tblSalaries[[#This Row],[Currency]],[1]!tblXrate[#Data],2,FALSE)","v":22000},"Product Manager Sr","Manager","Mexico",{"$f":"VLOOKUP(tblSalaries[[#This Row],[Where do you work]],[1]!tblCountries[[Actual]:[Mapping]],2,FALSE)","v":"Mexico"},"4 to 6 hours a day"]
["ID0331","2012-05-26T01:31:58",108000,"USD",{"$f":"tblSalaries[[#This Row],[clean Salary (in local currency)]]*VLOOKUP(tblSalaries[[#This Row],[Currency]],[1]!tblXrate[#Data],2,FALSE)","v":108000},"Database Architect","Manager","USA",{"$f":"VLOOKUP(tblSalaries[[#This Row],[Where do you work]],[1]!tblCountries[[Actual]:[Mapping]],2,FALSE)","v":"USA"},"2 to 3 hours per day"]
["ID0332","2012-05-26T01:32:08",61000,"USD",{"$f":"tblSalaries[[#This Row],[clean Salary (in local currency)]]*VLOOKUP(tblSalaries[[#This Row],[Currency]],[1]!tblXrate[#Data],2,FALSE)","v":61000},"Data Analyst","Analyst","USA",{"$f":"VLOOKUP(tblSalaries[[#This Row],[Where do you work]],[1]!tblCountries[[Actual]:[Mapping]],2,FALSE)","v":"USA"},"1 or 2 hours a day"]
["ID0333","2012-05-26T01:32:14",65000,"CAD",{"$f":"tblSalaries[[#This Row],[clean Salary (in local currency)]]*VLOOKUP(tblSalaries[[#This Row],[Currency]],[1]!tblXrate[#Data],2,FALSE)","v":63918.498996971248},"Product developer","Manager","CANADA",{"$f":"VLOOKUP(tblSalaries[[#This Row],[Where do you work]],[1]!tblCountries[[Actual]:[Mapping]],2,FALSE)","v":"Canada"},"2 to 3 hours per day"]
["ID0334","2012-05-26T01:32:26",50000,"USD",{"$f":"tblSalaries[[#This Row],[clean Salary (in local currency)]]*VLOOKUP(tblSalaries[[#This Row],[Currency]],[1]!tblXrate[#Data],2,FALSE)","v":50000},"Supply Chain Analyst","Analyst","USA",{"$f":"VLOOKUP(tblSalaries[[#This Row],[Where do you work]],[1]!tblCountries[[Actual]:[Mapping]],2,FALSE)","v":"USA"},"All the 8 hours baby, all the 8!"]
["ID0335","2012-05-26T01:33:03",150000,"USD",{"$f":"tblSalaries[[#This Row],[clean Salary (in local currency)]]*VLOOKUP(tblSalaries[[#This Row],[Currency]],[1]!tblXrate[#Data],2,FALSE)","v":150000},"financial planning","Accountant","USA",{"$f":"VLOOKUP(tblSalaries[[#This Row],[Where do you work]],[1]!tblCountries[[Actual]:[Mapping]],2,FALSE)","v":"USA"},"All the 8 hours baby, all the 8!"]
["ID0336","2012-05-26T01:33:37",400000,"INR",{"$f":"tblSalaries[[#This Row],[clean Salary (in local currency)]]*VLOOKUP(tblSalaries[[#This Row],[Currency]],[1]!tblXrate[#Data],2,FALSE)","v":7123.1666749770275},"Test Analyst","Analyst","India",{"$f":"VLOOKUP(tblSalaries[[#This Row],[Where do you work]],[1]!tblCountries[[Actual]:[Mapping]],2,FALSE)","v":"India"},"4 to 6 hours a day"]
["ID0337","2012-05-26T01:33:45",150000,"USD",{"$f":"tblSalaries[[#This Row],[clean Salary (in local currency)]]*VLOOKUP(tblSalaries[[#This Row],[Currency]],[1]!tblXrate[#Data],2,FALSE)","v":150000},"project manager, project finance consultant","Manager","Israel",{"$f":"VLOOKUP(tblSalaries[[#This Row],[Where do you work]],[1]!tblCountries[[Actual]:[Mapping]],2,FALSE)","v":"Israel"},"4 to 6 hours a day"]
["ID0338","2012-05-26T01:34:56",45000,"USD",{"$f":"tblSalaries[[#This Row],[clean Salary (in local currency)]]*VLOOKUP(tblSalaries[[#This Row],[Currency]],[1]!tblXrate[#Data],2,FALSE)","v":45000},"QC Fabrication Inspector","Specialist","USA",{"$f":"VLOOKUP(tblSalaries[[#This Row],[Where do you work]],[1]!tblCountries[[Actual]:[Mapping]],2,FALSE)","v":"USA"},"4 to 6 hours a day"]
["ID0339","2012-05-26T01:35:02",135000,"USD",{"$f":"tblSalaries[[#This Row],[clean Salary (in local currency)]]*VLOOKUP(tblSalaries[[#This Row],[Currency]],[1]!tblXrate[#Data],2,FALSE)","v":135000},"Manager of Trade Investment & Analysis","Manager","USA",{"$f":"VLOOKUP(tblSalaries[[#This Row],[Where do you work]],[1]!tblCountries[[Actual]:[Mapping]],2,FALSE)","v":"USA"},"All the 8 hours baby, all the 8!"]
["ID0340","2012-05-26T01:35:18",360000,"INR",{"$f":"tblSalaries[[#This Row],[clean Salary (in local currency)]]*VLOOKUP(tblSalaries[[#This Row],[Currency]],[1]!tblXrate[#Data],2,FALSE)","v":6410.8500074793246},"Business Analysit","Analyst","India",{"$f":"VLOOKUP(tblSalaries[[#This Row],[Where do you work]],[1]!tblCountries[[Actual]:[Mapping]],2,FALSE)","v":"India"},"2 to 3 hours per day"]
["ID0341","2012-05-26T01:35:35",29000,"USD",{"$f":"tblSalaries[[#This Row],[clean Salary (in local currency)]]*VLOOKUP(tblSalaries[[#This Row],[Currency]],[1]!tblXrate[#Data],2,FALSE)","v":29000},"Assistant Outside Plant Project Manager","Manager","USA",{"$f":"VLOOKUP(tblSalaries[[#This Row],[Where do you work]],[1]!tblCountries[[Actual]:[Mapping]],2,FALSE)","v":"USA"},"4 to 6 hours a day"]
["ID0342","2012-05-26T01:37:33",13000,"USD",{"$f":"tblSalaries[[#This Row],[clean Salary (in local currency)]]*VLOOKUP(tblSalaries[[#This Row],[Currency]],[1]!tblXrate[#Data],2,FALSE)","v":13000},"operation-manager","Manager","India",{"$f":"VLOOKUP(tblSalaries[[#This Row],[Where do you work]],[1]!tblCountries[[Actual]:[Mapping]],2,FALSE)","v":"India"},"All the 8 hours baby, all the 8!"]
["ID0343","2012-05-26T01:38:06",63000,"USD",{"$f":"tblSalaries[[#This Row],[clean Salary (in local currency)]]*VLOOKUP(tblSalaries[[#This Row],[Currency]],[1]!tblXrate[#Data],2,FALSE)","v":63000},"Sales Analyst","Analyst","USA",{"$f":"VLOOKUP(tblSalaries[[#This Row],[Where do you work]],[1]!tblCountries[[Actual]:[Mapping]],2,FALSE)","v":"USA"},"All the 8 hours baby, all the 8!"]
["ID0344","2012-05-26T01:38:06",95000,"USD",{"$f":"tblSalaries[[#This Row],[clean Salary (in local currency)]]*VLOOKUP(tblSalaries[[#This Row],[Currency]],[1]!tblXrate[#Data],2,FALSE)","v":95000},"Senior Financial Analyst","Analyst","USA",{"$f":"VLOOKUP(tblSalaries[[#This Row],[Where do you work]],[1]!tblCountries[[Actual]:[Mapping]],2,FALSE)","v":"USA"},"4 to 6 hours a day"]
["ID0346","2012-05-26T01:38:51",100000,"USD",{"$f":"tblSalaries[[#This Row],[clean Salary (in local currency)]]*VLOOKUP(tblSalaries[[#This Row],[Currency]],[1]!tblXrate[#Data],2,FALSE)","v":100000},"Senior Data Analyst","Analyst","UK",{"$f":"VLOOKUP(tblSalaries[[#This Row],[Where do you work]],[1]!tblCountries[[Actual]:[Mapping]],2,FALSE)","v":"UK"},"4 to 6 hours a day"]
["ID0347","2012-05-26T01:39:37",3800,"USD",{"$f":"tblSalaries[[#This Row],[clean Salary (in local currency)]]*VLOOKUP(tblSalaries[[#This Row],[Currency]],[1]!tblXrate[#Data],2,FALSE)","v":3800},"MIS EXCUTIVE","Reporting","India",{"$f":"VLOOKUP(tblSalaries[[#This Row],[Where do you work]],[1]!tblCountries[[Actual]:[Mapping]],2,FALSE)","v":"India"},"4 to 6 hours a day"]
["ID0348","2012-05-26T01:40:05",11400,"USD",{"$f":"tblSalaries[[#This Row],[clean Salary (in local currency)]]*VLOOKUP(tblSalaries[[#This Row],[Currency]],[1]!tblXrate[#Data],2,FALSE)","v":11400},"Advisor","Consultant","Brazil",{"$f":"VLOOKUP(tblSalaries[[#This Row],[Where do you work]],[1]!tblCountries[[Actual]:[Mapping]],2,FALSE)","v":"Brazil"},"4 to 6 hours a day"]
["ID0349","2012-05-26T01:40:18",56000,"CAD",{"$f":"tblSalaries[[#This Row],[clean Salary (in local currency)]]*VLOOKUP(tblSalaries[[#This Row],[Currency]],[1]!tblXrate[#Data],2,FALSE)","v":55068.245289698301},"Online Analyst","Analyst","Canada",{"$f":"VLOOKUP(tblSalaries[[#This Row],[Where do you work]],[1]!tblCountries[[Actual]:[Mapping]],2,FALSE)","v":"Canada"},"4 to 6 hours a day"]
["ID0350","2012-05-26T01:40:28",53000,"USD",{"$f":"tblSalaries[[#This Row],[clean Salary (in local currency)]]*VLOOKUP(tblSalaries[[#This Row],[Currency]],[1]!tblXrate[#Data],2,FALSE)","v":53000},"General Manager","Manager","USA",{"$f":"VLOOKUP(tblSalaries[[#This Row],[Where do you work]],[1]!tblCountries[[Actual]:[Mapping]],2,FALSE)","v":"USA"},"2 to 3 hours per day"]
["ID0351","2012-05-26T01:40:51",130000,"USD",{"$f":"tblSalaries[[#This Row],[clean Salary (in local currency)]]*VLOOKUP(tblSalaries[[#This Row],[Currency]],[1]!tblXrate[#Data],2,FALSE)","v":130000},"Sr Staff Engineer","Engineer","USA",{"$f":"VLOOKUP(tblSalaries[[#This Row],[Where do you work]],[1]!tblCountries[[Actual]:[Mapping]],2,FALSE)","v":"USA"},"4 to 6 hours a day"]
["ID0352","2012-05-26T01:41:32",370000,"INR",{"$f":"tblSalaries[[#This Row],[clean Salary (in local currency)]]*VLOOKUP(tblSalaries[[#This Row],[Currency]],[1]!tblXrate[#Data],2,FALSE)","v":6588.9291743537506},"Senior Design Associate","Analyst","India",{"$f":"VLOOKUP(tblSalaries[[#This Row],[Where do you work]],[1]!tblCountries[[Actual]:[Mapping]],2,FALSE)","v":"India"},"All the 8 hours baby, all the 8!"]
["ID0353","2012-05-26T01:41:53",160000,"CAD",{"$f":"tblSalaries[[#This Row],[clean Salary (in local currency)]]*VLOOKUP(tblSalaries[[#This Row],[Currency]],[1]!tblXrate[#Data],2,FALSE)","v":157337.8436848523},"Consultant","Consultant","Canada",{"$f":"VLOOKUP(tblSalaries[[#This Row],[Where do you work]],[1]!tblCountries[[Actual]:[Mapping]],2,FALSE)","v":"Canada"},"2 to 3 hours per day"]
["ID0354","2012-05-26T01:41:54",44200,"USD",{"$f":"tblSalaries[[#This Row],[clean Salary (in local currency)]]*VLOOKUP(tblSalaries[[#This Row],[Currency]],[1]!tblXrate[#Data],2,FALSE)","v":44200},"Planning and Analysis Supervisor","Analyst","USA",{"$f":"VLOOKUP(tblSalaries[[#This Row],[Where do you work]],[1]!tblCountries[[Actual]:[Mapping]],2,FALSE)","v":"USA"},"All the 8 hours baby, all the 8!"]
["ID0355","2012-05-26T01:42:07",56000,"USD",{"$f":"tblSalaries[[#This Row],[clean Salary (in local currency)]]*VLOOKUP(tblSalaries[[#This Row],[Currency]],[1]!tblXrate[#Data],2,FALSE)","v":56000},"asset manager","Manager","USA",{"$f":"VLOOKUP(tblSalaries[[#This Row],[Where do you work]],[1]!tblCountries[[Actual]:[Mapping]],2,FALSE)","v":"USA"},"2 to 3 hours per day"]
["ID0356","2012-05-26T01:42:27",72500,"USD",{"$f":"tblSalaries[[#This Row],[clean Salary (in local currency)]]*VLOOKUP(tblSalaries[[#This Row],[Currency]],[1]!tblXrate[#Data],2,FALSE)","v":72500},"Transportation Engineer","Engineer","USA",{"$f":"VLOOKUP(tblSalaries[[#This Row],[Where do you work]],[1]!tblCountries[[Actual]:[Mapping]],2,FALSE)","v":"USA"},"2 to 3 hours per day"]
["ID0357","2012-05-26T01:42:31",75000,"CAD",{"$f":"tblSalaries[[#This Row],[clean Salary (in local currency)]]*VLOOKUP(tblSalaries[[#This Row],[Currency]],[1]!tblXrate[#Data],2,FALSE)","v":73752.11422727452},"web marketing analyst","Analyst","canada",{"$f":"VLOOKUP(tblSalaries[[#This Row],[Where do you work]],[1]!tblCountries[[Actual]:[Mapping]],2,FALSE)","v":"Canada"},"4 to 6 hours a day"]
["ID0358","2012-05-26T01:42:53",170000,"USD",{"$f":"tblSalaries[[#This Row],[clean Salary (in local currency)]]*VLOOKUP(tblSalaries[[#This Row],[Currency]],[1]!tblXrate[#Data],2,FALSE)","v":170000},"RS","Analyst","UK",{"$f":"VLOOKUP(tblSalaries[[#This Row],[Where do you work]],[1]!tblCountries[[Actual]:[Mapping]],2,FALSE)","v":"UK"},"Excel ?!? What Excel?"]
["ID0359","2012-05-26T01:43:48",68000,"USD",{"$f":"tblSalaries[[#This Row],[clean Salary (in local currency)]]*VLOOKUP(tblSalaries[[#This Row],[Currency]],[1]!tblXrate[#Data],2,FALSE)","v":68000},"Project Manager","Manager","USA",{"$f":"VLOOKUP(tblSalaries[[#This Row],[Where do you work]],[1]!tblCountries[[Actual]:[Mapping]],2,FALSE)","v":"USA"},"2 to 3 hours per day"]
["ID0360","2012-05-26T01:44:59",75000,"USD",{"$f":"tblSalaries[[#This Row],[clean Salary (in local currency)]]*VLOOKUP(tblSalaries[[#This Row],[Currency]],[1]!tblXrate[#Data],2,FALSE)","v":75000},"Sr. Financial Analyst","Analyst","USA",{"$f":"VLOOKUP(tblSalaries[[#This Row],[Where do you work]],[1]!tblCountries[[Actual]:[Mapping]],2,FALSE)","v":"USA"},"All the 8 hours baby, all the 8!"]
["ID0361","2012-05-26T01:45:50",62500,"USD",{"$f":"tblSalaries[[#This Row],[clean Salary (in local currency)]]*VLOOKUP(tblSalaries[[#This Row],[Currency]],[1]!tblXrate[#Data],2,FALSE)","v":62500},"Director of Payroll","CXO or Top Mgmt.","USA",{"$f":"VLOOKUP(tblSalaries[[#This Row],[Where do you work]],[1]!tblCountries[[Actual]:[Mapping]],2,FALSE)","v":"USA"},"All the 8 hours baby, all the 8!"]
["ID0362","2012-05-26T01:45:58",25000,"USD",{"$f":"tblSalaries[[#This Row],[clean Salary (in local currency)]]*VLOOKUP(tblSalaries[[#This Row],[Currency]],[1]!tblXrate[#Data],2,FALSE)","v":25000},"Manager","Manager","India",{"$f":"VLOOKUP(tblSalaries[[#This Row],[Where do you work]],[1]!tblCountries[[Actual]:[Mapping]],2,FALSE)","v":"India"},"4 to 6 hours a day"]
["ID0363","2012-05-26T01:46:24",480000,"SEK",{"$f":"tblSalaries[[#This Row],[clean Salary (in local currency)]]*VLOOKUP(tblSalaries[[#This Row],[Currency]],[1]!tblXrate[#Data],2,FALSE)","v":68954.520184280962},"IT consultant","Consultant","Sweden",{"$f":"VLOOKUP(tblSalaries[[#This Row],[Where do you work]],[1]!tblCountries[[Actual]:[Mapping]],2,FALSE)","v":"Sweden"},"1 or 2 hours a day"]
["ID0365","2012-05-26T01:49:19",85000,"USD",{"$f":"tblSalaries[[#This Row],[clean Salary (in local currency)]]*VLOOKUP(tblSalaries[[#This Row],[Currency]],[1]!tblXrate[#Data],2,FALSE)","v":85000},"Sr. Financial Analyst","Analyst","USA",{"$f":"VLOOKUP(tblSalaries[[#This Row],[Where do you work]],[1]!tblCountries[[Actual]:[Mapping]],2,FALSE)","v":"USA"},"4 to 6 hours a day"]
["ID0366","2012-05-26T01:49:55",43000,"GBP",{"$f":"tblSalaries[[#This Row],[clean Salary (in local currency)]]*VLOOKUP(tblSalaries[[#This Row],[Currency]],[1]!tblXrate[#Data],2,FALSE)","v":67775.665698893223},"Commercial Manager","Manager","UK",{"$f":"VLOOKUP(tblSalaries[[#This Row],[Where do you work]],[1]!tblCountries[[Actual]:[Mapping]],2,FALSE)","v":"UK"},"4 to 6 hours a day"]
["ID0367","2012-05-26T01:49:56",89000,"USD",{"$f":"tblSalaries[[#This Row],[clean Salary (in local currency)]]*VLOOKUP(tblSalaries[[#This Row],[Currency]],[1]!tblXrate[#Data],2,FALSE)","v":89000},"Quality Assurance Officer","Manager","USA",{"$f":"VLOOKUP(tblSalaries[[#This Row],[Where do you work]],[1]!tblCountries[[Actual]:[Mapping]],2,FALSE)","v":"USA"},"4 to 6 hours a day"]
["ID0368","2012-05-26T01:50:00",35000,"USD",{"$f":"tblSalaries[[#This Row],[clean Salary (in local currency)]]*VLOOKUP(tblSalaries[[#This Row],[Currency]],[1]!tblXrate[#Data],2,FALSE)","v":35000},"Senior Treasury Analyst","Analyst","Brasil",{"$f":"VLOOKUP(tblSalaries[[#This Row],[Where do you work]],[1]!tblCountries[[Actual]:[Mapping]],2,FALSE)","v":"Brasil"},"All the 8 hours baby, all the 8!"]
["ID0369","2012-05-26T01:50:28",47500,"USD",{"$f":"tblSalaries[[#This Row],[clean Salary (in local currency)]]*VLOOKUP(tblSalaries[[#This Row],[Currency]],[1]!tblXrate[#Data],2,FALSE)","v":47500},"Supervisor, Contracts, Rebates, Chargebacks and Returns","Manager","USA",{"$f":"VLOOKUP(tblSalaries[[#This Row],[Where do you work]],[1]!tblCountries[[Actual]:[Mapping]],2,FALSE)","v":"USA"},"All the 8 hours baby, all the 8!"]
["ID0370","2012-05-26T01:50:30",130000,"USD",{"$f":"tblSalaries[[#This Row],[clean Salary (in local currency)]]*VLOOKUP(tblSalaries[[#This Row],[Currency]],[1]!tblXrate[#Data],2,FALSE)","v":130000},"Project Manager","Manager","USA",{"$f":"VLOOKUP(tblSalaries[[#This Row],[Where do you work]],[1]!tblCountries[[Actual]:[Mapping]],2,FALSE)","v":"USA"},"2 to 3 hours per day"]
["ID0371","2012-05-26T01:50:56",18000,"USD",{"$f":"tblSalaries[[#This Row],[clean Salary (in local currency)]]*VLOOKUP(tblSalaries[[#This Row],[Currency]],[1]!tblXrate[#Data],2,FALSE)","v":18000},"ceo","CXO or Top Mgmt.","India",{"$f":"VLOOKUP(tblSalaries[[#This Row],[Where do you work]],[1]!tblCountries[[Actual]:[Mapping]],2,FALSE)","v":"India"},"2 to 3 hours per day"]
["ID0372","2012-05-26T01:50:59",480000,"INR",{"$f":"tblSalaries[[#This Row],[clean Salary (in local currency)]]*VLOOKUP(tblSalaries[[#This Row],[Currency]],[1]!tblXrate[#Data],2,FALSE)","v":8547.8000099724322},"System Manager","Manager","India",{"$f":"VLOOKUP(tblSalaries[[#This Row],[Where do you work]],[1]!tblCountries[[Actual]:[Mapping]],2,FALSE)","v":"India"},"1 or 2 hours a day"]
["ID0373","2012-05-26T01:51:24",41932,"USD",{"$f":"tblSalaries[[#This Row],[clean Salary (in local currency)]]*VLOOKUP(tblSalaries[[#This Row],[Currency]],[1]!tblXrate[#Data],2,FALSE)","v":41932},"Buyer","Manager","USA",{"$f":"VLOOKUP(tblSalaries[[#This Row],[Where do you work]],[1]!tblCountries[[Actual]:[Mapping]],2,FALSE)","v":"USA"},"2 to 3 hours per day"]
["ID0374","2012-05-26T01:52:01",220700,"USD",{"$f":"tblSalaries[[#This Row],[clean Salary (in local currency)]]*VLOOKUP(tblSalaries[[#This Row],[Currency]],[1]!tblXrate[#Data],2,FALSE)","v":220700},"Consultant","Consultant","Brazil",{"$f":"VLOOKUP(tblSalaries[[#This Row],[Where do you work]],[1]!tblCountries[[Actual]:[Mapping]],2,FALSE)","v":"Brazil"},"All the 8 hours baby, all the 8!"]
["ID0375","2012-05-26T01:52:04",194000,"USD",{"$f":"tblSalaries[[#This Row],[clean Salary (in local currency)]]*VLOOKUP(tblSalaries[[#This Row],[Currency]],[1]!tblXrate[#Data],2,FALSE)","v":194000},"director","CXO or Top Mgmt.","USA",{"$f":"VLOOKUP(tblSalaries[[#This Row],[Where do you work]],[1]!tblCountries[[Actual]:[Mapping]],2,FALSE)","v":"USA"},"2 to 3 hours per day"]
["ID0376","2012-05-26T01:54:28",9000000,"INR",{"$f":"tblSalaries[[#This Row],[clean Salary (in local currency)]]*VLOOKUP(tblSalaries[[#This Row],[Currency]],[1]!tblXrate[#Data],2,FALSE)","v":160271.25018698312},"Financial Analyst","Analyst","India",{"$f":"VLOOKUP(tblSalaries[[#This Row],[Where do you work]],[1]!tblCountries[[Actual]:[Mapping]],2,FALSE)","v":"India"},"4 to 6 hours a day"]
["ID0377","2012-05-26T01:54:47",500000,"INR",{"$f":"tblSalaries[[#This Row],[clean Salary (in local currency)]]*VLOOKUP(tblSalaries[[#This Row],[Currency]],[1]!tblXrate[#Data],2,FALSE)","v":8903.9583437212841},"Owner","Manager","India",{"$f":"VLOOKUP(tblSalaries[[#This Row],[Where do you work]],[1]!tblCountries[[Actual]:[Mapping]],2,FALSE)","v":"India"},"2 to 3 hours per day"]
["ID0378","2012-05-26T01:57:23",80000,"CAD",{"$f":"tblSalaries[[#This Row],[clean Salary (in local currency)]]*VLOOKUP(tblSalaries[[#This Row],[Currency]],[1]!tblXrate[#Data],2,FALSE)","v":78668.921842426149},"Senior Business Analyst","Analyst","Canada",{"$f":"VLOOKUP(tblSalaries[[#This Row],[Where do you work]],[1]!tblCountries[[Actual]:[Mapping]],2,FALSE)","v":"Canada"},"4 to 6 hours a day"]
["ID0379","2012-05-26T01:57:40",18000,"EUR",{"$f":"tblSalaries[[#This Row],[clean Salary (in local currency)]]*VLOOKUP(tblSalaries[[#This Row],[Currency]],[1]!tblXrate[#Data],2,FALSE)","v":22867.189901848938},"marketing and sales ","Manager","Portugal",{"$f":"VLOOKUP(tblSalaries[[#This Row],[Where do you work]],[1]!tblCountries[[Actual]:[Mapping]],2,FALSE)","v":"Portugal"},"2 to 3 hours per day"]
["ID0380","2012-05-26T01:58:19",60000,"GBP",{"$f":"tblSalaries[[#This Row],[clean Salary (in local currency)]]*VLOOKUP(tblSalaries[[#This Row],[Currency]],[1]!tblXrate[#Data],2,FALSE)","v":94570.696324037053},"Managing Director","CXO or Top Mgmt.","UK",{"$f":"VLOOKUP(tblSalaries[[#This Row],[Where do you work]],[1]!tblCountries[[Actual]:[Mapping]],2,FALSE)","v":"UK"},"2 to 3 hours per day"]
["ID0381","2012-05-26T01:58:42",95000,"USD",{"$f":"tblSalaries[[#This Row],[clean Salary (in local currency)]]*VLOOKUP(tblSalaries[[#This Row],[Currency]],[1]!tblXrate[#Data],2,FALSE)","v":95000},"Senior Financial Analyst","Analyst","USA",{"$f":"VLOOKUP(tblSalaries[[#This Row],[Where do you work]],[1]!tblCountries[[Actual]:[Mapping]],2,FALSE)","v":"USA"},"All the 8 hours baby, all the 8!"]
["ID0382","2012-05-26T01:59:21",540000,"INR",{"$f":"tblSalaries[[#This Row],[clean Salary (in local currency)]]*VLOOKUP(tblSalaries[[#This Row],[Currency]],[1]!tblXrate[#Data],2,FALSE)","v":9616.275011218986},"Senior Billing Engineer","Engineer","India",{"$f":"VLOOKUP(tblSalaries[[#This Row],[Where do you work]],[1]!tblCountries[[Actual]:[Mapping]],2,FALSE)","v":"India"},"4 to 6 hours a day"]
["ID0383","2012-05-26T01:59:40",48000,"USD",{"$f":"tblSalaries[[#This Row],[clean Salary (in local currency)]]*VLOOKUP(tblSalaries[[#This Row],[Currency]],[1]!tblXrate[#Data],2,FALSE)","v":48000},"Quality Analyst","Analyst","USA",{"$f":"VLOOKUP(tblSalaries[[#This Row],[Where do you work]],[1]!tblCountries[[Actual]:[Mapping]],2,FALSE)","v":"USA"},"1 or 2 hours a day"]
["ID0384","2012-05-26T01:59:45",46000,"USD",{"$f":"tblSalaries[[#This Row],[clean Salary (in local currency)]]*VLOOKUP(tblSalaries[[#This Row],[Currency]],[1]!tblXrate[#Data],2,FALSE)","v":46000},"Financial analyst","Analyst","USA",{"$f":"VLOOKUP(tblSalaries[[#This Row],[Where do you work]],[1]!tblCountries[[Actual]:[Mapping]],2,FALSE)","v":"USA"},"4 to 6 hours a day"]
["ID0385","2012-05-26T01:59:48",15000,"USD",{"$f":"tblSalaries[[#This Row],[clean Salary (in local currency)]]*VLOOKUP(tblSalaries[[#This Row],[Currency]],[1]!tblXrate[#Data],2,FALSE)","v":15000},"Economist","Reporting","Ukraine",{"$f":"VLOOKUP(tblSalaries[[#This Row],[Where do you work]],[1]!tblCountries[[Actual]:[Mapping]],2,FALSE)","v":"Ukraine"},"2 to 3 hours per day"]
["ID0386","2012-05-26T02:00:04",620000,"INR",{"$f":"tblSalaries[[#This Row],[clean Salary (in local currency)]]*VLOOKUP(tblSalaries[[#This Row],[Currency]],[1]!tblXrate[#Data],2,FALSE)","v":11040.908346214392},"assistant manager (finance)","Manager","India",{"$f":"VLOOKUP(tblSalaries[[#This Row],[Where do you work]],[1]!tblCountries[[Actual]:[Mapping]],2,FALSE)","v":"India"},"1 or 2 hours a day"]
["ID0387","2012-05-26T02:00:10",28000,"GBP",{"$f":"tblSalaries[[#This Row],[clean Salary (in local currency)]]*VLOOKUP(tblSalaries[[#This Row],[Currency]],[1]!tblXrate[#Data],2,FALSE)","v":44132.991617883956},"Central Services Manager","Manager","UK",{"$f":"VLOOKUP(tblSalaries[[#This Row],[Where do you work]],[1]!tblCountries[[Actual]:[Mapping]],2,FALSE)","v":"UK"},"2 to 3 hours per day"]
["ID0388","2012-05-26T02:00:14",47000,"USD",{"$f":"tblSalaries[[#This Row],[clean Salary (in local currency)]]*VLOOKUP(tblSalaries[[#This Row],[Currency]],[1]!tblXrate[#Data],2,FALSE)","v":47000},"Trainer ","Manager","USA",{"$f":"VLOOKUP(tblSalaries[[#This Row],[Where do you work]],[1]!tblCountries[[Actual]:[Mapping]],2,FALSE)","v":"USA"},"2 to 3 hours per day"]
["ID0389","2012-05-26T02:00:42",44000,"USD",{"$f":"tblSalaries[[#This Row],[clean Salary (in local currency)]]*VLOOKUP(tblSalaries[[#This Row],[Currency]],[1]!tblXrate[#Data],2,FALSE)","v":44000},"continuous improvement team member","Analyst","USA",{"$f":"VLOOKUP(tblSalaries[[#This Row],[Where do you work]],[1]!tblCountries[[Actual]:[Mapping]],2,FALSE)","v":"USA"},"2 to 3 hours per day"]
["ID0390","2012-05-26T02:00:46",55000,"USD",{"$f":"tblSalaries[[#This Row],[clean Salary (in local currency)]]*VLOOKUP(tblSalaries[[#This Row],[Currency]],[1]!tblXrate[#Data],2,FALSE)","v":55000},"Accountant","Accountant","USA",{"$f":"VLOOKUP(tblSalaries[[#This Row],[Where do you work]],[1]!tblCountries[[Actual]:[Mapping]],2,FALSE)","v":"USA"},"4 to 6 hours a day"]
["ID0391","2012-05-26T02:00:54",12000,"USD",{"$f":"tblSalaries[[#This Row],[clean Salary (in local currency)]]*VLOOKUP(tblSalaries[[#This Row],[Currency]],[1]!tblXrate[#Data],2,FALSE)","v":12000},"MIS Officer","Reporting","South Africa",{"$f":"VLOOKUP(tblSalaries[[#This Row],[Where do you work]],[1]!tblCountries[[Actual]:[Mapping]],2,FALSE)","v":"South Africa"},"4 to 6 hours a day"]
["ID0392","2012-05-26T02:01:07",50000,"USD",{"$f":"tblSalaries[[#This Row],[clean Salary (in local currency)]]*VLOOKUP(tblSalaries[[#This Row],[Currency]],[1]!tblXrate[#Data],2,FALSE)","v":50000},"IR Manager","Manager","USA",{"$f":"VLOOKUP(tblSalaries[[#This Row],[Where do you work]],[1]!tblCountries[[Actual]:[Mapping]],2,FALSE)","v":"USA"},"2 to 3 hours per day"]
["ID0393","2012-05-26T02:01:31",750000,"INR",{"$f":"tblSalaries[[#This Row],[clean Salary (in local currency)]]*VLOOKUP(tblSalaries[[#This Row],[Currency]],[1]!tblXrate[#Data],2,FALSE)","v":13355.937515581925},"Business Analyst","Analyst","India",{"$f":"VLOOKUP(tblSalaries[[#This Row],[Where do you work]],[1]!tblCountries[[Actual]:[Mapping]],2,FALSE)","v":"India"},"1 or 2 hours a day"]
["ID0394","2012-05-26T02:02:02",99147,"USD",{"$f":"tblSalaries[[#This Row],[clean Salary (in local currency)]]*VLOOKUP(tblSalaries[[#This Row],[Currency]],[1]!tblXrate[#Data],2,FALSE)","v":99147},"Chief Specialist of Economics & Planning","Specialist","Russia",{"$f":"VLOOKUP(tblSalaries[[#This Row],[Where do you work]],[1]!tblCountries[[Actual]:[Mapping]],2,FALSE)","v":"Russia"},"4 to 6 hours a day"]
["ID0395","2012-05-26T02:03:35",45880,"USD",{"$f":"tblSalaries[[#This Row],[clean Salary (in local currency)]]*VLOOKUP(tblSalaries[[#This Row],[Currency]],[1]!tblXrate[#Data],2,FALSE)","v":45880},"Campus Budget Officer","Manager","USA",{"$f":"VLOOKUP(tblSalaries[[#This Row],[Where do you work]],[1]!tblCountries[[Actual]:[Mapping]],2,FALSE)","v":"USA"},"All the 8 hours baby, all the 8!"]
["ID0396","2012-05-26T02:03:45",70000,"USD",{"$f":"tblSalaries[[#This Row],[clean Salary (in local currency)]]*VLOOKUP(tblSalaries[[#This Row],[Currency]],[1]!tblXrate[#Data],2,FALSE)","v":70000},"Management Ananlyst","Manager","USA",{"$f":"VLOOKUP(tblSalaries[[#This Row],[Where do you work]],[1]!tblCountries[[Actual]:[Mapping]],2,FALSE)","v":"USA"},"4 to 6 hours a day"]
["ID0397","2012-05-26T02:04:01",100000,"USD",{"$f":"tblSalaries[[#This Row],[clean Salary (in local currency)]]*VLOOKUP(tblSalaries[[#This Row],[Currency]],[1]!tblXrate[#Data],2,FALSE)","v":100000},"Sales Operations Analyst","Analyst","USA",{"$f":"VLOOKUP(tblSalaries[[#This Row],[Where do you work]],[1]!tblCountries[[Actual]:[Mapping]],2,FALSE)","v":"USA"},"All the 8 hours baby, all the 8!"]
["ID0398","2012-05-26T02:04:05",1440000,"BDT",{"$f":"tblSalaries[[#This Row],[clean Salary (in local currency)]]*VLOOKUP(tblSalaries[[#This Row],[Currency]],[1]!tblXrate[#Data],2,FALSE)","v":17598.017290051986},"Computer Operator","Analyst","Bangladesh",{"$f":"VLOOKUP(tblSalaries[[#This Row],[Where do you work]],[1]!tblCountries[[Actual]:[Mapping]],2,FALSE)","v":"Bangladesh"},"2 to 3 hours per day"]
["ID0399","2012-05-26T02:05:06",85000,"USD",{"$f":"tblSalaries[[#This Row],[clean Salary (in local currency)]]*VLOOKUP(tblSalaries[[#This Row],[Currency]],[1]!tblXrate[#Data],2,FALSE)","v":85000},"ENGINEER","Engineer","USA",{"$f":"VLOOKUP(tblSalaries[[#This Row],[Where do you work]],[1]!tblCountries[[Actual]:[Mapping]],2,FALSE)","v":"USA"},"2 to 3 hours per day"]
["ID0400","2012-05-26T02:05:49",47000,"USD",{"$f":"tblSalaries[[#This Row],[clean Salary (in local currency)]]*VLOOKUP(tblSalaries[[#This Row],[Currency]],[1]!tblXrate[#Data],2,FALSE)","v":47000},"Sr Management Analytst 2","Manager","USA",{"$f":"VLOOKUP(tblSalaries[[#This Row],[Where do you work]],[1]!tblCountries[[Actual]:[Mapping]],2,FALSE)","v":"USA"},"4 to 6 hours a day"]
["ID0401","2012-05-26T02:05:58",40000,"USD",{"$f":"tblSalaries[[#This Row],[clean Salary (in local currency)]]*VLOOKUP(tblSalaries[[#This Row],[Currency]],[1]!tblXrate[#Data],2,FALSE)","v":40000},"Accounting Manager","Manager","USA",{"$f":"VLOOKUP(tblSalaries[[#This Row],[Where do you work]],[1]!tblCountries[[Actual]:[Mapping]],2,FALSE)","v":"USA"},"2 to 3 hours per day"]
["ID0402","2012-05-26T02:06:38",30000,"USD",{"$f":"tblSalaries[[#This Row],[clean Salary (in local currency)]]*VLOOKUP(tblSalaries[[#This Row],[Currency]],[1]!tblXrate[#Data],2,FALSE)","v":30000},"ceo","CXO or Top Mgmt.","India",{"$f":"VLOOKUP(tblSalaries[[#This Row],[Where do you work]],[1]!tblCountries[[Actual]:[Mapping]],2,FALSE)","v":"India"},"2 to 3 hours per day"]
["ID0403","2012-05-26T02:06:56",72000,"CAD",{"$f":"tblSalaries[[#This Row],[clean Salary (in local currency)]]*VLOOKUP(tblSalaries[[#This Row],[Currency]],[1]!tblXrate[#Data],2,FALSE)","v":70802.029658183528},"Controller","Controller","Canada",{"$f":"VLOOKUP(tblSalaries[[#This Row],[Where do you work]],[1]!tblCountries[[Actual]:[Mapping]],2,FALSE)","v":"Canada"},"4 to 6 hours a day"]
["ID0404","2012-05-26T02:07:28",34000,"USD",{"$f":"tblSalaries[[#This Row],[clean Salary (in local currency)]]*VLOOKUP(tblSalaries[[#This Row],[Currency]],[1]!tblXrate[#Data],2,FALSE)","v":34000},"Information Research Technician II","Analyst","USA",{"$f":"VLOOKUP(tblSalaries[[#This Row],[Where do you work]],[1]!tblCountries[[Actual]:[Mapping]],2,FALSE)","v":"USA"},"4 to 6 hours a day"]
["ID0405","2012-05-26T02:07:49",52000,"USD",{"$f":"tblSalaries[[#This Row],[clean Salary (in local currency)]]*VLOOKUP(tblSalaries[[#This Row],[Currency]],[1]!tblXrate[#Data],2,FALSE)","v":52000},"Data Analyst","Analyst","USA",{"$f":"VLOOKUP(tblSalaries[[#This Row],[Where do you work]],[1]!tblCountries[[Actual]:[Mapping]],2,FALSE)","v":"USA"},"4 to 6 hours a day"]
["ID0406","2012-05-26T02:08:10",300000,"INR",{"$f":"tblSalaries[[#This Row],[clean Salary (in local currency)]]*VLOOKUP(tblSalaries[[#This Row],[Currency]],[1]!tblXrate[#Data],2,FALSE)","v":5342.3750062327708},"Sr. Systems Engineer","Engineer","India",{"$f":"VLOOKUP(tblSalaries[[#This Row],[Where do you work]],[1]!tblCountries[[Actual]:[Mapping]],2,FALSE)","v":"India"},"1 or 2 hours a day"]
["ID0407","2012-05-26T02:09:57",400000,"INR",{"$f":"tblSalaries[[#This Row],[clean Salary (in local currency)]]*VLOOKUP(tblSalaries[[#This Row],[Currency]],[1]!tblXrate[#Data],2,FALSE)","v":7123.1666749770275},"Analyst","Analyst","India",{"$f":"VLOOKUP(tblSalaries[[#This Row],[Where do you work]],[1]!tblCountries[[Actual]:[Mapping]],2,FALSE)","v":"India"},"4 to 6 hours a day"]
["ID0408","2012-05-26T02:10:35",63586,"USD",{"$f":"tblSalaries[[#This Row],[clean Salary (in local currency)]]*VLOOKUP(tblSalaries[[#This Row],[Currency]],[1]!tblXrate[#Data],2,FALSE)","v":63586},"Senior Purchasing Officer","Manager","United Arab Emriate",{"$f":"VLOOKUP(tblSalaries[[#This Row],[Where do you work]],[1]!tblCountries[[Actual]:[Mapping]],2,FALSE)","v":"UAE"},"2 to 3 hours per day"]
["ID0409","2012-05-26T02:11:40",35000,"GBP",{"$f":"tblSalaries[[#This Row],[clean Salary (in local currency)]]*VLOOKUP(tblSalaries[[#This Row],[Currency]],[1]!tblXrate[#Data],2,FALSE)","v":55166.239522354947},"Mgmt Accountant","Accountant","UK",{"$f":"VLOOKUP(tblSalaries[[#This Row],[Where do you work]],[1]!tblCountries[[Actual]:[Mapping]],2,FALSE)","v":"UK"},"4 to 6 hours a day"]
["ID0410","2012-05-26T02:12:58",60000,"USD",{"$f":"tblSalaries[[#This Row],[clean Salary (in local currency)]]*VLOOKUP(tblSalaries[[#This Row],[Currency]],[1]!tblXrate[#Data],2,FALSE)","v":60000},"Sr financial analyst ","Analyst","USA",{"$f":"VLOOKUP(tblSalaries[[#This Row],[Where do you work]],[1]!tblCountries[[Actual]:[Mapping]],2,FALSE)","v":"USA"},"4 to 6 hours a day"]
["ID0411","2012-05-26T02:13:57",19200,"USD",{"$f":"tblSalaries[[#This Row],[clean Salary (in local currency)]]*VLOOKUP(tblSalaries[[#This Row],[Currency]],[1]!tblXrate[#Data],2,FALSE)","v":19200},"Department Manager","Manager","Romania",{"$f":"VLOOKUP(tblSalaries[[#This Row],[Where do you work]],[1]!tblCountries[[Actual]:[Mapping]],2,FALSE)","v":"Romania"},"All the 8 hours baby, all the 8!"]
["ID0412","2012-05-26T02:14:05",14000000,"COSTARICAN",{"$f":"tblSalaries[[#This Row],[clean Salary (in local currency)]]*VLOOKUP(tblSalaries[[#This Row],[Currency]],[1]!tblXrate[#Data],2,FALSE)","v":28109.627547434993},"Businees Adminstratot","Analyst","Costa Rica",{"$f":"VLOOKUP(tblSalaries[[#This Row],[Where do you work]],[1]!tblCountries[[Actual]:[Mapping]],2,FALSE)","v":"Costa Rica"},"All the 8 hours baby, all the 8!"]
["ID0413","2012-05-26T02:14:29",56000,"USD",{"$f":"tblSalaries[[#This Row],[clean Salary (in local currency)]]*VLOOKUP(tblSalaries[[#This Row],[Currency]],[1]!tblXrate[#Data],2,FALSE)","v":56000},"Staff assistant ","Analyst","USA",{"$f":"VLOOKUP(tblSalaries[[#This Row],[Where do you work]],[1]!tblCountries[[Actual]:[Mapping]],2,FALSE)","v":"USA"},"4 to 6 hours a day"]
["ID0414","2012-05-26T02:14:48",52000,"USD",{"$f":"tblSalaries[[#This Row],[clean Salary (in local currency)]]*VLOOKUP(tblSalaries[[#This Row],[Currency]],[1]!tblXrate[#Data],2,FALSE)","v":52000},"Sr. Accountant","Accountant","USA",{"$f":"VLOOKUP(tblSalaries[[#This Row],[Where do you work]],[1]!tblCountries[[Actual]:[Mapping]],2,FALSE)","v":"USA"},"4 to 6 hours a day"]
["ID0415","2012-05-26T02:15:19",51613,"USD",{"$f":"tblSalaries[[#This Row],[clean Salary (in local currency)]]*VLOOKUP(tblSalaries[[#This Row],[Currency]],[1]!tblXrate[#Data],2,FALSE)","v":51613},"Air Planning Analyst","Analyst","USA",{"$f":"VLOOKUP(tblSalaries[[#This Row],[Where do you work]],[1]!tblCountries[[Actual]:[Mapping]],2,FALSE)","v":"USA"},"All the 8 hours baby, all the 8!"]
["ID0416","2012-05-26T02:17:01",35000,"USD",{"$f":"tblSalaries[[#This Row],[clean Salary (in local currency)]]*VLOOKUP(tblSalaries[[#This Row],[Currency]],[1]!tblXrate[#Data],2,FALSE)","v":35000},"Credit Analyst","Analyst","Russia",{"$f":"VLOOKUP(tblSalaries[[#This Row],[Where do you work]],[1]!tblCountries[[Actual]:[Mapping]],2,FALSE)","v":"Russia"},"4 to 6 hours a day"]
["ID0417","2012-05-26T02:17:18",56000,"USD",{"$f":"tblSalaries[[#This Row],[clean Salary (in local currency)]]*VLOOKUP(tblSalaries[[#This Row],[Currency]],[1]!tblXrate[#Data],2,FALSE)","v":56000},"financial management consultant","Manager","USA",{"$f":"VLOOKUP(tblSalaries[[#This Row],[Where do you work]],[1]!tblCountries[[Actual]:[Mapping]],2,FALSE)","v":"USA"},"All the 8 hours baby, all the 8!"]
["ID0418","2012-05-26T02:17:38",115000,"USD",{"$f":"tblSalaries[[#This Row],[clean Salary (in local currency)]]*VLOOKUP(tblSalaries[[#This Row],[Currency]],[1]!tblXrate[#Data],2,FALSE)","v":115000},"Consultant","Consultant","USA",{"$f":"VLOOKUP(tblSalaries[[#This Row],[Where do you work]],[1]!tblCountries[[Actual]:[Mapping]],2,FALSE)","v":"USA"},"2 to 3 hours per day"]
["ID0419","2012-05-26T02:18:03",66000,"GBP",{"$f":"tblSalaries[[#This Row],[clean Salary (in local currency)]]*VLOOKUP(tblSalaries[[#This Row],[Currency]],[1]!tblXrate[#Data],2,FALSE)","v":104027.76595644075},"IT Project Manager, EMEA","Manager","UK",{"$f":"VLOOKUP(tblSalaries[[#This Row],[Where do you work]],[1]!tblCountries[[Actual]:[Mapping]],2,FALSE)","v":"UK"},"1 or 2 hours a day"]
["ID0420","2012-05-26T02:19:12",200000,"INR",{"$f":"tblSalaries[[#This Row],[clean Salary (in local currency)]]*VLOOKUP(tblSalaries[[#This Row],[Currency]],[1]!tblXrate[#Data],2,FALSE)","v":3561.5833374885137},"Consultant","Consultant","India",{"$f":"VLOOKUP(tblSalaries[[#This Row],[Where do you work]],[1]!tblCountries[[Actual]:[Mapping]],2,FALSE)","v":"India"},"1 or 2 hours a day"]
["ID0421","2012-05-26T02:19:48",72000,"USD",{"$f":"tblSalaries[[#This Row],[clean Salary (in local currency)]]*VLOOKUP(tblSalaries[[#This Row],[Currency]],[1]!tblXrate[#Data],2,FALSE)","v":72000},"IS Director","CXO or Top Mgmt.","USA",{"$f":"VLOOKUP(tblSalaries[[#This Row],[Where do you work]],[1]!tblCountries[[Actual]:[Mapping]],2,FALSE)","v":"USA"},"4 to 6 hours a day"]
["ID0422","2012-05-26T02:19:52",90000,"USD",{"$f":"tblSalaries[[#This Row],[clean Salary (in local currency)]]*VLOOKUP(tblSalaries[[#This Row],[Currency]],[1]!tblXrate[#Data],2,FALSE)","v":90000},"Financial Analyst","Analyst","USA",{"$f":"VLOOKUP(tblSalaries[[#This Row],[Where do you work]],[1]!tblCountries[[Actual]:[Mapping]],2,FALSE)","v":"USA"},"All the 8 hours baby, all the 8!"]
["ID0423","2012-05-26T02:20:15",8500,"USD",{"$f":"tblSalaries[[#This Row],[clean Salary (in local currency)]]*VLOOKUP(tblSalaries[[#This Row],[Currency]],[1]!tblXrate[#Data],2,FALSE)","v":8500},"Accounting Coordinator","Accountant","Romania",{"$f":"VLOOKUP(tblSalaries[[#This Row],[Where do you work]],[1]!tblCountries[[Actual]:[Mapping]],2,FALSE)","v":"Romania"},"2 to 3 hours per day"]
["ID0424","2012-05-26T02:20:22",12000,"USD",{"$f":"tblSalaries[[#This Row],[clean Salary (in local currency)]]*VLOOKUP(tblSalaries[[#This Row],[Currency]],[1]!tblXrate[#Data],2,FALSE)","v":12000},"teacher","Analyst","iran",{"$f":"VLOOKUP(tblSalaries[[#This Row],[Where do you work]],[1]!tblCountries[[Actual]:[Mapping]],2,FALSE)","v":"iran"},"2 to 3 hours per day"]
["ID0425","2012-05-26T02:22:17",250000,"USD",{"$f":"tblSalaries[[#This Row],[clean Salary (in local currency)]]*VLOOKUP(tblSalaries[[#This Row],[Currency]],[1]!tblXrate[#Data],2,FALSE)","v":250000},"consultant","Consultant","USA",{"$f":"VLOOKUP(tblSalaries[[#This Row],[Where do you work]],[1]!tblCountries[[Actual]:[Mapping]],2,FALSE)","v":"USA"},"All the 8 hours baby, all the 8!"]
["ID0426","2012-05-26T02:24:24",70800,"EUR",{"$f":"tblSalaries[[#This Row],[clean Salary (in local currency)]]*VLOOKUP(tblSalaries[[#This Row],[Currency]],[1]!tblXrate[#Data],2,FALSE)","v":89944.280280605832},"Excel trainer","Analyst","Finland",{"$f":"VLOOKUP(tblSalaries[[#This Row],[Where do you work]],[1]!tblCountries[[Actual]:[Mapping]],2,FALSE)","v":"Finland"},"All the 8 hours baby, all the 8!"]
["ID0427","2012-05-26T02:25:10",240000,"INR",{"$f":"tblSalaries[[#This Row],[clean Salary (in local currency)]]*VLOOKUP(tblSalaries[[#This Row],[Currency]],[1]!tblXrate[#Data],2,FALSE)","v":4273.9000049862161},"WFM Team Lead","Manager","India",{"$f":"VLOOKUP(tblSalaries[[#This Row],[Where do you work]],[1]!tblCountries[[Actual]:[Mapping]],2,FALSE)","v":"India"},"All the 8 hours baby, all the 8!"]
["ID0428","2012-05-26T02:27:50",30000,"USD",{"$f":"tblSalaries[[#This Row],[clean Salary (in local currency)]]*VLOOKUP(tblSalaries[[#This Row],[Currency]],[1]!tblXrate[#Data],2,FALSE)","v":30000},"Supervisor","Manager","USA",{"$f":"VLOOKUP(tblSalaries[[#This Row],[Where do you work]],[1]!tblCountries[[Actual]:[Mapping]],2,FALSE)","v":"USA"},"2 to 3 hours per day"]
["ID0429","2012-05-26T02:29:37",30000,"USD",{"$f":"tblSalaries[[#This Row],[clean Salary (in local currency)]]*VLOOKUP(tblSalaries[[#This Row],[Currency]],[1]!tblXrate[#Data],2,FALSE)","v":30000},"BI Developer","Reporting","Romania",{"$f":"VLOOKUP(tblSalaries[[#This Row],[Where do you work]],[1]!tblCountries[[Actual]:[Mapping]],2,FALSE)","v":"Romania"},"1 or 2 hours a day"]
["ID0430","2012-05-26T02:31:24",24000,"USD",{"$f":"tblSalaries[[#This Row],[clean Salary (in local currency)]]*VLOOKUP(tblSalaries[[#This Row],[Currency]],[1]!tblXrate[#Data],2,FALSE)","v":24000},"engineer","Engineer","USA",{"$f":"VLOOKUP(tblSalaries[[#This Row],[Where do you work]],[1]!tblCountries[[Actual]:[Mapping]],2,FALSE)","v":"USA"},"1 or 2 hours a day"]
["ID0431","2012-05-26T02:33:00",60000,"USD",{"$f":"tblSalaries[[#This Row],[clean Salary (in local currency)]]*VLOOKUP(tblSalaries[[#This Row],[Currency]],[1]!tblXrate[#Data],2,FALSE)","v":60000},"Planner","Manager","USA",{"$f":"VLOOKUP(tblSalaries[[#This Row],[Where do you work]],[1]!tblCountries[[Actual]:[Mapping]],2,FALSE)","v":"USA"},"4 to 6 hours a day"]
["ID0432","2012-05-26T02:33:06",76600,"USD",{"$f":"tblSalaries[[#This Row],[clean Salary (in local currency)]]*VLOOKUP(tblSalaries[[#This Row],[Currency]],[1]!tblXrate[#Data],2,FALSE)","v":76600},"Analyst","Analyst","USA",{"$f":"VLOOKUP(tblSalaries[[#This Row],[Where do you work]],[1]!tblCountries[[Actual]:[Mapping]],2,FALSE)","v":"USA"},"2 to 3 hours per day"]
["ID0433","2012-05-26T02:33:10",65000,"GBP",{"$f":"tblSalaries[[#This Row],[clean Salary (in local currency)]]*VLOOKUP(tblSalaries[[#This Row],[Currency]],[1]!tblXrate[#Data],2,FALSE)","v":102451.58768437347},"Financial Controller","Controller","UK",{"$f":"VLOOKUP(tblSalaries[[#This Row],[Where do you work]],[1]!tblCountries[[Actual]:[Mapping]],2,FALSE)","v":"UK"},"2 to 3 hours per day"]
["ID0434","2012-05-26T02:34:00",6629,"USD",{"$f":"tblSalaries[[#This Row],[clean Salary (in local currency)]]*VLOOKUP(tblSalaries[[#This Row],[Currency]],[1]!tblXrate[#Data],2,FALSE)","v":6629},"Engineer","Engineer","Dominican Republic",{"$f":"VLOOKUP(tblSalaries[[#This Row],[Where do you work]],[1]!tblCountries[[Actual]:[Mapping]],2,FALSE)","v":"Dominican Republic"},"All the 8 hours baby, all the 8!"]
["ID0435","2012-05-26T02:34:37",90000,"USD",{"$f":"tblSalaries[[#This Row],[clean Salary (in local currency)]]*VLOOKUP(tblSalaries[[#This Row],[Currency]],[1]!tblXrate[#Data],2,FALSE)","v":90000},"senior analyst","Analyst","USA",{"$f":"VLOOKUP(tblSalaries[[#This Row],[Where do you work]],[1]!tblCountries[[Actual]:[Mapping]],2,FALSE)","v":"USA"},"1 or 2 hours a day"]
["ID0436","2012-05-26T02:35:10",8500,"USD",{"$f":"tblSalaries[[#This Row],[clean Salary (in local currency)]]*VLOOKUP(tblSalaries[[#This Row],[Currency]],[1]!tblXrate[#Data],2,FALSE)","v":8500},"Assesor","Analyst","Colombia",{"$f":"VLOOKUP(tblSalaries[[#This Row],[Where do you work]],[1]!tblCountries[[Actual]:[Mapping]],2,FALSE)","v":"Colombia"},"1 or 2 hours a day"]
["ID0437","2012-05-26T02:35:11",75000,"USD",{"$f":"tblSalaries[[#This Row],[clean Salary (in local currency)]]*VLOOKUP(tblSalaries[[#This Row],[Currency]],[1]!tblXrate[#Data],2,FALSE)","v":75000},"Financial Analys","Analyst","USA",{"$f":"VLOOKUP(tblSalaries[[#This Row],[Where do you work]],[1]!tblCountries[[Actual]:[Mapping]],2,FALSE)","v":"USA"},"4 to 6 hours a day"]
["ID0438","2012-05-26T02:37:50",72000,"USD",{"$f":"tblSalaries[[#This Row],[clean Salary (in local currency)]]*VLOOKUP(tblSalaries[[#This Row],[Currency]],[1]!tblXrate[#Data],2,FALSE)","v":72000},"Sr. Information Systems Analyst","Analyst","USA",{"$f":"VLOOKUP(tblSalaries[[#This Row],[Where do you work]],[1]!tblCountries[[Actual]:[Mapping]],2,FALSE)","v":"USA"},"2 to 3 hours per day"]
["ID0439","2012-05-26T02:38:34",65000,"USD",{"$f":"tblSalaries[[#This Row],[clean Salary (in local currency)]]*VLOOKUP(tblSalaries[[#This Row],[Currency]],[1]!tblXrate[#Data],2,FALSE)","v":65000},"Senior Claims Analyst","Analyst","USA",{"$f":"VLOOKUP(tblSalaries[[#This Row],[Where do you work]],[1]!tblCountries[[Actual]:[Mapping]],2,FALSE)","v":"USA"},"4 to 6 hours a day"]
["ID0440","2012-05-26T02:39:56",120000,"USD",{"$f":"tblSalaries[[#This Row],[clean Salary (in local currency)]]*VLOOKUP(tblSalaries[[#This Row],[Currency]],[1]!tblXrate[#Data],2,FALSE)","v":120000},"Director","CXO or Top Mgmt.","USA",{"$f":"VLOOKUP(tblSalaries[[#This Row],[Where do you work]],[1]!tblCountries[[Actual]:[Mapping]],2,FALSE)","v":"USA"},"1 or 2 hours a day"]
["ID0441","2012-05-26T02:40:39",4000000,"INR",{"$f":"tblSalaries[[#This Row],[clean Salary (in local currency)]]*VLOOKUP(tblSalaries[[#This Row],[Currency]],[1]!tblXrate[#Data],2,FALSE)","v":71231.666749770273},"Sr Mgr Finance","Accountant","India",{"$f":"VLOOKUP(tblSalaries[[#This Row],[Where do you work]],[1]!tblCountries[[Actual]:[Mapping]],2,FALSE)","v":"India"},"All the 8 hours baby, all the 8!"]
["ID0442","2012-05-26T02:42:20",300000,"INR",{"$f":"tblSalaries[[#This Row],[clean Salary (in local currency)]]*VLOOKUP(tblSalaries[[#This Row],[Currency]],[1]!tblXrate[#Data],2,FALSE)","v":5342.3750062327708},"Web Portal Manager","Manager","India",{"$f":"VLOOKUP(tblSalaries[[#This Row],[Where do you work]],[1]!tblCountries[[Actual]:[Mapping]],2,FALSE)","v":"India"},"4 to 6 hours a day"]
["ID0443","2012-05-26T02:43:21",1100000,"INR",{"$f":"tblSalaries[[#This Row],[clean Salary (in local currency)]]*VLOOKUP(tblSalaries[[#This Row],[Currency]],[1]!tblXrate[#Data],2,FALSE)","v":19588.708356186824},"manager - MIS & operations planning","Manager","India",{"$f":"VLOOKUP(tblSalaries[[#This Row],[Where do you work]],[1]!tblCountries[[Actual]:[Mapping]],2,FALSE)","v":"India"},"4 to 6 hours a day"]
["ID0444","2012-05-26T02:46:18",80000,"USD",{"$f":"tblSalaries[[#This Row],[clean Salary (in local currency)]]*VLOOKUP(tblSalaries[[#This Row],[Currency]],[1]!tblXrate[#Data],2,FALSE)","v":80000},"web analyst","Analyst","USA",{"$f":"VLOOKUP(tblSalaries[[#This Row],[Where do you work]],[1]!tblCountries[[Actual]:[Mapping]],2,FALSE)","v":"USA"},"4 to 6 hours a day"]
["ID0445","2012-05-26T02:46:56",3000000,"INR",{"$f":"tblSalaries[[#This Row],[clean Salary (in local currency)]]*VLOOKUP(tblSalaries[[#This Row],[Currency]],[1]!tblXrate[#Data],2,FALSE)","v":53423.750062327701},"Management Consultant","Manager","India",{"$f":"VLOOKUP(tblSalaries[[#This Row],[Where do you work]],[1]!tblCountries[[Actual]:[Mapping]],2,FALSE)","v":"India"},"4 to 6 hours a day"]
["ID0446","2012-05-26T02:48:32",110000,"CAD",{"$f":"tblSalaries[[#This Row],[clean Salary (in local currency)]]*VLOOKUP(tblSalaries[[#This Row],[Currency]],[1]!tblXrate[#Data],2,FALSE)","v":108169.76753333595},"Continuos improvment","Controller","Canad",{"$f":"VLOOKUP(tblSalaries[[#This Row],[Where do you work]],[1]!tblCountries[[Actual]:[Mapping]],2,FALSE)","v":"Canada"},"2 to 3 hours per day"]
["ID0447","2012-05-26T02:49:24",51000,"USD",{"$f":"tblSalaries[[#This Row],[clean Salary (in local currency)]]*VLOOKUP(tblSalaries[[#This Row],[Currency]],[1]!tblXrate[#Data],2,FALSE)","v":51000},"Direct marketing manager","Manager","USA",{"$f":"VLOOKUP(tblSalaries[[#This Row],[Where do you work]],[1]!tblCountries[[Actual]:[Mapping]],2,FALSE)","v":"USA"},"2 to 3 hours per day"]
["ID0448","2012-05-26T02:50:16",5000,"USD",{"$f":"tblSalaries[[#This Row],[clean Salary (in local currency)]]*VLOOKUP(tblSalaries[[#This Row],[Currency]],[1]!tblXrate[#Data],2,FALSE)","v":5000},"mis","Reporting","India",{"$f":"VLOOKUP(tblSalaries[[#This Row],[Where do you work]],[1]!tblCountries[[Actual]:[Mapping]],2,FALSE)","v":"India"},"4 to 6 hours a day"]
["ID0449","2012-05-26T02:53:29",74000,"USD",{"$f":"tblSalaries[[#This Row],[clean Salary (in local currency)]]*VLOOKUP(tblSalaries[[#This Row],[Currency]],[1]!tblXrate[#Data],2,FALSE)","v":74000},"Engineer","Engineer","USA",{"$f":"VLOOKUP(tblSalaries[[#This Row],[Where do you work]],[1]!tblCountries[[Actual]:[Mapping]],2,FALSE)","v":"USA"},"4 to 6 hours a day"]
["ID0450","2012-05-26T02:53:48",60000,"GBP",{"$f":"tblSalaries[[#This Row],[clean Salary (in local currency)]]*VLOOKUP(tblSalaries[[#This Row],[Currency]],[1]!tblXrate[#Data],2,FALSE)","v":94570.696324037053},"Excel Consultant","Consultant","UK",{"$f":"VLOOKUP(tblSalaries[[#This Row],[Where do you work]],[1]!tblCountries[[Actual]:[Mapping]],2,FALSE)","v":"UK"},"4 to 6 hours a day"]
["ID0451","2012-05-26T02:55:27",50000,"USD",{"$f":"tblSalaries[[#This Row],[clean Salary (in local currency)]]*VLOOKUP(tblSalaries[[#This Row],[Currency]],[1]!tblXrate[#Data],2,FALSE)","v":50000},"Wine Analyst","Analyst","USA",{"$f":"VLOOKUP(tblSalaries[[#This Row],[Where do you work]],[1]!tblCountries[[Actual]:[Mapping]],2,FALSE)","v":"USA"},"4 to 6 hours a day"]
["ID0452","2012-05-26T02:55:29",500000,"INR",{"$f":"tblSalaries[[#This Row],[clean Salary (in local currency)]]*VLOOKUP(tblSalaries[[#This Row],[Currency]],[1]!tblXrate[#Data],2,FALSE)","v":8903.9583437212841},"Business Analyst","Analyst","India",{"$f":"VLOOKUP(tblSalaries[[#This Row],[Where do you work]],[1]!tblCountries[[Actual]:[Mapping]],2,FALSE)","v":"India"},"4 to 6 hours a day"]
["ID0453","2012-05-26T02:57:32",78000,"USD",{"$f":"tblSalaries[[#This Row],[clean Salary (in local currency)]]*VLOOKUP(tblSalaries[[#This Row],[Currency]],[1]!tblXrate[#Data],2,FALSE)","v":78000},"FinanceManager","Manager","Somalia",{"$f":"VLOOKUP(tblSalaries[[#This Row],[Where do you work]],[1]!tblCountries[[Actual]:[Mapping]],2,FALSE)","v":"Somalia"},"4 to 6 hours a day"]
["ID0454","2012-05-26T02:57:47",900000,"INR",{"$f":"tblSalaries[[#This Row],[clean Salary (in local currency)]]*VLOOKUP(tblSalaries[[#This Row],[Currency]],[1]!tblXrate[#Data],2,FALSE)","v":16027.125018698311},"Regional Manager","Manager","India",{"$f":"VLOOKUP(tblSalaries[[#This Row],[Where do you work]],[1]!tblCountries[[Actual]:[Mapping]],2,FALSE)","v":"India"},"1 or 2 hours a day"]
["ID0455","2012-05-26T03:01:31",7500,"USD",{"$f":"tblSalaries[[#This Row],[clean Salary (in local currency)]]*VLOOKUP(tblSalaries[[#This Row],[Currency]],[1]!tblXrate[#Data],2,FALSE)","v":7500},"HR reporting analyst","Analyst","Romania",{"$f":"VLOOKUP(tblSalaries[[#This Row],[Where do you work]],[1]!tblCountries[[Actual]:[Mapping]],2,FALSE)","v":"Romania"},"All the 8 hours baby, all the 8!"]
["ID0456","2012-05-26T03:01:42",60000,"USD",{"$f":"tblSalaries[[#This Row],[clean Salary (in local currency)]]*VLOOKUP(tblSalaries[[#This Row],[Currency]],[1]!tblXrate[#Data],2,FALSE)","v":60000},"Finalcial Reporting Analyst","Analyst","USA",{"$f":"VLOOKUP(tblSalaries[[#This Row],[Where do you work]],[1]!tblCountries[[Actual]:[Mapping]],2,FALSE)","v":"USA"},"All the 8 hours baby, all the 8!"]
["ID0457","2012-05-26T03:02:42",800000,"INR",{"$f":"tblSalaries[[#This Row],[clean Salary (in local currency)]]*VLOOKUP(tblSalaries[[#This Row],[Currency]],[1]!tblXrate[#Data],2,FALSE)","v":14246.333349954055},"Partner","CXO or Top Mgmt.","India",{"$f":"VLOOKUP(tblSalaries[[#This Row],[Where do you work]],[1]!tblCountries[[Actual]:[Mapping]],2,FALSE)","v":"India"},"All the 8 hours baby, all the 8!"]
["ID0458","2012-05-26T03:03:09",80000,"USD",{"$f":"tblSalaries[[#This Row],[clean Salary (in local currency)]]*VLOOKUP(tblSalaries[[#This Row],[Currency]],[1]!tblXrate[#Data],2,FALSE)","v":80000},"operations tech","Manager","USA",{"$f":"VLOOKUP(tblSalaries[[#This Row],[Where do you work]],[1]!tblCountries[[Actual]:[Mapping]],2,FALSE)","v":"USA"},"1 or 2 hours a day"]
["ID0459","2012-05-26T03:03:29",38000,"GBP",{"$f":"tblSalaries[[#This Row],[clean Salary (in local currency)]]*VLOOKUP(tblSalaries[[#This Row],[Currency]],[1]!tblXrate[#Data],2,FALSE)","v":59894.774338556796},"Commercial Accountant","Accountant","UK",{"$f":"VLOOKUP(tblSalaries[[#This Row],[Where do you work]],[1]!tblCountries[[Actual]:[Mapping]],2,FALSE)","v":"UK"},"4 to 6 hours a day"]
["ID0460","2012-05-26T03:04:06",52000,"CAD",{"$f":"tblSalaries[[#This Row],[clean Salary (in local currency)]]*VLOOKUP(tblSalaries[[#This Row],[Currency]],[1]!tblXrate[#Data],2,FALSE)","v":51134.799197576998},"Office Manager","Manager","Canada",{"$f":"VLOOKUP(tblSalaries[[#This Row],[Where do you work]],[1]!tblCountries[[Actual]:[Mapping]],2,FALSE)","v":"Canada"},"4 to 6 hours a day"]
["ID0461","2012-05-26T03:06:16",125000,"USD",{"$f":"tblSalaries[[#This Row],[clean Salary (in local currency)]]*VLOOKUP(tblSalaries[[#This Row],[Currency]],[1]!tblXrate[#Data],2,FALSE)","v":125000},"Prod Mgr","Manager","USA",{"$f":"VLOOKUP(tblSalaries[[#This Row],[Where do you work]],[1]!tblCountries[[Actual]:[Mapping]],2,FALSE)","v":"USA"},"2 to 3 hours per day"]
["ID0462","2012-05-26T03:06:37",52000,"USD",{"$f":"tblSalaries[[#This Row],[clean Salary (in local currency)]]*VLOOKUP(tblSalaries[[#This Row],[Currency]],[1]!tblXrate[#Data],2,FALSE)","v":52000},"Graphics/Web Document Designer","Analyst","USA",{"$f":"VLOOKUP(tblSalaries[[#This Row],[Where do you work]],[1]!tblCountries[[Actual]:[Mapping]],2,FALSE)","v":"USA"},"2 to 3 hours per day"]
["ID0463","2012-05-26T03:07:46",45000,"USD",{"$f":"tblSalaries[[#This Row],[clean Salary (in local currency)]]*VLOOKUP(tblSalaries[[#This Row],[Currency]],[1]!tblXrate[#Data],2,FALSE)","v":45000},"Analyst","Analyst","USA",{"$f":"VLOOKUP(tblSalaries[[#This Row],[Where do you work]],[1]!tblCountries[[Actual]:[Mapping]],2,FALSE)","v":"USA"},"4 to 6 hours a day"]
["ID0464","2012-05-26T03:08:28",25000,"GBP",{"$f":"tblSalaries[[#This Row],[clean Salary (in local currency)]]*VLOOKUP(tblSalaries[[#This Row],[Currency]],[1]!tblXrate[#Data],2,FALSE)","v":39404.456801682099},"Analyst","Analyst","UK",{"$f":"VLOOKUP(tblSalaries[[#This Row],[Where do you work]],[1]!tblCountries[[Actual]:[Mapping]],2,FALSE)","v":"UK"},"4 to 6 hours a day"]
["ID0465","2012-05-26T03:09:43",60000,"USD",{"$f":"tblSalaries[[#This Row],[clean Salary (in local currency)]]*VLOOKUP(tblSalaries[[#This Row],[Currency]],[1]!tblXrate[#Data],2,FALSE)","v":60000},"Business intelligence manager","Manager","USA",{"$f":"VLOOKUP(tblSalaries[[#This Row],[Where do you work]],[1]!tblCountries[[Actual]:[Mapping]],2,FALSE)","v":"USA"},"All the 8 hours baby, all the 8!"]
["ID0466","2012-05-26T03:09:49",70000,"CAD",{"$f":"tblSalaries[[#This Row],[clean Salary (in local currency)]]*VLOOKUP(tblSalaries[[#This Row],[Currency]],[1]!tblXrate[#Data],2,FALSE)","v":68835.306612122877},"Program Manager","Manager","Canada",{"$f":"VLOOKUP(tblSalaries[[#This Row],[Where do you work]],[1]!tblCountries[[Actual]:[Mapping]],2,FALSE)","v":"Canada"},"1 or 2 hours a day"]
["ID0467","2012-05-26T03:11:21",5250,"USD",{"$f":"tblSalaries[[#This Row],[clean Salary (in local currency)]]*VLOOKUP(tblSalaries[[#This Row],[Currency]],[1]!tblXrate[#Data],2,FALSE)","v":5250},"Treasure Specialist","Specialist","Republic of Georgia",{"$f":"VLOOKUP(tblSalaries[[#This Row],[Where do you work]],[1]!tblCountries[[Actual]:[Mapping]],2,FALSE)","v":"Republic of Georgia"},"4 to 6 hours a day"]
["ID0468","2012-05-26T03:11:44",87000,"CAD",{"$f":"tblSalaries[[#This Row],[clean Salary (in local currency)]]*VLOOKUP(tblSalaries[[#This Row],[Currency]],[1]!tblXrate[#Data],2,FALSE)","v":85552.452503638444},"Business Manager","Manager","Canada",{"$f":"VLOOKUP(tblSalaries[[#This Row],[Where do you work]],[1]!tblCountries[[Actual]:[Mapping]],2,FALSE)","v":"Canada"},"4 to 6 hours a day"]
["ID0469","2012-05-26T03:13:13",125000,"INR",{"$f":"tblSalaries[[#This Row],[clean Salary (in local currency)]]*VLOOKUP(tblSalaries[[#This Row],[Currency]],[1]!tblXrate[#Data],2,FALSE)","v":2225.989585930321},"clerk","Analyst","India",{"$f":"VLOOKUP(tblSalaries[[#This Row],[Where do you work]],[1]!tblCountries[[Actual]:[Mapping]],2,FALSE)","v":"India"},"4 to 6 hours a day"]
["ID0470","2012-05-26T03:14:44",150000,"USD",{"$f":"tblSalaries[[#This Row],[clean Salary (in local currency)]]*VLOOKUP(tblSalaries[[#This Row],[Currency]],[1]!tblXrate[#Data],2,FALSE)","v":150000},"CFO","CXO or Top Mgmt.","USA",{"$f":"VLOOKUP(tblSalaries[[#This Row],[Where do you work]],[1]!tblCountries[[Actual]:[Mapping]],2,FALSE)","v":"USA"},"2 to 3 hours per day"]
["ID0471","2012-05-26T03:15:01",50000,"USD",{"$f":"tblSalaries[[#This Row],[clean Salary (in local currency)]]*VLOOKUP(tblSalaries[[#This Row],[Currency]],[1]!tblXrate[#Data],2,FALSE)","v":50000},"Researcher & Data Analyst","Analyst","USA",{"$f":"VLOOKUP(tblSalaries[[#This Row],[Where do you work]],[1]!tblCountries[[Actual]:[Mapping]],2,FALSE)","v":"USA"},"4 to 6 hours a day"]
["ID0472","2012-05-26T03:15:04",70000,"USD",{"$f":"tblSalaries[[#This Row],[clean Salary (in local currency)]]*VLOOKUP(tblSalaries[[#This Row],[Currency]],[1]!tblXrate[#Data],2,FALSE)","v":70000},"Analyst","Analyst","USA",{"$f":"VLOOKUP(tblSalaries[[#This Row],[Where do you work]],[1]!tblCountries[[Actual]:[Mapping]],2,FALSE)","v":"USA"},"4 to 6 hours a day"]
["ID0473","2012-05-26T03:15:30",28500,"GBP",{"$f":"tblSalaries[[#This Row],[clean Salary (in local currency)]]*VLOOKUP(tblSalaries[[#This Row],[Currency]],[1]!tblXrate[#Data],2,FALSE)","v":44921.080753917595},"Data Quality & Analysis Manager","Manager","UK",{"$f":"VLOOKUP(tblSalaries[[#This Row],[Where do you work]],[1]!tblCountries[[Actual]:[Mapping]],2,FALSE)","v":"UK"},"2 to 3 hours per day"]
["ID0474","2012-05-26T03:15:50",20000,"USD",{"$f":"tblSalaries[[#This Row],[clean Salary (in local currency)]]*VLOOKUP(tblSalaries[[#This Row],[Currency]],[1]!tblXrate[#Data],2,FALSE)","v":20000},"Specialist","Specialist","India",{"$f":"VLOOKUP(tblSalaries[[#This Row],[Where do you work]],[1]!tblCountries[[Actual]:[Mapping]],2,FALSE)","v":"India"},"4 to 6 hours a day"]
["ID0476","2012-05-26T03:16:58",12000,"USD",{"$f":"tblSalaries[[#This Row],[clean Salary (in local currency)]]*VLOOKUP(tblSalaries[[#This Row],[Currency]],[1]!tblXrate[#Data],2,FALSE)","v":12000},"Resource managment Analyst","Analyst","Estonia",{"$f":"VLOOKUP(tblSalaries[[#This Row],[Where do you work]],[1]!tblCountries[[Actual]:[Mapping]],2,FALSE)","v":"Estonia"},"All the 8 hours baby, all the 8!"]
["ID0477","2012-05-26T03:17:19",1250000,"CAD",{"$f":"tblSalaries[[#This Row],[clean Salary (in local currency)]]*VLOOKUP(tblSalaries[[#This Row],[Currency]],[1]!tblXrate[#Data],2,FALSE)","v":1229201.9037879086},"Account Executive","Accountant","Canada",{"$f":"VLOOKUP(tblSalaries[[#This Row],[Where do you work]],[1]!tblCountries[[Actual]:[Mapping]],2,FALSE)","v":"Canada"},"4 to 6 hours a day"]
["ID0478","2012-05-26T03:19:00",30000,"USD",{"$f":"tblSalaries[[#This Row],[clean Salary (in local currency)]]*VLOOKUP(tblSalaries[[#This Row],[Currency]],[1]!tblXrate[#Data],2,FALSE)","v":30000},"video production","Analyst","USA",{"$f":"VLOOKUP(tblSalaries[[#This Row],[Where do you work]],[1]!tblCountries[[Actual]:[Mapping]],2,FALSE)","v":"USA"},"Excel ?!? What Excel?"]
["ID0479","2012-05-26T03:21:26",24000,"USD",{"$f":"tblSalaries[[#This Row],[clean Salary (in local currency)]]*VLOOKUP(tblSalaries[[#This Row],[Currency]],[1]!tblXrate[#Data],2,FALSE)","v":24000},"engineer","Engineer","mozambique",{"$f":"VLOOKUP(tblSalaries[[#This Row],[Where do you work]],[1]!tblCountries[[Actual]:[Mapping]],2,FALSE)","v":"mozambique"},"2 to 3 hours per day"]
["ID0480","2012-05-26T03:21:55",92000,"USD",{"$f":"tblSalaries[[#This Row],[clean Salary (in local currency)]]*VLOOKUP(tblSalaries[[#This Row],[Currency]],[1]!tblXrate[#Data],2,FALSE)","v":92000},"principal engineer","Engineer","USA",{"$f":"VLOOKUP(tblSalaries[[#This Row],[Where do you work]],[1]!tblCountries[[Actual]:[Mapping]],2,FALSE)","v":"USA"},"1 or 2 hours a day"]
["ID0481","2012-05-26T03:22:33",52000,"USD",{"$f":"tblSalaries[[#This Row],[clean Salary (in local currency)]]*VLOOKUP(tblSalaries[[#This Row],[Currency]],[1]!tblXrate[#Data],2,FALSE)","v":52000},"budget analyst","Analyst","USA",{"$f":"VLOOKUP(tblSalaries[[#This Row],[Where do you work]],[1]!tblCountries[[Actual]:[Mapping]],2,FALSE)","v":"USA"},"4 to 6 hours a day"]
["ID0482","2012-05-26T03:23:51",169000,"USD",{"$f":"tblSalaries[[#This Row],[clean Salary (in local currency)]]*VLOOKUP(tblSalaries[[#This Row],[Currency]],[1]!tblXrate[#Data],2,FALSE)","v":169000},"Category Director (Marketing)","CXO or Top Mgmt.","USA",{"$f":"VLOOKUP(tblSalaries[[#This Row],[Where do you work]],[1]!tblCountries[[Actual]:[Mapping]],2,FALSE)","v":"USA"},"2 to 3 hours per day"]
["ID0484","2012-05-26T03:25:57",110000,"USD",{"$f":"tblSalaries[[#This Row],[clean Salary (in local currency)]]*VLOOKUP(tblSalaries[[#This Row],[Currency]],[1]!tblXrate[#Data],2,FALSE)","v":110000},"Senior consultant accounting","Accountant","Norway",{"$f":"VLOOKUP(tblSalaries[[#This Row],[Where do you work]],[1]!tblCountries[[Actual]:[Mapping]],2,FALSE)","v":"Norway"},"2 to 3 hours per day"]
["ID0485","2012-05-26T03:27:56",1080000,"ZAR",{"$f":"tblSalaries[[#This Row],[clean Salary (in local currency)]]*VLOOKUP(tblSalaries[[#This Row],[Currency]],[1]!tblXrate[#Data],2,FALSE)","v":131675.52225194403},"Finance manager","Manager","South africa",{"$f":"VLOOKUP(tblSalaries[[#This Row],[Where do you work]],[1]!tblCountries[[Actual]:[Mapping]],2,FALSE)","v":"South Africa"},"2 to 3 hours per day"]
["ID0486","2012-05-26T03:30:42",59000,"GBP",{"$f":"tblSalaries[[#This Row],[clean Salary (in local currency)]]*VLOOKUP(tblSalaries[[#This Row],[Currency]],[1]!tblXrate[#Data],2,FALSE)","v":92994.518051969761},"Health and safety advisor","Consultant","UK",{"$f":"VLOOKUP(tblSalaries[[#This Row],[Where do you work]],[1]!tblCountries[[Actual]:[Mapping]],2,FALSE)","v":"UK"},"2 to 3 hours per day"]
["ID0487","2012-05-26T03:31:34",50000,"USD",{"$f":"tblSalaries[[#This Row],[clean Salary (in local currency)]]*VLOOKUP(tblSalaries[[#This Row],[Currency]],[1]!tblXrate[#Data],2,FALSE)","v":50000},"Workforce Analyst","Analyst","USA",{"$f":"VLOOKUP(tblSalaries[[#This Row],[Where do you work]],[1]!tblCountries[[Actual]:[Mapping]],2,FALSE)","v":"USA"},"4 to 6 hours a day"]
["ID0488","2012-05-26T03:32:13",65000,"USD",{"$f":"tblSalaries[[#This Row],[clean Salary (in local currency)]]*VLOOKUP(tblSalaries[[#This Row],[Currency]],[1]!tblXrate[#Data],2,FALSE)","v":65000},"Business Systems Analyst","Analyst","USA",{"$f":"VLOOKUP(tblSalaries[[#This Row],[Where do you work]],[1]!tblCountries[[Actual]:[Mapping]],2,FALSE)","v":"USA"},"2 to 3 hours per day"]
["ID0489","2012-05-26T03:32:53",46000,"CAD",{"$f":"tblSalaries[[#This Row],[clean Salary (in local currency)]]*VLOOKUP(tblSalaries[[#This Row],[Currency]],[1]!tblXrate[#Data],2,FALSE)","v":45234.630059395036},"Sr. Marketing Solutions Analyst","Analyst","Canada",{"$f":"VLOOKUP(tblSalaries[[#This Row],[Where do you work]],[1]!tblCountries[[Actual]:[Mapping]],2,FALSE)","v":"Canada"},"All the 8 hours baby, all the 8!"]
["ID0490","2012-05-26T03:33:32",55000,"USD",{"$f":"tblSalaries[[#This Row],[clean Salary (in local currency)]]*VLOOKUP(tblSalaries[[#This Row],[Currency]],[1]!tblXrate[#Data],2,FALSE)","v":55000},"Analyst","Analyst","USA",{"$f":"VLOOKUP(tblSalaries[[#This Row],[Where do you work]],[1]!tblCountries[[Actual]:[Mapping]],2,FALSE)","v":"USA"},"2 to 3 hours per day"]
["ID0491","2012-05-26T03:34:04",20000,"USD",{"$f":"tblSalaries[[#This Row],[clean Salary (in local currency)]]*VLOOKUP(tblSalaries[[#This Row],[Currency]],[1]!tblXrate[#Data],2,FALSE)","v":20000},"Consultant","Consultant","India",{"$f":"VLOOKUP(tblSalaries[[#This Row],[Where do you work]],[1]!tblCountries[[Actual]:[Mapping]],2,FALSE)","v":"India"},"2 to 3 hours per day"]
["ID0492","2012-05-26T03:34:15",6000,"USD",{"$f":"tblSalaries[[#This Row],[clean Salary (in local currency)]]*VLOOKUP(tblSalaries[[#This Row],[Currency]],[1]!tblXrate[#Data],2,FALSE)","v":6000},"MIS","Reporting","India",{"$f":"VLOOKUP(tblSalaries[[#This Row],[Where do you work]],[1]!tblCountries[[Actual]:[Mapping]],2,FALSE)","v":"India"},"All the 8 hours baby, all the 8!"]
["ID0493","2012-05-26T03:37:33",190000,"GBP",{"$f":"tblSalaries[[#This Row],[clean Salary (in local currency)]]*VLOOKUP(tblSalaries[[#This Row],[Currency]],[1]!tblXrate[#Data],2,FALSE)","v":299473.87169278396},"Managing Partner","CXO or Top Mgmt.","UK",{"$f":"VLOOKUP(tblSalaries[[#This Row],[Where do you work]],[1]!tblCountries[[Actual]:[Mapping]],2,FALSE)","v":"UK"},"4 to 6 hours a day"]
["ID0494","2012-05-26T03:37:46",28164,"GBP",{"$f":"tblSalaries[[#This Row],[clean Salary (in local currency)]]*VLOOKUP(tblSalaries[[#This Row],[Currency]],[1]!tblXrate[#Data],2,FALSE)","v":44391.484854502989},"Administration Officer","Manager","UK",{"$f":"VLOOKUP(tblSalaries[[#This Row],[Where do you work]],[1]!tblCountries[[Actual]:[Mapping]],2,FALSE)","v":"UK"},"4 to 6 hours a day"]
["ID0495","2012-05-26T03:40:26",40000,"USD",{"$f":"tblSalaries[[#This Row],[clean Salary (in local currency)]]*VLOOKUP(tblSalaries[[#This Row],[Currency]],[1]!tblXrate[#Data],2,FALSE)","v":40000},"BAS","Analyst","USA",{"$f":"VLOOKUP(tblSalaries[[#This Row],[Where do you work]],[1]!tblCountries[[Actual]:[Mapping]],2,FALSE)","v":"USA"},"2 to 3 hours per day"]
["ID0496","2012-05-26T03:48:42",108000,"USD",{"$f":"tblSalaries[[#This Row],[clean Salary (in local currency)]]*VLOOKUP(tblSalaries[[#This Row],[Currency]],[1]!tblXrate[#Data],2,FALSE)","v":108000},"Manager","Manager","Norway",{"$f":"VLOOKUP(tblSalaries[[#This Row],[Where do you work]],[1]!tblCountries[[Actual]:[Mapping]],2,FALSE)","v":"Norway"},"4 to 6 hours a day"]
["ID0497","2012-05-26T03:49:21",200000,"INR",{"$f":"tblSalaries[[#This Row],[clean Salary (in local currency)]]*VLOOKUP(tblSalaries[[#This Row],[Currency]],[1]!tblXrate[#Data],2,FALSE)","v":3561.5833374885137},"chemist","Analyst","India",{"$f":"VLOOKUP(tblSalaries[[#This Row],[Where do you work]],[1]!tblCountries[[Actual]:[Mapping]],2,FALSE)","v":"India"},"2 to 3 hours per day"]
["ID0498","2012-05-26T03:50:24",84000,"USD",{"$f":"tblSalaries[[#This Row],[clean Salary (in local currency)]]*VLOOKUP(tblSalaries[[#This Row],[Currency]],[1]!tblXrate[#Data],2,FALSE)","v":84000},"Senior Analyst","Analyst","USA",{"$f":"VLOOKUP(tblSalaries[[#This Row],[Where do you work]],[1]!tblCountries[[Actual]:[Mapping]],2,FALSE)","v":"USA"},"All the 8 hours baby, all the 8!"]
["ID0499","2012-05-26T03:52:24",33000,"GBP",{"$f":"tblSalaries[[#This Row],[clean Salary (in local currency)]]*VLOOKUP(tblSalaries[[#This Row],[Currency]],[1]!tblXrate[#Data],2,FALSE)","v":52013.882978220376},"LOGISTIC MANAGER","Manager","UK",{"$f":"VLOOKUP(tblSalaries[[#This Row],[Where do you work]],[1]!tblCountries[[Actual]:[Mapping]],2,FALSE)","v":"UK"},"4 to 6 hours a day"]
["ID0500","2012-05-26T03:53:29",720000,"INR",{"$f":"tblSalaries[[#This Row],[clean Salary (in local currency)]]*VLOOKUP(tblSalaries[[#This Row],[Currency]],[1]!tblXrate[#Data],2,FALSE)","v":12821.700014958649},"Manager Finance","Manager","India",{"$f":"VLOOKUP(tblSalaries[[#This Row],[Where do you work]],[1]!tblCountries[[Actual]:[Mapping]],2,FALSE)","v":"India"},"2 to 3 hours per day"]
["ID0501","2012-05-26T04:00:21",68500,"CAD",{"$f":"tblSalaries[[#This Row],[clean Salary (in local currency)]]*VLOOKUP(tblSalaries[[#This Row],[Currency]],[1]!tblXrate[#Data],2,FALSE)","v":67360.264327577388},"Financial Analyst","Analyst","Canada",{"$f":"VLOOKUP(tblSalaries[[#This Row],[Where do you work]],[1]!tblCountries[[Actual]:[Mapping]],2,FALSE)","v":"Canada"},"4 to 6 hours a day"]
["ID0502","2012-05-26T04:01:45",23000,"USD",{"$f":"tblSalaries[[#This Row],[clean Salary (in local currency)]]*VLOOKUP(tblSalaries[[#This Row],[Currency]],[1]!tblXrate[#Data],2,FALSE)","v":23000},"IT solutions coordinator","Manager","Hungary",{"$f":"VLOOKUP(tblSalaries[[#This Row],[Where do you work]],[1]!tblCountries[[Actual]:[Mapping]],2,FALSE)","v":"Hungary"},"4 to 6 hours a day"]
["ID0503","2012-05-26T04:01:59",58000,"GBP",{"$f":"tblSalaries[[#This Row],[clean Salary (in local currency)]]*VLOOKUP(tblSalaries[[#This Row],[Currency]],[1]!tblXrate[#Data],2,FALSE)","v":91418.339779902482},"Business Modeller","Manager","UK",{"$f":"VLOOKUP(tblSalaries[[#This Row],[Where do you work]],[1]!tblCountries[[Actual]:[Mapping]],2,FALSE)","v":"UK"},"All the 8 hours baby, all the 8!"]
["ID0504","2012-05-26T04:03:33",77000,"USD",{"$f":"tblSalaries[[#This Row],[clean Salary (in local currency)]]*VLOOKUP(tblSalaries[[#This Row],[Currency]],[1]!tblXrate[#Data],2,FALSE)","v":77000},"Senior Financial Analyst","Analyst","USA",{"$f":"VLOOKUP(tblSalaries[[#This Row],[Where do you work]],[1]!tblCountries[[Actual]:[Mapping]],2,FALSE)","v":"USA"},"All the 8 hours baby, all the 8!"]
["ID0505","2012-05-26T04:05:08",100000,"USD",{"$f":"tblSalaries[[#This Row],[clean Salary (in local currency)]]*VLOOKUP(tblSalaries[[#This Row],[Currency]],[1]!tblXrate[#Data],2,FALSE)","v":100000},"Analyst","Analyst","USA",{"$f":"VLOOKUP(tblSalaries[[#This Row],[Where do you work]],[1]!tblCountries[[Actual]:[Mapping]],2,FALSE)","v":"USA"},"4 to 6 hours a day"]
["ID0506","2012-05-26T04:10:53",55500,"USD",{"$f":"tblSalaries[[#This Row],[clean Salary (in local currency)]]*VLOOKUP(tblSalaries[[#This Row],[Currency]],[1]!tblXrate[#Data],2,FALSE)","v":55500},"Sr QS","Controller","UAE",{"$f":"VLOOKUP(tblSalaries[[#This Row],[Where do you work]],[1]!tblCountries[[Actual]:[Mapping]],2,FALSE)","v":"UAE"},"4 to 6 hours a day"]
["ID0507","2012-05-26T04:12:16",15000,"EUR",{"$f":"tblSalaries[[#This Row],[clean Salary (in local currency)]]*VLOOKUP(tblSalaries[[#This Row],[Currency]],[1]!tblXrate[#Data],2,FALSE)","v":19055.991584874118},"Report Analyst","Analyst","Spain",{"$f":"VLOOKUP(tblSalaries[[#This Row],[Where do you work]],[1]!tblCountries[[Actual]:[Mapping]],2,FALSE)","v":"Spain"},"All the 8 hours baby, all the 8!"]
["ID0508","2012-05-26T04:13:54",600000,"INR",{"$f":"tblSalaries[[#This Row],[clean Salary (in local currency)]]*VLOOKUP(tblSalaries[[#This Row],[Currency]],[1]!tblXrate[#Data],2,FALSE)","v":10684.750012465542},"Business Co ordinator","Manager","India",{"$f":"VLOOKUP(tblSalaries[[#This Row],[Where do you work]],[1]!tblCountries[[Actual]:[Mapping]],2,FALSE)","v":"India"},"4 to 6 hours a day"]
["ID0509","2012-05-26T04:14:27",8400,"USD",{"$f":"tblSalaries[[#This Row],[clean Salary (in local currency)]]*VLOOKUP(tblSalaries[[#This Row],[Currency]],[1]!tblXrate[#Data],2,FALSE)","v":8400},"Manager","Manager","India",{"$f":"VLOOKUP(tblSalaries[[#This Row],[Where do you work]],[1]!tblCountries[[Actual]:[Mapping]],2,FALSE)","v":"India"},"4 to 6 hours a day"]
["ID0510","2012-05-26T04:16:16",500000,"INR",{"$f":"tblSalaries[[#This Row],[clean Salary (in local currency)]]*VLOOKUP(tblSalaries[[#This Row],[Currency]],[1]!tblXrate[#Data],2,FALSE)","v":8903.9583437212841},"duty manager","Manager","India",{"$f":"VLOOKUP(tblSalaries[[#This Row],[Where do you work]],[1]!tblCountries[[Actual]:[Mapping]],2,FALSE)","v":"India"},"2 to 3 hours per day"]
["ID0511","2012-05-26T04:17:20",12000,"USD",{"$f":"tblSalaries[[#This Row],[clean Salary (in local currency)]]*VLOOKUP(tblSalaries[[#This Row],[Currency]],[1]!tblXrate[#Data],2,FALSE)","v":12000},"Report Analyst","Analyst","Brazil",{"$f":"VLOOKUP(tblSalaries[[#This Row],[Where do you work]],[1]!tblCountries[[Actual]:[Mapping]],2,FALSE)","v":"Brazil"},"All the 8 hours baby, all the 8!"]
["ID0512","2012-05-26T04:18:15",65000,"USD",{"$f":"tblSalaries[[#This Row],[clean Salary (in local currency)]]*VLOOKUP(tblSalaries[[#This Row],[Currency]],[1]!tblXrate[#Data],2,FALSE)","v":65000},"Retail Store Manager","Manager","USA",{"$f":"VLOOKUP(tblSalaries[[#This Row],[Where do you work]],[1]!tblCountries[[Actual]:[Mapping]],2,FALSE)","v":"USA"},"All the 8 hours baby, all the 8!"]
["ID0513","2012-05-26T04:19:05",16400,"GBP",{"$f":"tblSalaries[[#This Row],[clean Salary (in local currency)]]*VLOOKUP(tblSalaries[[#This Row],[Currency]],[1]!tblXrate[#Data],2,FALSE)","v":25849.323661903458},"Job Build analyst","Analyst","UK",{"$f":"VLOOKUP(tblSalaries[[#This Row],[Where do you work]],[1]!tblCountries[[Actual]:[Mapping]],2,FALSE)","v":"UK"},"4 to 6 hours a day"]
["ID0514","2012-05-26T04:20:17",78000,"GBP",{"$f":"tblSalaries[[#This Row],[clean Salary (in local currency)]]*VLOOKUP(tblSalaries[[#This Row],[Currency]],[1]!tblXrate[#Data],2,FALSE)","v":122941.90522124816},"Associate","Analyst","UK",{"$f":"VLOOKUP(tblSalaries[[#This Row],[Where do you work]],[1]!tblCountries[[Actual]:[Mapping]],2,FALSE)","v":"UK"},"1 or 2 hours a day"]
["ID0515","2012-05-26T04:25:24",76000,"USD",{"$f":"tblSalaries[[#This Row],[clean Salary (in local currency)]]*VLOOKUP(tblSalaries[[#This Row],[Currency]],[1]!tblXrate[#Data],2,FALSE)","v":76000},"Accounting Manager","Manager","USA",{"$f":"VLOOKUP(tblSalaries[[#This Row],[Where do you work]],[1]!tblCountries[[Actual]:[Mapping]],2,FALSE)","v":"USA"},"2 to 3 hours per day"]
["ID0516","2012-05-26T04:26:10",150000,"USD",{"$f":"tblSalaries[[#This Row],[clean Salary (in local currency)]]*VLOOKUP(tblSalaries[[#This Row],[Currency]],[1]!tblXrate[#Data],2,FALSE)","v":150000},"Consultant","Consultant","USA",{"$f":"VLOOKUP(tblSalaries[[#This Row],[Where do you work]],[1]!tblCountries[[Actual]:[Mapping]],2,FALSE)","v":"USA"},"All the 8 hours baby, all the 8!"]
["ID0517","2012-05-26T04:27:12",54000,"USD",{"$f":"tblSalaries[[#This Row],[clean Salary (in local currency)]]*VLOOKUP(tblSalaries[[#This Row],[Currency]],[1]!tblXrate[#Data],2,FALSE)","v":54000},"Business Analyst","Analyst","USA",{"$f":"VLOOKUP(tblSalaries[[#This Row],[Where do you work]],[1]!tblCountries[[Actual]:[Mapping]],2,FALSE)","v":"USA"},"4 to 6 hours a day"]
["ID0518","2012-05-26T04:33:03",57000,"USD",{"$f":"tblSalaries[[#This Row],[clean Salary (in local currency)]]*VLOOKUP(tblSalaries[[#This Row],[Currency]],[1]!tblXrate[#Data],2,FALSE)","v":57000},"project finance manager","Manager","israel",{"$f":"VLOOKUP(tblSalaries[[#This Row],[Where do you work]],[1]!tblCountries[[Actual]:[Mapping]],2,FALSE)","v":"Israel"},"4 to 6 hours a day"]
["ID0519","2012-05-26T04:33:27",61000,"USD",{"$f":"tblSalaries[[#This Row],[clean Salary (in local currency)]]*VLOOKUP(tblSalaries[[#This Row],[Currency]],[1]!tblXrate[#Data],2,FALSE)","v":61000},"Senior Accountant","Accountant","USA",{"$f":"VLOOKUP(tblSalaries[[#This Row],[Where do you work]],[1]!tblCountries[[Actual]:[Mapping]],2,FALSE)","v":"USA"},"4 to 6 hours a day"]
["ID0520","2012-05-26T04:34:41",70000,"USD",{"$f":"tblSalaries[[#This Row],[clean Salary (in local currency)]]*VLOOKUP(tblSalaries[[#This Row],[Currency]],[1]!tblXrate[#Data],2,FALSE)","v":70000},"Metrics Analyst","Analyst","USA",{"$f":"VLOOKUP(tblSalaries[[#This Row],[Where do you work]],[1]!tblCountries[[Actual]:[Mapping]],2,FALSE)","v":"USA"},"All the 8 hours baby, all the 8!"]
["ID0521","2012-05-26T04:36:43",15000,"USD",{"$f":"tblSalaries[[#This Row],[clean Salary (in local currency)]]*VLOOKUP(tblSalaries[[#This Row],[Currency]],[1]!tblXrate[#Data],2,FALSE)","v":15000},"Asst.Manager","Manager","India",{"$f":"VLOOKUP(tblSalaries[[#This Row],[Where do you work]],[1]!tblCountries[[Actual]:[Mapping]],2,FALSE)","v":"India"},"4 to 6 hours a day"]
["ID0522","2012-05-26T04:39:11",87550,"CAD",{"$f":"tblSalaries[[#This Row],[clean Salary (in local currency)]]*VLOOKUP(tblSalaries[[#This Row],[Currency]],[1]!tblXrate[#Data],2,FALSE)","v":86093.301341305123},"Manager","Manager","Canada",{"$f":"VLOOKUP(tblSalaries[[#This Row],[Where do you work]],[1]!tblCountries[[Actual]:[Mapping]],2,FALSE)","v":"Canada"},"4 to 6 hours a day"]
["ID0523","2012-05-26T04:40:36",72600,"USD",{"$f":"tblSalaries[[#This Row],[clean Salary (in local currency)]]*VLOOKUP(tblSalaries[[#This Row],[Currency]],[1]!tblXrate[#Data],2,FALSE)","v":72600},"Accounting Operations Manager","Manager","USA",{"$f":"VLOOKUP(tblSalaries[[#This Row],[Where do you work]],[1]!tblCountries[[Actual]:[Mapping]],2,FALSE)","v":"USA"},"2 to 3 hours per day"]
["ID0524","2012-05-26T04:41:20",100000,"USD",{"$f":"tblSalaries[[#This Row],[clean Salary (in local currency)]]*VLOOKUP(tblSalaries[[#This Row],[Currency]],[1]!tblXrate[#Data],2,FALSE)","v":100000},"Director","CXO or Top Mgmt.","USA",{"$f":"VLOOKUP(tblSalaries[[#This Row],[Where do you work]],[1]!tblCountries[[Actual]:[Mapping]],2,FALSE)","v":"USA"},"2 to 3 hours per day"]
["ID0525","2012-05-26T04:44:26",104000,"USD",{"$f":"tblSalaries[[#This Row],[clean Salary (in local currency)]]*VLOOKUP(tblSalaries[[#This Row],[Currency]],[1]!tblXrate[#Data],2,FALSE)","v":104000},"Vice President, Analyst","Analyst","USA",{"$f":"VLOOKUP(tblSalaries[[#This Row],[Where do you work]],[1]!tblCountries[[Actual]:[Mapping]],2,FALSE)","v":"USA"},"4 to 6 hours a day"]
["ID0526","2012-05-26T04:48:35",600000,"INR",{"$f":"tblSalaries[[#This Row],[clean Salary (in local currency)]]*VLOOKUP(tblSalaries[[#This Row],[Currency]],[1]!tblXrate[#Data],2,FALSE)","v":10684.750012465542},"Project Manager","Manager","India",{"$f":"VLOOKUP(tblSalaries[[#This Row],[Where do you work]],[1]!tblCountries[[Actual]:[Mapping]],2,FALSE)","v":"India"},"4 to 6 hours a day"]
["ID0527","2012-05-26T04:48:54",200000,"USD",{"$f":"tblSalaries[[#This Row],[clean Salary (in local currency)]]*VLOOKUP(tblSalaries[[#This Row],[Currency]],[1]!tblXrate[#Data],2,FALSE)","v":200000},"COO","CXO or Top Mgmt.","USA",{"$f":"VLOOKUP(tblSalaries[[#This Row],[Where do you work]],[1]!tblCountries[[Actual]:[Mapping]],2,FALSE)","v":"USA"},"2 to 3 hours per day"]
["ID0528","2012-05-26T04:50:21",49248,"EUR",{"$f":"tblSalaries[[#This Row],[clean Salary (in local currency)]]*VLOOKUP(tblSalaries[[#This Row],[Currency]],[1]!tblXrate[#Data],2,FALSE)","v":62564.631571458704},"Financial Advisor","Accountant","Netherlands",{"$f":"VLOOKUP(tblSalaries[[#This Row],[Where do you work]],[1]!tblCountries[[Actual]:[Mapping]],2,FALSE)","v":"Netherlands"},"All the 8 hours baby, all the 8!"]
["ID0529","2012-05-26T04:50:47",36500,"GBP",{"$f":"tblSalaries[[#This Row],[clean Salary (in local currency)]]*VLOOKUP(tblSalaries[[#This Row],[Currency]],[1]!tblXrate[#Data],2,FALSE)","v":57530.506930455871},"Production Manager","Manager","UK",{"$f":"VLOOKUP(tblSalaries[[#This Row],[Where do you work]],[1]!tblCountries[[Actual]:[Mapping]],2,FALSE)","v":"UK"},"2 to 3 hours per day"]
["ID0530","2012-05-26T05:00:21",82300,"USD",{"$f":"tblSalaries[[#This Row],[clean Salary (in local currency)]]*VLOOKUP(tblSalaries[[#This Row],[Currency]],[1]!tblXrate[#Data],2,FALSE)","v":82300},"Manager - Finance","Manager","USA",{"$f":"VLOOKUP(tblSalaries[[#This Row],[Where do you work]],[1]!tblCountries[[Actual]:[Mapping]],2,FALSE)","v":"USA"},"2 to 3 hours per day"]
["ID0531","2012-05-26T05:04:49",95000,"USD",{"$f":"tblSalaries[[#This Row],[clean Salary (in local currency)]]*VLOOKUP(tblSalaries[[#This Row],[Currency]],[1]!tblXrate[#Data],2,FALSE)","v":95000},"Process Design Consultant","Consultant","USA",{"$f":"VLOOKUP(tblSalaries[[#This Row],[Where do you work]],[1]!tblCountries[[Actual]:[Mapping]],2,FALSE)","v":"USA"},"4 to 6 hours a day"]
["ID0532","2012-05-26T05:07:30",140000,"GBP",{"$f":"tblSalaries[[#This Row],[clean Salary (in local currency)]]*VLOOKUP(tblSalaries[[#This Row],[Currency]],[1]!tblXrate[#Data],2,FALSE)","v":220664.95808941979},"vba specialist","Specialist","UK",{"$f":"VLOOKUP(tblSalaries[[#This Row],[Where do you work]],[1]!tblCountries[[Actual]:[Mapping]],2,FALSE)","v":"UK"},"All the 8 hours baby, all the 8!"]
["ID0533","2012-05-26T05:13:03",72000,"USD",{"$f":"tblSalaries[[#This Row],[clean Salary (in local currency)]]*VLOOKUP(tblSalaries[[#This Row],[Currency]],[1]!tblXrate[#Data],2,FALSE)","v":72000},"Analytical Department Director ","Analyst","Russia",{"$f":"VLOOKUP(tblSalaries[[#This Row],[Where do you work]],[1]!tblCountries[[Actual]:[Mapping]],2,FALSE)","v":"Russia"},"2 to 3 hours per day"]
["ID0534","2012-05-26T05:15:54",60000,"AUD",{"$f":"tblSalaries[[#This Row],[clean Salary (in local currency)]]*VLOOKUP(tblSalaries[[#This Row],[Currency]],[1]!tblXrate[#Data],2,FALSE)","v":61194.579384158147},"Analyst","Analyst","Australia",{"$f":"VLOOKUP(tblSalaries[[#This Row],[Where do you work]],[1]!tblCountries[[Actual]:[Mapping]],2,FALSE)","v":"Australia"},"2 to 3 hours per day"]
["ID0535","2012-05-26T05:18:12",120000,"USD",{"$f":"tblSalaries[[#This Row],[clean Salary (in local currency)]]*VLOOKUP(tblSalaries[[#This Row],[Currency]],[1]!tblXrate[#Data],2,FALSE)","v":120000},"manager","Manager","nz",{"$f":"VLOOKUP(tblSalaries[[#This Row],[Where do you work]],[1]!tblCountries[[Actual]:[Mapping]],2,FALSE)","v":"New Zealand"},"2 to 3 hours per day"]
["ID0536","2012-05-26T05:18:27",95000,"USD",{"$f":"tblSalaries[[#This Row],[clean Salary (in local currency)]]*VLOOKUP(tblSalaries[[#This Row],[Currency]],[1]!tblXrate[#Data],2,FALSE)","v":95000},"Director of Supply Chain","CXO or Top Mgmt.","Central America",{"$f":"VLOOKUP(tblSalaries[[#This Row],[Where do you work]],[1]!tblCountries[[Actual]:[Mapping]],2,FALSE)","v":"Central America"},"2 to 3 hours per day"]
["ID0537","2012-05-26T05:20:43",50000,"USD",{"$f":"tblSalaries[[#This Row],[clean Salary (in local currency)]]*VLOOKUP(tblSalaries[[#This Row],[Currency]],[1]!tblXrate[#Data],2,FALSE)","v":50000},"Research Assistant","Analyst","USA",{"$f":"VLOOKUP(tblSalaries[[#This Row],[Where do you work]],[1]!tblCountries[[Actual]:[Mapping]],2,FALSE)","v":"USA"},"2 to 3 hours per day"]
["ID0538","2012-05-26T05:23:20",73000,"GBP",{"$f":"tblSalaries[[#This Row],[clean Salary (in local currency)]]*VLOOKUP(tblSalaries[[#This Row],[Currency]],[1]!tblXrate[#Data],2,FALSE)","v":115061.01386091174},"Finance Manager","Manager","UK",{"$f":"VLOOKUP(tblSalaries[[#This Row],[Where do you work]],[1]!tblCountries[[Actual]:[Mapping]],2,FALSE)","v":"UK"},"4 to 6 hours a day"]
["ID0539","2012-05-26T05:24:16",50000,"USD",{"$f":"tblSalaries[[#This Row],[clean Salary (in local currency)]]*VLOOKUP(tblSalaries[[#This Row],[Currency]],[1]!tblXrate[#Data],2,FALSE)","v":50000},"Excel professional","Analyst","self-employed",{"$f":"VLOOKUP(tblSalaries[[#This Row],[Where do you work]],[1]!tblCountries[[Actual]:[Mapping]],2,FALSE)","v":"self-employed"},"4 to 6 hours a day"]
["ID0540","2012-05-26T05:27:14",46000,"USD",{"$f":"tblSalaries[[#This Row],[clean Salary (in local currency)]]*VLOOKUP(tblSalaries[[#This Row],[Currency]],[1]!tblXrate[#Data],2,FALSE)","v":46000},"Research Analyst","Analyst","USA",{"$f":"VLOOKUP(tblSalaries[[#This Row],[Where do you work]],[1]!tblCountries[[Actual]:[Mapping]],2,FALSE)","v":"USA"},"2 to 3 hours per day"]
["ID0541","2012-05-26T05:27:37",600000,"PKR",{"$f":"tblSalaries[[#This Row],[clean Salary (in local currency)]]*VLOOKUP(tblSalaries[[#This Row],[Currency]],[1]!tblXrate[#Data],2,FALSE)","v":6368.453230079479},"Trainer","Consultant","Pakistan",{"$f":"VLOOKUP(tblSalaries[[#This Row],[Where do you work]],[1]!tblCountries[[Actual]:[Mapping]],2,FALSE)","v":"Pakistan"},"4 to 6 hours a day"]
["ID0543","2012-05-26T05:28:46",85000,"AUD",{"$f":"tblSalaries[[#This Row],[clean Salary (in local currency)]]*VLOOKUP(tblSalaries[[#This Row],[Currency]],[1]!tblXrate[#Data],2,FALSE)","v":86692.320794224041},"Business analyst","Analyst","Australia",{"$f":"VLOOKUP(tblSalaries[[#This Row],[Where do you work]],[1]!tblCountries[[Actual]:[Mapping]],2,FALSE)","v":"Australia"},"4 to 6 hours a day"]
["ID0544","2012-05-26T05:29:55",450000,"INR",{"$f":"tblSalaries[[#This Row],[clean Salary (in local currency)]]*VLOOKUP(tblSalaries[[#This Row],[Currency]],[1]!tblXrate[#Data],2,FALSE)","v":8013.5625093491553},"deputy manager","Manager","India",{"$f":"VLOOKUP(tblSalaries[[#This Row],[Where do you work]],[1]!tblCountries[[Actual]:[Mapping]],2,FALSE)","v":"India"},"All the 8 hours baby, all the 8!"]
["ID0545","2012-05-26T05:29:58",43000,"USD",{"$f":"tblSalaries[[#This Row],[clean Salary (in local currency)]]*VLOOKUP(tblSalaries[[#This Row],[Currency]],[1]!tblXrate[#Data],2,FALSE)","v":43000},"Accountant","Accountant","USA",{"$f":"VLOOKUP(tblSalaries[[#This Row],[Where do you work]],[1]!tblCountries[[Actual]:[Mapping]],2,FALSE)","v":"USA"},"All the 8 hours baby, all the 8!"]
["ID0546","2012-05-26T05:30:12",18000,"USD",{"$f":"tblSalaries[[#This Row],[clean Salary (in local currency)]]*VLOOKUP(tblSalaries[[#This Row],[Currency]],[1]!tblXrate[#Data],2,FALSE)","v":18000},"Engineer","Engineer","Brazil",{"$f":"VLOOKUP(tblSalaries[[#This Row],[Where do you work]],[1]!tblCountries[[Actual]:[Mapping]],2,FALSE)","v":"Brazil"},"4 to 6 hours a day"]
["ID0547","2012-05-26T05:31:06",55000,"USD",{"$f":"tblSalaries[[#This Row],[clean Salary (in local currency)]]*VLOOKUP(tblSalaries[[#This Row],[Currency]],[1]!tblXrate[#Data],2,FALSE)","v":55000},"Marketing","Analyst","USA",{"$f":"VLOOKUP(tblSalaries[[#This Row],[Where do you work]],[1]!tblCountries[[Actual]:[Mapping]],2,FALSE)","v":"USA"},"2 to 3 hours per day"]
["ID0548","2012-05-26T05:31:25",500000,"INR",{"$f":"tblSalaries[[#This Row],[clean Salary (in local currency)]]*VLOOKUP(tblSalaries[[#This Row],[Currency]],[1]!tblXrate[#Data],2,FALSE)","v":8903.9583437212841},"Research Associate","Analyst","India",{"$f":"VLOOKUP(tblSalaries[[#This Row],[Where do you work]],[1]!tblCountries[[Actual]:[Mapping]],2,FALSE)","v":"India"},"All the 8 hours baby, all the 8!"]
["ID0549","2012-05-26T05:33:43",45000,"USD",{"$f":"tblSalaries[[#This Row],[clean Salary (in local currency)]]*VLOOKUP(tblSalaries[[#This Row],[Currency]],[1]!tblXrate[#Data],2,FALSE)","v":45000},"Reports Coordinator","Reporting","USA",{"$f":"VLOOKUP(tblSalaries[[#This Row],[Where do you work]],[1]!tblCountries[[Actual]:[Mapping]],2,FALSE)","v":"USA"},"All the 8 hours baby, all the 8!"]
["ID0550","2012-05-26T05:35:00",50000,"USD",{"$f":"tblSalaries[[#This Row],[clean Salary (in local currency)]]*VLOOKUP(tblSalaries[[#This Row],[Currency]],[1]!tblXrate[#Data],2,FALSE)","v":50000},"Quality Compliance Manager","Manager","USA",{"$f":"VLOOKUP(tblSalaries[[#This Row],[Where do you work]],[1]!tblCountries[[Actual]:[Mapping]],2,FALSE)","v":"USA"},"4 to 6 hours a day"]
["ID0551","2012-05-26T05:44:42",80000,"USD",{"$f":"tblSalaries[[#This Row],[clean Salary (in local currency)]]*VLOOKUP(tblSalaries[[#This Row],[Currency]],[1]!tblXrate[#Data],2,FALSE)","v":80000},"Cost Analyst","Analyst","USA",{"$f":"VLOOKUP(tblSalaries[[#This Row],[Where do you work]],[1]!tblCountries[[Actual]:[Mapping]],2,FALSE)","v":"USA"},"All the 8 hours baby, all the 8!"]
["ID0552","2012-05-26T05:46:02",67000,"USD",{"$f":"tblSalaries[[#This Row],[clean Salary (in local currency)]]*VLOOKUP(tblSalaries[[#This Row],[Currency]],[1]!tblXrate[#Data],2,FALSE)","v":67000},"Management Analyst","Analyst","USA",{"$f":"VLOOKUP(tblSalaries[[#This Row],[Where do you work]],[1]!tblCountries[[Actual]:[Mapping]],2,FALSE)","v":"USA"},"4 to 6 hours a day"]
["ID0553","2012-05-26T05:46:42",111000,"USD",{"$f":"tblSalaries[[#This Row],[clean Salary (in local currency)]]*VLOOKUP(tblSalaries[[#This Row],[Currency]],[1]!tblXrate[#Data],2,FALSE)","v":111000},"Senior Financial Analyst","Analyst","Japan",{"$f":"VLOOKUP(tblSalaries[[#This Row],[Where do you work]],[1]!tblCountries[[Actual]:[Mapping]],2,FALSE)","v":"Japan"},"All the 8 hours baby, all the 8!"]
["ID0554","2012-05-26T05:48:10",120000,"USD",{"$f":"tblSalaries[[#This Row],[clean Salary (in local currency)]]*VLOOKUP(tblSalaries[[#This Row],[Currency]],[1]!tblXrate[#Data],2,FALSE)","v":120000},"Director","CXO or Top Mgmt.","USA",{"$f":"VLOOKUP(tblSalaries[[#This Row],[Where do you work]],[1]!tblCountries[[Actual]:[Mapping]],2,FALSE)","v":"USA"},"4 to 6 hours a day"]
["ID0555","2012-05-26T05:48:12",20000,"GBP",{"$f":"tblSalaries[[#This Row],[clean Salary (in local currency)]]*VLOOKUP(tblSalaries[[#This Row],[Currency]],[1]!tblXrate[#Data],2,FALSE)","v":31523.565441345683},"IT Consultant","Consultant","UK",{"$f":"VLOOKUP(tblSalaries[[#This Row],[Where do you work]],[1]!tblCountries[[Actual]:[Mapping]],2,FALSE)","v":"UK"},"4 to 6 hours a day"]
["ID0556","2012-05-26T05:50:21",77000,"AUD",{"$f":"tblSalaries[[#This Row],[clean Salary (in local currency)]]*VLOOKUP(tblSalaries[[#This Row],[Currency]],[1]!tblXrate[#Data],2,FALSE)","v":78533.043543002947},"Intelligence Analyst","Analyst","Australia",{"$f":"VLOOKUP(tblSalaries[[#This Row],[Where do you work]],[1]!tblCountries[[Actual]:[Mapping]],2,FALSE)","v":"Australia"},"2 to 3 hours per day"]
["ID0557","2012-05-26T05:50:23",60000,"USD",{"$f":"tblSalaries[[#This Row],[clean Salary (in local currency)]]*VLOOKUP(tblSalaries[[#This Row],[Currency]],[1]!tblXrate[#Data],2,FALSE)","v":60000},"Marketing Specialist","Specialist","USA",{"$f":"VLOOKUP(tblSalaries[[#This Row],[Where do you work]],[1]!tblCountries[[Actual]:[Mapping]],2,FALSE)","v":"USA"},"1 or 2 hours a day"]
["ID0558","2012-05-26T05:50:26",35000,"USD",{"$f":"tblSalaries[[#This Row],[clean Salary (in local currency)]]*VLOOKUP(tblSalaries[[#This Row],[Currency]],[1]!tblXrate[#Data],2,FALSE)","v":35000},"Analyst","Analyst","USA",{"$f":"VLOOKUP(tblSalaries[[#This Row],[Where do you work]],[1]!tblCountries[[Actual]:[Mapping]],2,FALSE)","v":"USA"},"2 to 3 hours per day"]
["ID0559","2012-05-26T05:52:47",50000,"EUR",{"$f":"tblSalaries[[#This Row],[clean Salary (in local currency)]]*VLOOKUP(tblSalaries[[#This Row],[Currency]],[1]!tblXrate[#Data],2,FALSE)","v":63519.971949580387},"Proyect Manager","Manager","Panama",{"$f":"VLOOKUP(tblSalaries[[#This Row],[Where do you work]],[1]!tblCountries[[Actual]:[Mapping]],2,FALSE)","v":"Panama"},"2 to 3 hours per day"]
["ID0560","2012-05-26T05:55:22",54000,"USD",{"$f":"tblSalaries[[#This Row],[clean Salary (in local currency)]]*VLOOKUP(tblSalaries[[#This Row],[Currency]],[1]!tblXrate[#Data],2,FALSE)","v":54000},"IT Specialist","Specialist","USA",{"$f":"VLOOKUP(tblSalaries[[#This Row],[Where do you work]],[1]!tblCountries[[Actual]:[Mapping]],2,FALSE)","v":"USA"},"All the 8 hours baby, all the 8!",5]
["ID0561","2012-05-26T06:01:57",15600,"USD",{"$f":"tblSalaries[[#This Row],[clean Salary (in local currency)]]*VLOOKUP(tblSalaries[[#This Row],[Currency]],[1]!tblXrate[#Data],2,FALSE)","v":15600},"CONTROLLER","Controller","BRA",{"$f":"VLOOKUP(tblSalaries[[#This Row],[Where do you work]],[1]!tblCountries[[Actual]:[Mapping]],2,FALSE)","v":"Brazil"},"4 to 6 hours a day",20]
["ID0562","2012-05-26T06:08:23",35000,"USD",{"$f":"tblSalaries[[#This Row],[clean Salary (in local currency)]]*VLOOKUP(tblSalaries[[#This Row],[Currency]],[1]!tblXrate[#Data],2,FALSE)","v":35000},"Technical Support Technician","Analyst","USA",{"$f":"VLOOKUP(tblSalaries[[#This Row],[Where do you work]],[1]!tblCountries[[Actual]:[Mapping]],2,FALSE)","v":"USA"},"1 or 2 hours a day",7]
["ID0563","2012-05-26T06:10:08",188000,"USD",{"$f":"tblSalaries[[#This Row],[clean Salary (in local currency)]]*VLOOKUP(tblSalaries[[#This Row],[Currency]],[1]!tblXrate[#Data],2,FALSE)","v":188000},"Director, Supply Chain Operations","CXO or Top Mgmt.","USA",{"$f":"VLOOKUP(tblSalaries[[#This Row],[Where do you work]],[1]!tblCountries[[Actual]:[Mapping]],2,FALSE)","v":"USA"},"1 or 2 hours a day",20]
["ID0564","2012-05-26T06:14:13",27500,"USD",{"$f":"tblSalaries[[#This Row],[clean Salary (in local currency)]]*VLOOKUP(tblSalaries[[#This Row],[Currency]],[1]!tblXrate[#Data],2,FALSE)","v":27500},"Associate","Analyst","USA",{"$f":"VLOOKUP(tblSalaries[[#This Row],[Where do you work]],[1]!tblCountries[[Actual]:[Mapping]],2,FALSE)","v":"USA"},"All the 8 hours baby, all the 8!",1]
["ID0565","2012-05-26T06:20:38",140000,"USD",{"$f":"tblSalaries[[#This Row],[clean Salary (in local currency)]]*VLOOKUP(tblSalaries[[#This Row],[Currency]],[1]!tblXrate[#Data],2,FALSE)","v":140000},"controller","Controller","USA",{"$f":"VLOOKUP(tblSalaries[[#This Row],[Where do you work]],[1]!tblCountries[[Actual]:[Mapping]],2,FALSE)","v":"USA"},"2 to 3 hours per day",10]
["ID0566","2012-05-26T06:24:03",55000,"EUR",{"$f":"tblSalaries[[#This Row],[clean Salary (in local currency)]]*VLOOKUP(tblSalaries[[#This Row],[Currency]],[1]!tblXrate[#Data],2,FALSE)","v":69871.969144538423},"Business analyst","Analyst","Netherlands",{"$f":"VLOOKUP(tblSalaries[[#This Row],[Where do you work]],[1]!tblCountries[[Actual]:[Mapping]],2,FALSE)","v":"Netherlands"},"All the 8 hours baby, all the 8!",6]
["ID0567","2012-05-26T06:40:59",45000,"USD",{"$f":"tblSalaries[[#This Row],[clean Salary (in local currency)]]*VLOOKUP(tblSalaries[[#This Row],[Currency]],[1]!tblXrate[#Data],2,FALSE)","v":45000},"Workflow Analyst","Analyst","USA",{"$f":"VLOOKUP(tblSalaries[[#This Row],[Where do you work]],[1]!tblCountries[[Actual]:[Mapping]],2,FALSE)","v":"USA"},"4 to 6 hours a day",2]
["ID0568","2012-05-26T06:46:03",95000,"USD",{"$f":"tblSalaries[[#This Row],[clean Salary (in local currency)]]*VLOOKUP(tblSalaries[[#This Row],[Currency]],[1]!tblXrate[#Data],2,FALSE)","v":95000},"Business Analyst","Analyst","Australia",{"$f":"VLOOKUP(tblSalaries[[#This Row],[Where do you work]],[1]!tblCountries[[Actual]:[Mapping]],2,FALSE)","v":"Australia"},"2 to 3 hours per day",11]
["ID0569","2012-05-26T06:47:00",155000,"AUD",{"$f":"tblSalaries[[#This Row],[clean Salary (in local currency)]]*VLOOKUP(tblSalaries[[#This Row],[Currency]],[1]!tblXrate[#Data],2,FALSE)","v":158085.99674240855},"Finance Manager Business Services","Manager","Australia",{"$f":"VLOOKUP(tblSalaries[[#This Row],[Where do you work]],[1]!tblCountries[[Actual]:[Mapping]],2,FALSE)","v":"Australia"},"4 to 6 hours a day",20]
["ID0570","2012-05-26T06:47:59",80000,"NZD",{"$f":"tblSalaries[[#This Row],[clean Salary (in local currency)]]*VLOOKUP(tblSalaries[[#This Row],[Currency]],[1]!tblXrate[#Data],2,FALSE)","v":63807.047488395103},"Accountant/Analyst","Analyst","New Zealand",{"$f":"VLOOKUP(tblSalaries[[#This Row],[Where do you work]],[1]!tblCountries[[Actual]:[Mapping]],2,FALSE)","v":"New Zealand"},"4 to 6 hours a day",23]
["ID0572","2012-05-26T06:50:23",38000,"USD",{"$f":"tblSalaries[[#This Row],[clean Salary (in local currency)]]*VLOOKUP(tblSalaries[[#This Row],[Currency]],[1]!tblXrate[#Data],2,FALSE)","v":38000},"Costing Analysis","Analyst","USA",{"$f":"VLOOKUP(tblSalaries[[#This Row],[Where do you work]],[1]!tblCountries[[Actual]:[Mapping]],2,FALSE)","v":"USA"},"All the 8 hours baby, all the 8!",11]
["ID0573","2012-05-26T06:54:40",90000,"USD",{"$f":"tblSalaries[[#This Row],[clean Salary (in local currency)]]*VLOOKUP(tblSalaries[[#This Row],[Currency]],[1]!tblXrate[#Data],2,FALSE)","v":90000},"Sales Operations Supervisor","Manager","USA",{"$f":"VLOOKUP(tblSalaries[[#This Row],[Where do you work]],[1]!tblCountries[[Actual]:[Mapping]],2,FALSE)","v":"USA"},"4 to 6 hours a day",6]
["ID0574","2012-05-26T06:57:09",28800,"GBP",{"$f":"tblSalaries[[#This Row],[clean Salary (in local currency)]]*VLOOKUP(tblSalaries[[#This Row],[Currency]],[1]!tblXrate[#Data],2,FALSE)","v":45393.934235537781},"Finance Manager","Manager","UK",{"$f":"VLOOKUP(tblSalaries[[#This Row],[Where do you work]],[1]!tblCountries[[Actual]:[Mapping]],2,FALSE)","v":"UK"},"4 to 6 hours a day",27]
["ID0575","2012-05-26T07:01:10",21000,"GBP",{"$f":"tblSalaries[[#This Row],[clean Salary (in local currency)]]*VLOOKUP(tblSalaries[[#This Row],[Currency]],[1]!tblXrate[#Data],2,FALSE)","v":33099.743713412965},"Sales Analyst","Analyst","UK",{"$f":"VLOOKUP(tblSalaries[[#This Row],[Where do you work]],[1]!tblCountries[[Actual]:[Mapping]],2,FALSE)","v":"UK"},"All the 8 hours baby, all the 8!",10]
["ID0576","2012-05-26T07:06:50",4285,"USD",{"$f":"tblSalaries[[#This Row],[clean Salary (in local currency)]]*VLOOKUP(tblSalaries[[#This Row],[Currency]],[1]!tblXrate[#Data],2,FALSE)","v":4285},"Assistant","Analyst","India",{"$f":"VLOOKUP(tblSalaries[[#This Row],[Where do you work]],[1]!tblCountries[[Actual]:[Mapping]],2,FALSE)","v":"India"},"All the 8 hours baby, all the 8!",6]
["ID0577","2012-05-26T07:14:02",6000,"USD",{"$f":"tblSalaries[[#This Row],[clean Salary (in local currency)]]*VLOOKUP(tblSalaries[[#This Row],[Currency]],[1]!tblXrate[#Data],2,FALSE)","v":6000},"In Charge","Manager","Guyana",{"$f":"VLOOKUP(tblSalaries[[#This Row],[Where do you work]],[1]!tblCountries[[Actual]:[Mapping]],2,FALSE)","v":"Guyana"},"1 or 2 hours a day",20]
["ID0578","2012-05-26T07:15:48",22000,"AUD",{"$f":"tblSalaries[[#This Row],[clean Salary (in local currency)]]*VLOOKUP(tblSalaries[[#This Row],[Currency]],[1]!tblXrate[#Data],2,FALSE)","v":22438.012440857987},"Sales Analyst","Analyst","Australia",{"$f":"VLOOKUP(tblSalaries[[#This Row],[Where do you work]],[1]!tblCountries[[Actual]:[Mapping]],2,FALSE)","v":"Australia"},"4 to 6 hours a day",8]
["ID0579","2012-05-26T07:18:57",90000,"USD",{"$f":"tblSalaries[[#This Row],[clean Salary (in local currency)]]*VLOOKUP(tblSalaries[[#This Row],[Currency]],[1]!tblXrate[#Data],2,FALSE)","v":90000},"Manager","Manager","USA",{"$f":"VLOOKUP(tblSalaries[[#This Row],[Where do you work]],[1]!tblCountries[[Actual]:[Mapping]],2,FALSE)","v":"USA"},"2 to 3 hours per day",15]
["ID0580","2012-05-26T07:23:11",150000,"USD",{"$f":"tblSalaries[[#This Row],[clean Salary (in local currency)]]*VLOOKUP(tblSalaries[[#This Row],[Currency]],[1]!tblXrate[#Data],2,FALSE)","v":150000},"CFO","CXO or Top Mgmt.","USA",{"$f":"VLOOKUP(tblSalaries[[#This Row],[Where do you work]],[1]!tblCountries[[Actual]:[Mapping]],2,FALSE)","v":"USA"},"4 to 6 hours a day",22]
["ID0581","2012-05-26T07:32:19",130000,"AUD",{"$f":"tblSalaries[[#This Row],[clean Salary (in local currency)]]*VLOOKUP(tblSalaries[[#This Row],[Currency]],[1]!tblXrate[#Data],2,FALSE)","v":132588.25533234264},"Accountant","Accountant","Australia",{"$f":"VLOOKUP(tblSalaries[[#This Row],[Where do you work]],[1]!tblCountries[[Actual]:[Mapping]],2,FALSE)","v":"Australia"},"2 to 3 hours per day",27]
["ID0582","2012-05-26T07:36:23",45000,"USD",{"$f":"tblSalaries[[#This Row],[clean Salary (in local currency)]]*VLOOKUP(tblSalaries[[#This Row],[Currency]],[1]!tblXrate[#Data],2,FALSE)","v":45000},"business analyst","Analyst","USA",{"$f":"VLOOKUP(tblSalaries[[#This Row],[Where do you work]],[1]!tblCountries[[Actual]:[Mapping]],2,FALSE)","v":"USA"},"4 to 6 hours a day",3]
["ID0583","2012-05-26T07:37:53",50000,"USD",{"$f":"tblSalaries[[#This Row],[clean Salary (in local currency)]]*VLOOKUP(tblSalaries[[#This Row],[Currency]],[1]!tblXrate[#Data],2,FALSE)","v":50000},"IT Specialist","Specialist","USA",{"$f":"VLOOKUP(tblSalaries[[#This Row],[Where do you work]],[1]!tblCountries[[Actual]:[Mapping]],2,FALSE)","v":"USA"},"2 to 3 hours per day",10]
["ID0584","2012-05-26T07:44:04",300000,"USD",{"$f":"tblSalaries[[#This Row],[clean Salary (in local currency)]]*VLOOKUP(tblSalaries[[#This Row],[Currency]],[1]!tblXrate[#Data],2,FALSE)","v":300000},"CEO","CXO or Top Mgmt.","USA",{"$f":"VLOOKUP(tblSalaries[[#This Row],[Where do you work]],[1]!tblCountries[[Actual]:[Mapping]],2,FALSE)","v":"USA"},"2 to 3 hours per day",30]
["ID0585","2012-05-26T07:48:29",102000,"AUD",{"$f":"tblSalaries[[#This Row],[clean Salary (in local currency)]]*VLOOKUP(tblSalaries[[#This Row],[Currency]],[1]!tblXrate[#Data],2,FALSE)","v":104030.78495306884},"coordinator lismore regional airport","Manager","Australia",{"$f":"VLOOKUP(tblSalaries[[#This Row],[Where do you work]],[1]!tblCountries[[Actual]:[Mapping]],2,FALSE)","v":"Australia"},"1 or 2 hours a day",10]
["ID0586","2012-05-26T07:50:50",115000,"USD",{"$f":"tblSalaries[[#This Row],[clean Salary (in local currency)]]*VLOOKUP(tblSalaries[[#This Row],[Currency]],[1]!tblXrate[#Data],2,FALSE)","v":115000},"Mgr Op Excellence","Manager","USA",{"$f":"VLOOKUP(tblSalaries[[#This Row],[Where do you work]],[1]!tblCountries[[Actual]:[Mapping]],2,FALSE)","v":"USA"},"4 to 6 hours a day",15]
["ID0587","2012-05-26T07:53:13",70000,"USD",{"$f":"tblSalaries[[#This Row],[clean Salary (in local currency)]]*VLOOKUP(tblSalaries[[#This Row],[Currency]],[1]!tblXrate[#Data],2,FALSE)","v":70000},"Financial Analyst","Analyst","USA",{"$f":"VLOOKUP(tblSalaries[[#This Row],[Where do you work]],[1]!tblCountries[[Actual]:[Mapping]],2,FALSE)","v":"USA"},"4 to 6 hours a day",3]
["ID0588","2012-05-26T07:57:04",106000,"AUD",{"$f":"tblSalaries[[#This Row],[clean Salary (in local currency)]]*VLOOKUP(tblSalaries[[#This Row],[Currency]],[1]!tblXrate[#Data],2,FALSE)","v":108110.42357867939},"Pricing and Strategy Specialist","Specialist","Australia",{"$f":"VLOOKUP(tblSalaries[[#This Row],[Where do you work]],[1]!tblCountries[[Actual]:[Mapping]],2,FALSE)","v":"Australia"},"4 to 6 hours a day",16]
["ID0589","2012-05-26T08:01:44",75000,"USD",{"$f":"tblSalaries[[#This Row],[clean Salary (in local currency)]]*VLOOKUP(tblSalaries[[#This Row],[Currency]],[1]!tblXrate[#Data],2,FALSE)","v":75000},"Sr. Human Resources Analyst","Analyst","USA",{"$f":"VLOOKUP(tblSalaries[[#This Row],[Where do you work]],[1]!tblCountries[[Actual]:[Mapping]],2,FALSE)","v":"USA"},"2 to 3 hours per day",25]
["ID0590","2012-05-26T08:05:23",40414,"USD",{"$f":"tblSalaries[[#This Row],[clean Salary (in local currency)]]*VLOOKUP(tblSalaries[[#This Row],[Currency]],[1]!tblXrate[#Data],2,FALSE)","v":40414},"Performance Improvement Analyst","Analyst","USA",{"$f":"VLOOKUP(tblSalaries[[#This Row],[Where do you work]],[1]!tblCountries[[Actual]:[Mapping]],2,FALSE)","v":"USA"},"4 to 6 hours a day",8]
["ID0591","2012-05-26T08:05:39",65000,"USD",{"$f":"tblSalaries[[#This Row],[clean Salary (in local currency)]]*VLOOKUP(tblSalaries[[#This Row],[Currency]],[1]!tblXrate[#Data],2,FALSE)","v":65000},"Data Analyst","Analyst","USA",{"$f":"VLOOKUP(tblSalaries[[#This Row],[Where do you work]],[1]!tblCountries[[Actual]:[Mapping]],2,FALSE)","v":"USA"},"4 to 6 hours a day",3]
["ID0592","2012-05-26T08:08:43",120000,"USD",{"$f":"tblSalaries[[#This Row],[clean Salary (in local currency)]]*VLOOKUP(tblSalaries[[#This Row],[Currency]],[1]!tblXrate[#Data],2,FALSE)","v":120000},"Sr. Analyst","Analyst","USA",{"$f":"VLOOKUP(tblSalaries[[#This Row],[Where do you work]],[1]!tblCountries[[Actual]:[Mapping]],2,FALSE)","v":"USA"},"All the 8 hours baby, all the 8!",7]
["ID0593","2012-05-26T08:10:43",96000,"CNY",{"$f":"tblSalaries[[#This Row],[clean Salary (in local currency)]]*VLOOKUP(tblSalaries[[#This Row],[Currency]],[1]!tblXrate[#Data],2,FALSE)","v":15092.18020692008},"finance","Accountant","china",{"$f":"VLOOKUP(tblSalaries[[#This Row],[Where do you work]],[1]!tblCountries[[Actual]:[Mapping]],2,FALSE)","v":"china"},"4 to 6 hours a day",10]
["ID0594","2012-05-26T08:17:53",36000,"USD",{"$f":"tblSalaries[[#This Row],[clean Salary (in local currency)]]*VLOOKUP(tblSalaries[[#This Row],[Currency]],[1]!tblXrate[#Data],2,FALSE)","v":36000},"Consulting","Consultant","Russia",{"$f":"VLOOKUP(tblSalaries[[#This Row],[Where do you work]],[1]!tblCountries[[Actual]:[Mapping]],2,FALSE)","v":"Russia"},"All the 8 hours baby, all the 8!",10]
["ID0595","2012-05-26T08:30:00",50000,"EUR",{"$f":"tblSalaries[[#This Row],[clean Salary (in local currency)]]*VLOOKUP(tblSalaries[[#This Row],[Currency]],[1]!tblXrate[#Data],2,FALSE)","v":63519.971949580387},"Analyst","Analyst","Germany",{"$f":"VLOOKUP(tblSalaries[[#This Row],[Where do you work]],[1]!tblCountries[[Actual]:[Mapping]],2,FALSE)","v":"Germany"},"2 to 3 hours per day",4]
["ID0596","2012-05-26T08:43:07",108000,"USD",{"$f":"tblSalaries[[#This Row],[clean Salary (in local currency)]]*VLOOKUP(tblSalaries[[#This Row],[Currency]],[1]!tblXrate[#Data],2,FALSE)","v":108000},"Technology consultant ","Consultant","USA",{"$f":"VLOOKUP(tblSalaries[[#This Row],[Where do you work]],[1]!tblCountries[[Actual]:[Mapping]],2,FALSE)","v":"USA"},"2 to 3 hours per day",7]
["ID0597","2012-05-26T08:45:34",75000,"USD",{"$f":"tblSalaries[[#This Row],[clean Salary (in local currency)]]*VLOOKUP(tblSalaries[[#This Row],[Currency]],[1]!tblXrate[#Data],2,FALSE)","v":75000},"Financial Analyst","Analyst","USA",{"$f":"VLOOKUP(tblSalaries[[#This Row],[Where do you work]],[1]!tblCountries[[Actual]:[Mapping]],2,FALSE)","v":"USA"},"4 to 6 hours a day",5]
["ID0598","2012-05-26T08:51:04",400000,"INR",{"$f":"tblSalaries[[#This Row],[clean Salary (in local currency)]]*VLOOKUP(tblSalaries[[#This Row],[Currency]],[1]!tblXrate[#Data],2,FALSE)","v":7123.1666749770275},"BPO","Manager","India",{"$f":"VLOOKUP(tblSalaries[[#This Row],[Where do you work]],[1]!tblCountries[[Actual]:[Mapping]],2,FALSE)","v":"India"},"1 or 2 hours a day",3]
["ID0599","2012-05-26T08:52:00",50000,"USD",{"$f":"tblSalaries[[#This Row],[clean Salary (in local currency)]]*VLOOKUP(tblSalaries[[#This Row],[Currency]],[1]!tblXrate[#Data],2,FALSE)","v":50000},"General manager","Manager","India",{"$f":"VLOOKUP(tblSalaries[[#This Row],[Where do you work]],[1]!tblCountries[[Actual]:[Mapping]],2,FALSE)","v":"India"},"1 or 2 hours a day",25]
["ID0600","2012-05-26T08:55:12",45000,"USD",{"$f":"tblSalaries[[#This Row],[clean Salary (in local currency)]]*VLOOKUP(tblSalaries[[#This Row],[Currency]],[1]!tblXrate[#Data],2,FALSE)","v":45000},"Technical Analyst","Analyst","USA",{"$f":"VLOOKUP(tblSalaries[[#This Row],[Where do you work]],[1]!tblCountries[[Actual]:[Mapping]],2,FALSE)","v":"USA"},"4 to 6 hours a day",15]
["ID0601","2012-05-26T08:55:17",45000,"USD",{"$f":"tblSalaries[[#This Row],[clean Salary (in local currency)]]*VLOOKUP(tblSalaries[[#This Row],[Currency]],[1]!tblXrate[#Data],2,FALSE)","v":45000},"Head Accounts","Accountant","USA",{"$f":"VLOOKUP(tblSalaries[[#This Row],[Where do you work]],[1]!tblCountries[[Actual]:[Mapping]],2,FALSE)","v":"USA"},"4 to 6 hours a day",7]
["ID0602","2012-05-26T08:56:13",90000,"USD",{"$f":"tblSalaries[[#This Row],[clean Salary (in local currency)]]*VLOOKUP(tblSalaries[[#This Row],[Currency]],[1]!tblXrate[#Data],2,FALSE)","v":90000},"Operations","Manager","USA",{"$f":"VLOOKUP(tblSalaries[[#This Row],[Where do you work]],[1]!tblCountries[[Actual]:[Mapping]],2,FALSE)","v":"USA"},"2 to 3 hours per day",20]
["ID0603","2012-05-26T08:58:55",240000,"INR",{"$f":"tblSalaries[[#This Row],[clean Salary (in local currency)]]*VLOOKUP(tblSalaries[[#This Row],[Currency]],[1]!tblXrate[#Data],2,FALSE)","v":4273.9000049862161},"Talati","Analyst","India",{"$f":"VLOOKUP(tblSalaries[[#This Row],[Where do you work]],[1]!tblCountries[[Actual]:[Mapping]],2,FALSE)","v":"India"},"2 to 3 hours per day",5]
["ID0604","2012-05-26T09:28:32",50000,"USD",{"$f":"tblSalaries[[#This Row],[clean Salary (in local currency)]]*VLOOKUP(tblSalaries[[#This Row],[Currency]],[1]!tblXrate[#Data],2,FALSE)","v":50000},"Product manager","Manager","India",{"$f":"VLOOKUP(tblSalaries[[#This Row],[Where do you work]],[1]!tblCountries[[Actual]:[Mapping]],2,FALSE)","v":"India"},"1 or 2 hours a day",10]
["ID0605","2012-05-26T09:28:50",65000,"USD",{"$f":"tblSalaries[[#This Row],[clean Salary (in local currency)]]*VLOOKUP(tblSalaries[[#This Row],[Currency]],[1]!tblXrate[#Data],2,FALSE)","v":65000},"Helicopter Mechanic","Analyst","USA",{"$f":"VLOOKUP(tblSalaries[[#This Row],[Where do you work]],[1]!tblCountries[[Actual]:[Mapping]],2,FALSE)","v":"USA"},"2 to 3 hours per day",17]
["ID0606","2012-05-26T09:36:28",70000,"USD",{"$f":"tblSalaries[[#This Row],[clean Salary (in local currency)]]*VLOOKUP(tblSalaries[[#This Row],[Currency]],[1]!tblXrate[#Data],2,FALSE)","v":70000},"Program/Mgt Analyst","Analyst","USA",{"$f":"VLOOKUP(tblSalaries[[#This Row],[Where do you work]],[1]!tblCountries[[Actual]:[Mapping]],2,FALSE)","v":"USA"},"2 to 3 hours per day",18]
["ID0608","2012-05-26T09:51:47",160000,"USD",{"$f":"tblSalaries[[#This Row],[clean Salary (in local currency)]]*VLOOKUP(tblSalaries[[#This Row],[Currency]],[1]!tblXrate[#Data],2,FALSE)","v":160000},"Director, Analytics","Analyst","USA",{"$f":"VLOOKUP(tblSalaries[[#This Row],[Where do you work]],[1]!tblCountries[[Actual]:[Mapping]],2,FALSE)","v":"USA"},"4 to 6 hours a day",5]
["ID0609","2012-05-26T09:52:22",100000,"AUD",{"$f":"tblSalaries[[#This Row],[clean Salary (in local currency)]]*VLOOKUP(tblSalaries[[#This Row],[Currency]],[1]!tblXrate[#Data],2,FALSE)","v":101990.96564026357},"Purchasing Manager","Manager","Australia",{"$f":"VLOOKUP(tblSalaries[[#This Row],[Where do you work]],[1]!tblCountries[[Actual]:[Mapping]],2,FALSE)","v":"Australia"},"2 to 3 hours per day",20]
["ID0611","2012-05-26T10:01:28",380000,"INR",{"$f":"tblSalaries[[#This Row],[clean Salary (in local currency)]]*VLOOKUP(tblSalaries[[#This Row],[Currency]],[1]!tblXrate[#Data],2,FALSE)","v":6767.0083412281756},"Incharge","Manager","India",{"$f":"VLOOKUP(tblSalaries[[#This Row],[Where do you work]],[1]!tblCountries[[Actual]:[Mapping]],2,FALSE)","v":"India"},"4 to 6 hours a day",10]
["ID0612","2012-05-26T10:20:35",30000,"USD",{"$f":"tblSalaries[[#This Row],[clean Salary (in local currency)]]*VLOOKUP(tblSalaries[[#This Row],[Currency]],[1]!tblXrate[#Data],2,FALSE)","v":30000},"Sales Assistant","Analyst","USA",{"$f":"VLOOKUP(tblSalaries[[#This Row],[Where do you work]],[1]!tblCountries[[Actual]:[Mapping]],2,FALSE)","v":"USA"},"2 to 3 hours per day",8]
["ID0613","2012-05-26T10:22:45",420000,"INR",{"$f":"tblSalaries[[#This Row],[clean Salary (in local currency)]]*VLOOKUP(tblSalaries[[#This Row],[Currency]],[1]!tblXrate[#Data],2,FALSE)","v":7479.3250087258784},"Assistant EDP","Analyst","India",{"$f":"VLOOKUP(tblSalaries[[#This Row],[Where do you work]],[1]!tblCountries[[Actual]:[Mapping]],2,FALSE)","v":"India"},"4 to 6 hours a day",3]
["ID0614","2012-05-26T10:31:42",61000,"USD",{"$f":"tblSalaries[[#This Row],[clean Salary (in local currency)]]*VLOOKUP(tblSalaries[[#This Row],[Currency]],[1]!tblXrate[#Data],2,FALSE)","v":61000},"Sales ops","Manager","USA",{"$f":"VLOOKUP(tblSalaries[[#This Row],[Where do you work]],[1]!tblCountries[[Actual]:[Mapping]],2,FALSE)","v":"USA"},"4 to 6 hours a day",5]
["ID0615","2012-05-26T10:32:07",13800,"USD",{"$f":"tblSalaries[[#This Row],[clean Salary (in local currency)]]*VLOOKUP(tblSalaries[[#This Row],[Currency]],[1]!tblXrate[#Data],2,FALSE)","v":13800},"QS","Controller","Sri Lanka",{"$f":"VLOOKUP(tblSalaries[[#This Row],[Where do you work]],[1]!tblCountries[[Actual]:[Mapping]],2,FALSE)","v":"Sri Lanka"},"4 to 6 hours a day",20]
["ID0616","2012-05-26T10:41:11",850000,"INR",{"$f":"tblSalaries[[#This Row],[clean Salary (in local currency)]]*VLOOKUP(tblSalaries[[#This Row],[Currency]],[1]!tblXrate[#Data],2,FALSE)","v":15136.729184326183},"Sales Analyst","Analyst","India",{"$f":"VLOOKUP(tblSalaries[[#This Row],[Where do you work]],[1]!tblCountries[[Actual]:[Mapping]],2,FALSE)","v":"India"},"4 to 6 hours a day",6]
["ID0617","2012-05-26T10:43:53",1800000,"INR",{"$f":"tblSalaries[[#This Row],[clean Salary (in local currency)]]*VLOOKUP(tblSalaries[[#This Row],[Currency]],[1]!tblXrate[#Data],2,FALSE)","v":32054.250037396621},"AGM Finance","Manager","India",{"$f":"VLOOKUP(tblSalaries[[#This Row],[Where do you work]],[1]!tblCountries[[Actual]:[Mapping]],2,FALSE)","v":"India"},"2 to 3 hours per day",10]
["ID0618","2012-05-26T10:51:05",80000,"USD",{"$f":"tblSalaries[[#This Row],[clean Salary (in local currency)]]*VLOOKUP(tblSalaries[[#This Row],[Currency]],[1]!tblXrate[#Data],2,FALSE)","v":80000},"Sales Controller","Controller","USA",{"$f":"VLOOKUP(tblSalaries[[#This Row],[Where do you work]],[1]!tblCountries[[Actual]:[Mapping]],2,FALSE)","v":"USA"},"4 to 6 hours a day",15]
["ID0619","2012-05-26T10:54:22",21000,"USD",{"$f":"tblSalaries[[#This Row],[clean Salary (in local currency)]]*VLOOKUP(tblSalaries[[#This Row],[Currency]],[1]!tblXrate[#Data],2,FALSE)","v":21000},"Manager","Manager","India",{"$f":"VLOOKUP(tblSalaries[[#This Row],[Where do you work]],[1]!tblCountries[[Actual]:[Mapping]],2,FALSE)","v":"India"},"All the 8 hours baby, all the 8!",23]
["ID0620","2012-05-26T10:59:10",250000,"CAD",{"$f":"tblSalaries[[#This Row],[clean Salary (in local currency)]]*VLOOKUP(tblSalaries[[#This Row],[Currency]],[1]!tblXrate[#Data],2,FALSE)","v":245840.3807575817},"Business Analyst","Analyst","Canada",{"$f":"VLOOKUP(tblSalaries[[#This Row],[Where do you work]],[1]!tblCountries[[Actual]:[Mapping]],2,FALSE)","v":"Canada"},"4 to 6 hours a day",32]
["ID0621","2012-05-26T10:59:39",160000,"INR",{"$f":"tblSalaries[[#This Row],[clean Salary (in local currency)]]*VLOOKUP(tblSalaries[[#This Row],[Currency]],[1]!tblXrate[#Data],2,FALSE)","v":2849.2666699908109},"MIS Executive","Reporting","India",{"$f":"VLOOKUP(tblSalaries[[#This Row],[Where do you work]],[1]!tblCountries[[Actual]:[Mapping]],2,FALSE)","v":"India"},"All the 8 hours baby, all the 8!",3]
["ID0622","2012-05-26T11:01:56",8400,"USD",{"$f":"tblSalaries[[#This Row],[clean Salary (in local currency)]]*VLOOKUP(tblSalaries[[#This Row],[Currency]],[1]!tblXrate[#Data],2,FALSE)","v":8400},"SYSTEM MANAGER","Manager","India",{"$f":"VLOOKUP(tblSalaries[[#This Row],[Where do you work]],[1]!tblCountries[[Actual]:[Mapping]],2,FALSE)","v":"India"},"All the 8 hours baby, all the 8!",26]
["ID0623","2012-05-26T11:03:02",85000,"AUD",{"$f":"tblSalaries[[#This Row],[clean Salary (in local currency)]]*VLOOKUP(tblSalaries[[#This Row],[Currency]],[1]!tblXrate[#Data],2,FALSE)","v":86692.320794224041},"Trainer","Consultant","Australia",{"$f":"VLOOKUP(tblSalaries[[#This Row],[Where do you work]],[1]!tblCountries[[Actual]:[Mapping]],2,FALSE)","v":"Australia"},"1 or 2 hours a day",20]
["ID0624","2012-05-26T11:03:06",50000,"USD",{"$f":"tblSalaries[[#This Row],[clean Salary (in local currency)]]*VLOOKUP(tblSalaries[[#This Row],[Currency]],[1]!tblXrate[#Data],2,FALSE)","v":50000},"Project coordinator","Manager","USA",{"$f":"VLOOKUP(tblSalaries[[#This Row],[Where do you work]],[1]!tblCountries[[Actual]:[Mapping]],2,FALSE)","v":"USA"},"4 to 6 hours a day",20]
["ID0625","2012-05-26T11:03:48",4000,"USD",{"$f":"tblSalaries[[#This Row],[clean Salary (in local currency)]]*VLOOKUP(tblSalaries[[#This Row],[Currency]],[1]!tblXrate[#Data],2,FALSE)","v":4000},"MIS Executive","Reporting","India",{"$f":"VLOOKUP(tblSalaries[[#This Row],[Where do you work]],[1]!tblCountries[[Actual]:[Mapping]],2,FALSE)","v":"India"},"All the 8 hours baby, all the 8!",6]
["ID0626","2012-05-26T11:05:45",100000,"AUD",{"$f":"tblSalaries[[#This Row],[clean Salary (in local currency)]]*VLOOKUP(tblSalaries[[#This Row],[Currency]],[1]!tblXrate[#Data],2,FALSE)","v":101990.96564026357},"Business Analyst","Analyst","Australia",{"$f":"VLOOKUP(tblSalaries[[#This Row],[Where do you work]],[1]!tblCountries[[Actual]:[Mapping]],2,FALSE)","v":"Australia"},"All the 8 hours baby, all the 8!",1]
["ID0627","2012-05-26T11:05:58",95000,"USD",{"$f":"tblSalaries[[#This Row],[clean Salary (in local currency)]]*VLOOKUP(tblSalaries[[#This Row],[Currency]],[1]!tblXrate[#Data],2,FALSE)","v":95000},"Program Manager","Manager","USA",{"$f":"VLOOKUP(tblSalaries[[#This Row],[Where do you work]],[1]!tblCountries[[Actual]:[Mapping]],2,FALSE)","v":"USA"},"1 or 2 hours a day",10]
["ID0628","2012-05-26T11:07:01",10000,"USD",{"$f":"tblSalaries[[#This Row],[clean Salary (in local currency)]]*VLOOKUP(tblSalaries[[#This Row],[Currency]],[1]!tblXrate[#Data],2,FALSE)","v":10000},"executive","Manager","Indonesia",{"$f":"VLOOKUP(tblSalaries[[#This Row],[Where do you work]],[1]!tblCountries[[Actual]:[Mapping]],2,FALSE)","v":"Indonesia"},"2 to 3 hours per day",5]
["ID0629","2012-05-26T11:09:27",4200,"USD",{"$f":"tblSalaries[[#This Row],[clean Salary (in local currency)]]*VLOOKUP(tblSalaries[[#This Row],[Currency]],[1]!tblXrate[#Data],2,FALSE)","v":4200},"MIS Executive","Reporting","India",{"$f":"VLOOKUP(tblSalaries[[#This Row],[Where do you work]],[1]!tblCountries[[Actual]:[Mapping]],2,FALSE)","v":"India"},"All the 8 hours baby, all the 8!",4]
["ID0630","2012-05-26T11:10:23",720000,"INR",{"$f":"tblSalaries[[#This Row],[clean Salary (in local currency)]]*VLOOKUP(tblSalaries[[#This Row],[Currency]],[1]!tblXrate[#Data],2,FALSE)","v":12821.700014958649},"Quantity Surveyor","Manager","India",{"$f":"VLOOKUP(tblSalaries[[#This Row],[Where do you work]],[1]!tblCountries[[Actual]:[Mapping]],2,FALSE)","v":"India"},"4 to 6 hours a day",12]
["ID0631","2012-05-26T11:17:56",39000,"USD",{"$f":"tblSalaries[[#This Row],[clean Salary (in local currency)]]*VLOOKUP(tblSalaries[[#This Row],[Currency]],[1]!tblXrate[#Data],2,FALSE)","v":39000},"Content Analyst ","Analyst","USA",{"$f":"VLOOKUP(tblSalaries[[#This Row],[Where do you work]],[1]!tblCountries[[Actual]:[Mapping]],2,FALSE)","v":"USA"},"All the 8 hours baby, all the 8!",3]
["ID0632","2012-05-26T11:26:46",60000,"USD",{"$f":"tblSalaries[[#This Row],[clean Salary (in local currency)]]*VLOOKUP(tblSalaries[[#This Row],[Currency]],[1]!tblXrate[#Data],2,FALSE)","v":60000},"business analyst","Analyst","USA",{"$f":"VLOOKUP(tblSalaries[[#This Row],[Where do you work]],[1]!tblCountries[[Actual]:[Mapping]],2,FALSE)","v":"USA"},"4 to 6 hours a day",12]
["ID0633","2012-05-26T11:30:39",170000,"AUD",{"$f":"tblSalaries[[#This Row],[clean Salary (in local currency)]]*VLOOKUP(tblSalaries[[#This Row],[Currency]],[1]!tblXrate[#Data],2,FALSE)","v":173384.64158844808},"senior business analyst","Analyst","Australia",{"$f":"VLOOKUP(tblSalaries[[#This Row],[Where do you work]],[1]!tblCountries[[Actual]:[Mapping]],2,FALSE)","v":"Australia"},"All the 8 hours baby, all the 8!",10]
["ID0634","2012-05-26T11:31:08",125000,"USD",{"$f":"tblSalaries[[#This Row],[clean Salary (in local currency)]]*VLOOKUP(tblSalaries[[#This Row],[Currency]],[1]!tblXrate[#Data],2,FALSE)","v":125000},"Analyst","Analyst","USA",{"$f":"VLOOKUP(tblSalaries[[#This Row],[Where do you work]],[1]!tblCountries[[Actual]:[Mapping]],2,FALSE)","v":"USA"},"2 to 3 hours per day",20]
["ID0635","2012-05-26T11:31:52",78000,"AUD",{"$f":"tblSalaries[[#This Row],[clean Salary (in local currency)]]*VLOOKUP(tblSalaries[[#This Row],[Currency]],[1]!tblXrate[#Data],2,FALSE)","v":79552.953199405587},"Corporate Accountant","Accountant","Australia",{"$f":"VLOOKUP(tblSalaries[[#This Row],[Where do you work]],[1]!tblCountries[[Actual]:[Mapping]],2,FALSE)","v":"Australia"},"All the 8 hours baby, all the 8!",4]
["ID0636","2012-05-26T11:36:04",200000,"INR",{"$f":"tblSalaries[[#This Row],[clean Salary (in local currency)]]*VLOOKUP(tblSalaries[[#This Row],[Currency]],[1]!tblXrate[#Data],2,FALSE)","v":3561.5833374885137},"Auditor","Accountant","India",{"$f":"VLOOKUP(tblSalaries[[#This Row],[Where do you work]],[1]!tblCountries[[Actual]:[Mapping]],2,FALSE)","v":"India"},"4 to 6 hours a day",3]
["ID0637","2012-05-26T11:37:26",80000,"USD",{"$f":"tblSalaries[[#This Row],[clean Salary (in local currency)]]*VLOOKUP(tblSalaries[[#This Row],[Currency]],[1]!tblXrate[#Data],2,FALSE)","v":80000},"program coordinator - automotive","Manager","USA",{"$f":"VLOOKUP(tblSalaries[[#This Row],[Where do you work]],[1]!tblCountries[[Actual]:[Mapping]],2,FALSE)","v":"USA"},"4 to 6 hours a day",8]
["ID0638","2012-05-26T11:37:53",600000,"INR",{"$f":"tblSalaries[[#This Row],[clean Salary (in local currency)]]*VLOOKUP(tblSalaries[[#This Row],[Currency]],[1]!tblXrate[#Data],2,FALSE)","v":10684.750012465542},"Financial Analyst","Analyst","India",{"$f":"VLOOKUP(tblSalaries[[#This Row],[Where do you work]],[1]!tblCountries[[Actual]:[Mapping]],2,FALSE)","v":"India"},"2 to 3 hours per day",3]
["ID0639","2012-05-26T11:39:48",300000,"INR",{"$f":"tblSalaries[[#This Row],[clean Salary (in local currency)]]*VLOOKUP(tblSalaries[[#This Row],[Currency]],[1]!tblXrate[#Data],2,FALSE)","v":5342.3750062327708},"Planning Engineer","Engineer","India",{"$f":"VLOOKUP(tblSalaries[[#This Row],[Where do you work]],[1]!tblCountries[[Actual]:[Mapping]],2,FALSE)","v":"India"},"All the 8 hours baby, all the 8!",2]
["ID0640","2012-05-26T11:40:34",4000000,"INR",{"$f":"tblSalaries[[#This Row],[clean Salary (in local currency)]]*VLOOKUP(tblSalaries[[#This Row],[Currency]],[1]!tblXrate[#Data],2,FALSE)","v":71231.666749770273},"Senior Executive","Manager","India",{"$f":"VLOOKUP(tblSalaries[[#This Row],[Where do you work]],[1]!tblCountries[[Actual]:[Mapping]],2,FALSE)","v":"India"},"4 to 6 hours a day",1.5]
["ID0641","2012-05-26T11:45:37",4500000,"INR",{"$f":"tblSalaries[[#This Row],[clean Salary (in local currency)]]*VLOOKUP(tblSalaries[[#This Row],[Currency]],[1]!tblXrate[#Data],2,FALSE)","v":80135.625093491559},"cmo","CXO or Top Mgmt.","India",{"$f":"VLOOKUP(tblSalaries[[#This Row],[Where do you work]],[1]!tblCountries[[Actual]:[Mapping]],2,FALSE)","v":"India"},"1 or 2 hours a day",6]
["ID0642","2012-05-26T11:46:20",55000,"CAD",{"$f":"tblSalaries[[#This Row],[clean Salary (in local currency)]]*VLOOKUP(tblSalaries[[#This Row],[Currency]],[1]!tblXrate[#Data],2,FALSE)","v":54084.883766667976},"Project coordinator","Manager","Canada",{"$f":"VLOOKUP(tblSalaries[[#This Row],[Where do you work]],[1]!tblCountries[[Actual]:[Mapping]],2,FALSE)","v":"Canada"},"4 to 6 hours a day",5]
["ID0643","2012-05-26T11:47:18",53000,"USD",{"$f":"tblSalaries[[#This Row],[clean Salary (in local currency)]]*VLOOKUP(tblSalaries[[#This Row],[Currency]],[1]!tblXrate[#Data],2,FALSE)","v":53000},"Financial Analyst","Analyst","USA",{"$f":"VLOOKUP(tblSalaries[[#This Row],[Where do you work]],[1]!tblCountries[[Actual]:[Mapping]],2,FALSE)","v":"USA"},"4 to 6 hours a day",30]
["ID0644","2012-05-26T11:47:38",300000,"INR",{"$f":"tblSalaries[[#This Row],[clean Salary (in local currency)]]*VLOOKUP(tblSalaries[[#This Row],[Currency]],[1]!tblXrate[#Data],2,FALSE)","v":5342.3750062327708},"MIS","Reporting","India",{"$f":"VLOOKUP(tblSalaries[[#This Row],[Where do you work]],[1]!tblCountries[[Actual]:[Mapping]],2,FALSE)","v":"India"},"4 to 6 hours a day",1]
["ID0645","2012-05-26T11:50:03",400000,"INR",{"$f":"tblSalaries[[#This Row],[clean Salary (in local currency)]]*VLOOKUP(tblSalaries[[#This Row],[Currency]],[1]!tblXrate[#Data],2,FALSE)","v":7123.1666749770275},"Sr Processor","Manager","India",{"$f":"VLOOKUP(tblSalaries[[#This Row],[Where do you work]],[1]!tblCountries[[Actual]:[Mapping]],2,FALSE)","v":"India"},"1 or 2 hours a day",5]
["ID0646","2012-05-26T11:50:34",600000,"INR",{"$f":"tblSalaries[[#This Row],[clean Salary (in local currency)]]*VLOOKUP(tblSalaries[[#This Row],[Currency]],[1]!tblXrate[#Data],2,FALSE)","v":10684.750012465542},"Organiser","Manager","India",{"$f":"VLOOKUP(tblSalaries[[#This Row],[Where do you work]],[1]!tblCountries[[Actual]:[Mapping]],2,FALSE)","v":"India"},"4 to 6 hours a day",11]
["ID0647","2012-05-26T11:55:17",4000,"USD",{"$f":"tblSalaries[[#This Row],[clean Salary (in local currency)]]*VLOOKUP(tblSalaries[[#This Row],[Currency]],[1]!tblXrate[#Data],2,FALSE)","v":4000},"MIS Executive","Reporting","India",{"$f":"VLOOKUP(tblSalaries[[#This Row],[Where do you work]],[1]!tblCountries[[Actual]:[Mapping]],2,FALSE)","v":"India"},"All the 8 hours baby, all the 8!",4]
["ID0648","2012-05-26T11:58:23",8000,"USD",{"$f":"tblSalaries[[#This Row],[clean Salary (in local currency)]]*VLOOKUP(tblSalaries[[#This Row],[Currency]],[1]!tblXrate[#Data],2,FALSE)","v":8000},"Quality officer","Manager","bangkok",{"$f":"VLOOKUP(tblSalaries[[#This Row],[Where do you work]],[1]!tblCountries[[Actual]:[Mapping]],2,FALSE)","v":"Thailand"},"All the 8 hours baby, all the 8!",1]
["ID0649","2012-05-26T12:05:35",150000,"INR",{"$f":"tblSalaries[[#This Row],[clean Salary (in local currency)]]*VLOOKUP(tblSalaries[[#This Row],[Currency]],[1]!tblXrate[#Data],2,FALSE)","v":2671.1875031163854},"Executive","Manager","India",{"$f":"VLOOKUP(tblSalaries[[#This Row],[Where do you work]],[1]!tblCountries[[Actual]:[Mapping]],2,FALSE)","v":"India"},"2 to 3 hours per day",5]
["ID0650","2012-05-26T12:14:07",800000,"INR",{"$f":"tblSalaries[[#This Row],[clean Salary (in local currency)]]*VLOOKUP(tblSalaries[[#This Row],[Currency]],[1]!tblXrate[#Data],2,FALSE)","v":14246.333349954055},"Engineer","Engineer","India",{"$f":"VLOOKUP(tblSalaries[[#This Row],[Where do you work]],[1]!tblCountries[[Actual]:[Mapping]],2,FALSE)","v":"India"},"2 to 3 hours per day",3]
["ID0651","2012-05-26T12:17:01",480000,"INR",{"$f":"tblSalaries[[#This Row],[clean Salary (in local currency)]]*VLOOKUP(tblSalaries[[#This Row],[Currency]],[1]!tblXrate[#Data],2,FALSE)","v":8547.8000099724322},"BI Consultant","Reporting","India",{"$f":"VLOOKUP(tblSalaries[[#This Row],[Where do you work]],[1]!tblCountries[[Actual]:[Mapping]],2,FALSE)","v":"India"},"1 or 2 hours a day",3]
["ID0652","2012-05-26T12:19:47",432000,"INR",{"$f":"tblSalaries[[#This Row],[clean Salary (in local currency)]]*VLOOKUP(tblSalaries[[#This Row],[Currency]],[1]!tblXrate[#Data],2,FALSE)","v":7693.0200089751897},"Assistant Manager - IT","Manager","India",{"$f":"VLOOKUP(tblSalaries[[#This Row],[Where do you work]],[1]!tblCountries[[Actual]:[Mapping]],2,FALSE)","v":"India"},"2 to 3 hours per day",5]
["ID0653","2012-05-26T12:19:53",4000,"USD",{"$f":"tblSalaries[[#This Row],[clean Salary (in local currency)]]*VLOOKUP(tblSalaries[[#This Row],[Currency]],[1]!tblXrate[#Data],2,FALSE)","v":4000},"Coordinator","Manager","India",{"$f":"VLOOKUP(tblSalaries[[#This Row],[Where do you work]],[1]!tblCountries[[Actual]:[Mapping]],2,FALSE)","v":"India"},"All the 8 hours baby, all the 8!",8]
["ID0654","2012-05-26T12:20:07",5400,"USD",{"$f":"tblSalaries[[#This Row],[clean Salary (in local currency)]]*VLOOKUP(tblSalaries[[#This Row],[Currency]],[1]!tblXrate[#Data],2,FALSE)","v":5400},"manager","Manager","India",{"$f":"VLOOKUP(tblSalaries[[#This Row],[Where do you work]],[1]!tblCountries[[Actual]:[Mapping]],2,FALSE)","v":"India"},"All the 8 hours baby, all the 8!",3]
["ID0655","2012-05-26T12:23:14",10500000,"INR",{"$f":"tblSalaries[[#This Row],[clean Salary (in local currency)]]*VLOOKUP(tblSalaries[[#This Row],[Currency]],[1]!tblXrate[#Data],2,FALSE)","v":186983.12521814698},"MANAGER","Manager","India",{"$f":"VLOOKUP(tblSalaries[[#This Row],[Where do you work]],[1]!tblCountries[[Actual]:[Mapping]],2,FALSE)","v":"India"},"2 to 3 hours per day",10]
["ID0657","2012-05-26T12:25:09",21500,"USD",{"$f":"tblSalaries[[#This Row],[clean Salary (in local currency)]]*VLOOKUP(tblSalaries[[#This Row],[Currency]],[1]!tblXrate[#Data],2,FALSE)","v":21500},"Asst Mgr","Analyst","India",{"$f":"VLOOKUP(tblSalaries[[#This Row],[Where do you work]],[1]!tblCountries[[Actual]:[Mapping]],2,FALSE)","v":"India"},"4 to 6 hours a day",9]
["ID0658","2012-05-26T12:26:33",15000,"USD",{"$f":"tblSalaries[[#This Row],[clean Salary (in local currency)]]*VLOOKUP(tblSalaries[[#This Row],[Currency]],[1]!tblXrate[#Data],2,FALSE)","v":15000},"MIS Executive","Reporting","India",{"$f":"VLOOKUP(tblSalaries[[#This Row],[Where do you work]],[1]!tblCountries[[Actual]:[Mapping]],2,FALSE)","v":"India"},"All the 8 hours baby, all the 8!",2]
["ID0659","2012-05-26T12:27:20",200000,"PKR",{"$f":"tblSalaries[[#This Row],[clean Salary (in local currency)]]*VLOOKUP(tblSalaries[[#This Row],[Currency]],[1]!tblXrate[#Data],2,FALSE)","v":2122.8177433598262},"Accounts Officer","Accountant","Pakistan",{"$f":"VLOOKUP(tblSalaries[[#This Row],[Where do you work]],[1]!tblCountries[[Actual]:[Mapping]],2,FALSE)","v":"Pakistan"},"2 to 3 hours per day",2]
["ID0660","2012-05-26T12:28:05",950000,"INR",{"$f":"tblSalaries[[#This Row],[clean Salary (in local currency)]]*VLOOKUP(tblSalaries[[#This Row],[Currency]],[1]!tblXrate[#Data],2,FALSE)","v":16917.52085307044},"Investment Banker","Manager","India",{"$f":"VLOOKUP(tblSalaries[[#This Row],[Where do you work]],[1]!tblCountries[[Actual]:[Mapping]],2,FALSE)","v":"India"},"4 to 6 hours a day",3]
["ID0661","2012-05-26T12:28:11",165000,"INR",{"$f":"tblSalaries[[#This Row],[clean Salary (in local currency)]]*VLOOKUP(tblSalaries[[#This Row],[Currency]],[1]!tblXrate[#Data],2,FALSE)","v":2938.3062534280239},"Co-operative bank","Manager","India",{"$f":"VLOOKUP(tblSalaries[[#This Row],[Where do you work]],[1]!tblCountries[[Actual]:[Mapping]],2,FALSE)","v":"India"},"All the 8 hours baby, all the 8!",11]
["ID0662","2012-05-26T12:30:22",16800,"USD",{"$f":"tblSalaries[[#This Row],[clean Salary (in local currency)]]*VLOOKUP(tblSalaries[[#This Row],[Currency]],[1]!tblXrate[#Data],2,FALSE)","v":16800},"Assistant","Analyst","Pakistan",{"$f":"VLOOKUP(tblSalaries[[#This Row],[Where do you work]],[1]!tblCountries[[Actual]:[Mapping]],2,FALSE)","v":"Pakistan"},"4 to 6 hours a day",12]
["ID0663","2012-05-26T12:31:29",37000,"USD",{"$f":"tblSalaries[[#This Row],[clean Salary (in local currency)]]*VLOOKUP(tblSalaries[[#This Row],[Currency]],[1]!tblXrate[#Data],2,FALSE)","v":37000},"Cad Engineer","Engineer","India",{"$f":"VLOOKUP(tblSalaries[[#This Row],[Where do you work]],[1]!tblCountries[[Actual]:[Mapping]],2,FALSE)","v":"India"},"4 to 6 hours a day",10]
["ID0664","2012-05-26T12:33:48",300000,"INR",{"$f":"tblSalaries[[#This Row],[clean Salary (in local currency)]]*VLOOKUP(tblSalaries[[#This Row],[Currency]],[1]!tblXrate[#Data],2,FALSE)","v":5342.3750062327708},"Mis Analyst","Analyst","India",{"$f":"VLOOKUP(tblSalaries[[#This Row],[Where do you work]],[1]!tblCountries[[Actual]:[Mapping]],2,FALSE)","v":"India"},"4 to 6 hours a day",4.5]
["ID0665","2012-05-26T12:35:42",200000,"INR",{"$f":"tblSalaries[[#This Row],[clean Salary (in local currency)]]*VLOOKUP(tblSalaries[[#This Row],[Currency]],[1]!tblXrate[#Data],2,FALSE)","v":3561.5833374885137},"MIS EXECUTIVE","Reporting","India",{"$f":"VLOOKUP(tblSalaries[[#This Row],[Where do you work]],[1]!tblCountries[[Actual]:[Mapping]],2,FALSE)","v":"India"},"All the 8 hours baby, all the 8!",3]
["ID0666","2012-05-26T12:36:53",480000,"INR",{"$f":"tblSalaries[[#This Row],[clean Salary (in local currency)]]*VLOOKUP(tblSalaries[[#This Row],[Currency]],[1]!tblXrate[#Data],2,FALSE)","v":8547.8000099724322},"PMO","Manager","India",{"$f":"VLOOKUP(tblSalaries[[#This Row],[Where do you work]],[1]!tblCountries[[Actual]:[Mapping]],2,FALSE)","v":"India"},"2 to 3 hours per day",8]
["ID0667","2012-05-26T12:46:26",5800,"USD",{"$f":"tblSalaries[[#This Row],[clean Salary (in local currency)]]*VLOOKUP(tblSalaries[[#This Row],[Currency]],[1]!tblXrate[#Data],2,FALSE)","v":5800},"Asst. Manager(Commercial)","Manager","India",{"$f":"VLOOKUP(tblSalaries[[#This Row],[Where do you work]],[1]!tblCountries[[Actual]:[Mapping]],2,FALSE)","v":"India"},"All the 8 hours baby, all the 8!",8]
["ID0668","2012-05-26T12:48:19",230000,"INR",{"$f":"tblSalaries[[#This Row],[clean Salary (in local currency)]]*VLOOKUP(tblSalaries[[#This Row],[Currency]],[1]!tblXrate[#Data],2,FALSE)","v":4095.8208381117906},"MIS Executive","Reporting","India",{"$f":"VLOOKUP(tblSalaries[[#This Row],[Where do you work]],[1]!tblCountries[[Actual]:[Mapping]],2,FALSE)","v":"India"},"All the 8 hours baby, all the 8!",3]
["ID0669","2012-05-26T12:50:08",276000,"INR",{"$f":"tblSalaries[[#This Row],[clean Salary (in local currency)]]*VLOOKUP(tblSalaries[[#This Row],[Currency]],[1]!tblXrate[#Data],2,FALSE)","v":4914.9850057341491},"Education Officer","Manager","Pakistan",{"$f":"VLOOKUP(tblSalaries[[#This Row],[Where do you work]],[1]!tblCountries[[Actual]:[Mapping]],2,FALSE)","v":"Pakistan"},"1 or 2 hours a day",3]
["ID0670","2012-05-26T12:52:37",24000,"USD",{"$f":"tblSalaries[[#This Row],[clean Salary (in local currency)]]*VLOOKUP(tblSalaries[[#This Row],[Currency]],[1]!tblXrate[#Data],2,FALSE)","v":24000},"Management Accountant","Manager","Saudi Arabai",{"$f":"VLOOKUP(tblSalaries[[#This Row],[Where do you work]],[1]!tblCountries[[Actual]:[Mapping]],2,FALSE)","v":"Saudi Arabia"},"4 to 6 hours a day",12]
["ID0671","2012-05-26T12:53:43",24000,"USD",{"$f":"tblSalaries[[#This Row],[clean Salary (in local currency)]]*VLOOKUP(tblSalaries[[#This Row],[Currency]],[1]!tblXrate[#Data],2,FALSE)","v":24000},"Accountant","Accountant","UAE",{"$f":"VLOOKUP(tblSalaries[[#This Row],[Where do you work]],[1]!tblCountries[[Actual]:[Mapping]],2,FALSE)","v":"UAE"},"2 to 3 hours per day",15]
["ID0672","2012-05-26T12:54:15",8738,"USD",{"$f":"tblSalaries[[#This Row],[clean Salary (in local currency)]]*VLOOKUP(tblSalaries[[#This Row],[Currency]],[1]!tblXrate[#Data],2,FALSE)","v":8738},"Sales Coordinator","Manager","India",{"$f":"VLOOKUP(tblSalaries[[#This Row],[Where do you work]],[1]!tblCountries[[Actual]:[Mapping]],2,FALSE)","v":"India"},"All the 8 hours baby, all the 8!",7.3]
["ID0673","2012-05-26T12:54:36",15000,"USD",{"$f":"tblSalaries[[#This Row],[clean Salary (in local currency)]]*VLOOKUP(tblSalaries[[#This Row],[Currency]],[1]!tblXrate[#Data],2,FALSE)","v":15000},"TA","Analyst","Indonesia",{"$f":"VLOOKUP(tblSalaries[[#This Row],[Where do you work]],[1]!tblCountries[[Actual]:[Mapping]],2,FALSE)","v":"Indonesia"},"4 to 6 hours a day",1]
["ID0674","2012-05-26T12:55:09",56400,"USD",{"$f":"tblSalaries[[#This Row],[clean Salary (in local currency)]]*VLOOKUP(tblSalaries[[#This Row],[Currency]],[1]!tblXrate[#Data],2,FALSE)","v":56400},"Finance Manager","Manager","UAE",{"$f":"VLOOKUP(tblSalaries[[#This Row],[Where do you work]],[1]!tblCountries[[Actual]:[Mapping]],2,FALSE)","v":"UAE"},"2 to 3 hours per day",6]
["ID0675","2012-05-26T12:59:13",10200,"USD",{"$f":"tblSalaries[[#This Row],[clean Salary (in local currency)]]*VLOOKUP(tblSalaries[[#This Row],[Currency]],[1]!tblXrate[#Data],2,FALSE)","v":10200},"business analyst","Analyst","India",{"$f":"VLOOKUP(tblSalaries[[#This Row],[Where do you work]],[1]!tblCountries[[Actual]:[Mapping]],2,FALSE)","v":"India"},"4 to 6 hours a day",4.5]
["ID0676","2012-05-26T12:59:41",325000,"INR",{"$f":"tblSalaries[[#This Row],[clean Salary (in local currency)]]*VLOOKUP(tblSalaries[[#This Row],[Currency]],[1]!tblXrate[#Data],2,FALSE)","v":5787.5729234188348},"MIS Executive","Reporting","India",{"$f":"VLOOKUP(tblSalaries[[#This Row],[Where do you work]],[1]!tblCountries[[Actual]:[Mapping]],2,FALSE)","v":"India"},"All the 8 hours baby, all the 8!",4.5]
["ID0677","2012-05-26T13:01:44",105000,"USD",{"$f":"tblSalaries[[#This Row],[clean Salary (in local currency)]]*VLOOKUP(tblSalaries[[#This Row],[Currency]],[1]!tblXrate[#Data],2,FALSE)","v":105000},"Senior Consultant","Consultant","USA",{"$f":"VLOOKUP(tblSalaries[[#This Row],[Where do you work]],[1]!tblCountries[[Actual]:[Mapping]],2,FALSE)","v":"USA"},"2 to 3 hours per day",15]
["ID0678","2012-05-26T13:01:53",250000,"INR",{"$f":"tblSalaries[[#This Row],[clean Salary (in local currency)]]*VLOOKUP(tblSalaries[[#This Row],[Currency]],[1]!tblXrate[#Data],2,FALSE)","v":4451.9791718606421},"ASM","Manager","India",{"$f":"VLOOKUP(tblSalaries[[#This Row],[Where do you work]],[1]!tblCountries[[Actual]:[Mapping]],2,FALSE)","v":"India"},"2 to 3 hours per day",5]
["ID0679","2012-05-26T13:02:50",470000,"INR",{"$f":"tblSalaries[[#This Row],[clean Salary (in local currency)]]*VLOOKUP(tblSalaries[[#This Row],[Currency]],[1]!tblXrate[#Data],2,FALSE)","v":8369.7208430980063},"Consultant","Consultant","India",{"$f":"VLOOKUP(tblSalaries[[#This Row],[Where do you work]],[1]!tblCountries[[Actual]:[Mapping]],2,FALSE)","v":"India"},"All the 8 hours baby, all the 8!",4]
["ID0680","2012-05-26T13:03:32",720000,"PHP",{"$f":"tblSalaries[[#This Row],[clean Salary (in local currency)]]*VLOOKUP(tblSalaries[[#This Row],[Currency]],[1]!tblXrate[#Data],2,FALSE)","v":17067.637625607145},"System Manager","Manager","Philippines",{"$f":"VLOOKUP(tblSalaries[[#This Row],[Where do you work]],[1]!tblCountries[[Actual]:[Mapping]],2,FALSE)","v":"Philippines"},"4 to 6 hours a day",9]
["ID0681","2012-05-26T13:03:58",100000,"AUD",{"$f":"tblSalaries[[#This Row],[clean Salary (in local currency)]]*VLOOKUP(tblSalaries[[#This Row],[Currency]],[1]!tblXrate[#Data],2,FALSE)","v":101990.96564026357},"principal developer","Manager","Australia",{"$f":"VLOOKUP(tblSalaries[[#This Row],[Where do you work]],[1]!tblCountries[[Actual]:[Mapping]],2,FALSE)","v":"Australia"},"1 or 2 hours a day",20]
["ID0682","2012-05-26T13:05:03",220000,"INR",{"$f":"tblSalaries[[#This Row],[clean Salary (in local currency)]]*VLOOKUP(tblSalaries[[#This Row],[Currency]],[1]!tblXrate[#Data],2,FALSE)","v":3917.7416712373652},"Accounts Payable Analyst","Analyst","India",{"$f":"VLOOKUP(tblSalaries[[#This Row],[Where do you work]],[1]!tblCountries[[Actual]:[Mapping]],2,FALSE)","v":"India"},"2 to 3 hours per day",3]
["ID0683","2012-05-26T13:08:39",52000,"USD",{"$f":"tblSalaries[[#This Row],[clean Salary (in local currency)]]*VLOOKUP(tblSalaries[[#This Row],[Currency]],[1]!tblXrate[#Data],2,FALSE)","v":52000},"Maint Sys Support Specialist","Specialist","USA",{"$f":"VLOOKUP(tblSalaries[[#This Row],[Where do you work]],[1]!tblCountries[[Actual]:[Mapping]],2,FALSE)","v":"USA"},"4 to 6 hours a day",18]
["ID0684","2012-05-26T13:11:01",260000,"INR",{"$f":"tblSalaries[[#This Row],[clean Salary (in local currency)]]*VLOOKUP(tblSalaries[[#This Row],[Currency]],[1]!tblXrate[#Data],2,FALSE)","v":4630.058338735068},"Analyst","Analyst","India",{"$f":"VLOOKUP(tblSalaries[[#This Row],[Where do you work]],[1]!tblCountries[[Actual]:[Mapping]],2,FALSE)","v":"India"},"4 to 6 hours a day",2]
["ID0685","2012-05-26T13:12:48",120000,"INR",{"$f":"tblSalaries[[#This Row],[clean Salary (in local currency)]]*VLOOKUP(tblSalaries[[#This Row],[Currency]],[1]!tblXrate[#Data],2,FALSE)","v":2136.9500024931081},"Data Analyst","Analyst","India",{"$f":"VLOOKUP(tblSalaries[[#This Row],[Where do you work]],[1]!tblCountries[[Actual]:[Mapping]],2,FALSE)","v":"India"},"2 to 3 hours per day",3]
["ID0686","2012-05-26T13:16:21",13000,"USD",{"$f":"tblSalaries[[#This Row],[clean Salary (in local currency)]]*VLOOKUP(tblSalaries[[#This Row],[Currency]],[1]!tblXrate[#Data],2,FALSE)","v":13000},"Analyst","Analyst","India",{"$f":"VLOOKUP(tblSalaries[[#This Row],[Where do you work]],[1]!tblCountries[[Actual]:[Mapping]],2,FALSE)","v":"India"},"1 or 2 hours a day",4]
["ID0687","2012-05-26T13:17:36",144000,"INR",{"$f":"tblSalaries[[#This Row],[clean Salary (in local currency)]]*VLOOKUP(tblSalaries[[#This Row],[Currency]],[1]!tblXrate[#Data],2,FALSE)","v":2564.3400029917298},"Team Leader","Manager","India",{"$f":"VLOOKUP(tblSalaries[[#This Row],[Where do you work]],[1]!tblCountries[[Actual]:[Mapping]],2,FALSE)","v":"India"},"2 to 3 hours per day",7]
["ID0688","2012-05-26T13:18:03",1150000,"INR",{"$f":"tblSalaries[[#This Row],[clean Salary (in local currency)]]*VLOOKUP(tblSalaries[[#This Row],[Currency]],[1]!tblXrate[#Data],2,FALSE)","v":20479.104190558952},"manager portfolio monitoring","Manager","India",{"$f":"VLOOKUP(tblSalaries[[#This Row],[Where do you work]],[1]!tblCountries[[Actual]:[Mapping]],2,FALSE)","v":"India"},"2 to 3 hours per day",7]
["ID0689","2012-05-26T13:18:32",33500,"USD",{"$f":"tblSalaries[[#This Row],[clean Salary (in local currency)]]*VLOOKUP(tblSalaries[[#This Row],[Currency]],[1]!tblXrate[#Data],2,FALSE)","v":33500},"Sr. Executive Finance & Accounts","Accountant","Dubai",{"$f":"VLOOKUP(tblSalaries[[#This Row],[Where do you work]],[1]!tblCountries[[Actual]:[Mapping]],2,FALSE)","v":"Dubai"},"1 or 2 hours a day",10]
["ID0690","2012-05-26T13:19:42",50000,"USD",{"$f":"tblSalaries[[#This Row],[clean Salary (in local currency)]]*VLOOKUP(tblSalaries[[#This Row],[Currency]],[1]!tblXrate[#Data],2,FALSE)","v":50000},"AREA SALES MANAGER","Manager","India",{"$f":"VLOOKUP(tblSalaries[[#This Row],[Where do you work]],[1]!tblCountries[[Actual]:[Mapping]],2,FALSE)","v":"India"},"2 to 3 hours per day",20]
["ID0691","2012-05-26T13:22:43",300000,"INR",{"$f":"tblSalaries[[#This Row],[clean Salary (in local currency)]]*VLOOKUP(tblSalaries[[#This Row],[Currency]],[1]!tblXrate[#Data],2,FALSE)","v":5342.3750062327708},"govt","Manager","India",{"$f":"VLOOKUP(tblSalaries[[#This Row],[Where do you work]],[1]!tblCountries[[Actual]:[Mapping]],2,FALSE)","v":"India"},"2 to 3 hours per day",3]
["ID0692","2012-05-26T13:24:05",648000,"INR",{"$f":"tblSalaries[[#This Row],[clean Salary (in local currency)]]*VLOOKUP(tblSalaries[[#This Row],[Currency]],[1]!tblXrate[#Data],2,FALSE)","v":11539.530013462785},"COMPUTER OPERATOR","Analyst","India",{"$f":"VLOOKUP(tblSalaries[[#This Row],[Where do you work]],[1]!tblCountries[[Actual]:[Mapping]],2,FALSE)","v":"India"},"All the 8 hours baby, all the 8!",2]
["ID0693","2012-05-26T13:24:14",7000,"USD",{"$f":"tblSalaries[[#This Row],[clean Salary (in local currency)]]*VLOOKUP(tblSalaries[[#This Row],[Currency]],[1]!tblXrate[#Data],2,FALSE)","v":7000},"Business Executive","Manager","India",{"$f":"VLOOKUP(tblSalaries[[#This Row],[Where do you work]],[1]!tblCountries[[Actual]:[Mapping]],2,FALSE)","v":"India"},"4 to 6 hours a day",23]
["ID0694","2012-05-26T13:24:36",380000,"INR",{"$f":"tblSalaries[[#This Row],[clean Salary (in local currency)]]*VLOOKUP(tblSalaries[[#This Row],[Currency]],[1]!tblXrate[#Data],2,FALSE)","v":6767.0083412281756},"Team Lead Mis","Reporting","India",{"$f":"VLOOKUP(tblSalaries[[#This Row],[Where do you work]],[1]!tblCountries[[Actual]:[Mapping]],2,FALSE)","v":"India"},"2 to 3 hours per day",6]
["ID0695","2012-05-26T13:29:12",3000,"USD",{"$f":"tblSalaries[[#This Row],[clean Salary (in local currency)]]*VLOOKUP(tblSalaries[[#This Row],[Currency]],[1]!tblXrate[#Data],2,FALSE)","v":3000},"Call Centre Consultant","Consultant","Cambodia",{"$f":"VLOOKUP(tblSalaries[[#This Row],[Where do you work]],[1]!tblCountries[[Actual]:[Mapping]],2,FALSE)","v":"Cambodia"},"2 to 3 hours per day",2]
["ID0696","2012-05-26T13:29:35",250000,"INR",{"$f":"tblSalaries[[#This Row],[clean Salary (in local currency)]]*VLOOKUP(tblSalaries[[#This Row],[Currency]],[1]!tblXrate[#Data],2,FALSE)","v":4451.9791718606421},"MIS executive","Reporting","India",{"$f":"VLOOKUP(tblSalaries[[#This Row],[Where do you work]],[1]!tblCountries[[Actual]:[Mapping]],2,FALSE)","v":"India"},"All the 8 hours baby, all the 8!",4]
["ID0697","2012-05-26T13:31:20",150000,"INR",{"$f":"tblSalaries[[#This Row],[clean Salary (in local currency)]]*VLOOKUP(tblSalaries[[#This Row],[Currency]],[1]!tblXrate[#Data],2,FALSE)","v":2671.1875031163854},"Oprations head","CXO or Top Mgmt.","India",{"$f":"VLOOKUP(tblSalaries[[#This Row],[Where do you work]],[1]!tblCountries[[Actual]:[Mapping]],2,FALSE)","v":"India"},"4 to 6 hours a day",4.5]
["ID0698","2012-05-26T13:37:50",278400,"INR",{"$f":"tblSalaries[[#This Row],[clean Salary (in local currency)]]*VLOOKUP(tblSalaries[[#This Row],[Currency]],[1]!tblXrate[#Data],2,FALSE)","v":4957.7240057840108},"Asst. Manager","Manager","India",{"$f":"VLOOKUP(tblSalaries[[#This Row],[Where do you work]],[1]!tblCountries[[Actual]:[Mapping]],2,FALSE)","v":"India"},"4 to 6 hours a day",5]
["ID0699","2012-05-26T13:42:21",180000,"INR",{"$f":"tblSalaries[[#This Row],[clean Salary (in local currency)]]*VLOOKUP(tblSalaries[[#This Row],[Currency]],[1]!tblXrate[#Data],2,FALSE)","v":3205.4250037396623},"accounts","Accountant","India",{"$f":"VLOOKUP(tblSalaries[[#This Row],[Where do you work]],[1]!tblCountries[[Actual]:[Mapping]],2,FALSE)","v":"India"},"2 to 3 hours per day",14]
["ID0700","2012-05-26T13:42:58",800000,"INR",{"$f":"tblSalaries[[#This Row],[clean Salary (in local currency)]]*VLOOKUP(tblSalaries[[#This Row],[Currency]],[1]!tblXrate[#Data],2,FALSE)","v":14246.333349954055},"Manager","Manager","India",{"$f":"VLOOKUP(tblSalaries[[#This Row],[Where do you work]],[1]!tblCountries[[Actual]:[Mapping]],2,FALSE)","v":"India"},"4 to 6 hours a day",7]
["ID0701","2012-05-26T13:44:53",300000,"INR",{"$f":"tblSalaries[[#This Row],[clean Salary (in local currency)]]*VLOOKUP(tblSalaries[[#This Row],[Currency]],[1]!tblXrate[#Data],2,FALSE)","v":5342.3750062327708},"Analyst","Analyst","India",{"$f":"VLOOKUP(tblSalaries[[#This Row],[Where do you work]],[1]!tblCountries[[Actual]:[Mapping]],2,FALSE)","v":"India"},"All the 8 hours baby, all the 8!",7]
["ID0702","2012-05-26T13:46:52",370000,"INR",{"$f":"tblSalaries[[#This Row],[clean Salary (in local currency)]]*VLOOKUP(tblSalaries[[#This Row],[Currency]],[1]!tblXrate[#Data],2,FALSE)","v":6588.9291743537506},"Operations Analyst","Analyst","India",{"$f":"VLOOKUP(tblSalaries[[#This Row],[Where do you work]],[1]!tblCountries[[Actual]:[Mapping]],2,FALSE)","v":"India"},"All the 8 hours baby, all the 8!",2]
["ID0703","2012-05-26T13:47:06",370000,"INR",{"$f":"tblSalaries[[#This Row],[clean Salary (in local currency)]]*VLOOKUP(tblSalaries[[#This Row],[Currency]],[1]!tblXrate[#Data],2,FALSE)","v":6588.9291743537506},"Operations Analyst","Analyst","India",{"$f":"VLOOKUP(tblSalaries[[#This Row],[Where do you work]],[1]!tblCountries[[Actual]:[Mapping]],2,FALSE)","v":"India"},"All the 8 hours baby, all the 8!",2]
["ID0704","2012-05-26T13:49:54",35000,"USD",{"$f":"tblSalaries[[#This Row],[clean Salary (in local currency)]]*VLOOKUP(tblSalaries[[#This Row],[Currency]],[1]!tblXrate[#Data],2,FALSE)","v":35000},"IT Specialist","Specialist","USA",{"$f":"VLOOKUP(tblSalaries[[#This Row],[Where do you work]],[1]!tblCountries[[Actual]:[Mapping]],2,FALSE)","v":"USA"},"4 to 6 hours a day",10]
["ID0705","2012-05-26T13:57:11",720000,"INR",{"$f":"tblSalaries[[#This Row],[clean Salary (in local currency)]]*VLOOKUP(tblSalaries[[#This Row],[Currency]],[1]!tblXrate[#Data],2,FALSE)","v":12821.700014958649},"Cost Accountant","Accountant","India",{"$f":"VLOOKUP(tblSalaries[[#This Row],[Where do you work]],[1]!tblCountries[[Actual]:[Mapping]],2,FALSE)","v":"India"},"4 to 6 hours a day",4]
["ID0706","2012-05-26T14:01:00",600000,"INR",{"$f":"tblSalaries[[#This Row],[clean Salary (in local currency)]]*VLOOKUP(tblSalaries[[#This Row],[Currency]],[1]!tblXrate[#Data],2,FALSE)","v":10684.750012465542},"senior executive","Manager","India",{"$f":"VLOOKUP(tblSalaries[[#This Row],[Where do you work]],[1]!tblCountries[[Actual]:[Mapping]],2,FALSE)","v":"India"},"1 or 2 hours a day",2]
["ID0707","2012-05-26T14:01:09",10000,"USD",{"$f":"tblSalaries[[#This Row],[clean Salary (in local currency)]]*VLOOKUP(tblSalaries[[#This Row],[Currency]],[1]!tblXrate[#Data],2,FALSE)","v":10000},"Executive","Manager","India",{"$f":"VLOOKUP(tblSalaries[[#This Row],[Where do you work]],[1]!tblCountries[[Actual]:[Mapping]],2,FALSE)","v":"India"},"4 to 6 hours a day",2]
["ID0708","2012-05-26T14:04:35",120000,"INR",{"$f":"tblSalaries[[#This Row],[clean Salary (in local currency)]]*VLOOKUP(tblSalaries[[#This Row],[Currency]],[1]!tblXrate[#Data],2,FALSE)","v":2136.9500024931081},"Intern","Analyst","India",{"$f":"VLOOKUP(tblSalaries[[#This Row],[Where do you work]],[1]!tblCountries[[Actual]:[Mapping]],2,FALSE)","v":"India"},"1 or 2 hours a day",0]
["ID0709","2012-05-26T14:10:51",480000,"INR",{"$f":"tblSalaries[[#This Row],[clean Salary (in local currency)]]*VLOOKUP(tblSalaries[[#This Row],[Currency]],[1]!tblXrate[#Data],2,FALSE)","v":8547.8000099724322},"Business Analyst","Analyst","India",{"$f":"VLOOKUP(tblSalaries[[#This Row],[Where do you work]],[1]!tblCountries[[Actual]:[Mapping]],2,FALSE)","v":"India"},"4 to 6 hours a day",4]
["ID0710","2012-05-26T14:11:52",450000,"INR",{"$f":"tblSalaries[[#This Row],[clean Salary (in local currency)]]*VLOOKUP(tblSalaries[[#This Row],[Currency]],[1]!tblXrate[#Data],2,FALSE)","v":8013.5625093491553},"Data Analyst","Analyst","India",{"$f":"VLOOKUP(tblSalaries[[#This Row],[Where do you work]],[1]!tblCountries[[Actual]:[Mapping]],2,FALSE)","v":"India"},"All the 8 hours baby, all the 8!",8]
["ID0711","2012-05-26T14:14:35",400000,"INR",{"$f":"tblSalaries[[#This Row],[clean Salary (in local currency)]]*VLOOKUP(tblSalaries[[#This Row],[Currency]],[1]!tblXrate[#Data],2,FALSE)","v":7123.1666749770275},"Consultant","Consultant","India",{"$f":"VLOOKUP(tblSalaries[[#This Row],[Where do you work]],[1]!tblCountries[[Actual]:[Mapping]],2,FALSE)","v":"India"},"4 to 6 hours a day",0]
["ID0712","2012-05-26T14:16:14",2300000,"INR",{"$f":"tblSalaries[[#This Row],[clean Salary (in local currency)]]*VLOOKUP(tblSalaries[[#This Row],[Currency]],[1]!tblXrate[#Data],2,FALSE)","v":40958.208381117904},"analyst","Analyst","India",{"$f":"VLOOKUP(tblSalaries[[#This Row],[Where do you work]],[1]!tblCountries[[Actual]:[Mapping]],2,FALSE)","v":"India"},"All the 8 hours baby, all the 8!",5]
["ID0713","2012-05-26T14:18:11",636000,"INR",{"$f":"tblSalaries[[#This Row],[clean Salary (in local currency)]]*VLOOKUP(tblSalaries[[#This Row],[Currency]],[1]!tblXrate[#Data],2,FALSE)","v":11325.835013213473},"Audit Manager","Manager","India",{"$f":"VLOOKUP(tblSalaries[[#This Row],[Where do you work]],[1]!tblCountries[[Actual]:[Mapping]],2,FALSE)","v":"India"},"4 to 6 hours a day",2]
["ID0714","2012-05-26T14:20:23",15000,"USD",{"$f":"tblSalaries[[#This Row],[clean Salary (in local currency)]]*VLOOKUP(tblSalaries[[#This Row],[Currency]],[1]!tblXrate[#Data],2,FALSE)","v":15000},"Audit - senior assistant","Accountant","Lithuania",{"$f":"VLOOKUP(tblSalaries[[#This Row],[Where do you work]],[1]!tblCountries[[Actual]:[Mapping]],2,FALSE)","v":"Lithuania"},"4 to 6 hours a day",2]
["ID0715","2012-05-26T14:22:05",12000,"USD",{"$f":"tblSalaries[[#This Row],[clean Salary (in local currency)]]*VLOOKUP(tblSalaries[[#This Row],[Currency]],[1]!tblXrate[#Data],2,FALSE)","v":12000},"tech operator (oil)","Analyst","uae",{"$f":"VLOOKUP(tblSalaries[[#This Row],[Where do you work]],[1]!tblCountries[[Actual]:[Mapping]],2,FALSE)","v":"UAE"},"4 to 6 hours a day",12]
["ID0716","2012-05-26T14:23:48",500000,"INR",{"$f":"tblSalaries[[#This Row],[clean Salary (in local currency)]]*VLOOKUP(tblSalaries[[#This Row],[Currency]],[1]!tblXrate[#Data],2,FALSE)","v":8903.9583437212841},"mis ","Reporting","India",{"$f":"VLOOKUP(tblSalaries[[#This Row],[Where do you work]],[1]!tblCountries[[Actual]:[Mapping]],2,FALSE)","v":"India"},"2 to 3 hours per day",1]
["ID0717","2012-05-26T14:33:11",500000,"INR",{"$f":"tblSalaries[[#This Row],[clean Salary (in local currency)]]*VLOOKUP(tblSalaries[[#This Row],[Currency]],[1]!tblXrate[#Data],2,FALSE)","v":8903.9583437212841},"Engineer","Engineer","India",{"$f":"VLOOKUP(tblSalaries[[#This Row],[Where do you work]],[1]!tblCountries[[Actual]:[Mapping]],2,FALSE)","v":"India"},"All the 8 hours baby, all the 8!",2]
["ID0718","2012-05-26T14:35:48",720000,"INR",{"$f":"tblSalaries[[#This Row],[clean Salary (in local currency)]]*VLOOKUP(tblSalaries[[#This Row],[Currency]],[1]!tblXrate[#Data],2,FALSE)","v":12821.700014958649},"Asstt manager","Manager","India",{"$f":"VLOOKUP(tblSalaries[[#This Row],[Where do you work]],[1]!tblCountries[[Actual]:[Mapping]],2,FALSE)","v":"India"},"All the 8 hours baby, all the 8!",10]
["ID0719","2012-05-26T14:41:00",180000,"INR",{"$f":"tblSalaries[[#This Row],[clean Salary (in local currency)]]*VLOOKUP(tblSalaries[[#This Row],[Currency]],[1]!tblXrate[#Data],2,FALSE)","v":3205.4250037396623},"Import & Export Documentation Executive","Manager","India",{"$f":"VLOOKUP(tblSalaries[[#This Row],[Where do you work]],[1]!tblCountries[[Actual]:[Mapping]],2,FALSE)","v":"India"},"All the 8 hours baby, all the 8!",7]
["ID0720","2012-05-26T14:46:55",375000,"INR",{"$f":"tblSalaries[[#This Row],[clean Salary (in local currency)]]*VLOOKUP(tblSalaries[[#This Row],[Currency]],[1]!tblXrate[#Data],2,FALSE)","v":6677.9687577909626},"Team Lead","Manager","India",{"$f":"VLOOKUP(tblSalaries[[#This Row],[Where do you work]],[1]!tblCountries[[Actual]:[Mapping]],2,FALSE)","v":"India"},"2 to 3 hours per day",6]
["ID0721","2012-05-26T14:51:02",85000,"NZD",{"$f":"tblSalaries[[#This Row],[clean Salary (in local currency)]]*VLOOKUP(tblSalaries[[#This Row],[Currency]],[1]!tblXrate[#Data],2,FALSE)","v":67794.987956419791},"Systems Manager","Manager","New Zealand",{"$f":"VLOOKUP(tblSalaries[[#This Row],[Where do you work]],[1]!tblCountries[[Actual]:[Mapping]],2,FALSE)","v":"New Zealand"},"4 to 6 hours a day",15]
["ID0722","2012-05-26T14:57:39",31250,"USD",{"$f":"tblSalaries[[#This Row],[clean Salary (in local currency)]]*VLOOKUP(tblSalaries[[#This Row],[Currency]],[1]!tblXrate[#Data],2,FALSE)","v":31250},"Program management","Manager","India",{"$f":"VLOOKUP(tblSalaries[[#This Row],[Where do you work]],[1]!tblCountries[[Actual]:[Mapping]],2,FALSE)","v":"India"},"2 to 3 hours per day",6]
["ID0723","2012-05-26T14:57:45",204000,"PKR",{"$f":"tblSalaries[[#This Row],[clean Salary (in local currency)]]*VLOOKUP(tblSalaries[[#This Row],[Currency]],[1]!tblXrate[#Data],2,FALSE)","v":2165.2740982270229},"Accounts Manager","Manager","Pakistan",{"$f":"VLOOKUP(tblSalaries[[#This Row],[Where do you work]],[1]!tblCountries[[Actual]:[Mapping]],2,FALSE)","v":"Pakistan"},"All the 8 hours baby, all the 8!",2]
["ID0724","2012-05-26T14:58:24",400000,"INR",{"$f":"tblSalaries[[#This Row],[clean Salary (in local currency)]]*VLOOKUP(tblSalaries[[#This Row],[Currency]],[1]!tblXrate[#Data],2,FALSE)","v":7123.1666749770275},"sr. mis executive","Reporting","India",{"$f":"VLOOKUP(tblSalaries[[#This Row],[Where do you work]],[1]!tblCountries[[Actual]:[Mapping]],2,FALSE)","v":"India"},"All the 8 hours baby, all the 8!",4]
["ID0725","2012-05-26T15:01:00",130000,"USD",{"$f":"tblSalaries[[#This Row],[clean Salary (in local currency)]]*VLOOKUP(tblSalaries[[#This Row],[Currency]],[1]!tblXrate[#Data],2,FALSE)","v":130000},"Modeller","Manager","Australia",{"$f":"VLOOKUP(tblSalaries[[#This Row],[Where do you work]],[1]!tblCountries[[Actual]:[Mapping]],2,FALSE)","v":"Australia"},"4 to 6 hours a day",3]
["ID0726","2012-05-26T15:01:41",250000,"INR",{"$f":"tblSalaries[[#This Row],[clean Salary (in local currency)]]*VLOOKUP(tblSalaries[[#This Row],[Currency]],[1]!tblXrate[#Data],2,FALSE)","v":4451.9791718606421},"Asst. Manager","Manager","India",{"$f":"VLOOKUP(tblSalaries[[#This Row],[Where do you work]],[1]!tblCountries[[Actual]:[Mapping]],2,FALSE)","v":"India"},"4 to 6 hours a day",6]
["ID0727","2012-05-26T15:02:34",9600,"USD",{"$f":"tblSalaries[[#This Row],[clean Salary (in local currency)]]*VLOOKUP(tblSalaries[[#This Row],[Currency]],[1]!tblXrate[#Data],2,FALSE)","v":9600},"Admin","Analyst","South Africa",{"$f":"VLOOKUP(tblSalaries[[#This Row],[Where do you work]],[1]!tblCountries[[Actual]:[Mapping]],2,FALSE)","v":"South Africa"},"4 to 6 hours a day",2]
["ID0728","2012-05-26T15:04:33",390000,"INR",{"$f":"tblSalaries[[#This Row],[clean Salary (in local currency)]]*VLOOKUP(tblSalaries[[#This Row],[Currency]],[1]!tblXrate[#Data],2,FALSE)","v":6945.0875081026015},"Business Analyst","Analyst","India",{"$f":"VLOOKUP(tblSalaries[[#This Row],[Where do you work]],[1]!tblCountries[[Actual]:[Mapping]],2,FALSE)","v":"India"},"4 to 6 hours a day",1]
["ID0729","2012-05-26T15:05:42",600000,"INR",{"$f":"tblSalaries[[#This Row],[clean Salary (in local currency)]]*VLOOKUP(tblSalaries[[#This Row],[Currency]],[1]!tblXrate[#Data],2,FALSE)","v":10684.750012465542},"Sr Financial Execative","Accountant","India",{"$f":"VLOOKUP(tblSalaries[[#This Row],[Where do you work]],[1]!tblCountries[[Actual]:[Mapping]],2,FALSE)","v":"India"},"All the 8 hours baby, all the 8!",7]
["ID0730","2012-05-26T15:06:00",480000,"INR",{"$f":"tblSalaries[[#This Row],[clean Salary (in local currency)]]*VLOOKUP(tblSalaries[[#This Row],[Currency]],[1]!tblXrate[#Data],2,FALSE)","v":8547.8000099724322},"Asst Mngr","Analyst","India",{"$f":"VLOOKUP(tblSalaries[[#This Row],[Where do you work]],[1]!tblCountries[[Actual]:[Mapping]],2,FALSE)","v":"India"},"2 to 3 hours per day",3.5]
["ID0731","2012-05-26T15:07:39",35000,"USD",{"$f":"tblSalaries[[#This Row],[clean Salary (in local currency)]]*VLOOKUP(tblSalaries[[#This Row],[Currency]],[1]!tblXrate[#Data],2,FALSE)","v":35000},"Associate","Analyst","India",{"$f":"VLOOKUP(tblSalaries[[#This Row],[Where do you work]],[1]!tblCountries[[Actual]:[Mapping]],2,FALSE)","v":"India"},"4 to 6 hours a day",10]
["ID0732","2012-05-26T15:09:27",1000000,"INR",{"$f":"tblSalaries[[#This Row],[clean Salary (in local currency)]]*VLOOKUP(tblSalaries[[#This Row],[Currency]],[1]!tblXrate[#Data],2,FALSE)","v":17807.916687442568},"Sr Associate","Analyst","India",{"$f":"VLOOKUP(tblSalaries[[#This Row],[Where do you work]],[1]!tblCountries[[Actual]:[Mapping]],2,FALSE)","v":"India"},"2 to 3 hours per day",12]
["ID0733","2012-05-26T15:21:41",180000,"INR",{"$f":"tblSalaries[[#This Row],[clean Salary (in local currency)]]*VLOOKUP(tblSalaries[[#This Row],[Currency]],[1]!tblXrate[#Data],2,FALSE)","v":3205.4250037396623},"Accountant","Accountant","India",{"$f":"VLOOKUP(tblSalaries[[#This Row],[Where do you work]],[1]!tblCountries[[Actual]:[Mapping]],2,FALSE)","v":"India"},"All the 8 hours baby, all the 8!",4]
["ID0734","2012-05-26T15:24:32",60000,"USD",{"$f":"tblSalaries[[#This Row],[clean Salary (in local currency)]]*VLOOKUP(tblSalaries[[#This Row],[Currency]],[1]!tblXrate[#Data],2,FALSE)","v":60000},"Manager","Manager","Russia",{"$f":"VLOOKUP(tblSalaries[[#This Row],[Where do you work]],[1]!tblCountries[[Actual]:[Mapping]],2,FALSE)","v":"Russia"},"4 to 6 hours a day",10]
["ID0735","2012-05-26T15:27:48",800000,"INR",{"$f":"tblSalaries[[#This Row],[clean Salary (in local currency)]]*VLOOKUP(tblSalaries[[#This Row],[Currency]],[1]!tblXrate[#Data],2,FALSE)","v":14246.333349954055},"Manager","Manager","India",{"$f":"VLOOKUP(tblSalaries[[#This Row],[Where do you work]],[1]!tblCountries[[Actual]:[Mapping]],2,FALSE)","v":"India"},"2 to 3 hours per day",13]
["ID0736","2012-05-26T15:30:23",600000,"INR",{"$f":"tblSalaries[[#This Row],[clean Salary (in local currency)]]*VLOOKUP(tblSalaries[[#This Row],[Currency]],[1]!tblXrate[#Data],2,FALSE)","v":10684.750012465542},"ERP Co-Ordinator","Manager","India",{"$f":"VLOOKUP(tblSalaries[[#This Row],[Where do you work]],[1]!tblCountries[[Actual]:[Mapping]],2,FALSE)","v":"India"},"2 to 3 hours per day",8]
["ID0737","2012-05-26T15:35:43",40000,"USD",{"$f":"tblSalaries[[#This Row],[clean Salary (in local currency)]]*VLOOKUP(tblSalaries[[#This Row],[Currency]],[1]!tblXrate[#Data],2,FALSE)","v":40000},"Revenue Manager","Manager","India",{"$f":"VLOOKUP(tblSalaries[[#This Row],[Where do you work]],[1]!tblCountries[[Actual]:[Mapping]],2,FALSE)","v":"India"},"All the 8 hours baby, all the 8!",15]
["ID0738","2012-05-26T15:44:32",5022,"USD",{"$f":"tblSalaries[[#This Row],[clean Salary (in local currency)]]*VLOOKUP(tblSalaries[[#This Row],[Currency]],[1]!tblXrate[#Data],2,FALSE)","v":5022},"Accounts analyst","Analyst","Pakistan",{"$f":"VLOOKUP(tblSalaries[[#This Row],[Where do you work]],[1]!tblCountries[[Actual]:[Mapping]],2,FALSE)","v":"Pakistan"},"4 to 6 hours a day",15]
["ID0739","2012-05-26T15:51:11",410000,"INR",{"$f":"tblSalaries[[#This Row],[clean Salary (in local currency)]]*VLOOKUP(tblSalaries[[#This Row],[Currency]],[1]!tblXrate[#Data],2,FALSE)","v":7301.2458418514525},"MIS Analyst","Analyst","India",{"$f":"VLOOKUP(tblSalaries[[#This Row],[Where do you work]],[1]!tblCountries[[Actual]:[Mapping]],2,FALSE)","v":"India"},"All the 8 hours baby, all the 8!",5]
["ID0740","2012-05-26T15:53:10",120000,"EGYPT",{"$f":"tblSalaries[[#This Row],[clean Salary (in local currency)]]*VLOOKUP(tblSalaries[[#This Row],[Currency]],[1]!tblXrate[#Data],2,FALSE)","v":19831.432821021317},"Estimator","Analyst","Egypt",{"$f":"VLOOKUP(tblSalaries[[#This Row],[Where do you work]],[1]!tblCountries[[Actual]:[Mapping]],2,FALSE)","v":"Egypt"},"All the 8 hours baby, all the 8!",5]
["ID0741","2012-05-26T15:54:00",600000,"INR",{"$f":"tblSalaries[[#This Row],[clean Salary (in local currency)]]*VLOOKUP(tblSalaries[[#This Row],[Currency]],[1]!tblXrate[#Data],2,FALSE)","v":10684.750012465542},"Finance Manager","Manager","India",{"$f":"VLOOKUP(tblSalaries[[#This Row],[Where do you work]],[1]!tblCountries[[Actual]:[Mapping]],2,FALSE)","v":"India"},"4 to 6 hours a day",5]
["ID0742","2012-05-26T15:56:57",4800,"USD",{"$f":"tblSalaries[[#This Row],[clean Salary (in local currency)]]*VLOOKUP(tblSalaries[[#This Row],[Currency]],[1]!tblXrate[#Data],2,FALSE)","v":4800},"Data Analysis","Analyst","Bhutan",{"$f":"VLOOKUP(tblSalaries[[#This Row],[Where do you work]],[1]!tblCountries[[Actual]:[Mapping]],2,FALSE)","v":"Bhutan"},"4 to 6 hours a day",2]
["ID0743","2012-05-26T15:59:44",66000,"EUR",{"$f":"tblSalaries[[#This Row],[clean Salary (in local currency)]]*VLOOKUP(tblSalaries[[#This Row],[Currency]],[1]!tblXrate[#Data],2,FALSE)","v":83846.362973446114},"Logistics Analyst","Analyst","germany",{"$f":"VLOOKUP(tblSalaries[[#This Row],[Where do you work]],[1]!tblCountries[[Actual]:[Mapping]],2,FALSE)","v":"Germany"},"4 to 6 hours a day",7]
["ID0744","2012-05-26T16:01:54",15000,"USD",{"$f":"tblSalaries[[#This Row],[clean Salary (in local currency)]]*VLOOKUP(tblSalaries[[#This Row],[Currency]],[1]!tblXrate[#Data],2,FALSE)","v":15000},"PROCSS ASOCIATE","Controller","India",{"$f":"VLOOKUP(tblSalaries[[#This Row],[Where do you work]],[1]!tblCountries[[Actual]:[Mapping]],2,FALSE)","v":"India"},"2 to 3 hours per day",2]
["ID0745","2012-05-26T16:05:02",10000,"USD",{"$f":"tblSalaries[[#This Row],[clean Salary (in local currency)]]*VLOOKUP(tblSalaries[[#This Row],[Currency]],[1]!tblXrate[#Data],2,FALSE)","v":10000},"Reporting Analyst","Analyst","India",{"$f":"VLOOKUP(tblSalaries[[#This Row],[Where do you work]],[1]!tblCountries[[Actual]:[Mapping]],2,FALSE)","v":"India"},"4 to 6 hours a day",12]
["ID0746","2012-05-26T16:10:08",74000,"GBP",{"$f":"tblSalaries[[#This Row],[clean Salary (in local currency)]]*VLOOKUP(tblSalaries[[#This Row],[Currency]],[1]!tblXrate[#Data],2,FALSE)","v":116637.19213297902},"Corporate Finance Manager","Manager","UK",{"$f":"VLOOKUP(tblSalaries[[#This Row],[Where do you work]],[1]!tblCountries[[Actual]:[Mapping]],2,FALSE)","v":"UK"},"4 to 6 hours a day",5]
["ID0747","2012-05-26T16:12:09",21798,"GBP",{"$f":"tblSalaries[[#This Row],[clean Salary (in local currency)]]*VLOOKUP(tblSalaries[[#This Row],[Currency]],[1]!tblXrate[#Data],2,FALSE)","v":34357.533974522659},"Data Analyst","Analyst","UK",{"$f":"VLOOKUP(tblSalaries[[#This Row],[Where do you work]],[1]!tblCountries[[Actual]:[Mapping]],2,FALSE)","v":"UK"},"All the 8 hours baby, all the 8!",1.5]
["ID0748","2012-05-26T16:16:39",65000,"GBP",{"$f":"tblSalaries[[#This Row],[clean Salary (in local currency)]]*VLOOKUP(tblSalaries[[#This Row],[Currency]],[1]!tblXrate[#Data],2,FALSE)","v":102451.58768437347},"compliance manager","Manager","UK",{"$f":"VLOOKUP(tblSalaries[[#This Row],[Where do you work]],[1]!tblCountries[[Actual]:[Mapping]],2,FALSE)","v":"UK"},"4 to 6 hours a day",15]
["ID0749","2012-05-26T16:23:30",16000,"USD",{"$f":"tblSalaries[[#This Row],[clean Salary (in local currency)]]*VLOOKUP(tblSalaries[[#This Row],[Currency]],[1]!tblXrate[#Data],2,FALSE)","v":16000},"Engineer","Engineer","India",{"$f":"VLOOKUP(tblSalaries[[#This Row],[Where do you work]],[1]!tblCountries[[Actual]:[Mapping]],2,FALSE)","v":"India"},"2 to 3 hours per day",5]
["ID0750","2012-05-26T16:25:53",6000,"USD",{"$f":"tblSalaries[[#This Row],[clean Salary (in local currency)]]*VLOOKUP(tblSalaries[[#This Row],[Currency]],[1]!tblXrate[#Data],2,FALSE)","v":6000},"Merchandiser","Manager","India",{"$f":"VLOOKUP(tblSalaries[[#This Row],[Where do you work]],[1]!tblCountries[[Actual]:[Mapping]],2,FALSE)","v":"India"},"2 to 3 hours per day",6]
["ID0751","2012-05-26T16:26:35",360000,"INR",{"$f":"tblSalaries[[#This Row],[clean Salary (in local currency)]]*VLOOKUP(tblSalaries[[#This Row],[Currency]],[1]!tblXrate[#Data],2,FALSE)","v":6410.8500074793246},"Project Lead","Manager","India",{"$f":"VLOOKUP(tblSalaries[[#This Row],[Where do you work]],[1]!tblCountries[[Actual]:[Mapping]],2,FALSE)","v":"India"},"All the 8 hours baby, all the 8!",6]
["ID0752","2012-05-26T16:29:36",36000,"USD",{"$f":"tblSalaries[[#This Row],[clean Salary (in local currency)]]*VLOOKUP(tblSalaries[[#This Row],[Currency]],[1]!tblXrate[#Data],2,FALSE)","v":36000},"ENGINEER","Engineer","uae",{"$f":"VLOOKUP(tblSalaries[[#This Row],[Where do you work]],[1]!tblCountries[[Actual]:[Mapping]],2,FALSE)","v":"UAE"},"1 or 2 hours a day",7]
["ID0753","2012-05-26T16:33:58",20000,"USD",{"$f":"tblSalaries[[#This Row],[clean Salary (in local currency)]]*VLOOKUP(tblSalaries[[#This Row],[Currency]],[1]!tblXrate[#Data],2,FALSE)","v":20000},"engineer","Engineer","India",{"$f":"VLOOKUP(tblSalaries[[#This Row],[Where do you work]],[1]!tblCountries[[Actual]:[Mapping]],2,FALSE)","v":"India"},"1 or 2 hours a day",7]
["ID0754","2012-05-26T16:34:18",240000,"INR",{"$f":"tblSalaries[[#This Row],[clean Salary (in local currency)]]*VLOOKUP(tblSalaries[[#This Row],[Currency]],[1]!tblXrate[#Data],2,FALSE)","v":4273.9000049862161},"SR. ACCOUNTS EXECUTIVE","Accountant","India",{"$f":"VLOOKUP(tblSalaries[[#This Row],[Where do you work]],[1]!tblCountries[[Actual]:[Mapping]],2,FALSE)","v":"India"},"4 to 6 hours a day",8]
["ID0755","2012-05-26T16:34:57",24000,"GBP",{"$f":"tblSalaries[[#This Row],[clean Salary (in local currency)]]*VLOOKUP(tblSalaries[[#This Row],[Currency]],[1]!tblXrate[#Data],2,FALSE)","v":37828.278529614821},"Business Support Specialist","Specialist","UK",{"$f":"VLOOKUP(tblSalaries[[#This Row],[Where do you work]],[1]!tblCountries[[Actual]:[Mapping]],2,FALSE)","v":"UK"},"All the 8 hours baby, all the 8!",8]
["ID0756","2012-05-26T16:50:08",11000,"USD",{"$f":"tblSalaries[[#This Row],[clean Salary (in local currency)]]*VLOOKUP(tblSalaries[[#This Row],[Currency]],[1]!tblXrate[#Data],2,FALSE)","v":11000},"Assistant Manager - Group MIS","Manager","Sri Lanka",{"$f":"VLOOKUP(tblSalaries[[#This Row],[Where do you work]],[1]!tblCountries[[Actual]:[Mapping]],2,FALSE)","v":"Sri Lanka"},"All the 8 hours baby, all the 8!",4.5]
["ID0757","2012-05-26T16:50:46",8000,"USD",{"$f":"tblSalaries[[#This Row],[clean Salary (in local currency)]]*VLOOKUP(tblSalaries[[#This Row],[Currency]],[1]!tblXrate[#Data],2,FALSE)","v":8000},"Business Analyst","Analyst","India",{"$f":"VLOOKUP(tblSalaries[[#This Row],[Where do you work]],[1]!tblCountries[[Actual]:[Mapping]],2,FALSE)","v":"India"},"2 to 3 hours per day",6]
["ID0758","2012-05-26T17:02:46",225000,"INR",{"$f":"tblSalaries[[#This Row],[clean Salary (in local currency)]]*VLOOKUP(tblSalaries[[#This Row],[Currency]],[1]!tblXrate[#Data],2,FALSE)","v":4006.7812546745777},"MIS Executive","Reporting","India",{"$f":"VLOOKUP(tblSalaries[[#This Row],[Where do you work]],[1]!tblCountries[[Actual]:[Mapping]],2,FALSE)","v":"India"},"All the 8 hours baby, all the 8!",5.5]
["ID0759","2012-05-26T17:03:02",1488000,"NAIRA",{"$f":"tblSalaries[[#This Row],[clean Salary (in local currency)]]*VLOOKUP(tblSalaries[[#This Row],[Currency]],[1]!tblXrate[#Data],2,FALSE)","v":9171.0323574730355},"Company Systems Integration Manager","Manager","Nigeria",{"$f":"VLOOKUP(tblSalaries[[#This Row],[Where do you work]],[1]!tblCountries[[Actual]:[Mapping]],2,FALSE)","v":"Nigeria"},"2 to 3 hours per day",5]
["ID0760","2012-05-26T17:03:26",240000,"INR",{"$f":"tblSalaries[[#This Row],[clean Salary (in local currency)]]*VLOOKUP(tblSalaries[[#This Row],[Currency]],[1]!tblXrate[#Data],2,FALSE)","v":4273.9000049862161},"EXECUTIVE","Analyst","India",{"$f":"VLOOKUP(tblSalaries[[#This Row],[Where do you work]],[1]!tblCountries[[Actual]:[Mapping]],2,FALSE)","v":"India"},"2 to 3 hours per day",20]
["ID0761","2012-05-26T17:04:23",700000,"INR",{"$f":"tblSalaries[[#This Row],[clean Salary (in local currency)]]*VLOOKUP(tblSalaries[[#This Row],[Currency]],[1]!tblXrate[#Data],2,FALSE)","v":12465.541681209797},"Sales Management Analyst","Analyst","India",{"$f":"VLOOKUP(tblSalaries[[#This Row],[Where do you work]],[1]!tblCountries[[Actual]:[Mapping]],2,FALSE)","v":"India"},"All the 8 hours baby, all the 8!",5]
["ID0762","2012-05-26T17:06:48",24000,"USD",{"$f":"tblSalaries[[#This Row],[clean Salary (in local currency)]]*VLOOKUP(tblSalaries[[#This Row],[Currency]],[1]!tblXrate[#Data],2,FALSE)","v":24000},"Asst Production Planner","Analyst","India",{"$f":"VLOOKUP(tblSalaries[[#This Row],[Where do you work]],[1]!tblCountries[[Actual]:[Mapping]],2,FALSE)","v":"India"},"2 to 3 hours per day",1]
["ID0763","2012-05-26T17:07:30",20000,"USD",{"$f":"tblSalaries[[#This Row],[clean Salary (in local currency)]]*VLOOKUP(tblSalaries[[#This Row],[Currency]],[1]!tblXrate[#Data],2,FALSE)","v":20000},"Consultat","Consultant","Denmark",{"$f":"VLOOKUP(tblSalaries[[#This Row],[Where do you work]],[1]!tblCountries[[Actual]:[Mapping]],2,FALSE)","v":"Denmark"},"2 to 3 hours per day",15]
["ID0764","2012-05-26T17:08:09",62000,"USD",{"$f":"tblSalaries[[#This Row],[clean Salary (in local currency)]]*VLOOKUP(tblSalaries[[#This Row],[Currency]],[1]!tblXrate[#Data],2,FALSE)","v":62000},"System Analyst ","Analyst","USA",{"$f":"VLOOKUP(tblSalaries[[#This Row],[Where do you work]],[1]!tblCountries[[Actual]:[Mapping]],2,FALSE)","v":"USA"},"2 to 3 hours per day",20]
["ID0765","2012-05-26T17:09:24",14960,"USD",{"$f":"tblSalaries[[#This Row],[clean Salary (in local currency)]]*VLOOKUP(tblSalaries[[#This Row],[Currency]],[1]!tblXrate[#Data],2,FALSE)","v":14960},"Stock Controller","Controller","Saudi Arabia",{"$f":"VLOOKUP(tblSalaries[[#This Row],[Where do you work]],[1]!tblCountries[[Actual]:[Mapping]],2,FALSE)","v":"Saudi Arabia"},"All the 8 hours baby, all the 8!",2]
["ID0766","2012-05-26T17:10:20",120000,"INR",{"$f":"tblSalaries[[#This Row],[clean Salary (in local currency)]]*VLOOKUP(tblSalaries[[#This Row],[Currency]],[1]!tblXrate[#Data],2,FALSE)","v":2136.9500024931081},"ACCOUNTANT","Accountant","India",{"$f":"VLOOKUP(tblSalaries[[#This Row],[Where do you work]],[1]!tblCountries[[Actual]:[Mapping]],2,FALSE)","v":"India"},"2 to 3 hours per day",2]
["ID0767","2012-05-26T17:24:41",30232,"USD",{"$f":"tblSalaries[[#This Row],[clean Salary (in local currency)]]*VLOOKUP(tblSalaries[[#This Row],[Currency]],[1]!tblXrate[#Data],2,FALSE)","v":30232},"Accounts Supervisor","Accountant","KSA",{"$f":"VLOOKUP(tblSalaries[[#This Row],[Where do you work]],[1]!tblCountries[[Actual]:[Mapping]],2,FALSE)","v":"USA"},"2 to 3 hours per day",5]
["ID0768","2012-05-26T17:24:41",41000,"USD",{"$f":"tblSalaries[[#This Row],[clean Salary (in local currency)]]*VLOOKUP(tblSalaries[[#This Row],[Currency]],[1]!tblXrate[#Data],2,FALSE)","v":41000},"Business Analyst","Analyst","USA",{"$f":"VLOOKUP(tblSalaries[[#This Row],[Where do you work]],[1]!tblCountries[[Actual]:[Mapping]],2,FALSE)","v":"USA"},"All the 8 hours baby, all the 8!",4]
["ID0769","2012-05-26T17:31:56",95000,"AUD",{"$f":"tblSalaries[[#This Row],[clean Salary (in local currency)]]*VLOOKUP(tblSalaries[[#This Row],[Currency]],[1]!tblXrate[#Data],2,FALSE)","v":96891.417358250401},"Data Analyst - Report Writer","Analyst","Australia",{"$f":"VLOOKUP(tblSalaries[[#This Row],[Where do you work]],[1]!tblCountries[[Actual]:[Mapping]],2,FALSE)","v":"Australia"},"2 to 3 hours per day",11]
["ID0770","2012-05-26T17:44:34",1200000,"INR",{"$f":"tblSalaries[[#This Row],[clean Salary (in local currency)]]*VLOOKUP(tblSalaries[[#This Row],[Currency]],[1]!tblXrate[#Data],2,FALSE)","v":21369.500024931083},"Regional Formwork Head ","Manager","India",{"$f":"VLOOKUP(tblSalaries[[#This Row],[Where do you work]],[1]!tblCountries[[Actual]:[Mapping]],2,FALSE)","v":"India"},"All the 8 hours baby, all the 8!",14]
["ID0771","2012-05-26T17:47:00",205000,"INR",{"$f":"tblSalaries[[#This Row],[clean Salary (in local currency)]]*VLOOKUP(tblSalaries[[#This Row],[Currency]],[1]!tblXrate[#Data],2,FALSE)","v":3650.6229209257262},"BRANCH ACCOUNTANT","Accountant","India",{"$f":"VLOOKUP(tblSalaries[[#This Row],[Where do you work]],[1]!tblCountries[[Actual]:[Mapping]],2,FALSE)","v":"India"},"All the 8 hours baby, all the 8!",10]
["ID0772","2012-05-26T17:47:10",19068,"USD",{"$f":"tblSalaries[[#This Row],[clean Salary (in local currency)]]*VLOOKUP(tblSalaries[[#This Row],[Currency]],[1]!tblXrate[#Data],2,FALSE)","v":19068},"Accounting Head","Accountant","Philippines",{"$f":"VLOOKUP(tblSalaries[[#This Row],[Where do you work]],[1]!tblCountries[[Actual]:[Mapping]],2,FALSE)","v":"Philippines"},"All the 8 hours baby, all the 8!",20]
["ID0773","2012-05-26T17:49:17",300000,"INR",{"$f":"tblSalaries[[#This Row],[clean Salary (in local currency)]]*VLOOKUP(tblSalaries[[#This Row],[Currency]],[1]!tblXrate[#Data],2,FALSE)","v":5342.3750062327708},"OPEX CONTROL","Controller","India",{"$f":"VLOOKUP(tblSalaries[[#This Row],[Where do you work]],[1]!tblCountries[[Actual]:[Mapping]],2,FALSE)","v":"India"},"All the 8 hours baby, all the 8!",4]
["ID0774","2012-05-26T17:51:27",48000,"USD",{"$f":"tblSalaries[[#This Row],[clean Salary (in local currency)]]*VLOOKUP(tblSalaries[[#This Row],[Currency]],[1]!tblXrate[#Data],2,FALSE)","v":48000},"Consultant","Consultant","Singapore",{"$f":"VLOOKUP(tblSalaries[[#This Row],[Where do you work]],[1]!tblCountries[[Actual]:[Mapping]],2,FALSE)","v":"Singapore"},"All the 8 hours baby, all the 8!",3]
["ID0775","2012-05-26T18:19:49",220000,"INR",{"$f":"tblSalaries[[#This Row],[clean Salary (in local currency)]]*VLOOKUP(tblSalaries[[#This Row],[Currency]],[1]!tblXrate[#Data],2,FALSE)","v":3917.7416712373652},"Associate Software Engineer","Engineer","India",{"$f":"VLOOKUP(tblSalaries[[#This Row],[Where do you work]],[1]!tblCountries[[Actual]:[Mapping]],2,FALSE)","v":"India"},"4 to 6 hours a day",2]
["ID0776","2012-05-26T18:29:06",13500,"USD",{"$f":"tblSalaries[[#This Row],[clean Salary (in local currency)]]*VLOOKUP(tblSalaries[[#This Row],[Currency]],[1]!tblXrate[#Data],2,FALSE)","v":13500},"MIS","Reporting","India",{"$f":"VLOOKUP(tblSalaries[[#This Row],[Where do you work]],[1]!tblCountries[[Actual]:[Mapping]],2,FALSE)","v":"India"},"All the 8 hours baby, all the 8!",2.5]
["ID0777","2012-05-26T18:35:20",45000,"USD",{"$f":"tblSalaries[[#This Row],[clean Salary (in local currency)]]*VLOOKUP(tblSalaries[[#This Row],[Currency]],[1]!tblXrate[#Data],2,FALSE)","v":45000},"AGM","Manager","India",{"$f":"VLOOKUP(tblSalaries[[#This Row],[Where do you work]],[1]!tblCountries[[Actual]:[Mapping]],2,FALSE)","v":"India"},"1 or 2 hours a day",15]
["ID0778","2012-05-26T18:38:41",55000,"EUR",{"$f":"tblSalaries[[#This Row],[clean Salary (in local currency)]]*VLOOKUP(tblSalaries[[#This Row],[Currency]],[1]!tblXrate[#Data],2,FALSE)","v":69871.969144538423},"CFO","CXO or Top Mgmt.","italy",{"$f":"VLOOKUP(tblSalaries[[#This Row],[Where do you work]],[1]!tblCountries[[Actual]:[Mapping]],2,FALSE)","v":"italy"},"2 to 3 hours per day",18]
["ID0779","2012-05-26T18:41:31",480000,"INR",{"$f":"tblSalaries[[#This Row],[clean Salary (in local currency)]]*VLOOKUP(tblSalaries[[#This Row],[Currency]],[1]!tblXrate[#Data],2,FALSE)","v":8547.8000099724322},"Banker","Manager","India",{"$f":"VLOOKUP(tblSalaries[[#This Row],[Where do you work]],[1]!tblCountries[[Actual]:[Mapping]],2,FALSE)","v":"India"},"4 to 6 hours a day",11]
["ID0780","2012-05-26T18:44:00",33600,"AED",{"$f":"tblSalaries[[#This Row],[clean Salary (in local currency)]]*VLOOKUP(tblSalaries[[#This Row],[Currency]],[1]!tblXrate[#Data],2,FALSE)","v":9146.5655463031271},"Accountant","Accountant","Dubai",{"$f":"VLOOKUP(tblSalaries[[#This Row],[Where do you work]],[1]!tblCountries[[Actual]:[Mapping]],2,FALSE)","v":"Dubai"},"1 or 2 hours a day",7]
["ID0781","2012-05-26T18:56:52",570000,"INR",{"$f":"tblSalaries[[#This Row],[clean Salary (in local currency)]]*VLOOKUP(tblSalaries[[#This Row],[Currency]],[1]!tblXrate[#Data],2,FALSE)","v":10150.512511842264},"Analyst","Analyst","India",{"$f":"VLOOKUP(tblSalaries[[#This Row],[Where do you work]],[1]!tblCountries[[Actual]:[Mapping]],2,FALSE)","v":"India"},"All the 8 hours baby, all the 8!",2.4]
["ID0782","2012-05-26T19:07:55",636000,"INR",{"$f":"tblSalaries[[#This Row],[clean Salary (in local currency)]]*VLOOKUP(tblSalaries[[#This Row],[Currency]],[1]!tblXrate[#Data],2,FALSE)","v":11325.835013213473},"Program Manager","Manager","India",{"$f":"VLOOKUP(tblSalaries[[#This Row],[Where do you work]],[1]!tblCountries[[Actual]:[Mapping]],2,FALSE)","v":"India"},"4 to 6 hours a day",7]
["ID0783","2012-05-26T19:13:39",180000,"PKR",{"$f":"tblSalaries[[#This Row],[clean Salary (in local currency)]]*VLOOKUP(tblSalaries[[#This Row],[Currency]],[1]!tblXrate[#Data],2,FALSE)","v":1910.5359690238436},"S&D Reporting & Analysis Team Leader","Reporting","Pakistan",{"$f":"VLOOKUP(tblSalaries[[#This Row],[Where do you work]],[1]!tblCountries[[Actual]:[Mapping]],2,FALSE)","v":"Pakistan"},"All the 8 hours baby, all the 8!",7]
["ID0784","2012-05-26T19:22:53",36000,"USD",{"$f":"tblSalaries[[#This Row],[clean Salary (in local currency)]]*VLOOKUP(tblSalaries[[#This Row],[Currency]],[1]!tblXrate[#Data],2,FALSE)","v":36000},"Key Expert User","Manager","Australia",{"$f":"VLOOKUP(tblSalaries[[#This Row],[Where do you work]],[1]!tblCountries[[Actual]:[Mapping]],2,FALSE)","v":"Australia"},"2 to 3 hours per day",12]
["ID0785","2012-05-26T19:29:23",2250000,"INR",{"$f":"tblSalaries[[#This Row],[clean Salary (in local currency)]]*VLOOKUP(tblSalaries[[#This Row],[Currency]],[1]!tblXrate[#Data],2,FALSE)","v":40067.812546745779},"company secretary","Accountant","India",{"$f":"VLOOKUP(tblSalaries[[#This Row],[Where do you work]],[1]!tblCountries[[Actual]:[Mapping]],2,FALSE)","v":"India"},"1 or 2 hours a day",5]
["ID0786","2012-05-26T19:29:34",16000,"USD",{"$f":"tblSalaries[[#This Row],[clean Salary (in local currency)]]*VLOOKUP(tblSalaries[[#This Row],[Currency]],[1]!tblXrate[#Data],2,FALSE)","v":16000},"Mis executiv","Reporting","India",{"$f":"VLOOKUP(tblSalaries[[#This Row],[Where do you work]],[1]!tblCountries[[Actual]:[Mapping]],2,FALSE)","v":"India"},"All the 8 hours baby, all the 8!",1]
["ID0787","2012-05-26T19:34:12",240000,"INR",{"$f":"tblSalaries[[#This Row],[clean Salary (in local currency)]]*VLOOKUP(tblSalaries[[#This Row],[Currency]],[1]!tblXrate[#Data],2,FALSE)","v":4273.9000049862161},"Analyst","Analyst","India",{"$f":"VLOOKUP(tblSalaries[[#This Row],[Where do you work]],[1]!tblCountries[[Actual]:[Mapping]],2,FALSE)","v":"India"},"All the 8 hours baby, all the 8!",4]
["ID0788","2012-05-26T19:43:36",400000,"INR",{"$f":"tblSalaries[[#This Row],[clean Salary (in local currency)]]*VLOOKUP(tblSalaries[[#This Row],[Currency]],[1]!tblXrate[#Data],2,FALSE)","v":7123.1666749770275},"Asst.Manager","Manager","India",{"$f":"VLOOKUP(tblSalaries[[#This Row],[Where do you work]],[1]!tblCountries[[Actual]:[Mapping]],2,FALSE)","v":"India"},"4 to 6 hours a day",7]
["ID0789","2012-05-26T20:08:21",10000,"USD",{"$f":"tblSalaries[[#This Row],[clean Salary (in local currency)]]*VLOOKUP(tblSalaries[[#This Row],[Currency]],[1]!tblXrate[#Data],2,FALSE)","v":10000},"BDM","Manager","India",{"$f":"VLOOKUP(tblSalaries[[#This Row],[Where do you work]],[1]!tblCountries[[Actual]:[Mapping]],2,FALSE)","v":"India"},"1 or 2 hours a day",12]
["ID0790","2012-05-26T20:16:28",66000,"CAD",{"$f":"tblSalaries[[#This Row],[clean Salary (in local currency)]]*VLOOKUP(tblSalaries[[#This Row],[Currency]],[1]!tblXrate[#Data],2,FALSE)","v":64901.860520001574},"Programmer-analyst","Analyst","Canada",{"$f":"VLOOKUP(tblSalaries[[#This Row],[Where do you work]],[1]!tblCountries[[Actual]:[Mapping]],2,FALSE)","v":"Canada"},"2 to 3 hours per day",20]
["ID0791","2012-05-26T20:19:36",65000,"USD",{"$f":"tblSalaries[[#This Row],[clean Salary (in local currency)]]*VLOOKUP(tblSalaries[[#This Row],[Currency]],[1]!tblXrate[#Data],2,FALSE)","v":65000},"security analyst","Analyst","USA",{"$f":"VLOOKUP(tblSalaries[[#This Row],[Where do you work]],[1]!tblCountries[[Actual]:[Mapping]],2,FALSE)","v":"USA"},"2 to 3 hours per day",10]
["ID0792","2012-05-26T20:20:34",450000,"INR",{"$f":"tblSalaries[[#This Row],[clean Salary (in local currency)]]*VLOOKUP(tblSalaries[[#This Row],[Currency]],[1]!tblXrate[#Data],2,FALSE)","v":8013.5625093491553},"Material Planner","Manager","India",{"$f":"VLOOKUP(tblSalaries[[#This Row],[Where do you work]],[1]!tblCountries[[Actual]:[Mapping]],2,FALSE)","v":"India"},"All the 8 hours baby, all the 8!",1.5]
["ID0793","2012-05-26T20:27:19",100000,"CAD",{"$f":"tblSalaries[[#This Row],[clean Salary (in local currency)]]*VLOOKUP(tblSalaries[[#This Row],[Currency]],[1]!tblXrate[#Data],2,FALSE)","v":98336.152303032693},"VP Infrastructure","CXO or Top Mgmt.","Canada",{"$f":"VLOOKUP(tblSalaries[[#This Row],[Where do you work]],[1]!tblCountries[[Actual]:[Mapping]],2,FALSE)","v":"Canada"},"4 to 6 hours a day",5]
["ID0794","2012-05-26T20:31:30",150000,"INR",{"$f":"tblSalaries[[#This Row],[clean Salary (in local currency)]]*VLOOKUP(tblSalaries[[#This Row],[Currency]],[1]!tblXrate[#Data],2,FALSE)","v":2671.1875031163854},"WORKING WITH PRODUCT TEAM OF MAKEMYTRIP.COM","Analyst","India",{"$f":"VLOOKUP(tblSalaries[[#This Row],[Where do you work]],[1]!tblCountries[[Actual]:[Mapping]],2,FALSE)","v":"India"},"4 to 6 hours a day",2]
["ID0795","2012-05-26T20:50:07",96000,"USD",{"$f":"tblSalaries[[#This Row],[clean Salary (in local currency)]]*VLOOKUP(tblSalaries[[#This Row],[Currency]],[1]!tblXrate[#Data],2,FALSE)","v":96000},"MIS Executive","Reporting","India",{"$f":"VLOOKUP(tblSalaries[[#This Row],[Where do you work]],[1]!tblCountries[[Actual]:[Mapping]],2,FALSE)","v":"India"},"All the 8 hours baby, all the 8!",8]
["ID0796","2012-05-26T20:57:13",1152000,"INR",{"$f":"tblSalaries[[#This Row],[clean Salary (in local currency)]]*VLOOKUP(tblSalaries[[#This Row],[Currency]],[1]!tblXrate[#Data],2,FALSE)","v":20514.720023933838},"Cashier","Accountant","India",{"$f":"VLOOKUP(tblSalaries[[#This Row],[Where do you work]],[1]!tblCountries[[Actual]:[Mapping]],2,FALSE)","v":"India"},"4 to 6 hours a day",6]
["ID0797","2012-05-26T20:57:17",15000,"EUR",{"$f":"tblSalaries[[#This Row],[clean Salary (in local currency)]]*VLOOKUP(tblSalaries[[#This Row],[Currency]],[1]!tblXrate[#Data],2,FALSE)","v":19055.991584874118},"Technician","Analyst","Spain",{"$f":"VLOOKUP(tblSalaries[[#This Row],[Where do you work]],[1]!tblCountries[[Actual]:[Mapping]],2,FALSE)","v":"Spain"},"2 to 3 hours per day",10]
["ID0798","2012-05-26T21:00:40",65000,"AUD",{"$f":"tblSalaries[[#This Row],[clean Salary (in local currency)]]*VLOOKUP(tblSalaries[[#This Row],[Currency]],[1]!tblXrate[#Data],2,FALSE)","v":66294.12766617132},"Market analyst","Analyst","Australia",{"$f":"VLOOKUP(tblSalaries[[#This Row],[Where do you work]],[1]!tblCountries[[Actual]:[Mapping]],2,FALSE)","v":"Australia"},"All the 8 hours baby, all the 8!",10]
["ID0799","2012-05-26T21:05:35",377000,"INR",{"$f":"tblSalaries[[#This Row],[clean Salary (in local currency)]]*VLOOKUP(tblSalaries[[#This Row],[Currency]],[1]!tblXrate[#Data],2,FALSE)","v":6713.584591165848},"Team Developer","Analyst","India",{"$f":"VLOOKUP(tblSalaries[[#This Row],[Where do you work]],[1]!tblCountries[[Actual]:[Mapping]],2,FALSE)","v":"India"},"1 or 2 hours a day",7]
["ID0800","2012-05-26T21:07:14",29000,"GBP",{"$f":"tblSalaries[[#This Row],[clean Salary (in local currency)]]*VLOOKUP(tblSalaries[[#This Row],[Currency]],[1]!tblXrate[#Data],2,FALSE)","v":45709.169889951241},"Reporting Assistant","Reporting","UK",{"$f":"VLOOKUP(tblSalaries[[#This Row],[Where do you work]],[1]!tblCountries[[Actual]:[Mapping]],2,FALSE)","v":"UK"},"2 to 3 hours per day",15]
["ID0801","2012-05-26T21:10:20",48500,"USD",{"$f":"tblSalaries[[#This Row],[clean Salary (in local currency)]]*VLOOKUP(tblSalaries[[#This Row],[Currency]],[1]!tblXrate[#Data],2,FALSE)","v":48500},"Loss Prevention Finance Coordinator","Manager","USA",{"$f":"VLOOKUP(tblSalaries[[#This Row],[Where do you work]],[1]!tblCountries[[Actual]:[Mapping]],2,FALSE)","v":"USA"},"2 to 3 hours per day",10]
["ID0802","2012-05-26T21:13:02",600000,"INR",{"$f":"tblSalaries[[#This Row],[clean Salary (in local currency)]]*VLOOKUP(tblSalaries[[#This Row],[Currency]],[1]!tblXrate[#Data],2,FALSE)","v":10684.750012465542},"MIS Analyst","Analyst","India",{"$f":"VLOOKUP(tblSalaries[[#This Row],[Where do you work]],[1]!tblCountries[[Actual]:[Mapping]],2,FALSE)","v":"India"},"All the 8 hours baby, all the 8!",4]
["ID0803","2012-05-26T21:13:51",33900,"USD",{"$f":"tblSalaries[[#This Row],[clean Salary (in local currency)]]*VLOOKUP(tblSalaries[[#This Row],[Currency]],[1]!tblXrate[#Data],2,FALSE)","v":33900},"Administrative Assistant","Analyst","USA",{"$f":"VLOOKUP(tblSalaries[[#This Row],[Where do you work]],[1]!tblCountries[[Actual]:[Mapping]],2,FALSE)","v":"USA"},"2 to 3 hours per day",10]
["ID0804","2012-05-26T21:24:39",900000,"ZAR",{"$f":"tblSalaries[[#This Row],[clean Salary (in local currency)]]*VLOOKUP(tblSalaries[[#This Row],[Currency]],[1]!tblXrate[#Data],2,FALSE)","v":109729.60187662003},"Business Analyst","Analyst","South Africa",{"$f":"VLOOKUP(tblSalaries[[#This Row],[Where do you work]],[1]!tblCountries[[Actual]:[Mapping]],2,FALSE)","v":"South Africa"},"All the 8 hours baby, all the 8!",40]
["ID0805","2012-05-26T21:27:01",850000,"INR",{"$f":"tblSalaries[[#This Row],[clean Salary (in local currency)]]*VLOOKUP(tblSalaries[[#This Row],[Currency]],[1]!tblXrate[#Data],2,FALSE)","v":15136.729184326183},"Senior Research Analyst","Analyst","India",{"$f":"VLOOKUP(tblSalaries[[#This Row],[Where do you work]],[1]!tblCountries[[Actual]:[Mapping]],2,FALSE)","v":"India"},"4 to 6 hours a day",2]
["ID0806","2012-05-26T21:27:17",85000,"USD",{"$f":"tblSalaries[[#This Row],[clean Salary (in local currency)]]*VLOOKUP(tblSalaries[[#This Row],[Currency]],[1]!tblXrate[#Data],2,FALSE)","v":85000},"Director, IT/Operations","CXO or Top Mgmt.","USA",{"$f":"VLOOKUP(tblSalaries[[#This Row],[Where do you work]],[1]!tblCountries[[Actual]:[Mapping]],2,FALSE)","v":"USA"},"4 to 6 hours a day",15]
["ID0807","2012-05-26T21:40:49",450000,"INR",{"$f":"tblSalaries[[#This Row],[clean Salary (in local currency)]]*VLOOKUP(tblSalaries[[#This Row],[Currency]],[1]!tblXrate[#Data],2,FALSE)","v":8013.5625093491553},"Sr. Executive","Manager","India",{"$f":"VLOOKUP(tblSalaries[[#This Row],[Where do you work]],[1]!tblCountries[[Actual]:[Mapping]],2,FALSE)","v":"India"},"4 to 6 hours a day",6]
["ID0808","2012-05-26T21:43:54",48000,"USD",{"$f":"tblSalaries[[#This Row],[clean Salary (in local currency)]]*VLOOKUP(tblSalaries[[#This Row],[Currency]],[1]!tblXrate[#Data],2,FALSE)","v":48000},"Operations Support Coordinator","Manager","USA",{"$f":"VLOOKUP(tblSalaries[[#This Row],[Where do you work]],[1]!tblCountries[[Actual]:[Mapping]],2,FALSE)","v":"USA"},"2 to 3 hours per day",16]
["ID0809","2012-05-26T21:56:36",170000,"INR",{"$f":"tblSalaries[[#This Row],[clean Salary (in local currency)]]*VLOOKUP(tblSalaries[[#This Row],[Currency]],[1]!tblXrate[#Data],2,FALSE)","v":3027.3458368652364},"Sr. Executive MIS","Reporting","India",{"$f":"VLOOKUP(tblSalaries[[#This Row],[Where do you work]],[1]!tblCountries[[Actual]:[Mapping]],2,FALSE)","v":"India"},"4 to 6 hours a day",2]
["ID0810","2012-05-26T21:56:49",13100,"USD",{"$f":"tblSalaries[[#This Row],[clean Salary (in local currency)]]*VLOOKUP(tblSalaries[[#This Row],[Currency]],[1]!tblXrate[#Data],2,FALSE)","v":13100},"accountant","Accountant","India",{"$f":"VLOOKUP(tblSalaries[[#This Row],[Where do you work]],[1]!tblCountries[[Actual]:[Mapping]],2,FALSE)","v":"India"},"2 to 3 hours per day",5]
["ID0811","2012-05-26T22:02:53",60000,"USD",{"$f":"tblSalaries[[#This Row],[clean Salary (in local currency)]]*VLOOKUP(tblSalaries[[#This Row],[Currency]],[1]!tblXrate[#Data],2,FALSE)","v":60000},"Audit Manager","Manager","UAE",{"$f":"VLOOKUP(tblSalaries[[#This Row],[Where do you work]],[1]!tblCountries[[Actual]:[Mapping]],2,FALSE)","v":"UAE"},"2 to 3 hours per day",15]
["ID0812","2012-05-26T22:07:39",24000,"USD",{"$f":"tblSalaries[[#This Row],[clean Salary (in local currency)]]*VLOOKUP(tblSalaries[[#This Row],[Currency]],[1]!tblXrate[#Data],2,FALSE)","v":24000},"Logistic KA Manager","Manager","Croatia",{"$f":"VLOOKUP(tblSalaries[[#This Row],[Where do you work]],[1]!tblCountries[[Actual]:[Mapping]],2,FALSE)","v":"Croatia"},"2 to 3 hours per day",5]
["ID0813","2012-05-26T22:08:56",240000,"INR",{"$f":"tblSalaries[[#This Row],[clean Salary (in local currency)]]*VLOOKUP(tblSalaries[[#This Row],[Currency]],[1]!tblXrate[#Data],2,FALSE)","v":4273.9000049862161},"MANAGER","Manager","India",{"$f":"VLOOKUP(tblSalaries[[#This Row],[Where do you work]],[1]!tblCountries[[Actual]:[Mapping]],2,FALSE)","v":"India"},"2 to 3 hours per day",3]
["ID0814","2012-05-26T22:16:10",650000,"INR",{"$f":"tblSalaries[[#This Row],[clean Salary (in local currency)]]*VLOOKUP(tblSalaries[[#This Row],[Currency]],[1]!tblXrate[#Data],2,FALSE)","v":11575.14584683767},"Deputy Manager","Manager","India",{"$f":"VLOOKUP(tblSalaries[[#This Row],[Where do you work]],[1]!tblCountries[[Actual]:[Mapping]],2,FALSE)","v":"India"},"2 to 3 hours per day",5]
["ID0815","2012-05-26T22:22:58",95000,"USD",{"$f":"tblSalaries[[#This Row],[clean Salary (in local currency)]]*VLOOKUP(tblSalaries[[#This Row],[Currency]],[1]!tblXrate[#Data],2,FALSE)","v":95000},"Business Analyst","Analyst","USA",{"$f":"VLOOKUP(tblSalaries[[#This Row],[Where do you work]],[1]!tblCountries[[Actual]:[Mapping]],2,FALSE)","v":"USA"},"2 to 3 hours per day",13]
["ID0816","2012-05-26T22:23:38",516000,"INR",{"$f":"tblSalaries[[#This Row],[clean Salary (in local currency)]]*VLOOKUP(tblSalaries[[#This Row],[Currency]],[1]!tblXrate[#Data],2,FALSE)","v":9188.8850107203652},"Management Trainee","Manager","India",{"$f":"VLOOKUP(tblSalaries[[#This Row],[Where do you work]],[1]!tblCountries[[Actual]:[Mapping]],2,FALSE)","v":"India"},"4 to 6 hours a day",0]
["ID0817","2012-05-26T22:29:16",504000,"INR",{"$f":"tblSalaries[[#This Row],[clean Salary (in local currency)]]*VLOOKUP(tblSalaries[[#This Row],[Currency]],[1]!tblXrate[#Data],2,FALSE)","v":8975.1900104710548},"MNR","Manager","India",{"$f":"VLOOKUP(tblSalaries[[#This Row],[Where do you work]],[1]!tblCountries[[Actual]:[Mapping]],2,FALSE)","v":"India"},"All the 8 hours baby, all the 8!",3]
["ID0818","2012-05-26T22:29:21",144000,"INR",{"$f":"tblSalaries[[#This Row],[clean Salary (in local currency)]]*VLOOKUP(tblSalaries[[#This Row],[Currency]],[1]!tblXrate[#Data],2,FALSE)","v":2564.3400029917298},"BPO information process enabler","Analyst","India",{"$f":"VLOOKUP(tblSalaries[[#This Row],[Where do you work]],[1]!tblCountries[[Actual]:[Mapping]],2,FALSE)","v":"India"},"All the 8 hours baby, all the 8!",1]
["ID0820","2012-05-26T22:43:11",55000,"GBP",{"$f":"tblSalaries[[#This Row],[clean Salary (in local currency)]]*VLOOKUP(tblSalaries[[#This Row],[Currency]],[1]!tblXrate[#Data],2,FALSE)","v":86689.804963700633},"Financial controller","Controller","UK",{"$f":"VLOOKUP(tblSalaries[[#This Row],[Where do you work]],[1]!tblCountries[[Actual]:[Mapping]],2,FALSE)","v":"UK"},"4 to 6 hours a day",12]
["ID0821","2012-05-26T22:43:12",15500,"USD",{"$f":"tblSalaries[[#This Row],[clean Salary (in local currency)]]*VLOOKUP(tblSalaries[[#This Row],[Currency]],[1]!tblXrate[#Data],2,FALSE)","v":15500},"Engineer","Engineer","India",{"$f":"VLOOKUP(tblSalaries[[#This Row],[Where do you work]],[1]!tblCountries[[Actual]:[Mapping]],2,FALSE)","v":"India"},"1 or 2 hours a day",3]
["ID0822","2012-05-26T22:45:14",300000,"BRL",{"$f":"tblSalaries[[#This Row],[clean Salary (in local currency)]]*VLOOKUP(tblSalaries[[#This Row],[Currency]],[1]!tblXrate[#Data],2,FALSE)","v":148284.35006969364},"Market Intelligence Analyst","Analyst","Brazil",{"$f":"VLOOKUP(tblSalaries[[#This Row],[Where do you work]],[1]!tblCountries[[Actual]:[Mapping]],2,FALSE)","v":"Brazil"},"All the 8 hours baby, all the 8!",3]
["ID0823","2012-05-26T22:48:11",600000,"INR",{"$f":"tblSalaries[[#This Row],[clean Salary (in local currency)]]*VLOOKUP(tblSalaries[[#This Row],[Currency]],[1]!tblXrate[#Data],2,FALSE)","v":10684.750012465542},"Reporting Analyst","Analyst","India",{"$f":"VLOOKUP(tblSalaries[[#This Row],[Where do you work]],[1]!tblCountries[[Actual]:[Mapping]],2,FALSE)","v":"India"},"All the 8 hours baby, all the 8!",5]
["ID0824","2012-05-26T22:49:34",75000,"USD",{"$f":"tblSalaries[[#This Row],[clean Salary (in local currency)]]*VLOOKUP(tblSalaries[[#This Row],[Currency]],[1]!tblXrate[#Data],2,FALSE)","v":75000},"sr financial analyst","Analyst","USA",{"$f":"VLOOKUP(tblSalaries[[#This Row],[Where do you work]],[1]!tblCountries[[Actual]:[Mapping]],2,FALSE)","v":"USA"},"2 to 3 hours per day",27]
["ID0825","2012-05-26T22:53:35",12000,"USD",{"$f":"tblSalaries[[#This Row],[clean Salary (in local currency)]]*VLOOKUP(tblSalaries[[#This Row],[Currency]],[1]!tblXrate[#Data],2,FALSE)","v":12000},"Investment manager","Manager","Ukraine",{"$f":"VLOOKUP(tblSalaries[[#This Row],[Where do you work]],[1]!tblCountries[[Actual]:[Mapping]],2,FALSE)","v":"Ukraine"},"4 to 6 hours a day",5]
["ID0826","2012-05-26T23:02:00",1700000,"INR",{"$f":"tblSalaries[[#This Row],[clean Salary (in local currency)]]*VLOOKUP(tblSalaries[[#This Row],[Currency]],[1]!tblXrate[#Data],2,FALSE)","v":30273.458368652366},"Operations Lead","Manager","India",{"$f":"VLOOKUP(tblSalaries[[#This Row],[Where do you work]],[1]!tblCountries[[Actual]:[Mapping]],2,FALSE)","v":"India"},"All the 8 hours baby, all the 8!",1.1000000000000001]
["ID0827","2012-05-26T23:03:21",30000,"USD",{"$f":"tblSalaries[[#This Row],[clean Salary (in local currency)]]*VLOOKUP(tblSalaries[[#This Row],[Currency]],[1]!tblXrate[#Data],2,FALSE)","v":30000},"Financial Control Section Headm","Controller","Inonesia",{"$f":"VLOOKUP(tblSalaries[[#This Row],[Where do you work]],[1]!tblCountries[[Actual]:[Mapping]],2,FALSE)","v":"Indonesia"},"4 to 6 hours a day",7]
["ID0828","2012-05-26T23:03:59",360000,"INR",{"$f":"tblSalaries[[#This Row],[clean Salary (in local currency)]]*VLOOKUP(tblSalaries[[#This Row],[Currency]],[1]!tblXrate[#Data],2,FALSE)","v":6410.8500074793246},"Application Developer","Analyst","India",{"$f":"VLOOKUP(tblSalaries[[#This Row],[Where do you work]],[1]!tblCountries[[Actual]:[Mapping]],2,FALSE)","v":"India"},"All the 8 hours baby, all the 8!",4]
["ID0829","2012-05-26T23:04:02",100000,"USD",{"$f":"tblSalaries[[#This Row],[clean Salary (in local currency)]]*VLOOKUP(tblSalaries[[#This Row],[Currency]],[1]!tblXrate[#Data],2,FALSE)","v":100000},"director","CXO or Top Mgmt.","USA",{"$f":"VLOOKUP(tblSalaries[[#This Row],[Where do you work]],[1]!tblCountries[[Actual]:[Mapping]],2,FALSE)","v":"USA"},"4 to 6 hours a day",10]
["ID0830","2012-05-26T23:04:53",42000,"EUR",{"$f":"tblSalaries[[#This Row],[clean Salary (in local currency)]]*VLOOKUP(tblSalaries[[#This Row],[Currency]],[1]!tblXrate[#Data],2,FALSE)","v":53356.776437647524},"Project Engineer","Engineer","The Netherlands",{"$f":"VLOOKUP(tblSalaries[[#This Row],[Where do you work]],[1]!tblCountries[[Actual]:[Mapping]],2,FALSE)","v":"Netherlands"},"4 to 6 hours a day",2]
["ID0831","2012-05-26T23:05:15",40000,"USD",{"$f":"tblSalaries[[#This Row],[clean Salary (in local currency)]]*VLOOKUP(tblSalaries[[#This Row],[Currency]],[1]!tblXrate[#Data],2,FALSE)","v":40000},"High School Teacher","Manager","USA",{"$f":"VLOOKUP(tblSalaries[[#This Row],[Where do you work]],[1]!tblCountries[[Actual]:[Mapping]],2,FALSE)","v":"USA"},"2 to 3 hours per day",20]
["ID0832","2012-05-26T23:14:58",550000,"INR",{"$f":"tblSalaries[[#This Row],[clean Salary (in local currency)]]*VLOOKUP(tblSalaries[[#This Row],[Currency]],[1]!tblXrate[#Data],2,FALSE)","v":9794.354178093412},"web analyst","Analyst","India",{"$f":"VLOOKUP(tblSalaries[[#This Row],[Where do you work]],[1]!tblCountries[[Actual]:[Mapping]],2,FALSE)","v":"India"},"4 to 6 hours a day",1]
["ID0833","2012-05-26T23:15:18",65000,"RON",{"$f":"tblSalaries[[#This Row],[clean Salary (in local currency)]]*VLOOKUP(tblSalaries[[#This Row],[Currency]],[1]!tblXrate[#Data],2,FALSE)","v":18499.860539512854},"HR Planning Specialist","Specialist","Romania",{"$f":"VLOOKUP(tblSalaries[[#This Row],[Where do you work]],[1]!tblCountries[[Actual]:[Mapping]],2,FALSE)","v":"Romania"},"4 to 6 hours a day",6]
["ID0834","2012-05-26T23:17:09",15600,"EUR",{"$f":"tblSalaries[[#This Row],[clean Salary (in local currency)]]*VLOOKUP(tblSalaries[[#This Row],[Currency]],[1]!tblXrate[#Data],2,FALSE)","v":19818.231248269083},"Managment controller","Controller","Portugal",{"$f":"VLOOKUP(tblSalaries[[#This Row],[Where do you work]],[1]!tblCountries[[Actual]:[Mapping]],2,FALSE)","v":"Portugal"},"4 to 6 hours a day",5]
["ID0835","2012-05-26T23:21:57",600000,"INR",{"$f":"tblSalaries[[#This Row],[clean Salary (in local currency)]]*VLOOKUP(tblSalaries[[#This Row],[Currency]],[1]!tblXrate[#Data],2,FALSE)","v":10684.750012465542},"AO","Manager","India",{"$f":"VLOOKUP(tblSalaries[[#This Row],[Where do you work]],[1]!tblCountries[[Actual]:[Mapping]],2,FALSE)","v":"India"},"All the 8 hours baby, all the 8!",20]
["ID0836","2012-05-26T23:36:14",600000,"INR",{"$f":"tblSalaries[[#This Row],[clean Salary (in local currency)]]*VLOOKUP(tblSalaries[[#This Row],[Currency]],[1]!tblXrate[#Data],2,FALSE)","v":10684.750012465542},"Project Manager","Manager","India",{"$f":"VLOOKUP(tblSalaries[[#This Row],[Where do you work]],[1]!tblCountries[[Actual]:[Mapping]],2,FALSE)","v":"India"},"2 to 3 hours per day",18]
["ID0837","2012-05-26T23:38:24",1000000,"INR",{"$f":"tblSalaries[[#This Row],[clean Salary (in local currency)]]*VLOOKUP(tblSalaries[[#This Row],[Currency]],[1]!tblXrate[#Data],2,FALSE)","v":17807.916687442568},"business analyist","Analyst","India",{"$f":"VLOOKUP(tblSalaries[[#This Row],[Where do you work]],[1]!tblCountries[[Actual]:[Mapping]],2,FALSE)","v":"India"},"4 to 6 hours a day",10]
["ID0838","2012-05-26T23:47:34",13000,"USD",{"$f":"tblSalaries[[#This Row],[clean Salary (in local currency)]]*VLOOKUP(tblSalaries[[#This Row],[Currency]],[1]!tblXrate[#Data],2,FALSE)","v":13000},"Business Analyst","Analyst","India",{"$f":"VLOOKUP(tblSalaries[[#This Row],[Where do you work]],[1]!tblCountries[[Actual]:[Mapping]],2,FALSE)","v":"India"},"All the 8 hours baby, all the 8!",6]
["ID0839","2012-05-26T23:58:53",900000,"INR",{"$f":"tblSalaries[[#This Row],[clean Salary (in local currency)]]*VLOOKUP(tblSalaries[[#This Row],[Currency]],[1]!tblXrate[#Data],2,FALSE)","v":16027.125018698311},"Deputy Manager","Manager","India",{"$f":"VLOOKUP(tblSalaries[[#This Row],[Where do you work]],[1]!tblCountries[[Actual]:[Mapping]],2,FALSE)","v":"India"},"1 or 2 hours a day",9]
["ID0840","2012-05-27T00:02:45",85000,"USD",{"$f":"tblSalaries[[#This Row],[clean Salary (in local currency)]]*VLOOKUP(tblSalaries[[#This Row],[Currency]],[1]!tblXrate[#Data],2,FALSE)","v":85000},"actuary","Accountant","USA",{"$f":"VLOOKUP(tblSalaries[[#This Row],[Where do you work]],[1]!tblCountries[[Actual]:[Mapping]],2,FALSE)","v":"USA"},"All the 8 hours baby, all the 8!",1]
["ID0841","2012-05-27T00:07:52",6000,"USD",{"$f":"tblSalaries[[#This Row],[clean Salary (in local currency)]]*VLOOKUP(tblSalaries[[#This Row],[Currency]],[1]!tblXrate[#Data],2,FALSE)","v":6000},"Analysis Quality","Analyst","Colombia - South America",{"$f":"VLOOKUP(tblSalaries[[#This Row],[Where do you work]],[1]!tblCountries[[Actual]:[Mapping]],2,FALSE)","v":"Colombia"},"1 or 2 hours a day",10]
["ID0842","2012-05-27T00:12:53",30000,"USD",{"$f":"tblSalaries[[#This Row],[clean Salary (in local currency)]]*VLOOKUP(tblSalaries[[#This Row],[Currency]],[1]!tblXrate[#Data],2,FALSE)","v":30000},"MIS Executive","Reporting","India",{"$f":"VLOOKUP(tblSalaries[[#This Row],[Where do you work]],[1]!tblCountries[[Actual]:[Mapping]],2,FALSE)","v":"India"},"4 to 6 hours a day",2]
["ID0844","2012-05-27T00:19:04",100000,"GBP",{"$f":"tblSalaries[[#This Row],[clean Salary (in local currency)]]*VLOOKUP(tblSalaries[[#This Row],[Currency]],[1]!tblXrate[#Data],2,FALSE)","v":157617.8272067284},"Financial Controller","Controller","UK",{"$f":"VLOOKUP(tblSalaries[[#This Row],[Where do you work]],[1]!tblCountries[[Actual]:[Mapping]],2,FALSE)","v":"UK"},"2 to 3 hours per day",20]
["ID0845","2012-05-27T00:33:06",1200000,"INR",{"$f":"tblSalaries[[#This Row],[clean Salary (in local currency)]]*VLOOKUP(tblSalaries[[#This Row],[Currency]],[1]!tblXrate[#Data],2,FALSE)","v":21369.500024931083},"project manager","Manager","India",{"$f":"VLOOKUP(tblSalaries[[#This Row],[Where do you work]],[1]!tblCountries[[Actual]:[Mapping]],2,FALSE)","v":"India"},"1 or 2 hours a day",18]
["ID0846","2012-05-27T00:53:20",200000,"INR",{"$f":"tblSalaries[[#This Row],[clean Salary (in local currency)]]*VLOOKUP(tblSalaries[[#This Row],[Currency]],[1]!tblXrate[#Data],2,FALSE)","v":3561.5833374885137},"Bio-Statiscian","Reporting","India",{"$f":"VLOOKUP(tblSalaries[[#This Row],[Where do you work]],[1]!tblCountries[[Actual]:[Mapping]],2,FALSE)","v":"India"},"4 to 6 hours a day",1]
["ID0847","2012-05-27T01:04:46",5000,"USD",{"$f":"tblSalaries[[#This Row],[clean Salary (in local currency)]]*VLOOKUP(tblSalaries[[#This Row],[Currency]],[1]!tblXrate[#Data],2,FALSE)","v":5000},"Management Intern","Manager","India",{"$f":"VLOOKUP(tblSalaries[[#This Row],[Where do you work]],[1]!tblCountries[[Actual]:[Mapping]],2,FALSE)","v":"India"},"4 to 6 hours a day",1]
["ID0848","2012-05-27T01:22:06",200000,"INR",{"$f":"tblSalaries[[#This Row],[clean Salary (in local currency)]]*VLOOKUP(tblSalaries[[#This Row],[Currency]],[1]!tblXrate[#Data],2,FALSE)","v":3561.5833374885137},"Sales Analyst","Analyst","India",{"$f":"VLOOKUP(tblSalaries[[#This Row],[Where do you work]],[1]!tblCountries[[Actual]:[Mapping]],2,FALSE)","v":"India"},"4 to 6 hours a day",2]
["ID0849","2012-05-27T01:30:55",30000,"EUR",{"$f":"tblSalaries[[#This Row],[clean Salary (in local currency)]]*VLOOKUP(tblSalaries[[#This Row],[Currency]],[1]!tblXrate[#Data],2,FALSE)","v":38111.983169748237},"financialcotroller","Accountant","portugal",{"$f":"VLOOKUP(tblSalaries[[#This Row],[Where do you work]],[1]!tblCountries[[Actual]:[Mapping]],2,FALSE)","v":"Portugal"},"All the 8 hours baby, all the 8!",8]
["ID0850","2012-05-27T01:41:11",1000000,"INR",{"$f":"tblSalaries[[#This Row],[clean Salary (in local currency)]]*VLOOKUP(tblSalaries[[#This Row],[Currency]],[1]!tblXrate[#Data],2,FALSE)","v":17807.916687442568},"HR Analyst","Analyst","India",{"$f":"VLOOKUP(tblSalaries[[#This Row],[Where do you work]],[1]!tblCountries[[Actual]:[Mapping]],2,FALSE)","v":"India"},"4 to 6 hours a day",6.5]
["ID0851","2012-05-27T01:46:00",650000,"INR",{"$f":"tblSalaries[[#This Row],[clean Salary (in local currency)]]*VLOOKUP(tblSalaries[[#This Row],[Currency]],[1]!tblXrate[#Data],2,FALSE)","v":11575.14584683767},"Financial Analyist","Analyst","India",{"$f":"VLOOKUP(tblSalaries[[#This Row],[Where do you work]],[1]!tblCountries[[Actual]:[Mapping]],2,FALSE)","v":"India"},"All the 8 hours baby, all the 8!",3.5]
["ID0852","2012-05-27T02:33:22",100000,"CAD",{"$f":"tblSalaries[[#This Row],[clean Salary (in local currency)]]*VLOOKUP(tblSalaries[[#This Row],[Currency]],[1]!tblXrate[#Data],2,FALSE)","v":98336.152303032693},"Marketing Manager","Manager","Canada",{"$f":"VLOOKUP(tblSalaries[[#This Row],[Where do you work]],[1]!tblCountries[[Actual]:[Mapping]],2,FALSE)","v":"Canada"},"2 to 3 hours per day",10]
["ID0854","2012-05-27T03:06:02",92500,"USD",{"$f":"tblSalaries[[#This Row],[clean Salary (in local currency)]]*VLOOKUP(tblSalaries[[#This Row],[Currency]],[1]!tblXrate[#Data],2,FALSE)","v":92500},"Dir of Analytics","Analyst","USA",{"$f":"VLOOKUP(tblSalaries[[#This Row],[Where do you work]],[1]!tblCountries[[Actual]:[Mapping]],2,FALSE)","v":"USA"},"2 to 3 hours per day",15]
["ID0855","2012-05-27T03:16:05",550000,"INR",{"$f":"tblSalaries[[#This Row],[clean Salary (in local currency)]]*VLOOKUP(tblSalaries[[#This Row],[Currency]],[1]!tblXrate[#Data],2,FALSE)","v":9794.354178093412},"Analyst","Analyst","India",{"$f":"VLOOKUP(tblSalaries[[#This Row],[Where do you work]],[1]!tblCountries[[Actual]:[Mapping]],2,FALSE)","v":"India"},"4 to 6 hours a day",1]
["ID0856","2012-05-27T03:19:29",32000,"USD",{"$f":"tblSalaries[[#This Row],[clean Salary (in local currency)]]*VLOOKUP(tblSalaries[[#This Row],[Currency]],[1]!tblXrate[#Data],2,FALSE)","v":32000},"Reporting Manager","Manager","USA",{"$f":"VLOOKUP(tblSalaries[[#This Row],[Where do you work]],[1]!tblCountries[[Actual]:[Mapping]],2,FALSE)","v":"USA"},"4 to 6 hours a day",1]
["ID0857","2012-05-27T03:25:05",55000,"USD",{"$f":"tblSalaries[[#This Row],[clean Salary (in local currency)]]*VLOOKUP(tblSalaries[[#This Row],[Currency]],[1]!tblXrate[#Data],2,FALSE)","v":55000},"Analyst","Analyst","USA",{"$f":"VLOOKUP(tblSalaries[[#This Row],[Where do you work]],[1]!tblCountries[[Actual]:[Mapping]],2,FALSE)","v":"USA"},"4 to 6 hours a day",10]
["ID0858","2012-05-27T03:25:53",40000,"USD",{"$f":"tblSalaries[[#This Row],[clean Salary (in local currency)]]*VLOOKUP(tblSalaries[[#This Row],[Currency]],[1]!tblXrate[#Data],2,FALSE)","v":40000},"Data Research Assistant","Analyst","USA",{"$f":"VLOOKUP(tblSalaries[[#This Row],[Where do you work]],[1]!tblCountries[[Actual]:[Mapping]],2,FALSE)","v":"USA"},"All the 8 hours baby, all the 8!",4]
["ID0859","2012-05-27T03:37:32",3000,"USD",{"$f":"tblSalaries[[#This Row],[clean Salary (in local currency)]]*VLOOKUP(tblSalaries[[#This Row],[Currency]],[1]!tblXrate[#Data],2,FALSE)","v":3000},"Statistical Analyst","Analyst","Pakistan",{"$f":"VLOOKUP(tblSalaries[[#This Row],[Where do you work]],[1]!tblCountries[[Actual]:[Mapping]],2,FALSE)","v":"Pakistan"},"2 to 3 hours per day",2]
["ID0860","2012-05-27T03:37:36",43600,"USD",{"$f":"tblSalaries[[#This Row],[clean Salary (in local currency)]]*VLOOKUP(tblSalaries[[#This Row],[Currency]],[1]!tblXrate[#Data],2,FALSE)","v":43600},"Data Analyst","Analyst","USA",{"$f":"VLOOKUP(tblSalaries[[#This Row],[Where do you work]],[1]!tblCountries[[Actual]:[Mapping]],2,FALSE)","v":"USA"},"4 to 6 hours a day",5]
["ID0861","2012-05-27T04:00:14",540000,"INR",{"$f":"tblSalaries[[#This Row],[clean Salary (in local currency)]]*VLOOKUP(tblSalaries[[#This Row],[Currency]],[1]!tblXrate[#Data],2,FALSE)","v":9616.275011218986},"Senior analyst","Analyst","India",{"$f":"VLOOKUP(tblSalaries[[#This Row],[Where do you work]],[1]!tblCountries[[Actual]:[Mapping]],2,FALSE)","v":"India"},"All the 8 hours baby, all the 8!",8]
["ID0862","2012-05-27T04:05:28",35000,"USD",{"$f":"tblSalaries[[#This Row],[clean Salary (in local currency)]]*VLOOKUP(tblSalaries[[#This Row],[Currency]],[1]!tblXrate[#Data],2,FALSE)","v":35000},"Purchasing Manager","Manager","Uruguay",{"$f":"VLOOKUP(tblSalaries[[#This Row],[Where do you work]],[1]!tblCountries[[Actual]:[Mapping]],2,FALSE)","v":"Uruguay"},"All the 8 hours baby, all the 8!",10]
["ID0863","2012-05-27T04:07:07",12000,"USD",{"$f":"tblSalaries[[#This Row],[clean Salary (in local currency)]]*VLOOKUP(tblSalaries[[#This Row],[Currency]],[1]!tblXrate[#Data],2,FALSE)","v":12000},"Guide for About.com","Consultant","Spain",{"$f":"VLOOKUP(tblSalaries[[#This Row],[Where do you work]],[1]!tblCountries[[Actual]:[Mapping]],2,FALSE)","v":"Spain"},"2 to 3 hours per day",15]
["ID0864","2012-05-27T04:12:04",5000,"USD",{"$f":"tblSalaries[[#This Row],[clean Salary (in local currency)]]*VLOOKUP(tblSalaries[[#This Row],[Currency]],[1]!tblXrate[#Data],2,FALSE)","v":5000},"Policy advisor","Consultant","Aruba",{"$f":"VLOOKUP(tblSalaries[[#This Row],[Where do you work]],[1]!tblCountries[[Actual]:[Mapping]],2,FALSE)","v":"Aruba"},"1 or 2 hours a day",13]
["ID0865","2012-05-27T04:31:08",134000,"ZAR",{"$f":"tblSalaries[[#This Row],[clean Salary (in local currency)]]*VLOOKUP(tblSalaries[[#This Row],[Currency]],[1]!tblXrate[#Data],2,FALSE)","v":16337.518501630093},"Data Analyst","Analyst","South Africa",{"$f":"VLOOKUP(tblSalaries[[#This Row],[Where do you work]],[1]!tblCountries[[Actual]:[Mapping]],2,FALSE)","v":"South Africa"},"4 to 6 hours a day",2]
["ID0866","2012-05-27T04:40:33",65000,"USD",{"$f":"tblSalaries[[#This Row],[clean Salary (in local currency)]]*VLOOKUP(tblSalaries[[#This Row],[Currency]],[1]!tblXrate[#Data],2,FALSE)","v":65000},"Security Access Governance Analyst","Analyst","USA",{"$f":"VLOOKUP(tblSalaries[[#This Row],[Where do you work]],[1]!tblCountries[[Actual]:[Mapping]],2,FALSE)","v":"USA"},"1 or 2 hours a day",8]
["ID0867","2012-05-27T06:17:41",40000,"USD",{"$f":"tblSalaries[[#This Row],[clean Salary (in local currency)]]*VLOOKUP(tblSalaries[[#This Row],[Currency]],[1]!tblXrate[#Data],2,FALSE)","v":40000},"IT Capacity Planner","Analyst","USA",{"$f":"VLOOKUP(tblSalaries[[#This Row],[Where do you work]],[1]!tblCountries[[Actual]:[Mapping]],2,FALSE)","v":"USA"},"All the 8 hours baby, all the 8!",2]
["ID0868","2012-05-27T06:37:13",98000,"USD",{"$f":"tblSalaries[[#This Row],[clean Salary (in local currency)]]*VLOOKUP(tblSalaries[[#This Row],[Currency]],[1]!tblXrate[#Data],2,FALSE)","v":98000},"supply chain manager","Manager","indonesia",{"$f":"VLOOKUP(tblSalaries[[#This Row],[Where do you work]],[1]!tblCountries[[Actual]:[Mapping]],2,FALSE)","v":"Indonesia"},"2 to 3 hours per day",14]
["ID0869","2012-05-27T06:37:15",50000,"USD",{"$f":"tblSalaries[[#This Row],[clean Salary (in local currency)]]*VLOOKUP(tblSalaries[[#This Row],[Currency]],[1]!tblXrate[#Data],2,FALSE)","v":50000},"Boss","CXO or Top Mgmt.","USA",{"$f":"VLOOKUP(tblSalaries[[#This Row],[Where do you work]],[1]!tblCountries[[Actual]:[Mapping]],2,FALSE)","v":"USA"},"All the 8 hours baby, all the 8!",15]
["ID0870","2012-05-27T07:19:14",135000,"USD",{"$f":"tblSalaries[[#This Row],[clean Salary (in local currency)]]*VLOOKUP(tblSalaries[[#This Row],[Currency]],[1]!tblXrate[#Data],2,FALSE)","v":135000},"Director, P&A","CXO or Top Mgmt.","USA",{"$f":"VLOOKUP(tblSalaries[[#This Row],[Where do you work]],[1]!tblCountries[[Actual]:[Mapping]],2,FALSE)","v":"USA"},"4 to 6 hours a day",25]
["ID0871","2012-05-27T08:07:40",125000,"USD",{"$f":"tblSalaries[[#This Row],[clean Salary (in local currency)]]*VLOOKUP(tblSalaries[[#This Row],[Currency]],[1]!tblXrate[#Data],2,FALSE)","v":125000},"Project controls manager","Manager","Norway",{"$f":"VLOOKUP(tblSalaries[[#This Row],[Where do you work]],[1]!tblCountries[[Actual]:[Mapping]],2,FALSE)","v":"Norway"},"4 to 6 hours a day",6]
["ID0872","2012-05-27T08:54:28",4500,"USD",{"$f":"tblSalaries[[#This Row],[clean Salary (in local currency)]]*VLOOKUP(tblSalaries[[#This Row],[Currency]],[1]!tblXrate[#Data],2,FALSE)","v":4500},"senior associate","Analyst","indonesia",{"$f":"VLOOKUP(tblSalaries[[#This Row],[Where do you work]],[1]!tblCountries[[Actual]:[Mapping]],2,FALSE)","v":"Indonesia"},"2 to 3 hours per day",4]
["ID0873","2012-05-27T08:55:36",115000,"USD",{"$f":"tblSalaries[[#This Row],[clean Salary (in local currency)]]*VLOOKUP(tblSalaries[[#This Row],[Currency]],[1]!tblXrate[#Data],2,FALSE)","v":115000},"Principal Financial Analyst","Analyst","USA",{"$f":"VLOOKUP(tblSalaries[[#This Row],[Where do you work]],[1]!tblCountries[[Actual]:[Mapping]],2,FALSE)","v":"USA"},"4 to 6 hours a day",10]
["ID0874","2012-05-27T09:17:47",70000,"USD",{"$f":"tblSalaries[[#This Row],[clean Salary (in local currency)]]*VLOOKUP(tblSalaries[[#This Row],[Currency]],[1]!tblXrate[#Data],2,FALSE)","v":70000},"Financial Analyst","Analyst","USA",{"$f":"VLOOKUP(tblSalaries[[#This Row],[Where do you work]],[1]!tblCountries[[Actual]:[Mapping]],2,FALSE)","v":"USA"},"All the 8 hours baby, all the 8!",15]
["ID0875","2012-05-27T09:49:30",60000,"USD",{"$f":"tblSalaries[[#This Row],[clean Salary (in local currency)]]*VLOOKUP(tblSalaries[[#This Row],[Currency]],[1]!tblXrate[#Data],2,FALSE)","v":60000},"Store keeper","Analyst","USA",{"$f":"VLOOKUP(tblSalaries[[#This Row],[Where do you work]],[1]!tblCountries[[Actual]:[Mapping]],2,FALSE)","v":"USA"},"2 to 3 hours per day",8]
["ID0876","2012-05-27T10:13:27",87456,"USD",{"$f":"tblSalaries[[#This Row],[clean Salary (in local currency)]]*VLOOKUP(tblSalaries[[#This Row],[Currency]],[1]!tblXrate[#Data],2,FALSE)","v":87456},"qa team supervisor ","Manager","USA",{"$f":"VLOOKUP(tblSalaries[[#This Row],[Where do you work]],[1]!tblCountries[[Actual]:[Mapping]],2,FALSE)","v":"USA"},"2 to 3 hours per day",12]
["ID0877","2012-05-27T11:32:17",26400,"USD",{"$f":"tblSalaries[[#This Row],[clean Salary (in local currency)]]*VLOOKUP(tblSalaries[[#This Row],[Currency]],[1]!tblXrate[#Data],2,FALSE)","v":26400},"Supply Chain Administrator","Analyst","UAE",{"$f":"VLOOKUP(tblSalaries[[#This Row],[Where do you work]],[1]!tblCountries[[Actual]:[Mapping]],2,FALSE)","v":"UAE"},"All the 8 hours baby, all the 8!",6]
["ID0878","2012-05-27T11:50:16",12000,"USD",{"$f":"tblSalaries[[#This Row],[clean Salary (in local currency)]]*VLOOKUP(tblSalaries[[#This Row],[Currency]],[1]!tblXrate[#Data],2,FALSE)","v":12000},"sup","Manager","UAE",{"$f":"VLOOKUP(tblSalaries[[#This Row],[Where do you work]],[1]!tblCountries[[Actual]:[Mapping]],2,FALSE)","v":"UAE"},"All the 8 hours baby, all the 8!",18]
["ID0879","2012-05-27T12:03:51",144000,"INR",{"$f":"tblSalaries[[#This Row],[clean Salary (in local currency)]]*VLOOKUP(tblSalaries[[#This Row],[Currency]],[1]!tblXrate[#Data],2,FALSE)","v":2564.3400029917298},"Cost Trainee","Analyst","India",{"$f":"VLOOKUP(tblSalaries[[#This Row],[Where do you work]],[1]!tblCountries[[Actual]:[Mapping]],2,FALSE)","v":"India"},"4 to 6 hours a day",1]
["ID0880","2012-05-27T12:32:45",62000,"USD",{"$f":"tblSalaries[[#This Row],[clean Salary (in local currency)]]*VLOOKUP(tblSalaries[[#This Row],[Currency]],[1]!tblXrate[#Data],2,FALSE)","v":62000},"Deputy Manager Finance","Manager","Qatar",{"$f":"VLOOKUP(tblSalaries[[#This Row],[Where do you work]],[1]!tblCountries[[Actual]:[Mapping]],2,FALSE)","v":"Qatar"},"All the 8 hours baby, all the 8!",11]
["ID0881","2012-05-27T12:35:15",300000,"INR",{"$f":"tblSalaries[[#This Row],[clean Salary (in local currency)]]*VLOOKUP(tblSalaries[[#This Row],[Currency]],[1]!tblXrate[#Data],2,FALSE)","v":5342.3750062327708},"Sales","Analyst","India",{"$f":"VLOOKUP(tblSalaries[[#This Row],[Where do you work]],[1]!tblCountries[[Actual]:[Mapping]],2,FALSE)","v":"India"},"1 or 2 hours a day",10]
["ID0882","2012-05-27T12:37:02",40000,"EUR",{"$f":"tblSalaries[[#This Row],[clean Salary (in local currency)]]*VLOOKUP(tblSalaries[[#This Row],[Currency]],[1]!tblXrate[#Data],2,FALSE)","v":50815.977559664309},"Medical information analist","Analyst","Netherlands",{"$f":"VLOOKUP(tblSalaries[[#This Row],[Where do you work]],[1]!tblCountries[[Actual]:[Mapping]],2,FALSE)","v":"Netherlands"},"4 to 6 hours a day",4]
["ID0883","2012-05-27T12:41:29",25560,"USD",{"$f":"tblSalaries[[#This Row],[clean Salary (in local currency)]]*VLOOKUP(tblSalaries[[#This Row],[Currency]],[1]!tblXrate[#Data],2,FALSE)","v":25560},"Training Coordinator","Manager","saudi arabia",{"$f":"VLOOKUP(tblSalaries[[#This Row],[Where do you work]],[1]!tblCountries[[Actual]:[Mapping]],2,FALSE)","v":"Saudi Arabia"},"4 to 6 hours a day",3]
["ID0884","2012-05-27T12:57:51",720000,"INR",{"$f":"tblSalaries[[#This Row],[clean Salary (in local currency)]]*VLOOKUP(tblSalaries[[#This Row],[Currency]],[1]!tblXrate[#Data],2,FALSE)","v":12821.700014958649},"Article (Internship) - CA","Accountant","India",{"$f":"VLOOKUP(tblSalaries[[#This Row],[Where do you work]],[1]!tblCountries[[Actual]:[Mapping]],2,FALSE)","v":"India"},"4 to 6 hours a day",3]
["ID0885","2012-05-27T13:06:50",600000,"INR",{"$f":"tblSalaries[[#This Row],[clean Salary (in local currency)]]*VLOOKUP(tblSalaries[[#This Row],[Currency]],[1]!tblXrate[#Data],2,FALSE)","v":10684.750012465542},"Asst Manager","Manager","India",{"$f":"VLOOKUP(tblSalaries[[#This Row],[Where do you work]],[1]!tblCountries[[Actual]:[Mapping]],2,FALSE)","v":"India"},"All the 8 hours baby, all the 8!",5]
["ID0886","2012-05-27T13:27:19",420000,"PKR",{"$f":"tblSalaries[[#This Row],[clean Salary (in local currency)]]*VLOOKUP(tblSalaries[[#This Row],[Currency]],[1]!tblXrate[#Data],2,FALSE)","v":4457.9172610556352},"Assistant Manager","Manager","Pakistan",{"$f":"VLOOKUP(tblSalaries[[#This Row],[Where do you work]],[1]!tblCountries[[Actual]:[Mapping]],2,FALSE)","v":"Pakistan"},"All the 8 hours baby, all the 8!",4]
["ID0887","2012-05-27T13:29:52",125000,"USD",{"$f":"tblSalaries[[#This Row],[clean Salary (in local currency)]]*VLOOKUP(tblSalaries[[#This Row],[Currency]],[1]!tblXrate[#Data],2,FALSE)","v":125000},"Commercial Director","CXO or Top Mgmt.","South Africa",{"$f":"VLOOKUP(tblSalaries[[#This Row],[Where do you work]],[1]!tblCountries[[Actual]:[Mapping]],2,FALSE)","v":"South Africa"},"4 to 6 hours a day",20]
["ID0888","2012-05-27T13:34:12",43000,"USD",{"$f":"tblSalaries[[#This Row],[clean Salary (in local currency)]]*VLOOKUP(tblSalaries[[#This Row],[Currency]],[1]!tblXrate[#Data],2,FALSE)","v":43000},"Financial Analyst","Analyst","USA",{"$f":"VLOOKUP(tblSalaries[[#This Row],[Where do you work]],[1]!tblCountries[[Actual]:[Mapping]],2,FALSE)","v":"USA"},"4 to 6 hours a day",1]
["ID0889","2012-05-27T13:41:04",400000,"INR",{"$f":"tblSalaries[[#This Row],[clean Salary (in local currency)]]*VLOOKUP(tblSalaries[[#This Row],[Currency]],[1]!tblXrate[#Data],2,FALSE)","v":7123.1666749770275},"engineer","Engineer","India",{"$f":"VLOOKUP(tblSalaries[[#This Row],[Where do you work]],[1]!tblCountries[[Actual]:[Mapping]],2,FALSE)","v":"India"},"2 to 3 hours per day",6]
["ID0890","2012-05-27T13:41:05",10000,"USD",{"$f":"tblSalaries[[#This Row],[clean Salary (in local currency)]]*VLOOKUP(tblSalaries[[#This Row],[Currency]],[1]!tblXrate[#Data],2,FALSE)","v":10000},"Finance Staff","Accountant","Viet Nam",{"$f":"VLOOKUP(tblSalaries[[#This Row],[Where do you work]],[1]!tblCountries[[Actual]:[Mapping]],2,FALSE)","v":"Viet Nam"},"4 to 6 hours a day",4]
["ID0891","2012-05-27T13:42:15",500000,"INR",{"$f":"tblSalaries[[#This Row],[clean Salary (in local currency)]]*VLOOKUP(tblSalaries[[#This Row],[Currency]],[1]!tblXrate[#Data],2,FALSE)","v":8903.9583437212841},"team coach","Manager","India",{"$f":"VLOOKUP(tblSalaries[[#This Row],[Where do you work]],[1]!tblCountries[[Actual]:[Mapping]],2,FALSE)","v":"India"},"1 or 2 hours a day",5]
["ID0892","2012-05-27T13:45:47",36500,"USD",{"$f":"tblSalaries[[#This Row],[clean Salary (in local currency)]]*VLOOKUP(tblSalaries[[#This Row],[Currency]],[1]!tblXrate[#Data],2,FALSE)","v":36500},"Accountant","Accountant","Saudi Arabia",{"$f":"VLOOKUP(tblSalaries[[#This Row],[Where do you work]],[1]!tblCountries[[Actual]:[Mapping]],2,FALSE)","v":"Saudi Arabia"},"4 to 6 hours a day",15]
["ID0893","2012-05-27T13:52:53",100000,"USD",{"$f":"tblSalaries[[#This Row],[clean Salary (in local currency)]]*VLOOKUP(tblSalaries[[#This Row],[Currency]],[1]!tblXrate[#Data],2,FALSE)","v":100000},"Director","CXO or Top Mgmt.","MÃ©xico",{"$f":"VLOOKUP(tblSalaries[[#This Row],[Where do you work]],[1]!tblCountries[[Actual]:[Mapping]],2,FALSE)","v":"Mexico"},"All the 8 hours baby, all the 8!",10]
["ID0894","2012-05-27T14:04:31",400000,"INR",{"$f":"tblSalaries[[#This Row],[clean Salary (in local currency)]]*VLOOKUP(tblSalaries[[#This Row],[Currency]],[1]!tblXrate[#Data],2,FALSE)","v":7123.1666749770275},"Accountancy","Accountant","India",{"$f":"VLOOKUP(tblSalaries[[#This Row],[Where do you work]],[1]!tblCountries[[Actual]:[Mapping]],2,FALSE)","v":"India"},"2 to 3 hours per day",8]
["ID0895","2012-05-27T14:22:11",2300000,"INR",{"$f":"tblSalaries[[#This Row],[clean Salary (in local currency)]]*VLOOKUP(tblSalaries[[#This Row],[Currency]],[1]!tblXrate[#Data],2,FALSE)","v":40958.208381117904},"Manager - Business Planning & Reporting","Manager","India",{"$f":"VLOOKUP(tblSalaries[[#This Row],[Where do you work]],[1]!tblCountries[[Actual]:[Mapping]],2,FALSE)","v":"India"},"2 to 3 hours per day",8]
["ID0896","2012-05-27T14:27:33",1200000,"INR",{"$f":"tblSalaries[[#This Row],[clean Salary (in local currency)]]*VLOOKUP(tblSalaries[[#This Row],[Currency]],[1]!tblXrate[#Data],2,FALSE)","v":21369.500024931083},"ASST VICE PREDISDENT","CXO or Top Mgmt.","India",{"$f":"VLOOKUP(tblSalaries[[#This Row],[Where do you work]],[1]!tblCountries[[Actual]:[Mapping]],2,FALSE)","v":"India"},"4 to 6 hours a day",17]
["ID0897","2012-05-27T14:47:21",120000,"INR",{"$f":"tblSalaries[[#This Row],[clean Salary (in local currency)]]*VLOOKUP(tblSalaries[[#This Row],[Currency]],[1]!tblXrate[#Data],2,FALSE)","v":2136.9500024931081},"co ordinator","Manager","India",{"$f":"VLOOKUP(tblSalaries[[#This Row],[Where do you work]],[1]!tblCountries[[Actual]:[Mapping]],2,FALSE)","v":"India"},"4 to 6 hours a day",5]
["ID0898","2012-05-27T14:49:12",500000,"INR",{"$f":"tblSalaries[[#This Row],[clean Salary (in local currency)]]*VLOOKUP(tblSalaries[[#This Row],[Currency]],[1]!tblXrate[#Data],2,FALSE)","v":8903.9583437212841},"Planning Engineer","Engineer","India",{"$f":"VLOOKUP(tblSalaries[[#This Row],[Where do you work]],[1]!tblCountries[[Actual]:[Mapping]],2,FALSE)","v":"India"},"2 to 3 hours per day",3]
["ID0899","2012-05-27T14:50:56",1000000,"INR",{"$f":"tblSalaries[[#This Row],[clean Salary (in local currency)]]*VLOOKUP(tblSalaries[[#This Row],[Currency]],[1]!tblXrate[#Data],2,FALSE)","v":17807.916687442568},"Engagement Lead","Manager","India",{"$f":"VLOOKUP(tblSalaries[[#This Row],[Where do you work]],[1]!tblCountries[[Actual]:[Mapping]],2,FALSE)","v":"India"},"4 to 6 hours a day",5]
["ID0900","2012-05-27T14:55:30",850000,"INR",{"$f":"tblSalaries[[#This Row],[clean Salary (in local currency)]]*VLOOKUP(tblSalaries[[#This Row],[Currency]],[1]!tblXrate[#Data],2,FALSE)","v":15136.729184326183},"Assistant Manager","Manager","India",{"$f":"VLOOKUP(tblSalaries[[#This Row],[Where do you work]],[1]!tblCountries[[Actual]:[Mapping]],2,FALSE)","v":"India"},"2 to 3 hours per day",3]
["ID0901","2012-05-27T15:01:02",168000,"PHP",{"$f":"tblSalaries[[#This Row],[clean Salary (in local currency)]]*VLOOKUP(tblSalaries[[#This Row],[Currency]],[1]!tblXrate[#Data],2,FALSE)","v":3982.448779308334},"Clerk","Analyst","Philippines",{"$f":"VLOOKUP(tblSalaries[[#This Row],[Where do you work]],[1]!tblCountries[[Actual]:[Mapping]],2,FALSE)","v":"Philippines"},"4 to 6 hours a day",10]
["ID0903","2012-05-27T15:25:40",15600,"USD",{"$f":"tblSalaries[[#This Row],[clean Salary (in local currency)]]*VLOOKUP(tblSalaries[[#This Row],[Currency]],[1]!tblXrate[#Data],2,FALSE)","v":15600},"Document controller ","Controller","Kuwait ",{"$f":"VLOOKUP(tblSalaries[[#This Row],[Where do you work]],[1]!tblCountries[[Actual]:[Mapping]],2,FALSE)","v":"Kuwait "},"4 to 6 hours a day",13]
["ID0904","2012-05-27T15:26:34",180000,"INR",{"$f":"tblSalaries[[#This Row],[clean Salary (in local currency)]]*VLOOKUP(tblSalaries[[#This Row],[Currency]],[1]!tblXrate[#Data],2,FALSE)","v":3205.4250037396623},"Executive","Analyst","India",{"$f":"VLOOKUP(tblSalaries[[#This Row],[Where do you work]],[1]!tblCountries[[Actual]:[Mapping]],2,FALSE)","v":"India"},"2 to 3 hours per day",3.5]
["ID0905","2012-05-27T15:32:10",10000,"USD",{"$f":"tblSalaries[[#This Row],[clean Salary (in local currency)]]*VLOOKUP(tblSalaries[[#This Row],[Currency]],[1]!tblXrate[#Data],2,FALSE)","v":10000},"Planner","Manager","India",{"$f":"VLOOKUP(tblSalaries[[#This Row],[Where do you work]],[1]!tblCountries[[Actual]:[Mapping]],2,FALSE)","v":"India"},"4 to 6 hours a day",6]
["ID0906","2012-05-27T15:44:07",75010,"USD",{"$f":"tblSalaries[[#This Row],[clean Salary (in local currency)]]*VLOOKUP(tblSalaries[[#This Row],[Currency]],[1]!tblXrate[#Data],2,FALSE)","v":75010},"Senior Business Analyst","Analyst","USA",{"$f":"VLOOKUP(tblSalaries[[#This Row],[Where do you work]],[1]!tblCountries[[Actual]:[Mapping]],2,FALSE)","v":"USA"},"2 to 3 hours per day",6]
["ID0907","2012-05-27T15:44:52",600000,"INR",{"$f":"tblSalaries[[#This Row],[clean Salary (in local currency)]]*VLOOKUP(tblSalaries[[#This Row],[Currency]],[1]!tblXrate[#Data],2,FALSE)","v":10684.750012465542},"Manager","Manager","India",{"$f":"VLOOKUP(tblSalaries[[#This Row],[Where do you work]],[1]!tblCountries[[Actual]:[Mapping]],2,FALSE)","v":"India"},"All the 8 hours baby, all the 8!",9]
["ID0908","2012-05-27T15:48:03",16350,"USD",{"$f":"tblSalaries[[#This Row],[clean Salary (in local currency)]]*VLOOKUP(tblSalaries[[#This Row],[Currency]],[1]!tblXrate[#Data],2,FALSE)","v":16350},"Estimator","Manager","India",{"$f":"VLOOKUP(tblSalaries[[#This Row],[Where do you work]],[1]!tblCountries[[Actual]:[Mapping]],2,FALSE)","v":"India"},"4 to 6 hours a day",5]
["ID0909","2012-05-27T16:10:04",80000,"GBP",{"$f":"tblSalaries[[#This Row],[clean Salary (in local currency)]]*VLOOKUP(tblSalaries[[#This Row],[Currency]],[1]!tblXrate[#Data],2,FALSE)","v":126094.26176538273},"Financial Modeller","Accountant","UK",{"$f":"VLOOKUP(tblSalaries[[#This Row],[Where do you work]],[1]!tblCountries[[Actual]:[Mapping]],2,FALSE)","v":"UK"},"4 to 6 hours a day",10]
["ID0910","2012-05-27T16:10:27",60000,"USD",{"$f":"tblSalaries[[#This Row],[clean Salary (in local currency)]]*VLOOKUP(tblSalaries[[#This Row],[Currency]],[1]!tblXrate[#Data],2,FALSE)","v":60000},"Cost accountant","Accountant","Singapore",{"$f":"VLOOKUP(tblSalaries[[#This Row],[Where do you work]],[1]!tblCountries[[Actual]:[Mapping]],2,FALSE)","v":"Singapore"},"All the 8 hours baby, all the 8!",10]
["ID0911","2012-05-27T16:24:50",1300000,"INR",{"$f":"tblSalaries[[#This Row],[clean Salary (in local currency)]]*VLOOKUP(tblSalaries[[#This Row],[Currency]],[1]!tblXrate[#Data],2,FALSE)","v":23150.291693675339},"banker","Manager","India",{"$f":"VLOOKUP(tblSalaries[[#This Row],[Where do you work]],[1]!tblCountries[[Actual]:[Mapping]],2,FALSE)","v":"India"},"1 or 2 hours a day",3]
["ID0912","2012-05-27T16:30:54",775000,"INR",{"$f":"tblSalaries[[#This Row],[clean Salary (in local currency)]]*VLOOKUP(tblSalaries[[#This Row],[Currency]],[1]!tblXrate[#Data],2,FALSE)","v":13801.135432767991},"Analyst","Analyst","India",{"$f":"VLOOKUP(tblSalaries[[#This Row],[Where do you work]],[1]!tblCountries[[Actual]:[Mapping]],2,FALSE)","v":"India"},"4 to 6 hours a day",2]
["ID0913","2012-05-27T16:50:50",1050000,"INR",{"$f":"tblSalaries[[#This Row],[clean Salary (in local currency)]]*VLOOKUP(tblSalaries[[#This Row],[Currency]],[1]!tblXrate[#Data],2,FALSE)","v":18698.312521814696},"Manager Market Reesrach","Manager","India",{"$f":"VLOOKUP(tblSalaries[[#This Row],[Where do you work]],[1]!tblCountries[[Actual]:[Mapping]],2,FALSE)","v":"India"},"All the 8 hours baby, all the 8!",5]
["ID0914","2012-05-27T17:10:36",36000,"USD",{"$f":"tblSalaries[[#This Row],[clean Salary (in local currency)]]*VLOOKUP(tblSalaries[[#This Row],[Currency]],[1]!tblXrate[#Data],2,FALSE)","v":36000},"QA Supervisor","Controller","Czech Republic",{"$f":"VLOOKUP(tblSalaries[[#This Row],[Where do you work]],[1]!tblCountries[[Actual]:[Mapping]],2,FALSE)","v":"Czech Republic"},"2 to 3 hours per day",9]
["ID0915","2012-05-27T17:16:55",486000,"INR",{"$f":"tblSalaries[[#This Row],[clean Salary (in local currency)]]*VLOOKUP(tblSalaries[[#This Row],[Currency]],[1]!tblXrate[#Data],2,FALSE)","v":8654.6475100970874},"Assistant manager","Manager","India",{"$f":"VLOOKUP(tblSalaries[[#This Row],[Where do you work]],[1]!tblCountries[[Actual]:[Mapping]],2,FALSE)","v":"India"},"All the 8 hours baby, all the 8!",6]
["ID0916","2012-05-27T17:17:24",65000,"GBP",{"$f":"tblSalaries[[#This Row],[clean Salary (in local currency)]]*VLOOKUP(tblSalaries[[#This Row],[Currency]],[1]!tblXrate[#Data],2,FALSE)","v":102451.58768437347},"Manager","Manager","UK",{"$f":"VLOOKUP(tblSalaries[[#This Row],[Where do you work]],[1]!tblCountries[[Actual]:[Mapping]],2,FALSE)","v":"UK"},"1 or 2 hours a day",15]
["ID0917","2012-05-27T17:24:09",36400,"USD",{"$f":"tblSalaries[[#This Row],[clean Salary (in local currency)]]*VLOOKUP(tblSalaries[[#This Row],[Currency]],[1]!tblXrate[#Data],2,FALSE)","v":36400},"Analyst","Analyst","Zimbabwe",{"$f":"VLOOKUP(tblSalaries[[#This Row],[Where do you work]],[1]!tblCountries[[Actual]:[Mapping]],2,FALSE)","v":"Zimbabwe"},"4 to 6 hours a day",20]
["ID0918","2012-05-27T18:19:31",64210,"GBP",{"$f":"tblSalaries[[#This Row],[clean Salary (in local currency)]]*VLOOKUP(tblSalaries[[#This Row],[Currency]],[1]!tblXrate[#Data],2,FALSE)","v":101206.40684944032},"HR Advisor - Systems & MI","Consultant","UK",{"$f":"VLOOKUP(tblSalaries[[#This Row],[Where do you work]],[1]!tblCountries[[Actual]:[Mapping]],2,FALSE)","v":"UK"},"4 to 6 hours a day",16]
["ID0919","2012-05-27T18:33:51",300000,"INR",{"$f":"tblSalaries[[#This Row],[clean Salary (in local currency)]]*VLOOKUP(tblSalaries[[#This Row],[Currency]],[1]!tblXrate[#Data],2,FALSE)","v":5342.3750062327708},"ANALYST","Analyst","India",{"$f":"VLOOKUP(tblSalaries[[#This Row],[Where do you work]],[1]!tblCountries[[Actual]:[Mapping]],2,FALSE)","v":"India"},"4 to 6 hours a day",0.5]
["ID0920","2012-05-27T19:39:26",104000,"AED",{"$f":"tblSalaries[[#This Row],[clean Salary (in local currency)]]*VLOOKUP(tblSalaries[[#This Row],[Currency]],[1]!tblXrate[#Data],2,FALSE)","v":28310.79811950968},"Financial Analyst","Analyst","UAE",{"$f":"VLOOKUP(tblSalaries[[#This Row],[Where do you work]],[1]!tblCountries[[Actual]:[Mapping]],2,FALSE)","v":"UAE"},"4 to 6 hours a day",11]
["ID0921","2012-05-27T19:41:55",20500,"EUR",{"$f":"tblSalaries[[#This Row],[clean Salary (in local currency)]]*VLOOKUP(tblSalaries[[#This Row],[Currency]],[1]!tblXrate[#Data],2,FALSE)","v":26043.18849932796},"C&B Manager","Manager","Poland",{"$f":"VLOOKUP(tblSalaries[[#This Row],[Where do you work]],[1]!tblCountries[[Actual]:[Mapping]],2,FALSE)","v":"Poland"},"4 to 6 hours a day",8]
["ID0922","2012-05-27T20:18:50",95000,"AUD",{"$f":"tblSalaries[[#This Row],[clean Salary (in local currency)]]*VLOOKUP(tblSalaries[[#This Row],[Currency]],[1]!tblXrate[#Data],2,FALSE)","v":96891.417358250401},"Senior Marketing Analyst","Analyst","Australia",{"$f":"VLOOKUP(tblSalaries[[#This Row],[Where do you work]],[1]!tblCountries[[Actual]:[Mapping]],2,FALSE)","v":"Australia"},"1 or 2 hours a day",7]
["ID0923","2012-05-27T20:43:13",144000,"INR",{"$f":"tblSalaries[[#This Row],[clean Salary (in local currency)]]*VLOOKUP(tblSalaries[[#This Row],[Currency]],[1]!tblXrate[#Data],2,FALSE)","v":2564.3400029917298},"operation supervisor","Controller","India",{"$f":"VLOOKUP(tblSalaries[[#This Row],[Where do you work]],[1]!tblCountries[[Actual]:[Mapping]],2,FALSE)","v":"India"},"4 to 6 hours a day",4]
["ID0924","2012-05-27T20:51:55",180000,"INR",{"$f":"tblSalaries[[#This Row],[clean Salary (in local currency)]]*VLOOKUP(tblSalaries[[#This Row],[Currency]],[1]!tblXrate[#Data],2,FALSE)","v":3205.4250037396623},"MIS TEAM MEMBER","Reporting","India",{"$f":"VLOOKUP(tblSalaries[[#This Row],[Where do you work]],[1]!tblCountries[[Actual]:[Mapping]],2,FALSE)","v":"India"},"All the 8 hours baby, all the 8!",8]
["ID0925","2012-05-27T21:04:07",600000,"INR",{"$f":"tblSalaries[[#This Row],[clean Salary (in local currency)]]*VLOOKUP(tblSalaries[[#This Row],[Currency]],[1]!tblXrate[#Data],2,FALSE)","v":10684.750012465542},"Sales Analyst","Analyst","India",{"$f":"VLOOKUP(tblSalaries[[#This Row],[Where do you work]],[1]!tblCountries[[Actual]:[Mapping]],2,FALSE)","v":"India"},"All the 8 hours baby, all the 8!",8]
["ID0927","2012-05-27T21:21:41",150000,"USD",{"$f":"tblSalaries[[#This Row],[clean Salary (in local currency)]]*VLOOKUP(tblSalaries[[#This Row],[Currency]],[1]!tblXrate[#Data],2,FALSE)","v":150000},"Controller","Controller","USA",{"$f":"VLOOKUP(tblSalaries[[#This Row],[Where do you work]],[1]!tblCountries[[Actual]:[Mapping]],2,FALSE)","v":"USA"},"4 to 6 hours a day",25]
["ID0928","2012-05-27T21:24:42",700000,"INR",{"$f":"tblSalaries[[#This Row],[clean Salary (in local currency)]]*VLOOKUP(tblSalaries[[#This Row],[Currency]],[1]!tblXrate[#Data],2,FALSE)","v":12465.541681209797},"Business Support Executive","Manager","India",{"$f":"VLOOKUP(tblSalaries[[#This Row],[Where do you work]],[1]!tblCountries[[Actual]:[Mapping]],2,FALSE)","v":"India"},"4 to 6 hours a day",3]
["ID0929","2012-05-27T21:44:39",15000,"EUR",{"$f":"tblSalaries[[#This Row],[clean Salary (in local currency)]]*VLOOKUP(tblSalaries[[#This Row],[Currency]],[1]!tblXrate[#Data],2,FALSE)","v":19055.991584874118},"analytic","Analyst","Slovenia",{"$f":"VLOOKUP(tblSalaries[[#This Row],[Where do you work]],[1]!tblCountries[[Actual]:[Mapping]],2,FALSE)","v":"Slovenia"},"4 to 6 hours a day",4]
["ID0930","2012-05-27T21:49:55",105000,"USD",{"$f":"tblSalaries[[#This Row],[clean Salary (in local currency)]]*VLOOKUP(tblSalaries[[#This Row],[Currency]],[1]!tblXrate[#Data],2,FALSE)","v":105000},"business analyst","Analyst","USA",{"$f":"VLOOKUP(tblSalaries[[#This Row],[Where do you work]],[1]!tblCountries[[Actual]:[Mapping]],2,FALSE)","v":"USA"},"4 to 6 hours a day",20]
["ID0931","2012-05-27T22:05:15",24000,"USD",{"$f":"tblSalaries[[#This Row],[clean Salary (in local currency)]]*VLOOKUP(tblSalaries[[#This Row],[Currency]],[1]!tblXrate[#Data],2,FALSE)","v":24000},"business analyst","Analyst","India",{"$f":"VLOOKUP(tblSalaries[[#This Row],[Where do you work]],[1]!tblCountries[[Actual]:[Mapping]],2,FALSE)","v":"India"},"4 to 6 hours a day",3]
["ID0932","2012-05-27T22:22:01",50000,"GBP",{"$f":"tblSalaries[[#This Row],[clean Salary (in local currency)]]*VLOOKUP(tblSalaries[[#This Row],[Currency]],[1]!tblXrate[#Data],2,FALSE)","v":78808.913603364199},"Finance Analyst","Analyst","UK",{"$f":"VLOOKUP(tblSalaries[[#This Row],[Where do you work]],[1]!tblCountries[[Actual]:[Mapping]],2,FALSE)","v":"UK"},"All the 8 hours baby, all the 8!",10]
["ID0933","2012-05-27T22:35:22",42000,"USD",{"$f":"tblSalaries[[#This Row],[clean Salary (in local currency)]]*VLOOKUP(tblSalaries[[#This Row],[Currency]],[1]!tblXrate[#Data],2,FALSE)","v":42000},"Credit Controller","Controller","Saudi Arabia",{"$f":"VLOOKUP(tblSalaries[[#This Row],[Where do you work]],[1]!tblCountries[[Actual]:[Mapping]],2,FALSE)","v":"Saudi Arabia"},"All the 8 hours baby, all the 8!",15]
["ID0934","2012-05-27T22:40:38",19200,"BRL",{"$f":"tblSalaries[[#This Row],[clean Salary (in local currency)]]*VLOOKUP(tblSalaries[[#This Row],[Currency]],[1]!tblXrate[#Data],2,FALSE)","v":9490.1984044603923},"Programmer","Analyst","Brazil",{"$f":"VLOOKUP(tblSalaries[[#This Row],[Where do you work]],[1]!tblCountries[[Actual]:[Mapping]],2,FALSE)","v":"Brazil"},"All the 8 hours baby, all the 8!",8]
["ID0935","2012-05-27T22:58:39",60000,"USD",{"$f":"tblSalaries[[#This Row],[clean Salary (in local currency)]]*VLOOKUP(tblSalaries[[#This Row],[Currency]],[1]!tblXrate[#Data],2,FALSE)","v":60000},"Consultant","Consultant","Singapore",{"$f":"VLOOKUP(tblSalaries[[#This Row],[Where do you work]],[1]!tblCountries[[Actual]:[Mapping]],2,FALSE)","v":"Singapore"},"4 to 6 hours a day",5]
["ID0936","2012-05-27T23:03:21",1000000,"INR",{"$f":"tblSalaries[[#This Row],[clean Salary (in local currency)]]*VLOOKUP(tblSalaries[[#This Row],[Currency]],[1]!tblXrate[#Data],2,FALSE)","v":17807.916687442568},"business","Manager","India",{"$f":"VLOOKUP(tblSalaries[[#This Row],[Where do you work]],[1]!tblCountries[[Actual]:[Mapping]],2,FALSE)","v":"India"},"All the 8 hours baby, all the 8!",8]
["ID0937","2012-05-27T23:10:01",700000,"INR",{"$f":"tblSalaries[[#This Row],[clean Salary (in local currency)]]*VLOOKUP(tblSalaries[[#This Row],[Currency]],[1]!tblXrate[#Data],2,FALSE)","v":12465.541681209797},"Business Analyst","Analyst","India",{"$f":"VLOOKUP(tblSalaries[[#This Row],[Where do you work]],[1]!tblCountries[[Actual]:[Mapping]],2,FALSE)","v":"India"},"All the 8 hours baby, all the 8!",1]
["ID0938","2012-05-27T23:32:30",20571,"USD",{"$f":"tblSalaries[[#This Row],[clean Salary (in local currency)]]*VLOOKUP(tblSalaries[[#This Row],[Currency]],[1]!tblXrate[#Data],2,FALSE)","v":20571},"CFO","CXO or Top Mgmt.","Albania",{"$f":"VLOOKUP(tblSalaries[[#This Row],[Where do you work]],[1]!tblCountries[[Actual]:[Mapping]],2,FALSE)","v":"Albania"},"4 to 6 hours a day",8]
["ID0939","2012-05-27T23:43:21",3480,"USD",{"$f":"tblSalaries[[#This Row],[clean Salary (in local currency)]]*VLOOKUP(tblSalaries[[#This Row],[Currency]],[1]!tblXrate[#Data],2,FALSE)","v":3480},"Reconciliation Manager in Textile Mill","Manager","Pakistan",{"$f":"VLOOKUP(tblSalaries[[#This Row],[Where do you work]],[1]!tblCountries[[Actual]:[Mapping]],2,FALSE)","v":"Pakistan"},"All the 8 hours baby, all the 8!",6]
["ID0940","2012-05-27T23:46:03",18060,"USD",{"$f":"tblSalaries[[#This Row],[clean Salary (in local currency)]]*VLOOKUP(tblSalaries[[#This Row],[Currency]],[1]!tblXrate[#Data],2,FALSE)","v":18060},"Reporting Supervisor","Reporting","Philippines",{"$f":"VLOOKUP(tblSalaries[[#This Row],[Where do you work]],[1]!tblCountries[[Actual]:[Mapping]],2,FALSE)","v":"Philippines"},"4 to 6 hours a day",12]
["ID0941","2012-05-27T23:47:25",30000,"USD",{"$f":"tblSalaries[[#This Row],[clean Salary (in local currency)]]*VLOOKUP(tblSalaries[[#This Row],[Currency]],[1]!tblXrate[#Data],2,FALSE)","v":30000},"Financial Expert","Accountant","Iran",{"$f":"VLOOKUP(tblSalaries[[#This Row],[Where do you work]],[1]!tblCountries[[Actual]:[Mapping]],2,FALSE)","v":"iran"},"2 to 3 hours per day",30]
["ID0943","2012-05-27T23:52:48",24000,"USD",{"$f":"tblSalaries[[#This Row],[clean Salary (in local currency)]]*VLOOKUP(tblSalaries[[#This Row],[Currency]],[1]!tblXrate[#Data],2,FALSE)","v":24000},"sr manager","Manager","India",{"$f":"VLOOKUP(tblSalaries[[#This Row],[Where do you work]],[1]!tblCountries[[Actual]:[Mapping]],2,FALSE)","v":"India"},"4 to 6 hours a day",10]
["ID0944","2012-05-28T00:10:43",63200,"EUR",{"$f":"tblSalaries[[#This Row],[clean Salary (in local currency)]]*VLOOKUP(tblSalaries[[#This Row],[Currency]],[1]!tblXrate[#Data],2,FALSE)","v":80289.244544269619},"Consultant","Consultant","France",{"$f":"VLOOKUP(tblSalaries[[#This Row],[Where do you work]],[1]!tblCountries[[Actual]:[Mapping]],2,FALSE)","v":"France"},"4 to 6 hours a day",3]
["ID0945","2012-05-28T00:17:26",70000,"USD",{"$f":"tblSalaries[[#This Row],[clean Salary (in local currency)]]*VLOOKUP(tblSalaries[[#This Row],[Currency]],[1]!tblXrate[#Data],2,FALSE)","v":70000},"Client Manager","Manager","USA",{"$f":"VLOOKUP(tblSalaries[[#This Row],[Where do you work]],[1]!tblCountries[[Actual]:[Mapping]],2,FALSE)","v":"USA"},"4 to 6 hours a day",4]
["ID0946","2012-05-28T00:28:56",480000,"INR",{"$f":"tblSalaries[[#This Row],[clean Salary (in local currency)]]*VLOOKUP(tblSalaries[[#This Row],[Currency]],[1]!tblXrate[#Data],2,FALSE)","v":8547.8000099724322},"Manager","Manager","India",{"$f":"VLOOKUP(tblSalaries[[#This Row],[Where do you work]],[1]!tblCountries[[Actual]:[Mapping]],2,FALSE)","v":"India"},"2 to 3 hours per day",2]
["ID0948","2012-05-28T00:36:20",600000,"INR",{"$f":"tblSalaries[[#This Row],[clean Salary (in local currency)]]*VLOOKUP(tblSalaries[[#This Row],[Currency]],[1]!tblXrate[#Data],2,FALSE)","v":10684.750012465542},"Asst. Mgr. Finance","Analyst","India",{"$f":"VLOOKUP(tblSalaries[[#This Row],[Where do you work]],[1]!tblCountries[[Actual]:[Mapping]],2,FALSE)","v":"India"},"4 to 6 hours a day",11]
["ID0949","2012-05-28T00:43:40",600000,"INR",{"$f":"tblSalaries[[#This Row],[clean Salary (in local currency)]]*VLOOKUP(tblSalaries[[#This Row],[Currency]],[1]!tblXrate[#Data],2,FALSE)","v":10684.750012465542},"Executive","Analyst","India",{"$f":"VLOOKUP(tblSalaries[[#This Row],[Where do you work]],[1]!tblCountries[[Actual]:[Mapping]],2,FALSE)","v":"India"},"2 to 3 hours per day",4]
["ID0950","2012-05-28T00:48:23",20000,"USD",{"$f":"tblSalaries[[#This Row],[clean Salary (in local currency)]]*VLOOKUP(tblSalaries[[#This Row],[Currency]],[1]!tblXrate[#Data],2,FALSE)","v":20000},"Financial Modeller","Accountant","Zambia",{"$f":"VLOOKUP(tblSalaries[[#This Row],[Where do you work]],[1]!tblCountries[[Actual]:[Mapping]],2,FALSE)","v":"Zambia"},"All the 8 hours baby, all the 8!",2]
["ID0951","2012-05-28T01:17:17",42000,"EUR",{"$f":"tblSalaries[[#This Row],[clean Salary (in local currency)]]*VLOOKUP(tblSalaries[[#This Row],[Currency]],[1]!tblXrate[#Data],2,FALSE)","v":53356.776437647524},"Consultant","Consultant","Germany",{"$f":"VLOOKUP(tblSalaries[[#This Row],[Where do you work]],[1]!tblCountries[[Actual]:[Mapping]],2,FALSE)","v":"Germany"},"2 to 3 hours per day",3]
["ID0952","2012-05-28T01:29:19",36000,"USD",{"$f":"tblSalaries[[#This Row],[clean Salary (in local currency)]]*VLOOKUP(tblSalaries[[#This Row],[Currency]],[1]!tblXrate[#Data],2,FALSE)","v":36000},"Accountant","Accountant","United Arab Emirates",{"$f":"VLOOKUP(tblSalaries[[#This Row],[Where do you work]],[1]!tblCountries[[Actual]:[Mapping]],2,FALSE)","v":"UAE"},"4 to 6 hours a day",4.5]
["ID0953","2012-05-28T01:30:29",57000,"USD",{"$f":"tblSalaries[[#This Row],[clean Salary (in local currency)]]*VLOOKUP(tblSalaries[[#This Row],[Currency]],[1]!tblXrate[#Data],2,FALSE)","v":57000},"Construction Engineer","Engineer","USA",{"$f":"VLOOKUP(tblSalaries[[#This Row],[Where do you work]],[1]!tblCountries[[Actual]:[Mapping]],2,FALSE)","v":"USA"},"2 to 3 hours per day",4]
["ID0954","2012-05-28T01:47:29",135000,"USD",{"$f":"tblSalaries[[#This Row],[clean Salary (in local currency)]]*VLOOKUP(tblSalaries[[#This Row],[Currency]],[1]!tblXrate[#Data],2,FALSE)","v":135000},"Marketing Insights Manager","Manager","USA",{"$f":"VLOOKUP(tblSalaries[[#This Row],[Where do you work]],[1]!tblCountries[[Actual]:[Mapping]],2,FALSE)","v":"USA"},"All the 8 hours baby, all the 8!",15]
["ID0955","2012-05-28T02:25:13",75000,"EUR",{"$f":"tblSalaries[[#This Row],[clean Salary (in local currency)]]*VLOOKUP(tblSalaries[[#This Row],[Currency]],[1]!tblXrate[#Data],2,FALSE)","v":95279.957924370581},"Risk analyst","Analyst","Netherlands",{"$f":"VLOOKUP(tblSalaries[[#This Row],[Where do you work]],[1]!tblCountries[[Actual]:[Mapping]],2,FALSE)","v":"Netherlands"},"4 to 6 hours a day",4]
["ID0957","2012-05-28T03:34:14",45000,"EUR",{"$f":"tblSalaries[[#This Row],[clean Salary (in local currency)]]*VLOOKUP(tblSalaries[[#This Row],[Currency]],[1]!tblXrate[#Data],2,FALSE)","v":57167.974754622352},"data analist","Analyst","netherlands",{"$f":"VLOOKUP(tblSalaries[[#This Row],[Where do you work]],[1]!tblCountries[[Actual]:[Mapping]],2,FALSE)","v":"Netherlands"},"2 to 3 hours per day",10]
["ID0958","2012-05-28T03:44:00",2000000,"NAIRA",{"$f":"tblSalaries[[#This Row],[clean Salary (in local currency)]]*VLOOKUP(tblSalaries[[#This Row],[Currency]],[1]!tblXrate[#Data],2,FALSE)","v":12326.656394453004},"Head Business Advisory","Manager","Nigeria",{"$f":"VLOOKUP(tblSalaries[[#This Row],[Where do you work]],[1]!tblCountries[[Actual]:[Mapping]],2,FALSE)","v":"Nigeria"},"4 to 6 hours a day",5]
["ID0959","2012-05-28T04:05:14",8000,"USD",{"$f":"tblSalaries[[#This Row],[clean Salary (in local currency)]]*VLOOKUP(tblSalaries[[#This Row],[Currency]],[1]!tblXrate[#Data],2,FALSE)","v":8000},"IT Analyst","Analyst","India",{"$f":"VLOOKUP(tblSalaries[[#This Row],[Where do you work]],[1]!tblCountries[[Actual]:[Mapping]],2,FALSE)","v":"India"},"1 or 2 hours a day",5]
["ID0960","2012-05-28T04:40:41",48000,"USD",{"$f":"tblSalaries[[#This Row],[clean Salary (in local currency)]]*VLOOKUP(tblSalaries[[#This Row],[Currency]],[1]!tblXrate[#Data],2,FALSE)","v":48000},"Merchandise planner","Manager","France",{"$f":"VLOOKUP(tblSalaries[[#This Row],[Where do you work]],[1]!tblCountries[[Actual]:[Mapping]],2,FALSE)","v":"France"},"4 to 6 hours a day",5]
["ID0961","2012-05-28T05:07:44",40000,"USD",{"$f":"tblSalaries[[#This Row],[clean Salary (in local currency)]]*VLOOKUP(tblSalaries[[#This Row],[Currency]],[1]!tblXrate[#Data],2,FALSE)","v":40000},"analyst","Analyst","NZ",{"$f":"VLOOKUP(tblSalaries[[#This Row],[Where do you work]],[1]!tblCountries[[Actual]:[Mapping]],2,FALSE)","v":"New Zealand"},"4 to 6 hours a day",5]
["ID0962","2012-05-28T05:09:12",75000,"NZD",{"$f":"tblSalaries[[#This Row],[clean Salary (in local currency)]]*VLOOKUP(tblSalaries[[#This Row],[Currency]],[1]!tblXrate[#Data],2,FALSE)","v":59819.107020370408},"Information Analyst","Analyst","New  Zealand",{"$f":"VLOOKUP(tblSalaries[[#This Row],[Where do you work]],[1]!tblCountries[[Actual]:[Mapping]],2,FALSE)","v":"New Zealand"},"4 to 6 hours a day",10]
["ID0963","2012-05-28T05:12:38",150000,"USD",{"$f":"tblSalaries[[#This Row],[clean Salary (in local currency)]]*VLOOKUP(tblSalaries[[#This Row],[Currency]],[1]!tblXrate[#Data],2,FALSE)","v":150000},"Software Tester","Analyst","Switzerland",{"$f":"VLOOKUP(tblSalaries[[#This Row],[Where do you work]],[1]!tblCountries[[Actual]:[Mapping]],2,FALSE)","v":"Switzerland"},"1 or 2 hours a day",20]
["ID0964","2012-05-28T05:20:41",80000,"AUD",{"$f":"tblSalaries[[#This Row],[clean Salary (in local currency)]]*VLOOKUP(tblSalaries[[#This Row],[Currency]],[1]!tblXrate[#Data],2,FALSE)","v":81592.772512210868},"Billing manager","Manager","Australia",{"$f":"VLOOKUP(tblSalaries[[#This Row],[Where do you work]],[1]!tblCountries[[Actual]:[Mapping]],2,FALSE)","v":"Australia"},"4 to 6 hours a day",25]
["ID0965","2012-05-28T05:48:56",95000,"AUD",{"$f":"tblSalaries[[#This Row],[clean Salary (in local currency)]]*VLOOKUP(tblSalaries[[#This Row],[Currency]],[1]!tblXrate[#Data],2,FALSE)","v":96891.417358250401},"financial analyst","Analyst","Australia",{"$f":"VLOOKUP(tblSalaries[[#This Row],[Where do you work]],[1]!tblCountries[[Actual]:[Mapping]],2,FALSE)","v":"Australia"},"2 to 3 hours per day",20]
["ID0966","2012-05-28T05:51:10",90000,"AUD",{"$f":"tblSalaries[[#This Row],[clean Salary (in local currency)]]*VLOOKUP(tblSalaries[[#This Row],[Currency]],[1]!tblXrate[#Data],2,FALSE)","v":91791.869076237213},"Senior Research Analyst","Analyst","Australia",{"$f":"VLOOKUP(tblSalaries[[#This Row],[Where do you work]],[1]!tblCountries[[Actual]:[Mapping]],2,FALSE)","v":"Australia"},"4 to 6 hours a day",13]
["ID0967","2012-05-28T05:51:20",15000,"USD",{"$f":"tblSalaries[[#This Row],[clean Salary (in local currency)]]*VLOOKUP(tblSalaries[[#This Row],[Currency]],[1]!tblXrate[#Data],2,FALSE)","v":15000},"Quality Executive","Analyst","India",{"$f":"VLOOKUP(tblSalaries[[#This Row],[Where do you work]],[1]!tblCountries[[Actual]:[Mapping]],2,FALSE)","v":"India"},"2 to 3 hours per day",2]
["ID0968","2012-05-28T06:25:36",65000,"AUD",{"$f":"tblSalaries[[#This Row],[clean Salary (in local currency)]]*VLOOKUP(tblSalaries[[#This Row],[Currency]],[1]!tblXrate[#Data],2,FALSE)","v":66294.12766617132},"Business Support ","Manager","Australia",{"$f":"VLOOKUP(tblSalaries[[#This Row],[Where do you work]],[1]!tblCountries[[Actual]:[Mapping]],2,FALSE)","v":"Australia"},"2 to 3 hours per day",5]
["ID0969","2012-05-28T06:35:50",100000,"AUD",{"$f":"tblSalaries[[#This Row],[clean Salary (in local currency)]]*VLOOKUP(tblSalaries[[#This Row],[Currency]],[1]!tblXrate[#Data],2,FALSE)","v":101990.96564026357},"Senior Consultant","Consultant","Australia",{"$f":"VLOOKUP(tblSalaries[[#This Row],[Where do you work]],[1]!tblCountries[[Actual]:[Mapping]],2,FALSE)","v":"Australia"},"All the 8 hours baby, all the 8!",6]
["ID0970","2012-05-28T06:51:54",60000,"USD",{"$f":"tblSalaries[[#This Row],[clean Salary (in local currency)]]*VLOOKUP(tblSalaries[[#This Row],[Currency]],[1]!tblXrate[#Data],2,FALSE)","v":60000},"Sales Manager","Manager","USA",{"$f":"VLOOKUP(tblSalaries[[#This Row],[Where do you work]],[1]!tblCountries[[Actual]:[Mapping]],2,FALSE)","v":"USA"},"2 to 3 hours per day",3]
["ID0971","2012-05-28T06:52:05",43000,"AUD",{"$f":"tblSalaries[[#This Row],[clean Salary (in local currency)]]*VLOOKUP(tblSalaries[[#This Row],[Currency]],[1]!tblXrate[#Data],2,FALSE)","v":43856.11522531334},"Finance Officer","Manager","Australia",{"$f":"VLOOKUP(tblSalaries[[#This Row],[Where do you work]],[1]!tblCountries[[Actual]:[Mapping]],2,FALSE)","v":"Australia"},"All the 8 hours baby, all the 8!",1]
["ID0972","2012-05-28T06:52:05",45616,"USD",{"$f":"tblSalaries[[#This Row],[clean Salary (in local currency)]]*VLOOKUP(tblSalaries[[#This Row],[Currency]],[1]!tblXrate[#Data],2,FALSE)","v":45616},"Assistant Fleet Analyst","Analyst","Australia",{"$f":"VLOOKUP(tblSalaries[[#This Row],[Where do you work]],[1]!tblCountries[[Actual]:[Mapping]],2,FALSE)","v":"Australia"},"4 to 6 hours a day",1.5]
["ID0973","2012-05-28T07:00:25",95000,"NZD",{"$f":"tblSalaries[[#This Row],[clean Salary (in local currency)]]*VLOOKUP(tblSalaries[[#This Row],[Currency]],[1]!tblXrate[#Data],2,FALSE)","v":75770.868892469181},"Cost Accountant","Accountant","New Zealand",{"$f":"VLOOKUP(tblSalaries[[#This Row],[Where do you work]],[1]!tblCountries[[Actual]:[Mapping]],2,FALSE)","v":"New Zealand"},"4 to 6 hours a day",20]
["ID0974","2012-05-28T07:21:12",56600,"AUD",{"$f":"tblSalaries[[#This Row],[clean Salary (in local currency)]]*VLOOKUP(tblSalaries[[#This Row],[Currency]],[1]!tblXrate[#Data],2,FALSE)","v":57726.886552389187},"Operations Coordinator","Manager","Australia",{"$f":"VLOOKUP(tblSalaries[[#This Row],[Where do you work]],[1]!tblCountries[[Actual]:[Mapping]],2,FALSE)","v":"Australia"},"2 to 3 hours per day",2]
["ID0975","2012-05-28T07:23:07",20000,"USD",{"$f":"tblSalaries[[#This Row],[clean Salary (in local currency)]]*VLOOKUP(tblSalaries[[#This Row],[Currency]],[1]!tblXrate[#Data],2,FALSE)","v":20000},"data analyst","Analyst","Australia",{"$f":"VLOOKUP(tblSalaries[[#This Row],[Where do you work]],[1]!tblCountries[[Actual]:[Mapping]],2,FALSE)","v":"Australia"},"2 to 3 hours per day",2]
["ID0976","2012-05-28T07:28:07",200000,"AUD",{"$f":"tblSalaries[[#This Row],[clean Salary (in local currency)]]*VLOOKUP(tblSalaries[[#This Row],[Currency]],[1]!tblXrate[#Data],2,FALSE)","v":203981.93128052715},"Corporate Finance Manager","Manager","Australia",{"$f":"VLOOKUP(tblSalaries[[#This Row],[Where do you work]],[1]!tblCountries[[Actual]:[Mapping]],2,FALSE)","v":"Australia"},"4 to 6 hours a day",15]
["ID0977","2012-05-28T07:28:34",50000,"AUD",{"$f":"tblSalaries[[#This Row],[clean Salary (in local currency)]]*VLOOKUP(tblSalaries[[#This Row],[Currency]],[1]!tblXrate[#Data],2,FALSE)","v":50995.482820131787},"Operations","Controller","Australia",{"$f":"VLOOKUP(tblSalaries[[#This Row],[Where do you work]],[1]!tblCountries[[Actual]:[Mapping]],2,FALSE)","v":"Australia"},"1 or 2 hours a day",5]
["ID0978","2012-05-28T07:29:43",125000,"AUD",{"$f":"tblSalaries[[#This Row],[clean Salary (in local currency)]]*VLOOKUP(tblSalaries[[#This Row],[Currency]],[1]!tblXrate[#Data],2,FALSE)","v":127488.70705032947},"Director, Informatics","CXO or Top Mgmt.","Australia",{"$f":"VLOOKUP(tblSalaries[[#This Row],[Where do you work]],[1]!tblCountries[[Actual]:[Mapping]],2,FALSE)","v":"Australia"},"4 to 6 hours a day",15]
["ID0979","2012-05-28T07:33:29",65000,"AUD",{"$f":"tblSalaries[[#This Row],[clean Salary (in local currency)]]*VLOOKUP(tblSalaries[[#This Row],[Currency]],[1]!tblXrate[#Data],2,FALSE)","v":66294.12766617132},"Data Analyst","Analyst","Australia",{"$f":"VLOOKUP(tblSalaries[[#This Row],[Where do you work]],[1]!tblCountries[[Actual]:[Mapping]],2,FALSE)","v":"Australia"},"4 to 6 hours a day",4]
["ID0980","2012-05-28T07:39:22",62000,"AUD",{"$f":"tblSalaries[[#This Row],[clean Salary (in local currency)]]*VLOOKUP(tblSalaries[[#This Row],[Currency]],[1]!tblXrate[#Data],2,FALSE)","v":63234.398696963413},"Business Analyst","Analyst","Australia",{"$f":"VLOOKUP(tblSalaries[[#This Row],[Where do you work]],[1]!tblCountries[[Actual]:[Mapping]],2,FALSE)","v":"Australia"},"4 to 6 hours a day",3]
["ID0981","2012-05-28T07:46:28",260000,"USD",{"$f":"tblSalaries[[#This Row],[clean Salary (in local currency)]]*VLOOKUP(tblSalaries[[#This Row],[Currency]],[1]!tblXrate[#Data],2,FALSE)","v":260000},"CFO","CXO or Top Mgmt.","USA",{"$f":"VLOOKUP(tblSalaries[[#This Row],[Where do you work]],[1]!tblCountries[[Actual]:[Mapping]],2,FALSE)","v":"USA"},"2 to 3 hours per day",10]
["ID0983","2012-05-28T07:59:49",110000,"AUD",{"$f":"tblSalaries[[#This Row],[clean Salary (in local currency)]]*VLOOKUP(tblSalaries[[#This Row],[Currency]],[1]!tblXrate[#Data],2,FALSE)","v":112190.06220428993},"Sustainability Strategy Advisor","Manager","Australia",{"$f":"VLOOKUP(tblSalaries[[#This Row],[Where do you work]],[1]!tblCountries[[Actual]:[Mapping]],2,FALSE)","v":"Australia"},"2 to 3 hours per day",8]
["ID0984","2012-05-28T08:03:10",70000,"AUD",{"$f":"tblSalaries[[#This Row],[clean Salary (in local currency)]]*VLOOKUP(tblSalaries[[#This Row],[Currency]],[1]!tblXrate[#Data],2,FALSE)","v":71393.675948184507},"Business Development","Manager","Australia",{"$f":"VLOOKUP(tblSalaries[[#This Row],[Where do you work]],[1]!tblCountries[[Actual]:[Mapping]],2,FALSE)","v":"Australia"},"4 to 6 hours a day",7]
["ID0985","2012-05-28T08:22:44",85000,"USD",{"$f":"tblSalaries[[#This Row],[clean Salary (in local currency)]]*VLOOKUP(tblSalaries[[#This Row],[Currency]],[1]!tblXrate[#Data],2,FALSE)","v":85000},"Reporting and DB Analyist","Reporting","Australia",{"$f":"VLOOKUP(tblSalaries[[#This Row],[Where do you work]],[1]!tblCountries[[Actual]:[Mapping]],2,FALSE)","v":"Australia"},"4 to 6 hours a day",8]
["ID0986","2012-05-28T08:26:43",94000,"AUD",{"$f":"tblSalaries[[#This Row],[clean Salary (in local currency)]]*VLOOKUP(tblSalaries[[#This Row],[Currency]],[1]!tblXrate[#Data],2,FALSE)","v":95871.50770184776},"Business Analyst","Analyst","Australia",{"$f":"VLOOKUP(tblSalaries[[#This Row],[Where do you work]],[1]!tblCountries[[Actual]:[Mapping]],2,FALSE)","v":"Australia"},"2 to 3 hours per day",2.5]
["ID0987","2012-05-28T08:35:32",107000,"AUD",{"$f":"tblSalaries[[#This Row],[clean Salary (in local currency)]]*VLOOKUP(tblSalaries[[#This Row],[Currency]],[1]!tblXrate[#Data],2,FALSE)","v":109130.33323508203},"Management Accountant","Manager","Australia",{"$f":"VLOOKUP(tblSalaries[[#This Row],[Where do you work]],[1]!tblCountries[[Actual]:[Mapping]],2,FALSE)","v":"Australia"},"4 to 6 hours a day",35]
["ID0988","2012-05-28T08:39:53",36000,"USD",{"$f":"tblSalaries[[#This Row],[clean Salary (in local currency)]]*VLOOKUP(tblSalaries[[#This Row],[Currency]],[1]!tblXrate[#Data],2,FALSE)","v":36000},"Project manager","Manager","malaysia",{"$f":"VLOOKUP(tblSalaries[[#This Row],[Where do you work]],[1]!tblCountries[[Actual]:[Mapping]],2,FALSE)","v":"malaysia"},"1 or 2 hours a day",3]
["ID0989","2012-05-28T08:41:13",120000,"AUD",{"$f":"tblSalaries[[#This Row],[clean Salary (in local currency)]]*VLOOKUP(tblSalaries[[#This Row],[Currency]],[1]!tblXrate[#Data],2,FALSE)","v":122389.15876831629},"analyst","Analyst","Australia",{"$f":"VLOOKUP(tblSalaries[[#This Row],[Where do you work]],[1]!tblCountries[[Actual]:[Mapping]],2,FALSE)","v":"Australia"},"4 to 6 hours a day",2]
["ID0990","2012-05-28T08:47:39",52000,"AUD",{"$f":"tblSalaries[[#This Row],[clean Salary (in local currency)]]*VLOOKUP(tblSalaries[[#This Row],[Currency]],[1]!tblXrate[#Data],2,FALSE)","v":53035.30213293706},"Shipping Administrator","Analyst","Australia",{"$f":"VLOOKUP(tblSalaries[[#This Row],[Where do you work]],[1]!tblCountries[[Actual]:[Mapping]],2,FALSE)","v":"Australia"},"4 to 6 hours a day",4]
["ID0991","2012-05-28T08:48:56",125000,"USD",{"$f":"tblSalaries[[#This Row],[clean Salary (in local currency)]]*VLOOKUP(tblSalaries[[#This Row],[Currency]],[1]!tblXrate[#Data],2,FALSE)","v":125000},"VP, Operational Analytics","CXO or Top Mgmt.","USA",{"$f":"VLOOKUP(tblSalaries[[#This Row],[Where do you work]],[1]!tblCountries[[Actual]:[Mapping]],2,FALSE)","v":"USA"},"4 to 6 hours a day",10]
["ID0992","2012-05-28T09:03:56",19000,"USD",{"$f":"tblSalaries[[#This Row],[clean Salary (in local currency)]]*VLOOKUP(tblSalaries[[#This Row],[Currency]],[1]!tblXrate[#Data],2,FALSE)","v":19000},"Finance analyst","Analyst","China",{"$f":"VLOOKUP(tblSalaries[[#This Row],[Where do you work]],[1]!tblCountries[[Actual]:[Mapping]],2,FALSE)","v":"china"},"4 to 6 hours a day",6]
["ID0993","2012-05-28T09:12:27",92000,"AUD",{"$f":"tblSalaries[[#This Row],[clean Salary (in local currency)]]*VLOOKUP(tblSalaries[[#This Row],[Currency]],[1]!tblXrate[#Data],2,FALSE)","v":93831.688389042494},"Finance analyst","Analyst","Australia",{"$f":"VLOOKUP(tblSalaries[[#This Row],[Where do you work]],[1]!tblCountries[[Actual]:[Mapping]],2,FALSE)","v":"Australia"},"All the 8 hours baby, all the 8!",6]
["ID0994","2012-05-28T09:21:56",100000,"AUD",{"$f":"tblSalaries[[#This Row],[clean Salary (in local currency)]]*VLOOKUP(tblSalaries[[#This Row],[Currency]],[1]!tblXrate[#Data],2,FALSE)","v":101990.96564026357},"Reporting Analyst","Analyst","Australia",{"$f":"VLOOKUP(tblSalaries[[#This Row],[Where do you work]],[1]!tblCountries[[Actual]:[Mapping]],2,FALSE)","v":"Australia"},"4 to 6 hours a day",20]
["ID0995","2012-05-28T09:26:10",120000,"AUD",{"$f":"tblSalaries[[#This Row],[clean Salary (in local currency)]]*VLOOKUP(tblSalaries[[#This Row],[Currency]],[1]!tblXrate[#Data],2,FALSE)","v":122389.15876831629},"HSLP Data Analyst","Analyst","Australia",{"$f":"VLOOKUP(tblSalaries[[#This Row],[Where do you work]],[1]!tblCountries[[Actual]:[Mapping]],2,FALSE)","v":"Australia"},"4 to 6 hours a day",5]
["ID0996","2012-05-28T09:38:29",35000,"CAD",{"$f":"tblSalaries[[#This Row],[clean Salary (in local currency)]]*VLOOKUP(tblSalaries[[#This Row],[Currency]],[1]!tblXrate[#Data],2,FALSE)","v":34417.653306061438},"Reporting Analyst","Analyst","Canada",{"$f":"VLOOKUP(tblSalaries[[#This Row],[Where do you work]],[1]!tblCountries[[Actual]:[Mapping]],2,FALSE)","v":"Canada"},"All the 8 hours baby, all the 8!",4]
["ID0997","2012-05-28T09:40:10",12000,"USD",{"$f":"tblSalaries[[#This Row],[clean Salary (in local currency)]]*VLOOKUP(tblSalaries[[#This Row],[Currency]],[1]!tblXrate[#Data],2,FALSE)","v":12000},"Manager","Manager","Asia",{"$f":"VLOOKUP(tblSalaries[[#This Row],[Where do you work]],[1]!tblCountries[[Actual]:[Mapping]],2,FALSE)","v":"Asia"},"All the 8 hours baby, all the 8!",3]
["ID0998","2012-05-28T09:41:04",204000,"INR",{"$f":"tblSalaries[[#This Row],[clean Salary (in local currency)]]*VLOOKUP(tblSalaries[[#This Row],[Currency]],[1]!tblXrate[#Data],2,FALSE)","v":3632.815004238284},"Retired Government Officer, having knowledge in excel.","Manager","India",{"$f":"VLOOKUP(tblSalaries[[#This Row],[Where do you work]],[1]!tblCountries[[Actual]:[Mapping]],2,FALSE)","v":"India"},"4 to 6 hours a day",0]
["ID0999","2012-05-28T09:43:33",1200000,"INR",{"$f":"tblSalaries[[#This Row],[clean Salary (in local currency)]]*VLOOKUP(tblSalaries[[#This Row],[Currency]],[1]!tblXrate[#Data],2,FALSE)","v":21369.500024931083},"Senior Consultant","Consultant","India",{"$f":"VLOOKUP(tblSalaries[[#This Row],[Where do you work]],[1]!tblCountries[[Actual]:[Mapping]],2,FALSE)","v":"India"},"All the 8 hours baby, all the 8!",6]
["ID1000","2012-05-28T09:51:24",500000,"INR",{"$f":"tblSalaries[[#This Row],[clean Salary (in local currency)]]*VLOOKUP(tblSalaries[[#This Row],[Currency]],[1]!tblXrate[#Data],2,FALSE)","v":8903.9583437212841},"Business Analyst","Analyst","India",{"$f":"VLOOKUP(tblSalaries[[#This Row],[Where do you work]],[1]!tblCountries[[Actual]:[Mapping]],2,FALSE)","v":"India"},"4 to 6 hours a day",7]
["ID1001","2012-05-28T10:15:27",48000,"MYR",{"$f":"tblSalaries[[#This Row],[clean Salary (in local currency)]]*VLOOKUP(tblSalaries[[#This Row],[Currency]],[1]!tblXrate[#Data],2,FALSE)","v":15206.427249917633},"Credit Risk Manager","Manager","Malaysia",{"$f":"VLOOKUP(tblSalaries[[#This Row],[Where do you work]],[1]!tblCountries[[Actual]:[Mapping]],2,FALSE)","v":"malaysia"},"4 to 6 hours a day",2]
["ID1002","2012-05-28T10:21:58",180000,"NZD",{"$f":"tblSalaries[[#This Row],[clean Salary (in local currency)]]*VLOOKUP(tblSalaries[[#This Row],[Currency]],[1]!tblXrate[#Data],2,FALSE)","v":143565.85684888897},"Commercial Manager","Manager","New Zealand",{"$f":"VLOOKUP(tblSalaries[[#This Row],[Where do you work]],[1]!tblCountries[[Actual]:[Mapping]],2,FALSE)","v":"New Zealand"},"4 to 6 hours a day",25]
["ID1003","2012-05-28T10:25:51",545000,"INR",{"$f":"tblSalaries[[#This Row],[clean Salary (in local currency)]]*VLOOKUP(tblSalaries[[#This Row],[Currency]],[1]!tblXrate[#Data],2,FALSE)","v":9705.3145946561999},"Assistant Manager","Manager","India",{"$f":"VLOOKUP(tblSalaries[[#This Row],[Where do you work]],[1]!tblCountries[[Actual]:[Mapping]],2,FALSE)","v":"India"},"2 to 3 hours per day",6]
["ID1004","2012-05-28T10:27:45",1000000,"INR",{"$f":"tblSalaries[[#This Row],[clean Salary (in local currency)]]*VLOOKUP(tblSalaries[[#This Row],[Currency]],[1]!tblXrate[#Data],2,FALSE)","v":17807.916687442568},"Credit Manager - Loans","Manager","India",{"$f":"VLOOKUP(tblSalaries[[#This Row],[Where do you work]],[1]!tblCountries[[Actual]:[Mapping]],2,FALSE)","v":"India"},"All the 8 hours baby, all the 8!",8]
["ID1005","2012-05-28T10:27:48",180000,"INR",{"$f":"tblSalaries[[#This Row],[clean Salary (in local currency)]]*VLOOKUP(tblSalaries[[#This Row],[Currency]],[1]!tblXrate[#Data],2,FALSE)","v":3205.4250037396623},"Audit executive","Analyst","INDIA",{"$f":"VLOOKUP(tblSalaries[[#This Row],[Where do you work]],[1]!tblCountries[[Actual]:[Mapping]],2,FALSE)","v":"India"},"4 to 6 hours a day",10]
["ID1006","2012-05-28T10:29:41",45000,"USD",{"$f":"tblSalaries[[#This Row],[clean Salary (in local currency)]]*VLOOKUP(tblSalaries[[#This Row],[Currency]],[1]!tblXrate[#Data],2,FALSE)","v":45000},"Staff accountant -- Auditing","Accountant","USA",{"$f":"VLOOKUP(tblSalaries[[#This Row],[Where do you work]],[1]!tblCountries[[Actual]:[Mapping]],2,FALSE)","v":"USA"},"All the 8 hours baby, all the 8!",3]
["ID1007","2012-05-28T10:38:53",700000,"INR",{"$f":"tblSalaries[[#This Row],[clean Salary (in local currency)]]*VLOOKUP(tblSalaries[[#This Row],[Currency]],[1]!tblXrate[#Data],2,FALSE)","v":12465.541681209797},"Asst Manager - Quality","Manager","India",{"$f":"VLOOKUP(tblSalaries[[#This Row],[Where do you work]],[1]!tblCountries[[Actual]:[Mapping]],2,FALSE)","v":"India"},"2 to 3 hours per day",7]
["ID1008","2012-05-28T10:41:38",94000,"AUD",{"$f":"tblSalaries[[#This Row],[clean Salary (in local currency)]]*VLOOKUP(tblSalaries[[#This Row],[Currency]],[1]!tblXrate[#Data],2,FALSE)","v":95871.50770184776},"Principal Analyst","Analyst","Australia",{"$f":"VLOOKUP(tblSalaries[[#This Row],[Where do you work]],[1]!tblCountries[[Actual]:[Mapping]],2,FALSE)","v":"Australia"},"2 to 3 hours per day",14]
["ID1009","2012-05-28T10:42:08",170000,"AUD",{"$f":"tblSalaries[[#This Row],[clean Salary (in local currency)]]*VLOOKUP(tblSalaries[[#This Row],[Currency]],[1]!tblXrate[#Data],2,FALSE)","v":173384.64158844808},"Business Consultant","Consultant","Australia",{"$f":"VLOOKUP(tblSalaries[[#This Row],[Where do you work]],[1]!tblCountries[[Actual]:[Mapping]],2,FALSE)","v":"Australia"},"2 to 3 hours per day",8]
["ID1010","2012-05-28T11:11:53",650000,"INR",{"$f":"tblSalaries[[#This Row],[clean Salary (in local currency)]]*VLOOKUP(tblSalaries[[#This Row],[Currency]],[1]!tblXrate[#Data],2,FALSE)","v":11575.14584683767},"Ass Research  Manager","Manager","India",{"$f":"VLOOKUP(tblSalaries[[#This Row],[Where do you work]],[1]!tblCountries[[Actual]:[Mapping]],2,FALSE)","v":"India"},"2 to 3 hours per day",1]
["ID1011","2012-05-28T11:31:20",18000,"USD",{"$f":"tblSalaries[[#This Row],[clean Salary (in local currency)]]*VLOOKUP(tblSalaries[[#This Row],[Currency]],[1]!tblXrate[#Data],2,FALSE)","v":18000},"Data Specialist","Specialist","India",{"$f":"VLOOKUP(tblSalaries[[#This Row],[Where do you work]],[1]!tblCountries[[Actual]:[Mapping]],2,FALSE)","v":"India"},"All the 8 hours baby, all the 8!",8]
["ID1012","2012-05-28T11:33:05",70000,"AUD",{"$f":"tblSalaries[[#This Row],[clean Salary (in local currency)]]*VLOOKUP(tblSalaries[[#This Row],[Currency]],[1]!tblXrate[#Data],2,FALSE)","v":71393.675948184507},"Director","CXO or Top Mgmt.","Australia",{"$f":"VLOOKUP(tblSalaries[[#This Row],[Where do you work]],[1]!tblCountries[[Actual]:[Mapping]],2,FALSE)","v":"Australia"},"All the 8 hours baby, all the 8!",2]
["ID1013","2012-05-28T11:33:07",350000,"INR",{"$f":"tblSalaries[[#This Row],[clean Salary (in local currency)]]*VLOOKUP(tblSalaries[[#This Row],[Currency]],[1]!tblXrate[#Data],2,FALSE)","v":6232.7708406048987},"Data Analyst","Analyst","India",{"$f":"VLOOKUP(tblSalaries[[#This Row],[Where do you work]],[1]!tblCountries[[Actual]:[Mapping]],2,FALSE)","v":"India"},"4 to 6 hours a day",2.5]
["ID1014","2012-05-28T11:37:17",240000,"LKR",{"$f":"tblSalaries[[#This Row],[clean Salary (in local currency)]]*VLOOKUP(tblSalaries[[#This Row],[Currency]],[1]!tblXrate[#Data],2,FALSE)","v":1805.7739622442759},"Management Trainee","Manager","Sri Lanka",{"$f":"VLOOKUP(tblSalaries[[#This Row],[Where do you work]],[1]!tblCountries[[Actual]:[Mapping]],2,FALSE)","v":"Sri Lanka"},"4 to 6 hours a day",3]
["ID1015","2012-05-28T11:39:01",640000,"INR",{"$f":"tblSalaries[[#This Row],[clean Salary (in local currency)]]*VLOOKUP(tblSalaries[[#This Row],[Currency]],[1]!tblXrate[#Data],2,FALSE)","v":11397.066679963244},"Sr.Analyst - Process Excellence","Analyst","India",{"$f":"VLOOKUP(tblSalaries[[#This Row],[Where do you work]],[1]!tblCountries[[Actual]:[Mapping]],2,FALSE)","v":"India"},"All the 8 hours baby, all the 8!",6]
["ID1016","2012-05-28T11:41:11",15000,"USD",{"$f":"tblSalaries[[#This Row],[clean Salary (in local currency)]]*VLOOKUP(tblSalaries[[#This Row],[Currency]],[1]!tblXrate[#Data],2,FALSE)","v":15000},"Operations Management","Manager","India",{"$f":"VLOOKUP(tblSalaries[[#This Row],[Where do you work]],[1]!tblCountries[[Actual]:[Mapping]],2,FALSE)","v":"India"},"4 to 6 hours a day",4]
["ID1017","2012-05-28T11:58:39",308500,"ZAR",{"$f":"tblSalaries[[#This Row],[clean Salary (in local currency)]]*VLOOKUP(tblSalaries[[#This Row],[Currency]],[1]!tblXrate[#Data],2,FALSE)","v":37612.869087708088},"Management Information Consultant","Manager","South Africa",{"$f":"VLOOKUP(tblSalaries[[#This Row],[Where do you work]],[1]!tblCountries[[Actual]:[Mapping]],2,FALSE)","v":"South Africa"},"All the 8 hours baby, all the 8!",3]
["ID1018","2012-05-28T12:00:14",365000,"INR",{"$f":"tblSalaries[[#This Row],[clean Salary (in local currency)]]*VLOOKUP(tblSalaries[[#This Row],[Currency]],[1]!tblXrate[#Data],2,FALSE)","v":6499.8895909165376},"associate analyst","Analyst","India",{"$f":"VLOOKUP(tblSalaries[[#This Row],[Where do you work]],[1]!tblCountries[[Actual]:[Mapping]],2,FALSE)","v":"India"},"4 to 6 hours a day",3]
["ID1019","2012-05-28T12:09:37",20000,"USD",{"$f":"tblSalaries[[#This Row],[clean Salary (in local currency)]]*VLOOKUP(tblSalaries[[#This Row],[Currency]],[1]!tblXrate[#Data],2,FALSE)","v":20000},"Head of Financial Reporting","Reporting","Paraguay",{"$f":"VLOOKUP(tblSalaries[[#This Row],[Where do you work]],[1]!tblCountries[[Actual]:[Mapping]],2,FALSE)","v":"Paraguay"},"All the 8 hours baby, all the 8!",6]
["ID1020","2012-05-28T12:10:09",7265,"USD",{"$f":"tblSalaries[[#This Row],[clean Salary (in local currency)]]*VLOOKUP(tblSalaries[[#This Row],[Currency]],[1]!tblXrate[#Data],2,FALSE)","v":7265},"Softwar Engineer","Engineer","India",{"$f":"VLOOKUP(tblSalaries[[#This Row],[Where do you work]],[1]!tblCountries[[Actual]:[Mapping]],2,FALSE)","v":"India"},"4 to 6 hours a day",6]
["ID1021","2012-05-28T12:15:53",92000,"SGD",{"$f":"tblSalaries[[#This Row],[clean Salary (in local currency)]]*VLOOKUP(tblSalaries[[#This Row],[Currency]],[1]!tblXrate[#Data],2,FALSE)","v":72571.80269935554},"Finance Manager","Manager","Singapore",{"$f":"VLOOKUP(tblSalaries[[#This Row],[Where do you work]],[1]!tblCountries[[Actual]:[Mapping]],2,FALSE)","v":"Singapore"},"All the 8 hours baby, all the 8!",15]
["ID1023","2012-05-28T12:20:48",450000,"INR",{"$f":"tblSalaries[[#This Row],[clean Salary (in local currency)]]*VLOOKUP(tblSalaries[[#This Row],[Currency]],[1]!tblXrate[#Data],2,FALSE)","v":8013.5625093491553},"Asst. Manager","Manager","India",{"$f":"VLOOKUP(tblSalaries[[#This Row],[Where do you work]],[1]!tblCountries[[Actual]:[Mapping]],2,FALSE)","v":"India"},"All the 8 hours baby, all the 8!",15]
["ID1024","2012-05-28T12:26:01",570000,"INR",{"$f":"tblSalaries[[#This Row],[clean Salary (in local currency)]]*VLOOKUP(tblSalaries[[#This Row],[Currency]],[1]!tblXrate[#Data],2,FALSE)","v":10150.512511842264},"MIS & Analysis","Analyst","India",{"$f":"VLOOKUP(tblSalaries[[#This Row],[Where do you work]],[1]!tblCountries[[Actual]:[Mapping]],2,FALSE)","v":"India"},"4 to 6 hours a day",5]
["ID1025","2012-05-28T12:26:42",65000,"USD",{"$f":"tblSalaries[[#This Row],[clean Salary (in local currency)]]*VLOOKUP(tblSalaries[[#This Row],[Currency]],[1]!tblXrate[#Data],2,FALSE)","v":65000},"Controller","Controller","USA",{"$f":"VLOOKUP(tblSalaries[[#This Row],[Where do you work]],[1]!tblCountries[[Actual]:[Mapping]],2,FALSE)","v":"USA"},"4 to 6 hours a day",9]
["ID1026","2012-05-28T12:32:12",300000,"PKR",{"$f":"tblSalaries[[#This Row],[clean Salary (in local currency)]]*VLOOKUP(tblSalaries[[#This Row],[Currency]],[1]!tblXrate[#Data],2,FALSE)","v":3184.2266150397395},"Banker","Manager","Pakistan",{"$f":"VLOOKUP(tblSalaries[[#This Row],[Where do you work]],[1]!tblCountries[[Actual]:[Mapping]],2,FALSE)","v":"Pakistan"},"4 to 6 hours a day",4]
["ID1027","2012-05-28T12:35:38",612000,"INR",{"$f":"tblSalaries[[#This Row],[clean Salary (in local currency)]]*VLOOKUP(tblSalaries[[#This Row],[Currency]],[1]!tblXrate[#Data],2,FALSE)","v":10898.445012714852},"Asst. Manager ","Manager","India",{"$f":"VLOOKUP(tblSalaries[[#This Row],[Where do you work]],[1]!tblCountries[[Actual]:[Mapping]],2,FALSE)","v":"India"},"2 to 3 hours per day",13]
["ID1028","2012-05-28T12:40:26",10800,"USD",{"$f":"tblSalaries[[#This Row],[clean Salary (in local currency)]]*VLOOKUP(tblSalaries[[#This Row],[Currency]],[1]!tblXrate[#Data],2,FALSE)","v":10800},"Project Managment Office","Manager","Pakistan",{"$f":"VLOOKUP(tblSalaries[[#This Row],[Where do you work]],[1]!tblCountries[[Actual]:[Mapping]],2,FALSE)","v":"Pakistan"},"All the 8 hours baby, all the 8!",5]
["ID1029","2012-05-28T12:47:20",120000,"INR",{"$f":"tblSalaries[[#This Row],[clean Salary (in local currency)]]*VLOOKUP(tblSalaries[[#This Row],[Currency]],[1]!tblXrate[#Data],2,FALSE)","v":2136.9500024931081},"Audit Assistant","Analyst","India",{"$f":"VLOOKUP(tblSalaries[[#This Row],[Where do you work]],[1]!tblCountries[[Actual]:[Mapping]],2,FALSE)","v":"India"},"2 to 3 hours per day",3.5]
["ID1030","2012-05-28T12:51:53",45000,"USD",{"$f":"tblSalaries[[#This Row],[clean Salary (in local currency)]]*VLOOKUP(tblSalaries[[#This Row],[Currency]],[1]!tblXrate[#Data],2,FALSE)","v":45000},"Engineer","Engineer","singapore",{"$f":"VLOOKUP(tblSalaries[[#This Row],[Where do you work]],[1]!tblCountries[[Actual]:[Mapping]],2,FALSE)","v":"Singapore"},"2 to 3 hours per day",4]
["ID1031","2012-05-28T12:57:13",400000,"INR",{"$f":"tblSalaries[[#This Row],[clean Salary (in local currency)]]*VLOOKUP(tblSalaries[[#This Row],[Currency]],[1]!tblXrate[#Data],2,FALSE)","v":7123.1666749770275},"Sr. Executive","Manager","India",{"$f":"VLOOKUP(tblSalaries[[#This Row],[Where do you work]],[1]!tblCountries[[Actual]:[Mapping]],2,FALSE)","v":"India"},"2 to 3 hours per day",5]
["ID1032","2012-05-28T12:58:44",300000,"INR",{"$f":"tblSalaries[[#This Row],[clean Salary (in local currency)]]*VLOOKUP(tblSalaries[[#This Row],[Currency]],[1]!tblXrate[#Data],2,FALSE)","v":5342.3750062327708},"ACCOUNTS","Accountant","India",{"$f":"VLOOKUP(tblSalaries[[#This Row],[Where do you work]],[1]!tblCountries[[Actual]:[Mapping]],2,FALSE)","v":"India"},"2 to 3 hours per day",5]
["ID1033","2012-05-28T12:59:59",18000,"USD",{"$f":"tblSalaries[[#This Row],[clean Salary (in local currency)]]*VLOOKUP(tblSalaries[[#This Row],[Currency]],[1]!tblXrate[#Data],2,FALSE)","v":18000},"Area Sales Manager","Manager","India",{"$f":"VLOOKUP(tblSalaries[[#This Row],[Where do you work]],[1]!tblCountries[[Actual]:[Mapping]],2,FALSE)","v":"India"},"2 to 3 hours per day",4.5999999999999996]
["ID1034","2012-05-28T13:01:42",456000,"PKR",{"$f":"tblSalaries[[#This Row],[clean Salary (in local currency)]]*VLOOKUP(tblSalaries[[#This Row],[Currency]],[1]!tblXrate[#Data],2,FALSE)","v":4840.0244548604041},"Strategic Planning Executive","Manager","Pakistan",{"$f":"VLOOKUP(tblSalaries[[#This Row],[Where do you work]],[1]!tblCountries[[Actual]:[Mapping]],2,FALSE)","v":"Pakistan"},"4 to 6 hours a day",2]
["ID1035","2012-05-28T13:02:56",420000,"INR",{"$f":"tblSalaries[[#This Row],[clean Salary (in local currency)]]*VLOOKUP(tblSalaries[[#This Row],[Currency]],[1]!tblXrate[#Data],2,FALSE)","v":7479.3250087258784},"Analyst","Analyst","India",{"$f":"VLOOKUP(tblSalaries[[#This Row],[Where do you work]],[1]!tblCountries[[Actual]:[Mapping]],2,FALSE)","v":"India"},"2 to 3 hours per day",10]
["ID1036","2012-05-28T13:05:39",210000,"INR",{"$f":"tblSalaries[[#This Row],[clean Salary (in local currency)]]*VLOOKUP(tblSalaries[[#This Row],[Currency]],[1]!tblXrate[#Data],2,FALSE)","v":3739.6625043629392},"MIS executive","Reporting","India",{"$f":"VLOOKUP(tblSalaries[[#This Row],[Where do you work]],[1]!tblCountries[[Actual]:[Mapping]],2,FALSE)","v":"India"},"All the 8 hours baby, all the 8!",3.5]
["ID1037","2012-05-28T13:06:37",42000,"USD",{"$f":"tblSalaries[[#This Row],[clean Salary (in local currency)]]*VLOOKUP(tblSalaries[[#This Row],[Currency]],[1]!tblXrate[#Data],2,FALSE)","v":42000},"Category Operations Supv.","Manager","Kuwait",{"$f":"VLOOKUP(tblSalaries[[#This Row],[Where do you work]],[1]!tblCountries[[Actual]:[Mapping]],2,FALSE)","v":"Kuwait"},"All the 8 hours baby, all the 8!",5]
["ID1038","2012-05-28T13:10:02",28000,"USD",{"$f":"tblSalaries[[#This Row],[clean Salary (in local currency)]]*VLOOKUP(tblSalaries[[#This Row],[Currency]],[1]!tblXrate[#Data],2,FALSE)","v":28000},"BI","Reporting","India",{"$f":"VLOOKUP(tblSalaries[[#This Row],[Where do you work]],[1]!tblCountries[[Actual]:[Mapping]],2,FALSE)","v":"India"},"2 to 3 hours per day",3]
["ID1039","2012-05-28T13:11:42",6000,"USD",{"$f":"tblSalaries[[#This Row],[clean Salary (in local currency)]]*VLOOKUP(tblSalaries[[#This Row],[Currency]],[1]!tblXrate[#Data],2,FALSE)","v":6000},"Manager","Manager","India",{"$f":"VLOOKUP(tblSalaries[[#This Row],[Where do you work]],[1]!tblCountries[[Actual]:[Mapping]],2,FALSE)","v":"India"},"4 to 6 hours a day",5]
["ID1040","2012-05-28T13:26:22",55000,"NZD",{"$f":"tblSalaries[[#This Row],[clean Salary (in local currency)]]*VLOOKUP(tblSalaries[[#This Row],[Currency]],[1]!tblXrate[#Data],2,FALSE)","v":43867.345148271634},"Financial Analyst","Analyst","New Zealand",{"$f":"VLOOKUP(tblSalaries[[#This Row],[Where do you work]],[1]!tblCountries[[Actual]:[Mapping]],2,FALSE)","v":"New Zealand"},"All the 8 hours baby, all the 8!",10]
["ID1041","2012-05-28T13:27:46",1000000,"INR",{"$f":"tblSalaries[[#This Row],[clean Salary (in local currency)]]*VLOOKUP(tblSalaries[[#This Row],[Currency]],[1]!tblXrate[#Data],2,FALSE)","v":17807.916687442568},"Teaching","Analyst","India",{"$f":"VLOOKUP(tblSalaries[[#This Row],[Where do you work]],[1]!tblCountries[[Actual]:[Mapping]],2,FALSE)","v":"India"},"1 or 2 hours a day",25]
["ID1042","2012-05-28T13:37:10",600000,"INR",{"$f":"tblSalaries[[#This Row],[clean Salary (in local currency)]]*VLOOKUP(tblSalaries[[#This Row],[Currency]],[1]!tblXrate[#Data],2,FALSE)","v":10684.750012465542},"Business Analyst","Analyst","India",{"$f":"VLOOKUP(tblSalaries[[#This Row],[Where do you work]],[1]!tblCountries[[Actual]:[Mapping]],2,FALSE)","v":"India"},"All the 8 hours baby, all the 8!",12]
["ID1043","2012-05-28T13:40:58",60000,"USD",{"$f":"tblSalaries[[#This Row],[clean Salary (in local currency)]]*VLOOKUP(tblSalaries[[#This Row],[Currency]],[1]!tblXrate[#Data],2,FALSE)","v":60000},"Excel Developer","Consultant","Finland",{"$f":"VLOOKUP(tblSalaries[[#This Row],[Where do you work]],[1]!tblCountries[[Actual]:[Mapping]],2,FALSE)","v":"Finland"},"All the 8 hours baby, all the 8!",5]
["ID1044","2012-05-28T13:41:33",476000,"INR",{"$f":"tblSalaries[[#This Row],[clean Salary (in local currency)]]*VLOOKUP(tblSalaries[[#This Row],[Currency]],[1]!tblXrate[#Data],2,FALSE)","v":8476.5683432226633},"Report Specialist","Reporting","India",{"$f":"VLOOKUP(tblSalaries[[#This Row],[Where do you work]],[1]!tblCountries[[Actual]:[Mapping]],2,FALSE)","v":"India"},"4 to 6 hours a day",8]
["ID1045","2012-05-28T13:42:12",8700,"USD",{"$f":"tblSalaries[[#This Row],[clean Salary (in local currency)]]*VLOOKUP(tblSalaries[[#This Row],[Currency]],[1]!tblXrate[#Data],2,FALSE)","v":8700},"Project Controlling (MIS Reports)","Controller","India",{"$f":"VLOOKUP(tblSalaries[[#This Row],[Where do you work]],[1]!tblCountries[[Actual]:[Mapping]],2,FALSE)","v":"India"},"2 to 3 hours per day",7]
["ID1046","2012-05-28T13:42:35",200000,"INR",{"$f":"tblSalaries[[#This Row],[clean Salary (in local currency)]]*VLOOKUP(tblSalaries[[#This Row],[Currency]],[1]!tblXrate[#Data],2,FALSE)","v":3561.5833374885137},"Monitoring & evaluation officer","Manager","India",{"$f":"VLOOKUP(tblSalaries[[#This Row],[Where do you work]],[1]!tblCountries[[Actual]:[Mapping]],2,FALSE)","v":"India"},"All the 8 hours baby, all the 8!",8]
["ID1047","2012-05-28T13:43:01",180000,"INR",{"$f":"tblSalaries[[#This Row],[clean Salary (in local currency)]]*VLOOKUP(tblSalaries[[#This Row],[Currency]],[1]!tblXrate[#Data],2,FALSE)","v":3205.4250037396623},"MIS EXCUTIVE","Reporting","India",{"$f":"VLOOKUP(tblSalaries[[#This Row],[Where do you work]],[1]!tblCountries[[Actual]:[Mapping]],2,FALSE)","v":"India"},"All the 8 hours baby, all the 8!",4]
["ID1048","2012-05-28T13:46:17",252000,"INR",{"$f":"tblSalaries[[#This Row],[clean Salary (in local currency)]]*VLOOKUP(tblSalaries[[#This Row],[Currency]],[1]!tblXrate[#Data],2,FALSE)","v":4487.5950052355274},"Accounts Exec","Accountant","India",{"$f":"VLOOKUP(tblSalaries[[#This Row],[Where do you work]],[1]!tblCountries[[Actual]:[Mapping]],2,FALSE)","v":"India"},"1 or 2 hours a day",5]
["ID1049","2012-05-28T13:54:57",700000,"INR",{"$f":"tblSalaries[[#This Row],[clean Salary (in local currency)]]*VLOOKUP(tblSalaries[[#This Row],[Currency]],[1]!tblXrate[#Data],2,FALSE)","v":12465.541681209797},"Credit Analyst","Analyst","India",{"$f":"VLOOKUP(tblSalaries[[#This Row],[Where do you work]],[1]!tblCountries[[Actual]:[Mapping]],2,FALSE)","v":"India"},"4 to 6 hours a day",5]
["ID1050","2012-05-28T14:00:56",2400,"USD",{"$f":"tblSalaries[[#This Row],[clean Salary (in local currency)]]*VLOOKUP(tblSalaries[[#This Row],[Currency]],[1]!tblXrate[#Data],2,FALSE)","v":2400},"Accounts Officer","Accountant","Pakistan",{"$f":"VLOOKUP(tblSalaries[[#This Row],[Where do you work]],[1]!tblCountries[[Actual]:[Mapping]],2,FALSE)","v":"Pakistan"},"2 to 3 hours per day",15]
["ID1051","2012-05-28T14:11:34",55000,"USD",{"$f":"tblSalaries[[#This Row],[clean Salary (in local currency)]]*VLOOKUP(tblSalaries[[#This Row],[Currency]],[1]!tblXrate[#Data],2,FALSE)","v":55000},"Economist","Reporting","Israel",{"$f":"VLOOKUP(tblSalaries[[#This Row],[Where do you work]],[1]!tblCountries[[Actual]:[Mapping]],2,FALSE)","v":"Israel"},"4 to 6 hours a day",6]
["ID1052","2012-05-28T14:12:35",12000,"USD",{"$f":"tblSalaries[[#This Row],[clean Salary (in local currency)]]*VLOOKUP(tblSalaries[[#This Row],[Currency]],[1]!tblXrate[#Data],2,FALSE)","v":12000},"planning & Sales Control emploee","Controller","Iran",{"$f":"VLOOKUP(tblSalaries[[#This Row],[Where do you work]],[1]!tblCountries[[Actual]:[Mapping]],2,FALSE)","v":"iran"},"4 to 6 hours a day",3]
["ID1053","2012-05-28T14:12:50",43500,"EUR",{"$f":"tblSalaries[[#This Row],[clean Salary (in local currency)]]*VLOOKUP(tblSalaries[[#This Row],[Currency]],[1]!tblXrate[#Data],2,FALSE)","v":55262.375596134938},"RRHH","Manager","SPAIN",{"$f":"VLOOKUP(tblSalaries[[#This Row],[Where do you work]],[1]!tblCountries[[Actual]:[Mapping]],2,FALSE)","v":"Spain"},"2 to 3 hours per day",10]
["ID1054","2012-05-28T14:12:52",1200000,"INR",{"$f":"tblSalaries[[#This Row],[clean Salary (in local currency)]]*VLOOKUP(tblSalaries[[#This Row],[Currency]],[1]!tblXrate[#Data],2,FALSE)","v":21369.500024931083},"Management Trainee","Manager","India",{"$f":"VLOOKUP(tblSalaries[[#This Row],[Where do you work]],[1]!tblCountries[[Actual]:[Mapping]],2,FALSE)","v":"India"},"2 to 3 hours per day",2]
["ID1055","2012-05-28T14:18:40",26000,"GBP",{"$f":"tblSalaries[[#This Row],[clean Salary (in local currency)]]*VLOOKUP(tblSalaries[[#This Row],[Currency]],[1]!tblXrate[#Data],2,FALSE)","v":40980.635073749385},"Consultant","Consultant","UK",{"$f":"VLOOKUP(tblSalaries[[#This Row],[Where do you work]],[1]!tblCountries[[Actual]:[Mapping]],2,FALSE)","v":"UK"},"All the 8 hours baby, all the 8!",8]
["ID1056","2012-05-28T14:21:27",50000,"AUD",{"$f":"tblSalaries[[#This Row],[clean Salary (in local currency)]]*VLOOKUP(tblSalaries[[#This Row],[Currency]],[1]!tblXrate[#Data],2,FALSE)","v":50995.482820131787},"BA","Analyst","Australia",{"$f":"VLOOKUP(tblSalaries[[#This Row],[Where do you work]],[1]!tblCountries[[Actual]:[Mapping]],2,FALSE)","v":"Australia"},"4 to 6 hours a day",4]
["ID1057","2012-05-28T14:22:02",16000,"EUR",{"$f":"tblSalaries[[#This Row],[clean Salary (in local currency)]]*VLOOKUP(tblSalaries[[#This Row],[Currency]],[1]!tblXrate[#Data],2,FALSE)","v":20326.391023865726},"Management Information Systems","Manager","Greece",{"$f":"VLOOKUP(tblSalaries[[#This Row],[Where do you work]],[1]!tblCountries[[Actual]:[Mapping]],2,FALSE)","v":"Greece"},"All the 8 hours baby, all the 8!",16]
["ID1058","2012-05-28T14:23:57",12000,"USD",{"$f":"tblSalaries[[#This Row],[clean Salary (in local currency)]]*VLOOKUP(tblSalaries[[#This Row],[Currency]],[1]!tblXrate[#Data],2,FALSE)","v":12000},"consultant","Consultant","India",{"$f":"VLOOKUP(tblSalaries[[#This Row],[Where do you work]],[1]!tblCountries[[Actual]:[Mapping]],2,FALSE)","v":"India"},"2 to 3 hours per day",8]
["ID1059","2012-05-28T14:30:05",240000,"ZAR",{"$f":"tblSalaries[[#This Row],[clean Salary (in local currency)]]*VLOOKUP(tblSalaries[[#This Row],[Currency]],[1]!tblXrate[#Data],2,FALSE)","v":29261.227167098674},"Bookkeeper","Accountant","South Africa",{"$f":"VLOOKUP(tblSalaries[[#This Row],[Where do you work]],[1]!tblCountries[[Actual]:[Mapping]],2,FALSE)","v":"South Africa"},"2 to 3 hours per day",20]
["ID1060","2012-05-28T14:32:11",120000,"ZAR",{"$f":"tblSalaries[[#This Row],[clean Salary (in local currency)]]*VLOOKUP(tblSalaries[[#This Row],[Currency]],[1]!tblXrate[#Data],2,FALSE)","v":14630.613583549337},"VP","CXO or Top Mgmt.","South Africa",{"$f":"VLOOKUP(tblSalaries[[#This Row],[Where do you work]],[1]!tblCountries[[Actual]:[Mapping]],2,FALSE)","v":"South Africa"},"4 to 6 hours a day",10]
["ID1061","2012-05-28T14:34:34",408000,"INR",{"$f":"tblSalaries[[#This Row],[clean Salary (in local currency)]]*VLOOKUP(tblSalaries[[#This Row],[Currency]],[1]!tblXrate[#Data],2,FALSE)","v":7265.630008476568},"Sr Exec - Finance","Accountant","India",{"$f":"VLOOKUP(tblSalaries[[#This Row],[Where do you work]],[1]!tblCountries[[Actual]:[Mapping]],2,FALSE)","v":"India"},"All the 8 hours baby, all the 8!",5]
["ID1062","2012-05-28T14:34:37",28000,"GBP",{"$f":"tblSalaries[[#This Row],[clean Salary (in local currency)]]*VLOOKUP(tblSalaries[[#This Row],[Currency]],[1]!tblXrate[#Data],2,FALSE)","v":44132.991617883956},"Modeller","Analyst","UK",{"$f":"VLOOKUP(tblSalaries[[#This Row],[Where do you work]],[1]!tblCountries[[Actual]:[Mapping]],2,FALSE)","v":"UK"},"2 to 3 hours per day",16]
["ID1063","2012-05-28T14:40:54",530000,"INR",{"$f":"tblSalaries[[#This Row],[clean Salary (in local currency)]]*VLOOKUP(tblSalaries[[#This Row],[Currency]],[1]!tblXrate[#Data],2,FALSE)","v":9438.1958443445619},"Project Administrator","Analyst","India",{"$f":"VLOOKUP(tblSalaries[[#This Row],[Where do you work]],[1]!tblCountries[[Actual]:[Mapping]],2,FALSE)","v":"India"},"2 to 3 hours per day",7]
["ID1064","2012-05-28T14:43:40",18000,"USD",{"$f":"tblSalaries[[#This Row],[clean Salary (in local currency)]]*VLOOKUP(tblSalaries[[#This Row],[Currency]],[1]!tblXrate[#Data],2,FALSE)","v":18000},"Analyst","Analyst","Poland",{"$f":"VLOOKUP(tblSalaries[[#This Row],[Where do you work]],[1]!tblCountries[[Actual]:[Mapping]],2,FALSE)","v":"Poland"},"4 to 6 hours a day",7]
["ID1065","2012-05-28T14:44:26",200000,"INR",{"$f":"tblSalaries[[#This Row],[clean Salary (in local currency)]]*VLOOKUP(tblSalaries[[#This Row],[Currency]],[1]!tblXrate[#Data],2,FALSE)","v":3561.5833374885137},"Business Development Executive","Manager","India",{"$f":"VLOOKUP(tblSalaries[[#This Row],[Where do you work]],[1]!tblCountries[[Actual]:[Mapping]],2,FALSE)","v":"India"},"2 to 3 hours per day",5]
["ID1066","2012-05-28T14:45:04",200000,"INR",{"$f":"tblSalaries[[#This Row],[clean Salary (in local currency)]]*VLOOKUP(tblSalaries[[#This Row],[Currency]],[1]!tblXrate[#Data],2,FALSE)","v":3561.5833374885137},"MIS Executive","Reporting","India",{"$f":"VLOOKUP(tblSalaries[[#This Row],[Where do you work]],[1]!tblCountries[[Actual]:[Mapping]],2,FALSE)","v":"India"},"4 to 6 hours a day",3]
["ID1067","2012-05-28T14:46:42",5100,"USD",{"$f":"tblSalaries[[#This Row],[clean Salary (in local currency)]]*VLOOKUP(tblSalaries[[#This Row],[Currency]],[1]!tblXrate[#Data],2,FALSE)","v":5100},"MIS Executive","Reporting","India",{"$f":"VLOOKUP(tblSalaries[[#This Row],[Where do you work]],[1]!tblCountries[[Actual]:[Mapping]],2,FALSE)","v":"India"},"All the 8 hours baby, all the 8!",8]
["ID1068","2012-05-28T14:50:03",1200000,"INR",{"$f":"tblSalaries[[#This Row],[clean Salary (in local currency)]]*VLOOKUP(tblSalaries[[#This Row],[Currency]],[1]!tblXrate[#Data],2,FALSE)","v":21369.500024931083},"executive","Analyst","India",{"$f":"VLOOKUP(tblSalaries[[#This Row],[Where do you work]],[1]!tblCountries[[Actual]:[Mapping]],2,FALSE)","v":"India"},"4 to 6 hours a day",7]
["ID1069","2012-05-28T14:52:45",300000,"INR",{"$f":"tblSalaries[[#This Row],[clean Salary (in local currency)]]*VLOOKUP(tblSalaries[[#This Row],[Currency]],[1]!tblXrate[#Data],2,FALSE)","v":5342.3750062327708},"Professional consultant-Finance","Consultant","India",{"$f":"VLOOKUP(tblSalaries[[#This Row],[Where do you work]],[1]!tblCountries[[Actual]:[Mapping]],2,FALSE)","v":"India"},"2 to 3 hours per day",1]
["ID1070","2012-05-28T14:53:02",50000,"USD",{"$f":"tblSalaries[[#This Row],[clean Salary (in local currency)]]*VLOOKUP(tblSalaries[[#This Row],[Currency]],[1]!tblXrate[#Data],2,FALSE)","v":50000},"Managing Partner","CXO or Top Mgmt.","India",{"$f":"VLOOKUP(tblSalaries[[#This Row],[Where do you work]],[1]!tblCountries[[Actual]:[Mapping]],2,FALSE)","v":"India"},"1 or 2 hours a day",26]
["ID1071","2012-05-28T14:53:44",1600000,"INR",{"$f":"tblSalaries[[#This Row],[clean Salary (in local currency)]]*VLOOKUP(tblSalaries[[#This Row],[Currency]],[1]!tblXrate[#Data],2,FALSE)","v":28492.66669990811},"Manager Fin","Manager","India",{"$f":"VLOOKUP(tblSalaries[[#This Row],[Where do you work]],[1]!tblCountries[[Actual]:[Mapping]],2,FALSE)","v":"India"},"All the 8 hours baby, all the 8!",9]
["ID1072","2012-05-28T14:56:27",15600,"GBP",{"$f":"tblSalaries[[#This Row],[clean Salary (in local currency)]]*VLOOKUP(tblSalaries[[#This Row],[Currency]],[1]!tblXrate[#Data],2,FALSE)","v":24588.381044249632},"business data analyst","Analyst","UK",{"$f":"VLOOKUP(tblSalaries[[#This Row],[Where do you work]],[1]!tblCountries[[Actual]:[Mapping]],2,FALSE)","v":"UK"},"All the 8 hours baby, all the 8!",0]
["ID1074","2012-05-28T15:12:38",7000,"USD",{"$f":"tblSalaries[[#This Row],[clean Salary (in local currency)]]*VLOOKUP(tblSalaries[[#This Row],[Currency]],[1]!tblXrate[#Data],2,FALSE)","v":7000},"MIS Executive","Reporting","India",{"$f":"VLOOKUP(tblSalaries[[#This Row],[Where do you work]],[1]!tblCountries[[Actual]:[Mapping]],2,FALSE)","v":"India"},"All the 8 hours baby, all the 8!",5]
["ID1075","2012-05-28T15:16:20",438000,"INR",{"$f":"tblSalaries[[#This Row],[clean Salary (in local currency)]]*VLOOKUP(tblSalaries[[#This Row],[Currency]],[1]!tblXrate[#Data],2,FALSE)","v":7799.8675090998449},"Assistant Professor","Analyst","India",{"$f":"VLOOKUP(tblSalaries[[#This Row],[Where do you work]],[1]!tblCountries[[Actual]:[Mapping]],2,FALSE)","v":"India"},"1 or 2 hours a day",10]
["ID1076","2012-05-28T15:21:51",50000,"GBP",{"$f":"tblSalaries[[#This Row],[clean Salary (in local currency)]]*VLOOKUP(tblSalaries[[#This Row],[Currency]],[1]!tblXrate[#Data],2,FALSE)","v":78808.913603364199},"Production manager","Manager","UK",{"$f":"VLOOKUP(tblSalaries[[#This Row],[Where do you work]],[1]!tblCountries[[Actual]:[Mapping]],2,FALSE)","v":"UK"},"2 to 3 hours per day",12]
["ID1077","2012-05-28T15:27:59",6720,"USD",{"$f":"tblSalaries[[#This Row],[clean Salary (in local currency)]]*VLOOKUP(tblSalaries[[#This Row],[Currency]],[1]!tblXrate[#Data],2,FALSE)","v":6720},"MIS Executive","Reporting","India",{"$f":"VLOOKUP(tblSalaries[[#This Row],[Where do you work]],[1]!tblCountries[[Actual]:[Mapping]],2,FALSE)","v":"India"},"4 to 6 hours a day",6]
["ID1078","2012-05-28T15:29:24",250000,"INR",{"$f":"tblSalaries[[#This Row],[clean Salary (in local currency)]]*VLOOKUP(tblSalaries[[#This Row],[Currency]],[1]!tblXrate[#Data],2,FALSE)","v":4451.9791718606421},"SR. MIS ","Reporting","India",{"$f":"VLOOKUP(tblSalaries[[#This Row],[Where do you work]],[1]!tblCountries[[Actual]:[Mapping]],2,FALSE)","v":"India"},"All the 8 hours baby, all the 8!",3.5]
["ID1079","2012-05-28T15:29:53",30000,"GBP",{"$f":"tblSalaries[[#This Row],[clean Salary (in local currency)]]*VLOOKUP(tblSalaries[[#This Row],[Currency]],[1]!tblXrate[#Data],2,FALSE)","v":47285.348162018527},"Data Analyst","Analyst","UK",{"$f":"VLOOKUP(tblSalaries[[#This Row],[Where do you work]],[1]!tblCountries[[Actual]:[Mapping]],2,FALSE)","v":"UK"},"All the 8 hours baby, all the 8!",15]
["ID1080","2012-05-28T15:33:23",7200,"USD",{"$f":"tblSalaries[[#This Row],[clean Salary (in local currency)]]*VLOOKUP(tblSalaries[[#This Row],[Currency]],[1]!tblXrate[#Data],2,FALSE)","v":7200},"Data Entry Operator","Analyst","India",{"$f":"VLOOKUP(tblSalaries[[#This Row],[Where do you work]],[1]!tblCountries[[Actual]:[Mapping]],2,FALSE)","v":"India"},"All the 8 hours baby, all the 8!",10]
["ID1081","2012-05-28T15:33:37",2500000,"INR",{"$f":"tblSalaries[[#This Row],[clean Salary (in local currency)]]*VLOOKUP(tblSalaries[[#This Row],[Currency]],[1]!tblXrate[#Data],2,FALSE)","v":44519.791718606422},"Vice President","CXO or Top Mgmt.","India",{"$f":"VLOOKUP(tblSalaries[[#This Row],[Where do you work]],[1]!tblCountries[[Actual]:[Mapping]],2,FALSE)","v":"India"},"4 to 6 hours a day",9]
["ID1082","2012-05-28T15:34:12",140000,"INR",{"$f":"tblSalaries[[#This Row],[clean Salary (in local currency)]]*VLOOKUP(tblSalaries[[#This Row],[Currency]],[1]!tblXrate[#Data],2,FALSE)","v":2493.1083362419595},"Accountant","Accountant","India",{"$f":"VLOOKUP(tblSalaries[[#This Row],[Where do you work]],[1]!tblCountries[[Actual]:[Mapping]],2,FALSE)","v":"India"},"4 to 6 hours a day",4]
["ID1083","2012-05-28T15:35:32",20000,"GBP",{"$f":"tblSalaries[[#This Row],[clean Salary (in local currency)]]*VLOOKUP(tblSalaries[[#This Row],[Currency]],[1]!tblXrate[#Data],2,FALSE)","v":31523.565441345683},"finance assistant","Analyst","UK",{"$f":"VLOOKUP(tblSalaries[[#This Row],[Where do you work]],[1]!tblCountries[[Actual]:[Mapping]],2,FALSE)","v":"UK"},"4 to 6 hours a day",1]
["ID1084","2012-05-28T15:37:23",1200000,"INR",{"$f":"tblSalaries[[#This Row],[clean Salary (in local currency)]]*VLOOKUP(tblSalaries[[#This Row],[Currency]],[1]!tblXrate[#Data],2,FALSE)","v":21369.500024931083},"finance controller","Controller","India",{"$f":"VLOOKUP(tblSalaries[[#This Row],[Where do you work]],[1]!tblCountries[[Actual]:[Mapping]],2,FALSE)","v":"India"},"4 to 6 hours a day",8]
["ID1085","2012-05-28T15:42:04",80000,"GBP",{"$f":"tblSalaries[[#This Row],[clean Salary (in local currency)]]*VLOOKUP(tblSalaries[[#This Row],[Currency]],[1]!tblXrate[#Data],2,FALSE)","v":126094.26176538273},"Manufacturing consultant","Consultant","UK",{"$f":"VLOOKUP(tblSalaries[[#This Row],[Where do you work]],[1]!tblCountries[[Actual]:[Mapping]],2,FALSE)","v":"UK"},"4 to 6 hours a day",10]
["ID1086","2012-05-28T15:44:12",63000,"GBP",{"$f":"tblSalaries[[#This Row],[clean Salary (in local currency)]]*VLOOKUP(tblSalaries[[#This Row],[Currency]],[1]!tblXrate[#Data],2,FALSE)","v":99299.231140238902},"Business Improvement Specialist","Specialist","UK",{"$f":"VLOOKUP(tblSalaries[[#This Row],[Where do you work]],[1]!tblCountries[[Actual]:[Mapping]],2,FALSE)","v":"UK"},"2 to 3 hours per day",1]
["ID1087","2012-05-28T15:47:46",55000,"GBP",{"$f":"tblSalaries[[#This Row],[clean Salary (in local currency)]]*VLOOKUP(tblSalaries[[#This Row],[Currency]],[1]!tblXrate[#Data],2,FALSE)","v":86689.804963700633},"Finance Director","CXO or Top Mgmt.","UK",{"$f":"VLOOKUP(tblSalaries[[#This Row],[Where do you work]],[1]!tblCountries[[Actual]:[Mapping]],2,FALSE)","v":"UK"},"2 to 3 hours per day",22]
["ID1088","2012-05-28T15:48:23",50000,"USD",{"$f":"tblSalaries[[#This Row],[clean Salary (in local currency)]]*VLOOKUP(tblSalaries[[#This Row],[Currency]],[1]!tblXrate[#Data],2,FALSE)","v":50000},"Sr. Manager MIS","Manager","India",{"$f":"VLOOKUP(tblSalaries[[#This Row],[Where do you work]],[1]!tblCountries[[Actual]:[Mapping]],2,FALSE)","v":"India"},"2 to 3 hours per day",30]
["ID1089","2012-05-28T15:49:22",240000,"INR",{"$f":"tblSalaries[[#This Row],[clean Salary (in local currency)]]*VLOOKUP(tblSalaries[[#This Row],[Currency]],[1]!tblXrate[#Data],2,FALSE)","v":4273.9000049862161},"Executive","Analyst","India",{"$f":"VLOOKUP(tblSalaries[[#This Row],[Where do you work]],[1]!tblCountries[[Actual]:[Mapping]],2,FALSE)","v":"India"},"2 to 3 hours per day",3]
["ID1090","2012-05-28T15:49:54",250000,"INR",{"$f":"tblSalaries[[#This Row],[clean Salary (in local currency)]]*VLOOKUP(tblSalaries[[#This Row],[Currency]],[1]!tblXrate[#Data],2,FALSE)","v":4451.9791718606421},"MIS Executive","Reporting","India",{"$f":"VLOOKUP(tblSalaries[[#This Row],[Where do you work]],[1]!tblCountries[[Actual]:[Mapping]],2,FALSE)","v":"India"},"2 to 3 hours per day",3]
["ID1091","2012-05-28T15:51:32",600000,"INR",{"$f":"tblSalaries[[#This Row],[clean Salary (in local currency)]]*VLOOKUP(tblSalaries[[#This Row],[Currency]],[1]!tblXrate[#Data],2,FALSE)","v":10684.750012465542},"Sr.Supervisor","Analyst","India",{"$f":"VLOOKUP(tblSalaries[[#This Row],[Where do you work]],[1]!tblCountries[[Actual]:[Mapping]],2,FALSE)","v":"India"},"4 to 6 hours a day",10]
["ID1092","2012-05-28T15:59:46",40500,"GBP",{"$f":"tblSalaries[[#This Row],[clean Salary (in local currency)]]*VLOOKUP(tblSalaries[[#This Row],[Currency]],[1]!tblXrate[#Data],2,FALSE)","v":63835.220018725006},"Policy, Performance and Research Officer","Manager","UK",{"$f":"VLOOKUP(tblSalaries[[#This Row],[Where do you work]],[1]!tblCountries[[Actual]:[Mapping]],2,FALSE)","v":"UK"},"2 to 3 hours per day",25]
["ID1093","2012-05-28T16:01:05",23000,"GBP",{"$f":"tblSalaries[[#This Row],[clean Salary (in local currency)]]*VLOOKUP(tblSalaries[[#This Row],[Currency]],[1]!tblXrate[#Data],2,FALSE)","v":36252.100257547536},"Data Analyst","Analyst","UK",{"$f":"VLOOKUP(tblSalaries[[#This Row],[Where do you work]],[1]!tblCountries[[Actual]:[Mapping]],2,FALSE)","v":"UK"},"All the 8 hours baby, all the 8!",5]
["ID1094","2012-05-28T16:03:18",7960,"USD",{"$f":"tblSalaries[[#This Row],[clean Salary (in local currency)]]*VLOOKUP(tblSalaries[[#This Row],[Currency]],[1]!tblXrate[#Data],2,FALSE)","v":7960},"Team Leader","Manager","India",{"$f":"VLOOKUP(tblSalaries[[#This Row],[Where do you work]],[1]!tblCountries[[Actual]:[Mapping]],2,FALSE)","v":"India"},"4 to 6 hours a day",7]
["ID1095","2012-05-28T16:03:45",500000,"INR",{"$f":"tblSalaries[[#This Row],[clean Salary (in local currency)]]*VLOOKUP(tblSalaries[[#This Row],[Currency]],[1]!tblXrate[#Data],2,FALSE)","v":8903.9583437212841},"Executive","Analyst","India",{"$f":"VLOOKUP(tblSalaries[[#This Row],[Where do you work]],[1]!tblCountries[[Actual]:[Mapping]],2,FALSE)","v":"India"},"2 to 3 hours per day",23]
["ID1096","2012-05-28T16:05:43",40000,"EUR",{"$f":"tblSalaries[[#This Row],[clean Salary (in local currency)]]*VLOOKUP(tblSalaries[[#This Row],[Currency]],[1]!tblXrate[#Data],2,FALSE)","v":50815.977559664309},"Accounting analyst","Analyst","Netherlands",{"$f":"VLOOKUP(tblSalaries[[#This Row],[Where do you work]],[1]!tblCountries[[Actual]:[Mapping]],2,FALSE)","v":"Netherlands"},"4 to 6 hours a day",3]
["ID1097","2012-05-28T16:07:51",30000,"GBP",{"$f":"tblSalaries[[#This Row],[clean Salary (in local currency)]]*VLOOKUP(tblSalaries[[#This Row],[Currency]],[1]!tblXrate[#Data],2,FALSE)","v":47285.348162018527},"Information Analyst","Analyst","UK",{"$f":"VLOOKUP(tblSalaries[[#This Row],[Where do you work]],[1]!tblCountries[[Actual]:[Mapping]],2,FALSE)","v":"UK"},"4 to 6 hours a day",4]
["ID1098","2012-05-28T16:07:51",48000,"GBP",{"$f":"tblSalaries[[#This Row],[clean Salary (in local currency)]]*VLOOKUP(tblSalaries[[#This Row],[Currency]],[1]!tblXrate[#Data],2,FALSE)","v":75656.557059229643},"Business Operations Co-ordinator","Manager","UK",{"$f":"VLOOKUP(tblSalaries[[#This Row],[Where do you work]],[1]!tblCountries[[Actual]:[Mapping]],2,FALSE)","v":"UK"},"2 to 3 hours per day",10]
["ID1099","2012-05-28T16:10:52",240000,"INR",{"$f":"tblSalaries[[#This Row],[clean Salary (in local currency)]]*VLOOKUP(tblSalaries[[#This Row],[Currency]],[1]!tblXrate[#Data],2,FALSE)","v":4273.9000049862161},"Accountant","Accountant","India",{"$f":"VLOOKUP(tblSalaries[[#This Row],[Where do you work]],[1]!tblCountries[[Actual]:[Mapping]],2,FALSE)","v":"India"},"All the 8 hours baby, all the 8!",20]
["ID1100","2012-05-28T16:19:21",37000,"EUR",{"$f":"tblSalaries[[#This Row],[clean Salary (in local currency)]]*VLOOKUP(tblSalaries[[#This Row],[Currency]],[1]!tblXrate[#Data],2,FALSE)","v":47004.779242689488},"Project Control Analyst","Analyst","Spain",{"$f":"VLOOKUP(tblSalaries[[#This Row],[Where do you work]],[1]!tblCountries[[Actual]:[Mapping]],2,FALSE)","v":"Spain"},"4 to 6 hours a day",11]
["ID1101","2012-05-28T16:19:41",30000,"GBP",{"$f":"tblSalaries[[#This Row],[clean Salary (in local currency)]]*VLOOKUP(tblSalaries[[#This Row],[Currency]],[1]!tblXrate[#Data],2,FALSE)","v":47285.348162018527},"MDM Executive (Business Analyst)","Analyst","UK",{"$f":"VLOOKUP(tblSalaries[[#This Row],[Where do you work]],[1]!tblCountries[[Actual]:[Mapping]],2,FALSE)","v":"UK"},"All the 8 hours baby, all the 8!",10]
["ID1102","2012-05-28T16:20:52",58000,"GBP",{"$f":"tblSalaries[[#This Row],[clean Salary (in local currency)]]*VLOOKUP(tblSalaries[[#This Row],[Currency]],[1]!tblXrate[#Data],2,FALSE)","v":91418.339779902482},"Data analyst","Analyst","UK",{"$f":"VLOOKUP(tblSalaries[[#This Row],[Where do you work]],[1]!tblCountries[[Actual]:[Mapping]],2,FALSE)","v":"UK"},"All the 8 hours baby, all the 8!",8]
["ID1103","2012-05-28T16:21:27",79000,"GBP",{"$f":"tblSalaries[[#This Row],[clean Salary (in local currency)]]*VLOOKUP(tblSalaries[[#This Row],[Currency]],[1]!tblXrate[#Data],2,FALSE)","v":124518.08349331544},"Market Analyst","Analyst","UK",{"$f":"VLOOKUP(tblSalaries[[#This Row],[Where do you work]],[1]!tblCountries[[Actual]:[Mapping]],2,FALSE)","v":"UK"},"2 to 3 hours per day",14]
["ID1104","2012-05-28T16:26:14",43912,"GBP",{"$f":"tblSalaries[[#This Row],[clean Salary (in local currency)]]*VLOOKUP(tblSalaries[[#This Row],[Currency]],[1]!tblXrate[#Data],2,FALSE)","v":69213.140283018583},"Senior Data Analyst","Analyst","UK",{"$f":"VLOOKUP(tblSalaries[[#This Row],[Where do you work]],[1]!tblCountries[[Actual]:[Mapping]],2,FALSE)","v":"UK"},"All the 8 hours baby, all the 8!",3]
["ID1105","2012-05-28T16:28:25",3500,"USD",{"$f":"tblSalaries[[#This Row],[clean Salary (in local currency)]]*VLOOKUP(tblSalaries[[#This Row],[Currency]],[1]!tblXrate[#Data],2,FALSE)","v":3500},"OFFICER","Manager","PAKISTAN",{"$f":"VLOOKUP(tblSalaries[[#This Row],[Where do you work]],[1]!tblCountries[[Actual]:[Mapping]],2,FALSE)","v":"Pakistan"},"4 to 6 hours a day",4]
["ID1107","2012-05-28T16:34:48",40000,"GBP",{"$f":"tblSalaries[[#This Row],[clean Salary (in local currency)]]*VLOOKUP(tblSalaries[[#This Row],[Currency]],[1]!tblXrate[#Data],2,FALSE)","v":63047.130882691366},"Buyer","Manager","UK",{"$f":"VLOOKUP(tblSalaries[[#This Row],[Where do you work]],[1]!tblCountries[[Actual]:[Mapping]],2,FALSE)","v":"UK"},"1 or 2 hours a day",20]
["ID1108","2012-05-28T16:35:19",57000,"EUR",{"$f":"tblSalaries[[#This Row],[clean Salary (in local currency)]]*VLOOKUP(tblSalaries[[#This Row],[Currency]],[1]!tblXrate[#Data],2,FALSE)","v":72412.768022521646},"Spare Part Coordinator","Manager","Norway",{"$f":"VLOOKUP(tblSalaries[[#This Row],[Where do you work]],[1]!tblCountries[[Actual]:[Mapping]],2,FALSE)","v":"Norway"},"1 or 2 hours a day",15]
["ID1109","2012-05-28T16:41:27",40000,"EUR",{"$f":"tblSalaries[[#This Row],[clean Salary (in local currency)]]*VLOOKUP(tblSalaries[[#This Row],[Currency]],[1]!tblXrate[#Data],2,FALSE)","v":50815.977559664309},"Actuary","Accountant","Portugal",{"$f":"VLOOKUP(tblSalaries[[#This Row],[Where do you work]],[1]!tblCountries[[Actual]:[Mapping]],2,FALSE)","v":"Portugal"},"2 to 3 hours per day",10]
["ID1110","2012-05-28T16:45:28",1200000,"INR",{"$f":"tblSalaries[[#This Row],[clean Salary (in local currency)]]*VLOOKUP(tblSalaries[[#This Row],[Currency]],[1]!tblXrate[#Data],2,FALSE)","v":21369.500024931083},"coordinator","Manager","India",{"$f":"VLOOKUP(tblSalaries[[#This Row],[Where do you work]],[1]!tblCountries[[Actual]:[Mapping]],2,FALSE)","v":"India"},"2 to 3 hours per day",5]
["ID1111","2012-05-28T16:45:32",35000,"GBP",{"$f":"tblSalaries[[#This Row],[clean Salary (in local currency)]]*VLOOKUP(tblSalaries[[#This Row],[Currency]],[1]!tblXrate[#Data],2,FALSE)","v":55166.239522354947},"Systems Analyst","Analyst","UK",{"$f":"VLOOKUP(tblSalaries[[#This Row],[Where do you work]],[1]!tblCountries[[Actual]:[Mapping]],2,FALSE)","v":"UK"},"2 to 3 hours per day",6]
["ID1112","2012-05-28T16:53:13",180000,"INR",{"$f":"tblSalaries[[#This Row],[clean Salary (in local currency)]]*VLOOKUP(tblSalaries[[#This Row],[Currency]],[1]!tblXrate[#Data],2,FALSE)","v":3205.4250037396623},"Logistics Operation Analyst","Analyst","India",{"$f":"VLOOKUP(tblSalaries[[#This Row],[Where do you work]],[1]!tblCountries[[Actual]:[Mapping]],2,FALSE)","v":"India"},"All the 8 hours baby, all the 8!",3]
["ID1113","2012-05-28T16:58:03",600000,"INR",{"$f":"tblSalaries[[#This Row],[clean Salary (in local currency)]]*VLOOKUP(tblSalaries[[#This Row],[Currency]],[1]!tblXrate[#Data],2,FALSE)","v":10684.750012465542},"Company Secretary","Accountant","India",{"$f":"VLOOKUP(tblSalaries[[#This Row],[Where do you work]],[1]!tblCountries[[Actual]:[Mapping]],2,FALSE)","v":"India"},"2 to 3 hours per day",8]
["ID1114","2012-05-28T16:59:48",300000,"INR",{"$f":"tblSalaries[[#This Row],[clean Salary (in local currency)]]*VLOOKUP(tblSalaries[[#This Row],[Currency]],[1]!tblXrate[#Data],2,FALSE)","v":5342.3750062327708},"Analyst","Analyst","India",{"$f":"VLOOKUP(tblSalaries[[#This Row],[Where do you work]],[1]!tblCountries[[Actual]:[Mapping]],2,FALSE)","v":"India"},"4 to 6 hours a day",5]
["ID1115","2012-05-28T17:02:43",75000,"GBP",{"$f":"tblSalaries[[#This Row],[clean Salary (in local currency)]]*VLOOKUP(tblSalaries[[#This Row],[Currency]],[1]!tblXrate[#Data],2,FALSE)","v":118213.37040504631},"Management Consultant","Manager","UK",{"$f":"VLOOKUP(tblSalaries[[#This Row],[Where do you work]],[1]!tblCountries[[Actual]:[Mapping]],2,FALSE)","v":"UK"},"2 to 3 hours per day",10]
["ID1116","2012-05-28T17:04:04",100000,"ZAR",{"$f":"tblSalaries[[#This Row],[clean Salary (in local currency)]]*VLOOKUP(tblSalaries[[#This Row],[Currency]],[1]!tblXrate[#Data],2,FALSE)","v":12192.177986291113},"Q.A.Officer","Manager","South Africa",{"$f":"VLOOKUP(tblSalaries[[#This Row],[Where do you work]],[1]!tblCountries[[Actual]:[Mapping]],2,FALSE)","v":"South Africa"},"All the 8 hours baby, all the 8!",15]
["ID1117","2012-05-28T17:05:07",45000,"GBP",{"$f":"tblSalaries[[#This Row],[clean Salary (in local currency)]]*VLOOKUP(tblSalaries[[#This Row],[Currency]],[1]!tblXrate[#Data],2,FALSE)","v":70928.022243027779},"Assistant Director - Performance Information","CXO or Top Mgmt.","UK",{"$f":"VLOOKUP(tblSalaries[[#This Row],[Where do you work]],[1]!tblCountries[[Actual]:[Mapping]],2,FALSE)","v":"UK"},"4 to 6 hours a day",8]
["ID1118","2012-05-28T17:09:40",25000,"GBP",{"$f":"tblSalaries[[#This Row],[clean Salary (in local currency)]]*VLOOKUP(tblSalaries[[#This Row],[Currency]],[1]!tblXrate[#Data],2,FALSE)","v":39404.456801682099},"Developer","Analyst","UK",{"$f":"VLOOKUP(tblSalaries[[#This Row],[Where do you work]],[1]!tblCountries[[Actual]:[Mapping]],2,FALSE)","v":"UK"},"4 to 6 hours a day",3]
["ID1119","2012-05-28T17:12:47",18987,"USD",{"$f":"tblSalaries[[#This Row],[clean Salary (in local currency)]]*VLOOKUP(tblSalaries[[#This Row],[Currency]],[1]!tblXrate[#Data],2,FALSE)","v":18987},"Business Analyst","Analyst","Nigeria",{"$f":"VLOOKUP(tblSalaries[[#This Row],[Where do you work]],[1]!tblCountries[[Actual]:[Mapping]],2,FALSE)","v":"Nigeria"},"All the 8 hours baby, all the 8!",7]
["ID1120","2012-05-28T17:15:29",28500,"GBP",{"$f":"tblSalaries[[#This Row],[clean Salary (in local currency)]]*VLOOKUP(tblSalaries[[#This Row],[Currency]],[1]!tblXrate[#Data],2,FALSE)","v":44921.080753917595},"Development (Project & Planning) Manager","Manager","UK",{"$f":"VLOOKUP(tblSalaries[[#This Row],[Where do you work]],[1]!tblCountries[[Actual]:[Mapping]],2,FALSE)","v":"UK"},"1 or 2 hours a day",15]
["ID1121","2012-05-28T17:17:39",60000,"USD",{"$f":"tblSalaries[[#This Row],[clean Salary (in local currency)]]*VLOOKUP(tblSalaries[[#This Row],[Currency]],[1]!tblXrate[#Data],2,FALSE)","v":60000},"manager","Manager","India",{"$f":"VLOOKUP(tblSalaries[[#This Row],[Where do you work]],[1]!tblCountries[[Actual]:[Mapping]],2,FALSE)","v":"India"},"All the 8 hours baby, all the 8!",14]
["ID1122","2012-05-28T17:18:47",45200,"GBP",{"$f":"tblSalaries[[#This Row],[clean Salary (in local currency)]]*VLOOKUP(tblSalaries[[#This Row],[Currency]],[1]!tblXrate[#Data],2,FALSE)","v":71243.257897441246},"Clinical audit manager","Manager","UK",{"$f":"VLOOKUP(tblSalaries[[#This Row],[Where do you work]],[1]!tblCountries[[Actual]:[Mapping]],2,FALSE)","v":"UK"},"2 to 3 hours per day",5]
["ID1123","2012-05-28T17:22:19",252000,"INR",{"$f":"tblSalaries[[#This Row],[clean Salary (in local currency)]]*VLOOKUP(tblSalaries[[#This Row],[Currency]],[1]!tblXrate[#Data],2,FALSE)","v":4487.5950052355274},"Inventory Manager","Manager","India",{"$f":"VLOOKUP(tblSalaries[[#This Row],[Where do you work]],[1]!tblCountries[[Actual]:[Mapping]],2,FALSE)","v":"India"},"1 or 2 hours a day",16]
["ID1124","2012-05-28T17:34:16",242304,"INR",{"$f":"tblSalaries[[#This Row],[clean Salary (in local currency)]]*VLOOKUP(tblSalaries[[#This Row],[Currency]],[1]!tblXrate[#Data],2,FALSE)","v":4314.929445034084},"accountant","Accountant","India",{"$f":"VLOOKUP(tblSalaries[[#This Row],[Where do you work]],[1]!tblCountries[[Actual]:[Mapping]],2,FALSE)","v":"India"},"4 to 6 hours a day",7]
["ID1125","2012-05-28T17:38:46",210000,"INR",{"$f":"tblSalaries[[#This Row],[clean Salary (in local currency)]]*VLOOKUP(tblSalaries[[#This Row],[Currency]],[1]!tblXrate[#Data],2,FALSE)","v":3739.6625043629392},"information Analyst","Analyst","India",{"$f":"VLOOKUP(tblSalaries[[#This Row],[Where do you work]],[1]!tblCountries[[Actual]:[Mapping]],2,FALSE)","v":"India"},"All the 8 hours baby, all the 8!",1]
["ID1126","2012-05-28T17:42:11",60000,"EUR",{"$f":"tblSalaries[[#This Row],[clean Salary (in local currency)]]*VLOOKUP(tblSalaries[[#This Row],[Currency]],[1]!tblXrate[#Data],2,FALSE)","v":76223.966339496474},"Development Manager","Manager","Finland",{"$f":"VLOOKUP(tblSalaries[[#This Row],[Where do you work]],[1]!tblCountries[[Actual]:[Mapping]],2,FALSE)","v":"Finland"},"1 or 2 hours a day",4]
["ID1127","2012-05-28T17:42:22",120000,"AED",{"$f":"tblSalaries[[#This Row],[clean Salary (in local currency)]]*VLOOKUP(tblSalaries[[#This Row],[Currency]],[1]!tblXrate[#Data],2,FALSE)","v":32666.305522511171},"Finance Manager","Manager","UAE",{"$f":"VLOOKUP(tblSalaries[[#This Row],[Where do you work]],[1]!tblCountries[[Actual]:[Mapping]],2,FALSE)","v":"UAE"},"2 to 3 hours per day",12]
["ID1128","2012-05-28T17:42:51",19000,"USD",{"$f":"tblSalaries[[#This Row],[clean Salary (in local currency)]]*VLOOKUP(tblSalaries[[#This Row],[Currency]],[1]!tblXrate[#Data],2,FALSE)","v":19000},"MI Specialist","Reporting","UK",{"$f":"VLOOKUP(tblSalaries[[#This Row],[Where do you work]],[1]!tblCountries[[Actual]:[Mapping]],2,FALSE)","v":"UK"},"All the 8 hours baby, all the 8!",8]
["ID1129","2012-05-28T17:42:57",50000,"EUR",{"$f":"tblSalaries[[#This Row],[clean Salary (in local currency)]]*VLOOKUP(tblSalaries[[#This Row],[Currency]],[1]!tblXrate[#Data],2,FALSE)","v":63519.971949580387},"Network Enginer","Engineer","Portugal",{"$f":"VLOOKUP(tblSalaries[[#This Row],[Where do you work]],[1]!tblCountries[[Actual]:[Mapping]],2,FALSE)","v":"Portugal"},"2 to 3 hours per day",14]
["ID1130","2012-05-28T17:53:43",900000,"INR",{"$f":"tblSalaries[[#This Row],[clean Salary (in local currency)]]*VLOOKUP(tblSalaries[[#This Row],[Currency]],[1]!tblXrate[#Data],2,FALSE)","v":16027.125018698311},"officer","Manager","India",{"$f":"VLOOKUP(tblSalaries[[#This Row],[Where do you work]],[1]!tblCountries[[Actual]:[Mapping]],2,FALSE)","v":"India"},"4 to 6 hours a day",22]
["ID1131","2012-05-28T18:02:44",400000,"INR",{"$f":"tblSalaries[[#This Row],[clean Salary (in local currency)]]*VLOOKUP(tblSalaries[[#This Row],[Currency]],[1]!tblXrate[#Data],2,FALSE)","v":7123.1666749770275},"Sr. Team Lead - MIS","Reporting","India",{"$f":"VLOOKUP(tblSalaries[[#This Row],[Where do you work]],[1]!tblCountries[[Actual]:[Mapping]],2,FALSE)","v":"India"},"4 to 6 hours a day",9]
["ID1132","2012-05-28T18:05:13",150252,"INR",{"$f":"tblSalaries[[#This Row],[clean Salary (in local currency)]]*VLOOKUP(tblSalaries[[#This Row],[Currency]],[1]!tblXrate[#Data],2,FALSE)","v":2675.675098121621},"KEY","Manager","India",{"$f":"VLOOKUP(tblSalaries[[#This Row],[Where do you work]],[1]!tblCountries[[Actual]:[Mapping]],2,FALSE)","v":"India"},"2 to 3 hours per day",5]
["ID1133","2012-05-28T18:05:16",15000,"GBP",{"$f":"tblSalaries[[#This Row],[clean Salary (in local currency)]]*VLOOKUP(tblSalaries[[#This Row],[Currency]],[1]!tblXrate[#Data],2,FALSE)","v":23642.674081009263},"MI Specialist","Reporting","UK",{"$f":"VLOOKUP(tblSalaries[[#This Row],[Where do you work]],[1]!tblCountries[[Actual]:[Mapping]],2,FALSE)","v":"UK"},"All the 8 hours baby, all the 8!",2]
["ID1134","2012-05-28T18:11:36",45000,"EUR",{"$f":"tblSalaries[[#This Row],[clean Salary (in local currency)]]*VLOOKUP(tblSalaries[[#This Row],[Currency]],[1]!tblXrate[#Data],2,FALSE)","v":57167.974754622352},"Sales Planning","Manager","Spain",{"$f":"VLOOKUP(tblSalaries[[#This Row],[Where do you work]],[1]!tblCountries[[Actual]:[Mapping]],2,FALSE)","v":"Spain"},"4 to 6 hours a day",14]
["ID1135","2012-05-28T18:30:51",2400000,"INR",{"$f":"tblSalaries[[#This Row],[clean Salary (in local currency)]]*VLOOKUP(tblSalaries[[#This Row],[Currency]],[1]!tblXrate[#Data],2,FALSE)","v":42739.000049862167},"GM Finance","Manager","India",{"$f":"VLOOKUP(tblSalaries[[#This Row],[Where do you work]],[1]!tblCountries[[Actual]:[Mapping]],2,FALSE)","v":"India"},"All the 8 hours baby, all the 8!",10]
["ID1136","2012-05-28T18:34:12",216000,"PHP",{"$f":"tblSalaries[[#This Row],[clean Salary (in local currency)]]*VLOOKUP(tblSalaries[[#This Row],[Currency]],[1]!tblXrate[#Data],2,FALSE)","v":5120.2912876821438},"Planner","Manager","Philippines",{"$f":"VLOOKUP(tblSalaries[[#This Row],[Where do you work]],[1]!tblCountries[[Actual]:[Mapping]],2,FALSE)","v":"Philippines"},"4 to 6 hours a day",2]
["ID1137","2012-05-28T18:38:06",100000,"EUR",{"$f":"tblSalaries[[#This Row],[clean Salary (in local currency)]]*VLOOKUP(tblSalaries[[#This Row],[Currency]],[1]!tblXrate[#Data],2,FALSE)","v":127039.94389916077},"Finance Director","CXO or Top Mgmt.","Spain",{"$f":"VLOOKUP(tblSalaries[[#This Row],[Where do you work]],[1]!tblCountries[[Actual]:[Mapping]],2,FALSE)","v":"Spain"},"1 or 2 hours a day",20]
["ID1138","2012-05-28T18:39:19",90000,"USD",{"$f":"tblSalaries[[#This Row],[clean Salary (in local currency)]]*VLOOKUP(tblSalaries[[#This Row],[Currency]],[1]!tblXrate[#Data],2,FALSE)","v":90000},"Performance manager","Manager","USA",{"$f":"VLOOKUP(tblSalaries[[#This Row],[Where do you work]],[1]!tblCountries[[Actual]:[Mapping]],2,FALSE)","v":"USA"},"4 to 6 hours a day",5]
["ID1139","2012-05-28T18:40:08",400000,"INR",{"$f":"tblSalaries[[#This Row],[clean Salary (in local currency)]]*VLOOKUP(tblSalaries[[#This Row],[Currency]],[1]!tblXrate[#Data],2,FALSE)","v":7123.1666749770275},"software engineer","Engineer","India",{"$f":"VLOOKUP(tblSalaries[[#This Row],[Where do you work]],[1]!tblCountries[[Actual]:[Mapping]],2,FALSE)","v":"India"},"1 or 2 hours a day",2]
["ID1140","2012-05-28T18:45:00",10000,"USD",{"$f":"tblSalaries[[#This Row],[clean Salary (in local currency)]]*VLOOKUP(tblSalaries[[#This Row],[Currency]],[1]!tblXrate[#Data],2,FALSE)","v":10000},"Business analyst","Analyst","India",{"$f":"VLOOKUP(tblSalaries[[#This Row],[Where do you work]],[1]!tblCountries[[Actual]:[Mapping]],2,FALSE)","v":"India"},"2 to 3 hours per day",5]
["ID1141","2012-05-28T18:50:35",29000,"GBP",{"$f":"tblSalaries[[#This Row],[clean Salary (in local currency)]]*VLOOKUP(tblSalaries[[#This Row],[Currency]],[1]!tblXrate[#Data],2,FALSE)","v":45709.169889951241},"Financial Analyst","Analyst","UK",{"$f":"VLOOKUP(tblSalaries[[#This Row],[Where do you work]],[1]!tblCountries[[Actual]:[Mapping]],2,FALSE)","v":"UK"},"4 to 6 hours a day",14]
["ID1142","2012-05-28T19:05:22",200000,"INR",{"$f":"tblSalaries[[#This Row],[clean Salary (in local currency)]]*VLOOKUP(tblSalaries[[#This Row],[Currency]],[1]!tblXrate[#Data],2,FALSE)","v":3561.5833374885137},"MIS Sr. Executive","Reporting","India",{"$f":"VLOOKUP(tblSalaries[[#This Row],[Where do you work]],[1]!tblCountries[[Actual]:[Mapping]],2,FALSE)","v":"India"},"All the 8 hours baby, all the 8!",5]
["ID1143","2012-05-28T19:09:37",30000,"EUR",{"$f":"tblSalaries[[#This Row],[clean Salary (in local currency)]]*VLOOKUP(tblSalaries[[#This Row],[Currency]],[1]!tblXrate[#Data],2,FALSE)","v":38111.983169748237},"Translator","Analyst","Belgium",{"$f":"VLOOKUP(tblSalaries[[#This Row],[Where do you work]],[1]!tblCountries[[Actual]:[Mapping]],2,FALSE)","v":"Belgium"},"1 or 2 hours a day",15]
["ID1144","2012-05-28T19:19:51",60000,"USD",{"$f":"tblSalaries[[#This Row],[clean Salary (in local currency)]]*VLOOKUP(tblSalaries[[#This Row],[Currency]],[1]!tblXrate[#Data],2,FALSE)","v":60000},"Business Anaylyst","Analyst","USA",{"$f":"VLOOKUP(tblSalaries[[#This Row],[Where do you work]],[1]!tblCountries[[Actual]:[Mapping]],2,FALSE)","v":"USA"},"2 to 3 hours per day",4]
["ID1145","2012-05-28T19:23:29",40000,"USD",{"$f":"tblSalaries[[#This Row],[clean Salary (in local currency)]]*VLOOKUP(tblSalaries[[#This Row],[Currency]],[1]!tblXrate[#Data],2,FALSE)","v":40000},"Engineer","Engineer","India",{"$f":"VLOOKUP(tblSalaries[[#This Row],[Where do you work]],[1]!tblCountries[[Actual]:[Mapping]],2,FALSE)","v":"India"},"2 to 3 hours per day",2]
["ID1146","2012-05-28T19:25:04",853000,"INR",{"$f":"tblSalaries[[#This Row],[clean Salary (in local currency)]]*VLOOKUP(tblSalaries[[#This Row],[Currency]],[1]!tblXrate[#Data],2,FALSE)","v":15190.15293438851},"Lead Research Analyst","Analyst","India",{"$f":"VLOOKUP(tblSalaries[[#This Row],[Where do you work]],[1]!tblCountries[[Actual]:[Mapping]],2,FALSE)","v":"India"},"2 to 3 hours per day",6]
["ID1147","2012-05-28T19:25:35",90000,"EUR",{"$f":"tblSalaries[[#This Row],[clean Salary (in local currency)]]*VLOOKUP(tblSalaries[[#This Row],[Currency]],[1]!tblXrate[#Data],2,FALSE)","v":114335.9495092447},"Management Information Manager","Manager","Continental Europe",{"$f":"VLOOKUP(tblSalaries[[#This Row],[Where do you work]],[1]!tblCountries[[Actual]:[Mapping]],2,FALSE)","v":"CEE"},"2 to 3 hours per day",20]
["ID1148","2012-05-28T19:32:15",23000,"GBP",{"$f":"tblSalaries[[#This Row],[clean Salary (in local currency)]]*VLOOKUP(tblSalaries[[#This Row],[Currency]],[1]!tblXrate[#Data],2,FALSE)","v":36252.100257547536},"Data Management Officer","Manager","UK",{"$f":"VLOOKUP(tblSalaries[[#This Row],[Where do you work]],[1]!tblCountries[[Actual]:[Mapping]],2,FALSE)","v":"UK"},"4 to 6 hours a day",10]
["ID1149","2012-05-28T19:53:14",30000,"GBP",{"$f":"tblSalaries[[#This Row],[clean Salary (in local currency)]]*VLOOKUP(tblSalaries[[#This Row],[Currency]],[1]!tblXrate[#Data],2,FALSE)","v":47285.348162018527},"Reporting Accountant","Accountant","UK",{"$f":"VLOOKUP(tblSalaries[[#This Row],[Where do you work]],[1]!tblCountries[[Actual]:[Mapping]],2,FALSE)","v":"UK"},"2 to 3 hours per day",5]
["ID1150","2012-05-28T20:05:20",70000,"EUR",{"$f":"tblSalaries[[#This Row],[clean Salary (in local currency)]]*VLOOKUP(tblSalaries[[#This Row],[Currency]],[1]!tblXrate[#Data],2,FALSE)","v":88927.960729412545},"Construction Planner","Consultant","Ireland",{"$f":"VLOOKUP(tblSalaries[[#This Row],[Where do you work]],[1]!tblCountries[[Actual]:[Mapping]],2,FALSE)","v":"Ireland"},"2 to 3 hours per day",20]
["ID1151","2012-05-28T20:19:57",6000,"USD",{"$f":"tblSalaries[[#This Row],[clean Salary (in local currency)]]*VLOOKUP(tblSalaries[[#This Row],[Currency]],[1]!tblXrate[#Data],2,FALSE)","v":6000},"Assistant Accountant","Accountant","Zambia",{"$f":"VLOOKUP(tblSalaries[[#This Row],[Where do you work]],[1]!tblCountries[[Actual]:[Mapping]],2,FALSE)","v":"Zambia"},"All the 8 hours baby, all the 8!",5]
["ID1152","2012-05-28T20:20:54",35000,"USD",{"$f":"tblSalaries[[#This Row],[clean Salary (in local currency)]]*VLOOKUP(tblSalaries[[#This Row],[Currency]],[1]!tblXrate[#Data],2,FALSE)","v":35000},"BI Analyst","Analyst","USA",{"$f":"VLOOKUP(tblSalaries[[#This Row],[Where do you work]],[1]!tblCountries[[Actual]:[Mapping]],2,FALSE)","v":"USA"},"All the 8 hours baby, all the 8!",20]
["ID1153","2012-05-28T20:35:30",35000,"GBP",{"$f":"tblSalaries[[#This Row],[clean Salary (in local currency)]]*VLOOKUP(tblSalaries[[#This Row],[Currency]],[1]!tblXrate[#Data],2,FALSE)","v":55166.239522354947},"MI Analyst","Analyst","UK",{"$f":"VLOOKUP(tblSalaries[[#This Row],[Where do you work]],[1]!tblCountries[[Actual]:[Mapping]],2,FALSE)","v":"UK"},"4 to 6 hours a day",10]
["ID1154","2012-05-28T20:43:31",168000,"PKR",{"$f":"tblSalaries[[#This Row],[clean Salary (in local currency)]]*VLOOKUP(tblSalaries[[#This Row],[Currency]],[1]!tblXrate[#Data],2,FALSE)","v":1783.166904422254},"Accounts Assistant","Accountant","Pakistan",{"$f":"VLOOKUP(tblSalaries[[#This Row],[Where do you work]],[1]!tblCountries[[Actual]:[Mapping]],2,FALSE)","v":"Pakistan"},"4 to 6 hours a day",10]
["ID1155","2012-05-28T20:45:35",13500,"USD",{"$f":"tblSalaries[[#This Row],[clean Salary (in local currency)]]*VLOOKUP(tblSalaries[[#This Row],[Currency]],[1]!tblXrate[#Data],2,FALSE)","v":13500},"Project manager","Manager","Montenegro",{"$f":"VLOOKUP(tblSalaries[[#This Row],[Where do you work]],[1]!tblCountries[[Actual]:[Mapping]],2,FALSE)","v":"Montenegro"},"4 to 6 hours a day",13]
["ID1156","2012-05-28T20:51:37",37500,"GBP",{"$f":"tblSalaries[[#This Row],[clean Salary (in local currency)]]*VLOOKUP(tblSalaries[[#This Row],[Currency]],[1]!tblXrate[#Data],2,FALSE)","v":59106.685202523156},"Corporate Finance Executive","Accountant","UK",{"$f":"VLOOKUP(tblSalaries[[#This Row],[Where do you work]],[1]!tblCountries[[Actual]:[Mapping]],2,FALSE)","v":"UK"},"2 to 3 hours per day",5]
["ID1157","2012-05-28T20:54:29",708000,"INR",{"$f":"tblSalaries[[#This Row],[clean Salary (in local currency)]]*VLOOKUP(tblSalaries[[#This Row],[Currency]],[1]!tblXrate[#Data],2,FALSE)","v":12608.005014709339},"Manager-Operation","Manager","India",{"$f":"VLOOKUP(tblSalaries[[#This Row],[Where do you work]],[1]!tblCountries[[Actual]:[Mapping]],2,FALSE)","v":"India"},"4 to 6 hours a day",5]
["ID1158","2012-05-28T21:14:25",366252,"ZAR",{"$f":"tblSalaries[[#This Row],[clean Salary (in local currency)]]*VLOOKUP(tblSalaries[[#This Row],[Currency]],[1]!tblXrate[#Data],2,FALSE)","v":44654.095718350931},"Accountant","Accountant","South Africa",{"$f":"VLOOKUP(tblSalaries[[#This Row],[Where do you work]],[1]!tblCountries[[Actual]:[Mapping]],2,FALSE)","v":"South Africa"},"All the 8 hours baby, all the 8!",15]
["ID1159","2012-05-28T21:17:04",69000,"USD",{"$f":"tblSalaries[[#This Row],[clean Salary (in local currency)]]*VLOOKUP(tblSalaries[[#This Row],[Currency]],[1]!tblXrate[#Data],2,FALSE)","v":69000},"Financial Analysist","Analyst","USA",{"$f":"VLOOKUP(tblSalaries[[#This Row],[Where do you work]],[1]!tblCountries[[Actual]:[Mapping]],2,FALSE)","v":"USA"},"2 to 3 hours per day",20]
["ID1160","2012-05-28T21:55:25",6000,"USD",{"$f":"tblSalaries[[#This Row],[clean Salary (in local currency)]]*VLOOKUP(tblSalaries[[#This Row],[Currency]],[1]!tblXrate[#Data],2,FALSE)","v":6000},"AM Ops","Manager","India",{"$f":"VLOOKUP(tblSalaries[[#This Row],[Where do you work]],[1]!tblCountries[[Actual]:[Mapping]],2,FALSE)","v":"India"},"4 to 6 hours a day",6]
["ID1161","2012-05-28T22:08:12",500000,"INR",{"$f":"tblSalaries[[#This Row],[clean Salary (in local currency)]]*VLOOKUP(tblSalaries[[#This Row],[Currency]],[1]!tblXrate[#Data],2,FALSE)","v":8903.9583437212841},"Deputy Manager","Manager","India",{"$f":"VLOOKUP(tblSalaries[[#This Row],[Where do you work]],[1]!tblCountries[[Actual]:[Mapping]],2,FALSE)","v":"India"},"1 or 2 hours a day",25]
["ID1162","2012-05-28T22:10:12",30000,"USD",{"$f":"tblSalaries[[#This Row],[clean Salary (in local currency)]]*VLOOKUP(tblSalaries[[#This Row],[Currency]],[1]!tblXrate[#Data],2,FALSE)","v":30000},"pricing and cost manager","Manager","mexico",{"$f":"VLOOKUP(tblSalaries[[#This Row],[Where do you work]],[1]!tblCountries[[Actual]:[Mapping]],2,FALSE)","v":"Mexico"},"All the 8 hours baby, all the 8!",17]
["ID1163","2012-05-28T22:13:24",8600,"USD",{"$f":"tblSalaries[[#This Row],[clean Salary (in local currency)]]*VLOOKUP(tblSalaries[[#This Row],[Currency]],[1]!tblXrate[#Data],2,FALSE)","v":8600},"Catlog associates","Analyst","India",{"$f":"VLOOKUP(tblSalaries[[#This Row],[Where do you work]],[1]!tblCountries[[Actual]:[Mapping]],2,FALSE)","v":"India"},"4 to 6 hours a day",2]
["ID1164","2012-05-28T22:25:04",81600,"USD",{"$f":"tblSalaries[[#This Row],[clean Salary (in local currency)]]*VLOOKUP(tblSalaries[[#This Row],[Currency]],[1]!tblXrate[#Data],2,FALSE)","v":81600},"Business Analyst - Central Finance","Analyst","UK",{"$f":"VLOOKUP(tblSalaries[[#This Row],[Where do you work]],[1]!tblCountries[[Actual]:[Mapping]],2,FALSE)","v":"UK"},"4 to 6 hours a day",4]
["ID1165","2012-05-28T22:33:29",600000,"DOP",{"$f":"tblSalaries[[#This Row],[clean Salary (in local currency)]]*VLOOKUP(tblSalaries[[#This Row],[Currency]],[1]!tblXrate[#Data],2,FALSE)","v":15404.364569961488},"Analista de Produccion","Analyst","Republica Dominicana",{"$f":"VLOOKUP(tblSalaries[[#This Row],[Where do you work]],[1]!tblCountries[[Actual]:[Mapping]],2,FALSE)","v":"Republica Dominicana"},"All the 8 hours baby, all the 8!",3]
["ID1166","2012-05-28T22:35:56",65000,"CAD",{"$f":"tblSalaries[[#This Row],[clean Salary (in local currency)]]*VLOOKUP(tblSalaries[[#This Row],[Currency]],[1]!tblXrate[#Data],2,FALSE)","v":63918.498996971248},"IT Analyst (Reporting)","Analyst","Canada",{"$f":"VLOOKUP(tblSalaries[[#This Row],[Where do you work]],[1]!tblCountries[[Actual]:[Mapping]],2,FALSE)","v":"Canada"},"4 to 6 hours a day",20]
["ID1167","2012-05-28T22:36:22",75000,"USD",{"$f":"tblSalaries[[#This Row],[clean Salary (in local currency)]]*VLOOKUP(tblSalaries[[#This Row],[Currency]],[1]!tblXrate[#Data],2,FALSE)","v":75000},"Controller","Controller","USA",{"$f":"VLOOKUP(tblSalaries[[#This Row],[Where do you work]],[1]!tblCountries[[Actual]:[Mapping]],2,FALSE)","v":"USA"},"2 to 3 hours per day",20]
["ID1168","2012-05-28T22:36:47",59000,"USD",{"$f":"tblSalaries[[#This Row],[clean Salary (in local currency)]]*VLOOKUP(tblSalaries[[#This Row],[Currency]],[1]!tblXrate[#Data],2,FALSE)","v":59000},"Management Analyst","Analyst","USA",{"$f":"VLOOKUP(tblSalaries[[#This Row],[Where do you work]],[1]!tblCountries[[Actual]:[Mapping]],2,FALSE)","v":"USA"},"4 to 6 hours a day",14]
["ID1169","2012-05-28T22:38:37",50000,"USD",{"$f":"tblSalaries[[#This Row],[clean Salary (in local currency)]]*VLOOKUP(tblSalaries[[#This Row],[Currency]],[1]!tblXrate[#Data],2,FALSE)","v":50000},"Program Manager","Manager","Canada",{"$f":"VLOOKUP(tblSalaries[[#This Row],[Where do you work]],[1]!tblCountries[[Actual]:[Mapping]],2,FALSE)","v":"Canada"},"1 or 2 hours a day",5]
["ID1170","2012-05-28T22:39:09",80000,"GBP",{"$f":"tblSalaries[[#This Row],[clean Salary (in local currency)]]*VLOOKUP(tblSalaries[[#This Row],[Currency]],[1]!tblXrate[#Data],2,FALSE)","v":126094.26176538273},"Financial Controller","Controller","UK",{"$f":"VLOOKUP(tblSalaries[[#This Row],[Where do you work]],[1]!tblCountries[[Actual]:[Mapping]],2,FALSE)","v":"UK"},"4 to 6 hours a day",15]
["ID1171","2012-05-28T22:41:01",54000,"BRL",{"$f":"tblSalaries[[#This Row],[clean Salary (in local currency)]]*VLOOKUP(tblSalaries[[#This Row],[Currency]],[1]!tblXrate[#Data],2,FALSE)","v":26691.183012544854},"Logistics Coordinator","Manager","Brazil",{"$f":"VLOOKUP(tblSalaries[[#This Row],[Where do you work]],[1]!tblCountries[[Actual]:[Mapping]],2,FALSE)","v":"Brazil"},"1 or 2 hours a day",7]
["ID1172","2012-05-28T22:41:15",500000,"INR",{"$f":"tblSalaries[[#This Row],[clean Salary (in local currency)]]*VLOOKUP(tblSalaries[[#This Row],[Currency]],[1]!tblXrate[#Data],2,FALSE)","v":8903.9583437212841},"Business Analyst","Analyst","India",{"$f":"VLOOKUP(tblSalaries[[#This Row],[Where do you work]],[1]!tblCountries[[Actual]:[Mapping]],2,FALSE)","v":"India"},"4 to 6 hours a day",0.8]
["ID1173","2012-05-28T22:41:26",8725,"USD",{"$f":"tblSalaries[[#This Row],[clean Salary (in local currency)]]*VLOOKUP(tblSalaries[[#This Row],[Currency]],[1]!tblXrate[#Data],2,FALSE)","v":8725},"Administration Officer","Manager","Pakistan",{"$f":"VLOOKUP(tblSalaries[[#This Row],[Where do you work]],[1]!tblCountries[[Actual]:[Mapping]],2,FALSE)","v":"Pakistan"},"2 to 3 hours per day",18]
["ID1175","2012-05-28T22:44:48",32000,"GBP",{"$f":"tblSalaries[[#This Row],[clean Salary (in local currency)]]*VLOOKUP(tblSalaries[[#This Row],[Currency]],[1]!tblXrate[#Data],2,FALSE)","v":50437.70470615309},"Service Analyst","Analyst","UK",{"$f":"VLOOKUP(tblSalaries[[#This Row],[Where do you work]],[1]!tblCountries[[Actual]:[Mapping]],2,FALSE)","v":"UK"},"4 to 6 hours a day",4]
["ID1176","2012-05-28T22:45:49",43000,"GBP",{"$f":"tblSalaries[[#This Row],[clean Salary (in local currency)]]*VLOOKUP(tblSalaries[[#This Row],[Currency]],[1]!tblXrate[#Data],2,FALSE)","v":67775.665698893223},"Head of Finance","Accountant","UK",{"$f":"VLOOKUP(tblSalaries[[#This Row],[Where do you work]],[1]!tblCountries[[Actual]:[Mapping]],2,FALSE)","v":"UK"},"All the 8 hours baby, all the 8!",15]
["ID1177","2012-05-28T22:46:37",53000,"CAD",{"$f":"tblSalaries[[#This Row],[clean Salary (in local currency)]]*VLOOKUP(tblSalaries[[#This Row],[Currency]],[1]!tblXrate[#Data],2,FALSE)","v":52118.160720607324},"Data Analyst","Analyst","Canada",{"$f":"VLOOKUP(tblSalaries[[#This Row],[Where do you work]],[1]!tblCountries[[Actual]:[Mapping]],2,FALSE)","v":"Canada"},"4 to 6 hours a day",6]
["ID1178","2012-05-28T22:48:32",200000,"INR",{"$f":"tblSalaries[[#This Row],[clean Salary (in local currency)]]*VLOOKUP(tblSalaries[[#This Row],[Currency]],[1]!tblXrate[#Data],2,FALSE)","v":3561.5833374885137},"Associate","Analyst","India",{"$f":"VLOOKUP(tblSalaries[[#This Row],[Where do you work]],[1]!tblCountries[[Actual]:[Mapping]],2,FALSE)","v":"India"},"1 or 2 hours a day",6]
["ID1179","2012-05-28T22:49:15",450000,"INR",{"$f":"tblSalaries[[#This Row],[clean Salary (in local currency)]]*VLOOKUP(tblSalaries[[#This Row],[Currency]],[1]!tblXrate[#Data],2,FALSE)","v":8013.5625093491553},"Production Manager","Manager","India",{"$f":"VLOOKUP(tblSalaries[[#This Row],[Where do you work]],[1]!tblCountries[[Actual]:[Mapping]],2,FALSE)","v":"India"},"4 to 6 hours a day",21]
["ID1180","2012-05-28T22:50:51",28000,"USD",{"$f":"tblSalaries[[#This Row],[clean Salary (in local currency)]]*VLOOKUP(tblSalaries[[#This Row],[Currency]],[1]!tblXrate[#Data],2,FALSE)","v":28000},"Business Intelligence Manager","Manager","Poland",{"$f":"VLOOKUP(tblSalaries[[#This Row],[Where do you work]],[1]!tblCountries[[Actual]:[Mapping]],2,FALSE)","v":"Poland"},"4 to 6 hours a day",5]
["ID1181","2012-05-28T22:51:27",31763,"GBP",{"$f":"tblSalaries[[#This Row],[clean Salary (in local currency)]]*VLOOKUP(tblSalaries[[#This Row],[Currency]],[1]!tblXrate[#Data],2,FALSE)","v":50064.150455673145},"Network Administrator","Analyst","UK",{"$f":"VLOOKUP(tblSalaries[[#This Row],[Where do you work]],[1]!tblCountries[[Actual]:[Mapping]],2,FALSE)","v":"UK"},"2 to 3 hours per day",2]
["ID1182","2012-05-28T22:52:19",32000,"GBP",{"$f":"tblSalaries[[#This Row],[clean Salary (in local currency)]]*VLOOKUP(tblSalaries[[#This Row],[Currency]],[1]!tblXrate[#Data],2,FALSE)","v":50437.70470615309},"Performance Analyst","Analyst","Canada",{"$f":"VLOOKUP(tblSalaries[[#This Row],[Where do you work]],[1]!tblCountries[[Actual]:[Mapping]],2,FALSE)","v":"Canada"},"4 to 6 hours a day",9]
["ID1183","2012-05-28T22:53:03",27840,"USD",{"$f":"tblSalaries[[#This Row],[clean Salary (in local currency)]]*VLOOKUP(tblSalaries[[#This Row],[Currency]],[1]!tblXrate[#Data],2,FALSE)","v":27840},"Data Entry Clerk III","Analyst","USA",{"$f":"VLOOKUP(tblSalaries[[#This Row],[Where do you work]],[1]!tblCountries[[Actual]:[Mapping]],2,FALSE)","v":"USA"},"2 to 3 hours per day",1]
["ID1184","2012-05-28T22:54:24",350000,"INR",{"$f":"tblSalaries[[#This Row],[clean Salary (in local currency)]]*VLOOKUP(tblSalaries[[#This Row],[Currency]],[1]!tblXrate[#Data],2,FALSE)","v":6232.7708406048987},"officer accounts","Accountant","India",{"$f":"VLOOKUP(tblSalaries[[#This Row],[Where do you work]],[1]!tblCountries[[Actual]:[Mapping]],2,FALSE)","v":"India"},"2 to 3 hours per day",1.5]
["ID1185","2012-05-28T22:55:40",50000,"USD",{"$f":"tblSalaries[[#This Row],[clean Salary (in local currency)]]*VLOOKUP(tblSalaries[[#This Row],[Currency]],[1]!tblXrate[#Data],2,FALSE)","v":50000},"Engineer","Engineer","Singapore",{"$f":"VLOOKUP(tblSalaries[[#This Row],[Where do you work]],[1]!tblCountries[[Actual]:[Mapping]],2,FALSE)","v":"Singapore"},"2 to 3 hours per day",25]
["ID1186","2012-05-28T22:58:25",48000,"USD",{"$f":"tblSalaries[[#This Row],[clean Salary (in local currency)]]*VLOOKUP(tblSalaries[[#This Row],[Currency]],[1]!tblXrate[#Data],2,FALSE)","v":48000},"Cost Controlling Executive","Controller","Qatar",{"$f":"VLOOKUP(tblSalaries[[#This Row],[Where do you work]],[1]!tblCountries[[Actual]:[Mapping]],2,FALSE)","v":"Qatar"},"2 to 3 hours per day",10]
["ID1187","2012-05-28T22:59:16",24000,"USD",{"$f":"tblSalaries[[#This Row],[clean Salary (in local currency)]]*VLOOKUP(tblSalaries[[#This Row],[Currency]],[1]!tblXrate[#Data],2,FALSE)","v":24000},"Administration Manager","Manager","Argentina",{"$f":"VLOOKUP(tblSalaries[[#This Row],[Where do you work]],[1]!tblCountries[[Actual]:[Mapping]],2,FALSE)","v":"Argentina"},"4 to 6 hours a day",21]
["ID1188","2012-05-28T23:02:08",75000,"USD",{"$f":"tblSalaries[[#This Row],[clean Salary (in local currency)]]*VLOOKUP(tblSalaries[[#This Row],[Currency]],[1]!tblXrate[#Data],2,FALSE)","v":75000},"Financial Analyst","Analyst","USA",{"$f":"VLOOKUP(tblSalaries[[#This Row],[Where do you work]],[1]!tblCountries[[Actual]:[Mapping]],2,FALSE)","v":"USA"},"4 to 6 hours a day",12]
["ID1189","2012-05-28T23:05:03",216000,"AED",{"$f":"tblSalaries[[#This Row],[clean Salary (in local currency)]]*VLOOKUP(tblSalaries[[#This Row],[Currency]],[1]!tblXrate[#Data],2,FALSE)","v":58799.349940520107},"Financial analyst","Analyst","Dubai",{"$f":"VLOOKUP(tblSalaries[[#This Row],[Where do you work]],[1]!tblCountries[[Actual]:[Mapping]],2,FALSE)","v":"Dubai"},"4 to 6 hours a day",2]
["ID1190","2012-05-28T23:06:22",2000000,"PKR",{"$f":"tblSalaries[[#This Row],[clean Salary (in local currency)]]*VLOOKUP(tblSalaries[[#This Row],[Currency]],[1]!tblXrate[#Data],2,FALSE)","v":21228.177433598263},"Excel Corporate Trainer","Consultant","Pakistan",{"$f":"VLOOKUP(tblSalaries[[#This Row],[Where do you work]],[1]!tblCountries[[Actual]:[Mapping]],2,FALSE)","v":"Pakistan"},"All the 8 hours baby, all the 8!",8]
["ID1191","2012-05-28T23:13:24",60000,"USD",{"$f":"tblSalaries[[#This Row],[clean Salary (in local currency)]]*VLOOKUP(tblSalaries[[#This Row],[Currency]],[1]!tblXrate[#Data],2,FALSE)","v":60000},"Quality Management","Manager","USA",{"$f":"VLOOKUP(tblSalaries[[#This Row],[Where do you work]],[1]!tblCountries[[Actual]:[Mapping]],2,FALSE)","v":"USA"},"2 to 3 hours per day",10]
["ID1192","2012-05-28T23:13:31",60000,"PLN",{"$f":"tblSalaries[[#This Row],[clean Salary (in local currency)]]*VLOOKUP(tblSalaries[[#This Row],[Currency]],[1]!tblXrate[#Data],2,FALSE)","v":18018.883790212141},"Sales Analyst","Analyst","Poland",{"$f":"VLOOKUP(tblSalaries[[#This Row],[Where do you work]],[1]!tblCountries[[Actual]:[Mapping]],2,FALSE)","v":"Poland"},"All the 8 hours baby, all the 8!",10]
["ID1193","2012-05-28T23:17:12",7200,"USD",{"$f":"tblSalaries[[#This Row],[clean Salary (in local currency)]]*VLOOKUP(tblSalaries[[#This Row],[Currency]],[1]!tblXrate[#Data],2,FALSE)","v":7200},"Supervisor MIS","Reporting","India",{"$f":"VLOOKUP(tblSalaries[[#This Row],[Where do you work]],[1]!tblCountries[[Actual]:[Mapping]],2,FALSE)","v":"India"},"4 to 6 hours a day",7]
["ID1194","2012-05-28T23:17:31",56000,"USD",{"$f":"tblSalaries[[#This Row],[clean Salary (in local currency)]]*VLOOKUP(tblSalaries[[#This Row],[Currency]],[1]!tblXrate[#Data],2,FALSE)","v":56000},"Analyst","Analyst","USA",{"$f":"VLOOKUP(tblSalaries[[#This Row],[Where do you work]],[1]!tblCountries[[Actual]:[Mapping]],2,FALSE)","v":"USA"},"1 or 2 hours a day",2]
["ID1195","2012-05-28T23:19:36",540000,"INR",{"$f":"tblSalaries[[#This Row],[clean Salary (in local currency)]]*VLOOKUP(tblSalaries[[#This Row],[Currency]],[1]!tblXrate[#Data],2,FALSE)","v":9616.275011218986},"Business Analyst - Solutions","Analyst","India",{"$f":"VLOOKUP(tblSalaries[[#This Row],[Where do you work]],[1]!tblCountries[[Actual]:[Mapping]],2,FALSE)","v":"India"},"4 to 6 hours a day",7.9]
["ID1196","2012-05-28T23:21:02",4300000,"KENYA",{"$f":"tblSalaries[[#This Row],[clean Salary (in local currency)]]*VLOOKUP(tblSalaries[[#This Row],[Currency]],[1]!tblXrate[#Data],2,FALSE)","v":51497.005988023957},"Finance Manager","Manager","Kenya",{"$f":"VLOOKUP(tblSalaries[[#This Row],[Where do you work]],[1]!tblCountries[[Actual]:[Mapping]],2,FALSE)","v":"Kenya"},"4 to 6 hours a day",9]
["ID1197","2012-05-28T23:25:32",82000,"EUR",{"$f":"tblSalaries[[#This Row],[clean Salary (in local currency)]]*VLOOKUP(tblSalaries[[#This Row],[Currency]],[1]!tblXrate[#Data],2,FALSE)","v":104172.75399731184},"Finance Project Manager","Manager","Netherlands",{"$f":"VLOOKUP(tblSalaries[[#This Row],[Where do you work]],[1]!tblCountries[[Actual]:[Mapping]],2,FALSE)","v":"Netherlands"},"All the 8 hours baby, all the 8!",25]
["ID1198","2012-05-28T23:33:59",88000,"USD",{"$f":"tblSalaries[[#This Row],[clean Salary (in local currency)]]*VLOOKUP(tblSalaries[[#This Row],[Currency]],[1]!tblXrate[#Data],2,FALSE)","v":88000},"Manager, Strategy & Insights","Manager","USA",{"$f":"VLOOKUP(tblSalaries[[#This Row],[Where do you work]],[1]!tblCountries[[Actual]:[Mapping]],2,FALSE)","v":"USA"},"4 to 6 hours a day",2]
["ID1199","2012-05-28T23:38:52",80000,"USD",{"$f":"tblSalaries[[#This Row],[clean Salary (in local currency)]]*VLOOKUP(tblSalaries[[#This Row],[Currency]],[1]!tblXrate[#Data],2,FALSE)","v":80000},"Financial/Data Analyst","Analyst","USA",{"$f":"VLOOKUP(tblSalaries[[#This Row],[Where do you work]],[1]!tblCountries[[Actual]:[Mapping]],2,FALSE)","v":"USA"},"4 to 6 hours a day",6]
["ID1200","2012-05-28T23:47:10",19000,"USD",{"$f":"tblSalaries[[#This Row],[clean Salary (in local currency)]]*VLOOKUP(tblSalaries[[#This Row],[Currency]],[1]!tblXrate[#Data],2,FALSE)","v":19000},"Accountant","Accountant","UK",{"$f":"VLOOKUP(tblSalaries[[#This Row],[Where do you work]],[1]!tblCountries[[Actual]:[Mapping]],2,FALSE)","v":"UK"},"4 to 6 hours a day",20]
["ID1201","2012-05-28T23:51:37",15000,"EUR",{"$f":"tblSalaries[[#This Row],[clean Salary (in local currency)]]*VLOOKUP(tblSalaries[[#This Row],[Currency]],[1]!tblXrate[#Data],2,FALSE)","v":19055.991584874118},"business consultant","Consultant","Italy",{"$f":"VLOOKUP(tblSalaries[[#This Row],[Where do you work]],[1]!tblCountries[[Actual]:[Mapping]],2,FALSE)","v":"italy"},"4 to 6 hours a day",3]
["ID1202","2012-05-28T23:52:42",480000,"INR",{"$f":"tblSalaries[[#This Row],[clean Salary (in local currency)]]*VLOOKUP(tblSalaries[[#This Row],[Currency]],[1]!tblXrate[#Data],2,FALSE)","v":8547.8000099724322},"Documentation Consultant","Consultant","India",{"$f":"VLOOKUP(tblSalaries[[#This Row],[Where do you work]],[1]!tblCountries[[Actual]:[Mapping]],2,FALSE)","v":"India"},"All the 8 hours baby, all the 8!",15]
["ID1203","2012-05-28T23:53:02",1100000,"INR",{"$f":"tblSalaries[[#This Row],[clean Salary (in local currency)]]*VLOOKUP(tblSalaries[[#This Row],[Currency]],[1]!tblXrate[#Data],2,FALSE)","v":19588.708356186824},"Sr. Consultant","Consultant","India",{"$f":"VLOOKUP(tblSalaries[[#This Row],[Where do you work]],[1]!tblCountries[[Actual]:[Mapping]],2,FALSE)","v":"India"},"All the 8 hours baby, all the 8!",13]
["ID1204","2012-05-29T00:00:21",61000,"USD",{"$f":"tblSalaries[[#This Row],[clean Salary (in local currency)]]*VLOOKUP(tblSalaries[[#This Row],[Currency]],[1]!tblXrate[#Data],2,FALSE)","v":61000},"Financial Analyst","Analyst","USA",{"$f":"VLOOKUP(tblSalaries[[#This Row],[Where do you work]],[1]!tblCountries[[Actual]:[Mapping]],2,FALSE)","v":"USA"},"4 to 6 hours a day",1.5]
["ID1205","2012-05-29T00:03:43",34000,"GBP",{"$f":"tblSalaries[[#This Row],[clean Salary (in local currency)]]*VLOOKUP(tblSalaries[[#This Row],[Currency]],[1]!tblXrate[#Data],2,FALSE)","v":53590.061250287661},"investment accountant","Accountant","UK",{"$f":"VLOOKUP(tblSalaries[[#This Row],[Where do you work]],[1]!tblCountries[[Actual]:[Mapping]],2,FALSE)","v":"UK"},"All the 8 hours baby, all the 8!",10]
["ID1206","2012-05-29T00:03:48",34000,"GBP",{"$f":"tblSalaries[[#This Row],[clean Salary (in local currency)]]*VLOOKUP(tblSalaries[[#This Row],[Currency]],[1]!tblXrate[#Data],2,FALSE)","v":53590.061250287661},"investment accountant","Accountant","UK",{"$f":"VLOOKUP(tblSalaries[[#This Row],[Where do you work]],[1]!tblCountries[[Actual]:[Mapping]],2,FALSE)","v":"UK"},"All the 8 hours baby, all the 8!",10]
["ID1207","2012-05-29T00:07:00",250000,"INR",{"$f":"tblSalaries[[#This Row],[clean Salary (in local currency)]]*VLOOKUP(tblSalaries[[#This Row],[Currency]],[1]!tblXrate[#Data],2,FALSE)","v":4451.9791718606421},"Officer Production","Manager","India",{"$f":"VLOOKUP(tblSalaries[[#This Row],[Where do you work]],[1]!tblCountries[[Actual]:[Mapping]],2,FALSE)","v":"India"},"4 to 6 hours a day",1]
["ID1208","2012-05-29T00:07:36",20000,"EUR",{"$f":"tblSalaries[[#This Row],[clean Salary (in local currency)]]*VLOOKUP(tblSalaries[[#This Row],[Currency]],[1]!tblXrate[#Data],2,FALSE)","v":25407.988779832154},"warehouse management","Manager","GREECE",{"$f":"VLOOKUP(tblSalaries[[#This Row],[Where do you work]],[1]!tblCountries[[Actual]:[Mapping]],2,FALSE)","v":"Greece"},"1 or 2 hours a day",12]
["ID1209","2012-05-29T00:12:23",23000,"USD",{"$f":"tblSalaries[[#This Row],[clean Salary (in local currency)]]*VLOOKUP(tblSalaries[[#This Row],[Currency]],[1]!tblXrate[#Data],2,FALSE)","v":23000},"Chief Accountant","Accountant","Saudi Arabia",{"$f":"VLOOKUP(tblSalaries[[#This Row],[Where do you work]],[1]!tblCountries[[Actual]:[Mapping]],2,FALSE)","v":"Saudi Arabia"},"All the 8 hours baby, all the 8!",14]
["ID1210","2012-05-29T00:16:55",900000,"INR",{"$f":"tblSalaries[[#This Row],[clean Salary (in local currency)]]*VLOOKUP(tblSalaries[[#This Row],[Currency]],[1]!tblXrate[#Data],2,FALSE)","v":16027.125018698311},"Manager F & A","Manager","India",{"$f":"VLOOKUP(tblSalaries[[#This Row],[Where do you work]],[1]!tblCountries[[Actual]:[Mapping]],2,FALSE)","v":"India"},"1 or 2 hours a day",13]
["ID1211","2012-05-29T00:25:39",60000,"USD",{"$f":"tblSalaries[[#This Row],[clean Salary (in local currency)]]*VLOOKUP(tblSalaries[[#This Row],[Currency]],[1]!tblXrate[#Data],2,FALSE)","v":60000},"Quality Assurance Engineer","Engineer","USA",{"$f":"VLOOKUP(tblSalaries[[#This Row],[Where do you work]],[1]!tblCountries[[Actual]:[Mapping]],2,FALSE)","v":"USA"},"1 or 2 hours a day",6]
["ID1212","2012-05-29T00:25:46",4800,"USD",{"$f":"tblSalaries[[#This Row],[clean Salary (in local currency)]]*VLOOKUP(tblSalaries[[#This Row],[Currency]],[1]!tblXrate[#Data],2,FALSE)","v":4800},"Financial Analyst","Analyst","India",{"$f":"VLOOKUP(tblSalaries[[#This Row],[Where do you work]],[1]!tblCountries[[Actual]:[Mapping]],2,FALSE)","v":"India"},"4 to 6 hours a day",5]
["ID1213","2012-05-29T00:26:21",625000,"DKK",{"$f":"tblSalaries[[#This Row],[clean Salary (in local currency)]]*VLOOKUP(tblSalaries[[#This Row],[Currency]],[1]!tblXrate[#Data],2,FALSE)","v":106815.148267971},"Manager Business Controlling","Manager","Denmark",{"$f":"VLOOKUP(tblSalaries[[#This Row],[Where do you work]],[1]!tblCountries[[Actual]:[Mapping]],2,FALSE)","v":"Denmark"},"4 to 6 hours a day",25]
["ID1214","2012-05-29T00:28:38",500000,"INR",{"$f":"tblSalaries[[#This Row],[clean Salary (in local currency)]]*VLOOKUP(tblSalaries[[#This Row],[Currency]],[1]!tblXrate[#Data],2,FALSE)","v":8903.9583437212841},"Consultant","Consultant","India",{"$f":"VLOOKUP(tblSalaries[[#This Row],[Where do you work]],[1]!tblCountries[[Actual]:[Mapping]],2,FALSE)","v":"India"},"2 to 3 hours per day",3]
["ID1215","2012-05-29T00:29:32",60000,"USD",{"$f":"tblSalaries[[#This Row],[clean Salary (in local currency)]]*VLOOKUP(tblSalaries[[#This Row],[Currency]],[1]!tblXrate[#Data],2,FALSE)","v":60000},"sample manager","Manager","USA",{"$f":"VLOOKUP(tblSalaries[[#This Row],[Where do you work]],[1]!tblCountries[[Actual]:[Mapping]],2,FALSE)","v":"USA"},"4 to 6 hours a day",12]
["ID1216","2012-05-29T00:30:42",2600000,"INR",{"$f":"tblSalaries[[#This Row],[clean Salary (in local currency)]]*VLOOKUP(tblSalaries[[#This Row],[Currency]],[1]!tblXrate[#Data],2,FALSE)","v":46300.583387350678},"Practice Manager","Manager","India",{"$f":"VLOOKUP(tblSalaries[[#This Row],[Where do you work]],[1]!tblCountries[[Actual]:[Mapping]],2,FALSE)","v":"India"},"4 to 6 hours a day",4]
["ID1217","2012-05-29T00:32:35",750000,"INR",{"$f":"tblSalaries[[#This Row],[clean Salary (in local currency)]]*VLOOKUP(tblSalaries[[#This Row],[Currency]],[1]!tblXrate[#Data],2,FALSE)","v":13355.937515581925},"Assistant Manager","Manager","India",{"$f":"VLOOKUP(tblSalaries[[#This Row],[Where do you work]],[1]!tblCountries[[Actual]:[Mapping]],2,FALSE)","v":"India"},"2 to 3 hours per day",3]
["ID1218","2012-05-29T00:36:21",74000,"USD",{"$f":"tblSalaries[[#This Row],[clean Salary (in local currency)]]*VLOOKUP(tblSalaries[[#This Row],[Currency]],[1]!tblXrate[#Data],2,FALSE)","v":74000},"marketing specialist","Specialist","USA",{"$f":"VLOOKUP(tblSalaries[[#This Row],[Where do you work]],[1]!tblCountries[[Actual]:[Mapping]],2,FALSE)","v":"USA"},"4 to 6 hours a day",10]
["ID1219","2012-05-29T00:47:17",95856,"USD",{"$f":"tblSalaries[[#This Row],[clean Salary (in local currency)]]*VLOOKUP(tblSalaries[[#This Row],[Currency]],[1]!tblXrate[#Data],2,FALSE)","v":95856},"Analyst","Analyst","USA",{"$f":"VLOOKUP(tblSalaries[[#This Row],[Where do you work]],[1]!tblCountries[[Actual]:[Mapping]],2,FALSE)","v":"USA"},"2 to 3 hours per day",13]
["ID1220","2012-05-29T01:03:19",40000,"USD",{"$f":"tblSalaries[[#This Row],[clean Salary (in local currency)]]*VLOOKUP(tblSalaries[[#This Row],[Currency]],[1]!tblXrate[#Data],2,FALSE)","v":40000},"Staff Accountant","Accountant","USA",{"$f":"VLOOKUP(tblSalaries[[#This Row],[Where do you work]],[1]!tblCountries[[Actual]:[Mapping]],2,FALSE)","v":"USA"},"2 to 3 hours per day",15]
["ID1221","2012-05-29T01:06:44",4400,"USD",{"$f":"tblSalaries[[#This Row],[clean Salary (in local currency)]]*VLOOKUP(tblSalaries[[#This Row],[Currency]],[1]!tblXrate[#Data],2,FALSE)","v":4400},"Manager Corporate Finance","Manager","Latin America",{"$f":"VLOOKUP(tblSalaries[[#This Row],[Where do you work]],[1]!tblCountries[[Actual]:[Mapping]],2,FALSE)","v":"Latin America"},"2 to 3 hours per day",5]
["ID1222","2012-05-29T01:12:28",90000,"USD",{"$f":"tblSalaries[[#This Row],[clean Salary (in local currency)]]*VLOOKUP(tblSalaries[[#This Row],[Currency]],[1]!tblXrate[#Data],2,FALSE)","v":90000},"Senior Analyst","Analyst","USA",{"$f":"VLOOKUP(tblSalaries[[#This Row],[Where do you work]],[1]!tblCountries[[Actual]:[Mapping]],2,FALSE)","v":"USA"},"4 to 6 hours a day",30]
["ID1223","2012-05-29T01:19:26",450000,"INR",{"$f":"tblSalaries[[#This Row],[clean Salary (in local currency)]]*VLOOKUP(tblSalaries[[#This Row],[Currency]],[1]!tblXrate[#Data],2,FALSE)","v":8013.5625093491553},"ASSISTANT MANAGER","Manager","India",{"$f":"VLOOKUP(tblSalaries[[#This Row],[Where do you work]],[1]!tblCountries[[Actual]:[Mapping]],2,FALSE)","v":"India"},"All the 8 hours baby, all the 8!",2]
["ID1224","2012-05-29T01:22:59",1000000,"INR",{"$f":"tblSalaries[[#This Row],[clean Salary (in local currency)]]*VLOOKUP(tblSalaries[[#This Row],[Currency]],[1]!tblXrate[#Data],2,FALSE)","v":17807.916687442568},"Asst Manager","Manager","India",{"$f":"VLOOKUP(tblSalaries[[#This Row],[Where do you work]],[1]!tblCountries[[Actual]:[Mapping]],2,FALSE)","v":"India"},"4 to 6 hours a day",8.5]
["ID1225","2012-05-29T01:31:39",700000,"INR",{"$f":"tblSalaries[[#This Row],[clean Salary (in local currency)]]*VLOOKUP(tblSalaries[[#This Row],[Currency]],[1]!tblXrate[#Data],2,FALSE)","v":12465.541681209797},"Lead Executive MIS","Reporting","India",{"$f":"VLOOKUP(tblSalaries[[#This Row],[Where do you work]],[1]!tblCountries[[Actual]:[Mapping]],2,FALSE)","v":"India"},"4 to 6 hours a day",6]
["ID1226","2012-05-29T01:41:00",80000,"USD",{"$f":"tblSalaries[[#This Row],[clean Salary (in local currency)]]*VLOOKUP(tblSalaries[[#This Row],[Currency]],[1]!tblXrate[#Data],2,FALSE)","v":80000},"Snr Business Analyst","Analyst","Singapore",{"$f":"VLOOKUP(tblSalaries[[#This Row],[Where do you work]],[1]!tblCountries[[Actual]:[Mapping]],2,FALSE)","v":"Singapore"},"1 or 2 hours a day",6]
["ID1227","2012-05-29T01:44:03",100000,"USD",{"$f":"tblSalaries[[#This Row],[clean Salary (in local currency)]]*VLOOKUP(tblSalaries[[#This Row],[Currency]],[1]!tblXrate[#Data],2,FALSE)","v":100000},"Finance Manager","Manager","USA",{"$f":"VLOOKUP(tblSalaries[[#This Row],[Where do you work]],[1]!tblCountries[[Actual]:[Mapping]],2,FALSE)","v":"USA"},"4 to 6 hours a day",11]
["ID1228","2012-05-29T01:45:13",49200,"USD",{"$f":"tblSalaries[[#This Row],[clean Salary (in local currency)]]*VLOOKUP(tblSalaries[[#This Row],[Currency]],[1]!tblXrate[#Data],2,FALSE)","v":49200},"Chief Accountant","Accountant","QATAR",{"$f":"VLOOKUP(tblSalaries[[#This Row],[Where do you work]],[1]!tblCountries[[Actual]:[Mapping]],2,FALSE)","v":"Qatar"},"2 to 3 hours per day",25]
["ID1229","2012-05-29T01:47:39",9000,"USD",{"$f":"tblSalaries[[#This Row],[clean Salary (in local currency)]]*VLOOKUP(tblSalaries[[#This Row],[Currency]],[1]!tblXrate[#Data],2,FALSE)","v":9000},"assurance manager","Manager","India",{"$f":"VLOOKUP(tblSalaries[[#This Row],[Where do you work]],[1]!tblCountries[[Actual]:[Mapping]],2,FALSE)","v":"India"},"4 to 6 hours a day",1]
["ID1230","2012-05-29T01:50:01",300000,"INR",{"$f":"tblSalaries[[#This Row],[clean Salary (in local currency)]]*VLOOKUP(tblSalaries[[#This Row],[Currency]],[1]!tblXrate[#Data],2,FALSE)","v":5342.3750062327708},"Finance Analyst","Analyst","India",{"$f":"VLOOKUP(tblSalaries[[#This Row],[Where do you work]],[1]!tblCountries[[Actual]:[Mapping]],2,FALSE)","v":"India"},"4 to 6 hours a day",6]
["ID1231","2012-05-29T02:02:39",40000,"USD",{"$f":"tblSalaries[[#This Row],[clean Salary (in local currency)]]*VLOOKUP(tblSalaries[[#This Row],[Currency]],[1]!tblXrate[#Data],2,FALSE)","v":40000},"SOX,SAP, Insurance Coordinator","Manager","Pakistan, Angola",{"$f":"VLOOKUP(tblSalaries[[#This Row],[Where do you work]],[1]!tblCountries[[Actual]:[Mapping]],2,FALSE)","v":"Pakistan"},"4 to 6 hours a day",15]
["ID1232","2012-05-29T02:12:32",26000,"GBP",{"$f":"tblSalaries[[#This Row],[clean Salary (in local currency)]]*VLOOKUP(tblSalaries[[#This Row],[Currency]],[1]!tblXrate[#Data],2,FALSE)","v":40980.635073749385},"Business Analyst","Analyst","UK",{"$f":"VLOOKUP(tblSalaries[[#This Row],[Where do you work]],[1]!tblCountries[[Actual]:[Mapping]],2,FALSE)","v":"UK"},"4 to 6 hours a day",2]
["ID1233","2012-05-29T02:19:27",29000,"GBP",{"$f":"tblSalaries[[#This Row],[clean Salary (in local currency)]]*VLOOKUP(tblSalaries[[#This Row],[Currency]],[1]!tblXrate[#Data],2,FALSE)","v":45709.169889951241},"Financial Accountant","Accountant","UK",{"$f":"VLOOKUP(tblSalaries[[#This Row],[Where do you work]],[1]!tblCountries[[Actual]:[Mapping]],2,FALSE)","v":"UK"},"2 to 3 hours per day",8]
["ID1234","2012-05-29T02:22:13",400000,"INR",{"$f":"tblSalaries[[#This Row],[clean Salary (in local currency)]]*VLOOKUP(tblSalaries[[#This Row],[Currency]],[1]!tblXrate[#Data],2,FALSE)","v":7123.1666749770275},"Pmo","Manager","India",{"$f":"VLOOKUP(tblSalaries[[#This Row],[Where do you work]],[1]!tblCountries[[Actual]:[Mapping]],2,FALSE)","v":"India"},"4 to 6 hours a day",1]
["ID1235","2012-05-29T02:26:28",100000,"USD",{"$f":"tblSalaries[[#This Row],[clean Salary (in local currency)]]*VLOOKUP(tblSalaries[[#This Row],[Currency]],[1]!tblXrate[#Data],2,FALSE)","v":100000},"Controller","Controller","Norway",{"$f":"VLOOKUP(tblSalaries[[#This Row],[Where do you work]],[1]!tblCountries[[Actual]:[Mapping]],2,FALSE)","v":"Norway"},"4 to 6 hours a day",12]
["ID1236","2012-05-29T02:43:44",62000,"EUR",{"$f":"tblSalaries[[#This Row],[clean Salary (in local currency)]]*VLOOKUP(tblSalaries[[#This Row],[Currency]],[1]!tblXrate[#Data],2,FALSE)","v":78764.765217479682},"Stafmember","Analyst","Netherlands",{"$f":"VLOOKUP(tblSalaries[[#This Row],[Where do you work]],[1]!tblCountries[[Actual]:[Mapping]],2,FALSE)","v":"Netherlands"},"4 to 6 hours a day",15]
["ID1237","2012-05-29T03:16:02",150000,"AUD",{"$f":"tblSalaries[[#This Row],[clean Salary (in local currency)]]*VLOOKUP(tblSalaries[[#This Row],[Currency]],[1]!tblXrate[#Data],2,FALSE)","v":152986.44846039536},"Analyst","Analyst","Australia",{"$f":"VLOOKUP(tblSalaries[[#This Row],[Where do you work]],[1]!tblCountries[[Actual]:[Mapping]],2,FALSE)","v":"Australia"},"2 to 3 hours per day",10]
["ID1238","2012-05-29T03:28:37",35000,"EUR",{"$f":"tblSalaries[[#This Row],[clean Salary (in local currency)]]*VLOOKUP(tblSalaries[[#This Row],[Currency]],[1]!tblXrate[#Data],2,FALSE)","v":44463.980364706273},"Business Analyst","Analyst","Ireland",{"$f":"VLOOKUP(tblSalaries[[#This Row],[Where do you work]],[1]!tblCountries[[Actual]:[Mapping]],2,FALSE)","v":"Ireland"},"All the 8 hours baby, all the 8!",12]
["ID1239","2012-05-29T03:51:09",30000,"EUR",{"$f":"tblSalaries[[#This Row],[clean Salary (in local currency)]]*VLOOKUP(tblSalaries[[#This Row],[Currency]],[1]!tblXrate[#Data],2,FALSE)","v":38111.983169748237},"education advisor","Consultant","the Netherlands",{"$f":"VLOOKUP(tblSalaries[[#This Row],[Where do you work]],[1]!tblCountries[[Actual]:[Mapping]],2,FALSE)","v":"Netherlands"},"1 or 2 hours a day",8]
["ID1240","2012-05-29T03:51:28",75000,"GBP",{"$f":"tblSalaries[[#This Row],[clean Salary (in local currency)]]*VLOOKUP(tblSalaries[[#This Row],[Currency]],[1]!tblXrate[#Data],2,FALSE)","v":118213.37040504631},"Finance Manager","Manager","UK",{"$f":"VLOOKUP(tblSalaries[[#This Row],[Where do you work]],[1]!tblCountries[[Actual]:[Mapping]],2,FALSE)","v":"UK"},"4 to 6 hours a day",20]
["ID1241","2012-05-29T04:03:07",25000,"GBP",{"$f":"tblSalaries[[#This Row],[clean Salary (in local currency)]]*VLOOKUP(tblSalaries[[#This Row],[Currency]],[1]!tblXrate[#Data],2,FALSE)","v":39404.456801682099},"Senior Accounts Clerk","Accountant","UK",{"$f":"VLOOKUP(tblSalaries[[#This Row],[Where do you work]],[1]!tblCountries[[Actual]:[Mapping]],2,FALSE)","v":"UK"},"2 to 3 hours per day",10]
["ID1242","2012-05-29T04:08:45",71000,"EUR",{"$f":"tblSalaries[[#This Row],[clean Salary (in local currency)]]*VLOOKUP(tblSalaries[[#This Row],[Currency]],[1]!tblXrate[#Data],2,FALSE)","v":90198.36016840415},"Consultant","Consultant","Germany",{"$f":"VLOOKUP(tblSalaries[[#This Row],[Where do you work]],[1]!tblCountries[[Actual]:[Mapping]],2,FALSE)","v":"Germany"},"1 or 2 hours a day",3]
["ID1243","2012-05-29T04:11:58",30000,"GBP",{"$f":"tblSalaries[[#This Row],[clean Salary (in local currency)]]*VLOOKUP(tblSalaries[[#This Row],[Currency]],[1]!tblXrate[#Data],2,FALSE)","v":47285.348162018527},"Infection Prevention Surveillance Specialist","Specialist","UK",{"$f":"VLOOKUP(tblSalaries[[#This Row],[Where do you work]],[1]!tblCountries[[Actual]:[Mapping]],2,FALSE)","v":"UK"},"4 to 6 hours a day",14]
["ID1244","2012-05-29T04:25:02",56000,"USD",{"$f":"tblSalaries[[#This Row],[clean Salary (in local currency)]]*VLOOKUP(tblSalaries[[#This Row],[Currency]],[1]!tblXrate[#Data],2,FALSE)","v":56000},"Accountant","Accountant","USA",{"$f":"VLOOKUP(tblSalaries[[#This Row],[Where do you work]],[1]!tblCountries[[Actual]:[Mapping]],2,FALSE)","v":"USA"},"4 to 6 hours a day",1]
["ID1245","2012-05-29T04:30:10",48000000,"IDR",{"$f":"tblSalaries[[#This Row],[clean Salary (in local currency)]]*VLOOKUP(tblSalaries[[#This Row],[Currency]],[1]!tblXrate[#Data],2,FALSE)","v":5082.6943786459069},"Office Instructor","Analyst","Indonesia",{"$f":"VLOOKUP(tblSalaries[[#This Row],[Where do you work]],[1]!tblCountries[[Actual]:[Mapping]],2,FALSE)","v":"Indonesia"},"1 or 2 hours a day",2]
["ID1246","2012-05-29T04:33:37",34000,"GBP",{"$f":"tblSalaries[[#This Row],[clean Salary (in local currency)]]*VLOOKUP(tblSalaries[[#This Row],[Currency]],[1]!tblXrate[#Data],2,FALSE)","v":53590.061250287661},"Investment Accountant","Accountant","UK",{"$f":"VLOOKUP(tblSalaries[[#This Row],[Where do you work]],[1]!tblCountries[[Actual]:[Mapping]],2,FALSE)","v":"UK"},"All the 8 hours baby, all the 8!",10]
["ID1247","2012-05-29T05:03:26",450000,"DKK",{"$f":"tblSalaries[[#This Row],[clean Salary (in local currency)]]*VLOOKUP(tblSalaries[[#This Row],[Currency]],[1]!tblXrate[#Data],2,FALSE)","v":76906.906752939132},"owner","CXO or Top Mgmt.","Denmark",{"$f":"VLOOKUP(tblSalaries[[#This Row],[Where do you work]],[1]!tblCountries[[Actual]:[Mapping]],2,FALSE)","v":"Denmark"},"All the 8 hours baby, all the 8!",17]
["ID1248","2012-05-29T05:08:57",85000,"USD",{"$f":"tblSalaries[[#This Row],[clean Salary (in local currency)]]*VLOOKUP(tblSalaries[[#This Row],[Currency]],[1]!tblXrate[#Data],2,FALSE)","v":85000},"Senior Executive Compensation Analyst ","Analyst","USA",{"$f":"VLOOKUP(tblSalaries[[#This Row],[Where do you work]],[1]!tblCountries[[Actual]:[Mapping]],2,FALSE)","v":"USA"},"4 to 6 hours a day",5]
["ID1249","2012-05-29T05:11:03",72000,"USD",{"$f":"tblSalaries[[#This Row],[clean Salary (in local currency)]]*VLOOKUP(tblSalaries[[#This Row],[Currency]],[1]!tblXrate[#Data],2,FALSE)","v":72000},"Markets Adviser","Consultant","New Zealand",{"$f":"VLOOKUP(tblSalaries[[#This Row],[Where do you work]],[1]!tblCountries[[Actual]:[Mapping]],2,FALSE)","v":"New Zealand"},"2 to 3 hours per day",10]
["ID1250","2012-05-29T05:21:39",55000,"USD",{"$f":"tblSalaries[[#This Row],[clean Salary (in local currency)]]*VLOOKUP(tblSalaries[[#This Row],[Currency]],[1]!tblXrate[#Data],2,FALSE)","v":55000},"Systems Analyst","Analyst","USA",{"$f":"VLOOKUP(tblSalaries[[#This Row],[Where do you work]],[1]!tblCountries[[Actual]:[Mapping]],2,FALSE)","v":"USA"},"1 or 2 hours a day",7]
["ID1251","2012-05-29T05:47:34",43000,"GBP",{"$f":"tblSalaries[[#This Row],[clean Salary (in local currency)]]*VLOOKUP(tblSalaries[[#This Row],[Currency]],[1]!tblXrate[#Data],2,FALSE)","v":67775.665698893223},"Financial Controller","Controller","UK",{"$f":"VLOOKUP(tblSalaries[[#This Row],[Where do you work]],[1]!tblCountries[[Actual]:[Mapping]],2,FALSE)","v":"UK"},"4 to 6 hours a day",25]
["ID1252","2012-05-29T05:53:42",25750,"GBP",{"$f":"tblSalaries[[#This Row],[clean Salary (in local currency)]]*VLOOKUP(tblSalaries[[#This Row],[Currency]],[1]!tblXrate[#Data],2,FALSE)","v":40586.590505732565},"Energy Analyst","Analyst","UK",{"$f":"VLOOKUP(tblSalaries[[#This Row],[Where do you work]],[1]!tblCountries[[Actual]:[Mapping]],2,FALSE)","v":"UK"},"4 to 6 hours a day",1]
["ID1253","2012-05-29T06:08:12",50846,"USD",{"$f":"tblSalaries[[#This Row],[clean Salary (in local currency)]]*VLOOKUP(tblSalaries[[#This Row],[Currency]],[1]!tblXrate[#Data],2,FALSE)","v":50846},"Program & Policy Analyst-Advanced","Analyst","USA",{"$f":"VLOOKUP(tblSalaries[[#This Row],[Where do you work]],[1]!tblCountries[[Actual]:[Mapping]],2,FALSE)","v":"USA"},"4 to 6 hours a day",25]
["ID1254","2012-05-29T06:24:36",63000,"USD",{"$f":"tblSalaries[[#This Row],[clean Salary (in local currency)]]*VLOOKUP(tblSalaries[[#This Row],[Currency]],[1]!tblXrate[#Data],2,FALSE)","v":63000},"Senior Staff Accountant","Accountant","USA",{"$f":"VLOOKUP(tblSalaries[[#This Row],[Where do you work]],[1]!tblCountries[[Actual]:[Mapping]],2,FALSE)","v":"USA"},"All the 8 hours baby, all the 8!",16]
["ID1255","2012-05-29T06:26:05",80000,"AUD",{"$f":"tblSalaries[[#This Row],[clean Salary (in local currency)]]*VLOOKUP(tblSalaries[[#This Row],[Currency]],[1]!tblXrate[#Data],2,FALSE)","v":81592.772512210868},"systems accountant","Accountant","Australia",{"$f":"VLOOKUP(tblSalaries[[#This Row],[Where do you work]],[1]!tblCountries[[Actual]:[Mapping]],2,FALSE)","v":"Australia"},"4 to 6 hours a day",5]
["ID1256","2012-05-29T07:21:41",50700,"USD",{"$f":"tblSalaries[[#This Row],[clean Salary (in local currency)]]*VLOOKUP(tblSalaries[[#This Row],[Currency]],[1]!tblXrate[#Data],2,FALSE)","v":50700},"Sr. Systems Analyst","Analyst","Brazil",{"$f":"VLOOKUP(tblSalaries[[#This Row],[Where do you work]],[1]!tblCountries[[Actual]:[Mapping]],2,FALSE)","v":"Brazil"},"1 or 2 hours a day",15]
["ID1257","2012-05-29T07:28:41",20000,"GBP",{"$f":"tblSalaries[[#This Row],[clean Salary (in local currency)]]*VLOOKUP(tblSalaries[[#This Row],[Currency]],[1]!tblXrate[#Data],2,FALSE)","v":31523.565441345683},"Environmental Information Analyst","Analyst","UK",{"$f":"VLOOKUP(tblSalaries[[#This Row],[Where do you work]],[1]!tblCountries[[Actual]:[Mapping]],2,FALSE)","v":"UK"},"4 to 6 hours a day",1]
["ID1258","2012-05-29T07:46:56",70000,"USD",{"$f":"tblSalaries[[#This Row],[clean Salary (in local currency)]]*VLOOKUP(tblSalaries[[#This Row],[Currency]],[1]!tblXrate[#Data],2,FALSE)","v":70000},"Develope","Analyst","USA",{"$f":"VLOOKUP(tblSalaries[[#This Row],[Where do you work]],[1]!tblCountries[[Actual]:[Mapping]],2,FALSE)","v":"USA"},"1 or 2 hours a day",6]
["ID1259","2012-05-29T07:52:56",65000,"CAD",{"$f":"tblSalaries[[#This Row],[clean Salary (in local currency)]]*VLOOKUP(tblSalaries[[#This Row],[Currency]],[1]!tblXrate[#Data],2,FALSE)","v":63918.498996971248},"it manager","Manager","Canada",{"$f":"VLOOKUP(tblSalaries[[#This Row],[Where do you work]],[1]!tblCountries[[Actual]:[Mapping]],2,FALSE)","v":"Canada"},"2 to 3 hours per day",15]
["ID1260","2012-05-29T07:57:04",9600000,"MONGOLIAN",{"$f":"tblSalaries[[#This Row],[clean Salary (in local currency)]]*VLOOKUP(tblSalaries[[#This Row],[Currency]],[1]!tblXrate[#Data],2,FALSE)","v":7261.724659606657},"Analyst","Analyst","Mongolia",{"$f":"VLOOKUP(tblSalaries[[#This Row],[Where do you work]],[1]!tblCountries[[Actual]:[Mapping]],2,FALSE)","v":"Mongolia"},"All the 8 hours baby, all the 8!",2]
["ID1261","2012-05-29T08:13:06",36000,"MYR",{"$f":"tblSalaries[[#This Row],[clean Salary (in local currency)]]*VLOOKUP(tblSalaries[[#This Row],[Currency]],[1]!tblXrate[#Data],2,FALSE)","v":11404.820437438224},"Process Engineering","Engineer","Malaysia",{"$f":"VLOOKUP(tblSalaries[[#This Row],[Where do you work]],[1]!tblCountries[[Actual]:[Mapping]],2,FALSE)","v":"malaysia"},"4 to 6 hours a day",2]
["ID1262","2012-05-29T08:25:51",120000,"USD",{"$f":"tblSalaries[[#This Row],[clean Salary (in local currency)]]*VLOOKUP(tblSalaries[[#This Row],[Currency]],[1]!tblXrate[#Data],2,FALSE)","v":120000},"Consultant - Process Improvement","Consultant","Singapore",{"$f":"VLOOKUP(tblSalaries[[#This Row],[Where do you work]],[1]!tblCountries[[Actual]:[Mapping]],2,FALSE)","v":"Singapore"},"1 or 2 hours a day",5]
["ID1263","2012-05-29T08:41:02",90000,"AUD",{"$f":"tblSalaries[[#This Row],[clean Salary (in local currency)]]*VLOOKUP(tblSalaries[[#This Row],[Currency]],[1]!tblXrate[#Data],2,FALSE)","v":91791.869076237213},"Business Analyst","Analyst","Australia",{"$f":"VLOOKUP(tblSalaries[[#This Row],[Where do you work]],[1]!tblCountries[[Actual]:[Mapping]],2,FALSE)","v":"Australia"},"4 to 6 hours a day",5]
["ID1264","2012-05-29T08:41:14",110000,"AUD",{"$f":"tblSalaries[[#This Row],[clean Salary (in local currency)]]*VLOOKUP(tblSalaries[[#This Row],[Currency]],[1]!tblXrate[#Data],2,FALSE)","v":112190.06220428993},"Analyst","Analyst","Australia",{"$f":"VLOOKUP(tblSalaries[[#This Row],[Where do you work]],[1]!tblCountries[[Actual]:[Mapping]],2,FALSE)","v":"Australia"},"2 to 3 hours per day",7]
["ID1265","2012-05-29T08:47:48",40000,"USD",{"$f":"tblSalaries[[#This Row],[clean Salary (in local currency)]]*VLOOKUP(tblSalaries[[#This Row],[Currency]],[1]!tblXrate[#Data],2,FALSE)","v":40000},"Senior Materials Handler","Manager","USA",{"$f":"VLOOKUP(tblSalaries[[#This Row],[Where do you work]],[1]!tblCountries[[Actual]:[Mapping]],2,FALSE)","v":"USA"},"2 to 3 hours per day",18]
["ID1266","2012-05-29T08:59:41",107000,"USD",{"$f":"tblSalaries[[#This Row],[clean Salary (in local currency)]]*VLOOKUP(tblSalaries[[#This Row],[Currency]],[1]!tblXrate[#Data],2,FALSE)","v":107000},"Certified Public Accountant","Accountant","USA",{"$f":"VLOOKUP(tblSalaries[[#This Row],[Where do you work]],[1]!tblCountries[[Actual]:[Mapping]],2,FALSE)","v":"USA"},"4 to 6 hours a day",12]
["ID1267","2012-05-29T09:15:09",82000,"USD",{"$f":"tblSalaries[[#This Row],[clean Salary (in local currency)]]*VLOOKUP(tblSalaries[[#This Row],[Currency]],[1]!tblXrate[#Data],2,FALSE)","v":82000},"Manager - Marketing Analytics","Manager","USA",{"$f":"VLOOKUP(tblSalaries[[#This Row],[Where do you work]],[1]!tblCountries[[Actual]:[Mapping]],2,FALSE)","v":"USA"},"4 to 6 hours a day",10]
["ID1268","2012-05-29T09:25:31",100000,"AUD",{"$f":"tblSalaries[[#This Row],[clean Salary (in local currency)]]*VLOOKUP(tblSalaries[[#This Row],[Currency]],[1]!tblXrate[#Data],2,FALSE)","v":101990.96564026357},"Contractor/Consultant","Consultant","Australia",{"$f":"VLOOKUP(tblSalaries[[#This Row],[Where do you work]],[1]!tblCountries[[Actual]:[Mapping]],2,FALSE)","v":"Australia"},"4 to 6 hours a day",15]
["ID1270","2012-05-29T09:37:40",43000,"USD",{"$f":"tblSalaries[[#This Row],[clean Salary (in local currency)]]*VLOOKUP(tblSalaries[[#This Row],[Currency]],[1]!tblXrate[#Data],2,FALSE)","v":43000},"Operations Support Officer","Manager","Australia",{"$f":"VLOOKUP(tblSalaries[[#This Row],[Where do you work]],[1]!tblCountries[[Actual]:[Mapping]],2,FALSE)","v":"Australia"},"2 to 3 hours per day",4]
["ID1271","2012-05-29T09:38:14",69000,"USD",{"$f":"tblSalaries[[#This Row],[clean Salary (in local currency)]]*VLOOKUP(tblSalaries[[#This Row],[Currency]],[1]!tblXrate[#Data],2,FALSE)","v":69000},"master scheduler","Controller","USA",{"$f":"VLOOKUP(tblSalaries[[#This Row],[Where do you work]],[1]!tblCountries[[Actual]:[Mapping]],2,FALSE)","v":"USA"},"4 to 6 hours a day",20]
["ID1273","2012-05-29T09:47:47",30000,"USD",{"$f":"tblSalaries[[#This Row],[clean Salary (in local currency)]]*VLOOKUP(tblSalaries[[#This Row],[Currency]],[1]!tblXrate[#Data],2,FALSE)","v":30000},"Practice Manager - Business Operations","Manager","India",{"$f":"VLOOKUP(tblSalaries[[#This Row],[Where do you work]],[1]!tblCountries[[Actual]:[Mapping]],2,FALSE)","v":"India"},"2 to 3 hours per day",3]
["ID1274","2012-05-29T09:52:02",48000,"AUD",{"$f":"tblSalaries[[#This Row],[clean Salary (in local currency)]]*VLOOKUP(tblSalaries[[#This Row],[Currency]],[1]!tblXrate[#Data],2,FALSE)","v":48955.663507326513},"Research Assistant","Analyst","Australia",{"$f":"VLOOKUP(tblSalaries[[#This Row],[Where do you work]],[1]!tblCountries[[Actual]:[Mapping]],2,FALSE)","v":"Australia"},"1 or 2 hours a day",2]
["ID1275","2012-05-29T10:08:21",70000,"USD",{"$f":"tblSalaries[[#This Row],[clean Salary (in local currency)]]*VLOOKUP(tblSalaries[[#This Row],[Currency]],[1]!tblXrate[#Data],2,FALSE)","v":70000},"Project Manager","Manager","USA",{"$f":"VLOOKUP(tblSalaries[[#This Row],[Where do you work]],[1]!tblCountries[[Actual]:[Mapping]],2,FALSE)","v":"USA"},"4 to 6 hours a day",8]
["ID1276","2012-05-29T10:09:37",45000,"USD",{"$f":"tblSalaries[[#This Row],[clean Salary (in local currency)]]*VLOOKUP(tblSalaries[[#This Row],[Currency]],[1]!tblXrate[#Data],2,FALSE)","v":45000},"Staff Assistant","Analyst","USA",{"$f":"VLOOKUP(tblSalaries[[#This Row],[Where do you work]],[1]!tblCountries[[Actual]:[Mapping]],2,FALSE)","v":"USA"},"4 to 6 hours a day",7]
["ID1277","2012-05-29T10:11:28",35000,"USD",{"$f":"tblSalaries[[#This Row],[clean Salary (in local currency)]]*VLOOKUP(tblSalaries[[#This Row],[Currency]],[1]!tblXrate[#Data],2,FALSE)","v":35000},"AVP Securitisation","CXO or Top Mgmt.","Malaysia",{"$f":"VLOOKUP(tblSalaries[[#This Row],[Where do you work]],[1]!tblCountries[[Actual]:[Mapping]],2,FALSE)","v":"malaysia"},"All the 8 hours baby, all the 8!",12]
["ID1278","2012-05-29T10:43:49",500000,"INR",{"$f":"tblSalaries[[#This Row],[clean Salary (in local currency)]]*VLOOKUP(tblSalaries[[#This Row],[Currency]],[1]!tblXrate[#Data],2,FALSE)","v":8903.9583437212841},"Asstt. Manager","Manager","India",{"$f":"VLOOKUP(tblSalaries[[#This Row],[Where do you work]],[1]!tblCountries[[Actual]:[Mapping]],2,FALSE)","v":"India"},"2 to 3 hours per day",29]
["ID1279","2012-05-29T10:45:46",89500,"MYR",{"$f":"tblSalaries[[#This Row],[clean Salary (in local currency)]]*VLOOKUP(tblSalaries[[#This Row],[Currency]],[1]!tblXrate[#Data],2,FALSE)","v":28353.650809742252},"Manager","Manager","Malaysia",{"$f":"VLOOKUP(tblSalaries[[#This Row],[Where do you work]],[1]!tblCountries[[Actual]:[Mapping]],2,FALSE)","v":"malaysia"},"2 to 3 hours per day",20]
["ID1280","2012-05-29T10:48:33",11800,"USD",{"$f":"tblSalaries[[#This Row],[clean Salary (in local currency)]]*VLOOKUP(tblSalaries[[#This Row],[Currency]],[1]!tblXrate[#Data],2,FALSE)","v":11800},"Assistant Data Analyst","Analyst","India",{"$f":"VLOOKUP(tblSalaries[[#This Row],[Where do you work]],[1]!tblCountries[[Actual]:[Mapping]],2,FALSE)","v":"India"},"4 to 6 hours a day",10]
["ID1281","2012-05-29T10:51:02",360000,"INR",{"$f":"tblSalaries[[#This Row],[clean Salary (in local currency)]]*VLOOKUP(tblSalaries[[#This Row],[Currency]],[1]!tblXrate[#Data],2,FALSE)","v":6410.8500074793246},"Team Leader WFM","Manager","India",{"$f":"VLOOKUP(tblSalaries[[#This Row],[Where do you work]],[1]!tblCountries[[Actual]:[Mapping]],2,FALSE)","v":"India"},"All the 8 hours baby, all the 8!",6]
["ID1282","2012-05-29T10:51:31",50000,"USD",{"$f":"tblSalaries[[#This Row],[clean Salary (in local currency)]]*VLOOKUP(tblSalaries[[#This Row],[Currency]],[1]!tblXrate[#Data],2,FALSE)","v":50000},"Data Analyst","Analyst","USA",{"$f":"VLOOKUP(tblSalaries[[#This Row],[Where do you work]],[1]!tblCountries[[Actual]:[Mapping]],2,FALSE)","v":"USA"},"4 to 6 hours a day",3]
["ID1283","2012-05-29T11:00:32",85000,"USD",{"$f":"tblSalaries[[#This Row],[clean Salary (in local currency)]]*VLOOKUP(tblSalaries[[#This Row],[Currency]],[1]!tblXrate[#Data],2,FALSE)","v":85000},"manager operation","Manager","srilanka",{"$f":"VLOOKUP(tblSalaries[[#This Row],[Where do you work]],[1]!tblCountries[[Actual]:[Mapping]],2,FALSE)","v":"Sri Lanka"},"All the 8 hours baby, all the 8!",10]
["ID1284","2012-05-29T11:35:53",1000000,"INR",{"$f":"tblSalaries[[#This Row],[clean Salary (in local currency)]]*VLOOKUP(tblSalaries[[#This Row],[Currency]],[1]!tblXrate[#Data],2,FALSE)","v":17807.916687442568},"Manager","Manager","India",{"$f":"VLOOKUP(tblSalaries[[#This Row],[Where do you work]],[1]!tblCountries[[Actual]:[Mapping]],2,FALSE)","v":"India"},"2 to 3 hours per day",10]
["ID1285","2012-05-29T11:46:47",900000,"INR",{"$f":"tblSalaries[[#This Row],[clean Salary (in local currency)]]*VLOOKUP(tblSalaries[[#This Row],[Currency]],[1]!tblXrate[#Data],2,FALSE)","v":16027.125018698311},"RENTAL INVENTORY CONTROLLER","Controller","India",{"$f":"VLOOKUP(tblSalaries[[#This Row],[Where do you work]],[1]!tblCountries[[Actual]:[Mapping]],2,FALSE)","v":"India"},"All the 8 hours baby, all the 8!",8]
["ID1286","2012-05-29T11:51:35",192000,"USD",{"$f":"tblSalaries[[#This Row],[clean Salary (in local currency)]]*VLOOKUP(tblSalaries[[#This Row],[Currency]],[1]!tblXrate[#Data],2,FALSE)","v":192000},"Publisher","CXO or Top Mgmt.","USA",{"$f":"VLOOKUP(tblSalaries[[#This Row],[Where do you work]],[1]!tblCountries[[Actual]:[Mapping]],2,FALSE)","v":"USA"},"All the 8 hours baby, all the 8!",27]
["ID1287","2012-05-29T12:14:02",54000,"USD",{"$f":"tblSalaries[[#This Row],[clean Salary (in local currency)]]*VLOOKUP(tblSalaries[[#This Row],[Currency]],[1]!tblXrate[#Data],2,FALSE)","v":54000},"Resource Planning Analyst","Analyst","USA",{"$f":"VLOOKUP(tblSalaries[[#This Row],[Where do you work]],[1]!tblCountries[[Actual]:[Mapping]],2,FALSE)","v":"USA"},"All the 8 hours baby, all the 8!",6]
["ID1288","2012-05-29T12:17:07",18000,"USD",{"$f":"tblSalaries[[#This Row],[clean Salary (in local currency)]]*VLOOKUP(tblSalaries[[#This Row],[Currency]],[1]!tblXrate[#Data],2,FALSE)","v":18000},"Manager","Manager","India",{"$f":"VLOOKUP(tblSalaries[[#This Row],[Where do you work]],[1]!tblCountries[[Actual]:[Mapping]],2,FALSE)","v":"India"},"4 to 6 hours a day",12]
["ID1289","2012-05-29T12:19:39",300000,"INR",{"$f":"tblSalaries[[#This Row],[clean Salary (in local currency)]]*VLOOKUP(tblSalaries[[#This Row],[Currency]],[1]!tblXrate[#Data],2,FALSE)","v":5342.3750062327708},"MIS OFFICER","Reporting","India",{"$f":"VLOOKUP(tblSalaries[[#This Row],[Where do you work]],[1]!tblCountries[[Actual]:[Mapping]],2,FALSE)","v":"India"},"2 to 3 hours per day",5]
["ID1290","2012-05-29T12:20:32",400000,"INR",{"$f":"tblSalaries[[#This Row],[clean Salary (in local currency)]]*VLOOKUP(tblSalaries[[#This Row],[Currency]],[1]!tblXrate[#Data],2,FALSE)","v":7123.1666749770275},"PMO","Manager","India",{"$f":"VLOOKUP(tblSalaries[[#This Row],[Where do you work]],[1]!tblCountries[[Actual]:[Mapping]],2,FALSE)","v":"India"},"All the 8 hours baby, all the 8!",3]
["ID1291","2012-05-29T12:28:41",15000,"USD",{"$f":"tblSalaries[[#This Row],[clean Salary (in local currency)]]*VLOOKUP(tblSalaries[[#This Row],[Currency]],[1]!tblXrate[#Data],2,FALSE)","v":15000},"Monitoring & Evaluation officer","Manager","Myanmar",{"$f":"VLOOKUP(tblSalaries[[#This Row],[Where do you work]],[1]!tblCountries[[Actual]:[Mapping]],2,FALSE)","v":"Myanmar"},"4 to 6 hours a day",10]
["ID1292","2012-05-29T12:29:12",14000,"USD",{"$f":"tblSalaries[[#This Row],[clean Salary (in local currency)]]*VLOOKUP(tblSalaries[[#This Row],[Currency]],[1]!tblXrate[#Data],2,FALSE)","v":14000},"Pricing Analyst","Analyst","India",{"$f":"VLOOKUP(tblSalaries[[#This Row],[Where do you work]],[1]!tblCountries[[Actual]:[Mapping]],2,FALSE)","v":"India"},"4 to 6 hours a day",12]
["ID1294","2012-05-29T13:06:30",8000,"USD",{"$f":"tblSalaries[[#This Row],[clean Salary (in local currency)]]*VLOOKUP(tblSalaries[[#This Row],[Currency]],[1]!tblXrate[#Data],2,FALSE)","v":8000},"Data Analyst","Analyst","India",{"$f":"VLOOKUP(tblSalaries[[#This Row],[Where do you work]],[1]!tblCountries[[Actual]:[Mapping]],2,FALSE)","v":"India"},"All the 8 hours baby, all the 8!",4]
["ID1295","2012-05-29T13:13:56",12500,"USD",{"$f":"tblSalaries[[#This Row],[clean Salary (in local currency)]]*VLOOKUP(tblSalaries[[#This Row],[Currency]],[1]!tblXrate[#Data],2,FALSE)","v":12500},"Specialist","Specialist","Philippines",{"$f":"VLOOKUP(tblSalaries[[#This Row],[Where do you work]],[1]!tblCountries[[Actual]:[Mapping]],2,FALSE)","v":"Philippines"},"2 to 3 hours per day",7]
["ID1296","2012-05-29T13:15:17",140000,"USD",{"$f":"tblSalaries[[#This Row],[clean Salary (in local currency)]]*VLOOKUP(tblSalaries[[#This Row],[Currency]],[1]!tblXrate[#Data],2,FALSE)","v":140000},"Senior Accountant","Accountant","USA",{"$f":"VLOOKUP(tblSalaries[[#This Row],[Where do you work]],[1]!tblCountries[[Actual]:[Mapping]],2,FALSE)","v":"USA"},"4 to 6 hours a day",12]
["ID1297","2012-05-29T13:16:45",12000,"USD",{"$f":"tblSalaries[[#This Row],[clean Salary (in local currency)]]*VLOOKUP(tblSalaries[[#This Row],[Currency]],[1]!tblXrate[#Data],2,FALSE)","v":12000},"excel prof","Consultant","pakistan",{"$f":"VLOOKUP(tblSalaries[[#This Row],[Where do you work]],[1]!tblCountries[[Actual]:[Mapping]],2,FALSE)","v":"Pakistan"},"4 to 6 hours a day",1]
["ID1298","2012-05-29T13:16:59",30000,"EUR",{"$f":"tblSalaries[[#This Row],[clean Salary (in local currency)]]*VLOOKUP(tblSalaries[[#This Row],[Currency]],[1]!tblXrate[#Data],2,FALSE)","v":38111.983169748237},"Employee","Analyst","Belgium",{"$f":"VLOOKUP(tblSalaries[[#This Row],[Where do you work]],[1]!tblCountries[[Actual]:[Mapping]],2,FALSE)","v":"Belgium"},"2 to 3 hours per day",15]
["ID1299","2012-05-29T13:23:45",600000,"INR",{"$f":"tblSalaries[[#This Row],[clean Salary (in local currency)]]*VLOOKUP(tblSalaries[[#This Row],[Currency]],[1]!tblXrate[#Data],2,FALSE)","v":10684.750012465542},"Senior Business Executive","Manager","India",{"$f":"VLOOKUP(tblSalaries[[#This Row],[Where do you work]],[1]!tblCountries[[Actual]:[Mapping]],2,FALSE)","v":"India"},"2 to 3 hours per day",2]
["ID1301","2012-05-29T13:40:09",350000,"INR",{"$f":"tblSalaries[[#This Row],[clean Salary (in local currency)]]*VLOOKUP(tblSalaries[[#This Row],[Currency]],[1]!tblXrate[#Data],2,FALSE)","v":6232.7708406048987},"I dont know","Analyst","India",{"$f":"VLOOKUP(tblSalaries[[#This Row],[Where do you work]],[1]!tblCountries[[Actual]:[Mapping]],2,FALSE)","v":"India"},"4 to 6 hours a day",1.5]
["ID1302","2012-05-29T13:52:13",45000,"USD",{"$f":"tblSalaries[[#This Row],[clean Salary (in local currency)]]*VLOOKUP(tblSalaries[[#This Row],[Currency]],[1]!tblXrate[#Data],2,FALSE)","v":45000},"Financial Analysis","Analyst","Pakistan",{"$f":"VLOOKUP(tblSalaries[[#This Row],[Where do you work]],[1]!tblCountries[[Actual]:[Mapping]],2,FALSE)","v":"Pakistan"},"All the 8 hours baby, all the 8!",8]
["ID1303","2012-05-29T13:53:59",80000,"USD",{"$f":"tblSalaries[[#This Row],[clean Salary (in local currency)]]*VLOOKUP(tblSalaries[[#This Row],[Currency]],[1]!tblXrate[#Data],2,FALSE)","v":80000},"Manager","Manager","USA",{"$f":"VLOOKUP(tblSalaries[[#This Row],[Where do you work]],[1]!tblCountries[[Actual]:[Mapping]],2,FALSE)","v":"USA"},"1 or 2 hours a day",6]
["ID1304","2012-05-29T13:54:38",1500000,"INR",{"$f":"tblSalaries[[#This Row],[clean Salary (in local currency)]]*VLOOKUP(tblSalaries[[#This Row],[Currency]],[1]!tblXrate[#Data],2,FALSE)","v":26711.875031163851},"Analyst","Analyst","India",{"$f":"VLOOKUP(tblSalaries[[#This Row],[Where do you work]],[1]!tblCountries[[Actual]:[Mapping]],2,FALSE)","v":"India"},"4 to 6 hours a day",7]
["ID1305","2012-05-29T13:58:30",100000,"USD",{"$f":"tblSalaries[[#This Row],[clean Salary (in local currency)]]*VLOOKUP(tblSalaries[[#This Row],[Currency]],[1]!tblXrate[#Data],2,FALSE)","v":100000},"Business Analyst","Analyst","Uganda",{"$f":"VLOOKUP(tblSalaries[[#This Row],[Where do you work]],[1]!tblCountries[[Actual]:[Mapping]],2,FALSE)","v":"Uganda"},"4 to 6 hours a day",17]
["ID1306","2012-05-29T13:59:14",68000,"AUD",{"$f":"tblSalaries[[#This Row],[clean Salary (in local currency)]]*VLOOKUP(tblSalaries[[#This Row],[Currency]],[1]!tblXrate[#Data],2,FALSE)","v":69353.856635379227},"Project Support Officer","Manager","Australia",{"$f":"VLOOKUP(tblSalaries[[#This Row],[Where do you work]],[1]!tblCountries[[Actual]:[Mapping]],2,FALSE)","v":"Australia"},"4 to 6 hours a day",10]
["ID1307","2012-05-29T14:10:28",49000,"AUD",{"$f":"tblSalaries[[#This Row],[clean Salary (in local currency)]]*VLOOKUP(tblSalaries[[#This Row],[Currency]],[1]!tblXrate[#Data],2,FALSE)","v":49975.573163729154},"Document Control","Controller","Australia",{"$f":"VLOOKUP(tblSalaries[[#This Row],[Where do you work]],[1]!tblCountries[[Actual]:[Mapping]],2,FALSE)","v":"Australia"},"4 to 6 hours a day",30]
["ID1308","2012-05-29T14:16:06",575000,"INR",{"$f":"tblSalaries[[#This Row],[clean Salary (in local currency)]]*VLOOKUP(tblSalaries[[#This Row],[Currency]],[1]!tblXrate[#Data],2,FALSE)","v":10239.552095279476},"Asst Manager HR","Manager","India",{"$f":"VLOOKUP(tblSalaries[[#This Row],[Where do you work]],[1]!tblCountries[[Actual]:[Mapping]],2,FALSE)","v":"India"},"2 to 3 hours per day",5]
["ID1309","2012-05-29T14:34:42",500000,"INR",{"$f":"tblSalaries[[#This Row],[clean Salary (in local currency)]]*VLOOKUP(tblSalaries[[#This Row],[Currency]],[1]!tblXrate[#Data],2,FALSE)","v":8903.9583437212841},"Senior software engineer","Engineer","India",{"$f":"VLOOKUP(tblSalaries[[#This Row],[Where do you work]],[1]!tblCountries[[Actual]:[Mapping]],2,FALSE)","v":"India"},"4 to 6 hours a day",2]
["ID1310","2012-05-29T14:55:21",36000,"USD",{"$f":"tblSalaries[[#This Row],[clean Salary (in local currency)]]*VLOOKUP(tblSalaries[[#This Row],[Currency]],[1]!tblXrate[#Data],2,FALSE)","v":36000},"Administrative Assistant","Analyst","Kuwait",{"$f":"VLOOKUP(tblSalaries[[#This Row],[Where do you work]],[1]!tblCountries[[Actual]:[Mapping]],2,FALSE)","v":"Kuwait"},"2 to 3 hours per day",10]
["ID1311","2012-05-29T14:55:29",210000,"INR",{"$f":"tblSalaries[[#This Row],[clean Salary (in local currency)]]*VLOOKUP(tblSalaries[[#This Row],[Currency]],[1]!tblXrate[#Data],2,FALSE)","v":3739.6625043629392},"MIS cum Purchase Executive","Reporting","India",{"$f":"VLOOKUP(tblSalaries[[#This Row],[Where do you work]],[1]!tblCountries[[Actual]:[Mapping]],2,FALSE)","v":"India"},"1 or 2 hours a day",4.5]
["ID1312","2012-05-29T14:59:11",48500,"EUR",{"$f":"tblSalaries[[#This Row],[clean Salary (in local currency)]]*VLOOKUP(tblSalaries[[#This Row],[Currency]],[1]!tblXrate[#Data],2,FALSE)","v":61614.372791092981},"Information analyst","Analyst","Netherlands",{"$f":"VLOOKUP(tblSalaries[[#This Row],[Where do you work]],[1]!tblCountries[[Actual]:[Mapping]],2,FALSE)","v":"Netherlands"},"4 to 6 hours a day",8]
["ID1313","2012-05-29T15:02:56",200000,"INR",{"$f":"tblSalaries[[#This Row],[clean Salary (in local currency)]]*VLOOKUP(tblSalaries[[#This Row],[Currency]],[1]!tblXrate[#Data],2,FALSE)","v":3561.5833374885137},"MIS","Reporting","India",{"$f":"VLOOKUP(tblSalaries[[#This Row],[Where do you work]],[1]!tblCountries[[Actual]:[Mapping]],2,FALSE)","v":"India"},"2 to 3 hours per day",3]
["ID1314","2012-05-29T15:04:11",360000,"INR",{"$f":"tblSalaries[[#This Row],[clean Salary (in local currency)]]*VLOOKUP(tblSalaries[[#This Row],[Currency]],[1]!tblXrate[#Data],2,FALSE)","v":6410.8500074793246},"Sr. Executive -HR","Analyst","India",{"$f":"VLOOKUP(tblSalaries[[#This Row],[Where do you work]],[1]!tblCountries[[Actual]:[Mapping]],2,FALSE)","v":"India"},"All the 8 hours baby, all the 8!",6]
["ID1315","2012-05-29T15:08:12",28500,"EUR",{"$f":"tblSalaries[[#This Row],[clean Salary (in local currency)]]*VLOOKUP(tblSalaries[[#This Row],[Currency]],[1]!tblXrate[#Data],2,FALSE)","v":36206.384011260823},"Salary Professsional","Analyst","Netherlands",{"$f":"VLOOKUP(tblSalaries[[#This Row],[Where do you work]],[1]!tblCountries[[Actual]:[Mapping]],2,FALSE)","v":"Netherlands"},"1 or 2 hours a day",5]
["ID1316","2012-05-29T15:10:24",13500,"USD",{"$f":"tblSalaries[[#This Row],[clean Salary (in local currency)]]*VLOOKUP(tblSalaries[[#This Row],[Currency]],[1]!tblXrate[#Data],2,FALSE)","v":13500},"Asst. Manager","Manager","India",{"$f":"VLOOKUP(tblSalaries[[#This Row],[Where do you work]],[1]!tblCountries[[Actual]:[Mapping]],2,FALSE)","v":"India"},"2 to 3 hours per day",20]
["ID1317","2012-05-29T15:18:45",3000,"USD",{"$f":"tblSalaries[[#This Row],[clean Salary (in local currency)]]*VLOOKUP(tblSalaries[[#This Row],[Currency]],[1]!tblXrate[#Data],2,FALSE)","v":3000},"FANANCE","Accountant","SRI LANKA",{"$f":"VLOOKUP(tblSalaries[[#This Row],[Where do you work]],[1]!tblCountries[[Actual]:[Mapping]],2,FALSE)","v":"Sri Lanka"},"4 to 6 hours a day",2]
["ID1318","2012-05-29T15:24:45",1200000,"INR",{"$f":"tblSalaries[[#This Row],[clean Salary (in local currency)]]*VLOOKUP(tblSalaries[[#This Row],[Currency]],[1]!tblXrate[#Data],2,FALSE)","v":21369.500024931083},"Manager - Corporate strategy and Planning","Manager","India",{"$f":"VLOOKUP(tblSalaries[[#This Row],[Where do you work]],[1]!tblCountries[[Actual]:[Mapping]],2,FALSE)","v":"India"},"4 to 6 hours a day",9]
["ID1319","2012-05-29T15:36:25",600000,"INR",{"$f":"tblSalaries[[#This Row],[clean Salary (in local currency)]]*VLOOKUP(tblSalaries[[#This Row],[Currency]],[1]!tblXrate[#Data],2,FALSE)","v":10684.750012465542},"General Manager","Manager","India",{"$f":"VLOOKUP(tblSalaries[[#This Row],[Where do you work]],[1]!tblCountries[[Actual]:[Mapping]],2,FALSE)","v":"India"},"2 to 3 hours per day",28]
["ID1320","2012-05-29T15:36:42",139000,"EUR",{"$f":"tblSalaries[[#This Row],[clean Salary (in local currency)]]*VLOOKUP(tblSalaries[[#This Row],[Currency]],[1]!tblXrate[#Data],2,FALSE)","v":176585.52201983347},"NAF Support Manager","Manager","Germany",{"$f":"VLOOKUP(tblSalaries[[#This Row],[Where do you work]],[1]!tblCountries[[Actual]:[Mapping]],2,FALSE)","v":"Germany"},"1 or 2 hours a day",25]
["ID1322","2012-05-29T15:38:40",43000,"EUR",{"$f":"tblSalaries[[#This Row],[clean Salary (in local currency)]]*VLOOKUP(tblSalaries[[#This Row],[Currency]],[1]!tblXrate[#Data],2,FALSE)","v":54627.175876639136},"Project manager of IT infrastructure","Manager","France",{"$f":"VLOOKUP(tblSalaries[[#This Row],[Where do you work]],[1]!tblCountries[[Actual]:[Mapping]],2,FALSE)","v":"France"},"All the 8 hours baby, all the 8!",7]
["ID1323","2012-05-29T15:46:17",24000,"EUR",{"$f":"tblSalaries[[#This Row],[clean Salary (in local currency)]]*VLOOKUP(tblSalaries[[#This Row],[Currency]],[1]!tblXrate[#Data],2,FALSE)","v":30489.586535798586},"Controller","Controller","Italy",{"$f":"VLOOKUP(tblSalaries[[#This Row],[Where do you work]],[1]!tblCountries[[Actual]:[Mapping]],2,FALSE)","v":"italy"},"4 to 6 hours a day",10]
["ID1324","2012-05-29T15:49:41",314000,"INR",{"$f":"tblSalaries[[#This Row],[clean Salary (in local currency)]]*VLOOKUP(tblSalaries[[#This Row],[Currency]],[1]!tblXrate[#Data],2,FALSE)","v":5591.6858398569666},"relationship manager","Manager","India",{"$f":"VLOOKUP(tblSalaries[[#This Row],[Where do you work]],[1]!tblCountries[[Actual]:[Mapping]],2,FALSE)","v":"India"},"1 or 2 hours a day",0.1]
["ID1325","2012-05-29T15:51:21",82000,"USD",{"$f":"tblSalaries[[#This Row],[clean Salary (in local currency)]]*VLOOKUP(tblSalaries[[#This Row],[Currency]],[1]!tblXrate[#Data],2,FALSE)","v":82000},"Consultant","Consultant","South Africa",{"$f":"VLOOKUP(tblSalaries[[#This Row],[Where do you work]],[1]!tblCountries[[Actual]:[Mapping]],2,FALSE)","v":"South Africa"},"4 to 6 hours a day",10]
["ID1326","2012-05-29T15:53:14",10000,"USD",{"$f":"tblSalaries[[#This Row],[clean Salary (in local currency)]]*VLOOKUP(tblSalaries[[#This Row],[Currency]],[1]!tblXrate[#Data],2,FALSE)","v":10000},"MIS","Reporting","India",{"$f":"VLOOKUP(tblSalaries[[#This Row],[Where do you work]],[1]!tblCountries[[Actual]:[Mapping]],2,FALSE)","v":"India"},"1 or 2 hours a day",0.5]
["ID1327","2012-05-29T16:07:59",9000,"USD",{"$f":"tblSalaries[[#This Row],[clean Salary (in local currency)]]*VLOOKUP(tblSalaries[[#This Row],[Currency]],[1]!tblXrate[#Data],2,FALSE)","v":9000},"Data Analyst","Analyst","India",{"$f":"VLOOKUP(tblSalaries[[#This Row],[Where do you work]],[1]!tblCountries[[Actual]:[Mapping]],2,FALSE)","v":"India"},"All the 8 hours baby, all the 8!",0.6]
["ID1328","2012-05-29T16:08:40",9000,"USD",{"$f":"tblSalaries[[#This Row],[clean Salary (in local currency)]]*VLOOKUP(tblSalaries[[#This Row],[Currency]],[1]!tblXrate[#Data],2,FALSE)","v":9000},"Data Analyst","Analyst","India",{"$f":"VLOOKUP(tblSalaries[[#This Row],[Where do you work]],[1]!tblCountries[[Actual]:[Mapping]],2,FALSE)","v":"India"},"4 to 6 hours a day",1]
["ID1329","2012-05-29T16:18:59",660000,"INR",{"$f":"tblSalaries[[#This Row],[clean Salary (in local currency)]]*VLOOKUP(tblSalaries[[#This Row],[Currency]],[1]!tblXrate[#Data],2,FALSE)","v":11753.225013712095},"AM business Intelligence","Manager","India",{"$f":"VLOOKUP(tblSalaries[[#This Row],[Where do you work]],[1]!tblCountries[[Actual]:[Mapping]],2,FALSE)","v":"India"},"All the 8 hours baby, all the 8!",7]
["ID1330","2012-05-29T16:26:15",204000,"INR",{"$f":"tblSalaries[[#This Row],[clean Salary (in local currency)]]*VLOOKUP(tblSalaries[[#This Row],[Currency]],[1]!tblXrate[#Data],2,FALSE)","v":3632.815004238284},"MIS Associate","Reporting","India",{"$f":"VLOOKUP(tblSalaries[[#This Row],[Where do you work]],[1]!tblCountries[[Actual]:[Mapping]],2,FALSE)","v":"India"},"All the 8 hours baby, all the 8!",2]
["ID1331","2012-05-29T16:31:06",75000,"EUR",{"$f":"tblSalaries[[#This Row],[clean Salary (in local currency)]]*VLOOKUP(tblSalaries[[#This Row],[Currency]],[1]!tblXrate[#Data],2,FALSE)","v":95279.957924370581},"Financial Analyst","Analyst","Netherlands",{"$f":"VLOOKUP(tblSalaries[[#This Row],[Where do you work]],[1]!tblCountries[[Actual]:[Mapping]],2,FALSE)","v":"Netherlands"},"All the 8 hours baby, all the 8!",16]
["ID1332","2012-05-29T16:39:11",45000,"GBP",{"$f":"tblSalaries[[#This Row],[clean Salary (in local currency)]]*VLOOKUP(tblSalaries[[#This Row],[Currency]],[1]!tblXrate[#Data],2,FALSE)","v":70928.022243027779},"Senior Consultant","Consultant","UK",{"$f":"VLOOKUP(tblSalaries[[#This Row],[Where do you work]],[1]!tblCountries[[Actual]:[Mapping]],2,FALSE)","v":"UK"},"2 to 3 hours per day",4]
["ID1333","2012-05-29T16:41:19",41000,"EUR",{"$f":"tblSalaries[[#This Row],[clean Salary (in local currency)]]*VLOOKUP(tblSalaries[[#This Row],[Currency]],[1]!tblXrate[#Data],2,FALSE)","v":52086.37699865592},"engineer","Engineer","Spain",{"$f":"VLOOKUP(tblSalaries[[#This Row],[Where do you work]],[1]!tblCountries[[Actual]:[Mapping]],2,FALSE)","v":"Spain"},"4 to 6 hours a day",12]
["ID1334","2012-05-29T16:49:44",275000,"INR",{"$f":"tblSalaries[[#This Row],[clean Salary (in local currency)]]*VLOOKUP(tblSalaries[[#This Row],[Currency]],[1]!tblXrate[#Data],2,FALSE)","v":4897.177089046706},"TL WFM","Manager","India",{"$f":"VLOOKUP(tblSalaries[[#This Row],[Where do you work]],[1]!tblCountries[[Actual]:[Mapping]],2,FALSE)","v":"India"},"All the 8 hours baby, all the 8!",4]
["ID1335","2012-05-29T16:55:43",80000,"NZD",{"$f":"tblSalaries[[#This Row],[clean Salary (in local currency)]]*VLOOKUP(tblSalaries[[#This Row],[Currency]],[1]!tblXrate[#Data],2,FALSE)","v":63807.047488395103},"accountant","Accountant","new zealand",{"$f":"VLOOKUP(tblSalaries[[#This Row],[Where do you work]],[1]!tblCountries[[Actual]:[Mapping]],2,FALSE)","v":"New Zealand"},"All the 8 hours baby, all the 8!",15]
["ID1336","2012-05-29T17:05:31",24000,"USD",{"$f":"tblSalaries[[#This Row],[clean Salary (in local currency)]]*VLOOKUP(tblSalaries[[#This Row],[Currency]],[1]!tblXrate[#Data],2,FALSE)","v":24000},"Dir. Revenue Mgt","Manager","Kingdom of Saudi Arabia",{"$f":"VLOOKUP(tblSalaries[[#This Row],[Where do you work]],[1]!tblCountries[[Actual]:[Mapping]],2,FALSE)","v":"Saudi Arabia"},"4 to 6 hours a day",5]
["ID1337","2012-05-29T17:09:02",60000,"USD",{"$f":"tblSalaries[[#This Row],[clean Salary (in local currency)]]*VLOOKUP(tblSalaries[[#This Row],[Currency]],[1]!tblXrate[#Data],2,FALSE)","v":60000},"Controlling Manager","Manager","CEE",{"$f":"VLOOKUP(tblSalaries[[#This Row],[Where do you work]],[1]!tblCountries[[Actual]:[Mapping]],2,FALSE)","v":"CEE"},"All the 8 hours baby, all the 8!",20]
["ID1338","2012-05-29T17:09:52",300000,"INR",{"$f":"tblSalaries[[#This Row],[clean Salary (in local currency)]]*VLOOKUP(tblSalaries[[#This Row],[Currency]],[1]!tblXrate[#Data],2,FALSE)","v":5342.3750062327708},"Financial Modelling Analyst","Analyst","India",{"$f":"VLOOKUP(tblSalaries[[#This Row],[Where do you work]],[1]!tblCountries[[Actual]:[Mapping]],2,FALSE)","v":"India"},"All the 8 hours baby, all the 8!",3]
["ID1339","2012-05-29T17:16:20",500000,"INR",{"$f":"tblSalaries[[#This Row],[clean Salary (in local currency)]]*VLOOKUP(tblSalaries[[#This Row],[Currency]],[1]!tblXrate[#Data],2,FALSE)","v":8903.9583437212841},"support manager","Manager","India",{"$f":"VLOOKUP(tblSalaries[[#This Row],[Where do you work]],[1]!tblCountries[[Actual]:[Mapping]],2,FALSE)","v":"India"},"2 to 3 hours per day",5]
["ID1340","2012-05-29T17:17:13",26000,"GBP",{"$f":"tblSalaries[[#This Row],[clean Salary (in local currency)]]*VLOOKUP(tblSalaries[[#This Row],[Currency]],[1]!tblXrate[#Data],2,FALSE)","v":40980.635073749385},"Web Analyst","Analyst","UK",{"$f":"VLOOKUP(tblSalaries[[#This Row],[Where do you work]],[1]!tblCountries[[Actual]:[Mapping]],2,FALSE)","v":"UK"},"4 to 6 hours a day",2]
["ID1341","2012-05-29T17:17:46",600000,"INR",{"$f":"tblSalaries[[#This Row],[clean Salary (in local currency)]]*VLOOKUP(tblSalaries[[#This Row],[Currency]],[1]!tblXrate[#Data],2,FALSE)","v":10684.750012465542},"Assistant Manager","Manager","India",{"$f":"VLOOKUP(tblSalaries[[#This Row],[Where do you work]],[1]!tblCountries[[Actual]:[Mapping]],2,FALSE)","v":"India"},"1 or 2 hours a day",7]
["ID1342","2012-05-29T17:30:43",1200000,"INR",{"$f":"tblSalaries[[#This Row],[clean Salary (in local currency)]]*VLOOKUP(tblSalaries[[#This Row],[Currency]],[1]!tblXrate[#Data],2,FALSE)","v":21369.500024931083},"Consultant","Consultant","India",{"$f":"VLOOKUP(tblSalaries[[#This Row],[Where do you work]],[1]!tblCountries[[Actual]:[Mapping]],2,FALSE)","v":"India"},"2 to 3 hours per day",21]
["ID1343","2012-05-29T17:36:13",18000,"USD",{"$f":"tblSalaries[[#This Row],[clean Salary (in local currency)]]*VLOOKUP(tblSalaries[[#This Row],[Currency]],[1]!tblXrate[#Data],2,FALSE)","v":18000},"liquidity manager","Manager","Ghana",{"$f":"VLOOKUP(tblSalaries[[#This Row],[Where do you work]],[1]!tblCountries[[Actual]:[Mapping]],2,FALSE)","v":"Ghana"},"4 to 6 hours a day",12]
["ID1344","2012-05-29T17:39:55",41000,"USD",{"$f":"tblSalaries[[#This Row],[clean Salary (in local currency)]]*VLOOKUP(tblSalaries[[#This Row],[Currency]],[1]!tblXrate[#Data],2,FALSE)","v":41000},"PO/PMO/Planner/PM","Manager","Israel",{"$f":"VLOOKUP(tblSalaries[[#This Row],[Where do you work]],[1]!tblCountries[[Actual]:[Mapping]],2,FALSE)","v":"Israel"},"2 to 3 hours per day",4]
["ID1345","2012-05-29T17:45:59",1600000,"INR",{"$f":"tblSalaries[[#This Row],[clean Salary (in local currency)]]*VLOOKUP(tblSalaries[[#This Row],[Currency]],[1]!tblXrate[#Data],2,FALSE)","v":28492.66669990811},"Senior Associate ","Analyst","India",{"$f":"VLOOKUP(tblSalaries[[#This Row],[Where do you work]],[1]!tblCountries[[Actual]:[Mapping]],2,FALSE)","v":"India"},"2 to 3 hours per day",4]
["ID1346","2012-05-29T17:48:04",49500,"USD",{"$f":"tblSalaries[[#This Row],[clean Salary (in local currency)]]*VLOOKUP(tblSalaries[[#This Row],[Currency]],[1]!tblXrate[#Data],2,FALSE)","v":49500},"Financial Analyst II","Analyst","USA",{"$f":"VLOOKUP(tblSalaries[[#This Row],[Where do you work]],[1]!tblCountries[[Actual]:[Mapping]],2,FALSE)","v":"USA"},"4 to 6 hours a day",4.5]
["ID1347","2012-05-29T18:00:19",6600,"USD",{"$f":"tblSalaries[[#This Row],[clean Salary (in local currency)]]*VLOOKUP(tblSalaries[[#This Row],[Currency]],[1]!tblXrate[#Data],2,FALSE)","v":6600},"MIS HR,HRIS","Reporting","India",{"$f":"VLOOKUP(tblSalaries[[#This Row],[Where do you work]],[1]!tblCountries[[Actual]:[Mapping]],2,FALSE)","v":"India"},"2 to 3 hours per day",6.4]
["ID1348","2012-05-29T18:05:50",70000,"GBP",{"$f":"tblSalaries[[#This Row],[clean Salary (in local currency)]]*VLOOKUP(tblSalaries[[#This Row],[Currency]],[1]!tblXrate[#Data],2,FALSE)","v":110332.47904470989},"Consultant","Consultant","UK",{"$f":"VLOOKUP(tblSalaries[[#This Row],[Where do you work]],[1]!tblCountries[[Actual]:[Mapping]],2,FALSE)","v":"UK"},"4 to 6 hours a day",15]
["ID1349","2012-05-29T18:14:48",30000,"GBP",{"$f":"tblSalaries[[#This Row],[clean Salary (in local currency)]]*VLOOKUP(tblSalaries[[#This Row],[Currency]],[1]!tblXrate[#Data],2,FALSE)","v":47285.348162018527},"Market Analyst","Analyst","UK",{"$f":"VLOOKUP(tblSalaries[[#This Row],[Where do you work]],[1]!tblCountries[[Actual]:[Mapping]],2,FALSE)","v":"UK"},"All the 8 hours baby, all the 8!",6]
["ID1350","2012-05-29T18:14:53",5300,"USD",{"$f":"tblSalaries[[#This Row],[clean Salary (in local currency)]]*VLOOKUP(tblSalaries[[#This Row],[Currency]],[1]!tblXrate[#Data],2,FALSE)","v":5300},"Asst. Production Manager","Manager","Pakistan",{"$f":"VLOOKUP(tblSalaries[[#This Row],[Where do you work]],[1]!tblCountries[[Actual]:[Mapping]],2,FALSE)","v":"Pakistan"},"4 to 6 hours a day",5]
["ID1351","2012-05-29T18:21:13",34500,"EUR",{"$f":"tblSalaries[[#This Row],[clean Salary (in local currency)]]*VLOOKUP(tblSalaries[[#This Row],[Currency]],[1]!tblXrate[#Data],2,FALSE)","v":43828.780645210471},"Analyst","Analyst","Netherlands",{"$f":"VLOOKUP(tblSalaries[[#This Row],[Where do you work]],[1]!tblCountries[[Actual]:[Mapping]],2,FALSE)","v":"Netherlands"},"4 to 6 hours a day",15]
["ID1352","2012-05-29T18:33:08",80000,"USD",{"$f":"tblSalaries[[#This Row],[clean Salary (in local currency)]]*VLOOKUP(tblSalaries[[#This Row],[Currency]],[1]!tblXrate[#Data],2,FALSE)","v":80000},"Developer","Analyst","USA",{"$f":"VLOOKUP(tblSalaries[[#This Row],[Where do you work]],[1]!tblCountries[[Actual]:[Mapping]],2,FALSE)","v":"USA"},"1 or 2 hours a day",14]
["ID1353","2012-05-29T18:35:10",9067,"EUR",{"$f":"tblSalaries[[#This Row],[clean Salary (in local currency)]]*VLOOKUP(tblSalaries[[#This Row],[Currency]],[1]!tblXrate[#Data],2,FALSE)","v":11518.711713336908},"assistant","Analyst","Hungary",{"$f":"VLOOKUP(tblSalaries[[#This Row],[Where do you work]],[1]!tblCountries[[Actual]:[Mapping]],2,FALSE)","v":"Hungary"},"2 to 3 hours per day",3]
["ID1354","2012-05-29T18:35:31",150000,"AUD",{"$f":"tblSalaries[[#This Row],[clean Salary (in local currency)]]*VLOOKUP(tblSalaries[[#This Row],[Currency]],[1]!tblXrate[#Data],2,FALSE)","v":152986.44846039536},"Bus Analyst","Analyst","Australia",{"$f":"VLOOKUP(tblSalaries[[#This Row],[Where do you work]],[1]!tblCountries[[Actual]:[Mapping]],2,FALSE)","v":"Australia"},"1 or 2 hours a day",5.5]
["ID1355","2012-05-29T18:38:51",125000,"USD",{"$f":"tblSalaries[[#This Row],[clean Salary (in local currency)]]*VLOOKUP(tblSalaries[[#This Row],[Currency]],[1]!tblXrate[#Data],2,FALSE)","v":125000},"Vice President of Performance Management","Manager","USA",{"$f":"VLOOKUP(tblSalaries[[#This Row],[Where do you work]],[1]!tblCountries[[Actual]:[Mapping]],2,FALSE)","v":"USA"},"4 to 6 hours a day",2]
["ID1356","2012-05-29T18:55:18",100000,"AUD",{"$f":"tblSalaries[[#This Row],[clean Salary (in local currency)]]*VLOOKUP(tblSalaries[[#This Row],[Currency]],[1]!tblXrate[#Data],2,FALSE)","v":101990.96564026357},"Principal advisor","Consultant","Australia",{"$f":"VLOOKUP(tblSalaries[[#This Row],[Where do you work]],[1]!tblCountries[[Actual]:[Mapping]],2,FALSE)","v":"Australia"},"1 or 2 hours a day",30]
["ID1357","2012-05-29T18:55:20",105000,"USD",{"$f":"tblSalaries[[#This Row],[clean Salary (in local currency)]]*VLOOKUP(tblSalaries[[#This Row],[Currency]],[1]!tblXrate[#Data],2,FALSE)","v":105000},"Director of Technology","CXO or Top Mgmt.","USA",{"$f":"VLOOKUP(tblSalaries[[#This Row],[Where do you work]],[1]!tblCountries[[Actual]:[Mapping]],2,FALSE)","v":"USA"},"1 or 2 hours a day",15]
["ID1358","2012-05-29T19:01:05",40000,"EUR",{"$f":"tblSalaries[[#This Row],[clean Salary (in local currency)]]*VLOOKUP(tblSalaries[[#This Row],[Currency]],[1]!tblXrate[#Data],2,FALSE)","v":50815.977559664309},"officer","Manager","Austria",{"$f":"VLOOKUP(tblSalaries[[#This Row],[Where do you work]],[1]!tblCountries[[Actual]:[Mapping]],2,FALSE)","v":"Austria"},"4 to 6 hours a day",20]
["ID1359","2012-05-29T19:01:48",75000,"USD",{"$f":"tblSalaries[[#This Row],[clean Salary (in local currency)]]*VLOOKUP(tblSalaries[[#This Row],[Currency]],[1]!tblXrate[#Data],2,FALSE)","v":75000},"Financial Analyst","Analyst","USA",{"$f":"VLOOKUP(tblSalaries[[#This Row],[Where do you work]],[1]!tblCountries[[Actual]:[Mapping]],2,FALSE)","v":"USA"},"4 to 6 hours a day",7]
["ID1360","2012-05-29T19:06:14",250000,"INR",{"$f":"tblSalaries[[#This Row],[clean Salary (in local currency)]]*VLOOKUP(tblSalaries[[#This Row],[Currency]],[1]!tblXrate[#Data],2,FALSE)","v":4451.9791718606421},"Credit Executive","Analyst","India",{"$f":"VLOOKUP(tblSalaries[[#This Row],[Where do you work]],[1]!tblCountries[[Actual]:[Mapping]],2,FALSE)","v":"India"},"All the 8 hours baby, all the 8!",8]
["ID1361","2012-05-29T19:08:37",110000,"USD",{"$f":"tblSalaries[[#This Row],[clean Salary (in local currency)]]*VLOOKUP(tblSalaries[[#This Row],[Currency]],[1]!tblXrate[#Data],2,FALSE)","v":110000},"Business Analytics Associate","Analyst","USA",{"$f":"VLOOKUP(tblSalaries[[#This Row],[Where do you work]],[1]!tblCountries[[Actual]:[Mapping]],2,FALSE)","v":"USA"},"1 or 2 hours a day",10]
["ID1362","2012-05-29T19:10:05",27000,"GBP",{"$f":"tblSalaries[[#This Row],[clean Salary (in local currency)]]*VLOOKUP(tblSalaries[[#This Row],[Currency]],[1]!tblXrate[#Data],2,FALSE)","v":42556.81334581667},"Engineering Tech","Engineer","UK",{"$f":"VLOOKUP(tblSalaries[[#This Row],[Where do you work]],[1]!tblCountries[[Actual]:[Mapping]],2,FALSE)","v":"UK"},"4 to 6 hours a day",1]
["ID1363","2012-05-29T19:11:31",450000,"INR",{"$f":"tblSalaries[[#This Row],[clean Salary (in local currency)]]*VLOOKUP(tblSalaries[[#This Row],[Currency]],[1]!tblXrate[#Data],2,FALSE)","v":8013.5625093491553},"Mechanical Design engineer","Engineer","India",{"$f":"VLOOKUP(tblSalaries[[#This Row],[Where do you work]],[1]!tblCountries[[Actual]:[Mapping]],2,FALSE)","v":"India"},"1 or 2 hours a day",7]
["ID1364","2012-05-29T19:12:19",125000,"USD",{"$f":"tblSalaries[[#This Row],[clean Salary (in local currency)]]*VLOOKUP(tblSalaries[[#This Row],[Currency]],[1]!tblXrate[#Data],2,FALSE)","v":125000},"Finance Manager","Manager","USA",{"$f":"VLOOKUP(tblSalaries[[#This Row],[Where do you work]],[1]!tblCountries[[Actual]:[Mapping]],2,FALSE)","v":"USA"},"4 to 6 hours a day",25]
["ID1365","2012-05-29T19:23:32",60000,"USD",{"$f":"tblSalaries[[#This Row],[clean Salary (in local currency)]]*VLOOKUP(tblSalaries[[#This Row],[Currency]],[1]!tblXrate[#Data],2,FALSE)","v":60000},"Business Information Analyst","Analyst","USA",{"$f":"VLOOKUP(tblSalaries[[#This Row],[Where do you work]],[1]!tblCountries[[Actual]:[Mapping]],2,FALSE)","v":"USA"},"All the 8 hours baby, all the 8!",12]
["ID1366","2012-05-29T19:31:32",2210000,"INR",{"$f":"tblSalaries[[#This Row],[clean Salary (in local currency)]]*VLOOKUP(tblSalaries[[#This Row],[Currency]],[1]!tblXrate[#Data],2,FALSE)","v":39355.495879248076},"Marketing","Analyst","India",{"$f":"VLOOKUP(tblSalaries[[#This Row],[Where do you work]],[1]!tblCountries[[Actual]:[Mapping]],2,FALSE)","v":"India"},"1 or 2 hours a day",5.6]
["ID1367","2012-05-29T19:33:07",45000,"EUR",{"$f":"tblSalaries[[#This Row],[clean Salary (in local currency)]]*VLOOKUP(tblSalaries[[#This Row],[Currency]],[1]!tblXrate[#Data],2,FALSE)","v":57167.974754622352},"Junior Controller","Controller","Germany",{"$f":"VLOOKUP(tblSalaries[[#This Row],[Where do you work]],[1]!tblCountries[[Actual]:[Mapping]],2,FALSE)","v":"Germany"},"4 to 6 hours a day",12]
["ID1368","2012-05-29T19:39:35",4000000,"JPY",{"$f":"tblSalaries[[#This Row],[clean Salary (in local currency)]]*VLOOKUP(tblSalaries[[#This Row],[Currency]],[1]!tblXrate[#Data],2,FALSE)","v":50694.322109187968},"System Analyst (Configuration Mgmt)","Analyst","Japan",{"$f":"VLOOKUP(tblSalaries[[#This Row],[Where do you work]],[1]!tblCountries[[Actual]:[Mapping]],2,FALSE)","v":"Japan"},"4 to 6 hours a day",8]
["ID1369","2012-05-29T19:47:18",57500,"USD",{"$f":"tblSalaries[[#This Row],[clean Salary (in local currency)]]*VLOOKUP(tblSalaries[[#This Row],[Currency]],[1]!tblXrate[#Data],2,FALSE)","v":57500},"Planning Supervisor","Manager","USA",{"$f":"VLOOKUP(tblSalaries[[#This Row],[Where do you work]],[1]!tblCountries[[Actual]:[Mapping]],2,FALSE)","v":"USA"},"4 to 6 hours a day",30]
["ID1370","2012-05-29T19:50:25",62000,"EUR",{"$f":"tblSalaries[[#This Row],[clean Salary (in local currency)]]*VLOOKUP(tblSalaries[[#This Row],[Currency]],[1]!tblXrate[#Data],2,FALSE)","v":78764.765217479682},"Controller","Controller","Netherlands",{"$f":"VLOOKUP(tblSalaries[[#This Row],[Where do you work]],[1]!tblCountries[[Actual]:[Mapping]],2,FALSE)","v":"Netherlands"},"4 to 6 hours a day",15]
["ID1371","2012-05-29T19:52:35",80000,"USD",{"$f":"tblSalaries[[#This Row],[clean Salary (in local currency)]]*VLOOKUP(tblSalaries[[#This Row],[Currency]],[1]!tblXrate[#Data],2,FALSE)","v":80000},"Manager of Data Analytics","Manager","USA",{"$f":"VLOOKUP(tblSalaries[[#This Row],[Where do you work]],[1]!tblCountries[[Actual]:[Mapping]],2,FALSE)","v":"USA"},"4 to 6 hours a day",10]
["ID1372","2012-05-29T19:54:38",45000,"GBP",{"$f":"tblSalaries[[#This Row],[clean Salary (in local currency)]]*VLOOKUP(tblSalaries[[#This Row],[Currency]],[1]!tblXrate[#Data],2,FALSE)","v":70928.022243027779},"Management Accountant","Manager","UK",{"$f":"VLOOKUP(tblSalaries[[#This Row],[Where do you work]],[1]!tblCountries[[Actual]:[Mapping]],2,FALSE)","v":"UK"},"2 to 3 hours per day",15]
["ID1373","2012-05-29T20:03:07",33000,"USD",{"$f":"tblSalaries[[#This Row],[clean Salary (in local currency)]]*VLOOKUP(tblSalaries[[#This Row],[Currency]],[1]!tblXrate[#Data],2,FALSE)","v":33000},"Quality Control Supervisor","Controller","USA",{"$f":"VLOOKUP(tblSalaries[[#This Row],[Where do you work]],[1]!tblCountries[[Actual]:[Mapping]],2,FALSE)","v":"USA"},"4 to 6 hours a day",3]
["ID1374","2012-05-29T20:20:21",100000,"USD",{"$f":"tblSalaries[[#This Row],[clean Salary (in local currency)]]*VLOOKUP(tblSalaries[[#This Row],[Currency]],[1]!tblXrate[#Data],2,FALSE)","v":100000},"Senior Financial Analyst","Analyst","USA",{"$f":"VLOOKUP(tblSalaries[[#This Row],[Where do you work]],[1]!tblCountries[[Actual]:[Mapping]],2,FALSE)","v":"USA"},"4 to 6 hours a day",1]
["ID1375","2012-05-29T20:40:12",60000,"USD",{"$f":"tblSalaries[[#This Row],[clean Salary (in local currency)]]*VLOOKUP(tblSalaries[[#This Row],[Currency]],[1]!tblXrate[#Data],2,FALSE)","v":60000},"project manager","Manager","USA",{"$f":"VLOOKUP(tblSalaries[[#This Row],[Where do you work]],[1]!tblCountries[[Actual]:[Mapping]],2,FALSE)","v":"USA"},"2 to 3 hours per day",20]
["ID1376","2012-05-29T20:53:43",95000,"USD",{"$f":"tblSalaries[[#This Row],[clean Salary (in local currency)]]*VLOOKUP(tblSalaries[[#This Row],[Currency]],[1]!tblXrate[#Data],2,FALSE)","v":95000},"Cost Analyst","Analyst","USA",{"$f":"VLOOKUP(tblSalaries[[#This Row],[Where do you work]],[1]!tblCountries[[Actual]:[Mapping]],2,FALSE)","v":"USA"},"2 to 3 hours per day",7]
["ID1377","2012-05-29T21:07:27",24000,"USD",{"$f":"tblSalaries[[#This Row],[clean Salary (in local currency)]]*VLOOKUP(tblSalaries[[#This Row],[Currency]],[1]!tblXrate[#Data],2,FALSE)","v":24000},"clerk 24 hrs per week","Analyst","USA",{"$f":"VLOOKUP(tblSalaries[[#This Row],[Where do you work]],[1]!tblCountries[[Actual]:[Mapping]],2,FALSE)","v":"USA"},"1 or 2 hours a day",33]
["ID1378","2012-05-29T21:17:26",50000,"USD",{"$f":"tblSalaries[[#This Row],[clean Salary (in local currency)]]*VLOOKUP(tblSalaries[[#This Row],[Currency]],[1]!tblXrate[#Data],2,FALSE)","v":50000},"Engineering Intern","Engineer","USA",{"$f":"VLOOKUP(tblSalaries[[#This Row],[Where do you work]],[1]!tblCountries[[Actual]:[Mapping]],2,FALSE)","v":"USA"},"4 to 6 hours a day",0.5]
["ID1379","2012-05-29T21:25:03",103000,"USD",{"$f":"tblSalaries[[#This Row],[clean Salary (in local currency)]]*VLOOKUP(tblSalaries[[#This Row],[Currency]],[1]!tblXrate[#Data],2,FALSE)","v":103000},"Controller","Controller","USA",{"$f":"VLOOKUP(tblSalaries[[#This Row],[Where do you work]],[1]!tblCountries[[Actual]:[Mapping]],2,FALSE)","v":"USA"},"4 to 6 hours a day",22]
["ID1380","2012-05-29T21:27:23",36000,"USD",{"$f":"tblSalaries[[#This Row],[clean Salary (in local currency)]]*VLOOKUP(tblSalaries[[#This Row],[Currency]],[1]!tblXrate[#Data],2,FALSE)","v":36000},"Data Specialist","Specialist","USA",{"$f":"VLOOKUP(tblSalaries[[#This Row],[Where do you work]],[1]!tblCountries[[Actual]:[Mapping]],2,FALSE)","v":"USA"},"All the 8 hours baby, all the 8!",8]
["ID1381","2012-05-29T21:28:07",85000,"USD",{"$f":"tblSalaries[[#This Row],[clean Salary (in local currency)]]*VLOOKUP(tblSalaries[[#This Row],[Currency]],[1]!tblXrate[#Data],2,FALSE)","v":85000},"Senior Analyst","Analyst","USA",{"$f":"VLOOKUP(tblSalaries[[#This Row],[Where do you work]],[1]!tblCountries[[Actual]:[Mapping]],2,FALSE)","v":"USA"},"4 to 6 hours a day",17]
["ID1382","2012-05-29T21:29:36",100000,"USD",{"$f":"tblSalaries[[#This Row],[clean Salary (in local currency)]]*VLOOKUP(tblSalaries[[#This Row],[Currency]],[1]!tblXrate[#Data],2,FALSE)","v":100000},"Vice Head of Dpt in Education","CXO or Top Mgmt.","Sweden",{"$f":"VLOOKUP(tblSalaries[[#This Row],[Where do you work]],[1]!tblCountries[[Actual]:[Mapping]],2,FALSE)","v":"Sweden"},"2 to 3 hours per day",20]
["ID1383","2012-05-29T21:33:42",83000,"USD",{"$f":"tblSalaries[[#This Row],[clean Salary (in local currency)]]*VLOOKUP(tblSalaries[[#This Row],[Currency]],[1]!tblXrate[#Data],2,FALSE)","v":83000},"Senior Planning Analyst","Analyst","Canada",{"$f":"VLOOKUP(tblSalaries[[#This Row],[Where do you work]],[1]!tblCountries[[Actual]:[Mapping]],2,FALSE)","v":"Canada"},"4 to 6 hours a day",12]
["ID1384","2012-05-29T21:38:10",85000,"USD",{"$f":"tblSalaries[[#This Row],[clean Salary (in local currency)]]*VLOOKUP(tblSalaries[[#This Row],[Currency]],[1]!tblXrate[#Data],2,FALSE)","v":85000},"energy engineer","Engineer","USA",{"$f":"VLOOKUP(tblSalaries[[#This Row],[Where do you work]],[1]!tblCountries[[Actual]:[Mapping]],2,FALSE)","v":"USA"},"2 to 3 hours per day",25]
["ID1385","2012-05-29T21:42:44",120000,"USD",{"$f":"tblSalaries[[#This Row],[clean Salary (in local currency)]]*VLOOKUP(tblSalaries[[#This Row],[Currency]],[1]!tblXrate[#Data],2,FALSE)","v":120000},"Finance Manager","Manager","USA",{"$f":"VLOOKUP(tblSalaries[[#This Row],[Where do you work]],[1]!tblCountries[[Actual]:[Mapping]],2,FALSE)","v":"USA"},"2 to 3 hours per day",5]
["ID1386","2012-05-29T21:44:00",69960,"USD",{"$f":"tblSalaries[[#This Row],[clean Salary (in local currency)]]*VLOOKUP(tblSalaries[[#This Row],[Currency]],[1]!tblXrate[#Data],2,FALSE)","v":69960},"Measurement & Verification Engineer","Engineer","USA",{"$f":"VLOOKUP(tblSalaries[[#This Row],[Where do you work]],[1]!tblCountries[[Actual]:[Mapping]],2,FALSE)","v":"USA"},"2 to 3 hours per day",22]
["ID1387","2012-05-29T21:46:28",97000,"USD",{"$f":"tblSalaries[[#This Row],[clean Salary (in local currency)]]*VLOOKUP(tblSalaries[[#This Row],[Currency]],[1]!tblXrate[#Data],2,FALSE)","v":97000},"Sr. Manager of Finance","Manager","USA",{"$f":"VLOOKUP(tblSalaries[[#This Row],[Where do you work]],[1]!tblCountries[[Actual]:[Mapping]],2,FALSE)","v":"USA"},"4 to 6 hours a day",14]
["ID1388","2012-05-29T21:48:13",60000,"GBP",{"$f":"tblSalaries[[#This Row],[clean Salary (in local currency)]]*VLOOKUP(tblSalaries[[#This Row],[Currency]],[1]!tblXrate[#Data],2,FALSE)","v":94570.696324037053},"Analyst","Analyst","UK",{"$f":"VLOOKUP(tblSalaries[[#This Row],[Where do you work]],[1]!tblCountries[[Actual]:[Mapping]],2,FALSE)","v":"UK"},"4 to 6 hours a day",7]
["ID1389","2012-05-29T21:50:30",39000,"USD",{"$f":"tblSalaries[[#This Row],[clean Salary (in local currency)]]*VLOOKUP(tblSalaries[[#This Row],[Currency]],[1]!tblXrate[#Data],2,FALSE)","v":39000},"I.T Manager","Manager","South Africa",{"$f":"VLOOKUP(tblSalaries[[#This Row],[Where do you work]],[1]!tblCountries[[Actual]:[Mapping]],2,FALSE)","v":"South Africa"},"All the 8 hours baby, all the 8!",6]
["ID1390","2012-05-29T21:50:45",250000,"INR",{"$f":"tblSalaries[[#This Row],[clean Salary (in local currency)]]*VLOOKUP(tblSalaries[[#This Row],[Currency]],[1]!tblXrate[#Data],2,FALSE)","v":4451.9791718606421},"Manager","Manager","India",{"$f":"VLOOKUP(tblSalaries[[#This Row],[Where do you work]],[1]!tblCountries[[Actual]:[Mapping]],2,FALSE)","v":"India"},"1 or 2 hours a day",15]
["ID1391","2012-05-29T21:54:33",62000,"USD",{"$f":"tblSalaries[[#This Row],[clean Salary (in local currency)]]*VLOOKUP(tblSalaries[[#This Row],[Currency]],[1]!tblXrate[#Data],2,FALSE)","v":62000},"Measurement Specialist","Specialist","USA",{"$f":"VLOOKUP(tblSalaries[[#This Row],[Where do you work]],[1]!tblCountries[[Actual]:[Mapping]],2,FALSE)","v":"USA"},"All the 8 hours baby, all the 8!",25]
["ID1392","2012-05-29T21:59:35",44000,"USD",{"$f":"tblSalaries[[#This Row],[clean Salary (in local currency)]]*VLOOKUP(tblSalaries[[#This Row],[Currency]],[1]!tblXrate[#Data],2,FALSE)","v":44000},"Test engineer","Engineer","USA",{"$f":"VLOOKUP(tblSalaries[[#This Row],[Where do you work]],[1]!tblCountries[[Actual]:[Mapping]],2,FALSE)","v":"USA"},"4 to 6 hours a day",15]
["ID1393","2012-05-29T22:02:31",150000,"USD",{"$f":"tblSalaries[[#This Row],[clean Salary (in local currency)]]*VLOOKUP(tblSalaries[[#This Row],[Currency]],[1]!tblXrate[#Data],2,FALSE)","v":150000},"VP, Business Management","Manager","USA",{"$f":"VLOOKUP(tblSalaries[[#This Row],[Where do you work]],[1]!tblCountries[[Actual]:[Mapping]],2,FALSE)","v":"USA"},"2 to 3 hours per day",30]
["ID1394","2012-05-29T22:04:09",180000,"EUR",{"$f":"tblSalaries[[#This Row],[clean Salary (in local currency)]]*VLOOKUP(tblSalaries[[#This Row],[Currency]],[1]!tblXrate[#Data],2,FALSE)","v":228671.89901848941},"MIS Controller","Controller","Europe",{"$f":"VLOOKUP(tblSalaries[[#This Row],[Where do you work]],[1]!tblCountries[[Actual]:[Mapping]],2,FALSE)","v":"Europe"},"4 to 6 hours a day",15]
["ID1395","2012-05-29T22:13:08",73500,"USD",{"$f":"tblSalaries[[#This Row],[clean Salary (in local currency)]]*VLOOKUP(tblSalaries[[#This Row],[Currency]],[1]!tblXrate[#Data],2,FALSE)","v":73500},"Senior Underwriting Analyst","Analyst","USA",{"$f":"VLOOKUP(tblSalaries[[#This Row],[Where do you work]],[1]!tblCountries[[Actual]:[Mapping]],2,FALSE)","v":"USA"},"All the 8 hours baby, all the 8!",6]
["ID1396","2012-05-29T22:14:19",77500,"USD",{"$f":"tblSalaries[[#This Row],[clean Salary (in local currency)]]*VLOOKUP(tblSalaries[[#This Row],[Currency]],[1]!tblXrate[#Data],2,FALSE)","v":77500},"Sr Financial Analyst","Analyst","USA",{"$f":"VLOOKUP(tblSalaries[[#This Row],[Where do you work]],[1]!tblCountries[[Actual]:[Mapping]],2,FALSE)","v":"USA"},"4 to 6 hours a day",7]
["ID1397","2012-05-29T22:18:48",60800,"USD",{"$f":"tblSalaries[[#This Row],[clean Salary (in local currency)]]*VLOOKUP(tblSalaries[[#This Row],[Currency]],[1]!tblXrate[#Data],2,FALSE)","v":60800},"Data Integrity & Reporting Tool Analyst","Analyst","USA",{"$f":"VLOOKUP(tblSalaries[[#This Row],[Where do you work]],[1]!tblCountries[[Actual]:[Mapping]],2,FALSE)","v":"USA"},"All the 8 hours baby, all the 8!",10]
["ID1398","2012-05-29T22:24:28",136000,"USD",{"$f":"tblSalaries[[#This Row],[clean Salary (in local currency)]]*VLOOKUP(tblSalaries[[#This Row],[Currency]],[1]!tblXrate[#Data],2,FALSE)","v":136000},"Manager FP and A","Manager","USA",{"$f":"VLOOKUP(tblSalaries[[#This Row],[Where do you work]],[1]!tblCountries[[Actual]:[Mapping]],2,FALSE)","v":"USA"},"4 to 6 hours a day",10]
["ID1399","2012-05-29T22:32:16",20000,"USD",{"$f":"tblSalaries[[#This Row],[clean Salary (in local currency)]]*VLOOKUP(tblSalaries[[#This Row],[Currency]],[1]!tblXrate[#Data],2,FALSE)","v":20000},"Business Operation Specialist","Specialist","India",{"$f":"VLOOKUP(tblSalaries[[#This Row],[Where do you work]],[1]!tblCountries[[Actual]:[Mapping]],2,FALSE)","v":"India"},"4 to 6 hours a day",6]
["ID1400","2012-05-29T22:35:17",95000,"USD",{"$f":"tblSalaries[[#This Row],[clean Salary (in local currency)]]*VLOOKUP(tblSalaries[[#This Row],[Currency]],[1]!tblXrate[#Data],2,FALSE)","v":95000},"Stress Engineer","Engineer","USA",{"$f":"VLOOKUP(tblSalaries[[#This Row],[Where do you work]],[1]!tblCountries[[Actual]:[Mapping]],2,FALSE)","v":"USA"},"4 to 6 hours a day",14]
["ID1401","2012-05-29T22:47:10",130000,"USD",{"$f":"tblSalaries[[#This Row],[clean Salary (in local currency)]]*VLOOKUP(tblSalaries[[#This Row],[Currency]],[1]!tblXrate[#Data],2,FALSE)","v":130000},"Manager","Manager","USA",{"$f":"VLOOKUP(tblSalaries[[#This Row],[Where do you work]],[1]!tblCountries[[Actual]:[Mapping]],2,FALSE)","v":"USA"},"1 or 2 hours a day",25]
["ID1402","2012-05-29T22:50:16",65000,"USD",{"$f":"tblSalaries[[#This Row],[clean Salary (in local currency)]]*VLOOKUP(tblSalaries[[#This Row],[Currency]],[1]!tblXrate[#Data],2,FALSE)","v":65000},"eeo analyst","Analyst","USA",{"$f":"VLOOKUP(tblSalaries[[#This Row],[Where do you work]],[1]!tblCountries[[Actual]:[Mapping]],2,FALSE)","v":"USA"},"2 to 3 hours per day",10]
["ID1403","2012-05-29T22:50:20",80000,"USD",{"$f":"tblSalaries[[#This Row],[clean Salary (in local currency)]]*VLOOKUP(tblSalaries[[#This Row],[Currency]],[1]!tblXrate[#Data],2,FALSE)","v":80000},"Sr Process Consultant","Consultant","USA",{"$f":"VLOOKUP(tblSalaries[[#This Row],[Where do you work]],[1]!tblCountries[[Actual]:[Mapping]],2,FALSE)","v":"USA"},"2 to 3 hours per day",8]
["ID1404","2012-05-29T22:56:24",37000,"USD",{"$f":"tblSalaries[[#This Row],[clean Salary (in local currency)]]*VLOOKUP(tblSalaries[[#This Row],[Currency]],[1]!tblXrate[#Data],2,FALSE)","v":37000},"Credentialing Coordinator & Productivity Reports \"Guru\"","Reporting","USA",{"$f":"VLOOKUP(tblSalaries[[#This Row],[Where do you work]],[1]!tblCountries[[Actual]:[Mapping]],2,FALSE)","v":"USA"},"2 to 3 hours per day",30]
["ID1405","2012-05-29T23:06:00",40000,"USD",{"$f":"tblSalaries[[#This Row],[clean Salary (in local currency)]]*VLOOKUP(tblSalaries[[#This Row],[Currency]],[1]!tblXrate[#Data],2,FALSE)","v":40000},"Transportation Planner","Manager","USA",{"$f":"VLOOKUP(tblSalaries[[#This Row],[Where do you work]],[1]!tblCountries[[Actual]:[Mapping]],2,FALSE)","v":"USA"},"1 or 2 hours a day",8]
["ID1406","2012-05-29T23:08:45",49000,"USD",{"$f":"tblSalaries[[#This Row],[clean Salary (in local currency)]]*VLOOKUP(tblSalaries[[#This Row],[Currency]],[1]!tblXrate[#Data],2,FALSE)","v":49000},"Research Analyst","Analyst","USA",{"$f":"VLOOKUP(tblSalaries[[#This Row],[Where do you work]],[1]!tblCountries[[Actual]:[Mapping]],2,FALSE)","v":"USA"},"4 to 6 hours a day",10]
["ID1407","2012-05-29T23:09:29",65000,"USD",{"$f":"tblSalaries[[#This Row],[clean Salary (in local currency)]]*VLOOKUP(tblSalaries[[#This Row],[Currency]],[1]!tblXrate[#Data],2,FALSE)","v":65000},"Data Analyst","Analyst","USA",{"$f":"VLOOKUP(tblSalaries[[#This Row],[Where do you work]],[1]!tblCountries[[Actual]:[Mapping]],2,FALSE)","v":"USA"},"All the 8 hours baby, all the 8!",14]
["ID1408","2012-05-29T23:13:32",55000,"USD",{"$f":"tblSalaries[[#This Row],[clean Salary (in local currency)]]*VLOOKUP(tblSalaries[[#This Row],[Currency]],[1]!tblXrate[#Data],2,FALSE)","v":55000},"Risk Analyst","Analyst","USA",{"$f":"VLOOKUP(tblSalaries[[#This Row],[Where do you work]],[1]!tblCountries[[Actual]:[Mapping]],2,FALSE)","v":"USA"},"All the 8 hours baby, all the 8!",1]
["ID1409","2012-05-29T23:20:41",40000,"USD",{"$f":"tblSalaries[[#This Row],[clean Salary (in local currency)]]*VLOOKUP(tblSalaries[[#This Row],[Currency]],[1]!tblXrate[#Data],2,FALSE)","v":40000},"Project Coordinator","Manager","USA",{"$f":"VLOOKUP(tblSalaries[[#This Row],[Where do you work]],[1]!tblCountries[[Actual]:[Mapping]],2,FALSE)","v":"USA"},"4 to 6 hours a day",1]
["ID1410","2012-05-29T23:21:25",60000,"USD",{"$f":"tblSalaries[[#This Row],[clean Salary (in local currency)]]*VLOOKUP(tblSalaries[[#This Row],[Currency]],[1]!tblXrate[#Data],2,FALSE)","v":60000},"business analyst","Analyst","USA",{"$f":"VLOOKUP(tblSalaries[[#This Row],[Where do you work]],[1]!tblCountries[[Actual]:[Mapping]],2,FALSE)","v":"USA"},"4 to 6 hours a day",15]
["ID1411","2012-05-29T23:31:03",36000,"EUR",{"$f":"tblSalaries[[#This Row],[clean Salary (in local currency)]]*VLOOKUP(tblSalaries[[#This Row],[Currency]],[1]!tblXrate[#Data],2,FALSE)","v":45734.379803697877},"Data Analytics Consultant","Analyst","Ireland",{"$f":"VLOOKUP(tblSalaries[[#This Row],[Where do you work]],[1]!tblCountries[[Actual]:[Mapping]],2,FALSE)","v":"Ireland"},"2 to 3 hours per day",4]
["ID1412","2012-05-29T23:39:13",150000,"USD",{"$f":"tblSalaries[[#This Row],[clean Salary (in local currency)]]*VLOOKUP(tblSalaries[[#This Row],[Currency]],[1]!tblXrate[#Data],2,FALSE)","v":150000},"Senior Analyst","Analyst","USA",{"$f":"VLOOKUP(tblSalaries[[#This Row],[Where do you work]],[1]!tblCountries[[Actual]:[Mapping]],2,FALSE)","v":"USA"},"2 to 3 hours per day",30]
["ID1413","2012-05-29T23:44:26",88000,"USD",{"$f":"tblSalaries[[#This Row],[clean Salary (in local currency)]]*VLOOKUP(tblSalaries[[#This Row],[Currency]],[1]!tblXrate[#Data],2,FALSE)","v":88000},"Manager, Financial Planning & Analysis","Manager","USA",{"$f":"VLOOKUP(tblSalaries[[#This Row],[Where do you work]],[1]!tblCountries[[Actual]:[Mapping]],2,FALSE)","v":"USA"},"4 to 6 hours a day",21]
["ID1414","2012-05-30T00:02:08",64500,"USD",{"$f":"tblSalaries[[#This Row],[clean Salary (in local currency)]]*VLOOKUP(tblSalaries[[#This Row],[Currency]],[1]!tblXrate[#Data],2,FALSE)","v":64500},"Lead Budget/Financial Analyst","Analyst","USA",{"$f":"VLOOKUP(tblSalaries[[#This Row],[Where do you work]],[1]!tblCountries[[Actual]:[Mapping]],2,FALSE)","v":"USA"},"4 to 6 hours a day",13]
["ID1415","2012-05-30T00:13:07",216000,"SAR",{"$f":"tblSalaries[[#This Row],[clean Salary (in local currency)]]*VLOOKUP(tblSalaries[[#This Row],[Currency]],[1]!tblXrate[#Data],2,FALSE)","v":57600},"Senior Electrical Engineer","Engineer","Saudi Arabia",{"$f":"VLOOKUP(tblSalaries[[#This Row],[Where do you work]],[1]!tblCountries[[Actual]:[Mapping]],2,FALSE)","v":"Saudi Arabia"},"4 to 6 hours a day",20]
["ID1416","2012-05-30T00:22:28",50000,"USD",{"$f":"tblSalaries[[#This Row],[clean Salary (in local currency)]]*VLOOKUP(tblSalaries[[#This Row],[Currency]],[1]!tblXrate[#Data],2,FALSE)","v":50000},"Accounting Supervisor","Accountant","USA",{"$f":"VLOOKUP(tblSalaries[[#This Row],[Where do you work]],[1]!tblCountries[[Actual]:[Mapping]],2,FALSE)","v":"USA"},"4 to 6 hours a day",15]
["ID1417","2012-05-30T00:25:43",120000,"USD",{"$f":"tblSalaries[[#This Row],[clean Salary (in local currency)]]*VLOOKUP(tblSalaries[[#This Row],[Currency]],[1]!tblXrate[#Data],2,FALSE)","v":120000},"Finance Manager","Manager","USA",{"$f":"VLOOKUP(tblSalaries[[#This Row],[Where do you work]],[1]!tblCountries[[Actual]:[Mapping]],2,FALSE)","v":"USA"},"2 to 3 hours per day",10]
["ID1418","2012-05-30T00:34:53",107000,"USD",{"$f":"tblSalaries[[#This Row],[clean Salary (in local currency)]]*VLOOKUP(tblSalaries[[#This Row],[Currency]],[1]!tblXrate[#Data],2,FALSE)","v":107000},"Tax Manager","Manager","USA",{"$f":"VLOOKUP(tblSalaries[[#This Row],[Where do you work]],[1]!tblCountries[[Actual]:[Mapping]],2,FALSE)","v":"USA"},"All the 8 hours baby, all the 8!",29]
["ID1419","2012-05-30T00:42:50",40000,"USD",{"$f":"tblSalaries[[#This Row],[clean Salary (in local currency)]]*VLOOKUP(tblSalaries[[#This Row],[Currency]],[1]!tblXrate[#Data],2,FALSE)","v":40000},"Metrics Analyst","Analyst","USA",{"$f":"VLOOKUP(tblSalaries[[#This Row],[Where do you work]],[1]!tblCountries[[Actual]:[Mapping]],2,FALSE)","v":"USA"},"2 to 3 hours per day",6]
["ID1420","2012-05-30T00:50:03",81000,"USD",{"$f":"tblSalaries[[#This Row],[clean Salary (in local currency)]]*VLOOKUP(tblSalaries[[#This Row],[Currency]],[1]!tblXrate[#Data],2,FALSE)","v":81000},"Finance & IT Manager","Manager","USA",{"$f":"VLOOKUP(tblSalaries[[#This Row],[Where do you work]],[1]!tblCountries[[Actual]:[Mapping]],2,FALSE)","v":"USA"},"1 or 2 hours a day",12]
["ID1421","2012-05-30T01:05:26",45000,"USD",{"$f":"tblSalaries[[#This Row],[clean Salary (in local currency)]]*VLOOKUP(tblSalaries[[#This Row],[Currency]],[1]!tblXrate[#Data],2,FALSE)","v":45000},"Technical Support Specialist","Specialist","USA",{"$f":"VLOOKUP(tblSalaries[[#This Row],[Where do you work]],[1]!tblCountries[[Actual]:[Mapping]],2,FALSE)","v":"USA"},"4 to 6 hours a day",20]
["ID1422","2012-05-30T01:12:04",49000,"USD",{"$f":"tblSalaries[[#This Row],[clean Salary (in local currency)]]*VLOOKUP(tblSalaries[[#This Row],[Currency]],[1]!tblXrate[#Data],2,FALSE)","v":49000},"Clinical Data Specialist","Specialist","USA",{"$f":"VLOOKUP(tblSalaries[[#This Row],[Where do you work]],[1]!tblCountries[[Actual]:[Mapping]],2,FALSE)","v":"USA"},"4 to 6 hours a day",5]
["ID1423","2012-05-30T01:12:35",750000,"INR",{"$f":"tblSalaries[[#This Row],[clean Salary (in local currency)]]*VLOOKUP(tblSalaries[[#This Row],[Currency]],[1]!tblXrate[#Data],2,FALSE)","v":13355.937515581925},"Associate - Indirect Tax","CXO or Top Mgmt.","India",{"$f":"VLOOKUP(tblSalaries[[#This Row],[Where do you work]],[1]!tblCountries[[Actual]:[Mapping]],2,FALSE)","v":"India"},"1 or 2 hours a day",1]
["ID1424","2012-05-30T01:15:32",72000,"USD",{"$f":"tblSalaries[[#This Row],[clean Salary (in local currency)]]*VLOOKUP(tblSalaries[[#This Row],[Currency]],[1]!tblXrate[#Data],2,FALSE)","v":72000},"Manager","Manager","USA",{"$f":"VLOOKUP(tblSalaries[[#This Row],[Where do you work]],[1]!tblCountries[[Actual]:[Mapping]],2,FALSE)","v":"USA"},"1 or 2 hours a day",20]
["ID1425","2012-05-30T01:25:17",50000,"USD",{"$f":"tblSalaries[[#This Row],[clean Salary (in local currency)]]*VLOOKUP(tblSalaries[[#This Row],[Currency]],[1]!tblXrate[#Data],2,FALSE)","v":50000},"Digital Analyst","Analyst","USA",{"$f":"VLOOKUP(tblSalaries[[#This Row],[Where do you work]],[1]!tblCountries[[Actual]:[Mapping]],2,FALSE)","v":"USA"},"4 to 6 hours a day",7]
["ID1426","2012-05-30T01:25:26",57678,"USD",{"$f":"tblSalaries[[#This Row],[clean Salary (in local currency)]]*VLOOKUP(tblSalaries[[#This Row],[Currency]],[1]!tblXrate[#Data],2,FALSE)","v":57678},"Financial Analyst","Analyst","USA",{"$f":"VLOOKUP(tblSalaries[[#This Row],[Where do you work]],[1]!tblCountries[[Actual]:[Mapping]],2,FALSE)","v":"USA"},"4 to 6 hours a day",2]
["ID1427","2012-05-30T01:29:51",80442,"USD",{"$f":"tblSalaries[[#This Row],[clean Salary (in local currency)]]*VLOOKUP(tblSalaries[[#This Row],[Currency]],[1]!tblXrate[#Data],2,FALSE)","v":80442},"Senior Budget Analyst","Analyst","USA",{"$f":"VLOOKUP(tblSalaries[[#This Row],[Where do you work]],[1]!tblCountries[[Actual]:[Mapping]],2,FALSE)","v":"USA"},"4 to 6 hours a day",16]
["ID1428","2012-05-30T01:48:18",75000,"USD",{"$f":"tblSalaries[[#This Row],[clean Salary (in local currency)]]*VLOOKUP(tblSalaries[[#This Row],[Currency]],[1]!tblXrate[#Data],2,FALSE)","v":75000},"HR Cordinator","Manager","USA",{"$f":"VLOOKUP(tblSalaries[[#This Row],[Where do you work]],[1]!tblCountries[[Actual]:[Mapping]],2,FALSE)","v":"USA"},"1 or 2 hours a day",9]
["ID1429","2012-05-30T01:52:33",61000,"USD",{"$f":"tblSalaries[[#This Row],[clean Salary (in local currency)]]*VLOOKUP(tblSalaries[[#This Row],[Currency]],[1]!tblXrate[#Data],2,FALSE)","v":61000},"Treasury Analyst","Analyst","USA",{"$f":"VLOOKUP(tblSalaries[[#This Row],[Where do you work]],[1]!tblCountries[[Actual]:[Mapping]],2,FALSE)","v":"USA"},"4 to 6 hours a day",12]
["ID1430","2012-05-30T01:57:58",77000,"USD",{"$f":"tblSalaries[[#This Row],[clean Salary (in local currency)]]*VLOOKUP(tblSalaries[[#This Row],[Currency]],[1]!tblXrate[#Data],2,FALSE)","v":77000},"Assistant Engineer","Engineer","USA",{"$f":"VLOOKUP(tblSalaries[[#This Row],[Where do you work]],[1]!tblCountries[[Actual]:[Mapping]],2,FALSE)","v":"USA"},"4 to 6 hours a day",10]
["ID1431","2012-05-30T02:18:02",92000,"USD",{"$f":"tblSalaries[[#This Row],[clean Salary (in local currency)]]*VLOOKUP(tblSalaries[[#This Row],[Currency]],[1]!tblXrate[#Data],2,FALSE)","v":92000},"Controller","Controller","USA",{"$f":"VLOOKUP(tblSalaries[[#This Row],[Where do you work]],[1]!tblCountries[[Actual]:[Mapping]],2,FALSE)","v":"USA"},"2 to 3 hours per day",9]
["ID1432","2012-05-30T02:18:30",72000,"USD",{"$f":"tblSalaries[[#This Row],[clean Salary (in local currency)]]*VLOOKUP(tblSalaries[[#This Row],[Currency]],[1]!tblXrate[#Data],2,FALSE)","v":72000},"sr. senior analyst","Analyst","USA",{"$f":"VLOOKUP(tblSalaries[[#This Row],[Where do you work]],[1]!tblCountries[[Actual]:[Mapping]],2,FALSE)","v":"USA"},"All the 8 hours baby, all the 8!",10]
["ID1433","2012-05-30T02:22:39",14000,"USD",{"$f":"tblSalaries[[#This Row],[clean Salary (in local currency)]]*VLOOKUP(tblSalaries[[#This Row],[Currency]],[1]!tblXrate[#Data],2,FALSE)","v":14000},"Consultant","Consultant","India",{"$f":"VLOOKUP(tblSalaries[[#This Row],[Where do you work]],[1]!tblCountries[[Actual]:[Mapping]],2,FALSE)","v":"India"},"4 to 6 hours a day",3]
["ID1434","2012-05-30T02:22:59",111000,"USD",{"$f":"tblSalaries[[#This Row],[clean Salary (in local currency)]]*VLOOKUP(tblSalaries[[#This Row],[Currency]],[1]!tblXrate[#Data],2,FALSE)","v":111000},"Project Manager - Finance","Manager","USA",{"$f":"VLOOKUP(tblSalaries[[#This Row],[Where do you work]],[1]!tblCountries[[Actual]:[Mapping]],2,FALSE)","v":"USA"},"2 to 3 hours per day",10]
["ID1435","2012-05-30T02:32:17",80000,"USD",{"$f":"tblSalaries[[#This Row],[clean Salary (in local currency)]]*VLOOKUP(tblSalaries[[#This Row],[Currency]],[1]!tblXrate[#Data],2,FALSE)","v":80000},"Senior analyst, ops support","Analyst","USA",{"$f":"VLOOKUP(tblSalaries[[#This Row],[Where do you work]],[1]!tblCountries[[Actual]:[Mapping]],2,FALSE)","v":"USA"},"4 to 6 hours a day",20]
["ID1436","2012-05-30T02:35:40",3250000,"INR",{"$f":"tblSalaries[[#This Row],[clean Salary (in local currency)]]*VLOOKUP(tblSalaries[[#This Row],[Currency]],[1]!tblXrate[#Data],2,FALSE)","v":57875.729234188344},"ISO TS Documentation","Analyst","India",{"$f":"VLOOKUP(tblSalaries[[#This Row],[Where do you work]],[1]!tblCountries[[Actual]:[Mapping]],2,FALSE)","v":"India"},"4 to 6 hours a day",5.5]
["ID1437","2012-05-30T02:39:50",25000,"USD",{"$f":"tblSalaries[[#This Row],[clean Salary (in local currency)]]*VLOOKUP(tblSalaries[[#This Row],[Currency]],[1]!tblXrate[#Data],2,FALSE)","v":25000},"Accountant","Accountant","India",{"$f":"VLOOKUP(tblSalaries[[#This Row],[Where do you work]],[1]!tblCountries[[Actual]:[Mapping]],2,FALSE)","v":"India"},"2 to 3 hours per day",8]
["ID1438","2012-05-30T03:20:17",24000,"USD",{"$f":"tblSalaries[[#This Row],[clean Salary (in local currency)]]*VLOOKUP(tblSalaries[[#This Row],[Currency]],[1]!tblXrate[#Data],2,FALSE)","v":24000},"inventory controller","Controller","USA",{"$f":"VLOOKUP(tblSalaries[[#This Row],[Where do you work]],[1]!tblCountries[[Actual]:[Mapping]],2,FALSE)","v":"USA"},"1 or 2 hours a day",2]
["ID1439","2012-05-30T04:13:50",61000,"USD",{"$f":"tblSalaries[[#This Row],[clean Salary (in local currency)]]*VLOOKUP(tblSalaries[[#This Row],[Currency]],[1]!tblXrate[#Data],2,FALSE)","v":61000},"Accounting manager","Manager","USA",{"$f":"VLOOKUP(tblSalaries[[#This Row],[Where do you work]],[1]!tblCountries[[Actual]:[Mapping]],2,FALSE)","v":"USA"},"2 to 3 hours per day",25]
["ID1440","2012-05-30T08:05:16",55000,"AUD",{"$f":"tblSalaries[[#This Row],[clean Salary (in local currency)]]*VLOOKUP(tblSalaries[[#This Row],[Currency]],[1]!tblXrate[#Data],2,FALSE)","v":56095.031102144967},"PA","Analyst","Australia",{"$f":"VLOOKUP(tblSalaries[[#This Row],[Where do you work]],[1]!tblCountries[[Actual]:[Mapping]],2,FALSE)","v":"Australia"},"2 to 3 hours per day",11]
["ID1442","2012-05-30T09:42:01",70000,"AUD",{"$f":"tblSalaries[[#This Row],[clean Salary (in local currency)]]*VLOOKUP(tblSalaries[[#This Row],[Currency]],[1]!tblXrate[#Data],2,FALSE)","v":71393.675948184507},"Assistant Accountant","Accountant","Australia",{"$f":"VLOOKUP(tblSalaries[[#This Row],[Where do you work]],[1]!tblCountries[[Actual]:[Mapping]],2,FALSE)","v":"Australia"},"2 to 3 hours per day",5]
["ID1443","2012-05-30T10:11:19",96230,"USD",{"$f":"tblSalaries[[#This Row],[clean Salary (in local currency)]]*VLOOKUP(tblSalaries[[#This Row],[Currency]],[1]!tblXrate[#Data],2,FALSE)","v":96230},"Manager, Data Management","Manager","USA",{"$f":"VLOOKUP(tblSalaries[[#This Row],[Where do you work]],[1]!tblCountries[[Actual]:[Mapping]],2,FALSE)","v":"USA"},"4 to 6 hours a day",18]
["ID1444","2012-05-30T10:40:24",75000,"USD",{"$f":"tblSalaries[[#This Row],[clean Salary (in local currency)]]*VLOOKUP(tblSalaries[[#This Row],[Currency]],[1]!tblXrate[#Data],2,FALSE)","v":75000},"Business Analyst","Analyst","USA",{"$f":"VLOOKUP(tblSalaries[[#This Row],[Where do you work]],[1]!tblCountries[[Actual]:[Mapping]],2,FALSE)","v":"USA"},"2 to 3 hours per day",1.5]
["ID1445","2012-05-30T10:57:38",102000,"USD",{"$f":"tblSalaries[[#This Row],[clean Salary (in local currency)]]*VLOOKUP(tblSalaries[[#This Row],[Currency]],[1]!tblXrate[#Data],2,FALSE)","v":102000},"Sales Analyst","Analyst","USA",{"$f":"VLOOKUP(tblSalaries[[#This Row],[Where do you work]],[1]!tblCountries[[Actual]:[Mapping]],2,FALSE)","v":"USA"},"4 to 6 hours a day",5]
["ID1446","2012-05-30T11:20:33",60000,"MYR",{"$f":"tblSalaries[[#This Row],[clean Salary (in local currency)]]*VLOOKUP(tblSalaries[[#This Row],[Currency]],[1]!tblXrate[#Data],2,FALSE)","v":19008.034062397041},"Liquidity Management Executive","Manager","Malaysia",{"$f":"VLOOKUP(tblSalaries[[#This Row],[Where do you work]],[1]!tblCountries[[Actual]:[Mapping]],2,FALSE)","v":"malaysia"},"4 to 6 hours a day",3]
["ID1447","2012-05-30T11:38:53",4356,"USD",{"$f":"tblSalaries[[#This Row],[clean Salary (in local currency)]]*VLOOKUP(tblSalaries[[#This Row],[Currency]],[1]!tblXrate[#Data],2,FALSE)","v":4356},"Business Analyst","Analyst","India",{"$f":"VLOOKUP(tblSalaries[[#This Row],[Where do you work]],[1]!tblCountries[[Actual]:[Mapping]],2,FALSE)","v":"India"},"4 to 6 hours a day",5]
["ID1448","2012-05-30T11:43:50",300000,"INR",{"$f":"tblSalaries[[#This Row],[clean Salary (in local currency)]]*VLOOKUP(tblSalaries[[#This Row],[Currency]],[1]!tblXrate[#Data],2,FALSE)","v":5342.3750062327708},"accountant","Accountant","India",{"$f":"VLOOKUP(tblSalaries[[#This Row],[Where do you work]],[1]!tblCountries[[Actual]:[Mapping]],2,FALSE)","v":"India"},"4 to 6 hours a day",4]
["ID1449","2012-05-30T12:12:38",67000,"USD",{"$f":"tblSalaries[[#This Row],[clean Salary (in local currency)]]*VLOOKUP(tblSalaries[[#This Row],[Currency]],[1]!tblXrate[#Data],2,FALSE)","v":67000},"accounting systems manager ","Manager","USA",{"$f":"VLOOKUP(tblSalaries[[#This Row],[Where do you work]],[1]!tblCountries[[Actual]:[Mapping]],2,FALSE)","v":"USA"},"2 to 3 hours per day",20]
["ID1450","2012-05-30T12:25:23",480000,"INR",{"$f":"tblSalaries[[#This Row],[clean Salary (in local currency)]]*VLOOKUP(tblSalaries[[#This Row],[Currency]],[1]!tblXrate[#Data],2,FALSE)","v":8547.8000099724322},"Performance Analyst","Analyst","India",{"$f":"VLOOKUP(tblSalaries[[#This Row],[Where do you work]],[1]!tblCountries[[Actual]:[Mapping]],2,FALSE)","v":"India"},"4 to 6 hours a day",7]
["ID1451","2012-05-30T12:35:08",900000,"INR",{"$f":"tblSalaries[[#This Row],[clean Salary (in local currency)]]*VLOOKUP(tblSalaries[[#This Row],[Currency]],[1]!tblXrate[#Data],2,FALSE)","v":16027.125018698311},"Data Analyst","Analyst","India",{"$f":"VLOOKUP(tblSalaries[[#This Row],[Where do you work]],[1]!tblCountries[[Actual]:[Mapping]],2,FALSE)","v":"India"},"4 to 6 hours a day",4]
["ID1452","2012-05-30T12:56:38",600000,"INR",{"$f":"tblSalaries[[#This Row],[clean Salary (in local currency)]]*VLOOKUP(tblSalaries[[#This Row],[Currency]],[1]!tblXrate[#Data],2,FALSE)","v":10684.750012465542},"consultant","Consultant","India",{"$f":"VLOOKUP(tblSalaries[[#This Row],[Where do you work]],[1]!tblCountries[[Actual]:[Mapping]],2,FALSE)","v":"India"},"2 to 3 hours per day",36]
["ID1453","2012-05-30T13:06:12",30000,"USD",{"$f":"tblSalaries[[#This Row],[clean Salary (in local currency)]]*VLOOKUP(tblSalaries[[#This Row],[Currency]],[1]!tblXrate[#Data],2,FALSE)","v":30000},"Accounting Specialist","Accountant","UAE",{"$f":"VLOOKUP(tblSalaries[[#This Row],[Where do you work]],[1]!tblCountries[[Actual]:[Mapping]],2,FALSE)","v":"UAE"},"4 to 6 hours a day",8]
["ID1454","2012-05-30T13:21:06",500000,"INR",{"$f":"tblSalaries[[#This Row],[clean Salary (in local currency)]]*VLOOKUP(tblSalaries[[#This Row],[Currency]],[1]!tblXrate[#Data],2,FALSE)","v":8903.9583437212841},"Project Management","Manager","India",{"$f":"VLOOKUP(tblSalaries[[#This Row],[Where do you work]],[1]!tblCountries[[Actual]:[Mapping]],2,FALSE)","v":"India"},"2 to 3 hours per day",0]
["ID1455","2012-05-30T13:25:12",20000,"USD",{"$f":"tblSalaries[[#This Row],[clean Salary (in local currency)]]*VLOOKUP(tblSalaries[[#This Row],[Currency]],[1]!tblXrate[#Data],2,FALSE)","v":20000},"manager","Manager","India",{"$f":"VLOOKUP(tblSalaries[[#This Row],[Where do you work]],[1]!tblCountries[[Actual]:[Mapping]],2,FALSE)","v":"India"},"Excel ?!? What Excel?",10]
["ID1456","2012-05-30T13:31:35",86000,"AUD",{"$f":"tblSalaries[[#This Row],[clean Salary (in local currency)]]*VLOOKUP(tblSalaries[[#This Row],[Currency]],[1]!tblXrate[#Data],2,FALSE)","v":87712.230450626681},"data analyst","Analyst","Australia",{"$f":"VLOOKUP(tblSalaries[[#This Row],[Where do you work]],[1]!tblCountries[[Actual]:[Mapping]],2,FALSE)","v":"Australia"},"4 to 6 hours a day",10]
["ID1457","2012-05-30T13:36:42",1000000,"INR",{"$f":"tblSalaries[[#This Row],[clean Salary (in local currency)]]*VLOOKUP(tblSalaries[[#This Row],[Currency]],[1]!tblXrate[#Data],2,FALSE)","v":17807.916687442568},"project management","Manager","India",{"$f":"VLOOKUP(tblSalaries[[#This Row],[Where do you work]],[1]!tblCountries[[Actual]:[Mapping]],2,FALSE)","v":"India"},"All the 8 hours baby, all the 8!",6]
["ID1458","2012-05-30T13:36:48",41000,"USD",{"$f":"tblSalaries[[#This Row],[clean Salary (in local currency)]]*VLOOKUP(tblSalaries[[#This Row],[Currency]],[1]!tblXrate[#Data],2,FALSE)","v":41000},"Marketing Analyst","Analyst","Japan",{"$f":"VLOOKUP(tblSalaries[[#This Row],[Where do you work]],[1]!tblCountries[[Actual]:[Mapping]],2,FALSE)","v":"Japan"},"2 to 3 hours per day",2]
["ID1459","2012-05-30T13:41:41",60000,"USD",{"$f":"tblSalaries[[#This Row],[clean Salary (in local currency)]]*VLOOKUP(tblSalaries[[#This Row],[Currency]],[1]!tblXrate[#Data],2,FALSE)","v":60000},"Business Intelligence Supervisor","Manager","USA",{"$f":"VLOOKUP(tblSalaries[[#This Row],[Where do you work]],[1]!tblCountries[[Actual]:[Mapping]],2,FALSE)","v":"USA"},"2 to 3 hours per day",4]
["ID1460","2012-05-30T13:47:51",264000,"ZAR",{"$f":"tblSalaries[[#This Row],[clean Salary (in local currency)]]*VLOOKUP(tblSalaries[[#This Row],[Currency]],[1]!tblXrate[#Data],2,FALSE)","v":32187.34988380854},"Analyst","Analyst","SouthAfrica",{"$f":"VLOOKUP(tblSalaries[[#This Row],[Where do you work]],[1]!tblCountries[[Actual]:[Mapping]],2,FALSE)","v":"South Africa"},"All the 8 hours baby, all the 8!",2]
["ID1461","2012-05-30T13:56:27",50000,"NZD",{"$f":"tblSalaries[[#This Row],[clean Salary (in local currency)]]*VLOOKUP(tblSalaries[[#This Row],[Currency]],[1]!tblXrate[#Data],2,FALSE)","v":39879.404680246938},"stress engineer","Engineer","nld",{"$f":"VLOOKUP(tblSalaries[[#This Row],[Where do you work]],[1]!tblCountries[[Actual]:[Mapping]],2,FALSE)","v":"New Zealand"},"4 to 6 hours a day",5]
["ID1462","2012-05-30T13:56:48",320000,"INR",{"$f":"tblSalaries[[#This Row],[clean Salary (in local currency)]]*VLOOKUP(tblSalaries[[#This Row],[Currency]],[1]!tblXrate[#Data],2,FALSE)","v":5698.5333399816218},"Analyst","Analyst","India",{"$f":"VLOOKUP(tblSalaries[[#This Row],[Where do you work]],[1]!tblCountries[[Actual]:[Mapping]],2,FALSE)","v":"India"},"2 to 3 hours per day",2]
["ID1463","2012-05-30T14:09:10",400000,"INR",{"$f":"tblSalaries[[#This Row],[clean Salary (in local currency)]]*VLOOKUP(tblSalaries[[#This Row],[Currency]],[1]!tblXrate[#Data],2,FALSE)","v":7123.1666749770275},"Reporting Manager","Manager","India",{"$f":"VLOOKUP(tblSalaries[[#This Row],[Where do you work]],[1]!tblCountries[[Actual]:[Mapping]],2,FALSE)","v":"India"},"4 to 6 hours a day",6]
["ID1464","2012-05-30T14:19:07",250000,"INR",{"$f":"tblSalaries[[#This Row],[clean Salary (in local currency)]]*VLOOKUP(tblSalaries[[#This Row],[Currency]],[1]!tblXrate[#Data],2,FALSE)","v":4451.9791718606421},"Manager Commercial","Manager","India",{"$f":"VLOOKUP(tblSalaries[[#This Row],[Where do you work]],[1]!tblCountries[[Actual]:[Mapping]],2,FALSE)","v":"India"},"2 to 3 hours per day",15]
["ID1465","2012-05-30T14:21:57",360000,"INR",{"$f":"tblSalaries[[#This Row],[clean Salary (in local currency)]]*VLOOKUP(tblSalaries[[#This Row],[Currency]],[1]!tblXrate[#Data],2,FALSE)","v":6410.8500074793246},"analyst","Analyst","India",{"$f":"VLOOKUP(tblSalaries[[#This Row],[Where do you work]],[1]!tblCountries[[Actual]:[Mapping]],2,FALSE)","v":"India"},"2 to 3 hours per day",6]
["ID1466","2012-05-30T14:28:57",1150000,"INR",{"$f":"tblSalaries[[#This Row],[clean Salary (in local currency)]]*VLOOKUP(tblSalaries[[#This Row],[Currency]],[1]!tblXrate[#Data],2,FALSE)","v":20479.104190558952},"Project Manager","Manager","India",{"$f":"VLOOKUP(tblSalaries[[#This Row],[Where do you work]],[1]!tblCountries[[Actual]:[Mapping]],2,FALSE)","v":"India"},"All the 8 hours baby, all the 8!",12]
["ID1467","2012-05-30T14:31:33",620000,"INR",{"$f":"tblSalaries[[#This Row],[clean Salary (in local currency)]]*VLOOKUP(tblSalaries[[#This Row],[Currency]],[1]!tblXrate[#Data],2,FALSE)","v":11040.908346214392},"Catalog Auditor","Analyst","India",{"$f":"VLOOKUP(tblSalaries[[#This Row],[Where do you work]],[1]!tblCountries[[Actual]:[Mapping]],2,FALSE)","v":"India"},"1 or 2 hours a day",5]
["ID1468","2012-05-30T15:59:01",1000000,"INR",{"$f":"tblSalaries[[#This Row],[clean Salary (in local currency)]]*VLOOKUP(tblSalaries[[#This Row],[Currency]],[1]!tblXrate[#Data],2,FALSE)","v":17807.916687442568},"Marketing Specialist","Specialist","India",{"$f":"VLOOKUP(tblSalaries[[#This Row],[Where do you work]],[1]!tblCountries[[Actual]:[Mapping]],2,FALSE)","v":"India"},"2 to 3 hours per day",7]
["ID1469","2012-05-30T16:12:34",200000,"INR",{"$f":"tblSalaries[[#This Row],[clean Salary (in local currency)]]*VLOOKUP(tblSalaries[[#This Row],[Currency]],[1]!tblXrate[#Data],2,FALSE)","v":3561.5833374885137},"Executive","Analyst","India",{"$f":"VLOOKUP(tblSalaries[[#This Row],[Where do you work]],[1]!tblCountries[[Actual]:[Mapping]],2,FALSE)","v":"India"},"4 to 6 hours a day",11]
["ID1470","2012-05-30T16:22:19",17000,"GBP",{"$f":"tblSalaries[[#This Row],[clean Salary (in local currency)]]*VLOOKUP(tblSalaries[[#This Row],[Currency]],[1]!tblXrate[#Data],2,FALSE)","v":26795.030625143831},"Verification Agent","Analyst","UK",{"$f":"VLOOKUP(tblSalaries[[#This Row],[Where do you work]],[1]!tblCountries[[Actual]:[Mapping]],2,FALSE)","v":"UK"},"2 to 3 hours per day",5]
["ID1471","2012-05-30T16:48:32",20400,"USD",{"$f":"tblSalaries[[#This Row],[clean Salary (in local currency)]]*VLOOKUP(tblSalaries[[#This Row],[Currency]],[1]!tblXrate[#Data],2,FALSE)","v":20400},"M & E Officer","Manager","Myanmar [Burma]",{"$f":"VLOOKUP(tblSalaries[[#This Row],[Where do you work]],[1]!tblCountries[[Actual]:[Mapping]],2,FALSE)","v":"Myanmar"},"1 or 2 hours a day",10]
["ID1472","2012-05-30T16:49:15",25000,"GBP",{"$f":"tblSalaries[[#This Row],[clean Salary (in local currency)]]*VLOOKUP(tblSalaries[[#This Row],[Currency]],[1]!tblXrate[#Data],2,FALSE)","v":39404.456801682099},"Assistant Financial Accountant","Accountant","UK",{"$f":"VLOOKUP(tblSalaries[[#This Row],[Where do you work]],[1]!tblCountries[[Actual]:[Mapping]],2,FALSE)","v":"UK"},"4 to 6 hours a day",35]
["ID1473","2012-05-30T16:55:51",118000,"EUR",{"$f":"tblSalaries[[#This Row],[clean Salary (in local currency)]]*VLOOKUP(tblSalaries[[#This Row],[Currency]],[1]!tblXrate[#Data],2,FALSE)","v":149907.13380100971},"Support","Analyst","EU",{"$f":"VLOOKUP(tblSalaries[[#This Row],[Where do you work]],[1]!tblCountries[[Actual]:[Mapping]],2,FALSE)","v":"Europe"},"4 to 6 hours a day",7]
["ID1474","2012-05-30T17:01:10",230000,"INR",{"$f":"tblSalaries[[#This Row],[clean Salary (in local currency)]]*VLOOKUP(tblSalaries[[#This Row],[Currency]],[1]!tblXrate[#Data],2,FALSE)","v":4095.8208381117906},"Process Assocaite","Analyst","India",{"$f":"VLOOKUP(tblSalaries[[#This Row],[Where do you work]],[1]!tblCountries[[Actual]:[Mapping]],2,FALSE)","v":"India"},"4 to 6 hours a day",1.6]
["ID1475","2012-05-30T17:04:53",125000,"AUD",{"$f":"tblSalaries[[#This Row],[clean Salary (in local currency)]]*VLOOKUP(tblSalaries[[#This Row],[Currency]],[1]!tblXrate[#Data],2,FALSE)","v":127488.70705032947},"Financial Application Developer","Accountant","Australia",{"$f":"VLOOKUP(tblSalaries[[#This Row],[Where do you work]],[1]!tblCountries[[Actual]:[Mapping]],2,FALSE)","v":"Australia"},"4 to 6 hours a day",7]
["ID1476","2012-05-30T17:07:47",37000,"GBP",{"$f":"tblSalaries[[#This Row],[clean Salary (in local currency)]]*VLOOKUP(tblSalaries[[#This Row],[Currency]],[1]!tblXrate[#Data],2,FALSE)","v":58318.59606648951},"Planning & Scheduling Manager","Manager","UK",{"$f":"VLOOKUP(tblSalaries[[#This Row],[Where do you work]],[1]!tblCountries[[Actual]:[Mapping]],2,FALSE)","v":"UK"},"All the 8 hours baby, all the 8!",20]
["ID1477","2012-05-30T17:14:27",78000,"ZAR",{"$f":"tblSalaries[[#This Row],[clean Salary (in local currency)]]*VLOOKUP(tblSalaries[[#This Row],[Currency]],[1]!tblXrate[#Data],2,FALSE)","v":9509.8988293070688},"Online Stats Controller","Controller","South Africa",{"$f":"VLOOKUP(tblSalaries[[#This Row],[Where do you work]],[1]!tblCountries[[Actual]:[Mapping]],2,FALSE)","v":"South Africa"},"4 to 6 hours a day",2]
["ID1478","2012-05-30T17:18:38",720000,"INR",{"$f":"tblSalaries[[#This Row],[clean Salary (in local currency)]]*VLOOKUP(tblSalaries[[#This Row],[Currency]],[1]!tblXrate[#Data],2,FALSE)","v":12821.700014958649},"DEO","Analyst","India",{"$f":"VLOOKUP(tblSalaries[[#This Row],[Where do you work]],[1]!tblCountries[[Actual]:[Mapping]],2,FALSE)","v":"India"},"4 to 6 hours a day",3]
["ID1479","2012-05-30T18:15:28",4000,"USD",{"$f":"tblSalaries[[#This Row],[clean Salary (in local currency)]]*VLOOKUP(tblSalaries[[#This Row],[Currency]],[1]!tblXrate[#Data],2,FALSE)","v":4000},"M I S Executive","Analyst","India",{"$f":"VLOOKUP(tblSalaries[[#This Row],[Where do you work]],[1]!tblCountries[[Actual]:[Mapping]],2,FALSE)","v":"India"},"All the 8 hours baby, all the 8!",6]
["ID1480","2012-05-30T18:16:05",42000,"USD",{"$f":"tblSalaries[[#This Row],[clean Salary (in local currency)]]*VLOOKUP(tblSalaries[[#This Row],[Currency]],[1]!tblXrate[#Data],2,FALSE)","v":42000},"Service Solution Rep","Analyst","USA",{"$f":"VLOOKUP(tblSalaries[[#This Row],[Where do you work]],[1]!tblCountries[[Actual]:[Mapping]],2,FALSE)","v":"USA"},"All the 8 hours baby, all the 8!",2]
["ID1481","2012-05-30T18:47:17",3200,"USD",{"$f":"tblSalaries[[#This Row],[clean Salary (in local currency)]]*VLOOKUP(tblSalaries[[#This Row],[Currency]],[1]!tblXrate[#Data],2,FALSE)","v":3200},"Regional Business Manager ","Manager","India",{"$f":"VLOOKUP(tblSalaries[[#This Row],[Where do you work]],[1]!tblCountries[[Actual]:[Mapping]],2,FALSE)","v":"India"},"All the 8 hours baby, all the 8!",19]
["ID1482","2012-05-30T18:51:57",60000,"USD",{"$f":"tblSalaries[[#This Row],[clean Salary (in local currency)]]*VLOOKUP(tblSalaries[[#This Row],[Currency]],[1]!tblXrate[#Data],2,FALSE)","v":60000},"sales&marketing","Analyst","turkey",{"$f":"VLOOKUP(tblSalaries[[#This Row],[Where do you work]],[1]!tblCountries[[Actual]:[Mapping]],2,FALSE)","v":"Turkey"},"2 to 3 hours per day",10]
["ID1483","2012-05-30T19:01:20",85000,"USD",{"$f":"tblSalaries[[#This Row],[clean Salary (in local currency)]]*VLOOKUP(tblSalaries[[#This Row],[Currency]],[1]!tblXrate[#Data],2,FALSE)","v":85000},"sr analyst","Analyst","USA",{"$f":"VLOOKUP(tblSalaries[[#This Row],[Where do you work]],[1]!tblCountries[[Actual]:[Mapping]],2,FALSE)","v":"USA"},"4 to 6 hours a day",9]
["ID1484","2012-05-30T19:04:44",109000,"USD",{"$f":"tblSalaries[[#This Row],[clean Salary (in local currency)]]*VLOOKUP(tblSalaries[[#This Row],[Currency]],[1]!tblXrate[#Data],2,FALSE)","v":109000},"Mgr Technology","Manager","USA",{"$f":"VLOOKUP(tblSalaries[[#This Row],[Where do you work]],[1]!tblCountries[[Actual]:[Mapping]],2,FALSE)","v":"USA"},"4 to 6 hours a day",15]
["ID1485","2012-05-30T19:27:35",60000,"EUR",{"$f":"tblSalaries[[#This Row],[clean Salary (in local currency)]]*VLOOKUP(tblSalaries[[#This Row],[Currency]],[1]!tblXrate[#Data],2,FALSE)","v":76223.966339496474},"Sales Analyst","Analyst","Italy",{"$f":"VLOOKUP(tblSalaries[[#This Row],[Where do you work]],[1]!tblCountries[[Actual]:[Mapping]],2,FALSE)","v":"italy"},"All the 8 hours baby, all the 8!",14]
["ID1486","2012-05-30T19:42:50",77000,"USD",{"$f":"tblSalaries[[#This Row],[clean Salary (in local currency)]]*VLOOKUP(tblSalaries[[#This Row],[Currency]],[1]!tblXrate[#Data],2,FALSE)","v":77000},"Chemical Engineer","Engineer","USA",{"$f":"VLOOKUP(tblSalaries[[#This Row],[Where do you work]],[1]!tblCountries[[Actual]:[Mapping]],2,FALSE)","v":"USA"},"2 to 3 hours per day",13]
["ID1487","2012-05-30T19:43:43",25000,"USD",{"$f":"tblSalaries[[#This Row],[clean Salary (in local currency)]]*VLOOKUP(tblSalaries[[#This Row],[Currency]],[1]!tblXrate[#Data],2,FALSE)","v":25000},"data analyst","Analyst","India",{"$f":"VLOOKUP(tblSalaries[[#This Row],[Where do you work]],[1]!tblCountries[[Actual]:[Mapping]],2,FALSE)","v":"India"},"All the 8 hours baby, all the 8!",4]
["ID1488","2012-05-30T20:19:51",64000,"USD",{"$f":"tblSalaries[[#This Row],[clean Salary (in local currency)]]*VLOOKUP(tblSalaries[[#This Row],[Currency]],[1]!tblXrate[#Data],2,FALSE)","v":64000},"Program Manager","Manager","USA",{"$f":"VLOOKUP(tblSalaries[[#This Row],[Where do you work]],[1]!tblCountries[[Actual]:[Mapping]],2,FALSE)","v":"USA"},"2 to 3 hours per day",12]
["ID1489","2012-05-30T20:26:10",146633,"GBP",{"$f":"tblSalaries[[#This Row],[clean Salary (in local currency)]]*VLOOKUP(tblSalaries[[#This Row],[Currency]],[1]!tblXrate[#Data],2,FALSE)","v":231119.74856804207},"Senior Planning Engineer","Engineer","UK",{"$f":"VLOOKUP(tblSalaries[[#This Row],[Where do you work]],[1]!tblCountries[[Actual]:[Mapping]],2,FALSE)","v":"UK"},"2 to 3 hours per day",10]
["ID1490","2012-05-30T20:40:45",76000,"USD",{"$f":"tblSalaries[[#This Row],[clean Salary (in local currency)]]*VLOOKUP(tblSalaries[[#This Row],[Currency]],[1]!tblXrate[#Data],2,FALSE)","v":76000},"Sr. Analyst","Analyst","USA",{"$f":"VLOOKUP(tblSalaries[[#This Row],[Where do you work]],[1]!tblCountries[[Actual]:[Mapping]],2,FALSE)","v":"USA"},"All the 8 hours baby, all the 8!",10]
["ID1491","2012-05-30T20:42:27",10000,"GBP",{"$f":"tblSalaries[[#This Row],[clean Salary (in local currency)]]*VLOOKUP(tblSalaries[[#This Row],[Currency]],[1]!tblXrate[#Data],2,FALSE)","v":15761.782720672842},"Analyst","Analyst","UK",{"$f":"VLOOKUP(tblSalaries[[#This Row],[Where do you work]],[1]!tblCountries[[Actual]:[Mapping]],2,FALSE)","v":"UK"},"2 to 3 hours per day",8]
["ID1492","2012-05-30T20:42:47",165000,"AUD",{"$f":"tblSalaries[[#This Row],[clean Salary (in local currency)]]*VLOOKUP(tblSalaries[[#This Row],[Currency]],[1]!tblXrate[#Data],2,FALSE)","v":168285.09330643489},"Engineer","Engineer","Australia",{"$f":"VLOOKUP(tblSalaries[[#This Row],[Where do you work]],[1]!tblCountries[[Actual]:[Mapping]],2,FALSE)","v":"Australia"},"2 to 3 hours per day",17]
["ID1493","2012-05-30T20:47:55",50000,"USD",{"$f":"tblSalaries[[#This Row],[clean Salary (in local currency)]]*VLOOKUP(tblSalaries[[#This Row],[Currency]],[1]!tblXrate[#Data],2,FALSE)","v":50000},"Sr. Financial Analyst","Analyst","Kuwait",{"$f":"VLOOKUP(tblSalaries[[#This Row],[Where do you work]],[1]!tblCountries[[Actual]:[Mapping]],2,FALSE)","v":"Kuwait"},"4 to 6 hours a day",13]
["ID1494","2012-05-30T20:53:12",7200,"USD",{"$f":"tblSalaries[[#This Row],[clean Salary (in local currency)]]*VLOOKUP(tblSalaries[[#This Row],[Currency]],[1]!tblXrate[#Data],2,FALSE)","v":7200},"control process auxiliary","Controller","Colombia",{"$f":"VLOOKUP(tblSalaries[[#This Row],[Where do you work]],[1]!tblCountries[[Actual]:[Mapping]],2,FALSE)","v":"Colombia"},"4 to 6 hours a day",8]
["ID1495","2012-05-30T21:07:54",42000,"EUR",{"$f":"tblSalaries[[#This Row],[clean Salary (in local currency)]]*VLOOKUP(tblSalaries[[#This Row],[Currency]],[1]!tblXrate[#Data],2,FALSE)","v":53356.776437647524},"Business Intelligence Consultant","Consultant","Germany",{"$f":"VLOOKUP(tblSalaries[[#This Row],[Where do you work]],[1]!tblCountries[[Actual]:[Mapping]],2,FALSE)","v":"Germany"},"All the 8 hours baby, all the 8!",7]
["ID1496","2012-05-30T21:19:31",45000,"USD",{"$f":"tblSalaries[[#This Row],[clean Salary (in local currency)]]*VLOOKUP(tblSalaries[[#This Row],[Currency]],[1]!tblXrate[#Data],2,FALSE)","v":45000},"Data Specialist","Specialist","USA",{"$f":"VLOOKUP(tblSalaries[[#This Row],[Where do you work]],[1]!tblCountries[[Actual]:[Mapping]],2,FALSE)","v":"USA"},"2 to 3 hours per day",10]
["ID1497","2012-05-30T21:26:04",5000,"USD",{"$f":"tblSalaries[[#This Row],[clean Salary (in local currency)]]*VLOOKUP(tblSalaries[[#This Row],[Currency]],[1]!tblXrate[#Data],2,FALSE)","v":5000},"Officer MIS","Manager","India",{"$f":"VLOOKUP(tblSalaries[[#This Row],[Where do you work]],[1]!tblCountries[[Actual]:[Mapping]],2,FALSE)","v":"India"},"All the 8 hours baby, all the 8!",4]
["ID1498","2012-05-30T21:45:06",74000,"AUD",{"$f":"tblSalaries[[#This Row],[clean Salary (in local currency)]]*VLOOKUP(tblSalaries[[#This Row],[Currency]],[1]!tblXrate[#Data],2,FALSE)","v":75473.31457379504},"operations Administrator","Analyst","Australia",{"$f":"VLOOKUP(tblSalaries[[#This Row],[Where do you work]],[1]!tblCountries[[Actual]:[Mapping]],2,FALSE)","v":"Australia"},"All the 8 hours baby, all the 8!",20]
["ID1499","2012-05-30T22:11:21",15000,"USD",{"$f":"tblSalaries[[#This Row],[clean Salary (in local currency)]]*VLOOKUP(tblSalaries[[#This Row],[Currency]],[1]!tblXrate[#Data],2,FALSE)","v":15000},"Manager","Manager","Romania",{"$f":"VLOOKUP(tblSalaries[[#This Row],[Where do you work]],[1]!tblCountries[[Actual]:[Mapping]],2,FALSE)","v":"Romania"},"2 to 3 hours per day",5]
["ID1500","2012-05-30T22:31:33",33500,"EUR",{"$f":"tblSalaries[[#This Row],[clean Salary (in local currency)]]*VLOOKUP(tblSalaries[[#This Row],[Currency]],[1]!tblXrate[#Data],2,FALSE)","v":42558.381206218859},"Controller / VBA Developet","Controller","Germany",{"$f":"VLOOKUP(tblSalaries[[#This Row],[Where do you work]],[1]!tblCountries[[Actual]:[Mapping]],2,FALSE)","v":"Germany"},"All the 8 hours baby, all the 8!",8]
["ID1501","2012-05-30T22:31:35",61000,"USD",{"$f":"tblSalaries[[#This Row],[clean Salary (in local currency)]]*VLOOKUP(tblSalaries[[#This Row],[Currency]],[1]!tblXrate[#Data],2,FALSE)","v":61000},"Financial Analyst","Analyst","USA",{"$f":"VLOOKUP(tblSalaries[[#This Row],[Where do you work]],[1]!tblCountries[[Actual]:[Mapping]],2,FALSE)","v":"USA"},"4 to 6 hours a day",5]
["ID1502","2012-05-30T22:32:21",66000,"USD",{"$f":"tblSalaries[[#This Row],[clean Salary (in local currency)]]*VLOOKUP(tblSalaries[[#This Row],[Currency]],[1]!tblXrate[#Data],2,FALSE)","v":66000},"Director of Business Analytics","Analyst","USA",{"$f":"VLOOKUP(tblSalaries[[#This Row],[Where do you work]],[1]!tblCountries[[Actual]:[Mapping]],2,FALSE)","v":"USA"},"4 to 6 hours a day",2]
["ID1503","2012-05-30T22:59:44",278000,"INR",{"$f":"tblSalaries[[#This Row],[clean Salary (in local currency)]]*VLOOKUP(tblSalaries[[#This Row],[Currency]],[1]!tblXrate[#Data],2,FALSE)","v":4950.6008391090336},"MIS Executive","Reporting","India",{"$f":"VLOOKUP(tblSalaries[[#This Row],[Where do you work]],[1]!tblCountries[[Actual]:[Mapping]],2,FALSE)","v":"India"},"All the 8 hours baby, all the 8!",8]
["ID1504","2012-05-30T23:01:48",55000,"USD",{"$f":"tblSalaries[[#This Row],[clean Salary (in local currency)]]*VLOOKUP(tblSalaries[[#This Row],[Currency]],[1]!tblXrate[#Data],2,FALSE)","v":55000},"Supplier Manager","Manager","USA",{"$f":"VLOOKUP(tblSalaries[[#This Row],[Where do you work]],[1]!tblCountries[[Actual]:[Mapping]],2,FALSE)","v":"USA"},"2 to 3 hours per day",14]
["ID1505","2012-05-30T23:26:00",32000,"USD",{"$f":"tblSalaries[[#This Row],[clean Salary (in local currency)]]*VLOOKUP(tblSalaries[[#This Row],[Currency]],[1]!tblXrate[#Data],2,FALSE)","v":32000},"Reports Writer","Reporting","USA",{"$f":"VLOOKUP(tblSalaries[[#This Row],[Where do you work]],[1]!tblCountries[[Actual]:[Mapping]],2,FALSE)","v":"USA"},"4 to 6 hours a day",10]
["ID1506","2012-05-30T23:29:58",18000,"USD",{"$f":"tblSalaries[[#This Row],[clean Salary (in local currency)]]*VLOOKUP(tblSalaries[[#This Row],[Currency]],[1]!tblXrate[#Data],2,FALSE)","v":18000},"Process Associate","Analyst","India",{"$f":"VLOOKUP(tblSalaries[[#This Row],[Where do you work]],[1]!tblCountries[[Actual]:[Mapping]],2,FALSE)","v":"India"},"All the 8 hours baby, all the 8!",6]
["ID1507","2012-05-30T23:59:22",650000,"INR",{"$f":"tblSalaries[[#This Row],[clean Salary (in local currency)]]*VLOOKUP(tblSalaries[[#This Row],[Currency]],[1]!tblXrate[#Data],2,FALSE)","v":11575.14584683767},"HR/ADMINISTRATION","Analyst","India",{"$f":"VLOOKUP(tblSalaries[[#This Row],[Where do you work]],[1]!tblCountries[[Actual]:[Mapping]],2,FALSE)","v":"India"},"4 to 6 hours a day",21]
["ID1508","2012-05-31T00:36:30",50000,"EUR",{"$f":"tblSalaries[[#This Row],[clean Salary (in local currency)]]*VLOOKUP(tblSalaries[[#This Row],[Currency]],[1]!tblXrate[#Data],2,FALSE)","v":63519.971949580387},"accountant","Accountant","italy",{"$f":"VLOOKUP(tblSalaries[[#This Row],[Where do you work]],[1]!tblCountries[[Actual]:[Mapping]],2,FALSE)","v":"italy"},"All the 8 hours baby, all the 8!",15]
["ID1509","2012-05-31T00:46:55",4000000,"INR",{"$f":"tblSalaries[[#This Row],[clean Salary (in local currency)]]*VLOOKUP(tblSalaries[[#This Row],[Currency]],[1]!tblXrate[#Data],2,FALSE)","v":71231.666749770273},"Operational Specialist","Specialist","India",{"$f":"VLOOKUP(tblSalaries[[#This Row],[Where do you work]],[1]!tblCountries[[Actual]:[Mapping]],2,FALSE)","v":"India"},"All the 8 hours baby, all the 8!",5]
["ID1510","2012-05-31T01:09:06",10000,"USD",{"$f":"tblSalaries[[#This Row],[clean Salary (in local currency)]]*VLOOKUP(tblSalaries[[#This Row],[Currency]],[1]!tblXrate[#Data],2,FALSE)","v":10000},"Trainee","Analyst","Brazil",{"$f":"VLOOKUP(tblSalaries[[#This Row],[Where do you work]],[1]!tblCountries[[Actual]:[Mapping]],2,FALSE)","v":"Brazil"},"4 to 6 hours a day",1]
["ID1511","2012-05-31T01:17:16",74300,"USD",{"$f":"tblSalaries[[#This Row],[clean Salary (in local currency)]]*VLOOKUP(tblSalaries[[#This Row],[Currency]],[1]!tblXrate[#Data],2,FALSE)","v":74300},"Senior Business Research Analyst","Analyst","USA",{"$f":"VLOOKUP(tblSalaries[[#This Row],[Where do you work]],[1]!tblCountries[[Actual]:[Mapping]],2,FALSE)","v":"USA"},"4 to 6 hours a day",3]
["ID1512","2012-05-31T01:17:48",1500000,"INR",{"$f":"tblSalaries[[#This Row],[clean Salary (in local currency)]]*VLOOKUP(tblSalaries[[#This Row],[Currency]],[1]!tblXrate[#Data],2,FALSE)","v":26711.875031163851},"Senior Consultant - PMO","Consultant","India",{"$f":"VLOOKUP(tblSalaries[[#This Row],[Where do you work]],[1]!tblCountries[[Actual]:[Mapping]],2,FALSE)","v":"India"},"4 to 6 hours a day",10]
["ID1513","2012-05-31T01:45:48",536000,"INR",{"$f":"tblSalaries[[#This Row],[clean Salary (in local currency)]]*VLOOKUP(tblSalaries[[#This Row],[Currency]],[1]!tblXrate[#Data],2,FALSE)","v":9545.0433444692171},"Team Lead","Manager","India",{"$f":"VLOOKUP(tblSalaries[[#This Row],[Where do you work]],[1]!tblCountries[[Actual]:[Mapping]],2,FALSE)","v":"India"},"4 to 6 hours a day",4]
["ID1514","2012-05-31T01:50:26",95000,"USD",{"$f":"tblSalaries[[#This Row],[clean Salary (in local currency)]]*VLOOKUP(tblSalaries[[#This Row],[Currency]],[1]!tblXrate[#Data],2,FALSE)","v":95000},"Sr Financial Analyst","Analyst","USA",{"$f":"VLOOKUP(tblSalaries[[#This Row],[Where do you work]],[1]!tblCountries[[Actual]:[Mapping]],2,FALSE)","v":"USA"},"4 to 6 hours a day",15]
["ID1515","2012-05-31T02:24:37",64300,"USD",{"$f":"tblSalaries[[#This Row],[clean Salary (in local currency)]]*VLOOKUP(tblSalaries[[#This Row],[Currency]],[1]!tblXrate[#Data],2,FALSE)","v":64300},"Financial Analst","Accountant","USA",{"$f":"VLOOKUP(tblSalaries[[#This Row],[Where do you work]],[1]!tblCountries[[Actual]:[Mapping]],2,FALSE)","v":"USA"},"4 to 6 hours a day",15]
["ID1516","2012-05-31T02:37:09",250000,"USD",{"$f":"tblSalaries[[#This Row],[clean Salary (in local currency)]]*VLOOKUP(tblSalaries[[#This Row],[Currency]],[1]!tblXrate[#Data],2,FALSE)","v":250000},"consultant","Consultant","USA",{"$f":"VLOOKUP(tblSalaries[[#This Row],[Where do you work]],[1]!tblCountries[[Actual]:[Mapping]],2,FALSE)","v":"USA"},"All the 8 hours baby, all the 8!",20]
["ID1519","2012-05-31T03:07:09",89000,"USD",{"$f":"tblSalaries[[#This Row],[clean Salary (in local currency)]]*VLOOKUP(tblSalaries[[#This Row],[Currency]],[1]!tblXrate[#Data],2,FALSE)","v":89000},"Finance Manager","Manager","USA",{"$f":"VLOOKUP(tblSalaries[[#This Row],[Where do you work]],[1]!tblCountries[[Actual]:[Mapping]],2,FALSE)","v":"USA"},"2 to 3 hours per day",10]
["ID1520","2012-05-31T04:12:19",75000,"USD",{"$f":"tblSalaries[[#This Row],[clean Salary (in local currency)]]*VLOOKUP(tblSalaries[[#This Row],[Currency]],[1]!tblXrate[#Data],2,FALSE)","v":75000},"Financial Analyst","Analyst","USA",{"$f":"VLOOKUP(tblSalaries[[#This Row],[Where do you work]],[1]!tblCountries[[Actual]:[Mapping]],2,FALSE)","v":"USA"},"All the 8 hours baby, all the 8!",1.5]
["ID1521","2012-05-31T05:02:59",45000,"USD",{"$f":"tblSalaries[[#This Row],[clean Salary (in local currency)]]*VLOOKUP(tblSalaries[[#This Row],[Currency]],[1]!tblXrate[#Data],2,FALSE)","v":45000},"Excel Business Analyst","Analyst","USA",{"$f":"VLOOKUP(tblSalaries[[#This Row],[Where do you work]],[1]!tblCountries[[Actual]:[Mapping]],2,FALSE)","v":"USA"},"All the 8 hours baby, all the 8!",5]
["ID1522","2012-05-31T05:23:58",127500,"USD",{"$f":"tblSalaries[[#This Row],[clean Salary (in local currency)]]*VLOOKUP(tblSalaries[[#This Row],[Currency]],[1]!tblXrate[#Data],2,FALSE)","v":127500},"SVP","CXO or Top Mgmt.","USA",{"$f":"VLOOKUP(tblSalaries[[#This Row],[Where do you work]],[1]!tblCountries[[Actual]:[Mapping]],2,FALSE)","v":"USA"},"All the 8 hours baby, all the 8!",22]
["ID1523","2012-05-31T05:31:54",170000,"USD",{"$f":"tblSalaries[[#This Row],[clean Salary (in local currency)]]*VLOOKUP(tblSalaries[[#This Row],[Currency]],[1]!tblXrate[#Data],2,FALSE)","v":170000},"CFO","CXO or Top Mgmt.","USA",{"$f":"VLOOKUP(tblSalaries[[#This Row],[Where do you work]],[1]!tblCountries[[Actual]:[Mapping]],2,FALSE)","v":"USA"},"2 to 3 hours per day",18]
["ID1524","2012-05-31T05:37:29",9600,"USD",{"$f":"tblSalaries[[#This Row],[clean Salary (in local currency)]]*VLOOKUP(tblSalaries[[#This Row],[Currency]],[1]!tblXrate[#Data],2,FALSE)","v":9600},"Reporting Analyst","Analyst","Bolivia",{"$f":"VLOOKUP(tblSalaries[[#This Row],[Where do you work]],[1]!tblCountries[[Actual]:[Mapping]],2,FALSE)","v":"Bolivia"},"All the 8 hours baby, all the 8!",2]
["ID1525","2012-05-31T06:13:42",62000,"USD",{"$f":"tblSalaries[[#This Row],[clean Salary (in local currency)]]*VLOOKUP(tblSalaries[[#This Row],[Currency]],[1]!tblXrate[#Data],2,FALSE)","v":62000},"info analyst","Analyst","USA",{"$f":"VLOOKUP(tblSalaries[[#This Row],[Where do you work]],[1]!tblCountries[[Actual]:[Mapping]],2,FALSE)","v":"USA"},"All the 8 hours baby, all the 8!",27]
["ID1526","2012-05-31T06:23:09",22000,"USD",{"$f":"tblSalaries[[#This Row],[clean Salary (in local currency)]]*VLOOKUP(tblSalaries[[#This Row],[Currency]],[1]!tblXrate[#Data],2,FALSE)","v":22000},"Data Manager","Manager","USA",{"$f":"VLOOKUP(tblSalaries[[#This Row],[Where do you work]],[1]!tblCountries[[Actual]:[Mapping]],2,FALSE)","v":"USA"},"4 to 6 hours a day",3]
["ID1527","2012-05-31T06:23:55",45000,"USD",{"$f":"tblSalaries[[#This Row],[clean Salary (in local currency)]]*VLOOKUP(tblSalaries[[#This Row],[Currency]],[1]!tblXrate[#Data],2,FALSE)","v":45000},"Business Analyst","Analyst","USA",{"$f":"VLOOKUP(tblSalaries[[#This Row],[Where do you work]],[1]!tblCountries[[Actual]:[Mapping]],2,FALSE)","v":"USA"},"4 to 6 hours a day",8]
["ID1528","2012-05-31T07:17:36",145000,"USD",{"$f":"tblSalaries[[#This Row],[clean Salary (in local currency)]]*VLOOKUP(tblSalaries[[#This Row],[Currency]],[1]!tblXrate[#Data],2,FALSE)","v":145000},"Associate","Analyst","USA",{"$f":"VLOOKUP(tblSalaries[[#This Row],[Where do you work]],[1]!tblCountries[[Actual]:[Mapping]],2,FALSE)","v":"USA"},"4 to 6 hours a day",6]
["ID1529","2012-05-31T08:20:03",89000,"USD",{"$f":"tblSalaries[[#This Row],[clean Salary (in local currency)]]*VLOOKUP(tblSalaries[[#This Row],[Currency]],[1]!tblXrate[#Data],2,FALSE)","v":89000},"BI Analyst","Analyst","USA",{"$f":"VLOOKUP(tblSalaries[[#This Row],[Where do you work]],[1]!tblCountries[[Actual]:[Mapping]],2,FALSE)","v":"USA"},"All the 8 hours baby, all the 8!",14]
["ID1530","2012-05-31T09:28:05",38000,"USD",{"$f":"tblSalaries[[#This Row],[clean Salary (in local currency)]]*VLOOKUP(tblSalaries[[#This Row],[Currency]],[1]!tblXrate[#Data],2,FALSE)","v":38000},"Accountant","Accountant","USA",{"$f":"VLOOKUP(tblSalaries[[#This Row],[Where do you work]],[1]!tblCountries[[Actual]:[Mapping]],2,FALSE)","v":"USA"},"4 to 6 hours a day",11]
["ID1531","2012-05-31T09:45:09",50000,"CAD",{"$f":"tblSalaries[[#This Row],[clean Salary (in local currency)]]*VLOOKUP(tblSalaries[[#This Row],[Currency]],[1]!tblXrate[#Data],2,FALSE)","v":49168.076151516347},"Business Analyst","Analyst","Canada",{"$f":"VLOOKUP(tblSalaries[[#This Row],[Where do you work]],[1]!tblCountries[[Actual]:[Mapping]],2,FALSE)","v":"Canada"},"4 to 6 hours a day",3]
["ID1532","2012-05-31T10:29:42",500000,"INR",{"$f":"tblSalaries[[#This Row],[clean Salary (in local currency)]]*VLOOKUP(tblSalaries[[#This Row],[Currency]],[1]!tblXrate[#Data],2,FALSE)","v":8903.9583437212841},"Developer","Analyst","India",{"$f":"VLOOKUP(tblSalaries[[#This Row],[Where do you work]],[1]!tblCountries[[Actual]:[Mapping]],2,FALSE)","v":"India"},"4 to 6 hours a day",8]
["ID1533","2012-05-31T10:33:07",10000,"USD",{"$f":"tblSalaries[[#This Row],[clean Salary (in local currency)]]*VLOOKUP(tblSalaries[[#This Row],[Currency]],[1]!tblXrate[#Data],2,FALSE)","v":10000},"Project management","Manager","Vietnam",{"$f":"VLOOKUP(tblSalaries[[#This Row],[Where do you work]],[1]!tblCountries[[Actual]:[Mapping]],2,FALSE)","v":"Vietnam"},"2 to 3 hours per day",8]
["ID1534","2012-05-31T10:37:38",105000,"USD",{"$f":"tblSalaries[[#This Row],[clean Salary (in local currency)]]*VLOOKUP(tblSalaries[[#This Row],[Currency]],[1]!tblXrate[#Data],2,FALSE)","v":105000},"Business Banker","Manager","USA",{"$f":"VLOOKUP(tblSalaries[[#This Row],[Where do you work]],[1]!tblCountries[[Actual]:[Mapping]],2,FALSE)","v":"USA"},"1 or 2 hours a day",30]
["ID1535","2012-05-31T10:54:48",12000,"USD",{"$f":"tblSalaries[[#This Row],[clean Salary (in local currency)]]*VLOOKUP(tblSalaries[[#This Row],[Currency]],[1]!tblXrate[#Data],2,FALSE)","v":12000},"Associate Analyst","Analyst","MYS",{"$f":"VLOOKUP(tblSalaries[[#This Row],[Where do you work]],[1]!tblCountries[[Actual]:[Mapping]],2,FALSE)","v":"MYS"},"2 to 3 hours per day",0]
["ID1536","2012-05-31T11:08:38",200000,"INR",{"$f":"tblSalaries[[#This Row],[clean Salary (in local currency)]]*VLOOKUP(tblSalaries[[#This Row],[Currency]],[1]!tblXrate[#Data],2,FALSE)","v":3561.5833374885137},"Accounts Executive","Accountant","India",{"$f":"VLOOKUP(tblSalaries[[#This Row],[Where do you work]],[1]!tblCountries[[Actual]:[Mapping]],2,FALSE)","v":"India"},"All the 8 hours baby, all the 8!",3]
["ID1537","2012-05-31T13:25:49",85000,"AUD",{"$f":"tblSalaries[[#This Row],[clean Salary (in local currency)]]*VLOOKUP(tblSalaries[[#This Row],[Currency]],[1]!tblXrate[#Data],2,FALSE)","v":86692.320794224041},"Demand Planner","Analyst","Australia",{"$f":"VLOOKUP(tblSalaries[[#This Row],[Where do you work]],[1]!tblCountries[[Actual]:[Mapping]],2,FALSE)","v":"Australia"},"1 or 2 hours a day",5]
["ID1539","2012-05-31T16:00:16",8000,"USD",{"$f":"tblSalaries[[#This Row],[clean Salary (in local currency)]]*VLOOKUP(tblSalaries[[#This Row],[Currency]],[1]!tblXrate[#Data],2,FALSE)","v":8000},"Owner","CXO or Top Mgmt.","India",{"$f":"VLOOKUP(tblSalaries[[#This Row],[Where do you work]],[1]!tblCountries[[Actual]:[Mapping]],2,FALSE)","v":"India"},"4 to 6 hours a day",18]
["ID1540","2012-05-31T16:10:28",380000,"INR",{"$f":"tblSalaries[[#This Row],[clean Salary (in local currency)]]*VLOOKUP(tblSalaries[[#This Row],[Currency]],[1]!tblXrate[#Data],2,FALSE)","v":6767.0083412281756},"reporting analyst","Analyst","India",{"$f":"VLOOKUP(tblSalaries[[#This Row],[Where do you work]],[1]!tblCountries[[Actual]:[Mapping]],2,FALSE)","v":"India"},"2 to 3 hours per day",6]
["ID1541","2012-05-31T16:16:11",30500,"GBP",{"$f":"tblSalaries[[#This Row],[clean Salary (in local currency)]]*VLOOKUP(tblSalaries[[#This Row],[Currency]],[1]!tblXrate[#Data],2,FALSE)","v":48073.437298052166},"Construction Estimator","Consultant","UK",{"$f":"VLOOKUP(tblSalaries[[#This Row],[Where do you work]],[1]!tblCountries[[Actual]:[Mapping]],2,FALSE)","v":"UK"},"4 to 6 hours a day",14]
["ID1542","2012-05-31T16:25:23",60000,"EUR",{"$f":"tblSalaries[[#This Row],[clean Salary (in local currency)]]*VLOOKUP(tblSalaries[[#This Row],[Currency]],[1]!tblXrate[#Data],2,FALSE)","v":76223.966339496474},"Trade Marketing","Manager","NL",{"$f":"VLOOKUP(tblSalaries[[#This Row],[Where do you work]],[1]!tblCountries[[Actual]:[Mapping]],2,FALSE)","v":"Netherlands"},"2 to 3 hours per day",15]
["ID1543","2012-05-31T16:25:24",320000,"SAR",{"$f":"tblSalaries[[#This Row],[clean Salary (in local currency)]]*VLOOKUP(tblSalaries[[#This Row],[Currency]],[1]!tblXrate[#Data],2,FALSE)","v":85333.333333333328},"Merchandise Planning Manager","Manager","Saudi Arabia",{"$f":"VLOOKUP(tblSalaries[[#This Row],[Where do you work]],[1]!tblCountries[[Actual]:[Mapping]],2,FALSE)","v":"Saudi Arabia"},"2 to 3 hours per day",15]
["ID1544","2012-05-31T16:30:09",48360,"GBP",{"$f":"tblSalaries[[#This Row],[clean Salary (in local currency)]]*VLOOKUP(tblSalaries[[#This Row],[Currency]],[1]!tblXrate[#Data],2,FALSE)","v":76223.981237173866},"pricing manager","Manager","UK",{"$f":"VLOOKUP(tblSalaries[[#This Row],[Where do you work]],[1]!tblCountries[[Actual]:[Mapping]],2,FALSE)","v":"UK"},"All the 8 hours baby, all the 8!",8]
["ID1545","2012-05-31T17:08:59",30000,"USD",{"$f":"tblSalaries[[#This Row],[clean Salary (in local currency)]]*VLOOKUP(tblSalaries[[#This Row],[Currency]],[1]!tblXrate[#Data],2,FALSE)","v":30000},"Marketing Services Manager","Manager","Pakistan",{"$f":"VLOOKUP(tblSalaries[[#This Row],[Where do you work]],[1]!tblCountries[[Actual]:[Mapping]],2,FALSE)","v":"Pakistan"},"4 to 6 hours a day",5]
["ID1546","2012-05-31T17:21:45",34000,"USD",{"$f":"tblSalaries[[#This Row],[clean Salary (in local currency)]]*VLOOKUP(tblSalaries[[#This Row],[Currency]],[1]!tblXrate[#Data],2,FALSE)","v":34000},"Sr Analyst","Analyst","India",{"$f":"VLOOKUP(tblSalaries[[#This Row],[Where do you work]],[1]!tblCountries[[Actual]:[Mapping]],2,FALSE)","v":"India"},"All the 8 hours baby, all the 8!",4]
["ID1547","2012-05-31T17:34:34",180000,"INR",{"$f":"tblSalaries[[#This Row],[clean Salary (in local currency)]]*VLOOKUP(tblSalaries[[#This Row],[Currency]],[1]!tblXrate[#Data],2,FALSE)","v":3205.4250037396623},"Asst Store Manager","Manager","India",{"$f":"VLOOKUP(tblSalaries[[#This Row],[Where do you work]],[1]!tblCountries[[Actual]:[Mapping]],2,FALSE)","v":"India"},"4 to 6 hours a day",5]
["ID1548","2012-05-31T17:35:33",45000,"USD",{"$f":"tblSalaries[[#This Row],[clean Salary (in local currency)]]*VLOOKUP(tblSalaries[[#This Row],[Currency]],[1]!tblXrate[#Data],2,FALSE)","v":45000},"Junior Reporting Manager","Manager","Germany",{"$f":"VLOOKUP(tblSalaries[[#This Row],[Where do you work]],[1]!tblCountries[[Actual]:[Mapping]],2,FALSE)","v":"Germany"},"2 to 3 hours per day",5]
["ID1549","2012-05-31T18:35:30",24864,"USD",{"$f":"tblSalaries[[#This Row],[clean Salary (in local currency)]]*VLOOKUP(tblSalaries[[#This Row],[Currency]],[1]!tblXrate[#Data],2,FALSE)","v":24864},"Brand manager","Manager","Libya",{"$f":"VLOOKUP(tblSalaries[[#This Row],[Where do you work]],[1]!tblCountries[[Actual]:[Mapping]],2,FALSE)","v":"Libya"},"All the 8 hours baby, all the 8!",8]
["ID1550","2012-05-31T19:51:29",30000,"GBP",{"$f":"tblSalaries[[#This Row],[clean Salary (in local currency)]]*VLOOKUP(tblSalaries[[#This Row],[Currency]],[1]!tblXrate[#Data],2,FALSE)","v":47285.348162018527},"Cost Analyst","Analyst","UK",{"$f":"VLOOKUP(tblSalaries[[#This Row],[Where do you work]],[1]!tblCountries[[Actual]:[Mapping]],2,FALSE)","v":"UK"},"4 to 6 hours a day",7]
["ID1551","2012-05-31T20:13:27",1000000,"INR",{"$f":"tblSalaries[[#This Row],[clean Salary (in local currency)]]*VLOOKUP(tblSalaries[[#This Row],[Currency]],[1]!tblXrate[#Data],2,FALSE)","v":17807.916687442568},"Financial analyst","Analyst","India",{"$f":"VLOOKUP(tblSalaries[[#This Row],[Where do you work]],[1]!tblCountries[[Actual]:[Mapping]],2,FALSE)","v":"India"},"All the 8 hours baby, all the 8!",10]
["ID1552","2012-05-31T20:14:20",35000,"GBP",{"$f":"tblSalaries[[#This Row],[clean Salary (in local currency)]]*VLOOKUP(tblSalaries[[#This Row],[Currency]],[1]!tblXrate[#Data],2,FALSE)","v":55166.239522354947},"Research Analyst","Analyst","UK",{"$f":"VLOOKUP(tblSalaries[[#This Row],[Where do you work]],[1]!tblCountries[[Actual]:[Mapping]],2,FALSE)","v":"UK"},"4 to 6 hours a day",3]
["ID1553","2012-05-31T21:05:02",55000,"EUR",{"$f":"tblSalaries[[#This Row],[clean Salary (in local currency)]]*VLOOKUP(tblSalaries[[#This Row],[Currency]],[1]!tblXrate[#Data],2,FALSE)","v":69871.969144538423},"Risk Officer","Manager","The Netherlands",{"$f":"VLOOKUP(tblSalaries[[#This Row],[Where do you work]],[1]!tblCountries[[Actual]:[Mapping]],2,FALSE)","v":"Netherlands"},"1 or 2 hours a day",5]
["ID1554","2012-05-31T21:06:45",70970,"USD",{"$f":"tblSalaries[[#This Row],[clean Salary (in local currency)]]*VLOOKUP(tblSalaries[[#This Row],[Currency]],[1]!tblXrate[#Data],2,FALSE)","v":70970},"Sr. Risk Analyst","Analyst","USA",{"$f":"VLOOKUP(tblSalaries[[#This Row],[Where do you work]],[1]!tblCountries[[Actual]:[Mapping]],2,FALSE)","v":"USA"},"4 to 6 hours a day",17]
["ID1555","2012-05-31T21:45:03",60000,"EUR",{"$f":"tblSalaries[[#This Row],[clean Salary (in local currency)]]*VLOOKUP(tblSalaries[[#This Row],[Currency]],[1]!tblXrate[#Data],2,FALSE)","v":76223.966339496474},"Business Engineer","Engineer","Netherlands",{"$f":"VLOOKUP(tblSalaries[[#This Row],[Where do you work]],[1]!tblCountries[[Actual]:[Mapping]],2,FALSE)","v":"Netherlands"},"4 to 6 hours a day",7]
["ID1556","2012-05-31T21:47:37",110000,"USD",{"$f":"tblSalaries[[#This Row],[clean Salary (in local currency)]]*VLOOKUP(tblSalaries[[#This Row],[Currency]],[1]!tblXrate[#Data],2,FALSE)","v":110000},"Business Controller","Controller","Norway",{"$f":"VLOOKUP(tblSalaries[[#This Row],[Where do you work]],[1]!tblCountries[[Actual]:[Mapping]],2,FALSE)","v":"Norway"},"All the 8 hours baby, all the 8!",5]
["ID1557","2012-05-31T21:48:35",14400,"USD",{"$f":"tblSalaries[[#This Row],[clean Salary (in local currency)]]*VLOOKUP(tblSalaries[[#This Row],[Currency]],[1]!tblXrate[#Data],2,FALSE)","v":14400},"FA /financial Analyst","Analyst","Bulgaria",{"$f":"VLOOKUP(tblSalaries[[#This Row],[Where do you work]],[1]!tblCountries[[Actual]:[Mapping]],2,FALSE)","v":"Bulgaria"},"All the 8 hours baby, all the 8!",15]
["ID1558","2012-05-31T22:05:03",125000,"USD",{"$f":"tblSalaries[[#This Row],[clean Salary (in local currency)]]*VLOOKUP(tblSalaries[[#This Row],[Currency]],[1]!tblXrate[#Data],2,FALSE)","v":125000},"Consultant","Consultant","USA",{"$f":"VLOOKUP(tblSalaries[[#This Row],[Where do you work]],[1]!tblCountries[[Actual]:[Mapping]],2,FALSE)","v":"USA"},"All the 8 hours baby, all the 8!",8]
["ID1559","2012-05-31T22:06:59",74000,"CAD",{"$f":"tblSalaries[[#This Row],[clean Salary (in local currency)]]*VLOOKUP(tblSalaries[[#This Row],[Currency]],[1]!tblXrate[#Data],2,FALSE)","v":72768.752704244194},"Operations Analyst","Analyst","Canada",{"$f":"VLOOKUP(tblSalaries[[#This Row],[Where do you work]],[1]!tblCountries[[Actual]:[Mapping]],2,FALSE)","v":"Canada"},"4 to 6 hours a day",10]
["ID1560","2012-05-31T22:56:21",59000,"USD",{"$f":"tblSalaries[[#This Row],[clean Salary (in local currency)]]*VLOOKUP(tblSalaries[[#This Row],[Currency]],[1]!tblXrate[#Data],2,FALSE)","v":59000},"Operations Manager","Manager","USA",{"$f":"VLOOKUP(tblSalaries[[#This Row],[Where do you work]],[1]!tblCountries[[Actual]:[Mapping]],2,FALSE)","v":"USA"},"4 to 6 hours a day",15]
["ID1561","2012-05-31T23:08:12",71500,"USD",{"$f":"tblSalaries[[#This Row],[clean Salary (in local currency)]]*VLOOKUP(tblSalaries[[#This Row],[Currency]],[1]!tblXrate[#Data],2,FALSE)","v":71500},"Management Reporting Analyst","Analyst","USA",{"$f":"VLOOKUP(tblSalaries[[#This Row],[Where do you work]],[1]!tblCountries[[Actual]:[Mapping]],2,FALSE)","v":"USA"},"4 to 6 hours a day",5]
["ID1562","2012-05-31T23:09:08",25000,"GBP",{"$f":"tblSalaries[[#This Row],[clean Salary (in local currency)]]*VLOOKUP(tblSalaries[[#This Row],[Currency]],[1]!tblXrate[#Data],2,FALSE)","v":39404.456801682099},"Reporting Team Lead","Reporting","UK",{"$f":"VLOOKUP(tblSalaries[[#This Row],[Where do you work]],[1]!tblCountries[[Actual]:[Mapping]],2,FALSE)","v":"UK"},"4 to 6 hours a day",2]
["ID1563","2012-05-31T23:10:44",70000,"EUR",{"$f":"tblSalaries[[#This Row],[clean Salary (in local currency)]]*VLOOKUP(tblSalaries[[#This Row],[Currency]],[1]!tblXrate[#Data],2,FALSE)","v":88927.960729412545},"Specialist Learning Technology","Specialist","Germany",{"$f":"VLOOKUP(tblSalaries[[#This Row],[Where do you work]],[1]!tblCountries[[Actual]:[Mapping]],2,FALSE)","v":"Germany"},"1 or 2 hours a day",5]
["ID1564","2012-05-31T23:48:36",90000,"USD",{"$f":"tblSalaries[[#This Row],[clean Salary (in local currency)]]*VLOOKUP(tblSalaries[[#This Row],[Currency]],[1]!tblXrate[#Data],2,FALSE)","v":90000},"Operationsl Regional Manager","Manager","USA",{"$f":"VLOOKUP(tblSalaries[[#This Row],[Where do you work]],[1]!tblCountries[[Actual]:[Mapping]],2,FALSE)","v":"USA"},"4 to 6 hours a day",25]
["ID1565","2012-06-01T00:02:34",700000,"INR",{"$f":"tblSalaries[[#This Row],[clean Salary (in local currency)]]*VLOOKUP(tblSalaries[[#This Row],[Currency]],[1]!tblXrate[#Data],2,FALSE)","v":12465.541681209797},"Manager - Business Development","Manager","India",{"$f":"VLOOKUP(tblSalaries[[#This Row],[Where do you work]],[1]!tblCountries[[Actual]:[Mapping]],2,FALSE)","v":"India"},"All the 8 hours baby, all the 8!",30]
["ID1566","2012-06-01T00:18:35",40000,"USD",{"$f":"tblSalaries[[#This Row],[clean Salary (in local currency)]]*VLOOKUP(tblSalaries[[#This Row],[Currency]],[1]!tblXrate[#Data],2,FALSE)","v":40000},"QA Data Analyst","Analyst","USA",{"$f":"VLOOKUP(tblSalaries[[#This Row],[Where do you work]],[1]!tblCountries[[Actual]:[Mapping]],2,FALSE)","v":"USA"},"4 to 6 hours a day",8]
["ID1567","2012-06-01T00:23:54",30000,"USD",{"$f":"tblSalaries[[#This Row],[clean Salary (in local currency)]]*VLOOKUP(tblSalaries[[#This Row],[Currency]],[1]!tblXrate[#Data],2,FALSE)","v":30000},"SME","Analyst","India",{"$f":"VLOOKUP(tblSalaries[[#This Row],[Where do you work]],[1]!tblCountries[[Actual]:[Mapping]],2,FALSE)","v":"India"},"All the 8 hours baby, all the 8!",4]
["ID1569","2012-06-01T01:29:02",46325,"USD",{"$f":"tblSalaries[[#This Row],[clean Salary (in local currency)]]*VLOOKUP(tblSalaries[[#This Row],[Currency]],[1]!tblXrate[#Data],2,FALSE)","v":46325},"Work Force Scheduler for Call Center","Controller","USA",{"$f":"VLOOKUP(tblSalaries[[#This Row],[Where do you work]],[1]!tblCountries[[Actual]:[Mapping]],2,FALSE)","v":"USA"},"4 to 6 hours a day",1]
["ID1570","2012-06-01T01:47:43",15000,"USD",{"$f":"tblSalaries[[#This Row],[clean Salary (in local currency)]]*VLOOKUP(tblSalaries[[#This Row],[Currency]],[1]!tblXrate[#Data],2,FALSE)","v":15000},"Application Developer","Analyst","USA",{"$f":"VLOOKUP(tblSalaries[[#This Row],[Where do you work]],[1]!tblCountries[[Actual]:[Mapping]],2,FALSE)","v":"USA"},"All the 8 hours baby, all the 8!",8]
["ID1571","2012-06-01T02:33:02",31200,"USD",{"$f":"tblSalaries[[#This Row],[clean Salary (in local currency)]]*VLOOKUP(tblSalaries[[#This Row],[Currency]],[1]!tblXrate[#Data],2,FALSE)","v":31200},"Data Analyst","Analyst","USA",{"$f":"VLOOKUP(tblSalaries[[#This Row],[Where do you work]],[1]!tblCountries[[Actual]:[Mapping]],2,FALSE)","v":"USA"},"4 to 6 hours a day",15]
["ID1572","2012-06-01T02:46:21",500000,"INR",{"$f":"tblSalaries[[#This Row],[clean Salary (in local currency)]]*VLOOKUP(tblSalaries[[#This Row],[Currency]],[1]!tblXrate[#Data],2,FALSE)","v":8903.9583437212841},"Sr. Associate","Analyst","India",{"$f":"VLOOKUP(tblSalaries[[#This Row],[Where do you work]],[1]!tblCountries[[Actual]:[Mapping]],2,FALSE)","v":"India"},"4 to 6 hours a day",9]
["ID1573","2012-06-01T03:01:04",15840,"USD",{"$f":"tblSalaries[[#This Row],[clean Salary (in local currency)]]*VLOOKUP(tblSalaries[[#This Row],[Currency]],[1]!tblXrate[#Data],2,FALSE)","v":15840},"Asistente","Analyst","Peru",{"$f":"VLOOKUP(tblSalaries[[#This Row],[Where do you work]],[1]!tblCountries[[Actual]:[Mapping]],2,FALSE)","v":"Peru"},"All the 8 hours baby, all the 8!",8]
["ID1574","2012-06-01T03:07:31",850000,"INR",{"$f":"tblSalaries[[#This Row],[clean Salary (in local currency)]]*VLOOKUP(tblSalaries[[#This Row],[Currency]],[1]!tblXrate[#Data],2,FALSE)","v":15136.729184326183},"Sr Business analyst","Analyst","India",{"$f":"VLOOKUP(tblSalaries[[#This Row],[Where do you work]],[1]!tblCountries[[Actual]:[Mapping]],2,FALSE)","v":"India"},"4 to 6 hours a day",5]
["ID1575","2012-06-01T04:10:52",41000,"USD",{"$f":"tblSalaries[[#This Row],[clean Salary (in local currency)]]*VLOOKUP(tblSalaries[[#This Row],[Currency]],[1]!tblXrate[#Data],2,FALSE)","v":41000},"Excel Developer","Consultant","USA",{"$f":"VLOOKUP(tblSalaries[[#This Row],[Where do you work]],[1]!tblCountries[[Actual]:[Mapping]],2,FALSE)","v":"USA"},"4 to 6 hours a day",10]
["ID1576","2012-06-01T04:44:29",11000,"USD",{"$f":"tblSalaries[[#This Row],[clean Salary (in local currency)]]*VLOOKUP(tblSalaries[[#This Row],[Currency]],[1]!tblXrate[#Data],2,FALSE)","v":11000},"Coordinator","Manager","MÃ©xico",{"$f":"VLOOKUP(tblSalaries[[#This Row],[Where do you work]],[1]!tblCountries[[Actual]:[Mapping]],2,FALSE)","v":"Mexico"},"4 to 6 hours a day",2]
["ID1577","2012-06-01T05:32:31",35000,"GBP",{"$f":"tblSalaries[[#This Row],[clean Salary (in local currency)]]*VLOOKUP(tblSalaries[[#This Row],[Currency]],[1]!tblXrate[#Data],2,FALSE)","v":55166.239522354947},"finance director","CXO or Top Mgmt.","UK",{"$f":"VLOOKUP(tblSalaries[[#This Row],[Where do you work]],[1]!tblCountries[[Actual]:[Mapping]],2,FALSE)","v":"UK"},"2 to 3 hours per day",30]
["ID1578","2012-06-01T05:37:32",240000,"PHP",{"$f":"tblSalaries[[#This Row],[clean Salary (in local currency)]]*VLOOKUP(tblSalaries[[#This Row],[Currency]],[1]!tblXrate[#Data],2,FALSE)","v":5689.2125418690484},"IT Coordinator","Manager","Philippines",{"$f":"VLOOKUP(tblSalaries[[#This Row],[Where do you work]],[1]!tblCountries[[Actual]:[Mapping]],2,FALSE)","v":"Philippines"},"4 to 6 hours a day",15]
["ID1579","2012-06-01T05:52:11",17728,"USD",{"$f":"tblSalaries[[#This Row],[clean Salary (in local currency)]]*VLOOKUP(tblSalaries[[#This Row],[Currency]],[1]!tblXrate[#Data],2,FALSE)","v":17728},"Financial analyst","Analyst","Mexico",{"$f":"VLOOKUP(tblSalaries[[#This Row],[Where do you work]],[1]!tblCountries[[Actual]:[Mapping]],2,FALSE)","v":"Mexico"},"4 to 6 hours a day",3]
["ID1580","2012-06-01T05:56:20",120000,"MAD",{"$f":"tblSalaries[[#This Row],[clean Salary (in local currency)]]*VLOOKUP(tblSalaries[[#This Row],[Currency]],[1]!tblXrate[#Data],2,FALSE)","v":13745.704467353951},"Supply chain Controller","Controller","Morocco",{"$f":"VLOOKUP(tblSalaries[[#This Row],[Where do you work]],[1]!tblCountries[[Actual]:[Mapping]],2,FALSE)","v":"Morocco"},"All the 8 hours baby, all the 8!",8]
["ID1581","2012-06-01T06:17:19",50000,"USD",{"$f":"tblSalaries[[#This Row],[clean Salary (in local currency)]]*VLOOKUP(tblSalaries[[#This Row],[Currency]],[1]!tblXrate[#Data],2,FALSE)","v":50000},"Staff Accountant","Accountant","USA",{"$f":"VLOOKUP(tblSalaries[[#This Row],[Where do you work]],[1]!tblCountries[[Actual]:[Mapping]],2,FALSE)","v":"USA"},"4 to 6 hours a day",15]
["ID1582","2012-06-01T06:31:49",80000,"CAD",{"$f":"tblSalaries[[#This Row],[clean Salary (in local currency)]]*VLOOKUP(tblSalaries[[#This Row],[Currency]],[1]!tblXrate[#Data],2,FALSE)","v":78668.921842426149},"Business Operations Analyst","Analyst","Canada",{"$f":"VLOOKUP(tblSalaries[[#This Row],[Where do you work]],[1]!tblCountries[[Actual]:[Mapping]],2,FALSE)","v":"Canada"},"4 to 6 hours a day",7]
["ID1583","2012-06-01T06:53:52",85000,"USD",{"$f":"tblSalaries[[#This Row],[clean Salary (in local currency)]]*VLOOKUP(tblSalaries[[#This Row],[Currency]],[1]!tblXrate[#Data],2,FALSE)","v":85000},"Sr Report Developer","Reporting","USA",{"$f":"VLOOKUP(tblSalaries[[#This Row],[Where do you work]],[1]!tblCountries[[Actual]:[Mapping]],2,FALSE)","v":"USA"},"4 to 6 hours a day",10]
["ID1584","2012-06-01T07:22:36",100000,"AUD",{"$f":"tblSalaries[[#This Row],[clean Salary (in local currency)]]*VLOOKUP(tblSalaries[[#This Row],[Currency]],[1]!tblXrate[#Data],2,FALSE)","v":101990.96564026357},"Management Accountant","Manager","Australia",{"$f":"VLOOKUP(tblSalaries[[#This Row],[Where do you work]],[1]!tblCountries[[Actual]:[Mapping]],2,FALSE)","v":"Australia"},"4 to 6 hours a day",20]
["ID1585","2012-06-01T08:06:34",5650000,"INR",{"$f":"tblSalaries[[#This Row],[clean Salary (in local currency)]]*VLOOKUP(tblSalaries[[#This Row],[Currency]],[1]!tblXrate[#Data],2,FALSE)","v":100614.72928405051},"MIS","Reporting","India",{"$f":"VLOOKUP(tblSalaries[[#This Row],[Where do you work]],[1]!tblCountries[[Actual]:[Mapping]],2,FALSE)","v":"India"},"2 to 3 hours per day",6]
["ID1586","2012-06-01T08:52:31",85000,"AUD",{"$f":"tblSalaries[[#This Row],[clean Salary (in local currency)]]*VLOOKUP(tblSalaries[[#This Row],[Currency]],[1]!tblXrate[#Data],2,FALSE)","v":86692.320794224041},"Administrator","Analyst","Australia",{"$f":"VLOOKUP(tblSalaries[[#This Row],[Where do you work]],[1]!tblCountries[[Actual]:[Mapping]],2,FALSE)","v":"Australia"},"4 to 6 hours a day",30]
["ID1587","2012-06-01T10:55:27",120000,"AUD",{"$f":"tblSalaries[[#This Row],[clean Salary (in local currency)]]*VLOOKUP(tblSalaries[[#This Row],[Currency]],[1]!tblXrate[#Data],2,FALSE)","v":122389.15876831629},"Reporting Analyst","Analyst","Australia",{"$f":"VLOOKUP(tblSalaries[[#This Row],[Where do you work]],[1]!tblCountries[[Actual]:[Mapping]],2,FALSE)","v":"Australia"},"2 to 3 hours per day",5]
["ID1588","2012-06-01T10:57:59",360000,"INR",{"$f":"tblSalaries[[#This Row],[clean Salary (in local currency)]]*VLOOKUP(tblSalaries[[#This Row],[Currency]],[1]!tblXrate[#Data],2,FALSE)","v":6410.8500074793246},"team leader ","Manager","India",{"$f":"VLOOKUP(tblSalaries[[#This Row],[Where do you work]],[1]!tblCountries[[Actual]:[Mapping]],2,FALSE)","v":"India"},"2 to 3 hours per day",8]
["ID1589","2012-06-01T13:03:18",44000,"USD",{"$f":"tblSalaries[[#This Row],[clean Salary (in local currency)]]*VLOOKUP(tblSalaries[[#This Row],[Currency]],[1]!tblXrate[#Data],2,FALSE)","v":44000},"Quality Assurance Analyst","Analyst","USA",{"$f":"VLOOKUP(tblSalaries[[#This Row],[Where do you work]],[1]!tblCountries[[Actual]:[Mapping]],2,FALSE)","v":"USA"},"4 to 6 hours a day",3.5]
["ID1590","2012-06-01T14:32:41",250000,"INR",{"$f":"tblSalaries[[#This Row],[clean Salary (in local currency)]]*VLOOKUP(tblSalaries[[#This Row],[Currency]],[1]!tblXrate[#Data],2,FALSE)","v":4451.9791718606421},"Analytics engineer","Engineer","India",{"$f":"VLOOKUP(tblSalaries[[#This Row],[Where do you work]],[1]!tblCountries[[Actual]:[Mapping]],2,FALSE)","v":"India"},"4 to 6 hours a day",2.5]
["ID1591","2012-06-01T14:50:41",4500,"USD",{"$f":"tblSalaries[[#This Row],[clean Salary (in local currency)]]*VLOOKUP(tblSalaries[[#This Row],[Currency]],[1]!tblXrate[#Data],2,FALSE)","v":4500},"Assistant Manger Service Quality Assurance","Analyst","Pakistan",{"$f":"VLOOKUP(tblSalaries[[#This Row],[Where do you work]],[1]!tblCountries[[Actual]:[Mapping]],2,FALSE)","v":"Pakistan"},"4 to 6 hours a day",6]
["ID1592","2012-06-01T15:09:27",1700000,"INR",{"$f":"tblSalaries[[#This Row],[clean Salary (in local currency)]]*VLOOKUP(tblSalaries[[#This Row],[Currency]],[1]!tblXrate[#Data],2,FALSE)","v":30273.458368652366},"AVP","CXO or Top Mgmt.","India",{"$f":"VLOOKUP(tblSalaries[[#This Row],[Where do you work]],[1]!tblCountries[[Actual]:[Mapping]],2,FALSE)","v":"India"},"4 to 6 hours a day",6]
["ID1593","2012-06-01T15:39:20",52000,"USD",{"$f":"tblSalaries[[#This Row],[clean Salary (in local currency)]]*VLOOKUP(tblSalaries[[#This Row],[Currency]],[1]!tblXrate[#Data],2,FALSE)","v":52000},"Planner","Analyst","USA",{"$f":"VLOOKUP(tblSalaries[[#This Row],[Where do you work]],[1]!tblCountries[[Actual]:[Mapping]],2,FALSE)","v":"USA"},"All the 8 hours baby, all the 8!",5]
["ID1594","2012-06-01T18:08:07",75000,"USD",{"$f":"tblSalaries[[#This Row],[clean Salary (in local currency)]]*VLOOKUP(tblSalaries[[#This Row],[Currency]],[1]!tblXrate[#Data],2,FALSE)","v":75000},"Consultant","Consultant","Germany",{"$f":"VLOOKUP(tblSalaries[[#This Row],[Where do you work]],[1]!tblCountries[[Actual]:[Mapping]],2,FALSE)","v":"Germany"},"2 to 3 hours per day",9]
["ID1595","2012-06-01T18:18:31",1000000,"INR",{"$f":"tblSalaries[[#This Row],[clean Salary (in local currency)]]*VLOOKUP(tblSalaries[[#This Row],[Currency]],[1]!tblXrate[#Data],2,FALSE)","v":17807.916687442568},"Senior Analyst","Analyst","India",{"$f":"VLOOKUP(tblSalaries[[#This Row],[Where do you work]],[1]!tblCountries[[Actual]:[Mapping]],2,FALSE)","v":"India"},"All the 8 hours baby, all the 8!",4]
["ID1596","2012-06-01T18:58:42",177600,"USD",{"$f":"tblSalaries[[#This Row],[clean Salary (in local currency)]]*VLOOKUP(tblSalaries[[#This Row],[Currency]],[1]!tblXrate[#Data],2,FALSE)","v":177600},"Accountant","Accountant","Lesotho",{"$f":"VLOOKUP(tblSalaries[[#This Row],[Where do you work]],[1]!tblCountries[[Actual]:[Mapping]],2,FALSE)","v":"Lesotho"},"4 to 6 hours a day",6]
["ID1597","2012-06-01T19:42:46",650000,"INR",{"$f":"tblSalaries[[#This Row],[clean Salary (in local currency)]]*VLOOKUP(tblSalaries[[#This Row],[Currency]],[1]!tblXrate[#Data],2,FALSE)","v":11575.14584683767},"Associate","Analyst","India",{"$f":"VLOOKUP(tblSalaries[[#This Row],[Where do you work]],[1]!tblCountries[[Actual]:[Mapping]],2,FALSE)","v":"India"},"4 to 6 hours a day",5]
["ID1598","2012-06-01T19:46:33",21000,"EUR",{"$f":"tblSalaries[[#This Row],[clean Salary (in local currency)]]*VLOOKUP(tblSalaries[[#This Row],[Currency]],[1]!tblXrate[#Data],2,FALSE)","v":26678.388218823762},"Coordenador PeÃ§as Grupo","Manager","Portugal",{"$f":"VLOOKUP(tblSalaries[[#This Row],[Where do you work]],[1]!tblCountries[[Actual]:[Mapping]],2,FALSE)","v":"Portugal"},"4 to 6 hours a day",10]
["ID1600","2012-06-01T19:57:45",80000,"GBP",{"$f":"tblSalaries[[#This Row],[clean Salary (in local currency)]]*VLOOKUP(tblSalaries[[#This Row],[Currency]],[1]!tblXrate[#Data],2,FALSE)","v":126094.26176538273},"Owner of Business Improvement Consultancy","Consultant","UK",{"$f":"VLOOKUP(tblSalaries[[#This Row],[Where do you work]],[1]!tblCountries[[Actual]:[Mapping]],2,FALSE)","v":"UK"},"4 to 6 hours a day",12]
["ID1601","2012-06-01T20:12:22",6000,"USD",{"$f":"tblSalaries[[#This Row],[clean Salary (in local currency)]]*VLOOKUP(tblSalaries[[#This Row],[Currency]],[1]!tblXrate[#Data],2,FALSE)","v":6000},"Business Analyst","Analyst","India",{"$f":"VLOOKUP(tblSalaries[[#This Row],[Where do you work]],[1]!tblCountries[[Actual]:[Mapping]],2,FALSE)","v":"India"},"4 to 6 hours a day",2]
["ID1602","2012-06-01T20:27:23",10000,"USD",{"$f":"tblSalaries[[#This Row],[clean Salary (in local currency)]]*VLOOKUP(tblSalaries[[#This Row],[Currency]],[1]!tblXrate[#Data],2,FALSE)","v":10000},"MIS","Reporting","India",{"$f":"VLOOKUP(tblSalaries[[#This Row],[Where do you work]],[1]!tblCountries[[Actual]:[Mapping]],2,FALSE)","v":"India"},"All the 8 hours baby, all the 8!",6]
["ID1603","2012-06-01T20:37:53",50000,"USD",{"$f":"tblSalaries[[#This Row],[clean Salary (in local currency)]]*VLOOKUP(tblSalaries[[#This Row],[Currency]],[1]!tblXrate[#Data],2,FALSE)","v":50000},"Sales Operations Analyst","Analyst","USA",{"$f":"VLOOKUP(tblSalaries[[#This Row],[Where do you work]],[1]!tblCountries[[Actual]:[Mapping]],2,FALSE)","v":"USA"},"All the 8 hours baby, all the 8!",2]
["ID1604","2012-06-01T20:38:57",10000,"USD",{"$f":"tblSalaries[[#This Row],[clean Salary (in local currency)]]*VLOOKUP(tblSalaries[[#This Row],[Currency]],[1]!tblXrate[#Data],2,FALSE)","v":10000},"dgm","Manager","India",{"$f":"VLOOKUP(tblSalaries[[#This Row],[Where do you work]],[1]!tblCountries[[Actual]:[Mapping]],2,FALSE)","v":"India"},"All the 8 hours baby, all the 8!",12]
["ID1605","2012-06-01T20:53:08",50000,"USD",{"$f":"tblSalaries[[#This Row],[clean Salary (in local currency)]]*VLOOKUP(tblSalaries[[#This Row],[Currency]],[1]!tblXrate[#Data],2,FALSE)","v":50000},"Catalog Circulation Analyst","Analyst","USA",{"$f":"VLOOKUP(tblSalaries[[#This Row],[Where do you work]],[1]!tblCountries[[Actual]:[Mapping]],2,FALSE)","v":"USA"},"All the 8 hours baby, all the 8!",12]
["ID1606","2012-06-01T22:20:26",20000,"USD",{"$f":"tblSalaries[[#This Row],[clean Salary (in local currency)]]*VLOOKUP(tblSalaries[[#This Row],[Currency]],[1]!tblXrate[#Data],2,FALSE)","v":20000},"Manager","Manager","India",{"$f":"VLOOKUP(tblSalaries[[#This Row],[Where do you work]],[1]!tblCountries[[Actual]:[Mapping]],2,FALSE)","v":"India"},"4 to 6 hours a day",1]
["ID1607","2012-06-01T23:29:43",20000,"GBP",{"$f":"tblSalaries[[#This Row],[clean Salary (in local currency)]]*VLOOKUP(tblSalaries[[#This Row],[Currency]],[1]!tblXrate[#Data],2,FALSE)","v":31523.565441345683},"Operations Analyst","Analyst","UK",{"$f":"VLOOKUP(tblSalaries[[#This Row],[Where do you work]],[1]!tblCountries[[Actual]:[Mapping]],2,FALSE)","v":"UK"},"All the 8 hours baby, all the 8!",3]
["ID1608","2012-06-02T01:29:04",50000,"EUR",{"$f":"tblSalaries[[#This Row],[clean Salary (in local currency)]]*VLOOKUP(tblSalaries[[#This Row],[Currency]],[1]!tblXrate[#Data],2,FALSE)","v":63519.971949580387},"Controller","Controller","Netherlands",{"$f":"VLOOKUP(tblSalaries[[#This Row],[Where do you work]],[1]!tblCountries[[Actual]:[Mapping]],2,FALSE)","v":"Netherlands"},"4 to 6 hours a day",10]
["ID1609","2012-06-02T01:43:24",27600,"EUR",{"$f":"tblSalaries[[#This Row],[clean Salary (in local currency)]]*VLOOKUP(tblSalaries[[#This Row],[Currency]],[1]!tblXrate[#Data],2,FALSE)","v":35063.024516168378},"controller","Controller","Hungary",{"$f":"VLOOKUP(tblSalaries[[#This Row],[Where do you work]],[1]!tblCountries[[Actual]:[Mapping]],2,FALSE)","v":"Hungary"},"All the 8 hours baby, all the 8!",15]
["ID1610","2012-06-02T02:24:39",55000,"USD",{"$f":"tblSalaries[[#This Row],[clean Salary (in local currency)]]*VLOOKUP(tblSalaries[[#This Row],[Currency]],[1]!tblXrate[#Data],2,FALSE)","v":55000},"Business Analyst","Analyst","USA",{"$f":"VLOOKUP(tblSalaries[[#This Row],[Where do you work]],[1]!tblCountries[[Actual]:[Mapping]],2,FALSE)","v":"USA"},"4 to 6 hours a day",2]
["ID1611","2012-06-02T02:28:30",38000,"USD",{"$f":"tblSalaries[[#This Row],[clean Salary (in local currency)]]*VLOOKUP(tblSalaries[[#This Row],[Currency]],[1]!tblXrate[#Data],2,FALSE)","v":38000},"Business Analyst","Analyst","USA",{"$f":"VLOOKUP(tblSalaries[[#This Row],[Where do you work]],[1]!tblCountries[[Actual]:[Mapping]],2,FALSE)","v":"USA"},"All the 8 hours baby, all the 8!",1]
["ID1612","2012-06-02T03:08:50",1800000,"INR",{"$f":"tblSalaries[[#This Row],[clean Salary (in local currency)]]*VLOOKUP(tblSalaries[[#This Row],[Currency]],[1]!tblXrate[#Data],2,FALSE)","v":32054.250037396621},"analyst","Analyst","India",{"$f":"VLOOKUP(tblSalaries[[#This Row],[Where do you work]],[1]!tblCountries[[Actual]:[Mapping]],2,FALSE)","v":"India"},"All the 8 hours baby, all the 8!",1]
["ID1613","2012-06-02T03:13:57",35500,"USD",{"$f":"tblSalaries[[#This Row],[clean Salary (in local currency)]]*VLOOKUP(tblSalaries[[#This Row],[Currency]],[1]!tblXrate[#Data],2,FALSE)","v":35500},"SAS Adminstrator","Analyst","USA",{"$f":"VLOOKUP(tblSalaries[[#This Row],[Where do you work]],[1]!tblCountries[[Actual]:[Mapping]],2,FALSE)","v":"USA"},"4 to 6 hours a day",20]
["ID1614","2012-06-02T03:23:09",62000,"USD",{"$f":"tblSalaries[[#This Row],[clean Salary (in local currency)]]*VLOOKUP(tblSalaries[[#This Row],[Currency]],[1]!tblXrate[#Data],2,FALSE)","v":62000},"Financial Analyst","Analyst","USA",{"$f":"VLOOKUP(tblSalaries[[#This Row],[Where do you work]],[1]!tblCountries[[Actual]:[Mapping]],2,FALSE)","v":"USA"},"2 to 3 hours per day",5]
["ID1615","2012-06-02T03:29:19",21500,"GBP",{"$f":"tblSalaries[[#This Row],[clean Salary (in local currency)]]*VLOOKUP(tblSalaries[[#This Row],[Currency]],[1]!tblXrate[#Data],2,FALSE)","v":33887.832849446611},"Data Analyst","Analyst","UK",{"$f":"VLOOKUP(tblSalaries[[#This Row],[Where do you work]],[1]!tblCountries[[Actual]:[Mapping]],2,FALSE)","v":"UK"},"All the 8 hours baby, all the 8!",1]
["ID1616","2012-06-02T04:49:42",60000,"USD",{"$f":"tblSalaries[[#This Row],[clean Salary (in local currency)]]*VLOOKUP(tblSalaries[[#This Row],[Currency]],[1]!tblXrate[#Data],2,FALSE)","v":60000},"Data Analyst","Analyst","USA",{"$f":"VLOOKUP(tblSalaries[[#This Row],[Where do you work]],[1]!tblCountries[[Actual]:[Mapping]],2,FALSE)","v":"USA"},"2 to 3 hours per day",1]
["ID1617","2012-06-02T06:21:45",32884,"USD",{"$f":"tblSalaries[[#This Row],[clean Salary (in local currency)]]*VLOOKUP(tblSalaries[[#This Row],[Currency]],[1]!tblXrate[#Data],2,FALSE)","v":32884},"Administrative Assistant","Analyst","USA",{"$f":"VLOOKUP(tblSalaries[[#This Row],[Where do you work]],[1]!tblCountries[[Actual]:[Mapping]],2,FALSE)","v":"USA"},"All the 8 hours baby, all the 8!",10]
["ID1618","2012-06-02T06:31:21",42000,"USD",{"$f":"tblSalaries[[#This Row],[clean Salary (in local currency)]]*VLOOKUP(tblSalaries[[#This Row],[Currency]],[1]!tblXrate[#Data],2,FALSE)","v":42000},"production clerk","Analyst","USA",{"$f":"VLOOKUP(tblSalaries[[#This Row],[Where do you work]],[1]!tblCountries[[Actual]:[Mapping]],2,FALSE)","v":"USA"},"4 to 6 hours a day",2]
["ID1619","2012-06-02T06:43:25",68000,"USD",{"$f":"tblSalaries[[#This Row],[clean Salary (in local currency)]]*VLOOKUP(tblSalaries[[#This Row],[Currency]],[1]!tblXrate[#Data],2,FALSE)","v":68000},"Supply Chain Analyst","Analyst","USA",{"$f":"VLOOKUP(tblSalaries[[#This Row],[Where do you work]],[1]!tblCountries[[Actual]:[Mapping]],2,FALSE)","v":"USA"},"4 to 6 hours a day",12]
["ID1620","2012-06-02T07:42:02",85000,"USD",{"$f":"tblSalaries[[#This Row],[clean Salary (in local currency)]]*VLOOKUP(tblSalaries[[#This Row],[Currency]],[1]!tblXrate[#Data],2,FALSE)","v":85000},"Senior Accountant","Accountant","USA",{"$f":"VLOOKUP(tblSalaries[[#This Row],[Where do you work]],[1]!tblCountries[[Actual]:[Mapping]],2,FALSE)","v":"USA"},"2 to 3 hours per day",8]
["ID1621","2012-06-02T11:11:18",13000,"USD",{"$f":"tblSalaries[[#This Row],[clean Salary (in local currency)]]*VLOOKUP(tblSalaries[[#This Row],[Currency]],[1]!tblXrate[#Data],2,FALSE)","v":13000},"Dss Analyst","Analyst","Brazil",{"$f":"VLOOKUP(tblSalaries[[#This Row],[Where do you work]],[1]!tblCountries[[Actual]:[Mapping]],2,FALSE)","v":"Brazil"},"All the 8 hours baby, all the 8!",4]
["ID1623","2012-06-02T13:58:46",15000,"USD",{"$f":"tblSalaries[[#This Row],[clean Salary (in local currency)]]*VLOOKUP(tblSalaries[[#This Row],[Currency]],[1]!tblXrate[#Data],2,FALSE)","v":15000},"Business Analysis & MIS ","Analyst","India",{"$f":"VLOOKUP(tblSalaries[[#This Row],[Where do you work]],[1]!tblCountries[[Actual]:[Mapping]],2,FALSE)","v":"India"},"4 to 6 hours a day",5]
["ID1624","2012-06-02T17:34:20",50000,"USD",{"$f":"tblSalaries[[#This Row],[clean Salary (in local currency)]]*VLOOKUP(tblSalaries[[#This Row],[Currency]],[1]!tblXrate[#Data],2,FALSE)","v":50000},"Associate Vice President","CXO or Top Mgmt.","India",{"$f":"VLOOKUP(tblSalaries[[#This Row],[Where do you work]],[1]!tblCountries[[Actual]:[Mapping]],2,FALSE)","v":"India"},"1 or 2 hours a day",8]
["ID1625","2012-06-02T18:47:32",7000,"USD",{"$f":"tblSalaries[[#This Row],[clean Salary (in local currency)]]*VLOOKUP(tblSalaries[[#This Row],[Currency]],[1]!tblXrate[#Data],2,FALSE)","v":7000},"M.I.S","Reporting","India",{"$f":"VLOOKUP(tblSalaries[[#This Row],[Where do you work]],[1]!tblCountries[[Actual]:[Mapping]],2,FALSE)","v":"India"},"4 to 6 hours a day",1]
["ID1626","2012-06-02T19:14:35",140000,"USD",{"$f":"tblSalaries[[#This Row],[clean Salary (in local currency)]]*VLOOKUP(tblSalaries[[#This Row],[Currency]],[1]!tblXrate[#Data],2,FALSE)","v":140000},"sr manager","Manager","USA",{"$f":"VLOOKUP(tblSalaries[[#This Row],[Where do you work]],[1]!tblCountries[[Actual]:[Mapping]],2,FALSE)","v":"USA"},"4 to 6 hours a day",12]
["ID1627","2012-06-02T20:50:40",400000,"INR",{"$f":"tblSalaries[[#This Row],[clean Salary (in local currency)]]*VLOOKUP(tblSalaries[[#This Row],[Currency]],[1]!tblXrate[#Data],2,FALSE)","v":7123.1666749770275},"application dev","Analyst","India",{"$f":"VLOOKUP(tblSalaries[[#This Row],[Where do you work]],[1]!tblCountries[[Actual]:[Mapping]],2,FALSE)","v":"India"},"1 or 2 hours a day",2.5]
["ID1628","2012-06-02T20:52:59",37000,"GBP",{"$f":"tblSalaries[[#This Row],[clean Salary (in local currency)]]*VLOOKUP(tblSalaries[[#This Row],[Currency]],[1]!tblXrate[#Data],2,FALSE)","v":58318.59606648951},"Technical Web Analyst","Analyst","UK",{"$f":"VLOOKUP(tblSalaries[[#This Row],[Where do you work]],[1]!tblCountries[[Actual]:[Mapping]],2,FALSE)","v":"UK"},"4 to 6 hours a day",9]
["ID1629","2012-06-02T21:42:42",680000,"INR",{"$f":"tblSalaries[[#This Row],[clean Salary (in local currency)]]*VLOOKUP(tblSalaries[[#This Row],[Currency]],[1]!tblXrate[#Data],2,FALSE)","v":12109.383347460946},"Deputy Manager","Manager","India",{"$f":"VLOOKUP(tblSalaries[[#This Row],[Where do you work]],[1]!tblCountries[[Actual]:[Mapping]],2,FALSE)","v":"India"},"1 or 2 hours a day",2]
["ID1630","2012-06-02T22:33:32",55000,"USD",{"$f":"tblSalaries[[#This Row],[clean Salary (in local currency)]]*VLOOKUP(tblSalaries[[#This Row],[Currency]],[1]!tblXrate[#Data],2,FALSE)","v":55000},"Supply Chain Analyst","Analyst","USA",{"$f":"VLOOKUP(tblSalaries[[#This Row],[Where do you work]],[1]!tblCountries[[Actual]:[Mapping]],2,FALSE)","v":"USA"},"4 to 6 hours a day",1]
["ID1631","2012-06-02T22:38:56",60000,"USD",{"$f":"tblSalaries[[#This Row],[clean Salary (in local currency)]]*VLOOKUP(tblSalaries[[#This Row],[Currency]],[1]!tblXrate[#Data],2,FALSE)","v":60000},"Head of Business","Manager","Indonesia",{"$f":"VLOOKUP(tblSalaries[[#This Row],[Where do you work]],[1]!tblCountries[[Actual]:[Mapping]],2,FALSE)","v":"Indonesia"},"2 to 3 hours per day",16]
["ID1632","2012-06-03T01:33:57",320000,"INR",{"$f":"tblSalaries[[#This Row],[clean Salary (in local currency)]]*VLOOKUP(tblSalaries[[#This Row],[Currency]],[1]!tblXrate[#Data],2,FALSE)","v":5698.5333399816218},"senior executive","Manager","India",{"$f":"VLOOKUP(tblSalaries[[#This Row],[Where do you work]],[1]!tblCountries[[Actual]:[Mapping]],2,FALSE)","v":"India"},"4 to 6 hours a day",5]
["ID1633","2012-06-03T01:36:43",288000,"MUR",{"$f":"tblSalaries[[#This Row],[clean Salary (in local currency)]]*VLOOKUP(tblSalaries[[#This Row],[Currency]],[1]!tblXrate[#Data],2,FALSE)","v":9376.2513877177607},"IT Support Engineer","Engineer","Mauritius",{"$f":"VLOOKUP(tblSalaries[[#This Row],[Where do you work]],[1]!tblCountries[[Actual]:[Mapping]],2,FALSE)","v":"Mauritius"},"4 to 6 hours a day",7]
["ID1634","2012-06-03T02:06:44",60000,"GBP",{"$f":"tblSalaries[[#This Row],[clean Salary (in local currency)]]*VLOOKUP(tblSalaries[[#This Row],[Currency]],[1]!tblXrate[#Data],2,FALSE)","v":94570.696324037053},"Data Analyst","Analyst","UK",{"$f":"VLOOKUP(tblSalaries[[#This Row],[Where do you work]],[1]!tblCountries[[Actual]:[Mapping]],2,FALSE)","v":"UK"},"4 to 6 hours a day",5]
["ID1635","2012-06-03T02:54:32",36000,"USD",{"$f":"tblSalaries[[#This Row],[clean Salary (in local currency)]]*VLOOKUP(tblSalaries[[#This Row],[Currency]],[1]!tblXrate[#Data],2,FALSE)","v":36000},"Environmental Adviser","Consultant","Azerbaijan",{"$f":"VLOOKUP(tblSalaries[[#This Row],[Where do you work]],[1]!tblCountries[[Actual]:[Mapping]],2,FALSE)","v":"Azerbaijan"},"4 to 6 hours a day",5]
["ID1636","2012-06-03T04:14:45",3700000,"INR",{"$f":"tblSalaries[[#This Row],[clean Salary (in local currency)]]*VLOOKUP(tblSalaries[[#This Row],[Currency]],[1]!tblXrate[#Data],2,FALSE)","v":65889.291743537498},"Senior Officer","Manager","India",{"$f":"VLOOKUP(tblSalaries[[#This Row],[Where do you work]],[1]!tblCountries[[Actual]:[Mapping]],2,FALSE)","v":"India"},"All the 8 hours baby, all the 8!",4]
["ID1637","2012-06-03T04:42:54",106000,"USD",{"$f":"tblSalaries[[#This Row],[clean Salary (in local currency)]]*VLOOKUP(tblSalaries[[#This Row],[Currency]],[1]!tblXrate[#Data],2,FALSE)","v":106000},"IT Developer","Analyst","Denmark",{"$f":"VLOOKUP(tblSalaries[[#This Row],[Where do you work]],[1]!tblCountries[[Actual]:[Mapping]],2,FALSE)","v":"Denmark"},"1 or 2 hours a day",7]
["ID1638","2012-06-03T07:16:47",485000,"DKK",{"$f":"tblSalaries[[#This Row],[clean Salary (in local currency)]]*VLOOKUP(tblSalaries[[#This Row],[Currency]],[1]!tblXrate[#Data],2,FALSE)","v":82888.5550559455},"Controller","Controller","Denmark",{"$f":"VLOOKUP(tblSalaries[[#This Row],[Where do you work]],[1]!tblCountries[[Actual]:[Mapping]],2,FALSE)","v":"Denmark"},"4 to 6 hours a day",18]
["ID1639","2012-06-03T09:42:40",75000,"NZD",{"$f":"tblSalaries[[#This Row],[clean Salary (in local currency)]]*VLOOKUP(tblSalaries[[#This Row],[Currency]],[1]!tblXrate[#Data],2,FALSE)","v":59819.107020370408},"business support analyst","Analyst","New zealand",{"$f":"VLOOKUP(tblSalaries[[#This Row],[Where do you work]],[1]!tblCountries[[Actual]:[Mapping]],2,FALSE)","v":"New Zealand"},"2 to 3 hours per day",10]
["ID1640","2012-06-03T10:10:43",6545,"USD",{"$f":"tblSalaries[[#This Row],[clean Salary (in local currency)]]*VLOOKUP(tblSalaries[[#This Row],[Currency]],[1]!tblXrate[#Data],2,FALSE)","v":6545},"Operations","Manager","India",{"$f":"VLOOKUP(tblSalaries[[#This Row],[Where do you work]],[1]!tblCountries[[Actual]:[Mapping]],2,FALSE)","v":"India"},"All the 8 hours baby, all the 8!",9]
["ID1641","2012-06-03T12:09:27",1000000,"INR",{"$f":"tblSalaries[[#This Row],[clean Salary (in local currency)]]*VLOOKUP(tblSalaries[[#This Row],[Currency]],[1]!tblXrate[#Data],2,FALSE)","v":17807.916687442568},"Category Manager","Manager","India",{"$f":"VLOOKUP(tblSalaries[[#This Row],[Where do you work]],[1]!tblCountries[[Actual]:[Mapping]],2,FALSE)","v":"India"},"2 to 3 hours per day",13]
["ID1642","2012-06-03T12:16:15",54000,"USD",{"$f":"tblSalaries[[#This Row],[clean Salary (in local currency)]]*VLOOKUP(tblSalaries[[#This Row],[Currency]],[1]!tblXrate[#Data],2,FALSE)","v":54000},"assistant director of finance","CXO or Top Mgmt.","USA",{"$f":"VLOOKUP(tblSalaries[[#This Row],[Where do you work]],[1]!tblCountries[[Actual]:[Mapping]],2,FALSE)","v":"USA"},"4 to 6 hours a day",10]
["ID1643","2012-06-03T12:27:07",100000,"USD",{"$f":"tblSalaries[[#This Row],[clean Salary (in local currency)]]*VLOOKUP(tblSalaries[[#This Row],[Currency]],[1]!tblXrate[#Data],2,FALSE)","v":100000},"Consultant","Consultant","USA",{"$f":"VLOOKUP(tblSalaries[[#This Row],[Where do you work]],[1]!tblCountries[[Actual]:[Mapping]],2,FALSE)","v":"USA"},"2 to 3 hours per day",4]
["ID1644","2012-06-03T13:30:47",50000,"CAD",{"$f":"tblSalaries[[#This Row],[clean Salary (in local currency)]]*VLOOKUP(tblSalaries[[#This Row],[Currency]],[1]!tblXrate[#Data],2,FALSE)","v":49168.076151516347},"Application Developer","Analyst","Canada",{"$f":"VLOOKUP(tblSalaries[[#This Row],[Where do you work]],[1]!tblCountries[[Actual]:[Mapping]],2,FALSE)","v":"Canada"},"4 to 6 hours a day",5]
["ID1645","2012-06-03T14:27:29",4019,"USD",{"$f":"tblSalaries[[#This Row],[clean Salary (in local currency)]]*VLOOKUP(tblSalaries[[#This Row],[Currency]],[1]!tblXrate[#Data],2,FALSE)","v":4019},"Clinical Intake Specialist","Specialist","Philippines",{"$f":"VLOOKUP(tblSalaries[[#This Row],[Where do you work]],[1]!tblCountries[[Actual]:[Mapping]],2,FALSE)","v":"Philippines"},"2 to 3 hours per day",3]
["ID1646","2012-06-03T14:34:56",15000,"USD",{"$f":"tblSalaries[[#This Row],[clean Salary (in local currency)]]*VLOOKUP(tblSalaries[[#This Row],[Currency]],[1]!tblXrate[#Data],2,FALSE)","v":15000},"Marketing services","Analyst","Pakistan",{"$f":"VLOOKUP(tblSalaries[[#This Row],[Where do you work]],[1]!tblCountries[[Actual]:[Mapping]],2,FALSE)","v":"Pakistan"},"4 to 6 hours a day",5]
["ID1647","2012-06-03T14:52:21",1000000,"INR",{"$f":"tblSalaries[[#This Row],[clean Salary (in local currency)]]*VLOOKUP(tblSalaries[[#This Row],[Currency]],[1]!tblXrate[#Data],2,FALSE)","v":17807.916687442568},"Senior Associate, Finance","Analyst","India",{"$f":"VLOOKUP(tblSalaries[[#This Row],[Where do you work]],[1]!tblCountries[[Actual]:[Mapping]],2,FALSE)","v":"India"},"All the 8 hours baby, all the 8!",4]
["ID1648","2012-06-03T16:48:54",12000,"USD",{"$f":"tblSalaries[[#This Row],[clean Salary (in local currency)]]*VLOOKUP(tblSalaries[[#This Row],[Currency]],[1]!tblXrate[#Data],2,FALSE)","v":12000},"MIS ","Reporting","India",{"$f":"VLOOKUP(tblSalaries[[#This Row],[Where do you work]],[1]!tblCountries[[Actual]:[Mapping]],2,FALSE)","v":"India"},"All the 8 hours baby, all the 8!",3]
["ID1649","2012-06-03T17:39:14",125000,"INR",{"$f":"tblSalaries[[#This Row],[clean Salary (in local currency)]]*VLOOKUP(tblSalaries[[#This Row],[Currency]],[1]!tblXrate[#Data],2,FALSE)","v":2225.989585930321},"No","Analyst","India",{"$f":"VLOOKUP(tblSalaries[[#This Row],[Where do you work]],[1]!tblCountries[[Actual]:[Mapping]],2,FALSE)","v":"India"},"2 to 3 hours per day",4]
["ID1650","2012-06-03T19:40:18",86000,"USD",{"$f":"tblSalaries[[#This Row],[clean Salary (in local currency)]]*VLOOKUP(tblSalaries[[#This Row],[Currency]],[1]!tblXrate[#Data],2,FALSE)","v":86000},"Analyst","Analyst","Philippines",{"$f":"VLOOKUP(tblSalaries[[#This Row],[Where do you work]],[1]!tblCountries[[Actual]:[Mapping]],2,FALSE)","v":"Philippines"},"All the 8 hours baby, all the 8!",3]
["ID1651","2012-06-04T01:45:03",340000,"INR",{"$f":"tblSalaries[[#This Row],[clean Salary (in local currency)]]*VLOOKUP(tblSalaries[[#This Row],[Currency]],[1]!tblXrate[#Data],2,FALSE)","v":6054.6916737304728},"Assistant Manager","Manager","India",{"$f":"VLOOKUP(tblSalaries[[#This Row],[Where do you work]],[1]!tblCountries[[Actual]:[Mapping]],2,FALSE)","v":"India"},"4 to 6 hours a day",5]
["ID1652","2012-06-04T02:03:53",3360,"USD",{"$f":"tblSalaries[[#This Row],[clean Salary (in local currency)]]*VLOOKUP(tblSalaries[[#This Row],[Currency]],[1]!tblXrate[#Data],2,FALSE)","v":3360},"service executive","Analyst","India",{"$f":"VLOOKUP(tblSalaries[[#This Row],[Where do you work]],[1]!tblCountries[[Actual]:[Mapping]],2,FALSE)","v":"India"},"1 or 2 hours a day",3]
["ID1653","2012-06-04T02:30:11",10000,"USD",{"$f":"tblSalaries[[#This Row],[clean Salary (in local currency)]]*VLOOKUP(tblSalaries[[#This Row],[Currency]],[1]!tblXrate[#Data],2,FALSE)","v":10000},"ceo","CXO or Top Mgmt.","India",{"$f":"VLOOKUP(tblSalaries[[#This Row],[Where do you work]],[1]!tblCountries[[Actual]:[Mapping]],2,FALSE)","v":"India"},"All the 8 hours baby, all the 8!",1]
["ID1654","2012-06-04T04:31:53",70000,"USD",{"$f":"tblSalaries[[#This Row],[clean Salary (in local currency)]]*VLOOKUP(tblSalaries[[#This Row],[Currency]],[1]!tblXrate[#Data],2,FALSE)","v":70000},"Sr financial analyst","Analyst","USA",{"$f":"VLOOKUP(tblSalaries[[#This Row],[Where do you work]],[1]!tblCountries[[Actual]:[Mapping]],2,FALSE)","v":"USA"},"4 to 6 hours a day",9]
["ID1655","2012-06-04T09:49:44",155000,"USD",{"$f":"tblSalaries[[#This Row],[clean Salary (in local currency)]]*VLOOKUP(tblSalaries[[#This Row],[Currency]],[1]!tblXrate[#Data],2,FALSE)","v":155000},"Consulting Practice Manager","Manager","USA",{"$f":"VLOOKUP(tblSalaries[[#This Row],[Where do you work]],[1]!tblCountries[[Actual]:[Mapping]],2,FALSE)","v":"USA"},"1 or 2 hours a day",14]
["ID1656","2012-06-04T10:23:27",225000,"USD",{"$f":"tblSalaries[[#This Row],[clean Salary (in local currency)]]*VLOOKUP(tblSalaries[[#This Row],[Currency]],[1]!tblXrate[#Data],2,FALSE)","v":225000},"SVP of Acquisitions","CXO or Top Mgmt.","USA",{"$f":"VLOOKUP(tblSalaries[[#This Row],[Where do you work]],[1]!tblCountries[[Actual]:[Mapping]],2,FALSE)","v":"USA"},"4 to 6 hours a day",15]
["ID1657","2012-06-04T12:22:05",10000,"USD",{"$f":"tblSalaries[[#This Row],[clean Salary (in local currency)]]*VLOOKUP(tblSalaries[[#This Row],[Currency]],[1]!tblXrate[#Data],2,FALSE)","v":10000},"MIS Executive","Reporting","India",{"$f":"VLOOKUP(tblSalaries[[#This Row],[Where do you work]],[1]!tblCountries[[Actual]:[Mapping]],2,FALSE)","v":"India"},"All the 8 hours baby, all the 8!",2]
["ID1658","2012-06-04T12:58:06",300000,"INR",{"$f":"tblSalaries[[#This Row],[clean Salary (in local currency)]]*VLOOKUP(tblSalaries[[#This Row],[Currency]],[1]!tblXrate[#Data],2,FALSE)","v":5342.3750062327708},"Store Inventory","Analyst","India",{"$f":"VLOOKUP(tblSalaries[[#This Row],[Where do you work]],[1]!tblCountries[[Actual]:[Mapping]],2,FALSE)","v":"India"},"4 to 6 hours a day",8]
["ID1659","2012-06-04T13:30:51",84000,"AUD",{"$f":"tblSalaries[[#This Row],[clean Salary (in local currency)]]*VLOOKUP(tblSalaries[[#This Row],[Currency]],[1]!tblXrate[#Data],2,FALSE)","v":85672.4111378214},"consultant","Consultant","Australia",{"$f":"VLOOKUP(tblSalaries[[#This Row],[Where do you work]],[1]!tblCountries[[Actual]:[Mapping]],2,FALSE)","v":"Australia"},"4 to 6 hours a day",6]
["ID1660","2012-06-04T14:25:45",240000,"INR",{"$f":"tblSalaries[[#This Row],[clean Salary (in local currency)]]*VLOOKUP(tblSalaries[[#This Row],[Currency]],[1]!tblXrate[#Data],2,FALSE)","v":4273.9000049862161},"Exicutive TQM","Controller","India",{"$f":"VLOOKUP(tblSalaries[[#This Row],[Where do you work]],[1]!tblCountries[[Actual]:[Mapping]],2,FALSE)","v":"India"},"2 to 3 hours per day",15]
["ID1661","2012-06-04T16:31:09",500000,"INR",{"$f":"tblSalaries[[#This Row],[clean Salary (in local currency)]]*VLOOKUP(tblSalaries[[#This Row],[Currency]],[1]!tblXrate[#Data],2,FALSE)","v":8903.9583437212841},"Team Leader","Manager","India",{"$f":"VLOOKUP(tblSalaries[[#This Row],[Where do you work]],[1]!tblCountries[[Actual]:[Mapping]],2,FALSE)","v":"India"},"All the 8 hours baby, all the 8!",20]
["ID1662","2012-06-04T18:03:21",42000,"GBP",{"$f":"tblSalaries[[#This Row],[clean Salary (in local currency)]]*VLOOKUP(tblSalaries[[#This Row],[Currency]],[1]!tblXrate[#Data],2,FALSE)","v":66199.48742682593},"Management Accountant","Manager","UK",{"$f":"VLOOKUP(tblSalaries[[#This Row],[Where do you work]],[1]!tblCountries[[Actual]:[Mapping]],2,FALSE)","v":"UK"},"4 to 6 hours a day",23]
["ID1663","2012-06-04T18:55:54",320000,"INR",{"$f":"tblSalaries[[#This Row],[clean Salary (in local currency)]]*VLOOKUP(tblSalaries[[#This Row],[Currency]],[1]!tblXrate[#Data],2,FALSE)","v":5698.5333399816218},"Research Associate","Analyst","India",{"$f":"VLOOKUP(tblSalaries[[#This Row],[Where do you work]],[1]!tblCountries[[Actual]:[Mapping]],2,FALSE)","v":"India"},"4 to 6 hours a day",2.5]
["ID1664","2012-06-04T19:11:18",22000,"GBP",{"$f":"tblSalaries[[#This Row],[clean Salary (in local currency)]]*VLOOKUP(tblSalaries[[#This Row],[Currency]],[1]!tblXrate[#Data],2,FALSE)","v":34675.92198548025},"Supply/Demand Planner","Manager","UK",{"$f":"VLOOKUP(tblSalaries[[#This Row],[Where do you work]],[1]!tblCountries[[Actual]:[Mapping]],2,FALSE)","v":"UK"},"4 to 6 hours a day",17]
["ID1665","2012-06-04T19:46:09",31200,"USD",{"$f":"tblSalaries[[#This Row],[clean Salary (in local currency)]]*VLOOKUP(tblSalaries[[#This Row],[Currency]],[1]!tblXrate[#Data],2,FALSE)","v":31200},"Economist","Reporting","ISRAEL",{"$f":"VLOOKUP(tblSalaries[[#This Row],[Where do you work]],[1]!tblCountries[[Actual]:[Mapping]],2,FALSE)","v":"Israel"},"All the 8 hours baby, all the 8!",11]
["ID1666","2012-06-04T21:43:15",56000,"CAD",{"$f":"tblSalaries[[#This Row],[clean Salary (in local currency)]]*VLOOKUP(tblSalaries[[#This Row],[Currency]],[1]!tblXrate[#Data],2,FALSE)","v":55068.245289698301},"consultant","Consultant","Canada",{"$f":"VLOOKUP(tblSalaries[[#This Row],[Where do you work]],[1]!tblCountries[[Actual]:[Mapping]],2,FALSE)","v":"Canada"},"All the 8 hours baby, all the 8!",1]
["ID1667","2012-06-04T22:16:00",13000,"USD",{"$f":"tblSalaries[[#This Row],[clean Salary (in local currency)]]*VLOOKUP(tblSalaries[[#This Row],[Currency]],[1]!tblXrate[#Data],2,FALSE)","v":13000},"logistics analyst","Analyst","Slovakia",{"$f":"VLOOKUP(tblSalaries[[#This Row],[Where do you work]],[1]!tblCountries[[Actual]:[Mapping]],2,FALSE)","v":"Slovakia"},"All the 8 hours baby, all the 8!",6]
["ID1668","2012-06-04T23:00:10",92000,"USD",{"$f":"tblSalaries[[#This Row],[clean Salary (in local currency)]]*VLOOKUP(tblSalaries[[#This Row],[Currency]],[1]!tblXrate[#Data],2,FALSE)","v":92000},"BI director","Reporting","USA",{"$f":"VLOOKUP(tblSalaries[[#This Row],[Where do you work]],[1]!tblCountries[[Actual]:[Mapping]],2,FALSE)","v":"USA"},"2 to 3 hours per day",12]
["ID1669","2012-06-04T23:18:41",85000,"USD",{"$f":"tblSalaries[[#This Row],[clean Salary (in local currency)]]*VLOOKUP(tblSalaries[[#This Row],[Currency]],[1]!tblXrate[#Data],2,FALSE)","v":85000},"Sr Manager","Manager","USA",{"$f":"VLOOKUP(tblSalaries[[#This Row],[Where do you work]],[1]!tblCountries[[Actual]:[Mapping]],2,FALSE)","v":"USA"},"All the 8 hours baby, all the 8!",10]
["ID1670","2012-06-04T23:38:42",11000,"USD",{"$f":"tblSalaries[[#This Row],[clean Salary (in local currency)]]*VLOOKUP(tblSalaries[[#This Row],[Currency]],[1]!tblXrate[#Data],2,FALSE)","v":11000},"Dataminer","Analyst","Tunisia",{"$f":"VLOOKUP(tblSalaries[[#This Row],[Where do you work]],[1]!tblCountries[[Actual]:[Mapping]],2,FALSE)","v":"Tunisia"},"4 to 6 hours a day",8]
["ID1671","2012-06-04T23:38:47",30000,"EUR",{"$f":"tblSalaries[[#This Row],[clean Salary (in local currency)]]*VLOOKUP(tblSalaries[[#This Row],[Currency]],[1]!tblXrate[#Data],2,FALSE)","v":38111.983169748237},"Safety technician","Analyst","Spain",{"$f":"VLOOKUP(tblSalaries[[#This Row],[Where do you work]],[1]!tblCountries[[Actual]:[Mapping]],2,FALSE)","v":"Spain"},"1 or 2 hours a day",12]
["ID1672","2012-06-04T23:41:47",49000,"USD",{"$f":"tblSalaries[[#This Row],[clean Salary (in local currency)]]*VLOOKUP(tblSalaries[[#This Row],[Currency]],[1]!tblXrate[#Data],2,FALSE)","v":49000},"Marketing Data Analyst","Analyst","USA",{"$f":"VLOOKUP(tblSalaries[[#This Row],[Where do you work]],[1]!tblCountries[[Actual]:[Mapping]],2,FALSE)","v":"USA"},"2 to 3 hours per day",3]
["ID1673","2012-06-05T00:22:14",59000,"USD",{"$f":"tblSalaries[[#This Row],[clean Salary (in local currency)]]*VLOOKUP(tblSalaries[[#This Row],[Currency]],[1]!tblXrate[#Data],2,FALSE)","v":59000},"Category Leader","Manager","USA",{"$f":"VLOOKUP(tblSalaries[[#This Row],[Where do you work]],[1]!tblCountries[[Actual]:[Mapping]],2,FALSE)","v":"USA"},"1 or 2 hours a day",3]
["ID1674","2012-06-05T02:03:48",55000,"USD",{"$f":"tblSalaries[[#This Row],[clean Salary (in local currency)]]*VLOOKUP(tblSalaries[[#This Row],[Currency]],[1]!tblXrate[#Data],2,FALSE)","v":55000},"Customer Sales Analyst","Analyst","USA",{"$f":"VLOOKUP(tblSalaries[[#This Row],[Where do you work]],[1]!tblCountries[[Actual]:[Mapping]],2,FALSE)","v":"USA"},"4 to 6 hours a day",15]
["ID1675","2012-06-05T02:21:01",75000,"USD",{"$f":"tblSalaries[[#This Row],[clean Salary (in local currency)]]*VLOOKUP(tblSalaries[[#This Row],[Currency]],[1]!tblXrate[#Data],2,FALSE)","v":75000},"Accountant","Accountant","USA",{"$f":"VLOOKUP(tblSalaries[[#This Row],[Where do you work]],[1]!tblCountries[[Actual]:[Mapping]],2,FALSE)","v":"USA"},"4 to 6 hours a day",10]
["ID1677","2012-06-05T03:50:02",39600,"EUR",{"$f":"tblSalaries[[#This Row],[clean Salary (in local currency)]]*VLOOKUP(tblSalaries[[#This Row],[Currency]],[1]!tblXrate[#Data],2,FALSE)","v":50307.817784067665},"Maintenance Manager","Manager","Europe",{"$f":"VLOOKUP(tblSalaries[[#This Row],[Where do you work]],[1]!tblCountries[[Actual]:[Mapping]],2,FALSE)","v":"Europe"},"1 or 2 hours a day",5]
["ID1678","2012-06-05T03:55:36",30500,"USD",{"$f":"tblSalaries[[#This Row],[clean Salary (in local currency)]]*VLOOKUP(tblSalaries[[#This Row],[Currency]],[1]!tblXrate[#Data],2,FALSE)","v":30500},"Financial Analyst","Analyst","Brazil",{"$f":"VLOOKUP(tblSalaries[[#This Row],[Where do you work]],[1]!tblCountries[[Actual]:[Mapping]],2,FALSE)","v":"Brazil"},"All the 8 hours baby, all the 8!",8]
["ID1679","2012-06-05T04:06:09",80000,"USD",{"$f":"tblSalaries[[#This Row],[clean Salary (in local currency)]]*VLOOKUP(tblSalaries[[#This Row],[Currency]],[1]!tblXrate[#Data],2,FALSE)","v":80000},"Data Resource Specialist","Specialist","USA",{"$f":"VLOOKUP(tblSalaries[[#This Row],[Where do you work]],[1]!tblCountries[[Actual]:[Mapping]],2,FALSE)","v":"USA"},"2 to 3 hours per day",2]
["ID1680","2012-06-05T05:03:04",12000,"USD",{"$f":"tblSalaries[[#This Row],[clean Salary (in local currency)]]*VLOOKUP(tblSalaries[[#This Row],[Currency]],[1]!tblXrate[#Data],2,FALSE)","v":12000},"Waiter","Analyst","USA",{"$f":"VLOOKUP(tblSalaries[[#This Row],[Where do you work]],[1]!tblCountries[[Actual]:[Mapping]],2,FALSE)","v":"USA"},"2 to 3 hours per day",1]
["ID1681","2012-06-05T05:03:20",48500,"USD",{"$f":"tblSalaries[[#This Row],[clean Salary (in local currency)]]*VLOOKUP(tblSalaries[[#This Row],[Currency]],[1]!tblXrate[#Data],2,FALSE)","v":48500},"Business Systems Analyst I","Analyst","USA",{"$f":"VLOOKUP(tblSalaries[[#This Row],[Where do you work]],[1]!tblCountries[[Actual]:[Mapping]],2,FALSE)","v":"USA"},"4 to 6 hours a day",6]
["ID1682","2012-06-05T06:51:36",40000,"GBP",{"$f":"tblSalaries[[#This Row],[clean Salary (in local currency)]]*VLOOKUP(tblSalaries[[#This Row],[Currency]],[1]!tblXrate[#Data],2,FALSE)","v":63047.130882691366},"Technical Specialist","Specialist","UK",{"$f":"VLOOKUP(tblSalaries[[#This Row],[Where do you work]],[1]!tblCountries[[Actual]:[Mapping]],2,FALSE)","v":"UK"},"2 to 3 hours per day",25]
["ID1683","2012-06-05T07:05:12",192000,"INR",{"$f":"tblSalaries[[#This Row],[clean Salary (in local currency)]]*VLOOKUP(tblSalaries[[#This Row],[Currency]],[1]!tblXrate[#Data],2,FALSE)","v":3419.1200039889732},"Sr Associate","Analyst","India",{"$f":"VLOOKUP(tblSalaries[[#This Row],[Where do you work]],[1]!tblCountries[[Actual]:[Mapping]],2,FALSE)","v":"India"},"4 to 6 hours a day",5]
["ID1684","2012-06-05T10:43:34",110000,"NZD",{"$f":"tblSalaries[[#This Row],[clean Salary (in local currency)]]*VLOOKUP(tblSalaries[[#This Row],[Currency]],[1]!tblXrate[#Data],2,FALSE)","v":87734.690296543267},"Enterprise Portfolio Manager","Manager","New Zealand",{"$f":"VLOOKUP(tblSalaries[[#This Row],[Where do you work]],[1]!tblCountries[[Actual]:[Mapping]],2,FALSE)","v":"New Zealand"},"4 to 6 hours a day",6]
["ID1685","2012-06-05T12:42:38",71000,"NZD",{"$f":"tblSalaries[[#This Row],[clean Salary (in local currency)]]*VLOOKUP(tblSalaries[[#This Row],[Currency]],[1]!tblXrate[#Data],2,FALSE)","v":56628.754645950656},"Business Analyst","Analyst","NZ",{"$f":"VLOOKUP(tblSalaries[[#This Row],[Where do you work]],[1]!tblCountries[[Actual]:[Mapping]],2,FALSE)","v":"New Zealand"},"All the 8 hours baby, all the 8!",6]
["ID1686","2012-06-05T17:59:39",450000,"INR",{"$f":"tblSalaries[[#This Row],[clean Salary (in local currency)]]*VLOOKUP(tblSalaries[[#This Row],[Currency]],[1]!tblXrate[#Data],2,FALSE)","v":8013.5625093491553},"Sr Executive - MIS","Reporting","India",{"$f":"VLOOKUP(tblSalaries[[#This Row],[Where do you work]],[1]!tblCountries[[Actual]:[Mapping]],2,FALSE)","v":"India"},"All the 8 hours baby, all the 8!",4]
["ID1687","2012-06-05T18:31:59",200000,"INR",{"$f":"tblSalaries[[#This Row],[clean Salary (in local currency)]]*VLOOKUP(tblSalaries[[#This Row],[Currency]],[1]!tblXrate[#Data],2,FALSE)","v":3561.5833374885137},"Executive","Analyst","India",{"$f":"VLOOKUP(tblSalaries[[#This Row],[Where do you work]],[1]!tblCountries[[Actual]:[Mapping]],2,FALSE)","v":"India"},"1 or 2 hours a day",16]
["ID1688","2012-06-05T19:14:04",62000,"USD",{"$f":"tblSalaries[[#This Row],[clean Salary (in local currency)]]*VLOOKUP(tblSalaries[[#This Row],[Currency]],[1]!tblXrate[#Data],2,FALSE)","v":62000},"Quality Engineer","Engineer","USA",{"$f":"VLOOKUP(tblSalaries[[#This Row],[Where do you work]],[1]!tblCountries[[Actual]:[Mapping]],2,FALSE)","v":"USA"},"2 to 3 hours per day",12]
["ID1689","2012-06-05T19:16:03",21000,"EUR",{"$f":"tblSalaries[[#This Row],[clean Salary (in local currency)]]*VLOOKUP(tblSalaries[[#This Row],[Currency]],[1]!tblXrate[#Data],2,FALSE)","v":26678.388218823762},"Sales Planning","Analyst","Portugal",{"$f":"VLOOKUP(tblSalaries[[#This Row],[Where do you work]],[1]!tblCountries[[Actual]:[Mapping]],2,FALSE)","v":"Portugal"},"4 to 6 hours a day",5]
["ID1690","2012-06-05T19:37:13",45000,"GBP",{"$f":"tblSalaries[[#This Row],[clean Salary (in local currency)]]*VLOOKUP(tblSalaries[[#This Row],[Currency]],[1]!tblXrate[#Data],2,FALSE)","v":70928.022243027779},"Data Analyst","Analyst","UK",{"$f":"VLOOKUP(tblSalaries[[#This Row],[Where do you work]],[1]!tblCountries[[Actual]:[Mapping]],2,FALSE)","v":"UK"},"All the 8 hours baby, all the 8!",5]
["ID1691","2012-06-05T19:59:35",33000,"EUR",{"$f":"tblSalaries[[#This Row],[clean Salary (in local currency)]]*VLOOKUP(tblSalaries[[#This Row],[Currency]],[1]!tblXrate[#Data],2,FALSE)","v":41923.181486723057},"assistant","Analyst","france",{"$f":"VLOOKUP(tblSalaries[[#This Row],[Where do you work]],[1]!tblCountries[[Actual]:[Mapping]],2,FALSE)","v":"France"},"4 to 6 hours a day",6]
["ID1692","2012-06-05T20:43:21",90000,"USD",{"$f":"tblSalaries[[#This Row],[clean Salary (in local currency)]]*VLOOKUP(tblSalaries[[#This Row],[Currency]],[1]!tblXrate[#Data],2,FALSE)","v":90000},"Senior QA Tester","Analyst","USA",{"$f":"VLOOKUP(tblSalaries[[#This Row],[Where do you work]],[1]!tblCountries[[Actual]:[Mapping]],2,FALSE)","v":"USA"},"2 to 3 hours per day",8]
["ID1693","2012-06-05T21:07:16",400000,"NOK",{"$f":"tblSalaries[[#This Row],[clean Salary (in local currency)]]*VLOOKUP(tblSalaries[[#This Row],[Currency]],[1]!tblXrate[#Data],2,FALSE)","v":67700.452577525488},"Economic analyst","Analyst","Norway",{"$f":"VLOOKUP(tblSalaries[[#This Row],[Where do you work]],[1]!tblCountries[[Actual]:[Mapping]],2,FALSE)","v":"Norway"},"All the 8 hours baby, all the 8!",5]
["ID1694","2012-06-05T21:33:47",85000,"USD",{"$f":"tblSalaries[[#This Row],[clean Salary (in local currency)]]*VLOOKUP(tblSalaries[[#This Row],[Currency]],[1]!tblXrate[#Data],2,FALSE)","v":85000},"Financial Analyst","Analyst","USA",{"$f":"VLOOKUP(tblSalaries[[#This Row],[Where do you work]],[1]!tblCountries[[Actual]:[Mapping]],2,FALSE)","v":"USA"},"4 to 6 hours a day",12]
["ID1695","2012-06-05T21:49:10",50000,"GBP",{"$f":"tblSalaries[[#This Row],[clean Salary (in local currency)]]*VLOOKUP(tblSalaries[[#This Row],[Currency]],[1]!tblXrate[#Data],2,FALSE)","v":78808.913603364199},"Commercial Director","CXO or Top Mgmt.","UK",{"$f":"VLOOKUP(tblSalaries[[#This Row],[Where do you work]],[1]!tblCountries[[Actual]:[Mapping]],2,FALSE)","v":"UK"},"4 to 6 hours a day",10]
["ID1696","2012-06-05T21:59:40",65000,"USD",{"$f":"tblSalaries[[#This Row],[clean Salary (in local currency)]]*VLOOKUP(tblSalaries[[#This Row],[Currency]],[1]!tblXrate[#Data],2,FALSE)","v":65000},"Business Analyst","Analyst","USA",{"$f":"VLOOKUP(tblSalaries[[#This Row],[Where do you work]],[1]!tblCountries[[Actual]:[Mapping]],2,FALSE)","v":"USA"},"4 to 6 hours a day",8]
["ID1697","2012-06-05T22:05:10",75000,"USD",{"$f":"tblSalaries[[#This Row],[clean Salary (in local currency)]]*VLOOKUP(tblSalaries[[#This Row],[Currency]],[1]!tblXrate[#Data],2,FALSE)","v":75000},"Directer of Sales Support","CXO or Top Mgmt.","USA",{"$f":"VLOOKUP(tblSalaries[[#This Row],[Where do you work]],[1]!tblCountries[[Actual]:[Mapping]],2,FALSE)","v":"USA"},"2 to 3 hours per day",3]
["ID1698","2012-06-05T22:44:27",92000,"USD",{"$f":"tblSalaries[[#This Row],[clean Salary (in local currency)]]*VLOOKUP(tblSalaries[[#This Row],[Currency]],[1]!tblXrate[#Data],2,FALSE)","v":92000},"Anallyst","Analyst","USA",{"$f":"VLOOKUP(tblSalaries[[#This Row],[Where do you work]],[1]!tblCountries[[Actual]:[Mapping]],2,FALSE)","v":"USA"},"4 to 6 hours a day",9]
["ID1699","2012-06-05T22:50:20",40000,"EUR",{"$f":"tblSalaries[[#This Row],[clean Salary (in local currency)]]*VLOOKUP(tblSalaries[[#This Row],[Currency]],[1]!tblXrate[#Data],2,FALSE)","v":50815.977559664309},"Financial Analyst","Analyst","Germany",{"$f":"VLOOKUP(tblSalaries[[#This Row],[Where do you work]],[1]!tblCountries[[Actual]:[Mapping]],2,FALSE)","v":"Germany"},"2 to 3 hours per day",3]
["ID1700","2012-06-05T23:09:44",35500,"GBP",{"$f":"tblSalaries[[#This Row],[clean Salary (in local currency)]]*VLOOKUP(tblSalaries[[#This Row],[Currency]],[1]!tblXrate[#Data],2,FALSE)","v":55954.328658388586},"Assistant Accountant","Accountant","UK",{"$f":"VLOOKUP(tblSalaries[[#This Row],[Where do you work]],[1]!tblCountries[[Actual]:[Mapping]],2,FALSE)","v":"UK"},"4 to 6 hours a day",8]
["ID1701","2012-06-06T00:49:15",45000,"USD",{"$f":"tblSalaries[[#This Row],[clean Salary (in local currency)]]*VLOOKUP(tblSalaries[[#This Row],[Currency]],[1]!tblXrate[#Data],2,FALSE)","v":45000},"Bussiness Analyst","Analyst","USA",{"$f":"VLOOKUP(tblSalaries[[#This Row],[Where do you work]],[1]!tblCountries[[Actual]:[Mapping]],2,FALSE)","v":"USA"},"2 to 3 hours per day",4]
["ID1702","2012-06-06T01:04:35",400000,"INR",{"$f":"tblSalaries[[#This Row],[clean Salary (in local currency)]]*VLOOKUP(tblSalaries[[#This Row],[Currency]],[1]!tblXrate[#Data],2,FALSE)","v":7123.1666749770275},"Analyst","Analyst","India",{"$f":"VLOOKUP(tblSalaries[[#This Row],[Where do you work]],[1]!tblCountries[[Actual]:[Mapping]],2,FALSE)","v":"India"},"4 to 6 hours a day",4]
["ID1703","2012-06-06T01:26:56",38920,"EUR",{"$f":"tblSalaries[[#This Row],[clean Salary (in local currency)]]*VLOOKUP(tblSalaries[[#This Row],[Currency]],[1]!tblXrate[#Data],2,FALSE)","v":49443.946165553374},"functional analyst","Analyst","Belgium",{"$f":"VLOOKUP(tblSalaries[[#This Row],[Where do you work]],[1]!tblCountries[[Actual]:[Mapping]],2,FALSE)","v":"Belgium"},"4 to 6 hours a day",1.5]
["ID1704","2012-06-06T01:41:40",45000,"USD",{"$f":"tblSalaries[[#This Row],[clean Salary (in local currency)]]*VLOOKUP(tblSalaries[[#This Row],[Currency]],[1]!tblXrate[#Data],2,FALSE)","v":45000},"CFO","CXO or Top Mgmt.","Mexico",{"$f":"VLOOKUP(tblSalaries[[#This Row],[Where do you work]],[1]!tblCountries[[Actual]:[Mapping]],2,FALSE)","v":"Mexico"},"4 to 6 hours a day",5]
["ID1705","2012-06-06T02:11:58",60000,"USD",{"$f":"tblSalaries[[#This Row],[clean Salary (in local currency)]]*VLOOKUP(tblSalaries[[#This Row],[Currency]],[1]!tblXrate[#Data],2,FALSE)","v":60000},"Analyst","Analyst","USA",{"$f":"VLOOKUP(tblSalaries[[#This Row],[Where do you work]],[1]!tblCountries[[Actual]:[Mapping]],2,FALSE)","v":"USA"},"All the 8 hours baby, all the 8!",1]
["ID1706","2012-06-06T02:17:14",65000,"USD",{"$f":"tblSalaries[[#This Row],[clean Salary (in local currency)]]*VLOOKUP(tblSalaries[[#This Row],[Currency]],[1]!tblXrate[#Data],2,FALSE)","v":65000},"Actuarial Analyst","Analyst","USA",{"$f":"VLOOKUP(tblSalaries[[#This Row],[Where do you work]],[1]!tblCountries[[Actual]:[Mapping]],2,FALSE)","v":"USA"},"All the 8 hours baby, all the 8!",4]
["ID1707","2012-06-06T03:14:56",73000,"USD",{"$f":"tblSalaries[[#This Row],[clean Salary (in local currency)]]*VLOOKUP(tblSalaries[[#This Row],[Currency]],[1]!tblXrate[#Data],2,FALSE)","v":73000},"process coordinator","Manager","USA",{"$f":"VLOOKUP(tblSalaries[[#This Row],[Where do you work]],[1]!tblCountries[[Actual]:[Mapping]],2,FALSE)","v":"USA"},"2 to 3 hours per day",6]
["ID1708","2012-06-06T04:00:52",54000,"USD",{"$f":"tblSalaries[[#This Row],[clean Salary (in local currency)]]*VLOOKUP(tblSalaries[[#This Row],[Currency]],[1]!tblXrate[#Data],2,FALSE)","v":54000},"Energy Analyst","Analyst","USA",{"$f":"VLOOKUP(tblSalaries[[#This Row],[Where do you work]],[1]!tblCountries[[Actual]:[Mapping]],2,FALSE)","v":"USA"},"All the 8 hours baby, all the 8!",6]
["ID1710","2012-06-06T05:52:59",81000,"USD",{"$f":"tblSalaries[[#This Row],[clean Salary (in local currency)]]*VLOOKUP(tblSalaries[[#This Row],[Currency]],[1]!tblXrate[#Data],2,FALSE)","v":81000},"Contact Operations Analyst","Analyst","USA",{"$f":"VLOOKUP(tblSalaries[[#This Row],[Where do you work]],[1]!tblCountries[[Actual]:[Mapping]],2,FALSE)","v":"USA"},"4 to 6 hours a day",6]
["ID1711","2012-06-06T07:28:48",10000,"USD",{"$f":"tblSalaries[[#This Row],[clean Salary (in local currency)]]*VLOOKUP(tblSalaries[[#This Row],[Currency]],[1]!tblXrate[#Data],2,FALSE)","v":10000},"Student assistant","Analyst","USA",{"$f":"VLOOKUP(tblSalaries[[#This Row],[Where do you work]],[1]!tblCountries[[Actual]:[Mapping]],2,FALSE)","v":"USA"},"4 to 6 hours a day",2]
["ID1712","2012-06-06T08:25:56",42000,"USD",{"$f":"tblSalaries[[#This Row],[clean Salary (in local currency)]]*VLOOKUP(tblSalaries[[#This Row],[Currency]],[1]!tblXrate[#Data],2,FALSE)","v":42000},"Staff Accountant","Accountant","USA",{"$f":"VLOOKUP(tblSalaries[[#This Row],[Where do you work]],[1]!tblCountries[[Actual]:[Mapping]],2,FALSE)","v":"USA"},"4 to 6 hours a day",1]
["ID1713","2012-06-06T09:31:47",80000,"AUD",{"$f":"tblSalaries[[#This Row],[clean Salary (in local currency)]]*VLOOKUP(tblSalaries[[#This Row],[Currency]],[1]!tblXrate[#Data],2,FALSE)","v":81592.772512210868},"PPC Search Specialist","Specialist","Australia",{"$f":"VLOOKUP(tblSalaries[[#This Row],[Where do you work]],[1]!tblCountries[[Actual]:[Mapping]],2,FALSE)","v":"Australia"},"4 to 6 hours a day",5]
["ID1714","2012-06-06T11:21:08",36000,"CAD",{"$f":"tblSalaries[[#This Row],[clean Salary (in local currency)]]*VLOOKUP(tblSalaries[[#This Row],[Currency]],[1]!tblXrate[#Data],2,FALSE)","v":35401.014829091764},"data organizer","Analyst","Canada",{"$f":"VLOOKUP(tblSalaries[[#This Row],[Where do you work]],[1]!tblCountries[[Actual]:[Mapping]],2,FALSE)","v":"Canada"},"All the 8 hours baby, all the 8!",2]
["ID1716","2012-06-06T16:03:39",500000,"INR",{"$f":"tblSalaries[[#This Row],[clean Salary (in local currency)]]*VLOOKUP(tblSalaries[[#This Row],[Currency]],[1]!tblXrate[#Data],2,FALSE)","v":8903.9583437212841},"Sr. Associate","Analyst","India",{"$f":"VLOOKUP(tblSalaries[[#This Row],[Where do you work]],[1]!tblCountries[[Actual]:[Mapping]],2,FALSE)","v":"India"},"4 to 6 hours a day",4]
["ID1717","2012-06-06T17:41:41",600000,"INR",{"$f":"tblSalaries[[#This Row],[clean Salary (in local currency)]]*VLOOKUP(tblSalaries[[#This Row],[Currency]],[1]!tblXrate[#Data],2,FALSE)","v":10684.750012465542},"admin","Analyst","India",{"$f":"VLOOKUP(tblSalaries[[#This Row],[Where do you work]],[1]!tblCountries[[Actual]:[Mapping]],2,FALSE)","v":"India"},"All the 8 hours baby, all the 8!",5]
["ID1718","2012-06-06T18:52:03",8400,"USD",{"$f":"tblSalaries[[#This Row],[clean Salary (in local currency)]]*VLOOKUP(tblSalaries[[#This Row],[Currency]],[1]!tblXrate[#Data],2,FALSE)","v":8400},"gov employee","Analyst","indonesia",{"$f":"VLOOKUP(tblSalaries[[#This Row],[Where do you work]],[1]!tblCountries[[Actual]:[Mapping]],2,FALSE)","v":"Indonesia"},"4 to 6 hours a day",14]
["ID1719","2012-06-06T19:39:06",550000,"INR",{"$f":"tblSalaries[[#This Row],[clean Salary (in local currency)]]*VLOOKUP(tblSalaries[[#This Row],[Currency]],[1]!tblXrate[#Data],2,FALSE)","v":9794.354178093412},"Accounts manager","Manager","India",{"$f":"VLOOKUP(tblSalaries[[#This Row],[Where do you work]],[1]!tblCountries[[Actual]:[Mapping]],2,FALSE)","v":"India"},"4 to 6 hours a day",13]
["ID1720","2012-06-06T19:54:49",14400,"USD",{"$f":"tblSalaries[[#This Row],[clean Salary (in local currency)]]*VLOOKUP(tblSalaries[[#This Row],[Currency]],[1]!tblXrate[#Data],2,FALSE)","v":14400},"Engineer","Engineer","India",{"$f":"VLOOKUP(tblSalaries[[#This Row],[Where do you work]],[1]!tblCountries[[Actual]:[Mapping]],2,FALSE)","v":"India"},"1 or 2 hours a day",8]
["ID1721","2012-06-06T20:07:43",150000,"INR",{"$f":"tblSalaries[[#This Row],[clean Salary (in local currency)]]*VLOOKUP(tblSalaries[[#This Row],[Currency]],[1]!tblXrate[#Data],2,FALSE)","v":2671.1875031163854},"MIS Executive","Reporting","India",{"$f":"VLOOKUP(tblSalaries[[#This Row],[Where do you work]],[1]!tblCountries[[Actual]:[Mapping]],2,FALSE)","v":"India"},"All the 8 hours baby, all the 8!",3]
["ID1722","2012-06-06T20:41:35",22000,"USD",{"$f":"tblSalaries[[#This Row],[clean Salary (in local currency)]]*VLOOKUP(tblSalaries[[#This Row],[Currency]],[1]!tblXrate[#Data],2,FALSE)","v":22000},"Manager (MIS)","Manager","India",{"$f":"VLOOKUP(tblSalaries[[#This Row],[Where do you work]],[1]!tblCountries[[Actual]:[Mapping]],2,FALSE)","v":"India"},"All the 8 hours baby, all the 8!",6]
["ID1723","2012-06-06T21:18:51",100000,"USD",{"$f":"tblSalaries[[#This Row],[clean Salary (in local currency)]]*VLOOKUP(tblSalaries[[#This Row],[Currency]],[1]!tblXrate[#Data],2,FALSE)","v":100000},"financial analyst (real estate)","Analyst","Russia",{"$f":"VLOOKUP(tblSalaries[[#This Row],[Where do you work]],[1]!tblCountries[[Actual]:[Mapping]],2,FALSE)","v":"Russia"},"All the 8 hours baby, all the 8!",6]
["ID1724","2012-06-06T21:20:38",40000,"GBP",{"$f":"tblSalaries[[#This Row],[clean Salary (in local currency)]]*VLOOKUP(tblSalaries[[#This Row],[Currency]],[1]!tblXrate[#Data],2,FALSE)","v":63047.130882691366},"project manager","Manager","UK",{"$f":"VLOOKUP(tblSalaries[[#This Row],[Where do you work]],[1]!tblCountries[[Actual]:[Mapping]],2,FALSE)","v":"UK"},"4 to 6 hours a day",15]
["ID1725","2012-06-06T22:14:27",36000,"GBP",{"$f":"tblSalaries[[#This Row],[clean Salary (in local currency)]]*VLOOKUP(tblSalaries[[#This Row],[Currency]],[1]!tblXrate[#Data],2,FALSE)","v":56742.417794422225},"contracts officer","Manager","UK",{"$f":"VLOOKUP(tblSalaries[[#This Row],[Where do you work]],[1]!tblCountries[[Actual]:[Mapping]],2,FALSE)","v":"UK"},"1 or 2 hours a day",25]
["ID1726","2012-06-06T22:42:16",25000,"USD",{"$f":"tblSalaries[[#This Row],[clean Salary (in local currency)]]*VLOOKUP(tblSalaries[[#This Row],[Currency]],[1]!tblXrate[#Data],2,FALSE)","v":25000},"exe","Analyst","India",{"$f":"VLOOKUP(tblSalaries[[#This Row],[Where do you work]],[1]!tblCountries[[Actual]:[Mapping]],2,FALSE)","v":"India"},"All the 8 hours baby, all the 8!",8]
["ID1727","2012-06-07T00:32:24",500000,"INR",{"$f":"tblSalaries[[#This Row],[clean Salary (in local currency)]]*VLOOKUP(tblSalaries[[#This Row],[Currency]],[1]!tblXrate[#Data],2,FALSE)","v":8903.9583437212841},"Business Analyst","Analyst","India",{"$f":"VLOOKUP(tblSalaries[[#This Row],[Where do you work]],[1]!tblCountries[[Actual]:[Mapping]],2,FALSE)","v":"India"},"4 to 6 hours a day",2]
["ID1729","2012-06-07T06:22:17",27000,"GBP",{"$f":"tblSalaries[[#This Row],[clean Salary (in local currency)]]*VLOOKUP(tblSalaries[[#This Row],[Currency]],[1]!tblXrate[#Data],2,FALSE)","v":42556.81334581667},"Network Designer","Analyst","UK",{"$f":"VLOOKUP(tblSalaries[[#This Row],[Where do you work]],[1]!tblCountries[[Actual]:[Mapping]],2,FALSE)","v":"UK"},"4 to 6 hours a day",2]
["ID1730","2012-06-07T08:36:51",134000,"CAD",{"$f":"tblSalaries[[#This Row],[clean Salary (in local currency)]]*VLOOKUP(tblSalaries[[#This Row],[Currency]],[1]!tblXrate[#Data],2,FALSE)","v":131770.4440860638},"Senior Production Accountant","Accountant","Canada",{"$f":"VLOOKUP(tblSalaries[[#This Row],[Where do you work]],[1]!tblCountries[[Actual]:[Mapping]],2,FALSE)","v":"Canada"},"All the 8 hours baby, all the 8!",20]
["ID1731","2012-06-07T09:25:45",70000,"CAD",{"$f":"tblSalaries[[#This Row],[clean Salary (in local currency)]]*VLOOKUP(tblSalaries[[#This Row],[Currency]],[1]!tblXrate[#Data],2,FALSE)","v":68835.306612122877},"Financial Analyst","Analyst","Canada",{"$f":"VLOOKUP(tblSalaries[[#This Row],[Where do you work]],[1]!tblCountries[[Actual]:[Mapping]],2,FALSE)","v":"Canada"},"All the 8 hours baby, all the 8!",2]
["ID1732","2012-06-07T14:06:38",6000,"USD",{"$f":"tblSalaries[[#This Row],[clean Salary (in local currency)]]*VLOOKUP(tblSalaries[[#This Row],[Currency]],[1]!tblXrate[#Data],2,FALSE)","v":6000},"Reporting Coordinator","Reporting","Armenia",{"$f":"VLOOKUP(tblSalaries[[#This Row],[Where do you work]],[1]!tblCountries[[Actual]:[Mapping]],2,FALSE)","v":"Armenia"},"All the 8 hours baby, all the 8!",5]
["ID1733","2012-06-07T15:19:53",50000,"GBP",{"$f":"tblSalaries[[#This Row],[clean Salary (in local currency)]]*VLOOKUP(tblSalaries[[#This Row],[Currency]],[1]!tblXrate[#Data],2,FALSE)","v":78808.913603364199},"Research Analyst","Analyst","UK",{"$f":"VLOOKUP(tblSalaries[[#This Row],[Where do you work]],[1]!tblCountries[[Actual]:[Mapping]],2,FALSE)","v":"UK"},"2 to 3 hours per day",2]
["ID1734","2012-06-07T16:45:01",421000,"INR",{"$f":"tblSalaries[[#This Row],[clean Salary (in local currency)]]*VLOOKUP(tblSalaries[[#This Row],[Currency]],[1]!tblXrate[#Data],2,FALSE)","v":7497.1329254133216},"PMO Analyst","Analyst","India",{"$f":"VLOOKUP(tblSalaries[[#This Row],[Where do you work]],[1]!tblCountries[[Actual]:[Mapping]],2,FALSE)","v":"India"},"4 to 6 hours a day",4]
["ID1735","2012-06-07T16:53:54",10000,"USD",{"$f":"tblSalaries[[#This Row],[clean Salary (in local currency)]]*VLOOKUP(tblSalaries[[#This Row],[Currency]],[1]!tblXrate[#Data],2,FALSE)","v":10000},"AGM - Operations & Customer Support","Manager","India",{"$f":"VLOOKUP(tblSalaries[[#This Row],[Where do you work]],[1]!tblCountries[[Actual]:[Mapping]],2,FALSE)","v":"India"},"4 to 6 hours a day",11]
["ID1736","2012-06-07T17:09:18",360000,"INR",{"$f":"tblSalaries[[#This Row],[clean Salary (in local currency)]]*VLOOKUP(tblSalaries[[#This Row],[Currency]],[1]!tblXrate[#Data],2,FALSE)","v":6410.8500074793246},"Baan ERP Functional Consultant","Consultant","India",{"$f":"VLOOKUP(tblSalaries[[#This Row],[Where do you work]],[1]!tblCountries[[Actual]:[Mapping]],2,FALSE)","v":"India"},"1 or 2 hours a day",2]
["ID1737","2012-06-07T17:13:42",40000,"GBP",{"$f":"tblSalaries[[#This Row],[clean Salary (in local currency)]]*VLOOKUP(tblSalaries[[#This Row],[Currency]],[1]!tblXrate[#Data],2,FALSE)","v":63047.130882691366},"Analyst","Analyst","UK",{"$f":"VLOOKUP(tblSalaries[[#This Row],[Where do you work]],[1]!tblCountries[[Actual]:[Mapping]],2,FALSE)","v":"UK"},"4 to 6 hours a day",5]
["ID1738","2012-06-07T20:10:41",60000,"AUD",{"$f":"tblSalaries[[#This Row],[clean Salary (in local currency)]]*VLOOKUP(tblSalaries[[#This Row],[Currency]],[1]!tblXrate[#Data],2,FALSE)","v":61194.579384158147},"business analyst","Analyst","Australia",{"$f":"VLOOKUP(tblSalaries[[#This Row],[Where do you work]],[1]!tblCountries[[Actual]:[Mapping]],2,FALSE)","v":"Australia"},"2 to 3 hours per day",3]
["ID1739","2012-06-07T20:48:04",73000,"GBP",{"$f":"tblSalaries[[#This Row],[clean Salary (in local currency)]]*VLOOKUP(tblSalaries[[#This Row],[Currency]],[1]!tblXrate[#Data],2,FALSE)","v":115061.01386091174},"Financial Controller","Controller","UK",{"$f":"VLOOKUP(tblSalaries[[#This Row],[Where do you work]],[1]!tblCountries[[Actual]:[Mapping]],2,FALSE)","v":"UK"},"4 to 6 hours a day",8]
["ID1740","2012-06-07T23:33:23",45000,"USD",{"$f":"tblSalaries[[#This Row],[clean Salary (in local currency)]]*VLOOKUP(tblSalaries[[#This Row],[Currency]],[1]!tblXrate[#Data],2,FALSE)","v":45000},"Sourcing Analyst","Analyst","USA",{"$f":"VLOOKUP(tblSalaries[[#This Row],[Where do you work]],[1]!tblCountries[[Actual]:[Mapping]],2,FALSE)","v":"USA"},"All the 8 hours baby, all the 8!",2]
["ID1741","2012-06-07T23:48:29",36000,"USD",{"$f":"tblSalaries[[#This Row],[clean Salary (in local currency)]]*VLOOKUP(tblSalaries[[#This Row],[Currency]],[1]!tblXrate[#Data],2,FALSE)","v":36000},"clerk","Analyst","USA",{"$f":"VLOOKUP(tblSalaries[[#This Row],[Where do you work]],[1]!tblCountries[[Actual]:[Mapping]],2,FALSE)","v":"USA"},"4 to 6 hours a day",4]
["ID1742","2012-06-08T00:01:49",68000,"USD",{"$f":"tblSalaries[[#This Row],[clean Salary (in local currency)]]*VLOOKUP(tblSalaries[[#This Row],[Currency]],[1]!tblXrate[#Data],2,FALSE)","v":68000},"Tax Associate","Analyst","USA",{"$f":"VLOOKUP(tblSalaries[[#This Row],[Where do you work]],[1]!tblCountries[[Actual]:[Mapping]],2,FALSE)","v":"USA"},"4 to 6 hours a day",2.5]
["ID1743","2012-06-08T00:21:23",75000,"USD",{"$f":"tblSalaries[[#This Row],[clean Salary (in local currency)]]*VLOOKUP(tblSalaries[[#This Row],[Currency]],[1]!tblXrate[#Data],2,FALSE)","v":75000},"Senior Financial Analyst","Analyst","USA",{"$f":"VLOOKUP(tblSalaries[[#This Row],[Where do you work]],[1]!tblCountries[[Actual]:[Mapping]],2,FALSE)","v":"USA"},"All the 8 hours baby, all the 8!",5]
["ID1744","2012-06-08T02:27:13",88000,"USD",{"$f":"tblSalaries[[#This Row],[clean Salary (in local currency)]]*VLOOKUP(tblSalaries[[#This Row],[Currency]],[1]!tblXrate[#Data],2,FALSE)","v":88000},"Senior Fiancial Analyst","Analyst","USA",{"$f":"VLOOKUP(tblSalaries[[#This Row],[Where do you work]],[1]!tblCountries[[Actual]:[Mapping]],2,FALSE)","v":"USA"},"All the 8 hours baby, all the 8!",10]
["ID1745","2012-06-08T02:28:45",258000,"INR",{"$f":"tblSalaries[[#This Row],[clean Salary (in local currency)]]*VLOOKUP(tblSalaries[[#This Row],[Currency]],[1]!tblXrate[#Data],2,FALSE)","v":4594.4425053601826},"Senior Data Associate","Analyst","India",{"$f":"VLOOKUP(tblSalaries[[#This Row],[Where do you work]],[1]!tblCountries[[Actual]:[Mapping]],2,FALSE)","v":"India"},"4 to 6 hours a day",4]
["ID1746","2012-06-08T03:23:20",69000,"USD",{"$f":"tblSalaries[[#This Row],[clean Salary (in local currency)]]*VLOOKUP(tblSalaries[[#This Row],[Currency]],[1]!tblXrate[#Data],2,FALSE)","v":69000},"Business Analyst II","Analyst","USA",{"$f":"VLOOKUP(tblSalaries[[#This Row],[Where do you work]],[1]!tblCountries[[Actual]:[Mapping]],2,FALSE)","v":"USA"},"All the 8 hours baby, all the 8!",15]
["ID1747","2012-06-08T03:34:51",30000,"USD",{"$f":"tblSalaries[[#This Row],[clean Salary (in local currency)]]*VLOOKUP(tblSalaries[[#This Row],[Currency]],[1]!tblXrate[#Data],2,FALSE)","v":30000},"Inventory Manager","Manager","USA",{"$f":"VLOOKUP(tblSalaries[[#This Row],[Where do you work]],[1]!tblCountries[[Actual]:[Mapping]],2,FALSE)","v":"USA"},"4 to 6 hours a day",1]
["ID1748","2012-06-08T04:51:45",80000,"USD",{"$f":"tblSalaries[[#This Row],[clean Salary (in local currency)]]*VLOOKUP(tblSalaries[[#This Row],[Currency]],[1]!tblXrate[#Data],2,FALSE)","v":80000},"Sales / Finance Manager","Manager","USA",{"$f":"VLOOKUP(tblSalaries[[#This Row],[Where do you work]],[1]!tblCountries[[Actual]:[Mapping]],2,FALSE)","v":"USA"},"4 to 6 hours a day",7]
["ID1749","2012-06-08T06:42:32",75000,"USD",{"$f":"tblSalaries[[#This Row],[clean Salary (in local currency)]]*VLOOKUP(tblSalaries[[#This Row],[Currency]],[1]!tblXrate[#Data],2,FALSE)","v":75000},"actuary","Accountant","USA",{"$f":"VLOOKUP(tblSalaries[[#This Row],[Where do you work]],[1]!tblCountries[[Actual]:[Mapping]],2,FALSE)","v":"USA"},"All the 8 hours baby, all the 8!",1]
["ID1750","2012-06-08T08:15:54",31200,"USD",{"$f":"tblSalaries[[#This Row],[clean Salary (in local currency)]]*VLOOKUP(tblSalaries[[#This Row],[Currency]],[1]!tblXrate[#Data],2,FALSE)","v":31200},"Risk analyst","Analyst","Brazil",{"$f":"VLOOKUP(tblSalaries[[#This Row],[Where do you work]],[1]!tblCountries[[Actual]:[Mapping]],2,FALSE)","v":"Brazil"},"4 to 6 hours a day",4]
["ID1751","2012-06-08T09:46:59",85000,"USD",{"$f":"tblSalaries[[#This Row],[clean Salary (in local currency)]]*VLOOKUP(tblSalaries[[#This Row],[Currency]],[1]!tblXrate[#Data],2,FALSE)","v":85000},"Actuary","Accountant","USA",{"$f":"VLOOKUP(tblSalaries[[#This Row],[Where do you work]],[1]!tblCountries[[Actual]:[Mapping]],2,FALSE)","v":"USA"},"4 to 6 hours a day",20]
["ID1752","2012-06-08T13:38:45",950000,"INR",{"$f":"tblSalaries[[#This Row],[clean Salary (in local currency)]]*VLOOKUP(tblSalaries[[#This Row],[Currency]],[1]!tblXrate[#Data],2,FALSE)","v":16917.52085307044},"Associate Manager, Drug Safety Operations","Manager","India",{"$f":"VLOOKUP(tblSalaries[[#This Row],[Where do you work]],[1]!tblCountries[[Actual]:[Mapping]],2,FALSE)","v":"India"},"2 to 3 hours per day",9]
["ID1753","2012-06-08T13:55:44",180000,"INR",{"$f":"tblSalaries[[#This Row],[clean Salary (in local currency)]]*VLOOKUP(tblSalaries[[#This Row],[Currency]],[1]!tblXrate[#Data],2,FALSE)","v":3205.4250037396623},"mis","Reporting","India",{"$f":"VLOOKUP(tblSalaries[[#This Row],[Where do you work]],[1]!tblCountries[[Actual]:[Mapping]],2,FALSE)","v":"India"},"4 to 6 hours a day",2]
["ID1754","2012-06-08T14:43:05",60000,"USD",{"$f":"tblSalaries[[#This Row],[clean Salary (in local currency)]]*VLOOKUP(tblSalaries[[#This Row],[Currency]],[1]!tblXrate[#Data],2,FALSE)","v":60000},"Project Lead ","Manager","USA",{"$f":"VLOOKUP(tblSalaries[[#This Row],[Where do you work]],[1]!tblCountries[[Actual]:[Mapping]],2,FALSE)","v":"USA"},"All the 8 hours baby, all the 8!",2]
["ID1755","2012-06-08T14:43:40",60000,"USD",{"$f":"tblSalaries[[#This Row],[clean Salary (in local currency)]]*VLOOKUP(tblSalaries[[#This Row],[Currency]],[1]!tblXrate[#Data],2,FALSE)","v":60000},"Project Lead ","Manager","USA",{"$f":"VLOOKUP(tblSalaries[[#This Row],[Where do you work]],[1]!tblCountries[[Actual]:[Mapping]],2,FALSE)","v":"USA"},"All the 8 hours baby, all the 8!",2]
["ID1756","2012-06-08T15:43:16",800000,"INR",{"$f":"tblSalaries[[#This Row],[clean Salary (in local currency)]]*VLOOKUP(tblSalaries[[#This Row],[Currency]],[1]!tblXrate[#Data],2,FALSE)","v":14246.333349954055},"MANAGER","Manager","India",{"$f":"VLOOKUP(tblSalaries[[#This Row],[Where do you work]],[1]!tblCountries[[Actual]:[Mapping]],2,FALSE)","v":"India"},"2 to 3 hours per day",0]
["ID1757","2012-06-08T15:45:14",800000,"INR",{"$f":"tblSalaries[[#This Row],[clean Salary (in local currency)]]*VLOOKUP(tblSalaries[[#This Row],[Currency]],[1]!tblXrate[#Data],2,FALSE)","v":14246.333349954055},"MANAGER","Manager","India",{"$f":"VLOOKUP(tblSalaries[[#This Row],[Where do you work]],[1]!tblCountries[[Actual]:[Mapping]],2,FALSE)","v":"India"},"2 to 3 hours per day",0]
["ID1758","2012-06-08T18:48:12",28995,"USD",{"$f":"tblSalaries[[#This Row],[clean Salary (in local currency)]]*VLOOKUP(tblSalaries[[#This Row],[Currency]],[1]!tblXrate[#Data],2,FALSE)","v":28995},"Senior Executive","Manager","India",{"$f":"VLOOKUP(tblSalaries[[#This Row],[Where do you work]],[1]!tblCountries[[Actual]:[Mapping]],2,FALSE)","v":"India"},"4 to 6 hours a day",6]
["ID1759","2012-06-08T18:52:06",1230000,"INR",{"$f":"tblSalaries[[#This Row],[clean Salary (in local currency)]]*VLOOKUP(tblSalaries[[#This Row],[Currency]],[1]!tblXrate[#Data],2,FALSE)","v":21903.737525554359},"Financial Analyst ","Analyst","India",{"$f":"VLOOKUP(tblSalaries[[#This Row],[Where do you work]],[1]!tblCountries[[Actual]:[Mapping]],2,FALSE)","v":"India"},"All the 8 hours baby, all the 8!",3]
["ID1760","2012-06-08T18:52:44",1130000,"INR",{"$f":"tblSalaries[[#This Row],[clean Salary (in local currency)]]*VLOOKUP(tblSalaries[[#This Row],[Currency]],[1]!tblXrate[#Data],2,FALSE)","v":20122.945856810104},"Financial Analyst ","Analyst","India",{"$f":"VLOOKUP(tblSalaries[[#This Row],[Where do you work]],[1]!tblCountries[[Actual]:[Mapping]],2,FALSE)","v":"India"},"All the 8 hours baby, all the 8!",3]
["ID1761","2012-06-08T20:47:58",45000,"GBP",{"$f":"tblSalaries[[#This Row],[clean Salary (in local currency)]]*VLOOKUP(tblSalaries[[#This Row],[Currency]],[1]!tblXrate[#Data],2,FALSE)","v":70928.022243027779},"bUSINESS aNALYST","Analyst","UK",{"$f":"VLOOKUP(tblSalaries[[#This Row],[Where do you work]],[1]!tblCountries[[Actual]:[Mapping]],2,FALSE)","v":"UK"},"All the 8 hours baby, all the 8!",20]
["ID1762","2012-06-08T21:00:25",67000,"USD",{"$f":"tblSalaries[[#This Row],[clean Salary (in local currency)]]*VLOOKUP(tblSalaries[[#This Row],[Currency]],[1]!tblXrate[#Data],2,FALSE)","v":67000},"Manager","Manager","USA",{"$f":"VLOOKUP(tblSalaries[[#This Row],[Where do you work]],[1]!tblCountries[[Actual]:[Mapping]],2,FALSE)","v":"USA"},"4 to 6 hours a day",16]
["ID1763","2012-06-08T21:02:48",30000,"USD",{"$f":"tblSalaries[[#This Row],[clean Salary (in local currency)]]*VLOOKUP(tblSalaries[[#This Row],[Currency]],[1]!tblXrate[#Data],2,FALSE)","v":30000},"Customer Service","Analyst","USA",{"$f":"VLOOKUP(tblSalaries[[#This Row],[Where do you work]],[1]!tblCountries[[Actual]:[Mapping]],2,FALSE)","v":"USA"},"2 to 3 hours per day",4]
["ID1764","2012-06-08T22:48:39",140000,"CHF",{"$f":"tblSalaries[[#This Row],[clean Salary (in local currency)]]*VLOOKUP(tblSalaries[[#This Row],[Currency]],[1]!tblXrate[#Data],2,FALSE)","v":148102.22862117883},"Projektleiter","Manager","Switzerland",{"$f":"VLOOKUP(tblSalaries[[#This Row],[Where do you work]],[1]!tblCountries[[Actual]:[Mapping]],2,FALSE)","v":"Switzerland"},"2 to 3 hours per day",6]
["ID1765","2012-06-08T23:20:36",71500,"USD",{"$f":"tblSalaries[[#This Row],[clean Salary (in local currency)]]*VLOOKUP(tblSalaries[[#This Row],[Currency]],[1]!tblXrate[#Data],2,FALSE)","v":71500},"Pricing Manager","Manager","USA",{"$f":"VLOOKUP(tblSalaries[[#This Row],[Where do you work]],[1]!tblCountries[[Actual]:[Mapping]],2,FALSE)","v":"USA"},"All the 8 hours baby, all the 8!",11]
["ID1766","2012-06-08T23:46:11",67000,"USD",{"$f":"tblSalaries[[#This Row],[clean Salary (in local currency)]]*VLOOKUP(tblSalaries[[#This Row],[Currency]],[1]!tblXrate[#Data],2,FALSE)","v":67000},"Manager","Manager","USA",{"$f":"VLOOKUP(tblSalaries[[#This Row],[Where do you work]],[1]!tblCountries[[Actual]:[Mapping]],2,FALSE)","v":"USA"},"Excel ?!? What Excel?",6]
["ID1767","2012-06-09T00:49:07",40000,"USD",{"$f":"tblSalaries[[#This Row],[clean Salary (in local currency)]]*VLOOKUP(tblSalaries[[#This Row],[Currency]],[1]!tblXrate[#Data],2,FALSE)","v":40000},"Market Research Analyst","Analyst","USA",{"$f":"VLOOKUP(tblSalaries[[#This Row],[Where do you work]],[1]!tblCountries[[Actual]:[Mapping]],2,FALSE)","v":"USA"},"4 to 6 hours a day",5]
["ID1768","2012-06-09T01:15:44",65000,"USD",{"$f":"tblSalaries[[#This Row],[clean Salary (in local currency)]]*VLOOKUP(tblSalaries[[#This Row],[Currency]],[1]!tblXrate[#Data],2,FALSE)","v":65000},"Compliance Officer","Manager","USA",{"$f":"VLOOKUP(tblSalaries[[#This Row],[Where do you work]],[1]!tblCountries[[Actual]:[Mapping]],2,FALSE)","v":"USA"},"4 to 6 hours a day",2]
["ID1769","2012-06-09T01:47:30",72000,"USD",{"$f":"tblSalaries[[#This Row],[clean Salary (in local currency)]]*VLOOKUP(tblSalaries[[#This Row],[Currency]],[1]!tblXrate[#Data],2,FALSE)","v":72000},"Consultant","Consultant","USA",{"$f":"VLOOKUP(tblSalaries[[#This Row],[Where do you work]],[1]!tblCountries[[Actual]:[Mapping]],2,FALSE)","v":"USA"},"2 to 3 hours per day",13]
["ID1770","2012-06-09T03:20:15",52500,"USD",{"$f":"tblSalaries[[#This Row],[clean Salary (in local currency)]]*VLOOKUP(tblSalaries[[#This Row],[Currency]],[1]!tblXrate[#Data],2,FALSE)","v":52500},"Data Management Solutions Supervisor","Manager","USA",{"$f":"VLOOKUP(tblSalaries[[#This Row],[Where do you work]],[1]!tblCountries[[Actual]:[Mapping]],2,FALSE)","v":"USA"},"All the 8 hours baby, all the 8!",3]
["ID1771","2012-06-09T12:01:19",5320,"USD",{"$f":"tblSalaries[[#This Row],[clean Salary (in local currency)]]*VLOOKUP(tblSalaries[[#This Row],[Currency]],[1]!tblXrate[#Data],2,FALSE)","v":5320},"Officer","Manager","India",{"$f":"VLOOKUP(tblSalaries[[#This Row],[Where do you work]],[1]!tblCountries[[Actual]:[Mapping]],2,FALSE)","v":"India"},"2 to 3 hours per day",5]
["ID1772","2012-06-09T20:38:03",18000,"USD",{"$f":"tblSalaries[[#This Row],[clean Salary (in local currency)]]*VLOOKUP(tblSalaries[[#This Row],[Currency]],[1]!tblXrate[#Data],2,FALSE)","v":18000},"accountant","Accountant","uae",{"$f":"VLOOKUP(tblSalaries[[#This Row],[Where do you work]],[1]!tblCountries[[Actual]:[Mapping]],2,FALSE)","v":"UAE"},"All the 8 hours baby, all the 8!",3]
["ID1773","2012-06-10T00:50:26",140000,"INR",{"$f":"tblSalaries[[#This Row],[clean Salary (in local currency)]]*VLOOKUP(tblSalaries[[#This Row],[Currency]],[1]!tblXrate[#Data],2,FALSE)","v":2493.1083362419595},"magic","Misc.","India",{"$f":"VLOOKUP(tblSalaries[[#This Row],[Where do you work]],[1]!tblCountries[[Actual]:[Mapping]],2,FALSE)","v":"India"},"4 to 6 hours a day",5]
["ID1774","2012-06-10T01:48:44",16800,"EUR",{"$f":"tblSalaries[[#This Row],[clean Salary (in local currency)]]*VLOOKUP(tblSalaries[[#This Row],[Currency]],[1]!tblXrate[#Data],2,FALSE)","v":21342.710575059013},"account","Accountant","portugal",{"$f":"VLOOKUP(tblSalaries[[#This Row],[Where do you work]],[1]!tblCountries[[Actual]:[Mapping]],2,FALSE)","v":"Portugal"},"4 to 6 hours a day",15]
["ID1775","2012-06-10T02:20:05",85000,"USD",{"$f":"tblSalaries[[#This Row],[clean Salary (in local currency)]]*VLOOKUP(tblSalaries[[#This Row],[Currency]],[1]!tblXrate[#Data],2,FALSE)","v":85000},"purchasing manager","Manager","USA",{"$f":"VLOOKUP(tblSalaries[[#This Row],[Where do you work]],[1]!tblCountries[[Actual]:[Mapping]],2,FALSE)","v":"USA"},"2 to 3 hours per day",15]
["ID1776","2012-06-10T02:29:57",80000,"USD",{"$f":"tblSalaries[[#This Row],[clean Salary (in local currency)]]*VLOOKUP(tblSalaries[[#This Row],[Currency]],[1]!tblXrate[#Data],2,FALSE)","v":80000},"Engineer","Engineer","Brazil",{"$f":"VLOOKUP(tblSalaries[[#This Row],[Where do you work]],[1]!tblCountries[[Actual]:[Mapping]],2,FALSE)","v":"Brazil"},"1 or 2 hours a day",9]
["ID1777","2012-06-10T04:16:05",500000,"INR",{"$f":"tblSalaries[[#This Row],[clean Salary (in local currency)]]*VLOOKUP(tblSalaries[[#This Row],[Currency]],[1]!tblXrate[#Data],2,FALSE)","v":8903.9583437212841},"equity research trainee","Analyst","India",{"$f":"VLOOKUP(tblSalaries[[#This Row],[Where do you work]],[1]!tblCountries[[Actual]:[Mapping]],2,FALSE)","v":"India"},"All the 8 hours baby, all the 8!",0]
["ID1778","2012-06-10T12:31:48",125000,"USD",{"$f":"tblSalaries[[#This Row],[clean Salary (in local currency)]]*VLOOKUP(tblSalaries[[#This Row],[Currency]],[1]!tblXrate[#Data],2,FALSE)","v":125000},"project manager","Manager","USA",{"$f":"VLOOKUP(tblSalaries[[#This Row],[Where do you work]],[1]!tblCountries[[Actual]:[Mapping]],2,FALSE)","v":"USA"},"All the 8 hours baby, all the 8!",10]
["ID1779","2012-06-10T14:58:39",1300000,"INR",{"$f":"tblSalaries[[#This Row],[clean Salary (in local currency)]]*VLOOKUP(tblSalaries[[#This Row],[Currency]],[1]!tblXrate[#Data],2,FALSE)","v":23150.291693675339},"Manager","Manager","India",{"$f":"VLOOKUP(tblSalaries[[#This Row],[Where do you work]],[1]!tblCountries[[Actual]:[Mapping]],2,FALSE)","v":"India"},"All the 8 hours baby, all the 8!",9]
["ID1780","2012-06-10T15:20:01",12000,"USD",{"$f":"tblSalaries[[#This Row],[clean Salary (in local currency)]]*VLOOKUP(tblSalaries[[#This Row],[Currency]],[1]!tblXrate[#Data],2,FALSE)","v":12000},"project engineer ","Engineer","India",{"$f":"VLOOKUP(tblSalaries[[#This Row],[Where do you work]],[1]!tblCountries[[Actual]:[Mapping]],2,FALSE)","v":"India"},"2 to 3 hours per day",7]
["ID1781","2012-06-10T15:59:17",30000,"USD",{"$f":"tblSalaries[[#This Row],[clean Salary (in local currency)]]*VLOOKUP(tblSalaries[[#This Row],[Currency]],[1]!tblXrate[#Data],2,FALSE)","v":30000},"Teacher","Analyst","Malaysia",{"$f":"VLOOKUP(tblSalaries[[#This Row],[Where do you work]],[1]!tblCountries[[Actual]:[Mapping]],2,FALSE)","v":"malaysia"},"1 or 2 hours a day",12]
["ID1782","2012-06-10T17:21:08",72000,"EUR",{"$f":"tblSalaries[[#This Row],[clean Salary (in local currency)]]*VLOOKUP(tblSalaries[[#This Row],[Currency]],[1]!tblXrate[#Data],2,FALSE)","v":91468.759607395754},"regional sales manager","Manager","croatia",{"$f":"VLOOKUP(tblSalaries[[#This Row],[Where do you work]],[1]!tblCountries[[Actual]:[Mapping]],2,FALSE)","v":"Croatia"},"1 or 2 hours a day",3]
["ID1783","2012-06-10T20:30:23",22300,"GBP",{"$f":"tblSalaries[[#This Row],[clean Salary (in local currency)]]*VLOOKUP(tblSalaries[[#This Row],[Currency]],[1]!tblXrate[#Data],2,FALSE)","v":35148.775467100437},"Analysis & insight consultant","Analyst","UK",{"$f":"VLOOKUP(tblSalaries[[#This Row],[Where do you work]],[1]!tblCountries[[Actual]:[Mapping]],2,FALSE)","v":"UK"},"All the 8 hours baby, all the 8!",4]
["ID1784","2012-06-10T21:52:30",31185,"GBP",{"$f":"tblSalaries[[#This Row],[clean Salary (in local currency)]]*VLOOKUP(tblSalaries[[#This Row],[Currency]],[1]!tblXrate[#Data],2,FALSE)","v":49153.119414418252},"Data Team Leader","Manager","UK",{"$f":"VLOOKUP(tblSalaries[[#This Row],[Where do you work]],[1]!tblCountries[[Actual]:[Mapping]],2,FALSE)","v":"UK"},"4 to 6 hours a day",7]
["ID1785","2012-06-11T03:11:39",150000,"INR",{"$f":"tblSalaries[[#This Row],[clean Salary (in local currency)]]*VLOOKUP(tblSalaries[[#This Row],[Currency]],[1]!tblXrate[#Data],2,FALSE)","v":2671.1875031163854},"ENGINEER","Engineer","India",{"$f":"VLOOKUP(tblSalaries[[#This Row],[Where do you work]],[1]!tblCountries[[Actual]:[Mapping]],2,FALSE)","v":"India"},"2 to 3 hours per day",1]
["ID1786","2012-06-11T05:59:09",27000,"GBP",{"$f":"tblSalaries[[#This Row],[clean Salary (in local currency)]]*VLOOKUP(tblSalaries[[#This Row],[Currency]],[1]!tblXrate[#Data],2,FALSE)","v":42556.81334581667},"assistant account manager","Manager","UK",{"$f":"VLOOKUP(tblSalaries[[#This Row],[Where do you work]],[1]!tblCountries[[Actual]:[Mapping]],2,FALSE)","v":"UK"},"4 to 6 hours a day",3]
["ID1787","2012-06-11T05:59:55",27000,"GBP",{"$f":"tblSalaries[[#This Row],[clean Salary (in local currency)]]*VLOOKUP(tblSalaries[[#This Row],[Currency]],[1]!tblXrate[#Data],2,FALSE)","v":42556.81334581667},"assistant account manager","Manager","UK",{"$f":"VLOOKUP(tblSalaries[[#This Row],[Where do you work]],[1]!tblCountries[[Actual]:[Mapping]],2,FALSE)","v":"UK"},"4 to 6 hours a day",3]
["ID1788","2012-06-11T10:04:43",74461,"USD",{"$f":"tblSalaries[[#This Row],[clean Salary (in local currency)]]*VLOOKUP(tblSalaries[[#This Row],[Currency]],[1]!tblXrate[#Data],2,FALSE)","v":74461},"Scientist III","Misc.","USA",{"$f":"VLOOKUP(tblSalaries[[#This Row],[Where do you work]],[1]!tblCountries[[Actual]:[Mapping]],2,FALSE)","v":"USA"},"1 or 2 hours a day",9]
["ID1789","2012-06-11T16:55:40",26500,"GBP",{"$f":"tblSalaries[[#This Row],[clean Salary (in local currency)]]*VLOOKUP(tblSalaries[[#This Row],[Currency]],[1]!tblXrate[#Data],2,FALSE)","v":41768.724209783031},"Compliance Manager","Manager","UK",{"$f":"VLOOKUP(tblSalaries[[#This Row],[Where do you work]],[1]!tblCountries[[Actual]:[Mapping]],2,FALSE)","v":"UK"},"4 to 6 hours a day",16]
["ID1790","2012-06-11T17:01:58",480000,"INR",{"$f":"tblSalaries[[#This Row],[clean Salary (in local currency)]]*VLOOKUP(tblSalaries[[#This Row],[Currency]],[1]!tblXrate[#Data],2,FALSE)","v":8547.8000099724322},"Development Analyst","Analyst","India",{"$f":"VLOOKUP(tblSalaries[[#This Row],[Where do you work]],[1]!tblCountries[[Actual]:[Mapping]],2,FALSE)","v":"India"},"4 to 6 hours a day",1]
["ID1791","2012-06-11T17:54:22",2400,"USD",{"$f":"tblSalaries[[#This Row],[clean Salary (in local currency)]]*VLOOKUP(tblSalaries[[#This Row],[Currency]],[1]!tblXrate[#Data],2,FALSE)","v":2400},"computer operator","Analyst","India",{"$f":"VLOOKUP(tblSalaries[[#This Row],[Where do you work]],[1]!tblCountries[[Actual]:[Mapping]],2,FALSE)","v":"India"},"2 to 3 hours per day",3]
["ID1792","2012-06-11T19:40:47",3000,"USD",{"$f":"tblSalaries[[#This Row],[clean Salary (in local currency)]]*VLOOKUP(tblSalaries[[#This Row],[Currency]],[1]!tblXrate[#Data],2,FALSE)","v":3000},"executive","Analyst","Bangladesh",{"$f":"VLOOKUP(tblSalaries[[#This Row],[Where do you work]],[1]!tblCountries[[Actual]:[Mapping]],2,FALSE)","v":"Bangladesh"},"1 or 2 hours a day",12]
["ID1793","2012-06-11T19:56:36",11000,"USD",{"$f":"tblSalaries[[#This Row],[clean Salary (in local currency)]]*VLOOKUP(tblSalaries[[#This Row],[Currency]],[1]!tblXrate[#Data],2,FALSE)","v":11000},"Web Analyst","Analyst","India",{"$f":"VLOOKUP(tblSalaries[[#This Row],[Where do you work]],[1]!tblCountries[[Actual]:[Mapping]],2,FALSE)","v":"India"},"4 to 6 hours a day",2]
["ID1794","2012-06-11T21:03:36",40000,"USD",{"$f":"tblSalaries[[#This Row],[clean Salary (in local currency)]]*VLOOKUP(tblSalaries[[#This Row],[Currency]],[1]!tblXrate[#Data],2,FALSE)","v":40000},"Intern","Analyst","USA",{"$f":"VLOOKUP(tblSalaries[[#This Row],[Where do you work]],[1]!tblCountries[[Actual]:[Mapping]],2,FALSE)","v":"USA"},"2 to 3 hours per day",2]
["ID1795","2012-06-11T21:29:29",3600,"USD",{"$f":"tblSalaries[[#This Row],[clean Salary (in local currency)]]*VLOOKUP(tblSalaries[[#This Row],[Currency]],[1]!tblXrate[#Data],2,FALSE)","v":3600},"Analyst","Analyst","India",{"$f":"VLOOKUP(tblSalaries[[#This Row],[Where do you work]],[1]!tblCountries[[Actual]:[Mapping]],2,FALSE)","v":"India"},"4 to 6 hours a day",1]
["ID1796","2012-06-11T21:52:14",56600,"USD",{"$f":"tblSalaries[[#This Row],[clean Salary (in local currency)]]*VLOOKUP(tblSalaries[[#This Row],[Currency]],[1]!tblXrate[#Data],2,FALSE)","v":56600},"ECommerce Manager","Manager","USA",{"$f":"VLOOKUP(tblSalaries[[#This Row],[Where do you work]],[1]!tblCountries[[Actual]:[Mapping]],2,FALSE)","v":"USA"},"4 to 6 hours a day",12]
["ID1797","2012-06-11T22:21:25",33600,"USD",{"$f":"tblSalaries[[#This Row],[clean Salary (in local currency)]]*VLOOKUP(tblSalaries[[#This Row],[Currency]],[1]!tblXrate[#Data],2,FALSE)","v":33600},"Executive","Analyst","Singapore",{"$f":"VLOOKUP(tblSalaries[[#This Row],[Where do you work]],[1]!tblCountries[[Actual]:[Mapping]],2,FALSE)","v":"Singapore"},"All the 8 hours baby, all the 8!",2]
["ID1798","2012-06-11T22:22:00",33600,"USD",{"$f":"tblSalaries[[#This Row],[clean Salary (in local currency)]]*VLOOKUP(tblSalaries[[#This Row],[Currency]],[1]!tblXrate[#Data],2,FALSE)","v":33600},"Executive","Analyst","Singapore",{"$f":"VLOOKUP(tblSalaries[[#This Row],[Where do you work]],[1]!tblCountries[[Actual]:[Mapping]],2,FALSE)","v":"Singapore"},"All the 8 hours baby, all the 8!",2]
["ID1799","2012-06-12T00:26:07",100000,"USD",{"$f":"tblSalaries[[#This Row],[clean Salary (in local currency)]]*VLOOKUP(tblSalaries[[#This Row],[Currency]],[1]!tblXrate[#Data],2,FALSE)","v":100000},"analyst","Analyst","USA",{"$f":"VLOOKUP(tblSalaries[[#This Row],[Where do you work]],[1]!tblCountries[[Actual]:[Mapping]],2,FALSE)","v":"USA"},"All the 8 hours baby, all the 8!",12]
["ID1800","2012-06-12T01:55:12",40000,"CAD",{"$f":"tblSalaries[[#This Row],[clean Salary (in local currency)]]*VLOOKUP(tblSalaries[[#This Row],[Currency]],[1]!tblXrate[#Data],2,FALSE)","v":39334.460921213074},"Machine Scheduler","Analyst","Canada",{"$f":"VLOOKUP(tblSalaries[[#This Row],[Where do you work]],[1]!tblCountries[[Actual]:[Mapping]],2,FALSE)","v":"Canada"},"1 or 2 hours a day",1]
["ID1801","2012-06-12T01:58:00",400000,"INR",{"$f":"tblSalaries[[#This Row],[clean Salary (in local currency)]]*VLOOKUP(tblSalaries[[#This Row],[Currency]],[1]!tblXrate[#Data],2,FALSE)","v":7123.1666749770275},"business analyst","Analyst","India",{"$f":"VLOOKUP(tblSalaries[[#This Row],[Where do you work]],[1]!tblCountries[[Actual]:[Mapping]],2,FALSE)","v":"India"},"2 to 3 hours per day",3]
["ID1802","2012-06-12T02:43:17",65000,"USD",{"$f":"tblSalaries[[#This Row],[clean Salary (in local currency)]]*VLOOKUP(tblSalaries[[#This Row],[Currency]],[1]!tblXrate[#Data],2,FALSE)","v":65000},"Sr Financial Systems Analyst","Analyst","USA",{"$f":"VLOOKUP(tblSalaries[[#This Row],[Where do you work]],[1]!tblCountries[[Actual]:[Mapping]],2,FALSE)","v":"USA"},"4 to 6 hours a day",14]
["ID1803","2012-06-12T02:59:16",65000,"USD",{"$f":"tblSalaries[[#This Row],[clean Salary (in local currency)]]*VLOOKUP(tblSalaries[[#This Row],[Currency]],[1]!tblXrate[#Data],2,FALSE)","v":65000},"Data Analyst","Analyst","USA",{"$f":"VLOOKUP(tblSalaries[[#This Row],[Where do you work]],[1]!tblCountries[[Actual]:[Mapping]],2,FALSE)","v":"USA"},"2 to 3 hours per day",10]
["ID1804","2012-06-12T03:32:27",65000,"USD",{"$f":"tblSalaries[[#This Row],[clean Salary (in local currency)]]*VLOOKUP(tblSalaries[[#This Row],[Currency]],[1]!tblXrate[#Data],2,FALSE)","v":65000},"Assistant Controller","Controller","USA",{"$f":"VLOOKUP(tblSalaries[[#This Row],[Where do you work]],[1]!tblCountries[[Actual]:[Mapping]],2,FALSE)","v":"USA"},"2 to 3 hours per day",13]
["ID1805","2012-06-12T03:45:25",78000,"CAD",{"$f":"tblSalaries[[#This Row],[clean Salary (in local currency)]]*VLOOKUP(tblSalaries[[#This Row],[Currency]],[1]!tblXrate[#Data],2,FALSE)","v":76702.198796365497},"SFA","Analyst","Canada",{"$f":"VLOOKUP(tblSalaries[[#This Row],[Where do you work]],[1]!tblCountries[[Actual]:[Mapping]],2,FALSE)","v":"Canada"},"All the 8 hours baby, all the 8!",4]
["ID1806","2012-06-12T06:36:12",63000,"USD",{"$f":"tblSalaries[[#This Row],[clean Salary (in local currency)]]*VLOOKUP(tblSalaries[[#This Row],[Currency]],[1]!tblXrate[#Data],2,FALSE)","v":63000},"Sales Analyst","Analyst","USA",{"$f":"VLOOKUP(tblSalaries[[#This Row],[Where do you work]],[1]!tblCountries[[Actual]:[Mapping]],2,FALSE)","v":"USA"},"All the 8 hours baby, all the 8!",10]
["ID1807","2012-06-12T08:36:15",87000,"USD",{"$f":"tblSalaries[[#This Row],[clean Salary (in local currency)]]*VLOOKUP(tblSalaries[[#This Row],[Currency]],[1]!tblXrate[#Data],2,FALSE)","v":87000},"Ð˜Ð¨ Ð¤Ñ‚Ñ„Ð´Ð½Ñ‹Ðµ","Misc.","USA",{"$f":"VLOOKUP(tblSalaries[[#This Row],[Where do you work]],[1]!tblCountries[[Actual]:[Mapping]],2,FALSE)","v":"USA"},"4 to 6 hours a day",3]
["ID1808","2012-06-12T08:46:15",45000,"USD",{"$f":"tblSalaries[[#This Row],[clean Salary (in local currency)]]*VLOOKUP(tblSalaries[[#This Row],[Currency]],[1]!tblXrate[#Data],2,FALSE)","v":45000},"ba","Analyst","USA",{"$f":"VLOOKUP(tblSalaries[[#This Row],[Where do you work]],[1]!tblCountries[[Actual]:[Mapping]],2,FALSE)","v":"USA"},"4 to 6 hours a day",4]
["ID1809","2012-06-12T12:15:46",85000,"USD",{"$f":"tblSalaries[[#This Row],[clean Salary (in local currency)]]*VLOOKUP(tblSalaries[[#This Row],[Currency]],[1]!tblXrate[#Data],2,FALSE)","v":85000},"Lead Financial Analyst","Analyst","USA",{"$f":"VLOOKUP(tblSalaries[[#This Row],[Where do you work]],[1]!tblCountries[[Actual]:[Mapping]],2,FALSE)","v":"USA"},"All the 8 hours baby, all the 8!",3]
["ID1810","2012-06-12T15:09:22",156000,"AUD",{"$f":"tblSalaries[[#This Row],[clean Salary (in local currency)]]*VLOOKUP(tblSalaries[[#This Row],[Currency]],[1]!tblXrate[#Data],2,FALSE)","v":159105.90639881117},"Senior Associate Engineer","Engineer","Australia",{"$f":"VLOOKUP(tblSalaries[[#This Row],[Where do you work]],[1]!tblCountries[[Actual]:[Mapping]],2,FALSE)","v":"Australia"},"2 to 3 hours per day",12]
["ID1811","2012-06-12T15:58:36",560000,"INR",{"$f":"tblSalaries[[#This Row],[clean Salary (in local currency)]]*VLOOKUP(tblSalaries[[#This Row],[Currency]],[1]!tblXrate[#Data],2,FALSE)","v":9972.4333449678379},"Associate Manager","Manager","India",{"$f":"VLOOKUP(tblSalaries[[#This Row],[Where do you work]],[1]!tblCountries[[Actual]:[Mapping]],2,FALSE)","v":"India"},"2 to 3 hours per day",4]
["ID1812","2012-06-12T16:16:25",14000,"USD",{"$f":"tblSalaries[[#This Row],[clean Salary (in local currency)]]*VLOOKUP(tblSalaries[[#This Row],[Currency]],[1]!tblXrate[#Data],2,FALSE)","v":14000},"Manager","Manager","India",{"$f":"VLOOKUP(tblSalaries[[#This Row],[Where do you work]],[1]!tblCountries[[Actual]:[Mapping]],2,FALSE)","v":"India"},"4 to 6 hours a day",5]
["ID1813","2012-06-12T18:09:58",32000,"GBP",{"$f":"tblSalaries[[#This Row],[clean Salary (in local currency)]]*VLOOKUP(tblSalaries[[#This Row],[Currency]],[1]!tblXrate[#Data],2,FALSE)","v":50437.70470615309},"Business Analyst","Analyst","UK",{"$f":"VLOOKUP(tblSalaries[[#This Row],[Where do you work]],[1]!tblCountries[[Actual]:[Mapping]],2,FALSE)","v":"UK"},"4 to 6 hours a day",20]
["ID1814","2012-06-12T18:28:39",32000,"GBP",{"$f":"tblSalaries[[#This Row],[clean Salary (in local currency)]]*VLOOKUP(tblSalaries[[#This Row],[Currency]],[1]!tblXrate[#Data],2,FALSE)","v":50437.70470615309},"Financial Analyst","Analyst","UK",{"$f":"VLOOKUP(tblSalaries[[#This Row],[Where do you work]],[1]!tblCountries[[Actual]:[Mapping]],2,FALSE)","v":"UK"},"All the 8 hours baby, all the 8!",1]
["ID1815","2012-06-12T20:11:24",1281600,"PKR",{"$f":"tblSalaries[[#This Row],[clean Salary (in local currency)]]*VLOOKUP(tblSalaries[[#This Row],[Currency]],[1]!tblXrate[#Data],2,FALSE)","v":13603.016099449767},"Manager MIS & Analytics","Manager","pakistan",{"$f":"VLOOKUP(tblSalaries[[#This Row],[Where do you work]],[1]!tblCountries[[Actual]:[Mapping]],2,FALSE)","v":"Pakistan"},"All the 8 hours baby, all the 8!",8]
["ID1816","2012-06-12T20:47:33",145000,"AUD",{"$f":"tblSalaries[[#This Row],[clean Salary (in local currency)]]*VLOOKUP(tblSalaries[[#This Row],[Currency]],[1]!tblXrate[#Data],2,FALSE)","v":147886.90017838217},"Financial controller","Controller","Australia",{"$f":"VLOOKUP(tblSalaries[[#This Row],[Where do you work]],[1]!tblCountries[[Actual]:[Mapping]],2,FALSE)","v":"Australia"},"2 to 3 hours per day",15]
["ID1818","2012-06-12T21:47:54",280000,"INR",{"$f":"tblSalaries[[#This Row],[clean Salary (in local currency)]]*VLOOKUP(tblSalaries[[#This Row],[Currency]],[1]!tblXrate[#Data],2,FALSE)","v":4986.216672483919},"Sales Cordinator","Analyst","India",{"$f":"VLOOKUP(tblSalaries[[#This Row],[Where do you work]],[1]!tblCountries[[Actual]:[Mapping]],2,FALSE)","v":"India"},"All the 8 hours baby, all the 8!",8]
["ID1819","2012-06-12T21:58:21",4800,"USD",{"$f":"tblSalaries[[#This Row],[clean Salary (in local currency)]]*VLOOKUP(tblSalaries[[#This Row],[Currency]],[1]!tblXrate[#Data],2,FALSE)","v":4800},"Sr Executive","Manager","India",{"$f":"VLOOKUP(tblSalaries[[#This Row],[Where do you work]],[1]!tblCountries[[Actual]:[Mapping]],2,FALSE)","v":"India"},"All the 8 hours baby, all the 8!",3]
["ID1820","2012-06-13T00:20:14",450000,"INR",{"$f":"tblSalaries[[#This Row],[clean Salary (in local currency)]]*VLOOKUP(tblSalaries[[#This Row],[Currency]],[1]!tblXrate[#Data],2,FALSE)","v":8013.5625093491553},"MIS Executive","Reporting","India",{"$f":"VLOOKUP(tblSalaries[[#This Row],[Where do you work]],[1]!tblCountries[[Actual]:[Mapping]],2,FALSE)","v":"India"},"4 to 6 hours a day",4]
["ID1821","2012-06-13T00:23:31",80000,"USD",{"$f":"tblSalaries[[#This Row],[clean Salary (in local currency)]]*VLOOKUP(tblSalaries[[#This Row],[Currency]],[1]!tblXrate[#Data],2,FALSE)","v":80000},"Manager, Operations","Manager","USA",{"$f":"VLOOKUP(tblSalaries[[#This Row],[Where do you work]],[1]!tblCountries[[Actual]:[Mapping]],2,FALSE)","v":"USA"},"4 to 6 hours a day",2]
["ID1822","2012-06-13T00:37:24",45000,"EUR",{"$f":"tblSalaries[[#This Row],[clean Salary (in local currency)]]*VLOOKUP(tblSalaries[[#This Row],[Currency]],[1]!tblXrate[#Data],2,FALSE)","v":57167.974754622352},"IT Trainer","Analyst","Netherlands",{"$f":"VLOOKUP(tblSalaries[[#This Row],[Where do you work]],[1]!tblCountries[[Actual]:[Mapping]],2,FALSE)","v":"Netherlands"},"2 to 3 hours per day",14]
["ID1823","2012-06-13T00:50:20",20000,"USD",{"$f":"tblSalaries[[#This Row],[clean Salary (in local currency)]]*VLOOKUP(tblSalaries[[#This Row],[Currency]],[1]!tblXrate[#Data],2,FALSE)","v":20000},"administrator","Analyst","Canada",{"$f":"VLOOKUP(tblSalaries[[#This Row],[Where do you work]],[1]!tblCountries[[Actual]:[Mapping]],2,FALSE)","v":"Canada"},"2 to 3 hours per day",2]
["ID1824","2012-06-13T01:56:23",70000,"USD",{"$f":"tblSalaries[[#This Row],[clean Salary (in local currency)]]*VLOOKUP(tblSalaries[[#This Row],[Currency]],[1]!tblXrate[#Data],2,FALSE)","v":70000},"business analyst","Analyst","USA",{"$f":"VLOOKUP(tblSalaries[[#This Row],[Where do you work]],[1]!tblCountries[[Actual]:[Mapping]],2,FALSE)","v":"USA"},"2 to 3 hours per day",5]
["ID1825","2012-06-13T03:23:05",214000,"USD",{"$f":"tblSalaries[[#This Row],[clean Salary (in local currency)]]*VLOOKUP(tblSalaries[[#This Row],[Currency]],[1]!tblXrate[#Data],2,FALSE)","v":214000},"Assistant Corporate Controller","Controller","USA",{"$f":"VLOOKUP(tblSalaries[[#This Row],[Where do you work]],[1]!tblCountries[[Actual]:[Mapping]],2,FALSE)","v":"USA"},"All the 8 hours baby, all the 8!",20]
["ID1826","2012-06-13T03:48:39",78000,"USD",{"$f":"tblSalaries[[#This Row],[clean Salary (in local currency)]]*VLOOKUP(tblSalaries[[#This Row],[Currency]],[1]!tblXrate[#Data],2,FALSE)","v":78000},"Data Integration Engenieer","Engineer","USA",{"$f":"VLOOKUP(tblSalaries[[#This Row],[Where do you work]],[1]!tblCountries[[Actual]:[Mapping]],2,FALSE)","v":"USA"},"All the 8 hours baby, all the 8!",5]
["ID1827","2012-06-13T04:39:37",42307,"USD",{"$f":"tblSalaries[[#This Row],[clean Salary (in local currency)]]*VLOOKUP(tblSalaries[[#This Row],[Currency]],[1]!tblXrate[#Data],2,FALSE)","v":42307},"purchasing operations administrator","Analyst","USA",{"$f":"VLOOKUP(tblSalaries[[#This Row],[Where do you work]],[1]!tblCountries[[Actual]:[Mapping]],2,FALSE)","v":"USA"},"2 to 3 hours per day",25]
["ID1828","2012-06-13T04:40:03",33250,"USD",{"$f":"tblSalaries[[#This Row],[clean Salary (in local currency)]]*VLOOKUP(tblSalaries[[#This Row],[Currency]],[1]!tblXrate[#Data],2,FALSE)","v":33250},"Planning and Logistics Coordinator","Manager","USA",{"$f":"VLOOKUP(tblSalaries[[#This Row],[Where do you work]],[1]!tblCountries[[Actual]:[Mapping]],2,FALSE)","v":"USA"},"All the 8 hours baby, all the 8!",20]
["ID1829","2012-06-13T05:20:32",19200,"EUR",{"$f":"tblSalaries[[#This Row],[clean Salary (in local currency)]]*VLOOKUP(tblSalaries[[#This Row],[Currency]],[1]!tblXrate[#Data],2,FALSE)","v":24391.669228638868},"bank clerk","Analyst","italy",{"$f":"VLOOKUP(tblSalaries[[#This Row],[Where do you work]],[1]!tblCountries[[Actual]:[Mapping]],2,FALSE)","v":"italy"},"4 to 6 hours a day",10]
["ID1830","2012-06-13T06:19:24",120000,"USD",{"$f":"tblSalaries[[#This Row],[clean Salary (in local currency)]]*VLOOKUP(tblSalaries[[#This Row],[Currency]],[1]!tblXrate[#Data],2,FALSE)","v":120000},"Financial Modeler","Accountant","USA",{"$f":"VLOOKUP(tblSalaries[[#This Row],[Where do you work]],[1]!tblCountries[[Actual]:[Mapping]],2,FALSE)","v":"USA"},"4 to 6 hours a day",20]
["ID1831","2012-06-13T11:58:30",20000,"USD",{"$f":"tblSalaries[[#This Row],[clean Salary (in local currency)]]*VLOOKUP(tblSalaries[[#This Row],[Currency]],[1]!tblXrate[#Data],2,FALSE)","v":20000},"Personal Assistant","Analyst","Hong Kong",{"$f":"VLOOKUP(tblSalaries[[#This Row],[Where do you work]],[1]!tblCountries[[Actual]:[Mapping]],2,FALSE)","v":"Hong Kong"},"1 or 2 hours a day",1]
["ID1832","2012-06-13T17:22:47",15000,"USD",{"$f":"tblSalaries[[#This Row],[clean Salary (in local currency)]]*VLOOKUP(tblSalaries[[#This Row],[Currency]],[1]!tblXrate[#Data],2,FALSE)","v":15000},"senior associate","Analyst","India",{"$f":"VLOOKUP(tblSalaries[[#This Row],[Where do you work]],[1]!tblCountries[[Actual]:[Mapping]],2,FALSE)","v":"India"},"2 to 3 hours per day",0.3]
["ID1833","2012-06-13T18:25:00",1000000,"INR",{"$f":"tblSalaries[[#This Row],[clean Salary (in local currency)]]*VLOOKUP(tblSalaries[[#This Row],[Currency]],[1]!tblXrate[#Data],2,FALSE)","v":17807.916687442568},"Mnanager- Customer Project finance & recovery","Manager","India",{"$f":"VLOOKUP(tblSalaries[[#This Row],[Where do you work]],[1]!tblCountries[[Actual]:[Mapping]],2,FALSE)","v":"India"},"2 to 3 hours per day",10]
["ID1834","2012-06-13T19:20:25",900000,"INR",{"$f":"tblSalaries[[#This Row],[clean Salary (in local currency)]]*VLOOKUP(tblSalaries[[#This Row],[Currency]],[1]!tblXrate[#Data],2,FALSE)","v":16027.125018698311},"Lead ","Manager","India",{"$f":"VLOOKUP(tblSalaries[[#This Row],[Where do you work]],[1]!tblCountries[[Actual]:[Mapping]],2,FALSE)","v":"India"},"2 to 3 hours per day",6]
["ID1835","2012-06-13T19:33:58",36000,"GBP",{"$f":"tblSalaries[[#This Row],[clean Salary (in local currency)]]*VLOOKUP(tblSalaries[[#This Row],[Currency]],[1]!tblXrate[#Data],2,FALSE)","v":56742.417794422225},"Senior officer data reporting","Manager","UK",{"$f":"VLOOKUP(tblSalaries[[#This Row],[Where do you work]],[1]!tblCountries[[Actual]:[Mapping]],2,FALSE)","v":"UK"},"All the 8 hours baby, all the 8!",7]
["ID1836","2012-06-13T19:40:16",1200000,"INR",{"$f":"tblSalaries[[#This Row],[clean Salary (in local currency)]]*VLOOKUP(tblSalaries[[#This Row],[Currency]],[1]!tblXrate[#Data],2,FALSE)","v":21369.500024931083},"AM","Manager","India",{"$f":"VLOOKUP(tblSalaries[[#This Row],[Where do you work]],[1]!tblCountries[[Actual]:[Mapping]],2,FALSE)","v":"India"},"4 to 6 hours a day",7]
["ID1837","2012-06-13T20:39:18",425000,"INR",{"$f":"tblSalaries[[#This Row],[clean Salary (in local currency)]]*VLOOKUP(tblSalaries[[#This Row],[Currency]],[1]!tblXrate[#Data],2,FALSE)","v":7568.3645921630914},"accountant","Accountant","India",{"$f":"VLOOKUP(tblSalaries[[#This Row],[Where do you work]],[1]!tblCountries[[Actual]:[Mapping]],2,FALSE)","v":"India"},"2 to 3 hours per day",6]
["ID1838","2012-06-13T23:32:36",50000,"GBP",{"$f":"tblSalaries[[#This Row],[clean Salary (in local currency)]]*VLOOKUP(tblSalaries[[#This Row],[Currency]],[1]!tblXrate[#Data],2,FALSE)","v":78808.913603364199},"Assistant Financial Accountant","Accountant","UK",{"$f":"VLOOKUP(tblSalaries[[#This Row],[Where do you work]],[1]!tblCountries[[Actual]:[Mapping]],2,FALSE)","v":"UK"},"2 to 3 hours per day",10]
["ID1839","2012-06-14T01:55:13",60000,"USD",{"$f":"tblSalaries[[#This Row],[clean Salary (in local currency)]]*VLOOKUP(tblSalaries[[#This Row],[Currency]],[1]!tblXrate[#Data],2,FALSE)","v":60000},"Business Analyst","Analyst","USA",{"$f":"VLOOKUP(tblSalaries[[#This Row],[Where do you work]],[1]!tblCountries[[Actual]:[Mapping]],2,FALSE)","v":"USA"},"4 to 6 hours a day",15]
["ID1840","2012-06-14T02:44:43",57000,"USD",{"$f":"tblSalaries[[#This Row],[clean Salary (in local currency)]]*VLOOKUP(tblSalaries[[#This Row],[Currency]],[1]!tblXrate[#Data],2,FALSE)","v":57000},"Staff Accountant","Accountant","USA",{"$f":"VLOOKUP(tblSalaries[[#This Row],[Where do you work]],[1]!tblCountries[[Actual]:[Mapping]],2,FALSE)","v":"USA"},"4 to 6 hours a day",9]
["ID1841","2012-06-14T04:22:36",40000,"USD",{"$f":"tblSalaries[[#This Row],[clean Salary (in local currency)]]*VLOOKUP(tblSalaries[[#This Row],[Currency]],[1]!tblXrate[#Data],2,FALSE)","v":40000},"Rates Analyst","Analyst","USA",{"$f":"VLOOKUP(tblSalaries[[#This Row],[Where do you work]],[1]!tblCountries[[Actual]:[Mapping]],2,FALSE)","v":"USA"},"2 to 3 hours per day",0]
["ID1842","2012-06-14T07:16:41",80000,"USD",{"$f":"tblSalaries[[#This Row],[clean Salary (in local currency)]]*VLOOKUP(tblSalaries[[#This Row],[Currency]],[1]!tblXrate[#Data],2,FALSE)","v":80000},"Project Controller","Controller","USA",{"$f":"VLOOKUP(tblSalaries[[#This Row],[Where do you work]],[1]!tblCountries[[Actual]:[Mapping]],2,FALSE)","v":"USA"},"4 to 6 hours a day",9]
["ID1843","2012-06-14T12:27:30",118000,"USD",{"$f":"tblSalaries[[#This Row],[clean Salary (in local currency)]]*VLOOKUP(tblSalaries[[#This Row],[Currency]],[1]!tblXrate[#Data],2,FALSE)","v":118000},"AVP","CXO or Top Mgmt.","USA",{"$f":"VLOOKUP(tblSalaries[[#This Row],[Where do you work]],[1]!tblCountries[[Actual]:[Mapping]],2,FALSE)","v":"USA"},"4 to 6 hours a day",6]
["ID1844","2012-06-14T14:08:58",60000,"USD",{"$f":"tblSalaries[[#This Row],[clean Salary (in local currency)]]*VLOOKUP(tblSalaries[[#This Row],[Currency]],[1]!tblXrate[#Data],2,FALSE)","v":60000},"Analyst","Analyst","UAE",{"$f":"VLOOKUP(tblSalaries[[#This Row],[Where do you work]],[1]!tblCountries[[Actual]:[Mapping]],2,FALSE)","v":"UAE"},"4 to 6 hours a day",5]
["ID1845","2012-06-14T18:27:04",6720,"USD",{"$f":"tblSalaries[[#This Row],[clean Salary (in local currency)]]*VLOOKUP(tblSalaries[[#This Row],[Currency]],[1]!tblXrate[#Data],2,FALSE)","v":6720},"accoutant","Accountant","India",{"$f":"VLOOKUP(tblSalaries[[#This Row],[Where do you work]],[1]!tblCountries[[Actual]:[Mapping]],2,FALSE)","v":"India"},"4 to 6 hours a day",5]
["ID1846","2012-06-14T22:03:05",20640,"USD",{"$f":"tblSalaries[[#This Row],[clean Salary (in local currency)]]*VLOOKUP(tblSalaries[[#This Row],[Currency]],[1]!tblXrate[#Data],2,FALSE)","v":20640},"Programme Officer","Manager","Singapore",{"$f":"VLOOKUP(tblSalaries[[#This Row],[Where do you work]],[1]!tblCountries[[Actual]:[Mapping]],2,FALSE)","v":"Singapore"},"4 to 6 hours a day",3]
["ID1847","2012-06-15T00:35:45",50000,"USD",{"$f":"tblSalaries[[#This Row],[clean Salary (in local currency)]]*VLOOKUP(tblSalaries[[#This Row],[Currency]],[1]!tblXrate[#Data],2,FALSE)","v":50000},"Digital Media Analyst","Analyst","USA",{"$f":"VLOOKUP(tblSalaries[[#This Row],[Where do you work]],[1]!tblCountries[[Actual]:[Mapping]],2,FALSE)","v":"USA"},"All the 8 hours baby, all the 8!",15]
["ID1848","2012-06-15T00:52:38",24000,"USD",{"$f":"tblSalaries[[#This Row],[clean Salary (in local currency)]]*VLOOKUP(tblSalaries[[#This Row],[Currency]],[1]!tblXrate[#Data],2,FALSE)","v":24000},"Plant Controller","Controller","Russia",{"$f":"VLOOKUP(tblSalaries[[#This Row],[Where do you work]],[1]!tblCountries[[Actual]:[Mapping]],2,FALSE)","v":"Russia"},"All the 8 hours baby, all the 8!",23]
["ID1849","2012-06-15T01:02:48",60000,"USD",{"$f":"tblSalaries[[#This Row],[clean Salary (in local currency)]]*VLOOKUP(tblSalaries[[#This Row],[Currency]],[1]!tblXrate[#Data],2,FALSE)","v":60000},"Business Analyst","Analyst","USA",{"$f":"VLOOKUP(tblSalaries[[#This Row],[Where do you work]],[1]!tblCountries[[Actual]:[Mapping]],2,FALSE)","v":"USA"},"2 to 3 hours per day",3]
["ID1850","2012-06-15T01:10:09",37500,"USD",{"$f":"tblSalaries[[#This Row],[clean Salary (in local currency)]]*VLOOKUP(tblSalaries[[#This Row],[Currency]],[1]!tblXrate[#Data],2,FALSE)","v":37500},"consultant","Consultant","India",{"$f":"VLOOKUP(tblSalaries[[#This Row],[Where do you work]],[1]!tblCountries[[Actual]:[Mapping]],2,FALSE)","v":"India"},"All the 8 hours baby, all the 8!",0]
["ID1851","2012-06-15T02:24:44",40000,"USD",{"$f":"tblSalaries[[#This Row],[clean Salary (in local currency)]]*VLOOKUP(tblSalaries[[#This Row],[Currency]],[1]!tblXrate[#Data],2,FALSE)","v":40000},"Research Support Specialist","Specialist","USA",{"$f":"VLOOKUP(tblSalaries[[#This Row],[Where do you work]],[1]!tblCountries[[Actual]:[Mapping]],2,FALSE)","v":"USA"},"4 to 6 hours a day",1]
["ID1852","2012-06-15T02:30:11",85000,"USD",{"$f":"tblSalaries[[#This Row],[clean Salary (in local currency)]]*VLOOKUP(tblSalaries[[#This Row],[Currency]],[1]!tblXrate[#Data],2,FALSE)","v":85000},"Chief Financial Officer","CXO or Top Mgmt.","USA",{"$f":"VLOOKUP(tblSalaries[[#This Row],[Where do you work]],[1]!tblCountries[[Actual]:[Mapping]],2,FALSE)","v":"USA"},"2 to 3 hours per day",15]
["ID1853","2012-06-15T03:00:04",30000,"USD",{"$f":"tblSalaries[[#This Row],[clean Salary (in local currency)]]*VLOOKUP(tblSalaries[[#This Row],[Currency]],[1]!tblXrate[#Data],2,FALSE)","v":30000},"Trainee","Analyst","Brazil",{"$f":"VLOOKUP(tblSalaries[[#This Row],[Where do you work]],[1]!tblCountries[[Actual]:[Mapping]],2,FALSE)","v":"Brazil"},"2 to 3 hours per day",1]
["ID1854","2012-06-15T03:51:50",33500,"GBP",{"$f":"tblSalaries[[#This Row],[clean Salary (in local currency)]]*VLOOKUP(tblSalaries[[#This Row],[Currency]],[1]!tblXrate[#Data],2,FALSE)","v":52801.972114254015},"Senior Manufacturing Engineer","Engineer","UK",{"$f":"VLOOKUP(tblSalaries[[#This Row],[Where do you work]],[1]!tblCountries[[Actual]:[Mapping]],2,FALSE)","v":"UK"},"2 to 3 hours per day",7]
["ID1855","2012-06-15T05:44:30",29000,"USD",{"$f":"tblSalaries[[#This Row],[clean Salary (in local currency)]]*VLOOKUP(tblSalaries[[#This Row],[Currency]],[1]!tblXrate[#Data],2,FALSE)","v":29000},"Customer Experence Engineer","Engineer","USA",{"$f":"VLOOKUP(tblSalaries[[#This Row],[Where do you work]],[1]!tblCountries[[Actual]:[Mapping]],2,FALSE)","v":"USA"},"All the 8 hours baby, all the 8!",1]
["ID1857","2012-06-15T09:00:08",48000,"USD",{"$f":"tblSalaries[[#This Row],[clean Salary (in local currency)]]*VLOOKUP(tblSalaries[[#This Row],[Currency]],[1]!tblXrate[#Data],2,FALSE)","v":48000},"Accountant","Accountant","USA",{"$f":"VLOOKUP(tblSalaries[[#This Row],[Where do you work]],[1]!tblCountries[[Actual]:[Mapping]],2,FALSE)","v":"USA"},"4 to 6 hours a day",1]
["ID1858","2012-06-15T09:01:23",48000,"USD",{"$f":"tblSalaries[[#This Row],[clean Salary (in local currency)]]*VLOOKUP(tblSalaries[[#This Row],[Currency]],[1]!tblXrate[#Data],2,FALSE)","v":48000},"Accountant","Accountant","USA",{"$f":"VLOOKUP(tblSalaries[[#This Row],[Where do you work]],[1]!tblCountries[[Actual]:[Mapping]],2,FALSE)","v":"USA"},"4 to 6 hours a day",1]
["ID1859","2012-06-15T15:07:11",8400,"USD",{"$f":"tblSalaries[[#This Row],[clean Salary (in local currency)]]*VLOOKUP(tblSalaries[[#This Row],[Currency]],[1]!tblXrate[#Data],2,FALSE)","v":8400},"Analyst","Analyst","Baltic",{"$f":"VLOOKUP(tblSalaries[[#This Row],[Where do you work]],[1]!tblCountries[[Actual]:[Mapping]],2,FALSE)","v":"Baltic"},"All the 8 hours baby, all the 8!",0.3]
["ID1860","2012-06-15T15:43:42",270000,"INR",{"$f":"tblSalaries[[#This Row],[clean Salary (in local currency)]]*VLOOKUP(tblSalaries[[#This Row],[Currency]],[1]!tblXrate[#Data],2,FALSE)","v":4808.137505609493},"Team Lead","Manager","India",{"$f":"VLOOKUP(tblSalaries[[#This Row],[Where do you work]],[1]!tblCountries[[Actual]:[Mapping]],2,FALSE)","v":"India"},"2 to 3 hours per day",5]
["ID1861","2012-06-15T16:36:47",1400000,"INR",{"$f":"tblSalaries[[#This Row],[clean Salary (in local currency)]]*VLOOKUP(tblSalaries[[#This Row],[Currency]],[1]!tblXrate[#Data],2,FALSE)","v":24931.083362419595},"Manager - Controlling","Manager","India",{"$f":"VLOOKUP(tblSalaries[[#This Row],[Where do you work]],[1]!tblCountries[[Actual]:[Mapping]],2,FALSE)","v":"India"},"4 to 6 hours a day",10]
["ID1862","2012-06-15T17:16:19",700000,"INR",{"$f":"tblSalaries[[#This Row],[clean Salary (in local currency)]]*VLOOKUP(tblSalaries[[#This Row],[Currency]],[1]!tblXrate[#Data],2,FALSE)","v":12465.541681209797},"Sr. System Analyst","Analyst","India",{"$f":"VLOOKUP(tblSalaries[[#This Row],[Where do you work]],[1]!tblCountries[[Actual]:[Mapping]],2,FALSE)","v":"India"},"2 to 3 hours per day",4]
["ID1863","2012-06-15T17:35:32",20000,"GBP",{"$f":"tblSalaries[[#This Row],[clean Salary (in local currency)]]*VLOOKUP(tblSalaries[[#This Row],[Currency]],[1]!tblXrate[#Data],2,FALSE)","v":31523.565441345683},"Accountant","Accountant","UK",{"$f":"VLOOKUP(tblSalaries[[#This Row],[Where do you work]],[1]!tblCountries[[Actual]:[Mapping]],2,FALSE)","v":"UK"},"2 to 3 hours per day",10]
["ID1864","2012-06-15T17:36:10",1000000,"INR",{"$f":"tblSalaries[[#This Row],[clean Salary (in local currency)]]*VLOOKUP(tblSalaries[[#This Row],[Currency]],[1]!tblXrate[#Data],2,FALSE)","v":17807.916687442568},"Sr.Manager","Manager","India",{"$f":"VLOOKUP(tblSalaries[[#This Row],[Where do you work]],[1]!tblCountries[[Actual]:[Mapping]],2,FALSE)","v":"India"},"All the 8 hours baby, all the 8!",10]
["ID1865","2012-06-15T18:13:12",112000,"USD",{"$f":"tblSalaries[[#This Row],[clean Salary (in local currency)]]*VLOOKUP(tblSalaries[[#This Row],[Currency]],[1]!tblXrate[#Data],2,FALSE)","v":112000},"manager","Manager","USA",{"$f":"VLOOKUP(tblSalaries[[#This Row],[Where do you work]],[1]!tblCountries[[Actual]:[Mapping]],2,FALSE)","v":"USA"},"2 to 3 hours per day",8]
["ID1866","2012-06-15T20:00:26",11000,"USD",{"$f":"tblSalaries[[#This Row],[clean Salary (in local currency)]]*VLOOKUP(tblSalaries[[#This Row],[Currency]],[1]!tblXrate[#Data],2,FALSE)","v":11000},"AM","Manager","India",{"$f":"VLOOKUP(tblSalaries[[#This Row],[Where do you work]],[1]!tblCountries[[Actual]:[Mapping]],2,FALSE)","v":"India"},"All the 8 hours baby, all the 8!",8]
["ID1867","2012-06-15T20:50:49",90000,"EUR",{"$f":"tblSalaries[[#This Row],[clean Salary (in local currency)]]*VLOOKUP(tblSalaries[[#This Row],[Currency]],[1]!tblXrate[#Data],2,FALSE)","v":114335.9495092447},"Controller","Controller","mainland Europe (Euro zone)",{"$f":"VLOOKUP(tblSalaries[[#This Row],[Where do you work]],[1]!tblCountries[[Actual]:[Mapping]],2,FALSE)","v":"Europe"},"2 to 3 hours per day",20]
["ID1868","2012-06-15T21:32:16",16110,"USD",{"$f":"tblSalaries[[#This Row],[clean Salary (in local currency)]]*VLOOKUP(tblSalaries[[#This Row],[Currency]],[1]!tblXrate[#Data],2,FALSE)","v":16110},"INFORMATION ANALIST","Analyst","COLOMBIA",{"$f":"VLOOKUP(tblSalaries[[#This Row],[Where do you work]],[1]!tblCountries[[Actual]:[Mapping]],2,FALSE)","v":"Colombia"},"All the 8 hours baby, all the 8!",10]
["ID1869","2012-06-15T22:36:45",72000,"USD",{"$f":"tblSalaries[[#This Row],[clean Salary (in local currency)]]*VLOOKUP(tblSalaries[[#This Row],[Currency]],[1]!tblXrate[#Data],2,FALSE)","v":72000},"HR Supervisor","Manager","USA",{"$f":"VLOOKUP(tblSalaries[[#This Row],[Where do you work]],[1]!tblCountries[[Actual]:[Mapping]],2,FALSE)","v":"USA"},"4 to 6 hours a day",10]
["ID1870","2012-06-15T23:21:00",60000,"USD",{"$f":"tblSalaries[[#This Row],[clean Salary (in local currency)]]*VLOOKUP(tblSalaries[[#This Row],[Currency]],[1]!tblXrate[#Data],2,FALSE)","v":60000},"Marketing Initatities Analyst","Analyst","USA",{"$f":"VLOOKUP(tblSalaries[[#This Row],[Where do you work]],[1]!tblCountries[[Actual]:[Mapping]],2,FALSE)","v":"USA"},"All the 8 hours baby, all the 8!",10]
["ID1871","2012-06-15T23:50:11",67000,"USD",{"$f":"tblSalaries[[#This Row],[clean Salary (in local currency)]]*VLOOKUP(tblSalaries[[#This Row],[Currency]],[1]!tblXrate[#Data],2,FALSE)","v":67000},"Sales Compensation Analyst","Analyst","USA",{"$f":"VLOOKUP(tblSalaries[[#This Row],[Where do you work]],[1]!tblCountries[[Actual]:[Mapping]],2,FALSE)","v":"USA"},"4 to 6 hours a day",6]
["ID1872","2012-06-16T02:50:49",54000,"USD",{"$f":"tblSalaries[[#This Row],[clean Salary (in local currency)]]*VLOOKUP(tblSalaries[[#This Row],[Currency]],[1]!tblXrate[#Data],2,FALSE)","v":54000},"materials","Analyst","USA",{"$f":"VLOOKUP(tblSalaries[[#This Row],[Where do you work]],[1]!tblCountries[[Actual]:[Mapping]],2,FALSE)","v":"USA"},"4 to 6 hours a day",18]
["ID1873","2012-06-16T05:23:03",38666,"USD",{"$f":"tblSalaries[[#This Row],[clean Salary (in local currency)]]*VLOOKUP(tblSalaries[[#This Row],[Currency]],[1]!tblXrate[#Data],2,FALSE)","v":38666},"Actuarial Specialist","Specialist","South Africa",{"$f":"VLOOKUP(tblSalaries[[#This Row],[Where do you work]],[1]!tblCountries[[Actual]:[Mapping]],2,FALSE)","v":"South Africa"},"All the 8 hours baby, all the 8!",10]
["ID1874","2012-06-16T06:17:53",63000,"USD",{"$f":"tblSalaries[[#This Row],[clean Salary (in local currency)]]*VLOOKUP(tblSalaries[[#This Row],[Currency]],[1]!tblXrate[#Data],2,FALSE)","v":63000},"Marketing Database Analyst","Analyst","USA",{"$f":"VLOOKUP(tblSalaries[[#This Row],[Where do you work]],[1]!tblCountries[[Actual]:[Mapping]],2,FALSE)","v":"USA"},"4 to 6 hours a day",6]
["ID1875","2012-06-16T08:10:59",63000,"USD",{"$f":"tblSalaries[[#This Row],[clean Salary (in local currency)]]*VLOOKUP(tblSalaries[[#This Row],[Currency]],[1]!tblXrate[#Data],2,FALSE)","v":63000},"Financial Analyst","Analyst","USA",{"$f":"VLOOKUP(tblSalaries[[#This Row],[Where do you work]],[1]!tblCountries[[Actual]:[Mapping]],2,FALSE)","v":"USA"},"All the 8 hours baby, all the 8!",1]
["ID1876","2012-06-16T14:10:51",360000,"INR",{"$f":"tblSalaries[[#This Row],[clean Salary (in local currency)]]*VLOOKUP(tblSalaries[[#This Row],[Currency]],[1]!tblXrate[#Data],2,FALSE)","v":6410.8500074793246},"Analyst","Analyst","India",{"$f":"VLOOKUP(tblSalaries[[#This Row],[Where do you work]],[1]!tblCountries[[Actual]:[Mapping]],2,FALSE)","v":"India"},"All the 8 hours baby, all the 8!",2]
["ID1877","2012-06-16T17:07:45",600000,"INR",{"$f":"tblSalaries[[#This Row],[clean Salary (in local currency)]]*VLOOKUP(tblSalaries[[#This Row],[Currency]],[1]!tblXrate[#Data],2,FALSE)","v":10684.750012465542},"Manager- Customer Support","Manager","India",{"$f":"VLOOKUP(tblSalaries[[#This Row],[Where do you work]],[1]!tblCountries[[Actual]:[Mapping]],2,FALSE)","v":"India"},"4 to 6 hours a day",12]
["ID1878","2012-06-16T17:14:03",40000,"USD",{"$f":"tblSalaries[[#This Row],[clean Salary (in local currency)]]*VLOOKUP(tblSalaries[[#This Row],[Currency]],[1]!tblXrate[#Data],2,FALSE)","v":40000},"Assistant Manager","Manager","India",{"$f":"VLOOKUP(tblSalaries[[#This Row],[Where do you work]],[1]!tblCountries[[Actual]:[Mapping]],2,FALSE)","v":"India"},"4 to 6 hours a day",5]
["ID1879","2012-06-16T17:49:27",350000,"INR",{"$f":"tblSalaries[[#This Row],[clean Salary (in local currency)]]*VLOOKUP(tblSalaries[[#This Row],[Currency]],[1]!tblXrate[#Data],2,FALSE)","v":6232.7708406048987},"Analyst","Analyst","India",{"$f":"VLOOKUP(tblSalaries[[#This Row],[Where do you work]],[1]!tblCountries[[Actual]:[Mapping]],2,FALSE)","v":"India"},"4 to 6 hours a day",6]
["ID1880","2012-06-16T18:31:59",2342342,"INR",{"$f":"tblSalaries[[#This Row],[clean Salary (in local currency)]]*VLOOKUP(tblSalaries[[#This Row],[Currency]],[1]!tblXrate[#Data],2,FALSE)","v":41712.231189497601},"3r23regedf","Misc.","India",{"$f":"VLOOKUP(tblSalaries[[#This Row],[Where do you work]],[1]!tblCountries[[Actual]:[Mapping]],2,FALSE)","v":"India"},"2 to 3 hours per day",12]
["ID1881","2012-06-16T18:33:25",700000,"INR",{"$f":"tblSalaries[[#This Row],[clean Salary (in local currency)]]*VLOOKUP(tblSalaries[[#This Row],[Currency]],[1]!tblXrate[#Data],2,FALSE)","v":12465.541681209797},"Revenue Focus Manager","Manager","India",{"$f":"VLOOKUP(tblSalaries[[#This Row],[Where do you work]],[1]!tblCountries[[Actual]:[Mapping]],2,FALSE)","v":"India"},"2 to 3 hours per day",9]
["ID1882","2012-06-16T22:24:30",20500,"GBP",{"$f":"tblSalaries[[#This Row],[clean Salary (in local currency)]]*VLOOKUP(tblSalaries[[#This Row],[Currency]],[1]!tblXrate[#Data],2,FALSE)","v":32311.654577379326},"analyst","Analyst","UK",{"$f":"VLOOKUP(tblSalaries[[#This Row],[Where do you work]],[1]!tblCountries[[Actual]:[Mapping]],2,FALSE)","v":"UK"},"4 to 6 hours a day",20]
["ID1883","2012-06-17T01:34:46",400000,"INR",{"$f":"tblSalaries[[#This Row],[clean Salary (in local currency)]]*VLOOKUP(tblSalaries[[#This Row],[Currency]],[1]!tblXrate[#Data],2,FALSE)","v":7123.1666749770275},"technical analyst","Analyst","India",{"$f":"VLOOKUP(tblSalaries[[#This Row],[Where do you work]],[1]!tblCountries[[Actual]:[Mapping]],2,FALSE)","v":"India"},"1 or 2 hours a day",2]
["ID1884","2012-06-17T04:02:00",100000,"USD",{"$f":"tblSalaries[[#This Row],[clean Salary (in local currency)]]*VLOOKUP(tblSalaries[[#This Row],[Currency]],[1]!tblXrate[#Data],2,FALSE)","v":100000},"Senior Manager MIS","Manager","UAE",{"$f":"VLOOKUP(tblSalaries[[#This Row],[Where do you work]],[1]!tblCountries[[Actual]:[Mapping]],2,FALSE)","v":"UAE"},"All the 8 hours baby, all the 8!",15]
["ID1885","2012-06-17T11:38:53",75000,"NZD",{"$f":"tblSalaries[[#This Row],[clean Salary (in local currency)]]*VLOOKUP(tblSalaries[[#This Row],[Currency]],[1]!tblXrate[#Data],2,FALSE)","v":59819.107020370408},"Commercial Accountant","Accountant","New Zealand",{"$f":"VLOOKUP(tblSalaries[[#This Row],[Where do you work]],[1]!tblCountries[[Actual]:[Mapping]],2,FALSE)","v":"New Zealand"},"4 to 6 hours a day",4]
["ID1886","2012-06-17T12:00:57",25000,"USD",{"$f":"tblSalaries[[#This Row],[clean Salary (in local currency)]]*VLOOKUP(tblSalaries[[#This Row],[Currency]],[1]!tblXrate[#Data],2,FALSE)","v":25000},"Data Analyst","Analyst","India",{"$f":"VLOOKUP(tblSalaries[[#This Row],[Where do you work]],[1]!tblCountries[[Actual]:[Mapping]],2,FALSE)","v":"India"},"All the 8 hours baby, all the 8!",1.5]
["ID1887","2012-06-17T12:48:52",5000,"USD",{"$f":"tblSalaries[[#This Row],[clean Salary (in local currency)]]*VLOOKUP(tblSalaries[[#This Row],[Currency]],[1]!tblXrate[#Data],2,FALSE)","v":5000},"admin","Analyst","India",{"$f":"VLOOKUP(tblSalaries[[#This Row],[Where do you work]],[1]!tblCountries[[Actual]:[Mapping]],2,FALSE)","v":"India"},"2 to 3 hours per day",10]
["ID1888","2012-06-17T13:26:38",63000,"AUD",{"$f":"tblSalaries[[#This Row],[clean Salary (in local currency)]]*VLOOKUP(tblSalaries[[#This Row],[Currency]],[1]!tblXrate[#Data],2,FALSE)","v":64254.308353366054},"Financial Modelling adviser","Accountant","Australia",{"$f":"VLOOKUP(tblSalaries[[#This Row],[Where do you work]],[1]!tblCountries[[Actual]:[Mapping]],2,FALSE)","v":"Australia"},"All the 8 hours baby, all the 8!",3]
["ID1889","2012-06-17T16:01:50",60000,"EUR",{"$f":"tblSalaries[[#This Row],[clean Salary (in local currency)]]*VLOOKUP(tblSalaries[[#This Row],[Currency]],[1]!tblXrate[#Data],2,FALSE)","v":76223.966339496474},"pm","Manager","Germany",{"$f":"VLOOKUP(tblSalaries[[#This Row],[Where do you work]],[1]!tblCountries[[Actual]:[Mapping]],2,FALSE)","v":"Germany"},"4 to 6 hours a day",6]
["ID1890","2012-06-18T05:42:18",600000,"DKK",{"$f":"tblSalaries[[#This Row],[clean Salary (in local currency)]]*VLOOKUP(tblSalaries[[#This Row],[Currency]],[1]!tblXrate[#Data],2,FALSE)","v":102542.54233725216},"Engineer","Engineer","DK",{"$f":"VLOOKUP(tblSalaries[[#This Row],[Where do you work]],[1]!tblCountries[[Actual]:[Mapping]],2,FALSE)","v":"Denmark"},"2 to 3 hours per day",20]
["ID1891","2012-06-18T06:14:35",46000,"USD",{"$f":"tblSalaries[[#This Row],[clean Salary (in local currency)]]*VLOOKUP(tblSalaries[[#This Row],[Currency]],[1]!tblXrate[#Data],2,FALSE)","v":46000},"AML Analyst","Analyst","USA",{"$f":"VLOOKUP(tblSalaries[[#This Row],[Where do you work]],[1]!tblCountries[[Actual]:[Mapping]],2,FALSE)","v":"USA"},"All the 8 hours baby, all the 8!",1]
["ID1892","2012-06-18T08:19:01",5000,"USD",{"$f":"tblSalaries[[#This Row],[clean Salary (in local currency)]]*VLOOKUP(tblSalaries[[#This Row],[Currency]],[1]!tblXrate[#Data],2,FALSE)","v":5000},"analyst ","Analyst","India",{"$f":"VLOOKUP(tblSalaries[[#This Row],[Where do you work]],[1]!tblCountries[[Actual]:[Mapping]],2,FALSE)","v":"India"},"All the 8 hours baby, all the 8!",2]
["ID1893","2012-06-18T14:27:59",76300,"AUD",{"$f":"tblSalaries[[#This Row],[clean Salary (in local currency)]]*VLOOKUP(tblSalaries[[#This Row],[Currency]],[1]!tblXrate[#Data],2,FALSE)","v":77819.106783521114},"Operations Analyst","Analyst","Australia",{"$f":"VLOOKUP(tblSalaries[[#This Row],[Where do you work]],[1]!tblCountries[[Actual]:[Mapping]],2,FALSE)","v":"Australia"},"All the 8 hours baby, all the 8!",3]
["ID1894","2012-06-18T17:51:52",350000,"INR",{"$f":"tblSalaries[[#This Row],[clean Salary (in local currency)]]*VLOOKUP(tblSalaries[[#This Row],[Currency]],[1]!tblXrate[#Data],2,FALSE)","v":6232.7708406048987},"manager purchase","Manager","India",{"$f":"VLOOKUP(tblSalaries[[#This Row],[Where do you work]],[1]!tblCountries[[Actual]:[Mapping]],2,FALSE)","v":"India"},"2 to 3 hours per day",27]
["ID1895","2012-06-18T18:26:47",35000,"GBP",{"$f":"tblSalaries[[#This Row],[clean Salary (in local currency)]]*VLOOKUP(tblSalaries[[#This Row],[Currency]],[1]!tblXrate[#Data],2,FALSE)","v":55166.239522354947},"Process Analyst","Analyst","UK",{"$f":"VLOOKUP(tblSalaries[[#This Row],[Where do you work]],[1]!tblCountries[[Actual]:[Mapping]],2,FALSE)","v":"UK"},"All the 8 hours baby, all the 8!",34]
["ID1896","2012-06-19T00:23:24",45000,"USD",{"$f":"tblSalaries[[#This Row],[clean Salary (in local currency)]]*VLOOKUP(tblSalaries[[#This Row],[Currency]],[1]!tblXrate[#Data],2,FALSE)","v":45000},"Senior Accountant","Accountant","USA",{"$f":"VLOOKUP(tblSalaries[[#This Row],[Where do you work]],[1]!tblCountries[[Actual]:[Mapping]],2,FALSE)","v":"USA"},"2 to 3 hours per day",5]
["ID1897","2012-06-19T01:49:49",60000,"USD",{"$f":"tblSalaries[[#This Row],[clean Salary (in local currency)]]*VLOOKUP(tblSalaries[[#This Row],[Currency]],[1]!tblXrate[#Data],2,FALSE)","v":60000},"buyer","Manager","Canada",{"$f":"VLOOKUP(tblSalaries[[#This Row],[Where do you work]],[1]!tblCountries[[Actual]:[Mapping]],2,FALSE)","v":"Canada"},"2 to 3 hours per day",10]
["ID1898","2012-06-19T03:25:34",43000,"USD",{"$f":"tblSalaries[[#This Row],[clean Salary (in local currency)]]*VLOOKUP(tblSalaries[[#This Row],[Currency]],[1]!tblXrate[#Data],2,FALSE)","v":43000},"Performance Improvement Analyst","Analyst","USA",{"$f":"VLOOKUP(tblSalaries[[#This Row],[Where do you work]],[1]!tblCountries[[Actual]:[Mapping]],2,FALSE)","v":"USA"},"4 to 6 hours a day",5]
["ID1899","2012-06-19T04:55:06",28000,"EUR",{"$f":"tblSalaries[[#This Row],[clean Salary (in local currency)]]*VLOOKUP(tblSalaries[[#This Row],[Currency]],[1]!tblXrate[#Data],2,FALSE)","v":35571.184291765021},"controller","Controller","Spain",{"$f":"VLOOKUP(tblSalaries[[#This Row],[Where do you work]],[1]!tblCountries[[Actual]:[Mapping]],2,FALSE)","v":"Spain"},"4 to 6 hours a day",8]
["ID1900","2012-06-19T06:50:47",48000,"USD",{"$f":"tblSalaries[[#This Row],[clean Salary (in local currency)]]*VLOOKUP(tblSalaries[[#This Row],[Currency]],[1]!tblXrate[#Data],2,FALSE)","v":48000},"Inventory Analyst","Analyst","USA",{"$f":"VLOOKUP(tblSalaries[[#This Row],[Where do you work]],[1]!tblCountries[[Actual]:[Mapping]],2,FALSE)","v":"USA"},"4 to 6 hours a day",12]
["ID1901","2012-06-19T07:59:00",120000,"AUD",{"$f":"tblSalaries[[#This Row],[clean Salary (in local currency)]]*VLOOKUP(tblSalaries[[#This Row],[Currency]],[1]!tblXrate[#Data],2,FALSE)","v":122389.15876831629},"Manager","Manager","Australia",{"$f":"VLOOKUP(tblSalaries[[#This Row],[Where do you work]],[1]!tblCountries[[Actual]:[Mapping]],2,FALSE)","v":"Australia"},"1 or 2 hours a day",8]
["ID1902","2012-06-19T12:39:16",4000,"USD",{"$f":"tblSalaries[[#This Row],[clean Salary (in local currency)]]*VLOOKUP(tblSalaries[[#This Row],[Currency]],[1]!tblXrate[#Data],2,FALSE)","v":4000},"operator","Analyst","India",{"$f":"VLOOKUP(tblSalaries[[#This Row],[Where do you work]],[1]!tblCountries[[Actual]:[Mapping]],2,FALSE)","v":"India"},"2 to 3 hours per day",4]
["ID1903","2012-06-19T15:15:38",250000,"INR",{"$f":"tblSalaries[[#This Row],[clean Salary (in local currency)]]*VLOOKUP(tblSalaries[[#This Row],[Currency]],[1]!tblXrate[#Data],2,FALSE)","v":4451.9791718606421},"MIS EXECUTIVE","Reporting","India",{"$f":"VLOOKUP(tblSalaries[[#This Row],[Where do you work]],[1]!tblCountries[[Actual]:[Mapping]],2,FALSE)","v":"India"},"4 to 6 hours a day",3]
["ID1904","2012-06-19T17:01:38",52224,"ETB",{"$f":"tblSalaries[[#This Row],[clean Salary (in local currency)]]*VLOOKUP(tblSalaries[[#This Row],[Currency]],[1]!tblXrate[#Data],2,FALSE)","v":2953.8461538461538},"Project Costing &Dashboard reporting","Reporting","Ethiopia",{"$f":"VLOOKUP(tblSalaries[[#This Row],[Where do you work]],[1]!tblCountries[[Actual]:[Mapping]],2,FALSE)","v":"Ethiopia"},"4 to 6 hours a day",3]
["ID1905","2012-06-19T18:17:42",25000,"GBP",{"$f":"tblSalaries[[#This Row],[clean Salary (in local currency)]]*VLOOKUP(tblSalaries[[#This Row],[Currency]],[1]!tblXrate[#Data],2,FALSE)","v":39404.456801682099},"Data Analyst","Analyst","UK",{"$f":"VLOOKUP(tblSalaries[[#This Row],[Where do you work]],[1]!tblCountries[[Actual]:[Mapping]],2,FALSE)","v":"UK"},"4 to 6 hours a day",3]
["ID1906","2012-06-19T19:33:25",74000,"AUD",{"$f":"tblSalaries[[#This Row],[clean Salary (in local currency)]]*VLOOKUP(tblSalaries[[#This Row],[Currency]],[1]!tblXrate[#Data],2,FALSE)","v":75473.31457379504},"Systems Analyst","Analyst","Australia",{"$f":"VLOOKUP(tblSalaries[[#This Row],[Where do you work]],[1]!tblCountries[[Actual]:[Mapping]],2,FALSE)","v":"Australia"},"4 to 6 hours a day",8]
["ID1907","2012-06-19T20:16:30",750000,"INR",{"$f":"tblSalaries[[#This Row],[clean Salary (in local currency)]]*VLOOKUP(tblSalaries[[#This Row],[Currency]],[1]!tblXrate[#Data],2,FALSE)","v":13355.937515581925},"Analyst","Analyst","India",{"$f":"VLOOKUP(tblSalaries[[#This Row],[Where do you work]],[1]!tblCountries[[Actual]:[Mapping]],2,FALSE)","v":"India"},"4 to 6 hours a day",5]
["ID1908","2012-06-19T20:35:35",25000,"USD",{"$f":"tblSalaries[[#This Row],[clean Salary (in local currency)]]*VLOOKUP(tblSalaries[[#This Row],[Currency]],[1]!tblXrate[#Data],2,FALSE)","v":25000},"Team Lead","Manager","India",{"$f":"VLOOKUP(tblSalaries[[#This Row],[Where do you work]],[1]!tblCountries[[Actual]:[Mapping]],2,FALSE)","v":"India"},"4 to 6 hours a day",10]
["ID1909","2012-06-19T21:01:21",420000,"INR",{"$f":"tblSalaries[[#This Row],[clean Salary (in local currency)]]*VLOOKUP(tblSalaries[[#This Row],[Currency]],[1]!tblXrate[#Data],2,FALSE)","v":7479.3250087258784},"Analyst","Analyst","India",{"$f":"VLOOKUP(tblSalaries[[#This Row],[Where do you work]],[1]!tblCountries[[Actual]:[Mapping]],2,FALSE)","v":"India"},"4 to 6 hours a day",2]
["ID1910","2012-06-19T21:06:16",62000,"USD",{"$f":"tblSalaries[[#This Row],[clean Salary (in local currency)]]*VLOOKUP(tblSalaries[[#This Row],[Currency]],[1]!tblXrate[#Data],2,FALSE)","v":62000},"Analyst","Analyst","USA",{"$f":"VLOOKUP(tblSalaries[[#This Row],[Where do you work]],[1]!tblCountries[[Actual]:[Mapping]],2,FALSE)","v":"USA"},"4 to 6 hours a day",4]
["ID1911","2012-06-19T21:32:36",48000,"USD",{"$f":"tblSalaries[[#This Row],[clean Salary (in local currency)]]*VLOOKUP(tblSalaries[[#This Row],[Currency]],[1]!tblXrate[#Data],2,FALSE)","v":48000},"Marketing Analyst Co-op","Analyst","USA",{"$f":"VLOOKUP(tblSalaries[[#This Row],[Where do you work]],[1]!tblCountries[[Actual]:[Mapping]],2,FALSE)","v":"USA"},"4 to 6 hours a day",1]
["ID1912","2012-06-19T22:42:55",5000,"USD",{"$f":"tblSalaries[[#This Row],[clean Salary (in local currency)]]*VLOOKUP(tblSalaries[[#This Row],[Currency]],[1]!tblXrate[#Data],2,FALSE)","v":5000},"abc","Misc.","India",{"$f":"VLOOKUP(tblSalaries[[#This Row],[Where do you work]],[1]!tblCountries[[Actual]:[Mapping]],2,FALSE)","v":"India"},"4 to 6 hours a day",3]
["ID1914","2012-06-20T00:27:54",276000,"INR",{"$f":"tblSalaries[[#This Row],[clean Salary (in local currency)]]*VLOOKUP(tblSalaries[[#This Row],[Currency]],[1]!tblXrate[#Data],2,FALSE)","v":4914.9850057341491},"MIS specialist","Reporting","India",{"$f":"VLOOKUP(tblSalaries[[#This Row],[Where do you work]],[1]!tblCountries[[Actual]:[Mapping]],2,FALSE)","v":"India"},"All the 8 hours baby, all the 8!",6]
["ID1915","2012-06-20T00:55:28",75000,"USD",{"$f":"tblSalaries[[#This Row],[clean Salary (in local currency)]]*VLOOKUP(tblSalaries[[#This Row],[Currency]],[1]!tblXrate[#Data],2,FALSE)","v":75000},"Data Analyst","Analyst","USA",{"$f":"VLOOKUP(tblSalaries[[#This Row],[Where do you work]],[1]!tblCountries[[Actual]:[Mapping]],2,FALSE)","v":"USA"},"1 or 2 hours a day",3]
["ID1916","2012-06-20T01:20:49",250000,"INR",{"$f":"tblSalaries[[#This Row],[clean Salary (in local currency)]]*VLOOKUP(tblSalaries[[#This Row],[Currency]],[1]!tblXrate[#Data],2,FALSE)","v":4451.9791718606421},"research associate","Analyst","India",{"$f":"VLOOKUP(tblSalaries[[#This Row],[Where do you work]],[1]!tblCountries[[Actual]:[Mapping]],2,FALSE)","v":"India"},"Excel ?!? What Excel?",1.6]
["ID1917","2012-06-20T01:43:12",8400,"USD",{"$f":"tblSalaries[[#This Row],[clean Salary (in local currency)]]*VLOOKUP(tblSalaries[[#This Row],[Currency]],[1]!tblXrate[#Data],2,FALSE)","v":8400},"Sr. Executive MIS","Reporting","India",{"$f":"VLOOKUP(tblSalaries[[#This Row],[Where do you work]],[1]!tblCountries[[Actual]:[Mapping]],2,FALSE)","v":"India"},"All the 8 hours baby, all the 8!",6]
["ID1918","2012-06-20T01:54:10",20000,"USD",{"$f":"tblSalaries[[#This Row],[clean Salary (in local currency)]]*VLOOKUP(tblSalaries[[#This Row],[Currency]],[1]!tblXrate[#Data],2,FALSE)","v":20000},"Monitoring and Evaluation Officer","Manager","India",{"$f":"VLOOKUP(tblSalaries[[#This Row],[Where do you work]],[1]!tblCountries[[Actual]:[Mapping]],2,FALSE)","v":"India"},"2 to 3 hours per day",5]
["ID1919","2012-06-20T02:31:52",110000,"USD",{"$f":"tblSalaries[[#This Row],[clean Salary (in local currency)]]*VLOOKUP(tblSalaries[[#This Row],[Currency]],[1]!tblXrate[#Data],2,FALSE)","v":110000},"Vice President - Finance","CXO or Top Mgmt.","USA",{"$f":"VLOOKUP(tblSalaries[[#This Row],[Where do you work]],[1]!tblCountries[[Actual]:[Mapping]],2,FALSE)","v":"USA"},"4 to 6 hours a day",10]
["ID1920","2012-06-20T03:52:40",50000,"USD",{"$f":"tblSalaries[[#This Row],[clean Salary (in local currency)]]*VLOOKUP(tblSalaries[[#This Row],[Currency]],[1]!tblXrate[#Data],2,FALSE)","v":50000},"Operations Analyst ","Analyst","USA",{"$f":"VLOOKUP(tblSalaries[[#This Row],[Where do you work]],[1]!tblCountries[[Actual]:[Mapping]],2,FALSE)","v":"USA"},"All the 8 hours baby, all the 8!",3.5]
["ID1921","2012-06-20T03:55:55",46000,"USD",{"$f":"tblSalaries[[#This Row],[clean Salary (in local currency)]]*VLOOKUP(tblSalaries[[#This Row],[Currency]],[1]!tblXrate[#Data],2,FALSE)","v":46000},"Poultry Analyst","Analyst","USA",{"$f":"VLOOKUP(tblSalaries[[#This Row],[Where do you work]],[1]!tblCountries[[Actual]:[Mapping]],2,FALSE)","v":"USA"},"4 to 6 hours a day",8]
["ID1922","2012-06-20T05:03:44",115000,"USD",{"$f":"tblSalaries[[#This Row],[clean Salary (in local currency)]]*VLOOKUP(tblSalaries[[#This Row],[Currency]],[1]!tblXrate[#Data],2,FALSE)","v":115000},"Business Analyst","Analyst","USA",{"$f":"VLOOKUP(tblSalaries[[#This Row],[Where do you work]],[1]!tblCountries[[Actual]:[Mapping]],2,FALSE)","v":"USA"},"All the 8 hours baby, all the 8!",15]
["ID1924","2012-06-20T12:53:56",180000,"INR",{"$f":"tblSalaries[[#This Row],[clean Salary (in local currency)]]*VLOOKUP(tblSalaries[[#This Row],[Currency]],[1]!tblXrate[#Data],2,FALSE)","v":3205.4250037396623},"Customer Resolution","Analyst","India",{"$f":"VLOOKUP(tblSalaries[[#This Row],[Where do you work]],[1]!tblCountries[[Actual]:[Mapping]],2,FALSE)","v":"India"},"4 to 6 hours a day",3]
["ID1925","2012-06-20T13:05:17",60000,"EUR",{"$f":"tblSalaries[[#This Row],[clean Salary (in local currency)]]*VLOOKUP(tblSalaries[[#This Row],[Currency]],[1]!tblXrate[#Data],2,FALSE)","v":76223.966339496474},"Project Manager","Manager","Europe",{"$f":"VLOOKUP(tblSalaries[[#This Row],[Where do you work]],[1]!tblCountries[[Actual]:[Mapping]],2,FALSE)","v":"Europe"},"2 to 3 hours per day",20]
["ID1927","2012-06-20T14:08:51",52500,"USD",{"$f":"tblSalaries[[#This Row],[clean Salary (in local currency)]]*VLOOKUP(tblSalaries[[#This Row],[Currency]],[1]!tblXrate[#Data],2,FALSE)","v":52500},"Business Analist","Analyst","south africa",{"$f":"VLOOKUP(tblSalaries[[#This Row],[Where do you work]],[1]!tblCountries[[Actual]:[Mapping]],2,FALSE)","v":"South Africa"},"4 to 6 hours a day",21]
["ID1928","2012-06-20T20:58:23",100800,"USD",{"$f":"tblSalaries[[#This Row],[clean Salary (in local currency)]]*VLOOKUP(tblSalaries[[#This Row],[Currency]],[1]!tblXrate[#Data],2,FALSE)","v":100800},"AVP","CXO or Top Mgmt.","Oman",{"$f":"VLOOKUP(tblSalaries[[#This Row],[Where do you work]],[1]!tblCountries[[Actual]:[Mapping]],2,FALSE)","v":"Oman"},"4 to 6 hours a day",4]
["ID1929","2012-06-21T03:46:23",21000,"USD",{"$f":"tblSalaries[[#This Row],[clean Salary (in local currency)]]*VLOOKUP(tblSalaries[[#This Row],[Currency]],[1]!tblXrate[#Data],2,FALSE)","v":21000},"eorl","Misc.","India",{"$f":"VLOOKUP(tblSalaries[[#This Row],[Where do you work]],[1]!tblCountries[[Actual]:[Mapping]],2,FALSE)","v":"India"},"All the 8 hours baby, all the 8!",5]
["ID1930","2012-06-21T04:06:15",40000,"USD",{"$f":"tblSalaries[[#This Row],[clean Salary (in local currency)]]*VLOOKUP(tblSalaries[[#This Row],[Currency]],[1]!tblXrate[#Data],2,FALSE)","v":40000},"Corporate Trainer","Analyst","USA",{"$f":"VLOOKUP(tblSalaries[[#This Row],[Where do you work]],[1]!tblCountries[[Actual]:[Mapping]],2,FALSE)","v":"USA"},"1 or 2 hours a day",3]
["ID1931","2012-06-21T04:44:20",46359,"USD",{"$f":"tblSalaries[[#This Row],[clean Salary (in local currency)]]*VLOOKUP(tblSalaries[[#This Row],[Currency]],[1]!tblXrate[#Data],2,FALSE)","v":46359},"Data Analyst","Analyst","USA",{"$f":"VLOOKUP(tblSalaries[[#This Row],[Where do you work]],[1]!tblCountries[[Actual]:[Mapping]],2,FALSE)","v":"USA"},"All the 8 hours baby, all the 8!",5]
["ID1932","2012-06-21T04:46:24",70000,"USD",{"$f":"tblSalaries[[#This Row],[clean Salary (in local currency)]]*VLOOKUP(tblSalaries[[#This Row],[Currency]],[1]!tblXrate[#Data],2,FALSE)","v":70000},"Administrative Coordinator","Analyst","USA",{"$f":"VLOOKUP(tblSalaries[[#This Row],[Where do you work]],[1]!tblCountries[[Actual]:[Mapping]],2,FALSE)","v":"USA"},"4 to 6 hours a day",10]