{"text_format":"1","workbook":"xlsx","n_sheets":6,"sheets":["mapping","WTO Data","Cleaned Data","Charts data","Dashboard","Notes"],"not_rendered":{"charts":4,"images":2,"macros":1,"external_links":0,"defined_names":2,"comments":2,"pivot_tables":0},"unopened":[],"bounds":{"document_bytes":16777216,"sheet_cells":100000,"rows_first":2000,"rows_last":500,"rows_between":2000,"halvings":0,"cell_chars":16384,"cell_head_chars":4096},"cells_cut":0,"cells_raw":0,"read":"whole","date_system":"1900"}

{"sheet":"mapping","index":0,"n_rows":137,"n_cols":17,"rows_kept":137,"cut":false,"hidden":false,"merged":[[0,1,0,2]]}
[null,"Mapping Sheet",null,null,"Source: Xrates on 6/21/2012","and xe.com"]
[null,"Currency Mapping",null,null,null,null,null,null,"Country Mapping",null,null,"Country","PPP adjustment (USD)","Per Capita GDP (USD)","Group","Local Currency","Convrsion Rate"]
[null,"Currency","in USD",null,"Value of 1 American Dollar",null,null,null,"Actual","Mapping",null,"Albania",{"$f":"VLOOKUP(L3,Table5[#All],2,0)/Table8[[#This Row],[Convrsion Rate]]","v":0.47374412721358866},{"$f":"VLOOKUP(L3,Table5[#All],3,0)","v":3992.47},{"$f":"VLOOKUP(L3,Table5[#All],4,0)","v":"Central and Eastern Europe"},"ALL",{"$f":"INDEX($F$4:$F$87,MATCH(Table8[[#This Row],[Local Currency]],$G$4:$G$87,0))","v":110.68}]
[null,"USD",1,null,"     Argentine Peso ",4.4927299999999999,"ARS",null,"USA","USA",null,"Argentina",{"$f":"VLOOKUP(L4,Table5[#All],2,0)/Table8[[#This Row],[Convrsion Rate]]","v":0.57159010223182793},{"$f":"VLOOKUP(L4,Table5[#All],3,0)","v":10944.71},{"$f":"VLOOKUP(L4,Table5[#All],4,0)","v":"Latin America and the Caribbean"},"ARS",{"$f":"INDEX($F$4:$F$87,MATCH(Table8[[#This Row],[Local Currency]],$G$4:$G$87,0))","v":4.4927299999999999}]
[null,"EUR",{"$f":"1/INDEX($F$4:$F$87,MATCH(tblXrate[[#This Row],[Currency]],$G$4:$G$87,0))","v":1.2703994389916078},null,"     Australian Dollar ",0.98047899999999999,"AUD",null,"India","India",null,"Armenia",{"$f":"VLOOKUP(L5,Table5[#All],2,0)/Table8[[#This Row],[Convrsion Rate]]","v":0.51570552734936292},{"$f":"VLOOKUP(L5,Table5[#All],3,0)","v":3032.81},{"$f":"VLOOKUP(L5,Table5[#All],4,0)","v":"Commonwealth of Independent States"},"AMD",{"$f":"INDEX($F$4:$F$87,MATCH(Table8[[#This Row],[Local Currency]],$G$4:$G$87,0))","v":417.56}]
[null,"PKR",{"$f":"1/INDEX($F$4:$F$87,MATCH(tblXrate[[#This Row],[Currency]],$G$4:$G$87,0))","v":1.0614088716799131E-2},null,"     Botswana Pula ",7.6569700000000003,"BWP",null,"UK","UK",null,"Australia",{"$f":"VLOOKUP(L6,Table5[#All],2,0)/Table8[[#This Row],[Convrsion Rate]]","v":1.6083975281469567},{"$f":"VLOOKUP(L6,Table5[#All],3,0)","v":65477.03},{"$f":"VLOOKUP(L6,Table5[#All],4,0)","v":"Other Advanced Economies"},"AUD",{"$f":"INDEX($F$4:$F$87,MATCH(Table8[[#This Row],[Local Currency]],$G$4:$G$87,0))","v":0.98047899999999999}]
[null,"INR",{"$f":"1/INDEX($F$4:$F$87,MATCH(tblXrate[[#This Row],[Currency]],$G$4:$G$87,0))","v":1.7807916687442568E-2},null,"     Brazilian Real ",2.0231400000000002,"BRL",null,"Australia","Australia",null,"Austria",{"$f":"VLOOKUP(L7,Table5[#All],2,0)/Table8[[#This Row],[Convrsion Rate]]","v":1.0874619197768163},{"$f":"VLOOKUP(L7,Table5[#All],3,0)","v":49809.17},{"$f":"VLOOKUP(L7,Table5[#All],4,0)","v":"Euro Area"},"EUR",{"$f":"INDEX($F$4:$F$87,MATCH(Table8[[#This Row],[Local Currency]],$G$4:$G$87,0))","v":0.78715400000000002}]
[null,"GBP",{"$f":"1/INDEX($F$4:$F$87,MATCH(tblXrate[[#This Row],[Currency]],$G$4:$G$87,0))","v":1.5761782720672841},null,"     British Pound ",0.63444599999999995,"GBP",null,"Canada","Canada",null,"Azerbaijan",{"$f":"VLOOKUP(L8,Table5[#All],2,0)/Table8[[#This Row],[Convrsion Rate]]","v":0.68517575140091702},{"$f":"VLOOKUP(L8,Table5[#All],3,0)","v":6832.28},{"$f":"VLOOKUP(L8,Table5[#All],4,0)","v":"Commonwealth of Independent States"},"AZN",{"$f":"INDEX($F$4:$F$87,MATCH(Table8[[#This Row],[Local Currency]],$G$4:$G$87,0))","v":0.78520000000000001}]
[null,"AUD",{"$f":"1/INDEX($F$4:$F$87,MATCH(tblXrate[[#This Row],[Currency]],$G$4:$G$87,0))","v":1.0199096564026358},null,"     Brunei dollar ",1.2686999999999999,"BND",null,"Pakistan","Pakistan",null,"Bangladesh",{"$f":"VLOOKUP(L9,Table5[#All],2,0)/Table8[[#This Row],[Convrsion Rate]]","v":0.36952170055507078},{"$f":"VLOOKUP(L9,Table5[#All],3,0)","v":678.02800000000002},{"$f":"VLOOKUP(L9,Table5[#All],4,0)","v":"Developing Asia"},"BDT",{"$f":"INDEX($F$4:$F$87,MATCH(Table8[[#This Row],[Local Currency]],$G$4:$G$87,0))","v":81.827399999999997}]
[null,"CAD",{"$f":"1/INDEX($F$4:$F$87,MATCH(tblXrate[[#This Row],[Currency]],$G$4:$G$87,0))","v":0.98336152303032687},null,"     Bulgarian Lev ",1.53952,"BGN",null,"South Africa","South Africa",null,"Belgium",{"$f":"VLOOKUP(L10,Table5[#All],2,0)/Table8[[#This Row],[Convrsion Rate]]","v":1.1344666990195058},{"$f":"VLOOKUP(L10,Table5[#All],3,0)","v":46878.36},{"$f":"VLOOKUP(L10,Table5[#All],4,0)","v":"Euro Area"},"EUR",{"$f":"INDEX($F$4:$F$87,MATCH(Table8[[#This Row],[Local Currency]],$G$4:$G$87,0))","v":0.78715400000000002}]
[null,"PHP",{"$f":"1/INDEX($F$4:$F$87,MATCH(tblXrate[[#This Row],[Currency]],$G$4:$G$87,0))","v":2.3705052257787702E-2},null,"     Canadian Dollar ",1.01692,"CAD",null,"Germany","Germany",null,"Bhutan",{"$f":"VLOOKUP(L11,Table5[#All],2,0)/Table8[[#This Row],[Convrsion Rate]]","v":0.32665732623366672},{"$f":"VLOOKUP(L11,Table5[#All],3,0)","v":2121.17},{"$f":"VLOOKUP(L11,Table5[#All],4,0)","v":"Developing Asia"},"BTN",{"$f":"INDEX($F$4:$F$87,MATCH(Table8[[#This Row],[Local Currency]],$G$4:$G$87,0))","v":56.885300000000001}]
[null,"AED",{"$f":"1/INDEX($F$4:$F$87,MATCH(tblXrate[[#This Row],[Currency]],$G$4:$G$87,0))","v":0.27221921268759308},null,"     Chilean Peso ",497.26799999999997,"CLP",null,"UAE","UAE",null,"Bolivia",{"$f":"VLOOKUP(L12,Table5[#All],2,0)/Table8[[#This Row],[Convrsion Rate]]","v":0.47945402298850576},{"$f":"VLOOKUP(L12,Table5[#All],3,0)","v":2314.83},{"$f":"VLOOKUP(L12,Table5[#All],4,0)","v":"Latin America and the Caribbean"},"BOB",{"$f":"INDEX($F$4:$F$87,MATCH(Table8[[#This Row],[Local Currency]],$G$4:$G$87,0))","v":6.96}]
[null,"MXN",{"$f":"1/INDEX($F$4:$F$87,MATCH(tblXrate[[#This Row],[Currency]],$G$4:$G$87,0))","v":7.3046552567951561E-2},null,"     Chinese Yuan ",6.3609099999999996,"CNY",null,"Brazil","Brazil",null,"Brazil",{"$f":"VLOOKUP(L13,Table5[#All],2,0)/Table8[[#This Row],[Convrsion Rate]]","v":0.89267178741955566},{"$f":"VLOOKUP(L13,Table5[#All],3,0)","v":12788.56},{"$f":"VLOOKUP(L13,Table5[#All],4,0)","v":"Latin America and the Caribbean"},"BRL",{"$f":"INDEX($F$4:$F$87,MATCH(Table8[[#This Row],[Local Currency]],$G$4:$G$87,0))","v":2.0231400000000002}]
[null,"SEK",{"$f":"1/INDEX($F$4:$F$87,MATCH(tblXrate[[#This Row],[Currency]],$G$4:$G$87,0))","v":0.14365525038391866},null,"     Colombian Peso ",1769.79,"COP",null,"Netherlands","Netherlands",null,"Bulgaria",{"$f":"VLOOKUP(L14,Table5[#All],2,0)/Table8[[#This Row],[Convrsion Rate]]","v":0.48391706505923926},{"$f":"VLOOKUP(L14,Table5[#All],3,0)","v":7201.88},{"$f":"VLOOKUP(L14,Table5[#All],4,0)","v":"Central and Eastern Europe"},"BGN",{"$f":"INDEX($F$4:$F$87,MATCH(Table8[[#This Row],[Local Currency]],$G$4:$G$87,0))","v":1.53952}]
[null,"BDT",{"$f":"1/INDEX($F$4:$F$87,MATCH(tblXrate[[#This Row],[Currency]],$G$4:$G$87,0))","v":1.2220845340313881E-2},null,"     Croatian Kuna ",5.9367099999999997,"HRK",null,"Singapore","Singapore",null,"Cambodia",{"$f":"VLOOKUP(L15,Table5[#All],2,0)/Table8[[#This Row],[Convrsion Rate]]","v":0.3787941534713764},{"$f":"VLOOKUP(L15,Table5[#All],3,0)","v":851.529},{"$f":"VLOOKUP(L15,Table5[#All],4,0)","v":"Developing Asia"},"KHR",{"$f":"INDEX($F$4:$F$87,MATCH(Table8[[#This Row],[Local Currency]],$G$4:$G$87,0))","v":4105}]
[null,"COSTARICAN",{"$f":"1/INDEX($F$4:$F$87,MATCH(tblXrate[[#This Row],[Currency]],$G$4:$G$87,0))","v":2.0078305391024996E-3},null,"     Danish Krone ",5.8512300000000002,"DKK",null,"Philippines","Philippines",null,"Canada",{"$f":"VLOOKUP(L16,Table5[#All],2,0)/Table8[[#This Row],[Convrsion Rate]]","v":1.2105180348503324},{"$f":"VLOOKUP(L16,Table5[#All],3,0)","v":50435.5},{"$f":"VLOOKUP(L16,Table5[#All],4,0)","v":"Major Advanced Economies (G7)"},"CAD",{"$f":"INDEX($F$4:$F$87,MATCH(Table8[[#This Row],[Local Currency]],$G$4:$G$87,0))","v":1.01692}]
[null,"ZAR",{"$f":"1/INDEX($F$4:$F$87,MATCH(tblXrate[[#This Row],[Currency]],$G$4:$G$87,0))","v":0.12192177986291114},null,"     Euro ",0.78715400000000002,"EUR",null,"Portugal","Portugal",null,"china",{"$f":"VLOOKUP(L17,Table5[#All],2,0)/Table8[[#This Row],[Convrsion Rate]]","v":0.65603820836955729},{"$f":"VLOOKUP(L17,Table5[#All],3,0)","v":5413.57},{"$f":"VLOOKUP(L17,Table5[#All],4,0)","v":"Developing Asia"},"CNY",{"$f":"INDEX($F$4:$F$87,MATCH(Table8[[#This Row],[Local Currency]],$G$4:$G$87,0))","v":6.3609099999999996}]
[null,"NZD",{"$f":"1/INDEX($F$4:$F$87,MATCH(tblXrate[[#This Row],[Currency]],$G$4:$G$87,0))","v":0.79758809360493876},null,"     Hong Kong Dollar ",7.7588900000000001,"HKD",null,"Spain","Spain",null,"Colombia",{"$f":"VLOOKUP(L18,Table5[#All],2,0)/Table8[[#This Row],[Convrsion Rate]]","v":0.7389464286723284},{"$f":"VLOOKUP(L18,Table5[#All],3,0)","v":7131.61},{"$f":"VLOOKUP(L18,Table5[#All],4,0)","v":"Latin America and the Caribbean"},"COP",{"$f":"INDEX($F$4:$F$87,MATCH(Table8[[#This Row],[Local Currency]],$G$4:$G$87,0))","v":1769.79}]
[null,"CNY",{"$f":"1/INDEX($F$4:$F$87,MATCH(tblXrate[[#This Row],[Currency]],$G$4:$G$87,0))","v":0.15721021048875083},null,"     Hungarian Forint ",225.874,"HUF",null,"New Zealand","New Zealand",null,"Costa Rica",{"$f":"VLOOKUP(L19,Table5[#All],2,0)/Table8[[#This Row],[Convrsion Rate]]","v":0.75669310310209814},{"$f":"VLOOKUP(L19,Table5[#All],3,0)","v":8876.59},{"$f":"VLOOKUP(L19,Table5[#All],4,0)","v":"Latin America and the Caribbean"},"COSTARICAN",{"$f":"INDEX($F$4:$F$87,MATCH(Table8[[#This Row],[Local Currency]],$G$4:$G$87,0))","v":498.05}]
[null,"EGYPT",{"$f":"1/INDEX($F$4:$F$87,MATCH(tblXrate[[#This Row],[Currency]],$G$4:$G$87,0))","v":0.16526194017517765},null,"     Iceland Krona ",124.697,"ISK",null,"Russia","Russia",null,"Croatia",{"$f":"VLOOKUP(L20,Table5[#All],2,0)/Table8[[#This Row],[Convrsion Rate]]","v":5.3953864173973578},{"$f":"VLOOKUP(L20,Table5[#All],3,0)","v":14456.97},{"$f":"VLOOKUP(L20,Table5[#All],4,0)","v":"Central and Eastern Europe"},"EUR",{"$f":"INDEX($F$4:$F$87,MATCH(Table8[[#This Row],[Local Currency]],$G$4:$G$87,0))","v":0.78715400000000002}]
[null,"NAIRA",{"$f":"1/INDEX($F$4:$F$87,MATCH(tblXrate[[#This Row],[Currency]],$G$4:$G$87,0))","v":6.1633281972265025E-3},null,"     Indian Rupee ",56.154800000000002,"INR",null,"Saudi Arabia","Saudi Arabia",null,"Czech Republic",{"$f":"VLOOKUP(L21,Table5[#All],2,0)/Table8[[#This Row],[Convrsion Rate]]","v":0.6448127496189392},{"$f":"VLOOKUP(L21,Table5[#All],3,0)","v":20443.97},{"$f":"VLOOKUP(L21,Table5[#All],4,0)","v":"Other Advanced Economies"},"CZK",{"$f":"INDEX($F$4:$F$87,MATCH(Table8[[#This Row],[Local Currency]],$G$4:$G$87,0))","v":20.7316}]
[null,"AED",{"$f":"1/INDEX($F$4:$F$87,MATCH(tblXrate[[#This Row],[Currency]],$G$4:$G$87,0))","v":0.27221921268759308},null,"     Indonesian Rupiah ",9443.81,"IDR",null,"Mexico","Mexico",null,"Denmark",{"$f":"VLOOKUP(L22,Table5[#All],2,0)/Table8[[#This Row],[Convrsion Rate]]","v":1.4800306944010062},{"$f":"VLOOKUP(L22,Table5[#All],3,0)","v":59928.1},{"$f":"VLOOKUP(L22,Table5[#All],4,0)","v":"Other Advanced Economies"},"DKK",{"$f":"INDEX($F$4:$F$87,MATCH(Table8[[#This Row],[Local Currency]],$G$4:$G$87,0))","v":5.8512300000000002}]
[null,"BRL",{"$f":"1/INDEX($F$4:$F$87,MATCH(tblXrate[[#This Row],[Currency]],$G$4:$G$87,0))","v":0.49428116689897877},null,"     Israeli New Shekel ",3.86721,"ILS",null,"Indonesia","Indonesia",null,"Dominican Republic",{"$f":"VLOOKUP(L23,Table5[#All],2,0)/Table8[[#This Row],[Convrsion Rate]]","v":0.59255455712451854},{"$f":"VLOOKUP(L23,Table5[#All],3,0)","v":5638.69},{"$f":"VLOOKUP(L23,Table5[#All],4,0)","v":"Latin America and the Caribbean"},"DOP",{"$f":"INDEX($F$4:$F$87,MATCH(Table8[[#This Row],[Local Currency]],$G$4:$G$87,0))","v":38.950000000000003}]
[null,"RON",{"$f":"1/INDEX($F$4:$F$87,MATCH(tblXrate[[#This Row],[Currency]],$G$4:$G$87,0))","v":0.28461323906942854},null,"     Japanese Yen ",78.904300000000006,"JPY",null,"Norway","Norway",null,"Egypt",{"$f":"VLOOKUP(L24,Table5[#All],2,0)/Table8[[#This Row],[Convrsion Rate]]","v":0.43678730788299452},{"$f":"VLOOKUP(L24,Table5[#All],3,0)","v":2970.4},{"$f":"VLOOKUP(L24,Table5[#All],4,0)","v":"Middle East and North Africa"},"EGYPT",{"$f":"INDEX($F$4:$F$87,MATCH(Table8[[#This Row],[Local Currency]],$G$4:$G$87,0))","v":6.0510000000000002}]
[null,"MYR",{"$f":"1/INDEX($F$4:$F$87,MATCH(tblXrate[[#This Row],[Currency]],$G$4:$G$87,0))","v":0.31680056770661735},null,"     Kazakhstani Tenge ",148.88,"KZT",null,"malaysia","malaysia",null,"Estonia",{"$f":"VLOOKUP(L25,Table5[#All],2,0)/Table8[[#This Row],[Convrsion Rate]]","v":0.74318367181009048},{"$f":"VLOOKUP(L25,Table5[#All],3,0)","v":16583.39},{"$f":"VLOOKUP(L25,Table5[#All],4,0)","v":"Euro Area"},"EUR",{"$f":"INDEX($F$4:$F$87,MATCH(Table8[[#This Row],[Local Currency]],$G$4:$G$87,0))","v":0.78715400000000002}]
[null,"LKR",{"$f":"1/INDEX($F$4:$F$87,MATCH(tblXrate[[#This Row],[Currency]],$G$4:$G$87,0))","v":7.5240581760178168E-3},null,"     Kuwaiti Dinar ",0.27939999999999998,"KWD",null,"The Netherlands","Netherlands",null,"Ethiopia",{"$f":"VLOOKUP(L26,Table5[#All],2,0)/Table8[[#This Row],[Convrsion Rate]]","v":0.30033936651583709},{"$f":"VLOOKUP(L26,Table5[#All],3,0)","v":359.94600000000003},{"$f":"VLOOKUP(L26,Table5[#All],4,0)","v":"Sub-Saharan Africa"},"ETB",{"$f":"INDEX($F$4:$F$87,MATCH(Table8[[#This Row],[Local Currency]],$G$4:$G$87,0))","v":17.68}]
[null,"SGD",{"$f":"1/INDEX($F$4:$F$87,MATCH(tblXrate[[#This Row],[Currency]],$G$4:$G$87,0))","v":0.78882394238429931},null,"     Latvian Lat ",0.548489,"LVL",null,"Romania","Romania",null,"Finland",{"$f":"VLOOKUP(L27,Table5[#All],2,0)/Table8[[#This Row],[Convrsion Rate]]","v":1.2437210507727838},{"$f":"VLOOKUP(L27,Table5[#All],3,0)","v":49349.52},{"$f":"VLOOKUP(L27,Table5[#All],4,0)","v":"Euro Area"},"EUR",{"$f":"INDEX($F$4:$F$87,MATCH(Table8[[#This Row],[Local Currency]],$G$4:$G$87,0))","v":0.78715400000000002}]
[null,"GBP",{"$f":"1/INDEX($F$4:$F$87,MATCH(tblXrate[[#This Row],[Currency]],$G$4:$G$87,0))","v":1.5761782720672841},null,"     Libyan Dinar ",1.9323999999999999,"LYD",null,"Poland","Poland",null,"France",{"$f":"VLOOKUP(L28,Table5[#All],2,0)/Table8[[#This Row],[Convrsion Rate]]","v":1.1433594950924471},{"$f":"VLOOKUP(L28,Table5[#All],3,0)","v":44008.18},{"$f":"VLOOKUP(L28,Table5[#All],4,0)","v":"Major Advanced Economies (G7)"},"EUR",{"$f":"INDEX($F$4:$F$87,MATCH(Table8[[#This Row],[Local Currency]],$G$4:$G$87,0))","v":0.78715400000000002}]
[null,"DOP",{"$f":"1/INDEX($F$4:$F$87,MATCH(tblXrate[[#This Row],[Currency]],$G$4:$G$87,0))","v":2.5673940949935813E-2},null,"     Lithuanian Litas ",2.7178800000000001,"LTL",null,"italy","italy",null,"Germany",{"$f":"VLOOKUP(L29,Table5[#All],2,0)/Table8[[#This Row],[Convrsion Rate]]","v":1.0544315343630344},{"$f":"VLOOKUP(L29,Table5[#All],3,0)","v":43741.55},{"$f":"VLOOKUP(L29,Table5[#All],4,0)","v":"Major Advanced Economies (G7)"},"EUR",{"$f":"INDEX($F$4:$F$87,MATCH(Table8[[#This Row],[Local Currency]],$G$4:$G$87,0))","v":0.78715400000000002}]
[null,"PLN",{"$f":"1/INDEX($F$4:$F$87,MATCH(tblXrate[[#This Row],[Currency]],$G$4:$G$87,0))","v":0.30031472983686902},null,"     Malaysian Ringgit ",3.1565599999999998,"MYR",null,"Hungary","Hungary",null,"Ghana",{"$f":"VLOOKUP(L30,Table5[#All],2,0)/Table8[[#This Row],[Convrsion Rate]]","v":0.39596273291925466},{"$f":"VLOOKUP(L30,Table5[#All],3,0)","v":1528.86},{"$f":"VLOOKUP(L30,Table5[#All],4,0)","v":"Sub-Saharan Africa"},"GHS",{"$f":"INDEX($F$4:$F$87,MATCH(Table8[[#This Row],[Local Currency]],$G$4:$G$87,0))","v":1.9319999999999999}]
[null,"KENYA",{"$f":"1/INDEX($F$4:$F$87,MATCH(tblXrate[[#This Row],[Currency]],$G$4:$G$87,0))","v":1.1976047904191617E-2},null,"     Mauritius Rupee ",30.715900000000001,"MUR",null,"Denmark","Denmark",null,"Greece",{"$f":"VLOOKUP(L31,Table5[#All],2,0)/Table8[[#This Row],[Convrsion Rate]]","v":0.94009558485378975},{"$f":"VLOOKUP(L31,Table5[#All],3,0)","v":27073.41},{"$f":"VLOOKUP(L31,Table5[#All],4,0)","v":"Euro Area"},"EUR",{"$f":"INDEX($F$4:$F$87,MATCH(Table8[[#This Row],[Local Currency]],$G$4:$G$87,0))","v":0.78715400000000002}]
[null,"DKK",{"$f":"1/INDEX($F$4:$F$87,MATCH(tblXrate[[#This Row],[Currency]],$G$4:$G$87,0))","v":0.17090423722875361},null,"     Mexican Peso ",13.6899,"MXN",null,"Ireland","Ireland",null,"Guyana",{"$f":"VLOOKUP(L32,Table5[#All],2,0)/Table8[[#This Row],[Convrsion Rate]]","v":0.43627768101517794},{"$f":"VLOOKUP(L32,Table5[#All],3,0)","v":3202.22},{"$f":"VLOOKUP(L32,Table5[#All],4,0)","v":"Latin America and the Caribbean"},"GYD",{"$f":"INDEX($F$4:$F$87,MATCH(Table8[[#This Row],[Local Currency]],$G$4:$G$87,0))","v":200.95}]
[null,"IDR",{"$f":"1/INDEX($F$4:$F$87,MATCH(tblXrate[[#This Row],[Currency]],$G$4:$G$87,0))","v":1.0588946622178973E-4},null,"     Nepalese Rupee ",89.65,"NPR",null,"Israel","Israel",null,"Hong Kong",{"$f":"VLOOKUP(L33,Table5[#All],2,0)/Table8[[#This Row],[Convrsion Rate]]","v":0.69520253541421517},{"$f":"VLOOKUP(L33,Table5[#All],3,0)","v":34048.92},{"$f":"VLOOKUP(L33,Table5[#All],4,0)","v":"Newly Industrialized Asian Economies"},"HKD",{"$f":"INDEX($F$4:$F$87,MATCH(Table8[[#This Row],[Local Currency]],$G$4:$G$87,0))","v":7.7588900000000001}]
[null,"MONGOLIAN",{"$f":"1/INDEX($F$4:$F$87,MATCH(tblXrate[[#This Row],[Currency]],$G$4:$G$87,0))","v":7.5642965204236008E-4},null,"     New Zealand Dollar ",1.2537799999999999,"NZD",null,"France","France",null,"Hungary",{"$f":"VLOOKUP(L34,Table5[#All],2,0)/Table8[[#This Row],[Convrsion Rate]]","v":182.82191286584327},{"$f":"VLOOKUP(L34,Table5[#All],3,0)","v":14050.01},{"$f":"VLOOKUP(L34,Table5[#All],4,0)","v":"Central and Eastern Europe"},"EUR",{"$f":"INDEX($F$4:$F$87,MATCH(Table8[[#This Row],[Local Currency]],$G$4:$G$87,0))","v":0.78715400000000002}]
[null,"JPY",{"$f":"1/INDEX($F$4:$F$87,MATCH(tblXrate[[#This Row],[Currency]],$G$4:$G$87,0))","v":1.2673580527296991E-2},null,"     Norwegian Kroner ",5.9083800000000002,"NOK",null,"Colombia","Colombia",null,"Iceland",{"$f":"VLOOKUP(L35,Table5[#All],2,0)/Table8[[#This Row],[Convrsion Rate]]","v":1.0534736200550134},{"$f":"VLOOKUP(L35,Table5[#All],3,0)","v":43088.2},{"$f":"VLOOKUP(L35,Table5[#All],4,0)","v":"Other Advanced Economies"},"ISK",{"$f":"INDEX($F$4:$F$87,MATCH(Table8[[#This Row],[Local Currency]],$G$4:$G$87,0))","v":124.697}]
[null,"SAR",{"$f":"1/INDEX($F$4:$F$87,MATCH(tblXrate[[#This Row],[Currency]],$G$4:$G$87,0))","v":0.26666666666666666},null,"     Omani Rial ",0.38450000000000001,"OMR",null,"Switzerland","Switzerland",null,"India",{"$f":"VLOOKUP(L36,Table5[#All],2,0)/Table8[[#This Row],[Convrsion Rate]]","v":0.34064763831408895},{"$f":"VLOOKUP(L36,Table5[#All],3,0)","v":1388.78},{"$f":"VLOOKUP(L36,Table5[#All],4,0)","v":"Developing Asia"},"INR",{"$f":"INDEX($F$4:$F$87,MATCH(Table8[[#This Row],[Local Currency]],$G$4:$G$87,0))","v":56.154800000000002}]
[null,"MAD",{"$f":"1/INDEX($F$4:$F$87,MATCH(tblXrate[[#This Row],[Currency]],$G$4:$G$87,0))","v":0.11454753722794959},null,"     Pakistan Rupee ",94.214399999999998,"PKR",null,"Sri Lanka","Sri Lanka",null,"Indonesia",{"$f":"VLOOKUP(L37,Table5[#All],2,0)/Table8[[#This Row],[Convrsion Rate]]","v":0.69928450487673943},{"$f":"VLOOKUP(L37,Table5[#All],3,0)","v":3508.61},{"$f":"VLOOKUP(L37,Table5[#All],4,0)","v":"Developing Asia"},"IDR",{"$f":"INDEX($F$4:$F$87,MATCH(Table8[[#This Row],[Local Currency]],$G$4:$G$87,0))","v":9443.81}]
[null,"MUR",{"$f":"1/INDEX($F$4:$F$87,MATCH(tblXrate[[#This Row],[Currency]],$G$4:$G$87,0))","v":3.2556428429575561E-2},null,"     Philippine Peso ",42.185099999999998,"PHP",null,"Belgium","Belgium",null,"Ireland",{"$f":"VLOOKUP(L38,Table5[#All],2,0)/Table8[[#This Row],[Convrsion Rate]]","v":1.0938139169717742},{"$f":"VLOOKUP(L38,Table5[#All],3,0)","v":47512.83},{"$f":"VLOOKUP(L38,Table5[#All],4,0)","v":"Euro Area"},"EUR",{"$f":"INDEX($F$4:$F$87,MATCH(Table8[[#This Row],[Local Currency]],$G$4:$G$87,0))","v":0.78715400000000002}]
[null,"NOK",{"$f":"1/INDEX($F$4:$F$87,MATCH(tblXrate[[#This Row],[Currency]],$G$4:$G$87,0))","v":0.16925113144381371},null,"     Qatari Rial ",3.64,"QAR",null,"Dubai","UAE",null,"Islamic Republic of Iran",{"$f":"VLOOKUP(L39,Table5[#All],2,0)/Table8[[#This Row],[Convrsion Rate]]","v":0.44990367346938775},{"$f":"VLOOKUP(L39,Table5[#All],3,0)","v":6359.76},{"$f":"VLOOKUP(L39,Table5[#All],4,0)","v":"Middle East and North Africa"},"IRR",{"$f":"INDEX($F$4:$F$87,MATCH(Table8[[#This Row],[Local Currency]],$G$4:$G$87,0))","v":12250}]
[null,"CHF",{"$f":"1/INDEX($F$4:$F$87,MATCH(tblXrate[[#This Row],[Currency]],$G$4:$G$87,0))","v":1.0578730615798488},null,"     Romanian Leu ",3.5135399999999999,"RON",null,"Ukraine","Ukraine",null,"Israel",{"$f":"VLOOKUP(L40,Table5[#All],2,0)/Table8[[#This Row],[Convrsion Rate]]","v":0.9554691883812878},{"$f":"VLOOKUP(L40,Table5[#All],3,0)","v":31985.73},{"$f":"VLOOKUP(L40,Table5[#All],4,0)","v":"Other Advanced Economies"},"ILS",{"$f":"INDEX($F$4:$F$87,MATCH(Table8[[#This Row],[Local Currency]],$G$4:$G$87,0))","v":3.86721}]
[null,"ETB",{"$f":"1/INDEX($F$4:$F$87,MATCH(tblXrate[[#This Row],[Currency]],$G$4:$G$87,0))","v":5.6561085972850679E-2},null,"     Russian Ruble ",32.5458,"RUB",null,"Kuwait","Kuwait",null,"italy",{"$f":"VLOOKUP(L41,Table5[#All],2,0)/Table8[[#This Row],[Convrsion Rate]]","v":1.0874619197768163},{"$f":"VLOOKUP(L41,Table5[#All],3,0)","v":36266.85},{"$f":"VLOOKUP(L41,Table5[#All],4,0)","v":"Major Advanced Economies (G7)"},"EUR",{"$f":"INDEX($F$4:$F$87,MATCH(Table8[[#This Row],[Local Currency]],$G$4:$G$87,0))","v":0.78715400000000002}]
[null,"ALL",{"$f":"1/INDEX($F$4:$F$87,MATCH(tblXrate[[#This Row],[Currency]],$G$4:$G$87,0))","v":9.0350560173473073E-3},null,"     Saudi Riyal ",3.75,"SAR",null,"iran","Islamic Republic of Iran",null,"Japan",{"$f":"VLOOKUP(L42,Table5[#All],2,0)/Table8[[#This Row],[Convrsion Rate]]","v":1.3369613569856142},{"$f":"VLOOKUP(L42,Table5[#All],3,0)","v":45920.3},{"$f":"VLOOKUP(L42,Table5[#All],4,0)","v":"Major Advanced Economies (G7)"},"JPY",{"$f":"INDEX($F$4:$F$87,MATCH(Table8[[#This Row],[Local Currency]],$G$4:$G$87,0))","v":78.904300000000006}]
[null,"AMD",{"$f":"1/INDEX($F$4:$F$87,MATCH(tblXrate[[#This Row],[Currency]],$G$4:$G$87,0))","v":2.3948654085640389E-3},null,"     Singapore Dollar ",1.2677099999999999,"SGD",null,"Qatar","Qatar",null,"Kenya",{"$f":"VLOOKUP(L43,Table5[#All],2,0)/Table8[[#This Row],[Convrsion Rate]]","v":0.50302994011976043},{"$f":"VLOOKUP(L43,Table5[#All],3,0)","v":850.55499999999995},{"$f":"VLOOKUP(L43,Table5[#All],4,0)","v":"Sub-Saharan Africa"},"KENYA",{"$f":"INDEX($F$4:$F$87,MATCH(Table8[[#This Row],[Local Currency]],$G$4:$G$87,0))","v":83.5}]
[null,"AZN",{"$f":"1/INDEX($F$4:$F$87,MATCH(tblXrate[[#This Row],[Currency]],$G$4:$G$87,0))","v":1.2735608762098829},null,"     South African Rand ",8.2019800000000007,"ZAR",null,"Nigeria","Nigeria",null,"Kuwait",{"$f":"VLOOKUP(L44,Table5[#All],2,0)/Table8[[#This Row],[Convrsion Rate]]","v":1.134574087329993},{"$f":"VLOOKUP(L44,Table5[#All],3,0)","v":47982.43},{"$f":"VLOOKUP(L44,Table5[#All],4,0)","v":"Middle East and North Africa"},"KWD",{"$f":"INDEX($F$4:$F$87,MATCH(Table8[[#This Row],[Local Currency]],$G$4:$G$87,0))","v":0.27939999999999998}]
[null,"BTN",{"$f":"1/INDEX($F$4:$F$87,MATCH(tblXrate[[#This Row],[Currency]],$G$4:$G$87,0))","v":1.7579234002457575E-2},null,"     South Korean Won ",1151.0899999999999,"KRW",null,"Finland","Finland",null,"Lesotho",{"$f":"VLOOKUP(L45,Table5[#All],2,0)/Table8[[#This Row],[Convrsion Rate]]","v":0.56556349363563152},{"$f":"VLOOKUP(L45,Table5[#All],3,0)","v":1263.96},{"$f":"VLOOKUP(L45,Table5[#All],4,0)","v":"Sub-Saharan Africa"},"LSL",{"$f":"INDEX($F$4:$F$87,MATCH(Table8[[#This Row],[Local Currency]],$G$4:$G$87,0))","v":8.4305299999999992}]
[null,"BOB",{"$f":"1/INDEX($F$4:$F$87,MATCH(tblXrate[[#This Row],[Currency]],$G$4:$G$87,0))","v":0.14367816091954022},null,"     Sri Lanka Rupee ",132.90700000000001,"LKR",null,"Europe","Europe",null,"Libya",{"$f":"VLOOKUP(L46,Table5[#All],2,0)/Table8[[#This Row],[Convrsion Rate]]","v":0.62305940799006421},{"$f":"VLOOKUP(L46,Table5[#All],3,0)","v":5691.33},{"$f":"VLOOKUP(L46,Table5[#All],4,0)","v":"Middle East and North Africa"},"LYD",{"$f":"INDEX($F$4:$F$87,MATCH(Table8[[#This Row],[Local Currency]],$G$4:$G$87,0))","v":1.9323999999999999}]
[null,"KHR",{"$f":"1/INDEX($F$4:$F$87,MATCH(tblXrate[[#This Row],[Currency]],$G$4:$G$87,0))","v":2.43605359317905E-4},null,"     Swedish Krona ",6.9611099999999997,"SEK",null,"Japan","Japan",null,"Lithuania",{"$f":"VLOOKUP(L47,Table5[#All],2,0)/Table8[[#This Row],[Convrsion Rate]]","v":0.63321412277216071},{"$f":"VLOOKUP(L47,Table5[#All],3,0)","v":13075.41},{"$f":"VLOOKUP(L47,Table5[#All],4,0)","v":"Central and Eastern Europe"},"LTL",{"$f":"INDEX($F$4:$F$87,MATCH(Table8[[#This Row],[Local Currency]],$G$4:$G$87,0))","v":2.7178800000000001}]
[null,"CZK",{"$f":"1/INDEX($F$4:$F$87,MATCH(tblXrate[[#This Row],[Currency]],$G$4:$G$87,0))","v":4.8235543807520882E-2},null,"     Swiss Franc ",0.94529300000000005,"CHF",null,"Brasil","Brazil",null,"malaysia",{"$f":"VLOOKUP(L48,Table5[#All],2,0)/Table8[[#This Row],[Convrsion Rate]]","v":0.6038218820488126},{"$f":"VLOOKUP(L48,Table5[#All],3,0)","v":9699.7000000000007},{"$f":"VLOOKUP(L48,Table5[#All],4,0)","v":"Developing Asia"},"MYR",{"$f":"INDEX($F$4:$F$87,MATCH(Table8[[#This Row],[Local Currency]],$G$4:$G$87,0))","v":3.1565599999999998}]
[null,"GHS",{"$f":"1/INDEX($F$4:$F$87,MATCH(tblXrate[[#This Row],[Currency]],$G$4:$G$87,0))","v":0.51759834368530022},null,"     Taiwan Dollar ",29.859400000000001,"TWD",null,"nz","New Zealand",null,"Mauritius",{"$f":"VLOOKUP(L49,Table5[#All],2,0)/Table8[[#This Row],[Convrsion Rate]]","v":0.54851070618148901},{"$f":"VLOOKUP(L49,Table5[#All],3,0)","v":8776.7800000000007},{"$f":"VLOOKUP(L49,Table5[#All],4,0)","v":"Sub-Saharan Africa"},"MUR",{"$f":"INDEX($F$4:$F$87,MATCH(Table8[[#This Row],[Local Currency]],$G$4:$G$87,0))","v":30.715900000000001}]
[null,"GYD",{"$f":"1/INDEX($F$4:$F$87,MATCH(tblXrate[[#This Row],[Currency]],$G$4:$G$87,0))","v":4.9763622791739242E-3},null,"     Thai Baht ",31.500299999999999,"THB",null,"Greece","Greece",null,"Mexico",{"$f":"VLOOKUP(L50,Table5[#All],2,0)/Table8[[#This Row],[Convrsion Rate]]","v":0.63068393487169372},{"$f":"VLOOKUP(L50,Table5[#All],3,0)","v":10153.299999999999},{"$f":"VLOOKUP(L50,Table5[#All],4,0)","v":"Latin America and the Caribbean"},"MXN",{"$f":"INDEX($F$4:$F$87,MATCH(Table8[[#This Row],[Local Currency]],$G$4:$G$87,0))","v":13.6899}]
[null,"LSL",{"$f":"1/INDEX($F$4:$F$87,MATCH(tblXrate[[#This Row],[Currency]],$G$4:$G$87,0))","v":0.11861650453767439},null,"     Trinidad/Tobago Dollar ",6.3912199999999997,"TTD",null,"ksa","USA",null,"Mongolia",{"$f":"VLOOKUP(L51,Table5[#All],2,0)/Table8[[#This Row],[Convrsion Rate]]","v":0.61762481089258703},{"$f":"VLOOKUP(L51,Table5[#All],3,0)","v":3042.19},{"$f":"VLOOKUP(L51,Table5[#All],4,0)","v":"Commonwealth of Independent States"},"MONGOLIAN",{"$f":"INDEX($F$4:$F$87,MATCH(Table8[[#This Row],[Local Currency]],$G$4:$G$87,0))","v":1322}]
[null,"MZN",{"$f":"1/INDEX($F$4:$F$87,MATCH(tblXrate[[#This Row],[Currency]],$G$4:$G$87,0))","v":3.6101083032490974E-2},null,"     Turkish Lira ",1.79447,"TRY",null,"Panama","Panama",null,"Montenegro",{"$f":"VLOOKUP(L52,Table5[#All],2,0)/Table8[[#This Row],[Convrsion Rate]]","v":0.57803174474118157},{"$f":"VLOOKUP(L52,Table5[#All],3,0)","v":7316.68},{"$f":"VLOOKUP(L52,Table5[#All],4,0)","v":"Central and Eastern Europe"},"EUR",{"$f":"INDEX($F$4:$F$87,MATCH(Table8[[#This Row],[Local Currency]],$G$4:$G$87,0))","v":0.78715400000000002}]
[null,"MMK",{"$f":"1/INDEX($F$4:$F$87,MATCH(tblXrate[[#This Row],[Currency]],$G$4:$G$87,0))","v":1.1534025374855825E-3},null,"     Venezuelan Bolivar ",4.2940199999999997,"VEF",null,"Turkey","Turkey",null,"Morocco",{"$f":"VLOOKUP(L53,Table5[#All],2,0)/Table8[[#This Row],[Convrsion Rate]]","v":0.56643757159221075},{"$f":"VLOOKUP(L53,Table5[#All],3,0)","v":3083.25},{"$f":"VLOOKUP(L53,Table5[#All],4,0)","v":"Middle East and North Africa"},"MAD",{"$f":"INDEX($F$4:$F$87,MATCH(Table8[[#This Row],[Local Currency]],$G$4:$G$87,0))","v":8.73}]
[null,"PYG",{"$f":"1/INDEX($F$4:$F$87,MATCH(tblXrate[[#This Row],[Currency]],$G$4:$G$87,0))","v":2.2222222222222223E-4},null,"UAE Dirham",3.6735099999999998,"AED",null,"Sweden","Sweden",null,"mozambique",{"$f":"VLOOKUP(L54,Table5[#All],2,0)/Table8[[#This Row],[Convrsion Rate]]","v":0.56335740072202167},{"$f":"VLOOKUP(L54,Table5[#All],3,0)","v":582.61099999999999},{"$f":"VLOOKUP(L54,Table5[#All],4,0)","v":"Sub-Saharan Africa"},"MZN",{"$f":"INDEX($F$4:$F$87,MATCH(Table8[[#This Row],[Local Currency]],$G$4:$G$87,0))","v":27.7}]
[null,"PEN",{"$f":"1/INDEX($F$4:$F$87,MATCH(tblXrate[[#This Row],[Currency]],$G$4:$G$87,0))","v":0.37593984962406013},null,"Bangladesh Takha",81.827399999999997,"BDT",null,"china","china",null,"Myanmar",{"$f":"VLOOKUP(L55,Table5[#All],2,0)/Table8[[#This Row],[Convrsion Rate]]","v":0.55529757785467126},{"$f":"VLOOKUP(L55,Table5[#All],3,0)","v":831.91},{"$f":"VLOOKUP(L55,Table5[#All],4,0)","v":"Developing Asia"},"MMK",{"$f":"INDEX($F$4:$F$87,MATCH(Table8[[#This Row],[Local Currency]],$G$4:$G$87,0))","v":867}]
[null,"GEL",{"$f":"1/INDEX($F$4:$F$87,MATCH(tblXrate[[#This Row],[Currency]],$G$4:$G$87,0))","v":0.61109753116597409},null,"Costarican CRC",498.05,"Costarican",null,"Bangladesh","Bangladesh",null,"Netherlands",{"$f":"VLOOKUP(L56,Table5[#All],2,0)/Table8[[#This Row],[Convrsion Rate]]","v":1.0900027186547994},{"$f":"VLOOKUP(L56,Table5[#All],3,0)","v":50355.47},{"$f":"VLOOKUP(L56,Table5[#All],4,0)","v":"Euro Area"},"EUR",{"$f":"INDEX($F$4:$F$87,MATCH(Table8[[#This Row],[Local Currency]],$G$4:$G$87,0))","v":0.78715400000000002}]
[null,"TND",{"$f":"1/INDEX($F$4:$F$87,MATCH(tblXrate[[#This Row],[Currency]],$G$4:$G$87,0))","v":0.62736831539059945},null,"Egyptian Pound",6.0510000000000002,"Egypt",null,"Croatia","Croatia",null,"New Zealand",{"$f":"VLOOKUP(L57,Table5[#All],2,0)/Table8[[#This Row],[Convrsion Rate]]","v":1.3351624686946675},{"$f":"VLOOKUP(L57,Table5[#All],3,0)","v":36648.199999999997},{"$f":"VLOOKUP(L57,Table5[#All],4,0)","v":"Other Advanced Economies"},"NZD",{"$f":"INDEX($F$4:$F$87,MATCH(Table8[[#This Row],[Local Currency]],$G$4:$G$87,0))","v":1.2537799999999999}]
[null,"UGX",{"$f":"1/INDEX($F$4:$F$87,MATCH(tblXrate[[#This Row],[Currency]],$G$4:$G$87,0))","v":4.0485829959514168E-4},null,"Nigerian Naira",162.25,"NAIRA",null,"United Arab Emirates","UAE",null,"Nigeria",{"$f":"VLOOKUP(L58,Table5[#All],2,0)/Table8[[#This Row],[Convrsion Rate]]","v":0.54494915254237297},{"$f":"VLOOKUP(L58,Table5[#All],3,0)","v":1490.06},{"$f":"VLOOKUP(L58,Table5[#All],4,0)","v":"Sub-Saharan Africa"},"NAIRA",{"$f":"INDEX($F$4:$F$87,MATCH(Table8[[#This Row],[Local Currency]],$G$4:$G$87,0))","v":162.25}]
[null,"UAH",{"$f":"1/INDEX($F$4:$F$87,MATCH(tblXrate[[#This Row],[Currency]],$G$4:$G$87,0))","v":0.12383900928792571},null,"Dominican Peso",38.950000000000003,"DOP",null,"MÃ©xico","Mexico",null,"Norway",{"$f":"VLOOKUP(L59,Table5[#All],2,0)/Table8[[#This Row],[Convrsion Rate]]","v":12.950451881080451},{"$f":"VLOOKUP(L59,Table5[#All],3,0)","v":97254.6},{"$f":"VLOOKUP(L59,Table5[#All],4,0)","v":"Other Advanced Economies"},"EUR",{"$f":"INDEX($F$4:$F$87,MATCH(Table8[[#This Row],[Local Currency]],$G$4:$G$87,0))","v":0.78715400000000002}]
[null,"UYU",{"$f":"1/INDEX($F$4:$F$87,MATCH(tblXrate[[#This Row],[Currency]],$G$4:$G$87,0))","v":4.6403712296983757E-2},null,"Polish Zloty",3.3298399999999999,"PLN",null,"Zambia","Zambia",null,"Oman",{"$f":"VLOOKUP(L60,Table5[#All],2,0)/Table8[[#This Row],[Convrsion Rate]]","v":0.87906371911573478},{"$f":"VLOOKUP(L60,Table5[#All],3,0)","v":23315.46},{"$f":"VLOOKUP(L60,Table5[#All],4,0)","v":"Middle East and North Africa"},"OMR",{"$f":"INDEX($F$4:$F$87,MATCH(Table8[[#This Row],[Local Currency]],$G$4:$G$87,0))","v":0.38450000000000001}]
[null,"VND",{"$f":"1/INDEX($F$4:$F$87,MATCH(tblXrate[[#This Row],[Currency]],$G$4:$G$87,0))","v":4.7915668423574511E-5},null,"Kenyan Shilling",83.5,"Kenya",null,"Tunisia","Tunisia",null,"Pakistan",{"$f":"VLOOKUP(L61,Table5[#All],2,0)/Table8[[#This Row],[Convrsion Rate]]","v":0.65835867993475172},{"$f":"VLOOKUP(L61,Table5[#All],3,0)","v":1201.1099999999999},{"$f":"VLOOKUP(L61,Table5[#All],4,0)","v":"Developing Asia"},"INR",{"$f":"INDEX($F$4:$F$87,MATCH(Table8[[#This Row],[Local Currency]],$G$4:$G$87,0))","v":56.154800000000002}]
[null,"ZMK",{"$f":"1/INDEX($F$4:$F$87,MATCH(tblXrate[[#This Row],[Currency]],$G$4:$G$87,0))","v":1.9342359767891682E-4},null,"Mongolian Tughrik",1322,"Mongolian",null,"Saudi Arabai","Saudi Arabia",null,"Panama",{"$f":"VLOOKUP(L62,Table5[#All],2,0)/Table8[[#This Row],[Convrsion Rate]]","v":0.76732126115093102},{"$f":"VLOOKUP(L62,Table5[#All],3,0)","v":8514.2199999999993},{"$f":"VLOOKUP(L62,Table5[#All],4,0)","v":"Latin America and the Caribbean"},"EUR",{"$f":"INDEX($F$4:$F$87,MATCH(Table8[[#This Row],[Local Currency]],$G$4:$G$87,0))","v":0.78715400000000002}]
[null,"IRR",{"$f":"1/INDEX($F$4:$F$87,MATCH(tblXrate[[#This Row],[Currency]],$G$4:$G$87,0))","v":8.163265306122449E-5},null,"Moroccan Dirham",8.73,"MAD",null,"Ethiopia","Ethiopia",null,"Paraguay",{"$f":"VLOOKUP(L63,Table5[#All],2,0)/Table8[[#This Row],[Convrsion Rate]]","v":0.6031955555555556},{"$f":"VLOOKUP(L63,Table5[#All],3,0)","v":3251.91},{"$f":"VLOOKUP(L63,Table5[#All],4,0)","v":"Latin America and the Caribbean"},"PYG",{"$f":"INDEX($F$4:$F$87,MATCH(Table8[[#This Row],[Local Currency]],$G$4:$G$87,0))","v":4500}]
[null,"ZWD",{"$f":"1/INDEX($F$4:$F$87,MATCH(tblXrate[[#This Row],[Currency]],$G$4:$G$87,0))","v":0.27631942525559544},null,"Ethiopian Birr",17.68,"ETB",null,"CEE","CEE",null,"Peru",{"$f":"VLOOKUP(L64,Table5[#All],2,0)/Table8[[#This Row],[Convrsion Rate]]","v":0.60563909774436087},{"$f":"VLOOKUP(L64,Table5[#All],3,0)","v":5781.58},{"$f":"VLOOKUP(L64,Table5[#All],4,0)","v":"Latin America and the Caribbean"},"PEN",{"$f":"INDEX($F$4:$F$87,MATCH(Table8[[#This Row],[Local Currency]],$G$4:$G$87,0))","v":2.66}]
[null,null,null,null,"Lek",110.68,"ALL",null,"SouthAfrica","South Africa",null,"Philippines",{"$f":"VLOOKUP(L65,Table5[#All],2,0)/Table8[[#This Row],[Convrsion Rate]]","v":0.59108547804793632},{"$f":"VLOOKUP(L65,Table5[#All],3,0)","v":2223.44},{"$f":"VLOOKUP(L65,Table5[#All],4,0)","v":"Developing Asia"},"PHP",{"$f":"INDEX($F$4:$F$87,MATCH(Table8[[#This Row],[Local Currency]],$G$4:$G$87,0))","v":42.185099999999998}]
[null,null,null,null,"Armenian Dram",417.56,"AMD",null,"Central America","Central America",null,"Poland",{"$f":"VLOOKUP(L66,Table5[#All],2,0)/Table8[[#This Row],[Convrsion Rate]]","v":2.5064980931304421},{"$f":"VLOOKUP(L66,Table5[#All],3,0)","v":13539.84},{"$f":"VLOOKUP(L66,Table5[#All],4,0)","v":"Central and Eastern Europe"},"EUR",{"$f":"INDEX($F$4:$F$87,MATCH(Table8[[#This Row],[Local Currency]],$G$4:$G$87,0))","v":0.78715400000000002}]
[null,null,null,null,"Azerbaijanian Manat",0.78520000000000001,"AZN",null,"Uruguay","Uruguay",null,"Portugal",{"$f":"VLOOKUP(L67,Table5[#All],2,0)/Table8[[#This Row],[Convrsion Rate]]","v":0.87657561290420927},{"$f":"VLOOKUP(L67,Table5[#All],3,0)","v":22413.45},{"$f":"VLOOKUP(L67,Table5[#All],4,0)","v":"Euro Area"},"EUR",{"$f":"INDEX($F$4:$F$87,MATCH(Table8[[#This Row],[Local Currency]],$G$4:$G$87,0))","v":0.78715400000000002}]
[null,null,null,null,"Ngultrum",56.885300000000001,"BTN",null,"Kenya","Kenya",null,"Qatar",{"$f":"VLOOKUP(L68,Table5[#All],2,0)/Table8[[#This Row],[Convrsion Rate]]","v":0.95521978021978016},{"$f":"VLOOKUP(L68,Table5[#All],3,0)","v":98329.49},{"$f":"VLOOKUP(L68,Table5[#All],4,0)","v":"Middle East and North Africa"},"QAR",{"$f":"INDEX($F$4:$F$87,MATCH(Table8[[#This Row],[Local Currency]],$G$4:$G$87,0))","v":3.64}]
[null,null,null,null,"Boliviano",6.96,"BOB",null,"Republica Dominicana","Dominican Republic",null,"Republic of Georgia",{"$f":"VLOOKUP(L69,Table5[#All],2,0)/Table8[[#This Row],[Convrsion Rate]]","v":0.60315326326081642},{"$f":"VLOOKUP(L69,Table5[#All],3,0)","v":3210.3},{"$f":"VLOOKUP(L69,Table5[#All],4,0)","v":"Commonwealth of Independent States"},"GEL",{"$f":"INDEX($F$4:$F$87,MATCH(Table8[[#This Row],[Local Currency]],$G$4:$G$87,0))","v":1.6364000000000001}]
[null,null,null,null,"Riel",4105,"KHR",null,"Kingdom of Saudi Arabia","Saudi Arabia",null,"Romania",{"$f":"VLOOKUP(L70,Table5[#All],2,0)/Table8[[#This Row],[Convrsion Rate]]","v":0.61647227582438224},{"$f":"VLOOKUP(L70,Table5[#All],3,0)","v":8862.8700000000008},{"$f":"VLOOKUP(L70,Table5[#All],4,0)","v":"Central and Eastern Europe"},"RON",{"$f":"INDEX($F$4:$F$87,MATCH(Table8[[#This Row],[Local Currency]],$G$4:$G$87,0))","v":3.5135399999999999}]
[null,null,null,null,"Czech Koruna",20.7316,"CZK",null,"Slovakia","Slovakia",null,"Russia",{"$f":"VLOOKUP(L71,Table5[#All],2,0)/Table8[[#This Row],[Convrsion Rate]]","v":0.7009199343694118},{"$f":"VLOOKUP(L71,Table5[#All],3,0)","v":12993.36},{"$f":"VLOOKUP(L71,Table5[#All],4,0)","v":"Commonwealth of Independent States"},"RUB",{"$f":"INDEX($F$4:$F$87,MATCH(Table8[[#This Row],[Local Currency]],$G$4:$G$87,0))","v":32.5458}]
[null,null,null,null,"Ghana Cedi",1.9319999999999999,"GHS",null,"Austria","Austria",null,"Saudi Arabia",{"$f":"VLOOKUP(L72,Table5[#All],2,0)/Table8[[#This Row],[Convrsion Rate]]","v":0.8448},{"$f":"VLOOKUP(L72,Table5[#All],3,0)","v":20504.36},{"$f":"VLOOKUP(L72,Table5[#All],4,0)","v":"Middle East and North Africa"},"SAR",{"$f":"INDEX($F$4:$F$87,MATCH(Table8[[#This Row],[Local Currency]],$G$4:$G$87,0))","v":3.75}]
[null,null,null,null,"Guyana Dollar",200.95,"GYD",null,"Guyana","Guyana",null,"Singapore",{"$f":"VLOOKUP(L73,Table5[#All],2,0)/Table8[[#This Row],[Convrsion Rate]]","v":0.81879925219490268},{"$f":"VLOOKUP(L73,Table5[#All],3,0)","v":49270.87},{"$f":"VLOOKUP(L73,Table5[#All],4,0)","v":"Newly Industrialized Asian Economies"},"SGD",{"$f":"INDEX($F$4:$F$87,MATCH(Table8[[#This Row],[Local Currency]],$G$4:$G$87,0))","v":1.2677099999999999}]
[null,null,null,null,"Loti",8.4305299999999992,"LSL",null,"Azerbaijan","Azerbaijan",null,"Slovakia",{"$f":"VLOOKUP(L74,Table5[#All],2,0)/Table8[[#This Row],[Convrsion Rate]]","v":0.69109729481143467},{"$f":"VLOOKUP(L74,Table5[#All],3,0)","v":17643.54},{"$f":"VLOOKUP(L74,Table5[#All],4,0)","v":"Euro Area"},"EUR",{"$f":"INDEX($F$4:$F$87,MATCH(Table8[[#This Row],[Local Currency]],$G$4:$G$87,0))","v":0.78715400000000002}]
[null,null,null,null,"Mozambique Metical",27.7,"MZN",null,"Bulgaria","Bulgaria",null,"Slovenia",{"$f":"VLOOKUP(L75,Table5[#All],2,0)/Table8[[#This Row],[Convrsion Rate]]","v":0.78256605441883031},{"$f":"VLOOKUP(L75,Table5[#All],3,0)","v":24533.08},{"$f":"VLOOKUP(L75,Table5[#All],4,0)","v":"Euro Area"},"EUR",{"$f":"INDEX($F$4:$F$87,MATCH(Table8[[#This Row],[Local Currency]],$G$4:$G$87,0))","v":0.78715400000000002}]
[null,null,null,null,"Kyat",867,"MMK",null,"Kuwait ","Kuwait",null,"South Africa",{"$f":"VLOOKUP(L76,Table5[#All],2,0)/Table8[[#This Row],[Convrsion Rate]]","v":0.65008693022904218},{"$f":"VLOOKUP(L76,Table5[#All],3,0)","v":8066.15},{"$f":"VLOOKUP(L76,Table5[#All],4,0)","v":"Sub-Saharan Africa"},"ZAR",{"$f":"INDEX($F$4:$F$87,MATCH(Table8[[#This Row],[Local Currency]],$G$4:$G$87,0))","v":8.2019800000000007}]
[null,null,null,null,"Guarani",4500,"PYG",null,"Peru","Peru",null,"Spain",{"$f":"VLOOKUP(L77,Table5[#All],2,0)/Table8[[#This Row],[Convrsion Rate]]","v":0.96423317419463028},{"$f":"VLOOKUP(L77,Table5[#All],3,0)","v":32360.1},{"$f":"VLOOKUP(L77,Table5[#All],4,0)","v":"Euro Area"},"EUR",{"$f":"INDEX($F$4:$F$87,MATCH(Table8[[#This Row],[Local Currency]],$G$4:$G$87,0))","v":0.78715400000000002}]
[null,null,null,null,"Nuevo Sol",2.66,"PEN",null,"Vietnam","Vietnam",null,"Sri Lanka",{"$f":"VLOOKUP(L78,Table5[#All],2,0)/Table8[[#This Row],[Convrsion Rate]]","v":0.42199432686013522},{"$f":"VLOOKUP(L78,Table5[#All],3,0)","v":2876.97},{"$f":"VLOOKUP(L78,Table5[#All],4,0)","v":"Developing Asia"},"LKR",{"$f":"INDEX($F$4:$F$87,MATCH(Table8[[#This Row],[Local Currency]],$G$4:$G$87,0))","v":132.90700000000001}]
[null,null,null,null,"Lari",1.6364000000000001,"GEL",null,"Armenia","Armenia",null,"Sweden",{"$f":"VLOOKUP(L79,Table5[#All],2,0)/Table8[[#This Row],[Convrsion Rate]]","v":1.3153074725151594},{"$f":"VLOOKUP(L79,Table5[#All],3,0)","v":56956.31},{"$f":"VLOOKUP(L79,Table5[#All],4,0)","v":"Other Advanced Economies"},"SEK",{"$f":"INDEX($F$4:$F$87,MATCH(Table8[[#This Row],[Local Currency]],$G$4:$G$87,0))","v":6.9611099999999997}]
[null,null,null,null,"Tunisian Dinar",1.59396,"TND",null,"Zimbabwe","Zimbabwe",null,"Switzerland",{"$f":"VLOOKUP(L80,Table5[#All],2,0)/Table8[[#This Row],[Convrsion Rate]]","v":1.7581850283457086},{"$f":"VLOOKUP(L80,Table5[#All],3,0)","v":81160.62},{"$f":"VLOOKUP(L80,Table5[#All],4,0)","v":"Other Advanced Economies"},"CHF",{"$f":"INDEX($F$4:$F$87,MATCH(Table8[[#This Row],[Local Currency]],$G$4:$G$87,0))","v":0.94529300000000005}]
[null,null,null,null,"Uganda Shilling",2470,"UGX",null,"RSA","South Africa",null,"Thailand",{"$f":"VLOOKUP(L81,Table5[#All],2,0)/Table8[[#This Row],[Convrsion Rate]]","v":0.5557089932476833},{"$f":"VLOOKUP(L81,Table5[#All],3,0)","v":5394.36},{"$f":"VLOOKUP(L81,Table5[#All],4,0)","v":"Developing Asia"},"THB",{"$f":"INDEX($F$4:$F$87,MATCH(Table8[[#This Row],[Local Currency]],$G$4:$G$87,0))","v":31.500299999999999}]
[null,null,null,null,"Hryvnia",8.0749999999999993,"UAH",null,"Libya","Libya",null,"Tunisia",{"$f":"VLOOKUP(L82,Table5[#All],2,0)/Table8[[#This Row],[Convrsion Rate]]","v":0.40527993174232729},{"$f":"VLOOKUP(L82,Table5[#All],3,0)","v":4351.18},{"$f":"VLOOKUP(L82,Table5[#All],4,0)","v":"Middle East and North Africa"},"TND",{"$f":"INDEX($F$4:$F$87,MATCH(Table8[[#This Row],[Local Currency]],$G$4:$G$87,0))","v":1.59396}]
[null,null,null,null,"Peso Uruguayo",21.55,"UYU",null,"self-employed","self-employed",null,"Turkey",{"$f":"VLOOKUP(L83,Table5[#All],2,0)/Table8[[#This Row],[Convrsion Rate]]","v":0.67708014065434363},{"$f":"VLOOKUP(L83,Table5[#All],3,0)","v":10521.82},{"$f":"VLOOKUP(L83,Table5[#All],4,0)","v":"Central and Eastern Europe"},"TRY",{"$f":"INDEX($F$4:$F$87,MATCH(Table8[[#This Row],[Local Currency]],$G$4:$G$87,0))","v":1.79447}]
[null,null,null,null,"Dong",20870,"VND",null,"Lithuania","Lithuania",null,"UAE",{"$f":"VLOOKUP(L84,Table5[#All],2,0)/Table8[[#This Row],[Convrsion Rate]]","v":1.3910401768336007},{"$f":"VLOOKUP(L84,Table5[#All],3,0)","v":67007.98},{"$f":"VLOOKUP(L84,Table5[#All],4,0)","v":"Middle East and North Africa"},"AED",{"$f":"INDEX($F$4:$F$87,MATCH(Table8[[#This Row],[Local Currency]],$G$4:$G$87,0))","v":3.6735099999999998}]
[null,null,null,null,"Kwacha",5170,"ZMK",null,"Somalia","Somalia",null,"Uganda",{"$f":"VLOOKUP(L85,Table5[#All],2,0)/Table8[[#This Row],[Convrsion Rate]]","v":0.34101295546558708},{"$f":"VLOOKUP(L85,Table5[#All],3,0)","v":477.54500000000002},{"$f":"VLOOKUP(L85,Table5[#All],4,0)","v":"Sub-Saharan Africa"},"UGX",{"$f":"INDEX($F$4:$F$87,MATCH(Table8[[#This Row],[Local Currency]],$G$4:$G$87,0))","v":2470}]
[null,null,null,null,"Iranian rial",12250,"IRR",null,"Colombia - South America","Colombia",null,"UK",{"$f":"VLOOKUP(L86,Table5[#All],2,0)/Table8[[#This Row],[Convrsion Rate]]","v":1.0513109074688785},{"$f":"VLOOKUP(L86,Table5[#All],3,0)","v":38592.1},{"$f":"VLOOKUP(L86,Table5[#All],4,0)","v":"Major Advanced Economies (G7)"},"GBP",{"$f":"INDEX($F$4:$F$87,MATCH(Table8[[#This Row],[Local Currency]],$G$4:$G$87,0))","v":0.63444599999999995}]
[null,null,null,null,"Zimbabwe Dollar",3.6190000000000002,"ZWD",null,"BRA","Brazil",null,"Ukraine",{"$f":"VLOOKUP(L87,Table5[#All],2,0)/Table8[[#This Row],[Convrsion Rate]]","v":0.49399380804953563},{"$f":"VLOOKUP(L87,Table5[#All],3,0)","v":3621.22},{"$f":"VLOOKUP(L87,Table5[#All],4,0)","v":"Commonwealth of Independent States"},"UAH",{"$f":"INDEX($F$4:$F$87,MATCH(Table8[[#This Row],[Local Currency]],$G$4:$G$87,0))","v":8.0749999999999993}]
[null,null,null,null,null,null,null,null,"mainland Europe (Euro zone)","Europe",null,"Uruguay",{"$f":"VLOOKUP(L88,Table5[#All],2,0)/Table8[[#This Row],[Convrsion Rate]]","v":0.82232018561484921},{"$f":"VLOOKUP(L88,Table5[#All],3,0)","v":13914.33},{"$f":"VLOOKUP(L88,Table5[#All],4,0)","v":"Latin America and the Caribbean"},"UYU",{"$f":"INDEX($F$4:$F$87,MATCH(Table8[[#This Row],[Local Currency]],$G$4:$G$87,0))","v":21.55}]
[null,null,null,null,null,null,null,null,"Thailand","Thailand",null,"USA",{"$f":"VLOOKUP(L89,Table5[#All],2,0)/Table8[[#This Row],[Convrsion Rate]]","v":1},{"$f":"VLOOKUP(L89,Table5[#All],3,0)","v":48386.69},{"$f":"VLOOKUP(L89,Table5[#All],4,0)","v":"Major Advanced Economies (G7)"},"USD",1]
[null,null,null,null,null,null,null,null,"Continental Europe","CEE",null,"Vietnam",{"$f":"VLOOKUP(L90,Table5[#All],2,0)/Table8[[#This Row],[Convrsion Rate]]","v":0.40490943938667939},{"$f":"VLOOKUP(L90,Table5[#All],3,0)","v":1374.01},{"$f":"VLOOKUP(L90,Table5[#All],4,0)","v":"Developing Asia"},"VND",{"$f":"INDEX($F$4:$F$87,MATCH(Table8[[#This Row],[Local Currency]],$G$4:$G$87,0))","v":20870}]
[null,null,null,null,null,null,null,null,"Asia","Asia",null,"Zambia",{"$f":"VLOOKUP(L91,Table5[#All],2,0)/Table8[[#This Row],[Convrsion Rate]]","v":0.82520696324951637},{"$f":"VLOOKUP(L91,Table5[#All],3,0)","v":1413.77},{"$f":"VLOOKUP(L91,Table5[#All],4,0)","v":"Sub-Saharan Africa"},"ZMK",{"$f":"INDEX($F$4:$F$87,MATCH(Table8[[#This Row],[Local Currency]],$G$4:$G$87,0))","v":5170}]
[null,null,null,null,null,null,null,null,"Mauritius","Mauritius",null,"Zimbabwe",{"$f":"VLOOKUP(L92,Table5[#All],2,0)/Table8[[#This Row],[Convrsion Rate]]","v":0.42055816523901629},{"$f":"VLOOKUP(L92,Table5[#All],3,0)","v":741.375},{"$f":"VLOOKUP(L92,Table5[#All],4,0)","v":"Sub-Saharan Africa"},"ZWD",{"$f":"INDEX($F$4:$F$87,MATCH(Table8[[#This Row],[Local Currency]],$G$4:$G$87,0))","v":3.6190000000000002}]
[null,null,null,null,null,null,null,null,"Cambodia","Cambodia"]
[null,null,null,null,null,null,null,null,"Costa Rica","Costa Rica"]
[null,null,null,null,null,null,null,null,"Viet Nam","Vietnam"]
[null,null,null,null,null,null,null,null,"Mongolia","Mongolia"]
[null,null,null,null,null,null,null,null,"Estonia","Estonia"]
[null,null,null,null,null,null,null,null,"Montenegro","Montenegro"]
[null,null,null,null,null,null,null,null,"EU","Europe"]
[null,null,null,null,null,null,null,null,"Morocco","Morocco"]
[null,null,null,null,null,null,null,null,"Republic of Georgia","Republic of Georgia"]
[null,null,null,null,null,null,null,null,"mozambique","Mozambique"]
[null,null,null,null,null,null,null,null,"europe/Croatia","Croatia"]
[null,null,null,null,null,null,null,null,"Myanmar","Myanmar"]
[null,null,null,null,null,null,null,null,"Bermuda","Bermuda"]
[null,null,null,null,null,null,null,null,"Myanmar [Burma]","Myanmar"]
[null,null,null,null,null,null,null,null,"FR","France"]
[null,null,null,null,null,null,null,null,"MYS","Malaysia"]
[null,null,null,null,null,null,null,null,"Bhutan","Bhutan"]
[null,null,null,null,null,null,null,null,"Baltic","Baltic"]
[null,null,null,null,null,null,null,null,"Slovenia","Slovenia"]
[null,null,null,null,null,null,null,null,"New  Zealand","New Zealand"]
[null,null,null,null,null,null,null,null,"Bolivia","Bolivia"]
[null,null,null,null,null,null,null,null,"Czech Republic","Czech Republic"]
[null,null,null,null,null,null,null,null,"Ghana","Ghana"]
[null,null,null,null,null,null,null,null,"bangkok","Thailand"]
[null,null,null,null,null,null,null,null,"srilanka","Sri Lanka"]
[null,null,null,null,null,null,null,null,"NL","Netherlands"]
[null,null,null,null,null,null,null,null,"Hong Kong","Hong Kong"]
[null,null,null,null,null,null,null,null,"nld","New Zealand"]
[null,null,null,null,null,null,null,null,"Aruba","Aruba"]
[null,null,null,null,null,null,null,null,"DK","Denmark"]
[null,null,null,null,null,null,null,null,"Iceland","Iceland"]
[null,null,null,null,null,null,null,null,"Dominican Republic","Dominican Republic"]
[null,null,null,null,null,null,null,null,"Uganda","Uganda"]
[null,null,null,null,null,null,null,null,"Oman","Oman"]
[null,null,null,null,null,null,null,null,"Inonesia","Indonesia"]
[null,null,null,null,null,null,null,null,"Argentina","Argentina"]
[null,null,null,null,null,null,null,null,"United Arab Emriate","UAE"]
[null,null,null,null,null,null,null,null,"Pakistan, Angola","Pakistan"]
[null,null,null,null,null,null,null,null,"Canad","Canada"]
[null,null,null,null,null,null,null,null,"Egypt","Egypt"]
[null,null,null,null,null,null,null,null,"arabian Gulf","arabian Gulf"]
[null,null,null,null,null,null,null,null,"Paraguay","Paraguay"]
[null,null,null,null,null,null,null,null,"Latin America","Latin America"]
[null,null,null,null,null,null,null,null,"Albania","Albania"]
[null,null,null,null,null,null,null,null,"Lesotho","Lesotho"]

{"sheet":"WTO Data","index":1,"n_rows":199,"n_cols":4,"rows_kept":199,"cut":false,"hidden":false,"merged":[]}
["Country","Implied PPP 2011 (in local currency)","USD GDP per Capita 2011","Classification"]
["Islamic Republic of Afghanistan",29.119,584.9,"Developing Asia"]
["Albania",52.433999999999997,3992.47,"Central and Eastern Europe"]
["Algeria",52.585999999999999,5304.21,"Middle East and North Africa"]
["Angola",81.837000000000003,5143.95,"Sub-Saharan Africa"]
["Antigua and Barbuda",2.0350000000000001,13552.32,"Latin America and the Caribbean"]
["Argentina",2.5680000000000001,10944.71,"Latin America and the Caribbean"]
["Armenia",215.33799999999999,3032.81,"Commonwealth of Independent States"]
["Australia",1.577,65477.03,"Other Advanced Economies"]
["Austria",0.85599999999999998,49809.17,"Euro Area"]
["Azerbaijan",0.53800000000000003,6832.28,"Commonwealth of Independent States"]
["The Bahamas",0.749,23175.07,"Latin America and the Caribbean"]
["Bahrain",0.316,23132.32,"Middle East and North Africa"]
["Bangladesh",30.236999999999998,678.02800000000002,"Developing Asia"]
["Barbados",1.379,16148.22,"Latin America and the Caribbean"]
["Belarus",1946.87,5881.47,"Commonwealth of Independent States"]
["Belgium",0.89300000000000002,46878.36,"Euro Area"]
["Belize",1.0529999999999999,4349.46,"Latin America and the Caribbean"]
["Benin",234.43700000000001,736.91499999999996,"Sub-Saharan Africa"]
["Bhutan",18.582000000000001,2121.17,"Developing Asia"]
["Bolivia",3.3370000000000002,2314.83,"Latin America and the Caribbean"]
["Bosnia and Herzegovina",0.79900000000000004,4618.1000000000004,"Central and Eastern Europe"]
["Botswana",4.0339999999999998,9480.77,"Sub-Saharan Africa"]
["Brazil",1.806,12788.56,"Latin America and the Caribbean"]
["Brunei Darussalam",0.93200000000000005,36583.760000000002,"Developing Asia"]
["Bulgaria",0.745,7201.88,"Central and Eastern Europe"]
["Burkina Faso",213.477,663.904,"Sub-Saharan Africa"]
["Burundi",573.03800000000001,279.24099999999999,"Sub-Saharan Africa"]
["Cambodia",1554.95,851.529,"Developing Asia"]
["Cameroon",253.08699999999999,1230.45,"Sub-Saharan Africa"]
["Canada",1.2310000000000001,50435.5,"Major Advanced Economies (G7)"]
["Cape Verde",73.497,3660.86,"Sub-Saharan Africa"]
["Central African Republic",280.57799999999997,456.43400000000003,"Sub-Saharan Africa"]
["Chad",225.398,891.73400000000004,"Sub-Saharan Africa"]
["Chile",401.06099999999998,14277.69,"Latin America and the Caribbean"]
["China",4.173,5413.57,"Developing Asia"]
["Colombia",1307.78,7131.61,"Latin America and the Caribbean"]
["Comoros",257.88400000000001,902.64599999999996,"Sub-Saharan Africa"]
["Democratic Republic of Congo",572.70600000000002,215.89599999999999,"Sub-Saharan Africa"]
["Republic of Congo",381.51299999999998,3713.77,"Sub-Saharan Africa"]
["Costa Rica",376.87099999999998,8876.59,"Latin America and the Caribbean"]
["Côte d'Ivoire",314.94600000000003,1062.0999999999999,"Sub-Saharan Africa"]
["Croatia",4.2469999999999999,14456.97,"Central and Eastern Europe"]
["Cyprus",0.75600000000000001,30570.73,"Euro Area"]
["Czech Republic",13.368,20443.97,"Other Advanced Economies"]
["Denmark",8.66,59928.1,"Other Advanced Economies"]
["Djibouti",98.697000000000003,1466.97,"Middle East and North Africa"]
["Dominica",1.35,6908.88,"Latin America and the Caribbean"]
["Dominican Republic",23.08,5638.69,"Latin America and the Caribbean"]
["Ecuador",0.52100000000000002,4424.04,"Latin America and the Caribbean"]
["Egypt",2.6429999999999998,2970.4,"Middle East and North Africa"]
["El Salvador",0.51100000000000001,3854.98,"Latin America and the Caribbean"]
["Equatorial Guinea",357.41399999999999,14660.81,"Sub-Saharan Africa"]
["Eritrea",9.9350000000000005,475.22699999999998,"Sub-Saharan Africa"]
["Estonia",0.58499999999999996,16583.39,"Euro Area"]
["Ethiopia",5.31,359.94600000000003,"Sub-Saharan Africa"]
["Fiji",1.6539999999999999,3964.59,"Developing Asia"]
["Finland",0.97899999999999998,49349.52,"Euro Area"]
["France",0.9,44008.18,"Major Advanced Economies (G7)"]
["Gabon",326.05200000000002,10653.71,"Sub-Saharan Africa"]
["The Gambia",8.1910000000000007,543.03599999999994,"Sub-Saharan Africa"]
["Republic of Georgia",0.98699999999999999,3210.3,"Commonwealth of Independent States"]
["Germany",0.83,43741.55,"Major Advanced Economies (G7)"]
["Ghana",0.76500000000000001,1528.86,"Sub-Saharan Africa"]
["Greece",0.74,27073.41,"Euro Area"]
["Grenada",1.5309999999999999,7877.83,"Latin America and the Caribbean"]
["Guatemala",4.8869999999999996,3182.38,"Latin America and the Caribbean"]
["Guinea",2963.45,492.21199999999999,"Sub-Saharan Africa"]
["Guinea-Bissau",237.17699999999999,575.57600000000002,"Sub-Saharan Africa"]
["Guyana",87.67,3202.22,"Latin America and the Caribbean"]
["Haiti",24.074000000000002,737.88599999999997,"Latin America and the Caribbean"]
["Honduras",9.2330000000000005,2115.67,"Latin America and the Caribbean"]
["Hong Kong",5.3940000000000001,34048.92,"Newly Industrialized Asian Economies"]
["Hungary",143.90899999999999,14050.01,"Central and Eastern Europe"]
["Iceland",131.36500000000001,43088.2,"Other Advanced Economies"]
["India",19.129000000000001,1388.78,"Developing Asia"]
["Indonesia",6603.91,3508.61,"Developing Asia"]
["Islamic Republic of Iran",5511.32,6359.76,"Middle East and North Africa"]
["Iraq",1057.78,3512.92,"Middle East and North Africa"]
["Ireland",0.86099999999999999,47512.83,"Euro Area"]
["Israel",3.6949999999999998,31985.73,"Other Advanced Economies"]
["Italy",0.85599999999999998,36266.85,"Major Advanced Economies (G7)"]
["Jamaica",51.276000000000003,5402.1,"Latin America and the Caribbean"]
["Japan",105.492,45920.3,"Major Advanced Economies (G7)"]
["Jordan",0.56299999999999994,4674.67,"Middle East and North Africa"]
["Kazakhstan",121.652,10693.99,"Commonwealth of Independent States"]
["Kenya",42.003,850.55499999999995,"Sub-Saharan Africa"]
["Kiribati",0.27,1592.54,"Developing Asia"]
["Korea",796.01599999999996,22777.93,"Newly Industrialized Asian Economies"]
["Kosovo",0.36099999999999999,"nil","Central and Eastern Europe"]
["Kuwait",0.317,47982.43,"Middle East and North Africa"]
["Kyrgyz Republic",20.808,1070.01,"Commonwealth of Independent States"]
["Lao People's Democratic Republic",3639.4,1203.56,"Developing Asia"]
["Latvia",0.40600000000000003,12671.26,"Central and Eastern Europe"]
["Lebanon",957.79499999999996,9862.44,"Middle East and North Africa"]
["Lesotho",4.7679999999999998,1263.96,"Sub-Saharan Africa"]
["Liberia",0.65200000000000002,297.69400000000002,"Sub-Saharan Africa"]
["Libya",1.204,5691.33,"Middle East and North Africa"]
["Lithuania",1.7210000000000001,13075.41,"Central and Eastern Europe"]
["Luxembourg",1.018,113533.01,"Euro Area"]
["Former Yugoslav Republic of Macedonia",21.065000000000001,5015.79,"Central and Eastern Europe"]
["Madagascar",993.21600000000001,458.77499999999998,"Sub-Saharan Africa"]
["Malawi",64.486999999999995,350.935,"Sub-Saharan Africa"]
["Malaysia",1.9059999999999999,9699.7000000000007,"Developing Asia"]
["Maldives",10.536,5973.41,"Developing Asia"]
["Mali",279.60599999999999,668.72799999999995,"Sub-Saharan Africa"]
["Malta",0.59399999999999997,21028.06,"Euro Area"]
["Mauritania",166.303,1290.06,"Middle East and North Africa"]
["Mauritius",16.847999999999999,8776.7800000000007,"Sub-Saharan Africa"]
["Mexico",8.6340000000000003,10153.299999999999,"Latin America and the Caribbean"]
["Moldova",6.8490000000000002,1968.95,"Commonwealth of Independent States"]
["Mongolia",816.5,3042.19,"Commonwealth of Independent States"]
["Montenegro",0.45500000000000002,7316.68,"Central and Eastern Europe"]
["Morocco",4.9450000000000003,3083.25,"Middle East and North Africa"]
["Mozambique",15.605,582.61099999999999,"Sub-Saharan Africa"]
["Myanmar",481.44299999999998,831.91,"Developing Asia"]
["Namibia",5.6710000000000003,5828.22,"Sub-Saharan Africa"]
["Nepal",35.606999999999999,652.85500000000002,"Developing Asia"]
["Netherlands",0.85799999999999998,50355.47,"Euro Area"]
["New Zealand",1.6739999999999999,36648.199999999997,"Other Advanced Economies"]
["Nicaragua",8.6679999999999993,1239.18,"Latin America and the Caribbean"]
["Niger",244.09100000000001,399.23500000000001,"Sub-Saharan Africa"]
["Nigeria",88.418000000000006,1490.06,"Sub-Saharan Africa"]
["Norway",10.194000000000001,97254.6,"Other Advanced Economies"]
["Oman",0.33800000000000002,23315.46,"Middle East and North Africa"]
["Pakistan",36.97,1201.1099999999999,"Developing Asia"]
["Panama",0.60399999999999998,8514.2199999999993,"Latin America and the Caribbean"]
["Papua New Guinea",1.7889999999999999,1900.27,"Developing Asia"]
["Paraguay",2714.38,3251.91,"Latin America and the Caribbean"]
["Peru",1.611,5781.58,"Latin America and the Caribbean"]
["Philippines",24.934999999999999,2223.44,"Developing Asia"]
["Poland",1.9730000000000001,13539.84,"Central and Eastern Europe"]
["Portugal",0.69,22413.45,"Euro Area"]
["Qatar",3.4769999999999999,98329.49,"Middle East and North Africa"]
["Romania",2.1659999999999999,8862.8700000000008,"Central and Eastern Europe"]
["Russia",22.812000000000001,12993.36,"Commonwealth of Independent States"]
["Rwanda",271.05099999999999,605.279,"Sub-Saharan Africa"]
["Samoa",1.381,3451.07,"Developing Asia"]
["São Tomé and Príncipe",11530.34,1473.29,"Sub-Saharan Africa"]
["Saudi Arabia",3.1680000000000001,20504.36,"Middle East and North Africa"]
["Senegal",271.053,1075.73,"Sub-Saharan Africa"]
["Serbia",41.881999999999998,6080.52,"Central and Eastern Europe"]
["Seychelles",5.593,11170.33,"Sub-Saharan Africa"]
["Sierra Leone",1880.69,366.024,"Sub-Saharan Africa"]
["Singapore",1.038,49270.87,"Newly Industrialized Asian Economies"]
["Slovakia",0.54400000000000004,17643.54,"Euro Area"]
["Slovenia",0.61599999999999999,24533.08,"Euro Area"]
["Solomon Islands",3.7130000000000001,1553.69,"Developing Asia"]
["South Africa",5.3319999999999999,8066.15,"Sub-Saharan Africa"]
["Spain",0.75900000000000001,32360.1,"Euro Area"]
["Sri Lanka",56.085999999999999,2876.97,"Developing Asia"]
["St. Kitts and Nevis",2.2069999999999999,12728.4,"Latin America and the Caribbean"]
["St. Lucia",1.5920000000000001,7434.97,"Latin America and the Caribbean"]
["St. Vincent and the Grenadines",1.49,6342.32,"Latin America and the Caribbean"]
["Sudan",1.9390000000000001,1982.46,"Middle East and North Africa"]
["Suriname",2.4710000000000001,7096.03,"Latin America and the Caribbean"]
["Swaziland",4.6239999999999997,3358.03,"Sub-Saharan Africa"]
["Sweden",9.1560000000000006,56956.31,"Other Advanced Economies"]
["Switzerland",1.6619999999999999,81160.62,"Other Advanced Economies"]
["Syrian Arab Rep.","n/a","n/a","Middle East and North Africa"]
["Taiwan Province of China",15.704000000000001,20100.5,"Newly Industrialized Asian Economies"]
["Tajikistan",1.8540000000000001,830.98900000000003,"Commonwealth of Independent States"]
["Tanzania",544.36699999999996,553.23099999999999,"Sub-Saharan Africa"]
["Thailand",17.504999999999999,5394.36,"Developing Asia"]
["Timor-Leste",0.45400000000000001,3949.48,"Developing Asia"]
["Togo",265.18900000000002,505.76600000000002,"Sub-Saharan Africa"]
["Tonga",1.016,4220.6099999999997,"Developing Asia"]
["Trinidad and Tobago",5.4489999999999998,17158.419999999998,"Latin America and the Caribbean"]
["Tunisia",0.64600000000000002,4351.18,"Middle East and North Africa"]
["Turkey",1.2150000000000001,10521.82,"Central and Eastern Europe"]
["Turkmenistan",1.6919999999999999,4658.43,"Commonwealth of Independent States"]
["Tuvalu",0.92400000000000004,"n/a","Developing Asia"]
["Uganda",842.30200000000002,477.54500000000002,"Sub-Saharan Africa"]
["Ukraine",3.9889999999999999,3621.22,"Commonwealth of Independent States"]
["UAE",5.1100000000000003,67007.98,"Middle East and North Africa"]
["UK",0.66700000000000004,38592.1,"Major Advanced Economies (G7)"]
["USA",1,48386.69,"Major Advanced Economies (G7)"]
["Uruguay",17.721,13914.33,"Latin America and the Caribbean"]
["Uzbekistan",816.37199999999996,1572.48,"Commonwealth of Independent States"]
["Vanuatu",57.533999999999999,3036.44,"Developing Asia"]
["Venezuela",3.6219999999999999,10610.5,"Latin America and the Caribbean"]
["Vietnam",8450.4599999999991,1374.01,"Developing Asia"]
["Republic of Yemen",124.20399999999999,1340.04,"Middle East and North Africa"]
["Zambia",4266.32,1413.77,"Sub-Saharan Africa"]
["Zimbabwe",1.522,741.375,"Sub-Saharan Africa"]
[]
["Ignored Values"]
["Country","Implied PPP 2011","USD GDP per Capita 2011","Classification"]
["arabian Gulf",null,null,"Middle East and North Africa"]
["Aruba",null,null,"Latin America and the Caribbean"]
["Asia",null,null,"Developing Asia"]
["Baltic",null,null,"Central and Eastern Europe"]
["Bermuda",null,null,"Latin America and the Caribbean"]
["CEE",null,null,"Central and Eastern Europe"]
["Central America",null,null,"Latin America and the Caribbean"]
["Europe",null,null,"Euro Area"]
["Latin America",null,null,"Latin America and the Caribbean"]
["self-employed"]
["Somalia",null,null,"Middle East and North Africa"]

{"sheet":"Cleaned Data","index":2,"n_rows":1867,"n_cols":12,"rows_kept":1867,"cut":false,"hidden":false,"merged":[]}
["Unique ID","Salary (in local currency)","Currency","Salary in USD","Job Type","clean Country","How many hours of a day you work on Excel","Years of Experience","PPP adjustment (USD)","Per Capita GDP (USD)","Group","Output"]
["ID0287",100000,"AED",{"$f":"B2*VLOOKUP(C2,tblXrate[],2,0)","v":27221.92126875931},"Accountant","UAE","4 to 6",null,{"$f":"VLOOKUP(F2,mapping!$L$2:$P$92,2,0)","v":1.3910401768336007},{"$f":"VLOOKUP($F2,mapping!$L$2:$P$92,3,0)","v":67007.98},{"$f":"VLOOKUP($F2,mapping!$L$2:$P$92,4,0)","v":"Middle East and North Africa"},{"$f":"$D2*VLOOKUP($E2,'Charts data'!$A$2:$B$11,2,0)*VLOOKUP($G2,'Charts data'!$A$14:$B$18,2,0)/IF('Charts data'!$E$3=1,I2,1)/IF('Charts data'!$E$4=1,J2,1)","v":27221.92126875931}]
["ID0780",33600,"AED",{"$f":"B3*VLOOKUP(C3,tblXrate[],2,0)","v":9146.5655463031271},"Accountant","UAE","1 or 2",7,{"$f":"VLOOKUP(F3,mapping!$L$2:$P$92,2,0)","v":1.3910401768336007},{"$f":"VLOOKUP($F3,mapping!$L$2:$P$92,3,0)","v":67007.98},{"$f":"VLOOKUP($F3,mapping!$L$2:$P$92,4,0)","v":"Middle East and North Africa"},{"$f":"$D3*VLOOKUP($E3,'Charts data'!$A$2:$B$11,2,0)*VLOOKUP($G3,'Charts data'!$A$14:$B$18,2,0)/IF('Charts data'!$E$3=1,I3,1)/IF('Charts data'!$E$4=1,J3,1)","v":9146.5655463031271}]
["ID0920",104000,"AED",{"$f":"B4*VLOOKUP(C4,tblXrate[],2,0)","v":28310.79811950968},"Analyst","UAE","4 to 6",11,{"$f":"VLOOKUP(F4,mapping!$L$2:$P$92,2,0)","v":1.3910401768336007},{"$f":"VLOOKUP($F4,mapping!$L$2:$P$92,3,0)","v":67007.98},{"$f":"VLOOKUP($F4,mapping!$L$2:$P$92,4,0)","v":"Middle East and North Africa"},{"$f":"$D4*VLOOKUP($E4,'Charts data'!$A$2:$B$11,2,0)*VLOOKUP($G4,'Charts data'!$A$14:$B$18,2,0)/IF('Charts data'!$E$3=1,I4,1)/IF('Charts data'!$E$4=1,J4,1)","v":28310.79811950968}]
["ID1127",120000,"AED",{"$f":"B5*VLOOKUP(C5,tblXrate[],2,0)","v":32666.305522511171},"Manager","UAE","2 to 3",12,{"$f":"VLOOKUP(F5,mapping!$L$2:$P$92,2,0)","v":1.3910401768336007},{"$f":"VLOOKUP($F5,mapping!$L$2:$P$92,3,0)","v":67007.98},{"$f":"VLOOKUP($F5,mapping!$L$2:$P$92,4,0)","v":"Middle East and North Africa"},{"$f":"$D5*VLOOKUP($E5,'Charts data'!$A$2:$B$11,2,0)*VLOOKUP($G5,'Charts data'!$A$14:$B$18,2,0)/IF('Charts data'!$E$3=1,I5,1)/IF('Charts data'!$E$4=1,J5,1)","v":32666.305522511171}]
["ID1189",216000,"AED",{"$f":"B6*VLOOKUP(C6,tblXrate[],2,0)","v":58799.349940520107},"Analyst","UAE","4 to 6",2,{"$f":"VLOOKUP(F6,mapping!$L$2:$P$92,2,0)","v":1.3910401768336007},{"$f":"VLOOKUP($F6,mapping!$L$2:$P$92,3,0)","v":67007.98},{"$f":"VLOOKUP($F6,mapping!$L$2:$P$92,4,0)","v":"Middle East and North Africa"},{"$f":"$D6*VLOOKUP($E6,'Charts data'!$A$2:$B$11,2,0)*VLOOKUP($G6,'Charts data'!$A$14:$B$18,2,0)/IF('Charts data'!$E$3=1,I6,1)/IF('Charts data'!$E$4=1,J6,1)","v":58799.349940520107}]
["ID0041",70000,"AUD",{"$f":"B7*VLOOKUP(C7,tblXrate[],2,0)","v":71393.675948184507},"Consultant","Australia","2 to 3",null,{"$f":"VLOOKUP(F7,mapping!$L$2:$P$92,2,0)","v":1.6083975281469567},{"$f":"VLOOKUP($F7,mapping!$L$2:$P$92,3,0)","v":65477.03},{"$f":"VLOOKUP($F7,mapping!$L$2:$P$92,4,0)","v":"Other Advanced Economies"},{"$f":"$D7*VLOOKUP($E7,'Charts data'!$A$2:$B$11,2,0)*VLOOKUP($G7,'Charts data'!$A$14:$B$18,2,0)/IF('Charts data'!$E$3=1,I7,1)/IF('Charts data'!$E$4=1,J7,1)","v":71393.675948184507}]
["ID0067",85000,"AUD",{"$f":"B8*VLOOKUP(C8,tblXrate[],2,0)","v":86692.320794224041},"CXO or Top Mgmt.","Australia","4 to 6",null,{"$f":"VLOOKUP(F8,mapping!$L$2:$P$92,2,0)","v":1.6083975281469567},{"$f":"VLOOKUP($F8,mapping!$L$2:$P$92,3,0)","v":65477.03},{"$f":"VLOOKUP($F8,mapping!$L$2:$P$92,4,0)","v":"Other Advanced Economies"},{"$f":"$D8*VLOOKUP($E8,'Charts data'!$A$2:$B$11,2,0)*VLOOKUP($G8,'Charts data'!$A$14:$B$18,2,0)/IF('Charts data'!$E$3=1,I8,1)/IF('Charts data'!$E$4=1,J8,1)","v":86692.320794224041}]
["ID0073",100000,"AUD",{"$f":"B9*VLOOKUP(C9,tblXrate[],2,0)","v":101990.96564026357},"Manager","Australia","4 to 6",null,{"$f":"VLOOKUP(F9,mapping!$L$2:$P$92,2,0)","v":1.6083975281469567},{"$f":"VLOOKUP($F9,mapping!$L$2:$P$92,3,0)","v":65477.03},{"$f":"VLOOKUP($F9,mapping!$L$2:$P$92,4,0)","v":"Other Advanced Economies"},{"$f":"$D9*VLOOKUP($E9,'Charts data'!$A$2:$B$11,2,0)*VLOOKUP($G9,'Charts data'!$A$14:$B$18,2,0)/IF('Charts data'!$E$3=1,I9,1)/IF('Charts data'!$E$4=1,J9,1)","v":101990.96564026357}]
["ID0534",60000,"AUD",{"$f":"B10*VLOOKUP(C10,tblXrate[],2,0)","v":61194.579384158147},"Analyst","Australia","2 to 3",null,{"$f":"VLOOKUP(F10,mapping!$L$2:$P$92,2,0)","v":1.6083975281469567},{"$f":"VLOOKUP($F10,mapping!$L$2:$P$92,3,0)","v":65477.03},{"$f":"VLOOKUP($F10,mapping!$L$2:$P$92,4,0)","v":"Other Advanced Economies"},{"$f":"$D10*VLOOKUP($E10,'Charts data'!$A$2:$B$11,2,0)*VLOOKUP($G10,'Charts data'!$A$14:$B$18,2,0)/IF('Charts data'!$E$3=1,I10,1)/IF('Charts data'!$E$4=1,J10,1)","v":61194.579384158147}]
["ID0543",85000,"AUD",{"$f":"B11*VLOOKUP(C11,tblXrate[],2,0)","v":86692.320794224041},"Analyst","Australia","4 to 6",null,{"$f":"VLOOKUP(F11,mapping!$L$2:$P$92,2,0)","v":1.6083975281469567},{"$f":"VLOOKUP($F11,mapping!$L$2:$P$92,3,0)","v":65477.03},{"$f":"VLOOKUP($F11,mapping!$L$2:$P$92,4,0)","v":"Other Advanced Economies"},{"$f":"$D11*VLOOKUP($E11,'Charts data'!$A$2:$B$11,2,0)*VLOOKUP($G11,'Charts data'!$A$14:$B$18,2,0)/IF('Charts data'!$E$3=1,I11,1)/IF('Charts data'!$E$4=1,J11,1)","v":86692.320794224041}]
["ID0556",77000,"AUD",{"$f":"B12*VLOOKUP(C12,tblXrate[],2,0)","v":78533.043543002947},"Analyst","Australia","2 to 3",null,{"$f":"VLOOKUP(F12,mapping!$L$2:$P$92,2,0)","v":1.6083975281469567},{"$f":"VLOOKUP($F12,mapping!$L$2:$P$92,3,0)","v":65477.03},{"$f":"VLOOKUP($F12,mapping!$L$2:$P$92,4,0)","v":"Other Advanced Economies"},{"$f":"$D12*VLOOKUP($E12,'Charts data'!$A$2:$B$11,2,0)*VLOOKUP($G12,'Charts data'!$A$14:$B$18,2,0)/IF('Charts data'!$E$3=1,I12,1)/IF('Charts data'!$E$4=1,J12,1)","v":78533.043543002947}]
["ID0569",155000,"AUD",{"$f":"B13*VLOOKUP(C13,tblXrate[],2,0)","v":158085.99674240855},"Manager","Australia","4 to 6",20,{"$f":"VLOOKUP(F13,mapping!$L$2:$P$92,2,0)","v":1.6083975281469567},{"$f":"VLOOKUP($F13,mapping!$L$2:$P$92,3,0)","v":65477.03},{"$f":"VLOOKUP($F13,mapping!$L$2:$P$92,4,0)","v":"Other Advanced Economies"},{"$f":"$D13*VLOOKUP($E13,'Charts data'!$A$2:$B$11,2,0)*VLOOKUP($G13,'Charts data'!$A$14:$B$18,2,0)/IF('Charts data'!$E$3=1,I13,1)/IF('Charts data'!$E$4=1,J13,1)","v":158085.99674240855}]
["ID0578",22000,"AUD",{"$f":"B14*VLOOKUP(C14,tblXrate[],2,0)","v":22438.012440857987},"Analyst","Australia","4 to 6",8,{"$f":"VLOOKUP(F14,mapping!$L$2:$P$92,2,0)","v":1.6083975281469567},{"$f":"VLOOKUP($F14,mapping!$L$2:$P$92,3,0)","v":65477.03},{"$f":"VLOOKUP($F14,mapping!$L$2:$P$92,4,0)","v":"Other Advanced Economies"},{"$f":"$D14*VLOOKUP($E14,'Charts data'!$A$2:$B$11,2,0)*VLOOKUP($G14,'Charts data'!$A$14:$B$18,2,0)/IF('Charts data'!$E$3=1,I14,1)/IF('Charts data'!$E$4=1,J14,1)","v":22438.012440857987}]
["ID0581",130000,"AUD",{"$f":"B15*VLOOKUP(C15,tblXrate[],2,0)","v":132588.25533234264},"Accountant","Australia","2 to 3",27,{"$f":"VLOOKUP(F15,mapping!$L$2:$P$92,2,0)","v":1.6083975281469567},{"$f":"VLOOKUP($F15,mapping!$L$2:$P$92,3,0)","v":65477.03},{"$f":"VLOOKUP($F15,mapping!$L$2:$P$92,4,0)","v":"Other Advanced Economies"},{"$f":"$D15*VLOOKUP($E15,'Charts data'!$A$2:$B$11,2,0)*VLOOKUP($G15,'Charts data'!$A$14:$B$18,2,0)/IF('Charts data'!$E$3=1,I15,1)/IF('Charts data'!$E$4=1,J15,1)","v":132588.25533234264}]
["ID0585",102000,"AUD",{"$f":"B16*VLOOKUP(C16,tblXrate[],2,0)","v":104030.78495306884},"Manager","Australia","1 or 2",10,{"$f":"VLOOKUP(F16,mapping!$L$2:$P$92,2,0)","v":1.6083975281469567},{"$f":"VLOOKUP($F16,mapping!$L$2:$P$92,3,0)","v":65477.03},{"$f":"VLOOKUP($F16,mapping!$L$2:$P$92,4,0)","v":"Other Advanced Economies"},{"$f":"$D16*VLOOKUP($E16,'Charts data'!$A$2:$B$11,2,0)*VLOOKUP($G16,'Charts data'!$A$14:$B$18,2,0)/IF('Charts data'!$E$3=1,I16,1)/IF('Charts data'!$E$4=1,J16,1)","v":104030.78495306884}]
["ID0588",106000,"AUD",{"$f":"B17*VLOOKUP(C17,tblXrate[],2,0)","v":108110.42357867939},"Specialist","Australia","4 to 6",16,{"$f":"VLOOKUP(F17,mapping!$L$2:$P$92,2,0)","v":1.6083975281469567},{"$f":"VLOOKUP($F17,mapping!$L$2:$P$92,3,0)","v":65477.03},{"$f":"VLOOKUP($F17,mapping!$L$2:$P$92,4,0)","v":"Other Advanced Economies"},{"$f":"$D17*VLOOKUP($E17,'Charts data'!$A$2:$B$11,2,0)*VLOOKUP($G17,'Charts data'!$A$14:$B$18,2,0)/IF('Charts data'!$E$3=1,I17,1)/IF('Charts data'!$E$4=1,J17,1)","v":108110.42357867939}]
["ID0609",100000,"AUD",{"$f":"B18*VLOOKUP(C18,tblXrate[],2,0)","v":101990.96564026357},"Manager","Australia","2 to 3",20,{"$f":"VLOOKUP(F18,mapping!$L$2:$P$92,2,0)","v":1.6083975281469567},{"$f":"VLOOKUP($F18,mapping!$L$2:$P$92,3,0)","v":65477.03},{"$f":"VLOOKUP($F18,mapping!$L$2:$P$92,4,0)","v":"Other Advanced Economies"},{"$f":"$D18*VLOOKUP($E18,'Charts data'!$A$2:$B$11,2,0)*VLOOKUP($G18,'Charts data'!$A$14:$B$18,2,0)/IF('Charts data'!$E$3=1,I18,1)/IF('Charts data'!$E$4=1,J18,1)","v":101990.96564026357}]
["ID0623",85000,"AUD",{"$f":"B19*VLOOKUP(C19,tblXrate[],2,0)","v":86692.320794224041},"Consultant","Australia","1 or 2",20,{"$f":"VLOOKUP(F19,mapping!$L$2:$P$92,2,0)","v":1.6083975281469567},{"$f":"VLOOKUP($F19,mapping!$L$2:$P$92,3,0)","v":65477.03},{"$f":"VLOOKUP($F19,mapping!$L$2:$P$92,4,0)","v":"Other Advanced Economies"},{"$f":"$D19*VLOOKUP($E19,'Charts data'!$A$2:$B$11,2,0)*VLOOKUP($G19,'Charts data'!$A$14:$B$18,2,0)/IF('Charts data'!$E$3=1,I19,1)/IF('Charts data'!$E$4=1,J19,1)","v":86692.320794224041}]
["ID0626",100000,"AUD",{"$f":"B20*VLOOKUP(C20,tblXrate[],2,0)","v":101990.96564026357},"Analyst","Australia","8 Hrs",1,{"$f":"VLOOKUP(F20,mapping!$L$2:$P$92,2,0)","v":1.6083975281469567},{"$f":"VLOOKUP($F20,mapping!$L$2:$P$92,3,0)","v":65477.03},{"$f":"VLOOKUP($F20,mapping!$L$2:$P$92,4,0)","v":"Other Advanced Economies"},{"$f":"$D20*VLOOKUP($E20,'Charts data'!$A$2:$B$11,2,0)*VLOOKUP($G20,'Charts data'!$A$14:$B$18,2,0)/IF('Charts data'!$E$3=1,I20,1)/IF('Charts data'!$E$4=1,J20,1)","v":101990.96564026357}]
["ID0633",170000,"AUD",{"$f":"B21*VLOOKUP(C21,tblXrate[],2,0)","v":173384.64158844808},"Analyst","Australia","8 Hrs",10,{"$f":"VLOOKUP(F21,mapping!$L$2:$P$92,2,0)","v":1.6083975281469567},{"$f":"VLOOKUP($F21,mapping!$L$2:$P$92,3,0)","v":65477.03},{"$f":"VLOOKUP($F21,mapping!$L$2:$P$92,4,0)","v":"Other Advanced Economies"},{"$f":"$D21*VLOOKUP($E21,'Charts data'!$A$2:$B$11,2,0)*VLOOKUP($G21,'Charts data'!$A$14:$B$18,2,0)/IF('Charts data'!$E$3=1,I21,1)/IF('Charts data'!$E$4=1,J21,1)","v":173384.64158844808}]
["ID0635",78000,"AUD",{"$f":"B22*VLOOKUP(C22,tblXrate[],2,0)","v":79552.953199405587},"Accountant","Australia","8 Hrs",4,{"$f":"VLOOKUP(F22,mapping!$L$2:$P$92,2,0)","v":1.6083975281469567},{"$f":"VLOOKUP($F22,mapping!$L$2:$P$92,3,0)","v":65477.03},{"$f":"VLOOKUP($F22,mapping!$L$2:$P$92,4,0)","v":"Other Advanced Economies"},{"$f":"$D22*VLOOKUP($E22,'Charts data'!$A$2:$B$11,2,0)*VLOOKUP($G22,'Charts data'!$A$14:$B$18,2,0)/IF('Charts data'!$E$3=1,I22,1)/IF('Charts data'!$E$4=1,J22,1)","v":79552.953199405587}]
["ID0681",100000,"AUD",{"$f":"B23*VLOOKUP(C23,tblXrate[],2,0)","v":101990.96564026357},"Manager","Australia","1 or 2",20,{"$f":"VLOOKUP(F23,mapping!$L$2:$P$92,2,0)","v":1.6083975281469567},{"$f":"VLOOKUP($F23,mapping!$L$2:$P$92,3,0)","v":65477.03},{"$f":"VLOOKUP($F23,mapping!$L$2:$P$92,4,0)","v":"Other Advanced Economies"},{"$f":"$D23*VLOOKUP($E23,'Charts data'!$A$2:$B$11,2,0)*VLOOKUP($G23,'Charts data'!$A$14:$B$18,2,0)/IF('Charts data'!$E$3=1,I23,1)/IF('Charts data'!$E$4=1,J23,1)","v":101990.96564026357}]
["ID0769",95000,"AUD",{"$f":"B24*VLOOKUP(C24,tblXrate[],2,0)","v":96891.417358250401},"Analyst","Australia","2 to 3",11,{"$f":"VLOOKUP(F24,mapping!$L$2:$P$92,2,0)","v":1.6083975281469567},{"$f":"VLOOKUP($F24,mapping!$L$2:$P$92,3,0)","v":65477.03},{"$f":"VLOOKUP($F24,mapping!$L$2:$P$92,4,0)","v":"Other Advanced Economies"},{"$f":"$D24*VLOOKUP($E24,'Charts data'!$A$2:$B$11,2,0)*VLOOKUP($G24,'Charts data'!$A$14:$B$18,2,0)/IF('Charts data'!$E$3=1,I24,1)/IF('Charts data'!$E$4=1,J24,1)","v":96891.417358250401}]
["ID0798",65000,"AUD",{"$f":"B25*VLOOKUP(C25,tblXrate[],2,0)","v":66294.12766617132},"Analyst","Australia","8 Hrs",10,{"$f":"VLOOKUP(F25,mapping!$L$2:$P$92,2,0)","v":1.6083975281469567},{"$f":"VLOOKUP($F25,mapping!$L$2:$P$92,3,0)","v":65477.03},{"$f":"VLOOKUP($F25,mapping!$L$2:$P$92,4,0)","v":"Other Advanced Economies"},{"$f":"$D25*VLOOKUP($E25,'Charts data'!$A$2:$B$11,2,0)*VLOOKUP($G25,'Charts data'!$A$14:$B$18,2,0)/IF('Charts data'!$E$3=1,I25,1)/IF('Charts data'!$E$4=1,J25,1)","v":66294.12766617132}]
["ID0922",95000,"AUD",{"$f":"B26*VLOOKUP(C26,tblXrate[],2,0)","v":96891.417358250401},"Analyst","Australia","1 or 2",7,{"$f":"VLOOKUP(F26,mapping!$L$2:$P$92,2,0)","v":1.6083975281469567},{"$f":"VLOOKUP($F26,mapping!$L$2:$P$92,3,0)","v":65477.03},{"$f":"VLOOKUP($F26,mapping!$L$2:$P$92,4,0)","v":"Other Advanced Economies"},{"$f":"$D26*VLOOKUP($E26,'Charts data'!$A$2:$B$11,2,0)*VLOOKUP($G26,'Charts data'!$A$14:$B$18,2,0)/IF('Charts data'!$E$3=1,I26,1)/IF('Charts data'!$E$4=1,J26,1)","v":96891.417358250401}]
["ID0964",80000,"AUD",{"$f":"B27*VLOOKUP(C27,tblXrate[],2,0)","v":81592.772512210868},"Manager","Australia","4 to 6",25,{"$f":"VLOOKUP(F27,mapping!$L$2:$P$92,2,0)","v":1.6083975281469567},{"$f":"VLOOKUP($F27,mapping!$L$2:$P$92,3,0)","v":65477.03},{"$f":"VLOOKUP($F27,mapping!$L$2:$P$92,4,0)","v":"Other Advanced Economies"},{"$f":"$D27*VLOOKUP($E27,'Charts data'!$A$2:$B$11,2,0)*VLOOKUP($G27,'Charts data'!$A$14:$B$18,2,0)/IF('Charts data'!$E$3=1,I27,1)/IF('Charts data'!$E$4=1,J27,1)","v":81592.772512210868}]
["ID0965",95000,"AUD",{"$f":"B28*VLOOKUP(C28,tblXrate[],2,0)","v":96891.417358250401},"Analyst","Australia","2 to 3",20,{"$f":"VLOOKUP(F28,mapping!$L$2:$P$92,2,0)","v":1.6083975281469567},{"$f":"VLOOKUP($F28,mapping!$L$2:$P$92,3,0)","v":65477.03},{"$f":"VLOOKUP($F28,mapping!$L$2:$P$92,4,0)","v":"Other Advanced Economies"},{"$f":"$D28*VLOOKUP($E28,'Charts data'!$A$2:$B$11,2,0)*VLOOKUP($G28,'Charts data'!$A$14:$B$18,2,0)/IF('Charts data'!$E$3=1,I28,1)/IF('Charts data'!$E$4=1,J28,1)","v":96891.417358250401}]
["ID0966",90000,"AUD",{"$f":"B29*VLOOKUP(C29,tblXrate[],2,0)","v":91791.869076237213},"Analyst","Australia","4 to 6",13,{"$f":"VLOOKUP(F29,mapping!$L$2:$P$92,2,0)","v":1.6083975281469567},{"$f":"VLOOKUP($F29,mapping!$L$2:$P$92,3,0)","v":65477.03},{"$f":"VLOOKUP($F29,mapping!$L$2:$P$92,4,0)","v":"Other Advanced Economies"},{"$f":"$D29*VLOOKUP($E29,'Charts data'!$A$2:$B$11,2,0)*VLOOKUP($G29,'Charts data'!$A$14:$B$18,2,0)/IF('Charts data'!$E$3=1,I29,1)/IF('Charts data'!$E$4=1,J29,1)","v":91791.869076237213}]
["ID0968",65000,"AUD",{"$f":"B30*VLOOKUP(C30,tblXrate[],2,0)","v":66294.12766617132},"Manager","Australia","2 to 3",5,{"$f":"VLOOKUP(F30,mapping!$L$2:$P$92,2,0)","v":1.6083975281469567},{"$f":"VLOOKUP($F30,mapping!$L$2:$P$92,3,0)","v":65477.03},{"$f":"VLOOKUP($F30,mapping!$L$2:$P$92,4,0)","v":"Other Advanced Economies"},{"$f":"$D30*VLOOKUP($E30,'Charts data'!$A$2:$B$11,2,0)*VLOOKUP($G30,'Charts data'!$A$14:$B$18,2,0)/IF('Charts data'!$E$3=1,I30,1)/IF('Charts data'!$E$4=1,J30,1)","v":66294.12766617132}]
["ID0969",100000,"AUD",{"$f":"B31*VLOOKUP(C31,tblXrate[],2,0)","v":101990.96564026357},"Consultant","Australia","8 Hrs",6,{"$f":"VLOOKUP(F31,mapping!$L$2:$P$92,2,0)","v":1.6083975281469567},{"$f":"VLOOKUP($F31,mapping!$L$2:$P$92,3,0)","v":65477.03},{"$f":"VLOOKUP($F31,mapping!$L$2:$P$92,4,0)","v":"Other Advanced Economies"},{"$f":"$D31*VLOOKUP($E31,'Charts data'!$A$2:$B$11,2,0)*VLOOKUP($G31,'Charts data'!$A$14:$B$18,2,0)/IF('Charts data'!$E$3=1,I31,1)/IF('Charts data'!$E$4=1,J31,1)","v":101990.96564026357}]
["ID0971",43000,"AUD",{"$f":"B32*VLOOKUP(C32,tblXrate[],2,0)","v":43856.11522531334},"Manager","Australia","8 Hrs",1,{"$f":"VLOOKUP(F32,mapping!$L$2:$P$92,2,0)","v":1.6083975281469567},{"$f":"VLOOKUP($F32,mapping!$L$2:$P$92,3,0)","v":65477.03},{"$f":"VLOOKUP($F32,mapping!$L$2:$P$92,4,0)","v":"Other Advanced Economies"},{"$f":"$D32*VLOOKUP($E32,'Charts data'!$A$2:$B$11,2,0)*VLOOKUP($G32,'Charts data'!$A$14:$B$18,2,0)/IF('Charts data'!$E$3=1,I32,1)/IF('Charts data'!$E$4=1,J32,1)","v":43856.11522531334}]
["ID0974",56600,"AUD",{"$f":"B33*VLOOKUP(C33,tblXrate[],2,0)","v":57726.886552389187},"Manager","Australia","2 to 3",2,{"$f":"VLOOKUP(F33,mapping!$L$2:$P$92,2,0)","v":1.6083975281469567},{"$f":"VLOOKUP($F33,mapping!$L$2:$P$92,3,0)","v":65477.03},{"$f":"VLOOKUP($F33,mapping!$L$2:$P$92,4,0)","v":"Other Advanced Economies"},{"$f":"$D33*VLOOKUP($E33,'Charts data'!$A$2:$B$11,2,0)*VLOOKUP($G33,'Charts data'!$A$14:$B$18,2,0)/IF('Charts data'!$E$3=1,I33,1)/IF('Charts data'!$E$4=1,J33,1)","v":57726.886552389187}]
["ID0976",200000,"AUD",{"$f":"B34*VLOOKUP(C34,tblXrate[],2,0)","v":203981.93128052715},"Manager","Australia","4 to 6",15,{"$f":"VLOOKUP(F34,mapping!$L$2:$P$92,2,0)","v":1.6083975281469567},{"$f":"VLOOKUP($F34,mapping!$L$2:$P$92,3,0)","v":65477.03},{"$f":"VLOOKUP($F34,mapping!$L$2:$P$92,4,0)","v":"Other Advanced Economies"},{"$f":"$D34*VLOOKUP($E34,'Charts data'!$A$2:$B$11,2,0)*VLOOKUP($G34,'Charts data'!$A$14:$B$18,2,0)/IF('Charts data'!$E$3=1,I34,1)/IF('Charts data'!$E$4=1,J34,1)","v":203981.93128052715}]
["ID0977",50000,"AUD",{"$f":"B35*VLOOKUP(C35,tblXrate[],2,0)","v":50995.482820131787},"Controller","Australia","1 or 2",5,{"$f":"VLOOKUP(F35,mapping!$L$2:$P$92,2,0)","v":1.6083975281469567},{"$f":"VLOOKUP($F35,mapping!$L$2:$P$92,3,0)","v":65477.03},{"$f":"VLOOKUP($F35,mapping!$L$2:$P$92,4,0)","v":"Other Advanced Economies"},{"$f":"$D35*VLOOKUP($E35,'Charts data'!$A$2:$B$11,2,0)*VLOOKUP($G35,'Charts data'!$A$14:$B$18,2,0)/IF('Charts data'!$E$3=1,I35,1)/IF('Charts data'!$E$4=1,J35,1)","v":50995.482820131787}]
["ID0978",125000,"AUD",{"$f":"B36*VLOOKUP(C36,tblXrate[],2,0)","v":127488.70705032947},"CXO or Top Mgmt.","Australia","4 to 6",15,{"$f":"VLOOKUP(F36,mapping!$L$2:$P$92,2,0)","v":1.6083975281469567},{"$f":"VLOOKUP($F36,mapping!$L$2:$P$92,3,0)","v":65477.03},{"$f":"VLOOKUP($F36,mapping!$L$2:$P$92,4,0)","v":"Other Advanced Economies"},{"$f":"$D36*VLOOKUP($E36,'Charts data'!$A$2:$B$11,2,0)*VLOOKUP($G36,'Charts data'!$A$14:$B$18,2,0)/IF('Charts data'!$E$3=1,I36,1)/IF('Charts data'!$E$4=1,J36,1)","v":127488.70705032947}]
["ID0979",65000,"AUD",{"$f":"B37*VLOOKUP(C37,tblXrate[],2,0)","v":66294.12766617132},"Analyst","Australia","4 to 6",4,{"$f":"VLOOKUP(F37,mapping!$L$2:$P$92,2,0)","v":1.6083975281469567},{"$f":"VLOOKUP($F37,mapping!$L$2:$P$92,3,0)","v":65477.03},{"$f":"VLOOKUP($F37,mapping!$L$2:$P$92,4,0)","v":"Other Advanced Economies"},{"$f":"$D37*VLOOKUP($E37,'Charts data'!$A$2:$B$11,2,0)*VLOOKUP($G37,'Charts data'!$A$14:$B$18,2,0)/IF('Charts data'!$E$3=1,I37,1)/IF('Charts data'!$E$4=1,J37,1)","v":66294.12766617132}]
["ID0980",62000,"AUD",{"$f":"B38*VLOOKUP(C38,tblXrate[],2,0)","v":63234.398696963413},"Analyst","Australia","4 to 6",3,{"$f":"VLOOKUP(F38,mapping!$L$2:$P$92,2,0)","v":1.6083975281469567},{"$f":"VLOOKUP($F38,mapping!$L$2:$P$92,3,0)","v":65477.03},{"$f":"VLOOKUP($F38,mapping!$L$2:$P$92,4,0)","v":"Other Advanced Economies"},{"$f":"$D38*VLOOKUP($E38,'Charts data'!$A$2:$B$11,2,0)*VLOOKUP($G38,'Charts data'!$A$14:$B$18,2,0)/IF('Charts data'!$E$3=1,I38,1)/IF('Charts data'!$E$4=1,J38,1)","v":63234.398696963413}]
["ID0983",110000,"AUD",{"$f":"B39*VLOOKUP(C39,tblXrate[],2,0)","v":112190.06220428993},"Manager","Australia","2 to 3",8,{"$f":"VLOOKUP(F39,mapping!$L$2:$P$92,2,0)","v":1.6083975281469567},{"$f":"VLOOKUP($F39,mapping!$L$2:$P$92,3,0)","v":65477.03},{"$f":"VLOOKUP($F39,mapping!$L$2:$P$92,4,0)","v":"Other Advanced Economies"},{"$f":"$D39*VLOOKUP($E39,'Charts data'!$A$2:$B$11,2,0)*VLOOKUP($G39,'Charts data'!$A$14:$B$18,2,0)/IF('Charts data'!$E$3=1,I39,1)/IF('Charts data'!$E$4=1,J39,1)","v":112190.06220428993}]
["ID0984",70000,"AUD",{"$f":"B40*VLOOKUP(C40,tblXrate[],2,0)","v":71393.675948184507},"Manager","Australia","4 to 6",7,{"$f":"VLOOKUP(F40,mapping!$L$2:$P$92,2,0)","v":1.6083975281469567},{"$f":"VLOOKUP($F40,mapping!$L$2:$P$92,3,0)","v":65477.03},{"$f":"VLOOKUP($F40,mapping!$L$2:$P$92,4,0)","v":"Other Advanced Economies"},{"$f":"$D40*VLOOKUP($E40,'Charts data'!$A$2:$B$11,2,0)*VLOOKUP($G40,'Charts data'!$A$14:$B$18,2,0)/IF('Charts data'!$E$3=1,I40,1)/IF('Charts data'!$E$4=1,J40,1)","v":71393.675948184507}]
["ID0986",94000,"AUD",{"$f":"B41*VLOOKUP(C41,tblXrate[],2,0)","v":95871.50770184776},"Analyst","Australia","2 to 3",2.5,{"$f":"VLOOKUP(F41,mapping!$L$2:$P$92,2,0)","v":1.6083975281469567},{"$f":"VLOOKUP($F41,mapping!$L$2:$P$92,3,0)","v":65477.03},{"$f":"VLOOKUP($F41,mapping!$L$2:$P$92,4,0)","v":"Other Advanced Economies"},{"$f":"$D41*VLOOKUP($E41,'Charts data'!$A$2:$B$11,2,0)*VLOOKUP($G41,'Charts data'!$A$14:$B$18,2,0)/IF('Charts data'!$E$3=1,I41,1)/IF('Charts data'!$E$4=1,J41,1)","v":95871.50770184776}]
["ID0987",107000,"AUD",{"$f":"B42*VLOOKUP(C42,tblXrate[],2,0)","v":109130.33323508203},"Manager","Australia","4 to 6",35,{"$f":"VLOOKUP(F42,mapping!$L$2:$P$92,2,0)","v":1.6083975281469567},{"$f":"VLOOKUP($F42,mapping!$L$2:$P$92,3,0)","v":65477.03},{"$f":"VLOOKUP($F42,mapping!$L$2:$P$92,4,0)","v":"Other Advanced Economies"},{"$f":"$D42*VLOOKUP($E42,'Charts data'!$A$2:$B$11,2,0)*VLOOKUP($G42,'Charts data'!$A$14:$B$18,2,0)/IF('Charts data'!$E$3=1,I42,1)/IF('Charts data'!$E$4=1,J42,1)","v":109130.33323508203}]
["ID0989",120000,"AUD",{"$f":"B43*VLOOKUP(C43,tblXrate[],2,0)","v":122389.15876831629},"Analyst","Australia","4 to 6",2,{"$f":"VLOOKUP(F43,mapping!$L$2:$P$92,2,0)","v":1.6083975281469567},{"$f":"VLOOKUP($F43,mapping!$L$2:$P$92,3,0)","v":65477.03},{"$f":"VLOOKUP($F43,mapping!$L$2:$P$92,4,0)","v":"Other Advanced Economies"},{"$f":"$D43*VLOOKUP($E43,'Charts data'!$A$2:$B$11,2,0)*VLOOKUP($G43,'Charts data'!$A$14:$B$18,2,0)/IF('Charts data'!$E$3=1,I43,1)/IF('Charts data'!$E$4=1,J43,1)","v":122389.15876831629}]
["ID0990",52000,"AUD",{"$f":"B44*VLOOKUP(C44,tblXrate[],2,0)","v":53035.30213293706},"Analyst","Australia","4 to 6",4,{"$f":"VLOOKUP(F44,mapping!$L$2:$P$92,2,0)","v":1.6083975281469567},{"$f":"VLOOKUP($F44,mapping!$L$2:$P$92,3,0)","v":65477.03},{"$f":"VLOOKUP($F44,mapping!$L$2:$P$92,4,0)","v":"Other Advanced Economies"},{"$f":"$D44*VLOOKUP($E44,'Charts data'!$A$2:$B$11,2,0)*VLOOKUP($G44,'Charts data'!$A$14:$B$18,2,0)/IF('Charts data'!$E$3=1,I44,1)/IF('Charts data'!$E$4=1,J44,1)","v":53035.30213293706}]
["ID0993",92000,"AUD",{"$f":"B45*VLOOKUP(C45,tblXrate[],2,0)","v":93831.688389042494},"Analyst","Australia","8 Hrs",6,{"$f":"VLOOKUP(F45,mapping!$L$2:$P$92,2,0)","v":1.6083975281469567},{"$f":"VLOOKUP($F45,mapping!$L$2:$P$92,3,0)","v":65477.03},{"$f":"VLOOKUP($F45,mapping!$L$2:$P$92,4,0)","v":"Other Advanced Economies"},{"$f":"$D45*VLOOKUP($E45,'Charts data'!$A$2:$B$11,2,0)*VLOOKUP($G45,'Charts data'!$A$14:$B$18,2,0)/IF('Charts data'!$E$3=1,I45,1)/IF('Charts data'!$E$4=1,J45,1)","v":93831.688389042494}]
["ID0994",100000,"AUD",{"$f":"B46*VLOOKUP(C46,tblXrate[],2,0)","v":101990.96564026357},"Analyst","Australia","4 to 6",20,{"$f":"VLOOKUP(F46,mapping!$L$2:$P$92,2,0)","v":1.6083975281469567},{"$f":"VLOOKUP($F46,mapping!$L$2:$P$92,3,0)","v":65477.03},{"$f":"VLOOKUP($F46,mapping!$L$2:$P$92,4,0)","v":"Other Advanced Economies"},{"$f":"$D46*VLOOKUP($E46,'Charts data'!$A$2:$B$11,2,0)*VLOOKUP($G46,'Charts data'!$A$14:$B$18,2,0)/IF('Charts data'!$E$3=1,I46,1)/IF('Charts data'!$E$4=1,J46,1)","v":101990.96564026357}]
["ID0995",120000,"AUD",{"$f":"B47*VLOOKUP(C47,tblXrate[],2,0)","v":122389.15876831629},"Analyst","Australia","4 to 6",5,{"$f":"VLOOKUP(F47,mapping!$L$2:$P$92,2,0)","v":1.6083975281469567},{"$f":"VLOOKUP($F47,mapping!$L$2:$P$92,3,0)","v":65477.03},{"$f":"VLOOKUP($F47,mapping!$L$2:$P$92,4,0)","v":"Other Advanced Economies"},{"$f":"$D47*VLOOKUP($E47,'Charts data'!$A$2:$B$11,2,0)*VLOOKUP($G47,'Charts data'!$A$14:$B$18,2,0)/IF('Charts data'!$E$3=1,I47,1)/IF('Charts data'!$E$4=1,J47,1)","v":122389.15876831629}]
["ID1008",94000,"AUD",{"$f":"B48*VLOOKUP(C48,tblXrate[],2,0)","v":95871.50770184776},"Analyst","Australia","2 to 3",14,{"$f":"VLOOKUP(F48,mapping!$L$2:$P$92,2,0)","v":1.6083975281469567},{"$f":"VLOOKUP($F48,mapping!$L$2:$P$92,3,0)","v":65477.03},{"$f":"VLOOKUP($F48,mapping!$L$2:$P$92,4,0)","v":"Other Advanced Economies"},{"$f":"$D48*VLOOKUP($E48,'Charts data'!$A$2:$B$11,2,0)*VLOOKUP($G48,'Charts data'!$A$14:$B$18,2,0)/IF('Charts data'!$E$3=1,I48,1)/IF('Charts data'!$E$4=1,J48,1)","v":95871.50770184776}]
["ID1009",170000,"AUD",{"$f":"B49*VLOOKUP(C49,tblXrate[],2,0)","v":173384.64158844808},"Consultant","Australia","2 to 3",8,{"$f":"VLOOKUP(F49,mapping!$L$2:$P$92,2,0)","v":1.6083975281469567},{"$f":"VLOOKUP($F49,mapping!$L$2:$P$92,3,0)","v":65477.03},{"$f":"VLOOKUP($F49,mapping!$L$2:$P$92,4,0)","v":"Other Advanced Economies"},{"$f":"$D49*VLOOKUP($E49,'Charts data'!$A$2:$B$11,2,0)*VLOOKUP($G49,'Charts data'!$A$14:$B$18,2,0)/IF('Charts data'!$E$3=1,I49,1)/IF('Charts data'!$E$4=1,J49,1)","v":173384.64158844808}]
["ID1012",70000,"AUD",{"$f":"B50*VLOOKUP(C50,tblXrate[],2,0)","v":71393.675948184507},"CXO or Top Mgmt.","Australia","8 Hrs",2,{"$f":"VLOOKUP(F50,mapping!$L$2:$P$92,2,0)","v":1.6083975281469567},{"$f":"VLOOKUP($F50,mapping!$L$2:$P$92,3,0)","v":65477.03},{"$f":"VLOOKUP($F50,mapping!$L$2:$P$92,4,0)","v":"Other Advanced Economies"},{"$f":"$D50*VLOOKUP($E50,'Charts data'!$A$2:$B$11,2,0)*VLOOKUP($G50,'Charts data'!$A$14:$B$18,2,0)/IF('Charts data'!$E$3=1,I50,1)/IF('Charts data'!$E$4=1,J50,1)","v":71393.675948184507}]
["ID1056",50000,"AUD",{"$f":"B51*VLOOKUP(C51,tblXrate[],2,0)","v":50995.482820131787},"Analyst","Australia","4 to 6",4,{"$f":"VLOOKUP(F51,mapping!$L$2:$P$92,2,0)","v":1.6083975281469567},{"$f":"VLOOKUP($F51,mapping!$L$2:$P$92,3,0)","v":65477.03},{"$f":"VLOOKUP($F51,mapping!$L$2:$P$92,4,0)","v":"Other Advanced Economies"},{"$f":"$D51*VLOOKUP($E51,'Charts data'!$A$2:$B$11,2,0)*VLOOKUP($G51,'Charts data'!$A$14:$B$18,2,0)/IF('Charts data'!$E$3=1,I51,1)/IF('Charts data'!$E$4=1,J51,1)","v":50995.482820131787}]
["ID1237",150000,"AUD",{"$f":"B52*VLOOKUP(C52,tblXrate[],2,0)","v":152986.44846039536},"Analyst","Australia","2 to 3",10,{"$f":"VLOOKUP(F52,mapping!$L$2:$P$92,2,0)","v":1.6083975281469567},{"$f":"VLOOKUP($F52,mapping!$L$2:$P$92,3,0)","v":65477.03},{"$f":"VLOOKUP($F52,mapping!$L$2:$P$92,4,0)","v":"Other Advanced Economies"},{"$f":"$D52*VLOOKUP($E52,'Charts data'!$A$2:$B$11,2,0)*VLOOKUP($G52,'Charts data'!$A$14:$B$18,2,0)/IF('Charts data'!$E$3=1,I52,1)/IF('Charts data'!$E$4=1,J52,1)","v":152986.44846039536}]
["ID1255",80000,"AUD",{"$f":"B53*VLOOKUP(C53,tblXrate[],2,0)","v":81592.772512210868},"Accountant","Australia","4 to 6",5,{"$f":"VLOOKUP(F53,mapping!$L$2:$P$92,2,0)","v":1.6083975281469567},{"$f":"VLOOKUP($F53,mapping!$L$2:$P$92,3,0)","v":65477.03},{"$f":"VLOOKUP($F53,mapping!$L$2:$P$92,4,0)","v":"Other Advanced Economies"},{"$f":"$D53*VLOOKUP($E53,'Charts data'!$A$2:$B$11,2,0)*VLOOKUP($G53,'Charts data'!$A$14:$B$18,2,0)/IF('Charts data'!$E$3=1,I53,1)/IF('Charts data'!$E$4=1,J53,1)","v":81592.772512210868}]
["ID1263",90000,"AUD",{"$f":"B54*VLOOKUP(C54,tblXrate[],2,0)","v":91791.869076237213},"Analyst","Australia","4 to 6",5,{"$f":"VLOOKUP(F54,mapping!$L$2:$P$92,2,0)","v":1.6083975281469567},{"$f":"VLOOKUP($F54,mapping!$L$2:$P$92,3,0)","v":65477.03},{"$f":"VLOOKUP($F54,mapping!$L$2:$P$92,4,0)","v":"Other Advanced Economies"},{"$f":"$D54*VLOOKUP($E54,'Charts data'!$A$2:$B$11,2,0)*VLOOKUP($G54,'Charts data'!$A$14:$B$18,2,0)/IF('Charts data'!$E$3=1,I54,1)/IF('Charts data'!$E$4=1,J54,1)","v":91791.869076237213}]
["ID1264",110000,"AUD",{"$f":"B55*VLOOKUP(C55,tblXrate[],2,0)","v":112190.06220428993},"Analyst","Australia","2 to 3",7,{"$f":"VLOOKUP(F55,mapping!$L$2:$P$92,2,0)","v":1.6083975281469567},{"$f":"VLOOKUP($F55,mapping!$L$2:$P$92,3,0)","v":65477.03},{"$f":"VLOOKUP($F55,mapping!$L$2:$P$92,4,0)","v":"Other Advanced Economies"},{"$f":"$D55*VLOOKUP($E55,'Charts data'!$A$2:$B$11,2,0)*VLOOKUP($G55,'Charts data'!$A$14:$B$18,2,0)/IF('Charts data'!$E$3=1,I55,1)/IF('Charts data'!$E$4=1,J55,1)","v":112190.06220428993}]
["ID1268",100000,"AUD",{"$f":"B56*VLOOKUP(C56,tblXrate[],2,0)","v":101990.96564026357},"Consultant","Australia","4 to 6",15,{"$f":"VLOOKUP(F56,mapping!$L$2:$P$92,2,0)","v":1.6083975281469567},{"$f":"VLOOKUP($F56,mapping!$L$2:$P$92,3,0)","v":65477.03},{"$f":"VLOOKUP($F56,mapping!$L$2:$P$92,4,0)","v":"Other Advanced Economies"},{"$f":"$D56*VLOOKUP($E56,'Charts data'!$A$2:$B$11,2,0)*VLOOKUP($G56,'Charts data'!$A$14:$B$18,2,0)/IF('Charts data'!$E$3=1,I56,1)/IF('Charts data'!$E$4=1,J56,1)","v":101990.96564026357}]
["ID1274",48000,"AUD",{"$f":"B57*VLOOKUP(C57,tblXrate[],2,0)","v":48955.663507326513},"Analyst","Australia","1 or 2",2,{"$f":"VLOOKUP(F57,mapping!$L$2:$P$92,2,0)","v":1.6083975281469567},{"$f":"VLOOKUP($F57,mapping!$L$2:$P$92,3,0)","v":65477.03},{"$f":"VLOOKUP($F57,mapping!$L$2:$P$92,4,0)","v":"Other Advanced Economies"},{"$f":"$D57*VLOOKUP($E57,'Charts data'!$A$2:$B$11,2,0)*VLOOKUP($G57,'Charts data'!$A$14:$B$18,2,0)/IF('Charts data'!$E$3=1,I57,1)/IF('Charts data'!$E$4=1,J57,1)","v":48955.663507326513}]
["ID1306",68000,"AUD",{"$f":"B58*VLOOKUP(C58,tblXrate[],2,0)","v":69353.856635379227},"Manager","Australia","4 to 6",10,{"$f":"VLOOKUP(F58,mapping!$L$2:$P$92,2,0)","v":1.6083975281469567},{"$f":"VLOOKUP($F58,mapping!$L$2:$P$92,3,0)","v":65477.03},{"$f":"VLOOKUP($F58,mapping!$L$2:$P$92,4,0)","v":"Other Advanced Economies"},{"$f":"$D58*VLOOKUP($E58,'Charts data'!$A$2:$B$11,2,0)*VLOOKUP($G58,'Charts data'!$A$14:$B$18,2,0)/IF('Charts data'!$E$3=1,I58,1)/IF('Charts data'!$E$4=1,J58,1)","v":69353.856635379227}]
["ID1307",49000,"AUD",{"$f":"B59*VLOOKUP(C59,tblXrate[],2,0)","v":49975.573163729154},"Controller","Australia","4 to 6",30,{"$f":"VLOOKUP(F59,mapping!$L$2:$P$92,2,0)","v":1.6083975281469567},{"$f":"VLOOKUP($F59,mapping!$L$2:$P$92,3,0)","v":65477.03},{"$f":"VLOOKUP($F59,mapping!$L$2:$P$92,4,0)","v":"Other Advanced Economies"},{"$f":"$D59*VLOOKUP($E59,'Charts data'!$A$2:$B$11,2,0)*VLOOKUP($G59,'Charts data'!$A$14:$B$18,2,0)/IF('Charts data'!$E$3=1,I59,1)/IF('Charts data'!$E$4=1,J59,1)","v":49975.573163729154}]
["ID1354",150000,"AUD",{"$f":"B60*VLOOKUP(C60,tblXrate[],2,0)","v":152986.44846039536},"Analyst","Australia","1 or 2",5.5,{"$f":"VLOOKUP(F60,mapping!$L$2:$P$92,2,0)","v":1.6083975281469567},{"$f":"VLOOKUP($F60,mapping!$L$2:$P$92,3,0)","v":65477.03},{"$f":"VLOOKUP($F60,mapping!$L$2:$P$92,4,0)","v":"Other Advanced Economies"},{"$f":"$D60*VLOOKUP($E60,'Charts data'!$A$2:$B$11,2,0)*VLOOKUP($G60,'Charts data'!$A$14:$B$18,2,0)/IF('Charts data'!$E$3=1,I60,1)/IF('Charts data'!$E$4=1,J60,1)","v":152986.44846039536}]
["ID1356",100000,"AUD",{"$f":"B61*VLOOKUP(C61,tblXrate[],2,0)","v":101990.96564026357},"Consultant","Australia","1 or 2",30,{"$f":"VLOOKUP(F61,mapping!$L$2:$P$92,2,0)","v":1.6083975281469567},{"$f":"VLOOKUP($F61,mapping!$L$2:$P$92,3,0)","v":65477.03},{"$f":"VLOOKUP($F61,mapping!$L$2:$P$92,4,0)","v":"Other Advanced Economies"},{"$f":"$D61*VLOOKUP($E61,'Charts data'!$A$2:$B$11,2,0)*VLOOKUP($G61,'Charts data'!$A$14:$B$18,2,0)/IF('Charts data'!$E$3=1,I61,1)/IF('Charts data'!$E$4=1,J61,1)","v":101990.96564026357}]
["ID1440",55000,"AUD",{"$f":"B62*VLOOKUP(C62,tblXrate[],2,0)","v":56095.031102144967},"Analyst","Australia","2 to 3",11,{"$f":"VLOOKUP(F62,mapping!$L$2:$P$92,2,0)","v":1.6083975281469567},{"$f":"VLOOKUP($F62,mapping!$L$2:$P$92,3,0)","v":65477.03},{"$f":"VLOOKUP($F62,mapping!$L$2:$P$92,4,0)","v":"Other Advanced Economies"},{"$f":"$D62*VLOOKUP($E62,'Charts data'!$A$2:$B$11,2,0)*VLOOKUP($G62,'Charts data'!$A$14:$B$18,2,0)/IF('Charts data'!$E$3=1,I62,1)/IF('Charts data'!$E$4=1,J62,1)","v":56095.031102144967}]
["ID1442",70000,"AUD",{"$f":"B63*VLOOKUP(C63,tblXrate[],2,0)","v":71393.675948184507},"Accountant","Australia","2 to 3",5,{"$f":"VLOOKUP(F63,mapping!$L$2:$P$92,2,0)","v":1.6083975281469567},{"$f":"VLOOKUP($F63,mapping!$L$2:$P$92,3,0)","v":65477.03},{"$f":"VLOOKUP($F63,mapping!$L$2:$P$92,4,0)","v":"Other Advanced Economies"},{"$f":"$D63*VLOOKUP($E63,'Charts data'!$A$2:$B$11,2,0)*VLOOKUP($G63,'Charts data'!$A$14:$B$18,2,0)/IF('Charts data'!$E$3=1,I63,1)/IF('Charts data'!$E$4=1,J63,1)","v":71393.675948184507}]
["ID1456",86000,"AUD",{"$f":"B64*VLOOKUP(C64,tblXrate[],2,0)","v":87712.230450626681},"Analyst","Australia","4 to 6",10,{"$f":"VLOOKUP(F64,mapping!$L$2:$P$92,2,0)","v":1.6083975281469567},{"$f":"VLOOKUP($F64,mapping!$L$2:$P$92,3,0)","v":65477.03},{"$f":"VLOOKUP($F64,mapping!$L$2:$P$92,4,0)","v":"Other Advanced Economies"},{"$f":"$D64*VLOOKUP($E64,'Charts data'!$A$2:$B$11,2,0)*VLOOKUP($G64,'Charts data'!$A$14:$B$18,2,0)/IF('Charts data'!$E$3=1,I64,1)/IF('Charts data'!$E$4=1,J64,1)","v":87712.230450626681}]
["ID1475",125000,"AUD",{"$f":"B65*VLOOKUP(C65,tblXrate[],2,0)","v":127488.70705032947},"Accountant","Australia","4 to 6",7,{"$f":"VLOOKUP(F65,mapping!$L$2:$P$92,2,0)","v":1.6083975281469567},{"$f":"VLOOKUP($F65,mapping!$L$2:$P$92,3,0)","v":65477.03},{"$f":"VLOOKUP($F65,mapping!$L$2:$P$92,4,0)","v":"Other Advanced Economies"},{"$f":"$D65*VLOOKUP($E65,'Charts data'!$A$2:$B$11,2,0)*VLOOKUP($G65,'Charts data'!$A$14:$B$18,2,0)/IF('Charts data'!$E$3=1,I65,1)/IF('Charts data'!$E$4=1,J65,1)","v":127488.70705032947}]
["ID1492",165000,"AUD",{"$f":"B66*VLOOKUP(C66,tblXrate[],2,0)","v":168285.09330643489},"Engineer","Australia","2 to 3",17,{"$f":"VLOOKUP(F66,mapping!$L$2:$P$92,2,0)","v":1.6083975281469567},{"$f":"VLOOKUP($F66,mapping!$L$2:$P$92,3,0)","v":65477.03},{"$f":"VLOOKUP($F66,mapping!$L$2:$P$92,4,0)","v":"Other Advanced Economies"},{"$f":"$D66*VLOOKUP($E66,'Charts data'!$A$2:$B$11,2,0)*VLOOKUP($G66,'Charts data'!$A$14:$B$18,2,0)/IF('Charts data'!$E$3=1,I66,1)/IF('Charts data'!$E$4=1,J66,1)","v":168285.09330643489}]
["ID1498",74000,"AUD",{"$f":"B67*VLOOKUP(C67,tblXrate[],2,0)","v":75473.31457379504},"Analyst","Australia","8 Hrs",20,{"$f":"VLOOKUP(F67,mapping!$L$2:$P$92,2,0)","v":1.6083975281469567},{"$f":"VLOOKUP($F67,mapping!$L$2:$P$92,3,0)","v":65477.03},{"$f":"VLOOKUP($F67,mapping!$L$2:$P$92,4,0)","v":"Other Advanced Economies"},{"$f":"$D67*VLOOKUP($E67,'Charts data'!$A$2:$B$11,2,0)*VLOOKUP($G67,'Charts data'!$A$14:$B$18,2,0)/IF('Charts data'!$E$3=1,I67,1)/IF('Charts data'!$E$4=1,J67,1)","v":75473.31457379504}]
["ID1537",85000,"AUD",{"$f":"B68*VLOOKUP(C68,tblXrate[],2,0)","v":86692.320794224041},"Analyst","Australia","1 or 2",5,{"$f":"VLOOKUP(F68,mapping!$L$2:$P$92,2,0)","v":1.6083975281469567},{"$f":"VLOOKUP($F68,mapping!$L$2:$P$92,3,0)","v":65477.03},{"$f":"VLOOKUP($F68,mapping!$L$2:$P$92,4,0)","v":"Other Advanced Economies"},{"$f":"$D68*VLOOKUP($E68,'Charts data'!$A$2:$B$11,2,0)*VLOOKUP($G68,'Charts data'!$A$14:$B$18,2,0)/IF('Charts data'!$E$3=1,I68,1)/IF('Charts data'!$E$4=1,J68,1)","v":86692.320794224041}]
["ID1584",100000,"AUD",{"$f":"B69*VLOOKUP(C69,tblXrate[],2,0)","v":101990.96564026357},"Manager","Australia","4 to 6",20,{"$f":"VLOOKUP(F69,mapping!$L$2:$P$92,2,0)","v":1.6083975281469567},{"$f":"VLOOKUP($F69,mapping!$L$2:$P$92,3,0)","v":65477.03},{"$f":"VLOOKUP($F69,mapping!$L$2:$P$92,4,0)","v":"Other Advanced Economies"},{"$f":"$D69*VLOOKUP($E69,'Charts data'!$A$2:$B$11,2,0)*VLOOKUP($G69,'Charts data'!$A$14:$B$18,2,0)/IF('Charts data'!$E$3=1,I69,1)/IF('Charts data'!$E$4=1,J69,1)","v":101990.96564026357}]
["ID1586",85000,"AUD",{"$f":"B70*VLOOKUP(C70,tblXrate[],2,0)","v":86692.320794224041},"Analyst","Australia","4 to 6",30,{"$f":"VLOOKUP(F70,mapping!$L$2:$P$92,2,0)","v":1.6083975281469567},{"$f":"VLOOKUP($F70,mapping!$L$2:$P$92,3,0)","v":65477.03},{"$f":"VLOOKUP($F70,mapping!$L$2:$P$92,4,0)","v":"Other Advanced Economies"},{"$f":"$D70*VLOOKUP($E70,'Charts data'!$A$2:$B$11,2,0)*VLOOKUP($G70,'Charts data'!$A$14:$B$18,2,0)/IF('Charts data'!$E$3=1,I70,1)/IF('Charts data'!$E$4=1,J70,1)","v":86692.320794224041}]
["ID1587",120000,"AUD",{"$f":"B71*VLOOKUP(C71,tblXrate[],2,0)","v":122389.15876831629},"Analyst","Australia","2 to 3",5,{"$f":"VLOOKUP(F71,mapping!$L$2:$P$92,2,0)","v":1.6083975281469567},{"$f":"VLOOKUP($F71,mapping!$L$2:$P$92,3,0)","v":65477.03},{"$f":"VLOOKUP($F71,mapping!$L$2:$P$92,4,0)","v":"Other Advanced Economies"},{"$f":"$D71*VLOOKUP($E71,'Charts data'!$A$2:$B$11,2,0)*VLOOKUP($G71,'Charts data'!$A$14:$B$18,2,0)/IF('Charts data'!$E$3=1,I71,1)/IF('Charts data'!$E$4=1,J71,1)","v":122389.15876831629}]
["ID1659",84000,"AUD",{"$f":"B72*VLOOKUP(C72,tblXrate[],2,0)","v":85672.4111378214},"Consultant","Australia","4 to 6",6,{"$f":"VLOOKUP(F72,mapping!$L$2:$P$92,2,0)","v":1.6083975281469567},{"$f":"VLOOKUP($F72,mapping!$L$2:$P$92,3,0)","v":65477.03},{"$f":"VLOOKUP($F72,mapping!$L$2:$P$92,4,0)","v":"Other Advanced Economies"},{"$f":"$D72*VLOOKUP($E72,'Charts data'!$A$2:$B$11,2,0)*VLOOKUP($G72,'Charts data'!$A$14:$B$18,2,0)/IF('Charts data'!$E$3=1,I72,1)/IF('Charts data'!$E$4=1,J72,1)","v":85672.4111378214}]
["ID1713",80000,"AUD",{"$f":"B73*VLOOKUP(C73,tblXrate[],2,0)","v":81592.772512210868},"Specialist","Australia","4 to 6",5,{"$f":"VLOOKUP(F73,mapping!$L$2:$P$92,2,0)","v":1.6083975281469567},{"$f":"VLOOKUP($F73,mapping!$L$2:$P$92,3,0)","v":65477.03},{"$f":"VLOOKUP($F73,mapping!$L$2:$P$92,4,0)","v":"Other Advanced Economies"},{"$f":"$D73*VLOOKUP($E73,'Charts data'!$A$2:$B$11,2,0)*VLOOKUP($G73,'Charts data'!$A$14:$B$18,2,0)/IF('Charts data'!$E$3=1,I73,1)/IF('Charts data'!$E$4=1,J73,1)","v":81592.772512210868}]
["ID1738",60000,"AUD",{"$f":"B74*VLOOKUP(C74,tblXrate[],2,0)","v":61194.579384158147},"Analyst","Australia","2 to 3",3,{"$f":"VLOOKUP(F74,mapping!$L$2:$P$92,2,0)","v":1.6083975281469567},{"$f":"VLOOKUP($F74,mapping!$L$2:$P$92,3,0)","v":65477.03},{"$f":"VLOOKUP($F74,mapping!$L$2:$P$92,4,0)","v":"Other Advanced Economies"},{"$f":"$D74*VLOOKUP($E74,'Charts data'!$A$2:$B$11,2,0)*VLOOKUP($G74,'Charts data'!$A$14:$B$18,2,0)/IF('Charts data'!$E$3=1,I74,1)/IF('Charts data'!$E$4=1,J74,1)","v":61194.579384158147}]
["ID1810",156000,"AUD",{"$f":"B75*VLOOKUP(C75,tblXrate[],2,0)","v":159105.90639881117},"Engineer","Australia","2 to 3",12,{"$f":"VLOOKUP(F75,mapping!$L$2:$P$92,2,0)","v":1.6083975281469567},{"$f":"VLOOKUP($F75,mapping!$L$2:$P$92,3,0)","v":65477.03},{"$f":"VLOOKUP($F75,mapping!$L$2:$P$92,4,0)","v":"Other Advanced Economies"},{"$f":"$D75*VLOOKUP($E75,'Charts data'!$A$2:$B$11,2,0)*VLOOKUP($G75,'Charts data'!$A$14:$B$18,2,0)/IF('Charts data'!$E$3=1,I75,1)/IF('Charts data'!$E$4=1,J75,1)","v":159105.90639881117}]
["ID1816",145000,"AUD",{"$f":"B76*VLOOKUP(C76,tblXrate[],2,0)","v":147886.90017838217},"Controller","Australia","2 to 3",15,{"$f":"VLOOKUP(F76,mapping!$L$2:$P$92,2,0)","v":1.6083975281469567},{"$f":"VLOOKUP($F76,mapping!$L$2:$P$92,3,0)","v":65477.03},{"$f":"VLOOKUP($F76,mapping!$L$2:$P$92,4,0)","v":"Other Advanced Economies"},{"$f":"$D76*VLOOKUP($E76,'Charts data'!$A$2:$B$11,2,0)*VLOOKUP($G76,'Charts data'!$A$14:$B$18,2,0)/IF('Charts data'!$E$3=1,I76,1)/IF('Charts data'!$E$4=1,J76,1)","v":147886.90017838217}]
["ID1888",63000,"AUD",{"$f":"B77*VLOOKUP(C77,tblXrate[],2,0)","v":64254.308353366054},"Accountant","Australia","8 Hrs",3,{"$f":"VLOOKUP(F77,mapping!$L$2:$P$92,2,0)","v":1.6083975281469567},{"$f":"VLOOKUP($F77,mapping!$L$2:$P$92,3,0)","v":65477.03},{"$f":"VLOOKUP($F77,mapping!$L$2:$P$92,4,0)","v":"Other Advanced Economies"},{"$f":"$D77*VLOOKUP($E77,'Charts data'!$A$2:$B$11,2,0)*VLOOKUP($G77,'Charts data'!$A$14:$B$18,2,0)/IF('Charts data'!$E$3=1,I77,1)/IF('Charts data'!$E$4=1,J77,1)","v":64254.308353366054}]
["ID1893",76300,"AUD",{"$f":"B78*VLOOKUP(C78,tblXrate[],2,0)","v":77819.106783521114},"Analyst","Australia","8 Hrs",3,{"$f":"VLOOKUP(F78,mapping!$L$2:$P$92,2,0)","v":1.6083975281469567},{"$f":"VLOOKUP($F78,mapping!$L$2:$P$92,3,0)","v":65477.03},{"$f":"VLOOKUP($F78,mapping!$L$2:$P$92,4,0)","v":"Other Advanced Economies"},{"$f":"$D78*VLOOKUP($E78,'Charts data'!$A$2:$B$11,2,0)*VLOOKUP($G78,'Charts data'!$A$14:$B$18,2,0)/IF('Charts data'!$E$3=1,I78,1)/IF('Charts data'!$E$4=1,J78,1)","v":77819.106783521114}]
["ID1901",120000,"AUD",{"$f":"B79*VLOOKUP(C79,tblXrate[],2,0)","v":122389.15876831629},"Manager","Australia","1 or 2",8,{"$f":"VLOOKUP(F79,mapping!$L$2:$P$92,2,0)","v":1.6083975281469567},{"$f":"VLOOKUP($F79,mapping!$L$2:$P$92,3,0)","v":65477.03},{"$f":"VLOOKUP($F79,mapping!$L$2:$P$92,4,0)","v":"Other Advanced Economies"},{"$f":"$D79*VLOOKUP($E79,'Charts data'!$A$2:$B$11,2,0)*VLOOKUP($G79,'Charts data'!$A$14:$B$18,2,0)/IF('Charts data'!$E$3=1,I79,1)/IF('Charts data'!$E$4=1,J79,1)","v":122389.15876831629}]
["ID1906",74000,"AUD",{"$f":"B80*VLOOKUP(C80,tblXrate[],2,0)","v":75473.31457379504},"Analyst","Australia","4 to 6",8,{"$f":"VLOOKUP(F80,mapping!$L$2:$P$92,2,0)","v":1.6083975281469567},{"$f":"VLOOKUP($F80,mapping!$L$2:$P$92,3,0)","v":65477.03},{"$f":"VLOOKUP($F80,mapping!$L$2:$P$92,4,0)","v":"Other Advanced Economies"},{"$f":"$D80*VLOOKUP($E80,'Charts data'!$A$2:$B$11,2,0)*VLOOKUP($G80,'Charts data'!$A$14:$B$18,2,0)/IF('Charts data'!$E$3=1,I80,1)/IF('Charts data'!$E$4=1,J80,1)","v":75473.31457379504}]
["ID0398",1440000,"BDT",{"$f":"B81*VLOOKUP(C81,tblXrate[],2,0)","v":17598.017290051986},"Analyst","Bangladesh","2 to 3",null,{"$f":"VLOOKUP(F81,mapping!$L$2:$P$92,2,0)","v":0.36952170055507078},{"$f":"VLOOKUP($F81,mapping!$L$2:$P$92,3,0)","v":678.02800000000002},{"$f":"VLOOKUP($F81,mapping!$L$2:$P$92,4,0)","v":"Developing Asia"},{"$f":"$D81*VLOOKUP($E81,'Charts data'!$A$2:$B$11,2,0)*VLOOKUP($G81,'Charts data'!$A$14:$B$18,2,0)/IF('Charts data'!$E$3=1,I81,1)/IF('Charts data'!$E$4=1,J81,1)","v":17598.017290051986}]
["ID0822",300000,"BRL",{"$f":"B82*VLOOKUP(C82,tblXrate[],2,0)","v":148284.35006969364},"Analyst","Brazil","8 Hrs",3,{"$f":"VLOOKUP(F82,mapping!$L$2:$P$92,2,0)","v":0.89267178741955566},{"$f":"VLOOKUP($F82,mapping!$L$2:$P$92,3,0)","v":12788.56},{"$f":"VLOOKUP($F82,mapping!$L$2:$P$92,4,0)","v":"Latin America and the Caribbean"},{"$f":"$D82*VLOOKUP($E82,'Charts data'!$A$2:$B$11,2,0)*VLOOKUP($G82,'Charts data'!$A$14:$B$18,2,0)/IF('Charts data'!$E$3=1,I82,1)/IF('Charts data'!$E$4=1,J82,1)","v":148284.35006969364}]
["ID0934",19200,"BRL",{"$f":"B83*VLOOKUP(C83,tblXrate[],2,0)","v":9490.1984044603923},"Analyst","Brazil","8 Hrs",8,{"$f":"VLOOKUP(F83,mapping!$L$2:$P$92,2,0)","v":0.89267178741955566},{"$f":"VLOOKUP($F83,mapping!$L$2:$P$92,3,0)","v":12788.56},{"$f":"VLOOKUP($F83,mapping!$L$2:$P$92,4,0)","v":"Latin America and the Caribbean"},{"$f":"$D83*VLOOKUP($E83,'Charts data'!$A$2:$B$11,2,0)*VLOOKUP($G83,'Charts data'!$A$14:$B$18,2,0)/IF('Charts data'!$E$3=1,I83,1)/IF('Charts data'!$E$4=1,J83,1)","v":9490.1984044603923}]
["ID1171",54000,"BRL",{"$f":"B84*VLOOKUP(C84,tblXrate[],2,0)","v":26691.183012544854},"Manager","Brazil","1 or 2",7,{"$f":"VLOOKUP(F84,mapping!$L$2:$P$92,2,0)","v":0.89267178741955566},{"$f":"VLOOKUP($F84,mapping!$L$2:$P$92,3,0)","v":12788.56},{"$f":"VLOOKUP($F84,mapping!$L$2:$P$92,4,0)","v":"Latin America and the Caribbean"},{"$f":"$D84*VLOOKUP($E84,'Charts data'!$A$2:$B$11,2,0)*VLOOKUP($G84,'Charts data'!$A$14:$B$18,2,0)/IF('Charts data'!$E$3=1,I84,1)/IF('Charts data'!$E$4=1,J84,1)","v":26691.183012544854}]
["ID0043",70000,"CAD",{"$f":"B85*VLOOKUP(C85,tblXrate[],2,0)","v":68835.306612122877},"Engineer","Canada","2 to 3",null,{"$f":"VLOOKUP(F85,mapping!$L$2:$P$92,2,0)","v":1.2105180348503324},{"$f":"VLOOKUP($F85,mapping!$L$2:$P$92,3,0)","v":50435.5},{"$f":"VLOOKUP($F85,mapping!$L$2:$P$92,4,0)","v":"Major Advanced Economies (G7)"},{"$f":"$D85*VLOOKUP($E85,'Charts data'!$A$2:$B$11,2,0)*VLOOKUP($G85,'Charts data'!$A$14:$B$18,2,0)/IF('Charts data'!$E$3=1,I85,1)/IF('Charts data'!$E$4=1,J85,1)","v":68835.306612122877}]
["ID0062",56000,"CAD",{"$f":"B86*VLOOKUP(C86,tblXrate[],2,0)","v":55068.245289698301},"Analyst","Canada","8 Hrs",null,{"$f":"VLOOKUP(F86,mapping!$L$2:$P$92,2,0)","v":1.2105180348503324},{"$f":"VLOOKUP($F86,mapping!$L$2:$P$92,3,0)","v":50435.5},{"$f":"VLOOKUP($F86,mapping!$L$2:$P$92,4,0)","v":"Major Advanced Economies (G7)"},{"$f":"$D86*VLOOKUP($E86,'Charts data'!$A$2:$B$11,2,0)*VLOOKUP($G86,'Charts data'!$A$14:$B$18,2,0)/IF('Charts data'!$E$3=1,I86,1)/IF('Charts data'!$E$4=1,J86,1)","v":55068.245289698301}]
["ID0075",59450,"CAD",{"$f":"B87*VLOOKUP(C87,tblXrate[],2,0)","v":58460.842544152933},"Specialist","Canada","8 Hrs",null,{"$f":"VLOOKUP(F87,mapping!$L$2:$P$92,2,0)","v":1.2105180348503324},{"$f":"VLOOKUP($F87,mapping!$L$2:$P$92,3,0)","v":50435.5},{"$f":"VLOOKUP($F87,mapping!$L$2:$P$92,4,0)","v":"Major Advanced Economies (G7)"},{"$f":"$D87*VLOOKUP($E87,'Charts data'!$A$2:$B$11,2,0)*VLOOKUP($G87,'Charts data'!$A$14:$B$18,2,0)/IF('Charts data'!$E$3=1,I87,1)/IF('Charts data'!$E$4=1,J87,1)","v":58460.842544152933}]
["ID0090",42000,"CAD",{"$f":"B88*VLOOKUP(C88,tblXrate[],2,0)","v":41301.183967273726},"Analyst","Canada","4 to 6",null,{"$f":"VLOOKUP(F88,mapping!$L$2:$P$92,2,0)","v":1.2105180348503324},{"$f":"VLOOKUP($F88,mapping!$L$2:$P$92,3,0)","v":50435.5},{"$f":"VLOOKUP($F88,mapping!$L$2:$P$92,4,0)","v":"Major Advanced Economies (G7)"},{"$f":"$D88*VLOOKUP($E88,'Charts data'!$A$2:$B$11,2,0)*VLOOKUP($G88,'Charts data'!$A$14:$B$18,2,0)/IF('Charts data'!$E$3=1,I88,1)/IF('Charts data'!$E$4=1,J88,1)","v":41301.183967273726}]
["ID0121",60000,"CAD",{"$f":"B89*VLOOKUP(C89,tblXrate[],2,0)","v":59001.691381819612},"Analyst","Canada","0 Hrs",null,{"$f":"VLOOKUP(F89,mapping!$L$2:$P$92,2,0)","v":1.2105180348503324},{"$f":"VLOOKUP($F89,mapping!$L$2:$P$92,3,0)","v":50435.5},{"$f":"VLOOKUP($F89,mapping!$L$2:$P$92,4,0)","v":"Major Advanced Economies (G7)"},{"$f":"$D89*VLOOKUP($E89,'Charts data'!$A$2:$B$11,2,0)*VLOOKUP($G89,'Charts data'!$A$14:$B$18,2,0)/IF('Charts data'!$E$3=1,I89,1)/IF('Charts data'!$E$4=1,J89,1)","v":59001.691381819612}]
["ID0137",70000,"CAD",{"$f":"B90*VLOOKUP(C90,tblXrate[],2,0)","v":68835.306612122877},"Manager","Canada","4 to 6",null,{"$f":"VLOOKUP(F90,mapping!$L$2:$P$92,2,0)","v":1.2105180348503324},{"$f":"VLOOKUP($F90,mapping!$L$2:$P$92,3,0)","v":50435.5},{"$f":"VLOOKUP($F90,mapping!$L$2:$P$92,4,0)","v":"Major Advanced Economies (G7)"},{"$f":"$D90*VLOOKUP($E90,'Charts data'!$A$2:$B$11,2,0)*VLOOKUP($G90,'Charts data'!$A$14:$B$18,2,0)/IF('Charts data'!$E$3=1,I90,1)/IF('Charts data'!$E$4=1,J90,1)","v":68835.306612122877}]
["ID0138",50000,"CAD",{"$f":"B91*VLOOKUP(C91,tblXrate[],2,0)","v":49168.076151516347},"Manager","Canada","4 to 6",null,{"$f":"VLOOKUP(F91,mapping!$L$2:$P$92,2,0)","v":1.2105180348503324},{"$f":"VLOOKUP($F91,mapping!$L$2:$P$92,3,0)","v":50435.5},{"$f":"VLOOKUP($F91,mapping!$L$2:$P$92,4,0)","v":"Major Advanced Economies (G7)"},{"$f":"$D91*VLOOKUP($E91,'Charts data'!$A$2:$B$11,2,0)*VLOOKUP($G91,'Charts data'!$A$14:$B$18,2,0)/IF('Charts data'!$E$3=1,I91,1)/IF('Charts data'!$E$4=1,J91,1)","v":49168.076151516347}]
["ID0140",62000,"CAD",{"$f":"B92*VLOOKUP(C92,tblXrate[],2,0)","v":60968.414427880263},"Analyst","Canada","2 to 3",null,{"$f":"VLOOKUP(F92,mapping!$L$2:$P$92,2,0)","v":1.2105180348503324},{"$f":"VLOOKUP($F92,mapping!$L$2:$P$92,3,0)","v":50435.5},{"$f":"VLOOKUP($F92,mapping!$L$2:$P$92,4,0)","v":"Major Advanced Economies (G7)"},{"$f":"$D92*VLOOKUP($E92,'Charts data'!$A$2:$B$11,2,0)*VLOOKUP($G92,'Charts data'!$A$14:$B$18,2,0)/IF('Charts data'!$E$3=1,I92,1)/IF('Charts data'!$E$4=1,J92,1)","v":60968.414427880263}]
["ID0166",107000,"CAD",{"$f":"B93*VLOOKUP(C93,tblXrate[],2,0)","v":105219.68296424497},"Manager","Canada","2 to 3",null,{"$f":"VLOOKUP(F93,mapping!$L$2:$P$92,2,0)","v":1.2105180348503324},{"$f":"VLOOKUP($F93,mapping!$L$2:$P$92,3,0)","v":50435.5},{"$f":"VLOOKUP($F93,mapping!$L$2:$P$92,4,0)","v":"Major Advanced Economies (G7)"},{"$f":"$D93*VLOOKUP($E93,'Charts data'!$A$2:$B$11,2,0)*VLOOKUP($G93,'Charts data'!$A$14:$B$18,2,0)/IF('Charts data'!$E$3=1,I93,1)/IF('Charts data'!$E$4=1,J93,1)","v":105219.68296424497}]
["ID0171",90000,"CAD",{"$f":"B94*VLOOKUP(C94,tblXrate[],2,0)","v":88502.537072729421},"Analyst","Canada","4 to 6",null,{"$f":"VLOOKUP(F94,mapping!$L$2:$P$92,2,0)","v":1.2105180348503324},{"$f":"VLOOKUP($F94,mapping!$L$2:$P$92,3,0)","v":50435.5},{"$f":"VLOOKUP($F94,mapping!$L$2:$P$92,4,0)","v":"Major Advanced Economies (G7)"},{"$f":"$D94*VLOOKUP($E94,'Charts data'!$A$2:$B$11,2,0)*VLOOKUP($G94,'Charts data'!$A$14:$B$18,2,0)/IF('Charts data'!$E$3=1,I94,1)/IF('Charts data'!$E$4=1,J94,1)","v":88502.537072729421}]
["ID0187",92000,"CAD",{"$f":"B95*VLOOKUP(C95,tblXrate[],2,0)","v":90469.260118790073},"Consultant","Canada","8 Hrs",null,{"$f":"VLOOKUP(F95,mapping!$L$2:$P$92,2,0)","v":1.2105180348503324},{"$f":"VLOOKUP($F95,mapping!$L$2:$P$92,3,0)","v":50435.5},{"$f":"VLOOKUP($F95,mapping!$L$2:$P$92,4,0)","v":"Major Advanced Economies (G7)"},{"$f":"$D95*VLOOKUP($E95,'Charts data'!$A$2:$B$11,2,0)*VLOOKUP($G95,'Charts data'!$A$14:$B$18,2,0)/IF('Charts data'!$E$3=1,I95,1)/IF('Charts data'!$E$4=1,J95,1)","v":90469.260118790073}]
["ID0190",60000,"CAD",{"$f":"B96*VLOOKUP(C96,tblXrate[],2,0)","v":59001.691381819612},"Analyst","Canada","2 to 3",null,{"$f":"VLOOKUP(F96,mapping!$L$2:$P$92,2,0)","v":1.2105180348503324},{"$f":"VLOOKUP($F96,mapping!$L$2:$P$92,3,0)","v":50435.5},{"$f":"VLOOKUP($F96,mapping!$L$2:$P$92,4,0)","v":"Major Advanced Economies (G7)"},{"$f":"$D96*VLOOKUP($E96,'Charts data'!$A$2:$B$11,2,0)*VLOOKUP($G96,'Charts data'!$A$14:$B$18,2,0)/IF('Charts data'!$E$3=1,I96,1)/IF('Charts data'!$E$4=1,J96,1)","v":59001.691381819612}]
["ID0228",45000,"CAD",{"$f":"B97*VLOOKUP(C97,tblXrate[],2,0)","v":44251.268536364711},"Specialist","Canada","1 or 2",null,{"$f":"VLOOKUP(F97,mapping!$L$2:$P$92,2,0)","v":1.2105180348503324},{"$f":"VLOOKUP($F97,mapping!$L$2:$P$92,3,0)","v":50435.5},{"$f":"VLOOKUP($F97,mapping!$L$2:$P$92,4,0)","v":"Major Advanced Economies (G7)"},{"$f":"$D97*VLOOKUP($E97,'Charts data'!$A$2:$B$11,2,0)*VLOOKUP($G97,'Charts data'!$A$14:$B$18,2,0)/IF('Charts data'!$E$3=1,I97,1)/IF('Charts data'!$E$4=1,J97,1)","v":44251.268536364711}]
["ID0239",100000,"CAD",{"$f":"B98*VLOOKUP(C98,tblXrate[],2,0)","v":98336.152303032693},"Manager","Canada","2 to 3",null,{"$f":"VLOOKUP(F98,mapping!$L$2:$P$92,2,0)","v":1.2105180348503324},{"$f":"VLOOKUP($F98,mapping!$L$2:$P$92,3,0)","v":50435.5},{"$f":"VLOOKUP($F98,mapping!$L$2:$P$92,4,0)","v":"Major Advanced Economies (G7)"},{"$f":"$D98*VLOOKUP($E98,'Charts data'!$A$2:$B$11,2,0)*VLOOKUP($G98,'Charts data'!$A$14:$B$18,2,0)/IF('Charts data'!$E$3=1,I98,1)/IF('Charts data'!$E$4=1,J98,1)","v":98336.152303032693}]
["ID0246",65000,"CAD",{"$f":"B99*VLOOKUP(C99,tblXrate[],2,0)","v":63918.498996971248},"Manager","Canada","4 to 6",null,{"$f":"VLOOKUP(F99,mapping!$L$2:$P$92,2,0)","v":1.2105180348503324},{"$f":"VLOOKUP($F99,mapping!$L$2:$P$92,3,0)","v":50435.5},{"$f":"VLOOKUP($F99,mapping!$L$2:$P$92,4,0)","v":"Major Advanced Economies (G7)"},{"$f":"$D99*VLOOKUP($E99,'Charts data'!$A$2:$B$11,2,0)*VLOOKUP($G99,'Charts data'!$A$14:$B$18,2,0)/IF('Charts data'!$E$3=1,I99,1)/IF('Charts data'!$E$4=1,J99,1)","v":63918.498996971248}]
["ID0303",42000,"CAD",{"$f":"B100*VLOOKUP(C100,tblXrate[],2,0)","v":41301.183967273726},"Analyst","Canada","8 Hrs",null,{"$f":"VLOOKUP(F100,mapping!$L$2:$P$92,2,0)","v":1.2105180348503324},{"$f":"VLOOKUP($F100,mapping!$L$2:$P$92,3,0)","v":50435.5},{"$f":"VLOOKUP($F100,mapping!$L$2:$P$92,4,0)","v":"Major Advanced Economies (G7)"},{"$f":"$D100*VLOOKUP($E100,'Charts data'!$A$2:$B$11,2,0)*VLOOKUP($G100,'Charts data'!$A$14:$B$18,2,0)/IF('Charts data'!$E$3=1,I100,1)/IF('Charts data'!$E$4=1,J100,1)","v":41301.183967273726}]
["ID0315",60000,"CAD",{"$f":"B101*VLOOKUP(C101,tblXrate[],2,0)","v":59001.691381819612},"Analyst","Canada","8 Hrs",null,{"$f":"VLOOKUP(F101,mapping!$L$2:$P$92,2,0)","v":1.2105180348503324},{"$f":"VLOOKUP($F101,mapping!$L$2:$P$92,3,0)","v":50435.5},{"$f":"VLOOKUP($F101,mapping!$L$2:$P$92,4,0)","v":"Major Advanced Economies (G7)"},{"$f":"$D101*VLOOKUP($E101,'Charts data'!$A$2:$B$11,2,0)*VLOOKUP($G101,'Charts data'!$A$14:$B$18,2,0)/IF('Charts data'!$E$3=1,I101,1)/IF('Charts data'!$E$4=1,J101,1)","v":59001.691381819612}]
["ID0333",65000,"CAD",{"$f":"B102*VLOOKUP(C102,tblXrate[],2,0)","v":63918.498996971248},"Manager","Canada","2 to 3",null,{"$f":"VLOOKUP(F102,mapping!$L$2:$P$92,2,0)","v":1.2105180348503324},{"$f":"VLOOKUP($F102,mapping!$L$2:$P$92,3,0)","v":50435.5},{"$f":"VLOOKUP($F102,mapping!$L$2:$P$92,4,0)","v":"Major Advanced Economies (G7)"},{"$f":"$D102*VLOOKUP($E102,'Charts data'!$A$2:$B$11,2,0)*VLOOKUP($G102,'Charts data'!$A$14:$B$18,2,0)/IF('Charts data'!$E$3=1,I102,1)/IF('Charts data'!$E$4=1,J102,1)","v":63918.498996971248}]
["ID0349",56000,"CAD",{"$f":"B103*VLOOKUP(C103,tblXrate[],2,0)","v":55068.245289698301},"Analyst","Canada","4 to 6",null,{"$f":"VLOOKUP(F103,mapping!$L$2:$P$92,2,0)","v":1.2105180348503324},{"$f":"VLOOKUP($F103,mapping!$L$2:$P$92,3,0)","v":50435.5},{"$f":"VLOOKUP($F103,mapping!$L$2:$P$92,4,0)","v":"Major Advanced Economies (G7)"},{"$f":"$D103*VLOOKUP($E103,'Charts data'!$A$2:$B$11,2,0)*VLOOKUP($G103,'Charts data'!$A$14:$B$18,2,0)/IF('Charts data'!$E$3=1,I103,1)/IF('Charts data'!$E$4=1,J103,1)","v":55068.245289698301}]
["ID0353",160000,"CAD",{"$f":"B104*VLOOKUP(C104,tblXrate[],2,0)","v":157337.8436848523},"Consultant","Canada","2 to 3",null,{"$f":"VLOOKUP(F104,mapping!$L$2:$P$92,2,0)","v":1.2105180348503324},{"$f":"VLOOKUP($F104,mapping!$L$2:$P$92,3,0)","v":50435.5},{"$f":"VLOOKUP($F104,mapping!$L$2:$P$92,4,0)","v":"Major Advanced Economies (G7)"},{"$f":"$D104*VLOOKUP($E104,'Charts data'!$A$2:$B$11,2,0)*VLOOKUP($G104,'Charts data'!$A$14:$B$18,2,0)/IF('Charts data'!$E$3=1,I104,1)/IF('Charts data'!$E$4=1,J104,1)","v":157337.8436848523}]
["ID0357",75000,"CAD",{"$f":"B105*VLOOKUP(C105,tblXrate[],2,0)","v":73752.11422727452},"Analyst","Canada","4 to 6",null,{"$f":"VLOOKUP(F105,mapping!$L$2:$P$92,2,0)","v":1.2105180348503324},{"$f":"VLOOKUP($F105,mapping!$L$2:$P$92,3,0)","v":50435.5},{"$f":"VLOOKUP($F105,mapping!$L$2:$P$92,4,0)","v":"Major Advanced Economies (G7)"},{"$f":"$D105*VLOOKUP($E105,'Charts data'!$A$2:$B$11,2,0)*VLOOKUP($G105,'Charts data'!$A$14:$B$18,2,0)/IF('Charts data'!$E$3=1,I105,1)/IF('Charts data'!$E$4=1,J105,1)","v":73752.11422727452}]
["ID0378",80000,"CAD",{"$f":"B106*VLOOKUP(C106,tblXrate[],2,0)","v":78668.921842426149},"Analyst","Canada","4 to 6",null,{"$f":"VLOOKUP(F106,mapping!$L$2:$P$92,2,0)","v":1.2105180348503324},{"$f":"VLOOKUP($F106,mapping!$L$2:$P$92,3,0)","v":50435.5},{"$f":"VLOOKUP($F106,mapping!$L$2:$P$92,4,0)","v":"Major Advanced Economies (G7)"},{"$f":"$D106*VLOOKUP($E106,'Charts data'!$A$2:$B$11,2,0)*VLOOKUP($G106,'Charts data'!$A$14:$B$18,2,0)/IF('Charts data'!$E$3=1,I106,1)/IF('Charts data'!$E$4=1,J106,1)","v":78668.921842426149}]
["ID0403",72000,"CAD",{"$f":"B107*VLOOKUP(C107,tblXrate[],2,0)","v":70802.029658183528},"Controller","Canada","4 to 6",null,{"$f":"VLOOKUP(F107,mapping!$L$2:$P$92,2,0)","v":1.2105180348503324},{"$f":"VLOOKUP($F107,mapping!$L$2:$P$92,3,0)","v":50435.5},{"$f":"VLOOKUP($F107,mapping!$L$2:$P$92,4,0)","v":"Major Advanced Economies (G7)"},{"$f":"$D107*VLOOKUP($E107,'Charts data'!$A$2:$B$11,2,0)*VLOOKUP($G107,'Charts data'!$A$14:$B$18,2,0)/IF('Charts data'!$E$3=1,I107,1)/IF('Charts data'!$E$4=1,J107,1)","v":70802.029658183528}]
["ID0446",110000,"CAD",{"$f":"B108*VLOOKUP(C108,tblXrate[],2,0)","v":108169.76753333595},"Controller","Canada","2 to 3",null,{"$f":"VLOOKUP(F108,mapping!$L$2:$P$92,2,0)","v":1.2105180348503324},{"$f":"VLOOKUP($F108,mapping!$L$2:$P$92,3,0)","v":50435.5},{"$f":"VLOOKUP($F108,mapping!$L$2:$P$92,4,0)","v":"Major Advanced Economies (G7)"},{"$f":"$D108*VLOOKUP($E108,'Charts data'!$A$2:$B$11,2,0)*VLOOKUP($G108,'Charts data'!$A$14:$B$18,2,0)/IF('Charts data'!$E$3=1,I108,1)/IF('Charts data'!$E$4=1,J108,1)","v":108169.76753333595}]
["ID0460",52000,"CAD",{"$f":"B109*VLOOKUP(C109,tblXrate[],2,0)","v":51134.799197576998},"Manager","Canada","4 to 6",null,{"$f":"VLOOKUP(F109,mapping!$L$2:$P$92,2,0)","v":1.2105180348503324},{"$f":"VLOOKUP($F109,mapping!$L$2:$P$92,3,0)","v":50435.5},{"$f":"VLOOKUP($F109,mapping!$L$2:$P$92,4,0)","v":"Major Advanced Economies (G7)"},{"$f":"$D109*VLOOKUP($E109,'Charts data'!$A$2:$B$11,2,0)*VLOOKUP($G109,'Charts data'!$A$14:$B$18,2,0)/IF('Charts data'!$E$3=1,I109,1)/IF('Charts data'!$E$4=1,J109,1)","v":51134.799197576998}]
["ID0466",70000,"CAD",{"$f":"B110*VLOOKUP(C110,tblXrate[],2,0)","v":68835.306612122877},"Manager","Canada","1 or 2",null,{"$f":"VLOOKUP(F110,mapping!$L$2:$P$92,2,0)","v":1.2105180348503324},{"$f":"VLOOKUP($F110,mapping!$L$2:$P$92,3,0)","v":50435.5},{"$f":"VLOOKUP($F110,mapping!$L$2:$P$92,4,0)","v":"Major Advanced Economies (G7)"},{"$f":"$D110*VLOOKUP($E110,'Charts data'!$A$2:$B$11,2,0)*VLOOKUP($G110,'Charts data'!$A$14:$B$18,2,0)/IF('Charts data'!$E$3=1,I110,1)/IF('Charts data'!$E$4=1,J110,1)","v":68835.306612122877}]
["ID0468",87000,"CAD",{"$f":"B111*VLOOKUP(C111,tblXrate[],2,0)","v":85552.452503638444},"Manager","Canada","4 to 6",null,{"$f":"VLOOKUP(F111,mapping!$L$2:$P$92,2,0)","v":1.2105180348503324},{"$f":"VLOOKUP($F111,mapping!$L$2:$P$92,3,0)","v":50435.5},{"$f":"VLOOKUP($F111,mapping!$L$2:$P$92,4,0)","v":"Major Advanced Economies (G7)"},{"$f":"$D111*VLOOKUP($E111,'Charts data'!$A$2:$B$11,2,0)*VLOOKUP($G111,'Charts data'!$A$14:$B$18,2,0)/IF('Charts data'!$E$3=1,I111,1)/IF('Charts data'!$E$4=1,J111,1)","v":85552.452503638444}]
["ID0477",1250000,"CAD",{"$f":"B112*VLOOKUP(C112,tblXrate[],2,0)","v":1229201.9037879086},"Accountant","Canada","4 to 6",null,{"$f":"VLOOKUP(F112,mapping!$L$2:$P$92,2,0)","v":1.2105180348503324},{"$f":"VLOOKUP($F112,mapping!$L$2:$P$92,3,0)","v":50435.5},{"$f":"VLOOKUP($F112,mapping!$L$2:$P$92,4,0)","v":"Major Advanced Economies (G7)"},{"$f":"$D112*VLOOKUP($E112,'Charts data'!$A$2:$B$11,2,0)*VLOOKUP($G112,'Charts data'!$A$14:$B$18,2,0)/IF('Charts data'!$E$3=1,I112,1)/IF('Charts data'!$E$4=1,J112,1)","v":1229201.9037879086}]
["ID0489",46000,"CAD",{"$f":"B113*VLOOKUP(C113,tblXrate[],2,0)","v":45234.630059395036},"Analyst","Canada","8 Hrs",null,{"$f":"VLOOKUP(F113,mapping!$L$2:$P$92,2,0)","v":1.2105180348503324},{"$f":"VLOOKUP($F113,mapping!$L$2:$P$92,3,0)","v":50435.5},{"$f":"VLOOKUP($F113,mapping!$L$2:$P$92,4,0)","v":"Major Advanced Economies (G7)"},{"$f":"$D113*VLOOKUP($E113,'Charts data'!$A$2:$B$11,2,0)*VLOOKUP($G113,'Charts data'!$A$14:$B$18,2,0)/IF('Charts data'!$E$3=1,I113,1)/IF('Charts data'!$E$4=1,J113,1)","v":45234.630059395036}]
["ID0501",68500,"CAD",{"$f":"B114*VLOOKUP(C114,tblXrate[],2,0)","v":67360.264327577388},"Analyst","Canada","4 to 6",null,{"$f":"VLOOKUP(F114,mapping!$L$2:$P$92,2,0)","v":1.2105180348503324},{"$f":"VLOOKUP($F114,mapping!$L$2:$P$92,3,0)","v":50435.5},{"$f":"VLOOKUP($F114,mapping!$L$2:$P$92,4,0)","v":"Major Advanced Economies (G7)"},{"$f":"$D114*VLOOKUP($E114,'Charts data'!$A$2:$B$11,2,0)*VLOOKUP($G114,'Charts data'!$A$14:$B$18,2,0)/IF('Charts data'!$E$3=1,I114,1)/IF('Charts data'!$E$4=1,J114,1)","v":67360.264327577388}]
["ID0522",87550,"CAD",{"$f":"B115*VLOOKUP(C115,tblXrate[],2,0)","v":86093.301341305123},"Manager","Canada","4 to 6",null,{"$f":"VLOOKUP(F115,mapping!$L$2:$P$92,2,0)","v":1.2105180348503324},{"$f":"VLOOKUP($F115,mapping!$L$2:$P$92,3,0)","v":50435.5},{"$f":"VLOOKUP($F115,mapping!$L$2:$P$92,4,0)","v":"Major Advanced Economies (G7)"},{"$f":"$D115*VLOOKUP($E115,'Charts data'!$A$2:$B$11,2,0)*VLOOKUP($G115,'Charts data'!$A$14:$B$18,2,0)/IF('Charts data'!$E$3=1,I115,1)/IF('Charts data'!$E$4=1,J115,1)","v":86093.301341305123}]
["ID0620",250000,"CAD",{"$f":"B116*VLOOKUP(C116,tblXrate[],2,0)","v":245840.3807575817},"Analyst","Canada","4 to 6",32,{"$f":"VLOOKUP(F116,mapping!$L$2:$P$92,2,0)","v":1.2105180348503324},{"$f":"VLOOKUP($F116,mapping!$L$2:$P$92,3,0)","v":50435.5},{"$f":"VLOOKUP($F116,mapping!$L$2:$P$92,4,0)","v":"Major Advanced Economies (G7)"},{"$f":"$D116*VLOOKUP($E116,'Charts data'!$A$2:$B$11,2,0)*VLOOKUP($G116,'Charts data'!$A$14:$B$18,2,0)/IF('Charts data'!$E$3=1,I116,1)/IF('Charts data'!$E$4=1,J116,1)","v":245840.3807575817}]
["ID0642",55000,"CAD",{"$f":"B117*VLOOKUP(C117,tblXrate[],2,0)","v":54084.883766667976},"Manager","Canada","4 to 6",5,{"$f":"VLOOKUP(F117,mapping!$L$2:$P$92,2,0)","v":1.2105180348503324},{"$f":"VLOOKUP($F117,mapping!$L$2:$P$92,3,0)","v":50435.5},{"$f":"VLOOKUP($F117,mapping!$L$2:$P$92,4,0)","v":"Major Advanced Economies (G7)"},{"$f":"$D117*VLOOKUP($E117,'Charts data'!$A$2:$B$11,2,0)*VLOOKUP($G117,'Charts data'!$A$14:$B$18,2,0)/IF('Charts data'!$E$3=1,I117,1)/IF('Charts data'!$E$4=1,J117,1)","v":54084.883766667976}]
["ID0790",66000,"CAD",{"$f":"B118*VLOOKUP(C118,tblXrate[],2,0)","v":64901.860520001574},"Analyst","Canada","2 to 3",20,{"$f":"VLOOKUP(F118,mapping!$L$2:$P$92,2,0)","v":1.2105180348503324},{"$f":"VLOOKUP($F118,mapping!$L$2:$P$92,3,0)","v":50435.5},{"$f":"VLOOKUP($F118,mapping!$L$2:$P$92,4,0)","v":"Major Advanced Economies (G7)"},{"$f":"$D118*VLOOKUP($E118,'Charts data'!$A$2:$B$11,2,0)*VLOOKUP($G118,'Charts data'!$A$14:$B$18,2,0)/IF('Charts data'!$E$3=1,I118,1)/IF('Charts data'!$E$4=1,J118,1)","v":64901.860520001574}]
["ID0793",100000,"CAD",{"$f":"B119*VLOOKUP(C119,tblXrate[],2,0)","v":98336.152303032693},"CXO or Top Mgmt.","Canada","4 to 6",5,{"$f":"VLOOKUP(F119,mapping!$L$2:$P$92,2,0)","v":1.2105180348503324},{"$f":"VLOOKUP($F119,mapping!$L$2:$P$92,3,0)","v":50435.5},{"$f":"VLOOKUP($F119,mapping!$L$2:$P$92,4,0)","v":"Major Advanced Economies (G7)"},{"$f":"$D119*VLOOKUP($E119,'Charts data'!$A$2:$B$11,2,0)*VLOOKUP($G119,'Charts data'!$A$14:$B$18,2,0)/IF('Charts data'!$E$3=1,I119,1)/IF('Charts data'!$E$4=1,J119,1)","v":98336.152303032693}]
["ID0852",100000,"CAD",{"$f":"B120*VLOOKUP(C120,tblXrate[],2,0)","v":98336.152303032693},"Manager","Canada","2 to 3",10,{"$f":"VLOOKUP(F120,mapping!$L$2:$P$92,2,0)","v":1.2105180348503324},{"$f":"VLOOKUP($F120,mapping!$L$2:$P$92,3,0)","v":50435.5},{"$f":"VLOOKUP($F120,mapping!$L$2:$P$92,4,0)","v":"Major Advanced Economies (G7)"},{"$f":"$D120*VLOOKUP($E120,'Charts data'!$A$2:$B$11,2,0)*VLOOKUP($G120,'Charts data'!$A$14:$B$18,2,0)/IF('Charts data'!$E$3=1,I120,1)/IF('Charts data'!$E$4=1,J120,1)","v":98336.152303032693}]
["ID0996",35000,"CAD",{"$f":"B121*VLOOKUP(C121,tblXrate[],2,0)","v":34417.653306061438},"Analyst","Canada","8 Hrs",4,{"$f":"VLOOKUP(F121,mapping!$L$2:$P$92,2,0)","v":1.2105180348503324},{"$f":"VLOOKUP($F121,mapping!$L$2:$P$92,3,0)","v":50435.5},{"$f":"VLOOKUP($F121,mapping!$L$2:$P$92,4,0)","v":"Major Advanced Economies (G7)"},{"$f":"$D121*VLOOKUP($E121,'Charts data'!$A$2:$B$11,2,0)*VLOOKUP($G121,'Charts data'!$A$14:$B$18,2,0)/IF('Charts data'!$E$3=1,I121,1)/IF('Charts data'!$E$4=1,J121,1)","v":34417.653306061438}]
["ID1166",65000,"CAD",{"$f":"B122*VLOOKUP(C122,tblXrate[],2,0)","v":63918.498996971248},"Analyst","Canada","4 to 6",20,{"$f":"VLOOKUP(F122,mapping!$L$2:$P$92,2,0)","v":1.2105180348503324},{"$f":"VLOOKUP($F122,mapping!$L$2:$P$92,3,0)","v":50435.5},{"$f":"VLOOKUP($F122,mapping!$L$2:$P$92,4,0)","v":"Major Advanced Economies (G7)"},{"$f":"$D122*VLOOKUP($E122,'Charts data'!$A$2:$B$11,2,0)*VLOOKUP($G122,'Charts data'!$A$14:$B$18,2,0)/IF('Charts data'!$E$3=1,I122,1)/IF('Charts data'!$E$4=1,J122,1)","v":63918.498996971248}]
["ID1177",53000,"CAD",{"$f":"B123*VLOOKUP(C123,tblXrate[],2,0)","v":52118.160720607324},"Analyst","Canada","4 to 6",6,{"$f":"VLOOKUP(F123,mapping!$L$2:$P$92,2,0)","v":1.2105180348503324},{"$f":"VLOOKUP($F123,mapping!$L$2:$P$92,3,0)","v":50435.5},{"$f":"VLOOKUP($F123,mapping!$L$2:$P$92,4,0)","v":"Major Advanced Economies (G7)"},{"$f":"$D123*VLOOKUP($E123,'Charts data'!$A$2:$B$11,2,0)*VLOOKUP($G123,'Charts data'!$A$14:$B$18,2,0)/IF('Charts data'!$E$3=1,I123,1)/IF('Charts data'!$E$4=1,J123,1)","v":52118.160720607324}]
["ID1259",65000,"CAD",{"$f":"B124*VLOOKUP(C124,tblXrate[],2,0)","v":63918.498996971248},"Manager","Canada","2 to 3",15,{"$f":"VLOOKUP(F124,mapping!$L$2:$P$92,2,0)","v":1.2105180348503324},{"$f":"VLOOKUP($F124,mapping!$L$2:$P$92,3,0)","v":50435.5},{"$f":"VLOOKUP($F124,mapping!$L$2:$P$92,4,0)","v":"Major Advanced Economies (G7)"},{"$f":"$D124*VLOOKUP($E124,'Charts data'!$A$2:$B$11,2,0)*VLOOKUP($G124,'Charts data'!$A$14:$B$18,2,0)/IF('Charts data'!$E$3=1,I124,1)/IF('Charts data'!$E$4=1,J124,1)","v":63918.498996971248}]
["ID1531",50000,"CAD",{"$f":"B125*VLOOKUP(C125,tblXrate[],2,0)","v":49168.076151516347},"Analyst","Canada","4 to 6",3,{"$f":"VLOOKUP(F125,mapping!$L$2:$P$92,2,0)","v":1.2105180348503324},{"$f":"VLOOKUP($F125,mapping!$L$2:$P$92,3,0)","v":50435.5},{"$f":"VLOOKUP($F125,mapping!$L$2:$P$92,4,0)","v":"Major Advanced Economies (G7)"},{"$f":"$D125*VLOOKUP($E125,'Charts data'!$A$2:$B$11,2,0)*VLOOKUP($G125,'Charts data'!$A$14:$B$18,2,0)/IF('Charts data'!$E$3=1,I125,1)/IF('Charts data'!$E$4=1,J125,1)","v":49168.076151516347}]
["ID1559",74000,"CAD",{"$f":"B126*VLOOKUP(C126,tblXrate[],2,0)","v":72768.752704244194},"Analyst","Canada","4 to 6",10,{"$f":"VLOOKUP(F126,mapping!$L$2:$P$92,2,0)","v":1.2105180348503324},{"$f":"VLOOKUP($F126,mapping!$L$2:$P$92,3,0)","v":50435.5},{"$f":"VLOOKUP($F126,mapping!$L$2:$P$92,4,0)","v":"Major Advanced Economies (G7)"},{"$f":"$D126*VLOOKUP($E126,'Charts data'!$A$2:$B$11,2,0)*VLOOKUP($G126,'Charts data'!$A$14:$B$18,2,0)/IF('Charts data'!$E$3=1,I126,1)/IF('Charts data'!$E$4=1,J126,1)","v":72768.752704244194}]
["ID1582",80000,"CAD",{"$f":"B127*VLOOKUP(C127,tblXrate[],2,0)","v":78668.921842426149},"Analyst","Canada","4 to 6",7,{"$f":"VLOOKUP(F127,mapping!$L$2:$P$92,2,0)","v":1.2105180348503324},{"$f":"VLOOKUP($F127,mapping!$L$2:$P$92,3,0)","v":50435.5},{"$f":"VLOOKUP($F127,mapping!$L$2:$P$92,4,0)","v":"Major Advanced Economies (G7)"},{"$f":"$D127*VLOOKUP($E127,'Charts data'!$A$2:$B$11,2,0)*VLOOKUP($G127,'Charts data'!$A$14:$B$18,2,0)/IF('Charts data'!$E$3=1,I127,1)/IF('Charts data'!$E$4=1,J127,1)","v":78668.921842426149}]
["ID1644",50000,"CAD",{"$f":"B128*VLOOKUP(C128,tblXrate[],2,0)","v":49168.076151516347},"Analyst","Canada","4 to 6",5,{"$f":"VLOOKUP(F128,mapping!$L$2:$P$92,2,0)","v":1.2105180348503324},{"$f":"VLOOKUP($F128,mapping!$L$2:$P$92,3,0)","v":50435.5},{"$f":"VLOOKUP($F128,mapping!$L$2:$P$92,4,0)","v":"Major Advanced Economies (G7)"},{"$f":"$D128*VLOOKUP($E128,'Charts data'!$A$2:$B$11,2,0)*VLOOKUP($G128,'Charts data'!$A$14:$B$18,2,0)/IF('Charts data'!$E$3=1,I128,1)/IF('Charts data'!$E$4=1,J128,1)","v":49168.076151516347}]
["ID1666",56000,"CAD",{"$f":"B129*VLOOKUP(C129,tblXrate[],2,0)","v":55068.245289698301},"Consultant","Canada","8 Hrs",1,{"$f":"VLOOKUP(F129,mapping!$L$2:$P$92,2,0)","v":1.2105180348503324},{"$f":"VLOOKUP($F129,mapping!$L$2:$P$92,3,0)","v":50435.5},{"$f":"VLOOKUP($F129,mapping!$L$2:$P$92,4,0)","v":"Major Advanced Economies (G7)"},{"$f":"$D129*VLOOKUP($E129,'Charts data'!$A$2:$B$11,2,0)*VLOOKUP($G129,'Charts data'!$A$14:$B$18,2,0)/IF('Charts data'!$E$3=1,I129,1)/IF('Charts data'!$E$4=1,J129,1)","v":55068.245289698301}]
["ID1714",36000,"CAD",{"$f":"B130*VLOOKUP(C130,tblXrate[],2,0)","v":35401.014829091764},"Analyst","Canada","8 Hrs",2,{"$f":"VLOOKUP(F130,mapping!$L$2:$P$92,2,0)","v":1.2105180348503324},{"$f":"VLOOKUP($F130,mapping!$L$2:$P$92,3,0)","v":50435.5},{"$f":"VLOOKUP($F130,mapping!$L$2:$P$92,4,0)","v":"Major Advanced Economies (G7)"},{"$f":"$D130*VLOOKUP($E130,'Charts data'!$A$2:$B$11,2,0)*VLOOKUP($G130,'Charts data'!$A$14:$B$18,2,0)/IF('Charts data'!$E$3=1,I130,1)/IF('Charts data'!$E$4=1,J130,1)","v":35401.014829091764}]
["ID1730",134000,"CAD",{"$f":"B131*VLOOKUP(C131,tblXrate[],2,0)","v":131770.4440860638},"Accountant","Canada","8 Hrs",20,{"$f":"VLOOKUP(F131,mapping!$L$2:$P$92,2,0)","v":1.2105180348503324},{"$f":"VLOOKUP($F131,mapping!$L$2:$P$92,3,0)","v":50435.5},{"$f":"VLOOKUP($F131,mapping!$L$2:$P$92,4,0)","v":"Major Advanced Economies (G7)"},{"$f":"$D131*VLOOKUP($E131,'Charts data'!$A$2:$B$11,2,0)*VLOOKUP($G131,'Charts data'!$A$14:$B$18,2,0)/IF('Charts data'!$E$3=1,I131,1)/IF('Charts data'!$E$4=1,J131,1)","v":131770.4440860638}]
["ID1731",70000,"CAD",{"$f":"B132*VLOOKUP(C132,tblXrate[],2,0)","v":68835.306612122877},"Analyst","Canada","8 Hrs",2,{"$f":"VLOOKUP(F132,mapping!$L$2:$P$92,2,0)","v":1.2105180348503324},{"$f":"VLOOKUP($F132,mapping!$L$2:$P$92,3,0)","v":50435.5},{"$f":"VLOOKUP($F132,mapping!$L$2:$P$92,4,0)","v":"Major Advanced Economies (G7)"},{"$f":"$D132*VLOOKUP($E132,'Charts data'!$A$2:$B$11,2,0)*VLOOKUP($G132,'Charts data'!$A$14:$B$18,2,0)/IF('Charts data'!$E$3=1,I132,1)/IF('Charts data'!$E$4=1,J132,1)","v":68835.306612122877}]
["ID1800",40000,"CAD",{"$f":"B133*VLOOKUP(C133,tblXrate[],2,0)","v":39334.460921213074},"Analyst","Canada","1 or 2",1,{"$f":"VLOOKUP(F133,mapping!$L$2:$P$92,2,0)","v":1.2105180348503324},{"$f":"VLOOKUP($F133,mapping!$L$2:$P$92,3,0)","v":50435.5},{"$f":"VLOOKUP($F133,mapping!$L$2:$P$92,4,0)","v":"Major Advanced Economies (G7)"},{"$f":"$D133*VLOOKUP($E133,'Charts data'!$A$2:$B$11,2,0)*VLOOKUP($G133,'Charts data'!$A$14:$B$18,2,0)/IF('Charts data'!$E$3=1,I133,1)/IF('Charts data'!$E$4=1,J133,1)","v":39334.460921213074}]
["ID1805",78000,"CAD",{"$f":"B134*VLOOKUP(C134,tblXrate[],2,0)","v":76702.198796365497},"Analyst","Canada","8 Hrs",4,{"$f":"VLOOKUP(F134,mapping!$L$2:$P$92,2,0)","v":1.2105180348503324},{"$f":"VLOOKUP($F134,mapping!$L$2:$P$92,3,0)","v":50435.5},{"$f":"VLOOKUP($F134,mapping!$L$2:$P$92,4,0)","v":"Major Advanced Economies (G7)"},{"$f":"$D134*VLOOKUP($E134,'Charts data'!$A$2:$B$11,2,0)*VLOOKUP($G134,'Charts data'!$A$14:$B$18,2,0)/IF('Charts data'!$E$3=1,I134,1)/IF('Charts data'!$E$4=1,J134,1)","v":76702.198796365497}]
["ID1764",140000,"CHF",{"$f":"B135*VLOOKUP(C135,tblXrate[],2,0)","v":148102.22862117883},"Manager","Switzerland","2 to 3",6,{"$f":"VLOOKUP(F135,mapping!$L$2:$P$92,2,0)","v":1.7581850283457086},{"$f":"VLOOKUP($F135,mapping!$L$2:$P$92,3,0)","v":81160.62},{"$f":"VLOOKUP($F135,mapping!$L$2:$P$92,4,0)","v":"Other Advanced Economies"},{"$f":"$D135*VLOOKUP($E135,'Charts data'!$A$2:$B$11,2,0)*VLOOKUP($G135,'Charts data'!$A$14:$B$18,2,0)/IF('Charts data'!$E$3=1,I135,1)/IF('Charts data'!$E$4=1,J135,1)","v":148102.22862117883}]
["ID0593",96000,"CNY",{"$f":"B136*VLOOKUP(C136,tblXrate[],2,0)","v":15092.18020692008},"Accountant","china","4 to 6",10,{"$f":"VLOOKUP(F136,mapping!$L$2:$P$92,2,0)","v":0.65603820836955729},{"$f":"VLOOKUP($F136,mapping!$L$2:$P$92,3,0)","v":5413.57},{"$f":"VLOOKUP($F136,mapping!$L$2:$P$92,4,0)","v":"Developing Asia"},{"$f":"$D136*VLOOKUP($E136,'Charts data'!$A$2:$B$11,2,0)*VLOOKUP($G136,'Charts data'!$A$14:$B$18,2,0)/IF('Charts data'!$E$3=1,I136,1)/IF('Charts data'!$E$4=1,J136,1)","v":15092.18020692008}]
["ID0412",14000000,"COSTARICAN",{"$f":"B137*VLOOKUP(C137,tblXrate[],2,0)","v":28109.627547434993},"Analyst","Costa Rica","8 Hrs",null,{"$f":"VLOOKUP(F137,mapping!$L$2:$P$92,2,0)","v":0.75669310310209814},{"$f":"VLOOKUP($F137,mapping!$L$2:$P$92,3,0)","v":8876.59},{"$f":"VLOOKUP($F137,mapping!$L$2:$P$92,4,0)","v":"Latin America and the Caribbean"},{"$f":"$D137*VLOOKUP($E137,'Charts data'!$A$2:$B$11,2,0)*VLOOKUP($G137,'Charts data'!$A$14:$B$18,2,0)/IF('Charts data'!$E$3=1,I137,1)/IF('Charts data'!$E$4=1,J137,1)","v":28109.627547434993}]
["ID1213",625000,"DKK",{"$f":"B138*VLOOKUP(C138,tblXrate[],2,0)","v":106815.148267971},"Manager","Denmark","4 to 6",25,{"$f":"VLOOKUP(F138,mapping!$L$2:$P$92,2,0)","v":1.4800306944010062},{"$f":"VLOOKUP($F138,mapping!$L$2:$P$92,3,0)","v":59928.1},{"$f":"VLOOKUP($F138,mapping!$L$2:$P$92,4,0)","v":"Other Advanced Economies"},{"$f":"$D138*VLOOKUP($E138,'Charts data'!$A$2:$B$11,2,0)*VLOOKUP($G138,'Charts data'!$A$14:$B$18,2,0)/IF('Charts data'!$E$3=1,I138,1)/IF('Charts data'!$E$4=1,J138,1)","v":106815.148267971}]
["ID1247",450000,"DKK",{"$f":"B139*VLOOKUP(C139,tblXrate[],2,0)","v":76906.906752939132},"CXO or Top Mgmt.","Denmark","8 Hrs",17,{"$f":"VLOOKUP(F139,mapping!$L$2:$P$92,2,0)","v":1.4800306944010062},{"$f":"VLOOKUP($F139,mapping!$L$2:$P$92,3,0)","v":59928.1},{"$f":"VLOOKUP($F139,mapping!$L$2:$P$92,4,0)","v":"Other Advanced Economies"},{"$f":"$D139*VLOOKUP($E139,'Charts data'!$A$2:$B$11,2,0)*VLOOKUP($G139,'Charts data'!$A$14:$B$18,2,0)/IF('Charts data'!$E$3=1,I139,1)/IF('Charts data'!$E$4=1,J139,1)","v":76906.906752939132}]
["ID1638",485000,"DKK",{"$f":"B140*VLOOKUP(C140,tblXrate[],2,0)","v":82888.5550559455},"Controller","Denmark","4 to 6",18,{"$f":"VLOOKUP(F140,mapping!$L$2:$P$92,2,0)","v":1.4800306944010062},{"$f":"VLOOKUP($F140,mapping!$L$2:$P$92,3,0)","v":59928.1},{"$f":"VLOOKUP($F140,mapping!$L$2:$P$92,4,0)","v":"Other Advanced Economies"},{"$f":"$D140*VLOOKUP($E140,'Charts data'!$A$2:$B$11,2,0)*VLOOKUP($G140,'Charts data'!$A$14:$B$18,2,0)/IF('Charts data'!$E$3=1,I140,1)/IF('Charts data'!$E$4=1,J140,1)","v":82888.5550559455}]
["ID1890",600000,"DKK",{"$f":"B141*VLOOKUP(C141,tblXrate[],2,0)","v":102542.54233725216},"Engineer","Denmark","2 to 3",20,{"$f":"VLOOKUP(F141,mapping!$L$2:$P$92,2,0)","v":1.4800306944010062},{"$f":"VLOOKUP($F141,mapping!$L$2:$P$92,3,0)","v":59928.1},{"$f":"VLOOKUP($F141,mapping!$L$2:$P$92,4,0)","v":"Other Advanced Economies"},{"$f":"$D141*VLOOKUP($E141,'Charts data'!$A$2:$B$11,2,0)*VLOOKUP($G141,'Charts data'!$A$14:$B$18,2,0)/IF('Charts data'!$E$3=1,I141,1)/IF('Charts data'!$E$4=1,J141,1)","v":102542.54233725216}]
["ID1165",600000,"DOP",{"$f":"B142*VLOOKUP(C142,tblXrate[],2,0)","v":15404.364569961488},"Analyst","Dominican Republic","8 Hrs",3,{"$f":"VLOOKUP(F142,mapping!$L$2:$P$92,2,0)","v":0.59255455712451854},{"$f":"VLOOKUP($F142,mapping!$L$2:$P$92,3,0)","v":5638.69},{"$f":"VLOOKUP($F142,mapping!$L$2:$P$92,4,0)","v":"Latin America and the Caribbean"},{"$f":"$D142*VLOOKUP($E142,'Charts data'!$A$2:$B$11,2,0)*VLOOKUP($G142,'Charts data'!$A$14:$B$18,2,0)/IF('Charts data'!$E$3=1,I142,1)/IF('Charts data'!$E$4=1,J142,1)","v":15404.364569961488}]
["ID0740",120000,"EGYPT",{"$f":"B143*VLOOKUP(C143,tblXrate[],2,0)","v":19831.432821021317},"Analyst","Egypt","8 Hrs",5,{"$f":"VLOOKUP(F143,mapping!$L$2:$P$92,2,0)","v":0.43678730788299452},{"$f":"VLOOKUP($F143,mapping!$L$2:$P$92,3,0)","v":2970.4},{"$f":"VLOOKUP($F143,mapping!$L$2:$P$92,4,0)","v":"Middle East and North Africa"},{"$f":"$D143*VLOOKUP($E143,'Charts data'!$A$2:$B$11,2,0)*VLOOKUP($G143,'Charts data'!$A$14:$B$18,2,0)/IF('Charts data'!$E$3=1,I143,1)/IF('Charts data'!$E$4=1,J143,1)","v":19831.432821021317}]
["ID1904",52224,"ETB",{"$f":"B144*VLOOKUP(C144,tblXrate[],2,0)","v":2953.8461538461538},"Reporting","Ethiopia","4 to 6",3,{"$f":"VLOOKUP(F144,mapping!$L$2:$P$92,2,0)","v":0.30033936651583709},{"$f":"VLOOKUP($F144,mapping!$L$2:$P$92,3,0)","v":359.94600000000003},{"$f":"VLOOKUP($F144,mapping!$L$2:$P$92,4,0)","v":"Sub-Saharan Africa"},{"$f":"$D144*VLOOKUP($E144,'Charts data'!$A$2:$B$11,2,0)*VLOOKUP($G144,'Charts data'!$A$14:$B$18,2,0)/IF('Charts data'!$E$3=1,I144,1)/IF('Charts data'!$E$4=1,J144,1)","v":2953.8461538461538}]
["ID1358",40000,"EUR",{"$f":"B145*VLOOKUP(C145,tblXrate[],2,0)","v":50815.977559664309},"Manager","Austria","4 to 6",20,{"$f":"VLOOKUP(F145,mapping!$L$2:$P$92,2,0)","v":1.0874619197768163},{"$f":"VLOOKUP($F145,mapping!$L$2:$P$92,3,0)","v":49809.17},{"$f":"VLOOKUP($F145,mapping!$L$2:$P$92,4,0)","v":"Euro Area"},{"$f":"$D145*VLOOKUP($E145,'Charts data'!$A$2:$B$11,2,0)*VLOOKUP($G145,'Charts data'!$A$14:$B$18,2,0)/IF('Charts data'!$E$3=1,I145,1)/IF('Charts data'!$E$4=1,J145,1)","v":50815.977559664309}]
["ID0028",32400,"EUR",{"$f":"B146*VLOOKUP(C146,tblXrate[],2,0)","v":41160.941823328096},"Manager","Belgium","4 to 6",null,{"$f":"VLOOKUP(F146,mapping!$L$2:$P$92,2,0)","v":1.1344666990195058},{"$f":"VLOOKUP($F146,mapping!$L$2:$P$92,3,0)","v":46878.36},{"$f":"VLOOKUP($F146,mapping!$L$2:$P$92,4,0)","v":"Euro Area"},{"$f":"$D146*VLOOKUP($E146,'Charts data'!$A$2:$B$11,2,0)*VLOOKUP($G146,'Charts data'!$A$14:$B$18,2,0)/IF('Charts data'!$E$3=1,I146,1)/IF('Charts data'!$E$4=1,J146,1)","v":41160.941823328096}]
["ID1143",30000,"EUR",{"$f":"B147*VLOOKUP(C147,tblXrate[],2,0)","v":38111.983169748237},"Analyst","Belgium","1 or 2",15,{"$f":"VLOOKUP(F147,mapping!$L$2:$P$92,2,0)","v":1.1344666990195058},{"$f":"VLOOKUP($F147,mapping!$L$2:$P$92,3,0)","v":46878.36},{"$f":"VLOOKUP($F147,mapping!$L$2:$P$92,4,0)","v":"Euro Area"},{"$f":"$D147*VLOOKUP($E147,'Charts data'!$A$2:$B$11,2,0)*VLOOKUP($G147,'Charts data'!$A$14:$B$18,2,0)/IF('Charts data'!$E$3=1,I147,1)/IF('Charts data'!$E$4=1,J147,1)","v":38111.983169748237}]
["ID1298",30000,"EUR",{"$f":"B148*VLOOKUP(C148,tblXrate[],2,0)","v":38111.983169748237},"Analyst","Belgium","2 to 3",15,{"$f":"VLOOKUP(F148,mapping!$L$2:$P$92,2,0)","v":1.1344666990195058},{"$f":"VLOOKUP($F148,mapping!$L$2:$P$92,3,0)","v":46878.36},{"$f":"VLOOKUP($F148,mapping!$L$2:$P$92,4,0)","v":"Euro Area"},{"$f":"$D148*VLOOKUP($E148,'Charts data'!$A$2:$B$11,2,0)*VLOOKUP($G148,'Charts data'!$A$14:$B$18,2,0)/IF('Charts data'!$E$3=1,I148,1)/IF('Charts data'!$E$4=1,J148,1)","v":38111.983169748237}]
["ID1703",38920,"EUR",{"$f":"B149*VLOOKUP(C149,tblXrate[],2,0)","v":49443.946165553374},"Analyst","Belgium","4 to 6",1.5,{"$f":"VLOOKUP(F149,mapping!$L$2:$P$92,2,0)","v":1.1344666990195058},{"$f":"VLOOKUP($F149,mapping!$L$2:$P$92,3,0)","v":46878.36},{"$f":"VLOOKUP($F149,mapping!$L$2:$P$92,4,0)","v":"Euro Area"},{"$f":"$D149*VLOOKUP($E149,'Charts data'!$A$2:$B$11,2,0)*VLOOKUP($G149,'Charts data'!$A$14:$B$18,2,0)/IF('Charts data'!$E$3=1,I149,1)/IF('Charts data'!$E$4=1,J149,1)","v":49443.946165553374}]
["ID1782",72000,"EUR",{"$f":"B150*VLOOKUP(C150,tblXrate[],2,0)","v":91468.759607395754},"Manager","Croatia","1 or 2",3,{"$f":"VLOOKUP(F150,mapping!$L$2:$P$92,2,0)","v":5.3953864173973578},{"$f":"VLOOKUP($F150,mapping!$L$2:$P$92,3,0)","v":14456.97},{"$f":"VLOOKUP($F150,mapping!$L$2:$P$92,4,0)","v":"Central and Eastern Europe"},{"$f":"$D150*VLOOKUP($E150,'Charts data'!$A$2:$B$11,2,0)*VLOOKUP($G150,'Charts data'!$A$14:$B$18,2,0)/IF('Charts data'!$E$3=1,I150,1)/IF('Charts data'!$E$4=1,J150,1)","v":91468.759607395754}]
["ID0426",70800,"EUR",{"$f":"B151*VLOOKUP(C151,tblXrate[],2,0)","v":89944.280280605832},"Analyst","Finland","8 Hrs",null,{"$f":"VLOOKUP(F151,mapping!$L$2:$P$92,2,0)","v":1.2437210507727838},{"$f":"VLOOKUP($F151,mapping!$L$2:$P$92,3,0)","v":49349.52},{"$f":"VLOOKUP($F151,mapping!$L$2:$P$92,4,0)","v":"Euro Area"},{"$f":"$D151*VLOOKUP($E151,'Charts data'!$A$2:$B$11,2,0)*VLOOKUP($G151,'Charts data'!$A$14:$B$18,2,0)/IF('Charts data'!$E$3=1,I151,1)/IF('Charts data'!$E$4=1,J151,1)","v":89944.280280605832}]
["ID1126",60000,"EUR",{"$f":"B152*VLOOKUP(C152,tblXrate[],2,0)","v":76223.966339496474},"Manager","Finland","1 or 2",4,{"$f":"VLOOKUP(F152,mapping!$L$2:$P$92,2,0)","v":1.2437210507727838},{"$f":"VLOOKUP($F152,mapping!$L$2:$P$92,3,0)","v":49349.52},{"$f":"VLOOKUP($F152,mapping!$L$2:$P$92,4,0)","v":"Euro Area"},{"$f":"$D152*VLOOKUP($E152,'Charts data'!$A$2:$B$11,2,0)*VLOOKUP($G152,'Charts data'!$A$14:$B$18,2,0)/IF('Charts data'!$E$3=1,I152,1)/IF('Charts data'!$E$4=1,J152,1)","v":76223.966339496474}]
["ID0058",49000,"EUR",{"$f":"B153*VLOOKUP(C153,tblXrate[],2,0)","v":62249.572510588783},"Manager","France","2 to 3",null,{"$f":"VLOOKUP(F153,mapping!$L$2:$P$92,2,0)","v":1.1433594950924471},{"$f":"VLOOKUP($F153,mapping!$L$2:$P$92,3,0)","v":44008.18},{"$f":"VLOOKUP($F153,mapping!$L$2:$P$92,4,0)","v":"Major Advanced Economies (G7)"},{"$f":"$D153*VLOOKUP($E153,'Charts data'!$A$2:$B$11,2,0)*VLOOKUP($G153,'Charts data'!$A$14:$B$18,2,0)/IF('Charts data'!$E$3=1,I153,1)/IF('Charts data'!$E$4=1,J153,1)","v":62249.572510588783}]
["ID0064",43000,"EUR",{"$f":"B154*VLOOKUP(C154,tblXrate[],2,0)","v":54627.175876639136},"Consultant","France","4 to 6",null,{"$f":"VLOOKUP(F154,mapping!$L$2:$P$92,2,0)","v":1.1433594950924471},{"$f":"VLOOKUP($F154,mapping!$L$2:$P$92,3,0)","v":44008.18},{"$f":"VLOOKUP($F154,mapping!$L$2:$P$92,4,0)","v":"Major Advanced Economies (G7)"},{"$f":"$D154*VLOOKUP($E154,'Charts data'!$A$2:$B$11,2,0)*VLOOKUP($G154,'Charts data'!$A$14:$B$18,2,0)/IF('Charts data'!$E$3=1,I154,1)/IF('Charts data'!$E$4=1,J154,1)","v":54627.175876639136}]
["ID0944",63200,"EUR",{"$f":"B155*VLOOKUP(C155,tblXrate[],2,0)","v":80289.244544269619},"Consultant","France","4 to 6",3,{"$f":"VLOOKUP(F155,mapping!$L$2:$P$92,2,0)","v":1.1433594950924471},{"$f":"VLOOKUP($F155,mapping!$L$2:$P$92,3,0)","v":44008.18},{"$f":"VLOOKUP($F155,mapping!$L$2:$P$92,4,0)","v":"Major Advanced Economies (G7)"},{"$f":"$D155*VLOOKUP($E155,'Charts data'!$A$2:$B$11,2,0)*VLOOKUP($G155,'Charts data'!$A$14:$B$18,2,0)/IF('Charts data'!$E$3=1,I155,1)/IF('Charts data'!$E$4=1,J155,1)","v":80289.244544269619}]
["ID1322",43000,"EUR",{"$f":"B156*VLOOKUP(C156,tblXrate[],2,0)","v":54627.175876639136},"Manager","France","8 Hrs",7,{"$f":"VLOOKUP(F156,mapping!$L$2:$P$92,2,0)","v":1.1433594950924471},{"$f":"VLOOKUP($F156,mapping!$L$2:$P$92,3,0)","v":44008.18},{"$f":"VLOOKUP($F156,mapping!$L$2:$P$92,4,0)","v":"Major Advanced Economies (G7)"},{"$f":"$D156*VLOOKUP($E156,'Charts data'!$A$2:$B$11,2,0)*VLOOKUP($G156,'Charts data'!$A$14:$B$18,2,0)/IF('Charts data'!$E$3=1,I156,1)/IF('Charts data'!$E$4=1,J156,1)","v":54627.175876639136}]
["ID1691",33000,"EUR",{"$f":"B157*VLOOKUP(C157,tblXrate[],2,0)","v":41923.181486723057},"Analyst","France","4 to 6",6,{"$f":"VLOOKUP(F157,mapping!$L$2:$P$92,2,0)","v":1.1433594950924471},{"$f":"VLOOKUP($F157,mapping!$L$2:$P$92,3,0)","v":44008.18},{"$f":"VLOOKUP($F157,mapping!$L$2:$P$92,4,0)","v":"Major Advanced Economies (G7)"},{"$f":"$D157*VLOOKUP($E157,'Charts data'!$A$2:$B$11,2,0)*VLOOKUP($G157,'Charts data'!$A$14:$B$18,2,0)/IF('Charts data'!$E$3=1,I157,1)/IF('Charts data'!$E$4=1,J157,1)","v":41923.181486723057}]
["ID0007",145000,"EUR",{"$f":"B158*VLOOKUP(C158,tblXrate[],2,0)","v":184207.91865378313},"Manager","Germany","1 or 2",null,{"$f":"VLOOKUP(F158,mapping!$L$2:$P$92,2,0)","v":1.0544315343630344},{"$f":"VLOOKUP($F158,mapping!$L$2:$P$92,3,0)","v":43741.55},{"$f":"VLOOKUP($F158,mapping!$L$2:$P$92,4,0)","v":"Major Advanced Economies (G7)"},{"$f":"$D158*VLOOKUP($E158,'Charts data'!$A$2:$B$11,2,0)*VLOOKUP($G158,'Charts data'!$A$14:$B$18,2,0)/IF('Charts data'!$E$3=1,I158,1)/IF('Charts data'!$E$4=1,J158,1)","v":184207.91865378313}]
["ID0053",24000,"EUR",{"$f":"B159*VLOOKUP(C159,tblXrate[],2,0)","v":30489.586535798586},"Manager","Germany","8 Hrs",null,{"$f":"VLOOKUP(F159,mapping!$L$2:$P$92,2,0)","v":1.0544315343630344},{"$f":"VLOOKUP($F159,mapping!$L$2:$P$92,3,0)","v":43741.55},{"$f":"VLOOKUP($F159,mapping!$L$2:$P$92,4,0)","v":"Major Advanced Economies (G7)"},{"$f":"$D159*VLOOKUP($E159,'Charts data'!$A$2:$B$11,2,0)*VLOOKUP($G159,'Charts data'!$A$14:$B$18,2,0)/IF('Charts data'!$E$3=1,I159,1)/IF('Charts data'!$E$4=1,J159,1)","v":30489.586535798586}]
["ID0305",65000,"EUR",{"$f":"B160*VLOOKUP(C160,tblXrate[],2,0)","v":82575.963534454509},"Controller","Germany","8 Hrs",null,{"$f":"VLOOKUP(F160,mapping!$L$2:$P$92,2,0)","v":1.0544315343630344},{"$f":"VLOOKUP($F160,mapping!$L$2:$P$92,3,0)","v":43741.55},{"$f":"VLOOKUP($F160,mapping!$L$2:$P$92,4,0)","v":"Major Advanced Economies (G7)"},{"$f":"$D160*VLOOKUP($E160,'Charts data'!$A$2:$B$11,2,0)*VLOOKUP($G160,'Charts data'!$A$14:$B$18,2,0)/IF('Charts data'!$E$3=1,I160,1)/IF('Charts data'!$E$4=1,J160,1)","v":82575.963534454509}]
["ID0595",50000,"EUR",{"$f":"B161*VLOOKUP(C161,tblXrate[],2,0)","v":63519.971949580387},"Analyst","Germany","2 to 3",4,{"$f":"VLOOKUP(F161,mapping!$L$2:$P$92,2,0)","v":1.0544315343630344},{"$f":"VLOOKUP($F161,mapping!$L$2:$P$92,3,0)","v":43741.55},{"$f":"VLOOKUP($F161,mapping!$L$2:$P$92,4,0)","v":"Major Advanced Economies (G7)"},{"$f":"$D161*VLOOKUP($E161,'Charts data'!$A$2:$B$11,2,0)*VLOOKUP($G161,'Charts data'!$A$14:$B$18,2,0)/IF('Charts data'!$E$3=1,I161,1)/IF('Charts data'!$E$4=1,J161,1)","v":63519.971949580387}]
["ID0743",66000,"EUR",{"$f":"B162*VLOOKUP(C162,tblXrate[],2,0)","v":83846.362973446114},"Analyst","Germany","4 to 6",7,{"$f":"VLOOKUP(F162,mapping!$L$2:$P$92,2,0)","v":1.0544315343630344},{"$f":"VLOOKUP($F162,mapping!$L$2:$P$92,3,0)","v":43741.55},{"$f":"VLOOKUP($F162,mapping!$L$2:$P$92,4,0)","v":"Major Advanced Economies (G7)"},{"$f":"$D162*VLOOKUP($E162,'Charts data'!$A$2:$B$11,2,0)*VLOOKUP($G162,'Charts data'!$A$14:$B$18,2,0)/IF('Charts data'!$E$3=1,I162,1)/IF('Charts data'!$E$4=1,J162,1)","v":83846.362973446114}]
["ID0951",42000,"EUR",{"$f":"B163*VLOOKUP(C163,tblXrate[],2,0)","v":53356.776437647524},"Consultant","Germany","2 to 3",3,{"$f":"VLOOKUP(F163,mapping!$L$2:$P$92,2,0)","v":1.0544315343630344},{"$f":"VLOOKUP($F163,mapping!$L$2:$P$92,3,0)","v":43741.55},{"$f":"VLOOKUP($F163,mapping!$L$2:$P$92,4,0)","v":"Major Advanced Economies (G7)"},{"$f":"$D163*VLOOKUP($E163,'Charts data'!$A$2:$B$11,2,0)*VLOOKUP($G163,'Charts data'!$A$14:$B$18,2,0)/IF('Charts data'!$E$3=1,I163,1)/IF('Charts data'!$E$4=1,J163,1)","v":53356.776437647524}]
["ID1242",71000,"EUR",{"$f":"B164*VLOOKUP(C164,tblXrate[],2,0)","v":90198.36016840415},"Consultant","Germany","1 or 2",3,{"$f":"VLOOKUP(F164,mapping!$L$2:$P$92,2,0)","v":1.0544315343630344},{"$f":"VLOOKUP($F164,mapping!$L$2:$P$92,3,0)","v":43741.55},{"$f":"VLOOKUP($F164,mapping!$L$2:$P$92,4,0)","v":"Major Advanced Economies (G7)"},{"$f":"$D164*VLOOKUP($E164,'Charts data'!$A$2:$B$11,2,0)*VLOOKUP($G164,'Charts data'!$A$14:$B$18,2,0)/IF('Charts data'!$E$3=1,I164,1)/IF('Charts data'!$E$4=1,J164,1)","v":90198.36016840415}]
["ID1320",139000,"EUR",{"$f":"B165*VLOOKUP(C165,tblXrate[],2,0)","v":176585.52201983347},"Manager","Germany","1 or 2",25,{"$f":"VLOOKUP(F165,mapping!$L$2:$P$92,2,0)","v":1.0544315343630344},{"$f":"VLOOKUP($F165,mapping!$L$2:$P$92,3,0)","v":43741.55},{"$f":"VLOOKUP($F165,mapping!$L$2:$P$92,4,0)","v":"Major Advanced Economies (G7)"},{"$f":"$D165*VLOOKUP($E165,'Charts data'!$A$2:$B$11,2,0)*VLOOKUP($G165,'Charts data'!$A$14:$B$18,2,0)/IF('Charts data'!$E$3=1,I165,1)/IF('Charts data'!$E$4=1,J165,1)","v":176585.52201983347}]
["ID1367",45000,"EUR",{"$f":"B166*VLOOKUP(C166,tblXrate[],2,0)","v":57167.974754622352},"Controller","Germany","4 to 6",12,{"$f":"VLOOKUP(F166,mapping!$L$2:$P$92,2,0)","v":1.0544315343630344},{"$f":"VLOOKUP($F166,mapping!$L$2:$P$92,3,0)","v":43741.55},{"$f":"VLOOKUP($F166,mapping!$L$2:$P$92,4,0)","v":"Major Advanced Economies (G7)"},{"$f":"$D166*VLOOKUP($E166,'Charts data'!$A$2:$B$11,2,0)*VLOOKUP($G166,'Charts data'!$A$14:$B$18,2,0)/IF('Charts data'!$E$3=1,I166,1)/IF('Charts data'!$E$4=1,J166,1)","v":57167.974754622352}]
["ID1495",42000,"EUR",{"$f":"B167*VLOOKUP(C167,tblXrate[],2,0)","v":53356.776437647524},"Consultant","Germany","8 Hrs",7,{"$f":"VLOOKUP(F167,mapping!$L$2:$P$92,2,0)","v":1.0544315343630344},{"$f":"VLOOKUP($F167,mapping!$L$2:$P$92,3,0)","v":43741.55},{"$f":"VLOOKUP($F167,mapping!$L$2:$P$92,4,0)","v":"Major Advanced Economies (G7)"},{"$f":"$D167*VLOOKUP($E167,'Charts data'!$A$2:$B$11,2,0)*VLOOKUP($G167,'Charts data'!$A$14:$B$18,2,0)/IF('Charts data'!$E$3=1,I167,1)/IF('Charts data'!$E$4=1,J167,1)","v":53356.776437647524}]
["ID1500",33500,"EUR",{"$f":"B168*VLOOKUP(C168,tblXrate[],2,0)","v":42558.381206218859},"Controller","Germany","8 Hrs",8,{"$f":"VLOOKUP(F168,mapping!$L$2:$P$92,2,0)","v":1.0544315343630344},{"$f":"VLOOKUP($F168,mapping!$L$2:$P$92,3,0)","v":43741.55},{"$f":"VLOOKUP($F168,mapping!$L$2:$P$92,4,0)","v":"Major Advanced Economies (G7)"},{"$f":"$D168*VLOOKUP($E168,'Charts data'!$A$2:$B$11,2,0)*VLOOKUP($G168,'Charts data'!$A$14:$B$18,2,0)/IF('Charts data'!$E$3=1,I168,1)/IF('Charts data'!$E$4=1,J168,1)","v":42558.381206218859}]
["ID1563",70000,"EUR",{"$f":"B169*VLOOKUP(C169,tblXrate[],2,0)","v":88927.960729412545},"Specialist","Germany","1 or 2",5,{"$f":"VLOOKUP(F169,mapping!$L$2:$P$92,2,0)","v":1.0544315343630344},{"$f":"VLOOKUP($F169,mapping!$L$2:$P$92,3,0)","v":43741.55},{"$f":"VLOOKUP($F169,mapping!$L$2:$P$92,4,0)","v":"Major Advanced Economies (G7)"},{"$f":"$D169*VLOOKUP($E169,'Charts data'!$A$2:$B$11,2,0)*VLOOKUP($G169,'Charts data'!$A$14:$B$18,2,0)/IF('Charts data'!$E$3=1,I169,1)/IF('Charts data'!$E$4=1,J169,1)","v":88927.960729412545}]
["ID1699",40000,"EUR",{"$f":"B170*VLOOKUP(C170,tblXrate[],2,0)","v":50815.977559664309},"Analyst","Germany","2 to 3",3,{"$f":"VLOOKUP(F170,mapping!$L$2:$P$92,2,0)","v":1.0544315343630344},{"$f":"VLOOKUP($F170,mapping!$L$2:$P$92,3,0)","v":43741.55},{"$f":"VLOOKUP($F170,mapping!$L$2:$P$92,4,0)","v":"Major Advanced Economies (G7)"},{"$f":"$D170*VLOOKUP($E170,'Charts data'!$A$2:$B$11,2,0)*VLOOKUP($G170,'Charts data'!$A$14:$B$18,2,0)/IF('Charts data'!$E$3=1,I170,1)/IF('Charts data'!$E$4=1,J170,1)","v":50815.977559664309}]
["ID1889",60000,"EUR",{"$f":"B171*VLOOKUP(C171,tblXrate[],2,0)","v":76223.966339496474},"Manager","Germany","4 to 6",6,{"$f":"VLOOKUP(F171,mapping!$L$2:$P$92,2,0)","v":1.0544315343630344},{"$f":"VLOOKUP($F171,mapping!$L$2:$P$92,3,0)","v":43741.55},{"$f":"VLOOKUP($F171,mapping!$L$2:$P$92,4,0)","v":"Major Advanced Economies (G7)"},{"$f":"$D171*VLOOKUP($E171,'Charts data'!$A$2:$B$11,2,0)*VLOOKUP($G171,'Charts data'!$A$14:$B$18,2,0)/IF('Charts data'!$E$3=1,I171,1)/IF('Charts data'!$E$4=1,J171,1)","v":76223.966339496474}]
["ID0109",35000,"EUR",{"$f":"B172*VLOOKUP(C172,tblXrate[],2,0)","v":44463.980364706273},"Manager","Greece","4 to 6",null,{"$f":"VLOOKUP(F172,mapping!$L$2:$P$92,2,0)","v":0.94009558485378975},{"$f":"VLOOKUP($F172,mapping!$L$2:$P$92,3,0)","v":27073.41},{"$f":"VLOOKUP($F172,mapping!$L$2:$P$92,4,0)","v":"Euro Area"},{"$f":"$D172*VLOOKUP($E172,'Charts data'!$A$2:$B$11,2,0)*VLOOKUP($G172,'Charts data'!$A$14:$B$18,2,0)/IF('Charts data'!$E$3=1,I172,1)/IF('Charts data'!$E$4=1,J172,1)","v":44463.980364706273}]
["ID1057",16000,"EUR",{"$f":"B173*VLOOKUP(C173,tblXrate[],2,0)","v":20326.391023865726},"Manager","Greece","8 Hrs",16,{"$f":"VLOOKUP(F173,mapping!$L$2:$P$92,2,0)","v":0.94009558485378975},{"$f":"VLOOKUP($F173,mapping!$L$2:$P$92,3,0)","v":27073.41},{"$f":"VLOOKUP($F173,mapping!$L$2:$P$92,4,0)","v":"Euro Area"},{"$f":"$D173*VLOOKUP($E173,'Charts data'!$A$2:$B$11,2,0)*VLOOKUP($G173,'Charts data'!$A$14:$B$18,2,0)/IF('Charts data'!$E$3=1,I173,1)/IF('Charts data'!$E$4=1,J173,1)","v":20326.391023865726}]
["ID1208",20000,"EUR",{"$f":"B174*VLOOKUP(C174,tblXrate[],2,0)","v":25407.988779832154},"Manager","Greece","1 or 2",12,{"$f":"VLOOKUP(F174,mapping!$L$2:$P$92,2,0)","v":0.94009558485378975},{"$f":"VLOOKUP($F174,mapping!$L$2:$P$92,3,0)","v":27073.41},{"$f":"VLOOKUP($F174,mapping!$L$2:$P$92,4,0)","v":"Euro Area"},{"$f":"$D174*VLOOKUP($E174,'Charts data'!$A$2:$B$11,2,0)*VLOOKUP($G174,'Charts data'!$A$14:$B$18,2,0)/IF('Charts data'!$E$3=1,I174,1)/IF('Charts data'!$E$4=1,J174,1)","v":25407.988779832154}]
["ID1353",9067,"EUR",{"$f":"B175*VLOOKUP(C175,tblXrate[],2,0)","v":11518.711713336908},"Analyst","Hungary","2 to 3",3,{"$f":"VLOOKUP(F175,mapping!$L$2:$P$92,2,0)","v":182.82191286584327},{"$f":"VLOOKUP($F175,mapping!$L$2:$P$92,3,0)","v":14050.01},{"$f":"VLOOKUP($F175,mapping!$L$2:$P$92,4,0)","v":"Central and Eastern Europe"},{"$f":"$D175*VLOOKUP($E175,'Charts data'!$A$2:$B$11,2,0)*VLOOKUP($G175,'Charts data'!$A$14:$B$18,2,0)/IF('Charts data'!$E$3=1,I175,1)/IF('Charts data'!$E$4=1,J175,1)","v":11518.711713336908}]
["ID1609",27600,"EUR",{"$f":"B176*VLOOKUP(C176,tblXrate[],2,0)","v":35063.024516168378},"Controller","Hungary","8 Hrs",15,{"$f":"VLOOKUP(F176,mapping!$L$2:$P$92,2,0)","v":182.82191286584327},{"$f":"VLOOKUP($F176,mapping!$L$2:$P$92,3,0)","v":14050.01},{"$f":"VLOOKUP($F176,mapping!$L$2:$P$92,4,0)","v":"Central and Eastern Europe"},{"$f":"$D176*VLOOKUP($E176,'Charts data'!$A$2:$B$11,2,0)*VLOOKUP($G176,'Charts data'!$A$14:$B$18,2,0)/IF('Charts data'!$E$3=1,I176,1)/IF('Charts data'!$E$4=1,J176,1)","v":35063.024516168378}]
["ID0011",51650,"EUR",{"$f":"B177*VLOOKUP(C177,tblXrate[],2,0)","v":65616.131023916547},"Specialist","Ireland","2 to 3",null,{"$f":"VLOOKUP(F177,mapping!$L$2:$P$92,2,0)","v":1.0938139169717742},{"$f":"VLOOKUP($F177,mapping!$L$2:$P$92,3,0)","v":47512.83},{"$f":"VLOOKUP($F177,mapping!$L$2:$P$92,4,0)","v":"Euro Area"},{"$f":"$D177*VLOOKUP($E177,'Charts data'!$A$2:$B$11,2,0)*VLOOKUP($G177,'Charts data'!$A$14:$B$18,2,0)/IF('Charts data'!$E$3=1,I177,1)/IF('Charts data'!$E$4=1,J177,1)","v":65616.131023916547}]
["ID0208",50000,"EUR",{"$f":"B178*VLOOKUP(C178,tblXrate[],2,0)","v":63519.971949580387},"Analyst","Ireland","4 to 6",null,{"$f":"VLOOKUP(F178,mapping!$L$2:$P$92,2,0)","v":1.0938139169717742},{"$f":"VLOOKUP($F178,mapping!$L$2:$P$92,3,0)","v":47512.83},{"$f":"VLOOKUP($F178,mapping!$L$2:$P$92,4,0)","v":"Euro Area"},{"$f":"$D178*VLOOKUP($E178,'Charts data'!$A$2:$B$11,2,0)*VLOOKUP($G178,'Charts data'!$A$14:$B$18,2,0)/IF('Charts data'!$E$3=1,I178,1)/IF('Charts data'!$E$4=1,J178,1)","v":63519.971949580387}]
["ID1150",70000,"EUR",{"$f":"B179*VLOOKUP(C179,tblXrate[],2,0)","v":88927.960729412545},"Consultant","Ireland","2 to 3",20,{"$f":"VLOOKUP(F179,mapping!$L$2:$P$92,2,0)","v":1.0938139169717742},{"$f":"VLOOKUP($F179,mapping!$L$2:$P$92,3,0)","v":47512.83},{"$f":"VLOOKUP($F179,mapping!$L$2:$P$92,4,0)","v":"Euro Area"},{"$f":"$D179*VLOOKUP($E179,'Charts data'!$A$2:$B$11,2,0)*VLOOKUP($G179,'Charts data'!$A$14:$B$18,2,0)/IF('Charts data'!$E$3=1,I179,1)/IF('Charts data'!$E$4=1,J179,1)","v":88927.960729412545}]
["ID1238",35000,"EUR",{"$f":"B180*VLOOKUP(C180,tblXrate[],2,0)","v":44463.980364706273},"Analyst","Ireland","8 Hrs",12,{"$f":"VLOOKUP(F180,mapping!$L$2:$P$92,2,0)","v":1.0938139169717742},{"$f":"VLOOKUP($F180,mapping!$L$2:$P$92,3,0)","v":47512.83},{"$f":"VLOOKUP($F180,mapping!$L$2:$P$92,4,0)","v":"Euro Area"},{"$f":"$D180*VLOOKUP($E180,'Charts data'!$A$2:$B$11,2,0)*VLOOKUP($G180,'Charts data'!$A$14:$B$18,2,0)/IF('Charts data'!$E$3=1,I180,1)/IF('Charts data'!$E$4=1,J180,1)","v":44463.980364706273}]
["ID1411",36000,"EUR",{"$f":"B181*VLOOKUP(C181,tblXrate[],2,0)","v":45734.379803697877},"Analyst","Ireland","2 to 3",4,{"$f":"VLOOKUP(F181,mapping!$L$2:$P$92,2,0)","v":1.0938139169717742},{"$f":"VLOOKUP($F181,mapping!$L$2:$P$92,3,0)","v":47512.83},{"$f":"VLOOKUP($F181,mapping!$L$2:$P$92,4,0)","v":"Euro Area"},{"$f":"$D181*VLOOKUP($E181,'Charts data'!$A$2:$B$11,2,0)*VLOOKUP($G181,'Charts data'!$A$14:$B$18,2,0)/IF('Charts data'!$E$3=1,I181,1)/IF('Charts data'!$E$4=1,J181,1)","v":45734.379803697877}]
["ID0778",55000,"EUR",{"$f":"B182*VLOOKUP(C182,tblXrate[],2,0)","v":69871.969144538423},"CXO or Top Mgmt.","italy","2 to 3",18,{"$f":"VLOOKUP(F182,mapping!$L$2:$P$92,2,0)","v":1.0874619197768163},{"$f":"VLOOKUP($F182,mapping!$L$2:$P$92,3,0)","v":36266.85},{"$f":"VLOOKUP($F182,mapping!$L$2:$P$92,4,0)","v":"Major Advanced Economies (G7)"},{"$f":"$D182*VLOOKUP($E182,'Charts data'!$A$2:$B$11,2,0)*VLOOKUP($G182,'Charts data'!$A$14:$B$18,2,0)/IF('Charts data'!$E$3=1,I182,1)/IF('Charts data'!$E$4=1,J182,1)","v":69871.969144538423}]
["ID1201",15000,"EUR",{"$f":"B183*VLOOKUP(C183,tblXrate[],2,0)","v":19055.991584874118},"Consultant","italy","4 to 6",3,{"$f":"VLOOKUP(F183,mapping!$L$2:$P$92,2,0)","v":1.0874619197768163},{"$f":"VLOOKUP($F183,mapping!$L$2:$P$92,3,0)","v":36266.85},{"$f":"VLOOKUP($F183,mapping!$L$2:$P$92,4,0)","v":"Major Advanced Economies (G7)"},{"$f":"$D183*VLOOKUP($E183,'Charts data'!$A$2:$B$11,2,0)*VLOOKUP($G183,'Charts data'!$A$14:$B$18,2,0)/IF('Charts data'!$E$3=1,I183,1)/IF('Charts data'!$E$4=1,J183,1)","v":19055.991584874118}]
["ID1323",24000,"EUR",{"$f":"B184*VLOOKUP(C184,tblXrate[],2,0)","v":30489.586535798586},"Controller","italy","4 to 6",10,{"$f":"VLOOKUP(F184,mapping!$L$2:$P$92,2,0)","v":1.0874619197768163},{"$f":"VLOOKUP($F184,mapping!$L$2:$P$92,3,0)","v":36266.85},{"$f":"VLOOKUP($F184,mapping!$L$2:$P$92,4,0)","v":"Major Advanced Economies (G7)"},{"$f":"$D184*VLOOKUP($E184,'Charts data'!$A$2:$B$11,2,0)*VLOOKUP($G184,'Charts data'!$A$14:$B$18,2,0)/IF('Charts data'!$E$3=1,I184,1)/IF('Charts data'!$E$4=1,J184,1)","v":30489.586535798586}]
["ID1485",60000,"EUR",{"$f":"B185*VLOOKUP(C185,tblXrate[],2,0)","v":76223.966339496474},"Analyst","italy","8 Hrs",14,{"$f":"VLOOKUP(F185,mapping!$L$2:$P$92,2,0)","v":1.0874619197768163},{"$f":"VLOOKUP($F185,mapping!$L$2:$P$92,3,0)","v":36266.85},{"$f":"VLOOKUP($F185,mapping!$L$2:$P$92,4,0)","v":"Major Advanced Economies (G7)"},{"$f":"$D185*VLOOKUP($E185,'Charts data'!$A$2:$B$11,2,0)*VLOOKUP($G185,'Charts data'!$A$14:$B$18,2,0)/IF('Charts data'!$E$3=1,I185,1)/IF('Charts data'!$E$4=1,J185,1)","v":76223.966339496474}]
["ID1508",50000,"EUR",{"$f":"B186*VLOOKUP(C186,tblXrate[],2,0)","v":63519.971949580387},"Accountant","italy","8 Hrs",15,{"$f":"VLOOKUP(F186,mapping!$L$2:$P$92,2,0)","v":1.0874619197768163},{"$f":"VLOOKUP($F186,mapping!$L$2:$P$92,3,0)","v":36266.85},{"$f":"VLOOKUP($F186,mapping!$L$2:$P$92,4,0)","v":"Major Advanced Economies (G7)"},{"$f":"$D186*VLOOKUP($E186,'Charts data'!$A$2:$B$11,2,0)*VLOOKUP($G186,'Charts data'!$A$14:$B$18,2,0)/IF('Charts data'!$E$3=1,I186,1)/IF('Charts data'!$E$4=1,J186,1)","v":63519.971949580387}]
["ID1829",19200,"EUR",{"$f":"B187*VLOOKUP(C187,tblXrate[],2,0)","v":24391.669228638868},"Analyst","italy","4 to 6",10,{"$f":"VLOOKUP(F187,mapping!$L$2:$P$92,2,0)","v":1.0874619197768163},{"$f":"VLOOKUP($F187,mapping!$L$2:$P$92,3,0)","v":36266.85},{"$f":"VLOOKUP($F187,mapping!$L$2:$P$92,4,0)","v":"Major Advanced Economies (G7)"},{"$f":"$D187*VLOOKUP($E187,'Charts data'!$A$2:$B$11,2,0)*VLOOKUP($G187,'Charts data'!$A$14:$B$18,2,0)/IF('Charts data'!$E$3=1,I187,1)/IF('Charts data'!$E$4=1,J187,1)","v":24391.669228638868}]
["ID0049",45000,"EUR",{"$f":"B188*VLOOKUP(C188,tblXrate[],2,0)","v":57167.974754622352},"Manager","Netherlands","4 to 6",null,{"$f":"VLOOKUP(F188,mapping!$L$2:$P$92,2,0)","v":1.0900027186547994},{"$f":"VLOOKUP($F188,mapping!$L$2:$P$92,3,0)","v":50355.47},{"$f":"VLOOKUP($F188,mapping!$L$2:$P$92,4,0)","v":"Euro Area"},{"$f":"$D188*VLOOKUP($E188,'Charts data'!$A$2:$B$11,2,0)*VLOOKUP($G188,'Charts data'!$A$14:$B$18,2,0)/IF('Charts data'!$E$3=1,I188,1)/IF('Charts data'!$E$4=1,J188,1)","v":57167.974754622352}]
["ID0066",38000,"EUR",{"$f":"B189*VLOOKUP(C189,tblXrate[],2,0)","v":48275.178681681093},"Analyst","Netherlands","1 or 2",null,{"$f":"VLOOKUP(F189,mapping!$L$2:$P$92,2,0)","v":1.0900027186547994},{"$f":"VLOOKUP($F189,mapping!$L$2:$P$92,3,0)","v":50355.47},{"$f":"VLOOKUP($F189,mapping!$L$2:$P$92,4,0)","v":"Euro Area"},{"$f":"$D189*VLOOKUP($E189,'Charts data'!$A$2:$B$11,2,0)*VLOOKUP($G189,'Charts data'!$A$14:$B$18,2,0)/IF('Charts data'!$E$3=1,I189,1)/IF('Charts data'!$E$4=1,J189,1)","v":48275.178681681093}]
["ID0309",200000,"EUR",{"$f":"B190*VLOOKUP(C190,tblXrate[],2,0)","v":254079.88779832155},"Reporting","Netherlands","8 Hrs",null,{"$f":"VLOOKUP(F190,mapping!$L$2:$P$92,2,0)","v":1.0900027186547994},{"$f":"VLOOKUP($F190,mapping!$L$2:$P$92,3,0)","v":50355.47},{"$f":"VLOOKUP($F190,mapping!$L$2:$P$92,4,0)","v":"Euro Area"},{"$f":"$D190*VLOOKUP($E190,'Charts data'!$A$2:$B$11,2,0)*VLOOKUP($G190,'Charts data'!$A$14:$B$18,2,0)/IF('Charts data'!$E$3=1,I190,1)/IF('Charts data'!$E$4=1,J190,1)","v":254079.88779832155}]
["ID0528",49248,"EUR",{"$f":"B191*VLOOKUP(C191,tblXrate[],2,0)","v":62564.631571458704},"Accountant","Netherlands","8 Hrs",null,{"$f":"VLOOKUP(F191,mapping!$L$2:$P$92,2,0)","v":1.0900027186547994},{"$f":"VLOOKUP($F191,mapping!$L$2:$P$92,3,0)","v":50355.47},{"$f":"VLOOKUP($F191,mapping!$L$2:$P$92,4,0)","v":"Euro Area"},{"$f":"$D191*VLOOKUP($E191,'Charts data'!$A$2:$B$11,2,0)*VLOOKUP($G191,'Charts data'!$A$14:$B$18,2,0)/IF('Charts data'!$E$3=1,I191,1)/IF('Charts data'!$E$4=1,J191,1)","v":62564.631571458704}]
["ID0566",55000,"EUR",{"$f":"B192*VLOOKUP(C192,tblXrate[],2,0)","v":69871.969144538423},"Analyst","Netherlands","8 Hrs",6,{"$f":"VLOOKUP(F192,mapping!$L$2:$P$92,2,0)","v":1.0900027186547994},{"$f":"VLOOKUP($F192,mapping!$L$2:$P$92,3,0)","v":50355.47},{"$f":"VLOOKUP($F192,mapping!$L$2:$P$92,4,0)","v":"Euro Area"},{"$f":"$D192*VLOOKUP($E192,'Charts data'!$A$2:$B$11,2,0)*VLOOKUP($G192,'Charts data'!$A$14:$B$18,2,0)/IF('Charts data'!$E$3=1,I192,1)/IF('Charts data'!$E$4=1,J192,1)","v":69871.969144538423}]
["ID0830",42000,"EUR",{"$f":"B193*VLOOKUP(C193,tblXrate[],2,0)","v":53356.776437647524},"Engineer","Netherlands","4 to 6",2,{"$f":"VLOOKUP(F193,mapping!$L$2:$P$92,2,0)","v":1.0900027186547994},{"$f":"VLOOKUP($F193,mapping!$L$2:$P$92,3,0)","v":50355.47},{"$f":"VLOOKUP($F193,mapping!$L$2:$P$92,4,0)","v":"Euro Area"},{"$f":"$D193*VLOOKUP($E193,'Charts data'!$A$2:$B$11,2,0)*VLOOKUP($G193,'Charts data'!$A$14:$B$18,2,0)/IF('Charts data'!$E$3=1,I193,1)/IF('Charts data'!$E$4=1,J193,1)","v":53356.776437647524}]
["ID0882",40000,"EUR",{"$f":"B194*VLOOKUP(C194,tblXrate[],2,0)","v":50815.977559664309},"Analyst","Netherlands","4 to 6",4,{"$f":"VLOOKUP(F194,mapping!$L$2:$P$92,2,0)","v":1.0900027186547994},{"$f":"VLOOKUP($F194,mapping!$L$2:$P$92,3,0)","v":50355.47},{"$f":"VLOOKUP($F194,mapping!$L$2:$P$92,4,0)","v":"Euro Area"},{"$f":"$D194*VLOOKUP($E194,'Charts data'!$A$2:$B$11,2,0)*VLOOKUP($G194,'Charts data'!$A$14:$B$18,2,0)/IF('Charts data'!$E$3=1,I194,1)/IF('Charts data'!$E$4=1,J194,1)","v":50815.977559664309}]
["ID0955",75000,"EUR",{"$f":"B195*VLOOKUP(C195,tblXrate[],2,0)","v":95279.957924370581},"Analyst","Netherlands","4 to 6",4,{"$f":"VLOOKUP(F195,mapping!$L$2:$P$92,2,0)","v":1.0900027186547994},{"$f":"VLOOKUP($F195,mapping!$L$2:$P$92,3,0)","v":50355.47},{"$f":"VLOOKUP($F195,mapping!$L$2:$P$92,4,0)","v":"Euro Area"},{"$f":"$D195*VLOOKUP($E195,'Charts data'!$A$2:$B$11,2,0)*VLOOKUP($G195,'Charts data'!$A$14:$B$18,2,0)/IF('Charts data'!$E$3=1,I195,1)/IF('Charts data'!$E$4=1,J195,1)","v":95279.957924370581}]
["ID0957",45000,"EUR",{"$f":"B196*VLOOKUP(C196,tblXrate[],2,0)","v":57167.974754622352},"Analyst","Netherlands","2 to 3",10,{"$f":"VLOOKUP(F196,mapping!$L$2:$P$92,2,0)","v":1.0900027186547994},{"$f":"VLOOKUP($F196,mapping!$L$2:$P$92,3,0)","v":50355.47},{"$f":"VLOOKUP($F196,mapping!$L$2:$P$92,4,0)","v":"Euro Area"},{"$f":"$D196*VLOOKUP($E196,'Charts data'!$A$2:$B$11,2,0)*VLOOKUP($G196,'Charts data'!$A$14:$B$18,2,0)/IF('Charts data'!$E$3=1,I196,1)/IF('Charts data'!$E$4=1,J196,1)","v":57167.974754622352}]
["ID1096",40000,"EUR",{"$f":"B197*VLOOKUP(C197,tblXrate[],2,0)","v":50815.977559664309},"Analyst","Netherlands","4 to 6",3,{"$f":"VLOOKUP(F197,mapping!$L$2:$P$92,2,0)","v":1.0900027186547994},{"$f":"VLOOKUP($F197,mapping!$L$2:$P$92,3,0)","v":50355.47},{"$f":"VLOOKUP($F197,mapping!$L$2:$P$92,4,0)","v":"Euro Area"},{"$f":"$D197*VLOOKUP($E197,'Charts data'!$A$2:$B$11,2,0)*VLOOKUP($G197,'Charts data'!$A$14:$B$18,2,0)/IF('Charts data'!$E$3=1,I197,1)/IF('Charts data'!$E$4=1,J197,1)","v":50815.977559664309}]
["ID1197",82000,"EUR",{"$f":"B198*VLOOKUP(C198,tblXrate[],2,0)","v":104172.75399731184},"Manager","Netherlands","8 Hrs",25,{"$f":"VLOOKUP(F198,mapping!$L$2:$P$92,2,0)","v":1.0900027186547994},{"$f":"VLOOKUP($F198,mapping!$L$2:$P$92,3,0)","v":50355.47},{"$f":"VLOOKUP($F198,mapping!$L$2:$P$92,4,0)","v":"Euro Area"},{"$f":"$D198*VLOOKUP($E198,'Charts data'!$A$2:$B$11,2,0)*VLOOKUP($G198,'Charts data'!$A$14:$B$18,2,0)/IF('Charts data'!$E$3=1,I198,1)/IF('Charts data'!$E$4=1,J198,1)","v":104172.75399731184}]
["ID1236",62000,"EUR",{"$f":"B199*VLOOKUP(C199,tblXrate[],2,0)","v":78764.765217479682},"Analyst","Netherlands","4 to 6",15,{"$f":"VLOOKUP(F199,mapping!$L$2:$P$92,2,0)","v":1.0900027186547994},{"$f":"VLOOKUP($F199,mapping!$L$2:$P$92,3,0)","v":50355.47},{"$f":"VLOOKUP($F199,mapping!$L$2:$P$92,4,0)","v":"Euro Area"},{"$f":"$D199*VLOOKUP($E199,'Charts data'!$A$2:$B$11,2,0)*VLOOKUP($G199,'Charts data'!$A$14:$B$18,2,0)/IF('Charts data'!$E$3=1,I199,1)/IF('Charts data'!$E$4=1,J199,1)","v":78764.765217479682}]
["ID1239",30000,"EUR",{"$f":"B200*VLOOKUP(C200,tblXrate[],2,0)","v":38111.983169748237},"Consultant","Netherlands","1 or 2",8,{"$f":"VLOOKUP(F200,mapping!$L$2:$P$92,2,0)","v":1.0900027186547994},{"$f":"VLOOKUP($F200,mapping!$L$2:$P$92,3,0)","v":50355.47},{"$f":"VLOOKUP($F200,mapping!$L$2:$P$92,4,0)","v":"Euro Area"},{"$f":"$D200*VLOOKUP($E200,'Charts data'!$A$2:$B$11,2,0)*VLOOKUP($G200,'Charts data'!$A$14:$B$18,2,0)/IF('Charts data'!$E$3=1,I200,1)/IF('Charts data'!$E$4=1,J200,1)","v":38111.983169748237}]
["ID1312",48500,"EUR",{"$f":"B201*VLOOKUP(C201,tblXrate[],2,0)","v":61614.372791092981},"Analyst","Netherlands","4 to 6",8,{"$f":"VLOOKUP(F201,mapping!$L$2:$P$92,2,0)","v":1.0900027186547994},{"$f":"VLOOKUP($F201,mapping!$L$2:$P$92,3,0)","v":50355.47},{"$f":"VLOOKUP($F201,mapping!$L$2:$P$92,4,0)","v":"Euro Area"},{"$f":"$D201*VLOOKUP($E201,'Charts data'!$A$2:$B$11,2,0)*VLOOKUP($G201,'Charts data'!$A$14:$B$18,2,0)/IF('Charts data'!$E$3=1,I201,1)/IF('Charts data'!$E$4=1,J201,1)","v":61614.372791092981}]
["ID1315",28500,"EUR",{"$f":"B202*VLOOKUP(C202,tblXrate[],2,0)","v":36206.384011260823},"Analyst","Netherlands","1 or 2",5,{"$f":"VLOOKUP(F202,mapping!$L$2:$P$92,2,0)","v":1.0900027186547994},{"$f":"VLOOKUP($F202,mapping!$L$2:$P$92,3,0)","v":50355.47},{"$f":"VLOOKUP($F202,mapping!$L$2:$P$92,4,0)","v":"Euro Area"},{"$f":"$D202*VLOOKUP($E202,'Charts data'!$A$2:$B$11,2,0)*VLOOKUP($G202,'Charts data'!$A$14:$B$18,2,0)/IF('Charts data'!$E$3=1,I202,1)/IF('Charts data'!$E$4=1,J202,1)","v":36206.384011260823}]
["ID1331",75000,"EUR",{"$f":"B203*VLOOKUP(C203,tblXrate[],2,0)","v":95279.957924370581},"Analyst","Netherlands","8 Hrs",16,{"$f":"VLOOKUP(F203,mapping!$L$2:$P$92,2,0)","v":1.0900027186547994},{"$f":"VLOOKUP($F203,mapping!$L$2:$P$92,3,0)","v":50355.47},{"$f":"VLOOKUP($F203,mapping!$L$2:$P$92,4,0)","v":"Euro Area"},{"$f":"$D203*VLOOKUP($E203,'Charts data'!$A$2:$B$11,2,0)*VLOOKUP($G203,'Charts data'!$A$14:$B$18,2,0)/IF('Charts data'!$E$3=1,I203,1)/IF('Charts data'!$E$4=1,J203,1)","v":95279.957924370581}]
["ID1351",34500,"EUR",{"$f":"B204*VLOOKUP(C204,tblXrate[],2,0)","v":43828.780645210471},"Analyst","Netherlands","4 to 6",15,{"$f":"VLOOKUP(F204,mapping!$L$2:$P$92,2,0)","v":1.0900027186547994},{"$f":"VLOOKUP($F204,mapping!$L$2:$P$92,3,0)","v":50355.47},{"$f":"VLOOKUP($F204,mapping!$L$2:$P$92,4,0)","v":"Euro Area"},{"$f":"$D204*VLOOKUP($E204,'Charts data'!$A$2:$B$11,2,0)*VLOOKUP($G204,'Charts data'!$A$14:$B$18,2,0)/IF('Charts data'!$E$3=1,I204,1)/IF('Charts data'!$E$4=1,J204,1)","v":43828.780645210471}]
["ID1370",62000,"EUR",{"$f":"B205*VLOOKUP(C205,tblXrate[],2,0)","v":78764.765217479682},"Controller","Netherlands","4 to 6",15,{"$f":"VLOOKUP(F205,mapping!$L$2:$P$92,2,0)","v":1.0900027186547994},{"$f":"VLOOKUP($F205,mapping!$L$2:$P$92,3,0)","v":50355.47},{"$f":"VLOOKUP($F205,mapping!$L$2:$P$92,4,0)","v":"Euro Area"},{"$f":"$D205*VLOOKUP($E205,'Charts data'!$A$2:$B$11,2,0)*VLOOKUP($G205,'Charts data'!$A$14:$B$18,2,0)/IF('Charts data'!$E$3=1,I205,1)/IF('Charts data'!$E$4=1,J205,1)","v":78764.765217479682}]
["ID1542",60000,"EUR",{"$f":"B206*VLOOKUP(C206,tblXrate[],2,0)","v":76223.966339496474},"Manager","Netherlands","2 to 3",15,{"$f":"VLOOKUP(F206,mapping!$L$2:$P$92,2,0)","v":1.0900027186547994},{"$f":"VLOOKUP($F206,mapping!$L$2:$P$92,3,0)","v":50355.47},{"$f":"VLOOKUP($F206,mapping!$L$2:$P$92,4,0)","v":"Euro Area"},{"$f":"$D206*VLOOKUP($E206,'Charts data'!$A$2:$B$11,2,0)*VLOOKUP($G206,'Charts data'!$A$14:$B$18,2,0)/IF('Charts data'!$E$3=1,I206,1)/IF('Charts data'!$E$4=1,J206,1)","v":76223.966339496474}]
["ID1553",55000,"EUR",{"$f":"B207*VLOOKUP(C207,tblXrate[],2,0)","v":69871.969144538423},"Manager","Netherlands","1 or 2",5,{"$f":"VLOOKUP(F207,mapping!$L$2:$P$92,2,0)","v":1.0900027186547994},{"$f":"VLOOKUP($F207,mapping!$L$2:$P$92,3,0)","v":50355.47},{"$f":"VLOOKUP($F207,mapping!$L$2:$P$92,4,0)","v":"Euro Area"},{"$f":"$D207*VLOOKUP($E207,'Charts data'!$A$2:$B$11,2,0)*VLOOKUP($G207,'Charts data'!$A$14:$B$18,2,0)/IF('Charts data'!$E$3=1,I207,1)/IF('Charts data'!$E$4=1,J207,1)","v":69871.969144538423}]
["ID1555",60000,"EUR",{"$f":"B208*VLOOKUP(C208,tblXrate[],2,0)","v":76223.966339496474},"Engineer","Netherlands","4 to 6",7,{"$f":"VLOOKUP(F208,mapping!$L$2:$P$92,2,0)","v":1.0900027186547994},{"$f":"VLOOKUP($F208,mapping!$L$2:$P$92,3,0)","v":50355.47},{"$f":"VLOOKUP($F208,mapping!$L$2:$P$92,4,0)","v":"Euro Area"},{"$f":"$D208*VLOOKUP($E208,'Charts data'!$A$2:$B$11,2,0)*VLOOKUP($G208,'Charts data'!$A$14:$B$18,2,0)/IF('Charts data'!$E$3=1,I208,1)/IF('Charts data'!$E$4=1,J208,1)","v":76223.966339496474}]
["ID1608",50000,"EUR",{"$f":"B209*VLOOKUP(C209,tblXrate[],2,0)","v":63519.971949580387},"Controller","Netherlands","4 to 6",10,{"$f":"VLOOKUP(F209,mapping!$L$2:$P$92,2,0)","v":1.0900027186547994},{"$f":"VLOOKUP($F209,mapping!$L$2:$P$92,3,0)","v":50355.47},{"$f":"VLOOKUP($F209,mapping!$L$2:$P$92,4,0)","v":"Euro Area"},{"$f":"$D209*VLOOKUP($E209,'Charts data'!$A$2:$B$11,2,0)*VLOOKUP($G209,'Charts data'!$A$14:$B$18,2,0)/IF('Charts data'!$E$3=1,I209,1)/IF('Charts data'!$E$4=1,J209,1)","v":63519.971949580387}]
["ID1822",45000,"EUR",{"$f":"B210*VLOOKUP(C210,tblXrate[],2,0)","v":57167.974754622352},"Analyst","Netherlands","2 to 3",14,{"$f":"VLOOKUP(F210,mapping!$L$2:$P$92,2,0)","v":1.0900027186547994},{"$f":"VLOOKUP($F210,mapping!$L$2:$P$92,3,0)","v":50355.47},{"$f":"VLOOKUP($F210,mapping!$L$2:$P$92,4,0)","v":"Euro Area"},{"$f":"$D210*VLOOKUP($E210,'Charts data'!$A$2:$B$11,2,0)*VLOOKUP($G210,'Charts data'!$A$14:$B$18,2,0)/IF('Charts data'!$E$3=1,I210,1)/IF('Charts data'!$E$4=1,J210,1)","v":57167.974754622352}]
["ID1108",57000,"EUR",{"$f":"B211*VLOOKUP(C211,tblXrate[],2,0)","v":72412.768022521646},"Manager","Norway","1 or 2",15,{"$f":"VLOOKUP(F211,mapping!$L$2:$P$92,2,0)","v":12.950451881080451},{"$f":"VLOOKUP($F211,mapping!$L$2:$P$92,3,0)","v":97254.6},{"$f":"VLOOKUP($F211,mapping!$L$2:$P$92,4,0)","v":"Other Advanced Economies"},{"$f":"$D211*VLOOKUP($E211,'Charts data'!$A$2:$B$11,2,0)*VLOOKUP($G211,'Charts data'!$A$14:$B$18,2,0)/IF('Charts data'!$E$3=1,I211,1)/IF('Charts data'!$E$4=1,J211,1)","v":72412.768022521646}]
["ID0559",50000,"EUR",{"$f":"B212*VLOOKUP(C212,tblXrate[],2,0)","v":63519.971949580387},"Manager","Panama","2 to 3",null,{"$f":"VLOOKUP(F212,mapping!$L$2:$P$92,2,0)","v":0.76732126115093102},{"$f":"VLOOKUP($F212,mapping!$L$2:$P$92,3,0)","v":8514.2199999999993},{"$f":"VLOOKUP($F212,mapping!$L$2:$P$92,4,0)","v":"Latin America and the Caribbean"},{"$f":"$D212*VLOOKUP($E212,'Charts data'!$A$2:$B$11,2,0)*VLOOKUP($G212,'Charts data'!$A$14:$B$18,2,0)/IF('Charts data'!$E$3=1,I212,1)/IF('Charts data'!$E$4=1,J212,1)","v":63519.971949580387}]
["ID0921",20500,"EUR",{"$f":"B213*VLOOKUP(C213,tblXrate[],2,0)","v":26043.18849932796},"Manager","Poland","4 to 6",8,{"$f":"VLOOKUP(F213,mapping!$L$2:$P$92,2,0)","v":2.5064980931304421},{"$f":"VLOOKUP($F213,mapping!$L$2:$P$92,3,0)","v":13539.84},{"$f":"VLOOKUP($F213,mapping!$L$2:$P$92,4,0)","v":"Central and Eastern Europe"},{"$f":"$D213*VLOOKUP($E213,'Charts data'!$A$2:$B$11,2,0)*VLOOKUP($G213,'Charts data'!$A$14:$B$18,2,0)/IF('Charts data'!$E$3=1,I213,1)/IF('Charts data'!$E$4=1,J213,1)","v":26043.18849932796}]
["ID0240",12000,"EUR",{"$f":"B214*VLOOKUP(C214,tblXrate[],2,0)","v":15244.793267899293},"Specialist","Portugal","8 Hrs",null,{"$f":"VLOOKUP(F214,mapping!$L$2:$P$92,2,0)","v":0.87657561290420927},{"$f":"VLOOKUP($F214,mapping!$L$2:$P$92,3,0)","v":22413.45},{"$f":"VLOOKUP($F214,mapping!$L$2:$P$92,4,0)","v":"Euro Area"},{"$f":"$D214*VLOOKUP($E214,'Charts data'!$A$2:$B$11,2,0)*VLOOKUP($G214,'Charts data'!$A$14:$B$18,2,0)/IF('Charts data'!$E$3=1,I214,1)/IF('Charts data'!$E$4=1,J214,1)","v":15244.793267899293}]
["ID0379",18000,"EUR",{"$f":"B215*VLOOKUP(C215,tblXrate[],2,0)","v":22867.189901848938},"Manager","Portugal","2 to 3",null,{"$f":"VLOOKUP(F215,mapping!$L$2:$P$92,2,0)","v":0.87657561290420927},{"$f":"VLOOKUP($F215,mapping!$L$2:$P$92,3,0)","v":22413.45},{"$f":"VLOOKUP($F215,mapping!$L$2:$P$92,4,0)","v":"Euro Area"},{"$f":"$D215*VLOOKUP($E215,'Charts data'!$A$2:$B$11,2,0)*VLOOKUP($G215,'Charts data'!$A$14:$B$18,2,0)/IF('Charts data'!$E$3=1,I215,1)/IF('Charts data'!$E$4=1,J215,1)","v":22867.189901848938}]
["ID0834",15600,"EUR",{"$f":"B216*VLOOKUP(C216,tblXrate[],2,0)","v":19818.231248269083},"Controller","Portugal","4 to 6",5,{"$f":"VLOOKUP(F216,mapping!$L$2:$P$92,2,0)","v":0.87657561290420927},{"$f":"VLOOKUP($F216,mapping!$L$2:$P$92,3,0)","v":22413.45},{"$f":"VLOOKUP($F216,mapping!$L$2:$P$92,4,0)","v":"Euro Area"},{"$f":"$D216*VLOOKUP($E216,'Charts data'!$A$2:$B$11,2,0)*VLOOKUP($G216,'Charts data'!$A$14:$B$18,2,0)/IF('Charts data'!$E$3=1,I216,1)/IF('Charts data'!$E$4=1,J216,1)","v":19818.231248269083}]
["ID0849",30000,"EUR",{"$f":"B217*VLOOKUP(C217,tblXrate[],2,0)","v":38111.983169748237},"Accountant","Portugal","8 Hrs",8,{"$f":"VLOOKUP(F217,mapping!$L$2:$P$92,2,0)","v":0.87657561290420927},{"$f":"VLOOKUP($F217,mapping!$L$2:$P$92,3,0)","v":22413.45},{"$f":"VLOOKUP($F217,mapping!$L$2:$P$92,4,0)","v":"Euro Area"},{"$f":"$D217*VLOOKUP($E217,'Charts data'!$A$2:$B$11,2,0)*VLOOKUP($G217,'Charts data'!$A$14:$B$18,2,0)/IF('Charts data'!$E$3=1,I217,1)/IF('Charts data'!$E$4=1,J217,1)","v":38111.983169748237}]
["ID1109",40000,"EUR",{"$f":"B218*VLOOKUP(C218,tblXrate[],2,0)","v":50815.977559664309},"Accountant","Portugal","2 to 3",10,{"$f":"VLOOKUP(F218,mapping!$L$2:$P$92,2,0)","v":0.87657561290420927},{"$f":"VLOOKUP($F218,mapping!$L$2:$P$92,3,0)","v":22413.45},{"$f":"VLOOKUP($F218,mapping!$L$2:$P$92,4,0)","v":"Euro Area"},{"$f":"$D218*VLOOKUP($E218,'Charts data'!$A$2:$B$11,2,0)*VLOOKUP($G218,'Charts data'!$A$14:$B$18,2,0)/IF('Charts data'!$E$3=1,I218,1)/IF('Charts data'!$E$4=1,J218,1)","v":50815.977559664309}]
["ID1129",50000,"EUR",{"$f":"B219*VLOOKUP(C219,tblXrate[],2,0)","v":63519.971949580387},"Engineer","Portugal","2 to 3",14,{"$f":"VLOOKUP(F219,mapping!$L$2:$P$92,2,0)","v":0.87657561290420927},{"$f":"VLOOKUP($F219,mapping!$L$2:$P$92,3,0)","v":22413.45},{"$f":"VLOOKUP($F219,mapping!$L$2:$P$92,4,0)","v":"Euro Area"},{"$f":"$D219*VLOOKUP($E219,'Charts data'!$A$2:$B$11,2,0)*VLOOKUP($G219,'Charts data'!$A$14:$B$18,2,0)/IF('Charts data'!$E$3=1,I219,1)/IF('Charts data'!$E$4=1,J219,1)","v":63519.971949580387}]
["ID1598",21000,"EUR",{"$f":"B220*VLOOKUP(C220,tblXrate[],2,0)","v":26678.388218823762},"Manager","Portugal","4 to 6",10,{"$f":"VLOOKUP(F220,mapping!$L$2:$P$92,2,0)","v":0.87657561290420927},{"$f":"VLOOKUP($F220,mapping!$L$2:$P$92,3,0)","v":22413.45},{"$f":"VLOOKUP($F220,mapping!$L$2:$P$92,4,0)","v":"Euro Area"},{"$f":"$D220*VLOOKUP($E220,'Charts data'!$A$2:$B$11,2,0)*VLOOKUP($G220,'Charts data'!$A$14:$B$18,2,0)/IF('Charts data'!$E$3=1,I220,1)/IF('Charts data'!$E$4=1,J220,1)","v":26678.388218823762}]
["ID1689",21000,"EUR",{"$f":"B221*VLOOKUP(C221,tblXrate[],2,0)","v":26678.388218823762},"Analyst","Portugal","4 to 6",5,{"$f":"VLOOKUP(F221,mapping!$L$2:$P$92,2,0)","v":0.87657561290420927},{"$f":"VLOOKUP($F221,mapping!$L$2:$P$92,3,0)","v":22413.45},{"$f":"VLOOKUP($F221,mapping!$L$2:$P$92,4,0)","v":"Euro Area"},{"$f":"$D221*VLOOKUP($E221,'Charts data'!$A$2:$B$11,2,0)*VLOOKUP($G221,'Charts data'!$A$14:$B$18,2,0)/IF('Charts data'!$E$3=1,I221,1)/IF('Charts data'!$E$4=1,J221,1)","v":26678.388218823762}]
["ID1774",16800,"EUR",{"$f":"B222*VLOOKUP(C222,tblXrate[],2,0)","v":21342.710575059013},"Accountant","Portugal","4 to 6",15,{"$f":"VLOOKUP(F222,mapping!$L$2:$P$92,2,0)","v":0.87657561290420927},{"$f":"VLOOKUP($F222,mapping!$L$2:$P$92,3,0)","v":22413.45},{"$f":"VLOOKUP($F222,mapping!$L$2:$P$92,4,0)","v":"Euro Area"},{"$f":"$D222*VLOOKUP($E222,'Charts data'!$A$2:$B$11,2,0)*VLOOKUP($G222,'Charts data'!$A$14:$B$18,2,0)/IF('Charts data'!$E$3=1,I222,1)/IF('Charts data'!$E$4=1,J222,1)","v":21342.710575059013}]
["ID0929",15000,"EUR",{"$f":"B223*VLOOKUP(C223,tblXrate[],2,0)","v":19055.991584874118},"Analyst","Slovenia","4 to 6",4,{"$f":"VLOOKUP(F223,mapping!$L$2:$P$92,2,0)","v":0.78256605441883031},{"$f":"VLOOKUP($F223,mapping!$L$2:$P$92,3,0)","v":24533.08},{"$f":"VLOOKUP($F223,mapping!$L$2:$P$92,4,0)","v":"Euro Area"},{"$f":"$D223*VLOOKUP($E223,'Charts data'!$A$2:$B$11,2,0)*VLOOKUP($G223,'Charts data'!$A$14:$B$18,2,0)/IF('Charts data'!$E$3=1,I223,1)/IF('Charts data'!$E$4=1,J223,1)","v":19055.991584874118}]
["ID0507",15000,"EUR",{"$f":"B224*VLOOKUP(C224,tblXrate[],2,0)","v":19055.991584874118},"Analyst","Spain","8 Hrs",null,{"$f":"VLOOKUP(F224,mapping!$L$2:$P$92,2,0)","v":0.96423317419463028},{"$f":"VLOOKUP($F224,mapping!$L$2:$P$92,3,0)","v":32360.1},{"$f":"VLOOKUP($F224,mapping!$L$2:$P$92,4,0)","v":"Euro Area"},{"$f":"$D224*VLOOKUP($E224,'Charts data'!$A$2:$B$11,2,0)*VLOOKUP($G224,'Charts data'!$A$14:$B$18,2,0)/IF('Charts data'!$E$3=1,I224,1)/IF('Charts data'!$E$4=1,J224,1)","v":19055.991584874118}]
["ID0797",15000,"EUR",{"$f":"B225*VLOOKUP(C225,tblXrate[],2,0)","v":19055.991584874118},"Analyst","Spain","2 to 3",10,{"$f":"VLOOKUP(F225,mapping!$L$2:$P$92,2,0)","v":0.96423317419463028},{"$f":"VLOOKUP($F225,mapping!$L$2:$P$92,3,0)","v":32360.1},{"$f":"VLOOKUP($F225,mapping!$L$2:$P$92,4,0)","v":"Euro Area"},{"$f":"$D225*VLOOKUP($E225,'Charts data'!$A$2:$B$11,2,0)*VLOOKUP($G225,'Charts data'!$A$14:$B$18,2,0)/IF('Charts data'!$E$3=1,I225,1)/IF('Charts data'!$E$4=1,J225,1)","v":19055.991584874118}]
["ID1053",43500,"EUR",{"$f":"B226*VLOOKUP(C226,tblXrate[],2,0)","v":55262.375596134938},"Manager","Spain","2 to 3",10,{"$f":"VLOOKUP(F226,mapping!$L$2:$P$92,2,0)","v":0.96423317419463028},{"$f":"VLOOKUP($F226,mapping!$L$2:$P$92,3,0)","v":32360.1},{"$f":"VLOOKUP($F226,mapping!$L$2:$P$92,4,0)","v":"Euro Area"},{"$f":"$D226*VLOOKUP($E226,'Charts data'!$A$2:$B$11,2,0)*VLOOKUP($G226,'Charts data'!$A$14:$B$18,2,0)/IF('Charts data'!$E$3=1,I226,1)/IF('Charts data'!$E$4=1,J226,1)","v":55262.375596134938}]
["ID1100",37000,"EUR",{"$f":"B227*VLOOKUP(C227,tblXrate[],2,0)","v":47004.779242689488},"Analyst","Spain","4 to 6",11,{"$f":"VLOOKUP(F227,mapping!$L$2:$P$92,2,0)","v":0.96423317419463028},{"$f":"VLOOKUP($F227,mapping!$L$2:$P$92,3,0)","v":32360.1},{"$f":"VLOOKUP($F227,mapping!$L$2:$P$92,4,0)","v":"Euro Area"},{"$f":"$D227*VLOOKUP($E227,'Charts data'!$A$2:$B$11,2,0)*VLOOKUP($G227,'Charts data'!$A$14:$B$18,2,0)/IF('Charts data'!$E$3=1,I227,1)/IF('Charts data'!$E$4=1,J227,1)","v":47004.779242689488}]
["ID1134",45000,"EUR",{"$f":"B228*VLOOKUP(C228,tblXrate[],2,0)","v":57167.974754622352},"Manager","Spain","4 to 6",14,{"$f":"VLOOKUP(F228,mapping!$L$2:$P$92,2,0)","v":0.96423317419463028},{"$f":"VLOOKUP($F228,mapping!$L$2:$P$92,3,0)","v":32360.1},{"$f":"VLOOKUP($F228,mapping!$L$2:$P$92,4,0)","v":"Euro Area"},{"$f":"$D228*VLOOKUP($E228,'Charts data'!$A$2:$B$11,2,0)*VLOOKUP($G228,'Charts data'!$A$14:$B$18,2,0)/IF('Charts data'!$E$3=1,I228,1)/IF('Charts data'!$E$4=1,J228,1)","v":57167.974754622352}]
["ID1137",100000,"EUR",{"$f":"B229*VLOOKUP(C229,tblXrate[],2,0)","v":127039.94389916077},"CXO or Top Mgmt.","Spain","1 or 2",20,{"$f":"VLOOKUP(F229,mapping!$L$2:$P$92,2,0)","v":0.96423317419463028},{"$f":"VLOOKUP($F229,mapping!$L$2:$P$92,3,0)","v":32360.1},{"$f":"VLOOKUP($F229,mapping!$L$2:$P$92,4,0)","v":"Euro Area"},{"$f":"$D229*VLOOKUP($E229,'Charts data'!$A$2:$B$11,2,0)*VLOOKUP($G229,'Charts data'!$A$14:$B$18,2,0)/IF('Charts data'!$E$3=1,I229,1)/IF('Charts data'!$E$4=1,J229,1)","v":127039.94389916077}]
["ID1333",41000,"EUR",{"$f":"B230*VLOOKUP(C230,tblXrate[],2,0)","v":52086.37699865592},"Engineer","Spain","4 to 6",12,{"$f":"VLOOKUP(F230,mapping!$L$2:$P$92,2,0)","v":0.96423317419463028},{"$f":"VLOOKUP($F230,mapping!$L$2:$P$92,3,0)","v":32360.1},{"$f":"VLOOKUP($F230,mapping!$L$2:$P$92,4,0)","v":"Euro Area"},{"$f":"$D230*VLOOKUP($E230,'Charts data'!$A$2:$B$11,2,0)*VLOOKUP($G230,'Charts data'!$A$14:$B$18,2,0)/IF('Charts data'!$E$3=1,I230,1)/IF('Charts data'!$E$4=1,J230,1)","v":52086.37699865592}]
["ID1671",30000,"EUR",{"$f":"B231*VLOOKUP(C231,tblXrate[],2,0)","v":38111.983169748237},"Analyst","Spain","1 or 2",12,{"$f":"VLOOKUP(F231,mapping!$L$2:$P$92,2,0)","v":0.96423317419463028},{"$f":"VLOOKUP($F231,mapping!$L$2:$P$92,3,0)","v":32360.1},{"$f":"VLOOKUP($F231,mapping!$L$2:$P$92,4,0)","v":"Euro Area"},{"$f":"$D231*VLOOKUP($E231,'Charts data'!$A$2:$B$11,2,0)*VLOOKUP($G231,'Charts data'!$A$14:$B$18,2,0)/IF('Charts data'!$E$3=1,I231,1)/IF('Charts data'!$E$4=1,J231,1)","v":38111.983169748237}]
["ID1899",28000,"EUR",{"$f":"B232*VLOOKUP(C232,tblXrate[],2,0)","v":35571.184291765021},"Controller","Spain","4 to 6",8,{"$f":"VLOOKUP(F232,mapping!$L$2:$P$92,2,0)","v":0.96423317419463028},{"$f":"VLOOKUP($F232,mapping!$L$2:$P$92,3,0)","v":32360.1},{"$f":"VLOOKUP($F232,mapping!$L$2:$P$92,4,0)","v":"Euro Area"},{"$f":"$D232*VLOOKUP($E232,'Charts data'!$A$2:$B$11,2,0)*VLOOKUP($G232,'Charts data'!$A$14:$B$18,2,0)/IF('Charts data'!$E$3=1,I232,1)/IF('Charts data'!$E$4=1,J232,1)","v":35571.184291765021}]
["ID1182",32000,"GBP",{"$f":"B233*VLOOKUP(C233,tblXrate[],2,0)","v":50437.70470615309},"Analyst","Canada","4 to 6",9,{"$f":"VLOOKUP(F233,mapping!$L$2:$P$92,2,0)","v":1.2105180348503324},{"$f":"VLOOKUP($F233,mapping!$L$2:$P$92,3,0)","v":50435.5},{"$f":"VLOOKUP($F233,mapping!$L$2:$P$92,4,0)","v":"Major Advanced Economies (G7)"},{"$f":"$D233*VLOOKUP($E233,'Charts data'!$A$2:$B$11,2,0)*VLOOKUP($G233,'Charts data'!$A$14:$B$18,2,0)/IF('Charts data'!$E$3=1,I233,1)/IF('Charts data'!$E$4=1,J233,1)","v":50437.70470615309}]
["ID0033",35000,"GBP",{"$f":"B234*VLOOKUP(C234,tblXrate[],2,0)","v":55166.239522354947},"Analyst","UK","8 Hrs",null,{"$f":"VLOOKUP(F234,mapping!$L$2:$P$92,2,0)","v":1.0513109074688785},{"$f":"VLOOKUP($F234,mapping!$L$2:$P$92,3,0)","v":38592.1},{"$f":"VLOOKUP($F234,mapping!$L$2:$P$92,4,0)","v":"Major Advanced Economies (G7)"},{"$f":"$D234*VLOOKUP($E234,'Charts data'!$A$2:$B$11,2,0)*VLOOKUP($G234,'Charts data'!$A$14:$B$18,2,0)/IF('Charts data'!$E$3=1,I234,1)/IF('Charts data'!$E$4=1,J234,1)","v":55166.239522354947}]
["ID0047",32000,"GBP",{"$f":"B235*VLOOKUP(C235,tblXrate[],2,0)","v":50437.70470615309},"Analyst","UK","4 to 6",null,{"$f":"VLOOKUP(F235,mapping!$L$2:$P$92,2,0)","v":1.0513109074688785},{"$f":"VLOOKUP($F235,mapping!$L$2:$P$92,3,0)","v":38592.1},{"$f":"VLOOKUP($F235,mapping!$L$2:$P$92,4,0)","v":"Major Advanced Economies (G7)"},{"$f":"$D235*VLOOKUP($E235,'Charts data'!$A$2:$B$11,2,0)*VLOOKUP($G235,'Charts data'!$A$14:$B$18,2,0)/IF('Charts data'!$E$3=1,I235,1)/IF('Charts data'!$E$4=1,J235,1)","v":50437.70470615309}]
["ID0052",40000,"GBP",{"$f":"B236*VLOOKUP(C236,tblXrate[],2,0)","v":63047.130882691366},"Accountant","UK","4 to 6",null,{"$f":"VLOOKUP(F236,mapping!$L$2:$P$92,2,0)","v":1.0513109074688785},{"$f":"VLOOKUP($F236,mapping!$L$2:$P$92,3,0)","v":38592.1},{"$f":"VLOOKUP($F236,mapping!$L$2:$P$92,4,0)","v":"Major Advanced Economies (G7)"},{"$f":"$D236*VLOOKUP($E236,'Charts data'!$A$2:$B$11,2,0)*VLOOKUP($G236,'Charts data'!$A$14:$B$18,2,0)/IF('Charts data'!$E$3=1,I236,1)/IF('Charts data'!$E$4=1,J236,1)","v":63047.130882691366}]
["ID0057",18000,"GBP",{"$f":"B237*VLOOKUP(C237,tblXrate[],2,0)","v":28371.208897211112},"Manager","UK","1 or 2",null,{"$f":"VLOOKUP(F237,mapping!$L$2:$P$92,2,0)","v":1.0513109074688785},{"$f":"VLOOKUP($F237,mapping!$L$2:$P$92,3,0)","v":38592.1},{"$f":"VLOOKUP($F237,mapping!$L$2:$P$92,4,0)","v":"Major Advanced Economies (G7)"},{"$f":"$D237*VLOOKUP($E237,'Charts data'!$A$2:$B$11,2,0)*VLOOKUP($G237,'Charts data'!$A$14:$B$18,2,0)/IF('Charts data'!$E$3=1,I237,1)/IF('Charts data'!$E$4=1,J237,1)","v":28371.208897211112}]
["ID0078",100000,"GBP",{"$f":"B238*VLOOKUP(C238,tblXrate[],2,0)","v":157617.8272067284},"Analyst","UK","2 to 3",null,{"$f":"VLOOKUP(F238,mapping!$L$2:$P$92,2,0)","v":1.0513109074688785},{"$f":"VLOOKUP($F238,mapping!$L$2:$P$92,3,0)","v":38592.1},{"$f":"VLOOKUP($F238,mapping!$L$2:$P$92,4,0)","v":"Major Advanced Economies (G7)"},{"$f":"$D238*VLOOKUP($E238,'Charts data'!$A$2:$B$11,2,0)*VLOOKUP($G238,'Charts data'!$A$14:$B$18,2,0)/IF('Charts data'!$E$3=1,I238,1)/IF('Charts data'!$E$4=1,J238,1)","v":157617.8272067284}]
["ID0082",30000,"GBP",{"$f":"B239*VLOOKUP(C239,tblXrate[],2,0)","v":47285.348162018527},"Manager","UK","4 to 6",null,{"$f":"VLOOKUP(F239,mapping!$L$2:$P$92,2,0)","v":1.0513109074688785},{"$f":"VLOOKUP($F239,mapping!$L$2:$P$92,3,0)","v":38592.1},{"$f":"VLOOKUP($F239,mapping!$L$2:$P$92,4,0)","v":"Major Advanced Economies (G7)"},{"$f":"$D239*VLOOKUP($E239,'Charts data'!$A$2:$B$11,2,0)*VLOOKUP($G239,'Charts data'!$A$14:$B$18,2,0)/IF('Charts data'!$E$3=1,I239,1)/IF('Charts data'!$E$4=1,J239,1)","v":47285.348162018527}]
["ID0131",28159,"GBP",{"$f":"B240*VLOOKUP(C240,tblXrate[],2,0)","v":44383.603963142654},"Analyst","UK","8 Hrs",null,{"$f":"VLOOKUP(F240,mapping!$L$2:$P$92,2,0)","v":1.0513109074688785},{"$f":"VLOOKUP($F240,mapping!$L$2:$P$92,3,0)","v":38592.1},{"$f":"VLOOKUP($F240,mapping!$L$2:$P$92,4,0)","v":"Major Advanced Economies (G7)"},{"$f":"$D240*VLOOKUP($E240,'Charts data'!$A$2:$B$11,2,0)*VLOOKUP($G240,'Charts data'!$A$14:$B$18,2,0)/IF('Charts data'!$E$3=1,I240,1)/IF('Charts data'!$E$4=1,J240,1)","v":44383.603963142654}]
["ID0134",70000,"GBP",{"$f":"B241*VLOOKUP(C241,tblXrate[],2,0)","v":110332.47904470989},"Manager","UK","2 to 3",null,{"$f":"VLOOKUP(F241,mapping!$L$2:$P$92,2,0)","v":1.0513109074688785},{"$f":"VLOOKUP($F241,mapping!$L$2:$P$92,3,0)","v":38592.1},{"$f":"VLOOKUP($F241,mapping!$L$2:$P$92,4,0)","v":"Major Advanced Economies (G7)"},{"$f":"$D241*VLOOKUP($E241,'Charts data'!$A$2:$B$11,2,0)*VLOOKUP($G241,'Charts data'!$A$14:$B$18,2,0)/IF('Charts data'!$E$3=1,I241,1)/IF('Charts data'!$E$4=1,J241,1)","v":110332.47904470989}]
["ID0159",32250,"GBP",{"$f":"B242*VLOOKUP(C242,tblXrate[],2,0)","v":50831.74927416991},"Manager","UK","4 to 6",null,{"$f":"VLOOKUP(F242,mapping!$L$2:$P$92,2,0)","v":1.0513109074688785},{"$f":"VLOOKUP($F242,mapping!$L$2:$P$92,3,0)","v":38592.1},{"$f":"VLOOKUP($F242,mapping!$L$2:$P$92,4,0)","v":"Major Advanced Economies (G7)"},{"$f":"$D242*VLOOKUP($E242,'Charts data'!$A$2:$B$11,2,0)*VLOOKUP($G242,'Charts data'!$A$14:$B$18,2,0)/IF('Charts data'!$E$3=1,I242,1)/IF('Charts data'!$E$4=1,J242,1)","v":50831.74927416991}]
["ID0179",18500,"GBP",{"$f":"B243*VLOOKUP(C243,tblXrate[],2,0)","v":29159.298033244755},"Manager","UK","8 Hrs",null,{"$f":"VLOOKUP(F243,mapping!$L$2:$P$92,2,0)","v":1.0513109074688785},{"$f":"VLOOKUP($F243,mapping!$L$2:$P$92,3,0)","v":38592.1},{"$f":"VLOOKUP($F243,mapping!$L$2:$P$92,4,0)","v":"Major Advanced Economies (G7)"},{"$f":"$D243*VLOOKUP($E243,'Charts data'!$A$2:$B$11,2,0)*VLOOKUP($G243,'Charts data'!$A$14:$B$18,2,0)/IF('Charts data'!$E$3=1,I243,1)/IF('Charts data'!$E$4=1,J243,1)","v":29159.298033244755}]
["ID0207",30000,"GBP",{"$f":"B244*VLOOKUP(C244,tblXrate[],2,0)","v":47285.348162018527},"Analyst","UK","2 to 3",null,{"$f":"VLOOKUP(F244,mapping!$L$2:$P$92,2,0)","v":1.0513109074688785},{"$f":"VLOOKUP($F244,mapping!$L$2:$P$92,3,0)","v":38592.1},{"$f":"VLOOKUP($F244,mapping!$L$2:$P$92,4,0)","v":"Major Advanced Economies (G7)"},{"$f":"$D244*VLOOKUP($E244,'Charts data'!$A$2:$B$11,2,0)*VLOOKUP($G244,'Charts data'!$A$14:$B$18,2,0)/IF('Charts data'!$E$3=1,I244,1)/IF('Charts data'!$E$4=1,J244,1)","v":47285.348162018527}]
["ID0229",43000,"GBP",{"$f":"B245*VLOOKUP(C245,tblXrate[],2,0)","v":67775.665698893223},"Manager","UK","2 to 3",null,{"$f":"VLOOKUP(F245,mapping!$L$2:$P$92,2,0)","v":1.0513109074688785},{"$f":"VLOOKUP($F245,mapping!$L$2:$P$92,3,0)","v":38592.1},{"$f":"VLOOKUP($F245,mapping!$L$2:$P$92,4,0)","v":"Major Advanced Economies (G7)"},{"$f":"$D245*VLOOKUP($E245,'Charts data'!$A$2:$B$11,2,0)*VLOOKUP($G245,'Charts data'!$A$14:$B$18,2,0)/IF('Charts data'!$E$3=1,I245,1)/IF('Charts data'!$E$4=1,J245,1)","v":67775.665698893223}]
["ID0235",45000,"GBP",{"$f":"B246*VLOOKUP(C246,tblXrate[],2,0)","v":70928.022243027779},"Manager","UK","2 to 3",null,{"$f":"VLOOKUP(F246,mapping!$L$2:$P$92,2,0)","v":1.0513109074688785},{"$f":"VLOOKUP($F246,mapping!$L$2:$P$92,3,0)","v":38592.1},{"$f":"VLOOKUP($F246,mapping!$L$2:$P$92,4,0)","v":"Major Advanced Economies (G7)"},{"$f":"$D246*VLOOKUP($E246,'Charts data'!$A$2:$B$11,2,0)*VLOOKUP($G246,'Charts data'!$A$14:$B$18,2,0)/IF('Charts data'!$E$3=1,I246,1)/IF('Charts data'!$E$4=1,J246,1)","v":70928.022243027779}]
["ID0256",52680,"GBP",{"$f":"B247*VLOOKUP(C247,tblXrate[],2,0)","v":83033.071372504521},"Consultant","UK","8 Hrs",null,{"$f":"VLOOKUP(F247,mapping!$L$2:$P$92,2,0)","v":1.0513109074688785},{"$f":"VLOOKUP($F247,mapping!$L$2:$P$92,3,0)","v":38592.1},{"$f":"VLOOKUP($F247,mapping!$L$2:$P$92,4,0)","v":"Major Advanced Economies (G7)"},{"$f":"$D247*VLOOKUP($E247,'Charts data'!$A$2:$B$11,2,0)*VLOOKUP($G247,'Charts data'!$A$14:$B$18,2,0)/IF('Charts data'!$E$3=1,I247,1)/IF('Charts data'!$E$4=1,J247,1)","v":83033.071372504521}]
["ID0260",60000,"GBP",{"$f":"B248*VLOOKUP(C248,tblXrate[],2,0)","v":94570.696324037053},"Analyst","UK","8 Hrs",null,{"$f":"VLOOKUP(F248,mapping!$L$2:$P$92,2,0)","v":1.0513109074688785},{"$f":"VLOOKUP($F248,mapping!$L$2:$P$92,3,0)","v":38592.1},{"$f":"VLOOKUP($F248,mapping!$L$2:$P$92,4,0)","v":"Major Advanced Economies (G7)"},{"$f":"$D248*VLOOKUP($E248,'Charts data'!$A$2:$B$11,2,0)*VLOOKUP($G248,'Charts data'!$A$14:$B$18,2,0)/IF('Charts data'!$E$3=1,I248,1)/IF('Charts data'!$E$4=1,J248,1)","v":94570.696324037053}]
["ID0262",28000,"GBP",{"$f":"B249*VLOOKUP(C249,tblXrate[],2,0)","v":44132.991617883956},"Analyst","UK","8 Hrs",null,{"$f":"VLOOKUP(F249,mapping!$L$2:$P$92,2,0)","v":1.0513109074688785},{"$f":"VLOOKUP($F249,mapping!$L$2:$P$92,3,0)","v":38592.1},{"$f":"VLOOKUP($F249,mapping!$L$2:$P$92,4,0)","v":"Major Advanced Economies (G7)"},{"$f":"$D249*VLOOKUP($E249,'Charts data'!$A$2:$B$11,2,0)*VLOOKUP($G249,'Charts data'!$A$14:$B$18,2,0)/IF('Charts data'!$E$3=1,I249,1)/IF('Charts data'!$E$4=1,J249,1)","v":44132.991617883956}]
["ID0291",31000,"GBP",{"$f":"B250*VLOOKUP(C250,tblXrate[],2,0)","v":48861.526434085805},"Engineer","UK","2 to 3",null,{"$f":"VLOOKUP(F250,mapping!$L$2:$P$92,2,0)","v":1.0513109074688785},{"$f":"VLOOKUP($F250,mapping!$L$2:$P$92,3,0)","v":38592.1},{"$f":"VLOOKUP($F250,mapping!$L$2:$P$92,4,0)","v":"Major Advanced Economies (G7)"},{"$f":"$D250*VLOOKUP($E250,'Charts data'!$A$2:$B$11,2,0)*VLOOKUP($G250,'Charts data'!$A$14:$B$18,2,0)/IF('Charts data'!$E$3=1,I250,1)/IF('Charts data'!$E$4=1,J250,1)","v":48861.526434085805}]
["ID0311",20000,"GBP",{"$f":"B251*VLOOKUP(C251,tblXrate[],2,0)","v":31523.565441345683},"Engineer","UK","1 or 2",null,{"$f":"VLOOKUP(F251,mapping!$L$2:$P$92,2,0)","v":1.0513109074688785},{"$f":"VLOOKUP($F251,mapping!$L$2:$P$92,3,0)","v":38592.1},{"$f":"VLOOKUP($F251,mapping!$L$2:$P$92,4,0)","v":"Major Advanced Economies (G7)"},{"$f":"$D251*VLOOKUP($E251,'Charts data'!$A$2:$B$11,2,0)*VLOOKUP($G251,'Charts data'!$A$14:$B$18,2,0)/IF('Charts data'!$E$3=1,I251,1)/IF('Charts data'!$E$4=1,J251,1)","v":31523.565441345683}]
["ID0325",29000,"GBP",{"$f":"B252*VLOOKUP(C252,tblXrate[],2,0)","v":45709.169889951241},"Analyst","UK","4 to 6",null,{"$f":"VLOOKUP(F252,mapping!$L$2:$P$92,2,0)","v":1.0513109074688785},{"$f":"VLOOKUP($F252,mapping!$L$2:$P$92,3,0)","v":38592.1},{"$f":"VLOOKUP($F252,mapping!$L$2:$P$92,4,0)","v":"Major Advanced Economies (G7)"},{"$f":"$D252*VLOOKUP($E252,'Charts data'!$A$2:$B$11,2,0)*VLOOKUP($G252,'Charts data'!$A$14:$B$18,2,0)/IF('Charts data'!$E$3=1,I252,1)/IF('Charts data'!$E$4=1,J252,1)","v":45709.169889951241}]
["ID0366",43000,"GBP",{"$f":"B253*VLOOKUP(C253,tblXrate[],2,0)","v":67775.665698893223},"Manager","UK","4 to 6",null,{"$f":"VLOOKUP(F253,mapping!$L$2:$P$92,2,0)","v":1.0513109074688785},{"$f":"VLOOKUP($F253,mapping!$L$2:$P$92,3,0)","v":38592.1},{"$f":"VLOOKUP($F253,mapping!$L$2:$P$92,4,0)","v":"Major Advanced Economies (G7)"},{"$f":"$D253*VLOOKUP($E253,'Charts data'!$A$2:$B$11,2,0)*VLOOKUP($G253,'Charts data'!$A$14:$B$18,2,0)/IF('Charts data'!$E$3=1,I253,1)/IF('Charts data'!$E$4=1,J253,1)","v":67775.665698893223}]
["ID0380",60000,"GBP",{"$f":"B254*VLOOKUP(C254,tblXrate[],2,0)","v":94570.696324037053},"CXO or Top Mgmt.","UK","2 to 3",null,{"$f":"VLOOKUP(F254,mapping!$L$2:$P$92,2,0)","v":1.0513109074688785},{"$f":"VLOOKUP($F254,mapping!$L$2:$P$92,3,0)","v":38592.1},{"$f":"VLOOKUP($F254,mapping!$L$2:$P$92,4,0)","v":"Major Advanced Economies (G7)"},{"$f":"$D254*VLOOKUP($E254,'Charts data'!$A$2:$B$11,2,0)*VLOOKUP($G254,'Charts data'!$A$14:$B$18,2,0)/IF('Charts data'!$E$3=1,I254,1)/IF('Charts data'!$E$4=1,J254,1)","v":94570.696324037053}]
["ID0387",28000,"GBP",{"$f":"B255*VLOOKUP(C255,tblXrate[],2,0)","v":44132.991617883956},"Manager","UK","2 to 3",null,{"$f":"VLOOKUP(F255,mapping!$L$2:$P$92,2,0)","v":1.0513109074688785},{"$f":"VLOOKUP($F255,mapping!$L$2:$P$92,3,0)","v":38592.1},{"$f":"VLOOKUP($F255,mapping!$L$2:$P$92,4,0)","v":"Major Advanced Economies (G7)"},{"$f":"$D255*VLOOKUP($E255,'Charts data'!$A$2:$B$11,2,0)*VLOOKUP($G255,'Charts data'!$A$14:$B$18,2,0)/IF('Charts data'!$E$3=1,I255,1)/IF('Charts data'!$E$4=1,J255,1)","v":44132.991617883956}]
["ID0409",35000,"GBP",{"$f":"B256*VLOOKUP(C256,tblXrate[],2,0)","v":55166.239522354947},"Accountant","UK","4 to 6",null,{"$f":"VLOOKUP(F256,mapping!$L$2:$P$92,2,0)","v":1.0513109074688785},{"$f":"VLOOKUP($F256,mapping!$L$2:$P$92,3,0)","v":38592.1},{"$f":"VLOOKUP($F256,mapping!$L$2:$P$92,4,0)","v":"Major Advanced Economies (G7)"},{"$f":"$D256*VLOOKUP($E256,'Charts data'!$A$2:$B$11,2,0)*VLOOKUP($G256,'Charts data'!$A$14:$B$18,2,0)/IF('Charts data'!$E$3=1,I256,1)/IF('Charts data'!$E$4=1,J256,1)","v":55166.239522354947}]
["ID0419",66000,"GBP",{"$f":"B257*VLOOKUP(C257,tblXrate[],2,0)","v":104027.76595644075},"Manager","UK","1 or 2",null,{"$f":"VLOOKUP(F257,mapping!$L$2:$P$92,2,0)","v":1.0513109074688785},{"$f":"VLOOKUP($F257,mapping!$L$2:$P$92,3,0)","v":38592.1},{"$f":"VLOOKUP($F257,mapping!$L$2:$P$92,4,0)","v":"Major Advanced Economies (G7)"},{"$f":"$D257*VLOOKUP($E257,'Charts data'!$A$2:$B$11,2,0)*VLOOKUP($G257,'Charts data'!$A$14:$B$18,2,0)/IF('Charts data'!$E$3=1,I257,1)/IF('Charts data'!$E$4=1,J257,1)","v":104027.76595644075}]
["ID0433",65000,"GBP",{"$f":"B258*VLOOKUP(C258,tblXrate[],2,0)","v":102451.58768437347},"Controller","UK","2 to 3",null,{"$f":"VLOOKUP(F258,mapping!$L$2:$P$92,2,0)","v":1.0513109074688785},{"$f":"VLOOKUP($F258,mapping!$L$2:$P$92,3,0)","v":38592.1},{"$f":"VLOOKUP($F258,mapping!$L$2:$P$92,4,0)","v":"Major Advanced Economies (G7)"},{"$f":"$D258*VLOOKUP($E258,'Charts data'!$A$2:$B$11,2,0)*VLOOKUP($G258,'Charts data'!$A$14:$B$18,2,0)/IF('Charts data'!$E$3=1,I258,1)/IF('Charts data'!$E$4=1,J258,1)","v":102451.58768437347}]
["ID0450",60000,"GBP",{"$f":"B259*VLOOKUP(C259,tblXrate[],2,0)","v":94570.696324037053},"Consultant","UK","4 to 6",null,{"$f":"VLOOKUP(F259,mapping!$L$2:$P$92,2,0)","v":1.0513109074688785},{"$f":"VLOOKUP($F259,mapping!$L$2:$P$92,3,0)","v":38592.1},{"$f":"VLOOKUP($F259,mapping!$L$2:$P$92,4,0)","v":"Major Advanced Economies (G7)"},{"$f":"$D259*VLOOKUP($E259,'Charts data'!$A$2:$B$11,2,0)*VLOOKUP($G259,'Charts data'!$A$14:$B$18,2,0)/IF('Charts data'!$E$3=1,I259,1)/IF('Charts data'!$E$4=1,J259,1)","v":94570.696324037053}]
["ID0459",38000,"GBP",{"$f":"B260*VLOOKUP(C260,tblXrate[],2,0)","v":59894.774338556796},"Accountant","UK","4 to 6",null,{"$f":"VLOOKUP(F260,mapping!$L$2:$P$92,2,0)","v":1.0513109074688785},{"$f":"VLOOKUP($F260,mapping!$L$2:$P$92,3,0)","v":38592.1},{"$f":"VLOOKUP($F260,mapping!$L$2:$P$92,4,0)","v":"Major Advanced Economies (G7)"},{"$f":"$D260*VLOOKUP($E260,'Charts data'!$A$2:$B$11,2,0)*VLOOKUP($G260,'Charts data'!$A$14:$B$18,2,0)/IF('Charts data'!$E$3=1,I260,1)/IF('Charts data'!$E$4=1,J260,1)","v":59894.774338556796}]
["ID0464",25000,"GBP",{"$f":"B261*VLOOKUP(C261,tblXrate[],2,0)","v":39404.456801682099},"Analyst","UK","4 to 6",null,{"$f":"VLOOKUP(F261,mapping!$L$2:$P$92,2,0)","v":1.0513109074688785},{"$f":"VLOOKUP($F261,mapping!$L$2:$P$92,3,0)","v":38592.1},{"$f":"VLOOKUP($F261,mapping!$L$2:$P$92,4,0)","v":"Major Advanced Economies (G7)"},{"$f":"$D261*VLOOKUP($E261,'Charts data'!$A$2:$B$11,2,0)*VLOOKUP($G261,'Charts data'!$A$14:$B$18,2,0)/IF('Charts data'!$E$3=1,I261,1)/IF('Charts data'!$E$4=1,J261,1)","v":39404.456801682099}]
["ID0473",28500,"GBP",{"$f":"B262*VLOOKUP(C262,tblXrate[],2,0)","v":44921.080753917595},"Manager","UK","2 to 3",null,{"$f":"VLOOKUP(F262,mapping!$L$2:$P$92,2,0)","v":1.0513109074688785},{"$f":"VLOOKUP($F262,mapping!$L$2:$P$92,3,0)","v":38592.1},{"$f":"VLOOKUP($F262,mapping!$L$2:$P$92,4,0)","v":"Major Advanced Economies (G7)"},{"$f":"$D262*VLOOKUP($E262,'Charts data'!$A$2:$B$11,2,0)*VLOOKUP($G262,'Charts data'!$A$14:$B$18,2,0)/IF('Charts data'!$E$3=1,I262,1)/IF('Charts data'!$E$4=1,J262,1)","v":44921.080753917595}]
["ID0486",59000,"GBP",{"$f":"B263*VLOOKUP(C263,tblXrate[],2,0)","v":92994.518051969761},"Consultant","UK","2 to 3",null,{"$f":"VLOOKUP(F263,mapping!$L$2:$P$92,2,0)","v":1.0513109074688785},{"$f":"VLOOKUP($F263,mapping!$L$2:$P$92,3,0)","v":38592.1},{"$f":"VLOOKUP($F263,mapping!$L$2:$P$92,4,0)","v":"Major Advanced Economies (G7)"},{"$f":"$D263*VLOOKUP($E263,'Charts data'!$A$2:$B$11,2,0)*VLOOKUP($G263,'Charts data'!$A$14:$B$18,2,0)/IF('Charts data'!$E$3=1,I263,1)/IF('Charts data'!$E$4=1,J263,1)","v":92994.518051969761}]
["ID0493",190000,"GBP",{"$f":"B264*VLOOKUP(C264,tblXrate[],2,0)","v":299473.87169278396},"CXO or Top Mgmt.","UK","4 to 6",null,{"$f":"VLOOKUP(F264,mapping!$L$2:$P$92,2,0)","v":1.0513109074688785},{"$f":"VLOOKUP($F264,mapping!$L$2:$P$92,3,0)","v":38592.1},{"$f":"VLOOKUP($F264,mapping!$L$2:$P$92,4,0)","v":"Major Advanced Economies (G7)"},{"$f":"$D264*VLOOKUP($E264,'Charts data'!$A$2:$B$11,2,0)*VLOOKUP($G264,'Charts data'!$A$14:$B$18,2,0)/IF('Charts data'!$E$3=1,I264,1)/IF('Charts data'!$E$4=1,J264,1)","v":299473.87169278396}]
["ID0494",28164,"GBP",{"$f":"B265*VLOOKUP(C265,tblXrate[],2,0)","v":44391.484854502989},"Manager","UK","4 to 6",null,{"$f":"VLOOKUP(F265,mapping!$L$2:$P$92,2,0)","v":1.0513109074688785},{"$f":"VLOOKUP($F265,mapping!$L$2:$P$92,3,0)","v":38592.1},{"$f":"VLOOKUP($F265,mapping!$L$2:$P$92,4,0)","v":"Major Advanced Economies (G7)"},{"$f":"$D265*VLOOKUP($E265,'Charts data'!$A$2:$B$11,2,0)*VLOOKUP($G265,'Charts data'!$A$14:$B$18,2,0)/IF('Charts data'!$E$3=1,I265,1)/IF('Charts data'!$E$4=1,J265,1)","v":44391.484854502989}]
["ID0499",33000,"GBP",{"$f":"B266*VLOOKUP(C266,tblXrate[],2,0)","v":52013.882978220376},"Manager","UK","4 to 6",null,{"$f":"VLOOKUP(F266,mapping!$L$2:$P$92,2,0)","v":1.0513109074688785},{"$f":"VLOOKUP($F266,mapping!$L$2:$P$92,3,0)","v":38592.1},{"$f":"VLOOKUP($F266,mapping!$L$2:$P$92,4,0)","v":"Major Advanced Economies (G7)"},{"$f":"$D266*VLOOKUP($E266,'Charts data'!$A$2:$B$11,2,0)*VLOOKUP($G266,'Charts data'!$A$14:$B$18,2,0)/IF('Charts data'!$E$3=1,I266,1)/IF('Charts data'!$E$4=1,J266,1)","v":52013.882978220376}]
["ID0503",58000,"GBP",{"$f":"B267*VLOOKUP(C267,tblXrate[],2,0)","v":91418.339779902482},"Manager","UK","8 Hrs",null,{"$f":"VLOOKUP(F267,mapping!$L$2:$P$92,2,0)","v":1.0513109074688785},{"$f":"VLOOKUP($F267,mapping!$L$2:$P$92,3,0)","v":38592.1},{"$f":"VLOOKUP($F267,mapping!$L$2:$P$92,4,0)","v":"Major Advanced Economies (G7)"},{"$f":"$D267*VLOOKUP($E267,'Charts data'!$A$2:$B$11,2,0)*VLOOKUP($G267,'Charts data'!$A$14:$B$18,2,0)/IF('Charts data'!$E$3=1,I267,1)/IF('Charts data'!$E$4=1,J267,1)","v":91418.339779902482}]
["ID0513",16400,"GBP",{"$f":"B268*VLOOKUP(C268,tblXrate[],2,0)","v":25849.323661903458},"Analyst","UK","4 to 6",null,{"$f":"VLOOKUP(F268,mapping!$L$2:$P$92,2,0)","v":1.0513109074688785},{"$f":"VLOOKUP($F268,mapping!$L$2:$P$92,3,0)","v":38592.1},{"$f":"VLOOKUP($F268,mapping!$L$2:$P$92,4,0)","v":"Major Advanced Economies (G7)"},{"$f":"$D268*VLOOKUP($E268,'Charts data'!$A$2:$B$11,2,0)*VLOOKUP($G268,'Charts data'!$A$14:$B$18,2,0)/IF('Charts data'!$E$3=1,I268,1)/IF('Charts data'!$E$4=1,J268,1)","v":25849.323661903458}]
["ID0514",78000,"GBP",{"$f":"B269*VLOOKUP(C269,tblXrate[],2,0)","v":122941.90522124816},"Analyst","UK","1 or 2",null,{"$f":"VLOOKUP(F269,mapping!$L$2:$P$92,2,0)","v":1.0513109074688785},{"$f":"VLOOKUP($F269,mapping!$L$2:$P$92,3,0)","v":38592.1},{"$f":"VLOOKUP($F269,mapping!$L$2:$P$92,4,0)","v":"Major Advanced Economies (G7)"},{"$f":"$D269*VLOOKUP($E269,'Charts data'!$A$2:$B$11,2,0)*VLOOKUP($G269,'Charts data'!$A$14:$B$18,2,0)/IF('Charts data'!$E$3=1,I269,1)/IF('Charts data'!$E$4=1,J269,1)","v":122941.90522124816}]
["ID0529",36500,"GBP",{"$f":"B270*VLOOKUP(C270,tblXrate[],2,0)","v":57530.506930455871},"Manager","UK","2 to 3",null,{"$f":"VLOOKUP(F270,mapping!$L$2:$P$92,2,0)","v":1.0513109074688785},{"$f":"VLOOKUP($F270,mapping!$L$2:$P$92,3,0)","v":38592.1},{"$f":"VLOOKUP($F270,mapping!$L$2:$P$92,4,0)","v":"Major Advanced Economies (G7)"},{"$f":"$D270*VLOOKUP($E270,'Charts data'!$A$2:$B$11,2,0)*VLOOKUP($G270,'Charts data'!$A$14:$B$18,2,0)/IF('Charts data'!$E$3=1,I270,1)/IF('Charts data'!$E$4=1,J270,1)","v":57530.506930455871}]
["ID0532",140000,"GBP",{"$f":"B271*VLOOKUP(C271,tblXrate[],2,0)","v":220664.95808941979},"Specialist","UK","8 Hrs",null,{"$f":"VLOOKUP(F271,mapping!$L$2:$P$92,2,0)","v":1.0513109074688785},{"$f":"VLOOKUP($F271,mapping!$L$2:$P$92,3,0)","v":38592.1},{"$f":"VLOOKUP($F271,mapping!$L$2:$P$92,4,0)","v":"Major Advanced Economies (G7)"},{"$f":"$D271*VLOOKUP($E271,'Charts data'!$A$2:$B$11,2,0)*VLOOKUP($G271,'Charts data'!$A$14:$B$18,2,0)/IF('Charts data'!$E$3=1,I271,1)/IF('Charts data'!$E$4=1,J271,1)","v":220664.95808941979}]
["ID0538",73000,"GBP",{"$f":"B272*VLOOKUP(C272,tblXrate[],2,0)","v":115061.01386091174},"Manager","UK","4 to 6",null,{"$f":"VLOOKUP(F272,mapping!$L$2:$P$92,2,0)","v":1.0513109074688785},{"$f":"VLOOKUP($F272,mapping!$L$2:$P$92,3,0)","v":38592.1},{"$f":"VLOOKUP($F272,mapping!$L$2:$P$92,4,0)","v":"Major Advanced Economies (G7)"},{"$f":"$D272*VLOOKUP($E272,'Charts data'!$A$2:$B$11,2,0)*VLOOKUP($G272,'Charts data'!$A$14:$B$18,2,0)/IF('Charts data'!$E$3=1,I272,1)/IF('Charts data'!$E$4=1,J272,1)","v":115061.01386091174}]
["ID0555",20000,"GBP",{"$f":"B273*VLOOKUP(C273,tblXrate[],2,0)","v":31523.565441345683},"Consultant","UK","4 to 6",null,{"$f":"VLOOKUP(F273,mapping!$L$2:$P$92,2,0)","v":1.0513109074688785},{"$f":"VLOOKUP($F273,mapping!$L$2:$P$92,3,0)","v":38592.1},{"$f":"VLOOKUP($F273,mapping!$L$2:$P$92,4,0)","v":"Major Advanced Economies (G7)"},{"$f":"$D273*VLOOKUP($E273,'Charts data'!$A$2:$B$11,2,0)*VLOOKUP($G273,'Charts data'!$A$14:$B$18,2,0)/IF('Charts data'!$E$3=1,I273,1)/IF('Charts data'!$E$4=1,J273,1)","v":31523.565441345683}]
["ID0574",28800,"GBP",{"$f":"B274*VLOOKUP(C274,tblXrate[],2,0)","v":45393.934235537781},"Manager","UK","4 to 6",27,{"$f":"VLOOKUP(F274,mapping!$L$2:$P$92,2,0)","v":1.0513109074688785},{"$f":"VLOOKUP($F274,mapping!$L$2:$P$92,3,0)","v":38592.1},{"$f":"VLOOKUP($F274,mapping!$L$2:$P$92,4,0)","v":"Major Advanced Economies (G7)"},{"$f":"$D274*VLOOKUP($E274,'Charts data'!$A$2:$B$11,2,0)*VLOOKUP($G274,'Charts data'!$A$14:$B$18,2,0)/IF('Charts data'!$E$3=1,I274,1)/IF('Charts data'!$E$4=1,J274,1)","v":45393.934235537781}]
["ID0575",21000,"GBP",{"$f":"B275*VLOOKUP(C275,tblXrate[],2,0)","v":33099.743713412965},"Analyst","UK","8 Hrs",10,{"$f":"VLOOKUP(F275,mapping!$L$2:$P$92,2,0)","v":1.0513109074688785},{"$f":"VLOOKUP($F275,mapping!$L$2:$P$92,3,0)","v":38592.1},{"$f":"VLOOKUP($F275,mapping!$L$2:$P$92,4,0)","v":"Major Advanced Economies (G7)"},{"$f":"$D275*VLOOKUP($E275,'Charts data'!$A$2:$B$11,2,0)*VLOOKUP($G275,'Charts data'!$A$14:$B$18,2,0)/IF('Charts data'!$E$3=1,I275,1)/IF('Charts data'!$E$4=1,J275,1)","v":33099.743713412965}]
["ID0746",74000,"GBP",{"$f":"B276*VLOOKUP(C276,tblXrate[],2,0)","v":116637.19213297902},"Manager","UK","4 to 6",5,{"$f":"VLOOKUP(F276,mapping!$L$2:$P$92,2,0)","v":1.0513109074688785},{"$f":"VLOOKUP($F276,mapping!$L$2:$P$92,3,0)","v":38592.1},{"$f":"VLOOKUP($F276,mapping!$L$2:$P$92,4,0)","v":"Major Advanced Economies (G7)"},{"$f":"$D276*VLOOKUP($E276,'Charts data'!$A$2:$B$11,2,0)*VLOOKUP($G276,'Charts data'!$A$14:$B$18,2,0)/IF('Charts data'!$E$3=1,I276,1)/IF('Charts data'!$E$4=1,J276,1)","v":116637.19213297902}]
["ID0747",21798,"GBP",{"$f":"B277*VLOOKUP(C277,tblXrate[],2,0)","v":34357.533974522659},"Analyst","UK","8 Hrs",1.5,{"$f":"VLOOKUP(F277,mapping!$L$2:$P$92,2,0)","v":1.0513109074688785},{"$f":"VLOOKUP($F277,mapping!$L$2:$P$92,3,0)","v":38592.1},{"$f":"VLOOKUP($F277,mapping!$L$2:$P$92,4,0)","v":"Major Advanced Economies (G7)"},{"$f":"$D277*VLOOKUP($E277,'Charts data'!$A$2:$B$11,2,0)*VLOOKUP($G277,'Charts data'!$A$14:$B$18,2,0)/IF('Charts data'!$E$3=1,I277,1)/IF('Charts data'!$E$4=1,J277,1)","v":34357.533974522659}]
["ID0748",65000,"GBP",{"$f":"B278*VLOOKUP(C278,tblXrate[],2,0)","v":102451.58768437347},"Manager","UK","4 to 6",15,{"$f":"VLOOKUP(F278,mapping!$L$2:$P$92,2,0)","v":1.0513109074688785},{"$f":"VLOOKUP($F278,mapping!$L$2:$P$92,3,0)","v":38592.1},{"$f":"VLOOKUP($F278,mapping!$L$2:$P$92,4,0)","v":"Major Advanced Economies (G7)"},{"$f":"$D278*VLOOKUP($E278,'Charts data'!$A$2:$B$11,2,0)*VLOOKUP($G278,'Charts data'!$A$14:$B$18,2,0)/IF('Charts data'!$E$3=1,I278,1)/IF('Charts data'!$E$4=1,J278,1)","v":102451.58768437347}]
["ID0755",24000,"GBP",{"$f":"B279*VLOOKUP(C279,tblXrate[],2,0)","v":37828.278529614821},"Specialist","UK","8 Hrs",8,{"$f":"VLOOKUP(F279,mapping!$L$2:$P$92,2,0)","v":1.0513109074688785},{"$f":"VLOOKUP($F279,mapping!$L$2:$P$92,3,0)","v":38592.1},{"$f":"VLOOKUP($F279,mapping!$L$2:$P$92,4,0)","v":"Major Advanced Economies (G7)"},{"$f":"$D279*VLOOKUP($E279,'Charts data'!$A$2:$B$11,2,0)*VLOOKUP($G279,'Charts data'!$A$14:$B$18,2,0)/IF('Charts data'!$E$3=1,I279,1)/IF('Charts data'!$E$4=1,J279,1)","v":37828.278529614821}]
["ID0800",29000,"GBP",{"$f":"B280*VLOOKUP(C280,tblXrate[],2,0)","v":45709.169889951241},"Reporting","UK","2 to 3",15,{"$f":"VLOOKUP(F280,mapping!$L$2:$P$92,2,0)","v":1.0513109074688785},{"$f":"VLOOKUP($F280,mapping!$L$2:$P$92,3,0)","v":38592.1},{"$f":"VLOOKUP($F280,mapping!$L$2:$P$92,4,0)","v":"Major Advanced Economies (G7)"},{"$f":"$D280*VLOOKUP($E280,'Charts data'!$A$2:$B$11,2,0)*VLOOKUP($G280,'Charts data'!$A$14:$B$18,2,0)/IF('Charts data'!$E$3=1,I280,1)/IF('Charts data'!$E$4=1,J280,1)","v":45709.169889951241}]
["ID0820",55000,"GBP",{"$f":"B281*VLOOKUP(C281,tblXrate[],2,0)","v":86689.804963700633},"Controller","UK","4 to 6",12,{"$f":"VLOOKUP(F281,mapping!$L$2:$P$92,2,0)","v":1.0513109074688785},{"$f":"VLOOKUP($F281,mapping!$L$2:$P$92,3,0)","v":38592.1},{"$f":"VLOOKUP($F281,mapping!$L$2:$P$92,4,0)","v":"Major Advanced Economies (G7)"},{"$f":"$D281*VLOOKUP($E281,'Charts data'!$A$2:$B$11,2,0)*VLOOKUP($G281,'Charts data'!$A$14:$B$18,2,0)/IF('Charts data'!$E$3=1,I281,1)/IF('Charts data'!$E$4=1,J281,1)","v":86689.804963700633}]
["ID0844",100000,"GBP",{"$f":"B282*VLOOKUP(C282,tblXrate[],2,0)","v":157617.8272067284},"Controller","UK","2 to 3",20,{"$f":"VLOOKUP(F282,mapping!$L$2:$P$92,2,0)","v":1.0513109074688785},{"$f":"VLOOKUP($F282,mapping!$L$2:$P$92,3,0)","v":38592.1},{"$f":"VLOOKUP($F282,mapping!$L$2:$P$92,4,0)","v":"Major Advanced Economies (G7)"},{"$f":"$D282*VLOOKUP($E282,'Charts data'!$A$2:$B$11,2,0)*VLOOKUP($G282,'Charts data'!$A$14:$B$18,2,0)/IF('Charts data'!$E$3=1,I282,1)/IF('Charts data'!$E$4=1,J282,1)","v":157617.8272067284}]
["ID0909",80000,"GBP",{"$f":"B283*VLOOKUP(C283,tblXrate[],2,0)","v":126094.26176538273},"Accountant","UK","4 to 6",10,{"$f":"VLOOKUP(F283,mapping!$L$2:$P$92,2,0)","v":1.0513109074688785},{"$f":"VLOOKUP($F283,mapping!$L$2:$P$92,3,0)","v":38592.1},{"$f":"VLOOKUP($F283,mapping!$L$2:$P$92,4,0)","v":"Major Advanced Economies (G7)"},{"$f":"$D283*VLOOKUP($E283,'Charts data'!$A$2:$B$11,2,0)*VLOOKUP($G283,'Charts data'!$A$14:$B$18,2,0)/IF('Charts data'!$E$3=1,I283,1)/IF('Charts data'!$E$4=1,J283,1)","v":126094.26176538273}]
["ID0916",65000,"GBP",{"$f":"B284*VLOOKUP(C284,tblXrate[],2,0)","v":102451.58768437347},"Manager","UK","1 or 2",15,{"$f":"VLOOKUP(F284,mapping!$L$2:$P$92,2,0)","v":1.0513109074688785},{"$f":"VLOOKUP($F284,mapping!$L$2:$P$92,3,0)","v":38592.1},{"$f":"VLOOKUP($F284,mapping!$L$2:$P$92,4,0)","v":"Major Advanced Economies (G7)"},{"$f":"$D284*VLOOKUP($E284,'Charts data'!$A$2:$B$11,2,0)*VLOOKUP($G284,'Charts data'!$A$14:$B$18,2,0)/IF('Charts data'!$E$3=1,I284,1)/IF('Charts data'!$E$4=1,J284,1)","v":102451.58768437347}]
["ID0918",64210,"GBP",{"$f":"B285*VLOOKUP(C285,tblXrate[],2,0)","v":101206.40684944032},"Consultant","UK","4 to 6",16,{"$f":"VLOOKUP(F285,mapping!$L$2:$P$92,2,0)","v":1.0513109074688785},{"$f":"VLOOKUP($F285,mapping!$L$2:$P$92,3,0)","v":38592.1},{"$f":"VLOOKUP($F285,mapping!$L$2:$P$92,4,0)","v":"Major Advanced Economies (G7)"},{"$f":"$D285*VLOOKUP($E285,'Charts data'!$A$2:$B$11,2,0)*VLOOKUP($G285,'Charts data'!$A$14:$B$18,2,0)/IF('Charts data'!$E$3=1,I285,1)/IF('Charts data'!$E$4=1,J285,1)","v":101206.40684944032}]
["ID0932",50000,"GBP",{"$f":"B286*VLOOKUP(C286,tblXrate[],2,0)","v":78808.913603364199},"Analyst","UK","8 Hrs",10,{"$f":"VLOOKUP(F286,mapping!$L$2:$P$92,2,0)","v":1.0513109074688785},{"$f":"VLOOKUP($F286,mapping!$L$2:$P$92,3,0)","v":38592.1},{"$f":"VLOOKUP($F286,mapping!$L$2:$P$92,4,0)","v":"Major Advanced Economies (G7)"},{"$f":"$D286*VLOOKUP($E286,'Charts data'!$A$2:$B$11,2,0)*VLOOKUP($G286,'Charts data'!$A$14:$B$18,2,0)/IF('Charts data'!$E$3=1,I286,1)/IF('Charts data'!$E$4=1,J286,1)","v":78808.913603364199}]
["ID1055",26000,"GBP",{"$f":"B287*VLOOKUP(C287,tblXrate[],2,0)","v":40980.635073749385},"Consultant","UK","8 Hrs",8,{"$f":"VLOOKUP(F287,mapping!$L$2:$P$92,2,0)","v":1.0513109074688785},{"$f":"VLOOKUP($F287,mapping!$L$2:$P$92,3,0)","v":38592.1},{"$f":"VLOOKUP($F287,mapping!$L$2:$P$92,4,0)","v":"Major Advanced Economies (G7)"},{"$f":"$D287*VLOOKUP($E287,'Charts data'!$A$2:$B$11,2,0)*VLOOKUP($G287,'Charts data'!$A$14:$B$18,2,0)/IF('Charts data'!$E$3=1,I287,1)/IF('Charts data'!$E$4=1,J287,1)","v":40980.635073749385}]
["ID1062",28000,"GBP",{"$f":"B288*VLOOKUP(C288,tblXrate[],2,0)","v":44132.991617883956},"Analyst","UK","2 to 3",16,{"$f":"VLOOKUP(F288,mapping!$L$2:$P$92,2,0)","v":1.0513109074688785},{"$f":"VLOOKUP($F288,mapping!$L$2:$P$92,3,0)","v":38592.1},{"$f":"VLOOKUP($F288,mapping!$L$2:$P$92,4,0)","v":"Major Advanced Economies (G7)"},{"$f":"$D288*VLOOKUP($E288,'Charts data'!$A$2:$B$11,2,0)*VLOOKUP($G288,'Charts data'!$A$14:$B$18,2,0)/IF('Charts data'!$E$3=1,I288,1)/IF('Charts data'!$E$4=1,J288,1)","v":44132.991617883956}]
["ID1072",15600,"GBP",{"$f":"B289*VLOOKUP(C289,tblXrate[],2,0)","v":24588.381044249632},"Analyst","UK","8 Hrs",0,{"$f":"VLOOKUP(F289,mapping!$L$2:$P$92,2,0)","v":1.0513109074688785},{"$f":"VLOOKUP($F289,mapping!$L$2:$P$92,3,0)","v":38592.1},{"$f":"VLOOKUP($F289,mapping!$L$2:$P$92,4,0)","v":"Major Advanced Economies (G7)"},{"$f":"$D289*VLOOKUP($E289,'Charts data'!$A$2:$B$11,2,0)*VLOOKUP($G289,'Charts data'!$A$14:$B$18,2,0)/IF('Charts data'!$E$3=1,I289,1)/IF('Charts data'!$E$4=1,J289,1)","v":24588.381044249632}]
["ID1076",50000,"GBP",{"$f":"B290*VLOOKUP(C290,tblXrate[],2,0)","v":78808.913603364199},"Manager","UK","2 to 3",12,{"$f":"VLOOKUP(F290,mapping!$L$2:$P$92,2,0)","v":1.0513109074688785},{"$f":"VLOOKUP($F290,mapping!$L$2:$P$92,3,0)","v":38592.1},{"$f":"VLOOKUP($F290,mapping!$L$2:$P$92,4,0)","v":"Major Advanced Economies (G7)"},{"$f":"$D290*VLOOKUP($E290,'Charts data'!$A$2:$B$11,2,0)*VLOOKUP($G290,'Charts data'!$A$14:$B$18,2,0)/IF('Charts data'!$E$3=1,I290,1)/IF('Charts data'!$E$4=1,J290,1)","v":78808.913603364199}]
["ID1079",30000,"GBP",{"$f":"B291*VLOOKUP(C291,tblXrate[],2,0)","v":47285.348162018527},"Analyst","UK","8 Hrs",15,{"$f":"VLOOKUP(F291,mapping!$L$2:$P$92,2,0)","v":1.0513109074688785},{"$f":"VLOOKUP($F291,mapping!$L$2:$P$92,3,0)","v":38592.1},{"$f":"VLOOKUP($F291,mapping!$L$2:$P$92,4,0)","v":"Major Advanced Economies (G7)"},{"$f":"$D291*VLOOKUP($E291,'Charts data'!$A$2:$B$11,2,0)*VLOOKUP($G291,'Charts data'!$A$14:$B$18,2,0)/IF('Charts data'!$E$3=1,I291,1)/IF('Charts data'!$E$4=1,J291,1)","v":47285.348162018527}]
["ID1083",20000,"GBP",{"$f":"B292*VLOOKUP(C292,tblXrate[],2,0)","v":31523.565441345683},"Analyst","UK","4 to 6",1,{"$f":"VLOOKUP(F292,mapping!$L$2:$P$92,2,0)","v":1.0513109074688785},{"$f":"VLOOKUP($F292,mapping!$L$2:$P$92,3,0)","v":38592.1},{"$f":"VLOOKUP($F292,mapping!$L$2:$P$92,4,0)","v":"Major Advanced Economies (G7)"},{"$f":"$D292*VLOOKUP($E292,'Charts data'!$A$2:$B$11,2,0)*VLOOKUP($G292,'Charts data'!$A$14:$B$18,2,0)/IF('Charts data'!$E$3=1,I292,1)/IF('Charts data'!$E$4=1,J292,1)","v":31523.565441345683}]
["ID1085",80000,"GBP",{"$f":"B293*VLOOKUP(C293,tblXrate[],2,0)","v":126094.26176538273},"Consultant","UK","4 to 6",10,{"$f":"VLOOKUP(F293,mapping!$L$2:$P$92,2,0)","v":1.0513109074688785},{"$f":"VLOOKUP($F293,mapping!$L$2:$P$92,3,0)","v":38592.1},{"$f":"VLOOKUP($F293,mapping!$L$2:$P$92,4,0)","v":"Major Advanced Economies (G7)"},{"$f":"$D293*VLOOKUP($E293,'Charts data'!$A$2:$B$11,2,0)*VLOOKUP($G293,'Charts data'!$A$14:$B$18,2,0)/IF('Charts data'!$E$3=1,I293,1)/IF('Charts data'!$E$4=1,J293,1)","v":126094.26176538273}]
["ID1086",63000,"GBP",{"$f":"B294*VLOOKUP(C294,tblXrate[],2,0)","v":99299.231140238902},"Specialist","UK","2 to 3",1,{"$f":"VLOOKUP(F294,mapping!$L$2:$P$92,2,0)","v":1.0513109074688785},{"$f":"VLOOKUP($F294,mapping!$L$2:$P$92,3,0)","v":38592.1},{"$f":"VLOOKUP($F294,mapping!$L$2:$P$92,4,0)","v":"Major Advanced Economies (G7)"},{"$f":"$D294*VLOOKUP($E294,'Charts data'!$A$2:$B$11,2,0)*VLOOKUP($G294,'Charts data'!$A$14:$B$18,2,0)/IF('Charts data'!$E$3=1,I294,1)/IF('Charts data'!$E$4=1,J294,1)","v":99299.231140238902}]
["ID1087",55000,"GBP",{"$f":"B295*VLOOKUP(C295,tblXrate[],2,0)","v":86689.804963700633},"CXO or Top Mgmt.","UK","2 to 3",22,{"$f":"VLOOKUP(F295,mapping!$L$2:$P$92,2,0)","v":1.0513109074688785},{"$f":"VLOOKUP($F295,mapping!$L$2:$P$92,3,0)","v":38592.1},{"$f":"VLOOKUP($F295,mapping!$L$2:$P$92,4,0)","v":"Major Advanced Economies (G7)"},{"$f":"$D295*VLOOKUP($E295,'Charts data'!$A$2:$B$11,2,0)*VLOOKUP($G295,'Charts data'!$A$14:$B$18,2,0)/IF('Charts data'!$E$3=1,I295,1)/IF('Charts data'!$E$4=1,J295,1)","v":86689.804963700633}]
["ID1092",40500,"GBP",{"$f":"B296*VLOOKUP(C296,tblXrate[],2,0)","v":63835.220018725006},"Manager","UK","2 to 3",25,{"$f":"VLOOKUP(F296,mapping!$L$2:$P$92,2,0)","v":1.0513109074688785},{"$f":"VLOOKUP($F296,mapping!$L$2:$P$92,3,0)","v":38592.1},{"$f":"VLOOKUP($F296,mapping!$L$2:$P$92,4,0)","v":"Major Advanced Economies (G7)"},{"$f":"$D296*VLOOKUP($E296,'Charts data'!$A$2:$B$11,2,0)*VLOOKUP($G296,'Charts data'!$A$14:$B$18,2,0)/IF('Charts data'!$E$3=1,I296,1)/IF('Charts data'!$E$4=1,J296,1)","v":63835.220018725006}]
["ID1093",23000,"GBP",{"$f":"B297*VLOOKUP(C297,tblXrate[],2,0)","v":36252.100257547536},"Analyst","UK","8 Hrs",5,{"$f":"VLOOKUP(F297,mapping!$L$2:$P$92,2,0)","v":1.0513109074688785},{"$f":"VLOOKUP($F297,mapping!$L$2:$P$92,3,0)","v":38592.1},{"$f":"VLOOKUP($F297,mapping!$L$2:$P$92,4,0)","v":"Major Advanced Economies (G7)"},{"$f":"$D297*VLOOKUP($E297,'Charts data'!$A$2:$B$11,2,0)*VLOOKUP($G297,'Charts data'!$A$14:$B$18,2,0)/IF('Charts data'!$E$3=1,I297,1)/IF('Charts data'!$E$4=1,J297,1)","v":36252.100257547536}]
["ID1097",30000,"GBP",{"$f":"B298*VLOOKUP(C298,tblXrate[],2,0)","v":47285.348162018527},"Analyst","UK","4 to 6",4,{"$f":"VLOOKUP(F298,mapping!$L$2:$P$92,2,0)","v":1.0513109074688785},{"$f":"VLOOKUP($F298,mapping!$L$2:$P$92,3,0)","v":38592.1},{"$f":"VLOOKUP($F298,mapping!$L$2:$P$92,4,0)","v":"Major Advanced Economies (G7)"},{"$f":"$D298*VLOOKUP($E298,'Charts data'!$A$2:$B$11,2,0)*VLOOKUP($G298,'Charts data'!$A$14:$B$18,2,0)/IF('Charts data'!$E$3=1,I298,1)/IF('Charts data'!$E$4=1,J298,1)","v":47285.348162018527}]
["ID1098",48000,"GBP",{"$f":"B299*VLOOKUP(C299,tblXrate[],2,0)","v":75656.557059229643},"Manager","UK","2 to 3",10,{"$f":"VLOOKUP(F299,mapping!$L$2:$P$92,2,0)","v":1.0513109074688785},{"$f":"VLOOKUP($F299,mapping!$L$2:$P$92,3,0)","v":38592.1},{"$f":"VLOOKUP($F299,mapping!$L$2:$P$92,4,0)","v":"Major Advanced Economies (G7)"},{"$f":"$D299*VLOOKUP($E299,'Charts data'!$A$2:$B$11,2,0)*VLOOKUP($G299,'Charts data'!$A$14:$B$18,2,0)/IF('Charts data'!$E$3=1,I299,1)/IF('Charts data'!$E$4=1,J299,1)","v":75656.557059229643}]
["ID1101",30000,"GBP",{"$f":"B300*VLOOKUP(C300,tblXrate[],2,0)","v":47285.348162018527},"Analyst","UK","8 Hrs",10,{"$f":"VLOOKUP(F300,mapping!$L$2:$P$92,2,0)","v":1.0513109074688785},{"$f":"VLOOKUP($F300,mapping!$L$2:$P$92,3,0)","v":38592.1},{"$f":"VLOOKUP($F300,mapping!$L$2:$P$92,4,0)","v":"Major Advanced Economies (G7)"},{"$f":"$D300*VLOOKUP($E300,'Charts data'!$A$2:$B$11,2,0)*VLOOKUP($G300,'Charts data'!$A$14:$B$18,2,0)/IF('Charts data'!$E$3=1,I300,1)/IF('Charts data'!$E$4=1,J300,1)","v":47285.348162018527}]
["ID1102",58000,"GBP",{"$f":"B301*VLOOKUP(C301,tblXrate[],2,0)","v":91418.339779902482},"Analyst","UK","8 Hrs",8,{"$f":"VLOOKUP(F301,mapping!$L$2:$P$92,2,0)","v":1.0513109074688785},{"$f":"VLOOKUP($F301,mapping!$L$2:$P$92,3,0)","v":38592.1},{"$f":"VLOOKUP($F301,mapping!$L$2:$P$92,4,0)","v":"Major Advanced Economies (G7)"},{"$f":"$D301*VLOOKUP($E301,'Charts data'!$A$2:$B$11,2,0)*VLOOKUP($G301,'Charts data'!$A$14:$B$18,2,0)/IF('Charts data'!$E$3=1,I301,1)/IF('Charts data'!$E$4=1,J301,1)","v":91418.339779902482}]
["ID1103",79000,"GBP",{"$f":"B302*VLOOKUP(C302,tblXrate[],2,0)","v":124518.08349331544},"Analyst","UK","2 to 3",14,{"$f":"VLOOKUP(F302,mapping!$L$2:$P$92,2,0)","v":1.0513109074688785},{"$f":"VLOOKUP($F302,mapping!$L$2:$P$92,3,0)","v":38592.1},{"$f":"VLOOKUP($F302,mapping!$L$2:$P$92,4,0)","v":"Major Advanced Economies (G7)"},{"$f":"$D302*VLOOKUP($E302,'Charts data'!$A$2:$B$11,2,0)*VLOOKUP($G302,'Charts data'!$A$14:$B$18,2,0)/IF('Charts data'!$E$3=1,I302,1)/IF('Charts data'!$E$4=1,J302,1)","v":124518.08349331544}]
["ID1104",43912,"GBP",{"$f":"B303*VLOOKUP(C303,tblXrate[],2,0)","v":69213.140283018583},"Analyst","UK","8 Hrs",3,{"$f":"VLOOKUP(F303,mapping!$L$2:$P$92,2,0)","v":1.0513109074688785},{"$f":"VLOOKUP($F303,mapping!$L$2:$P$92,3,0)","v":38592.1},{"$f":"VLOOKUP($F303,mapping!$L$2:$P$92,4,0)","v":"Major Advanced Economies (G7)"},{"$f":"$D303*VLOOKUP($E303,'Charts data'!$A$2:$B$11,2,0)*VLOOKUP($G303,'Charts data'!$A$14:$B$18,2,0)/IF('Charts data'!$E$3=1,I303,1)/IF('Charts data'!$E$4=1,J303,1)","v":69213.140283018583}]
["ID1107",40000,"GBP",{"$f":"B304*VLOOKUP(C304,tblXrate[],2,0)","v":63047.130882691366},"Manager","UK","1 or 2",20,{"$f":"VLOOKUP(F304,mapping!$L$2:$P$92,2,0)","v":1.0513109074688785},{"$f":"VLOOKUP($F304,mapping!$L$2:$P$92,3,0)","v":38592.1},{"$f":"VLOOKUP($F304,mapping!$L$2:$P$92,4,0)","v":"Major Advanced Economies (G7)"},{"$f":"$D304*VLOOKUP($E304,'Charts data'!$A$2:$B$11,2,0)*VLOOKUP($G304,'Charts data'!$A$14:$B$18,2,0)/IF('Charts data'!$E$3=1,I304,1)/IF('Charts data'!$E$4=1,J304,1)","v":63047.130882691366}]
["ID1111",35000,"GBP",{"$f":"B305*VLOOKUP(C305,tblXrate[],2,0)","v":55166.239522354947},"Analyst","UK","2 to 3",6,{"$f":"VLOOKUP(F305,mapping!$L$2:$P$92,2,0)","v":1.0513109074688785},{"$f":"VLOOKUP($F305,mapping!$L$2:$P$92,3,0)","v":38592.1},{"$f":"VLOOKUP($F305,mapping!$L$2:$P$92,4,0)","v":"Major Advanced Economies (G7)"},{"$f":"$D305*VLOOKUP($E305,'Charts data'!$A$2:$B$11,2,0)*VLOOKUP($G305,'Charts data'!$A$14:$B$18,2,0)/IF('Charts data'!$E$3=1,I305,1)/IF('Charts data'!$E$4=1,J305,1)","v":55166.239522354947}]
["ID1115",75000,"GBP",{"$f":"B306*VLOOKUP(C306,tblXrate[],2,0)","v":118213.37040504631},"Manager","UK","2 to 3",10,{"$f":"VLOOKUP(F306,mapping!$L$2:$P$92,2,0)","v":1.0513109074688785},{"$f":"VLOOKUP($F306,mapping!$L$2:$P$92,3,0)","v":38592.1},{"$f":"VLOOKUP($F306,mapping!$L$2:$P$92,4,0)","v":"Major Advanced Economies (G7)"},{"$f":"$D306*VLOOKUP($E306,'Charts data'!$A$2:$B$11,2,0)*VLOOKUP($G306,'Charts data'!$A$14:$B$18,2,0)/IF('Charts data'!$E$3=1,I306,1)/IF('Charts data'!$E$4=1,J306,1)","v":118213.37040504631}]
["ID1117",45000,"GBP",{"$f":"B307*VLOOKUP(C307,tblXrate[],2,0)","v":70928.022243027779},"CXO or Top Mgmt.","UK","4 to 6",8,{"$f":"VLOOKUP(F307,mapping!$L$2:$P$92,2,0)","v":1.0513109074688785},{"$f":"VLOOKUP($F307,mapping!$L$2:$P$92,3,0)","v":38592.1},{"$f":"VLOOKUP($F307,mapping!$L$2:$P$92,4,0)","v":"Major Advanced Economies (G7)"},{"$f":"$D307*VLOOKUP($E307,'Charts data'!$A$2:$B$11,2,0)*VLOOKUP($G307,'Charts data'!$A$14:$B$18,2,0)/IF('Charts data'!$E$3=1,I307,1)/IF('Charts data'!$E$4=1,J307,1)","v":70928.022243027779}]
["ID1118",25000,"GBP",{"$f":"B308*VLOOKUP(C308,tblXrate[],2,0)","v":39404.456801682099},"Analyst","UK","4 to 6",3,{"$f":"VLOOKUP(F308,mapping!$L$2:$P$92,2,0)","v":1.0513109074688785},{"$f":"VLOOKUP($F308,mapping!$L$2:$P$92,3,0)","v":38592.1},{"$f":"VLOOKUP($F308,mapping!$L$2:$P$92,4,0)","v":"Major Advanced Economies (G7)"},{"$f":"$D308*VLOOKUP($E308,'Charts data'!$A$2:$B$11,2,0)*VLOOKUP($G308,'Charts data'!$A$14:$B$18,2,0)/IF('Charts data'!$E$3=1,I308,1)/IF('Charts data'!$E$4=1,J308,1)","v":39404.456801682099}]
["ID1120",28500,"GBP",{"$f":"B309*VLOOKUP(C309,tblXrate[],2,0)","v":44921.080753917595},"Manager","UK","1 or 2",15,{"$f":"VLOOKUP(F309,mapping!$L$2:$P$92,2,0)","v":1.0513109074688785},{"$f":"VLOOKUP($F309,mapping!$L$2:$P$92,3,0)","v":38592.1},{"$f":"VLOOKUP($F309,mapping!$L$2:$P$92,4,0)","v":"Major Advanced Economies (G7)"},{"$f":"$D309*VLOOKUP($E309,'Charts data'!$A$2:$B$11,2,0)*VLOOKUP($G309,'Charts data'!$A$14:$B$18,2,0)/IF('Charts data'!$E$3=1,I309,1)/IF('Charts data'!$E$4=1,J309,1)","v":44921.080753917595}]
["ID1122",45200,"GBP",{"$f":"B310*VLOOKUP(C310,tblXrate[],2,0)","v":71243.257897441246},"Manager","UK","2 to 3",5,{"$f":"VLOOKUP(F310,mapping!$L$2:$P$92,2,0)","v":1.0513109074688785},{"$f":"VLOOKUP($F310,mapping!$L$2:$P$92,3,0)","v":38592.1},{"$f":"VLOOKUP($F310,mapping!$L$2:$P$92,4,0)","v":"Major Advanced Economies (G7)"},{"$f":"$D310*VLOOKUP($E310,'Charts data'!$A$2:$B$11,2,0)*VLOOKUP($G310,'Charts data'!$A$14:$B$18,2,0)/IF('Charts data'!$E$3=1,I310,1)/IF('Charts data'!$E$4=1,J310,1)","v":71243.257897441246}]
["ID1133",15000,"GBP",{"$f":"B311*VLOOKUP(C311,tblXrate[],2,0)","v":23642.674081009263},"Reporting","UK","8 Hrs",2,{"$f":"VLOOKUP(F311,mapping!$L$2:$P$92,2,0)","v":1.0513109074688785},{"$f":"VLOOKUP($F311,mapping!$L$2:$P$92,3,0)","v":38592.1},{"$f":"VLOOKUP($F311,mapping!$L$2:$P$92,4,0)","v":"Major Advanced Economies (G7)"},{"$f":"$D311*VLOOKUP($E311,'Charts data'!$A$2:$B$11,2,0)*VLOOKUP($G311,'Charts data'!$A$14:$B$18,2,0)/IF('Charts data'!$E$3=1,I311,1)/IF('Charts data'!$E$4=1,J311,1)","v":23642.674081009263}]
["ID1141",29000,"GBP",{"$f":"B312*VLOOKUP(C312,tblXrate[],2,0)","v":45709.169889951241},"Analyst","UK","4 to 6",14,{"$f":"VLOOKUP(F312,mapping!$L$2:$P$92,2,0)","v":1.0513109074688785},{"$f":"VLOOKUP($F312,mapping!$L$2:$P$92,3,0)","v":38592.1},{"$f":"VLOOKUP($F312,mapping!$L$2:$P$92,4,0)","v":"Major Advanced Economies (G7)"},{"$f":"$D312*VLOOKUP($E312,'Charts data'!$A$2:$B$11,2,0)*VLOOKUP($G312,'Charts data'!$A$14:$B$18,2,0)/IF('Charts data'!$E$3=1,I312,1)/IF('Charts data'!$E$4=1,J312,1)","v":45709.169889951241}]
["ID1148",23000,"GBP",{"$f":"B313*VLOOKUP(C313,tblXrate[],2,0)","v":36252.100257547536},"Manager","UK","4 to 6",10,{"$f":"VLOOKUP(F313,mapping!$L$2:$P$92,2,0)","v":1.0513109074688785},{"$f":"VLOOKUP($F313,mapping!$L$2:$P$92,3,0)","v":38592.1},{"$f":"VLOOKUP($F313,mapping!$L$2:$P$92,4,0)","v":"Major Advanced Economies (G7)"},{"$f":"$D313*VLOOKUP($E313,'Charts data'!$A$2:$B$11,2,0)*VLOOKUP($G313,'Charts data'!$A$14:$B$18,2,0)/IF('Charts data'!$E$3=1,I313,1)/IF('Charts data'!$E$4=1,J313,1)","v":36252.100257547536}]
["ID1149",30000,"GBP",{"$f":"B314*VLOOKUP(C314,tblXrate[],2,0)","v":47285.348162018527},"Accountant","UK","2 to 3",5,{"$f":"VLOOKUP(F314,mapping!$L$2:$P$92,2,0)","v":1.0513109074688785},{"$f":"VLOOKUP($F314,mapping!$L$2:$P$92,3,0)","v":38592.1},{"$f":"VLOOKUP($F314,mapping!$L$2:$P$92,4,0)","v":"Major Advanced Economies (G7)"},{"$f":"$D314*VLOOKUP($E314,'Charts data'!$A$2:$B$11,2,0)*VLOOKUP($G314,'Charts data'!$A$14:$B$18,2,0)/IF('Charts data'!$E$3=1,I314,1)/IF('Charts data'!$E$4=1,J314,1)","v":47285.348162018527}]
["ID1153",35000,"GBP",{"$f":"B315*VLOOKUP(C315,tblXrate[],2,0)","v":55166.239522354947},"Analyst","UK","4 to 6",10,{"$f":"VLOOKUP(F315,mapping!$L$2:$P$92,2,0)","v":1.0513109074688785},{"$f":"VLOOKUP($F315,mapping!$L$2:$P$92,3,0)","v":38592.1},{"$f":"VLOOKUP($F315,mapping!$L$2:$P$92,4,0)","v":"Major Advanced Economies (G7)"},{"$f":"$D315*VLOOKUP($E315,'Charts data'!$A$2:$B$11,2,0)*VLOOKUP($G315,'Charts data'!$A$14:$B$18,2,0)/IF('Charts data'!$E$3=1,I315,1)/IF('Charts data'!$E$4=1,J315,1)","v":55166.239522354947}]
["ID1156",37500,"GBP",{"$f":"B316*VLOOKUP(C316,tblXrate[],2,0)","v":59106.685202523156},"Accountant","UK","2 to 3",5,{"$f":"VLOOKUP(F316,mapping!$L$2:$P$92,2,0)","v":1.0513109074688785},{"$f":"VLOOKUP($F316,mapping!$L$2:$P$92,3,0)","v":38592.1},{"$f":"VLOOKUP($F316,mapping!$L$2:$P$92,4,0)","v":"Major Advanced Economies (G7)"},{"$f":"$D316*VLOOKUP($E316,'Charts data'!$A$2:$B$11,2,0)*VLOOKUP($G316,'Charts data'!$A$14:$B$18,2,0)/IF('Charts data'!$E$3=1,I316,1)/IF('Charts data'!$E$4=1,J316,1)","v":59106.685202523156}]
["ID1170",80000,"GBP",{"$f":"B317*VLOOKUP(C317,tblXrate[],2,0)","v":126094.26176538273},"Controller","UK","4 to 6",15,{"$f":"VLOOKUP(F317,mapping!$L$2:$P$92,2,0)","v":1.0513109074688785},{"$f":"VLOOKUP($F317,mapping!$L$2:$P$92,3,0)","v":38592.1},{"$f":"VLOOKUP($F317,mapping!$L$2:$P$92,4,0)","v":"Major Advanced Economies (G7)"},{"$f":"$D317*VLOOKUP($E317,'Charts data'!$A$2:$B$11,2,0)*VLOOKUP($G317,'Charts data'!$A$14:$B$18,2,0)/IF('Charts data'!$E$3=1,I317,1)/IF('Charts data'!$E$4=1,J317,1)","v":126094.26176538273}]
["ID1175",32000,"GBP",{"$f":"B318*VLOOKUP(C318,tblXrate[],2,0)","v":50437.70470615309},"Analyst","UK","4 to 6",4,{"$f":"VLOOKUP(F318,mapping!$L$2:$P$92,2,0)","v":1.0513109074688785},{"$f":"VLOOKUP($F318,mapping!$L$2:$P$92,3,0)","v":38592.1},{"$f":"VLOOKUP($F318,mapping!$L$2:$P$92,4,0)","v":"Major Advanced Economies (G7)"},{"$f":"$D318*VLOOKUP($E318,'Charts data'!$A$2:$B$11,2,0)*VLOOKUP($G318,'Charts data'!$A$14:$B$18,2,0)/IF('Charts data'!$E$3=1,I318,1)/IF('Charts data'!$E$4=1,J318,1)","v":50437.70470615309}]
["ID1176",43000,"GBP",{"$f":"B319*VLOOKUP(C319,tblXrate[],2,0)","v":67775.665698893223},"Accountant","UK","8 Hrs",15,{"$f":"VLOOKUP(F319,mapping!$L$2:$P$92,2,0)","v":1.0513109074688785},{"$f":"VLOOKUP($F319,mapping!$L$2:$P$92,3,0)","v":38592.1},{"$f":"VLOOKUP($F319,mapping!$L$2:$P$92,4,0)","v":"Major Advanced Economies (G7)"},{"$f":"$D319*VLOOKUP($E319,'Charts data'!$A$2:$B$11,2,0)*VLOOKUP($G319,'Charts data'!$A$14:$B$18,2,0)/IF('Charts data'!$E$3=1,I319,1)/IF('Charts data'!$E$4=1,J319,1)","v":67775.665698893223}]
["ID1181",31763,"GBP",{"$f":"B320*VLOOKUP(C320,tblXrate[],2,0)","v":50064.150455673145},"Analyst","UK","2 to 3",2,{"$f":"VLOOKUP(F320,mapping!$L$2:$P$92,2,0)","v":1.0513109074688785},{"$f":"VLOOKUP($F320,mapping!$L$2:$P$92,3,0)","v":38592.1},{"$f":"VLOOKUP($F320,mapping!$L$2:$P$92,4,0)","v":"Major Advanced Economies (G7)"},{"$f":"$D320*VLOOKUP($E320,'Charts data'!$A$2:$B$11,2,0)*VLOOKUP($G320,'Charts data'!$A$14:$B$18,2,0)/IF('Charts data'!$E$3=1,I320,1)/IF('Charts data'!$E$4=1,J320,1)","v":50064.150455673145}]
["ID1205",34000,"GBP",{"$f":"B321*VLOOKUP(C321,tblXrate[],2,0)","v":53590.061250287661},"Accountant","UK","8 Hrs",10,{"$f":"VLOOKUP(F321,mapping!$L$2:$P$92,2,0)","v":1.0513109074688785},{"$f":"VLOOKUP($F321,mapping!$L$2:$P$92,3,0)","v":38592.1},{"$f":"VLOOKUP($F321,mapping!$L$2:$P$92,4,0)","v":"Major Advanced Economies (G7)"},{"$f":"$D321*VLOOKUP($E321,'Charts data'!$A$2:$B$11,2,0)*VLOOKUP($G321,'Charts data'!$A$14:$B$18,2,0)/IF('Charts data'!$E$3=1,I321,1)/IF('Charts data'!$E$4=1,J321,1)","v":53590.061250287661}]
["ID1206",34000,"GBP",{"$f":"B322*VLOOKUP(C322,tblXrate[],2,0)","v":53590.061250287661},"Accountant","UK","8 Hrs",10,{"$f":"VLOOKUP(F322,mapping!$L$2:$P$92,2,0)","v":1.0513109074688785},{"$f":"VLOOKUP($F322,mapping!$L$2:$P$92,3,0)","v":38592.1},{"$f":"VLOOKUP($F322,mapping!$L$2:$P$92,4,0)","v":"Major Advanced Economies (G7)"},{"$f":"$D322*VLOOKUP($E322,'Charts data'!$A$2:$B$11,2,0)*VLOOKUP($G322,'Charts data'!$A$14:$B$18,2,0)/IF('Charts data'!$E$3=1,I322,1)/IF('Charts data'!$E$4=1,J322,1)","v":53590.061250287661}]
["ID1232",26000,"GBP",{"$f":"B323*VLOOKUP(C323,tblXrate[],2,0)","v":40980.635073749385},"Analyst","UK","4 to 6",2,{"$f":"VLOOKUP(F323,mapping!$L$2:$P$92,2,0)","v":1.0513109074688785},{"$f":"VLOOKUP($F323,mapping!$L$2:$P$92,3,0)","v":38592.1},{"$f":"VLOOKUP($F323,mapping!$L$2:$P$92,4,0)","v":"Major Advanced Economies (G7)"},{"$f":"$D323*VLOOKUP($E323,'Charts data'!$A$2:$B$11,2,0)*VLOOKUP($G323,'Charts data'!$A$14:$B$18,2,0)/IF('Charts data'!$E$3=1,I323,1)/IF('Charts data'!$E$4=1,J323,1)","v":40980.635073749385}]
["ID1233",29000,"GBP",{"$f":"B324*VLOOKUP(C324,tblXrate[],2,0)","v":45709.169889951241},"Accountant","UK","2 to 3",8,{"$f":"VLOOKUP(F324,mapping!$L$2:$P$92,2,0)","v":1.0513109074688785},{"$f":"VLOOKUP($F324,mapping!$L$2:$P$92,3,0)","v":38592.1},{"$f":"VLOOKUP($F324,mapping!$L$2:$P$92,4,0)","v":"Major Advanced Economies (G7)"},{"$f":"$D324*VLOOKUP($E324,'Charts data'!$A$2:$B$11,2,0)*VLOOKUP($G324,'Charts data'!$A$14:$B$18,2,0)/IF('Charts data'!$E$3=1,I324,1)/IF('Charts data'!$E$4=1,J324,1)","v":45709.169889951241}]
["ID1240",75000,"GBP",{"$f":"B325*VLOOKUP(C325,tblXrate[],2,0)","v":118213.37040504631},"Manager","UK","4 to 6",20,{"$f":"VLOOKUP(F325,mapping!$L$2:$P$92,2,0)","v":1.0513109074688785},{"$f":"VLOOKUP($F325,mapping!$L$2:$P$92,3,0)","v":38592.1},{"$f":"VLOOKUP($F325,mapping!$L$2:$P$92,4,0)","v":"Major Advanced Economies (G7)"},{"$f":"$D325*VLOOKUP($E325,'Charts data'!$A$2:$B$11,2,0)*VLOOKUP($G325,'Charts data'!$A$14:$B$18,2,0)/IF('Charts data'!$E$3=1,I325,1)/IF('Charts data'!$E$4=1,J325,1)","v":118213.37040504631}]
["ID1241",25000,"GBP",{"$f":"B326*VLOOKUP(C326,tblXrate[],2,0)","v":39404.456801682099},"Accountant","UK","2 to 3",10,{"$f":"VLOOKUP(F326,mapping!$L$2:$P$92,2,0)","v":1.0513109074688785},{"$f":"VLOOKUP($F326,mapping!$L$2:$P$92,3,0)","v":38592.1},{"$f":"VLOOKUP($F326,mapping!$L$2:$P$92,4,0)","v":"Major Advanced Economies (G7)"},{"$f":"$D326*VLOOKUP($E326,'Charts data'!$A$2:$B$11,2,0)*VLOOKUP($G326,'Charts data'!$A$14:$B$18,2,0)/IF('Charts data'!$E$3=1,I326,1)/IF('Charts data'!$E$4=1,J326,1)","v":39404.456801682099}]
["ID1243",30000,"GBP",{"$f":"B327*VLOOKUP(C327,tblXrate[],2,0)","v":47285.348162018527},"Specialist","UK","4 to 6",14,{"$f":"VLOOKUP(F327,mapping!$L$2:$P$92,2,0)","v":1.0513109074688785},{"$f":"VLOOKUP($F327,mapping!$L$2:$P$92,3,0)","v":38592.1},{"$f":"VLOOKUP($F327,mapping!$L$2:$P$92,4,0)","v":"Major Advanced Economies (G7)"},{"$f":"$D327*VLOOKUP($E327,'Charts data'!$A$2:$B$11,2,0)*VLOOKUP($G327,'Charts data'!$A$14:$B$18,2,0)/IF('Charts data'!$E$3=1,I327,1)/IF('Charts data'!$E$4=1,J327,1)","v":47285.348162018527}]
["ID1246",34000,"GBP",{"$f":"B328*VLOOKUP(C328,tblXrate[],2,0)","v":53590.061250287661},"Accountant","UK","8 Hrs",10,{"$f":"VLOOKUP(F328,mapping!$L$2:$P$92,2,0)","v":1.0513109074688785},{"$f":"VLOOKUP($F328,mapping!$L$2:$P$92,3,0)","v":38592.1},{"$f":"VLOOKUP($F328,mapping!$L$2:$P$92,4,0)","v":"Major Advanced Economies (G7)"},{"$f":"$D328*VLOOKUP($E328,'Charts data'!$A$2:$B$11,2,0)*VLOOKUP($G328,'Charts data'!$A$14:$B$18,2,0)/IF('Charts data'!$E$3=1,I328,1)/IF('Charts data'!$E$4=1,J328,1)","v":53590.061250287661}]
["ID1251",43000,"GBP",{"$f":"B329*VLOOKUP(C329,tblXrate[],2,0)","v":67775.665698893223},"Controller","UK","4 to 6",25,{"$f":"VLOOKUP(F329,mapping!$L$2:$P$92,2,0)","v":1.0513109074688785},{"$f":"VLOOKUP($F329,mapping!$L$2:$P$92,3,0)","v":38592.1},{"$f":"VLOOKUP($F329,mapping!$L$2:$P$92,4,0)","v":"Major Advanced Economies (G7)"},{"$f":"$D329*VLOOKUP($E329,'Charts data'!$A$2:$B$11,2,0)*VLOOKUP($G329,'Charts data'!$A$14:$B$18,2,0)/IF('Charts data'!$E$3=1,I329,1)/IF('Charts data'!$E$4=1,J329,1)","v":67775.665698893223}]
["ID1252",25750,"GBP",{"$f":"B330*VLOOKUP(C330,tblXrate[],2,0)","v":40586.590505732565},"Analyst","UK","4 to 6",1,{"$f":"VLOOKUP(F330,mapping!$L$2:$P$92,2,0)","v":1.0513109074688785},{"$f":"VLOOKUP($F330,mapping!$L$2:$P$92,3,0)","v":38592.1},{"$f":"VLOOKUP($F330,mapping!$L$2:$P$92,4,0)","v":"Major Advanced Economies (G7)"},{"$f":"$D330*VLOOKUP($E330,'Charts data'!$A$2:$B$11,2,0)*VLOOKUP($G330,'Charts data'!$A$14:$B$18,2,0)/IF('Charts data'!$E$3=1,I330,1)/IF('Charts data'!$E$4=1,J330,1)","v":40586.590505732565}]
["ID1257",20000,"GBP",{"$f":"B331*VLOOKUP(C331,tblXrate[],2,0)","v":31523.565441345683},"Analyst","UK","4 to 6",1,{"$f":"VLOOKUP(F331,mapping!$L$2:$P$92,2,0)","v":1.0513109074688785},{"$f":"VLOOKUP($F331,mapping!$L$2:$P$92,3,0)","v":38592.1},{"$f":"VLOOKUP($F331,mapping!$L$2:$P$92,4,0)","v":"Major Advanced Economies (G7)"},{"$f":"$D331*VLOOKUP($E331,'Charts data'!$A$2:$B$11,2,0)*VLOOKUP($G331,'Charts data'!$A$14:$B$18,2,0)/IF('Charts data'!$E$3=1,I331,1)/IF('Charts data'!$E$4=1,J331,1)","v":31523.565441345683}]
["ID1332",45000,"GBP",{"$f":"B332*VLOOKUP(C332,tblXrate[],2,0)","v":70928.022243027779},"Consultant","UK","2 to 3",4,{"$f":"VLOOKUP(F332,mapping!$L$2:$P$92,2,0)","v":1.0513109074688785},{"$f":"VLOOKUP($F332,mapping!$L$2:$P$92,3,0)","v":38592.1},{"$f":"VLOOKUP($F332,mapping!$L$2:$P$92,4,0)","v":"Major Advanced Economies (G7)"},{"$f":"$D332*VLOOKUP($E332,'Charts data'!$A$2:$B$11,2,0)*VLOOKUP($G332,'Charts data'!$A$14:$B$18,2,0)/IF('Charts data'!$E$3=1,I332,1)/IF('Charts data'!$E$4=1,J332,1)","v":70928.022243027779}]
["ID1340",26000,"GBP",{"$f":"B333*VLOOKUP(C333,tblXrate[],2,0)","v":40980.635073749385},"Analyst","UK","4 to 6",2,{"$f":"VLOOKUP(F333,mapping!$L$2:$P$92,2,0)","v":1.0513109074688785},{"$f":"VLOOKUP($F333,mapping!$L$2:$P$92,3,0)","v":38592.1},{"$f":"VLOOKUP($F333,mapping!$L$2:$P$92,4,0)","v":"Major Advanced Economies (G7)"},{"$f":"$D333*VLOOKUP($E333,'Charts data'!$A$2:$B$11,2,0)*VLOOKUP($G333,'Charts data'!$A$14:$B$18,2,0)/IF('Charts data'!$E$3=1,I333,1)/IF('Charts data'!$E$4=1,J333,1)","v":40980.635073749385}]
["ID1348",70000,"GBP",{"$f":"B334*VLOOKUP(C334,tblXrate[],2,0)","v":110332.47904470989},"Consultant","UK","4 to 6",15,{"$f":"VLOOKUP(F334,mapping!$L$2:$P$92,2,0)","v":1.0513109074688785},{"$f":"VLOOKUP($F334,mapping!$L$2:$P$92,3,0)","v":38592.1},{"$f":"VLOOKUP($F334,mapping!$L$2:$P$92,4,0)","v":"Major Advanced Economies (G7)"},{"$f":"$D334*VLOOKUP($E334,'Charts data'!$A$2:$B$11,2,0)*VLOOKUP($G334,'Charts data'!$A$14:$B$18,2,0)/IF('Charts data'!$E$3=1,I334,1)/IF('Charts data'!$E$4=1,J334,1)","v":110332.47904470989}]
["ID1349",30000,"GBP",{"$f":"B335*VLOOKUP(C335,tblXrate[],2,0)","v":47285.348162018527},"Analyst","UK","8 Hrs",6,{"$f":"VLOOKUP(F335,mapping!$L$2:$P$92,2,0)","v":1.0513109074688785},{"$f":"VLOOKUP($F335,mapping!$L$2:$P$92,3,0)","v":38592.1},{"$f":"VLOOKUP($F335,mapping!$L$2:$P$92,4,0)","v":"Major Advanced Economies (G7)"},{"$f":"$D335*VLOOKUP($E335,'Charts data'!$A$2:$B$11,2,0)*VLOOKUP($G335,'Charts data'!$A$14:$B$18,2,0)/IF('Charts data'!$E$3=1,I335,1)/IF('Charts data'!$E$4=1,J335,1)","v":47285.348162018527}]
["ID1362",27000,"GBP",{"$f":"B336*VLOOKUP(C336,tblXrate[],2,0)","v":42556.81334581667},"Engineer","UK","4 to 6",1,{"$f":"VLOOKUP(F336,mapping!$L$2:$P$92,2,0)","v":1.0513109074688785},{"$f":"VLOOKUP($F336,mapping!$L$2:$P$92,3,0)","v":38592.1},{"$f":"VLOOKUP($F336,mapping!$L$2:$P$92,4,0)","v":"Major Advanced Economies (G7)"},{"$f":"$D336*VLOOKUP($E336,'Charts data'!$A$2:$B$11,2,0)*VLOOKUP($G336,'Charts data'!$A$14:$B$18,2,0)/IF('Charts data'!$E$3=1,I336,1)/IF('Charts data'!$E$4=1,J336,1)","v":42556.81334581667}]
["ID1372",45000,"GBP",{"$f":"B337*VLOOKUP(C337,tblXrate[],2,0)","v":70928.022243027779},"Manager","UK","2 to 3",15,{"$f":"VLOOKUP(F337,mapping!$L$2:$P$92,2,0)","v":1.0513109074688785},{"$f":"VLOOKUP($F337,mapping!$L$2:$P$92,3,0)","v":38592.1},{"$f":"VLOOKUP($F337,mapping!$L$2:$P$92,4,0)","v":"Major Advanced Economies (G7)"},{"$f":"$D337*VLOOKUP($E337,'Charts data'!$A$2:$B$11,2,0)*VLOOKUP($G337,'Charts data'!$A$14:$B$18,2,0)/IF('Charts data'!$E$3=1,I337,1)/IF('Charts data'!$E$4=1,J337,1)","v":70928.022243027779}]
["ID1388",60000,"GBP",{"$f":"B338*VLOOKUP(C338,tblXrate[],2,0)","v":94570.696324037053},"Analyst","UK","4 to 6",7,{"$f":"VLOOKUP(F338,mapping!$L$2:$P$92,2,0)","v":1.0513109074688785},{"$f":"VLOOKUP($F338,mapping!$L$2:$P$92,3,0)","v":38592.1},{"$f":"VLOOKUP($F338,mapping!$L$2:$P$92,4,0)","v":"Major Advanced Economies (G7)"},{"$f":"$D338*VLOOKUP($E338,'Charts data'!$A$2:$B$11,2,0)*VLOOKUP($G338,'Charts data'!$A$14:$B$18,2,0)/IF('Charts data'!$E$3=1,I338,1)/IF('Charts data'!$E$4=1,J338,1)","v":94570.696324037053}]
["ID1470",17000,"GBP",{"$f":"B339*VLOOKUP(C339,tblXrate[],2,0)","v":26795.030625143831},"Analyst","UK","2 to 3",5,{"$f":"VLOOKUP(F339,mapping!$L$2:$P$92,2,0)","v":1.0513109074688785},{"$f":"VLOOKUP($F339,mapping!$L$2:$P$92,3,0)","v":38592.1},{"$f":"VLOOKUP($F339,mapping!$L$2:$P$92,4,0)","v":"Major Advanced Economies (G7)"},{"$f":"$D339*VLOOKUP($E339,'Charts data'!$A$2:$B$11,2,0)*VLOOKUP($G339,'Charts data'!$A$14:$B$18,2,0)/IF('Charts data'!$E$3=1,I339,1)/IF('Charts data'!$E$4=1,J339,1)","v":26795.030625143831}]
["ID1472",25000,"GBP",{"$f":"B340*VLOOKUP(C340,tblXrate[],2,0)","v":39404.456801682099},"Accountant","UK","4 to 6",35,{"$f":"VLOOKUP(F340,mapping!$L$2:$P$92,2,0)","v":1.0513109074688785},{"$f":"VLOOKUP($F340,mapping!$L$2:$P$92,3,0)","v":38592.1},{"$f":"VLOOKUP($F340,mapping!$L$2:$P$92,4,0)","v":"Major Advanced Economies (G7)"},{"$f":"$D340*VLOOKUP($E340,'Charts data'!$A$2:$B$11,2,0)*VLOOKUP($G340,'Charts data'!$A$14:$B$18,2,0)/IF('Charts data'!$E$3=1,I340,1)/IF('Charts data'!$E$4=1,J340,1)","v":39404.456801682099}]
["ID1476",37000,"GBP",{"$f":"B341*VLOOKUP(C341,tblXrate[],2,0)","v":58318.59606648951},"Manager","UK","8 Hrs",20,{"$f":"VLOOKUP(F341,mapping!$L$2:$P$92,2,0)","v":1.0513109074688785},{"$f":"VLOOKUP($F341,mapping!$L$2:$P$92,3,0)","v":38592.1},{"$f":"VLOOKUP($F341,mapping!$L$2:$P$92,4,0)","v":"Major Advanced Economies (G7)"},{"$f":"$D341*VLOOKUP($E341,'Charts data'!$A$2:$B$11,2,0)*VLOOKUP($G341,'Charts data'!$A$14:$B$18,2,0)/IF('Charts data'!$E$3=1,I341,1)/IF('Charts data'!$E$4=1,J341,1)","v":58318.59606648951}]
["ID1489",146633,"GBP",{"$f":"B342*VLOOKUP(C342,tblXrate[],2,0)","v":231119.74856804207},"Engineer","UK","2 to 3",10,{"$f":"VLOOKUP(F342,mapping!$L$2:$P$92,2,0)","v":1.0513109074688785},{"$f":"VLOOKUP($F342,mapping!$L$2:$P$92,3,0)","v":38592.1},{"$f":"VLOOKUP($F342,mapping!$L$2:$P$92,4,0)","v":"Major Advanced Economies (G7)"},{"$f":"$D342*VLOOKUP($E342,'Charts data'!$A$2:$B$11,2,0)*VLOOKUP($G342,'Charts data'!$A$14:$B$18,2,0)/IF('Charts data'!$E$3=1,I342,1)/IF('Charts data'!$E$4=1,J342,1)","v":231119.74856804207}]
["ID1491",10000,"GBP",{"$f":"B343*VLOOKUP(C343,tblXrate[],2,0)","v":15761.782720672842},"Analyst","UK","2 to 3",8,{"$f":"VLOOKUP(F343,mapping!$L$2:$P$92,2,0)","v":1.0513109074688785},{"$f":"VLOOKUP($F343,mapping!$L$2:$P$92,3,0)","v":38592.1},{"$f":"VLOOKUP($F343,mapping!$L$2:$P$92,4,0)","v":"Major Advanced Economies (G7)"},{"$f":"$D343*VLOOKUP($E343,'Charts data'!$A$2:$B$11,2,0)*VLOOKUP($G343,'Charts data'!$A$14:$B$18,2,0)/IF('Charts data'!$E$3=1,I343,1)/IF('Charts data'!$E$4=1,J343,1)","v":15761.782720672842}]
["ID1541",30500,"GBP",{"$f":"B344*VLOOKUP(C344,tblXrate[],2,0)","v":48073.437298052166},"Consultant","UK","4 to 6",14,{"$f":"VLOOKUP(F344,mapping!$L$2:$P$92,2,0)","v":1.0513109074688785},{"$f":"VLOOKUP($F344,mapping!$L$2:$P$92,3,0)","v":38592.1},{"$f":"VLOOKUP($F344,mapping!$L$2:$P$92,4,0)","v":"Major Advanced Economies (G7)"},{"$f":"$D344*VLOOKUP($E344,'Charts data'!$A$2:$B$11,2,0)*VLOOKUP($G344,'Charts data'!$A$14:$B$18,2,0)/IF('Charts data'!$E$3=1,I344,1)/IF('Charts data'!$E$4=1,J344,1)","v":48073.437298052166}]
["ID1544",48360,"GBP",{"$f":"B345*VLOOKUP(C345,tblXrate[],2,0)","v":76223.981237173866},"Manager","UK","8 Hrs",8,{"$f":"VLOOKUP(F345,mapping!$L$2:$P$92,2,0)","v":1.0513109074688785},{"$f":"VLOOKUP($F345,mapping!$L$2:$P$92,3,0)","v":38592.1},{"$f":"VLOOKUP($F345,mapping!$L$2:$P$92,4,0)","v":"Major Advanced Economies (G7)"},{"$f":"$D345*VLOOKUP($E345,'Charts data'!$A$2:$B$11,2,0)*VLOOKUP($G345,'Charts data'!$A$14:$B$18,2,0)/IF('Charts data'!$E$3=1,I345,1)/IF('Charts data'!$E$4=1,J345,1)","v":76223.981237173866}]
["ID1550",30000,"GBP",{"$f":"B346*VLOOKUP(C346,tblXrate[],2,0)","v":47285.348162018527},"Analyst","UK","4 to 6",7,{"$f":"VLOOKUP(F346,mapping!$L$2:$P$92,2,0)","v":1.0513109074688785},{"$f":"VLOOKUP($F346,mapping!$L$2:$P$92,3,0)","v":38592.1},{"$f":"VLOOKUP($F346,mapping!$L$2:$P$92,4,0)","v":"Major Advanced Economies (G7)"},{"$f":"$D346*VLOOKUP($E346,'Charts data'!$A$2:$B$11,2,0)*VLOOKUP($G346,'Charts data'!$A$14:$B$18,2,0)/IF('Charts data'!$E$3=1,I346,1)/IF('Charts data'!$E$4=1,J346,1)","v":47285.348162018527}]
["ID1552",35000,"GBP",{"$f":"B347*VLOOKUP(C347,tblXrate[],2,0)","v":55166.239522354947},"Analyst","UK","4 to 6",3,{"$f":"VLOOKUP(F347,mapping!$L$2:$P$92,2,0)","v":1.0513109074688785},{"$f":"VLOOKUP($F347,mapping!$L$2:$P$92,3,0)","v":38592.1},{"$f":"VLOOKUP($F347,mapping!$L$2:$P$92,4,0)","v":"Major Advanced Economies (G7)"},{"$f":"$D347*VLOOKUP($E347,'Charts data'!$A$2:$B$11,2,0)*VLOOKUP($G347,'Charts data'!$A$14:$B$18,2,0)/IF('Charts data'!$E$3=1,I347,1)/IF('Charts data'!$E$4=1,J347,1)","v":55166.239522354947}]
["ID1562",25000,"GBP",{"$f":"B348*VLOOKUP(C348,tblXrate[],2,0)","v":39404.456801682099},"Reporting","UK","4 to 6",2,{"$f":"VLOOKUP(F348,mapping!$L$2:$P$92,2,0)","v":1.0513109074688785},{"$f":"VLOOKUP($F348,mapping!$L$2:$P$92,3,0)","v":38592.1},{"$f":"VLOOKUP($F348,mapping!$L$2:$P$92,4,0)","v":"Major Advanced Economies (G7)"},{"$f":"$D348*VLOOKUP($E348,'Charts data'!$A$2:$B$11,2,0)*VLOOKUP($G348,'Charts data'!$A$14:$B$18,2,0)/IF('Charts data'!$E$3=1,I348,1)/IF('Charts data'!$E$4=1,J348,1)","v":39404.456801682099}]
["ID1577",35000,"GBP",{"$f":"B349*VLOOKUP(C349,tblXrate[],2,0)","v":55166.239522354947},"CXO or Top Mgmt.","UK","2 to 3",30,{"$f":"VLOOKUP(F349,mapping!$L$2:$P$92,2,0)","v":1.0513109074688785},{"$f":"VLOOKUP($F349,mapping!$L$2:$P$92,3,0)","v":38592.1},{"$f":"VLOOKUP($F349,mapping!$L$2:$P$92,4,0)","v":"Major Advanced Economies (G7)"},{"$f":"$D349*VLOOKUP($E349,'Charts data'!$A$2:$B$11,2,0)*VLOOKUP($G349,'Charts data'!$A$14:$B$18,2,0)/IF('Charts data'!$E$3=1,I349,1)/IF('Charts data'!$E$4=1,J349,1)","v":55166.239522354947}]
["ID1600",80000,"GBP",{"$f":"B350*VLOOKUP(C350,tblXrate[],2,0)","v":126094.26176538273},"Consultant","UK","4 to 6",12,{"$f":"VLOOKUP(F350,mapping!$L$2:$P$92,2,0)","v":1.0513109074688785},{"$f":"VLOOKUP($F350,mapping!$L$2:$P$92,3,0)","v":38592.1},{"$f":"VLOOKUP($F350,mapping!$L$2:$P$92,4,0)","v":"Major Advanced Economies (G7)"},{"$f":"$D350*VLOOKUP($E350,'Charts data'!$A$2:$B$11,2,0)*VLOOKUP($G350,'Charts data'!$A$14:$B$18,2,0)/IF('Charts data'!$E$3=1,I350,1)/IF('Charts data'!$E$4=1,J350,1)","v":126094.26176538273}]
["ID1607",20000,"GBP",{"$f":"B351*VLOOKUP(C351,tblXrate[],2,0)","v":31523.565441345683},"Analyst","UK","8 Hrs",3,{"$f":"VLOOKUP(F351,mapping!$L$2:$P$92,2,0)","v":1.0513109074688785},{"$f":"VLOOKUP($F351,mapping!$L$2:$P$92,3,0)","v":38592.1},{"$f":"VLOOKUP($F351,mapping!$L$2:$P$92,4,0)","v":"Major Advanced Economies (G7)"},{"$f":"$D351*VLOOKUP($E351,'Charts data'!$A$2:$B$11,2,0)*VLOOKUP($G351,'Charts data'!$A$14:$B$18,2,0)/IF('Charts data'!$E$3=1,I351,1)/IF('Charts data'!$E$4=1,J351,1)","v":31523.565441345683}]
["ID1615",21500,"GBP",{"$f":"B352*VLOOKUP(C352,tblXrate[],2,0)","v":33887.832849446611},"Analyst","UK","8 Hrs",1,{"$f":"VLOOKUP(F352,mapping!$L$2:$P$92,2,0)","v":1.0513109074688785},{"$f":"VLOOKUP($F352,mapping!$L$2:$P$92,3,0)","v":38592.1},{"$f":"VLOOKUP($F352,mapping!$L$2:$P$92,4,0)","v":"Major Advanced Economies (G7)"},{"$f":"$D352*VLOOKUP($E352,'Charts data'!$A$2:$B$11,2,0)*VLOOKUP($G352,'Charts data'!$A$14:$B$18,2,0)/IF('Charts data'!$E$3=1,I352,1)/IF('Charts data'!$E$4=1,J352,1)","v":33887.832849446611}]
["ID1628",37000,"GBP",{"$f":"B353*VLOOKUP(C353,tblXrate[],2,0)","v":58318.59606648951},"Analyst","UK","4 to 6",9,{"$f":"VLOOKUP(F353,mapping!$L$2:$P$92,2,0)","v":1.0513109074688785},{"$f":"VLOOKUP($F353,mapping!$L$2:$P$92,3,0)","v":38592.1},{"$f":"VLOOKUP($F353,mapping!$L$2:$P$92,4,0)","v":"Major Advanced Economies (G7)"},{"$f":"$D353*VLOOKUP($E353,'Charts data'!$A$2:$B$11,2,0)*VLOOKUP($G353,'Charts data'!$A$14:$B$18,2,0)/IF('Charts data'!$E$3=1,I353,1)/IF('Charts data'!$E$4=1,J353,1)","v":58318.59606648951}]
["ID1634",60000,"GBP",{"$f":"B354*VLOOKUP(C354,tblXrate[],2,0)","v":94570.696324037053},"Analyst","UK","4 to 6",5,{"$f":"VLOOKUP(F354,mapping!$L$2:$P$92,2,0)","v":1.0513109074688785},{"$f":"VLOOKUP($F354,mapping!$L$2:$P$92,3,0)","v":38592.1},{"$f":"VLOOKUP($F354,mapping!$L$2:$P$92,4,0)","v":"Major Advanced Economies (G7)"},{"$f":"$D354*VLOOKUP($E354,'Charts data'!$A$2:$B$11,2,0)*VLOOKUP($G354,'Charts data'!$A$14:$B$18,2,0)/IF('Charts data'!$E$3=1,I354,1)/IF('Charts data'!$E$4=1,J354,1)","v":94570.696324037053}]
["ID1662",42000,"GBP",{"$f":"B355*VLOOKUP(C355,tblXrate[],2,0)","v":66199.48742682593},"Manager","UK","4 to 6",23,{"$f":"VLOOKUP(F355,mapping!$L$2:$P$92,2,0)","v":1.0513109074688785},{"$f":"VLOOKUP($F355,mapping!$L$2:$P$92,3,0)","v":38592.1},{"$f":"VLOOKUP($F355,mapping!$L$2:$P$92,4,0)","v":"Major Advanced Economies (G7)"},{"$f":"$D355*VLOOKUP($E355,'Charts data'!$A$2:$B$11,2,0)*VLOOKUP($G355,'Charts data'!$A$14:$B$18,2,0)/IF('Charts data'!$E$3=1,I355,1)/IF('Charts data'!$E$4=1,J355,1)","v":66199.48742682593}]
["ID1664",22000,"GBP",{"$f":"B356*VLOOKUP(C356,tblXrate[],2,0)","v":34675.92198548025},"Manager","UK","4 to 6",17,{"$f":"VLOOKUP(F356,mapping!$L$2:$P$92,2,0)","v":1.0513109074688785},{"$f":"VLOOKUP($F356,mapping!$L$2:$P$92,3,0)","v":38592.1},{"$f":"VLOOKUP($F356,mapping!$L$2:$P$92,4,0)","v":"Major Advanced Economies (G7)"},{"$f":"$D356*VLOOKUP($E356,'Charts data'!$A$2:$B$11,2,0)*VLOOKUP($G356,'Charts data'!$A$14:$B$18,2,0)/IF('Charts data'!$E$3=1,I356,1)/IF('Charts data'!$E$4=1,J356,1)","v":34675.92198548025}]
["ID1682",40000,"GBP",{"$f":"B357*VLOOKUP(C357,tblXrate[],2,0)","v":63047.130882691366},"Specialist","UK","2 to 3",25,{"$f":"VLOOKUP(F357,mapping!$L$2:$P$92,2,0)","v":1.0513109074688785},{"$f":"VLOOKUP($F357,mapping!$L$2:$P$92,3,0)","v":38592.1},{"$f":"VLOOKUP($F357,mapping!$L$2:$P$92,4,0)","v":"Major Advanced Economies (G7)"},{"$f":"$D357*VLOOKUP($E357,'Charts data'!$A$2:$B$11,2,0)*VLOOKUP($G357,'Charts data'!$A$14:$B$18,2,0)/IF('Charts data'!$E$3=1,I357,1)/IF('Charts data'!$E$4=1,J357,1)","v":63047.130882691366}]
["ID1690",45000,"GBP",{"$f":"B358*VLOOKUP(C358,tblXrate[],2,0)","v":70928.022243027779},"Analyst","UK","8 Hrs",5,{"$f":"VLOOKUP(F358,mapping!$L$2:$P$92,2,0)","v":1.0513109074688785},{"$f":"VLOOKUP($F358,mapping!$L$2:$P$92,3,0)","v":38592.1},{"$f":"VLOOKUP($F358,mapping!$L$2:$P$92,4,0)","v":"Major Advanced Economies (G7)"},{"$f":"$D358*VLOOKUP($E358,'Charts data'!$A$2:$B$11,2,0)*VLOOKUP($G358,'Charts data'!$A$14:$B$18,2,0)/IF('Charts data'!$E$3=1,I358,1)/IF('Charts data'!$E$4=1,J358,1)","v":70928.022243027779}]
["ID1695",50000,"GBP",{"$f":"B359*VLOOKUP(C359,tblXrate[],2,0)","v":78808.913603364199},"CXO or Top Mgmt.","UK","4 to 6",10,{"$f":"VLOOKUP(F359,mapping!$L$2:$P$92,2,0)","v":1.0513109074688785},{"$f":"VLOOKUP($F359,mapping!$L$2:$P$92,3,0)","v":38592.1},{"$f":"VLOOKUP($F359,mapping!$L$2:$P$92,4,0)","v":"Major Advanced Economies (G7)"},{"$f":"$D359*VLOOKUP($E359,'Charts data'!$A$2:$B$11,2,0)*VLOOKUP($G359,'Charts data'!$A$14:$B$18,2,0)/IF('Charts data'!$E$3=1,I359,1)/IF('Charts data'!$E$4=1,J359,1)","v":78808.913603364199}]
["ID1700",35500,"GBP",{"$f":"B360*VLOOKUP(C360,tblXrate[],2,0)","v":55954.328658388586},"Accountant","UK","4 to 6",8,{"$f":"VLOOKUP(F360,mapping!$L$2:$P$92,2,0)","v":1.0513109074688785},{"$f":"VLOOKUP($F360,mapping!$L$2:$P$92,3,0)","v":38592.1},{"$f":"VLOOKUP($F360,mapping!$L$2:$P$92,4,0)","v":"Major Advanced Economies (G7)"},{"$f":"$D360*VLOOKUP($E360,'Charts data'!$A$2:$B$11,2,0)*VLOOKUP($G360,'Charts data'!$A$14:$B$18,2,0)/IF('Charts data'!$E$3=1,I360,1)/IF('Charts data'!$E$4=1,J360,1)","v":55954.328658388586}]
["ID1724",40000,"GBP",{"$f":"B361*VLOOKUP(C361,tblXrate[],2,0)","v":63047.130882691366},"Manager","UK","4 to 6",15,{"$f":"VLOOKUP(F361,mapping!$L$2:$P$92,2,0)","v":1.0513109074688785},{"$f":"VLOOKUP($F361,mapping!$L$2:$P$92,3,0)","v":38592.1},{"$f":"VLOOKUP($F361,mapping!$L$2:$P$92,4,0)","v":"Major Advanced Economies (G7)"},{"$f":"$D361*VLOOKUP($E361,'Charts data'!$A$2:$B$11,2,0)*VLOOKUP($G361,'Charts data'!$A$14:$B$18,2,0)/IF('Charts data'!$E$3=1,I361,1)/IF('Charts data'!$E$4=1,J361,1)","v":63047.130882691366}]
["ID1725",36000,"GBP",{"$f":"B362*VLOOKUP(C362,tblXrate[],2,0)","v":56742.417794422225},"Manager","UK","1 or 2",25,{"$f":"VLOOKUP(F362,mapping!$L$2:$P$92,2,0)","v":1.0513109074688785},{"$f":"VLOOKUP($F362,mapping!$L$2:$P$92,3,0)","v":38592.1},{"$f":"VLOOKUP($F362,mapping!$L$2:$P$92,4,0)","v":"Major Advanced Economies (G7)"},{"$f":"$D362*VLOOKUP($E362,'Charts data'!$A$2:$B$11,2,0)*VLOOKUP($G362,'Charts data'!$A$14:$B$18,2,0)/IF('Charts data'!$E$3=1,I362,1)/IF('Charts data'!$E$4=1,J362,1)","v":56742.417794422225}]
["ID1729",27000,"GBP",{"$f":"B363*VLOOKUP(C363,tblXrate[],2,0)","v":42556.81334581667},"Analyst","UK","4 to 6",2,{"$f":"VLOOKUP(F363,mapping!$L$2:$P$92,2,0)","v":1.0513109074688785},{"$f":"VLOOKUP($F363,mapping!$L$2:$P$92,3,0)","v":38592.1},{"$f":"VLOOKUP($F363,mapping!$L$2:$P$92,4,0)","v":"Major Advanced Economies (G7)"},{"$f":"$D363*VLOOKUP($E363,'Charts data'!$A$2:$B$11,2,0)*VLOOKUP($G363,'Charts data'!$A$14:$B$18,2,0)/IF('Charts data'!$E$3=1,I363,1)/IF('Charts data'!$E$4=1,J363,1)","v":42556.81334581667}]
["ID1733",50000,"GBP",{"$f":"B364*VLOOKUP(C364,tblXrate[],2,0)","v":78808.913603364199},"Analyst","UK","2 to 3",2,{"$f":"VLOOKUP(F364,mapping!$L$2:$P$92,2,0)","v":1.0513109074688785},{"$f":"VLOOKUP($F364,mapping!$L$2:$P$92,3,0)","v":38592.1},{"$f":"VLOOKUP($F364,mapping!$L$2:$P$92,4,0)","v":"Major Advanced Economies (G7)"},{"$f":"$D364*VLOOKUP($E364,'Charts data'!$A$2:$B$11,2,0)*VLOOKUP($G364,'Charts data'!$A$14:$B$18,2,0)/IF('Charts data'!$E$3=1,I364,1)/IF('Charts data'!$E$4=1,J364,1)","v":78808.913603364199}]
["ID1737",40000,"GBP",{"$f":"B365*VLOOKUP(C365,tblXrate[],2,0)","v":63047.130882691366},"Analyst","UK","4 to 6",5,{"$f":"VLOOKUP(F365,mapping!$L$2:$P$92,2,0)","v":1.0513109074688785},{"$f":"VLOOKUP($F365,mapping!$L$2:$P$92,3,0)","v":38592.1},{"$f":"VLOOKUP($F365,mapping!$L$2:$P$92,4,0)","v":"Major Advanced Economies (G7)"},{"$f":"$D365*VLOOKUP($E365,'Charts data'!$A$2:$B$11,2,0)*VLOOKUP($G365,'Charts data'!$A$14:$B$18,2,0)/IF('Charts data'!$E$3=1,I365,1)/IF('Charts data'!$E$4=1,J365,1)","v":63047.130882691366}]
["ID1739",73000,"GBP",{"$f":"B366*VLOOKUP(C366,tblXrate[],2,0)","v":115061.01386091174},"Controller","UK","4 to 6",8,{"$f":"VLOOKUP(F366,mapping!$L$2:$P$92,2,0)","v":1.0513109074688785},{"$f":"VLOOKUP($F366,mapping!$L$2:$P$92,3,0)","v":38592.1},{"$f":"VLOOKUP($F366,mapping!$L$2:$P$92,4,0)","v":"Major Advanced Economies (G7)"},{"$f":"$D366*VLOOKUP($E366,'Charts data'!$A$2:$B$11,2,0)*VLOOKUP($G366,'Charts data'!$A$14:$B$18,2,0)/IF('Charts data'!$E$3=1,I366,1)/IF('Charts data'!$E$4=1,J366,1)","v":115061.01386091174}]
["ID1761",45000,"GBP",{"$f":"B367*VLOOKUP(C367,tblXrate[],2,0)","v":70928.022243027779},"Analyst","UK","8 Hrs",20,{"$f":"VLOOKUP(F367,mapping!$L$2:$P$92,2,0)","v":1.0513109074688785},{"$f":"VLOOKUP($F367,mapping!$L$2:$P$92,3,0)","v":38592.1},{"$f":"VLOOKUP($F367,mapping!$L$2:$P$92,4,0)","v":"Major Advanced Economies (G7)"},{"$f":"$D367*VLOOKUP($E367,'Charts data'!$A$2:$B$11,2,0)*VLOOKUP($G367,'Charts data'!$A$14:$B$18,2,0)/IF('Charts data'!$E$3=1,I367,1)/IF('Charts data'!$E$4=1,J367,1)","v":70928.022243027779}]
["ID1783",22300,"GBP",{"$f":"B368*VLOOKUP(C368,tblXrate[],2,0)","v":35148.775467100437},"Analyst","UK","8 Hrs",4,{"$f":"VLOOKUP(F368,mapping!$L$2:$P$92,2,0)","v":1.0513109074688785},{"$f":"VLOOKUP($F368,mapping!$L$2:$P$92,3,0)","v":38592.1},{"$f":"VLOOKUP($F368,mapping!$L$2:$P$92,4,0)","v":"Major Advanced Economies (G7)"},{"$f":"$D368*VLOOKUP($E368,'Charts data'!$A$2:$B$11,2,0)*VLOOKUP($G368,'Charts data'!$A$14:$B$18,2,0)/IF('Charts data'!$E$3=1,I368,1)/IF('Charts data'!$E$4=1,J368,1)","v":35148.775467100437}]
["ID1784",31185,"GBP",{"$f":"B369*VLOOKUP(C369,tblXrate[],2,0)","v":49153.119414418252},"Manager","UK","4 to 6",7,{"$f":"VLOOKUP(F369,mapping!$L$2:$P$92,2,0)","v":1.0513109074688785},{"$f":"VLOOKUP($F369,mapping!$L$2:$P$92,3,0)","v":38592.1},{"$f":"VLOOKUP($F369,mapping!$L$2:$P$92,4,0)","v":"Major Advanced Economies (G7)"},{"$f":"$D369*VLOOKUP($E369,'Charts data'!$A$2:$B$11,2,0)*VLOOKUP($G369,'Charts data'!$A$14:$B$18,2,0)/IF('Charts data'!$E$3=1,I369,1)/IF('Charts data'!$E$4=1,J369,1)","v":49153.119414418252}]
["ID1786",27000,"GBP",{"$f":"B370*VLOOKUP(C370,tblXrate[],2,0)","v":42556.81334581667},"Manager","UK","4 to 6",3,{"$f":"VLOOKUP(F370,mapping!$L$2:$P$92,2,0)","v":1.0513109074688785},{"$f":"VLOOKUP($F370,mapping!$L$2:$P$92,3,0)","v":38592.1},{"$f":"VLOOKUP($F370,mapping!$L$2:$P$92,4,0)","v":"Major Advanced Economies (G7)"},{"$f":"$D370*VLOOKUP($E370,'Charts data'!$A$2:$B$11,2,0)*VLOOKUP($G370,'Charts data'!$A$14:$B$18,2,0)/IF('Charts data'!$E$3=1,I370,1)/IF('Charts data'!$E$4=1,J370,1)","v":42556.81334581667}]
["ID1787",27000,"GBP",{"$f":"B371*VLOOKUP(C371,tblXrate[],2,0)","v":42556.81334581667},"Manager","UK","4 to 6",3,{"$f":"VLOOKUP(F371,mapping!$L$2:$P$92,2,0)","v":1.0513109074688785},{"$f":"VLOOKUP($F371,mapping!$L$2:$P$92,3,0)","v":38592.1},{"$f":"VLOOKUP($F371,mapping!$L$2:$P$92,4,0)","v":"Major Advanced Economies (G7)"},{"$f":"$D371*VLOOKUP($E371,'Charts data'!$A$2:$B$11,2,0)*VLOOKUP($G371,'Charts data'!$A$14:$B$18,2,0)/IF('Charts data'!$E$3=1,I371,1)/IF('Charts data'!$E$4=1,J371,1)","v":42556.81334581667}]
["ID1789",26500,"GBP",{"$f":"B372*VLOOKUP(C372,tblXrate[],2,0)","v":41768.724209783031},"Manager","UK","4 to 6",16,{"$f":"VLOOKUP(F372,mapping!$L$2:$P$92,2,0)","v":1.0513109074688785},{"$f":"VLOOKUP($F372,mapping!$L$2:$P$92,3,0)","v":38592.1},{"$f":"VLOOKUP($F372,mapping!$L$2:$P$92,4,0)","v":"Major Advanced Economies (G7)"},{"$f":"$D372*VLOOKUP($E372,'Charts data'!$A$2:$B$11,2,0)*VLOOKUP($G372,'Charts data'!$A$14:$B$18,2,0)/IF('Charts data'!$E$3=1,I372,1)/IF('Charts data'!$E$4=1,J372,1)","v":41768.724209783031}]
["ID1813",32000,"GBP",{"$f":"B373*VLOOKUP(C373,tblXrate[],2,0)","v":50437.70470615309},"Analyst","UK","4 to 6",20,{"$f":"VLOOKUP(F373,mapping!$L$2:$P$92,2,0)","v":1.0513109074688785},{"$f":"VLOOKUP($F373,mapping!$L$2:$P$92,3,0)","v":38592.1},{"$f":"VLOOKUP($F373,mapping!$L$2:$P$92,4,0)","v":"Major Advanced Economies (G7)"},{"$f":"$D373*VLOOKUP($E373,'Charts data'!$A$2:$B$11,2,0)*VLOOKUP($G373,'Charts data'!$A$14:$B$18,2,0)/IF('Charts data'!$E$3=1,I373,1)/IF('Charts data'!$E$4=1,J373,1)","v":50437.70470615309}]
["ID1814",32000,"GBP",{"$f":"B374*VLOOKUP(C374,tblXrate[],2,0)","v":50437.70470615309},"Analyst","UK","8 Hrs",1,{"$f":"VLOOKUP(F374,mapping!$L$2:$P$92,2,0)","v":1.0513109074688785},{"$f":"VLOOKUP($F374,mapping!$L$2:$P$92,3,0)","v":38592.1},{"$f":"VLOOKUP($F374,mapping!$L$2:$P$92,4,0)","v":"Major Advanced Economies (G7)"},{"$f":"$D374*VLOOKUP($E374,'Charts data'!$A$2:$B$11,2,0)*VLOOKUP($G374,'Charts data'!$A$14:$B$18,2,0)/IF('Charts data'!$E$3=1,I374,1)/IF('Charts data'!$E$4=1,J374,1)","v":50437.70470615309}]
["ID1835",36000,"GBP",{"$f":"B375*VLOOKUP(C375,tblXrate[],2,0)","v":56742.417794422225},"Manager","UK","8 Hrs",7,{"$f":"VLOOKUP(F375,mapping!$L$2:$P$92,2,0)","v":1.0513109074688785},{"$f":"VLOOKUP($F375,mapping!$L$2:$P$92,3,0)","v":38592.1},{"$f":"VLOOKUP($F375,mapping!$L$2:$P$92,4,0)","v":"Major Advanced Economies (G7)"},{"$f":"$D375*VLOOKUP($E375,'Charts data'!$A$2:$B$11,2,0)*VLOOKUP($G375,'Charts data'!$A$14:$B$18,2,0)/IF('Charts data'!$E$3=1,I375,1)/IF('Charts data'!$E$4=1,J375,1)","v":56742.417794422225}]
["ID1838",50000,"GBP",{"$f":"B376*VLOOKUP(C376,tblXrate[],2,0)","v":78808.913603364199},"Accountant","UK","2 to 3",10,{"$f":"VLOOKUP(F376,mapping!$L$2:$P$92,2,0)","v":1.0513109074688785},{"$f":"VLOOKUP($F376,mapping!$L$2:$P$92,3,0)","v":38592.1},{"$f":"VLOOKUP($F376,mapping!$L$2:$P$92,4,0)","v":"Major Advanced Economies (G7)"},{"$f":"$D376*VLOOKUP($E376,'Charts data'!$A$2:$B$11,2,0)*VLOOKUP($G376,'Charts data'!$A$14:$B$18,2,0)/IF('Charts data'!$E$3=1,I376,1)/IF('Charts data'!$E$4=1,J376,1)","v":78808.913603364199}]
["ID1854",33500,"GBP",{"$f":"B377*VLOOKUP(C377,tblXrate[],2,0)","v":52801.972114254015},"Engineer","UK","2 to 3",7,{"$f":"VLOOKUP(F377,mapping!$L$2:$P$92,2,0)","v":1.0513109074688785},{"$f":"VLOOKUP($F377,mapping!$L$2:$P$92,3,0)","v":38592.1},{"$f":"VLOOKUP($F377,mapping!$L$2:$P$92,4,0)","v":"Major Advanced Economies (G7)"},{"$f":"$D377*VLOOKUP($E377,'Charts data'!$A$2:$B$11,2,0)*VLOOKUP($G377,'Charts data'!$A$14:$B$18,2,0)/IF('Charts data'!$E$3=1,I377,1)/IF('Charts data'!$E$4=1,J377,1)","v":52801.972114254015}]
["ID1863",20000,"GBP",{"$f":"B378*VLOOKUP(C378,tblXrate[],2,0)","v":31523.565441345683},"Accountant","UK","2 to 3",10,{"$f":"VLOOKUP(F378,mapping!$L$2:$P$92,2,0)","v":1.0513109074688785},{"$f":"VLOOKUP($F378,mapping!$L$2:$P$92,3,0)","v":38592.1},{"$f":"VLOOKUP($F378,mapping!$L$2:$P$92,4,0)","v":"Major Advanced Economies (G7)"},{"$f":"$D378*VLOOKUP($E378,'Charts data'!$A$2:$B$11,2,0)*VLOOKUP($G378,'Charts data'!$A$14:$B$18,2,0)/IF('Charts data'!$E$3=1,I378,1)/IF('Charts data'!$E$4=1,J378,1)","v":31523.565441345683}]
["ID1882",20500,"GBP",{"$f":"B379*VLOOKUP(C379,tblXrate[],2,0)","v":32311.654577379326},"Analyst","UK","4 to 6",20,{"$f":"VLOOKUP(F379,mapping!$L$2:$P$92,2,0)","v":1.0513109074688785},{"$f":"VLOOKUP($F379,mapping!$L$2:$P$92,3,0)","v":38592.1},{"$f":"VLOOKUP($F379,mapping!$L$2:$P$92,4,0)","v":"Major Advanced Economies (G7)"},{"$f":"$D379*VLOOKUP($E379,'Charts data'!$A$2:$B$11,2,0)*VLOOKUP($G379,'Charts data'!$A$14:$B$18,2,0)/IF('Charts data'!$E$3=1,I379,1)/IF('Charts data'!$E$4=1,J379,1)","v":32311.654577379326}]
["ID1895",35000,"GBP",{"$f":"B380*VLOOKUP(C380,tblXrate[],2,0)","v":55166.239522354947},"Analyst","UK","8 Hrs",34,{"$f":"VLOOKUP(F380,mapping!$L$2:$P$92,2,0)","v":1.0513109074688785},{"$f":"VLOOKUP($F380,mapping!$L$2:$P$92,3,0)","v":38592.1},{"$f":"VLOOKUP($F380,mapping!$L$2:$P$92,4,0)","v":"Major Advanced Economies (G7)"},{"$f":"$D380*VLOOKUP($E380,'Charts data'!$A$2:$B$11,2,0)*VLOOKUP($G380,'Charts data'!$A$14:$B$18,2,0)/IF('Charts data'!$E$3=1,I380,1)/IF('Charts data'!$E$4=1,J380,1)","v":55166.239522354947}]
["ID1905",25000,"GBP",{"$f":"B381*VLOOKUP(C381,tblXrate[],2,0)","v":39404.456801682099},"Analyst","UK","4 to 6",3,{"$f":"VLOOKUP(F381,mapping!$L$2:$P$92,2,0)","v":1.0513109074688785},{"$f":"VLOOKUP($F381,mapping!$L$2:$P$92,3,0)","v":38592.1},{"$f":"VLOOKUP($F381,mapping!$L$2:$P$92,4,0)","v":"Major Advanced Economies (G7)"},{"$f":"$D381*VLOOKUP($E381,'Charts data'!$A$2:$B$11,2,0)*VLOOKUP($G381,'Charts data'!$A$14:$B$18,2,0)/IF('Charts data'!$E$3=1,I381,1)/IF('Charts data'!$E$4=1,J381,1)","v":39404.456801682099}]
["ID1245",48000000,"IDR",{"$f":"B382*VLOOKUP(C382,tblXrate[],2,0)","v":5082.6943786459069},"Analyst","Indonesia","1 or 2",2,{"$f":"VLOOKUP(F382,mapping!$L$2:$P$92,2,0)","v":0.69928450487673943},{"$f":"VLOOKUP($F382,mapping!$L$2:$P$92,3,0)","v":3508.61},{"$f":"VLOOKUP($F382,mapping!$L$2:$P$92,4,0)","v":"Developing Asia"},{"$f":"$D382*VLOOKUP($E382,'Charts data'!$A$2:$B$11,2,0)*VLOOKUP($G382,'Charts data'!$A$14:$B$18,2,0)/IF('Charts data'!$E$3=1,I382,1)/IF('Charts data'!$E$4=1,J382,1)","v":5082.6943786459069}]
["ID0013",749000,"INR",{"$f":"B383*VLOOKUP(C383,tblXrate[],2,0)","v":13338.129598894484},"Analyst","India","8 Hrs",null,{"$f":"VLOOKUP(F383,mapping!$L$2:$P$92,2,0)","v":0.34064763831408895},{"$f":"VLOOKUP($F383,mapping!$L$2:$P$92,3,0)","v":1388.78},{"$f":"VLOOKUP($F383,mapping!$L$2:$P$92,4,0)","v":"Developing Asia"},{"$f":"$D383*VLOOKUP($E383,'Charts data'!$A$2:$B$11,2,0)*VLOOKUP($G383,'Charts data'!$A$14:$B$18,2,0)/IF('Charts data'!$E$3=1,I383,1)/IF('Charts data'!$E$4=1,J383,1)","v":13338.129598894484}]
["ID0019",550000,"INR",{"$f":"B384*VLOOKUP(C384,tblXrate[],2,0)","v":9794.354178093412},"Manager","India","2 to 3",null,{"$f":"VLOOKUP(F384,mapping!$L$2:$P$92,2,0)","v":0.34064763831408895},{"$f":"VLOOKUP($F384,mapping!$L$2:$P$92,3,0)","v":1388.78},{"$f":"VLOOKUP($F384,mapping!$L$2:$P$92,4,0)","v":"Developing Asia"},{"$f":"$D384*VLOOKUP($E384,'Charts data'!$A$2:$B$11,2,0)*VLOOKUP($G384,'Charts data'!$A$14:$B$18,2,0)/IF('Charts data'!$E$3=1,I384,1)/IF('Charts data'!$E$4=1,J384,1)","v":9794.354178093412}]
["ID0023",1000000,"INR",{"$f":"B385*VLOOKUP(C385,tblXrate[],2,0)","v":17807.916687442568},"Manager","India","4 to 6",null,{"$f":"VLOOKUP(F385,mapping!$L$2:$P$92,2,0)","v":0.34064763831408895},{"$f":"VLOOKUP($F385,mapping!$L$2:$P$92,3,0)","v":1388.78},{"$f":"VLOOKUP($F385,mapping!$L$2:$P$92,4,0)","v":"Developing Asia"},{"$f":"$D385*VLOOKUP($E385,'Charts data'!$A$2:$B$11,2,0)*VLOOKUP($G385,'Charts data'!$A$14:$B$18,2,0)/IF('Charts data'!$E$3=1,I385,1)/IF('Charts data'!$E$4=1,J385,1)","v":17807.916687442568}]
["ID0029",900000,"INR",{"$f":"B386*VLOOKUP(C386,tblXrate[],2,0)","v":16027.125018698311},"Engineer","India","1 or 2",null,{"$f":"VLOOKUP(F386,mapping!$L$2:$P$92,2,0)","v":0.34064763831408895},{"$f":"VLOOKUP($F386,mapping!$L$2:$P$92,3,0)","v":1388.78},{"$f":"VLOOKUP($F386,mapping!$L$2:$P$92,4,0)","v":"Developing Asia"},{"$f":"$D386*VLOOKUP($E386,'Charts data'!$A$2:$B$11,2,0)*VLOOKUP($G386,'Charts data'!$A$14:$B$18,2,0)/IF('Charts data'!$E$3=1,I386,1)/IF('Charts data'!$E$4=1,J386,1)","v":16027.125018698311}]
["ID0030",600000,"INR",{"$f":"B387*VLOOKUP(C387,tblXrate[],2,0)","v":10684.750012465542},"Manager","India","4 to 6",null,{"$f":"VLOOKUP(F387,mapping!$L$2:$P$92,2,0)","v":0.34064763831408895},{"$f":"VLOOKUP($F387,mapping!$L$2:$P$92,3,0)","v":1388.78},{"$f":"VLOOKUP($F387,mapping!$L$2:$P$92,4,0)","v":"Developing Asia"},{"$f":"$D387*VLOOKUP($E387,'Charts data'!$A$2:$B$11,2,0)*VLOOKUP($G387,'Charts data'!$A$14:$B$18,2,0)/IF('Charts data'!$E$3=1,I387,1)/IF('Charts data'!$E$4=1,J387,1)","v":10684.750012465542}]
["ID0032",360000,"INR",{"$f":"B388*VLOOKUP(C388,tblXrate[],2,0)","v":6410.8500074793246},"Specialist","India","4 to 6",null,{"$f":"VLOOKUP(F388,mapping!$L$2:$P$92,2,0)","v":0.34064763831408895},{"$f":"VLOOKUP($F388,mapping!$L$2:$P$92,3,0)","v":1388.78},{"$f":"VLOOKUP($F388,mapping!$L$2:$P$92,4,0)","v":"Developing Asia"},{"$f":"$D388*VLOOKUP($E388,'Charts data'!$A$2:$B$11,2,0)*VLOOKUP($G388,'Charts data'!$A$14:$B$18,2,0)/IF('Charts data'!$E$3=1,I388,1)/IF('Charts data'!$E$4=1,J388,1)","v":6410.8500074793246}]
["ID0036",500000,"INR",{"$f":"B389*VLOOKUP(C389,tblXrate[],2,0)","v":8903.9583437212841},"Consultant","India","8 Hrs",null,{"$f":"VLOOKUP(F389,mapping!$L$2:$P$92,2,0)","v":0.34064763831408895},{"$f":"VLOOKUP($F389,mapping!$L$2:$P$92,3,0)","v":1388.78},{"$f":"VLOOKUP($F389,mapping!$L$2:$P$92,4,0)","v":"Developing Asia"},{"$f":"$D389*VLOOKUP($E389,'Charts data'!$A$2:$B$11,2,0)*VLOOKUP($G389,'Charts data'!$A$14:$B$18,2,0)/IF('Charts data'!$E$3=1,I389,1)/IF('Charts data'!$E$4=1,J389,1)","v":8903.9583437212841}]
["ID0040",400000,"INR",{"$f":"B390*VLOOKUP(C390,tblXrate[],2,0)","v":7123.1666749770275},"Manager","India","4 to 6",null,{"$f":"VLOOKUP(F390,mapping!$L$2:$P$92,2,0)","v":0.34064763831408895},{"$f":"VLOOKUP($F390,mapping!$L$2:$P$92,3,0)","v":1388.78},{"$f":"VLOOKUP($F390,mapping!$L$2:$P$92,4,0)","v":"Developing Asia"},{"$f":"$D390*VLOOKUP($E390,'Charts data'!$A$2:$B$11,2,0)*VLOOKUP($G390,'Charts data'!$A$14:$B$18,2,0)/IF('Charts data'!$E$3=1,I390,1)/IF('Charts data'!$E$4=1,J390,1)","v":7123.1666749770275}]
["ID0046",800000,"INR",{"$f":"B391*VLOOKUP(C391,tblXrate[],2,0)","v":14246.333349954055},"Manager","India","2 to 3",null,{"$f":"VLOOKUP(F391,mapping!$L$2:$P$92,2,0)","v":0.34064763831408895},{"$f":"VLOOKUP($F391,mapping!$L$2:$P$92,3,0)","v":1388.78},{"$f":"VLOOKUP($F391,mapping!$L$2:$P$92,4,0)","v":"Developing Asia"},{"$f":"$D391*VLOOKUP($E391,'Charts data'!$A$2:$B$11,2,0)*VLOOKUP($G391,'Charts data'!$A$14:$B$18,2,0)/IF('Charts data'!$E$3=1,I391,1)/IF('Charts data'!$E$4=1,J391,1)","v":14246.333349954055}]
["ID0085",500000,"INR",{"$f":"B392*VLOOKUP(C392,tblXrate[],2,0)","v":8903.9583437212841},"Consultant","India","8 Hrs",null,{"$f":"VLOOKUP(F392,mapping!$L$2:$P$92,2,0)","v":0.34064763831408895},{"$f":"VLOOKUP($F392,mapping!$L$2:$P$92,3,0)","v":1388.78},{"$f":"VLOOKUP($F392,mapping!$L$2:$P$92,4,0)","v":"Developing Asia"},{"$f":"$D392*VLOOKUP($E392,'Charts data'!$A$2:$B$11,2,0)*VLOOKUP($G392,'Charts data'!$A$14:$B$18,2,0)/IF('Charts data'!$E$3=1,I392,1)/IF('Charts data'!$E$4=1,J392,1)","v":8903.9583437212841}]
["ID0093",144000,"INR",{"$f":"B393*VLOOKUP(C393,tblXrate[],2,0)","v":2564.3400029917298},"Consultant","India","1 or 2",null,{"$f":"VLOOKUP(F393,mapping!$L$2:$P$92,2,0)","v":0.34064763831408895},{"$f":"VLOOKUP($F393,mapping!$L$2:$P$92,3,0)","v":1388.78},{"$f":"VLOOKUP($F393,mapping!$L$2:$P$92,4,0)","v":"Developing Asia"},{"$f":"$D393*VLOOKUP($E393,'Charts data'!$A$2:$B$11,2,0)*VLOOKUP($G393,'Charts data'!$A$14:$B$18,2,0)/IF('Charts data'!$E$3=1,I393,1)/IF('Charts data'!$E$4=1,J393,1)","v":2564.3400029917298}]
["ID0124",2300000,"INR",{"$f":"B394*VLOOKUP(C394,tblXrate[],2,0)","v":40958.208381117904},"Analyst","India","1 or 2",null,{"$f":"VLOOKUP(F394,mapping!$L$2:$P$92,2,0)","v":0.34064763831408895},{"$f":"VLOOKUP($F394,mapping!$L$2:$P$92,3,0)","v":1388.78},{"$f":"VLOOKUP($F394,mapping!$L$2:$P$92,4,0)","v":"Developing Asia"},{"$f":"$D394*VLOOKUP($E394,'Charts data'!$A$2:$B$11,2,0)*VLOOKUP($G394,'Charts data'!$A$14:$B$18,2,0)/IF('Charts data'!$E$3=1,I394,1)/IF('Charts data'!$E$4=1,J394,1)","v":40958.208381117904}]
["ID0136",800000,"INR",{"$f":"B395*VLOOKUP(C395,tblXrate[],2,0)","v":14246.333349954055},"Manager","India","2 to 3",null,{"$f":"VLOOKUP(F395,mapping!$L$2:$P$92,2,0)","v":0.34064763831408895},{"$f":"VLOOKUP($F395,mapping!$L$2:$P$92,3,0)","v":1388.78},{"$f":"VLOOKUP($F395,mapping!$L$2:$P$92,4,0)","v":"Developing Asia"},{"$f":"$D395*VLOOKUP($E395,'Charts data'!$A$2:$B$11,2,0)*VLOOKUP($G395,'Charts data'!$A$14:$B$18,2,0)/IF('Charts data'!$E$3=1,I395,1)/IF('Charts data'!$E$4=1,J395,1)","v":14246.333349954055}]
["ID0141",336000,"INR",{"$f":"B396*VLOOKUP(C396,tblXrate[],2,0)","v":5983.4600069807029},"Reporting","India","4 to 6",null,{"$f":"VLOOKUP(F396,mapping!$L$2:$P$92,2,0)","v":0.34064763831408895},{"$f":"VLOOKUP($F396,mapping!$L$2:$P$92,3,0)","v":1388.78},{"$f":"VLOOKUP($F396,mapping!$L$2:$P$92,4,0)","v":"Developing Asia"},{"$f":"$D396*VLOOKUP($E396,'Charts data'!$A$2:$B$11,2,0)*VLOOKUP($G396,'Charts data'!$A$14:$B$18,2,0)/IF('Charts data'!$E$3=1,I396,1)/IF('Charts data'!$E$4=1,J396,1)","v":5983.4600069807029}]
["ID0160",420000,"INR",{"$f":"B397*VLOOKUP(C397,tblXrate[],2,0)","v":7479.3250087258784},"Manager","India","1 or 2",null,{"$f":"VLOOKUP(F397,mapping!$L$2:$P$92,2,0)","v":0.34064763831408895},{"$f":"VLOOKUP($F397,mapping!$L$2:$P$92,3,0)","v":1388.78},{"$f":"VLOOKUP($F397,mapping!$L$2:$P$92,4,0)","v":"Developing Asia"},{"$f":"$D397*VLOOKUP($E397,'Charts data'!$A$2:$B$11,2,0)*VLOOKUP($G397,'Charts data'!$A$14:$B$18,2,0)/IF('Charts data'!$E$3=1,I397,1)/IF('Charts data'!$E$4=1,J397,1)","v":7479.3250087258784}]
["ID0165",1300000,"INR",{"$f":"B398*VLOOKUP(C398,tblXrate[],2,0)","v":23150.291693675339},"Manager","India","4 to 6",null,{"$f":"VLOOKUP(F398,mapping!$L$2:$P$92,2,0)","v":0.34064763831408895},{"$f":"VLOOKUP($F398,mapping!$L$2:$P$92,3,0)","v":1388.78},{"$f":"VLOOKUP($F398,mapping!$L$2:$P$92,4,0)","v":"Developing Asia"},{"$f":"$D398*VLOOKUP($E398,'Charts data'!$A$2:$B$11,2,0)*VLOOKUP($G398,'Charts data'!$A$14:$B$18,2,0)/IF('Charts data'!$E$3=1,I398,1)/IF('Charts data'!$E$4=1,J398,1)","v":23150.291693675339}]
["ID0170",500000,"INR",{"$f":"B399*VLOOKUP(C399,tblXrate[],2,0)","v":8903.9583437212841},"Analyst","India","2 to 3",null,{"$f":"VLOOKUP(F399,mapping!$L$2:$P$92,2,0)","v":0.34064763831408895},{"$f":"VLOOKUP($F399,mapping!$L$2:$P$92,3,0)","v":1388.78},{"$f":"VLOOKUP($F399,mapping!$L$2:$P$92,4,0)","v":"Developing Asia"},{"$f":"$D399*VLOOKUP($E399,'Charts data'!$A$2:$B$11,2,0)*VLOOKUP($G399,'Charts data'!$A$14:$B$18,2,0)/IF('Charts data'!$E$3=1,I399,1)/IF('Charts data'!$E$4=1,J399,1)","v":8903.9583437212841}]
["ID0172",180000,"INR",{"$f":"B400*VLOOKUP(C400,tblXrate[],2,0)","v":3205.4250037396623},"Analyst","India","4 to 6",null,{"$f":"VLOOKUP(F400,mapping!$L$2:$P$92,2,0)","v":0.34064763831408895},{"$f":"VLOOKUP($F400,mapping!$L$2:$P$92,3,0)","v":1388.78},{"$f":"VLOOKUP($F400,mapping!$L$2:$P$92,4,0)","v":"Developing Asia"},{"$f":"$D400*VLOOKUP($E400,'Charts data'!$A$2:$B$11,2,0)*VLOOKUP($G400,'Charts data'!$A$14:$B$18,2,0)/IF('Charts data'!$E$3=1,I400,1)/IF('Charts data'!$E$4=1,J400,1)","v":3205.4250037396623}]
["ID0175",1100000,"INR",{"$f":"B401*VLOOKUP(C401,tblXrate[],2,0)","v":19588.708356186824},"Manager","India","4 to 6",null,{"$f":"VLOOKUP(F401,mapping!$L$2:$P$92,2,0)","v":0.34064763831408895},{"$f":"VLOOKUP($F401,mapping!$L$2:$P$92,3,0)","v":1388.78},{"$f":"VLOOKUP($F401,mapping!$L$2:$P$92,4,0)","v":"Developing Asia"},{"$f":"$D401*VLOOKUP($E401,'Charts data'!$A$2:$B$11,2,0)*VLOOKUP($G401,'Charts data'!$A$14:$B$18,2,0)/IF('Charts data'!$E$3=1,I401,1)/IF('Charts data'!$E$4=1,J401,1)","v":19588.708356186824}]
["ID0178",180000,"INR",{"$f":"B402*VLOOKUP(C402,tblXrate[],2,0)","v":3205.4250037396623},"Analyst","India","4 to 6",null,{"$f":"VLOOKUP(F402,mapping!$L$2:$P$92,2,0)","v":0.34064763831408895},{"$f":"VLOOKUP($F402,mapping!$L$2:$P$92,3,0)","v":1388.78},{"$f":"VLOOKUP($F402,mapping!$L$2:$P$92,4,0)","v":"Developing Asia"},{"$f":"$D402*VLOOKUP($E402,'Charts data'!$A$2:$B$11,2,0)*VLOOKUP($G402,'Charts data'!$A$14:$B$18,2,0)/IF('Charts data'!$E$3=1,I402,1)/IF('Charts data'!$E$4=1,J402,1)","v":3205.4250037396623}]
["ID0197",233000,"INR",{"$f":"B403*VLOOKUP(C403,tblXrate[],2,0)","v":4149.2445881741187},"Manager","India","8 Hrs",null,{"$f":"VLOOKUP(F403,mapping!$L$2:$P$92,2,0)","v":0.34064763831408895},{"$f":"VLOOKUP($F403,mapping!$L$2:$P$92,3,0)","v":1388.78},{"$f":"VLOOKUP($F403,mapping!$L$2:$P$92,4,0)","v":"Developing Asia"},{"$f":"$D403*VLOOKUP($E403,'Charts data'!$A$2:$B$11,2,0)*VLOOKUP($G403,'Charts data'!$A$14:$B$18,2,0)/IF('Charts data'!$E$3=1,I403,1)/IF('Charts data'!$E$4=1,J403,1)","v":4149.2445881741187}]
["ID0201",275000,"INR",{"$f":"B404*VLOOKUP(C404,tblXrate[],2,0)","v":4897.177089046706},"Analyst","India","2 to 3",null,{"$f":"VLOOKUP(F404,mapping!$L$2:$P$92,2,0)","v":0.34064763831408895},{"$f":"VLOOKUP($F404,mapping!$L$2:$P$92,3,0)","v":1388.78},{"$f":"VLOOKUP($F404,mapping!$L$2:$P$92,4,0)","v":"Developing Asia"},{"$f":"$D404*VLOOKUP($E404,'Charts data'!$A$2:$B$11,2,0)*VLOOKUP($G404,'Charts data'!$A$14:$B$18,2,0)/IF('Charts data'!$E$3=1,I404,1)/IF('Charts data'!$E$4=1,J404,1)","v":4897.177089046706}]
["ID0202",192000,"INR",{"$f":"B405*VLOOKUP(C405,tblXrate[],2,0)","v":3419.1200039889732},"Analyst","India","8 Hrs",null,{"$f":"VLOOKUP(F405,mapping!$L$2:$P$92,2,0)","v":0.34064763831408895},{"$f":"VLOOKUP($F405,mapping!$L$2:$P$92,3,0)","v":1388.78},{"$f":"VLOOKUP($F405,mapping!$L$2:$P$92,4,0)","v":"Developing Asia"},{"$f":"$D405*VLOOKUP($E405,'Charts data'!$A$2:$B$11,2,0)*VLOOKUP($G405,'Charts data'!$A$14:$B$18,2,0)/IF('Charts data'!$E$3=1,I405,1)/IF('Charts data'!$E$4=1,J405,1)","v":3419.1200039889732}]
["ID0205",1800000,"INR",{"$f":"B406*VLOOKUP(C406,tblXrate[],2,0)","v":32054.250037396621},"Manager","India","1 or 2",null,{"$f":"VLOOKUP(F406,mapping!$L$2:$P$92,2,0)","v":0.34064763831408895},{"$f":"VLOOKUP($F406,mapping!$L$2:$P$92,3,0)","v":1388.78},{"$f":"VLOOKUP($F406,mapping!$L$2:$P$92,4,0)","v":"Developing Asia"},{"$f":"$D406*VLOOKUP($E406,'Charts data'!$A$2:$B$11,2,0)*VLOOKUP($G406,'Charts data'!$A$14:$B$18,2,0)/IF('Charts data'!$E$3=1,I406,1)/IF('Charts data'!$E$4=1,J406,1)","v":32054.250037396621}]
["ID0221",500000,"INR",{"$f":"B407*VLOOKUP(C407,tblXrate[],2,0)","v":8903.9583437212841},"Manager","India","4 to 6",null,{"$f":"VLOOKUP(F407,mapping!$L$2:$P$92,2,0)","v":0.34064763831408895},{"$f":"VLOOKUP($F407,mapping!$L$2:$P$92,3,0)","v":1388.78},{"$f":"VLOOKUP($F407,mapping!$L$2:$P$92,4,0)","v":"Developing Asia"},{"$f":"$D407*VLOOKUP($E407,'Charts data'!$A$2:$B$11,2,0)*VLOOKUP($G407,'Charts data'!$A$14:$B$18,2,0)/IF('Charts data'!$E$3=1,I407,1)/IF('Charts data'!$E$4=1,J407,1)","v":8903.9583437212841}]
["ID0222",350000,"INR",{"$f":"B408*VLOOKUP(C408,tblXrate[],2,0)","v":6232.7708406048987},"Accountant","India","4 to 6",null,{"$f":"VLOOKUP(F408,mapping!$L$2:$P$92,2,0)","v":0.34064763831408895},{"$f":"VLOOKUP($F408,mapping!$L$2:$P$92,3,0)","v":1388.78},{"$f":"VLOOKUP($F408,mapping!$L$2:$P$92,4,0)","v":"Developing Asia"},{"$f":"$D408*VLOOKUP($E408,'Charts data'!$A$2:$B$11,2,0)*VLOOKUP($G408,'Charts data'!$A$14:$B$18,2,0)/IF('Charts data'!$E$3=1,I408,1)/IF('Charts data'!$E$4=1,J408,1)","v":6232.7708406048987}]
["ID0225",480000,"INR",{"$f":"B409*VLOOKUP(C409,tblXrate[],2,0)","v":8547.8000099724322},"Manager","India","4 to 6",null,{"$f":"VLOOKUP(F409,mapping!$L$2:$P$92,2,0)","v":0.34064763831408895},{"$f":"VLOOKUP($F409,mapping!$L$2:$P$92,3,0)","v":1388.78},{"$f":"VLOOKUP($F409,mapping!$L$2:$P$92,4,0)","v":"Developing Asia"},{"$f":"$D409*VLOOKUP($E409,'Charts data'!$A$2:$B$11,2,0)*VLOOKUP($G409,'Charts data'!$A$14:$B$18,2,0)/IF('Charts data'!$E$3=1,I409,1)/IF('Charts data'!$E$4=1,J409,1)","v":8547.8000099724322}]
["ID0230",200000,"INR",{"$f":"B410*VLOOKUP(C410,tblXrate[],2,0)","v":3561.5833374885137},"Analyst","India","1 or 2",null,{"$f":"VLOOKUP(F410,mapping!$L$2:$P$92,2,0)","v":0.34064763831408895},{"$f":"VLOOKUP($F410,mapping!$L$2:$P$92,3,0)","v":1388.78},{"$f":"VLOOKUP($F410,mapping!$L$2:$P$92,4,0)","v":"Developing Asia"},{"$f":"$D410*VLOOKUP($E410,'Charts data'!$A$2:$B$11,2,0)*VLOOKUP($G410,'Charts data'!$A$14:$B$18,2,0)/IF('Charts data'!$E$3=1,I410,1)/IF('Charts data'!$E$4=1,J410,1)","v":3561.5833374885137}]
["ID0238",1200000,"INR",{"$f":"B411*VLOOKUP(C411,tblXrate[],2,0)","v":21369.500024931083},"Manager","India","2 to 3",null,{"$f":"VLOOKUP(F411,mapping!$L$2:$P$92,2,0)","v":0.34064763831408895},{"$f":"VLOOKUP($F411,mapping!$L$2:$P$92,3,0)","v":1388.78},{"$f":"VLOOKUP($F411,mapping!$L$2:$P$92,4,0)","v":"Developing Asia"},{"$f":"$D411*VLOOKUP($E411,'Charts data'!$A$2:$B$11,2,0)*VLOOKUP($G411,'Charts data'!$A$14:$B$18,2,0)/IF('Charts data'!$E$3=1,I411,1)/IF('Charts data'!$E$4=1,J411,1)","v":21369.500024931083}]
["ID0258",470000,"INR",{"$f":"B412*VLOOKUP(C412,tblXrate[],2,0)","v":8369.7208430980063},"Analyst","India","8 Hrs",null,{"$f":"VLOOKUP(F412,mapping!$L$2:$P$92,2,0)","v":0.34064763831408895},{"$f":"VLOOKUP($F412,mapping!$L$2:$P$92,3,0)","v":1388.78},{"$f":"VLOOKUP($F412,mapping!$L$2:$P$92,4,0)","v":"Developing Asia"},{"$f":"$D412*VLOOKUP($E412,'Charts data'!$A$2:$B$11,2,0)*VLOOKUP($G412,'Charts data'!$A$14:$B$18,2,0)/IF('Charts data'!$E$3=1,I412,1)/IF('Charts data'!$E$4=1,J412,1)","v":8369.7208430980063}]
["ID0261",1920000,"INR",{"$f":"B413*VLOOKUP(C413,tblXrate[],2,0)","v":34191.200039889729},"Manager","India","2 to 3",null,{"$f":"VLOOKUP(F413,mapping!$L$2:$P$92,2,0)","v":0.34064763831408895},{"$f":"VLOOKUP($F413,mapping!$L$2:$P$92,3,0)","v":1388.78},{"$f":"VLOOKUP($F413,mapping!$L$2:$P$92,4,0)","v":"Developing Asia"},{"$f":"$D413*VLOOKUP($E413,'Charts data'!$A$2:$B$11,2,0)*VLOOKUP($G413,'Charts data'!$A$14:$B$18,2,0)/IF('Charts data'!$E$3=1,I413,1)/IF('Charts data'!$E$4=1,J413,1)","v":34191.200039889729}]
["ID0267",276000,"INR",{"$f":"B414*VLOOKUP(C414,tblXrate[],2,0)","v":4914.9850057341491},"Analyst","India","8 Hrs",null,{"$f":"VLOOKUP(F414,mapping!$L$2:$P$92,2,0)","v":0.34064763831408895},{"$f":"VLOOKUP($F414,mapping!$L$2:$P$92,3,0)","v":1388.78},{"$f":"VLOOKUP($F414,mapping!$L$2:$P$92,4,0)","v":"Developing Asia"},{"$f":"$D414*VLOOKUP($E414,'Charts data'!$A$2:$B$11,2,0)*VLOOKUP($G414,'Charts data'!$A$14:$B$18,2,0)/IF('Charts data'!$E$3=1,I414,1)/IF('Charts data'!$E$4=1,J414,1)","v":4914.9850057341491}]
["ID0286",1500000,"INR",{"$f":"B415*VLOOKUP(C415,tblXrate[],2,0)","v":26711.875031163851},"Consultant","India","8 Hrs",null,{"$f":"VLOOKUP(F415,mapping!$L$2:$P$92,2,0)","v":0.34064763831408895},{"$f":"VLOOKUP($F415,mapping!$L$2:$P$92,3,0)","v":1388.78},{"$f":"VLOOKUP($F415,mapping!$L$2:$P$92,4,0)","v":"Developing Asia"},{"$f":"$D415*VLOOKUP($E415,'Charts data'!$A$2:$B$11,2,0)*VLOOKUP($G415,'Charts data'!$A$14:$B$18,2,0)/IF('Charts data'!$E$3=1,I415,1)/IF('Charts data'!$E$4=1,J415,1)","v":26711.875031163851}]
["ID0294",450000,"INR",{"$f":"B416*VLOOKUP(C416,tblXrate[],2,0)","v":8013.5625093491553},"Analyst","India","4 to 6",null,{"$f":"VLOOKUP(F416,mapping!$L$2:$P$92,2,0)","v":0.34064763831408895},{"$f":"VLOOKUP($F416,mapping!$L$2:$P$92,3,0)","v":1388.78},{"$f":"VLOOKUP($F416,mapping!$L$2:$P$92,4,0)","v":"Developing Asia"},{"$f":"$D416*VLOOKUP($E416,'Charts data'!$A$2:$B$11,2,0)*VLOOKUP($G416,'Charts data'!$A$14:$B$18,2,0)/IF('Charts data'!$E$3=1,I416,1)/IF('Charts data'!$E$4=1,J416,1)","v":8013.5625093491553}]
["ID0297",180000,"INR",{"$f":"B417*VLOOKUP(C417,tblXrate[],2,0)","v":3205.4250037396623},"Manager","India","4 to 6",null,{"$f":"VLOOKUP(F417,mapping!$L$2:$P$92,2,0)","v":0.34064763831408895},{"$f":"VLOOKUP($F417,mapping!$L$2:$P$92,3,0)","v":1388.78},{"$f":"VLOOKUP($F417,mapping!$L$2:$P$92,4,0)","v":"Developing Asia"},{"$f":"$D417*VLOOKUP($E417,'Charts data'!$A$2:$B$11,2,0)*VLOOKUP($G417,'Charts data'!$A$14:$B$18,2,0)/IF('Charts data'!$E$3=1,I417,1)/IF('Charts data'!$E$4=1,J417,1)","v":3205.4250037396623}]
["ID0313",1400000,"INR",{"$f":"B418*VLOOKUP(C418,tblXrate[],2,0)","v":24931.083362419595},"Manager","India","1 or 2",null,{"$f":"VLOOKUP(F418,mapping!$L$2:$P$92,2,0)","v":0.34064763831408895},{"$f":"VLOOKUP($F418,mapping!$L$2:$P$92,3,0)","v":1388.78},{"$f":"VLOOKUP($F418,mapping!$L$2:$P$92,4,0)","v":"Developing Asia"},{"$f":"$D418*VLOOKUP($E418,'Charts data'!$A$2:$B$11,2,0)*VLOOKUP($G418,'Charts data'!$A$14:$B$18,2,0)/IF('Charts data'!$E$3=1,I418,1)/IF('Charts data'!$E$4=1,J418,1)","v":24931.083362419595}]
["ID0321",1000000,"INR",{"$f":"B419*VLOOKUP(C419,tblXrate[],2,0)","v":17807.916687442568},"Manager","India","4 to 6",null,{"$f":"VLOOKUP(F419,mapping!$L$2:$P$92,2,0)","v":0.34064763831408895},{"$f":"VLOOKUP($F419,mapping!$L$2:$P$92,3,0)","v":1388.78},{"$f":"VLOOKUP($F419,mapping!$L$2:$P$92,4,0)","v":"Developing Asia"},{"$f":"$D419*VLOOKUP($E419,'Charts data'!$A$2:$B$11,2,0)*VLOOKUP($G419,'Charts data'!$A$14:$B$18,2,0)/IF('Charts data'!$E$3=1,I419,1)/IF('Charts data'!$E$4=1,J419,1)","v":17807.916687442568}]
["ID0336",400000,"INR",{"$f":"B420*VLOOKUP(C420,tblXrate[],2,0)","v":7123.1666749770275},"Analyst","India","4 to 6",null,{"$f":"VLOOKUP(F420,mapping!$L$2:$P$92,2,0)","v":0.34064763831408895},{"$f":"VLOOKUP($F420,mapping!$L$2:$P$92,3,0)","v":1388.78},{"$f":"VLOOKUP($F420,mapping!$L$2:$P$92,4,0)","v":"Developing Asia"},{"$f":"$D420*VLOOKUP($E420,'Charts data'!$A$2:$B$11,2,0)*VLOOKUP($G420,'Charts data'!$A$14:$B$18,2,0)/IF('Charts data'!$E$3=1,I420,1)/IF('Charts data'!$E$4=1,J420,1)","v":7123.1666749770275}]
["ID0340",360000,"INR",{"$f":"B421*VLOOKUP(C421,tblXrate[],2,0)","v":6410.8500074793246},"Analyst","India","2 to 3",null,{"$f":"VLOOKUP(F421,mapping!$L$2:$P$92,2,0)","v":0.34064763831408895},{"$f":"VLOOKUP($F421,mapping!$L$2:$P$92,3,0)","v":1388.78},{"$f":"VLOOKUP($F421,mapping!$L$2:$P$92,4,0)","v":"Developing Asia"},{"$f":"$D421*VLOOKUP($E421,'Charts data'!$A$2:$B$11,2,0)*VLOOKUP($G421,'Charts data'!$A$14:$B$18,2,0)/IF('Charts data'!$E$3=1,I421,1)/IF('Charts data'!$E$4=1,J421,1)","v":6410.8500074793246}]
["ID0352",370000,"INR",{"$f":"B422*VLOOKUP(C422,tblXrate[],2,0)","v":6588.9291743537506},"Analyst","India","8 Hrs",null,{"$f":"VLOOKUP(F422,mapping!$L$2:$P$92,2,0)","v":0.34064763831408895},{"$f":"VLOOKUP($F422,mapping!$L$2:$P$92,3,0)","v":1388.78},{"$f":"VLOOKUP($F422,mapping!$L$2:$P$92,4,0)","v":"Developing Asia"},{"$f":"$D422*VLOOKUP($E422,'Charts data'!$A$2:$B$11,2,0)*VLOOKUP($G422,'Charts data'!$A$14:$B$18,2,0)/IF('Charts data'!$E$3=1,I422,1)/IF('Charts data'!$E$4=1,J422,1)","v":6588.9291743537506}]
["ID0372",480000,"INR",{"$f":"B423*VLOOKUP(C423,tblXrate[],2,0)","v":8547.8000099724322},"Manager","India","1 or 2",null,{"$f":"VLOOKUP(F423,mapping!$L$2:$P$92,2,0)","v":0.34064763831408895},{"$f":"VLOOKUP($F423,mapping!$L$2:$P$92,3,0)","v":1388.78},{"$f":"VLOOKUP($F423,mapping!$L$2:$P$92,4,0)","v":"Developing Asia"},{"$f":"$D423*VLOOKUP($E423,'Charts data'!$A$2:$B$11,2,0)*VLOOKUP($G423,'Charts data'!$A$14:$B$18,2,0)/IF('Charts data'!$E$3=1,I423,1)/IF('Charts data'!$E$4=1,J423,1)","v":8547.8000099724322}]
["ID0376",9000000,"INR",{"$f":"B424*VLOOKUP(C424,tblXrate[],2,0)","v":160271.25018698312},"Analyst","India","4 to 6",null,{"$f":"VLOOKUP(F424,mapping!$L$2:$P$92,2,0)","v":0.34064763831408895},{"$f":"VLOOKUP($F424,mapping!$L$2:$P$92,3,0)","v":1388.78},{"$f":"VLOOKUP($F424,mapping!$L$2:$P$92,4,0)","v":"Developing Asia"},{"$f":"$D424*VLOOKUP($E424,'Charts data'!$A$2:$B$11,2,0)*VLOOKUP($G424,'Charts data'!$A$14:$B$18,2,0)/IF('Charts data'!$E$3=1,I424,1)/IF('Charts data'!$E$4=1,J424,1)","v":160271.25018698312}]
["ID0377",500000,"INR",{"$f":"B425*VLOOKUP(C425,tblXrate[],2,0)","v":8903.9583437212841},"Manager","India","2 to 3",null,{"$f":"VLOOKUP(F425,mapping!$L$2:$P$92,2,0)","v":0.34064763831408895},{"$f":"VLOOKUP($F425,mapping!$L$2:$P$92,3,0)","v":1388.78},{"$f":"VLOOKUP($F425,mapping!$L$2:$P$92,4,0)","v":"Developing Asia"},{"$f":"$D425*VLOOKUP($E425,'Charts data'!$A$2:$B$11,2,0)*VLOOKUP($G425,'Charts data'!$A$14:$B$18,2,0)/IF('Charts data'!$E$3=1,I425,1)/IF('Charts data'!$E$4=1,J425,1)","v":8903.9583437212841}]
["ID0382",540000,"INR",{"$f":"B426*VLOOKUP(C426,tblXrate[],2,0)","v":9616.275011218986},"Engineer","India","4 to 6",null,{"$f":"VLOOKUP(F426,mapping!$L$2:$P$92,2,0)","v":0.34064763831408895},{"$f":"VLOOKUP($F426,mapping!$L$2:$P$92,3,0)","v":1388.78},{"$f":"VLOOKUP($F426,mapping!$L$2:$P$92,4,0)","v":"Developing Asia"},{"$f":"$D426*VLOOKUP($E426,'Charts data'!$A$2:$B$11,2,0)*VLOOKUP($G426,'Charts data'!$A$14:$B$18,2,0)/IF('Charts data'!$E$3=1,I426,1)/IF('Charts data'!$E$4=1,J426,1)","v":9616.275011218986}]
["ID0386",620000,"INR",{"$f":"B427*VLOOKUP(C427,tblXrate[],2,0)","v":11040.908346214392},"Manager","India","1 or 2",null,{"$f":"VLOOKUP(F427,mapping!$L$2:$P$92,2,0)","v":0.34064763831408895},{"$f":"VLOOKUP($F427,mapping!$L$2:$P$92,3,0)","v":1388.78},{"$f":"VLOOKUP($F427,mapping!$L$2:$P$92,4,0)","v":"Developing Asia"},{"$f":"$D427*VLOOKUP($E427,'Charts data'!$A$2:$B$11,2,0)*VLOOKUP($G427,'Charts data'!$A$14:$B$18,2,0)/IF('Charts data'!$E$3=1,I427,1)/IF('Charts data'!$E$4=1,J427,1)","v":11040.908346214392}]
["ID0393",750000,"INR",{"$f":"B428*VLOOKUP(C428,tblXrate[],2,0)","v":13355.937515581925},"Analyst","India","1 or 2",null,{"$f":"VLOOKUP(F428,mapping!$L$2:$P$92,2,0)","v":0.34064763831408895},{"$f":"VLOOKUP($F428,mapping!$L$2:$P$92,3,0)","v":1388.78},{"$f":"VLOOKUP($F428,mapping!$L$2:$P$92,4,0)","v":"Developing Asia"},{"$f":"$D428*VLOOKUP($E428,'Charts data'!$A$2:$B$11,2,0)*VLOOKUP($G428,'Charts data'!$A$14:$B$18,2,0)/IF('Charts data'!$E$3=1,I428,1)/IF('Charts data'!$E$4=1,J428,1)","v":13355.937515581925}]
["ID0406",300000,"INR",{"$f":"B429*VLOOKUP(C429,tblXrate[],2,0)","v":5342.3750062327708},"Engineer","India","1 or 2",null,{"$f":"VLOOKUP(F429,mapping!$L$2:$P$92,2,0)","v":0.34064763831408895},{"$f":"VLOOKUP($F429,mapping!$L$2:$P$92,3,0)","v":1388.78},{"$f":"VLOOKUP($F429,mapping!$L$2:$P$92,4,0)","v":"Developing Asia"},{"$f":"$D429*VLOOKUP($E429,'Charts data'!$A$2:$B$11,2,0)*VLOOKUP($G429,'Charts data'!$A$14:$B$18,2,0)/IF('Charts data'!$E$3=1,I429,1)/IF('Charts data'!$E$4=1,J429,1)","v":5342.3750062327708}]
["ID0407",400000,"INR",{"$f":"B430*VLOOKUP(C430,tblXrate[],2,0)","v":7123.1666749770275},"Analyst","India","4 to 6",null,{"$f":"VLOOKUP(F430,mapping!$L$2:$P$92,2,0)","v":0.34064763831408895},{"$f":"VLOOKUP($F430,mapping!$L$2:$P$92,3,0)","v":1388.78},{"$f":"VLOOKUP($F430,mapping!$L$2:$P$92,4,0)","v":"Developing Asia"},{"$f":"$D430*VLOOKUP($E430,'Charts data'!$A$2:$B$11,2,0)*VLOOKUP($G430,'Charts data'!$A$14:$B$18,2,0)/IF('Charts data'!$E$3=1,I430,1)/IF('Charts data'!$E$4=1,J430,1)","v":7123.1666749770275}]
["ID0420",200000,"INR",{"$f":"B431*VLOOKUP(C431,tblXrate[],2,0)","v":3561.5833374885137},"Consultant","India","1 or 2",null,{"$f":"VLOOKUP(F431,mapping!$L$2:$P$92,2,0)","v":0.34064763831408895},{"$f":"VLOOKUP($F431,mapping!$L$2:$P$92,3,0)","v":1388.78},{"$f":"VLOOKUP($F431,mapping!$L$2:$P$92,4,0)","v":"Developing Asia"},{"$f":"$D431*VLOOKUP($E431,'Charts data'!$A$2:$B$11,2,0)*VLOOKUP($G431,'Charts data'!$A$14:$B$18,2,0)/IF('Charts data'!$E$3=1,I431,1)/IF('Charts data'!$E$4=1,J431,1)","v":3561.5833374885137}]
["ID0427",240000,"INR",{"$f":"B432*VLOOKUP(C432,tblXrate[],2,0)","v":4273.9000049862161},"Manager","India","8 Hrs",null,{"$f":"VLOOKUP(F432,mapping!$L$2:$P$92,2,0)","v":0.34064763831408895},{"$f":"VLOOKUP($F432,mapping!$L$2:$P$92,3,0)","v":1388.78},{"$f":"VLOOKUP($F432,mapping!$L$2:$P$92,4,0)","v":"Developing Asia"},{"$f":"$D432*VLOOKUP($E432,'Charts data'!$A$2:$B$11,2,0)*VLOOKUP($G432,'Charts data'!$A$14:$B$18,2,0)/IF('Charts data'!$E$3=1,I432,1)/IF('Charts data'!$E$4=1,J432,1)","v":4273.9000049862161}]
["ID0441",4000000,"INR",{"$f":"B433*VLOOKUP(C433,tblXrate[],2,0)","v":71231.666749770273},"Accountant","India","8 Hrs",null,{"$f":"VLOOKUP(F433,mapping!$L$2:$P$92,2,0)","v":0.34064763831408895},{"$f":"VLOOKUP($F433,mapping!$L$2:$P$92,3,0)","v":1388.78},{"$f":"VLOOKUP($F433,mapping!$L$2:$P$92,4,0)","v":"Developing Asia"},{"$f":"$D433*VLOOKUP($E433,'Charts data'!$A$2:$B$11,2,0)*VLOOKUP($G433,'Charts data'!$A$14:$B$18,2,0)/IF('Charts data'!$E$3=1,I433,1)/IF('Charts data'!$E$4=1,J433,1)","v":71231.666749770273}]
["ID0442",300000,"INR",{"$f":"B434*VLOOKUP(C434,tblXrate[],2,0)","v":5342.3750062327708},"Manager","India","4 to 6",null,{"$f":"VLOOKUP(F434,mapping!$L$2:$P$92,2,0)","v":0.34064763831408895},{"$f":"VLOOKUP($F434,mapping!$L$2:$P$92,3,0)","v":1388.78},{"$f":"VLOOKUP($F434,mapping!$L$2:$P$92,4,0)","v":"Developing Asia"},{"$f":"$D434*VLOOKUP($E434,'Charts data'!$A$2:$B$11,2,0)*VLOOKUP($G434,'Charts data'!$A$14:$B$18,2,0)/IF('Charts data'!$E$3=1,I434,1)/IF('Charts data'!$E$4=1,J434,1)","v":5342.3750062327708}]
["ID0443",1100000,"INR",{"$f":"B435*VLOOKUP(C435,tblXrate[],2,0)","v":19588.708356186824},"Manager","India","4 to 6",null,{"$f":"VLOOKUP(F435,mapping!$L$2:$P$92,2,0)","v":0.34064763831408895},{"$f":"VLOOKUP($F435,mapping!$L$2:$P$92,3,0)","v":1388.78},{"$f":"VLOOKUP($F435,mapping!$L$2:$P$92,4,0)","v":"Developing Asia"},{"$f":"$D435*VLOOKUP($E435,'Charts data'!$A$2:$B$11,2,0)*VLOOKUP($G435,'Charts data'!$A$14:$B$18,2,0)/IF('Charts data'!$E$3=1,I435,1)/IF('Charts data'!$E$4=1,J435,1)","v":19588.708356186824}]
["ID0445",3000000,"INR",{"$f":"B436*VLOOKUP(C436,tblXrate[],2,0)","v":53423.750062327701},"Manager","India","4 to 6",null,{"$f":"VLOOKUP(F436,mapping!$L$2:$P$92,2,0)","v":0.34064763831408895},{"$f":"VLOOKUP($F436,mapping!$L$2:$P$92,3,0)","v":1388.78},{"$f":"VLOOKUP($F436,mapping!$L$2:$P$92,4,0)","v":"Developing Asia"},{"$f":"$D436*VLOOKUP($E436,'Charts data'!$A$2:$B$11,2,0)*VLOOKUP($G436,'Charts data'!$A$14:$B$18,2,0)/IF('Charts data'!$E$3=1,I436,1)/IF('Charts data'!$E$4=1,J436,1)","v":53423.750062327701}]
["ID0452",500000,"INR",{"$f":"B437*VLOOKUP(C437,tblXrate[],2,0)","v":8903.9583437212841},"Analyst","India","4 to 6",null,{"$f":"VLOOKUP(F437,mapping!$L$2:$P$92,2,0)","v":0.34064763831408895},{"$f":"VLOOKUP($F437,mapping!$L$2:$P$92,3,0)","v":1388.78},{"$f":"VLOOKUP($F437,mapping!$L$2:$P$92,4,0)","v":"Developing Asia"},{"$f":"$D437*VLOOKUP($E437,'Charts data'!$A$2:$B$11,2,0)*VLOOKUP($G437,'Charts data'!$A$14:$B$18,2,0)/IF('Charts data'!$E$3=1,I437,1)/IF('Charts data'!$E$4=1,J437,1)","v":8903.9583437212841}]
["ID0454",900000,"INR",{"$f":"B438*VLOOKUP(C438,tblXrate[],2,0)","v":16027.125018698311},"Manager","India","1 or 2",null,{"$f":"VLOOKUP(F438,mapping!$L$2:$P$92,2,0)","v":0.34064763831408895},{"$f":"VLOOKUP($F438,mapping!$L$2:$P$92,3,0)","v":1388.78},{"$f":"VLOOKUP($F438,mapping!$L$2:$P$92,4,0)","v":"Developing Asia"},{"$f":"$D438*VLOOKUP($E438,'Charts data'!$A$2:$B$11,2,0)*VLOOKUP($G438,'Charts data'!$A$14:$B$18,2,0)/IF('Charts data'!$E$3=1,I438,1)/IF('Charts data'!$E$4=1,J438,1)","v":16027.125018698311}]
["ID0457",800000,"INR",{"$f":"B439*VLOOKUP(C439,tblXrate[],2,0)","v":14246.333349954055},"CXO or Top Mgmt.","India","8 Hrs",null,{"$f":"VLOOKUP(F439,mapping!$L$2:$P$92,2,0)","v":0.34064763831408895},{"$f":"VLOOKUP($F439,mapping!$L$2:$P$92,3,0)","v":1388.78},{"$f":"VLOOKUP($F439,mapping!$L$2:$P$92,4,0)","v":"Developing Asia"},{"$f":"$D439*VLOOKUP($E439,'Charts data'!$A$2:$B$11,2,0)*VLOOKUP($G439,'Charts data'!$A$14:$B$18,2,0)/IF('Charts data'!$E$3=1,I439,1)/IF('Charts data'!$E$4=1,J439,1)","v":14246.333349954055}]
["ID0469",125000,"INR",{"$f":"B440*VLOOKUP(C440,tblXrate[],2,0)","v":2225.989585930321},"Analyst","India","4 to 6",null,{"$f":"VLOOKUP(F440,mapping!$L$2:$P$92,2,0)","v":0.34064763831408895},{"$f":"VLOOKUP($F440,mapping!$L$2:$P$92,3,0)","v":1388.78},{"$f":"VLOOKUP($F440,mapping!$L$2:$P$92,4,0)","v":"Developing Asia"},{"$f":"$D440*VLOOKUP($E440,'Charts data'!$A$2:$B$11,2,0)*VLOOKUP($G440,'Charts data'!$A$14:$B$18,2,0)/IF('Charts data'!$E$3=1,I440,1)/IF('Charts data'!$E$4=1,J440,1)","v":2225.989585930321}]
["ID0497",200000,"INR",{"$f":"B441*VLOOKUP(C441,tblXrate[],2,0)","v":3561.5833374885137},"Analyst","India","2 to 3",null,{"$f":"VLOOKUP(F441,mapping!$L$2:$P$92,2,0)","v":0.34064763831408895},{"$f":"VLOOKUP($F441,mapping!$L$2:$P$92,3,0)","v":1388.78},{"$f":"VLOOKUP($F441,mapping!$L$2:$P$92,4,0)","v":"Developing Asia"},{"$f":"$D441*VLOOKUP($E441,'Charts data'!$A$2:$B$11,2,0)*VLOOKUP($G441,'Charts data'!$A$14:$B$18,2,0)/IF('Charts data'!$E$3=1,I441,1)/IF('Charts data'!$E$4=1,J441,1)","v":3561.5833374885137}]
["ID0500",720000,"INR",{"$f":"B442*VLOOKUP(C442,tblXrate[],2,0)","v":12821.700014958649},"Manager","India","2 to 3",null,{"$f":"VLOOKUP(F442,mapping!$L$2:$P$92,2,0)","v":0.34064763831408895},{"$f":"VLOOKUP($F442,mapping!$L$2:$P$92,3,0)","v":1388.78},{"$f":"VLOOKUP($F442,mapping!$L$2:$P$92,4,0)","v":"Developing Asia"},{"$f":"$D442*VLOOKUP($E442,'Charts data'!$A$2:$B$11,2,0)*VLOOKUP($G442,'Charts data'!$A$14:$B$18,2,0)/IF('Charts data'!$E$3=1,I442,1)/IF('Charts data'!$E$4=1,J442,1)","v":12821.700014958649}]
["ID0508",600000,"INR",{"$f":"B443*VLOOKUP(C443,tblXrate[],2,0)","v":10684.750012465542},"Manager","India","4 to 6",null,{"$f":"VLOOKUP(F443,mapping!$L$2:$P$92,2,0)","v":0.34064763831408895},{"$f":"VLOOKUP($F443,mapping!$L$2:$P$92,3,0)","v":1388.78},{"$f":"VLOOKUP($F443,mapping!$L$2:$P$92,4,0)","v":"Developing Asia"},{"$f":"$D443*VLOOKUP($E443,'Charts data'!$A$2:$B$11,2,0)*VLOOKUP($G443,'Charts data'!$A$14:$B$18,2,0)/IF('Charts data'!$E$3=1,I443,1)/IF('Charts data'!$E$4=1,J443,1)","v":10684.750012465542}]
["ID0510",500000,"INR",{"$f":"B444*VLOOKUP(C444,tblXrate[],2,0)","v":8903.9583437212841},"Manager","India","2 to 3",null,{"$f":"VLOOKUP(F444,mapping!$L$2:$P$92,2,0)","v":0.34064763831408895},{"$f":"VLOOKUP($F444,mapping!$L$2:$P$92,3,0)","v":1388.78},{"$f":"VLOOKUP($F444,mapping!$L$2:$P$92,4,0)","v":"Developing Asia"},{"$f":"$D444*VLOOKUP($E444,'Charts data'!$A$2:$B$11,2,0)*VLOOKUP($G444,'Charts data'!$A$14:$B$18,2,0)/IF('Charts data'!$E$3=1,I444,1)/IF('Charts data'!$E$4=1,J444,1)","v":8903.9583437212841}]
["ID0526",600000,"INR",{"$f":"B445*VLOOKUP(C445,tblXrate[],2,0)","v":10684.750012465542},"Manager","India","4 to 6",null,{"$f":"VLOOKUP(F445,mapping!$L$2:$P$92,2,0)","v":0.34064763831408895},{"$f":"VLOOKUP($F445,mapping!$L$2:$P$92,3,0)","v":1388.78},{"$f":"VLOOKUP($F445,mapping!$L$2:$P$92,4,0)","v":"Developing Asia"},{"$f":"$D445*VLOOKUP($E445,'Charts data'!$A$2:$B$11,2,0)*VLOOKUP($G445,'Charts data'!$A$14:$B$18,2,0)/IF('Charts data'!$E$3=1,I445,1)/IF('Charts data'!$E$4=1,J445,1)","v":10684.750012465542}]
["ID0544",450000,"INR",{"$f":"B446*VLOOKUP(C446,tblXrate[],2,0)","v":8013.5625093491553},"Manager","India","8 Hrs",null,{"$f":"VLOOKUP(F446,mapping!$L$2:$P$92,2,0)","v":0.34064763831408895},{"$f":"VLOOKUP($F446,mapping!$L$2:$P$92,3,0)","v":1388.78},{"$f":"VLOOKUP($F446,mapping!$L$2:$P$92,4,0)","v":"Developing Asia"},{"$f":"$D446*VLOOKUP($E446,'Charts data'!$A$2:$B$11,2,0)*VLOOKUP($G446,'Charts data'!$A$14:$B$18,2,0)/IF('Charts data'!$E$3=1,I446,1)/IF('Charts data'!$E$4=1,J446,1)","v":8013.5625093491553}]
["ID0548",500000,"INR",{"$f":"B447*VLOOKUP(C447,tblXrate[],2,0)","v":8903.9583437212841},"Analyst","India","8 Hrs",null,{"$f":"VLOOKUP(F447,mapping!$L$2:$P$92,2,0)","v":0.34064763831408895},{"$f":"VLOOKUP($F447,mapping!$L$2:$P$92,3,0)","v":1388.78},{"$f":"VLOOKUP($F447,mapping!$L$2:$P$92,4,0)","v":"Developing Asia"},{"$f":"$D447*VLOOKUP($E447,'Charts data'!$A$2:$B$11,2,0)*VLOOKUP($G447,'Charts data'!$A$14:$B$18,2,0)/IF('Charts data'!$E$3=1,I447,1)/IF('Charts data'!$E$4=1,J447,1)","v":8903.9583437212841}]
["ID0598",400000,"INR",{"$f":"B448*VLOOKUP(C448,tblXrate[],2,0)","v":7123.1666749770275},"Manager","India","1 or 2",3,{"$f":"VLOOKUP(F448,mapping!$L$2:$P$92,2,0)","v":0.34064763831408895},{"$f":"VLOOKUP($F448,mapping!$L$2:$P$92,3,0)","v":1388.78},{"$f":"VLOOKUP($F448,mapping!$L$2:$P$92,4,0)","v":"Developing Asia"},{"$f":"$D448*VLOOKUP($E448,'Charts data'!$A$2:$B$11,2,0)*VLOOKUP($G448,'Charts data'!$A$14:$B$18,2,0)/IF('Charts data'!$E$3=1,I448,1)/IF('Charts data'!$E$4=1,J448,1)","v":7123.1666749770275}]
["ID0603",240000,"INR",{"$f":"B449*VLOOKUP(C449,tblXrate[],2,0)","v":4273.9000049862161},"Analyst","India","2 to 3",5,{"$f":"VLOOKUP(F449,mapping!$L$2:$P$92,2,0)","v":0.34064763831408895},{"$f":"VLOOKUP($F449,mapping!$L$2:$P$92,3,0)","v":1388.78},{"$f":"VLOOKUP($F449,mapping!$L$2:$P$92,4,0)","v":"Developing Asia"},{"$f":"$D449*VLOOKUP($E449,'Charts data'!$A$2:$B$11,2,0)*VLOOKUP($G449,'Charts data'!$A$14:$B$18,2,0)/IF('Charts data'!$E$3=1,I449,1)/IF('Charts data'!$E$4=1,J449,1)","v":4273.9000049862161}]
["ID0611",380000,"INR",{"$f":"B450*VLOOKUP(C450,tblXrate[],2,0)","v":6767.0083412281756},"Manager","India","4 to 6",10,{"$f":"VLOOKUP(F450,mapping!$L$2:$P$92,2,0)","v":0.34064763831408895},{"$f":"VLOOKUP($F450,mapping!$L$2:$P$92,3,0)","v":1388.78},{"$f":"VLOOKUP($F450,mapping!$L$2:$P$92,4,0)","v":"Developing Asia"},{"$f":"$D450*VLOOKUP($E450,'Charts data'!$A$2:$B$11,2,0)*VLOOKUP($G450,'Charts data'!$A$14:$B$18,2,0)/IF('Charts data'!$E$3=1,I450,1)/IF('Charts data'!$E$4=1,J450,1)","v":6767.0083412281756}]
["ID0613",420000,"INR",{"$f":"B451*VLOOKUP(C451,tblXrate[],2,0)","v":7479.3250087258784},"Analyst","India","4 to 6",3,{"$f":"VLOOKUP(F451,mapping!$L$2:$P$92,2,0)","v":0.34064763831408895},{"$f":"VLOOKUP($F451,mapping!$L$2:$P$92,3,0)","v":1388.78},{"$f":"VLOOKUP($F451,mapping!$L$2:$P$92,4,0)","v":"Developing Asia"},{"$f":"$D451*VLOOKUP($E451,'Charts data'!$A$2:$B$11,2,0)*VLOOKUP($G451,'Charts data'!$A$14:$B$18,2,0)/IF('Charts data'!$E$3=1,I451,1)/IF('Charts data'!$E$4=1,J451,1)","v":7479.3250087258784}]
["ID0616",850000,"INR",{"$f":"B452*VLOOKUP(C452,tblXrate[],2,0)","v":15136.729184326183},"Analyst","India","4 to 6",6,{"$f":"VLOOKUP(F452,mapping!$L$2:$P$92,2,0)","v":0.34064763831408895},{"$f":"VLOOKUP($F452,mapping!$L$2:$P$92,3,0)","v":1388.78},{"$f":"VLOOKUP($F452,mapping!$L$2:$P$92,4,0)","v":"Developing Asia"},{"$f":"$D452*VLOOKUP($E452,'Charts data'!$A$2:$B$11,2,0)*VLOOKUP($G452,'Charts data'!$A$14:$B$18,2,0)/IF('Charts data'!$E$3=1,I452,1)/IF('Charts data'!$E$4=1,J452,1)","v":15136.729184326183}]
["ID0617",1800000,"INR",{"$f":"B453*VLOOKUP(C453,tblXrate[],2,0)","v":32054.250037396621},"Manager","India","2 to 3",10,{"$f":"VLOOKUP(F453,mapping!$L$2:$P$92,2,0)","v":0.34064763831408895},{"$f":"VLOOKUP($F453,mapping!$L$2:$P$92,3,0)","v":1388.78},{"$f":"VLOOKUP($F453,mapping!$L$2:$P$92,4,0)","v":"Developing Asia"},{"$f":"$D453*VLOOKUP($E453,'Charts data'!$A$2:$B$11,2,0)*VLOOKUP($G453,'Charts data'!$A$14:$B$18,2,0)/IF('Charts data'!$E$3=1,I453,1)/IF('Charts data'!$E$4=1,J453,1)","v":32054.250037396621}]
["ID0621",160000,"INR",{"$f":"B454*VLOOKUP(C454,tblXrate[],2,0)","v":2849.2666699908109},"Reporting","India","8 Hrs",3,{"$f":"VLOOKUP(F454,mapping!$L$2:$P$92,2,0)","v":0.34064763831408895},{"$f":"VLOOKUP($F454,mapping!$L$2:$P$92,3,0)","v":1388.78},{"$f":"VLOOKUP($F454,mapping!$L$2:$P$92,4,0)","v":"Developing Asia"},{"$f":"$D454*VLOOKUP($E454,'Charts data'!$A$2:$B$11,2,0)*VLOOKUP($G454,'Charts data'!$A$14:$B$18,2,0)/IF('Charts data'!$E$3=1,I454,1)/IF('Charts data'!$E$4=1,J454,1)","v":2849.2666699908109}]
["ID0630",720000,"INR",{"$f":"B455*VLOOKUP(C455,tblXrate[],2,0)","v":12821.700014958649},"Manager","India","4 to 6",12,{"$f":"VLOOKUP(F455,mapping!$L$2:$P$92,2,0)","v":0.34064763831408895},{"$f":"VLOOKUP($F455,mapping!$L$2:$P$92,3,0)","v":1388.78},{"$f":"VLOOKUP($F455,mapping!$L$2:$P$92,4,0)","v":"Developing Asia"},{"$f":"$D455*VLOOKUP($E455,'Charts data'!$A$2:$B$11,2,0)*VLOOKUP($G455,'Charts data'!$A$14:$B$18,2,0)/IF('Charts data'!$E$3=1,I455,1)/IF('Charts data'!$E$4=1,J455,1)","v":12821.700014958649}]
["ID0636",200000,"INR",{"$f":"B456*VLOOKUP(C456,tblXrate[],2,0)","v":3561.5833374885137},"Accountant","India","4 to 6",3,{"$f":"VLOOKUP(F456,mapping!$L$2:$P$92,2,0)","v":0.34064763831408895},{"$f":"VLOOKUP($F456,mapping!$L$2:$P$92,3,0)","v":1388.78},{"$f":"VLOOKUP($F456,mapping!$L$2:$P$92,4,0)","v":"Developing Asia"},{"$f":"$D456*VLOOKUP($E456,'Charts data'!$A$2:$B$11,2,0)*VLOOKUP($G456,'Charts data'!$A$14:$B$18,2,0)/IF('Charts data'!$E$3=1,I456,1)/IF('Charts data'!$E$4=1,J456,1)","v":3561.5833374885137}]
["ID0638",600000,"INR",{"$f":"B457*VLOOKUP(C457,tblXrate[],2,0)","v":10684.750012465542},"Analyst","India","2 to 3",3,{"$f":"VLOOKUP(F457,mapping!$L$2:$P$92,2,0)","v":0.34064763831408895},{"$f":"VLOOKUP($F457,mapping!$L$2:$P$92,3,0)","v":1388.78},{"$f":"VLOOKUP($F457,mapping!$L$2:$P$92,4,0)","v":"Developing Asia"},{"$f":"$D457*VLOOKUP($E457,'Charts data'!$A$2:$B$11,2,0)*VLOOKUP($G457,'Charts data'!$A$14:$B$18,2,0)/IF('Charts data'!$E$3=1,I457,1)/IF('Charts data'!$E$4=1,J457,1)","v":10684.750012465542}]
["ID0639",300000,"INR",{"$f":"B458*VLOOKUP(C458,tblXrate[],2,0)","v":5342.3750062327708},"Engineer","India","8 Hrs",2,{"$f":"VLOOKUP(F458,mapping!$L$2:$P$92,2,0)","v":0.34064763831408895},{"$f":"VLOOKUP($F458,mapping!$L$2:$P$92,3,0)","v":1388.78},{"$f":"VLOOKUP($F458,mapping!$L$2:$P$92,4,0)","v":"Developing Asia"},{"$f":"$D458*VLOOKUP($E458,'Charts data'!$A$2:$B$11,2,0)*VLOOKUP($G458,'Charts data'!$A$14:$B$18,2,0)/IF('Charts data'!$E$3=1,I458,1)/IF('Charts data'!$E$4=1,J458,1)","v":5342.3750062327708}]
["ID0640",4000000,"INR",{"$f":"B459*VLOOKUP(C459,tblXrate[],2,0)","v":71231.666749770273},"Manager","India","4 to 6",1.5,{"$f":"VLOOKUP(F459,mapping!$L$2:$P$92,2,0)","v":0.34064763831408895},{"$f":"VLOOKUP($F459,mapping!$L$2:$P$92,3,0)","v":1388.78},{"$f":"VLOOKUP($F459,mapping!$L$2:$P$92,4,0)","v":"Developing Asia"},{"$f":"$D459*VLOOKUP($E459,'Charts data'!$A$2:$B$11,2,0)*VLOOKUP($G459,'Charts data'!$A$14:$B$18,2,0)/IF('Charts data'!$E$3=1,I459,1)/IF('Charts data'!$E$4=1,J459,1)","v":71231.666749770273}]
["ID0641",4500000,"INR",{"$f":"B460*VLOOKUP(C460,tblXrate[],2,0)","v":80135.625093491559},"CXO or Top Mgmt.","India","1 or 2",6,{"$f":"VLOOKUP(F460,mapping!$L$2:$P$92,2,0)","v":0.34064763831408895},{"$f":"VLOOKUP($F460,mapping!$L$2:$P$92,3,0)","v":1388.78},{"$f":"VLOOKUP($F460,mapping!$L$2:$P$92,4,0)","v":"Developing Asia"},{"$f":"$D460*VLOOKUP($E460,'Charts data'!$A$2:$B$11,2,0)*VLOOKUP($G460,'Charts data'!$A$14:$B$18,2,0)/IF('Charts data'!$E$3=1,I460,1)/IF('Charts data'!$E$4=1,J460,1)","v":80135.625093491559}]
["ID0644",300000,"INR",{"$f":"B461*VLOOKUP(C461,tblXrate[],2,0)","v":5342.3750062327708},"Reporting","India","4 to 6",1,{"$f":"VLOOKUP(F461,mapping!$L$2:$P$92,2,0)","v":0.34064763831408895},{"$f":"VLOOKUP($F461,mapping!$L$2:$P$92,3,0)","v":1388.78},{"$f":"VLOOKUP($F461,mapping!$L$2:$P$92,4,0)","v":"Developing Asia"},{"$f":"$D461*VLOOKUP($E461,'Charts data'!$A$2:$B$11,2,0)*VLOOKUP($G461,'Charts data'!$A$14:$B$18,2,0)/IF('Charts data'!$E$3=1,I461,1)/IF('Charts data'!$E$4=1,J461,1)","v":5342.3750062327708}]
["ID0645",400000,"INR",{"$f":"B462*VLOOKUP(C462,tblXrate[],2,0)","v":7123.1666749770275},"Manager","India","1 or 2",5,{"$f":"VLOOKUP(F462,mapping!$L$2:$P$92,2,0)","v":0.34064763831408895},{"$f":"VLOOKUP($F462,mapping!$L$2:$P$92,3,0)","v":1388.78},{"$f":"VLOOKUP($F462,mapping!$L$2:$P$92,4,0)","v":"Developing Asia"},{"$f":"$D462*VLOOKUP($E462,'Charts data'!$A$2:$B$11,2,0)*VLOOKUP($G462,'Charts data'!$A$14:$B$18,2,0)/IF('Charts data'!$E$3=1,I462,1)/IF('Charts data'!$E$4=1,J462,1)","v":7123.1666749770275}]
["ID0646",600000,"INR",{"$f":"B463*VLOOKUP(C463,tblXrate[],2,0)","v":10684.750012465542},"Manager","India","4 to 6",11,{"$f":"VLOOKUP(F463,mapping!$L$2:$P$92,2,0)","v":0.34064763831408895},{"$f":"VLOOKUP($F463,mapping!$L$2:$P$92,3,0)","v":1388.78},{"$f":"VLOOKUP($F463,mapping!$L$2:$P$92,4,0)","v":"Developing Asia"},{"$f":"$D463*VLOOKUP($E463,'Charts data'!$A$2:$B$11,2,0)*VLOOKUP($G463,'Charts data'!$A$14:$B$18,2,0)/IF('Charts data'!$E$3=1,I463,1)/IF('Charts data'!$E$4=1,J463,1)","v":10684.750012465542}]
["ID0649",150000,"INR",{"$f":"B464*VLOOKUP(C464,tblXrate[],2,0)","v":2671.1875031163854},"Manager","India","2 to 3",5,{"$f":"VLOOKUP(F464,mapping!$L$2:$P$92,2,0)","v":0.34064763831408895},{"$f":"VLOOKUP($F464,mapping!$L$2:$P$92,3,0)","v":1388.78},{"$f":"VLOOKUP($F464,mapping!$L$2:$P$92,4,0)","v":"Developing Asia"},{"$f":"$D464*VLOOKUP($E464,'Charts data'!$A$2:$B$11,2,0)*VLOOKUP($G464,'Charts data'!$A$14:$B$18,2,0)/IF('Charts data'!$E$3=1,I464,1)/IF('Charts data'!$E$4=1,J464,1)","v":2671.1875031163854}]
["ID0650",800000,"INR",{"$f":"B465*VLOOKUP(C465,tblXrate[],2,0)","v":14246.333349954055},"Engineer","India","2 to 3",3,{"$f":"VLOOKUP(F465,mapping!$L$2:$P$92,2,0)","v":0.34064763831408895},{"$f":"VLOOKUP($F465,mapping!$L$2:$P$92,3,0)","v":1388.78},{"$f":"VLOOKUP($F465,mapping!$L$2:$P$92,4,0)","v":"Developing Asia"},{"$f":"$D465*VLOOKUP($E465,'Charts data'!$A$2:$B$11,2,0)*VLOOKUP($G465,'Charts data'!$A$14:$B$18,2,0)/IF('Charts data'!$E$3=1,I465,1)/IF('Charts data'!$E$4=1,J465,1)","v":14246.333349954055}]
["ID0651",480000,"INR",{"$f":"B466*VLOOKUP(C466,tblXrate[],2,0)","v":8547.8000099724322},"Reporting","India","1 or 2",3,{"$f":"VLOOKUP(F466,mapping!$L$2:$P$92,2,0)","v":0.34064763831408895},{"$f":"VLOOKUP($F466,mapping!$L$2:$P$92,3,0)","v":1388.78},{"$f":"VLOOKUP($F466,mapping!$L$2:$P$92,4,0)","v":"Developing Asia"},{"$f":"$D466*VLOOKUP($E466,'Charts data'!$A$2:$B$11,2,0)*VLOOKUP($G466,'Charts data'!$A$14:$B$18,2,0)/IF('Charts data'!$E$3=1,I466,1)/IF('Charts data'!$E$4=1,J466,1)","v":8547.8000099724322}]
["ID0652",432000,"INR",{"$f":"B467*VLOOKUP(C467,tblXrate[],2,0)","v":7693.0200089751897},"Manager","India","2 to 3",5,{"$f":"VLOOKUP(F467,mapping!$L$2:$P$92,2,0)","v":0.34064763831408895},{"$f":"VLOOKUP($F467,mapping!$L$2:$P$92,3,0)","v":1388.78},{"$f":"VLOOKUP($F467,mapping!$L$2:$P$92,4,0)","v":"Developing Asia"},{"$f":"$D467*VLOOKUP($E467,'Charts data'!$A$2:$B$11,2,0)*VLOOKUP($G467,'Charts data'!$A$14:$B$18,2,0)/IF('Charts data'!$E$3=1,I467,1)/IF('Charts data'!$E$4=1,J467,1)","v":7693.0200089751897}]
["ID0655",10500000,"INR",{"$f":"B468*VLOOKUP(C468,tblXrate[],2,0)","v":186983.12521814698},"Manager","India","2 to 3",10,{"$f":"VLOOKUP(F468,mapping!$L$2:$P$92,2,0)","v":0.34064763831408895},{"$f":"VLOOKUP($F468,mapping!$L$2:$P$92,3,0)","v":1388.78},{"$f":"VLOOKUP($F468,mapping!$L$2:$P$92,4,0)","v":"Developing Asia"},{"$f":"$D468*VLOOKUP($E468,'Charts data'!$A$2:$B$11,2,0)*VLOOKUP($G468,'Charts data'!$A$14:$B$18,2,0)/IF('Charts data'!$E$3=1,I468,1)/IF('Charts data'!$E$4=1,J468,1)","v":186983.12521814698}]
["ID0660",950000,"INR",{"$f":"B469*VLOOKUP(C469,tblXrate[],2,0)","v":16917.52085307044},"Manager","India","4 to 6",3,{"$f":"VLOOKUP(F469,mapping!$L$2:$P$92,2,0)","v":0.34064763831408895},{"$f":"VLOOKUP($F469,mapping!$L$2:$P$92,3,0)","v":1388.78},{"$f":"VLOOKUP($F469,mapping!$L$2:$P$92,4,0)","v":"Developing Asia"},{"$f":"$D469*VLOOKUP($E469,'Charts data'!$A$2:$B$11,2,0)*VLOOKUP($G469,'Charts data'!$A$14:$B$18,2,0)/IF('Charts data'!$E$3=1,I469,1)/IF('Charts data'!$E$4=1,J469,1)","v":16917.52085307044}]
["ID0661",165000,"INR",{"$f":"B470*VLOOKUP(C470,tblXrate[],2,0)","v":2938.3062534280239},"Manager","India","8 Hrs",11,{"$f":"VLOOKUP(F470,mapping!$L$2:$P$92,2,0)","v":0.34064763831408895},{"$f":"VLOOKUP($F470,mapping!$L$2:$P$92,3,0)","v":1388.78},{"$f":"VLOOKUP($F470,mapping!$L$2:$P$92,4,0)","v":"Developing Asia"},{"$f":"$D470*VLOOKUP($E470,'Charts data'!$A$2:$B$11,2,0)*VLOOKUP($G470,'Charts data'!$A$14:$B$18,2,0)/IF('Charts data'!$E$3=1,I470,1)/IF('Charts data'!$E$4=1,J470,1)","v":2938.3062534280239}]
["ID0664",300000,"INR",{"$f":"B471*VLOOKUP(C471,tblXrate[],2,0)","v":5342.3750062327708},"Analyst","India","4 to 6",4.5,{"$f":"VLOOKUP(F471,mapping!$L$2:$P$92,2,0)","v":0.34064763831408895},{"$f":"VLOOKUP($F471,mapping!$L$2:$P$92,3,0)","v":1388.78},{"$f":"VLOOKUP($F471,mapping!$L$2:$P$92,4,0)","v":"Developing Asia"},{"$f":"$D471*VLOOKUP($E471,'Charts data'!$A$2:$B$11,2,0)*VLOOKUP($G471,'Charts data'!$A$14:$B$18,2,0)/IF('Charts data'!$E$3=1,I471,1)/IF('Charts data'!$E$4=1,J471,1)","v":5342.3750062327708}]
["ID0665",200000,"INR",{"$f":"B472*VLOOKUP(C472,tblXrate[],2,0)","v":3561.5833374885137},"Reporting","India","8 Hrs",3,{"$f":"VLOOKUP(F472,mapping!$L$2:$P$92,2,0)","v":0.34064763831408895},{"$f":"VLOOKUP($F472,mapping!$L$2:$P$92,3,0)","v":1388.78},{"$f":"VLOOKUP($F472,mapping!$L$2:$P$92,4,0)","v":"Developing Asia"},{"$f":"$D472*VLOOKUP($E472,'Charts data'!$A$2:$B$11,2,0)*VLOOKUP($G472,'Charts data'!$A$14:$B$18,2,0)/IF('Charts data'!$E$3=1,I472,1)/IF('Charts data'!$E$4=1,J472,1)","v":3561.5833374885137}]
["ID0666",480000,"INR",{"$f":"B473*VLOOKUP(C473,tblXrate[],2,0)","v":8547.8000099724322},"Manager","India","2 to 3",8,{"$f":"VLOOKUP(F473,mapping!$L$2:$P$92,2,0)","v":0.34064763831408895},{"$f":"VLOOKUP($F473,mapping!$L$2:$P$92,3,0)","v":1388.78},{"$f":"VLOOKUP($F473,mapping!$L$2:$P$92,4,0)","v":"Developing Asia"},{"$f":"$D473*VLOOKUP($E473,'Charts data'!$A$2:$B$11,2,0)*VLOOKUP($G473,'Charts data'!$A$14:$B$18,2,0)/IF('Charts data'!$E$3=1,I473,1)/IF('Charts data'!$E$4=1,J473,1)","v":8547.8000099724322}]
["ID0668",230000,"INR",{"$f":"B474*VLOOKUP(C474,tblXrate[],2,0)","v":4095.8208381117906},"Reporting","India","8 Hrs",3,{"$f":"VLOOKUP(F474,mapping!$L$2:$P$92,2,0)","v":0.34064763831408895},{"$f":"VLOOKUP($F474,mapping!$L$2:$P$92,3,0)","v":1388.78},{"$f":"VLOOKUP($F474,mapping!$L$2:$P$92,4,0)","v":"Developing Asia"},{"$f":"$D474*VLOOKUP($E474,'Charts data'!$A$2:$B$11,2,0)*VLOOKUP($G474,'Charts data'!$A$14:$B$18,2,0)/IF('Charts data'!$E$3=1,I474,1)/IF('Charts data'!$E$4=1,J474,1)","v":4095.8208381117906}]
["ID0676",325000,"INR",{"$f":"B475*VLOOKUP(C475,tblXrate[],2,0)","v":5787.5729234188348},"Reporting","India","8 Hrs",4.5,{"$f":"VLOOKUP(F475,mapping!$L$2:$P$92,2,0)","v":0.34064763831408895},{"$f":"VLOOKUP($F475,mapping!$L$2:$P$92,3,0)","v":1388.78},{"$f":"VLOOKUP($F475,mapping!$L$2:$P$92,4,0)","v":"Developing Asia"},{"$f":"$D475*VLOOKUP($E475,'Charts data'!$A$2:$B$11,2,0)*VLOOKUP($G475,'Charts data'!$A$14:$B$18,2,0)/IF('Charts data'!$E$3=1,I475,1)/IF('Charts data'!$E$4=1,J475,1)","v":5787.5729234188348}]
["ID0678",250000,"INR",{"$f":"B476*VLOOKUP(C476,tblXrate[],2,0)","v":4451.9791718606421},"Manager","India","2 to 3",5,{"$f":"VLOOKUP(F476,mapping!$L$2:$P$92,2,0)","v":0.34064763831408895},{"$f":"VLOOKUP($F476,mapping!$L$2:$P$92,3,0)","v":1388.78},{"$f":"VLOOKUP($F476,mapping!$L$2:$P$92,4,0)","v":"Developing Asia"},{"$f":"$D476*VLOOKUP($E476,'Charts data'!$A$2:$B$11,2,0)*VLOOKUP($G476,'Charts data'!$A$14:$B$18,2,0)/IF('Charts data'!$E$3=1,I476,1)/IF('Charts data'!$E$4=1,J476,1)","v":4451.9791718606421}]
["ID0679",470000,"INR",{"$f":"B477*VLOOKUP(C477,tblXrate[],2,0)","v":8369.7208430980063},"Consultant","India","8 Hrs",4,{"$f":"VLOOKUP(F477,mapping!$L$2:$P$92,2,0)","v":0.34064763831408895},{"$f":"VLOOKUP($F477,mapping!$L$2:$P$92,3,0)","v":1388.78},{"$f":"VLOOKUP($F477,mapping!$L$2:$P$92,4,0)","v":"Developing Asia"},{"$f":"$D477*VLOOKUP($E477,'Charts data'!$A$2:$B$11,2,0)*VLOOKUP($G477,'Charts data'!$A$14:$B$18,2,0)/IF('Charts data'!$E$3=1,I477,1)/IF('Charts data'!$E$4=1,J477,1)","v":8369.7208430980063}]
["ID0682",220000,"INR",{"$f":"B478*VLOOKUP(C478,tblXrate[],2,0)","v":3917.7416712373652},"Analyst","India","2 to 3",3,{"$f":"VLOOKUP(F478,mapping!$L$2:$P$92,2,0)","v":0.34064763831408895},{"$f":"VLOOKUP($F478,mapping!$L$2:$P$92,3,0)","v":1388.78},{"$f":"VLOOKUP($F478,mapping!$L$2:$P$92,4,0)","v":"Developing Asia"},{"$f":"$D478*VLOOKUP($E478,'Charts data'!$A$2:$B$11,2,0)*VLOOKUP($G478,'Charts data'!$A$14:$B$18,2,0)/IF('Charts data'!$E$3=1,I478,1)/IF('Charts data'!$E$4=1,J478,1)","v":3917.7416712373652}]
["ID0684",260000,"INR",{"$f":"B479*VLOOKUP(C479,tblXrate[],2,0)","v":4630.058338735068},"Analyst","India","4 to 6",2,{"$f":"VLOOKUP(F479,mapping!$L$2:$P$92,2,0)","v":0.34064763831408895},{"$f":"VLOOKUP($F479,mapping!$L$2:$P$92,3,0)","v":1388.78},{"$f":"VLOOKUP($F479,mapping!$L$2:$P$92,4,0)","v":"Developing Asia"},{"$f":"$D479*VLOOKUP($E479,'Charts data'!$A$2:$B$11,2,0)*VLOOKUP($G479,'Charts data'!$A$14:$B$18,2,0)/IF('Charts data'!$E$3=1,I479,1)/IF('Charts data'!$E$4=1,J479,1)","v":4630.058338735068}]
["ID0685",120000,"INR",{"$f":"B480*VLOOKUP(C480,tblXrate[],2,0)","v":2136.9500024931081},"Analyst","India","2 to 3",3,{"$f":"VLOOKUP(F480,mapping!$L$2:$P$92,2,0)","v":0.34064763831408895},{"$f":"VLOOKUP($F480,mapping!$L$2:$P$92,3,0)","v":1388.78},{"$f":"VLOOKUP($F480,mapping!$L$2:$P$92,4,0)","v":"Developing Asia"},{"$f":"$D480*VLOOKUP($E480,'Charts data'!$A$2:$B$11,2,0)*VLOOKUP($G480,'Charts data'!$A$14:$B$18,2,0)/IF('Charts data'!$E$3=1,I480,1)/IF('Charts data'!$E$4=1,J480,1)","v":2136.9500024931081}]
["ID0687",144000,"INR",{"$f":"B481*VLOOKUP(C481,tblXrate[],2,0)","v":2564.3400029917298},"Manager","India","2 to 3",7,{"$f":"VLOOKUP(F481,mapping!$L$2:$P$92,2,0)","v":0.34064763831408895},{"$f":"VLOOKUP($F481,mapping!$L$2:$P$92,3,0)","v":1388.78},{"$f":"VLOOKUP($F481,mapping!$L$2:$P$92,4,0)","v":"Developing Asia"},{"$f":"$D481*VLOOKUP($E481,'Charts data'!$A$2:$B$11,2,0)*VLOOKUP($G481,'Charts data'!$A$14:$B$18,2,0)/IF('Charts data'!$E$3=1,I481,1)/IF('Charts data'!$E$4=1,J481,1)","v":2564.3400029917298}]
["ID0688",1150000,"INR",{"$f":"B482*VLOOKUP(C482,tblXrate[],2,0)","v":20479.104190558952},"Manager","India","2 to 3",7,{"$f":"VLOOKUP(F482,mapping!$L$2:$P$92,2,0)","v":0.34064763831408895},{"$f":"VLOOKUP($F482,mapping!$L$2:$P$92,3,0)","v":1388.78},{"$f":"VLOOKUP($F482,mapping!$L$2:$P$92,4,0)","v":"Developing Asia"},{"$f":"$D482*VLOOKUP($E482,'Charts data'!$A$2:$B$11,2,0)*VLOOKUP($G482,'Charts data'!$A$14:$B$18,2,0)/IF('Charts data'!$E$3=1,I482,1)/IF('Charts data'!$E$4=1,J482,1)","v":20479.104190558952}]
["ID0691",300000,"INR",{"$f":"B483*VLOOKUP(C483,tblXrate[],2,0)","v":5342.3750062327708},"Manager","India","2 to 3",3,{"$f":"VLOOKUP(F483,mapping!$L$2:$P$92,2,0)","v":0.34064763831408895},{"$f":"VLOOKUP($F483,mapping!$L$2:$P$92,3,0)","v":1388.78},{"$f":"VLOOKUP($F483,mapping!$L$2:$P$92,4,0)","v":"Developing Asia"},{"$f":"$D483*VLOOKUP($E483,'Charts data'!$A$2:$B$11,2,0)*VLOOKUP($G483,'Charts data'!$A$14:$B$18,2,0)/IF('Charts data'!$E$3=1,I483,1)/IF('Charts data'!$E$4=1,J483,1)","v":5342.3750062327708}]
["ID0692",648000,"INR",{"$f":"B484*VLOOKUP(C484,tblXrate[],2,0)","v":11539.530013462785},"Analyst","India","8 Hrs",2,{"$f":"VLOOKUP(F484,mapping!$L$2:$P$92,2,0)","v":0.34064763831408895},{"$f":"VLOOKUP($F484,mapping!$L$2:$P$92,3,0)","v":1388.78},{"$f":"VLOOKUP($F484,mapping!$L$2:$P$92,4,0)","v":"Developing Asia"},{"$f":"$D484*VLOOKUP($E484,'Charts data'!$A$2:$B$11,2,0)*VLOOKUP($G484,'Charts data'!$A$14:$B$18,2,0)/IF('Charts data'!$E$3=1,I484,1)/IF('Charts data'!$E$4=1,J484,1)","v":11539.530013462785}]
["ID0694",380000,"INR",{"$f":"B485*VLOOKUP(C485,tblXrate[],2,0)","v":6767.0083412281756},"Reporting","India","2 to 3",6,{"$f":"VLOOKUP(F485,mapping!$L$2:$P$92,2,0)","v":0.34064763831408895},{"$f":"VLOOKUP($F485,mapping!$L$2:$P$92,3,0)","v":1388.78},{"$f":"VLOOKUP($F485,mapping!$L$2:$P$92,4,0)","v":"Developing Asia"},{"$f":"$D485*VLOOKUP($E485,'Charts data'!$A$2:$B$11,2,0)*VLOOKUP($G485,'Charts data'!$A$14:$B$18,2,0)/IF('Charts data'!$E$3=1,I485,1)/IF('Charts data'!$E$4=1,J485,1)","v":6767.0083412281756}]
["ID0696",250000,"INR",{"$f":"B486*VLOOKUP(C486,tblXrate[],2,0)","v":4451.9791718606421},"Reporting","India","8 Hrs",4,{"$f":"VLOOKUP(F486,mapping!$L$2:$P$92,2,0)","v":0.34064763831408895},{"$f":"VLOOKUP($F486,mapping!$L$2:$P$92,3,0)","v":1388.78},{"$f":"VLOOKUP($F486,mapping!$L$2:$P$92,4,0)","v":"Developing Asia"},{"$f":"$D486*VLOOKUP($E486,'Charts data'!$A$2:$B$11,2,0)*VLOOKUP($G486,'Charts data'!$A$14:$B$18,2,0)/IF('Charts data'!$E$3=1,I486,1)/IF('Charts data'!$E$4=1,J486,1)","v":4451.9791718606421}]
["ID0697",150000,"INR",{"$f":"B487*VLOOKUP(C487,tblXrate[],2,0)","v":2671.1875031163854},"CXO or Top Mgmt.","India","4 to 6",4.5,{"$f":"VLOOKUP(F487,mapping!$L$2:$P$92,2,0)","v":0.34064763831408895},{"$f":"VLOOKUP($F487,mapping!$L$2:$P$92,3,0)","v":1388.78},{"$f":"VLOOKUP($F487,mapping!$L$2:$P$92,4,0)","v":"Developing Asia"},{"$f":"$D487*VLOOKUP($E487,'Charts data'!$A$2:$B$11,2,0)*VLOOKUP($G487,'Charts data'!$A$14:$B$18,2,0)/IF('Charts data'!$E$3=1,I487,1)/IF('Charts data'!$E$4=1,J487,1)","v":2671.1875031163854}]
["ID0698",278400,"INR",{"$f":"B488*VLOOKUP(C488,tblXrate[],2,0)","v":4957.7240057840108},"Manager","India","4 to 6",5,{"$f":"VLOOKUP(F488,mapping!$L$2:$P$92,2,0)","v":0.34064763831408895},{"$f":"VLOOKUP($F488,mapping!$L$2:$P$92,3,0)","v":1388.78},{"$f":"VLOOKUP($F488,mapping!$L$2:$P$92,4,0)","v":"Developing Asia"},{"$f":"$D488*VLOOKUP($E488,'Charts data'!$A$2:$B$11,2,0)*VLOOKUP($G488,'Charts data'!$A$14:$B$18,2,0)/IF('Charts data'!$E$3=1,I488,1)/IF('Charts data'!$E$4=1,J488,1)","v":4957.7240057840108}]
["ID0699",180000,"INR",{"$f":"B489*VLOOKUP(C489,tblXrate[],2,0)","v":3205.4250037396623},"Accountant","India","2 to 3",14,{"$f":"VLOOKUP(F489,mapping!$L$2:$P$92,2,0)","v":0.34064763831408895},{"$f":"VLOOKUP($F489,mapping!$L$2:$P$92,3,0)","v":1388.78},{"$f":"VLOOKUP($F489,mapping!$L$2:$P$92,4,0)","v":"Developing Asia"},{"$f":"$D489*VLOOKUP($E489,'Charts data'!$A$2:$B$11,2,0)*VLOOKUP($G489,'Charts data'!$A$14:$B$18,2,0)/IF('Charts data'!$E$3=1,I489,1)/IF('Charts data'!$E$4=1,J489,1)","v":3205.4250037396623}]
["ID0700",800000,"INR",{"$f":"B490*VLOOKUP(C490,tblXrate[],2,0)","v":14246.333349954055},"Manager","India","4 to 6",7,{"$f":"VLOOKUP(F490,mapping!$L$2:$P$92,2,0)","v":0.34064763831408895},{"$f":"VLOOKUP($F490,mapping!$L$2:$P$92,3,0)","v":1388.78},{"$f":"VLOOKUP($F490,mapping!$L$2:$P$92,4,0)","v":"Developing Asia"},{"$f":"$D490*VLOOKUP($E490,'Charts data'!$A$2:$B$11,2,0)*VLOOKUP($G490,'Charts data'!$A$14:$B$18,2,0)/IF('Charts data'!$E$3=1,I490,1)/IF('Charts data'!$E$4=1,J490,1)","v":14246.333349954055}]
["ID0701",300000,"INR",{"$f":"B491*VLOOKUP(C491,tblXrate[],2,0)","v":5342.3750062327708},"Analyst","India","8 Hrs",7,{"$f":"VLOOKUP(F491,mapping!$L$2:$P$92,2,0)","v":0.34064763831408895},{"$f":"VLOOKUP($F491,mapping!$L$2:$P$92,3,0)","v":1388.78},{"$f":"VLOOKUP($F491,mapping!$L$2:$P$92,4,0)","v":"Developing Asia"},{"$f":"$D491*VLOOKUP($E491,'Charts data'!$A$2:$B$11,2,0)*VLOOKUP($G491,'Charts data'!$A$14:$B$18,2,0)/IF('Charts data'!$E$3=1,I491,1)/IF('Charts data'!$E$4=1,J491,1)","v":5342.3750062327708}]
["ID0702",370000,"INR",{"$f":"B492*VLOOKUP(C492,tblXrate[],2,0)","v":6588.9291743537506},"Analyst","India","8 Hrs",2,{"$f":"VLOOKUP(F492,mapping!$L$2:$P$92,2,0)","v":0.34064763831408895},{"$f":"VLOOKUP($F492,mapping!$L$2:$P$92,3,0)","v":1388.78},{"$f":"VLOOKUP($F492,mapping!$L$2:$P$92,4,0)","v":"Developing Asia"},{"$f":"$D492*VLOOKUP($E492,'Charts data'!$A$2:$B$11,2,0)*VLOOKUP($G492,'Charts data'!$A$14:$B$18,2,0)/IF('Charts data'!$E$3=1,I492,1)/IF('Charts data'!$E$4=1,J492,1)","v":6588.9291743537506}]
["ID0703",370000,"INR",{"$f":"B493*VLOOKUP(C493,tblXrate[],2,0)","v":6588.9291743537506},"Analyst","India","8 Hrs",2,{"$f":"VLOOKUP(F493,mapping!$L$2:$P$92,2,0)","v":0.34064763831408895},{"$f":"VLOOKUP($F493,mapping!$L$2:$P$92,3,0)","v":1388.78},{"$f":"VLOOKUP($F493,mapping!$L$2:$P$92,4,0)","v":"Developing Asia"},{"$f":"$D493*VLOOKUP($E493,'Charts data'!$A$2:$B$11,2,0)*VLOOKUP($G493,'Charts data'!$A$14:$B$18,2,0)/IF('Charts data'!$E$3=1,I493,1)/IF('Charts data'!$E$4=1,J493,1)","v":6588.9291743537506}]
["ID0705",720000,"INR",{"$f":"B494*VLOOKUP(C494,tblXrate[],2,0)","v":12821.700014958649},"Accountant","India","4 to 6",4,{"$f":"VLOOKUP(F494,mapping!$L$2:$P$92,2,0)","v":0.34064763831408895},{"$f":"VLOOKUP($F494,mapping!$L$2:$P$92,3,0)","v":1388.78},{"$f":"VLOOKUP($F494,mapping!$L$2:$P$92,4,0)","v":"Developing Asia"},{"$f":"$D494*VLOOKUP($E494,'Charts data'!$A$2:$B$11,2,0)*VLOOKUP($G494,'Charts data'!$A$14:$B$18,2,0)/IF('Charts data'!$E$3=1,I494,1)/IF('Charts data'!$E$4=1,J494,1)","v":12821.700014958649}]
["ID0706",600000,"INR",{"$f":"B495*VLOOKUP(C495,tblXrate[],2,0)","v":10684.750012465542},"Manager","India","1 or 2",2,{"$f":"VLOOKUP(F495,mapping!$L$2:$P$92,2,0)","v":0.34064763831408895},{"$f":"VLOOKUP($F495,mapping!$L$2:$P$92,3,0)","v":1388.78},{"$f":"VLOOKUP($F495,mapping!$L$2:$P$92,4,0)","v":"Developing Asia"},{"$f":"$D495*VLOOKUP($E495,'Charts data'!$A$2:$B$11,2,0)*VLOOKUP($G495,'Charts data'!$A$14:$B$18,2,0)/IF('Charts data'!$E$3=1,I495,1)/IF('Charts data'!$E$4=1,J495,1)","v":10684.750012465542}]
["ID0708",120000,"INR",{"$f":"B496*VLOOKUP(C496,tblXrate[],2,0)","v":2136.9500024931081},"Analyst","India","1 or 2",0,{"$f":"VLOOKUP(F496,mapping!$L$2:$P$92,2,0)","v":0.34064763831408895},{"$f":"VLOOKUP($F496,mapping!$L$2:$P$92,3,0)","v":1388.78},{"$f":"VLOOKUP($F496,mapping!$L$2:$P$92,4,0)","v":"Developing Asia"},{"$f":"$D496*VLOOKUP($E496,'Charts data'!$A$2:$B$11,2,0)*VLOOKUP($G496,'Charts data'!$A$14:$B$18,2,0)/IF('Charts data'!$E$3=1,I496,1)/IF('Charts data'!$E$4=1,J496,1)","v":2136.9500024931081}]
["ID0709",480000,"INR",{"$f":"B497*VLOOKUP(C497,tblXrate[],2,0)","v":8547.8000099724322},"Analyst","India","4 to 6",4,{"$f":"VLOOKUP(F497,mapping!$L$2:$P$92,2,0)","v":0.34064763831408895},{"$f":"VLOOKUP($F497,mapping!$L$2:$P$92,3,0)","v":1388.78},{"$f":"VLOOKUP($F497,mapping!$L$2:$P$92,4,0)","v":"Developing Asia"},{"$f":"$D497*VLOOKUP($E497,'Charts data'!$A$2:$B$11,2,0)*VLOOKUP($G497,'Charts data'!$A$14:$B$18,2,0)/IF('Charts data'!$E$3=1,I497,1)/IF('Charts data'!$E$4=1,J497,1)","v":8547.8000099724322}]
["ID0710",450000,"INR",{"$f":"B498*VLOOKUP(C498,tblXrate[],2,0)","v":8013.5625093491553},"Analyst","India","8 Hrs",8,{"$f":"VLOOKUP(F498,mapping!$L$2:$P$92,2,0)","v":0.34064763831408895},{"$f":"VLOOKUP($F498,mapping!$L$2:$P$92,3,0)","v":1388.78},{"$f":"VLOOKUP($F498,mapping!$L$2:$P$92,4,0)","v":"Developing Asia"},{"$f":"$D498*VLOOKUP($E498,'Charts data'!$A$2:$B$11,2,0)*VLOOKUP($G498,'Charts data'!$A$14:$B$18,2,0)/IF('Charts data'!$E$3=1,I498,1)/IF('Charts data'!$E$4=1,J498,1)","v":8013.5625093491553}]
["ID0711",400000,"INR",{"$f":"B499*VLOOKUP(C499,tblXrate[],2,0)","v":7123.1666749770275},"Consultant","India","4 to 6",0,{"$f":"VLOOKUP(F499,mapping!$L$2:$P$92,2,0)","v":0.34064763831408895},{"$f":"VLOOKUP($F499,mapping!$L$2:$P$92,3,0)","v":1388.78},{"$f":"VLOOKUP($F499,mapping!$L$2:$P$92,4,0)","v":"Developing Asia"},{"$f":"$D499*VLOOKUP($E499,'Charts data'!$A$2:$B$11,2,0)*VLOOKUP($G499,'Charts data'!$A$14:$B$18,2,0)/IF('Charts data'!$E$3=1,I499,1)/IF('Charts data'!$E$4=1,J499,1)","v":7123.1666749770275}]
["ID0712",2300000,"INR",{"$f":"B500*VLOOKUP(C500,tblXrate[],2,0)","v":40958.208381117904},"Analyst","India","8 Hrs",5,{"$f":"VLOOKUP(F500,mapping!$L$2:$P$92,2,0)","v":0.34064763831408895},{"$f":"VLOOKUP($F500,mapping!$L$2:$P$92,3,0)","v":1388.78},{"$f":"VLOOKUP($F500,mapping!$L$2:$P$92,4,0)","v":"Developing Asia"},{"$f":"$D500*VLOOKUP($E500,'Charts data'!$A$2:$B$11,2,0)*VLOOKUP($G500,'Charts data'!$A$14:$B$18,2,0)/IF('Charts data'!$E$3=1,I500,1)/IF('Charts data'!$E$4=1,J500,1)","v":40958.208381117904}]
["ID0713",636000,"INR",{"$f":"B501*VLOOKUP(C501,tblXrate[],2,0)","v":11325.835013213473},"Manager","India","4 to 6",2,{"$f":"VLOOKUP(F501,mapping!$L$2:$P$92,2,0)","v":0.34064763831408895},{"$f":"VLOOKUP($F501,mapping!$L$2:$P$92,3,0)","v":1388.78},{"$f":"VLOOKUP($F501,mapping!$L$2:$P$92,4,0)","v":"Developing Asia"},{"$f":"$D501*VLOOKUP($E501,'Charts data'!$A$2:$B$11,2,0)*VLOOKUP($G501,'Charts data'!$A$14:$B$18,2,0)/IF('Charts data'!$E$3=1,I501,1)/IF('Charts data'!$E$4=1,J501,1)","v":11325.835013213473}]
["ID0716",500000,"INR",{"$f":"B502*VLOOKUP(C502,tblXrate[],2,0)","v":8903.9583437212841},"Reporting","India","2 to 3",1,{"$f":"VLOOKUP(F502,mapping!$L$2:$P$92,2,0)","v":0.34064763831408895},{"$f":"VLOOKUP($F502,mapping!$L$2:$P$92,3,0)","v":1388.78},{"$f":"VLOOKUP($F502,mapping!$L$2:$P$92,4,0)","v":"Developing Asia"},{"$f":"$D502*VLOOKUP($E502,'Charts data'!$A$2:$B$11,2,0)*VLOOKUP($G502,'Charts data'!$A$14:$B$18,2,0)/IF('Charts data'!$E$3=1,I502,1)/IF('Charts data'!$E$4=1,J502,1)","v":8903.9583437212841}]
["ID0717",500000,"INR",{"$f":"B503*VLOOKUP(C503,tblXrate[],2,0)","v":8903.9583437212841},"Engineer","India","8 Hrs",2,{"$f":"VLOOKUP(F503,mapping!$L$2:$P$92,2,0)","v":0.34064763831408895},{"$f":"VLOOKUP($F503,mapping!$L$2:$P$92,3,0)","v":1388.78},{"$f":"VLOOKUP($F503,mapping!$L$2:$P$92,4,0)","v":"Developing Asia"},{"$f":"$D503*VLOOKUP($E503,'Charts data'!$A$2:$B$11,2,0)*VLOOKUP($G503,'Charts data'!$A$14:$B$18,2,0)/IF('Charts data'!$E$3=1,I503,1)/IF('Charts data'!$E$4=1,J503,1)","v":8903.9583437212841}]
["ID0718",720000,"INR",{"$f":"B504*VLOOKUP(C504,tblXrate[],2,0)","v":12821.700014958649},"Manager","India","8 Hrs",10,{"$f":"VLOOKUP(F504,mapping!$L$2:$P$92,2,0)","v":0.34064763831408895},{"$f":"VLOOKUP($F504,mapping!$L$2:$P$92,3,0)","v":1388.78},{"$f":"VLOOKUP($F504,mapping!$L$2:$P$92,4,0)","v":"Developing Asia"},{"$f":"$D504*VLOOKUP($E504,'Charts data'!$A$2:$B$11,2,0)*VLOOKUP($G504,'Charts data'!$A$14:$B$18,2,0)/IF('Charts data'!$E$3=1,I504,1)/IF('Charts data'!$E$4=1,J504,1)","v":12821.700014958649}]
["ID0719",180000,"INR",{"$f":"B505*VLOOKUP(C505,tblXrate[],2,0)","v":3205.4250037396623},"Manager","India","8 Hrs",7,{"$f":"VLOOKUP(F505,mapping!$L$2:$P$92,2,0)","v":0.34064763831408895},{"$f":"VLOOKUP($F505,mapping!$L$2:$P$92,3,0)","v":1388.78},{"$f":"VLOOKUP($F505,mapping!$L$2:$P$92,4,0)","v":"Developing Asia"},{"$f":"$D505*VLOOKUP($E505,'Charts data'!$A$2:$B$11,2,0)*VLOOKUP($G505,'Charts data'!$A$14:$B$18,2,0)/IF('Charts data'!$E$3=1,I505,1)/IF('Charts data'!$E$4=1,J505,1)","v":3205.4250037396623}]
["ID0720",375000,"INR",{"$f":"B506*VLOOKUP(C506,tblXrate[],2,0)","v":6677.9687577909626},"Manager","India","2 to 3",6,{"$f":"VLOOKUP(F506,mapping!$L$2:$P$92,2,0)","v":0.34064763831408895},{"$f":"VLOOKUP($F506,mapping!$L$2:$P$92,3,0)","v":1388.78},{"$f":"VLOOKUP($F506,mapping!$L$2:$P$92,4,0)","v":"Developing Asia"},{"$f":"$D506*VLOOKUP($E506,'Charts data'!$A$2:$B$11,2,0)*VLOOKUP($G506,'Charts data'!$A$14:$B$18,2,0)/IF('Charts data'!$E$3=1,I506,1)/IF('Charts data'!$E$4=1,J506,1)","v":6677.9687577909626}]
["ID0724",400000,"INR",{"$f":"B507*VLOOKUP(C507,tblXrate[],2,0)","v":7123.1666749770275},"Reporting","India","8 Hrs",4,{"$f":"VLOOKUP(F507,mapping!$L$2:$P$92,2,0)","v":0.34064763831408895},{"$f":"VLOOKUP($F507,mapping!$L$2:$P$92,3,0)","v":1388.78},{"$f":"VLOOKUP($F507,mapping!$L$2:$P$92,4,0)","v":"Developing Asia"},{"$f":"$D507*VLOOKUP($E507,'Charts data'!$A$2:$B$11,2,0)*VLOOKUP($G507,'Charts data'!$A$14:$B$18,2,0)/IF('Charts data'!$E$3=1,I507,1)/IF('Charts data'!$E$4=1,J507,1)","v":7123.1666749770275}]
["ID0726",250000,"INR",{"$f":"B508*VLOOKUP(C508,tblXrate[],2,0)","v":4451.9791718606421},"Manager","India","4 to 6",6,{"$f":"VLOOKUP(F508,mapping!$L$2:$P$92,2,0)","v":0.34064763831408895},{"$f":"VLOOKUP($F508,mapping!$L$2:$P$92,3,0)","v":1388.78},{"$f":"VLOOKUP($F508,mapping!$L$2:$P$92,4,0)","v":"Developing Asia"},{"$f":"$D508*VLOOKUP($E508,'Charts data'!$A$2:$B$11,2,0)*VLOOKUP($G508,'Charts data'!$A$14:$B$18,2,0)/IF('Charts data'!$E$3=1,I508,1)/IF('Charts data'!$E$4=1,J508,1)","v":4451.9791718606421}]
["ID0728",390000,"INR",{"$f":"B509*VLOOKUP(C509,tblXrate[],2,0)","v":6945.0875081026015},"Analyst","India","4 to 6",1,{"$f":"VLOOKUP(F509,mapping!$L$2:$P$92,2,0)","v":0.34064763831408895},{"$f":"VLOOKUP($F509,mapping!$L$2:$P$92,3,0)","v":1388.78},{"$f":"VLOOKUP($F509,mapping!$L$2:$P$92,4,0)","v":"Developing Asia"},{"$f":"$D509*VLOOKUP($E509,'Charts data'!$A$2:$B$11,2,0)*VLOOKUP($G509,'Charts data'!$A$14:$B$18,2,0)/IF('Charts data'!$E$3=1,I509,1)/IF('Charts data'!$E$4=1,J509,1)","v":6945.0875081026015}]
["ID0729",600000,"INR",{"$f":"B510*VLOOKUP(C510,tblXrate[],2,0)","v":10684.750012465542},"Accountant","India","8 Hrs",7,{"$f":"VLOOKUP(F510,mapping!$L$2:$P$92,2,0)","v":0.34064763831408895},{"$f":"VLOOKUP($F510,mapping!$L$2:$P$92,3,0)","v":1388.78},{"$f":"VLOOKUP($F510,mapping!$L$2:$P$92,4,0)","v":"Developing Asia"},{"$f":"$D510*VLOOKUP($E510,'Charts data'!$A$2:$B$11,2,0)*VLOOKUP($G510,'Charts data'!$A$14:$B$18,2,0)/IF('Charts data'!$E$3=1,I510,1)/IF('Charts data'!$E$4=1,J510,1)","v":10684.750012465542}]
["ID0730",480000,"INR",{"$f":"B511*VLOOKUP(C511,tblXrate[],2,0)","v":8547.8000099724322},"Analyst","India","2 to 3",3.5,{"$f":"VLOOKUP(F511,mapping!$L$2:$P$92,2,0)","v":0.34064763831408895},{"$f":"VLOOKUP($F511,mapping!$L$2:$P$92,3,0)","v":1388.78},{"$f":"VLOOKUP($F511,mapping!$L$2:$P$92,4,0)","v":"Developing Asia"},{"$f":"$D511*VLOOKUP($E511,'Charts data'!$A$2:$B$11,2,0)*VLOOKUP($G511,'Charts data'!$A$14:$B$18,2,0)/IF('Charts data'!$E$3=1,I511,1)/IF('Charts data'!$E$4=1,J511,1)","v":8547.8000099724322}]
["ID0732",1000000,"INR",{"$f":"B512*VLOOKUP(C512,tblXrate[],2,0)","v":17807.916687442568},"Analyst","India","2 to 3",12,{"$f":"VLOOKUP(F512,mapping!$L$2:$P$92,2,0)","v":0.34064763831408895},{"$f":"VLOOKUP($F512,mapping!$L$2:$P$92,3,0)","v":1388.78},{"$f":"VLOOKUP($F512,mapping!$L$2:$P$92,4,0)","v":"Developing Asia"},{"$f":"$D512*VLOOKUP($E512,'Charts data'!$A$2:$B$11,2,0)*VLOOKUP($G512,'Charts data'!$A$14:$B$18,2,0)/IF('Charts data'!$E$3=1,I512,1)/IF('Charts data'!$E$4=1,J512,1)","v":17807.916687442568}]
["ID0733",180000,"INR",{"$f":"B513*VLOOKUP(C513,tblXrate[],2,0)","v":3205.4250037396623},"Accountant","India","8 Hrs",4,{"$f":"VLOOKUP(F513,mapping!$L$2:$P$92,2,0)","v":0.34064763831408895},{"$f":"VLOOKUP($F513,mapping!$L$2:$P$92,3,0)","v":1388.78},{"$f":"VLOOKUP($F513,mapping!$L$2:$P$92,4,0)","v":"Developing Asia"},{"$f":"$D513*VLOOKUP($E513,'Charts data'!$A$2:$B$11,2,0)*VLOOKUP($G513,'Charts data'!$A$14:$B$18,2,0)/IF('Charts data'!$E$3=1,I513,1)/IF('Charts data'!$E$4=1,J513,1)","v":3205.4250037396623}]
["ID0735",800000,"INR",{"$f":"B514*VLOOKUP(C514,tblXrate[],2,0)","v":14246.333349954055},"Manager","India","2 to 3",13,{"$f":"VLOOKUP(F514,mapping!$L$2:$P$92,2,0)","v":0.34064763831408895},{"$f":"VLOOKUP($F514,mapping!$L$2:$P$92,3,0)","v":1388.78},{"$f":"VLOOKUP($F514,mapping!$L$2:$P$92,4,0)","v":"Developing Asia"},{"$f":"$D514*VLOOKUP($E514,'Charts data'!$A$2:$B$11,2,0)*VLOOKUP($G514,'Charts data'!$A$14:$B$18,2,0)/IF('Charts data'!$E$3=1,I514,1)/IF('Charts data'!$E$4=1,J514,1)","v":14246.333349954055}]
["ID0736",600000,"INR",{"$f":"B515*VLOOKUP(C515,tblXrate[],2,0)","v":10684.750012465542},"Manager","India","2 to 3",8,{"$f":"VLOOKUP(F515,mapping!$L$2:$P$92,2,0)","v":0.34064763831408895},{"$f":"VLOOKUP($F515,mapping!$L$2:$P$92,3,0)","v":1388.78},{"$f":"VLOOKUP($F515,mapping!$L$2:$P$92,4,0)","v":"Developing Asia"},{"$f":"$D515*VLOOKUP($E515,'Charts data'!$A$2:$B$11,2,0)*VLOOKUP($G515,'Charts data'!$A$14:$B$18,2,0)/IF('Charts data'!$E$3=1,I515,1)/IF('Charts data'!$E$4=1,J515,1)","v":10684.750012465542}]
["ID0739",410000,"INR",{"$f":"B516*VLOOKUP(C516,tblXrate[],2,0)","v":7301.2458418514525},"Analyst","India","8 Hrs",5,{"$f":"VLOOKUP(F516,mapping!$L$2:$P$92,2,0)","v":0.34064763831408895},{"$f":"VLOOKUP($F516,mapping!$L$2:$P$92,3,0)","v":1388.78},{"$f":"VLOOKUP($F516,mapping!$L$2:$P$92,4,0)","v":"Developing Asia"},{"$f":"$D516*VLOOKUP($E516,'Charts data'!$A$2:$B$11,2,0)*VLOOKUP($G516,'Charts data'!$A$14:$B$18,2,0)/IF('Charts data'!$E$3=1,I516,1)/IF('Charts data'!$E$4=1,J516,1)","v":7301.2458418514525}]
["ID0741",600000,"INR",{"$f":"B517*VLOOKUP(C517,tblXrate[],2,0)","v":10684.750012465542},"Manager","India","4 to 6",5,{"$f":"VLOOKUP(F517,mapping!$L$2:$P$92,2,0)","v":0.34064763831408895},{"$f":"VLOOKUP($F517,mapping!$L$2:$P$92,3,0)","v":1388.78},{"$f":"VLOOKUP($F517,mapping!$L$2:$P$92,4,0)","v":"Developing Asia"},{"$f":"$D517*VLOOKUP($E517,'Charts data'!$A$2:$B$11,2,0)*VLOOKUP($G517,'Charts data'!$A$14:$B$18,2,0)/IF('Charts data'!$E$3=1,I517,1)/IF('Charts data'!$E$4=1,J517,1)","v":10684.750012465542}]
["ID0751",360000,"INR",{"$f":"B518*VLOOKUP(C518,tblXrate[],2,0)","v":6410.8500074793246},"Manager","India","8 Hrs",6,{"$f":"VLOOKUP(F518,mapping!$L$2:$P$92,2,0)","v":0.34064763831408895},{"$f":"VLOOKUP($F518,mapping!$L$2:$P$92,3,0)","v":1388.78},{"$f":"VLOOKUP($F518,mapping!$L$2:$P$92,4,0)","v":"Developing Asia"},{"$f":"$D518*VLOOKUP($E518,'Charts data'!$A$2:$B$11,2,0)*VLOOKUP($G518,'Charts data'!$A$14:$B$18,2,0)/IF('Charts data'!$E$3=1,I518,1)/IF('Charts data'!$E$4=1,J518,1)","v":6410.8500074793246}]
["ID0754",240000,"INR",{"$f":"B519*VLOOKUP(C519,tblXrate[],2,0)","v":4273.9000049862161},"Accountant","India","4 to 6",8,{"$f":"VLOOKUP(F519,mapping!$L$2:$P$92,2,0)","v":0.34064763831408895},{"$f":"VLOOKUP($F519,mapping!$L$2:$P$92,3,0)","v":1388.78},{"$f":"VLOOKUP($F519,mapping!$L$2:$P$92,4,0)","v":"Developing Asia"},{"$f":"$D519*VLOOKUP($E519,'Charts data'!$A$2:$B$11,2,0)*VLOOKUP($G519,'Charts data'!$A$14:$B$18,2,0)/IF('Charts data'!$E$3=1,I519,1)/IF('Charts data'!$E$4=1,J519,1)","v":4273.9000049862161}]
["ID0758",225000,"INR",{"$f":"B520*VLOOKUP(C520,tblXrate[],2,0)","v":4006.7812546745777},"Reporting","India","8 Hrs",5.5,{"$f":"VLOOKUP(F520,mapping!$L$2:$P$92,2,0)","v":0.34064763831408895},{"$f":"VLOOKUP($F520,mapping!$L$2:$P$92,3,0)","v":1388.78},{"$f":"VLOOKUP($F520,mapping!$L$2:$P$92,4,0)","v":"Developing Asia"},{"$f":"$D520*VLOOKUP($E520,'Charts data'!$A$2:$B$11,2,0)*VLOOKUP($G520,'Charts data'!$A$14:$B$18,2,0)/IF('Charts data'!$E$3=1,I520,1)/IF('Charts data'!$E$4=1,J520,1)","v":4006.7812546745777}]
["ID0760",240000,"INR",{"$f":"B521*VLOOKUP(C521,tblXrate[],2,0)","v":4273.9000049862161},"Analyst","India","2 to 3",20,{"$f":"VLOOKUP(F521,mapping!$L$2:$P$92,2,0)","v":0.34064763831408895},{"$f":"VLOOKUP($F521,mapping!$L$2:$P$92,3,0)","v":1388.78},{"$f":"VLOOKUP($F521,mapping!$L$2:$P$92,4,0)","v":"Developing Asia"},{"$f":"$D521*VLOOKUP($E521,'Charts data'!$A$2:$B$11,2,0)*VLOOKUP($G521,'Charts data'!$A$14:$B$18,2,0)/IF('Charts data'!$E$3=1,I521,1)/IF('Charts data'!$E$4=1,J521,1)","v":4273.9000049862161}]
["ID0761",700000,"INR",{"$f":"B522*VLOOKUP(C522,tblXrate[],2,0)","v":12465.541681209797},"Analyst","India","8 Hrs",5,{"$f":"VLOOKUP(F522,mapping!$L$2:$P$92,2,0)","v":0.34064763831408895},{"$f":"VLOOKUP($F522,mapping!$L$2:$P$92,3,0)","v":1388.78},{"$f":"VLOOKUP($F522,mapping!$L$2:$P$92,4,0)","v":"Developing Asia"},{"$f":"$D522*VLOOKUP($E522,'Charts data'!$A$2:$B$11,2,0)*VLOOKUP($G522,'Charts data'!$A$14:$B$18,2,0)/IF('Charts data'!$E$3=1,I522,1)/IF('Charts data'!$E$4=1,J522,1)","v":12465.541681209797}]
["ID0766",120000,"INR",{"$f":"B523*VLOOKUP(C523,tblXrate[],2,0)","v":2136.9500024931081},"Accountant","India","2 to 3",2,{"$f":"VLOOKUP(F523,mapping!$L$2:$P$92,2,0)","v":0.34064763831408895},{"$f":"VLOOKUP($F523,mapping!$L$2:$P$92,3,0)","v":1388.78},{"$f":"VLOOKUP($F523,mapping!$L$2:$P$92,4,0)","v":"Developing Asia"},{"$f":"$D523*VLOOKUP($E523,'Charts data'!$A$2:$B$11,2,0)*VLOOKUP($G523,'Charts data'!$A$14:$B$18,2,0)/IF('Charts data'!$E$3=1,I523,1)/IF('Charts data'!$E$4=1,J523,1)","v":2136.9500024931081}]
["ID0770",1200000,"INR",{"$f":"B524*VLOOKUP(C524,tblXrate[],2,0)","v":21369.500024931083},"Manager","India","8 Hrs",14,{"$f":"VLOOKUP(F524,mapping!$L$2:$P$92,2,0)","v":0.34064763831408895},{"$f":"VLOOKUP($F524,mapping!$L$2:$P$92,3,0)","v":1388.78},{"$f":"VLOOKUP($F524,mapping!$L$2:$P$92,4,0)","v":"Developing Asia"},{"$f":"$D524*VLOOKUP($E524,'Charts data'!$A$2:$B$11,2,0)*VLOOKUP($G524,'Charts data'!$A$14:$B$18,2,0)/IF('Charts data'!$E$3=1,I524,1)/IF('Charts data'!$E$4=1,J524,1)","v":21369.500024931083}]
["ID0771",205000,"INR",{"$f":"B525*VLOOKUP(C525,tblXrate[],2,0)","v":3650.6229209257262},"Accountant","India","8 Hrs",10,{"$f":"VLOOKUP(F525,mapping!$L$2:$P$92,2,0)","v":0.34064763831408895},{"$f":"VLOOKUP($F525,mapping!$L$2:$P$92,3,0)","v":1388.78},{"$f":"VLOOKUP($F525,mapping!$L$2:$P$92,4,0)","v":"Developing Asia"},{"$f":"$D525*VLOOKUP($E525,'Charts data'!$A$2:$B$11,2,0)*VLOOKUP($G525,'Charts data'!$A$14:$B$18,2,0)/IF('Charts data'!$E$3=1,I525,1)/IF('Charts data'!$E$4=1,J525,1)","v":3650.6229209257262}]
["ID0773",300000,"INR",{"$f":"B526*VLOOKUP(C526,tblXrate[],2,0)","v":5342.3750062327708},"Controller","India","8 Hrs",4,{"$f":"VLOOKUP(F526,mapping!$L$2:$P$92,2,0)","v":0.34064763831408895},{"$f":"VLOOKUP($F526,mapping!$L$2:$P$92,3,0)","v":1388.78},{"$f":"VLOOKUP($F526,mapping!$L$2:$P$92,4,0)","v":"Developing Asia"},{"$f":"$D526*VLOOKUP($E526,'Charts data'!$A$2:$B$11,2,0)*VLOOKUP($G526,'Charts data'!$A$14:$B$18,2,0)/IF('Charts data'!$E$3=1,I526,1)/IF('Charts data'!$E$4=1,J526,1)","v":5342.3750062327708}]
["ID0775",220000,"INR",{"$f":"B527*VLOOKUP(C527,tblXrate[],2,0)","v":3917.7416712373652},"Engineer","India","4 to 6",2,{"$f":"VLOOKUP(F527,mapping!$L$2:$P$92,2,0)","v":0.34064763831408895},{"$f":"VLOOKUP($F527,mapping!$L$2:$P$92,3,0)","v":1388.78},{"$f":"VLOOKUP($F527,mapping!$L$2:$P$92,4,0)","v":"Developing Asia"},{"$f":"$D527*VLOOKUP($E527,'Charts data'!$A$2:$B$11,2,0)*VLOOKUP($G527,'Charts data'!$A$14:$B$18,2,0)/IF('Charts data'!$E$3=1,I527,1)/IF('Charts data'!$E$4=1,J527,1)","v":3917.7416712373652}]
["ID0779",480000,"INR",{"$f":"B528*VLOOKUP(C528,tblXrate[],2,0)","v":8547.8000099724322},"Manager","India","4 to 6",11,{"$f":"VLOOKUP(F528,mapping!$L$2:$P$92,2,0)","v":0.34064763831408895},{"$f":"VLOOKUP($F528,mapping!$L$2:$P$92,3,0)","v":1388.78},{"$f":"VLOOKUP($F528,mapping!$L$2:$P$92,4,0)","v":"Developing Asia"},{"$f":"$D528*VLOOKUP($E528,'Charts data'!$A$2:$B$11,2,0)*VLOOKUP($G528,'Charts data'!$A$14:$B$18,2,0)/IF('Charts data'!$E$3=1,I528,1)/IF('Charts data'!$E$4=1,J528,1)","v":8547.8000099724322}]
["ID0781",570000,"INR",{"$f":"B529*VLOOKUP(C529,tblXrate[],2,0)","v":10150.512511842264},"Analyst","India","8 Hrs",2.4,{"$f":"VLOOKUP(F529,mapping!$L$2:$P$92,2,0)","v":0.34064763831408895},{"$f":"VLOOKUP($F529,mapping!$L$2:$P$92,3,0)","v":1388.78},{"$f":"VLOOKUP($F529,mapping!$L$2:$P$92,4,0)","v":"Developing Asia"},{"$f":"$D529*VLOOKUP($E529,'Charts data'!$A$2:$B$11,2,0)*VLOOKUP($G529,'Charts data'!$A$14:$B$18,2,0)/IF('Charts data'!$E$3=1,I529,1)/IF('Charts data'!$E$4=1,J529,1)","v":10150.512511842264}]
["ID0782",636000,"INR",{"$f":"B530*VLOOKUP(C530,tblXrate[],2,0)","v":11325.835013213473},"Manager","India","4 to 6",7,{"$f":"VLOOKUP(F530,mapping!$L$2:$P$92,2,0)","v":0.34064763831408895},{"$f":"VLOOKUP($F530,mapping!$L$2:$P$92,3,0)","v":1388.78},{"$f":"VLOOKUP($F530,mapping!$L$2:$P$92,4,0)","v":"Developing Asia"},{"$f":"$D530*VLOOKUP($E530,'Charts data'!$A$2:$B$11,2,0)*VLOOKUP($G530,'Charts data'!$A$14:$B$18,2,0)/IF('Charts data'!$E$3=1,I530,1)/IF('Charts data'!$E$4=1,J530,1)","v":11325.835013213473}]
["ID0785",2250000,"INR",{"$f":"B531*VLOOKUP(C531,tblXrate[],2,0)","v":40067.812546745779},"Accountant","India","1 or 2",5,{"$f":"VLOOKUP(F531,mapping!$L$2:$P$92,2,0)","v":0.34064763831408895},{"$f":"VLOOKUP($F531,mapping!$L$2:$P$92,3,0)","v":1388.78},{"$f":"VLOOKUP($F531,mapping!$L$2:$P$92,4,0)","v":"Developing Asia"},{"$f":"$D531*VLOOKUP($E531,'Charts data'!$A$2:$B$11,2,0)*VLOOKUP($G531,'Charts data'!$A$14:$B$18,2,0)/IF('Charts data'!$E$3=1,I531,1)/IF('Charts data'!$E$4=1,J531,1)","v":40067.812546745779}]
["ID0787",240000,"INR",{"$f":"B532*VLOOKUP(C532,tblXrate[],2,0)","v":4273.9000049862161},"Analyst","India","8 Hrs",4,{"$f":"VLOOKUP(F532,mapping!$L$2:$P$92,2,0)","v":0.34064763831408895},{"$f":"VLOOKUP($F532,mapping!$L$2:$P$92,3,0)","v":1388.78},{"$f":"VLOOKUP($F532,mapping!$L$2:$P$92,4,0)","v":"Developing Asia"},{"$f":"$D532*VLOOKUP($E532,'Charts data'!$A$2:$B$11,2,0)*VLOOKUP($G532,'Charts data'!$A$14:$B$18,2,0)/IF('Charts data'!$E$3=1,I532,1)/IF('Charts data'!$E$4=1,J532,1)","v":4273.9000049862161}]
["ID0788",400000,"INR",{"$f":"B533*VLOOKUP(C533,tblXrate[],2,0)","v":7123.1666749770275},"Manager","India","4 to 6",7,{"$f":"VLOOKUP(F533,mapping!$L$2:$P$92,2,0)","v":0.34064763831408895},{"$f":"VLOOKUP($F533,mapping!$L$2:$P$92,3,0)","v":1388.78},{"$f":"VLOOKUP($F533,mapping!$L$2:$P$92,4,0)","v":"Developing Asia"},{"$f":"$D533*VLOOKUP($E533,'Charts data'!$A$2:$B$11,2,0)*VLOOKUP($G533,'Charts data'!$A$14:$B$18,2,0)/IF('Charts data'!$E$3=1,I533,1)/IF('Charts data'!$E$4=1,J533,1)","v":7123.1666749770275}]
["ID0792",450000,"INR",{"$f":"B534*VLOOKUP(C534,tblXrate[],2,0)","v":8013.5625093491553},"Manager","India","8 Hrs",1.5,{"$f":"VLOOKUP(F534,mapping!$L$2:$P$92,2,0)","v":0.34064763831408895},{"$f":"VLOOKUP($F534,mapping!$L$2:$P$92,3,0)","v":1388.78},{"$f":"VLOOKUP($F534,mapping!$L$2:$P$92,4,0)","v":"Developing Asia"},{"$f":"$D534*VLOOKUP($E534,'Charts data'!$A$2:$B$11,2,0)*VLOOKUP($G534,'Charts data'!$A$14:$B$18,2,0)/IF('Charts data'!$E$3=1,I534,1)/IF('Charts data'!$E$4=1,J534,1)","v":8013.5625093491553}]
["ID0794",150000,"INR",{"$f":"B535*VLOOKUP(C535,tblXrate[],2,0)","v":2671.1875031163854},"Analyst","India","4 to 6",2,{"$f":"VLOOKUP(F535,mapping!$L$2:$P$92,2,0)","v":0.34064763831408895},{"$f":"VLOOKUP($F535,mapping!$L$2:$P$92,3,0)","v":1388.78},{"$f":"VLOOKUP($F535,mapping!$L$2:$P$92,4,0)","v":"Developing Asia"},{"$f":"$D535*VLOOKUP($E535,'Charts data'!$A$2:$B$11,2,0)*VLOOKUP($G535,'Charts data'!$A$14:$B$18,2,0)/IF('Charts data'!$E$3=1,I535,1)/IF('Charts data'!$E$4=1,J535,1)","v":2671.1875031163854}]
["ID0796",1152000,"INR",{"$f":"B536*VLOOKUP(C536,tblXrate[],2,0)","v":20514.720023933838},"Accountant","India","4 to 6",6,{"$f":"VLOOKUP(F536,mapping!$L$2:$P$92,2,0)","v":0.34064763831408895},{"$f":"VLOOKUP($F536,mapping!$L$2:$P$92,3,0)","v":1388.78},{"$f":"VLOOKUP($F536,mapping!$L$2:$P$92,4,0)","v":"Developing Asia"},{"$f":"$D536*VLOOKUP($E536,'Charts data'!$A$2:$B$11,2,0)*VLOOKUP($G536,'Charts data'!$A$14:$B$18,2,0)/IF('Charts data'!$E$3=1,I536,1)/IF('Charts data'!$E$4=1,J536,1)","v":20514.720023933838}]
["ID0799",377000,"INR",{"$f":"B537*VLOOKUP(C537,tblXrate[],2,0)","v":6713.584591165848},"Analyst","India","1 or 2",7,{"$f":"VLOOKUP(F537,mapping!$L$2:$P$92,2,0)","v":0.34064763831408895},{"$f":"VLOOKUP($F537,mapping!$L$2:$P$92,3,0)","v":1388.78},{"$f":"VLOOKUP($F537,mapping!$L$2:$P$92,4,0)","v":"Developing Asia"},{"$f":"$D537*VLOOKUP($E537,'Charts data'!$A$2:$B$11,2,0)*VLOOKUP($G537,'Charts data'!$A$14:$B$18,2,0)/IF('Charts data'!$E$3=1,I537,1)/IF('Charts data'!$E$4=1,J537,1)","v":6713.584591165848}]
["ID0802",600000,"INR",{"$f":"B538*VLOOKUP(C538,tblXrate[],2,0)","v":10684.750012465542},"Analyst","India","8 Hrs",4,{"$f":"VLOOKUP(F538,mapping!$L$2:$P$92,2,0)","v":0.34064763831408895},{"$f":"VLOOKUP($F538,mapping!$L$2:$P$92,3,0)","v":1388.78},{"$f":"VLOOKUP($F538,mapping!$L$2:$P$92,4,0)","v":"Developing Asia"},{"$f":"$D538*VLOOKUP($E538,'Charts data'!$A$2:$B$11,2,0)*VLOOKUP($G538,'Charts data'!$A$14:$B$18,2,0)/IF('Charts data'!$E$3=1,I538,1)/IF('Charts data'!$E$4=1,J538,1)","v":10684.750012465542}]
["ID0805",850000,"INR",{"$f":"B539*VLOOKUP(C539,tblXrate[],2,0)","v":15136.729184326183},"Analyst","India","4 to 6",2,{"$f":"VLOOKUP(F539,mapping!$L$2:$P$92,2,0)","v":0.34064763831408895},{"$f":"VLOOKUP($F539,mapping!$L$2:$P$92,3,0)","v":1388.78},{"$f":"VLOOKUP($F539,mapping!$L$2:$P$92,4,0)","v":"Developing Asia"},{"$f":"$D539*VLOOKUP($E539,'Charts data'!$A$2:$B$11,2,0)*VLOOKUP($G539,'Charts data'!$A$14:$B$18,2,0)/IF('Charts data'!$E$3=1,I539,1)/IF('Charts data'!$E$4=1,J539,1)","v":15136.729184326183}]
["ID0807",450000,"INR",{"$f":"B540*VLOOKUP(C540,tblXrate[],2,0)","v":8013.5625093491553},"Manager","India","4 to 6",6,{"$f":"VLOOKUP(F540,mapping!$L$2:$P$92,2,0)","v":0.34064763831408895},{"$f":"VLOOKUP($F540,mapping!$L$2:$P$92,3,0)","v":1388.78},{"$f":"VLOOKUP($F540,mapping!$L$2:$P$92,4,0)","v":"Developing Asia"},{"$f":"$D540*VLOOKUP($E540,'Charts data'!$A$2:$B$11,2,0)*VLOOKUP($G540,'Charts data'!$A$14:$B$18,2,0)/IF('Charts data'!$E$3=1,I540,1)/IF('Charts data'!$E$4=1,J540,1)","v":8013.5625093491553}]
["ID0809",170000,"INR",{"$f":"B541*VLOOKUP(C541,tblXrate[],2,0)","v":3027.3458368652364},"Reporting","India","4 to 6",2,{"$f":"VLOOKUP(F541,mapping!$L$2:$P$92,2,0)","v":0.34064763831408895},{"$f":"VLOOKUP($F541,mapping!$L$2:$P$92,3,0)","v":1388.78},{"$f":"VLOOKUP($F541,mapping!$L$2:$P$92,4,0)","v":"Developing Asia"},{"$f":"$D541*VLOOKUP($E541,'Charts data'!$A$2:$B$11,2,0)*VLOOKUP($G541,'Charts data'!$A$14:$B$18,2,0)/IF('Charts data'!$E$3=1,I541,1)/IF('Charts data'!$E$4=1,J541,1)","v":3027.3458368652364}]
["ID0813",240000,"INR",{"$f":"B542*VLOOKUP(C542,tblXrate[],2,0)","v":4273.9000049862161},"Manager","India","2 to 3",3,{"$f":"VLOOKUP(F542,mapping!$L$2:$P$92,2,0)","v":0.34064763831408895},{"$f":"VLOOKUP($F542,mapping!$L$2:$P$92,3,0)","v":1388.78},{"$f":"VLOOKUP($F542,mapping!$L$2:$P$92,4,0)","v":"Developing Asia"},{"$f":"$D542*VLOOKUP($E542,'Charts data'!$A$2:$B$11,2,0)*VLOOKUP($G542,'Charts data'!$A$14:$B$18,2,0)/IF('Charts data'!$E$3=1,I542,1)/IF('Charts data'!$E$4=1,J542,1)","v":4273.9000049862161}]
["ID0814",650000,"INR",{"$f":"B543*VLOOKUP(C543,tblXrate[],2,0)","v":11575.14584683767},"Manager","India","2 to 3",5,{"$f":"VLOOKUP(F543,mapping!$L$2:$P$92,2,0)","v":0.34064763831408895},{"$f":"VLOOKUP($F543,mapping!$L$2:$P$92,3,0)","v":1388.78},{"$f":"VLOOKUP($F543,mapping!$L$2:$P$92,4,0)","v":"Developing Asia"},{"$f":"$D543*VLOOKUP($E543,'Charts data'!$A$2:$B$11,2,0)*VLOOKUP($G543,'Charts data'!$A$14:$B$18,2,0)/IF('Charts data'!$E$3=1,I543,1)/IF('Charts data'!$E$4=1,J543,1)","v":11575.14584683767}]
["ID0816",516000,"INR",{"$f":"B544*VLOOKUP(C544,tblXrate[],2,0)","v":9188.8850107203652},"Manager","India","4 to 6",0,{"$f":"VLOOKUP(F544,mapping!$L$2:$P$92,2,0)","v":0.34064763831408895},{"$f":"VLOOKUP($F544,mapping!$L$2:$P$92,3,0)","v":1388.78},{"$f":"VLOOKUP($F544,mapping!$L$2:$P$92,4,0)","v":"Developing Asia"},{"$f":"$D544*VLOOKUP($E544,'Charts data'!$A$2:$B$11,2,0)*VLOOKUP($G544,'Charts data'!$A$14:$B$18,2,0)/IF('Charts data'!$E$3=1,I544,1)/IF('Charts data'!$E$4=1,J544,1)","v":9188.8850107203652}]
["ID0817",504000,"INR",{"$f":"B545*VLOOKUP(C545,tblXrate[],2,0)","v":8975.1900104710548},"Manager","India","8 Hrs",3,{"$f":"VLOOKUP(F545,mapping!$L$2:$P$92,2,0)","v":0.34064763831408895},{"$f":"VLOOKUP($F545,mapping!$L$2:$P$92,3,0)","v":1388.78},{"$f":"VLOOKUP($F545,mapping!$L$2:$P$92,4,0)","v":"Developing Asia"},{"$f":"$D545*VLOOKUP($E545,'Charts data'!$A$2:$B$11,2,0)*VLOOKUP($G545,'Charts data'!$A$14:$B$18,2,0)/IF('Charts data'!$E$3=1,I545,1)/IF('Charts data'!$E$4=1,J545,1)","v":8975.1900104710548}]
["ID0818",144000,"INR",{"$f":"B546*VLOOKUP(C546,tblXrate[],2,0)","v":2564.3400029917298},"Analyst","India","8 Hrs",1,{"$f":"VLOOKUP(F546,mapping!$L$2:$P$92,2,0)","v":0.34064763831408895},{"$f":"VLOOKUP($F546,mapping!$L$2:$P$92,3,0)","v":1388.78},{"$f":"VLOOKUP($F546,mapping!$L$2:$P$92,4,0)","v":"Developing Asia"},{"$f":"$D546*VLOOKUP($E546,'Charts data'!$A$2:$B$11,2,0)*VLOOKUP($G546,'Charts data'!$A$14:$B$18,2,0)/IF('Charts data'!$E$3=1,I546,1)/IF('Charts data'!$E$4=1,J546,1)","v":2564.3400029917298}]
["ID0823",600000,"INR",{"$f":"B547*VLOOKUP(C547,tblXrate[],2,0)","v":10684.750012465542},"Analyst","India","8 Hrs",5,{"$f":"VLOOKUP(F547,mapping!$L$2:$P$92,2,0)","v":0.34064763831408895},{"$f":"VLOOKUP($F547,mapping!$L$2:$P$92,3,0)","v":1388.78},{"$f":"VLOOKUP($F547,mapping!$L$2:$P$92,4,0)","v":"Developing Asia"},{"$f":"$D547*VLOOKUP($E547,'Charts data'!$A$2:$B$11,2,0)*VLOOKUP($G547,'Charts data'!$A$14:$B$18,2,0)/IF('Charts data'!$E$3=1,I547,1)/IF('Charts data'!$E$4=1,J547,1)","v":10684.750012465542}]
["ID0826",1700000,"INR",{"$f":"B548*VLOOKUP(C548,tblXrate[],2,0)","v":30273.458368652366},"Manager","India","8 Hrs",1.1000000000000001,{"$f":"VLOOKUP(F548,mapping!$L$2:$P$92,2,0)","v":0.34064763831408895},{"$f":"VLOOKUP($F548,mapping!$L$2:$P$92,3,0)","v":1388.78},{"$f":"VLOOKUP($F548,mapping!$L$2:$P$92,4,0)","v":"Developing Asia"},{"$f":"$D548*VLOOKUP($E548,'Charts data'!$A$2:$B$11,2,0)*VLOOKUP($G548,'Charts data'!$A$14:$B$18,2,0)/IF('Charts data'!$E$3=1,I548,1)/IF('Charts data'!$E$4=1,J548,1)","v":30273.458368652366}]
["ID0828",360000,"INR",{"$f":"B549*VLOOKUP(C549,tblXrate[],2,0)","v":6410.8500074793246},"Analyst","India","8 Hrs",4,{"$f":"VLOOKUP(F549,mapping!$L$2:$P$92,2,0)","v":0.34064763831408895},{"$f":"VLOOKUP($F549,mapping!$L$2:$P$92,3,0)","v":1388.78},{"$f":"VLOOKUP($F549,mapping!$L$2:$P$92,4,0)","v":"Developing Asia"},{"$f":"$D549*VLOOKUP($E549,'Charts data'!$A$2:$B$11,2,0)*VLOOKUP($G549,'Charts data'!$A$14:$B$18,2,0)/IF('Charts data'!$E$3=1,I549,1)/IF('Charts data'!$E$4=1,J549,1)","v":6410.8500074793246}]
["ID0832",550000,"INR",{"$f":"B550*VLOOKUP(C550,tblXrate[],2,0)","v":9794.354178093412},"Analyst","India","4 to 6",1,{"$f":"VLOOKUP(F550,mapping!$L$2:$P$92,2,0)","v":0.34064763831408895},{"$f":"VLOOKUP($F550,mapping!$L$2:$P$92,3,0)","v":1388.78},{"$f":"VLOOKUP($F550,mapping!$L$2:$P$92,4,0)","v":"Developing Asia"},{"$f":"$D550*VLOOKUP($E550,'Charts data'!$A$2:$B$11,2,0)*VLOOKUP($G550,'Charts data'!$A$14:$B$18,2,0)/IF('Charts data'!$E$3=1,I550,1)/IF('Charts data'!$E$4=1,J550,1)","v":9794.354178093412}]
["ID0835",600000,"INR",{"$f":"B551*VLOOKUP(C551,tblXrate[],2,0)","v":10684.750012465542},"Manager","India","8 Hrs",20,{"$f":"VLOOKUP(F551,mapping!$L$2:$P$92,2,0)","v":0.34064763831408895},{"$f":"VLOOKUP($F551,mapping!$L$2:$P$92,3,0)","v":1388.78},{"$f":"VLOOKUP($F551,mapping!$L$2:$P$92,4,0)","v":"Developing Asia"},{"$f":"$D551*VLOOKUP($E551,'Charts data'!$A$2:$B$11,2,0)*VLOOKUP($G551,'Charts data'!$A$14:$B$18,2,0)/IF('Charts data'!$E$3=1,I551,1)/IF('Charts data'!$E$4=1,J551,1)","v":10684.750012465542}]
["ID0836",600000,"INR",{"$f":"B552*VLOOKUP(C552,tblXrate[],2,0)","v":10684.750012465542},"Manager","India","2 to 3",18,{"$f":"VLOOKUP(F552,mapping!$L$2:$P$92,2,0)","v":0.34064763831408895},{"$f":"VLOOKUP($F552,mapping!$L$2:$P$92,3,0)","v":1388.78},{"$f":"VLOOKUP($F552,mapping!$L$2:$P$92,4,0)","v":"Developing Asia"},{"$f":"$D552*VLOOKUP($E552,'Charts data'!$A$2:$B$11,2,0)*VLOOKUP($G552,'Charts data'!$A$14:$B$18,2,0)/IF('Charts data'!$E$3=1,I552,1)/IF('Charts data'!$E$4=1,J552,1)","v":10684.750012465542}]
["ID0837",1000000,"INR",{"$f":"B553*VLOOKUP(C553,tblXrate[],2,0)","v":17807.916687442568},"Analyst","India","4 to 6",10,{"$f":"VLOOKUP(F553,mapping!$L$2:$P$92,2,0)","v":0.34064763831408895},{"$f":"VLOOKUP($F553,mapping!$L$2:$P$92,3,0)","v":1388.78},{"$f":"VLOOKUP($F553,mapping!$L$2:$P$92,4,0)","v":"Developing Asia"},{"$f":"$D553*VLOOKUP($E553,'Charts data'!$A$2:$B$11,2,0)*VLOOKUP($G553,'Charts data'!$A$14:$B$18,2,0)/IF('Charts data'!$E$3=1,I553,1)/IF('Charts data'!$E$4=1,J553,1)","v":17807.916687442568}]
["ID0839",900000,"INR",{"$f":"B554*VLOOKUP(C554,tblXrate[],2,0)","v":16027.125018698311},"Manager","India","1 or 2",9,{"$f":"VLOOKUP(F554,mapping!$L$2:$P$92,2,0)","v":0.34064763831408895},{"$f":"VLOOKUP($F554,mapping!$L$2:$P$92,3,0)","v":1388.78},{"$f":"VLOOKUP($F554,mapping!$L$2:$P$92,4,0)","v":"Developing Asia"},{"$f":"$D554*VLOOKUP($E554,'Charts data'!$A$2:$B$11,2,0)*VLOOKUP($G554,'Charts data'!$A$14:$B$18,2,0)/IF('Charts data'!$E$3=1,I554,1)/IF('Charts data'!$E$4=1,J554,1)","v":16027.125018698311}]
["ID0845",1200000,"INR",{"$f":"B555*VLOOKUP(C555,tblXrate[],2,0)","v":21369.500024931083},"Manager","India","1 or 2",18,{"$f":"VLOOKUP(F555,mapping!$L$2:$P$92,2,0)","v":0.34064763831408895},{"$f":"VLOOKUP($F555,mapping!$L$2:$P$92,3,0)","v":1388.78},{"$f":"VLOOKUP($F555,mapping!$L$2:$P$92,4,0)","v":"Developing Asia"},{"$f":"$D555*VLOOKUP($E555,'Charts data'!$A$2:$B$11,2,0)*VLOOKUP($G555,'Charts data'!$A$14:$B$18,2,0)/IF('Charts data'!$E$3=1,I555,1)/IF('Charts data'!$E$4=1,J555,1)","v":21369.500024931083}]
["ID0846",200000,"INR",{"$f":"B556*VLOOKUP(C556,tblXrate[],2,0)","v":3561.5833374885137},"Reporting","India","4 to 6",1,{"$f":"VLOOKUP(F556,mapping!$L$2:$P$92,2,0)","v":0.34064763831408895},{"$f":"VLOOKUP($F556,mapping!$L$2:$P$92,3,0)","v":1388.78},{"$f":"VLOOKUP($F556,mapping!$L$2:$P$92,4,0)","v":"Developing Asia"},{"$f":"$D556*VLOOKUP($E556,'Charts data'!$A$2:$B$11,2,0)*VLOOKUP($G556,'Charts data'!$A$14:$B$18,2,0)/IF('Charts data'!$E$3=1,I556,1)/IF('Charts data'!$E$4=1,J556,1)","v":3561.5833374885137}]
["ID0848",200000,"INR",{"$f":"B557*VLOOKUP(C557,tblXrate[],2,0)","v":3561.5833374885137},"Analyst","India","4 to 6",2,{"$f":"VLOOKUP(F557,mapping!$L$2:$P$92,2,0)","v":0.34064763831408895},{"$f":"VLOOKUP($F557,mapping!$L$2:$P$92,3,0)","v":1388.78},{"$f":"VLOOKUP($F557,mapping!$L$2:$P$92,4,0)","v":"Developing Asia"},{"$f":"$D557*VLOOKUP($E557,'Charts data'!$A$2:$B$11,2,0)*VLOOKUP($G557,'Charts data'!$A$14:$B$18,2,0)/IF('Charts data'!$E$3=1,I557,1)/IF('Charts data'!$E$4=1,J557,1)","v":3561.5833374885137}]
["ID0850",1000000,"INR",{"$f":"B558*VLOOKUP(C558,tblXrate[],2,0)","v":17807.916687442568},"Analyst","India","4 to 6",6.5,{"$f":"VLOOKUP(F558,mapping!$L$2:$P$92,2,0)","v":0.34064763831408895},{"$f":"VLOOKUP($F558,mapping!$L$2:$P$92,3,0)","v":1388.78},{"$f":"VLOOKUP($F558,mapping!$L$2:$P$92,4,0)","v":"Developing Asia"},{"$f":"$D558*VLOOKUP($E558,'Charts data'!$A$2:$B$11,2,0)*VLOOKUP($G558,'Charts data'!$A$14:$B$18,2,0)/IF('Charts data'!$E$3=1,I558,1)/IF('Charts data'!$E$4=1,J558,1)","v":17807.916687442568}]
["ID0851",650000,"INR",{"$f":"B559*VLOOKUP(C559,tblXrate[],2,0)","v":11575.14584683767},"Analyst","India","8 Hrs",3.5,{"$f":"VLOOKUP(F559,mapping!$L$2:$P$92,2,0)","v":0.34064763831408895},{"$f":"VLOOKUP($F559,mapping!$L$2:$P$92,3,0)","v":1388.78},{"$f":"VLOOKUP($F559,mapping!$L$2:$P$92,4,0)","v":"Developing Asia"},{"$f":"$D559*VLOOKUP($E559,'Charts data'!$A$2:$B$11,2,0)*VLOOKUP($G559,'Charts data'!$A$14:$B$18,2,0)/IF('Charts data'!$E$3=1,I559,1)/IF('Charts data'!$E$4=1,J559,1)","v":11575.14584683767}]
["ID0855",550000,"INR",{"$f":"B560*VLOOKUP(C560,tblXrate[],2,0)","v":9794.354178093412},"Analyst","India","4 to 6",1,{"$f":"VLOOKUP(F560,mapping!$L$2:$P$92,2,0)","v":0.34064763831408895},{"$f":"VLOOKUP($F560,mapping!$L$2:$P$92,3,0)","v":1388.78},{"$f":"VLOOKUP($F560,mapping!$L$2:$P$92,4,0)","v":"Developing Asia"},{"$f":"$D560*VLOOKUP($E560,'Charts data'!$A$2:$B$11,2,0)*VLOOKUP($G560,'Charts data'!$A$14:$B$18,2,0)/IF('Charts data'!$E$3=1,I560,1)/IF('Charts data'!$E$4=1,J560,1)","v":9794.354178093412}]
["ID0861",540000,"INR",{"$f":"B561*VLOOKUP(C561,tblXrate[],2,0)","v":9616.275011218986},"Analyst","India","8 Hrs",8,{"$f":"VLOOKUP(F561,mapping!$L$2:$P$92,2,0)","v":0.34064763831408895},{"$f":"VLOOKUP($F561,mapping!$L$2:$P$92,3,0)","v":1388.78},{"$f":"VLOOKUP($F561,mapping!$L$2:$P$92,4,0)","v":"Developing Asia"},{"$f":"$D561*VLOOKUP($E561,'Charts data'!$A$2:$B$11,2,0)*VLOOKUP($G561,'Charts data'!$A$14:$B$18,2,0)/IF('Charts data'!$E$3=1,I561,1)/IF('Charts data'!$E$4=1,J561,1)","v":9616.275011218986}]
["ID0879",144000,"INR",{"$f":"B562*VLOOKUP(C562,tblXrate[],2,0)","v":2564.3400029917298},"Analyst","India","4 to 6",1,{"$f":"VLOOKUP(F562,mapping!$L$2:$P$92,2,0)","v":0.34064763831408895},{"$f":"VLOOKUP($F562,mapping!$L$2:$P$92,3,0)","v":1388.78},{"$f":"VLOOKUP($F562,mapping!$L$2:$P$92,4,0)","v":"Developing Asia"},{"$f":"$D562*VLOOKUP($E562,'Charts data'!$A$2:$B$11,2,0)*VLOOKUP($G562,'Charts data'!$A$14:$B$18,2,0)/IF('Charts data'!$E$3=1,I562,1)/IF('Charts data'!$E$4=1,J562,1)","v":2564.3400029917298}]
["ID0881",300000,"INR",{"$f":"B563*VLOOKUP(C563,tblXrate[],2,0)","v":5342.3750062327708},"Analyst","India","1 or 2",10,{"$f":"VLOOKUP(F563,mapping!$L$2:$P$92,2,0)","v":0.34064763831408895},{"$f":"VLOOKUP($F563,mapping!$L$2:$P$92,3,0)","v":1388.78},{"$f":"VLOOKUP($F563,mapping!$L$2:$P$92,4,0)","v":"Developing Asia"},{"$f":"$D563*VLOOKUP($E563,'Charts data'!$A$2:$B$11,2,0)*VLOOKUP($G563,'Charts data'!$A$14:$B$18,2,0)/IF('Charts data'!$E$3=1,I563,1)/IF('Charts data'!$E$4=1,J563,1)","v":5342.3750062327708}]
["ID0884",720000,"INR",{"$f":"B564*VLOOKUP(C564,tblXrate[],2,0)","v":12821.700014958649},"Accountant","India","4 to 6",3,{"$f":"VLOOKUP(F564,mapping!$L$2:$P$92,2,0)","v":0.34064763831408895},{"$f":"VLOOKUP($F564,mapping!$L$2:$P$92,3,0)","v":1388.78},{"$f":"VLOOKUP($F564,mapping!$L$2:$P$92,4,0)","v":"Developing Asia"},{"$f":"$D564*VLOOKUP($E564,'Charts data'!$A$2:$B$11,2,0)*VLOOKUP($G564,'Charts data'!$A$14:$B$18,2,0)/IF('Charts data'!$E$3=1,I564,1)/IF('Charts data'!$E$4=1,J564,1)","v":12821.700014958649}]
["ID0885",600000,"INR",{"$f":"B565*VLOOKUP(C565,tblXrate[],2,0)","v":10684.750012465542},"Manager","India","8 Hrs",5,{"$f":"VLOOKUP(F565,mapping!$L$2:$P$92,2,0)","v":0.34064763831408895},{"$f":"VLOOKUP($F565,mapping!$L$2:$P$92,3,0)","v":1388.78},{"$f":"VLOOKUP($F565,mapping!$L$2:$P$92,4,0)","v":"Developing Asia"},{"$f":"$D565*VLOOKUP($E565,'Charts data'!$A$2:$B$11,2,0)*VLOOKUP($G565,'Charts data'!$A$14:$B$18,2,0)/IF('Charts data'!$E$3=1,I565,1)/IF('Charts data'!$E$4=1,J565,1)","v":10684.750012465542}]
["ID0889",400000,"INR",{"$f":"B566*VLOOKUP(C566,tblXrate[],2,0)","v":7123.1666749770275},"Engineer","India","2 to 3",6,{"$f":"VLOOKUP(F566,mapping!$L$2:$P$92,2,0)","v":0.34064763831408895},{"$f":"VLOOKUP($F566,mapping!$L$2:$P$92,3,0)","v":1388.78},{"$f":"VLOOKUP($F566,mapping!$L$2:$P$92,4,0)","v":"Developing Asia"},{"$f":"$D566*VLOOKUP($E566,'Charts data'!$A$2:$B$11,2,0)*VLOOKUP($G566,'Charts data'!$A$14:$B$18,2,0)/IF('Charts data'!$E$3=1,I566,1)/IF('Charts data'!$E$4=1,J566,1)","v":7123.1666749770275}]
["ID0891",500000,"INR",{"$f":"B567*VLOOKUP(C567,tblXrate[],2,0)","v":8903.9583437212841},"Manager","India","1 or 2",5,{"$f":"VLOOKUP(F567,mapping!$L$2:$P$92,2,0)","v":0.34064763831408895},{"$f":"VLOOKUP($F567,mapping!$L$2:$P$92,3,0)","v":1388.78},{"$f":"VLOOKUP($F567,mapping!$L$2:$P$92,4,0)","v":"Developing Asia"},{"$f":"$D567*VLOOKUP($E567,'Charts data'!$A$2:$B$11,2,0)*VLOOKUP($G567,'Charts data'!$A$14:$B$18,2,0)/IF('Charts data'!$E$3=1,I567,1)/IF('Charts data'!$E$4=1,J567,1)","v":8903.9583437212841}]
["ID0894",400000,"INR",{"$f":"B568*VLOOKUP(C568,tblXrate[],2,0)","v":7123.1666749770275},"Accountant","India","2 to 3",8,{"$f":"VLOOKUP(F568,mapping!$L$2:$P$92,2,0)","v":0.34064763831408895},{"$f":"VLOOKUP($F568,mapping!$L$2:$P$92,3,0)","v":1388.78},{"$f":"VLOOKUP($F568,mapping!$L$2:$P$92,4,0)","v":"Developing Asia"},{"$f":"$D568*VLOOKUP($E568,'Charts data'!$A$2:$B$11,2,0)*VLOOKUP($G568,'Charts data'!$A$14:$B$18,2,0)/IF('Charts data'!$E$3=1,I568,1)/IF('Charts data'!$E$4=1,J568,1)","v":7123.1666749770275}]
["ID0895",2300000,"INR",{"$f":"B569*VLOOKUP(C569,tblXrate[],2,0)","v":40958.208381117904},"Manager","India","2 to 3",8,{"$f":"VLOOKUP(F569,mapping!$L$2:$P$92,2,0)","v":0.34064763831408895},{"$f":"VLOOKUP($F569,mapping!$L$2:$P$92,3,0)","v":1388.78},{"$f":"VLOOKUP($F569,mapping!$L$2:$P$92,4,0)","v":"Developing Asia"},{"$f":"$D569*VLOOKUP($E569,'Charts data'!$A$2:$B$11,2,0)*VLOOKUP($G569,'Charts data'!$A$14:$B$18,2,0)/IF('Charts data'!$E$3=1,I569,1)/IF('Charts data'!$E$4=1,J569,1)","v":40958.208381117904}]
["ID0896",1200000,"INR",{"$f":"B570*VLOOKUP(C570,tblXrate[],2,0)","v":21369.500024931083},"CXO or Top Mgmt.","India","4 to 6",17,{"$f":"VLOOKUP(F570,mapping!$L$2:$P$92,2,0)","v":0.34064763831408895},{"$f":"VLOOKUP($F570,mapping!$L$2:$P$92,3,0)","v":1388.78},{"$f":"VLOOKUP($F570,mapping!$L$2:$P$92,4,0)","v":"Developing Asia"},{"$f":"$D570*VLOOKUP($E570,'Charts data'!$A$2:$B$11,2,0)*VLOOKUP($G570,'Charts data'!$A$14:$B$18,2,0)/IF('Charts data'!$E$3=1,I570,1)/IF('Charts data'!$E$4=1,J570,1)","v":21369.500024931083}]
["ID0897",120000,"INR",{"$f":"B571*VLOOKUP(C571,tblXrate[],2,0)","v":2136.9500024931081},"Manager","India","4 to 6",5,{"$f":"VLOOKUP(F571,mapping!$L$2:$P$92,2,0)","v":0.34064763831408895},{"$f":"VLOOKUP($F571,mapping!$L$2:$P$92,3,0)","v":1388.78},{"$f":"VLOOKUP($F571,mapping!$L$2:$P$92,4,0)","v":"Developing Asia"},{"$f":"$D571*VLOOKUP($E571,'Charts data'!$A$2:$B$11,2,0)*VLOOKUP($G571,'Charts data'!$A$14:$B$18,2,0)/IF('Charts data'!$E$3=1,I571,1)/IF('Charts data'!$E$4=1,J571,1)","v":2136.9500024931081}]
["ID0898",500000,"INR",{"$f":"B572*VLOOKUP(C572,tblXrate[],2,0)","v":8903.9583437212841},"Engineer","India","2 to 3",3,{"$f":"VLOOKUP(F572,mapping!$L$2:$P$92,2,0)","v":0.34064763831408895},{"$f":"VLOOKUP($F572,mapping!$L$2:$P$92,3,0)","v":1388.78},{"$f":"VLOOKUP($F572,mapping!$L$2:$P$92,4,0)","v":"Developing Asia"},{"$f":"$D572*VLOOKUP($E572,'Charts data'!$A$2:$B$11,2,0)*VLOOKUP($G572,'Charts data'!$A$14:$B$18,2,0)/IF('Charts data'!$E$3=1,I572,1)/IF('Charts data'!$E$4=1,J572,1)","v":8903.9583437212841}]
["ID0899",1000000,"INR",{"$f":"B573*VLOOKUP(C573,tblXrate[],2,0)","v":17807.916687442568},"Manager","India","4 to 6",5,{"$f":"VLOOKUP(F573,mapping!$L$2:$P$92,2,0)","v":0.34064763831408895},{"$f":"VLOOKUP($F573,mapping!$L$2:$P$92,3,0)","v":1388.78},{"$f":"VLOOKUP($F573,mapping!$L$2:$P$92,4,0)","v":"Developing Asia"},{"$f":"$D573*VLOOKUP($E573,'Charts data'!$A$2:$B$11,2,0)*VLOOKUP($G573,'Charts data'!$A$14:$B$18,2,0)/IF('Charts data'!$E$3=1,I573,1)/IF('Charts data'!$E$4=1,J573,1)","v":17807.916687442568}]
["ID0900",850000,"INR",{"$f":"B574*VLOOKUP(C574,tblXrate[],2,0)","v":15136.729184326183},"Manager","India","2 to 3",3,{"$f":"VLOOKUP(F574,mapping!$L$2:$P$92,2,0)","v":0.34064763831408895},{"$f":"VLOOKUP($F574,mapping!$L$2:$P$92,3,0)","v":1388.78},{"$f":"VLOOKUP($F574,mapping!$L$2:$P$92,4,0)","v":"Developing Asia"},{"$f":"$D574*VLOOKUP($E574,'Charts data'!$A$2:$B$11,2,0)*VLOOKUP($G574,'Charts data'!$A$14:$B$18,2,0)/IF('Charts data'!$E$3=1,I574,1)/IF('Charts data'!$E$4=1,J574,1)","v":15136.729184326183}]
["ID0904",180000,"INR",{"$f":"B575*VLOOKUP(C575,tblXrate[],2,0)","v":3205.4250037396623},"Analyst","India","2 to 3",3.5,{"$f":"VLOOKUP(F575,mapping!$L$2:$P$92,2,0)","v":0.34064763831408895},{"$f":"VLOOKUP($F575,mapping!$L$2:$P$92,3,0)","v":1388.78},{"$f":"VLOOKUP($F575,mapping!$L$2:$P$92,4,0)","v":"Developing Asia"},{"$f":"$D575*VLOOKUP($E575,'Charts data'!$A$2:$B$11,2,0)*VLOOKUP($G575,'Charts data'!$A$14:$B$18,2,0)/IF('Charts data'!$E$3=1,I575,1)/IF('Charts data'!$E$4=1,J575,1)","v":3205.4250037396623}]
["ID0907",600000,"INR",{"$f":"B576*VLOOKUP(C576,tblXrate[],2,0)","v":10684.750012465542},"Manager","India","8 Hrs",9,{"$f":"VLOOKUP(F576,mapping!$L$2:$P$92,2,0)","v":0.34064763831408895},{"$f":"VLOOKUP($F576,mapping!$L$2:$P$92,3,0)","v":1388.78},{"$f":"VLOOKUP($F576,mapping!$L$2:$P$92,4,0)","v":"Developing Asia"},{"$f":"$D576*VLOOKUP($E576,'Charts data'!$A$2:$B$11,2,0)*VLOOKUP($G576,'Charts data'!$A$14:$B$18,2,0)/IF('Charts data'!$E$3=1,I576,1)/IF('Charts data'!$E$4=1,J576,1)","v":10684.750012465542}]
["ID0911",1300000,"INR",{"$f":"B577*VLOOKUP(C577,tblXrate[],2,0)","v":23150.291693675339},"Manager","India","1 or 2",3,{"$f":"VLOOKUP(F577,mapping!$L$2:$P$92,2,0)","v":0.34064763831408895},{"$f":"VLOOKUP($F577,mapping!$L$2:$P$92,3,0)","v":1388.78},{"$f":"VLOOKUP($F577,mapping!$L$2:$P$92,4,0)","v":"Developing Asia"},{"$f":"$D577*VLOOKUP($E577,'Charts data'!$A$2:$B$11,2,0)*VLOOKUP($G577,'Charts data'!$A$14:$B$18,2,0)/IF('Charts data'!$E$3=1,I577,1)/IF('Charts data'!$E$4=1,J577,1)","v":23150.291693675339}]
["ID0912",775000,"INR",{"$f":"B578*VLOOKUP(C578,tblXrate[],2,0)","v":13801.135432767991},"Analyst","India","4 to 6",2,{"$f":"VLOOKUP(F578,mapping!$L$2:$P$92,2,0)","v":0.34064763831408895},{"$f":"VLOOKUP($F578,mapping!$L$2:$P$92,3,0)","v":1388.78},{"$f":"VLOOKUP($F578,mapping!$L$2:$P$92,4,0)","v":"Developing Asia"},{"$f":"$D578*VLOOKUP($E578,'Charts data'!$A$2:$B$11,2,0)*VLOOKUP($G578,'Charts data'!$A$14:$B$18,2,0)/IF('Charts data'!$E$3=1,I578,1)/IF('Charts data'!$E$4=1,J578,1)","v":13801.135432767991}]
["ID0913",1050000,"INR",{"$f":"B579*VLOOKUP(C579,tblXrate[],2,0)","v":18698.312521814696},"Manager","India","8 Hrs",5,{"$f":"VLOOKUP(F579,mapping!$L$2:$P$92,2,0)","v":0.34064763831408895},{"$f":"VLOOKUP($F579,mapping!$L$2:$P$92,3,0)","v":1388.78},{"$f":"VLOOKUP($F579,mapping!$L$2:$P$92,4,0)","v":"Developing Asia"},{"$f":"$D579*VLOOKUP($E579,'Charts data'!$A$2:$B$11,2,0)*VLOOKUP($G579,'Charts data'!$A$14:$B$18,2,0)/IF('Charts data'!$E$3=1,I579,1)/IF('Charts data'!$E$4=1,J579,1)","v":18698.312521814696}]
["ID0915",486000,"INR",{"$f":"B580*VLOOKUP(C580,tblXrate[],2,0)","v":8654.6475100970874},"Manager","India","8 Hrs",6,{"$f":"VLOOKUP(F580,mapping!$L$2:$P$92,2,0)","v":0.34064763831408895},{"$f":"VLOOKUP($F580,mapping!$L$2:$P$92,3,0)","v":1388.78},{"$f":"VLOOKUP($F580,mapping!$L$2:$P$92,4,0)","v":"Developing Asia"},{"$f":"$D580*VLOOKUP($E580,'Charts data'!$A$2:$B$11,2,0)*VLOOKUP($G580,'Charts data'!$A$14:$B$18,2,0)/IF('Charts data'!$E$3=1,I580,1)/IF('Charts data'!$E$4=1,J580,1)","v":8654.6475100970874}]
["ID0919",300000,"INR",{"$f":"B581*VLOOKUP(C581,tblXrate[],2,0)","v":5342.3750062327708},"Analyst","India","4 to 6",0.5,{"$f":"VLOOKUP(F581,mapping!$L$2:$P$92,2,0)","v":0.34064763831408895},{"$f":"VLOOKUP($F581,mapping!$L$2:$P$92,3,0)","v":1388.78},{"$f":"VLOOKUP($F581,mapping!$L$2:$P$92,4,0)","v":"Developing Asia"},{"$f":"$D581*VLOOKUP($E581,'Charts data'!$A$2:$B$11,2,0)*VLOOKUP($G581,'Charts data'!$A$14:$B$18,2,0)/IF('Charts data'!$E$3=1,I581,1)/IF('Charts data'!$E$4=1,J581,1)","v":5342.3750062327708}]
["ID0923",144000,"INR",{"$f":"B582*VLOOKUP(C582,tblXrate[],2,0)","v":2564.3400029917298},"Controller","India","4 to 6",4,{"$f":"VLOOKUP(F582,mapping!$L$2:$P$92,2,0)","v":0.34064763831408895},{"$f":"VLOOKUP($F582,mapping!$L$2:$P$92,3,0)","v":1388.78},{"$f":"VLOOKUP($F582,mapping!$L$2:$P$92,4,0)","v":"Developing Asia"},{"$f":"$D582*VLOOKUP($E582,'Charts data'!$A$2:$B$11,2,0)*VLOOKUP($G582,'Charts data'!$A$14:$B$18,2,0)/IF('Charts data'!$E$3=1,I582,1)/IF('Charts data'!$E$4=1,J582,1)","v":2564.3400029917298}]
["ID0924",180000,"INR",{"$f":"B583*VLOOKUP(C583,tblXrate[],2,0)","v":3205.4250037396623},"Reporting","India","8 Hrs",8,{"$f":"VLOOKUP(F583,mapping!$L$2:$P$92,2,0)","v":0.34064763831408895},{"$f":"VLOOKUP($F583,mapping!$L$2:$P$92,3,0)","v":1388.78},{"$f":"VLOOKUP($F583,mapping!$L$2:$P$92,4,0)","v":"Developing Asia"},{"$f":"$D583*VLOOKUP($E583,'Charts data'!$A$2:$B$11,2,0)*VLOOKUP($G583,'Charts data'!$A$14:$B$18,2,0)/IF('Charts data'!$E$3=1,I583,1)/IF('Charts data'!$E$4=1,J583,1)","v":3205.4250037396623}]
["ID0925",600000,"INR",{"$f":"B584*VLOOKUP(C584,tblXrate[],2,0)","v":10684.750012465542},"Analyst","India","8 Hrs",8,{"$f":"VLOOKUP(F584,mapping!$L$2:$P$92,2,0)","v":0.34064763831408895},{"$f":"VLOOKUP($F584,mapping!$L$2:$P$92,3,0)","v":1388.78},{"$f":"VLOOKUP($F584,mapping!$L$2:$P$92,4,0)","v":"Developing Asia"},{"$f":"$D584*VLOOKUP($E584,'Charts data'!$A$2:$B$11,2,0)*VLOOKUP($G584,'Charts data'!$A$14:$B$18,2,0)/IF('Charts data'!$E$3=1,I584,1)/IF('Charts data'!$E$4=1,J584,1)","v":10684.750012465542}]
["ID0928",700000,"INR",{"$f":"B585*VLOOKUP(C585,tblXrate[],2,0)","v":12465.541681209797},"Manager","India","4 to 6",3,{"$f":"VLOOKUP(F585,mapping!$L$2:$P$92,2,0)","v":0.34064763831408895},{"$f":"VLOOKUP($F585,mapping!$L$2:$P$92,3,0)","v":1388.78},{"$f":"VLOOKUP($F585,mapping!$L$2:$P$92,4,0)","v":"Developing Asia"},{"$f":"$D585*VLOOKUP($E585,'Charts data'!$A$2:$B$11,2,0)*VLOOKUP($G585,'Charts data'!$A$14:$B$18,2,0)/IF('Charts data'!$E$3=1,I585,1)/IF('Charts data'!$E$4=1,J585,1)","v":12465.541681209797}]
["ID0936",1000000,"INR",{"$f":"B586*VLOOKUP(C586,tblXrate[],2,0)","v":17807.916687442568},"Manager","India","8 Hrs",8,{"$f":"VLOOKUP(F586,mapping!$L$2:$P$92,2,0)","v":0.34064763831408895},{"$f":"VLOOKUP($F586,mapping!$L$2:$P$92,3,0)","v":1388.78},{"$f":"VLOOKUP($F586,mapping!$L$2:$P$92,4,0)","v":"Developing Asia"},{"$f":"$D586*VLOOKUP($E586,'Charts data'!$A$2:$B$11,2,0)*VLOOKUP($G586,'Charts data'!$A$14:$B$18,2,0)/IF('Charts data'!$E$3=1,I586,1)/IF('Charts data'!$E$4=1,J586,1)","v":17807.916687442568}]
["ID0937",700000,"INR",{"$f":"B587*VLOOKUP(C587,tblXrate[],2,0)","v":12465.541681209797},"Analyst","India","8 Hrs",1,{"$f":"VLOOKUP(F587,mapping!$L$2:$P$92,2,0)","v":0.34064763831408895},{"$f":"VLOOKUP($F587,mapping!$L$2:$P$92,3,0)","v":1388.78},{"$f":"VLOOKUP($F587,mapping!$L$2:$P$92,4,0)","v":"Developing Asia"},{"$f":"$D587*VLOOKUP($E587,'Charts data'!$A$2:$B$11,2,0)*VLOOKUP($G587,'Charts data'!$A$14:$B$18,2,0)/IF('Charts data'!$E$3=1,I587,1)/IF('Charts data'!$E$4=1,J587,1)","v":12465.541681209797}]
["ID0946",480000,"INR",{"$f":"B588*VLOOKUP(C588,tblXrate[],2,0)","v":8547.8000099724322},"Manager","India","2 to 3",2,{"$f":"VLOOKUP(F588,mapping!$L$2:$P$92,2,0)","v":0.34064763831408895},{"$f":"VLOOKUP($F588,mapping!$L$2:$P$92,3,0)","v":1388.78},{"$f":"VLOOKUP($F588,mapping!$L$2:$P$92,4,0)","v":"Developing Asia"},{"$f":"$D588*VLOOKUP($E588,'Charts data'!$A$2:$B$11,2,0)*VLOOKUP($G588,'Charts data'!$A$14:$B$18,2,0)/IF('Charts data'!$E$3=1,I588,1)/IF('Charts data'!$E$4=1,J588,1)","v":8547.8000099724322}]
["ID0948",600000,"INR",{"$f":"B589*VLOOKUP(C589,tblXrate[],2,0)","v":10684.750012465542},"Analyst","India","4 to 6",11,{"$f":"VLOOKUP(F589,mapping!$L$2:$P$92,2,0)","v":0.34064763831408895},{"$f":"VLOOKUP($F589,mapping!$L$2:$P$92,3,0)","v":1388.78},{"$f":"VLOOKUP($F589,mapping!$L$2:$P$92,4,0)","v":"Developing Asia"},{"$f":"$D589*VLOOKUP($E589,'Charts data'!$A$2:$B$11,2,0)*VLOOKUP($G589,'Charts data'!$A$14:$B$18,2,0)/IF('Charts data'!$E$3=1,I589,1)/IF('Charts data'!$E$4=1,J589,1)","v":10684.750012465542}]
["ID0949",600000,"INR",{"$f":"B590*VLOOKUP(C590,tblXrate[],2,0)","v":10684.750012465542},"Analyst","India","2 to 3",4,{"$f":"VLOOKUP(F590,mapping!$L$2:$P$92,2,0)","v":0.34064763831408895},{"$f":"VLOOKUP($F590,mapping!$L$2:$P$92,3,0)","v":1388.78},{"$f":"VLOOKUP($F590,mapping!$L$2:$P$92,4,0)","v":"Developing Asia"},{"$f":"$D590*VLOOKUP($E590,'Charts data'!$A$2:$B$11,2,0)*VLOOKUP($G590,'Charts data'!$A$14:$B$18,2,0)/IF('Charts data'!$E$3=1,I590,1)/IF('Charts data'!$E$4=1,J590,1)","v":10684.750012465542}]
["ID0998",204000,"INR",{"$f":"B591*VLOOKUP(C591,tblXrate[],2,0)","v":3632.815004238284},"Manager","India","4 to 6",0,{"$f":"VLOOKUP(F591,mapping!$L$2:$P$92,2,0)","v":0.34064763831408895},{"$f":"VLOOKUP($F591,mapping!$L$2:$P$92,3,0)","v":1388.78},{"$f":"VLOOKUP($F591,mapping!$L$2:$P$92,4,0)","v":"Developing Asia"},{"$f":"$D591*VLOOKUP($E591,'Charts data'!$A$2:$B$11,2,0)*VLOOKUP($G591,'Charts data'!$A$14:$B$18,2,0)/IF('Charts data'!$E$3=1,I591,1)/IF('Charts data'!$E$4=1,J591,1)","v":3632.815004238284}]
["ID0999",1200000,"INR",{"$f":"B592*VLOOKUP(C592,tblXrate[],2,0)","v":21369.500024931083},"Consultant","India","8 Hrs",6,{"$f":"VLOOKUP(F592,mapping!$L$2:$P$92,2,0)","v":0.34064763831408895},{"$f":"VLOOKUP($F592,mapping!$L$2:$P$92,3,0)","v":1388.78},{"$f":"VLOOKUP($F592,mapping!$L$2:$P$92,4,0)","v":"Developing Asia"},{"$f":"$D592*VLOOKUP($E592,'Charts data'!$A$2:$B$11,2,0)*VLOOKUP($G592,'Charts data'!$A$14:$B$18,2,0)/IF('Charts data'!$E$3=1,I592,1)/IF('Charts data'!$E$4=1,J592,1)","v":21369.500024931083}]
["ID1000",500000,"INR",{"$f":"B593*VLOOKUP(C593,tblXrate[],2,0)","v":8903.9583437212841},"Analyst","India","4 to 6",7,{"$f":"VLOOKUP(F593,mapping!$L$2:$P$92,2,0)","v":0.34064763831408895},{"$f":"VLOOKUP($F593,mapping!$L$2:$P$92,3,0)","v":1388.78},{"$f":"VLOOKUP($F593,mapping!$L$2:$P$92,4,0)","v":"Developing Asia"},{"$f":"$D593*VLOOKUP($E593,'Charts data'!$A$2:$B$11,2,0)*VLOOKUP($G593,'Charts data'!$A$14:$B$18,2,0)/IF('Charts data'!$E$3=1,I593,1)/IF('Charts data'!$E$4=1,J593,1)","v":8903.9583437212841}]
["ID1003",545000,"INR",{"$f":"B594*VLOOKUP(C594,tblXrate[],2,0)","v":9705.3145946561999},"Manager","India","2 to 3",6,{"$f":"VLOOKUP(F594,mapping!$L$2:$P$92,2,0)","v":0.34064763831408895},{"$f":"VLOOKUP($F594,mapping!$L$2:$P$92,3,0)","v":1388.78},{"$f":"VLOOKUP($F594,mapping!$L$2:$P$92,4,0)","v":"Developing Asia"},{"$f":"$D594*VLOOKUP($E594,'Charts data'!$A$2:$B$11,2,0)*VLOOKUP($G594,'Charts data'!$A$14:$B$18,2,0)/IF('Charts data'!$E$3=1,I594,1)/IF('Charts data'!$E$4=1,J594,1)","v":9705.3145946561999}]
["ID1004",1000000,"INR",{"$f":"B595*VLOOKUP(C595,tblXrate[],2,0)","v":17807.916687442568},"Manager","India","8 Hrs",8,{"$f":"VLOOKUP(F595,mapping!$L$2:$P$92,2,0)","v":0.34064763831408895},{"$f":"VLOOKUP($F595,mapping!$L$2:$P$92,3,0)","v":1388.78},{"$f":"VLOOKUP($F595,mapping!$L$2:$P$92,4,0)","v":"Developing Asia"},{"$f":"$D595*VLOOKUP($E595,'Charts data'!$A$2:$B$11,2,0)*VLOOKUP($G595,'Charts data'!$A$14:$B$18,2,0)/IF('Charts data'!$E$3=1,I595,1)/IF('Charts data'!$E$4=1,J595,1)","v":17807.916687442568}]
["ID1005",180000,"INR",{"$f":"B596*VLOOKUP(C596,tblXrate[],2,0)","v":3205.4250037396623},"Analyst","India","4 to 6",10,{"$f":"VLOOKUP(F596,mapping!$L$2:$P$92,2,0)","v":0.34064763831408895},{"$f":"VLOOKUP($F596,mapping!$L$2:$P$92,3,0)","v":1388.78},{"$f":"VLOOKUP($F596,mapping!$L$2:$P$92,4,0)","v":"Developing Asia"},{"$f":"$D596*VLOOKUP($E596,'Charts data'!$A$2:$B$11,2,0)*VLOOKUP($G596,'Charts data'!$A$14:$B$18,2,0)/IF('Charts data'!$E$3=1,I596,1)/IF('Charts data'!$E$4=1,J596,1)","v":3205.4250037396623}]
["ID1007",700000,"INR",{"$f":"B597*VLOOKUP(C597,tblXrate[],2,0)","v":12465.541681209797},"Manager","India","2 to 3",7,{"$f":"VLOOKUP(F597,mapping!$L$2:$P$92,2,0)","v":0.34064763831408895},{"$f":"VLOOKUP($F597,mapping!$L$2:$P$92,3,0)","v":1388.78},{"$f":"VLOOKUP($F597,mapping!$L$2:$P$92,4,0)","v":"Developing Asia"},{"$f":"$D597*VLOOKUP($E597,'Charts data'!$A$2:$B$11,2,0)*VLOOKUP($G597,'Charts data'!$A$14:$B$18,2,0)/IF('Charts data'!$E$3=1,I597,1)/IF('Charts data'!$E$4=1,J597,1)","v":12465.541681209797}]
["ID1010",650000,"INR",{"$f":"B598*VLOOKUP(C598,tblXrate[],2,0)","v":11575.14584683767},"Manager","India","2 to 3",1,{"$f":"VLOOKUP(F598,mapping!$L$2:$P$92,2,0)","v":0.34064763831408895},{"$f":"VLOOKUP($F598,mapping!$L$2:$P$92,3,0)","v":1388.78},{"$f":"VLOOKUP($F598,mapping!$L$2:$P$92,4,0)","v":"Developing Asia"},{"$f":"$D598*VLOOKUP($E598,'Charts data'!$A$2:$B$11,2,0)*VLOOKUP($G598,'Charts data'!$A$14:$B$18,2,0)/IF('Charts data'!$E$3=1,I598,1)/IF('Charts data'!$E$4=1,J598,1)","v":11575.14584683767}]
["ID1013",350000,"INR",{"$f":"B599*VLOOKUP(C599,tblXrate[],2,0)","v":6232.7708406048987},"Analyst","India","4 to 6",2.5,{"$f":"VLOOKUP(F599,mapping!$L$2:$P$92,2,0)","v":0.34064763831408895},{"$f":"VLOOKUP($F599,mapping!$L$2:$P$92,3,0)","v":1388.78},{"$f":"VLOOKUP($F599,mapping!$L$2:$P$92,4,0)","v":"Developing Asia"},{"$f":"$D599*VLOOKUP($E599,'Charts data'!$A$2:$B$11,2,0)*VLOOKUP($G599,'Charts data'!$A$14:$B$18,2,0)/IF('Charts data'!$E$3=1,I599,1)/IF('Charts data'!$E$4=1,J599,1)","v":6232.7708406048987}]
["ID1015",640000,"INR",{"$f":"B600*VLOOKUP(C600,tblXrate[],2,0)","v":11397.066679963244},"Analyst","India","8 Hrs",6,{"$f":"VLOOKUP(F600,mapping!$L$2:$P$92,2,0)","v":0.34064763831408895},{"$f":"VLOOKUP($F600,mapping!$L$2:$P$92,3,0)","v":1388.78},{"$f":"VLOOKUP($F600,mapping!$L$2:$P$92,4,0)","v":"Developing Asia"},{"$f":"$D600*VLOOKUP($E600,'Charts data'!$A$2:$B$11,2,0)*VLOOKUP($G600,'Charts data'!$A$14:$B$18,2,0)/IF('Charts data'!$E$3=1,I600,1)/IF('Charts data'!$E$4=1,J600,1)","v":11397.066679963244}]
["ID1018",365000,"INR",{"$f":"B601*VLOOKUP(C601,tblXrate[],2,0)","v":6499.8895909165376},"Analyst","India","4 to 6",3,{"$f":"VLOOKUP(F601,mapping!$L$2:$P$92,2,0)","v":0.34064763831408895},{"$f":"VLOOKUP($F601,mapping!$L$2:$P$92,3,0)","v":1388.78},{"$f":"VLOOKUP($F601,mapping!$L$2:$P$92,4,0)","v":"Developing Asia"},{"$f":"$D601*VLOOKUP($E601,'Charts data'!$A$2:$B$11,2,0)*VLOOKUP($G601,'Charts data'!$A$14:$B$18,2,0)/IF('Charts data'!$E$3=1,I601,1)/IF('Charts data'!$E$4=1,J601,1)","v":6499.8895909165376}]
["ID1023",450000,"INR",{"$f":"B602*VLOOKUP(C602,tblXrate[],2,0)","v":8013.5625093491553},"Manager","India","8 Hrs",15,{"$f":"VLOOKUP(F602,mapping!$L$2:$P$92,2,0)","v":0.34064763831408895},{"$f":"VLOOKUP($F602,mapping!$L$2:$P$92,3,0)","v":1388.78},{"$f":"VLOOKUP($F602,mapping!$L$2:$P$92,4,0)","v":"Developing Asia"},{"$f":"$D602*VLOOKUP($E602,'Charts data'!$A$2:$B$11,2,0)*VLOOKUP($G602,'Charts data'!$A$14:$B$18,2,0)/IF('Charts data'!$E$3=1,I602,1)/IF('Charts data'!$E$4=1,J602,1)","v":8013.5625093491553}]
["ID1024",570000,"INR",{"$f":"B603*VLOOKUP(C603,tblXrate[],2,0)","v":10150.512511842264},"Analyst","India","4 to 6",5,{"$f":"VLOOKUP(F603,mapping!$L$2:$P$92,2,0)","v":0.34064763831408895},{"$f":"VLOOKUP($F603,mapping!$L$2:$P$92,3,0)","v":1388.78},{"$f":"VLOOKUP($F603,mapping!$L$2:$P$92,4,0)","v":"Developing Asia"},{"$f":"$D603*VLOOKUP($E603,'Charts data'!$A$2:$B$11,2,0)*VLOOKUP($G603,'Charts data'!$A$14:$B$18,2,0)/IF('Charts data'!$E$3=1,I603,1)/IF('Charts data'!$E$4=1,J603,1)","v":10150.512511842264}]
["ID1027",612000,"INR",{"$f":"B604*VLOOKUP(C604,tblXrate[],2,0)","v":10898.445012714852},"Manager","India","2 to 3",13,{"$f":"VLOOKUP(F604,mapping!$L$2:$P$92,2,0)","v":0.34064763831408895},{"$f":"VLOOKUP($F604,mapping!$L$2:$P$92,3,0)","v":1388.78},{"$f":"VLOOKUP($F604,mapping!$L$2:$P$92,4,0)","v":"Developing Asia"},{"$f":"$D604*VLOOKUP($E604,'Charts data'!$A$2:$B$11,2,0)*VLOOKUP($G604,'Charts data'!$A$14:$B$18,2,0)/IF('Charts data'!$E$3=1,I604,1)/IF('Charts data'!$E$4=1,J604,1)","v":10898.445012714852}]
["ID1029",120000,"INR",{"$f":"B605*VLOOKUP(C605,tblXrate[],2,0)","v":2136.9500024931081},"Analyst","India","2 to 3",3.5,{"$f":"VLOOKUP(F605,mapping!$L$2:$P$92,2,0)","v":0.34064763831408895},{"$f":"VLOOKUP($F605,mapping!$L$2:$P$92,3,0)","v":1388.78},{"$f":"VLOOKUP($F605,mapping!$L$2:$P$92,4,0)","v":"Developing Asia"},{"$f":"$D605*VLOOKUP($E605,'Charts data'!$A$2:$B$11,2,0)*VLOOKUP($G605,'Charts data'!$A$14:$B$18,2,0)/IF('Charts data'!$E$3=1,I605,1)/IF('Charts data'!$E$4=1,J605,1)","v":2136.9500024931081}]
["ID1031",400000,"INR",{"$f":"B606*VLOOKUP(C606,tblXrate[],2,0)","v":7123.1666749770275},"Manager","India","2 to 3",5,{"$f":"VLOOKUP(F606,mapping!$L$2:$P$92,2,0)","v":0.34064763831408895},{"$f":"VLOOKUP($F606,mapping!$L$2:$P$92,3,0)","v":1388.78},{"$f":"VLOOKUP($F606,mapping!$L$2:$P$92,4,0)","v":"Developing Asia"},{"$f":"$D606*VLOOKUP($E606,'Charts data'!$A$2:$B$11,2,0)*VLOOKUP($G606,'Charts data'!$A$14:$B$18,2,0)/IF('Charts data'!$E$3=1,I606,1)/IF('Charts data'!$E$4=1,J606,1)","v":7123.1666749770275}]
["ID1032",300000,"INR",{"$f":"B607*VLOOKUP(C607,tblXrate[],2,0)","v":5342.3750062327708},"Accountant","India","2 to 3",5,{"$f":"VLOOKUP(F607,mapping!$L$2:$P$92,2,0)","v":0.34064763831408895},{"$f":"VLOOKUP($F607,mapping!$L$2:$P$92,3,0)","v":1388.78},{"$f":"VLOOKUP($F607,mapping!$L$2:$P$92,4,0)","v":"Developing Asia"},{"$f":"$D607*VLOOKUP($E607,'Charts data'!$A$2:$B$11,2,0)*VLOOKUP($G607,'Charts data'!$A$14:$B$18,2,0)/IF('Charts data'!$E$3=1,I607,1)/IF('Charts data'!$E$4=1,J607,1)","v":5342.3750062327708}]
["ID1035",420000,"INR",{"$f":"B608*VLOOKUP(C608,tblXrate[],2,0)","v":7479.3250087258784},"Analyst","India","2 to 3",10,{"$f":"VLOOKUP(F608,mapping!$L$2:$P$92,2,0)","v":0.34064763831408895},{"$f":"VLOOKUP($F608,mapping!$L$2:$P$92,3,0)","v":1388.78},{"$f":"VLOOKUP($F608,mapping!$L$2:$P$92,4,0)","v":"Developing Asia"},{"$f":"$D608*VLOOKUP($E608,'Charts data'!$A$2:$B$11,2,0)*VLOOKUP($G608,'Charts data'!$A$14:$B$18,2,0)/IF('Charts data'!$E$3=1,I608,1)/IF('Charts data'!$E$4=1,J608,1)","v":7479.3250087258784}]
["ID1036",210000,"INR",{"$f":"B609*VLOOKUP(C609,tblXrate[],2,0)","v":3739.6625043629392},"Reporting","India","8 Hrs",3.5,{"$f":"VLOOKUP(F609,mapping!$L$2:$P$92,2,0)","v":0.34064763831408895},{"$f":"VLOOKUP($F609,mapping!$L$2:$P$92,3,0)","v":1388.78},{"$f":"VLOOKUP($F609,mapping!$L$2:$P$92,4,0)","v":"Developing Asia"},{"$f":"$D609*VLOOKUP($E609,'Charts data'!$A$2:$B$11,2,0)*VLOOKUP($G609,'Charts data'!$A$14:$B$18,2,0)/IF('Charts data'!$E$3=1,I609,1)/IF('Charts data'!$E$4=1,J609,1)","v":3739.6625043629392}]
["ID1041",1000000,"INR",{"$f":"B610*VLOOKUP(C610,tblXrate[],2,0)","v":17807.916687442568},"Analyst","India","1 or 2",25,{"$f":"VLOOKUP(F610,mapping!$L$2:$P$92,2,0)","v":0.34064763831408895},{"$f":"VLOOKUP($F610,mapping!$L$2:$P$92,3,0)","v":1388.78},{"$f":"VLOOKUP($F610,mapping!$L$2:$P$92,4,0)","v":"Developing Asia"},{"$f":"$D610*VLOOKUP($E610,'Charts data'!$A$2:$B$11,2,0)*VLOOKUP($G610,'Charts data'!$A$14:$B$18,2,0)/IF('Charts data'!$E$3=1,I610,1)/IF('Charts data'!$E$4=1,J610,1)","v":17807.916687442568}]
["ID1042",600000,"INR",{"$f":"B611*VLOOKUP(C611,tblXrate[],2,0)","v":10684.750012465542},"Analyst","India","8 Hrs",12,{"$f":"VLOOKUP(F611,mapping!$L$2:$P$92,2,0)","v":0.34064763831408895},{"$f":"VLOOKUP($F611,mapping!$L$2:$P$92,3,0)","v":1388.78},{"$f":"VLOOKUP($F611,mapping!$L$2:$P$92,4,0)","v":"Developing Asia"},{"$f":"$D611*VLOOKUP($E611,'Charts data'!$A$2:$B$11,2,0)*VLOOKUP($G611,'Charts data'!$A$14:$B$18,2,0)/IF('Charts data'!$E$3=1,I611,1)/IF('Charts data'!$E$4=1,J611,1)","v":10684.750012465542}]
["ID1044",476000,"INR",{"$f":"B612*VLOOKUP(C612,tblXrate[],2,0)","v":8476.5683432226633},"Reporting","India","4 to 6",8,{"$f":"VLOOKUP(F612,mapping!$L$2:$P$92,2,0)","v":0.34064763831408895},{"$f":"VLOOKUP($F612,mapping!$L$2:$P$92,3,0)","v":1388.78},{"$f":"VLOOKUP($F612,mapping!$L$2:$P$92,4,0)","v":"Developing Asia"},{"$f":"$D612*VLOOKUP($E612,'Charts data'!$A$2:$B$11,2,0)*VLOOKUP($G612,'Charts data'!$A$14:$B$18,2,0)/IF('Charts data'!$E$3=1,I612,1)/IF('Charts data'!$E$4=1,J612,1)","v":8476.5683432226633}]
["ID1046",200000,"INR",{"$f":"B613*VLOOKUP(C613,tblXrate[],2,0)","v":3561.5833374885137},"Manager","India","8 Hrs",8,{"$f":"VLOOKUP(F613,mapping!$L$2:$P$92,2,0)","v":0.34064763831408895},{"$f":"VLOOKUP($F613,mapping!$L$2:$P$92,3,0)","v":1388.78},{"$f":"VLOOKUP($F613,mapping!$L$2:$P$92,4,0)","v":"Developing Asia"},{"$f":"$D613*VLOOKUP($E613,'Charts data'!$A$2:$B$11,2,0)*VLOOKUP($G613,'Charts data'!$A$14:$B$18,2,0)/IF('Charts data'!$E$3=1,I613,1)/IF('Charts data'!$E$4=1,J613,1)","v":3561.5833374885137}]
["ID1047",180000,"INR",{"$f":"B614*VLOOKUP(C614,tblXrate[],2,0)","v":3205.4250037396623},"Reporting","India","8 Hrs",4,{"$f":"VLOOKUP(F614,mapping!$L$2:$P$92,2,0)","v":0.34064763831408895},{"$f":"VLOOKUP($F614,mapping!$L$2:$P$92,3,0)","v":1388.78},{"$f":"VLOOKUP($F614,mapping!$L$2:$P$92,4,0)","v":"Developing Asia"},{"$f":"$D614*VLOOKUP($E614,'Charts data'!$A$2:$B$11,2,0)*VLOOKUP($G614,'Charts data'!$A$14:$B$18,2,0)/IF('Charts data'!$E$3=1,I614,1)/IF('Charts data'!$E$4=1,J614,1)","v":3205.4250037396623}]
["ID1048",252000,"INR",{"$f":"B615*VLOOKUP(C615,tblXrate[],2,0)","v":4487.5950052355274},"Accountant","India","1 or 2",5,{"$f":"VLOOKUP(F615,mapping!$L$2:$P$92,2,0)","v":0.34064763831408895},{"$f":"VLOOKUP($F615,mapping!$L$2:$P$92,3,0)","v":1388.78},{"$f":"VLOOKUP($F615,mapping!$L$2:$P$92,4,0)","v":"Developing Asia"},{"$f":"$D615*VLOOKUP($E615,'Charts data'!$A$2:$B$11,2,0)*VLOOKUP($G615,'Charts data'!$A$14:$B$18,2,0)/IF('Charts data'!$E$3=1,I615,1)/IF('Charts data'!$E$4=1,J615,1)","v":4487.5950052355274}]
["ID1049",700000,"INR",{"$f":"B616*VLOOKUP(C616,tblXrate[],2,0)","v":12465.541681209797},"Analyst","India","4 to 6",5,{"$f":"VLOOKUP(F616,mapping!$L$2:$P$92,2,0)","v":0.34064763831408895},{"$f":"VLOOKUP($F616,mapping!$L$2:$P$92,3,0)","v":1388.78},{"$f":"VLOOKUP($F616,mapping!$L$2:$P$92,4,0)","v":"Developing Asia"},{"$f":"$D616*VLOOKUP($E616,'Charts data'!$A$2:$B$11,2,0)*VLOOKUP($G616,'Charts data'!$A$14:$B$18,2,0)/IF('Charts data'!$E$3=1,I616,1)/IF('Charts data'!$E$4=1,J616,1)","v":12465.541681209797}]
["ID1054",1200000,"INR",{"$f":"B617*VLOOKUP(C617,tblXrate[],2,0)","v":21369.500024931083},"Manager","India","2 to 3",2,{"$f":"VLOOKUP(F617,mapping!$L$2:$P$92,2,0)","v":0.34064763831408895},{"$f":"VLOOKUP($F617,mapping!$L$2:$P$92,3,0)","v":1388.78},{"$f":"VLOOKUP($F617,mapping!$L$2:$P$92,4,0)","v":"Developing Asia"},{"$f":"$D617*VLOOKUP($E617,'Charts data'!$A$2:$B$11,2,0)*VLOOKUP($G617,'Charts data'!$A$14:$B$18,2,0)/IF('Charts data'!$E$3=1,I617,1)/IF('Charts data'!$E$4=1,J617,1)","v":21369.500024931083}]
["ID1061",408000,"INR",{"$f":"B618*VLOOKUP(C618,tblXrate[],2,0)","v":7265.630008476568},"Accountant","India","8 Hrs",5,{"$f":"VLOOKUP(F618,mapping!$L$2:$P$92,2,0)","v":0.34064763831408895},{"$f":"VLOOKUP($F618,mapping!$L$2:$P$92,3,0)","v":1388.78},{"$f":"VLOOKUP($F618,mapping!$L$2:$P$92,4,0)","v":"Developing Asia"},{"$f":"$D618*VLOOKUP($E618,'Charts data'!$A$2:$B$11,2,0)*VLOOKUP($G618,'Charts data'!$A$14:$B$18,2,0)/IF('Charts data'!$E$3=1,I618,1)/IF('Charts data'!$E$4=1,J618,1)","v":7265.630008476568}]
["ID1063",530000,"INR",{"$f":"B619*VLOOKUP(C619,tblXrate[],2,0)","v":9438.1958443445619},"Analyst","India","2 to 3",7,{"$f":"VLOOKUP(F619,mapping!$L$2:$P$92,2,0)","v":0.34064763831408895},{"$f":"VLOOKUP($F619,mapping!$L$2:$P$92,3,0)","v":1388.78},{"$f":"VLOOKUP($F619,mapping!$L$2:$P$92,4,0)","v":"Developing Asia"},{"$f":"$D619*VLOOKUP($E619,'Charts data'!$A$2:$B$11,2,0)*VLOOKUP($G619,'Charts data'!$A$14:$B$18,2,0)/IF('Charts data'!$E$3=1,I619,1)/IF('Charts data'!$E$4=1,J619,1)","v":9438.1958443445619}]
["ID1065",200000,"INR",{"$f":"B620*VLOOKUP(C620,tblXrate[],2,0)","v":3561.5833374885137},"Manager","India","2 to 3",5,{"$f":"VLOOKUP(F620,mapping!$L$2:$P$92,2,0)","v":0.34064763831408895},{"$f":"VLOOKUP($F620,mapping!$L$2:$P$92,3,0)","v":1388.78},{"$f":"VLOOKUP($F620,mapping!$L$2:$P$92,4,0)","v":"Developing Asia"},{"$f":"$D620*VLOOKUP($E620,'Charts data'!$A$2:$B$11,2,0)*VLOOKUP($G620,'Charts data'!$A$14:$B$18,2,0)/IF('Charts data'!$E$3=1,I620,1)/IF('Charts data'!$E$4=1,J620,1)","v":3561.5833374885137}]
["ID1066",200000,"INR",{"$f":"B621*VLOOKUP(C621,tblXrate[],2,0)","v":3561.5833374885137},"Reporting","India","4 to 6",3,{"$f":"VLOOKUP(F621,mapping!$L$2:$P$92,2,0)","v":0.34064763831408895},{"$f":"VLOOKUP($F621,mapping!$L$2:$P$92,3,0)","v":1388.78},{"$f":"VLOOKUP($F621,mapping!$L$2:$P$92,4,0)","v":"Developing Asia"},{"$f":"$D621*VLOOKUP($E621,'Charts data'!$A$2:$B$11,2,0)*VLOOKUP($G621,'Charts data'!$A$14:$B$18,2,0)/IF('Charts data'!$E$3=1,I621,1)/IF('Charts data'!$E$4=1,J621,1)","v":3561.5833374885137}]
["ID1068",1200000,"INR",{"$f":"B622*VLOOKUP(C622,tblXrate[],2,0)","v":21369.500024931083},"Analyst","India","4 to 6",7,{"$f":"VLOOKUP(F622,mapping!$L$2:$P$92,2,0)","v":0.34064763831408895},{"$f":"VLOOKUP($F622,mapping!$L$2:$P$92,3,0)","v":1388.78},{"$f":"VLOOKUP($F622,mapping!$L$2:$P$92,4,0)","v":"Developing Asia"},{"$f":"$D622*VLOOKUP($E622,'Charts data'!$A$2:$B$11,2,0)*VLOOKUP($G622,'Charts data'!$A$14:$B$18,2,0)/IF('Charts data'!$E$3=1,I622,1)/IF('Charts data'!$E$4=1,J622,1)","v":21369.500024931083}]
["ID1069",300000,"INR",{"$f":"B623*VLOOKUP(C623,tblXrate[],2,0)","v":5342.3750062327708},"Consultant","India","2 to 3",1,{"$f":"VLOOKUP(F623,mapping!$L$2:$P$92,2,0)","v":0.34064763831408895},{"$f":"VLOOKUP($F623,mapping!$L$2:$P$92,3,0)","v":1388.78},{"$f":"VLOOKUP($F623,mapping!$L$2:$P$92,4,0)","v":"Developing Asia"},{"$f":"$D623*VLOOKUP($E623,'Charts data'!$A$2:$B$11,2,0)*VLOOKUP($G623,'Charts data'!$A$14:$B$18,2,0)/IF('Charts data'!$E$3=1,I623,1)/IF('Charts data'!$E$4=1,J623,1)","v":5342.3750062327708}]
["ID1071",1600000,"INR",{"$f":"B624*VLOOKUP(C624,tblXrate[],2,0)","v":28492.66669990811},"Manager","India","8 Hrs",9,{"$f":"VLOOKUP(F624,mapping!$L$2:$P$92,2,0)","v":0.34064763831408895},{"$f":"VLOOKUP($F624,mapping!$L$2:$P$92,3,0)","v":1388.78},{"$f":"VLOOKUP($F624,mapping!$L$2:$P$92,4,0)","v":"Developing Asia"},{"$f":"$D624*VLOOKUP($E624,'Charts data'!$A$2:$B$11,2,0)*VLOOKUP($G624,'Charts data'!$A$14:$B$18,2,0)/IF('Charts data'!$E$3=1,I624,1)/IF('Charts data'!$E$4=1,J624,1)","v":28492.66669990811}]
["ID1075",438000,"INR",{"$f":"B625*VLOOKUP(C625,tblXrate[],2,0)","v":7799.8675090998449},"Analyst","India","1 or 2",10,{"$f":"VLOOKUP(F625,mapping!$L$2:$P$92,2,0)","v":0.34064763831408895},{"$f":"VLOOKUP($F625,mapping!$L$2:$P$92,3,0)","v":1388.78},{"$f":"VLOOKUP($F625,mapping!$L$2:$P$92,4,0)","v":"Developing Asia"},{"$f":"$D625*VLOOKUP($E625,'Charts data'!$A$2:$B$11,2,0)*VLOOKUP($G625,'Charts data'!$A$14:$B$18,2,0)/IF('Charts data'!$E$3=1,I625,1)/IF('Charts data'!$E$4=1,J625,1)","v":7799.8675090998449}]
["ID1078",250000,"INR",{"$f":"B626*VLOOKUP(C626,tblXrate[],2,0)","v":4451.9791718606421},"Reporting","India","8 Hrs",3.5,{"$f":"VLOOKUP(F626,mapping!$L$2:$P$92,2,0)","v":0.34064763831408895},{"$f":"VLOOKUP($F626,mapping!$L$2:$P$92,3,0)","v":1388.78},{"$f":"VLOOKUP($F626,mapping!$L$2:$P$92,4,0)","v":"Developing Asia"},{"$f":"$D626*VLOOKUP($E626,'Charts data'!$A$2:$B$11,2,0)*VLOOKUP($G626,'Charts data'!$A$14:$B$18,2,0)/IF('Charts data'!$E$3=1,I626,1)/IF('Charts data'!$E$4=1,J626,1)","v":4451.9791718606421}]
["ID1081",2500000,"INR",{"$f":"B627*VLOOKUP(C627,tblXrate[],2,0)","v":44519.791718606422},"CXO or Top Mgmt.","India","4 to 6",9,{"$f":"VLOOKUP(F627,mapping!$L$2:$P$92,2,0)","v":0.34064763831408895},{"$f":"VLOOKUP($F627,mapping!$L$2:$P$92,3,0)","v":1388.78},{"$f":"VLOOKUP($F627,mapping!$L$2:$P$92,4,0)","v":"Developing Asia"},{"$f":"$D627*VLOOKUP($E627,'Charts data'!$A$2:$B$11,2,0)*VLOOKUP($G627,'Charts data'!$A$14:$B$18,2,0)/IF('Charts data'!$E$3=1,I627,1)/IF('Charts data'!$E$4=1,J627,1)","v":44519.791718606422}]
["ID1082",140000,"INR",{"$f":"B628*VLOOKUP(C628,tblXrate[],2,0)","v":2493.1083362419595},"Accountant","India","4 to 6",4,{"$f":"VLOOKUP(F628,mapping!$L$2:$P$92,2,0)","v":0.34064763831408895},{"$f":"VLOOKUP($F628,mapping!$L$2:$P$92,3,0)","v":1388.78},{"$f":"VLOOKUP($F628,mapping!$L$2:$P$92,4,0)","v":"Developing Asia"},{"$f":"$D628*VLOOKUP($E628,'Charts data'!$A$2:$B$11,2,0)*VLOOKUP($G628,'Charts data'!$A$14:$B$18,2,0)/IF('Charts data'!$E$3=1,I628,1)/IF('Charts data'!$E$4=1,J628,1)","v":2493.1083362419595}]
["ID1084",1200000,"INR",{"$f":"B629*VLOOKUP(C629,tblXrate[],2,0)","v":21369.500024931083},"Controller","India","4 to 6",8,{"$f":"VLOOKUP(F629,mapping!$L$2:$P$92,2,0)","v":0.34064763831408895},{"$f":"VLOOKUP($F629,mapping!$L$2:$P$92,3,0)","v":1388.78},{"$f":"VLOOKUP($F629,mapping!$L$2:$P$92,4,0)","v":"Developing Asia"},{"$f":"$D629*VLOOKUP($E629,'Charts data'!$A$2:$B$11,2,0)*VLOOKUP($G629,'Charts data'!$A$14:$B$18,2,0)/IF('Charts data'!$E$3=1,I629,1)/IF('Charts data'!$E$4=1,J629,1)","v":21369.500024931083}]
["ID1089",240000,"INR",{"$f":"B630*VLOOKUP(C630,tblXrate[],2,0)","v":4273.9000049862161},"Analyst","India","2 to 3",3,{"$f":"VLOOKUP(F630,mapping!$L$2:$P$92,2,0)","v":0.34064763831408895},{"$f":"VLOOKUP($F630,mapping!$L$2:$P$92,3,0)","v":1388.78},{"$f":"VLOOKUP($F630,mapping!$L$2:$P$92,4,0)","v":"Developing Asia"},{"$f":"$D630*VLOOKUP($E630,'Charts data'!$A$2:$B$11,2,0)*VLOOKUP($G630,'Charts data'!$A$14:$B$18,2,0)/IF('Charts data'!$E$3=1,I630,1)/IF('Charts data'!$E$4=1,J630,1)","v":4273.9000049862161}]
["ID1090",250000,"INR",{"$f":"B631*VLOOKUP(C631,tblXrate[],2,0)","v":4451.9791718606421},"Reporting","India","2 to 3",3,{"$f":"VLOOKUP(F631,mapping!$L$2:$P$92,2,0)","v":0.34064763831408895},{"$f":"VLOOKUP($F631,mapping!$L$2:$P$92,3,0)","v":1388.78},{"$f":"VLOOKUP($F631,mapping!$L$2:$P$92,4,0)","v":"Developing Asia"},{"$f":"$D631*VLOOKUP($E631,'Charts data'!$A$2:$B$11,2,0)*VLOOKUP($G631,'Charts data'!$A$14:$B$18,2,0)/IF('Charts data'!$E$3=1,I631,1)/IF('Charts data'!$E$4=1,J631,1)","v":4451.9791718606421}]
["ID1091",600000,"INR",{"$f":"B632*VLOOKUP(C632,tblXrate[],2,0)","v":10684.750012465542},"Analyst","India","4 to 6",10,{"$f":"VLOOKUP(F632,mapping!$L$2:$P$92,2,0)","v":0.34064763831408895},{"$f":"VLOOKUP($F632,mapping!$L$2:$P$92,3,0)","v":1388.78},{"$f":"VLOOKUP($F632,mapping!$L$2:$P$92,4,0)","v":"Developing Asia"},{"$f":"$D632*VLOOKUP($E632,'Charts data'!$A$2:$B$11,2,0)*VLOOKUP($G632,'Charts data'!$A$14:$B$18,2,0)/IF('Charts data'!$E$3=1,I632,1)/IF('Charts data'!$E$4=1,J632,1)","v":10684.750012465542}]
["ID1095",500000,"INR",{"$f":"B633*VLOOKUP(C633,tblXrate[],2,0)","v":8903.9583437212841},"Analyst","India","2 to 3",23,{"$f":"VLOOKUP(F633,mapping!$L$2:$P$92,2,0)","v":0.34064763831408895},{"$f":"VLOOKUP($F633,mapping!$L$2:$P$92,3,0)","v":1388.78},{"$f":"VLOOKUP($F633,mapping!$L$2:$P$92,4,0)","v":"Developing Asia"},{"$f":"$D633*VLOOKUP($E633,'Charts data'!$A$2:$B$11,2,0)*VLOOKUP($G633,'Charts data'!$A$14:$B$18,2,0)/IF('Charts data'!$E$3=1,I633,1)/IF('Charts data'!$E$4=1,J633,1)","v":8903.9583437212841}]
["ID1099",240000,"INR",{"$f":"B634*VLOOKUP(C634,tblXrate[],2,0)","v":4273.9000049862161},"Accountant","India","8 Hrs",20,{"$f":"VLOOKUP(F634,mapping!$L$2:$P$92,2,0)","v":0.34064763831408895},{"$f":"VLOOKUP($F634,mapping!$L$2:$P$92,3,0)","v":1388.78},{"$f":"VLOOKUP($F634,mapping!$L$2:$P$92,4,0)","v":"Developing Asia"},{"$f":"$D634*VLOOKUP($E634,'Charts data'!$A$2:$B$11,2,0)*VLOOKUP($G634,'Charts data'!$A$14:$B$18,2,0)/IF('Charts data'!$E$3=1,I634,1)/IF('Charts data'!$E$4=1,J634,1)","v":4273.9000049862161}]
["ID1110",1200000,"INR",{"$f":"B635*VLOOKUP(C635,tblXrate[],2,0)","v":21369.500024931083},"Manager","India","2 to 3",5,{"$f":"VLOOKUP(F635,mapping!$L$2:$P$92,2,0)","v":0.34064763831408895},{"$f":"VLOOKUP($F635,mapping!$L$2:$P$92,3,0)","v":1388.78},{"$f":"VLOOKUP($F635,mapping!$L$2:$P$92,4,0)","v":"Developing Asia"},{"$f":"$D635*VLOOKUP($E635,'Charts data'!$A$2:$B$11,2,0)*VLOOKUP($G635,'Charts data'!$A$14:$B$18,2,0)/IF('Charts data'!$E$3=1,I635,1)/IF('Charts data'!$E$4=1,J635,1)","v":21369.500024931083}]
["ID1112",180000,"INR",{"$f":"B636*VLOOKUP(C636,tblXrate[],2,0)","v":3205.4250037396623},"Analyst","India","8 Hrs",3,{"$f":"VLOOKUP(F636,mapping!$L$2:$P$92,2,0)","v":0.34064763831408895},{"$f":"VLOOKUP($F636,mapping!$L$2:$P$92,3,0)","v":1388.78},{"$f":"VLOOKUP($F636,mapping!$L$2:$P$92,4,0)","v":"Developing Asia"},{"$f":"$D636*VLOOKUP($E636,'Charts data'!$A$2:$B$11,2,0)*VLOOKUP($G636,'Charts data'!$A$14:$B$18,2,0)/IF('Charts data'!$E$3=1,I636,1)/IF('Charts data'!$E$4=1,J636,1)","v":3205.4250037396623}]
["ID1113",600000,"INR",{"$f":"B637*VLOOKUP(C637,tblXrate[],2,0)","v":10684.750012465542},"Accountant","India","2 to 3",8,{"$f":"VLOOKUP(F637,mapping!$L$2:$P$92,2,0)","v":0.34064763831408895},{"$f":"VLOOKUP($F637,mapping!$L$2:$P$92,3,0)","v":1388.78},{"$f":"VLOOKUP($F637,mapping!$L$2:$P$92,4,0)","v":"Developing Asia"},{"$f":"$D637*VLOOKUP($E637,'Charts data'!$A$2:$B$11,2,0)*VLOOKUP($G637,'Charts data'!$A$14:$B$18,2,0)/IF('Charts data'!$E$3=1,I637,1)/IF('Charts data'!$E$4=1,J637,1)","v":10684.750012465542}]
["ID1114",300000,"INR",{"$f":"B638*VLOOKUP(C638,tblXrate[],2,0)","v":5342.3750062327708},"Analyst","India","4 to 6",5,{"$f":"VLOOKUP(F638,mapping!$L$2:$P$92,2,0)","v":0.34064763831408895},{"$f":"VLOOKUP($F638,mapping!$L$2:$P$92,3,0)","v":1388.78},{"$f":"VLOOKUP($F638,mapping!$L$2:$P$92,4,0)","v":"Developing Asia"},{"$f":"$D638*VLOOKUP($E638,'Charts data'!$A$2:$B$11,2,0)*VLOOKUP($G638,'Charts data'!$A$14:$B$18,2,0)/IF('Charts data'!$E$3=1,I638,1)/IF('Charts data'!$E$4=1,J638,1)","v":5342.3750062327708}]
["ID1123",252000,"INR",{"$f":"B639*VLOOKUP(C639,tblXrate[],2,0)","v":4487.5950052355274},"Manager","India","1 or 2",16,{"$f":"VLOOKUP(F639,mapping!$L$2:$P$92,2,0)","v":0.34064763831408895},{"$f":"VLOOKUP($F639,mapping!$L$2:$P$92,3,0)","v":1388.78},{"$f":"VLOOKUP($F639,mapping!$L$2:$P$92,4,0)","v":"Developing Asia"},{"$f":"$D639*VLOOKUP($E639,'Charts data'!$A$2:$B$11,2,0)*VLOOKUP($G639,'Charts data'!$A$14:$B$18,2,0)/IF('Charts data'!$E$3=1,I639,1)/IF('Charts data'!$E$4=1,J639,1)","v":4487.5950052355274}]
["ID1124",242304,"INR",{"$f":"B640*VLOOKUP(C640,tblXrate[],2,0)","v":4314.929445034084},"Accountant","India","4 to 6",7,{"$f":"VLOOKUP(F640,mapping!$L$2:$P$92,2,0)","v":0.34064763831408895},{"$f":"VLOOKUP($F640,mapping!$L$2:$P$92,3,0)","v":1388.78},{"$f":"VLOOKUP($F640,mapping!$L$2:$P$92,4,0)","v":"Developing Asia"},{"$f":"$D640*VLOOKUP($E640,'Charts data'!$A$2:$B$11,2,0)*VLOOKUP($G640,'Charts data'!$A$14:$B$18,2,0)/IF('Charts data'!$E$3=1,I640,1)/IF('Charts data'!$E$4=1,J640,1)","v":4314.929445034084}]
["ID1125",210000,"INR",{"$f":"B641*VLOOKUP(C641,tblXrate[],2,0)","v":3739.6625043629392},"Analyst","India","8 Hrs",1,{"$f":"VLOOKUP(F641,mapping!$L$2:$P$92,2,0)","v":0.34064763831408895},{"$f":"VLOOKUP($F641,mapping!$L$2:$P$92,3,0)","v":1388.78},{"$f":"VLOOKUP($F641,mapping!$L$2:$P$92,4,0)","v":"Developing Asia"},{"$f":"$D641*VLOOKUP($E641,'Charts data'!$A$2:$B$11,2,0)*VLOOKUP($G641,'Charts data'!$A$14:$B$18,2,0)/IF('Charts data'!$E$3=1,I641,1)/IF('Charts data'!$E$4=1,J641,1)","v":3739.6625043629392}]
["ID1130",900000,"INR",{"$f":"B642*VLOOKUP(C642,tblXrate[],2,0)","v":16027.125018698311},"Manager","India","4 to 6",22,{"$f":"VLOOKUP(F642,mapping!$L$2:$P$92,2,0)","v":0.34064763831408895},{"$f":"VLOOKUP($F642,mapping!$L$2:$P$92,3,0)","v":1388.78},{"$f":"VLOOKUP($F642,mapping!$L$2:$P$92,4,0)","v":"Developing Asia"},{"$f":"$D642*VLOOKUP($E642,'Charts data'!$A$2:$B$11,2,0)*VLOOKUP($G642,'Charts data'!$A$14:$B$18,2,0)/IF('Charts data'!$E$3=1,I642,1)/IF('Charts data'!$E$4=1,J642,1)","v":16027.125018698311}]
["ID1131",400000,"INR",{"$f":"B643*VLOOKUP(C643,tblXrate[],2,0)","v":7123.1666749770275},"Reporting","India","4 to 6",9,{"$f":"VLOOKUP(F643,mapping!$L$2:$P$92,2,0)","v":0.34064763831408895},{"$f":"VLOOKUP($F643,mapping!$L$2:$P$92,3,0)","v":1388.78},{"$f":"VLOOKUP($F643,mapping!$L$2:$P$92,4,0)","v":"Developing Asia"},{"$f":"$D643*VLOOKUP($E643,'Charts data'!$A$2:$B$11,2,0)*VLOOKUP($G643,'Charts data'!$A$14:$B$18,2,0)/IF('Charts data'!$E$3=1,I643,1)/IF('Charts data'!$E$4=1,J643,1)","v":7123.1666749770275}]
["ID1132",150252,"INR",{"$f":"B644*VLOOKUP(C644,tblXrate[],2,0)","v":2675.675098121621},"Manager","India","2 to 3",5,{"$f":"VLOOKUP(F644,mapping!$L$2:$P$92,2,0)","v":0.34064763831408895},{"$f":"VLOOKUP($F644,mapping!$L$2:$P$92,3,0)","v":1388.78},{"$f":"VLOOKUP($F644,mapping!$L$2:$P$92,4,0)","v":"Developing Asia"},{"$f":"$D644*VLOOKUP($E644,'Charts data'!$A$2:$B$11,2,0)*VLOOKUP($G644,'Charts data'!$A$14:$B$18,2,0)/IF('Charts data'!$E$3=1,I644,1)/IF('Charts data'!$E$4=1,J644,1)","v":2675.675098121621}]
["ID1135",2400000,"INR",{"$f":"B645*VLOOKUP(C645,tblXrate[],2,0)","v":42739.000049862167},"Manager","India","8 Hrs",10,{"$f":"VLOOKUP(F645,mapping!$L$2:$P$92,2,0)","v":0.34064763831408895},{"$f":"VLOOKUP($F645,mapping!$L$2:$P$92,3,0)","v":1388.78},{"$f":"VLOOKUP($F645,mapping!$L$2:$P$92,4,0)","v":"Developing Asia"},{"$f":"$D645*VLOOKUP($E645,'Charts data'!$A$2:$B$11,2,0)*VLOOKUP($G645,'Charts data'!$A$14:$B$18,2,0)/IF('Charts data'!$E$3=1,I645,1)/IF('Charts data'!$E$4=1,J645,1)","v":42739.000049862167}]
["ID1139",400000,"INR",{"$f":"B646*VLOOKUP(C646,tblXrate[],2,0)","v":7123.1666749770275},"Engineer","India","1 or 2",2,{"$f":"VLOOKUP(F646,mapping!$L$2:$P$92,2,0)","v":0.34064763831408895},{"$f":"VLOOKUP($F646,mapping!$L$2:$P$92,3,0)","v":1388.78},{"$f":"VLOOKUP($F646,mapping!$L$2:$P$92,4,0)","v":"Developing Asia"},{"$f":"$D646*VLOOKUP($E646,'Charts data'!$A$2:$B$11,2,0)*VLOOKUP($G646,'Charts data'!$A$14:$B$18,2,0)/IF('Charts data'!$E$3=1,I646,1)/IF('Charts data'!$E$4=1,J646,1)","v":7123.1666749770275}]
["ID1142",200000,"INR",{"$f":"B647*VLOOKUP(C647,tblXrate[],2,0)","v":3561.5833374885137},"Reporting","India","8 Hrs",5,{"$f":"VLOOKUP(F647,mapping!$L$2:$P$92,2,0)","v":0.34064763831408895},{"$f":"VLOOKUP($F647,mapping!$L$2:$P$92,3,0)","v":1388.78},{"$f":"VLOOKUP($F647,mapping!$L$2:$P$92,4,0)","v":"Developing Asia"},{"$f":"$D647*VLOOKUP($E647,'Charts data'!$A$2:$B$11,2,0)*VLOOKUP($G647,'Charts data'!$A$14:$B$18,2,0)/IF('Charts data'!$E$3=1,I647,1)/IF('Charts data'!$E$4=1,J647,1)","v":3561.5833374885137}]
["ID1146",853000,"INR",{"$f":"B648*VLOOKUP(C648,tblXrate[],2,0)","v":15190.15293438851},"Analyst","India","2 to 3",6,{"$f":"VLOOKUP(F648,mapping!$L$2:$P$92,2,0)","v":0.34064763831408895},{"$f":"VLOOKUP($F648,mapping!$L$2:$P$92,3,0)","v":1388.78},{"$f":"VLOOKUP($F648,mapping!$L$2:$P$92,4,0)","v":"Developing Asia"},{"$f":"$D648*VLOOKUP($E648,'Charts data'!$A$2:$B$11,2,0)*VLOOKUP($G648,'Charts data'!$A$14:$B$18,2,0)/IF('Charts data'!$E$3=1,I648,1)/IF('Charts data'!$E$4=1,J648,1)","v":15190.15293438851}]
["ID1157",708000,"INR",{"$f":"B649*VLOOKUP(C649,tblXrate[],2,0)","v":12608.005014709339},"Manager","India","4 to 6",5,{"$f":"VLOOKUP(F649,mapping!$L$2:$P$92,2,0)","v":0.34064763831408895},{"$f":"VLOOKUP($F649,mapping!$L$2:$P$92,3,0)","v":1388.78},{"$f":"VLOOKUP($F649,mapping!$L$2:$P$92,4,0)","v":"Developing Asia"},{"$f":"$D649*VLOOKUP($E649,'Charts data'!$A$2:$B$11,2,0)*VLOOKUP($G649,'Charts data'!$A$14:$B$18,2,0)/IF('Charts data'!$E$3=1,I649,1)/IF('Charts data'!$E$4=1,J649,1)","v":12608.005014709339}]
["ID1161",500000,"INR",{"$f":"B650*VLOOKUP(C650,tblXrate[],2,0)","v":8903.9583437212841},"Manager","India","1 or 2",25,{"$f":"VLOOKUP(F650,mapping!$L$2:$P$92,2,0)","v":0.34064763831408895},{"$f":"VLOOKUP($F650,mapping!$L$2:$P$92,3,0)","v":1388.78},{"$f":"VLOOKUP($F650,mapping!$L$2:$P$92,4,0)","v":"Developing Asia"},{"$f":"$D650*VLOOKUP($E650,'Charts data'!$A$2:$B$11,2,0)*VLOOKUP($G650,'Charts data'!$A$14:$B$18,2,0)/IF('Charts data'!$E$3=1,I650,1)/IF('Charts data'!$E$4=1,J650,1)","v":8903.9583437212841}]
["ID1172",500000,"INR",{"$f":"B651*VLOOKUP(C651,tblXrate[],2,0)","v":8903.9583437212841},"Analyst","India","4 to 6",0.8,{"$f":"VLOOKUP(F651,mapping!$L$2:$P$92,2,0)","v":0.34064763831408895},{"$f":"VLOOKUP($F651,mapping!$L$2:$P$92,3,0)","v":1388.78},{"$f":"VLOOKUP($F651,mapping!$L$2:$P$92,4,0)","v":"Developing Asia"},{"$f":"$D651*VLOOKUP($E651,'Charts data'!$A$2:$B$11,2,0)*VLOOKUP($G651,'Charts data'!$A$14:$B$18,2,0)/IF('Charts data'!$E$3=1,I651,1)/IF('Charts data'!$E$4=1,J651,1)","v":8903.9583437212841}]
["ID1178",200000,"INR",{"$f":"B652*VLOOKUP(C652,tblXrate[],2,0)","v":3561.5833374885137},"Analyst","India","1 or 2",6,{"$f":"VLOOKUP(F652,mapping!$L$2:$P$92,2,0)","v":0.34064763831408895},{"$f":"VLOOKUP($F652,mapping!$L$2:$P$92,3,0)","v":1388.78},{"$f":"VLOOKUP($F652,mapping!$L$2:$P$92,4,0)","v":"Developing Asia"},{"$f":"$D652*VLOOKUP($E652,'Charts data'!$A$2:$B$11,2,0)*VLOOKUP($G652,'Charts data'!$A$14:$B$18,2,0)/IF('Charts data'!$E$3=1,I652,1)/IF('Charts data'!$E$4=1,J652,1)","v":3561.5833374885137}]
["ID1179",450000,"INR",{"$f":"B653*VLOOKUP(C653,tblXrate[],2,0)","v":8013.5625093491553},"Manager","India","4 to 6",21,{"$f":"VLOOKUP(F653,mapping!$L$2:$P$92,2,0)","v":0.34064763831408895},{"$f":"VLOOKUP($F653,mapping!$L$2:$P$92,3,0)","v":1388.78},{"$f":"VLOOKUP($F653,mapping!$L$2:$P$92,4,0)","v":"Developing Asia"},{"$f":"$D653*VLOOKUP($E653,'Charts data'!$A$2:$B$11,2,0)*VLOOKUP($G653,'Charts data'!$A$14:$B$18,2,0)/IF('Charts data'!$E$3=1,I653,1)/IF('Charts data'!$E$4=1,J653,1)","v":8013.5625093491553}]
["ID1184",350000,"INR",{"$f":"B654*VLOOKUP(C654,tblXrate[],2,0)","v":6232.7708406048987},"Accountant","India","2 to 3",1.5,{"$f":"VLOOKUP(F654,mapping!$L$2:$P$92,2,0)","v":0.34064763831408895},{"$f":"VLOOKUP($F654,mapping!$L$2:$P$92,3,0)","v":1388.78},{"$f":"VLOOKUP($F654,mapping!$L$2:$P$92,4,0)","v":"Developing Asia"},{"$f":"$D654*VLOOKUP($E654,'Charts data'!$A$2:$B$11,2,0)*VLOOKUP($G654,'Charts data'!$A$14:$B$18,2,0)/IF('Charts data'!$E$3=1,I654,1)/IF('Charts data'!$E$4=1,J654,1)","v":6232.7708406048987}]
["ID1195",540000,"INR",{"$f":"B655*VLOOKUP(C655,tblXrate[],2,0)","v":9616.275011218986},"Analyst","India","4 to 6",7.9,{"$f":"VLOOKUP(F655,mapping!$L$2:$P$92,2,0)","v":0.34064763831408895},{"$f":"VLOOKUP($F655,mapping!$L$2:$P$92,3,0)","v":1388.78},{"$f":"VLOOKUP($F655,mapping!$L$2:$P$92,4,0)","v":"Developing Asia"},{"$f":"$D655*VLOOKUP($E655,'Charts data'!$A$2:$B$11,2,0)*VLOOKUP($G655,'Charts data'!$A$14:$B$18,2,0)/IF('Charts data'!$E$3=1,I655,1)/IF('Charts data'!$E$4=1,J655,1)","v":9616.275011218986}]
["ID1202",480000,"INR",{"$f":"B656*VLOOKUP(C656,tblXrate[],2,0)","v":8547.8000099724322},"Consultant","India","8 Hrs",15,{"$f":"VLOOKUP(F656,mapping!$L$2:$P$92,2,0)","v":0.34064763831408895},{"$f":"VLOOKUP($F656,mapping!$L$2:$P$92,3,0)","v":1388.78},{"$f":"VLOOKUP($F656,mapping!$L$2:$P$92,4,0)","v":"Developing Asia"},{"$f":"$D656*VLOOKUP($E656,'Charts data'!$A$2:$B$11,2,0)*VLOOKUP($G656,'Charts data'!$A$14:$B$18,2,0)/IF('Charts data'!$E$3=1,I656,1)/IF('Charts data'!$E$4=1,J656,1)","v":8547.8000099724322}]
["ID1203",1100000,"INR",{"$f":"B657*VLOOKUP(C657,tblXrate[],2,0)","v":19588.708356186824},"Consultant","India","8 Hrs",13,{"$f":"VLOOKUP(F657,mapping!$L$2:$P$92,2,0)","v":0.34064763831408895},{"$f":"VLOOKUP($F657,mapping!$L$2:$P$92,3,0)","v":1388.78},{"$f":"VLOOKUP($F657,mapping!$L$2:$P$92,4,0)","v":"Developing Asia"},{"$f":"$D657*VLOOKUP($E657,'Charts data'!$A$2:$B$11,2,0)*VLOOKUP($G657,'Charts data'!$A$14:$B$18,2,0)/IF('Charts data'!$E$3=1,I657,1)/IF('Charts data'!$E$4=1,J657,1)","v":19588.708356186824}]
["ID1207",250000,"INR",{"$f":"B658*VLOOKUP(C658,tblXrate[],2,0)","v":4451.9791718606421},"Manager","India","4 to 6",1,{"$f":"VLOOKUP(F658,mapping!$L$2:$P$92,2,0)","v":0.34064763831408895},{"$f":"VLOOKUP($F658,mapping!$L$2:$P$92,3,0)","v":1388.78},{"$f":"VLOOKUP($F658,mapping!$L$2:$P$92,4,0)","v":"Developing Asia"},{"$f":"$D658*VLOOKUP($E658,'Charts data'!$A$2:$B$11,2,0)*VLOOKUP($G658,'Charts data'!$A$14:$B$18,2,0)/IF('Charts data'!$E$3=1,I658,1)/IF('Charts data'!$E$4=1,J658,1)","v":4451.9791718606421}]
["ID1210",900000,"INR",{"$f":"B659*VLOOKUP(C659,tblXrate[],2,0)","v":16027.125018698311},"Manager","India","1 or 2",13,{"$f":"VLOOKUP(F659,mapping!$L$2:$P$92,2,0)","v":0.34064763831408895},{"$f":"VLOOKUP($F659,mapping!$L$2:$P$92,3,0)","v":1388.78},{"$f":"VLOOKUP($F659,mapping!$L$2:$P$92,4,0)","v":"Developing Asia"},{"$f":"$D659*VLOOKUP($E659,'Charts data'!$A$2:$B$11,2,0)*VLOOKUP($G659,'Charts data'!$A$14:$B$18,2,0)/IF('Charts data'!$E$3=1,I659,1)/IF('Charts data'!$E$4=1,J659,1)","v":16027.125018698311}]
["ID1214",500000,"INR",{"$f":"B660*VLOOKUP(C660,tblXrate[],2,0)","v":8903.9583437212841},"Consultant","India","2 to 3",3,{"$f":"VLOOKUP(F660,mapping!$L$2:$P$92,2,0)","v":0.34064763831408895},{"$f":"VLOOKUP($F660,mapping!$L$2:$P$92,3,0)","v":1388.78},{"$f":"VLOOKUP($F660,mapping!$L$2:$P$92,4,0)","v":"Developing Asia"},{"$f":"$D660*VLOOKUP($E660,'Charts data'!$A$2:$B$11,2,0)*VLOOKUP($G660,'Charts data'!$A$14:$B$18,2,0)/IF('Charts data'!$E$3=1,I660,1)/IF('Charts data'!$E$4=1,J660,1)","v":8903.9583437212841}]
["ID1216",2600000,"INR",{"$f":"B661*VLOOKUP(C661,tblXrate[],2,0)","v":46300.583387350678},"Manager","India","4 to 6",4,{"$f":"VLOOKUP(F661,mapping!$L$2:$P$92,2,0)","v":0.34064763831408895},{"$f":"VLOOKUP($F661,mapping!$L$2:$P$92,3,0)","v":1388.78},{"$f":"VLOOKUP($F661,mapping!$L$2:$P$92,4,0)","v":"Developing Asia"},{"$f":"$D661*VLOOKUP($E661,'Charts data'!$A$2:$B$11,2,0)*VLOOKUP($G661,'Charts data'!$A$14:$B$18,2,0)/IF('Charts data'!$E$3=1,I661,1)/IF('Charts data'!$E$4=1,J661,1)","v":46300.583387350678}]
["ID1217",750000,"INR",{"$f":"B662*VLOOKUP(C662,tblXrate[],2,0)","v":13355.937515581925},"Manager","India","2 to 3",3,{"$f":"VLOOKUP(F662,mapping!$L$2:$P$92,2,0)","v":0.34064763831408895},{"$f":"VLOOKUP($F662,mapping!$L$2:$P$92,3,0)","v":1388.78},{"$f":"VLOOKUP($F662,mapping!$L$2:$P$92,4,0)","v":"Developing Asia"},{"$f":"$D662*VLOOKUP($E662,'Charts data'!$A$2:$B$11,2,0)*VLOOKUP($G662,'Charts data'!$A$14:$B$18,2,0)/IF('Charts data'!$E$3=1,I662,1)/IF('Charts data'!$E$4=1,J662,1)","v":13355.937515581925}]
["ID1223",450000,"INR",{"$f":"B663*VLOOKUP(C663,tblXrate[],2,0)","v":8013.5625093491553},"Manager","India","8 Hrs",2,{"$f":"VLOOKUP(F663,mapping!$L$2:$P$92,2,0)","v":0.34064763831408895},{"$f":"VLOOKUP($F663,mapping!$L$2:$P$92,3,0)","v":1388.78},{"$f":"VLOOKUP($F663,mapping!$L$2:$P$92,4,0)","v":"Developing Asia"},{"$f":"$D663*VLOOKUP($E663,'Charts data'!$A$2:$B$11,2,0)*VLOOKUP($G663,'Charts data'!$A$14:$B$18,2,0)/IF('Charts data'!$E$3=1,I663,1)/IF('Charts data'!$E$4=1,J663,1)","v":8013.5625093491553}]
["ID1224",1000000,"INR",{"$f":"B664*VLOOKUP(C664,tblXrate[],2,0)","v":17807.916687442568},"Manager","India","4 to 6",8.5,{"$f":"VLOOKUP(F664,mapping!$L$2:$P$92,2,0)","v":0.34064763831408895},{"$f":"VLOOKUP($F664,mapping!$L$2:$P$92,3,0)","v":1388.78},{"$f":"VLOOKUP($F664,mapping!$L$2:$P$92,4,0)","v":"Developing Asia"},{"$f":"$D664*VLOOKUP($E664,'Charts data'!$A$2:$B$11,2,0)*VLOOKUP($G664,'Charts data'!$A$14:$B$18,2,0)/IF('Charts data'!$E$3=1,I664,1)/IF('Charts data'!$E$4=1,J664,1)","v":17807.916687442568}]
["ID1225",700000,"INR",{"$f":"B665*VLOOKUP(C665,tblXrate[],2,0)","v":12465.541681209797},"Reporting","India","4 to 6",6,{"$f":"VLOOKUP(F665,mapping!$L$2:$P$92,2,0)","v":0.34064763831408895},{"$f":"VLOOKUP($F665,mapping!$L$2:$P$92,3,0)","v":1388.78},{"$f":"VLOOKUP($F665,mapping!$L$2:$P$92,4,0)","v":"Developing Asia"},{"$f":"$D665*VLOOKUP($E665,'Charts data'!$A$2:$B$11,2,0)*VLOOKUP($G665,'Charts data'!$A$14:$B$18,2,0)/IF('Charts data'!$E$3=1,I665,1)/IF('Charts data'!$E$4=1,J665,1)","v":12465.541681209797}]
["ID1230",300000,"INR",{"$f":"B666*VLOOKUP(C666,tblXrate[],2,0)","v":5342.3750062327708},"Analyst","India","4 to 6",6,{"$f":"VLOOKUP(F666,mapping!$L$2:$P$92,2,0)","v":0.34064763831408895},{"$f":"VLOOKUP($F666,mapping!$L$2:$P$92,3,0)","v":1388.78},{"$f":"VLOOKUP($F666,mapping!$L$2:$P$92,4,0)","v":"Developing Asia"},{"$f":"$D666*VLOOKUP($E666,'Charts data'!$A$2:$B$11,2,0)*VLOOKUP($G666,'Charts data'!$A$14:$B$18,2,0)/IF('Charts data'!$E$3=1,I666,1)/IF('Charts data'!$E$4=1,J666,1)","v":5342.3750062327708}]
["ID1234",400000,"INR",{"$f":"B667*VLOOKUP(C667,tblXrate[],2,0)","v":7123.1666749770275},"Manager","India","4 to 6",1,{"$f":"VLOOKUP(F667,mapping!$L$2:$P$92,2,0)","v":0.34064763831408895},{"$f":"VLOOKUP($F667,mapping!$L$2:$P$92,3,0)","v":1388.78},{"$f":"VLOOKUP($F667,mapping!$L$2:$P$92,4,0)","v":"Developing Asia"},{"$f":"$D667*VLOOKUP($E667,'Charts data'!$A$2:$B$11,2,0)*VLOOKUP($G667,'Charts data'!$A$14:$B$18,2,0)/IF('Charts data'!$E$3=1,I667,1)/IF('Charts data'!$E$4=1,J667,1)","v":7123.1666749770275}]
["ID1278",500000,"INR",{"$f":"B668*VLOOKUP(C668,tblXrate[],2,0)","v":8903.9583437212841},"Manager","India","2 to 3",29,{"$f":"VLOOKUP(F668,mapping!$L$2:$P$92,2,0)","v":0.34064763831408895},{"$f":"VLOOKUP($F668,mapping!$L$2:$P$92,3,0)","v":1388.78},{"$f":"VLOOKUP($F668,mapping!$L$2:$P$92,4,0)","v":"Developing Asia"},{"$f":"$D668*VLOOKUP($E668,'Charts data'!$A$2:$B$11,2,0)*VLOOKUP($G668,'Charts data'!$A$14:$B$18,2,0)/IF('Charts data'!$E$3=1,I668,1)/IF('Charts data'!$E$4=1,J668,1)","v":8903.9583437212841}]
["ID1281",360000,"INR",{"$f":"B669*VLOOKUP(C669,tblXrate[],2,0)","v":6410.8500074793246},"Manager","India","8 Hrs",6,{"$f":"VLOOKUP(F669,mapping!$L$2:$P$92,2,0)","v":0.34064763831408895},{"$f":"VLOOKUP($F669,mapping!$L$2:$P$92,3,0)","v":1388.78},{"$f":"VLOOKUP($F669,mapping!$L$2:$P$92,4,0)","v":"Developing Asia"},{"$f":"$D669*VLOOKUP($E669,'Charts data'!$A$2:$B$11,2,0)*VLOOKUP($G669,'Charts data'!$A$14:$B$18,2,0)/IF('Charts data'!$E$3=1,I669,1)/IF('Charts data'!$E$4=1,J669,1)","v":6410.8500074793246}]
["ID1284",1000000,"INR",{"$f":"B670*VLOOKUP(C670,tblXrate[],2,0)","v":17807.916687442568},"Manager","India","2 to 3",10,{"$f":"VLOOKUP(F670,mapping!$L$2:$P$92,2,0)","v":0.34064763831408895},{"$f":"VLOOKUP($F670,mapping!$L$2:$P$92,3,0)","v":1388.78},{"$f":"VLOOKUP($F670,mapping!$L$2:$P$92,4,0)","v":"Developing Asia"},{"$f":"$D670*VLOOKUP($E670,'Charts data'!$A$2:$B$11,2,0)*VLOOKUP($G670,'Charts data'!$A$14:$B$18,2,0)/IF('Charts data'!$E$3=1,I670,1)/IF('Charts data'!$E$4=1,J670,1)","v":17807.916687442568}]
["ID1285",900000,"INR",{"$f":"B671*VLOOKUP(C671,tblXrate[],2,0)","v":16027.125018698311},"Controller","India","8 Hrs",8,{"$f":"VLOOKUP(F671,mapping!$L$2:$P$92,2,0)","v":0.34064763831408895},{"$f":"VLOOKUP($F671,mapping!$L$2:$P$92,3,0)","v":1388.78},{"$f":"VLOOKUP($F671,mapping!$L$2:$P$92,4,0)","v":"Developing Asia"},{"$f":"$D671*VLOOKUP($E671,'Charts data'!$A$2:$B$11,2,0)*VLOOKUP($G671,'Charts data'!$A$14:$B$18,2,0)/IF('Charts data'!$E$3=1,I671,1)/IF('Charts data'!$E$4=1,J671,1)","v":16027.125018698311}]
["ID1289",300000,"INR",{"$f":"B672*VLOOKUP(C672,tblXrate[],2,0)","v":5342.3750062327708},"Reporting","India","2 to 3",5,{"$f":"VLOOKUP(F672,mapping!$L$2:$P$92,2,0)","v":0.34064763831408895},{"$f":"VLOOKUP($F672,mapping!$L$2:$P$92,3,0)","v":1388.78},{"$f":"VLOOKUP($F672,mapping!$L$2:$P$92,4,0)","v":"Developing Asia"},{"$f":"$D672*VLOOKUP($E672,'Charts data'!$A$2:$B$11,2,0)*VLOOKUP($G672,'Charts data'!$A$14:$B$18,2,0)/IF('Charts data'!$E$3=1,I672,1)/IF('Charts data'!$E$4=1,J672,1)","v":5342.3750062327708}]
["ID1290",400000,"INR",{"$f":"B673*VLOOKUP(C673,tblXrate[],2,0)","v":7123.1666749770275},"Manager","India","8 Hrs",3,{"$f":"VLOOKUP(F673,mapping!$L$2:$P$92,2,0)","v":0.34064763831408895},{"$f":"VLOOKUP($F673,mapping!$L$2:$P$92,3,0)","v":1388.78},{"$f":"VLOOKUP($F673,mapping!$L$2:$P$92,4,0)","v":"Developing Asia"},{"$f":"$D673*VLOOKUP($E673,'Charts data'!$A$2:$B$11,2,0)*VLOOKUP($G673,'Charts data'!$A$14:$B$18,2,0)/IF('Charts data'!$E$3=1,I673,1)/IF('Charts data'!$E$4=1,J673,1)","v":7123.1666749770275}]
["ID1299",600000,"INR",{"$f":"B674*VLOOKUP(C674,tblXrate[],2,0)","v":10684.750012465542},"Manager","India","2 to 3",2,{"$f":"VLOOKUP(F674,mapping!$L$2:$P$92,2,0)","v":0.34064763831408895},{"$f":"VLOOKUP($F674,mapping!$L$2:$P$92,3,0)","v":1388.78},{"$f":"VLOOKUP($F674,mapping!$L$2:$P$92,4,0)","v":"Developing Asia"},{"$f":"$D674*VLOOKUP($E674,'Charts data'!$A$2:$B$11,2,0)*VLOOKUP($G674,'Charts data'!$A$14:$B$18,2,0)/IF('Charts data'!$E$3=1,I674,1)/IF('Charts data'!$E$4=1,J674,1)","v":10684.750012465542}]
["ID1301",350000,"INR",{"$f":"B675*VLOOKUP(C675,tblXrate[],2,0)","v":6232.7708406048987},"Analyst","India","4 to 6",1.5,{"$f":"VLOOKUP(F675,mapping!$L$2:$P$92,2,0)","v":0.34064763831408895},{"$f":"VLOOKUP($F675,mapping!$L$2:$P$92,3,0)","v":1388.78},{"$f":"VLOOKUP($F675,mapping!$L$2:$P$92,4,0)","v":"Developing Asia"},{"$f":"$D675*VLOOKUP($E675,'Charts data'!$A$2:$B$11,2,0)*VLOOKUP($G675,'Charts data'!$A$14:$B$18,2,0)/IF('Charts data'!$E$3=1,I675,1)/IF('Charts data'!$E$4=1,J675,1)","v":6232.7708406048987}]
["ID1304",1500000,"INR",{"$f":"B676*VLOOKUP(C676,tblXrate[],2,0)","v":26711.875031163851},"Analyst","India","4 to 6",7,{"$f":"VLOOKUP(F676,mapping!$L$2:$P$92,2,0)","v":0.34064763831408895},{"$f":"VLOOKUP($F676,mapping!$L$2:$P$92,3,0)","v":1388.78},{"$f":"VLOOKUP($F676,mapping!$L$2:$P$92,4,0)","v":"Developing Asia"},{"$f":"$D676*VLOOKUP($E676,'Charts data'!$A$2:$B$11,2,0)*VLOOKUP($G676,'Charts data'!$A$14:$B$18,2,0)/IF('Charts data'!$E$3=1,I676,1)/IF('Charts data'!$E$4=1,J676,1)","v":26711.875031163851}]
["ID1308",575000,"INR",{"$f":"B677*VLOOKUP(C677,tblXrate[],2,0)","v":10239.552095279476},"Manager","India","2 to 3",5,{"$f":"VLOOKUP(F677,mapping!$L$2:$P$92,2,0)","v":0.34064763831408895},{"$f":"VLOOKUP($F677,mapping!$L$2:$P$92,3,0)","v":1388.78},{"$f":"VLOOKUP($F677,mapping!$L$2:$P$92,4,0)","v":"Developing Asia"},{"$f":"$D677*VLOOKUP($E677,'Charts data'!$A$2:$B$11,2,0)*VLOOKUP($G677,'Charts data'!$A$14:$B$18,2,0)/IF('Charts data'!$E$3=1,I677,1)/IF('Charts data'!$E$4=1,J677,1)","v":10239.552095279476}]
["ID1309",500000,"INR",{"$f":"B678*VLOOKUP(C678,tblXrate[],2,0)","v":8903.9583437212841},"Engineer","India","4 to 6",2,{"$f":"VLOOKUP(F678,mapping!$L$2:$P$92,2,0)","v":0.34064763831408895},{"$f":"VLOOKUP($F678,mapping!$L$2:$P$92,3,0)","v":1388.78},{"$f":"VLOOKUP($F678,mapping!$L$2:$P$92,4,0)","v":"Developing Asia"},{"$f":"$D678*VLOOKUP($E678,'Charts data'!$A$2:$B$11,2,0)*VLOOKUP($G678,'Charts data'!$A$14:$B$18,2,0)/IF('Charts data'!$E$3=1,I678,1)/IF('Charts data'!$E$4=1,J678,1)","v":8903.9583437212841}]
["ID1311",210000,"INR",{"$f":"B679*VLOOKUP(C679,tblXrate[],2,0)","v":3739.6625043629392},"Reporting","India","1 or 2",4.5,{"$f":"VLOOKUP(F679,mapping!$L$2:$P$92,2,0)","v":0.34064763831408895},{"$f":"VLOOKUP($F679,mapping!$L$2:$P$92,3,0)","v":1388.78},{"$f":"VLOOKUP($F679,mapping!$L$2:$P$92,4,0)","v":"Developing Asia"},{"$f":"$D679*VLOOKUP($E679,'Charts data'!$A$2:$B$11,2,0)*VLOOKUP($G679,'Charts data'!$A$14:$B$18,2,0)/IF('Charts data'!$E$3=1,I679,1)/IF('Charts data'!$E$4=1,J679,1)","v":3739.6625043629392}]
["ID1313",200000,"INR",{"$f":"B680*VLOOKUP(C680,tblXrate[],2,0)","v":3561.5833374885137},"Reporting","India","2 to 3",3,{"$f":"VLOOKUP(F680,mapping!$L$2:$P$92,2,0)","v":0.34064763831408895},{"$f":"VLOOKUP($F680,mapping!$L$2:$P$92,3,0)","v":1388.78},{"$f":"VLOOKUP($F680,mapping!$L$2:$P$92,4,0)","v":"Developing Asia"},{"$f":"$D680*VLOOKUP($E680,'Charts data'!$A$2:$B$11,2,0)*VLOOKUP($G680,'Charts data'!$A$14:$B$18,2,0)/IF('Charts data'!$E$3=1,I680,1)/IF('Charts data'!$E$4=1,J680,1)","v":3561.5833374885137}]
["ID1314",360000,"INR",{"$f":"B681*VLOOKUP(C681,tblXrate[],2,0)","v":6410.8500074793246},"Analyst","India","8 Hrs",6,{"$f":"VLOOKUP(F681,mapping!$L$2:$P$92,2,0)","v":0.34064763831408895},{"$f":"VLOOKUP($F681,mapping!$L$2:$P$92,3,0)","v":1388.78},{"$f":"VLOOKUP($F681,mapping!$L$2:$P$92,4,0)","v":"Developing Asia"},{"$f":"$D681*VLOOKUP($E681,'Charts data'!$A$2:$B$11,2,0)*VLOOKUP($G681,'Charts data'!$A$14:$B$18,2,0)/IF('Charts data'!$E$3=1,I681,1)/IF('Charts data'!$E$4=1,J681,1)","v":6410.8500074793246}]
["ID1318",1200000,"INR",{"$f":"B682*VLOOKUP(C682,tblXrate[],2,0)","v":21369.500024931083},"Manager","India","4 to 6",9,{"$f":"VLOOKUP(F682,mapping!$L$2:$P$92,2,0)","v":0.34064763831408895},{"$f":"VLOOKUP($F682,mapping!$L$2:$P$92,3,0)","v":1388.78},{"$f":"VLOOKUP($F682,mapping!$L$2:$P$92,4,0)","v":"Developing Asia"},{"$f":"$D682*VLOOKUP($E682,'Charts data'!$A$2:$B$11,2,0)*VLOOKUP($G682,'Charts data'!$A$14:$B$18,2,0)/IF('Charts data'!$E$3=1,I682,1)/IF('Charts data'!$E$4=1,J682,1)","v":21369.500024931083}]
["ID1319",600000,"INR",{"$f":"B683*VLOOKUP(C683,tblXrate[],2,0)","v":10684.750012465542},"Manager","India","2 to 3",28,{"$f":"VLOOKUP(F683,mapping!$L$2:$P$92,2,0)","v":0.34064763831408895},{"$f":"VLOOKUP($F683,mapping!$L$2:$P$92,3,0)","v":1388.78},{"$f":"VLOOKUP($F683,mapping!$L$2:$P$92,4,0)","v":"Developing Asia"},{"$f":"$D683*VLOOKUP($E683,'Charts data'!$A$2:$B$11,2,0)*VLOOKUP($G683,'Charts data'!$A$14:$B$18,2,0)/IF('Charts data'!$E$3=1,I683,1)/IF('Charts data'!$E$4=1,J683,1)","v":10684.750012465542}]
["ID1324",314000,"INR",{"$f":"B684*VLOOKUP(C684,tblXrate[],2,0)","v":5591.6858398569666},"Manager","India","1 or 2",0.1,{"$f":"VLOOKUP(F684,mapping!$L$2:$P$92,2,0)","v":0.34064763831408895},{"$f":"VLOOKUP($F684,mapping!$L$2:$P$92,3,0)","v":1388.78},{"$f":"VLOOKUP($F684,mapping!$L$2:$P$92,4,0)","v":"Developing Asia"},{"$f":"$D684*VLOOKUP($E684,'Charts data'!$A$2:$B$11,2,0)*VLOOKUP($G684,'Charts data'!$A$14:$B$18,2,0)/IF('Charts data'!$E$3=1,I684,1)/IF('Charts data'!$E$4=1,J684,1)","v":5591.6858398569666}]
["ID1329",660000,"INR",{"$f":"B685*VLOOKUP(C685,tblXrate[],2,0)","v":11753.225013712095},"Manager","India","8 Hrs",7,{"$f":"VLOOKUP(F685,mapping!$L$2:$P$92,2,0)","v":0.34064763831408895},{"$f":"VLOOKUP($F685,mapping!$L$2:$P$92,3,0)","v":1388.78},{"$f":"VLOOKUP($F685,mapping!$L$2:$P$92,4,0)","v":"Developing Asia"},{"$f":"$D685*VLOOKUP($E685,'Charts data'!$A$2:$B$11,2,0)*VLOOKUP($G685,'Charts data'!$A$14:$B$18,2,0)/IF('Charts data'!$E$3=1,I685,1)/IF('Charts data'!$E$4=1,J685,1)","v":11753.225013712095}]
["ID1330",204000,"INR",{"$f":"B686*VLOOKUP(C686,tblXrate[],2,0)","v":3632.815004238284},"Reporting","India","8 Hrs",2,{"$f":"VLOOKUP(F686,mapping!$L$2:$P$92,2,0)","v":0.34064763831408895},{"$f":"VLOOKUP($F686,mapping!$L$2:$P$92,3,0)","v":1388.78},{"$f":"VLOOKUP($F686,mapping!$L$2:$P$92,4,0)","v":"Developing Asia"},{"$f":"$D686*VLOOKUP($E686,'Charts data'!$A$2:$B$11,2,0)*VLOOKUP($G686,'Charts data'!$A$14:$B$18,2,0)/IF('Charts data'!$E$3=1,I686,1)/IF('Charts data'!$E$4=1,J686,1)","v":3632.815004238284}]
["ID1334",275000,"INR",{"$f":"B687*VLOOKUP(C687,tblXrate[],2,0)","v":4897.177089046706},"Manager","India","8 Hrs",4,{"$f":"VLOOKUP(F687,mapping!$L$2:$P$92,2,0)","v":0.34064763831408895},{"$f":"VLOOKUP($F687,mapping!$L$2:$P$92,3,0)","v":1388.78},{"$f":"VLOOKUP($F687,mapping!$L$2:$P$92,4,0)","v":"Developing Asia"},{"$f":"$D687*VLOOKUP($E687,'Charts data'!$A$2:$B$11,2,0)*VLOOKUP($G687,'Charts data'!$A$14:$B$18,2,0)/IF('Charts data'!$E$3=1,I687,1)/IF('Charts data'!$E$4=1,J687,1)","v":4897.177089046706}]
["ID1338",300000,"INR",{"$f":"B688*VLOOKUP(C688,tblXrate[],2,0)","v":5342.3750062327708},"Analyst","India","8 Hrs",3,{"$f":"VLOOKUP(F688,mapping!$L$2:$P$92,2,0)","v":0.34064763831408895},{"$f":"VLOOKUP($F688,mapping!$L$2:$P$92,3,0)","v":1388.78},{"$f":"VLOOKUP($F688,mapping!$L$2:$P$92,4,0)","v":"Developing Asia"},{"$f":"$D688*VLOOKUP($E688,'Charts data'!$A$2:$B$11,2,0)*VLOOKUP($G688,'Charts data'!$A$14:$B$18,2,0)/IF('Charts data'!$E$3=1,I688,1)/IF('Charts data'!$E$4=1,J688,1)","v":5342.3750062327708}]
["ID1339",500000,"INR",{"$f":"B689*VLOOKUP(C689,tblXrate[],2,0)","v":8903.9583437212841},"Manager","India","2 to 3",5,{"$f":"VLOOKUP(F689,mapping!$L$2:$P$92,2,0)","v":0.34064763831408895},{"$f":"VLOOKUP($F689,mapping!$L$2:$P$92,3,0)","v":1388.78},{"$f":"VLOOKUP($F689,mapping!$L$2:$P$92,4,0)","v":"Developing Asia"},{"$f":"$D689*VLOOKUP($E689,'Charts data'!$A$2:$B$11,2,0)*VLOOKUP($G689,'Charts data'!$A$14:$B$18,2,0)/IF('Charts data'!$E$3=1,I689,1)/IF('Charts data'!$E$4=1,J689,1)","v":8903.9583437212841}]
["ID1341",600000,"INR",{"$f":"B690*VLOOKUP(C690,tblXrate[],2,0)","v":10684.750012465542},"Manager","India","1 or 2",7,{"$f":"VLOOKUP(F690,mapping!$L$2:$P$92,2,0)","v":0.34064763831408895},{"$f":"VLOOKUP($F690,mapping!$L$2:$P$92,3,0)","v":1388.78},{"$f":"VLOOKUP($F690,mapping!$L$2:$P$92,4,0)","v":"Developing Asia"},{"$f":"$D690*VLOOKUP($E690,'Charts data'!$A$2:$B$11,2,0)*VLOOKUP($G690,'Charts data'!$A$14:$B$18,2,0)/IF('Charts data'!$E$3=1,I690,1)/IF('Charts data'!$E$4=1,J690,1)","v":10684.750012465542}]
["ID1342",1200000,"INR",{"$f":"B691*VLOOKUP(C691,tblXrate[],2,0)","v":21369.500024931083},"Consultant","India","2 to 3",21,{"$f":"VLOOKUP(F691,mapping!$L$2:$P$92,2,0)","v":0.34064763831408895},{"$f":"VLOOKUP($F691,mapping!$L$2:$P$92,3,0)","v":1388.78},{"$f":"VLOOKUP($F691,mapping!$L$2:$P$92,4,0)","v":"Developing Asia"},{"$f":"$D691*VLOOKUP($E691,'Charts data'!$A$2:$B$11,2,0)*VLOOKUP($G691,'Charts data'!$A$14:$B$18,2,0)/IF('Charts data'!$E$3=1,I691,1)/IF('Charts data'!$E$4=1,J691,1)","v":21369.500024931083}]
["ID1345",1600000,"INR",{"$f":"B692*VLOOKUP(C692,tblXrate[],2,0)","v":28492.66669990811},"Analyst","India","2 to 3",4,{"$f":"VLOOKUP(F692,mapping!$L$2:$P$92,2,0)","v":0.34064763831408895},{"$f":"VLOOKUP($F692,mapping!$L$2:$P$92,3,0)","v":1388.78},{"$f":"VLOOKUP($F692,mapping!$L$2:$P$92,4,0)","v":"Developing Asia"},{"$f":"$D692*VLOOKUP($E692,'Charts data'!$A$2:$B$11,2,0)*VLOOKUP($G692,'Charts data'!$A$14:$B$18,2,0)/IF('Charts data'!$E$3=1,I692,1)/IF('Charts data'!$E$4=1,J692,1)","v":28492.66669990811}]
["ID1360",250000,"INR",{"$f":"B693*VLOOKUP(C693,tblXrate[],2,0)","v":4451.9791718606421},"Analyst","India","8 Hrs",8,{"$f":"VLOOKUP(F693,mapping!$L$2:$P$92,2,0)","v":0.34064763831408895},{"$f":"VLOOKUP($F693,mapping!$L$2:$P$92,3,0)","v":1388.78},{"$f":"VLOOKUP($F693,mapping!$L$2:$P$92,4,0)","v":"Developing Asia"},{"$f":"$D693*VLOOKUP($E693,'Charts data'!$A$2:$B$11,2,0)*VLOOKUP($G693,'Charts data'!$A$14:$B$18,2,0)/IF('Charts data'!$E$3=1,I693,1)/IF('Charts data'!$E$4=1,J693,1)","v":4451.9791718606421}]
["ID1363",450000,"INR",{"$f":"B694*VLOOKUP(C694,tblXrate[],2,0)","v":8013.5625093491553},"Engineer","India","1 or 2",7,{"$f":"VLOOKUP(F694,mapping!$L$2:$P$92,2,0)","v":0.34064763831408895},{"$f":"VLOOKUP($F694,mapping!$L$2:$P$92,3,0)","v":1388.78},{"$f":"VLOOKUP($F694,mapping!$L$2:$P$92,4,0)","v":"Developing Asia"},{"$f":"$D694*VLOOKUP($E694,'Charts data'!$A$2:$B$11,2,0)*VLOOKUP($G694,'Charts data'!$A$14:$B$18,2,0)/IF('Charts data'!$E$3=1,I694,1)/IF('Charts data'!$E$4=1,J694,1)","v":8013.5625093491553}]
["ID1366",2210000,"INR",{"$f":"B695*VLOOKUP(C695,tblXrate[],2,0)","v":39355.495879248076},"Analyst","India","1 or 2",5.6,{"$f":"VLOOKUP(F695,mapping!$L$2:$P$92,2,0)","v":0.34064763831408895},{"$f":"VLOOKUP($F695,mapping!$L$2:$P$92,3,0)","v":1388.78},{"$f":"VLOOKUP($F695,mapping!$L$2:$P$92,4,0)","v":"Developing Asia"},{"$f":"$D695*VLOOKUP($E695,'Charts data'!$A$2:$B$11,2,0)*VLOOKUP($G695,'Charts data'!$A$14:$B$18,2,0)/IF('Charts data'!$E$3=1,I695,1)/IF('Charts data'!$E$4=1,J695,1)","v":39355.495879248076}]
["ID1390",250000,"INR",{"$f":"B696*VLOOKUP(C696,tblXrate[],2,0)","v":4451.9791718606421},"Manager","India","1 or 2",15,{"$f":"VLOOKUP(F696,mapping!$L$2:$P$92,2,0)","v":0.34064763831408895},{"$f":"VLOOKUP($F696,mapping!$L$2:$P$92,3,0)","v":1388.78},{"$f":"VLOOKUP($F696,mapping!$L$2:$P$92,4,0)","v":"Developing Asia"},{"$f":"$D696*VLOOKUP($E696,'Charts data'!$A$2:$B$11,2,0)*VLOOKUP($G696,'Charts data'!$A$14:$B$18,2,0)/IF('Charts data'!$E$3=1,I696,1)/IF('Charts data'!$E$4=1,J696,1)","v":4451.9791718606421}]
["ID1423",750000,"INR",{"$f":"B697*VLOOKUP(C697,tblXrate[],2,0)","v":13355.937515581925},"CXO or Top Mgmt.","India","1 or 2",1,{"$f":"VLOOKUP(F697,mapping!$L$2:$P$92,2,0)","v":0.34064763831408895},{"$f":"VLOOKUP($F697,mapping!$L$2:$P$92,3,0)","v":1388.78},{"$f":"VLOOKUP($F697,mapping!$L$2:$P$92,4,0)","v":"Developing Asia"},{"$f":"$D697*VLOOKUP($E697,'Charts data'!$A$2:$B$11,2,0)*VLOOKUP($G697,'Charts data'!$A$14:$B$18,2,0)/IF('Charts data'!$E$3=1,I697,1)/IF('Charts data'!$E$4=1,J697,1)","v":13355.937515581925}]
["ID1436",3250000,"INR",{"$f":"B698*VLOOKUP(C698,tblXrate[],2,0)","v":57875.729234188344},"Analyst","India","4 to 6",5.5,{"$f":"VLOOKUP(F698,mapping!$L$2:$P$92,2,0)","v":0.34064763831408895},{"$f":"VLOOKUP($F698,mapping!$L$2:$P$92,3,0)","v":1388.78},{"$f":"VLOOKUP($F698,mapping!$L$2:$P$92,4,0)","v":"Developing Asia"},{"$f":"$D698*VLOOKUP($E698,'Charts data'!$A$2:$B$11,2,0)*VLOOKUP($G698,'Charts data'!$A$14:$B$18,2,0)/IF('Charts data'!$E$3=1,I698,1)/IF('Charts data'!$E$4=1,J698,1)","v":57875.729234188344}]
["ID1448",300000,"INR",{"$f":"B699*VLOOKUP(C699,tblXrate[],2,0)","v":5342.3750062327708},"Accountant","India","4 to 6",4,{"$f":"VLOOKUP(F699,mapping!$L$2:$P$92,2,0)","v":0.34064763831408895},{"$f":"VLOOKUP($F699,mapping!$L$2:$P$92,3,0)","v":1388.78},{"$f":"VLOOKUP($F699,mapping!$L$2:$P$92,4,0)","v":"Developing Asia"},{"$f":"$D699*VLOOKUP($E699,'Charts data'!$A$2:$B$11,2,0)*VLOOKUP($G699,'Charts data'!$A$14:$B$18,2,0)/IF('Charts data'!$E$3=1,I699,1)/IF('Charts data'!$E$4=1,J699,1)","v":5342.3750062327708}]
["ID1450",480000,"INR",{"$f":"B700*VLOOKUP(C700,tblXrate[],2,0)","v":8547.8000099724322},"Analyst","India","4 to 6",7,{"$f":"VLOOKUP(F700,mapping!$L$2:$P$92,2,0)","v":0.34064763831408895},{"$f":"VLOOKUP($F700,mapping!$L$2:$P$92,3,0)","v":1388.78},{"$f":"VLOOKUP($F700,mapping!$L$2:$P$92,4,0)","v":"Developing Asia"},{"$f":"$D700*VLOOKUP($E700,'Charts data'!$A$2:$B$11,2,0)*VLOOKUP($G700,'Charts data'!$A$14:$B$18,2,0)/IF('Charts data'!$E$3=1,I700,1)/IF('Charts data'!$E$4=1,J700,1)","v":8547.8000099724322}]
["ID1451",900000,"INR",{"$f":"B701*VLOOKUP(C701,tblXrate[],2,0)","v":16027.125018698311},"Analyst","India","4 to 6",4,{"$f":"VLOOKUP(F701,mapping!$L$2:$P$92,2,0)","v":0.34064763831408895},{"$f":"VLOOKUP($F701,mapping!$L$2:$P$92,3,0)","v":1388.78},{"$f":"VLOOKUP($F701,mapping!$L$2:$P$92,4,0)","v":"Developing Asia"},{"$f":"$D701*VLOOKUP($E701,'Charts data'!$A$2:$B$11,2,0)*VLOOKUP($G701,'Charts data'!$A$14:$B$18,2,0)/IF('Charts data'!$E$3=1,I701,1)/IF('Charts data'!$E$4=1,J701,1)","v":16027.125018698311}]
["ID1452",600000,"INR",{"$f":"B702*VLOOKUP(C702,tblXrate[],2,0)","v":10684.750012465542},"Consultant","India","2 to 3",36,{"$f":"VLOOKUP(F702,mapping!$L$2:$P$92,2,0)","v":0.34064763831408895},{"$f":"VLOOKUP($F702,mapping!$L$2:$P$92,3,0)","v":1388.78},{"$f":"VLOOKUP($F702,mapping!$L$2:$P$92,4,0)","v":"Developing Asia"},{"$f":"$D702*VLOOKUP($E702,'Charts data'!$A$2:$B$11,2,0)*VLOOKUP($G702,'Charts data'!$A$14:$B$18,2,0)/IF('Charts data'!$E$3=1,I702,1)/IF('Charts data'!$E$4=1,J702,1)","v":10684.750012465542}]
["ID1454",500000,"INR",{"$f":"B703*VLOOKUP(C703,tblXrate[],2,0)","v":8903.9583437212841},"Manager","India","2 to 3",0,{"$f":"VLOOKUP(F703,mapping!$L$2:$P$92,2,0)","v":0.34064763831408895},{"$f":"VLOOKUP($F703,mapping!$L$2:$P$92,3,0)","v":1388.78},{"$f":"VLOOKUP($F703,mapping!$L$2:$P$92,4,0)","v":"Developing Asia"},{"$f":"$D703*VLOOKUP($E703,'Charts data'!$A$2:$B$11,2,0)*VLOOKUP($G703,'Charts data'!$A$14:$B$18,2,0)/IF('Charts data'!$E$3=1,I703,1)/IF('Charts data'!$E$4=1,J703,1)","v":8903.9583437212841}]
["ID1457",1000000,"INR",{"$f":"B704*VLOOKUP(C704,tblXrate[],2,0)","v":17807.916687442568},"Manager","India","8 Hrs",6,{"$f":"VLOOKUP(F704,mapping!$L$2:$P$92,2,0)","v":0.34064763831408895},{"$f":"VLOOKUP($F704,mapping!$L$2:$P$92,3,0)","v":1388.78},{"$f":"VLOOKUP($F704,mapping!$L$2:$P$92,4,0)","v":"Developing Asia"},{"$f":"$D704*VLOOKUP($E704,'Charts data'!$A$2:$B$11,2,0)*VLOOKUP($G704,'Charts data'!$A$14:$B$18,2,0)/IF('Charts data'!$E$3=1,I704,1)/IF('Charts data'!$E$4=1,J704,1)","v":17807.916687442568}]
["ID1462",320000,"INR",{"$f":"B705*VLOOKUP(C705,tblXrate[],2,0)","v":5698.5333399816218},"Analyst","India","2 to 3",2,{"$f":"VLOOKUP(F705,mapping!$L$2:$P$92,2,0)","v":0.34064763831408895},{"$f":"VLOOKUP($F705,mapping!$L$2:$P$92,3,0)","v":1388.78},{"$f":"VLOOKUP($F705,mapping!$L$2:$P$92,4,0)","v":"Developing Asia"},{"$f":"$D705*VLOOKUP($E705,'Charts data'!$A$2:$B$11,2,0)*VLOOKUP($G705,'Charts data'!$A$14:$B$18,2,0)/IF('Charts data'!$E$3=1,I705,1)/IF('Charts data'!$E$4=1,J705,1)","v":5698.5333399816218}]
["ID1463",400000,"INR",{"$f":"B706*VLOOKUP(C706,tblXrate[],2,0)","v":7123.1666749770275},"Manager","India","4 to 6",6,{"$f":"VLOOKUP(F706,mapping!$L$2:$P$92,2,0)","v":0.34064763831408895},{"$f":"VLOOKUP($F706,mapping!$L$2:$P$92,3,0)","v":1388.78},{"$f":"VLOOKUP($F706,mapping!$L$2:$P$92,4,0)","v":"Developing Asia"},{"$f":"$D706*VLOOKUP($E706,'Charts data'!$A$2:$B$11,2,0)*VLOOKUP($G706,'Charts data'!$A$14:$B$18,2,0)/IF('Charts data'!$E$3=1,I706,1)/IF('Charts data'!$E$4=1,J706,1)","v":7123.1666749770275}]
["ID1464",250000,"INR",{"$f":"B707*VLOOKUP(C707,tblXrate[],2,0)","v":4451.9791718606421},"Manager","India","2 to 3",15,{"$f":"VLOOKUP(F707,mapping!$L$2:$P$92,2,0)","v":0.34064763831408895},{"$f":"VLOOKUP($F707,mapping!$L$2:$P$92,3,0)","v":1388.78},{"$f":"VLOOKUP($F707,mapping!$L$2:$P$92,4,0)","v":"Developing Asia"},{"$f":"$D707*VLOOKUP($E707,'Charts data'!$A$2:$B$11,2,0)*VLOOKUP($G707,'Charts data'!$A$14:$B$18,2,0)/IF('Charts data'!$E$3=1,I707,1)/IF('Charts data'!$E$4=1,J707,1)","v":4451.9791718606421}]
["ID1465",360000,"INR",{"$f":"B708*VLOOKUP(C708,tblXrate[],2,0)","v":6410.8500074793246},"Analyst","India","2 to 3",6,{"$f":"VLOOKUP(F708,mapping!$L$2:$P$92,2,0)","v":0.34064763831408895},{"$f":"VLOOKUP($F708,mapping!$L$2:$P$92,3,0)","v":1388.78},{"$f":"VLOOKUP($F708,mapping!$L$2:$P$92,4,0)","v":"Developing Asia"},{"$f":"$D708*VLOOKUP($E708,'Charts data'!$A$2:$B$11,2,0)*VLOOKUP($G708,'Charts data'!$A$14:$B$18,2,0)/IF('Charts data'!$E$3=1,I708,1)/IF('Charts data'!$E$4=1,J708,1)","v":6410.8500074793246}]
["ID1466",1150000,"INR",{"$f":"B709*VLOOKUP(C709,tblXrate[],2,0)","v":20479.104190558952},"Manager","India","8 Hrs",12,{"$f":"VLOOKUP(F709,mapping!$L$2:$P$92,2,0)","v":0.34064763831408895},{"$f":"VLOOKUP($F709,mapping!$L$2:$P$92,3,0)","v":1388.78},{"$f":"VLOOKUP($F709,mapping!$L$2:$P$92,4,0)","v":"Developing Asia"},{"$f":"$D709*VLOOKUP($E709,'Charts data'!$A$2:$B$11,2,0)*VLOOKUP($G709,'Charts data'!$A$14:$B$18,2,0)/IF('Charts data'!$E$3=1,I709,1)/IF('Charts data'!$E$4=1,J709,1)","v":20479.104190558952}]
["ID1467",620000,"INR",{"$f":"B710*VLOOKUP(C710,tblXrate[],2,0)","v":11040.908346214392},"Analyst","India","1 or 2",5,{"$f":"VLOOKUP(F710,mapping!$L$2:$P$92,2,0)","v":0.34064763831408895},{"$f":"VLOOKUP($F710,mapping!$L$2:$P$92,3,0)","v":1388.78},{"$f":"VLOOKUP($F710,mapping!$L$2:$P$92,4,0)","v":"Developing Asia"},{"$f":"$D710*VLOOKUP($E710,'Charts data'!$A$2:$B$11,2,0)*VLOOKUP($G710,'Charts data'!$A$14:$B$18,2,0)/IF('Charts data'!$E$3=1,I710,1)/IF('Charts data'!$E$4=1,J710,1)","v":11040.908346214392}]
["ID1468",1000000,"INR",{"$f":"B711*VLOOKUP(C711,tblXrate[],2,0)","v":17807.916687442568},"Specialist","India","2 to 3",7,{"$f":"VLOOKUP(F711,mapping!$L$2:$P$92,2,0)","v":0.34064763831408895},{"$f":"VLOOKUP($F711,mapping!$L$2:$P$92,3,0)","v":1388.78},{"$f":"VLOOKUP($F711,mapping!$L$2:$P$92,4,0)","v":"Developing Asia"},{"$f":"$D711*VLOOKUP($E711,'Charts data'!$A$2:$B$11,2,0)*VLOOKUP($G711,'Charts data'!$A$14:$B$18,2,0)/IF('Charts data'!$E$3=1,I711,1)/IF('Charts data'!$E$4=1,J711,1)","v":17807.916687442568}]
["ID1469",200000,"INR",{"$f":"B712*VLOOKUP(C712,tblXrate[],2,0)","v":3561.5833374885137},"Analyst","India","4 to 6",11,{"$f":"VLOOKUP(F712,mapping!$L$2:$P$92,2,0)","v":0.34064763831408895},{"$f":"VLOOKUP($F712,mapping!$L$2:$P$92,3,0)","v":1388.78},{"$f":"VLOOKUP($F712,mapping!$L$2:$P$92,4,0)","v":"Developing Asia"},{"$f":"$D712*VLOOKUP($E712,'Charts data'!$A$2:$B$11,2,0)*VLOOKUP($G712,'Charts data'!$A$14:$B$18,2,0)/IF('Charts data'!$E$3=1,I712,1)/IF('Charts data'!$E$4=1,J712,1)","v":3561.5833374885137}]
["ID1474",230000,"INR",{"$f":"B713*VLOOKUP(C713,tblXrate[],2,0)","v":4095.8208381117906},"Analyst","India","4 to 6",1.6,{"$f":"VLOOKUP(F713,mapping!$L$2:$P$92,2,0)","v":0.34064763831408895},{"$f":"VLOOKUP($F713,mapping!$L$2:$P$92,3,0)","v":1388.78},{"$f":"VLOOKUP($F713,mapping!$L$2:$P$92,4,0)","v":"Developing Asia"},{"$f":"$D713*VLOOKUP($E713,'Charts data'!$A$2:$B$11,2,0)*VLOOKUP($G713,'Charts data'!$A$14:$B$18,2,0)/IF('Charts data'!$E$3=1,I713,1)/IF('Charts data'!$E$4=1,J713,1)","v":4095.8208381117906}]
["ID1478",720000,"INR",{"$f":"B714*VLOOKUP(C714,tblXrate[],2,0)","v":12821.700014958649},"Analyst","India","4 to 6",3,{"$f":"VLOOKUP(F714,mapping!$L$2:$P$92,2,0)","v":0.34064763831408895},{"$f":"VLOOKUP($F714,mapping!$L$2:$P$92,3,0)","v":1388.78},{"$f":"VLOOKUP($F714,mapping!$L$2:$P$92,4,0)","v":"Developing Asia"},{"$f":"$D714*VLOOKUP($E714,'Charts data'!$A$2:$B$11,2,0)*VLOOKUP($G714,'Charts data'!$A$14:$B$18,2,0)/IF('Charts data'!$E$3=1,I714,1)/IF('Charts data'!$E$4=1,J714,1)","v":12821.700014958649}]
["ID1503",278000,"INR",{"$f":"B715*VLOOKUP(C715,tblXrate[],2,0)","v":4950.6008391090336},"Reporting","India","8 Hrs",8,{"$f":"VLOOKUP(F715,mapping!$L$2:$P$92,2,0)","v":0.34064763831408895},{"$f":"VLOOKUP($F715,mapping!$L$2:$P$92,3,0)","v":1388.78},{"$f":"VLOOKUP($F715,mapping!$L$2:$P$92,4,0)","v":"Developing Asia"},{"$f":"$D715*VLOOKUP($E715,'Charts data'!$A$2:$B$11,2,0)*VLOOKUP($G715,'Charts data'!$A$14:$B$18,2,0)/IF('Charts data'!$E$3=1,I715,1)/IF('Charts data'!$E$4=1,J715,1)","v":4950.6008391090336}]
["ID1507",650000,"INR",{"$f":"B716*VLOOKUP(C716,tblXrate[],2,0)","v":11575.14584683767},"Analyst","India","4 to 6",21,{"$f":"VLOOKUP(F716,mapping!$L$2:$P$92,2,0)","v":0.34064763831408895},{"$f":"VLOOKUP($F716,mapping!$L$2:$P$92,3,0)","v":1388.78},{"$f":"VLOOKUP($F716,mapping!$L$2:$P$92,4,0)","v":"Developing Asia"},{"$f":"$D716*VLOOKUP($E716,'Charts data'!$A$2:$B$11,2,0)*VLOOKUP($G716,'Charts data'!$A$14:$B$18,2,0)/IF('Charts data'!$E$3=1,I716,1)/IF('Charts data'!$E$4=1,J716,1)","v":11575.14584683767}]
["ID1509",4000000,"INR",{"$f":"B717*VLOOKUP(C717,tblXrate[],2,0)","v":71231.666749770273},"Specialist","India","8 Hrs",5,{"$f":"VLOOKUP(F717,mapping!$L$2:$P$92,2,0)","v":0.34064763831408895},{"$f":"VLOOKUP($F717,mapping!$L$2:$P$92,3,0)","v":1388.78},{"$f":"VLOOKUP($F717,mapping!$L$2:$P$92,4,0)","v":"Developing Asia"},{"$f":"$D717*VLOOKUP($E717,'Charts data'!$A$2:$B$11,2,0)*VLOOKUP($G717,'Charts data'!$A$14:$B$18,2,0)/IF('Charts data'!$E$3=1,I717,1)/IF('Charts data'!$E$4=1,J717,1)","v":71231.666749770273}]
["ID1512",1500000,"INR",{"$f":"B718*VLOOKUP(C718,tblXrate[],2,0)","v":26711.875031163851},"Consultant","India","4 to 6",10,{"$f":"VLOOKUP(F718,mapping!$L$2:$P$92,2,0)","v":0.34064763831408895},{"$f":"VLOOKUP($F718,mapping!$L$2:$P$92,3,0)","v":1388.78},{"$f":"VLOOKUP($F718,mapping!$L$2:$P$92,4,0)","v":"Developing Asia"},{"$f":"$D718*VLOOKUP($E718,'Charts data'!$A$2:$B$11,2,0)*VLOOKUP($G718,'Charts data'!$A$14:$B$18,2,0)/IF('Charts data'!$E$3=1,I718,1)/IF('Charts data'!$E$4=1,J718,1)","v":26711.875031163851}]
["ID1513",536000,"INR",{"$f":"B719*VLOOKUP(C719,tblXrate[],2,0)","v":9545.0433444692171},"Manager","India","4 to 6",4,{"$f":"VLOOKUP(F719,mapping!$L$2:$P$92,2,0)","v":0.34064763831408895},{"$f":"VLOOKUP($F719,mapping!$L$2:$P$92,3,0)","v":1388.78},{"$f":"VLOOKUP($F719,mapping!$L$2:$P$92,4,0)","v":"Developing Asia"},{"$f":"$D719*VLOOKUP($E719,'Charts data'!$A$2:$B$11,2,0)*VLOOKUP($G719,'Charts data'!$A$14:$B$18,2,0)/IF('Charts data'!$E$3=1,I719,1)/IF('Charts data'!$E$4=1,J719,1)","v":9545.0433444692171}]
["ID1532",500000,"INR",{"$f":"B720*VLOOKUP(C720,tblXrate[],2,0)","v":8903.9583437212841},"Analyst","India","4 to 6",8,{"$f":"VLOOKUP(F720,mapping!$L$2:$P$92,2,0)","v":0.34064763831408895},{"$f":"VLOOKUP($F720,mapping!$L$2:$P$92,3,0)","v":1388.78},{"$f":"VLOOKUP($F720,mapping!$L$2:$P$92,4,0)","v":"Developing Asia"},{"$f":"$D720*VLOOKUP($E720,'Charts data'!$A$2:$B$11,2,0)*VLOOKUP($G720,'Charts data'!$A$14:$B$18,2,0)/IF('Charts data'!$E$3=1,I720,1)/IF('Charts data'!$E$4=1,J720,1)","v":8903.9583437212841}]
["ID1536",200000,"INR",{"$f":"B721*VLOOKUP(C721,tblXrate[],2,0)","v":3561.5833374885137},"Accountant","India","8 Hrs",3,{"$f":"VLOOKUP(F721,mapping!$L$2:$P$92,2,0)","v":0.34064763831408895},{"$f":"VLOOKUP($F721,mapping!$L$2:$P$92,3,0)","v":1388.78},{"$f":"VLOOKUP($F721,mapping!$L$2:$P$92,4,0)","v":"Developing Asia"},{"$f":"$D721*VLOOKUP($E721,'Charts data'!$A$2:$B$11,2,0)*VLOOKUP($G721,'Charts data'!$A$14:$B$18,2,0)/IF('Charts data'!$E$3=1,I721,1)/IF('Charts data'!$E$4=1,J721,1)","v":3561.5833374885137}]
["ID1540",380000,"INR",{"$f":"B722*VLOOKUP(C722,tblXrate[],2,0)","v":6767.0083412281756},"Analyst","India","2 to 3",6,{"$f":"VLOOKUP(F722,mapping!$L$2:$P$92,2,0)","v":0.34064763831408895},{"$f":"VLOOKUP($F722,mapping!$L$2:$P$92,3,0)","v":1388.78},{"$f":"VLOOKUP($F722,mapping!$L$2:$P$92,4,0)","v":"Developing Asia"},{"$f":"$D722*VLOOKUP($E722,'Charts data'!$A$2:$B$11,2,0)*VLOOKUP($G722,'Charts data'!$A$14:$B$18,2,0)/IF('Charts data'!$E$3=1,I722,1)/IF('Charts data'!$E$4=1,J722,1)","v":6767.0083412281756}]
["ID1547",180000,"INR",{"$f":"B723*VLOOKUP(C723,tblXrate[],2,0)","v":3205.4250037396623},"Manager","India","4 to 6",5,{"$f":"VLOOKUP(F723,mapping!$L$2:$P$92,2,0)","v":0.34064763831408895},{"$f":"VLOOKUP($F723,mapping!$L$2:$P$92,3,0)","v":1388.78},{"$f":"VLOOKUP($F723,mapping!$L$2:$P$92,4,0)","v":"Developing Asia"},{"$f":"$D723*VLOOKUP($E723,'Charts data'!$A$2:$B$11,2,0)*VLOOKUP($G723,'Charts data'!$A$14:$B$18,2,0)/IF('Charts data'!$E$3=1,I723,1)/IF('Charts data'!$E$4=1,J723,1)","v":3205.4250037396623}]
["ID1551",1000000,"INR",{"$f":"B724*VLOOKUP(C724,tblXrate[],2,0)","v":17807.916687442568},"Analyst","India","8 Hrs",10,{"$f":"VLOOKUP(F724,mapping!$L$2:$P$92,2,0)","v":0.34064763831408895},{"$f":"VLOOKUP($F724,mapping!$L$2:$P$92,3,0)","v":1388.78},{"$f":"VLOOKUP($F724,mapping!$L$2:$P$92,4,0)","v":"Developing Asia"},{"$f":"$D724*VLOOKUP($E724,'Charts data'!$A$2:$B$11,2,0)*VLOOKUP($G724,'Charts data'!$A$14:$B$18,2,0)/IF('Charts data'!$E$3=1,I724,1)/IF('Charts data'!$E$4=1,J724,1)","v":17807.916687442568}]
["ID1565",700000,"INR",{"$f":"B725*VLOOKUP(C725,tblXrate[],2,0)","v":12465.541681209797},"Manager","India","8 Hrs",30,{"$f":"VLOOKUP(F725,mapping!$L$2:$P$92,2,0)","v":0.34064763831408895},{"$f":"VLOOKUP($F725,mapping!$L$2:$P$92,3,0)","v":1388.78},{"$f":"VLOOKUP($F725,mapping!$L$2:$P$92,4,0)","v":"Developing Asia"},{"$f":"$D725*VLOOKUP($E725,'Charts data'!$A$2:$B$11,2,0)*VLOOKUP($G725,'Charts data'!$A$14:$B$18,2,0)/IF('Charts data'!$E$3=1,I725,1)/IF('Charts data'!$E$4=1,J725,1)","v":12465.541681209797}]
["ID1572",500000,"INR",{"$f":"B726*VLOOKUP(C726,tblXrate[],2,0)","v":8903.9583437212841},"Analyst","India","4 to 6",9,{"$f":"VLOOKUP(F726,mapping!$L$2:$P$92,2,0)","v":0.34064763831408895},{"$f":"VLOOKUP($F726,mapping!$L$2:$P$92,3,0)","v":1388.78},{"$f":"VLOOKUP($F726,mapping!$L$2:$P$92,4,0)","v":"Developing Asia"},{"$f":"$D726*VLOOKUP($E726,'Charts data'!$A$2:$B$11,2,0)*VLOOKUP($G726,'Charts data'!$A$14:$B$18,2,0)/IF('Charts data'!$E$3=1,I726,1)/IF('Charts data'!$E$4=1,J726,1)","v":8903.9583437212841}]
["ID1574",850000,"INR",{"$f":"B727*VLOOKUP(C727,tblXrate[],2,0)","v":15136.729184326183},"Analyst","India","4 to 6",5,{"$f":"VLOOKUP(F727,mapping!$L$2:$P$92,2,0)","v":0.34064763831408895},{"$f":"VLOOKUP($F727,mapping!$L$2:$P$92,3,0)","v":1388.78},{"$f":"VLOOKUP($F727,mapping!$L$2:$P$92,4,0)","v":"Developing Asia"},{"$f":"$D727*VLOOKUP($E727,'Charts data'!$A$2:$B$11,2,0)*VLOOKUP($G727,'Charts data'!$A$14:$B$18,2,0)/IF('Charts data'!$E$3=1,I727,1)/IF('Charts data'!$E$4=1,J727,1)","v":15136.729184326183}]
["ID1585",5650000,"INR",{"$f":"B728*VLOOKUP(C728,tblXrate[],2,0)","v":100614.72928405051},"Reporting","India","2 to 3",6,{"$f":"VLOOKUP(F728,mapping!$L$2:$P$92,2,0)","v":0.34064763831408895},{"$f":"VLOOKUP($F728,mapping!$L$2:$P$92,3,0)","v":1388.78},{"$f":"VLOOKUP($F728,mapping!$L$2:$P$92,4,0)","v":"Developing Asia"},{"$f":"$D728*VLOOKUP($E728,'Charts data'!$A$2:$B$11,2,0)*VLOOKUP($G728,'Charts data'!$A$14:$B$18,2,0)/IF('Charts data'!$E$3=1,I728,1)/IF('Charts data'!$E$4=1,J728,1)","v":100614.72928405051}]
["ID1588",360000,"INR",{"$f":"B729*VLOOKUP(C729,tblXrate[],2,0)","v":6410.8500074793246},"Manager","India","2 to 3",8,{"$f":"VLOOKUP(F729,mapping!$L$2:$P$92,2,0)","v":0.34064763831408895},{"$f":"VLOOKUP($F729,mapping!$L$2:$P$92,3,0)","v":1388.78},{"$f":"VLOOKUP($F729,mapping!$L$2:$P$92,4,0)","v":"Developing Asia"},{"$f":"$D729*VLOOKUP($E729,'Charts data'!$A$2:$B$11,2,0)*VLOOKUP($G729,'Charts data'!$A$14:$B$18,2,0)/IF('Charts data'!$E$3=1,I729,1)/IF('Charts data'!$E$4=1,J729,1)","v":6410.8500074793246}]
["ID1590",250000,"INR",{"$f":"B730*VLOOKUP(C730,tblXrate[],2,0)","v":4451.9791718606421},"Engineer","India","4 to 6",2.5,{"$f":"VLOOKUP(F730,mapping!$L$2:$P$92,2,0)","v":0.34064763831408895},{"$f":"VLOOKUP($F730,mapping!$L$2:$P$92,3,0)","v":1388.78},{"$f":"VLOOKUP($F730,mapping!$L$2:$P$92,4,0)","v":"Developing Asia"},{"$f":"$D730*VLOOKUP($E730,'Charts data'!$A$2:$B$11,2,0)*VLOOKUP($G730,'Charts data'!$A$14:$B$18,2,0)/IF('Charts data'!$E$3=1,I730,1)/IF('Charts data'!$E$4=1,J730,1)","v":4451.9791718606421}]
["ID1592",1700000,"INR",{"$f":"B731*VLOOKUP(C731,tblXrate[],2,0)","v":30273.458368652366},"CXO or Top Mgmt.","India","4 to 6",6,{"$f":"VLOOKUP(F731,mapping!$L$2:$P$92,2,0)","v":0.34064763831408895},{"$f":"VLOOKUP($F731,mapping!$L$2:$P$92,3,0)","v":1388.78},{"$f":"VLOOKUP($F731,mapping!$L$2:$P$92,4,0)","v":"Developing Asia"},{"$f":"$D731*VLOOKUP($E731,'Charts data'!$A$2:$B$11,2,0)*VLOOKUP($G731,'Charts data'!$A$14:$B$18,2,0)/IF('Charts data'!$E$3=1,I731,1)/IF('Charts data'!$E$4=1,J731,1)","v":30273.458368652366}]
["ID1595",1000000,"INR",{"$f":"B732*VLOOKUP(C732,tblXrate[],2,0)","v":17807.916687442568},"Analyst","India","8 Hrs",4,{"$f":"VLOOKUP(F732,mapping!$L$2:$P$92,2,0)","v":0.34064763831408895},{"$f":"VLOOKUP($F732,mapping!$L$2:$P$92,3,0)","v":1388.78},{"$f":"VLOOKUP($F732,mapping!$L$2:$P$92,4,0)","v":"Developing Asia"},{"$f":"$D732*VLOOKUP($E732,'Charts data'!$A$2:$B$11,2,0)*VLOOKUP($G732,'Charts data'!$A$14:$B$18,2,0)/IF('Charts data'!$E$3=1,I732,1)/IF('Charts data'!$E$4=1,J732,1)","v":17807.916687442568}]
["ID1597",650000,"INR",{"$f":"B733*VLOOKUP(C733,tblXrate[],2,0)","v":11575.14584683767},"Analyst","India","4 to 6",5,{"$f":"VLOOKUP(F733,mapping!$L$2:$P$92,2,0)","v":0.34064763831408895},{"$f":"VLOOKUP($F733,mapping!$L$2:$P$92,3,0)","v":1388.78},{"$f":"VLOOKUP($F733,mapping!$L$2:$P$92,4,0)","v":"Developing Asia"},{"$f":"$D733*VLOOKUP($E733,'Charts data'!$A$2:$B$11,2,0)*VLOOKUP($G733,'Charts data'!$A$14:$B$18,2,0)/IF('Charts data'!$E$3=1,I733,1)/IF('Charts data'!$E$4=1,J733,1)","v":11575.14584683767}]
["ID1612",1800000,"INR",{"$f":"B734*VLOOKUP(C734,tblXrate[],2,0)","v":32054.250037396621},"Analyst","India","8 Hrs",1,{"$f":"VLOOKUP(F734,mapping!$L$2:$P$92,2,0)","v":0.34064763831408895},{"$f":"VLOOKUP($F734,mapping!$L$2:$P$92,3,0)","v":1388.78},{"$f":"VLOOKUP($F734,mapping!$L$2:$P$92,4,0)","v":"Developing Asia"},{"$f":"$D734*VLOOKUP($E734,'Charts data'!$A$2:$B$11,2,0)*VLOOKUP($G734,'Charts data'!$A$14:$B$18,2,0)/IF('Charts data'!$E$3=1,I734,1)/IF('Charts data'!$E$4=1,J734,1)","v":32054.250037396621}]
["ID1627",400000,"INR",{"$f":"B735*VLOOKUP(C735,tblXrate[],2,0)","v":7123.1666749770275},"Analyst","India","1 or 2",2.5,{"$f":"VLOOKUP(F735,mapping!$L$2:$P$92,2,0)","v":0.34064763831408895},{"$f":"VLOOKUP($F735,mapping!$L$2:$P$92,3,0)","v":1388.78},{"$f":"VLOOKUP($F735,mapping!$L$2:$P$92,4,0)","v":"Developing Asia"},{"$f":"$D735*VLOOKUP($E735,'Charts data'!$A$2:$B$11,2,0)*VLOOKUP($G735,'Charts data'!$A$14:$B$18,2,0)/IF('Charts data'!$E$3=1,I735,1)/IF('Charts data'!$E$4=1,J735,1)","v":7123.1666749770275}]
["ID1629",680000,"INR",{"$f":"B736*VLOOKUP(C736,tblXrate[],2,0)","v":12109.383347460946},"Manager","India","1 or 2",2,{"$f":"VLOOKUP(F736,mapping!$L$2:$P$92,2,0)","v":0.34064763831408895},{"$f":"VLOOKUP($F736,mapping!$L$2:$P$92,3,0)","v":1388.78},{"$f":"VLOOKUP($F736,mapping!$L$2:$P$92,4,0)","v":"Developing Asia"},{"$f":"$D736*VLOOKUP($E736,'Charts data'!$A$2:$B$11,2,0)*VLOOKUP($G736,'Charts data'!$A$14:$B$18,2,0)/IF('Charts data'!$E$3=1,I736,1)/IF('Charts data'!$E$4=1,J736,1)","v":12109.383347460946}]
["ID1632",320000,"INR",{"$f":"B737*VLOOKUP(C737,tblXrate[],2,0)","v":5698.5333399816218},"Manager","India","4 to 6",5,{"$f":"VLOOKUP(F737,mapping!$L$2:$P$92,2,0)","v":0.34064763831408895},{"$f":"VLOOKUP($F737,mapping!$L$2:$P$92,3,0)","v":1388.78},{"$f":"VLOOKUP($F737,mapping!$L$2:$P$92,4,0)","v":"Developing Asia"},{"$f":"$D737*VLOOKUP($E737,'Charts data'!$A$2:$B$11,2,0)*VLOOKUP($G737,'Charts data'!$A$14:$B$18,2,0)/IF('Charts data'!$E$3=1,I737,1)/IF('Charts data'!$E$4=1,J737,1)","v":5698.5333399816218}]
["ID1636",3700000,"INR",{"$f":"B738*VLOOKUP(C738,tblXrate[],2,0)","v":65889.291743537498},"Manager","India","8 Hrs",4,{"$f":"VLOOKUP(F738,mapping!$L$2:$P$92,2,0)","v":0.34064763831408895},{"$f":"VLOOKUP($F738,mapping!$L$2:$P$92,3,0)","v":1388.78},{"$f":"VLOOKUP($F738,mapping!$L$2:$P$92,4,0)","v":"Developing Asia"},{"$f":"$D738*VLOOKUP($E738,'Charts data'!$A$2:$B$11,2,0)*VLOOKUP($G738,'Charts data'!$A$14:$B$18,2,0)/IF('Charts data'!$E$3=1,I738,1)/IF('Charts data'!$E$4=1,J738,1)","v":65889.291743537498}]
["ID1641",1000000,"INR",{"$f":"B739*VLOOKUP(C739,tblXrate[],2,0)","v":17807.916687442568},"Manager","India","2 to 3",13,{"$f":"VLOOKUP(F739,mapping!$L$2:$P$92,2,0)","v":0.34064763831408895},{"$f":"VLOOKUP($F739,mapping!$L$2:$P$92,3,0)","v":1388.78},{"$f":"VLOOKUP($F739,mapping!$L$2:$P$92,4,0)","v":"Developing Asia"},{"$f":"$D739*VLOOKUP($E739,'Charts data'!$A$2:$B$11,2,0)*VLOOKUP($G739,'Charts data'!$A$14:$B$18,2,0)/IF('Charts data'!$E$3=1,I739,1)/IF('Charts data'!$E$4=1,J739,1)","v":17807.916687442568}]
["ID1647",1000000,"INR",{"$f":"B740*VLOOKUP(C740,tblXrate[],2,0)","v":17807.916687442568},"Analyst","India","8 Hrs",4,{"$f":"VLOOKUP(F740,mapping!$L$2:$P$92,2,0)","v":0.34064763831408895},{"$f":"VLOOKUP($F740,mapping!$L$2:$P$92,3,0)","v":1388.78},{"$f":"VLOOKUP($F740,mapping!$L$2:$P$92,4,0)","v":"Developing Asia"},{"$f":"$D740*VLOOKUP($E740,'Charts data'!$A$2:$B$11,2,0)*VLOOKUP($G740,'Charts data'!$A$14:$B$18,2,0)/IF('Charts data'!$E$3=1,I740,1)/IF('Charts data'!$E$4=1,J740,1)","v":17807.916687442568}]
["ID1649",125000,"INR",{"$f":"B741*VLOOKUP(C741,tblXrate[],2,0)","v":2225.989585930321},"Analyst","India","2 to 3",4,{"$f":"VLOOKUP(F741,mapping!$L$2:$P$92,2,0)","v":0.34064763831408895},{"$f":"VLOOKUP($F741,mapping!$L$2:$P$92,3,0)","v":1388.78},{"$f":"VLOOKUP($F741,mapping!$L$2:$P$92,4,0)","v":"Developing Asia"},{"$f":"$D741*VLOOKUP($E741,'Charts data'!$A$2:$B$11,2,0)*VLOOKUP($G741,'Charts data'!$A$14:$B$18,2,0)/IF('Charts data'!$E$3=1,I741,1)/IF('Charts data'!$E$4=1,J741,1)","v":2225.989585930321}]
["ID1651",340000,"INR",{"$f":"B742*VLOOKUP(C742,tblXrate[],2,0)","v":6054.6916737304728},"Manager","India","4 to 6",5,{"$f":"VLOOKUP(F742,mapping!$L$2:$P$92,2,0)","v":0.34064763831408895},{"$f":"VLOOKUP($F742,mapping!$L$2:$P$92,3,0)","v":1388.78},{"$f":"VLOOKUP($F742,mapping!$L$2:$P$92,4,0)","v":"Developing Asia"},{"$f":"$D742*VLOOKUP($E742,'Charts data'!$A$2:$B$11,2,0)*VLOOKUP($G742,'Charts data'!$A$14:$B$18,2,0)/IF('Charts data'!$E$3=1,I742,1)/IF('Charts data'!$E$4=1,J742,1)","v":6054.6916737304728}]
["ID1658",300000,"INR",{"$f":"B743*VLOOKUP(C743,tblXrate[],2,0)","v":5342.3750062327708},"Analyst","India","4 to 6",8,{"$f":"VLOOKUP(F743,mapping!$L$2:$P$92,2,0)","v":0.34064763831408895},{"$f":"VLOOKUP($F743,mapping!$L$2:$P$92,3,0)","v":1388.78},{"$f":"VLOOKUP($F743,mapping!$L$2:$P$92,4,0)","v":"Developing Asia"},{"$f":"$D743*VLOOKUP($E743,'Charts data'!$A$2:$B$11,2,0)*VLOOKUP($G743,'Charts data'!$A$14:$B$18,2,0)/IF('Charts data'!$E$3=1,I743,1)/IF('Charts data'!$E$4=1,J743,1)","v":5342.3750062327708}]
["ID1660",240000,"INR",{"$f":"B744*VLOOKUP(C744,tblXrate[],2,0)","v":4273.9000049862161},"Controller","India","2 to 3",15,{"$f":"VLOOKUP(F744,mapping!$L$2:$P$92,2,0)","v":0.34064763831408895},{"$f":"VLOOKUP($F744,mapping!$L$2:$P$92,3,0)","v":1388.78},{"$f":"VLOOKUP($F744,mapping!$L$2:$P$92,4,0)","v":"Developing Asia"},{"$f":"$D744*VLOOKUP($E744,'Charts data'!$A$2:$B$11,2,0)*VLOOKUP($G744,'Charts data'!$A$14:$B$18,2,0)/IF('Charts data'!$E$3=1,I744,1)/IF('Charts data'!$E$4=1,J744,1)","v":4273.9000049862161}]
["ID1661",500000,"INR",{"$f":"B745*VLOOKUP(C745,tblXrate[],2,0)","v":8903.9583437212841},"Manager","India","8 Hrs",20,{"$f":"VLOOKUP(F745,mapping!$L$2:$P$92,2,0)","v":0.34064763831408895},{"$f":"VLOOKUP($F745,mapping!$L$2:$P$92,3,0)","v":1388.78},{"$f":"VLOOKUP($F745,mapping!$L$2:$P$92,4,0)","v":"Developing Asia"},{"$f":"$D745*VLOOKUP($E745,'Charts data'!$A$2:$B$11,2,0)*VLOOKUP($G745,'Charts data'!$A$14:$B$18,2,0)/IF('Charts data'!$E$3=1,I745,1)/IF('Charts data'!$E$4=1,J745,1)","v":8903.9583437212841}]
["ID1663",320000,"INR",{"$f":"B746*VLOOKUP(C746,tblXrate[],2,0)","v":5698.5333399816218},"Analyst","India","4 to 6",2.5,{"$f":"VLOOKUP(F746,mapping!$L$2:$P$92,2,0)","v":0.34064763831408895},{"$f":"VLOOKUP($F746,mapping!$L$2:$P$92,3,0)","v":1388.78},{"$f":"VLOOKUP($F746,mapping!$L$2:$P$92,4,0)","v":"Developing Asia"},{"$f":"$D746*VLOOKUP($E746,'Charts data'!$A$2:$B$11,2,0)*VLOOKUP($G746,'Charts data'!$A$14:$B$18,2,0)/IF('Charts data'!$E$3=1,I746,1)/IF('Charts data'!$E$4=1,J746,1)","v":5698.5333399816218}]
["ID1683",192000,"INR",{"$f":"B747*VLOOKUP(C747,tblXrate[],2,0)","v":3419.1200039889732},"Analyst","India","4 to 6",5,{"$f":"VLOOKUP(F747,mapping!$L$2:$P$92,2,0)","v":0.34064763831408895},{"$f":"VLOOKUP($F747,mapping!$L$2:$P$92,3,0)","v":1388.78},{"$f":"VLOOKUP($F747,mapping!$L$2:$P$92,4,0)","v":"Developing Asia"},{"$f":"$D747*VLOOKUP($E747,'Charts data'!$A$2:$B$11,2,0)*VLOOKUP($G747,'Charts data'!$A$14:$B$18,2,0)/IF('Charts data'!$E$3=1,I747,1)/IF('Charts data'!$E$4=1,J747,1)","v":3419.1200039889732}]
["ID1686",450000,"INR",{"$f":"B748*VLOOKUP(C748,tblXrate[],2,0)","v":8013.5625093491553},"Reporting","India","8 Hrs",4,{"$f":"VLOOKUP(F748,mapping!$L$2:$P$92,2,0)","v":0.34064763831408895},{"$f":"VLOOKUP($F748,mapping!$L$2:$P$92,3,0)","v":1388.78},{"$f":"VLOOKUP($F748,mapping!$L$2:$P$92,4,0)","v":"Developing Asia"},{"$f":"$D748*VLOOKUP($E748,'Charts data'!$A$2:$B$11,2,0)*VLOOKUP($G748,'Charts data'!$A$14:$B$18,2,0)/IF('Charts data'!$E$3=1,I748,1)/IF('Charts data'!$E$4=1,J748,1)","v":8013.5625093491553}]
["ID1687",200000,"INR",{"$f":"B749*VLOOKUP(C749,tblXrate[],2,0)","v":3561.5833374885137},"Analyst","India","1 or 2",16,{"$f":"VLOOKUP(F749,mapping!$L$2:$P$92,2,0)","v":0.34064763831408895},{"$f":"VLOOKUP($F749,mapping!$L$2:$P$92,3,0)","v":1388.78},{"$f":"VLOOKUP($F749,mapping!$L$2:$P$92,4,0)","v":"Developing Asia"},{"$f":"$D749*VLOOKUP($E749,'Charts data'!$A$2:$B$11,2,0)*VLOOKUP($G749,'Charts data'!$A$14:$B$18,2,0)/IF('Charts data'!$E$3=1,I749,1)/IF('Charts data'!$E$4=1,J749,1)","v":3561.5833374885137}]
["ID1702",400000,"INR",{"$f":"B750*VLOOKUP(C750,tblXrate[],2,0)","v":7123.1666749770275},"Analyst","India","4 to 6",4,{"$f":"VLOOKUP(F750,mapping!$L$2:$P$92,2,0)","v":0.34064763831408895},{"$f":"VLOOKUP($F750,mapping!$L$2:$P$92,3,0)","v":1388.78},{"$f":"VLOOKUP($F750,mapping!$L$2:$P$92,4,0)","v":"Developing Asia"},{"$f":"$D750*VLOOKUP($E750,'Charts data'!$A$2:$B$11,2,0)*VLOOKUP($G750,'Charts data'!$A$14:$B$18,2,0)/IF('Charts data'!$E$3=1,I750,1)/IF('Charts data'!$E$4=1,J750,1)","v":7123.1666749770275}]
["ID1716",500000,"INR",{"$f":"B751*VLOOKUP(C751,tblXrate[],2,0)","v":8903.9583437212841},"Analyst","India","4 to 6",4,{"$f":"VLOOKUP(F751,mapping!$L$2:$P$92,2,0)","v":0.34064763831408895},{"$f":"VLOOKUP($F751,mapping!$L$2:$P$92,3,0)","v":1388.78},{"$f":"VLOOKUP($F751,mapping!$L$2:$P$92,4,0)","v":"Developing Asia"},{"$f":"$D751*VLOOKUP($E751,'Charts data'!$A$2:$B$11,2,0)*VLOOKUP($G751,'Charts data'!$A$14:$B$18,2,0)/IF('Charts data'!$E$3=1,I751,1)/IF('Charts data'!$E$4=1,J751,1)","v":8903.9583437212841}]
["ID1717",600000,"INR",{"$f":"B752*VLOOKUP(C752,tblXrate[],2,0)","v":10684.750012465542},"Analyst","India","8 Hrs",5,{"$f":"VLOOKUP(F752,mapping!$L$2:$P$92,2,0)","v":0.34064763831408895},{"$f":"VLOOKUP($F752,mapping!$L$2:$P$92,3,0)","v":1388.78},{"$f":"VLOOKUP($F752,mapping!$L$2:$P$92,4,0)","v":"Developing Asia"},{"$f":"$D752*VLOOKUP($E752,'Charts data'!$A$2:$B$11,2,0)*VLOOKUP($G752,'Charts data'!$A$14:$B$18,2,0)/IF('Charts data'!$E$3=1,I752,1)/IF('Charts data'!$E$4=1,J752,1)","v":10684.750012465542}]
["ID1719",550000,"INR",{"$f":"B753*VLOOKUP(C753,tblXrate[],2,0)","v":9794.354178093412},"Manager","India","4 to 6",13,{"$f":"VLOOKUP(F753,mapping!$L$2:$P$92,2,0)","v":0.34064763831408895},{"$f":"VLOOKUP($F753,mapping!$L$2:$P$92,3,0)","v":1388.78},{"$f":"VLOOKUP($F753,mapping!$L$2:$P$92,4,0)","v":"Developing Asia"},{"$f":"$D753*VLOOKUP($E753,'Charts data'!$A$2:$B$11,2,0)*VLOOKUP($G753,'Charts data'!$A$14:$B$18,2,0)/IF('Charts data'!$E$3=1,I753,1)/IF('Charts data'!$E$4=1,J753,1)","v":9794.354178093412}]
["ID1721",150000,"INR",{"$f":"B754*VLOOKUP(C754,tblXrate[],2,0)","v":2671.1875031163854},"Reporting","India","8 Hrs",3,{"$f":"VLOOKUP(F754,mapping!$L$2:$P$92,2,0)","v":0.34064763831408895},{"$f":"VLOOKUP($F754,mapping!$L$2:$P$92,3,0)","v":1388.78},{"$f":"VLOOKUP($F754,mapping!$L$2:$P$92,4,0)","v":"Developing Asia"},{"$f":"$D754*VLOOKUP($E754,'Charts data'!$A$2:$B$11,2,0)*VLOOKUP($G754,'Charts data'!$A$14:$B$18,2,0)/IF('Charts data'!$E$3=1,I754,1)/IF('Charts data'!$E$4=1,J754,1)","v":2671.1875031163854}]
["ID1727",500000,"INR",{"$f":"B755*VLOOKUP(C755,tblXrate[],2,0)","v":8903.9583437212841},"Analyst","India","4 to 6",2,{"$f":"VLOOKUP(F755,mapping!$L$2:$P$92,2,0)","v":0.34064763831408895},{"$f":"VLOOKUP($F755,mapping!$L$2:$P$92,3,0)","v":1388.78},{"$f":"VLOOKUP($F755,mapping!$L$2:$P$92,4,0)","v":"Developing Asia"},{"$f":"$D755*VLOOKUP($E755,'Charts data'!$A$2:$B$11,2,0)*VLOOKUP($G755,'Charts data'!$A$14:$B$18,2,0)/IF('Charts data'!$E$3=1,I755,1)/IF('Charts data'!$E$4=1,J755,1)","v":8903.9583437212841}]
["ID1734",421000,"INR",{"$f":"B756*VLOOKUP(C756,tblXrate[],2,0)","v":7497.1329254133216},"Analyst","India","4 to 6",4,{"$f":"VLOOKUP(F756,mapping!$L$2:$P$92,2,0)","v":0.34064763831408895},{"$f":"VLOOKUP($F756,mapping!$L$2:$P$92,3,0)","v":1388.78},{"$f":"VLOOKUP($F756,mapping!$L$2:$P$92,4,0)","v":"Developing Asia"},{"$f":"$D756*VLOOKUP($E756,'Charts data'!$A$2:$B$11,2,0)*VLOOKUP($G756,'Charts data'!$A$14:$B$18,2,0)/IF('Charts data'!$E$3=1,I756,1)/IF('Charts data'!$E$4=1,J756,1)","v":7497.1329254133216}]
["ID1736",360000,"INR",{"$f":"B757*VLOOKUP(C757,tblXrate[],2,0)","v":6410.8500074793246},"Consultant","India","1 or 2",2,{"$f":"VLOOKUP(F757,mapping!$L$2:$P$92,2,0)","v":0.34064763831408895},{"$f":"VLOOKUP($F757,mapping!$L$2:$P$92,3,0)","v":1388.78},{"$f":"VLOOKUP($F757,mapping!$L$2:$P$92,4,0)","v":"Developing Asia"},{"$f":"$D757*VLOOKUP($E757,'Charts data'!$A$2:$B$11,2,0)*VLOOKUP($G757,'Charts data'!$A$14:$B$18,2,0)/IF('Charts data'!$E$3=1,I757,1)/IF('Charts data'!$E$4=1,J757,1)","v":6410.8500074793246}]
["ID1745",258000,"INR",{"$f":"B758*VLOOKUP(C758,tblXrate[],2,0)","v":4594.4425053601826},"Analyst","India","4 to 6",4,{"$f":"VLOOKUP(F758,mapping!$L$2:$P$92,2,0)","v":0.34064763831408895},{"$f":"VLOOKUP($F758,mapping!$L$2:$P$92,3,0)","v":1388.78},{"$f":"VLOOKUP($F758,mapping!$L$2:$P$92,4,0)","v":"Developing Asia"},{"$f":"$D758*VLOOKUP($E758,'Charts data'!$A$2:$B$11,2,0)*VLOOKUP($G758,'Charts data'!$A$14:$B$18,2,0)/IF('Charts data'!$E$3=1,I758,1)/IF('Charts data'!$E$4=1,J758,1)","v":4594.4425053601826}]
["ID1752",950000,"INR",{"$f":"B759*VLOOKUP(C759,tblXrate[],2,0)","v":16917.52085307044},"Manager","India","2 to 3",9,{"$f":"VLOOKUP(F759,mapping!$L$2:$P$92,2,0)","v":0.34064763831408895},{"$f":"VLOOKUP($F759,mapping!$L$2:$P$92,3,0)","v":1388.78},{"$f":"VLOOKUP($F759,mapping!$L$2:$P$92,4,0)","v":"Developing Asia"},{"$f":"$D759*VLOOKUP($E759,'Charts data'!$A$2:$B$11,2,0)*VLOOKUP($G759,'Charts data'!$A$14:$B$18,2,0)/IF('Charts data'!$E$3=1,I759,1)/IF('Charts data'!$E$4=1,J759,1)","v":16917.52085307044}]
["ID1753",180000,"INR",{"$f":"B760*VLOOKUP(C760,tblXrate[],2,0)","v":3205.4250037396623},"Reporting","India","4 to 6",2,{"$f":"VLOOKUP(F760,mapping!$L$2:$P$92,2,0)","v":0.34064763831408895},{"$f":"VLOOKUP($F760,mapping!$L$2:$P$92,3,0)","v":1388.78},{"$f":"VLOOKUP($F760,mapping!$L$2:$P$92,4,0)","v":"Developing Asia"},{"$f":"$D760*VLOOKUP($E760,'Charts data'!$A$2:$B$11,2,0)*VLOOKUP($G760,'Charts data'!$A$14:$B$18,2,0)/IF('Charts data'!$E$3=1,I760,1)/IF('Charts data'!$E$4=1,J760,1)","v":3205.4250037396623}]
["ID1756",800000,"INR",{"$f":"B761*VLOOKUP(C761,tblXrate[],2,0)","v":14246.333349954055},"Manager","India","2 to 3",0,{"$f":"VLOOKUP(F761,mapping!$L$2:$P$92,2,0)","v":0.34064763831408895},{"$f":"VLOOKUP($F761,mapping!$L$2:$P$92,3,0)","v":1388.78},{"$f":"VLOOKUP($F761,mapping!$L$2:$P$92,4,0)","v":"Developing Asia"},{"$f":"$D761*VLOOKUP($E761,'Charts data'!$A$2:$B$11,2,0)*VLOOKUP($G761,'Charts data'!$A$14:$B$18,2,0)/IF('Charts data'!$E$3=1,I761,1)/IF('Charts data'!$E$4=1,J761,1)","v":14246.333349954055}]
["ID1757",800000,"INR",{"$f":"B762*VLOOKUP(C762,tblXrate[],2,0)","v":14246.333349954055},"Manager","India","2 to 3",0,{"$f":"VLOOKUP(F762,mapping!$L$2:$P$92,2,0)","v":0.34064763831408895},{"$f":"VLOOKUP($F762,mapping!$L$2:$P$92,3,0)","v":1388.78},{"$f":"VLOOKUP($F762,mapping!$L$2:$P$92,4,0)","v":"Developing Asia"},{"$f":"$D762*VLOOKUP($E762,'Charts data'!$A$2:$B$11,2,0)*VLOOKUP($G762,'Charts data'!$A$14:$B$18,2,0)/IF('Charts data'!$E$3=1,I762,1)/IF('Charts data'!$E$4=1,J762,1)","v":14246.333349954055}]
["ID1759",1230000,"INR",{"$f":"B763*VLOOKUP(C763,tblXrate[],2,0)","v":21903.737525554359},"Analyst","India","8 Hrs",3,{"$f":"VLOOKUP(F763,mapping!$L$2:$P$92,2,0)","v":0.34064763831408895},{"$f":"VLOOKUP($F763,mapping!$L$2:$P$92,3,0)","v":1388.78},{"$f":"VLOOKUP($F763,mapping!$L$2:$P$92,4,0)","v":"Developing Asia"},{"$f":"$D763*VLOOKUP($E763,'Charts data'!$A$2:$B$11,2,0)*VLOOKUP($G763,'Charts data'!$A$14:$B$18,2,0)/IF('Charts data'!$E$3=1,I763,1)/IF('Charts data'!$E$4=1,J763,1)","v":21903.737525554359}]
["ID1760",1130000,"INR",{"$f":"B764*VLOOKUP(C764,tblXrate[],2,0)","v":20122.945856810104},"Analyst","India","8 Hrs",3,{"$f":"VLOOKUP(F764,mapping!$L$2:$P$92,2,0)","v":0.34064763831408895},{"$f":"VLOOKUP($F764,mapping!$L$2:$P$92,3,0)","v":1388.78},{"$f":"VLOOKUP($F764,mapping!$L$2:$P$92,4,0)","v":"Developing Asia"},{"$f":"$D764*VLOOKUP($E764,'Charts data'!$A$2:$B$11,2,0)*VLOOKUP($G764,'Charts data'!$A$14:$B$18,2,0)/IF('Charts data'!$E$3=1,I764,1)/IF('Charts data'!$E$4=1,J764,1)","v":20122.945856810104}]
["ID1773",140000,"INR",{"$f":"B765*VLOOKUP(C765,tblXrate[],2,0)","v":2493.1083362419595},"Misc.","India","4 to 6",5,{"$f":"VLOOKUP(F765,mapping!$L$2:$P$92,2,0)","v":0.34064763831408895},{"$f":"VLOOKUP($F765,mapping!$L$2:$P$92,3,0)","v":1388.78},{"$f":"VLOOKUP($F765,mapping!$L$2:$P$92,4,0)","v":"Developing Asia"},{"$f":"$D765*VLOOKUP($E765,'Charts data'!$A$2:$B$11,2,0)*VLOOKUP($G765,'Charts data'!$A$14:$B$18,2,0)/IF('Charts data'!$E$3=1,I765,1)/IF('Charts data'!$E$4=1,J765,1)","v":2493.1083362419595}]
["ID1777",500000,"INR",{"$f":"B766*VLOOKUP(C766,tblXrate[],2,0)","v":8903.9583437212841},"Analyst","India","8 Hrs",0,{"$f":"VLOOKUP(F766,mapping!$L$2:$P$92,2,0)","v":0.34064763831408895},{"$f":"VLOOKUP($F766,mapping!$L$2:$P$92,3,0)","v":1388.78},{"$f":"VLOOKUP($F766,mapping!$L$2:$P$92,4,0)","v":"Developing Asia"},{"$f":"$D766*VLOOKUP($E766,'Charts data'!$A$2:$B$11,2,0)*VLOOKUP($G766,'Charts data'!$A$14:$B$18,2,0)/IF('Charts data'!$E$3=1,I766,1)/IF('Charts data'!$E$4=1,J766,1)","v":8903.9583437212841}]
["ID1779",1300000,"INR",{"$f":"B767*VLOOKUP(C767,tblXrate[],2,0)","v":23150.291693675339},"Manager","India","8 Hrs",9,{"$f":"VLOOKUP(F767,mapping!$L$2:$P$92,2,0)","v":0.34064763831408895},{"$f":"VLOOKUP($F767,mapping!$L$2:$P$92,3,0)","v":1388.78},{"$f":"VLOOKUP($F767,mapping!$L$2:$P$92,4,0)","v":"Developing Asia"},{"$f":"$D767*VLOOKUP($E767,'Charts data'!$A$2:$B$11,2,0)*VLOOKUP($G767,'Charts data'!$A$14:$B$18,2,0)/IF('Charts data'!$E$3=1,I767,1)/IF('Charts data'!$E$4=1,J767,1)","v":23150.291693675339}]
["ID1785",150000,"INR",{"$f":"B768*VLOOKUP(C768,tblXrate[],2,0)","v":2671.1875031163854},"Engineer","India","2 to 3",1,{"$f":"VLOOKUP(F768,mapping!$L$2:$P$92,2,0)","v":0.34064763831408895},{"$f":"VLOOKUP($F768,mapping!$L$2:$P$92,3,0)","v":1388.78},{"$f":"VLOOKUP($F768,mapping!$L$2:$P$92,4,0)","v":"Developing Asia"},{"$f":"$D768*VLOOKUP($E768,'Charts data'!$A$2:$B$11,2,0)*VLOOKUP($G768,'Charts data'!$A$14:$B$18,2,0)/IF('Charts data'!$E$3=1,I768,1)/IF('Charts data'!$E$4=1,J768,1)","v":2671.1875031163854}]
["ID1790",480000,"INR",{"$f":"B769*VLOOKUP(C769,tblXrate[],2,0)","v":8547.8000099724322},"Analyst","India","4 to 6",1,{"$f":"VLOOKUP(F769,mapping!$L$2:$P$92,2,0)","v":0.34064763831408895},{"$f":"VLOOKUP($F769,mapping!$L$2:$P$92,3,0)","v":1388.78},{"$f":"VLOOKUP($F769,mapping!$L$2:$P$92,4,0)","v":"Developing Asia"},{"$f":"$D769*VLOOKUP($E769,'Charts data'!$A$2:$B$11,2,0)*VLOOKUP($G769,'Charts data'!$A$14:$B$18,2,0)/IF('Charts data'!$E$3=1,I769,1)/IF('Charts data'!$E$4=1,J769,1)","v":8547.8000099724322}]
["ID1801",400000,"INR",{"$f":"B770*VLOOKUP(C770,tblXrate[],2,0)","v":7123.1666749770275},"Analyst","India","2 to 3",3,{"$f":"VLOOKUP(F770,mapping!$L$2:$P$92,2,0)","v":0.34064763831408895},{"$f":"VLOOKUP($F770,mapping!$L$2:$P$92,3,0)","v":1388.78},{"$f":"VLOOKUP($F770,mapping!$L$2:$P$92,4,0)","v":"Developing Asia"},{"$f":"$D770*VLOOKUP($E770,'Charts data'!$A$2:$B$11,2,0)*VLOOKUP($G770,'Charts data'!$A$14:$B$18,2,0)/IF('Charts data'!$E$3=1,I770,1)/IF('Charts data'!$E$4=1,J770,1)","v":7123.1666749770275}]
["ID1811",560000,"INR",{"$f":"B771*VLOOKUP(C771,tblXrate[],2,0)","v":9972.4333449678379},"Manager","India","2 to 3",4,{"$f":"VLOOKUP(F771,mapping!$L$2:$P$92,2,0)","v":0.34064763831408895},{"$f":"VLOOKUP($F771,mapping!$L$2:$P$92,3,0)","v":1388.78},{"$f":"VLOOKUP($F771,mapping!$L$2:$P$92,4,0)","v":"Developing Asia"},{"$f":"$D771*VLOOKUP($E771,'Charts data'!$A$2:$B$11,2,0)*VLOOKUP($G771,'Charts data'!$A$14:$B$18,2,0)/IF('Charts data'!$E$3=1,I771,1)/IF('Charts data'!$E$4=1,J771,1)","v":9972.4333449678379}]
["ID1818",280000,"INR",{"$f":"B772*VLOOKUP(C772,tblXrate[],2,0)","v":4986.216672483919},"Analyst","India","8 Hrs",8,{"$f":"VLOOKUP(F772,mapping!$L$2:$P$92,2,0)","v":0.34064763831408895},{"$f":"VLOOKUP($F772,mapping!$L$2:$P$92,3,0)","v":1388.78},{"$f":"VLOOKUP($F772,mapping!$L$2:$P$92,4,0)","v":"Developing Asia"},{"$f":"$D772*VLOOKUP($E772,'Charts data'!$A$2:$B$11,2,0)*VLOOKUP($G772,'Charts data'!$A$14:$B$18,2,0)/IF('Charts data'!$E$3=1,I772,1)/IF('Charts data'!$E$4=1,J772,1)","v":4986.216672483919}]
["ID1820",450000,"INR",{"$f":"B773*VLOOKUP(C773,tblXrate[],2,0)","v":8013.5625093491553},"Reporting","India","4 to 6",4,{"$f":"VLOOKUP(F773,mapping!$L$2:$P$92,2,0)","v":0.34064763831408895},{"$f":"VLOOKUP($F773,mapping!$L$2:$P$92,3,0)","v":1388.78},{"$f":"VLOOKUP($F773,mapping!$L$2:$P$92,4,0)","v":"Developing Asia"},{"$f":"$D773*VLOOKUP($E773,'Charts data'!$A$2:$B$11,2,0)*VLOOKUP($G773,'Charts data'!$A$14:$B$18,2,0)/IF('Charts data'!$E$3=1,I773,1)/IF('Charts data'!$E$4=1,J773,1)","v":8013.5625093491553}]
["ID1833",1000000,"INR",{"$f":"B774*VLOOKUP(C774,tblXrate[],2,0)","v":17807.916687442568},"Manager","India","2 to 3",10,{"$f":"VLOOKUP(F774,mapping!$L$2:$P$92,2,0)","v":0.34064763831408895},{"$f":"VLOOKUP($F774,mapping!$L$2:$P$92,3,0)","v":1388.78},{"$f":"VLOOKUP($F774,mapping!$L$2:$P$92,4,0)","v":"Developing Asia"},{"$f":"$D774*VLOOKUP($E774,'Charts data'!$A$2:$B$11,2,0)*VLOOKUP($G774,'Charts data'!$A$14:$B$18,2,0)/IF('Charts data'!$E$3=1,I774,1)/IF('Charts data'!$E$4=1,J774,1)","v":17807.916687442568}]
["ID1834",900000,"INR",{"$f":"B775*VLOOKUP(C775,tblXrate[],2,0)","v":16027.125018698311},"Manager","India","2 to 3",6,{"$f":"VLOOKUP(F775,mapping!$L$2:$P$92,2,0)","v":0.34064763831408895},{"$f":"VLOOKUP($F775,mapping!$L$2:$P$92,3,0)","v":1388.78},{"$f":"VLOOKUP($F775,mapping!$L$2:$P$92,4,0)","v":"Developing Asia"},{"$f":"$D775*VLOOKUP($E775,'Charts data'!$A$2:$B$11,2,0)*VLOOKUP($G775,'Charts data'!$A$14:$B$18,2,0)/IF('Charts data'!$E$3=1,I775,1)/IF('Charts data'!$E$4=1,J775,1)","v":16027.125018698311}]
["ID1836",1200000,"INR",{"$f":"B776*VLOOKUP(C776,tblXrate[],2,0)","v":21369.500024931083},"Manager","India","4 to 6",7,{"$f":"VLOOKUP(F776,mapping!$L$2:$P$92,2,0)","v":0.34064763831408895},{"$f":"VLOOKUP($F776,mapping!$L$2:$P$92,3,0)","v":1388.78},{"$f":"VLOOKUP($F776,mapping!$L$2:$P$92,4,0)","v":"Developing Asia"},{"$f":"$D776*VLOOKUP($E776,'Charts data'!$A$2:$B$11,2,0)*VLOOKUP($G776,'Charts data'!$A$14:$B$18,2,0)/IF('Charts data'!$E$3=1,I776,1)/IF('Charts data'!$E$4=1,J776,1)","v":21369.500024931083}]
["ID1837",425000,"INR",{"$f":"B777*VLOOKUP(C777,tblXrate[],2,0)","v":7568.3645921630914},"Accountant","India","2 to 3",6,{"$f":"VLOOKUP(F777,mapping!$L$2:$P$92,2,0)","v":0.34064763831408895},{"$f":"VLOOKUP($F777,mapping!$L$2:$P$92,3,0)","v":1388.78},{"$f":"VLOOKUP($F777,mapping!$L$2:$P$92,4,0)","v":"Developing Asia"},{"$f":"$D777*VLOOKUP($E777,'Charts data'!$A$2:$B$11,2,0)*VLOOKUP($G777,'Charts data'!$A$14:$B$18,2,0)/IF('Charts data'!$E$3=1,I777,1)/IF('Charts data'!$E$4=1,J777,1)","v":7568.3645921630914}]
["ID1860",270000,"INR",{"$f":"B778*VLOOKUP(C778,tblXrate[],2,0)","v":4808.137505609493},"Manager","India","2 to 3",5,{"$f":"VLOOKUP(F778,mapping!$L$2:$P$92,2,0)","v":0.34064763831408895},{"$f":"VLOOKUP($F778,mapping!$L$2:$P$92,3,0)","v":1388.78},{"$f":"VLOOKUP($F778,mapping!$L$2:$P$92,4,0)","v":"Developing Asia"},{"$f":"$D778*VLOOKUP($E778,'Charts data'!$A$2:$B$11,2,0)*VLOOKUP($G778,'Charts data'!$A$14:$B$18,2,0)/IF('Charts data'!$E$3=1,I778,1)/IF('Charts data'!$E$4=1,J778,1)","v":4808.137505609493}]
["ID1861",1400000,"INR",{"$f":"B779*VLOOKUP(C779,tblXrate[],2,0)","v":24931.083362419595},"Manager","India","4 to 6",10,{"$f":"VLOOKUP(F779,mapping!$L$2:$P$92,2,0)","v":0.34064763831408895},{"$f":"VLOOKUP($F779,mapping!$L$2:$P$92,3,0)","v":1388.78},{"$f":"VLOOKUP($F779,mapping!$L$2:$P$92,4,0)","v":"Developing Asia"},{"$f":"$D779*VLOOKUP($E779,'Charts data'!$A$2:$B$11,2,0)*VLOOKUP($G779,'Charts data'!$A$14:$B$18,2,0)/IF('Charts data'!$E$3=1,I779,1)/IF('Charts data'!$E$4=1,J779,1)","v":24931.083362419595}]
["ID1862",700000,"INR",{"$f":"B780*VLOOKUP(C780,tblXrate[],2,0)","v":12465.541681209797},"Analyst","India","2 to 3",4,{"$f":"VLOOKUP(F780,mapping!$L$2:$P$92,2,0)","v":0.34064763831408895},{"$f":"VLOOKUP($F780,mapping!$L$2:$P$92,3,0)","v":1388.78},{"$f":"VLOOKUP($F780,mapping!$L$2:$P$92,4,0)","v":"Developing Asia"},{"$f":"$D780*VLOOKUP($E780,'Charts data'!$A$2:$B$11,2,0)*VLOOKUP($G780,'Charts data'!$A$14:$B$18,2,0)/IF('Charts data'!$E$3=1,I780,1)/IF('Charts data'!$E$4=1,J780,1)","v":12465.541681209797}]
["ID1864",1000000,"INR",{"$f":"B781*VLOOKUP(C781,tblXrate[],2,0)","v":17807.916687442568},"Manager","India","8 Hrs",10,{"$f":"VLOOKUP(F781,mapping!$L$2:$P$92,2,0)","v":0.34064763831408895},{"$f":"VLOOKUP($F781,mapping!$L$2:$P$92,3,0)","v":1388.78},{"$f":"VLOOKUP($F781,mapping!$L$2:$P$92,4,0)","v":"Developing Asia"},{"$f":"$D781*VLOOKUP($E781,'Charts data'!$A$2:$B$11,2,0)*VLOOKUP($G781,'Charts data'!$A$14:$B$18,2,0)/IF('Charts data'!$E$3=1,I781,1)/IF('Charts data'!$E$4=1,J781,1)","v":17807.916687442568}]
["ID1876",360000,"INR",{"$f":"B782*VLOOKUP(C782,tblXrate[],2,0)","v":6410.8500074793246},"Analyst","India","8 Hrs",2,{"$f":"VLOOKUP(F782,mapping!$L$2:$P$92,2,0)","v":0.34064763831408895},{"$f":"VLOOKUP($F782,mapping!$L$2:$P$92,3,0)","v":1388.78},{"$f":"VLOOKUP($F782,mapping!$L$2:$P$92,4,0)","v":"Developing Asia"},{"$f":"$D782*VLOOKUP($E782,'Charts data'!$A$2:$B$11,2,0)*VLOOKUP($G782,'Charts data'!$A$14:$B$18,2,0)/IF('Charts data'!$E$3=1,I782,1)/IF('Charts data'!$E$4=1,J782,1)","v":6410.8500074793246}]
["ID1877",600000,"INR",{"$f":"B783*VLOOKUP(C783,tblXrate[],2,0)","v":10684.750012465542},"Manager","India","4 to 6",12,{"$f":"VLOOKUP(F783,mapping!$L$2:$P$92,2,0)","v":0.34064763831408895},{"$f":"VLOOKUP($F783,mapping!$L$2:$P$92,3,0)","v":1388.78},{"$f":"VLOOKUP($F783,mapping!$L$2:$P$92,4,0)","v":"Developing Asia"},{"$f":"$D783*VLOOKUP($E783,'Charts data'!$A$2:$B$11,2,0)*VLOOKUP($G783,'Charts data'!$A$14:$B$18,2,0)/IF('Charts data'!$E$3=1,I783,1)/IF('Charts data'!$E$4=1,J783,1)","v":10684.750012465542}]
["ID1879",350000,"INR",{"$f":"B784*VLOOKUP(C784,tblXrate[],2,0)","v":6232.7708406048987},"Analyst","India","4 to 6",6,{"$f":"VLOOKUP(F784,mapping!$L$2:$P$92,2,0)","v":0.34064763831408895},{"$f":"VLOOKUP($F784,mapping!$L$2:$P$92,3,0)","v":1388.78},{"$f":"VLOOKUP($F784,mapping!$L$2:$P$92,4,0)","v":"Developing Asia"},{"$f":"$D784*VLOOKUP($E784,'Charts data'!$A$2:$B$11,2,0)*VLOOKUP($G784,'Charts data'!$A$14:$B$18,2,0)/IF('Charts data'!$E$3=1,I784,1)/IF('Charts data'!$E$4=1,J784,1)","v":6232.7708406048987}]
["ID1880",2342342,"INR",{"$f":"B785*VLOOKUP(C785,tblXrate[],2,0)","v":41712.231189497601},"Misc.","India","2 to 3",12,{"$f":"VLOOKUP(F785,mapping!$L$2:$P$92,2,0)","v":0.34064763831408895},{"$f":"VLOOKUP($F785,mapping!$L$2:$P$92,3,0)","v":1388.78},{"$f":"VLOOKUP($F785,mapping!$L$2:$P$92,4,0)","v":"Developing Asia"},{"$f":"$D785*VLOOKUP($E785,'Charts data'!$A$2:$B$11,2,0)*VLOOKUP($G785,'Charts data'!$A$14:$B$18,2,0)/IF('Charts data'!$E$3=1,I785,1)/IF('Charts data'!$E$4=1,J785,1)","v":41712.231189497601}]
["ID1881",700000,"INR",{"$f":"B786*VLOOKUP(C786,tblXrate[],2,0)","v":12465.541681209797},"Manager","India","2 to 3",9,{"$f":"VLOOKUP(F786,mapping!$L$2:$P$92,2,0)","v":0.34064763831408895},{"$f":"VLOOKUP($F786,mapping!$L$2:$P$92,3,0)","v":1388.78},{"$f":"VLOOKUP($F786,mapping!$L$2:$P$92,4,0)","v":"Developing Asia"},{"$f":"$D786*VLOOKUP($E786,'Charts data'!$A$2:$B$11,2,0)*VLOOKUP($G786,'Charts data'!$A$14:$B$18,2,0)/IF('Charts data'!$E$3=1,I786,1)/IF('Charts data'!$E$4=1,J786,1)","v":12465.541681209797}]
["ID1883",400000,"INR",{"$f":"B787*VLOOKUP(C787,tblXrate[],2,0)","v":7123.1666749770275},"Analyst","India","1 or 2",2,{"$f":"VLOOKUP(F787,mapping!$L$2:$P$92,2,0)","v":0.34064763831408895},{"$f":"VLOOKUP($F787,mapping!$L$2:$P$92,3,0)","v":1388.78},{"$f":"VLOOKUP($F787,mapping!$L$2:$P$92,4,0)","v":"Developing Asia"},{"$f":"$D787*VLOOKUP($E787,'Charts data'!$A$2:$B$11,2,0)*VLOOKUP($G787,'Charts data'!$A$14:$B$18,2,0)/IF('Charts data'!$E$3=1,I787,1)/IF('Charts data'!$E$4=1,J787,1)","v":7123.1666749770275}]
["ID1894",350000,"INR",{"$f":"B788*VLOOKUP(C788,tblXrate[],2,0)","v":6232.7708406048987},"Manager","India","2 to 3",27,{"$f":"VLOOKUP(F788,mapping!$L$2:$P$92,2,0)","v":0.34064763831408895},{"$f":"VLOOKUP($F788,mapping!$L$2:$P$92,3,0)","v":1388.78},{"$f":"VLOOKUP($F788,mapping!$L$2:$P$92,4,0)","v":"Developing Asia"},{"$f":"$D788*VLOOKUP($E788,'Charts data'!$A$2:$B$11,2,0)*VLOOKUP($G788,'Charts data'!$A$14:$B$18,2,0)/IF('Charts data'!$E$3=1,I788,1)/IF('Charts data'!$E$4=1,J788,1)","v":6232.7708406048987}]
["ID1903",250000,"INR",{"$f":"B789*VLOOKUP(C789,tblXrate[],2,0)","v":4451.9791718606421},"Reporting","India","4 to 6",3,{"$f":"VLOOKUP(F789,mapping!$L$2:$P$92,2,0)","v":0.34064763831408895},{"$f":"VLOOKUP($F789,mapping!$L$2:$P$92,3,0)","v":1388.78},{"$f":"VLOOKUP($F789,mapping!$L$2:$P$92,4,0)","v":"Developing Asia"},{"$f":"$D789*VLOOKUP($E789,'Charts data'!$A$2:$B$11,2,0)*VLOOKUP($G789,'Charts data'!$A$14:$B$18,2,0)/IF('Charts data'!$E$3=1,I789,1)/IF('Charts data'!$E$4=1,J789,1)","v":4451.9791718606421}]
["ID1907",750000,"INR",{"$f":"B790*VLOOKUP(C790,tblXrate[],2,0)","v":13355.937515581925},"Analyst","India","4 to 6",5,{"$f":"VLOOKUP(F790,mapping!$L$2:$P$92,2,0)","v":0.34064763831408895},{"$f":"VLOOKUP($F790,mapping!$L$2:$P$92,3,0)","v":1388.78},{"$f":"VLOOKUP($F790,mapping!$L$2:$P$92,4,0)","v":"Developing Asia"},{"$f":"$D790*VLOOKUP($E790,'Charts data'!$A$2:$B$11,2,0)*VLOOKUP($G790,'Charts data'!$A$14:$B$18,2,0)/IF('Charts data'!$E$3=1,I790,1)/IF('Charts data'!$E$4=1,J790,1)","v":13355.937515581925}]
["ID1909",420000,"INR",{"$f":"B791*VLOOKUP(C791,tblXrate[],2,0)","v":7479.3250087258784},"Analyst","India","4 to 6",2,{"$f":"VLOOKUP(F791,mapping!$L$2:$P$92,2,0)","v":0.34064763831408895},{"$f":"VLOOKUP($F791,mapping!$L$2:$P$92,3,0)","v":1388.78},{"$f":"VLOOKUP($F791,mapping!$L$2:$P$92,4,0)","v":"Developing Asia"},{"$f":"$D791*VLOOKUP($E791,'Charts data'!$A$2:$B$11,2,0)*VLOOKUP($G791,'Charts data'!$A$14:$B$18,2,0)/IF('Charts data'!$E$3=1,I791,1)/IF('Charts data'!$E$4=1,J791,1)","v":7479.3250087258784}]
["ID1914",276000,"INR",{"$f":"B792*VLOOKUP(C792,tblXrate[],2,0)","v":4914.9850057341491},"Reporting","India","8 Hrs",6,{"$f":"VLOOKUP(F792,mapping!$L$2:$P$92,2,0)","v":0.34064763831408895},{"$f":"VLOOKUP($F792,mapping!$L$2:$P$92,3,0)","v":1388.78},{"$f":"VLOOKUP($F792,mapping!$L$2:$P$92,4,0)","v":"Developing Asia"},{"$f":"$D792*VLOOKUP($E792,'Charts data'!$A$2:$B$11,2,0)*VLOOKUP($G792,'Charts data'!$A$14:$B$18,2,0)/IF('Charts data'!$E$3=1,I792,1)/IF('Charts data'!$E$4=1,J792,1)","v":4914.9850057341491}]
["ID1916",250000,"INR",{"$f":"B793*VLOOKUP(C793,tblXrate[],2,0)","v":4451.9791718606421},"Analyst","India","0 Hrs",1.6,{"$f":"VLOOKUP(F793,mapping!$L$2:$P$92,2,0)","v":0.34064763831408895},{"$f":"VLOOKUP($F793,mapping!$L$2:$P$92,3,0)","v":1388.78},{"$f":"VLOOKUP($F793,mapping!$L$2:$P$92,4,0)","v":"Developing Asia"},{"$f":"$D793*VLOOKUP($E793,'Charts data'!$A$2:$B$11,2,0)*VLOOKUP($G793,'Charts data'!$A$14:$B$18,2,0)/IF('Charts data'!$E$3=1,I793,1)/IF('Charts data'!$E$4=1,J793,1)","v":4451.9791718606421}]
["ID1924",180000,"INR",{"$f":"B794*VLOOKUP(C794,tblXrate[],2,0)","v":3205.4250037396623},"Analyst","India","4 to 6",3,{"$f":"VLOOKUP(F794,mapping!$L$2:$P$92,2,0)","v":0.34064763831408895},{"$f":"VLOOKUP($F794,mapping!$L$2:$P$92,3,0)","v":1388.78},{"$f":"VLOOKUP($F794,mapping!$L$2:$P$92,4,0)","v":"Developing Asia"},{"$f":"$D794*VLOOKUP($E794,'Charts data'!$A$2:$B$11,2,0)*VLOOKUP($G794,'Charts data'!$A$14:$B$18,2,0)/IF('Charts data'!$E$3=1,I794,1)/IF('Charts data'!$E$4=1,J794,1)","v":3205.4250037396623}]
["ID0669",276000,"INR",{"$f":"B795*VLOOKUP(C795,tblXrate[],2,0)","v":4914.9850057341491},"Manager","Pakistan","1 or 2",3,{"$f":"VLOOKUP(F795,mapping!$L$2:$P$92,2,0)","v":0.65835867993475172},{"$f":"VLOOKUP($F795,mapping!$L$2:$P$92,3,0)","v":1201.1099999999999},{"$f":"VLOOKUP($F795,mapping!$L$2:$P$92,4,0)","v":"Developing Asia"},{"$f":"$D795*VLOOKUP($E795,'Charts data'!$A$2:$B$11,2,0)*VLOOKUP($G795,'Charts data'!$A$14:$B$18,2,0)/IF('Charts data'!$E$3=1,I795,1)/IF('Charts data'!$E$4=1,J795,1)","v":4914.9850057341491}]
["ID1368",4000000,"JPY",{"$f":"B796*VLOOKUP(C796,tblXrate[],2,0)","v":50694.322109187968},"Analyst","Japan","4 to 6",8,{"$f":"VLOOKUP(F796,mapping!$L$2:$P$92,2,0)","v":1.3369613569856142},{"$f":"VLOOKUP($F796,mapping!$L$2:$P$92,3,0)","v":45920.3},{"$f":"VLOOKUP($F796,mapping!$L$2:$P$92,4,0)","v":"Major Advanced Economies (G7)"},{"$f":"$D796*VLOOKUP($E796,'Charts data'!$A$2:$B$11,2,0)*VLOOKUP($G796,'Charts data'!$A$14:$B$18,2,0)/IF('Charts data'!$E$3=1,I796,1)/IF('Charts data'!$E$4=1,J796,1)","v":50694.322109187968}]
["ID1196",4300000,"KENYA",{"$f":"B797*VLOOKUP(C797,tblXrate[],2,0)","v":51497.005988023957},"Manager","Kenya","4 to 6",9,{"$f":"VLOOKUP(F797,mapping!$L$2:$P$92,2,0)","v":0.50302994011976043},{"$f":"VLOOKUP($F797,mapping!$L$2:$P$92,3,0)","v":850.55499999999995},{"$f":"VLOOKUP($F797,mapping!$L$2:$P$92,4,0)","v":"Sub-Saharan Africa"},{"$f":"$D797*VLOOKUP($E797,'Charts data'!$A$2:$B$11,2,0)*VLOOKUP($G797,'Charts data'!$A$14:$B$18,2,0)/IF('Charts data'!$E$3=1,I797,1)/IF('Charts data'!$E$4=1,J797,1)","v":51497.005988023957}]
["ID1014",240000,"LKR",{"$f":"B798*VLOOKUP(C798,tblXrate[],2,0)","v":1805.7739622442759},"Manager","Sri Lanka","4 to 6",3,{"$f":"VLOOKUP(F798,mapping!$L$2:$P$92,2,0)","v":0.42199432686013522},{"$f":"VLOOKUP($F798,mapping!$L$2:$P$92,3,0)","v":2876.97},{"$f":"VLOOKUP($F798,mapping!$L$2:$P$92,4,0)","v":"Developing Asia"},{"$f":"$D798*VLOOKUP($E798,'Charts data'!$A$2:$B$11,2,0)*VLOOKUP($G798,'Charts data'!$A$14:$B$18,2,0)/IF('Charts data'!$E$3=1,I798,1)/IF('Charts data'!$E$4=1,J798,1)","v":1805.7739622442759}]
["ID1580",120000,"MAD",{"$f":"B799*VLOOKUP(C799,tblXrate[],2,0)","v":13745.704467353951},"Controller","Morocco","8 Hrs",8,{"$f":"VLOOKUP(F799,mapping!$L$2:$P$92,2,0)","v":0.56643757159221075},{"$f":"VLOOKUP($F799,mapping!$L$2:$P$92,3,0)","v":3083.25},{"$f":"VLOOKUP($F799,mapping!$L$2:$P$92,4,0)","v":"Middle East and North Africa"},{"$f":"$D799*VLOOKUP($E799,'Charts data'!$A$2:$B$11,2,0)*VLOOKUP($G799,'Charts data'!$A$14:$B$18,2,0)/IF('Charts data'!$E$3=1,I799,1)/IF('Charts data'!$E$4=1,J799,1)","v":13745.704467353951}]
["ID1260",9600000,"MONGOLIAN",{"$f":"B800*VLOOKUP(C800,tblXrate[],2,0)","v":7261.724659606657},"Analyst","Mongolia","8 Hrs",2,{"$f":"VLOOKUP(F800,mapping!$L$2:$P$92,2,0)","v":0.61762481089258703},{"$f":"VLOOKUP($F800,mapping!$L$2:$P$92,3,0)","v":3042.19},{"$f":"VLOOKUP($F800,mapping!$L$2:$P$92,4,0)","v":"Commonwealth of Independent States"},{"$f":"$D800*VLOOKUP($E800,'Charts data'!$A$2:$B$11,2,0)*VLOOKUP($G800,'Charts data'!$A$14:$B$18,2,0)/IF('Charts data'!$E$3=1,I800,1)/IF('Charts data'!$E$4=1,J800,1)","v":7261.724659606657}]
["ID1633",288000,"MUR",{"$f":"B801*VLOOKUP(C801,tblXrate[],2,0)","v":9376.2513877177607},"Engineer","Mauritius","4 to 6",7,{"$f":"VLOOKUP(F801,mapping!$L$2:$P$92,2,0)","v":0.54851070618148901},{"$f":"VLOOKUP($F801,mapping!$L$2:$P$92,3,0)","v":8776.7800000000007},{"$f":"VLOOKUP($F801,mapping!$L$2:$P$92,4,0)","v":"Sub-Saharan Africa"},{"$f":"$D801*VLOOKUP($E801,'Charts data'!$A$2:$B$11,2,0)*VLOOKUP($G801,'Charts data'!$A$14:$B$18,2,0)/IF('Charts data'!$E$3=1,I801,1)/IF('Charts data'!$E$4=1,J801,1)","v":9376.2513877177607}]
["ID0316",150000,"MXN",{"$f":"B802*VLOOKUP(C802,tblXrate[],2,0)","v":10956.982885192734},"Analyst","Mexico","8 Hrs",null,{"$f":"VLOOKUP(F802,mapping!$L$2:$P$92,2,0)","v":0.63068393487169372},{"$f":"VLOOKUP($F802,mapping!$L$2:$P$92,3,0)","v":10153.299999999999},{"$f":"VLOOKUP($F802,mapping!$L$2:$P$92,4,0)","v":"Latin America and the Caribbean"},{"$f":"$D802*VLOOKUP($E802,'Charts data'!$A$2:$B$11,2,0)*VLOOKUP($G802,'Charts data'!$A$14:$B$18,2,0)/IF('Charts data'!$E$3=1,I802,1)/IF('Charts data'!$E$4=1,J802,1)","v":10956.982885192734}]
["ID1001",48000,"MYR",{"$f":"B803*VLOOKUP(C803,tblXrate[],2,0)","v":15206.427249917633},"Manager","malaysia","4 to 6",2,{"$f":"VLOOKUP(F803,mapping!$L$2:$P$92,2,0)","v":0.6038218820488126},{"$f":"VLOOKUP($F803,mapping!$L$2:$P$92,3,0)","v":9699.7000000000007},{"$f":"VLOOKUP($F803,mapping!$L$2:$P$92,4,0)","v":"Developing Asia"},{"$f":"$D803*VLOOKUP($E803,'Charts data'!$A$2:$B$11,2,0)*VLOOKUP($G803,'Charts data'!$A$14:$B$18,2,0)/IF('Charts data'!$E$3=1,I803,1)/IF('Charts data'!$E$4=1,J803,1)","v":15206.427249917633}]
["ID1261",36000,"MYR",{"$f":"B804*VLOOKUP(C804,tblXrate[],2,0)","v":11404.820437438224},"Engineer","malaysia","4 to 6",2,{"$f":"VLOOKUP(F804,mapping!$L$2:$P$92,2,0)","v":0.6038218820488126},{"$f":"VLOOKUP($F804,mapping!$L$2:$P$92,3,0)","v":9699.7000000000007},{"$f":"VLOOKUP($F804,mapping!$L$2:$P$92,4,0)","v":"Developing Asia"},{"$f":"$D804*VLOOKUP($E804,'Charts data'!$A$2:$B$11,2,0)*VLOOKUP($G804,'Charts data'!$A$14:$B$18,2,0)/IF('Charts data'!$E$3=1,I804,1)/IF('Charts data'!$E$4=1,J804,1)","v":11404.820437438224}]
["ID1279",89500,"MYR",{"$f":"B805*VLOOKUP(C805,tblXrate[],2,0)","v":28353.650809742252},"Manager","malaysia","2 to 3",20,{"$f":"VLOOKUP(F805,mapping!$L$2:$P$92,2,0)","v":0.6038218820488126},{"$f":"VLOOKUP($F805,mapping!$L$2:$P$92,3,0)","v":9699.7000000000007},{"$f":"VLOOKUP($F805,mapping!$L$2:$P$92,4,0)","v":"Developing Asia"},{"$f":"$D805*VLOOKUP($E805,'Charts data'!$A$2:$B$11,2,0)*VLOOKUP($G805,'Charts data'!$A$14:$B$18,2,0)/IF('Charts data'!$E$3=1,I805,1)/IF('Charts data'!$E$4=1,J805,1)","v":28353.650809742252}]
["ID1446",60000,"MYR",{"$f":"B806*VLOOKUP(C806,tblXrate[],2,0)","v":19008.034062397041},"Manager","malaysia","4 to 6",3,{"$f":"VLOOKUP(F806,mapping!$L$2:$P$92,2,0)","v":0.6038218820488126},{"$f":"VLOOKUP($F806,mapping!$L$2:$P$92,3,0)","v":9699.7000000000007},{"$f":"VLOOKUP($F806,mapping!$L$2:$P$92,4,0)","v":"Developing Asia"},{"$f":"$D806*VLOOKUP($E806,'Charts data'!$A$2:$B$11,2,0)*VLOOKUP($G806,'Charts data'!$A$14:$B$18,2,0)/IF('Charts data'!$E$3=1,I806,1)/IF('Charts data'!$E$4=1,J806,1)","v":19008.034062397041}]
["ID0759",1488000,"NAIRA",{"$f":"B807*VLOOKUP(C807,tblXrate[],2,0)","v":9171.0323574730355},"Manager","Nigeria","2 to 3",5,{"$f":"VLOOKUP(F807,mapping!$L$2:$P$92,2,0)","v":0.54494915254237297},{"$f":"VLOOKUP($F807,mapping!$L$2:$P$92,3,0)","v":1490.06},{"$f":"VLOOKUP($F807,mapping!$L$2:$P$92,4,0)","v":"Sub-Saharan Africa"},{"$f":"$D807*VLOOKUP($E807,'Charts data'!$A$2:$B$11,2,0)*VLOOKUP($G807,'Charts data'!$A$14:$B$18,2,0)/IF('Charts data'!$E$3=1,I807,1)/IF('Charts data'!$E$4=1,J807,1)","v":9171.0323574730355}]
["ID0958",2000000,"NAIRA",{"$f":"B808*VLOOKUP(C808,tblXrate[],2,0)","v":12326.656394453004},"Manager","Nigeria","4 to 6",5,{"$f":"VLOOKUP(F808,mapping!$L$2:$P$92,2,0)","v":0.54494915254237297},{"$f":"VLOOKUP($F808,mapping!$L$2:$P$92,3,0)","v":1490.06},{"$f":"VLOOKUP($F808,mapping!$L$2:$P$92,4,0)","v":"Sub-Saharan Africa"},{"$f":"$D808*VLOOKUP($E808,'Charts data'!$A$2:$B$11,2,0)*VLOOKUP($G808,'Charts data'!$A$14:$B$18,2,0)/IF('Charts data'!$E$3=1,I808,1)/IF('Charts data'!$E$4=1,J808,1)","v":12326.656394453004}]
["ID1693",400000,"NOK",{"$f":"B809*VLOOKUP(C809,tblXrate[],2,0)","v":67700.452577525488},"Analyst","Norway","8 Hrs",5,{"$f":"VLOOKUP(F809,mapping!$L$2:$P$92,2,0)","v":12.950451881080451},{"$f":"VLOOKUP($F809,mapping!$L$2:$P$92,3,0)","v":97254.6},{"$f":"VLOOKUP($F809,mapping!$L$2:$P$92,4,0)","v":"Other Advanced Economies"},{"$f":"$D809*VLOOKUP($E809,'Charts data'!$A$2:$B$11,2,0)*VLOOKUP($G809,'Charts data'!$A$14:$B$18,2,0)/IF('Charts data'!$E$3=1,I809,1)/IF('Charts data'!$E$4=1,J809,1)","v":67700.452577525488}]
["ID0570",80000,"NZD",{"$f":"B810*VLOOKUP(C810,tblXrate[],2,0)","v":63807.047488395103},"Analyst","New Zealand","4 to 6",23,{"$f":"VLOOKUP(F810,mapping!$L$2:$P$92,2,0)","v":1.3351624686946675},{"$f":"VLOOKUP($F810,mapping!$L$2:$P$92,3,0)","v":36648.199999999997},{"$f":"VLOOKUP($F810,mapping!$L$2:$P$92,4,0)","v":"Other Advanced Economies"},{"$f":"$D810*VLOOKUP($E810,'Charts data'!$A$2:$B$11,2,0)*VLOOKUP($G810,'Charts data'!$A$14:$B$18,2,0)/IF('Charts data'!$E$3=1,I810,1)/IF('Charts data'!$E$4=1,J810,1)","v":63807.047488395103}]
["ID0721",85000,"NZD",{"$f":"B811*VLOOKUP(C811,tblXrate[],2,0)","v":67794.987956419791},"Manager","New Zealand","4 to 6",15,{"$f":"VLOOKUP(F811,mapping!$L$2:$P$92,2,0)","v":1.3351624686946675},{"$f":"VLOOKUP($F811,mapping!$L$2:$P$92,3,0)","v":36648.199999999997},{"$f":"VLOOKUP($F811,mapping!$L$2:$P$92,4,0)","v":"Other Advanced Economies"},{"$f":"$D811*VLOOKUP($E811,'Charts data'!$A$2:$B$11,2,0)*VLOOKUP($G811,'Charts data'!$A$14:$B$18,2,0)/IF('Charts data'!$E$3=1,I811,1)/IF('Charts data'!$E$4=1,J811,1)","v":67794.987956419791}]
["ID0962",75000,"NZD",{"$f":"B812*VLOOKUP(C812,tblXrate[],2,0)","v":59819.107020370408},"Analyst","New Zealand","4 to 6",10,{"$f":"VLOOKUP(F812,mapping!$L$2:$P$92,2,0)","v":1.3351624686946675},{"$f":"VLOOKUP($F812,mapping!$L$2:$P$92,3,0)","v":36648.199999999997},{"$f":"VLOOKUP($F812,mapping!$L$2:$P$92,4,0)","v":"Other Advanced Economies"},{"$f":"$D812*VLOOKUP($E812,'Charts data'!$A$2:$B$11,2,0)*VLOOKUP($G812,'Charts data'!$A$14:$B$18,2,0)/IF('Charts data'!$E$3=1,I812,1)/IF('Charts data'!$E$4=1,J812,1)","v":59819.107020370408}]
["ID0973",95000,"NZD",{"$f":"B813*VLOOKUP(C813,tblXrate[],2,0)","v":75770.868892469181},"Accountant","New Zealand","4 to 6",20,{"$f":"VLOOKUP(F813,mapping!$L$2:$P$92,2,0)","v":1.3351624686946675},{"$f":"VLOOKUP($F813,mapping!$L$2:$P$92,3,0)","v":36648.199999999997},{"$f":"VLOOKUP($F813,mapping!$L$2:$P$92,4,0)","v":"Other Advanced Economies"},{"$f":"$D813*VLOOKUP($E813,'Charts data'!$A$2:$B$11,2,0)*VLOOKUP($G813,'Charts data'!$A$14:$B$18,2,0)/IF('Charts data'!$E$3=1,I813,1)/IF('Charts data'!$E$4=1,J813,1)","v":75770.868892469181}]
["ID1002",180000,"NZD",{"$f":"B814*VLOOKUP(C814,tblXrate[],2,0)","v":143565.85684888897},"Manager","New Zealand","4 to 6",25,{"$f":"VLOOKUP(F814,mapping!$L$2:$P$92,2,0)","v":1.3351624686946675},{"$f":"VLOOKUP($F814,mapping!$L$2:$P$92,3,0)","v":36648.199999999997},{"$f":"VLOOKUP($F814,mapping!$L$2:$P$92,4,0)","v":"Other Advanced Economies"},{"$f":"$D814*VLOOKUP($E814,'Charts data'!$A$2:$B$11,2,0)*VLOOKUP($G814,'Charts data'!$A$14:$B$18,2,0)/IF('Charts data'!$E$3=1,I814,1)/IF('Charts data'!$E$4=1,J814,1)","v":143565.85684888897}]
["ID1040",55000,"NZD",{"$f":"B815*VLOOKUP(C815,tblXrate[],2,0)","v":43867.345148271634},"Analyst","New Zealand","8 Hrs",10,{"$f":"VLOOKUP(F815,mapping!$L$2:$P$92,2,0)","v":1.3351624686946675},{"$f":"VLOOKUP($F815,mapping!$L$2:$P$92,3,0)","v":36648.199999999997},{"$f":"VLOOKUP($F815,mapping!$L$2:$P$92,4,0)","v":"Other Advanced Economies"},{"$f":"$D815*VLOOKUP($E815,'Charts data'!$A$2:$B$11,2,0)*VLOOKUP($G815,'Charts data'!$A$14:$B$18,2,0)/IF('Charts data'!$E$3=1,I815,1)/IF('Charts data'!$E$4=1,J815,1)","v":43867.345148271634}]
["ID1335",80000,"NZD",{"$f":"B816*VLOOKUP(C816,tblXrate[],2,0)","v":63807.047488395103},"Accountant","New Zealand","8 Hrs",15,{"$f":"VLOOKUP(F816,mapping!$L$2:$P$92,2,0)","v":1.3351624686946675},{"$f":"VLOOKUP($F816,mapping!$L$2:$P$92,3,0)","v":36648.199999999997},{"$f":"VLOOKUP($F816,mapping!$L$2:$P$92,4,0)","v":"Other Advanced Economies"},{"$f":"$D816*VLOOKUP($E816,'Charts data'!$A$2:$B$11,2,0)*VLOOKUP($G816,'Charts data'!$A$14:$B$18,2,0)/IF('Charts data'!$E$3=1,I816,1)/IF('Charts data'!$E$4=1,J816,1)","v":63807.047488395103}]
["ID1461",50000,"NZD",{"$f":"B817*VLOOKUP(C817,tblXrate[],2,0)","v":39879.404680246938},"Engineer","New Zealand","4 to 6",5,{"$f":"VLOOKUP(F817,mapping!$L$2:$P$92,2,0)","v":1.3351624686946675},{"$f":"VLOOKUP($F817,mapping!$L$2:$P$92,3,0)","v":36648.199999999997},{"$f":"VLOOKUP($F817,mapping!$L$2:$P$92,4,0)","v":"Other Advanced Economies"},{"$f":"$D817*VLOOKUP($E817,'Charts data'!$A$2:$B$11,2,0)*VLOOKUP($G817,'Charts data'!$A$14:$B$18,2,0)/IF('Charts data'!$E$3=1,I817,1)/IF('Charts data'!$E$4=1,J817,1)","v":39879.404680246938}]
["ID1639",75000,"NZD",{"$f":"B818*VLOOKUP(C818,tblXrate[],2,0)","v":59819.107020370408},"Analyst","New Zealand","2 to 3",10,{"$f":"VLOOKUP(F818,mapping!$L$2:$P$92,2,0)","v":1.3351624686946675},{"$f":"VLOOKUP($F818,mapping!$L$2:$P$92,3,0)","v":36648.199999999997},{"$f":"VLOOKUP($F818,mapping!$L$2:$P$92,4,0)","v":"Other Advanced Economies"},{"$f":"$D818*VLOOKUP($E818,'Charts data'!$A$2:$B$11,2,0)*VLOOKUP($G818,'Charts data'!$A$14:$B$18,2,0)/IF('Charts data'!$E$3=1,I818,1)/IF('Charts data'!$E$4=1,J818,1)","v":59819.107020370408}]
["ID1684",110000,"NZD",{"$f":"B819*VLOOKUP(C819,tblXrate[],2,0)","v":87734.690296543267},"Manager","New Zealand","4 to 6",6,{"$f":"VLOOKUP(F819,mapping!$L$2:$P$92,2,0)","v":1.3351624686946675},{"$f":"VLOOKUP($F819,mapping!$L$2:$P$92,3,0)","v":36648.199999999997},{"$f":"VLOOKUP($F819,mapping!$L$2:$P$92,4,0)","v":"Other Advanced Economies"},{"$f":"$D819*VLOOKUP($E819,'Charts data'!$A$2:$B$11,2,0)*VLOOKUP($G819,'Charts data'!$A$14:$B$18,2,0)/IF('Charts data'!$E$3=1,I819,1)/IF('Charts data'!$E$4=1,J819,1)","v":87734.690296543267}]
["ID1685",71000,"NZD",{"$f":"B820*VLOOKUP(C820,tblXrate[],2,0)","v":56628.754645950656},"Analyst","New Zealand","8 Hrs",6,{"$f":"VLOOKUP(F820,mapping!$L$2:$P$92,2,0)","v":1.3351624686946675},{"$f":"VLOOKUP($F820,mapping!$L$2:$P$92,3,0)","v":36648.199999999997},{"$f":"VLOOKUP($F820,mapping!$L$2:$P$92,4,0)","v":"Other Advanced Economies"},{"$f":"$D820*VLOOKUP($E820,'Charts data'!$A$2:$B$11,2,0)*VLOOKUP($G820,'Charts data'!$A$14:$B$18,2,0)/IF('Charts data'!$E$3=1,I820,1)/IF('Charts data'!$E$4=1,J820,1)","v":56628.754645950656}]
["ID1885",75000,"NZD",{"$f":"B821*VLOOKUP(C821,tblXrate[],2,0)","v":59819.107020370408},"Accountant","New Zealand","4 to 6",4,{"$f":"VLOOKUP(F821,mapping!$L$2:$P$92,2,0)","v":1.3351624686946675},{"$f":"VLOOKUP($F821,mapping!$L$2:$P$92,3,0)","v":36648.199999999997},{"$f":"VLOOKUP($F821,mapping!$L$2:$P$92,4,0)","v":"Other Advanced Economies"},{"$f":"$D821*VLOOKUP($E821,'Charts data'!$A$2:$B$11,2,0)*VLOOKUP($G821,'Charts data'!$A$14:$B$18,2,0)/IF('Charts data'!$E$3=1,I821,1)/IF('Charts data'!$E$4=1,J821,1)","v":59819.107020370408}]
["ID0276",420000,"PHP",{"$f":"B822*VLOOKUP(C822,tblXrate[],2,0)","v":9956.1219482708348},"Manager","Philippines","4 to 6",null,{"$f":"VLOOKUP(F822,mapping!$L$2:$P$92,2,0)","v":0.59108547804793632},{"$f":"VLOOKUP($F822,mapping!$L$2:$P$92,3,0)","v":2223.44},{"$f":"VLOOKUP($F822,mapping!$L$2:$P$92,4,0)","v":"Developing Asia"},{"$f":"$D822*VLOOKUP($E822,'Charts data'!$A$2:$B$11,2,0)*VLOOKUP($G822,'Charts data'!$A$14:$B$18,2,0)/IF('Charts data'!$E$3=1,I822,1)/IF('Charts data'!$E$4=1,J822,1)","v":9956.1219482708348}]
["ID0328",456000,"PHP",{"$f":"B823*VLOOKUP(C823,tblXrate[],2,0)","v":10809.503829551191},"Reporting","Philippines","4 to 6",null,{"$f":"VLOOKUP(F823,mapping!$L$2:$P$92,2,0)","v":0.59108547804793632},{"$f":"VLOOKUP($F823,mapping!$L$2:$P$92,3,0)","v":2223.44},{"$f":"VLOOKUP($F823,mapping!$L$2:$P$92,4,0)","v":"Developing Asia"},{"$f":"$D823*VLOOKUP($E823,'Charts data'!$A$2:$B$11,2,0)*VLOOKUP($G823,'Charts data'!$A$14:$B$18,2,0)/IF('Charts data'!$E$3=1,I823,1)/IF('Charts data'!$E$4=1,J823,1)","v":10809.503829551191}]
["ID0680",720000,"PHP",{"$f":"B824*VLOOKUP(C824,tblXrate[],2,0)","v":17067.637625607145},"Manager","Philippines","4 to 6",9,{"$f":"VLOOKUP(F824,mapping!$L$2:$P$92,2,0)","v":0.59108547804793632},{"$f":"VLOOKUP($F824,mapping!$L$2:$P$92,3,0)","v":2223.44},{"$f":"VLOOKUP($F824,mapping!$L$2:$P$92,4,0)","v":"Developing Asia"},{"$f":"$D824*VLOOKUP($E824,'Charts data'!$A$2:$B$11,2,0)*VLOOKUP($G824,'Charts data'!$A$14:$B$18,2,0)/IF('Charts data'!$E$3=1,I824,1)/IF('Charts data'!$E$4=1,J824,1)","v":17067.637625607145}]
["ID0901",168000,"PHP",{"$f":"B825*VLOOKUP(C825,tblXrate[],2,0)","v":3982.448779308334},"Analyst","Philippines","4 to 6",10,{"$f":"VLOOKUP(F825,mapping!$L$2:$P$92,2,0)","v":0.59108547804793632},{"$f":"VLOOKUP($F825,mapping!$L$2:$P$92,3,0)","v":2223.44},{"$f":"VLOOKUP($F825,mapping!$L$2:$P$92,4,0)","v":"Developing Asia"},{"$f":"$D825*VLOOKUP($E825,'Charts data'!$A$2:$B$11,2,0)*VLOOKUP($G825,'Charts data'!$A$14:$B$18,2,0)/IF('Charts data'!$E$3=1,I825,1)/IF('Charts data'!$E$4=1,J825,1)","v":3982.448779308334}]
["ID1136",216000,"PHP",{"$f":"B826*VLOOKUP(C826,tblXrate[],2,0)","v":5120.2912876821438},"Manager","Philippines","4 to 6",2,{"$f":"VLOOKUP(F826,mapping!$L$2:$P$92,2,0)","v":0.59108547804793632},{"$f":"VLOOKUP($F826,mapping!$L$2:$P$92,3,0)","v":2223.44},{"$f":"VLOOKUP($F826,mapping!$L$2:$P$92,4,0)","v":"Developing Asia"},{"$f":"$D826*VLOOKUP($E826,'Charts data'!$A$2:$B$11,2,0)*VLOOKUP($G826,'Charts data'!$A$14:$B$18,2,0)/IF('Charts data'!$E$3=1,I826,1)/IF('Charts data'!$E$4=1,J826,1)","v":5120.2912876821438}]
["ID1578",240000,"PHP",{"$f":"B827*VLOOKUP(C827,tblXrate[],2,0)","v":5689.2125418690484},"Manager","Philippines","4 to 6",15,{"$f":"VLOOKUP(F827,mapping!$L$2:$P$92,2,0)","v":0.59108547804793632},{"$f":"VLOOKUP($F827,mapping!$L$2:$P$92,3,0)","v":2223.44},{"$f":"VLOOKUP($F827,mapping!$L$2:$P$92,4,0)","v":"Developing Asia"},{"$f":"$D827*VLOOKUP($E827,'Charts data'!$A$2:$B$11,2,0)*VLOOKUP($G827,'Charts data'!$A$14:$B$18,2,0)/IF('Charts data'!$E$3=1,I827,1)/IF('Charts data'!$E$4=1,J827,1)","v":5689.2125418690484}]
["ID0010",1152000,"PKR",{"$f":"B828*VLOOKUP(C828,tblXrate[],2,0)","v":12227.430201752599},"Accountant","Pakistan","8 Hrs",null,{"$f":"VLOOKUP(F828,mapping!$L$2:$P$92,2,0)","v":0.65835867993475172},{"$f":"VLOOKUP($F828,mapping!$L$2:$P$92,3,0)","v":1201.1099999999999},{"$f":"VLOOKUP($F828,mapping!$L$2:$P$92,4,0)","v":"Developing Asia"},{"$f":"$D828*VLOOKUP($E828,'Charts data'!$A$2:$B$11,2,0)*VLOOKUP($G828,'Charts data'!$A$14:$B$18,2,0)/IF('Charts data'!$E$3=1,I828,1)/IF('Charts data'!$E$4=1,J828,1)","v":12227.430201752599}]
["ID0541",600000,"PKR",{"$f":"B829*VLOOKUP(C829,tblXrate[],2,0)","v":6368.453230079479},"Consultant","Pakistan","4 to 6",null,{"$f":"VLOOKUP(F829,mapping!$L$2:$P$92,2,0)","v":0.65835867993475172},{"$f":"VLOOKUP($F829,mapping!$L$2:$P$92,3,0)","v":1201.1099999999999},{"$f":"VLOOKUP($F829,mapping!$L$2:$P$92,4,0)","v":"Developing Asia"},{"$f":"$D829*VLOOKUP($E829,'Charts data'!$A$2:$B$11,2,0)*VLOOKUP($G829,'Charts data'!$A$14:$B$18,2,0)/IF('Charts data'!$E$3=1,I829,1)/IF('Charts data'!$E$4=1,J829,1)","v":6368.453230079479}]
["ID0659",200000,"PKR",{"$f":"B830*VLOOKUP(C830,tblXrate[],2,0)","v":2122.8177433598262},"Accountant","Pakistan","2 to 3",2,{"$f":"VLOOKUP(F830,mapping!$L$2:$P$92,2,0)","v":0.65835867993475172},{"$f":"VLOOKUP($F830,mapping!$L$2:$P$92,3,0)","v":1201.1099999999999},{"$f":"VLOOKUP($F830,mapping!$L$2:$P$92,4,0)","v":"Developing Asia"},{"$f":"$D830*VLOOKUP($E830,'Charts data'!$A$2:$B$11,2,0)*VLOOKUP($G830,'Charts data'!$A$14:$B$18,2,0)/IF('Charts data'!$E$3=1,I830,1)/IF('Charts data'!$E$4=1,J830,1)","v":2122.8177433598262}]
["ID0723",204000,"PKR",{"$f":"B831*VLOOKUP(C831,tblXrate[],2,0)","v":2165.2740982270229},"Manager","Pakistan","8 Hrs",2,{"$f":"VLOOKUP(F831,mapping!$L$2:$P$92,2,0)","v":0.65835867993475172},{"$f":"VLOOKUP($F831,mapping!$L$2:$P$92,3,0)","v":1201.1099999999999},{"$f":"VLOOKUP($F831,mapping!$L$2:$P$92,4,0)","v":"Developing Asia"},{"$f":"$D831*VLOOKUP($E831,'Charts data'!$A$2:$B$11,2,0)*VLOOKUP($G831,'Charts data'!$A$14:$B$18,2,0)/IF('Charts data'!$E$3=1,I831,1)/IF('Charts data'!$E$4=1,J831,1)","v":2165.2740982270229}]
["ID0783",180000,"PKR",{"$f":"B832*VLOOKUP(C832,tblXrate[],2,0)","v":1910.5359690238436},"Reporting","Pakistan","8 Hrs",7,{"$f":"VLOOKUP(F832,mapping!$L$2:$P$92,2,0)","v":0.65835867993475172},{"$f":"VLOOKUP($F832,mapping!$L$2:$P$92,3,0)","v":1201.1099999999999},{"$f":"VLOOKUP($F832,mapping!$L$2:$P$92,4,0)","v":"Developing Asia"},{"$f":"$D832*VLOOKUP($E832,'Charts data'!$A$2:$B$11,2,0)*VLOOKUP($G832,'Charts data'!$A$14:$B$18,2,0)/IF('Charts data'!$E$3=1,I832,1)/IF('Charts data'!$E$4=1,J832,1)","v":1910.5359690238436}]
["ID0886",420000,"PKR",{"$f":"B833*VLOOKUP(C833,tblXrate[],2,0)","v":4457.9172610556352},"Manager","Pakistan","8 Hrs",4,{"$f":"VLOOKUP(F833,mapping!$L$2:$P$92,2,0)","v":0.65835867993475172},{"$f":"VLOOKUP($F833,mapping!$L$2:$P$92,3,0)","v":1201.1099999999999},{"$f":"VLOOKUP($F833,mapping!$L$2:$P$92,4,0)","v":"Developing Asia"},{"$f":"$D833*VLOOKUP($E833,'Charts data'!$A$2:$B$11,2,0)*VLOOKUP($G833,'Charts data'!$A$14:$B$18,2,0)/IF('Charts data'!$E$3=1,I833,1)/IF('Charts data'!$E$4=1,J833,1)","v":4457.9172610556352}]
["ID1026",300000,"PKR",{"$f":"B834*VLOOKUP(C834,tblXrate[],2,0)","v":3184.2266150397395},"Manager","Pakistan","4 to 6",4,{"$f":"VLOOKUP(F834,mapping!$L$2:$P$92,2,0)","v":0.65835867993475172},{"$f":"VLOOKUP($F834,mapping!$L$2:$P$92,3,0)","v":1201.1099999999999},{"$f":"VLOOKUP($F834,mapping!$L$2:$P$92,4,0)","v":"Developing Asia"},{"$f":"$D834*VLOOKUP($E834,'Charts data'!$A$2:$B$11,2,0)*VLOOKUP($G834,'Charts data'!$A$14:$B$18,2,0)/IF('Charts data'!$E$3=1,I834,1)/IF('Charts data'!$E$4=1,J834,1)","v":3184.2266150397395}]
["ID1034",456000,"PKR",{"$f":"B835*VLOOKUP(C835,tblXrate[],2,0)","v":4840.0244548604041},"Manager","Pakistan","4 to 6",2,{"$f":"VLOOKUP(F835,mapping!$L$2:$P$92,2,0)","v":0.65835867993475172},{"$f":"VLOOKUP($F835,mapping!$L$2:$P$92,3,0)","v":1201.1099999999999},{"$f":"VLOOKUP($F835,mapping!$L$2:$P$92,4,0)","v":"Developing Asia"},{"$f":"$D835*VLOOKUP($E835,'Charts data'!$A$2:$B$11,2,0)*VLOOKUP($G835,'Charts data'!$A$14:$B$18,2,0)/IF('Charts data'!$E$3=1,I835,1)/IF('Charts data'!$E$4=1,J835,1)","v":4840.0244548604041}]
["ID1154",168000,"PKR",{"$f":"B836*VLOOKUP(C836,tblXrate[],2,0)","v":1783.166904422254},"Accountant","Pakistan","4 to 6",10,{"$f":"VLOOKUP(F836,mapping!$L$2:$P$92,2,0)","v":0.65835867993475172},{"$f":"VLOOKUP($F836,mapping!$L$2:$P$92,3,0)","v":1201.1099999999999},{"$f":"VLOOKUP($F836,mapping!$L$2:$P$92,4,0)","v":"Developing Asia"},{"$f":"$D836*VLOOKUP($E836,'Charts data'!$A$2:$B$11,2,0)*VLOOKUP($G836,'Charts data'!$A$14:$B$18,2,0)/IF('Charts data'!$E$3=1,I836,1)/IF('Charts data'!$E$4=1,J836,1)","v":1783.166904422254}]
["ID1190",2000000,"PKR",{"$f":"B837*VLOOKUP(C837,tblXrate[],2,0)","v":21228.177433598263},"Consultant","Pakistan","8 Hrs",8,{"$f":"VLOOKUP(F837,mapping!$L$2:$P$92,2,0)","v":0.65835867993475172},{"$f":"VLOOKUP($F837,mapping!$L$2:$P$92,3,0)","v":1201.1099999999999},{"$f":"VLOOKUP($F837,mapping!$L$2:$P$92,4,0)","v":"Developing Asia"},{"$f":"$D837*VLOOKUP($E837,'Charts data'!$A$2:$B$11,2,0)*VLOOKUP($G837,'Charts data'!$A$14:$B$18,2,0)/IF('Charts data'!$E$3=1,I837,1)/IF('Charts data'!$E$4=1,J837,1)","v":21228.177433598263}]
["ID1815",1281600,"PKR",{"$f":"B838*VLOOKUP(C838,tblXrate[],2,0)","v":13603.016099449767},"Manager","Pakistan","8 Hrs",8,{"$f":"VLOOKUP(F838,mapping!$L$2:$P$92,2,0)","v":0.65835867993475172},{"$f":"VLOOKUP($F838,mapping!$L$2:$P$92,3,0)","v":1201.1099999999999},{"$f":"VLOOKUP($F838,mapping!$L$2:$P$92,4,0)","v":"Developing Asia"},{"$f":"$D838*VLOOKUP($E838,'Charts data'!$A$2:$B$11,2,0)*VLOOKUP($G838,'Charts data'!$A$14:$B$18,2,0)/IF('Charts data'!$E$3=1,I838,1)/IF('Charts data'!$E$4=1,J838,1)","v":13603.016099449767}]
["ID1192",60000,"PLN",{"$f":"B839*VLOOKUP(C839,tblXrate[],2,0)","v":18018.883790212141},"Analyst","Poland","8 Hrs",10,{"$f":"VLOOKUP(F839,mapping!$L$2:$P$92,2,0)","v":2.5064980931304421},{"$f":"VLOOKUP($F839,mapping!$L$2:$P$92,3,0)","v":13539.84},{"$f":"VLOOKUP($F839,mapping!$L$2:$P$92,4,0)","v":"Central and Eastern Europe"},{"$f":"$D839*VLOOKUP($E839,'Charts data'!$A$2:$B$11,2,0)*VLOOKUP($G839,'Charts data'!$A$14:$B$18,2,0)/IF('Charts data'!$E$3=1,I839,1)/IF('Charts data'!$E$4=1,J839,1)","v":18018.883790212141}]
["ID0833",65000,"RON",{"$f":"B840*VLOOKUP(C840,tblXrate[],2,0)","v":18499.860539512854},"Specialist","Romania","4 to 6",6,{"$f":"VLOOKUP(F840,mapping!$L$2:$P$92,2,0)","v":0.61647227582438224},{"$f":"VLOOKUP($F840,mapping!$L$2:$P$92,3,0)","v":8862.8700000000008},{"$f":"VLOOKUP($F840,mapping!$L$2:$P$92,4,0)","v":"Central and Eastern Europe"},{"$f":"$D840*VLOOKUP($E840,'Charts data'!$A$2:$B$11,2,0)*VLOOKUP($G840,'Charts data'!$A$14:$B$18,2,0)/IF('Charts data'!$E$3=1,I840,1)/IF('Charts data'!$E$4=1,J840,1)","v":18499.860539512854}]
["ID1415",216000,"SAR",{"$f":"B841*VLOOKUP(C841,tblXrate[],2,0)","v":57600},"Engineer","Saudi Arabia","4 to 6",20,{"$f":"VLOOKUP(F841,mapping!$L$2:$P$92,2,0)","v":0.8448},{"$f":"VLOOKUP($F841,mapping!$L$2:$P$92,3,0)","v":20504.36},{"$f":"VLOOKUP($F841,mapping!$L$2:$P$92,4,0)","v":"Middle East and North Africa"},{"$f":"$D841*VLOOKUP($E841,'Charts data'!$A$2:$B$11,2,0)*VLOOKUP($G841,'Charts data'!$A$14:$B$18,2,0)/IF('Charts data'!$E$3=1,I841,1)/IF('Charts data'!$E$4=1,J841,1)","v":57600}]
["ID1543",320000,"SAR",{"$f":"B842*VLOOKUP(C842,tblXrate[],2,0)","v":85333.333333333328},"Manager","Saudi Arabia","2 to 3",15,{"$f":"VLOOKUP(F842,mapping!$L$2:$P$92,2,0)","v":0.8448},{"$f":"VLOOKUP($F842,mapping!$L$2:$P$92,3,0)","v":20504.36},{"$f":"VLOOKUP($F842,mapping!$L$2:$P$92,4,0)","v":"Middle East and North Africa"},{"$f":"$D842*VLOOKUP($E842,'Charts data'!$A$2:$B$11,2,0)*VLOOKUP($G842,'Charts data'!$A$14:$B$18,2,0)/IF('Charts data'!$E$3=1,I842,1)/IF('Charts data'!$E$4=1,J842,1)","v":85333.333333333328}]
["ID0363",480000,"SEK",{"$f":"B843*VLOOKUP(C843,tblXrate[],2,0)","v":68954.520184280962},"Consultant","Sweden","1 or 2",null,{"$f":"VLOOKUP(F843,mapping!$L$2:$P$92,2,0)","v":1.3153074725151594},{"$f":"VLOOKUP($F843,mapping!$L$2:$P$92,3,0)","v":56956.31},{"$f":"VLOOKUP($F843,mapping!$L$2:$P$92,4,0)","v":"Other Advanced Economies"},{"$f":"$D843*VLOOKUP($E843,'Charts data'!$A$2:$B$11,2,0)*VLOOKUP($G843,'Charts data'!$A$14:$B$18,2,0)/IF('Charts data'!$E$3=1,I843,1)/IF('Charts data'!$E$4=1,J843,1)","v":68954.520184280962}]
["ID1021",92000,"SGD",{"$f":"B844*VLOOKUP(C844,tblXrate[],2,0)","v":72571.80269935554},"Manager","Singapore","8 Hrs",15,{"$f":"VLOOKUP(F844,mapping!$L$2:$P$92,2,0)","v":0.81879925219490268},{"$f":"VLOOKUP($F844,mapping!$L$2:$P$92,3,0)","v":49270.87},{"$f":"VLOOKUP($F844,mapping!$L$2:$P$92,4,0)","v":"Newly Industrialized Asian Economies"},{"$f":"$D844*VLOOKUP($E844,'Charts data'!$A$2:$B$11,2,0)*VLOOKUP($G844,'Charts data'!$A$14:$B$18,2,0)/IF('Charts data'!$E$3=1,I844,1)/IF('Charts data'!$E$4=1,J844,1)","v":72571.80269935554}]
["ID0938",20571,"USD",{"$f":"B845*VLOOKUP(C845,tblXrate[],2,0)","v":20571},"CXO or Top Mgmt.","Albania","4 to 6",8,{"$f":"VLOOKUP(F845,mapping!$L$2:$P$92,2,0)","v":0.47374412721358866},{"$f":"VLOOKUP($F845,mapping!$L$2:$P$92,3,0)","v":3992.47},{"$f":"VLOOKUP($F845,mapping!$L$2:$P$92,4,0)","v":"Central and Eastern Europe"},{"$f":"$D845*VLOOKUP($E845,'Charts data'!$A$2:$B$11,2,0)*VLOOKUP($G845,'Charts data'!$A$14:$B$18,2,0)/IF('Charts data'!$E$3=1,I845,1)/IF('Charts data'!$E$4=1,J845,1)","v":20571}]
["ID1187",24000,"USD",{"$f":"B846*VLOOKUP(C846,tblXrate[],2,0)","v":24000},"Manager","Argentina","4 to 6",21,{"$f":"VLOOKUP(F846,mapping!$L$2:$P$92,2,0)","v":0.57159010223182793},{"$f":"VLOOKUP($F846,mapping!$L$2:$P$92,3,0)","v":10944.71},{"$f":"VLOOKUP($F846,mapping!$L$2:$P$92,4,0)","v":"Latin America and the Caribbean"},{"$f":"$D846*VLOOKUP($E846,'Charts data'!$A$2:$B$11,2,0)*VLOOKUP($G846,'Charts data'!$A$14:$B$18,2,0)/IF('Charts data'!$E$3=1,I846,1)/IF('Charts data'!$E$4=1,J846,1)","v":24000}]
["ID1732",6000,"USD",{"$f":"B847*VLOOKUP(C847,tblXrate[],2,0)","v":6000},"Reporting","Armenia","8 Hrs",5,{"$f":"VLOOKUP(F847,mapping!$L$2:$P$92,2,0)","v":0.51570552734936292},{"$f":"VLOOKUP($F847,mapping!$L$2:$P$92,3,0)","v":3032.81},{"$f":"VLOOKUP($F847,mapping!$L$2:$P$92,4,0)","v":"Commonwealth of Independent States"},{"$f":"$D847*VLOOKUP($E847,'Charts data'!$A$2:$B$11,2,0)*VLOOKUP($G847,'Charts data'!$A$14:$B$18,2,0)/IF('Charts data'!$E$3=1,I847,1)/IF('Charts data'!$E$4=1,J847,1)","v":6000}]
["ID0568",95000,"USD",{"$f":"B848*VLOOKUP(C848,tblXrate[],2,0)","v":95000},"Analyst","Australia","2 to 3",11,{"$f":"VLOOKUP(F848,mapping!$L$2:$P$92,2,0)","v":1.6083975281469567},{"$f":"VLOOKUP($F848,mapping!$L$2:$P$92,3,0)","v":65477.03},{"$f":"VLOOKUP($F848,mapping!$L$2:$P$92,4,0)","v":"Other Advanced Economies"},{"$f":"$D848*VLOOKUP($E848,'Charts data'!$A$2:$B$11,2,0)*VLOOKUP($G848,'Charts data'!$A$14:$B$18,2,0)/IF('Charts data'!$E$3=1,I848,1)/IF('Charts data'!$E$4=1,J848,1)","v":95000}]
["ID0725",130000,"USD",{"$f":"B849*VLOOKUP(C849,tblXrate[],2,0)","v":130000},"Manager","Australia","4 to 6",3,{"$f":"VLOOKUP(F849,mapping!$L$2:$P$92,2,0)","v":1.6083975281469567},{"$f":"VLOOKUP($F849,mapping!$L$2:$P$92,3,0)","v":65477.03},{"$f":"VLOOKUP($F849,mapping!$L$2:$P$92,4,0)","v":"Other Advanced Economies"},{"$f":"$D849*VLOOKUP($E849,'Charts data'!$A$2:$B$11,2,0)*VLOOKUP($G849,'Charts data'!$A$14:$B$18,2,0)/IF('Charts data'!$E$3=1,I849,1)/IF('Charts data'!$E$4=1,J849,1)","v":130000}]
["ID0784",36000,"USD",{"$f":"B850*VLOOKUP(C850,tblXrate[],2,0)","v":36000},"Manager","Australia","2 to 3",12,{"$f":"VLOOKUP(F850,mapping!$L$2:$P$92,2,0)","v":1.6083975281469567},{"$f":"VLOOKUP($F850,mapping!$L$2:$P$92,3,0)","v":65477.03},{"$f":"VLOOKUP($F850,mapping!$L$2:$P$92,4,0)","v":"Other Advanced Economies"},{"$f":"$D850*VLOOKUP($E850,'Charts data'!$A$2:$B$11,2,0)*VLOOKUP($G850,'Charts data'!$A$14:$B$18,2,0)/IF('Charts data'!$E$3=1,I850,1)/IF('Charts data'!$E$4=1,J850,1)","v":36000}]
["ID0972",45616,"USD",{"$f":"B851*VLOOKUP(C851,tblXrate[],2,0)","v":45616},"Analyst","Australia","4 to 6",1.5,{"$f":"VLOOKUP(F851,mapping!$L$2:$P$92,2,0)","v":1.6083975281469567},{"$f":"VLOOKUP($F851,mapping!$L$2:$P$92,3,0)","v":65477.03},{"$f":"VLOOKUP($F851,mapping!$L$2:$P$92,4,0)","v":"Other Advanced Economies"},{"$f":"$D851*VLOOKUP($E851,'Charts data'!$A$2:$B$11,2,0)*VLOOKUP($G851,'Charts data'!$A$14:$B$18,2,0)/IF('Charts data'!$E$3=1,I851,1)/IF('Charts data'!$E$4=1,J851,1)","v":45616}]
["ID0975",20000,"USD",{"$f":"B852*VLOOKUP(C852,tblXrate[],2,0)","v":20000},"Analyst","Australia","2 to 3",2,{"$f":"VLOOKUP(F852,mapping!$L$2:$P$92,2,0)","v":1.6083975281469567},{"$f":"VLOOKUP($F852,mapping!$L$2:$P$92,3,0)","v":65477.03},{"$f":"VLOOKUP($F852,mapping!$L$2:$P$92,4,0)","v":"Other Advanced Economies"},{"$f":"$D852*VLOOKUP($E852,'Charts data'!$A$2:$B$11,2,0)*VLOOKUP($G852,'Charts data'!$A$14:$B$18,2,0)/IF('Charts data'!$E$3=1,I852,1)/IF('Charts data'!$E$4=1,J852,1)","v":20000}]
["ID0985",85000,"USD",{"$f":"B853*VLOOKUP(C853,tblXrate[],2,0)","v":85000},"Reporting","Australia","4 to 6",8,{"$f":"VLOOKUP(F853,mapping!$L$2:$P$92,2,0)","v":1.6083975281469567},{"$f":"VLOOKUP($F853,mapping!$L$2:$P$92,3,0)","v":65477.03},{"$f":"VLOOKUP($F853,mapping!$L$2:$P$92,4,0)","v":"Other Advanced Economies"},{"$f":"$D853*VLOOKUP($E853,'Charts data'!$A$2:$B$11,2,0)*VLOOKUP($G853,'Charts data'!$A$14:$B$18,2,0)/IF('Charts data'!$E$3=1,I853,1)/IF('Charts data'!$E$4=1,J853,1)","v":85000}]
["ID1270",43000,"USD",{"$f":"B854*VLOOKUP(C854,tblXrate[],2,0)","v":43000},"Manager","Australia","2 to 3",4,{"$f":"VLOOKUP(F854,mapping!$L$2:$P$92,2,0)","v":1.6083975281469567},{"$f":"VLOOKUP($F854,mapping!$L$2:$P$92,3,0)","v":65477.03},{"$f":"VLOOKUP($F854,mapping!$L$2:$P$92,4,0)","v":"Other Advanced Economies"},{"$f":"$D854*VLOOKUP($E854,'Charts data'!$A$2:$B$11,2,0)*VLOOKUP($G854,'Charts data'!$A$14:$B$18,2,0)/IF('Charts data'!$E$3=1,I854,1)/IF('Charts data'!$E$4=1,J854,1)","v":43000}]
["ID1635",36000,"USD",{"$f":"B855*VLOOKUP(C855,tblXrate[],2,0)","v":36000},"Consultant","Azerbaijan","4 to 6",5,{"$f":"VLOOKUP(F855,mapping!$L$2:$P$92,2,0)","v":0.68517575140091702},{"$f":"VLOOKUP($F855,mapping!$L$2:$P$92,3,0)","v":6832.28},{"$f":"VLOOKUP($F855,mapping!$L$2:$P$92,4,0)","v":"Commonwealth of Independent States"},{"$f":"$D855*VLOOKUP($E855,'Charts data'!$A$2:$B$11,2,0)*VLOOKUP($G855,'Charts data'!$A$14:$B$18,2,0)/IF('Charts data'!$E$3=1,I855,1)/IF('Charts data'!$E$4=1,J855,1)","v":36000}]
["ID1792",3000,"USD",{"$f":"B856*VLOOKUP(C856,tblXrate[],2,0)","v":3000},"Analyst","Bangladesh","1 or 2",12,{"$f":"VLOOKUP(F856,mapping!$L$2:$P$92,2,0)","v":0.36952170055507078},{"$f":"VLOOKUP($F856,mapping!$L$2:$P$92,3,0)","v":678.02800000000002},{"$f":"VLOOKUP($F856,mapping!$L$2:$P$92,4,0)","v":"Developing Asia"},{"$f":"$D856*VLOOKUP($E856,'Charts data'!$A$2:$B$11,2,0)*VLOOKUP($G856,'Charts data'!$A$14:$B$18,2,0)/IF('Charts data'!$E$3=1,I856,1)/IF('Charts data'!$E$4=1,J856,1)","v":3000}]
["ID0742",4800,"USD",{"$f":"B857*VLOOKUP(C857,tblXrate[],2,0)","v":4800},"Analyst","Bhutan","4 to 6",2,{"$f":"VLOOKUP(F857,mapping!$L$2:$P$92,2,0)","v":0.32665732623366672},{"$f":"VLOOKUP($F857,mapping!$L$2:$P$92,3,0)","v":2121.17},{"$f":"VLOOKUP($F857,mapping!$L$2:$P$92,4,0)","v":"Developing Asia"},{"$f":"$D857*VLOOKUP($E857,'Charts data'!$A$2:$B$11,2,0)*VLOOKUP($G857,'Charts data'!$A$14:$B$18,2,0)/IF('Charts data'!$E$3=1,I857,1)/IF('Charts data'!$E$4=1,J857,1)","v":4800}]
["ID1524",9600,"USD",{"$f":"B858*VLOOKUP(C858,tblXrate[],2,0)","v":9600},"Analyst","Bolivia","8 Hrs",2,{"$f":"VLOOKUP(F858,mapping!$L$2:$P$92,2,0)","v":0.47945402298850576},{"$f":"VLOOKUP($F858,mapping!$L$2:$P$92,3,0)","v":2314.83},{"$f":"VLOOKUP($F858,mapping!$L$2:$P$92,4,0)","v":"Latin America and the Caribbean"},{"$f":"$D858*VLOOKUP($E858,'Charts data'!$A$2:$B$11,2,0)*VLOOKUP($G858,'Charts data'!$A$14:$B$18,2,0)/IF('Charts data'!$E$3=1,I858,1)/IF('Charts data'!$E$4=1,J858,1)","v":9600}]
["ID0063",61000,"USD",{"$f":"B859*VLOOKUP(C859,tblXrate[],2,0)","v":61000},"Manager","Brazil","8 Hrs",null,{"$f":"VLOOKUP(F859,mapping!$L$2:$P$92,2,0)","v":0.89267178741955566},{"$f":"VLOOKUP($F859,mapping!$L$2:$P$92,3,0)","v":12788.56},{"$f":"VLOOKUP($F859,mapping!$L$2:$P$92,4,0)","v":"Latin America and the Caribbean"},{"$f":"$D859*VLOOKUP($E859,'Charts data'!$A$2:$B$11,2,0)*VLOOKUP($G859,'Charts data'!$A$14:$B$18,2,0)/IF('Charts data'!$E$3=1,I859,1)/IF('Charts data'!$E$4=1,J859,1)","v":61000}]
["ID0086",31330,"USD",{"$f":"B860*VLOOKUP(C860,tblXrate[],2,0)","v":31330},"Analyst","Brazil","8 Hrs",null,{"$f":"VLOOKUP(F860,mapping!$L$2:$P$92,2,0)","v":0.89267178741955566},{"$f":"VLOOKUP($F860,mapping!$L$2:$P$92,3,0)","v":12788.56},{"$f":"VLOOKUP($F860,mapping!$L$2:$P$92,4,0)","v":"Latin America and the Caribbean"},{"$f":"$D860*VLOOKUP($E860,'Charts data'!$A$2:$B$11,2,0)*VLOOKUP($G860,'Charts data'!$A$14:$B$18,2,0)/IF('Charts data'!$E$3=1,I860,1)/IF('Charts data'!$E$4=1,J860,1)","v":31330}]
["ID0282",14000,"USD",{"$f":"B861*VLOOKUP(C861,tblXrate[],2,0)","v":14000},"Analyst","Brazil","1 or 2",null,{"$f":"VLOOKUP(F861,mapping!$L$2:$P$92,2,0)","v":0.89267178741955566},{"$f":"VLOOKUP($F861,mapping!$L$2:$P$92,3,0)","v":12788.56},{"$f":"VLOOKUP($F861,mapping!$L$2:$P$92,4,0)","v":"Latin America and the Caribbean"},{"$f":"$D861*VLOOKUP($E861,'Charts data'!$A$2:$B$11,2,0)*VLOOKUP($G861,'Charts data'!$A$14:$B$18,2,0)/IF('Charts data'!$E$3=1,I861,1)/IF('Charts data'!$E$4=1,J861,1)","v":14000}]
["ID0324",4545,"USD",{"$f":"B862*VLOOKUP(C862,tblXrate[],2,0)","v":4545},"Analyst","Brazil","8 Hrs",null,{"$f":"VLOOKUP(F862,mapping!$L$2:$P$92,2,0)","v":0.89267178741955566},{"$f":"VLOOKUP($F862,mapping!$L$2:$P$92,3,0)","v":12788.56},{"$f":"VLOOKUP($F862,mapping!$L$2:$P$92,4,0)","v":"Latin America and the Caribbean"},{"$f":"$D862*VLOOKUP($E862,'Charts data'!$A$2:$B$11,2,0)*VLOOKUP($G862,'Charts data'!$A$14:$B$18,2,0)/IF('Charts data'!$E$3=1,I862,1)/IF('Charts data'!$E$4=1,J862,1)","v":4545}]
["ID0348",11400,"USD",{"$f":"B863*VLOOKUP(C863,tblXrate[],2,0)","v":11400},"Consultant","Brazil","4 to 6",null,{"$f":"VLOOKUP(F863,mapping!$L$2:$P$92,2,0)","v":0.89267178741955566},{"$f":"VLOOKUP($F863,mapping!$L$2:$P$92,3,0)","v":12788.56},{"$f":"VLOOKUP($F863,mapping!$L$2:$P$92,4,0)","v":"Latin America and the Caribbean"},{"$f":"$D863*VLOOKUP($E863,'Charts data'!$A$2:$B$11,2,0)*VLOOKUP($G863,'Charts data'!$A$14:$B$18,2,0)/IF('Charts data'!$E$3=1,I863,1)/IF('Charts data'!$E$4=1,J863,1)","v":11400}]
["ID0368",35000,"USD",{"$f":"B864*VLOOKUP(C864,tblXrate[],2,0)","v":35000},"Analyst","Brazil","8 Hrs",null,{"$f":"VLOOKUP(F864,mapping!$L$2:$P$92,2,0)","v":0.89267178741955566},{"$f":"VLOOKUP($F864,mapping!$L$2:$P$92,3,0)","v":12788.56},{"$f":"VLOOKUP($F864,mapping!$L$2:$P$92,4,0)","v":"Latin America and the Caribbean"},{"$f":"$D864*VLOOKUP($E864,'Charts data'!$A$2:$B$11,2,0)*VLOOKUP($G864,'Charts data'!$A$14:$B$18,2,0)/IF('Charts data'!$E$3=1,I864,1)/IF('Charts data'!$E$4=1,J864,1)","v":35000}]
["ID0374",220700,"USD",{"$f":"B865*VLOOKUP(C865,tblXrate[],2,0)","v":220700},"Consultant","Brazil","8 Hrs",null,{"$f":"VLOOKUP(F865,mapping!$L$2:$P$92,2,0)","v":0.89267178741955566},{"$f":"VLOOKUP($F865,mapping!$L$2:$P$92,3,0)","v":12788.56},{"$f":"VLOOKUP($F865,mapping!$L$2:$P$92,4,0)","v":"Latin America and the Caribbean"},{"$f":"$D865*VLOOKUP($E865,'Charts data'!$A$2:$B$11,2,0)*VLOOKUP($G865,'Charts data'!$A$14:$B$18,2,0)/IF('Charts data'!$E$3=1,I865,1)/IF('Charts data'!$E$4=1,J865,1)","v":220700}]
["ID0511",12000,"USD",{"$f":"B866*VLOOKUP(C866,tblXrate[],2,0)","v":12000},"Analyst","Brazil","8 Hrs",null,{"$f":"VLOOKUP(F866,mapping!$L$2:$P$92,2,0)","v":0.89267178741955566},{"$f":"VLOOKUP($F866,mapping!$L$2:$P$92,3,0)","v":12788.56},{"$f":"VLOOKUP($F866,mapping!$L$2:$P$92,4,0)","v":"Latin America and the Caribbean"},{"$f":"$D866*VLOOKUP($E866,'Charts data'!$A$2:$B$11,2,0)*VLOOKUP($G866,'Charts data'!$A$14:$B$18,2,0)/IF('Charts data'!$E$3=1,I866,1)/IF('Charts data'!$E$4=1,J866,1)","v":12000}]
["ID0546",18000,"USD",{"$f":"B867*VLOOKUP(C867,tblXrate[],2,0)","v":18000},"Engineer","Brazil","4 to 6",null,{"$f":"VLOOKUP(F867,mapping!$L$2:$P$92,2,0)","v":0.89267178741955566},{"$f":"VLOOKUP($F867,mapping!$L$2:$P$92,3,0)","v":12788.56},{"$f":"VLOOKUP($F867,mapping!$L$2:$P$92,4,0)","v":"Latin America and the Caribbean"},{"$f":"$D867*VLOOKUP($E867,'Charts data'!$A$2:$B$11,2,0)*VLOOKUP($G867,'Charts data'!$A$14:$B$18,2,0)/IF('Charts data'!$E$3=1,I867,1)/IF('Charts data'!$E$4=1,J867,1)","v":18000}]
["ID0561",15600,"USD",{"$f":"B868*VLOOKUP(C868,tblXrate[],2,0)","v":15600},"Controller","Brazil","4 to 6",20,{"$f":"VLOOKUP(F868,mapping!$L$2:$P$92,2,0)","v":0.89267178741955566},{"$f":"VLOOKUP($F868,mapping!$L$2:$P$92,3,0)","v":12788.56},{"$f":"VLOOKUP($F868,mapping!$L$2:$P$92,4,0)","v":"Latin America and the Caribbean"},{"$f":"$D868*VLOOKUP($E868,'Charts data'!$A$2:$B$11,2,0)*VLOOKUP($G868,'Charts data'!$A$14:$B$18,2,0)/IF('Charts data'!$E$3=1,I868,1)/IF('Charts data'!$E$4=1,J868,1)","v":15600}]
["ID1256",50700,"USD",{"$f":"B869*VLOOKUP(C869,tblXrate[],2,0)","v":50700},"Analyst","Brazil","1 or 2",15,{"$f":"VLOOKUP(F869,mapping!$L$2:$P$92,2,0)","v":0.89267178741955566},{"$f":"VLOOKUP($F869,mapping!$L$2:$P$92,3,0)","v":12788.56},{"$f":"VLOOKUP($F869,mapping!$L$2:$P$92,4,0)","v":"Latin America and the Caribbean"},{"$f":"$D869*VLOOKUP($E869,'Charts data'!$A$2:$B$11,2,0)*VLOOKUP($G869,'Charts data'!$A$14:$B$18,2,0)/IF('Charts data'!$E$3=1,I869,1)/IF('Charts data'!$E$4=1,J869,1)","v":50700}]
["ID1510",10000,"USD",{"$f":"B870*VLOOKUP(C870,tblXrate[],2,0)","v":10000},"Analyst","Brazil","4 to 6",1,{"$f":"VLOOKUP(F870,mapping!$L$2:$P$92,2,0)","v":0.89267178741955566},{"$f":"VLOOKUP($F870,mapping!$L$2:$P$92,3,0)","v":12788.56},{"$f":"VLOOKUP($F870,mapping!$L$2:$P$92,4,0)","v":"Latin America and the Caribbean"},{"$f":"$D870*VLOOKUP($E870,'Charts data'!$A$2:$B$11,2,0)*VLOOKUP($G870,'Charts data'!$A$14:$B$18,2,0)/IF('Charts data'!$E$3=1,I870,1)/IF('Charts data'!$E$4=1,J870,1)","v":10000}]
["ID1621",13000,"USD",{"$f":"B871*VLOOKUP(C871,tblXrate[],2,0)","v":13000},"Analyst","Brazil","8 Hrs",4,{"$f":"VLOOKUP(F871,mapping!$L$2:$P$92,2,0)","v":0.89267178741955566},{"$f":"VLOOKUP($F871,mapping!$L$2:$P$92,3,0)","v":12788.56},{"$f":"VLOOKUP($F871,mapping!$L$2:$P$92,4,0)","v":"Latin America and the Caribbean"},{"$f":"$D871*VLOOKUP($E871,'Charts data'!$A$2:$B$11,2,0)*VLOOKUP($G871,'Charts data'!$A$14:$B$18,2,0)/IF('Charts data'!$E$3=1,I871,1)/IF('Charts data'!$E$4=1,J871,1)","v":13000}]
["ID1678",30500,"USD",{"$f":"B872*VLOOKUP(C872,tblXrate[],2,0)","v":30500},"Analyst","Brazil","8 Hrs",8,{"$f":"VLOOKUP(F872,mapping!$L$2:$P$92,2,0)","v":0.89267178741955566},{"$f":"VLOOKUP($F872,mapping!$L$2:$P$92,3,0)","v":12788.56},{"$f":"VLOOKUP($F872,mapping!$L$2:$P$92,4,0)","v":"Latin America and the Caribbean"},{"$f":"$D872*VLOOKUP($E872,'Charts data'!$A$2:$B$11,2,0)*VLOOKUP($G872,'Charts data'!$A$14:$B$18,2,0)/IF('Charts data'!$E$3=1,I872,1)/IF('Charts data'!$E$4=1,J872,1)","v":30500}]
["ID1750",31200,"USD",{"$f":"B873*VLOOKUP(C873,tblXrate[],2,0)","v":31200},"Analyst","Brazil","4 to 6",4,{"$f":"VLOOKUP(F873,mapping!$L$2:$P$92,2,0)","v":0.89267178741955566},{"$f":"VLOOKUP($F873,mapping!$L$2:$P$92,3,0)","v":12788.56},{"$f":"VLOOKUP($F873,mapping!$L$2:$P$92,4,0)","v":"Latin America and the Caribbean"},{"$f":"$D873*VLOOKUP($E873,'Charts data'!$A$2:$B$11,2,0)*VLOOKUP($G873,'Charts data'!$A$14:$B$18,2,0)/IF('Charts data'!$E$3=1,I873,1)/IF('Charts data'!$E$4=1,J873,1)","v":31200}]
["ID1776",80000,"USD",{"$f":"B874*VLOOKUP(C874,tblXrate[],2,0)","v":80000},"Engineer","Brazil","1 or 2",9,{"$f":"VLOOKUP(F874,mapping!$L$2:$P$92,2,0)","v":0.89267178741955566},{"$f":"VLOOKUP($F874,mapping!$L$2:$P$92,3,0)","v":12788.56},{"$f":"VLOOKUP($F874,mapping!$L$2:$P$92,4,0)","v":"Latin America and the Caribbean"},{"$f":"$D874*VLOOKUP($E874,'Charts data'!$A$2:$B$11,2,0)*VLOOKUP($G874,'Charts data'!$A$14:$B$18,2,0)/IF('Charts data'!$E$3=1,I874,1)/IF('Charts data'!$E$4=1,J874,1)","v":80000}]
["ID1853",30000,"USD",{"$f":"B875*VLOOKUP(C875,tblXrate[],2,0)","v":30000},"Analyst","Brazil","2 to 3",1,{"$f":"VLOOKUP(F875,mapping!$L$2:$P$92,2,0)","v":0.89267178741955566},{"$f":"VLOOKUP($F875,mapping!$L$2:$P$92,3,0)","v":12788.56},{"$f":"VLOOKUP($F875,mapping!$L$2:$P$92,4,0)","v":"Latin America and the Caribbean"},{"$f":"$D875*VLOOKUP($E875,'Charts data'!$A$2:$B$11,2,0)*VLOOKUP($G875,'Charts data'!$A$14:$B$18,2,0)/IF('Charts data'!$E$3=1,I875,1)/IF('Charts data'!$E$4=1,J875,1)","v":30000}]
["ID1557",14400,"USD",{"$f":"B876*VLOOKUP(C876,tblXrate[],2,0)","v":14400},"Analyst","Bulgaria","8 Hrs",15,{"$f":"VLOOKUP(F876,mapping!$L$2:$P$92,2,0)","v":0.48391706505923926},{"$f":"VLOOKUP($F876,mapping!$L$2:$P$92,3,0)","v":7201.88},{"$f":"VLOOKUP($F876,mapping!$L$2:$P$92,4,0)","v":"Central and Eastern Europe"},{"$f":"$D876*VLOOKUP($E876,'Charts data'!$A$2:$B$11,2,0)*VLOOKUP($G876,'Charts data'!$A$14:$B$18,2,0)/IF('Charts data'!$E$3=1,I876,1)/IF('Charts data'!$E$4=1,J876,1)","v":14400}]
["ID0695",3000,"USD",{"$f":"B877*VLOOKUP(C877,tblXrate[],2,0)","v":3000},"Consultant","Cambodia","2 to 3",2,{"$f":"VLOOKUP(F877,mapping!$L$2:$P$92,2,0)","v":0.3787941534713764},{"$f":"VLOOKUP($F877,mapping!$L$2:$P$92,3,0)","v":851.529},{"$f":"VLOOKUP($F877,mapping!$L$2:$P$92,4,0)","v":"Developing Asia"},{"$f":"$D877*VLOOKUP($E877,'Charts data'!$A$2:$B$11,2,0)*VLOOKUP($G877,'Charts data'!$A$14:$B$18,2,0)/IF('Charts data'!$E$3=1,I877,1)/IF('Charts data'!$E$4=1,J877,1)","v":3000}]
["ID0077",60000,"USD",{"$f":"B878*VLOOKUP(C878,tblXrate[],2,0)","v":60000},"Analyst","Canada","1 or 2",null,{"$f":"VLOOKUP(F878,mapping!$L$2:$P$92,2,0)","v":1.2105180348503324},{"$f":"VLOOKUP($F878,mapping!$L$2:$P$92,3,0)","v":50435.5},{"$f":"VLOOKUP($F878,mapping!$L$2:$P$92,4,0)","v":"Major Advanced Economies (G7)"},{"$f":"$D878*VLOOKUP($E878,'Charts data'!$A$2:$B$11,2,0)*VLOOKUP($G878,'Charts data'!$A$14:$B$18,2,0)/IF('Charts data'!$E$3=1,I878,1)/IF('Charts data'!$E$4=1,J878,1)","v":60000}]
["ID0162",58000,"USD",{"$f":"B879*VLOOKUP(C879,tblXrate[],2,0)","v":58000},"Manager","Canada","1 or 2",null,{"$f":"VLOOKUP(F879,mapping!$L$2:$P$92,2,0)","v":1.2105180348503324},{"$f":"VLOOKUP($F879,mapping!$L$2:$P$92,3,0)","v":50435.5},{"$f":"VLOOKUP($F879,mapping!$L$2:$P$92,4,0)","v":"Major Advanced Economies (G7)"},{"$f":"$D879*VLOOKUP($E879,'Charts data'!$A$2:$B$11,2,0)*VLOOKUP($G879,'Charts data'!$A$14:$B$18,2,0)/IF('Charts data'!$E$3=1,I879,1)/IF('Charts data'!$E$4=1,J879,1)","v":58000}]
["ID0182",41406,"USD",{"$f":"B880*VLOOKUP(C880,tblXrate[],2,0)","v":41406},"Analyst","Canada","1 or 2",null,{"$f":"VLOOKUP(F880,mapping!$L$2:$P$92,2,0)","v":1.2105180348503324},{"$f":"VLOOKUP($F880,mapping!$L$2:$P$92,3,0)","v":50435.5},{"$f":"VLOOKUP($F880,mapping!$L$2:$P$92,4,0)","v":"Major Advanced Economies (G7)"},{"$f":"$D880*VLOOKUP($E880,'Charts data'!$A$2:$B$11,2,0)*VLOOKUP($G880,'Charts data'!$A$14:$B$18,2,0)/IF('Charts data'!$E$3=1,I880,1)/IF('Charts data'!$E$4=1,J880,1)","v":41406}]
["ID1169",50000,"USD",{"$f":"B881*VLOOKUP(C881,tblXrate[],2,0)","v":50000},"Manager","Canada","1 or 2",5,{"$f":"VLOOKUP(F881,mapping!$L$2:$P$92,2,0)","v":1.2105180348503324},{"$f":"VLOOKUP($F881,mapping!$L$2:$P$92,3,0)","v":50435.5},{"$f":"VLOOKUP($F881,mapping!$L$2:$P$92,4,0)","v":"Major Advanced Economies (G7)"},{"$f":"$D881*VLOOKUP($E881,'Charts data'!$A$2:$B$11,2,0)*VLOOKUP($G881,'Charts data'!$A$14:$B$18,2,0)/IF('Charts data'!$E$3=1,I881,1)/IF('Charts data'!$E$4=1,J881,1)","v":50000}]
["ID1383",83000,"USD",{"$f":"B882*VLOOKUP(C882,tblXrate[],2,0)","v":83000},"Analyst","Canada","4 to 6",12,{"$f":"VLOOKUP(F882,mapping!$L$2:$P$92,2,0)","v":1.2105180348503324},{"$f":"VLOOKUP($F882,mapping!$L$2:$P$92,3,0)","v":50435.5},{"$f":"VLOOKUP($F882,mapping!$L$2:$P$92,4,0)","v":"Major Advanced Economies (G7)"},{"$f":"$D882*VLOOKUP($E882,'Charts data'!$A$2:$B$11,2,0)*VLOOKUP($G882,'Charts data'!$A$14:$B$18,2,0)/IF('Charts data'!$E$3=1,I882,1)/IF('Charts data'!$E$4=1,J882,1)","v":83000}]
["ID1823",20000,"USD",{"$f":"B883*VLOOKUP(C883,tblXrate[],2,0)","v":20000},"Analyst","Canada","2 to 3",2,{"$f":"VLOOKUP(F883,mapping!$L$2:$P$92,2,0)","v":1.2105180348503324},{"$f":"VLOOKUP($F883,mapping!$L$2:$P$92,3,0)","v":50435.5},{"$f":"VLOOKUP($F883,mapping!$L$2:$P$92,4,0)","v":"Major Advanced Economies (G7)"},{"$f":"$D883*VLOOKUP($E883,'Charts data'!$A$2:$B$11,2,0)*VLOOKUP($G883,'Charts data'!$A$14:$B$18,2,0)/IF('Charts data'!$E$3=1,I883,1)/IF('Charts data'!$E$4=1,J883,1)","v":20000}]
["ID1897",60000,"USD",{"$f":"B884*VLOOKUP(C884,tblXrate[],2,0)","v":60000},"Manager","Canada","2 to 3",10,{"$f":"VLOOKUP(F884,mapping!$L$2:$P$92,2,0)","v":1.2105180348503324},{"$f":"VLOOKUP($F884,mapping!$L$2:$P$92,3,0)","v":50435.5},{"$f":"VLOOKUP($F884,mapping!$L$2:$P$92,4,0)","v":"Major Advanced Economies (G7)"},{"$f":"$D884*VLOOKUP($E884,'Charts data'!$A$2:$B$11,2,0)*VLOOKUP($G884,'Charts data'!$A$14:$B$18,2,0)/IF('Charts data'!$E$3=1,I884,1)/IF('Charts data'!$E$4=1,J884,1)","v":60000}]
["ID0992",19000,"USD",{"$f":"B885*VLOOKUP(C885,tblXrate[],2,0)","v":19000},"Analyst","china","4 to 6",6,{"$f":"VLOOKUP(F885,mapping!$L$2:$P$92,2,0)","v":0.65603820836955729},{"$f":"VLOOKUP($F885,mapping!$L$2:$P$92,3,0)","v":5413.57},{"$f":"VLOOKUP($F885,mapping!$L$2:$P$92,4,0)","v":"Developing Asia"},{"$f":"$D885*VLOOKUP($E885,'Charts data'!$A$2:$B$11,2,0)*VLOOKUP($G885,'Charts data'!$A$14:$B$18,2,0)/IF('Charts data'!$E$3=1,I885,1)/IF('Charts data'!$E$4=1,J885,1)","v":19000}]
["ID0119",24000,"USD",{"$f":"B886*VLOOKUP(C886,tblXrate[],2,0)","v":24000},"Manager","Colombia","8 Hrs",null,{"$f":"VLOOKUP(F886,mapping!$L$2:$P$92,2,0)","v":0.7389464286723284},{"$f":"VLOOKUP($F886,mapping!$L$2:$P$92,3,0)","v":7131.61},{"$f":"VLOOKUP($F886,mapping!$L$2:$P$92,4,0)","v":"Latin America and the Caribbean"},{"$f":"$D886*VLOOKUP($E886,'Charts data'!$A$2:$B$11,2,0)*VLOOKUP($G886,'Charts data'!$A$14:$B$18,2,0)/IF('Charts data'!$E$3=1,I886,1)/IF('Charts data'!$E$4=1,J886,1)","v":24000}]
["ID0436",8500,"USD",{"$f":"B887*VLOOKUP(C887,tblXrate[],2,0)","v":8500},"Analyst","Colombia","1 or 2",null,{"$f":"VLOOKUP(F887,mapping!$L$2:$P$92,2,0)","v":0.7389464286723284},{"$f":"VLOOKUP($F887,mapping!$L$2:$P$92,3,0)","v":7131.61},{"$f":"VLOOKUP($F887,mapping!$L$2:$P$92,4,0)","v":"Latin America and the Caribbean"},{"$f":"$D887*VLOOKUP($E887,'Charts data'!$A$2:$B$11,2,0)*VLOOKUP($G887,'Charts data'!$A$14:$B$18,2,0)/IF('Charts data'!$E$3=1,I887,1)/IF('Charts data'!$E$4=1,J887,1)","v":8500}]
["ID0841",6000,"USD",{"$f":"B888*VLOOKUP(C888,tblXrate[],2,0)","v":6000},"Analyst","Colombia","1 or 2",10,{"$f":"VLOOKUP(F888,mapping!$L$2:$P$92,2,0)","v":0.7389464286723284},{"$f":"VLOOKUP($F888,mapping!$L$2:$P$92,3,0)","v":7131.61},{"$f":"VLOOKUP($F888,mapping!$L$2:$P$92,4,0)","v":"Latin America and the Caribbean"},{"$f":"$D888*VLOOKUP($E888,'Charts data'!$A$2:$B$11,2,0)*VLOOKUP($G888,'Charts data'!$A$14:$B$18,2,0)/IF('Charts data'!$E$3=1,I888,1)/IF('Charts data'!$E$4=1,J888,1)","v":6000}]
["ID1494",7200,"USD",{"$f":"B889*VLOOKUP(C889,tblXrate[],2,0)","v":7200},"Controller","Colombia","4 to 6",8,{"$f":"VLOOKUP(F889,mapping!$L$2:$P$92,2,0)","v":0.7389464286723284},{"$f":"VLOOKUP($F889,mapping!$L$2:$P$92,3,0)","v":7131.61},{"$f":"VLOOKUP($F889,mapping!$L$2:$P$92,4,0)","v":"Latin America and the Caribbean"},{"$f":"$D889*VLOOKUP($E889,'Charts data'!$A$2:$B$11,2,0)*VLOOKUP($G889,'Charts data'!$A$14:$B$18,2,0)/IF('Charts data'!$E$3=1,I889,1)/IF('Charts data'!$E$4=1,J889,1)","v":7200}]
["ID1868",16110,"USD",{"$f":"B890*VLOOKUP(C890,tblXrate[],2,0)","v":16110},"Analyst","Colombia","8 Hrs",10,{"$f":"VLOOKUP(F890,mapping!$L$2:$P$92,2,0)","v":0.7389464286723284},{"$f":"VLOOKUP($F890,mapping!$L$2:$P$92,3,0)","v":7131.61},{"$f":"VLOOKUP($F890,mapping!$L$2:$P$92,4,0)","v":"Latin America and the Caribbean"},{"$f":"$D890*VLOOKUP($E890,'Charts data'!$A$2:$B$11,2,0)*VLOOKUP($G890,'Charts data'!$A$14:$B$18,2,0)/IF('Charts data'!$E$3=1,I890,1)/IF('Charts data'!$E$4=1,J890,1)","v":16110}]
["ID0002",15000,"USD",{"$f":"B891*VLOOKUP(C891,tblXrate[],2,0)","v":15000},"Controller","Croatia","8 Hrs",null,{"$f":"VLOOKUP(F891,mapping!$L$2:$P$92,2,0)","v":5.3953864173973578},{"$f":"VLOOKUP($F891,mapping!$L$2:$P$92,3,0)","v":14456.97},{"$f":"VLOOKUP($F891,mapping!$L$2:$P$92,4,0)","v":"Central and Eastern Europe"},{"$f":"$D891*VLOOKUP($E891,'Charts data'!$A$2:$B$11,2,0)*VLOOKUP($G891,'Charts data'!$A$14:$B$18,2,0)/IF('Charts data'!$E$3=1,I891,1)/IF('Charts data'!$E$4=1,J891,1)","v":15000}]
["ID0812",24000,"USD",{"$f":"B892*VLOOKUP(C892,tblXrate[],2,0)","v":24000},"Manager","Croatia","2 to 3",5,{"$f":"VLOOKUP(F892,mapping!$L$2:$P$92,2,0)","v":5.3953864173973578},{"$f":"VLOOKUP($F892,mapping!$L$2:$P$92,3,0)","v":14456.97},{"$f":"VLOOKUP($F892,mapping!$L$2:$P$92,4,0)","v":"Central and Eastern Europe"},{"$f":"$D892*VLOOKUP($E892,'Charts data'!$A$2:$B$11,2,0)*VLOOKUP($G892,'Charts data'!$A$14:$B$18,2,0)/IF('Charts data'!$E$3=1,I892,1)/IF('Charts data'!$E$4=1,J892,1)","v":24000}]
["ID0914",36000,"USD",{"$f":"B893*VLOOKUP(C893,tblXrate[],2,0)","v":36000},"Controller","Czech Republic","2 to 3",9,{"$f":"VLOOKUP(F893,mapping!$L$2:$P$92,2,0)","v":0.6448127496189392},{"$f":"VLOOKUP($F893,mapping!$L$2:$P$92,3,0)","v":20443.97},{"$f":"VLOOKUP($F893,mapping!$L$2:$P$92,4,0)","v":"Other Advanced Economies"},{"$f":"$D893*VLOOKUP($E893,'Charts data'!$A$2:$B$11,2,0)*VLOOKUP($G893,'Charts data'!$A$14:$B$18,2,0)/IF('Charts data'!$E$3=1,I893,1)/IF('Charts data'!$E$4=1,J893,1)","v":36000}]
["ID0763",20000,"USD",{"$f":"B894*VLOOKUP(C894,tblXrate[],2,0)","v":20000},"Consultant","Denmark","2 to 3",15,{"$f":"VLOOKUP(F894,mapping!$L$2:$P$92,2,0)","v":1.4800306944010062},{"$f":"VLOOKUP($F894,mapping!$L$2:$P$92,3,0)","v":59928.1},{"$f":"VLOOKUP($F894,mapping!$L$2:$P$92,4,0)","v":"Other Advanced Economies"},{"$f":"$D894*VLOOKUP($E894,'Charts data'!$A$2:$B$11,2,0)*VLOOKUP($G894,'Charts data'!$A$14:$B$18,2,0)/IF('Charts data'!$E$3=1,I894,1)/IF('Charts data'!$E$4=1,J894,1)","v":20000}]
["ID1637",106000,"USD",{"$f":"B895*VLOOKUP(C895,tblXrate[],2,0)","v":106000},"Analyst","Denmark","1 or 2",7,{"$f":"VLOOKUP(F895,mapping!$L$2:$P$92,2,0)","v":1.4800306944010062},{"$f":"VLOOKUP($F895,mapping!$L$2:$P$92,3,0)","v":59928.1},{"$f":"VLOOKUP($F895,mapping!$L$2:$P$92,4,0)","v":"Other Advanced Economies"},{"$f":"$D895*VLOOKUP($E895,'Charts data'!$A$2:$B$11,2,0)*VLOOKUP($G895,'Charts data'!$A$14:$B$18,2,0)/IF('Charts data'!$E$3=1,I895,1)/IF('Charts data'!$E$4=1,J895,1)","v":106000}]
["ID0434",6629,"USD",{"$f":"B896*VLOOKUP(C896,tblXrate[],2,0)","v":6629},"Engineer","Dominican Republic","8 Hrs",null,{"$f":"VLOOKUP(F896,mapping!$L$2:$P$92,2,0)","v":0.59255455712451854},{"$f":"VLOOKUP($F896,mapping!$L$2:$P$92,3,0)","v":5638.69},{"$f":"VLOOKUP($F896,mapping!$L$2:$P$92,4,0)","v":"Latin America and the Caribbean"},{"$f":"$D896*VLOOKUP($E896,'Charts data'!$A$2:$B$11,2,0)*VLOOKUP($G896,'Charts data'!$A$14:$B$18,2,0)/IF('Charts data'!$E$3=1,I896,1)/IF('Charts data'!$E$4=1,J896,1)","v":6629}]
["ID0476",12000,"USD",{"$f":"B897*VLOOKUP(C897,tblXrate[],2,0)","v":12000},"Analyst","Estonia","8 Hrs",null,{"$f":"VLOOKUP(F897,mapping!$L$2:$P$92,2,0)","v":0.74318367181009048},{"$f":"VLOOKUP($F897,mapping!$L$2:$P$92,3,0)","v":16583.39},{"$f":"VLOOKUP($F897,mapping!$L$2:$P$92,4,0)","v":"Euro Area"},{"$f":"$D897*VLOOKUP($E897,'Charts data'!$A$2:$B$11,2,0)*VLOOKUP($G897,'Charts data'!$A$14:$B$18,2,0)/IF('Charts data'!$E$3=1,I897,1)/IF('Charts data'!$E$4=1,J897,1)","v":12000}]
["ID1043",60000,"USD",{"$f":"B898*VLOOKUP(C898,tblXrate[],2,0)","v":60000},"Consultant","Finland","8 Hrs",5,{"$f":"VLOOKUP(F898,mapping!$L$2:$P$92,2,0)","v":1.2437210507727838},{"$f":"VLOOKUP($F898,mapping!$L$2:$P$92,3,0)","v":49349.52},{"$f":"VLOOKUP($F898,mapping!$L$2:$P$92,4,0)","v":"Euro Area"},{"$f":"$D898*VLOOKUP($E898,'Charts data'!$A$2:$B$11,2,0)*VLOOKUP($G898,'Charts data'!$A$14:$B$18,2,0)/IF('Charts data'!$E$3=1,I898,1)/IF('Charts data'!$E$4=1,J898,1)","v":60000}]
["ID0960",48000,"USD",{"$f":"B899*VLOOKUP(C899,tblXrate[],2,0)","v":48000},"Manager","France","4 to 6",5,{"$f":"VLOOKUP(F899,mapping!$L$2:$P$92,2,0)","v":1.1433594950924471},{"$f":"VLOOKUP($F899,mapping!$L$2:$P$92,3,0)","v":44008.18},{"$f":"VLOOKUP($F899,mapping!$L$2:$P$92,4,0)","v":"Major Advanced Economies (G7)"},{"$f":"$D899*VLOOKUP($E899,'Charts data'!$A$2:$B$11,2,0)*VLOOKUP($G899,'Charts data'!$A$14:$B$18,2,0)/IF('Charts data'!$E$3=1,I899,1)/IF('Charts data'!$E$4=1,J899,1)","v":48000}]
["ID0050",100000,"USD",{"$f":"B900*VLOOKUP(C900,tblXrate[],2,0)","v":100000},"Analyst","Germany","8 Hrs",null,{"$f":"VLOOKUP(F900,mapping!$L$2:$P$92,2,0)","v":1.0544315343630344},{"$f":"VLOOKUP($F900,mapping!$L$2:$P$92,3,0)","v":43741.55},{"$f":"VLOOKUP($F900,mapping!$L$2:$P$92,4,0)","v":"Major Advanced Economies (G7)"},{"$f":"$D900*VLOOKUP($E900,'Charts data'!$A$2:$B$11,2,0)*VLOOKUP($G900,'Charts data'!$A$14:$B$18,2,0)/IF('Charts data'!$E$3=1,I900,1)/IF('Charts data'!$E$4=1,J900,1)","v":100000}]
["ID1548",45000,"USD",{"$f":"B901*VLOOKUP(C901,tblXrate[],2,0)","v":45000},"Manager","Germany","2 to 3",5,{"$f":"VLOOKUP(F901,mapping!$L$2:$P$92,2,0)","v":1.0544315343630344},{"$f":"VLOOKUP($F901,mapping!$L$2:$P$92,3,0)","v":43741.55},{"$f":"VLOOKUP($F901,mapping!$L$2:$P$92,4,0)","v":"Major Advanced Economies (G7)"},{"$f":"$D901*VLOOKUP($E901,'Charts data'!$A$2:$B$11,2,0)*VLOOKUP($G901,'Charts data'!$A$14:$B$18,2,0)/IF('Charts data'!$E$3=1,I901,1)/IF('Charts data'!$E$4=1,J901,1)","v":45000}]
["ID1594",75000,"USD",{"$f":"B902*VLOOKUP(C902,tblXrate[],2,0)","v":75000},"Consultant","Germany","2 to 3",9,{"$f":"VLOOKUP(F902,mapping!$L$2:$P$92,2,0)","v":1.0544315343630344},{"$f":"VLOOKUP($F902,mapping!$L$2:$P$92,3,0)","v":43741.55},{"$f":"VLOOKUP($F902,mapping!$L$2:$P$92,4,0)","v":"Major Advanced Economies (G7)"},{"$f":"$D902*VLOOKUP($E902,'Charts data'!$A$2:$B$11,2,0)*VLOOKUP($G902,'Charts data'!$A$14:$B$18,2,0)/IF('Charts data'!$E$3=1,I902,1)/IF('Charts data'!$E$4=1,J902,1)","v":75000}]
["ID1343",18000,"USD",{"$f":"B903*VLOOKUP(C903,tblXrate[],2,0)","v":18000},"Manager","Ghana","4 to 6",12,{"$f":"VLOOKUP(F903,mapping!$L$2:$P$92,2,0)","v":0.39596273291925466},{"$f":"VLOOKUP($F903,mapping!$L$2:$P$92,3,0)","v":1528.86},{"$f":"VLOOKUP($F903,mapping!$L$2:$P$92,4,0)","v":"Sub-Saharan Africa"},{"$f":"$D903*VLOOKUP($E903,'Charts data'!$A$2:$B$11,2,0)*VLOOKUP($G903,'Charts data'!$A$14:$B$18,2,0)/IF('Charts data'!$E$3=1,I903,1)/IF('Charts data'!$E$4=1,J903,1)","v":18000}]
["ID0577",6000,"USD",{"$f":"B904*VLOOKUP(C904,tblXrate[],2,0)","v":6000},"Manager","Guyana","1 or 2",20,{"$f":"VLOOKUP(F904,mapping!$L$2:$P$92,2,0)","v":0.43627768101517794},{"$f":"VLOOKUP($F904,mapping!$L$2:$P$92,3,0)","v":3202.22},{"$f":"VLOOKUP($F904,mapping!$L$2:$P$92,4,0)","v":"Latin America and the Caribbean"},{"$f":"$D904*VLOOKUP($E904,'Charts data'!$A$2:$B$11,2,0)*VLOOKUP($G904,'Charts data'!$A$14:$B$18,2,0)/IF('Charts data'!$E$3=1,I904,1)/IF('Charts data'!$E$4=1,J904,1)","v":6000}]
["ID1831",20000,"USD",{"$f":"B905*VLOOKUP(C905,tblXrate[],2,0)","v":20000},"Analyst","Hong Kong","1 or 2",1,{"$f":"VLOOKUP(F905,mapping!$L$2:$P$92,2,0)","v":0.69520253541421517},{"$f":"VLOOKUP($F905,mapping!$L$2:$P$92,3,0)","v":34048.92},{"$f":"VLOOKUP($F905,mapping!$L$2:$P$92,4,0)","v":"Newly Industrialized Asian Economies"},{"$f":"$D905*VLOOKUP($E905,'Charts data'!$A$2:$B$11,2,0)*VLOOKUP($G905,'Charts data'!$A$14:$B$18,2,0)/IF('Charts data'!$E$3=1,I905,1)/IF('Charts data'!$E$4=1,J905,1)","v":20000}]
["ID0012",14000,"USD",{"$f":"B906*VLOOKUP(C906,tblXrate[],2,0)","v":14000},"Engineer","Hungary","4 to 6",null,{"$f":"VLOOKUP(F906,mapping!$L$2:$P$92,2,0)","v":182.82191286584327},{"$f":"VLOOKUP($F906,mapping!$L$2:$P$92,3,0)","v":14050.01},{"$f":"VLOOKUP($F906,mapping!$L$2:$P$92,4,0)","v":"Central and Eastern Europe"},{"$f":"$D906*VLOOKUP($E906,'Charts data'!$A$2:$B$11,2,0)*VLOOKUP($G906,'Charts data'!$A$14:$B$18,2,0)/IF('Charts data'!$E$3=1,I906,1)/IF('Charts data'!$E$4=1,J906,1)","v":14000}]
["ID0322",40000,"USD",{"$f":"B907*VLOOKUP(C907,tblXrate[],2,0)","v":40000},"Manager","Hungary","4 to 6",null,{"$f":"VLOOKUP(F907,mapping!$L$2:$P$92,2,0)","v":182.82191286584327},{"$f":"VLOOKUP($F907,mapping!$L$2:$P$92,3,0)","v":14050.01},{"$f":"VLOOKUP($F907,mapping!$L$2:$P$92,4,0)","v":"Central and Eastern Europe"},{"$f":"$D907*VLOOKUP($E907,'Charts data'!$A$2:$B$11,2,0)*VLOOKUP($G907,'Charts data'!$A$14:$B$18,2,0)/IF('Charts data'!$E$3=1,I907,1)/IF('Charts data'!$E$4=1,J907,1)","v":40000}]
["ID0502",23000,"USD",{"$f":"B908*VLOOKUP(C908,tblXrate[],2,0)","v":23000},"Manager","Hungary","4 to 6",null,{"$f":"VLOOKUP(F908,mapping!$L$2:$P$92,2,0)","v":182.82191286584327},{"$f":"VLOOKUP($F908,mapping!$L$2:$P$92,3,0)","v":14050.01},{"$f":"VLOOKUP($F908,mapping!$L$2:$P$92,4,0)","v":"Central and Eastern Europe"},{"$f":"$D908*VLOOKUP($E908,'Charts data'!$A$2:$B$11,2,0)*VLOOKUP($G908,'Charts data'!$A$14:$B$18,2,0)/IF('Charts data'!$E$3=1,I908,1)/IF('Charts data'!$E$4=1,J908,1)","v":23000}]
["ID0006",41731,"USD",{"$f":"B909*VLOOKUP(C909,tblXrate[],2,0)","v":41731},"Analyst","Iceland","8 Hrs",null,{"$f":"VLOOKUP(F909,mapping!$L$2:$P$92,2,0)","v":1.0534736200550134},{"$f":"VLOOKUP($F909,mapping!$L$2:$P$92,3,0)","v":43088.2},{"$f":"VLOOKUP($F909,mapping!$L$2:$P$92,4,0)","v":"Other Advanced Economies"},{"$f":"$D909*VLOOKUP($E909,'Charts data'!$A$2:$B$11,2,0)*VLOOKUP($G909,'Charts data'!$A$14:$B$18,2,0)/IF('Charts data'!$E$3=1,I909,1)/IF('Charts data'!$E$4=1,J909,1)","v":41731}]
["ID0001",5846,"USD",{"$f":"B910*VLOOKUP(C910,tblXrate[],2,0)","v":5846},"Analyst","India","4 to 6",null,{"$f":"VLOOKUP(F910,mapping!$L$2:$P$92,2,0)","v":0.34064763831408895},{"$f":"VLOOKUP($F910,mapping!$L$2:$P$92,3,0)","v":1388.78},{"$f":"VLOOKUP($F910,mapping!$L$2:$P$92,4,0)","v":"Developing Asia"},{"$f":"$D910*VLOOKUP($E910,'Charts data'!$A$2:$B$11,2,0)*VLOOKUP($G910,'Charts data'!$A$14:$B$18,2,0)/IF('Charts data'!$E$3=1,I910,1)/IF('Charts data'!$E$4=1,J910,1)","v":5846}]
["ID0020",50000,"USD",{"$f":"B911*VLOOKUP(C911,tblXrate[],2,0)","v":50000},"Manager","India","1 or 2",null,{"$f":"VLOOKUP(F911,mapping!$L$2:$P$92,2,0)","v":0.34064763831408895},{"$f":"VLOOKUP($F911,mapping!$L$2:$P$92,3,0)","v":1388.78},{"$f":"VLOOKUP($F911,mapping!$L$2:$P$92,4,0)","v":"Developing Asia"},{"$f":"$D911*VLOOKUP($E911,'Charts data'!$A$2:$B$11,2,0)*VLOOKUP($G911,'Charts data'!$A$14:$B$18,2,0)/IF('Charts data'!$E$3=1,I911,1)/IF('Charts data'!$E$4=1,J911,1)","v":50000}]
["ID0021",13500,"USD",{"$f":"B912*VLOOKUP(C912,tblXrate[],2,0)","v":13500},"Manager","India","4 to 6",null,{"$f":"VLOOKUP(F912,mapping!$L$2:$P$92,2,0)","v":0.34064763831408895},{"$f":"VLOOKUP($F912,mapping!$L$2:$P$92,3,0)","v":1388.78},{"$f":"VLOOKUP($F912,mapping!$L$2:$P$92,4,0)","v":"Developing Asia"},{"$f":"$D912*VLOOKUP($E912,'Charts data'!$A$2:$B$11,2,0)*VLOOKUP($G912,'Charts data'!$A$14:$B$18,2,0)/IF('Charts data'!$E$3=1,I912,1)/IF('Charts data'!$E$4=1,J912,1)","v":13500}]
["ID0042",14500,"USD",{"$f":"B913*VLOOKUP(C913,tblXrate[],2,0)","v":14500},"Analyst","India","4 to 6",null,{"$f":"VLOOKUP(F913,mapping!$L$2:$P$92,2,0)","v":0.34064763831408895},{"$f":"VLOOKUP($F913,mapping!$L$2:$P$92,3,0)","v":1388.78},{"$f":"VLOOKUP($F913,mapping!$L$2:$P$92,4,0)","v":"Developing Asia"},{"$f":"$D913*VLOOKUP($E913,'Charts data'!$A$2:$B$11,2,0)*VLOOKUP($G913,'Charts data'!$A$14:$B$18,2,0)/IF('Charts data'!$E$3=1,I913,1)/IF('Charts data'!$E$4=1,J913,1)","v":14500}]
["ID0054",4320,"USD",{"$f":"B914*VLOOKUP(C914,tblXrate[],2,0)","v":4320},"Accountant","India","2 to 3",null,{"$f":"VLOOKUP(F914,mapping!$L$2:$P$92,2,0)","v":0.34064763831408895},{"$f":"VLOOKUP($F914,mapping!$L$2:$P$92,3,0)","v":1388.78},{"$f":"VLOOKUP($F914,mapping!$L$2:$P$92,4,0)","v":"Developing Asia"},{"$f":"$D914*VLOOKUP($E914,'Charts data'!$A$2:$B$11,2,0)*VLOOKUP($G914,'Charts data'!$A$14:$B$18,2,0)/IF('Charts data'!$E$3=1,I914,1)/IF('Charts data'!$E$4=1,J914,1)","v":4320}]
["ID0056",7500,"USD",{"$f":"B915*VLOOKUP(C915,tblXrate[],2,0)","v":7500},"Analyst","India","4 to 6",null,{"$f":"VLOOKUP(F915,mapping!$L$2:$P$92,2,0)","v":0.34064763831408895},{"$f":"VLOOKUP($F915,mapping!$L$2:$P$92,3,0)","v":1388.78},{"$f":"VLOOKUP($F915,mapping!$L$2:$P$92,4,0)","v":"Developing Asia"},{"$f":"$D915*VLOOKUP($E915,'Charts data'!$A$2:$B$11,2,0)*VLOOKUP($G915,'Charts data'!$A$14:$B$18,2,0)/IF('Charts data'!$E$3=1,I915,1)/IF('Charts data'!$E$4=1,J915,1)","v":7500}]
["ID0188",13636,"USD",{"$f":"B916*VLOOKUP(C916,tblXrate[],2,0)","v":13636},"Manager","India","8 Hrs",null,{"$f":"VLOOKUP(F916,mapping!$L$2:$P$92,2,0)","v":0.34064763831408895},{"$f":"VLOOKUP($F916,mapping!$L$2:$P$92,3,0)","v":1388.78},{"$f":"VLOOKUP($F916,mapping!$L$2:$P$92,4,0)","v":"Developing Asia"},{"$f":"$D916*VLOOKUP($E916,'Charts data'!$A$2:$B$11,2,0)*VLOOKUP($G916,'Charts data'!$A$14:$B$18,2,0)/IF('Charts data'!$E$3=1,I916,1)/IF('Charts data'!$E$4=1,J916,1)","v":13636}]
["ID0250",20000,"USD",{"$f":"B917*VLOOKUP(C917,tblXrate[],2,0)","v":20000},"Manager","India","4 to 6",null,{"$f":"VLOOKUP(F917,mapping!$L$2:$P$92,2,0)","v":0.34064763831408895},{"$f":"VLOOKUP($F917,mapping!$L$2:$P$92,3,0)","v":1388.78},{"$f":"VLOOKUP($F917,mapping!$L$2:$P$92,4,0)","v":"Developing Asia"},{"$f":"$D917*VLOOKUP($E917,'Charts data'!$A$2:$B$11,2,0)*VLOOKUP($G917,'Charts data'!$A$14:$B$18,2,0)/IF('Charts data'!$E$3=1,I917,1)/IF('Charts data'!$E$4=1,J917,1)","v":20000}]
["ID0252",25000,"USD",{"$f":"B918*VLOOKUP(C918,tblXrate[],2,0)","v":25000},"Manager","India","1 or 2",null,{"$f":"VLOOKUP(F918,mapping!$L$2:$P$92,2,0)","v":0.34064763831408895},{"$f":"VLOOKUP($F918,mapping!$L$2:$P$92,3,0)","v":1388.78},{"$f":"VLOOKUP($F918,mapping!$L$2:$P$92,4,0)","v":"Developing Asia"},{"$f":"$D918*VLOOKUP($E918,'Charts data'!$A$2:$B$11,2,0)*VLOOKUP($G918,'Charts data'!$A$14:$B$18,2,0)/IF('Charts data'!$E$3=1,I918,1)/IF('Charts data'!$E$4=1,J918,1)","v":25000}]
["ID0279",20000,"USD",{"$f":"B919*VLOOKUP(C919,tblXrate[],2,0)","v":20000},"Analyst","India","8 Hrs",null,{"$f":"VLOOKUP(F919,mapping!$L$2:$P$92,2,0)","v":0.34064763831408895},{"$f":"VLOOKUP($F919,mapping!$L$2:$P$92,3,0)","v":1388.78},{"$f":"VLOOKUP($F919,mapping!$L$2:$P$92,4,0)","v":"Developing Asia"},{"$f":"$D919*VLOOKUP($E919,'Charts data'!$A$2:$B$11,2,0)*VLOOKUP($G919,'Charts data'!$A$14:$B$18,2,0)/IF('Charts data'!$E$3=1,I919,1)/IF('Charts data'!$E$4=1,J919,1)","v":20000}]
["ID0288",22000,"USD",{"$f":"B920*VLOOKUP(C920,tblXrate[],2,0)","v":22000},"Reporting","India","8 Hrs",null,{"$f":"VLOOKUP(F920,mapping!$L$2:$P$92,2,0)","v":0.34064763831408895},{"$f":"VLOOKUP($F920,mapping!$L$2:$P$92,3,0)","v":1388.78},{"$f":"VLOOKUP($F920,mapping!$L$2:$P$92,4,0)","v":"Developing Asia"},{"$f":"$D920*VLOOKUP($E920,'Charts data'!$A$2:$B$11,2,0)*VLOOKUP($G920,'Charts data'!$A$14:$B$18,2,0)/IF('Charts data'!$E$3=1,I920,1)/IF('Charts data'!$E$4=1,J920,1)","v":22000}]
["ID0307",12000,"USD",{"$f":"B921*VLOOKUP(C921,tblXrate[],2,0)","v":12000},"Analyst","India","8 Hrs",null,{"$f":"VLOOKUP(F921,mapping!$L$2:$P$92,2,0)","v":0.34064763831408895},{"$f":"VLOOKUP($F921,mapping!$L$2:$P$92,3,0)","v":1388.78},{"$f":"VLOOKUP($F921,mapping!$L$2:$P$92,4,0)","v":"Developing Asia"},{"$f":"$D921*VLOOKUP($E921,'Charts data'!$A$2:$B$11,2,0)*VLOOKUP($G921,'Charts data'!$A$14:$B$18,2,0)/IF('Charts data'!$E$3=1,I921,1)/IF('Charts data'!$E$4=1,J921,1)","v":12000}]
["ID0342",13000,"USD",{"$f":"B922*VLOOKUP(C922,tblXrate[],2,0)","v":13000},"Manager","India","8 Hrs",null,{"$f":"VLOOKUP(F922,mapping!$L$2:$P$92,2,0)","v":0.34064763831408895},{"$f":"VLOOKUP($F922,mapping!$L$2:$P$92,3,0)","v":1388.78},{"$f":"VLOOKUP($F922,mapping!$L$2:$P$92,4,0)","v":"Developing Asia"},{"$f":"$D922*VLOOKUP($E922,'Charts data'!$A$2:$B$11,2,0)*VLOOKUP($G922,'Charts data'!$A$14:$B$18,2,0)/IF('Charts data'!$E$3=1,I922,1)/IF('Charts data'!$E$4=1,J922,1)","v":13000}]
["ID0347",3800,"USD",{"$f":"B923*VLOOKUP(C923,tblXrate[],2,0)","v":3800},"Reporting","India","4 to 6",null,{"$f":"VLOOKUP(F923,mapping!$L$2:$P$92,2,0)","v":0.34064763831408895},{"$f":"VLOOKUP($F923,mapping!$L$2:$P$92,3,0)","v":1388.78},{"$f":"VLOOKUP($F923,mapping!$L$2:$P$92,4,0)","v":"Developing Asia"},{"$f":"$D923*VLOOKUP($E923,'Charts data'!$A$2:$B$11,2,0)*VLOOKUP($G923,'Charts data'!$A$14:$B$18,2,0)/IF('Charts data'!$E$3=1,I923,1)/IF('Charts data'!$E$4=1,J923,1)","v":3800}]
["ID0362",25000,"USD",{"$f":"B924*VLOOKUP(C924,tblXrate[],2,0)","v":25000},"Manager","India","4 to 6",null,{"$f":"VLOOKUP(F924,mapping!$L$2:$P$92,2,0)","v":0.34064763831408895},{"$f":"VLOOKUP($F924,mapping!$L$2:$P$92,3,0)","v":1388.78},{"$f":"VLOOKUP($F924,mapping!$L$2:$P$92,4,0)","v":"Developing Asia"},{"$f":"$D924*VLOOKUP($E924,'Charts data'!$A$2:$B$11,2,0)*VLOOKUP($G924,'Charts data'!$A$14:$B$18,2,0)/IF('Charts data'!$E$3=1,I924,1)/IF('Charts data'!$E$4=1,J924,1)","v":25000}]
["ID0371",18000,"USD",{"$f":"B925*VLOOKUP(C925,tblXrate[],2,0)","v":18000},"CXO or Top Mgmt.","India","2 to 3",null,{"$f":"VLOOKUP(F925,mapping!$L$2:$P$92,2,0)","v":0.34064763831408895},{"$f":"VLOOKUP($F925,mapping!$L$2:$P$92,3,0)","v":1388.78},{"$f":"VLOOKUP($F925,mapping!$L$2:$P$92,4,0)","v":"Developing Asia"},{"$f":"$D925*VLOOKUP($E925,'Charts data'!$A$2:$B$11,2,0)*VLOOKUP($G925,'Charts data'!$A$14:$B$18,2,0)/IF('Charts data'!$E$3=1,I925,1)/IF('Charts data'!$E$4=1,J925,1)","v":18000}]
["ID0402",30000,"USD",{"$f":"B926*VLOOKUP(C926,tblXrate[],2,0)","v":30000},"CXO or Top Mgmt.","India","2 to 3",null,{"$f":"VLOOKUP(F926,mapping!$L$2:$P$92,2,0)","v":0.34064763831408895},{"$f":"VLOOKUP($F926,mapping!$L$2:$P$92,3,0)","v":1388.78},{"$f":"VLOOKUP($F926,mapping!$L$2:$P$92,4,0)","v":"Developing Asia"},{"$f":"$D926*VLOOKUP($E926,'Charts data'!$A$2:$B$11,2,0)*VLOOKUP($G926,'Charts data'!$A$14:$B$18,2,0)/IF('Charts data'!$E$3=1,I926,1)/IF('Charts data'!$E$4=1,J926,1)","v":30000}]
["ID0448",5000,"USD",{"$f":"B927*VLOOKUP(C927,tblXrate[],2,0)","v":5000},"Reporting","India","4 to 6",null,{"$f":"VLOOKUP(F927,mapping!$L$2:$P$92,2,0)","v":0.34064763831408895},{"$f":"VLOOKUP($F927,mapping!$L$2:$P$92,3,0)","v":1388.78},{"$f":"VLOOKUP($F927,mapping!$L$2:$P$92,4,0)","v":"Developing Asia"},{"$f":"$D927*VLOOKUP($E927,'Charts data'!$A$2:$B$11,2,0)*VLOOKUP($G927,'Charts data'!$A$14:$B$18,2,0)/IF('Charts data'!$E$3=1,I927,1)/IF('Charts data'!$E$4=1,J927,1)","v":5000}]
["ID0474",20000,"USD",{"$f":"B928*VLOOKUP(C928,tblXrate[],2,0)","v":20000},"Specialist","India","4 to 6",null,{"$f":"VLOOKUP(F928,mapping!$L$2:$P$92,2,0)","v":0.34064763831408895},{"$f":"VLOOKUP($F928,mapping!$L$2:$P$92,3,0)","v":1388.78},{"$f":"VLOOKUP($F928,mapping!$L$2:$P$92,4,0)","v":"Developing Asia"},{"$f":"$D928*VLOOKUP($E928,'Charts data'!$A$2:$B$11,2,0)*VLOOKUP($G928,'Charts data'!$A$14:$B$18,2,0)/IF('Charts data'!$E$3=1,I928,1)/IF('Charts data'!$E$4=1,J928,1)","v":20000}]
["ID0491",20000,"USD",{"$f":"B929*VLOOKUP(C929,tblXrate[],2,0)","v":20000},"Consultant","India","2 to 3",null,{"$f":"VLOOKUP(F929,mapping!$L$2:$P$92,2,0)","v":0.34064763831408895},{"$f":"VLOOKUP($F929,mapping!$L$2:$P$92,3,0)","v":1388.78},{"$f":"VLOOKUP($F929,mapping!$L$2:$P$92,4,0)","v":"Developing Asia"},{"$f":"$D929*VLOOKUP($E929,'Charts data'!$A$2:$B$11,2,0)*VLOOKUP($G929,'Charts data'!$A$14:$B$18,2,0)/IF('Charts data'!$E$3=1,I929,1)/IF('Charts data'!$E$4=1,J929,1)","v":20000}]
["ID0492",6000,"USD",{"$f":"B930*VLOOKUP(C930,tblXrate[],2,0)","v":6000},"Reporting","India","8 Hrs",null,{"$f":"VLOOKUP(F930,mapping!$L$2:$P$92,2,0)","v":0.34064763831408895},{"$f":"VLOOKUP($F930,mapping!$L$2:$P$92,3,0)","v":1388.78},{"$f":"VLOOKUP($F930,mapping!$L$2:$P$92,4,0)","v":"Developing Asia"},{"$f":"$D930*VLOOKUP($E930,'Charts data'!$A$2:$B$11,2,0)*VLOOKUP($G930,'Charts data'!$A$14:$B$18,2,0)/IF('Charts data'!$E$3=1,I930,1)/IF('Charts data'!$E$4=1,J930,1)","v":6000}]
["ID0509",8400,"USD",{"$f":"B931*VLOOKUP(C931,tblXrate[],2,0)","v":8400},"Manager","India","4 to 6",null,{"$f":"VLOOKUP(F931,mapping!$L$2:$P$92,2,0)","v":0.34064763831408895},{"$f":"VLOOKUP($F931,mapping!$L$2:$P$92,3,0)","v":1388.78},{"$f":"VLOOKUP($F931,mapping!$L$2:$P$92,4,0)","v":"Developing Asia"},{"$f":"$D931*VLOOKUP($E931,'Charts data'!$A$2:$B$11,2,0)*VLOOKUP($G931,'Charts data'!$A$14:$B$18,2,0)/IF('Charts data'!$E$3=1,I931,1)/IF('Charts data'!$E$4=1,J931,1)","v":8400}]
["ID0521",15000,"USD",{"$f":"B932*VLOOKUP(C932,tblXrate[],2,0)","v":15000},"Manager","India","4 to 6",null,{"$f":"VLOOKUP(F932,mapping!$L$2:$P$92,2,0)","v":0.34064763831408895},{"$f":"VLOOKUP($F932,mapping!$L$2:$P$92,3,0)","v":1388.78},{"$f":"VLOOKUP($F932,mapping!$L$2:$P$92,4,0)","v":"Developing Asia"},{"$f":"$D932*VLOOKUP($E932,'Charts data'!$A$2:$B$11,2,0)*VLOOKUP($G932,'Charts data'!$A$14:$B$18,2,0)/IF('Charts data'!$E$3=1,I932,1)/IF('Charts data'!$E$4=1,J932,1)","v":15000}]
["ID0576",4285,"USD",{"$f":"B933*VLOOKUP(C933,tblXrate[],2,0)","v":4285},"Analyst","India","8 Hrs",6,{"$f":"VLOOKUP(F933,mapping!$L$2:$P$92,2,0)","v":0.34064763831408895},{"$f":"VLOOKUP($F933,mapping!$L$2:$P$92,3,0)","v":1388.78},{"$f":"VLOOKUP($F933,mapping!$L$2:$P$92,4,0)","v":"Developing Asia"},{"$f":"$D933*VLOOKUP($E933,'Charts data'!$A$2:$B$11,2,0)*VLOOKUP($G933,'Charts data'!$A$14:$B$18,2,0)/IF('Charts data'!$E$3=1,I933,1)/IF('Charts data'!$E$4=1,J933,1)","v":4285}]
["ID0599",50000,"USD",{"$f":"B934*VLOOKUP(C934,tblXrate[],2,0)","v":50000},"Manager","India","1 or 2",25,{"$f":"VLOOKUP(F934,mapping!$L$2:$P$92,2,0)","v":0.34064763831408895},{"$f":"VLOOKUP($F934,mapping!$L$2:$P$92,3,0)","v":1388.78},{"$f":"VLOOKUP($F934,mapping!$L$2:$P$92,4,0)","v":"Developing Asia"},{"$f":"$D934*VLOOKUP($E934,'Charts data'!$A$2:$B$11,2,0)*VLOOKUP($G934,'Charts data'!$A$14:$B$18,2,0)/IF('Charts data'!$E$3=1,I934,1)/IF('Charts data'!$E$4=1,J934,1)","v":50000}]
["ID0604",50000,"USD",{"$f":"B935*VLOOKUP(C935,tblXrate[],2,0)","v":50000},"Manager","India","1 or 2",10,{"$f":"VLOOKUP(F935,mapping!$L$2:$P$92,2,0)","v":0.34064763831408895},{"$f":"VLOOKUP($F935,mapping!$L$2:$P$92,3,0)","v":1388.78},{"$f":"VLOOKUP($F935,mapping!$L$2:$P$92,4,0)","v":"Developing Asia"},{"$f":"$D935*VLOOKUP($E935,'Charts data'!$A$2:$B$11,2,0)*VLOOKUP($G935,'Charts data'!$A$14:$B$18,2,0)/IF('Charts data'!$E$3=1,I935,1)/IF('Charts data'!$E$4=1,J935,1)","v":50000}]
["ID0619",21000,"USD",{"$f":"B936*VLOOKUP(C936,tblXrate[],2,0)","v":21000},"Manager","India","8 Hrs",23,{"$f":"VLOOKUP(F936,mapping!$L$2:$P$92,2,0)","v":0.34064763831408895},{"$f":"VLOOKUP($F936,mapping!$L$2:$P$92,3,0)","v":1388.78},{"$f":"VLOOKUP($F936,mapping!$L$2:$P$92,4,0)","v":"Developing Asia"},{"$f":"$D936*VLOOKUP($E936,'Charts data'!$A$2:$B$11,2,0)*VLOOKUP($G936,'Charts data'!$A$14:$B$18,2,0)/IF('Charts data'!$E$3=1,I936,1)/IF('Charts data'!$E$4=1,J936,1)","v":21000}]
["ID0622",8400,"USD",{"$f":"B937*VLOOKUP(C937,tblXrate[],2,0)","v":8400},"Manager","India","8 Hrs",26,{"$f":"VLOOKUP(F937,mapping!$L$2:$P$92,2,0)","v":0.34064763831408895},{"$f":"VLOOKUP($F937,mapping!$L$2:$P$92,3,0)","v":1388.78},{"$f":"VLOOKUP($F937,mapping!$L$2:$P$92,4,0)","v":"Developing Asia"},{"$f":"$D937*VLOOKUP($E937,'Charts data'!$A$2:$B$11,2,0)*VLOOKUP($G937,'Charts data'!$A$14:$B$18,2,0)/IF('Charts data'!$E$3=1,I937,1)/IF('Charts data'!$E$4=1,J937,1)","v":8400}]
["ID0625",4000,"USD",{"$f":"B938*VLOOKUP(C938,tblXrate[],2,0)","v":4000},"Reporting","India","8 Hrs",6,{"$f":"VLOOKUP(F938,mapping!$L$2:$P$92,2,0)","v":0.34064763831408895},{"$f":"VLOOKUP($F938,mapping!$L$2:$P$92,3,0)","v":1388.78},{"$f":"VLOOKUP($F938,mapping!$L$2:$P$92,4,0)","v":"Developing Asia"},{"$f":"$D938*VLOOKUP($E938,'Charts data'!$A$2:$B$11,2,0)*VLOOKUP($G938,'Charts data'!$A$14:$B$18,2,0)/IF('Charts data'!$E$3=1,I938,1)/IF('Charts data'!$E$4=1,J938,1)","v":4000}]
["ID0629",4200,"USD",{"$f":"B939*VLOOKUP(C939,tblXrate[],2,0)","v":4200},"Reporting","India","8 Hrs",4,{"$f":"VLOOKUP(F939,mapping!$L$2:$P$92,2,0)","v":0.34064763831408895},{"$f":"VLOOKUP($F939,mapping!$L$2:$P$92,3,0)","v":1388.78},{"$f":"VLOOKUP($F939,mapping!$L$2:$P$92,4,0)","v":"Developing Asia"},{"$f":"$D939*VLOOKUP($E939,'Charts data'!$A$2:$B$11,2,0)*VLOOKUP($G939,'Charts data'!$A$14:$B$18,2,0)/IF('Charts data'!$E$3=1,I939,1)/IF('Charts data'!$E$4=1,J939,1)","v":4200}]
["ID0647",4000,"USD",{"$f":"B940*VLOOKUP(C940,tblXrate[],2,0)","v":4000},"Reporting","India","8 Hrs",4,{"$f":"VLOOKUP(F940,mapping!$L$2:$P$92,2,0)","v":0.34064763831408895},{"$f":"VLOOKUP($F940,mapping!$L$2:$P$92,3,0)","v":1388.78},{"$f":"VLOOKUP($F940,mapping!$L$2:$P$92,4,0)","v":"Developing Asia"},{"$f":"$D940*VLOOKUP($E940,'Charts data'!$A$2:$B$11,2,0)*VLOOKUP($G940,'Charts data'!$A$14:$B$18,2,0)/IF('Charts data'!$E$3=1,I940,1)/IF('Charts data'!$E$4=1,J940,1)","v":4000}]
["ID0653",4000,"USD",{"$f":"B941*VLOOKUP(C941,tblXrate[],2,0)","v":4000},"Manager","India","8 Hrs",8,{"$f":"VLOOKUP(F941,mapping!$L$2:$P$92,2,0)","v":0.34064763831408895},{"$f":"VLOOKUP($F941,mapping!$L$2:$P$92,3,0)","v":1388.78},{"$f":"VLOOKUP($F941,mapping!$L$2:$P$92,4,0)","v":"Developing Asia"},{"$f":"$D941*VLOOKUP($E941,'Charts data'!$A$2:$B$11,2,0)*VLOOKUP($G941,'Charts data'!$A$14:$B$18,2,0)/IF('Charts data'!$E$3=1,I941,1)/IF('Charts data'!$E$4=1,J941,1)","v":4000}]
["ID0654",5400,"USD",{"$f":"B942*VLOOKUP(C942,tblXrate[],2,0)","v":5400},"Manager","India","8 Hrs",3,{"$f":"VLOOKUP(F942,mapping!$L$2:$P$92,2,0)","v":0.34064763831408895},{"$f":"VLOOKUP($F942,mapping!$L$2:$P$92,3,0)","v":1388.78},{"$f":"VLOOKUP($F942,mapping!$L$2:$P$92,4,0)","v":"Developing Asia"},{"$f":"$D942*VLOOKUP($E942,'Charts data'!$A$2:$B$11,2,0)*VLOOKUP($G942,'Charts data'!$A$14:$B$18,2,0)/IF('Charts data'!$E$3=1,I942,1)/IF('Charts data'!$E$4=1,J942,1)","v":5400}]
["ID0657",21500,"USD",{"$f":"B943*VLOOKUP(C943,tblXrate[],2,0)","v":21500},"Analyst","India","4 to 6",9,{"$f":"VLOOKUP(F943,mapping!$L$2:$P$92,2,0)","v":0.34064763831408895},{"$f":"VLOOKUP($F943,mapping!$L$2:$P$92,3,0)","v":1388.78},{"$f":"VLOOKUP($F943,mapping!$L$2:$P$92,4,0)","v":"Developing Asia"},{"$f":"$D943*VLOOKUP($E943,'Charts data'!$A$2:$B$11,2,0)*VLOOKUP($G943,'Charts data'!$A$14:$B$18,2,0)/IF('Charts data'!$E$3=1,I943,1)/IF('Charts data'!$E$4=1,J943,1)","v":21500}]
["ID0658",15000,"USD",{"$f":"B944*VLOOKUP(C944,tblXrate[],2,0)","v":15000},"Reporting","India","8 Hrs",2,{"$f":"VLOOKUP(F944,mapping!$L$2:$P$92,2,0)","v":0.34064763831408895},{"$f":"VLOOKUP($F944,mapping!$L$2:$P$92,3,0)","v":1388.78},{"$f":"VLOOKUP($F944,mapping!$L$2:$P$92,4,0)","v":"Developing Asia"},{"$f":"$D944*VLOOKUP($E944,'Charts data'!$A$2:$B$11,2,0)*VLOOKUP($G944,'Charts data'!$A$14:$B$18,2,0)/IF('Charts data'!$E$3=1,I944,1)/IF('Charts data'!$E$4=1,J944,1)","v":15000}]
["ID0663",37000,"USD",{"$f":"B945*VLOOKUP(C945,tblXrate[],2,0)","v":37000},"Engineer","India","4 to 6",10,{"$f":"VLOOKUP(F945,mapping!$L$2:$P$92,2,0)","v":0.34064763831408895},{"$f":"VLOOKUP($F945,mapping!$L$2:$P$92,3,0)","v":1388.78},{"$f":"VLOOKUP($F945,mapping!$L$2:$P$92,4,0)","v":"Developing Asia"},{"$f":"$D945*VLOOKUP($E945,'Charts data'!$A$2:$B$11,2,0)*VLOOKUP($G945,'Charts data'!$A$14:$B$18,2,0)/IF('Charts data'!$E$3=1,I945,1)/IF('Charts data'!$E$4=1,J945,1)","v":37000}]
["ID0667",5800,"USD",{"$f":"B946*VLOOKUP(C946,tblXrate[],2,0)","v":5800},"Manager","India","8 Hrs",8,{"$f":"VLOOKUP(F946,mapping!$L$2:$P$92,2,0)","v":0.34064763831408895},{"$f":"VLOOKUP($F946,mapping!$L$2:$P$92,3,0)","v":1388.78},{"$f":"VLOOKUP($F946,mapping!$L$2:$P$92,4,0)","v":"Developing Asia"},{"$f":"$D946*VLOOKUP($E946,'Charts data'!$A$2:$B$11,2,0)*VLOOKUP($G946,'Charts data'!$A$14:$B$18,2,0)/IF('Charts data'!$E$3=1,I946,1)/IF('Charts data'!$E$4=1,J946,1)","v":5800}]
["ID0672",8738,"USD",{"$f":"B947*VLOOKUP(C947,tblXrate[],2,0)","v":8738},"Manager","India","8 Hrs",7.3,{"$f":"VLOOKUP(F947,mapping!$L$2:$P$92,2,0)","v":0.34064763831408895},{"$f":"VLOOKUP($F947,mapping!$L$2:$P$92,3,0)","v":1388.78},{"$f":"VLOOKUP($F947,mapping!$L$2:$P$92,4,0)","v":"Developing Asia"},{"$f":"$D947*VLOOKUP($E947,'Charts data'!$A$2:$B$11,2,0)*VLOOKUP($G947,'Charts data'!$A$14:$B$18,2,0)/IF('Charts data'!$E$3=1,I947,1)/IF('Charts data'!$E$4=1,J947,1)","v":8738}]
["ID0675",10200,"USD",{"$f":"B948*VLOOKUP(C948,tblXrate[],2,0)","v":10200},"Analyst","India","4 to 6",4.5,{"$f":"VLOOKUP(F948,mapping!$L$2:$P$92,2,0)","v":0.34064763831408895},{"$f":"VLOOKUP($F948,mapping!$L$2:$P$92,3,0)","v":1388.78},{"$f":"VLOOKUP($F948,mapping!$L$2:$P$92,4,0)","v":"Developing Asia"},{"$f":"$D948*VLOOKUP($E948,'Charts data'!$A$2:$B$11,2,0)*VLOOKUP($G948,'Charts data'!$A$14:$B$18,2,0)/IF('Charts data'!$E$3=1,I948,1)/IF('Charts data'!$E$4=1,J948,1)","v":10200}]
["ID0686",13000,"USD",{"$f":"B949*VLOOKUP(C949,tblXrate[],2,0)","v":13000},"Analyst","India","1 or 2",4,{"$f":"VLOOKUP(F949,mapping!$L$2:$P$92,2,0)","v":0.34064763831408895},{"$f":"VLOOKUP($F949,mapping!$L$2:$P$92,3,0)","v":1388.78},{"$f":"VLOOKUP($F949,mapping!$L$2:$P$92,4,0)","v":"Developing Asia"},{"$f":"$D949*VLOOKUP($E949,'Charts data'!$A$2:$B$11,2,0)*VLOOKUP($G949,'Charts data'!$A$14:$B$18,2,0)/IF('Charts data'!$E$3=1,I949,1)/IF('Charts data'!$E$4=1,J949,1)","v":13000}]
["ID0690",50000,"USD",{"$f":"B950*VLOOKUP(C950,tblXrate[],2,0)","v":50000},"Manager","India","2 to 3",20,{"$f":"VLOOKUP(F950,mapping!$L$2:$P$92,2,0)","v":0.34064763831408895},{"$f":"VLOOKUP($F950,mapping!$L$2:$P$92,3,0)","v":1388.78},{"$f":"VLOOKUP($F950,mapping!$L$2:$P$92,4,0)","v":"Developing Asia"},{"$f":"$D950*VLOOKUP($E950,'Charts data'!$A$2:$B$11,2,0)*VLOOKUP($G950,'Charts data'!$A$14:$B$18,2,0)/IF('Charts data'!$E$3=1,I950,1)/IF('Charts data'!$E$4=1,J950,1)","v":50000}]
["ID0693",7000,"USD",{"$f":"B951*VLOOKUP(C951,tblXrate[],2,0)","v":7000},"Manager","India","4 to 6",23,{"$f":"VLOOKUP(F951,mapping!$L$2:$P$92,2,0)","v":0.34064763831408895},{"$f":"VLOOKUP($F951,mapping!$L$2:$P$92,3,0)","v":1388.78},{"$f":"VLOOKUP($F951,mapping!$L$2:$P$92,4,0)","v":"Developing Asia"},{"$f":"$D951*VLOOKUP($E951,'Charts data'!$A$2:$B$11,2,0)*VLOOKUP($G951,'Charts data'!$A$14:$B$18,2,0)/IF('Charts data'!$E$3=1,I951,1)/IF('Charts data'!$E$4=1,J951,1)","v":7000}]
["ID0707",10000,"USD",{"$f":"B952*VLOOKUP(C952,tblXrate[],2,0)","v":10000},"Manager","India","4 to 6",2,{"$f":"VLOOKUP(F952,mapping!$L$2:$P$92,2,0)","v":0.34064763831408895},{"$f":"VLOOKUP($F952,mapping!$L$2:$P$92,3,0)","v":1388.78},{"$f":"VLOOKUP($F952,mapping!$L$2:$P$92,4,0)","v":"Developing Asia"},{"$f":"$D952*VLOOKUP($E952,'Charts data'!$A$2:$B$11,2,0)*VLOOKUP($G952,'Charts data'!$A$14:$B$18,2,0)/IF('Charts data'!$E$3=1,I952,1)/IF('Charts data'!$E$4=1,J952,1)","v":10000}]
["ID0722",31250,"USD",{"$f":"B953*VLOOKUP(C953,tblXrate[],2,0)","v":31250},"Manager","India","2 to 3",6,{"$f":"VLOOKUP(F953,mapping!$L$2:$P$92,2,0)","v":0.34064763831408895},{"$f":"VLOOKUP($F953,mapping!$L$2:$P$92,3,0)","v":1388.78},{"$f":"VLOOKUP($F953,mapping!$L$2:$P$92,4,0)","v":"Developing Asia"},{"$f":"$D953*VLOOKUP($E953,'Charts data'!$A$2:$B$11,2,0)*VLOOKUP($G953,'Charts data'!$A$14:$B$18,2,0)/IF('Charts data'!$E$3=1,I953,1)/IF('Charts data'!$E$4=1,J953,1)","v":31250}]
["ID0731",35000,"USD",{"$f":"B954*VLOOKUP(C954,tblXrate[],2,0)","v":35000},"Analyst","India","4 to 6",10,{"$f":"VLOOKUP(F954,mapping!$L$2:$P$92,2,0)","v":0.34064763831408895},{"$f":"VLOOKUP($F954,mapping!$L$2:$P$92,3,0)","v":1388.78},{"$f":"VLOOKUP($F954,mapping!$L$2:$P$92,4,0)","v":"Developing Asia"},{"$f":"$D954*VLOOKUP($E954,'Charts data'!$A$2:$B$11,2,0)*VLOOKUP($G954,'Charts data'!$A$14:$B$18,2,0)/IF('Charts data'!$E$3=1,I954,1)/IF('Charts data'!$E$4=1,J954,1)","v":35000}]
["ID0737",40000,"USD",{"$f":"B955*VLOOKUP(C955,tblXrate[],2,0)","v":40000},"Manager","India","8 Hrs",15,{"$f":"VLOOKUP(F955,mapping!$L$2:$P$92,2,0)","v":0.34064763831408895},{"$f":"VLOOKUP($F955,mapping!$L$2:$P$92,3,0)","v":1388.78},{"$f":"VLOOKUP($F955,mapping!$L$2:$P$92,4,0)","v":"Developing Asia"},{"$f":"$D955*VLOOKUP($E955,'Charts data'!$A$2:$B$11,2,0)*VLOOKUP($G955,'Charts data'!$A$14:$B$18,2,0)/IF('Charts data'!$E$3=1,I955,1)/IF('Charts data'!$E$4=1,J955,1)","v":40000}]
["ID0744",15000,"USD",{"$f":"B956*VLOOKUP(C956,tblXrate[],2,0)","v":15000},"Controller","India","2 to 3",2,{"$f":"VLOOKUP(F956,mapping!$L$2:$P$92,2,0)","v":0.34064763831408895},{"$f":"VLOOKUP($F956,mapping!$L$2:$P$92,3,0)","v":1388.78},{"$f":"VLOOKUP($F956,mapping!$L$2:$P$92,4,0)","v":"Developing Asia"},{"$f":"$D956*VLOOKUP($E956,'Charts data'!$A$2:$B$11,2,0)*VLOOKUP($G956,'Charts data'!$A$14:$B$18,2,0)/IF('Charts data'!$E$3=1,I956,1)/IF('Charts data'!$E$4=1,J956,1)","v":15000}]
["ID0745",10000,"USD",{"$f":"B957*VLOOKUP(C957,tblXrate[],2,0)","v":10000},"Analyst","India","4 to 6",12,{"$f":"VLOOKUP(F957,mapping!$L$2:$P$92,2,0)","v":0.34064763831408895},{"$f":"VLOOKUP($F957,mapping!$L$2:$P$92,3,0)","v":1388.78},{"$f":"VLOOKUP($F957,mapping!$L$2:$P$92,4,0)","v":"Developing Asia"},{"$f":"$D957*VLOOKUP($E957,'Charts data'!$A$2:$B$11,2,0)*VLOOKUP($G957,'Charts data'!$A$14:$B$18,2,0)/IF('Charts data'!$E$3=1,I957,1)/IF('Charts data'!$E$4=1,J957,1)","v":10000}]
["ID0749",16000,"USD",{"$f":"B958*VLOOKUP(C958,tblXrate[],2,0)","v":16000},"Engineer","India","2 to 3",5,{"$f":"VLOOKUP(F958,mapping!$L$2:$P$92,2,0)","v":0.34064763831408895},{"$f":"VLOOKUP($F958,mapping!$L$2:$P$92,3,0)","v":1388.78},{"$f":"VLOOKUP($F958,mapping!$L$2:$P$92,4,0)","v":"Developing Asia"},{"$f":"$D958*VLOOKUP($E958,'Charts data'!$A$2:$B$11,2,0)*VLOOKUP($G958,'Charts data'!$A$14:$B$18,2,0)/IF('Charts data'!$E$3=1,I958,1)/IF('Charts data'!$E$4=1,J958,1)","v":16000}]
["ID0750",6000,"USD",{"$f":"B959*VLOOKUP(C959,tblXrate[],2,0)","v":6000},"Manager","India","2 to 3",6,{"$f":"VLOOKUP(F959,mapping!$L$2:$P$92,2,0)","v":0.34064763831408895},{"$f":"VLOOKUP($F959,mapping!$L$2:$P$92,3,0)","v":1388.78},{"$f":"VLOOKUP($F959,mapping!$L$2:$P$92,4,0)","v":"Developing Asia"},{"$f":"$D959*VLOOKUP($E959,'Charts data'!$A$2:$B$11,2,0)*VLOOKUP($G959,'Charts data'!$A$14:$B$18,2,0)/IF('Charts data'!$E$3=1,I959,1)/IF('Charts data'!$E$4=1,J959,1)","v":6000}]
["ID0753",20000,"USD",{"$f":"B960*VLOOKUP(C960,tblXrate[],2,0)","v":20000},"Engineer","India","1 or 2",7,{"$f":"VLOOKUP(F960,mapping!$L$2:$P$92,2,0)","v":0.34064763831408895},{"$f":"VLOOKUP($F960,mapping!$L$2:$P$92,3,0)","v":1388.78},{"$f":"VLOOKUP($F960,mapping!$L$2:$P$92,4,0)","v":"Developing Asia"},{"$f":"$D960*VLOOKUP($E960,'Charts data'!$A$2:$B$11,2,0)*VLOOKUP($G960,'Charts data'!$A$14:$B$18,2,0)/IF('Charts data'!$E$3=1,I960,1)/IF('Charts data'!$E$4=1,J960,1)","v":20000}]
["ID0757",8000,"USD",{"$f":"B961*VLOOKUP(C961,tblXrate[],2,0)","v":8000},"Analyst","India","2 to 3",6,{"$f":"VLOOKUP(F961,mapping!$L$2:$P$92,2,0)","v":0.34064763831408895},{"$f":"VLOOKUP($F961,mapping!$L$2:$P$92,3,0)","v":1388.78},{"$f":"VLOOKUP($F961,mapping!$L$2:$P$92,4,0)","v":"Developing Asia"},{"$f":"$D961*VLOOKUP($E961,'Charts data'!$A$2:$B$11,2,0)*VLOOKUP($G961,'Charts data'!$A$14:$B$18,2,0)/IF('Charts data'!$E$3=1,I961,1)/IF('Charts data'!$E$4=1,J961,1)","v":8000}]
["ID0762",24000,"USD",{"$f":"B962*VLOOKUP(C962,tblXrate[],2,0)","v":24000},"Analyst","India","2 to 3",1,{"$f":"VLOOKUP(F962,mapping!$L$2:$P$92,2,0)","v":0.34064763831408895},{"$f":"VLOOKUP($F962,mapping!$L$2:$P$92,3,0)","v":1388.78},{"$f":"VLOOKUP($F962,mapping!$L$2:$P$92,4,0)","v":"Developing Asia"},{"$f":"$D962*VLOOKUP($E962,'Charts data'!$A$2:$B$11,2,0)*VLOOKUP($G962,'Charts data'!$A$14:$B$18,2,0)/IF('Charts data'!$E$3=1,I962,1)/IF('Charts data'!$E$4=1,J962,1)","v":24000}]
["ID0776",13500,"USD",{"$f":"B963*VLOOKUP(C963,tblXrate[],2,0)","v":13500},"Reporting","India","8 Hrs",2.5,{"$f":"VLOOKUP(F963,mapping!$L$2:$P$92,2,0)","v":0.34064763831408895},{"$f":"VLOOKUP($F963,mapping!$L$2:$P$92,3,0)","v":1388.78},{"$f":"VLOOKUP($F963,mapping!$L$2:$P$92,4,0)","v":"Developing Asia"},{"$f":"$D963*VLOOKUP($E963,'Charts data'!$A$2:$B$11,2,0)*VLOOKUP($G963,'Charts data'!$A$14:$B$18,2,0)/IF('Charts data'!$E$3=1,I963,1)/IF('Charts data'!$E$4=1,J963,1)","v":13500}]
["ID0777",45000,"USD",{"$f":"B964*VLOOKUP(C964,tblXrate[],2,0)","v":45000},"Manager","India","1 or 2",15,{"$f":"VLOOKUP(F964,mapping!$L$2:$P$92,2,0)","v":0.34064763831408895},{"$f":"VLOOKUP($F964,mapping!$L$2:$P$92,3,0)","v":1388.78},{"$f":"VLOOKUP($F964,mapping!$L$2:$P$92,4,0)","v":"Developing Asia"},{"$f":"$D964*VLOOKUP($E964,'Charts data'!$A$2:$B$11,2,0)*VLOOKUP($G964,'Charts data'!$A$14:$B$18,2,0)/IF('Charts data'!$E$3=1,I964,1)/IF('Charts data'!$E$4=1,J964,1)","v":45000}]
["ID0786",16000,"USD",{"$f":"B965*VLOOKUP(C965,tblXrate[],2,0)","v":16000},"Reporting","India","8 Hrs",1,{"$f":"VLOOKUP(F965,mapping!$L$2:$P$92,2,0)","v":0.34064763831408895},{"$f":"VLOOKUP($F965,mapping!$L$2:$P$92,3,0)","v":1388.78},{"$f":"VLOOKUP($F965,mapping!$L$2:$P$92,4,0)","v":"Developing Asia"},{"$f":"$D965*VLOOKUP($E965,'Charts data'!$A$2:$B$11,2,0)*VLOOKUP($G965,'Charts data'!$A$14:$B$18,2,0)/IF('Charts data'!$E$3=1,I965,1)/IF('Charts data'!$E$4=1,J965,1)","v":16000}]
["ID0789",10000,"USD",{"$f":"B966*VLOOKUP(C966,tblXrate[],2,0)","v":10000},"Manager","India","1 or 2",12,{"$f":"VLOOKUP(F966,mapping!$L$2:$P$92,2,0)","v":0.34064763831408895},{"$f":"VLOOKUP($F966,mapping!$L$2:$P$92,3,0)","v":1388.78},{"$f":"VLOOKUP($F966,mapping!$L$2:$P$92,4,0)","v":"Developing Asia"},{"$f":"$D966*VLOOKUP($E966,'Charts data'!$A$2:$B$11,2,0)*VLOOKUP($G966,'Charts data'!$A$14:$B$18,2,0)/IF('Charts data'!$E$3=1,I966,1)/IF('Charts data'!$E$4=1,J966,1)","v":10000}]
["ID0795",96000,"USD",{"$f":"B967*VLOOKUP(C967,tblXrate[],2,0)","v":96000},"Reporting","India","8 Hrs",8,{"$f":"VLOOKUP(F967,mapping!$L$2:$P$92,2,0)","v":0.34064763831408895},{"$f":"VLOOKUP($F967,mapping!$L$2:$P$92,3,0)","v":1388.78},{"$f":"VLOOKUP($F967,mapping!$L$2:$P$92,4,0)","v":"Developing Asia"},{"$f":"$D967*VLOOKUP($E967,'Charts data'!$A$2:$B$11,2,0)*VLOOKUP($G967,'Charts data'!$A$14:$B$18,2,0)/IF('Charts data'!$E$3=1,I967,1)/IF('Charts data'!$E$4=1,J967,1)","v":96000}]
["ID0810",13100,"USD",{"$f":"B968*VLOOKUP(C968,tblXrate[],2,0)","v":13100},"Accountant","India","2 to 3",5,{"$f":"VLOOKUP(F968,mapping!$L$2:$P$92,2,0)","v":0.34064763831408895},{"$f":"VLOOKUP($F968,mapping!$L$2:$P$92,3,0)","v":1388.78},{"$f":"VLOOKUP($F968,mapping!$L$2:$P$92,4,0)","v":"Developing Asia"},{"$f":"$D968*VLOOKUP($E968,'Charts data'!$A$2:$B$11,2,0)*VLOOKUP($G968,'Charts data'!$A$14:$B$18,2,0)/IF('Charts data'!$E$3=1,I968,1)/IF('Charts data'!$E$4=1,J968,1)","v":13100}]
["ID0821",15500,"USD",{"$f":"B969*VLOOKUP(C969,tblXrate[],2,0)","v":15500},"Engineer","India","1 or 2",3,{"$f":"VLOOKUP(F969,mapping!$L$2:$P$92,2,0)","v":0.34064763831408895},{"$f":"VLOOKUP($F969,mapping!$L$2:$P$92,3,0)","v":1388.78},{"$f":"VLOOKUP($F969,mapping!$L$2:$P$92,4,0)","v":"Developing Asia"},{"$f":"$D969*VLOOKUP($E969,'Charts data'!$A$2:$B$11,2,0)*VLOOKUP($G969,'Charts data'!$A$14:$B$18,2,0)/IF('Charts data'!$E$3=1,I969,1)/IF('Charts data'!$E$4=1,J969,1)","v":15500}]
["ID0838",13000,"USD",{"$f":"B970*VLOOKUP(C970,tblXrate[],2,0)","v":13000},"Analyst","India","8 Hrs",6,{"$f":"VLOOKUP(F970,mapping!$L$2:$P$92,2,0)","v":0.34064763831408895},{"$f":"VLOOKUP($F970,mapping!$L$2:$P$92,3,0)","v":1388.78},{"$f":"VLOOKUP($F970,mapping!$L$2:$P$92,4,0)","v":"Developing Asia"},{"$f":"$D970*VLOOKUP($E970,'Charts data'!$A$2:$B$11,2,0)*VLOOKUP($G970,'Charts data'!$A$14:$B$18,2,0)/IF('Charts data'!$E$3=1,I970,1)/IF('Charts data'!$E$4=1,J970,1)","v":13000}]
["ID0842",30000,"USD",{"$f":"B971*VLOOKUP(C971,tblXrate[],2,0)","v":30000},"Reporting","India","4 to 6",2,{"$f":"VLOOKUP(F971,mapping!$L$2:$P$92,2,0)","v":0.34064763831408895},{"$f":"VLOOKUP($F971,mapping!$L$2:$P$92,3,0)","v":1388.78},{"$f":"VLOOKUP($F971,mapping!$L$2:$P$92,4,0)","v":"Developing Asia"},{"$f":"$D971*VLOOKUP($E971,'Charts data'!$A$2:$B$11,2,0)*VLOOKUP($G971,'Charts data'!$A$14:$B$18,2,0)/IF('Charts data'!$E$3=1,I971,1)/IF('Charts data'!$E$4=1,J971,1)","v":30000}]
["ID0847",5000,"USD",{"$f":"B972*VLOOKUP(C972,tblXrate[],2,0)","v":5000},"Manager","India","4 to 6",1,{"$f":"VLOOKUP(F972,mapping!$L$2:$P$92,2,0)","v":0.34064763831408895},{"$f":"VLOOKUP($F972,mapping!$L$2:$P$92,3,0)","v":1388.78},{"$f":"VLOOKUP($F972,mapping!$L$2:$P$92,4,0)","v":"Developing Asia"},{"$f":"$D972*VLOOKUP($E972,'Charts data'!$A$2:$B$11,2,0)*VLOOKUP($G972,'Charts data'!$A$14:$B$18,2,0)/IF('Charts data'!$E$3=1,I972,1)/IF('Charts data'!$E$4=1,J972,1)","v":5000}]
["ID0905",10000,"USD",{"$f":"B973*VLOOKUP(C973,tblXrate[],2,0)","v":10000},"Manager","India","4 to 6",6,{"$f":"VLOOKUP(F973,mapping!$L$2:$P$92,2,0)","v":0.34064763831408895},{"$f":"VLOOKUP($F973,mapping!$L$2:$P$92,3,0)","v":1388.78},{"$f":"VLOOKUP($F973,mapping!$L$2:$P$92,4,0)","v":"Developing Asia"},{"$f":"$D973*VLOOKUP($E973,'Charts data'!$A$2:$B$11,2,0)*VLOOKUP($G973,'Charts data'!$A$14:$B$18,2,0)/IF('Charts data'!$E$3=1,I973,1)/IF('Charts data'!$E$4=1,J973,1)","v":10000}]
["ID0908",16350,"USD",{"$f":"B974*VLOOKUP(C974,tblXrate[],2,0)","v":16350},"Manager","India","4 to 6",5,{"$f":"VLOOKUP(F974,mapping!$L$2:$P$92,2,0)","v":0.34064763831408895},{"$f":"VLOOKUP($F974,mapping!$L$2:$P$92,3,0)","v":1388.78},{"$f":"VLOOKUP($F974,mapping!$L$2:$P$92,4,0)","v":"Developing Asia"},{"$f":"$D974*VLOOKUP($E974,'Charts data'!$A$2:$B$11,2,0)*VLOOKUP($G974,'Charts data'!$A$14:$B$18,2,0)/IF('Charts data'!$E$3=1,I974,1)/IF('Charts data'!$E$4=1,J974,1)","v":16350}]
["ID0931",24000,"USD",{"$f":"B975*VLOOKUP(C975,tblXrate[],2,0)","v":24000},"Analyst","India","4 to 6",3,{"$f":"VLOOKUP(F975,mapping!$L$2:$P$92,2,0)","v":0.34064763831408895},{"$f":"VLOOKUP($F975,mapping!$L$2:$P$92,3,0)","v":1388.78},{"$f":"VLOOKUP($F975,mapping!$L$2:$P$92,4,0)","v":"Developing Asia"},{"$f":"$D975*VLOOKUP($E975,'Charts data'!$A$2:$B$11,2,0)*VLOOKUP($G975,'Charts data'!$A$14:$B$18,2,0)/IF('Charts data'!$E$3=1,I975,1)/IF('Charts data'!$E$4=1,J975,1)","v":24000}]
["ID0943",24000,"USD",{"$f":"B976*VLOOKUP(C976,tblXrate[],2,0)","v":24000},"Manager","India","4 to 6",10,{"$f":"VLOOKUP(F976,mapping!$L$2:$P$92,2,0)","v":0.34064763831408895},{"$f":"VLOOKUP($F976,mapping!$L$2:$P$92,3,0)","v":1388.78},{"$f":"VLOOKUP($F976,mapping!$L$2:$P$92,4,0)","v":"Developing Asia"},{"$f":"$D976*VLOOKUP($E976,'Charts data'!$A$2:$B$11,2,0)*VLOOKUP($G976,'Charts data'!$A$14:$B$18,2,0)/IF('Charts data'!$E$3=1,I976,1)/IF('Charts data'!$E$4=1,J976,1)","v":24000}]
["ID0959",8000,"USD",{"$f":"B977*VLOOKUP(C977,tblXrate[],2,0)","v":8000},"Analyst","India","1 or 2",5,{"$f":"VLOOKUP(F977,mapping!$L$2:$P$92,2,0)","v":0.34064763831408895},{"$f":"VLOOKUP($F977,mapping!$L$2:$P$92,3,0)","v":1388.78},{"$f":"VLOOKUP($F977,mapping!$L$2:$P$92,4,0)","v":"Developing Asia"},{"$f":"$D977*VLOOKUP($E977,'Charts data'!$A$2:$B$11,2,0)*VLOOKUP($G977,'Charts data'!$A$14:$B$18,2,0)/IF('Charts data'!$E$3=1,I977,1)/IF('Charts data'!$E$4=1,J977,1)","v":8000}]
["ID0967",15000,"USD",{"$f":"B978*VLOOKUP(C978,tblXrate[],2,0)","v":15000},"Analyst","India","2 to 3",2,{"$f":"VLOOKUP(F978,mapping!$L$2:$P$92,2,0)","v":0.34064763831408895},{"$f":"VLOOKUP($F978,mapping!$L$2:$P$92,3,0)","v":1388.78},{"$f":"VLOOKUP($F978,mapping!$L$2:$P$92,4,0)","v":"Developing Asia"},{"$f":"$D978*VLOOKUP($E978,'Charts data'!$A$2:$B$11,2,0)*VLOOKUP($G978,'Charts data'!$A$14:$B$18,2,0)/IF('Charts data'!$E$3=1,I978,1)/IF('Charts data'!$E$4=1,J978,1)","v":15000}]
["ID1011",18000,"USD",{"$f":"B979*VLOOKUP(C979,tblXrate[],2,0)","v":18000},"Specialist","India","8 Hrs",8,{"$f":"VLOOKUP(F979,mapping!$L$2:$P$92,2,0)","v":0.34064763831408895},{"$f":"VLOOKUP($F979,mapping!$L$2:$P$92,3,0)","v":1388.78},{"$f":"VLOOKUP($F979,mapping!$L$2:$P$92,4,0)","v":"Developing Asia"},{"$f":"$D979*VLOOKUP($E979,'Charts data'!$A$2:$B$11,2,0)*VLOOKUP($G979,'Charts data'!$A$14:$B$18,2,0)/IF('Charts data'!$E$3=1,I979,1)/IF('Charts data'!$E$4=1,J979,1)","v":18000}]
["ID1016",15000,"USD",{"$f":"B980*VLOOKUP(C980,tblXrate[],2,0)","v":15000},"Manager","India","4 to 6",4,{"$f":"VLOOKUP(F980,mapping!$L$2:$P$92,2,0)","v":0.34064763831408895},{"$f":"VLOOKUP($F980,mapping!$L$2:$P$92,3,0)","v":1388.78},{"$f":"VLOOKUP($F980,mapping!$L$2:$P$92,4,0)","v":"Developing Asia"},{"$f":"$D980*VLOOKUP($E980,'Charts data'!$A$2:$B$11,2,0)*VLOOKUP($G980,'Charts data'!$A$14:$B$18,2,0)/IF('Charts data'!$E$3=1,I980,1)/IF('Charts data'!$E$4=1,J980,1)","v":15000}]
["ID1020",7265,"USD",{"$f":"B981*VLOOKUP(C981,tblXrate[],2,0)","v":7265},"Engineer","India","4 to 6",6,{"$f":"VLOOKUP(F981,mapping!$L$2:$P$92,2,0)","v":0.34064763831408895},{"$f":"VLOOKUP($F981,mapping!$L$2:$P$92,3,0)","v":1388.78},{"$f":"VLOOKUP($F981,mapping!$L$2:$P$92,4,0)","v":"Developing Asia"},{"$f":"$D981*VLOOKUP($E981,'Charts data'!$A$2:$B$11,2,0)*VLOOKUP($G981,'Charts data'!$A$14:$B$18,2,0)/IF('Charts data'!$E$3=1,I981,1)/IF('Charts data'!$E$4=1,J981,1)","v":7265}]
["ID1033",18000,"USD",{"$f":"B982*VLOOKUP(C982,tblXrate[],2,0)","v":18000},"Manager","India","2 to 3",4.5999999999999996,{"$f":"VLOOKUP(F982,mapping!$L$2:$P$92,2,0)","v":0.34064763831408895},{"$f":"VLOOKUP($F982,mapping!$L$2:$P$92,3,0)","v":1388.78},{"$f":"VLOOKUP($F982,mapping!$L$2:$P$92,4,0)","v":"Developing Asia"},{"$f":"$D982*VLOOKUP($E982,'Charts data'!$A$2:$B$11,2,0)*VLOOKUP($G982,'Charts data'!$A$14:$B$18,2,0)/IF('Charts data'!$E$3=1,I982,1)/IF('Charts data'!$E$4=1,J982,1)","v":18000}]
["ID1038",28000,"USD",{"$f":"B983*VLOOKUP(C983,tblXrate[],2,0)","v":28000},"Reporting","India","2 to 3",3,{"$f":"VLOOKUP(F983,mapping!$L$2:$P$92,2,0)","v":0.34064763831408895},{"$f":"VLOOKUP($F983,mapping!$L$2:$P$92,3,0)","v":1388.78},{"$f":"VLOOKUP($F983,mapping!$L$2:$P$92,4,0)","v":"Developing Asia"},{"$f":"$D983*VLOOKUP($E983,'Charts data'!$A$2:$B$11,2,0)*VLOOKUP($G983,'Charts data'!$A$14:$B$18,2,0)/IF('Charts data'!$E$3=1,I983,1)/IF('Charts data'!$E$4=1,J983,1)","v":28000}]
["ID1039",6000,"USD",{"$f":"B984*VLOOKUP(C984,tblXrate[],2,0)","v":6000},"Manager","India","4 to 6",5,{"$f":"VLOOKUP(F984,mapping!$L$2:$P$92,2,0)","v":0.34064763831408895},{"$f":"VLOOKUP($F984,mapping!$L$2:$P$92,3,0)","v":1388.78},{"$f":"VLOOKUP($F984,mapping!$L$2:$P$92,4,0)","v":"Developing Asia"},{"$f":"$D984*VLOOKUP($E984,'Charts data'!$A$2:$B$11,2,0)*VLOOKUP($G984,'Charts data'!$A$14:$B$18,2,0)/IF('Charts data'!$E$3=1,I984,1)/IF('Charts data'!$E$4=1,J984,1)","v":6000}]
["ID1045",8700,"USD",{"$f":"B985*VLOOKUP(C985,tblXrate[],2,0)","v":8700},"Controller","India","2 to 3",7,{"$f":"VLOOKUP(F985,mapping!$L$2:$P$92,2,0)","v":0.34064763831408895},{"$f":"VLOOKUP($F985,mapping!$L$2:$P$92,3,0)","v":1388.78},{"$f":"VLOOKUP($F985,mapping!$L$2:$P$92,4,0)","v":"Developing Asia"},{"$f":"$D985*VLOOKUP($E985,'Charts data'!$A$2:$B$11,2,0)*VLOOKUP($G985,'Charts data'!$A$14:$B$18,2,0)/IF('Charts data'!$E$3=1,I985,1)/IF('Charts data'!$E$4=1,J985,1)","v":8700}]
["ID1058",12000,"USD",{"$f":"B986*VLOOKUP(C986,tblXrate[],2,0)","v":12000},"Consultant","India","2 to 3",8,{"$f":"VLOOKUP(F986,mapping!$L$2:$P$92,2,0)","v":0.34064763831408895},{"$f":"VLOOKUP($F986,mapping!$L$2:$P$92,3,0)","v":1388.78},{"$f":"VLOOKUP($F986,mapping!$L$2:$P$92,4,0)","v":"Developing Asia"},{"$f":"$D986*VLOOKUP($E986,'Charts data'!$A$2:$B$11,2,0)*VLOOKUP($G986,'Charts data'!$A$14:$B$18,2,0)/IF('Charts data'!$E$3=1,I986,1)/IF('Charts data'!$E$4=1,J986,1)","v":12000}]
["ID1067",5100,"USD",{"$f":"B987*VLOOKUP(C987,tblXrate[],2,0)","v":5100},"Reporting","India","8 Hrs",8,{"$f":"VLOOKUP(F987,mapping!$L$2:$P$92,2,0)","v":0.34064763831408895},{"$f":"VLOOKUP($F987,mapping!$L$2:$P$92,3,0)","v":1388.78},{"$f":"VLOOKUP($F987,mapping!$L$2:$P$92,4,0)","v":"Developing Asia"},{"$f":"$D987*VLOOKUP($E987,'Charts data'!$A$2:$B$11,2,0)*VLOOKUP($G987,'Charts data'!$A$14:$B$18,2,0)/IF('Charts data'!$E$3=1,I987,1)/IF('Charts data'!$E$4=1,J987,1)","v":5100}]
["ID1070",50000,"USD",{"$f":"B988*VLOOKUP(C988,tblXrate[],2,0)","v":50000},"CXO or Top Mgmt.","India","1 or 2",26,{"$f":"VLOOKUP(F988,mapping!$L$2:$P$92,2,0)","v":0.34064763831408895},{"$f":"VLOOKUP($F988,mapping!$L$2:$P$92,3,0)","v":1388.78},{"$f":"VLOOKUP($F988,mapping!$L$2:$P$92,4,0)","v":"Developing Asia"},{"$f":"$D988*VLOOKUP($E988,'Charts data'!$A$2:$B$11,2,0)*VLOOKUP($G988,'Charts data'!$A$14:$B$18,2,0)/IF('Charts data'!$E$3=1,I988,1)/IF('Charts data'!$E$4=1,J988,1)","v":50000}]
["ID1074",7000,"USD",{"$f":"B989*VLOOKUP(C989,tblXrate[],2,0)","v":7000},"Reporting","India","8 Hrs",5,{"$f":"VLOOKUP(F989,mapping!$L$2:$P$92,2,0)","v":0.34064763831408895},{"$f":"VLOOKUP($F989,mapping!$L$2:$P$92,3,0)","v":1388.78},{"$f":"VLOOKUP($F989,mapping!$L$2:$P$92,4,0)","v":"Developing Asia"},{"$f":"$D989*VLOOKUP($E989,'Charts data'!$A$2:$B$11,2,0)*VLOOKUP($G989,'Charts data'!$A$14:$B$18,2,0)/IF('Charts data'!$E$3=1,I989,1)/IF('Charts data'!$E$4=1,J989,1)","v":7000}]
["ID1077",6720,"USD",{"$f":"B990*VLOOKUP(C990,tblXrate[],2,0)","v":6720},"Reporting","India","4 to 6",6,{"$f":"VLOOKUP(F990,mapping!$L$2:$P$92,2,0)","v":0.34064763831408895},{"$f":"VLOOKUP($F990,mapping!$L$2:$P$92,3,0)","v":1388.78},{"$f":"VLOOKUP($F990,mapping!$L$2:$P$92,4,0)","v":"Developing Asia"},{"$f":"$D990*VLOOKUP($E990,'Charts data'!$A$2:$B$11,2,0)*VLOOKUP($G990,'Charts data'!$A$14:$B$18,2,0)/IF('Charts data'!$E$3=1,I990,1)/IF('Charts data'!$E$4=1,J990,1)","v":6720}]
["ID1080",7200,"USD",{"$f":"B991*VLOOKUP(C991,tblXrate[],2,0)","v":7200},"Analyst","India","8 Hrs",10,{"$f":"VLOOKUP(F991,mapping!$L$2:$P$92,2,0)","v":0.34064763831408895},{"$f":"VLOOKUP($F991,mapping!$L$2:$P$92,3,0)","v":1388.78},{"$f":"VLOOKUP($F991,mapping!$L$2:$P$92,4,0)","v":"Developing Asia"},{"$f":"$D991*VLOOKUP($E991,'Charts data'!$A$2:$B$11,2,0)*VLOOKUP($G991,'Charts data'!$A$14:$B$18,2,0)/IF('Charts data'!$E$3=1,I991,1)/IF('Charts data'!$E$4=1,J991,1)","v":7200}]
["ID1088",50000,"USD",{"$f":"B992*VLOOKUP(C992,tblXrate[],2,0)","v":50000},"Manager","India","2 to 3",30,{"$f":"VLOOKUP(F992,mapping!$L$2:$P$92,2,0)","v":0.34064763831408895},{"$f":"VLOOKUP($F992,mapping!$L$2:$P$92,3,0)","v":1388.78},{"$f":"VLOOKUP($F992,mapping!$L$2:$P$92,4,0)","v":"Developing Asia"},{"$f":"$D992*VLOOKUP($E992,'Charts data'!$A$2:$B$11,2,0)*VLOOKUP($G992,'Charts data'!$A$14:$B$18,2,0)/IF('Charts data'!$E$3=1,I992,1)/IF('Charts data'!$E$4=1,J992,1)","v":50000}]
["ID1094",7960,"USD",{"$f":"B993*VLOOKUP(C993,tblXrate[],2,0)","v":7960},"Manager","India","4 to 6",7,{"$f":"VLOOKUP(F993,mapping!$L$2:$P$92,2,0)","v":0.34064763831408895},{"$f":"VLOOKUP($F993,mapping!$L$2:$P$92,3,0)","v":1388.78},{"$f":"VLOOKUP($F993,mapping!$L$2:$P$92,4,0)","v":"Developing Asia"},{"$f":"$D993*VLOOKUP($E993,'Charts data'!$A$2:$B$11,2,0)*VLOOKUP($G993,'Charts data'!$A$14:$B$18,2,0)/IF('Charts data'!$E$3=1,I993,1)/IF('Charts data'!$E$4=1,J993,1)","v":7960}]
["ID1121",60000,"USD",{"$f":"B994*VLOOKUP(C994,tblXrate[],2,0)","v":60000},"Manager","India","8 Hrs",14,{"$f":"VLOOKUP(F994,mapping!$L$2:$P$92,2,0)","v":0.34064763831408895},{"$f":"VLOOKUP($F994,mapping!$L$2:$P$92,3,0)","v":1388.78},{"$f":"VLOOKUP($F994,mapping!$L$2:$P$92,4,0)","v":"Developing Asia"},{"$f":"$D994*VLOOKUP($E994,'Charts data'!$A$2:$B$11,2,0)*VLOOKUP($G994,'Charts data'!$A$14:$B$18,2,0)/IF('Charts data'!$E$3=1,I994,1)/IF('Charts data'!$E$4=1,J994,1)","v":60000}]
["ID1140",10000,"USD",{"$f":"B995*VLOOKUP(C995,tblXrate[],2,0)","v":10000},"Analyst","India","2 to 3",5,{"$f":"VLOOKUP(F995,mapping!$L$2:$P$92,2,0)","v":0.34064763831408895},{"$f":"VLOOKUP($F995,mapping!$L$2:$P$92,3,0)","v":1388.78},{"$f":"VLOOKUP($F995,mapping!$L$2:$P$92,4,0)","v":"Developing Asia"},{"$f":"$D995*VLOOKUP($E995,'Charts data'!$A$2:$B$11,2,0)*VLOOKUP($G995,'Charts data'!$A$14:$B$18,2,0)/IF('Charts data'!$E$3=1,I995,1)/IF('Charts data'!$E$4=1,J995,1)","v":10000}]
["ID1145",40000,"USD",{"$f":"B996*VLOOKUP(C996,tblXrate[],2,0)","v":40000},"Engineer","India","2 to 3",2,{"$f":"VLOOKUP(F996,mapping!$L$2:$P$92,2,0)","v":0.34064763831408895},{"$f":"VLOOKUP($F996,mapping!$L$2:$P$92,3,0)","v":1388.78},{"$f":"VLOOKUP($F996,mapping!$L$2:$P$92,4,0)","v":"Developing Asia"},{"$f":"$D996*VLOOKUP($E996,'Charts data'!$A$2:$B$11,2,0)*VLOOKUP($G996,'Charts data'!$A$14:$B$18,2,0)/IF('Charts data'!$E$3=1,I996,1)/IF('Charts data'!$E$4=1,J996,1)","v":40000}]
["ID1160",6000,"USD",{"$f":"B997*VLOOKUP(C997,tblXrate[],2,0)","v":6000},"Manager","India","4 to 6",6,{"$f":"VLOOKUP(F997,mapping!$L$2:$P$92,2,0)","v":0.34064763831408895},{"$f":"VLOOKUP($F997,mapping!$L$2:$P$92,3,0)","v":1388.78},{"$f":"VLOOKUP($F997,mapping!$L$2:$P$92,4,0)","v":"Developing Asia"},{"$f":"$D997*VLOOKUP($E997,'Charts data'!$A$2:$B$11,2,0)*VLOOKUP($G997,'Charts data'!$A$14:$B$18,2,0)/IF('Charts data'!$E$3=1,I997,1)/IF('Charts data'!$E$4=1,J997,1)","v":6000}]
["ID1163",8600,"USD",{"$f":"B998*VLOOKUP(C998,tblXrate[],2,0)","v":8600},"Analyst","India","4 to 6",2,{"$f":"VLOOKUP(F998,mapping!$L$2:$P$92,2,0)","v":0.34064763831408895},{"$f":"VLOOKUP($F998,mapping!$L$2:$P$92,3,0)","v":1388.78},{"$f":"VLOOKUP($F998,mapping!$L$2:$P$92,4,0)","v":"Developing Asia"},{"$f":"$D998*VLOOKUP($E998,'Charts data'!$A$2:$B$11,2,0)*VLOOKUP($G998,'Charts data'!$A$14:$B$18,2,0)/IF('Charts data'!$E$3=1,I998,1)/IF('Charts data'!$E$4=1,J998,1)","v":8600}]
["ID1193",7200,"USD",{"$f":"B999*VLOOKUP(C999,tblXrate[],2,0)","v":7200},"Reporting","India","4 to 6",7,{"$f":"VLOOKUP(F999,mapping!$L$2:$P$92,2,0)","v":0.34064763831408895},{"$f":"VLOOKUP($F999,mapping!$L$2:$P$92,3,0)","v":1388.78},{"$f":"VLOOKUP($F999,mapping!$L$2:$P$92,4,0)","v":"Developing Asia"},{"$f":"$D999*VLOOKUP($E999,'Charts data'!$A$2:$B$11,2,0)*VLOOKUP($G999,'Charts data'!$A$14:$B$18,2,0)/IF('Charts data'!$E$3=1,I999,1)/IF('Charts data'!$E$4=1,J999,1)","v":7200}]
["ID1212",4800,"USD",{"$f":"B1000*VLOOKUP(C1000,tblXrate[],2,0)","v":4800},"Analyst","India","4 to 6",5,{"$f":"VLOOKUP(F1000,mapping!$L$2:$P$92,2,0)","v":0.34064763831408895},{"$f":"VLOOKUP($F1000,mapping!$L$2:$P$92,3,0)","v":1388.78},{"$f":"VLOOKUP($F1000,mapping!$L$2:$P$92,4,0)","v":"Developing Asia"},{"$f":"$D1000*VLOOKUP($E1000,'Charts data'!$A$2:$B$11,2,0)*VLOOKUP($G1000,'Charts data'!$A$14:$B$18,2,0)/IF('Charts data'!$E$3=1,I1000,1)/IF('Charts data'!$E$4=1,J1000,1)","v":4800}]
["ID1229",9000,"USD",{"$f":"B1001*VLOOKUP(C1001,tblXrate[],2,0)","v":9000},"Manager","India","4 to 6",1,{"$f":"VLOOKUP(F1001,mapping!$L$2:$P$92,2,0)","v":0.34064763831408895},{"$f":"VLOOKUP($F1001,mapping!$L$2:$P$92,3,0)","v":1388.78},{"$f":"VLOOKUP($F1001,mapping!$L$2:$P$92,4,0)","v":"Developing Asia"},{"$f":"$D1001*VLOOKUP($E1001,'Charts data'!$A$2:$B$11,2,0)*VLOOKUP($G1001,'Charts data'!$A$14:$B$18,2,0)/IF('Charts data'!$E$3=1,I1001,1)/IF('Charts data'!$E$4=1,J1001,1)","v":9000}]
["ID1273",30000,"USD",{"$f":"B1002*VLOOKUP(C1002,tblXrate[],2,0)","v":30000},"Manager","India","2 to 3",3,{"$f":"VLOOKUP(F1002,mapping!$L$2:$P$92,2,0)","v":0.34064763831408895},{"$f":"VLOOKUP($F1002,mapping!$L$2:$P$92,3,0)","v":1388.78},{"$f":"VLOOKUP($F1002,mapping!$L$2:$P$92,4,0)","v":"Developing Asia"},{"$f":"$D1002*VLOOKUP($E1002,'Charts data'!$A$2:$B$11,2,0)*VLOOKUP($G1002,'Charts data'!$A$14:$B$18,2,0)/IF('Charts data'!$E$3=1,I1002,1)/IF('Charts data'!$E$4=1,J1002,1)","v":30000}]
["ID1280",11800,"USD",{"$f":"B1003*VLOOKUP(C1003,tblXrate[],2,0)","v":11800},"Analyst","India","4 to 6",10,{"$f":"VLOOKUP(F1003,mapping!$L$2:$P$92,2,0)","v":0.34064763831408895},{"$f":"VLOOKUP($F1003,mapping!$L$2:$P$92,3,0)","v":1388.78},{"$f":"VLOOKUP($F1003,mapping!$L$2:$P$92,4,0)","v":"Developing Asia"},{"$f":"$D1003*VLOOKUP($E1003,'Charts data'!$A$2:$B$11,2,0)*VLOOKUP($G1003,'Charts data'!$A$14:$B$18,2,0)/IF('Charts data'!$E$3=1,I1003,1)/IF('Charts data'!$E$4=1,J1003,1)","v":11800}]
["ID1288",18000,"USD",{"$f":"B1004*VLOOKUP(C1004,tblXrate[],2,0)","v":18000},"Manager","India","4 to 6",12,{"$f":"VLOOKUP(F1004,mapping!$L$2:$P$92,2,0)","v":0.34064763831408895},{"$f":"VLOOKUP($F1004,mapping!$L$2:$P$92,3,0)","v":1388.78},{"$f":"VLOOKUP($F1004,mapping!$L$2:$P$92,4,0)","v":"Developing Asia"},{"$f":"$D1004*VLOOKUP($E1004,'Charts data'!$A$2:$B$11,2,0)*VLOOKUP($G1004,'Charts data'!$A$14:$B$18,2,0)/IF('Charts data'!$E$3=1,I1004,1)/IF('Charts data'!$E$4=1,J1004,1)","v":18000}]
["ID1292",14000,"USD",{"$f":"B1005*VLOOKUP(C1005,tblXrate[],2,0)","v":14000},"Analyst","India","4 to 6",12,{"$f":"VLOOKUP(F1005,mapping!$L$2:$P$92,2,0)","v":0.34064763831408895},{"$f":"VLOOKUP($F1005,mapping!$L$2:$P$92,3,0)","v":1388.78},{"$f":"VLOOKUP($F1005,mapping!$L$2:$P$92,4,0)","v":"Developing Asia"},{"$f":"$D1005*VLOOKUP($E1005,'Charts data'!$A$2:$B$11,2,0)*VLOOKUP($G1005,'Charts data'!$A$14:$B$18,2,0)/IF('Charts data'!$E$3=1,I1005,1)/IF('Charts data'!$E$4=1,J1005,1)","v":14000}]
["ID1294",8000,"USD",{"$f":"B1006*VLOOKUP(C1006,tblXrate[],2,0)","v":8000},"Analyst","India","8 Hrs",4,{"$f":"VLOOKUP(F1006,mapping!$L$2:$P$92,2,0)","v":0.34064763831408895},{"$f":"VLOOKUP($F1006,mapping!$L$2:$P$92,3,0)","v":1388.78},{"$f":"VLOOKUP($F1006,mapping!$L$2:$P$92,4,0)","v":"Developing Asia"},{"$f":"$D1006*VLOOKUP($E1006,'Charts data'!$A$2:$B$11,2,0)*VLOOKUP($G1006,'Charts data'!$A$14:$B$18,2,0)/IF('Charts data'!$E$3=1,I1006,1)/IF('Charts data'!$E$4=1,J1006,1)","v":8000}]
["ID1316",13500,"USD",{"$f":"B1007*VLOOKUP(C1007,tblXrate[],2,0)","v":13500},"Manager","India","2 to 3",20,{"$f":"VLOOKUP(F1007,mapping!$L$2:$P$92,2,0)","v":0.34064763831408895},{"$f":"VLOOKUP($F1007,mapping!$L$2:$P$92,3,0)","v":1388.78},{"$f":"VLOOKUP($F1007,mapping!$L$2:$P$92,4,0)","v":"Developing Asia"},{"$f":"$D1007*VLOOKUP($E1007,'Charts data'!$A$2:$B$11,2,0)*VLOOKUP($G1007,'Charts data'!$A$14:$B$18,2,0)/IF('Charts data'!$E$3=1,I1007,1)/IF('Charts data'!$E$4=1,J1007,1)","v":13500}]
["ID1326",10000,"USD",{"$f":"B1008*VLOOKUP(C1008,tblXrate[],2,0)","v":10000},"Reporting","India","1 or 2",0.5,{"$f":"VLOOKUP(F1008,mapping!$L$2:$P$92,2,0)","v":0.34064763831408895},{"$f":"VLOOKUP($F1008,mapping!$L$2:$P$92,3,0)","v":1388.78},{"$f":"VLOOKUP($F1008,mapping!$L$2:$P$92,4,0)","v":"Developing Asia"},{"$f":"$D1008*VLOOKUP($E1008,'Charts data'!$A$2:$B$11,2,0)*VLOOKUP($G1008,'Charts data'!$A$14:$B$18,2,0)/IF('Charts data'!$E$3=1,I1008,1)/IF('Charts data'!$E$4=1,J1008,1)","v":10000}]
["ID1327",9000,"USD",{"$f":"B1009*VLOOKUP(C1009,tblXrate[],2,0)","v":9000},"Analyst","India","8 Hrs",0.6,{"$f":"VLOOKUP(F1009,mapping!$L$2:$P$92,2,0)","v":0.34064763831408895},{"$f":"VLOOKUP($F1009,mapping!$L$2:$P$92,3,0)","v":1388.78},{"$f":"VLOOKUP($F1009,mapping!$L$2:$P$92,4,0)","v":"Developing Asia"},{"$f":"$D1009*VLOOKUP($E1009,'Charts data'!$A$2:$B$11,2,0)*VLOOKUP($G1009,'Charts data'!$A$14:$B$18,2,0)/IF('Charts data'!$E$3=1,I1009,1)/IF('Charts data'!$E$4=1,J1009,1)","v":9000}]
["ID1328",9000,"USD",{"$f":"B1010*VLOOKUP(C1010,tblXrate[],2,0)","v":9000},"Analyst","India","4 to 6",1,{"$f":"VLOOKUP(F1010,mapping!$L$2:$P$92,2,0)","v":0.34064763831408895},{"$f":"VLOOKUP($F1010,mapping!$L$2:$P$92,3,0)","v":1388.78},{"$f":"VLOOKUP($F1010,mapping!$L$2:$P$92,4,0)","v":"Developing Asia"},{"$f":"$D1010*VLOOKUP($E1010,'Charts data'!$A$2:$B$11,2,0)*VLOOKUP($G1010,'Charts data'!$A$14:$B$18,2,0)/IF('Charts data'!$E$3=1,I1010,1)/IF('Charts data'!$E$4=1,J1010,1)","v":9000}]
["ID1347",6600,"USD",{"$f":"B1011*VLOOKUP(C1011,tblXrate[],2,0)","v":6600},"Reporting","India","2 to 3",6.4,{"$f":"VLOOKUP(F1011,mapping!$L$2:$P$92,2,0)","v":0.34064763831408895},{"$f":"VLOOKUP($F1011,mapping!$L$2:$P$92,3,0)","v":1388.78},{"$f":"VLOOKUP($F1011,mapping!$L$2:$P$92,4,0)","v":"Developing Asia"},{"$f":"$D1011*VLOOKUP($E1011,'Charts data'!$A$2:$B$11,2,0)*VLOOKUP($G1011,'Charts data'!$A$14:$B$18,2,0)/IF('Charts data'!$E$3=1,I1011,1)/IF('Charts data'!$E$4=1,J1011,1)","v":6600}]
["ID1399",20000,"USD",{"$f":"B1012*VLOOKUP(C1012,tblXrate[],2,0)","v":20000},"Specialist","India","4 to 6",6,{"$f":"VLOOKUP(F1012,mapping!$L$2:$P$92,2,0)","v":0.34064763831408895},{"$f":"VLOOKUP($F1012,mapping!$L$2:$P$92,3,0)","v":1388.78},{"$f":"VLOOKUP($F1012,mapping!$L$2:$P$92,4,0)","v":"Developing Asia"},{"$f":"$D1012*VLOOKUP($E1012,'Charts data'!$A$2:$B$11,2,0)*VLOOKUP($G1012,'Charts data'!$A$14:$B$18,2,0)/IF('Charts data'!$E$3=1,I1012,1)/IF('Charts data'!$E$4=1,J1012,1)","v":20000}]
["ID1433",14000,"USD",{"$f":"B1013*VLOOKUP(C1013,tblXrate[],2,0)","v":14000},"Consultant","India","4 to 6",3,{"$f":"VLOOKUP(F1013,mapping!$L$2:$P$92,2,0)","v":0.34064763831408895},{"$f":"VLOOKUP($F1013,mapping!$L$2:$P$92,3,0)","v":1388.78},{"$f":"VLOOKUP($F1013,mapping!$L$2:$P$92,4,0)","v":"Developing Asia"},{"$f":"$D1013*VLOOKUP($E1013,'Charts data'!$A$2:$B$11,2,0)*VLOOKUP($G1013,'Charts data'!$A$14:$B$18,2,0)/IF('Charts data'!$E$3=1,I1013,1)/IF('Charts data'!$E$4=1,J1013,1)","v":14000}]
["ID1437",25000,"USD",{"$f":"B1014*VLOOKUP(C1014,tblXrate[],2,0)","v":25000},"Accountant","India","2 to 3",8,{"$f":"VLOOKUP(F1014,mapping!$L$2:$P$92,2,0)","v":0.34064763831408895},{"$f":"VLOOKUP($F1014,mapping!$L$2:$P$92,3,0)","v":1388.78},{"$f":"VLOOKUP($F1014,mapping!$L$2:$P$92,4,0)","v":"Developing Asia"},{"$f":"$D1014*VLOOKUP($E1014,'Charts data'!$A$2:$B$11,2,0)*VLOOKUP($G1014,'Charts data'!$A$14:$B$18,2,0)/IF('Charts data'!$E$3=1,I1014,1)/IF('Charts data'!$E$4=1,J1014,1)","v":25000}]
["ID1447",4356,"USD",{"$f":"B1015*VLOOKUP(C1015,tblXrate[],2,0)","v":4356},"Analyst","India","4 to 6",5,{"$f":"VLOOKUP(F1015,mapping!$L$2:$P$92,2,0)","v":0.34064763831408895},{"$f":"VLOOKUP($F1015,mapping!$L$2:$P$92,3,0)","v":1388.78},{"$f":"VLOOKUP($F1015,mapping!$L$2:$P$92,4,0)","v":"Developing Asia"},{"$f":"$D1015*VLOOKUP($E1015,'Charts data'!$A$2:$B$11,2,0)*VLOOKUP($G1015,'Charts data'!$A$14:$B$18,2,0)/IF('Charts data'!$E$3=1,I1015,1)/IF('Charts data'!$E$4=1,J1015,1)","v":4356}]
["ID1455",20000,"USD",{"$f":"B1016*VLOOKUP(C1016,tblXrate[],2,0)","v":20000},"Manager","India","0 Hrs",10,{"$f":"VLOOKUP(F1016,mapping!$L$2:$P$92,2,0)","v":0.34064763831408895},{"$f":"VLOOKUP($F1016,mapping!$L$2:$P$92,3,0)","v":1388.78},{"$f":"VLOOKUP($F1016,mapping!$L$2:$P$92,4,0)","v":"Developing Asia"},{"$f":"$D1016*VLOOKUP($E1016,'Charts data'!$A$2:$B$11,2,0)*VLOOKUP($G1016,'Charts data'!$A$14:$B$18,2,0)/IF('Charts data'!$E$3=1,I1016,1)/IF('Charts data'!$E$4=1,J1016,1)","v":20000}]
["ID1479",4000,"USD",{"$f":"B1017*VLOOKUP(C1017,tblXrate[],2,0)","v":4000},"Analyst","India","8 Hrs",6,{"$f":"VLOOKUP(F1017,mapping!$L$2:$P$92,2,0)","v":0.34064763831408895},{"$f":"VLOOKUP($F1017,mapping!$L$2:$P$92,3,0)","v":1388.78},{"$f":"VLOOKUP($F1017,mapping!$L$2:$P$92,4,0)","v":"Developing Asia"},{"$f":"$D1017*VLOOKUP($E1017,'Charts data'!$A$2:$B$11,2,0)*VLOOKUP($G1017,'Charts data'!$A$14:$B$18,2,0)/IF('Charts data'!$E$3=1,I1017,1)/IF('Charts data'!$E$4=1,J1017,1)","v":4000}]
["ID1481",3200,"USD",{"$f":"B1018*VLOOKUP(C1018,tblXrate[],2,0)","v":3200},"Manager","India","8 Hrs",19,{"$f":"VLOOKUP(F1018,mapping!$L$2:$P$92,2,0)","v":0.34064763831408895},{"$f":"VLOOKUP($F1018,mapping!$L$2:$P$92,3,0)","v":1388.78},{"$f":"VLOOKUP($F1018,mapping!$L$2:$P$92,4,0)","v":"Developing Asia"},{"$f":"$D1018*VLOOKUP($E1018,'Charts data'!$A$2:$B$11,2,0)*VLOOKUP($G1018,'Charts data'!$A$14:$B$18,2,0)/IF('Charts data'!$E$3=1,I1018,1)/IF('Charts data'!$E$4=1,J1018,1)","v":3200}]
["ID1487",25000,"USD",{"$f":"B1019*VLOOKUP(C1019,tblXrate[],2,0)","v":25000},"Analyst","India","8 Hrs",4,{"$f":"VLOOKUP(F1019,mapping!$L$2:$P$92,2,0)","v":0.34064763831408895},{"$f":"VLOOKUP($F1019,mapping!$L$2:$P$92,3,0)","v":1388.78},{"$f":"VLOOKUP($F1019,mapping!$L$2:$P$92,4,0)","v":"Developing Asia"},{"$f":"$D1019*VLOOKUP($E1019,'Charts data'!$A$2:$B$11,2,0)*VLOOKUP($G1019,'Charts data'!$A$14:$B$18,2,0)/IF('Charts data'!$E$3=1,I1019,1)/IF('Charts data'!$E$4=1,J1019,1)","v":25000}]
["ID1497",5000,"USD",{"$f":"B1020*VLOOKUP(C1020,tblXrate[],2,0)","v":5000},"Manager","India","8 Hrs",4,{"$f":"VLOOKUP(F1020,mapping!$L$2:$P$92,2,0)","v":0.34064763831408895},{"$f":"VLOOKUP($F1020,mapping!$L$2:$P$92,3,0)","v":1388.78},{"$f":"VLOOKUP($F1020,mapping!$L$2:$P$92,4,0)","v":"Developing Asia"},{"$f":"$D1020*VLOOKUP($E1020,'Charts data'!$A$2:$B$11,2,0)*VLOOKUP($G1020,'Charts data'!$A$14:$B$18,2,0)/IF('Charts data'!$E$3=1,I1020,1)/IF('Charts data'!$E$4=1,J1020,1)","v":5000}]
["ID1506",18000,"USD",{"$f":"B1021*VLOOKUP(C1021,tblXrate[],2,0)","v":18000},"Analyst","India","8 Hrs",6,{"$f":"VLOOKUP(F1021,mapping!$L$2:$P$92,2,0)","v":0.34064763831408895},{"$f":"VLOOKUP($F1021,mapping!$L$2:$P$92,3,0)","v":1388.78},{"$f":"VLOOKUP($F1021,mapping!$L$2:$P$92,4,0)","v":"Developing Asia"},{"$f":"$D1021*VLOOKUP($E1021,'Charts data'!$A$2:$B$11,2,0)*VLOOKUP($G1021,'Charts data'!$A$14:$B$18,2,0)/IF('Charts data'!$E$3=1,I1021,1)/IF('Charts data'!$E$4=1,J1021,1)","v":18000}]
["ID1539",8000,"USD",{"$f":"B1022*VLOOKUP(C1022,tblXrate[],2,0)","v":8000},"CXO or Top Mgmt.","India","4 to 6",18,{"$f":"VLOOKUP(F1022,mapping!$L$2:$P$92,2,0)","v":0.34064763831408895},{"$f":"VLOOKUP($F1022,mapping!$L$2:$P$92,3,0)","v":1388.78},{"$f":"VLOOKUP($F1022,mapping!$L$2:$P$92,4,0)","v":"Developing Asia"},{"$f":"$D1022*VLOOKUP($E1022,'Charts data'!$A$2:$B$11,2,0)*VLOOKUP($G1022,'Charts data'!$A$14:$B$18,2,0)/IF('Charts data'!$E$3=1,I1022,1)/IF('Charts data'!$E$4=1,J1022,1)","v":8000}]
["ID1546",34000,"USD",{"$f":"B1023*VLOOKUP(C1023,tblXrate[],2,0)","v":34000},"Analyst","India","8 Hrs",4,{"$f":"VLOOKUP(F1023,mapping!$L$2:$P$92,2,0)","v":0.34064763831408895},{"$f":"VLOOKUP($F1023,mapping!$L$2:$P$92,3,0)","v":1388.78},{"$f":"VLOOKUP($F1023,mapping!$L$2:$P$92,4,0)","v":"Developing Asia"},{"$f":"$D1023*VLOOKUP($E1023,'Charts data'!$A$2:$B$11,2,0)*VLOOKUP($G1023,'Charts data'!$A$14:$B$18,2,0)/IF('Charts data'!$E$3=1,I1023,1)/IF('Charts data'!$E$4=1,J1023,1)","v":34000}]
["ID1567",30000,"USD",{"$f":"B1024*VLOOKUP(C1024,tblXrate[],2,0)","v":30000},"Analyst","India","8 Hrs",4,{"$f":"VLOOKUP(F1024,mapping!$L$2:$P$92,2,0)","v":0.34064763831408895},{"$f":"VLOOKUP($F1024,mapping!$L$2:$P$92,3,0)","v":1388.78},{"$f":"VLOOKUP($F1024,mapping!$L$2:$P$92,4,0)","v":"Developing Asia"},{"$f":"$D1024*VLOOKUP($E1024,'Charts data'!$A$2:$B$11,2,0)*VLOOKUP($G1024,'Charts data'!$A$14:$B$18,2,0)/IF('Charts data'!$E$3=1,I1024,1)/IF('Charts data'!$E$4=1,J1024,1)","v":30000}]
["ID1601",6000,"USD",{"$f":"B1025*VLOOKUP(C1025,tblXrate[],2,0)","v":6000},"Analyst","India","4 to 6",2,{"$f":"VLOOKUP(F1025,mapping!$L$2:$P$92,2,0)","v":0.34064763831408895},{"$f":"VLOOKUP($F1025,mapping!$L$2:$P$92,3,0)","v":1388.78},{"$f":"VLOOKUP($F1025,mapping!$L$2:$P$92,4,0)","v":"Developing Asia"},{"$f":"$D1025*VLOOKUP($E1025,'Charts data'!$A$2:$B$11,2,0)*VLOOKUP($G1025,'Charts data'!$A$14:$B$18,2,0)/IF('Charts data'!$E$3=1,I1025,1)/IF('Charts data'!$E$4=1,J1025,1)","v":6000}]
["ID1602",10000,"USD",{"$f":"B1026*VLOOKUP(C1026,tblXrate[],2,0)","v":10000},"Reporting","India","8 Hrs",6,{"$f":"VLOOKUP(F1026,mapping!$L$2:$P$92,2,0)","v":0.34064763831408895},{"$f":"VLOOKUP($F1026,mapping!$L$2:$P$92,3,0)","v":1388.78},{"$f":"VLOOKUP($F1026,mapping!$L$2:$P$92,4,0)","v":"Developing Asia"},{"$f":"$D1026*VLOOKUP($E1026,'Charts data'!$A$2:$B$11,2,0)*VLOOKUP($G1026,'Charts data'!$A$14:$B$18,2,0)/IF('Charts data'!$E$3=1,I1026,1)/IF('Charts data'!$E$4=1,J1026,1)","v":10000}]
["ID1604",10000,"USD",{"$f":"B1027*VLOOKUP(C1027,tblXrate[],2,0)","v":10000},"Manager","India","8 Hrs",12,{"$f":"VLOOKUP(F1027,mapping!$L$2:$P$92,2,0)","v":0.34064763831408895},{"$f":"VLOOKUP($F1027,mapping!$L$2:$P$92,3,0)","v":1388.78},{"$f":"VLOOKUP($F1027,mapping!$L$2:$P$92,4,0)","v":"Developing Asia"},{"$f":"$D1027*VLOOKUP($E1027,'Charts data'!$A$2:$B$11,2,0)*VLOOKUP($G1027,'Charts data'!$A$14:$B$18,2,0)/IF('Charts data'!$E$3=1,I1027,1)/IF('Charts data'!$E$4=1,J1027,1)","v":10000}]
["ID1606",20000,"USD",{"$f":"B1028*VLOOKUP(C1028,tblXrate[],2,0)","v":20000},"Manager","India","4 to 6",1,{"$f":"VLOOKUP(F1028,mapping!$L$2:$P$92,2,0)","v":0.34064763831408895},{"$f":"VLOOKUP($F1028,mapping!$L$2:$P$92,3,0)","v":1388.78},{"$f":"VLOOKUP($F1028,mapping!$L$2:$P$92,4,0)","v":"Developing Asia"},{"$f":"$D1028*VLOOKUP($E1028,'Charts data'!$A$2:$B$11,2,0)*VLOOKUP($G1028,'Charts data'!$A$14:$B$18,2,0)/IF('Charts data'!$E$3=1,I1028,1)/IF('Charts data'!$E$4=1,J1028,1)","v":20000}]
["ID1623",15000,"USD",{"$f":"B1029*VLOOKUP(C1029,tblXrate[],2,0)","v":15000},"Analyst","India","4 to 6",5,{"$f":"VLOOKUP(F1029,mapping!$L$2:$P$92,2,0)","v":0.34064763831408895},{"$f":"VLOOKUP($F1029,mapping!$L$2:$P$92,3,0)","v":1388.78},{"$f":"VLOOKUP($F1029,mapping!$L$2:$P$92,4,0)","v":"Developing Asia"},{"$f":"$D1029*VLOOKUP($E1029,'Charts data'!$A$2:$B$11,2,0)*VLOOKUP($G1029,'Charts data'!$A$14:$B$18,2,0)/IF('Charts data'!$E$3=1,I1029,1)/IF('Charts data'!$E$4=1,J1029,1)","v":15000}]
["ID1624",50000,"USD",{"$f":"B1030*VLOOKUP(C1030,tblXrate[],2,0)","v":50000},"CXO or Top Mgmt.","India","1 or 2",8,{"$f":"VLOOKUP(F1030,mapping!$L$2:$P$92,2,0)","v":0.34064763831408895},{"$f":"VLOOKUP($F1030,mapping!$L$2:$P$92,3,0)","v":1388.78},{"$f":"VLOOKUP($F1030,mapping!$L$2:$P$92,4,0)","v":"Developing Asia"},{"$f":"$D1030*VLOOKUP($E1030,'Charts data'!$A$2:$B$11,2,0)*VLOOKUP($G1030,'Charts data'!$A$14:$B$18,2,0)/IF('Charts data'!$E$3=1,I1030,1)/IF('Charts data'!$E$4=1,J1030,1)","v":50000}]
["ID1625",7000,"USD",{"$f":"B1031*VLOOKUP(C1031,tblXrate[],2,0)","v":7000},"Reporting","India","4 to 6",1,{"$f":"VLOOKUP(F1031,mapping!$L$2:$P$92,2,0)","v":0.34064763831408895},{"$f":"VLOOKUP($F1031,mapping!$L$2:$P$92,3,0)","v":1388.78},{"$f":"VLOOKUP($F1031,mapping!$L$2:$P$92,4,0)","v":"Developing Asia"},{"$f":"$D1031*VLOOKUP($E1031,'Charts data'!$A$2:$B$11,2,0)*VLOOKUP($G1031,'Charts data'!$A$14:$B$18,2,0)/IF('Charts data'!$E$3=1,I1031,1)/IF('Charts data'!$E$4=1,J1031,1)","v":7000}]
["ID1640",6545,"USD",{"$f":"B1032*VLOOKUP(C1032,tblXrate[],2,0)","v":6545},"Manager","India","8 Hrs",9,{"$f":"VLOOKUP(F1032,mapping!$L$2:$P$92,2,0)","v":0.34064763831408895},{"$f":"VLOOKUP($F1032,mapping!$L$2:$P$92,3,0)","v":1388.78},{"$f":"VLOOKUP($F1032,mapping!$L$2:$P$92,4,0)","v":"Developing Asia"},{"$f":"$D1032*VLOOKUP($E1032,'Charts data'!$A$2:$B$11,2,0)*VLOOKUP($G1032,'Charts data'!$A$14:$B$18,2,0)/IF('Charts data'!$E$3=1,I1032,1)/IF('Charts data'!$E$4=1,J1032,1)","v":6545}]
["ID1648",12000,"USD",{"$f":"B1033*VLOOKUP(C1033,tblXrate[],2,0)","v":12000},"Reporting","India","8 Hrs",3,{"$f":"VLOOKUP(F1033,mapping!$L$2:$P$92,2,0)","v":0.34064763831408895},{"$f":"VLOOKUP($F1033,mapping!$L$2:$P$92,3,0)","v":1388.78},{"$f":"VLOOKUP($F1033,mapping!$L$2:$P$92,4,0)","v":"Developing Asia"},{"$f":"$D1033*VLOOKUP($E1033,'Charts data'!$A$2:$B$11,2,0)*VLOOKUP($G1033,'Charts data'!$A$14:$B$18,2,0)/IF('Charts data'!$E$3=1,I1033,1)/IF('Charts data'!$E$4=1,J1033,1)","v":12000}]
["ID1652",3360,"USD",{"$f":"B1034*VLOOKUP(C1034,tblXrate[],2,0)","v":3360},"Analyst","India","1 or 2",3,{"$f":"VLOOKUP(F1034,mapping!$L$2:$P$92,2,0)","v":0.34064763831408895},{"$f":"VLOOKUP($F1034,mapping!$L$2:$P$92,3,0)","v":1388.78},{"$f":"VLOOKUP($F1034,mapping!$L$2:$P$92,4,0)","v":"Developing Asia"},{"$f":"$D1034*VLOOKUP($E1034,'Charts data'!$A$2:$B$11,2,0)*VLOOKUP($G1034,'Charts data'!$A$14:$B$18,2,0)/IF('Charts data'!$E$3=1,I1034,1)/IF('Charts data'!$E$4=1,J1034,1)","v":3360}]
["ID1653",10000,"USD",{"$f":"B1035*VLOOKUP(C1035,tblXrate[],2,0)","v":10000},"CXO or Top Mgmt.","India","8 Hrs",1,{"$f":"VLOOKUP(F1035,mapping!$L$2:$P$92,2,0)","v":0.34064763831408895},{"$f":"VLOOKUP($F1035,mapping!$L$2:$P$92,3,0)","v":1388.78},{"$f":"VLOOKUP($F1035,mapping!$L$2:$P$92,4,0)","v":"Developing Asia"},{"$f":"$D1035*VLOOKUP($E1035,'Charts data'!$A$2:$B$11,2,0)*VLOOKUP($G1035,'Charts data'!$A$14:$B$18,2,0)/IF('Charts data'!$E$3=1,I1035,1)/IF('Charts data'!$E$4=1,J1035,1)","v":10000}]
["ID1657",10000,"USD",{"$f":"B1036*VLOOKUP(C1036,tblXrate[],2,0)","v":10000},"Reporting","India","8 Hrs",2,{"$f":"VLOOKUP(F1036,mapping!$L$2:$P$92,2,0)","v":0.34064763831408895},{"$f":"VLOOKUP($F1036,mapping!$L$2:$P$92,3,0)","v":1388.78},{"$f":"VLOOKUP($F1036,mapping!$L$2:$P$92,4,0)","v":"Developing Asia"},{"$f":"$D1036*VLOOKUP($E1036,'Charts data'!$A$2:$B$11,2,0)*VLOOKUP($G1036,'Charts data'!$A$14:$B$18,2,0)/IF('Charts data'!$E$3=1,I1036,1)/IF('Charts data'!$E$4=1,J1036,1)","v":10000}]
["ID1720",14400,"USD",{"$f":"B1037*VLOOKUP(C1037,tblXrate[],2,0)","v":14400},"Engineer","India","1 or 2",8,{"$f":"VLOOKUP(F1037,mapping!$L$2:$P$92,2,0)","v":0.34064763831408895},{"$f":"VLOOKUP($F1037,mapping!$L$2:$P$92,3,0)","v":1388.78},{"$f":"VLOOKUP($F1037,mapping!$L$2:$P$92,4,0)","v":"Developing Asia"},{"$f":"$D1037*VLOOKUP($E1037,'Charts data'!$A$2:$B$11,2,0)*VLOOKUP($G1037,'Charts data'!$A$14:$B$18,2,0)/IF('Charts data'!$E$3=1,I1037,1)/IF('Charts data'!$E$4=1,J1037,1)","v":14400}]
["ID1722",22000,"USD",{"$f":"B1038*VLOOKUP(C1038,tblXrate[],2,0)","v":22000},"Manager","India","8 Hrs",6,{"$f":"VLOOKUP(F1038,mapping!$L$2:$P$92,2,0)","v":0.34064763831408895},{"$f":"VLOOKUP($F1038,mapping!$L$2:$P$92,3,0)","v":1388.78},{"$f":"VLOOKUP($F1038,mapping!$L$2:$P$92,4,0)","v":"Developing Asia"},{"$f":"$D1038*VLOOKUP($E1038,'Charts data'!$A$2:$B$11,2,0)*VLOOKUP($G1038,'Charts data'!$A$14:$B$18,2,0)/IF('Charts data'!$E$3=1,I1038,1)/IF('Charts data'!$E$4=1,J1038,1)","v":22000}]
["ID1726",25000,"USD",{"$f":"B1039*VLOOKUP(C1039,tblXrate[],2,0)","v":25000},"Analyst","India","8 Hrs",8,{"$f":"VLOOKUP(F1039,mapping!$L$2:$P$92,2,0)","v":0.34064763831408895},{"$f":"VLOOKUP($F1039,mapping!$L$2:$P$92,3,0)","v":1388.78},{"$f":"VLOOKUP($F1039,mapping!$L$2:$P$92,4,0)","v":"Developing Asia"},{"$f":"$D1039*VLOOKUP($E1039,'Charts data'!$A$2:$B$11,2,0)*VLOOKUP($G1039,'Charts data'!$A$14:$B$18,2,0)/IF('Charts data'!$E$3=1,I1039,1)/IF('Charts data'!$E$4=1,J1039,1)","v":25000}]
["ID1735",10000,"USD",{"$f":"B1040*VLOOKUP(C1040,tblXrate[],2,0)","v":10000},"Manager","India","4 to 6",11,{"$f":"VLOOKUP(F1040,mapping!$L$2:$P$92,2,0)","v":0.34064763831408895},{"$f":"VLOOKUP($F1040,mapping!$L$2:$P$92,3,0)","v":1388.78},{"$f":"VLOOKUP($F1040,mapping!$L$2:$P$92,4,0)","v":"Developing Asia"},{"$f":"$D1040*VLOOKUP($E1040,'Charts data'!$A$2:$B$11,2,0)*VLOOKUP($G1040,'Charts data'!$A$14:$B$18,2,0)/IF('Charts data'!$E$3=1,I1040,1)/IF('Charts data'!$E$4=1,J1040,1)","v":10000}]
["ID1758",28995,"USD",{"$f":"B1041*VLOOKUP(C1041,tblXrate[],2,0)","v":28995},"Manager","India","4 to 6",6,{"$f":"VLOOKUP(F1041,mapping!$L$2:$P$92,2,0)","v":0.34064763831408895},{"$f":"VLOOKUP($F1041,mapping!$L$2:$P$92,3,0)","v":1388.78},{"$f":"VLOOKUP($F1041,mapping!$L$2:$P$92,4,0)","v":"Developing Asia"},{"$f":"$D1041*VLOOKUP($E1041,'Charts data'!$A$2:$B$11,2,0)*VLOOKUP($G1041,'Charts data'!$A$14:$B$18,2,0)/IF('Charts data'!$E$3=1,I1041,1)/IF('Charts data'!$E$4=1,J1041,1)","v":28995}]
["ID1771",5320,"USD",{"$f":"B1042*VLOOKUP(C1042,tblXrate[],2,0)","v":5320},"Manager","India","2 to 3",5,{"$f":"VLOOKUP(F1042,mapping!$L$2:$P$92,2,0)","v":0.34064763831408895},{"$f":"VLOOKUP($F1042,mapping!$L$2:$P$92,3,0)","v":1388.78},{"$f":"VLOOKUP($F1042,mapping!$L$2:$P$92,4,0)","v":"Developing Asia"},{"$f":"$D1042*VLOOKUP($E1042,'Charts data'!$A$2:$B$11,2,0)*VLOOKUP($G1042,'Charts data'!$A$14:$B$18,2,0)/IF('Charts data'!$E$3=1,I1042,1)/IF('Charts data'!$E$4=1,J1042,1)","v":5320}]
["ID1780",12000,"USD",{"$f":"B1043*VLOOKUP(C1043,tblXrate[],2,0)","v":12000},"Engineer","India","2 to 3",7,{"$f":"VLOOKUP(F1043,mapping!$L$2:$P$92,2,0)","v":0.34064763831408895},{"$f":"VLOOKUP($F1043,mapping!$L$2:$P$92,3,0)","v":1388.78},{"$f":"VLOOKUP($F1043,mapping!$L$2:$P$92,4,0)","v":"Developing Asia"},{"$f":"$D1043*VLOOKUP($E1043,'Charts data'!$A$2:$B$11,2,0)*VLOOKUP($G1043,'Charts data'!$A$14:$B$18,2,0)/IF('Charts data'!$E$3=1,I1043,1)/IF('Charts data'!$E$4=1,J1043,1)","v":12000}]
["ID1791",2400,"USD",{"$f":"B1044*VLOOKUP(C1044,tblXrate[],2,0)","v":2400},"Analyst","India","2 to 3",3,{"$f":"VLOOKUP(F1044,mapping!$L$2:$P$92,2,0)","v":0.34064763831408895},{"$f":"VLOOKUP($F1044,mapping!$L$2:$P$92,3,0)","v":1388.78},{"$f":"VLOOKUP($F1044,mapping!$L$2:$P$92,4,0)","v":"Developing Asia"},{"$f":"$D1044*VLOOKUP($E1044,'Charts data'!$A$2:$B$11,2,0)*VLOOKUP($G1044,'Charts data'!$A$14:$B$18,2,0)/IF('Charts data'!$E$3=1,I1044,1)/IF('Charts data'!$E$4=1,J1044,1)","v":2400}]
["ID1793",11000,"USD",{"$f":"B1045*VLOOKUP(C1045,tblXrate[],2,0)","v":11000},"Analyst","India","4 to 6",2,{"$f":"VLOOKUP(F1045,mapping!$L$2:$P$92,2,0)","v":0.34064763831408895},{"$f":"VLOOKUP($F1045,mapping!$L$2:$P$92,3,0)","v":1388.78},{"$f":"VLOOKUP($F1045,mapping!$L$2:$P$92,4,0)","v":"Developing Asia"},{"$f":"$D1045*VLOOKUP($E1045,'Charts data'!$A$2:$B$11,2,0)*VLOOKUP($G1045,'Charts data'!$A$14:$B$18,2,0)/IF('Charts data'!$E$3=1,I1045,1)/IF('Charts data'!$E$4=1,J1045,1)","v":11000}]
["ID1795",3600,"USD",{"$f":"B1046*VLOOKUP(C1046,tblXrate[],2,0)","v":3600},"Analyst","India","4 to 6",1,{"$f":"VLOOKUP(F1046,mapping!$L$2:$P$92,2,0)","v":0.34064763831408895},{"$f":"VLOOKUP($F1046,mapping!$L$2:$P$92,3,0)","v":1388.78},{"$f":"VLOOKUP($F1046,mapping!$L$2:$P$92,4,0)","v":"Developing Asia"},{"$f":"$D1046*VLOOKUP($E1046,'Charts data'!$A$2:$B$11,2,0)*VLOOKUP($G1046,'Charts data'!$A$14:$B$18,2,0)/IF('Charts data'!$E$3=1,I1046,1)/IF('Charts data'!$E$4=1,J1046,1)","v":3600}]
["ID1812",14000,"USD",{"$f":"B1047*VLOOKUP(C1047,tblXrate[],2,0)","v":14000},"Manager","India","4 to 6",5,{"$f":"VLOOKUP(F1047,mapping!$L$2:$P$92,2,0)","v":0.34064763831408895},{"$f":"VLOOKUP($F1047,mapping!$L$2:$P$92,3,0)","v":1388.78},{"$f":"VLOOKUP($F1047,mapping!$L$2:$P$92,4,0)","v":"Developing Asia"},{"$f":"$D1047*VLOOKUP($E1047,'Charts data'!$A$2:$B$11,2,0)*VLOOKUP($G1047,'Charts data'!$A$14:$B$18,2,0)/IF('Charts data'!$E$3=1,I1047,1)/IF('Charts data'!$E$4=1,J1047,1)","v":14000}]
["ID1819",4800,"USD",{"$f":"B1048*VLOOKUP(C1048,tblXrate[],2,0)","v":4800},"Manager","India","8 Hrs",3,{"$f":"VLOOKUP(F1048,mapping!$L$2:$P$92,2,0)","v":0.34064763831408895},{"$f":"VLOOKUP($F1048,mapping!$L$2:$P$92,3,0)","v":1388.78},{"$f":"VLOOKUP($F1048,mapping!$L$2:$P$92,4,0)","v":"Developing Asia"},{"$f":"$D1048*VLOOKUP($E1048,'Charts data'!$A$2:$B$11,2,0)*VLOOKUP($G1048,'Charts data'!$A$14:$B$18,2,0)/IF('Charts data'!$E$3=1,I1048,1)/IF('Charts data'!$E$4=1,J1048,1)","v":4800}]
["ID1832",15000,"USD",{"$f":"B1049*VLOOKUP(C1049,tblXrate[],2,0)","v":15000},"Analyst","India","2 to 3",0.3,{"$f":"VLOOKUP(F1049,mapping!$L$2:$P$92,2,0)","v":0.34064763831408895},{"$f":"VLOOKUP($F1049,mapping!$L$2:$P$92,3,0)","v":1388.78},{"$f":"VLOOKUP($F1049,mapping!$L$2:$P$92,4,0)","v":"Developing Asia"},{"$f":"$D1049*VLOOKUP($E1049,'Charts data'!$A$2:$B$11,2,0)*VLOOKUP($G1049,'Charts data'!$A$14:$B$18,2,0)/IF('Charts data'!$E$3=1,I1049,1)/IF('Charts data'!$E$4=1,J1049,1)","v":15000}]
["ID1845",6720,"USD",{"$f":"B1050*VLOOKUP(C1050,tblXrate[],2,0)","v":6720},"Accountant","India","4 to 6",5,{"$f":"VLOOKUP(F1050,mapping!$L$2:$P$92,2,0)","v":0.34064763831408895},{"$f":"VLOOKUP($F1050,mapping!$L$2:$P$92,3,0)","v":1388.78},{"$f":"VLOOKUP($F1050,mapping!$L$2:$P$92,4,0)","v":"Developing Asia"},{"$f":"$D1050*VLOOKUP($E1050,'Charts data'!$A$2:$B$11,2,0)*VLOOKUP($G1050,'Charts data'!$A$14:$B$18,2,0)/IF('Charts data'!$E$3=1,I1050,1)/IF('Charts data'!$E$4=1,J1050,1)","v":6720}]
["ID1850",37500,"USD",{"$f":"B1051*VLOOKUP(C1051,tblXrate[],2,0)","v":37500},"Consultant","India","8 Hrs",0,{"$f":"VLOOKUP(F1051,mapping!$L$2:$P$92,2,0)","v":0.34064763831408895},{"$f":"VLOOKUP($F1051,mapping!$L$2:$P$92,3,0)","v":1388.78},{"$f":"VLOOKUP($F1051,mapping!$L$2:$P$92,4,0)","v":"Developing Asia"},{"$f":"$D1051*VLOOKUP($E1051,'Charts data'!$A$2:$B$11,2,0)*VLOOKUP($G1051,'Charts data'!$A$14:$B$18,2,0)/IF('Charts data'!$E$3=1,I1051,1)/IF('Charts data'!$E$4=1,J1051,1)","v":37500}]
["ID1866",11000,"USD",{"$f":"B1052*VLOOKUP(C1052,tblXrate[],2,0)","v":11000},"Manager","India","8 Hrs",8,{"$f":"VLOOKUP(F1052,mapping!$L$2:$P$92,2,0)","v":0.34064763831408895},{"$f":"VLOOKUP($F1052,mapping!$L$2:$P$92,3,0)","v":1388.78},{"$f":"VLOOKUP($F1052,mapping!$L$2:$P$92,4,0)","v":"Developing Asia"},{"$f":"$D1052*VLOOKUP($E1052,'Charts data'!$A$2:$B$11,2,0)*VLOOKUP($G1052,'Charts data'!$A$14:$B$18,2,0)/IF('Charts data'!$E$3=1,I1052,1)/IF('Charts data'!$E$4=1,J1052,1)","v":11000}]
["ID1878",40000,"USD",{"$f":"B1053*VLOOKUP(C1053,tblXrate[],2,0)","v":40000},"Manager","India","4 to 6",5,{"$f":"VLOOKUP(F1053,mapping!$L$2:$P$92,2,0)","v":0.34064763831408895},{"$f":"VLOOKUP($F1053,mapping!$L$2:$P$92,3,0)","v":1388.78},{"$f":"VLOOKUP($F1053,mapping!$L$2:$P$92,4,0)","v":"Developing Asia"},{"$f":"$D1053*VLOOKUP($E1053,'Charts data'!$A$2:$B$11,2,0)*VLOOKUP($G1053,'Charts data'!$A$14:$B$18,2,0)/IF('Charts data'!$E$3=1,I1053,1)/IF('Charts data'!$E$4=1,J1053,1)","v":40000}]
["ID1886",25000,"USD",{"$f":"B1054*VLOOKUP(C1054,tblXrate[],2,0)","v":25000},"Analyst","India","8 Hrs",1.5,{"$f":"VLOOKUP(F1054,mapping!$L$2:$P$92,2,0)","v":0.34064763831408895},{"$f":"VLOOKUP($F1054,mapping!$L$2:$P$92,3,0)","v":1388.78},{"$f":"VLOOKUP($F1054,mapping!$L$2:$P$92,4,0)","v":"Developing Asia"},{"$f":"$D1054*VLOOKUP($E1054,'Charts data'!$A$2:$B$11,2,0)*VLOOKUP($G1054,'Charts data'!$A$14:$B$18,2,0)/IF('Charts data'!$E$3=1,I1054,1)/IF('Charts data'!$E$4=1,J1054,1)","v":25000}]
["ID1887",5000,"USD",{"$f":"B1055*VLOOKUP(C1055,tblXrate[],2,0)","v":5000},"Analyst","India","2 to 3",10,{"$f":"VLOOKUP(F1055,mapping!$L$2:$P$92,2,0)","v":0.34064763831408895},{"$f":"VLOOKUP($F1055,mapping!$L$2:$P$92,3,0)","v":1388.78},{"$f":"VLOOKUP($F1055,mapping!$L$2:$P$92,4,0)","v":"Developing Asia"},{"$f":"$D1055*VLOOKUP($E1055,'Charts data'!$A$2:$B$11,2,0)*VLOOKUP($G1055,'Charts data'!$A$14:$B$18,2,0)/IF('Charts data'!$E$3=1,I1055,1)/IF('Charts data'!$E$4=1,J1055,1)","v":5000}]
["ID1892",5000,"USD",{"$f":"B1056*VLOOKUP(C1056,tblXrate[],2,0)","v":5000},"Analyst","India","8 Hrs",2,{"$f":"VLOOKUP(F1056,mapping!$L$2:$P$92,2,0)","v":0.34064763831408895},{"$f":"VLOOKUP($F1056,mapping!$L$2:$P$92,3,0)","v":1388.78},{"$f":"VLOOKUP($F1056,mapping!$L$2:$P$92,4,0)","v":"Developing Asia"},{"$f":"$D1056*VLOOKUP($E1056,'Charts data'!$A$2:$B$11,2,0)*VLOOKUP($G1056,'Charts data'!$A$14:$B$18,2,0)/IF('Charts data'!$E$3=1,I1056,1)/IF('Charts data'!$E$4=1,J1056,1)","v":5000}]
["ID1902",4000,"USD",{"$f":"B1057*VLOOKUP(C1057,tblXrate[],2,0)","v":4000},"Analyst","India","2 to 3",4,{"$f":"VLOOKUP(F1057,mapping!$L$2:$P$92,2,0)","v":0.34064763831408895},{"$f":"VLOOKUP($F1057,mapping!$L$2:$P$92,3,0)","v":1388.78},{"$f":"VLOOKUP($F1057,mapping!$L$2:$P$92,4,0)","v":"Developing Asia"},{"$f":"$D1057*VLOOKUP($E1057,'Charts data'!$A$2:$B$11,2,0)*VLOOKUP($G1057,'Charts data'!$A$14:$B$18,2,0)/IF('Charts data'!$E$3=1,I1057,1)/IF('Charts data'!$E$4=1,J1057,1)","v":4000}]
["ID1908",25000,"USD",{"$f":"B1058*VLOOKUP(C1058,tblXrate[],2,0)","v":25000},"Manager","India","4 to 6",10,{"$f":"VLOOKUP(F1058,mapping!$L$2:$P$92,2,0)","v":0.34064763831408895},{"$f":"VLOOKUP($F1058,mapping!$L$2:$P$92,3,0)","v":1388.78},{"$f":"VLOOKUP($F1058,mapping!$L$2:$P$92,4,0)","v":"Developing Asia"},{"$f":"$D1058*VLOOKUP($E1058,'Charts data'!$A$2:$B$11,2,0)*VLOOKUP($G1058,'Charts data'!$A$14:$B$18,2,0)/IF('Charts data'!$E$3=1,I1058,1)/IF('Charts data'!$E$4=1,J1058,1)","v":25000}]
["ID1912",5000,"USD",{"$f":"B1059*VLOOKUP(C1059,tblXrate[],2,0)","v":5000},"Misc.","India","4 to 6",3,{"$f":"VLOOKUP(F1059,mapping!$L$2:$P$92,2,0)","v":0.34064763831408895},{"$f":"VLOOKUP($F1059,mapping!$L$2:$P$92,3,0)","v":1388.78},{"$f":"VLOOKUP($F1059,mapping!$L$2:$P$92,4,0)","v":"Developing Asia"},{"$f":"$D1059*VLOOKUP($E1059,'Charts data'!$A$2:$B$11,2,0)*VLOOKUP($G1059,'Charts data'!$A$14:$B$18,2,0)/IF('Charts data'!$E$3=1,I1059,1)/IF('Charts data'!$E$4=1,J1059,1)","v":5000}]
["ID1917",8400,"USD",{"$f":"B1060*VLOOKUP(C1060,tblXrate[],2,0)","v":8400},"Reporting","India","8 Hrs",6,{"$f":"VLOOKUP(F1060,mapping!$L$2:$P$92,2,0)","v":0.34064763831408895},{"$f":"VLOOKUP($F1060,mapping!$L$2:$P$92,3,0)","v":1388.78},{"$f":"VLOOKUP($F1060,mapping!$L$2:$P$92,4,0)","v":"Developing Asia"},{"$f":"$D1060*VLOOKUP($E1060,'Charts data'!$A$2:$B$11,2,0)*VLOOKUP($G1060,'Charts data'!$A$14:$B$18,2,0)/IF('Charts data'!$E$3=1,I1060,1)/IF('Charts data'!$E$4=1,J1060,1)","v":8400}]
["ID1918",20000,"USD",{"$f":"B1061*VLOOKUP(C1061,tblXrate[],2,0)","v":20000},"Manager","India","2 to 3",5,{"$f":"VLOOKUP(F1061,mapping!$L$2:$P$92,2,0)","v":0.34064763831408895},{"$f":"VLOOKUP($F1061,mapping!$L$2:$P$92,3,0)","v":1388.78},{"$f":"VLOOKUP($F1061,mapping!$L$2:$P$92,4,0)","v":"Developing Asia"},{"$f":"$D1061*VLOOKUP($E1061,'Charts data'!$A$2:$B$11,2,0)*VLOOKUP($G1061,'Charts data'!$A$14:$B$18,2,0)/IF('Charts data'!$E$3=1,I1061,1)/IF('Charts data'!$E$4=1,J1061,1)","v":20000}]
["ID1929",21000,"USD",{"$f":"B1062*VLOOKUP(C1062,tblXrate[],2,0)","v":21000},"Misc.","India","8 Hrs",5,{"$f":"VLOOKUP(F1062,mapping!$L$2:$P$92,2,0)","v":0.34064763831408895},{"$f":"VLOOKUP($F1062,mapping!$L$2:$P$92,3,0)","v":1388.78},{"$f":"VLOOKUP($F1062,mapping!$L$2:$P$92,4,0)","v":"Developing Asia"},{"$f":"$D1062*VLOOKUP($E1062,'Charts data'!$A$2:$B$11,2,0)*VLOOKUP($G1062,'Charts data'!$A$14:$B$18,2,0)/IF('Charts data'!$E$3=1,I1062,1)/IF('Charts data'!$E$4=1,J1062,1)","v":21000}]
["ID0628",10000,"USD",{"$f":"B1063*VLOOKUP(C1063,tblXrate[],2,0)","v":10000},"Manager","Indonesia","2 to 3",5,{"$f":"VLOOKUP(F1063,mapping!$L$2:$P$92,2,0)","v":0.69928450487673943},{"$f":"VLOOKUP($F1063,mapping!$L$2:$P$92,3,0)","v":3508.61},{"$f":"VLOOKUP($F1063,mapping!$L$2:$P$92,4,0)","v":"Developing Asia"},{"$f":"$D1063*VLOOKUP($E1063,'Charts data'!$A$2:$B$11,2,0)*VLOOKUP($G1063,'Charts data'!$A$14:$B$18,2,0)/IF('Charts data'!$E$3=1,I1063,1)/IF('Charts data'!$E$4=1,J1063,1)","v":10000}]
["ID0673",15000,"USD",{"$f":"B1064*VLOOKUP(C1064,tblXrate[],2,0)","v":15000},"Analyst","Indonesia","4 to 6",1,{"$f":"VLOOKUP(F1064,mapping!$L$2:$P$92,2,0)","v":0.69928450487673943},{"$f":"VLOOKUP($F1064,mapping!$L$2:$P$92,3,0)","v":3508.61},{"$f":"VLOOKUP($F1064,mapping!$L$2:$P$92,4,0)","v":"Developing Asia"},{"$f":"$D1064*VLOOKUP($E1064,'Charts data'!$A$2:$B$11,2,0)*VLOOKUP($G1064,'Charts data'!$A$14:$B$18,2,0)/IF('Charts data'!$E$3=1,I1064,1)/IF('Charts data'!$E$4=1,J1064,1)","v":15000}]
["ID0827",30000,"USD",{"$f":"B1065*VLOOKUP(C1065,tblXrate[],2,0)","v":30000},"Controller","Indonesia","4 to 6",7,{"$f":"VLOOKUP(F1065,mapping!$L$2:$P$92,2,0)","v":0.69928450487673943},{"$f":"VLOOKUP($F1065,mapping!$L$2:$P$92,3,0)","v":3508.61},{"$f":"VLOOKUP($F1065,mapping!$L$2:$P$92,4,0)","v":"Developing Asia"},{"$f":"$D1065*VLOOKUP($E1065,'Charts data'!$A$2:$B$11,2,0)*VLOOKUP($G1065,'Charts data'!$A$14:$B$18,2,0)/IF('Charts data'!$E$3=1,I1065,1)/IF('Charts data'!$E$4=1,J1065,1)","v":30000}]
["ID0868",98000,"USD",{"$f":"B1066*VLOOKUP(C1066,tblXrate[],2,0)","v":98000},"Manager","Indonesia","2 to 3",14,{"$f":"VLOOKUP(F1066,mapping!$L$2:$P$92,2,0)","v":0.69928450487673943},{"$f":"VLOOKUP($F1066,mapping!$L$2:$P$92,3,0)","v":3508.61},{"$f":"VLOOKUP($F1066,mapping!$L$2:$P$92,4,0)","v":"Developing Asia"},{"$f":"$D1066*VLOOKUP($E1066,'Charts data'!$A$2:$B$11,2,0)*VLOOKUP($G1066,'Charts data'!$A$14:$B$18,2,0)/IF('Charts data'!$E$3=1,I1066,1)/IF('Charts data'!$E$4=1,J1066,1)","v":98000}]
["ID0872",4500,"USD",{"$f":"B1067*VLOOKUP(C1067,tblXrate[],2,0)","v":4500},"Analyst","Indonesia","2 to 3",4,{"$f":"VLOOKUP(F1067,mapping!$L$2:$P$92,2,0)","v":0.69928450487673943},{"$f":"VLOOKUP($F1067,mapping!$L$2:$P$92,3,0)","v":3508.61},{"$f":"VLOOKUP($F1067,mapping!$L$2:$P$92,4,0)","v":"Developing Asia"},{"$f":"$D1067*VLOOKUP($E1067,'Charts data'!$A$2:$B$11,2,0)*VLOOKUP($G1067,'Charts data'!$A$14:$B$18,2,0)/IF('Charts data'!$E$3=1,I1067,1)/IF('Charts data'!$E$4=1,J1067,1)","v":4500}]
["ID1631",60000,"USD",{"$f":"B1068*VLOOKUP(C1068,tblXrate[],2,0)","v":60000},"Manager","Indonesia","2 to 3",16,{"$f":"VLOOKUP(F1068,mapping!$L$2:$P$92,2,0)","v":0.69928450487673943},{"$f":"VLOOKUP($F1068,mapping!$L$2:$P$92,3,0)","v":3508.61},{"$f":"VLOOKUP($F1068,mapping!$L$2:$P$92,4,0)","v":"Developing Asia"},{"$f":"$D1068*VLOOKUP($E1068,'Charts data'!$A$2:$B$11,2,0)*VLOOKUP($G1068,'Charts data'!$A$14:$B$18,2,0)/IF('Charts data'!$E$3=1,I1068,1)/IF('Charts data'!$E$4=1,J1068,1)","v":60000}]
["ID1718",8400,"USD",{"$f":"B1069*VLOOKUP(C1069,tblXrate[],2,0)","v":8400},"Analyst","Indonesia","4 to 6",14,{"$f":"VLOOKUP(F1069,mapping!$L$2:$P$92,2,0)","v":0.69928450487673943},{"$f":"VLOOKUP($F1069,mapping!$L$2:$P$92,3,0)","v":3508.61},{"$f":"VLOOKUP($F1069,mapping!$L$2:$P$92,4,0)","v":"Developing Asia"},{"$f":"$D1069*VLOOKUP($E1069,'Charts data'!$A$2:$B$11,2,0)*VLOOKUP($G1069,'Charts data'!$A$14:$B$18,2,0)/IF('Charts data'!$E$3=1,I1069,1)/IF('Charts data'!$E$4=1,J1069,1)","v":8400}]
["ID0337",150000,"USD",{"$f":"B1070*VLOOKUP(C1070,tblXrate[],2,0)","v":150000},"Manager","Israel","4 to 6",null,{"$f":"VLOOKUP(F1070,mapping!$L$2:$P$92,2,0)","v":0.9554691883812878},{"$f":"VLOOKUP($F1070,mapping!$L$2:$P$92,3,0)","v":31985.73},{"$f":"VLOOKUP($F1070,mapping!$L$2:$P$92,4,0)","v":"Other Advanced Economies"},{"$f":"$D1070*VLOOKUP($E1070,'Charts data'!$A$2:$B$11,2,0)*VLOOKUP($G1070,'Charts data'!$A$14:$B$18,2,0)/IF('Charts data'!$E$3=1,I1070,1)/IF('Charts data'!$E$4=1,J1070,1)","v":150000}]
["ID0518",57000,"USD",{"$f":"B1071*VLOOKUP(C1071,tblXrate[],2,0)","v":57000},"Manager","Israel","4 to 6",null,{"$f":"VLOOKUP(F1071,mapping!$L$2:$P$92,2,0)","v":0.9554691883812878},{"$f":"VLOOKUP($F1071,mapping!$L$2:$P$92,3,0)","v":31985.73},{"$f":"VLOOKUP($F1071,mapping!$L$2:$P$92,4,0)","v":"Other Advanced Economies"},{"$f":"$D1071*VLOOKUP($E1071,'Charts data'!$A$2:$B$11,2,0)*VLOOKUP($G1071,'Charts data'!$A$14:$B$18,2,0)/IF('Charts data'!$E$3=1,I1071,1)/IF('Charts data'!$E$4=1,J1071,1)","v":57000}]
["ID1051",55000,"USD",{"$f":"B1072*VLOOKUP(C1072,tblXrate[],2,0)","v":55000},"Reporting","Israel","4 to 6",6,{"$f":"VLOOKUP(F1072,mapping!$L$2:$P$92,2,0)","v":0.9554691883812878},{"$f":"VLOOKUP($F1072,mapping!$L$2:$P$92,3,0)","v":31985.73},{"$f":"VLOOKUP($F1072,mapping!$L$2:$P$92,4,0)","v":"Other Advanced Economies"},{"$f":"$D1072*VLOOKUP($E1072,'Charts data'!$A$2:$B$11,2,0)*VLOOKUP($G1072,'Charts data'!$A$14:$B$18,2,0)/IF('Charts data'!$E$3=1,I1072,1)/IF('Charts data'!$E$4=1,J1072,1)","v":55000}]
["ID1344",41000,"USD",{"$f":"B1073*VLOOKUP(C1073,tblXrate[],2,0)","v":41000},"Manager","Israel","2 to 3",4,{"$f":"VLOOKUP(F1073,mapping!$L$2:$P$92,2,0)","v":0.9554691883812878},{"$f":"VLOOKUP($F1073,mapping!$L$2:$P$92,3,0)","v":31985.73},{"$f":"VLOOKUP($F1073,mapping!$L$2:$P$92,4,0)","v":"Other Advanced Economies"},{"$f":"$D1073*VLOOKUP($E1073,'Charts data'!$A$2:$B$11,2,0)*VLOOKUP($G1073,'Charts data'!$A$14:$B$18,2,0)/IF('Charts data'!$E$3=1,I1073,1)/IF('Charts data'!$E$4=1,J1073,1)","v":41000}]
["ID1665",31200,"USD",{"$f":"B1074*VLOOKUP(C1074,tblXrate[],2,0)","v":31200},"Reporting","Israel","8 Hrs",11,{"$f":"VLOOKUP(F1074,mapping!$L$2:$P$92,2,0)","v":0.9554691883812878},{"$f":"VLOOKUP($F1074,mapping!$L$2:$P$92,3,0)","v":31985.73},{"$f":"VLOOKUP($F1074,mapping!$L$2:$P$92,4,0)","v":"Other Advanced Economies"},{"$f":"$D1074*VLOOKUP($E1074,'Charts data'!$A$2:$B$11,2,0)*VLOOKUP($G1074,'Charts data'!$A$14:$B$18,2,0)/IF('Charts data'!$E$3=1,I1074,1)/IF('Charts data'!$E$4=1,J1074,1)","v":31200}]
["ID0553",111000,"USD",{"$f":"B1075*VLOOKUP(C1075,tblXrate[],2,0)","v":111000},"Analyst","Japan","8 Hrs",null,{"$f":"VLOOKUP(F1075,mapping!$L$2:$P$92,2,0)","v":1.3369613569856142},{"$f":"VLOOKUP($F1075,mapping!$L$2:$P$92,3,0)","v":45920.3},{"$f":"VLOOKUP($F1075,mapping!$L$2:$P$92,4,0)","v":"Major Advanced Economies (G7)"},{"$f":"$D1075*VLOOKUP($E1075,'Charts data'!$A$2:$B$11,2,0)*VLOOKUP($G1075,'Charts data'!$A$14:$B$18,2,0)/IF('Charts data'!$E$3=1,I1075,1)/IF('Charts data'!$E$4=1,J1075,1)","v":111000}]
["ID1458",41000,"USD",{"$f":"B1076*VLOOKUP(C1076,tblXrate[],2,0)","v":41000},"Analyst","Japan","2 to 3",2,{"$f":"VLOOKUP(F1076,mapping!$L$2:$P$92,2,0)","v":1.3369613569856142},{"$f":"VLOOKUP($F1076,mapping!$L$2:$P$92,3,0)","v":45920.3},{"$f":"VLOOKUP($F1076,mapping!$L$2:$P$92,4,0)","v":"Major Advanced Economies (G7)"},{"$f":"$D1076*VLOOKUP($E1076,'Charts data'!$A$2:$B$11,2,0)*VLOOKUP($G1076,'Charts data'!$A$14:$B$18,2,0)/IF('Charts data'!$E$3=1,I1076,1)/IF('Charts data'!$E$4=1,J1076,1)","v":41000}]
["ID0903",15600,"USD",{"$f":"B1077*VLOOKUP(C1077,tblXrate[],2,0)","v":15600},"Controller","Kuwait","4 to 6",13,{"$f":"VLOOKUP(F1077,mapping!$L$2:$P$92,2,0)","v":1.134574087329993},{"$f":"VLOOKUP($F1077,mapping!$L$2:$P$92,3,0)","v":47982.43},{"$f":"VLOOKUP($F1077,mapping!$L$2:$P$92,4,0)","v":"Middle East and North Africa"},{"$f":"$D1077*VLOOKUP($E1077,'Charts data'!$A$2:$B$11,2,0)*VLOOKUP($G1077,'Charts data'!$A$14:$B$18,2,0)/IF('Charts data'!$E$3=1,I1077,1)/IF('Charts data'!$E$4=1,J1077,1)","v":15600}]
["ID1037",42000,"USD",{"$f":"B1078*VLOOKUP(C1078,tblXrate[],2,0)","v":42000},"Manager","Kuwait","8 Hrs",5,{"$f":"VLOOKUP(F1078,mapping!$L$2:$P$92,2,0)","v":1.134574087329993},{"$f":"VLOOKUP($F1078,mapping!$L$2:$P$92,3,0)","v":47982.43},{"$f":"VLOOKUP($F1078,mapping!$L$2:$P$92,4,0)","v":"Middle East and North Africa"},{"$f":"$D1078*VLOOKUP($E1078,'Charts data'!$A$2:$B$11,2,0)*VLOOKUP($G1078,'Charts data'!$A$14:$B$18,2,0)/IF('Charts data'!$E$3=1,I1078,1)/IF('Charts data'!$E$4=1,J1078,1)","v":42000}]
["ID1310",36000,"USD",{"$f":"B1079*VLOOKUP(C1079,tblXrate[],2,0)","v":36000},"Analyst","Kuwait","2 to 3",10,{"$f":"VLOOKUP(F1079,mapping!$L$2:$P$92,2,0)","v":1.134574087329993},{"$f":"VLOOKUP($F1079,mapping!$L$2:$P$92,3,0)","v":47982.43},{"$f":"VLOOKUP($F1079,mapping!$L$2:$P$92,4,0)","v":"Middle East and North Africa"},{"$f":"$D1079*VLOOKUP($E1079,'Charts data'!$A$2:$B$11,2,0)*VLOOKUP($G1079,'Charts data'!$A$14:$B$18,2,0)/IF('Charts data'!$E$3=1,I1079,1)/IF('Charts data'!$E$4=1,J1079,1)","v":36000}]
["ID1493",50000,"USD",{"$f":"B1080*VLOOKUP(C1080,tblXrate[],2,0)","v":50000},"Analyst","Kuwait","4 to 6",13,{"$f":"VLOOKUP(F1080,mapping!$L$2:$P$92,2,0)","v":1.134574087329993},{"$f":"VLOOKUP($F1080,mapping!$L$2:$P$92,3,0)","v":47982.43},{"$f":"VLOOKUP($F1080,mapping!$L$2:$P$92,4,0)","v":"Middle East and North Africa"},{"$f":"$D1080*VLOOKUP($E1080,'Charts data'!$A$2:$B$11,2,0)*VLOOKUP($G1080,'Charts data'!$A$14:$B$18,2,0)/IF('Charts data'!$E$3=1,I1080,1)/IF('Charts data'!$E$4=1,J1080,1)","v":50000}]
["ID1596",177600,"USD",{"$f":"B1081*VLOOKUP(C1081,tblXrate[],2,0)","v":177600},"Accountant","Lesotho","4 to 6",6,{"$f":"VLOOKUP(F1081,mapping!$L$2:$P$92,2,0)","v":0.56556349363563152},{"$f":"VLOOKUP($F1081,mapping!$L$2:$P$92,3,0)","v":1263.96},{"$f":"VLOOKUP($F1081,mapping!$L$2:$P$92,4,0)","v":"Sub-Saharan Africa"},{"$f":"$D1081*VLOOKUP($E1081,'Charts data'!$A$2:$B$11,2,0)*VLOOKUP($G1081,'Charts data'!$A$14:$B$18,2,0)/IF('Charts data'!$E$3=1,I1081,1)/IF('Charts data'!$E$4=1,J1081,1)","v":177600}]
["ID1549",24864,"USD",{"$f":"B1082*VLOOKUP(C1082,tblXrate[],2,0)","v":24864},"Manager","Libya","8 Hrs",8,{"$f":"VLOOKUP(F1082,mapping!$L$2:$P$92,2,0)","v":0.62305940799006421},{"$f":"VLOOKUP($F1082,mapping!$L$2:$P$92,3,0)","v":5691.33},{"$f":"VLOOKUP($F1082,mapping!$L$2:$P$92,4,0)","v":"Middle East and North Africa"},{"$f":"$D1082*VLOOKUP($E1082,'Charts data'!$A$2:$B$11,2,0)*VLOOKUP($G1082,'Charts data'!$A$14:$B$18,2,0)/IF('Charts data'!$E$3=1,I1082,1)/IF('Charts data'!$E$4=1,J1082,1)","v":24864}]
["ID0714",15000,"USD",{"$f":"B1083*VLOOKUP(C1083,tblXrate[],2,0)","v":15000},"Accountant","Lithuania","4 to 6",2,{"$f":"VLOOKUP(F1083,mapping!$L$2:$P$92,2,0)","v":0.63321412277216071},{"$f":"VLOOKUP($F1083,mapping!$L$2:$P$92,3,0)","v":13075.41},{"$f":"VLOOKUP($F1083,mapping!$L$2:$P$92,4,0)","v":"Central and Eastern Europe"},{"$f":"$D1083*VLOOKUP($E1083,'Charts data'!$A$2:$B$11,2,0)*VLOOKUP($G1083,'Charts data'!$A$14:$B$18,2,0)/IF('Charts data'!$E$3=1,I1083,1)/IF('Charts data'!$E$4=1,J1083,1)","v":15000}]
["ID0988",36000,"USD",{"$f":"B1084*VLOOKUP(C1084,tblXrate[],2,0)","v":36000},"Manager","malaysia","1 or 2",3,{"$f":"VLOOKUP(F1084,mapping!$L$2:$P$92,2,0)","v":0.6038218820488126},{"$f":"VLOOKUP($F1084,mapping!$L$2:$P$92,3,0)","v":9699.7000000000007},{"$f":"VLOOKUP($F1084,mapping!$L$2:$P$92,4,0)","v":"Developing Asia"},{"$f":"$D1084*VLOOKUP($E1084,'Charts data'!$A$2:$B$11,2,0)*VLOOKUP($G1084,'Charts data'!$A$14:$B$18,2,0)/IF('Charts data'!$E$3=1,I1084,1)/IF('Charts data'!$E$4=1,J1084,1)","v":36000}]
["ID1277",35000,"USD",{"$f":"B1085*VLOOKUP(C1085,tblXrate[],2,0)","v":35000},"CXO or Top Mgmt.","malaysia","8 Hrs",12,{"$f":"VLOOKUP(F1085,mapping!$L$2:$P$92,2,0)","v":0.6038218820488126},{"$f":"VLOOKUP($F1085,mapping!$L$2:$P$92,3,0)","v":9699.7000000000007},{"$f":"VLOOKUP($F1085,mapping!$L$2:$P$92,4,0)","v":"Developing Asia"},{"$f":"$D1085*VLOOKUP($E1085,'Charts data'!$A$2:$B$11,2,0)*VLOOKUP($G1085,'Charts data'!$A$14:$B$18,2,0)/IF('Charts data'!$E$3=1,I1085,1)/IF('Charts data'!$E$4=1,J1085,1)","v":35000}]
["ID1535",12000,"USD",{"$f":"B1086*VLOOKUP(C1086,tblXrate[],2,0)","v":12000},"Analyst","Malaysia","2 to 3",0,{"$f":"VLOOKUP(F1086,mapping!$L$2:$P$92,2,0)","v":0.6038218820488126},{"$f":"VLOOKUP($F1086,mapping!$L$2:$P$92,3,0)","v":9699.7000000000007},{"$f":"VLOOKUP($F1086,mapping!$L$2:$P$92,4,0)","v":"Developing Asia"},{"$f":"$D1086*VLOOKUP($E1086,'Charts data'!$A$2:$B$11,2,0)*VLOOKUP($G1086,'Charts data'!$A$14:$B$18,2,0)/IF('Charts data'!$E$3=1,I1086,1)/IF('Charts data'!$E$4=1,J1086,1)","v":12000}]
["ID1781",30000,"USD",{"$f":"B1087*VLOOKUP(C1087,tblXrate[],2,0)","v":30000},"Analyst","malaysia","1 or 2",12,{"$f":"VLOOKUP(F1087,mapping!$L$2:$P$92,2,0)","v":0.6038218820488126},{"$f":"VLOOKUP($F1087,mapping!$L$2:$P$92,3,0)","v":9699.7000000000007},{"$f":"VLOOKUP($F1087,mapping!$L$2:$P$92,4,0)","v":"Developing Asia"},{"$f":"$D1087*VLOOKUP($E1087,'Charts data'!$A$2:$B$11,2,0)*VLOOKUP($G1087,'Charts data'!$A$14:$B$18,2,0)/IF('Charts data'!$E$3=1,I1087,1)/IF('Charts data'!$E$4=1,J1087,1)","v":30000}]
["ID0105",19200,"USD",{"$f":"B1088*VLOOKUP(C1088,tblXrate[],2,0)","v":19200},"Analyst","Mexico","4 to 6",null,{"$f":"VLOOKUP(F1088,mapping!$L$2:$P$92,2,0)","v":0.63068393487169372},{"$f":"VLOOKUP($F1088,mapping!$L$2:$P$92,3,0)","v":10153.299999999999},{"$f":"VLOOKUP($F1088,mapping!$L$2:$P$92,4,0)","v":"Latin America and the Caribbean"},{"$f":"$D1088*VLOOKUP($E1088,'Charts data'!$A$2:$B$11,2,0)*VLOOKUP($G1088,'Charts data'!$A$14:$B$18,2,0)/IF('Charts data'!$E$3=1,I1088,1)/IF('Charts data'!$E$4=1,J1088,1)","v":19200}]
["ID0150",50000,"USD",{"$f":"B1089*VLOOKUP(C1089,tblXrate[],2,0)","v":50000},"Analyst","Mexico","8 Hrs",null,{"$f":"VLOOKUP(F1089,mapping!$L$2:$P$92,2,0)","v":0.63068393487169372},{"$f":"VLOOKUP($F1089,mapping!$L$2:$P$92,3,0)","v":10153.299999999999},{"$f":"VLOOKUP($F1089,mapping!$L$2:$P$92,4,0)","v":"Latin America and the Caribbean"},{"$f":"$D1089*VLOOKUP($E1089,'Charts data'!$A$2:$B$11,2,0)*VLOOKUP($G1089,'Charts data'!$A$14:$B$18,2,0)/IF('Charts data'!$E$3=1,I1089,1)/IF('Charts data'!$E$4=1,J1089,1)","v":50000}]
["ID0155",15500,"USD",{"$f":"B1090*VLOOKUP(C1090,tblXrate[],2,0)","v":15500},"Accountant","Mexico","8 Hrs",null,{"$f":"VLOOKUP(F1090,mapping!$L$2:$P$92,2,0)","v":0.63068393487169372},{"$f":"VLOOKUP($F1090,mapping!$L$2:$P$92,3,0)","v":10153.299999999999},{"$f":"VLOOKUP($F1090,mapping!$L$2:$P$92,4,0)","v":"Latin America and the Caribbean"},{"$f":"$D1090*VLOOKUP($E1090,'Charts data'!$A$2:$B$11,2,0)*VLOOKUP($G1090,'Charts data'!$A$14:$B$18,2,0)/IF('Charts data'!$E$3=1,I1090,1)/IF('Charts data'!$E$4=1,J1090,1)","v":15500}]
["ID0330",22000,"USD",{"$f":"B1091*VLOOKUP(C1091,tblXrate[],2,0)","v":22000},"Manager","Mexico","4 to 6",null,{"$f":"VLOOKUP(F1091,mapping!$L$2:$P$92,2,0)","v":0.63068393487169372},{"$f":"VLOOKUP($F1091,mapping!$L$2:$P$92,3,0)","v":10153.299999999999},{"$f":"VLOOKUP($F1091,mapping!$L$2:$P$92,4,0)","v":"Latin America and the Caribbean"},{"$f":"$D1091*VLOOKUP($E1091,'Charts data'!$A$2:$B$11,2,0)*VLOOKUP($G1091,'Charts data'!$A$14:$B$18,2,0)/IF('Charts data'!$E$3=1,I1091,1)/IF('Charts data'!$E$4=1,J1091,1)","v":22000}]
["ID0893",100000,"USD",{"$f":"B1092*VLOOKUP(C1092,tblXrate[],2,0)","v":100000},"CXO or Top Mgmt.","Mexico","8 Hrs",10,{"$f":"VLOOKUP(F1092,mapping!$L$2:$P$92,2,0)","v":0.63068393487169372},{"$f":"VLOOKUP($F1092,mapping!$L$2:$P$92,3,0)","v":10153.299999999999},{"$f":"VLOOKUP($F1092,mapping!$L$2:$P$92,4,0)","v":"Latin America and the Caribbean"},{"$f":"$D1092*VLOOKUP($E1092,'Charts data'!$A$2:$B$11,2,0)*VLOOKUP($G1092,'Charts data'!$A$14:$B$18,2,0)/IF('Charts data'!$E$3=1,I1092,1)/IF('Charts data'!$E$4=1,J1092,1)","v":100000}]
["ID1162",30000,"USD",{"$f":"B1093*VLOOKUP(C1093,tblXrate[],2,0)","v":30000},"Manager","Mexico","8 Hrs",17,{"$f":"VLOOKUP(F1093,mapping!$L$2:$P$92,2,0)","v":0.63068393487169372},{"$f":"VLOOKUP($F1093,mapping!$L$2:$P$92,3,0)","v":10153.299999999999},{"$f":"VLOOKUP($F1093,mapping!$L$2:$P$92,4,0)","v":"Latin America and the Caribbean"},{"$f":"$D1093*VLOOKUP($E1093,'Charts data'!$A$2:$B$11,2,0)*VLOOKUP($G1093,'Charts data'!$A$14:$B$18,2,0)/IF('Charts data'!$E$3=1,I1093,1)/IF('Charts data'!$E$4=1,J1093,1)","v":30000}]
["ID1576",11000,"USD",{"$f":"B1094*VLOOKUP(C1094,tblXrate[],2,0)","v":11000},"Manager","Mexico","4 to 6",2,{"$f":"VLOOKUP(F1094,mapping!$L$2:$P$92,2,0)","v":0.63068393487169372},{"$f":"VLOOKUP($F1094,mapping!$L$2:$P$92,3,0)","v":10153.299999999999},{"$f":"VLOOKUP($F1094,mapping!$L$2:$P$92,4,0)","v":"Latin America and the Caribbean"},{"$f":"$D1094*VLOOKUP($E1094,'Charts data'!$A$2:$B$11,2,0)*VLOOKUP($G1094,'Charts data'!$A$14:$B$18,2,0)/IF('Charts data'!$E$3=1,I1094,1)/IF('Charts data'!$E$4=1,J1094,1)","v":11000}]
["ID1579",17728,"USD",{"$f":"B1095*VLOOKUP(C1095,tblXrate[],2,0)","v":17728},"Analyst","Mexico","4 to 6",3,{"$f":"VLOOKUP(F1095,mapping!$L$2:$P$92,2,0)","v":0.63068393487169372},{"$f":"VLOOKUP($F1095,mapping!$L$2:$P$92,3,0)","v":10153.299999999999},{"$f":"VLOOKUP($F1095,mapping!$L$2:$P$92,4,0)","v":"Latin America and the Caribbean"},{"$f":"$D1095*VLOOKUP($E1095,'Charts data'!$A$2:$B$11,2,0)*VLOOKUP($G1095,'Charts data'!$A$14:$B$18,2,0)/IF('Charts data'!$E$3=1,I1095,1)/IF('Charts data'!$E$4=1,J1095,1)","v":17728}]
["ID1704",45000,"USD",{"$f":"B1096*VLOOKUP(C1096,tblXrate[],2,0)","v":45000},"CXO or Top Mgmt.","Mexico","4 to 6",5,{"$f":"VLOOKUP(F1096,mapping!$L$2:$P$92,2,0)","v":0.63068393487169372},{"$f":"VLOOKUP($F1096,mapping!$L$2:$P$92,3,0)","v":10153.299999999999},{"$f":"VLOOKUP($F1096,mapping!$L$2:$P$92,4,0)","v":"Latin America and the Caribbean"},{"$f":"$D1096*VLOOKUP($E1096,'Charts data'!$A$2:$B$11,2,0)*VLOOKUP($G1096,'Charts data'!$A$14:$B$18,2,0)/IF('Charts data'!$E$3=1,I1096,1)/IF('Charts data'!$E$4=1,J1096,1)","v":45000}]
["ID1155",13500,"USD",{"$f":"B1097*VLOOKUP(C1097,tblXrate[],2,0)","v":13500},"Manager","Montenegro","4 to 6",13,{"$f":"VLOOKUP(F1097,mapping!$L$2:$P$92,2,0)","v":0.57803174474118157},{"$f":"VLOOKUP($F1097,mapping!$L$2:$P$92,3,0)","v":7316.68},{"$f":"VLOOKUP($F1097,mapping!$L$2:$P$92,4,0)","v":"Central and Eastern Europe"},{"$f":"$D1097*VLOOKUP($E1097,'Charts data'!$A$2:$B$11,2,0)*VLOOKUP($G1097,'Charts data'!$A$14:$B$18,2,0)/IF('Charts data'!$E$3=1,I1097,1)/IF('Charts data'!$E$4=1,J1097,1)","v":13500}]
["ID0479",24000,"USD",{"$f":"B1098*VLOOKUP(C1098,tblXrate[],2,0)","v":24000},"Engineer","Mozambique","2 to 3",null,{"$f":"VLOOKUP(F1098,mapping!$L$2:$P$92,2,0)","v":0.56335740072202167},{"$f":"VLOOKUP($F1098,mapping!$L$2:$P$92,3,0)","v":582.61099999999999},{"$f":"VLOOKUP($F1098,mapping!$L$2:$P$92,4,0)","v":"Sub-Saharan Africa"},{"$f":"$D1098*VLOOKUP($E1098,'Charts data'!$A$2:$B$11,2,0)*VLOOKUP($G1098,'Charts data'!$A$14:$B$18,2,0)/IF('Charts data'!$E$3=1,I1098,1)/IF('Charts data'!$E$4=1,J1098,1)","v":24000}]
["ID1291",15000,"USD",{"$f":"B1099*VLOOKUP(C1099,tblXrate[],2,0)","v":15000},"Manager","Myanmar","4 to 6",10,{"$f":"VLOOKUP(F1099,mapping!$L$2:$P$92,2,0)","v":0.55529757785467126},{"$f":"VLOOKUP($F1099,mapping!$L$2:$P$92,3,0)","v":831.91},{"$f":"VLOOKUP($F1099,mapping!$L$2:$P$92,4,0)","v":"Developing Asia"},{"$f":"$D1099*VLOOKUP($E1099,'Charts data'!$A$2:$B$11,2,0)*VLOOKUP($G1099,'Charts data'!$A$14:$B$18,2,0)/IF('Charts data'!$E$3=1,I1099,1)/IF('Charts data'!$E$4=1,J1099,1)","v":15000}]
["ID1471",20400,"USD",{"$f":"B1100*VLOOKUP(C1100,tblXrate[],2,0)","v":20400},"Manager","Myanmar","1 or 2",10,{"$f":"VLOOKUP(F1100,mapping!$L$2:$P$92,2,0)","v":0.55529757785467126},{"$f":"VLOOKUP($F1100,mapping!$L$2:$P$92,3,0)","v":831.91},{"$f":"VLOOKUP($F1100,mapping!$L$2:$P$92,4,0)","v":"Developing Asia"},{"$f":"$D1100*VLOOKUP($E1100,'Charts data'!$A$2:$B$11,2,0)*VLOOKUP($G1100,'Charts data'!$A$14:$B$18,2,0)/IF('Charts data'!$E$3=1,I1100,1)/IF('Charts data'!$E$4=1,J1100,1)","v":20400}]
["ID0535",120000,"USD",{"$f":"B1101*VLOOKUP(C1101,tblXrate[],2,0)","v":120000},"Manager","New Zealand","2 to 3",null,{"$f":"VLOOKUP(F1101,mapping!$L$2:$P$92,2,0)","v":1.3351624686946675},{"$f":"VLOOKUP($F1101,mapping!$L$2:$P$92,3,0)","v":36648.199999999997},{"$f":"VLOOKUP($F1101,mapping!$L$2:$P$92,4,0)","v":"Other Advanced Economies"},{"$f":"$D1101*VLOOKUP($E1101,'Charts data'!$A$2:$B$11,2,0)*VLOOKUP($G1101,'Charts data'!$A$14:$B$18,2,0)/IF('Charts data'!$E$3=1,I1101,1)/IF('Charts data'!$E$4=1,J1101,1)","v":120000}]
["ID0961",40000,"USD",{"$f":"B1102*VLOOKUP(C1102,tblXrate[],2,0)","v":40000},"Analyst","New Zealand","4 to 6",5,{"$f":"VLOOKUP(F1102,mapping!$L$2:$P$92,2,0)","v":1.3351624686946675},{"$f":"VLOOKUP($F1102,mapping!$L$2:$P$92,3,0)","v":36648.199999999997},{"$f":"VLOOKUP($F1102,mapping!$L$2:$P$92,4,0)","v":"Other Advanced Economies"},{"$f":"$D1102*VLOOKUP($E1102,'Charts data'!$A$2:$B$11,2,0)*VLOOKUP($G1102,'Charts data'!$A$14:$B$18,2,0)/IF('Charts data'!$E$3=1,I1102,1)/IF('Charts data'!$E$4=1,J1102,1)","v":40000}]
["ID1249",72000,"USD",{"$f":"B1103*VLOOKUP(C1103,tblXrate[],2,0)","v":72000},"Consultant","New Zealand","2 to 3",10,{"$f":"VLOOKUP(F1103,mapping!$L$2:$P$92,2,0)","v":1.3351624686946675},{"$f":"VLOOKUP($F1103,mapping!$L$2:$P$92,3,0)","v":36648.199999999997},{"$f":"VLOOKUP($F1103,mapping!$L$2:$P$92,4,0)","v":"Other Advanced Economies"},{"$f":"$D1103*VLOOKUP($E1103,'Charts data'!$A$2:$B$11,2,0)*VLOOKUP($G1103,'Charts data'!$A$14:$B$18,2,0)/IF('Charts data'!$E$3=1,I1103,1)/IF('Charts data'!$E$4=1,J1103,1)","v":72000}]
["ID1119",18987,"USD",{"$f":"B1104*VLOOKUP(C1104,tblXrate[],2,0)","v":18987},"Analyst","Nigeria","8 Hrs",7,{"$f":"VLOOKUP(F1104,mapping!$L$2:$P$92,2,0)","v":0.54494915254237297},{"$f":"VLOOKUP($F1104,mapping!$L$2:$P$92,3,0)","v":1490.06},{"$f":"VLOOKUP($F1104,mapping!$L$2:$P$92,4,0)","v":"Sub-Saharan Africa"},{"$f":"$D1104*VLOOKUP($E1104,'Charts data'!$A$2:$B$11,2,0)*VLOOKUP($G1104,'Charts data'!$A$14:$B$18,2,0)/IF('Charts data'!$E$3=1,I1104,1)/IF('Charts data'!$E$4=1,J1104,1)","v":18987}]
["ID0484",110000,"USD",{"$f":"B1105*VLOOKUP(C1105,tblXrate[],2,0)","v":110000},"Accountant","Norway","2 to 3",null,{"$f":"VLOOKUP(F1105,mapping!$L$2:$P$92,2,0)","v":12.950451881080451},{"$f":"VLOOKUP($F1105,mapping!$L$2:$P$92,3,0)","v":97254.6},{"$f":"VLOOKUP($F1105,mapping!$L$2:$P$92,4,0)","v":"Other Advanced Economies"},{"$f":"$D1105*VLOOKUP($E1105,'Charts data'!$A$2:$B$11,2,0)*VLOOKUP($G1105,'Charts data'!$A$14:$B$18,2,0)/IF('Charts data'!$E$3=1,I1105,1)/IF('Charts data'!$E$4=1,J1105,1)","v":110000}]
["ID0496",108000,"USD",{"$f":"B1106*VLOOKUP(C1106,tblXrate[],2,0)","v":108000},"Manager","Norway","4 to 6",null,{"$f":"VLOOKUP(F1106,mapping!$L$2:$P$92,2,0)","v":12.950451881080451},{"$f":"VLOOKUP($F1106,mapping!$L$2:$P$92,3,0)","v":97254.6},{"$f":"VLOOKUP($F1106,mapping!$L$2:$P$92,4,0)","v":"Other Advanced Economies"},{"$f":"$D1106*VLOOKUP($E1106,'Charts data'!$A$2:$B$11,2,0)*VLOOKUP($G1106,'Charts data'!$A$14:$B$18,2,0)/IF('Charts data'!$E$3=1,I1106,1)/IF('Charts data'!$E$4=1,J1106,1)","v":108000}]
["ID0871",125000,"USD",{"$f":"B1107*VLOOKUP(C1107,tblXrate[],2,0)","v":125000},"Manager","Norway","4 to 6",6,{"$f":"VLOOKUP(F1107,mapping!$L$2:$P$92,2,0)","v":12.950451881080451},{"$f":"VLOOKUP($F1107,mapping!$L$2:$P$92,3,0)","v":97254.6},{"$f":"VLOOKUP($F1107,mapping!$L$2:$P$92,4,0)","v":"Other Advanced Economies"},{"$f":"$D1107*VLOOKUP($E1107,'Charts data'!$A$2:$B$11,2,0)*VLOOKUP($G1107,'Charts data'!$A$14:$B$18,2,0)/IF('Charts data'!$E$3=1,I1107,1)/IF('Charts data'!$E$4=1,J1107,1)","v":125000}]
["ID1235",100000,"USD",{"$f":"B1108*VLOOKUP(C1108,tblXrate[],2,0)","v":100000},"Controller","Norway","4 to 6",12,{"$f":"VLOOKUP(F1108,mapping!$L$2:$P$92,2,0)","v":12.950451881080451},{"$f":"VLOOKUP($F1108,mapping!$L$2:$P$92,3,0)","v":97254.6},{"$f":"VLOOKUP($F1108,mapping!$L$2:$P$92,4,0)","v":"Other Advanced Economies"},{"$f":"$D1108*VLOOKUP($E1108,'Charts data'!$A$2:$B$11,2,0)*VLOOKUP($G1108,'Charts data'!$A$14:$B$18,2,0)/IF('Charts data'!$E$3=1,I1108,1)/IF('Charts data'!$E$4=1,J1108,1)","v":100000}]
["ID1556",110000,"USD",{"$f":"B1109*VLOOKUP(C1109,tblXrate[],2,0)","v":110000},"Controller","Norway","8 Hrs",5,{"$f":"VLOOKUP(F1109,mapping!$L$2:$P$92,2,0)","v":12.950451881080451},{"$f":"VLOOKUP($F1109,mapping!$L$2:$P$92,3,0)","v":97254.6},{"$f":"VLOOKUP($F1109,mapping!$L$2:$P$92,4,0)","v":"Other Advanced Economies"},{"$f":"$D1109*VLOOKUP($E1109,'Charts data'!$A$2:$B$11,2,0)*VLOOKUP($G1109,'Charts data'!$A$14:$B$18,2,0)/IF('Charts data'!$E$3=1,I1109,1)/IF('Charts data'!$E$4=1,J1109,1)","v":110000}]
["ID1928",100800,"USD",{"$f":"B1110*VLOOKUP(C1110,tblXrate[],2,0)","v":100800},"CXO or Top Mgmt.","Oman","4 to 6",4,{"$f":"VLOOKUP(F1110,mapping!$L$2:$P$92,2,0)","v":0.87906371911573478},{"$f":"VLOOKUP($F1110,mapping!$L$2:$P$92,3,0)","v":23315.46},{"$f":"VLOOKUP($F1110,mapping!$L$2:$P$92,4,0)","v":"Middle East and North Africa"},{"$f":"$D1110*VLOOKUP($E1110,'Charts data'!$A$2:$B$11,2,0)*VLOOKUP($G1110,'Charts data'!$A$14:$B$18,2,0)/IF('Charts data'!$E$3=1,I1110,1)/IF('Charts data'!$E$4=1,J1110,1)","v":100800}]
["ID0004",48000,"USD",{"$f":"B1111*VLOOKUP(C1111,tblXrate[],2,0)","v":48000},"Controller","Pakistan","2 to 3",null,{"$f":"VLOOKUP(F1111,mapping!$L$2:$P$92,2,0)","v":0.65835867993475172},{"$f":"VLOOKUP($F1111,mapping!$L$2:$P$92,3,0)","v":1201.1099999999999},{"$f":"VLOOKUP($F1111,mapping!$L$2:$P$92,4,0)","v":"Developing Asia"},{"$f":"$D1111*VLOOKUP($E1111,'Charts data'!$A$2:$B$11,2,0)*VLOOKUP($G1111,'Charts data'!$A$14:$B$18,2,0)/IF('Charts data'!$E$3=1,I1111,1)/IF('Charts data'!$E$4=1,J1111,1)","v":48000}]
["ID0130",12000,"USD",{"$f":"B1112*VLOOKUP(C1112,tblXrate[],2,0)","v":12000},"Consultant","Pakistan","1 or 2",null,{"$f":"VLOOKUP(F1112,mapping!$L$2:$P$92,2,0)","v":0.65835867993475172},{"$f":"VLOOKUP($F1112,mapping!$L$2:$P$92,3,0)","v":1201.1099999999999},{"$f":"VLOOKUP($F1112,mapping!$L$2:$P$92,4,0)","v":"Developing Asia"},{"$f":"$D1112*VLOOKUP($E1112,'Charts data'!$A$2:$B$11,2,0)*VLOOKUP($G1112,'Charts data'!$A$14:$B$18,2,0)/IF('Charts data'!$E$3=1,I1112,1)/IF('Charts data'!$E$4=1,J1112,1)","v":12000}]
["ID0662",16800,"USD",{"$f":"B1113*VLOOKUP(C1113,tblXrate[],2,0)","v":16800},"Analyst","Pakistan","4 to 6",12,{"$f":"VLOOKUP(F1113,mapping!$L$2:$P$92,2,0)","v":0.65835867993475172},{"$f":"VLOOKUP($F1113,mapping!$L$2:$P$92,3,0)","v":1201.1099999999999},{"$f":"VLOOKUP($F1113,mapping!$L$2:$P$92,4,0)","v":"Developing Asia"},{"$f":"$D1113*VLOOKUP($E1113,'Charts data'!$A$2:$B$11,2,0)*VLOOKUP($G1113,'Charts data'!$A$14:$B$18,2,0)/IF('Charts data'!$E$3=1,I1113,1)/IF('Charts data'!$E$4=1,J1113,1)","v":16800}]
["ID0738",5022,"USD",{"$f":"B1114*VLOOKUP(C1114,tblXrate[],2,0)","v":5022},"Analyst","Pakistan","4 to 6",15,{"$f":"VLOOKUP(F1114,mapping!$L$2:$P$92,2,0)","v":0.65835867993475172},{"$f":"VLOOKUP($F1114,mapping!$L$2:$P$92,3,0)","v":1201.1099999999999},{"$f":"VLOOKUP($F1114,mapping!$L$2:$P$92,4,0)","v":"Developing Asia"},{"$f":"$D1114*VLOOKUP($E1114,'Charts data'!$A$2:$B$11,2,0)*VLOOKUP($G1114,'Charts data'!$A$14:$B$18,2,0)/IF('Charts data'!$E$3=1,I1114,1)/IF('Charts data'!$E$4=1,J1114,1)","v":5022}]
["ID0859",3000,"USD",{"$f":"B1115*VLOOKUP(C1115,tblXrate[],2,0)","v":3000},"Analyst","Pakistan","2 to 3",2,{"$f":"VLOOKUP(F1115,mapping!$L$2:$P$92,2,0)","v":0.65835867993475172},{"$f":"VLOOKUP($F1115,mapping!$L$2:$P$92,3,0)","v":1201.1099999999999},{"$f":"VLOOKUP($F1115,mapping!$L$2:$P$92,4,0)","v":"Developing Asia"},{"$f":"$D1115*VLOOKUP($E1115,'Charts data'!$A$2:$B$11,2,0)*VLOOKUP($G1115,'Charts data'!$A$14:$B$18,2,0)/IF('Charts data'!$E$3=1,I1115,1)/IF('Charts data'!$E$4=1,J1115,1)","v":3000}]
["ID0939",3480,"USD",{"$f":"B1116*VLOOKUP(C1116,tblXrate[],2,0)","v":3480},"Manager","Pakistan","8 Hrs",6,{"$f":"VLOOKUP(F1116,mapping!$L$2:$P$92,2,0)","v":0.65835867993475172},{"$f":"VLOOKUP($F1116,mapping!$L$2:$P$92,3,0)","v":1201.1099999999999},{"$f":"VLOOKUP($F1116,mapping!$L$2:$P$92,4,0)","v":"Developing Asia"},{"$f":"$D1116*VLOOKUP($E1116,'Charts data'!$A$2:$B$11,2,0)*VLOOKUP($G1116,'Charts data'!$A$14:$B$18,2,0)/IF('Charts data'!$E$3=1,I1116,1)/IF('Charts data'!$E$4=1,J1116,1)","v":3480}]
["ID1028",10800,"USD",{"$f":"B1117*VLOOKUP(C1117,tblXrate[],2,0)","v":10800},"Manager","Pakistan","8 Hrs",5,{"$f":"VLOOKUP(F1117,mapping!$L$2:$P$92,2,0)","v":0.65835867993475172},{"$f":"VLOOKUP($F1117,mapping!$L$2:$P$92,3,0)","v":1201.1099999999999},{"$f":"VLOOKUP($F1117,mapping!$L$2:$P$92,4,0)","v":"Developing Asia"},{"$f":"$D1117*VLOOKUP($E1117,'Charts data'!$A$2:$B$11,2,0)*VLOOKUP($G1117,'Charts data'!$A$14:$B$18,2,0)/IF('Charts data'!$E$3=1,I1117,1)/IF('Charts data'!$E$4=1,J1117,1)","v":10800}]
["ID1050",2400,"USD",{"$f":"B1118*VLOOKUP(C1118,tblXrate[],2,0)","v":2400},"Accountant","Pakistan","2 to 3",15,{"$f":"VLOOKUP(F1118,mapping!$L$2:$P$92,2,0)","v":0.65835867993475172},{"$f":"VLOOKUP($F1118,mapping!$L$2:$P$92,3,0)","v":1201.1099999999999},{"$f":"VLOOKUP($F1118,mapping!$L$2:$P$92,4,0)","v":"Developing Asia"},{"$f":"$D1118*VLOOKUP($E1118,'Charts data'!$A$2:$B$11,2,0)*VLOOKUP($G1118,'Charts data'!$A$14:$B$18,2,0)/IF('Charts data'!$E$3=1,I1118,1)/IF('Charts data'!$E$4=1,J1118,1)","v":2400}]
["ID1105",3500,"USD",{"$f":"B1119*VLOOKUP(C1119,tblXrate[],2,0)","v":3500},"Manager","Pakistan","4 to 6",4,{"$f":"VLOOKUP(F1119,mapping!$L$2:$P$92,2,0)","v":0.65835867993475172},{"$f":"VLOOKUP($F1119,mapping!$L$2:$P$92,3,0)","v":1201.1099999999999},{"$f":"VLOOKUP($F1119,mapping!$L$2:$P$92,4,0)","v":"Developing Asia"},{"$f":"$D1119*VLOOKUP($E1119,'Charts data'!$A$2:$B$11,2,0)*VLOOKUP($G1119,'Charts data'!$A$14:$B$18,2,0)/IF('Charts data'!$E$3=1,I1119,1)/IF('Charts data'!$E$4=1,J1119,1)","v":3500}]
["ID1173",8725,"USD",{"$f":"B1120*VLOOKUP(C1120,tblXrate[],2,0)","v":8725},"Manager","Pakistan","2 to 3",18,{"$f":"VLOOKUP(F1120,mapping!$L$2:$P$92,2,0)","v":0.65835867993475172},{"$f":"VLOOKUP($F1120,mapping!$L$2:$P$92,3,0)","v":1201.1099999999999},{"$f":"VLOOKUP($F1120,mapping!$L$2:$P$92,4,0)","v":"Developing Asia"},{"$f":"$D1120*VLOOKUP($E1120,'Charts data'!$A$2:$B$11,2,0)*VLOOKUP($G1120,'Charts data'!$A$14:$B$18,2,0)/IF('Charts data'!$E$3=1,I1120,1)/IF('Charts data'!$E$4=1,J1120,1)","v":8725}]
["ID1231",40000,"USD",{"$f":"B1121*VLOOKUP(C1121,tblXrate[],2,0)","v":40000},"Manager","Pakistan","4 to 6",15,{"$f":"VLOOKUP(F1121,mapping!$L$2:$P$92,2,0)","v":0.65835867993475172},{"$f":"VLOOKUP($F1121,mapping!$L$2:$P$92,3,0)","v":1201.1099999999999},{"$f":"VLOOKUP($F1121,mapping!$L$2:$P$92,4,0)","v":"Developing Asia"},{"$f":"$D1121*VLOOKUP($E1121,'Charts data'!$A$2:$B$11,2,0)*VLOOKUP($G1121,'Charts data'!$A$14:$B$18,2,0)/IF('Charts data'!$E$3=1,I1121,1)/IF('Charts data'!$E$4=1,J1121,1)","v":40000}]
["ID1297",12000,"USD",{"$f":"B1122*VLOOKUP(C1122,tblXrate[],2,0)","v":12000},"Consultant","Pakistan","4 to 6",1,{"$f":"VLOOKUP(F1122,mapping!$L$2:$P$92,2,0)","v":0.65835867993475172},{"$f":"VLOOKUP($F1122,mapping!$L$2:$P$92,3,0)","v":1201.1099999999999},{"$f":"VLOOKUP($F1122,mapping!$L$2:$P$92,4,0)","v":"Developing Asia"},{"$f":"$D1122*VLOOKUP($E1122,'Charts data'!$A$2:$B$11,2,0)*VLOOKUP($G1122,'Charts data'!$A$14:$B$18,2,0)/IF('Charts data'!$E$3=1,I1122,1)/IF('Charts data'!$E$4=1,J1122,1)","v":12000}]
["ID1302",45000,"USD",{"$f":"B1123*VLOOKUP(C1123,tblXrate[],2,0)","v":45000},"Analyst","Pakistan","8 Hrs",8,{"$f":"VLOOKUP(F1123,mapping!$L$2:$P$92,2,0)","v":0.65835867993475172},{"$f":"VLOOKUP($F1123,mapping!$L$2:$P$92,3,0)","v":1201.1099999999999},{"$f":"VLOOKUP($F1123,mapping!$L$2:$P$92,4,0)","v":"Developing Asia"},{"$f":"$D1123*VLOOKUP($E1123,'Charts data'!$A$2:$B$11,2,0)*VLOOKUP($G1123,'Charts data'!$A$14:$B$18,2,0)/IF('Charts data'!$E$3=1,I1123,1)/IF('Charts data'!$E$4=1,J1123,1)","v":45000}]
["ID1350",5300,"USD",{"$f":"B1124*VLOOKUP(C1124,tblXrate[],2,0)","v":5300},"Manager","Pakistan","4 to 6",5,{"$f":"VLOOKUP(F1124,mapping!$L$2:$P$92,2,0)","v":0.65835867993475172},{"$f":"VLOOKUP($F1124,mapping!$L$2:$P$92,3,0)","v":1201.1099999999999},{"$f":"VLOOKUP($F1124,mapping!$L$2:$P$92,4,0)","v":"Developing Asia"},{"$f":"$D1124*VLOOKUP($E1124,'Charts data'!$A$2:$B$11,2,0)*VLOOKUP($G1124,'Charts data'!$A$14:$B$18,2,0)/IF('Charts data'!$E$3=1,I1124,1)/IF('Charts data'!$E$4=1,J1124,1)","v":5300}]
["ID1545",30000,"USD",{"$f":"B1125*VLOOKUP(C1125,tblXrate[],2,0)","v":30000},"Manager","Pakistan","4 to 6",5,{"$f":"VLOOKUP(F1125,mapping!$L$2:$P$92,2,0)","v":0.65835867993475172},{"$f":"VLOOKUP($F1125,mapping!$L$2:$P$92,3,0)","v":1201.1099999999999},{"$f":"VLOOKUP($F1125,mapping!$L$2:$P$92,4,0)","v":"Developing Asia"},{"$f":"$D1125*VLOOKUP($E1125,'Charts data'!$A$2:$B$11,2,0)*VLOOKUP($G1125,'Charts data'!$A$14:$B$18,2,0)/IF('Charts data'!$E$3=1,I1125,1)/IF('Charts data'!$E$4=1,J1125,1)","v":30000}]
["ID1591",4500,"USD",{"$f":"B1126*VLOOKUP(C1126,tblXrate[],2,0)","v":4500},"Analyst","Pakistan","4 to 6",6,{"$f":"VLOOKUP(F1126,mapping!$L$2:$P$92,2,0)","v":0.65835867993475172},{"$f":"VLOOKUP($F1126,mapping!$L$2:$P$92,3,0)","v":1201.1099999999999},{"$f":"VLOOKUP($F1126,mapping!$L$2:$P$92,4,0)","v":"Developing Asia"},{"$f":"$D1126*VLOOKUP($E1126,'Charts data'!$A$2:$B$11,2,0)*VLOOKUP($G1126,'Charts data'!$A$14:$B$18,2,0)/IF('Charts data'!$E$3=1,I1126,1)/IF('Charts data'!$E$4=1,J1126,1)","v":4500}]
["ID1646",15000,"USD",{"$f":"B1127*VLOOKUP(C1127,tblXrate[],2,0)","v":15000},"Analyst","Pakistan","4 to 6",5,{"$f":"VLOOKUP(F1127,mapping!$L$2:$P$92,2,0)","v":0.65835867993475172},{"$f":"VLOOKUP($F1127,mapping!$L$2:$P$92,3,0)","v":1201.1099999999999},{"$f":"VLOOKUP($F1127,mapping!$L$2:$P$92,4,0)","v":"Developing Asia"},{"$f":"$D1127*VLOOKUP($E1127,'Charts data'!$A$2:$B$11,2,0)*VLOOKUP($G1127,'Charts data'!$A$14:$B$18,2,0)/IF('Charts data'!$E$3=1,I1127,1)/IF('Charts data'!$E$4=1,J1127,1)","v":15000}]
["ID0081",26000,"USD",{"$f":"B1128*VLOOKUP(C1128,tblXrate[],2,0)","v":26000},"Analyst","Panama","8 Hrs",null,{"$f":"VLOOKUP(F1128,mapping!$L$2:$P$92,2,0)","v":0.76732126115093102},{"$f":"VLOOKUP($F1128,mapping!$L$2:$P$92,3,0)","v":8514.2199999999993},{"$f":"VLOOKUP($F1128,mapping!$L$2:$P$92,4,0)","v":"Latin America and the Caribbean"},{"$f":"$D1128*VLOOKUP($E1128,'Charts data'!$A$2:$B$11,2,0)*VLOOKUP($G1128,'Charts data'!$A$14:$B$18,2,0)/IF('Charts data'!$E$3=1,I1128,1)/IF('Charts data'!$E$4=1,J1128,1)","v":26000}]
["ID1019",20000,"USD",{"$f":"B1129*VLOOKUP(C1129,tblXrate[],2,0)","v":20000},"Reporting","Paraguay","8 Hrs",6,{"$f":"VLOOKUP(F1129,mapping!$L$2:$P$92,2,0)","v":0.6031955555555556},{"$f":"VLOOKUP($F1129,mapping!$L$2:$P$92,3,0)","v":3251.91},{"$f":"VLOOKUP($F1129,mapping!$L$2:$P$92,4,0)","v":"Latin America and the Caribbean"},{"$f":"$D1129*VLOOKUP($E1129,'Charts data'!$A$2:$B$11,2,0)*VLOOKUP($G1129,'Charts data'!$A$14:$B$18,2,0)/IF('Charts data'!$E$3=1,I1129,1)/IF('Charts data'!$E$4=1,J1129,1)","v":20000}]
["ID1573",15840,"USD",{"$f":"B1130*VLOOKUP(C1130,tblXrate[],2,0)","v":15840},"Analyst","Peru","8 Hrs",8,{"$f":"VLOOKUP(F1130,mapping!$L$2:$P$92,2,0)","v":0.60563909774436087},{"$f":"VLOOKUP($F1130,mapping!$L$2:$P$92,3,0)","v":5781.58},{"$f":"VLOOKUP($F1130,mapping!$L$2:$P$92,4,0)","v":"Latin America and the Caribbean"},{"$f":"$D1130*VLOOKUP($E1130,'Charts data'!$A$2:$B$11,2,0)*VLOOKUP($G1130,'Charts data'!$A$14:$B$18,2,0)/IF('Charts data'!$E$3=1,I1130,1)/IF('Charts data'!$E$4=1,J1130,1)","v":15840}]
["ID0772",19068,"USD",{"$f":"B1131*VLOOKUP(C1131,tblXrate[],2,0)","v":19068},"Accountant","Philippines","8 Hrs",20,{"$f":"VLOOKUP(F1131,mapping!$L$2:$P$92,2,0)","v":0.59108547804793632},{"$f":"VLOOKUP($F1131,mapping!$L$2:$P$92,3,0)","v":2223.44},{"$f":"VLOOKUP($F1131,mapping!$L$2:$P$92,4,0)","v":"Developing Asia"},{"$f":"$D1131*VLOOKUP($E1131,'Charts data'!$A$2:$B$11,2,0)*VLOOKUP($G1131,'Charts data'!$A$14:$B$18,2,0)/IF('Charts data'!$E$3=1,I1131,1)/IF('Charts data'!$E$4=1,J1131,1)","v":19068}]
["ID0940",18060,"USD",{"$f":"B1132*VLOOKUP(C1132,tblXrate[],2,0)","v":18060},"Reporting","Philippines","4 to 6",12,{"$f":"VLOOKUP(F1132,mapping!$L$2:$P$92,2,0)","v":0.59108547804793632},{"$f":"VLOOKUP($F1132,mapping!$L$2:$P$92,3,0)","v":2223.44},{"$f":"VLOOKUP($F1132,mapping!$L$2:$P$92,4,0)","v":"Developing Asia"},{"$f":"$D1132*VLOOKUP($E1132,'Charts data'!$A$2:$B$11,2,0)*VLOOKUP($G1132,'Charts data'!$A$14:$B$18,2,0)/IF('Charts data'!$E$3=1,I1132,1)/IF('Charts data'!$E$4=1,J1132,1)","v":18060}]
["ID1295",12500,"USD",{"$f":"B1133*VLOOKUP(C1133,tblXrate[],2,0)","v":12500},"Specialist","Philippines","2 to 3",7,{"$f":"VLOOKUP(F1133,mapping!$L$2:$P$92,2,0)","v":0.59108547804793632},{"$f":"VLOOKUP($F1133,mapping!$L$2:$P$92,3,0)","v":2223.44},{"$f":"VLOOKUP($F1133,mapping!$L$2:$P$92,4,0)","v":"Developing Asia"},{"$f":"$D1133*VLOOKUP($E1133,'Charts data'!$A$2:$B$11,2,0)*VLOOKUP($G1133,'Charts data'!$A$14:$B$18,2,0)/IF('Charts data'!$E$3=1,I1133,1)/IF('Charts data'!$E$4=1,J1133,1)","v":12500}]
["ID1645",4019,"USD",{"$f":"B1134*VLOOKUP(C1134,tblXrate[],2,0)","v":4019},"Specialist","Philippines","2 to 3",3,{"$f":"VLOOKUP(F1134,mapping!$L$2:$P$92,2,0)","v":0.59108547804793632},{"$f":"VLOOKUP($F1134,mapping!$L$2:$P$92,3,0)","v":2223.44},{"$f":"VLOOKUP($F1134,mapping!$L$2:$P$92,4,0)","v":"Developing Asia"},{"$f":"$D1134*VLOOKUP($E1134,'Charts data'!$A$2:$B$11,2,0)*VLOOKUP($G1134,'Charts data'!$A$14:$B$18,2,0)/IF('Charts data'!$E$3=1,I1134,1)/IF('Charts data'!$E$4=1,J1134,1)","v":4019}]
["ID1650",86000,"USD",{"$f":"B1135*VLOOKUP(C1135,tblXrate[],2,0)","v":86000},"Analyst","Philippines","8 Hrs",3,{"$f":"VLOOKUP(F1135,mapping!$L$2:$P$92,2,0)","v":0.59108547804793632},{"$f":"VLOOKUP($F1135,mapping!$L$2:$P$92,3,0)","v":2223.44},{"$f":"VLOOKUP($F1135,mapping!$L$2:$P$92,4,0)","v":"Developing Asia"},{"$f":"$D1135*VLOOKUP($E1135,'Charts data'!$A$2:$B$11,2,0)*VLOOKUP($G1135,'Charts data'!$A$14:$B$18,2,0)/IF('Charts data'!$E$3=1,I1135,1)/IF('Charts data'!$E$4=1,J1135,1)","v":86000}]
["ID0035",19200,"USD",{"$f":"B1136*VLOOKUP(C1136,tblXrate[],2,0)","v":19200},"Analyst","Poland","2 to 3",null,{"$f":"VLOOKUP(F1136,mapping!$L$2:$P$92,2,0)","v":2.5064980931304421},{"$f":"VLOOKUP($F1136,mapping!$L$2:$P$92,3,0)","v":13539.84},{"$f":"VLOOKUP($F1136,mapping!$L$2:$P$92,4,0)","v":"Central and Eastern Europe"},{"$f":"$D1136*VLOOKUP($E1136,'Charts data'!$A$2:$B$11,2,0)*VLOOKUP($G1136,'Charts data'!$A$14:$B$18,2,0)/IF('Charts data'!$E$3=1,I1136,1)/IF('Charts data'!$E$4=1,J1136,1)","v":19200}]
["ID0249",96000,"USD",{"$f":"B1137*VLOOKUP(C1137,tblXrate[],2,0)","v":96000},"Consultant","Poland","2 to 3",null,{"$f":"VLOOKUP(F1137,mapping!$L$2:$P$92,2,0)","v":2.5064980931304421},{"$f":"VLOOKUP($F1137,mapping!$L$2:$P$92,3,0)","v":13539.84},{"$f":"VLOOKUP($F1137,mapping!$L$2:$P$92,4,0)","v":"Central and Eastern Europe"},{"$f":"$D1137*VLOOKUP($E1137,'Charts data'!$A$2:$B$11,2,0)*VLOOKUP($G1137,'Charts data'!$A$14:$B$18,2,0)/IF('Charts data'!$E$3=1,I1137,1)/IF('Charts data'!$E$4=1,J1137,1)","v":96000}]
["ID1064",18000,"USD",{"$f":"B1138*VLOOKUP(C1138,tblXrate[],2,0)","v":18000},"Analyst","Poland","4 to 6",7,{"$f":"VLOOKUP(F1138,mapping!$L$2:$P$92,2,0)","v":2.5064980931304421},{"$f":"VLOOKUP($F1138,mapping!$L$2:$P$92,3,0)","v":13539.84},{"$f":"VLOOKUP($F1138,mapping!$L$2:$P$92,4,0)","v":"Central and Eastern Europe"},{"$f":"$D1138*VLOOKUP($E1138,'Charts data'!$A$2:$B$11,2,0)*VLOOKUP($G1138,'Charts data'!$A$14:$B$18,2,0)/IF('Charts data'!$E$3=1,I1138,1)/IF('Charts data'!$E$4=1,J1138,1)","v":18000}]
["ID1180",28000,"USD",{"$f":"B1139*VLOOKUP(C1139,tblXrate[],2,0)","v":28000},"Manager","Poland","4 to 6",5,{"$f":"VLOOKUP(F1139,mapping!$L$2:$P$92,2,0)","v":2.5064980931304421},{"$f":"VLOOKUP($F1139,mapping!$L$2:$P$92,3,0)","v":13539.84},{"$f":"VLOOKUP($F1139,mapping!$L$2:$P$92,4,0)","v":"Central and Eastern Europe"},{"$f":"$D1139*VLOOKUP($E1139,'Charts data'!$A$2:$B$11,2,0)*VLOOKUP($G1139,'Charts data'!$A$14:$B$18,2,0)/IF('Charts data'!$E$3=1,I1139,1)/IF('Charts data'!$E$4=1,J1139,1)","v":28000}]
["ID0009",44000,"USD",{"$f":"B1140*VLOOKUP(C1140,tblXrate[],2,0)","v":44000},"CXO or Top Mgmt.","Portugal","1 or 2",null,{"$f":"VLOOKUP(F1140,mapping!$L$2:$P$92,2,0)","v":0.87657561290420927},{"$f":"VLOOKUP($F1140,mapping!$L$2:$P$92,3,0)","v":22413.45},{"$f":"VLOOKUP($F1140,mapping!$L$2:$P$92,4,0)","v":"Euro Area"},{"$f":"$D1140*VLOOKUP($E1140,'Charts data'!$A$2:$B$11,2,0)*VLOOKUP($G1140,'Charts data'!$A$14:$B$18,2,0)/IF('Charts data'!$E$3=1,I1140,1)/IF('Charts data'!$E$4=1,J1140,1)","v":44000}]
["ID0880",62000,"USD",{"$f":"B1141*VLOOKUP(C1141,tblXrate[],2,0)","v":62000},"Manager","Qatar","8 Hrs",11,{"$f":"VLOOKUP(F1141,mapping!$L$2:$P$92,2,0)","v":0.95521978021978016},{"$f":"VLOOKUP($F1141,mapping!$L$2:$P$92,3,0)","v":98329.49},{"$f":"VLOOKUP($F1141,mapping!$L$2:$P$92,4,0)","v":"Middle East and North Africa"},{"$f":"$D1141*VLOOKUP($E1141,'Charts data'!$A$2:$B$11,2,0)*VLOOKUP($G1141,'Charts data'!$A$14:$B$18,2,0)/IF('Charts data'!$E$3=1,I1141,1)/IF('Charts data'!$E$4=1,J1141,1)","v":62000}]
["ID1186",48000,"USD",{"$f":"B1142*VLOOKUP(C1142,tblXrate[],2,0)","v":48000},"Controller","Qatar","2 to 3",10,{"$f":"VLOOKUP(F1142,mapping!$L$2:$P$92,2,0)","v":0.95521978021978016},{"$f":"VLOOKUP($F1142,mapping!$L$2:$P$92,3,0)","v":98329.49},{"$f":"VLOOKUP($F1142,mapping!$L$2:$P$92,4,0)","v":"Middle East and North Africa"},{"$f":"$D1142*VLOOKUP($E1142,'Charts data'!$A$2:$B$11,2,0)*VLOOKUP($G1142,'Charts data'!$A$14:$B$18,2,0)/IF('Charts data'!$E$3=1,I1142,1)/IF('Charts data'!$E$4=1,J1142,1)","v":48000}]
["ID1228",49200,"USD",{"$f":"B1143*VLOOKUP(C1143,tblXrate[],2,0)","v":49200},"Accountant","Qatar","2 to 3",25,{"$f":"VLOOKUP(F1143,mapping!$L$2:$P$92,2,0)","v":0.95521978021978016},{"$f":"VLOOKUP($F1143,mapping!$L$2:$P$92,3,0)","v":98329.49},{"$f":"VLOOKUP($F1143,mapping!$L$2:$P$92,4,0)","v":"Middle East and North Africa"},{"$f":"$D1143*VLOOKUP($E1143,'Charts data'!$A$2:$B$11,2,0)*VLOOKUP($G1143,'Charts data'!$A$14:$B$18,2,0)/IF('Charts data'!$E$3=1,I1143,1)/IF('Charts data'!$E$4=1,J1143,1)","v":49200}]
["ID0467",5250,"USD",{"$f":"B1144*VLOOKUP(C1144,tblXrate[],2,0)","v":5250},"Specialist","Republic of Georgia","4 to 6",null,{"$f":"VLOOKUP(F1144,mapping!$L$2:$P$92,2,0)","v":0.60315326326081642},{"$f":"VLOOKUP($F1144,mapping!$L$2:$P$92,3,0)","v":3210.3},{"$f":"VLOOKUP($F1144,mapping!$L$2:$P$92,4,0)","v":"Commonwealth of Independent States"},{"$f":"$D1144*VLOOKUP($E1144,'Charts data'!$A$2:$B$11,2,0)*VLOOKUP($G1144,'Charts data'!$A$14:$B$18,2,0)/IF('Charts data'!$E$3=1,I1144,1)/IF('Charts data'!$E$4=1,J1144,1)","v":5250}]
["ID0411",19200,"USD",{"$f":"B1145*VLOOKUP(C1145,tblXrate[],2,0)","v":19200},"Manager","Romania","8 Hrs",null,{"$f":"VLOOKUP(F1145,mapping!$L$2:$P$92,2,0)","v":0.61647227582438224},{"$f":"VLOOKUP($F1145,mapping!$L$2:$P$92,3,0)","v":8862.8700000000008},{"$f":"VLOOKUP($F1145,mapping!$L$2:$P$92,4,0)","v":"Central and Eastern Europe"},{"$f":"$D1145*VLOOKUP($E1145,'Charts data'!$A$2:$B$11,2,0)*VLOOKUP($G1145,'Charts data'!$A$14:$B$18,2,0)/IF('Charts data'!$E$3=1,I1145,1)/IF('Charts data'!$E$4=1,J1145,1)","v":19200}]
["ID0423",8500,"USD",{"$f":"B1146*VLOOKUP(C1146,tblXrate[],2,0)","v":8500},"Accountant","Romania","2 to 3",null,{"$f":"VLOOKUP(F1146,mapping!$L$2:$P$92,2,0)","v":0.61647227582438224},{"$f":"VLOOKUP($F1146,mapping!$L$2:$P$92,3,0)","v":8862.8700000000008},{"$f":"VLOOKUP($F1146,mapping!$L$2:$P$92,4,0)","v":"Central and Eastern Europe"},{"$f":"$D1146*VLOOKUP($E1146,'Charts data'!$A$2:$B$11,2,0)*VLOOKUP($G1146,'Charts data'!$A$14:$B$18,2,0)/IF('Charts data'!$E$3=1,I1146,1)/IF('Charts data'!$E$4=1,J1146,1)","v":8500}]
["ID0429",30000,"USD",{"$f":"B1147*VLOOKUP(C1147,tblXrate[],2,0)","v":30000},"Reporting","Romania","1 or 2",null,{"$f":"VLOOKUP(F1147,mapping!$L$2:$P$92,2,0)","v":0.61647227582438224},{"$f":"VLOOKUP($F1147,mapping!$L$2:$P$92,3,0)","v":8862.8700000000008},{"$f":"VLOOKUP($F1147,mapping!$L$2:$P$92,4,0)","v":"Central and Eastern Europe"},{"$f":"$D1147*VLOOKUP($E1147,'Charts data'!$A$2:$B$11,2,0)*VLOOKUP($G1147,'Charts data'!$A$14:$B$18,2,0)/IF('Charts data'!$E$3=1,I1147,1)/IF('Charts data'!$E$4=1,J1147,1)","v":30000}]
["ID0455",7500,"USD",{"$f":"B1148*VLOOKUP(C1148,tblXrate[],2,0)","v":7500},"Analyst","Romania","8 Hrs",null,{"$f":"VLOOKUP(F1148,mapping!$L$2:$P$92,2,0)","v":0.61647227582438224},{"$f":"VLOOKUP($F1148,mapping!$L$2:$P$92,3,0)","v":8862.8700000000008},{"$f":"VLOOKUP($F1148,mapping!$L$2:$P$92,4,0)","v":"Central and Eastern Europe"},{"$f":"$D1148*VLOOKUP($E1148,'Charts data'!$A$2:$B$11,2,0)*VLOOKUP($G1148,'Charts data'!$A$14:$B$18,2,0)/IF('Charts data'!$E$3=1,I1148,1)/IF('Charts data'!$E$4=1,J1148,1)","v":7500}]
["ID1499",15000,"USD",{"$f":"B1149*VLOOKUP(C1149,tblXrate[],2,0)","v":15000},"Manager","Romania","2 to 3",5,{"$f":"VLOOKUP(F1149,mapping!$L$2:$P$92,2,0)","v":0.61647227582438224},{"$f":"VLOOKUP($F1149,mapping!$L$2:$P$92,3,0)","v":8862.8700000000008},{"$f":"VLOOKUP($F1149,mapping!$L$2:$P$92,4,0)","v":"Central and Eastern Europe"},{"$f":"$D1149*VLOOKUP($E1149,'Charts data'!$A$2:$B$11,2,0)*VLOOKUP($G1149,'Charts data'!$A$14:$B$18,2,0)/IF('Charts data'!$E$3=1,I1149,1)/IF('Charts data'!$E$4=1,J1149,1)","v":15000}]
["ID0031",41000,"USD",{"$f":"B1150*VLOOKUP(C1150,tblXrate[],2,0)","v":41000},"Manager","Russia","8 Hrs",null,{"$f":"VLOOKUP(F1150,mapping!$L$2:$P$92,2,0)","v":0.7009199343694118},{"$f":"VLOOKUP($F1150,mapping!$L$2:$P$92,3,0)","v":12993.36},{"$f":"VLOOKUP($F1150,mapping!$L$2:$P$92,4,0)","v":"Commonwealth of Independent States"},{"$f":"$D1150*VLOOKUP($E1150,'Charts data'!$A$2:$B$11,2,0)*VLOOKUP($G1150,'Charts data'!$A$14:$B$18,2,0)/IF('Charts data'!$E$3=1,I1150,1)/IF('Charts data'!$E$4=1,J1150,1)","v":41000}]
["ID0284",36000,"USD",{"$f":"B1151*VLOOKUP(C1151,tblXrate[],2,0)","v":36000},"Specialist","Russia","4 to 6",null,{"$f":"VLOOKUP(F1151,mapping!$L$2:$P$92,2,0)","v":0.7009199343694118},{"$f":"VLOOKUP($F1151,mapping!$L$2:$P$92,3,0)","v":12993.36},{"$f":"VLOOKUP($F1151,mapping!$L$2:$P$92,4,0)","v":"Commonwealth of Independent States"},{"$f":"$D1151*VLOOKUP($E1151,'Charts data'!$A$2:$B$11,2,0)*VLOOKUP($G1151,'Charts data'!$A$14:$B$18,2,0)/IF('Charts data'!$E$3=1,I1151,1)/IF('Charts data'!$E$4=1,J1151,1)","v":36000}]
["ID0394",99147,"USD",{"$f":"B1152*VLOOKUP(C1152,tblXrate[],2,0)","v":99147},"Specialist","Russia","4 to 6",null,{"$f":"VLOOKUP(F1152,mapping!$L$2:$P$92,2,0)","v":0.7009199343694118},{"$f":"VLOOKUP($F1152,mapping!$L$2:$P$92,3,0)","v":12993.36},{"$f":"VLOOKUP($F1152,mapping!$L$2:$P$92,4,0)","v":"Commonwealth of Independent States"},{"$f":"$D1152*VLOOKUP($E1152,'Charts data'!$A$2:$B$11,2,0)*VLOOKUP($G1152,'Charts data'!$A$14:$B$18,2,0)/IF('Charts data'!$E$3=1,I1152,1)/IF('Charts data'!$E$4=1,J1152,1)","v":99147}]
["ID0416",35000,"USD",{"$f":"B1153*VLOOKUP(C1153,tblXrate[],2,0)","v":35000},"Analyst","Russia","4 to 6",null,{"$f":"VLOOKUP(F1153,mapping!$L$2:$P$92,2,0)","v":0.7009199343694118},{"$f":"VLOOKUP($F1153,mapping!$L$2:$P$92,3,0)","v":12993.36},{"$f":"VLOOKUP($F1153,mapping!$L$2:$P$92,4,0)","v":"Commonwealth of Independent States"},{"$f":"$D1153*VLOOKUP($E1153,'Charts data'!$A$2:$B$11,2,0)*VLOOKUP($G1153,'Charts data'!$A$14:$B$18,2,0)/IF('Charts data'!$E$3=1,I1153,1)/IF('Charts data'!$E$4=1,J1153,1)","v":35000}]
["ID0533",72000,"USD",{"$f":"B1154*VLOOKUP(C1154,tblXrate[],2,0)","v":72000},"Analyst","Russia","2 to 3",null,{"$f":"VLOOKUP(F1154,mapping!$L$2:$P$92,2,0)","v":0.7009199343694118},{"$f":"VLOOKUP($F1154,mapping!$L$2:$P$92,3,0)","v":12993.36},{"$f":"VLOOKUP($F1154,mapping!$L$2:$P$92,4,0)","v":"Commonwealth of Independent States"},{"$f":"$D1154*VLOOKUP($E1154,'Charts data'!$A$2:$B$11,2,0)*VLOOKUP($G1154,'Charts data'!$A$14:$B$18,2,0)/IF('Charts data'!$E$3=1,I1154,1)/IF('Charts data'!$E$4=1,J1154,1)","v":72000}]
["ID0594",36000,"USD",{"$f":"B1155*VLOOKUP(C1155,tblXrate[],2,0)","v":36000},"Consultant","Russia","8 Hrs",10,{"$f":"VLOOKUP(F1155,mapping!$L$2:$P$92,2,0)","v":0.7009199343694118},{"$f":"VLOOKUP($F1155,mapping!$L$2:$P$92,3,0)","v":12993.36},{"$f":"VLOOKUP($F1155,mapping!$L$2:$P$92,4,0)","v":"Commonwealth of Independent States"},{"$f":"$D1155*VLOOKUP($E1155,'Charts data'!$A$2:$B$11,2,0)*VLOOKUP($G1155,'Charts data'!$A$14:$B$18,2,0)/IF('Charts data'!$E$3=1,I1155,1)/IF('Charts data'!$E$4=1,J1155,1)","v":36000}]
["ID0734",60000,"USD",{"$f":"B1156*VLOOKUP(C1156,tblXrate[],2,0)","v":60000},"Manager","Russia","4 to 6",10,{"$f":"VLOOKUP(F1156,mapping!$L$2:$P$92,2,0)","v":0.7009199343694118},{"$f":"VLOOKUP($F1156,mapping!$L$2:$P$92,3,0)","v":12993.36},{"$f":"VLOOKUP($F1156,mapping!$L$2:$P$92,4,0)","v":"Commonwealth of Independent States"},{"$f":"$D1156*VLOOKUP($E1156,'Charts data'!$A$2:$B$11,2,0)*VLOOKUP($G1156,'Charts data'!$A$14:$B$18,2,0)/IF('Charts data'!$E$3=1,I1156,1)/IF('Charts data'!$E$4=1,J1156,1)","v":60000}]
["ID1723",100000,"USD",{"$f":"B1157*VLOOKUP(C1157,tblXrate[],2,0)","v":100000},"Analyst","Russia","8 Hrs",6,{"$f":"VLOOKUP(F1157,mapping!$L$2:$P$92,2,0)","v":0.7009199343694118},{"$f":"VLOOKUP($F1157,mapping!$L$2:$P$92,3,0)","v":12993.36},{"$f":"VLOOKUP($F1157,mapping!$L$2:$P$92,4,0)","v":"Commonwealth of Independent States"},{"$f":"$D1157*VLOOKUP($E1157,'Charts data'!$A$2:$B$11,2,0)*VLOOKUP($G1157,'Charts data'!$A$14:$B$18,2,0)/IF('Charts data'!$E$3=1,I1157,1)/IF('Charts data'!$E$4=1,J1157,1)","v":100000}]
["ID1848",24000,"USD",{"$f":"B1158*VLOOKUP(C1158,tblXrate[],2,0)","v":24000},"Controller","Russia","8 Hrs",23,{"$f":"VLOOKUP(F1158,mapping!$L$2:$P$92,2,0)","v":0.7009199343694118},{"$f":"VLOOKUP($F1158,mapping!$L$2:$P$92,3,0)","v":12993.36},{"$f":"VLOOKUP($F1158,mapping!$L$2:$P$92,4,0)","v":"Commonwealth of Independent States"},{"$f":"$D1158*VLOOKUP($E1158,'Charts data'!$A$2:$B$11,2,0)*VLOOKUP($G1158,'Charts data'!$A$14:$B$18,2,0)/IF('Charts data'!$E$3=1,I1158,1)/IF('Charts data'!$E$4=1,J1158,1)","v":24000}]
["ID0079",18000,"USD",{"$f":"B1159*VLOOKUP(C1159,tblXrate[],2,0)","v":18000},"Analyst","Saudi Arabia","8 Hrs",null,{"$f":"VLOOKUP(F1159,mapping!$L$2:$P$92,2,0)","v":0.8448},{"$f":"VLOOKUP($F1159,mapping!$L$2:$P$92,3,0)","v":20504.36},{"$f":"VLOOKUP($F1159,mapping!$L$2:$P$92,4,0)","v":"Middle East and North Africa"},{"$f":"$D1159*VLOOKUP($E1159,'Charts data'!$A$2:$B$11,2,0)*VLOOKUP($G1159,'Charts data'!$A$14:$B$18,2,0)/IF('Charts data'!$E$3=1,I1159,1)/IF('Charts data'!$E$4=1,J1159,1)","v":18000}]
["ID0293",43200,"USD",{"$f":"B1160*VLOOKUP(C1160,tblXrate[],2,0)","v":43200},"Manager","Saudi Arabia","4 to 6",null,{"$f":"VLOOKUP(F1160,mapping!$L$2:$P$92,2,0)","v":0.8448},{"$f":"VLOOKUP($F1160,mapping!$L$2:$P$92,3,0)","v":20504.36},{"$f":"VLOOKUP($F1160,mapping!$L$2:$P$92,4,0)","v":"Middle East and North Africa"},{"$f":"$D1160*VLOOKUP($E1160,'Charts data'!$A$2:$B$11,2,0)*VLOOKUP($G1160,'Charts data'!$A$14:$B$18,2,0)/IF('Charts data'!$E$3=1,I1160,1)/IF('Charts data'!$E$4=1,J1160,1)","v":43200}]
["ID0670",24000,"USD",{"$f":"B1161*VLOOKUP(C1161,tblXrate[],2,0)","v":24000},"Manager","Saudi Arabia","4 to 6",12,{"$f":"VLOOKUP(F1161,mapping!$L$2:$P$92,2,0)","v":0.8448},{"$f":"VLOOKUP($F1161,mapping!$L$2:$P$92,3,0)","v":20504.36},{"$f":"VLOOKUP($F1161,mapping!$L$2:$P$92,4,0)","v":"Middle East and North Africa"},{"$f":"$D1161*VLOOKUP($E1161,'Charts data'!$A$2:$B$11,2,0)*VLOOKUP($G1161,'Charts data'!$A$14:$B$18,2,0)/IF('Charts data'!$E$3=1,I1161,1)/IF('Charts data'!$E$4=1,J1161,1)","v":24000}]
["ID0765",14960,"USD",{"$f":"B1162*VLOOKUP(C1162,tblXrate[],2,0)","v":14960},"Controller","Saudi Arabia","8 Hrs",2,{"$f":"VLOOKUP(F1162,mapping!$L$2:$P$92,2,0)","v":0.8448},{"$f":"VLOOKUP($F1162,mapping!$L$2:$P$92,3,0)","v":20504.36},{"$f":"VLOOKUP($F1162,mapping!$L$2:$P$92,4,0)","v":"Middle East and North Africa"},{"$f":"$D1162*VLOOKUP($E1162,'Charts data'!$A$2:$B$11,2,0)*VLOOKUP($G1162,'Charts data'!$A$14:$B$18,2,0)/IF('Charts data'!$E$3=1,I1162,1)/IF('Charts data'!$E$4=1,J1162,1)","v":14960}]
["ID0883",25560,"USD",{"$f":"B1163*VLOOKUP(C1163,tblXrate[],2,0)","v":25560},"Manager","Saudi Arabia","4 to 6",3,{"$f":"VLOOKUP(F1163,mapping!$L$2:$P$92,2,0)","v":0.8448},{"$f":"VLOOKUP($F1163,mapping!$L$2:$P$92,3,0)","v":20504.36},{"$f":"VLOOKUP($F1163,mapping!$L$2:$P$92,4,0)","v":"Middle East and North Africa"},{"$f":"$D1163*VLOOKUP($E1163,'Charts data'!$A$2:$B$11,2,0)*VLOOKUP($G1163,'Charts data'!$A$14:$B$18,2,0)/IF('Charts data'!$E$3=1,I1163,1)/IF('Charts data'!$E$4=1,J1163,1)","v":25560}]
["ID0892",36500,"USD",{"$f":"B1164*VLOOKUP(C1164,tblXrate[],2,0)","v":36500},"Accountant","Saudi Arabia","4 to 6",15,{"$f":"VLOOKUP(F1164,mapping!$L$2:$P$92,2,0)","v":0.8448},{"$f":"VLOOKUP($F1164,mapping!$L$2:$P$92,3,0)","v":20504.36},{"$f":"VLOOKUP($F1164,mapping!$L$2:$P$92,4,0)","v":"Middle East and North Africa"},{"$f":"$D1164*VLOOKUP($E1164,'Charts data'!$A$2:$B$11,2,0)*VLOOKUP($G1164,'Charts data'!$A$14:$B$18,2,0)/IF('Charts data'!$E$3=1,I1164,1)/IF('Charts data'!$E$4=1,J1164,1)","v":36500}]
["ID0933",42000,"USD",{"$f":"B1165*VLOOKUP(C1165,tblXrate[],2,0)","v":42000},"Controller","Saudi Arabia","8 Hrs",15,{"$f":"VLOOKUP(F1165,mapping!$L$2:$P$92,2,0)","v":0.8448},{"$f":"VLOOKUP($F1165,mapping!$L$2:$P$92,3,0)","v":20504.36},{"$f":"VLOOKUP($F1165,mapping!$L$2:$P$92,4,0)","v":"Middle East and North Africa"},{"$f":"$D1165*VLOOKUP($E1165,'Charts data'!$A$2:$B$11,2,0)*VLOOKUP($G1165,'Charts data'!$A$14:$B$18,2,0)/IF('Charts data'!$E$3=1,I1165,1)/IF('Charts data'!$E$4=1,J1165,1)","v":42000}]
["ID1209",23000,"USD",{"$f":"B1166*VLOOKUP(C1166,tblXrate[],2,0)","v":23000},"Accountant","Saudi Arabia","8 Hrs",14,{"$f":"VLOOKUP(F1166,mapping!$L$2:$P$92,2,0)","v":0.8448},{"$f":"VLOOKUP($F1166,mapping!$L$2:$P$92,3,0)","v":20504.36},{"$f":"VLOOKUP($F1166,mapping!$L$2:$P$92,4,0)","v":"Middle East and North Africa"},{"$f":"$D1166*VLOOKUP($E1166,'Charts data'!$A$2:$B$11,2,0)*VLOOKUP($G1166,'Charts data'!$A$14:$B$18,2,0)/IF('Charts data'!$E$3=1,I1166,1)/IF('Charts data'!$E$4=1,J1166,1)","v":23000}]
["ID1336",24000,"USD",{"$f":"B1167*VLOOKUP(C1167,tblXrate[],2,0)","v":24000},"Manager","Saudi Arabia","4 to 6",5,{"$f":"VLOOKUP(F1167,mapping!$L$2:$P$92,2,0)","v":0.8448},{"$f":"VLOOKUP($F1167,mapping!$L$2:$P$92,3,0)","v":20504.36},{"$f":"VLOOKUP($F1167,mapping!$L$2:$P$92,4,0)","v":"Middle East and North Africa"},{"$f":"$D1167*VLOOKUP($E1167,'Charts data'!$A$2:$B$11,2,0)*VLOOKUP($G1167,'Charts data'!$A$14:$B$18,2,0)/IF('Charts data'!$E$3=1,I1167,1)/IF('Charts data'!$E$4=1,J1167,1)","v":24000}]
["ID0213",27000,"USD",{"$f":"B1168*VLOOKUP(C1168,tblXrate[],2,0)","v":27000},"Analyst","Singapore","8 Hrs",null,{"$f":"VLOOKUP(F1168,mapping!$L$2:$P$92,2,0)","v":0.81879925219490268},{"$f":"VLOOKUP($F1168,mapping!$L$2:$P$92,3,0)","v":49270.87},{"$f":"VLOOKUP($F1168,mapping!$L$2:$P$92,4,0)","v":"Newly Industrialized Asian Economies"},{"$f":"$D1168*VLOOKUP($E1168,'Charts data'!$A$2:$B$11,2,0)*VLOOKUP($G1168,'Charts data'!$A$14:$B$18,2,0)/IF('Charts data'!$E$3=1,I1168,1)/IF('Charts data'!$E$4=1,J1168,1)","v":27000}]
["ID0265",27600,"USD",{"$f":"B1169*VLOOKUP(C1169,tblXrate[],2,0)","v":27600},"Consultant","Singapore","8 Hrs",null,{"$f":"VLOOKUP(F1169,mapping!$L$2:$P$92,2,0)","v":0.81879925219490268},{"$f":"VLOOKUP($F1169,mapping!$L$2:$P$92,3,0)","v":49270.87},{"$f":"VLOOKUP($F1169,mapping!$L$2:$P$92,4,0)","v":"Newly Industrialized Asian Economies"},{"$f":"$D1169*VLOOKUP($E1169,'Charts data'!$A$2:$B$11,2,0)*VLOOKUP($G1169,'Charts data'!$A$14:$B$18,2,0)/IF('Charts data'!$E$3=1,I1169,1)/IF('Charts data'!$E$4=1,J1169,1)","v":27600}]
["ID0774",48000,"USD",{"$f":"B1170*VLOOKUP(C1170,tblXrate[],2,0)","v":48000},"Consultant","Singapore","8 Hrs",3,{"$f":"VLOOKUP(F1170,mapping!$L$2:$P$92,2,0)","v":0.81879925219490268},{"$f":"VLOOKUP($F1170,mapping!$L$2:$P$92,3,0)","v":49270.87},{"$f":"VLOOKUP($F1170,mapping!$L$2:$P$92,4,0)","v":"Newly Industrialized Asian Economies"},{"$f":"$D1170*VLOOKUP($E1170,'Charts data'!$A$2:$B$11,2,0)*VLOOKUP($G1170,'Charts data'!$A$14:$B$18,2,0)/IF('Charts data'!$E$3=1,I1170,1)/IF('Charts data'!$E$4=1,J1170,1)","v":48000}]
["ID0910",60000,"USD",{"$f":"B1171*VLOOKUP(C1171,tblXrate[],2,0)","v":60000},"Accountant","Singapore","8 Hrs",10,{"$f":"VLOOKUP(F1171,mapping!$L$2:$P$92,2,0)","v":0.81879925219490268},{"$f":"VLOOKUP($F1171,mapping!$L$2:$P$92,3,0)","v":49270.87},{"$f":"VLOOKUP($F1171,mapping!$L$2:$P$92,4,0)","v":"Newly Industrialized Asian Economies"},{"$f":"$D1171*VLOOKUP($E1171,'Charts data'!$A$2:$B$11,2,0)*VLOOKUP($G1171,'Charts data'!$A$14:$B$18,2,0)/IF('Charts data'!$E$3=1,I1171,1)/IF('Charts data'!$E$4=1,J1171,1)","v":60000}]
["ID0935",60000,"USD",{"$f":"B1172*VLOOKUP(C1172,tblXrate[],2,0)","v":60000},"Consultant","Singapore","4 to 6",5,{"$f":"VLOOKUP(F1172,mapping!$L$2:$P$92,2,0)","v":0.81879925219490268},{"$f":"VLOOKUP($F1172,mapping!$L$2:$P$92,3,0)","v":49270.87},{"$f":"VLOOKUP($F1172,mapping!$L$2:$P$92,4,0)","v":"Newly Industrialized Asian Economies"},{"$f":"$D1172*VLOOKUP($E1172,'Charts data'!$A$2:$B$11,2,0)*VLOOKUP($G1172,'Charts data'!$A$14:$B$18,2,0)/IF('Charts data'!$E$3=1,I1172,1)/IF('Charts data'!$E$4=1,J1172,1)","v":60000}]
["ID1030",45000,"USD",{"$f":"B1173*VLOOKUP(C1173,tblXrate[],2,0)","v":45000},"Engineer","Singapore","2 to 3",4,{"$f":"VLOOKUP(F1173,mapping!$L$2:$P$92,2,0)","v":0.81879925219490268},{"$f":"VLOOKUP($F1173,mapping!$L$2:$P$92,3,0)","v":49270.87},{"$f":"VLOOKUP($F1173,mapping!$L$2:$P$92,4,0)","v":"Newly Industrialized Asian Economies"},{"$f":"$D1173*VLOOKUP($E1173,'Charts data'!$A$2:$B$11,2,0)*VLOOKUP($G1173,'Charts data'!$A$14:$B$18,2,0)/IF('Charts data'!$E$3=1,I1173,1)/IF('Charts data'!$E$4=1,J1173,1)","v":45000}]
["ID1185",50000,"USD",{"$f":"B1174*VLOOKUP(C1174,tblXrate[],2,0)","v":50000},"Engineer","Singapore","2 to 3",25,{"$f":"VLOOKUP(F1174,mapping!$L$2:$P$92,2,0)","v":0.81879925219490268},{"$f":"VLOOKUP($F1174,mapping!$L$2:$P$92,3,0)","v":49270.87},{"$f":"VLOOKUP($F1174,mapping!$L$2:$P$92,4,0)","v":"Newly Industrialized Asian Economies"},{"$f":"$D1174*VLOOKUP($E1174,'Charts data'!$A$2:$B$11,2,0)*VLOOKUP($G1174,'Charts data'!$A$14:$B$18,2,0)/IF('Charts data'!$E$3=1,I1174,1)/IF('Charts data'!$E$4=1,J1174,1)","v":50000}]
["ID1226",80000,"USD",{"$f":"B1175*VLOOKUP(C1175,tblXrate[],2,0)","v":80000},"Analyst","Singapore","1 or 2",6,{"$f":"VLOOKUP(F1175,mapping!$L$2:$P$92,2,0)","v":0.81879925219490268},{"$f":"VLOOKUP($F1175,mapping!$L$2:$P$92,3,0)","v":49270.87},{"$f":"VLOOKUP($F1175,mapping!$L$2:$P$92,4,0)","v":"Newly Industrialized Asian Economies"},{"$f":"$D1175*VLOOKUP($E1175,'Charts data'!$A$2:$B$11,2,0)*VLOOKUP($G1175,'Charts data'!$A$14:$B$18,2,0)/IF('Charts data'!$E$3=1,I1175,1)/IF('Charts data'!$E$4=1,J1175,1)","v":80000}]
["ID1262",120000,"USD",{"$f":"B1176*VLOOKUP(C1176,tblXrate[],2,0)","v":120000},"Consultant","Singapore","1 or 2",5,{"$f":"VLOOKUP(F1176,mapping!$L$2:$P$92,2,0)","v":0.81879925219490268},{"$f":"VLOOKUP($F1176,mapping!$L$2:$P$92,3,0)","v":49270.87},{"$f":"VLOOKUP($F1176,mapping!$L$2:$P$92,4,0)","v":"Newly Industrialized Asian Economies"},{"$f":"$D1176*VLOOKUP($E1176,'Charts data'!$A$2:$B$11,2,0)*VLOOKUP($G1176,'Charts data'!$A$14:$B$18,2,0)/IF('Charts data'!$E$3=1,I1176,1)/IF('Charts data'!$E$4=1,J1176,1)","v":120000}]
["ID1797",33600,"USD",{"$f":"B1177*VLOOKUP(C1177,tblXrate[],2,0)","v":33600},"Analyst","Singapore","8 Hrs",2,{"$f":"VLOOKUP(F1177,mapping!$L$2:$P$92,2,0)","v":0.81879925219490268},{"$f":"VLOOKUP($F1177,mapping!$L$2:$P$92,3,0)","v":49270.87},{"$f":"VLOOKUP($F1177,mapping!$L$2:$P$92,4,0)","v":"Newly Industrialized Asian Economies"},{"$f":"$D1177*VLOOKUP($E1177,'Charts data'!$A$2:$B$11,2,0)*VLOOKUP($G1177,'Charts data'!$A$14:$B$18,2,0)/IF('Charts data'!$E$3=1,I1177,1)/IF('Charts data'!$E$4=1,J1177,1)","v":33600}]
["ID1798",33600,"USD",{"$f":"B1178*VLOOKUP(C1178,tblXrate[],2,0)","v":33600},"Analyst","Singapore","8 Hrs",2,{"$f":"VLOOKUP(F1178,mapping!$L$2:$P$92,2,0)","v":0.81879925219490268},{"$f":"VLOOKUP($F1178,mapping!$L$2:$P$92,3,0)","v":49270.87},{"$f":"VLOOKUP($F1178,mapping!$L$2:$P$92,4,0)","v":"Newly Industrialized Asian Economies"},{"$f":"$D1178*VLOOKUP($E1178,'Charts data'!$A$2:$B$11,2,0)*VLOOKUP($G1178,'Charts data'!$A$14:$B$18,2,0)/IF('Charts data'!$E$3=1,I1178,1)/IF('Charts data'!$E$4=1,J1178,1)","v":33600}]
["ID1846",20640,"USD",{"$f":"B1179*VLOOKUP(C1179,tblXrate[],2,0)","v":20640},"Manager","Singapore","4 to 6",3,{"$f":"VLOOKUP(F1179,mapping!$L$2:$P$92,2,0)","v":0.81879925219490268},{"$f":"VLOOKUP($F1179,mapping!$L$2:$P$92,3,0)","v":49270.87},{"$f":"VLOOKUP($F1179,mapping!$L$2:$P$92,4,0)","v":"Newly Industrialized Asian Economies"},{"$f":"$D1179*VLOOKUP($E1179,'Charts data'!$A$2:$B$11,2,0)*VLOOKUP($G1179,'Charts data'!$A$14:$B$18,2,0)/IF('Charts data'!$E$3=1,I1179,1)/IF('Charts data'!$E$4=1,J1179,1)","v":20640}]
["ID1667",13000,"USD",{"$f":"B1180*VLOOKUP(C1180,tblXrate[],2,0)","v":13000},"Analyst","Slovakia","8 Hrs",6,{"$f":"VLOOKUP(F1180,mapping!$L$2:$P$92,2,0)","v":0.69109729481143467},{"$f":"VLOOKUP($F1180,mapping!$L$2:$P$92,3,0)","v":17643.54},{"$f":"VLOOKUP($F1180,mapping!$L$2:$P$92,4,0)","v":"Euro Area"},{"$f":"$D1180*VLOOKUP($E1180,'Charts data'!$A$2:$B$11,2,0)*VLOOKUP($G1180,'Charts data'!$A$14:$B$18,2,0)/IF('Charts data'!$E$3=1,I1180,1)/IF('Charts data'!$E$4=1,J1180,1)","v":13000}]
["ID0018",45000,"USD",{"$f":"B1181*VLOOKUP(C1181,tblXrate[],2,0)","v":45000},"Reporting","South Africa","8 Hrs",null,{"$f":"VLOOKUP(F1181,mapping!$L$2:$P$92,2,0)","v":0.65008693022904218},{"$f":"VLOOKUP($F1181,mapping!$L$2:$P$92,3,0)","v":8066.15},{"$f":"VLOOKUP($F1181,mapping!$L$2:$P$92,4,0)","v":"Sub-Saharan Africa"},{"$f":"$D1181*VLOOKUP($E1181,'Charts data'!$A$2:$B$11,2,0)*VLOOKUP($G1181,'Charts data'!$A$14:$B$18,2,0)/IF('Charts data'!$E$3=1,I1181,1)/IF('Charts data'!$E$4=1,J1181,1)","v":45000}]
["ID0070",100000,"USD",{"$f":"B1182*VLOOKUP(C1182,tblXrate[],2,0)","v":100000},"Manager","South Africa","4 to 6",null,{"$f":"VLOOKUP(F1182,mapping!$L$2:$P$92,2,0)","v":0.65008693022904218},{"$f":"VLOOKUP($F1182,mapping!$L$2:$P$92,3,0)","v":8066.15},{"$f":"VLOOKUP($F1182,mapping!$L$2:$P$92,4,0)","v":"Sub-Saharan Africa"},{"$f":"$D1182*VLOOKUP($E1182,'Charts data'!$A$2:$B$11,2,0)*VLOOKUP($G1182,'Charts data'!$A$14:$B$18,2,0)/IF('Charts data'!$E$3=1,I1182,1)/IF('Charts data'!$E$4=1,J1182,1)","v":100000}]
["ID0391",12000,"USD",{"$f":"B1183*VLOOKUP(C1183,tblXrate[],2,0)","v":12000},"Reporting","South Africa","4 to 6",null,{"$f":"VLOOKUP(F1183,mapping!$L$2:$P$92,2,0)","v":0.65008693022904218},{"$f":"VLOOKUP($F1183,mapping!$L$2:$P$92,3,0)","v":8066.15},{"$f":"VLOOKUP($F1183,mapping!$L$2:$P$92,4,0)","v":"Sub-Saharan Africa"},{"$f":"$D1183*VLOOKUP($E1183,'Charts data'!$A$2:$B$11,2,0)*VLOOKUP($G1183,'Charts data'!$A$14:$B$18,2,0)/IF('Charts data'!$E$3=1,I1183,1)/IF('Charts data'!$E$4=1,J1183,1)","v":12000}]
["ID0727",9600,"USD",{"$f":"B1184*VLOOKUP(C1184,tblXrate[],2,0)","v":9600},"Analyst","South Africa","4 to 6",2,{"$f":"VLOOKUP(F1184,mapping!$L$2:$P$92,2,0)","v":0.65008693022904218},{"$f":"VLOOKUP($F1184,mapping!$L$2:$P$92,3,0)","v":8066.15},{"$f":"VLOOKUP($F1184,mapping!$L$2:$P$92,4,0)","v":"Sub-Saharan Africa"},{"$f":"$D1184*VLOOKUP($E1184,'Charts data'!$A$2:$B$11,2,0)*VLOOKUP($G1184,'Charts data'!$A$14:$B$18,2,0)/IF('Charts data'!$E$3=1,I1184,1)/IF('Charts data'!$E$4=1,J1184,1)","v":9600}]
["ID0887",125000,"USD",{"$f":"B1185*VLOOKUP(C1185,tblXrate[],2,0)","v":125000},"CXO or Top Mgmt.","South Africa","4 to 6",20,{"$f":"VLOOKUP(F1185,mapping!$L$2:$P$92,2,0)","v":0.65008693022904218},{"$f":"VLOOKUP($F1185,mapping!$L$2:$P$92,3,0)","v":8066.15},{"$f":"VLOOKUP($F1185,mapping!$L$2:$P$92,4,0)","v":"Sub-Saharan Africa"},{"$f":"$D1185*VLOOKUP($E1185,'Charts data'!$A$2:$B$11,2,0)*VLOOKUP($G1185,'Charts data'!$A$14:$B$18,2,0)/IF('Charts data'!$E$3=1,I1185,1)/IF('Charts data'!$E$4=1,J1185,1)","v":125000}]
["ID1325",82000,"USD",{"$f":"B1186*VLOOKUP(C1186,tblXrate[],2,0)","v":82000},"Consultant","South Africa","4 to 6",10,{"$f":"VLOOKUP(F1186,mapping!$L$2:$P$92,2,0)","v":0.65008693022904218},{"$f":"VLOOKUP($F1186,mapping!$L$2:$P$92,3,0)","v":8066.15},{"$f":"VLOOKUP($F1186,mapping!$L$2:$P$92,4,0)","v":"Sub-Saharan Africa"},{"$f":"$D1186*VLOOKUP($E1186,'Charts data'!$A$2:$B$11,2,0)*VLOOKUP($G1186,'Charts data'!$A$14:$B$18,2,0)/IF('Charts data'!$E$3=1,I1186,1)/IF('Charts data'!$E$4=1,J1186,1)","v":82000}]
["ID1389",39000,"USD",{"$f":"B1187*VLOOKUP(C1187,tblXrate[],2,0)","v":39000},"Manager","South Africa","8 Hrs",6,{"$f":"VLOOKUP(F1187,mapping!$L$2:$P$92,2,0)","v":0.65008693022904218},{"$f":"VLOOKUP($F1187,mapping!$L$2:$P$92,3,0)","v":8066.15},{"$f":"VLOOKUP($F1187,mapping!$L$2:$P$92,4,0)","v":"Sub-Saharan Africa"},{"$f":"$D1187*VLOOKUP($E1187,'Charts data'!$A$2:$B$11,2,0)*VLOOKUP($G1187,'Charts data'!$A$14:$B$18,2,0)/IF('Charts data'!$E$3=1,I1187,1)/IF('Charts data'!$E$4=1,J1187,1)","v":39000}]
["ID1873",38666,"USD",{"$f":"B1188*VLOOKUP(C1188,tblXrate[],2,0)","v":38666},"Specialist","South Africa","8 Hrs",10,{"$f":"VLOOKUP(F1188,mapping!$L$2:$P$92,2,0)","v":0.65008693022904218},{"$f":"VLOOKUP($F1188,mapping!$L$2:$P$92,3,0)","v":8066.15},{"$f":"VLOOKUP($F1188,mapping!$L$2:$P$92,4,0)","v":"Sub-Saharan Africa"},{"$f":"$D1188*VLOOKUP($E1188,'Charts data'!$A$2:$B$11,2,0)*VLOOKUP($G1188,'Charts data'!$A$14:$B$18,2,0)/IF('Charts data'!$E$3=1,I1188,1)/IF('Charts data'!$E$4=1,J1188,1)","v":38666}]
["ID1927",52500,"USD",{"$f":"B1189*VLOOKUP(C1189,tblXrate[],2,0)","v":52500},"Analyst","South Africa","4 to 6",21,{"$f":"VLOOKUP(F1189,mapping!$L$2:$P$92,2,0)","v":0.65008693022904218},{"$f":"VLOOKUP($F1189,mapping!$L$2:$P$92,3,0)","v":8066.15},{"$f":"VLOOKUP($F1189,mapping!$L$2:$P$92,4,0)","v":"Sub-Saharan Africa"},{"$f":"$D1189*VLOOKUP($E1189,'Charts data'!$A$2:$B$11,2,0)*VLOOKUP($G1189,'Charts data'!$A$14:$B$18,2,0)/IF('Charts data'!$E$3=1,I1189,1)/IF('Charts data'!$E$4=1,J1189,1)","v":52500}]
["ID0863",12000,"USD",{"$f":"B1190*VLOOKUP(C1190,tblXrate[],2,0)","v":12000},"Consultant","Spain","2 to 3",15,{"$f":"VLOOKUP(F1190,mapping!$L$2:$P$92,2,0)","v":0.96423317419463028},{"$f":"VLOOKUP($F1190,mapping!$L$2:$P$92,3,0)","v":32360.1},{"$f":"VLOOKUP($F1190,mapping!$L$2:$P$92,4,0)","v":"Euro Area"},{"$f":"$D1190*VLOOKUP($E1190,'Charts data'!$A$2:$B$11,2,0)*VLOOKUP($G1190,'Charts data'!$A$14:$B$18,2,0)/IF('Charts data'!$E$3=1,I1190,1)/IF('Charts data'!$E$4=1,J1190,1)","v":12000}]
["ID0615",13800,"USD",{"$f":"B1191*VLOOKUP(C1191,tblXrate[],2,0)","v":13800},"Controller","Sri Lanka","4 to 6",20,{"$f":"VLOOKUP(F1191,mapping!$L$2:$P$92,2,0)","v":0.42199432686013522},{"$f":"VLOOKUP($F1191,mapping!$L$2:$P$92,3,0)","v":2876.97},{"$f":"VLOOKUP($F1191,mapping!$L$2:$P$92,4,0)","v":"Developing Asia"},{"$f":"$D1191*VLOOKUP($E1191,'Charts data'!$A$2:$B$11,2,0)*VLOOKUP($G1191,'Charts data'!$A$14:$B$18,2,0)/IF('Charts data'!$E$3=1,I1191,1)/IF('Charts data'!$E$4=1,J1191,1)","v":13800}]
["ID0756",11000,"USD",{"$f":"B1192*VLOOKUP(C1192,tblXrate[],2,0)","v":11000},"Manager","Sri Lanka","8 Hrs",4.5,{"$f":"VLOOKUP(F1192,mapping!$L$2:$P$92,2,0)","v":0.42199432686013522},{"$f":"VLOOKUP($F1192,mapping!$L$2:$P$92,3,0)","v":2876.97},{"$f":"VLOOKUP($F1192,mapping!$L$2:$P$92,4,0)","v":"Developing Asia"},{"$f":"$D1192*VLOOKUP($E1192,'Charts data'!$A$2:$B$11,2,0)*VLOOKUP($G1192,'Charts data'!$A$14:$B$18,2,0)/IF('Charts data'!$E$3=1,I1192,1)/IF('Charts data'!$E$4=1,J1192,1)","v":11000}]
["ID1283",85000,"USD",{"$f":"B1193*VLOOKUP(C1193,tblXrate[],2,0)","v":85000},"Manager","Sri Lanka","8 Hrs",10,{"$f":"VLOOKUP(F1193,mapping!$L$2:$P$92,2,0)","v":0.42199432686013522},{"$f":"VLOOKUP($F1193,mapping!$L$2:$P$92,3,0)","v":2876.97},{"$f":"VLOOKUP($F1193,mapping!$L$2:$P$92,4,0)","v":"Developing Asia"},{"$f":"$D1193*VLOOKUP($E1193,'Charts data'!$A$2:$B$11,2,0)*VLOOKUP($G1193,'Charts data'!$A$14:$B$18,2,0)/IF('Charts data'!$E$3=1,I1193,1)/IF('Charts data'!$E$4=1,J1193,1)","v":85000}]
["ID1317",3000,"USD",{"$f":"B1194*VLOOKUP(C1194,tblXrate[],2,0)","v":3000},"Accountant","Sri Lanka","4 to 6",2,{"$f":"VLOOKUP(F1194,mapping!$L$2:$P$92,2,0)","v":0.42199432686013522},{"$f":"VLOOKUP($F1194,mapping!$L$2:$P$92,3,0)","v":2876.97},{"$f":"VLOOKUP($F1194,mapping!$L$2:$P$92,4,0)","v":"Developing Asia"},{"$f":"$D1194*VLOOKUP($E1194,'Charts data'!$A$2:$B$11,2,0)*VLOOKUP($G1194,'Charts data'!$A$14:$B$18,2,0)/IF('Charts data'!$E$3=1,I1194,1)/IF('Charts data'!$E$4=1,J1194,1)","v":3000}]
["ID1382",100000,"USD",{"$f":"B1195*VLOOKUP(C1195,tblXrate[],2,0)","v":100000},"CXO or Top Mgmt.","Sweden","2 to 3",20,{"$f":"VLOOKUP(F1195,mapping!$L$2:$P$92,2,0)","v":1.3153074725151594},{"$f":"VLOOKUP($F1195,mapping!$L$2:$P$92,3,0)","v":56956.31},{"$f":"VLOOKUP($F1195,mapping!$L$2:$P$92,4,0)","v":"Other Advanced Economies"},{"$f":"$D1195*VLOOKUP($E1195,'Charts data'!$A$2:$B$11,2,0)*VLOOKUP($G1195,'Charts data'!$A$14:$B$18,2,0)/IF('Charts data'!$E$3=1,I1195,1)/IF('Charts data'!$E$4=1,J1195,1)","v":100000}]
["ID0017",107000,"USD",{"$f":"B1196*VLOOKUP(C1196,tblXrate[],2,0)","v":107000},"Manager","Switzerland","4 to 6",null,{"$f":"VLOOKUP(F1196,mapping!$L$2:$P$92,2,0)","v":1.7581850283457086},{"$f":"VLOOKUP($F1196,mapping!$L$2:$P$92,3,0)","v":81160.62},{"$f":"VLOOKUP($F1196,mapping!$L$2:$P$92,4,0)","v":"Other Advanced Economies"},{"$f":"$D1196*VLOOKUP($E1196,'Charts data'!$A$2:$B$11,2,0)*VLOOKUP($G1196,'Charts data'!$A$14:$B$18,2,0)/IF('Charts data'!$E$3=1,I1196,1)/IF('Charts data'!$E$4=1,J1196,1)","v":107000}]
["ID0167",145000,"USD",{"$f":"B1197*VLOOKUP(C1197,tblXrate[],2,0)","v":145000},"Controller","Switzerland","8 Hrs",null,{"$f":"VLOOKUP(F1197,mapping!$L$2:$P$92,2,0)","v":1.7581850283457086},{"$f":"VLOOKUP($F1197,mapping!$L$2:$P$92,3,0)","v":81160.62},{"$f":"VLOOKUP($F1197,mapping!$L$2:$P$92,4,0)","v":"Other Advanced Economies"},{"$f":"$D1197*VLOOKUP($E1197,'Charts data'!$A$2:$B$11,2,0)*VLOOKUP($G1197,'Charts data'!$A$14:$B$18,2,0)/IF('Charts data'!$E$3=1,I1197,1)/IF('Charts data'!$E$4=1,J1197,1)","v":145000}]
["ID0963",150000,"USD",{"$f":"B1198*VLOOKUP(C1198,tblXrate[],2,0)","v":150000},"Analyst","Switzerland","1 or 2",20,{"$f":"VLOOKUP(F1198,mapping!$L$2:$P$92,2,0)","v":1.7581850283457086},{"$f":"VLOOKUP($F1198,mapping!$L$2:$P$92,3,0)","v":81160.62},{"$f":"VLOOKUP($F1198,mapping!$L$2:$P$92,4,0)","v":"Other Advanced Economies"},{"$f":"$D1198*VLOOKUP($E1198,'Charts data'!$A$2:$B$11,2,0)*VLOOKUP($G1198,'Charts data'!$A$14:$B$18,2,0)/IF('Charts data'!$E$3=1,I1198,1)/IF('Charts data'!$E$4=1,J1198,1)","v":150000}]
["ID0224",138000,"USD",{"$f":"B1199*VLOOKUP(C1199,tblXrate[],2,0)","v":138000},"Engineer","Thailand","4 to 6",null,{"$f":"VLOOKUP(F1199,mapping!$L$2:$P$92,2,0)","v":0.5557089932476833},{"$f":"VLOOKUP($F1199,mapping!$L$2:$P$92,3,0)","v":5394.36},{"$f":"VLOOKUP($F1199,mapping!$L$2:$P$92,4,0)","v":"Developing Asia"},{"$f":"$D1199*VLOOKUP($E1199,'Charts data'!$A$2:$B$11,2,0)*VLOOKUP($G1199,'Charts data'!$A$14:$B$18,2,0)/IF('Charts data'!$E$3=1,I1199,1)/IF('Charts data'!$E$4=1,J1199,1)","v":138000}]
["ID0648",8000,"USD",{"$f":"B1200*VLOOKUP(C1200,tblXrate[],2,0)","v":8000},"Manager","Thailand","8 Hrs",1,{"$f":"VLOOKUP(F1200,mapping!$L$2:$P$92,2,0)","v":0.5557089932476833},{"$f":"VLOOKUP($F1200,mapping!$L$2:$P$92,3,0)","v":5394.36},{"$f":"VLOOKUP($F1200,mapping!$L$2:$P$92,4,0)","v":"Developing Asia"},{"$f":"$D1200*VLOOKUP($E1200,'Charts data'!$A$2:$B$11,2,0)*VLOOKUP($G1200,'Charts data'!$A$14:$B$18,2,0)/IF('Charts data'!$E$3=1,I1200,1)/IF('Charts data'!$E$4=1,J1200,1)","v":8000}]
["ID1670",11000,"USD",{"$f":"B1201*VLOOKUP(C1201,tblXrate[],2,0)","v":11000},"Analyst","Tunisia","4 to 6",8,{"$f":"VLOOKUP(F1201,mapping!$L$2:$P$92,2,0)","v":0.40527993174232729},{"$f":"VLOOKUP($F1201,mapping!$L$2:$P$92,3,0)","v":4351.18},{"$f":"VLOOKUP($F1201,mapping!$L$2:$P$92,4,0)","v":"Middle East and North Africa"},{"$f":"$D1201*VLOOKUP($E1201,'Charts data'!$A$2:$B$11,2,0)*VLOOKUP($G1201,'Charts data'!$A$14:$B$18,2,0)/IF('Charts data'!$E$3=1,I1201,1)/IF('Charts data'!$E$4=1,J1201,1)","v":11000}]
["ID0129",36000,"USD",{"$f":"B1202*VLOOKUP(C1202,tblXrate[],2,0)","v":36000},"Accountant","Turkey","4 to 6",null,{"$f":"VLOOKUP(F1202,mapping!$L$2:$P$92,2,0)","v":0.67708014065434363},{"$f":"VLOOKUP($F1202,mapping!$L$2:$P$92,3,0)","v":10521.82},{"$f":"VLOOKUP($F1202,mapping!$L$2:$P$92,4,0)","v":"Central and Eastern Europe"},{"$f":"$D1202*VLOOKUP($E1202,'Charts data'!$A$2:$B$11,2,0)*VLOOKUP($G1202,'Charts data'!$A$14:$B$18,2,0)/IF('Charts data'!$E$3=1,I1202,1)/IF('Charts data'!$E$4=1,J1202,1)","v":36000}]
["ID1482",60000,"USD",{"$f":"B1203*VLOOKUP(C1203,tblXrate[],2,0)","v":60000},"Analyst","Turkey","2 to 3",10,{"$f":"VLOOKUP(F1203,mapping!$L$2:$P$92,2,0)","v":0.67708014065434363},{"$f":"VLOOKUP($F1203,mapping!$L$2:$P$92,3,0)","v":10521.82},{"$f":"VLOOKUP($F1203,mapping!$L$2:$P$92,4,0)","v":"Central and Eastern Europe"},{"$f":"$D1203*VLOOKUP($E1203,'Charts data'!$A$2:$B$11,2,0)*VLOOKUP($G1203,'Charts data'!$A$14:$B$18,2,0)/IF('Charts data'!$E$3=1,I1203,1)/IF('Charts data'!$E$4=1,J1203,1)","v":60000}]
["ID0074",33420,"USD",{"$f":"B1204*VLOOKUP(C1204,tblXrate[],2,0)","v":33420},"Manager","UAE","8 Hrs",null,{"$f":"VLOOKUP(F1204,mapping!$L$2:$P$92,2,0)","v":1.3910401768336007},{"$f":"VLOOKUP($F1204,mapping!$L$2:$P$92,3,0)","v":67007.98},{"$f":"VLOOKUP($F1204,mapping!$L$2:$P$92,4,0)","v":"Middle East and North Africa"},{"$f":"$D1204*VLOOKUP($E1204,'Charts data'!$A$2:$B$11,2,0)*VLOOKUP($G1204,'Charts data'!$A$14:$B$18,2,0)/IF('Charts data'!$E$3=1,I1204,1)/IF('Charts data'!$E$4=1,J1204,1)","v":33420}]
["ID0115",48000,"USD",{"$f":"B1205*VLOOKUP(C1205,tblXrate[],2,0)","v":48000},"Manager","UAE","2 to 3",null,{"$f":"VLOOKUP(F1205,mapping!$L$2:$P$92,2,0)","v":1.3910401768336007},{"$f":"VLOOKUP($F1205,mapping!$L$2:$P$92,3,0)","v":67007.98},{"$f":"VLOOKUP($F1205,mapping!$L$2:$P$92,4,0)","v":"Middle East and North Africa"},{"$f":"$D1205*VLOOKUP($E1205,'Charts data'!$A$2:$B$11,2,0)*VLOOKUP($G1205,'Charts data'!$A$14:$B$18,2,0)/IF('Charts data'!$E$3=1,I1205,1)/IF('Charts data'!$E$4=1,J1205,1)","v":48000}]
["ID0117",85000,"USD",{"$f":"B1206*VLOOKUP(C1206,tblXrate[],2,0)","v":85000},"Controller","UAE","4 to 6",null,{"$f":"VLOOKUP(F1206,mapping!$L$2:$P$92,2,0)","v":1.3910401768336007},{"$f":"VLOOKUP($F1206,mapping!$L$2:$P$92,3,0)","v":67007.98},{"$f":"VLOOKUP($F1206,mapping!$L$2:$P$92,4,0)","v":"Middle East and North Africa"},{"$f":"$D1206*VLOOKUP($E1206,'Charts data'!$A$2:$B$11,2,0)*VLOOKUP($G1206,'Charts data'!$A$14:$B$18,2,0)/IF('Charts data'!$E$3=1,I1206,1)/IF('Charts data'!$E$4=1,J1206,1)","v":85000}]
["ID0408",63586,"USD",{"$f":"B1207*VLOOKUP(C1207,tblXrate[],2,0)","v":63586},"Manager","UAE","2 to 3",null,{"$f":"VLOOKUP(F1207,mapping!$L$2:$P$92,2,0)","v":1.3910401768336007},{"$f":"VLOOKUP($F1207,mapping!$L$2:$P$92,3,0)","v":67007.98},{"$f":"VLOOKUP($F1207,mapping!$L$2:$P$92,4,0)","v":"Middle East and North Africa"},{"$f":"$D1207*VLOOKUP($E1207,'Charts data'!$A$2:$B$11,2,0)*VLOOKUP($G1207,'Charts data'!$A$14:$B$18,2,0)/IF('Charts data'!$E$3=1,I1207,1)/IF('Charts data'!$E$4=1,J1207,1)","v":63586}]
["ID0506",55500,"USD",{"$f":"B1208*VLOOKUP(C1208,tblXrate[],2,0)","v":55500},"Controller","UAE","4 to 6",null,{"$f":"VLOOKUP(F1208,mapping!$L$2:$P$92,2,0)","v":1.3910401768336007},{"$f":"VLOOKUP($F1208,mapping!$L$2:$P$92,3,0)","v":67007.98},{"$f":"VLOOKUP($F1208,mapping!$L$2:$P$92,4,0)","v":"Middle East and North Africa"},{"$f":"$D1208*VLOOKUP($E1208,'Charts data'!$A$2:$B$11,2,0)*VLOOKUP($G1208,'Charts data'!$A$14:$B$18,2,0)/IF('Charts data'!$E$3=1,I1208,1)/IF('Charts data'!$E$4=1,J1208,1)","v":55500}]
["ID0671",24000,"USD",{"$f":"B1209*VLOOKUP(C1209,tblXrate[],2,0)","v":24000},"Accountant","UAE","2 to 3",15,{"$f":"VLOOKUP(F1209,mapping!$L$2:$P$92,2,0)","v":1.3910401768336007},{"$f":"VLOOKUP($F1209,mapping!$L$2:$P$92,3,0)","v":67007.98},{"$f":"VLOOKUP($F1209,mapping!$L$2:$P$92,4,0)","v":"Middle East and North Africa"},{"$f":"$D1209*VLOOKUP($E1209,'Charts data'!$A$2:$B$11,2,0)*VLOOKUP($G1209,'Charts data'!$A$14:$B$18,2,0)/IF('Charts data'!$E$3=1,I1209,1)/IF('Charts data'!$E$4=1,J1209,1)","v":24000}]
["ID0674",56400,"USD",{"$f":"B1210*VLOOKUP(C1210,tblXrate[],2,0)","v":56400},"Manager","UAE","2 to 3",6,{"$f":"VLOOKUP(F1210,mapping!$L$2:$P$92,2,0)","v":1.3910401768336007},{"$f":"VLOOKUP($F1210,mapping!$L$2:$P$92,3,0)","v":67007.98},{"$f":"VLOOKUP($F1210,mapping!$L$2:$P$92,4,0)","v":"Middle East and North Africa"},{"$f":"$D1210*VLOOKUP($E1210,'Charts data'!$A$2:$B$11,2,0)*VLOOKUP($G1210,'Charts data'!$A$14:$B$18,2,0)/IF('Charts data'!$E$3=1,I1210,1)/IF('Charts data'!$E$4=1,J1210,1)","v":56400}]
["ID0689",33500,"USD",{"$f":"B1211*VLOOKUP(C1211,tblXrate[],2,0)","v":33500},"Accountant","UAE","1 or 2",10,{"$f":"VLOOKUP(F1211,mapping!$L$2:$P$92,2,0)","v":1.3910401768336007},{"$f":"VLOOKUP($F1211,mapping!$L$2:$P$92,3,0)","v":67007.98},{"$f":"VLOOKUP($F1211,mapping!$L$2:$P$92,4,0)","v":"Middle East and North Africa"},{"$f":"$D1211*VLOOKUP($E1211,'Charts data'!$A$2:$B$11,2,0)*VLOOKUP($G1211,'Charts data'!$A$14:$B$18,2,0)/IF('Charts data'!$E$3=1,I1211,1)/IF('Charts data'!$E$4=1,J1211,1)","v":33500}]
["ID0715",12000,"USD",{"$f":"B1212*VLOOKUP(C1212,tblXrate[],2,0)","v":12000},"Analyst","UAE","4 to 6",12,{"$f":"VLOOKUP(F1212,mapping!$L$2:$P$92,2,0)","v":1.3910401768336007},{"$f":"VLOOKUP($F1212,mapping!$L$2:$P$92,3,0)","v":67007.98},{"$f":"VLOOKUP($F1212,mapping!$L$2:$P$92,4,0)","v":"Middle East and North Africa"},{"$f":"$D1212*VLOOKUP($E1212,'Charts data'!$A$2:$B$11,2,0)*VLOOKUP($G1212,'Charts data'!$A$14:$B$18,2,0)/IF('Charts data'!$E$3=1,I1212,1)/IF('Charts data'!$E$4=1,J1212,1)","v":12000}]
["ID0752",36000,"USD",{"$f":"B1213*VLOOKUP(C1213,tblXrate[],2,0)","v":36000},"Engineer","UAE","1 or 2",7,{"$f":"VLOOKUP(F1213,mapping!$L$2:$P$92,2,0)","v":1.3910401768336007},{"$f":"VLOOKUP($F1213,mapping!$L$2:$P$92,3,0)","v":67007.98},{"$f":"VLOOKUP($F1213,mapping!$L$2:$P$92,4,0)","v":"Middle East and North Africa"},{"$f":"$D1213*VLOOKUP($E1213,'Charts data'!$A$2:$B$11,2,0)*VLOOKUP($G1213,'Charts data'!$A$14:$B$18,2,0)/IF('Charts data'!$E$3=1,I1213,1)/IF('Charts data'!$E$4=1,J1213,1)","v":36000}]
["ID0811",60000,"USD",{"$f":"B1214*VLOOKUP(C1214,tblXrate[],2,0)","v":60000},"Manager","UAE","2 to 3",15,{"$f":"VLOOKUP(F1214,mapping!$L$2:$P$92,2,0)","v":1.3910401768336007},{"$f":"VLOOKUP($F1214,mapping!$L$2:$P$92,3,0)","v":67007.98},{"$f":"VLOOKUP($F1214,mapping!$L$2:$P$92,4,0)","v":"Middle East and North Africa"},{"$f":"$D1214*VLOOKUP($E1214,'Charts data'!$A$2:$B$11,2,0)*VLOOKUP($G1214,'Charts data'!$A$14:$B$18,2,0)/IF('Charts data'!$E$3=1,I1214,1)/IF('Charts data'!$E$4=1,J1214,1)","v":60000}]
["ID0877",26400,"USD",{"$f":"B1215*VLOOKUP(C1215,tblXrate[],2,0)","v":26400},"Analyst","UAE","8 Hrs",6,{"$f":"VLOOKUP(F1215,mapping!$L$2:$P$92,2,0)","v":1.3910401768336007},{"$f":"VLOOKUP($F1215,mapping!$L$2:$P$92,3,0)","v":67007.98},{"$f":"VLOOKUP($F1215,mapping!$L$2:$P$92,4,0)","v":"Middle East and North Africa"},{"$f":"$D1215*VLOOKUP($E1215,'Charts data'!$A$2:$B$11,2,0)*VLOOKUP($G1215,'Charts data'!$A$14:$B$18,2,0)/IF('Charts data'!$E$3=1,I1215,1)/IF('Charts data'!$E$4=1,J1215,1)","v":26400}]
["ID0878",12000,"USD",{"$f":"B1216*VLOOKUP(C1216,tblXrate[],2,0)","v":12000},"Manager","UAE","8 Hrs",18,{"$f":"VLOOKUP(F1216,mapping!$L$2:$P$92,2,0)","v":1.3910401768336007},{"$f":"VLOOKUP($F1216,mapping!$L$2:$P$92,3,0)","v":67007.98},{"$f":"VLOOKUP($F1216,mapping!$L$2:$P$92,4,0)","v":"Middle East and North Africa"},{"$f":"$D1216*VLOOKUP($E1216,'Charts data'!$A$2:$B$11,2,0)*VLOOKUP($G1216,'Charts data'!$A$14:$B$18,2,0)/IF('Charts data'!$E$3=1,I1216,1)/IF('Charts data'!$E$4=1,J1216,1)","v":12000}]
["ID0952",36000,"USD",{"$f":"B1217*VLOOKUP(C1217,tblXrate[],2,0)","v":36000},"Accountant","UAE","4 to 6",4.5,{"$f":"VLOOKUP(F1217,mapping!$L$2:$P$92,2,0)","v":1.3910401768336007},{"$f":"VLOOKUP($F1217,mapping!$L$2:$P$92,3,0)","v":67007.98},{"$f":"VLOOKUP($F1217,mapping!$L$2:$P$92,4,0)","v":"Middle East and North Africa"},{"$f":"$D1217*VLOOKUP($E1217,'Charts data'!$A$2:$B$11,2,0)*VLOOKUP($G1217,'Charts data'!$A$14:$B$18,2,0)/IF('Charts data'!$E$3=1,I1217,1)/IF('Charts data'!$E$4=1,J1217,1)","v":36000}]
["ID1453",30000,"USD",{"$f":"B1218*VLOOKUP(C1218,tblXrate[],2,0)","v":30000},"Accountant","UAE","4 to 6",8,{"$f":"VLOOKUP(F1218,mapping!$L$2:$P$92,2,0)","v":1.3910401768336007},{"$f":"VLOOKUP($F1218,mapping!$L$2:$P$92,3,0)","v":67007.98},{"$f":"VLOOKUP($F1218,mapping!$L$2:$P$92,4,0)","v":"Middle East and North Africa"},{"$f":"$D1218*VLOOKUP($E1218,'Charts data'!$A$2:$B$11,2,0)*VLOOKUP($G1218,'Charts data'!$A$14:$B$18,2,0)/IF('Charts data'!$E$3=1,I1218,1)/IF('Charts data'!$E$4=1,J1218,1)","v":30000}]
["ID1772",18000,"USD",{"$f":"B1219*VLOOKUP(C1219,tblXrate[],2,0)","v":18000},"Accountant","UAE","8 Hrs",3,{"$f":"VLOOKUP(F1219,mapping!$L$2:$P$92,2,0)","v":1.3910401768336007},{"$f":"VLOOKUP($F1219,mapping!$L$2:$P$92,3,0)","v":67007.98},{"$f":"VLOOKUP($F1219,mapping!$L$2:$P$92,4,0)","v":"Middle East and North Africa"},{"$f":"$D1219*VLOOKUP($E1219,'Charts data'!$A$2:$B$11,2,0)*VLOOKUP($G1219,'Charts data'!$A$14:$B$18,2,0)/IF('Charts data'!$E$3=1,I1219,1)/IF('Charts data'!$E$4=1,J1219,1)","v":18000}]
["ID1844",60000,"USD",{"$f":"B1220*VLOOKUP(C1220,tblXrate[],2,0)","v":60000},"Analyst","UAE","4 to 6",5,{"$f":"VLOOKUP(F1220,mapping!$L$2:$P$92,2,0)","v":1.3910401768336007},{"$f":"VLOOKUP($F1220,mapping!$L$2:$P$92,3,0)","v":67007.98},{"$f":"VLOOKUP($F1220,mapping!$L$2:$P$92,4,0)","v":"Middle East and North Africa"},{"$f":"$D1220*VLOOKUP($E1220,'Charts data'!$A$2:$B$11,2,0)*VLOOKUP($G1220,'Charts data'!$A$14:$B$18,2,0)/IF('Charts data'!$E$3=1,I1220,1)/IF('Charts data'!$E$4=1,J1220,1)","v":60000}]
["ID1884",100000,"USD",{"$f":"B1221*VLOOKUP(C1221,tblXrate[],2,0)","v":100000},"Manager","UAE","8 Hrs",15,{"$f":"VLOOKUP(F1221,mapping!$L$2:$P$92,2,0)","v":1.3910401768336007},{"$f":"VLOOKUP($F1221,mapping!$L$2:$P$92,3,0)","v":67007.98},{"$f":"VLOOKUP($F1221,mapping!$L$2:$P$92,4,0)","v":"Middle East and North Africa"},{"$f":"$D1221*VLOOKUP($E1221,'Charts data'!$A$2:$B$11,2,0)*VLOOKUP($G1221,'Charts data'!$A$14:$B$18,2,0)/IF('Charts data'!$E$3=1,I1221,1)/IF('Charts data'!$E$4=1,J1221,1)","v":100000}]
["ID1305",100000,"USD",{"$f":"B1222*VLOOKUP(C1222,tblXrate[],2,0)","v":100000},"Analyst","Uganda","4 to 6",17,{"$f":"VLOOKUP(F1222,mapping!$L$2:$P$92,2,0)","v":0.34101295546558708},{"$f":"VLOOKUP($F1222,mapping!$L$2:$P$92,3,0)","v":477.54500000000002},{"$f":"VLOOKUP($F1222,mapping!$L$2:$P$92,4,0)","v":"Sub-Saharan Africa"},{"$f":"$D1222*VLOOKUP($E1222,'Charts data'!$A$2:$B$11,2,0)*VLOOKUP($G1222,'Charts data'!$A$14:$B$18,2,0)/IF('Charts data'!$E$3=1,I1222,1)/IF('Charts data'!$E$4=1,J1222,1)","v":100000}]
["ID0088",81000,"USD",{"$f":"B1223*VLOOKUP(C1223,tblXrate[],2,0)","v":81000},"Consultant","UK","4 to 6",null,{"$f":"VLOOKUP(F1223,mapping!$L$2:$P$92,2,0)","v":1.0513109074688785},{"$f":"VLOOKUP($F1223,mapping!$L$2:$P$92,3,0)","v":38592.1},{"$f":"VLOOKUP($F1223,mapping!$L$2:$P$92,4,0)","v":"Major Advanced Economies (G7)"},{"$f":"$D1223*VLOOKUP($E1223,'Charts data'!$A$2:$B$11,2,0)*VLOOKUP($G1223,'Charts data'!$A$14:$B$18,2,0)/IF('Charts data'!$E$3=1,I1223,1)/IF('Charts data'!$E$4=1,J1223,1)","v":81000}]
["ID0346",100000,"USD",{"$f":"B1224*VLOOKUP(C1224,tblXrate[],2,0)","v":100000},"Analyst","UK","4 to 6",null,{"$f":"VLOOKUP(F1224,mapping!$L$2:$P$92,2,0)","v":1.0513109074688785},{"$f":"VLOOKUP($F1224,mapping!$L$2:$P$92,3,0)","v":38592.1},{"$f":"VLOOKUP($F1224,mapping!$L$2:$P$92,4,0)","v":"Major Advanced Economies (G7)"},{"$f":"$D1224*VLOOKUP($E1224,'Charts data'!$A$2:$B$11,2,0)*VLOOKUP($G1224,'Charts data'!$A$14:$B$18,2,0)/IF('Charts data'!$E$3=1,I1224,1)/IF('Charts data'!$E$4=1,J1224,1)","v":100000}]
["ID0358",170000,"USD",{"$f":"B1225*VLOOKUP(C1225,tblXrate[],2,0)","v":170000},"Analyst","UK","0 Hrs",null,{"$f":"VLOOKUP(F1225,mapping!$L$2:$P$92,2,0)","v":1.0513109074688785},{"$f":"VLOOKUP($F1225,mapping!$L$2:$P$92,3,0)","v":38592.1},{"$f":"VLOOKUP($F1225,mapping!$L$2:$P$92,4,0)","v":"Major Advanced Economies (G7)"},{"$f":"$D1225*VLOOKUP($E1225,'Charts data'!$A$2:$B$11,2,0)*VLOOKUP($G1225,'Charts data'!$A$14:$B$18,2,0)/IF('Charts data'!$E$3=1,I1225,1)/IF('Charts data'!$E$4=1,J1225,1)","v":170000}]
["ID1128",19000,"USD",{"$f":"B1226*VLOOKUP(C1226,tblXrate[],2,0)","v":19000},"Reporting","UK","8 Hrs",8,{"$f":"VLOOKUP(F1226,mapping!$L$2:$P$92,2,0)","v":1.0513109074688785},{"$f":"VLOOKUP($F1226,mapping!$L$2:$P$92,3,0)","v":38592.1},{"$f":"VLOOKUP($F1226,mapping!$L$2:$P$92,4,0)","v":"Major Advanced Economies (G7)"},{"$f":"$D1226*VLOOKUP($E1226,'Charts data'!$A$2:$B$11,2,0)*VLOOKUP($G1226,'Charts data'!$A$14:$B$18,2,0)/IF('Charts data'!$E$3=1,I1226,1)/IF('Charts data'!$E$4=1,J1226,1)","v":19000}]
["ID1164",81600,"USD",{"$f":"B1227*VLOOKUP(C1227,tblXrate[],2,0)","v":81600},"Analyst","UK","4 to 6",4,{"$f":"VLOOKUP(F1227,mapping!$L$2:$P$92,2,0)","v":1.0513109074688785},{"$f":"VLOOKUP($F1227,mapping!$L$2:$P$92,3,0)","v":38592.1},{"$f":"VLOOKUP($F1227,mapping!$L$2:$P$92,4,0)","v":"Major Advanced Economies (G7)"},{"$f":"$D1227*VLOOKUP($E1227,'Charts data'!$A$2:$B$11,2,0)*VLOOKUP($G1227,'Charts data'!$A$14:$B$18,2,0)/IF('Charts data'!$E$3=1,I1227,1)/IF('Charts data'!$E$4=1,J1227,1)","v":81600}]
["ID1200",19000,"USD",{"$f":"B1228*VLOOKUP(C1228,tblXrate[],2,0)","v":19000},"Accountant","UK","4 to 6",20,{"$f":"VLOOKUP(F1228,mapping!$L$2:$P$92,2,0)","v":1.0513109074688785},{"$f":"VLOOKUP($F1228,mapping!$L$2:$P$92,3,0)","v":38592.1},{"$f":"VLOOKUP($F1228,mapping!$L$2:$P$92,4,0)","v":"Major Advanced Economies (G7)"},{"$f":"$D1228*VLOOKUP($E1228,'Charts data'!$A$2:$B$11,2,0)*VLOOKUP($G1228,'Charts data'!$A$14:$B$18,2,0)/IF('Charts data'!$E$3=1,I1228,1)/IF('Charts data'!$E$4=1,J1228,1)","v":19000}]
["ID0008",12000,"USD",{"$f":"B1229*VLOOKUP(C1229,tblXrate[],2,0)","v":12000},"Analyst","Ukraine","8 Hrs",null,{"$f":"VLOOKUP(F1229,mapping!$L$2:$P$92,2,0)","v":0.49399380804953563},{"$f":"VLOOKUP($F1229,mapping!$L$2:$P$92,3,0)","v":3621.22},{"$f":"VLOOKUP($F1229,mapping!$L$2:$P$92,4,0)","v":"Commonwealth of Independent States"},{"$f":"$D1229*VLOOKUP($E1229,'Charts data'!$A$2:$B$11,2,0)*VLOOKUP($G1229,'Charts data'!$A$14:$B$18,2,0)/IF('Charts data'!$E$3=1,I1229,1)/IF('Charts data'!$E$4=1,J1229,1)","v":12000}]
["ID0271",7600,"USD",{"$f":"B1230*VLOOKUP(C1230,tblXrate[],2,0)","v":7600},"Specialist","Ukraine","1 or 2",null,{"$f":"VLOOKUP(F1230,mapping!$L$2:$P$92,2,0)","v":0.49399380804953563},{"$f":"VLOOKUP($F1230,mapping!$L$2:$P$92,3,0)","v":3621.22},{"$f":"VLOOKUP($F1230,mapping!$L$2:$P$92,4,0)","v":"Commonwealth of Independent States"},{"$f":"$D1230*VLOOKUP($E1230,'Charts data'!$A$2:$B$11,2,0)*VLOOKUP($G1230,'Charts data'!$A$14:$B$18,2,0)/IF('Charts data'!$E$3=1,I1230,1)/IF('Charts data'!$E$4=1,J1230,1)","v":7600}]
["ID0385",15000,"USD",{"$f":"B1231*VLOOKUP(C1231,tblXrate[],2,0)","v":15000},"Reporting","Ukraine","2 to 3",null,{"$f":"VLOOKUP(F1231,mapping!$L$2:$P$92,2,0)","v":0.49399380804953563},{"$f":"VLOOKUP($F1231,mapping!$L$2:$P$92,3,0)","v":3621.22},{"$f":"VLOOKUP($F1231,mapping!$L$2:$P$92,4,0)","v":"Commonwealth of Independent States"},{"$f":"$D1231*VLOOKUP($E1231,'Charts data'!$A$2:$B$11,2,0)*VLOOKUP($G1231,'Charts data'!$A$14:$B$18,2,0)/IF('Charts data'!$E$3=1,I1231,1)/IF('Charts data'!$E$4=1,J1231,1)","v":15000}]
["ID0825",12000,"USD",{"$f":"B1232*VLOOKUP(C1232,tblXrate[],2,0)","v":12000},"Manager","Ukraine","4 to 6",5,{"$f":"VLOOKUP(F1232,mapping!$L$2:$P$92,2,0)","v":0.49399380804953563},{"$f":"VLOOKUP($F1232,mapping!$L$2:$P$92,3,0)","v":3621.22},{"$f":"VLOOKUP($F1232,mapping!$L$2:$P$92,4,0)","v":"Commonwealth of Independent States"},{"$f":"$D1232*VLOOKUP($E1232,'Charts data'!$A$2:$B$11,2,0)*VLOOKUP($G1232,'Charts data'!$A$14:$B$18,2,0)/IF('Charts data'!$E$3=1,I1232,1)/IF('Charts data'!$E$4=1,J1232,1)","v":12000}]
["ID0862",35000,"USD",{"$f":"B1233*VLOOKUP(C1233,tblXrate[],2,0)","v":35000},"Manager","Uruguay","8 Hrs",10,{"$f":"VLOOKUP(F1233,mapping!$L$2:$P$92,2,0)","v":0.82232018561484921},{"$f":"VLOOKUP($F1233,mapping!$L$2:$P$92,3,0)","v":13914.33},{"$f":"VLOOKUP($F1233,mapping!$L$2:$P$92,4,0)","v":"Latin America and the Caribbean"},{"$f":"$D1233*VLOOKUP($E1233,'Charts data'!$A$2:$B$11,2,0)*VLOOKUP($G1233,'Charts data'!$A$14:$B$18,2,0)/IF('Charts data'!$E$3=1,I1233,1)/IF('Charts data'!$E$4=1,J1233,1)","v":35000}]
["ID0003",58000,"USD",{"$f":"B1234*VLOOKUP(C1234,tblXrate[],2,0)","v":58000},"Analyst","USA","8 Hrs",null,{"$f":"VLOOKUP(F1234,mapping!$L$2:$P$92,2,0)","v":1},{"$f":"VLOOKUP($F1234,mapping!$L$2:$P$92,3,0)","v":48386.69},{"$f":"VLOOKUP($F1234,mapping!$L$2:$P$92,4,0)","v":"Major Advanced Economies (G7)"},{"$f":"$D1234*VLOOKUP($E1234,'Charts data'!$A$2:$B$11,2,0)*VLOOKUP($G1234,'Charts data'!$A$14:$B$18,2,0)/IF('Charts data'!$E$3=1,I1234,1)/IF('Charts data'!$E$4=1,J1234,1)","v":58000}]
["ID0005",54000,"USD",{"$f":"B1235*VLOOKUP(C1235,tblXrate[],2,0)","v":54000},"Engineer","USA","8 Hrs",null,{"$f":"VLOOKUP(F1235,mapping!$L$2:$P$92,2,0)","v":1},{"$f":"VLOOKUP($F1235,mapping!$L$2:$P$92,3,0)","v":48386.69},{"$f":"VLOOKUP($F1235,mapping!$L$2:$P$92,4,0)","v":"Major Advanced Economies (G7)"},{"$f":"$D1235*VLOOKUP($E1235,'Charts data'!$A$2:$B$11,2,0)*VLOOKUP($G1235,'Charts data'!$A$14:$B$18,2,0)/IF('Charts data'!$E$3=1,I1235,1)/IF('Charts data'!$E$4=1,J1235,1)","v":54000}]
["ID0014",49000,"USD",{"$f":"B1236*VLOOKUP(C1236,tblXrate[],2,0)","v":49000},"Analyst","USA","8 Hrs",null,{"$f":"VLOOKUP(F1236,mapping!$L$2:$P$92,2,0)","v":1},{"$f":"VLOOKUP($F1236,mapping!$L$2:$P$92,3,0)","v":48386.69},{"$f":"VLOOKUP($F1236,mapping!$L$2:$P$92,4,0)","v":"Major Advanced Economies (G7)"},{"$f":"$D1236*VLOOKUP($E1236,'Charts data'!$A$2:$B$11,2,0)*VLOOKUP($G1236,'Charts data'!$A$14:$B$18,2,0)/IF('Charts data'!$E$3=1,I1236,1)/IF('Charts data'!$E$4=1,J1236,1)","v":49000}]
["ID0015",85000,"USD",{"$f":"B1237*VLOOKUP(C1237,tblXrate[],2,0)","v":85000},"Engineer","USA","1 or 2",null,{"$f":"VLOOKUP(F1237,mapping!$L$2:$P$92,2,0)","v":1},{"$f":"VLOOKUP($F1237,mapping!$L$2:$P$92,3,0)","v":48386.69},{"$f":"VLOOKUP($F1237,mapping!$L$2:$P$92,4,0)","v":"Major Advanced Economies (G7)"},{"$f":"$D1237*VLOOKUP($E1237,'Charts data'!$A$2:$B$11,2,0)*VLOOKUP($G1237,'Charts data'!$A$14:$B$18,2,0)/IF('Charts data'!$E$3=1,I1237,1)/IF('Charts data'!$E$4=1,J1237,1)","v":85000}]
["ID0016",75000,"USD",{"$f":"B1238*VLOOKUP(C1238,tblXrate[],2,0)","v":75000},"Engineer","USA","8 Hrs",null,{"$f":"VLOOKUP(F1238,mapping!$L$2:$P$92,2,0)","v":1},{"$f":"VLOOKUP($F1238,mapping!$L$2:$P$92,3,0)","v":48386.69},{"$f":"VLOOKUP($F1238,mapping!$L$2:$P$92,4,0)","v":"Major Advanced Economies (G7)"},{"$f":"$D1238*VLOOKUP($E1238,'Charts data'!$A$2:$B$11,2,0)*VLOOKUP($G1238,'Charts data'!$A$14:$B$18,2,0)/IF('Charts data'!$E$3=1,I1238,1)/IF('Charts data'!$E$4=1,J1238,1)","v":75000}]
["ID0022",96000,"USD",{"$f":"B1239*VLOOKUP(C1239,tblXrate[],2,0)","v":96000},"Analyst","USA","2 to 3",null,{"$f":"VLOOKUP(F1239,mapping!$L$2:$P$92,2,0)","v":1},{"$f":"VLOOKUP($F1239,mapping!$L$2:$P$92,3,0)","v":48386.69},{"$f":"VLOOKUP($F1239,mapping!$L$2:$P$92,4,0)","v":"Major Advanced Economies (G7)"},{"$f":"$D1239*VLOOKUP($E1239,'Charts data'!$A$2:$B$11,2,0)*VLOOKUP($G1239,'Charts data'!$A$14:$B$18,2,0)/IF('Charts data'!$E$3=1,I1239,1)/IF('Charts data'!$E$4=1,J1239,1)","v":96000}]
["ID0024",75000,"USD",{"$f":"B1240*VLOOKUP(C1240,tblXrate[],2,0)","v":75000},"CXO or Top Mgmt.","USA","4 to 6",null,{"$f":"VLOOKUP(F1240,mapping!$L$2:$P$92,2,0)","v":1},{"$f":"VLOOKUP($F1240,mapping!$L$2:$P$92,3,0)","v":48386.69},{"$f":"VLOOKUP($F1240,mapping!$L$2:$P$92,4,0)","v":"Major Advanced Economies (G7)"},{"$f":"$D1240*VLOOKUP($E1240,'Charts data'!$A$2:$B$11,2,0)*VLOOKUP($G1240,'Charts data'!$A$14:$B$18,2,0)/IF('Charts data'!$E$3=1,I1240,1)/IF('Charts data'!$E$4=1,J1240,1)","v":75000}]
["ID0025",40000,"USD",{"$f":"B1241*VLOOKUP(C1241,tblXrate[],2,0)","v":40000},"Manager","USA","2 to 3",null,{"$f":"VLOOKUP(F1241,mapping!$L$2:$P$92,2,0)","v":1},{"$f":"VLOOKUP($F1241,mapping!$L$2:$P$92,3,0)","v":48386.69},{"$f":"VLOOKUP($F1241,mapping!$L$2:$P$92,4,0)","v":"Major Advanced Economies (G7)"},{"$f":"$D1241*VLOOKUP($E1241,'Charts data'!$A$2:$B$11,2,0)*VLOOKUP($G1241,'Charts data'!$A$14:$B$18,2,0)/IF('Charts data'!$E$3=1,I1241,1)/IF('Charts data'!$E$4=1,J1241,1)","v":40000}]
["ID0026",60000,"USD",{"$f":"B1242*VLOOKUP(C1242,tblXrate[],2,0)","v":60000},"Analyst","USA","8 Hrs",null,{"$f":"VLOOKUP(F1242,mapping!$L$2:$P$92,2,0)","v":1},{"$f":"VLOOKUP($F1242,mapping!$L$2:$P$92,3,0)","v":48386.69},{"$f":"VLOOKUP($F1242,mapping!$L$2:$P$92,4,0)","v":"Major Advanced Economies (G7)"},{"$f":"$D1242*VLOOKUP($E1242,'Charts data'!$A$2:$B$11,2,0)*VLOOKUP($G1242,'Charts data'!$A$14:$B$18,2,0)/IF('Charts data'!$E$3=1,I1242,1)/IF('Charts data'!$E$4=1,J1242,1)","v":60000}]
["ID0037",150000,"USD",{"$f":"B1243*VLOOKUP(C1243,tblXrate[],2,0)","v":150000},"Manager","USA","2 to 3",null,{"$f":"VLOOKUP(F1243,mapping!$L$2:$P$92,2,0)","v":1},{"$f":"VLOOKUP($F1243,mapping!$L$2:$P$92,3,0)","v":48386.69},{"$f":"VLOOKUP($F1243,mapping!$L$2:$P$92,4,0)","v":"Major Advanced Economies (G7)"},{"$f":"$D1243*VLOOKUP($E1243,'Charts data'!$A$2:$B$11,2,0)*VLOOKUP($G1243,'Charts data'!$A$14:$B$18,2,0)/IF('Charts data'!$E$3=1,I1243,1)/IF('Charts data'!$E$4=1,J1243,1)","v":150000}]
["ID0038",69000,"USD",{"$f":"B1244*VLOOKUP(C1244,tblXrate[],2,0)","v":69000},"Engineer","USA","4 to 6",null,{"$f":"VLOOKUP(F1244,mapping!$L$2:$P$92,2,0)","v":1},{"$f":"VLOOKUP($F1244,mapping!$L$2:$P$92,3,0)","v":48386.69},{"$f":"VLOOKUP($F1244,mapping!$L$2:$P$92,4,0)","v":"Major Advanced Economies (G7)"},{"$f":"$D1244*VLOOKUP($E1244,'Charts data'!$A$2:$B$11,2,0)*VLOOKUP($G1244,'Charts data'!$A$14:$B$18,2,0)/IF('Charts data'!$E$3=1,I1244,1)/IF('Charts data'!$E$4=1,J1244,1)","v":69000}]
["ID0039",30000,"USD",{"$f":"B1245*VLOOKUP(C1245,tblXrate[],2,0)","v":30000},"Consultant","USA","2 to 3",null,{"$f":"VLOOKUP(F1245,mapping!$L$2:$P$92,2,0)","v":1},{"$f":"VLOOKUP($F1245,mapping!$L$2:$P$92,3,0)","v":48386.69},{"$f":"VLOOKUP($F1245,mapping!$L$2:$P$92,4,0)","v":"Major Advanced Economies (G7)"},{"$f":"$D1245*VLOOKUP($E1245,'Charts data'!$A$2:$B$11,2,0)*VLOOKUP($G1245,'Charts data'!$A$14:$B$18,2,0)/IF('Charts data'!$E$3=1,I1245,1)/IF('Charts data'!$E$4=1,J1245,1)","v":30000}]
["ID0044",58000,"USD",{"$f":"B1246*VLOOKUP(C1246,tblXrate[],2,0)","v":58000},"Accountant","USA","4 to 6",null,{"$f":"VLOOKUP(F1246,mapping!$L$2:$P$92,2,0)","v":1},{"$f":"VLOOKUP($F1246,mapping!$L$2:$P$92,3,0)","v":48386.69},{"$f":"VLOOKUP($F1246,mapping!$L$2:$P$92,4,0)","v":"Major Advanced Economies (G7)"},{"$f":"$D1246*VLOOKUP($E1246,'Charts data'!$A$2:$B$11,2,0)*VLOOKUP($G1246,'Charts data'!$A$14:$B$18,2,0)/IF('Charts data'!$E$3=1,I1246,1)/IF('Charts data'!$E$4=1,J1246,1)","v":58000}]
["ID0045",90000,"USD",{"$f":"B1247*VLOOKUP(C1247,tblXrate[],2,0)","v":90000},"Misc.","USA","1 or 2",null,{"$f":"VLOOKUP(F1247,mapping!$L$2:$P$92,2,0)","v":1},{"$f":"VLOOKUP($F1247,mapping!$L$2:$P$92,3,0)","v":48386.69},{"$f":"VLOOKUP($F1247,mapping!$L$2:$P$92,4,0)","v":"Major Advanced Economies (G7)"},{"$f":"$D1247*VLOOKUP($E1247,'Charts data'!$A$2:$B$11,2,0)*VLOOKUP($G1247,'Charts data'!$A$14:$B$18,2,0)/IF('Charts data'!$E$3=1,I1247,1)/IF('Charts data'!$E$4=1,J1247,1)","v":90000}]
["ID0048",12000,"USD",{"$f":"B1248*VLOOKUP(C1248,tblXrate[],2,0)","v":12000},"Consultant","USA","1 or 2",null,{"$f":"VLOOKUP(F1248,mapping!$L$2:$P$92,2,0)","v":1},{"$f":"VLOOKUP($F1248,mapping!$L$2:$P$92,3,0)","v":48386.69},{"$f":"VLOOKUP($F1248,mapping!$L$2:$P$92,4,0)","v":"Major Advanced Economies (G7)"},{"$f":"$D1248*VLOOKUP($E1248,'Charts data'!$A$2:$B$11,2,0)*VLOOKUP($G1248,'Charts data'!$A$14:$B$18,2,0)/IF('Charts data'!$E$3=1,I1248,1)/IF('Charts data'!$E$4=1,J1248,1)","v":12000}]
["ID0051",57000,"USD",{"$f":"B1249*VLOOKUP(C1249,tblXrate[],2,0)","v":57000},"Accountant","USA","2 to 3",null,{"$f":"VLOOKUP(F1249,mapping!$L$2:$P$92,2,0)","v":1},{"$f":"VLOOKUP($F1249,mapping!$L$2:$P$92,3,0)","v":48386.69},{"$f":"VLOOKUP($F1249,mapping!$L$2:$P$92,4,0)","v":"Major Advanced Economies (G7)"},{"$f":"$D1249*VLOOKUP($E1249,'Charts data'!$A$2:$B$11,2,0)*VLOOKUP($G1249,'Charts data'!$A$14:$B$18,2,0)/IF('Charts data'!$E$3=1,I1249,1)/IF('Charts data'!$E$4=1,J1249,1)","v":57000}]
["ID0055",62000,"USD",{"$f":"B1250*VLOOKUP(C1250,tblXrate[],2,0)","v":62000},"Analyst","USA","4 to 6",null,{"$f":"VLOOKUP(F1250,mapping!$L$2:$P$92,2,0)","v":1},{"$f":"VLOOKUP($F1250,mapping!$L$2:$P$92,3,0)","v":48386.69},{"$f":"VLOOKUP($F1250,mapping!$L$2:$P$92,4,0)","v":"Major Advanced Economies (G7)"},{"$f":"$D1250*VLOOKUP($E1250,'Charts data'!$A$2:$B$11,2,0)*VLOOKUP($G1250,'Charts data'!$A$14:$B$18,2,0)/IF('Charts data'!$E$3=1,I1250,1)/IF('Charts data'!$E$4=1,J1250,1)","v":62000}]
["ID0059",38000,"USD",{"$f":"B1251*VLOOKUP(C1251,tblXrate[],2,0)","v":38000},"Analyst","USA","4 to 6",null,{"$f":"VLOOKUP(F1251,mapping!$L$2:$P$92,2,0)","v":1},{"$f":"VLOOKUP($F1251,mapping!$L$2:$P$92,3,0)","v":48386.69},{"$f":"VLOOKUP($F1251,mapping!$L$2:$P$92,4,0)","v":"Major Advanced Economies (G7)"},{"$f":"$D1251*VLOOKUP($E1251,'Charts data'!$A$2:$B$11,2,0)*VLOOKUP($G1251,'Charts data'!$A$14:$B$18,2,0)/IF('Charts data'!$E$3=1,I1251,1)/IF('Charts data'!$E$4=1,J1251,1)","v":38000}]
["ID0060",41000,"USD",{"$f":"B1252*VLOOKUP(C1252,tblXrate[],2,0)","v":41000},"Specialist","USA","4 to 6",null,{"$f":"VLOOKUP(F1252,mapping!$L$2:$P$92,2,0)","v":1},{"$f":"VLOOKUP($F1252,mapping!$L$2:$P$92,3,0)","v":48386.69},{"$f":"VLOOKUP($F1252,mapping!$L$2:$P$92,4,0)","v":"Major Advanced Economies (G7)"},{"$f":"$D1252*VLOOKUP($E1252,'Charts data'!$A$2:$B$11,2,0)*VLOOKUP($G1252,'Charts data'!$A$14:$B$18,2,0)/IF('Charts data'!$E$3=1,I1252,1)/IF('Charts data'!$E$4=1,J1252,1)","v":41000}]
["ID0061",68000,"USD",{"$f":"B1253*VLOOKUP(C1253,tblXrate[],2,0)","v":68000},"Analyst","USA","8 Hrs",null,{"$f":"VLOOKUP(F1253,mapping!$L$2:$P$92,2,0)","v":1},{"$f":"VLOOKUP($F1253,mapping!$L$2:$P$92,3,0)","v":48386.69},{"$f":"VLOOKUP($F1253,mapping!$L$2:$P$92,4,0)","v":"Major Advanced Economies (G7)"},{"$f":"$D1253*VLOOKUP($E1253,'Charts data'!$A$2:$B$11,2,0)*VLOOKUP($G1253,'Charts data'!$A$14:$B$18,2,0)/IF('Charts data'!$E$3=1,I1253,1)/IF('Charts data'!$E$4=1,J1253,1)","v":68000}]
["ID0065",85000,"USD",{"$f":"B1254*VLOOKUP(C1254,tblXrate[],2,0)","v":85000},"Manager","USA","4 to 6",null,{"$f":"VLOOKUP(F1254,mapping!$L$2:$P$92,2,0)","v":1},{"$f":"VLOOKUP($F1254,mapping!$L$2:$P$92,3,0)","v":48386.69},{"$f":"VLOOKUP($F1254,mapping!$L$2:$P$92,4,0)","v":"Major Advanced Economies (G7)"},{"$f":"$D1254*VLOOKUP($E1254,'Charts data'!$A$2:$B$11,2,0)*VLOOKUP($G1254,'Charts data'!$A$14:$B$18,2,0)/IF('Charts data'!$E$3=1,I1254,1)/IF('Charts data'!$E$4=1,J1254,1)","v":85000}]
["ID0068",85087,"USD",{"$f":"B1255*VLOOKUP(C1255,tblXrate[],2,0)","v":85087},"Analyst","USA","2 to 3",null,{"$f":"VLOOKUP(F1255,mapping!$L$2:$P$92,2,0)","v":1},{"$f":"VLOOKUP($F1255,mapping!$L$2:$P$92,3,0)","v":48386.69},{"$f":"VLOOKUP($F1255,mapping!$L$2:$P$92,4,0)","v":"Major Advanced Economies (G7)"},{"$f":"$D1255*VLOOKUP($E1255,'Charts data'!$A$2:$B$11,2,0)*VLOOKUP($G1255,'Charts data'!$A$14:$B$18,2,0)/IF('Charts data'!$E$3=1,I1255,1)/IF('Charts data'!$E$4=1,J1255,1)","v":85087}]
["ID0069",50000,"USD",{"$f":"B1256*VLOOKUP(C1256,tblXrate[],2,0)","v":50000},"Analyst","USA","8 Hrs",null,{"$f":"VLOOKUP(F1256,mapping!$L$2:$P$92,2,0)","v":1},{"$f":"VLOOKUP($F1256,mapping!$L$2:$P$92,3,0)","v":48386.69},{"$f":"VLOOKUP($F1256,mapping!$L$2:$P$92,4,0)","v":"Major Advanced Economies (G7)"},{"$f":"$D1256*VLOOKUP($E1256,'Charts data'!$A$2:$B$11,2,0)*VLOOKUP($G1256,'Charts data'!$A$14:$B$18,2,0)/IF('Charts data'!$E$3=1,I1256,1)/IF('Charts data'!$E$4=1,J1256,1)","v":50000}]
["ID0071",57000,"USD",{"$f":"B1257*VLOOKUP(C1257,tblXrate[],2,0)","v":57000},"Analyst","USA","4 to 6",null,{"$f":"VLOOKUP(F1257,mapping!$L$2:$P$92,2,0)","v":1},{"$f":"VLOOKUP($F1257,mapping!$L$2:$P$92,3,0)","v":48386.69},{"$f":"VLOOKUP($F1257,mapping!$L$2:$P$92,4,0)","v":"Major Advanced Economies (G7)"},{"$f":"$D1257*VLOOKUP($E1257,'Charts data'!$A$2:$B$11,2,0)*VLOOKUP($G1257,'Charts data'!$A$14:$B$18,2,0)/IF('Charts data'!$E$3=1,I1257,1)/IF('Charts data'!$E$4=1,J1257,1)","v":57000}]
["ID0072",75000,"USD",{"$f":"B1258*VLOOKUP(C1258,tblXrate[],2,0)","v":75000},"Manager","USA","8 Hrs",null,{"$f":"VLOOKUP(F1258,mapping!$L$2:$P$92,2,0)","v":1},{"$f":"VLOOKUP($F1258,mapping!$L$2:$P$92,3,0)","v":48386.69},{"$f":"VLOOKUP($F1258,mapping!$L$2:$P$92,4,0)","v":"Major Advanced Economies (G7)"},{"$f":"$D1258*VLOOKUP($E1258,'Charts data'!$A$2:$B$11,2,0)*VLOOKUP($G1258,'Charts data'!$A$14:$B$18,2,0)/IF('Charts data'!$E$3=1,I1258,1)/IF('Charts data'!$E$4=1,J1258,1)","v":75000}]
["ID0076",15000,"USD",{"$f":"B1259*VLOOKUP(C1259,tblXrate[],2,0)","v":15000},"Consultant","USA","8 Hrs",null,{"$f":"VLOOKUP(F1259,mapping!$L$2:$P$92,2,0)","v":1},{"$f":"VLOOKUP($F1259,mapping!$L$2:$P$92,3,0)","v":48386.69},{"$f":"VLOOKUP($F1259,mapping!$L$2:$P$92,4,0)","v":"Major Advanced Economies (G7)"},{"$f":"$D1259*VLOOKUP($E1259,'Charts data'!$A$2:$B$11,2,0)*VLOOKUP($G1259,'Charts data'!$A$14:$B$18,2,0)/IF('Charts data'!$E$3=1,I1259,1)/IF('Charts data'!$E$4=1,J1259,1)","v":15000}]
["ID0080",50000,"USD",{"$f":"B1260*VLOOKUP(C1260,tblXrate[],2,0)","v":50000},"Manager","USA","2 to 3",null,{"$f":"VLOOKUP(F1260,mapping!$L$2:$P$92,2,0)","v":1},{"$f":"VLOOKUP($F1260,mapping!$L$2:$P$92,3,0)","v":48386.69},{"$f":"VLOOKUP($F1260,mapping!$L$2:$P$92,4,0)","v":"Major Advanced Economies (G7)"},{"$f":"$D1260*VLOOKUP($E1260,'Charts data'!$A$2:$B$11,2,0)*VLOOKUP($G1260,'Charts data'!$A$14:$B$18,2,0)/IF('Charts data'!$E$3=1,I1260,1)/IF('Charts data'!$E$4=1,J1260,1)","v":50000}]
["ID0083",150000,"USD",{"$f":"B1261*VLOOKUP(C1261,tblXrate[],2,0)","v":150000},"CXO or Top Mgmt.","USA","8 Hrs",null,{"$f":"VLOOKUP(F1261,mapping!$L$2:$P$92,2,0)","v":1},{"$f":"VLOOKUP($F1261,mapping!$L$2:$P$92,3,0)","v":48386.69},{"$f":"VLOOKUP($F1261,mapping!$L$2:$P$92,4,0)","v":"Major Advanced Economies (G7)"},{"$f":"$D1261*VLOOKUP($E1261,'Charts data'!$A$2:$B$11,2,0)*VLOOKUP($G1261,'Charts data'!$A$14:$B$18,2,0)/IF('Charts data'!$E$3=1,I1261,1)/IF('Charts data'!$E$4=1,J1261,1)","v":150000}]
["ID0084",120000,"USD",{"$f":"B1262*VLOOKUP(C1262,tblXrate[],2,0)","v":120000},"Manager","USA","4 to 6",null,{"$f":"VLOOKUP(F1262,mapping!$L$2:$P$92,2,0)","v":1},{"$f":"VLOOKUP($F1262,mapping!$L$2:$P$92,3,0)","v":48386.69},{"$f":"VLOOKUP($F1262,mapping!$L$2:$P$92,4,0)","v":"Major Advanced Economies (G7)"},{"$f":"$D1262*VLOOKUP($E1262,'Charts data'!$A$2:$B$11,2,0)*VLOOKUP($G1262,'Charts data'!$A$14:$B$18,2,0)/IF('Charts data'!$E$3=1,I1262,1)/IF('Charts data'!$E$4=1,J1262,1)","v":120000}]
["ID0087",110000,"USD",{"$f":"B1263*VLOOKUP(C1263,tblXrate[],2,0)","v":110000},"Engineer","USA","2 to 3",null,{"$f":"VLOOKUP(F1263,mapping!$L$2:$P$92,2,0)","v":1},{"$f":"VLOOKUP($F1263,mapping!$L$2:$P$92,3,0)","v":48386.69},{"$f":"VLOOKUP($F1263,mapping!$L$2:$P$92,4,0)","v":"Major Advanced Economies (G7)"},{"$f":"$D1263*VLOOKUP($E1263,'Charts data'!$A$2:$B$11,2,0)*VLOOKUP($G1263,'Charts data'!$A$14:$B$18,2,0)/IF('Charts data'!$E$3=1,I1263,1)/IF('Charts data'!$E$4=1,J1263,1)","v":110000}]
["ID0089",40000,"USD",{"$f":"B1264*VLOOKUP(C1264,tblXrate[],2,0)","v":40000},"Analyst","USA","4 to 6",null,{"$f":"VLOOKUP(F1264,mapping!$L$2:$P$92,2,0)","v":1},{"$f":"VLOOKUP($F1264,mapping!$L$2:$P$92,3,0)","v":48386.69},{"$f":"VLOOKUP($F1264,mapping!$L$2:$P$92,4,0)","v":"Major Advanced Economies (G7)"},{"$f":"$D1264*VLOOKUP($E1264,'Charts data'!$A$2:$B$11,2,0)*VLOOKUP($G1264,'Charts data'!$A$14:$B$18,2,0)/IF('Charts data'!$E$3=1,I1264,1)/IF('Charts data'!$E$4=1,J1264,1)","v":40000}]
["ID0091",125000,"USD",{"$f":"B1265*VLOOKUP(C1265,tblXrate[],2,0)","v":125000},"CXO or Top Mgmt.","USA","4 to 6",null,{"$f":"VLOOKUP(F1265,mapping!$L$2:$P$92,2,0)","v":1},{"$f":"VLOOKUP($F1265,mapping!$L$2:$P$92,3,0)","v":48386.69},{"$f":"VLOOKUP($F1265,mapping!$L$2:$P$92,4,0)","v":"Major Advanced Economies (G7)"},{"$f":"$D1265*VLOOKUP($E1265,'Charts data'!$A$2:$B$11,2,0)*VLOOKUP($G1265,'Charts data'!$A$14:$B$18,2,0)/IF('Charts data'!$E$3=1,I1265,1)/IF('Charts data'!$E$4=1,J1265,1)","v":125000}]
["ID0092",36000,"USD",{"$f":"B1266*VLOOKUP(C1266,tblXrate[],2,0)","v":36000},"Manager","USA","2 to 3",null,{"$f":"VLOOKUP(F1266,mapping!$L$2:$P$92,2,0)","v":1},{"$f":"VLOOKUP($F1266,mapping!$L$2:$P$92,3,0)","v":48386.69},{"$f":"VLOOKUP($F1266,mapping!$L$2:$P$92,4,0)","v":"Major Advanced Economies (G7)"},{"$f":"$D1266*VLOOKUP($E1266,'Charts data'!$A$2:$B$11,2,0)*VLOOKUP($G1266,'Charts data'!$A$14:$B$18,2,0)/IF('Charts data'!$E$3=1,I1266,1)/IF('Charts data'!$E$4=1,J1266,1)","v":36000}]
["ID0094",75000,"USD",{"$f":"B1267*VLOOKUP(C1267,tblXrate[],2,0)","v":75000},"Analyst","USA","1 or 2",null,{"$f":"VLOOKUP(F1267,mapping!$L$2:$P$92,2,0)","v":1},{"$f":"VLOOKUP($F1267,mapping!$L$2:$P$92,3,0)","v":48386.69},{"$f":"VLOOKUP($F1267,mapping!$L$2:$P$92,4,0)","v":"Major Advanced Economies (G7)"},{"$f":"$D1267*VLOOKUP($E1267,'Charts data'!$A$2:$B$11,2,0)*VLOOKUP($G1267,'Charts data'!$A$14:$B$18,2,0)/IF('Charts data'!$E$3=1,I1267,1)/IF('Charts data'!$E$4=1,J1267,1)","v":75000}]
["ID0095",95000,"USD",{"$f":"B1268*VLOOKUP(C1268,tblXrate[],2,0)","v":95000},"CXO or Top Mgmt.","USA","4 to 6",null,{"$f":"VLOOKUP(F1268,mapping!$L$2:$P$92,2,0)","v":1},{"$f":"VLOOKUP($F1268,mapping!$L$2:$P$92,3,0)","v":48386.69},{"$f":"VLOOKUP($F1268,mapping!$L$2:$P$92,4,0)","v":"Major Advanced Economies (G7)"},{"$f":"$D1268*VLOOKUP($E1268,'Charts data'!$A$2:$B$11,2,0)*VLOOKUP($G1268,'Charts data'!$A$14:$B$18,2,0)/IF('Charts data'!$E$3=1,I1268,1)/IF('Charts data'!$E$4=1,J1268,1)","v":95000}]
["ID0096",24000,"USD",{"$f":"B1269*VLOOKUP(C1269,tblXrate[],2,0)","v":24000},"Manager","USA","2 to 3",null,{"$f":"VLOOKUP(F1269,mapping!$L$2:$P$92,2,0)","v":1},{"$f":"VLOOKUP($F1269,mapping!$L$2:$P$92,3,0)","v":48386.69},{"$f":"VLOOKUP($F1269,mapping!$L$2:$P$92,4,0)","v":"Major Advanced Economies (G7)"},{"$f":"$D1269*VLOOKUP($E1269,'Charts data'!$A$2:$B$11,2,0)*VLOOKUP($G1269,'Charts data'!$A$14:$B$18,2,0)/IF('Charts data'!$E$3=1,I1269,1)/IF('Charts data'!$E$4=1,J1269,1)","v":24000}]
["ID0097",91000,"USD",{"$f":"B1270*VLOOKUP(C1270,tblXrate[],2,0)","v":91000},"Manager","USA","1 or 2",null,{"$f":"VLOOKUP(F1270,mapping!$L$2:$P$92,2,0)","v":1},{"$f":"VLOOKUP($F1270,mapping!$L$2:$P$92,3,0)","v":48386.69},{"$f":"VLOOKUP($F1270,mapping!$L$2:$P$92,4,0)","v":"Major Advanced Economies (G7)"},{"$f":"$D1270*VLOOKUP($E1270,'Charts data'!$A$2:$B$11,2,0)*VLOOKUP($G1270,'Charts data'!$A$14:$B$18,2,0)/IF('Charts data'!$E$3=1,I1270,1)/IF('Charts data'!$E$4=1,J1270,1)","v":91000}]
["ID0098",40000,"USD",{"$f":"B1271*VLOOKUP(C1271,tblXrate[],2,0)","v":40000},"Analyst","USA","4 to 6",null,{"$f":"VLOOKUP(F1271,mapping!$L$2:$P$92,2,0)","v":1},{"$f":"VLOOKUP($F1271,mapping!$L$2:$P$92,3,0)","v":48386.69},{"$f":"VLOOKUP($F1271,mapping!$L$2:$P$92,4,0)","v":"Major Advanced Economies (G7)"},{"$f":"$D1271*VLOOKUP($E1271,'Charts data'!$A$2:$B$11,2,0)*VLOOKUP($G1271,'Charts data'!$A$14:$B$18,2,0)/IF('Charts data'!$E$3=1,I1271,1)/IF('Charts data'!$E$4=1,J1271,1)","v":40000}]
["ID0099",57000,"USD",{"$f":"B1272*VLOOKUP(C1272,tblXrate[],2,0)","v":57000},"Manager","USA","4 to 6",null,{"$f":"VLOOKUP(F1272,mapping!$L$2:$P$92,2,0)","v":1},{"$f":"VLOOKUP($F1272,mapping!$L$2:$P$92,3,0)","v":48386.69},{"$f":"VLOOKUP($F1272,mapping!$L$2:$P$92,4,0)","v":"Major Advanced Economies (G7)"},{"$f":"$D1272*VLOOKUP($E1272,'Charts data'!$A$2:$B$11,2,0)*VLOOKUP($G1272,'Charts data'!$A$14:$B$18,2,0)/IF('Charts data'!$E$3=1,I1272,1)/IF('Charts data'!$E$4=1,J1272,1)","v":57000}]
["ID0100",74000,"USD",{"$f":"B1273*VLOOKUP(C1273,tblXrate[],2,0)","v":74000},"Consultant","USA","4 to 6",null,{"$f":"VLOOKUP(F1273,mapping!$L$2:$P$92,2,0)","v":1},{"$f":"VLOOKUP($F1273,mapping!$L$2:$P$92,3,0)","v":48386.69},{"$f":"VLOOKUP($F1273,mapping!$L$2:$P$92,4,0)","v":"Major Advanced Economies (G7)"},{"$f":"$D1273*VLOOKUP($E1273,'Charts data'!$A$2:$B$11,2,0)*VLOOKUP($G1273,'Charts data'!$A$14:$B$18,2,0)/IF('Charts data'!$E$3=1,I1273,1)/IF('Charts data'!$E$4=1,J1273,1)","v":74000}]
["ID0101",80000,"USD",{"$f":"B1274*VLOOKUP(C1274,tblXrate[],2,0)","v":80000},"Analyst","USA","4 to 6",null,{"$f":"VLOOKUP(F1274,mapping!$L$2:$P$92,2,0)","v":1},{"$f":"VLOOKUP($F1274,mapping!$L$2:$P$92,3,0)","v":48386.69},{"$f":"VLOOKUP($F1274,mapping!$L$2:$P$92,4,0)","v":"Major Advanced Economies (G7)"},{"$f":"$D1274*VLOOKUP($E1274,'Charts data'!$A$2:$B$11,2,0)*VLOOKUP($G1274,'Charts data'!$A$14:$B$18,2,0)/IF('Charts data'!$E$3=1,I1274,1)/IF('Charts data'!$E$4=1,J1274,1)","v":80000}]
["ID0102",90000,"USD",{"$f":"B1275*VLOOKUP(C1275,tblXrate[],2,0)","v":90000},"Specialist","USA","4 to 6",null,{"$f":"VLOOKUP(F1275,mapping!$L$2:$P$92,2,0)","v":1},{"$f":"VLOOKUP($F1275,mapping!$L$2:$P$92,3,0)","v":48386.69},{"$f":"VLOOKUP($F1275,mapping!$L$2:$P$92,4,0)","v":"Major Advanced Economies (G7)"},{"$f":"$D1275*VLOOKUP($E1275,'Charts data'!$A$2:$B$11,2,0)*VLOOKUP($G1275,'Charts data'!$A$14:$B$18,2,0)/IF('Charts data'!$E$3=1,I1275,1)/IF('Charts data'!$E$4=1,J1275,1)","v":90000}]
["ID0104",52000,"USD",{"$f":"B1276*VLOOKUP(C1276,tblXrate[],2,0)","v":52000},"Manager","USA","4 to 6",null,{"$f":"VLOOKUP(F1276,mapping!$L$2:$P$92,2,0)","v":1},{"$f":"VLOOKUP($F1276,mapping!$L$2:$P$92,3,0)","v":48386.69},{"$f":"VLOOKUP($F1276,mapping!$L$2:$P$92,4,0)","v":"Major Advanced Economies (G7)"},{"$f":"$D1276*VLOOKUP($E1276,'Charts data'!$A$2:$B$11,2,0)*VLOOKUP($G1276,'Charts data'!$A$14:$B$18,2,0)/IF('Charts data'!$E$3=1,I1276,1)/IF('Charts data'!$E$4=1,J1276,1)","v":52000}]
["ID0106",36000,"USD",{"$f":"B1277*VLOOKUP(C1277,tblXrate[],2,0)","v":36000},"Analyst","USA","4 to 6",null,{"$f":"VLOOKUP(F1277,mapping!$L$2:$P$92,2,0)","v":1},{"$f":"VLOOKUP($F1277,mapping!$L$2:$P$92,3,0)","v":48386.69},{"$f":"VLOOKUP($F1277,mapping!$L$2:$P$92,4,0)","v":"Major Advanced Economies (G7)"},{"$f":"$D1277*VLOOKUP($E1277,'Charts data'!$A$2:$B$11,2,0)*VLOOKUP($G1277,'Charts data'!$A$14:$B$18,2,0)/IF('Charts data'!$E$3=1,I1277,1)/IF('Charts data'!$E$4=1,J1277,1)","v":36000}]
["ID0107",57400,"USD",{"$f":"B1278*VLOOKUP(C1278,tblXrate[],2,0)","v":57400},"Analyst","USA","4 to 6",null,{"$f":"VLOOKUP(F1278,mapping!$L$2:$P$92,2,0)","v":1},{"$f":"VLOOKUP($F1278,mapping!$L$2:$P$92,3,0)","v":48386.69},{"$f":"VLOOKUP($F1278,mapping!$L$2:$P$92,4,0)","v":"Major Advanced Economies (G7)"},{"$f":"$D1278*VLOOKUP($E1278,'Charts data'!$A$2:$B$11,2,0)*VLOOKUP($G1278,'Charts data'!$A$14:$B$18,2,0)/IF('Charts data'!$E$3=1,I1278,1)/IF('Charts data'!$E$4=1,J1278,1)","v":57400}]
["ID0108",66000,"USD",{"$f":"B1279*VLOOKUP(C1279,tblXrate[],2,0)","v":66000},"Analyst","USA","2 to 3",null,{"$f":"VLOOKUP(F1279,mapping!$L$2:$P$92,2,0)","v":1},{"$f":"VLOOKUP($F1279,mapping!$L$2:$P$92,3,0)","v":48386.69},{"$f":"VLOOKUP($F1279,mapping!$L$2:$P$92,4,0)","v":"Major Advanced Economies (G7)"},{"$f":"$D1279*VLOOKUP($E1279,'Charts data'!$A$2:$B$11,2,0)*VLOOKUP($G1279,'Charts data'!$A$14:$B$18,2,0)/IF('Charts data'!$E$3=1,I1279,1)/IF('Charts data'!$E$4=1,J1279,1)","v":66000}]
["ID0111",85000,"USD",{"$f":"B1280*VLOOKUP(C1280,tblXrate[],2,0)","v":85000},"Analyst","USA","4 to 6",null,{"$f":"VLOOKUP(F1280,mapping!$L$2:$P$92,2,0)","v":1},{"$f":"VLOOKUP($F1280,mapping!$L$2:$P$92,3,0)","v":48386.69},{"$f":"VLOOKUP($F1280,mapping!$L$2:$P$92,4,0)","v":"Major Advanced Economies (G7)"},{"$f":"$D1280*VLOOKUP($E1280,'Charts data'!$A$2:$B$11,2,0)*VLOOKUP($G1280,'Charts data'!$A$14:$B$18,2,0)/IF('Charts data'!$E$3=1,I1280,1)/IF('Charts data'!$E$4=1,J1280,1)","v":85000}]
["ID0112",50000,"USD",{"$f":"B1281*VLOOKUP(C1281,tblXrate[],2,0)","v":50000},"Specialist","USA","4 to 6",null,{"$f":"VLOOKUP(F1281,mapping!$L$2:$P$92,2,0)","v":1},{"$f":"VLOOKUP($F1281,mapping!$L$2:$P$92,3,0)","v":48386.69},{"$f":"VLOOKUP($F1281,mapping!$L$2:$P$92,4,0)","v":"Major Advanced Economies (G7)"},{"$f":"$D1281*VLOOKUP($E1281,'Charts data'!$A$2:$B$11,2,0)*VLOOKUP($G1281,'Charts data'!$A$14:$B$18,2,0)/IF('Charts data'!$E$3=1,I1281,1)/IF('Charts data'!$E$4=1,J1281,1)","v":50000}]
["ID0113",58000,"USD",{"$f":"B1282*VLOOKUP(C1282,tblXrate[],2,0)","v":58000},"Manager","USA","4 to 6",null,{"$f":"VLOOKUP(F1282,mapping!$L$2:$P$92,2,0)","v":1},{"$f":"VLOOKUP($F1282,mapping!$L$2:$P$92,3,0)","v":48386.69},{"$f":"VLOOKUP($F1282,mapping!$L$2:$P$92,4,0)","v":"Major Advanced Economies (G7)"},{"$f":"$D1282*VLOOKUP($E1282,'Charts data'!$A$2:$B$11,2,0)*VLOOKUP($G1282,'Charts data'!$A$14:$B$18,2,0)/IF('Charts data'!$E$3=1,I1282,1)/IF('Charts data'!$E$4=1,J1282,1)","v":58000}]
["ID0114",37900,"USD",{"$f":"B1283*VLOOKUP(C1283,tblXrate[],2,0)","v":37900},"Accountant","USA","8 Hrs",null,{"$f":"VLOOKUP(F1283,mapping!$L$2:$P$92,2,0)","v":1},{"$f":"VLOOKUP($F1283,mapping!$L$2:$P$92,3,0)","v":48386.69},{"$f":"VLOOKUP($F1283,mapping!$L$2:$P$92,4,0)","v":"Major Advanced Economies (G7)"},{"$f":"$D1283*VLOOKUP($E1283,'Charts data'!$A$2:$B$11,2,0)*VLOOKUP($G1283,'Charts data'!$A$14:$B$18,2,0)/IF('Charts data'!$E$3=1,I1283,1)/IF('Charts data'!$E$4=1,J1283,1)","v":37900}]
["ID0116",67000,"USD",{"$f":"B1284*VLOOKUP(C1284,tblXrate[],2,0)","v":67000},"Analyst","USA","4 to 6",null,{"$f":"VLOOKUP(F1284,mapping!$L$2:$P$92,2,0)","v":1},{"$f":"VLOOKUP($F1284,mapping!$L$2:$P$92,3,0)","v":48386.69},{"$f":"VLOOKUP($F1284,mapping!$L$2:$P$92,4,0)","v":"Major Advanced Economies (G7)"},{"$f":"$D1284*VLOOKUP($E1284,'Charts data'!$A$2:$B$11,2,0)*VLOOKUP($G1284,'Charts data'!$A$14:$B$18,2,0)/IF('Charts data'!$E$3=1,I1284,1)/IF('Charts data'!$E$4=1,J1284,1)","v":67000}]
["ID0118",56160,"USD",{"$f":"B1285*VLOOKUP(C1285,tblXrate[],2,0)","v":56160},"Analyst","USA","4 to 6",null,{"$f":"VLOOKUP(F1285,mapping!$L$2:$P$92,2,0)","v":1},{"$f":"VLOOKUP($F1285,mapping!$L$2:$P$92,3,0)","v":48386.69},{"$f":"VLOOKUP($F1285,mapping!$L$2:$P$92,4,0)","v":"Major Advanced Economies (G7)"},{"$f":"$D1285*VLOOKUP($E1285,'Charts data'!$A$2:$B$11,2,0)*VLOOKUP($G1285,'Charts data'!$A$14:$B$18,2,0)/IF('Charts data'!$E$3=1,I1285,1)/IF('Charts data'!$E$4=1,J1285,1)","v":56160}]
["ID0120",52000,"USD",{"$f":"B1286*VLOOKUP(C1286,tblXrate[],2,0)","v":52000},"Analyst","USA","0 Hrs",null,{"$f":"VLOOKUP(F1286,mapping!$L$2:$P$92,2,0)","v":1},{"$f":"VLOOKUP($F1286,mapping!$L$2:$P$92,3,0)","v":48386.69},{"$f":"VLOOKUP($F1286,mapping!$L$2:$P$92,4,0)","v":"Major Advanced Economies (G7)"},{"$f":"$D1286*VLOOKUP($E1286,'Charts data'!$A$2:$B$11,2,0)*VLOOKUP($G1286,'Charts data'!$A$14:$B$18,2,0)/IF('Charts data'!$E$3=1,I1286,1)/IF('Charts data'!$E$4=1,J1286,1)","v":52000}]
["ID0122",70000,"USD",{"$f":"B1287*VLOOKUP(C1287,tblXrate[],2,0)","v":70000},"Accountant","USA","8 Hrs",null,{"$f":"VLOOKUP(F1287,mapping!$L$2:$P$92,2,0)","v":1},{"$f":"VLOOKUP($F1287,mapping!$L$2:$P$92,3,0)","v":48386.69},{"$f":"VLOOKUP($F1287,mapping!$L$2:$P$92,4,0)","v":"Major Advanced Economies (G7)"},{"$f":"$D1287*VLOOKUP($E1287,'Charts data'!$A$2:$B$11,2,0)*VLOOKUP($G1287,'Charts data'!$A$14:$B$18,2,0)/IF('Charts data'!$E$3=1,I1287,1)/IF('Charts data'!$E$4=1,J1287,1)","v":70000}]
["ID0123",50000,"USD",{"$f":"B1288*VLOOKUP(C1288,tblXrate[],2,0)","v":50000},"Specialist","USA","4 to 6",null,{"$f":"VLOOKUP(F1288,mapping!$L$2:$P$92,2,0)","v":1},{"$f":"VLOOKUP($F1288,mapping!$L$2:$P$92,3,0)","v":48386.69},{"$f":"VLOOKUP($F1288,mapping!$L$2:$P$92,4,0)","v":"Major Advanced Economies (G7)"},{"$f":"$D1288*VLOOKUP($E1288,'Charts data'!$A$2:$B$11,2,0)*VLOOKUP($G1288,'Charts data'!$A$14:$B$18,2,0)/IF('Charts data'!$E$3=1,I1288,1)/IF('Charts data'!$E$4=1,J1288,1)","v":50000}]
["ID0125",80000,"USD",{"$f":"B1289*VLOOKUP(C1289,tblXrate[],2,0)","v":80000},"Analyst","USA","4 to 6",null,{"$f":"VLOOKUP(F1289,mapping!$L$2:$P$92,2,0)","v":1},{"$f":"VLOOKUP($F1289,mapping!$L$2:$P$92,3,0)","v":48386.69},{"$f":"VLOOKUP($F1289,mapping!$L$2:$P$92,4,0)","v":"Major Advanced Economies (G7)"},{"$f":"$D1289*VLOOKUP($E1289,'Charts data'!$A$2:$B$11,2,0)*VLOOKUP($G1289,'Charts data'!$A$14:$B$18,2,0)/IF('Charts data'!$E$3=1,I1289,1)/IF('Charts data'!$E$4=1,J1289,1)","v":80000}]
["ID0126",128000,"USD",{"$f":"B1290*VLOOKUP(C1290,tblXrate[],2,0)","v":128000},"Manager","USA","8 Hrs",null,{"$f":"VLOOKUP(F1290,mapping!$L$2:$P$92,2,0)","v":1},{"$f":"VLOOKUP($F1290,mapping!$L$2:$P$92,3,0)","v":48386.69},{"$f":"VLOOKUP($F1290,mapping!$L$2:$P$92,4,0)","v":"Major Advanced Economies (G7)"},{"$f":"$D1290*VLOOKUP($E1290,'Charts data'!$A$2:$B$11,2,0)*VLOOKUP($G1290,'Charts data'!$A$14:$B$18,2,0)/IF('Charts data'!$E$3=1,I1290,1)/IF('Charts data'!$E$4=1,J1290,1)","v":128000}]
["ID0127",44000,"USD",{"$f":"B1291*VLOOKUP(C1291,tblXrate[],2,0)","v":44000},"Manager","USA","1 or 2",null,{"$f":"VLOOKUP(F1291,mapping!$L$2:$P$92,2,0)","v":1},{"$f":"VLOOKUP($F1291,mapping!$L$2:$P$92,3,0)","v":48386.69},{"$f":"VLOOKUP($F1291,mapping!$L$2:$P$92,4,0)","v":"Major Advanced Economies (G7)"},{"$f":"$D1291*VLOOKUP($E1291,'Charts data'!$A$2:$B$11,2,0)*VLOOKUP($G1291,'Charts data'!$A$14:$B$18,2,0)/IF('Charts data'!$E$3=1,I1291,1)/IF('Charts data'!$E$4=1,J1291,1)","v":44000}]
["ID0128",65000,"USD",{"$f":"B1292*VLOOKUP(C1292,tblXrate[],2,0)","v":65000},"Accountant","USA","8 Hrs",null,{"$f":"VLOOKUP(F1292,mapping!$L$2:$P$92,2,0)","v":1},{"$f":"VLOOKUP($F1292,mapping!$L$2:$P$92,3,0)","v":48386.69},{"$f":"VLOOKUP($F1292,mapping!$L$2:$P$92,4,0)","v":"Major Advanced Economies (G7)"},{"$f":"$D1292*VLOOKUP($E1292,'Charts data'!$A$2:$B$11,2,0)*VLOOKUP($G1292,'Charts data'!$A$14:$B$18,2,0)/IF('Charts data'!$E$3=1,I1292,1)/IF('Charts data'!$E$4=1,J1292,1)","v":65000}]
["ID0132",45000,"USD",{"$f":"B1293*VLOOKUP(C1293,tblXrate[],2,0)","v":45000},"Analyst","USA","4 to 6",null,{"$f":"VLOOKUP(F1293,mapping!$L$2:$P$92,2,0)","v":1},{"$f":"VLOOKUP($F1293,mapping!$L$2:$P$92,3,0)","v":48386.69},{"$f":"VLOOKUP($F1293,mapping!$L$2:$P$92,4,0)","v":"Major Advanced Economies (G7)"},{"$f":"$D1293*VLOOKUP($E1293,'Charts data'!$A$2:$B$11,2,0)*VLOOKUP($G1293,'Charts data'!$A$14:$B$18,2,0)/IF('Charts data'!$E$3=1,I1293,1)/IF('Charts data'!$E$4=1,J1293,1)","v":45000}]
["ID0133",54000,"USD",{"$f":"B1294*VLOOKUP(C1294,tblXrate[],2,0)","v":54000},"Analyst","USA","2 to 3",null,{"$f":"VLOOKUP(F1294,mapping!$L$2:$P$92,2,0)","v":1},{"$f":"VLOOKUP($F1294,mapping!$L$2:$P$92,3,0)","v":48386.69},{"$f":"VLOOKUP($F1294,mapping!$L$2:$P$92,4,0)","v":"Major Advanced Economies (G7)"},{"$f":"$D1294*VLOOKUP($E1294,'Charts data'!$A$2:$B$11,2,0)*VLOOKUP($G1294,'Charts data'!$A$14:$B$18,2,0)/IF('Charts data'!$E$3=1,I1294,1)/IF('Charts data'!$E$4=1,J1294,1)","v":54000}]
["ID0135",71000,"USD",{"$f":"B1295*VLOOKUP(C1295,tblXrate[],2,0)","v":71000},"Analyst","USA","4 to 6",null,{"$f":"VLOOKUP(F1295,mapping!$L$2:$P$92,2,0)","v":1},{"$f":"VLOOKUP($F1295,mapping!$L$2:$P$92,3,0)","v":48386.69},{"$f":"VLOOKUP($F1295,mapping!$L$2:$P$92,4,0)","v":"Major Advanced Economies (G7)"},{"$f":"$D1295*VLOOKUP($E1295,'Charts data'!$A$2:$B$11,2,0)*VLOOKUP($G1295,'Charts data'!$A$14:$B$18,2,0)/IF('Charts data'!$E$3=1,I1295,1)/IF('Charts data'!$E$4=1,J1295,1)","v":71000}]
["ID0139",40000,"USD",{"$f":"B1296*VLOOKUP(C1296,tblXrate[],2,0)","v":40000},"Analyst","USA","4 to 6",null,{"$f":"VLOOKUP(F1296,mapping!$L$2:$P$92,2,0)","v":1},{"$f":"VLOOKUP($F1296,mapping!$L$2:$P$92,3,0)","v":48386.69},{"$f":"VLOOKUP($F1296,mapping!$L$2:$P$92,4,0)","v":"Major Advanced Economies (G7)"},{"$f":"$D1296*VLOOKUP($E1296,'Charts data'!$A$2:$B$11,2,0)*VLOOKUP($G1296,'Charts data'!$A$14:$B$18,2,0)/IF('Charts data'!$E$3=1,I1296,1)/IF('Charts data'!$E$4=1,J1296,1)","v":40000}]
["ID0142",53000,"USD",{"$f":"B1297*VLOOKUP(C1297,tblXrate[],2,0)","v":53000},"Analyst","USA","4 to 6",null,{"$f":"VLOOKUP(F1297,mapping!$L$2:$P$92,2,0)","v":1},{"$f":"VLOOKUP($F1297,mapping!$L$2:$P$92,3,0)","v":48386.69},{"$f":"VLOOKUP($F1297,mapping!$L$2:$P$92,4,0)","v":"Major Advanced Economies (G7)"},{"$f":"$D1297*VLOOKUP($E1297,'Charts data'!$A$2:$B$11,2,0)*VLOOKUP($G1297,'Charts data'!$A$14:$B$18,2,0)/IF('Charts data'!$E$3=1,I1297,1)/IF('Charts data'!$E$4=1,J1297,1)","v":53000}]
["ID0143",104000,"USD",{"$f":"B1298*VLOOKUP(C1298,tblXrate[],2,0)","v":104000},"CXO or Top Mgmt.","USA","2 to 3",null,{"$f":"VLOOKUP(F1298,mapping!$L$2:$P$92,2,0)","v":1},{"$f":"VLOOKUP($F1298,mapping!$L$2:$P$92,3,0)","v":48386.69},{"$f":"VLOOKUP($F1298,mapping!$L$2:$P$92,4,0)","v":"Major Advanced Economies (G7)"},{"$f":"$D1298*VLOOKUP($E1298,'Charts data'!$A$2:$B$11,2,0)*VLOOKUP($G1298,'Charts data'!$A$14:$B$18,2,0)/IF('Charts data'!$E$3=1,I1298,1)/IF('Charts data'!$E$4=1,J1298,1)","v":104000}]
["ID0144",57000,"USD",{"$f":"B1299*VLOOKUP(C1299,tblXrate[],2,0)","v":57000},"Engineer","USA","4 to 6",null,{"$f":"VLOOKUP(F1299,mapping!$L$2:$P$92,2,0)","v":1},{"$f":"VLOOKUP($F1299,mapping!$L$2:$P$92,3,0)","v":48386.69},{"$f":"VLOOKUP($F1299,mapping!$L$2:$P$92,4,0)","v":"Major Advanced Economies (G7)"},{"$f":"$D1299*VLOOKUP($E1299,'Charts data'!$A$2:$B$11,2,0)*VLOOKUP($G1299,'Charts data'!$A$14:$B$18,2,0)/IF('Charts data'!$E$3=1,I1299,1)/IF('Charts data'!$E$4=1,J1299,1)","v":57000}]
["ID0145",45000,"USD",{"$f":"B1300*VLOOKUP(C1300,tblXrate[],2,0)","v":45000},"Analyst","USA","2 to 3",null,{"$f":"VLOOKUP(F1300,mapping!$L$2:$P$92,2,0)","v":1},{"$f":"VLOOKUP($F1300,mapping!$L$2:$P$92,3,0)","v":48386.69},{"$f":"VLOOKUP($F1300,mapping!$L$2:$P$92,4,0)","v":"Major Advanced Economies (G7)"},{"$f":"$D1300*VLOOKUP($E1300,'Charts data'!$A$2:$B$11,2,0)*VLOOKUP($G1300,'Charts data'!$A$14:$B$18,2,0)/IF('Charts data'!$E$3=1,I1300,1)/IF('Charts data'!$E$4=1,J1300,1)","v":45000}]
["ID0146",92000,"USD",{"$f":"B1301*VLOOKUP(C1301,tblXrate[],2,0)","v":92000},"Analyst","USA","4 to 6",null,{"$f":"VLOOKUP(F1301,mapping!$L$2:$P$92,2,0)","v":1},{"$f":"VLOOKUP($F1301,mapping!$L$2:$P$92,3,0)","v":48386.69},{"$f":"VLOOKUP($F1301,mapping!$L$2:$P$92,4,0)","v":"Major Advanced Economies (G7)"},{"$f":"$D1301*VLOOKUP($E1301,'Charts data'!$A$2:$B$11,2,0)*VLOOKUP($G1301,'Charts data'!$A$14:$B$18,2,0)/IF('Charts data'!$E$3=1,I1301,1)/IF('Charts data'!$E$4=1,J1301,1)","v":92000}]
["ID0147",88000,"USD",{"$f":"B1302*VLOOKUP(C1302,tblXrate[],2,0)","v":88000},"Manager","USA","4 to 6",null,{"$f":"VLOOKUP(F1302,mapping!$L$2:$P$92,2,0)","v":1},{"$f":"VLOOKUP($F1302,mapping!$L$2:$P$92,3,0)","v":48386.69},{"$f":"VLOOKUP($F1302,mapping!$L$2:$P$92,4,0)","v":"Major Advanced Economies (G7)"},{"$f":"$D1302*VLOOKUP($E1302,'Charts data'!$A$2:$B$11,2,0)*VLOOKUP($G1302,'Charts data'!$A$14:$B$18,2,0)/IF('Charts data'!$E$3=1,I1302,1)/IF('Charts data'!$E$4=1,J1302,1)","v":88000}]
["ID0148",80000,"USD",{"$f":"B1303*VLOOKUP(C1303,tblXrate[],2,0)","v":80000},"Analyst","USA","2 to 3",null,{"$f":"VLOOKUP(F1303,mapping!$L$2:$P$92,2,0)","v":1},{"$f":"VLOOKUP($F1303,mapping!$L$2:$P$92,3,0)","v":48386.69},{"$f":"VLOOKUP($F1303,mapping!$L$2:$P$92,4,0)","v":"Major Advanced Economies (G7)"},{"$f":"$D1303*VLOOKUP($E1303,'Charts data'!$A$2:$B$11,2,0)*VLOOKUP($G1303,'Charts data'!$A$14:$B$18,2,0)/IF('Charts data'!$E$3=1,I1303,1)/IF('Charts data'!$E$4=1,J1303,1)","v":80000}]
["ID0149",69000,"USD",{"$f":"B1304*VLOOKUP(C1304,tblXrate[],2,0)","v":69000},"Consultant","USA","4 to 6",null,{"$f":"VLOOKUP(F1304,mapping!$L$2:$P$92,2,0)","v":1},{"$f":"VLOOKUP($F1304,mapping!$L$2:$P$92,3,0)","v":48386.69},{"$f":"VLOOKUP($F1304,mapping!$L$2:$P$92,4,0)","v":"Major Advanced Economies (G7)"},{"$f":"$D1304*VLOOKUP($E1304,'Charts data'!$A$2:$B$11,2,0)*VLOOKUP($G1304,'Charts data'!$A$14:$B$18,2,0)/IF('Charts data'!$E$3=1,I1304,1)/IF('Charts data'!$E$4=1,J1304,1)","v":69000}]
["ID0151",35000,"USD",{"$f":"B1305*VLOOKUP(C1305,tblXrate[],2,0)","v":35000},"Manager","USA","2 to 3",null,{"$f":"VLOOKUP(F1305,mapping!$L$2:$P$92,2,0)","v":1},{"$f":"VLOOKUP($F1305,mapping!$L$2:$P$92,3,0)","v":48386.69},{"$f":"VLOOKUP($F1305,mapping!$L$2:$P$92,4,0)","v":"Major Advanced Economies (G7)"},{"$f":"$D1305*VLOOKUP($E1305,'Charts data'!$A$2:$B$11,2,0)*VLOOKUP($G1305,'Charts data'!$A$14:$B$18,2,0)/IF('Charts data'!$E$3=1,I1305,1)/IF('Charts data'!$E$4=1,J1305,1)","v":35000}]
["ID0152",96000,"USD",{"$f":"B1306*VLOOKUP(C1306,tblXrate[],2,0)","v":96000},"Analyst","USA","4 to 6",null,{"$f":"VLOOKUP(F1306,mapping!$L$2:$P$92,2,0)","v":1},{"$f":"VLOOKUP($F1306,mapping!$L$2:$P$92,3,0)","v":48386.69},{"$f":"VLOOKUP($F1306,mapping!$L$2:$P$92,4,0)","v":"Major Advanced Economies (G7)"},{"$f":"$D1306*VLOOKUP($E1306,'Charts data'!$A$2:$B$11,2,0)*VLOOKUP($G1306,'Charts data'!$A$14:$B$18,2,0)/IF('Charts data'!$E$3=1,I1306,1)/IF('Charts data'!$E$4=1,J1306,1)","v":96000}]
["ID0153",65000,"USD",{"$f":"B1307*VLOOKUP(C1307,tblXrate[],2,0)","v":65000},"Accountant","USA","8 Hrs",null,{"$f":"VLOOKUP(F1307,mapping!$L$2:$P$92,2,0)","v":1},{"$f":"VLOOKUP($F1307,mapping!$L$2:$P$92,3,0)","v":48386.69},{"$f":"VLOOKUP($F1307,mapping!$L$2:$P$92,4,0)","v":"Major Advanced Economies (G7)"},{"$f":"$D1307*VLOOKUP($E1307,'Charts data'!$A$2:$B$11,2,0)*VLOOKUP($G1307,'Charts data'!$A$14:$B$18,2,0)/IF('Charts data'!$E$3=1,I1307,1)/IF('Charts data'!$E$4=1,J1307,1)","v":65000}]
["ID0154",37440,"USD",{"$f":"B1308*VLOOKUP(C1308,tblXrate[],2,0)","v":37440},"Analyst","USA","8 Hrs",null,{"$f":"VLOOKUP(F1308,mapping!$L$2:$P$92,2,0)","v":1},{"$f":"VLOOKUP($F1308,mapping!$L$2:$P$92,3,0)","v":48386.69},{"$f":"VLOOKUP($F1308,mapping!$L$2:$P$92,4,0)","v":"Major Advanced Economies (G7)"},{"$f":"$D1308*VLOOKUP($E1308,'Charts data'!$A$2:$B$11,2,0)*VLOOKUP($G1308,'Charts data'!$A$14:$B$18,2,0)/IF('Charts data'!$E$3=1,I1308,1)/IF('Charts data'!$E$4=1,J1308,1)","v":37440}]
["ID0156",90000,"USD",{"$f":"B1309*VLOOKUP(C1309,tblXrate[],2,0)","v":90000},"Analyst","USA","2 to 3",null,{"$f":"VLOOKUP(F1309,mapping!$L$2:$P$92,2,0)","v":1},{"$f":"VLOOKUP($F1309,mapping!$L$2:$P$92,3,0)","v":48386.69},{"$f":"VLOOKUP($F1309,mapping!$L$2:$P$92,4,0)","v":"Major Advanced Economies (G7)"},{"$f":"$D1309*VLOOKUP($E1309,'Charts data'!$A$2:$B$11,2,0)*VLOOKUP($G1309,'Charts data'!$A$14:$B$18,2,0)/IF('Charts data'!$E$3=1,I1309,1)/IF('Charts data'!$E$4=1,J1309,1)","v":90000}]
["ID0157",66500,"USD",{"$f":"B1310*VLOOKUP(C1310,tblXrate[],2,0)","v":66500},"Analyst","USA","8 Hrs",null,{"$f":"VLOOKUP(F1310,mapping!$L$2:$P$92,2,0)","v":1},{"$f":"VLOOKUP($F1310,mapping!$L$2:$P$92,3,0)","v":48386.69},{"$f":"VLOOKUP($F1310,mapping!$L$2:$P$92,4,0)","v":"Major Advanced Economies (G7)"},{"$f":"$D1310*VLOOKUP($E1310,'Charts data'!$A$2:$B$11,2,0)*VLOOKUP($G1310,'Charts data'!$A$14:$B$18,2,0)/IF('Charts data'!$E$3=1,I1310,1)/IF('Charts data'!$E$4=1,J1310,1)","v":66500}]
["ID0158",100000,"USD",{"$f":"B1311*VLOOKUP(C1311,tblXrate[],2,0)","v":100000},"Accountant","USA","8 Hrs",null,{"$f":"VLOOKUP(F1311,mapping!$L$2:$P$92,2,0)","v":1},{"$f":"VLOOKUP($F1311,mapping!$L$2:$P$92,3,0)","v":48386.69},{"$f":"VLOOKUP($F1311,mapping!$L$2:$P$92,4,0)","v":"Major Advanced Economies (G7)"},{"$f":"$D1311*VLOOKUP($E1311,'Charts data'!$A$2:$B$11,2,0)*VLOOKUP($G1311,'Charts data'!$A$14:$B$18,2,0)/IF('Charts data'!$E$3=1,I1311,1)/IF('Charts data'!$E$4=1,J1311,1)","v":100000}]
["ID0161",75000,"USD",{"$f":"B1312*VLOOKUP(C1312,tblXrate[],2,0)","v":75000},"Analyst","USA","1 or 2",null,{"$f":"VLOOKUP(F1312,mapping!$L$2:$P$92,2,0)","v":1},{"$f":"VLOOKUP($F1312,mapping!$L$2:$P$92,3,0)","v":48386.69},{"$f":"VLOOKUP($F1312,mapping!$L$2:$P$92,4,0)","v":"Major Advanced Economies (G7)"},{"$f":"$D1312*VLOOKUP($E1312,'Charts data'!$A$2:$B$11,2,0)*VLOOKUP($G1312,'Charts data'!$A$14:$B$18,2,0)/IF('Charts data'!$E$3=1,I1312,1)/IF('Charts data'!$E$4=1,J1312,1)","v":75000}]
["ID0163",55000,"USD",{"$f":"B1313*VLOOKUP(C1313,tblXrate[],2,0)","v":55000},"Manager","USA","2 to 3",null,{"$f":"VLOOKUP(F1313,mapping!$L$2:$P$92,2,0)","v":1},{"$f":"VLOOKUP($F1313,mapping!$L$2:$P$92,3,0)","v":48386.69},{"$f":"VLOOKUP($F1313,mapping!$L$2:$P$92,4,0)","v":"Major Advanced Economies (G7)"},{"$f":"$D1313*VLOOKUP($E1313,'Charts data'!$A$2:$B$11,2,0)*VLOOKUP($G1313,'Charts data'!$A$14:$B$18,2,0)/IF('Charts data'!$E$3=1,I1313,1)/IF('Charts data'!$E$4=1,J1313,1)","v":55000}]
["ID0164",60000,"USD",{"$f":"B1314*VLOOKUP(C1314,tblXrate[],2,0)","v":60000},"Analyst","USA","4 to 6",null,{"$f":"VLOOKUP(F1314,mapping!$L$2:$P$92,2,0)","v":1},{"$f":"VLOOKUP($F1314,mapping!$L$2:$P$92,3,0)","v":48386.69},{"$f":"VLOOKUP($F1314,mapping!$L$2:$P$92,4,0)","v":"Major Advanced Economies (G7)"},{"$f":"$D1314*VLOOKUP($E1314,'Charts data'!$A$2:$B$11,2,0)*VLOOKUP($G1314,'Charts data'!$A$14:$B$18,2,0)/IF('Charts data'!$E$3=1,I1314,1)/IF('Charts data'!$E$4=1,J1314,1)","v":60000}]
["ID0168",22880,"USD",{"$f":"B1315*VLOOKUP(C1315,tblXrate[],2,0)","v":22880},"Accountant","USA","4 to 6",null,{"$f":"VLOOKUP(F1315,mapping!$L$2:$P$92,2,0)","v":1},{"$f":"VLOOKUP($F1315,mapping!$L$2:$P$92,3,0)","v":48386.69},{"$f":"VLOOKUP($F1315,mapping!$L$2:$P$92,4,0)","v":"Major Advanced Economies (G7)"},{"$f":"$D1315*VLOOKUP($E1315,'Charts data'!$A$2:$B$11,2,0)*VLOOKUP($G1315,'Charts data'!$A$14:$B$18,2,0)/IF('Charts data'!$E$3=1,I1315,1)/IF('Charts data'!$E$4=1,J1315,1)","v":22880}]
["ID0169",80000,"USD",{"$f":"B1316*VLOOKUP(C1316,tblXrate[],2,0)","v":80000},"Consultant","USA","4 to 6",null,{"$f":"VLOOKUP(F1316,mapping!$L$2:$P$92,2,0)","v":1},{"$f":"VLOOKUP($F1316,mapping!$L$2:$P$92,3,0)","v":48386.69},{"$f":"VLOOKUP($F1316,mapping!$L$2:$P$92,4,0)","v":"Major Advanced Economies (G7)"},{"$f":"$D1316*VLOOKUP($E1316,'Charts data'!$A$2:$B$11,2,0)*VLOOKUP($G1316,'Charts data'!$A$14:$B$18,2,0)/IF('Charts data'!$E$3=1,I1316,1)/IF('Charts data'!$E$4=1,J1316,1)","v":80000}]
["ID0173",46584,"USD",{"$f":"B1317*VLOOKUP(C1317,tblXrate[],2,0)","v":46584},"Analyst","USA","4 to 6",null,{"$f":"VLOOKUP(F1317,mapping!$L$2:$P$92,2,0)","v":1},{"$f":"VLOOKUP($F1317,mapping!$L$2:$P$92,3,0)","v":48386.69},{"$f":"VLOOKUP($F1317,mapping!$L$2:$P$92,4,0)","v":"Major Advanced Economies (G7)"},{"$f":"$D1317*VLOOKUP($E1317,'Charts data'!$A$2:$B$11,2,0)*VLOOKUP($G1317,'Charts data'!$A$14:$B$18,2,0)/IF('Charts data'!$E$3=1,I1317,1)/IF('Charts data'!$E$4=1,J1317,1)","v":46584}]
["ID0174",67000,"USD",{"$f":"B1318*VLOOKUP(C1318,tblXrate[],2,0)","v":67000},"Analyst","USA","4 to 6",null,{"$f":"VLOOKUP(F1318,mapping!$L$2:$P$92,2,0)","v":1},{"$f":"VLOOKUP($F1318,mapping!$L$2:$P$92,3,0)","v":48386.69},{"$f":"VLOOKUP($F1318,mapping!$L$2:$P$92,4,0)","v":"Major Advanced Economies (G7)"},{"$f":"$D1318*VLOOKUP($E1318,'Charts data'!$A$2:$B$11,2,0)*VLOOKUP($G1318,'Charts data'!$A$14:$B$18,2,0)/IF('Charts data'!$E$3=1,I1318,1)/IF('Charts data'!$E$4=1,J1318,1)","v":67000}]
["ID0176",92000,"USD",{"$f":"B1319*VLOOKUP(C1319,tblXrate[],2,0)","v":92000},"Engineer","USA","4 to 6",null,{"$f":"VLOOKUP(F1319,mapping!$L$2:$P$92,2,0)","v":1},{"$f":"VLOOKUP($F1319,mapping!$L$2:$P$92,3,0)","v":48386.69},{"$f":"VLOOKUP($F1319,mapping!$L$2:$P$92,4,0)","v":"Major Advanced Economies (G7)"},{"$f":"$D1319*VLOOKUP($E1319,'Charts data'!$A$2:$B$11,2,0)*VLOOKUP($G1319,'Charts data'!$A$14:$B$18,2,0)/IF('Charts data'!$E$3=1,I1319,1)/IF('Charts data'!$E$4=1,J1319,1)","v":92000}]
["ID0177",75000,"USD",{"$f":"B1320*VLOOKUP(C1320,tblXrate[],2,0)","v":75000},"Specialist","USA","8 Hrs",null,{"$f":"VLOOKUP(F1320,mapping!$L$2:$P$92,2,0)","v":1},{"$f":"VLOOKUP($F1320,mapping!$L$2:$P$92,3,0)","v":48386.69},{"$f":"VLOOKUP($F1320,mapping!$L$2:$P$92,4,0)","v":"Major Advanced Economies (G7)"},{"$f":"$D1320*VLOOKUP($E1320,'Charts data'!$A$2:$B$11,2,0)*VLOOKUP($G1320,'Charts data'!$A$14:$B$18,2,0)/IF('Charts data'!$E$3=1,I1320,1)/IF('Charts data'!$E$4=1,J1320,1)","v":75000}]
["ID0180",40000,"USD",{"$f":"B1321*VLOOKUP(C1321,tblXrate[],2,0)","v":40000},"Analyst","USA","8 Hrs",null,{"$f":"VLOOKUP(F1321,mapping!$L$2:$P$92,2,0)","v":1},{"$f":"VLOOKUP($F1321,mapping!$L$2:$P$92,3,0)","v":48386.69},{"$f":"VLOOKUP($F1321,mapping!$L$2:$P$92,4,0)","v":"Major Advanced Economies (G7)"},{"$f":"$D1321*VLOOKUP($E1321,'Charts data'!$A$2:$B$11,2,0)*VLOOKUP($G1321,'Charts data'!$A$14:$B$18,2,0)/IF('Charts data'!$E$3=1,I1321,1)/IF('Charts data'!$E$4=1,J1321,1)","v":40000}]
["ID0181",111680,"USD",{"$f":"B1322*VLOOKUP(C1322,tblXrate[],2,0)","v":111680},"Analyst","USA","2 to 3",null,{"$f":"VLOOKUP(F1322,mapping!$L$2:$P$92,2,0)","v":1},{"$f":"VLOOKUP($F1322,mapping!$L$2:$P$92,3,0)","v":48386.69},{"$f":"VLOOKUP($F1322,mapping!$L$2:$P$92,4,0)","v":"Major Advanced Economies (G7)"},{"$f":"$D1322*VLOOKUP($E1322,'Charts data'!$A$2:$B$11,2,0)*VLOOKUP($G1322,'Charts data'!$A$14:$B$18,2,0)/IF('Charts data'!$E$3=1,I1322,1)/IF('Charts data'!$E$4=1,J1322,1)","v":111680}]
["ID0183",70000,"USD",{"$f":"B1323*VLOOKUP(C1323,tblXrate[],2,0)","v":70000},"Manager","USA","4 to 6",null,{"$f":"VLOOKUP(F1323,mapping!$L$2:$P$92,2,0)","v":1},{"$f":"VLOOKUP($F1323,mapping!$L$2:$P$92,3,0)","v":48386.69},{"$f":"VLOOKUP($F1323,mapping!$L$2:$P$92,4,0)","v":"Major Advanced Economies (G7)"},{"$f":"$D1323*VLOOKUP($E1323,'Charts data'!$A$2:$B$11,2,0)*VLOOKUP($G1323,'Charts data'!$A$14:$B$18,2,0)/IF('Charts data'!$E$3=1,I1323,1)/IF('Charts data'!$E$4=1,J1323,1)","v":70000}]
["ID0184",40700,"USD",{"$f":"B1324*VLOOKUP(C1324,tblXrate[],2,0)","v":40700},"Analyst","USA","1 or 2",null,{"$f":"VLOOKUP(F1324,mapping!$L$2:$P$92,2,0)","v":1},{"$f":"VLOOKUP($F1324,mapping!$L$2:$P$92,3,0)","v":48386.69},{"$f":"VLOOKUP($F1324,mapping!$L$2:$P$92,4,0)","v":"Major Advanced Economies (G7)"},{"$f":"$D1324*VLOOKUP($E1324,'Charts data'!$A$2:$B$11,2,0)*VLOOKUP($G1324,'Charts data'!$A$14:$B$18,2,0)/IF('Charts data'!$E$3=1,I1324,1)/IF('Charts data'!$E$4=1,J1324,1)","v":40700}]
["ID0185",40000,"USD",{"$f":"B1325*VLOOKUP(C1325,tblXrate[],2,0)","v":40000},"Analyst","USA","4 to 6",null,{"$f":"VLOOKUP(F1325,mapping!$L$2:$P$92,2,0)","v":1},{"$f":"VLOOKUP($F1325,mapping!$L$2:$P$92,3,0)","v":48386.69},{"$f":"VLOOKUP($F1325,mapping!$L$2:$P$92,4,0)","v":"Major Advanced Economies (G7)"},{"$f":"$D1325*VLOOKUP($E1325,'Charts data'!$A$2:$B$11,2,0)*VLOOKUP($G1325,'Charts data'!$A$14:$B$18,2,0)/IF('Charts data'!$E$3=1,I1325,1)/IF('Charts data'!$E$4=1,J1325,1)","v":40000}]
["ID0186",60000,"USD",{"$f":"B1326*VLOOKUP(C1326,tblXrate[],2,0)","v":60000},"Accountant","USA","4 to 6",null,{"$f":"VLOOKUP(F1326,mapping!$L$2:$P$92,2,0)","v":1},{"$f":"VLOOKUP($F1326,mapping!$L$2:$P$92,3,0)","v":48386.69},{"$f":"VLOOKUP($F1326,mapping!$L$2:$P$92,4,0)","v":"Major Advanced Economies (G7)"},{"$f":"$D1326*VLOOKUP($E1326,'Charts data'!$A$2:$B$11,2,0)*VLOOKUP($G1326,'Charts data'!$A$14:$B$18,2,0)/IF('Charts data'!$E$3=1,I1326,1)/IF('Charts data'!$E$4=1,J1326,1)","v":60000}]
["ID0189",80000,"USD",{"$f":"B1327*VLOOKUP(C1327,tblXrate[],2,0)","v":80000},"Manager","USA","2 to 3",null,{"$f":"VLOOKUP(F1327,mapping!$L$2:$P$92,2,0)","v":1},{"$f":"VLOOKUP($F1327,mapping!$L$2:$P$92,3,0)","v":48386.69},{"$f":"VLOOKUP($F1327,mapping!$L$2:$P$92,4,0)","v":"Major Advanced Economies (G7)"},{"$f":"$D1327*VLOOKUP($E1327,'Charts data'!$A$2:$B$11,2,0)*VLOOKUP($G1327,'Charts data'!$A$14:$B$18,2,0)/IF('Charts data'!$E$3=1,I1327,1)/IF('Charts data'!$E$4=1,J1327,1)","v":80000}]
["ID0192",28000,"USD",{"$f":"B1328*VLOOKUP(C1328,tblXrate[],2,0)","v":28000},"Analyst","USA","4 to 6",null,{"$f":"VLOOKUP(F1328,mapping!$L$2:$P$92,2,0)","v":1},{"$f":"VLOOKUP($F1328,mapping!$L$2:$P$92,3,0)","v":48386.69},{"$f":"VLOOKUP($F1328,mapping!$L$2:$P$92,4,0)","v":"Major Advanced Economies (G7)"},{"$f":"$D1328*VLOOKUP($E1328,'Charts data'!$A$2:$B$11,2,0)*VLOOKUP($G1328,'Charts data'!$A$14:$B$18,2,0)/IF('Charts data'!$E$3=1,I1328,1)/IF('Charts data'!$E$4=1,J1328,1)","v":28000}]
["ID0193",60000,"USD",{"$f":"B1329*VLOOKUP(C1329,tblXrate[],2,0)","v":60000},"Analyst","USA","4 to 6",null,{"$f":"VLOOKUP(F1329,mapping!$L$2:$P$92,2,0)","v":1},{"$f":"VLOOKUP($F1329,mapping!$L$2:$P$92,3,0)","v":48386.69},{"$f":"VLOOKUP($F1329,mapping!$L$2:$P$92,4,0)","v":"Major Advanced Economies (G7)"},{"$f":"$D1329*VLOOKUP($E1329,'Charts data'!$A$2:$B$11,2,0)*VLOOKUP($G1329,'Charts data'!$A$14:$B$18,2,0)/IF('Charts data'!$E$3=1,I1329,1)/IF('Charts data'!$E$4=1,J1329,1)","v":60000}]
["ID0194",96000,"USD",{"$f":"B1330*VLOOKUP(C1330,tblXrate[],2,0)","v":96000},"Specialist","USA","2 to 3",null,{"$f":"VLOOKUP(F1330,mapping!$L$2:$P$92,2,0)","v":1},{"$f":"VLOOKUP($F1330,mapping!$L$2:$P$92,3,0)","v":48386.69},{"$f":"VLOOKUP($F1330,mapping!$L$2:$P$92,4,0)","v":"Major Advanced Economies (G7)"},{"$f":"$D1330*VLOOKUP($E1330,'Charts data'!$A$2:$B$11,2,0)*VLOOKUP($G1330,'Charts data'!$A$14:$B$18,2,0)/IF('Charts data'!$E$3=1,I1330,1)/IF('Charts data'!$E$4=1,J1330,1)","v":96000}]
["ID0195",67000,"USD",{"$f":"B1331*VLOOKUP(C1331,tblXrate[],2,0)","v":67000},"Analyst","USA","4 to 6",null,{"$f":"VLOOKUP(F1331,mapping!$L$2:$P$92,2,0)","v":1},{"$f":"VLOOKUP($F1331,mapping!$L$2:$P$92,3,0)","v":48386.69},{"$f":"VLOOKUP($F1331,mapping!$L$2:$P$92,4,0)","v":"Major Advanced Economies (G7)"},{"$f":"$D1331*VLOOKUP($E1331,'Charts data'!$A$2:$B$11,2,0)*VLOOKUP($G1331,'Charts data'!$A$14:$B$18,2,0)/IF('Charts data'!$E$3=1,I1331,1)/IF('Charts data'!$E$4=1,J1331,1)","v":67000}]
["ID0196",70000,"USD",{"$f":"B1332*VLOOKUP(C1332,tblXrate[],2,0)","v":70000},"Analyst","USA","4 to 6",null,{"$f":"VLOOKUP(F1332,mapping!$L$2:$P$92,2,0)","v":1},{"$f":"VLOOKUP($F1332,mapping!$L$2:$P$92,3,0)","v":48386.69},{"$f":"VLOOKUP($F1332,mapping!$L$2:$P$92,4,0)","v":"Major Advanced Economies (G7)"},{"$f":"$D1332*VLOOKUP($E1332,'Charts data'!$A$2:$B$11,2,0)*VLOOKUP($G1332,'Charts data'!$A$14:$B$18,2,0)/IF('Charts data'!$E$3=1,I1332,1)/IF('Charts data'!$E$4=1,J1332,1)","v":70000}]
["ID0198",99000,"USD",{"$f":"B1333*VLOOKUP(C1333,tblXrate[],2,0)","v":99000},"Controller","USA","4 to 6",null,{"$f":"VLOOKUP(F1333,mapping!$L$2:$P$92,2,0)","v":1},{"$f":"VLOOKUP($F1333,mapping!$L$2:$P$92,3,0)","v":48386.69},{"$f":"VLOOKUP($F1333,mapping!$L$2:$P$92,4,0)","v":"Major Advanced Economies (G7)"},{"$f":"$D1333*VLOOKUP($E1333,'Charts data'!$A$2:$B$11,2,0)*VLOOKUP($G1333,'Charts data'!$A$14:$B$18,2,0)/IF('Charts data'!$E$3=1,I1333,1)/IF('Charts data'!$E$4=1,J1333,1)","v":99000}]
["ID0200",90000,"USD",{"$f":"B1334*VLOOKUP(C1334,tblXrate[],2,0)","v":90000},"Manager","USA","2 to 3",null,{"$f":"VLOOKUP(F1334,mapping!$L$2:$P$92,2,0)","v":1},{"$f":"VLOOKUP($F1334,mapping!$L$2:$P$92,3,0)","v":48386.69},{"$f":"VLOOKUP($F1334,mapping!$L$2:$P$92,4,0)","v":"Major Advanced Economies (G7)"},{"$f":"$D1334*VLOOKUP($E1334,'Charts data'!$A$2:$B$11,2,0)*VLOOKUP($G1334,'Charts data'!$A$14:$B$18,2,0)/IF('Charts data'!$E$3=1,I1334,1)/IF('Charts data'!$E$4=1,J1334,1)","v":90000}]
["ID0203",51000,"USD",{"$f":"B1335*VLOOKUP(C1335,tblXrate[],2,0)","v":51000},"Manager","USA","4 to 6",null,{"$f":"VLOOKUP(F1335,mapping!$L$2:$P$92,2,0)","v":1},{"$f":"VLOOKUP($F1335,mapping!$L$2:$P$92,3,0)","v":48386.69},{"$f":"VLOOKUP($F1335,mapping!$L$2:$P$92,4,0)","v":"Major Advanced Economies (G7)"},{"$f":"$D1335*VLOOKUP($E1335,'Charts data'!$A$2:$B$11,2,0)*VLOOKUP($G1335,'Charts data'!$A$14:$B$18,2,0)/IF('Charts data'!$E$3=1,I1335,1)/IF('Charts data'!$E$4=1,J1335,1)","v":51000}]
["ID0204",100000,"USD",{"$f":"B1336*VLOOKUP(C1336,tblXrate[],2,0)","v":100000},"Manager","USA","8 Hrs",null,{"$f":"VLOOKUP(F1336,mapping!$L$2:$P$92,2,0)","v":1},{"$f":"VLOOKUP($F1336,mapping!$L$2:$P$92,3,0)","v":48386.69},{"$f":"VLOOKUP($F1336,mapping!$L$2:$P$92,4,0)","v":"Major Advanced Economies (G7)"},{"$f":"$D1336*VLOOKUP($E1336,'Charts data'!$A$2:$B$11,2,0)*VLOOKUP($G1336,'Charts data'!$A$14:$B$18,2,0)/IF('Charts data'!$E$3=1,I1336,1)/IF('Charts data'!$E$4=1,J1336,1)","v":100000}]
["ID0209",108160,"USD",{"$f":"B1337*VLOOKUP(C1337,tblXrate[],2,0)","v":108160},"Analyst","USA","4 to 6",null,{"$f":"VLOOKUP(F1337,mapping!$L$2:$P$92,2,0)","v":1},{"$f":"VLOOKUP($F1337,mapping!$L$2:$P$92,3,0)","v":48386.69},{"$f":"VLOOKUP($F1337,mapping!$L$2:$P$92,4,0)","v":"Major Advanced Economies (G7)"},{"$f":"$D1337*VLOOKUP($E1337,'Charts data'!$A$2:$B$11,2,0)*VLOOKUP($G1337,'Charts data'!$A$14:$B$18,2,0)/IF('Charts data'!$E$3=1,I1337,1)/IF('Charts data'!$E$4=1,J1337,1)","v":108160}]
["ID0210",50000,"USD",{"$f":"B1338*VLOOKUP(C1338,tblXrate[],2,0)","v":50000},"Manager","USA","4 to 6",null,{"$f":"VLOOKUP(F1338,mapping!$L$2:$P$92,2,0)","v":1},{"$f":"VLOOKUP($F1338,mapping!$L$2:$P$92,3,0)","v":48386.69},{"$f":"VLOOKUP($F1338,mapping!$L$2:$P$92,4,0)","v":"Major Advanced Economies (G7)"},{"$f":"$D1338*VLOOKUP($E1338,'Charts data'!$A$2:$B$11,2,0)*VLOOKUP($G1338,'Charts data'!$A$14:$B$18,2,0)/IF('Charts data'!$E$3=1,I1338,1)/IF('Charts data'!$E$4=1,J1338,1)","v":50000}]
["ID0211",400000,"USD",{"$f":"B1339*VLOOKUP(C1339,tblXrate[],2,0)","v":400000},"Manager","USA","1 or 2",null,{"$f":"VLOOKUP(F1339,mapping!$L$2:$P$92,2,0)","v":1},{"$f":"VLOOKUP($F1339,mapping!$L$2:$P$92,3,0)","v":48386.69},{"$f":"VLOOKUP($F1339,mapping!$L$2:$P$92,4,0)","v":"Major Advanced Economies (G7)"},{"$f":"$D1339*VLOOKUP($E1339,'Charts data'!$A$2:$B$11,2,0)*VLOOKUP($G1339,'Charts data'!$A$14:$B$18,2,0)/IF('Charts data'!$E$3=1,I1339,1)/IF('Charts data'!$E$4=1,J1339,1)","v":400000}]
["ID0212",43000,"USD",{"$f":"B1340*VLOOKUP(C1340,tblXrate[],2,0)","v":43000},"Analyst","USA","8 Hrs",null,{"$f":"VLOOKUP(F1340,mapping!$L$2:$P$92,2,0)","v":1},{"$f":"VLOOKUP($F1340,mapping!$L$2:$P$92,3,0)","v":48386.69},{"$f":"VLOOKUP($F1340,mapping!$L$2:$P$92,4,0)","v":"Major Advanced Economies (G7)"},{"$f":"$D1340*VLOOKUP($E1340,'Charts data'!$A$2:$B$11,2,0)*VLOOKUP($G1340,'Charts data'!$A$14:$B$18,2,0)/IF('Charts data'!$E$3=1,I1340,1)/IF('Charts data'!$E$4=1,J1340,1)","v":43000}]
["ID0214",41000,"USD",{"$f":"B1341*VLOOKUP(C1341,tblXrate[],2,0)","v":41000},"Manager","USA","8 Hrs",null,{"$f":"VLOOKUP(F1341,mapping!$L$2:$P$92,2,0)","v":1},{"$f":"VLOOKUP($F1341,mapping!$L$2:$P$92,3,0)","v":48386.69},{"$f":"VLOOKUP($F1341,mapping!$L$2:$P$92,4,0)","v":"Major Advanced Economies (G7)"},{"$f":"$D1341*VLOOKUP($E1341,'Charts data'!$A$2:$B$11,2,0)*VLOOKUP($G1341,'Charts data'!$A$14:$B$18,2,0)/IF('Charts data'!$E$3=1,I1341,1)/IF('Charts data'!$E$4=1,J1341,1)","v":41000}]
["ID0215",100000,"USD",{"$f":"B1342*VLOOKUP(C1342,tblXrate[],2,0)","v":100000},"CXO or Top Mgmt.","USA","4 to 6",null,{"$f":"VLOOKUP(F1342,mapping!$L$2:$P$92,2,0)","v":1},{"$f":"VLOOKUP($F1342,mapping!$L$2:$P$92,3,0)","v":48386.69},{"$f":"VLOOKUP($F1342,mapping!$L$2:$P$92,4,0)","v":"Major Advanced Economies (G7)"},{"$f":"$D1342*VLOOKUP($E1342,'Charts data'!$A$2:$B$11,2,0)*VLOOKUP($G1342,'Charts data'!$A$14:$B$18,2,0)/IF('Charts data'!$E$3=1,I1342,1)/IF('Charts data'!$E$4=1,J1342,1)","v":100000}]
["ID0216",42140,"USD",{"$f":"B1343*VLOOKUP(C1343,tblXrate[],2,0)","v":42140},"Analyst","USA","4 to 6",null,{"$f":"VLOOKUP(F1343,mapping!$L$2:$P$92,2,0)","v":1},{"$f":"VLOOKUP($F1343,mapping!$L$2:$P$92,3,0)","v":48386.69},{"$f":"VLOOKUP($F1343,mapping!$L$2:$P$92,4,0)","v":"Major Advanced Economies (G7)"},{"$f":"$D1343*VLOOKUP($E1343,'Charts data'!$A$2:$B$11,2,0)*VLOOKUP($G1343,'Charts data'!$A$14:$B$18,2,0)/IF('Charts data'!$E$3=1,I1343,1)/IF('Charts data'!$E$4=1,J1343,1)","v":42140}]
["ID0217",80000,"USD",{"$f":"B1344*VLOOKUP(C1344,tblXrate[],2,0)","v":80000},"Analyst","USA","4 to 6",null,{"$f":"VLOOKUP(F1344,mapping!$L$2:$P$92,2,0)","v":1},{"$f":"VLOOKUP($F1344,mapping!$L$2:$P$92,3,0)","v":48386.69},{"$f":"VLOOKUP($F1344,mapping!$L$2:$P$92,4,0)","v":"Major Advanced Economies (G7)"},{"$f":"$D1344*VLOOKUP($E1344,'Charts data'!$A$2:$B$11,2,0)*VLOOKUP($G1344,'Charts data'!$A$14:$B$18,2,0)/IF('Charts data'!$E$3=1,I1344,1)/IF('Charts data'!$E$4=1,J1344,1)","v":80000}]
["ID0218",41600,"USD",{"$f":"B1345*VLOOKUP(C1345,tblXrate[],2,0)","v":41600},"Manager","USA","4 to 6",null,{"$f":"VLOOKUP(F1345,mapping!$L$2:$P$92,2,0)","v":1},{"$f":"VLOOKUP($F1345,mapping!$L$2:$P$92,3,0)","v":48386.69},{"$f":"VLOOKUP($F1345,mapping!$L$2:$P$92,4,0)","v":"Major Advanced Economies (G7)"},{"$f":"$D1345*VLOOKUP($E1345,'Charts data'!$A$2:$B$11,2,0)*VLOOKUP($G1345,'Charts data'!$A$14:$B$18,2,0)/IF('Charts data'!$E$3=1,I1345,1)/IF('Charts data'!$E$4=1,J1345,1)","v":41600}]
["ID0219",45000,"USD",{"$f":"B1346*VLOOKUP(C1346,tblXrate[],2,0)","v":45000},"Accountant","USA","2 to 3",null,{"$f":"VLOOKUP(F1346,mapping!$L$2:$P$92,2,0)","v":1},{"$f":"VLOOKUP($F1346,mapping!$L$2:$P$92,3,0)","v":48386.69},{"$f":"VLOOKUP($F1346,mapping!$L$2:$P$92,4,0)","v":"Major Advanced Economies (G7)"},{"$f":"$D1346*VLOOKUP($E1346,'Charts data'!$A$2:$B$11,2,0)*VLOOKUP($G1346,'Charts data'!$A$14:$B$18,2,0)/IF('Charts data'!$E$3=1,I1346,1)/IF('Charts data'!$E$4=1,J1346,1)","v":45000}]
["ID0223",72500,"USD",{"$f":"B1347*VLOOKUP(C1347,tblXrate[],2,0)","v":72500},"Controller","USA","4 to 6",null,{"$f":"VLOOKUP(F1347,mapping!$L$2:$P$92,2,0)","v":1},{"$f":"VLOOKUP($F1347,mapping!$L$2:$P$92,3,0)","v":48386.69},{"$f":"VLOOKUP($F1347,mapping!$L$2:$P$92,4,0)","v":"Major Advanced Economies (G7)"},{"$f":"$D1347*VLOOKUP($E1347,'Charts data'!$A$2:$B$11,2,0)*VLOOKUP($G1347,'Charts data'!$A$14:$B$18,2,0)/IF('Charts data'!$E$3=1,I1347,1)/IF('Charts data'!$E$4=1,J1347,1)","v":72500}]
["ID0226",80000,"USD",{"$f":"B1348*VLOOKUP(C1348,tblXrate[],2,0)","v":80000},"Analyst","USA","4 to 6",null,{"$f":"VLOOKUP(F1348,mapping!$L$2:$P$92,2,0)","v":1},{"$f":"VLOOKUP($F1348,mapping!$L$2:$P$92,3,0)","v":48386.69},{"$f":"VLOOKUP($F1348,mapping!$L$2:$P$92,4,0)","v":"Major Advanced Economies (G7)"},{"$f":"$D1348*VLOOKUP($E1348,'Charts data'!$A$2:$B$11,2,0)*VLOOKUP($G1348,'Charts data'!$A$14:$B$18,2,0)/IF('Charts data'!$E$3=1,I1348,1)/IF('Charts data'!$E$4=1,J1348,1)","v":80000}]
["ID0227",50000,"USD",{"$f":"B1349*VLOOKUP(C1349,tblXrate[],2,0)","v":50000},"Manager","USA","4 to 6",null,{"$f":"VLOOKUP(F1349,mapping!$L$2:$P$92,2,0)","v":1},{"$f":"VLOOKUP($F1349,mapping!$L$2:$P$92,3,0)","v":48386.69},{"$f":"VLOOKUP($F1349,mapping!$L$2:$P$92,4,0)","v":"Major Advanced Economies (G7)"},{"$f":"$D1349*VLOOKUP($E1349,'Charts data'!$A$2:$B$11,2,0)*VLOOKUP($G1349,'Charts data'!$A$14:$B$18,2,0)/IF('Charts data'!$E$3=1,I1349,1)/IF('Charts data'!$E$4=1,J1349,1)","v":50000}]
["ID0231",65000,"USD",{"$f":"B1350*VLOOKUP(C1350,tblXrate[],2,0)","v":65000},"Specialist","USA","2 to 3",null,{"$f":"VLOOKUP(F1350,mapping!$L$2:$P$92,2,0)","v":1},{"$f":"VLOOKUP($F1350,mapping!$L$2:$P$92,3,0)","v":48386.69},{"$f":"VLOOKUP($F1350,mapping!$L$2:$P$92,4,0)","v":"Major Advanced Economies (G7)"},{"$f":"$D1350*VLOOKUP($E1350,'Charts data'!$A$2:$B$11,2,0)*VLOOKUP($G1350,'Charts data'!$A$14:$B$18,2,0)/IF('Charts data'!$E$3=1,I1350,1)/IF('Charts data'!$E$4=1,J1350,1)","v":65000}]
["ID0232",114000,"USD",{"$f":"B1351*VLOOKUP(C1351,tblXrate[],2,0)","v":114000},"CXO or Top Mgmt.","USA","2 to 3",null,{"$f":"VLOOKUP(F1351,mapping!$L$2:$P$92,2,0)","v":1},{"$f":"VLOOKUP($F1351,mapping!$L$2:$P$92,3,0)","v":48386.69},{"$f":"VLOOKUP($F1351,mapping!$L$2:$P$92,4,0)","v":"Major Advanced Economies (G7)"},{"$f":"$D1351*VLOOKUP($E1351,'Charts data'!$A$2:$B$11,2,0)*VLOOKUP($G1351,'Charts data'!$A$14:$B$18,2,0)/IF('Charts data'!$E$3=1,I1351,1)/IF('Charts data'!$E$4=1,J1351,1)","v":114000}]
["ID0233",95000,"USD",{"$f":"B1352*VLOOKUP(C1352,tblXrate[],2,0)","v":95000},"CXO or Top Mgmt.","USA","4 to 6",null,{"$f":"VLOOKUP(F1352,mapping!$L$2:$P$92,2,0)","v":1},{"$f":"VLOOKUP($F1352,mapping!$L$2:$P$92,3,0)","v":48386.69},{"$f":"VLOOKUP($F1352,mapping!$L$2:$P$92,4,0)","v":"Major Advanced Economies (G7)"},{"$f":"$D1352*VLOOKUP($E1352,'Charts data'!$A$2:$B$11,2,0)*VLOOKUP($G1352,'Charts data'!$A$14:$B$18,2,0)/IF('Charts data'!$E$3=1,I1352,1)/IF('Charts data'!$E$4=1,J1352,1)","v":95000}]
["ID0234",52500,"USD",{"$f":"B1353*VLOOKUP(C1353,tblXrate[],2,0)","v":52500},"Analyst","USA","4 to 6",null,{"$f":"VLOOKUP(F1353,mapping!$L$2:$P$92,2,0)","v":1},{"$f":"VLOOKUP($F1353,mapping!$L$2:$P$92,3,0)","v":48386.69},{"$f":"VLOOKUP($F1353,mapping!$L$2:$P$92,4,0)","v":"Major Advanced Economies (G7)"},{"$f":"$D1353*VLOOKUP($E1353,'Charts data'!$A$2:$B$11,2,0)*VLOOKUP($G1353,'Charts data'!$A$14:$B$18,2,0)/IF('Charts data'!$E$3=1,I1353,1)/IF('Charts data'!$E$4=1,J1353,1)","v":52500}]
["ID0236",60000,"USD",{"$f":"B1354*VLOOKUP(C1354,tblXrate[],2,0)","v":60000},"Analyst","USA","4 to 6",null,{"$f":"VLOOKUP(F1354,mapping!$L$2:$P$92,2,0)","v":1},{"$f":"VLOOKUP($F1354,mapping!$L$2:$P$92,3,0)","v":48386.69},{"$f":"VLOOKUP($F1354,mapping!$L$2:$P$92,4,0)","v":"Major Advanced Economies (G7)"},{"$f":"$D1354*VLOOKUP($E1354,'Charts data'!$A$2:$B$11,2,0)*VLOOKUP($G1354,'Charts data'!$A$14:$B$18,2,0)/IF('Charts data'!$E$3=1,I1354,1)/IF('Charts data'!$E$4=1,J1354,1)","v":60000}]
["ID0237",65250,"USD",{"$f":"B1355*VLOOKUP(C1355,tblXrate[],2,0)","v":65250},"Accountant","USA","4 to 6",null,{"$f":"VLOOKUP(F1355,mapping!$L$2:$P$92,2,0)","v":1},{"$f":"VLOOKUP($F1355,mapping!$L$2:$P$92,3,0)","v":48386.69},{"$f":"VLOOKUP($F1355,mapping!$L$2:$P$92,4,0)","v":"Major Advanced Economies (G7)"},{"$f":"$D1355*VLOOKUP($E1355,'Charts data'!$A$2:$B$11,2,0)*VLOOKUP($G1355,'Charts data'!$A$14:$B$18,2,0)/IF('Charts data'!$E$3=1,I1355,1)/IF('Charts data'!$E$4=1,J1355,1)","v":65250}]
["ID0241",73000,"USD",{"$f":"B1356*VLOOKUP(C1356,tblXrate[],2,0)","v":73000},"Analyst","USA","4 to 6",null,{"$f":"VLOOKUP(F1356,mapping!$L$2:$P$92,2,0)","v":1},{"$f":"VLOOKUP($F1356,mapping!$L$2:$P$92,3,0)","v":48386.69},{"$f":"VLOOKUP($F1356,mapping!$L$2:$P$92,4,0)","v":"Major Advanced Economies (G7)"},{"$f":"$D1356*VLOOKUP($E1356,'Charts data'!$A$2:$B$11,2,0)*VLOOKUP($G1356,'Charts data'!$A$14:$B$18,2,0)/IF('Charts data'!$E$3=1,I1356,1)/IF('Charts data'!$E$4=1,J1356,1)","v":73000}]
["ID0242",50000,"USD",{"$f":"B1357*VLOOKUP(C1357,tblXrate[],2,0)","v":50000},"Analyst","USA","8 Hrs",null,{"$f":"VLOOKUP(F1357,mapping!$L$2:$P$92,2,0)","v":1},{"$f":"VLOOKUP($F1357,mapping!$L$2:$P$92,3,0)","v":48386.69},{"$f":"VLOOKUP($F1357,mapping!$L$2:$P$92,4,0)","v":"Major Advanced Economies (G7)"},{"$f":"$D1357*VLOOKUP($E1357,'Charts data'!$A$2:$B$11,2,0)*VLOOKUP($G1357,'Charts data'!$A$14:$B$18,2,0)/IF('Charts data'!$E$3=1,I1357,1)/IF('Charts data'!$E$4=1,J1357,1)","v":50000}]
["ID0243",79000,"USD",{"$f":"B1358*VLOOKUP(C1358,tblXrate[],2,0)","v":79000},"Accountant","USA","2 to 3",null,{"$f":"VLOOKUP(F1358,mapping!$L$2:$P$92,2,0)","v":1},{"$f":"VLOOKUP($F1358,mapping!$L$2:$P$92,3,0)","v":48386.69},{"$f":"VLOOKUP($F1358,mapping!$L$2:$P$92,4,0)","v":"Major Advanced Economies (G7)"},{"$f":"$D1358*VLOOKUP($E1358,'Charts data'!$A$2:$B$11,2,0)*VLOOKUP($G1358,'Charts data'!$A$14:$B$18,2,0)/IF('Charts data'!$E$3=1,I1358,1)/IF('Charts data'!$E$4=1,J1358,1)","v":79000}]
["ID0244",90000,"USD",{"$f":"B1359*VLOOKUP(C1359,tblXrate[],2,0)","v":90000},"Manager","USA","4 to 6",null,{"$f":"VLOOKUP(F1359,mapping!$L$2:$P$92,2,0)","v":1},{"$f":"VLOOKUP($F1359,mapping!$L$2:$P$92,3,0)","v":48386.69},{"$f":"VLOOKUP($F1359,mapping!$L$2:$P$92,4,0)","v":"Major Advanced Economies (G7)"},{"$f":"$D1359*VLOOKUP($E1359,'Charts data'!$A$2:$B$11,2,0)*VLOOKUP($G1359,'Charts data'!$A$14:$B$18,2,0)/IF('Charts data'!$E$3=1,I1359,1)/IF('Charts data'!$E$4=1,J1359,1)","v":90000}]
["ID0245",70000,"USD",{"$f":"B1360*VLOOKUP(C1360,tblXrate[],2,0)","v":70000},"Manager","USA","2 to 3",null,{"$f":"VLOOKUP(F1360,mapping!$L$2:$P$92,2,0)","v":1},{"$f":"VLOOKUP($F1360,mapping!$L$2:$P$92,3,0)","v":48386.69},{"$f":"VLOOKUP($F1360,mapping!$L$2:$P$92,4,0)","v":"Major Advanced Economies (G7)"},{"$f":"$D1360*VLOOKUP($E1360,'Charts data'!$A$2:$B$11,2,0)*VLOOKUP($G1360,'Charts data'!$A$14:$B$18,2,0)/IF('Charts data'!$E$3=1,I1360,1)/IF('Charts data'!$E$4=1,J1360,1)","v":70000}]
["ID0247",80000,"USD",{"$f":"B1361*VLOOKUP(C1361,tblXrate[],2,0)","v":80000},"Analyst","USA","4 to 6",null,{"$f":"VLOOKUP(F1361,mapping!$L$2:$P$92,2,0)","v":1},{"$f":"VLOOKUP($F1361,mapping!$L$2:$P$92,3,0)","v":48386.69},{"$f":"VLOOKUP($F1361,mapping!$L$2:$P$92,4,0)","v":"Major Advanced Economies (G7)"},{"$f":"$D1361*VLOOKUP($E1361,'Charts data'!$A$2:$B$11,2,0)*VLOOKUP($G1361,'Charts data'!$A$14:$B$18,2,0)/IF('Charts data'!$E$3=1,I1361,1)/IF('Charts data'!$E$4=1,J1361,1)","v":80000}]
["ID0248",140000,"USD",{"$f":"B1362*VLOOKUP(C1362,tblXrate[],2,0)","v":140000},"Manager","USA","4 to 6",null,{"$f":"VLOOKUP(F1362,mapping!$L$2:$P$92,2,0)","v":1},{"$f":"VLOOKUP($F1362,mapping!$L$2:$P$92,3,0)","v":48386.69},{"$f":"VLOOKUP($F1362,mapping!$L$2:$P$92,4,0)","v":"Major Advanced Economies (G7)"},{"$f":"$D1362*VLOOKUP($E1362,'Charts data'!$A$2:$B$11,2,0)*VLOOKUP($G1362,'Charts data'!$A$14:$B$18,2,0)/IF('Charts data'!$E$3=1,I1362,1)/IF('Charts data'!$E$4=1,J1362,1)","v":140000}]
["ID0251",47700,"USD",{"$f":"B1363*VLOOKUP(C1363,tblXrate[],2,0)","v":47700},"Analyst","USA","4 to 6",null,{"$f":"VLOOKUP(F1363,mapping!$L$2:$P$92,2,0)","v":1},{"$f":"VLOOKUP($F1363,mapping!$L$2:$P$92,3,0)","v":48386.69},{"$f":"VLOOKUP($F1363,mapping!$L$2:$P$92,4,0)","v":"Major Advanced Economies (G7)"},{"$f":"$D1363*VLOOKUP($E1363,'Charts data'!$A$2:$B$11,2,0)*VLOOKUP($G1363,'Charts data'!$A$14:$B$18,2,0)/IF('Charts data'!$E$3=1,I1363,1)/IF('Charts data'!$E$4=1,J1363,1)","v":47700}]
["ID0253",52500,"USD",{"$f":"B1364*VLOOKUP(C1364,tblXrate[],2,0)","v":52500},"Analyst","USA","4 to 6",null,{"$f":"VLOOKUP(F1364,mapping!$L$2:$P$92,2,0)","v":1},{"$f":"VLOOKUP($F1364,mapping!$L$2:$P$92,3,0)","v":48386.69},{"$f":"VLOOKUP($F1364,mapping!$L$2:$P$92,4,0)","v":"Major Advanced Economies (G7)"},{"$f":"$D1364*VLOOKUP($E1364,'Charts data'!$A$2:$B$11,2,0)*VLOOKUP($G1364,'Charts data'!$A$14:$B$18,2,0)/IF('Charts data'!$E$3=1,I1364,1)/IF('Charts data'!$E$4=1,J1364,1)","v":52500}]
["ID0254",40000,"USD",{"$f":"B1365*VLOOKUP(C1365,tblXrate[],2,0)","v":40000},"Analyst","USA","8 Hrs",null,{"$f":"VLOOKUP(F1365,mapping!$L$2:$P$92,2,0)","v":1},{"$f":"VLOOKUP($F1365,mapping!$L$2:$P$92,3,0)","v":48386.69},{"$f":"VLOOKUP($F1365,mapping!$L$2:$P$92,4,0)","v":"Major Advanced Economies (G7)"},{"$f":"$D1365*VLOOKUP($E1365,'Charts data'!$A$2:$B$11,2,0)*VLOOKUP($G1365,'Charts data'!$A$14:$B$18,2,0)/IF('Charts data'!$E$3=1,I1365,1)/IF('Charts data'!$E$4=1,J1365,1)","v":40000}]
["ID0255",31000,"USD",{"$f":"B1366*VLOOKUP(C1366,tblXrate[],2,0)","v":31000},"Analyst","USA","4 to 6",null,{"$f":"VLOOKUP(F1366,mapping!$L$2:$P$92,2,0)","v":1},{"$f":"VLOOKUP($F1366,mapping!$L$2:$P$92,3,0)","v":48386.69},{"$f":"VLOOKUP($F1366,mapping!$L$2:$P$92,4,0)","v":"Major Advanced Economies (G7)"},{"$f":"$D1366*VLOOKUP($E1366,'Charts data'!$A$2:$B$11,2,0)*VLOOKUP($G1366,'Charts data'!$A$14:$B$18,2,0)/IF('Charts data'!$E$3=1,I1366,1)/IF('Charts data'!$E$4=1,J1366,1)","v":31000}]
["ID0257",130000,"USD",{"$f":"B1367*VLOOKUP(C1367,tblXrate[],2,0)","v":130000},"Manager","USA","4 to 6",null,{"$f":"VLOOKUP(F1367,mapping!$L$2:$P$92,2,0)","v":1},{"$f":"VLOOKUP($F1367,mapping!$L$2:$P$92,3,0)","v":48386.69},{"$f":"VLOOKUP($F1367,mapping!$L$2:$P$92,4,0)","v":"Major Advanced Economies (G7)"},{"$f":"$D1367*VLOOKUP($E1367,'Charts data'!$A$2:$B$11,2,0)*VLOOKUP($G1367,'Charts data'!$A$14:$B$18,2,0)/IF('Charts data'!$E$3=1,I1367,1)/IF('Charts data'!$E$4=1,J1367,1)","v":130000}]
["ID0259",51000,"USD",{"$f":"B1368*VLOOKUP(C1368,tblXrate[],2,0)","v":51000},"Analyst","USA","2 to 3",null,{"$f":"VLOOKUP(F1368,mapping!$L$2:$P$92,2,0)","v":1},{"$f":"VLOOKUP($F1368,mapping!$L$2:$P$92,3,0)","v":48386.69},{"$f":"VLOOKUP($F1368,mapping!$L$2:$P$92,4,0)","v":"Major Advanced Economies (G7)"},{"$f":"$D1368*VLOOKUP($E1368,'Charts data'!$A$2:$B$11,2,0)*VLOOKUP($G1368,'Charts data'!$A$14:$B$18,2,0)/IF('Charts data'!$E$3=1,I1368,1)/IF('Charts data'!$E$4=1,J1368,1)","v":51000}]
["ID0263",73000,"USD",{"$f":"B1369*VLOOKUP(C1369,tblXrate[],2,0)","v":73000},"Specialist","USA","4 to 6",null,{"$f":"VLOOKUP(F1369,mapping!$L$2:$P$92,2,0)","v":1},{"$f":"VLOOKUP($F1369,mapping!$L$2:$P$92,3,0)","v":48386.69},{"$f":"VLOOKUP($F1369,mapping!$L$2:$P$92,4,0)","v":"Major Advanced Economies (G7)"},{"$f":"$D1369*VLOOKUP($E1369,'Charts data'!$A$2:$B$11,2,0)*VLOOKUP($G1369,'Charts data'!$A$14:$B$18,2,0)/IF('Charts data'!$E$3=1,I1369,1)/IF('Charts data'!$E$4=1,J1369,1)","v":73000}]
["ID0264",62400,"USD",{"$f":"B1370*VLOOKUP(C1370,tblXrate[],2,0)","v":62400},"Accountant","USA","8 Hrs",null,{"$f":"VLOOKUP(F1370,mapping!$L$2:$P$92,2,0)","v":1},{"$f":"VLOOKUP($F1370,mapping!$L$2:$P$92,3,0)","v":48386.69},{"$f":"VLOOKUP($F1370,mapping!$L$2:$P$92,4,0)","v":"Major Advanced Economies (G7)"},{"$f":"$D1370*VLOOKUP($E1370,'Charts data'!$A$2:$B$11,2,0)*VLOOKUP($G1370,'Charts data'!$A$14:$B$18,2,0)/IF('Charts data'!$E$3=1,I1370,1)/IF('Charts data'!$E$4=1,J1370,1)","v":62400}]
["ID0266",54000,"USD",{"$f":"B1371*VLOOKUP(C1371,tblXrate[],2,0)","v":54000},"Manager","USA","8 Hrs",null,{"$f":"VLOOKUP(F1371,mapping!$L$2:$P$92,2,0)","v":1},{"$f":"VLOOKUP($F1371,mapping!$L$2:$P$92,3,0)","v":48386.69},{"$f":"VLOOKUP($F1371,mapping!$L$2:$P$92,4,0)","v":"Major Advanced Economies (G7)"},{"$f":"$D1371*VLOOKUP($E1371,'Charts data'!$A$2:$B$11,2,0)*VLOOKUP($G1371,'Charts data'!$A$14:$B$18,2,0)/IF('Charts data'!$E$3=1,I1371,1)/IF('Charts data'!$E$4=1,J1371,1)","v":54000}]
["ID0268",77000,"USD",{"$f":"B1372*VLOOKUP(C1372,tblXrate[],2,0)","v":77000},"Accountant","USA","4 to 6",null,{"$f":"VLOOKUP(F1372,mapping!$L$2:$P$92,2,0)","v":1},{"$f":"VLOOKUP($F1372,mapping!$L$2:$P$92,3,0)","v":48386.69},{"$f":"VLOOKUP($F1372,mapping!$L$2:$P$92,4,0)","v":"Major Advanced Economies (G7)"},{"$f":"$D1372*VLOOKUP($E1372,'Charts data'!$A$2:$B$11,2,0)*VLOOKUP($G1372,'Charts data'!$A$14:$B$18,2,0)/IF('Charts data'!$E$3=1,I1372,1)/IF('Charts data'!$E$4=1,J1372,1)","v":77000}]
["ID0269",76000,"USD",{"$f":"B1373*VLOOKUP(C1373,tblXrate[],2,0)","v":76000},"Manager","USA","8 Hrs",null,{"$f":"VLOOKUP(F1373,mapping!$L$2:$P$92,2,0)","v":1},{"$f":"VLOOKUP($F1373,mapping!$L$2:$P$92,3,0)","v":48386.69},{"$f":"VLOOKUP($F1373,mapping!$L$2:$P$92,4,0)","v":"Major Advanced Economies (G7)"},{"$f":"$D1373*VLOOKUP($E1373,'Charts data'!$A$2:$B$11,2,0)*VLOOKUP($G1373,'Charts data'!$A$14:$B$18,2,0)/IF('Charts data'!$E$3=1,I1373,1)/IF('Charts data'!$E$4=1,J1373,1)","v":76000}]
["ID0270",103000,"USD",{"$f":"B1374*VLOOKUP(C1374,tblXrate[],2,0)","v":103000},"CXO or Top Mgmt.","USA","2 to 3",null,{"$f":"VLOOKUP(F1374,mapping!$L$2:$P$92,2,0)","v":1},{"$f":"VLOOKUP($F1374,mapping!$L$2:$P$92,3,0)","v":48386.69},{"$f":"VLOOKUP($F1374,mapping!$L$2:$P$92,4,0)","v":"Major Advanced Economies (G7)"},{"$f":"$D1374*VLOOKUP($E1374,'Charts data'!$A$2:$B$11,2,0)*VLOOKUP($G1374,'Charts data'!$A$14:$B$18,2,0)/IF('Charts data'!$E$3=1,I1374,1)/IF('Charts data'!$E$4=1,J1374,1)","v":103000}]
["ID0272",40000,"USD",{"$f":"B1375*VLOOKUP(C1375,tblXrate[],2,0)","v":40000},"Analyst","USA","4 to 6",null,{"$f":"VLOOKUP(F1375,mapping!$L$2:$P$92,2,0)","v":1},{"$f":"VLOOKUP($F1375,mapping!$L$2:$P$92,3,0)","v":48386.69},{"$f":"VLOOKUP($F1375,mapping!$L$2:$P$92,4,0)","v":"Major Advanced Economies (G7)"},{"$f":"$D1375*VLOOKUP($E1375,'Charts data'!$A$2:$B$11,2,0)*VLOOKUP($G1375,'Charts data'!$A$14:$B$18,2,0)/IF('Charts data'!$E$3=1,I1375,1)/IF('Charts data'!$E$4=1,J1375,1)","v":40000}]
["ID0273",80000,"USD",{"$f":"B1376*VLOOKUP(C1376,tblXrate[],2,0)","v":80000},"CXO or Top Mgmt.","USA","2 to 3",null,{"$f":"VLOOKUP(F1376,mapping!$L$2:$P$92,2,0)","v":1},{"$f":"VLOOKUP($F1376,mapping!$L$2:$P$92,3,0)","v":48386.69},{"$f":"VLOOKUP($F1376,mapping!$L$2:$P$92,4,0)","v":"Major Advanced Economies (G7)"},{"$f":"$D1376*VLOOKUP($E1376,'Charts data'!$A$2:$B$11,2,0)*VLOOKUP($G1376,'Charts data'!$A$14:$B$18,2,0)/IF('Charts data'!$E$3=1,I1376,1)/IF('Charts data'!$E$4=1,J1376,1)","v":80000}]
["ID0274",55000,"USD",{"$f":"B1377*VLOOKUP(C1377,tblXrate[],2,0)","v":55000},"Analyst","USA","8 Hrs",null,{"$f":"VLOOKUP(F1377,mapping!$L$2:$P$92,2,0)","v":1},{"$f":"VLOOKUP($F1377,mapping!$L$2:$P$92,3,0)","v":48386.69},{"$f":"VLOOKUP($F1377,mapping!$L$2:$P$92,4,0)","v":"Major Advanced Economies (G7)"},{"$f":"$D1377*VLOOKUP($E1377,'Charts data'!$A$2:$B$11,2,0)*VLOOKUP($G1377,'Charts data'!$A$14:$B$18,2,0)/IF('Charts data'!$E$3=1,I1377,1)/IF('Charts data'!$E$4=1,J1377,1)","v":55000}]
["ID0275",99000,"USD",{"$f":"B1378*VLOOKUP(C1378,tblXrate[],2,0)","v":99000},"Analyst","USA","2 to 3",null,{"$f":"VLOOKUP(F1378,mapping!$L$2:$P$92,2,0)","v":1},{"$f":"VLOOKUP($F1378,mapping!$L$2:$P$92,3,0)","v":48386.69},{"$f":"VLOOKUP($F1378,mapping!$L$2:$P$92,4,0)","v":"Major Advanced Economies (G7)"},{"$f":"$D1378*VLOOKUP($E1378,'Charts data'!$A$2:$B$11,2,0)*VLOOKUP($G1378,'Charts data'!$A$14:$B$18,2,0)/IF('Charts data'!$E$3=1,I1378,1)/IF('Charts data'!$E$4=1,J1378,1)","v":99000}]
["ID0277",75000,"USD",{"$f":"B1379*VLOOKUP(C1379,tblXrate[],2,0)","v":75000},"Analyst","USA","4 to 6",null,{"$f":"VLOOKUP(F1379,mapping!$L$2:$P$92,2,0)","v":1},{"$f":"VLOOKUP($F1379,mapping!$L$2:$P$92,3,0)","v":48386.69},{"$f":"VLOOKUP($F1379,mapping!$L$2:$P$92,4,0)","v":"Major Advanced Economies (G7)"},{"$f":"$D1379*VLOOKUP($E1379,'Charts data'!$A$2:$B$11,2,0)*VLOOKUP($G1379,'Charts data'!$A$14:$B$18,2,0)/IF('Charts data'!$E$3=1,I1379,1)/IF('Charts data'!$E$4=1,J1379,1)","v":75000}]
["ID0278",80000,"USD",{"$f":"B1380*VLOOKUP(C1380,tblXrate[],2,0)","v":80000},"Manager","USA","2 to 3",null,{"$f":"VLOOKUP(F1380,mapping!$L$2:$P$92,2,0)","v":1},{"$f":"VLOOKUP($F1380,mapping!$L$2:$P$92,3,0)","v":48386.69},{"$f":"VLOOKUP($F1380,mapping!$L$2:$P$92,4,0)","v":"Major Advanced Economies (G7)"},{"$f":"$D1380*VLOOKUP($E1380,'Charts data'!$A$2:$B$11,2,0)*VLOOKUP($G1380,'Charts data'!$A$14:$B$18,2,0)/IF('Charts data'!$E$3=1,I1380,1)/IF('Charts data'!$E$4=1,J1380,1)","v":80000}]
["ID0280",40000,"USD",{"$f":"B1381*VLOOKUP(C1381,tblXrate[],2,0)","v":40000},"Analyst","USA","8 Hrs",null,{"$f":"VLOOKUP(F1381,mapping!$L$2:$P$92,2,0)","v":1},{"$f":"VLOOKUP($F1381,mapping!$L$2:$P$92,3,0)","v":48386.69},{"$f":"VLOOKUP($F1381,mapping!$L$2:$P$92,4,0)","v":"Major Advanced Economies (G7)"},{"$f":"$D1381*VLOOKUP($E1381,'Charts data'!$A$2:$B$11,2,0)*VLOOKUP($G1381,'Charts data'!$A$14:$B$18,2,0)/IF('Charts data'!$E$3=1,I1381,1)/IF('Charts data'!$E$4=1,J1381,1)","v":40000}]
["ID0281",46000,"USD",{"$f":"B1382*VLOOKUP(C1382,tblXrate[],2,0)","v":46000},"Analyst","USA","8 Hrs",null,{"$f":"VLOOKUP(F1382,mapping!$L$2:$P$92,2,0)","v":1},{"$f":"VLOOKUP($F1382,mapping!$L$2:$P$92,3,0)","v":48386.69},{"$f":"VLOOKUP($F1382,mapping!$L$2:$P$92,4,0)","v":"Major Advanced Economies (G7)"},{"$f":"$D1382*VLOOKUP($E1382,'Charts data'!$A$2:$B$11,2,0)*VLOOKUP($G1382,'Charts data'!$A$14:$B$18,2,0)/IF('Charts data'!$E$3=1,I1382,1)/IF('Charts data'!$E$4=1,J1382,1)","v":46000}]
["ID0283",70000,"USD",{"$f":"B1383*VLOOKUP(C1383,tblXrate[],2,0)","v":70000},"Engineer","USA","8 Hrs",null,{"$f":"VLOOKUP(F1383,mapping!$L$2:$P$92,2,0)","v":1},{"$f":"VLOOKUP($F1383,mapping!$L$2:$P$92,3,0)","v":48386.69},{"$f":"VLOOKUP($F1383,mapping!$L$2:$P$92,4,0)","v":"Major Advanced Economies (G7)"},{"$f":"$D1383*VLOOKUP($E1383,'Charts data'!$A$2:$B$11,2,0)*VLOOKUP($G1383,'Charts data'!$A$14:$B$18,2,0)/IF('Charts data'!$E$3=1,I1383,1)/IF('Charts data'!$E$4=1,J1383,1)","v":70000}]
["ID0285",15000,"USD",{"$f":"B1384*VLOOKUP(C1384,tblXrate[],2,0)","v":15000},"Manager","USA","2 to 3",null,{"$f":"VLOOKUP(F1384,mapping!$L$2:$P$92,2,0)","v":1},{"$f":"VLOOKUP($F1384,mapping!$L$2:$P$92,3,0)","v":48386.69},{"$f":"VLOOKUP($F1384,mapping!$L$2:$P$92,4,0)","v":"Major Advanced Economies (G7)"},{"$f":"$D1384*VLOOKUP($E1384,'Charts data'!$A$2:$B$11,2,0)*VLOOKUP($G1384,'Charts data'!$A$14:$B$18,2,0)/IF('Charts data'!$E$3=1,I1384,1)/IF('Charts data'!$E$4=1,J1384,1)","v":15000}]
["ID0289",68000,"USD",{"$f":"B1385*VLOOKUP(C1385,tblXrate[],2,0)","v":68000},"Manager","USA","8 Hrs",null,{"$f":"VLOOKUP(F1385,mapping!$L$2:$P$92,2,0)","v":1},{"$f":"VLOOKUP($F1385,mapping!$L$2:$P$92,3,0)","v":48386.69},{"$f":"VLOOKUP($F1385,mapping!$L$2:$P$92,4,0)","v":"Major Advanced Economies (G7)"},{"$f":"$D1385*VLOOKUP($E1385,'Charts data'!$A$2:$B$11,2,0)*VLOOKUP($G1385,'Charts data'!$A$14:$B$18,2,0)/IF('Charts data'!$E$3=1,I1385,1)/IF('Charts data'!$E$4=1,J1385,1)","v":68000}]
["ID0290",97000,"USD",{"$f":"B1386*VLOOKUP(C1386,tblXrate[],2,0)","v":97000},"Analyst","USA","8 Hrs",null,{"$f":"VLOOKUP(F1386,mapping!$L$2:$P$92,2,0)","v":1},{"$f":"VLOOKUP($F1386,mapping!$L$2:$P$92,3,0)","v":48386.69},{"$f":"VLOOKUP($F1386,mapping!$L$2:$P$92,4,0)","v":"Major Advanced Economies (G7)"},{"$f":"$D1386*VLOOKUP($E1386,'Charts data'!$A$2:$B$11,2,0)*VLOOKUP($G1386,'Charts data'!$A$14:$B$18,2,0)/IF('Charts data'!$E$3=1,I1386,1)/IF('Charts data'!$E$4=1,J1386,1)","v":97000}]
["ID0292",65000,"USD",{"$f":"B1387*VLOOKUP(C1387,tblXrate[],2,0)","v":65000},"Analyst","USA","4 to 6",null,{"$f":"VLOOKUP(F1387,mapping!$L$2:$P$92,2,0)","v":1},{"$f":"VLOOKUP($F1387,mapping!$L$2:$P$92,3,0)","v":48386.69},{"$f":"VLOOKUP($F1387,mapping!$L$2:$P$92,4,0)","v":"Major Advanced Economies (G7)"},{"$f":"$D1387*VLOOKUP($E1387,'Charts data'!$A$2:$B$11,2,0)*VLOOKUP($G1387,'Charts data'!$A$14:$B$18,2,0)/IF('Charts data'!$E$3=1,I1387,1)/IF('Charts data'!$E$4=1,J1387,1)","v":65000}]
["ID0295",50000,"USD",{"$f":"B1388*VLOOKUP(C1388,tblXrate[],2,0)","v":50000},"Analyst","USA","8 Hrs",null,{"$f":"VLOOKUP(F1388,mapping!$L$2:$P$92,2,0)","v":1},{"$f":"VLOOKUP($F1388,mapping!$L$2:$P$92,3,0)","v":48386.69},{"$f":"VLOOKUP($F1388,mapping!$L$2:$P$92,4,0)","v":"Major Advanced Economies (G7)"},{"$f":"$D1388*VLOOKUP($E1388,'Charts data'!$A$2:$B$11,2,0)*VLOOKUP($G1388,'Charts data'!$A$14:$B$18,2,0)/IF('Charts data'!$E$3=1,I1388,1)/IF('Charts data'!$E$4=1,J1388,1)","v":50000}]
["ID0296",45000,"USD",{"$f":"B1389*VLOOKUP(C1389,tblXrate[],2,0)","v":45000},"Analyst","USA","4 to 6",null,{"$f":"VLOOKUP(F1389,mapping!$L$2:$P$92,2,0)","v":1},{"$f":"VLOOKUP($F1389,mapping!$L$2:$P$92,3,0)","v":48386.69},{"$f":"VLOOKUP($F1389,mapping!$L$2:$P$92,4,0)","v":"Major Advanced Economies (G7)"},{"$f":"$D1389*VLOOKUP($E1389,'Charts data'!$A$2:$B$11,2,0)*VLOOKUP($G1389,'Charts data'!$A$14:$B$18,2,0)/IF('Charts data'!$E$3=1,I1389,1)/IF('Charts data'!$E$4=1,J1389,1)","v":45000}]
["ID0298",60000,"USD",{"$f":"B1390*VLOOKUP(C1390,tblXrate[],2,0)","v":60000},"Manager","USA","8 Hrs",null,{"$f":"VLOOKUP(F1390,mapping!$L$2:$P$92,2,0)","v":1},{"$f":"VLOOKUP($F1390,mapping!$L$2:$P$92,3,0)","v":48386.69},{"$f":"VLOOKUP($F1390,mapping!$L$2:$P$92,4,0)","v":"Major Advanced Economies (G7)"},{"$f":"$D1390*VLOOKUP($E1390,'Charts data'!$A$2:$B$11,2,0)*VLOOKUP($G1390,'Charts data'!$A$14:$B$18,2,0)/IF('Charts data'!$E$3=1,I1390,1)/IF('Charts data'!$E$4=1,J1390,1)","v":60000}]
["ID0299",31000,"USD",{"$f":"B1391*VLOOKUP(C1391,tblXrate[],2,0)","v":31000},"Specialist","USA","2 to 3",null,{"$f":"VLOOKUP(F1391,mapping!$L$2:$P$92,2,0)","v":1},{"$f":"VLOOKUP($F1391,mapping!$L$2:$P$92,3,0)","v":48386.69},{"$f":"VLOOKUP($F1391,mapping!$L$2:$P$92,4,0)","v":"Major Advanced Economies (G7)"},{"$f":"$D1391*VLOOKUP($E1391,'Charts data'!$A$2:$B$11,2,0)*VLOOKUP($G1391,'Charts data'!$A$14:$B$18,2,0)/IF('Charts data'!$E$3=1,I1391,1)/IF('Charts data'!$E$4=1,J1391,1)","v":31000}]
["ID0300",75000,"USD",{"$f":"B1392*VLOOKUP(C1392,tblXrate[],2,0)","v":75000},"Analyst","USA","4 to 6",null,{"$f":"VLOOKUP(F1392,mapping!$L$2:$P$92,2,0)","v":1},{"$f":"VLOOKUP($F1392,mapping!$L$2:$P$92,3,0)","v":48386.69},{"$f":"VLOOKUP($F1392,mapping!$L$2:$P$92,4,0)","v":"Major Advanced Economies (G7)"},{"$f":"$D1392*VLOOKUP($E1392,'Charts data'!$A$2:$B$11,2,0)*VLOOKUP($G1392,'Charts data'!$A$14:$B$18,2,0)/IF('Charts data'!$E$3=1,I1392,1)/IF('Charts data'!$E$4=1,J1392,1)","v":75000}]
["ID0301",16000,"USD",{"$f":"B1393*VLOOKUP(C1393,tblXrate[],2,0)","v":16000},"CXO or Top Mgmt.","USA","1 or 2",null,{"$f":"VLOOKUP(F1393,mapping!$L$2:$P$92,2,0)","v":1},{"$f":"VLOOKUP($F1393,mapping!$L$2:$P$92,3,0)","v":48386.69},{"$f":"VLOOKUP($F1393,mapping!$L$2:$P$92,4,0)","v":"Major Advanced Economies (G7)"},{"$f":"$D1393*VLOOKUP($E1393,'Charts data'!$A$2:$B$11,2,0)*VLOOKUP($G1393,'Charts data'!$A$14:$B$18,2,0)/IF('Charts data'!$E$3=1,I1393,1)/IF('Charts data'!$E$4=1,J1393,1)","v":16000}]
["ID0302",36000,"USD",{"$f":"B1394*VLOOKUP(C1394,tblXrate[],2,0)","v":36000},"Analyst","USA","8 Hrs",null,{"$f":"VLOOKUP(F1394,mapping!$L$2:$P$92,2,0)","v":1},{"$f":"VLOOKUP($F1394,mapping!$L$2:$P$92,3,0)","v":48386.69},{"$f":"VLOOKUP($F1394,mapping!$L$2:$P$92,4,0)","v":"Major Advanced Economies (G7)"},{"$f":"$D1394*VLOOKUP($E1394,'Charts data'!$A$2:$B$11,2,0)*VLOOKUP($G1394,'Charts data'!$A$14:$B$18,2,0)/IF('Charts data'!$E$3=1,I1394,1)/IF('Charts data'!$E$4=1,J1394,1)","v":36000}]
["ID0304",53000,"USD",{"$f":"B1395*VLOOKUP(C1395,tblXrate[],2,0)","v":53000},"Analyst","USA","4 to 6",null,{"$f":"VLOOKUP(F1395,mapping!$L$2:$P$92,2,0)","v":1},{"$f":"VLOOKUP($F1395,mapping!$L$2:$P$92,3,0)","v":48386.69},{"$f":"VLOOKUP($F1395,mapping!$L$2:$P$92,4,0)","v":"Major Advanced Economies (G7)"},{"$f":"$D1395*VLOOKUP($E1395,'Charts data'!$A$2:$B$11,2,0)*VLOOKUP($G1395,'Charts data'!$A$14:$B$18,2,0)/IF('Charts data'!$E$3=1,I1395,1)/IF('Charts data'!$E$4=1,J1395,1)","v":53000}]
["ID0306",67000,"USD",{"$f":"B1396*VLOOKUP(C1396,tblXrate[],2,0)","v":67000},"Analyst","USA","4 to 6",null,{"$f":"VLOOKUP(F1396,mapping!$L$2:$P$92,2,0)","v":1},{"$f":"VLOOKUP($F1396,mapping!$L$2:$P$92,3,0)","v":48386.69},{"$f":"VLOOKUP($F1396,mapping!$L$2:$P$92,4,0)","v":"Major Advanced Economies (G7)"},{"$f":"$D1396*VLOOKUP($E1396,'Charts data'!$A$2:$B$11,2,0)*VLOOKUP($G1396,'Charts data'!$A$14:$B$18,2,0)/IF('Charts data'!$E$3=1,I1396,1)/IF('Charts data'!$E$4=1,J1396,1)","v":67000}]
["ID0308",85000,"USD",{"$f":"B1397*VLOOKUP(C1397,tblXrate[],2,0)","v":85000},"Controller","USA","8 Hrs",null,{"$f":"VLOOKUP(F1397,mapping!$L$2:$P$92,2,0)","v":1},{"$f":"VLOOKUP($F1397,mapping!$L$2:$P$92,3,0)","v":48386.69},{"$f":"VLOOKUP($F1397,mapping!$L$2:$P$92,4,0)","v":"Major Advanced Economies (G7)"},{"$f":"$D1397*VLOOKUP($E1397,'Charts data'!$A$2:$B$11,2,0)*VLOOKUP($G1397,'Charts data'!$A$14:$B$18,2,0)/IF('Charts data'!$E$3=1,I1397,1)/IF('Charts data'!$E$4=1,J1397,1)","v":85000}]
["ID0310",40000,"USD",{"$f":"B1398*VLOOKUP(C1398,tblXrate[],2,0)","v":40000},"Manager","USA","4 to 6",null,{"$f":"VLOOKUP(F1398,mapping!$L$2:$P$92,2,0)","v":1},{"$f":"VLOOKUP($F1398,mapping!$L$2:$P$92,3,0)","v":48386.69},{"$f":"VLOOKUP($F1398,mapping!$L$2:$P$92,4,0)","v":"Major Advanced Economies (G7)"},{"$f":"$D1398*VLOOKUP($E1398,'Charts data'!$A$2:$B$11,2,0)*VLOOKUP($G1398,'Charts data'!$A$14:$B$18,2,0)/IF('Charts data'!$E$3=1,I1398,1)/IF('Charts data'!$E$4=1,J1398,1)","v":40000}]
["ID0312",41000,"USD",{"$f":"B1399*VLOOKUP(C1399,tblXrate[],2,0)","v":41000},"Analyst","USA","4 to 6",null,{"$f":"VLOOKUP(F1399,mapping!$L$2:$P$92,2,0)","v":1},{"$f":"VLOOKUP($F1399,mapping!$L$2:$P$92,3,0)","v":48386.69},{"$f":"VLOOKUP($F1399,mapping!$L$2:$P$92,4,0)","v":"Major Advanced Economies (G7)"},{"$f":"$D1399*VLOOKUP($E1399,'Charts data'!$A$2:$B$11,2,0)*VLOOKUP($G1399,'Charts data'!$A$14:$B$18,2,0)/IF('Charts data'!$E$3=1,I1399,1)/IF('Charts data'!$E$4=1,J1399,1)","v":41000}]
["ID0314",125000,"USD",{"$f":"B1400*VLOOKUP(C1400,tblXrate[],2,0)","v":125000},"Manager","USA","4 to 6",null,{"$f":"VLOOKUP(F1400,mapping!$L$2:$P$92,2,0)","v":1},{"$f":"VLOOKUP($F1400,mapping!$L$2:$P$92,3,0)","v":48386.69},{"$f":"VLOOKUP($F1400,mapping!$L$2:$P$92,4,0)","v":"Major Advanced Economies (G7)"},{"$f":"$D1400*VLOOKUP($E1400,'Charts data'!$A$2:$B$11,2,0)*VLOOKUP($G1400,'Charts data'!$A$14:$B$18,2,0)/IF('Charts data'!$E$3=1,I1400,1)/IF('Charts data'!$E$4=1,J1400,1)","v":125000}]
["ID0317",70000,"USD",{"$f":"B1401*VLOOKUP(C1401,tblXrate[],2,0)","v":70000},"Analyst","USA","2 to 3",null,{"$f":"VLOOKUP(F1401,mapping!$L$2:$P$92,2,0)","v":1},{"$f":"VLOOKUP($F1401,mapping!$L$2:$P$92,3,0)","v":48386.69},{"$f":"VLOOKUP($F1401,mapping!$L$2:$P$92,4,0)","v":"Major Advanced Economies (G7)"},{"$f":"$D1401*VLOOKUP($E1401,'Charts data'!$A$2:$B$11,2,0)*VLOOKUP($G1401,'Charts data'!$A$14:$B$18,2,0)/IF('Charts data'!$E$3=1,I1401,1)/IF('Charts data'!$E$4=1,J1401,1)","v":70000}]
["ID0318",400000,"USD",{"$f":"B1402*VLOOKUP(C1402,tblXrate[],2,0)","v":400000},"Specialist","USA","8 Hrs",null,{"$f":"VLOOKUP(F1402,mapping!$L$2:$P$92,2,0)","v":1},{"$f":"VLOOKUP($F1402,mapping!$L$2:$P$92,3,0)","v":48386.69},{"$f":"VLOOKUP($F1402,mapping!$L$2:$P$92,4,0)","v":"Major Advanced Economies (G7)"},{"$f":"$D1402*VLOOKUP($E1402,'Charts data'!$A$2:$B$11,2,0)*VLOOKUP($G1402,'Charts data'!$A$14:$B$18,2,0)/IF('Charts data'!$E$3=1,I1402,1)/IF('Charts data'!$E$4=1,J1402,1)","v":400000}]
["ID0319",55000,"USD",{"$f":"B1403*VLOOKUP(C1403,tblXrate[],2,0)","v":55000},"Analyst","USA","4 to 6",null,{"$f":"VLOOKUP(F1403,mapping!$L$2:$P$92,2,0)","v":1},{"$f":"VLOOKUP($F1403,mapping!$L$2:$P$92,3,0)","v":48386.69},{"$f":"VLOOKUP($F1403,mapping!$L$2:$P$92,4,0)","v":"Major Advanced Economies (G7)"},{"$f":"$D1403*VLOOKUP($E1403,'Charts data'!$A$2:$B$11,2,0)*VLOOKUP($G1403,'Charts data'!$A$14:$B$18,2,0)/IF('Charts data'!$E$3=1,I1403,1)/IF('Charts data'!$E$4=1,J1403,1)","v":55000}]
["ID0320",60000,"USD",{"$f":"B1404*VLOOKUP(C1404,tblXrate[],2,0)","v":60000},"Analyst","USA","4 to 6",null,{"$f":"VLOOKUP(F1404,mapping!$L$2:$P$92,2,0)","v":1},{"$f":"VLOOKUP($F1404,mapping!$L$2:$P$92,3,0)","v":48386.69},{"$f":"VLOOKUP($F1404,mapping!$L$2:$P$92,4,0)","v":"Major Advanced Economies (G7)"},{"$f":"$D1404*VLOOKUP($E1404,'Charts data'!$A$2:$B$11,2,0)*VLOOKUP($G1404,'Charts data'!$A$14:$B$18,2,0)/IF('Charts data'!$E$3=1,I1404,1)/IF('Charts data'!$E$4=1,J1404,1)","v":60000}]
["ID0323",137500,"USD",{"$f":"B1405*VLOOKUP(C1405,tblXrate[],2,0)","v":137500},"Analyst","USA","4 to 6",null,{"$f":"VLOOKUP(F1405,mapping!$L$2:$P$92,2,0)","v":1},{"$f":"VLOOKUP($F1405,mapping!$L$2:$P$92,3,0)","v":48386.69},{"$f":"VLOOKUP($F1405,mapping!$L$2:$P$92,4,0)","v":"Major Advanced Economies (G7)"},{"$f":"$D1405*VLOOKUP($E1405,'Charts data'!$A$2:$B$11,2,0)*VLOOKUP($G1405,'Charts data'!$A$14:$B$18,2,0)/IF('Charts data'!$E$3=1,I1405,1)/IF('Charts data'!$E$4=1,J1405,1)","v":137500}]
["ID0326",47000,"USD",{"$f":"B1406*VLOOKUP(C1406,tblXrate[],2,0)","v":47000},"Specialist","USA","4 to 6",null,{"$f":"VLOOKUP(F1406,mapping!$L$2:$P$92,2,0)","v":1},{"$f":"VLOOKUP($F1406,mapping!$L$2:$P$92,3,0)","v":48386.69},{"$f":"VLOOKUP($F1406,mapping!$L$2:$P$92,4,0)","v":"Major Advanced Economies (G7)"},{"$f":"$D1406*VLOOKUP($E1406,'Charts data'!$A$2:$B$11,2,0)*VLOOKUP($G1406,'Charts data'!$A$14:$B$18,2,0)/IF('Charts data'!$E$3=1,I1406,1)/IF('Charts data'!$E$4=1,J1406,1)","v":47000}]
["ID0327",65000,"USD",{"$f":"B1407*VLOOKUP(C1407,tblXrate[],2,0)","v":65000},"Analyst","USA","8 Hrs",null,{"$f":"VLOOKUP(F1407,mapping!$L$2:$P$92,2,0)","v":1},{"$f":"VLOOKUP($F1407,mapping!$L$2:$P$92,3,0)","v":48386.69},{"$f":"VLOOKUP($F1407,mapping!$L$2:$P$92,4,0)","v":"Major Advanced Economies (G7)"},{"$f":"$D1407*VLOOKUP($E1407,'Charts data'!$A$2:$B$11,2,0)*VLOOKUP($G1407,'Charts data'!$A$14:$B$18,2,0)/IF('Charts data'!$E$3=1,I1407,1)/IF('Charts data'!$E$4=1,J1407,1)","v":65000}]
["ID0329",92000,"USD",{"$f":"B1408*VLOOKUP(C1408,tblXrate[],2,0)","v":92000},"Manager","USA","4 to 6",null,{"$f":"VLOOKUP(F1408,mapping!$L$2:$P$92,2,0)","v":1},{"$f":"VLOOKUP($F1408,mapping!$L$2:$P$92,3,0)","v":48386.69},{"$f":"VLOOKUP($F1408,mapping!$L$2:$P$92,4,0)","v":"Major Advanced Economies (G7)"},{"$f":"$D1408*VLOOKUP($E1408,'Charts data'!$A$2:$B$11,2,0)*VLOOKUP($G1408,'Charts data'!$A$14:$B$18,2,0)/IF('Charts data'!$E$3=1,I1408,1)/IF('Charts data'!$E$4=1,J1408,1)","v":92000}]
["ID0331",108000,"USD",{"$f":"B1409*VLOOKUP(C1409,tblXrate[],2,0)","v":108000},"Manager","USA","2 to 3",null,{"$f":"VLOOKUP(F1409,mapping!$L$2:$P$92,2,0)","v":1},{"$f":"VLOOKUP($F1409,mapping!$L$2:$P$92,3,0)","v":48386.69},{"$f":"VLOOKUP($F1409,mapping!$L$2:$P$92,4,0)","v":"Major Advanced Economies (G7)"},{"$f":"$D1409*VLOOKUP($E1409,'Charts data'!$A$2:$B$11,2,0)*VLOOKUP($G1409,'Charts data'!$A$14:$B$18,2,0)/IF('Charts data'!$E$3=1,I1409,1)/IF('Charts data'!$E$4=1,J1409,1)","v":108000}]
["ID0332",61000,"USD",{"$f":"B1410*VLOOKUP(C1410,tblXrate[],2,0)","v":61000},"Analyst","USA","1 or 2",null,{"$f":"VLOOKUP(F1410,mapping!$L$2:$P$92,2,0)","v":1},{"$f":"VLOOKUP($F1410,mapping!$L$2:$P$92,3,0)","v":48386.69},{"$f":"VLOOKUP($F1410,mapping!$L$2:$P$92,4,0)","v":"Major Advanced Economies (G7)"},{"$f":"$D1410*VLOOKUP($E1410,'Charts data'!$A$2:$B$11,2,0)*VLOOKUP($G1410,'Charts data'!$A$14:$B$18,2,0)/IF('Charts data'!$E$3=1,I1410,1)/IF('Charts data'!$E$4=1,J1410,1)","v":61000}]
["ID0334",50000,"USD",{"$f":"B1411*VLOOKUP(C1411,tblXrate[],2,0)","v":50000},"Analyst","USA","8 Hrs",null,{"$f":"VLOOKUP(F1411,mapping!$L$2:$P$92,2,0)","v":1},{"$f":"VLOOKUP($F1411,mapping!$L$2:$P$92,3,0)","v":48386.69},{"$f":"VLOOKUP($F1411,mapping!$L$2:$P$92,4,0)","v":"Major Advanced Economies (G7)"},{"$f":"$D1411*VLOOKUP($E1411,'Charts data'!$A$2:$B$11,2,0)*VLOOKUP($G1411,'Charts data'!$A$14:$B$18,2,0)/IF('Charts data'!$E$3=1,I1411,1)/IF('Charts data'!$E$4=1,J1411,1)","v":50000}]
["ID0335",150000,"USD",{"$f":"B1412*VLOOKUP(C1412,tblXrate[],2,0)","v":150000},"Accountant","USA","8 Hrs",null,{"$f":"VLOOKUP(F1412,mapping!$L$2:$P$92,2,0)","v":1},{"$f":"VLOOKUP($F1412,mapping!$L$2:$P$92,3,0)","v":48386.69},{"$f":"VLOOKUP($F1412,mapping!$L$2:$P$92,4,0)","v":"Major Advanced Economies (G7)"},{"$f":"$D1412*VLOOKUP($E1412,'Charts data'!$A$2:$B$11,2,0)*VLOOKUP($G1412,'Charts data'!$A$14:$B$18,2,0)/IF('Charts data'!$E$3=1,I1412,1)/IF('Charts data'!$E$4=1,J1412,1)","v":150000}]
["ID0338",45000,"USD",{"$f":"B1413*VLOOKUP(C1413,tblXrate[],2,0)","v":45000},"Specialist","USA","4 to 6",null,{"$f":"VLOOKUP(F1413,mapping!$L$2:$P$92,2,0)","v":1},{"$f":"VLOOKUP($F1413,mapping!$L$2:$P$92,3,0)","v":48386.69},{"$f":"VLOOKUP($F1413,mapping!$L$2:$P$92,4,0)","v":"Major Advanced Economies (G7)"},{"$f":"$D1413*VLOOKUP($E1413,'Charts data'!$A$2:$B$11,2,0)*VLOOKUP($G1413,'Charts data'!$A$14:$B$18,2,0)/IF('Charts data'!$E$3=1,I1413,1)/IF('Charts data'!$E$4=1,J1413,1)","v":45000}]
["ID0339",135000,"USD",{"$f":"B1414*VLOOKUP(C1414,tblXrate[],2,0)","v":135000},"Manager","USA","8 Hrs",null,{"$f":"VLOOKUP(F1414,mapping!$L$2:$P$92,2,0)","v":1},{"$f":"VLOOKUP($F1414,mapping!$L$2:$P$92,3,0)","v":48386.69},{"$f":"VLOOKUP($F1414,mapping!$L$2:$P$92,4,0)","v":"Major Advanced Economies (G7)"},{"$f":"$D1414*VLOOKUP($E1414,'Charts data'!$A$2:$B$11,2,0)*VLOOKUP($G1414,'Charts data'!$A$14:$B$18,2,0)/IF('Charts data'!$E$3=1,I1414,1)/IF('Charts data'!$E$4=1,J1414,1)","v":135000}]
["ID0341",29000,"USD",{"$f":"B1415*VLOOKUP(C1415,tblXrate[],2,0)","v":29000},"Manager","USA","4 to 6",null,{"$f":"VLOOKUP(F1415,mapping!$L$2:$P$92,2,0)","v":1},{"$f":"VLOOKUP($F1415,mapping!$L$2:$P$92,3,0)","v":48386.69},{"$f":"VLOOKUP($F1415,mapping!$L$2:$P$92,4,0)","v":"Major Advanced Economies (G7)"},{"$f":"$D1415*VLOOKUP($E1415,'Charts data'!$A$2:$B$11,2,0)*VLOOKUP($G1415,'Charts data'!$A$14:$B$18,2,0)/IF('Charts data'!$E$3=1,I1415,1)/IF('Charts data'!$E$4=1,J1415,1)","v":29000}]
["ID0343",63000,"USD",{"$f":"B1416*VLOOKUP(C1416,tblXrate[],2,0)","v":63000},"Analyst","USA","8 Hrs",null,{"$f":"VLOOKUP(F1416,mapping!$L$2:$P$92,2,0)","v":1},{"$f":"VLOOKUP($F1416,mapping!$L$2:$P$92,3,0)","v":48386.69},{"$f":"VLOOKUP($F1416,mapping!$L$2:$P$92,4,0)","v":"Major Advanced Economies (G7)"},{"$f":"$D1416*VLOOKUP($E1416,'Charts data'!$A$2:$B$11,2,0)*VLOOKUP($G1416,'Charts data'!$A$14:$B$18,2,0)/IF('Charts data'!$E$3=1,I1416,1)/IF('Charts data'!$E$4=1,J1416,1)","v":63000}]
["ID0344",95000,"USD",{"$f":"B1417*VLOOKUP(C1417,tblXrate[],2,0)","v":95000},"Analyst","USA","4 to 6",null,{"$f":"VLOOKUP(F1417,mapping!$L$2:$P$92,2,0)","v":1},{"$f":"VLOOKUP($F1417,mapping!$L$2:$P$92,3,0)","v":48386.69},{"$f":"VLOOKUP($F1417,mapping!$L$2:$P$92,4,0)","v":"Major Advanced Economies (G7)"},{"$f":"$D1417*VLOOKUP($E1417,'Charts data'!$A$2:$B$11,2,0)*VLOOKUP($G1417,'Charts data'!$A$14:$B$18,2,0)/IF('Charts data'!$E$3=1,I1417,1)/IF('Charts data'!$E$4=1,J1417,1)","v":95000}]
["ID0350",53000,"USD",{"$f":"B1418*VLOOKUP(C1418,tblXrate[],2,0)","v":53000},"Manager","USA","2 to 3",null,{"$f":"VLOOKUP(F1418,mapping!$L$2:$P$92,2,0)","v":1},{"$f":"VLOOKUP($F1418,mapping!$L$2:$P$92,3,0)","v":48386.69},{"$f":"VLOOKUP($F1418,mapping!$L$2:$P$92,4,0)","v":"Major Advanced Economies (G7)"},{"$f":"$D1418*VLOOKUP($E1418,'Charts data'!$A$2:$B$11,2,0)*VLOOKUP($G1418,'Charts data'!$A$14:$B$18,2,0)/IF('Charts data'!$E$3=1,I1418,1)/IF('Charts data'!$E$4=1,J1418,1)","v":53000}]
["ID0351",130000,"USD",{"$f":"B1419*VLOOKUP(C1419,tblXrate[],2,0)","v":130000},"Engineer","USA","4 to 6",null,{"$f":"VLOOKUP(F1419,mapping!$L$2:$P$92,2,0)","v":1},{"$f":"VLOOKUP($F1419,mapping!$L$2:$P$92,3,0)","v":48386.69},{"$f":"VLOOKUP($F1419,mapping!$L$2:$P$92,4,0)","v":"Major Advanced Economies (G7)"},{"$f":"$D1419*VLOOKUP($E1419,'Charts data'!$A$2:$B$11,2,0)*VLOOKUP($G1419,'Charts data'!$A$14:$B$18,2,0)/IF('Charts data'!$E$3=1,I1419,1)/IF('Charts data'!$E$4=1,J1419,1)","v":130000}]
["ID0354",44200,"USD",{"$f":"B1420*VLOOKUP(C1420,tblXrate[],2,0)","v":44200},"Analyst","USA","8 Hrs",null,{"$f":"VLOOKUP(F1420,mapping!$L$2:$P$92,2,0)","v":1},{"$f":"VLOOKUP($F1420,mapping!$L$2:$P$92,3,0)","v":48386.69},{"$f":"VLOOKUP($F1420,mapping!$L$2:$P$92,4,0)","v":"Major Advanced Economies (G7)"},{"$f":"$D1420*VLOOKUP($E1420,'Charts data'!$A$2:$B$11,2,0)*VLOOKUP($G1420,'Charts data'!$A$14:$B$18,2,0)/IF('Charts data'!$E$3=1,I1420,1)/IF('Charts data'!$E$4=1,J1420,1)","v":44200}]
["ID0355",56000,"USD",{"$f":"B1421*VLOOKUP(C1421,tblXrate[],2,0)","v":56000},"Manager","USA","2 to 3",null,{"$f":"VLOOKUP(F1421,mapping!$L$2:$P$92,2,0)","v":1},{"$f":"VLOOKUP($F1421,mapping!$L$2:$P$92,3,0)","v":48386.69},{"$f":"VLOOKUP($F1421,mapping!$L$2:$P$92,4,0)","v":"Major Advanced Economies (G7)"},{"$f":"$D1421*VLOOKUP($E1421,'Charts data'!$A$2:$B$11,2,0)*VLOOKUP($G1421,'Charts data'!$A$14:$B$18,2,0)/IF('Charts data'!$E$3=1,I1421,1)/IF('Charts data'!$E$4=1,J1421,1)","v":56000}]
["ID0356",72500,"USD",{"$f":"B1422*VLOOKUP(C1422,tblXrate[],2,0)","v":72500},"Engineer","USA","2 to 3",null,{"$f":"VLOOKUP(F1422,mapping!$L$2:$P$92,2,0)","v":1},{"$f":"VLOOKUP($F1422,mapping!$L$2:$P$92,3,0)","v":48386.69},{"$f":"VLOOKUP($F1422,mapping!$L$2:$P$92,4,0)","v":"Major Advanced Economies (G7)"},{"$f":"$D1422*VLOOKUP($E1422,'Charts data'!$A$2:$B$11,2,0)*VLOOKUP($G1422,'Charts data'!$A$14:$B$18,2,0)/IF('Charts data'!$E$3=1,I1422,1)/IF('Charts data'!$E$4=1,J1422,1)","v":72500}]
["ID0359",68000,"USD",{"$f":"B1423*VLOOKUP(C1423,tblXrate[],2,0)","v":68000},"Manager","USA","2 to 3",null,{"$f":"VLOOKUP(F1423,mapping!$L$2:$P$92,2,0)","v":1},{"$f":"VLOOKUP($F1423,mapping!$L$2:$P$92,3,0)","v":48386.69},{"$f":"VLOOKUP($F1423,mapping!$L$2:$P$92,4,0)","v":"Major Advanced Economies (G7)"},{"$f":"$D1423*VLOOKUP($E1423,'Charts data'!$A$2:$B$11,2,0)*VLOOKUP($G1423,'Charts data'!$A$14:$B$18,2,0)/IF('Charts data'!$E$3=1,I1423,1)/IF('Charts data'!$E$4=1,J1423,1)","v":68000}]
["ID0360",75000,"USD",{"$f":"B1424*VLOOKUP(C1424,tblXrate[],2,0)","v":75000},"Analyst","USA","8 Hrs",null,{"$f":"VLOOKUP(F1424,mapping!$L$2:$P$92,2,0)","v":1},{"$f":"VLOOKUP($F1424,mapping!$L$2:$P$92,3,0)","v":48386.69},{"$f":"VLOOKUP($F1424,mapping!$L$2:$P$92,4,0)","v":"Major Advanced Economies (G7)"},{"$f":"$D1424*VLOOKUP($E1424,'Charts data'!$A$2:$B$11,2,0)*VLOOKUP($G1424,'Charts data'!$A$14:$B$18,2,0)/IF('Charts data'!$E$3=1,I1424,1)/IF('Charts data'!$E$4=1,J1424,1)","v":75000}]
["ID0361",62500,"USD",{"$f":"B1425*VLOOKUP(C1425,tblXrate[],2,0)","v":62500},"CXO or Top Mgmt.","USA","8 Hrs",null,{"$f":"VLOOKUP(F1425,mapping!$L$2:$P$92,2,0)","v":1},{"$f":"VLOOKUP($F1425,mapping!$L$2:$P$92,3,0)","v":48386.69},{"$f":"VLOOKUP($F1425,mapping!$L$2:$P$92,4,0)","v":"Major Advanced Economies (G7)"},{"$f":"$D1425*VLOOKUP($E1425,'Charts data'!$A$2:$B$11,2,0)*VLOOKUP($G1425,'Charts data'!$A$14:$B$18,2,0)/IF('Charts data'!$E$3=1,I1425,1)/IF('Charts data'!$E$4=1,J1425,1)","v":62500}]
["ID0365",85000,"USD",{"$f":"B1426*VLOOKUP(C1426,tblXrate[],2,0)","v":85000},"Analyst","USA","4 to 6",null,{"$f":"VLOOKUP(F1426,mapping!$L$2:$P$92,2,0)","v":1},{"$f":"VLOOKUP($F1426,mapping!$L$2:$P$92,3,0)","v":48386.69},{"$f":"VLOOKUP($F1426,mapping!$L$2:$P$92,4,0)","v":"Major Advanced Economies (G7)"},{"$f":"$D1426*VLOOKUP($E1426,'Charts data'!$A$2:$B$11,2,0)*VLOOKUP($G1426,'Charts data'!$A$14:$B$18,2,0)/IF('Charts data'!$E$3=1,I1426,1)/IF('Charts data'!$E$4=1,J1426,1)","v":85000}]
["ID0367",89000,"USD",{"$f":"B1427*VLOOKUP(C1427,tblXrate[],2,0)","v":89000},"Manager","USA","4 to 6",null,{"$f":"VLOOKUP(F1427,mapping!$L$2:$P$92,2,0)","v":1},{"$f":"VLOOKUP($F1427,mapping!$L$2:$P$92,3,0)","v":48386.69},{"$f":"VLOOKUP($F1427,mapping!$L$2:$P$92,4,0)","v":"Major Advanced Economies (G7)"},{"$f":"$D1427*VLOOKUP($E1427,'Charts data'!$A$2:$B$11,2,0)*VLOOKUP($G1427,'Charts data'!$A$14:$B$18,2,0)/IF('Charts data'!$E$3=1,I1427,1)/IF('Charts data'!$E$4=1,J1427,1)","v":89000}]
["ID0369",47500,"USD",{"$f":"B1428*VLOOKUP(C1428,tblXrate[],2,0)","v":47500},"Manager","USA","8 Hrs",null,{"$f":"VLOOKUP(F1428,mapping!$L$2:$P$92,2,0)","v":1},{"$f":"VLOOKUP($F1428,mapping!$L$2:$P$92,3,0)","v":48386.69},{"$f":"VLOOKUP($F1428,mapping!$L$2:$P$92,4,0)","v":"Major Advanced Economies (G7)"},{"$f":"$D1428*VLOOKUP($E1428,'Charts data'!$A$2:$B$11,2,0)*VLOOKUP($G1428,'Charts data'!$A$14:$B$18,2,0)/IF('Charts data'!$E$3=1,I1428,1)/IF('Charts data'!$E$4=1,J1428,1)","v":47500}]
["ID0370",130000,"USD",{"$f":"B1429*VLOOKUP(C1429,tblXrate[],2,0)","v":130000},"Manager","USA","2 to 3",null,{"$f":"VLOOKUP(F1429,mapping!$L$2:$P$92,2,0)","v":1},{"$f":"VLOOKUP($F1429,mapping!$L$2:$P$92,3,0)","v":48386.69},{"$f":"VLOOKUP($F1429,mapping!$L$2:$P$92,4,0)","v":"Major Advanced Economies (G7)"},{"$f":"$D1429*VLOOKUP($E1429,'Charts data'!$A$2:$B$11,2,0)*VLOOKUP($G1429,'Charts data'!$A$14:$B$18,2,0)/IF('Charts data'!$E$3=1,I1429,1)/IF('Charts data'!$E$4=1,J1429,1)","v":130000}]
["ID0373",41932,"USD",{"$f":"B1430*VLOOKUP(C1430,tblXrate[],2,0)","v":41932},"Manager","USA","2 to 3",null,{"$f":"VLOOKUP(F1430,mapping!$L$2:$P$92,2,0)","v":1},{"$f":"VLOOKUP($F1430,mapping!$L$2:$P$92,3,0)","v":48386.69},{"$f":"VLOOKUP($F1430,mapping!$L$2:$P$92,4,0)","v":"Major Advanced Economies (G7)"},{"$f":"$D1430*VLOOKUP($E1430,'Charts data'!$A$2:$B$11,2,0)*VLOOKUP($G1430,'Charts data'!$A$14:$B$18,2,0)/IF('Charts data'!$E$3=1,I1430,1)/IF('Charts data'!$E$4=1,J1430,1)","v":41932}]
["ID0375",194000,"USD",{"$f":"B1431*VLOOKUP(C1431,tblXrate[],2,0)","v":194000},"CXO or Top Mgmt.","USA","2 to 3",null,{"$f":"VLOOKUP(F1431,mapping!$L$2:$P$92,2,0)","v":1},{"$f":"VLOOKUP($F1431,mapping!$L$2:$P$92,3,0)","v":48386.69},{"$f":"VLOOKUP($F1431,mapping!$L$2:$P$92,4,0)","v":"Major Advanced Economies (G7)"},{"$f":"$D1431*VLOOKUP($E1431,'Charts data'!$A$2:$B$11,2,0)*VLOOKUP($G1431,'Charts data'!$A$14:$B$18,2,0)/IF('Charts data'!$E$3=1,I1431,1)/IF('Charts data'!$E$4=1,J1431,1)","v":194000}]
["ID0381",95000,"USD",{"$f":"B1432*VLOOKUP(C1432,tblXrate[],2,0)","v":95000},"Analyst","USA","8 Hrs",null,{"$f":"VLOOKUP(F1432,mapping!$L$2:$P$92,2,0)","v":1},{"$f":"VLOOKUP($F1432,mapping!$L$2:$P$92,3,0)","v":48386.69},{"$f":"VLOOKUP($F1432,mapping!$L$2:$P$92,4,0)","v":"Major Advanced Economies (G7)"},{"$f":"$D1432*VLOOKUP($E1432,'Charts data'!$A$2:$B$11,2,0)*VLOOKUP($G1432,'Charts data'!$A$14:$B$18,2,0)/IF('Charts data'!$E$3=1,I1432,1)/IF('Charts data'!$E$4=1,J1432,1)","v":95000}]
["ID0383",48000,"USD",{"$f":"B1433*VLOOKUP(C1433,tblXrate[],2,0)","v":48000},"Analyst","USA","1 or 2",null,{"$f":"VLOOKUP(F1433,mapping!$L$2:$P$92,2,0)","v":1},{"$f":"VLOOKUP($F1433,mapping!$L$2:$P$92,3,0)","v":48386.69},{"$f":"VLOOKUP($F1433,mapping!$L$2:$P$92,4,0)","v":"Major Advanced Economies (G7)"},{"$f":"$D1433*VLOOKUP($E1433,'Charts data'!$A$2:$B$11,2,0)*VLOOKUP($G1433,'Charts data'!$A$14:$B$18,2,0)/IF('Charts data'!$E$3=1,I1433,1)/IF('Charts data'!$E$4=1,J1433,1)","v":48000}]
["ID0384",46000,"USD",{"$f":"B1434*VLOOKUP(C1434,tblXrate[],2,0)","v":46000},"Analyst","USA","4 to 6",null,{"$f":"VLOOKUP(F1434,mapping!$L$2:$P$92,2,0)","v":1},{"$f":"VLOOKUP($F1434,mapping!$L$2:$P$92,3,0)","v":48386.69},{"$f":"VLOOKUP($F1434,mapping!$L$2:$P$92,4,0)","v":"Major Advanced Economies (G7)"},{"$f":"$D1434*VLOOKUP($E1434,'Charts data'!$A$2:$B$11,2,0)*VLOOKUP($G1434,'Charts data'!$A$14:$B$18,2,0)/IF('Charts data'!$E$3=1,I1434,1)/IF('Charts data'!$E$4=1,J1434,1)","v":46000}]
["ID0388",47000,"USD",{"$f":"B1435*VLOOKUP(C1435,tblXrate[],2,0)","v":47000},"Manager","USA","2 to 3",null,{"$f":"VLOOKUP(F1435,mapping!$L$2:$P$92,2,0)","v":1},{"$f":"VLOOKUP($F1435,mapping!$L$2:$P$92,3,0)","v":48386.69},{"$f":"VLOOKUP($F1435,mapping!$L$2:$P$92,4,0)","v":"Major Advanced Economies (G7)"},{"$f":"$D1435*VLOOKUP($E1435,'Charts data'!$A$2:$B$11,2,0)*VLOOKUP($G1435,'Charts data'!$A$14:$B$18,2,0)/IF('Charts data'!$E$3=1,I1435,1)/IF('Charts data'!$E$4=1,J1435,1)","v":47000}]
["ID0389",44000,"USD",{"$f":"B1436*VLOOKUP(C1436,tblXrate[],2,0)","v":44000},"Analyst","USA","2 to 3",null,{"$f":"VLOOKUP(F1436,mapping!$L$2:$P$92,2,0)","v":1},{"$f":"VLOOKUP($F1436,mapping!$L$2:$P$92,3,0)","v":48386.69},{"$f":"VLOOKUP($F1436,mapping!$L$2:$P$92,4,0)","v":"Major Advanced Economies (G7)"},{"$f":"$D1436*VLOOKUP($E1436,'Charts data'!$A$2:$B$11,2,0)*VLOOKUP($G1436,'Charts data'!$A$14:$B$18,2,0)/IF('Charts data'!$E$3=1,I1436,1)/IF('Charts data'!$E$4=1,J1436,1)","v":44000}]
["ID0390",55000,"USD",{"$f":"B1437*VLOOKUP(C1437,tblXrate[],2,0)","v":55000},"Accountant","USA","4 to 6",null,{"$f":"VLOOKUP(F1437,mapping!$L$2:$P$92,2,0)","v":1},{"$f":"VLOOKUP($F1437,mapping!$L$2:$P$92,3,0)","v":48386.69},{"$f":"VLOOKUP($F1437,mapping!$L$2:$P$92,4,0)","v":"Major Advanced Economies (G7)"},{"$f":"$D1437*VLOOKUP($E1437,'Charts data'!$A$2:$B$11,2,0)*VLOOKUP($G1437,'Charts data'!$A$14:$B$18,2,0)/IF('Charts data'!$E$3=1,I1437,1)/IF('Charts data'!$E$4=1,J1437,1)","v":55000}]
["ID0392",50000,"USD",{"$f":"B1438*VLOOKUP(C1438,tblXrate[],2,0)","v":50000},"Manager","USA","2 to 3",null,{"$f":"VLOOKUP(F1438,mapping!$L$2:$P$92,2,0)","v":1},{"$f":"VLOOKUP($F1438,mapping!$L$2:$P$92,3,0)","v":48386.69},{"$f":"VLOOKUP($F1438,mapping!$L$2:$P$92,4,0)","v":"Major Advanced Economies (G7)"},{"$f":"$D1438*VLOOKUP($E1438,'Charts data'!$A$2:$B$11,2,0)*VLOOKUP($G1438,'Charts data'!$A$14:$B$18,2,0)/IF('Charts data'!$E$3=1,I1438,1)/IF('Charts data'!$E$4=1,J1438,1)","v":50000}]
["ID0395",45880,"USD",{"$f":"B1439*VLOOKUP(C1439,tblXrate[],2,0)","v":45880},"Manager","USA","8 Hrs",null,{"$f":"VLOOKUP(F1439,mapping!$L$2:$P$92,2,0)","v":1},{"$f":"VLOOKUP($F1439,mapping!$L$2:$P$92,3,0)","v":48386.69},{"$f":"VLOOKUP($F1439,mapping!$L$2:$P$92,4,0)","v":"Major Advanced Economies (G7)"},{"$f":"$D1439*VLOOKUP($E1439,'Charts data'!$A$2:$B$11,2,0)*VLOOKUP($G1439,'Charts data'!$A$14:$B$18,2,0)/IF('Charts data'!$E$3=1,I1439,1)/IF('Charts data'!$E$4=1,J1439,1)","v":45880}]
["ID0396",70000,"USD",{"$f":"B1440*VLOOKUP(C1440,tblXrate[],2,0)","v":70000},"Manager","USA","4 to 6",null,{"$f":"VLOOKUP(F1440,mapping!$L$2:$P$92,2,0)","v":1},{"$f":"VLOOKUP($F1440,mapping!$L$2:$P$92,3,0)","v":48386.69},{"$f":"VLOOKUP($F1440,mapping!$L$2:$P$92,4,0)","v":"Major Advanced Economies (G7)"},{"$f":"$D1440*VLOOKUP($E1440,'Charts data'!$A$2:$B$11,2,0)*VLOOKUP($G1440,'Charts data'!$A$14:$B$18,2,0)/IF('Charts data'!$E$3=1,I1440,1)/IF('Charts data'!$E$4=1,J1440,1)","v":70000}]
["ID0397",100000,"USD",{"$f":"B1441*VLOOKUP(C1441,tblXrate[],2,0)","v":100000},"Analyst","USA","8 Hrs",null,{"$f":"VLOOKUP(F1441,mapping!$L$2:$P$92,2,0)","v":1},{"$f":"VLOOKUP($F1441,mapping!$L$2:$P$92,3,0)","v":48386.69},{"$f":"VLOOKUP($F1441,mapping!$L$2:$P$92,4,0)","v":"Major Advanced Economies (G7)"},{"$f":"$D1441*VLOOKUP($E1441,'Charts data'!$A$2:$B$11,2,0)*VLOOKUP($G1441,'Charts data'!$A$14:$B$18,2,0)/IF('Charts data'!$E$3=1,I1441,1)/IF('Charts data'!$E$4=1,J1441,1)","v":100000}]
["ID0399",85000,"USD",{"$f":"B1442*VLOOKUP(C1442,tblXrate[],2,0)","v":85000},"Engineer","USA","2 to 3",null,{"$f":"VLOOKUP(F1442,mapping!$L$2:$P$92,2,0)","v":1},{"$f":"VLOOKUP($F1442,mapping!$L$2:$P$92,3,0)","v":48386.69},{"$f":"VLOOKUP($F1442,mapping!$L$2:$P$92,4,0)","v":"Major Advanced Economies (G7)"},{"$f":"$D1442*VLOOKUP($E1442,'Charts data'!$A$2:$B$11,2,0)*VLOOKUP($G1442,'Charts data'!$A$14:$B$18,2,0)/IF('Charts data'!$E$3=1,I1442,1)/IF('Charts data'!$E$4=1,J1442,1)","v":85000}]
["ID0400",47000,"USD",{"$f":"B1443*VLOOKUP(C1443,tblXrate[],2,0)","v":47000},"Manager","USA","4 to 6",null,{"$f":"VLOOKUP(F1443,mapping!$L$2:$P$92,2,0)","v":1},{"$f":"VLOOKUP($F1443,mapping!$L$2:$P$92,3,0)","v":48386.69},{"$f":"VLOOKUP($F1443,mapping!$L$2:$P$92,4,0)","v":"Major Advanced Economies (G7)"},{"$f":"$D1443*VLOOKUP($E1443,'Charts data'!$A$2:$B$11,2,0)*VLOOKUP($G1443,'Charts data'!$A$14:$B$18,2,0)/IF('Charts data'!$E$3=1,I1443,1)/IF('Charts data'!$E$4=1,J1443,1)","v":47000}]
["ID0401",40000,"USD",{"$f":"B1444*VLOOKUP(C1444,tblXrate[],2,0)","v":40000},"Manager","USA","2 to 3",null,{"$f":"VLOOKUP(F1444,mapping!$L$2:$P$92,2,0)","v":1},{"$f":"VLOOKUP($F1444,mapping!$L$2:$P$92,3,0)","v":48386.69},{"$f":"VLOOKUP($F1444,mapping!$L$2:$P$92,4,0)","v":"Major Advanced Economies (G7)"},{"$f":"$D1444*VLOOKUP($E1444,'Charts data'!$A$2:$B$11,2,0)*VLOOKUP($G1444,'Charts data'!$A$14:$B$18,2,0)/IF('Charts data'!$E$3=1,I1444,1)/IF('Charts data'!$E$4=1,J1444,1)","v":40000}]
["ID0404",34000,"USD",{"$f":"B1445*VLOOKUP(C1445,tblXrate[],2,0)","v":34000},"Analyst","USA","4 to 6",null,{"$f":"VLOOKUP(F1445,mapping!$L$2:$P$92,2,0)","v":1},{"$f":"VLOOKUP($F1445,mapping!$L$2:$P$92,3,0)","v":48386.69},{"$f":"VLOOKUP($F1445,mapping!$L$2:$P$92,4,0)","v":"Major Advanced Economies (G7)"},{"$f":"$D1445*VLOOKUP($E1445,'Charts data'!$A$2:$B$11,2,0)*VLOOKUP($G1445,'Charts data'!$A$14:$B$18,2,0)/IF('Charts data'!$E$3=1,I1445,1)/IF('Charts data'!$E$4=1,J1445,1)","v":34000}]
["ID0405",52000,"USD",{"$f":"B1446*VLOOKUP(C1446,tblXrate[],2,0)","v":52000},"Analyst","USA","4 to 6",null,{"$f":"VLOOKUP(F1446,mapping!$L$2:$P$92,2,0)","v":1},{"$f":"VLOOKUP($F1446,mapping!$L$2:$P$92,3,0)","v":48386.69},{"$f":"VLOOKUP($F1446,mapping!$L$2:$P$92,4,0)","v":"Major Advanced Economies (G7)"},{"$f":"$D1446*VLOOKUP($E1446,'Charts data'!$A$2:$B$11,2,0)*VLOOKUP($G1446,'Charts data'!$A$14:$B$18,2,0)/IF('Charts data'!$E$3=1,I1446,1)/IF('Charts data'!$E$4=1,J1446,1)","v":52000}]
["ID0410",60000,"USD",{"$f":"B1447*VLOOKUP(C1447,tblXrate[],2,0)","v":60000},"Analyst","USA","4 to 6",null,{"$f":"VLOOKUP(F1447,mapping!$L$2:$P$92,2,0)","v":1},{"$f":"VLOOKUP($F1447,mapping!$L$2:$P$92,3,0)","v":48386.69},{"$f":"VLOOKUP($F1447,mapping!$L$2:$P$92,4,0)","v":"Major Advanced Economies (G7)"},{"$f":"$D1447*VLOOKUP($E1447,'Charts data'!$A$2:$B$11,2,0)*VLOOKUP($G1447,'Charts data'!$A$14:$B$18,2,0)/IF('Charts data'!$E$3=1,I1447,1)/IF('Charts data'!$E$4=1,J1447,1)","v":60000}]
["ID0413",56000,"USD",{"$f":"B1448*VLOOKUP(C1448,tblXrate[],2,0)","v":56000},"Analyst","USA","4 to 6",null,{"$f":"VLOOKUP(F1448,mapping!$L$2:$P$92,2,0)","v":1},{"$f":"VLOOKUP($F1448,mapping!$L$2:$P$92,3,0)","v":48386.69},{"$f":"VLOOKUP($F1448,mapping!$L$2:$P$92,4,0)","v":"Major Advanced Economies (G7)"},{"$f":"$D1448*VLOOKUP($E1448,'Charts data'!$A$2:$B$11,2,0)*VLOOKUP($G1448,'Charts data'!$A$14:$B$18,2,0)/IF('Charts data'!$E$3=1,I1448,1)/IF('Charts data'!$E$4=1,J1448,1)","v":56000}]
["ID0414",52000,"USD",{"$f":"B1449*VLOOKUP(C1449,tblXrate[],2,0)","v":52000},"Accountant","USA","4 to 6",null,{"$f":"VLOOKUP(F1449,mapping!$L$2:$P$92,2,0)","v":1},{"$f":"VLOOKUP($F1449,mapping!$L$2:$P$92,3,0)","v":48386.69},{"$f":"VLOOKUP($F1449,mapping!$L$2:$P$92,4,0)","v":"Major Advanced Economies (G7)"},{"$f":"$D1449*VLOOKUP($E1449,'Charts data'!$A$2:$B$11,2,0)*VLOOKUP($G1449,'Charts data'!$A$14:$B$18,2,0)/IF('Charts data'!$E$3=1,I1449,1)/IF('Charts data'!$E$4=1,J1449,1)","v":52000}]
["ID0415",51613,"USD",{"$f":"B1450*VLOOKUP(C1450,tblXrate[],2,0)","v":51613},"Analyst","USA","8 Hrs",null,{"$f":"VLOOKUP(F1450,mapping!$L$2:$P$92,2,0)","v":1},{"$f":"VLOOKUP($F1450,mapping!$L$2:$P$92,3,0)","v":48386.69},{"$f":"VLOOKUP($F1450,mapping!$L$2:$P$92,4,0)","v":"Major Advanced Economies (G7)"},{"$f":"$D1450*VLOOKUP($E1450,'Charts data'!$A$2:$B$11,2,0)*VLOOKUP($G1450,'Charts data'!$A$14:$B$18,2,0)/IF('Charts data'!$E$3=1,I1450,1)/IF('Charts data'!$E$4=1,J1450,1)","v":51613}]
["ID0417",56000,"USD",{"$f":"B1451*VLOOKUP(C1451,tblXrate[],2,0)","v":56000},"Manager","USA","8 Hrs",null,{"$f":"VLOOKUP(F1451,mapping!$L$2:$P$92,2,0)","v":1},{"$f":"VLOOKUP($F1451,mapping!$L$2:$P$92,3,0)","v":48386.69},{"$f":"VLOOKUP($F1451,mapping!$L$2:$P$92,4,0)","v":"Major Advanced Economies (G7)"},{"$f":"$D1451*VLOOKUP($E1451,'Charts data'!$A$2:$B$11,2,0)*VLOOKUP($G1451,'Charts data'!$A$14:$B$18,2,0)/IF('Charts data'!$E$3=1,I1451,1)/IF('Charts data'!$E$4=1,J1451,1)","v":56000}]
["ID0418",115000,"USD",{"$f":"B1452*VLOOKUP(C1452,tblXrate[],2,0)","v":115000},"Consultant","USA","2 to 3",null,{"$f":"VLOOKUP(F1452,mapping!$L$2:$P$92,2,0)","v":1},{"$f":"VLOOKUP($F1452,mapping!$L$2:$P$92,3,0)","v":48386.69},{"$f":"VLOOKUP($F1452,mapping!$L$2:$P$92,4,0)","v":"Major Advanced Economies (G7)"},{"$f":"$D1452*VLOOKUP($E1452,'Charts data'!$A$2:$B$11,2,0)*VLOOKUP($G1452,'Charts data'!$A$14:$B$18,2,0)/IF('Charts data'!$E$3=1,I1452,1)/IF('Charts data'!$E$4=1,J1452,1)","v":115000}]
["ID0421",72000,"USD",{"$f":"B1453*VLOOKUP(C1453,tblXrate[],2,0)","v":72000},"CXO or Top Mgmt.","USA","4 to 6",null,{"$f":"VLOOKUP(F1453,mapping!$L$2:$P$92,2,0)","v":1},{"$f":"VLOOKUP($F1453,mapping!$L$2:$P$92,3,0)","v":48386.69},{"$f":"VLOOKUP($F1453,mapping!$L$2:$P$92,4,0)","v":"Major Advanced Economies (G7)"},{"$f":"$D1453*VLOOKUP($E1453,'Charts data'!$A$2:$B$11,2,0)*VLOOKUP($G1453,'Charts data'!$A$14:$B$18,2,0)/IF('Charts data'!$E$3=1,I1453,1)/IF('Charts data'!$E$4=1,J1453,1)","v":72000}]
["ID0422",90000,"USD",{"$f":"B1454*VLOOKUP(C1454,tblXrate[],2,0)","v":90000},"Analyst","USA","8 Hrs",null,{"$f":"VLOOKUP(F1454,mapping!$L$2:$P$92,2,0)","v":1},{"$f":"VLOOKUP($F1454,mapping!$L$2:$P$92,3,0)","v":48386.69},{"$f":"VLOOKUP($F1454,mapping!$L$2:$P$92,4,0)","v":"Major Advanced Economies (G7)"},{"$f":"$D1454*VLOOKUP($E1454,'Charts data'!$A$2:$B$11,2,0)*VLOOKUP($G1454,'Charts data'!$A$14:$B$18,2,0)/IF('Charts data'!$E$3=1,I1454,1)/IF('Charts data'!$E$4=1,J1454,1)","v":90000}]
["ID0425",250000,"USD",{"$f":"B1455*VLOOKUP(C1455,tblXrate[],2,0)","v":250000},"Consultant","USA","8 Hrs",null,{"$f":"VLOOKUP(F1455,mapping!$L$2:$P$92,2,0)","v":1},{"$f":"VLOOKUP($F1455,mapping!$L$2:$P$92,3,0)","v":48386.69},{"$f":"VLOOKUP($F1455,mapping!$L$2:$P$92,4,0)","v":"Major Advanced Economies (G7)"},{"$f":"$D1455*VLOOKUP($E1455,'Charts data'!$A$2:$B$11,2,0)*VLOOKUP($G1455,'Charts data'!$A$14:$B$18,2,0)/IF('Charts data'!$E$3=1,I1455,1)/IF('Charts data'!$E$4=1,J1455,1)","v":250000}]
["ID0428",30000,"USD",{"$f":"B1456*VLOOKUP(C1456,tblXrate[],2,0)","v":30000},"Manager","USA","2 to 3",null,{"$f":"VLOOKUP(F1456,mapping!$L$2:$P$92,2,0)","v":1},{"$f":"VLOOKUP($F1456,mapping!$L$2:$P$92,3,0)","v":48386.69},{"$f":"VLOOKUP($F1456,mapping!$L$2:$P$92,4,0)","v":"Major Advanced Economies (G7)"},{"$f":"$D1456*VLOOKUP($E1456,'Charts data'!$A$2:$B$11,2,0)*VLOOKUP($G1456,'Charts data'!$A$14:$B$18,2,0)/IF('Charts data'!$E$3=1,I1456,1)/IF('Charts data'!$E$4=1,J1456,1)","v":30000}]
["ID0430",24000,"USD",{"$f":"B1457*VLOOKUP(C1457,tblXrate[],2,0)","v":24000},"Engineer","USA","1 or 2",null,{"$f":"VLOOKUP(F1457,mapping!$L$2:$P$92,2,0)","v":1},{"$f":"VLOOKUP($F1457,mapping!$L$2:$P$92,3,0)","v":48386.69},{"$f":"VLOOKUP($F1457,mapping!$L$2:$P$92,4,0)","v":"Major Advanced Economies (G7)"},{"$f":"$D1457*VLOOKUP($E1457,'Charts data'!$A$2:$B$11,2,0)*VLOOKUP($G1457,'Charts data'!$A$14:$B$18,2,0)/IF('Charts data'!$E$3=1,I1457,1)/IF('Charts data'!$E$4=1,J1457,1)","v":24000}]
["ID0431",60000,"USD",{"$f":"B1458*VLOOKUP(C1458,tblXrate[],2,0)","v":60000},"Manager","USA","4 to 6",null,{"$f":"VLOOKUP(F1458,mapping!$L$2:$P$92,2,0)","v":1},{"$f":"VLOOKUP($F1458,mapping!$L$2:$P$92,3,0)","v":48386.69},{"$f":"VLOOKUP($F1458,mapping!$L$2:$P$92,4,0)","v":"Major Advanced Economies (G7)"},{"$f":"$D1458*VLOOKUP($E1458,'Charts data'!$A$2:$B$11,2,0)*VLOOKUP($G1458,'Charts data'!$A$14:$B$18,2,0)/IF('Charts data'!$E$3=1,I1458,1)/IF('Charts data'!$E$4=1,J1458,1)","v":60000}]
["ID0432",76600,"USD",{"$f":"B1459*VLOOKUP(C1459,tblXrate[],2,0)","v":76600},"Analyst","USA","2 to 3",null,{"$f":"VLOOKUP(F1459,mapping!$L$2:$P$92,2,0)","v":1},{"$f":"VLOOKUP($F1459,mapping!$L$2:$P$92,3,0)","v":48386.69},{"$f":"VLOOKUP($F1459,mapping!$L$2:$P$92,4,0)","v":"Major Advanced Economies (G7)"},{"$f":"$D1459*VLOOKUP($E1459,'Charts data'!$A$2:$B$11,2,0)*VLOOKUP($G1459,'Charts data'!$A$14:$B$18,2,0)/IF('Charts data'!$E$3=1,I1459,1)/IF('Charts data'!$E$4=1,J1459,1)","v":76600}]
["ID0435",90000,"USD",{"$f":"B1460*VLOOKUP(C1460,tblXrate[],2,0)","v":90000},"Analyst","USA","1 or 2",null,{"$f":"VLOOKUP(F1460,mapping!$L$2:$P$92,2,0)","v":1},{"$f":"VLOOKUP($F1460,mapping!$L$2:$P$92,3,0)","v":48386.69},{"$f":"VLOOKUP($F1460,mapping!$L$2:$P$92,4,0)","v":"Major Advanced Economies (G7)"},{"$f":"$D1460*VLOOKUP($E1460,'Charts data'!$A$2:$B$11,2,0)*VLOOKUP($G1460,'Charts data'!$A$14:$B$18,2,0)/IF('Charts data'!$E$3=1,I1460,1)/IF('Charts data'!$E$4=1,J1460,1)","v":90000}]
["ID0437",75000,"USD",{"$f":"B1461*VLOOKUP(C1461,tblXrate[],2,0)","v":75000},"Analyst","USA","4 to 6",null,{"$f":"VLOOKUP(F1461,mapping!$L$2:$P$92,2,0)","v":1},{"$f":"VLOOKUP($F1461,mapping!$L$2:$P$92,3,0)","v":48386.69},{"$f":"VLOOKUP($F1461,mapping!$L$2:$P$92,4,0)","v":"Major Advanced Economies (G7)"},{"$f":"$D1461*VLOOKUP($E1461,'Charts data'!$A$2:$B$11,2,0)*VLOOKUP($G1461,'Charts data'!$A$14:$B$18,2,0)/IF('Charts data'!$E$3=1,I1461,1)/IF('Charts data'!$E$4=1,J1461,1)","v":75000}]
["ID0438",72000,"USD",{"$f":"B1462*VLOOKUP(C1462,tblXrate[],2,0)","v":72000},"Analyst","USA","2 to 3",null,{"$f":"VLOOKUP(F1462,mapping!$L$2:$P$92,2,0)","v":1},{"$f":"VLOOKUP($F1462,mapping!$L$2:$P$92,3,0)","v":48386.69},{"$f":"VLOOKUP($F1462,mapping!$L$2:$P$92,4,0)","v":"Major Advanced Economies (G7)"},{"$f":"$D1462*VLOOKUP($E1462,'Charts data'!$A$2:$B$11,2,0)*VLOOKUP($G1462,'Charts data'!$A$14:$B$18,2,0)/IF('Charts data'!$E$3=1,I1462,1)/IF('Charts data'!$E$4=1,J1462,1)","v":72000}]
["ID0439",65000,"USD",{"$f":"B1463*VLOOKUP(C1463,tblXrate[],2,0)","v":65000},"Analyst","USA","4 to 6",null,{"$f":"VLOOKUP(F1463,mapping!$L$2:$P$92,2,0)","v":1},{"$f":"VLOOKUP($F1463,mapping!$L$2:$P$92,3,0)","v":48386.69},{"$f":"VLOOKUP($F1463,mapping!$L$2:$P$92,4,0)","v":"Major Advanced Economies (G7)"},{"$f":"$D1463*VLOOKUP($E1463,'Charts data'!$A$2:$B$11,2,0)*VLOOKUP($G1463,'Charts data'!$A$14:$B$18,2,0)/IF('Charts data'!$E$3=1,I1463,1)/IF('Charts data'!$E$4=1,J1463,1)","v":65000}]
["ID0440",120000,"USD",{"$f":"B1464*VLOOKUP(C1464,tblXrate[],2,0)","v":120000},"CXO or Top Mgmt.","USA","1 or 2",null,{"$f":"VLOOKUP(F1464,mapping!$L$2:$P$92,2,0)","v":1},{"$f":"VLOOKUP($F1464,mapping!$L$2:$P$92,3,0)","v":48386.69},{"$f":"VLOOKUP($F1464,mapping!$L$2:$P$92,4,0)","v":"Major Advanced Economies (G7)"},{"$f":"$D1464*VLOOKUP($E1464,'Charts data'!$A$2:$B$11,2,0)*VLOOKUP($G1464,'Charts data'!$A$14:$B$18,2,0)/IF('Charts data'!$E$3=1,I1464,1)/IF('Charts data'!$E$4=1,J1464,1)","v":120000}]
["ID0444",80000,"USD",{"$f":"B1465*VLOOKUP(C1465,tblXrate[],2,0)","v":80000},"Analyst","USA","4 to 6",null,{"$f":"VLOOKUP(F1465,mapping!$L$2:$P$92,2,0)","v":1},{"$f":"VLOOKUP($F1465,mapping!$L$2:$P$92,3,0)","v":48386.69},{"$f":"VLOOKUP($F1465,mapping!$L$2:$P$92,4,0)","v":"Major Advanced Economies (G7)"},{"$f":"$D1465*VLOOKUP($E1465,'Charts data'!$A$2:$B$11,2,0)*VLOOKUP($G1465,'Charts data'!$A$14:$B$18,2,0)/IF('Charts data'!$E$3=1,I1465,1)/IF('Charts data'!$E$4=1,J1465,1)","v":80000}]
["ID0447",51000,"USD",{"$f":"B1466*VLOOKUP(C1466,tblXrate[],2,0)","v":51000},"Manager","USA","2 to 3",null,{"$f":"VLOOKUP(F1466,mapping!$L$2:$P$92,2,0)","v":1},{"$f":"VLOOKUP($F1466,mapping!$L$2:$P$92,3,0)","v":48386.69},{"$f":"VLOOKUP($F1466,mapping!$L$2:$P$92,4,0)","v":"Major Advanced Economies (G7)"},{"$f":"$D1466*VLOOKUP($E1466,'Charts data'!$A$2:$B$11,2,0)*VLOOKUP($G1466,'Charts data'!$A$14:$B$18,2,0)/IF('Charts data'!$E$3=1,I1466,1)/IF('Charts data'!$E$4=1,J1466,1)","v":51000}]
["ID0449",74000,"USD",{"$f":"B1467*VLOOKUP(C1467,tblXrate[],2,0)","v":74000},"Engineer","USA","4 to 6",null,{"$f":"VLOOKUP(F1467,mapping!$L$2:$P$92,2,0)","v":1},{"$f":"VLOOKUP($F1467,mapping!$L$2:$P$92,3,0)","v":48386.69},{"$f":"VLOOKUP($F1467,mapping!$L$2:$P$92,4,0)","v":"Major Advanced Economies (G7)"},{"$f":"$D1467*VLOOKUP($E1467,'Charts data'!$A$2:$B$11,2,0)*VLOOKUP($G1467,'Charts data'!$A$14:$B$18,2,0)/IF('Charts data'!$E$3=1,I1467,1)/IF('Charts data'!$E$4=1,J1467,1)","v":74000}]
["ID0451",50000,"USD",{"$f":"B1468*VLOOKUP(C1468,tblXrate[],2,0)","v":50000},"Analyst","USA","4 to 6",null,{"$f":"VLOOKUP(F1468,mapping!$L$2:$P$92,2,0)","v":1},{"$f":"VLOOKUP($F1468,mapping!$L$2:$P$92,3,0)","v":48386.69},{"$f":"VLOOKUP($F1468,mapping!$L$2:$P$92,4,0)","v":"Major Advanced Economies (G7)"},{"$f":"$D1468*VLOOKUP($E1468,'Charts data'!$A$2:$B$11,2,0)*VLOOKUP($G1468,'Charts data'!$A$14:$B$18,2,0)/IF('Charts data'!$E$3=1,I1468,1)/IF('Charts data'!$E$4=1,J1468,1)","v":50000}]
["ID0456",60000,"USD",{"$f":"B1469*VLOOKUP(C1469,tblXrate[],2,0)","v":60000},"Analyst","USA","8 Hrs",null,{"$f":"VLOOKUP(F1469,mapping!$L$2:$P$92,2,0)","v":1},{"$f":"VLOOKUP($F1469,mapping!$L$2:$P$92,3,0)","v":48386.69},{"$f":"VLOOKUP($F1469,mapping!$L$2:$P$92,4,0)","v":"Major Advanced Economies (G7)"},{"$f":"$D1469*VLOOKUP($E1469,'Charts data'!$A$2:$B$11,2,0)*VLOOKUP($G1469,'Charts data'!$A$14:$B$18,2,0)/IF('Charts data'!$E$3=1,I1469,1)/IF('Charts data'!$E$4=1,J1469,1)","v":60000}]
["ID0458",80000,"USD",{"$f":"B1470*VLOOKUP(C1470,tblXrate[],2,0)","v":80000},"Manager","USA","1 or 2",null,{"$f":"VLOOKUP(F1470,mapping!$L$2:$P$92,2,0)","v":1},{"$f":"VLOOKUP($F1470,mapping!$L$2:$P$92,3,0)","v":48386.69},{"$f":"VLOOKUP($F1470,mapping!$L$2:$P$92,4,0)","v":"Major Advanced Economies (G7)"},{"$f":"$D1470*VLOOKUP($E1470,'Charts data'!$A$2:$B$11,2,0)*VLOOKUP($G1470,'Charts data'!$A$14:$B$18,2,0)/IF('Charts data'!$E$3=1,I1470,1)/IF('Charts data'!$E$4=1,J1470,1)","v":80000}]
["ID0461",125000,"USD",{"$f":"B1471*VLOOKUP(C1471,tblXrate[],2,0)","v":125000},"Manager","USA","2 to 3",null,{"$f":"VLOOKUP(F1471,mapping!$L$2:$P$92,2,0)","v":1},{"$f":"VLOOKUP($F1471,mapping!$L$2:$P$92,3,0)","v":48386.69},{"$f":"VLOOKUP($F1471,mapping!$L$2:$P$92,4,0)","v":"Major Advanced Economies (G7)"},{"$f":"$D1471*VLOOKUP($E1471,'Charts data'!$A$2:$B$11,2,0)*VLOOKUP($G1471,'Charts data'!$A$14:$B$18,2,0)/IF('Charts data'!$E$3=1,I1471,1)/IF('Charts data'!$E$4=1,J1471,1)","v":125000}]
["ID0462",52000,"USD",{"$f":"B1472*VLOOKUP(C1472,tblXrate[],2,0)","v":52000},"Analyst","USA","2 to 3",null,{"$f":"VLOOKUP(F1472,mapping!$L$2:$P$92,2,0)","v":1},{"$f":"VLOOKUP($F1472,mapping!$L$2:$P$92,3,0)","v":48386.69},{"$f":"VLOOKUP($F1472,mapping!$L$2:$P$92,4,0)","v":"Major Advanced Economies (G7)"},{"$f":"$D1472*VLOOKUP($E1472,'Charts data'!$A$2:$B$11,2,0)*VLOOKUP($G1472,'Charts data'!$A$14:$B$18,2,0)/IF('Charts data'!$E$3=1,I1472,1)/IF('Charts data'!$E$4=1,J1472,1)","v":52000}]
["ID0463",45000,"USD",{"$f":"B1473*VLOOKUP(C1473,tblXrate[],2,0)","v":45000},"Analyst","USA","4 to 6",null,{"$f":"VLOOKUP(F1473,mapping!$L$2:$P$92,2,0)","v":1},{"$f":"VLOOKUP($F1473,mapping!$L$2:$P$92,3,0)","v":48386.69},{"$f":"VLOOKUP($F1473,mapping!$L$2:$P$92,4,0)","v":"Major Advanced Economies (G7)"},{"$f":"$D1473*VLOOKUP($E1473,'Charts data'!$A$2:$B$11,2,0)*VLOOKUP($G1473,'Charts data'!$A$14:$B$18,2,0)/IF('Charts data'!$E$3=1,I1473,1)/IF('Charts data'!$E$4=1,J1473,1)","v":45000}]
["ID0465",60000,"USD",{"$f":"B1474*VLOOKUP(C1474,tblXrate[],2,0)","v":60000},"Manager","USA","8 Hrs",null,{"$f":"VLOOKUP(F1474,mapping!$L$2:$P$92,2,0)","v":1},{"$f":"VLOOKUP($F1474,mapping!$L$2:$P$92,3,0)","v":48386.69},{"$f":"VLOOKUP($F1474,mapping!$L$2:$P$92,4,0)","v":"Major Advanced Economies (G7)"},{"$f":"$D1474*VLOOKUP($E1474,'Charts data'!$A$2:$B$11,2,0)*VLOOKUP($G1474,'Charts data'!$A$14:$B$18,2,0)/IF('Charts data'!$E$3=1,I1474,1)/IF('Charts data'!$E$4=1,J1474,1)","v":60000}]
["ID0470",150000,"USD",{"$f":"B1475*VLOOKUP(C1475,tblXrate[],2,0)","v":150000},"CXO or Top Mgmt.","USA","2 to 3",null,{"$f":"VLOOKUP(F1475,mapping!$L$2:$P$92,2,0)","v":1},{"$f":"VLOOKUP($F1475,mapping!$L$2:$P$92,3,0)","v":48386.69},{"$f":"VLOOKUP($F1475,mapping!$L$2:$P$92,4,0)","v":"Major Advanced Economies (G7)"},{"$f":"$D1475*VLOOKUP($E1475,'Charts data'!$A$2:$B$11,2,0)*VLOOKUP($G1475,'Charts data'!$A$14:$B$18,2,0)/IF('Charts data'!$E$3=1,I1475,1)/IF('Charts data'!$E$4=1,J1475,1)","v":150000}]
["ID0471",50000,"USD",{"$f":"B1476*VLOOKUP(C1476,tblXrate[],2,0)","v":50000},"Analyst","USA","4 to 6",null,{"$f":"VLOOKUP(F1476,mapping!$L$2:$P$92,2,0)","v":1},{"$f":"VLOOKUP($F1476,mapping!$L$2:$P$92,3,0)","v":48386.69},{"$f":"VLOOKUP($F1476,mapping!$L$2:$P$92,4,0)","v":"Major Advanced Economies (G7)"},{"$f":"$D1476*VLOOKUP($E1476,'Charts data'!$A$2:$B$11,2,0)*VLOOKUP($G1476,'Charts data'!$A$14:$B$18,2,0)/IF('Charts data'!$E$3=1,I1476,1)/IF('Charts data'!$E$4=1,J1476,1)","v":50000}]
["ID0472",70000,"USD",{"$f":"B1477*VLOOKUP(C1477,tblXrate[],2,0)","v":70000},"Analyst","USA","4 to 6",null,{"$f":"VLOOKUP(F1477,mapping!$L$2:$P$92,2,0)","v":1},{"$f":"VLOOKUP($F1477,mapping!$L$2:$P$92,3,0)","v":48386.69},{"$f":"VLOOKUP($F1477,mapping!$L$2:$P$92,4,0)","v":"Major Advanced Economies (G7)"},{"$f":"$D1477*VLOOKUP($E1477,'Charts data'!$A$2:$B$11,2,0)*VLOOKUP($G1477,'Charts data'!$A$14:$B$18,2,0)/IF('Charts data'!$E$3=1,I1477,1)/IF('Charts data'!$E$4=1,J1477,1)","v":70000}]
["ID0478",30000,"USD",{"$f":"B1478*VLOOKUP(C1478,tblXrate[],2,0)","v":30000},"Analyst","USA","0 Hrs",null,{"$f":"VLOOKUP(F1478,mapping!$L$2:$P$92,2,0)","v":1},{"$f":"VLOOKUP($F1478,mapping!$L$2:$P$92,3,0)","v":48386.69},{"$f":"VLOOKUP($F1478,mapping!$L$2:$P$92,4,0)","v":"Major Advanced Economies (G7)"},{"$f":"$D1478*VLOOKUP($E1478,'Charts data'!$A$2:$B$11,2,0)*VLOOKUP($G1478,'Charts data'!$A$14:$B$18,2,0)/IF('Charts data'!$E$3=1,I1478,1)/IF('Charts data'!$E$4=1,J1478,1)","v":30000}]
["ID0480",92000,"USD",{"$f":"B1479*VLOOKUP(C1479,tblXrate[],2,0)","v":92000},"Engineer","USA","1 or 2",null,{"$f":"VLOOKUP(F1479,mapping!$L$2:$P$92,2,0)","v":1},{"$f":"VLOOKUP($F1479,mapping!$L$2:$P$92,3,0)","v":48386.69},{"$f":"VLOOKUP($F1479,mapping!$L$2:$P$92,4,0)","v":"Major Advanced Economies (G7)"},{"$f":"$D1479*VLOOKUP($E1479,'Charts data'!$A$2:$B$11,2,0)*VLOOKUP($G1479,'Charts data'!$A$14:$B$18,2,0)/IF('Charts data'!$E$3=1,I1479,1)/IF('Charts data'!$E$4=1,J1479,1)","v":92000}]
["ID0481",52000,"USD",{"$f":"B1480*VLOOKUP(C1480,tblXrate[],2,0)","v":52000},"Analyst","USA","4 to 6",null,{"$f":"VLOOKUP(F1480,mapping!$L$2:$P$92,2,0)","v":1},{"$f":"VLOOKUP($F1480,mapping!$L$2:$P$92,3,0)","v":48386.69},{"$f":"VLOOKUP($F1480,mapping!$L$2:$P$92,4,0)","v":"Major Advanced Economies (G7)"},{"$f":"$D1480*VLOOKUP($E1480,'Charts data'!$A$2:$B$11,2,0)*VLOOKUP($G1480,'Charts data'!$A$14:$B$18,2,0)/IF('Charts data'!$E$3=1,I1480,1)/IF('Charts data'!$E$4=1,J1480,1)","v":52000}]
["ID0482",169000,"USD",{"$f":"B1481*VLOOKUP(C1481,tblXrate[],2,0)","v":169000},"CXO or Top Mgmt.","USA","2 to 3",null,{"$f":"VLOOKUP(F1481,mapping!$L$2:$P$92,2,0)","v":1},{"$f":"VLOOKUP($F1481,mapping!$L$2:$P$92,3,0)","v":48386.69},{"$f":"VLOOKUP($F1481,mapping!$L$2:$P$92,4,0)","v":"Major Advanced Economies (G7)"},{"$f":"$D1481*VLOOKUP($E1481,'Charts data'!$A$2:$B$11,2,0)*VLOOKUP($G1481,'Charts data'!$A$14:$B$18,2,0)/IF('Charts data'!$E$3=1,I1481,1)/IF('Charts data'!$E$4=1,J1481,1)","v":169000}]
["ID0487",50000,"USD",{"$f":"B1482*VLOOKUP(C1482,tblXrate[],2,0)","v":50000},"Analyst","USA","4 to 6",null,{"$f":"VLOOKUP(F1482,mapping!$L$2:$P$92,2,0)","v":1},{"$f":"VLOOKUP($F1482,mapping!$L$2:$P$92,3,0)","v":48386.69},{"$f":"VLOOKUP($F1482,mapping!$L$2:$P$92,4,0)","v":"Major Advanced Economies (G7)"},{"$f":"$D1482*VLOOKUP($E1482,'Charts data'!$A$2:$B$11,2,0)*VLOOKUP($G1482,'Charts data'!$A$14:$B$18,2,0)/IF('Charts data'!$E$3=1,I1482,1)/IF('Charts data'!$E$4=1,J1482,1)","v":50000}]
["ID0488",65000,"USD",{"$f":"B1483*VLOOKUP(C1483,tblXrate[],2,0)","v":65000},"Analyst","USA","2 to 3",null,{"$f":"VLOOKUP(F1483,mapping!$L$2:$P$92,2,0)","v":1},{"$f":"VLOOKUP($F1483,mapping!$L$2:$P$92,3,0)","v":48386.69},{"$f":"VLOOKUP($F1483,mapping!$L$2:$P$92,4,0)","v":"Major Advanced Economies (G7)"},{"$f":"$D1483*VLOOKUP($E1483,'Charts data'!$A$2:$B$11,2,0)*VLOOKUP($G1483,'Charts data'!$A$14:$B$18,2,0)/IF('Charts data'!$E$3=1,I1483,1)/IF('Charts data'!$E$4=1,J1483,1)","v":65000}]
["ID0490",55000,"USD",{"$f":"B1484*VLOOKUP(C1484,tblXrate[],2,0)","v":55000},"Analyst","USA","2 to 3",null,{"$f":"VLOOKUP(F1484,mapping!$L$2:$P$92,2,0)","v":1},{"$f":"VLOOKUP($F1484,mapping!$L$2:$P$92,3,0)","v":48386.69},{"$f":"VLOOKUP($F1484,mapping!$L$2:$P$92,4,0)","v":"Major Advanced Economies (G7)"},{"$f":"$D1484*VLOOKUP($E1484,'Charts data'!$A$2:$B$11,2,0)*VLOOKUP($G1484,'Charts data'!$A$14:$B$18,2,0)/IF('Charts data'!$E$3=1,I1484,1)/IF('Charts data'!$E$4=1,J1484,1)","v":55000}]
["ID0495",40000,"USD",{"$f":"B1485*VLOOKUP(C1485,tblXrate[],2,0)","v":40000},"Analyst","USA","2 to 3",null,{"$f":"VLOOKUP(F1485,mapping!$L$2:$P$92,2,0)","v":1},{"$f":"VLOOKUP($F1485,mapping!$L$2:$P$92,3,0)","v":48386.69},{"$f":"VLOOKUP($F1485,mapping!$L$2:$P$92,4,0)","v":"Major Advanced Economies (G7)"},{"$f":"$D1485*VLOOKUP($E1485,'Charts data'!$A$2:$B$11,2,0)*VLOOKUP($G1485,'Charts data'!$A$14:$B$18,2,0)/IF('Charts data'!$E$3=1,I1485,1)/IF('Charts data'!$E$4=1,J1485,1)","v":40000}]
["ID0498",84000,"USD",{"$f":"B1486*VLOOKUP(C1486,tblXrate[],2,0)","v":84000},"Analyst","USA","8 Hrs",null,{"$f":"VLOOKUP(F1486,mapping!$L$2:$P$92,2,0)","v":1},{"$f":"VLOOKUP($F1486,mapping!$L$2:$P$92,3,0)","v":48386.69},{"$f":"VLOOKUP($F1486,mapping!$L$2:$P$92,4,0)","v":"Major Advanced Economies (G7)"},{"$f":"$D1486*VLOOKUP($E1486,'Charts data'!$A$2:$B$11,2,0)*VLOOKUP($G1486,'Charts data'!$A$14:$B$18,2,0)/IF('Charts data'!$E$3=1,I1486,1)/IF('Charts data'!$E$4=1,J1486,1)","v":84000}]
["ID0504",77000,"USD",{"$f":"B1487*VLOOKUP(C1487,tblXrate[],2,0)","v":77000},"Analyst","USA","8 Hrs",null,{"$f":"VLOOKUP(F1487,mapping!$L$2:$P$92,2,0)","v":1},{"$f":"VLOOKUP($F1487,mapping!$L$2:$P$92,3,0)","v":48386.69},{"$f":"VLOOKUP($F1487,mapping!$L$2:$P$92,4,0)","v":"Major Advanced Economies (G7)"},{"$f":"$D1487*VLOOKUP($E1487,'Charts data'!$A$2:$B$11,2,0)*VLOOKUP($G1487,'Charts data'!$A$14:$B$18,2,0)/IF('Charts data'!$E$3=1,I1487,1)/IF('Charts data'!$E$4=1,J1487,1)","v":77000}]
["ID0505",100000,"USD",{"$f":"B1488*VLOOKUP(C1488,tblXrate[],2,0)","v":100000},"Analyst","USA","4 to 6",null,{"$f":"VLOOKUP(F1488,mapping!$L$2:$P$92,2,0)","v":1},{"$f":"VLOOKUP($F1488,mapping!$L$2:$P$92,3,0)","v":48386.69},{"$f":"VLOOKUP($F1488,mapping!$L$2:$P$92,4,0)","v":"Major Advanced Economies (G7)"},{"$f":"$D1488*VLOOKUP($E1488,'Charts data'!$A$2:$B$11,2,0)*VLOOKUP($G1488,'Charts data'!$A$14:$B$18,2,0)/IF('Charts data'!$E$3=1,I1488,1)/IF('Charts data'!$E$4=1,J1488,1)","v":100000}]
["ID0512",65000,"USD",{"$f":"B1489*VLOOKUP(C1489,tblXrate[],2,0)","v":65000},"Manager","USA","8 Hrs",null,{"$f":"VLOOKUP(F1489,mapping!$L$2:$P$92,2,0)","v":1},{"$f":"VLOOKUP($F1489,mapping!$L$2:$P$92,3,0)","v":48386.69},{"$f":"VLOOKUP($F1489,mapping!$L$2:$P$92,4,0)","v":"Major Advanced Economies (G7)"},{"$f":"$D1489*VLOOKUP($E1489,'Charts data'!$A$2:$B$11,2,0)*VLOOKUP($G1489,'Charts data'!$A$14:$B$18,2,0)/IF('Charts data'!$E$3=1,I1489,1)/IF('Charts data'!$E$4=1,J1489,1)","v":65000}]
["ID0515",76000,"USD",{"$f":"B1490*VLOOKUP(C1490,tblXrate[],2,0)","v":76000},"Manager","USA","2 to 3",null,{"$f":"VLOOKUP(F1490,mapping!$L$2:$P$92,2,0)","v":1},{"$f":"VLOOKUP($F1490,mapping!$L$2:$P$92,3,0)","v":48386.69},{"$f":"VLOOKUP($F1490,mapping!$L$2:$P$92,4,0)","v":"Major Advanced Economies (G7)"},{"$f":"$D1490*VLOOKUP($E1490,'Charts data'!$A$2:$B$11,2,0)*VLOOKUP($G1490,'Charts data'!$A$14:$B$18,2,0)/IF('Charts data'!$E$3=1,I1490,1)/IF('Charts data'!$E$4=1,J1490,1)","v":76000}]
["ID0516",150000,"USD",{"$f":"B1491*VLOOKUP(C1491,tblXrate[],2,0)","v":150000},"Consultant","USA","8 Hrs",null,{"$f":"VLOOKUP(F1491,mapping!$L$2:$P$92,2,0)","v":1},{"$f":"VLOOKUP($F1491,mapping!$L$2:$P$92,3,0)","v":48386.69},{"$f":"VLOOKUP($F1491,mapping!$L$2:$P$92,4,0)","v":"Major Advanced Economies (G7)"},{"$f":"$D1491*VLOOKUP($E1491,'Charts data'!$A$2:$B$11,2,0)*VLOOKUP($G1491,'Charts data'!$A$14:$B$18,2,0)/IF('Charts data'!$E$3=1,I1491,1)/IF('Charts data'!$E$4=1,J1491,1)","v":150000}]
["ID0517",54000,"USD",{"$f":"B1492*VLOOKUP(C1492,tblXrate[],2,0)","v":54000},"Analyst","USA","4 to 6",null,{"$f":"VLOOKUP(F1492,mapping!$L$2:$P$92,2,0)","v":1},{"$f":"VLOOKUP($F1492,mapping!$L$2:$P$92,3,0)","v":48386.69},{"$f":"VLOOKUP($F1492,mapping!$L$2:$P$92,4,0)","v":"Major Advanced Economies (G7)"},{"$f":"$D1492*VLOOKUP($E1492,'Charts data'!$A$2:$B$11,2,0)*VLOOKUP($G1492,'Charts data'!$A$14:$B$18,2,0)/IF('Charts data'!$E$3=1,I1492,1)/IF('Charts data'!$E$4=1,J1492,1)","v":54000}]
["ID0519",61000,"USD",{"$f":"B1493*VLOOKUP(C1493,tblXrate[],2,0)","v":61000},"Accountant","USA","4 to 6",null,{"$f":"VLOOKUP(F1493,mapping!$L$2:$P$92,2,0)","v":1},{"$f":"VLOOKUP($F1493,mapping!$L$2:$P$92,3,0)","v":48386.69},{"$f":"VLOOKUP($F1493,mapping!$L$2:$P$92,4,0)","v":"Major Advanced Economies (G7)"},{"$f":"$D1493*VLOOKUP($E1493,'Charts data'!$A$2:$B$11,2,0)*VLOOKUP($G1493,'Charts data'!$A$14:$B$18,2,0)/IF('Charts data'!$E$3=1,I1493,1)/IF('Charts data'!$E$4=1,J1493,1)","v":61000}]
["ID0520",70000,"USD",{"$f":"B1494*VLOOKUP(C1494,tblXrate[],2,0)","v":70000},"Analyst","USA","8 Hrs",null,{"$f":"VLOOKUP(F1494,mapping!$L$2:$P$92,2,0)","v":1},{"$f":"VLOOKUP($F1494,mapping!$L$2:$P$92,3,0)","v":48386.69},{"$f":"VLOOKUP($F1494,mapping!$L$2:$P$92,4,0)","v":"Major Advanced Economies (G7)"},{"$f":"$D1494*VLOOKUP($E1494,'Charts data'!$A$2:$B$11,2,0)*VLOOKUP($G1494,'Charts data'!$A$14:$B$18,2,0)/IF('Charts data'!$E$3=1,I1494,1)/IF('Charts data'!$E$4=1,J1494,1)","v":70000}]
["ID0523",72600,"USD",{"$f":"B1495*VLOOKUP(C1495,tblXrate[],2,0)","v":72600},"Manager","USA","2 to 3",null,{"$f":"VLOOKUP(F1495,mapping!$L$2:$P$92,2,0)","v":1},{"$f":"VLOOKUP($F1495,mapping!$L$2:$P$92,3,0)","v":48386.69},{"$f":"VLOOKUP($F1495,mapping!$L$2:$P$92,4,0)","v":"Major Advanced Economies (G7)"},{"$f":"$D1495*VLOOKUP($E1495,'Charts data'!$A$2:$B$11,2,0)*VLOOKUP($G1495,'Charts data'!$A$14:$B$18,2,0)/IF('Charts data'!$E$3=1,I1495,1)/IF('Charts data'!$E$4=1,J1495,1)","v":72600}]
["ID0524",100000,"USD",{"$f":"B1496*VLOOKUP(C1496,tblXrate[],2,0)","v":100000},"CXO or Top Mgmt.","USA","2 to 3",null,{"$f":"VLOOKUP(F1496,mapping!$L$2:$P$92,2,0)","v":1},{"$f":"VLOOKUP($F1496,mapping!$L$2:$P$92,3,0)","v":48386.69},{"$f":"VLOOKUP($F1496,mapping!$L$2:$P$92,4,0)","v":"Major Advanced Economies (G7)"},{"$f":"$D1496*VLOOKUP($E1496,'Charts data'!$A$2:$B$11,2,0)*VLOOKUP($G1496,'Charts data'!$A$14:$B$18,2,0)/IF('Charts data'!$E$3=1,I1496,1)/IF('Charts data'!$E$4=1,J1496,1)","v":100000}]
["ID0525",104000,"USD",{"$f":"B1497*VLOOKUP(C1497,tblXrate[],2,0)","v":104000},"Analyst","USA","4 to 6",null,{"$f":"VLOOKUP(F1497,mapping!$L$2:$P$92,2,0)","v":1},{"$f":"VLOOKUP($F1497,mapping!$L$2:$P$92,3,0)","v":48386.69},{"$f":"VLOOKUP($F1497,mapping!$L$2:$P$92,4,0)","v":"Major Advanced Economies (G7)"},{"$f":"$D1497*VLOOKUP($E1497,'Charts data'!$A$2:$B$11,2,0)*VLOOKUP($G1497,'Charts data'!$A$14:$B$18,2,0)/IF('Charts data'!$E$3=1,I1497,1)/IF('Charts data'!$E$4=1,J1497,1)","v":104000}]
["ID0527",200000,"USD",{"$f":"B1498*VLOOKUP(C1498,tblXrate[],2,0)","v":200000},"CXO or Top Mgmt.","USA","2 to 3",null,{"$f":"VLOOKUP(F1498,mapping!$L$2:$P$92,2,0)","v":1},{"$f":"VLOOKUP($F1498,mapping!$L$2:$P$92,3,0)","v":48386.69},{"$f":"VLOOKUP($F1498,mapping!$L$2:$P$92,4,0)","v":"Major Advanced Economies (G7)"},{"$f":"$D1498*VLOOKUP($E1498,'Charts data'!$A$2:$B$11,2,0)*VLOOKUP($G1498,'Charts data'!$A$14:$B$18,2,0)/IF('Charts data'!$E$3=1,I1498,1)/IF('Charts data'!$E$4=1,J1498,1)","v":200000}]
["ID0530",82300,"USD",{"$f":"B1499*VLOOKUP(C1499,tblXrate[],2,0)","v":82300},"Manager","USA","2 to 3",null,{"$f":"VLOOKUP(F1499,mapping!$L$2:$P$92,2,0)","v":1},{"$f":"VLOOKUP($F1499,mapping!$L$2:$P$92,3,0)","v":48386.69},{"$f":"VLOOKUP($F1499,mapping!$L$2:$P$92,4,0)","v":"Major Advanced Economies (G7)"},{"$f":"$D1499*VLOOKUP($E1499,'Charts data'!$A$2:$B$11,2,0)*VLOOKUP($G1499,'Charts data'!$A$14:$B$18,2,0)/IF('Charts data'!$E$3=1,I1499,1)/IF('Charts data'!$E$4=1,J1499,1)","v":82300}]
["ID0531",95000,"USD",{"$f":"B1500*VLOOKUP(C1500,tblXrate[],2,0)","v":95000},"Consultant","USA","4 to 6",null,{"$f":"VLOOKUP(F1500,mapping!$L$2:$P$92,2,0)","v":1},{"$f":"VLOOKUP($F1500,mapping!$L$2:$P$92,3,0)","v":48386.69},{"$f":"VLOOKUP($F1500,mapping!$L$2:$P$92,4,0)","v":"Major Advanced Economies (G7)"},{"$f":"$D1500*VLOOKUP($E1500,'Charts data'!$A$2:$B$11,2,0)*VLOOKUP($G1500,'Charts data'!$A$14:$B$18,2,0)/IF('Charts data'!$E$3=1,I1500,1)/IF('Charts data'!$E$4=1,J1500,1)","v":95000}]
["ID0537",50000,"USD",{"$f":"B1501*VLOOKUP(C1501,tblXrate[],2,0)","v":50000},"Analyst","USA","2 to 3",null,{"$f":"VLOOKUP(F1501,mapping!$L$2:$P$92,2,0)","v":1},{"$f":"VLOOKUP($F1501,mapping!$L$2:$P$92,3,0)","v":48386.69},{"$f":"VLOOKUP($F1501,mapping!$L$2:$P$92,4,0)","v":"Major Advanced Economies (G7)"},{"$f":"$D1501*VLOOKUP($E1501,'Charts data'!$A$2:$B$11,2,0)*VLOOKUP($G1501,'Charts data'!$A$14:$B$18,2,0)/IF('Charts data'!$E$3=1,I1501,1)/IF('Charts data'!$E$4=1,J1501,1)","v":50000}]
["ID0540",46000,"USD",{"$f":"B1502*VLOOKUP(C1502,tblXrate[],2,0)","v":46000},"Analyst","USA","2 to 3",null,{"$f":"VLOOKUP(F1502,mapping!$L$2:$P$92,2,0)","v":1},{"$f":"VLOOKUP($F1502,mapping!$L$2:$P$92,3,0)","v":48386.69},{"$f":"VLOOKUP($F1502,mapping!$L$2:$P$92,4,0)","v":"Major Advanced Economies (G7)"},{"$f":"$D1502*VLOOKUP($E1502,'Charts data'!$A$2:$B$11,2,0)*VLOOKUP($G1502,'Charts data'!$A$14:$B$18,2,0)/IF('Charts data'!$E$3=1,I1502,1)/IF('Charts data'!$E$4=1,J1502,1)","v":46000}]
["ID0545",43000,"USD",{"$f":"B1503*VLOOKUP(C1503,tblXrate[],2,0)","v":43000},"Accountant","USA","8 Hrs",null,{"$f":"VLOOKUP(F1503,mapping!$L$2:$P$92,2,0)","v":1},{"$f":"VLOOKUP($F1503,mapping!$L$2:$P$92,3,0)","v":48386.69},{"$f":"VLOOKUP($F1503,mapping!$L$2:$P$92,4,0)","v":"Major Advanced Economies (G7)"},{"$f":"$D1503*VLOOKUP($E1503,'Charts data'!$A$2:$B$11,2,0)*VLOOKUP($G1503,'Charts data'!$A$14:$B$18,2,0)/IF('Charts data'!$E$3=1,I1503,1)/IF('Charts data'!$E$4=1,J1503,1)","v":43000}]
["ID0547",55000,"USD",{"$f":"B1504*VLOOKUP(C1504,tblXrate[],2,0)","v":55000},"Analyst","USA","2 to 3",null,{"$f":"VLOOKUP(F1504,mapping!$L$2:$P$92,2,0)","v":1},{"$f":"VLOOKUP($F1504,mapping!$L$2:$P$92,3,0)","v":48386.69},{"$f":"VLOOKUP($F1504,mapping!$L$2:$P$92,4,0)","v":"Major Advanced Economies (G7)"},{"$f":"$D1504*VLOOKUP($E1504,'Charts data'!$A$2:$B$11,2,0)*VLOOKUP($G1504,'Charts data'!$A$14:$B$18,2,0)/IF('Charts data'!$E$3=1,I1504,1)/IF('Charts data'!$E$4=1,J1504,1)","v":55000}]
["ID0549",45000,"USD",{"$f":"B1505*VLOOKUP(C1505,tblXrate[],2,0)","v":45000},"Reporting","USA","8 Hrs",null,{"$f":"VLOOKUP(F1505,mapping!$L$2:$P$92,2,0)","v":1},{"$f":"VLOOKUP($F1505,mapping!$L$2:$P$92,3,0)","v":48386.69},{"$f":"VLOOKUP($F1505,mapping!$L$2:$P$92,4,0)","v":"Major Advanced Economies (G7)"},{"$f":"$D1505*VLOOKUP($E1505,'Charts data'!$A$2:$B$11,2,0)*VLOOKUP($G1505,'Charts data'!$A$14:$B$18,2,0)/IF('Charts data'!$E$3=1,I1505,1)/IF('Charts data'!$E$4=1,J1505,1)","v":45000}]
["ID0550",50000,"USD",{"$f":"B1506*VLOOKUP(C1506,tblXrate[],2,0)","v":50000},"Manager","USA","4 to 6",null,{"$f":"VLOOKUP(F1506,mapping!$L$2:$P$92,2,0)","v":1},{"$f":"VLOOKUP($F1506,mapping!$L$2:$P$92,3,0)","v":48386.69},{"$f":"VLOOKUP($F1506,mapping!$L$2:$P$92,4,0)","v":"Major Advanced Economies (G7)"},{"$f":"$D1506*VLOOKUP($E1506,'Charts data'!$A$2:$B$11,2,0)*VLOOKUP($G1506,'Charts data'!$A$14:$B$18,2,0)/IF('Charts data'!$E$3=1,I1506,1)/IF('Charts data'!$E$4=1,J1506,1)","v":50000}]
["ID0551",80000,"USD",{"$f":"B1507*VLOOKUP(C1507,tblXrate[],2,0)","v":80000},"Analyst","USA","8 Hrs",null,{"$f":"VLOOKUP(F1507,mapping!$L$2:$P$92,2,0)","v":1},{"$f":"VLOOKUP($F1507,mapping!$L$2:$P$92,3,0)","v":48386.69},{"$f":"VLOOKUP($F1507,mapping!$L$2:$P$92,4,0)","v":"Major Advanced Economies (G7)"},{"$f":"$D1507*VLOOKUP($E1507,'Charts data'!$A$2:$B$11,2,0)*VLOOKUP($G1507,'Charts data'!$A$14:$B$18,2,0)/IF('Charts data'!$E$3=1,I1507,1)/IF('Charts data'!$E$4=1,J1507,1)","v":80000}]
["ID0552",67000,"USD",{"$f":"B1508*VLOOKUP(C1508,tblXrate[],2,0)","v":67000},"Analyst","USA","4 to 6",null,{"$f":"VLOOKUP(F1508,mapping!$L$2:$P$92,2,0)","v":1},{"$f":"VLOOKUP($F1508,mapping!$L$2:$P$92,3,0)","v":48386.69},{"$f":"VLOOKUP($F1508,mapping!$L$2:$P$92,4,0)","v":"Major Advanced Economies (G7)"},{"$f":"$D1508*VLOOKUP($E1508,'Charts data'!$A$2:$B$11,2,0)*VLOOKUP($G1508,'Charts data'!$A$14:$B$18,2,0)/IF('Charts data'!$E$3=1,I1508,1)/IF('Charts data'!$E$4=1,J1508,1)","v":67000}]
["ID0554",120000,"USD",{"$f":"B1509*VLOOKUP(C1509,tblXrate[],2,0)","v":120000},"CXO or Top Mgmt.","USA","4 to 6",null,{"$f":"VLOOKUP(F1509,mapping!$L$2:$P$92,2,0)","v":1},{"$f":"VLOOKUP($F1509,mapping!$L$2:$P$92,3,0)","v":48386.69},{"$f":"VLOOKUP($F1509,mapping!$L$2:$P$92,4,0)","v":"Major Advanced Economies (G7)"},{"$f":"$D1509*VLOOKUP($E1509,'Charts data'!$A$2:$B$11,2,0)*VLOOKUP($G1509,'Charts data'!$A$14:$B$18,2,0)/IF('Charts data'!$E$3=1,I1509,1)/IF('Charts data'!$E$4=1,J1509,1)","v":120000}]
["ID0557",60000,"USD",{"$f":"B1510*VLOOKUP(C1510,tblXrate[],2,0)","v":60000},"Specialist","USA","1 or 2",null,{"$f":"VLOOKUP(F1510,mapping!$L$2:$P$92,2,0)","v":1},{"$f":"VLOOKUP($F1510,mapping!$L$2:$P$92,3,0)","v":48386.69},{"$f":"VLOOKUP($F1510,mapping!$L$2:$P$92,4,0)","v":"Major Advanced Economies (G7)"},{"$f":"$D1510*VLOOKUP($E1510,'Charts data'!$A$2:$B$11,2,0)*VLOOKUP($G1510,'Charts data'!$A$14:$B$18,2,0)/IF('Charts data'!$E$3=1,I1510,1)/IF('Charts data'!$E$4=1,J1510,1)","v":60000}]
["ID0558",35000,"USD",{"$f":"B1511*VLOOKUP(C1511,tblXrate[],2,0)","v":35000},"Analyst","USA","2 to 3",null,{"$f":"VLOOKUP(F1511,mapping!$L$2:$P$92,2,0)","v":1},{"$f":"VLOOKUP($F1511,mapping!$L$2:$P$92,3,0)","v":48386.69},{"$f":"VLOOKUP($F1511,mapping!$L$2:$P$92,4,0)","v":"Major Advanced Economies (G7)"},{"$f":"$D1511*VLOOKUP($E1511,'Charts data'!$A$2:$B$11,2,0)*VLOOKUP($G1511,'Charts data'!$A$14:$B$18,2,0)/IF('Charts data'!$E$3=1,I1511,1)/IF('Charts data'!$E$4=1,J1511,1)","v":35000}]
["ID0560",54000,"USD",{"$f":"B1512*VLOOKUP(C1512,tblXrate[],2,0)","v":54000},"Specialist","USA","8 Hrs",5,{"$f":"VLOOKUP(F1512,mapping!$L$2:$P$92,2,0)","v":1},{"$f":"VLOOKUP($F1512,mapping!$L$2:$P$92,3,0)","v":48386.69},{"$f":"VLOOKUP($F1512,mapping!$L$2:$P$92,4,0)","v":"Major Advanced Economies (G7)"},{"$f":"$D1512*VLOOKUP($E1512,'Charts data'!$A$2:$B$11,2,0)*VLOOKUP($G1512,'Charts data'!$A$14:$B$18,2,0)/IF('Charts data'!$E$3=1,I1512,1)/IF('Charts data'!$E$4=1,J1512,1)","v":54000}]
["ID0562",35000,"USD",{"$f":"B1513*VLOOKUP(C1513,tblXrate[],2,0)","v":35000},"Analyst","USA","1 or 2",7,{"$f":"VLOOKUP(F1513,mapping!$L$2:$P$92,2,0)","v":1},{"$f":"VLOOKUP($F1513,mapping!$L$2:$P$92,3,0)","v":48386.69},{"$f":"VLOOKUP($F1513,mapping!$L$2:$P$92,4,0)","v":"Major Advanced Economies (G7)"},{"$f":"$D1513*VLOOKUP($E1513,'Charts data'!$A$2:$B$11,2,0)*VLOOKUP($G1513,'Charts data'!$A$14:$B$18,2,0)/IF('Charts data'!$E$3=1,I1513,1)/IF('Charts data'!$E$4=1,J1513,1)","v":35000}]
["ID0563",188000,"USD",{"$f":"B1514*VLOOKUP(C1514,tblXrate[],2,0)","v":188000},"CXO or Top Mgmt.","USA","1 or 2",20,{"$f":"VLOOKUP(F1514,mapping!$L$2:$P$92,2,0)","v":1},{"$f":"VLOOKUP($F1514,mapping!$L$2:$P$92,3,0)","v":48386.69},{"$f":"VLOOKUP($F1514,mapping!$L$2:$P$92,4,0)","v":"Major Advanced Economies (G7)"},{"$f":"$D1514*VLOOKUP($E1514,'Charts data'!$A$2:$B$11,2,0)*VLOOKUP($G1514,'Charts data'!$A$14:$B$18,2,0)/IF('Charts data'!$E$3=1,I1514,1)/IF('Charts data'!$E$4=1,J1514,1)","v":188000}]
["ID0564",27500,"USD",{"$f":"B1515*VLOOKUP(C1515,tblXrate[],2,0)","v":27500},"Analyst","USA","8 Hrs",1,{"$f":"VLOOKUP(F1515,mapping!$L$2:$P$92,2,0)","v":1},{"$f":"VLOOKUP($F1515,mapping!$L$2:$P$92,3,0)","v":48386.69},{"$f":"VLOOKUP($F1515,mapping!$L$2:$P$92,4,0)","v":"Major Advanced Economies (G7)"},{"$f":"$D1515*VLOOKUP($E1515,'Charts data'!$A$2:$B$11,2,0)*VLOOKUP($G1515,'Charts data'!$A$14:$B$18,2,0)/IF('Charts data'!$E$3=1,I1515,1)/IF('Charts data'!$E$4=1,J1515,1)","v":27500}]
["ID0565",140000,"USD",{"$f":"B1516*VLOOKUP(C1516,tblXrate[],2,0)","v":140000},"Controller","USA","2 to 3",10,{"$f":"VLOOKUP(F1516,mapping!$L$2:$P$92,2,0)","v":1},{"$f":"VLOOKUP($F1516,mapping!$L$2:$P$92,3,0)","v":48386.69},{"$f":"VLOOKUP($F1516,mapping!$L$2:$P$92,4,0)","v":"Major Advanced Economies (G7)"},{"$f":"$D1516*VLOOKUP($E1516,'Charts data'!$A$2:$B$11,2,0)*VLOOKUP($G1516,'Charts data'!$A$14:$B$18,2,0)/IF('Charts data'!$E$3=1,I1516,1)/IF('Charts data'!$E$4=1,J1516,1)","v":140000}]
["ID0567",45000,"USD",{"$f":"B1517*VLOOKUP(C1517,tblXrate[],2,0)","v":45000},"Analyst","USA","4 to 6",2,{"$f":"VLOOKUP(F1517,mapping!$L$2:$P$92,2,0)","v":1},{"$f":"VLOOKUP($F1517,mapping!$L$2:$P$92,3,0)","v":48386.69},{"$f":"VLOOKUP($F1517,mapping!$L$2:$P$92,4,0)","v":"Major Advanced Economies (G7)"},{"$f":"$D1517*VLOOKUP($E1517,'Charts data'!$A$2:$B$11,2,0)*VLOOKUP($G1517,'Charts data'!$A$14:$B$18,2,0)/IF('Charts data'!$E$3=1,I1517,1)/IF('Charts data'!$E$4=1,J1517,1)","v":45000}]
["ID0572",38000,"USD",{"$f":"B1518*VLOOKUP(C1518,tblXrate[],2,0)","v":38000},"Analyst","USA","8 Hrs",11,{"$f":"VLOOKUP(F1518,mapping!$L$2:$P$92,2,0)","v":1},{"$f":"VLOOKUP($F1518,mapping!$L$2:$P$92,3,0)","v":48386.69},{"$f":"VLOOKUP($F1518,mapping!$L$2:$P$92,4,0)","v":"Major Advanced Economies (G7)"},{"$f":"$D1518*VLOOKUP($E1518,'Charts data'!$A$2:$B$11,2,0)*VLOOKUP($G1518,'Charts data'!$A$14:$B$18,2,0)/IF('Charts data'!$E$3=1,I1518,1)/IF('Charts data'!$E$4=1,J1518,1)","v":38000}]
["ID0573",90000,"USD",{"$f":"B1519*VLOOKUP(C1519,tblXrate[],2,0)","v":90000},"Manager","USA","4 to 6",6,{"$f":"VLOOKUP(F1519,mapping!$L$2:$P$92,2,0)","v":1},{"$f":"VLOOKUP($F1519,mapping!$L$2:$P$92,3,0)","v":48386.69},{"$f":"VLOOKUP($F1519,mapping!$L$2:$P$92,4,0)","v":"Major Advanced Economies (G7)"},{"$f":"$D1519*VLOOKUP($E1519,'Charts data'!$A$2:$B$11,2,0)*VLOOKUP($G1519,'Charts data'!$A$14:$B$18,2,0)/IF('Charts data'!$E$3=1,I1519,1)/IF('Charts data'!$E$4=1,J1519,1)","v":90000}]
["ID0579",90000,"USD",{"$f":"B1520*VLOOKUP(C1520,tblXrate[],2,0)","v":90000},"Manager","USA","2 to 3",15,{"$f":"VLOOKUP(F1520,mapping!$L$2:$P$92,2,0)","v":1},{"$f":"VLOOKUP($F1520,mapping!$L$2:$P$92,3,0)","v":48386.69},{"$f":"VLOOKUP($F1520,mapping!$L$2:$P$92,4,0)","v":"Major Advanced Economies (G7)"},{"$f":"$D1520*VLOOKUP($E1520,'Charts data'!$A$2:$B$11,2,0)*VLOOKUP($G1520,'Charts data'!$A$14:$B$18,2,0)/IF('Charts data'!$E$3=1,I1520,1)/IF('Charts data'!$E$4=1,J1520,1)","v":90000}]
["ID0580",150000,"USD",{"$f":"B1521*VLOOKUP(C1521,tblXrate[],2,0)","v":150000},"CXO or Top Mgmt.","USA","4 to 6",22,{"$f":"VLOOKUP(F1521,mapping!$L$2:$P$92,2,0)","v":1},{"$f":"VLOOKUP($F1521,mapping!$L$2:$P$92,3,0)","v":48386.69},{"$f":"VLOOKUP($F1521,mapping!$L$2:$P$92,4,0)","v":"Major Advanced Economies (G7)"},{"$f":"$D1521*VLOOKUP($E1521,'Charts data'!$A$2:$B$11,2,0)*VLOOKUP($G1521,'Charts data'!$A$14:$B$18,2,0)/IF('Charts data'!$E$3=1,I1521,1)/IF('Charts data'!$E$4=1,J1521,1)","v":150000}]
["ID0582",45000,"USD",{"$f":"B1522*VLOOKUP(C1522,tblXrate[],2,0)","v":45000},"Analyst","USA","4 to 6",3,{"$f":"VLOOKUP(F1522,mapping!$L$2:$P$92,2,0)","v":1},{"$f":"VLOOKUP($F1522,mapping!$L$2:$P$92,3,0)","v":48386.69},{"$f":"VLOOKUP($F1522,mapping!$L$2:$P$92,4,0)","v":"Major Advanced Economies (G7)"},{"$f":"$D1522*VLOOKUP($E1522,'Charts data'!$A$2:$B$11,2,0)*VLOOKUP($G1522,'Charts data'!$A$14:$B$18,2,0)/IF('Charts data'!$E$3=1,I1522,1)/IF('Charts data'!$E$4=1,J1522,1)","v":45000}]
["ID0583",50000,"USD",{"$f":"B1523*VLOOKUP(C1523,tblXrate[],2,0)","v":50000},"Specialist","USA","2 to 3",10,{"$f":"VLOOKUP(F1523,mapping!$L$2:$P$92,2,0)","v":1},{"$f":"VLOOKUP($F1523,mapping!$L$2:$P$92,3,0)","v":48386.69},{"$f":"VLOOKUP($F1523,mapping!$L$2:$P$92,4,0)","v":"Major Advanced Economies (G7)"},{"$f":"$D1523*VLOOKUP($E1523,'Charts data'!$A$2:$B$11,2,0)*VLOOKUP($G1523,'Charts data'!$A$14:$B$18,2,0)/IF('Charts data'!$E$3=1,I1523,1)/IF('Charts data'!$E$4=1,J1523,1)","v":50000}]
["ID0584",300000,"USD",{"$f":"B1524*VLOOKUP(C1524,tblXrate[],2,0)","v":300000},"CXO or Top Mgmt.","USA","2 to 3",30,{"$f":"VLOOKUP(F1524,mapping!$L$2:$P$92,2,0)","v":1},{"$f":"VLOOKUP($F1524,mapping!$L$2:$P$92,3,0)","v":48386.69},{"$f":"VLOOKUP($F1524,mapping!$L$2:$P$92,4,0)","v":"Major Advanced Economies (G7)"},{"$f":"$D1524*VLOOKUP($E1524,'Charts data'!$A$2:$B$11,2,0)*VLOOKUP($G1524,'Charts data'!$A$14:$B$18,2,0)/IF('Charts data'!$E$3=1,I1524,1)/IF('Charts data'!$E$4=1,J1524,1)","v":300000}]
["ID0586",115000,"USD",{"$f":"B1525*VLOOKUP(C1525,tblXrate[],2,0)","v":115000},"Manager","USA","4 to 6",15,{"$f":"VLOOKUP(F1525,mapping!$L$2:$P$92,2,0)","v":1},{"$f":"VLOOKUP($F1525,mapping!$L$2:$P$92,3,0)","v":48386.69},{"$f":"VLOOKUP($F1525,mapping!$L$2:$P$92,4,0)","v":"Major Advanced Economies (G7)"},{"$f":"$D1525*VLOOKUP($E1525,'Charts data'!$A$2:$B$11,2,0)*VLOOKUP($G1525,'Charts data'!$A$14:$B$18,2,0)/IF('Charts data'!$E$3=1,I1525,1)/IF('Charts data'!$E$4=1,J1525,1)","v":115000}]
["ID0587",70000,"USD",{"$f":"B1526*VLOOKUP(C1526,tblXrate[],2,0)","v":70000},"Analyst","USA","4 to 6",3,{"$f":"VLOOKUP(F1526,mapping!$L$2:$P$92,2,0)","v":1},{"$f":"VLOOKUP($F1526,mapping!$L$2:$P$92,3,0)","v":48386.69},{"$f":"VLOOKUP($F1526,mapping!$L$2:$P$92,4,0)","v":"Major Advanced Economies (G7)"},{"$f":"$D1526*VLOOKUP($E1526,'Charts data'!$A$2:$B$11,2,0)*VLOOKUP($G1526,'Charts data'!$A$14:$B$18,2,0)/IF('Charts data'!$E$3=1,I1526,1)/IF('Charts data'!$E$4=1,J1526,1)","v":70000}]
["ID0589",75000,"USD",{"$f":"B1527*VLOOKUP(C1527,tblXrate[],2,0)","v":75000},"Analyst","USA","2 to 3",25,{"$f":"VLOOKUP(F1527,mapping!$L$2:$P$92,2,0)","v":1},{"$f":"VLOOKUP($F1527,mapping!$L$2:$P$92,3,0)","v":48386.69},{"$f":"VLOOKUP($F1527,mapping!$L$2:$P$92,4,0)","v":"Major Advanced Economies (G7)"},{"$f":"$D1527*VLOOKUP($E1527,'Charts data'!$A$2:$B$11,2,0)*VLOOKUP($G1527,'Charts data'!$A$14:$B$18,2,0)/IF('Charts data'!$E$3=1,I1527,1)/IF('Charts data'!$E$4=1,J1527,1)","v":75000}]
["ID0590",40414,"USD",{"$f":"B1528*VLOOKUP(C1528,tblXrate[],2,0)","v":40414},"Analyst","USA","4 to 6",8,{"$f":"VLOOKUP(F1528,mapping!$L$2:$P$92,2,0)","v":1},{"$f":"VLOOKUP($F1528,mapping!$L$2:$P$92,3,0)","v":48386.69},{"$f":"VLOOKUP($F1528,mapping!$L$2:$P$92,4,0)","v":"Major Advanced Economies (G7)"},{"$f":"$D1528*VLOOKUP($E1528,'Charts data'!$A$2:$B$11,2,0)*VLOOKUP($G1528,'Charts data'!$A$14:$B$18,2,0)/IF('Charts data'!$E$3=1,I1528,1)/IF('Charts data'!$E$4=1,J1528,1)","v":40414}]
["ID0591",65000,"USD",{"$f":"B1529*VLOOKUP(C1529,tblXrate[],2,0)","v":65000},"Analyst","USA","4 to 6",3,{"$f":"VLOOKUP(F1529,mapping!$L$2:$P$92,2,0)","v":1},{"$f":"VLOOKUP($F1529,mapping!$L$2:$P$92,3,0)","v":48386.69},{"$f":"VLOOKUP($F1529,mapping!$L$2:$P$92,4,0)","v":"Major Advanced Economies (G7)"},{"$f":"$D1529*VLOOKUP($E1529,'Charts data'!$A$2:$B$11,2,0)*VLOOKUP($G1529,'Charts data'!$A$14:$B$18,2,0)/IF('Charts data'!$E$3=1,I1529,1)/IF('Charts data'!$E$4=1,J1529,1)","v":65000}]
["ID0592",120000,"USD",{"$f":"B1530*VLOOKUP(C1530,tblXrate[],2,0)","v":120000},"Analyst","USA","8 Hrs",7,{"$f":"VLOOKUP(F1530,mapping!$L$2:$P$92,2,0)","v":1},{"$f":"VLOOKUP($F1530,mapping!$L$2:$P$92,3,0)","v":48386.69},{"$f":"VLOOKUP($F1530,mapping!$L$2:$P$92,4,0)","v":"Major Advanced Economies (G7)"},{"$f":"$D1530*VLOOKUP($E1530,'Charts data'!$A$2:$B$11,2,0)*VLOOKUP($G1530,'Charts data'!$A$14:$B$18,2,0)/IF('Charts data'!$E$3=1,I1530,1)/IF('Charts data'!$E$4=1,J1530,1)","v":120000}]
["ID0596",108000,"USD",{"$f":"B1531*VLOOKUP(C1531,tblXrate[],2,0)","v":108000},"Consultant","USA","2 to 3",7,{"$f":"VLOOKUP(F1531,mapping!$L$2:$P$92,2,0)","v":1},{"$f":"VLOOKUP($F1531,mapping!$L$2:$P$92,3,0)","v":48386.69},{"$f":"VLOOKUP($F1531,mapping!$L$2:$P$92,4,0)","v":"Major Advanced Economies (G7)"},{"$f":"$D1531*VLOOKUP($E1531,'Charts data'!$A$2:$B$11,2,0)*VLOOKUP($G1531,'Charts data'!$A$14:$B$18,2,0)/IF('Charts data'!$E$3=1,I1531,1)/IF('Charts data'!$E$4=1,J1531,1)","v":108000}]
["ID0597",75000,"USD",{"$f":"B1532*VLOOKUP(C1532,tblXrate[],2,0)","v":75000},"Analyst","USA","4 to 6",5,{"$f":"VLOOKUP(F1532,mapping!$L$2:$P$92,2,0)","v":1},{"$f":"VLOOKUP($F1532,mapping!$L$2:$P$92,3,0)","v":48386.69},{"$f":"VLOOKUP($F1532,mapping!$L$2:$P$92,4,0)","v":"Major Advanced Economies (G7)"},{"$f":"$D1532*VLOOKUP($E1532,'Charts data'!$A$2:$B$11,2,0)*VLOOKUP($G1532,'Charts data'!$A$14:$B$18,2,0)/IF('Charts data'!$E$3=1,I1532,1)/IF('Charts data'!$E$4=1,J1532,1)","v":75000}]
["ID0600",45000,"USD",{"$f":"B1533*VLOOKUP(C1533,tblXrate[],2,0)","v":45000},"Analyst","USA","4 to 6",15,{"$f":"VLOOKUP(F1533,mapping!$L$2:$P$92,2,0)","v":1},{"$f":"VLOOKUP($F1533,mapping!$L$2:$P$92,3,0)","v":48386.69},{"$f":"VLOOKUP($F1533,mapping!$L$2:$P$92,4,0)","v":"Major Advanced Economies (G7)"},{"$f":"$D1533*VLOOKUP($E1533,'Charts data'!$A$2:$B$11,2,0)*VLOOKUP($G1533,'Charts data'!$A$14:$B$18,2,0)/IF('Charts data'!$E$3=1,I1533,1)/IF('Charts data'!$E$4=1,J1533,1)","v":45000}]
["ID0601",45000,"USD",{"$f":"B1534*VLOOKUP(C1534,tblXrate[],2,0)","v":45000},"Accountant","USA","4 to 6",7,{"$f":"VLOOKUP(F1534,mapping!$L$2:$P$92,2,0)","v":1},{"$f":"VLOOKUP($F1534,mapping!$L$2:$P$92,3,0)","v":48386.69},{"$f":"VLOOKUP($F1534,mapping!$L$2:$P$92,4,0)","v":"Major Advanced Economies (G7)"},{"$f":"$D1534*VLOOKUP($E1534,'Charts data'!$A$2:$B$11,2,0)*VLOOKUP($G1534,'Charts data'!$A$14:$B$18,2,0)/IF('Charts data'!$E$3=1,I1534,1)/IF('Charts data'!$E$4=1,J1534,1)","v":45000}]
["ID0602",90000,"USD",{"$f":"B1535*VLOOKUP(C1535,tblXrate[],2,0)","v":90000},"Manager","USA","2 to 3",20,{"$f":"VLOOKUP(F1535,mapping!$L$2:$P$92,2,0)","v":1},{"$f":"VLOOKUP($F1535,mapping!$L$2:$P$92,3,0)","v":48386.69},{"$f":"VLOOKUP($F1535,mapping!$L$2:$P$92,4,0)","v":"Major Advanced Economies (G7)"},{"$f":"$D1535*VLOOKUP($E1535,'Charts data'!$A$2:$B$11,2,0)*VLOOKUP($G1535,'Charts data'!$A$14:$B$18,2,0)/IF('Charts data'!$E$3=1,I1535,1)/IF('Charts data'!$E$4=1,J1535,1)","v":90000}]
["ID0605",65000,"USD",{"$f":"B1536*VLOOKUP(C1536,tblXrate[],2,0)","v":65000},"Analyst","USA","2 to 3",17,{"$f":"VLOOKUP(F1536,mapping!$L$2:$P$92,2,0)","v":1},{"$f":"VLOOKUP($F1536,mapping!$L$2:$P$92,3,0)","v":48386.69},{"$f":"VLOOKUP($F1536,mapping!$L$2:$P$92,4,0)","v":"Major Advanced Economies (G7)"},{"$f":"$D1536*VLOOKUP($E1536,'Charts data'!$A$2:$B$11,2,0)*VLOOKUP($G1536,'Charts data'!$A$14:$B$18,2,0)/IF('Charts data'!$E$3=1,I1536,1)/IF('Charts data'!$E$4=1,J1536,1)","v":65000}]
["ID0606",70000,"USD",{"$f":"B1537*VLOOKUP(C1537,tblXrate[],2,0)","v":70000},"Analyst","USA","2 to 3",18,{"$f":"VLOOKUP(F1537,mapping!$L$2:$P$92,2,0)","v":1},{"$f":"VLOOKUP($F1537,mapping!$L$2:$P$92,3,0)","v":48386.69},{"$f":"VLOOKUP($F1537,mapping!$L$2:$P$92,4,0)","v":"Major Advanced Economies (G7)"},{"$f":"$D1537*VLOOKUP($E1537,'Charts data'!$A$2:$B$11,2,0)*VLOOKUP($G1537,'Charts data'!$A$14:$B$18,2,0)/IF('Charts data'!$E$3=1,I1537,1)/IF('Charts data'!$E$4=1,J1537,1)","v":70000}]
["ID0608",160000,"USD",{"$f":"B1538*VLOOKUP(C1538,tblXrate[],2,0)","v":160000},"Analyst","USA","4 to 6",5,{"$f":"VLOOKUP(F1538,mapping!$L$2:$P$92,2,0)","v":1},{"$f":"VLOOKUP($F1538,mapping!$L$2:$P$92,3,0)","v":48386.69},{"$f":"VLOOKUP($F1538,mapping!$L$2:$P$92,4,0)","v":"Major Advanced Economies (G7)"},{"$f":"$D1538*VLOOKUP($E1538,'Charts data'!$A$2:$B$11,2,0)*VLOOKUP($G1538,'Charts data'!$A$14:$B$18,2,0)/IF('Charts data'!$E$3=1,I1538,1)/IF('Charts data'!$E$4=1,J1538,1)","v":160000}]
["ID0612",30000,"USD",{"$f":"B1539*VLOOKUP(C1539,tblXrate[],2,0)","v":30000},"Analyst","USA","2 to 3",8,{"$f":"VLOOKUP(F1539,mapping!$L$2:$P$92,2,0)","v":1},{"$f":"VLOOKUP($F1539,mapping!$L$2:$P$92,3,0)","v":48386.69},{"$f":"VLOOKUP($F1539,mapping!$L$2:$P$92,4,0)","v":"Major Advanced Economies (G7)"},{"$f":"$D1539*VLOOKUP($E1539,'Charts data'!$A$2:$B$11,2,0)*VLOOKUP($G1539,'Charts data'!$A$14:$B$18,2,0)/IF('Charts data'!$E$3=1,I1539,1)/IF('Charts data'!$E$4=1,J1539,1)","v":30000}]
["ID0614",61000,"USD",{"$f":"B1540*VLOOKUP(C1540,tblXrate[],2,0)","v":61000},"Manager","USA","4 to 6",5,{"$f":"VLOOKUP(F1540,mapping!$L$2:$P$92,2,0)","v":1},{"$f":"VLOOKUP($F1540,mapping!$L$2:$P$92,3,0)","v":48386.69},{"$f":"VLOOKUP($F1540,mapping!$L$2:$P$92,4,0)","v":"Major Advanced Economies (G7)"},{"$f":"$D1540*VLOOKUP($E1540,'Charts data'!$A$2:$B$11,2,0)*VLOOKUP($G1540,'Charts data'!$A$14:$B$18,2,0)/IF('Charts data'!$E$3=1,I1540,1)/IF('Charts data'!$E$4=1,J1540,1)","v":61000}]
["ID0618",80000,"USD",{"$f":"B1541*VLOOKUP(C1541,tblXrate[],2,0)","v":80000},"Controller","USA","4 to 6",15,{"$f":"VLOOKUP(F1541,mapping!$L$2:$P$92,2,0)","v":1},{"$f":"VLOOKUP($F1541,mapping!$L$2:$P$92,3,0)","v":48386.69},{"$f":"VLOOKUP($F1541,mapping!$L$2:$P$92,4,0)","v":"Major Advanced Economies (G7)"},{"$f":"$D1541*VLOOKUP($E1541,'Charts data'!$A$2:$B$11,2,0)*VLOOKUP($G1541,'Charts data'!$A$14:$B$18,2,0)/IF('Charts data'!$E$3=1,I1541,1)/IF('Charts data'!$E$4=1,J1541,1)","v":80000}]
["ID0624",50000,"USD",{"$f":"B1542*VLOOKUP(C1542,tblXrate[],2,0)","v":50000},"Manager","USA","4 to 6",20,{"$f":"VLOOKUP(F1542,mapping!$L$2:$P$92,2,0)","v":1},{"$f":"VLOOKUP($F1542,mapping!$L$2:$P$92,3,0)","v":48386.69},{"$f":"VLOOKUP($F1542,mapping!$L$2:$P$92,4,0)","v":"Major Advanced Economies (G7)"},{"$f":"$D1542*VLOOKUP($E1542,'Charts data'!$A$2:$B$11,2,0)*VLOOKUP($G1542,'Charts data'!$A$14:$B$18,2,0)/IF('Charts data'!$E$3=1,I1542,1)/IF('Charts data'!$E$4=1,J1542,1)","v":50000}]
["ID0627",95000,"USD",{"$f":"B1543*VLOOKUP(C1543,tblXrate[],2,0)","v":95000},"Manager","USA","1 or 2",10,{"$f":"VLOOKUP(F1543,mapping!$L$2:$P$92,2,0)","v":1},{"$f":"VLOOKUP($F1543,mapping!$L$2:$P$92,3,0)","v":48386.69},{"$f":"VLOOKUP($F1543,mapping!$L$2:$P$92,4,0)","v":"Major Advanced Economies (G7)"},{"$f":"$D1543*VLOOKUP($E1543,'Charts data'!$A$2:$B$11,2,0)*VLOOKUP($G1543,'Charts data'!$A$14:$B$18,2,0)/IF('Charts data'!$E$3=1,I1543,1)/IF('Charts data'!$E$4=1,J1543,1)","v":95000}]
["ID0631",39000,"USD",{"$f":"B1544*VLOOKUP(C1544,tblXrate[],2,0)","v":39000},"Analyst","USA","8 Hrs",3,{"$f":"VLOOKUP(F1544,mapping!$L$2:$P$92,2,0)","v":1},{"$f":"VLOOKUP($F1544,mapping!$L$2:$P$92,3,0)","v":48386.69},{"$f":"VLOOKUP($F1544,mapping!$L$2:$P$92,4,0)","v":"Major Advanced Economies (G7)"},{"$f":"$D1544*VLOOKUP($E1544,'Charts data'!$A$2:$B$11,2,0)*VLOOKUP($G1544,'Charts data'!$A$14:$B$18,2,0)/IF('Charts data'!$E$3=1,I1544,1)/IF('Charts data'!$E$4=1,J1544,1)","v":39000}]
["ID0632",60000,"USD",{"$f":"B1545*VLOOKUP(C1545,tblXrate[],2,0)","v":60000},"Analyst","USA","4 to 6",12,{"$f":"VLOOKUP(F1545,mapping!$L$2:$P$92,2,0)","v":1},{"$f":"VLOOKUP($F1545,mapping!$L$2:$P$92,3,0)","v":48386.69},{"$f":"VLOOKUP($F1545,mapping!$L$2:$P$92,4,0)","v":"Major Advanced Economies (G7)"},{"$f":"$D1545*VLOOKUP($E1545,'Charts data'!$A$2:$B$11,2,0)*VLOOKUP($G1545,'Charts data'!$A$14:$B$18,2,0)/IF('Charts data'!$E$3=1,I1545,1)/IF('Charts data'!$E$4=1,J1545,1)","v":60000}]
["ID0634",125000,"USD",{"$f":"B1546*VLOOKUP(C1546,tblXrate[],2,0)","v":125000},"Analyst","USA","2 to 3",20,{"$f":"VLOOKUP(F1546,mapping!$L$2:$P$92,2,0)","v":1},{"$f":"VLOOKUP($F1546,mapping!$L$2:$P$92,3,0)","v":48386.69},{"$f":"VLOOKUP($F1546,mapping!$L$2:$P$92,4,0)","v":"Major Advanced Economies (G7)"},{"$f":"$D1546*VLOOKUP($E1546,'Charts data'!$A$2:$B$11,2,0)*VLOOKUP($G1546,'Charts data'!$A$14:$B$18,2,0)/IF('Charts data'!$E$3=1,I1546,1)/IF('Charts data'!$E$4=1,J1546,1)","v":125000}]
["ID0637",80000,"USD",{"$f":"B1547*VLOOKUP(C1547,tblXrate[],2,0)","v":80000},"Manager","USA","4 to 6",8,{"$f":"VLOOKUP(F1547,mapping!$L$2:$P$92,2,0)","v":1},{"$f":"VLOOKUP($F1547,mapping!$L$2:$P$92,3,0)","v":48386.69},{"$f":"VLOOKUP($F1547,mapping!$L$2:$P$92,4,0)","v":"Major Advanced Economies (G7)"},{"$f":"$D1547*VLOOKUP($E1547,'Charts data'!$A$2:$B$11,2,0)*VLOOKUP($G1547,'Charts data'!$A$14:$B$18,2,0)/IF('Charts data'!$E$3=1,I1547,1)/IF('Charts data'!$E$4=1,J1547,1)","v":80000}]
["ID0643",53000,"USD",{"$f":"B1548*VLOOKUP(C1548,tblXrate[],2,0)","v":53000},"Analyst","USA","4 to 6",30,{"$f":"VLOOKUP(F1548,mapping!$L$2:$P$92,2,0)","v":1},{"$f":"VLOOKUP($F1548,mapping!$L$2:$P$92,3,0)","v":48386.69},{"$f":"VLOOKUP($F1548,mapping!$L$2:$P$92,4,0)","v":"Major Advanced Economies (G7)"},{"$f":"$D1548*VLOOKUP($E1548,'Charts data'!$A$2:$B$11,2,0)*VLOOKUP($G1548,'Charts data'!$A$14:$B$18,2,0)/IF('Charts data'!$E$3=1,I1548,1)/IF('Charts data'!$E$4=1,J1548,1)","v":53000}]
["ID0677",105000,"USD",{"$f":"B1549*VLOOKUP(C1549,tblXrate[],2,0)","v":105000},"Consultant","USA","2 to 3",15,{"$f":"VLOOKUP(F1549,mapping!$L$2:$P$92,2,0)","v":1},{"$f":"VLOOKUP($F1549,mapping!$L$2:$P$92,3,0)","v":48386.69},{"$f":"VLOOKUP($F1549,mapping!$L$2:$P$92,4,0)","v":"Major Advanced Economies (G7)"},{"$f":"$D1549*VLOOKUP($E1549,'Charts data'!$A$2:$B$11,2,0)*VLOOKUP($G1549,'Charts data'!$A$14:$B$18,2,0)/IF('Charts data'!$E$3=1,I1549,1)/IF('Charts data'!$E$4=1,J1549,1)","v":105000}]
["ID0683",52000,"USD",{"$f":"B1550*VLOOKUP(C1550,tblXrate[],2,0)","v":52000},"Specialist","USA","4 to 6",18,{"$f":"VLOOKUP(F1550,mapping!$L$2:$P$92,2,0)","v":1},{"$f":"VLOOKUP($F1550,mapping!$L$2:$P$92,3,0)","v":48386.69},{"$f":"VLOOKUP($F1550,mapping!$L$2:$P$92,4,0)","v":"Major Advanced Economies (G7)"},{"$f":"$D1550*VLOOKUP($E1550,'Charts data'!$A$2:$B$11,2,0)*VLOOKUP($G1550,'Charts data'!$A$14:$B$18,2,0)/IF('Charts data'!$E$3=1,I1550,1)/IF('Charts data'!$E$4=1,J1550,1)","v":52000}]
["ID0704",35000,"USD",{"$f":"B1551*VLOOKUP(C1551,tblXrate[],2,0)","v":35000},"Specialist","USA","4 to 6",10,{"$f":"VLOOKUP(F1551,mapping!$L$2:$P$92,2,0)","v":1},{"$f":"VLOOKUP($F1551,mapping!$L$2:$P$92,3,0)","v":48386.69},{"$f":"VLOOKUP($F1551,mapping!$L$2:$P$92,4,0)","v":"Major Advanced Economies (G7)"},{"$f":"$D1551*VLOOKUP($E1551,'Charts data'!$A$2:$B$11,2,0)*VLOOKUP($G1551,'Charts data'!$A$14:$B$18,2,0)/IF('Charts data'!$E$3=1,I1551,1)/IF('Charts data'!$E$4=1,J1551,1)","v":35000}]
["ID0764",62000,"USD",{"$f":"B1552*VLOOKUP(C1552,tblXrate[],2,0)","v":62000},"Analyst","USA","2 to 3",20,{"$f":"VLOOKUP(F1552,mapping!$L$2:$P$92,2,0)","v":1},{"$f":"VLOOKUP($F1552,mapping!$L$2:$P$92,3,0)","v":48386.69},{"$f":"VLOOKUP($F1552,mapping!$L$2:$P$92,4,0)","v":"Major Advanced Economies (G7)"},{"$f":"$D1552*VLOOKUP($E1552,'Charts data'!$A$2:$B$11,2,0)*VLOOKUP($G1552,'Charts data'!$A$14:$B$18,2,0)/IF('Charts data'!$E$3=1,I1552,1)/IF('Charts data'!$E$4=1,J1552,1)","v":62000}]
["ID0767",30232,"USD",{"$f":"B1553*VLOOKUP(C1553,tblXrate[],2,0)","v":30232},"Accountant","USA","2 to 3",5,{"$f":"VLOOKUP(F1553,mapping!$L$2:$P$92,2,0)","v":1},{"$f":"VLOOKUP($F1553,mapping!$L$2:$P$92,3,0)","v":48386.69},{"$f":"VLOOKUP($F1553,mapping!$L$2:$P$92,4,0)","v":"Major Advanced Economies (G7)"},{"$f":"$D1553*VLOOKUP($E1553,'Charts data'!$A$2:$B$11,2,0)*VLOOKUP($G1553,'Charts data'!$A$14:$B$18,2,0)/IF('Charts data'!$E$3=1,I1553,1)/IF('Charts data'!$E$4=1,J1553,1)","v":30232}]
["ID0768",41000,"USD",{"$f":"B1554*VLOOKUP(C1554,tblXrate[],2,0)","v":41000},"Analyst","USA","8 Hrs",4,{"$f":"VLOOKUP(F1554,mapping!$L$2:$P$92,2,0)","v":1},{"$f":"VLOOKUP($F1554,mapping!$L$2:$P$92,3,0)","v":48386.69},{"$f":"VLOOKUP($F1554,mapping!$L$2:$P$92,4,0)","v":"Major Advanced Economies (G7)"},{"$f":"$D1554*VLOOKUP($E1554,'Charts data'!$A$2:$B$11,2,0)*VLOOKUP($G1554,'Charts data'!$A$14:$B$18,2,0)/IF('Charts data'!$E$3=1,I1554,1)/IF('Charts data'!$E$4=1,J1554,1)","v":41000}]
["ID0791",65000,"USD",{"$f":"B1555*VLOOKUP(C1555,tblXrate[],2,0)","v":65000},"Analyst","USA","2 to 3",10,{"$f":"VLOOKUP(F1555,mapping!$L$2:$P$92,2,0)","v":1},{"$f":"VLOOKUP($F1555,mapping!$L$2:$P$92,3,0)","v":48386.69},{"$f":"VLOOKUP($F1555,mapping!$L$2:$P$92,4,0)","v":"Major Advanced Economies (G7)"},{"$f":"$D1555*VLOOKUP($E1555,'Charts data'!$A$2:$B$11,2,0)*VLOOKUP($G1555,'Charts data'!$A$14:$B$18,2,0)/IF('Charts data'!$E$3=1,I1555,1)/IF('Charts data'!$E$4=1,J1555,1)","v":65000}]
["ID0801",48500,"USD",{"$f":"B1556*VLOOKUP(C1556,tblXrate[],2,0)","v":48500},"Manager","USA","2 to 3",10,{"$f":"VLOOKUP(F1556,mapping!$L$2:$P$92,2,0)","v":1},{"$f":"VLOOKUP($F1556,mapping!$L$2:$P$92,3,0)","v":48386.69},{"$f":"VLOOKUP($F1556,mapping!$L$2:$P$92,4,0)","v":"Major Advanced Economies (G7)"},{"$f":"$D1556*VLOOKUP($E1556,'Charts data'!$A$2:$B$11,2,0)*VLOOKUP($G1556,'Charts data'!$A$14:$B$18,2,0)/IF('Charts data'!$E$3=1,I1556,1)/IF('Charts data'!$E$4=1,J1556,1)","v":48500}]
["ID0803",33900,"USD",{"$f":"B1557*VLOOKUP(C1557,tblXrate[],2,0)","v":33900},"Analyst","USA","2 to 3",10,{"$f":"VLOOKUP(F1557,mapping!$L$2:$P$92,2,0)","v":1},{"$f":"VLOOKUP($F1557,mapping!$L$2:$P$92,3,0)","v":48386.69},{"$f":"VLOOKUP($F1557,mapping!$L$2:$P$92,4,0)","v":"Major Advanced Economies (G7)"},{"$f":"$D1557*VLOOKUP($E1557,'Charts data'!$A$2:$B$11,2,0)*VLOOKUP($G1557,'Charts data'!$A$14:$B$18,2,0)/IF('Charts data'!$E$3=1,I1557,1)/IF('Charts data'!$E$4=1,J1557,1)","v":33900}]
["ID0806",85000,"USD",{"$f":"B1558*VLOOKUP(C1558,tblXrate[],2,0)","v":85000},"CXO or Top Mgmt.","USA","4 to 6",15,{"$f":"VLOOKUP(F1558,mapping!$L$2:$P$92,2,0)","v":1},{"$f":"VLOOKUP($F1558,mapping!$L$2:$P$92,3,0)","v":48386.69},{"$f":"VLOOKUP($F1558,mapping!$L$2:$P$92,4,0)","v":"Major Advanced Economies (G7)"},{"$f":"$D1558*VLOOKUP($E1558,'Charts data'!$A$2:$B$11,2,0)*VLOOKUP($G1558,'Charts data'!$A$14:$B$18,2,0)/IF('Charts data'!$E$3=1,I1558,1)/IF('Charts data'!$E$4=1,J1558,1)","v":85000}]
["ID0808",48000,"USD",{"$f":"B1559*VLOOKUP(C1559,tblXrate[],2,0)","v":48000},"Manager","USA","2 to 3",16,{"$f":"VLOOKUP(F1559,mapping!$L$2:$P$92,2,0)","v":1},{"$f":"VLOOKUP($F1559,mapping!$L$2:$P$92,3,0)","v":48386.69},{"$f":"VLOOKUP($F1559,mapping!$L$2:$P$92,4,0)","v":"Major Advanced Economies (G7)"},{"$f":"$D1559*VLOOKUP($E1559,'Charts data'!$A$2:$B$11,2,0)*VLOOKUP($G1559,'Charts data'!$A$14:$B$18,2,0)/IF('Charts data'!$E$3=1,I1559,1)/IF('Charts data'!$E$4=1,J1559,1)","v":48000}]
["ID0815",95000,"USD",{"$f":"B1560*VLOOKUP(C1560,tblXrate[],2,0)","v":95000},"Analyst","USA","2 to 3",13,{"$f":"VLOOKUP(F1560,mapping!$L$2:$P$92,2,0)","v":1},{"$f":"VLOOKUP($F1560,mapping!$L$2:$P$92,3,0)","v":48386.69},{"$f":"VLOOKUP($F1560,mapping!$L$2:$P$92,4,0)","v":"Major Advanced Economies (G7)"},{"$f":"$D1560*VLOOKUP($E1560,'Charts data'!$A$2:$B$11,2,0)*VLOOKUP($G1560,'Charts data'!$A$14:$B$18,2,0)/IF('Charts data'!$E$3=1,I1560,1)/IF('Charts data'!$E$4=1,J1560,1)","v":95000}]
["ID0824",75000,"USD",{"$f":"B1561*VLOOKUP(C1561,tblXrate[],2,0)","v":75000},"Analyst","USA","2 to 3",27,{"$f":"VLOOKUP(F1561,mapping!$L$2:$P$92,2,0)","v":1},{"$f":"VLOOKUP($F1561,mapping!$L$2:$P$92,3,0)","v":48386.69},{"$f":"VLOOKUP($F1561,mapping!$L$2:$P$92,4,0)","v":"Major Advanced Economies (G7)"},{"$f":"$D1561*VLOOKUP($E1561,'Charts data'!$A$2:$B$11,2,0)*VLOOKUP($G1561,'Charts data'!$A$14:$B$18,2,0)/IF('Charts data'!$E$3=1,I1561,1)/IF('Charts data'!$E$4=1,J1561,1)","v":75000}]
["ID0829",100000,"USD",{"$f":"B1562*VLOOKUP(C1562,tblXrate[],2,0)","v":100000},"CXO or Top Mgmt.","USA","4 to 6",10,{"$f":"VLOOKUP(F1562,mapping!$L$2:$P$92,2,0)","v":1},{"$f":"VLOOKUP($F1562,mapping!$L$2:$P$92,3,0)","v":48386.69},{"$f":"VLOOKUP($F1562,mapping!$L$2:$P$92,4,0)","v":"Major Advanced Economies (G7)"},{"$f":"$D1562*VLOOKUP($E1562,'Charts data'!$A$2:$B$11,2,0)*VLOOKUP($G1562,'Charts data'!$A$14:$B$18,2,0)/IF('Charts data'!$E$3=1,I1562,1)/IF('Charts data'!$E$4=1,J1562,1)","v":100000}]
["ID0831",40000,"USD",{"$f":"B1563*VLOOKUP(C1563,tblXrate[],2,0)","v":40000},"Manager","USA","2 to 3",20,{"$f":"VLOOKUP(F1563,mapping!$L$2:$P$92,2,0)","v":1},{"$f":"VLOOKUP($F1563,mapping!$L$2:$P$92,3,0)","v":48386.69},{"$f":"VLOOKUP($F1563,mapping!$L$2:$P$92,4,0)","v":"Major Advanced Economies (G7)"},{"$f":"$D1563*VLOOKUP($E1563,'Charts data'!$A$2:$B$11,2,0)*VLOOKUP($G1563,'Charts data'!$A$14:$B$18,2,0)/IF('Charts data'!$E$3=1,I1563,1)/IF('Charts data'!$E$4=1,J1563,1)","v":40000}]
["ID0840",85000,"USD",{"$f":"B1564*VLOOKUP(C1564,tblXrate[],2,0)","v":85000},"Accountant","USA","8 Hrs",1,{"$f":"VLOOKUP(F1564,mapping!$L$2:$P$92,2,0)","v":1},{"$f":"VLOOKUP($F1564,mapping!$L$2:$P$92,3,0)","v":48386.69},{"$f":"VLOOKUP($F1564,mapping!$L$2:$P$92,4,0)","v":"Major Advanced Economies (G7)"},{"$f":"$D1564*VLOOKUP($E1564,'Charts data'!$A$2:$B$11,2,0)*VLOOKUP($G1564,'Charts data'!$A$14:$B$18,2,0)/IF('Charts data'!$E$3=1,I1564,1)/IF('Charts data'!$E$4=1,J1564,1)","v":85000}]
["ID0854",92500,"USD",{"$f":"B1565*VLOOKUP(C1565,tblXrate[],2,0)","v":92500},"Analyst","USA","2 to 3",15,{"$f":"VLOOKUP(F1565,mapping!$L$2:$P$92,2,0)","v":1},{"$f":"VLOOKUP($F1565,mapping!$L$2:$P$92,3,0)","v":48386.69},{"$f":"VLOOKUP($F1565,mapping!$L$2:$P$92,4,0)","v":"Major Advanced Economies (G7)"},{"$f":"$D1565*VLOOKUP($E1565,'Charts data'!$A$2:$B$11,2,0)*VLOOKUP($G1565,'Charts data'!$A$14:$B$18,2,0)/IF('Charts data'!$E$3=1,I1565,1)/IF('Charts data'!$E$4=1,J1565,1)","v":92500}]
["ID0856",32000,"USD",{"$f":"B1566*VLOOKUP(C1566,tblXrate[],2,0)","v":32000},"Manager","USA","4 to 6",1,{"$f":"VLOOKUP(F1566,mapping!$L$2:$P$92,2,0)","v":1},{"$f":"VLOOKUP($F1566,mapping!$L$2:$P$92,3,0)","v":48386.69},{"$f":"VLOOKUP($F1566,mapping!$L$2:$P$92,4,0)","v":"Major Advanced Economies (G7)"},{"$f":"$D1566*VLOOKUP($E1566,'Charts data'!$A$2:$B$11,2,0)*VLOOKUP($G1566,'Charts data'!$A$14:$B$18,2,0)/IF('Charts data'!$E$3=1,I1566,1)/IF('Charts data'!$E$4=1,J1566,1)","v":32000}]
["ID0857",55000,"USD",{"$f":"B1567*VLOOKUP(C1567,tblXrate[],2,0)","v":55000},"Analyst","USA","4 to 6",10,{"$f":"VLOOKUP(F1567,mapping!$L$2:$P$92,2,0)","v":1},{"$f":"VLOOKUP($F1567,mapping!$L$2:$P$92,3,0)","v":48386.69},{"$f":"VLOOKUP($F1567,mapping!$L$2:$P$92,4,0)","v":"Major Advanced Economies (G7)"},{"$f":"$D1567*VLOOKUP($E1567,'Charts data'!$A$2:$B$11,2,0)*VLOOKUP($G1567,'Charts data'!$A$14:$B$18,2,0)/IF('Charts data'!$E$3=1,I1567,1)/IF('Charts data'!$E$4=1,J1567,1)","v":55000}]
["ID0858",40000,"USD",{"$f":"B1568*VLOOKUP(C1568,tblXrate[],2,0)","v":40000},"Analyst","USA","8 Hrs",4,{"$f":"VLOOKUP(F1568,mapping!$L$2:$P$92,2,0)","v":1},{"$f":"VLOOKUP($F1568,mapping!$L$2:$P$92,3,0)","v":48386.69},{"$f":"VLOOKUP($F1568,mapping!$L$2:$P$92,4,0)","v":"Major Advanced Economies (G7)"},{"$f":"$D1568*VLOOKUP($E1568,'Charts data'!$A$2:$B$11,2,0)*VLOOKUP($G1568,'Charts data'!$A$14:$B$18,2,0)/IF('Charts data'!$E$3=1,I1568,1)/IF('Charts data'!$E$4=1,J1568,1)","v":40000}]
["ID0860",43600,"USD",{"$f":"B1569*VLOOKUP(C1569,tblXrate[],2,0)","v":43600},"Analyst","USA","4 to 6",5,{"$f":"VLOOKUP(F1569,mapping!$L$2:$P$92,2,0)","v":1},{"$f":"VLOOKUP($F1569,mapping!$L$2:$P$92,3,0)","v":48386.69},{"$f":"VLOOKUP($F1569,mapping!$L$2:$P$92,4,0)","v":"Major Advanced Economies (G7)"},{"$f":"$D1569*VLOOKUP($E1569,'Charts data'!$A$2:$B$11,2,0)*VLOOKUP($G1569,'Charts data'!$A$14:$B$18,2,0)/IF('Charts data'!$E$3=1,I1569,1)/IF('Charts data'!$E$4=1,J1569,1)","v":43600}]
["ID0866",65000,"USD",{"$f":"B1570*VLOOKUP(C1570,tblXrate[],2,0)","v":65000},"Analyst","USA","1 or 2",8,{"$f":"VLOOKUP(F1570,mapping!$L$2:$P$92,2,0)","v":1},{"$f":"VLOOKUP($F1570,mapping!$L$2:$P$92,3,0)","v":48386.69},{"$f":"VLOOKUP($F1570,mapping!$L$2:$P$92,4,0)","v":"Major Advanced Economies (G7)"},{"$f":"$D1570*VLOOKUP($E1570,'Charts data'!$A$2:$B$11,2,0)*VLOOKUP($G1570,'Charts data'!$A$14:$B$18,2,0)/IF('Charts data'!$E$3=1,I1570,1)/IF('Charts data'!$E$4=1,J1570,1)","v":65000}]
["ID0867",40000,"USD",{"$f":"B1571*VLOOKUP(C1571,tblXrate[],2,0)","v":40000},"Analyst","USA","8 Hrs",2,{"$f":"VLOOKUP(F1571,mapping!$L$2:$P$92,2,0)","v":1},{"$f":"VLOOKUP($F1571,mapping!$L$2:$P$92,3,0)","v":48386.69},{"$f":"VLOOKUP($F1571,mapping!$L$2:$P$92,4,0)","v":"Major Advanced Economies (G7)"},{"$f":"$D1571*VLOOKUP($E1571,'Charts data'!$A$2:$B$11,2,0)*VLOOKUP($G1571,'Charts data'!$A$14:$B$18,2,0)/IF('Charts data'!$E$3=1,I1571,1)/IF('Charts data'!$E$4=1,J1571,1)","v":40000}]
["ID0869",50000,"USD",{"$f":"B1572*VLOOKUP(C1572,tblXrate[],2,0)","v":50000},"CXO or Top Mgmt.","USA","8 Hrs",15,{"$f":"VLOOKUP(F1572,mapping!$L$2:$P$92,2,0)","v":1},{"$f":"VLOOKUP($F1572,mapping!$L$2:$P$92,3,0)","v":48386.69},{"$f":"VLOOKUP($F1572,mapping!$L$2:$P$92,4,0)","v":"Major Advanced Economies (G7)"},{"$f":"$D1572*VLOOKUP($E1572,'Charts data'!$A$2:$B$11,2,0)*VLOOKUP($G1572,'Charts data'!$A$14:$B$18,2,0)/IF('Charts data'!$E$3=1,I1572,1)/IF('Charts data'!$E$4=1,J1572,1)","v":50000}]
["ID0870",135000,"USD",{"$f":"B1573*VLOOKUP(C1573,tblXrate[],2,0)","v":135000},"CXO or Top Mgmt.","USA","4 to 6",25,{"$f":"VLOOKUP(F1573,mapping!$L$2:$P$92,2,0)","v":1},{"$f":"VLOOKUP($F1573,mapping!$L$2:$P$92,3,0)","v":48386.69},{"$f":"VLOOKUP($F1573,mapping!$L$2:$P$92,4,0)","v":"Major Advanced Economies (G7)"},{"$f":"$D1573*VLOOKUP($E1573,'Charts data'!$A$2:$B$11,2,0)*VLOOKUP($G1573,'Charts data'!$A$14:$B$18,2,0)/IF('Charts data'!$E$3=1,I1573,1)/IF('Charts data'!$E$4=1,J1573,1)","v":135000}]
["ID0873",115000,"USD",{"$f":"B1574*VLOOKUP(C1574,tblXrate[],2,0)","v":115000},"Analyst","USA","4 to 6",10,{"$f":"VLOOKUP(F1574,mapping!$L$2:$P$92,2,0)","v":1},{"$f":"VLOOKUP($F1574,mapping!$L$2:$P$92,3,0)","v":48386.69},{"$f":"VLOOKUP($F1574,mapping!$L$2:$P$92,4,0)","v":"Major Advanced Economies (G7)"},{"$f":"$D1574*VLOOKUP($E1574,'Charts data'!$A$2:$B$11,2,0)*VLOOKUP($G1574,'Charts data'!$A$14:$B$18,2,0)/IF('Charts data'!$E$3=1,I1574,1)/IF('Charts data'!$E$4=1,J1574,1)","v":115000}]
["ID0874",70000,"USD",{"$f":"B1575*VLOOKUP(C1575,tblXrate[],2,0)","v":70000},"Analyst","USA","8 Hrs",15,{"$f":"VLOOKUP(F1575,mapping!$L$2:$P$92,2,0)","v":1},{"$f":"VLOOKUP($F1575,mapping!$L$2:$P$92,3,0)","v":48386.69},{"$f":"VLOOKUP($F1575,mapping!$L$2:$P$92,4,0)","v":"Major Advanced Economies (G7)"},{"$f":"$D1575*VLOOKUP($E1575,'Charts data'!$A$2:$B$11,2,0)*VLOOKUP($G1575,'Charts data'!$A$14:$B$18,2,0)/IF('Charts data'!$E$3=1,I1575,1)/IF('Charts data'!$E$4=1,J1575,1)","v":70000}]
["ID0875",60000,"USD",{"$f":"B1576*VLOOKUP(C1576,tblXrate[],2,0)","v":60000},"Analyst","USA","2 to 3",8,{"$f":"VLOOKUP(F1576,mapping!$L$2:$P$92,2,0)","v":1},{"$f":"VLOOKUP($F1576,mapping!$L$2:$P$92,3,0)","v":48386.69},{"$f":"VLOOKUP($F1576,mapping!$L$2:$P$92,4,0)","v":"Major Advanced Economies (G7)"},{"$f":"$D1576*VLOOKUP($E1576,'Charts data'!$A$2:$B$11,2,0)*VLOOKUP($G1576,'Charts data'!$A$14:$B$18,2,0)/IF('Charts data'!$E$3=1,I1576,1)/IF('Charts data'!$E$4=1,J1576,1)","v":60000}]
["ID0876",87456,"USD",{"$f":"B1577*VLOOKUP(C1577,tblXrate[],2,0)","v":87456},"Manager","USA","2 to 3",12,{"$f":"VLOOKUP(F1577,mapping!$L$2:$P$92,2,0)","v":1},{"$f":"VLOOKUP($F1577,mapping!$L$2:$P$92,3,0)","v":48386.69},{"$f":"VLOOKUP($F1577,mapping!$L$2:$P$92,4,0)","v":"Major Advanced Economies (G7)"},{"$f":"$D1577*VLOOKUP($E1577,'Charts data'!$A$2:$B$11,2,0)*VLOOKUP($G1577,'Charts data'!$A$14:$B$18,2,0)/IF('Charts data'!$E$3=1,I1577,1)/IF('Charts data'!$E$4=1,J1577,1)","v":87456}]
["ID0888",43000,"USD",{"$f":"B1578*VLOOKUP(C1578,tblXrate[],2,0)","v":43000},"Analyst","USA","4 to 6",1,{"$f":"VLOOKUP(F1578,mapping!$L$2:$P$92,2,0)","v":1},{"$f":"VLOOKUP($F1578,mapping!$L$2:$P$92,3,0)","v":48386.69},{"$f":"VLOOKUP($F1578,mapping!$L$2:$P$92,4,0)","v":"Major Advanced Economies (G7)"},{"$f":"$D1578*VLOOKUP($E1578,'Charts data'!$A$2:$B$11,2,0)*VLOOKUP($G1578,'Charts data'!$A$14:$B$18,2,0)/IF('Charts data'!$E$3=1,I1578,1)/IF('Charts data'!$E$4=1,J1578,1)","v":43000}]
["ID0906",75010,"USD",{"$f":"B1579*VLOOKUP(C1579,tblXrate[],2,0)","v":75010},"Analyst","USA","2 to 3",6,{"$f":"VLOOKUP(F1579,mapping!$L$2:$P$92,2,0)","v":1},{"$f":"VLOOKUP($F1579,mapping!$L$2:$P$92,3,0)","v":48386.69},{"$f":"VLOOKUP($F1579,mapping!$L$2:$P$92,4,0)","v":"Major Advanced Economies (G7)"},{"$f":"$D1579*VLOOKUP($E1579,'Charts data'!$A$2:$B$11,2,0)*VLOOKUP($G1579,'Charts data'!$A$14:$B$18,2,0)/IF('Charts data'!$E$3=1,I1579,1)/IF('Charts data'!$E$4=1,J1579,1)","v":75010}]
["ID0927",150000,"USD",{"$f":"B1580*VLOOKUP(C1580,tblXrate[],2,0)","v":150000},"Controller","USA","4 to 6",25,{"$f":"VLOOKUP(F1580,mapping!$L$2:$P$92,2,0)","v":1},{"$f":"VLOOKUP($F1580,mapping!$L$2:$P$92,3,0)","v":48386.69},{"$f":"VLOOKUP($F1580,mapping!$L$2:$P$92,4,0)","v":"Major Advanced Economies (G7)"},{"$f":"$D1580*VLOOKUP($E1580,'Charts data'!$A$2:$B$11,2,0)*VLOOKUP($G1580,'Charts data'!$A$14:$B$18,2,0)/IF('Charts data'!$E$3=1,I1580,1)/IF('Charts data'!$E$4=1,J1580,1)","v":150000}]
["ID0930",105000,"USD",{"$f":"B1581*VLOOKUP(C1581,tblXrate[],2,0)","v":105000},"Analyst","USA","4 to 6",20,{"$f":"VLOOKUP(F1581,mapping!$L$2:$P$92,2,0)","v":1},{"$f":"VLOOKUP($F1581,mapping!$L$2:$P$92,3,0)","v":48386.69},{"$f":"VLOOKUP($F1581,mapping!$L$2:$P$92,4,0)","v":"Major Advanced Economies (G7)"},{"$f":"$D1581*VLOOKUP($E1581,'Charts data'!$A$2:$B$11,2,0)*VLOOKUP($G1581,'Charts data'!$A$14:$B$18,2,0)/IF('Charts data'!$E$3=1,I1581,1)/IF('Charts data'!$E$4=1,J1581,1)","v":105000}]
["ID0945",70000,"USD",{"$f":"B1582*VLOOKUP(C1582,tblXrate[],2,0)","v":70000},"Manager","USA","4 to 6",4,{"$f":"VLOOKUP(F1582,mapping!$L$2:$P$92,2,0)","v":1},{"$f":"VLOOKUP($F1582,mapping!$L$2:$P$92,3,0)","v":48386.69},{"$f":"VLOOKUP($F1582,mapping!$L$2:$P$92,4,0)","v":"Major Advanced Economies (G7)"},{"$f":"$D1582*VLOOKUP($E1582,'Charts data'!$A$2:$B$11,2,0)*VLOOKUP($G1582,'Charts data'!$A$14:$B$18,2,0)/IF('Charts data'!$E$3=1,I1582,1)/IF('Charts data'!$E$4=1,J1582,1)","v":70000}]
["ID0953",57000,"USD",{"$f":"B1583*VLOOKUP(C1583,tblXrate[],2,0)","v":57000},"Engineer","USA","2 to 3",4,{"$f":"VLOOKUP(F1583,mapping!$L$2:$P$92,2,0)","v":1},{"$f":"VLOOKUP($F1583,mapping!$L$2:$P$92,3,0)","v":48386.69},{"$f":"VLOOKUP($F1583,mapping!$L$2:$P$92,4,0)","v":"Major Advanced Economies (G7)"},{"$f":"$D1583*VLOOKUP($E1583,'Charts data'!$A$2:$B$11,2,0)*VLOOKUP($G1583,'Charts data'!$A$14:$B$18,2,0)/IF('Charts data'!$E$3=1,I1583,1)/IF('Charts data'!$E$4=1,J1583,1)","v":57000}]
["ID0954",135000,"USD",{"$f":"B1584*VLOOKUP(C1584,tblXrate[],2,0)","v":135000},"Manager","USA","8 Hrs",15,{"$f":"VLOOKUP(F1584,mapping!$L$2:$P$92,2,0)","v":1},{"$f":"VLOOKUP($F1584,mapping!$L$2:$P$92,3,0)","v":48386.69},{"$f":"VLOOKUP($F1584,mapping!$L$2:$P$92,4,0)","v":"Major Advanced Economies (G7)"},{"$f":"$D1584*VLOOKUP($E1584,'Charts data'!$A$2:$B$11,2,0)*VLOOKUP($G1584,'Charts data'!$A$14:$B$18,2,0)/IF('Charts data'!$E$3=1,I1584,1)/IF('Charts data'!$E$4=1,J1584,1)","v":135000}]
["ID0970",60000,"USD",{"$f":"B1585*VLOOKUP(C1585,tblXrate[],2,0)","v":60000},"Manager","USA","2 to 3",3,{"$f":"VLOOKUP(F1585,mapping!$L$2:$P$92,2,0)","v":1},{"$f":"VLOOKUP($F1585,mapping!$L$2:$P$92,3,0)","v":48386.69},{"$f":"VLOOKUP($F1585,mapping!$L$2:$P$92,4,0)","v":"Major Advanced Economies (G7)"},{"$f":"$D1585*VLOOKUP($E1585,'Charts data'!$A$2:$B$11,2,0)*VLOOKUP($G1585,'Charts data'!$A$14:$B$18,2,0)/IF('Charts data'!$E$3=1,I1585,1)/IF('Charts data'!$E$4=1,J1585,1)","v":60000}]
["ID0981",260000,"USD",{"$f":"B1586*VLOOKUP(C1586,tblXrate[],2,0)","v":260000},"CXO or Top Mgmt.","USA","2 to 3",10,{"$f":"VLOOKUP(F1586,mapping!$L$2:$P$92,2,0)","v":1},{"$f":"VLOOKUP($F1586,mapping!$L$2:$P$92,3,0)","v":48386.69},{"$f":"VLOOKUP($F1586,mapping!$L$2:$P$92,4,0)","v":"Major Advanced Economies (G7)"},{"$f":"$D1586*VLOOKUP($E1586,'Charts data'!$A$2:$B$11,2,0)*VLOOKUP($G1586,'Charts data'!$A$14:$B$18,2,0)/IF('Charts data'!$E$3=1,I1586,1)/IF('Charts data'!$E$4=1,J1586,1)","v":260000}]
["ID0991",125000,"USD",{"$f":"B1587*VLOOKUP(C1587,tblXrate[],2,0)","v":125000},"CXO or Top Mgmt.","USA","4 to 6",10,{"$f":"VLOOKUP(F1587,mapping!$L$2:$P$92,2,0)","v":1},{"$f":"VLOOKUP($F1587,mapping!$L$2:$P$92,3,0)","v":48386.69},{"$f":"VLOOKUP($F1587,mapping!$L$2:$P$92,4,0)","v":"Major Advanced Economies (G7)"},{"$f":"$D1587*VLOOKUP($E1587,'Charts data'!$A$2:$B$11,2,0)*VLOOKUP($G1587,'Charts data'!$A$14:$B$18,2,0)/IF('Charts data'!$E$3=1,I1587,1)/IF('Charts data'!$E$4=1,J1587,1)","v":125000}]
["ID1006",45000,"USD",{"$f":"B1588*VLOOKUP(C1588,tblXrate[],2,0)","v":45000},"Accountant","USA","8 Hrs",3,{"$f":"VLOOKUP(F1588,mapping!$L$2:$P$92,2,0)","v":1},{"$f":"VLOOKUP($F1588,mapping!$L$2:$P$92,3,0)","v":48386.69},{"$f":"VLOOKUP($F1588,mapping!$L$2:$P$92,4,0)","v":"Major Advanced Economies (G7)"},{"$f":"$D1588*VLOOKUP($E1588,'Charts data'!$A$2:$B$11,2,0)*VLOOKUP($G1588,'Charts data'!$A$14:$B$18,2,0)/IF('Charts data'!$E$3=1,I1588,1)/IF('Charts data'!$E$4=1,J1588,1)","v":45000}]
["ID1025",65000,"USD",{"$f":"B1589*VLOOKUP(C1589,tblXrate[],2,0)","v":65000},"Controller","USA","4 to 6",9,{"$f":"VLOOKUP(F1589,mapping!$L$2:$P$92,2,0)","v":1},{"$f":"VLOOKUP($F1589,mapping!$L$2:$P$92,3,0)","v":48386.69},{"$f":"VLOOKUP($F1589,mapping!$L$2:$P$92,4,0)","v":"Major Advanced Economies (G7)"},{"$f":"$D1589*VLOOKUP($E1589,'Charts data'!$A$2:$B$11,2,0)*VLOOKUP($G1589,'Charts data'!$A$14:$B$18,2,0)/IF('Charts data'!$E$3=1,I1589,1)/IF('Charts data'!$E$4=1,J1589,1)","v":65000}]
["ID1138",90000,"USD",{"$f":"B1590*VLOOKUP(C1590,tblXrate[],2,0)","v":90000},"Manager","USA","4 to 6",5,{"$f":"VLOOKUP(F1590,mapping!$L$2:$P$92,2,0)","v":1},{"$f":"VLOOKUP($F1590,mapping!$L$2:$P$92,3,0)","v":48386.69},{"$f":"VLOOKUP($F1590,mapping!$L$2:$P$92,4,0)","v":"Major Advanced Economies (G7)"},{"$f":"$D1590*VLOOKUP($E1590,'Charts data'!$A$2:$B$11,2,0)*VLOOKUP($G1590,'Charts data'!$A$14:$B$18,2,0)/IF('Charts data'!$E$3=1,I1590,1)/IF('Charts data'!$E$4=1,J1590,1)","v":90000}]
["ID1144",60000,"USD",{"$f":"B1591*VLOOKUP(C1591,tblXrate[],2,0)","v":60000},"Analyst","USA","2 to 3",4,{"$f":"VLOOKUP(F1591,mapping!$L$2:$P$92,2,0)","v":1},{"$f":"VLOOKUP($F1591,mapping!$L$2:$P$92,3,0)","v":48386.69},{"$f":"VLOOKUP($F1591,mapping!$L$2:$P$92,4,0)","v":"Major Advanced Economies (G7)"},{"$f":"$D1591*VLOOKUP($E1591,'Charts data'!$A$2:$B$11,2,0)*VLOOKUP($G1591,'Charts data'!$A$14:$B$18,2,0)/IF('Charts data'!$E$3=1,I1591,1)/IF('Charts data'!$E$4=1,J1591,1)","v":60000}]
["ID1152",35000,"USD",{"$f":"B1592*VLOOKUP(C1592,tblXrate[],2,0)","v":35000},"Analyst","USA","8 Hrs",20,{"$f":"VLOOKUP(F1592,mapping!$L$2:$P$92,2,0)","v":1},{"$f":"VLOOKUP($F1592,mapping!$L$2:$P$92,3,0)","v":48386.69},{"$f":"VLOOKUP($F1592,mapping!$L$2:$P$92,4,0)","v":"Major Advanced Economies (G7)"},{"$f":"$D1592*VLOOKUP($E1592,'Charts data'!$A$2:$B$11,2,0)*VLOOKUP($G1592,'Charts data'!$A$14:$B$18,2,0)/IF('Charts data'!$E$3=1,I1592,1)/IF('Charts data'!$E$4=1,J1592,1)","v":35000}]
["ID1159",69000,"USD",{"$f":"B1593*VLOOKUP(C1593,tblXrate[],2,0)","v":69000},"Analyst","USA","2 to 3",20,{"$f":"VLOOKUP(F1593,mapping!$L$2:$P$92,2,0)","v":1},{"$f":"VLOOKUP($F1593,mapping!$L$2:$P$92,3,0)","v":48386.69},{"$f":"VLOOKUP($F1593,mapping!$L$2:$P$92,4,0)","v":"Major Advanced Economies (G7)"},{"$f":"$D1593*VLOOKUP($E1593,'Charts data'!$A$2:$B$11,2,0)*VLOOKUP($G1593,'Charts data'!$A$14:$B$18,2,0)/IF('Charts data'!$E$3=1,I1593,1)/IF('Charts data'!$E$4=1,J1593,1)","v":69000}]
["ID1167",75000,"USD",{"$f":"B1594*VLOOKUP(C1594,tblXrate[],2,0)","v":75000},"Controller","USA","2 to 3",20,{"$f":"VLOOKUP(F1594,mapping!$L$2:$P$92,2,0)","v":1},{"$f":"VLOOKUP($F1594,mapping!$L$2:$P$92,3,0)","v":48386.69},{"$f":"VLOOKUP($F1594,mapping!$L$2:$P$92,4,0)","v":"Major Advanced Economies (G7)"},{"$f":"$D1594*VLOOKUP($E1594,'Charts data'!$A$2:$B$11,2,0)*VLOOKUP($G1594,'Charts data'!$A$14:$B$18,2,0)/IF('Charts data'!$E$3=1,I1594,1)/IF('Charts data'!$E$4=1,J1594,1)","v":75000}]
["ID1168",59000,"USD",{"$f":"B1595*VLOOKUP(C1595,tblXrate[],2,0)","v":59000},"Analyst","USA","4 to 6",14,{"$f":"VLOOKUP(F1595,mapping!$L$2:$P$92,2,0)","v":1},{"$f":"VLOOKUP($F1595,mapping!$L$2:$P$92,3,0)","v":48386.69},{"$f":"VLOOKUP($F1595,mapping!$L$2:$P$92,4,0)","v":"Major Advanced Economies (G7)"},{"$f":"$D1595*VLOOKUP($E1595,'Charts data'!$A$2:$B$11,2,0)*VLOOKUP($G1595,'Charts data'!$A$14:$B$18,2,0)/IF('Charts data'!$E$3=1,I1595,1)/IF('Charts data'!$E$4=1,J1595,1)","v":59000}]
["ID1183",27840,"USD",{"$f":"B1596*VLOOKUP(C1596,tblXrate[],2,0)","v":27840},"Analyst","USA","2 to 3",1,{"$f":"VLOOKUP(F1596,mapping!$L$2:$P$92,2,0)","v":1},{"$f":"VLOOKUP($F1596,mapping!$L$2:$P$92,3,0)","v":48386.69},{"$f":"VLOOKUP($F1596,mapping!$L$2:$P$92,4,0)","v":"Major Advanced Economies (G7)"},{"$f":"$D1596*VLOOKUP($E1596,'Charts data'!$A$2:$B$11,2,0)*VLOOKUP($G1596,'Charts data'!$A$14:$B$18,2,0)/IF('Charts data'!$E$3=1,I1596,1)/IF('Charts data'!$E$4=1,J1596,1)","v":27840}]
["ID1188",75000,"USD",{"$f":"B1597*VLOOKUP(C1597,tblXrate[],2,0)","v":75000},"Analyst","USA","4 to 6",12,{"$f":"VLOOKUP(F1597,mapping!$L$2:$P$92,2,0)","v":1},{"$f":"VLOOKUP($F1597,mapping!$L$2:$P$92,3,0)","v":48386.69},{"$f":"VLOOKUP($F1597,mapping!$L$2:$P$92,4,0)","v":"Major Advanced Economies (G7)"},{"$f":"$D1597*VLOOKUP($E1597,'Charts data'!$A$2:$B$11,2,0)*VLOOKUP($G1597,'Charts data'!$A$14:$B$18,2,0)/IF('Charts data'!$E$3=1,I1597,1)/IF('Charts data'!$E$4=1,J1597,1)","v":75000}]
["ID1191",60000,"USD",{"$f":"B1598*VLOOKUP(C1598,tblXrate[],2,0)","v":60000},"Manager","USA","2 to 3",10,{"$f":"VLOOKUP(F1598,mapping!$L$2:$P$92,2,0)","v":1},{"$f":"VLOOKUP($F1598,mapping!$L$2:$P$92,3,0)","v":48386.69},{"$f":"VLOOKUP($F1598,mapping!$L$2:$P$92,4,0)","v":"Major Advanced Economies (G7)"},{"$f":"$D1598*VLOOKUP($E1598,'Charts data'!$A$2:$B$11,2,0)*VLOOKUP($G1598,'Charts data'!$A$14:$B$18,2,0)/IF('Charts data'!$E$3=1,I1598,1)/IF('Charts data'!$E$4=1,J1598,1)","v":60000}]
["ID1194",56000,"USD",{"$f":"B1599*VLOOKUP(C1599,tblXrate[],2,0)","v":56000},"Analyst","USA","1 or 2",2,{"$f":"VLOOKUP(F1599,mapping!$L$2:$P$92,2,0)","v":1},{"$f":"VLOOKUP($F1599,mapping!$L$2:$P$92,3,0)","v":48386.69},{"$f":"VLOOKUP($F1599,mapping!$L$2:$P$92,4,0)","v":"Major Advanced Economies (G7)"},{"$f":"$D1599*VLOOKUP($E1599,'Charts data'!$A$2:$B$11,2,0)*VLOOKUP($G1599,'Charts data'!$A$14:$B$18,2,0)/IF('Charts data'!$E$3=1,I1599,1)/IF('Charts data'!$E$4=1,J1599,1)","v":56000}]
["ID1198",88000,"USD",{"$f":"B1600*VLOOKUP(C1600,tblXrate[],2,0)","v":88000},"Manager","USA","4 to 6",2,{"$f":"VLOOKUP(F1600,mapping!$L$2:$P$92,2,0)","v":1},{"$f":"VLOOKUP($F1600,mapping!$L$2:$P$92,3,0)","v":48386.69},{"$f":"VLOOKUP($F1600,mapping!$L$2:$P$92,4,0)","v":"Major Advanced Economies (G7)"},{"$f":"$D1600*VLOOKUP($E1600,'Charts data'!$A$2:$B$11,2,0)*VLOOKUP($G1600,'Charts data'!$A$14:$B$18,2,0)/IF('Charts data'!$E$3=1,I1600,1)/IF('Charts data'!$E$4=1,J1600,1)","v":88000}]
["ID1199",80000,"USD",{"$f":"B1601*VLOOKUP(C1601,tblXrate[],2,0)","v":80000},"Analyst","USA","4 to 6",6,{"$f":"VLOOKUP(F1601,mapping!$L$2:$P$92,2,0)","v":1},{"$f":"VLOOKUP($F1601,mapping!$L$2:$P$92,3,0)","v":48386.69},{"$f":"VLOOKUP($F1601,mapping!$L$2:$P$92,4,0)","v":"Major Advanced Economies (G7)"},{"$f":"$D1601*VLOOKUP($E1601,'Charts data'!$A$2:$B$11,2,0)*VLOOKUP($G1601,'Charts data'!$A$14:$B$18,2,0)/IF('Charts data'!$E$3=1,I1601,1)/IF('Charts data'!$E$4=1,J1601,1)","v":80000}]
["ID1204",61000,"USD",{"$f":"B1602*VLOOKUP(C1602,tblXrate[],2,0)","v":61000},"Analyst","USA","4 to 6",1.5,{"$f":"VLOOKUP(F1602,mapping!$L$2:$P$92,2,0)","v":1},{"$f":"VLOOKUP($F1602,mapping!$L$2:$P$92,3,0)","v":48386.69},{"$f":"VLOOKUP($F1602,mapping!$L$2:$P$92,4,0)","v":"Major Advanced Economies (G7)"},{"$f":"$D1602*VLOOKUP($E1602,'Charts data'!$A$2:$B$11,2,0)*VLOOKUP($G1602,'Charts data'!$A$14:$B$18,2,0)/IF('Charts data'!$E$3=1,I1602,1)/IF('Charts data'!$E$4=1,J1602,1)","v":61000}]
["ID1211",60000,"USD",{"$f":"B1603*VLOOKUP(C1603,tblXrate[],2,0)","v":60000},"Engineer","USA","1 or 2",6,{"$f":"VLOOKUP(F1603,mapping!$L$2:$P$92,2,0)","v":1},{"$f":"VLOOKUP($F1603,mapping!$L$2:$P$92,3,0)","v":48386.69},{"$f":"VLOOKUP($F1603,mapping!$L$2:$P$92,4,0)","v":"Major Advanced Economies (G7)"},{"$f":"$D1603*VLOOKUP($E1603,'Charts data'!$A$2:$B$11,2,0)*VLOOKUP($G1603,'Charts data'!$A$14:$B$18,2,0)/IF('Charts data'!$E$3=1,I1603,1)/IF('Charts data'!$E$4=1,J1603,1)","v":60000}]
["ID1215",60000,"USD",{"$f":"B1604*VLOOKUP(C1604,tblXrate[],2,0)","v":60000},"Manager","USA","4 to 6",12,{"$f":"VLOOKUP(F1604,mapping!$L$2:$P$92,2,0)","v":1},{"$f":"VLOOKUP($F1604,mapping!$L$2:$P$92,3,0)","v":48386.69},{"$f":"VLOOKUP($F1604,mapping!$L$2:$P$92,4,0)","v":"Major Advanced Economies (G7)"},{"$f":"$D1604*VLOOKUP($E1604,'Charts data'!$A$2:$B$11,2,0)*VLOOKUP($G1604,'Charts data'!$A$14:$B$18,2,0)/IF('Charts data'!$E$3=1,I1604,1)/IF('Charts data'!$E$4=1,J1604,1)","v":60000}]
["ID1218",74000,"USD",{"$f":"B1605*VLOOKUP(C1605,tblXrate[],2,0)","v":74000},"Specialist","USA","4 to 6",10,{"$f":"VLOOKUP(F1605,mapping!$L$2:$P$92,2,0)","v":1},{"$f":"VLOOKUP($F1605,mapping!$L$2:$P$92,3,0)","v":48386.69},{"$f":"VLOOKUP($F1605,mapping!$L$2:$P$92,4,0)","v":"Major Advanced Economies (G7)"},{"$f":"$D1605*VLOOKUP($E1605,'Charts data'!$A$2:$B$11,2,0)*VLOOKUP($G1605,'Charts data'!$A$14:$B$18,2,0)/IF('Charts data'!$E$3=1,I1605,1)/IF('Charts data'!$E$4=1,J1605,1)","v":74000}]
["ID1219",95856,"USD",{"$f":"B1606*VLOOKUP(C1606,tblXrate[],2,0)","v":95856},"Analyst","USA","2 to 3",13,{"$f":"VLOOKUP(F1606,mapping!$L$2:$P$92,2,0)","v":1},{"$f":"VLOOKUP($F1606,mapping!$L$2:$P$92,3,0)","v":48386.69},{"$f":"VLOOKUP($F1606,mapping!$L$2:$P$92,4,0)","v":"Major Advanced Economies (G7)"},{"$f":"$D1606*VLOOKUP($E1606,'Charts data'!$A$2:$B$11,2,0)*VLOOKUP($G1606,'Charts data'!$A$14:$B$18,2,0)/IF('Charts data'!$E$3=1,I1606,1)/IF('Charts data'!$E$4=1,J1606,1)","v":95856}]
["ID1220",40000,"USD",{"$f":"B1607*VLOOKUP(C1607,tblXrate[],2,0)","v":40000},"Accountant","USA","2 to 3",15,{"$f":"VLOOKUP(F1607,mapping!$L$2:$P$92,2,0)","v":1},{"$f":"VLOOKUP($F1607,mapping!$L$2:$P$92,3,0)","v":48386.69},{"$f":"VLOOKUP($F1607,mapping!$L$2:$P$92,4,0)","v":"Major Advanced Economies (G7)"},{"$f":"$D1607*VLOOKUP($E1607,'Charts data'!$A$2:$B$11,2,0)*VLOOKUP($G1607,'Charts data'!$A$14:$B$18,2,0)/IF('Charts data'!$E$3=1,I1607,1)/IF('Charts data'!$E$4=1,J1607,1)","v":40000}]
["ID1222",90000,"USD",{"$f":"B1608*VLOOKUP(C1608,tblXrate[],2,0)","v":90000},"Analyst","USA","4 to 6",30,{"$f":"VLOOKUP(F1608,mapping!$L$2:$P$92,2,0)","v":1},{"$f":"VLOOKUP($F1608,mapping!$L$2:$P$92,3,0)","v":48386.69},{"$f":"VLOOKUP($F1608,mapping!$L$2:$P$92,4,0)","v":"Major Advanced Economies (G7)"},{"$f":"$D1608*VLOOKUP($E1608,'Charts data'!$A$2:$B$11,2,0)*VLOOKUP($G1608,'Charts data'!$A$14:$B$18,2,0)/IF('Charts data'!$E$3=1,I1608,1)/IF('Charts data'!$E$4=1,J1608,1)","v":90000}]
["ID1227",100000,"USD",{"$f":"B1609*VLOOKUP(C1609,tblXrate[],2,0)","v":100000},"Manager","USA","4 to 6",11,{"$f":"VLOOKUP(F1609,mapping!$L$2:$P$92,2,0)","v":1},{"$f":"VLOOKUP($F1609,mapping!$L$2:$P$92,3,0)","v":48386.69},{"$f":"VLOOKUP($F1609,mapping!$L$2:$P$92,4,0)","v":"Major Advanced Economies (G7)"},{"$f":"$D1609*VLOOKUP($E1609,'Charts data'!$A$2:$B$11,2,0)*VLOOKUP($G1609,'Charts data'!$A$14:$B$18,2,0)/IF('Charts data'!$E$3=1,I1609,1)/IF('Charts data'!$E$4=1,J1609,1)","v":100000}]
["ID1244",56000,"USD",{"$f":"B1610*VLOOKUP(C1610,tblXrate[],2,0)","v":56000},"Accountant","USA","4 to 6",1,{"$f":"VLOOKUP(F1610,mapping!$L$2:$P$92,2,0)","v":1},{"$f":"VLOOKUP($F1610,mapping!$L$2:$P$92,3,0)","v":48386.69},{"$f":"VLOOKUP($F1610,mapping!$L$2:$P$92,4,0)","v":"Major Advanced Economies (G7)"},{"$f":"$D1610*VLOOKUP($E1610,'Charts data'!$A$2:$B$11,2,0)*VLOOKUP($G1610,'Charts data'!$A$14:$B$18,2,0)/IF('Charts data'!$E$3=1,I1610,1)/IF('Charts data'!$E$4=1,J1610,1)","v":56000}]
["ID1248",85000,"USD",{"$f":"B1611*VLOOKUP(C1611,tblXrate[],2,0)","v":85000},"Analyst","USA","4 to 6",5,{"$f":"VLOOKUP(F1611,mapping!$L$2:$P$92,2,0)","v":1},{"$f":"VLOOKUP($F1611,mapping!$L$2:$P$92,3,0)","v":48386.69},{"$f":"VLOOKUP($F1611,mapping!$L$2:$P$92,4,0)","v":"Major Advanced Economies (G7)"},{"$f":"$D1611*VLOOKUP($E1611,'Charts data'!$A$2:$B$11,2,0)*VLOOKUP($G1611,'Charts data'!$A$14:$B$18,2,0)/IF('Charts data'!$E$3=1,I1611,1)/IF('Charts data'!$E$4=1,J1611,1)","v":85000}]
["ID1250",55000,"USD",{"$f":"B1612*VLOOKUP(C1612,tblXrate[],2,0)","v":55000},"Analyst","USA","1 or 2",7,{"$f":"VLOOKUP(F1612,mapping!$L$2:$P$92,2,0)","v":1},{"$f":"VLOOKUP($F1612,mapping!$L$2:$P$92,3,0)","v":48386.69},{"$f":"VLOOKUP($F1612,mapping!$L$2:$P$92,4,0)","v":"Major Advanced Economies (G7)"},{"$f":"$D1612*VLOOKUP($E1612,'Charts data'!$A$2:$B$11,2,0)*VLOOKUP($G1612,'Charts data'!$A$14:$B$18,2,0)/IF('Charts data'!$E$3=1,I1612,1)/IF('Charts data'!$E$4=1,J1612,1)","v":55000}]
["ID1253",50846,"USD",{"$f":"B1613*VLOOKUP(C1613,tblXrate[],2,0)","v":50846},"Analyst","USA","4 to 6",25,{"$f":"VLOOKUP(F1613,mapping!$L$2:$P$92,2,0)","v":1},{"$f":"VLOOKUP($F1613,mapping!$L$2:$P$92,3,0)","v":48386.69},{"$f":"VLOOKUP($F1613,mapping!$L$2:$P$92,4,0)","v":"Major Advanced Economies (G7)"},{"$f":"$D1613*VLOOKUP($E1613,'Charts data'!$A$2:$B$11,2,0)*VLOOKUP($G1613,'Charts data'!$A$14:$B$18,2,0)/IF('Charts data'!$E$3=1,I1613,1)/IF('Charts data'!$E$4=1,J1613,1)","v":50846}]
["ID1254",63000,"USD",{"$f":"B1614*VLOOKUP(C1614,tblXrate[],2,0)","v":63000},"Accountant","USA","8 Hrs",16,{"$f":"VLOOKUP(F1614,mapping!$L$2:$P$92,2,0)","v":1},{"$f":"VLOOKUP($F1614,mapping!$L$2:$P$92,3,0)","v":48386.69},{"$f":"VLOOKUP($F1614,mapping!$L$2:$P$92,4,0)","v":"Major Advanced Economies (G7)"},{"$f":"$D1614*VLOOKUP($E1614,'Charts data'!$A$2:$B$11,2,0)*VLOOKUP($G1614,'Charts data'!$A$14:$B$18,2,0)/IF('Charts data'!$E$3=1,I1614,1)/IF('Charts data'!$E$4=1,J1614,1)","v":63000}]
["ID1258",70000,"USD",{"$f":"B1615*VLOOKUP(C1615,tblXrate[],2,0)","v":70000},"Analyst","USA","1 or 2",6,{"$f":"VLOOKUP(F1615,mapping!$L$2:$P$92,2,0)","v":1},{"$f":"VLOOKUP($F1615,mapping!$L$2:$P$92,3,0)","v":48386.69},{"$f":"VLOOKUP($F1615,mapping!$L$2:$P$92,4,0)","v":"Major Advanced Economies (G7)"},{"$f":"$D1615*VLOOKUP($E1615,'Charts data'!$A$2:$B$11,2,0)*VLOOKUP($G1615,'Charts data'!$A$14:$B$18,2,0)/IF('Charts data'!$E$3=1,I1615,1)/IF('Charts data'!$E$4=1,J1615,1)","v":70000}]
["ID1265",40000,"USD",{"$f":"B1616*VLOOKUP(C1616,tblXrate[],2,0)","v":40000},"Manager","USA","2 to 3",18,{"$f":"VLOOKUP(F1616,mapping!$L$2:$P$92,2,0)","v":1},{"$f":"VLOOKUP($F1616,mapping!$L$2:$P$92,3,0)","v":48386.69},{"$f":"VLOOKUP($F1616,mapping!$L$2:$P$92,4,0)","v":"Major Advanced Economies (G7)"},{"$f":"$D1616*VLOOKUP($E1616,'Charts data'!$A$2:$B$11,2,0)*VLOOKUP($G1616,'Charts data'!$A$14:$B$18,2,0)/IF('Charts data'!$E$3=1,I1616,1)/IF('Charts data'!$E$4=1,J1616,1)","v":40000}]
["ID1266",107000,"USD",{"$f":"B1617*VLOOKUP(C1617,tblXrate[],2,0)","v":107000},"Accountant","USA","4 to 6",12,{"$f":"VLOOKUP(F1617,mapping!$L$2:$P$92,2,0)","v":1},{"$f":"VLOOKUP($F1617,mapping!$L$2:$P$92,3,0)","v":48386.69},{"$f":"VLOOKUP($F1617,mapping!$L$2:$P$92,4,0)","v":"Major Advanced Economies (G7)"},{"$f":"$D1617*VLOOKUP($E1617,'Charts data'!$A$2:$B$11,2,0)*VLOOKUP($G1617,'Charts data'!$A$14:$B$18,2,0)/IF('Charts data'!$E$3=1,I1617,1)/IF('Charts data'!$E$4=1,J1617,1)","v":107000}]
["ID1267",82000,"USD",{"$f":"B1618*VLOOKUP(C1618,tblXrate[],2,0)","v":82000},"Manager","USA","4 to 6",10,{"$f":"VLOOKUP(F1618,mapping!$L$2:$P$92,2,0)","v":1},{"$f":"VLOOKUP($F1618,mapping!$L$2:$P$92,3,0)","v":48386.69},{"$f":"VLOOKUP($F1618,mapping!$L$2:$P$92,4,0)","v":"Major Advanced Economies (G7)"},{"$f":"$D1618*VLOOKUP($E1618,'Charts data'!$A$2:$B$11,2,0)*VLOOKUP($G1618,'Charts data'!$A$14:$B$18,2,0)/IF('Charts data'!$E$3=1,I1618,1)/IF('Charts data'!$E$4=1,J1618,1)","v":82000}]
["ID1271",69000,"USD",{"$f":"B1619*VLOOKUP(C1619,tblXrate[],2,0)","v":69000},"Controller","USA","4 to 6",20,{"$f":"VLOOKUP(F1619,mapping!$L$2:$P$92,2,0)","v":1},{"$f":"VLOOKUP($F1619,mapping!$L$2:$P$92,3,0)","v":48386.69},{"$f":"VLOOKUP($F1619,mapping!$L$2:$P$92,4,0)","v":"Major Advanced Economies (G7)"},{"$f":"$D1619*VLOOKUP($E1619,'Charts data'!$A$2:$B$11,2,0)*VLOOKUP($G1619,'Charts data'!$A$14:$B$18,2,0)/IF('Charts data'!$E$3=1,I1619,1)/IF('Charts data'!$E$4=1,J1619,1)","v":69000}]
["ID1275",70000,"USD",{"$f":"B1620*VLOOKUP(C1620,tblXrate[],2,0)","v":70000},"Manager","USA","4 to 6",8,{"$f":"VLOOKUP(F1620,mapping!$L$2:$P$92,2,0)","v":1},{"$f":"VLOOKUP($F1620,mapping!$L$2:$P$92,3,0)","v":48386.69},{"$f":"VLOOKUP($F1620,mapping!$L$2:$P$92,4,0)","v":"Major Advanced Economies (G7)"},{"$f":"$D1620*VLOOKUP($E1620,'Charts data'!$A$2:$B$11,2,0)*VLOOKUP($G1620,'Charts data'!$A$14:$B$18,2,0)/IF('Charts data'!$E$3=1,I1620,1)/IF('Charts data'!$E$4=1,J1620,1)","v":70000}]
["ID1276",45000,"USD",{"$f":"B1621*VLOOKUP(C1621,tblXrate[],2,0)","v":45000},"Analyst","USA","4 to 6",7,{"$f":"VLOOKUP(F1621,mapping!$L$2:$P$92,2,0)","v":1},{"$f":"VLOOKUP($F1621,mapping!$L$2:$P$92,3,0)","v":48386.69},{"$f":"VLOOKUP($F1621,mapping!$L$2:$P$92,4,0)","v":"Major Advanced Economies (G7)"},{"$f":"$D1621*VLOOKUP($E1621,'Charts data'!$A$2:$B$11,2,0)*VLOOKUP($G1621,'Charts data'!$A$14:$B$18,2,0)/IF('Charts data'!$E$3=1,I1621,1)/IF('Charts data'!$E$4=1,J1621,1)","v":45000}]
["ID1282",50000,"USD",{"$f":"B1622*VLOOKUP(C1622,tblXrate[],2,0)","v":50000},"Analyst","USA","4 to 6",3,{"$f":"VLOOKUP(F1622,mapping!$L$2:$P$92,2,0)","v":1},{"$f":"VLOOKUP($F1622,mapping!$L$2:$P$92,3,0)","v":48386.69},{"$f":"VLOOKUP($F1622,mapping!$L$2:$P$92,4,0)","v":"Major Advanced Economies (G7)"},{"$f":"$D1622*VLOOKUP($E1622,'Charts data'!$A$2:$B$11,2,0)*VLOOKUP($G1622,'Charts data'!$A$14:$B$18,2,0)/IF('Charts data'!$E$3=1,I1622,1)/IF('Charts data'!$E$4=1,J1622,1)","v":50000}]
["ID1286",192000,"USD",{"$f":"B1623*VLOOKUP(C1623,tblXrate[],2,0)","v":192000},"CXO or Top Mgmt.","USA","8 Hrs",27,{"$f":"VLOOKUP(F1623,mapping!$L$2:$P$92,2,0)","v":1},{"$f":"VLOOKUP($F1623,mapping!$L$2:$P$92,3,0)","v":48386.69},{"$f":"VLOOKUP($F1623,mapping!$L$2:$P$92,4,0)","v":"Major Advanced Economies (G7)"},{"$f":"$D1623*VLOOKUP($E1623,'Charts data'!$A$2:$B$11,2,0)*VLOOKUP($G1623,'Charts data'!$A$14:$B$18,2,0)/IF('Charts data'!$E$3=1,I1623,1)/IF('Charts data'!$E$4=1,J1623,1)","v":192000}]
["ID1287",54000,"USD",{"$f":"B1624*VLOOKUP(C1624,tblXrate[],2,0)","v":54000},"Analyst","USA","8 Hrs",6,{"$f":"VLOOKUP(F1624,mapping!$L$2:$P$92,2,0)","v":1},{"$f":"VLOOKUP($F1624,mapping!$L$2:$P$92,3,0)","v":48386.69},{"$f":"VLOOKUP($F1624,mapping!$L$2:$P$92,4,0)","v":"Major Advanced Economies (G7)"},{"$f":"$D1624*VLOOKUP($E1624,'Charts data'!$A$2:$B$11,2,0)*VLOOKUP($G1624,'Charts data'!$A$14:$B$18,2,0)/IF('Charts data'!$E$3=1,I1624,1)/IF('Charts data'!$E$4=1,J1624,1)","v":54000}]
["ID1296",140000,"USD",{"$f":"B1625*VLOOKUP(C1625,tblXrate[],2,0)","v":140000},"Accountant","USA","4 to 6",12,{"$f":"VLOOKUP(F1625,mapping!$L$2:$P$92,2,0)","v":1},{"$f":"VLOOKUP($F1625,mapping!$L$2:$P$92,3,0)","v":48386.69},{"$f":"VLOOKUP($F1625,mapping!$L$2:$P$92,4,0)","v":"Major Advanced Economies (G7)"},{"$f":"$D1625*VLOOKUP($E1625,'Charts data'!$A$2:$B$11,2,0)*VLOOKUP($G1625,'Charts data'!$A$14:$B$18,2,0)/IF('Charts data'!$E$3=1,I1625,1)/IF('Charts data'!$E$4=1,J1625,1)","v":140000}]
["ID1303",80000,"USD",{"$f":"B1626*VLOOKUP(C1626,tblXrate[],2,0)","v":80000},"Manager","USA","1 or 2",6,{"$f":"VLOOKUP(F1626,mapping!$L$2:$P$92,2,0)","v":1},{"$f":"VLOOKUP($F1626,mapping!$L$2:$P$92,3,0)","v":48386.69},{"$f":"VLOOKUP($F1626,mapping!$L$2:$P$92,4,0)","v":"Major Advanced Economies (G7)"},{"$f":"$D1626*VLOOKUP($E1626,'Charts data'!$A$2:$B$11,2,0)*VLOOKUP($G1626,'Charts data'!$A$14:$B$18,2,0)/IF('Charts data'!$E$3=1,I1626,1)/IF('Charts data'!$E$4=1,J1626,1)","v":80000}]
["ID1346",49500,"USD",{"$f":"B1627*VLOOKUP(C1627,tblXrate[],2,0)","v":49500},"Analyst","USA","4 to 6",4.5,{"$f":"VLOOKUP(F1627,mapping!$L$2:$P$92,2,0)","v":1},{"$f":"VLOOKUP($F1627,mapping!$L$2:$P$92,3,0)","v":48386.69},{"$f":"VLOOKUP($F1627,mapping!$L$2:$P$92,4,0)","v":"Major Advanced Economies (G7)"},{"$f":"$D1627*VLOOKUP($E1627,'Charts data'!$A$2:$B$11,2,0)*VLOOKUP($G1627,'Charts data'!$A$14:$B$18,2,0)/IF('Charts data'!$E$3=1,I1627,1)/IF('Charts data'!$E$4=1,J1627,1)","v":49500}]
["ID1352",80000,"USD",{"$f":"B1628*VLOOKUP(C1628,tblXrate[],2,0)","v":80000},"Analyst","USA","1 or 2",14,{"$f":"VLOOKUP(F1628,mapping!$L$2:$P$92,2,0)","v":1},{"$f":"VLOOKUP($F1628,mapping!$L$2:$P$92,3,0)","v":48386.69},{"$f":"VLOOKUP($F1628,mapping!$L$2:$P$92,4,0)","v":"Major Advanced Economies (G7)"},{"$f":"$D1628*VLOOKUP($E1628,'Charts data'!$A$2:$B$11,2,0)*VLOOKUP($G1628,'Charts data'!$A$14:$B$18,2,0)/IF('Charts data'!$E$3=1,I1628,1)/IF('Charts data'!$E$4=1,J1628,1)","v":80000}]
["ID1355",125000,"USD",{"$f":"B1629*VLOOKUP(C1629,tblXrate[],2,0)","v":125000},"Manager","USA","4 to 6",2,{"$f":"VLOOKUP(F1629,mapping!$L$2:$P$92,2,0)","v":1},{"$f":"VLOOKUP($F1629,mapping!$L$2:$P$92,3,0)","v":48386.69},{"$f":"VLOOKUP($F1629,mapping!$L$2:$P$92,4,0)","v":"Major Advanced Economies (G7)"},{"$f":"$D1629*VLOOKUP($E1629,'Charts data'!$A$2:$B$11,2,0)*VLOOKUP($G1629,'Charts data'!$A$14:$B$18,2,0)/IF('Charts data'!$E$3=1,I1629,1)/IF('Charts data'!$E$4=1,J1629,1)","v":125000}]
["ID1357",105000,"USD",{"$f":"B1630*VLOOKUP(C1630,tblXrate[],2,0)","v":105000},"CXO or Top Mgmt.","USA","1 or 2",15,{"$f":"VLOOKUP(F1630,mapping!$L$2:$P$92,2,0)","v":1},{"$f":"VLOOKUP($F1630,mapping!$L$2:$P$92,3,0)","v":48386.69},{"$f":"VLOOKUP($F1630,mapping!$L$2:$P$92,4,0)","v":"Major Advanced Economies (G7)"},{"$f":"$D1630*VLOOKUP($E1630,'Charts data'!$A$2:$B$11,2,0)*VLOOKUP($G1630,'Charts data'!$A$14:$B$18,2,0)/IF('Charts data'!$E$3=1,I1630,1)/IF('Charts data'!$E$4=1,J1630,1)","v":105000}]
["ID1359",75000,"USD",{"$f":"B1631*VLOOKUP(C1631,tblXrate[],2,0)","v":75000},"Analyst","USA","4 to 6",7,{"$f":"VLOOKUP(F1631,mapping!$L$2:$P$92,2,0)","v":1},{"$f":"VLOOKUP($F1631,mapping!$L$2:$P$92,3,0)","v":48386.69},{"$f":"VLOOKUP($F1631,mapping!$L$2:$P$92,4,0)","v":"Major Advanced Economies (G7)"},{"$f":"$D1631*VLOOKUP($E1631,'Charts data'!$A$2:$B$11,2,0)*VLOOKUP($G1631,'Charts data'!$A$14:$B$18,2,0)/IF('Charts data'!$E$3=1,I1631,1)/IF('Charts data'!$E$4=1,J1631,1)","v":75000}]
["ID1361",110000,"USD",{"$f":"B1632*VLOOKUP(C1632,tblXrate[],2,0)","v":110000},"Analyst","USA","1 or 2",10,{"$f":"VLOOKUP(F1632,mapping!$L$2:$P$92,2,0)","v":1},{"$f":"VLOOKUP($F1632,mapping!$L$2:$P$92,3,0)","v":48386.69},{"$f":"VLOOKUP($F1632,mapping!$L$2:$P$92,4,0)","v":"Major Advanced Economies (G7)"},{"$f":"$D1632*VLOOKUP($E1632,'Charts data'!$A$2:$B$11,2,0)*VLOOKUP($G1632,'Charts data'!$A$14:$B$18,2,0)/IF('Charts data'!$E$3=1,I1632,1)/IF('Charts data'!$E$4=1,J1632,1)","v":110000}]
["ID1364",125000,"USD",{"$f":"B1633*VLOOKUP(C1633,tblXrate[],2,0)","v":125000},"Manager","USA","4 to 6",25,{"$f":"VLOOKUP(F1633,mapping!$L$2:$P$92,2,0)","v":1},{"$f":"VLOOKUP($F1633,mapping!$L$2:$P$92,3,0)","v":48386.69},{"$f":"VLOOKUP($F1633,mapping!$L$2:$P$92,4,0)","v":"Major Advanced Economies (G7)"},{"$f":"$D1633*VLOOKUP($E1633,'Charts data'!$A$2:$B$11,2,0)*VLOOKUP($G1633,'Charts data'!$A$14:$B$18,2,0)/IF('Charts data'!$E$3=1,I1633,1)/IF('Charts data'!$E$4=1,J1633,1)","v":125000}]
["ID1365",60000,"USD",{"$f":"B1634*VLOOKUP(C1634,tblXrate[],2,0)","v":60000},"Analyst","USA","8 Hrs",12,{"$f":"VLOOKUP(F1634,mapping!$L$2:$P$92,2,0)","v":1},{"$f":"VLOOKUP($F1634,mapping!$L$2:$P$92,3,0)","v":48386.69},{"$f":"VLOOKUP($F1634,mapping!$L$2:$P$92,4,0)","v":"Major Advanced Economies (G7)"},{"$f":"$D1634*VLOOKUP($E1634,'Charts data'!$A$2:$B$11,2,0)*VLOOKUP($G1634,'Charts data'!$A$14:$B$18,2,0)/IF('Charts data'!$E$3=1,I1634,1)/IF('Charts data'!$E$4=1,J1634,1)","v":60000}]
["ID1369",57500,"USD",{"$f":"B1635*VLOOKUP(C1635,tblXrate[],2,0)","v":57500},"Manager","USA","4 to 6",30,{"$f":"VLOOKUP(F1635,mapping!$L$2:$P$92,2,0)","v":1},{"$f":"VLOOKUP($F1635,mapping!$L$2:$P$92,3,0)","v":48386.69},{"$f":"VLOOKUP($F1635,mapping!$L$2:$P$92,4,0)","v":"Major Advanced Economies (G7)"},{"$f":"$D1635*VLOOKUP($E1635,'Charts data'!$A$2:$B$11,2,0)*VLOOKUP($G1635,'Charts data'!$A$14:$B$18,2,0)/IF('Charts data'!$E$3=1,I1635,1)/IF('Charts data'!$E$4=1,J1635,1)","v":57500}]
["ID1371",80000,"USD",{"$f":"B1636*VLOOKUP(C1636,tblXrate[],2,0)","v":80000},"Manager","USA","4 to 6",10,{"$f":"VLOOKUP(F1636,mapping!$L$2:$P$92,2,0)","v":1},{"$f":"VLOOKUP($F1636,mapping!$L$2:$P$92,3,0)","v":48386.69},{"$f":"VLOOKUP($F1636,mapping!$L$2:$P$92,4,0)","v":"Major Advanced Economies (G7)"},{"$f":"$D1636*VLOOKUP($E1636,'Charts data'!$A$2:$B$11,2,0)*VLOOKUP($G1636,'Charts data'!$A$14:$B$18,2,0)/IF('Charts data'!$E$3=1,I1636,1)/IF('Charts data'!$E$4=1,J1636,1)","v":80000}]
["ID1373",33000,"USD",{"$f":"B1637*VLOOKUP(C1637,tblXrate[],2,0)","v":33000},"Controller","USA","4 to 6",3,{"$f":"VLOOKUP(F1637,mapping!$L$2:$P$92,2,0)","v":1},{"$f":"VLOOKUP($F1637,mapping!$L$2:$P$92,3,0)","v":48386.69},{"$f":"VLOOKUP($F1637,mapping!$L$2:$P$92,4,0)","v":"Major Advanced Economies (G7)"},{"$f":"$D1637*VLOOKUP($E1637,'Charts data'!$A$2:$B$11,2,0)*VLOOKUP($G1637,'Charts data'!$A$14:$B$18,2,0)/IF('Charts data'!$E$3=1,I1637,1)/IF('Charts data'!$E$4=1,J1637,1)","v":33000}]
["ID1374",100000,"USD",{"$f":"B1638*VLOOKUP(C1638,tblXrate[],2,0)","v":100000},"Analyst","USA","4 to 6",1,{"$f":"VLOOKUP(F1638,mapping!$L$2:$P$92,2,0)","v":1},{"$f":"VLOOKUP($F1638,mapping!$L$2:$P$92,3,0)","v":48386.69},{"$f":"VLOOKUP($F1638,mapping!$L$2:$P$92,4,0)","v":"Major Advanced Economies (G7)"},{"$f":"$D1638*VLOOKUP($E1638,'Charts data'!$A$2:$B$11,2,0)*VLOOKUP($G1638,'Charts data'!$A$14:$B$18,2,0)/IF('Charts data'!$E$3=1,I1638,1)/IF('Charts data'!$E$4=1,J1638,1)","v":100000}]
["ID1375",60000,"USD",{"$f":"B1639*VLOOKUP(C1639,tblXrate[],2,0)","v":60000},"Manager","USA","2 to 3",20,{"$f":"VLOOKUP(F1639,mapping!$L$2:$P$92,2,0)","v":1},{"$f":"VLOOKUP($F1639,mapping!$L$2:$P$92,3,0)","v":48386.69},{"$f":"VLOOKUP($F1639,mapping!$L$2:$P$92,4,0)","v":"Major Advanced Economies (G7)"},{"$f":"$D1639*VLOOKUP($E1639,'Charts data'!$A$2:$B$11,2,0)*VLOOKUP($G1639,'Charts data'!$A$14:$B$18,2,0)/IF('Charts data'!$E$3=1,I1639,1)/IF('Charts data'!$E$4=1,J1639,1)","v":60000}]
["ID1376",95000,"USD",{"$f":"B1640*VLOOKUP(C1640,tblXrate[],2,0)","v":95000},"Analyst","USA","2 to 3",7,{"$f":"VLOOKUP(F1640,mapping!$L$2:$P$92,2,0)","v":1},{"$f":"VLOOKUP($F1640,mapping!$L$2:$P$92,3,0)","v":48386.69},{"$f":"VLOOKUP($F1640,mapping!$L$2:$P$92,4,0)","v":"Major Advanced Economies (G7)"},{"$f":"$D1640*VLOOKUP($E1640,'Charts data'!$A$2:$B$11,2,0)*VLOOKUP($G1640,'Charts data'!$A$14:$B$18,2,0)/IF('Charts data'!$E$3=1,I1640,1)/IF('Charts data'!$E$4=1,J1640,1)","v":95000}]
["ID1377",24000,"USD",{"$f":"B1641*VLOOKUP(C1641,tblXrate[],2,0)","v":24000},"Analyst","USA","1 or 2",33,{"$f":"VLOOKUP(F1641,mapping!$L$2:$P$92,2,0)","v":1},{"$f":"VLOOKUP($F1641,mapping!$L$2:$P$92,3,0)","v":48386.69},{"$f":"VLOOKUP($F1641,mapping!$L$2:$P$92,4,0)","v":"Major Advanced Economies (G7)"},{"$f":"$D1641*VLOOKUP($E1641,'Charts data'!$A$2:$B$11,2,0)*VLOOKUP($G1641,'Charts data'!$A$14:$B$18,2,0)/IF('Charts data'!$E$3=1,I1641,1)/IF('Charts data'!$E$4=1,J1641,1)","v":24000}]
["ID1378",50000,"USD",{"$f":"B1642*VLOOKUP(C1642,tblXrate[],2,0)","v":50000},"Engineer","USA","4 to 6",0.5,{"$f":"VLOOKUP(F1642,mapping!$L$2:$P$92,2,0)","v":1},{"$f":"VLOOKUP($F1642,mapping!$L$2:$P$92,3,0)","v":48386.69},{"$f":"VLOOKUP($F1642,mapping!$L$2:$P$92,4,0)","v":"Major Advanced Economies (G7)"},{"$f":"$D1642*VLOOKUP($E1642,'Charts data'!$A$2:$B$11,2,0)*VLOOKUP($G1642,'Charts data'!$A$14:$B$18,2,0)/IF('Charts data'!$E$3=1,I1642,1)/IF('Charts data'!$E$4=1,J1642,1)","v":50000}]
["ID1379",103000,"USD",{"$f":"B1643*VLOOKUP(C1643,tblXrate[],2,0)","v":103000},"Controller","USA","4 to 6",22,{"$f":"VLOOKUP(F1643,mapping!$L$2:$P$92,2,0)","v":1},{"$f":"VLOOKUP($F1643,mapping!$L$2:$P$92,3,0)","v":48386.69},{"$f":"VLOOKUP($F1643,mapping!$L$2:$P$92,4,0)","v":"Major Advanced Economies (G7)"},{"$f":"$D1643*VLOOKUP($E1643,'Charts data'!$A$2:$B$11,2,0)*VLOOKUP($G1643,'Charts data'!$A$14:$B$18,2,0)/IF('Charts data'!$E$3=1,I1643,1)/IF('Charts data'!$E$4=1,J1643,1)","v":103000}]
["ID1380",36000,"USD",{"$f":"B1644*VLOOKUP(C1644,tblXrate[],2,0)","v":36000},"Specialist","USA","8 Hrs",8,{"$f":"VLOOKUP(F1644,mapping!$L$2:$P$92,2,0)","v":1},{"$f":"VLOOKUP($F1644,mapping!$L$2:$P$92,3,0)","v":48386.69},{"$f":"VLOOKUP($F1644,mapping!$L$2:$P$92,4,0)","v":"Major Advanced Economies (G7)"},{"$f":"$D1644*VLOOKUP($E1644,'Charts data'!$A$2:$B$11,2,0)*VLOOKUP($G1644,'Charts data'!$A$14:$B$18,2,0)/IF('Charts data'!$E$3=1,I1644,1)/IF('Charts data'!$E$4=1,J1644,1)","v":36000}]
["ID1381",85000,"USD",{"$f":"B1645*VLOOKUP(C1645,tblXrate[],2,0)","v":85000},"Analyst","USA","4 to 6",17,{"$f":"VLOOKUP(F1645,mapping!$L$2:$P$92,2,0)","v":1},{"$f":"VLOOKUP($F1645,mapping!$L$2:$P$92,3,0)","v":48386.69},{"$f":"VLOOKUP($F1645,mapping!$L$2:$P$92,4,0)","v":"Major Advanced Economies (G7)"},{"$f":"$D1645*VLOOKUP($E1645,'Charts data'!$A$2:$B$11,2,0)*VLOOKUP($G1645,'Charts data'!$A$14:$B$18,2,0)/IF('Charts data'!$E$3=1,I1645,1)/IF('Charts data'!$E$4=1,J1645,1)","v":85000}]
["ID1384",85000,"USD",{"$f":"B1646*VLOOKUP(C1646,tblXrate[],2,0)","v":85000},"Engineer","USA","2 to 3",25,{"$f":"VLOOKUP(F1646,mapping!$L$2:$P$92,2,0)","v":1},{"$f":"VLOOKUP($F1646,mapping!$L$2:$P$92,3,0)","v":48386.69},{"$f":"VLOOKUP($F1646,mapping!$L$2:$P$92,4,0)","v":"Major Advanced Economies (G7)"},{"$f":"$D1646*VLOOKUP($E1646,'Charts data'!$A$2:$B$11,2,0)*VLOOKUP($G1646,'Charts data'!$A$14:$B$18,2,0)/IF('Charts data'!$E$3=1,I1646,1)/IF('Charts data'!$E$4=1,J1646,1)","v":85000}]
["ID1385",120000,"USD",{"$f":"B1647*VLOOKUP(C1647,tblXrate[],2,0)","v":120000},"Manager","USA","2 to 3",5,{"$f":"VLOOKUP(F1647,mapping!$L$2:$P$92,2,0)","v":1},{"$f":"VLOOKUP($F1647,mapping!$L$2:$P$92,3,0)","v":48386.69},{"$f":"VLOOKUP($F1647,mapping!$L$2:$P$92,4,0)","v":"Major Advanced Economies (G7)"},{"$f":"$D1647*VLOOKUP($E1647,'Charts data'!$A$2:$B$11,2,0)*VLOOKUP($G1647,'Charts data'!$A$14:$B$18,2,0)/IF('Charts data'!$E$3=1,I1647,1)/IF('Charts data'!$E$4=1,J1647,1)","v":120000}]
["ID1386",69960,"USD",{"$f":"B1648*VLOOKUP(C1648,tblXrate[],2,0)","v":69960},"Engineer","USA","2 to 3",22,{"$f":"VLOOKUP(F1648,mapping!$L$2:$P$92,2,0)","v":1},{"$f":"VLOOKUP($F1648,mapping!$L$2:$P$92,3,0)","v":48386.69},{"$f":"VLOOKUP($F1648,mapping!$L$2:$P$92,4,0)","v":"Major Advanced Economies (G7)"},{"$f":"$D1648*VLOOKUP($E1648,'Charts data'!$A$2:$B$11,2,0)*VLOOKUP($G1648,'Charts data'!$A$14:$B$18,2,0)/IF('Charts data'!$E$3=1,I1648,1)/IF('Charts data'!$E$4=1,J1648,1)","v":69960}]
["ID1387",97000,"USD",{"$f":"B1649*VLOOKUP(C1649,tblXrate[],2,0)","v":97000},"Manager","USA","4 to 6",14,{"$f":"VLOOKUP(F1649,mapping!$L$2:$P$92,2,0)","v":1},{"$f":"VLOOKUP($F1649,mapping!$L$2:$P$92,3,0)","v":48386.69},{"$f":"VLOOKUP($F1649,mapping!$L$2:$P$92,4,0)","v":"Major Advanced Economies (G7)"},{"$f":"$D1649*VLOOKUP($E1649,'Charts data'!$A$2:$B$11,2,0)*VLOOKUP($G1649,'Charts data'!$A$14:$B$18,2,0)/IF('Charts data'!$E$3=1,I1649,1)/IF('Charts data'!$E$4=1,J1649,1)","v":97000}]
["ID1391",62000,"USD",{"$f":"B1650*VLOOKUP(C1650,tblXrate[],2,0)","v":62000},"Specialist","USA","8 Hrs",25,{"$f":"VLOOKUP(F1650,mapping!$L$2:$P$92,2,0)","v":1},{"$f":"VLOOKUP($F1650,mapping!$L$2:$P$92,3,0)","v":48386.69},{"$f":"VLOOKUP($F1650,mapping!$L$2:$P$92,4,0)","v":"Major Advanced Economies (G7)"},{"$f":"$D1650*VLOOKUP($E1650,'Charts data'!$A$2:$B$11,2,0)*VLOOKUP($G1650,'Charts data'!$A$14:$B$18,2,0)/IF('Charts data'!$E$3=1,I1650,1)/IF('Charts data'!$E$4=1,J1650,1)","v":62000}]
["ID1392",44000,"USD",{"$f":"B1651*VLOOKUP(C1651,tblXrate[],2,0)","v":44000},"Engineer","USA","4 to 6",15,{"$f":"VLOOKUP(F1651,mapping!$L$2:$P$92,2,0)","v":1},{"$f":"VLOOKUP($F1651,mapping!$L$2:$P$92,3,0)","v":48386.69},{"$f":"VLOOKUP($F1651,mapping!$L$2:$P$92,4,0)","v":"Major Advanced Economies (G7)"},{"$f":"$D1651*VLOOKUP($E1651,'Charts data'!$A$2:$B$11,2,0)*VLOOKUP($G1651,'Charts data'!$A$14:$B$18,2,0)/IF('Charts data'!$E$3=1,I1651,1)/IF('Charts data'!$E$4=1,J1651,1)","v":44000}]
["ID1393",150000,"USD",{"$f":"B1652*VLOOKUP(C1652,tblXrate[],2,0)","v":150000},"Manager","USA","2 to 3",30,{"$f":"VLOOKUP(F1652,mapping!$L$2:$P$92,2,0)","v":1},{"$f":"VLOOKUP($F1652,mapping!$L$2:$P$92,3,0)","v":48386.69},{"$f":"VLOOKUP($F1652,mapping!$L$2:$P$92,4,0)","v":"Major Advanced Economies (G7)"},{"$f":"$D1652*VLOOKUP($E1652,'Charts data'!$A$2:$B$11,2,0)*VLOOKUP($G1652,'Charts data'!$A$14:$B$18,2,0)/IF('Charts data'!$E$3=1,I1652,1)/IF('Charts data'!$E$4=1,J1652,1)","v":150000}]
["ID1395",73500,"USD",{"$f":"B1653*VLOOKUP(C1653,tblXrate[],2,0)","v":73500},"Analyst","USA","8 Hrs",6,{"$f":"VLOOKUP(F1653,mapping!$L$2:$P$92,2,0)","v":1},{"$f":"VLOOKUP($F1653,mapping!$L$2:$P$92,3,0)","v":48386.69},{"$f":"VLOOKUP($F1653,mapping!$L$2:$P$92,4,0)","v":"Major Advanced Economies (G7)"},{"$f":"$D1653*VLOOKUP($E1653,'Charts data'!$A$2:$B$11,2,0)*VLOOKUP($G1653,'Charts data'!$A$14:$B$18,2,0)/IF('Charts data'!$E$3=1,I1653,1)/IF('Charts data'!$E$4=1,J1653,1)","v":73500}]
["ID1396",77500,"USD",{"$f":"B1654*VLOOKUP(C1654,tblXrate[],2,0)","v":77500},"Analyst","USA","4 to 6",7,{"$f":"VLOOKUP(F1654,mapping!$L$2:$P$92,2,0)","v":1},{"$f":"VLOOKUP($F1654,mapping!$L$2:$P$92,3,0)","v":48386.69},{"$f":"VLOOKUP($F1654,mapping!$L$2:$P$92,4,0)","v":"Major Advanced Economies (G7)"},{"$f":"$D1654*VLOOKUP($E1654,'Charts data'!$A$2:$B$11,2,0)*VLOOKUP($G1654,'Charts data'!$A$14:$B$18,2,0)/IF('Charts data'!$E$3=1,I1654,1)/IF('Charts data'!$E$4=1,J1654,1)","v":77500}]
["ID1397",60800,"USD",{"$f":"B1655*VLOOKUP(C1655,tblXrate[],2,0)","v":60800},"Analyst","USA","8 Hrs",10,{"$f":"VLOOKUP(F1655,mapping!$L$2:$P$92,2,0)","v":1},{"$f":"VLOOKUP($F1655,mapping!$L$2:$P$92,3,0)","v":48386.69},{"$f":"VLOOKUP($F1655,mapping!$L$2:$P$92,4,0)","v":"Major Advanced Economies (G7)"},{"$f":"$D1655*VLOOKUP($E1655,'Charts data'!$A$2:$B$11,2,0)*VLOOKUP($G1655,'Charts data'!$A$14:$B$18,2,0)/IF('Charts data'!$E$3=1,I1655,1)/IF('Charts data'!$E$4=1,J1655,1)","v":60800}]
["ID1398",136000,"USD",{"$f":"B1656*VLOOKUP(C1656,tblXrate[],2,0)","v":136000},"Manager","USA","4 to 6",10,{"$f":"VLOOKUP(F1656,mapping!$L$2:$P$92,2,0)","v":1},{"$f":"VLOOKUP($F1656,mapping!$L$2:$P$92,3,0)","v":48386.69},{"$f":"VLOOKUP($F1656,mapping!$L$2:$P$92,4,0)","v":"Major Advanced Economies (G7)"},{"$f":"$D1656*VLOOKUP($E1656,'Charts data'!$A$2:$B$11,2,0)*VLOOKUP($G1656,'Charts data'!$A$14:$B$18,2,0)/IF('Charts data'!$E$3=1,I1656,1)/IF('Charts data'!$E$4=1,J1656,1)","v":136000}]
["ID1400",95000,"USD",{"$f":"B1657*VLOOKUP(C1657,tblXrate[],2,0)","v":95000},"Engineer","USA","4 to 6",14,{"$f":"VLOOKUP(F1657,mapping!$L$2:$P$92,2,0)","v":1},{"$f":"VLOOKUP($F1657,mapping!$L$2:$P$92,3,0)","v":48386.69},{"$f":"VLOOKUP($F1657,mapping!$L$2:$P$92,4,0)","v":"Major Advanced Economies (G7)"},{"$f":"$D1657*VLOOKUP($E1657,'Charts data'!$A$2:$B$11,2,0)*VLOOKUP($G1657,'Charts data'!$A$14:$B$18,2,0)/IF('Charts data'!$E$3=1,I1657,1)/IF('Charts data'!$E$4=1,J1657,1)","v":95000}]
["ID1401",130000,"USD",{"$f":"B1658*VLOOKUP(C1658,tblXrate[],2,0)","v":130000},"Manager","USA","1 or 2",25,{"$f":"VLOOKUP(F1658,mapping!$L$2:$P$92,2,0)","v":1},{"$f":"VLOOKUP($F1658,mapping!$L$2:$P$92,3,0)","v":48386.69},{"$f":"VLOOKUP($F1658,mapping!$L$2:$P$92,4,0)","v":"Major Advanced Economies (G7)"},{"$f":"$D1658*VLOOKUP($E1658,'Charts data'!$A$2:$B$11,2,0)*VLOOKUP($G1658,'Charts data'!$A$14:$B$18,2,0)/IF('Charts data'!$E$3=1,I1658,1)/IF('Charts data'!$E$4=1,J1658,1)","v":130000}]
["ID1402",65000,"USD",{"$f":"B1659*VLOOKUP(C1659,tblXrate[],2,0)","v":65000},"Analyst","USA","2 to 3",10,{"$f":"VLOOKUP(F1659,mapping!$L$2:$P$92,2,0)","v":1},{"$f":"VLOOKUP($F1659,mapping!$L$2:$P$92,3,0)","v":48386.69},{"$f":"VLOOKUP($F1659,mapping!$L$2:$P$92,4,0)","v":"Major Advanced Economies (G7)"},{"$f":"$D1659*VLOOKUP($E1659,'Charts data'!$A$2:$B$11,2,0)*VLOOKUP($G1659,'Charts data'!$A$14:$B$18,2,0)/IF('Charts data'!$E$3=1,I1659,1)/IF('Charts data'!$E$4=1,J1659,1)","v":65000}]
["ID1403",80000,"USD",{"$f":"B1660*VLOOKUP(C1660,tblXrate[],2,0)","v":80000},"Consultant","USA","2 to 3",8,{"$f":"VLOOKUP(F1660,mapping!$L$2:$P$92,2,0)","v":1},{"$f":"VLOOKUP($F1660,mapping!$L$2:$P$92,3,0)","v":48386.69},{"$f":"VLOOKUP($F1660,mapping!$L$2:$P$92,4,0)","v":"Major Advanced Economies (G7)"},{"$f":"$D1660*VLOOKUP($E1660,'Charts data'!$A$2:$B$11,2,0)*VLOOKUP($G1660,'Charts data'!$A$14:$B$18,2,0)/IF('Charts data'!$E$3=1,I1660,1)/IF('Charts data'!$E$4=1,J1660,1)","v":80000}]
["ID1404",37000,"USD",{"$f":"B1661*VLOOKUP(C1661,tblXrate[],2,0)","v":37000},"Reporting","USA","2 to 3",30,{"$f":"VLOOKUP(F1661,mapping!$L$2:$P$92,2,0)","v":1},{"$f":"VLOOKUP($F1661,mapping!$L$2:$P$92,3,0)","v":48386.69},{"$f":"VLOOKUP($F1661,mapping!$L$2:$P$92,4,0)","v":"Major Advanced Economies (G7)"},{"$f":"$D1661*VLOOKUP($E1661,'Charts data'!$A$2:$B$11,2,0)*VLOOKUP($G1661,'Charts data'!$A$14:$B$18,2,0)/IF('Charts data'!$E$3=1,I1661,1)/IF('Charts data'!$E$4=1,J1661,1)","v":37000}]
["ID1405",40000,"USD",{"$f":"B1662*VLOOKUP(C1662,tblXrate[],2,0)","v":40000},"Manager","USA","1 or 2",8,{"$f":"VLOOKUP(F1662,mapping!$L$2:$P$92,2,0)","v":1},{"$f":"VLOOKUP($F1662,mapping!$L$2:$P$92,3,0)","v":48386.69},{"$f":"VLOOKUP($F1662,mapping!$L$2:$P$92,4,0)","v":"Major Advanced Economies (G7)"},{"$f":"$D1662*VLOOKUP($E1662,'Charts data'!$A$2:$B$11,2,0)*VLOOKUP($G1662,'Charts data'!$A$14:$B$18,2,0)/IF('Charts data'!$E$3=1,I1662,1)/IF('Charts data'!$E$4=1,J1662,1)","v":40000}]
["ID1406",49000,"USD",{"$f":"B1663*VLOOKUP(C1663,tblXrate[],2,0)","v":49000},"Analyst","USA","4 to 6",10,{"$f":"VLOOKUP(F1663,mapping!$L$2:$P$92,2,0)","v":1},{"$f":"VLOOKUP($F1663,mapping!$L$2:$P$92,3,0)","v":48386.69},{"$f":"VLOOKUP($F1663,mapping!$L$2:$P$92,4,0)","v":"Major Advanced Economies (G7)"},{"$f":"$D1663*VLOOKUP($E1663,'Charts data'!$A$2:$B$11,2,0)*VLOOKUP($G1663,'Charts data'!$A$14:$B$18,2,0)/IF('Charts data'!$E$3=1,I1663,1)/IF('Charts data'!$E$4=1,J1663,1)","v":49000}]
["ID1407",65000,"USD",{"$f":"B1664*VLOOKUP(C1664,tblXrate[],2,0)","v":65000},"Analyst","USA","8 Hrs",14,{"$f":"VLOOKUP(F1664,mapping!$L$2:$P$92,2,0)","v":1},{"$f":"VLOOKUP($F1664,mapping!$L$2:$P$92,3,0)","v":48386.69},{"$f":"VLOOKUP($F1664,mapping!$L$2:$P$92,4,0)","v":"Major Advanced Economies (G7)"},{"$f":"$D1664*VLOOKUP($E1664,'Charts data'!$A$2:$B$11,2,0)*VLOOKUP($G1664,'Charts data'!$A$14:$B$18,2,0)/IF('Charts data'!$E$3=1,I1664,1)/IF('Charts data'!$E$4=1,J1664,1)","v":65000}]
["ID1408",55000,"USD",{"$f":"B1665*VLOOKUP(C1665,tblXrate[],2,0)","v":55000},"Analyst","USA","8 Hrs",1,{"$f":"VLOOKUP(F1665,mapping!$L$2:$P$92,2,0)","v":1},{"$f":"VLOOKUP($F1665,mapping!$L$2:$P$92,3,0)","v":48386.69},{"$f":"VLOOKUP($F1665,mapping!$L$2:$P$92,4,0)","v":"Major Advanced Economies (G7)"},{"$f":"$D1665*VLOOKUP($E1665,'Charts data'!$A$2:$B$11,2,0)*VLOOKUP($G1665,'Charts data'!$A$14:$B$18,2,0)/IF('Charts data'!$E$3=1,I1665,1)/IF('Charts data'!$E$4=1,J1665,1)","v":55000}]
["ID1409",40000,"USD",{"$f":"B1666*VLOOKUP(C1666,tblXrate[],2,0)","v":40000},"Manager","USA","4 to 6",1,{"$f":"VLOOKUP(F1666,mapping!$L$2:$P$92,2,0)","v":1},{"$f":"VLOOKUP($F1666,mapping!$L$2:$P$92,3,0)","v":48386.69},{"$f":"VLOOKUP($F1666,mapping!$L$2:$P$92,4,0)","v":"Major Advanced Economies (G7)"},{"$f":"$D1666*VLOOKUP($E1666,'Charts data'!$A$2:$B$11,2,0)*VLOOKUP($G1666,'Charts data'!$A$14:$B$18,2,0)/IF('Charts data'!$E$3=1,I1666,1)/IF('Charts data'!$E$4=1,J1666,1)","v":40000}]
["ID1410",60000,"USD",{"$f":"B1667*VLOOKUP(C1667,tblXrate[],2,0)","v":60000},"Analyst","USA","4 to 6",15,{"$f":"VLOOKUP(F1667,mapping!$L$2:$P$92,2,0)","v":1},{"$f":"VLOOKUP($F1667,mapping!$L$2:$P$92,3,0)","v":48386.69},{"$f":"VLOOKUP($F1667,mapping!$L$2:$P$92,4,0)","v":"Major Advanced Economies (G7)"},{"$f":"$D1667*VLOOKUP($E1667,'Charts data'!$A$2:$B$11,2,0)*VLOOKUP($G1667,'Charts data'!$A$14:$B$18,2,0)/IF('Charts data'!$E$3=1,I1667,1)/IF('Charts data'!$E$4=1,J1667,1)","v":60000}]
["ID1412",150000,"USD",{"$f":"B1668*VLOOKUP(C1668,tblXrate[],2,0)","v":150000},"Analyst","USA","2 to 3",30,{"$f":"VLOOKUP(F1668,mapping!$L$2:$P$92,2,0)","v":1},{"$f":"VLOOKUP($F1668,mapping!$L$2:$P$92,3,0)","v":48386.69},{"$f":"VLOOKUP($F1668,mapping!$L$2:$P$92,4,0)","v":"Major Advanced Economies (G7)"},{"$f":"$D1668*VLOOKUP($E1668,'Charts data'!$A$2:$B$11,2,0)*VLOOKUP($G1668,'Charts data'!$A$14:$B$18,2,0)/IF('Charts data'!$E$3=1,I1668,1)/IF('Charts data'!$E$4=1,J1668,1)","v":150000}]
["ID1413",88000,"USD",{"$f":"B1669*VLOOKUP(C1669,tblXrate[],2,0)","v":88000},"Manager","USA","4 to 6",21,{"$f":"VLOOKUP(F1669,mapping!$L$2:$P$92,2,0)","v":1},{"$f":"VLOOKUP($F1669,mapping!$L$2:$P$92,3,0)","v":48386.69},{"$f":"VLOOKUP($F1669,mapping!$L$2:$P$92,4,0)","v":"Major Advanced Economies (G7)"},{"$f":"$D1669*VLOOKUP($E1669,'Charts data'!$A$2:$B$11,2,0)*VLOOKUP($G1669,'Charts data'!$A$14:$B$18,2,0)/IF('Charts data'!$E$3=1,I1669,1)/IF('Charts data'!$E$4=1,J1669,1)","v":88000}]
["ID1414",64500,"USD",{"$f":"B1670*VLOOKUP(C1670,tblXrate[],2,0)","v":64500},"Analyst","USA","4 to 6",13,{"$f":"VLOOKUP(F1670,mapping!$L$2:$P$92,2,0)","v":1},{"$f":"VLOOKUP($F1670,mapping!$L$2:$P$92,3,0)","v":48386.69},{"$f":"VLOOKUP($F1670,mapping!$L$2:$P$92,4,0)","v":"Major Advanced Economies (G7)"},{"$f":"$D1670*VLOOKUP($E1670,'Charts data'!$A$2:$B$11,2,0)*VLOOKUP($G1670,'Charts data'!$A$14:$B$18,2,0)/IF('Charts data'!$E$3=1,I1670,1)/IF('Charts data'!$E$4=1,J1670,1)","v":64500}]
["ID1416",50000,"USD",{"$f":"B1671*VLOOKUP(C1671,tblXrate[],2,0)","v":50000},"Accountant","USA","4 to 6",15,{"$f":"VLOOKUP(F1671,mapping!$L$2:$P$92,2,0)","v":1},{"$f":"VLOOKUP($F1671,mapping!$L$2:$P$92,3,0)","v":48386.69},{"$f":"VLOOKUP($F1671,mapping!$L$2:$P$92,4,0)","v":"Major Advanced Economies (G7)"},{"$f":"$D1671*VLOOKUP($E1671,'Charts data'!$A$2:$B$11,2,0)*VLOOKUP($G1671,'Charts data'!$A$14:$B$18,2,0)/IF('Charts data'!$E$3=1,I1671,1)/IF('Charts data'!$E$4=1,J1671,1)","v":50000}]
["ID1417",120000,"USD",{"$f":"B1672*VLOOKUP(C1672,tblXrate[],2,0)","v":120000},"Manager","USA","2 to 3",10,{"$f":"VLOOKUP(F1672,mapping!$L$2:$P$92,2,0)","v":1},{"$f":"VLOOKUP($F1672,mapping!$L$2:$P$92,3,0)","v":48386.69},{"$f":"VLOOKUP($F1672,mapping!$L$2:$P$92,4,0)","v":"Major Advanced Economies (G7)"},{"$f":"$D1672*VLOOKUP($E1672,'Charts data'!$A$2:$B$11,2,0)*VLOOKUP($G1672,'Charts data'!$A$14:$B$18,2,0)/IF('Charts data'!$E$3=1,I1672,1)/IF('Charts data'!$E$4=1,J1672,1)","v":120000}]
["ID1418",107000,"USD",{"$f":"B1673*VLOOKUP(C1673,tblXrate[],2,0)","v":107000},"Manager","USA","8 Hrs",29,{"$f":"VLOOKUP(F1673,mapping!$L$2:$P$92,2,0)","v":1},{"$f":"VLOOKUP($F1673,mapping!$L$2:$P$92,3,0)","v":48386.69},{"$f":"VLOOKUP($F1673,mapping!$L$2:$P$92,4,0)","v":"Major Advanced Economies (G7)"},{"$f":"$D1673*VLOOKUP($E1673,'Charts data'!$A$2:$B$11,2,0)*VLOOKUP($G1673,'Charts data'!$A$14:$B$18,2,0)/IF('Charts data'!$E$3=1,I1673,1)/IF('Charts data'!$E$4=1,J1673,1)","v":107000}]
["ID1419",40000,"USD",{"$f":"B1674*VLOOKUP(C1674,tblXrate[],2,0)","v":40000},"Analyst","USA","2 to 3",6,{"$f":"VLOOKUP(F1674,mapping!$L$2:$P$92,2,0)","v":1},{"$f":"VLOOKUP($F1674,mapping!$L$2:$P$92,3,0)","v":48386.69},{"$f":"VLOOKUP($F1674,mapping!$L$2:$P$92,4,0)","v":"Major Advanced Economies (G7)"},{"$f":"$D1674*VLOOKUP($E1674,'Charts data'!$A$2:$B$11,2,0)*VLOOKUP($G1674,'Charts data'!$A$14:$B$18,2,0)/IF('Charts data'!$E$3=1,I1674,1)/IF('Charts data'!$E$4=1,J1674,1)","v":40000}]
["ID1420",81000,"USD",{"$f":"B1675*VLOOKUP(C1675,tblXrate[],2,0)","v":81000},"Manager","USA","1 or 2",12,{"$f":"VLOOKUP(F1675,mapping!$L$2:$P$92,2,0)","v":1},{"$f":"VLOOKUP($F1675,mapping!$L$2:$P$92,3,0)","v":48386.69},{"$f":"VLOOKUP($F1675,mapping!$L$2:$P$92,4,0)","v":"Major Advanced Economies (G7)"},{"$f":"$D1675*VLOOKUP($E1675,'Charts data'!$A$2:$B$11,2,0)*VLOOKUP($G1675,'Charts data'!$A$14:$B$18,2,0)/IF('Charts data'!$E$3=1,I1675,1)/IF('Charts data'!$E$4=1,J1675,1)","v":81000}]
["ID1421",45000,"USD",{"$f":"B1676*VLOOKUP(C1676,tblXrate[],2,0)","v":45000},"Specialist","USA","4 to 6",20,{"$f":"VLOOKUP(F1676,mapping!$L$2:$P$92,2,0)","v":1},{"$f":"VLOOKUP($F1676,mapping!$L$2:$P$92,3,0)","v":48386.69},{"$f":"VLOOKUP($F1676,mapping!$L$2:$P$92,4,0)","v":"Major Advanced Economies (G7)"},{"$f":"$D1676*VLOOKUP($E1676,'Charts data'!$A$2:$B$11,2,0)*VLOOKUP($G1676,'Charts data'!$A$14:$B$18,2,0)/IF('Charts data'!$E$3=1,I1676,1)/IF('Charts data'!$E$4=1,J1676,1)","v":45000}]
["ID1422",49000,"USD",{"$f":"B1677*VLOOKUP(C1677,tblXrate[],2,0)","v":49000},"Specialist","USA","4 to 6",5,{"$f":"VLOOKUP(F1677,mapping!$L$2:$P$92,2,0)","v":1},{"$f":"VLOOKUP($F1677,mapping!$L$2:$P$92,3,0)","v":48386.69},{"$f":"VLOOKUP($F1677,mapping!$L$2:$P$92,4,0)","v":"Major Advanced Economies (G7)"},{"$f":"$D1677*VLOOKUP($E1677,'Charts data'!$A$2:$B$11,2,0)*VLOOKUP($G1677,'Charts data'!$A$14:$B$18,2,0)/IF('Charts data'!$E$3=1,I1677,1)/IF('Charts data'!$E$4=1,J1677,1)","v":49000}]
["ID1424",72000,"USD",{"$f":"B1678*VLOOKUP(C1678,tblXrate[],2,0)","v":72000},"Manager","USA","1 or 2",20,{"$f":"VLOOKUP(F1678,mapping!$L$2:$P$92,2,0)","v":1},{"$f":"VLOOKUP($F1678,mapping!$L$2:$P$92,3,0)","v":48386.69},{"$f":"VLOOKUP($F1678,mapping!$L$2:$P$92,4,0)","v":"Major Advanced Economies (G7)"},{"$f":"$D1678*VLOOKUP($E1678,'Charts data'!$A$2:$B$11,2,0)*VLOOKUP($G1678,'Charts data'!$A$14:$B$18,2,0)/IF('Charts data'!$E$3=1,I1678,1)/IF('Charts data'!$E$4=1,J1678,1)","v":72000}]
["ID1425",50000,"USD",{"$f":"B1679*VLOOKUP(C1679,tblXrate[],2,0)","v":50000},"Analyst","USA","4 to 6",7,{"$f":"VLOOKUP(F1679,mapping!$L$2:$P$92,2,0)","v":1},{"$f":"VLOOKUP($F1679,mapping!$L$2:$P$92,3,0)","v":48386.69},{"$f":"VLOOKUP($F1679,mapping!$L$2:$P$92,4,0)","v":"Major Advanced Economies (G7)"},{"$f":"$D1679*VLOOKUP($E1679,'Charts data'!$A$2:$B$11,2,0)*VLOOKUP($G1679,'Charts data'!$A$14:$B$18,2,0)/IF('Charts data'!$E$3=1,I1679,1)/IF('Charts data'!$E$4=1,J1679,1)","v":50000}]
["ID1426",57678,"USD",{"$f":"B1680*VLOOKUP(C1680,tblXrate[],2,0)","v":57678},"Analyst","USA","4 to 6",2,{"$f":"VLOOKUP(F1680,mapping!$L$2:$P$92,2,0)","v":1},{"$f":"VLOOKUP($F1680,mapping!$L$2:$P$92,3,0)","v":48386.69},{"$f":"VLOOKUP($F1680,mapping!$L$2:$P$92,4,0)","v":"Major Advanced Economies (G7)"},{"$f":"$D1680*VLOOKUP($E1680,'Charts data'!$A$2:$B$11,2,0)*VLOOKUP($G1680,'Charts data'!$A$14:$B$18,2,0)/IF('Charts data'!$E$3=1,I1680,1)/IF('Charts data'!$E$4=1,J1680,1)","v":57678}]
["ID1427",80442,"USD",{"$f":"B1681*VLOOKUP(C1681,tblXrate[],2,0)","v":80442},"Analyst","USA","4 to 6",16,{"$f":"VLOOKUP(F1681,mapping!$L$2:$P$92,2,0)","v":1},{"$f":"VLOOKUP($F1681,mapping!$L$2:$P$92,3,0)","v":48386.69},{"$f":"VLOOKUP($F1681,mapping!$L$2:$P$92,4,0)","v":"Major Advanced Economies (G7)"},{"$f":"$D1681*VLOOKUP($E1681,'Charts data'!$A$2:$B$11,2,0)*VLOOKUP($G1681,'Charts data'!$A$14:$B$18,2,0)/IF('Charts data'!$E$3=1,I1681,1)/IF('Charts data'!$E$4=1,J1681,1)","v":80442}]
["ID1428",75000,"USD",{"$f":"B1682*VLOOKUP(C1682,tblXrate[],2,0)","v":75000},"Manager","USA","1 or 2",9,{"$f":"VLOOKUP(F1682,mapping!$L$2:$P$92,2,0)","v":1},{"$f":"VLOOKUP($F1682,mapping!$L$2:$P$92,3,0)","v":48386.69},{"$f":"VLOOKUP($F1682,mapping!$L$2:$P$92,4,0)","v":"Major Advanced Economies (G7)"},{"$f":"$D1682*VLOOKUP($E1682,'Charts data'!$A$2:$B$11,2,0)*VLOOKUP($G1682,'Charts data'!$A$14:$B$18,2,0)/IF('Charts data'!$E$3=1,I1682,1)/IF('Charts data'!$E$4=1,J1682,1)","v":75000}]
["ID1429",61000,"USD",{"$f":"B1683*VLOOKUP(C1683,tblXrate[],2,0)","v":61000},"Analyst","USA","4 to 6",12,{"$f":"VLOOKUP(F1683,mapping!$L$2:$P$92,2,0)","v":1},{"$f":"VLOOKUP($F1683,mapping!$L$2:$P$92,3,0)","v":48386.69},{"$f":"VLOOKUP($F1683,mapping!$L$2:$P$92,4,0)","v":"Major Advanced Economies (G7)"},{"$f":"$D1683*VLOOKUP($E1683,'Charts data'!$A$2:$B$11,2,0)*VLOOKUP($G1683,'Charts data'!$A$14:$B$18,2,0)/IF('Charts data'!$E$3=1,I1683,1)/IF('Charts data'!$E$4=1,J1683,1)","v":61000}]
["ID1430",77000,"USD",{"$f":"B1684*VLOOKUP(C1684,tblXrate[],2,0)","v":77000},"Engineer","USA","4 to 6",10,{"$f":"VLOOKUP(F1684,mapping!$L$2:$P$92,2,0)","v":1},{"$f":"VLOOKUP($F1684,mapping!$L$2:$P$92,3,0)","v":48386.69},{"$f":"VLOOKUP($F1684,mapping!$L$2:$P$92,4,0)","v":"Major Advanced Economies (G7)"},{"$f":"$D1684*VLOOKUP($E1684,'Charts data'!$A$2:$B$11,2,0)*VLOOKUP($G1684,'Charts data'!$A$14:$B$18,2,0)/IF('Charts data'!$E$3=1,I1684,1)/IF('Charts data'!$E$4=1,J1684,1)","v":77000}]
["ID1431",92000,"USD",{"$f":"B1685*VLOOKUP(C1685,tblXrate[],2,0)","v":92000},"Controller","USA","2 to 3",9,{"$f":"VLOOKUP(F1685,mapping!$L$2:$P$92,2,0)","v":1},{"$f":"VLOOKUP($F1685,mapping!$L$2:$P$92,3,0)","v":48386.69},{"$f":"VLOOKUP($F1685,mapping!$L$2:$P$92,4,0)","v":"Major Advanced Economies (G7)"},{"$f":"$D1685*VLOOKUP($E1685,'Charts data'!$A$2:$B$11,2,0)*VLOOKUP($G1685,'Charts data'!$A$14:$B$18,2,0)/IF('Charts data'!$E$3=1,I1685,1)/IF('Charts data'!$E$4=1,J1685,1)","v":92000}]
["ID1432",72000,"USD",{"$f":"B1686*VLOOKUP(C1686,tblXrate[],2,0)","v":72000},"Analyst","USA","8 Hrs",10,{"$f":"VLOOKUP(F1686,mapping!$L$2:$P$92,2,0)","v":1},{"$f":"VLOOKUP($F1686,mapping!$L$2:$P$92,3,0)","v":48386.69},{"$f":"VLOOKUP($F1686,mapping!$L$2:$P$92,4,0)","v":"Major Advanced Economies (G7)"},{"$f":"$D1686*VLOOKUP($E1686,'Charts data'!$A$2:$B$11,2,0)*VLOOKUP($G1686,'Charts data'!$A$14:$B$18,2,0)/IF('Charts data'!$E$3=1,I1686,1)/IF('Charts data'!$E$4=1,J1686,1)","v":72000}]
["ID1434",111000,"USD",{"$f":"B1687*VLOOKUP(C1687,tblXrate[],2,0)","v":111000},"Manager","USA","2 to 3",10,{"$f":"VLOOKUP(F1687,mapping!$L$2:$P$92,2,0)","v":1},{"$f":"VLOOKUP($F1687,mapping!$L$2:$P$92,3,0)","v":48386.69},{"$f":"VLOOKUP($F1687,mapping!$L$2:$P$92,4,0)","v":"Major Advanced Economies (G7)"},{"$f":"$D1687*VLOOKUP($E1687,'Charts data'!$A$2:$B$11,2,0)*VLOOKUP($G1687,'Charts data'!$A$14:$B$18,2,0)/IF('Charts data'!$E$3=1,I1687,1)/IF('Charts data'!$E$4=1,J1687,1)","v":111000}]
["ID1435",80000,"USD",{"$f":"B1688*VLOOKUP(C1688,tblXrate[],2,0)","v":80000},"Analyst","USA","4 to 6",20,{"$f":"VLOOKUP(F1688,mapping!$L$2:$P$92,2,0)","v":1},{"$f":"VLOOKUP($F1688,mapping!$L$2:$P$92,3,0)","v":48386.69},{"$f":"VLOOKUP($F1688,mapping!$L$2:$P$92,4,0)","v":"Major Advanced Economies (G7)"},{"$f":"$D1688*VLOOKUP($E1688,'Charts data'!$A$2:$B$11,2,0)*VLOOKUP($G1688,'Charts data'!$A$14:$B$18,2,0)/IF('Charts data'!$E$3=1,I1688,1)/IF('Charts data'!$E$4=1,J1688,1)","v":80000}]
["ID1438",24000,"USD",{"$f":"B1689*VLOOKUP(C1689,tblXrate[],2,0)","v":24000},"Controller","USA","1 or 2",2,{"$f":"VLOOKUP(F1689,mapping!$L$2:$P$92,2,0)","v":1},{"$f":"VLOOKUP($F1689,mapping!$L$2:$P$92,3,0)","v":48386.69},{"$f":"VLOOKUP($F1689,mapping!$L$2:$P$92,4,0)","v":"Major Advanced Economies (G7)"},{"$f":"$D1689*VLOOKUP($E1689,'Charts data'!$A$2:$B$11,2,0)*VLOOKUP($G1689,'Charts data'!$A$14:$B$18,2,0)/IF('Charts data'!$E$3=1,I1689,1)/IF('Charts data'!$E$4=1,J1689,1)","v":24000}]
["ID1439",61000,"USD",{"$f":"B1690*VLOOKUP(C1690,tblXrate[],2,0)","v":61000},"Manager","USA","2 to 3",25,{"$f":"VLOOKUP(F1690,mapping!$L$2:$P$92,2,0)","v":1},{"$f":"VLOOKUP($F1690,mapping!$L$2:$P$92,3,0)","v":48386.69},{"$f":"VLOOKUP($F1690,mapping!$L$2:$P$92,4,0)","v":"Major Advanced Economies (G7)"},{"$f":"$D1690*VLOOKUP($E1690,'Charts data'!$A$2:$B$11,2,0)*VLOOKUP($G1690,'Charts data'!$A$14:$B$18,2,0)/IF('Charts data'!$E$3=1,I1690,1)/IF('Charts data'!$E$4=1,J1690,1)","v":61000}]
["ID1443",96230,"USD",{"$f":"B1691*VLOOKUP(C1691,tblXrate[],2,0)","v":96230},"Manager","USA","4 to 6",18,{"$f":"VLOOKUP(F1691,mapping!$L$2:$P$92,2,0)","v":1},{"$f":"VLOOKUP($F1691,mapping!$L$2:$P$92,3,0)","v":48386.69},{"$f":"VLOOKUP($F1691,mapping!$L$2:$P$92,4,0)","v":"Major Advanced Economies (G7)"},{"$f":"$D1691*VLOOKUP($E1691,'Charts data'!$A$2:$B$11,2,0)*VLOOKUP($G1691,'Charts data'!$A$14:$B$18,2,0)/IF('Charts data'!$E$3=1,I1691,1)/IF('Charts data'!$E$4=1,J1691,1)","v":96230}]
["ID1444",75000,"USD",{"$f":"B1692*VLOOKUP(C1692,tblXrate[],2,0)","v":75000},"Analyst","USA","2 to 3",1.5,{"$f":"VLOOKUP(F1692,mapping!$L$2:$P$92,2,0)","v":1},{"$f":"VLOOKUP($F1692,mapping!$L$2:$P$92,3,0)","v":48386.69},{"$f":"VLOOKUP($F1692,mapping!$L$2:$P$92,4,0)","v":"Major Advanced Economies (G7)"},{"$f":"$D1692*VLOOKUP($E1692,'Charts data'!$A$2:$B$11,2,0)*VLOOKUP($G1692,'Charts data'!$A$14:$B$18,2,0)/IF('Charts data'!$E$3=1,I1692,1)/IF('Charts data'!$E$4=1,J1692,1)","v":75000}]
["ID1445",102000,"USD",{"$f":"B1693*VLOOKUP(C1693,tblXrate[],2,0)","v":102000},"Analyst","USA","4 to 6",5,{"$f":"VLOOKUP(F1693,mapping!$L$2:$P$92,2,0)","v":1},{"$f":"VLOOKUP($F1693,mapping!$L$2:$P$92,3,0)","v":48386.69},{"$f":"VLOOKUP($F1693,mapping!$L$2:$P$92,4,0)","v":"Major Advanced Economies (G7)"},{"$f":"$D1693*VLOOKUP($E1693,'Charts data'!$A$2:$B$11,2,0)*VLOOKUP($G1693,'Charts data'!$A$14:$B$18,2,0)/IF('Charts data'!$E$3=1,I1693,1)/IF('Charts data'!$E$4=1,J1693,1)","v":102000}]
["ID1449",67000,"USD",{"$f":"B1694*VLOOKUP(C1694,tblXrate[],2,0)","v":67000},"Manager","USA","2 to 3",20,{"$f":"VLOOKUP(F1694,mapping!$L$2:$P$92,2,0)","v":1},{"$f":"VLOOKUP($F1694,mapping!$L$2:$P$92,3,0)","v":48386.69},{"$f":"VLOOKUP($F1694,mapping!$L$2:$P$92,4,0)","v":"Major Advanced Economies (G7)"},{"$f":"$D1694*VLOOKUP($E1694,'Charts data'!$A$2:$B$11,2,0)*VLOOKUP($G1694,'Charts data'!$A$14:$B$18,2,0)/IF('Charts data'!$E$3=1,I1694,1)/IF('Charts data'!$E$4=1,J1694,1)","v":67000}]
["ID1459",60000,"USD",{"$f":"B1695*VLOOKUP(C1695,tblXrate[],2,0)","v":60000},"Manager","USA","2 to 3",4,{"$f":"VLOOKUP(F1695,mapping!$L$2:$P$92,2,0)","v":1},{"$f":"VLOOKUP($F1695,mapping!$L$2:$P$92,3,0)","v":48386.69},{"$f":"VLOOKUP($F1695,mapping!$L$2:$P$92,4,0)","v":"Major Advanced Economies (G7)"},{"$f":"$D1695*VLOOKUP($E1695,'Charts data'!$A$2:$B$11,2,0)*VLOOKUP($G1695,'Charts data'!$A$14:$B$18,2,0)/IF('Charts data'!$E$3=1,I1695,1)/IF('Charts data'!$E$4=1,J1695,1)","v":60000}]
["ID1480",42000,"USD",{"$f":"B1696*VLOOKUP(C1696,tblXrate[],2,0)","v":42000},"Analyst","USA","8 Hrs",2,{"$f":"VLOOKUP(F1696,mapping!$L$2:$P$92,2,0)","v":1},{"$f":"VLOOKUP($F1696,mapping!$L$2:$P$92,3,0)","v":48386.69},{"$f":"VLOOKUP($F1696,mapping!$L$2:$P$92,4,0)","v":"Major Advanced Economies (G7)"},{"$f":"$D1696*VLOOKUP($E1696,'Charts data'!$A$2:$B$11,2,0)*VLOOKUP($G1696,'Charts data'!$A$14:$B$18,2,0)/IF('Charts data'!$E$3=1,I1696,1)/IF('Charts data'!$E$4=1,J1696,1)","v":42000}]
["ID1483",85000,"USD",{"$f":"B1697*VLOOKUP(C1697,tblXrate[],2,0)","v":85000},"Analyst","USA","4 to 6",9,{"$f":"VLOOKUP(F1697,mapping!$L$2:$P$92,2,0)","v":1},{"$f":"VLOOKUP($F1697,mapping!$L$2:$P$92,3,0)","v":48386.69},{"$f":"VLOOKUP($F1697,mapping!$L$2:$P$92,4,0)","v":"Major Advanced Economies (G7)"},{"$f":"$D1697*VLOOKUP($E1697,'Charts data'!$A$2:$B$11,2,0)*VLOOKUP($G1697,'Charts data'!$A$14:$B$18,2,0)/IF('Charts data'!$E$3=1,I1697,1)/IF('Charts data'!$E$4=1,J1697,1)","v":85000}]
["ID1484",109000,"USD",{"$f":"B1698*VLOOKUP(C1698,tblXrate[],2,0)","v":109000},"Manager","USA","4 to 6",15,{"$f":"VLOOKUP(F1698,mapping!$L$2:$P$92,2,0)","v":1},{"$f":"VLOOKUP($F1698,mapping!$L$2:$P$92,3,0)","v":48386.69},{"$f":"VLOOKUP($F1698,mapping!$L$2:$P$92,4,0)","v":"Major Advanced Economies (G7)"},{"$f":"$D1698*VLOOKUP($E1698,'Charts data'!$A$2:$B$11,2,0)*VLOOKUP($G1698,'Charts data'!$A$14:$B$18,2,0)/IF('Charts data'!$E$3=1,I1698,1)/IF('Charts data'!$E$4=1,J1698,1)","v":109000}]
["ID1486",77000,"USD",{"$f":"B1699*VLOOKUP(C1699,tblXrate[],2,0)","v":77000},"Engineer","USA","2 to 3",13,{"$f":"VLOOKUP(F1699,mapping!$L$2:$P$92,2,0)","v":1},{"$f":"VLOOKUP($F1699,mapping!$L$2:$P$92,3,0)","v":48386.69},{"$f":"VLOOKUP($F1699,mapping!$L$2:$P$92,4,0)","v":"Major Advanced Economies (G7)"},{"$f":"$D1699*VLOOKUP($E1699,'Charts data'!$A$2:$B$11,2,0)*VLOOKUP($G1699,'Charts data'!$A$14:$B$18,2,0)/IF('Charts data'!$E$3=1,I1699,1)/IF('Charts data'!$E$4=1,J1699,1)","v":77000}]
["ID1488",64000,"USD",{"$f":"B1700*VLOOKUP(C1700,tblXrate[],2,0)","v":64000},"Manager","USA","2 to 3",12,{"$f":"VLOOKUP(F1700,mapping!$L$2:$P$92,2,0)","v":1},{"$f":"VLOOKUP($F1700,mapping!$L$2:$P$92,3,0)","v":48386.69},{"$f":"VLOOKUP($F1700,mapping!$L$2:$P$92,4,0)","v":"Major Advanced Economies (G7)"},{"$f":"$D1700*VLOOKUP($E1700,'Charts data'!$A$2:$B$11,2,0)*VLOOKUP($G1700,'Charts data'!$A$14:$B$18,2,0)/IF('Charts data'!$E$3=1,I1700,1)/IF('Charts data'!$E$4=1,J1700,1)","v":64000}]
["ID1490",76000,"USD",{"$f":"B1701*VLOOKUP(C1701,tblXrate[],2,0)","v":76000},"Analyst","USA","8 Hrs",10,{"$f":"VLOOKUP(F1701,mapping!$L$2:$P$92,2,0)","v":1},{"$f":"VLOOKUP($F1701,mapping!$L$2:$P$92,3,0)","v":48386.69},{"$f":"VLOOKUP($F1701,mapping!$L$2:$P$92,4,0)","v":"Major Advanced Economies (G7)"},{"$f":"$D1701*VLOOKUP($E1701,'Charts data'!$A$2:$B$11,2,0)*VLOOKUP($G1701,'Charts data'!$A$14:$B$18,2,0)/IF('Charts data'!$E$3=1,I1701,1)/IF('Charts data'!$E$4=1,J1701,1)","v":76000}]
["ID1496",45000,"USD",{"$f":"B1702*VLOOKUP(C1702,tblXrate[],2,0)","v":45000},"Specialist","USA","2 to 3",10,{"$f":"VLOOKUP(F1702,mapping!$L$2:$P$92,2,0)","v":1},{"$f":"VLOOKUP($F1702,mapping!$L$2:$P$92,3,0)","v":48386.69},{"$f":"VLOOKUP($F1702,mapping!$L$2:$P$92,4,0)","v":"Major Advanced Economies (G7)"},{"$f":"$D1702*VLOOKUP($E1702,'Charts data'!$A$2:$B$11,2,0)*VLOOKUP($G1702,'Charts data'!$A$14:$B$18,2,0)/IF('Charts data'!$E$3=1,I1702,1)/IF('Charts data'!$E$4=1,J1702,1)","v":45000}]
["ID1501",61000,"USD",{"$f":"B1703*VLOOKUP(C1703,tblXrate[],2,0)","v":61000},"Analyst","USA","4 to 6",5,{"$f":"VLOOKUP(F1703,mapping!$L$2:$P$92,2,0)","v":1},{"$f":"VLOOKUP($F1703,mapping!$L$2:$P$92,3,0)","v":48386.69},{"$f":"VLOOKUP($F1703,mapping!$L$2:$P$92,4,0)","v":"Major Advanced Economies (G7)"},{"$f":"$D1703*VLOOKUP($E1703,'Charts data'!$A$2:$B$11,2,0)*VLOOKUP($G1703,'Charts data'!$A$14:$B$18,2,0)/IF('Charts data'!$E$3=1,I1703,1)/IF('Charts data'!$E$4=1,J1703,1)","v":61000}]
["ID1502",66000,"USD",{"$f":"B1704*VLOOKUP(C1704,tblXrate[],2,0)","v":66000},"Analyst","USA","4 to 6",2,{"$f":"VLOOKUP(F1704,mapping!$L$2:$P$92,2,0)","v":1},{"$f":"VLOOKUP($F1704,mapping!$L$2:$P$92,3,0)","v":48386.69},{"$f":"VLOOKUP($F1704,mapping!$L$2:$P$92,4,0)","v":"Major Advanced Economies (G7)"},{"$f":"$D1704*VLOOKUP($E1704,'Charts data'!$A$2:$B$11,2,0)*VLOOKUP($G1704,'Charts data'!$A$14:$B$18,2,0)/IF('Charts data'!$E$3=1,I1704,1)/IF('Charts data'!$E$4=1,J1704,1)","v":66000}]
["ID1504",55000,"USD",{"$f":"B1705*VLOOKUP(C1705,tblXrate[],2,0)","v":55000},"Manager","USA","2 to 3",14,{"$f":"VLOOKUP(F1705,mapping!$L$2:$P$92,2,0)","v":1},{"$f":"VLOOKUP($F1705,mapping!$L$2:$P$92,3,0)","v":48386.69},{"$f":"VLOOKUP($F1705,mapping!$L$2:$P$92,4,0)","v":"Major Advanced Economies (G7)"},{"$f":"$D1705*VLOOKUP($E1705,'Charts data'!$A$2:$B$11,2,0)*VLOOKUP($G1705,'Charts data'!$A$14:$B$18,2,0)/IF('Charts data'!$E$3=1,I1705,1)/IF('Charts data'!$E$4=1,J1705,1)","v":55000}]
["ID1505",32000,"USD",{"$f":"B1706*VLOOKUP(C1706,tblXrate[],2,0)","v":32000},"Reporting","USA","4 to 6",10,{"$f":"VLOOKUP(F1706,mapping!$L$2:$P$92,2,0)","v":1},{"$f":"VLOOKUP($F1706,mapping!$L$2:$P$92,3,0)","v":48386.69},{"$f":"VLOOKUP($F1706,mapping!$L$2:$P$92,4,0)","v":"Major Advanced Economies (G7)"},{"$f":"$D1706*VLOOKUP($E1706,'Charts data'!$A$2:$B$11,2,0)*VLOOKUP($G1706,'Charts data'!$A$14:$B$18,2,0)/IF('Charts data'!$E$3=1,I1706,1)/IF('Charts data'!$E$4=1,J1706,1)","v":32000}]
["ID1511",74300,"USD",{"$f":"B1707*VLOOKUP(C1707,tblXrate[],2,0)","v":74300},"Analyst","USA","4 to 6",3,{"$f":"VLOOKUP(F1707,mapping!$L$2:$P$92,2,0)","v":1},{"$f":"VLOOKUP($F1707,mapping!$L$2:$P$92,3,0)","v":48386.69},{"$f":"VLOOKUP($F1707,mapping!$L$2:$P$92,4,0)","v":"Major Advanced Economies (G7)"},{"$f":"$D1707*VLOOKUP($E1707,'Charts data'!$A$2:$B$11,2,0)*VLOOKUP($G1707,'Charts data'!$A$14:$B$18,2,0)/IF('Charts data'!$E$3=1,I1707,1)/IF('Charts data'!$E$4=1,J1707,1)","v":74300}]
["ID1514",95000,"USD",{"$f":"B1708*VLOOKUP(C1708,tblXrate[],2,0)","v":95000},"Analyst","USA","4 to 6",15,{"$f":"VLOOKUP(F1708,mapping!$L$2:$P$92,2,0)","v":1},{"$f":"VLOOKUP($F1708,mapping!$L$2:$P$92,3,0)","v":48386.69},{"$f":"VLOOKUP($F1708,mapping!$L$2:$P$92,4,0)","v":"Major Advanced Economies (G7)"},{"$f":"$D1708*VLOOKUP($E1708,'Charts data'!$A$2:$B$11,2,0)*VLOOKUP($G1708,'Charts data'!$A$14:$B$18,2,0)/IF('Charts data'!$E$3=1,I1708,1)/IF('Charts data'!$E$4=1,J1708,1)","v":95000}]
["ID1515",64300,"USD",{"$f":"B1709*VLOOKUP(C1709,tblXrate[],2,0)","v":64300},"Accountant","USA","4 to 6",15,{"$f":"VLOOKUP(F1709,mapping!$L$2:$P$92,2,0)","v":1},{"$f":"VLOOKUP($F1709,mapping!$L$2:$P$92,3,0)","v":48386.69},{"$f":"VLOOKUP($F1709,mapping!$L$2:$P$92,4,0)","v":"Major Advanced Economies (G7)"},{"$f":"$D1709*VLOOKUP($E1709,'Charts data'!$A$2:$B$11,2,0)*VLOOKUP($G1709,'Charts data'!$A$14:$B$18,2,0)/IF('Charts data'!$E$3=1,I1709,1)/IF('Charts data'!$E$4=1,J1709,1)","v":64300}]
["ID1516",250000,"USD",{"$f":"B1710*VLOOKUP(C1710,tblXrate[],2,0)","v":250000},"Consultant","USA","8 Hrs",20,{"$f":"VLOOKUP(F1710,mapping!$L$2:$P$92,2,0)","v":1},{"$f":"VLOOKUP($F1710,mapping!$L$2:$P$92,3,0)","v":48386.69},{"$f":"VLOOKUP($F1710,mapping!$L$2:$P$92,4,0)","v":"Major Advanced Economies (G7)"},{"$f":"$D1710*VLOOKUP($E1710,'Charts data'!$A$2:$B$11,2,0)*VLOOKUP($G1710,'Charts data'!$A$14:$B$18,2,0)/IF('Charts data'!$E$3=1,I1710,1)/IF('Charts data'!$E$4=1,J1710,1)","v":250000}]
["ID1519",89000,"USD",{"$f":"B1711*VLOOKUP(C1711,tblXrate[],2,0)","v":89000},"Manager","USA","2 to 3",10,{"$f":"VLOOKUP(F1711,mapping!$L$2:$P$92,2,0)","v":1},{"$f":"VLOOKUP($F1711,mapping!$L$2:$P$92,3,0)","v":48386.69},{"$f":"VLOOKUP($F1711,mapping!$L$2:$P$92,4,0)","v":"Major Advanced Economies (G7)"},{"$f":"$D1711*VLOOKUP($E1711,'Charts data'!$A$2:$B$11,2,0)*VLOOKUP($G1711,'Charts data'!$A$14:$B$18,2,0)/IF('Charts data'!$E$3=1,I1711,1)/IF('Charts data'!$E$4=1,J1711,1)","v":89000}]
["ID1520",75000,"USD",{"$f":"B1712*VLOOKUP(C1712,tblXrate[],2,0)","v":75000},"Analyst","USA","8 Hrs",1.5,{"$f":"VLOOKUP(F1712,mapping!$L$2:$P$92,2,0)","v":1},{"$f":"VLOOKUP($F1712,mapping!$L$2:$P$92,3,0)","v":48386.69},{"$f":"VLOOKUP($F1712,mapping!$L$2:$P$92,4,0)","v":"Major Advanced Economies (G7)"},{"$f":"$D1712*VLOOKUP($E1712,'Charts data'!$A$2:$B$11,2,0)*VLOOKUP($G1712,'Charts data'!$A$14:$B$18,2,0)/IF('Charts data'!$E$3=1,I1712,1)/IF('Charts data'!$E$4=1,J1712,1)","v":75000}]
["ID1521",45000,"USD",{"$f":"B1713*VLOOKUP(C1713,tblXrate[],2,0)","v":45000},"Analyst","USA","8 Hrs",5,{"$f":"VLOOKUP(F1713,mapping!$L$2:$P$92,2,0)","v":1},{"$f":"VLOOKUP($F1713,mapping!$L$2:$P$92,3,0)","v":48386.69},{"$f":"VLOOKUP($F1713,mapping!$L$2:$P$92,4,0)","v":"Major Advanced Economies (G7)"},{"$f":"$D1713*VLOOKUP($E1713,'Charts data'!$A$2:$B$11,2,0)*VLOOKUP($G1713,'Charts data'!$A$14:$B$18,2,0)/IF('Charts data'!$E$3=1,I1713,1)/IF('Charts data'!$E$4=1,J1713,1)","v":45000}]
["ID1522",127500,"USD",{"$f":"B1714*VLOOKUP(C1714,tblXrate[],2,0)","v":127500},"CXO or Top Mgmt.","USA","8 Hrs",22,{"$f":"VLOOKUP(F1714,mapping!$L$2:$P$92,2,0)","v":1},{"$f":"VLOOKUP($F1714,mapping!$L$2:$P$92,3,0)","v":48386.69},{"$f":"VLOOKUP($F1714,mapping!$L$2:$P$92,4,0)","v":"Major Advanced Economies (G7)"},{"$f":"$D1714*VLOOKUP($E1714,'Charts data'!$A$2:$B$11,2,0)*VLOOKUP($G1714,'Charts data'!$A$14:$B$18,2,0)/IF('Charts data'!$E$3=1,I1714,1)/IF('Charts data'!$E$4=1,J1714,1)","v":127500}]
["ID1523",170000,"USD",{"$f":"B1715*VLOOKUP(C1715,tblXrate[],2,0)","v":170000},"CXO or Top Mgmt.","USA","2 to 3",18,{"$f":"VLOOKUP(F1715,mapping!$L$2:$P$92,2,0)","v":1},{"$f":"VLOOKUP($F1715,mapping!$L$2:$P$92,3,0)","v":48386.69},{"$f":"VLOOKUP($F1715,mapping!$L$2:$P$92,4,0)","v":"Major Advanced Economies (G7)"},{"$f":"$D1715*VLOOKUP($E1715,'Charts data'!$A$2:$B$11,2,0)*VLOOKUP($G1715,'Charts data'!$A$14:$B$18,2,0)/IF('Charts data'!$E$3=1,I1715,1)/IF('Charts data'!$E$4=1,J1715,1)","v":170000}]
["ID1525",62000,"USD",{"$f":"B1716*VLOOKUP(C1716,tblXrate[],2,0)","v":62000},"Analyst","USA","8 Hrs",27,{"$f":"VLOOKUP(F1716,mapping!$L$2:$P$92,2,0)","v":1},{"$f":"VLOOKUP($F1716,mapping!$L$2:$P$92,3,0)","v":48386.69},{"$f":"VLOOKUP($F1716,mapping!$L$2:$P$92,4,0)","v":"Major Advanced Economies (G7)"},{"$f":"$D1716*VLOOKUP($E1716,'Charts data'!$A$2:$B$11,2,0)*VLOOKUP($G1716,'Charts data'!$A$14:$B$18,2,0)/IF('Charts data'!$E$3=1,I1716,1)/IF('Charts data'!$E$4=1,J1716,1)","v":62000}]
["ID1526",22000,"USD",{"$f":"B1717*VLOOKUP(C1717,tblXrate[],2,0)","v":22000},"Manager","USA","4 to 6",3,{"$f":"VLOOKUP(F1717,mapping!$L$2:$P$92,2,0)","v":1},{"$f":"VLOOKUP($F1717,mapping!$L$2:$P$92,3,0)","v":48386.69},{"$f":"VLOOKUP($F1717,mapping!$L$2:$P$92,4,0)","v":"Major Advanced Economies (G7)"},{"$f":"$D1717*VLOOKUP($E1717,'Charts data'!$A$2:$B$11,2,0)*VLOOKUP($G1717,'Charts data'!$A$14:$B$18,2,0)/IF('Charts data'!$E$3=1,I1717,1)/IF('Charts data'!$E$4=1,J1717,1)","v":22000}]
["ID1527",45000,"USD",{"$f":"B1718*VLOOKUP(C1718,tblXrate[],2,0)","v":45000},"Analyst","USA","4 to 6",8,{"$f":"VLOOKUP(F1718,mapping!$L$2:$P$92,2,0)","v":1},{"$f":"VLOOKUP($F1718,mapping!$L$2:$P$92,3,0)","v":48386.69},{"$f":"VLOOKUP($F1718,mapping!$L$2:$P$92,4,0)","v":"Major Advanced Economies (G7)"},{"$f":"$D1718*VLOOKUP($E1718,'Charts data'!$A$2:$B$11,2,0)*VLOOKUP($G1718,'Charts data'!$A$14:$B$18,2,0)/IF('Charts data'!$E$3=1,I1718,1)/IF('Charts data'!$E$4=1,J1718,1)","v":45000}]
["ID1528",145000,"USD",{"$f":"B1719*VLOOKUP(C1719,tblXrate[],2,0)","v":145000},"Analyst","USA","4 to 6",6,{"$f":"VLOOKUP(F1719,mapping!$L$2:$P$92,2,0)","v":1},{"$f":"VLOOKUP($F1719,mapping!$L$2:$P$92,3,0)","v":48386.69},{"$f":"VLOOKUP($F1719,mapping!$L$2:$P$92,4,0)","v":"Major Advanced Economies (G7)"},{"$f":"$D1719*VLOOKUP($E1719,'Charts data'!$A$2:$B$11,2,0)*VLOOKUP($G1719,'Charts data'!$A$14:$B$18,2,0)/IF('Charts data'!$E$3=1,I1719,1)/IF('Charts data'!$E$4=1,J1719,1)","v":145000}]
["ID1529",89000,"USD",{"$f":"B1720*VLOOKUP(C1720,tblXrate[],2,0)","v":89000},"Analyst","USA","8 Hrs",14,{"$f":"VLOOKUP(F1720,mapping!$L$2:$P$92,2,0)","v":1},{"$f":"VLOOKUP($F1720,mapping!$L$2:$P$92,3,0)","v":48386.69},{"$f":"VLOOKUP($F1720,mapping!$L$2:$P$92,4,0)","v":"Major Advanced Economies (G7)"},{"$f":"$D1720*VLOOKUP($E1720,'Charts data'!$A$2:$B$11,2,0)*VLOOKUP($G1720,'Charts data'!$A$14:$B$18,2,0)/IF('Charts data'!$E$3=1,I1720,1)/IF('Charts data'!$E$4=1,J1720,1)","v":89000}]
["ID1530",38000,"USD",{"$f":"B1721*VLOOKUP(C1721,tblXrate[],2,0)","v":38000},"Accountant","USA","4 to 6",11,{"$f":"VLOOKUP(F1721,mapping!$L$2:$P$92,2,0)","v":1},{"$f":"VLOOKUP($F1721,mapping!$L$2:$P$92,3,0)","v":48386.69},{"$f":"VLOOKUP($F1721,mapping!$L$2:$P$92,4,0)","v":"Major Advanced Economies (G7)"},{"$f":"$D1721*VLOOKUP($E1721,'Charts data'!$A$2:$B$11,2,0)*VLOOKUP($G1721,'Charts data'!$A$14:$B$18,2,0)/IF('Charts data'!$E$3=1,I1721,1)/IF('Charts data'!$E$4=1,J1721,1)","v":38000}]
["ID1534",105000,"USD",{"$f":"B1722*VLOOKUP(C1722,tblXrate[],2,0)","v":105000},"Manager","USA","1 or 2",30,{"$f":"VLOOKUP(F1722,mapping!$L$2:$P$92,2,0)","v":1},{"$f":"VLOOKUP($F1722,mapping!$L$2:$P$92,3,0)","v":48386.69},{"$f":"VLOOKUP($F1722,mapping!$L$2:$P$92,4,0)","v":"Major Advanced Economies (G7)"},{"$f":"$D1722*VLOOKUP($E1722,'Charts data'!$A$2:$B$11,2,0)*VLOOKUP($G1722,'Charts data'!$A$14:$B$18,2,0)/IF('Charts data'!$E$3=1,I1722,1)/IF('Charts data'!$E$4=1,J1722,1)","v":105000}]
["ID1554",70970,"USD",{"$f":"B1723*VLOOKUP(C1723,tblXrate[],2,0)","v":70970},"Analyst","USA","4 to 6",17,{"$f":"VLOOKUP(F1723,mapping!$L$2:$P$92,2,0)","v":1},{"$f":"VLOOKUP($F1723,mapping!$L$2:$P$92,3,0)","v":48386.69},{"$f":"VLOOKUP($F1723,mapping!$L$2:$P$92,4,0)","v":"Major Advanced Economies (G7)"},{"$f":"$D1723*VLOOKUP($E1723,'Charts data'!$A$2:$B$11,2,0)*VLOOKUP($G1723,'Charts data'!$A$14:$B$18,2,0)/IF('Charts data'!$E$3=1,I1723,1)/IF('Charts data'!$E$4=1,J1723,1)","v":70970}]
["ID1558",125000,"USD",{"$f":"B1724*VLOOKUP(C1724,tblXrate[],2,0)","v":125000},"Consultant","USA","8 Hrs",8,{"$f":"VLOOKUP(F1724,mapping!$L$2:$P$92,2,0)","v":1},{"$f":"VLOOKUP($F1724,mapping!$L$2:$P$92,3,0)","v":48386.69},{"$f":"VLOOKUP($F1724,mapping!$L$2:$P$92,4,0)","v":"Major Advanced Economies (G7)"},{"$f":"$D1724*VLOOKUP($E1724,'Charts data'!$A$2:$B$11,2,0)*VLOOKUP($G1724,'Charts data'!$A$14:$B$18,2,0)/IF('Charts data'!$E$3=1,I1724,1)/IF('Charts data'!$E$4=1,J1724,1)","v":125000}]
["ID1560",59000,"USD",{"$f":"B1725*VLOOKUP(C1725,tblXrate[],2,0)","v":59000},"Manager","USA","4 to 6",15,{"$f":"VLOOKUP(F1725,mapping!$L$2:$P$92,2,0)","v":1},{"$f":"VLOOKUP($F1725,mapping!$L$2:$P$92,3,0)","v":48386.69},{"$f":"VLOOKUP($F1725,mapping!$L$2:$P$92,4,0)","v":"Major Advanced Economies (G7)"},{"$f":"$D1725*VLOOKUP($E1725,'Charts data'!$A$2:$B$11,2,0)*VLOOKUP($G1725,'Charts data'!$A$14:$B$18,2,0)/IF('Charts data'!$E$3=1,I1725,1)/IF('Charts data'!$E$4=1,J1725,1)","v":59000}]
["ID1561",71500,"USD",{"$f":"B1726*VLOOKUP(C1726,tblXrate[],2,0)","v":71500},"Analyst","USA","4 to 6",5,{"$f":"VLOOKUP(F1726,mapping!$L$2:$P$92,2,0)","v":1},{"$f":"VLOOKUP($F1726,mapping!$L$2:$P$92,3,0)","v":48386.69},{"$f":"VLOOKUP($F1726,mapping!$L$2:$P$92,4,0)","v":"Major Advanced Economies (G7)"},{"$f":"$D1726*VLOOKUP($E1726,'Charts data'!$A$2:$B$11,2,0)*VLOOKUP($G1726,'Charts data'!$A$14:$B$18,2,0)/IF('Charts data'!$E$3=1,I1726,1)/IF('Charts data'!$E$4=1,J1726,1)","v":71500}]
["ID1564",90000,"USD",{"$f":"B1727*VLOOKUP(C1727,tblXrate[],2,0)","v":90000},"Manager","USA","4 to 6",25,{"$f":"VLOOKUP(F1727,mapping!$L$2:$P$92,2,0)","v":1},{"$f":"VLOOKUP($F1727,mapping!$L$2:$P$92,3,0)","v":48386.69},{"$f":"VLOOKUP($F1727,mapping!$L$2:$P$92,4,0)","v":"Major Advanced Economies (G7)"},{"$f":"$D1727*VLOOKUP($E1727,'Charts data'!$A$2:$B$11,2,0)*VLOOKUP($G1727,'Charts data'!$A$14:$B$18,2,0)/IF('Charts data'!$E$3=1,I1727,1)/IF('Charts data'!$E$4=1,J1727,1)","v":90000}]
["ID1566",40000,"USD",{"$f":"B1728*VLOOKUP(C1728,tblXrate[],2,0)","v":40000},"Analyst","USA","4 to 6",8,{"$f":"VLOOKUP(F1728,mapping!$L$2:$P$92,2,0)","v":1},{"$f":"VLOOKUP($F1728,mapping!$L$2:$P$92,3,0)","v":48386.69},{"$f":"VLOOKUP($F1728,mapping!$L$2:$P$92,4,0)","v":"Major Advanced Economies (G7)"},{"$f":"$D1728*VLOOKUP($E1728,'Charts data'!$A$2:$B$11,2,0)*VLOOKUP($G1728,'Charts data'!$A$14:$B$18,2,0)/IF('Charts data'!$E$3=1,I1728,1)/IF('Charts data'!$E$4=1,J1728,1)","v":40000}]
["ID1569",46325,"USD",{"$f":"B1729*VLOOKUP(C1729,tblXrate[],2,0)","v":46325},"Controller","USA","4 to 6",1,{"$f":"VLOOKUP(F1729,mapping!$L$2:$P$92,2,0)","v":1},{"$f":"VLOOKUP($F1729,mapping!$L$2:$P$92,3,0)","v":48386.69},{"$f":"VLOOKUP($F1729,mapping!$L$2:$P$92,4,0)","v":"Major Advanced Economies (G7)"},{"$f":"$D1729*VLOOKUP($E1729,'Charts data'!$A$2:$B$11,2,0)*VLOOKUP($G1729,'Charts data'!$A$14:$B$18,2,0)/IF('Charts data'!$E$3=1,I1729,1)/IF('Charts data'!$E$4=1,J1729,1)","v":46325}]
["ID1570",15000,"USD",{"$f":"B1730*VLOOKUP(C1730,tblXrate[],2,0)","v":15000},"Analyst","USA","8 Hrs",8,{"$f":"VLOOKUP(F1730,mapping!$L$2:$P$92,2,0)","v":1},{"$f":"VLOOKUP($F1730,mapping!$L$2:$P$92,3,0)","v":48386.69},{"$f":"VLOOKUP($F1730,mapping!$L$2:$P$92,4,0)","v":"Major Advanced Economies (G7)"},{"$f":"$D1730*VLOOKUP($E1730,'Charts data'!$A$2:$B$11,2,0)*VLOOKUP($G1730,'Charts data'!$A$14:$B$18,2,0)/IF('Charts data'!$E$3=1,I1730,1)/IF('Charts data'!$E$4=1,J1730,1)","v":15000}]
["ID1571",31200,"USD",{"$f":"B1731*VLOOKUP(C1731,tblXrate[],2,0)","v":31200},"Analyst","USA","4 to 6",15,{"$f":"VLOOKUP(F1731,mapping!$L$2:$P$92,2,0)","v":1},{"$f":"VLOOKUP($F1731,mapping!$L$2:$P$92,3,0)","v":48386.69},{"$f":"VLOOKUP($F1731,mapping!$L$2:$P$92,4,0)","v":"Major Advanced Economies (G7)"},{"$f":"$D1731*VLOOKUP($E1731,'Charts data'!$A$2:$B$11,2,0)*VLOOKUP($G1731,'Charts data'!$A$14:$B$18,2,0)/IF('Charts data'!$E$3=1,I1731,1)/IF('Charts data'!$E$4=1,J1731,1)","v":31200}]
["ID1575",41000,"USD",{"$f":"B1732*VLOOKUP(C1732,tblXrate[],2,0)","v":41000},"Consultant","USA","4 to 6",10,{"$f":"VLOOKUP(F1732,mapping!$L$2:$P$92,2,0)","v":1},{"$f":"VLOOKUP($F1732,mapping!$L$2:$P$92,3,0)","v":48386.69},{"$f":"VLOOKUP($F1732,mapping!$L$2:$P$92,4,0)","v":"Major Advanced Economies (G7)"},{"$f":"$D1732*VLOOKUP($E1732,'Charts data'!$A$2:$B$11,2,0)*VLOOKUP($G1732,'Charts data'!$A$14:$B$18,2,0)/IF('Charts data'!$E$3=1,I1732,1)/IF('Charts data'!$E$4=1,J1732,1)","v":41000}]
["ID1581",50000,"USD",{"$f":"B1733*VLOOKUP(C1733,tblXrate[],2,0)","v":50000},"Accountant","USA","4 to 6",15,{"$f":"VLOOKUP(F1733,mapping!$L$2:$P$92,2,0)","v":1},{"$f":"VLOOKUP($F1733,mapping!$L$2:$P$92,3,0)","v":48386.69},{"$f":"VLOOKUP($F1733,mapping!$L$2:$P$92,4,0)","v":"Major Advanced Economies (G7)"},{"$f":"$D1733*VLOOKUP($E1733,'Charts data'!$A$2:$B$11,2,0)*VLOOKUP($G1733,'Charts data'!$A$14:$B$18,2,0)/IF('Charts data'!$E$3=1,I1733,1)/IF('Charts data'!$E$4=1,J1733,1)","v":50000}]
["ID1583",85000,"USD",{"$f":"B1734*VLOOKUP(C1734,tblXrate[],2,0)","v":85000},"Reporting","USA","4 to 6",10,{"$f":"VLOOKUP(F1734,mapping!$L$2:$P$92,2,0)","v":1},{"$f":"VLOOKUP($F1734,mapping!$L$2:$P$92,3,0)","v":48386.69},{"$f":"VLOOKUP($F1734,mapping!$L$2:$P$92,4,0)","v":"Major Advanced Economies (G7)"},{"$f":"$D1734*VLOOKUP($E1734,'Charts data'!$A$2:$B$11,2,0)*VLOOKUP($G1734,'Charts data'!$A$14:$B$18,2,0)/IF('Charts data'!$E$3=1,I1734,1)/IF('Charts data'!$E$4=1,J1734,1)","v":85000}]
["ID1589",44000,"USD",{"$f":"B1735*VLOOKUP(C1735,tblXrate[],2,0)","v":44000},"Analyst","USA","4 to 6",3.5,{"$f":"VLOOKUP(F1735,mapping!$L$2:$P$92,2,0)","v":1},{"$f":"VLOOKUP($F1735,mapping!$L$2:$P$92,3,0)","v":48386.69},{"$f":"VLOOKUP($F1735,mapping!$L$2:$P$92,4,0)","v":"Major Advanced Economies (G7)"},{"$f":"$D1735*VLOOKUP($E1735,'Charts data'!$A$2:$B$11,2,0)*VLOOKUP($G1735,'Charts data'!$A$14:$B$18,2,0)/IF('Charts data'!$E$3=1,I1735,1)/IF('Charts data'!$E$4=1,J1735,1)","v":44000}]
["ID1593",52000,"USD",{"$f":"B1736*VLOOKUP(C1736,tblXrate[],2,0)","v":52000},"Analyst","USA","8 Hrs",5,{"$f":"VLOOKUP(F1736,mapping!$L$2:$P$92,2,0)","v":1},{"$f":"VLOOKUP($F1736,mapping!$L$2:$P$92,3,0)","v":48386.69},{"$f":"VLOOKUP($F1736,mapping!$L$2:$P$92,4,0)","v":"Major Advanced Economies (G7)"},{"$f":"$D1736*VLOOKUP($E1736,'Charts data'!$A$2:$B$11,2,0)*VLOOKUP($G1736,'Charts data'!$A$14:$B$18,2,0)/IF('Charts data'!$E$3=1,I1736,1)/IF('Charts data'!$E$4=1,J1736,1)","v":52000}]
["ID1603",50000,"USD",{"$f":"B1737*VLOOKUP(C1737,tblXrate[],2,0)","v":50000},"Analyst","USA","8 Hrs",2,{"$f":"VLOOKUP(F1737,mapping!$L$2:$P$92,2,0)","v":1},{"$f":"VLOOKUP($F1737,mapping!$L$2:$P$92,3,0)","v":48386.69},{"$f":"VLOOKUP($F1737,mapping!$L$2:$P$92,4,0)","v":"Major Advanced Economies (G7)"},{"$f":"$D1737*VLOOKUP($E1737,'Charts data'!$A$2:$B$11,2,0)*VLOOKUP($G1737,'Charts data'!$A$14:$B$18,2,0)/IF('Charts data'!$E$3=1,I1737,1)/IF('Charts data'!$E$4=1,J1737,1)","v":50000}]
["ID1605",50000,"USD",{"$f":"B1738*VLOOKUP(C1738,tblXrate[],2,0)","v":50000},"Analyst","USA","8 Hrs",12,{"$f":"VLOOKUP(F1738,mapping!$L$2:$P$92,2,0)","v":1},{"$f":"VLOOKUP($F1738,mapping!$L$2:$P$92,3,0)","v":48386.69},{"$f":"VLOOKUP($F1738,mapping!$L$2:$P$92,4,0)","v":"Major Advanced Economies (G7)"},{"$f":"$D1738*VLOOKUP($E1738,'Charts data'!$A$2:$B$11,2,0)*VLOOKUP($G1738,'Charts data'!$A$14:$B$18,2,0)/IF('Charts data'!$E$3=1,I1738,1)/IF('Charts data'!$E$4=1,J1738,1)","v":50000}]
["ID1610",55000,"USD",{"$f":"B1739*VLOOKUP(C1739,tblXrate[],2,0)","v":55000},"Analyst","USA","4 to 6",2,{"$f":"VLOOKUP(F1739,mapping!$L$2:$P$92,2,0)","v":1},{"$f":"VLOOKUP($F1739,mapping!$L$2:$P$92,3,0)","v":48386.69},{"$f":"VLOOKUP($F1739,mapping!$L$2:$P$92,4,0)","v":"Major Advanced Economies (G7)"},{"$f":"$D1739*VLOOKUP($E1739,'Charts data'!$A$2:$B$11,2,0)*VLOOKUP($G1739,'Charts data'!$A$14:$B$18,2,0)/IF('Charts data'!$E$3=1,I1739,1)/IF('Charts data'!$E$4=1,J1739,1)","v":55000}]
["ID1611",38000,"USD",{"$f":"B1740*VLOOKUP(C1740,tblXrate[],2,0)","v":38000},"Analyst","USA","8 Hrs",1,{"$f":"VLOOKUP(F1740,mapping!$L$2:$P$92,2,0)","v":1},{"$f":"VLOOKUP($F1740,mapping!$L$2:$P$92,3,0)","v":48386.69},{"$f":"VLOOKUP($F1740,mapping!$L$2:$P$92,4,0)","v":"Major Advanced Economies (G7)"},{"$f":"$D1740*VLOOKUP($E1740,'Charts data'!$A$2:$B$11,2,0)*VLOOKUP($G1740,'Charts data'!$A$14:$B$18,2,0)/IF('Charts data'!$E$3=1,I1740,1)/IF('Charts data'!$E$4=1,J1740,1)","v":38000}]
["ID1613",35500,"USD",{"$f":"B1741*VLOOKUP(C1741,tblXrate[],2,0)","v":35500},"Analyst","USA","4 to 6",20,{"$f":"VLOOKUP(F1741,mapping!$L$2:$P$92,2,0)","v":1},{"$f":"VLOOKUP($F1741,mapping!$L$2:$P$92,3,0)","v":48386.69},{"$f":"VLOOKUP($F1741,mapping!$L$2:$P$92,4,0)","v":"Major Advanced Economies (G7)"},{"$f":"$D1741*VLOOKUP($E1741,'Charts data'!$A$2:$B$11,2,0)*VLOOKUP($G1741,'Charts data'!$A$14:$B$18,2,0)/IF('Charts data'!$E$3=1,I1741,1)/IF('Charts data'!$E$4=1,J1741,1)","v":35500}]
["ID1614",62000,"USD",{"$f":"B1742*VLOOKUP(C1742,tblXrate[],2,0)","v":62000},"Analyst","USA","2 to 3",5,{"$f":"VLOOKUP(F1742,mapping!$L$2:$P$92,2,0)","v":1},{"$f":"VLOOKUP($F1742,mapping!$L$2:$P$92,3,0)","v":48386.69},{"$f":"VLOOKUP($F1742,mapping!$L$2:$P$92,4,0)","v":"Major Advanced Economies (G7)"},{"$f":"$D1742*VLOOKUP($E1742,'Charts data'!$A$2:$B$11,2,0)*VLOOKUP($G1742,'Charts data'!$A$14:$B$18,2,0)/IF('Charts data'!$E$3=1,I1742,1)/IF('Charts data'!$E$4=1,J1742,1)","v":62000}]
["ID1616",60000,"USD",{"$f":"B1743*VLOOKUP(C1743,tblXrate[],2,0)","v":60000},"Analyst","USA","2 to 3",1,{"$f":"VLOOKUP(F1743,mapping!$L$2:$P$92,2,0)","v":1},{"$f":"VLOOKUP($F1743,mapping!$L$2:$P$92,3,0)","v":48386.69},{"$f":"VLOOKUP($F1743,mapping!$L$2:$P$92,4,0)","v":"Major Advanced Economies (G7)"},{"$f":"$D1743*VLOOKUP($E1743,'Charts data'!$A$2:$B$11,2,0)*VLOOKUP($G1743,'Charts data'!$A$14:$B$18,2,0)/IF('Charts data'!$E$3=1,I1743,1)/IF('Charts data'!$E$4=1,J1743,1)","v":60000}]
["ID1617",32884,"USD",{"$f":"B1744*VLOOKUP(C1744,tblXrate[],2,0)","v":32884},"Analyst","USA","8 Hrs",10,{"$f":"VLOOKUP(F1744,mapping!$L$2:$P$92,2,0)","v":1},{"$f":"VLOOKUP($F1744,mapping!$L$2:$P$92,3,0)","v":48386.69},{"$f":"VLOOKUP($F1744,mapping!$L$2:$P$92,4,0)","v":"Major Advanced Economies (G7)"},{"$f":"$D1744*VLOOKUP($E1744,'Charts data'!$A$2:$B$11,2,0)*VLOOKUP($G1744,'Charts data'!$A$14:$B$18,2,0)/IF('Charts data'!$E$3=1,I1744,1)/IF('Charts data'!$E$4=1,J1744,1)","v":32884}]
["ID1618",42000,"USD",{"$f":"B1745*VLOOKUP(C1745,tblXrate[],2,0)","v":42000},"Analyst","USA","4 to 6",2,{"$f":"VLOOKUP(F1745,mapping!$L$2:$P$92,2,0)","v":1},{"$f":"VLOOKUP($F1745,mapping!$L$2:$P$92,3,0)","v":48386.69},{"$f":"VLOOKUP($F1745,mapping!$L$2:$P$92,4,0)","v":"Major Advanced Economies (G7)"},{"$f":"$D1745*VLOOKUP($E1745,'Charts data'!$A$2:$B$11,2,0)*VLOOKUP($G1745,'Charts data'!$A$14:$B$18,2,0)/IF('Charts data'!$E$3=1,I1745,1)/IF('Charts data'!$E$4=1,J1745,1)","v":42000}]
["ID1619",68000,"USD",{"$f":"B1746*VLOOKUP(C1746,tblXrate[],2,0)","v":68000},"Analyst","USA","4 to 6",12,{"$f":"VLOOKUP(F1746,mapping!$L$2:$P$92,2,0)","v":1},{"$f":"VLOOKUP($F1746,mapping!$L$2:$P$92,3,0)","v":48386.69},{"$f":"VLOOKUP($F1746,mapping!$L$2:$P$92,4,0)","v":"Major Advanced Economies (G7)"},{"$f":"$D1746*VLOOKUP($E1746,'Charts data'!$A$2:$B$11,2,0)*VLOOKUP($G1746,'Charts data'!$A$14:$B$18,2,0)/IF('Charts data'!$E$3=1,I1746,1)/IF('Charts data'!$E$4=1,J1746,1)","v":68000}]
["ID1620",85000,"USD",{"$f":"B1747*VLOOKUP(C1747,tblXrate[],2,0)","v":85000},"Accountant","USA","2 to 3",8,{"$f":"VLOOKUP(F1747,mapping!$L$2:$P$92,2,0)","v":1},{"$f":"VLOOKUP($F1747,mapping!$L$2:$P$92,3,0)","v":48386.69},{"$f":"VLOOKUP($F1747,mapping!$L$2:$P$92,4,0)","v":"Major Advanced Economies (G7)"},{"$f":"$D1747*VLOOKUP($E1747,'Charts data'!$A$2:$B$11,2,0)*VLOOKUP($G1747,'Charts data'!$A$14:$B$18,2,0)/IF('Charts data'!$E$3=1,I1747,1)/IF('Charts data'!$E$4=1,J1747,1)","v":85000}]
["ID1626",140000,"USD",{"$f":"B1748*VLOOKUP(C1748,tblXrate[],2,0)","v":140000},"Manager","USA","4 to 6",12,{"$f":"VLOOKUP(F1748,mapping!$L$2:$P$92,2,0)","v":1},{"$f":"VLOOKUP($F1748,mapping!$L$2:$P$92,3,0)","v":48386.69},{"$f":"VLOOKUP($F1748,mapping!$L$2:$P$92,4,0)","v":"Major Advanced Economies (G7)"},{"$f":"$D1748*VLOOKUP($E1748,'Charts data'!$A$2:$B$11,2,0)*VLOOKUP($G1748,'Charts data'!$A$14:$B$18,2,0)/IF('Charts data'!$E$3=1,I1748,1)/IF('Charts data'!$E$4=1,J1748,1)","v":140000}]
["ID1630",55000,"USD",{"$f":"B1749*VLOOKUP(C1749,tblXrate[],2,0)","v":55000},"Analyst","USA","4 to 6",1,{"$f":"VLOOKUP(F1749,mapping!$L$2:$P$92,2,0)","v":1},{"$f":"VLOOKUP($F1749,mapping!$L$2:$P$92,3,0)","v":48386.69},{"$f":"VLOOKUP($F1749,mapping!$L$2:$P$92,4,0)","v":"Major Advanced Economies (G7)"},{"$f":"$D1749*VLOOKUP($E1749,'Charts data'!$A$2:$B$11,2,0)*VLOOKUP($G1749,'Charts data'!$A$14:$B$18,2,0)/IF('Charts data'!$E$3=1,I1749,1)/IF('Charts data'!$E$4=1,J1749,1)","v":55000}]
["ID1642",54000,"USD",{"$f":"B1750*VLOOKUP(C1750,tblXrate[],2,0)","v":54000},"CXO or Top Mgmt.","USA","4 to 6",10,{"$f":"VLOOKUP(F1750,mapping!$L$2:$P$92,2,0)","v":1},{"$f":"VLOOKUP($F1750,mapping!$L$2:$P$92,3,0)","v":48386.69},{"$f":"VLOOKUP($F1750,mapping!$L$2:$P$92,4,0)","v":"Major Advanced Economies (G7)"},{"$f":"$D1750*VLOOKUP($E1750,'Charts data'!$A$2:$B$11,2,0)*VLOOKUP($G1750,'Charts data'!$A$14:$B$18,2,0)/IF('Charts data'!$E$3=1,I1750,1)/IF('Charts data'!$E$4=1,J1750,1)","v":54000}]
["ID1643",100000,"USD",{"$f":"B1751*VLOOKUP(C1751,tblXrate[],2,0)","v":100000},"Consultant","USA","2 to 3",4,{"$f":"VLOOKUP(F1751,mapping!$L$2:$P$92,2,0)","v":1},{"$f":"VLOOKUP($F1751,mapping!$L$2:$P$92,3,0)","v":48386.69},{"$f":"VLOOKUP($F1751,mapping!$L$2:$P$92,4,0)","v":"Major Advanced Economies (G7)"},{"$f":"$D1751*VLOOKUP($E1751,'Charts data'!$A$2:$B$11,2,0)*VLOOKUP($G1751,'Charts data'!$A$14:$B$18,2,0)/IF('Charts data'!$E$3=1,I1751,1)/IF('Charts data'!$E$4=1,J1751,1)","v":100000}]
["ID1654",70000,"USD",{"$f":"B1752*VLOOKUP(C1752,tblXrate[],2,0)","v":70000},"Analyst","USA","4 to 6",9,{"$f":"VLOOKUP(F1752,mapping!$L$2:$P$92,2,0)","v":1},{"$f":"VLOOKUP($F1752,mapping!$L$2:$P$92,3,0)","v":48386.69},{"$f":"VLOOKUP($F1752,mapping!$L$2:$P$92,4,0)","v":"Major Advanced Economies (G7)"},{"$f":"$D1752*VLOOKUP($E1752,'Charts data'!$A$2:$B$11,2,0)*VLOOKUP($G1752,'Charts data'!$A$14:$B$18,2,0)/IF('Charts data'!$E$3=1,I1752,1)/IF('Charts data'!$E$4=1,J1752,1)","v":70000}]
["ID1655",155000,"USD",{"$f":"B1753*VLOOKUP(C1753,tblXrate[],2,0)","v":155000},"Manager","USA","1 or 2",14,{"$f":"VLOOKUP(F1753,mapping!$L$2:$P$92,2,0)","v":1},{"$f":"VLOOKUP($F1753,mapping!$L$2:$P$92,3,0)","v":48386.69},{"$f":"VLOOKUP($F1753,mapping!$L$2:$P$92,4,0)","v":"Major Advanced Economies (G7)"},{"$f":"$D1753*VLOOKUP($E1753,'Charts data'!$A$2:$B$11,2,0)*VLOOKUP($G1753,'Charts data'!$A$14:$B$18,2,0)/IF('Charts data'!$E$3=1,I1753,1)/IF('Charts data'!$E$4=1,J1753,1)","v":155000}]
["ID1656",225000,"USD",{"$f":"B1754*VLOOKUP(C1754,tblXrate[],2,0)","v":225000},"CXO or Top Mgmt.","USA","4 to 6",15,{"$f":"VLOOKUP(F1754,mapping!$L$2:$P$92,2,0)","v":1},{"$f":"VLOOKUP($F1754,mapping!$L$2:$P$92,3,0)","v":48386.69},{"$f":"VLOOKUP($F1754,mapping!$L$2:$P$92,4,0)","v":"Major Advanced Economies (G7)"},{"$f":"$D1754*VLOOKUP($E1754,'Charts data'!$A$2:$B$11,2,0)*VLOOKUP($G1754,'Charts data'!$A$14:$B$18,2,0)/IF('Charts data'!$E$3=1,I1754,1)/IF('Charts data'!$E$4=1,J1754,1)","v":225000}]
["ID1668",92000,"USD",{"$f":"B1755*VLOOKUP(C1755,tblXrate[],2,0)","v":92000},"Reporting","USA","2 to 3",12,{"$f":"VLOOKUP(F1755,mapping!$L$2:$P$92,2,0)","v":1},{"$f":"VLOOKUP($F1755,mapping!$L$2:$P$92,3,0)","v":48386.69},{"$f":"VLOOKUP($F1755,mapping!$L$2:$P$92,4,0)","v":"Major Advanced Economies (G7)"},{"$f":"$D1755*VLOOKUP($E1755,'Charts data'!$A$2:$B$11,2,0)*VLOOKUP($G1755,'Charts data'!$A$14:$B$18,2,0)/IF('Charts data'!$E$3=1,I1755,1)/IF('Charts data'!$E$4=1,J1755,1)","v":92000}]
["ID1669",85000,"USD",{"$f":"B1756*VLOOKUP(C1756,tblXrate[],2,0)","v":85000},"Manager","USA","8 Hrs",10,{"$f":"VLOOKUP(F1756,mapping!$L$2:$P$92,2,0)","v":1},{"$f":"VLOOKUP($F1756,mapping!$L$2:$P$92,3,0)","v":48386.69},{"$f":"VLOOKUP($F1756,mapping!$L$2:$P$92,4,0)","v":"Major Advanced Economies (G7)"},{"$f":"$D1756*VLOOKUP($E1756,'Charts data'!$A$2:$B$11,2,0)*VLOOKUP($G1756,'Charts data'!$A$14:$B$18,2,0)/IF('Charts data'!$E$3=1,I1756,1)/IF('Charts data'!$E$4=1,J1756,1)","v":85000}]
["ID1672",49000,"USD",{"$f":"B1757*VLOOKUP(C1757,tblXrate[],2,0)","v":49000},"Analyst","USA","2 to 3",3,{"$f":"VLOOKUP(F1757,mapping!$L$2:$P$92,2,0)","v":1},{"$f":"VLOOKUP($F1757,mapping!$L$2:$P$92,3,0)","v":48386.69},{"$f":"VLOOKUP($F1757,mapping!$L$2:$P$92,4,0)","v":"Major Advanced Economies (G7)"},{"$f":"$D1757*VLOOKUP($E1757,'Charts data'!$A$2:$B$11,2,0)*VLOOKUP($G1757,'Charts data'!$A$14:$B$18,2,0)/IF('Charts data'!$E$3=1,I1757,1)/IF('Charts data'!$E$4=1,J1757,1)","v":49000}]
["ID1673",59000,"USD",{"$f":"B1758*VLOOKUP(C1758,tblXrate[],2,0)","v":59000},"Manager","USA","1 or 2",3,{"$f":"VLOOKUP(F1758,mapping!$L$2:$P$92,2,0)","v":1},{"$f":"VLOOKUP($F1758,mapping!$L$2:$P$92,3,0)","v":48386.69},{"$f":"VLOOKUP($F1758,mapping!$L$2:$P$92,4,0)","v":"Major Advanced Economies (G7)"},{"$f":"$D1758*VLOOKUP($E1758,'Charts data'!$A$2:$B$11,2,0)*VLOOKUP($G1758,'Charts data'!$A$14:$B$18,2,0)/IF('Charts data'!$E$3=1,I1758,1)/IF('Charts data'!$E$4=1,J1758,1)","v":59000}]
["ID1674",55000,"USD",{"$f":"B1759*VLOOKUP(C1759,tblXrate[],2,0)","v":55000},"Analyst","USA","4 to 6",15,{"$f":"VLOOKUP(F1759,mapping!$L$2:$P$92,2,0)","v":1},{"$f":"VLOOKUP($F1759,mapping!$L$2:$P$92,3,0)","v":48386.69},{"$f":"VLOOKUP($F1759,mapping!$L$2:$P$92,4,0)","v":"Major Advanced Economies (G7)"},{"$f":"$D1759*VLOOKUP($E1759,'Charts data'!$A$2:$B$11,2,0)*VLOOKUP($G1759,'Charts data'!$A$14:$B$18,2,0)/IF('Charts data'!$E$3=1,I1759,1)/IF('Charts data'!$E$4=1,J1759,1)","v":55000}]
["ID1675",75000,"USD",{"$f":"B1760*VLOOKUP(C1760,tblXrate[],2,0)","v":75000},"Accountant","USA","4 to 6",10,{"$f":"VLOOKUP(F1760,mapping!$L$2:$P$92,2,0)","v":1},{"$f":"VLOOKUP($F1760,mapping!$L$2:$P$92,3,0)","v":48386.69},{"$f":"VLOOKUP($F1760,mapping!$L$2:$P$92,4,0)","v":"Major Advanced Economies (G7)"},{"$f":"$D1760*VLOOKUP($E1760,'Charts data'!$A$2:$B$11,2,0)*VLOOKUP($G1760,'Charts data'!$A$14:$B$18,2,0)/IF('Charts data'!$E$3=1,I1760,1)/IF('Charts data'!$E$4=1,J1760,1)","v":75000}]
["ID1679",80000,"USD",{"$f":"B1761*VLOOKUP(C1761,tblXrate[],2,0)","v":80000},"Specialist","USA","2 to 3",2,{"$f":"VLOOKUP(F1761,mapping!$L$2:$P$92,2,0)","v":1},{"$f":"VLOOKUP($F1761,mapping!$L$2:$P$92,3,0)","v":48386.69},{"$f":"VLOOKUP($F1761,mapping!$L$2:$P$92,4,0)","v":"Major Advanced Economies (G7)"},{"$f":"$D1761*VLOOKUP($E1761,'Charts data'!$A$2:$B$11,2,0)*VLOOKUP($G1761,'Charts data'!$A$14:$B$18,2,0)/IF('Charts data'!$E$3=1,I1761,1)/IF('Charts data'!$E$4=1,J1761,1)","v":80000}]
["ID1680",12000,"USD",{"$f":"B1762*VLOOKUP(C1762,tblXrate[],2,0)","v":12000},"Analyst","USA","2 to 3",1,{"$f":"VLOOKUP(F1762,mapping!$L$2:$P$92,2,0)","v":1},{"$f":"VLOOKUP($F1762,mapping!$L$2:$P$92,3,0)","v":48386.69},{"$f":"VLOOKUP($F1762,mapping!$L$2:$P$92,4,0)","v":"Major Advanced Economies (G7)"},{"$f":"$D1762*VLOOKUP($E1762,'Charts data'!$A$2:$B$11,2,0)*VLOOKUP($G1762,'Charts data'!$A$14:$B$18,2,0)/IF('Charts data'!$E$3=1,I1762,1)/IF('Charts data'!$E$4=1,J1762,1)","v":12000}]
["ID1681",48500,"USD",{"$f":"B1763*VLOOKUP(C1763,tblXrate[],2,0)","v":48500},"Analyst","USA","4 to 6",6,{"$f":"VLOOKUP(F1763,mapping!$L$2:$P$92,2,0)","v":1},{"$f":"VLOOKUP($F1763,mapping!$L$2:$P$92,3,0)","v":48386.69},{"$f":"VLOOKUP($F1763,mapping!$L$2:$P$92,4,0)","v":"Major Advanced Economies (G7)"},{"$f":"$D1763*VLOOKUP($E1763,'Charts data'!$A$2:$B$11,2,0)*VLOOKUP($G1763,'Charts data'!$A$14:$B$18,2,0)/IF('Charts data'!$E$3=1,I1763,1)/IF('Charts data'!$E$4=1,J1763,1)","v":48500}]
["ID1688",62000,"USD",{"$f":"B1764*VLOOKUP(C1764,tblXrate[],2,0)","v":62000},"Engineer","USA","2 to 3",12,{"$f":"VLOOKUP(F1764,mapping!$L$2:$P$92,2,0)","v":1},{"$f":"VLOOKUP($F1764,mapping!$L$2:$P$92,3,0)","v":48386.69},{"$f":"VLOOKUP($F1764,mapping!$L$2:$P$92,4,0)","v":"Major Advanced Economies (G7)"},{"$f":"$D1764*VLOOKUP($E1764,'Charts data'!$A$2:$B$11,2,0)*VLOOKUP($G1764,'Charts data'!$A$14:$B$18,2,0)/IF('Charts data'!$E$3=1,I1764,1)/IF('Charts data'!$E$4=1,J1764,1)","v":62000}]
["ID1692",90000,"USD",{"$f":"B1765*VLOOKUP(C1765,tblXrate[],2,0)","v":90000},"Analyst","USA","2 to 3",8,{"$f":"VLOOKUP(F1765,mapping!$L$2:$P$92,2,0)","v":1},{"$f":"VLOOKUP($F1765,mapping!$L$2:$P$92,3,0)","v":48386.69},{"$f":"VLOOKUP($F1765,mapping!$L$2:$P$92,4,0)","v":"Major Advanced Economies (G7)"},{"$f":"$D1765*VLOOKUP($E1765,'Charts data'!$A$2:$B$11,2,0)*VLOOKUP($G1765,'Charts data'!$A$14:$B$18,2,0)/IF('Charts data'!$E$3=1,I1765,1)/IF('Charts data'!$E$4=1,J1765,1)","v":90000}]
["ID1694",85000,"USD",{"$f":"B1766*VLOOKUP(C1766,tblXrate[],2,0)","v":85000},"Analyst","USA","4 to 6",12,{"$f":"VLOOKUP(F1766,mapping!$L$2:$P$92,2,0)","v":1},{"$f":"VLOOKUP($F1766,mapping!$L$2:$P$92,3,0)","v":48386.69},{"$f":"VLOOKUP($F1766,mapping!$L$2:$P$92,4,0)","v":"Major Advanced Economies (G7)"},{"$f":"$D1766*VLOOKUP($E1766,'Charts data'!$A$2:$B$11,2,0)*VLOOKUP($G1766,'Charts data'!$A$14:$B$18,2,0)/IF('Charts data'!$E$3=1,I1766,1)/IF('Charts data'!$E$4=1,J1766,1)","v":85000}]
["ID1696",65000,"USD",{"$f":"B1767*VLOOKUP(C1767,tblXrate[],2,0)","v":65000},"Analyst","USA","4 to 6",8,{"$f":"VLOOKUP(F1767,mapping!$L$2:$P$92,2,0)","v":1},{"$f":"VLOOKUP($F1767,mapping!$L$2:$P$92,3,0)","v":48386.69},{"$f":"VLOOKUP($F1767,mapping!$L$2:$P$92,4,0)","v":"Major Advanced Economies (G7)"},{"$f":"$D1767*VLOOKUP($E1767,'Charts data'!$A$2:$B$11,2,0)*VLOOKUP($G1767,'Charts data'!$A$14:$B$18,2,0)/IF('Charts data'!$E$3=1,I1767,1)/IF('Charts data'!$E$4=1,J1767,1)","v":65000}]
["ID1697",75000,"USD",{"$f":"B1768*VLOOKUP(C1768,tblXrate[],2,0)","v":75000},"CXO or Top Mgmt.","USA","2 to 3",3,{"$f":"VLOOKUP(F1768,mapping!$L$2:$P$92,2,0)","v":1},{"$f":"VLOOKUP($F1768,mapping!$L$2:$P$92,3,0)","v":48386.69},{"$f":"VLOOKUP($F1768,mapping!$L$2:$P$92,4,0)","v":"Major Advanced Economies (G7)"},{"$f":"$D1768*VLOOKUP($E1768,'Charts data'!$A$2:$B$11,2,0)*VLOOKUP($G1768,'Charts data'!$A$14:$B$18,2,0)/IF('Charts data'!$E$3=1,I1768,1)/IF('Charts data'!$E$4=1,J1768,1)","v":75000}]
["ID1698",92000,"USD",{"$f":"B1769*VLOOKUP(C1769,tblXrate[],2,0)","v":92000},"Analyst","USA","4 to 6",9,{"$f":"VLOOKUP(F1769,mapping!$L$2:$P$92,2,0)","v":1},{"$f":"VLOOKUP($F1769,mapping!$L$2:$P$92,3,0)","v":48386.69},{"$f":"VLOOKUP($F1769,mapping!$L$2:$P$92,4,0)","v":"Major Advanced Economies (G7)"},{"$f":"$D1769*VLOOKUP($E1769,'Charts data'!$A$2:$B$11,2,0)*VLOOKUP($G1769,'Charts data'!$A$14:$B$18,2,0)/IF('Charts data'!$E$3=1,I1769,1)/IF('Charts data'!$E$4=1,J1769,1)","v":92000}]
["ID1701",45000,"USD",{"$f":"B1770*VLOOKUP(C1770,tblXrate[],2,0)","v":45000},"Analyst","USA","2 to 3",4,{"$f":"VLOOKUP(F1770,mapping!$L$2:$P$92,2,0)","v":1},{"$f":"VLOOKUP($F1770,mapping!$L$2:$P$92,3,0)","v":48386.69},{"$f":"VLOOKUP($F1770,mapping!$L$2:$P$92,4,0)","v":"Major Advanced Economies (G7)"},{"$f":"$D1770*VLOOKUP($E1770,'Charts data'!$A$2:$B$11,2,0)*VLOOKUP($G1770,'Charts data'!$A$14:$B$18,2,0)/IF('Charts data'!$E$3=1,I1770,1)/IF('Charts data'!$E$4=1,J1770,1)","v":45000}]
["ID1705",60000,"USD",{"$f":"B1771*VLOOKUP(C1771,tblXrate[],2,0)","v":60000},"Analyst","USA","8 Hrs",1,{"$f":"VLOOKUP(F1771,mapping!$L$2:$P$92,2,0)","v":1},{"$f":"VLOOKUP($F1771,mapping!$L$2:$P$92,3,0)","v":48386.69},{"$f":"VLOOKUP($F1771,mapping!$L$2:$P$92,4,0)","v":"Major Advanced Economies (G7)"},{"$f":"$D1771*VLOOKUP($E1771,'Charts data'!$A$2:$B$11,2,0)*VLOOKUP($G1771,'Charts data'!$A$14:$B$18,2,0)/IF('Charts data'!$E$3=1,I1771,1)/IF('Charts data'!$E$4=1,J1771,1)","v":60000}]
["ID1706",65000,"USD",{"$f":"B1772*VLOOKUP(C1772,tblXrate[],2,0)","v":65000},"Analyst","USA","8 Hrs",4,{"$f":"VLOOKUP(F1772,mapping!$L$2:$P$92,2,0)","v":1},{"$f":"VLOOKUP($F1772,mapping!$L$2:$P$92,3,0)","v":48386.69},{"$f":"VLOOKUP($F1772,mapping!$L$2:$P$92,4,0)","v":"Major Advanced Economies (G7)"},{"$f":"$D1772*VLOOKUP($E1772,'Charts data'!$A$2:$B$11,2,0)*VLOOKUP($G1772,'Charts data'!$A$14:$B$18,2,0)/IF('Charts data'!$E$3=1,I1772,1)/IF('Charts data'!$E$4=1,J1772,1)","v":65000}]
["ID1707",73000,"USD",{"$f":"B1773*VLOOKUP(C1773,tblXrate[],2,0)","v":73000},"Manager","USA","2 to 3",6,{"$f":"VLOOKUP(F1773,mapping!$L$2:$P$92,2,0)","v":1},{"$f":"VLOOKUP($F1773,mapping!$L$2:$P$92,3,0)","v":48386.69},{"$f":"VLOOKUP($F1773,mapping!$L$2:$P$92,4,0)","v":"Major Advanced Economies (G7)"},{"$f":"$D1773*VLOOKUP($E1773,'Charts data'!$A$2:$B$11,2,0)*VLOOKUP($G1773,'Charts data'!$A$14:$B$18,2,0)/IF('Charts data'!$E$3=1,I1773,1)/IF('Charts data'!$E$4=1,J1773,1)","v":73000}]
["ID1708",54000,"USD",{"$f":"B1774*VLOOKUP(C1774,tblXrate[],2,0)","v":54000},"Analyst","USA","8 Hrs",6,{"$f":"VLOOKUP(F1774,mapping!$L$2:$P$92,2,0)","v":1},{"$f":"VLOOKUP($F1774,mapping!$L$2:$P$92,3,0)","v":48386.69},{"$f":"VLOOKUP($F1774,mapping!$L$2:$P$92,4,0)","v":"Major Advanced Economies (G7)"},{"$f":"$D1774*VLOOKUP($E1774,'Charts data'!$A$2:$B$11,2,0)*VLOOKUP($G1774,'Charts data'!$A$14:$B$18,2,0)/IF('Charts data'!$E$3=1,I1774,1)/IF('Charts data'!$E$4=1,J1774,1)","v":54000}]
["ID1710",81000,"USD",{"$f":"B1775*VLOOKUP(C1775,tblXrate[],2,0)","v":81000},"Analyst","USA","4 to 6",6,{"$f":"VLOOKUP(F1775,mapping!$L$2:$P$92,2,0)","v":1},{"$f":"VLOOKUP($F1775,mapping!$L$2:$P$92,3,0)","v":48386.69},{"$f":"VLOOKUP($F1775,mapping!$L$2:$P$92,4,0)","v":"Major Advanced Economies (G7)"},{"$f":"$D1775*VLOOKUP($E1775,'Charts data'!$A$2:$B$11,2,0)*VLOOKUP($G1775,'Charts data'!$A$14:$B$18,2,0)/IF('Charts data'!$E$3=1,I1775,1)/IF('Charts data'!$E$4=1,J1775,1)","v":81000}]
["ID1711",10000,"USD",{"$f":"B1776*VLOOKUP(C1776,tblXrate[],2,0)","v":10000},"Analyst","USA","4 to 6",2,{"$f":"VLOOKUP(F1776,mapping!$L$2:$P$92,2,0)","v":1},{"$f":"VLOOKUP($F1776,mapping!$L$2:$P$92,3,0)","v":48386.69},{"$f":"VLOOKUP($F1776,mapping!$L$2:$P$92,4,0)","v":"Major Advanced Economies (G7)"},{"$f":"$D1776*VLOOKUP($E1776,'Charts data'!$A$2:$B$11,2,0)*VLOOKUP($G1776,'Charts data'!$A$14:$B$18,2,0)/IF('Charts data'!$E$3=1,I1776,1)/IF('Charts data'!$E$4=1,J1776,1)","v":10000}]
["ID1712",42000,"USD",{"$f":"B1777*VLOOKUP(C1777,tblXrate[],2,0)","v":42000},"Accountant","USA","4 to 6",1,{"$f":"VLOOKUP(F1777,mapping!$L$2:$P$92,2,0)","v":1},{"$f":"VLOOKUP($F1777,mapping!$L$2:$P$92,3,0)","v":48386.69},{"$f":"VLOOKUP($F1777,mapping!$L$2:$P$92,4,0)","v":"Major Advanced Economies (G7)"},{"$f":"$D1777*VLOOKUP($E1777,'Charts data'!$A$2:$B$11,2,0)*VLOOKUP($G1777,'Charts data'!$A$14:$B$18,2,0)/IF('Charts data'!$E$3=1,I1777,1)/IF('Charts data'!$E$4=1,J1777,1)","v":42000}]
["ID1740",45000,"USD",{"$f":"B1778*VLOOKUP(C1778,tblXrate[],2,0)","v":45000},"Analyst","USA","8 Hrs",2,{"$f":"VLOOKUP(F1778,mapping!$L$2:$P$92,2,0)","v":1},{"$f":"VLOOKUP($F1778,mapping!$L$2:$P$92,3,0)","v":48386.69},{"$f":"VLOOKUP($F1778,mapping!$L$2:$P$92,4,0)","v":"Major Advanced Economies (G7)"},{"$f":"$D1778*VLOOKUP($E1778,'Charts data'!$A$2:$B$11,2,0)*VLOOKUP($G1778,'Charts data'!$A$14:$B$18,2,0)/IF('Charts data'!$E$3=1,I1778,1)/IF('Charts data'!$E$4=1,J1778,1)","v":45000}]
["ID1741",36000,"USD",{"$f":"B1779*VLOOKUP(C1779,tblXrate[],2,0)","v":36000},"Analyst","USA","4 to 6",4,{"$f":"VLOOKUP(F1779,mapping!$L$2:$P$92,2,0)","v":1},{"$f":"VLOOKUP($F1779,mapping!$L$2:$P$92,3,0)","v":48386.69},{"$f":"VLOOKUP($F1779,mapping!$L$2:$P$92,4,0)","v":"Major Advanced Economies (G7)"},{"$f":"$D1779*VLOOKUP($E1779,'Charts data'!$A$2:$B$11,2,0)*VLOOKUP($G1779,'Charts data'!$A$14:$B$18,2,0)/IF('Charts data'!$E$3=1,I1779,1)/IF('Charts data'!$E$4=1,J1779,1)","v":36000}]
["ID1742",68000,"USD",{"$f":"B1780*VLOOKUP(C1780,tblXrate[],2,0)","v":68000},"Analyst","USA","4 to 6",2.5,{"$f":"VLOOKUP(F1780,mapping!$L$2:$P$92,2,0)","v":1},{"$f":"VLOOKUP($F1780,mapping!$L$2:$P$92,3,0)","v":48386.69},{"$f":"VLOOKUP($F1780,mapping!$L$2:$P$92,4,0)","v":"Major Advanced Economies (G7)"},{"$f":"$D1780*VLOOKUP($E1780,'Charts data'!$A$2:$B$11,2,0)*VLOOKUP($G1780,'Charts data'!$A$14:$B$18,2,0)/IF('Charts data'!$E$3=1,I1780,1)/IF('Charts data'!$E$4=1,J1780,1)","v":68000}]
["ID1743",75000,"USD",{"$f":"B1781*VLOOKUP(C1781,tblXrate[],2,0)","v":75000},"Analyst","USA","8 Hrs",5,{"$f":"VLOOKUP(F1781,mapping!$L$2:$P$92,2,0)","v":1},{"$f":"VLOOKUP($F1781,mapping!$L$2:$P$92,3,0)","v":48386.69},{"$f":"VLOOKUP($F1781,mapping!$L$2:$P$92,4,0)","v":"Major Advanced Economies (G7)"},{"$f":"$D1781*VLOOKUP($E1781,'Charts data'!$A$2:$B$11,2,0)*VLOOKUP($G1781,'Charts data'!$A$14:$B$18,2,0)/IF('Charts data'!$E$3=1,I1781,1)/IF('Charts data'!$E$4=1,J1781,1)","v":75000}]
["ID1744",88000,"USD",{"$f":"B1782*VLOOKUP(C1782,tblXrate[],2,0)","v":88000},"Analyst","USA","8 Hrs",10,{"$f":"VLOOKUP(F1782,mapping!$L$2:$P$92,2,0)","v":1},{"$f":"VLOOKUP($F1782,mapping!$L$2:$P$92,3,0)","v":48386.69},{"$f":"VLOOKUP($F1782,mapping!$L$2:$P$92,4,0)","v":"Major Advanced Economies (G7)"},{"$f":"$D1782*VLOOKUP($E1782,'Charts data'!$A$2:$B$11,2,0)*VLOOKUP($G1782,'Charts data'!$A$14:$B$18,2,0)/IF('Charts data'!$E$3=1,I1782,1)/IF('Charts data'!$E$4=1,J1782,1)","v":88000}]
["ID1746",69000,"USD",{"$f":"B1783*VLOOKUP(C1783,tblXrate[],2,0)","v":69000},"Analyst","USA","8 Hrs",15,{"$f":"VLOOKUP(F1783,mapping!$L$2:$P$92,2,0)","v":1},{"$f":"VLOOKUP($F1783,mapping!$L$2:$P$92,3,0)","v":48386.69},{"$f":"VLOOKUP($F1783,mapping!$L$2:$P$92,4,0)","v":"Major Advanced Economies (G7)"},{"$f":"$D1783*VLOOKUP($E1783,'Charts data'!$A$2:$B$11,2,0)*VLOOKUP($G1783,'Charts data'!$A$14:$B$18,2,0)/IF('Charts data'!$E$3=1,I1783,1)/IF('Charts data'!$E$4=1,J1783,1)","v":69000}]
["ID1747",30000,"USD",{"$f":"B1784*VLOOKUP(C1784,tblXrate[],2,0)","v":30000},"Manager","USA","4 to 6",1,{"$f":"VLOOKUP(F1784,mapping!$L$2:$P$92,2,0)","v":1},{"$f":"VLOOKUP($F1784,mapping!$L$2:$P$92,3,0)","v":48386.69},{"$f":"VLOOKUP($F1784,mapping!$L$2:$P$92,4,0)","v":"Major Advanced Economies (G7)"},{"$f":"$D1784*VLOOKUP($E1784,'Charts data'!$A$2:$B$11,2,0)*VLOOKUP($G1784,'Charts data'!$A$14:$B$18,2,0)/IF('Charts data'!$E$3=1,I1784,1)/IF('Charts data'!$E$4=1,J1784,1)","v":30000}]
["ID1748",80000,"USD",{"$f":"B1785*VLOOKUP(C1785,tblXrate[],2,0)","v":80000},"Manager","USA","4 to 6",7,{"$f":"VLOOKUP(F1785,mapping!$L$2:$P$92,2,0)","v":1},{"$f":"VLOOKUP($F1785,mapping!$L$2:$P$92,3,0)","v":48386.69},{"$f":"VLOOKUP($F1785,mapping!$L$2:$P$92,4,0)","v":"Major Advanced Economies (G7)"},{"$f":"$D1785*VLOOKUP($E1785,'Charts data'!$A$2:$B$11,2,0)*VLOOKUP($G1785,'Charts data'!$A$14:$B$18,2,0)/IF('Charts data'!$E$3=1,I1785,1)/IF('Charts data'!$E$4=1,J1785,1)","v":80000}]
["ID1749",75000,"USD",{"$f":"B1786*VLOOKUP(C1786,tblXrate[],2,0)","v":75000},"Accountant","USA","8 Hrs",1,{"$f":"VLOOKUP(F1786,mapping!$L$2:$P$92,2,0)","v":1},{"$f":"VLOOKUP($F1786,mapping!$L$2:$P$92,3,0)","v":48386.69},{"$f":"VLOOKUP($F1786,mapping!$L$2:$P$92,4,0)","v":"Major Advanced Economies (G7)"},{"$f":"$D1786*VLOOKUP($E1786,'Charts data'!$A$2:$B$11,2,0)*VLOOKUP($G1786,'Charts data'!$A$14:$B$18,2,0)/IF('Charts data'!$E$3=1,I1786,1)/IF('Charts data'!$E$4=1,J1786,1)","v":75000}]
["ID1751",85000,"USD",{"$f":"B1787*VLOOKUP(C1787,tblXrate[],2,0)","v":85000},"Accountant","USA","4 to 6",20,{"$f":"VLOOKUP(F1787,mapping!$L$2:$P$92,2,0)","v":1},{"$f":"VLOOKUP($F1787,mapping!$L$2:$P$92,3,0)","v":48386.69},{"$f":"VLOOKUP($F1787,mapping!$L$2:$P$92,4,0)","v":"Major Advanced Economies (G7)"},{"$f":"$D1787*VLOOKUP($E1787,'Charts data'!$A$2:$B$11,2,0)*VLOOKUP($G1787,'Charts data'!$A$14:$B$18,2,0)/IF('Charts data'!$E$3=1,I1787,1)/IF('Charts data'!$E$4=1,J1787,1)","v":85000}]
["ID1754",60000,"USD",{"$f":"B1788*VLOOKUP(C1788,tblXrate[],2,0)","v":60000},"Manager","USA","8 Hrs",2,{"$f":"VLOOKUP(F1788,mapping!$L$2:$P$92,2,0)","v":1},{"$f":"VLOOKUP($F1788,mapping!$L$2:$P$92,3,0)","v":48386.69},{"$f":"VLOOKUP($F1788,mapping!$L$2:$P$92,4,0)","v":"Major Advanced Economies (G7)"},{"$f":"$D1788*VLOOKUP($E1788,'Charts data'!$A$2:$B$11,2,0)*VLOOKUP($G1788,'Charts data'!$A$14:$B$18,2,0)/IF('Charts data'!$E$3=1,I1788,1)/IF('Charts data'!$E$4=1,J1788,1)","v":60000}]
["ID1755",60000,"USD",{"$f":"B1789*VLOOKUP(C1789,tblXrate[],2,0)","v":60000},"Manager","USA","8 Hrs",2,{"$f":"VLOOKUP(F1789,mapping!$L$2:$P$92,2,0)","v":1},{"$f":"VLOOKUP($F1789,mapping!$L$2:$P$92,3,0)","v":48386.69},{"$f":"VLOOKUP($F1789,mapping!$L$2:$P$92,4,0)","v":"Major Advanced Economies (G7)"},{"$f":"$D1789*VLOOKUP($E1789,'Charts data'!$A$2:$B$11,2,0)*VLOOKUP($G1789,'Charts data'!$A$14:$B$18,2,0)/IF('Charts data'!$E$3=1,I1789,1)/IF('Charts data'!$E$4=1,J1789,1)","v":60000}]
["ID1762",67000,"USD",{"$f":"B1790*VLOOKUP(C1790,tblXrate[],2,0)","v":67000},"Manager","USA","4 to 6",16,{"$f":"VLOOKUP(F1790,mapping!$L$2:$P$92,2,0)","v":1},{"$f":"VLOOKUP($F1790,mapping!$L$2:$P$92,3,0)","v":48386.69},{"$f":"VLOOKUP($F1790,mapping!$L$2:$P$92,4,0)","v":"Major Advanced Economies (G7)"},{"$f":"$D1790*VLOOKUP($E1790,'Charts data'!$A$2:$B$11,2,0)*VLOOKUP($G1790,'Charts data'!$A$14:$B$18,2,0)/IF('Charts data'!$E$3=1,I1790,1)/IF('Charts data'!$E$4=1,J1790,1)","v":67000}]
["ID1763",30000,"USD",{"$f":"B1791*VLOOKUP(C1791,tblXrate[],2,0)","v":30000},"Analyst","USA","2 to 3",4,{"$f":"VLOOKUP(F1791,mapping!$L$2:$P$92,2,0)","v":1},{"$f":"VLOOKUP($F1791,mapping!$L$2:$P$92,3,0)","v":48386.69},{"$f":"VLOOKUP($F1791,mapping!$L$2:$P$92,4,0)","v":"Major Advanced Economies (G7)"},{"$f":"$D1791*VLOOKUP($E1791,'Charts data'!$A$2:$B$11,2,0)*VLOOKUP($G1791,'Charts data'!$A$14:$B$18,2,0)/IF('Charts data'!$E$3=1,I1791,1)/IF('Charts data'!$E$4=1,J1791,1)","v":30000}]
["ID1765",71500,"USD",{"$f":"B1792*VLOOKUP(C1792,tblXrate[],2,0)","v":71500},"Manager","USA","8 Hrs",11,{"$f":"VLOOKUP(F1792,mapping!$L$2:$P$92,2,0)","v":1},{"$f":"VLOOKUP($F1792,mapping!$L$2:$P$92,3,0)","v":48386.69},{"$f":"VLOOKUP($F1792,mapping!$L$2:$P$92,4,0)","v":"Major Advanced Economies (G7)"},{"$f":"$D1792*VLOOKUP($E1792,'Charts data'!$A$2:$B$11,2,0)*VLOOKUP($G1792,'Charts data'!$A$14:$B$18,2,0)/IF('Charts data'!$E$3=1,I1792,1)/IF('Charts data'!$E$4=1,J1792,1)","v":71500}]
["ID1766",67000,"USD",{"$f":"B1793*VLOOKUP(C1793,tblXrate[],2,0)","v":67000},"Manager","USA","0 Hrs",6,{"$f":"VLOOKUP(F1793,mapping!$L$2:$P$92,2,0)","v":1},{"$f":"VLOOKUP($F1793,mapping!$L$2:$P$92,3,0)","v":48386.69},{"$f":"VLOOKUP($F1793,mapping!$L$2:$P$92,4,0)","v":"Major Advanced Economies (G7)"},{"$f":"$D1793*VLOOKUP($E1793,'Charts data'!$A$2:$B$11,2,0)*VLOOKUP($G1793,'Charts data'!$A$14:$B$18,2,0)/IF('Charts data'!$E$3=1,I1793,1)/IF('Charts data'!$E$4=1,J1793,1)","v":67000}]
["ID1767",40000,"USD",{"$f":"B1794*VLOOKUP(C1794,tblXrate[],2,0)","v":40000},"Analyst","USA","4 to 6",5,{"$f":"VLOOKUP(F1794,mapping!$L$2:$P$92,2,0)","v":1},{"$f":"VLOOKUP($F1794,mapping!$L$2:$P$92,3,0)","v":48386.69},{"$f":"VLOOKUP($F1794,mapping!$L$2:$P$92,4,0)","v":"Major Advanced Economies (G7)"},{"$f":"$D1794*VLOOKUP($E1794,'Charts data'!$A$2:$B$11,2,0)*VLOOKUP($G1794,'Charts data'!$A$14:$B$18,2,0)/IF('Charts data'!$E$3=1,I1794,1)/IF('Charts data'!$E$4=1,J1794,1)","v":40000}]
["ID1768",65000,"USD",{"$f":"B1795*VLOOKUP(C1795,tblXrate[],2,0)","v":65000},"Manager","USA","4 to 6",2,{"$f":"VLOOKUP(F1795,mapping!$L$2:$P$92,2,0)","v":1},{"$f":"VLOOKUP($F1795,mapping!$L$2:$P$92,3,0)","v":48386.69},{"$f":"VLOOKUP($F1795,mapping!$L$2:$P$92,4,0)","v":"Major Advanced Economies (G7)"},{"$f":"$D1795*VLOOKUP($E1795,'Charts data'!$A$2:$B$11,2,0)*VLOOKUP($G1795,'Charts data'!$A$14:$B$18,2,0)/IF('Charts data'!$E$3=1,I1795,1)/IF('Charts data'!$E$4=1,J1795,1)","v":65000}]
["ID1769",72000,"USD",{"$f":"B1796*VLOOKUP(C1796,tblXrate[],2,0)","v":72000},"Consultant","USA","2 to 3",13,{"$f":"VLOOKUP(F1796,mapping!$L$2:$P$92,2,0)","v":1},{"$f":"VLOOKUP($F1796,mapping!$L$2:$P$92,3,0)","v":48386.69},{"$f":"VLOOKUP($F1796,mapping!$L$2:$P$92,4,0)","v":"Major Advanced Economies (G7)"},{"$f":"$D1796*VLOOKUP($E1796,'Charts data'!$A$2:$B$11,2,0)*VLOOKUP($G1796,'Charts data'!$A$14:$B$18,2,0)/IF('Charts data'!$E$3=1,I1796,1)/IF('Charts data'!$E$4=1,J1796,1)","v":72000}]
["ID1770",52500,"USD",{"$f":"B1797*VLOOKUP(C1797,tblXrate[],2,0)","v":52500},"Manager","USA","8 Hrs",3,{"$f":"VLOOKUP(F1797,mapping!$L$2:$P$92,2,0)","v":1},{"$f":"VLOOKUP($F1797,mapping!$L$2:$P$92,3,0)","v":48386.69},{"$f":"VLOOKUP($F1797,mapping!$L$2:$P$92,4,0)","v":"Major Advanced Economies (G7)"},{"$f":"$D1797*VLOOKUP($E1797,'Charts data'!$A$2:$B$11,2,0)*VLOOKUP($G1797,'Charts data'!$A$14:$B$18,2,0)/IF('Charts data'!$E$3=1,I1797,1)/IF('Charts data'!$E$4=1,J1797,1)","v":52500}]
["ID1775",85000,"USD",{"$f":"B1798*VLOOKUP(C1798,tblXrate[],2,0)","v":85000},"Manager","USA","2 to 3",15,{"$f":"VLOOKUP(F1798,mapping!$L$2:$P$92,2,0)","v":1},{"$f":"VLOOKUP($F1798,mapping!$L$2:$P$92,3,0)","v":48386.69},{"$f":"VLOOKUP($F1798,mapping!$L$2:$P$92,4,0)","v":"Major Advanced Economies (G7)"},{"$f":"$D1798*VLOOKUP($E1798,'Charts data'!$A$2:$B$11,2,0)*VLOOKUP($G1798,'Charts data'!$A$14:$B$18,2,0)/IF('Charts data'!$E$3=1,I1798,1)/IF('Charts data'!$E$4=1,J1798,1)","v":85000}]
["ID1778",125000,"USD",{"$f":"B1799*VLOOKUP(C1799,tblXrate[],2,0)","v":125000},"Manager","USA","8 Hrs",10,{"$f":"VLOOKUP(F1799,mapping!$L$2:$P$92,2,0)","v":1},{"$f":"VLOOKUP($F1799,mapping!$L$2:$P$92,3,0)","v":48386.69},{"$f":"VLOOKUP($F1799,mapping!$L$2:$P$92,4,0)","v":"Major Advanced Economies (G7)"},{"$f":"$D1799*VLOOKUP($E1799,'Charts data'!$A$2:$B$11,2,0)*VLOOKUP($G1799,'Charts data'!$A$14:$B$18,2,0)/IF('Charts data'!$E$3=1,I1799,1)/IF('Charts data'!$E$4=1,J1799,1)","v":125000}]
["ID1788",74461,"USD",{"$f":"B1800*VLOOKUP(C1800,tblXrate[],2,0)","v":74461},"Misc.","USA","1 or 2",9,{"$f":"VLOOKUP(F1800,mapping!$L$2:$P$92,2,0)","v":1},{"$f":"VLOOKUP($F1800,mapping!$L$2:$P$92,3,0)","v":48386.69},{"$f":"VLOOKUP($F1800,mapping!$L$2:$P$92,4,0)","v":"Major Advanced Economies (G7)"},{"$f":"$D1800*VLOOKUP($E1800,'Charts data'!$A$2:$B$11,2,0)*VLOOKUP($G1800,'Charts data'!$A$14:$B$18,2,0)/IF('Charts data'!$E$3=1,I1800,1)/IF('Charts data'!$E$4=1,J1800,1)","v":74461}]
["ID1794",40000,"USD",{"$f":"B1801*VLOOKUP(C1801,tblXrate[],2,0)","v":40000},"Analyst","USA","2 to 3",2,{"$f":"VLOOKUP(F1801,mapping!$L$2:$P$92,2,0)","v":1},{"$f":"VLOOKUP($F1801,mapping!$L$2:$P$92,3,0)","v":48386.69},{"$f":"VLOOKUP($F1801,mapping!$L$2:$P$92,4,0)","v":"Major Advanced Economies (G7)"},{"$f":"$D1801*VLOOKUP($E1801,'Charts data'!$A$2:$B$11,2,0)*VLOOKUP($G1801,'Charts data'!$A$14:$B$18,2,0)/IF('Charts data'!$E$3=1,I1801,1)/IF('Charts data'!$E$4=1,J1801,1)","v":40000}]
["ID1796",56600,"USD",{"$f":"B1802*VLOOKUP(C1802,tblXrate[],2,0)","v":56600},"Manager","USA","4 to 6",12,{"$f":"VLOOKUP(F1802,mapping!$L$2:$P$92,2,0)","v":1},{"$f":"VLOOKUP($F1802,mapping!$L$2:$P$92,3,0)","v":48386.69},{"$f":"VLOOKUP($F1802,mapping!$L$2:$P$92,4,0)","v":"Major Advanced Economies (G7)"},{"$f":"$D1802*VLOOKUP($E1802,'Charts data'!$A$2:$B$11,2,0)*VLOOKUP($G1802,'Charts data'!$A$14:$B$18,2,0)/IF('Charts data'!$E$3=1,I1802,1)/IF('Charts data'!$E$4=1,J1802,1)","v":56600}]
["ID1799",100000,"USD",{"$f":"B1803*VLOOKUP(C1803,tblXrate[],2,0)","v":100000},"Analyst","USA","8 Hrs",12,{"$f":"VLOOKUP(F1803,mapping!$L$2:$P$92,2,0)","v":1},{"$f":"VLOOKUP($F1803,mapping!$L$2:$P$92,3,0)","v":48386.69},{"$f":"VLOOKUP($F1803,mapping!$L$2:$P$92,4,0)","v":"Major Advanced Economies (G7)"},{"$f":"$D1803*VLOOKUP($E1803,'Charts data'!$A$2:$B$11,2,0)*VLOOKUP($G1803,'Charts data'!$A$14:$B$18,2,0)/IF('Charts data'!$E$3=1,I1803,1)/IF('Charts data'!$E$4=1,J1803,1)","v":100000}]
["ID1802",65000,"USD",{"$f":"B1804*VLOOKUP(C1804,tblXrate[],2,0)","v":65000},"Analyst","USA","4 to 6",14,{"$f":"VLOOKUP(F1804,mapping!$L$2:$P$92,2,0)","v":1},{"$f":"VLOOKUP($F1804,mapping!$L$2:$P$92,3,0)","v":48386.69},{"$f":"VLOOKUP($F1804,mapping!$L$2:$P$92,4,0)","v":"Major Advanced Economies (G7)"},{"$f":"$D1804*VLOOKUP($E1804,'Charts data'!$A$2:$B$11,2,0)*VLOOKUP($G1804,'Charts data'!$A$14:$B$18,2,0)/IF('Charts data'!$E$3=1,I1804,1)/IF('Charts data'!$E$4=1,J1804,1)","v":65000}]
["ID1803",65000,"USD",{"$f":"B1805*VLOOKUP(C1805,tblXrate[],2,0)","v":65000},"Analyst","USA","2 to 3",10,{"$f":"VLOOKUP(F1805,mapping!$L$2:$P$92,2,0)","v":1},{"$f":"VLOOKUP($F1805,mapping!$L$2:$P$92,3,0)","v":48386.69},{"$f":"VLOOKUP($F1805,mapping!$L$2:$P$92,4,0)","v":"Major Advanced Economies (G7)"},{"$f":"$D1805*VLOOKUP($E1805,'Charts data'!$A$2:$B$11,2,0)*VLOOKUP($G1805,'Charts data'!$A$14:$B$18,2,0)/IF('Charts data'!$E$3=1,I1805,1)/IF('Charts data'!$E$4=1,J1805,1)","v":65000}]
["ID1804",65000,"USD",{"$f":"B1806*VLOOKUP(C1806,tblXrate[],2,0)","v":65000},"Controller","USA","2 to 3",13,{"$f":"VLOOKUP(F1806,mapping!$L$2:$P$92,2,0)","v":1},{"$f":"VLOOKUP($F1806,mapping!$L$2:$P$92,3,0)","v":48386.69},{"$f":"VLOOKUP($F1806,mapping!$L$2:$P$92,4,0)","v":"Major Advanced Economies (G7)"},{"$f":"$D1806*VLOOKUP($E1806,'Charts data'!$A$2:$B$11,2,0)*VLOOKUP($G1806,'Charts data'!$A$14:$B$18,2,0)/IF('Charts data'!$E$3=1,I1806,1)/IF('Charts data'!$E$4=1,J1806,1)","v":65000}]
["ID1806",63000,"USD",{"$f":"B1807*VLOOKUP(C1807,tblXrate[],2,0)","v":63000},"Analyst","USA","8 Hrs",10,{"$f":"VLOOKUP(F1807,mapping!$L$2:$P$92,2,0)","v":1},{"$f":"VLOOKUP($F1807,mapping!$L$2:$P$92,3,0)","v":48386.69},{"$f":"VLOOKUP($F1807,mapping!$L$2:$P$92,4,0)","v":"Major Advanced Economies (G7)"},{"$f":"$D1807*VLOOKUP($E1807,'Charts data'!$A$2:$B$11,2,0)*VLOOKUP($G1807,'Charts data'!$A$14:$B$18,2,0)/IF('Charts data'!$E$3=1,I1807,1)/IF('Charts data'!$E$4=1,J1807,1)","v":63000}]
["ID1807",87000,"USD",{"$f":"B1808*VLOOKUP(C1808,tblXrate[],2,0)","v":87000},"Misc.","USA","4 to 6",3,{"$f":"VLOOKUP(F1808,mapping!$L$2:$P$92,2,0)","v":1},{"$f":"VLOOKUP($F1808,mapping!$L$2:$P$92,3,0)","v":48386.69},{"$f":"VLOOKUP($F1808,mapping!$L$2:$P$92,4,0)","v":"Major Advanced Economies (G7)"},{"$f":"$D1808*VLOOKUP($E1808,'Charts data'!$A$2:$B$11,2,0)*VLOOKUP($G1808,'Charts data'!$A$14:$B$18,2,0)/IF('Charts data'!$E$3=1,I1808,1)/IF('Charts data'!$E$4=1,J1808,1)","v":87000}]
["ID1808",45000,"USD",{"$f":"B1809*VLOOKUP(C1809,tblXrate[],2,0)","v":45000},"Analyst","USA","4 to 6",4,{"$f":"VLOOKUP(F1809,mapping!$L$2:$P$92,2,0)","v":1},{"$f":"VLOOKUP($F1809,mapping!$L$2:$P$92,3,0)","v":48386.69},{"$f":"VLOOKUP($F1809,mapping!$L$2:$P$92,4,0)","v":"Major Advanced Economies (G7)"},{"$f":"$D1809*VLOOKUP($E1809,'Charts data'!$A$2:$B$11,2,0)*VLOOKUP($G1809,'Charts data'!$A$14:$B$18,2,0)/IF('Charts data'!$E$3=1,I1809,1)/IF('Charts data'!$E$4=1,J1809,1)","v":45000}]
["ID1809",85000,"USD",{"$f":"B1810*VLOOKUP(C1810,tblXrate[],2,0)","v":85000},"Analyst","USA","8 Hrs",3,{"$f":"VLOOKUP(F1810,mapping!$L$2:$P$92,2,0)","v":1},{"$f":"VLOOKUP($F1810,mapping!$L$2:$P$92,3,0)","v":48386.69},{"$f":"VLOOKUP($F1810,mapping!$L$2:$P$92,4,0)","v":"Major Advanced Economies (G7)"},{"$f":"$D1810*VLOOKUP($E1810,'Charts data'!$A$2:$B$11,2,0)*VLOOKUP($G1810,'Charts data'!$A$14:$B$18,2,0)/IF('Charts data'!$E$3=1,I1810,1)/IF('Charts data'!$E$4=1,J1810,1)","v":85000}]
["ID1821",80000,"USD",{"$f":"B1811*VLOOKUP(C1811,tblXrate[],2,0)","v":80000},"Manager","USA","4 to 6",2,{"$f":"VLOOKUP(F1811,mapping!$L$2:$P$92,2,0)","v":1},{"$f":"VLOOKUP($F1811,mapping!$L$2:$P$92,3,0)","v":48386.69},{"$f":"VLOOKUP($F1811,mapping!$L$2:$P$92,4,0)","v":"Major Advanced Economies (G7)"},{"$f":"$D1811*VLOOKUP($E1811,'Charts data'!$A$2:$B$11,2,0)*VLOOKUP($G1811,'Charts data'!$A$14:$B$18,2,0)/IF('Charts data'!$E$3=1,I1811,1)/IF('Charts data'!$E$4=1,J1811,1)","v":80000}]
["ID1824",70000,"USD",{"$f":"B1812*VLOOKUP(C1812,tblXrate[],2,0)","v":70000},"Analyst","USA","2 to 3",5,{"$f":"VLOOKUP(F1812,mapping!$L$2:$P$92,2,0)","v":1},{"$f":"VLOOKUP($F1812,mapping!$L$2:$P$92,3,0)","v":48386.69},{"$f":"VLOOKUP($F1812,mapping!$L$2:$P$92,4,0)","v":"Major Advanced Economies (G7)"},{"$f":"$D1812*VLOOKUP($E1812,'Charts data'!$A$2:$B$11,2,0)*VLOOKUP($G1812,'Charts data'!$A$14:$B$18,2,0)/IF('Charts data'!$E$3=1,I1812,1)/IF('Charts data'!$E$4=1,J1812,1)","v":70000}]
["ID1825",214000,"USD",{"$f":"B1813*VLOOKUP(C1813,tblXrate[],2,0)","v":214000},"Controller","USA","8 Hrs",20,{"$f":"VLOOKUP(F1813,mapping!$L$2:$P$92,2,0)","v":1},{"$f":"VLOOKUP($F1813,mapping!$L$2:$P$92,3,0)","v":48386.69},{"$f":"VLOOKUP($F1813,mapping!$L$2:$P$92,4,0)","v":"Major Advanced Economies (G7)"},{"$f":"$D1813*VLOOKUP($E1813,'Charts data'!$A$2:$B$11,2,0)*VLOOKUP($G1813,'Charts data'!$A$14:$B$18,2,0)/IF('Charts data'!$E$3=1,I1813,1)/IF('Charts data'!$E$4=1,J1813,1)","v":214000}]
["ID1826",78000,"USD",{"$f":"B1814*VLOOKUP(C1814,tblXrate[],2,0)","v":78000},"Engineer","USA","8 Hrs",5,{"$f":"VLOOKUP(F1814,mapping!$L$2:$P$92,2,0)","v":1},{"$f":"VLOOKUP($F1814,mapping!$L$2:$P$92,3,0)","v":48386.69},{"$f":"VLOOKUP($F1814,mapping!$L$2:$P$92,4,0)","v":"Major Advanced Economies (G7)"},{"$f":"$D1814*VLOOKUP($E1814,'Charts data'!$A$2:$B$11,2,0)*VLOOKUP($G1814,'Charts data'!$A$14:$B$18,2,0)/IF('Charts data'!$E$3=1,I1814,1)/IF('Charts data'!$E$4=1,J1814,1)","v":78000}]
["ID1827",42307,"USD",{"$f":"B1815*VLOOKUP(C1815,tblXrate[],2,0)","v":42307},"Analyst","USA","2 to 3",25,{"$f":"VLOOKUP(F1815,mapping!$L$2:$P$92,2,0)","v":1},{"$f":"VLOOKUP($F1815,mapping!$L$2:$P$92,3,0)","v":48386.69},{"$f":"VLOOKUP($F1815,mapping!$L$2:$P$92,4,0)","v":"Major Advanced Economies (G7)"},{"$f":"$D1815*VLOOKUP($E1815,'Charts data'!$A$2:$B$11,2,0)*VLOOKUP($G1815,'Charts data'!$A$14:$B$18,2,0)/IF('Charts data'!$E$3=1,I1815,1)/IF('Charts data'!$E$4=1,J1815,1)","v":42307}]
["ID1828",33250,"USD",{"$f":"B1816*VLOOKUP(C1816,tblXrate[],2,0)","v":33250},"Manager","USA","8 Hrs",20,{"$f":"VLOOKUP(F1816,mapping!$L$2:$P$92,2,0)","v":1},{"$f":"VLOOKUP($F1816,mapping!$L$2:$P$92,3,0)","v":48386.69},{"$f":"VLOOKUP($F1816,mapping!$L$2:$P$92,4,0)","v":"Major Advanced Economies (G7)"},{"$f":"$D1816*VLOOKUP($E1816,'Charts data'!$A$2:$B$11,2,0)*VLOOKUP($G1816,'Charts data'!$A$14:$B$18,2,0)/IF('Charts data'!$E$3=1,I1816,1)/IF('Charts data'!$E$4=1,J1816,1)","v":33250}]
["ID1830",120000,"USD",{"$f":"B1817*VLOOKUP(C1817,tblXrate[],2,0)","v":120000},"Accountant","USA","4 to 6",20,{"$f":"VLOOKUP(F1817,mapping!$L$2:$P$92,2,0)","v":1},{"$f":"VLOOKUP($F1817,mapping!$L$2:$P$92,3,0)","v":48386.69},{"$f":"VLOOKUP($F1817,mapping!$L$2:$P$92,4,0)","v":"Major Advanced Economies (G7)"},{"$f":"$D1817*VLOOKUP($E1817,'Charts data'!$A$2:$B$11,2,0)*VLOOKUP($G1817,'Charts data'!$A$14:$B$18,2,0)/IF('Charts data'!$E$3=1,I1817,1)/IF('Charts data'!$E$4=1,J1817,1)","v":120000}]
["ID1839",60000,"USD",{"$f":"B1818*VLOOKUP(C1818,tblXrate[],2,0)","v":60000},"Analyst","USA","4 to 6",15,{"$f":"VLOOKUP(F1818,mapping!$L$2:$P$92,2,0)","v":1},{"$f":"VLOOKUP($F1818,mapping!$L$2:$P$92,3,0)","v":48386.69},{"$f":"VLOOKUP($F1818,mapping!$L$2:$P$92,4,0)","v":"Major Advanced Economies (G7)"},{"$f":"$D1818*VLOOKUP($E1818,'Charts data'!$A$2:$B$11,2,0)*VLOOKUP($G1818,'Charts data'!$A$14:$B$18,2,0)/IF('Charts data'!$E$3=1,I1818,1)/IF('Charts data'!$E$4=1,J1818,1)","v":60000}]
["ID1840",57000,"USD",{"$f":"B1819*VLOOKUP(C1819,tblXrate[],2,0)","v":57000},"Accountant","USA","4 to 6",9,{"$f":"VLOOKUP(F1819,mapping!$L$2:$P$92,2,0)","v":1},{"$f":"VLOOKUP($F1819,mapping!$L$2:$P$92,3,0)","v":48386.69},{"$f":"VLOOKUP($F1819,mapping!$L$2:$P$92,4,0)","v":"Major Advanced Economies (G7)"},{"$f":"$D1819*VLOOKUP($E1819,'Charts data'!$A$2:$B$11,2,0)*VLOOKUP($G1819,'Charts data'!$A$14:$B$18,2,0)/IF('Charts data'!$E$3=1,I1819,1)/IF('Charts data'!$E$4=1,J1819,1)","v":57000}]
["ID1841",40000,"USD",{"$f":"B1820*VLOOKUP(C1820,tblXrate[],2,0)","v":40000},"Analyst","USA","2 to 3",0,{"$f":"VLOOKUP(F1820,mapping!$L$2:$P$92,2,0)","v":1},{"$f":"VLOOKUP($F1820,mapping!$L$2:$P$92,3,0)","v":48386.69},{"$f":"VLOOKUP($F1820,mapping!$L$2:$P$92,4,0)","v":"Major Advanced Economies (G7)"},{"$f":"$D1820*VLOOKUP($E1820,'Charts data'!$A$2:$B$11,2,0)*VLOOKUP($G1820,'Charts data'!$A$14:$B$18,2,0)/IF('Charts data'!$E$3=1,I1820,1)/IF('Charts data'!$E$4=1,J1820,1)","v":40000}]
["ID1842",80000,"USD",{"$f":"B1821*VLOOKUP(C1821,tblXrate[],2,0)","v":80000},"Controller","USA","4 to 6",9,{"$f":"VLOOKUP(F1821,mapping!$L$2:$P$92,2,0)","v":1},{"$f":"VLOOKUP($F1821,mapping!$L$2:$P$92,3,0)","v":48386.69},{"$f":"VLOOKUP($F1821,mapping!$L$2:$P$92,4,0)","v":"Major Advanced Economies (G7)"},{"$f":"$D1821*VLOOKUP($E1821,'Charts data'!$A$2:$B$11,2,0)*VLOOKUP($G1821,'Charts data'!$A$14:$B$18,2,0)/IF('Charts data'!$E$3=1,I1821,1)/IF('Charts data'!$E$4=1,J1821,1)","v":80000}]
["ID1843",118000,"USD",{"$f":"B1822*VLOOKUP(C1822,tblXrate[],2,0)","v":118000},"CXO or Top Mgmt.","USA","4 to 6",6,{"$f":"VLOOKUP(F1822,mapping!$L$2:$P$92,2,0)","v":1},{"$f":"VLOOKUP($F1822,mapping!$L$2:$P$92,3,0)","v":48386.69},{"$f":"VLOOKUP($F1822,mapping!$L$2:$P$92,4,0)","v":"Major Advanced Economies (G7)"},{"$f":"$D1822*VLOOKUP($E1822,'Charts data'!$A$2:$B$11,2,0)*VLOOKUP($G1822,'Charts data'!$A$14:$B$18,2,0)/IF('Charts data'!$E$3=1,I1822,1)/IF('Charts data'!$E$4=1,J1822,1)","v":118000}]
["ID1847",50000,"USD",{"$f":"B1823*VLOOKUP(C1823,tblXrate[],2,0)","v":50000},"Analyst","USA","8 Hrs",15,{"$f":"VLOOKUP(F1823,mapping!$L$2:$P$92,2,0)","v":1},{"$f":"VLOOKUP($F1823,mapping!$L$2:$P$92,3,0)","v":48386.69},{"$f":"VLOOKUP($F1823,mapping!$L$2:$P$92,4,0)","v":"Major Advanced Economies (G7)"},{"$f":"$D1823*VLOOKUP($E1823,'Charts data'!$A$2:$B$11,2,0)*VLOOKUP($G1823,'Charts data'!$A$14:$B$18,2,0)/IF('Charts data'!$E$3=1,I1823,1)/IF('Charts data'!$E$4=1,J1823,1)","v":50000}]
["ID1849",60000,"USD",{"$f":"B1824*VLOOKUP(C1824,tblXrate[],2,0)","v":60000},"Analyst","USA","2 to 3",3,{"$f":"VLOOKUP(F1824,mapping!$L$2:$P$92,2,0)","v":1},{"$f":"VLOOKUP($F1824,mapping!$L$2:$P$92,3,0)","v":48386.69},{"$f":"VLOOKUP($F1824,mapping!$L$2:$P$92,4,0)","v":"Major Advanced Economies (G7)"},{"$f":"$D1824*VLOOKUP($E1824,'Charts data'!$A$2:$B$11,2,0)*VLOOKUP($G1824,'Charts data'!$A$14:$B$18,2,0)/IF('Charts data'!$E$3=1,I1824,1)/IF('Charts data'!$E$4=1,J1824,1)","v":60000}]
["ID1851",40000,"USD",{"$f":"B1825*VLOOKUP(C1825,tblXrate[],2,0)","v":40000},"Specialist","USA","4 to 6",1,{"$f":"VLOOKUP(F1825,mapping!$L$2:$P$92,2,0)","v":1},{"$f":"VLOOKUP($F1825,mapping!$L$2:$P$92,3,0)","v":48386.69},{"$f":"VLOOKUP($F1825,mapping!$L$2:$P$92,4,0)","v":"Major Advanced Economies (G7)"},{"$f":"$D1825*VLOOKUP($E1825,'Charts data'!$A$2:$B$11,2,0)*VLOOKUP($G1825,'Charts data'!$A$14:$B$18,2,0)/IF('Charts data'!$E$3=1,I1825,1)/IF('Charts data'!$E$4=1,J1825,1)","v":40000}]
["ID1852",85000,"USD",{"$f":"B1826*VLOOKUP(C1826,tblXrate[],2,0)","v":85000},"CXO or Top Mgmt.","USA","2 to 3",15,{"$f":"VLOOKUP(F1826,mapping!$L$2:$P$92,2,0)","v":1},{"$f":"VLOOKUP($F1826,mapping!$L$2:$P$92,3,0)","v":48386.69},{"$f":"VLOOKUP($F1826,mapping!$L$2:$P$92,4,0)","v":"Major Advanced Economies (G7)"},{"$f":"$D1826*VLOOKUP($E1826,'Charts data'!$A$2:$B$11,2,0)*VLOOKUP($G1826,'Charts data'!$A$14:$B$18,2,0)/IF('Charts data'!$E$3=1,I1826,1)/IF('Charts data'!$E$4=1,J1826,1)","v":85000}]
["ID1855",29000,"USD",{"$f":"B1827*VLOOKUP(C1827,tblXrate[],2,0)","v":29000},"Engineer","USA","8 Hrs",1,{"$f":"VLOOKUP(F1827,mapping!$L$2:$P$92,2,0)","v":1},{"$f":"VLOOKUP($F1827,mapping!$L$2:$P$92,3,0)","v":48386.69},{"$f":"VLOOKUP($F1827,mapping!$L$2:$P$92,4,0)","v":"Major Advanced Economies (G7)"},{"$f":"$D1827*VLOOKUP($E1827,'Charts data'!$A$2:$B$11,2,0)*VLOOKUP($G1827,'Charts data'!$A$14:$B$18,2,0)/IF('Charts data'!$E$3=1,I1827,1)/IF('Charts data'!$E$4=1,J1827,1)","v":29000}]
["ID1857",48000,"USD",{"$f":"B1828*VLOOKUP(C1828,tblXrate[],2,0)","v":48000},"Accountant","USA","4 to 6",1,{"$f":"VLOOKUP(F1828,mapping!$L$2:$P$92,2,0)","v":1},{"$f":"VLOOKUP($F1828,mapping!$L$2:$P$92,3,0)","v":48386.69},{"$f":"VLOOKUP($F1828,mapping!$L$2:$P$92,4,0)","v":"Major Advanced Economies (G7)"},{"$f":"$D1828*VLOOKUP($E1828,'Charts data'!$A$2:$B$11,2,0)*VLOOKUP($G1828,'Charts data'!$A$14:$B$18,2,0)/IF('Charts data'!$E$3=1,I1828,1)/IF('Charts data'!$E$4=1,J1828,1)","v":48000}]
["ID1858",48000,"USD",{"$f":"B1829*VLOOKUP(C1829,tblXrate[],2,0)","v":48000},"Accountant","USA","4 to 6",1,{"$f":"VLOOKUP(F1829,mapping!$L$2:$P$92,2,0)","v":1},{"$f":"VLOOKUP($F1829,mapping!$L$2:$P$92,3,0)","v":48386.69},{"$f":"VLOOKUP($F1829,mapping!$L$2:$P$92,4,0)","v":"Major Advanced Economies (G7)"},{"$f":"$D1829*VLOOKUP($E1829,'Charts data'!$A$2:$B$11,2,0)*VLOOKUP($G1829,'Charts data'!$A$14:$B$18,2,0)/IF('Charts data'!$E$3=1,I1829,1)/IF('Charts data'!$E$4=1,J1829,1)","v":48000}]
["ID1865",112000,"USD",{"$f":"B1830*VLOOKUP(C1830,tblXrate[],2,0)","v":112000},"Manager","USA","2 to 3",8,{"$f":"VLOOKUP(F1830,mapping!$L$2:$P$92,2,0)","v":1},{"$f":"VLOOKUP($F1830,mapping!$L$2:$P$92,3,0)","v":48386.69},{"$f":"VLOOKUP($F1830,mapping!$L$2:$P$92,4,0)","v":"Major Advanced Economies (G7)"},{"$f":"$D1830*VLOOKUP($E1830,'Charts data'!$A$2:$B$11,2,0)*VLOOKUP($G1830,'Charts data'!$A$14:$B$18,2,0)/IF('Charts data'!$E$3=1,I1830,1)/IF('Charts data'!$E$4=1,J1830,1)","v":112000}]
["ID1869",72000,"USD",{"$f":"B1831*VLOOKUP(C1831,tblXrate[],2,0)","v":72000},"Manager","USA","4 to 6",10,{"$f":"VLOOKUP(F1831,mapping!$L$2:$P$92,2,0)","v":1},{"$f":"VLOOKUP($F1831,mapping!$L$2:$P$92,3,0)","v":48386.69},{"$f":"VLOOKUP($F1831,mapping!$L$2:$P$92,4,0)","v":"Major Advanced Economies (G7)"},{"$f":"$D1831*VLOOKUP($E1831,'Charts data'!$A$2:$B$11,2,0)*VLOOKUP($G1831,'Charts data'!$A$14:$B$18,2,0)/IF('Charts data'!$E$3=1,I1831,1)/IF('Charts data'!$E$4=1,J1831,1)","v":72000}]
["ID1870",60000,"USD",{"$f":"B1832*VLOOKUP(C1832,tblXrate[],2,0)","v":60000},"Analyst","USA","8 Hrs",10,{"$f":"VLOOKUP(F1832,mapping!$L$2:$P$92,2,0)","v":1},{"$f":"VLOOKUP($F1832,mapping!$L$2:$P$92,3,0)","v":48386.69},{"$f":"VLOOKUP($F1832,mapping!$L$2:$P$92,4,0)","v":"Major Advanced Economies (G7)"},{"$f":"$D1832*VLOOKUP($E1832,'Charts data'!$A$2:$B$11,2,0)*VLOOKUP($G1832,'Charts data'!$A$14:$B$18,2,0)/IF('Charts data'!$E$3=1,I1832,1)/IF('Charts data'!$E$4=1,J1832,1)","v":60000}]
["ID1871",67000,"USD",{"$f":"B1833*VLOOKUP(C1833,tblXrate[],2,0)","v":67000},"Analyst","USA","4 to 6",6,{"$f":"VLOOKUP(F1833,mapping!$L$2:$P$92,2,0)","v":1},{"$f":"VLOOKUP($F1833,mapping!$L$2:$P$92,3,0)","v":48386.69},{"$f":"VLOOKUP($F1833,mapping!$L$2:$P$92,4,0)","v":"Major Advanced Economies (G7)"},{"$f":"$D1833*VLOOKUP($E1833,'Charts data'!$A$2:$B$11,2,0)*VLOOKUP($G1833,'Charts data'!$A$14:$B$18,2,0)/IF('Charts data'!$E$3=1,I1833,1)/IF('Charts data'!$E$4=1,J1833,1)","v":67000}]
["ID1872",54000,"USD",{"$f":"B1834*VLOOKUP(C1834,tblXrate[],2,0)","v":54000},"Analyst","USA","4 to 6",18,{"$f":"VLOOKUP(F1834,mapping!$L$2:$P$92,2,0)","v":1},{"$f":"VLOOKUP($F1834,mapping!$L$2:$P$92,3,0)","v":48386.69},{"$f":"VLOOKUP($F1834,mapping!$L$2:$P$92,4,0)","v":"Major Advanced Economies (G7)"},{"$f":"$D1834*VLOOKUP($E1834,'Charts data'!$A$2:$B$11,2,0)*VLOOKUP($G1834,'Charts data'!$A$14:$B$18,2,0)/IF('Charts data'!$E$3=1,I1834,1)/IF('Charts data'!$E$4=1,J1834,1)","v":54000}]
["ID1874",63000,"USD",{"$f":"B1835*VLOOKUP(C1835,tblXrate[],2,0)","v":63000},"Analyst","USA","4 to 6",6,{"$f":"VLOOKUP(F1835,mapping!$L$2:$P$92,2,0)","v":1},{"$f":"VLOOKUP($F1835,mapping!$L$2:$P$92,3,0)","v":48386.69},{"$f":"VLOOKUP($F1835,mapping!$L$2:$P$92,4,0)","v":"Major Advanced Economies (G7)"},{"$f":"$D1835*VLOOKUP($E1835,'Charts data'!$A$2:$B$11,2,0)*VLOOKUP($G1835,'Charts data'!$A$14:$B$18,2,0)/IF('Charts data'!$E$3=1,I1835,1)/IF('Charts data'!$E$4=1,J1835,1)","v":63000}]
["ID1875",63000,"USD",{"$f":"B1836*VLOOKUP(C1836,tblXrate[],2,0)","v":63000},"Analyst","USA","8 Hrs",1,{"$f":"VLOOKUP(F1836,mapping!$L$2:$P$92,2,0)","v":1},{"$f":"VLOOKUP($F1836,mapping!$L$2:$P$92,3,0)","v":48386.69},{"$f":"VLOOKUP($F1836,mapping!$L$2:$P$92,4,0)","v":"Major Advanced Economies (G7)"},{"$f":"$D1836*VLOOKUP($E1836,'Charts data'!$A$2:$B$11,2,0)*VLOOKUP($G1836,'Charts data'!$A$14:$B$18,2,0)/IF('Charts data'!$E$3=1,I1836,1)/IF('Charts data'!$E$4=1,J1836,1)","v":63000}]
["ID1891",46000,"USD",{"$f":"B1837*VLOOKUP(C1837,tblXrate[],2,0)","v":46000},"Analyst","USA","8 Hrs",1,{"$f":"VLOOKUP(F1837,mapping!$L$2:$P$92,2,0)","v":1},{"$f":"VLOOKUP($F1837,mapping!$L$2:$P$92,3,0)","v":48386.69},{"$f":"VLOOKUP($F1837,mapping!$L$2:$P$92,4,0)","v":"Major Advanced Economies (G7)"},{"$f":"$D1837*VLOOKUP($E1837,'Charts data'!$A$2:$B$11,2,0)*VLOOKUP($G1837,'Charts data'!$A$14:$B$18,2,0)/IF('Charts data'!$E$3=1,I1837,1)/IF('Charts data'!$E$4=1,J1837,1)","v":46000}]
["ID1896",45000,"USD",{"$f":"B1838*VLOOKUP(C1838,tblXrate[],2,0)","v":45000},"Accountant","USA","2 to 3",5,{"$f":"VLOOKUP(F1838,mapping!$L$2:$P$92,2,0)","v":1},{"$f":"VLOOKUP($F1838,mapping!$L$2:$P$92,3,0)","v":48386.69},{"$f":"VLOOKUP($F1838,mapping!$L$2:$P$92,4,0)","v":"Major Advanced Economies (G7)"},{"$f":"$D1838*VLOOKUP($E1838,'Charts data'!$A$2:$B$11,2,0)*VLOOKUP($G1838,'Charts data'!$A$14:$B$18,2,0)/IF('Charts data'!$E$3=1,I1838,1)/IF('Charts data'!$E$4=1,J1838,1)","v":45000}]
["ID1898",43000,"USD",{"$f":"B1839*VLOOKUP(C1839,tblXrate[],2,0)","v":43000},"Analyst","USA","4 to 6",5,{"$f":"VLOOKUP(F1839,mapping!$L$2:$P$92,2,0)","v":1},{"$f":"VLOOKUP($F1839,mapping!$L$2:$P$92,3,0)","v":48386.69},{"$f":"VLOOKUP($F1839,mapping!$L$2:$P$92,4,0)","v":"Major Advanced Economies (G7)"},{"$f":"$D1839*VLOOKUP($E1839,'Charts data'!$A$2:$B$11,2,0)*VLOOKUP($G1839,'Charts data'!$A$14:$B$18,2,0)/IF('Charts data'!$E$3=1,I1839,1)/IF('Charts data'!$E$4=1,J1839,1)","v":43000}]
["ID1900",48000,"USD",{"$f":"B1840*VLOOKUP(C1840,tblXrate[],2,0)","v":48000},"Analyst","USA","4 to 6",12,{"$f":"VLOOKUP(F1840,mapping!$L$2:$P$92,2,0)","v":1},{"$f":"VLOOKUP($F1840,mapping!$L$2:$P$92,3,0)","v":48386.69},{"$f":"VLOOKUP($F1840,mapping!$L$2:$P$92,4,0)","v":"Major Advanced Economies (G7)"},{"$f":"$D1840*VLOOKUP($E1840,'Charts data'!$A$2:$B$11,2,0)*VLOOKUP($G1840,'Charts data'!$A$14:$B$18,2,0)/IF('Charts data'!$E$3=1,I1840,1)/IF('Charts data'!$E$4=1,J1840,1)","v":48000}]
["ID1910",62000,"USD",{"$f":"B1841*VLOOKUP(C1841,tblXrate[],2,0)","v":62000},"Analyst","USA","4 to 6",4,{"$f":"VLOOKUP(F1841,mapping!$L$2:$P$92,2,0)","v":1},{"$f":"VLOOKUP($F1841,mapping!$L$2:$P$92,3,0)","v":48386.69},{"$f":"VLOOKUP($F1841,mapping!$L$2:$P$92,4,0)","v":"Major Advanced Economies (G7)"},{"$f":"$D1841*VLOOKUP($E1841,'Charts data'!$A$2:$B$11,2,0)*VLOOKUP($G1841,'Charts data'!$A$14:$B$18,2,0)/IF('Charts data'!$E$3=1,I1841,1)/IF('Charts data'!$E$4=1,J1841,1)","v":62000}]
["ID1911",48000,"USD",{"$f":"B1842*VLOOKUP(C1842,tblXrate[],2,0)","v":48000},"Analyst","USA","4 to 6",1,{"$f":"VLOOKUP(F1842,mapping!$L$2:$P$92,2,0)","v":1},{"$f":"VLOOKUP($F1842,mapping!$L$2:$P$92,3,0)","v":48386.69},{"$f":"VLOOKUP($F1842,mapping!$L$2:$P$92,4,0)","v":"Major Advanced Economies (G7)"},{"$f":"$D1842*VLOOKUP($E1842,'Charts data'!$A$2:$B$11,2,0)*VLOOKUP($G1842,'Charts data'!$A$14:$B$18,2,0)/IF('Charts data'!$E$3=1,I1842,1)/IF('Charts data'!$E$4=1,J1842,1)","v":48000}]
["ID1915",75000,"USD",{"$f":"B1843*VLOOKUP(C1843,tblXrate[],2,0)","v":75000},"Analyst","USA","1 or 2",3,{"$f":"VLOOKUP(F1843,mapping!$L$2:$P$92,2,0)","v":1},{"$f":"VLOOKUP($F1843,mapping!$L$2:$P$92,3,0)","v":48386.69},{"$f":"VLOOKUP($F1843,mapping!$L$2:$P$92,4,0)","v":"Major Advanced Economies (G7)"},{"$f":"$D1843*VLOOKUP($E1843,'Charts data'!$A$2:$B$11,2,0)*VLOOKUP($G1843,'Charts data'!$A$14:$B$18,2,0)/IF('Charts data'!$E$3=1,I1843,1)/IF('Charts data'!$E$4=1,J1843,1)","v":75000}]
["ID1919",110000,"USD",{"$f":"B1844*VLOOKUP(C1844,tblXrate[],2,0)","v":110000},"CXO or Top Mgmt.","USA","4 to 6",10,{"$f":"VLOOKUP(F1844,mapping!$L$2:$P$92,2,0)","v":1},{"$f":"VLOOKUP($F1844,mapping!$L$2:$P$92,3,0)","v":48386.69},{"$f":"VLOOKUP($F1844,mapping!$L$2:$P$92,4,0)","v":"Major Advanced Economies (G7)"},{"$f":"$D1844*VLOOKUP($E1844,'Charts data'!$A$2:$B$11,2,0)*VLOOKUP($G1844,'Charts data'!$A$14:$B$18,2,0)/IF('Charts data'!$E$3=1,I1844,1)/IF('Charts data'!$E$4=1,J1844,1)","v":110000}]
["ID1920",50000,"USD",{"$f":"B1845*VLOOKUP(C1845,tblXrate[],2,0)","v":50000},"Analyst","USA","8 Hrs",3.5,{"$f":"VLOOKUP(F1845,mapping!$L$2:$P$92,2,0)","v":1},{"$f":"VLOOKUP($F1845,mapping!$L$2:$P$92,3,0)","v":48386.69},{"$f":"VLOOKUP($F1845,mapping!$L$2:$P$92,4,0)","v":"Major Advanced Economies (G7)"},{"$f":"$D1845*VLOOKUP($E1845,'Charts data'!$A$2:$B$11,2,0)*VLOOKUP($G1845,'Charts data'!$A$14:$B$18,2,0)/IF('Charts data'!$E$3=1,I1845,1)/IF('Charts data'!$E$4=1,J1845,1)","v":50000}]
["ID1921",46000,"USD",{"$f":"B1846*VLOOKUP(C1846,tblXrate[],2,0)","v":46000},"Analyst","USA","4 to 6",8,{"$f":"VLOOKUP(F1846,mapping!$L$2:$P$92,2,0)","v":1},{"$f":"VLOOKUP($F1846,mapping!$L$2:$P$92,3,0)","v":48386.69},{"$f":"VLOOKUP($F1846,mapping!$L$2:$P$92,4,0)","v":"Major Advanced Economies (G7)"},{"$f":"$D1846*VLOOKUP($E1846,'Charts data'!$A$2:$B$11,2,0)*VLOOKUP($G1846,'Charts data'!$A$14:$B$18,2,0)/IF('Charts data'!$E$3=1,I1846,1)/IF('Charts data'!$E$4=1,J1846,1)","v":46000}]
["ID1922",115000,"USD",{"$f":"B1847*VLOOKUP(C1847,tblXrate[],2,0)","v":115000},"Analyst","USA","8 Hrs",15,{"$f":"VLOOKUP(F1847,mapping!$L$2:$P$92,2,0)","v":1},{"$f":"VLOOKUP($F1847,mapping!$L$2:$P$92,3,0)","v":48386.69},{"$f":"VLOOKUP($F1847,mapping!$L$2:$P$92,4,0)","v":"Major Advanced Economies (G7)"},{"$f":"$D1847*VLOOKUP($E1847,'Charts data'!$A$2:$B$11,2,0)*VLOOKUP($G1847,'Charts data'!$A$14:$B$18,2,0)/IF('Charts data'!$E$3=1,I1847,1)/IF('Charts data'!$E$4=1,J1847,1)","v":115000}]
["ID1930",40000,"USD",{"$f":"B1848*VLOOKUP(C1848,tblXrate[],2,0)","v":40000},"Analyst","USA","1 or 2",3,{"$f":"VLOOKUP(F1848,mapping!$L$2:$P$92,2,0)","v":1},{"$f":"VLOOKUP($F1848,mapping!$L$2:$P$92,3,0)","v":48386.69},{"$f":"VLOOKUP($F1848,mapping!$L$2:$P$92,4,0)","v":"Major Advanced Economies (G7)"},{"$f":"$D1848*VLOOKUP($E1848,'Charts data'!$A$2:$B$11,2,0)*VLOOKUP($G1848,'Charts data'!$A$14:$B$18,2,0)/IF('Charts data'!$E$3=1,I1848,1)/IF('Charts data'!$E$4=1,J1848,1)","v":40000}]
["ID1931",46359,"USD",{"$f":"B1849*VLOOKUP(C1849,tblXrate[],2,0)","v":46359},"Analyst","USA","8 Hrs",5,{"$f":"VLOOKUP(F1849,mapping!$L$2:$P$92,2,0)","v":1},{"$f":"VLOOKUP($F1849,mapping!$L$2:$P$92,3,0)","v":48386.69},{"$f":"VLOOKUP($F1849,mapping!$L$2:$P$92,4,0)","v":"Major Advanced Economies (G7)"},{"$f":"$D1849*VLOOKUP($E1849,'Charts data'!$A$2:$B$11,2,0)*VLOOKUP($G1849,'Charts data'!$A$14:$B$18,2,0)/IF('Charts data'!$E$3=1,I1849,1)/IF('Charts data'!$E$4=1,J1849,1)","v":46359}]
["ID1932",70000,"USD",{"$f":"B1850*VLOOKUP(C1850,tblXrate[],2,0)","v":70000},"Analyst","USA","4 to 6",10,{"$f":"VLOOKUP(F1850,mapping!$L$2:$P$92,2,0)","v":1},{"$f":"VLOOKUP($F1850,mapping!$L$2:$P$92,3,0)","v":48386.69},{"$f":"VLOOKUP($F1850,mapping!$L$2:$P$92,4,0)","v":"Major Advanced Economies (G7)"},{"$f":"$D1850*VLOOKUP($E1850,'Charts data'!$A$2:$B$11,2,0)*VLOOKUP($G1850,'Charts data'!$A$14:$B$18,2,0)/IF('Charts data'!$E$3=1,I1850,1)/IF('Charts data'!$E$4=1,J1850,1)","v":70000}]
["ID0890",10000,"USD",{"$f":"B1851*VLOOKUP(C1851,tblXrate[],2,0)","v":10000},"Accountant","Vietnam","4 to 6",4,{"$f":"VLOOKUP(F1851,mapping!$L$2:$P$92,2,0)","v":0.40490943938667939},{"$f":"VLOOKUP($F1851,mapping!$L$2:$P$92,3,0)","v":1374.01},{"$f":"VLOOKUP($F1851,mapping!$L$2:$P$92,4,0)","v":"Developing Asia"},{"$f":"$D1851*VLOOKUP($E1851,'Charts data'!$A$2:$B$11,2,0)*VLOOKUP($G1851,'Charts data'!$A$14:$B$18,2,0)/IF('Charts data'!$E$3=1,I1851,1)/IF('Charts data'!$E$4=1,J1851,1)","v":10000}]
["ID1533",10000,"USD",{"$f":"B1852*VLOOKUP(C1852,tblXrate[],2,0)","v":10000},"Manager","Vietnam","2 to 3",8,{"$f":"VLOOKUP(F1852,mapping!$L$2:$P$92,2,0)","v":0.40490943938667939},{"$f":"VLOOKUP($F1852,mapping!$L$2:$P$92,3,0)","v":1374.01},{"$f":"VLOOKUP($F1852,mapping!$L$2:$P$92,4,0)","v":"Developing Asia"},{"$f":"$D1852*VLOOKUP($E1852,'Charts data'!$A$2:$B$11,2,0)*VLOOKUP($G1852,'Charts data'!$A$14:$B$18,2,0)/IF('Charts data'!$E$3=1,I1852,1)/IF('Charts data'!$E$4=1,J1852,1)","v":10000}]
["ID0950",20000,"USD",{"$f":"B1853*VLOOKUP(C1853,tblXrate[],2,0)","v":20000},"Accountant","Zambia","8 Hrs",2,{"$f":"VLOOKUP(F1853,mapping!$L$2:$P$92,2,0)","v":0.82520696324951637},{"$f":"VLOOKUP($F1853,mapping!$L$2:$P$92,3,0)","v":1413.77},{"$f":"VLOOKUP($F1853,mapping!$L$2:$P$92,4,0)","v":"Sub-Saharan Africa"},{"$f":"$D1853*VLOOKUP($E1853,'Charts data'!$A$2:$B$11,2,0)*VLOOKUP($G1853,'Charts data'!$A$14:$B$18,2,0)/IF('Charts data'!$E$3=1,I1853,1)/IF('Charts data'!$E$4=1,J1853,1)","v":20000}]
["ID1151",6000,"USD",{"$f":"B1854*VLOOKUP(C1854,tblXrate[],2,0)","v":6000},"Accountant","Zambia","8 Hrs",5,{"$f":"VLOOKUP(F1854,mapping!$L$2:$P$92,2,0)","v":0.82520696324951637},{"$f":"VLOOKUP($F1854,mapping!$L$2:$P$92,3,0)","v":1413.77},{"$f":"VLOOKUP($F1854,mapping!$L$2:$P$92,4,0)","v":"Sub-Saharan Africa"},{"$f":"$D1854*VLOOKUP($E1854,'Charts data'!$A$2:$B$11,2,0)*VLOOKUP($G1854,'Charts data'!$A$14:$B$18,2,0)/IF('Charts data'!$E$3=1,I1854,1)/IF('Charts data'!$E$4=1,J1854,1)","v":6000}]
["ID0917",36400,"USD",{"$f":"B1855*VLOOKUP(C1855,tblXrate[],2,0)","v":36400},"Analyst","Zimbabwe","4 to 6",20,{"$f":"VLOOKUP(F1855,mapping!$L$2:$P$92,2,0)","v":0.42055816523901629},{"$f":"VLOOKUP($F1855,mapping!$L$2:$P$92,3,0)","v":741.375},{"$f":"VLOOKUP($F1855,mapping!$L$2:$P$92,4,0)","v":"Sub-Saharan Africa"},{"$f":"$D1855*VLOOKUP($E1855,'Charts data'!$A$2:$B$11,2,0)*VLOOKUP($G1855,'Charts data'!$A$14:$B$18,2,0)/IF('Charts data'!$E$3=1,I1855,1)/IF('Charts data'!$E$4=1,J1855,1)","v":36400}]
["ID0485",1080000,"ZAR",{"$f":"B1856*VLOOKUP(C1856,tblXrate[],2,0)","v":131675.52225194403},"Manager","South Africa","2 to 3",null,{"$f":"VLOOKUP(F1856,mapping!$L$2:$P$92,2,0)","v":0.65008693022904218},{"$f":"VLOOKUP($F1856,mapping!$L$2:$P$92,3,0)","v":8066.15},{"$f":"VLOOKUP($F1856,mapping!$L$2:$P$92,4,0)","v":"Sub-Saharan Africa"},{"$f":"$D1856*VLOOKUP($E1856,'Charts data'!$A$2:$B$11,2,0)*VLOOKUP($G1856,'Charts data'!$A$14:$B$18,2,0)/IF('Charts data'!$E$3=1,I1856,1)/IF('Charts data'!$E$4=1,J1856,1)","v":131675.52225194403}]
["ID0804",900000,"ZAR",{"$f":"B1857*VLOOKUP(C1857,tblXrate[],2,0)","v":109729.60187662003},"Analyst","South Africa","8 Hrs",40,{"$f":"VLOOKUP(F1857,mapping!$L$2:$P$92,2,0)","v":0.65008693022904218},{"$f":"VLOOKUP($F1857,mapping!$L$2:$P$92,3,0)","v":8066.15},{"$f":"VLOOKUP($F1857,mapping!$L$2:$P$92,4,0)","v":"Sub-Saharan Africa"},{"$f":"$D1857*VLOOKUP($E1857,'Charts data'!$A$2:$B$11,2,0)*VLOOKUP($G1857,'Charts data'!$A$14:$B$18,2,0)/IF('Charts data'!$E$3=1,I1857,1)/IF('Charts data'!$E$4=1,J1857,1)","v":109729.60187662003}]
["ID0865",134000,"ZAR",{"$f":"B1858*VLOOKUP(C1858,tblXrate[],2,0)","v":16337.518501630093},"Analyst","South Africa","4 to 6",2,{"$f":"VLOOKUP(F1858,mapping!$L$2:$P$92,2,0)","v":0.65008693022904218},{"$f":"VLOOKUP($F1858,mapping!$L$2:$P$92,3,0)","v":8066.15},{"$f":"VLOOKUP($F1858,mapping!$L$2:$P$92,4,0)","v":"Sub-Saharan Africa"},{"$f":"$D1858*VLOOKUP($E1858,'Charts data'!$A$2:$B$11,2,0)*VLOOKUP($G1858,'Charts data'!$A$14:$B$18,2,0)/IF('Charts data'!$E$3=1,I1858,1)/IF('Charts data'!$E$4=1,J1858,1)","v":16337.518501630093}]
["ID1017",308500,"ZAR",{"$f":"B1859*VLOOKUP(C1859,tblXrate[],2,0)","v":37612.869087708088},"Manager","South Africa","8 Hrs",3,{"$f":"VLOOKUP(F1859,mapping!$L$2:$P$92,2,0)","v":0.65008693022904218},{"$f":"VLOOKUP($F1859,mapping!$L$2:$P$92,3,0)","v":8066.15},{"$f":"VLOOKUP($F1859,mapping!$L$2:$P$92,4,0)","v":"Sub-Saharan Africa"},{"$f":"$D1859*VLOOKUP($E1859,'Charts data'!$A$2:$B$11,2,0)*VLOOKUP($G1859,'Charts data'!$A$14:$B$18,2,0)/IF('Charts data'!$E$3=1,I1859,1)/IF('Charts data'!$E$4=1,J1859,1)","v":37612.869087708088}]
["ID1059",240000,"ZAR",{"$f":"B1860*VLOOKUP(C1860,tblXrate[],2,0)","v":29261.227167098674},"Accountant","South Africa","2 to 3",20,{"$f":"VLOOKUP(F1860,mapping!$L$2:$P$92,2,0)","v":0.65008693022904218},{"$f":"VLOOKUP($F1860,mapping!$L$2:$P$92,3,0)","v":8066.15},{"$f":"VLOOKUP($F1860,mapping!$L$2:$P$92,4,0)","v":"Sub-Saharan Africa"},{"$f":"$D1860*VLOOKUP($E1860,'Charts data'!$A$2:$B$11,2,0)*VLOOKUP($G1860,'Charts data'!$A$14:$B$18,2,0)/IF('Charts data'!$E$3=1,I1860,1)/IF('Charts data'!$E$4=1,J1860,1)","v":29261.227167098674}]
["ID1060",120000,"ZAR",{"$f":"B1861*VLOOKUP(C1861,tblXrate[],2,0)","v":14630.613583549337},"CXO or Top Mgmt.","South Africa","4 to 6",10,{"$f":"VLOOKUP(F1861,mapping!$L$2:$P$92,2,0)","v":0.65008693022904218},{"$f":"VLOOKUP($F1861,mapping!$L$2:$P$92,3,0)","v":8066.15},{"$f":"VLOOKUP($F1861,mapping!$L$2:$P$92,4,0)","v":"Sub-Saharan Africa"},{"$f":"$D1861*VLOOKUP($E1861,'Charts data'!$A$2:$B$11,2,0)*VLOOKUP($G1861,'Charts data'!$A$14:$B$18,2,0)/IF('Charts data'!$E$3=1,I1861,1)/IF('Charts data'!$E$4=1,J1861,1)","v":14630.613583549337}]
["ID1116",100000,"ZAR",{"$f":"B1862*VLOOKUP(C1862,tblXrate[],2,0)","v":12192.177986291113},"Manager","South Africa","8 Hrs",15,{"$f":"VLOOKUP(F1862,mapping!$L$2:$P$92,2,0)","v":0.65008693022904218},{"$f":"VLOOKUP($F1862,mapping!$L$2:$P$92,3,0)","v":8066.15},{"$f":"VLOOKUP($F1862,mapping!$L$2:$P$92,4,0)","v":"Sub-Saharan Africa"},{"$f":"$D1862*VLOOKUP($E1862,'Charts data'!$A$2:$B$11,2,0)*VLOOKUP($G1862,'Charts data'!$A$14:$B$18,2,0)/IF('Charts data'!$E$3=1,I1862,1)/IF('Charts data'!$E$4=1,J1862,1)","v":12192.177986291113}]
["ID1158",366252,"ZAR",{"$f":"B1863*VLOOKUP(C1863,tblXrate[],2,0)","v":44654.095718350931},"Accountant","South Africa","8 Hrs",15,{"$f":"VLOOKUP(F1863,mapping!$L$2:$P$92,2,0)","v":0.65008693022904218},{"$f":"VLOOKUP($F1863,mapping!$L$2:$P$92,3,0)","v":8066.15},{"$f":"VLOOKUP($F1863,mapping!$L$2:$P$92,4,0)","v":"Sub-Saharan Africa"},{"$f":"$D1863*VLOOKUP($E1863,'Charts data'!$A$2:$B$11,2,0)*VLOOKUP($G1863,'Charts data'!$A$14:$B$18,2,0)/IF('Charts data'!$E$3=1,I1863,1)/IF('Charts data'!$E$4=1,J1863,1)","v":44654.095718350931}]
["ID1460",264000,"ZAR",{"$f":"B1864*VLOOKUP(C1864,tblXrate[],2,0)","v":32187.34988380854},"Analyst","South Africa","8 Hrs",2,{"$f":"VLOOKUP(F1864,mapping!$L$2:$P$92,2,0)","v":0.65008693022904218},{"$f":"VLOOKUP($F1864,mapping!$L$2:$P$92,3,0)","v":8066.15},{"$f":"VLOOKUP($F1864,mapping!$L$2:$P$92,4,0)","v":"Sub-Saharan Africa"},{"$f":"$D1864*VLOOKUP($E1864,'Charts data'!$A$2:$B$11,2,0)*VLOOKUP($G1864,'Charts data'!$A$14:$B$18,2,0)/IF('Charts data'!$E$3=1,I1864,1)/IF('Charts data'!$E$4=1,J1864,1)","v":32187.34988380854}]
["ID0424",12000,"USD",48000,"Analyst","Islamic Republic of Iran","2 to 3",null,{"$f":"VLOOKUP(F1865,mapping!$L$2:$P$92,2,0)","v":0.44990367346938775},{"$f":"VLOOKUP($F1865,mapping!$L$2:$P$92,3,0)","v":6359.76},{"$f":"VLOOKUP($F1865,mapping!$L$2:$P$92,4,0)","v":"Middle East and North Africa"},{"$f":"$D1865*VLOOKUP($E1865,'Charts data'!$A$2:$B$11,2,0)*VLOOKUP($G1865,'Charts data'!$A$14:$B$18,2,0)/IF('Charts data'!$E$3=1,I1865,1)/IF('Charts data'!$E$4=1,J1865,1)","v":48000}]
["ID0941",30000,"USD",5000,"Accountant","Islamic Republic of Iran","2 to 3",30,{"$f":"VLOOKUP(F1866,mapping!$L$2:$P$92,2,0)","v":0.44990367346938775},{"$f":"VLOOKUP($F1866,mapping!$L$2:$P$92,3,0)","v":6359.76},{"$f":"VLOOKUP($F1866,mapping!$L$2:$P$92,4,0)","v":"Middle East and North Africa"},{"$f":"$D1866*VLOOKUP($E1866,'Charts data'!$A$2:$B$11,2,0)*VLOOKUP($G1866,'Charts data'!$A$14:$B$18,2,0)/IF('Charts data'!$E$3=1,I1866,1)/IF('Charts data'!$E$4=1,J1866,1)","v":5000}]
["ID1477",78000,"ZAR",{"$f":"B1867*VLOOKUP(C1867,tblXrate[],2,0)","v":9509.8988293070688},"Controller","South Africa","4 to 6",2,{"$f":"VLOOKUP(F1867,mapping!$L$2:$P$92,2,0)","v":0.65008693022904218},{"$f":"VLOOKUP($F1867,mapping!$L$2:$P$92,3,0)","v":8066.15},{"$f":"VLOOKUP($F1867,mapping!$L$2:$P$92,4,0)","v":"Sub-Saharan Africa"},{"$f":"$D1867*VLOOKUP($E1867,'Charts data'!$A$2:$B$11,2,0)*VLOOKUP($G1867,'Charts data'!$A$14:$B$18,2,0)/IF('Charts data'!$E$3=1,I1867,1)/IF('Charts data'!$E$4=1,J1867,1)","v":9509.8988293070688}]

{"sheet":"Charts data","index":3,"n_rows":1919,"n_cols":16,"rows_kept":1919,"cut":false,"hidden":false,"merged":[[19,2,19,7],[19,8,19,13],[33,5,33,7],[33,1,33,3],[33,9,33,10]]}
["Job Type","Check"]
["Accountant",true,null,"What to compare",1]
["Analyst",true,null,"Check for PPP",{"$f":"IF(E2=2,1,0)","v":0}]
["Consultant",true,null,"Check for GDC/Capita",{"$f":"IF(E2=3,1,0)","v":0}]
["Controller",true]
["CXO or Top Mgmt.",true]
["Engineer",true]
["Manager",true]
["Specialist",true]
["Reporting",true]
["Misc.",true]
[]
["Hours of Work"]
["0 Hrs",true]
["1 or 2",true]
["2 to 3",true]
["4 to 6",true]
["8 Hrs",true]
[]
[{"$f":"CHOOSE(E2,\"In   $\",\"In PPP adjusted Dollars\",\"As times of Per Capita GDP\")","v":"In   $"},null,"Calculations",null,null,null,null,null,"Chart"]
["Group","Count","Min","Max","Average","25th","75th","SD","Bar 1","Bar 2","Bar 3","Bar 4","Average","SD"]
["Overall",{"$f":"COUNTIFS('Cleaned Data'!$L$2:$L$1867,\">\"&0)","v":1866},{"$f":"PERCENTILE(IF('Cleaned Data'!$L$2:$L$1867>0,'Cleaned Data'!$L$2:$L$1867,\"\"),0.01)","v":2564.3400029917298},{"$f":"PERCENTILE(IF('Cleaned Data'!$L$2:$L$1867>0,'Cleaned Data'!$L$2:$L$1867,\"\"),0.99)","v":189399.99999999965},{"$f":"AVERAGE(IF('Cleaned Data'!$L$2:$L$1867>0,'Cleaned Data'!$L$2:$L$1867,\"\"))","v":49653.96880991901},{"$f":"QUARTILE(IF('Cleaned Data'!$L$2:$L$1867>0,'Cleaned Data'!$L$2:$L$1867,\"\"),1)","v":12821.700014958649},{"$f":"QUARTILE(IF('Cleaned Data'!$L$2:$L$1867>0,'Cleaned Data'!$L$2:$L$1867,\"\"),3)","v":70928.022243027779},{"$f":"STDEV(IF('Cleaned Data'!$L$2:$L$1867>0,'Cleaned Data'!$L$2:$L$1867,\"\"))","v":50473.274384309268},{"$f":"IF($B22=0,0,C22)","v":2564.3400029917298},{"$f":"IF($B22=0,0,F22-C22)","v":10257.360011966919},{"$f":"IF($B22=0,0,G22-F22)","v":58106.322228069126},{"$f":"IF($B22=0,0,D22-G22)","v":118471.97775697187},{"$f":"IFERROR(E22,0)","v":49653.96880991901},{"$f":"IFERROR(H22,0)","v":50473.274384309268}]
["Major Advanced Economies (G7)",{"$f":"COUNTIFS('Cleaned Data'!$K$2:$K$1867,A23,'Cleaned Data'!$L$2:$L$1867,\">\"&0)","v":861},{"$f":"PERCENTILE(IF(('Cleaned Data'!$K$2:$K$1867=$A23)*('Cleaned Data'!$L$2:$L$1867>0),'Cleaned Data'!$L$2:$L$1867,\"\"),0.01)","v":19000},{"$f":"PERCENTILE(IF(('Cleaned Data'!$K$2:$K$1867=$A23)*('Cleaned Data'!$L$2:$L$1867>0),'Cleaned Data'!$L$2:$L$1867,\"\"),0.99)","v":237008.00144385759},{"$f":"AVERAGE(IF(('Cleaned Data'!$K$2:$K$1867=$A23)*('Cleaned Data'!$L$2:$L$1867>0),'Cleaned Data'!$L$2:$L$1867,\"\"))","v":72734.804088723322},{"$f":"QUARTILE(IF(('Cleaned Data'!$K$2:$K$1867=$A23)*('Cleaned Data'!$L$2:$L$1867>0),'Cleaned Data'!$L$2:$L$1867,\"\"),1)","v":47700},{"$f":"QUARTILE(IF(('Cleaned Data'!$K$2:$K$1867=$A23)*('Cleaned Data'!$L$2:$L$1867>0),'Cleaned Data'!$L$2:$L$1867,\"\"),3)","v":85000},{"$f":"STDEV(IF(('Cleaned Data'!$K$2:$K$1867=$A23)*('Cleaned Data'!$L$2:$L$1867>0),'Cleaned Data'!$L$2:$L$1867,\"\"))","v":55481.142959802317},{"$f":"IF($B23=0,0,C23)","v":19000},{"$f":"IF($B23=0,0,F23-C23)","v":28700},{"$f":"IF($B23=0,0,G23-F23)","v":37300},{"$f":"IF($B23=0,0,D23-G23)","v":152008.00144385759},{"$f":"IFERROR(E23,0)","v":72734.804088723322},{"$f":"IFERROR(H23,0)","v":55481.142959802317},null,"Major Advanced Economies (G7)"]
["Other Advanced Economies",{"$f":"COUNTIFS('Cleaned Data'!$K$2:$K$1867,A24,'Cleaned Data'!$L$2:$L$1867,\">\"&0)","v":122},{"$f":"PERCENTILE(IF(('Cleaned Data'!$K$2:$K$1867=$A24)*('Cleaned Data'!$L$2:$L$1867>0),'Cleaned Data'!$L$2:$L$1867,\"\"),0.01)","v":20511.982612580177},{"$f":"PERCENTILE(IF(('Cleaned Data'!$K$2:$K$1867=$A24)*('Cleaned Data'!$L$2:$L$1867>0),'Cleaned Data'!$L$2:$L$1867,\"\"),0.99)","v":173384.64158844808},{"$f":"AVERAGE(IF(('Cleaned Data'!$K$2:$K$1867=$A24)*('Cleaned Data'!$L$2:$L$1867>0),'Cleaned Data'!$L$2:$L$1867,\"\"))","v":89303.569381758454},{"$f":"QUARTILE(IF(('Cleaned Data'!$K$2:$K$1867=$A24)*('Cleaned Data'!$L$2:$L$1867>0),'Cleaned Data'!$L$2:$L$1867,\"\"),1)","v":63807.047488395103},{"$f":"QUARTILE(IF(('Cleaned Data'!$K$2:$K$1867=$A24)*('Cleaned Data'!$L$2:$L$1867>0),'Cleaned Data'!$L$2:$L$1867,\"\"),3)","v":107750},{"$f":"STDEV(IF(('Cleaned Data'!$K$2:$K$1867=$A24)*('Cleaned Data'!$L$2:$L$1867>0),'Cleaned Data'!$L$2:$L$1867,\"\"))","v":36115.927680037057},20511.982612580177,43295.064875814925,43942.952511604897,65634.641588448081,89303.569381758454,36115.927680037057,null,"Other Advanced Economies"]
["Euro Area",{"$f":"COUNTIFS('Cleaned Data'!$K$2:$K$1867,A25,'Cleaned Data'!$L$2:$L$1867,\">\"&0)","v":62},{"$f":"PERCENTILE(IF(('Cleaned Data'!$K$2:$K$1867=$A25)*('Cleaned Data'!$L$2:$L$1867>0),'Cleaned Data'!$L$2:$L$1867,\"\"),0.01)","v":12000},{"$f":"PERCENTILE(IF(('Cleaned Data'!$K$2:$K$1867=$A25)*('Cleaned Data'!$L$2:$L$1867>0),'Cleaned Data'!$L$2:$L$1867,\"\"),0.99)","v":176585.52201983356},{"$f":"AVERAGE(IF(('Cleaned Data'!$K$2:$K$1867=$A25)*('Cleaned Data'!$L$2:$L$1867>0),'Cleaned Data'!$L$2:$L$1867,\"\"))","v":54143.74204924611},{"$f":"QUARTILE(IF(('Cleaned Data'!$K$2:$K$1867=$A25)*('Cleaned Data'!$L$2:$L$1867>0),'Cleaned Data'!$L$2:$L$1867,\"\"),1)","v":36682.78380088268},{"$f":"QUARTILE(IF(('Cleaned Data'!$K$2:$K$1867=$A25)*('Cleaned Data'!$L$2:$L$1867>0),'Cleaned Data'!$L$2:$L$1867,\"\"),3)","v":63519.971949580387},{"$f":"STDEV(IF(('Cleaned Data'!$K$2:$K$1867=$A25)*('Cleaned Data'!$L$2:$L$1867>0),'Cleaned Data'!$L$2:$L$1867,\"\"))","v":35606.582455995936},12000,24682.78380088268,26837.188148697707,113065.55007025317,54143.74204924611,35606.582455995936,null,"Euro Area"]
["Middle East and North Africa",{"$f":"COUNTIFS('Cleaned Data'!$K$2:$K$1867,A26,'Cleaned Data'!$L$2:$L$1867,\">\"&0)","v":48},{"$f":"PERCENTILE(IF(('Cleaned Data'!$K$2:$K$1867=$A26)*('Cleaned Data'!$L$2:$L$1867>0),'Cleaned Data'!$L$2:$L$1867,\"\"),0.01)","v":6948.8858067624697},{"$f":"PERCENTILE(IF(('Cleaned Data'!$K$2:$K$1867=$A26)*('Cleaned Data'!$L$2:$L$1867>0),'Cleaned Data'!$L$2:$L$1867,\"\"),0.99)","v":100424},{"$f":"AVERAGE(IF(('Cleaned Data'!$K$2:$K$1867=$A26)*('Cleaned Data'!$L$2:$L$1867>0),'Cleaned Data'!$L$2:$L$1867,\"\"))","v":38878.029396235666},{"$f":"QUARTILE(IF(('Cleaned Data'!$K$2:$K$1867=$A26)*('Cleaned Data'!$L$2:$L$1867>0),'Cleaned Data'!$L$2:$L$1867,\"\"),1)","v":23750},{"$f":"QUARTILE(IF(('Cleaned Data'!$K$2:$K$1867=$A26)*('Cleaned Data'!$L$2:$L$1867>0),'Cleaned Data'!$L$2:$L$1867,\"\"),3)","v":51375},{"$f":"STDEV(IF(('Cleaned Data'!$K$2:$K$1867=$A26)*('Cleaned Data'!$L$2:$L$1867>0),'Cleaned Data'!$L$2:$L$1867,\"\"))","v":23005.695992419263},6948.8858067624697,16801.114193237532,27625,49049,38878.029396235666,23005.695992419263,null,"Middle East and North Africa"]
["Central and Eastern Europe",{"$f":"COUNTIFS('Cleaned Data'!$K$2:$K$1867,A27,'Cleaned Data'!$L$2:$L$1867,\">\"&0)","v":26},{"$f":"PERCENTILE(IF(('Cleaned Data'!$K$2:$K$1867=$A27)*('Cleaned Data'!$L$2:$L$1867>0),'Cleaned Data'!$L$2:$L$1867,\"\"),0.01)","v":7750},{"$f":"PERCENTILE(IF(('Cleaned Data'!$K$2:$K$1867=$A27)*('Cleaned Data'!$L$2:$L$1867>0),'Cleaned Data'!$L$2:$L$1867,\"\"),0.99)","v":94867.189901848935},{"$f":"AVERAGE(IF(('Cleaned Data'!$K$2:$K$1867=$A27)*('Cleaned Data'!$L$2:$L$1867>0),'Cleaned Data'!$L$2:$L$1867,\"\"))","v":27595.516487152076},{"$f":"QUARTILE(IF(('Cleaned Data'!$K$2:$K$1867=$A27)*('Cleaned Data'!$L$2:$L$1867>0),'Cleaned Data'!$L$2:$L$1867,\"\"),1)","v":15000},{"$f":"QUARTILE(IF(('Cleaned Data'!$K$2:$K$1867=$A27)*('Cleaned Data'!$L$2:$L$1867>0),'Cleaned Data'!$L$2:$L$1867,\"\"),3)","v":29500},{"$f":"STDEV(IF(('Cleaned Data'!$K$2:$K$1867=$A27)*('Cleaned Data'!$L$2:$L$1867>0),'Cleaned Data'!$L$2:$L$1867,\"\"))","v":22493.58426583041},7750,7250,14500,65367.189901848935,27595.516487152076,22493.58426583041,null,"Central and Eastern Europe"]
["Commonwealth of Independent States",{"$f":"COUNTIFS('Cleaned Data'!$K$2:$K$1867,A28,'Cleaned Data'!$L$2:$L$1867,\">\"&0)","v":17},{"$f":"PERCENTILE(IF(('Cleaned Data'!$K$2:$K$1867=$A28)*('Cleaned Data'!$L$2:$L$1867>0),'Cleaned Data'!$L$2:$L$1867,\"\"),0.01)","v":5370},{"$f":"PERCENTILE(IF(('Cleaned Data'!$K$2:$K$1867=$A28)*('Cleaned Data'!$L$2:$L$1867>0),'Cleaned Data'!$L$2:$L$1867,\"\"),0.99)","v":99863.52},{"$f":"AVERAGE(IF(('Cleaned Data'!$K$2:$K$1867=$A28)*('Cleaned Data'!$L$2:$L$1867>0),'Cleaned Data'!$L$2:$L$1867,\"\"))","v":35544.630862329795},{"$f":"QUARTILE(IF(('Cleaned Data'!$K$2:$K$1867=$A28)*('Cleaned Data'!$L$2:$L$1867>0),'Cleaned Data'!$L$2:$L$1867,\"\"),1)","v":12000},{"$f":"QUARTILE(IF(('Cleaned Data'!$K$2:$K$1867=$A28)*('Cleaned Data'!$L$2:$L$1867>0),'Cleaned Data'!$L$2:$L$1867,\"\"),3)","v":41000},{"$f":"STDEV(IF(('Cleaned Data'!$K$2:$K$1867=$A28)*('Cleaned Data'!$L$2:$L$1867>0),'Cleaned Data'!$L$2:$L$1867,\"\"))","v":30815.001866647723},5370,6630,29000,58863.520000000004,35544.630862329795,30815.001866647723,null,"Commonwealth of Independent States"]
["Newly Industrialized Asian Economies",{"$f":"COUNTIFS('Cleaned Data'!$K$2:$K$1867,A29,'Cleaned Data'!$L$2:$L$1867,\">\"&0)","v":14},{"$f":"PERCENTILE(IF(('Cleaned Data'!$K$2:$K$1867=$A29)*('Cleaned Data'!$L$2:$L$1867>0),'Cleaned Data'!$L$2:$L$1867,\"\"),0.01)","v":20083.2},{"$f":"PERCENTILE(IF(('Cleaned Data'!$K$2:$K$1867=$A29)*('Cleaned Data'!$L$2:$L$1867>0),'Cleaned Data'!$L$2:$L$1867,\"\"),0.99)","v":114799.99999999997},{"$f":"AVERAGE(IF(('Cleaned Data'!$K$2:$K$1867=$A29)*('Cleaned Data'!$L$2:$L$1867>0),'Cleaned Data'!$L$2:$L$1867,\"\"))","v":49857.985907096823},{"$f":"QUARTILE(IF(('Cleaned Data'!$K$2:$K$1867=$A29)*('Cleaned Data'!$L$2:$L$1867>0),'Cleaned Data'!$L$2:$L$1867,\"\"),1)","v":29100},{"$f":"QUARTILE(IF(('Cleaned Data'!$K$2:$K$1867=$A29)*('Cleaned Data'!$L$2:$L$1867>0),'Cleaned Data'!$L$2:$L$1867,\"\"),3)","v":60000},{"$f":"STDEV(IF(('Cleaned Data'!$K$2:$K$1867=$A29)*('Cleaned Data'!$L$2:$L$1867>0),'Cleaned Data'!$L$2:$L$1867,\"\"))","v":27552.597985925688},20083.2,9016.7999999999993,30900,54799.999999999971,49857.985907096823,27552.597985925688,null,"Newly Industrialized Asian Economies"]
["Latin America and the Caribbean",{"$f":"COUNTIFS('Cleaned Data'!$K$2:$K$1867,A30,'Cleaned Data'!$L$2:$L$1867,\">\"&0)","v":46},{"$f":"PERCENTILE(IF(('Cleaned Data'!$K$2:$K$1867=$A30)*('Cleaned Data'!$L$2:$L$1867>0),'Cleaned Data'!$L$2:$L$1867,\"\"),0.01)","v":5199.75},{"$f":"PERCENTILE(IF(('Cleaned Data'!$K$2:$K$1867=$A30)*('Cleaned Data'!$L$2:$L$1867>0),'Cleaned Data'!$L$2:$L$1867,\"\"),0.99)","v":188112.95753136193},{"$f":"AVERAGE(IF(('Cleaned Data'!$K$2:$K$1867=$A30)*('Cleaned Data'!$L$2:$L$1867>0),'Cleaned Data'!$L$2:$L$1867,\"\"))","v":32320.406053018876},{"$f":"QUARTILE(IF(('Cleaned Data'!$K$2:$K$1867=$A30)*('Cleaned Data'!$L$2:$L$1867>0),'Cleaned Data'!$L$2:$L$1867,\"\"),1)","v":11550},{"$f":"QUARTILE(IF(('Cleaned Data'!$K$2:$K$1867=$A30)*('Cleaned Data'!$L$2:$L$1867>0),'Cleaned Data'!$L$2:$L$1867,\"\"),3)","v":31297.5},{"$f":"STDEV(IF(('Cleaned Data'!$K$2:$K$1867=$A30)*('Cleaned Data'!$L$2:$L$1867>0),'Cleaned Data'!$L$2:$L$1867,\"\"))","v":39131.414200291656},5199.75,6350.25,19747.5,156815.45753136193,32320.406053018876,39131.414200291656,null,"Latin America and the Caribbean"]
["Developing Asia",{"$f":"COUNTIFS('Cleaned Data'!$K$2:$K$1867,A31,'Cleaned Data'!$L$2:$L$1867,\">\"&0)","v":638},{"$f":"PERCENTILE(IF(('Cleaned Data'!$K$2:$K$1867=$A31)*('Cleaned Data'!$L$2:$L$1867>0),'Cleaned Data'!$L$2:$L$1867,\"\"),0.01)","v":2136.9500024931081},{"$f":"PERCENTILE(IF(('Cleaned Data'!$K$2:$K$1867=$A31)*('Cleaned Data'!$L$2:$L$1867>0),'Cleaned Data'!$L$2:$L$1867,\"\"),0.99)","v":85630},{"$f":"AVERAGE(IF(('Cleaned Data'!$K$2:$K$1867=$A31)*('Cleaned Data'!$L$2:$L$1867>0),'Cleaned Data'!$L$2:$L$1867,\"\"))","v":14070.8233458297},{"$f":"QUARTILE(IF(('Cleaned Data'!$K$2:$K$1867=$A31)*('Cleaned Data'!$L$2:$L$1867>0),'Cleaned Data'!$L$2:$L$1867,\"\"),1)","v":5342.3750062327708},{"$f":"QUARTILE(IF(('Cleaned Data'!$K$2:$K$1867=$A31)*('Cleaned Data'!$L$2:$L$1867>0),'Cleaned Data'!$L$2:$L$1867,\"\"),3)","v":16027.125018698311},{"$f":"STDEV(IF(('Cleaned Data'!$K$2:$K$1867=$A31)*('Cleaned Data'!$L$2:$L$1867>0),'Cleaned Data'!$L$2:$L$1867,\"\"))","v":16899.361595115501},2136.9500024931081,3205.4250037396628,10684.75001246554,69602.874981301691,14070.8233458297,16899.361595115501,null,"Developing Asia"]
["Sub-Saharan Africa",{"$f":"COUNTIFS('Cleaned Data'!$K$2:$K$1867,A32,'Cleaned Data'!$L$2:$L$1867,\">\"&0)","v":32},{"$f":"PERCENTILE(IF(('Cleaned Data'!$K$2:$K$1867=$A32)*('Cleaned Data'!$L$2:$L$1867>0),'Cleaned Data'!$L$2:$L$1867,\"\"),0.01)","v":3898.1538461538462},{"$f":"PERCENTILE(IF(('Cleaned Data'!$K$2:$K$1867=$A32)*('Cleaned Data'!$L$2:$L$1867>0),'Cleaned Data'!$L$2:$L$1867,\"\"),0.99)","v":163363.4118981027},{"$f":"AVERAGE(IF(('Cleaned Data'!$K$2:$K$1867=$A32)*('Cleaned Data'!$L$2:$L$1867>0),'Cleaned Data'!$L$2:$L$1867,\"\"))","v":44620.895848994434},{"$f":"QUARTILE(IF(('Cleaned Data'!$K$2:$K$1867=$A32)*('Cleaned Data'!$L$2:$L$1867>0),'Cleaned Data'!$L$2:$L$1867,\"\"),1)","v":12293.036792412531},{"$f":"QUARTILE(IF(('Cleaned Data'!$K$2:$K$1867=$A32)*('Cleaned Data'!$L$2:$L$1867>0),'Cleaned Data'!$L$2:$L$1867,\"\"),3)","v":51747.754491017971},{"$f":"STDEV(IF(('Cleaned Data'!$K$2:$K$1867=$A32)*('Cleaned Data'!$L$2:$L$1867>0),'Cleaned Data'!$L$2:$L$1867,\"\"))","v":43853.715178102662},3898.1538461538462,8394.8829462586855,39454.71769860544,111615.65740708473,44620.895848994434,43853.715178102662,null,"Sub-Saharan Africa"]
[]
["Selection",{"$f":"Dashboard!AR19","v":"Developing Asia"},null,null,null,"Overall",null,null,null,"Chart"]
["Job Type","Count","Average Metric","Chart Data",null,"Count","Average Metric","Chart Data",null,"Count","Chart Data"]
["Accountant",{"$f":"COUNTIFS('Cleaned Data'!$E$2:$E$1867,A36,'Cleaned Data'!$K$2:$K$1867,$B$34,'Cleaned Data'!$L$2:$L$1867,\">0\")","v":37},{"$f":"AVERAGE(IF(('Cleaned Data'!$E$2:$E$1867=A36)*('Cleaned Data'!$K$2:$K$1867=$B$34)*('Cleaned Data'!$L$2:$L$1867>0),'Cleaned Data'!$L$2:$L$1867,\"\"))","v":10214.409994686601},{"$f":"IF(B36=0,0,C36)","v":10214.409994686601},null,{"$f":"COUNTIFS('Cleaned Data'!$E$2:$E$1867,A36,'Cleaned Data'!$L$2:$L$1867,\">0\")","v":134},{"$f":"AVERAGE(IF(('Cleaned Data'!$E$2:$E$1867=A36)*('Cleaned Data'!$L$2:$L$1867>0),'Cleaned Data'!$L$2:$L$1867,\"\"))","v":53832.234914329638},{"$f":"IF(F36=0,0,G36)","v":53832.234914329638},null,{"$f":"IF($B$34=\"Overall\",F36,B36)","v":37},{"$f":"IF($B$34=\"Overall\",H36,D36)","v":10214.409994686601}]
["Analyst",{"$f":"COUNTIFS('Cleaned Data'!$E$2:$E$1867,A37,'Cleaned Data'!$K$2:$K$1867,$B$34,'Cleaned Data'!$L$2:$L$1867,\">0\")","v":207},{"$f":"AVERAGE(IF(('Cleaned Data'!$E$2:$E$1867=A37)*('Cleaned Data'!$K$2:$K$1867=$B$34)*('Cleaned Data'!$L$2:$L$1867>0),'Cleaned Data'!$L$2:$L$1867,\"\"))","v":11728.099199793574},{"$f":"IF(B37=0,0,C37)","v":11728.099199793574},null,{"$f":"COUNTIFS('Cleaned Data'!$E$2:$E$1867,A37,'Cleaned Data'!$L$2:$L$1867,\">0\")","v":739},{"$f":"AVERAGE(IF(('Cleaned Data'!$E$2:$E$1867=A37)*('Cleaned Data'!$L$2:$L$1867>0),'Cleaned Data'!$L$2:$L$1867,\"\"))","v":46284.776106991536},{"$f":"IF(F37=0,0,G37)","v":46284.776106991536},null,{"$f":"IF($B$34=\"Overall\",F37,B37)","v":207},{"$f":"IF($B$34=\"Overall\",H37,D37)","v":11728.099199793574}]
["Consultant",{"$f":"COUNTIFS('Cleaned Data'!$E$2:$E$1867,A38,'Cleaned Data'!$K$2:$K$1867,$B$34,'Cleaned Data'!$L$2:$L$1867,\">0\")","v":25},{"$f":"AVERAGE(IF(('Cleaned Data'!$E$2:$E$1867=A38)*('Cleaned Data'!$K$2:$K$1867=$B$34)*('Cleaned Data'!$L$2:$L$1867>0),'Cleaned Data'!$L$2:$L$1867,\"\"))","v":13326.582002316944},13326.582002316944,null,{"$f":"COUNTIFS('Cleaned Data'!$E$2:$E$1867,A38,'Cleaned Data'!$L$2:$L$1867,\">0\")","v":89},{"$f":"AVERAGE(IF(('Cleaned Data'!$E$2:$E$1867=A38)*('Cleaned Data'!$L$2:$L$1867>0),'Cleaned Data'!$L$2:$L$1867,\"\"))","v":63601.865055092807},63601.865055092807,null,25,13326.582002316944]
["Controller",{"$f":"COUNTIFS('Cleaned Data'!$E$2:$E$1867,A39,'Cleaned Data'!$K$2:$K$1867,$B$34,'Cleaned Data'!$L$2:$L$1867,\">0\")","v":10},{"$f":"AVERAGE(IF(('Cleaned Data'!$E$2:$E$1867=A39)*('Cleaned Data'!$K$2:$K$1867=$B$34)*('Cleaned Data'!$L$2:$L$1867>0),'Cleaned Data'!$L$2:$L$1867,\"\"))","v":16507.72400578401},16507.72400578401,null,{"$f":"COUNTIFS('Cleaned Data'!$E$2:$E$1867,A39,'Cleaned Data'!$L$2:$L$1867,\">0\")","v":64},{"$f":"AVERAGE(IF(('Cleaned Data'!$E$2:$E$1867=A39)*('Cleaned Data'!$L$2:$L$1867>0),'Cleaned Data'!$L$2:$L$1867,\"\"))","v":62608.678065602442},62608.678065602442,null,10,16507.72400578401]
["CXO or Top Mgmt.",{"$f":"COUNTIFS('Cleaned Data'!$E$2:$E$1867,A40,'Cleaned Data'!$K$2:$K$1867,$B$34,'Cleaned Data'!$L$2:$L$1867,\">0\")","v":14},{"$f":"AVERAGE(IF(('Cleaned Data'!$E$2:$E$1867=A40)*('Cleaned Data'!$K$2:$K$1867=$B$34)*('Cleaned Data'!$L$2:$L$1867>0),'Cleaned Data'!$L$2:$L$1867,\"\"))","v":29112.273826738128},29112.273826738128,null,{"$f":"COUNTIFS('Cleaned Data'!$E$2:$E$1867,A40,'Cleaned Data'!$L$2:$L$1867,\">0\")","v":74},{"$f":"AVERAGE(IF(('Cleaned Data'!$E$2:$E$1867=A40)*('Cleaned Data'!$L$2:$L$1867>0),'Cleaned Data'!$L$2:$L$1867,\"\"))","v":97296.495559453528},97296.495559453528,null,14,29112.273826738128]
["Engineer",{"$f":"COUNTIFS('Cleaned Data'!$E$2:$E$1867,A41,'Cleaned Data'!$K$2:$K$1867,$B$34,'Cleaned Data'!$L$2:$L$1867,\">0\")","v":24},{"$f":"AVERAGE(IF(('Cleaned Data'!$E$2:$E$1867=A41)*('Cleaned Data'!$K$2:$K$1867=$B$34)*('Cleaned Data'!$L$2:$L$1867>0),'Cleaned Data'!$L$2:$L$1867,\"\"))","v":17589.874294435689},17589.874294435689,null,{"$f":"COUNTIFS('Cleaned Data'!$E$2:$E$1867,A41,'Cleaned Data'!$L$2:$L$1867,\">0\")","v":74},{"$f":"AVERAGE(IF(('Cleaned Data'!$E$2:$E$1867=A41)*('Cleaned Data'!$L$2:$L$1867>0),'Cleaned Data'!$L$2:$L$1867,\"\"))","v":51715.151424567128},51715.151424567128,null,24,17589.874294435689]
["Manager",{"$f":"COUNTIFS('Cleaned Data'!$E$2:$E$1867,A42,'Cleaned Data'!$K$2:$K$1867,$B$34,'Cleaned Data'!$L$2:$L$1867,\">0\")","v":246},{"$f":"AVERAGE(IF(('Cleaned Data'!$E$2:$E$1867=A42)*('Cleaned Data'!$K$2:$K$1867=$B$34)*('Cleaned Data'!$L$2:$L$1867>0),'Cleaned Data'!$L$2:$L$1867,\"\"))","v":16072.053200371982},16072.053200371982,null,{"$f":"COUNTIFS('Cleaned Data'!$E$2:$E$1867,A42,'Cleaned Data'!$L$2:$L$1867,\">0\")","v":551},{"$f":"AVERAGE(IF(('Cleaned Data'!$E$2:$E$1867=A42)*('Cleaned Data'!$L$2:$L$1867>0),'Cleaned Data'!$L$2:$L$1867,\"\"))","v":46361.471114539061},46361.471114539061,null,246,16072.053200371982]
["Specialist",{"$f":"COUNTIFS('Cleaned Data'!$E$2:$E$1867,A43,'Cleaned Data'!$K$2:$K$1867,$B$34,'Cleaned Data'!$L$2:$L$1867,\">0\")","v":8},{"$f":"AVERAGE(IF(('Cleaned Data'!$E$2:$E$1867=A43)*('Cleaned Data'!$K$2:$K$1867=$B$34)*('Cleaned Data'!$L$2:$L$1867>0),'Cleaned Data'!$L$2:$L$1867,\"\"))","v":21246.179180586521},21246.179180586521,null,{"$f":"COUNTIFS('Cleaned Data'!$E$2:$E$1867,A43,'Cleaned Data'!$L$2:$L$1867,\">0\")","v":51},{"$f":"AVERAGE(IF(('Cleaned Data'!$E$2:$E$1867=A43)*('Cleaned Data'!$L$2:$L$1867>0),'Cleaned Data'!$L$2:$L$1867,\"\"))","v":59812.969274133815},59812.969274133815,null,8,21246.179180586521]
["Reporting",{"$f":"COUNTIFS('Cleaned Data'!$E$2:$E$1867,A44,'Cleaned Data'!$K$2:$K$1867,$B$34,'Cleaned Data'!$L$2:$L$1867,\">0\")","v":63},{"$f":"AVERAGE(IF(('Cleaned Data'!$E$2:$E$1867=A44)*('Cleaned Data'!$K$2:$K$1867=$B$34)*('Cleaned Data'!$L$2:$L$1867>0),'Cleaned Data'!$L$2:$L$1867,\"\"))","v":10312.144816828057},10312.144816828057,null,{"$f":"COUNTIFS('Cleaned Data'!$E$2:$E$1867,A44,'Cleaned Data'!$L$2:$L$1867,\">0\")","v":83},{"$f":"AVERAGE(IF(('Cleaned Data'!$E$2:$E$1867=A44)*('Cleaned Data'!$L$2:$L$1867>0),'Cleaned Data'!$L$2:$L$1867,\"\"))","v":19574.158532349131},19574.158532349131,null,63,10312.144816828057]
["Misc.",{"$f":"COUNTIFS('Cleaned Data'!$E$2:$E$1867,A45,'Cleaned Data'!$K$2:$K$1867,$B$34,'Cleaned Data'!$L$2:$L$1867,\">0\")","v":4},{"$f":"AVERAGE(IF(('Cleaned Data'!$E$2:$E$1867=A45)*('Cleaned Data'!$K$2:$K$1867=$B$34)*('Cleaned Data'!$L$2:$L$1867>0),'Cleaned Data'!$L$2:$L$1867,\"\"))","v":17551.33488143489},17551.33488143489,null,{"$f":"COUNTIFS('Cleaned Data'!$E$2:$E$1867,A45,'Cleaned Data'!$L$2:$L$1867,\">0\")","v":7},{"$f":"AVERAGE(IF(('Cleaned Data'!$E$2:$E$1867=A45)*('Cleaned Data'!$L$2:$L$1867>0),'Cleaned Data'!$L$2:$L$1867,\"\"))","v":45952.334217962794},45952.334217962794,null,4,17551.33488143489]
[]
["Hours of Work on Excel","Count","Average Metric","Chart Data",null,"Count","Average Metric","Chart Data",null,"Count","Chart Data"]
["0 Hrs",{"$f":"COUNTIFS('Cleaned Data'!$G$2:$G$1867,A48,'Cleaned Data'!$K$2:$K$1867,$B$34,'Cleaned Data'!$L$2:$L$1867,\">0\")","v":2},{"$f":"AVERAGE(IF(('Cleaned Data'!$G$2:$G$1867=A48)*('Cleaned Data'!$K$2:$K$1867=$B$34)*('Cleaned Data'!$L$2:$L$1867>0),'Cleaned Data'!$L$2:$L$1867,\"\"))","v":12225.989585930321},{"$f":"IF(B48=0,0,C48)","v":12225.989585930321},null,{"$f":"COUNTIFS('Cleaned Data'!$G$2:$G$1867,A48,'Cleaned Data'!$L$2:$L$1867,\">0\")","v":7},{"$f":"AVERAGE(IF(('Cleaned Data'!$G$2:$G$1867=A48)*('Cleaned Data'!$L$2:$L$1867>0),'Cleaned Data'!$L$2:$L$1867,\"\"))","v":57493.381507668608},{"$f":"IF(F48=0,0,G48)","v":57493.381507668608},null,{"$f":"IF($B$34=\"Overall\",F48,B48)","v":2},{"$f":"IF($B$34=\"Overall\",H48,D48)","v":12225.989585930321}]
["1 or 2",{"$f":"COUNTIFS('Cleaned Data'!$G$2:$G$1867,A49,'Cleaned Data'!$K$2:$K$1867,$B$34,'Cleaned Data'!$L$2:$L$1867,\">0\")","v":69},{"$f":"AVERAGE(IF(('Cleaned Data'!$G$2:$G$1867=A49)*('Cleaned Data'!$K$2:$K$1867=$B$34)*('Cleaned Data'!$L$2:$L$1867>0),'Cleaned Data'!$L$2:$L$1867,\"\"))","v":16684.005345857611},{"$f":"IF(B49=0,0,C49)","v":16684.005345857611},null,{"$f":"COUNTIFS('Cleaned Data'!$G$2:$G$1867,A49,'Cleaned Data'!$L$2:$L$1867,\">0\")","v":171},{"$f":"AVERAGE(IF(('Cleaned Data'!$G$2:$G$1867=A49)*('Cleaned Data'!$L$2:$L$1867>0),'Cleaned Data'!$L$2:$L$1867,\"\"))","v":50152.523594220394},{"$f":"IF(F49=0,0,G49)","v":50152.523594220394},null,{"$f":"IF($B$34=\"Overall\",F49,B49)","v":69},{"$f":"IF($B$34=\"Overall\",H49,D49)","v":16684.005345857611}]
["2 to 3",{"$f":"COUNTIFS('Cleaned Data'!$G$2:$G$1867,A50,'Cleaned Data'!$K$2:$K$1867,$B$34,'Cleaned Data'!$L$2:$L$1867,\">0\")","v":152},{"$f":"AVERAGE(IF(('Cleaned Data'!$G$2:$G$1867=A50)*('Cleaned Data'!$K$2:$K$1867=$B$34)*('Cleaned Data'!$L$2:$L$1867>0),'Cleaned Data'!$L$2:$L$1867,\"\"))","v":14809.011551061234},14809.011551061234,null,{"$f":"COUNTIFS('Cleaned Data'!$G$2:$G$1867,A50,'Cleaned Data'!$L$2:$L$1867,\">0\")","v":446},{"$f":"AVERAGE(IF(('Cleaned Data'!$G$2:$G$1867=A50)*('Cleaned Data'!$L$2:$L$1867>0),'Cleaned Data'!$L$2:$L$1867,\"\"))","v":53273.22144688134},53273.22144688134,null,152,14809.011551061234]
["4 to 6",{"$f":"COUNTIFS('Cleaned Data'!$G$2:$G$1867,A51,'Cleaned Data'!$K$2:$K$1867,$B$34,'Cleaned Data'!$L$2:$L$1867,\">0\")","v":237},{"$f":"AVERAGE(IF(('Cleaned Data'!$G$2:$G$1867=A51)*('Cleaned Data'!$K$2:$K$1867=$B$34)*('Cleaned Data'!$L$2:$L$1867>0),'Cleaned Data'!$L$2:$L$1867,\"\"))","v":12903.769646168223},12903.769646168223,null,{"$f":"COUNTIFS('Cleaned Data'!$G$2:$G$1867,A51,'Cleaned Data'!$L$2:$L$1867,\">0\")","v":769},{"$f":"AVERAGE(IF(('Cleaned Data'!$G$2:$G$1867=A51)*('Cleaned Data'!$L$2:$L$1867>0),'Cleaned Data'!$L$2:$L$1867,\"\"))","v":51048.687041213067},51048.687041213067,null,237,12903.769646168223]
["8 Hrs",{"$f":"COUNTIFS('Cleaned Data'!$G$2:$G$1867,A52,'Cleaned Data'!$K$2:$K$1867,$B$34,'Cleaned Data'!$L$2:$L$1867,\">0\")","v":178},{"$f":"AVERAGE(IF(('Cleaned Data'!$G$2:$G$1867=A52)*('Cleaned Data'!$K$2:$K$1867=$B$34)*('Cleaned Data'!$L$2:$L$1867>0),'Cleaned Data'!$L$2:$L$1867,\"\"))","v":14002.099914045639},14002.099914045639,null,{"$f":"COUNTIFS('Cleaned Data'!$G$2:$G$1867,A52,'Cleaned Data'!$L$2:$L$1867,\">0\")","v":473},{"$f":"AVERAGE(IF(('Cleaned Data'!$G$2:$G$1867=A52)*('Cleaned Data'!$L$2:$L$1867>0),'Cleaned Data'!$L$2:$L$1867,\"\"))","v":43677.533814252718},43677.533814252718,null,178,14002.099914045639]
[]
["Relation between Experience and Salary"]
["Row Number","Relevance","Years of Experience","Output",null,"y=mx+c",{"$f":"CHOOSE(E2,\"dollar salaries\",\"PPP adjusted dollar salaries\",\"Salaries as times of per capita GDP\")","v":"dollar salaries"},{"$f":"CHOOSE(E2,\"dollars\",\"PPP adjusted dollars\",\"times of per capita GDP\")","v":"dollars"}]
[1,{"$f":"IF('Cleaned Data'!L2>0,1,0)*IF($B$34=\"Overall\",1,IF('Cleaned Data'!K2=$B$34,1,0))*(IF('Cleaned Data'!H2<>\"\",1,0))","v":0},{"$f":"INDEX('Cleaned Data'!H:H,MATCH($A56,$B$56:$B$1919,0))","v":6},{"$f":"INDEX('Cleaned Data'!L:L,MATCH($A56,$B$56:$B$1919,0))","v":148102.22862117883},null,"m",{"$f":"LINEST(OFFSET(D55,1,0,MAX(B56:B1919),1),OFFSET(C55,1,0,MAX(B56:B1919),1))","v":460.90842801234652}]
[2,{"$f":"B56+IF('Cleaned Data'!L3>0,1,0)*IF($B$34=\"Overall\",1,IF('Cleaned Data'!K3=$B$34,1,0))*(IF('Cleaned Data'!H3<>\"\",1,0))","v":0},{"$f":"INDEX('Cleaned Data'!H:H,MATCH($A57,$B$56:$B$1919,0))","v":3},{"$f":"INDEX('Cleaned Data'!L:L,MATCH($A57,$B$56:$B$1919,0))","v":39404.456801682099},null,"c",{"$f":"INTERCEPT(OFFSET(D55,1,0,MAX(B56:B1919),1),OFFSET(C55,1,0,MAX(B56:B1919),1))","v":11375.812444634972}]
[3,{"$f":"B57+IF('Cleaned Data'!L4>0,1,0)*IF($B$34=\"Overall\",1,IF('Cleaned Data'!K4=$B$34,1,0))*(IF('Cleaned Data'!H4<>\"\",1,0))","v":0},{"$f":"INDEX('Cleaned Data'!H:H,MATCH($A58,$B$56:$B$1919,0))","v":0},{"$f":"INDEX('Cleaned Data'!L:L,MATCH($A58,$B$56:$B$1919,0))","v":8903.9583437212841},null,"R2",{"$f":"CORREL(OFFSET(D55,1,0,MAX(B56:B1919),1),OFFSET(C55,1,0,MAX(B56:B1919),1))^2","v":2.0826051668083299E-2}]
[4,{"$f":"B58+IF('Cleaned Data'!L5>0,1,0)*IF($B$34=\"Overall\",1,IF('Cleaned Data'!K5=$B$34,1,0))*(IF('Cleaned Data'!H5<>\"\",1,0))","v":0},{"$f":"INDEX('Cleaned Data'!H:H,MATCH($A59,$B$56:$B$1919,0))","v":3},{"$f":"INDEX('Cleaned Data'!L:L,MATCH($A59,$B$56:$B$1919,0))","v":7123.1666749770275}]
[5,{"$f":"B59+IF('Cleaned Data'!L6>0,1,0)*IF($B$34=\"Overall\",1,IF('Cleaned Data'!K6=$B$34,1,0))*(IF('Cleaned Data'!H6<>\"\",1,0))","v":0},{"$f":"INDEX('Cleaned Data'!H:H,MATCH($A60,$B$56:$B$1919,0))","v":5},{"$f":"INDEX('Cleaned Data'!L:L,MATCH($A60,$B$56:$B$1919,0))","v":4273.9000049862161},null,"Text",{"$f":"\"Around \"&TEXT(G58*100,\"0.00\")&\"% of variation in \"&G55&\" is explained by years experience. On an average, one year of experience \"&IF(G56>0,\"increases\",\"reduces\")&\" \"&G55&\" by \"&TEXT(ABS(G56),\"0.00\")&\" \"&H55&\" in this region.\"","v":"Around 2.08% of variation in dollar salaries is explained by years experience. On an average, one year of experience increases dollar salaries by 460.91 dollars in this region."}]
[6,{"$f":"B60+IF('Cleaned Data'!L7>0,1,0)*IF($B$34=\"Overall\",1,IF('Cleaned Data'!K7=$B$34,1,0))*(IF('Cleaned Data'!H7<>\"\",1,0))","v":0},{"$f":"INDEX('Cleaned Data'!H:H,MATCH($A61,$B$56:$B$1919,0))","v":10},{"$f":"INDEX('Cleaned Data'!L:L,MATCH($A61,$B$56:$B$1919,0))","v":6767.0083412281756}]
[7,{"$f":"B61+IF('Cleaned Data'!L8>0,1,0)*IF($B$34=\"Overall\",1,IF('Cleaned Data'!K8=$B$34,1,0))*(IF('Cleaned Data'!H8<>\"\",1,0))","v":0},{"$f":"INDEX('Cleaned Data'!H:H,MATCH($A62,$B$56:$B$1919,0))","v":3},{"$f":"INDEX('Cleaned Data'!L:L,MATCH($A62,$B$56:$B$1919,0))","v":7479.3250087258784}]
[8,{"$f":"B62+IF('Cleaned Data'!L9>0,1,0)*IF($B$34=\"Overall\",1,IF('Cleaned Data'!K9=$B$34,1,0))*(IF('Cleaned Data'!H9<>\"\",1,0))","v":0},{"$f":"INDEX('Cleaned Data'!H:H,MATCH($A63,$B$56:$B$1919,0))","v":6},{"$f":"INDEX('Cleaned Data'!L:L,MATCH($A63,$B$56:$B$1919,0))","v":15136.729184326183}]
[9,{"$f":"B63+IF('Cleaned Data'!L10>0,1,0)*IF($B$34=\"Overall\",1,IF('Cleaned Data'!K10=$B$34,1,0))*(IF('Cleaned Data'!H10<>\"\",1,0))","v":0},{"$f":"INDEX('Cleaned Data'!H:H,MATCH($A64,$B$56:$B$1919,0))","v":10},{"$f":"INDEX('Cleaned Data'!L:L,MATCH($A64,$B$56:$B$1919,0))","v":32054.250037396621}]
[10,{"$f":"B64+IF('Cleaned Data'!L11>0,1,0)*IF($B$34=\"Overall\",1,IF('Cleaned Data'!K11=$B$34,1,0))*(IF('Cleaned Data'!H11<>\"\",1,0))","v":0},{"$f":"INDEX('Cleaned Data'!H:H,MATCH($A65,$B$56:$B$1919,0))","v":3},{"$f":"INDEX('Cleaned Data'!L:L,MATCH($A65,$B$56:$B$1919,0))","v":2849.2666699908109}]
[11,{"$f":"B65+IF('Cleaned Data'!L12>0,1,0)*IF($B$34=\"Overall\",1,IF('Cleaned Data'!K12=$B$34,1,0))*(IF('Cleaned Data'!H12<>\"\",1,0))","v":0},{"$f":"INDEX('Cleaned Data'!H:H,MATCH($A66,$B$56:$B$1919,0))","v":12},{"$f":"INDEX('Cleaned Data'!L:L,MATCH($A66,$B$56:$B$1919,0))","v":12821.700014958649}]
[12,{"$f":"B66+IF('Cleaned Data'!L13>0,1,0)*IF($B$34=\"Overall\",1,IF('Cleaned Data'!K13=$B$34,1,0))*(IF('Cleaned Data'!H13<>\"\",1,0))","v":0},{"$f":"INDEX('Cleaned Data'!H:H,MATCH($A67,$B$56:$B$1919,0))","v":3},{"$f":"INDEX('Cleaned Data'!L:L,MATCH($A67,$B$56:$B$1919,0))","v":3561.5833374885137}]
[13,{"$f":"B67+IF('Cleaned Data'!L14>0,1,0)*IF($B$34=\"Overall\",1,IF('Cleaned Data'!K14=$B$34,1,0))*(IF('Cleaned Data'!H14<>\"\",1,0))","v":0},{"$f":"INDEX('Cleaned Data'!H:H,MATCH($A68,$B$56:$B$1919,0))","v":3},{"$f":"INDEX('Cleaned Data'!L:L,MATCH($A68,$B$56:$B$1919,0))","v":10684.750012465542}]
[14,{"$f":"B68+IF('Cleaned Data'!L15>0,1,0)*IF($B$34=\"Overall\",1,IF('Cleaned Data'!K15=$B$34,1,0))*(IF('Cleaned Data'!H15<>\"\",1,0))","v":0},{"$f":"INDEX('Cleaned Data'!H:H,MATCH($A69,$B$56:$B$1919,0))","v":2},{"$f":"INDEX('Cleaned Data'!L:L,MATCH($A69,$B$56:$B$1919,0))","v":5342.3750062327708}]
[15,{"$f":"B69+IF('Cleaned Data'!L16>0,1,0)*IF($B$34=\"Overall\",1,IF('Cleaned Data'!K16=$B$34,1,0))*(IF('Cleaned Data'!H16<>\"\",1,0))","v":0},{"$f":"INDEX('Cleaned Data'!H:H,MATCH($A70,$B$56:$B$1919,0))","v":1.5},{"$f":"INDEX('Cleaned Data'!L:L,MATCH($A70,$B$56:$B$1919,0))","v":71231.666749770273}]
[16,{"$f":"B70+IF('Cleaned Data'!L17>0,1,0)*IF($B$34=\"Overall\",1,IF('Cleaned Data'!K17=$B$34,1,0))*(IF('Cleaned Data'!H17<>\"\",1,0))","v":0},{"$f":"INDEX('Cleaned Data'!H:H,MATCH($A71,$B$56:$B$1919,0))","v":6},{"$f":"INDEX('Cleaned Data'!L:L,MATCH($A71,$B$56:$B$1919,0))","v":80135.625093491559}]
[17,{"$f":"B71+IF('Cleaned Data'!L18>0,1,0)*IF($B$34=\"Overall\",1,IF('Cleaned Data'!K18=$B$34,1,0))*(IF('Cleaned Data'!H18<>\"\",1,0))","v":0},{"$f":"INDEX('Cleaned Data'!H:H,MATCH($A72,$B$56:$B$1919,0))","v":1},{"$f":"INDEX('Cleaned Data'!L:L,MATCH($A72,$B$56:$B$1919,0))","v":5342.3750062327708}]
[18,{"$f":"B72+IF('Cleaned Data'!L19>0,1,0)*IF($B$34=\"Overall\",1,IF('Cleaned Data'!K19=$B$34,1,0))*(IF('Cleaned Data'!H19<>\"\",1,0))","v":0},{"$f":"INDEX('Cleaned Data'!H:H,MATCH($A73,$B$56:$B$1919,0))","v":5},{"$f":"INDEX('Cleaned Data'!L:L,MATCH($A73,$B$56:$B$1919,0))","v":7123.1666749770275}]
[19,{"$f":"B73+IF('Cleaned Data'!L20>0,1,0)*IF($B$34=\"Overall\",1,IF('Cleaned Data'!K20=$B$34,1,0))*(IF('Cleaned Data'!H20<>\"\",1,0))","v":0},{"$f":"INDEX('Cleaned Data'!H:H,MATCH($A74,$B$56:$B$1919,0))","v":11},{"$f":"INDEX('Cleaned Data'!L:L,MATCH($A74,$B$56:$B$1919,0))","v":10684.750012465542}]
[20,{"$f":"B74+IF('Cleaned Data'!L21>0,1,0)*IF($B$34=\"Overall\",1,IF('Cleaned Data'!K21=$B$34,1,0))*(IF('Cleaned Data'!H21<>\"\",1,0))","v":0},{"$f":"INDEX('Cleaned Data'!H:H,MATCH($A75,$B$56:$B$1919,0))","v":5},{"$f":"INDEX('Cleaned Data'!L:L,MATCH($A75,$B$56:$B$1919,0))","v":2671.1875031163854}]
[21,{"$f":"B75+IF('Cleaned Data'!L22>0,1,0)*IF($B$34=\"Overall\",1,IF('Cleaned Data'!K22=$B$34,1,0))*(IF('Cleaned Data'!H22<>\"\",1,0))","v":0},{"$f":"INDEX('Cleaned Data'!H:H,MATCH($A76,$B$56:$B$1919,0))","v":3},{"$f":"INDEX('Cleaned Data'!L:L,MATCH($A76,$B$56:$B$1919,0))","v":14246.333349954055}]
[22,{"$f":"B76+IF('Cleaned Data'!L23>0,1,0)*IF($B$34=\"Overall\",1,IF('Cleaned Data'!K23=$B$34,1,0))*(IF('Cleaned Data'!H23<>\"\",1,0))","v":0},{"$f":"INDEX('Cleaned Data'!H:H,MATCH($A77,$B$56:$B$1919,0))","v":3},{"$f":"INDEX('Cleaned Data'!L:L,MATCH($A77,$B$56:$B$1919,0))","v":8547.8000099724322}]
[23,{"$f":"B77+IF('Cleaned Data'!L24>0,1,0)*IF($B$34=\"Overall\",1,IF('Cleaned Data'!K24=$B$34,1,0))*(IF('Cleaned Data'!H24<>\"\",1,0))","v":0},{"$f":"INDEX('Cleaned Data'!H:H,MATCH($A78,$B$56:$B$1919,0))","v":5},{"$f":"INDEX('Cleaned Data'!L:L,MATCH($A78,$B$56:$B$1919,0))","v":7693.0200089751897}]
[24,{"$f":"B78+IF('Cleaned Data'!L25>0,1,0)*IF($B$34=\"Overall\",1,IF('Cleaned Data'!K25=$B$34,1,0))*(IF('Cleaned Data'!H25<>\"\",1,0))","v":0},{"$f":"INDEX('Cleaned Data'!H:H,MATCH($A79,$B$56:$B$1919,0))","v":10},{"$f":"INDEX('Cleaned Data'!L:L,MATCH($A79,$B$56:$B$1919,0))","v":186983.12521814698}]
[25,{"$f":"B79+IF('Cleaned Data'!L26>0,1,0)*IF($B$34=\"Overall\",1,IF('Cleaned Data'!K26=$B$34,1,0))*(IF('Cleaned Data'!H26<>\"\",1,0))","v":0},{"$f":"INDEX('Cleaned Data'!H:H,MATCH($A80,$B$56:$B$1919,0))","v":3},{"$f":"INDEX('Cleaned Data'!L:L,MATCH($A80,$B$56:$B$1919,0))","v":16917.52085307044}]
[26,{"$f":"B80+IF('Cleaned Data'!L27>0,1,0)*IF($B$34=\"Overall\",1,IF('Cleaned Data'!K27=$B$34,1,0))*(IF('Cleaned Data'!H27<>\"\",1,0))","v":0},{"$f":"INDEX('Cleaned Data'!H:H,MATCH($A81,$B$56:$B$1919,0))","v":11},{"$f":"INDEX('Cleaned Data'!L:L,MATCH($A81,$B$56:$B$1919,0))","v":2938.3062534280239}]
[27,{"$f":"B81+IF('Cleaned Data'!L28>0,1,0)*IF($B$34=\"Overall\",1,IF('Cleaned Data'!K28=$B$34,1,0))*(IF('Cleaned Data'!H28<>\"\",1,0))","v":0},{"$f":"INDEX('Cleaned Data'!H:H,MATCH($A82,$B$56:$B$1919,0))","v":4.5},{"$f":"INDEX('Cleaned Data'!L:L,MATCH($A82,$B$56:$B$1919,0))","v":5342.3750062327708}]
[28,{"$f":"B82+IF('Cleaned Data'!L29>0,1,0)*IF($B$34=\"Overall\",1,IF('Cleaned Data'!K29=$B$34,1,0))*(IF('Cleaned Data'!H29<>\"\",1,0))","v":0},{"$f":"INDEX('Cleaned Data'!H:H,MATCH($A83,$B$56:$B$1919,0))","v":3},{"$f":"INDEX('Cleaned Data'!L:L,MATCH($A83,$B$56:$B$1919,0))","v":3561.5833374885137}]
[29,{"$f":"B83+IF('Cleaned Data'!L30>0,1,0)*IF($B$34=\"Overall\",1,IF('Cleaned Data'!K30=$B$34,1,0))*(IF('Cleaned Data'!H30<>\"\",1,0))","v":0},{"$f":"INDEX('Cleaned Data'!H:H,MATCH($A84,$B$56:$B$1919,0))","v":8},{"$f":"INDEX('Cleaned Data'!L:L,MATCH($A84,$B$56:$B$1919,0))","v":8547.8000099724322}]
[30,{"$f":"B84+IF('Cleaned Data'!L31>0,1,0)*IF($B$34=\"Overall\",1,IF('Cleaned Data'!K31=$B$34,1,0))*(IF('Cleaned Data'!H31<>\"\",1,0))","v":0},{"$f":"INDEX('Cleaned Data'!H:H,MATCH($A85,$B$56:$B$1919,0))","v":3},{"$f":"INDEX('Cleaned Data'!L:L,MATCH($A85,$B$56:$B$1919,0))","v":4095.8208381117906}]
[31,{"$f":"B85+IF('Cleaned Data'!L32>0,1,0)*IF($B$34=\"Overall\",1,IF('Cleaned Data'!K32=$B$34,1,0))*(IF('Cleaned Data'!H32<>\"\",1,0))","v":0},{"$f":"INDEX('Cleaned Data'!H:H,MATCH($A86,$B$56:$B$1919,0))","v":4.5},{"$f":"INDEX('Cleaned Data'!L:L,MATCH($A86,$B$56:$B$1919,0))","v":5787.5729234188348}]
[32,{"$f":"B86+IF('Cleaned Data'!L33>0,1,0)*IF($B$34=\"Overall\",1,IF('Cleaned Data'!K33=$B$34,1,0))*(IF('Cleaned Data'!H33<>\"\",1,0))","v":0},{"$f":"INDEX('Cleaned Data'!H:H,MATCH($A87,$B$56:$B$1919,0))","v":5},{"$f":"INDEX('Cleaned Data'!L:L,MATCH($A87,$B$56:$B$1919,0))","v":4451.9791718606421}]
[33,{"$f":"B87+IF('Cleaned Data'!L34>0,1,0)*IF($B$34=\"Overall\",1,IF('Cleaned Data'!K34=$B$34,1,0))*(IF('Cleaned Data'!H34<>\"\",1,0))","v":0},{"$f":"INDEX('Cleaned Data'!H:H,MATCH($A88,$B$56:$B$1919,0))","v":4},{"$f":"INDEX('Cleaned Data'!L:L,MATCH($A88,$B$56:$B$1919,0))","v":8369.7208430980063}]
[34,{"$f":"B88+IF('Cleaned Data'!L35>0,1,0)*IF($B$34=\"Overall\",1,IF('Cleaned Data'!K35=$B$34,1,0))*(IF('Cleaned Data'!H35<>\"\",1,0))","v":0},{"$f":"INDEX('Cleaned Data'!H:H,MATCH($A89,$B$56:$B$1919,0))","v":3},{"$f":"INDEX('Cleaned Data'!L:L,MATCH($A89,$B$56:$B$1919,0))","v":3917.7416712373652}]
[35,{"$f":"B89+IF('Cleaned Data'!L36>0,1,0)*IF($B$34=\"Overall\",1,IF('Cleaned Data'!K36=$B$34,1,0))*(IF('Cleaned Data'!H36<>\"\",1,0))","v":0},{"$f":"INDEX('Cleaned Data'!H:H,MATCH($A90,$B$56:$B$1919,0))","v":2},{"$f":"INDEX('Cleaned Data'!L:L,MATCH($A90,$B$56:$B$1919,0))","v":4630.058338735068}]
[36,{"$f":"B90+IF('Cleaned Data'!L37>0,1,0)*IF($B$34=\"Overall\",1,IF('Cleaned Data'!K37=$B$34,1,0))*(IF('Cleaned Data'!H37<>\"\",1,0))","v":0},{"$f":"INDEX('Cleaned Data'!H:H,MATCH($A91,$B$56:$B$1919,0))","v":3},{"$f":"INDEX('Cleaned Data'!L:L,MATCH($A91,$B$56:$B$1919,0))","v":2136.9500024931081}]
[37,{"$f":"B91+IF('Cleaned Data'!L38>0,1,0)*IF($B$34=\"Overall\",1,IF('Cleaned Data'!K38=$B$34,1,0))*(IF('Cleaned Data'!H38<>\"\",1,0))","v":0},{"$f":"INDEX('Cleaned Data'!H:H,MATCH($A92,$B$56:$B$1919,0))","v":7},{"$f":"INDEX('Cleaned Data'!L:L,MATCH($A92,$B$56:$B$1919,0))","v":2564.3400029917298}]
[38,{"$f":"B92+IF('Cleaned Data'!L39>0,1,0)*IF($B$34=\"Overall\",1,IF('Cleaned Data'!K39=$B$34,1,0))*(IF('Cleaned Data'!H39<>\"\",1,0))","v":0},{"$f":"INDEX('Cleaned Data'!H:H,MATCH($A93,$B$56:$B$1919,0))","v":7},{"$f":"INDEX('Cleaned Data'!L:L,MATCH($A93,$B$56:$B$1919,0))","v":20479.104190558952}]
[39,{"$f":"B93+IF('Cleaned Data'!L40>0,1,0)*IF($B$34=\"Overall\",1,IF('Cleaned Data'!K40=$B$34,1,0))*(IF('Cleaned Data'!H40<>\"\",1,0))","v":0},{"$f":"INDEX('Cleaned Data'!H:H,MATCH($A94,$B$56:$B$1919,0))","v":3},{"$f":"INDEX('Cleaned Data'!L:L,MATCH($A94,$B$56:$B$1919,0))","v":5342.3750062327708}]
[40,{"$f":"B94+IF('Cleaned Data'!L41>0,1,0)*IF($B$34=\"Overall\",1,IF('Cleaned Data'!K41=$B$34,1,0))*(IF('Cleaned Data'!H41<>\"\",1,0))","v":0},{"$f":"INDEX('Cleaned Data'!H:H,MATCH($A95,$B$56:$B$1919,0))","v":2},{"$f":"INDEX('Cleaned Data'!L:L,MATCH($A95,$B$56:$B$1919,0))","v":11539.530013462785}]
[41,{"$f":"B95+IF('Cleaned Data'!L42>0,1,0)*IF($B$34=\"Overall\",1,IF('Cleaned Data'!K42=$B$34,1,0))*(IF('Cleaned Data'!H42<>\"\",1,0))","v":0},{"$f":"INDEX('Cleaned Data'!H:H,MATCH($A96,$B$56:$B$1919,0))","v":6},{"$f":"INDEX('Cleaned Data'!L:L,MATCH($A96,$B$56:$B$1919,0))","v":6767.0083412281756}]
[42,{"$f":"B96+IF('Cleaned Data'!L43>0,1,0)*IF($B$34=\"Overall\",1,IF('Cleaned Data'!K43=$B$34,1,0))*(IF('Cleaned Data'!H43<>\"\",1,0))","v":0},{"$f":"INDEX('Cleaned Data'!H:H,MATCH($A97,$B$56:$B$1919,0))","v":4},{"$f":"INDEX('Cleaned Data'!L:L,MATCH($A97,$B$56:$B$1919,0))","v":4451.9791718606421}]
[43,{"$f":"B97+IF('Cleaned Data'!L44>0,1,0)*IF($B$34=\"Overall\",1,IF('Cleaned Data'!K44=$B$34,1,0))*(IF('Cleaned Data'!H44<>\"\",1,0))","v":0},{"$f":"INDEX('Cleaned Data'!H:H,MATCH($A98,$B$56:$B$1919,0))","v":4.5},{"$f":"INDEX('Cleaned Data'!L:L,MATCH($A98,$B$56:$B$1919,0))","v":2671.1875031163854}]
[44,{"$f":"B98+IF('Cleaned Data'!L45>0,1,0)*IF($B$34=\"Overall\",1,IF('Cleaned Data'!K45=$B$34,1,0))*(IF('Cleaned Data'!H45<>\"\",1,0))","v":0},{"$f":"INDEX('Cleaned Data'!H:H,MATCH($A99,$B$56:$B$1919,0))","v":5},{"$f":"INDEX('Cleaned Data'!L:L,MATCH($A99,$B$56:$B$1919,0))","v":4957.7240057840108}]
[45,{"$f":"B99+IF('Cleaned Data'!L46>0,1,0)*IF($B$34=\"Overall\",1,IF('Cleaned Data'!K46=$B$34,1,0))*(IF('Cleaned Data'!H46<>\"\",1,0))","v":0},{"$f":"INDEX('Cleaned Data'!H:H,MATCH($A100,$B$56:$B$1919,0))","v":14},{"$f":"INDEX('Cleaned Data'!L:L,MATCH($A100,$B$56:$B$1919,0))","v":3205.4250037396623}]
[46,{"$f":"B100+IF('Cleaned Data'!L47>0,1,0)*IF($B$34=\"Overall\",1,IF('Cleaned Data'!K47=$B$34,1,0))*(IF('Cleaned Data'!H47<>\"\",1,0))","v":0},{"$f":"INDEX('Cleaned Data'!H:H,MATCH($A101,$B$56:$B$1919,0))","v":7},{"$f":"INDEX('Cleaned Data'!L:L,MATCH($A101,$B$56:$B$1919,0))","v":14246.333349954055}]
[47,{"$f":"B101+IF('Cleaned Data'!L48>0,1,0)*IF($B$34=\"Overall\",1,IF('Cleaned Data'!K48=$B$34,1,0))*(IF('Cleaned Data'!H48<>\"\",1,0))","v":0},{"$f":"INDEX('Cleaned Data'!H:H,MATCH($A102,$B$56:$B$1919,0))","v":7},{"$f":"INDEX('Cleaned Data'!L:L,MATCH($A102,$B$56:$B$1919,0))","v":5342.3750062327708}]
[48,{"$f":"B102+IF('Cleaned Data'!L49>0,1,0)*IF($B$34=\"Overall\",1,IF('Cleaned Data'!K49=$B$34,1,0))*(IF('Cleaned Data'!H49<>\"\",1,0))","v":0},{"$f":"INDEX('Cleaned Data'!H:H,MATCH($A103,$B$56:$B$1919,0))","v":2},{"$f":"INDEX('Cleaned Data'!L:L,MATCH($A103,$B$56:$B$1919,0))","v":6588.9291743537506}]
[49,{"$f":"B103+IF('Cleaned Data'!L50>0,1,0)*IF($B$34=\"Overall\",1,IF('Cleaned Data'!K50=$B$34,1,0))*(IF('Cleaned Data'!H50<>\"\",1,0))","v":0},{"$f":"INDEX('Cleaned Data'!H:H,MATCH($A104,$B$56:$B$1919,0))","v":2},{"$f":"INDEX('Cleaned Data'!L:L,MATCH($A104,$B$56:$B$1919,0))","v":6588.9291743537506}]
[50,{"$f":"B104+IF('Cleaned Data'!L51>0,1,0)*IF($B$34=\"Overall\",1,IF('Cleaned Data'!K51=$B$34,1,0))*(IF('Cleaned Data'!H51<>\"\",1,0))","v":0},{"$f":"INDEX('Cleaned Data'!H:H,MATCH($A105,$B$56:$B$1919,0))","v":4},{"$f":"INDEX('Cleaned Data'!L:L,MATCH($A105,$B$56:$B$1919,0))","v":12821.700014958649}]
[51,{"$f":"B105+IF('Cleaned Data'!L52>0,1,0)*IF($B$34=\"Overall\",1,IF('Cleaned Data'!K52=$B$34,1,0))*(IF('Cleaned Data'!H52<>\"\",1,0))","v":0},{"$f":"INDEX('Cleaned Data'!H:H,MATCH($A106,$B$56:$B$1919,0))","v":2},{"$f":"INDEX('Cleaned Data'!L:L,MATCH($A106,$B$56:$B$1919,0))","v":10684.750012465542}]
[52,{"$f":"B106+IF('Cleaned Data'!L53>0,1,0)*IF($B$34=\"Overall\",1,IF('Cleaned Data'!K53=$B$34,1,0))*(IF('Cleaned Data'!H53<>\"\",1,0))","v":0},{"$f":"INDEX('Cleaned Data'!H:H,MATCH($A107,$B$56:$B$1919,0))","v":0},{"$f":"INDEX('Cleaned Data'!L:L,MATCH($A107,$B$56:$B$1919,0))","v":2136.9500024931081}]
[53,{"$f":"B107+IF('Cleaned Data'!L54>0,1,0)*IF($B$34=\"Overall\",1,IF('Cleaned Data'!K54=$B$34,1,0))*(IF('Cleaned Data'!H54<>\"\",1,0))","v":0},{"$f":"INDEX('Cleaned Data'!H:H,MATCH($A108,$B$56:$B$1919,0))","v":4},{"$f":"INDEX('Cleaned Data'!L:L,MATCH($A108,$B$56:$B$1919,0))","v":8547.8000099724322}]
[54,{"$f":"B108+IF('Cleaned Data'!L55>0,1,0)*IF($B$34=\"Overall\",1,IF('Cleaned Data'!K55=$B$34,1,0))*(IF('Cleaned Data'!H55<>\"\",1,0))","v":0},{"$f":"INDEX('Cleaned Data'!H:H,MATCH($A109,$B$56:$B$1919,0))","v":8},{"$f":"INDEX('Cleaned Data'!L:L,MATCH($A109,$B$56:$B$1919,0))","v":8013.5625093491553}]
[55,{"$f":"B109+IF('Cleaned Data'!L56>0,1,0)*IF($B$34=\"Overall\",1,IF('Cleaned Data'!K56=$B$34,1,0))*(IF('Cleaned Data'!H56<>\"\",1,0))","v":0},{"$f":"INDEX('Cleaned Data'!H:H,MATCH($A110,$B$56:$B$1919,0))","v":0},{"$f":"INDEX('Cleaned Data'!L:L,MATCH($A110,$B$56:$B$1919,0))","v":7123.1666749770275}]
[56,{"$f":"B110+IF('Cleaned Data'!L57>0,1,0)*IF($B$34=\"Overall\",1,IF('Cleaned Data'!K57=$B$34,1,0))*(IF('Cleaned Data'!H57<>\"\",1,0))","v":0},{"$f":"INDEX('Cleaned Data'!H:H,MATCH($A111,$B$56:$B$1919,0))","v":5},{"$f":"INDEX('Cleaned Data'!L:L,MATCH($A111,$B$56:$B$1919,0))","v":40958.208381117904}]
[57,{"$f":"B111+IF('Cleaned Data'!L58>0,1,0)*IF($B$34=\"Overall\",1,IF('Cleaned Data'!K58=$B$34,1,0))*(IF('Cleaned Data'!H58<>\"\",1,0))","v":0},{"$f":"INDEX('Cleaned Data'!H:H,MATCH($A112,$B$56:$B$1919,0))","v":2},{"$f":"INDEX('Cleaned Data'!L:L,MATCH($A112,$B$56:$B$1919,0))","v":11325.835013213473}]
[58,{"$f":"B112+IF('Cleaned Data'!L59>0,1,0)*IF($B$34=\"Overall\",1,IF('Cleaned Data'!K59=$B$34,1,0))*(IF('Cleaned Data'!H59<>\"\",1,0))","v":0},{"$f":"INDEX('Cleaned Data'!H:H,MATCH($A113,$B$56:$B$1919,0))","v":1},{"$f":"INDEX('Cleaned Data'!L:L,MATCH($A113,$B$56:$B$1919,0))","v":8903.9583437212841}]
[59,{"$f":"B113+IF('Cleaned Data'!L60>0,1,0)*IF($B$34=\"Overall\",1,IF('Cleaned Data'!K60=$B$34,1,0))*(IF('Cleaned Data'!H60<>\"\",1,0))","v":0},{"$f":"INDEX('Cleaned Data'!H:H,MATCH($A114,$B$56:$B$1919,0))","v":2},{"$f":"INDEX('Cleaned Data'!L:L,MATCH($A114,$B$56:$B$1919,0))","v":8903.9583437212841}]
[60,{"$f":"B114+IF('Cleaned Data'!L61>0,1,0)*IF($B$34=\"Overall\",1,IF('Cleaned Data'!K61=$B$34,1,0))*(IF('Cleaned Data'!H61<>\"\",1,0))","v":0},{"$f":"INDEX('Cleaned Data'!H:H,MATCH($A115,$B$56:$B$1919,0))","v":10},{"$f":"INDEX('Cleaned Data'!L:L,MATCH($A115,$B$56:$B$1919,0))","v":12821.700014958649}]
[61,{"$f":"B115+IF('Cleaned Data'!L62>0,1,0)*IF($B$34=\"Overall\",1,IF('Cleaned Data'!K62=$B$34,1,0))*(IF('Cleaned Data'!H62<>\"\",1,0))","v":0},{"$f":"INDEX('Cleaned Data'!H:H,MATCH($A116,$B$56:$B$1919,0))","v":7},{"$f":"INDEX('Cleaned Data'!L:L,MATCH($A116,$B$56:$B$1919,0))","v":3205.4250037396623}]
[62,{"$f":"B116+IF('Cleaned Data'!L63>0,1,0)*IF($B$34=\"Overall\",1,IF('Cleaned Data'!K63=$B$34,1,0))*(IF('Cleaned Data'!H63<>\"\",1,0))","v":0},{"$f":"INDEX('Cleaned Data'!H:H,MATCH($A117,$B$56:$B$1919,0))","v":6},{"$f":"INDEX('Cleaned Data'!L:L,MATCH($A117,$B$56:$B$1919,0))","v":6677.9687577909626}]
[63,{"$f":"B117+IF('Cleaned Data'!L64>0,1,0)*IF($B$34=\"Overall\",1,IF('Cleaned Data'!K64=$B$34,1,0))*(IF('Cleaned Data'!H64<>\"\",1,0))","v":0},{"$f":"INDEX('Cleaned Data'!H:H,MATCH($A118,$B$56:$B$1919,0))","v":4},{"$f":"INDEX('Cleaned Data'!L:L,MATCH($A118,$B$56:$B$1919,0))","v":7123.1666749770275}]
[64,{"$f":"B118+IF('Cleaned Data'!L65>0,1,0)*IF($B$34=\"Overall\",1,IF('Cleaned Data'!K65=$B$34,1,0))*(IF('Cleaned Data'!H65<>\"\",1,0))","v":0},{"$f":"INDEX('Cleaned Data'!H:H,MATCH($A119,$B$56:$B$1919,0))","v":6},{"$f":"INDEX('Cleaned Data'!L:L,MATCH($A119,$B$56:$B$1919,0))","v":4451.9791718606421}]
[65,{"$f":"B119+IF('Cleaned Data'!L66>0,1,0)*IF($B$34=\"Overall\",1,IF('Cleaned Data'!K66=$B$34,1,0))*(IF('Cleaned Data'!H66<>\"\",1,0))","v":0},{"$f":"INDEX('Cleaned Data'!H:H,MATCH($A120,$B$56:$B$1919,0))","v":1},{"$f":"INDEX('Cleaned Data'!L:L,MATCH($A120,$B$56:$B$1919,0))","v":6945.0875081026015}]
[66,{"$f":"B120+IF('Cleaned Data'!L67>0,1,0)*IF($B$34=\"Overall\",1,IF('Cleaned Data'!K67=$B$34,1,0))*(IF('Cleaned Data'!H67<>\"\",1,0))","v":0},{"$f":"INDEX('Cleaned Data'!H:H,MATCH($A121,$B$56:$B$1919,0))","v":7},{"$f":"INDEX('Cleaned Data'!L:L,MATCH($A121,$B$56:$B$1919,0))","v":10684.750012465542}]
[67,{"$f":"B121+IF('Cleaned Data'!L68>0,1,0)*IF($B$34=\"Overall\",1,IF('Cleaned Data'!K68=$B$34,1,0))*(IF('Cleaned Data'!H68<>\"\",1,0))","v":0},{"$f":"INDEX('Cleaned Data'!H:H,MATCH($A122,$B$56:$B$1919,0))","v":3.5},{"$f":"INDEX('Cleaned Data'!L:L,MATCH($A122,$B$56:$B$1919,0))","v":8547.8000099724322}]
[68,{"$f":"B122+IF('Cleaned Data'!L69>0,1,0)*IF($B$34=\"Overall\",1,IF('Cleaned Data'!K69=$B$34,1,0))*(IF('Cleaned Data'!H69<>\"\",1,0))","v":0},{"$f":"INDEX('Cleaned Data'!H:H,MATCH($A123,$B$56:$B$1919,0))","v":12},{"$f":"INDEX('Cleaned Data'!L:L,MATCH($A123,$B$56:$B$1919,0))","v":17807.916687442568}]
[69,{"$f":"B123+IF('Cleaned Data'!L70>0,1,0)*IF($B$34=\"Overall\",1,IF('Cleaned Data'!K70=$B$34,1,0))*(IF('Cleaned Data'!H70<>\"\",1,0))","v":0},{"$f":"INDEX('Cleaned Data'!H:H,MATCH($A124,$B$56:$B$1919,0))","v":4},{"$f":"INDEX('Cleaned Data'!L:L,MATCH($A124,$B$56:$B$1919,0))","v":3205.4250037396623}]
[70,{"$f":"B124+IF('Cleaned Data'!L71>0,1,0)*IF($B$34=\"Overall\",1,IF('Cleaned Data'!K71=$B$34,1,0))*(IF('Cleaned Data'!H71<>\"\",1,0))","v":0},{"$f":"INDEX('Cleaned Data'!H:H,MATCH($A125,$B$56:$B$1919,0))","v":13},{"$f":"INDEX('Cleaned Data'!L:L,MATCH($A125,$B$56:$B$1919,0))","v":14246.333349954055}]
[71,{"$f":"B125+IF('Cleaned Data'!L72>0,1,0)*IF($B$34=\"Overall\",1,IF('Cleaned Data'!K72=$B$34,1,0))*(IF('Cleaned Data'!H72<>\"\",1,0))","v":0},{"$f":"INDEX('Cleaned Data'!H:H,MATCH($A126,$B$56:$B$1919,0))","v":8},{"$f":"INDEX('Cleaned Data'!L:L,MATCH($A126,$B$56:$B$1919,0))","v":10684.750012465542}]
[72,{"$f":"B126+IF('Cleaned Data'!L73>0,1,0)*IF($B$34=\"Overall\",1,IF('Cleaned Data'!K73=$B$34,1,0))*(IF('Cleaned Data'!H73<>\"\",1,0))","v":0},{"$f":"INDEX('Cleaned Data'!H:H,MATCH($A127,$B$56:$B$1919,0))","v":5},{"$f":"INDEX('Cleaned Data'!L:L,MATCH($A127,$B$56:$B$1919,0))","v":7301.2458418514525}]
[73,{"$f":"B127+IF('Cleaned Data'!L74>0,1,0)*IF($B$34=\"Overall\",1,IF('Cleaned Data'!K74=$B$34,1,0))*(IF('Cleaned Data'!H74<>\"\",1,0))","v":0},{"$f":"INDEX('Cleaned Data'!H:H,MATCH($A128,$B$56:$B$1919,0))","v":5},{"$f":"INDEX('Cleaned Data'!L:L,MATCH($A128,$B$56:$B$1919,0))","v":10684.750012465542}]
[74,{"$f":"B128+IF('Cleaned Data'!L75>0,1,0)*IF($B$34=\"Overall\",1,IF('Cleaned Data'!K75=$B$34,1,0))*(IF('Cleaned Data'!H75<>\"\",1,0))","v":0},{"$f":"INDEX('Cleaned Data'!H:H,MATCH($A129,$B$56:$B$1919,0))","v":6},{"$f":"INDEX('Cleaned Data'!L:L,MATCH($A129,$B$56:$B$1919,0))","v":6410.8500074793246}]
[75,{"$f":"B129+IF('Cleaned Data'!L76>0,1,0)*IF($B$34=\"Overall\",1,IF('Cleaned Data'!K76=$B$34,1,0))*(IF('Cleaned Data'!H76<>\"\",1,0))","v":0},{"$f":"INDEX('Cleaned Data'!H:H,MATCH($A130,$B$56:$B$1919,0))","v":8},{"$f":"INDEX('Cleaned Data'!L:L,MATCH($A130,$B$56:$B$1919,0))","v":4273.9000049862161}]
[76,{"$f":"B130+IF('Cleaned Data'!L77>0,1,0)*IF($B$34=\"Overall\",1,IF('Cleaned Data'!K77=$B$34,1,0))*(IF('Cleaned Data'!H77<>\"\",1,0))","v":0},{"$f":"INDEX('Cleaned Data'!H:H,MATCH($A131,$B$56:$B$1919,0))","v":5.5},{"$f":"INDEX('Cleaned Data'!L:L,MATCH($A131,$B$56:$B$1919,0))","v":4006.7812546745777}]
[77,{"$f":"B131+IF('Cleaned Data'!L78>0,1,0)*IF($B$34=\"Overall\",1,IF('Cleaned Data'!K78=$B$34,1,0))*(IF('Cleaned Data'!H78<>\"\",1,0))","v":0},{"$f":"INDEX('Cleaned Data'!H:H,MATCH($A132,$B$56:$B$1919,0))","v":20},{"$f":"INDEX('Cleaned Data'!L:L,MATCH($A132,$B$56:$B$1919,0))","v":4273.9000049862161}]
[78,{"$f":"B132+IF('Cleaned Data'!L79>0,1,0)*IF($B$34=\"Overall\",1,IF('Cleaned Data'!K79=$B$34,1,0))*(IF('Cleaned Data'!H79<>\"\",1,0))","v":0},{"$f":"INDEX('Cleaned Data'!H:H,MATCH($A133,$B$56:$B$1919,0))","v":5},{"$f":"INDEX('Cleaned Data'!L:L,MATCH($A133,$B$56:$B$1919,0))","v":12465.541681209797}]
[79,{"$f":"B133+IF('Cleaned Data'!L80>0,1,0)*IF($B$34=\"Overall\",1,IF('Cleaned Data'!K80=$B$34,1,0))*(IF('Cleaned Data'!H80<>\"\",1,0))","v":0},{"$f":"INDEX('Cleaned Data'!H:H,MATCH($A134,$B$56:$B$1919,0))","v":2},{"$f":"INDEX('Cleaned Data'!L:L,MATCH($A134,$B$56:$B$1919,0))","v":2136.9500024931081}]
[80,{"$f":"B134+IF('Cleaned Data'!L81>0,1,0)*IF($B$34=\"Overall\",1,IF('Cleaned Data'!K81=$B$34,1,0))*(IF('Cleaned Data'!H81<>\"\",1,0))","v":0},{"$f":"INDEX('Cleaned Data'!H:H,MATCH($A135,$B$56:$B$1919,0))","v":14},{"$f":"INDEX('Cleaned Data'!L:L,MATCH($A135,$B$56:$B$1919,0))","v":21369.500024931083}]
[81,{"$f":"B135+IF('Cleaned Data'!L82>0,1,0)*IF($B$34=\"Overall\",1,IF('Cleaned Data'!K82=$B$34,1,0))*(IF('Cleaned Data'!H82<>\"\",1,0))","v":0},{"$f":"INDEX('Cleaned Data'!H:H,MATCH($A136,$B$56:$B$1919,0))","v":10},{"$f":"INDEX('Cleaned Data'!L:L,MATCH($A136,$B$56:$B$1919,0))","v":3650.6229209257262}]
[82,{"$f":"B136+IF('Cleaned Data'!L83>0,1,0)*IF($B$34=\"Overall\",1,IF('Cleaned Data'!K83=$B$34,1,0))*(IF('Cleaned Data'!H83<>\"\",1,0))","v":0},{"$f":"INDEX('Cleaned Data'!H:H,MATCH($A137,$B$56:$B$1919,0))","v":4},{"$f":"INDEX('Cleaned Data'!L:L,MATCH($A137,$B$56:$B$1919,0))","v":5342.3750062327708}]
[83,{"$f":"B137+IF('Cleaned Data'!L84>0,1,0)*IF($B$34=\"Overall\",1,IF('Cleaned Data'!K84=$B$34,1,0))*(IF('Cleaned Data'!H84<>\"\",1,0))","v":0},{"$f":"INDEX('Cleaned Data'!H:H,MATCH($A138,$B$56:$B$1919,0))","v":2},{"$f":"INDEX('Cleaned Data'!L:L,MATCH($A138,$B$56:$B$1919,0))","v":3917.7416712373652}]
[84,{"$f":"B138+IF('Cleaned Data'!L85>0,1,0)*IF($B$34=\"Overall\",1,IF('Cleaned Data'!K85=$B$34,1,0))*(IF('Cleaned Data'!H85<>\"\",1,0))","v":0},{"$f":"INDEX('Cleaned Data'!H:H,MATCH($A139,$B$56:$B$1919,0))","v":11},{"$f":"INDEX('Cleaned Data'!L:L,MATCH($A139,$B$56:$B$1919,0))","v":8547.8000099724322}]
[85,{"$f":"B139+IF('Cleaned Data'!L86>0,1,0)*IF($B$34=\"Overall\",1,IF('Cleaned Data'!K86=$B$34,1,0))*(IF('Cleaned Data'!H86<>\"\",1,0))","v":0},{"$f":"INDEX('Cleaned Data'!H:H,MATCH($A140,$B$56:$B$1919,0))","v":2.4},{"$f":"INDEX('Cleaned Data'!L:L,MATCH($A140,$B$56:$B$1919,0))","v":10150.512511842264}]
[86,{"$f":"B140+IF('Cleaned Data'!L87>0,1,0)*IF($B$34=\"Overall\",1,IF('Cleaned Data'!K87=$B$34,1,0))*(IF('Cleaned Data'!H87<>\"\",1,0))","v":0},{"$f":"INDEX('Cleaned Data'!H:H,MATCH($A141,$B$56:$B$1919,0))","v":7},{"$f":"INDEX('Cleaned Data'!L:L,MATCH($A141,$B$56:$B$1919,0))","v":11325.835013213473}]
[87,{"$f":"B141+IF('Cleaned Data'!L88>0,1,0)*IF($B$34=\"Overall\",1,IF('Cleaned Data'!K88=$B$34,1,0))*(IF('Cleaned Data'!H88<>\"\",1,0))","v":0},{"$f":"INDEX('Cleaned Data'!H:H,MATCH($A142,$B$56:$B$1919,0))","v":5},{"$f":"INDEX('Cleaned Data'!L:L,MATCH($A142,$B$56:$B$1919,0))","v":40067.812546745779}]
[88,{"$f":"B142+IF('Cleaned Data'!L89>0,1,0)*IF($B$34=\"Overall\",1,IF('Cleaned Data'!K89=$B$34,1,0))*(IF('Cleaned Data'!H89<>\"\",1,0))","v":0},{"$f":"INDEX('Cleaned Data'!H:H,MATCH($A143,$B$56:$B$1919,0))","v":4},{"$f":"INDEX('Cleaned Data'!L:L,MATCH($A143,$B$56:$B$1919,0))","v":4273.9000049862161}]
[89,{"$f":"B143+IF('Cleaned Data'!L90>0,1,0)*IF($B$34=\"Overall\",1,IF('Cleaned Data'!K90=$B$34,1,0))*(IF('Cleaned Data'!H90<>\"\",1,0))","v":0},{"$f":"INDEX('Cleaned Data'!H:H,MATCH($A144,$B$56:$B$1919,0))","v":7},{"$f":"INDEX('Cleaned Data'!L:L,MATCH($A144,$B$56:$B$1919,0))","v":7123.1666749770275}]
[90,{"$f":"B144+IF('Cleaned Data'!L91>0,1,0)*IF($B$34=\"Overall\",1,IF('Cleaned Data'!K91=$B$34,1,0))*(IF('Cleaned Data'!H91<>\"\",1,0))","v":0},{"$f":"INDEX('Cleaned Data'!H:H,MATCH($A145,$B$56:$B$1919,0))","v":1.5},{"$f":"INDEX('Cleaned Data'!L:L,MATCH($A145,$B$56:$B$1919,0))","v":8013.5625093491553}]
[91,{"$f":"B145+IF('Cleaned Data'!L92>0,1,0)*IF($B$34=\"Overall\",1,IF('Cleaned Data'!K92=$B$34,1,0))*(IF('Cleaned Data'!H92<>\"\",1,0))","v":0},{"$f":"INDEX('Cleaned Data'!H:H,MATCH($A146,$B$56:$B$1919,0))","v":2},{"$f":"INDEX('Cleaned Data'!L:L,MATCH($A146,$B$56:$B$1919,0))","v":2671.1875031163854}]
[92,{"$f":"B146+IF('Cleaned Data'!L93>0,1,0)*IF($B$34=\"Overall\",1,IF('Cleaned Data'!K93=$B$34,1,0))*(IF('Cleaned Data'!H93<>\"\",1,0))","v":0},{"$f":"INDEX('Cleaned Data'!H:H,MATCH($A147,$B$56:$B$1919,0))","v":6},{"$f":"INDEX('Cleaned Data'!L:L,MATCH($A147,$B$56:$B$1919,0))","v":20514.720023933838}]
[93,{"$f":"B147+IF('Cleaned Data'!L94>0,1,0)*IF($B$34=\"Overall\",1,IF('Cleaned Data'!K94=$B$34,1,0))*(IF('Cleaned Data'!H94<>\"\",1,0))","v":0},{"$f":"INDEX('Cleaned Data'!H:H,MATCH($A148,$B$56:$B$1919,0))","v":7},{"$f":"INDEX('Cleaned Data'!L:L,MATCH($A148,$B$56:$B$1919,0))","v":6713.584591165848}]
[94,{"$f":"B148+IF('Cleaned Data'!L95>0,1,0)*IF($B$34=\"Overall\",1,IF('Cleaned Data'!K95=$B$34,1,0))*(IF('Cleaned Data'!H95<>\"\",1,0))","v":0},{"$f":"INDEX('Cleaned Data'!H:H,MATCH($A149,$B$56:$B$1919,0))","v":4},{"$f":"INDEX('Cleaned Data'!L:L,MATCH($A149,$B$56:$B$1919,0))","v":10684.750012465542}]
[95,{"$f":"B149+IF('Cleaned Data'!L96>0,1,0)*IF($B$34=\"Overall\",1,IF('Cleaned Data'!K96=$B$34,1,0))*(IF('Cleaned Data'!H96<>\"\",1,0))","v":0},{"$f":"INDEX('Cleaned Data'!H:H,MATCH($A150,$B$56:$B$1919,0))","v":2},{"$f":"INDEX('Cleaned Data'!L:L,MATCH($A150,$B$56:$B$1919,0))","v":15136.729184326183}]
[96,{"$f":"B150+IF('Cleaned Data'!L97>0,1,0)*IF($B$34=\"Overall\",1,IF('Cleaned Data'!K97=$B$34,1,0))*(IF('Cleaned Data'!H97<>\"\",1,0))","v":0},{"$f":"INDEX('Cleaned Data'!H:H,MATCH($A151,$B$56:$B$1919,0))","v":6},{"$f":"INDEX('Cleaned Data'!L:L,MATCH($A151,$B$56:$B$1919,0))","v":8013.5625093491553}]
[97,{"$f":"B151+IF('Cleaned Data'!L98>0,1,0)*IF($B$34=\"Overall\",1,IF('Cleaned Data'!K98=$B$34,1,0))*(IF('Cleaned Data'!H98<>\"\",1,0))","v":0},{"$f":"INDEX('Cleaned Data'!H:H,MATCH($A152,$B$56:$B$1919,0))","v":2},{"$f":"INDEX('Cleaned Data'!L:L,MATCH($A152,$B$56:$B$1919,0))","v":3027.3458368652364}]
[98,{"$f":"B152+IF('Cleaned Data'!L99>0,1,0)*IF($B$34=\"Overall\",1,IF('Cleaned Data'!K99=$B$34,1,0))*(IF('Cleaned Data'!H99<>\"\",1,0))","v":0},{"$f":"INDEX('Cleaned Data'!H:H,MATCH($A153,$B$56:$B$1919,0))","v":3},{"$f":"INDEX('Cleaned Data'!L:L,MATCH($A153,$B$56:$B$1919,0))","v":4273.9000049862161}]
[99,{"$f":"B153+IF('Cleaned Data'!L100>0,1,0)*IF($B$34=\"Overall\",1,IF('Cleaned Data'!K100=$B$34,1,0))*(IF('Cleaned Data'!H100<>\"\",1,0))","v":0},{"$f":"INDEX('Cleaned Data'!H:H,MATCH($A154,$B$56:$B$1919,0))","v":5},{"$f":"INDEX('Cleaned Data'!L:L,MATCH($A154,$B$56:$B$1919,0))","v":11575.14584683767}]
[100,{"$f":"B154+IF('Cleaned Data'!L101>0,1,0)*IF($B$34=\"Overall\",1,IF('Cleaned Data'!K101=$B$34,1,0))*(IF('Cleaned Data'!H101<>\"\",1,0))","v":0},{"$f":"INDEX('Cleaned Data'!H:H,MATCH($A155,$B$56:$B$1919,0))","v":0},{"$f":"INDEX('Cleaned Data'!L:L,MATCH($A155,$B$56:$B$1919,0))","v":9188.8850107203652}]
[101,{"$f":"B155+IF('Cleaned Data'!L102>0,1,0)*IF($B$34=\"Overall\",1,IF('Cleaned Data'!K102=$B$34,1,0))*(IF('Cleaned Data'!H102<>\"\",1,0))","v":0},{"$f":"INDEX('Cleaned Data'!H:H,MATCH($A156,$B$56:$B$1919,0))","v":3},{"$f":"INDEX('Cleaned Data'!L:L,MATCH($A156,$B$56:$B$1919,0))","v":8975.1900104710548}]
[102,{"$f":"B156+IF('Cleaned Data'!L103>0,1,0)*IF($B$34=\"Overall\",1,IF('Cleaned Data'!K103=$B$34,1,0))*(IF('Cleaned Data'!H103<>\"\",1,0))","v":0},{"$f":"INDEX('Cleaned Data'!H:H,MATCH($A157,$B$56:$B$1919,0))","v":1},{"$f":"INDEX('Cleaned Data'!L:L,MATCH($A157,$B$56:$B$1919,0))","v":2564.3400029917298}]
[103,{"$f":"B157+IF('Cleaned Data'!L104>0,1,0)*IF($B$34=\"Overall\",1,IF('Cleaned Data'!K104=$B$34,1,0))*(IF('Cleaned Data'!H104<>\"\",1,0))","v":0},{"$f":"INDEX('Cleaned Data'!H:H,MATCH($A158,$B$56:$B$1919,0))","v":5},{"$f":"INDEX('Cleaned Data'!L:L,MATCH($A158,$B$56:$B$1919,0))","v":10684.750012465542}]
[104,{"$f":"B158+IF('Cleaned Data'!L105>0,1,0)*IF($B$34=\"Overall\",1,IF('Cleaned Data'!K105=$B$34,1,0))*(IF('Cleaned Data'!H105<>\"\",1,0))","v":0},{"$f":"INDEX('Cleaned Data'!H:H,MATCH($A159,$B$56:$B$1919,0))","v":1.1000000000000001},{"$f":"INDEX('Cleaned Data'!L:L,MATCH($A159,$B$56:$B$1919,0))","v":30273.458368652366}]
[105,{"$f":"B159+IF('Cleaned Data'!L106>0,1,0)*IF($B$34=\"Overall\",1,IF('Cleaned Data'!K106=$B$34,1,0))*(IF('Cleaned Data'!H106<>\"\",1,0))","v":0},{"$f":"INDEX('Cleaned Data'!H:H,MATCH($A160,$B$56:$B$1919,0))","v":4},{"$f":"INDEX('Cleaned Data'!L:L,MATCH($A160,$B$56:$B$1919,0))","v":6410.8500074793246}]
[106,{"$f":"B160+IF('Cleaned Data'!L107>0,1,0)*IF($B$34=\"Overall\",1,IF('Cleaned Data'!K107=$B$34,1,0))*(IF('Cleaned Data'!H107<>\"\",1,0))","v":0},{"$f":"INDEX('Cleaned Data'!H:H,MATCH($A161,$B$56:$B$1919,0))","v":1},{"$f":"INDEX('Cleaned Data'!L:L,MATCH($A161,$B$56:$B$1919,0))","v":9794.354178093412}]
[107,{"$f":"B161+IF('Cleaned Data'!L108>0,1,0)*IF($B$34=\"Overall\",1,IF('Cleaned Data'!K108=$B$34,1,0))*(IF('Cleaned Data'!H108<>\"\",1,0))","v":0},{"$f":"INDEX('Cleaned Data'!H:H,MATCH($A162,$B$56:$B$1919,0))","v":20},{"$f":"INDEX('Cleaned Data'!L:L,MATCH($A162,$B$56:$B$1919,0))","v":10684.750012465542}]
[108,{"$f":"B162+IF('Cleaned Data'!L109>0,1,0)*IF($B$34=\"Overall\",1,IF('Cleaned Data'!K109=$B$34,1,0))*(IF('Cleaned Data'!H109<>\"\",1,0))","v":0},{"$f":"INDEX('Cleaned Data'!H:H,MATCH($A163,$B$56:$B$1919,0))","v":18},{"$f":"INDEX('Cleaned Data'!L:L,MATCH($A163,$B$56:$B$1919,0))","v":10684.750012465542}]
[109,{"$f":"B163+IF('Cleaned Data'!L110>0,1,0)*IF($B$34=\"Overall\",1,IF('Cleaned Data'!K110=$B$34,1,0))*(IF('Cleaned Data'!H110<>\"\",1,0))","v":0},{"$f":"INDEX('Cleaned Data'!H:H,MATCH($A164,$B$56:$B$1919,0))","v":10},{"$f":"INDEX('Cleaned Data'!L:L,MATCH($A164,$B$56:$B$1919,0))","v":17807.916687442568}]
[110,{"$f":"B164+IF('Cleaned Data'!L111>0,1,0)*IF($B$34=\"Overall\",1,IF('Cleaned Data'!K111=$B$34,1,0))*(IF('Cleaned Data'!H111<>\"\",1,0))","v":0},{"$f":"INDEX('Cleaned Data'!H:H,MATCH($A165,$B$56:$B$1919,0))","v":9},{"$f":"INDEX('Cleaned Data'!L:L,MATCH($A165,$B$56:$B$1919,0))","v":16027.125018698311}]
[111,{"$f":"B165+IF('Cleaned Data'!L112>0,1,0)*IF($B$34=\"Overall\",1,IF('Cleaned Data'!K112=$B$34,1,0))*(IF('Cleaned Data'!H112<>\"\",1,0))","v":0},{"$f":"INDEX('Cleaned Data'!H:H,MATCH($A166,$B$56:$B$1919,0))","v":18},{"$f":"INDEX('Cleaned Data'!L:L,MATCH($A166,$B$56:$B$1919,0))","v":21369.500024931083}]
[112,{"$f":"B166+IF('Cleaned Data'!L113>0,1,0)*IF($B$34=\"Overall\",1,IF('Cleaned Data'!K113=$B$34,1,0))*(IF('Cleaned Data'!H113<>\"\",1,0))","v":0},{"$f":"INDEX('Cleaned Data'!H:H,MATCH($A167,$B$56:$B$1919,0))","v":1},{"$f":"INDEX('Cleaned Data'!L:L,MATCH($A167,$B$56:$B$1919,0))","v":3561.5833374885137}]
[113,{"$f":"B167+IF('Cleaned Data'!L114>0,1,0)*IF($B$34=\"Overall\",1,IF('Cleaned Data'!K114=$B$34,1,0))*(IF('Cleaned Data'!H114<>\"\",1,0))","v":0},{"$f":"INDEX('Cleaned Data'!H:H,MATCH($A168,$B$56:$B$1919,0))","v":2},{"$f":"INDEX('Cleaned Data'!L:L,MATCH($A168,$B$56:$B$1919,0))","v":3561.5833374885137}]
[114,{"$f":"B168+IF('Cleaned Data'!L115>0,1,0)*IF($B$34=\"Overall\",1,IF('Cleaned Data'!K115=$B$34,1,0))*(IF('Cleaned Data'!H115<>\"\",1,0))","v":0},{"$f":"INDEX('Cleaned Data'!H:H,MATCH($A169,$B$56:$B$1919,0))","v":6.5},{"$f":"INDEX('Cleaned Data'!L:L,MATCH($A169,$B$56:$B$1919,0))","v":17807.916687442568}]
[115,{"$f":"B169+IF('Cleaned Data'!L116>0,1,0)*IF($B$34=\"Overall\",1,IF('Cleaned Data'!K116=$B$34,1,0))*(IF('Cleaned Data'!H116<>\"\",1,0))","v":0},{"$f":"INDEX('Cleaned Data'!H:H,MATCH($A170,$B$56:$B$1919,0))","v":3.5},{"$f":"INDEX('Cleaned Data'!L:L,MATCH($A170,$B$56:$B$1919,0))","v":11575.14584683767}]
[116,{"$f":"B170+IF('Cleaned Data'!L117>0,1,0)*IF($B$34=\"Overall\",1,IF('Cleaned Data'!K117=$B$34,1,0))*(IF('Cleaned Data'!H117<>\"\",1,0))","v":0},{"$f":"INDEX('Cleaned Data'!H:H,MATCH($A171,$B$56:$B$1919,0))","v":1},{"$f":"INDEX('Cleaned Data'!L:L,MATCH($A171,$B$56:$B$1919,0))","v":9794.354178093412}]
[117,{"$f":"B171+IF('Cleaned Data'!L118>0,1,0)*IF($B$34=\"Overall\",1,IF('Cleaned Data'!K118=$B$34,1,0))*(IF('Cleaned Data'!H118<>\"\",1,0))","v":0},{"$f":"INDEX('Cleaned Data'!H:H,MATCH($A172,$B$56:$B$1919,0))","v":8},{"$f":"INDEX('Cleaned Data'!L:L,MATCH($A172,$B$56:$B$1919,0))","v":9616.275011218986}]
[118,{"$f":"B172+IF('Cleaned Data'!L119>0,1,0)*IF($B$34=\"Overall\",1,IF('Cleaned Data'!K119=$B$34,1,0))*(IF('Cleaned Data'!H119<>\"\",1,0))","v":0},{"$f":"INDEX('Cleaned Data'!H:H,MATCH($A173,$B$56:$B$1919,0))","v":1},{"$f":"INDEX('Cleaned Data'!L:L,MATCH($A173,$B$56:$B$1919,0))","v":2564.3400029917298}]
[119,{"$f":"B173+IF('Cleaned Data'!L120>0,1,0)*IF($B$34=\"Overall\",1,IF('Cleaned Data'!K120=$B$34,1,0))*(IF('Cleaned Data'!H120<>\"\",1,0))","v":0},{"$f":"INDEX('Cleaned Data'!H:H,MATCH($A174,$B$56:$B$1919,0))","v":10},{"$f":"INDEX('Cleaned Data'!L:L,MATCH($A174,$B$56:$B$1919,0))","v":5342.3750062327708}]
[120,{"$f":"B174+IF('Cleaned Data'!L121>0,1,0)*IF($B$34=\"Overall\",1,IF('Cleaned Data'!K121=$B$34,1,0))*(IF('Cleaned Data'!H121<>\"\",1,0))","v":0},{"$f":"INDEX('Cleaned Data'!H:H,MATCH($A175,$B$56:$B$1919,0))","v":3},{"$f":"INDEX('Cleaned Data'!L:L,MATCH($A175,$B$56:$B$1919,0))","v":12821.700014958649}]
[121,{"$f":"B175+IF('Cleaned Data'!L122>0,1,0)*IF($B$34=\"Overall\",1,IF('Cleaned Data'!K122=$B$34,1,0))*(IF('Cleaned Data'!H122<>\"\",1,0))","v":0},{"$f":"INDEX('Cleaned Data'!H:H,MATCH($A176,$B$56:$B$1919,0))","v":5},{"$f":"INDEX('Cleaned Data'!L:L,MATCH($A176,$B$56:$B$1919,0))","v":10684.750012465542}]
[122,{"$f":"B176+IF('Cleaned Data'!L123>0,1,0)*IF($B$34=\"Overall\",1,IF('Cleaned Data'!K123=$B$34,1,0))*(IF('Cleaned Data'!H123<>\"\",1,0))","v":0},{"$f":"INDEX('Cleaned Data'!H:H,MATCH($A177,$B$56:$B$1919,0))","v":6},{"$f":"INDEX('Cleaned Data'!L:L,MATCH($A177,$B$56:$B$1919,0))","v":7123.1666749770275}]
[123,{"$f":"B177+IF('Cleaned Data'!L124>0,1,0)*IF($B$34=\"Overall\",1,IF('Cleaned Data'!K124=$B$34,1,0))*(IF('Cleaned Data'!H124<>\"\",1,0))","v":0},{"$f":"INDEX('Cleaned Data'!H:H,MATCH($A178,$B$56:$B$1919,0))","v":5},{"$f":"INDEX('Cleaned Data'!L:L,MATCH($A178,$B$56:$B$1919,0))","v":8903.9583437212841}]
[124,{"$f":"B178+IF('Cleaned Data'!L125>0,1,0)*IF($B$34=\"Overall\",1,IF('Cleaned Data'!K125=$B$34,1,0))*(IF('Cleaned Data'!H125<>\"\",1,0))","v":0},{"$f":"INDEX('Cleaned Data'!H:H,MATCH($A179,$B$56:$B$1919,0))","v":8},{"$f":"INDEX('Cleaned Data'!L:L,MATCH($A179,$B$56:$B$1919,0))","v":7123.1666749770275}]
[125,{"$f":"B179+IF('Cleaned Data'!L126>0,1,0)*IF($B$34=\"Overall\",1,IF('Cleaned Data'!K126=$B$34,1,0))*(IF('Cleaned Data'!H126<>\"\",1,0))","v":0},{"$f":"INDEX('Cleaned Data'!H:H,MATCH($A180,$B$56:$B$1919,0))","v":8},{"$f":"INDEX('Cleaned Data'!L:L,MATCH($A180,$B$56:$B$1919,0))","v":40958.208381117904}]
[126,{"$f":"B180+IF('Cleaned Data'!L127>0,1,0)*IF($B$34=\"Overall\",1,IF('Cleaned Data'!K127=$B$34,1,0))*(IF('Cleaned Data'!H127<>\"\",1,0))","v":0},{"$f":"INDEX('Cleaned Data'!H:H,MATCH($A181,$B$56:$B$1919,0))","v":17},{"$f":"INDEX('Cleaned Data'!L:L,MATCH($A181,$B$56:$B$1919,0))","v":21369.500024931083}]
[127,{"$f":"B181+IF('Cleaned Data'!L128>0,1,0)*IF($B$34=\"Overall\",1,IF('Cleaned Data'!K128=$B$34,1,0))*(IF('Cleaned Data'!H128<>\"\",1,0))","v":0},{"$f":"INDEX('Cleaned Data'!H:H,MATCH($A182,$B$56:$B$1919,0))","v":5},{"$f":"INDEX('Cleaned Data'!L:L,MATCH($A182,$B$56:$B$1919,0))","v":2136.9500024931081}]
[128,{"$f":"B182+IF('Cleaned Data'!L129>0,1,0)*IF($B$34=\"Overall\",1,IF('Cleaned Data'!K129=$B$34,1,0))*(IF('Cleaned Data'!H129<>\"\",1,0))","v":0},{"$f":"INDEX('Cleaned Data'!H:H,MATCH($A183,$B$56:$B$1919,0))","v":3},{"$f":"INDEX('Cleaned Data'!L:L,MATCH($A183,$B$56:$B$1919,0))","v":8903.9583437212841}]
[129,{"$f":"B183+IF('Cleaned Data'!L130>0,1,0)*IF($B$34=\"Overall\",1,IF('Cleaned Data'!K130=$B$34,1,0))*(IF('Cleaned Data'!H130<>\"\",1,0))","v":0},{"$f":"INDEX('Cleaned Data'!H:H,MATCH($A184,$B$56:$B$1919,0))","v":5},{"$f":"INDEX('Cleaned Data'!L:L,MATCH($A184,$B$56:$B$1919,0))","v":17807.916687442568}]
[130,{"$f":"B184+IF('Cleaned Data'!L131>0,1,0)*IF($B$34=\"Overall\",1,IF('Cleaned Data'!K131=$B$34,1,0))*(IF('Cleaned Data'!H131<>\"\",1,0))","v":0},{"$f":"INDEX('Cleaned Data'!H:H,MATCH($A185,$B$56:$B$1919,0))","v":3},{"$f":"INDEX('Cleaned Data'!L:L,MATCH($A185,$B$56:$B$1919,0))","v":15136.729184326183}]
[131,{"$f":"B185+IF('Cleaned Data'!L132>0,1,0)*IF($B$34=\"Overall\",1,IF('Cleaned Data'!K132=$B$34,1,0))*(IF('Cleaned Data'!H132<>\"\",1,0))","v":0},{"$f":"INDEX('Cleaned Data'!H:H,MATCH($A186,$B$56:$B$1919,0))","v":3.5},{"$f":"INDEX('Cleaned Data'!L:L,MATCH($A186,$B$56:$B$1919,0))","v":3205.4250037396623}]
[132,{"$f":"B186+IF('Cleaned Data'!L133>0,1,0)*IF($B$34=\"Overall\",1,IF('Cleaned Data'!K133=$B$34,1,0))*(IF('Cleaned Data'!H133<>\"\",1,0))","v":0},{"$f":"INDEX('Cleaned Data'!H:H,MATCH($A187,$B$56:$B$1919,0))","v":9},{"$f":"INDEX('Cleaned Data'!L:L,MATCH($A187,$B$56:$B$1919,0))","v":10684.750012465542}]
[133,{"$f":"B187+IF('Cleaned Data'!L134>0,1,0)*IF($B$34=\"Overall\",1,IF('Cleaned Data'!K134=$B$34,1,0))*(IF('Cleaned Data'!H134<>\"\",1,0))","v":0},{"$f":"INDEX('Cleaned Data'!H:H,MATCH($A188,$B$56:$B$1919,0))","v":3},{"$f":"INDEX('Cleaned Data'!L:L,MATCH($A188,$B$56:$B$1919,0))","v":23150.291693675339}]
[134,{"$f":"B188+IF('Cleaned Data'!L135>0,1,0)*IF($B$34=\"Overall\",1,IF('Cleaned Data'!K135=$B$34,1,0))*(IF('Cleaned Data'!H135<>\"\",1,0))","v":0},{"$f":"INDEX('Cleaned Data'!H:H,MATCH($A189,$B$56:$B$1919,0))","v":2},{"$f":"INDEX('Cleaned Data'!L:L,MATCH($A189,$B$56:$B$1919,0))","v":13801.135432767991}]
[135,{"$f":"B189+IF('Cleaned Data'!L136>0,1,0)*IF($B$34=\"Overall\",1,IF('Cleaned Data'!K136=$B$34,1,0))*(IF('Cleaned Data'!H136<>\"\",1,0))","v":1},{"$f":"INDEX('Cleaned Data'!H:H,MATCH($A190,$B$56:$B$1919,0))","v":5},{"$f":"INDEX('Cleaned Data'!L:L,MATCH($A190,$B$56:$B$1919,0))","v":18698.312521814696}]
[136,{"$f":"B190+IF('Cleaned Data'!L137>0,1,0)*IF($B$34=\"Overall\",1,IF('Cleaned Data'!K137=$B$34,1,0))*(IF('Cleaned Data'!H137<>\"\",1,0))","v":1},{"$f":"INDEX('Cleaned Data'!H:H,MATCH($A191,$B$56:$B$1919,0))","v":6},{"$f":"INDEX('Cleaned Data'!L:L,MATCH($A191,$B$56:$B$1919,0))","v":8654.6475100970874}]
[137,{"$f":"B191+IF('Cleaned Data'!L138>0,1,0)*IF($B$34=\"Overall\",1,IF('Cleaned Data'!K138=$B$34,1,0))*(IF('Cleaned Data'!H138<>\"\",1,0))","v":1},{"$f":"INDEX('Cleaned Data'!H:H,MATCH($A192,$B$56:$B$1919,0))","v":0.5},{"$f":"INDEX('Cleaned Data'!L:L,MATCH($A192,$B$56:$B$1919,0))","v":5342.3750062327708}]
[138,{"$f":"B192+IF('Cleaned Data'!L139>0,1,0)*IF($B$34=\"Overall\",1,IF('Cleaned Data'!K139=$B$34,1,0))*(IF('Cleaned Data'!H139<>\"\",1,0))","v":1},{"$f":"INDEX('Cleaned Data'!H:H,MATCH($A193,$B$56:$B$1919,0))","v":4},{"$f":"INDEX('Cleaned Data'!L:L,MATCH($A193,$B$56:$B$1919,0))","v":2564.3400029917298}]
[139,{"$f":"B193+IF('Cleaned Data'!L140>0,1,0)*IF($B$34=\"Overall\",1,IF('Cleaned Data'!K140=$B$34,1,0))*(IF('Cleaned Data'!H140<>\"\",1,0))","v":1},{"$f":"INDEX('Cleaned Data'!H:H,MATCH($A194,$B$56:$B$1919,0))","v":8},{"$f":"INDEX('Cleaned Data'!L:L,MATCH($A194,$B$56:$B$1919,0))","v":3205.4250037396623}]
[140,{"$f":"B194+IF('Cleaned Data'!L141>0,1,0)*IF($B$34=\"Overall\",1,IF('Cleaned Data'!K141=$B$34,1,0))*(IF('Cleaned Data'!H141<>\"\",1,0))","v":1},{"$f":"INDEX('Cleaned Data'!H:H,MATCH($A195,$B$56:$B$1919,0))","v":8},{"$f":"INDEX('Cleaned Data'!L:L,MATCH($A195,$B$56:$B$1919,0))","v":10684.750012465542}]
[141,{"$f":"B195+IF('Cleaned Data'!L142>0,1,0)*IF($B$34=\"Overall\",1,IF('Cleaned Data'!K142=$B$34,1,0))*(IF('Cleaned Data'!H142<>\"\",1,0))","v":1},{"$f":"INDEX('Cleaned Data'!H:H,MATCH($A196,$B$56:$B$1919,0))","v":3},{"$f":"INDEX('Cleaned Data'!L:L,MATCH($A196,$B$56:$B$1919,0))","v":12465.541681209797}]
[142,{"$f":"B196+IF('Cleaned Data'!L143>0,1,0)*IF($B$34=\"Overall\",1,IF('Cleaned Data'!K143=$B$34,1,0))*(IF('Cleaned Data'!H143<>\"\",1,0))","v":1},{"$f":"INDEX('Cleaned Data'!H:H,MATCH($A197,$B$56:$B$1919,0))","v":8},{"$f":"INDEX('Cleaned Data'!L:L,MATCH($A197,$B$56:$B$1919,0))","v":17807.916687442568}]
[143,{"$f":"B197+IF('Cleaned Data'!L144>0,1,0)*IF($B$34=\"Overall\",1,IF('Cleaned Data'!K144=$B$34,1,0))*(IF('Cleaned Data'!H144<>\"\",1,0))","v":1},{"$f":"INDEX('Cleaned Data'!H:H,MATCH($A198,$B$56:$B$1919,0))","v":1},{"$f":"INDEX('Cleaned Data'!L:L,MATCH($A198,$B$56:$B$1919,0))","v":12465.541681209797}]
[144,{"$f":"B198+IF('Cleaned Data'!L145>0,1,0)*IF($B$34=\"Overall\",1,IF('Cleaned Data'!K145=$B$34,1,0))*(IF('Cleaned Data'!H145<>\"\",1,0))","v":1},{"$f":"INDEX('Cleaned Data'!H:H,MATCH($A199,$B$56:$B$1919,0))","v":2},{"$f":"INDEX('Cleaned Data'!L:L,MATCH($A199,$B$56:$B$1919,0))","v":8547.8000099724322}]
[145,{"$f":"B199+IF('Cleaned Data'!L146>0,1,0)*IF($B$34=\"Overall\",1,IF('Cleaned Data'!K146=$B$34,1,0))*(IF('Cleaned Data'!H146<>\"\",1,0))","v":1},{"$f":"INDEX('Cleaned Data'!H:H,MATCH($A200,$B$56:$B$1919,0))","v":11},{"$f":"INDEX('Cleaned Data'!L:L,MATCH($A200,$B$56:$B$1919,0))","v":10684.750012465542}]
[146,{"$f":"B200+IF('Cleaned Data'!L147>0,1,0)*IF($B$34=\"Overall\",1,IF('Cleaned Data'!K147=$B$34,1,0))*(IF('Cleaned Data'!H147<>\"\",1,0))","v":1},{"$f":"INDEX('Cleaned Data'!H:H,MATCH($A201,$B$56:$B$1919,0))","v":4},{"$f":"INDEX('Cleaned Data'!L:L,MATCH($A201,$B$56:$B$1919,0))","v":10684.750012465542}]
[147,{"$f":"B201+IF('Cleaned Data'!L148>0,1,0)*IF($B$34=\"Overall\",1,IF('Cleaned Data'!K148=$B$34,1,0))*(IF('Cleaned Data'!H148<>\"\",1,0))","v":1},{"$f":"INDEX('Cleaned Data'!H:H,MATCH($A202,$B$56:$B$1919,0))","v":0},{"$f":"INDEX('Cleaned Data'!L:L,MATCH($A202,$B$56:$B$1919,0))","v":3632.815004238284}]
[148,{"$f":"B202+IF('Cleaned Data'!L149>0,1,0)*IF($B$34=\"Overall\",1,IF('Cleaned Data'!K149=$B$34,1,0))*(IF('Cleaned Data'!H149<>\"\",1,0))","v":1},{"$f":"INDEX('Cleaned Data'!H:H,MATCH($A203,$B$56:$B$1919,0))","v":6},{"$f":"INDEX('Cleaned Data'!L:L,MATCH($A203,$B$56:$B$1919,0))","v":21369.500024931083}]
[149,{"$f":"B203+IF('Cleaned Data'!L150>0,1,0)*IF($B$34=\"Overall\",1,IF('Cleaned Data'!K150=$B$34,1,0))*(IF('Cleaned Data'!H150<>\"\",1,0))","v":1},{"$f":"INDEX('Cleaned Data'!H:H,MATCH($A204,$B$56:$B$1919,0))","v":7},{"$f":"INDEX('Cleaned Data'!L:L,MATCH($A204,$B$56:$B$1919,0))","v":8903.9583437212841}]
[150,{"$f":"B204+IF('Cleaned Data'!L151>0,1,0)*IF($B$34=\"Overall\",1,IF('Cleaned Data'!K151=$B$34,1,0))*(IF('Cleaned Data'!H151<>\"\",1,0))","v":1},{"$f":"INDEX('Cleaned Data'!H:H,MATCH($A205,$B$56:$B$1919,0))","v":6},{"$f":"INDEX('Cleaned Data'!L:L,MATCH($A205,$B$56:$B$1919,0))","v":9705.3145946561999}]
[151,{"$f":"B205+IF('Cleaned Data'!L152>0,1,0)*IF($B$34=\"Overall\",1,IF('Cleaned Data'!K152=$B$34,1,0))*(IF('Cleaned Data'!H152<>\"\",1,0))","v":1},{"$f":"INDEX('Cleaned Data'!H:H,MATCH($A206,$B$56:$B$1919,0))","v":8},{"$f":"INDEX('Cleaned Data'!L:L,MATCH($A206,$B$56:$B$1919,0))","v":17807.916687442568}]
[152,{"$f":"B206+IF('Cleaned Data'!L153>0,1,0)*IF($B$34=\"Overall\",1,IF('Cleaned Data'!K153=$B$34,1,0))*(IF('Cleaned Data'!H153<>\"\",1,0))","v":1},{"$f":"INDEX('Cleaned Data'!H:H,MATCH($A207,$B$56:$B$1919,0))","v":10},{"$f":"INDEX('Cleaned Data'!L:L,MATCH($A207,$B$56:$B$1919,0))","v":3205.4250037396623}]
[153,{"$f":"B207+IF('Cleaned Data'!L154>0,1,0)*IF($B$34=\"Overall\",1,IF('Cleaned Data'!K154=$B$34,1,0))*(IF('Cleaned Data'!H154<>\"\",1,0))","v":1},{"$f":"INDEX('Cleaned Data'!H:H,MATCH($A208,$B$56:$B$1919,0))","v":7},{"$f":"INDEX('Cleaned Data'!L:L,MATCH($A208,$B$56:$B$1919,0))","v":12465.541681209797}]
[154,{"$f":"B208+IF('Cleaned Data'!L155>0,1,0)*IF($B$34=\"Overall\",1,IF('Cleaned Data'!K155=$B$34,1,0))*(IF('Cleaned Data'!H155<>\"\",1,0))","v":1},{"$f":"INDEX('Cleaned Data'!H:H,MATCH($A209,$B$56:$B$1919,0))","v":1},{"$f":"INDEX('Cleaned Data'!L:L,MATCH($A209,$B$56:$B$1919,0))","v":11575.14584683767}]
[155,{"$f":"B209+IF('Cleaned Data'!L156>0,1,0)*IF($B$34=\"Overall\",1,IF('Cleaned Data'!K156=$B$34,1,0))*(IF('Cleaned Data'!H156<>\"\",1,0))","v":1},{"$f":"INDEX('Cleaned Data'!H:H,MATCH($A210,$B$56:$B$1919,0))","v":2.5},{"$f":"INDEX('Cleaned Data'!L:L,MATCH($A210,$B$56:$B$1919,0))","v":6232.7708406048987}]
[156,{"$f":"B210+IF('Cleaned Data'!L157>0,1,0)*IF($B$34=\"Overall\",1,IF('Cleaned Data'!K157=$B$34,1,0))*(IF('Cleaned Data'!H157<>\"\",1,0))","v":1},{"$f":"INDEX('Cleaned Data'!H:H,MATCH($A211,$B$56:$B$1919,0))","v":6},{"$f":"INDEX('Cleaned Data'!L:L,MATCH($A211,$B$56:$B$1919,0))","v":11397.066679963244}]
[157,{"$f":"B211+IF('Cleaned Data'!L158>0,1,0)*IF($B$34=\"Overall\",1,IF('Cleaned Data'!K158=$B$34,1,0))*(IF('Cleaned Data'!H158<>\"\",1,0))","v":1},{"$f":"INDEX('Cleaned Data'!H:H,MATCH($A212,$B$56:$B$1919,0))","v":3},{"$f":"INDEX('Cleaned Data'!L:L,MATCH($A212,$B$56:$B$1919,0))","v":6499.8895909165376}]
[158,{"$f":"B212+IF('Cleaned Data'!L159>0,1,0)*IF($B$34=\"Overall\",1,IF('Cleaned Data'!K159=$B$34,1,0))*(IF('Cleaned Data'!H159<>\"\",1,0))","v":1},{"$f":"INDEX('Cleaned Data'!H:H,MATCH($A213,$B$56:$B$1919,0))","v":15},{"$f":"INDEX('Cleaned Data'!L:L,MATCH($A213,$B$56:$B$1919,0))","v":8013.5625093491553}]
[159,{"$f":"B213+IF('Cleaned Data'!L160>0,1,0)*IF($B$34=\"Overall\",1,IF('Cleaned Data'!K160=$B$34,1,0))*(IF('Cleaned Data'!H160<>\"\",1,0))","v":1},{"$f":"INDEX('Cleaned Data'!H:H,MATCH($A214,$B$56:$B$1919,0))","v":5},{"$f":"INDEX('Cleaned Data'!L:L,MATCH($A214,$B$56:$B$1919,0))","v":10150.512511842264}]
[160,{"$f":"B214+IF('Cleaned Data'!L161>0,1,0)*IF($B$34=\"Overall\",1,IF('Cleaned Data'!K161=$B$34,1,0))*(IF('Cleaned Data'!H161<>\"\",1,0))","v":1},{"$f":"INDEX('Cleaned Data'!H:H,MATCH($A215,$B$56:$B$1919,0))","v":13},{"$f":"INDEX('Cleaned Data'!L:L,MATCH($A215,$B$56:$B$1919,0))","v":10898.445012714852}]
[161,{"$f":"B215+IF('Cleaned Data'!L162>0,1,0)*IF($B$34=\"Overall\",1,IF('Cleaned Data'!K162=$B$34,1,0))*(IF('Cleaned Data'!H162<>\"\",1,0))","v":1},{"$f":"INDEX('Cleaned Data'!H:H,MATCH($A216,$B$56:$B$1919,0))","v":3.5},{"$f":"INDEX('Cleaned Data'!L:L,MATCH($A216,$B$56:$B$1919,0))","v":2136.9500024931081}]
[162,{"$f":"B216+IF('Cleaned Data'!L163>0,1,0)*IF($B$34=\"Overall\",1,IF('Cleaned Data'!K163=$B$34,1,0))*(IF('Cleaned Data'!H163<>\"\",1,0))","v":1},{"$f":"INDEX('Cleaned Data'!H:H,MATCH($A217,$B$56:$B$1919,0))","v":5},{"$f":"INDEX('Cleaned Data'!L:L,MATCH($A217,$B$56:$B$1919,0))","v":7123.1666749770275}]
[163,{"$f":"B217+IF('Cleaned Data'!L164>0,1,0)*IF($B$34=\"Overall\",1,IF('Cleaned Data'!K164=$B$34,1,0))*(IF('Cleaned Data'!H164<>\"\",1,0))","v":1},{"$f":"INDEX('Cleaned Data'!H:H,MATCH($A218,$B$56:$B$1919,0))","v":5},{"$f":"INDEX('Cleaned Data'!L:L,MATCH($A218,$B$56:$B$1919,0))","v":5342.3750062327708}]
[164,{"$f":"B218+IF('Cleaned Data'!L165>0,1,0)*IF($B$34=\"Overall\",1,IF('Cleaned Data'!K165=$B$34,1,0))*(IF('Cleaned Data'!H165<>\"\",1,0))","v":1},{"$f":"INDEX('Cleaned Data'!H:H,MATCH($A219,$B$56:$B$1919,0))","v":10},{"$f":"INDEX('Cleaned Data'!L:L,MATCH($A219,$B$56:$B$1919,0))","v":7479.3250087258784}]
[165,{"$f":"B219+IF('Cleaned Data'!L166>0,1,0)*IF($B$34=\"Overall\",1,IF('Cleaned Data'!K166=$B$34,1,0))*(IF('Cleaned Data'!H166<>\"\",1,0))","v":1},{"$f":"INDEX('Cleaned Data'!H:H,MATCH($A220,$B$56:$B$1919,0))","v":3.5},{"$f":"INDEX('Cleaned Data'!L:L,MATCH($A220,$B$56:$B$1919,0))","v":3739.6625043629392}]
[166,{"$f":"B220+IF('Cleaned Data'!L167>0,1,0)*IF($B$34=\"Overall\",1,IF('Cleaned Data'!K167=$B$34,1,0))*(IF('Cleaned Data'!H167<>\"\",1,0))","v":1},{"$f":"INDEX('Cleaned Data'!H:H,MATCH($A221,$B$56:$B$1919,0))","v":25},{"$f":"INDEX('Cleaned Data'!L:L,MATCH($A221,$B$56:$B$1919,0))","v":17807.916687442568}]
[167,{"$f":"B221+IF('Cleaned Data'!L168>0,1,0)*IF($B$34=\"Overall\",1,IF('Cleaned Data'!K168=$B$34,1,0))*(IF('Cleaned Data'!H168<>\"\",1,0))","v":1},{"$f":"INDEX('Cleaned Data'!H:H,MATCH($A222,$B$56:$B$1919,0))","v":12},{"$f":"INDEX('Cleaned Data'!L:L,MATCH($A222,$B$56:$B$1919,0))","v":10684.750012465542}]
[168,{"$f":"B222+IF('Cleaned Data'!L169>0,1,0)*IF($B$34=\"Overall\",1,IF('Cleaned Data'!K169=$B$34,1,0))*(IF('Cleaned Data'!H169<>\"\",1,0))","v":1},{"$f":"INDEX('Cleaned Data'!H:H,MATCH($A223,$B$56:$B$1919,0))","v":8},{"$f":"INDEX('Cleaned Data'!L:L,MATCH($A223,$B$56:$B$1919,0))","v":8476.5683432226633}]
[169,{"$f":"B223+IF('Cleaned Data'!L170>0,1,0)*IF($B$34=\"Overall\",1,IF('Cleaned Data'!K170=$B$34,1,0))*(IF('Cleaned Data'!H170<>\"\",1,0))","v":1},{"$f":"INDEX('Cleaned Data'!H:H,MATCH($A224,$B$56:$B$1919,0))","v":8},{"$f":"INDEX('Cleaned Data'!L:L,MATCH($A224,$B$56:$B$1919,0))","v":3561.5833374885137}]
[170,{"$f":"B224+IF('Cleaned Data'!L171>0,1,0)*IF($B$34=\"Overall\",1,IF('Cleaned Data'!K171=$B$34,1,0))*(IF('Cleaned Data'!H171<>\"\",1,0))","v":1},{"$f":"INDEX('Cleaned Data'!H:H,MATCH($A225,$B$56:$B$1919,0))","v":4},{"$f":"INDEX('Cleaned Data'!L:L,MATCH($A225,$B$56:$B$1919,0))","v":3205.4250037396623}]
[171,{"$f":"B225+IF('Cleaned Data'!L172>0,1,0)*IF($B$34=\"Overall\",1,IF('Cleaned Data'!K172=$B$34,1,0))*(IF('Cleaned Data'!H172<>\"\",1,0))","v":1},{"$f":"INDEX('Cleaned Data'!H:H,MATCH($A226,$B$56:$B$1919,0))","v":5},{"$f":"INDEX('Cleaned Data'!L:L,MATCH($A226,$B$56:$B$1919,0))","v":4487.5950052355274}]
[172,{"$f":"B226+IF('Cleaned Data'!L173>0,1,0)*IF($B$34=\"Overall\",1,IF('Cleaned Data'!K173=$B$34,1,0))*(IF('Cleaned Data'!H173<>\"\",1,0))","v":1},{"$f":"INDEX('Cleaned Data'!H:H,MATCH($A227,$B$56:$B$1919,0))","v":5},{"$f":"INDEX('Cleaned Data'!L:L,MATCH($A227,$B$56:$B$1919,0))","v":12465.541681209797}]
[173,{"$f":"B227+IF('Cleaned Data'!L174>0,1,0)*IF($B$34=\"Overall\",1,IF('Cleaned Data'!K174=$B$34,1,0))*(IF('Cleaned Data'!H174<>\"\",1,0))","v":1},{"$f":"INDEX('Cleaned Data'!H:H,MATCH($A228,$B$56:$B$1919,0))","v":2},{"$f":"INDEX('Cleaned Data'!L:L,MATCH($A228,$B$56:$B$1919,0))","v":21369.500024931083}]
[174,{"$f":"B228+IF('Cleaned Data'!L175>0,1,0)*IF($B$34=\"Overall\",1,IF('Cleaned Data'!K175=$B$34,1,0))*(IF('Cleaned Data'!H175<>\"\",1,0))","v":1},{"$f":"INDEX('Cleaned Data'!H:H,MATCH($A229,$B$56:$B$1919,0))","v":5},{"$f":"INDEX('Cleaned Data'!L:L,MATCH($A229,$B$56:$B$1919,0))","v":7265.630008476568}]
[175,{"$f":"B229+IF('Cleaned Data'!L176>0,1,0)*IF($B$34=\"Overall\",1,IF('Cleaned Data'!K176=$B$34,1,0))*(IF('Cleaned Data'!H176<>\"\",1,0))","v":1},{"$f":"INDEX('Cleaned Data'!H:H,MATCH($A230,$B$56:$B$1919,0))","v":7},{"$f":"INDEX('Cleaned Data'!L:L,MATCH($A230,$B$56:$B$1919,0))","v":9438.1958443445619}]
[176,{"$f":"B230+IF('Cleaned Data'!L177>0,1,0)*IF($B$34=\"Overall\",1,IF('Cleaned Data'!K177=$B$34,1,0))*(IF('Cleaned Data'!H177<>\"\",1,0))","v":1},{"$f":"INDEX('Cleaned Data'!H:H,MATCH($A231,$B$56:$B$1919,0))","v":5},{"$f":"INDEX('Cleaned Data'!L:L,MATCH($A231,$B$56:$B$1919,0))","v":3561.5833374885137}]
[177,{"$f":"B231+IF('Cleaned Data'!L178>0,1,0)*IF($B$34=\"Overall\",1,IF('Cleaned Data'!K178=$B$34,1,0))*(IF('Cleaned Data'!H178<>\"\",1,0))","v":1},{"$f":"INDEX('Cleaned Data'!H:H,MATCH($A232,$B$56:$B$1919,0))","v":3},{"$f":"INDEX('Cleaned Data'!L:L,MATCH($A232,$B$56:$B$1919,0))","v":3561.5833374885137}]
[178,{"$f":"B232+IF('Cleaned Data'!L179>0,1,0)*IF($B$34=\"Overall\",1,IF('Cleaned Data'!K179=$B$34,1,0))*(IF('Cleaned Data'!H179<>\"\",1,0))","v":1},{"$f":"INDEX('Cleaned Data'!H:H,MATCH($A233,$B$56:$B$1919,0))","v":7},{"$f":"INDEX('Cleaned Data'!L:L,MATCH($A233,$B$56:$B$1919,0))","v":21369.500024931083}]
[179,{"$f":"B233+IF('Cleaned Data'!L180>0,1,0)*IF($B$34=\"Overall\",1,IF('Cleaned Data'!K180=$B$34,1,0))*(IF('Cleaned Data'!H180<>\"\",1,0))","v":1},{"$f":"INDEX('Cleaned Data'!H:H,MATCH($A234,$B$56:$B$1919,0))","v":1},{"$f":"INDEX('Cleaned Data'!L:L,MATCH($A234,$B$56:$B$1919,0))","v":5342.3750062327708}]
[180,{"$f":"B234+IF('Cleaned Data'!L181>0,1,0)*IF($B$34=\"Overall\",1,IF('Cleaned Data'!K181=$B$34,1,0))*(IF('Cleaned Data'!H181<>\"\",1,0))","v":1},{"$f":"INDEX('Cleaned Data'!H:H,MATCH($A235,$B$56:$B$1919,0))","v":9},{"$f":"INDEX('Cleaned Data'!L:L,MATCH($A235,$B$56:$B$1919,0))","v":28492.66669990811}]
[181,{"$f":"B235+IF('Cleaned Data'!L182>0,1,0)*IF($B$34=\"Overall\",1,IF('Cleaned Data'!K182=$B$34,1,0))*(IF('Cleaned Data'!H182<>\"\",1,0))","v":1},{"$f":"INDEX('Cleaned Data'!H:H,MATCH($A236,$B$56:$B$1919,0))","v":10},{"$f":"INDEX('Cleaned Data'!L:L,MATCH($A236,$B$56:$B$1919,0))","v":7799.8675090998449}]
[182,{"$f":"B236+IF('Cleaned Data'!L183>0,1,0)*IF($B$34=\"Overall\",1,IF('Cleaned Data'!K183=$B$34,1,0))*(IF('Cleaned Data'!H183<>\"\",1,0))","v":1},{"$f":"INDEX('Cleaned Data'!H:H,MATCH($A237,$B$56:$B$1919,0))","v":3.5},{"$f":"INDEX('Cleaned Data'!L:L,MATCH($A237,$B$56:$B$1919,0))","v":4451.9791718606421}]
[183,{"$f":"B237+IF('Cleaned Data'!L184>0,1,0)*IF($B$34=\"Overall\",1,IF('Cleaned Data'!K184=$B$34,1,0))*(IF('Cleaned Data'!H184<>\"\",1,0))","v":1},{"$f":"INDEX('Cleaned Data'!H:H,MATCH($A238,$B$56:$B$1919,0))","v":9},{"$f":"INDEX('Cleaned Data'!L:L,MATCH($A238,$B$56:$B$1919,0))","v":44519.791718606422}]
[184,{"$f":"B238+IF('Cleaned Data'!L185>0,1,0)*IF($B$34=\"Overall\",1,IF('Cleaned Data'!K185=$B$34,1,0))*(IF('Cleaned Data'!H185<>\"\",1,0))","v":1},{"$f":"INDEX('Cleaned Data'!H:H,MATCH($A239,$B$56:$B$1919,0))","v":4},{"$f":"INDEX('Cleaned Data'!L:L,MATCH($A239,$B$56:$B$1919,0))","v":2493.1083362419595}]
[185,{"$f":"B239+IF('Cleaned Data'!L186>0,1,0)*IF($B$34=\"Overall\",1,IF('Cleaned Data'!K186=$B$34,1,0))*(IF('Cleaned Data'!H186<>\"\",1,0))","v":1},{"$f":"INDEX('Cleaned Data'!H:H,MATCH($A240,$B$56:$B$1919,0))","v":8},{"$f":"INDEX('Cleaned Data'!L:L,MATCH($A240,$B$56:$B$1919,0))","v":21369.500024931083}]
[186,{"$f":"B240+IF('Cleaned Data'!L187>0,1,0)*IF($B$34=\"Overall\",1,IF('Cleaned Data'!K187=$B$34,1,0))*(IF('Cleaned Data'!H187<>\"\",1,0))","v":1},{"$f":"INDEX('Cleaned Data'!H:H,MATCH($A241,$B$56:$B$1919,0))","v":3},{"$f":"INDEX('Cleaned Data'!L:L,MATCH($A241,$B$56:$B$1919,0))","v":4273.9000049862161}]
[187,{"$f":"B241+IF('Cleaned Data'!L188>0,1,0)*IF($B$34=\"Overall\",1,IF('Cleaned Data'!K188=$B$34,1,0))*(IF('Cleaned Data'!H188<>\"\",1,0))","v":1},{"$f":"INDEX('Cleaned Data'!H:H,MATCH($A242,$B$56:$B$1919,0))","v":3},{"$f":"INDEX('Cleaned Data'!L:L,MATCH($A242,$B$56:$B$1919,0))","v":4451.9791718606421}]
[188,{"$f":"B242+IF('Cleaned Data'!L189>0,1,0)*IF($B$34=\"Overall\",1,IF('Cleaned Data'!K189=$B$34,1,0))*(IF('Cleaned Data'!H189<>\"\",1,0))","v":1},{"$f":"INDEX('Cleaned Data'!H:H,MATCH($A243,$B$56:$B$1919,0))","v":10},{"$f":"INDEX('Cleaned Data'!L:L,MATCH($A243,$B$56:$B$1919,0))","v":10684.750012465542}]
[189,{"$f":"B243+IF('Cleaned Data'!L190>0,1,0)*IF($B$34=\"Overall\",1,IF('Cleaned Data'!K190=$B$34,1,0))*(IF('Cleaned Data'!H190<>\"\",1,0))","v":1},{"$f":"INDEX('Cleaned Data'!H:H,MATCH($A244,$B$56:$B$1919,0))","v":23},{"$f":"INDEX('Cleaned Data'!L:L,MATCH($A244,$B$56:$B$1919,0))","v":8903.9583437212841}]
[190,{"$f":"B244+IF('Cleaned Data'!L191>0,1,0)*IF($B$34=\"Overall\",1,IF('Cleaned Data'!K191=$B$34,1,0))*(IF('Cleaned Data'!H191<>\"\",1,0))","v":1},{"$f":"INDEX('Cleaned Data'!H:H,MATCH($A245,$B$56:$B$1919,0))","v":20},{"$f":"INDEX('Cleaned Data'!L:L,MATCH($A245,$B$56:$B$1919,0))","v":4273.9000049862161}]
[191,{"$f":"B245+IF('Cleaned Data'!L192>0,1,0)*IF($B$34=\"Overall\",1,IF('Cleaned Data'!K192=$B$34,1,0))*(IF('Cleaned Data'!H192<>\"\",1,0))","v":1},{"$f":"INDEX('Cleaned Data'!H:H,MATCH($A246,$B$56:$B$1919,0))","v":5},{"$f":"INDEX('Cleaned Data'!L:L,MATCH($A246,$B$56:$B$1919,0))","v":21369.500024931083}]
[192,{"$f":"B246+IF('Cleaned Data'!L193>0,1,0)*IF($B$34=\"Overall\",1,IF('Cleaned Data'!K193=$B$34,1,0))*(IF('Cleaned Data'!H193<>\"\",1,0))","v":1},{"$f":"INDEX('Cleaned Data'!H:H,MATCH($A247,$B$56:$B$1919,0))","v":3},{"$f":"INDEX('Cleaned Data'!L:L,MATCH($A247,$B$56:$B$1919,0))","v":3205.4250037396623}]
[193,{"$f":"B247+IF('Cleaned Data'!L194>0,1,0)*IF($B$34=\"Overall\",1,IF('Cleaned Data'!K194=$B$34,1,0))*(IF('Cleaned Data'!H194<>\"\",1,0))","v":1},{"$f":"INDEX('Cleaned Data'!H:H,MATCH($A248,$B$56:$B$1919,0))","v":8},{"$f":"INDEX('Cleaned Data'!L:L,MATCH($A248,$B$56:$B$1919,0))","v":10684.750012465542}]
[194,{"$f":"B248+IF('Cleaned Data'!L195>0,1,0)*IF($B$34=\"Overall\",1,IF('Cleaned Data'!K195=$B$34,1,0))*(IF('Cleaned Data'!H195<>\"\",1,0))","v":1},{"$f":"INDEX('Cleaned Data'!H:H,MATCH($A249,$B$56:$B$1919,0))","v":5},{"$f":"INDEX('Cleaned Data'!L:L,MATCH($A249,$B$56:$B$1919,0))","v":5342.3750062327708}]
[195,{"$f":"B249+IF('Cleaned Data'!L196>0,1,0)*IF($B$34=\"Overall\",1,IF('Cleaned Data'!K196=$B$34,1,0))*(IF('Cleaned Data'!H196<>\"\",1,0))","v":1},{"$f":"INDEX('Cleaned Data'!H:H,MATCH($A250,$B$56:$B$1919,0))","v":16},{"$f":"INDEX('Cleaned Data'!L:L,MATCH($A250,$B$56:$B$1919,0))","v":4487.5950052355274}]
[196,{"$f":"B250+IF('Cleaned Data'!L197>0,1,0)*IF($B$34=\"Overall\",1,IF('Cleaned Data'!K197=$B$34,1,0))*(IF('Cleaned Data'!H197<>\"\",1,0))","v":1},{"$f":"INDEX('Cleaned Data'!H:H,MATCH($A251,$B$56:$B$1919,0))","v":7},{"$f":"INDEX('Cleaned Data'!L:L,MATCH($A251,$B$56:$B$1919,0))","v":4314.929445034084}]
[197,{"$f":"B251+IF('Cleaned Data'!L198>0,1,0)*IF($B$34=\"Overall\",1,IF('Cleaned Data'!K198=$B$34,1,0))*(IF('Cleaned Data'!H198<>\"\",1,0))","v":1},{"$f":"INDEX('Cleaned Data'!H:H,MATCH($A252,$B$56:$B$1919,0))","v":1},{"$f":"INDEX('Cleaned Data'!L:L,MATCH($A252,$B$56:$B$1919,0))","v":3739.6625043629392}]
[198,{"$f":"B252+IF('Cleaned Data'!L199>0,1,0)*IF($B$34=\"Overall\",1,IF('Cleaned Data'!K199=$B$34,1,0))*(IF('Cleaned Data'!H199<>\"\",1,0))","v":1},{"$f":"INDEX('Cleaned Data'!H:H,MATCH($A253,$B$56:$B$1919,0))","v":22},{"$f":"INDEX('Cleaned Data'!L:L,MATCH($A253,$B$56:$B$1919,0))","v":16027.125018698311}]
[199,{"$f":"B253+IF('Cleaned Data'!L200>0,1,0)*IF($B$34=\"Overall\",1,IF('Cleaned Data'!K200=$B$34,1,0))*(IF('Cleaned Data'!H200<>\"\",1,0))","v":1},{"$f":"INDEX('Cleaned Data'!H:H,MATCH($A254,$B$56:$B$1919,0))","v":9},{"$f":"INDEX('Cleaned Data'!L:L,MATCH($A254,$B$56:$B$1919,0))","v":7123.1666749770275}]
[200,{"$f":"B254+IF('Cleaned Data'!L201>0,1,0)*IF($B$34=\"Overall\",1,IF('Cleaned Data'!K201=$B$34,1,0))*(IF('Cleaned Data'!H201<>\"\",1,0))","v":1},{"$f":"INDEX('Cleaned Data'!H:H,MATCH($A255,$B$56:$B$1919,0))","v":5},{"$f":"INDEX('Cleaned Data'!L:L,MATCH($A255,$B$56:$B$1919,0))","v":2675.675098121621}]
[201,{"$f":"B255+IF('Cleaned Data'!L202>0,1,0)*IF($B$34=\"Overall\",1,IF('Cleaned Data'!K202=$B$34,1,0))*(IF('Cleaned Data'!H202<>\"\",1,0))","v":1},{"$f":"INDEX('Cleaned Data'!H:H,MATCH($A256,$B$56:$B$1919,0))","v":10},{"$f":"INDEX('Cleaned Data'!L:L,MATCH($A256,$B$56:$B$1919,0))","v":42739.000049862167}]
[202,{"$f":"B256+IF('Cleaned Data'!L203>0,1,0)*IF($B$34=\"Overall\",1,IF('Cleaned Data'!K203=$B$34,1,0))*(IF('Cleaned Data'!H203<>\"\",1,0))","v":1},{"$f":"INDEX('Cleaned Data'!H:H,MATCH($A257,$B$56:$B$1919,0))","v":2},{"$f":"INDEX('Cleaned Data'!L:L,MATCH($A257,$B$56:$B$1919,0))","v":7123.1666749770275}]
[203,{"$f":"B257+IF('Cleaned Data'!L204>0,1,0)*IF($B$34=\"Overall\",1,IF('Cleaned Data'!K204=$B$34,1,0))*(IF('Cleaned Data'!H204<>\"\",1,0))","v":1},{"$f":"INDEX('Cleaned Data'!H:H,MATCH($A258,$B$56:$B$1919,0))","v":5},{"$f":"INDEX('Cleaned Data'!L:L,MATCH($A258,$B$56:$B$1919,0))","v":3561.5833374885137}]
[204,{"$f":"B258+IF('Cleaned Data'!L205>0,1,0)*IF($B$34=\"Overall\",1,IF('Cleaned Data'!K205=$B$34,1,0))*(IF('Cleaned Data'!H205<>\"\",1,0))","v":1},{"$f":"INDEX('Cleaned Data'!H:H,MATCH($A259,$B$56:$B$1919,0))","v":6},{"$f":"INDEX('Cleaned Data'!L:L,MATCH($A259,$B$56:$B$1919,0))","v":15190.15293438851}]
[205,{"$f":"B259+IF('Cleaned Data'!L206>0,1,0)*IF($B$34=\"Overall\",1,IF('Cleaned Data'!K206=$B$34,1,0))*(IF('Cleaned Data'!H206<>\"\",1,0))","v":1},{"$f":"INDEX('Cleaned Data'!H:H,MATCH($A260,$B$56:$B$1919,0))","v":5},{"$f":"INDEX('Cleaned Data'!L:L,MATCH($A260,$B$56:$B$1919,0))","v":12608.005014709339}]
[206,{"$f":"B260+IF('Cleaned Data'!L207>0,1,0)*IF($B$34=\"Overall\",1,IF('Cleaned Data'!K207=$B$34,1,0))*(IF('Cleaned Data'!H207<>\"\",1,0))","v":1},{"$f":"INDEX('Cleaned Data'!H:H,MATCH($A261,$B$56:$B$1919,0))","v":25},{"$f":"INDEX('Cleaned Data'!L:L,MATCH($A261,$B$56:$B$1919,0))","v":8903.9583437212841}]
[207,{"$f":"B261+IF('Cleaned Data'!L208>0,1,0)*IF($B$34=\"Overall\",1,IF('Cleaned Data'!K208=$B$34,1,0))*(IF('Cleaned Data'!H208<>\"\",1,0))","v":1},{"$f":"INDEX('Cleaned Data'!H:H,MATCH($A262,$B$56:$B$1919,0))","v":0.8},{"$f":"INDEX('Cleaned Data'!L:L,MATCH($A262,$B$56:$B$1919,0))","v":8903.9583437212841}]
[208,{"$f":"B262+IF('Cleaned Data'!L209>0,1,0)*IF($B$34=\"Overall\",1,IF('Cleaned Data'!K209=$B$34,1,0))*(IF('Cleaned Data'!H209<>\"\",1,0))","v":1},{"$f":"INDEX('Cleaned Data'!H:H,MATCH($A263,$B$56:$B$1919,0))","v":6},{"$f":"INDEX('Cleaned Data'!L:L,MATCH($A263,$B$56:$B$1919,0))","v":3561.5833374885137}]
[209,{"$f":"B263+IF('Cleaned Data'!L210>0,1,0)*IF($B$34=\"Overall\",1,IF('Cleaned Data'!K210=$B$34,1,0))*(IF('Cleaned Data'!H210<>\"\",1,0))","v":1},{"$f":"INDEX('Cleaned Data'!H:H,MATCH($A264,$B$56:$B$1919,0))","v":21},{"$f":"INDEX('Cleaned Data'!L:L,MATCH($A264,$B$56:$B$1919,0))","v":8013.5625093491553}]
[210,{"$f":"B264+IF('Cleaned Data'!L211>0,1,0)*IF($B$34=\"Overall\",1,IF('Cleaned Data'!K211=$B$34,1,0))*(IF('Cleaned Data'!H211<>\"\",1,0))","v":1},{"$f":"INDEX('Cleaned Data'!H:H,MATCH($A265,$B$56:$B$1919,0))","v":1.5},{"$f":"INDEX('Cleaned Data'!L:L,MATCH($A265,$B$56:$B$1919,0))","v":6232.7708406048987}]
[211,{"$f":"B265+IF('Cleaned Data'!L212>0,1,0)*IF($B$34=\"Overall\",1,IF('Cleaned Data'!K212=$B$34,1,0))*(IF('Cleaned Data'!H212<>\"\",1,0))","v":1},{"$f":"INDEX('Cleaned Data'!H:H,MATCH($A266,$B$56:$B$1919,0))","v":7.9},{"$f":"INDEX('Cleaned Data'!L:L,MATCH($A266,$B$56:$B$1919,0))","v":9616.275011218986}]
[212,{"$f":"B266+IF('Cleaned Data'!L213>0,1,0)*IF($B$34=\"Overall\",1,IF('Cleaned Data'!K213=$B$34,1,0))*(IF('Cleaned Data'!H213<>\"\",1,0))","v":1},{"$f":"INDEX('Cleaned Data'!H:H,MATCH($A267,$B$56:$B$1919,0))","v":15},{"$f":"INDEX('Cleaned Data'!L:L,MATCH($A267,$B$56:$B$1919,0))","v":8547.8000099724322}]
[213,{"$f":"B267+IF('Cleaned Data'!L214>0,1,0)*IF($B$34=\"Overall\",1,IF('Cleaned Data'!K214=$B$34,1,0))*(IF('Cleaned Data'!H214<>\"\",1,0))","v":1},{"$f":"INDEX('Cleaned Data'!H:H,MATCH($A268,$B$56:$B$1919,0))","v":13},{"$f":"INDEX('Cleaned Data'!L:L,MATCH($A268,$B$56:$B$1919,0))","v":19588.708356186824}]
[214,{"$f":"B268+IF('Cleaned Data'!L215>0,1,0)*IF($B$34=\"Overall\",1,IF('Cleaned Data'!K215=$B$34,1,0))*(IF('Cleaned Data'!H215<>\"\",1,0))","v":1},{"$f":"INDEX('Cleaned Data'!H:H,MATCH($A269,$B$56:$B$1919,0))","v":1},{"$f":"INDEX('Cleaned Data'!L:L,MATCH($A269,$B$56:$B$1919,0))","v":4451.9791718606421}]
[215,{"$f":"B269+IF('Cleaned Data'!L216>0,1,0)*IF($B$34=\"Overall\",1,IF('Cleaned Data'!K216=$B$34,1,0))*(IF('Cleaned Data'!H216<>\"\",1,0))","v":1},{"$f":"INDEX('Cleaned Data'!H:H,MATCH($A270,$B$56:$B$1919,0))","v":13},{"$f":"INDEX('Cleaned Data'!L:L,MATCH($A270,$B$56:$B$1919,0))","v":16027.125018698311}]
[216,{"$f":"B270+IF('Cleaned Data'!L217>0,1,0)*IF($B$34=\"Overall\",1,IF('Cleaned Data'!K217=$B$34,1,0))*(IF('Cleaned Data'!H217<>\"\",1,0))","v":1},{"$f":"INDEX('Cleaned Data'!H:H,MATCH($A271,$B$56:$B$1919,0))","v":3},{"$f":"INDEX('Cleaned Data'!L:L,MATCH($A271,$B$56:$B$1919,0))","v":8903.9583437212841}]
[217,{"$f":"B271+IF('Cleaned Data'!L218>0,1,0)*IF($B$34=\"Overall\",1,IF('Cleaned Data'!K218=$B$34,1,0))*(IF('Cleaned Data'!H218<>\"\",1,0))","v":1},{"$f":"INDEX('Cleaned Data'!H:H,MATCH($A272,$B$56:$B$1919,0))","v":4},{"$f":"INDEX('Cleaned Data'!L:L,MATCH($A272,$B$56:$B$1919,0))","v":46300.583387350678}]
[218,{"$f":"B272+IF('Cleaned Data'!L219>0,1,0)*IF($B$34=\"Overall\",1,IF('Cleaned Data'!K219=$B$34,1,0))*(IF('Cleaned Data'!H219<>\"\",1,0))","v":1},{"$f":"INDEX('Cleaned Data'!H:H,MATCH($A273,$B$56:$B$1919,0))","v":3},{"$f":"INDEX('Cleaned Data'!L:L,MATCH($A273,$B$56:$B$1919,0))","v":13355.937515581925}]
[219,{"$f":"B273+IF('Cleaned Data'!L220>0,1,0)*IF($B$34=\"Overall\",1,IF('Cleaned Data'!K220=$B$34,1,0))*(IF('Cleaned Data'!H220<>\"\",1,0))","v":1},{"$f":"INDEX('Cleaned Data'!H:H,MATCH($A274,$B$56:$B$1919,0))","v":2},{"$f":"INDEX('Cleaned Data'!L:L,MATCH($A274,$B$56:$B$1919,0))","v":8013.5625093491553}]
[220,{"$f":"B274+IF('Cleaned Data'!L221>0,1,0)*IF($B$34=\"Overall\",1,IF('Cleaned Data'!K221=$B$34,1,0))*(IF('Cleaned Data'!H221<>\"\",1,0))","v":1},{"$f":"INDEX('Cleaned Data'!H:H,MATCH($A275,$B$56:$B$1919,0))","v":8.5},{"$f":"INDEX('Cleaned Data'!L:L,MATCH($A275,$B$56:$B$1919,0))","v":17807.916687442568}]
[221,{"$f":"B275+IF('Cleaned Data'!L222>0,1,0)*IF($B$34=\"Overall\",1,IF('Cleaned Data'!K222=$B$34,1,0))*(IF('Cleaned Data'!H222<>\"\",1,0))","v":1},{"$f":"INDEX('Cleaned Data'!H:H,MATCH($A276,$B$56:$B$1919,0))","v":6},{"$f":"INDEX('Cleaned Data'!L:L,MATCH($A276,$B$56:$B$1919,0))","v":12465.541681209797}]
[222,{"$f":"B276+IF('Cleaned Data'!L223>0,1,0)*IF($B$34=\"Overall\",1,IF('Cleaned Data'!K223=$B$34,1,0))*(IF('Cleaned Data'!H223<>\"\",1,0))","v":1},{"$f":"INDEX('Cleaned Data'!H:H,MATCH($A277,$B$56:$B$1919,0))","v":6},{"$f":"INDEX('Cleaned Data'!L:L,MATCH($A277,$B$56:$B$1919,0))","v":5342.3750062327708}]
[223,{"$f":"B277+IF('Cleaned Data'!L224>0,1,0)*IF($B$34=\"Overall\",1,IF('Cleaned Data'!K224=$B$34,1,0))*(IF('Cleaned Data'!H224<>\"\",1,0))","v":1},{"$f":"INDEX('Cleaned Data'!H:H,MATCH($A278,$B$56:$B$1919,0))","v":1},{"$f":"INDEX('Cleaned Data'!L:L,MATCH($A278,$B$56:$B$1919,0))","v":7123.1666749770275}]
[224,{"$f":"B278+IF('Cleaned Data'!L225>0,1,0)*IF($B$34=\"Overall\",1,IF('Cleaned Data'!K225=$B$34,1,0))*(IF('Cleaned Data'!H225<>\"\",1,0))","v":1},{"$f":"INDEX('Cleaned Data'!H:H,MATCH($A279,$B$56:$B$1919,0))","v":29},{"$f":"INDEX('Cleaned Data'!L:L,MATCH($A279,$B$56:$B$1919,0))","v":8903.9583437212841}]
[225,{"$f":"B279+IF('Cleaned Data'!L226>0,1,0)*IF($B$34=\"Overall\",1,IF('Cleaned Data'!K226=$B$34,1,0))*(IF('Cleaned Data'!H226<>\"\",1,0))","v":1},{"$f":"INDEX('Cleaned Data'!H:H,MATCH($A280,$B$56:$B$1919,0))","v":6},{"$f":"INDEX('Cleaned Data'!L:L,MATCH($A280,$B$56:$B$1919,0))","v":6410.8500074793246}]
[226,{"$f":"B280+IF('Cleaned Data'!L227>0,1,0)*IF($B$34=\"Overall\",1,IF('Cleaned Data'!K227=$B$34,1,0))*(IF('Cleaned Data'!H227<>\"\",1,0))","v":1},{"$f":"INDEX('Cleaned Data'!H:H,MATCH($A281,$B$56:$B$1919,0))","v":10},{"$f":"INDEX('Cleaned Data'!L:L,MATCH($A281,$B$56:$B$1919,0))","v":17807.916687442568}]
[227,{"$f":"B281+IF('Cleaned Data'!L228>0,1,0)*IF($B$34=\"Overall\",1,IF('Cleaned Data'!K228=$B$34,1,0))*(IF('Cleaned Data'!H228<>\"\",1,0))","v":1},{"$f":"INDEX('Cleaned Data'!H:H,MATCH($A282,$B$56:$B$1919,0))","v":8},{"$f":"INDEX('Cleaned Data'!L:L,MATCH($A282,$B$56:$B$1919,0))","v":16027.125018698311}]
[228,{"$f":"B282+IF('Cleaned Data'!L229>0,1,0)*IF($B$34=\"Overall\",1,IF('Cleaned Data'!K229=$B$34,1,0))*(IF('Cleaned Data'!H229<>\"\",1,0))","v":1},{"$f":"INDEX('Cleaned Data'!H:H,MATCH($A283,$B$56:$B$1919,0))","v":5},{"$f":"INDEX('Cleaned Data'!L:L,MATCH($A283,$B$56:$B$1919,0))","v":5342.3750062327708}]
[229,{"$f":"B283+IF('Cleaned Data'!L230>0,1,0)*IF($B$34=\"Overall\",1,IF('Cleaned Data'!K230=$B$34,1,0))*(IF('Cleaned Data'!H230<>\"\",1,0))","v":1},{"$f":"INDEX('Cleaned Data'!H:H,MATCH($A284,$B$56:$B$1919,0))","v":3},{"$f":"INDEX('Cleaned Data'!L:L,MATCH($A284,$B$56:$B$1919,0))","v":7123.1666749770275}]
[230,{"$f":"B284+IF('Cleaned Data'!L231>0,1,0)*IF($B$34=\"Overall\",1,IF('Cleaned Data'!K231=$B$34,1,0))*(IF('Cleaned Data'!H231<>\"\",1,0))","v":1},{"$f":"INDEX('Cleaned Data'!H:H,MATCH($A285,$B$56:$B$1919,0))","v":2},{"$f":"INDEX('Cleaned Data'!L:L,MATCH($A285,$B$56:$B$1919,0))","v":10684.750012465542}]
[231,{"$f":"B285+IF('Cleaned Data'!L232>0,1,0)*IF($B$34=\"Overall\",1,IF('Cleaned Data'!K232=$B$34,1,0))*(IF('Cleaned Data'!H232<>\"\",1,0))","v":1},{"$f":"INDEX('Cleaned Data'!H:H,MATCH($A286,$B$56:$B$1919,0))","v":1.5},{"$f":"INDEX('Cleaned Data'!L:L,MATCH($A286,$B$56:$B$1919,0))","v":6232.7708406048987}]
[232,{"$f":"B286+IF('Cleaned Data'!L233>0,1,0)*IF($B$34=\"Overall\",1,IF('Cleaned Data'!K233=$B$34,1,0))*(IF('Cleaned Data'!H233<>\"\",1,0))","v":1},{"$f":"INDEX('Cleaned Data'!H:H,MATCH($A287,$B$56:$B$1919,0))","v":7},{"$f":"INDEX('Cleaned Data'!L:L,MATCH($A287,$B$56:$B$1919,0))","v":26711.875031163851}]
[233,{"$f":"B287+IF('Cleaned Data'!L234>0,1,0)*IF($B$34=\"Overall\",1,IF('Cleaned Data'!K234=$B$34,1,0))*(IF('Cleaned Data'!H234<>\"\",1,0))","v":1},{"$f":"INDEX('Cleaned Data'!H:H,MATCH($A288,$B$56:$B$1919,0))","v":5},{"$f":"INDEX('Cleaned Data'!L:L,MATCH($A288,$B$56:$B$1919,0))","v":10239.552095279476}]
[234,{"$f":"B288+IF('Cleaned Data'!L235>0,1,0)*IF($B$34=\"Overall\",1,IF('Cleaned Data'!K235=$B$34,1,0))*(IF('Cleaned Data'!H235<>\"\",1,0))","v":1},{"$f":"INDEX('Cleaned Data'!H:H,MATCH($A289,$B$56:$B$1919,0))","v":2},{"$f":"INDEX('Cleaned Data'!L:L,MATCH($A289,$B$56:$B$1919,0))","v":8903.9583437212841}]
[235,{"$f":"B289+IF('Cleaned Data'!L236>0,1,0)*IF($B$34=\"Overall\",1,IF('Cleaned Data'!K236=$B$34,1,0))*(IF('Cleaned Data'!H236<>\"\",1,0))","v":1},{"$f":"INDEX('Cleaned Data'!H:H,MATCH($A290,$B$56:$B$1919,0))","v":4.5},{"$f":"INDEX('Cleaned Data'!L:L,MATCH($A290,$B$56:$B$1919,0))","v":3739.6625043629392}]
[236,{"$f":"B290+IF('Cleaned Data'!L237>0,1,0)*IF($B$34=\"Overall\",1,IF('Cleaned Data'!K237=$B$34,1,0))*(IF('Cleaned Data'!H237<>\"\",1,0))","v":1},{"$f":"INDEX('Cleaned Data'!H:H,MATCH($A291,$B$56:$B$1919,0))","v":3},{"$f":"INDEX('Cleaned Data'!L:L,MATCH($A291,$B$56:$B$1919,0))","v":3561.5833374885137}]
[237,{"$f":"B291+IF('Cleaned Data'!L238>0,1,0)*IF($B$34=\"Overall\",1,IF('Cleaned Data'!K238=$B$34,1,0))*(IF('Cleaned Data'!H238<>\"\",1,0))","v":1},{"$f":"INDEX('Cleaned Data'!H:H,MATCH($A292,$B$56:$B$1919,0))","v":6},{"$f":"INDEX('Cleaned Data'!L:L,MATCH($A292,$B$56:$B$1919,0))","v":6410.8500074793246}]
[238,{"$f":"B292+IF('Cleaned Data'!L239>0,1,0)*IF($B$34=\"Overall\",1,IF('Cleaned Data'!K239=$B$34,1,0))*(IF('Cleaned Data'!H239<>\"\",1,0))","v":1},{"$f":"INDEX('Cleaned Data'!H:H,MATCH($A293,$B$56:$B$1919,0))","v":9},{"$f":"INDEX('Cleaned Data'!L:L,MATCH($A293,$B$56:$B$1919,0))","v":21369.500024931083}]
[239,{"$f":"B293+IF('Cleaned Data'!L240>0,1,0)*IF($B$34=\"Overall\",1,IF('Cleaned Data'!K240=$B$34,1,0))*(IF('Cleaned Data'!H240<>\"\",1,0))","v":1},{"$f":"INDEX('Cleaned Data'!H:H,MATCH($A294,$B$56:$B$1919,0))","v":28},{"$f":"INDEX('Cleaned Data'!L:L,MATCH($A294,$B$56:$B$1919,0))","v":10684.750012465542}]
[240,{"$f":"B294+IF('Cleaned Data'!L241>0,1,0)*IF($B$34=\"Overall\",1,IF('Cleaned Data'!K241=$B$34,1,0))*(IF('Cleaned Data'!H241<>\"\",1,0))","v":1},{"$f":"INDEX('Cleaned Data'!H:H,MATCH($A295,$B$56:$B$1919,0))","v":0.1},{"$f":"INDEX('Cleaned Data'!L:L,MATCH($A295,$B$56:$B$1919,0))","v":5591.6858398569666}]
[241,{"$f":"B295+IF('Cleaned Data'!L242>0,1,0)*IF($B$34=\"Overall\",1,IF('Cleaned Data'!K242=$B$34,1,0))*(IF('Cleaned Data'!H242<>\"\",1,0))","v":1},{"$f":"INDEX('Cleaned Data'!H:H,MATCH($A296,$B$56:$B$1919,0))","v":7},{"$f":"INDEX('Cleaned Data'!L:L,MATCH($A296,$B$56:$B$1919,0))","v":11753.225013712095}]
[242,{"$f":"B296+IF('Cleaned Data'!L243>0,1,0)*IF($B$34=\"Overall\",1,IF('Cleaned Data'!K243=$B$34,1,0))*(IF('Cleaned Data'!H243<>\"\",1,0))","v":1},{"$f":"INDEX('Cleaned Data'!H:H,MATCH($A297,$B$56:$B$1919,0))","v":2},{"$f":"INDEX('Cleaned Data'!L:L,MATCH($A297,$B$56:$B$1919,0))","v":3632.815004238284}]
[243,{"$f":"B297+IF('Cleaned Data'!L244>0,1,0)*IF($B$34=\"Overall\",1,IF('Cleaned Data'!K244=$B$34,1,0))*(IF('Cleaned Data'!H244<>\"\",1,0))","v":1},{"$f":"INDEX('Cleaned Data'!H:H,MATCH($A298,$B$56:$B$1919,0))","v":4},{"$f":"INDEX('Cleaned Data'!L:L,MATCH($A298,$B$56:$B$1919,0))","v":4897.177089046706}]
[244,{"$f":"B298+IF('Cleaned Data'!L245>0,1,0)*IF($B$34=\"Overall\",1,IF('Cleaned Data'!K245=$B$34,1,0))*(IF('Cleaned Data'!H245<>\"\",1,0))","v":1},{"$f":"INDEX('Cleaned Data'!H:H,MATCH($A299,$B$56:$B$1919,0))","v":3},{"$f":"INDEX('Cleaned Data'!L:L,MATCH($A299,$B$56:$B$1919,0))","v":5342.3750062327708}]
[245,{"$f":"B299+IF('Cleaned Data'!L246>0,1,0)*IF($B$34=\"Overall\",1,IF('Cleaned Data'!K246=$B$34,1,0))*(IF('Cleaned Data'!H246<>\"\",1,0))","v":1},{"$f":"INDEX('Cleaned Data'!H:H,MATCH($A300,$B$56:$B$1919,0))","v":5},{"$f":"INDEX('Cleaned Data'!L:L,MATCH($A300,$B$56:$B$1919,0))","v":8903.9583437212841}]
[246,{"$f":"B300+IF('Cleaned Data'!L247>0,1,0)*IF($B$34=\"Overall\",1,IF('Cleaned Data'!K247=$B$34,1,0))*(IF('Cleaned Data'!H247<>\"\",1,0))","v":1},{"$f":"INDEX('Cleaned Data'!H:H,MATCH($A301,$B$56:$B$1919,0))","v":7},{"$f":"INDEX('Cleaned Data'!L:L,MATCH($A301,$B$56:$B$1919,0))","v":10684.750012465542}]
[247,{"$f":"B301+IF('Cleaned Data'!L248>0,1,0)*IF($B$34=\"Overall\",1,IF('Cleaned Data'!K248=$B$34,1,0))*(IF('Cleaned Data'!H248<>\"\",1,0))","v":1},{"$f":"INDEX('Cleaned Data'!H:H,MATCH($A302,$B$56:$B$1919,0))","v":21},{"$f":"INDEX('Cleaned Data'!L:L,MATCH($A302,$B$56:$B$1919,0))","v":21369.500024931083}]
[248,{"$f":"B302+IF('Cleaned Data'!L249>0,1,0)*IF($B$34=\"Overall\",1,IF('Cleaned Data'!K249=$B$34,1,0))*(IF('Cleaned Data'!H249<>\"\",1,0))","v":1},{"$f":"INDEX('Cleaned Data'!H:H,MATCH($A303,$B$56:$B$1919,0))","v":4},{"$f":"INDEX('Cleaned Data'!L:L,MATCH($A303,$B$56:$B$1919,0))","v":28492.66669990811}]
[249,{"$f":"B303+IF('Cleaned Data'!L250>0,1,0)*IF($B$34=\"Overall\",1,IF('Cleaned Data'!K250=$B$34,1,0))*(IF('Cleaned Data'!H250<>\"\",1,0))","v":1},{"$f":"INDEX('Cleaned Data'!H:H,MATCH($A304,$B$56:$B$1919,0))","v":8},{"$f":"INDEX('Cleaned Data'!L:L,MATCH($A304,$B$56:$B$1919,0))","v":4451.9791718606421}]
[250,{"$f":"B304+IF('Cleaned Data'!L251>0,1,0)*IF($B$34=\"Overall\",1,IF('Cleaned Data'!K251=$B$34,1,0))*(IF('Cleaned Data'!H251<>\"\",1,0))","v":1},{"$f":"INDEX('Cleaned Data'!H:H,MATCH($A305,$B$56:$B$1919,0))","v":7},{"$f":"INDEX('Cleaned Data'!L:L,MATCH($A305,$B$56:$B$1919,0))","v":8013.5625093491553}]
[251,{"$f":"B305+IF('Cleaned Data'!L252>0,1,0)*IF($B$34=\"Overall\",1,IF('Cleaned Data'!K252=$B$34,1,0))*(IF('Cleaned Data'!H252<>\"\",1,0))","v":1},{"$f":"INDEX('Cleaned Data'!H:H,MATCH($A306,$B$56:$B$1919,0))","v":5.6},{"$f":"INDEX('Cleaned Data'!L:L,MATCH($A306,$B$56:$B$1919,0))","v":39355.495879248076}]
[252,{"$f":"B306+IF('Cleaned Data'!L253>0,1,0)*IF($B$34=\"Overall\",1,IF('Cleaned Data'!K253=$B$34,1,0))*(IF('Cleaned Data'!H253<>\"\",1,0))","v":1},{"$f":"INDEX('Cleaned Data'!H:H,MATCH($A307,$B$56:$B$1919,0))","v":15},{"$f":"INDEX('Cleaned Data'!L:L,MATCH($A307,$B$56:$B$1919,0))","v":4451.9791718606421}]
[253,{"$f":"B307+IF('Cleaned Data'!L254>0,1,0)*IF($B$34=\"Overall\",1,IF('Cleaned Data'!K254=$B$34,1,0))*(IF('Cleaned Data'!H254<>\"\",1,0))","v":1},{"$f":"INDEX('Cleaned Data'!H:H,MATCH($A308,$B$56:$B$1919,0))","v":1},{"$f":"INDEX('Cleaned Data'!L:L,MATCH($A308,$B$56:$B$1919,0))","v":13355.937515581925}]
[254,{"$f":"B308+IF('Cleaned Data'!L255>0,1,0)*IF($B$34=\"Overall\",1,IF('Cleaned Data'!K255=$B$34,1,0))*(IF('Cleaned Data'!H255<>\"\",1,0))","v":1},{"$f":"INDEX('Cleaned Data'!H:H,MATCH($A309,$B$56:$B$1919,0))","v":5.5},{"$f":"INDEX('Cleaned Data'!L:L,MATCH($A309,$B$56:$B$1919,0))","v":57875.729234188344}]
[255,{"$f":"B309+IF('Cleaned Data'!L256>0,1,0)*IF($B$34=\"Overall\",1,IF('Cleaned Data'!K256=$B$34,1,0))*(IF('Cleaned Data'!H256<>\"\",1,0))","v":1},{"$f":"INDEX('Cleaned Data'!H:H,MATCH($A310,$B$56:$B$1919,0))","v":4},{"$f":"INDEX('Cleaned Data'!L:L,MATCH($A310,$B$56:$B$1919,0))","v":5342.3750062327708}]
[256,{"$f":"B310+IF('Cleaned Data'!L257>0,1,0)*IF($B$34=\"Overall\",1,IF('Cleaned Data'!K257=$B$34,1,0))*(IF('Cleaned Data'!H257<>\"\",1,0))","v":1},{"$f":"INDEX('Cleaned Data'!H:H,MATCH($A311,$B$56:$B$1919,0))","v":7},{"$f":"INDEX('Cleaned Data'!L:L,MATCH($A311,$B$56:$B$1919,0))","v":8547.8000099724322}]
[257,{"$f":"B311+IF('Cleaned Data'!L258>0,1,0)*IF($B$34=\"Overall\",1,IF('Cleaned Data'!K258=$B$34,1,0))*(IF('Cleaned Data'!H258<>\"\",1,0))","v":1},{"$f":"INDEX('Cleaned Data'!H:H,MATCH($A312,$B$56:$B$1919,0))","v":4},{"$f":"INDEX('Cleaned Data'!L:L,MATCH($A312,$B$56:$B$1919,0))","v":16027.125018698311}]
[258,{"$f":"B312+IF('Cleaned Data'!L259>0,1,0)*IF($B$34=\"Overall\",1,IF('Cleaned Data'!K259=$B$34,1,0))*(IF('Cleaned Data'!H259<>\"\",1,0))","v":1},{"$f":"INDEX('Cleaned Data'!H:H,MATCH($A313,$B$56:$B$1919,0))","v":36},{"$f":"INDEX('Cleaned Data'!L:L,MATCH($A313,$B$56:$B$1919,0))","v":10684.750012465542}]
[259,{"$f":"B313+IF('Cleaned Data'!L260>0,1,0)*IF($B$34=\"Overall\",1,IF('Cleaned Data'!K260=$B$34,1,0))*(IF('Cleaned Data'!H260<>\"\",1,0))","v":1},{"$f":"INDEX('Cleaned Data'!H:H,MATCH($A314,$B$56:$B$1919,0))","v":0},{"$f":"INDEX('Cleaned Data'!L:L,MATCH($A314,$B$56:$B$1919,0))","v":8903.9583437212841}]
[260,{"$f":"B314+IF('Cleaned Data'!L261>0,1,0)*IF($B$34=\"Overall\",1,IF('Cleaned Data'!K261=$B$34,1,0))*(IF('Cleaned Data'!H261<>\"\",1,0))","v":1},{"$f":"INDEX('Cleaned Data'!H:H,MATCH($A315,$B$56:$B$1919,0))","v":6},{"$f":"INDEX('Cleaned Data'!L:L,MATCH($A315,$B$56:$B$1919,0))","v":17807.916687442568}]
[261,{"$f":"B315+IF('Cleaned Data'!L262>0,1,0)*IF($B$34=\"Overall\",1,IF('Cleaned Data'!K262=$B$34,1,0))*(IF('Cleaned Data'!H262<>\"\",1,0))","v":1},{"$f":"INDEX('Cleaned Data'!H:H,MATCH($A316,$B$56:$B$1919,0))","v":2},{"$f":"INDEX('Cleaned Data'!L:L,MATCH($A316,$B$56:$B$1919,0))","v":5698.5333399816218}]
[262,{"$f":"B316+IF('Cleaned Data'!L263>0,1,0)*IF($B$34=\"Overall\",1,IF('Cleaned Data'!K263=$B$34,1,0))*(IF('Cleaned Data'!H263<>\"\",1,0))","v":1},{"$f":"INDEX('Cleaned Data'!H:H,MATCH($A317,$B$56:$B$1919,0))","v":6},{"$f":"INDEX('Cleaned Data'!L:L,MATCH($A317,$B$56:$B$1919,0))","v":7123.1666749770275}]
[263,{"$f":"B317+IF('Cleaned Data'!L264>0,1,0)*IF($B$34=\"Overall\",1,IF('Cleaned Data'!K264=$B$34,1,0))*(IF('Cleaned Data'!H264<>\"\",1,0))","v":1},{"$f":"INDEX('Cleaned Data'!H:H,MATCH($A318,$B$56:$B$1919,0))","v":15},{"$f":"INDEX('Cleaned Data'!L:L,MATCH($A318,$B$56:$B$1919,0))","v":4451.9791718606421}]
[264,{"$f":"B318+IF('Cleaned Data'!L265>0,1,0)*IF($B$34=\"Overall\",1,IF('Cleaned Data'!K265=$B$34,1,0))*(IF('Cleaned Data'!H265<>\"\",1,0))","v":1},{"$f":"INDEX('Cleaned Data'!H:H,MATCH($A319,$B$56:$B$1919,0))","v":6},{"$f":"INDEX('Cleaned Data'!L:L,MATCH($A319,$B$56:$B$1919,0))","v":6410.8500074793246}]
[265,{"$f":"B319+IF('Cleaned Data'!L266>0,1,0)*IF($B$34=\"Overall\",1,IF('Cleaned Data'!K266=$B$34,1,0))*(IF('Cleaned Data'!H266<>\"\",1,0))","v":1},{"$f":"INDEX('Cleaned Data'!H:H,MATCH($A320,$B$56:$B$1919,0))","v":12},{"$f":"INDEX('Cleaned Data'!L:L,MATCH($A320,$B$56:$B$1919,0))","v":20479.104190558952}]
[266,{"$f":"B320+IF('Cleaned Data'!L267>0,1,0)*IF($B$34=\"Overall\",1,IF('Cleaned Data'!K267=$B$34,1,0))*(IF('Cleaned Data'!H267<>\"\",1,0))","v":1},{"$f":"INDEX('Cleaned Data'!H:H,MATCH($A321,$B$56:$B$1919,0))","v":5},{"$f":"INDEX('Cleaned Data'!L:L,MATCH($A321,$B$56:$B$1919,0))","v":11040.908346214392}]
[267,{"$f":"B321+IF('Cleaned Data'!L268>0,1,0)*IF($B$34=\"Overall\",1,IF('Cleaned Data'!K268=$B$34,1,0))*(IF('Cleaned Data'!H268<>\"\",1,0))","v":1},{"$f":"INDEX('Cleaned Data'!H:H,MATCH($A322,$B$56:$B$1919,0))","v":7},{"$f":"INDEX('Cleaned Data'!L:L,MATCH($A322,$B$56:$B$1919,0))","v":17807.916687442568}]
[268,{"$f":"B322+IF('Cleaned Data'!L269>0,1,0)*IF($B$34=\"Overall\",1,IF('Cleaned Data'!K269=$B$34,1,0))*(IF('Cleaned Data'!H269<>\"\",1,0))","v":1},{"$f":"INDEX('Cleaned Data'!H:H,MATCH($A323,$B$56:$B$1919,0))","v":11},{"$f":"INDEX('Cleaned Data'!L:L,MATCH($A323,$B$56:$B$1919,0))","v":3561.5833374885137}]
[269,{"$f":"B323+IF('Cleaned Data'!L270>0,1,0)*IF($B$34=\"Overall\",1,IF('Cleaned Data'!K270=$B$34,1,0))*(IF('Cleaned Data'!H270<>\"\",1,0))","v":1},{"$f":"INDEX('Cleaned Data'!H:H,MATCH($A324,$B$56:$B$1919,0))","v":1.6},{"$f":"INDEX('Cleaned Data'!L:L,MATCH($A324,$B$56:$B$1919,0))","v":4095.8208381117906}]
[270,{"$f":"B324+IF('Cleaned Data'!L271>0,1,0)*IF($B$34=\"Overall\",1,IF('Cleaned Data'!K271=$B$34,1,0))*(IF('Cleaned Data'!H271<>\"\",1,0))","v":1},{"$f":"INDEX('Cleaned Data'!H:H,MATCH($A325,$B$56:$B$1919,0))","v":3},{"$f":"INDEX('Cleaned Data'!L:L,MATCH($A325,$B$56:$B$1919,0))","v":12821.700014958649}]
[271,{"$f":"B325+IF('Cleaned Data'!L272>0,1,0)*IF($B$34=\"Overall\",1,IF('Cleaned Data'!K272=$B$34,1,0))*(IF('Cleaned Data'!H272<>\"\",1,0))","v":1},{"$f":"INDEX('Cleaned Data'!H:H,MATCH($A326,$B$56:$B$1919,0))","v":8},{"$f":"INDEX('Cleaned Data'!L:L,MATCH($A326,$B$56:$B$1919,0))","v":4950.6008391090336}]
[272,{"$f":"B326+IF('Cleaned Data'!L273>0,1,0)*IF($B$34=\"Overall\",1,IF('Cleaned Data'!K273=$B$34,1,0))*(IF('Cleaned Data'!H273<>\"\",1,0))","v":1},{"$f":"INDEX('Cleaned Data'!H:H,MATCH($A327,$B$56:$B$1919,0))","v":21},{"$f":"INDEX('Cleaned Data'!L:L,MATCH($A327,$B$56:$B$1919,0))","v":11575.14584683767}]
[273,{"$f":"B327+IF('Cleaned Data'!L274>0,1,0)*IF($B$34=\"Overall\",1,IF('Cleaned Data'!K274=$B$34,1,0))*(IF('Cleaned Data'!H274<>\"\",1,0))","v":1},{"$f":"INDEX('Cleaned Data'!H:H,MATCH($A328,$B$56:$B$1919,0))","v":5},{"$f":"INDEX('Cleaned Data'!L:L,MATCH($A328,$B$56:$B$1919,0))","v":71231.666749770273}]
[274,{"$f":"B328+IF('Cleaned Data'!L275>0,1,0)*IF($B$34=\"Overall\",1,IF('Cleaned Data'!K275=$B$34,1,0))*(IF('Cleaned Data'!H275<>\"\",1,0))","v":1},{"$f":"INDEX('Cleaned Data'!H:H,MATCH($A329,$B$56:$B$1919,0))","v":10},{"$f":"INDEX('Cleaned Data'!L:L,MATCH($A329,$B$56:$B$1919,0))","v":26711.875031163851}]
[275,{"$f":"B329+IF('Cleaned Data'!L276>0,1,0)*IF($B$34=\"Overall\",1,IF('Cleaned Data'!K276=$B$34,1,0))*(IF('Cleaned Data'!H276<>\"\",1,0))","v":1},{"$f":"INDEX('Cleaned Data'!H:H,MATCH($A330,$B$56:$B$1919,0))","v":4},{"$f":"INDEX('Cleaned Data'!L:L,MATCH($A330,$B$56:$B$1919,0))","v":9545.0433444692171}]
[276,{"$f":"B330+IF('Cleaned Data'!L277>0,1,0)*IF($B$34=\"Overall\",1,IF('Cleaned Data'!K277=$B$34,1,0))*(IF('Cleaned Data'!H277<>\"\",1,0))","v":1},{"$f":"INDEX('Cleaned Data'!H:H,MATCH($A331,$B$56:$B$1919,0))","v":8},{"$f":"INDEX('Cleaned Data'!L:L,MATCH($A331,$B$56:$B$1919,0))","v":8903.9583437212841}]
[277,{"$f":"B331+IF('Cleaned Data'!L278>0,1,0)*IF($B$34=\"Overall\",1,IF('Cleaned Data'!K278=$B$34,1,0))*(IF('Cleaned Data'!H278<>\"\",1,0))","v":1},{"$f":"INDEX('Cleaned Data'!H:H,MATCH($A332,$B$56:$B$1919,0))","v":3},{"$f":"INDEX('Cleaned Data'!L:L,MATCH($A332,$B$56:$B$1919,0))","v":3561.5833374885137}]
[278,{"$f":"B332+IF('Cleaned Data'!L279>0,1,0)*IF($B$34=\"Overall\",1,IF('Cleaned Data'!K279=$B$34,1,0))*(IF('Cleaned Data'!H279<>\"\",1,0))","v":1},{"$f":"INDEX('Cleaned Data'!H:H,MATCH($A333,$B$56:$B$1919,0))","v":6},{"$f":"INDEX('Cleaned Data'!L:L,MATCH($A333,$B$56:$B$1919,0))","v":6767.0083412281756}]
[279,{"$f":"B333+IF('Cleaned Data'!L280>0,1,0)*IF($B$34=\"Overall\",1,IF('Cleaned Data'!K280=$B$34,1,0))*(IF('Cleaned Data'!H280<>\"\",1,0))","v":1},{"$f":"INDEX('Cleaned Data'!H:H,MATCH($A334,$B$56:$B$1919,0))","v":5},{"$f":"INDEX('Cleaned Data'!L:L,MATCH($A334,$B$56:$B$1919,0))","v":3205.4250037396623}]
[280,{"$f":"B334+IF('Cleaned Data'!L281>0,1,0)*IF($B$34=\"Overall\",1,IF('Cleaned Data'!K281=$B$34,1,0))*(IF('Cleaned Data'!H281<>\"\",1,0))","v":1},{"$f":"INDEX('Cleaned Data'!H:H,MATCH($A335,$B$56:$B$1919,0))","v":10},{"$f":"INDEX('Cleaned Data'!L:L,MATCH($A335,$B$56:$B$1919,0))","v":17807.916687442568}]
[281,{"$f":"B335+IF('Cleaned Data'!L282>0,1,0)*IF($B$34=\"Overall\",1,IF('Cleaned Data'!K282=$B$34,1,0))*(IF('Cleaned Data'!H282<>\"\",1,0))","v":1},{"$f":"INDEX('Cleaned Data'!H:H,MATCH($A336,$B$56:$B$1919,0))","v":30},{"$f":"INDEX('Cleaned Data'!L:L,MATCH($A336,$B$56:$B$1919,0))","v":12465.541681209797}]
[282,{"$f":"B336+IF('Cleaned Data'!L283>0,1,0)*IF($B$34=\"Overall\",1,IF('Cleaned Data'!K283=$B$34,1,0))*(IF('Cleaned Data'!H283<>\"\",1,0))","v":1},{"$f":"INDEX('Cleaned Data'!H:H,MATCH($A337,$B$56:$B$1919,0))","v":9},{"$f":"INDEX('Cleaned Data'!L:L,MATCH($A337,$B$56:$B$1919,0))","v":8903.9583437212841}]
[283,{"$f":"B337+IF('Cleaned Data'!L284>0,1,0)*IF($B$34=\"Overall\",1,IF('Cleaned Data'!K284=$B$34,1,0))*(IF('Cleaned Data'!H284<>\"\",1,0))","v":1},{"$f":"INDEX('Cleaned Data'!H:H,MATCH($A338,$B$56:$B$1919,0))","v":5},{"$f":"INDEX('Cleaned Data'!L:L,MATCH($A338,$B$56:$B$1919,0))","v":15136.729184326183}]
[284,{"$f":"B338+IF('Cleaned Data'!L285>0,1,0)*IF($B$34=\"Overall\",1,IF('Cleaned Data'!K285=$B$34,1,0))*(IF('Cleaned Data'!H285<>\"\",1,0))","v":1},{"$f":"INDEX('Cleaned Data'!H:H,MATCH($A339,$B$56:$B$1919,0))","v":6},{"$f":"INDEX('Cleaned Data'!L:L,MATCH($A339,$B$56:$B$1919,0))","v":100614.72928405051}]
[285,{"$f":"B339+IF('Cleaned Data'!L286>0,1,0)*IF($B$34=\"Overall\",1,IF('Cleaned Data'!K286=$B$34,1,0))*(IF('Cleaned Data'!H286<>\"\",1,0))","v":1},{"$f":"INDEX('Cleaned Data'!H:H,MATCH($A340,$B$56:$B$1919,0))","v":8},{"$f":"INDEX('Cleaned Data'!L:L,MATCH($A340,$B$56:$B$1919,0))","v":6410.8500074793246}]
[286,{"$f":"B340+IF('Cleaned Data'!L287>0,1,0)*IF($B$34=\"Overall\",1,IF('Cleaned Data'!K287=$B$34,1,0))*(IF('Cleaned Data'!H287<>\"\",1,0))","v":1},{"$f":"INDEX('Cleaned Data'!H:H,MATCH($A341,$B$56:$B$1919,0))","v":2.5},{"$f":"INDEX('Cleaned Data'!L:L,MATCH($A341,$B$56:$B$1919,0))","v":4451.9791718606421}]
[287,{"$f":"B341+IF('Cleaned Data'!L288>0,1,0)*IF($B$34=\"Overall\",1,IF('Cleaned Data'!K288=$B$34,1,0))*(IF('Cleaned Data'!H288<>\"\",1,0))","v":1},{"$f":"INDEX('Cleaned Data'!H:H,MATCH($A342,$B$56:$B$1919,0))","v":6},{"$f":"INDEX('Cleaned Data'!L:L,MATCH($A342,$B$56:$B$1919,0))","v":30273.458368652366}]
[288,{"$f":"B342+IF('Cleaned Data'!L289>0,1,0)*IF($B$34=\"Overall\",1,IF('Cleaned Data'!K289=$B$34,1,0))*(IF('Cleaned Data'!H289<>\"\",1,0))","v":1},{"$f":"INDEX('Cleaned Data'!H:H,MATCH($A343,$B$56:$B$1919,0))","v":4},{"$f":"INDEX('Cleaned Data'!L:L,MATCH($A343,$B$56:$B$1919,0))","v":17807.916687442568}]
[289,{"$f":"B343+IF('Cleaned Data'!L290>0,1,0)*IF($B$34=\"Overall\",1,IF('Cleaned Data'!K290=$B$34,1,0))*(IF('Cleaned Data'!H290<>\"\",1,0))","v":1},{"$f":"INDEX('Cleaned Data'!H:H,MATCH($A344,$B$56:$B$1919,0))","v":5},{"$f":"INDEX('Cleaned Data'!L:L,MATCH($A344,$B$56:$B$1919,0))","v":11575.14584683767}]
[290,{"$f":"B344+IF('Cleaned Data'!L291>0,1,0)*IF($B$34=\"Overall\",1,IF('Cleaned Data'!K291=$B$34,1,0))*(IF('Cleaned Data'!H291<>\"\",1,0))","v":1},{"$f":"INDEX('Cleaned Data'!H:H,MATCH($A345,$B$56:$B$1919,0))","v":1},{"$f":"INDEX('Cleaned Data'!L:L,MATCH($A345,$B$56:$B$1919,0))","v":32054.250037396621}]
[291,{"$f":"B345+IF('Cleaned Data'!L292>0,1,0)*IF($B$34=\"Overall\",1,IF('Cleaned Data'!K292=$B$34,1,0))*(IF('Cleaned Data'!H292<>\"\",1,0))","v":1},{"$f":"INDEX('Cleaned Data'!H:H,MATCH($A346,$B$56:$B$1919,0))","v":2.5},{"$f":"INDEX('Cleaned Data'!L:L,MATCH($A346,$B$56:$B$1919,0))","v":7123.1666749770275}]
[292,{"$f":"B346+IF('Cleaned Data'!L293>0,1,0)*IF($B$34=\"Overall\",1,IF('Cleaned Data'!K293=$B$34,1,0))*(IF('Cleaned Data'!H293<>\"\",1,0))","v":1},{"$f":"INDEX('Cleaned Data'!H:H,MATCH($A347,$B$56:$B$1919,0))","v":2},{"$f":"INDEX('Cleaned Data'!L:L,MATCH($A347,$B$56:$B$1919,0))","v":12109.383347460946}]
[293,{"$f":"B347+IF('Cleaned Data'!L294>0,1,0)*IF($B$34=\"Overall\",1,IF('Cleaned Data'!K294=$B$34,1,0))*(IF('Cleaned Data'!H294<>\"\",1,0))","v":1},{"$f":"INDEX('Cleaned Data'!H:H,MATCH($A348,$B$56:$B$1919,0))","v":5},{"$f":"INDEX('Cleaned Data'!L:L,MATCH($A348,$B$56:$B$1919,0))","v":5698.5333399816218}]
[294,{"$f":"B348+IF('Cleaned Data'!L295>0,1,0)*IF($B$34=\"Overall\",1,IF('Cleaned Data'!K295=$B$34,1,0))*(IF('Cleaned Data'!H295<>\"\",1,0))","v":1},{"$f":"INDEX('Cleaned Data'!H:H,MATCH($A349,$B$56:$B$1919,0))","v":4},{"$f":"INDEX('Cleaned Data'!L:L,MATCH($A349,$B$56:$B$1919,0))","v":65889.291743537498}]
[295,{"$f":"B349+IF('Cleaned Data'!L296>0,1,0)*IF($B$34=\"Overall\",1,IF('Cleaned Data'!K296=$B$34,1,0))*(IF('Cleaned Data'!H296<>\"\",1,0))","v":1},{"$f":"INDEX('Cleaned Data'!H:H,MATCH($A350,$B$56:$B$1919,0))","v":13},{"$f":"INDEX('Cleaned Data'!L:L,MATCH($A350,$B$56:$B$1919,0))","v":17807.916687442568}]
[296,{"$f":"B350+IF('Cleaned Data'!L297>0,1,0)*IF($B$34=\"Overall\",1,IF('Cleaned Data'!K297=$B$34,1,0))*(IF('Cleaned Data'!H297<>\"\",1,0))","v":1},{"$f":"INDEX('Cleaned Data'!H:H,MATCH($A351,$B$56:$B$1919,0))","v":4},{"$f":"INDEX('Cleaned Data'!L:L,MATCH($A351,$B$56:$B$1919,0))","v":17807.916687442568}]
[297,{"$f":"B351+IF('Cleaned Data'!L298>0,1,0)*IF($B$34=\"Overall\",1,IF('Cleaned Data'!K298=$B$34,1,0))*(IF('Cleaned Data'!H298<>\"\",1,0))","v":1},{"$f":"INDEX('Cleaned Data'!H:H,MATCH($A352,$B$56:$B$1919,0))","v":4},{"$f":"INDEX('Cleaned Data'!L:L,MATCH($A352,$B$56:$B$1919,0))","v":2225.989585930321}]
[298,{"$f":"B352+IF('Cleaned Data'!L299>0,1,0)*IF($B$34=\"Overall\",1,IF('Cleaned Data'!K299=$B$34,1,0))*(IF('Cleaned Data'!H299<>\"\",1,0))","v":1},{"$f":"INDEX('Cleaned Data'!H:H,MATCH($A353,$B$56:$B$1919,0))","v":5},{"$f":"INDEX('Cleaned Data'!L:L,MATCH($A353,$B$56:$B$1919,0))","v":6054.6916737304728}]
[299,{"$f":"B353+IF('Cleaned Data'!L300>0,1,0)*IF($B$34=\"Overall\",1,IF('Cleaned Data'!K300=$B$34,1,0))*(IF('Cleaned Data'!H300<>\"\",1,0))","v":1},{"$f":"INDEX('Cleaned Data'!H:H,MATCH($A354,$B$56:$B$1919,0))","v":8},{"$f":"INDEX('Cleaned Data'!L:L,MATCH($A354,$B$56:$B$1919,0))","v":5342.3750062327708}]
[300,{"$f":"B354+IF('Cleaned Data'!L301>0,1,0)*IF($B$34=\"Overall\",1,IF('Cleaned Data'!K301=$B$34,1,0))*(IF('Cleaned Data'!H301<>\"\",1,0))","v":1},{"$f":"INDEX('Cleaned Data'!H:H,MATCH($A355,$B$56:$B$1919,0))","v":15},{"$f":"INDEX('Cleaned Data'!L:L,MATCH($A355,$B$56:$B$1919,0))","v":4273.9000049862161}]
[301,{"$f":"B355+IF('Cleaned Data'!L302>0,1,0)*IF($B$34=\"Overall\",1,IF('Cleaned Data'!K302=$B$34,1,0))*(IF('Cleaned Data'!H302<>\"\",1,0))","v":1},{"$f":"INDEX('Cleaned Data'!H:H,MATCH($A356,$B$56:$B$1919,0))","v":20},{"$f":"INDEX('Cleaned Data'!L:L,MATCH($A356,$B$56:$B$1919,0))","v":8903.9583437212841}]
[302,{"$f":"B356+IF('Cleaned Data'!L303>0,1,0)*IF($B$34=\"Overall\",1,IF('Cleaned Data'!K303=$B$34,1,0))*(IF('Cleaned Data'!H303<>\"\",1,0))","v":1},{"$f":"INDEX('Cleaned Data'!H:H,MATCH($A357,$B$56:$B$1919,0))","v":2.5},{"$f":"INDEX('Cleaned Data'!L:L,MATCH($A357,$B$56:$B$1919,0))","v":5698.5333399816218}]
[303,{"$f":"B357+IF('Cleaned Data'!L304>0,1,0)*IF($B$34=\"Overall\",1,IF('Cleaned Data'!K304=$B$34,1,0))*(IF('Cleaned Data'!H304<>\"\",1,0))","v":1},{"$f":"INDEX('Cleaned Data'!H:H,MATCH($A358,$B$56:$B$1919,0))","v":5},{"$f":"INDEX('Cleaned Data'!L:L,MATCH($A358,$B$56:$B$1919,0))","v":3419.1200039889732}]
[304,{"$f":"B358+IF('Cleaned Data'!L305>0,1,0)*IF($B$34=\"Overall\",1,IF('Cleaned Data'!K305=$B$34,1,0))*(IF('Cleaned Data'!H305<>\"\",1,0))","v":1},{"$f":"INDEX('Cleaned Data'!H:H,MATCH($A359,$B$56:$B$1919,0))","v":4},{"$f":"INDEX('Cleaned Data'!L:L,MATCH($A359,$B$56:$B$1919,0))","v":8013.5625093491553}]
[305,{"$f":"B359+IF('Cleaned Data'!L306>0,1,0)*IF($B$34=\"Overall\",1,IF('Cleaned Data'!K306=$B$34,1,0))*(IF('Cleaned Data'!H306<>\"\",1,0))","v":1},{"$f":"INDEX('Cleaned Data'!H:H,MATCH($A360,$B$56:$B$1919,0))","v":16},{"$f":"INDEX('Cleaned Data'!L:L,MATCH($A360,$B$56:$B$1919,0))","v":3561.5833374885137}]
[306,{"$f":"B360+IF('Cleaned Data'!L307>0,1,0)*IF($B$34=\"Overall\",1,IF('Cleaned Data'!K307=$B$34,1,0))*(IF('Cleaned Data'!H307<>\"\",1,0))","v":1},{"$f":"INDEX('Cleaned Data'!H:H,MATCH($A361,$B$56:$B$1919,0))","v":4},{"$f":"INDEX('Cleaned Data'!L:L,MATCH($A361,$B$56:$B$1919,0))","v":7123.1666749770275}]
[307,{"$f":"B361+IF('Cleaned Data'!L308>0,1,0)*IF($B$34=\"Overall\",1,IF('Cleaned Data'!K308=$B$34,1,0))*(IF('Cleaned Data'!H308<>\"\",1,0))","v":1},{"$f":"INDEX('Cleaned Data'!H:H,MATCH($A362,$B$56:$B$1919,0))","v":4},{"$f":"INDEX('Cleaned Data'!L:L,MATCH($A362,$B$56:$B$1919,0))","v":8903.9583437212841}]
[308,{"$f":"B362+IF('Cleaned Data'!L309>0,1,0)*IF($B$34=\"Overall\",1,IF('Cleaned Data'!K309=$B$34,1,0))*(IF('Cleaned Data'!H309<>\"\",1,0))","v":1},{"$f":"INDEX('Cleaned Data'!H:H,MATCH($A363,$B$56:$B$1919,0))","v":5},{"$f":"INDEX('Cleaned Data'!L:L,MATCH($A363,$B$56:$B$1919,0))","v":10684.750012465542}]
[309,{"$f":"B363+IF('Cleaned Data'!L310>0,1,0)*IF($B$34=\"Overall\",1,IF('Cleaned Data'!K310=$B$34,1,0))*(IF('Cleaned Data'!H310<>\"\",1,0))","v":1},{"$f":"INDEX('Cleaned Data'!H:H,MATCH($A364,$B$56:$B$1919,0))","v":13},{"$f":"INDEX('Cleaned Data'!L:L,MATCH($A364,$B$56:$B$1919,0))","v":9794.354178093412}]
[310,{"$f":"B364+IF('Cleaned Data'!L311>0,1,0)*IF($B$34=\"Overall\",1,IF('Cleaned Data'!K311=$B$34,1,0))*(IF('Cleaned Data'!H311<>\"\",1,0))","v":1},{"$f":"INDEX('Cleaned Data'!H:H,MATCH($A365,$B$56:$B$1919,0))","v":3},{"$f":"INDEX('Cleaned Data'!L:L,MATCH($A365,$B$56:$B$1919,0))","v":2671.1875031163854}]
[311,{"$f":"B365+IF('Cleaned Data'!L312>0,1,0)*IF($B$34=\"Overall\",1,IF('Cleaned Data'!K312=$B$34,1,0))*(IF('Cleaned Data'!H312<>\"\",1,0))","v":1},{"$f":"INDEX('Cleaned Data'!H:H,MATCH($A366,$B$56:$B$1919,0))","v":2},{"$f":"INDEX('Cleaned Data'!L:L,MATCH($A366,$B$56:$B$1919,0))","v":8903.9583437212841}]
[312,{"$f":"B366+IF('Cleaned Data'!L313>0,1,0)*IF($B$34=\"Overall\",1,IF('Cleaned Data'!K313=$B$34,1,0))*(IF('Cleaned Data'!H313<>\"\",1,0))","v":1},{"$f":"INDEX('Cleaned Data'!H:H,MATCH($A367,$B$56:$B$1919,0))","v":4},{"$f":"INDEX('Cleaned Data'!L:L,MATCH($A367,$B$56:$B$1919,0))","v":7497.1329254133216}]
[313,{"$f":"B367+IF('Cleaned Data'!L314>0,1,0)*IF($B$34=\"Overall\",1,IF('Cleaned Data'!K314=$B$34,1,0))*(IF('Cleaned Data'!H314<>\"\",1,0))","v":1},{"$f":"INDEX('Cleaned Data'!H:H,MATCH($A368,$B$56:$B$1919,0))","v":2},{"$f":"INDEX('Cleaned Data'!L:L,MATCH($A368,$B$56:$B$1919,0))","v":6410.8500074793246}]
[314,{"$f":"B368+IF('Cleaned Data'!L315>0,1,0)*IF($B$34=\"Overall\",1,IF('Cleaned Data'!K315=$B$34,1,0))*(IF('Cleaned Data'!H315<>\"\",1,0))","v":1},{"$f":"INDEX('Cleaned Data'!H:H,MATCH($A369,$B$56:$B$1919,0))","v":4},{"$f":"INDEX('Cleaned Data'!L:L,MATCH($A369,$B$56:$B$1919,0))","v":4594.4425053601826}]
[315,{"$f":"B369+IF('Cleaned Data'!L316>0,1,0)*IF($B$34=\"Overall\",1,IF('Cleaned Data'!K316=$B$34,1,0))*(IF('Cleaned Data'!H316<>\"\",1,0))","v":1},{"$f":"INDEX('Cleaned Data'!H:H,MATCH($A370,$B$56:$B$1919,0))","v":9},{"$f":"INDEX('Cleaned Data'!L:L,MATCH($A370,$B$56:$B$1919,0))","v":16917.52085307044}]
[316,{"$f":"B370+IF('Cleaned Data'!L317>0,1,0)*IF($B$34=\"Overall\",1,IF('Cleaned Data'!K317=$B$34,1,0))*(IF('Cleaned Data'!H317<>\"\",1,0))","v":1},{"$f":"INDEX('Cleaned Data'!H:H,MATCH($A371,$B$56:$B$1919,0))","v":2},{"$f":"INDEX('Cleaned Data'!L:L,MATCH($A371,$B$56:$B$1919,0))","v":3205.4250037396623}]
[317,{"$f":"B371+IF('Cleaned Data'!L318>0,1,0)*IF($B$34=\"Overall\",1,IF('Cleaned Data'!K318=$B$34,1,0))*(IF('Cleaned Data'!H318<>\"\",1,0))","v":1},{"$f":"INDEX('Cleaned Data'!H:H,MATCH($A372,$B$56:$B$1919,0))","v":0},{"$f":"INDEX('Cleaned Data'!L:L,MATCH($A372,$B$56:$B$1919,0))","v":14246.333349954055}]
[318,{"$f":"B372+IF('Cleaned Data'!L319>0,1,0)*IF($B$34=\"Overall\",1,IF('Cleaned Data'!K319=$B$34,1,0))*(IF('Cleaned Data'!H319<>\"\",1,0))","v":1},{"$f":"INDEX('Cleaned Data'!H:H,MATCH($A373,$B$56:$B$1919,0))","v":0},{"$f":"INDEX('Cleaned Data'!L:L,MATCH($A373,$B$56:$B$1919,0))","v":14246.333349954055}]
[319,{"$f":"B373+IF('Cleaned Data'!L320>0,1,0)*IF($B$34=\"Overall\",1,IF('Cleaned Data'!K320=$B$34,1,0))*(IF('Cleaned Data'!H320<>\"\",1,0))","v":1},{"$f":"INDEX('Cleaned Data'!H:H,MATCH($A374,$B$56:$B$1919,0))","v":3},{"$f":"INDEX('Cleaned Data'!L:L,MATCH($A374,$B$56:$B$1919,0))","v":21903.737525554359}]
[320,{"$f":"B374+IF('Cleaned Data'!L321>0,1,0)*IF($B$34=\"Overall\",1,IF('Cleaned Data'!K321=$B$34,1,0))*(IF('Cleaned Data'!H321<>\"\",1,0))","v":1},{"$f":"INDEX('Cleaned Data'!H:H,MATCH($A375,$B$56:$B$1919,0))","v":3},{"$f":"INDEX('Cleaned Data'!L:L,MATCH($A375,$B$56:$B$1919,0))","v":20122.945856810104}]
[321,{"$f":"B375+IF('Cleaned Data'!L322>0,1,0)*IF($B$34=\"Overall\",1,IF('Cleaned Data'!K322=$B$34,1,0))*(IF('Cleaned Data'!H322<>\"\",1,0))","v":1},{"$f":"INDEX('Cleaned Data'!H:H,MATCH($A376,$B$56:$B$1919,0))","v":5},{"$f":"INDEX('Cleaned Data'!L:L,MATCH($A376,$B$56:$B$1919,0))","v":2493.1083362419595}]
[322,{"$f":"B376+IF('Cleaned Data'!L323>0,1,0)*IF($B$34=\"Overall\",1,IF('Cleaned Data'!K323=$B$34,1,0))*(IF('Cleaned Data'!H323<>\"\",1,0))","v":1},{"$f":"INDEX('Cleaned Data'!H:H,MATCH($A377,$B$56:$B$1919,0))","v":0},{"$f":"INDEX('Cleaned Data'!L:L,MATCH($A377,$B$56:$B$1919,0))","v":8903.9583437212841}]
[323,{"$f":"B377+IF('Cleaned Data'!L324>0,1,0)*IF($B$34=\"Overall\",1,IF('Cleaned Data'!K324=$B$34,1,0))*(IF('Cleaned Data'!H324<>\"\",1,0))","v":1},{"$f":"INDEX('Cleaned Data'!H:H,MATCH($A378,$B$56:$B$1919,0))","v":9},{"$f":"INDEX('Cleaned Data'!L:L,MATCH($A378,$B$56:$B$1919,0))","v":23150.291693675339}]
[324,{"$f":"B378+IF('Cleaned Data'!L325>0,1,0)*IF($B$34=\"Overall\",1,IF('Cleaned Data'!K325=$B$34,1,0))*(IF('Cleaned Data'!H325<>\"\",1,0))","v":1},{"$f":"INDEX('Cleaned Data'!H:H,MATCH($A379,$B$56:$B$1919,0))","v":1},{"$f":"INDEX('Cleaned Data'!L:L,MATCH($A379,$B$56:$B$1919,0))","v":2671.1875031163854}]
[325,{"$f":"B379+IF('Cleaned Data'!L326>0,1,0)*IF($B$34=\"Overall\",1,IF('Cleaned Data'!K326=$B$34,1,0))*(IF('Cleaned Data'!H326<>\"\",1,0))","v":1},{"$f":"INDEX('Cleaned Data'!H:H,MATCH($A380,$B$56:$B$1919,0))","v":1},{"$f":"INDEX('Cleaned Data'!L:L,MATCH($A380,$B$56:$B$1919,0))","v":8547.8000099724322}]
[326,{"$f":"B380+IF('Cleaned Data'!L327>0,1,0)*IF($B$34=\"Overall\",1,IF('Cleaned Data'!K327=$B$34,1,0))*(IF('Cleaned Data'!H327<>\"\",1,0))","v":1},{"$f":"INDEX('Cleaned Data'!H:H,MATCH($A381,$B$56:$B$1919,0))","v":3},{"$f":"INDEX('Cleaned Data'!L:L,MATCH($A381,$B$56:$B$1919,0))","v":7123.1666749770275}]
[327,{"$f":"B381+IF('Cleaned Data'!L328>0,1,0)*IF($B$34=\"Overall\",1,IF('Cleaned Data'!K328=$B$34,1,0))*(IF('Cleaned Data'!H328<>\"\",1,0))","v":1},{"$f":"INDEX('Cleaned Data'!H:H,MATCH($A382,$B$56:$B$1919,0))","v":4},{"$f":"INDEX('Cleaned Data'!L:L,MATCH($A382,$B$56:$B$1919,0))","v":9972.4333449678379}]
[328,{"$f":"B382+IF('Cleaned Data'!L329>0,1,0)*IF($B$34=\"Overall\",1,IF('Cleaned Data'!K329=$B$34,1,0))*(IF('Cleaned Data'!H329<>\"\",1,0))","v":1},{"$f":"INDEX('Cleaned Data'!H:H,MATCH($A383,$B$56:$B$1919,0))","v":8},{"$f":"INDEX('Cleaned Data'!L:L,MATCH($A383,$B$56:$B$1919,0))","v":4986.216672483919}]
[329,{"$f":"B383+IF('Cleaned Data'!L330>0,1,0)*IF($B$34=\"Overall\",1,IF('Cleaned Data'!K330=$B$34,1,0))*(IF('Cleaned Data'!H330<>\"\",1,0))","v":1},{"$f":"INDEX('Cleaned Data'!H:H,MATCH($A384,$B$56:$B$1919,0))","v":4},{"$f":"INDEX('Cleaned Data'!L:L,MATCH($A384,$B$56:$B$1919,0))","v":8013.5625093491553}]
[330,{"$f":"B384+IF('Cleaned Data'!L331>0,1,0)*IF($B$34=\"Overall\",1,IF('Cleaned Data'!K331=$B$34,1,0))*(IF('Cleaned Data'!H331<>\"\",1,0))","v":1},{"$f":"INDEX('Cleaned Data'!H:H,MATCH($A385,$B$56:$B$1919,0))","v":10},{"$f":"INDEX('Cleaned Data'!L:L,MATCH($A385,$B$56:$B$1919,0))","v":17807.916687442568}]
[331,{"$f":"B385+IF('Cleaned Data'!L332>0,1,0)*IF($B$34=\"Overall\",1,IF('Cleaned Data'!K332=$B$34,1,0))*(IF('Cleaned Data'!H332<>\"\",1,0))","v":1},{"$f":"INDEX('Cleaned Data'!H:H,MATCH($A386,$B$56:$B$1919,0))","v":6},{"$f":"INDEX('Cleaned Data'!L:L,MATCH($A386,$B$56:$B$1919,0))","v":16027.125018698311}]
[332,{"$f":"B386+IF('Cleaned Data'!L333>0,1,0)*IF($B$34=\"Overall\",1,IF('Cleaned Data'!K333=$B$34,1,0))*(IF('Cleaned Data'!H333<>\"\",1,0))","v":1},{"$f":"INDEX('Cleaned Data'!H:H,MATCH($A387,$B$56:$B$1919,0))","v":7},{"$f":"INDEX('Cleaned Data'!L:L,MATCH($A387,$B$56:$B$1919,0))","v":21369.500024931083}]
[333,{"$f":"B387+IF('Cleaned Data'!L334>0,1,0)*IF($B$34=\"Overall\",1,IF('Cleaned Data'!K334=$B$34,1,0))*(IF('Cleaned Data'!H334<>\"\",1,0))","v":1},{"$f":"INDEX('Cleaned Data'!H:H,MATCH($A388,$B$56:$B$1919,0))","v":6},{"$f":"INDEX('Cleaned Data'!L:L,MATCH($A388,$B$56:$B$1919,0))","v":7568.3645921630914}]
[334,{"$f":"B388+IF('Cleaned Data'!L335>0,1,0)*IF($B$34=\"Overall\",1,IF('Cleaned Data'!K335=$B$34,1,0))*(IF('Cleaned Data'!H335<>\"\",1,0))","v":1},{"$f":"INDEX('Cleaned Data'!H:H,MATCH($A389,$B$56:$B$1919,0))","v":5},{"$f":"INDEX('Cleaned Data'!L:L,MATCH($A389,$B$56:$B$1919,0))","v":4808.137505609493}]
[335,{"$f":"B389+IF('Cleaned Data'!L336>0,1,0)*IF($B$34=\"Overall\",1,IF('Cleaned Data'!K336=$B$34,1,0))*(IF('Cleaned Data'!H336<>\"\",1,0))","v":1},{"$f":"INDEX('Cleaned Data'!H:H,MATCH($A390,$B$56:$B$1919,0))","v":10},{"$f":"INDEX('Cleaned Data'!L:L,MATCH($A390,$B$56:$B$1919,0))","v":24931.083362419595}]
[336,{"$f":"B390+IF('Cleaned Data'!L337>0,1,0)*IF($B$34=\"Overall\",1,IF('Cleaned Data'!K337=$B$34,1,0))*(IF('Cleaned Data'!H337<>\"\",1,0))","v":1},{"$f":"INDEX('Cleaned Data'!H:H,MATCH($A391,$B$56:$B$1919,0))","v":4},{"$f":"INDEX('Cleaned Data'!L:L,MATCH($A391,$B$56:$B$1919,0))","v":12465.541681209797}]
[337,{"$f":"B391+IF('Cleaned Data'!L338>0,1,0)*IF($B$34=\"Overall\",1,IF('Cleaned Data'!K338=$B$34,1,0))*(IF('Cleaned Data'!H338<>\"\",1,0))","v":1},{"$f":"INDEX('Cleaned Data'!H:H,MATCH($A392,$B$56:$B$1919,0))","v":10},{"$f":"INDEX('Cleaned Data'!L:L,MATCH($A392,$B$56:$B$1919,0))","v":17807.916687442568}]
[338,{"$f":"B392+IF('Cleaned Data'!L339>0,1,0)*IF($B$34=\"Overall\",1,IF('Cleaned Data'!K339=$B$34,1,0))*(IF('Cleaned Data'!H339<>\"\",1,0))","v":1},{"$f":"INDEX('Cleaned Data'!H:H,MATCH($A393,$B$56:$B$1919,0))","v":2},{"$f":"INDEX('Cleaned Data'!L:L,MATCH($A393,$B$56:$B$1919,0))","v":6410.8500074793246}]
[339,{"$f":"B393+IF('Cleaned Data'!L340>0,1,0)*IF($B$34=\"Overall\",1,IF('Cleaned Data'!K340=$B$34,1,0))*(IF('Cleaned Data'!H340<>\"\",1,0))","v":1},{"$f":"INDEX('Cleaned Data'!H:H,MATCH($A394,$B$56:$B$1919,0))","v":12},{"$f":"INDEX('Cleaned Data'!L:L,MATCH($A394,$B$56:$B$1919,0))","v":10684.750012465542}]
[340,{"$f":"B394+IF('Cleaned Data'!L341>0,1,0)*IF($B$34=\"Overall\",1,IF('Cleaned Data'!K341=$B$34,1,0))*(IF('Cleaned Data'!H341<>\"\",1,0))","v":1},{"$f":"INDEX('Cleaned Data'!H:H,MATCH($A395,$B$56:$B$1919,0))","v":6},{"$f":"INDEX('Cleaned Data'!L:L,MATCH($A395,$B$56:$B$1919,0))","v":6232.7708406048987}]
[341,{"$f":"B395+IF('Cleaned Data'!L342>0,1,0)*IF($B$34=\"Overall\",1,IF('Cleaned Data'!K342=$B$34,1,0))*(IF('Cleaned Data'!H342<>\"\",1,0))","v":1},{"$f":"INDEX('Cleaned Data'!H:H,MATCH($A396,$B$56:$B$1919,0))","v":12},{"$f":"INDEX('Cleaned Data'!L:L,MATCH($A396,$B$56:$B$1919,0))","v":41712.231189497601}]
[342,{"$f":"B396+IF('Cleaned Data'!L343>0,1,0)*IF($B$34=\"Overall\",1,IF('Cleaned Data'!K343=$B$34,1,0))*(IF('Cleaned Data'!H343<>\"\",1,0))","v":1},{"$f":"INDEX('Cleaned Data'!H:H,MATCH($A397,$B$56:$B$1919,0))","v":9},{"$f":"INDEX('Cleaned Data'!L:L,MATCH($A397,$B$56:$B$1919,0))","v":12465.541681209797}]
[343,{"$f":"B397+IF('Cleaned Data'!L344>0,1,0)*IF($B$34=\"Overall\",1,IF('Cleaned Data'!K344=$B$34,1,0))*(IF('Cleaned Data'!H344<>\"\",1,0))","v":1},{"$f":"INDEX('Cleaned Data'!H:H,MATCH($A398,$B$56:$B$1919,0))","v":2},{"$f":"INDEX('Cleaned Data'!L:L,MATCH($A398,$B$56:$B$1919,0))","v":7123.1666749770275}]
[344,{"$f":"B398+IF('Cleaned Data'!L345>0,1,0)*IF($B$34=\"Overall\",1,IF('Cleaned Data'!K345=$B$34,1,0))*(IF('Cleaned Data'!H345<>\"\",1,0))","v":1},{"$f":"INDEX('Cleaned Data'!H:H,MATCH($A399,$B$56:$B$1919,0))","v":27},{"$f":"INDEX('Cleaned Data'!L:L,MATCH($A399,$B$56:$B$1919,0))","v":6232.7708406048987}]
[345,{"$f":"B399+IF('Cleaned Data'!L346>0,1,0)*IF($B$34=\"Overall\",1,IF('Cleaned Data'!K346=$B$34,1,0))*(IF('Cleaned Data'!H346<>\"\",1,0))","v":1},{"$f":"INDEX('Cleaned Data'!H:H,MATCH($A400,$B$56:$B$1919,0))","v":3},{"$f":"INDEX('Cleaned Data'!L:L,MATCH($A400,$B$56:$B$1919,0))","v":4451.9791718606421}]
[346,{"$f":"B400+IF('Cleaned Data'!L347>0,1,0)*IF($B$34=\"Overall\",1,IF('Cleaned Data'!K347=$B$34,1,0))*(IF('Cleaned Data'!H347<>\"\",1,0))","v":1},{"$f":"INDEX('Cleaned Data'!H:H,MATCH($A401,$B$56:$B$1919,0))","v":5},{"$f":"INDEX('Cleaned Data'!L:L,MATCH($A401,$B$56:$B$1919,0))","v":13355.937515581925}]
[347,{"$f":"B401+IF('Cleaned Data'!L348>0,1,0)*IF($B$34=\"Overall\",1,IF('Cleaned Data'!K348=$B$34,1,0))*(IF('Cleaned Data'!H348<>\"\",1,0))","v":1},{"$f":"INDEX('Cleaned Data'!H:H,MATCH($A402,$B$56:$B$1919,0))","v":2},{"$f":"INDEX('Cleaned Data'!L:L,MATCH($A402,$B$56:$B$1919,0))","v":7479.3250087258784}]
[348,{"$f":"B402+IF('Cleaned Data'!L349>0,1,0)*IF($B$34=\"Overall\",1,IF('Cleaned Data'!K349=$B$34,1,0))*(IF('Cleaned Data'!H349<>\"\",1,0))","v":1},{"$f":"INDEX('Cleaned Data'!H:H,MATCH($A403,$B$56:$B$1919,0))","v":6},{"$f":"INDEX('Cleaned Data'!L:L,MATCH($A403,$B$56:$B$1919,0))","v":4914.9850057341491}]
[349,{"$f":"B403+IF('Cleaned Data'!L350>0,1,0)*IF($B$34=\"Overall\",1,IF('Cleaned Data'!K350=$B$34,1,0))*(IF('Cleaned Data'!H350<>\"\",1,0))","v":1},{"$f":"INDEX('Cleaned Data'!H:H,MATCH($A404,$B$56:$B$1919,0))","v":1.6},{"$f":"INDEX('Cleaned Data'!L:L,MATCH($A404,$B$56:$B$1919,0))","v":4451.9791718606421}]
[350,{"$f":"B404+IF('Cleaned Data'!L351>0,1,0)*IF($B$34=\"Overall\",1,IF('Cleaned Data'!K351=$B$34,1,0))*(IF('Cleaned Data'!H351<>\"\",1,0))","v":1},{"$f":"INDEX('Cleaned Data'!H:H,MATCH($A405,$B$56:$B$1919,0))","v":3},{"$f":"INDEX('Cleaned Data'!L:L,MATCH($A405,$B$56:$B$1919,0))","v":3205.4250037396623}]
[351,{"$f":"B405+IF('Cleaned Data'!L352>0,1,0)*IF($B$34=\"Overall\",1,IF('Cleaned Data'!K352=$B$34,1,0))*(IF('Cleaned Data'!H352<>\"\",1,0))","v":1},{"$f":"INDEX('Cleaned Data'!H:H,MATCH($A406,$B$56:$B$1919,0))","v":9},{"$f":"INDEX('Cleaned Data'!L:L,MATCH($A406,$B$56:$B$1919,0))","v":51497.005988023957}]
[352,{"$f":"B406+IF('Cleaned Data'!L353>0,1,0)*IF($B$34=\"Overall\",1,IF('Cleaned Data'!K353=$B$34,1,0))*(IF('Cleaned Data'!H353<>\"\",1,0))","v":1},{"$f":"INDEX('Cleaned Data'!H:H,MATCH($A407,$B$56:$B$1919,0))","v":0},{"$f":"INDEX('Cleaned Data'!L:L,MATCH($A407,$B$56:$B$1919,0))","v":10956.982885192734}]
[353,{"$f":"B407+IF('Cleaned Data'!L354>0,1,0)*IF($B$34=\"Overall\",1,IF('Cleaned Data'!K354=$B$34,1,0))*(IF('Cleaned Data'!H354<>\"\",1,0))","v":1},{"$f":"INDEX('Cleaned Data'!H:H,MATCH($A408,$B$56:$B$1919,0))","v":2},{"$f":"INDEX('Cleaned Data'!L:L,MATCH($A408,$B$56:$B$1919,0))","v":15206.427249917633}]
[354,{"$f":"B408+IF('Cleaned Data'!L355>0,1,0)*IF($B$34=\"Overall\",1,IF('Cleaned Data'!K355=$B$34,1,0))*(IF('Cleaned Data'!H355<>\"\",1,0))","v":1},{"$f":"INDEX('Cleaned Data'!H:H,MATCH($A409,$B$56:$B$1919,0))","v":2},{"$f":"INDEX('Cleaned Data'!L:L,MATCH($A409,$B$56:$B$1919,0))","v":11404.820437438224}]
[355,{"$f":"B409+IF('Cleaned Data'!L356>0,1,0)*IF($B$34=\"Overall\",1,IF('Cleaned Data'!K356=$B$34,1,0))*(IF('Cleaned Data'!H356<>\"\",1,0))","v":1},{"$f":"INDEX('Cleaned Data'!H:H,MATCH($A410,$B$56:$B$1919,0))","v":20},{"$f":"INDEX('Cleaned Data'!L:L,MATCH($A410,$B$56:$B$1919,0))","v":28353.650809742252}]
[356,{"$f":"B410+IF('Cleaned Data'!L357>0,1,0)*IF($B$34=\"Overall\",1,IF('Cleaned Data'!K357=$B$34,1,0))*(IF('Cleaned Data'!H357<>\"\",1,0))","v":1},{"$f":"INDEX('Cleaned Data'!H:H,MATCH($A411,$B$56:$B$1919,0))","v":0},{"$f":"INDEX('Cleaned Data'!L:L,MATCH($A411,$B$56:$B$1919,0))","v":10809.503829551191}]
[357,{"$f":"B411+IF('Cleaned Data'!L358>0,1,0)*IF($B$34=\"Overall\",1,IF('Cleaned Data'!K358=$B$34,1,0))*(IF('Cleaned Data'!H358<>\"\",1,0))","v":1},{"$f":"INDEX('Cleaned Data'!H:H,MATCH($A412,$B$56:$B$1919,0))","v":9},{"$f":"INDEX('Cleaned Data'!L:L,MATCH($A412,$B$56:$B$1919,0))","v":17067.637625607145}]
[358,{"$f":"B412+IF('Cleaned Data'!L359>0,1,0)*IF($B$34=\"Overall\",1,IF('Cleaned Data'!K359=$B$34,1,0))*(IF('Cleaned Data'!H359<>\"\",1,0))","v":1},{"$f":"INDEX('Cleaned Data'!H:H,MATCH($A413,$B$56:$B$1919,0))","v":10},{"$f":"INDEX('Cleaned Data'!L:L,MATCH($A413,$B$56:$B$1919,0))","v":3982.448779308334}]
[359,{"$f":"B413+IF('Cleaned Data'!L360>0,1,0)*IF($B$34=\"Overall\",1,IF('Cleaned Data'!K360=$B$34,1,0))*(IF('Cleaned Data'!H360<>\"\",1,0))","v":1},{"$f":"INDEX('Cleaned Data'!H:H,MATCH($A414,$B$56:$B$1919,0))","v":2},{"$f":"INDEX('Cleaned Data'!L:L,MATCH($A414,$B$56:$B$1919,0))","v":5120.2912876821438}]
[360,{"$f":"B414+IF('Cleaned Data'!L361>0,1,0)*IF($B$34=\"Overall\",1,IF('Cleaned Data'!K361=$B$34,1,0))*(IF('Cleaned Data'!H361<>\"\",1,0))","v":1},{"$f":"INDEX('Cleaned Data'!H:H,MATCH($A415,$B$56:$B$1919,0))","v":0},{"$f":"INDEX('Cleaned Data'!L:L,MATCH($A415,$B$56:$B$1919,0))","v":6368.453230079479}]
[361,{"$f":"B415+IF('Cleaned Data'!L362>0,1,0)*IF($B$34=\"Overall\",1,IF('Cleaned Data'!K362=$B$34,1,0))*(IF('Cleaned Data'!H362<>\"\",1,0))","v":1},{"$f":"INDEX('Cleaned Data'!H:H,MATCH($A416,$B$56:$B$1919,0))","v":2},{"$f":"INDEX('Cleaned Data'!L:L,MATCH($A416,$B$56:$B$1919,0))","v":2122.8177433598262}]
[362,{"$f":"B416+IF('Cleaned Data'!L363>0,1,0)*IF($B$34=\"Overall\",1,IF('Cleaned Data'!K363=$B$34,1,0))*(IF('Cleaned Data'!H363<>\"\",1,0))","v":1},{"$f":"INDEX('Cleaned Data'!H:H,MATCH($A417,$B$56:$B$1919,0))","v":2},{"$f":"INDEX('Cleaned Data'!L:L,MATCH($A417,$B$56:$B$1919,0))","v":2165.2740982270229}]
[363,{"$f":"B417+IF('Cleaned Data'!L364>0,1,0)*IF($B$34=\"Overall\",1,IF('Cleaned Data'!K364=$B$34,1,0))*(IF('Cleaned Data'!H364<>\"\",1,0))","v":1},{"$f":"INDEX('Cleaned Data'!H:H,MATCH($A418,$B$56:$B$1919,0))","v":7},{"$f":"INDEX('Cleaned Data'!L:L,MATCH($A418,$B$56:$B$1919,0))","v":1910.5359690238436}]
[364,{"$f":"B418+IF('Cleaned Data'!L365>0,1,0)*IF($B$34=\"Overall\",1,IF('Cleaned Data'!K365=$B$34,1,0))*(IF('Cleaned Data'!H365<>\"\",1,0))","v":1},{"$f":"INDEX('Cleaned Data'!H:H,MATCH($A419,$B$56:$B$1919,0))","v":4},{"$f":"INDEX('Cleaned Data'!L:L,MATCH($A419,$B$56:$B$1919,0))","v":4457.9172610556352}]
[365,{"$f":"B419+IF('Cleaned Data'!L366>0,1,0)*IF($B$34=\"Overall\",1,IF('Cleaned Data'!K366=$B$34,1,0))*(IF('Cleaned Data'!H366<>\"\",1,0))","v":1},{"$f":"INDEX('Cleaned Data'!H:H,MATCH($A420,$B$56:$B$1919,0))","v":4},{"$f":"INDEX('Cleaned Data'!L:L,MATCH($A420,$B$56:$B$1919,0))","v":3184.2266150397395}]
[366,{"$f":"B420+IF('Cleaned Data'!L367>0,1,0)*IF($B$34=\"Overall\",1,IF('Cleaned Data'!K367=$B$34,1,0))*(IF('Cleaned Data'!H367<>\"\",1,0))","v":1},{"$f":"INDEX('Cleaned Data'!H:H,MATCH($A421,$B$56:$B$1919,0))","v":2},{"$f":"INDEX('Cleaned Data'!L:L,MATCH($A421,$B$56:$B$1919,0))","v":4840.0244548604041}]
[367,{"$f":"B421+IF('Cleaned Data'!L368>0,1,0)*IF($B$34=\"Overall\",1,IF('Cleaned Data'!K368=$B$34,1,0))*(IF('Cleaned Data'!H368<>\"\",1,0))","v":1},{"$f":"INDEX('Cleaned Data'!H:H,MATCH($A422,$B$56:$B$1919,0))","v":10},{"$f":"INDEX('Cleaned Data'!L:L,MATCH($A422,$B$56:$B$1919,0))","v":1783.166904422254}]
[368,{"$f":"B422+IF('Cleaned Data'!L369>0,1,0)*IF($B$34=\"Overall\",1,IF('Cleaned Data'!K369=$B$34,1,0))*(IF('Cleaned Data'!H369<>\"\",1,0))","v":1},{"$f":"INDEX('Cleaned Data'!H:H,MATCH($A423,$B$56:$B$1919,0))","v":8},{"$f":"INDEX('Cleaned Data'!L:L,MATCH($A423,$B$56:$B$1919,0))","v":21228.177433598263}]
[369,{"$f":"B423+IF('Cleaned Data'!L370>0,1,0)*IF($B$34=\"Overall\",1,IF('Cleaned Data'!K370=$B$34,1,0))*(IF('Cleaned Data'!H370<>\"\",1,0))","v":1},{"$f":"INDEX('Cleaned Data'!H:H,MATCH($A424,$B$56:$B$1919,0))","v":5},{"$f":"INDEX('Cleaned Data'!L:L,MATCH($A424,$B$56:$B$1919,0))","v":36000}]
[370,{"$f":"B424+IF('Cleaned Data'!L371>0,1,0)*IF($B$34=\"Overall\",1,IF('Cleaned Data'!K371=$B$34,1,0))*(IF('Cleaned Data'!H371<>\"\",1,0))","v":1},{"$f":"INDEX('Cleaned Data'!H:H,MATCH($A425,$B$56:$B$1919,0))","v":12},{"$f":"INDEX('Cleaned Data'!L:L,MATCH($A425,$B$56:$B$1919,0))","v":3000}]
[371,{"$f":"B425+IF('Cleaned Data'!L372>0,1,0)*IF($B$34=\"Overall\",1,IF('Cleaned Data'!K372=$B$34,1,0))*(IF('Cleaned Data'!H372<>\"\",1,0))","v":1},{"$f":"INDEX('Cleaned Data'!H:H,MATCH($A426,$B$56:$B$1919,0))","v":15},{"$f":"INDEX('Cleaned Data'!L:L,MATCH($A426,$B$56:$B$1919,0))","v":14400}]
[372,{"$f":"B426+IF('Cleaned Data'!L373>0,1,0)*IF($B$34=\"Overall\",1,IF('Cleaned Data'!K373=$B$34,1,0))*(IF('Cleaned Data'!H373<>\"\",1,0))","v":1},{"$f":"INDEX('Cleaned Data'!H:H,MATCH($A427,$B$56:$B$1919,0))","v":10},{"$f":"INDEX('Cleaned Data'!L:L,MATCH($A427,$B$56:$B$1919,0))","v":60000}]
[373,{"$f":"B427+IF('Cleaned Data'!L374>0,1,0)*IF($B$34=\"Overall\",1,IF('Cleaned Data'!K374=$B$34,1,0))*(IF('Cleaned Data'!H374<>\"\",1,0))","v":1},{"$f":"INDEX('Cleaned Data'!H:H,MATCH($A428,$B$56:$B$1919,0))","v":0},{"$f":"INDEX('Cleaned Data'!L:L,MATCH($A428,$B$56:$B$1919,0))","v":15000}]
[374,{"$f":"B428+IF('Cleaned Data'!L375>0,1,0)*IF($B$34=\"Overall\",1,IF('Cleaned Data'!K375=$B$34,1,0))*(IF('Cleaned Data'!H375<>\"\",1,0))","v":1},{"$f":"INDEX('Cleaned Data'!H:H,MATCH($A429,$B$56:$B$1919,0))","v":6},{"$f":"INDEX('Cleaned Data'!L:L,MATCH($A429,$B$56:$B$1919,0))","v":4285}]
[375,{"$f":"B429+IF('Cleaned Data'!L376>0,1,0)*IF($B$34=\"Overall\",1,IF('Cleaned Data'!K376=$B$34,1,0))*(IF('Cleaned Data'!H376<>\"\",1,0))","v":1},{"$f":"INDEX('Cleaned Data'!H:H,MATCH($A430,$B$56:$B$1919,0))","v":25},{"$f":"INDEX('Cleaned Data'!L:L,MATCH($A430,$B$56:$B$1919,0))","v":50000}]
[376,{"$f":"B430+IF('Cleaned Data'!L377>0,1,0)*IF($B$34=\"Overall\",1,IF('Cleaned Data'!K377=$B$34,1,0))*(IF('Cleaned Data'!H377<>\"\",1,0))","v":1},{"$f":"INDEX('Cleaned Data'!H:H,MATCH($A431,$B$56:$B$1919,0))","v":10},{"$f":"INDEX('Cleaned Data'!L:L,MATCH($A431,$B$56:$B$1919,0))","v":50000}]
[377,{"$f":"B431+IF('Cleaned Data'!L378>0,1,0)*IF($B$34=\"Overall\",1,IF('Cleaned Data'!K378=$B$34,1,0))*(IF('Cleaned Data'!H378<>\"\",1,0))","v":1},{"$f":"INDEX('Cleaned Data'!H:H,MATCH($A432,$B$56:$B$1919,0))","v":23},{"$f":"INDEX('Cleaned Data'!L:L,MATCH($A432,$B$56:$B$1919,0))","v":21000}]
[378,{"$f":"B432+IF('Cleaned Data'!L379>0,1,0)*IF($B$34=\"Overall\",1,IF('Cleaned Data'!K379=$B$34,1,0))*(IF('Cleaned Data'!H379<>\"\",1,0))","v":1},{"$f":"INDEX('Cleaned Data'!H:H,MATCH($A433,$B$56:$B$1919,0))","v":26},{"$f":"INDEX('Cleaned Data'!L:L,MATCH($A433,$B$56:$B$1919,0))","v":8400}]
[379,{"$f":"B433+IF('Cleaned Data'!L380>0,1,0)*IF($B$34=\"Overall\",1,IF('Cleaned Data'!K380=$B$34,1,0))*(IF('Cleaned Data'!H380<>\"\",1,0))","v":1},{"$f":"INDEX('Cleaned Data'!H:H,MATCH($A434,$B$56:$B$1919,0))","v":6},{"$f":"INDEX('Cleaned Data'!L:L,MATCH($A434,$B$56:$B$1919,0))","v":4000}]
[380,{"$f":"B434+IF('Cleaned Data'!L381>0,1,0)*IF($B$34=\"Overall\",1,IF('Cleaned Data'!K381=$B$34,1,0))*(IF('Cleaned Data'!H381<>\"\",1,0))","v":1},{"$f":"INDEX('Cleaned Data'!H:H,MATCH($A435,$B$56:$B$1919,0))","v":4},{"$f":"INDEX('Cleaned Data'!L:L,MATCH($A435,$B$56:$B$1919,0))","v":4200}]
[381,{"$f":"B435+IF('Cleaned Data'!L382>0,1,0)*IF($B$34=\"Overall\",1,IF('Cleaned Data'!K382=$B$34,1,0))*(IF('Cleaned Data'!H382<>\"\",1,0))","v":2},{"$f":"INDEX('Cleaned Data'!H:H,MATCH($A436,$B$56:$B$1919,0))","v":4},{"$f":"INDEX('Cleaned Data'!L:L,MATCH($A436,$B$56:$B$1919,0))","v":4000}]
[382,{"$f":"B436+IF('Cleaned Data'!L383>0,1,0)*IF($B$34=\"Overall\",1,IF('Cleaned Data'!K383=$B$34,1,0))*(IF('Cleaned Data'!H383<>\"\",1,0))","v":2},{"$f":"INDEX('Cleaned Data'!H:H,MATCH($A437,$B$56:$B$1919,0))","v":8},{"$f":"INDEX('Cleaned Data'!L:L,MATCH($A437,$B$56:$B$1919,0))","v":4000}]
[383,{"$f":"B437+IF('Cleaned Data'!L384>0,1,0)*IF($B$34=\"Overall\",1,IF('Cleaned Data'!K384=$B$34,1,0))*(IF('Cleaned Data'!H384<>\"\",1,0))","v":2},{"$f":"INDEX('Cleaned Data'!H:H,MATCH($A438,$B$56:$B$1919,0))","v":3},{"$f":"INDEX('Cleaned Data'!L:L,MATCH($A438,$B$56:$B$1919,0))","v":5400}]
[384,{"$f":"B438+IF('Cleaned Data'!L385>0,1,0)*IF($B$34=\"Overall\",1,IF('Cleaned Data'!K385=$B$34,1,0))*(IF('Cleaned Data'!H385<>\"\",1,0))","v":2},{"$f":"INDEX('Cleaned Data'!H:H,MATCH($A439,$B$56:$B$1919,0))","v":9},{"$f":"INDEX('Cleaned Data'!L:L,MATCH($A439,$B$56:$B$1919,0))","v":21500}]
[385,{"$f":"B439+IF('Cleaned Data'!L386>0,1,0)*IF($B$34=\"Overall\",1,IF('Cleaned Data'!K386=$B$34,1,0))*(IF('Cleaned Data'!H386<>\"\",1,0))","v":2},{"$f":"INDEX('Cleaned Data'!H:H,MATCH($A440,$B$56:$B$1919,0))","v":2},{"$f":"INDEX('Cleaned Data'!L:L,MATCH($A440,$B$56:$B$1919,0))","v":15000}]
[386,{"$f":"B440+IF('Cleaned Data'!L387>0,1,0)*IF($B$34=\"Overall\",1,IF('Cleaned Data'!K387=$B$34,1,0))*(IF('Cleaned Data'!H387<>\"\",1,0))","v":2},{"$f":"INDEX('Cleaned Data'!H:H,MATCH($A441,$B$56:$B$1919,0))","v":10},{"$f":"INDEX('Cleaned Data'!L:L,MATCH($A441,$B$56:$B$1919,0))","v":37000}]
[387,{"$f":"B441+IF('Cleaned Data'!L388>0,1,0)*IF($B$34=\"Overall\",1,IF('Cleaned Data'!K388=$B$34,1,0))*(IF('Cleaned Data'!H388<>\"\",1,0))","v":2},{"$f":"INDEX('Cleaned Data'!H:H,MATCH($A442,$B$56:$B$1919,0))","v":8},{"$f":"INDEX('Cleaned Data'!L:L,MATCH($A442,$B$56:$B$1919,0))","v":5800}]
[388,{"$f":"B442+IF('Cleaned Data'!L389>0,1,0)*IF($B$34=\"Overall\",1,IF('Cleaned Data'!K389=$B$34,1,0))*(IF('Cleaned Data'!H389<>\"\",1,0))","v":2},{"$f":"INDEX('Cleaned Data'!H:H,MATCH($A443,$B$56:$B$1919,0))","v":7.3},{"$f":"INDEX('Cleaned Data'!L:L,MATCH($A443,$B$56:$B$1919,0))","v":8738}]
[389,{"$f":"B443+IF('Cleaned Data'!L390>0,1,0)*IF($B$34=\"Overall\",1,IF('Cleaned Data'!K390=$B$34,1,0))*(IF('Cleaned Data'!H390<>\"\",1,0))","v":2},{"$f":"INDEX('Cleaned Data'!H:H,MATCH($A444,$B$56:$B$1919,0))","v":4.5},{"$f":"INDEX('Cleaned Data'!L:L,MATCH($A444,$B$56:$B$1919,0))","v":10200}]
[390,{"$f":"B444+IF('Cleaned Data'!L391>0,1,0)*IF($B$34=\"Overall\",1,IF('Cleaned Data'!K391=$B$34,1,0))*(IF('Cleaned Data'!H391<>\"\",1,0))","v":2},{"$f":"INDEX('Cleaned Data'!H:H,MATCH($A445,$B$56:$B$1919,0))","v":4},{"$f":"INDEX('Cleaned Data'!L:L,MATCH($A445,$B$56:$B$1919,0))","v":13000}]
[391,{"$f":"B445+IF('Cleaned Data'!L392>0,1,0)*IF($B$34=\"Overall\",1,IF('Cleaned Data'!K392=$B$34,1,0))*(IF('Cleaned Data'!H392<>\"\",1,0))","v":2},{"$f":"INDEX('Cleaned Data'!H:H,MATCH($A446,$B$56:$B$1919,0))","v":20},{"$f":"INDEX('Cleaned Data'!L:L,MATCH($A446,$B$56:$B$1919,0))","v":50000}]
[392,{"$f":"B446+IF('Cleaned Data'!L393>0,1,0)*IF($B$34=\"Overall\",1,IF('Cleaned Data'!K393=$B$34,1,0))*(IF('Cleaned Data'!H393<>\"\",1,0))","v":2},{"$f":"INDEX('Cleaned Data'!H:H,MATCH($A447,$B$56:$B$1919,0))","v":23},{"$f":"INDEX('Cleaned Data'!L:L,MATCH($A447,$B$56:$B$1919,0))","v":7000}]
[393,{"$f":"B447+IF('Cleaned Data'!L394>0,1,0)*IF($B$34=\"Overall\",1,IF('Cleaned Data'!K394=$B$34,1,0))*(IF('Cleaned Data'!H394<>\"\",1,0))","v":2},{"$f":"INDEX('Cleaned Data'!H:H,MATCH($A448,$B$56:$B$1919,0))","v":2},{"$f":"INDEX('Cleaned Data'!L:L,MATCH($A448,$B$56:$B$1919,0))","v":10000}]
[394,{"$f":"B448+IF('Cleaned Data'!L395>0,1,0)*IF($B$34=\"Overall\",1,IF('Cleaned Data'!K395=$B$34,1,0))*(IF('Cleaned Data'!H395<>\"\",1,0))","v":2},{"$f":"INDEX('Cleaned Data'!H:H,MATCH($A449,$B$56:$B$1919,0))","v":6},{"$f":"INDEX('Cleaned Data'!L:L,MATCH($A449,$B$56:$B$1919,0))","v":31250}]
[395,{"$f":"B449+IF('Cleaned Data'!L396>0,1,0)*IF($B$34=\"Overall\",1,IF('Cleaned Data'!K396=$B$34,1,0))*(IF('Cleaned Data'!H396<>\"\",1,0))","v":2},{"$f":"INDEX('Cleaned Data'!H:H,MATCH($A450,$B$56:$B$1919,0))","v":10},{"$f":"INDEX('Cleaned Data'!L:L,MATCH($A450,$B$56:$B$1919,0))","v":35000}]
[396,{"$f":"B450+IF('Cleaned Data'!L397>0,1,0)*IF($B$34=\"Overall\",1,IF('Cleaned Data'!K397=$B$34,1,0))*(IF('Cleaned Data'!H397<>\"\",1,0))","v":2},{"$f":"INDEX('Cleaned Data'!H:H,MATCH($A451,$B$56:$B$1919,0))","v":15},{"$f":"INDEX('Cleaned Data'!L:L,MATCH($A451,$B$56:$B$1919,0))","v":40000}]
[397,{"$f":"B451+IF('Cleaned Data'!L398>0,1,0)*IF($B$34=\"Overall\",1,IF('Cleaned Data'!K398=$B$34,1,0))*(IF('Cleaned Data'!H398<>\"\",1,0))","v":2},{"$f":"INDEX('Cleaned Data'!H:H,MATCH($A452,$B$56:$B$1919,0))","v":2},{"$f":"INDEX('Cleaned Data'!L:L,MATCH($A452,$B$56:$B$1919,0))","v":15000}]
[398,{"$f":"B452+IF('Cleaned Data'!L399>0,1,0)*IF($B$34=\"Overall\",1,IF('Cleaned Data'!K399=$B$34,1,0))*(IF('Cleaned Data'!H399<>\"\",1,0))","v":2},{"$f":"INDEX('Cleaned Data'!H:H,MATCH($A453,$B$56:$B$1919,0))","v":12},{"$f":"INDEX('Cleaned Data'!L:L,MATCH($A453,$B$56:$B$1919,0))","v":10000}]
[399,{"$f":"B453+IF('Cleaned Data'!L400>0,1,0)*IF($B$34=\"Overall\",1,IF('Cleaned Data'!K400=$B$34,1,0))*(IF('Cleaned Data'!H400<>\"\",1,0))","v":2},{"$f":"INDEX('Cleaned Data'!H:H,MATCH($A454,$B$56:$B$1919,0))","v":5},{"$f":"INDEX('Cleaned Data'!L:L,MATCH($A454,$B$56:$B$1919,0))","v":16000}]
[400,{"$f":"B454+IF('Cleaned Data'!L401>0,1,0)*IF($B$34=\"Overall\",1,IF('Cleaned Data'!K401=$B$34,1,0))*(IF('Cleaned Data'!H401<>\"\",1,0))","v":2},{"$f":"INDEX('Cleaned Data'!H:H,MATCH($A455,$B$56:$B$1919,0))","v":6},{"$f":"INDEX('Cleaned Data'!L:L,MATCH($A455,$B$56:$B$1919,0))","v":6000}]
[401,{"$f":"B455+IF('Cleaned Data'!L402>0,1,0)*IF($B$34=\"Overall\",1,IF('Cleaned Data'!K402=$B$34,1,0))*(IF('Cleaned Data'!H402<>\"\",1,0))","v":2},{"$f":"INDEX('Cleaned Data'!H:H,MATCH($A456,$B$56:$B$1919,0))","v":7},{"$f":"INDEX('Cleaned Data'!L:L,MATCH($A456,$B$56:$B$1919,0))","v":20000}]
[402,{"$f":"B456+IF('Cleaned Data'!L403>0,1,0)*IF($B$34=\"Overall\",1,IF('Cleaned Data'!K403=$B$34,1,0))*(IF('Cleaned Data'!H403<>\"\",1,0))","v":2},{"$f":"INDEX('Cleaned Data'!H:H,MATCH($A457,$B$56:$B$1919,0))","v":6},{"$f":"INDEX('Cleaned Data'!L:L,MATCH($A457,$B$56:$B$1919,0))","v":8000}]
[403,{"$f":"B457+IF('Cleaned Data'!L404>0,1,0)*IF($B$34=\"Overall\",1,IF('Cleaned Data'!K404=$B$34,1,0))*(IF('Cleaned Data'!H404<>\"\",1,0))","v":2},{"$f":"INDEX('Cleaned Data'!H:H,MATCH($A458,$B$56:$B$1919,0))","v":1},{"$f":"INDEX('Cleaned Data'!L:L,MATCH($A458,$B$56:$B$1919,0))","v":24000}]
[404,{"$f":"B458+IF('Cleaned Data'!L405>0,1,0)*IF($B$34=\"Overall\",1,IF('Cleaned Data'!K405=$B$34,1,0))*(IF('Cleaned Data'!H405<>\"\",1,0))","v":2},{"$f":"INDEX('Cleaned Data'!H:H,MATCH($A459,$B$56:$B$1919,0))","v":2.5},{"$f":"INDEX('Cleaned Data'!L:L,MATCH($A459,$B$56:$B$1919,0))","v":13500}]
[405,{"$f":"B459+IF('Cleaned Data'!L406>0,1,0)*IF($B$34=\"Overall\",1,IF('Cleaned Data'!K406=$B$34,1,0))*(IF('Cleaned Data'!H406<>\"\",1,0))","v":2},{"$f":"INDEX('Cleaned Data'!H:H,MATCH($A460,$B$56:$B$1919,0))","v":15},{"$f":"INDEX('Cleaned Data'!L:L,MATCH($A460,$B$56:$B$1919,0))","v":45000}]
[406,{"$f":"B460+IF('Cleaned Data'!L407>0,1,0)*IF($B$34=\"Overall\",1,IF('Cleaned Data'!K407=$B$34,1,0))*(IF('Cleaned Data'!H407<>\"\",1,0))","v":2},{"$f":"INDEX('Cleaned Data'!H:H,MATCH($A461,$B$56:$B$1919,0))","v":1},{"$f":"INDEX('Cleaned Data'!L:L,MATCH($A461,$B$56:$B$1919,0))","v":16000}]
[407,{"$f":"B461+IF('Cleaned Data'!L408>0,1,0)*IF($B$34=\"Overall\",1,IF('Cleaned Data'!K408=$B$34,1,0))*(IF('Cleaned Data'!H408<>\"\",1,0))","v":2},{"$f":"INDEX('Cleaned Data'!H:H,MATCH($A462,$B$56:$B$1919,0))","v":12},{"$f":"INDEX('Cleaned Data'!L:L,MATCH($A462,$B$56:$B$1919,0))","v":10000}]
[408,{"$f":"B462+IF('Cleaned Data'!L409>0,1,0)*IF($B$34=\"Overall\",1,IF('Cleaned Data'!K409=$B$34,1,0))*(IF('Cleaned Data'!H409<>\"\",1,0))","v":2},{"$f":"INDEX('Cleaned Data'!H:H,MATCH($A463,$B$56:$B$1919,0))","v":8},{"$f":"INDEX('Cleaned Data'!L:L,MATCH($A463,$B$56:$B$1919,0))","v":96000}]
[409,{"$f":"B463+IF('Cleaned Data'!L410>0,1,0)*IF($B$34=\"Overall\",1,IF('Cleaned Data'!K410=$B$34,1,0))*(IF('Cleaned Data'!H410<>\"\",1,0))","v":2},{"$f":"INDEX('Cleaned Data'!H:H,MATCH($A464,$B$56:$B$1919,0))","v":5},{"$f":"INDEX('Cleaned Data'!L:L,MATCH($A464,$B$56:$B$1919,0))","v":13100}]
[410,{"$f":"B464+IF('Cleaned Data'!L411>0,1,0)*IF($B$34=\"Overall\",1,IF('Cleaned Data'!K411=$B$34,1,0))*(IF('Cleaned Data'!H411<>\"\",1,0))","v":2},{"$f":"INDEX('Cleaned Data'!H:H,MATCH($A465,$B$56:$B$1919,0))","v":3},{"$f":"INDEX('Cleaned Data'!L:L,MATCH($A465,$B$56:$B$1919,0))","v":15500}]
[411,{"$f":"B465+IF('Cleaned Data'!L412>0,1,0)*IF($B$34=\"Overall\",1,IF('Cleaned Data'!K412=$B$34,1,0))*(IF('Cleaned Data'!H412<>\"\",1,0))","v":2},{"$f":"INDEX('Cleaned Data'!H:H,MATCH($A466,$B$56:$B$1919,0))","v":6},{"$f":"INDEX('Cleaned Data'!L:L,MATCH($A466,$B$56:$B$1919,0))","v":13000}]
[412,{"$f":"B466+IF('Cleaned Data'!L413>0,1,0)*IF($B$34=\"Overall\",1,IF('Cleaned Data'!K413=$B$34,1,0))*(IF('Cleaned Data'!H413<>\"\",1,0))","v":2},{"$f":"INDEX('Cleaned Data'!H:H,MATCH($A467,$B$56:$B$1919,0))","v":2},{"$f":"INDEX('Cleaned Data'!L:L,MATCH($A467,$B$56:$B$1919,0))","v":30000}]
[413,{"$f":"B467+IF('Cleaned Data'!L414>0,1,0)*IF($B$34=\"Overall\",1,IF('Cleaned Data'!K414=$B$34,1,0))*(IF('Cleaned Data'!H414<>\"\",1,0))","v":2},{"$f":"INDEX('Cleaned Data'!H:H,MATCH($A468,$B$56:$B$1919,0))","v":1},{"$f":"INDEX('Cleaned Data'!L:L,MATCH($A468,$B$56:$B$1919,0))","v":5000}]
[414,{"$f":"B468+IF('Cleaned Data'!L415>0,1,0)*IF($B$34=\"Overall\",1,IF('Cleaned Data'!K415=$B$34,1,0))*(IF('Cleaned Data'!H415<>\"\",1,0))","v":2},{"$f":"INDEX('Cleaned Data'!H:H,MATCH($A469,$B$56:$B$1919,0))","v":6},{"$f":"INDEX('Cleaned Data'!L:L,MATCH($A469,$B$56:$B$1919,0))","v":10000}]
[415,{"$f":"B469+IF('Cleaned Data'!L416>0,1,0)*IF($B$34=\"Overall\",1,IF('Cleaned Data'!K416=$B$34,1,0))*(IF('Cleaned Data'!H416<>\"\",1,0))","v":2},{"$f":"INDEX('Cleaned Data'!H:H,MATCH($A470,$B$56:$B$1919,0))","v":5},{"$f":"INDEX('Cleaned Data'!L:L,MATCH($A470,$B$56:$B$1919,0))","v":16350}]
[416,{"$f":"B470+IF('Cleaned Data'!L417>0,1,0)*IF($B$34=\"Overall\",1,IF('Cleaned Data'!K417=$B$34,1,0))*(IF('Cleaned Data'!H417<>\"\",1,0))","v":2},{"$f":"INDEX('Cleaned Data'!H:H,MATCH($A471,$B$56:$B$1919,0))","v":3},{"$f":"INDEX('Cleaned Data'!L:L,MATCH($A471,$B$56:$B$1919,0))","v":24000}]
[417,{"$f":"B471+IF('Cleaned Data'!L418>0,1,0)*IF($B$34=\"Overall\",1,IF('Cleaned Data'!K418=$B$34,1,0))*(IF('Cleaned Data'!H418<>\"\",1,0))","v":2},{"$f":"INDEX('Cleaned Data'!H:H,MATCH($A472,$B$56:$B$1919,0))","v":10},{"$f":"INDEX('Cleaned Data'!L:L,MATCH($A472,$B$56:$B$1919,0))","v":24000}]
[418,{"$f":"B472+IF('Cleaned Data'!L419>0,1,0)*IF($B$34=\"Overall\",1,IF('Cleaned Data'!K419=$B$34,1,0))*(IF('Cleaned Data'!H419<>\"\",1,0))","v":2},{"$f":"INDEX('Cleaned Data'!H:H,MATCH($A473,$B$56:$B$1919,0))","v":5},{"$f":"INDEX('Cleaned Data'!L:L,MATCH($A473,$B$56:$B$1919,0))","v":8000}]
[419,{"$f":"B473+IF('Cleaned Data'!L420>0,1,0)*IF($B$34=\"Overall\",1,IF('Cleaned Data'!K420=$B$34,1,0))*(IF('Cleaned Data'!H420<>\"\",1,0))","v":2},{"$f":"INDEX('Cleaned Data'!H:H,MATCH($A474,$B$56:$B$1919,0))","v":2},{"$f":"INDEX('Cleaned Data'!L:L,MATCH($A474,$B$56:$B$1919,0))","v":15000}]
[420,{"$f":"B474+IF('Cleaned Data'!L421>0,1,0)*IF($B$34=\"Overall\",1,IF('Cleaned Data'!K421=$B$34,1,0))*(IF('Cleaned Data'!H421<>\"\",1,0))","v":2},{"$f":"INDEX('Cleaned Data'!H:H,MATCH($A475,$B$56:$B$1919,0))","v":8},{"$f":"INDEX('Cleaned Data'!L:L,MATCH($A475,$B$56:$B$1919,0))","v":18000}]
[421,{"$f":"B475+IF('Cleaned Data'!L422>0,1,0)*IF($B$34=\"Overall\",1,IF('Cleaned Data'!K422=$B$34,1,0))*(IF('Cleaned Data'!H422<>\"\",1,0))","v":2},{"$f":"INDEX('Cleaned Data'!H:H,MATCH($A476,$B$56:$B$1919,0))","v":4},{"$f":"INDEX('Cleaned Data'!L:L,MATCH($A476,$B$56:$B$1919,0))","v":15000}]
[422,{"$f":"B476+IF('Cleaned Data'!L423>0,1,0)*IF($B$34=\"Overall\",1,IF('Cleaned Data'!K423=$B$34,1,0))*(IF('Cleaned Data'!H423<>\"\",1,0))","v":2},{"$f":"INDEX('Cleaned Data'!H:H,MATCH($A477,$B$56:$B$1919,0))","v":6},{"$f":"INDEX('Cleaned Data'!L:L,MATCH($A477,$B$56:$B$1919,0))","v":7265}]
[423,{"$f":"B477+IF('Cleaned Data'!L424>0,1,0)*IF($B$34=\"Overall\",1,IF('Cleaned Data'!K424=$B$34,1,0))*(IF('Cleaned Data'!H424<>\"\",1,0))","v":2},{"$f":"INDEX('Cleaned Data'!H:H,MATCH($A478,$B$56:$B$1919,0))","v":4.5999999999999996},{"$f":"INDEX('Cleaned Data'!L:L,MATCH($A478,$B$56:$B$1919,0))","v":18000}]
[424,{"$f":"B478+IF('Cleaned Data'!L425>0,1,0)*IF($B$34=\"Overall\",1,IF('Cleaned Data'!K425=$B$34,1,0))*(IF('Cleaned Data'!H425<>\"\",1,0))","v":2},{"$f":"INDEX('Cleaned Data'!H:H,MATCH($A479,$B$56:$B$1919,0))","v":3},{"$f":"INDEX('Cleaned Data'!L:L,MATCH($A479,$B$56:$B$1919,0))","v":28000}]
[425,{"$f":"B479+IF('Cleaned Data'!L426>0,1,0)*IF($B$34=\"Overall\",1,IF('Cleaned Data'!K426=$B$34,1,0))*(IF('Cleaned Data'!H426<>\"\",1,0))","v":2},{"$f":"INDEX('Cleaned Data'!H:H,MATCH($A480,$B$56:$B$1919,0))","v":5},{"$f":"INDEX('Cleaned Data'!L:L,MATCH($A480,$B$56:$B$1919,0))","v":6000}]
[426,{"$f":"B480+IF('Cleaned Data'!L427>0,1,0)*IF($B$34=\"Overall\",1,IF('Cleaned Data'!K427=$B$34,1,0))*(IF('Cleaned Data'!H427<>\"\",1,0))","v":2},{"$f":"INDEX('Cleaned Data'!H:H,MATCH($A481,$B$56:$B$1919,0))","v":7},{"$f":"INDEX('Cleaned Data'!L:L,MATCH($A481,$B$56:$B$1919,0))","v":8700}]
[427,{"$f":"B481+IF('Cleaned Data'!L428>0,1,0)*IF($B$34=\"Overall\",1,IF('Cleaned Data'!K428=$B$34,1,0))*(IF('Cleaned Data'!H428<>\"\",1,0))","v":2},{"$f":"INDEX('Cleaned Data'!H:H,MATCH($A482,$B$56:$B$1919,0))","v":8},{"$f":"INDEX('Cleaned Data'!L:L,MATCH($A482,$B$56:$B$1919,0))","v":12000}]
[428,{"$f":"B482+IF('Cleaned Data'!L429>0,1,0)*IF($B$34=\"Overall\",1,IF('Cleaned Data'!K429=$B$34,1,0))*(IF('Cleaned Data'!H429<>\"\",1,0))","v":2},{"$f":"INDEX('Cleaned Data'!H:H,MATCH($A483,$B$56:$B$1919,0))","v":8},{"$f":"INDEX('Cleaned Data'!L:L,MATCH($A483,$B$56:$B$1919,0))","v":5100}]
[429,{"$f":"B483+IF('Cleaned Data'!L430>0,1,0)*IF($B$34=\"Overall\",1,IF('Cleaned Data'!K430=$B$34,1,0))*(IF('Cleaned Data'!H430<>\"\",1,0))","v":2},{"$f":"INDEX('Cleaned Data'!H:H,MATCH($A484,$B$56:$B$1919,0))","v":26},{"$f":"INDEX('Cleaned Data'!L:L,MATCH($A484,$B$56:$B$1919,0))","v":50000}]
[430,{"$f":"B484+IF('Cleaned Data'!L431>0,1,0)*IF($B$34=\"Overall\",1,IF('Cleaned Data'!K431=$B$34,1,0))*(IF('Cleaned Data'!H431<>\"\",1,0))","v":2},{"$f":"INDEX('Cleaned Data'!H:H,MATCH($A485,$B$56:$B$1919,0))","v":5},{"$f":"INDEX('Cleaned Data'!L:L,MATCH($A485,$B$56:$B$1919,0))","v":7000}]
[431,{"$f":"B485+IF('Cleaned Data'!L432>0,1,0)*IF($B$34=\"Overall\",1,IF('Cleaned Data'!K432=$B$34,1,0))*(IF('Cleaned Data'!H432<>\"\",1,0))","v":2},{"$f":"INDEX('Cleaned Data'!H:H,MATCH($A486,$B$56:$B$1919,0))","v":6},{"$f":"INDEX('Cleaned Data'!L:L,MATCH($A486,$B$56:$B$1919,0))","v":6720}]
[432,{"$f":"B486+IF('Cleaned Data'!L433>0,1,0)*IF($B$34=\"Overall\",1,IF('Cleaned Data'!K433=$B$34,1,0))*(IF('Cleaned Data'!H433<>\"\",1,0))","v":2},{"$f":"INDEX('Cleaned Data'!H:H,MATCH($A487,$B$56:$B$1919,0))","v":10},{"$f":"INDEX('Cleaned Data'!L:L,MATCH($A487,$B$56:$B$1919,0))","v":7200}]
[433,{"$f":"B487+IF('Cleaned Data'!L434>0,1,0)*IF($B$34=\"Overall\",1,IF('Cleaned Data'!K434=$B$34,1,0))*(IF('Cleaned Data'!H434<>\"\",1,0))","v":2},{"$f":"INDEX('Cleaned Data'!H:H,MATCH($A488,$B$56:$B$1919,0))","v":30},{"$f":"INDEX('Cleaned Data'!L:L,MATCH($A488,$B$56:$B$1919,0))","v":50000}]
[434,{"$f":"B488+IF('Cleaned Data'!L435>0,1,0)*IF($B$34=\"Overall\",1,IF('Cleaned Data'!K435=$B$34,1,0))*(IF('Cleaned Data'!H435<>\"\",1,0))","v":2},{"$f":"INDEX('Cleaned Data'!H:H,MATCH($A489,$B$56:$B$1919,0))","v":7},{"$f":"INDEX('Cleaned Data'!L:L,MATCH($A489,$B$56:$B$1919,0))","v":7960}]
[435,{"$f":"B489+IF('Cleaned Data'!L436>0,1,0)*IF($B$34=\"Overall\",1,IF('Cleaned Data'!K436=$B$34,1,0))*(IF('Cleaned Data'!H436<>\"\",1,0))","v":2},{"$f":"INDEX('Cleaned Data'!H:H,MATCH($A490,$B$56:$B$1919,0))","v":14},{"$f":"INDEX('Cleaned Data'!L:L,MATCH($A490,$B$56:$B$1919,0))","v":60000}]
[436,{"$f":"B490+IF('Cleaned Data'!L437>0,1,0)*IF($B$34=\"Overall\",1,IF('Cleaned Data'!K437=$B$34,1,0))*(IF('Cleaned Data'!H437<>\"\",1,0))","v":2},{"$f":"INDEX('Cleaned Data'!H:H,MATCH($A491,$B$56:$B$1919,0))","v":5},{"$f":"INDEX('Cleaned Data'!L:L,MATCH($A491,$B$56:$B$1919,0))","v":10000}]
[437,{"$f":"B491+IF('Cleaned Data'!L438>0,1,0)*IF($B$34=\"Overall\",1,IF('Cleaned Data'!K438=$B$34,1,0))*(IF('Cleaned Data'!H438<>\"\",1,0))","v":2},{"$f":"INDEX('Cleaned Data'!H:H,MATCH($A492,$B$56:$B$1919,0))","v":2},{"$f":"INDEX('Cleaned Data'!L:L,MATCH($A492,$B$56:$B$1919,0))","v":40000}]
[438,{"$f":"B492+IF('Cleaned Data'!L439>0,1,0)*IF($B$34=\"Overall\",1,IF('Cleaned Data'!K439=$B$34,1,0))*(IF('Cleaned Data'!H439<>\"\",1,0))","v":2},{"$f":"INDEX('Cleaned Data'!H:H,MATCH($A493,$B$56:$B$1919,0))","v":6},{"$f":"INDEX('Cleaned Data'!L:L,MATCH($A493,$B$56:$B$1919,0))","v":6000}]
[439,{"$f":"B493+IF('Cleaned Data'!L440>0,1,0)*IF($B$34=\"Overall\",1,IF('Cleaned Data'!K440=$B$34,1,0))*(IF('Cleaned Data'!H440<>\"\",1,0))","v":2},{"$f":"INDEX('Cleaned Data'!H:H,MATCH($A494,$B$56:$B$1919,0))","v":2},{"$f":"INDEX('Cleaned Data'!L:L,MATCH($A494,$B$56:$B$1919,0))","v":8600}]
[440,{"$f":"B494+IF('Cleaned Data'!L441>0,1,0)*IF($B$34=\"Overall\",1,IF('Cleaned Data'!K441=$B$34,1,0))*(IF('Cleaned Data'!H441<>\"\",1,0))","v":2},{"$f":"INDEX('Cleaned Data'!H:H,MATCH($A495,$B$56:$B$1919,0))","v":7},{"$f":"INDEX('Cleaned Data'!L:L,MATCH($A495,$B$56:$B$1919,0))","v":7200}]
[441,{"$f":"B495+IF('Cleaned Data'!L442>0,1,0)*IF($B$34=\"Overall\",1,IF('Cleaned Data'!K442=$B$34,1,0))*(IF('Cleaned Data'!H442<>\"\",1,0))","v":2},{"$f":"INDEX('Cleaned Data'!H:H,MATCH($A496,$B$56:$B$1919,0))","v":5},{"$f":"INDEX('Cleaned Data'!L:L,MATCH($A496,$B$56:$B$1919,0))","v":4800}]
[442,{"$f":"B496+IF('Cleaned Data'!L443>0,1,0)*IF($B$34=\"Overall\",1,IF('Cleaned Data'!K443=$B$34,1,0))*(IF('Cleaned Data'!H443<>\"\",1,0))","v":2},{"$f":"INDEX('Cleaned Data'!H:H,MATCH($A497,$B$56:$B$1919,0))","v":1},{"$f":"INDEX('Cleaned Data'!L:L,MATCH($A497,$B$56:$B$1919,0))","v":9000}]
[443,{"$f":"B497+IF('Cleaned Data'!L444>0,1,0)*IF($B$34=\"Overall\",1,IF('Cleaned Data'!K444=$B$34,1,0))*(IF('Cleaned Data'!H444<>\"\",1,0))","v":2},{"$f":"INDEX('Cleaned Data'!H:H,MATCH($A498,$B$56:$B$1919,0))","v":3},{"$f":"INDEX('Cleaned Data'!L:L,MATCH($A498,$B$56:$B$1919,0))","v":30000}]
[444,{"$f":"B498+IF('Cleaned Data'!L445>0,1,0)*IF($B$34=\"Overall\",1,IF('Cleaned Data'!K445=$B$34,1,0))*(IF('Cleaned Data'!H445<>\"\",1,0))","v":2},{"$f":"INDEX('Cleaned Data'!H:H,MATCH($A499,$B$56:$B$1919,0))","v":10},{"$f":"INDEX('Cleaned Data'!L:L,MATCH($A499,$B$56:$B$1919,0))","v":11800}]
[445,{"$f":"B499+IF('Cleaned Data'!L446>0,1,0)*IF($B$34=\"Overall\",1,IF('Cleaned Data'!K446=$B$34,1,0))*(IF('Cleaned Data'!H446<>\"\",1,0))","v":2},{"$f":"INDEX('Cleaned Data'!H:H,MATCH($A500,$B$56:$B$1919,0))","v":12},{"$f":"INDEX('Cleaned Data'!L:L,MATCH($A500,$B$56:$B$1919,0))","v":18000}]
[446,{"$f":"B500+IF('Cleaned Data'!L447>0,1,0)*IF($B$34=\"Overall\",1,IF('Cleaned Data'!K447=$B$34,1,0))*(IF('Cleaned Data'!H447<>\"\",1,0))","v":2},{"$f":"INDEX('Cleaned Data'!H:H,MATCH($A501,$B$56:$B$1919,0))","v":12},{"$f":"INDEX('Cleaned Data'!L:L,MATCH($A501,$B$56:$B$1919,0))","v":14000}]
[447,{"$f":"B501+IF('Cleaned Data'!L448>0,1,0)*IF($B$34=\"Overall\",1,IF('Cleaned Data'!K448=$B$34,1,0))*(IF('Cleaned Data'!H448<>\"\",1,0))","v":3},{"$f":"INDEX('Cleaned Data'!H:H,MATCH($A502,$B$56:$B$1919,0))","v":4},{"$f":"INDEX('Cleaned Data'!L:L,MATCH($A502,$B$56:$B$1919,0))","v":8000}]
[448,{"$f":"B502+IF('Cleaned Data'!L449>0,1,0)*IF($B$34=\"Overall\",1,IF('Cleaned Data'!K449=$B$34,1,0))*(IF('Cleaned Data'!H449<>\"\",1,0))","v":4},{"$f":"INDEX('Cleaned Data'!H:H,MATCH($A503,$B$56:$B$1919,0))","v":20},{"$f":"INDEX('Cleaned Data'!L:L,MATCH($A503,$B$56:$B$1919,0))","v":13500}]
[449,{"$f":"B503+IF('Cleaned Data'!L450>0,1,0)*IF($B$34=\"Overall\",1,IF('Cleaned Data'!K450=$B$34,1,0))*(IF('Cleaned Data'!H450<>\"\",1,0))","v":5},{"$f":"INDEX('Cleaned Data'!H:H,MATCH($A504,$B$56:$B$1919,0))","v":0.5},{"$f":"INDEX('Cleaned Data'!L:L,MATCH($A504,$B$56:$B$1919,0))","v":10000}]
[450,{"$f":"B504+IF('Cleaned Data'!L451>0,1,0)*IF($B$34=\"Overall\",1,IF('Cleaned Data'!K451=$B$34,1,0))*(IF('Cleaned Data'!H451<>\"\",1,0))","v":6},{"$f":"INDEX('Cleaned Data'!H:H,MATCH($A505,$B$56:$B$1919,0))","v":0.6},{"$f":"INDEX('Cleaned Data'!L:L,MATCH($A505,$B$56:$B$1919,0))","v":9000}]
[451,{"$f":"B505+IF('Cleaned Data'!L452>0,1,0)*IF($B$34=\"Overall\",1,IF('Cleaned Data'!K452=$B$34,1,0))*(IF('Cleaned Data'!H452<>\"\",1,0))","v":7},{"$f":"INDEX('Cleaned Data'!H:H,MATCH($A506,$B$56:$B$1919,0))","v":1},{"$f":"INDEX('Cleaned Data'!L:L,MATCH($A506,$B$56:$B$1919,0))","v":9000}]
[452,{"$f":"B506+IF('Cleaned Data'!L453>0,1,0)*IF($B$34=\"Overall\",1,IF('Cleaned Data'!K453=$B$34,1,0))*(IF('Cleaned Data'!H453<>\"\",1,0))","v":8},{"$f":"INDEX('Cleaned Data'!H:H,MATCH($A507,$B$56:$B$1919,0))","v":6.4},{"$f":"INDEX('Cleaned Data'!L:L,MATCH($A507,$B$56:$B$1919,0))","v":6600}]
[453,{"$f":"B507+IF('Cleaned Data'!L454>0,1,0)*IF($B$34=\"Overall\",1,IF('Cleaned Data'!K454=$B$34,1,0))*(IF('Cleaned Data'!H454<>\"\",1,0))","v":9},{"$f":"INDEX('Cleaned Data'!H:H,MATCH($A508,$B$56:$B$1919,0))","v":6},{"$f":"INDEX('Cleaned Data'!L:L,MATCH($A508,$B$56:$B$1919,0))","v":20000}]
[454,{"$f":"B508+IF('Cleaned Data'!L455>0,1,0)*IF($B$34=\"Overall\",1,IF('Cleaned Data'!K455=$B$34,1,0))*(IF('Cleaned Data'!H455<>\"\",1,0))","v":10},{"$f":"INDEX('Cleaned Data'!H:H,MATCH($A509,$B$56:$B$1919,0))","v":3},{"$f":"INDEX('Cleaned Data'!L:L,MATCH($A509,$B$56:$B$1919,0))","v":14000}]
[455,{"$f":"B509+IF('Cleaned Data'!L456>0,1,0)*IF($B$34=\"Overall\",1,IF('Cleaned Data'!K456=$B$34,1,0))*(IF('Cleaned Data'!H456<>\"\",1,0))","v":11},{"$f":"INDEX('Cleaned Data'!H:H,MATCH($A510,$B$56:$B$1919,0))","v":8},{"$f":"INDEX('Cleaned Data'!L:L,MATCH($A510,$B$56:$B$1919,0))","v":25000}]
[456,{"$f":"B510+IF('Cleaned Data'!L457>0,1,0)*IF($B$34=\"Overall\",1,IF('Cleaned Data'!K457=$B$34,1,0))*(IF('Cleaned Data'!H457<>\"\",1,0))","v":12},{"$f":"INDEX('Cleaned Data'!H:H,MATCH($A511,$B$56:$B$1919,0))","v":5},{"$f":"INDEX('Cleaned Data'!L:L,MATCH($A511,$B$56:$B$1919,0))","v":4356}]
[457,{"$f":"B511+IF('Cleaned Data'!L458>0,1,0)*IF($B$34=\"Overall\",1,IF('Cleaned Data'!K458=$B$34,1,0))*(IF('Cleaned Data'!H458<>\"\",1,0))","v":13},{"$f":"INDEX('Cleaned Data'!H:H,MATCH($A512,$B$56:$B$1919,0))","v":10},{"$f":"INDEX('Cleaned Data'!L:L,MATCH($A512,$B$56:$B$1919,0))","v":20000}]
[458,{"$f":"B512+IF('Cleaned Data'!L459>0,1,0)*IF($B$34=\"Overall\",1,IF('Cleaned Data'!K459=$B$34,1,0))*(IF('Cleaned Data'!H459<>\"\",1,0))","v":14},{"$f":"INDEX('Cleaned Data'!H:H,MATCH($A513,$B$56:$B$1919,0))","v":6},{"$f":"INDEX('Cleaned Data'!L:L,MATCH($A513,$B$56:$B$1919,0))","v":4000}]
[459,{"$f":"B513+IF('Cleaned Data'!L460>0,1,0)*IF($B$34=\"Overall\",1,IF('Cleaned Data'!K460=$B$34,1,0))*(IF('Cleaned Data'!H460<>\"\",1,0))","v":15},{"$f":"INDEX('Cleaned Data'!H:H,MATCH($A514,$B$56:$B$1919,0))","v":19},{"$f":"INDEX('Cleaned Data'!L:L,MATCH($A514,$B$56:$B$1919,0))","v":3200}]
[460,{"$f":"B514+IF('Cleaned Data'!L461>0,1,0)*IF($B$34=\"Overall\",1,IF('Cleaned Data'!K461=$B$34,1,0))*(IF('Cleaned Data'!H461<>\"\",1,0))","v":16},{"$f":"INDEX('Cleaned Data'!H:H,MATCH($A515,$B$56:$B$1919,0))","v":4},{"$f":"INDEX('Cleaned Data'!L:L,MATCH($A515,$B$56:$B$1919,0))","v":25000}]
[461,{"$f":"B515+IF('Cleaned Data'!L462>0,1,0)*IF($B$34=\"Overall\",1,IF('Cleaned Data'!K462=$B$34,1,0))*(IF('Cleaned Data'!H462<>\"\",1,0))","v":17},{"$f":"INDEX('Cleaned Data'!H:H,MATCH($A516,$B$56:$B$1919,0))","v":4},{"$f":"INDEX('Cleaned Data'!L:L,MATCH($A516,$B$56:$B$1919,0))","v":5000}]
[462,{"$f":"B516+IF('Cleaned Data'!L463>0,1,0)*IF($B$34=\"Overall\",1,IF('Cleaned Data'!K463=$B$34,1,0))*(IF('Cleaned Data'!H463<>\"\",1,0))","v":18},{"$f":"INDEX('Cleaned Data'!H:H,MATCH($A517,$B$56:$B$1919,0))","v":6},{"$f":"INDEX('Cleaned Data'!L:L,MATCH($A517,$B$56:$B$1919,0))","v":18000}]
[463,{"$f":"B517+IF('Cleaned Data'!L464>0,1,0)*IF($B$34=\"Overall\",1,IF('Cleaned Data'!K464=$B$34,1,0))*(IF('Cleaned Data'!H464<>\"\",1,0))","v":19},{"$f":"INDEX('Cleaned Data'!H:H,MATCH($A518,$B$56:$B$1919,0))","v":18},{"$f":"INDEX('Cleaned Data'!L:L,MATCH($A518,$B$56:$B$1919,0))","v":8000}]
[464,{"$f":"B518+IF('Cleaned Data'!L465>0,1,0)*IF($B$34=\"Overall\",1,IF('Cleaned Data'!K465=$B$34,1,0))*(IF('Cleaned Data'!H465<>\"\",1,0))","v":20},{"$f":"INDEX('Cleaned Data'!H:H,MATCH($A519,$B$56:$B$1919,0))","v":4},{"$f":"INDEX('Cleaned Data'!L:L,MATCH($A519,$B$56:$B$1919,0))","v":34000}]
[465,{"$f":"B519+IF('Cleaned Data'!L466>0,1,0)*IF($B$34=\"Overall\",1,IF('Cleaned Data'!K466=$B$34,1,0))*(IF('Cleaned Data'!H466<>\"\",1,0))","v":21},{"$f":"INDEX('Cleaned Data'!H:H,MATCH($A520,$B$56:$B$1919,0))","v":4},{"$f":"INDEX('Cleaned Data'!L:L,MATCH($A520,$B$56:$B$1919,0))","v":30000}]
[466,{"$f":"B520+IF('Cleaned Data'!L467>0,1,0)*IF($B$34=\"Overall\",1,IF('Cleaned Data'!K467=$B$34,1,0))*(IF('Cleaned Data'!H467<>\"\",1,0))","v":22},{"$f":"INDEX('Cleaned Data'!H:H,MATCH($A521,$B$56:$B$1919,0))","v":2},{"$f":"INDEX('Cleaned Data'!L:L,MATCH($A521,$B$56:$B$1919,0))","v":6000}]
[467,{"$f":"B521+IF('Cleaned Data'!L468>0,1,0)*IF($B$34=\"Overall\",1,IF('Cleaned Data'!K468=$B$34,1,0))*(IF('Cleaned Data'!H468<>\"\",1,0))","v":23},{"$f":"INDEX('Cleaned Data'!H:H,MATCH($A522,$B$56:$B$1919,0))","v":6},{"$f":"INDEX('Cleaned Data'!L:L,MATCH($A522,$B$56:$B$1919,0))","v":10000}]
[468,{"$f":"B522+IF('Cleaned Data'!L469>0,1,0)*IF($B$34=\"Overall\",1,IF('Cleaned Data'!K469=$B$34,1,0))*(IF('Cleaned Data'!H469<>\"\",1,0))","v":24},{"$f":"INDEX('Cleaned Data'!H:H,MATCH($A523,$B$56:$B$1919,0))","v":12},{"$f":"INDEX('Cleaned Data'!L:L,MATCH($A523,$B$56:$B$1919,0))","v":10000}]
[469,{"$f":"B523+IF('Cleaned Data'!L470>0,1,0)*IF($B$34=\"Overall\",1,IF('Cleaned Data'!K470=$B$34,1,0))*(IF('Cleaned Data'!H470<>\"\",1,0))","v":25},{"$f":"INDEX('Cleaned Data'!H:H,MATCH($A524,$B$56:$B$1919,0))","v":1},{"$f":"INDEX('Cleaned Data'!L:L,MATCH($A524,$B$56:$B$1919,0))","v":20000}]
[470,{"$f":"B524+IF('Cleaned Data'!L471>0,1,0)*IF($B$34=\"Overall\",1,IF('Cleaned Data'!K471=$B$34,1,0))*(IF('Cleaned Data'!H471<>\"\",1,0))","v":26},{"$f":"INDEX('Cleaned Data'!H:H,MATCH($A525,$B$56:$B$1919,0))","v":5},{"$f":"INDEX('Cleaned Data'!L:L,MATCH($A525,$B$56:$B$1919,0))","v":15000}]
[471,{"$f":"B525+IF('Cleaned Data'!L472>0,1,0)*IF($B$34=\"Overall\",1,IF('Cleaned Data'!K472=$B$34,1,0))*(IF('Cleaned Data'!H472<>\"\",1,0))","v":27},{"$f":"INDEX('Cleaned Data'!H:H,MATCH($A526,$B$56:$B$1919,0))","v":8},{"$f":"INDEX('Cleaned Data'!L:L,MATCH($A526,$B$56:$B$1919,0))","v":50000}]
[472,{"$f":"B526+IF('Cleaned Data'!L473>0,1,0)*IF($B$34=\"Overall\",1,IF('Cleaned Data'!K473=$B$34,1,0))*(IF('Cleaned Data'!H473<>\"\",1,0))","v":28},{"$f":"INDEX('Cleaned Data'!H:H,MATCH($A527,$B$56:$B$1919,0))","v":1},{"$f":"INDEX('Cleaned Data'!L:L,MATCH($A527,$B$56:$B$1919,0))","v":7000}]
[473,{"$f":"B527+IF('Cleaned Data'!L474>0,1,0)*IF($B$34=\"Overall\",1,IF('Cleaned Data'!K474=$B$34,1,0))*(IF('Cleaned Data'!H474<>\"\",1,0))","v":29},{"$f":"INDEX('Cleaned Data'!H:H,MATCH($A528,$B$56:$B$1919,0))","v":9},{"$f":"INDEX('Cleaned Data'!L:L,MATCH($A528,$B$56:$B$1919,0))","v":6545}]
[474,{"$f":"B528+IF('Cleaned Data'!L475>0,1,0)*IF($B$34=\"Overall\",1,IF('Cleaned Data'!K475=$B$34,1,0))*(IF('Cleaned Data'!H475<>\"\",1,0))","v":30},{"$f":"INDEX('Cleaned Data'!H:H,MATCH($A529,$B$56:$B$1919,0))","v":3},{"$f":"INDEX('Cleaned Data'!L:L,MATCH($A529,$B$56:$B$1919,0))","v":12000}]
[475,{"$f":"B529+IF('Cleaned Data'!L476>0,1,0)*IF($B$34=\"Overall\",1,IF('Cleaned Data'!K476=$B$34,1,0))*(IF('Cleaned Data'!H476<>\"\",1,0))","v":31},{"$f":"INDEX('Cleaned Data'!H:H,MATCH($A530,$B$56:$B$1919,0))","v":3},{"$f":"INDEX('Cleaned Data'!L:L,MATCH($A530,$B$56:$B$1919,0))","v":3360}]
[476,{"$f":"B530+IF('Cleaned Data'!L477>0,1,0)*IF($B$34=\"Overall\",1,IF('Cleaned Data'!K477=$B$34,1,0))*(IF('Cleaned Data'!H477<>\"\",1,0))","v":32},{"$f":"INDEX('Cleaned Data'!H:H,MATCH($A531,$B$56:$B$1919,0))","v":1},{"$f":"INDEX('Cleaned Data'!L:L,MATCH($A531,$B$56:$B$1919,0))","v":10000}]
[477,{"$f":"B531+IF('Cleaned Data'!L478>0,1,0)*IF($B$34=\"Overall\",1,IF('Cleaned Data'!K478=$B$34,1,0))*(IF('Cleaned Data'!H478<>\"\",1,0))","v":33},{"$f":"INDEX('Cleaned Data'!H:H,MATCH($A532,$B$56:$B$1919,0))","v":2},{"$f":"INDEX('Cleaned Data'!L:L,MATCH($A532,$B$56:$B$1919,0))","v":10000}]
[478,{"$f":"B532+IF('Cleaned Data'!L479>0,1,0)*IF($B$34=\"Overall\",1,IF('Cleaned Data'!K479=$B$34,1,0))*(IF('Cleaned Data'!H479<>\"\",1,0))","v":34},{"$f":"INDEX('Cleaned Data'!H:H,MATCH($A533,$B$56:$B$1919,0))","v":8},{"$f":"INDEX('Cleaned Data'!L:L,MATCH($A533,$B$56:$B$1919,0))","v":14400}]
[479,{"$f":"B533+IF('Cleaned Data'!L480>0,1,0)*IF($B$34=\"Overall\",1,IF('Cleaned Data'!K480=$B$34,1,0))*(IF('Cleaned Data'!H480<>\"\",1,0))","v":35},{"$f":"INDEX('Cleaned Data'!H:H,MATCH($A534,$B$56:$B$1919,0))","v":6},{"$f":"INDEX('Cleaned Data'!L:L,MATCH($A534,$B$56:$B$1919,0))","v":22000}]
[480,{"$f":"B534+IF('Cleaned Data'!L481>0,1,0)*IF($B$34=\"Overall\",1,IF('Cleaned Data'!K481=$B$34,1,0))*(IF('Cleaned Data'!H481<>\"\",1,0))","v":36},{"$f":"INDEX('Cleaned Data'!H:H,MATCH($A535,$B$56:$B$1919,0))","v":8},{"$f":"INDEX('Cleaned Data'!L:L,MATCH($A535,$B$56:$B$1919,0))","v":25000}]
[481,{"$f":"B535+IF('Cleaned Data'!L482>0,1,0)*IF($B$34=\"Overall\",1,IF('Cleaned Data'!K482=$B$34,1,0))*(IF('Cleaned Data'!H482<>\"\",1,0))","v":37},{"$f":"INDEX('Cleaned Data'!H:H,MATCH($A536,$B$56:$B$1919,0))","v":11},{"$f":"INDEX('Cleaned Data'!L:L,MATCH($A536,$B$56:$B$1919,0))","v":10000}]
[482,{"$f":"B536+IF('Cleaned Data'!L483>0,1,0)*IF($B$34=\"Overall\",1,IF('Cleaned Data'!K483=$B$34,1,0))*(IF('Cleaned Data'!H483<>\"\",1,0))","v":38},{"$f":"INDEX('Cleaned Data'!H:H,MATCH($A537,$B$56:$B$1919,0))","v":6},{"$f":"INDEX('Cleaned Data'!L:L,MATCH($A537,$B$56:$B$1919,0))","v":28995}]
[483,{"$f":"B537+IF('Cleaned Data'!L484>0,1,0)*IF($B$34=\"Overall\",1,IF('Cleaned Data'!K484=$B$34,1,0))*(IF('Cleaned Data'!H484<>\"\",1,0))","v":39},{"$f":"INDEX('Cleaned Data'!H:H,MATCH($A538,$B$56:$B$1919,0))","v":5},{"$f":"INDEX('Cleaned Data'!L:L,MATCH($A538,$B$56:$B$1919,0))","v":5320}]
[484,{"$f":"B538+IF('Cleaned Data'!L485>0,1,0)*IF($B$34=\"Overall\",1,IF('Cleaned Data'!K485=$B$34,1,0))*(IF('Cleaned Data'!H485<>\"\",1,0))","v":40},{"$f":"INDEX('Cleaned Data'!H:H,MATCH($A539,$B$56:$B$1919,0))","v":7},{"$f":"INDEX('Cleaned Data'!L:L,MATCH($A539,$B$56:$B$1919,0))","v":12000}]
[485,{"$f":"B539+IF('Cleaned Data'!L486>0,1,0)*IF($B$34=\"Overall\",1,IF('Cleaned Data'!K486=$B$34,1,0))*(IF('Cleaned Data'!H486<>\"\",1,0))","v":41},{"$f":"INDEX('Cleaned Data'!H:H,MATCH($A540,$B$56:$B$1919,0))","v":3},{"$f":"INDEX('Cleaned Data'!L:L,MATCH($A540,$B$56:$B$1919,0))","v":2400}]
[486,{"$f":"B540+IF('Cleaned Data'!L487>0,1,0)*IF($B$34=\"Overall\",1,IF('Cleaned Data'!K487=$B$34,1,0))*(IF('Cleaned Data'!H487<>\"\",1,0))","v":42},{"$f":"INDEX('Cleaned Data'!H:H,MATCH($A541,$B$56:$B$1919,0))","v":2},{"$f":"INDEX('Cleaned Data'!L:L,MATCH($A541,$B$56:$B$1919,0))","v":11000}]
[487,{"$f":"B541+IF('Cleaned Data'!L488>0,1,0)*IF($B$34=\"Overall\",1,IF('Cleaned Data'!K488=$B$34,1,0))*(IF('Cleaned Data'!H488<>\"\",1,0))","v":43},{"$f":"INDEX('Cleaned Data'!H:H,MATCH($A542,$B$56:$B$1919,0))","v":1},{"$f":"INDEX('Cleaned Data'!L:L,MATCH($A542,$B$56:$B$1919,0))","v":3600}]
[488,{"$f":"B542+IF('Cleaned Data'!L489>0,1,0)*IF($B$34=\"Overall\",1,IF('Cleaned Data'!K489=$B$34,1,0))*(IF('Cleaned Data'!H489<>\"\",1,0))","v":44},{"$f":"INDEX('Cleaned Data'!H:H,MATCH($A543,$B$56:$B$1919,0))","v":5},{"$f":"INDEX('Cleaned Data'!L:L,MATCH($A543,$B$56:$B$1919,0))","v":14000}]
[489,{"$f":"B543+IF('Cleaned Data'!L490>0,1,0)*IF($B$34=\"Overall\",1,IF('Cleaned Data'!K490=$B$34,1,0))*(IF('Cleaned Data'!H490<>\"\",1,0))","v":45},{"$f":"INDEX('Cleaned Data'!H:H,MATCH($A544,$B$56:$B$1919,0))","v":3},{"$f":"INDEX('Cleaned Data'!L:L,MATCH($A544,$B$56:$B$1919,0))","v":4800}]
[490,{"$f":"B544+IF('Cleaned Data'!L491>0,1,0)*IF($B$34=\"Overall\",1,IF('Cleaned Data'!K491=$B$34,1,0))*(IF('Cleaned Data'!H491<>\"\",1,0))","v":46},{"$f":"INDEX('Cleaned Data'!H:H,MATCH($A545,$B$56:$B$1919,0))","v":0.3},{"$f":"INDEX('Cleaned Data'!L:L,MATCH($A545,$B$56:$B$1919,0))","v":15000}]
[491,{"$f":"B545+IF('Cleaned Data'!L492>0,1,0)*IF($B$34=\"Overall\",1,IF('Cleaned Data'!K492=$B$34,1,0))*(IF('Cleaned Data'!H492<>\"\",1,0))","v":47},{"$f":"INDEX('Cleaned Data'!H:H,MATCH($A546,$B$56:$B$1919,0))","v":5},{"$f":"INDEX('Cleaned Data'!L:L,MATCH($A546,$B$56:$B$1919,0))","v":6720}]
[492,{"$f":"B546+IF('Cleaned Data'!L493>0,1,0)*IF($B$34=\"Overall\",1,IF('Cleaned Data'!K493=$B$34,1,0))*(IF('Cleaned Data'!H493<>\"\",1,0))","v":48},{"$f":"INDEX('Cleaned Data'!H:H,MATCH($A547,$B$56:$B$1919,0))","v":0},{"$f":"INDEX('Cleaned Data'!L:L,MATCH($A547,$B$56:$B$1919,0))","v":37500}]
[493,{"$f":"B547+IF('Cleaned Data'!L494>0,1,0)*IF($B$34=\"Overall\",1,IF('Cleaned Data'!K494=$B$34,1,0))*(IF('Cleaned Data'!H494<>\"\",1,0))","v":49},{"$f":"INDEX('Cleaned Data'!H:H,MATCH($A548,$B$56:$B$1919,0))","v":8},{"$f":"INDEX('Cleaned Data'!L:L,MATCH($A548,$B$56:$B$1919,0))","v":11000}]
[494,{"$f":"B548+IF('Cleaned Data'!L495>0,1,0)*IF($B$34=\"Overall\",1,IF('Cleaned Data'!K495=$B$34,1,0))*(IF('Cleaned Data'!H495<>\"\",1,0))","v":50},{"$f":"INDEX('Cleaned Data'!H:H,MATCH($A549,$B$56:$B$1919,0))","v":5},{"$f":"INDEX('Cleaned Data'!L:L,MATCH($A549,$B$56:$B$1919,0))","v":40000}]
[495,{"$f":"B549+IF('Cleaned Data'!L496>0,1,0)*IF($B$34=\"Overall\",1,IF('Cleaned Data'!K496=$B$34,1,0))*(IF('Cleaned Data'!H496<>\"\",1,0))","v":51},{"$f":"INDEX('Cleaned Data'!H:H,MATCH($A550,$B$56:$B$1919,0))","v":1.5},{"$f":"INDEX('Cleaned Data'!L:L,MATCH($A550,$B$56:$B$1919,0))","v":25000}]
[496,{"$f":"B550+IF('Cleaned Data'!L497>0,1,0)*IF($B$34=\"Overall\",1,IF('Cleaned Data'!K497=$B$34,1,0))*(IF('Cleaned Data'!H497<>\"\",1,0))","v":52},{"$f":"INDEX('Cleaned Data'!H:H,MATCH($A551,$B$56:$B$1919,0))","v":10},{"$f":"INDEX('Cleaned Data'!L:L,MATCH($A551,$B$56:$B$1919,0))","v":5000}]
[497,{"$f":"B551+IF('Cleaned Data'!L498>0,1,0)*IF($B$34=\"Overall\",1,IF('Cleaned Data'!K498=$B$34,1,0))*(IF('Cleaned Data'!H498<>\"\",1,0))","v":53},{"$f":"INDEX('Cleaned Data'!H:H,MATCH($A552,$B$56:$B$1919,0))","v":2},{"$f":"INDEX('Cleaned Data'!L:L,MATCH($A552,$B$56:$B$1919,0))","v":5000}]
[498,{"$f":"B552+IF('Cleaned Data'!L499>0,1,0)*IF($B$34=\"Overall\",1,IF('Cleaned Data'!K499=$B$34,1,0))*(IF('Cleaned Data'!H499<>\"\",1,0))","v":54},{"$f":"INDEX('Cleaned Data'!H:H,MATCH($A553,$B$56:$B$1919,0))","v":4},{"$f":"INDEX('Cleaned Data'!L:L,MATCH($A553,$B$56:$B$1919,0))","v":4000}]
[499,{"$f":"B553+IF('Cleaned Data'!L500>0,1,0)*IF($B$34=\"Overall\",1,IF('Cleaned Data'!K500=$B$34,1,0))*(IF('Cleaned Data'!H500<>\"\",1,0))","v":55},{"$f":"INDEX('Cleaned Data'!H:H,MATCH($A554,$B$56:$B$1919,0))","v":10},{"$f":"INDEX('Cleaned Data'!L:L,MATCH($A554,$B$56:$B$1919,0))","v":25000}]
[500,{"$f":"B554+IF('Cleaned Data'!L501>0,1,0)*IF($B$34=\"Overall\",1,IF('Cleaned Data'!K501=$B$34,1,0))*(IF('Cleaned Data'!H501<>\"\",1,0))","v":56},{"$f":"INDEX('Cleaned Data'!H:H,MATCH($A555,$B$56:$B$1919,0))","v":3},{"$f":"INDEX('Cleaned Data'!L:L,MATCH($A555,$B$56:$B$1919,0))","v":5000}]
[501,{"$f":"B555+IF('Cleaned Data'!L502>0,1,0)*IF($B$34=\"Overall\",1,IF('Cleaned Data'!K502=$B$34,1,0))*(IF('Cleaned Data'!H502<>\"\",1,0))","v":57},{"$f":"INDEX('Cleaned Data'!H:H,MATCH($A556,$B$56:$B$1919,0))","v":6},{"$f":"INDEX('Cleaned Data'!L:L,MATCH($A556,$B$56:$B$1919,0))","v":8400}]
[502,{"$f":"B556+IF('Cleaned Data'!L503>0,1,0)*IF($B$34=\"Overall\",1,IF('Cleaned Data'!K503=$B$34,1,0))*(IF('Cleaned Data'!H503<>\"\",1,0))","v":58},{"$f":"INDEX('Cleaned Data'!H:H,MATCH($A557,$B$56:$B$1919,0))","v":5},{"$f":"INDEX('Cleaned Data'!L:L,MATCH($A557,$B$56:$B$1919,0))","v":20000}]
[503,{"$f":"B557+IF('Cleaned Data'!L504>0,1,0)*IF($B$34=\"Overall\",1,IF('Cleaned Data'!K504=$B$34,1,0))*(IF('Cleaned Data'!H504<>\"\",1,0))","v":59},{"$f":"INDEX('Cleaned Data'!H:H,MATCH($A558,$B$56:$B$1919,0))","v":5},{"$f":"INDEX('Cleaned Data'!L:L,MATCH($A558,$B$56:$B$1919,0))","v":21000}]
[504,{"$f":"B558+IF('Cleaned Data'!L505>0,1,0)*IF($B$34=\"Overall\",1,IF('Cleaned Data'!K505=$B$34,1,0))*(IF('Cleaned Data'!H505<>\"\",1,0))","v":60},{"$f":"INDEX('Cleaned Data'!H:H,MATCH($A559,$B$56:$B$1919,0))","v":5},{"$f":"INDEX('Cleaned Data'!L:L,MATCH($A559,$B$56:$B$1919,0))","v":10000}]
[505,{"$f":"B559+IF('Cleaned Data'!L506>0,1,0)*IF($B$34=\"Overall\",1,IF('Cleaned Data'!K506=$B$34,1,0))*(IF('Cleaned Data'!H506<>\"\",1,0))","v":61},{"$f":"INDEX('Cleaned Data'!H:H,MATCH($A560,$B$56:$B$1919,0))","v":1},{"$f":"INDEX('Cleaned Data'!L:L,MATCH($A560,$B$56:$B$1919,0))","v":15000}]
[506,{"$f":"B560+IF('Cleaned Data'!L507>0,1,0)*IF($B$34=\"Overall\",1,IF('Cleaned Data'!K507=$B$34,1,0))*(IF('Cleaned Data'!H507<>\"\",1,0))","v":62},{"$f":"INDEX('Cleaned Data'!H:H,MATCH($A561,$B$56:$B$1919,0))","v":7},{"$f":"INDEX('Cleaned Data'!L:L,MATCH($A561,$B$56:$B$1919,0))","v":30000}]
[507,{"$f":"B561+IF('Cleaned Data'!L508>0,1,0)*IF($B$34=\"Overall\",1,IF('Cleaned Data'!K508=$B$34,1,0))*(IF('Cleaned Data'!H508<>\"\",1,0))","v":63},{"$f":"INDEX('Cleaned Data'!H:H,MATCH($A562,$B$56:$B$1919,0))","v":14},{"$f":"INDEX('Cleaned Data'!L:L,MATCH($A562,$B$56:$B$1919,0))","v":98000}]
[508,{"$f":"B562+IF('Cleaned Data'!L509>0,1,0)*IF($B$34=\"Overall\",1,IF('Cleaned Data'!K509=$B$34,1,0))*(IF('Cleaned Data'!H509<>\"\",1,0))","v":64},{"$f":"INDEX('Cleaned Data'!H:H,MATCH($A563,$B$56:$B$1919,0))","v":4},{"$f":"INDEX('Cleaned Data'!L:L,MATCH($A563,$B$56:$B$1919,0))","v":4500}]
[509,{"$f":"B563+IF('Cleaned Data'!L510>0,1,0)*IF($B$34=\"Overall\",1,IF('Cleaned Data'!K510=$B$34,1,0))*(IF('Cleaned Data'!H510<>\"\",1,0))","v":65},{"$f":"INDEX('Cleaned Data'!H:H,MATCH($A564,$B$56:$B$1919,0))","v":16},{"$f":"INDEX('Cleaned Data'!L:L,MATCH($A564,$B$56:$B$1919,0))","v":60000}]
[510,{"$f":"B564+IF('Cleaned Data'!L511>0,1,0)*IF($B$34=\"Overall\",1,IF('Cleaned Data'!K511=$B$34,1,0))*(IF('Cleaned Data'!H511<>\"\",1,0))","v":66},{"$f":"INDEX('Cleaned Data'!H:H,MATCH($A565,$B$56:$B$1919,0))","v":2},{"$f":"INDEX('Cleaned Data'!L:L,MATCH($A565,$B$56:$B$1919,0))","v":15000}]
[511,{"$f":"B565+IF('Cleaned Data'!L512>0,1,0)*IF($B$34=\"Overall\",1,IF('Cleaned Data'!K512=$B$34,1,0))*(IF('Cleaned Data'!H512<>\"\",1,0))","v":67},{"$f":"INDEX('Cleaned Data'!H:H,MATCH($A566,$B$56:$B$1919,0))","v":3},{"$f":"INDEX('Cleaned Data'!L:L,MATCH($A566,$B$56:$B$1919,0))","v":36000}]
[512,{"$f":"B566+IF('Cleaned Data'!L513>0,1,0)*IF($B$34=\"Overall\",1,IF('Cleaned Data'!K513=$B$34,1,0))*(IF('Cleaned Data'!H513<>\"\",1,0))","v":68},{"$f":"INDEX('Cleaned Data'!H:H,MATCH($A567,$B$56:$B$1919,0))","v":12},{"$f":"INDEX('Cleaned Data'!L:L,MATCH($A567,$B$56:$B$1919,0))","v":35000}]
[513,{"$f":"B567+IF('Cleaned Data'!L514>0,1,0)*IF($B$34=\"Overall\",1,IF('Cleaned Data'!K514=$B$34,1,0))*(IF('Cleaned Data'!H514<>\"\",1,0))","v":69},{"$f":"INDEX('Cleaned Data'!H:H,MATCH($A568,$B$56:$B$1919,0))","v":0},{"$f":"INDEX('Cleaned Data'!L:L,MATCH($A568,$B$56:$B$1919,0))","v":12000}]
[514,{"$f":"B568+IF('Cleaned Data'!L515>0,1,0)*IF($B$34=\"Overall\",1,IF('Cleaned Data'!K515=$B$34,1,0))*(IF('Cleaned Data'!H515<>\"\",1,0))","v":70},{"$f":"INDEX('Cleaned Data'!H:H,MATCH($A569,$B$56:$B$1919,0))","v":0},{"$f":"INDEX('Cleaned Data'!L:L,MATCH($A569,$B$56:$B$1919,0))","v":24000}]
[515,{"$f":"B569+IF('Cleaned Data'!L516>0,1,0)*IF($B$34=\"Overall\",1,IF('Cleaned Data'!K516=$B$34,1,0))*(IF('Cleaned Data'!H516<>\"\",1,0))","v":71},{"$f":"INDEX('Cleaned Data'!H:H,MATCH($A570,$B$56:$B$1919,0))","v":10},{"$f":"INDEX('Cleaned Data'!L:L,MATCH($A570,$B$56:$B$1919,0))","v":15000}]
[516,{"$f":"B570+IF('Cleaned Data'!L517>0,1,0)*IF($B$34=\"Overall\",1,IF('Cleaned Data'!K517=$B$34,1,0))*(IF('Cleaned Data'!H517<>\"\",1,0))","v":72},{"$f":"INDEX('Cleaned Data'!H:H,MATCH($A571,$B$56:$B$1919,0))","v":0},{"$f":"INDEX('Cleaned Data'!L:L,MATCH($A571,$B$56:$B$1919,0))","v":12000}]
[517,{"$f":"B571+IF('Cleaned Data'!L518>0,1,0)*IF($B$34=\"Overall\",1,IF('Cleaned Data'!K518=$B$34,1,0))*(IF('Cleaned Data'!H518<>\"\",1,0))","v":73},{"$f":"INDEX('Cleaned Data'!H:H,MATCH($A572,$B$56:$B$1919,0))","v":12},{"$f":"INDEX('Cleaned Data'!L:L,MATCH($A572,$B$56:$B$1919,0))","v":16800}]
[518,{"$f":"B572+IF('Cleaned Data'!L519>0,1,0)*IF($B$34=\"Overall\",1,IF('Cleaned Data'!K519=$B$34,1,0))*(IF('Cleaned Data'!H519<>\"\",1,0))","v":74},{"$f":"INDEX('Cleaned Data'!H:H,MATCH($A573,$B$56:$B$1919,0))","v":15},{"$f":"INDEX('Cleaned Data'!L:L,MATCH($A573,$B$56:$B$1919,0))","v":5022}]
[519,{"$f":"B573+IF('Cleaned Data'!L520>0,1,0)*IF($B$34=\"Overall\",1,IF('Cleaned Data'!K520=$B$34,1,0))*(IF('Cleaned Data'!H520<>\"\",1,0))","v":75},{"$f":"INDEX('Cleaned Data'!H:H,MATCH($A574,$B$56:$B$1919,0))","v":2},{"$f":"INDEX('Cleaned Data'!L:L,MATCH($A574,$B$56:$B$1919,0))","v":3000}]
[520,{"$f":"B574+IF('Cleaned Data'!L521>0,1,0)*IF($B$34=\"Overall\",1,IF('Cleaned Data'!K521=$B$34,1,0))*(IF('Cleaned Data'!H521<>\"\",1,0))","v":76},{"$f":"INDEX('Cleaned Data'!H:H,MATCH($A575,$B$56:$B$1919,0))","v":6},{"$f":"INDEX('Cleaned Data'!L:L,MATCH($A575,$B$56:$B$1919,0))","v":3480}]
[521,{"$f":"B575+IF('Cleaned Data'!L522>0,1,0)*IF($B$34=\"Overall\",1,IF('Cleaned Data'!K522=$B$34,1,0))*(IF('Cleaned Data'!H522<>\"\",1,0))","v":77},{"$f":"INDEX('Cleaned Data'!H:H,MATCH($A576,$B$56:$B$1919,0))","v":5},{"$f":"INDEX('Cleaned Data'!L:L,MATCH($A576,$B$56:$B$1919,0))","v":10800}]
[522,{"$f":"B576+IF('Cleaned Data'!L523>0,1,0)*IF($B$34=\"Overall\",1,IF('Cleaned Data'!K523=$B$34,1,0))*(IF('Cleaned Data'!H523<>\"\",1,0))","v":78},{"$f":"INDEX('Cleaned Data'!H:H,MATCH($A577,$B$56:$B$1919,0))","v":15},{"$f":"INDEX('Cleaned Data'!L:L,MATCH($A577,$B$56:$B$1919,0))","v":2400}]
[523,{"$f":"B577+IF('Cleaned Data'!L524>0,1,0)*IF($B$34=\"Overall\",1,IF('Cleaned Data'!K524=$B$34,1,0))*(IF('Cleaned Data'!H524<>\"\",1,0))","v":79},{"$f":"INDEX('Cleaned Data'!H:H,MATCH($A578,$B$56:$B$1919,0))","v":4},{"$f":"INDEX('Cleaned Data'!L:L,MATCH($A578,$B$56:$B$1919,0))","v":3500}]
[524,{"$f":"B578+IF('Cleaned Data'!L525>0,1,0)*IF($B$34=\"Overall\",1,IF('Cleaned Data'!K525=$B$34,1,0))*(IF('Cleaned Data'!H525<>\"\",1,0))","v":80},{"$f":"INDEX('Cleaned Data'!H:H,MATCH($A579,$B$56:$B$1919,0))","v":18},{"$f":"INDEX('Cleaned Data'!L:L,MATCH($A579,$B$56:$B$1919,0))","v":8725}]
[525,{"$f":"B579+IF('Cleaned Data'!L526>0,1,0)*IF($B$34=\"Overall\",1,IF('Cleaned Data'!K526=$B$34,1,0))*(IF('Cleaned Data'!H526<>\"\",1,0))","v":81},{"$f":"INDEX('Cleaned Data'!H:H,MATCH($A580,$B$56:$B$1919,0))","v":15},{"$f":"INDEX('Cleaned Data'!L:L,MATCH($A580,$B$56:$B$1919,0))","v":40000}]
[526,{"$f":"B580+IF('Cleaned Data'!L527>0,1,0)*IF($B$34=\"Overall\",1,IF('Cleaned Data'!K527=$B$34,1,0))*(IF('Cleaned Data'!H527<>\"\",1,0))","v":82},{"$f":"INDEX('Cleaned Data'!H:H,MATCH($A581,$B$56:$B$1919,0))","v":1},{"$f":"INDEX('Cleaned Data'!L:L,MATCH($A581,$B$56:$B$1919,0))","v":12000}]
[527,{"$f":"B581+IF('Cleaned Data'!L528>0,1,0)*IF($B$34=\"Overall\",1,IF('Cleaned Data'!K528=$B$34,1,0))*(IF('Cleaned Data'!H528<>\"\",1,0))","v":83},{"$f":"INDEX('Cleaned Data'!H:H,MATCH($A582,$B$56:$B$1919,0))","v":8},{"$f":"INDEX('Cleaned Data'!L:L,MATCH($A582,$B$56:$B$1919,0))","v":45000}]
[528,{"$f":"B582+IF('Cleaned Data'!L529>0,1,0)*IF($B$34=\"Overall\",1,IF('Cleaned Data'!K529=$B$34,1,0))*(IF('Cleaned Data'!H529<>\"\",1,0))","v":84},{"$f":"INDEX('Cleaned Data'!H:H,MATCH($A583,$B$56:$B$1919,0))","v":5},{"$f":"INDEX('Cleaned Data'!L:L,MATCH($A583,$B$56:$B$1919,0))","v":5300}]
[529,{"$f":"B583+IF('Cleaned Data'!L530>0,1,0)*IF($B$34=\"Overall\",1,IF('Cleaned Data'!K530=$B$34,1,0))*(IF('Cleaned Data'!H530<>\"\",1,0))","v":85},{"$f":"INDEX('Cleaned Data'!H:H,MATCH($A584,$B$56:$B$1919,0))","v":5},{"$f":"INDEX('Cleaned Data'!L:L,MATCH($A584,$B$56:$B$1919,0))","v":30000}]
[530,{"$f":"B584+IF('Cleaned Data'!L531>0,1,0)*IF($B$34=\"Overall\",1,IF('Cleaned Data'!K531=$B$34,1,0))*(IF('Cleaned Data'!H531<>\"\",1,0))","v":86},{"$f":"INDEX('Cleaned Data'!H:H,MATCH($A585,$B$56:$B$1919,0))","v":6},{"$f":"INDEX('Cleaned Data'!L:L,MATCH($A585,$B$56:$B$1919,0))","v":4500}]
[531,{"$f":"B585+IF('Cleaned Data'!L532>0,1,0)*IF($B$34=\"Overall\",1,IF('Cleaned Data'!K532=$B$34,1,0))*(IF('Cleaned Data'!H532<>\"\",1,0))","v":87},{"$f":"INDEX('Cleaned Data'!H:H,MATCH($A586,$B$56:$B$1919,0))","v":8},{"$f":"INDEX('Cleaned Data'!L:L,MATCH($A586,$B$56:$B$1919,0))","v":15840}]
[532,{"$f":"B586+IF('Cleaned Data'!L533>0,1,0)*IF($B$34=\"Overall\",1,IF('Cleaned Data'!K533=$B$34,1,0))*(IF('Cleaned Data'!H533<>\"\",1,0))","v":88},{"$f":"INDEX('Cleaned Data'!H:H,MATCH($A587,$B$56:$B$1919,0))","v":20},{"$f":"INDEX('Cleaned Data'!L:L,MATCH($A587,$B$56:$B$1919,0))","v":19068}]
[533,{"$f":"B587+IF('Cleaned Data'!L534>0,1,0)*IF($B$34=\"Overall\",1,IF('Cleaned Data'!K534=$B$34,1,0))*(IF('Cleaned Data'!H534<>\"\",1,0))","v":89},{"$f":"INDEX('Cleaned Data'!H:H,MATCH($A588,$B$56:$B$1919,0))","v":12},{"$f":"INDEX('Cleaned Data'!L:L,MATCH($A588,$B$56:$B$1919,0))","v":18060}]
[534,{"$f":"B588+IF('Cleaned Data'!L535>0,1,0)*IF($B$34=\"Overall\",1,IF('Cleaned Data'!K535=$B$34,1,0))*(IF('Cleaned Data'!H535<>\"\",1,0))","v":90},{"$f":"INDEX('Cleaned Data'!H:H,MATCH($A589,$B$56:$B$1919,0))","v":7},{"$f":"INDEX('Cleaned Data'!L:L,MATCH($A589,$B$56:$B$1919,0))","v":12500}]
[535,{"$f":"B589+IF('Cleaned Data'!L536>0,1,0)*IF($B$34=\"Overall\",1,IF('Cleaned Data'!K536=$B$34,1,0))*(IF('Cleaned Data'!H536<>\"\",1,0))","v":91},{"$f":"INDEX('Cleaned Data'!H:H,MATCH($A590,$B$56:$B$1919,0))","v":3},{"$f":"INDEX('Cleaned Data'!L:L,MATCH($A590,$B$56:$B$1919,0))","v":4019}]
[536,{"$f":"B590+IF('Cleaned Data'!L537>0,1,0)*IF($B$34=\"Overall\",1,IF('Cleaned Data'!K537=$B$34,1,0))*(IF('Cleaned Data'!H537<>\"\",1,0))","v":92},{"$f":"INDEX('Cleaned Data'!H:H,MATCH($A591,$B$56:$B$1919,0))","v":15},{"$f":"INDEX('Cleaned Data'!L:L,MATCH($A591,$B$56:$B$1919,0))","v":12000}]
[537,{"$f":"B591+IF('Cleaned Data'!L538>0,1,0)*IF($B$34=\"Overall\",1,IF('Cleaned Data'!K538=$B$34,1,0))*(IF('Cleaned Data'!H538<>\"\",1,0))","v":93},{"$f":"INDEX('Cleaned Data'!H:H,MATCH($A592,$B$56:$B$1919,0))","v":20},{"$f":"INDEX('Cleaned Data'!L:L,MATCH($A592,$B$56:$B$1919,0))","v":13800}]
[538,{"$f":"B592+IF('Cleaned Data'!L539>0,1,0)*IF($B$34=\"Overall\",1,IF('Cleaned Data'!K539=$B$34,1,0))*(IF('Cleaned Data'!H539<>\"\",1,0))","v":94},{"$f":"INDEX('Cleaned Data'!H:H,MATCH($A593,$B$56:$B$1919,0))","v":4.5},{"$f":"INDEX('Cleaned Data'!L:L,MATCH($A593,$B$56:$B$1919,0))","v":11000}]
[539,{"$f":"B593+IF('Cleaned Data'!L540>0,1,0)*IF($B$34=\"Overall\",1,IF('Cleaned Data'!K540=$B$34,1,0))*(IF('Cleaned Data'!H540<>\"\",1,0))","v":95},{"$f":"INDEX('Cleaned Data'!H:H,MATCH($A594,$B$56:$B$1919,0))","v":10},{"$f":"INDEX('Cleaned Data'!L:L,MATCH($A594,$B$56:$B$1919,0))","v":85000}]
[540,{"$f":"B594+IF('Cleaned Data'!L541>0,1,0)*IF($B$34=\"Overall\",1,IF('Cleaned Data'!K541=$B$34,1,0))*(IF('Cleaned Data'!H541<>\"\",1,0))","v":96},{"$f":"INDEX('Cleaned Data'!H:H,MATCH($A595,$B$56:$B$1919,0))","v":0},{"$f":"INDEX('Cleaned Data'!L:L,MATCH($A595,$B$56:$B$1919,0))","v":138000}]
[541,{"$f":"B595+IF('Cleaned Data'!L542>0,1,0)*IF($B$34=\"Overall\",1,IF('Cleaned Data'!K542=$B$34,1,0))*(IF('Cleaned Data'!H542<>\"\",1,0))","v":97},{"$f":"INDEX('Cleaned Data'!H:H,MATCH($A596,$B$56:$B$1919,0))","v":10},{"$f":"INDEX('Cleaned Data'!L:L,MATCH($A596,$B$56:$B$1919,0))","v":70000}]
[542,{"$f":"B596+IF('Cleaned Data'!L543>0,1,0)*IF($B$34=\"Overall\",1,IF('Cleaned Data'!K543=$B$34,1,0))*(IF('Cleaned Data'!H543<>\"\",1,0))","v":98},{"$f":"INDEX('Cleaned Data'!H:H,MATCH($A597,$B$56:$B$1919,0))","v":4},{"$f":"INDEX('Cleaned Data'!L:L,MATCH($A597,$B$56:$B$1919,0))","v":10000}]
[543,{"$f":"B597+IF('Cleaned Data'!L544>0,1,0)*IF($B$34=\"Overall\",1,IF('Cleaned Data'!K544=$B$34,1,0))*(IF('Cleaned Data'!H544<>\"\",1,0))","v":99},{"$f":"INDEX('Cleaned Data'!H:H,MATCH($A598,$B$56:$B$1919,0))","v":{"$error":"#N/A"}},{"$f":"INDEX('Cleaned Data'!L:L,MATCH($A598,$B$56:$B$1919,0))","v":{"$error":"#N/A"}}]
[544,{"$f":"B598+IF('Cleaned Data'!L545>0,1,0)*IF($B$34=\"Overall\",1,IF('Cleaned Data'!K545=$B$34,1,0))*(IF('Cleaned Data'!H545<>\"\",1,0))","v":100},{"$f":"INDEX('Cleaned Data'!H:H,MATCH($A599,$B$56:$B$1919,0))","v":{"$error":"#N/A"}},{"$f":"INDEX('Cleaned Data'!L:L,MATCH($A599,$B$56:$B$1919,0))","v":{"$error":"#N/A"}}]
[545,{"$f":"B599+IF('Cleaned Data'!L546>0,1,0)*IF($B$34=\"Overall\",1,IF('Cleaned Data'!K546=$B$34,1,0))*(IF('Cleaned Data'!H546<>\"\",1,0))","v":101},{"$f":"INDEX('Cleaned Data'!H:H,MATCH($A600,$B$56:$B$1919,0))","v":{"$error":"#N/A"}},{"$f":"INDEX('Cleaned Data'!L:L,MATCH($A600,$B$56:$B$1919,0))","v":{"$error":"#N/A"}}]
[546,{"$f":"B600+IF('Cleaned Data'!L547>0,1,0)*IF($B$34=\"Overall\",1,IF('Cleaned Data'!K547=$B$34,1,0))*(IF('Cleaned Data'!H547<>\"\",1,0))","v":102},{"$f":"INDEX('Cleaned Data'!H:H,MATCH($A601,$B$56:$B$1919,0))","v":{"$error":"#N/A"}},{"$f":"INDEX('Cleaned Data'!L:L,MATCH($A601,$B$56:$B$1919,0))","v":{"$error":"#N/A"}}]
[547,{"$f":"B601+IF('Cleaned Data'!L548>0,1,0)*IF($B$34=\"Overall\",1,IF('Cleaned Data'!K548=$B$34,1,0))*(IF('Cleaned Data'!H548<>\"\",1,0))","v":103},{"$f":"INDEX('Cleaned Data'!H:H,MATCH($A602,$B$56:$B$1919,0))","v":{"$error":"#N/A"}},{"$f":"INDEX('Cleaned Data'!L:L,MATCH($A602,$B$56:$B$1919,0))","v":{"$error":"#N/A"}}]
[548,{"$f":"B602+IF('Cleaned Data'!L549>0,1,0)*IF($B$34=\"Overall\",1,IF('Cleaned Data'!K549=$B$34,1,0))*(IF('Cleaned Data'!H549<>\"\",1,0))","v":104},{"$f":"INDEX('Cleaned Data'!H:H,MATCH($A603,$B$56:$B$1919,0))","v":{"$error":"#N/A"}},{"$f":"INDEX('Cleaned Data'!L:L,MATCH($A603,$B$56:$B$1919,0))","v":{"$error":"#N/A"}}]
[549,{"$f":"B603+IF('Cleaned Data'!L550>0,1,0)*IF($B$34=\"Overall\",1,IF('Cleaned Data'!K550=$B$34,1,0))*(IF('Cleaned Data'!H550<>\"\",1,0))","v":105},{"$f":"INDEX('Cleaned Data'!H:H,MATCH($A604,$B$56:$B$1919,0))","v":{"$error":"#N/A"}},{"$f":"INDEX('Cleaned Data'!L:L,MATCH($A604,$B$56:$B$1919,0))","v":{"$error":"#N/A"}}]
[550,{"$f":"B604+IF('Cleaned Data'!L551>0,1,0)*IF($B$34=\"Overall\",1,IF('Cleaned Data'!K551=$B$34,1,0))*(IF('Cleaned Data'!H551<>\"\",1,0))","v":106},{"$f":"INDEX('Cleaned Data'!H:H,MATCH($A605,$B$56:$B$1919,0))","v":{"$error":"#N/A"}},{"$f":"INDEX('Cleaned Data'!L:L,MATCH($A605,$B$56:$B$1919,0))","v":{"$error":"#N/A"}}]
[551,{"$f":"B605+IF('Cleaned Data'!L552>0,1,0)*IF($B$34=\"Overall\",1,IF('Cleaned Data'!K552=$B$34,1,0))*(IF('Cleaned Data'!H552<>\"\",1,0))","v":107},{"$f":"INDEX('Cleaned Data'!H:H,MATCH($A606,$B$56:$B$1919,0))","v":{"$error":"#N/A"}},{"$f":"INDEX('Cleaned Data'!L:L,MATCH($A606,$B$56:$B$1919,0))","v":{"$error":"#N/A"}}]
[552,{"$f":"B606+IF('Cleaned Data'!L553>0,1,0)*IF($B$34=\"Overall\",1,IF('Cleaned Data'!K553=$B$34,1,0))*(IF('Cleaned Data'!H553<>\"\",1,0))","v":108},{"$f":"INDEX('Cleaned Data'!H:H,MATCH($A607,$B$56:$B$1919,0))","v":{"$error":"#N/A"}},{"$f":"INDEX('Cleaned Data'!L:L,MATCH($A607,$B$56:$B$1919,0))","v":{"$error":"#N/A"}}]
[553,{"$f":"B607+IF('Cleaned Data'!L554>0,1,0)*IF($B$34=\"Overall\",1,IF('Cleaned Data'!K554=$B$34,1,0))*(IF('Cleaned Data'!H554<>\"\",1,0))","v":109},{"$f":"INDEX('Cleaned Data'!H:H,MATCH($A608,$B$56:$B$1919,0))","v":{"$error":"#N/A"}},{"$f":"INDEX('Cleaned Data'!L:L,MATCH($A608,$B$56:$B$1919,0))","v":{"$error":"#N/A"}}]
[554,{"$f":"B608+IF('Cleaned Data'!L555>0,1,0)*IF($B$34=\"Overall\",1,IF('Cleaned Data'!K555=$B$34,1,0))*(IF('Cleaned Data'!H555<>\"\",1,0))","v":110},{"$f":"INDEX('Cleaned Data'!H:H,MATCH($A609,$B$56:$B$1919,0))","v":{"$error":"#N/A"}},{"$f":"INDEX('Cleaned Data'!L:L,MATCH($A609,$B$56:$B$1919,0))","v":{"$error":"#N/A"}}]
[555,{"$f":"B609+IF('Cleaned Data'!L556>0,1,0)*IF($B$34=\"Overall\",1,IF('Cleaned Data'!K556=$B$34,1,0))*(IF('Cleaned Data'!H556<>\"\",1,0))","v":111},{"$f":"INDEX('Cleaned Data'!H:H,MATCH($A610,$B$56:$B$1919,0))","v":{"$error":"#N/A"}},{"$f":"INDEX('Cleaned Data'!L:L,MATCH($A610,$B$56:$B$1919,0))","v":{"$error":"#N/A"}}]
[556,{"$f":"B610+IF('Cleaned Data'!L557>0,1,0)*IF($B$34=\"Overall\",1,IF('Cleaned Data'!K557=$B$34,1,0))*(IF('Cleaned Data'!H557<>\"\",1,0))","v":112},{"$f":"INDEX('Cleaned Data'!H:H,MATCH($A611,$B$56:$B$1919,0))","v":{"$error":"#N/A"}},{"$f":"INDEX('Cleaned Data'!L:L,MATCH($A611,$B$56:$B$1919,0))","v":{"$error":"#N/A"}}]
[557,{"$f":"B611+IF('Cleaned Data'!L558>0,1,0)*IF($B$34=\"Overall\",1,IF('Cleaned Data'!K558=$B$34,1,0))*(IF('Cleaned Data'!H558<>\"\",1,0))","v":113},{"$f":"INDEX('Cleaned Data'!H:H,MATCH($A612,$B$56:$B$1919,0))","v":{"$error":"#N/A"}},{"$f":"INDEX('Cleaned Data'!L:L,MATCH($A612,$B$56:$B$1919,0))","v":{"$error":"#N/A"}}]
[558,{"$f":"B612+IF('Cleaned Data'!L559>0,1,0)*IF($B$34=\"Overall\",1,IF('Cleaned Data'!K559=$B$34,1,0))*(IF('Cleaned Data'!H559<>\"\",1,0))","v":114},{"$f":"INDEX('Cleaned Data'!H:H,MATCH($A613,$B$56:$B$1919,0))","v":{"$error":"#N/A"}},{"$f":"INDEX('Cleaned Data'!L:L,MATCH($A613,$B$56:$B$1919,0))","v":{"$error":"#N/A"}}]
[559,{"$f":"B613+IF('Cleaned Data'!L560>0,1,0)*IF($B$34=\"Overall\",1,IF('Cleaned Data'!K560=$B$34,1,0))*(IF('Cleaned Data'!H560<>\"\",1,0))","v":115},{"$f":"INDEX('Cleaned Data'!H:H,MATCH($A614,$B$56:$B$1919,0))","v":{"$error":"#N/A"}},{"$f":"INDEX('Cleaned Data'!L:L,MATCH($A614,$B$56:$B$1919,0))","v":{"$error":"#N/A"}}]
[560,{"$f":"B614+IF('Cleaned Data'!L561>0,1,0)*IF($B$34=\"Overall\",1,IF('Cleaned Data'!K561=$B$34,1,0))*(IF('Cleaned Data'!H561<>\"\",1,0))","v":116},{"$f":"INDEX('Cleaned Data'!H:H,MATCH($A615,$B$56:$B$1919,0))","v":{"$error":"#N/A"}},{"$f":"INDEX('Cleaned Data'!L:L,MATCH($A615,$B$56:$B$1919,0))","v":{"$error":"#N/A"}}]
[561,{"$f":"B615+IF('Cleaned Data'!L562>0,1,0)*IF($B$34=\"Overall\",1,IF('Cleaned Data'!K562=$B$34,1,0))*(IF('Cleaned Data'!H562<>\"\",1,0))","v":117},{"$f":"INDEX('Cleaned Data'!H:H,MATCH($A616,$B$56:$B$1919,0))","v":{"$error":"#N/A"}},{"$f":"INDEX('Cleaned Data'!L:L,MATCH($A616,$B$56:$B$1919,0))","v":{"$error":"#N/A"}}]
[562,{"$f":"B616+IF('Cleaned Data'!L563>0,1,0)*IF($B$34=\"Overall\",1,IF('Cleaned Data'!K563=$B$34,1,0))*(IF('Cleaned Data'!H563<>\"\",1,0))","v":118},{"$f":"INDEX('Cleaned Data'!H:H,MATCH($A617,$B$56:$B$1919,0))","v":{"$error":"#N/A"}},{"$f":"INDEX('Cleaned Data'!L:L,MATCH($A617,$B$56:$B$1919,0))","v":{"$error":"#N/A"}}]
[563,{"$f":"B617+IF('Cleaned Data'!L564>0,1,0)*IF($B$34=\"Overall\",1,IF('Cleaned Data'!K564=$B$34,1,0))*(IF('Cleaned Data'!H564<>\"\",1,0))","v":119},{"$f":"INDEX('Cleaned Data'!H:H,MATCH($A618,$B$56:$B$1919,0))","v":{"$error":"#N/A"}},{"$f":"INDEX('Cleaned Data'!L:L,MATCH($A618,$B$56:$B$1919,0))","v":{"$error":"#N/A"}}]
[564,{"$f":"B618+IF('Cleaned Data'!L565>0,1,0)*IF($B$34=\"Overall\",1,IF('Cleaned Data'!K565=$B$34,1,0))*(IF('Cleaned Data'!H565<>\"\",1,0))","v":120},{"$f":"INDEX('Cleaned Data'!H:H,MATCH($A619,$B$56:$B$1919,0))","v":{"$error":"#N/A"}},{"$f":"INDEX('Cleaned Data'!L:L,MATCH($A619,$B$56:$B$1919,0))","v":{"$error":"#N/A"}}]
[565,{"$f":"B619+IF('Cleaned Data'!L566>0,1,0)*IF($B$34=\"Overall\",1,IF('Cleaned Data'!K566=$B$34,1,0))*(IF('Cleaned Data'!H566<>\"\",1,0))","v":121},{"$f":"INDEX('Cleaned Data'!H:H,MATCH($A620,$B$56:$B$1919,0))","v":{"$error":"#N/A"}},{"$f":"INDEX('Cleaned Data'!L:L,MATCH($A620,$B$56:$B$1919,0))","v":{"$error":"#N/A"}}]
[566,{"$f":"B620+IF('Cleaned Data'!L567>0,1,0)*IF($B$34=\"Overall\",1,IF('Cleaned Data'!K567=$B$34,1,0))*(IF('Cleaned Data'!H567<>\"\",1,0))","v":122},{"$f":"INDEX('Cleaned Data'!H:H,MATCH($A621,$B$56:$B$1919,0))","v":{"$error":"#N/A"}},{"$f":"INDEX('Cleaned Data'!L:L,MATCH($A621,$B$56:$B$1919,0))","v":{"$error":"#N/A"}}]
[567,{"$f":"B621+IF('Cleaned Data'!L568>0,1,0)*IF($B$34=\"Overall\",1,IF('Cleaned Data'!K568=$B$34,1,0))*(IF('Cleaned Data'!H568<>\"\",1,0))","v":123},{"$f":"INDEX('Cleaned Data'!H:H,MATCH($A622,$B$56:$B$1919,0))","v":{"$error":"#N/A"}},{"$f":"INDEX('Cleaned Data'!L:L,MATCH($A622,$B$56:$B$1919,0))","v":{"$error":"#N/A"}}]
[568,{"$f":"B622+IF('Cleaned Data'!L569>0,1,0)*IF($B$34=\"Overall\",1,IF('Cleaned Data'!K569=$B$34,1,0))*(IF('Cleaned Data'!H569<>\"\",1,0))","v":124},{"$f":"INDEX('Cleaned Data'!H:H,MATCH($A623,$B$56:$B$1919,0))","v":{"$error":"#N/A"}},{"$f":"INDEX('Cleaned Data'!L:L,MATCH($A623,$B$56:$B$1919,0))","v":{"$error":"#N/A"}}]
[569,{"$f":"B623+IF('Cleaned Data'!L570>0,1,0)*IF($B$34=\"Overall\",1,IF('Cleaned Data'!K570=$B$34,1,0))*(IF('Cleaned Data'!H570<>\"\",1,0))","v":125},{"$f":"INDEX('Cleaned Data'!H:H,MATCH($A624,$B$56:$B$1919,0))","v":{"$error":"#N/A"}},{"$f":"INDEX('Cleaned Data'!L:L,MATCH($A624,$B$56:$B$1919,0))","v":{"$error":"#N/A"}}]
[570,{"$f":"B624+IF('Cleaned Data'!L571>0,1,0)*IF($B$34=\"Overall\",1,IF('Cleaned Data'!K571=$B$34,1,0))*(IF('Cleaned Data'!H571<>\"\",1,0))","v":126},{"$f":"INDEX('Cleaned Data'!H:H,MATCH($A625,$B$56:$B$1919,0))","v":{"$error":"#N/A"}},{"$f":"INDEX('Cleaned Data'!L:L,MATCH($A625,$B$56:$B$1919,0))","v":{"$error":"#N/A"}}]
[571,{"$f":"B625+IF('Cleaned Data'!L572>0,1,0)*IF($B$34=\"Overall\",1,IF('Cleaned Data'!K572=$B$34,1,0))*(IF('Cleaned Data'!H572<>\"\",1,0))","v":127},{"$f":"INDEX('Cleaned Data'!H:H,MATCH($A626,$B$56:$B$1919,0))","v":{"$error":"#N/A"}},{"$f":"INDEX('Cleaned Data'!L:L,MATCH($A626,$B$56:$B$1919,0))","v":{"$error":"#N/A"}}]
[572,{"$f":"B626+IF('Cleaned Data'!L573>0,1,0)*IF($B$34=\"Overall\",1,IF('Cleaned Data'!K573=$B$34,1,0))*(IF('Cleaned Data'!H573<>\"\",1,0))","v":128},{"$f":"INDEX('Cleaned Data'!H:H,MATCH($A627,$B$56:$B$1919,0))","v":{"$error":"#N/A"}},{"$f":"INDEX('Cleaned Data'!L:L,MATCH($A627,$B$56:$B$1919,0))","v":{"$error":"#N/A"}}]
[573,{"$f":"B627+IF('Cleaned Data'!L574>0,1,0)*IF($B$34=\"Overall\",1,IF('Cleaned Data'!K574=$B$34,1,0))*(IF('Cleaned Data'!H574<>\"\",1,0))","v":129},{"$f":"INDEX('Cleaned Data'!H:H,MATCH($A628,$B$56:$B$1919,0))","v":{"$error":"#N/A"}},{"$f":"INDEX('Cleaned Data'!L:L,MATCH($A628,$B$56:$B$1919,0))","v":{"$error":"#N/A"}}]
[574,{"$f":"B628+IF('Cleaned Data'!L575>0,1,0)*IF($B$34=\"Overall\",1,IF('Cleaned Data'!K575=$B$34,1,0))*(IF('Cleaned Data'!H575<>\"\",1,0))","v":130},{"$f":"INDEX('Cleaned Data'!H:H,MATCH($A629,$B$56:$B$1919,0))","v":{"$error":"#N/A"}},{"$f":"INDEX('Cleaned Data'!L:L,MATCH($A629,$B$56:$B$1919,0))","v":{"$error":"#N/A"}}]
[575,{"$f":"B629+IF('Cleaned Data'!L576>0,1,0)*IF($B$34=\"Overall\",1,IF('Cleaned Data'!K576=$B$34,1,0))*(IF('Cleaned Data'!H576<>\"\",1,0))","v":131},{"$f":"INDEX('Cleaned Data'!H:H,MATCH($A630,$B$56:$B$1919,0))","v":{"$error":"#N/A"}},{"$f":"INDEX('Cleaned Data'!L:L,MATCH($A630,$B$56:$B$1919,0))","v":{"$error":"#N/A"}}]
[576,{"$f":"B630+IF('Cleaned Data'!L577>0,1,0)*IF($B$34=\"Overall\",1,IF('Cleaned Data'!K577=$B$34,1,0))*(IF('Cleaned Data'!H577<>\"\",1,0))","v":132},{"$f":"INDEX('Cleaned Data'!H:H,MATCH($A631,$B$56:$B$1919,0))","v":{"$error":"#N/A"}},{"$f":"INDEX('Cleaned Data'!L:L,MATCH($A631,$B$56:$B$1919,0))","v":{"$error":"#N/A"}}]
[577,{"$f":"B631+IF('Cleaned Data'!L578>0,1,0)*IF($B$34=\"Overall\",1,IF('Cleaned Data'!K578=$B$34,1,0))*(IF('Cleaned Data'!H578<>\"\",1,0))","v":133},{"$f":"INDEX('Cleaned Data'!H:H,MATCH($A632,$B$56:$B$1919,0))","v":{"$error":"#N/A"}},{"$f":"INDEX('Cleaned Data'!L:L,MATCH($A632,$B$56:$B$1919,0))","v":{"$error":"#N/A"}}]
[578,{"$f":"B632+IF('Cleaned Data'!L579>0,1,0)*IF($B$34=\"Overall\",1,IF('Cleaned Data'!K579=$B$34,1,0))*(IF('Cleaned Data'!H579<>\"\",1,0))","v":134},{"$f":"INDEX('Cleaned Data'!H:H,MATCH($A633,$B$56:$B$1919,0))","v":{"$error":"#N/A"}},{"$f":"INDEX('Cleaned Data'!L:L,MATCH($A633,$B$56:$B$1919,0))","v":{"$error":"#N/A"}}]
[579,{"$f":"B633+IF('Cleaned Data'!L580>0,1,0)*IF($B$34=\"Overall\",1,IF('Cleaned Data'!K580=$B$34,1,0))*(IF('Cleaned Data'!H580<>\"\",1,0))","v":135},{"$f":"INDEX('Cleaned Data'!H:H,MATCH($A634,$B$56:$B$1919,0))","v":{"$error":"#N/A"}},{"$f":"INDEX('Cleaned Data'!L:L,MATCH($A634,$B$56:$B$1919,0))","v":{"$error":"#N/A"}}]
[580,{"$f":"B634+IF('Cleaned Data'!L581>0,1,0)*IF($B$34=\"Overall\",1,IF('Cleaned Data'!K581=$B$34,1,0))*(IF('Cleaned Data'!H581<>\"\",1,0))","v":136},{"$f":"INDEX('Cleaned Data'!H:H,MATCH($A635,$B$56:$B$1919,0))","v":{"$error":"#N/A"}},{"$f":"INDEX('Cleaned Data'!L:L,MATCH($A635,$B$56:$B$1919,0))","v":{"$error":"#N/A"}}]
[581,{"$f":"B635+IF('Cleaned Data'!L582>0,1,0)*IF($B$34=\"Overall\",1,IF('Cleaned Data'!K582=$B$34,1,0))*(IF('Cleaned Data'!H582<>\"\",1,0))","v":137},{"$f":"INDEX('Cleaned Data'!H:H,MATCH($A636,$B$56:$B$1919,0))","v":{"$error":"#N/A"}},{"$f":"INDEX('Cleaned Data'!L:L,MATCH($A636,$B$56:$B$1919,0))","v":{"$error":"#N/A"}}]
[582,{"$f":"B636+IF('Cleaned Data'!L583>0,1,0)*IF($B$34=\"Overall\",1,IF('Cleaned Data'!K583=$B$34,1,0))*(IF('Cleaned Data'!H583<>\"\",1,0))","v":138},{"$f":"INDEX('Cleaned Data'!H:H,MATCH($A637,$B$56:$B$1919,0))","v":{"$error":"#N/A"}},{"$f":"INDEX('Cleaned Data'!L:L,MATCH($A637,$B$56:$B$1919,0))","v":{"$error":"#N/A"}}]
[583,{"$f":"B637+IF('Cleaned Data'!L584>0,1,0)*IF($B$34=\"Overall\",1,IF('Cleaned Data'!K584=$B$34,1,0))*(IF('Cleaned Data'!H584<>\"\",1,0))","v":139},{"$f":"INDEX('Cleaned Data'!H:H,MATCH($A638,$B$56:$B$1919,0))","v":{"$error":"#N/A"}},{"$f":"INDEX('Cleaned Data'!L:L,MATCH($A638,$B$56:$B$1919,0))","v":{"$error":"#N/A"}}]
[584,{"$f":"B638+IF('Cleaned Data'!L585>0,1,0)*IF($B$34=\"Overall\",1,IF('Cleaned Data'!K585=$B$34,1,0))*(IF('Cleaned Data'!H585<>\"\",1,0))","v":140},{"$f":"INDEX('Cleaned Data'!H:H,MATCH($A639,$B$56:$B$1919,0))","v":{"$error":"#N/A"}},{"$f":"INDEX('Cleaned Data'!L:L,MATCH($A639,$B$56:$B$1919,0))","v":{"$error":"#N/A"}}]
[585,{"$f":"B639+IF('Cleaned Data'!L586>0,1,0)*IF($B$34=\"Overall\",1,IF('Cleaned Data'!K586=$B$34,1,0))*(IF('Cleaned Data'!H586<>\"\",1,0))","v":141},{"$f":"INDEX('Cleaned Data'!H:H,MATCH($A640,$B$56:$B$1919,0))","v":{"$error":"#N/A"}},{"$f":"INDEX('Cleaned Data'!L:L,MATCH($A640,$B$56:$B$1919,0))","v":{"$error":"#N/A"}}]
[586,{"$f":"B640+IF('Cleaned Data'!L587>0,1,0)*IF($B$34=\"Overall\",1,IF('Cleaned Data'!K587=$B$34,1,0))*(IF('Cleaned Data'!H587<>\"\",1,0))","v":142},{"$f":"INDEX('Cleaned Data'!H:H,MATCH($A641,$B$56:$B$1919,0))","v":{"$error":"#N/A"}},{"$f":"INDEX('Cleaned Data'!L:L,MATCH($A641,$B$56:$B$1919,0))","v":{"$error":"#N/A"}}]
[587,{"$f":"B641+IF('Cleaned Data'!L588>0,1,0)*IF($B$34=\"Overall\",1,IF('Cleaned Data'!K588=$B$34,1,0))*(IF('Cleaned Data'!H588<>\"\",1,0))","v":143},{"$f":"INDEX('Cleaned Data'!H:H,MATCH($A642,$B$56:$B$1919,0))","v":{"$error":"#N/A"}},{"$f":"INDEX('Cleaned Data'!L:L,MATCH($A642,$B$56:$B$1919,0))","v":{"$error":"#N/A"}}]
[588,{"$f":"B642+IF('Cleaned Data'!L589>0,1,0)*IF($B$34=\"Overall\",1,IF('Cleaned Data'!K589=$B$34,1,0))*(IF('Cleaned Data'!H589<>\"\",1,0))","v":144},{"$f":"INDEX('Cleaned Data'!H:H,MATCH($A643,$B$56:$B$1919,0))","v":{"$error":"#N/A"}},{"$f":"INDEX('Cleaned Data'!L:L,MATCH($A643,$B$56:$B$1919,0))","v":{"$error":"#N/A"}}]
[589,{"$f":"B643+IF('Cleaned Data'!L590>0,1,0)*IF($B$34=\"Overall\",1,IF('Cleaned Data'!K590=$B$34,1,0))*(IF('Cleaned Data'!H590<>\"\",1,0))","v":145},{"$f":"INDEX('Cleaned Data'!H:H,MATCH($A644,$B$56:$B$1919,0))","v":{"$error":"#N/A"}},{"$f":"INDEX('Cleaned Data'!L:L,MATCH($A644,$B$56:$B$1919,0))","v":{"$error":"#N/A"}}]
[590,{"$f":"B644+IF('Cleaned Data'!L591>0,1,0)*IF($B$34=\"Overall\",1,IF('Cleaned Data'!K591=$B$34,1,0))*(IF('Cleaned Data'!H591<>\"\",1,0))","v":146},{"$f":"INDEX('Cleaned Data'!H:H,MATCH($A645,$B$56:$B$1919,0))","v":{"$error":"#N/A"}},{"$f":"INDEX('Cleaned Data'!L:L,MATCH($A645,$B$56:$B$1919,0))","v":{"$error":"#N/A"}}]
[591,{"$f":"B645+IF('Cleaned Data'!L592>0,1,0)*IF($B$34=\"Overall\",1,IF('Cleaned Data'!K592=$B$34,1,0))*(IF('Cleaned Data'!H592<>\"\",1,0))","v":147},{"$f":"INDEX('Cleaned Data'!H:H,MATCH($A646,$B$56:$B$1919,0))","v":{"$error":"#N/A"}},{"$f":"INDEX('Cleaned Data'!L:L,MATCH($A646,$B$56:$B$1919,0))","v":{"$error":"#N/A"}}]
[592,{"$f":"B646+IF('Cleaned Data'!L593>0,1,0)*IF($B$34=\"Overall\",1,IF('Cleaned Data'!K593=$B$34,1,0))*(IF('Cleaned Data'!H593<>\"\",1,0))","v":148},{"$f":"INDEX('Cleaned Data'!H:H,MATCH($A647,$B$56:$B$1919,0))","v":{"$error":"#N/A"}},{"$f":"INDEX('Cleaned Data'!L:L,MATCH($A647,$B$56:$B$1919,0))","v":{"$error":"#N/A"}}]
[593,{"$f":"B647+IF('Cleaned Data'!L594>0,1,0)*IF($B$34=\"Overall\",1,IF('Cleaned Data'!K594=$B$34,1,0))*(IF('Cleaned Data'!H594<>\"\",1,0))","v":149},{"$f":"INDEX('Cleaned Data'!H:H,MATCH($A648,$B$56:$B$1919,0))","v":{"$error":"#N/A"}},{"$f":"INDEX('Cleaned Data'!L:L,MATCH($A648,$B$56:$B$1919,0))","v":{"$error":"#N/A"}}]
[594,{"$f":"B648+IF('Cleaned Data'!L595>0,1,0)*IF($B$34=\"Overall\",1,IF('Cleaned Data'!K595=$B$34,1,0))*(IF('Cleaned Data'!H595<>\"\",1,0))","v":150},{"$f":"INDEX('Cleaned Data'!H:H,MATCH($A649,$B$56:$B$1919,0))","v":{"$error":"#N/A"}},{"$f":"INDEX('Cleaned Data'!L:L,MATCH($A649,$B$56:$B$1919,0))","v":{"$error":"#N/A"}}]
[595,{"$f":"B649+IF('Cleaned Data'!L596>0,1,0)*IF($B$34=\"Overall\",1,IF('Cleaned Data'!K596=$B$34,1,0))*(IF('Cleaned Data'!H596<>\"\",1,0))","v":151},{"$f":"INDEX('Cleaned Data'!H:H,MATCH($A650,$B$56:$B$1919,0))","v":{"$error":"#N/A"}},{"$f":"INDEX('Cleaned Data'!L:L,MATCH($A650,$B$56:$B$1919,0))","v":{"$error":"#N/A"}}]
[596,{"$f":"B650+IF('Cleaned Data'!L597>0,1,0)*IF($B$34=\"Overall\",1,IF('Cleaned Data'!K597=$B$34,1,0))*(IF('Cleaned Data'!H597<>\"\",1,0))","v":152},{"$f":"INDEX('Cleaned Data'!H:H,MATCH($A651,$B$56:$B$1919,0))","v":{"$error":"#N/A"}},{"$f":"INDEX('Cleaned Data'!L:L,MATCH($A651,$B$56:$B$1919,0))","v":{"$error":"#N/A"}}]
[597,{"$f":"B651+IF('Cleaned Data'!L598>0,1,0)*IF($B$34=\"Overall\",1,IF('Cleaned Data'!K598=$B$34,1,0))*(IF('Cleaned Data'!H598<>\"\",1,0))","v":153},{"$f":"INDEX('Cleaned Data'!H:H,MATCH($A652,$B$56:$B$1919,0))","v":{"$error":"#N/A"}},{"$f":"INDEX('Cleaned Data'!L:L,MATCH($A652,$B$56:$B$1919,0))","v":{"$error":"#N/A"}}]
[598,{"$f":"B652+IF('Cleaned Data'!L599>0,1,0)*IF($B$34=\"Overall\",1,IF('Cleaned Data'!K599=$B$34,1,0))*(IF('Cleaned Data'!H599<>\"\",1,0))","v":154},{"$f":"INDEX('Cleaned Data'!H:H,MATCH($A653,$B$56:$B$1919,0))","v":{"$error":"#N/A"}},{"$f":"INDEX('Cleaned Data'!L:L,MATCH($A653,$B$56:$B$1919,0))","v":{"$error":"#N/A"}}]
[599,{"$f":"B653+IF('Cleaned Data'!L600>0,1,0)*IF($B$34=\"Overall\",1,IF('Cleaned Data'!K600=$B$34,1,0))*(IF('Cleaned Data'!H600<>\"\",1,0))","v":155},{"$f":"INDEX('Cleaned Data'!H:H,MATCH($A654,$B$56:$B$1919,0))","v":{"$error":"#N/A"}},{"$f":"INDEX('Cleaned Data'!L:L,MATCH($A654,$B$56:$B$1919,0))","v":{"$error":"#N/A"}}]
[600,{"$f":"B654+IF('Cleaned Data'!L601>0,1,0)*IF($B$34=\"Overall\",1,IF('Cleaned Data'!K601=$B$34,1,0))*(IF('Cleaned Data'!H601<>\"\",1,0))","v":156},{"$f":"INDEX('Cleaned Data'!H:H,MATCH($A655,$B$56:$B$1919,0))","v":{"$error":"#N/A"}},{"$f":"INDEX('Cleaned Data'!L:L,MATCH($A655,$B$56:$B$1919,0))","v":{"$error":"#N/A"}}]
[601,{"$f":"B655+IF('Cleaned Data'!L602>0,1,0)*IF($B$34=\"Overall\",1,IF('Cleaned Data'!K602=$B$34,1,0))*(IF('Cleaned Data'!H602<>\"\",1,0))","v":157},{"$f":"INDEX('Cleaned Data'!H:H,MATCH($A656,$B$56:$B$1919,0))","v":{"$error":"#N/A"}},{"$f":"INDEX('Cleaned Data'!L:L,MATCH($A656,$B$56:$B$1919,0))","v":{"$error":"#N/A"}}]
[602,{"$f":"B656+IF('Cleaned Data'!L603>0,1,0)*IF($B$34=\"Overall\",1,IF('Cleaned Data'!K603=$B$34,1,0))*(IF('Cleaned Data'!H603<>\"\",1,0))","v":158},{"$f":"INDEX('Cleaned Data'!H:H,MATCH($A657,$B$56:$B$1919,0))","v":{"$error":"#N/A"}},{"$f":"INDEX('Cleaned Data'!L:L,MATCH($A657,$B$56:$B$1919,0))","v":{"$error":"#N/A"}}]
[603,{"$f":"B657+IF('Cleaned Data'!L604>0,1,0)*IF($B$34=\"Overall\",1,IF('Cleaned Data'!K604=$B$34,1,0))*(IF('Cleaned Data'!H604<>\"\",1,0))","v":159},{"$f":"INDEX('Cleaned Data'!H:H,MATCH($A658,$B$56:$B$1919,0))","v":{"$error":"#N/A"}},{"$f":"INDEX('Cleaned Data'!L:L,MATCH($A658,$B$56:$B$1919,0))","v":{"$error":"#N/A"}}]
[604,{"$f":"B658+IF('Cleaned Data'!L605>0,1,0)*IF($B$34=\"Overall\",1,IF('Cleaned Data'!K605=$B$34,1,0))*(IF('Cleaned Data'!H605<>\"\",1,0))","v":160},{"$f":"INDEX('Cleaned Data'!H:H,MATCH($A659,$B$56:$B$1919,0))","v":{"$error":"#N/A"}},{"$f":"INDEX('Cleaned Data'!L:L,MATCH($A659,$B$56:$B$1919,0))","v":{"$error":"#N/A"}}]
[605,{"$f":"B659+IF('Cleaned Data'!L606>0,1,0)*IF($B$34=\"Overall\",1,IF('Cleaned Data'!K606=$B$34,1,0))*(IF('Cleaned Data'!H606<>\"\",1,0))","v":161},{"$f":"INDEX('Cleaned Data'!H:H,MATCH($A660,$B$56:$B$1919,0))","v":{"$error":"#N/A"}},{"$f":"INDEX('Cleaned Data'!L:L,MATCH($A660,$B$56:$B$1919,0))","v":{"$error":"#N/A"}}]
[606,{"$f":"B660+IF('Cleaned Data'!L607>0,1,0)*IF($B$34=\"Overall\",1,IF('Cleaned Data'!K607=$B$34,1,0))*(IF('Cleaned Data'!H607<>\"\",1,0))","v":162},{"$f":"INDEX('Cleaned Data'!H:H,MATCH($A661,$B$56:$B$1919,0))","v":{"$error":"#N/A"}},{"$f":"INDEX('Cleaned Data'!L:L,MATCH($A661,$B$56:$B$1919,0))","v":{"$error":"#N/A"}}]
[607,{"$f":"B661+IF('Cleaned Data'!L608>0,1,0)*IF($B$34=\"Overall\",1,IF('Cleaned Data'!K608=$B$34,1,0))*(IF('Cleaned Data'!H608<>\"\",1,0))","v":163},{"$f":"INDEX('Cleaned Data'!H:H,MATCH($A662,$B$56:$B$1919,0))","v":{"$error":"#N/A"}},{"$f":"INDEX('Cleaned Data'!L:L,MATCH($A662,$B$56:$B$1919,0))","v":{"$error":"#N/A"}}]
[608,{"$f":"B662+IF('Cleaned Data'!L609>0,1,0)*IF($B$34=\"Overall\",1,IF('Cleaned Data'!K609=$B$34,1,0))*(IF('Cleaned Data'!H609<>\"\",1,0))","v":164},{"$f":"INDEX('Cleaned Data'!H:H,MATCH($A663,$B$56:$B$1919,0))","v":{"$error":"#N/A"}},{"$f":"INDEX('Cleaned Data'!L:L,MATCH($A663,$B$56:$B$1919,0))","v":{"$error":"#N/A"}}]
[609,{"$f":"B663+IF('Cleaned Data'!L610>0,1,0)*IF($B$34=\"Overall\",1,IF('Cleaned Data'!K610=$B$34,1,0))*(IF('Cleaned Data'!H610<>\"\",1,0))","v":165},{"$f":"INDEX('Cleaned Data'!H:H,MATCH($A664,$B$56:$B$1919,0))","v":{"$error":"#N/A"}},{"$f":"INDEX('Cleaned Data'!L:L,MATCH($A664,$B$56:$B$1919,0))","v":{"$error":"#N/A"}}]
[610,{"$f":"B664+IF('Cleaned Data'!L611>0,1,0)*IF($B$34=\"Overall\",1,IF('Cleaned Data'!K611=$B$34,1,0))*(IF('Cleaned Data'!H611<>\"\",1,0))","v":166},{"$f":"INDEX('Cleaned Data'!H:H,MATCH($A665,$B$56:$B$1919,0))","v":{"$error":"#N/A"}},{"$f":"INDEX('Cleaned Data'!L:L,MATCH($A665,$B$56:$B$1919,0))","v":{"$error":"#N/A"}}]
[611,{"$f":"B665+IF('Cleaned Data'!L612>0,1,0)*IF($B$34=\"Overall\",1,IF('Cleaned Data'!K612=$B$34,1,0))*(IF('Cleaned Data'!H612<>\"\",1,0))","v":167},{"$f":"INDEX('Cleaned Data'!H:H,MATCH($A666,$B$56:$B$1919,0))","v":{"$error":"#N/A"}},{"$f":"INDEX('Cleaned Data'!L:L,MATCH($A666,$B$56:$B$1919,0))","v":{"$error":"#N/A"}}]
[612,{"$f":"B666+IF('Cleaned Data'!L613>0,1,0)*IF($B$34=\"Overall\",1,IF('Cleaned Data'!K613=$B$34,1,0))*(IF('Cleaned Data'!H613<>\"\",1,0))","v":168},{"$f":"INDEX('Cleaned Data'!H:H,MATCH($A667,$B$56:$B$1919,0))","v":{"$error":"#N/A"}},{"$f":"INDEX('Cleaned Data'!L:L,MATCH($A667,$B$56:$B$1919,0))","v":{"$error":"#N/A"}}]
[613,{"$f":"B667+IF('Cleaned Data'!L614>0,1,0)*IF($B$34=\"Overall\",1,IF('Cleaned Data'!K614=$B$34,1,0))*(IF('Cleaned Data'!H614<>\"\",1,0))","v":169},{"$f":"INDEX('Cleaned Data'!H:H,MATCH($A668,$B$56:$B$1919,0))","v":{"$error":"#N/A"}},{"$f":"INDEX('Cleaned Data'!L:L,MATCH($A668,$B$56:$B$1919,0))","v":{"$error":"#N/A"}}]
[614,{"$f":"B668+IF('Cleaned Data'!L615>0,1,0)*IF($B$34=\"Overall\",1,IF('Cleaned Data'!K615=$B$34,1,0))*(IF('Cleaned Data'!H615<>\"\",1,0))","v":170},{"$f":"INDEX('Cleaned Data'!H:H,MATCH($A669,$B$56:$B$1919,0))","v":{"$error":"#N/A"}},{"$f":"INDEX('Cleaned Data'!L:L,MATCH($A669,$B$56:$B$1919,0))","v":{"$error":"#N/A"}}]
[615,{"$f":"B669+IF('Cleaned Data'!L616>0,1,0)*IF($B$34=\"Overall\",1,IF('Cleaned Data'!K616=$B$34,1,0))*(IF('Cleaned Data'!H616<>\"\",1,0))","v":171},{"$f":"INDEX('Cleaned Data'!H:H,MATCH($A670,$B$56:$B$1919,0))","v":{"$error":"#N/A"}},{"$f":"INDEX('Cleaned Data'!L:L,MATCH($A670,$B$56:$B$1919,0))","v":{"$error":"#N/A"}}]
[616,{"$f":"B670+IF('Cleaned Data'!L617>0,1,0)*IF($B$34=\"Overall\",1,IF('Cleaned Data'!K617=$B$34,1,0))*(IF('Cleaned Data'!H617<>\"\",1,0))","v":172},{"$f":"INDEX('Cleaned Data'!H:H,MATCH($A671,$B$56:$B$1919,0))","v":{"$error":"#N/A"}},{"$f":"INDEX('Cleaned Data'!L:L,MATCH($A671,$B$56:$B$1919,0))","v":{"$error":"#N/A"}}]
[617,{"$f":"B671+IF('Cleaned Data'!L618>0,1,0)*IF($B$34=\"Overall\",1,IF('Cleaned Data'!K618=$B$34,1,0))*(IF('Cleaned Data'!H618<>\"\",1,0))","v":173},{"$f":"INDEX('Cleaned Data'!H:H,MATCH($A672,$B$56:$B$1919,0))","v":{"$error":"#N/A"}},{"$f":"INDEX('Cleaned Data'!L:L,MATCH($A672,$B$56:$B$1919,0))","v":{"$error":"#N/A"}}]
[618,{"$f":"B672+IF('Cleaned Data'!L619>0,1,0)*IF($B$34=\"Overall\",1,IF('Cleaned Data'!K619=$B$34,1,0))*(IF('Cleaned Data'!H619<>\"\",1,0))","v":174},{"$f":"INDEX('Cleaned Data'!H:H,MATCH($A673,$B$56:$B$1919,0))","v":{"$error":"#N/A"}},{"$f":"INDEX('Cleaned Data'!L:L,MATCH($A673,$B$56:$B$1919,0))","v":{"$error":"#N/A"}}]
[619,{"$f":"B673+IF('Cleaned Data'!L620>0,1,0)*IF($B$34=\"Overall\",1,IF('Cleaned Data'!K620=$B$34,1,0))*(IF('Cleaned Data'!H620<>\"\",1,0))","v":175},{"$f":"INDEX('Cleaned Data'!H:H,MATCH($A674,$B$56:$B$1919,0))","v":{"$error":"#N/A"}},{"$f":"INDEX('Cleaned Data'!L:L,MATCH($A674,$B$56:$B$1919,0))","v":{"$error":"#N/A"}}]
[620,{"$f":"B674+IF('Cleaned Data'!L621>0,1,0)*IF($B$34=\"Overall\",1,IF('Cleaned Data'!K621=$B$34,1,0))*(IF('Cleaned Data'!H621<>\"\",1,0))","v":176},{"$f":"INDEX('Cleaned Data'!H:H,MATCH($A675,$B$56:$B$1919,0))","v":{"$error":"#N/A"}},{"$f":"INDEX('Cleaned Data'!L:L,MATCH($A675,$B$56:$B$1919,0))","v":{"$error":"#N/A"}}]
[621,{"$f":"B675+IF('Cleaned Data'!L622>0,1,0)*IF($B$34=\"Overall\",1,IF('Cleaned Data'!K622=$B$34,1,0))*(IF('Cleaned Data'!H622<>\"\",1,0))","v":177},{"$f":"INDEX('Cleaned Data'!H:H,MATCH($A676,$B$56:$B$1919,0))","v":{"$error":"#N/A"}},{"$f":"INDEX('Cleaned Data'!L:L,MATCH($A676,$B$56:$B$1919,0))","v":{"$error":"#N/A"}}]
[622,{"$f":"B676+IF('Cleaned Data'!L623>0,1,0)*IF($B$34=\"Overall\",1,IF('Cleaned Data'!K623=$B$34,1,0))*(IF('Cleaned Data'!H623<>\"\",1,0))","v":178},{"$f":"INDEX('Cleaned Data'!H:H,MATCH($A677,$B$56:$B$1919,0))","v":{"$error":"#N/A"}},{"$f":"INDEX('Cleaned Data'!L:L,MATCH($A677,$B$56:$B$1919,0))","v":{"$error":"#N/A"}}]
[623,{"$f":"B677+IF('Cleaned Data'!L624>0,1,0)*IF($B$34=\"Overall\",1,IF('Cleaned Data'!K624=$B$34,1,0))*(IF('Cleaned Data'!H624<>\"\",1,0))","v":179},{"$f":"INDEX('Cleaned Data'!H:H,MATCH($A678,$B$56:$B$1919,0))","v":{"$error":"#N/A"}},{"$f":"INDEX('Cleaned Data'!L:L,MATCH($A678,$B$56:$B$1919,0))","v":{"$error":"#N/A"}}]
[624,{"$f":"B678+IF('Cleaned Data'!L625>0,1,0)*IF($B$34=\"Overall\",1,IF('Cleaned Data'!K625=$B$34,1,0))*(IF('Cleaned Data'!H625<>\"\",1,0))","v":180},{"$f":"INDEX('Cleaned Data'!H:H,MATCH($A679,$B$56:$B$1919,0))","v":{"$error":"#N/A"}},{"$f":"INDEX('Cleaned Data'!L:L,MATCH($A679,$B$56:$B$1919,0))","v":{"$error":"#N/A"}}]
[625,{"$f":"B679+IF('Cleaned Data'!L626>0,1,0)*IF($B$34=\"Overall\",1,IF('Cleaned Data'!K626=$B$34,1,0))*(IF('Cleaned Data'!H626<>\"\",1,0))","v":181},{"$f":"INDEX('Cleaned Data'!H:H,MATCH($A680,$B$56:$B$1919,0))","v":{"$error":"#N/A"}},{"$f":"INDEX('Cleaned Data'!L:L,MATCH($A680,$B$56:$B$1919,0))","v":{"$error":"#N/A"}}]
[626,{"$f":"B680+IF('Cleaned Data'!L627>0,1,0)*IF($B$34=\"Overall\",1,IF('Cleaned Data'!K627=$B$34,1,0))*(IF('Cleaned Data'!H627<>\"\",1,0))","v":182},{"$f":"INDEX('Cleaned Data'!H:H,MATCH($A681,$B$56:$B$1919,0))","v":{"$error":"#N/A"}},{"$f":"INDEX('Cleaned Data'!L:L,MATCH($A681,$B$56:$B$1919,0))","v":{"$error":"#N/A"}}]
[627,{"$f":"B681+IF('Cleaned Data'!L628>0,1,0)*IF($B$34=\"Overall\",1,IF('Cleaned Data'!K628=$B$34,1,0))*(IF('Cleaned Data'!H628<>\"\",1,0))","v":183},{"$f":"INDEX('Cleaned Data'!H:H,MATCH($A682,$B$56:$B$1919,0))","v":{"$error":"#N/A"}},{"$f":"INDEX('Cleaned Data'!L:L,MATCH($A682,$B$56:$B$1919,0))","v":{"$error":"#N/A"}}]
[628,{"$f":"B682+IF('Cleaned Data'!L629>0,1,0)*IF($B$34=\"Overall\",1,IF('Cleaned Data'!K629=$B$34,1,0))*(IF('Cleaned Data'!H629<>\"\",1,0))","v":184},{"$f":"INDEX('Cleaned Data'!H:H,MATCH($A683,$B$56:$B$1919,0))","v":{"$error":"#N/A"}},{"$f":"INDEX('Cleaned Data'!L:L,MATCH($A683,$B$56:$B$1919,0))","v":{"$error":"#N/A"}}]
[629,{"$f":"B683+IF('Cleaned Data'!L630>0,1,0)*IF($B$34=\"Overall\",1,IF('Cleaned Data'!K630=$B$34,1,0))*(IF('Cleaned Data'!H630<>\"\",1,0))","v":185},{"$f":"INDEX('Cleaned Data'!H:H,MATCH($A684,$B$56:$B$1919,0))","v":{"$error":"#N/A"}},{"$f":"INDEX('Cleaned Data'!L:L,MATCH($A684,$B$56:$B$1919,0))","v":{"$error":"#N/A"}}]
[630,{"$f":"B684+IF('Cleaned Data'!L631>0,1,0)*IF($B$34=\"Overall\",1,IF('Cleaned Data'!K631=$B$34,1,0))*(IF('Cleaned Data'!H631<>\"\",1,0))","v":186},{"$f":"INDEX('Cleaned Data'!H:H,MATCH($A685,$B$56:$B$1919,0))","v":{"$error":"#N/A"}},{"$f":"INDEX('Cleaned Data'!L:L,MATCH($A685,$B$56:$B$1919,0))","v":{"$error":"#N/A"}}]
[631,{"$f":"B685+IF('Cleaned Data'!L632>0,1,0)*IF($B$34=\"Overall\",1,IF('Cleaned Data'!K632=$B$34,1,0))*(IF('Cleaned Data'!H632<>\"\",1,0))","v":187},{"$f":"INDEX('Cleaned Data'!H:H,MATCH($A686,$B$56:$B$1919,0))","v":{"$error":"#N/A"}},{"$f":"INDEX('Cleaned Data'!L:L,MATCH($A686,$B$56:$B$1919,0))","v":{"$error":"#N/A"}}]
[632,{"$f":"B686+IF('Cleaned Data'!L633>0,1,0)*IF($B$34=\"Overall\",1,IF('Cleaned Data'!K633=$B$34,1,0))*(IF('Cleaned Data'!H633<>\"\",1,0))","v":188},{"$f":"INDEX('Cleaned Data'!H:H,MATCH($A687,$B$56:$B$1919,0))","v":{"$error":"#N/A"}},{"$f":"INDEX('Cleaned Data'!L:L,MATCH($A687,$B$56:$B$1919,0))","v":{"$error":"#N/A"}}]
[633,{"$f":"B687+IF('Cleaned Data'!L634>0,1,0)*IF($B$34=\"Overall\",1,IF('Cleaned Data'!K634=$B$34,1,0))*(IF('Cleaned Data'!H634<>\"\",1,0))","v":189},{"$f":"INDEX('Cleaned Data'!H:H,MATCH($A688,$B$56:$B$1919,0))","v":{"$error":"#N/A"}},{"$f":"INDEX('Cleaned Data'!L:L,MATCH($A688,$B$56:$B$1919,0))","v":{"$error":"#N/A"}}]
[634,{"$f":"B688+IF('Cleaned Data'!L635>0,1,0)*IF($B$34=\"Overall\",1,IF('Cleaned Data'!K635=$B$34,1,0))*(IF('Cleaned Data'!H635<>\"\",1,0))","v":190},{"$f":"INDEX('Cleaned Data'!H:H,MATCH($A689,$B$56:$B$1919,0))","v":{"$error":"#N/A"}},{"$f":"INDEX('Cleaned Data'!L:L,MATCH($A689,$B$56:$B$1919,0))","v":{"$error":"#N/A"}}]
[635,{"$f":"B689+IF('Cleaned Data'!L636>0,1,0)*IF($B$34=\"Overall\",1,IF('Cleaned Data'!K636=$B$34,1,0))*(IF('Cleaned Data'!H636<>\"\",1,0))","v":191},{"$f":"INDEX('Cleaned Data'!H:H,MATCH($A690,$B$56:$B$1919,0))","v":{"$error":"#N/A"}},{"$f":"INDEX('Cleaned Data'!L:L,MATCH($A690,$B$56:$B$1919,0))","v":{"$error":"#N/A"}}]
[636,{"$f":"B690+IF('Cleaned Data'!L637>0,1,0)*IF($B$34=\"Overall\",1,IF('Cleaned Data'!K637=$B$34,1,0))*(IF('Cleaned Data'!H637<>\"\",1,0))","v":192},{"$f":"INDEX('Cleaned Data'!H:H,MATCH($A691,$B$56:$B$1919,0))","v":{"$error":"#N/A"}},{"$f":"INDEX('Cleaned Data'!L:L,MATCH($A691,$B$56:$B$1919,0))","v":{"$error":"#N/A"}}]
[637,{"$f":"B691+IF('Cleaned Data'!L638>0,1,0)*IF($B$34=\"Overall\",1,IF('Cleaned Data'!K638=$B$34,1,0))*(IF('Cleaned Data'!H638<>\"\",1,0))","v":193},{"$f":"INDEX('Cleaned Data'!H:H,MATCH($A692,$B$56:$B$1919,0))","v":{"$error":"#N/A"}},{"$f":"INDEX('Cleaned Data'!L:L,MATCH($A692,$B$56:$B$1919,0))","v":{"$error":"#N/A"}}]
[638,{"$f":"B692+IF('Cleaned Data'!L639>0,1,0)*IF($B$34=\"Overall\",1,IF('Cleaned Data'!K639=$B$34,1,0))*(IF('Cleaned Data'!H639<>\"\",1,0))","v":194},{"$f":"INDEX('Cleaned Data'!H:H,MATCH($A693,$B$56:$B$1919,0))","v":{"$error":"#N/A"}},{"$f":"INDEX('Cleaned Data'!L:L,MATCH($A693,$B$56:$B$1919,0))","v":{"$error":"#N/A"}}]
[639,{"$f":"B693+IF('Cleaned Data'!L640>0,1,0)*IF($B$34=\"Overall\",1,IF('Cleaned Data'!K640=$B$34,1,0))*(IF('Cleaned Data'!H640<>\"\",1,0))","v":195},{"$f":"INDEX('Cleaned Data'!H:H,MATCH($A694,$B$56:$B$1919,0))","v":{"$error":"#N/A"}},{"$f":"INDEX('Cleaned Data'!L:L,MATCH($A694,$B$56:$B$1919,0))","v":{"$error":"#N/A"}}]
[640,{"$f":"B694+IF('Cleaned Data'!L641>0,1,0)*IF($B$34=\"Overall\",1,IF('Cleaned Data'!K641=$B$34,1,0))*(IF('Cleaned Data'!H641<>\"\",1,0))","v":196},{"$f":"INDEX('Cleaned Data'!H:H,MATCH($A695,$B$56:$B$1919,0))","v":{"$error":"#N/A"}},{"$f":"INDEX('Cleaned Data'!L:L,MATCH($A695,$B$56:$B$1919,0))","v":{"$error":"#N/A"}}]
[641,{"$f":"B695+IF('Cleaned Data'!L642>0,1,0)*IF($B$34=\"Overall\",1,IF('Cleaned Data'!K642=$B$34,1,0))*(IF('Cleaned Data'!H642<>\"\",1,0))","v":197},{"$f":"INDEX('Cleaned Data'!H:H,MATCH($A696,$B$56:$B$1919,0))","v":{"$error":"#N/A"}},{"$f":"INDEX('Cleaned Data'!L:L,MATCH($A696,$B$56:$B$1919,0))","v":{"$error":"#N/A"}}]
[642,{"$f":"B696+IF('Cleaned Data'!L643>0,1,0)*IF($B$34=\"Overall\",1,IF('Cleaned Data'!K643=$B$34,1,0))*(IF('Cleaned Data'!H643<>\"\",1,0))","v":198},{"$f":"INDEX('Cleaned Data'!H:H,MATCH($A697,$B$56:$B$1919,0))","v":{"$error":"#N/A"}},{"$f":"INDEX('Cleaned Data'!L:L,MATCH($A697,$B$56:$B$1919,0))","v":{"$error":"#N/A"}}]
[643,{"$f":"B697+IF('Cleaned Data'!L644>0,1,0)*IF($B$34=\"Overall\",1,IF('Cleaned Data'!K644=$B$34,1,0))*(IF('Cleaned Data'!H644<>\"\",1,0))","v":199},{"$f":"INDEX('Cleaned Data'!H:H,MATCH($A698,$B$56:$B$1919,0))","v":{"$error":"#N/A"}},{"$f":"INDEX('Cleaned Data'!L:L,MATCH($A698,$B$56:$B$1919,0))","v":{"$error":"#N/A"}}]
[644,{"$f":"B698+IF('Cleaned Data'!L645>0,1,0)*IF($B$34=\"Overall\",1,IF('Cleaned Data'!K645=$B$34,1,0))*(IF('Cleaned Data'!H645<>\"\",1,0))","v":200},{"$f":"INDEX('Cleaned Data'!H:H,MATCH($A699,$B$56:$B$1919,0))","v":{"$error":"#N/A"}},{"$f":"INDEX('Cleaned Data'!L:L,MATCH($A699,$B$56:$B$1919,0))","v":{"$error":"#N/A"}}]
[645,{"$f":"B699+IF('Cleaned Data'!L646>0,1,0)*IF($B$34=\"Overall\",1,IF('Cleaned Data'!K646=$B$34,1,0))*(IF('Cleaned Data'!H646<>\"\",1,0))","v":201},{"$f":"INDEX('Cleaned Data'!H:H,MATCH($A700,$B$56:$B$1919,0))","v":{"$error":"#N/A"}},{"$f":"INDEX('Cleaned Data'!L:L,MATCH($A700,$B$56:$B$1919,0))","v":{"$error":"#N/A"}}]
[646,{"$f":"B700+IF('Cleaned Data'!L647>0,1,0)*IF($B$34=\"Overall\",1,IF('Cleaned Data'!K647=$B$34,1,0))*(IF('Cleaned Data'!H647<>\"\",1,0))","v":202},{"$f":"INDEX('Cleaned Data'!H:H,MATCH($A701,$B$56:$B$1919,0))","v":{"$error":"#N/A"}},{"$f":"INDEX('Cleaned Data'!L:L,MATCH($A701,$B$56:$B$1919,0))","v":{"$error":"#N/A"}}]
[647,{"$f":"B701+IF('Cleaned Data'!L648>0,1,0)*IF($B$34=\"Overall\",1,IF('Cleaned Data'!K648=$B$34,1,0))*(IF('Cleaned Data'!H648<>\"\",1,0))","v":203},{"$f":"INDEX('Cleaned Data'!H:H,MATCH($A702,$B$56:$B$1919,0))","v":{"$error":"#N/A"}},{"$f":"INDEX('Cleaned Data'!L:L,MATCH($A702,$B$56:$B$1919,0))","v":{"$error":"#N/A"}}]
[648,{"$f":"B702+IF('Cleaned Data'!L649>0,1,0)*IF($B$34=\"Overall\",1,IF('Cleaned Data'!K649=$B$34,1,0))*(IF('Cleaned Data'!H649<>\"\",1,0))","v":204},{"$f":"INDEX('Cleaned Data'!H:H,MATCH($A703,$B$56:$B$1919,0))","v":{"$error":"#N/A"}},{"$f":"INDEX('Cleaned Data'!L:L,MATCH($A703,$B$56:$B$1919,0))","v":{"$error":"#N/A"}}]
[649,{"$f":"B703+IF('Cleaned Data'!L650>0,1,0)*IF($B$34=\"Overall\",1,IF('Cleaned Data'!K650=$B$34,1,0))*(IF('Cleaned Data'!H650<>\"\",1,0))","v":205},{"$f":"INDEX('Cleaned Data'!H:H,MATCH($A704,$B$56:$B$1919,0))","v":{"$error":"#N/A"}},{"$f":"INDEX('Cleaned Data'!L:L,MATCH($A704,$B$56:$B$1919,0))","v":{"$error":"#N/A"}}]
[650,{"$f":"B704+IF('Cleaned Data'!L651>0,1,0)*IF($B$34=\"Overall\",1,IF('Cleaned Data'!K651=$B$34,1,0))*(IF('Cleaned Data'!H651<>\"\",1,0))","v":206},{"$f":"INDEX('Cleaned Data'!H:H,MATCH($A705,$B$56:$B$1919,0))","v":{"$error":"#N/A"}},{"$f":"INDEX('Cleaned Data'!L:L,MATCH($A705,$B$56:$B$1919,0))","v":{"$error":"#N/A"}}]
[651,{"$f":"B705+IF('Cleaned Data'!L652>0,1,0)*IF($B$34=\"Overall\",1,IF('Cleaned Data'!K652=$B$34,1,0))*(IF('Cleaned Data'!H652<>\"\",1,0))","v":207},{"$f":"INDEX('Cleaned Data'!H:H,MATCH($A706,$B$56:$B$1919,0))","v":{"$error":"#N/A"}},{"$f":"INDEX('Cleaned Data'!L:L,MATCH($A706,$B$56:$B$1919,0))","v":{"$error":"#N/A"}}]
[652,{"$f":"B706+IF('Cleaned Data'!L653>0,1,0)*IF($B$34=\"Overall\",1,IF('Cleaned Data'!K653=$B$34,1,0))*(IF('Cleaned Data'!H653<>\"\",1,0))","v":208},{"$f":"INDEX('Cleaned Data'!H:H,MATCH($A707,$B$56:$B$1919,0))","v":{"$error":"#N/A"}},{"$f":"INDEX('Cleaned Data'!L:L,MATCH($A707,$B$56:$B$1919,0))","v":{"$error":"#N/A"}}]
[653,{"$f":"B707+IF('Cleaned Data'!L654>0,1,0)*IF($B$34=\"Overall\",1,IF('Cleaned Data'!K654=$B$34,1,0))*(IF('Cleaned Data'!H654<>\"\",1,0))","v":209},{"$f":"INDEX('Cleaned Data'!H:H,MATCH($A708,$B$56:$B$1919,0))","v":{"$error":"#N/A"}},{"$f":"INDEX('Cleaned Data'!L:L,MATCH($A708,$B$56:$B$1919,0))","v":{"$error":"#N/A"}}]
[654,{"$f":"B708+IF('Cleaned Data'!L655>0,1,0)*IF($B$34=\"Overall\",1,IF('Cleaned Data'!K655=$B$34,1,0))*(IF('Cleaned Data'!H655<>\"\",1,0))","v":210},{"$f":"INDEX('Cleaned Data'!H:H,MATCH($A709,$B$56:$B$1919,0))","v":{"$error":"#N/A"}},{"$f":"INDEX('Cleaned Data'!L:L,MATCH($A709,$B$56:$B$1919,0))","v":{"$error":"#N/A"}}]
[655,{"$f":"B709+IF('Cleaned Data'!L656>0,1,0)*IF($B$34=\"Overall\",1,IF('Cleaned Data'!K656=$B$34,1,0))*(IF('Cleaned Data'!H656<>\"\",1,0))","v":211},{"$f":"INDEX('Cleaned Data'!H:H,MATCH($A710,$B$56:$B$1919,0))","v":{"$error":"#N/A"}},{"$f":"INDEX('Cleaned Data'!L:L,MATCH($A710,$B$56:$B$1919,0))","v":{"$error":"#N/A"}}]
[656,{"$f":"B710+IF('Cleaned Data'!L657>0,1,0)*IF($B$34=\"Overall\",1,IF('Cleaned Data'!K657=$B$34,1,0))*(IF('Cleaned Data'!H657<>\"\",1,0))","v":212},{"$f":"INDEX('Cleaned Data'!H:H,MATCH($A711,$B$56:$B$1919,0))","v":{"$error":"#N/A"}},{"$f":"INDEX('Cleaned Data'!L:L,MATCH($A711,$B$56:$B$1919,0))","v":{"$error":"#N/A"}}]
[657,{"$f":"B711+IF('Cleaned Data'!L658>0,1,0)*IF($B$34=\"Overall\",1,IF('Cleaned Data'!K658=$B$34,1,0))*(IF('Cleaned Data'!H658<>\"\",1,0))","v":213},{"$f":"INDEX('Cleaned Data'!H:H,MATCH($A712,$B$56:$B$1919,0))","v":{"$error":"#N/A"}},{"$f":"INDEX('Cleaned Data'!L:L,MATCH($A712,$B$56:$B$1919,0))","v":{"$error":"#N/A"}}]
[658,{"$f":"B712+IF('Cleaned Data'!L659>0,1,0)*IF($B$34=\"Overall\",1,IF('Cleaned Data'!K659=$B$34,1,0))*(IF('Cleaned Data'!H659<>\"\",1,0))","v":214},{"$f":"INDEX('Cleaned Data'!H:H,MATCH($A713,$B$56:$B$1919,0))","v":{"$error":"#N/A"}},{"$f":"INDEX('Cleaned Data'!L:L,MATCH($A713,$B$56:$B$1919,0))","v":{"$error":"#N/A"}}]
[659,{"$f":"B713+IF('Cleaned Data'!L660>0,1,0)*IF($B$34=\"Overall\",1,IF('Cleaned Data'!K660=$B$34,1,0))*(IF('Cleaned Data'!H660<>\"\",1,0))","v":215},{"$f":"INDEX('Cleaned Data'!H:H,MATCH($A714,$B$56:$B$1919,0))","v":{"$error":"#N/A"}},{"$f":"INDEX('Cleaned Data'!L:L,MATCH($A714,$B$56:$B$1919,0))","v":{"$error":"#N/A"}}]
[660,{"$f":"B714+IF('Cleaned Data'!L661>0,1,0)*IF($B$34=\"Overall\",1,IF('Cleaned Data'!K661=$B$34,1,0))*(IF('Cleaned Data'!H661<>\"\",1,0))","v":216},{"$f":"INDEX('Cleaned Data'!H:H,MATCH($A715,$B$56:$B$1919,0))","v":{"$error":"#N/A"}},{"$f":"INDEX('Cleaned Data'!L:L,MATCH($A715,$B$56:$B$1919,0))","v":{"$error":"#N/A"}}]
[661,{"$f":"B715+IF('Cleaned Data'!L662>0,1,0)*IF($B$34=\"Overall\",1,IF('Cleaned Data'!K662=$B$34,1,0))*(IF('Cleaned Data'!H662<>\"\",1,0))","v":217},{"$f":"INDEX('Cleaned Data'!H:H,MATCH($A716,$B$56:$B$1919,0))","v":{"$error":"#N/A"}},{"$f":"INDEX('Cleaned Data'!L:L,MATCH($A716,$B$56:$B$1919,0))","v":{"$error":"#N/A"}}]
[662,{"$f":"B716+IF('Cleaned Data'!L663>0,1,0)*IF($B$34=\"Overall\",1,IF('Cleaned Data'!K663=$B$34,1,0))*(IF('Cleaned Data'!H663<>\"\",1,0))","v":218},{"$f":"INDEX('Cleaned Data'!H:H,MATCH($A717,$B$56:$B$1919,0))","v":{"$error":"#N/A"}},{"$f":"INDEX('Cleaned Data'!L:L,MATCH($A717,$B$56:$B$1919,0))","v":{"$error":"#N/A"}}]
[663,{"$f":"B717+IF('Cleaned Data'!L664>0,1,0)*IF($B$34=\"Overall\",1,IF('Cleaned Data'!K664=$B$34,1,0))*(IF('Cleaned Data'!H664<>\"\",1,0))","v":219},{"$f":"INDEX('Cleaned Data'!H:H,MATCH($A718,$B$56:$B$1919,0))","v":{"$error":"#N/A"}},{"$f":"INDEX('Cleaned Data'!L:L,MATCH($A718,$B$56:$B$1919,0))","v":{"$error":"#N/A"}}]
[664,{"$f":"B718+IF('Cleaned Data'!L665>0,1,0)*IF($B$34=\"Overall\",1,IF('Cleaned Data'!K665=$B$34,1,0))*(IF('Cleaned Data'!H665<>\"\",1,0))","v":220},{"$f":"INDEX('Cleaned Data'!H:H,MATCH($A719,$B$56:$B$1919,0))","v":{"$error":"#N/A"}},{"$f":"INDEX('Cleaned Data'!L:L,MATCH($A719,$B$56:$B$1919,0))","v":{"$error":"#N/A"}}]
[665,{"$f":"B719+IF('Cleaned Data'!L666>0,1,0)*IF($B$34=\"Overall\",1,IF('Cleaned Data'!K666=$B$34,1,0))*(IF('Cleaned Data'!H666<>\"\",1,0))","v":221},{"$f":"INDEX('Cleaned Data'!H:H,MATCH($A720,$B$56:$B$1919,0))","v":{"$error":"#N/A"}},{"$f":"INDEX('Cleaned Data'!L:L,MATCH($A720,$B$56:$B$1919,0))","v":{"$error":"#N/A"}}]
[666,{"$f":"B720+IF('Cleaned Data'!L667>0,1,0)*IF($B$34=\"Overall\",1,IF('Cleaned Data'!K667=$B$34,1,0))*(IF('Cleaned Data'!H667<>\"\",1,0))","v":222},{"$f":"INDEX('Cleaned Data'!H:H,MATCH($A721,$B$56:$B$1919,0))","v":{"$error":"#N/A"}},{"$f":"INDEX('Cleaned Data'!L:L,MATCH($A721,$B$56:$B$1919,0))","v":{"$error":"#N/A"}}]
[667,{"$f":"B721+IF('Cleaned Data'!L668>0,1,0)*IF($B$34=\"Overall\",1,IF('Cleaned Data'!K668=$B$34,1,0))*(IF('Cleaned Data'!H668<>\"\",1,0))","v":223},{"$f":"INDEX('Cleaned Data'!H:H,MATCH($A722,$B$56:$B$1919,0))","v":{"$error":"#N/A"}},{"$f":"INDEX('Cleaned Data'!L:L,MATCH($A722,$B$56:$B$1919,0))","v":{"$error":"#N/A"}}]
[668,{"$f":"B722+IF('Cleaned Data'!L669>0,1,0)*IF($B$34=\"Overall\",1,IF('Cleaned Data'!K669=$B$34,1,0))*(IF('Cleaned Data'!H669<>\"\",1,0))","v":224},{"$f":"INDEX('Cleaned Data'!H:H,MATCH($A723,$B$56:$B$1919,0))","v":{"$error":"#N/A"}},{"$f":"INDEX('Cleaned Data'!L:L,MATCH($A723,$B$56:$B$1919,0))","v":{"$error":"#N/A"}}]
[669,{"$f":"B723+IF('Cleaned Data'!L670>0,1,0)*IF($B$34=\"Overall\",1,IF('Cleaned Data'!K670=$B$34,1,0))*(IF('Cleaned Data'!H670<>\"\",1,0))","v":225},{"$f":"INDEX('Cleaned Data'!H:H,MATCH($A724,$B$56:$B$1919,0))","v":{"$error":"#N/A"}},{"$f":"INDEX('Cleaned Data'!L:L,MATCH($A724,$B$56:$B$1919,0))","v":{"$error":"#N/A"}}]
[670,{"$f":"B724+IF('Cleaned Data'!L671>0,1,0)*IF($B$34=\"Overall\",1,IF('Cleaned Data'!K671=$B$34,1,0))*(IF('Cleaned Data'!H671<>\"\",1,0))","v":226},{"$f":"INDEX('Cleaned Data'!H:H,MATCH($A725,$B$56:$B$1919,0))","v":{"$error":"#N/A"}},{"$f":"INDEX('Cleaned Data'!L:L,MATCH($A725,$B$56:$B$1919,0))","v":{"$error":"#N/A"}}]
[671,{"$f":"B725+IF('Cleaned Data'!L672>0,1,0)*IF($B$34=\"Overall\",1,IF('Cleaned Data'!K672=$B$34,1,0))*(IF('Cleaned Data'!H672<>\"\",1,0))","v":227},{"$f":"INDEX('Cleaned Data'!H:H,MATCH($A726,$B$56:$B$1919,0))","v":{"$error":"#N/A"}},{"$f":"INDEX('Cleaned Data'!L:L,MATCH($A726,$B$56:$B$1919,0))","v":{"$error":"#N/A"}}]
[672,{"$f":"B726+IF('Cleaned Data'!L673>0,1,0)*IF($B$34=\"Overall\",1,IF('Cleaned Data'!K673=$B$34,1,0))*(IF('Cleaned Data'!H673<>\"\",1,0))","v":228},{"$f":"INDEX('Cleaned Data'!H:H,MATCH($A727,$B$56:$B$1919,0))","v":{"$error":"#N/A"}},{"$f":"INDEX('Cleaned Data'!L:L,MATCH($A727,$B$56:$B$1919,0))","v":{"$error":"#N/A"}}]
[673,{"$f":"B727+IF('Cleaned Data'!L674>0,1,0)*IF($B$34=\"Overall\",1,IF('Cleaned Data'!K674=$B$34,1,0))*(IF('Cleaned Data'!H674<>\"\",1,0))","v":229},{"$f":"INDEX('Cleaned Data'!H:H,MATCH($A728,$B$56:$B$1919,0))","v":{"$error":"#N/A"}},{"$f":"INDEX('Cleaned Data'!L:L,MATCH($A728,$B$56:$B$1919,0))","v":{"$error":"#N/A"}}]
[674,{"$f":"B728+IF('Cleaned Data'!L675>0,1,0)*IF($B$34=\"Overall\",1,IF('Cleaned Data'!K675=$B$34,1,0))*(IF('Cleaned Data'!H675<>\"\",1,0))","v":230},{"$f":"INDEX('Cleaned Data'!H:H,MATCH($A729,$B$56:$B$1919,0))","v":{"$error":"#N/A"}},{"$f":"INDEX('Cleaned Data'!L:L,MATCH($A729,$B$56:$B$1919,0))","v":{"$error":"#N/A"}}]
[675,{"$f":"B729+IF('Cleaned Data'!L676>0,1,0)*IF($B$34=\"Overall\",1,IF('Cleaned Data'!K676=$B$34,1,0))*(IF('Cleaned Data'!H676<>\"\",1,0))","v":231},{"$f":"INDEX('Cleaned Data'!H:H,MATCH($A730,$B$56:$B$1919,0))","v":{"$error":"#N/A"}},{"$f":"INDEX('Cleaned Data'!L:L,MATCH($A730,$B$56:$B$1919,0))","v":{"$error":"#N/A"}}]
[676,{"$f":"B730+IF('Cleaned Data'!L677>0,1,0)*IF($B$34=\"Overall\",1,IF('Cleaned Data'!K677=$B$34,1,0))*(IF('Cleaned Data'!H677<>\"\",1,0))","v":232},{"$f":"INDEX('Cleaned Data'!H:H,MATCH($A731,$B$56:$B$1919,0))","v":{"$error":"#N/A"}},{"$f":"INDEX('Cleaned Data'!L:L,MATCH($A731,$B$56:$B$1919,0))","v":{"$error":"#N/A"}}]
[677,{"$f":"B731+IF('Cleaned Data'!L678>0,1,0)*IF($B$34=\"Overall\",1,IF('Cleaned Data'!K678=$B$34,1,0))*(IF('Cleaned Data'!H678<>\"\",1,0))","v":233},{"$f":"INDEX('Cleaned Data'!H:H,MATCH($A732,$B$56:$B$1919,0))","v":{"$error":"#N/A"}},{"$f":"INDEX('Cleaned Data'!L:L,MATCH($A732,$B$56:$B$1919,0))","v":{"$error":"#N/A"}}]
[678,{"$f":"B732+IF('Cleaned Data'!L679>0,1,0)*IF($B$34=\"Overall\",1,IF('Cleaned Data'!K679=$B$34,1,0))*(IF('Cleaned Data'!H679<>\"\",1,0))","v":234},{"$f":"INDEX('Cleaned Data'!H:H,MATCH($A733,$B$56:$B$1919,0))","v":{"$error":"#N/A"}},{"$f":"INDEX('Cleaned Data'!L:L,MATCH($A733,$B$56:$B$1919,0))","v":{"$error":"#N/A"}}]
[679,{"$f":"B733+IF('Cleaned Data'!L680>0,1,0)*IF($B$34=\"Overall\",1,IF('Cleaned Data'!K680=$B$34,1,0))*(IF('Cleaned Data'!H680<>\"\",1,0))","v":235},{"$f":"INDEX('Cleaned Data'!H:H,MATCH($A734,$B$56:$B$1919,0))","v":{"$error":"#N/A"}},{"$f":"INDEX('Cleaned Data'!L:L,MATCH($A734,$B$56:$B$1919,0))","v":{"$error":"#N/A"}}]
[680,{"$f":"B734+IF('Cleaned Data'!L681>0,1,0)*IF($B$34=\"Overall\",1,IF('Cleaned Data'!K681=$B$34,1,0))*(IF('Cleaned Data'!H681<>\"\",1,0))","v":236},{"$f":"INDEX('Cleaned Data'!H:H,MATCH($A735,$B$56:$B$1919,0))","v":{"$error":"#N/A"}},{"$f":"INDEX('Cleaned Data'!L:L,MATCH($A735,$B$56:$B$1919,0))","v":{"$error":"#N/A"}}]
[681,{"$f":"B735+IF('Cleaned Data'!L682>0,1,0)*IF($B$34=\"Overall\",1,IF('Cleaned Data'!K682=$B$34,1,0))*(IF('Cleaned Data'!H682<>\"\",1,0))","v":237},{"$f":"INDEX('Cleaned Data'!H:H,MATCH($A736,$B$56:$B$1919,0))","v":{"$error":"#N/A"}},{"$f":"INDEX('Cleaned Data'!L:L,MATCH($A736,$B$56:$B$1919,0))","v":{"$error":"#N/A"}}]
[682,{"$f":"B736+IF('Cleaned Data'!L683>0,1,0)*IF($B$34=\"Overall\",1,IF('Cleaned Data'!K683=$B$34,1,0))*(IF('Cleaned Data'!H683<>\"\",1,0))","v":238},{"$f":"INDEX('Cleaned Data'!H:H,MATCH($A737,$B$56:$B$1919,0))","v":{"$error":"#N/A"}},{"$f":"INDEX('Cleaned Data'!L:L,MATCH($A737,$B$56:$B$1919,0))","v":{"$error":"#N/A"}}]
[683,{"$f":"B737+IF('Cleaned Data'!L684>0,1,0)*IF($B$34=\"Overall\",1,IF('Cleaned Data'!K684=$B$34,1,0))*(IF('Cleaned Data'!H684<>\"\",1,0))","v":239},{"$f":"INDEX('Cleaned Data'!H:H,MATCH($A738,$B$56:$B$1919,0))","v":{"$error":"#N/A"}},{"$f":"INDEX('Cleaned Data'!L:L,MATCH($A738,$B$56:$B$1919,0))","v":{"$error":"#N/A"}}]
[684,{"$f":"B738+IF('Cleaned Data'!L685>0,1,0)*IF($B$34=\"Overall\",1,IF('Cleaned Data'!K685=$B$34,1,0))*(IF('Cleaned Data'!H685<>\"\",1,0))","v":240},{"$f":"INDEX('Cleaned Data'!H:H,MATCH($A739,$B$56:$B$1919,0))","v":{"$error":"#N/A"}},{"$f":"INDEX('Cleaned Data'!L:L,MATCH($A739,$B$56:$B$1919,0))","v":{"$error":"#N/A"}}]
[685,{"$f":"B739+IF('Cleaned Data'!L686>0,1,0)*IF($B$34=\"Overall\",1,IF('Cleaned Data'!K686=$B$34,1,0))*(IF('Cleaned Data'!H686<>\"\",1,0))","v":241},{"$f":"INDEX('Cleaned Data'!H:H,MATCH($A740,$B$56:$B$1919,0))","v":{"$error":"#N/A"}},{"$f":"INDEX('Cleaned Data'!L:L,MATCH($A740,$B$56:$B$1919,0))","v":{"$error":"#N/A"}}]
[686,{"$f":"B740+IF('Cleaned Data'!L687>0,1,0)*IF($B$34=\"Overall\",1,IF('Cleaned Data'!K687=$B$34,1,0))*(IF('Cleaned Data'!H687<>\"\",1,0))","v":242},{"$f":"INDEX('Cleaned Data'!H:H,MATCH($A741,$B$56:$B$1919,0))","v":{"$error":"#N/A"}},{"$f":"INDEX('Cleaned Data'!L:L,MATCH($A741,$B$56:$B$1919,0))","v":{"$error":"#N/A"}}]
[687,{"$f":"B741+IF('Cleaned Data'!L688>0,1,0)*IF($B$34=\"Overall\",1,IF('Cleaned Data'!K688=$B$34,1,0))*(IF('Cleaned Data'!H688<>\"\",1,0))","v":243},{"$f":"INDEX('Cleaned Data'!H:H,MATCH($A742,$B$56:$B$1919,0))","v":{"$error":"#N/A"}},{"$f":"INDEX('Cleaned Data'!L:L,MATCH($A742,$B$56:$B$1919,0))","v":{"$error":"#N/A"}}]
[688,{"$f":"B742+IF('Cleaned Data'!L689>0,1,0)*IF($B$34=\"Overall\",1,IF('Cleaned Data'!K689=$B$34,1,0))*(IF('Cleaned Data'!H689<>\"\",1,0))","v":244},{"$f":"INDEX('Cleaned Data'!H:H,MATCH($A743,$B$56:$B$1919,0))","v":{"$error":"#N/A"}},{"$f":"INDEX('Cleaned Data'!L:L,MATCH($A743,$B$56:$B$1919,0))","v":{"$error":"#N/A"}}]
[689,{"$f":"B743+IF('Cleaned Data'!L690>0,1,0)*IF($B$34=\"Overall\",1,IF('Cleaned Data'!K690=$B$34,1,0))*(IF('Cleaned Data'!H690<>\"\",1,0))","v":245},{"$f":"INDEX('Cleaned Data'!H:H,MATCH($A744,$B$56:$B$1919,0))","v":{"$error":"#N/A"}},{"$f":"INDEX('Cleaned Data'!L:L,MATCH($A744,$B$56:$B$1919,0))","v":{"$error":"#N/A"}}]
[690,{"$f":"B744+IF('Cleaned Data'!L691>0,1,0)*IF($B$34=\"Overall\",1,IF('Cleaned Data'!K691=$B$34,1,0))*(IF('Cleaned Data'!H691<>\"\",1,0))","v":246},{"$f":"INDEX('Cleaned Data'!H:H,MATCH($A745,$B$56:$B$1919,0))","v":{"$error":"#N/A"}},{"$f":"INDEX('Cleaned Data'!L:L,MATCH($A745,$B$56:$B$1919,0))","v":{"$error":"#N/A"}}]
[691,{"$f":"B745+IF('Cleaned Data'!L692>0,1,0)*IF($B$34=\"Overall\",1,IF('Cleaned Data'!K692=$B$34,1,0))*(IF('Cleaned Data'!H692<>\"\",1,0))","v":247},{"$f":"INDEX('Cleaned Data'!H:H,MATCH($A746,$B$56:$B$1919,0))","v":{"$error":"#N/A"}},{"$f":"INDEX('Cleaned Data'!L:L,MATCH($A746,$B$56:$B$1919,0))","v":{"$error":"#N/A"}}]
[692,{"$f":"B746+IF('Cleaned Data'!L693>0,1,0)*IF($B$34=\"Overall\",1,IF('Cleaned Data'!K693=$B$34,1,0))*(IF('Cleaned Data'!H693<>\"\",1,0))","v":248},{"$f":"INDEX('Cleaned Data'!H:H,MATCH($A747,$B$56:$B$1919,0))","v":{"$error":"#N/A"}},{"$f":"INDEX('Cleaned Data'!L:L,MATCH($A747,$B$56:$B$1919,0))","v":{"$error":"#N/A"}}]
[693,{"$f":"B747+IF('Cleaned Data'!L694>0,1,0)*IF($B$34=\"Overall\",1,IF('Cleaned Data'!K694=$B$34,1,0))*(IF('Cleaned Data'!H694<>\"\",1,0))","v":249},{"$f":"INDEX('Cleaned Data'!H:H,MATCH($A748,$B$56:$B$1919,0))","v":{"$error":"#N/A"}},{"$f":"INDEX('Cleaned Data'!L:L,MATCH($A748,$B$56:$B$1919,0))","v":{"$error":"#N/A"}}]
[694,{"$f":"B748+IF('Cleaned Data'!L695>0,1,0)*IF($B$34=\"Overall\",1,IF('Cleaned Data'!K695=$B$34,1,0))*(IF('Cleaned Data'!H695<>\"\",1,0))","v":250},{"$f":"INDEX('Cleaned Data'!H:H,MATCH($A749,$B$56:$B$1919,0))","v":{"$error":"#N/A"}},{"$f":"INDEX('Cleaned Data'!L:L,MATCH($A749,$B$56:$B$1919,0))","v":{"$error":"#N/A"}}]
[695,{"$f":"B749+IF('Cleaned Data'!L696>0,1,0)*IF($B$34=\"Overall\",1,IF('Cleaned Data'!K696=$B$34,1,0))*(IF('Cleaned Data'!H696<>\"\",1,0))","v":251},{"$f":"INDEX('Cleaned Data'!H:H,MATCH($A750,$B$56:$B$1919,0))","v":{"$error":"#N/A"}},{"$f":"INDEX('Cleaned Data'!L:L,MATCH($A750,$B$56:$B$1919,0))","v":{"$error":"#N/A"}}]
[696,{"$f":"B750+IF('Cleaned Data'!L697>0,1,0)*IF($B$34=\"Overall\",1,IF('Cleaned Data'!K697=$B$34,1,0))*(IF('Cleaned Data'!H697<>\"\",1,0))","v":252},{"$f":"INDEX('Cleaned Data'!H:H,MATCH($A751,$B$56:$B$1919,0))","v":{"$error":"#N/A"}},{"$f":"INDEX('Cleaned Data'!L:L,MATCH($A751,$B$56:$B$1919,0))","v":{"$error":"#N/A"}}]
[697,{"$f":"B751+IF('Cleaned Data'!L698>0,1,0)*IF($B$34=\"Overall\",1,IF('Cleaned Data'!K698=$B$34,1,0))*(IF('Cleaned Data'!H698<>\"\",1,0))","v":253},{"$f":"INDEX('Cleaned Data'!H:H,MATCH($A752,$B$56:$B$1919,0))","v":{"$error":"#N/A"}},{"$f":"INDEX('Cleaned Data'!L:L,MATCH($A752,$B$56:$B$1919,0))","v":{"$error":"#N/A"}}]
[698,{"$f":"B752+IF('Cleaned Data'!L699>0,1,0)*IF($B$34=\"Overall\",1,IF('Cleaned Data'!K699=$B$34,1,0))*(IF('Cleaned Data'!H699<>\"\",1,0))","v":254},{"$f":"INDEX('Cleaned Data'!H:H,MATCH($A753,$B$56:$B$1919,0))","v":{"$error":"#N/A"}},{"$f":"INDEX('Cleaned Data'!L:L,MATCH($A753,$B$56:$B$1919,0))","v":{"$error":"#N/A"}}]
[699,{"$f":"B753+IF('Cleaned Data'!L700>0,1,0)*IF($B$34=\"Overall\",1,IF('Cleaned Data'!K700=$B$34,1,0))*(IF('Cleaned Data'!H700<>\"\",1,0))","v":255},{"$f":"INDEX('Cleaned Data'!H:H,MATCH($A754,$B$56:$B$1919,0))","v":{"$error":"#N/A"}},{"$f":"INDEX('Cleaned Data'!L:L,MATCH($A754,$B$56:$B$1919,0))","v":{"$error":"#N/A"}}]
[700,{"$f":"B754+IF('Cleaned Data'!L701>0,1,0)*IF($B$34=\"Overall\",1,IF('Cleaned Data'!K701=$B$34,1,0))*(IF('Cleaned Data'!H701<>\"\",1,0))","v":256},{"$f":"INDEX('Cleaned Data'!H:H,MATCH($A755,$B$56:$B$1919,0))","v":{"$error":"#N/A"}},{"$f":"INDEX('Cleaned Data'!L:L,MATCH($A755,$B$56:$B$1919,0))","v":{"$error":"#N/A"}}]
[701,{"$f":"B755+IF('Cleaned Data'!L702>0,1,0)*IF($B$34=\"Overall\",1,IF('Cleaned Data'!K702=$B$34,1,0))*(IF('Cleaned Data'!H702<>\"\",1,0))","v":257},{"$f":"INDEX('Cleaned Data'!H:H,MATCH($A756,$B$56:$B$1919,0))","v":{"$error":"#N/A"}},{"$f":"INDEX('Cleaned Data'!L:L,MATCH($A756,$B$56:$B$1919,0))","v":{"$error":"#N/A"}}]
[702,{"$f":"B756+IF('Cleaned Data'!L703>0,1,0)*IF($B$34=\"Overall\",1,IF('Cleaned Data'!K703=$B$34,1,0))*(IF('Cleaned Data'!H703<>\"\",1,0))","v":258},{"$f":"INDEX('Cleaned Data'!H:H,MATCH($A757,$B$56:$B$1919,0))","v":{"$error":"#N/A"}},{"$f":"INDEX('Cleaned Data'!L:L,MATCH($A757,$B$56:$B$1919,0))","v":{"$error":"#N/A"}}]
[703,{"$f":"B757+IF('Cleaned Data'!L704>0,1,0)*IF($B$34=\"Overall\",1,IF('Cleaned Data'!K704=$B$34,1,0))*(IF('Cleaned Data'!H704<>\"\",1,0))","v":259},{"$f":"INDEX('Cleaned Data'!H:H,MATCH($A758,$B$56:$B$1919,0))","v":{"$error":"#N/A"}},{"$f":"INDEX('Cleaned Data'!L:L,MATCH($A758,$B$56:$B$1919,0))","v":{"$error":"#N/A"}}]
[704,{"$f":"B758+IF('Cleaned Data'!L705>0,1,0)*IF($B$34=\"Overall\",1,IF('Cleaned Data'!K705=$B$34,1,0))*(IF('Cleaned Data'!H705<>\"\",1,0))","v":260},{"$f":"INDEX('Cleaned Data'!H:H,MATCH($A759,$B$56:$B$1919,0))","v":{"$error":"#N/A"}},{"$f":"INDEX('Cleaned Data'!L:L,MATCH($A759,$B$56:$B$1919,0))","v":{"$error":"#N/A"}}]
[705,{"$f":"B759+IF('Cleaned Data'!L706>0,1,0)*IF($B$34=\"Overall\",1,IF('Cleaned Data'!K706=$B$34,1,0))*(IF('Cleaned Data'!H706<>\"\",1,0))","v":261},{"$f":"INDEX('Cleaned Data'!H:H,MATCH($A760,$B$56:$B$1919,0))","v":{"$error":"#N/A"}},{"$f":"INDEX('Cleaned Data'!L:L,MATCH($A760,$B$56:$B$1919,0))","v":{"$error":"#N/A"}}]
[706,{"$f":"B760+IF('Cleaned Data'!L707>0,1,0)*IF($B$34=\"Overall\",1,IF('Cleaned Data'!K707=$B$34,1,0))*(IF('Cleaned Data'!H707<>\"\",1,0))","v":262},{"$f":"INDEX('Cleaned Data'!H:H,MATCH($A761,$B$56:$B$1919,0))","v":{"$error":"#N/A"}},{"$f":"INDEX('Cleaned Data'!L:L,MATCH($A761,$B$56:$B$1919,0))","v":{"$error":"#N/A"}}]
[707,{"$f":"B761+IF('Cleaned Data'!L708>0,1,0)*IF($B$34=\"Overall\",1,IF('Cleaned Data'!K708=$B$34,1,0))*(IF('Cleaned Data'!H708<>\"\",1,0))","v":263},{"$f":"INDEX('Cleaned Data'!H:H,MATCH($A762,$B$56:$B$1919,0))","v":{"$error":"#N/A"}},{"$f":"INDEX('Cleaned Data'!L:L,MATCH($A762,$B$56:$B$1919,0))","v":{"$error":"#N/A"}}]
[708,{"$f":"B762+IF('Cleaned Data'!L709>0,1,0)*IF($B$34=\"Overall\",1,IF('Cleaned Data'!K709=$B$34,1,0))*(IF('Cleaned Data'!H709<>\"\",1,0))","v":264},{"$f":"INDEX('Cleaned Data'!H:H,MATCH($A763,$B$56:$B$1919,0))","v":{"$error":"#N/A"}},{"$f":"INDEX('Cleaned Data'!L:L,MATCH($A763,$B$56:$B$1919,0))","v":{"$error":"#N/A"}}]
[709,{"$f":"B763+IF('Cleaned Data'!L710>0,1,0)*IF($B$34=\"Overall\",1,IF('Cleaned Data'!K710=$B$34,1,0))*(IF('Cleaned Data'!H710<>\"\",1,0))","v":265},{"$f":"INDEX('Cleaned Data'!H:H,MATCH($A764,$B$56:$B$1919,0))","v":{"$error":"#N/A"}},{"$f":"INDEX('Cleaned Data'!L:L,MATCH($A764,$B$56:$B$1919,0))","v":{"$error":"#N/A"}}]
[710,{"$f":"B764+IF('Cleaned Data'!L711>0,1,0)*IF($B$34=\"Overall\",1,IF('Cleaned Data'!K711=$B$34,1,0))*(IF('Cleaned Data'!H711<>\"\",1,0))","v":266},{"$f":"INDEX('Cleaned Data'!H:H,MATCH($A765,$B$56:$B$1919,0))","v":{"$error":"#N/A"}},{"$f":"INDEX('Cleaned Data'!L:L,MATCH($A765,$B$56:$B$1919,0))","v":{"$error":"#N/A"}}]
[711,{"$f":"B765+IF('Cleaned Data'!L712>0,1,0)*IF($B$34=\"Overall\",1,IF('Cleaned Data'!K712=$B$34,1,0))*(IF('Cleaned Data'!H712<>\"\",1,0))","v":267},{"$f":"INDEX('Cleaned Data'!H:H,MATCH($A766,$B$56:$B$1919,0))","v":{"$error":"#N/A"}},{"$f":"INDEX('Cleaned Data'!L:L,MATCH($A766,$B$56:$B$1919,0))","v":{"$error":"#N/A"}}]
[712,{"$f":"B766+IF('Cleaned Data'!L713>0,1,0)*IF($B$34=\"Overall\",1,IF('Cleaned Data'!K713=$B$34,1,0))*(IF('Cleaned Data'!H713<>\"\",1,0))","v":268},{"$f":"INDEX('Cleaned Data'!H:H,MATCH($A767,$B$56:$B$1919,0))","v":{"$error":"#N/A"}},{"$f":"INDEX('Cleaned Data'!L:L,MATCH($A767,$B$56:$B$1919,0))","v":{"$error":"#N/A"}}]
[713,{"$f":"B767+IF('Cleaned Data'!L714>0,1,0)*IF($B$34=\"Overall\",1,IF('Cleaned Data'!K714=$B$34,1,0))*(IF('Cleaned Data'!H714<>\"\",1,0))","v":269},{"$f":"INDEX('Cleaned Data'!H:H,MATCH($A768,$B$56:$B$1919,0))","v":{"$error":"#N/A"}},{"$f":"INDEX('Cleaned Data'!L:L,MATCH($A768,$B$56:$B$1919,0))","v":{"$error":"#N/A"}}]
[714,{"$f":"B768+IF('Cleaned Data'!L715>0,1,0)*IF($B$34=\"Overall\",1,IF('Cleaned Data'!K715=$B$34,1,0))*(IF('Cleaned Data'!H715<>\"\",1,0))","v":270},{"$f":"INDEX('Cleaned Data'!H:H,MATCH($A769,$B$56:$B$1919,0))","v":{"$error":"#N/A"}},{"$f":"INDEX('Cleaned Data'!L:L,MATCH($A769,$B$56:$B$1919,0))","v":{"$error":"#N/A"}}]
[715,{"$f":"B769+IF('Cleaned Data'!L716>0,1,0)*IF($B$34=\"Overall\",1,IF('Cleaned Data'!K716=$B$34,1,0))*(IF('Cleaned Data'!H716<>\"\",1,0))","v":271},{"$f":"INDEX('Cleaned Data'!H:H,MATCH($A770,$B$56:$B$1919,0))","v":{"$error":"#N/A"}},{"$f":"INDEX('Cleaned Data'!L:L,MATCH($A770,$B$56:$B$1919,0))","v":{"$error":"#N/A"}}]
[716,{"$f":"B770+IF('Cleaned Data'!L717>0,1,0)*IF($B$34=\"Overall\",1,IF('Cleaned Data'!K717=$B$34,1,0))*(IF('Cleaned Data'!H717<>\"\",1,0))","v":272},{"$f":"INDEX('Cleaned Data'!H:H,MATCH($A771,$B$56:$B$1919,0))","v":{"$error":"#N/A"}},{"$f":"INDEX('Cleaned Data'!L:L,MATCH($A771,$B$56:$B$1919,0))","v":{"$error":"#N/A"}}]
[717,{"$f":"B771+IF('Cleaned Data'!L718>0,1,0)*IF($B$34=\"Overall\",1,IF('Cleaned Data'!K718=$B$34,1,0))*(IF('Cleaned Data'!H718<>\"\",1,0))","v":273},{"$f":"INDEX('Cleaned Data'!H:H,MATCH($A772,$B$56:$B$1919,0))","v":{"$error":"#N/A"}},{"$f":"INDEX('Cleaned Data'!L:L,MATCH($A772,$B$56:$B$1919,0))","v":{"$error":"#N/A"}}]
[718,{"$f":"B772+IF('Cleaned Data'!L719>0,1,0)*IF($B$34=\"Overall\",1,IF('Cleaned Data'!K719=$B$34,1,0))*(IF('Cleaned Data'!H719<>\"\",1,0))","v":274},{"$f":"INDEX('Cleaned Data'!H:H,MATCH($A773,$B$56:$B$1919,0))","v":{"$error":"#N/A"}},{"$f":"INDEX('Cleaned Data'!L:L,MATCH($A773,$B$56:$B$1919,0))","v":{"$error":"#N/A"}}]
[719,{"$f":"B773+IF('Cleaned Data'!L720>0,1,0)*IF($B$34=\"Overall\",1,IF('Cleaned Data'!K720=$B$34,1,0))*(IF('Cleaned Data'!H720<>\"\",1,0))","v":275},{"$f":"INDEX('Cleaned Data'!H:H,MATCH($A774,$B$56:$B$1919,0))","v":{"$error":"#N/A"}},{"$f":"INDEX('Cleaned Data'!L:L,MATCH($A774,$B$56:$B$1919,0))","v":{"$error":"#N/A"}}]
[720,{"$f":"B774+IF('Cleaned Data'!L721>0,1,0)*IF($B$34=\"Overall\",1,IF('Cleaned Data'!K721=$B$34,1,0))*(IF('Cleaned Data'!H721<>\"\",1,0))","v":276},{"$f":"INDEX('Cleaned Data'!H:H,MATCH($A775,$B$56:$B$1919,0))","v":{"$error":"#N/A"}},{"$f":"INDEX('Cleaned Data'!L:L,MATCH($A775,$B$56:$B$1919,0))","v":{"$error":"#N/A"}}]
[721,{"$f":"B775+IF('Cleaned Data'!L722>0,1,0)*IF($B$34=\"Overall\",1,IF('Cleaned Data'!K722=$B$34,1,0))*(IF('Cleaned Data'!H722<>\"\",1,0))","v":277},{"$f":"INDEX('Cleaned Data'!H:H,MATCH($A776,$B$56:$B$1919,0))","v":{"$error":"#N/A"}},{"$f":"INDEX('Cleaned Data'!L:L,MATCH($A776,$B$56:$B$1919,0))","v":{"$error":"#N/A"}}]
[722,{"$f":"B776+IF('Cleaned Data'!L723>0,1,0)*IF($B$34=\"Overall\",1,IF('Cleaned Data'!K723=$B$34,1,0))*(IF('Cleaned Data'!H723<>\"\",1,0))","v":278},{"$f":"INDEX('Cleaned Data'!H:H,MATCH($A777,$B$56:$B$1919,0))","v":{"$error":"#N/A"}},{"$f":"INDEX('Cleaned Data'!L:L,MATCH($A777,$B$56:$B$1919,0))","v":{"$error":"#N/A"}}]
[723,{"$f":"B777+IF('Cleaned Data'!L724>0,1,0)*IF($B$34=\"Overall\",1,IF('Cleaned Data'!K724=$B$34,1,0))*(IF('Cleaned Data'!H724<>\"\",1,0))","v":279},{"$f":"INDEX('Cleaned Data'!H:H,MATCH($A778,$B$56:$B$1919,0))","v":{"$error":"#N/A"}},{"$f":"INDEX('Cleaned Data'!L:L,MATCH($A778,$B$56:$B$1919,0))","v":{"$error":"#N/A"}}]
[724,{"$f":"B778+IF('Cleaned Data'!L725>0,1,0)*IF($B$34=\"Overall\",1,IF('Cleaned Data'!K725=$B$34,1,0))*(IF('Cleaned Data'!H725<>\"\",1,0))","v":280},{"$f":"INDEX('Cleaned Data'!H:H,MATCH($A779,$B$56:$B$1919,0))","v":{"$error":"#N/A"}},{"$f":"INDEX('Cleaned Data'!L:L,MATCH($A779,$B$56:$B$1919,0))","v":{"$error":"#N/A"}}]
[725,{"$f":"B779+IF('Cleaned Data'!L726>0,1,0)*IF($B$34=\"Overall\",1,IF('Cleaned Data'!K726=$B$34,1,0))*(IF('Cleaned Data'!H726<>\"\",1,0))","v":281},{"$f":"INDEX('Cleaned Data'!H:H,MATCH($A780,$B$56:$B$1919,0))","v":{"$error":"#N/A"}},{"$f":"INDEX('Cleaned Data'!L:L,MATCH($A780,$B$56:$B$1919,0))","v":{"$error":"#N/A"}}]
[726,{"$f":"B780+IF('Cleaned Data'!L727>0,1,0)*IF($B$34=\"Overall\",1,IF('Cleaned Data'!K727=$B$34,1,0))*(IF('Cleaned Data'!H727<>\"\",1,0))","v":282},{"$f":"INDEX('Cleaned Data'!H:H,MATCH($A781,$B$56:$B$1919,0))","v":{"$error":"#N/A"}},{"$f":"INDEX('Cleaned Data'!L:L,MATCH($A781,$B$56:$B$1919,0))","v":{"$error":"#N/A"}}]
[727,{"$f":"B781+IF('Cleaned Data'!L728>0,1,0)*IF($B$34=\"Overall\",1,IF('Cleaned Data'!K728=$B$34,1,0))*(IF('Cleaned Data'!H728<>\"\",1,0))","v":283},{"$f":"INDEX('Cleaned Data'!H:H,MATCH($A782,$B$56:$B$1919,0))","v":{"$error":"#N/A"}},{"$f":"INDEX('Cleaned Data'!L:L,MATCH($A782,$B$56:$B$1919,0))","v":{"$error":"#N/A"}}]
[728,{"$f":"B782+IF('Cleaned Data'!L729>0,1,0)*IF($B$34=\"Overall\",1,IF('Cleaned Data'!K729=$B$34,1,0))*(IF('Cleaned Data'!H729<>\"\",1,0))","v":284},{"$f":"INDEX('Cleaned Data'!H:H,MATCH($A783,$B$56:$B$1919,0))","v":{"$error":"#N/A"}},{"$f":"INDEX('Cleaned Data'!L:L,MATCH($A783,$B$56:$B$1919,0))","v":{"$error":"#N/A"}}]
[729,{"$f":"B783+IF('Cleaned Data'!L730>0,1,0)*IF($B$34=\"Overall\",1,IF('Cleaned Data'!K730=$B$34,1,0))*(IF('Cleaned Data'!H730<>\"\",1,0))","v":285},{"$f":"INDEX('Cleaned Data'!H:H,MATCH($A784,$B$56:$B$1919,0))","v":{"$error":"#N/A"}},{"$f":"INDEX('Cleaned Data'!L:L,MATCH($A784,$B$56:$B$1919,0))","v":{"$error":"#N/A"}}]
[730,{"$f":"B784+IF('Cleaned Data'!L731>0,1,0)*IF($B$34=\"Overall\",1,IF('Cleaned Data'!K731=$B$34,1,0))*(IF('Cleaned Data'!H731<>\"\",1,0))","v":286},{"$f":"INDEX('Cleaned Data'!H:H,MATCH($A785,$B$56:$B$1919,0))","v":{"$error":"#N/A"}},{"$f":"INDEX('Cleaned Data'!L:L,MATCH($A785,$B$56:$B$1919,0))","v":{"$error":"#N/A"}}]
[731,{"$f":"B785+IF('Cleaned Data'!L732>0,1,0)*IF($B$34=\"Overall\",1,IF('Cleaned Data'!K732=$B$34,1,0))*(IF('Cleaned Data'!H732<>\"\",1,0))","v":287},{"$f":"INDEX('Cleaned Data'!H:H,MATCH($A786,$B$56:$B$1919,0))","v":{"$error":"#N/A"}},{"$f":"INDEX('Cleaned Data'!L:L,MATCH($A786,$B$56:$B$1919,0))","v":{"$error":"#N/A"}}]
[732,{"$f":"B786+IF('Cleaned Data'!L733>0,1,0)*IF($B$34=\"Overall\",1,IF('Cleaned Data'!K733=$B$34,1,0))*(IF('Cleaned Data'!H733<>\"\",1,0))","v":288},{"$f":"INDEX('Cleaned Data'!H:H,MATCH($A787,$B$56:$B$1919,0))","v":{"$error":"#N/A"}},{"$f":"INDEX('Cleaned Data'!L:L,MATCH($A787,$B$56:$B$1919,0))","v":{"$error":"#N/A"}}]
[733,{"$f":"B787+IF('Cleaned Data'!L734>0,1,0)*IF($B$34=\"Overall\",1,IF('Cleaned Data'!K734=$B$34,1,0))*(IF('Cleaned Data'!H734<>\"\",1,0))","v":289},{"$f":"INDEX('Cleaned Data'!H:H,MATCH($A788,$B$56:$B$1919,0))","v":{"$error":"#N/A"}},{"$f":"INDEX('Cleaned Data'!L:L,MATCH($A788,$B$56:$B$1919,0))","v":{"$error":"#N/A"}}]
[734,{"$f":"B788+IF('Cleaned Data'!L735>0,1,0)*IF($B$34=\"Overall\",1,IF('Cleaned Data'!K735=$B$34,1,0))*(IF('Cleaned Data'!H735<>\"\",1,0))","v":290},{"$f":"INDEX('Cleaned Data'!H:H,MATCH($A789,$B$56:$B$1919,0))","v":{"$error":"#N/A"}},{"$f":"INDEX('Cleaned Data'!L:L,MATCH($A789,$B$56:$B$1919,0))","v":{"$error":"#N/A"}}]
[735,{"$f":"B789+IF('Cleaned Data'!L736>0,1,0)*IF($B$34=\"Overall\",1,IF('Cleaned Data'!K736=$B$34,1,0))*(IF('Cleaned Data'!H736<>\"\",1,0))","v":291},{"$f":"INDEX('Cleaned Data'!H:H,MATCH($A790,$B$56:$B$1919,0))","v":{"$error":"#N/A"}},{"$f":"INDEX('Cleaned Data'!L:L,MATCH($A790,$B$56:$B$1919,0))","v":{"$error":"#N/A"}}]
[736,{"$f":"B790+IF('Cleaned Data'!L737>0,1,0)*IF($B$34=\"Overall\",1,IF('Cleaned Data'!K737=$B$34,1,0))*(IF('Cleaned Data'!H737<>\"\",1,0))","v":292},{"$f":"INDEX('Cleaned Data'!H:H,MATCH($A791,$B$56:$B$1919,0))","v":{"$error":"#N/A"}},{"$f":"INDEX('Cleaned Data'!L:L,MATCH($A791,$B$56:$B$1919,0))","v":{"$error":"#N/A"}}]
[737,{"$f":"B791+IF('Cleaned Data'!L738>0,1,0)*IF($B$34=\"Overall\",1,IF('Cleaned Data'!K738=$B$34,1,0))*(IF('Cleaned Data'!H738<>\"\",1,0))","v":293},{"$f":"INDEX('Cleaned Data'!H:H,MATCH($A792,$B$56:$B$1919,0))","v":{"$error":"#N/A"}},{"$f":"INDEX('Cleaned Data'!L:L,MATCH($A792,$B$56:$B$1919,0))","v":{"$error":"#N/A"}}]
[738,{"$f":"B792+IF('Cleaned Data'!L739>0,1,0)*IF($B$34=\"Overall\",1,IF('Cleaned Data'!K739=$B$34,1,0))*(IF('Cleaned Data'!H739<>\"\",1,0))","v":294},{"$f":"INDEX('Cleaned Data'!H:H,MATCH($A793,$B$56:$B$1919,0))","v":{"$error":"#N/A"}},{"$f":"INDEX('Cleaned Data'!L:L,MATCH($A793,$B$56:$B$1919,0))","v":{"$error":"#N/A"}}]
[739,{"$f":"B793+IF('Cleaned Data'!L740>0,1,0)*IF($B$34=\"Overall\",1,IF('Cleaned Data'!K740=$B$34,1,0))*(IF('Cleaned Data'!H740<>\"\",1,0))","v":295},{"$f":"INDEX('Cleaned Data'!H:H,MATCH($A794,$B$56:$B$1919,0))","v":{"$error":"#N/A"}},{"$f":"INDEX('Cleaned Data'!L:L,MATCH($A794,$B$56:$B$1919,0))","v":{"$error":"#N/A"}}]
[740,{"$f":"B794+IF('Cleaned Data'!L741>0,1,0)*IF($B$34=\"Overall\",1,IF('Cleaned Data'!K741=$B$34,1,0))*(IF('Cleaned Data'!H741<>\"\",1,0))","v":296},{"$f":"INDEX('Cleaned Data'!H:H,MATCH($A795,$B$56:$B$1919,0))","v":{"$error":"#N/A"}},{"$f":"INDEX('Cleaned Data'!L:L,MATCH($A795,$B$56:$B$1919,0))","v":{"$error":"#N/A"}}]
[741,{"$f":"B795+IF('Cleaned Data'!L742>0,1,0)*IF($B$34=\"Overall\",1,IF('Cleaned Data'!K742=$B$34,1,0))*(IF('Cleaned Data'!H742<>\"\",1,0))","v":297},{"$f":"INDEX('Cleaned Data'!H:H,MATCH($A796,$B$56:$B$1919,0))","v":{"$error":"#N/A"}},{"$f":"INDEX('Cleaned Data'!L:L,MATCH($A796,$B$56:$B$1919,0))","v":{"$error":"#N/A"}}]
[742,{"$f":"B796+IF('Cleaned Data'!L743>0,1,0)*IF($B$34=\"Overall\",1,IF('Cleaned Data'!K743=$B$34,1,0))*(IF('Cleaned Data'!H743<>\"\",1,0))","v":298},{"$f":"INDEX('Cleaned Data'!H:H,MATCH($A797,$B$56:$B$1919,0))","v":{"$error":"#N/A"}},{"$f":"INDEX('Cleaned Data'!L:L,MATCH($A797,$B$56:$B$1919,0))","v":{"$error":"#N/A"}}]
[743,{"$f":"B797+IF('Cleaned Data'!L744>0,1,0)*IF($B$34=\"Overall\",1,IF('Cleaned Data'!K744=$B$34,1,0))*(IF('Cleaned Data'!H744<>\"\",1,0))","v":299},{"$f":"INDEX('Cleaned Data'!H:H,MATCH($A798,$B$56:$B$1919,0))","v":{"$error":"#N/A"}},{"$f":"INDEX('Cleaned Data'!L:L,MATCH($A798,$B$56:$B$1919,0))","v":{"$error":"#N/A"}}]
[744,{"$f":"B798+IF('Cleaned Data'!L745>0,1,0)*IF($B$34=\"Overall\",1,IF('Cleaned Data'!K745=$B$34,1,0))*(IF('Cleaned Data'!H745<>\"\",1,0))","v":300},{"$f":"INDEX('Cleaned Data'!H:H,MATCH($A799,$B$56:$B$1919,0))","v":{"$error":"#N/A"}},{"$f":"INDEX('Cleaned Data'!L:L,MATCH($A799,$B$56:$B$1919,0))","v":{"$error":"#N/A"}}]
[745,{"$f":"B799+IF('Cleaned Data'!L746>0,1,0)*IF($B$34=\"Overall\",1,IF('Cleaned Data'!K746=$B$34,1,0))*(IF('Cleaned Data'!H746<>\"\",1,0))","v":301},{"$f":"INDEX('Cleaned Data'!H:H,MATCH($A800,$B$56:$B$1919,0))","v":{"$error":"#N/A"}},{"$f":"INDEX('Cleaned Data'!L:L,MATCH($A800,$B$56:$B$1919,0))","v":{"$error":"#N/A"}}]
[746,{"$f":"B800+IF('Cleaned Data'!L747>0,1,0)*IF($B$34=\"Overall\",1,IF('Cleaned Data'!K747=$B$34,1,0))*(IF('Cleaned Data'!H747<>\"\",1,0))","v":302},{"$f":"INDEX('Cleaned Data'!H:H,MATCH($A801,$B$56:$B$1919,0))","v":{"$error":"#N/A"}},{"$f":"INDEX('Cleaned Data'!L:L,MATCH($A801,$B$56:$B$1919,0))","v":{"$error":"#N/A"}}]
[747,{"$f":"B801+IF('Cleaned Data'!L748>0,1,0)*IF($B$34=\"Overall\",1,IF('Cleaned Data'!K748=$B$34,1,0))*(IF('Cleaned Data'!H748<>\"\",1,0))","v":303},{"$f":"INDEX('Cleaned Data'!H:H,MATCH($A802,$B$56:$B$1919,0))","v":{"$error":"#N/A"}},{"$f":"INDEX('Cleaned Data'!L:L,MATCH($A802,$B$56:$B$1919,0))","v":{"$error":"#N/A"}}]
[748,{"$f":"B802+IF('Cleaned Data'!L749>0,1,0)*IF($B$34=\"Overall\",1,IF('Cleaned Data'!K749=$B$34,1,0))*(IF('Cleaned Data'!H749<>\"\",1,0))","v":304},{"$f":"INDEX('Cleaned Data'!H:H,MATCH($A803,$B$56:$B$1919,0))","v":{"$error":"#N/A"}},{"$f":"INDEX('Cleaned Data'!L:L,MATCH($A803,$B$56:$B$1919,0))","v":{"$error":"#N/A"}}]
[749,{"$f":"B803+IF('Cleaned Data'!L750>0,1,0)*IF($B$34=\"Overall\",1,IF('Cleaned Data'!K750=$B$34,1,0))*(IF('Cleaned Data'!H750<>\"\",1,0))","v":305},{"$f":"INDEX('Cleaned Data'!H:H,MATCH($A804,$B$56:$B$1919,0))","v":{"$error":"#N/A"}},{"$f":"INDEX('Cleaned Data'!L:L,MATCH($A804,$B$56:$B$1919,0))","v":{"$error":"#N/A"}}]
[750,{"$f":"B804+IF('Cleaned Data'!L751>0,1,0)*IF($B$34=\"Overall\",1,IF('Cleaned Data'!K751=$B$34,1,0))*(IF('Cleaned Data'!H751<>\"\",1,0))","v":306},{"$f":"INDEX('Cleaned Data'!H:H,MATCH($A805,$B$56:$B$1919,0))","v":{"$error":"#N/A"}},{"$f":"INDEX('Cleaned Data'!L:L,MATCH($A805,$B$56:$B$1919,0))","v":{"$error":"#N/A"}}]
[751,{"$f":"B805+IF('Cleaned Data'!L752>0,1,0)*IF($B$34=\"Overall\",1,IF('Cleaned Data'!K752=$B$34,1,0))*(IF('Cleaned Data'!H752<>\"\",1,0))","v":307},{"$f":"INDEX('Cleaned Data'!H:H,MATCH($A806,$B$56:$B$1919,0))","v":{"$error":"#N/A"}},{"$f":"INDEX('Cleaned Data'!L:L,MATCH($A806,$B$56:$B$1919,0))","v":{"$error":"#N/A"}}]
[752,{"$f":"B806+IF('Cleaned Data'!L753>0,1,0)*IF($B$34=\"Overall\",1,IF('Cleaned Data'!K753=$B$34,1,0))*(IF('Cleaned Data'!H753<>\"\",1,0))","v":308},{"$f":"INDEX('Cleaned Data'!H:H,MATCH($A807,$B$56:$B$1919,0))","v":{"$error":"#N/A"}},{"$f":"INDEX('Cleaned Data'!L:L,MATCH($A807,$B$56:$B$1919,0))","v":{"$error":"#N/A"}}]
[753,{"$f":"B807+IF('Cleaned Data'!L754>0,1,0)*IF($B$34=\"Overall\",1,IF('Cleaned Data'!K754=$B$34,1,0))*(IF('Cleaned Data'!H754<>\"\",1,0))","v":309},{"$f":"INDEX('Cleaned Data'!H:H,MATCH($A808,$B$56:$B$1919,0))","v":{"$error":"#N/A"}},{"$f":"INDEX('Cleaned Data'!L:L,MATCH($A808,$B$56:$B$1919,0))","v":{"$error":"#N/A"}}]
[754,{"$f":"B808+IF('Cleaned Data'!L755>0,1,0)*IF($B$34=\"Overall\",1,IF('Cleaned Data'!K755=$B$34,1,0))*(IF('Cleaned Data'!H755<>\"\",1,0))","v":310},{"$f":"INDEX('Cleaned Data'!H:H,MATCH($A809,$B$56:$B$1919,0))","v":{"$error":"#N/A"}},{"$f":"INDEX('Cleaned Data'!L:L,MATCH($A809,$B$56:$B$1919,0))","v":{"$error":"#N/A"}}]
[755,{"$f":"B809+IF('Cleaned Data'!L756>0,1,0)*IF($B$34=\"Overall\",1,IF('Cleaned Data'!K756=$B$34,1,0))*(IF('Cleaned Data'!H756<>\"\",1,0))","v":311},{"$f":"INDEX('Cleaned Data'!H:H,MATCH($A810,$B$56:$B$1919,0))","v":{"$error":"#N/A"}},{"$f":"INDEX('Cleaned Data'!L:L,MATCH($A810,$B$56:$B$1919,0))","v":{"$error":"#N/A"}}]
[756,{"$f":"B810+IF('Cleaned Data'!L757>0,1,0)*IF($B$34=\"Overall\",1,IF('Cleaned Data'!K757=$B$34,1,0))*(IF('Cleaned Data'!H757<>\"\",1,0))","v":312},{"$f":"INDEX('Cleaned Data'!H:H,MATCH($A811,$B$56:$B$1919,0))","v":{"$error":"#N/A"}},{"$f":"INDEX('Cleaned Data'!L:L,MATCH($A811,$B$56:$B$1919,0))","v":{"$error":"#N/A"}}]
[757,{"$f":"B811+IF('Cleaned Data'!L758>0,1,0)*IF($B$34=\"Overall\",1,IF('Cleaned Data'!K758=$B$34,1,0))*(IF('Cleaned Data'!H758<>\"\",1,0))","v":313},{"$f":"INDEX('Cleaned Data'!H:H,MATCH($A812,$B$56:$B$1919,0))","v":{"$error":"#N/A"}},{"$f":"INDEX('Cleaned Data'!L:L,MATCH($A812,$B$56:$B$1919,0))","v":{"$error":"#N/A"}}]
[758,{"$f":"B812+IF('Cleaned Data'!L759>0,1,0)*IF($B$34=\"Overall\",1,IF('Cleaned Data'!K759=$B$34,1,0))*(IF('Cleaned Data'!H759<>\"\",1,0))","v":314},{"$f":"INDEX('Cleaned Data'!H:H,MATCH($A813,$B$56:$B$1919,0))","v":{"$error":"#N/A"}},{"$f":"INDEX('Cleaned Data'!L:L,MATCH($A813,$B$56:$B$1919,0))","v":{"$error":"#N/A"}}]
[759,{"$f":"B813+IF('Cleaned Data'!L760>0,1,0)*IF($B$34=\"Overall\",1,IF('Cleaned Data'!K760=$B$34,1,0))*(IF('Cleaned Data'!H760<>\"\",1,0))","v":315},{"$f":"INDEX('Cleaned Data'!H:H,MATCH($A814,$B$56:$B$1919,0))","v":{"$error":"#N/A"}},{"$f":"INDEX('Cleaned Data'!L:L,MATCH($A814,$B$56:$B$1919,0))","v":{"$error":"#N/A"}}]
[760,{"$f":"B814+IF('Cleaned Data'!L761>0,1,0)*IF($B$34=\"Overall\",1,IF('Cleaned Data'!K761=$B$34,1,0))*(IF('Cleaned Data'!H761<>\"\",1,0))","v":316},{"$f":"INDEX('Cleaned Data'!H:H,MATCH($A815,$B$56:$B$1919,0))","v":{"$error":"#N/A"}},{"$f":"INDEX('Cleaned Data'!L:L,MATCH($A815,$B$56:$B$1919,0))","v":{"$error":"#N/A"}}]
[761,{"$f":"B815+IF('Cleaned Data'!L762>0,1,0)*IF($B$34=\"Overall\",1,IF('Cleaned Data'!K762=$B$34,1,0))*(IF('Cleaned Data'!H762<>\"\",1,0))","v":317},{"$f":"INDEX('Cleaned Data'!H:H,MATCH($A816,$B$56:$B$1919,0))","v":{"$error":"#N/A"}},{"$f":"INDEX('Cleaned Data'!L:L,MATCH($A816,$B$56:$B$1919,0))","v":{"$error":"#N/A"}}]
[762,{"$f":"B816+IF('Cleaned Data'!L763>0,1,0)*IF($B$34=\"Overall\",1,IF('Cleaned Data'!K763=$B$34,1,0))*(IF('Cleaned Data'!H763<>\"\",1,0))","v":318},{"$f":"INDEX('Cleaned Data'!H:H,MATCH($A817,$B$56:$B$1919,0))","v":{"$error":"#N/A"}},{"$f":"INDEX('Cleaned Data'!L:L,MATCH($A817,$B$56:$B$1919,0))","v":{"$error":"#N/A"}}]
[763,{"$f":"B817+IF('Cleaned Data'!L764>0,1,0)*IF($B$34=\"Overall\",1,IF('Cleaned Data'!K764=$B$34,1,0))*(IF('Cleaned Data'!H764<>\"\",1,0))","v":319},{"$f":"INDEX('Cleaned Data'!H:H,MATCH($A818,$B$56:$B$1919,0))","v":{"$error":"#N/A"}},{"$f":"INDEX('Cleaned Data'!L:L,MATCH($A818,$B$56:$B$1919,0))","v":{"$error":"#N/A"}}]
[764,{"$f":"B818+IF('Cleaned Data'!L765>0,1,0)*IF($B$34=\"Overall\",1,IF('Cleaned Data'!K765=$B$34,1,0))*(IF('Cleaned Data'!H765<>\"\",1,0))","v":320},{"$f":"INDEX('Cleaned Data'!H:H,MATCH($A819,$B$56:$B$1919,0))","v":{"$error":"#N/A"}},{"$f":"INDEX('Cleaned Data'!L:L,MATCH($A819,$B$56:$B$1919,0))","v":{"$error":"#N/A"}}]
[765,{"$f":"B819+IF('Cleaned Data'!L766>0,1,0)*IF($B$34=\"Overall\",1,IF('Cleaned Data'!K766=$B$34,1,0))*(IF('Cleaned Data'!H766<>\"\",1,0))","v":321},{"$f":"INDEX('Cleaned Data'!H:H,MATCH($A820,$B$56:$B$1919,0))","v":{"$error":"#N/A"}},{"$f":"INDEX('Cleaned Data'!L:L,MATCH($A820,$B$56:$B$1919,0))","v":{"$error":"#N/A"}}]
[766,{"$f":"B820+IF('Cleaned Data'!L767>0,1,0)*IF($B$34=\"Overall\",1,IF('Cleaned Data'!K767=$B$34,1,0))*(IF('Cleaned Data'!H767<>\"\",1,0))","v":322},{"$f":"INDEX('Cleaned Data'!H:H,MATCH($A821,$B$56:$B$1919,0))","v":{"$error":"#N/A"}},{"$f":"INDEX('Cleaned Data'!L:L,MATCH($A821,$B$56:$B$1919,0))","v":{"$error":"#N/A"}}]
[767,{"$f":"B821+IF('Cleaned Data'!L768>0,1,0)*IF($B$34=\"Overall\",1,IF('Cleaned Data'!K768=$B$34,1,0))*(IF('Cleaned Data'!H768<>\"\",1,0))","v":323},{"$f":"INDEX('Cleaned Data'!H:H,MATCH($A822,$B$56:$B$1919,0))","v":{"$error":"#N/A"}},{"$f":"INDEX('Cleaned Data'!L:L,MATCH($A822,$B$56:$B$1919,0))","v":{"$error":"#N/A"}}]
[768,{"$f":"B822+IF('Cleaned Data'!L769>0,1,0)*IF($B$34=\"Overall\",1,IF('Cleaned Data'!K769=$B$34,1,0))*(IF('Cleaned Data'!H769<>\"\",1,0))","v":324},{"$f":"INDEX('Cleaned Data'!H:H,MATCH($A823,$B$56:$B$1919,0))","v":{"$error":"#N/A"}},{"$f":"INDEX('Cleaned Data'!L:L,MATCH($A823,$B$56:$B$1919,0))","v":{"$error":"#N/A"}}]
[769,{"$f":"B823+IF('Cleaned Data'!L770>0,1,0)*IF($B$34=\"Overall\",1,IF('Cleaned Data'!K770=$B$34,1,0))*(IF('Cleaned Data'!H770<>\"\",1,0))","v":325},{"$f":"INDEX('Cleaned Data'!H:H,MATCH($A824,$B$56:$B$1919,0))","v":{"$error":"#N/A"}},{"$f":"INDEX('Cleaned Data'!L:L,MATCH($A824,$B$56:$B$1919,0))","v":{"$error":"#N/A"}}]
[770,{"$f":"B824+IF('Cleaned Data'!L771>0,1,0)*IF($B$34=\"Overall\",1,IF('Cleaned Data'!K771=$B$34,1,0))*(IF('Cleaned Data'!H771<>\"\",1,0))","v":326},{"$f":"INDEX('Cleaned Data'!H:H,MATCH($A825,$B$56:$B$1919,0))","v":{"$error":"#N/A"}},{"$f":"INDEX('Cleaned Data'!L:L,MATCH($A825,$B$56:$B$1919,0))","v":{"$error":"#N/A"}}]
[771,{"$f":"B825+IF('Cleaned Data'!L772>0,1,0)*IF($B$34=\"Overall\",1,IF('Cleaned Data'!K772=$B$34,1,0))*(IF('Cleaned Data'!H772<>\"\",1,0))","v":327},{"$f":"INDEX('Cleaned Data'!H:H,MATCH($A826,$B$56:$B$1919,0))","v":{"$error":"#N/A"}},{"$f":"INDEX('Cleaned Data'!L:L,MATCH($A826,$B$56:$B$1919,0))","v":{"$error":"#N/A"}}]
[772,{"$f":"B826+IF('Cleaned Data'!L773>0,1,0)*IF($B$34=\"Overall\",1,IF('Cleaned Data'!K773=$B$34,1,0))*(IF('Cleaned Data'!H773<>\"\",1,0))","v":328},{"$f":"INDEX('Cleaned Data'!H:H,MATCH($A827,$B$56:$B$1919,0))","v":{"$error":"#N/A"}},{"$f":"INDEX('Cleaned Data'!L:L,MATCH($A827,$B$56:$B$1919,0))","v":{"$error":"#N/A"}}]
[773,{"$f":"B827+IF('Cleaned Data'!L774>0,1,0)*IF($B$34=\"Overall\",1,IF('Cleaned Data'!K774=$B$34,1,0))*(IF('Cleaned Data'!H774<>\"\",1,0))","v":329},{"$f":"INDEX('Cleaned Data'!H:H,MATCH($A828,$B$56:$B$1919,0))","v":{"$error":"#N/A"}},{"$f":"INDEX('Cleaned Data'!L:L,MATCH($A828,$B$56:$B$1919,0))","v":{"$error":"#N/A"}}]
[774,{"$f":"B828+IF('Cleaned Data'!L775>0,1,0)*IF($B$34=\"Overall\",1,IF('Cleaned Data'!K775=$B$34,1,0))*(IF('Cleaned Data'!H775<>\"\",1,0))","v":330},{"$f":"INDEX('Cleaned Data'!H:H,MATCH($A829,$B$56:$B$1919,0))","v":{"$error":"#N/A"}},{"$f":"INDEX('Cleaned Data'!L:L,MATCH($A829,$B$56:$B$1919,0))","v":{"$error":"#N/A"}}]
[775,{"$f":"B829+IF('Cleaned Data'!L776>0,1,0)*IF($B$34=\"Overall\",1,IF('Cleaned Data'!K776=$B$34,1,0))*(IF('Cleaned Data'!H776<>\"\",1,0))","v":331},{"$f":"INDEX('Cleaned Data'!H:H,MATCH($A830,$B$56:$B$1919,0))","v":{"$error":"#N/A"}},{"$f":"INDEX('Cleaned Data'!L:L,MATCH($A830,$B$56:$B$1919,0))","v":{"$error":"#N/A"}}]
[776,{"$f":"B830+IF('Cleaned Data'!L777>0,1,0)*IF($B$34=\"Overall\",1,IF('Cleaned Data'!K777=$B$34,1,0))*(IF('Cleaned Data'!H777<>\"\",1,0))","v":332},{"$f":"INDEX('Cleaned Data'!H:H,MATCH($A831,$B$56:$B$1919,0))","v":{"$error":"#N/A"}},{"$f":"INDEX('Cleaned Data'!L:L,MATCH($A831,$B$56:$B$1919,0))","v":{"$error":"#N/A"}}]
[777,{"$f":"B831+IF('Cleaned Data'!L778>0,1,0)*IF($B$34=\"Overall\",1,IF('Cleaned Data'!K778=$B$34,1,0))*(IF('Cleaned Data'!H778<>\"\",1,0))","v":333},{"$f":"INDEX('Cleaned Data'!H:H,MATCH($A832,$B$56:$B$1919,0))","v":{"$error":"#N/A"}},{"$f":"INDEX('Cleaned Data'!L:L,MATCH($A832,$B$56:$B$1919,0))","v":{"$error":"#N/A"}}]
[778,{"$f":"B832+IF('Cleaned Data'!L779>0,1,0)*IF($B$34=\"Overall\",1,IF('Cleaned Data'!K779=$B$34,1,0))*(IF('Cleaned Data'!H779<>\"\",1,0))","v":334},{"$f":"INDEX('Cleaned Data'!H:H,MATCH($A833,$B$56:$B$1919,0))","v":{"$error":"#N/A"}},{"$f":"INDEX('Cleaned Data'!L:L,MATCH($A833,$B$56:$B$1919,0))","v":{"$error":"#N/A"}}]
[779,{"$f":"B833+IF('Cleaned Data'!L780>0,1,0)*IF($B$34=\"Overall\",1,IF('Cleaned Data'!K780=$B$34,1,0))*(IF('Cleaned Data'!H780<>\"\",1,0))","v":335},{"$f":"INDEX('Cleaned Data'!H:H,MATCH($A834,$B$56:$B$1919,0))","v":{"$error":"#N/A"}},{"$f":"INDEX('Cleaned Data'!L:L,MATCH($A834,$B$56:$B$1919,0))","v":{"$error":"#N/A"}}]
[780,{"$f":"B834+IF('Cleaned Data'!L781>0,1,0)*IF($B$34=\"Overall\",1,IF('Cleaned Data'!K781=$B$34,1,0))*(IF('Cleaned Data'!H781<>\"\",1,0))","v":336},{"$f":"INDEX('Cleaned Data'!H:H,MATCH($A835,$B$56:$B$1919,0))","v":{"$error":"#N/A"}},{"$f":"INDEX('Cleaned Data'!L:L,MATCH($A835,$B$56:$B$1919,0))","v":{"$error":"#N/A"}}]
[781,{"$f":"B835+IF('Cleaned Data'!L782>0,1,0)*IF($B$34=\"Overall\",1,IF('Cleaned Data'!K782=$B$34,1,0))*(IF('Cleaned Data'!H782<>\"\",1,0))","v":337},{"$f":"INDEX('Cleaned Data'!H:H,MATCH($A836,$B$56:$B$1919,0))","v":{"$error":"#N/A"}},{"$f":"INDEX('Cleaned Data'!L:L,MATCH($A836,$B$56:$B$1919,0))","v":{"$error":"#N/A"}}]
[782,{"$f":"B836+IF('Cleaned Data'!L783>0,1,0)*IF($B$34=\"Overall\",1,IF('Cleaned Data'!K783=$B$34,1,0))*(IF('Cleaned Data'!H783<>\"\",1,0))","v":338},{"$f":"INDEX('Cleaned Data'!H:H,MATCH($A837,$B$56:$B$1919,0))","v":{"$error":"#N/A"}},{"$f":"INDEX('Cleaned Data'!L:L,MATCH($A837,$B$56:$B$1919,0))","v":{"$error":"#N/A"}}]
[783,{"$f":"B837+IF('Cleaned Data'!L784>0,1,0)*IF($B$34=\"Overall\",1,IF('Cleaned Data'!K784=$B$34,1,0))*(IF('Cleaned Data'!H784<>\"\",1,0))","v":339},{"$f":"INDEX('Cleaned Data'!H:H,MATCH($A838,$B$56:$B$1919,0))","v":{"$error":"#N/A"}},{"$f":"INDEX('Cleaned Data'!L:L,MATCH($A838,$B$56:$B$1919,0))","v":{"$error":"#N/A"}}]
[784,{"$f":"B838+IF('Cleaned Data'!L785>0,1,0)*IF($B$34=\"Overall\",1,IF('Cleaned Data'!K785=$B$34,1,0))*(IF('Cleaned Data'!H785<>\"\",1,0))","v":340},{"$f":"INDEX('Cleaned Data'!H:H,MATCH($A839,$B$56:$B$1919,0))","v":{"$error":"#N/A"}},{"$f":"INDEX('Cleaned Data'!L:L,MATCH($A839,$B$56:$B$1919,0))","v":{"$error":"#N/A"}}]
[785,{"$f":"B839+IF('Cleaned Data'!L786>0,1,0)*IF($B$34=\"Overall\",1,IF('Cleaned Data'!K786=$B$34,1,0))*(IF('Cleaned Data'!H786<>\"\",1,0))","v":341},{"$f":"INDEX('Cleaned Data'!H:H,MATCH($A840,$B$56:$B$1919,0))","v":{"$error":"#N/A"}},{"$f":"INDEX('Cleaned Data'!L:L,MATCH($A840,$B$56:$B$1919,0))","v":{"$error":"#N/A"}}]
[786,{"$f":"B840+IF('Cleaned Data'!L787>0,1,0)*IF($B$34=\"Overall\",1,IF('Cleaned Data'!K787=$B$34,1,0))*(IF('Cleaned Data'!H787<>\"\",1,0))","v":342},{"$f":"INDEX('Cleaned Data'!H:H,MATCH($A841,$B$56:$B$1919,0))","v":{"$error":"#N/A"}},{"$f":"INDEX('Cleaned Data'!L:L,MATCH($A841,$B$56:$B$1919,0))","v":{"$error":"#N/A"}}]
[787,{"$f":"B841+IF('Cleaned Data'!L788>0,1,0)*IF($B$34=\"Overall\",1,IF('Cleaned Data'!K788=$B$34,1,0))*(IF('Cleaned Data'!H788<>\"\",1,0))","v":343},{"$f":"INDEX('Cleaned Data'!H:H,MATCH($A842,$B$56:$B$1919,0))","v":{"$error":"#N/A"}},{"$f":"INDEX('Cleaned Data'!L:L,MATCH($A842,$B$56:$B$1919,0))","v":{"$error":"#N/A"}}]
[788,{"$f":"B842+IF('Cleaned Data'!L789>0,1,0)*IF($B$34=\"Overall\",1,IF('Cleaned Data'!K789=$B$34,1,0))*(IF('Cleaned Data'!H789<>\"\",1,0))","v":344},{"$f":"INDEX('Cleaned Data'!H:H,MATCH($A843,$B$56:$B$1919,0))","v":{"$error":"#N/A"}},{"$f":"INDEX('Cleaned Data'!L:L,MATCH($A843,$B$56:$B$1919,0))","v":{"$error":"#N/A"}}]
[789,{"$f":"B843+IF('Cleaned Data'!L790>0,1,0)*IF($B$34=\"Overall\",1,IF('Cleaned Data'!K790=$B$34,1,0))*(IF('Cleaned Data'!H790<>\"\",1,0))","v":345},{"$f":"INDEX('Cleaned Data'!H:H,MATCH($A844,$B$56:$B$1919,0))","v":{"$error":"#N/A"}},{"$f":"INDEX('Cleaned Data'!L:L,MATCH($A844,$B$56:$B$1919,0))","v":{"$error":"#N/A"}}]
[790,{"$f":"B844+IF('Cleaned Data'!L791>0,1,0)*IF($B$34=\"Overall\",1,IF('Cleaned Data'!K791=$B$34,1,0))*(IF('Cleaned Data'!H791<>\"\",1,0))","v":346},{"$f":"INDEX('Cleaned Data'!H:H,MATCH($A845,$B$56:$B$1919,0))","v":{"$error":"#N/A"}},{"$f":"INDEX('Cleaned Data'!L:L,MATCH($A845,$B$56:$B$1919,0))","v":{"$error":"#N/A"}}]
[791,{"$f":"B845+IF('Cleaned Data'!L792>0,1,0)*IF($B$34=\"Overall\",1,IF('Cleaned Data'!K792=$B$34,1,0))*(IF('Cleaned Data'!H792<>\"\",1,0))","v":347},{"$f":"INDEX('Cleaned Data'!H:H,MATCH($A846,$B$56:$B$1919,0))","v":{"$error":"#N/A"}},{"$f":"INDEX('Cleaned Data'!L:L,MATCH($A846,$B$56:$B$1919,0))","v":{"$error":"#N/A"}}]
[792,{"$f":"B846+IF('Cleaned Data'!L793>0,1,0)*IF($B$34=\"Overall\",1,IF('Cleaned Data'!K793=$B$34,1,0))*(IF('Cleaned Data'!H793<>\"\",1,0))","v":348},{"$f":"INDEX('Cleaned Data'!H:H,MATCH($A847,$B$56:$B$1919,0))","v":{"$error":"#N/A"}},{"$f":"INDEX('Cleaned Data'!L:L,MATCH($A847,$B$56:$B$1919,0))","v":{"$error":"#N/A"}}]
[793,{"$f":"B847+IF('Cleaned Data'!L794>0,1,0)*IF($B$34=\"Overall\",1,IF('Cleaned Data'!K794=$B$34,1,0))*(IF('Cleaned Data'!H794<>\"\",1,0))","v":349},{"$f":"INDEX('Cleaned Data'!H:H,MATCH($A848,$B$56:$B$1919,0))","v":{"$error":"#N/A"}},{"$f":"INDEX('Cleaned Data'!L:L,MATCH($A848,$B$56:$B$1919,0))","v":{"$error":"#N/A"}}]
[794,{"$f":"B848+IF('Cleaned Data'!L795>0,1,0)*IF($B$34=\"Overall\",1,IF('Cleaned Data'!K795=$B$34,1,0))*(IF('Cleaned Data'!H795<>\"\",1,0))","v":350},{"$f":"INDEX('Cleaned Data'!H:H,MATCH($A849,$B$56:$B$1919,0))","v":{"$error":"#N/A"}},{"$f":"INDEX('Cleaned Data'!L:L,MATCH($A849,$B$56:$B$1919,0))","v":{"$error":"#N/A"}}]
[795,{"$f":"B849+IF('Cleaned Data'!L796>0,1,0)*IF($B$34=\"Overall\",1,IF('Cleaned Data'!K796=$B$34,1,0))*(IF('Cleaned Data'!H796<>\"\",1,0))","v":350},{"$f":"INDEX('Cleaned Data'!H:H,MATCH($A850,$B$56:$B$1919,0))","v":{"$error":"#N/A"}},{"$f":"INDEX('Cleaned Data'!L:L,MATCH($A850,$B$56:$B$1919,0))","v":{"$error":"#N/A"}}]
[796,{"$f":"B850+IF('Cleaned Data'!L797>0,1,0)*IF($B$34=\"Overall\",1,IF('Cleaned Data'!K797=$B$34,1,0))*(IF('Cleaned Data'!H797<>\"\",1,0))","v":350},{"$f":"INDEX('Cleaned Data'!H:H,MATCH($A851,$B$56:$B$1919,0))","v":{"$error":"#N/A"}},{"$f":"INDEX('Cleaned Data'!L:L,MATCH($A851,$B$56:$B$1919,0))","v":{"$error":"#N/A"}}]
[797,{"$f":"B851+IF('Cleaned Data'!L798>0,1,0)*IF($B$34=\"Overall\",1,IF('Cleaned Data'!K798=$B$34,1,0))*(IF('Cleaned Data'!H798<>\"\",1,0))","v":351},{"$f":"INDEX('Cleaned Data'!H:H,MATCH($A852,$B$56:$B$1919,0))","v":{"$error":"#N/A"}},{"$f":"INDEX('Cleaned Data'!L:L,MATCH($A852,$B$56:$B$1919,0))","v":{"$error":"#N/A"}}]
[798,{"$f":"B852+IF('Cleaned Data'!L799>0,1,0)*IF($B$34=\"Overall\",1,IF('Cleaned Data'!K799=$B$34,1,0))*(IF('Cleaned Data'!H799<>\"\",1,0))","v":351},{"$f":"INDEX('Cleaned Data'!H:H,MATCH($A853,$B$56:$B$1919,0))","v":{"$error":"#N/A"}},{"$f":"INDEX('Cleaned Data'!L:L,MATCH($A853,$B$56:$B$1919,0))","v":{"$error":"#N/A"}}]
[799,{"$f":"B853+IF('Cleaned Data'!L800>0,1,0)*IF($B$34=\"Overall\",1,IF('Cleaned Data'!K800=$B$34,1,0))*(IF('Cleaned Data'!H800<>\"\",1,0))","v":351},{"$f":"INDEX('Cleaned Data'!H:H,MATCH($A854,$B$56:$B$1919,0))","v":{"$error":"#N/A"}},{"$f":"INDEX('Cleaned Data'!L:L,MATCH($A854,$B$56:$B$1919,0))","v":{"$error":"#N/A"}}]
[800,{"$f":"B854+IF('Cleaned Data'!L801>0,1,0)*IF($B$34=\"Overall\",1,IF('Cleaned Data'!K801=$B$34,1,0))*(IF('Cleaned Data'!H801<>\"\",1,0))","v":351},{"$f":"INDEX('Cleaned Data'!H:H,MATCH($A855,$B$56:$B$1919,0))","v":{"$error":"#N/A"}},{"$f":"INDEX('Cleaned Data'!L:L,MATCH($A855,$B$56:$B$1919,0))","v":{"$error":"#N/A"}}]
[801,{"$f":"B855+IF('Cleaned Data'!L802>0,1,0)*IF($B$34=\"Overall\",1,IF('Cleaned Data'!K802=$B$34,1,0))*(IF('Cleaned Data'!H802<>\"\",1,0))","v":351},{"$f":"INDEX('Cleaned Data'!H:H,MATCH($A856,$B$56:$B$1919,0))","v":{"$error":"#N/A"}},{"$f":"INDEX('Cleaned Data'!L:L,MATCH($A856,$B$56:$B$1919,0))","v":{"$error":"#N/A"}}]
[802,{"$f":"B856+IF('Cleaned Data'!L803>0,1,0)*IF($B$34=\"Overall\",1,IF('Cleaned Data'!K803=$B$34,1,0))*(IF('Cleaned Data'!H803<>\"\",1,0))","v":352},{"$f":"INDEX('Cleaned Data'!H:H,MATCH($A857,$B$56:$B$1919,0))","v":{"$error":"#N/A"}},{"$f":"INDEX('Cleaned Data'!L:L,MATCH($A857,$B$56:$B$1919,0))","v":{"$error":"#N/A"}}]
[803,{"$f":"B857+IF('Cleaned Data'!L804>0,1,0)*IF($B$34=\"Overall\",1,IF('Cleaned Data'!K804=$B$34,1,0))*(IF('Cleaned Data'!H804<>\"\",1,0))","v":353},{"$f":"INDEX('Cleaned Data'!H:H,MATCH($A858,$B$56:$B$1919,0))","v":{"$error":"#N/A"}},{"$f":"INDEX('Cleaned Data'!L:L,MATCH($A858,$B$56:$B$1919,0))","v":{"$error":"#N/A"}}]
[804,{"$f":"B858+IF('Cleaned Data'!L805>0,1,0)*IF($B$34=\"Overall\",1,IF('Cleaned Data'!K805=$B$34,1,0))*(IF('Cleaned Data'!H805<>\"\",1,0))","v":354},{"$f":"INDEX('Cleaned Data'!H:H,MATCH($A859,$B$56:$B$1919,0))","v":{"$error":"#N/A"}},{"$f":"INDEX('Cleaned Data'!L:L,MATCH($A859,$B$56:$B$1919,0))","v":{"$error":"#N/A"}}]
[805,{"$f":"B859+IF('Cleaned Data'!L806>0,1,0)*IF($B$34=\"Overall\",1,IF('Cleaned Data'!K806=$B$34,1,0))*(IF('Cleaned Data'!H806<>\"\",1,0))","v":355},{"$f":"INDEX('Cleaned Data'!H:H,MATCH($A860,$B$56:$B$1919,0))","v":{"$error":"#N/A"}},{"$f":"INDEX('Cleaned Data'!L:L,MATCH($A860,$B$56:$B$1919,0))","v":{"$error":"#N/A"}}]
[806,{"$f":"B860+IF('Cleaned Data'!L807>0,1,0)*IF($B$34=\"Overall\",1,IF('Cleaned Data'!K807=$B$34,1,0))*(IF('Cleaned Data'!H807<>\"\",1,0))","v":355},{"$f":"INDEX('Cleaned Data'!H:H,MATCH($A861,$B$56:$B$1919,0))","v":{"$error":"#N/A"}},{"$f":"INDEX('Cleaned Data'!L:L,MATCH($A861,$B$56:$B$1919,0))","v":{"$error":"#N/A"}}]
[807,{"$f":"B861+IF('Cleaned Data'!L808>0,1,0)*IF($B$34=\"Overall\",1,IF('Cleaned Data'!K808=$B$34,1,0))*(IF('Cleaned Data'!H808<>\"\",1,0))","v":355},{"$f":"INDEX('Cleaned Data'!H:H,MATCH($A862,$B$56:$B$1919,0))","v":{"$error":"#N/A"}},{"$f":"INDEX('Cleaned Data'!L:L,MATCH($A862,$B$56:$B$1919,0))","v":{"$error":"#N/A"}}]
[808,{"$f":"B862+IF('Cleaned Data'!L809>0,1,0)*IF($B$34=\"Overall\",1,IF('Cleaned Data'!K809=$B$34,1,0))*(IF('Cleaned Data'!H809<>\"\",1,0))","v":355},{"$f":"INDEX('Cleaned Data'!H:H,MATCH($A863,$B$56:$B$1919,0))","v":{"$error":"#N/A"}},{"$f":"INDEX('Cleaned Data'!L:L,MATCH($A863,$B$56:$B$1919,0))","v":{"$error":"#N/A"}}]
[809,{"$f":"B863+IF('Cleaned Data'!L810>0,1,0)*IF($B$34=\"Overall\",1,IF('Cleaned Data'!K810=$B$34,1,0))*(IF('Cleaned Data'!H810<>\"\",1,0))","v":355},{"$f":"INDEX('Cleaned Data'!H:H,MATCH($A864,$B$56:$B$1919,0))","v":{"$error":"#N/A"}},{"$f":"INDEX('Cleaned Data'!L:L,MATCH($A864,$B$56:$B$1919,0))","v":{"$error":"#N/A"}}]
[810,{"$f":"B864+IF('Cleaned Data'!L811>0,1,0)*IF($B$34=\"Overall\",1,IF('Cleaned Data'!K811=$B$34,1,0))*(IF('Cleaned Data'!H811<>\"\",1,0))","v":355},{"$f":"INDEX('Cleaned Data'!H:H,MATCH($A865,$B$56:$B$1919,0))","v":{"$error":"#N/A"}},{"$f":"INDEX('Cleaned Data'!L:L,MATCH($A865,$B$56:$B$1919,0))","v":{"$error":"#N/A"}}]
[811,{"$f":"B865+IF('Cleaned Data'!L812>0,1,0)*IF($B$34=\"Overall\",1,IF('Cleaned Data'!K812=$B$34,1,0))*(IF('Cleaned Data'!H812<>\"\",1,0))","v":355},{"$f":"INDEX('Cleaned Data'!H:H,MATCH($A866,$B$56:$B$1919,0))","v":{"$error":"#N/A"}},{"$f":"INDEX('Cleaned Data'!L:L,MATCH($A866,$B$56:$B$1919,0))","v":{"$error":"#N/A"}}]
[812,{"$f":"B866+IF('Cleaned Data'!L813>0,1,0)*IF($B$34=\"Overall\",1,IF('Cleaned Data'!K813=$B$34,1,0))*(IF('Cleaned Data'!H813<>\"\",1,0))","v":355},{"$f":"INDEX('Cleaned Data'!H:H,MATCH($A867,$B$56:$B$1919,0))","v":{"$error":"#N/A"}},{"$f":"INDEX('Cleaned Data'!L:L,MATCH($A867,$B$56:$B$1919,0))","v":{"$error":"#N/A"}}]
[813,{"$f":"B867+IF('Cleaned Data'!L814>0,1,0)*IF($B$34=\"Overall\",1,IF('Cleaned Data'!K814=$B$34,1,0))*(IF('Cleaned Data'!H814<>\"\",1,0))","v":355},{"$f":"INDEX('Cleaned Data'!H:H,MATCH($A868,$B$56:$B$1919,0))","v":{"$error":"#N/A"}},{"$f":"INDEX('Cleaned Data'!L:L,MATCH($A868,$B$56:$B$1919,0))","v":{"$error":"#N/A"}}]
[814,{"$f":"B868+IF('Cleaned Data'!L815>0,1,0)*IF($B$34=\"Overall\",1,IF('Cleaned Data'!K815=$B$34,1,0))*(IF('Cleaned Data'!H815<>\"\",1,0))","v":355},{"$f":"INDEX('Cleaned Data'!H:H,MATCH($A869,$B$56:$B$1919,0))","v":{"$error":"#N/A"}},{"$f":"INDEX('Cleaned Data'!L:L,MATCH($A869,$B$56:$B$1919,0))","v":{"$error":"#N/A"}}]
[815,{"$f":"B869+IF('Cleaned Data'!L816>0,1,0)*IF($B$34=\"Overall\",1,IF('Cleaned Data'!K816=$B$34,1,0))*(IF('Cleaned Data'!H816<>\"\",1,0))","v":355},{"$f":"INDEX('Cleaned Data'!H:H,MATCH($A870,$B$56:$B$1919,0))","v":{"$error":"#N/A"}},{"$f":"INDEX('Cleaned Data'!L:L,MATCH($A870,$B$56:$B$1919,0))","v":{"$error":"#N/A"}}]
[816,{"$f":"B870+IF('Cleaned Data'!L817>0,1,0)*IF($B$34=\"Overall\",1,IF('Cleaned Data'!K817=$B$34,1,0))*(IF('Cleaned Data'!H817<>\"\",1,0))","v":355},{"$f":"INDEX('Cleaned Data'!H:H,MATCH($A871,$B$56:$B$1919,0))","v":{"$error":"#N/A"}},{"$f":"INDEX('Cleaned Data'!L:L,MATCH($A871,$B$56:$B$1919,0))","v":{"$error":"#N/A"}}]
[817,{"$f":"B871+IF('Cleaned Data'!L818>0,1,0)*IF($B$34=\"Overall\",1,IF('Cleaned Data'!K818=$B$34,1,0))*(IF('Cleaned Data'!H818<>\"\",1,0))","v":355},{"$f":"INDEX('Cleaned Data'!H:H,MATCH($A872,$B$56:$B$1919,0))","v":{"$error":"#N/A"}},{"$f":"INDEX('Cleaned Data'!L:L,MATCH($A872,$B$56:$B$1919,0))","v":{"$error":"#N/A"}}]
[818,{"$f":"B872+IF('Cleaned Data'!L819>0,1,0)*IF($B$34=\"Overall\",1,IF('Cleaned Data'!K819=$B$34,1,0))*(IF('Cleaned Data'!H819<>\"\",1,0))","v":355},{"$f":"INDEX('Cleaned Data'!H:H,MATCH($A873,$B$56:$B$1919,0))","v":{"$error":"#N/A"}},{"$f":"INDEX('Cleaned Data'!L:L,MATCH($A873,$B$56:$B$1919,0))","v":{"$error":"#N/A"}}]
[819,{"$f":"B873+IF('Cleaned Data'!L820>0,1,0)*IF($B$34=\"Overall\",1,IF('Cleaned Data'!K820=$B$34,1,0))*(IF('Cleaned Data'!H820<>\"\",1,0))","v":355},{"$f":"INDEX('Cleaned Data'!H:H,MATCH($A874,$B$56:$B$1919,0))","v":{"$error":"#N/A"}},{"$f":"INDEX('Cleaned Data'!L:L,MATCH($A874,$B$56:$B$1919,0))","v":{"$error":"#N/A"}}]
[820,{"$f":"B874+IF('Cleaned Data'!L821>0,1,0)*IF($B$34=\"Overall\",1,IF('Cleaned Data'!K821=$B$34,1,0))*(IF('Cleaned Data'!H821<>\"\",1,0))","v":355},{"$f":"INDEX('Cleaned Data'!H:H,MATCH($A875,$B$56:$B$1919,0))","v":{"$error":"#N/A"}},{"$f":"INDEX('Cleaned Data'!L:L,MATCH($A875,$B$56:$B$1919,0))","v":{"$error":"#N/A"}}]
[821,{"$f":"B875+IF('Cleaned Data'!L822>0,1,0)*IF($B$34=\"Overall\",1,IF('Cleaned Data'!K822=$B$34,1,0))*(IF('Cleaned Data'!H822<>\"\",1,0))","v":355},{"$f":"INDEX('Cleaned Data'!H:H,MATCH($A876,$B$56:$B$1919,0))","v":{"$error":"#N/A"}},{"$f":"INDEX('Cleaned Data'!L:L,MATCH($A876,$B$56:$B$1919,0))","v":{"$error":"#N/A"}}]
[822,{"$f":"B876+IF('Cleaned Data'!L823>0,1,0)*IF($B$34=\"Overall\",1,IF('Cleaned Data'!K823=$B$34,1,0))*(IF('Cleaned Data'!H823<>\"\",1,0))","v":355},{"$f":"INDEX('Cleaned Data'!H:H,MATCH($A877,$B$56:$B$1919,0))","v":{"$error":"#N/A"}},{"$f":"INDEX('Cleaned Data'!L:L,MATCH($A877,$B$56:$B$1919,0))","v":{"$error":"#N/A"}}]
[823,{"$f":"B877+IF('Cleaned Data'!L824>0,1,0)*IF($B$34=\"Overall\",1,IF('Cleaned Data'!K824=$B$34,1,0))*(IF('Cleaned Data'!H824<>\"\",1,0))","v":356},{"$f":"INDEX('Cleaned Data'!H:H,MATCH($A878,$B$56:$B$1919,0))","v":{"$error":"#N/A"}},{"$f":"INDEX('Cleaned Data'!L:L,MATCH($A878,$B$56:$B$1919,0))","v":{"$error":"#N/A"}}]
[824,{"$f":"B878+IF('Cleaned Data'!L825>0,1,0)*IF($B$34=\"Overall\",1,IF('Cleaned Data'!K825=$B$34,1,0))*(IF('Cleaned Data'!H825<>\"\",1,0))","v":357},{"$f":"INDEX('Cleaned Data'!H:H,MATCH($A879,$B$56:$B$1919,0))","v":{"$error":"#N/A"}},{"$f":"INDEX('Cleaned Data'!L:L,MATCH($A879,$B$56:$B$1919,0))","v":{"$error":"#N/A"}}]
[825,{"$f":"B879+IF('Cleaned Data'!L826>0,1,0)*IF($B$34=\"Overall\",1,IF('Cleaned Data'!K826=$B$34,1,0))*(IF('Cleaned Data'!H826<>\"\",1,0))","v":358},{"$f":"INDEX('Cleaned Data'!H:H,MATCH($A880,$B$56:$B$1919,0))","v":{"$error":"#N/A"}},{"$f":"INDEX('Cleaned Data'!L:L,MATCH($A880,$B$56:$B$1919,0))","v":{"$error":"#N/A"}}]
[826,{"$f":"B880+IF('Cleaned Data'!L827>0,1,0)*IF($B$34=\"Overall\",1,IF('Cleaned Data'!K827=$B$34,1,0))*(IF('Cleaned Data'!H827<>\"\",1,0))","v":359},{"$f":"INDEX('Cleaned Data'!H:H,MATCH($A881,$B$56:$B$1919,0))","v":{"$error":"#N/A"}},{"$f":"INDEX('Cleaned Data'!L:L,MATCH($A881,$B$56:$B$1919,0))","v":{"$error":"#N/A"}}]
[827,{"$f":"B881+IF('Cleaned Data'!L828>0,1,0)*IF($B$34=\"Overall\",1,IF('Cleaned Data'!K828=$B$34,1,0))*(IF('Cleaned Data'!H828<>\"\",1,0))","v":359},{"$f":"INDEX('Cleaned Data'!H:H,MATCH($A882,$B$56:$B$1919,0))","v":{"$error":"#N/A"}},{"$f":"INDEX('Cleaned Data'!L:L,MATCH($A882,$B$56:$B$1919,0))","v":{"$error":"#N/A"}}]
[828,{"$f":"B882+IF('Cleaned Data'!L829>0,1,0)*IF($B$34=\"Overall\",1,IF('Cleaned Data'!K829=$B$34,1,0))*(IF('Cleaned Data'!H829<>\"\",1,0))","v":359},{"$f":"INDEX('Cleaned Data'!H:H,MATCH($A883,$B$56:$B$1919,0))","v":{"$error":"#N/A"}},{"$f":"INDEX('Cleaned Data'!L:L,MATCH($A883,$B$56:$B$1919,0))","v":{"$error":"#N/A"}}]
[829,{"$f":"B883+IF('Cleaned Data'!L830>0,1,0)*IF($B$34=\"Overall\",1,IF('Cleaned Data'!K830=$B$34,1,0))*(IF('Cleaned Data'!H830<>\"\",1,0))","v":360},{"$f":"INDEX('Cleaned Data'!H:H,MATCH($A884,$B$56:$B$1919,0))","v":{"$error":"#N/A"}},{"$f":"INDEX('Cleaned Data'!L:L,MATCH($A884,$B$56:$B$1919,0))","v":{"$error":"#N/A"}}]
[830,{"$f":"B884+IF('Cleaned Data'!L831>0,1,0)*IF($B$34=\"Overall\",1,IF('Cleaned Data'!K831=$B$34,1,0))*(IF('Cleaned Data'!H831<>\"\",1,0))","v":361},{"$f":"INDEX('Cleaned Data'!H:H,MATCH($A885,$B$56:$B$1919,0))","v":{"$error":"#N/A"}},{"$f":"INDEX('Cleaned Data'!L:L,MATCH($A885,$B$56:$B$1919,0))","v":{"$error":"#N/A"}}]
[831,{"$f":"B885+IF('Cleaned Data'!L832>0,1,0)*IF($B$34=\"Overall\",1,IF('Cleaned Data'!K832=$B$34,1,0))*(IF('Cleaned Data'!H832<>\"\",1,0))","v":362},{"$f":"INDEX('Cleaned Data'!H:H,MATCH($A886,$B$56:$B$1919,0))","v":{"$error":"#N/A"}},{"$f":"INDEX('Cleaned Data'!L:L,MATCH($A886,$B$56:$B$1919,0))","v":{"$error":"#N/A"}}]
[832,{"$f":"B886+IF('Cleaned Data'!L833>0,1,0)*IF($B$34=\"Overall\",1,IF('Cleaned Data'!K833=$B$34,1,0))*(IF('Cleaned Data'!H833<>\"\",1,0))","v":363},{"$f":"INDEX('Cleaned Data'!H:H,MATCH($A887,$B$56:$B$1919,0))","v":{"$error":"#N/A"}},{"$f":"INDEX('Cleaned Data'!L:L,MATCH($A887,$B$56:$B$1919,0))","v":{"$error":"#N/A"}}]
[833,{"$f":"B887+IF('Cleaned Data'!L834>0,1,0)*IF($B$34=\"Overall\",1,IF('Cleaned Data'!K834=$B$34,1,0))*(IF('Cleaned Data'!H834<>\"\",1,0))","v":364},{"$f":"INDEX('Cleaned Data'!H:H,MATCH($A888,$B$56:$B$1919,0))","v":{"$error":"#N/A"}},{"$f":"INDEX('Cleaned Data'!L:L,MATCH($A888,$B$56:$B$1919,0))","v":{"$error":"#N/A"}}]
[834,{"$f":"B888+IF('Cleaned Data'!L835>0,1,0)*IF($B$34=\"Overall\",1,IF('Cleaned Data'!K835=$B$34,1,0))*(IF('Cleaned Data'!H835<>\"\",1,0))","v":365},{"$f":"INDEX('Cleaned Data'!H:H,MATCH($A889,$B$56:$B$1919,0))","v":{"$error":"#N/A"}},{"$f":"INDEX('Cleaned Data'!L:L,MATCH($A889,$B$56:$B$1919,0))","v":{"$error":"#N/A"}}]
[835,{"$f":"B889+IF('Cleaned Data'!L836>0,1,0)*IF($B$34=\"Overall\",1,IF('Cleaned Data'!K836=$B$34,1,0))*(IF('Cleaned Data'!H836<>\"\",1,0))","v":366},{"$f":"INDEX('Cleaned Data'!H:H,MATCH($A890,$B$56:$B$1919,0))","v":{"$error":"#N/A"}},{"$f":"INDEX('Cleaned Data'!L:L,MATCH($A890,$B$56:$B$1919,0))","v":{"$error":"#N/A"}}]
[836,{"$f":"B890+IF('Cleaned Data'!L837>0,1,0)*IF($B$34=\"Overall\",1,IF('Cleaned Data'!K837=$B$34,1,0))*(IF('Cleaned Data'!H837<>\"\",1,0))","v":367},{"$f":"INDEX('Cleaned Data'!H:H,MATCH($A891,$B$56:$B$1919,0))","v":{"$error":"#N/A"}},{"$f":"INDEX('Cleaned Data'!L:L,MATCH($A891,$B$56:$B$1919,0))","v":{"$error":"#N/A"}}]
[837,{"$f":"B891+IF('Cleaned Data'!L838>0,1,0)*IF($B$34=\"Overall\",1,IF('Cleaned Data'!K838=$B$34,1,0))*(IF('Cleaned Data'!H838<>\"\",1,0))","v":368},{"$f":"INDEX('Cleaned Data'!H:H,MATCH($A892,$B$56:$B$1919,0))","v":{"$error":"#N/A"}},{"$f":"INDEX('Cleaned Data'!L:L,MATCH($A892,$B$56:$B$1919,0))","v":{"$error":"#N/A"}}]
[838,{"$f":"B892+IF('Cleaned Data'!L839>0,1,0)*IF($B$34=\"Overall\",1,IF('Cleaned Data'!K839=$B$34,1,0))*(IF('Cleaned Data'!H839<>\"\",1,0))","v":368},{"$f":"INDEX('Cleaned Data'!H:H,MATCH($A893,$B$56:$B$1919,0))","v":{"$error":"#N/A"}},{"$f":"INDEX('Cleaned Data'!L:L,MATCH($A893,$B$56:$B$1919,0))","v":{"$error":"#N/A"}}]
[839,{"$f":"B893+IF('Cleaned Data'!L840>0,1,0)*IF($B$34=\"Overall\",1,IF('Cleaned Data'!K840=$B$34,1,0))*(IF('Cleaned Data'!H840<>\"\",1,0))","v":368},{"$f":"INDEX('Cleaned Data'!H:H,MATCH($A894,$B$56:$B$1919,0))","v":{"$error":"#N/A"}},{"$f":"INDEX('Cleaned Data'!L:L,MATCH($A894,$B$56:$B$1919,0))","v":{"$error":"#N/A"}}]
[840,{"$f":"B894+IF('Cleaned Data'!L841>0,1,0)*IF($B$34=\"Overall\",1,IF('Cleaned Data'!K841=$B$34,1,0))*(IF('Cleaned Data'!H841<>\"\",1,0))","v":368},{"$f":"INDEX('Cleaned Data'!H:H,MATCH($A895,$B$56:$B$1919,0))","v":{"$error":"#N/A"}},{"$f":"INDEX('Cleaned Data'!L:L,MATCH($A895,$B$56:$B$1919,0))","v":{"$error":"#N/A"}}]
[841,{"$f":"B895+IF('Cleaned Data'!L842>0,1,0)*IF($B$34=\"Overall\",1,IF('Cleaned Data'!K842=$B$34,1,0))*(IF('Cleaned Data'!H842<>\"\",1,0))","v":368},{"$f":"INDEX('Cleaned Data'!H:H,MATCH($A896,$B$56:$B$1919,0))","v":{"$error":"#N/A"}},{"$f":"INDEX('Cleaned Data'!L:L,MATCH($A896,$B$56:$B$1919,0))","v":{"$error":"#N/A"}}]
[842,{"$f":"B896+IF('Cleaned Data'!L843>0,1,0)*IF($B$34=\"Overall\",1,IF('Cleaned Data'!K843=$B$34,1,0))*(IF('Cleaned Data'!H843<>\"\",1,0))","v":368},{"$f":"INDEX('Cleaned Data'!H:H,MATCH($A897,$B$56:$B$1919,0))","v":{"$error":"#N/A"}},{"$f":"INDEX('Cleaned Data'!L:L,MATCH($A897,$B$56:$B$1919,0))","v":{"$error":"#N/A"}}]
[843,{"$f":"B897+IF('Cleaned Data'!L844>0,1,0)*IF($B$34=\"Overall\",1,IF('Cleaned Data'!K844=$B$34,1,0))*(IF('Cleaned Data'!H844<>\"\",1,0))","v":368},{"$f":"INDEX('Cleaned Data'!H:H,MATCH($A898,$B$56:$B$1919,0))","v":{"$error":"#N/A"}},{"$f":"INDEX('Cleaned Data'!L:L,MATCH($A898,$B$56:$B$1919,0))","v":{"$error":"#N/A"}}]
[844,{"$f":"B898+IF('Cleaned Data'!L845>0,1,0)*IF($B$34=\"Overall\",1,IF('Cleaned Data'!K845=$B$34,1,0))*(IF('Cleaned Data'!H845<>\"\",1,0))","v":368},{"$f":"INDEX('Cleaned Data'!H:H,MATCH($A899,$B$56:$B$1919,0))","v":{"$error":"#N/A"}},{"$f":"INDEX('Cleaned Data'!L:L,MATCH($A899,$B$56:$B$1919,0))","v":{"$error":"#N/A"}}]
[845,{"$f":"B899+IF('Cleaned Data'!L846>0,1,0)*IF($B$34=\"Overall\",1,IF('Cleaned Data'!K846=$B$34,1,0))*(IF('Cleaned Data'!H846<>\"\",1,0))","v":368},{"$f":"INDEX('Cleaned Data'!H:H,MATCH($A900,$B$56:$B$1919,0))","v":{"$error":"#N/A"}},{"$f":"INDEX('Cleaned Data'!L:L,MATCH($A900,$B$56:$B$1919,0))","v":{"$error":"#N/A"}}]
[846,{"$f":"B900+IF('Cleaned Data'!L847>0,1,0)*IF($B$34=\"Overall\",1,IF('Cleaned Data'!K847=$B$34,1,0))*(IF('Cleaned Data'!H847<>\"\",1,0))","v":368},{"$f":"INDEX('Cleaned Data'!H:H,MATCH($A901,$B$56:$B$1919,0))","v":{"$error":"#N/A"}},{"$f":"INDEX('Cleaned Data'!L:L,MATCH($A901,$B$56:$B$1919,0))","v":{"$error":"#N/A"}}]
[847,{"$f":"B901+IF('Cleaned Data'!L848>0,1,0)*IF($B$34=\"Overall\",1,IF('Cleaned Data'!K848=$B$34,1,0))*(IF('Cleaned Data'!H848<>\"\",1,0))","v":368},{"$f":"INDEX('Cleaned Data'!H:H,MATCH($A902,$B$56:$B$1919,0))","v":{"$error":"#N/A"}},{"$f":"INDEX('Cleaned Data'!L:L,MATCH($A902,$B$56:$B$1919,0))","v":{"$error":"#N/A"}}]
[848,{"$f":"B902+IF('Cleaned Data'!L849>0,1,0)*IF($B$34=\"Overall\",1,IF('Cleaned Data'!K849=$B$34,1,0))*(IF('Cleaned Data'!H849<>\"\",1,0))","v":368},{"$f":"INDEX('Cleaned Data'!H:H,MATCH($A903,$B$56:$B$1919,0))","v":{"$error":"#N/A"}},{"$f":"INDEX('Cleaned Data'!L:L,MATCH($A903,$B$56:$B$1919,0))","v":{"$error":"#N/A"}}]
[849,{"$f":"B903+IF('Cleaned Data'!L850>0,1,0)*IF($B$34=\"Overall\",1,IF('Cleaned Data'!K850=$B$34,1,0))*(IF('Cleaned Data'!H850<>\"\",1,0))","v":368},{"$f":"INDEX('Cleaned Data'!H:H,MATCH($A904,$B$56:$B$1919,0))","v":{"$error":"#N/A"}},{"$f":"INDEX('Cleaned Data'!L:L,MATCH($A904,$B$56:$B$1919,0))","v":{"$error":"#N/A"}}]
[850,{"$f":"B904+IF('Cleaned Data'!L851>0,1,0)*IF($B$34=\"Overall\",1,IF('Cleaned Data'!K851=$B$34,1,0))*(IF('Cleaned Data'!H851<>\"\",1,0))","v":368},{"$f":"INDEX('Cleaned Data'!H:H,MATCH($A905,$B$56:$B$1919,0))","v":{"$error":"#N/A"}},{"$f":"INDEX('Cleaned Data'!L:L,MATCH($A905,$B$56:$B$1919,0))","v":{"$error":"#N/A"}}]
[851,{"$f":"B905+IF('Cleaned Data'!L852>0,1,0)*IF($B$34=\"Overall\",1,IF('Cleaned Data'!K852=$B$34,1,0))*(IF('Cleaned Data'!H852<>\"\",1,0))","v":368},{"$f":"INDEX('Cleaned Data'!H:H,MATCH($A906,$B$56:$B$1919,0))","v":{"$error":"#N/A"}},{"$f":"INDEX('Cleaned Data'!L:L,MATCH($A906,$B$56:$B$1919,0))","v":{"$error":"#N/A"}}]
[852,{"$f":"B906+IF('Cleaned Data'!L853>0,1,0)*IF($B$34=\"Overall\",1,IF('Cleaned Data'!K853=$B$34,1,0))*(IF('Cleaned Data'!H853<>\"\",1,0))","v":368},{"$f":"INDEX('Cleaned Data'!H:H,MATCH($A907,$B$56:$B$1919,0))","v":{"$error":"#N/A"}},{"$f":"INDEX('Cleaned Data'!L:L,MATCH($A907,$B$56:$B$1919,0))","v":{"$error":"#N/A"}}]
[853,{"$f":"B907+IF('Cleaned Data'!L854>0,1,0)*IF($B$34=\"Overall\",1,IF('Cleaned Data'!K854=$B$34,1,0))*(IF('Cleaned Data'!H854<>\"\",1,0))","v":368},{"$f":"INDEX('Cleaned Data'!H:H,MATCH($A908,$B$56:$B$1919,0))","v":{"$error":"#N/A"}},{"$f":"INDEX('Cleaned Data'!L:L,MATCH($A908,$B$56:$B$1919,0))","v":{"$error":"#N/A"}}]
[854,{"$f":"B908+IF('Cleaned Data'!L855>0,1,0)*IF($B$34=\"Overall\",1,IF('Cleaned Data'!K855=$B$34,1,0))*(IF('Cleaned Data'!H855<>\"\",1,0))","v":368},{"$f":"INDEX('Cleaned Data'!H:H,MATCH($A909,$B$56:$B$1919,0))","v":{"$error":"#N/A"}},{"$f":"INDEX('Cleaned Data'!L:L,MATCH($A909,$B$56:$B$1919,0))","v":{"$error":"#N/A"}}]
[855,{"$f":"B909+IF('Cleaned Data'!L856>0,1,0)*IF($B$34=\"Overall\",1,IF('Cleaned Data'!K856=$B$34,1,0))*(IF('Cleaned Data'!H856<>\"\",1,0))","v":369},{"$f":"INDEX('Cleaned Data'!H:H,MATCH($A910,$B$56:$B$1919,0))","v":{"$error":"#N/A"}},{"$f":"INDEX('Cleaned Data'!L:L,MATCH($A910,$B$56:$B$1919,0))","v":{"$error":"#N/A"}}]
[856,{"$f":"B910+IF('Cleaned Data'!L857>0,1,0)*IF($B$34=\"Overall\",1,IF('Cleaned Data'!K857=$B$34,1,0))*(IF('Cleaned Data'!H857<>\"\",1,0))","v":370},{"$f":"INDEX('Cleaned Data'!H:H,MATCH($A911,$B$56:$B$1919,0))","v":{"$error":"#N/A"}},{"$f":"INDEX('Cleaned Data'!L:L,MATCH($A911,$B$56:$B$1919,0))","v":{"$error":"#N/A"}}]
[857,{"$f":"B911+IF('Cleaned Data'!L858>0,1,0)*IF($B$34=\"Overall\",1,IF('Cleaned Data'!K858=$B$34,1,0))*(IF('Cleaned Data'!H858<>\"\",1,0))","v":370},{"$f":"INDEX('Cleaned Data'!H:H,MATCH($A912,$B$56:$B$1919,0))","v":{"$error":"#N/A"}},{"$f":"INDEX('Cleaned Data'!L:L,MATCH($A912,$B$56:$B$1919,0))","v":{"$error":"#N/A"}}]
[858,{"$f":"B912+IF('Cleaned Data'!L859>0,1,0)*IF($B$34=\"Overall\",1,IF('Cleaned Data'!K859=$B$34,1,0))*(IF('Cleaned Data'!H859<>\"\",1,0))","v":370},{"$f":"INDEX('Cleaned Data'!H:H,MATCH($A913,$B$56:$B$1919,0))","v":{"$error":"#N/A"}},{"$f":"INDEX('Cleaned Data'!L:L,MATCH($A913,$B$56:$B$1919,0))","v":{"$error":"#N/A"}}]
[859,{"$f":"B913+IF('Cleaned Data'!L860>0,1,0)*IF($B$34=\"Overall\",1,IF('Cleaned Data'!K860=$B$34,1,0))*(IF('Cleaned Data'!H860<>\"\",1,0))","v":370},{"$f":"INDEX('Cleaned Data'!H:H,MATCH($A914,$B$56:$B$1919,0))","v":{"$error":"#N/A"}},{"$f":"INDEX('Cleaned Data'!L:L,MATCH($A914,$B$56:$B$1919,0))","v":{"$error":"#N/A"}}]
[860,{"$f":"B914+IF('Cleaned Data'!L861>0,1,0)*IF($B$34=\"Overall\",1,IF('Cleaned Data'!K861=$B$34,1,0))*(IF('Cleaned Data'!H861<>\"\",1,0))","v":370},{"$f":"INDEX('Cleaned Data'!H:H,MATCH($A915,$B$56:$B$1919,0))","v":{"$error":"#N/A"}},{"$f":"INDEX('Cleaned Data'!L:L,MATCH($A915,$B$56:$B$1919,0))","v":{"$error":"#N/A"}}]
[861,{"$f":"B915+IF('Cleaned Data'!L862>0,1,0)*IF($B$34=\"Overall\",1,IF('Cleaned Data'!K862=$B$34,1,0))*(IF('Cleaned Data'!H862<>\"\",1,0))","v":370},{"$f":"INDEX('Cleaned Data'!H:H,MATCH($A916,$B$56:$B$1919,0))","v":{"$error":"#N/A"}},{"$f":"INDEX('Cleaned Data'!L:L,MATCH($A916,$B$56:$B$1919,0))","v":{"$error":"#N/A"}}]
[862,{"$f":"B916+IF('Cleaned Data'!L863>0,1,0)*IF($B$34=\"Overall\",1,IF('Cleaned Data'!K863=$B$34,1,0))*(IF('Cleaned Data'!H863<>\"\",1,0))","v":370},{"$f":"INDEX('Cleaned Data'!H:H,MATCH($A917,$B$56:$B$1919,0))","v":{"$error":"#N/A"}},{"$f":"INDEX('Cleaned Data'!L:L,MATCH($A917,$B$56:$B$1919,0))","v":{"$error":"#N/A"}}]
[863,{"$f":"B917+IF('Cleaned Data'!L864>0,1,0)*IF($B$34=\"Overall\",1,IF('Cleaned Data'!K864=$B$34,1,0))*(IF('Cleaned Data'!H864<>\"\",1,0))","v":370},{"$f":"INDEX('Cleaned Data'!H:H,MATCH($A918,$B$56:$B$1919,0))","v":{"$error":"#N/A"}},{"$f":"INDEX('Cleaned Data'!L:L,MATCH($A918,$B$56:$B$1919,0))","v":{"$error":"#N/A"}}]
[864,{"$f":"B918+IF('Cleaned Data'!L865>0,1,0)*IF($B$34=\"Overall\",1,IF('Cleaned Data'!K865=$B$34,1,0))*(IF('Cleaned Data'!H865<>\"\",1,0))","v":370},{"$f":"INDEX('Cleaned Data'!H:H,MATCH($A919,$B$56:$B$1919,0))","v":{"$error":"#N/A"}},{"$f":"INDEX('Cleaned Data'!L:L,MATCH($A919,$B$56:$B$1919,0))","v":{"$error":"#N/A"}}]
[865,{"$f":"B919+IF('Cleaned Data'!L866>0,1,0)*IF($B$34=\"Overall\",1,IF('Cleaned Data'!K866=$B$34,1,0))*(IF('Cleaned Data'!H866<>\"\",1,0))","v":370},{"$f":"INDEX('Cleaned Data'!H:H,MATCH($A920,$B$56:$B$1919,0))","v":{"$error":"#N/A"}},{"$f":"INDEX('Cleaned Data'!L:L,MATCH($A920,$B$56:$B$1919,0))","v":{"$error":"#N/A"}}]
[866,{"$f":"B920+IF('Cleaned Data'!L867>0,1,0)*IF($B$34=\"Overall\",1,IF('Cleaned Data'!K867=$B$34,1,0))*(IF('Cleaned Data'!H867<>\"\",1,0))","v":370},{"$f":"INDEX('Cleaned Data'!H:H,MATCH($A921,$B$56:$B$1919,0))","v":{"$error":"#N/A"}},{"$f":"INDEX('Cleaned Data'!L:L,MATCH($A921,$B$56:$B$1919,0))","v":{"$error":"#N/A"}}]
[867,{"$f":"B921+IF('Cleaned Data'!L868>0,1,0)*IF($B$34=\"Overall\",1,IF('Cleaned Data'!K868=$B$34,1,0))*(IF('Cleaned Data'!H868<>\"\",1,0))","v":370},{"$f":"INDEX('Cleaned Data'!H:H,MATCH($A922,$B$56:$B$1919,0))","v":{"$error":"#N/A"}},{"$f":"INDEX('Cleaned Data'!L:L,MATCH($A922,$B$56:$B$1919,0))","v":{"$error":"#N/A"}}]
[868,{"$f":"B922+IF('Cleaned Data'!L869>0,1,0)*IF($B$34=\"Overall\",1,IF('Cleaned Data'!K869=$B$34,1,0))*(IF('Cleaned Data'!H869<>\"\",1,0))","v":370},{"$f":"INDEX('Cleaned Data'!H:H,MATCH($A923,$B$56:$B$1919,0))","v":{"$error":"#N/A"}},{"$f":"INDEX('Cleaned Data'!L:L,MATCH($A923,$B$56:$B$1919,0))","v":{"$error":"#N/A"}}]
[869,{"$f":"B923+IF('Cleaned Data'!L870>0,1,0)*IF($B$34=\"Overall\",1,IF('Cleaned Data'!K870=$B$34,1,0))*(IF('Cleaned Data'!H870<>\"\",1,0))","v":370},{"$f":"INDEX('Cleaned Data'!H:H,MATCH($A924,$B$56:$B$1919,0))","v":{"$error":"#N/A"}},{"$f":"INDEX('Cleaned Data'!L:L,MATCH($A924,$B$56:$B$1919,0))","v":{"$error":"#N/A"}}]
[870,{"$f":"B924+IF('Cleaned Data'!L871>0,1,0)*IF($B$34=\"Overall\",1,IF('Cleaned Data'!K871=$B$34,1,0))*(IF('Cleaned Data'!H871<>\"\",1,0))","v":370},{"$f":"INDEX('Cleaned Data'!H:H,MATCH($A925,$B$56:$B$1919,0))","v":{"$error":"#N/A"}},{"$f":"INDEX('Cleaned Data'!L:L,MATCH($A925,$B$56:$B$1919,0))","v":{"$error":"#N/A"}}]
[871,{"$f":"B925+IF('Cleaned Data'!L872>0,1,0)*IF($B$34=\"Overall\",1,IF('Cleaned Data'!K872=$B$34,1,0))*(IF('Cleaned Data'!H872<>\"\",1,0))","v":370},{"$f":"INDEX('Cleaned Data'!H:H,MATCH($A926,$B$56:$B$1919,0))","v":{"$error":"#N/A"}},{"$f":"INDEX('Cleaned Data'!L:L,MATCH($A926,$B$56:$B$1919,0))","v":{"$error":"#N/A"}}]
[872,{"$f":"B926+IF('Cleaned Data'!L873>0,1,0)*IF($B$34=\"Overall\",1,IF('Cleaned Data'!K873=$B$34,1,0))*(IF('Cleaned Data'!H873<>\"\",1,0))","v":370},{"$f":"INDEX('Cleaned Data'!H:H,MATCH($A927,$B$56:$B$1919,0))","v":{"$error":"#N/A"}},{"$f":"INDEX('Cleaned Data'!L:L,MATCH($A927,$B$56:$B$1919,0))","v":{"$error":"#N/A"}}]
[873,{"$f":"B927+IF('Cleaned Data'!L874>0,1,0)*IF($B$34=\"Overall\",1,IF('Cleaned Data'!K874=$B$34,1,0))*(IF('Cleaned Data'!H874<>\"\",1,0))","v":370},{"$f":"INDEX('Cleaned Data'!H:H,MATCH($A928,$B$56:$B$1919,0))","v":{"$error":"#N/A"}},{"$f":"INDEX('Cleaned Data'!L:L,MATCH($A928,$B$56:$B$1919,0))","v":{"$error":"#N/A"}}]
[874,{"$f":"B928+IF('Cleaned Data'!L875>0,1,0)*IF($B$34=\"Overall\",1,IF('Cleaned Data'!K875=$B$34,1,0))*(IF('Cleaned Data'!H875<>\"\",1,0))","v":370},{"$f":"INDEX('Cleaned Data'!H:H,MATCH($A929,$B$56:$B$1919,0))","v":{"$error":"#N/A"}},{"$f":"INDEX('Cleaned Data'!L:L,MATCH($A929,$B$56:$B$1919,0))","v":{"$error":"#N/A"}}]
[875,{"$f":"B929+IF('Cleaned Data'!L876>0,1,0)*IF($B$34=\"Overall\",1,IF('Cleaned Data'!K876=$B$34,1,0))*(IF('Cleaned Data'!H876<>\"\",1,0))","v":370},{"$f":"INDEX('Cleaned Data'!H:H,MATCH($A930,$B$56:$B$1919,0))","v":{"$error":"#N/A"}},{"$f":"INDEX('Cleaned Data'!L:L,MATCH($A930,$B$56:$B$1919,0))","v":{"$error":"#N/A"}}]
[876,{"$f":"B930+IF('Cleaned Data'!L877>0,1,0)*IF($B$34=\"Overall\",1,IF('Cleaned Data'!K877=$B$34,1,0))*(IF('Cleaned Data'!H877<>\"\",1,0))","v":371},{"$f":"INDEX('Cleaned Data'!H:H,MATCH($A931,$B$56:$B$1919,0))","v":{"$error":"#N/A"}},{"$f":"INDEX('Cleaned Data'!L:L,MATCH($A931,$B$56:$B$1919,0))","v":{"$error":"#N/A"}}]
[877,{"$f":"B931+IF('Cleaned Data'!L878>0,1,0)*IF($B$34=\"Overall\",1,IF('Cleaned Data'!K878=$B$34,1,0))*(IF('Cleaned Data'!H878<>\"\",1,0))","v":371},{"$f":"INDEX('Cleaned Data'!H:H,MATCH($A932,$B$56:$B$1919,0))","v":{"$error":"#N/A"}},{"$f":"INDEX('Cleaned Data'!L:L,MATCH($A932,$B$56:$B$1919,0))","v":{"$error":"#N/A"}}]
[878,{"$f":"B932+IF('Cleaned Data'!L879>0,1,0)*IF($B$34=\"Overall\",1,IF('Cleaned Data'!K879=$B$34,1,0))*(IF('Cleaned Data'!H879<>\"\",1,0))","v":371},{"$f":"INDEX('Cleaned Data'!H:H,MATCH($A933,$B$56:$B$1919,0))","v":{"$error":"#N/A"}},{"$f":"INDEX('Cleaned Data'!L:L,MATCH($A933,$B$56:$B$1919,0))","v":{"$error":"#N/A"}}]
[879,{"$f":"B933+IF('Cleaned Data'!L880>0,1,0)*IF($B$34=\"Overall\",1,IF('Cleaned Data'!K880=$B$34,1,0))*(IF('Cleaned Data'!H880<>\"\",1,0))","v":371},{"$f":"INDEX('Cleaned Data'!H:H,MATCH($A934,$B$56:$B$1919,0))","v":{"$error":"#N/A"}},{"$f":"INDEX('Cleaned Data'!L:L,MATCH($A934,$B$56:$B$1919,0))","v":{"$error":"#N/A"}}]
[880,{"$f":"B934+IF('Cleaned Data'!L881>0,1,0)*IF($B$34=\"Overall\",1,IF('Cleaned Data'!K881=$B$34,1,0))*(IF('Cleaned Data'!H881<>\"\",1,0))","v":371},{"$f":"INDEX('Cleaned Data'!H:H,MATCH($A935,$B$56:$B$1919,0))","v":{"$error":"#N/A"}},{"$f":"INDEX('Cleaned Data'!L:L,MATCH($A935,$B$56:$B$1919,0))","v":{"$error":"#N/A"}}]
[881,{"$f":"B935+IF('Cleaned Data'!L882>0,1,0)*IF($B$34=\"Overall\",1,IF('Cleaned Data'!K882=$B$34,1,0))*(IF('Cleaned Data'!H882<>\"\",1,0))","v":371},{"$f":"INDEX('Cleaned Data'!H:H,MATCH($A936,$B$56:$B$1919,0))","v":{"$error":"#N/A"}},{"$f":"INDEX('Cleaned Data'!L:L,MATCH($A936,$B$56:$B$1919,0))","v":{"$error":"#N/A"}}]
[882,{"$f":"B936+IF('Cleaned Data'!L883>0,1,0)*IF($B$34=\"Overall\",1,IF('Cleaned Data'!K883=$B$34,1,0))*(IF('Cleaned Data'!H883<>\"\",1,0))","v":371},{"$f":"INDEX('Cleaned Data'!H:H,MATCH($A937,$B$56:$B$1919,0))","v":{"$error":"#N/A"}},{"$f":"INDEX('Cleaned Data'!L:L,MATCH($A937,$B$56:$B$1919,0))","v":{"$error":"#N/A"}}]
[883,{"$f":"B937+IF('Cleaned Data'!L884>0,1,0)*IF($B$34=\"Overall\",1,IF('Cleaned Data'!K884=$B$34,1,0))*(IF('Cleaned Data'!H884<>\"\",1,0))","v":371},{"$f":"INDEX('Cleaned Data'!H:H,MATCH($A938,$B$56:$B$1919,0))","v":{"$error":"#N/A"}},{"$f":"INDEX('Cleaned Data'!L:L,MATCH($A938,$B$56:$B$1919,0))","v":{"$error":"#N/A"}}]
[884,{"$f":"B938+IF('Cleaned Data'!L885>0,1,0)*IF($B$34=\"Overall\",1,IF('Cleaned Data'!K885=$B$34,1,0))*(IF('Cleaned Data'!H885<>\"\",1,0))","v":372},{"$f":"INDEX('Cleaned Data'!H:H,MATCH($A939,$B$56:$B$1919,0))","v":{"$error":"#N/A"}},{"$f":"INDEX('Cleaned Data'!L:L,MATCH($A939,$B$56:$B$1919,0))","v":{"$error":"#N/A"}}]
[885,{"$f":"B939+IF('Cleaned Data'!L886>0,1,0)*IF($B$34=\"Overall\",1,IF('Cleaned Data'!K886=$B$34,1,0))*(IF('Cleaned Data'!H886<>\"\",1,0))","v":372},{"$f":"INDEX('Cleaned Data'!H:H,MATCH($A940,$B$56:$B$1919,0))","v":{"$error":"#N/A"}},{"$f":"INDEX('Cleaned Data'!L:L,MATCH($A940,$B$56:$B$1919,0))","v":{"$error":"#N/A"}}]
[886,{"$f":"B940+IF('Cleaned Data'!L887>0,1,0)*IF($B$34=\"Overall\",1,IF('Cleaned Data'!K887=$B$34,1,0))*(IF('Cleaned Data'!H887<>\"\",1,0))","v":372},{"$f":"INDEX('Cleaned Data'!H:H,MATCH($A941,$B$56:$B$1919,0))","v":{"$error":"#N/A"}},{"$f":"INDEX('Cleaned Data'!L:L,MATCH($A941,$B$56:$B$1919,0))","v":{"$error":"#N/A"}}]
[887,{"$f":"B941+IF('Cleaned Data'!L888>0,1,0)*IF($B$34=\"Overall\",1,IF('Cleaned Data'!K888=$B$34,1,0))*(IF('Cleaned Data'!H888<>\"\",1,0))","v":372},{"$f":"INDEX('Cleaned Data'!H:H,MATCH($A942,$B$56:$B$1919,0))","v":{"$error":"#N/A"}},{"$f":"INDEX('Cleaned Data'!L:L,MATCH($A942,$B$56:$B$1919,0))","v":{"$error":"#N/A"}}]
[888,{"$f":"B942+IF('Cleaned Data'!L889>0,1,0)*IF($B$34=\"Overall\",1,IF('Cleaned Data'!K889=$B$34,1,0))*(IF('Cleaned Data'!H889<>\"\",1,0))","v":372},{"$f":"INDEX('Cleaned Data'!H:H,MATCH($A943,$B$56:$B$1919,0))","v":{"$error":"#N/A"}},{"$f":"INDEX('Cleaned Data'!L:L,MATCH($A943,$B$56:$B$1919,0))","v":{"$error":"#N/A"}}]
[889,{"$f":"B943+IF('Cleaned Data'!L890>0,1,0)*IF($B$34=\"Overall\",1,IF('Cleaned Data'!K890=$B$34,1,0))*(IF('Cleaned Data'!H890<>\"\",1,0))","v":372},{"$f":"INDEX('Cleaned Data'!H:H,MATCH($A944,$B$56:$B$1919,0))","v":{"$error":"#N/A"}},{"$f":"INDEX('Cleaned Data'!L:L,MATCH($A944,$B$56:$B$1919,0))","v":{"$error":"#N/A"}}]
[890,{"$f":"B944+IF('Cleaned Data'!L891>0,1,0)*IF($B$34=\"Overall\",1,IF('Cleaned Data'!K891=$B$34,1,0))*(IF('Cleaned Data'!H891<>\"\",1,0))","v":372},{"$f":"INDEX('Cleaned Data'!H:H,MATCH($A945,$B$56:$B$1919,0))","v":{"$error":"#N/A"}},{"$f":"INDEX('Cleaned Data'!L:L,MATCH($A945,$B$56:$B$1919,0))","v":{"$error":"#N/A"}}]
[891,{"$f":"B945+IF('Cleaned Data'!L892>0,1,0)*IF($B$34=\"Overall\",1,IF('Cleaned Data'!K892=$B$34,1,0))*(IF('Cleaned Data'!H892<>\"\",1,0))","v":372},{"$f":"INDEX('Cleaned Data'!H:H,MATCH($A946,$B$56:$B$1919,0))","v":{"$error":"#N/A"}},{"$f":"INDEX('Cleaned Data'!L:L,MATCH($A946,$B$56:$B$1919,0))","v":{"$error":"#N/A"}}]
[892,{"$f":"B946+IF('Cleaned Data'!L893>0,1,0)*IF($B$34=\"Overall\",1,IF('Cleaned Data'!K893=$B$34,1,0))*(IF('Cleaned Data'!H893<>\"\",1,0))","v":372},{"$f":"INDEX('Cleaned Data'!H:H,MATCH($A947,$B$56:$B$1919,0))","v":{"$error":"#N/A"}},{"$f":"INDEX('Cleaned Data'!L:L,MATCH($A947,$B$56:$B$1919,0))","v":{"$error":"#N/A"}}]
[893,{"$f":"B947+IF('Cleaned Data'!L894>0,1,0)*IF($B$34=\"Overall\",1,IF('Cleaned Data'!K894=$B$34,1,0))*(IF('Cleaned Data'!H894<>\"\",1,0))","v":372},{"$f":"INDEX('Cleaned Data'!H:H,MATCH($A948,$B$56:$B$1919,0))","v":{"$error":"#N/A"}},{"$f":"INDEX('Cleaned Data'!L:L,MATCH($A948,$B$56:$B$1919,0))","v":{"$error":"#N/A"}}]
[894,{"$f":"B948+IF('Cleaned Data'!L895>0,1,0)*IF($B$34=\"Overall\",1,IF('Cleaned Data'!K895=$B$34,1,0))*(IF('Cleaned Data'!H895<>\"\",1,0))","v":372},{"$f":"INDEX('Cleaned Data'!H:H,MATCH($A949,$B$56:$B$1919,0))","v":{"$error":"#N/A"}},{"$f":"INDEX('Cleaned Data'!L:L,MATCH($A949,$B$56:$B$1919,0))","v":{"$error":"#N/A"}}]
[895,{"$f":"B949+IF('Cleaned Data'!L896>0,1,0)*IF($B$34=\"Overall\",1,IF('Cleaned Data'!K896=$B$34,1,0))*(IF('Cleaned Data'!H896<>\"\",1,0))","v":372},{"$f":"INDEX('Cleaned Data'!H:H,MATCH($A950,$B$56:$B$1919,0))","v":{"$error":"#N/A"}},{"$f":"INDEX('Cleaned Data'!L:L,MATCH($A950,$B$56:$B$1919,0))","v":{"$error":"#N/A"}}]
[896,{"$f":"B950+IF('Cleaned Data'!L897>0,1,0)*IF($B$34=\"Overall\",1,IF('Cleaned Data'!K897=$B$34,1,0))*(IF('Cleaned Data'!H897<>\"\",1,0))","v":372},{"$f":"INDEX('Cleaned Data'!H:H,MATCH($A951,$B$56:$B$1919,0))","v":{"$error":"#N/A"}},{"$f":"INDEX('Cleaned Data'!L:L,MATCH($A951,$B$56:$B$1919,0))","v":{"$error":"#N/A"}}]
[897,{"$f":"B951+IF('Cleaned Data'!L898>0,1,0)*IF($B$34=\"Overall\",1,IF('Cleaned Data'!K898=$B$34,1,0))*(IF('Cleaned Data'!H898<>\"\",1,0))","v":372},{"$f":"INDEX('Cleaned Data'!H:H,MATCH($A952,$B$56:$B$1919,0))","v":{"$error":"#N/A"}},{"$f":"INDEX('Cleaned Data'!L:L,MATCH($A952,$B$56:$B$1919,0))","v":{"$error":"#N/A"}}]
[898,{"$f":"B952+IF('Cleaned Data'!L899>0,1,0)*IF($B$34=\"Overall\",1,IF('Cleaned Data'!K899=$B$34,1,0))*(IF('Cleaned Data'!H899<>\"\",1,0))","v":372},{"$f":"INDEX('Cleaned Data'!H:H,MATCH($A953,$B$56:$B$1919,0))","v":{"$error":"#N/A"}},{"$f":"INDEX('Cleaned Data'!L:L,MATCH($A953,$B$56:$B$1919,0))","v":{"$error":"#N/A"}}]
[899,{"$f":"B953+IF('Cleaned Data'!L900>0,1,0)*IF($B$34=\"Overall\",1,IF('Cleaned Data'!K900=$B$34,1,0))*(IF('Cleaned Data'!H900<>\"\",1,0))","v":372},{"$f":"INDEX('Cleaned Data'!H:H,MATCH($A954,$B$56:$B$1919,0))","v":{"$error":"#N/A"}},{"$f":"INDEX('Cleaned Data'!L:L,MATCH($A954,$B$56:$B$1919,0))","v":{"$error":"#N/A"}}]
[900,{"$f":"B954+IF('Cleaned Data'!L901>0,1,0)*IF($B$34=\"Overall\",1,IF('Cleaned Data'!K901=$B$34,1,0))*(IF('Cleaned Data'!H901<>\"\",1,0))","v":372},{"$f":"INDEX('Cleaned Data'!H:H,MATCH($A955,$B$56:$B$1919,0))","v":{"$error":"#N/A"}},{"$f":"INDEX('Cleaned Data'!L:L,MATCH($A955,$B$56:$B$1919,0))","v":{"$error":"#N/A"}}]
[901,{"$f":"B955+IF('Cleaned Data'!L902>0,1,0)*IF($B$34=\"Overall\",1,IF('Cleaned Data'!K902=$B$34,1,0))*(IF('Cleaned Data'!H902<>\"\",1,0))","v":372},{"$f":"INDEX('Cleaned Data'!H:H,MATCH($A956,$B$56:$B$1919,0))","v":{"$error":"#N/A"}},{"$f":"INDEX('Cleaned Data'!L:L,MATCH($A956,$B$56:$B$1919,0))","v":{"$error":"#N/A"}}]
[902,{"$f":"B956+IF('Cleaned Data'!L903>0,1,0)*IF($B$34=\"Overall\",1,IF('Cleaned Data'!K903=$B$34,1,0))*(IF('Cleaned Data'!H903<>\"\",1,0))","v":372},{"$f":"INDEX('Cleaned Data'!H:H,MATCH($A957,$B$56:$B$1919,0))","v":{"$error":"#N/A"}},{"$f":"INDEX('Cleaned Data'!L:L,MATCH($A957,$B$56:$B$1919,0))","v":{"$error":"#N/A"}}]
[903,{"$f":"B957+IF('Cleaned Data'!L904>0,1,0)*IF($B$34=\"Overall\",1,IF('Cleaned Data'!K904=$B$34,1,0))*(IF('Cleaned Data'!H904<>\"\",1,0))","v":372},{"$f":"INDEX('Cleaned Data'!H:H,MATCH($A958,$B$56:$B$1919,0))","v":{"$error":"#N/A"}},{"$f":"INDEX('Cleaned Data'!L:L,MATCH($A958,$B$56:$B$1919,0))","v":{"$error":"#N/A"}}]
[904,{"$f":"B958+IF('Cleaned Data'!L905>0,1,0)*IF($B$34=\"Overall\",1,IF('Cleaned Data'!K905=$B$34,1,0))*(IF('Cleaned Data'!H905<>\"\",1,0))","v":372},{"$f":"INDEX('Cleaned Data'!H:H,MATCH($A959,$B$56:$B$1919,0))","v":{"$error":"#N/A"}},{"$f":"INDEX('Cleaned Data'!L:L,MATCH($A959,$B$56:$B$1919,0))","v":{"$error":"#N/A"}}]
[905,{"$f":"B959+IF('Cleaned Data'!L906>0,1,0)*IF($B$34=\"Overall\",1,IF('Cleaned Data'!K906=$B$34,1,0))*(IF('Cleaned Data'!H906<>\"\",1,0))","v":372},{"$f":"INDEX('Cleaned Data'!H:H,MATCH($A960,$B$56:$B$1919,0))","v":{"$error":"#N/A"}},{"$f":"INDEX('Cleaned Data'!L:L,MATCH($A960,$B$56:$B$1919,0))","v":{"$error":"#N/A"}}]
[906,{"$f":"B960+IF('Cleaned Data'!L907>0,1,0)*IF($B$34=\"Overall\",1,IF('Cleaned Data'!K907=$B$34,1,0))*(IF('Cleaned Data'!H907<>\"\",1,0))","v":372},{"$f":"INDEX('Cleaned Data'!H:H,MATCH($A961,$B$56:$B$1919,0))","v":{"$error":"#N/A"}},{"$f":"INDEX('Cleaned Data'!L:L,MATCH($A961,$B$56:$B$1919,0))","v":{"$error":"#N/A"}}]
[907,{"$f":"B961+IF('Cleaned Data'!L908>0,1,0)*IF($B$34=\"Overall\",1,IF('Cleaned Data'!K908=$B$34,1,0))*(IF('Cleaned Data'!H908<>\"\",1,0))","v":372},{"$f":"INDEX('Cleaned Data'!H:H,MATCH($A962,$B$56:$B$1919,0))","v":{"$error":"#N/A"}},{"$f":"INDEX('Cleaned Data'!L:L,MATCH($A962,$B$56:$B$1919,0))","v":{"$error":"#N/A"}}]
[908,{"$f":"B962+IF('Cleaned Data'!L909>0,1,0)*IF($B$34=\"Overall\",1,IF('Cleaned Data'!K909=$B$34,1,0))*(IF('Cleaned Data'!H909<>\"\",1,0))","v":372},{"$f":"INDEX('Cleaned Data'!H:H,MATCH($A963,$B$56:$B$1919,0))","v":{"$error":"#N/A"}},{"$f":"INDEX('Cleaned Data'!L:L,MATCH($A963,$B$56:$B$1919,0))","v":{"$error":"#N/A"}}]
[909,{"$f":"B963+IF('Cleaned Data'!L910>0,1,0)*IF($B$34=\"Overall\",1,IF('Cleaned Data'!K910=$B$34,1,0))*(IF('Cleaned Data'!H910<>\"\",1,0))","v":372},{"$f":"INDEX('Cleaned Data'!H:H,MATCH($A964,$B$56:$B$1919,0))","v":{"$error":"#N/A"}},{"$f":"INDEX('Cleaned Data'!L:L,MATCH($A964,$B$56:$B$1919,0))","v":{"$error":"#N/A"}}]
[910,{"$f":"B964+IF('Cleaned Data'!L911>0,1,0)*IF($B$34=\"Overall\",1,IF('Cleaned Data'!K911=$B$34,1,0))*(IF('Cleaned Data'!H911<>\"\",1,0))","v":372},{"$f":"INDEX('Cleaned Data'!H:H,MATCH($A965,$B$56:$B$1919,0))","v":{"$error":"#N/A"}},{"$f":"INDEX('Cleaned Data'!L:L,MATCH($A965,$B$56:$B$1919,0))","v":{"$error":"#N/A"}}]
[911,{"$f":"B965+IF('Cleaned Data'!L912>0,1,0)*IF($B$34=\"Overall\",1,IF('Cleaned Data'!K912=$B$34,1,0))*(IF('Cleaned Data'!H912<>\"\",1,0))","v":372},{"$f":"INDEX('Cleaned Data'!H:H,MATCH($A966,$B$56:$B$1919,0))","v":{"$error":"#N/A"}},{"$f":"INDEX('Cleaned Data'!L:L,MATCH($A966,$B$56:$B$1919,0))","v":{"$error":"#N/A"}}]
[912,{"$f":"B966+IF('Cleaned Data'!L913>0,1,0)*IF($B$34=\"Overall\",1,IF('Cleaned Data'!K913=$B$34,1,0))*(IF('Cleaned Data'!H913<>\"\",1,0))","v":372},{"$f":"INDEX('Cleaned Data'!H:H,MATCH($A967,$B$56:$B$1919,0))","v":{"$error":"#N/A"}},{"$f":"INDEX('Cleaned Data'!L:L,MATCH($A967,$B$56:$B$1919,0))","v":{"$error":"#N/A"}}]
[913,{"$f":"B967+IF('Cleaned Data'!L914>0,1,0)*IF($B$34=\"Overall\",1,IF('Cleaned Data'!K914=$B$34,1,0))*(IF('Cleaned Data'!H914<>\"\",1,0))","v":372},{"$f":"INDEX('Cleaned Data'!H:H,MATCH($A968,$B$56:$B$1919,0))","v":{"$error":"#N/A"}},{"$f":"INDEX('Cleaned Data'!L:L,MATCH($A968,$B$56:$B$1919,0))","v":{"$error":"#N/A"}}]
[914,{"$f":"B968+IF('Cleaned Data'!L915>0,1,0)*IF($B$34=\"Overall\",1,IF('Cleaned Data'!K915=$B$34,1,0))*(IF('Cleaned Data'!H915<>\"\",1,0))","v":372},{"$f":"INDEX('Cleaned Data'!H:H,MATCH($A969,$B$56:$B$1919,0))","v":{"$error":"#N/A"}},{"$f":"INDEX('Cleaned Data'!L:L,MATCH($A969,$B$56:$B$1919,0))","v":{"$error":"#N/A"}}]
[915,{"$f":"B969+IF('Cleaned Data'!L916>0,1,0)*IF($B$34=\"Overall\",1,IF('Cleaned Data'!K916=$B$34,1,0))*(IF('Cleaned Data'!H916<>\"\",1,0))","v":372},{"$f":"INDEX('Cleaned Data'!H:H,MATCH($A970,$B$56:$B$1919,0))","v":{"$error":"#N/A"}},{"$f":"INDEX('Cleaned Data'!L:L,MATCH($A970,$B$56:$B$1919,0))","v":{"$error":"#N/A"}}]
[916,{"$f":"B970+IF('Cleaned Data'!L917>0,1,0)*IF($B$34=\"Overall\",1,IF('Cleaned Data'!K917=$B$34,1,0))*(IF('Cleaned Data'!H917<>\"\",1,0))","v":372},{"$f":"INDEX('Cleaned Data'!H:H,MATCH($A971,$B$56:$B$1919,0))","v":{"$error":"#N/A"}},{"$f":"INDEX('Cleaned Data'!L:L,MATCH($A971,$B$56:$B$1919,0))","v":{"$error":"#N/A"}}]
[917,{"$f":"B971+IF('Cleaned Data'!L918>0,1,0)*IF($B$34=\"Overall\",1,IF('Cleaned Data'!K918=$B$34,1,0))*(IF('Cleaned Data'!H918<>\"\",1,0))","v":372},{"$f":"INDEX('Cleaned Data'!H:H,MATCH($A972,$B$56:$B$1919,0))","v":{"$error":"#N/A"}},{"$f":"INDEX('Cleaned Data'!L:L,MATCH($A972,$B$56:$B$1919,0))","v":{"$error":"#N/A"}}]
[918,{"$f":"B972+IF('Cleaned Data'!L919>0,1,0)*IF($B$34=\"Overall\",1,IF('Cleaned Data'!K919=$B$34,1,0))*(IF('Cleaned Data'!H919<>\"\",1,0))","v":372},{"$f":"INDEX('Cleaned Data'!H:H,MATCH($A973,$B$56:$B$1919,0))","v":{"$error":"#N/A"}},{"$f":"INDEX('Cleaned Data'!L:L,MATCH($A973,$B$56:$B$1919,0))","v":{"$error":"#N/A"}}]
[919,{"$f":"B973+IF('Cleaned Data'!L920>0,1,0)*IF($B$34=\"Overall\",1,IF('Cleaned Data'!K920=$B$34,1,0))*(IF('Cleaned Data'!H920<>\"\",1,0))","v":372},{"$f":"INDEX('Cleaned Data'!H:H,MATCH($A974,$B$56:$B$1919,0))","v":{"$error":"#N/A"}},{"$f":"INDEX('Cleaned Data'!L:L,MATCH($A974,$B$56:$B$1919,0))","v":{"$error":"#N/A"}}]
[920,{"$f":"B974+IF('Cleaned Data'!L921>0,1,0)*IF($B$34=\"Overall\",1,IF('Cleaned Data'!K921=$B$34,1,0))*(IF('Cleaned Data'!H921<>\"\",1,0))","v":372},{"$f":"INDEX('Cleaned Data'!H:H,MATCH($A975,$B$56:$B$1919,0))","v":{"$error":"#N/A"}},{"$f":"INDEX('Cleaned Data'!L:L,MATCH($A975,$B$56:$B$1919,0))","v":{"$error":"#N/A"}}]
[921,{"$f":"B975+IF('Cleaned Data'!L922>0,1,0)*IF($B$34=\"Overall\",1,IF('Cleaned Data'!K922=$B$34,1,0))*(IF('Cleaned Data'!H922<>\"\",1,0))","v":372},{"$f":"INDEX('Cleaned Data'!H:H,MATCH($A976,$B$56:$B$1919,0))","v":{"$error":"#N/A"}},{"$f":"INDEX('Cleaned Data'!L:L,MATCH($A976,$B$56:$B$1919,0))","v":{"$error":"#N/A"}}]
[922,{"$f":"B976+IF('Cleaned Data'!L923>0,1,0)*IF($B$34=\"Overall\",1,IF('Cleaned Data'!K923=$B$34,1,0))*(IF('Cleaned Data'!H923<>\"\",1,0))","v":372},{"$f":"INDEX('Cleaned Data'!H:H,MATCH($A977,$B$56:$B$1919,0))","v":{"$error":"#N/A"}},{"$f":"INDEX('Cleaned Data'!L:L,MATCH($A977,$B$56:$B$1919,0))","v":{"$error":"#N/A"}}]
[923,{"$f":"B977+IF('Cleaned Data'!L924>0,1,0)*IF($B$34=\"Overall\",1,IF('Cleaned Data'!K924=$B$34,1,0))*(IF('Cleaned Data'!H924<>\"\",1,0))","v":372},{"$f":"INDEX('Cleaned Data'!H:H,MATCH($A978,$B$56:$B$1919,0))","v":{"$error":"#N/A"}},{"$f":"INDEX('Cleaned Data'!L:L,MATCH($A978,$B$56:$B$1919,0))","v":{"$error":"#N/A"}}]
[924,{"$f":"B978+IF('Cleaned Data'!L925>0,1,0)*IF($B$34=\"Overall\",1,IF('Cleaned Data'!K925=$B$34,1,0))*(IF('Cleaned Data'!H925<>\"\",1,0))","v":372},{"$f":"INDEX('Cleaned Data'!H:H,MATCH($A979,$B$56:$B$1919,0))","v":{"$error":"#N/A"}},{"$f":"INDEX('Cleaned Data'!L:L,MATCH($A979,$B$56:$B$1919,0))","v":{"$error":"#N/A"}}]
[925,{"$f":"B979+IF('Cleaned Data'!L926>0,1,0)*IF($B$34=\"Overall\",1,IF('Cleaned Data'!K926=$B$34,1,0))*(IF('Cleaned Data'!H926<>\"\",1,0))","v":372},{"$f":"INDEX('Cleaned Data'!H:H,MATCH($A980,$B$56:$B$1919,0))","v":{"$error":"#N/A"}},{"$f":"INDEX('Cleaned Data'!L:L,MATCH($A980,$B$56:$B$1919,0))","v":{"$error":"#N/A"}}]
[926,{"$f":"B980+IF('Cleaned Data'!L927>0,1,0)*IF($B$34=\"Overall\",1,IF('Cleaned Data'!K927=$B$34,1,0))*(IF('Cleaned Data'!H927<>\"\",1,0))","v":372},{"$f":"INDEX('Cleaned Data'!H:H,MATCH($A981,$B$56:$B$1919,0))","v":{"$error":"#N/A"}},{"$f":"INDEX('Cleaned Data'!L:L,MATCH($A981,$B$56:$B$1919,0))","v":{"$error":"#N/A"}}]
[927,{"$f":"B981+IF('Cleaned Data'!L928>0,1,0)*IF($B$34=\"Overall\",1,IF('Cleaned Data'!K928=$B$34,1,0))*(IF('Cleaned Data'!H928<>\"\",1,0))","v":372},{"$f":"INDEX('Cleaned Data'!H:H,MATCH($A982,$B$56:$B$1919,0))","v":{"$error":"#N/A"}},{"$f":"INDEX('Cleaned Data'!L:L,MATCH($A982,$B$56:$B$1919,0))","v":{"$error":"#N/A"}}]
[928,{"$f":"B982+IF('Cleaned Data'!L929>0,1,0)*IF($B$34=\"Overall\",1,IF('Cleaned Data'!K929=$B$34,1,0))*(IF('Cleaned Data'!H929<>\"\",1,0))","v":372},{"$f":"INDEX('Cleaned Data'!H:H,MATCH($A983,$B$56:$B$1919,0))","v":{"$error":"#N/A"}},{"$f":"INDEX('Cleaned Data'!L:L,MATCH($A983,$B$56:$B$1919,0))","v":{"$error":"#N/A"}}]
[929,{"$f":"B983+IF('Cleaned Data'!L930>0,1,0)*IF($B$34=\"Overall\",1,IF('Cleaned Data'!K930=$B$34,1,0))*(IF('Cleaned Data'!H930<>\"\",1,0))","v":372},{"$f":"INDEX('Cleaned Data'!H:H,MATCH($A984,$B$56:$B$1919,0))","v":{"$error":"#N/A"}},{"$f":"INDEX('Cleaned Data'!L:L,MATCH($A984,$B$56:$B$1919,0))","v":{"$error":"#N/A"}}]
[930,{"$f":"B984+IF('Cleaned Data'!L931>0,1,0)*IF($B$34=\"Overall\",1,IF('Cleaned Data'!K931=$B$34,1,0))*(IF('Cleaned Data'!H931<>\"\",1,0))","v":372},{"$f":"INDEX('Cleaned Data'!H:H,MATCH($A985,$B$56:$B$1919,0))","v":{"$error":"#N/A"}},{"$f":"INDEX('Cleaned Data'!L:L,MATCH($A985,$B$56:$B$1919,0))","v":{"$error":"#N/A"}}]
[931,{"$f":"B985+IF('Cleaned Data'!L932>0,1,0)*IF($B$34=\"Overall\",1,IF('Cleaned Data'!K932=$B$34,1,0))*(IF('Cleaned Data'!H932<>\"\",1,0))","v":372},{"$f":"INDEX('Cleaned Data'!H:H,MATCH($A986,$B$56:$B$1919,0))","v":{"$error":"#N/A"}},{"$f":"INDEX('Cleaned Data'!L:L,MATCH($A986,$B$56:$B$1919,0))","v":{"$error":"#N/A"}}]
[932,{"$f":"B986+IF('Cleaned Data'!L933>0,1,0)*IF($B$34=\"Overall\",1,IF('Cleaned Data'!K933=$B$34,1,0))*(IF('Cleaned Data'!H933<>\"\",1,0))","v":373},{"$f":"INDEX('Cleaned Data'!H:H,MATCH($A987,$B$56:$B$1919,0))","v":{"$error":"#N/A"}},{"$f":"INDEX('Cleaned Data'!L:L,MATCH($A987,$B$56:$B$1919,0))","v":{"$error":"#N/A"}}]
[933,{"$f":"B987+IF('Cleaned Data'!L934>0,1,0)*IF($B$34=\"Overall\",1,IF('Cleaned Data'!K934=$B$34,1,0))*(IF('Cleaned Data'!H934<>\"\",1,0))","v":374},{"$f":"INDEX('Cleaned Data'!H:H,MATCH($A988,$B$56:$B$1919,0))","v":{"$error":"#N/A"}},{"$f":"INDEX('Cleaned Data'!L:L,MATCH($A988,$B$56:$B$1919,0))","v":{"$error":"#N/A"}}]
[934,{"$f":"B988+IF('Cleaned Data'!L935>0,1,0)*IF($B$34=\"Overall\",1,IF('Cleaned Data'!K935=$B$34,1,0))*(IF('Cleaned Data'!H935<>\"\",1,0))","v":375},{"$f":"INDEX('Cleaned Data'!H:H,MATCH($A989,$B$56:$B$1919,0))","v":{"$error":"#N/A"}},{"$f":"INDEX('Cleaned Data'!L:L,MATCH($A989,$B$56:$B$1919,0))","v":{"$error":"#N/A"}}]
[935,{"$f":"B989+IF('Cleaned Data'!L936>0,1,0)*IF($B$34=\"Overall\",1,IF('Cleaned Data'!K936=$B$34,1,0))*(IF('Cleaned Data'!H936<>\"\",1,0))","v":376},{"$f":"INDEX('Cleaned Data'!H:H,MATCH($A990,$B$56:$B$1919,0))","v":{"$error":"#N/A"}},{"$f":"INDEX('Cleaned Data'!L:L,MATCH($A990,$B$56:$B$1919,0))","v":{"$error":"#N/A"}}]
[936,{"$f":"B990+IF('Cleaned Data'!L937>0,1,0)*IF($B$34=\"Overall\",1,IF('Cleaned Data'!K937=$B$34,1,0))*(IF('Cleaned Data'!H937<>\"\",1,0))","v":377},{"$f":"INDEX('Cleaned Data'!H:H,MATCH($A991,$B$56:$B$1919,0))","v":{"$error":"#N/A"}},{"$f":"INDEX('Cleaned Data'!L:L,MATCH($A991,$B$56:$B$1919,0))","v":{"$error":"#N/A"}}]
[937,{"$f":"B991+IF('Cleaned Data'!L938>0,1,0)*IF($B$34=\"Overall\",1,IF('Cleaned Data'!K938=$B$34,1,0))*(IF('Cleaned Data'!H938<>\"\",1,0))","v":378},{"$f":"INDEX('Cleaned Data'!H:H,MATCH($A992,$B$56:$B$1919,0))","v":{"$error":"#N/A"}},{"$f":"INDEX('Cleaned Data'!L:L,MATCH($A992,$B$56:$B$1919,0))","v":{"$error":"#N/A"}}]
[938,{"$f":"B992+IF('Cleaned Data'!L939>0,1,0)*IF($B$34=\"Overall\",1,IF('Cleaned Data'!K939=$B$34,1,0))*(IF('Cleaned Data'!H939<>\"\",1,0))","v":379},{"$f":"INDEX('Cleaned Data'!H:H,MATCH($A993,$B$56:$B$1919,0))","v":{"$error":"#N/A"}},{"$f":"INDEX('Cleaned Data'!L:L,MATCH($A993,$B$56:$B$1919,0))","v":{"$error":"#N/A"}}]
[939,{"$f":"B993+IF('Cleaned Data'!L940>0,1,0)*IF($B$34=\"Overall\",1,IF('Cleaned Data'!K940=$B$34,1,0))*(IF('Cleaned Data'!H940<>\"\",1,0))","v":380},{"$f":"INDEX('Cleaned Data'!H:H,MATCH($A994,$B$56:$B$1919,0))","v":{"$error":"#N/A"}},{"$f":"INDEX('Cleaned Data'!L:L,MATCH($A994,$B$56:$B$1919,0))","v":{"$error":"#N/A"}}]
[940,{"$f":"B994+IF('Cleaned Data'!L941>0,1,0)*IF($B$34=\"Overall\",1,IF('Cleaned Data'!K941=$B$34,1,0))*(IF('Cleaned Data'!H941<>\"\",1,0))","v":381},{"$f":"INDEX('Cleaned Data'!H:H,MATCH($A995,$B$56:$B$1919,0))","v":{"$error":"#N/A"}},{"$f":"INDEX('Cleaned Data'!L:L,MATCH($A995,$B$56:$B$1919,0))","v":{"$error":"#N/A"}}]
[941,{"$f":"B995+IF('Cleaned Data'!L942>0,1,0)*IF($B$34=\"Overall\",1,IF('Cleaned Data'!K942=$B$34,1,0))*(IF('Cleaned Data'!H942<>\"\",1,0))","v":382},{"$f":"INDEX('Cleaned Data'!H:H,MATCH($A996,$B$56:$B$1919,0))","v":{"$error":"#N/A"}},{"$f":"INDEX('Cleaned Data'!L:L,MATCH($A996,$B$56:$B$1919,0))","v":{"$error":"#N/A"}}]
[942,{"$f":"B996+IF('Cleaned Data'!L943>0,1,0)*IF($B$34=\"Overall\",1,IF('Cleaned Data'!K943=$B$34,1,0))*(IF('Cleaned Data'!H943<>\"\",1,0))","v":383},{"$f":"INDEX('Cleaned Data'!H:H,MATCH($A997,$B$56:$B$1919,0))","v":{"$error":"#N/A"}},{"$f":"INDEX('Cleaned Data'!L:L,MATCH($A997,$B$56:$B$1919,0))","v":{"$error":"#N/A"}}]
[943,{"$f":"B997+IF('Cleaned Data'!L944>0,1,0)*IF($B$34=\"Overall\",1,IF('Cleaned Data'!K944=$B$34,1,0))*(IF('Cleaned Data'!H944<>\"\",1,0))","v":384},{"$f":"INDEX('Cleaned Data'!H:H,MATCH($A998,$B$56:$B$1919,0))","v":{"$error":"#N/A"}},{"$f":"INDEX('Cleaned Data'!L:L,MATCH($A998,$B$56:$B$1919,0))","v":{"$error":"#N/A"}}]
[944,{"$f":"B998+IF('Cleaned Data'!L945>0,1,0)*IF($B$34=\"Overall\",1,IF('Cleaned Data'!K945=$B$34,1,0))*(IF('Cleaned Data'!H945<>\"\",1,0))","v":385},{"$f":"INDEX('Cleaned Data'!H:H,MATCH($A999,$B$56:$B$1919,0))","v":{"$error":"#N/A"}},{"$f":"INDEX('Cleaned Data'!L:L,MATCH($A999,$B$56:$B$1919,0))","v":{"$error":"#N/A"}}]
[945,{"$f":"B999+IF('Cleaned Data'!L946>0,1,0)*IF($B$34=\"Overall\",1,IF('Cleaned Data'!K946=$B$34,1,0))*(IF('Cleaned Data'!H946<>\"\",1,0))","v":386},{"$f":"INDEX('Cleaned Data'!H:H,MATCH($A1000,$B$56:$B$1919,0))","v":{"$error":"#N/A"}},{"$f":"INDEX('Cleaned Data'!L:L,MATCH($A1000,$B$56:$B$1919,0))","v":{"$error":"#N/A"}}]
[946,{"$f":"B1000+IF('Cleaned Data'!L947>0,1,0)*IF($B$34=\"Overall\",1,IF('Cleaned Data'!K947=$B$34,1,0))*(IF('Cleaned Data'!H947<>\"\",1,0))","v":387},{"$f":"INDEX('Cleaned Data'!H:H,MATCH($A1001,$B$56:$B$1919,0))","v":{"$error":"#N/A"}},{"$f":"INDEX('Cleaned Data'!L:L,MATCH($A1001,$B$56:$B$1919,0))","v":{"$error":"#N/A"}}]
[947,{"$f":"B1001+IF('Cleaned Data'!L948>0,1,0)*IF($B$34=\"Overall\",1,IF('Cleaned Data'!K948=$B$34,1,0))*(IF('Cleaned Data'!H948<>\"\",1,0))","v":388},{"$f":"INDEX('Cleaned Data'!H:H,MATCH($A1002,$B$56:$B$1919,0))","v":{"$error":"#N/A"}},{"$f":"INDEX('Cleaned Data'!L:L,MATCH($A1002,$B$56:$B$1919,0))","v":{"$error":"#N/A"}}]
[948,{"$f":"B1002+IF('Cleaned Data'!L949>0,1,0)*IF($B$34=\"Overall\",1,IF('Cleaned Data'!K949=$B$34,1,0))*(IF('Cleaned Data'!H949<>\"\",1,0))","v":389},{"$f":"INDEX('Cleaned Data'!H:H,MATCH($A1003,$B$56:$B$1919,0))","v":{"$error":"#N/A"}},{"$f":"INDEX('Cleaned Data'!L:L,MATCH($A1003,$B$56:$B$1919,0))","v":{"$error":"#N/A"}}]
[949,{"$f":"B1003+IF('Cleaned Data'!L950>0,1,0)*IF($B$34=\"Overall\",1,IF('Cleaned Data'!K950=$B$34,1,0))*(IF('Cleaned Data'!H950<>\"\",1,0))","v":390},{"$f":"INDEX('Cleaned Data'!H:H,MATCH($A1004,$B$56:$B$1919,0))","v":{"$error":"#N/A"}},{"$f":"INDEX('Cleaned Data'!L:L,MATCH($A1004,$B$56:$B$1919,0))","v":{"$error":"#N/A"}}]
[950,{"$f":"B1004+IF('Cleaned Data'!L951>0,1,0)*IF($B$34=\"Overall\",1,IF('Cleaned Data'!K951=$B$34,1,0))*(IF('Cleaned Data'!H951<>\"\",1,0))","v":391},{"$f":"INDEX('Cleaned Data'!H:H,MATCH($A1005,$B$56:$B$1919,0))","v":{"$error":"#N/A"}},{"$f":"INDEX('Cleaned Data'!L:L,MATCH($A1005,$B$56:$B$1919,0))","v":{"$error":"#N/A"}}]
[951,{"$f":"B1005+IF('Cleaned Data'!L952>0,1,0)*IF($B$34=\"Overall\",1,IF('Cleaned Data'!K952=$B$34,1,0))*(IF('Cleaned Data'!H952<>\"\",1,0))","v":392},{"$f":"INDEX('Cleaned Data'!H:H,MATCH($A1006,$B$56:$B$1919,0))","v":{"$error":"#N/A"}},{"$f":"INDEX('Cleaned Data'!L:L,MATCH($A1006,$B$56:$B$1919,0))","v":{"$error":"#N/A"}}]
[952,{"$f":"B1006+IF('Cleaned Data'!L953>0,1,0)*IF($B$34=\"Overall\",1,IF('Cleaned Data'!K953=$B$34,1,0))*(IF('Cleaned Data'!H953<>\"\",1,0))","v":393},{"$f":"INDEX('Cleaned Data'!H:H,MATCH($A1007,$B$56:$B$1919,0))","v":{"$error":"#N/A"}},{"$f":"INDEX('Cleaned Data'!L:L,MATCH($A1007,$B$56:$B$1919,0))","v":{"$error":"#N/A"}}]
[953,{"$f":"B1007+IF('Cleaned Data'!L954>0,1,0)*IF($B$34=\"Overall\",1,IF('Cleaned Data'!K954=$B$34,1,0))*(IF('Cleaned Data'!H954<>\"\",1,0))","v":394},{"$f":"INDEX('Cleaned Data'!H:H,MATCH($A1008,$B$56:$B$1919,0))","v":{"$error":"#N/A"}},{"$f":"INDEX('Cleaned Data'!L:L,MATCH($A1008,$B$56:$B$1919,0))","v":{"$error":"#N/A"}}]
[954,{"$f":"B1008+IF('Cleaned Data'!L955>0,1,0)*IF($B$34=\"Overall\",1,IF('Cleaned Data'!K955=$B$34,1,0))*(IF('Cleaned Data'!H955<>\"\",1,0))","v":395},{"$f":"INDEX('Cleaned Data'!H:H,MATCH($A1009,$B$56:$B$1919,0))","v":{"$error":"#N/A"}},{"$f":"INDEX('Cleaned Data'!L:L,MATCH($A1009,$B$56:$B$1919,0))","v":{"$error":"#N/A"}}]
[955,{"$f":"B1009+IF('Cleaned Data'!L956>0,1,0)*IF($B$34=\"Overall\",1,IF('Cleaned Data'!K956=$B$34,1,0))*(IF('Cleaned Data'!H956<>\"\",1,0))","v":396},{"$f":"INDEX('Cleaned Data'!H:H,MATCH($A1010,$B$56:$B$1919,0))","v":{"$error":"#N/A"}},{"$f":"INDEX('Cleaned Data'!L:L,MATCH($A1010,$B$56:$B$1919,0))","v":{"$error":"#N/A"}}]
[956,{"$f":"B1010+IF('Cleaned Data'!L957>0,1,0)*IF($B$34=\"Overall\",1,IF('Cleaned Data'!K957=$B$34,1,0))*(IF('Cleaned Data'!H957<>\"\",1,0))","v":397},{"$f":"INDEX('Cleaned Data'!H:H,MATCH($A1011,$B$56:$B$1919,0))","v":{"$error":"#N/A"}},{"$f":"INDEX('Cleaned Data'!L:L,MATCH($A1011,$B$56:$B$1919,0))","v":{"$error":"#N/A"}}]
[957,{"$f":"B1011+IF('Cleaned Data'!L958>0,1,0)*IF($B$34=\"Overall\",1,IF('Cleaned Data'!K958=$B$34,1,0))*(IF('Cleaned Data'!H958<>\"\",1,0))","v":398},{"$f":"INDEX('Cleaned Data'!H:H,MATCH($A1012,$B$56:$B$1919,0))","v":{"$error":"#N/A"}},{"$f":"INDEX('Cleaned Data'!L:L,MATCH($A1012,$B$56:$B$1919,0))","v":{"$error":"#N/A"}}]
[958,{"$f":"B1012+IF('Cleaned Data'!L959>0,1,0)*IF($B$34=\"Overall\",1,IF('Cleaned Data'!K959=$B$34,1,0))*(IF('Cleaned Data'!H959<>\"\",1,0))","v":399},{"$f":"INDEX('Cleaned Data'!H:H,MATCH($A1013,$B$56:$B$1919,0))","v":{"$error":"#N/A"}},{"$f":"INDEX('Cleaned Data'!L:L,MATCH($A1013,$B$56:$B$1919,0))","v":{"$error":"#N/A"}}]
[959,{"$f":"B1013+IF('Cleaned Data'!L960>0,1,0)*IF($B$34=\"Overall\",1,IF('Cleaned Data'!K960=$B$34,1,0))*(IF('Cleaned Data'!H960<>\"\",1,0))","v":400},{"$f":"INDEX('Cleaned Data'!H:H,MATCH($A1014,$B$56:$B$1919,0))","v":{"$error":"#N/A"}},{"$f":"INDEX('Cleaned Data'!L:L,MATCH($A1014,$B$56:$B$1919,0))","v":{"$error":"#N/A"}}]
[960,{"$f":"B1014+IF('Cleaned Data'!L961>0,1,0)*IF($B$34=\"Overall\",1,IF('Cleaned Data'!K961=$B$34,1,0))*(IF('Cleaned Data'!H961<>\"\",1,0))","v":401},{"$f":"INDEX('Cleaned Data'!H:H,MATCH($A1015,$B$56:$B$1919,0))","v":{"$error":"#N/A"}},{"$f":"INDEX('Cleaned Data'!L:L,MATCH($A1015,$B$56:$B$1919,0))","v":{"$error":"#N/A"}}]
[961,{"$f":"B1015+IF('Cleaned Data'!L962>0,1,0)*IF($B$34=\"Overall\",1,IF('Cleaned Data'!K962=$B$34,1,0))*(IF('Cleaned Data'!H962<>\"\",1,0))","v":402},{"$f":"INDEX('Cleaned Data'!H:H,MATCH($A1016,$B$56:$B$1919,0))","v":{"$error":"#N/A"}},{"$f":"INDEX('Cleaned Data'!L:L,MATCH($A1016,$B$56:$B$1919,0))","v":{"$error":"#N/A"}}]
[962,{"$f":"B1016+IF('Cleaned Data'!L963>0,1,0)*IF($B$34=\"Overall\",1,IF('Cleaned Data'!K963=$B$34,1,0))*(IF('Cleaned Data'!H963<>\"\",1,0))","v":403},{"$f":"INDEX('Cleaned Data'!H:H,MATCH($A1017,$B$56:$B$1919,0))","v":{"$error":"#N/A"}},{"$f":"INDEX('Cleaned Data'!L:L,MATCH($A1017,$B$56:$B$1919,0))","v":{"$error":"#N/A"}}]
[963,{"$f":"B1017+IF('Cleaned Data'!L964>0,1,0)*IF($B$34=\"Overall\",1,IF('Cleaned Data'!K964=$B$34,1,0))*(IF('Cleaned Data'!H964<>\"\",1,0))","v":404},{"$f":"INDEX('Cleaned Data'!H:H,MATCH($A1018,$B$56:$B$1919,0))","v":{"$error":"#N/A"}},{"$f":"INDEX('Cleaned Data'!L:L,MATCH($A1018,$B$56:$B$1919,0))","v":{"$error":"#N/A"}}]
[964,{"$f":"B1018+IF('Cleaned Data'!L965>0,1,0)*IF($B$34=\"Overall\",1,IF('Cleaned Data'!K965=$B$34,1,0))*(IF('Cleaned Data'!H965<>\"\",1,0))","v":405},{"$f":"INDEX('Cleaned Data'!H:H,MATCH($A1019,$B$56:$B$1919,0))","v":{"$error":"#N/A"}},{"$f":"INDEX('Cleaned Data'!L:L,MATCH($A1019,$B$56:$B$1919,0))","v":{"$error":"#N/A"}}]
[965,{"$f":"B1019+IF('Cleaned Data'!L966>0,1,0)*IF($B$34=\"Overall\",1,IF('Cleaned Data'!K966=$B$34,1,0))*(IF('Cleaned Data'!H966<>\"\",1,0))","v":406},{"$f":"INDEX('Cleaned Data'!H:H,MATCH($A1020,$B$56:$B$1919,0))","v":{"$error":"#N/A"}},{"$f":"INDEX('Cleaned Data'!L:L,MATCH($A1020,$B$56:$B$1919,0))","v":{"$error":"#N/A"}}]
[966,{"$f":"B1020+IF('Cleaned Data'!L967>0,1,0)*IF($B$34=\"Overall\",1,IF('Cleaned Data'!K967=$B$34,1,0))*(IF('Cleaned Data'!H967<>\"\",1,0))","v":407},{"$f":"INDEX('Cleaned Data'!H:H,MATCH($A1021,$B$56:$B$1919,0))","v":{"$error":"#N/A"}},{"$f":"INDEX('Cleaned Data'!L:L,MATCH($A1021,$B$56:$B$1919,0))","v":{"$error":"#N/A"}}]
[967,{"$f":"B1021+IF('Cleaned Data'!L968>0,1,0)*IF($B$34=\"Overall\",1,IF('Cleaned Data'!K968=$B$34,1,0))*(IF('Cleaned Data'!H968<>\"\",1,0))","v":408},{"$f":"INDEX('Cleaned Data'!H:H,MATCH($A1022,$B$56:$B$1919,0))","v":{"$error":"#N/A"}},{"$f":"INDEX('Cleaned Data'!L:L,MATCH($A1022,$B$56:$B$1919,0))","v":{"$error":"#N/A"}}]
[968,{"$f":"B1022+IF('Cleaned Data'!L969>0,1,0)*IF($B$34=\"Overall\",1,IF('Cleaned Data'!K969=$B$34,1,0))*(IF('Cleaned Data'!H969<>\"\",1,0))","v":409},{"$f":"INDEX('Cleaned Data'!H:H,MATCH($A1023,$B$56:$B$1919,0))","v":{"$error":"#N/A"}},{"$f":"INDEX('Cleaned Data'!L:L,MATCH($A1023,$B$56:$B$1919,0))","v":{"$error":"#N/A"}}]
[969,{"$f":"B1023+IF('Cleaned Data'!L970>0,1,0)*IF($B$34=\"Overall\",1,IF('Cleaned Data'!K970=$B$34,1,0))*(IF('Cleaned Data'!H970<>\"\",1,0))","v":410},{"$f":"INDEX('Cleaned Data'!H:H,MATCH($A1024,$B$56:$B$1919,0))","v":{"$error":"#N/A"}},{"$f":"INDEX('Cleaned Data'!L:L,MATCH($A1024,$B$56:$B$1919,0))","v":{"$error":"#N/A"}}]
[970,{"$f":"B1024+IF('Cleaned Data'!L971>0,1,0)*IF($B$34=\"Overall\",1,IF('Cleaned Data'!K971=$B$34,1,0))*(IF('Cleaned Data'!H971<>\"\",1,0))","v":411},{"$f":"INDEX('Cleaned Data'!H:H,MATCH($A1025,$B$56:$B$1919,0))","v":{"$error":"#N/A"}},{"$f":"INDEX('Cleaned Data'!L:L,MATCH($A1025,$B$56:$B$1919,0))","v":{"$error":"#N/A"}}]
[971,{"$f":"B1025+IF('Cleaned Data'!L972>0,1,0)*IF($B$34=\"Overall\",1,IF('Cleaned Data'!K972=$B$34,1,0))*(IF('Cleaned Data'!H972<>\"\",1,0))","v":412},{"$f":"INDEX('Cleaned Data'!H:H,MATCH($A1026,$B$56:$B$1919,0))","v":{"$error":"#N/A"}},{"$f":"INDEX('Cleaned Data'!L:L,MATCH($A1026,$B$56:$B$1919,0))","v":{"$error":"#N/A"}}]
[972,{"$f":"B1026+IF('Cleaned Data'!L973>0,1,0)*IF($B$34=\"Overall\",1,IF('Cleaned Data'!K973=$B$34,1,0))*(IF('Cleaned Data'!H973<>\"\",1,0))","v":413},{"$f":"INDEX('Cleaned Data'!H:H,MATCH($A1027,$B$56:$B$1919,0))","v":{"$error":"#N/A"}},{"$f":"INDEX('Cleaned Data'!L:L,MATCH($A1027,$B$56:$B$1919,0))","v":{"$error":"#N/A"}}]
[973,{"$f":"B1027+IF('Cleaned Data'!L974>0,1,0)*IF($B$34=\"Overall\",1,IF('Cleaned Data'!K974=$B$34,1,0))*(IF('Cleaned Data'!H974<>\"\",1,0))","v":414},{"$f":"INDEX('Cleaned Data'!H:H,MATCH($A1028,$B$56:$B$1919,0))","v":{"$error":"#N/A"}},{"$f":"INDEX('Cleaned Data'!L:L,MATCH($A1028,$B$56:$B$1919,0))","v":{"$error":"#N/A"}}]
[974,{"$f":"B1028+IF('Cleaned Data'!L975>0,1,0)*IF($B$34=\"Overall\",1,IF('Cleaned Data'!K975=$B$34,1,0))*(IF('Cleaned Data'!H975<>\"\",1,0))","v":415},{"$f":"INDEX('Cleaned Data'!H:H,MATCH($A1029,$B$56:$B$1919,0))","v":{"$error":"#N/A"}},{"$f":"INDEX('Cleaned Data'!L:L,MATCH($A1029,$B$56:$B$1919,0))","v":{"$error":"#N/A"}}]
[975,{"$f":"B1029+IF('Cleaned Data'!L976>0,1,0)*IF($B$34=\"Overall\",1,IF('Cleaned Data'!K976=$B$34,1,0))*(IF('Cleaned Data'!H976<>\"\",1,0))","v":416},{"$f":"INDEX('Cleaned Data'!H:H,MATCH($A1030,$B$56:$B$1919,0))","v":{"$error":"#N/A"}},{"$f":"INDEX('Cleaned Data'!L:L,MATCH($A1030,$B$56:$B$1919,0))","v":{"$error":"#N/A"}}]
[976,{"$f":"B1030+IF('Cleaned Data'!L977>0,1,0)*IF($B$34=\"Overall\",1,IF('Cleaned Data'!K977=$B$34,1,0))*(IF('Cleaned Data'!H977<>\"\",1,0))","v":417},{"$f":"INDEX('Cleaned Data'!H:H,MATCH($A1031,$B$56:$B$1919,0))","v":{"$error":"#N/A"}},{"$f":"INDEX('Cleaned Data'!L:L,MATCH($A1031,$B$56:$B$1919,0))","v":{"$error":"#N/A"}}]
[977,{"$f":"B1031+IF('Cleaned Data'!L978>0,1,0)*IF($B$34=\"Overall\",1,IF('Cleaned Data'!K978=$B$34,1,0))*(IF('Cleaned Data'!H978<>\"\",1,0))","v":418},{"$f":"INDEX('Cleaned Data'!H:H,MATCH($A1032,$B$56:$B$1919,0))","v":{"$error":"#N/A"}},{"$f":"INDEX('Cleaned Data'!L:L,MATCH($A1032,$B$56:$B$1919,0))","v":{"$error":"#N/A"}}]
[978,{"$f":"B1032+IF('Cleaned Data'!L979>0,1,0)*IF($B$34=\"Overall\",1,IF('Cleaned Data'!K979=$B$34,1,0))*(IF('Cleaned Data'!H979<>\"\",1,0))","v":419},{"$f":"INDEX('Cleaned Data'!H:H,MATCH($A1033,$B$56:$B$1919,0))","v":{"$error":"#N/A"}},{"$f":"INDEX('Cleaned Data'!L:L,MATCH($A1033,$B$56:$B$1919,0))","v":{"$error":"#N/A"}}]
[979,{"$f":"B1033+IF('Cleaned Data'!L980>0,1,0)*IF($B$34=\"Overall\",1,IF('Cleaned Data'!K980=$B$34,1,0))*(IF('Cleaned Data'!H980<>\"\",1,0))","v":420},{"$f":"INDEX('Cleaned Data'!H:H,MATCH($A1034,$B$56:$B$1919,0))","v":{"$error":"#N/A"}},{"$f":"INDEX('Cleaned Data'!L:L,MATCH($A1034,$B$56:$B$1919,0))","v":{"$error":"#N/A"}}]
[980,{"$f":"B1034+IF('Cleaned Data'!L981>0,1,0)*IF($B$34=\"Overall\",1,IF('Cleaned Data'!K981=$B$34,1,0))*(IF('Cleaned Data'!H981<>\"\",1,0))","v":421},{"$f":"INDEX('Cleaned Data'!H:H,MATCH($A1035,$B$56:$B$1919,0))","v":{"$error":"#N/A"}},{"$f":"INDEX('Cleaned Data'!L:L,MATCH($A1035,$B$56:$B$1919,0))","v":{"$error":"#N/A"}}]
[981,{"$f":"B1035+IF('Cleaned Data'!L982>0,1,0)*IF($B$34=\"Overall\",1,IF('Cleaned Data'!K982=$B$34,1,0))*(IF('Cleaned Data'!H982<>\"\",1,0))","v":422},{"$f":"INDEX('Cleaned Data'!H:H,MATCH($A1036,$B$56:$B$1919,0))","v":{"$error":"#N/A"}},{"$f":"INDEX('Cleaned Data'!L:L,MATCH($A1036,$B$56:$B$1919,0))","v":{"$error":"#N/A"}}]
[982,{"$f":"B1036+IF('Cleaned Data'!L983>0,1,0)*IF($B$34=\"Overall\",1,IF('Cleaned Data'!K983=$B$34,1,0))*(IF('Cleaned Data'!H983<>\"\",1,0))","v":423},{"$f":"INDEX('Cleaned Data'!H:H,MATCH($A1037,$B$56:$B$1919,0))","v":{"$error":"#N/A"}},{"$f":"INDEX('Cleaned Data'!L:L,MATCH($A1037,$B$56:$B$1919,0))","v":{"$error":"#N/A"}}]
[983,{"$f":"B1037+IF('Cleaned Data'!L984>0,1,0)*IF($B$34=\"Overall\",1,IF('Cleaned Data'!K984=$B$34,1,0))*(IF('Cleaned Data'!H984<>\"\",1,0))","v":424},{"$f":"INDEX('Cleaned Data'!H:H,MATCH($A1038,$B$56:$B$1919,0))","v":{"$error":"#N/A"}},{"$f":"INDEX('Cleaned Data'!L:L,MATCH($A1038,$B$56:$B$1919,0))","v":{"$error":"#N/A"}}]
[984,{"$f":"B1038+IF('Cleaned Data'!L985>0,1,0)*IF($B$34=\"Overall\",1,IF('Cleaned Data'!K985=$B$34,1,0))*(IF('Cleaned Data'!H985<>\"\",1,0))","v":425},{"$f":"INDEX('Cleaned Data'!H:H,MATCH($A1039,$B$56:$B$1919,0))","v":{"$error":"#N/A"}},{"$f":"INDEX('Cleaned Data'!L:L,MATCH($A1039,$B$56:$B$1919,0))","v":{"$error":"#N/A"}}]
[985,{"$f":"B1039+IF('Cleaned Data'!L986>0,1,0)*IF($B$34=\"Overall\",1,IF('Cleaned Data'!K986=$B$34,1,0))*(IF('Cleaned Data'!H986<>\"\",1,0))","v":426},{"$f":"INDEX('Cleaned Data'!H:H,MATCH($A1040,$B$56:$B$1919,0))","v":{"$error":"#N/A"}},{"$f":"INDEX('Cleaned Data'!L:L,MATCH($A1040,$B$56:$B$1919,0))","v":{"$error":"#N/A"}}]
[986,{"$f":"B1040+IF('Cleaned Data'!L987>0,1,0)*IF($B$34=\"Overall\",1,IF('Cleaned Data'!K987=$B$34,1,0))*(IF('Cleaned Data'!H987<>\"\",1,0))","v":427},{"$f":"INDEX('Cleaned Data'!H:H,MATCH($A1041,$B$56:$B$1919,0))","v":{"$error":"#N/A"}},{"$f":"INDEX('Cleaned Data'!L:L,MATCH($A1041,$B$56:$B$1919,0))","v":{"$error":"#N/A"}}]
[987,{"$f":"B1041+IF('Cleaned Data'!L988>0,1,0)*IF($B$34=\"Overall\",1,IF('Cleaned Data'!K988=$B$34,1,0))*(IF('Cleaned Data'!H988<>\"\",1,0))","v":428},{"$f":"INDEX('Cleaned Data'!H:H,MATCH($A1042,$B$56:$B$1919,0))","v":{"$error":"#N/A"}},{"$f":"INDEX('Cleaned Data'!L:L,MATCH($A1042,$B$56:$B$1919,0))","v":{"$error":"#N/A"}}]
[988,{"$f":"B1042+IF('Cleaned Data'!L989>0,1,0)*IF($B$34=\"Overall\",1,IF('Cleaned Data'!K989=$B$34,1,0))*(IF('Cleaned Data'!H989<>\"\",1,0))","v":429},{"$f":"INDEX('Cleaned Data'!H:H,MATCH($A1043,$B$56:$B$1919,0))","v":{"$error":"#N/A"}},{"$f":"INDEX('Cleaned Data'!L:L,MATCH($A1043,$B$56:$B$1919,0))","v":{"$error":"#N/A"}}]
[989,{"$f":"B1043+IF('Cleaned Data'!L990>0,1,0)*IF($B$34=\"Overall\",1,IF('Cleaned Data'!K990=$B$34,1,0))*(IF('Cleaned Data'!H990<>\"\",1,0))","v":430},{"$f":"INDEX('Cleaned Data'!H:H,MATCH($A1044,$B$56:$B$1919,0))","v":{"$error":"#N/A"}},{"$f":"INDEX('Cleaned Data'!L:L,MATCH($A1044,$B$56:$B$1919,0))","v":{"$error":"#N/A"}}]
[990,{"$f":"B1044+IF('Cleaned Data'!L991>0,1,0)*IF($B$34=\"Overall\",1,IF('Cleaned Data'!K991=$B$34,1,0))*(IF('Cleaned Data'!H991<>\"\",1,0))","v":431},{"$f":"INDEX('Cleaned Data'!H:H,MATCH($A1045,$B$56:$B$1919,0))","v":{"$error":"#N/A"}},{"$f":"INDEX('Cleaned Data'!L:L,MATCH($A1045,$B$56:$B$1919,0))","v":{"$error":"#N/A"}}]
[991,{"$f":"B1045+IF('Cleaned Data'!L992>0,1,0)*IF($B$34=\"Overall\",1,IF('Cleaned Data'!K992=$B$34,1,0))*(IF('Cleaned Data'!H992<>\"\",1,0))","v":432},{"$f":"INDEX('Cleaned Data'!H:H,MATCH($A1046,$B$56:$B$1919,0))","v":{"$error":"#N/A"}},{"$f":"INDEX('Cleaned Data'!L:L,MATCH($A1046,$B$56:$B$1919,0))","v":{"$error":"#N/A"}}]
[992,{"$f":"B1046+IF('Cleaned Data'!L993>0,1,0)*IF($B$34=\"Overall\",1,IF('Cleaned Data'!K993=$B$34,1,0))*(IF('Cleaned Data'!H993<>\"\",1,0))","v":433},{"$f":"INDEX('Cleaned Data'!H:H,MATCH($A1047,$B$56:$B$1919,0))","v":{"$error":"#N/A"}},{"$f":"INDEX('Cleaned Data'!L:L,MATCH($A1047,$B$56:$B$1919,0))","v":{"$error":"#N/A"}}]
[993,{"$f":"B1047+IF('Cleaned Data'!L994>0,1,0)*IF($B$34=\"Overall\",1,IF('Cleaned Data'!K994=$B$34,1,0))*(IF('Cleaned Data'!H994<>\"\",1,0))","v":434},{"$f":"INDEX('Cleaned Data'!H:H,MATCH($A1048,$B$56:$B$1919,0))","v":{"$error":"#N/A"}},{"$f":"INDEX('Cleaned Data'!L:L,MATCH($A1048,$B$56:$B$1919,0))","v":{"$error":"#N/A"}}]
[994,{"$f":"B1048+IF('Cleaned Data'!L995>0,1,0)*IF($B$34=\"Overall\",1,IF('Cleaned Data'!K995=$B$34,1,0))*(IF('Cleaned Data'!H995<>\"\",1,0))","v":435},{"$f":"INDEX('Cleaned Data'!H:H,MATCH($A1049,$B$56:$B$1919,0))","v":{"$error":"#N/A"}},{"$f":"INDEX('Cleaned Data'!L:L,MATCH($A1049,$B$56:$B$1919,0))","v":{"$error":"#N/A"}}]
[995,{"$f":"B1049+IF('Cleaned Data'!L996>0,1,0)*IF($B$34=\"Overall\",1,IF('Cleaned Data'!K996=$B$34,1,0))*(IF('Cleaned Data'!H996<>\"\",1,0))","v":436},{"$f":"INDEX('Cleaned Data'!H:H,MATCH($A1050,$B$56:$B$1919,0))","v":{"$error":"#N/A"}},{"$f":"INDEX('Cleaned Data'!L:L,MATCH($A1050,$B$56:$B$1919,0))","v":{"$error":"#N/A"}}]
[996,{"$f":"B1050+IF('Cleaned Data'!L997>0,1,0)*IF($B$34=\"Overall\",1,IF('Cleaned Data'!K997=$B$34,1,0))*(IF('Cleaned Data'!H997<>\"\",1,0))","v":437},{"$f":"INDEX('Cleaned Data'!H:H,MATCH($A1051,$B$56:$B$1919,0))","v":{"$error":"#N/A"}},{"$f":"INDEX('Cleaned Data'!L:L,MATCH($A1051,$B$56:$B$1919,0))","v":{"$error":"#N/A"}}]
[997,{"$f":"B1051+IF('Cleaned Data'!L998>0,1,0)*IF($B$34=\"Overall\",1,IF('Cleaned Data'!K998=$B$34,1,0))*(IF('Cleaned Data'!H998<>\"\",1,0))","v":438},{"$f":"INDEX('Cleaned Data'!H:H,MATCH($A1052,$B$56:$B$1919,0))","v":{"$error":"#N/A"}},{"$f":"INDEX('Cleaned Data'!L:L,MATCH($A1052,$B$56:$B$1919,0))","v":{"$error":"#N/A"}}]
[998,{"$f":"B1052+IF('Cleaned Data'!L999>0,1,0)*IF($B$34=\"Overall\",1,IF('Cleaned Data'!K999=$B$34,1,0))*(IF('Cleaned Data'!H999<>\"\",1,0))","v":439},{"$f":"INDEX('Cleaned Data'!H:H,MATCH($A1053,$B$56:$B$1919,0))","v":{"$error":"#N/A"}},{"$f":"INDEX('Cleaned Data'!L:L,MATCH($A1053,$B$56:$B$1919,0))","v":{"$error":"#N/A"}}]
[999,{"$f":"B1053+IF('Cleaned Data'!L1000>0,1,0)*IF($B$34=\"Overall\",1,IF('Cleaned Data'!K1000=$B$34,1,0))*(IF('Cleaned Data'!H1000<>\"\",1,0))","v":440},{"$f":"INDEX('Cleaned Data'!H:H,MATCH($A1054,$B$56:$B$1919,0))","v":{"$error":"#N/A"}},{"$f":"INDEX('Cleaned Data'!L:L,MATCH($A1054,$B$56:$B$1919,0))","v":{"$error":"#N/A"}}]
[1000,{"$f":"B1054+IF('Cleaned Data'!L1001>0,1,0)*IF($B$34=\"Overall\",1,IF('Cleaned Data'!K1001=$B$34,1,0))*(IF('Cleaned Data'!H1001<>\"\",1,0))","v":441},{"$f":"INDEX('Cleaned Data'!H:H,MATCH($A1055,$B$56:$B$1919,0))","v":{"$error":"#N/A"}},{"$f":"INDEX('Cleaned Data'!L:L,MATCH($A1055,$B$56:$B$1919,0))","v":{"$error":"#N/A"}}]
[1001,{"$f":"B1055+IF('Cleaned Data'!L1002>0,1,0)*IF($B$34=\"Overall\",1,IF('Cleaned Data'!K1002=$B$34,1,0))*(IF('Cleaned Data'!H1002<>\"\",1,0))","v":442},{"$f":"INDEX('Cleaned Data'!H:H,MATCH($A1056,$B$56:$B$1919,0))","v":{"$error":"#N/A"}},{"$f":"INDEX('Cleaned Data'!L:L,MATCH($A1056,$B$56:$B$1919,0))","v":{"$error":"#N/A"}}]
[1002,{"$f":"B1056+IF('Cleaned Data'!L1003>0,1,0)*IF($B$34=\"Overall\",1,IF('Cleaned Data'!K1003=$B$34,1,0))*(IF('Cleaned Data'!H1003<>\"\",1,0))","v":443},{"$f":"INDEX('Cleaned Data'!H:H,MATCH($A1057,$B$56:$B$1919,0))","v":{"$error":"#N/A"}},{"$f":"INDEX('Cleaned Data'!L:L,MATCH($A1057,$B$56:$B$1919,0))","v":{"$error":"#N/A"}}]
[1003,{"$f":"B1057+IF('Cleaned Data'!L1004>0,1,0)*IF($B$34=\"Overall\",1,IF('Cleaned Data'!K1004=$B$34,1,0))*(IF('Cleaned Data'!H1004<>\"\",1,0))","v":444},{"$f":"INDEX('Cleaned Data'!H:H,MATCH($A1058,$B$56:$B$1919,0))","v":{"$error":"#N/A"}},{"$f":"INDEX('Cleaned Data'!L:L,MATCH($A1058,$B$56:$B$1919,0))","v":{"$error":"#N/A"}}]
[1004,{"$f":"B1058+IF('Cleaned Data'!L1005>0,1,0)*IF($B$34=\"Overall\",1,IF('Cleaned Data'!K1005=$B$34,1,0))*(IF('Cleaned Data'!H1005<>\"\",1,0))","v":445},{"$f":"INDEX('Cleaned Data'!H:H,MATCH($A1059,$B$56:$B$1919,0))","v":{"$error":"#N/A"}},{"$f":"INDEX('Cleaned Data'!L:L,MATCH($A1059,$B$56:$B$1919,0))","v":{"$error":"#N/A"}}]
[1005,{"$f":"B1059+IF('Cleaned Data'!L1006>0,1,0)*IF($B$34=\"Overall\",1,IF('Cleaned Data'!K1006=$B$34,1,0))*(IF('Cleaned Data'!H1006<>\"\",1,0))","v":446},{"$f":"INDEX('Cleaned Data'!H:H,MATCH($A1060,$B$56:$B$1919,0))","v":{"$error":"#N/A"}},{"$f":"INDEX('Cleaned Data'!L:L,MATCH($A1060,$B$56:$B$1919,0))","v":{"$error":"#N/A"}}]
[1006,{"$f":"B1060+IF('Cleaned Data'!L1007>0,1,0)*IF($B$34=\"Overall\",1,IF('Cleaned Data'!K1007=$B$34,1,0))*(IF('Cleaned Data'!H1007<>\"\",1,0))","v":447},{"$f":"INDEX('Cleaned Data'!H:H,MATCH($A1061,$B$56:$B$1919,0))","v":{"$error":"#N/A"}},{"$f":"INDEX('Cleaned Data'!L:L,MATCH($A1061,$B$56:$B$1919,0))","v":{"$error":"#N/A"}}]
[1007,{"$f":"B1061+IF('Cleaned Data'!L1008>0,1,0)*IF($B$34=\"Overall\",1,IF('Cleaned Data'!K1008=$B$34,1,0))*(IF('Cleaned Data'!H1008<>\"\",1,0))","v":448},{"$f":"INDEX('Cleaned Data'!H:H,MATCH($A1062,$B$56:$B$1919,0))","v":{"$error":"#N/A"}},{"$f":"INDEX('Cleaned Data'!L:L,MATCH($A1062,$B$56:$B$1919,0))","v":{"$error":"#N/A"}}]
[1008,{"$f":"B1062+IF('Cleaned Data'!L1009>0,1,0)*IF($B$34=\"Overall\",1,IF('Cleaned Data'!K1009=$B$34,1,0))*(IF('Cleaned Data'!H1009<>\"\",1,0))","v":449},{"$f":"INDEX('Cleaned Data'!H:H,MATCH($A1063,$B$56:$B$1919,0))","v":{"$error":"#N/A"}},{"$f":"INDEX('Cleaned Data'!L:L,MATCH($A1063,$B$56:$B$1919,0))","v":{"$error":"#N/A"}}]
[1009,{"$f":"B1063+IF('Cleaned Data'!L1010>0,1,0)*IF($B$34=\"Overall\",1,IF('Cleaned Data'!K1010=$B$34,1,0))*(IF('Cleaned Data'!H1010<>\"\",1,0))","v":450},{"$f":"INDEX('Cleaned Data'!H:H,MATCH($A1064,$B$56:$B$1919,0))","v":{"$error":"#N/A"}},{"$f":"INDEX('Cleaned Data'!L:L,MATCH($A1064,$B$56:$B$1919,0))","v":{"$error":"#N/A"}}]
[1010,{"$f":"B1064+IF('Cleaned Data'!L1011>0,1,0)*IF($B$34=\"Overall\",1,IF('Cleaned Data'!K1011=$B$34,1,0))*(IF('Cleaned Data'!H1011<>\"\",1,0))","v":451},{"$f":"INDEX('Cleaned Data'!H:H,MATCH($A1065,$B$56:$B$1919,0))","v":{"$error":"#N/A"}},{"$f":"INDEX('Cleaned Data'!L:L,MATCH($A1065,$B$56:$B$1919,0))","v":{"$error":"#N/A"}}]
[1011,{"$f":"B1065+IF('Cleaned Data'!L1012>0,1,0)*IF($B$34=\"Overall\",1,IF('Cleaned Data'!K1012=$B$34,1,0))*(IF('Cleaned Data'!H1012<>\"\",1,0))","v":452},{"$f":"INDEX('Cleaned Data'!H:H,MATCH($A1066,$B$56:$B$1919,0))","v":{"$error":"#N/A"}},{"$f":"INDEX('Cleaned Data'!L:L,MATCH($A1066,$B$56:$B$1919,0))","v":{"$error":"#N/A"}}]
[1012,{"$f":"B1066+IF('Cleaned Data'!L1013>0,1,0)*IF($B$34=\"Overall\",1,IF('Cleaned Data'!K1013=$B$34,1,0))*(IF('Cleaned Data'!H1013<>\"\",1,0))","v":453},{"$f":"INDEX('Cleaned Data'!H:H,MATCH($A1067,$B$56:$B$1919,0))","v":{"$error":"#N/A"}},{"$f":"INDEX('Cleaned Data'!L:L,MATCH($A1067,$B$56:$B$1919,0))","v":{"$error":"#N/A"}}]
[1013,{"$f":"B1067+IF('Cleaned Data'!L1014>0,1,0)*IF($B$34=\"Overall\",1,IF('Cleaned Data'!K1014=$B$34,1,0))*(IF('Cleaned Data'!H1014<>\"\",1,0))","v":454},{"$f":"INDEX('Cleaned Data'!H:H,MATCH($A1068,$B$56:$B$1919,0))","v":{"$error":"#N/A"}},{"$f":"INDEX('Cleaned Data'!L:L,MATCH($A1068,$B$56:$B$1919,0))","v":{"$error":"#N/A"}}]
[1014,{"$f":"B1068+IF('Cleaned Data'!L1015>0,1,0)*IF($B$34=\"Overall\",1,IF('Cleaned Data'!K1015=$B$34,1,0))*(IF('Cleaned Data'!H1015<>\"\",1,0))","v":455},{"$f":"INDEX('Cleaned Data'!H:H,MATCH($A1069,$B$56:$B$1919,0))","v":{"$error":"#N/A"}},{"$f":"INDEX('Cleaned Data'!L:L,MATCH($A1069,$B$56:$B$1919,0))","v":{"$error":"#N/A"}}]
[1015,{"$f":"B1069+IF('Cleaned Data'!L1016>0,1,0)*IF($B$34=\"Overall\",1,IF('Cleaned Data'!K1016=$B$34,1,0))*(IF('Cleaned Data'!H1016<>\"\",1,0))","v":456},{"$f":"INDEX('Cleaned Data'!H:H,MATCH($A1070,$B$56:$B$1919,0))","v":{"$error":"#N/A"}},{"$f":"INDEX('Cleaned Data'!L:L,MATCH($A1070,$B$56:$B$1919,0))","v":{"$error":"#N/A"}}]
[1016,{"$f":"B1070+IF('Cleaned Data'!L1017>0,1,0)*IF($B$34=\"Overall\",1,IF('Cleaned Data'!K1017=$B$34,1,0))*(IF('Cleaned Data'!H1017<>\"\",1,0))","v":457},{"$f":"INDEX('Cleaned Data'!H:H,MATCH($A1071,$B$56:$B$1919,0))","v":{"$error":"#N/A"}},{"$f":"INDEX('Cleaned Data'!L:L,MATCH($A1071,$B$56:$B$1919,0))","v":{"$error":"#N/A"}}]
[1017,{"$f":"B1071+IF('Cleaned Data'!L1018>0,1,0)*IF($B$34=\"Overall\",1,IF('Cleaned Data'!K1018=$B$34,1,0))*(IF('Cleaned Data'!H1018<>\"\",1,0))","v":458},{"$f":"INDEX('Cleaned Data'!H:H,MATCH($A1072,$B$56:$B$1919,0))","v":{"$error":"#N/A"}},{"$f":"INDEX('Cleaned Data'!L:L,MATCH($A1072,$B$56:$B$1919,0))","v":{"$error":"#N/A"}}]
[1018,{"$f":"B1072+IF('Cleaned Data'!L1019>0,1,0)*IF($B$34=\"Overall\",1,IF('Cleaned Data'!K1019=$B$34,1,0))*(IF('Cleaned Data'!H1019<>\"\",1,0))","v":459},{"$f":"INDEX('Cleaned Data'!H:H,MATCH($A1073,$B$56:$B$1919,0))","v":{"$error":"#N/A"}},{"$f":"INDEX('Cleaned Data'!L:L,MATCH($A1073,$B$56:$B$1919,0))","v":{"$error":"#N/A"}}]
[1019,{"$f":"B1073+IF('Cleaned Data'!L1020>0,1,0)*IF($B$34=\"Overall\",1,IF('Cleaned Data'!K1020=$B$34,1,0))*(IF('Cleaned Data'!H1020<>\"\",1,0))","v":460},{"$f":"INDEX('Cleaned Data'!H:H,MATCH($A1074,$B$56:$B$1919,0))","v":{"$error":"#N/A"}},{"$f":"INDEX('Cleaned Data'!L:L,MATCH($A1074,$B$56:$B$1919,0))","v":{"$error":"#N/A"}}]
[1020,{"$f":"B1074+IF('Cleaned Data'!L1021>0,1,0)*IF($B$34=\"Overall\",1,IF('Cleaned Data'!K1021=$B$34,1,0))*(IF('Cleaned Data'!H1021<>\"\",1,0))","v":461},{"$f":"INDEX('Cleaned Data'!H:H,MATCH($A1075,$B$56:$B$1919,0))","v":{"$error":"#N/A"}},{"$f":"INDEX('Cleaned Data'!L:L,MATCH($A1075,$B$56:$B$1919,0))","v":{"$error":"#N/A"}}]
[1021,{"$f":"B1075+IF('Cleaned Data'!L1022>0,1,0)*IF($B$34=\"Overall\",1,IF('Cleaned Data'!K1022=$B$34,1,0))*(IF('Cleaned Data'!H1022<>\"\",1,0))","v":462},{"$f":"INDEX('Cleaned Data'!H:H,MATCH($A1076,$B$56:$B$1919,0))","v":{"$error":"#N/A"}},{"$f":"INDEX('Cleaned Data'!L:L,MATCH($A1076,$B$56:$B$1919,0))","v":{"$error":"#N/A"}}]
[1022,{"$f":"B1076+IF('Cleaned Data'!L1023>0,1,0)*IF($B$34=\"Overall\",1,IF('Cleaned Data'!K1023=$B$34,1,0))*(IF('Cleaned Data'!H1023<>\"\",1,0))","v":463},{"$f":"INDEX('Cleaned Data'!H:H,MATCH($A1077,$B$56:$B$1919,0))","v":{"$error":"#N/A"}},{"$f":"INDEX('Cleaned Data'!L:L,MATCH($A1077,$B$56:$B$1919,0))","v":{"$error":"#N/A"}}]
[1023,{"$f":"B1077+IF('Cleaned Data'!L1024>0,1,0)*IF($B$34=\"Overall\",1,IF('Cleaned Data'!K1024=$B$34,1,0))*(IF('Cleaned Data'!H1024<>\"\",1,0))","v":464},{"$f":"INDEX('Cleaned Data'!H:H,MATCH($A1078,$B$56:$B$1919,0))","v":{"$error":"#N/A"}},{"$f":"INDEX('Cleaned Data'!L:L,MATCH($A1078,$B$56:$B$1919,0))","v":{"$error":"#N/A"}}]
[1024,{"$f":"B1078+IF('Cleaned Data'!L1025>0,1,0)*IF($B$34=\"Overall\",1,IF('Cleaned Data'!K1025=$B$34,1,0))*(IF('Cleaned Data'!H1025<>\"\",1,0))","v":465},{"$f":"INDEX('Cleaned Data'!H:H,MATCH($A1079,$B$56:$B$1919,0))","v":{"$error":"#N/A"}},{"$f":"INDEX('Cleaned Data'!L:L,MATCH($A1079,$B$56:$B$1919,0))","v":{"$error":"#N/A"}}]
[1025,{"$f":"B1079+IF('Cleaned Data'!L1026>0,1,0)*IF($B$34=\"Overall\",1,IF('Cleaned Data'!K1026=$B$34,1,0))*(IF('Cleaned Data'!H1026<>\"\",1,0))","v":466},{"$f":"INDEX('Cleaned Data'!H:H,MATCH($A1080,$B$56:$B$1919,0))","v":{"$error":"#N/A"}},{"$f":"INDEX('Cleaned Data'!L:L,MATCH($A1080,$B$56:$B$1919,0))","v":{"$error":"#N/A"}}]
[1026,{"$f":"B1080+IF('Cleaned Data'!L1027>0,1,0)*IF($B$34=\"Overall\",1,IF('Cleaned Data'!K1027=$B$34,1,0))*(IF('Cleaned Data'!H1027<>\"\",1,0))","v":467},{"$f":"INDEX('Cleaned Data'!H:H,MATCH($A1081,$B$56:$B$1919,0))","v":{"$error":"#N/A"}},{"$f":"INDEX('Cleaned Data'!L:L,MATCH($A1081,$B$56:$B$1919,0))","v":{"$error":"#N/A"}}]
[1027,{"$f":"B1081+IF('Cleaned Data'!L1028>0,1,0)*IF($B$34=\"Overall\",1,IF('Cleaned Data'!K1028=$B$34,1,0))*(IF('Cleaned Data'!H1028<>\"\",1,0))","v":468},{"$f":"INDEX('Cleaned Data'!H:H,MATCH($A1082,$B$56:$B$1919,0))","v":{"$error":"#N/A"}},{"$f":"INDEX('Cleaned Data'!L:L,MATCH($A1082,$B$56:$B$1919,0))","v":{"$error":"#N/A"}}]
[1028,{"$f":"B1082+IF('Cleaned Data'!L1029>0,1,0)*IF($B$34=\"Overall\",1,IF('Cleaned Data'!K1029=$B$34,1,0))*(IF('Cleaned Data'!H1029<>\"\",1,0))","v":469},{"$f":"INDEX('Cleaned Data'!H:H,MATCH($A1083,$B$56:$B$1919,0))","v":{"$error":"#N/A"}},{"$f":"INDEX('Cleaned Data'!L:L,MATCH($A1083,$B$56:$B$1919,0))","v":{"$error":"#N/A"}}]
[1029,{"$f":"B1083+IF('Cleaned Data'!L1030>0,1,0)*IF($B$34=\"Overall\",1,IF('Cleaned Data'!K1030=$B$34,1,0))*(IF('Cleaned Data'!H1030<>\"\",1,0))","v":470},{"$f":"INDEX('Cleaned Data'!H:H,MATCH($A1084,$B$56:$B$1919,0))","v":{"$error":"#N/A"}},{"$f":"INDEX('Cleaned Data'!L:L,MATCH($A1084,$B$56:$B$1919,0))","v":{"$error":"#N/A"}}]
[1030,{"$f":"B1084+IF('Cleaned Data'!L1031>0,1,0)*IF($B$34=\"Overall\",1,IF('Cleaned Data'!K1031=$B$34,1,0))*(IF('Cleaned Data'!H1031<>\"\",1,0))","v":471},{"$f":"INDEX('Cleaned Data'!H:H,MATCH($A1085,$B$56:$B$1919,0))","v":{"$error":"#N/A"}},{"$f":"INDEX('Cleaned Data'!L:L,MATCH($A1085,$B$56:$B$1919,0))","v":{"$error":"#N/A"}}]
[1031,{"$f":"B1085+IF('Cleaned Data'!L1032>0,1,0)*IF($B$34=\"Overall\",1,IF('Cleaned Data'!K1032=$B$34,1,0))*(IF('Cleaned Data'!H1032<>\"\",1,0))","v":472},{"$f":"INDEX('Cleaned Data'!H:H,MATCH($A1086,$B$56:$B$1919,0))","v":{"$error":"#N/A"}},{"$f":"INDEX('Cleaned Data'!L:L,MATCH($A1086,$B$56:$B$1919,0))","v":{"$error":"#N/A"}}]
[1032,{"$f":"B1086+IF('Cleaned Data'!L1033>0,1,0)*IF($B$34=\"Overall\",1,IF('Cleaned Data'!K1033=$B$34,1,0))*(IF('Cleaned Data'!H1033<>\"\",1,0))","v":473},{"$f":"INDEX('Cleaned Data'!H:H,MATCH($A1087,$B$56:$B$1919,0))","v":{"$error":"#N/A"}},{"$f":"INDEX('Cleaned Data'!L:L,MATCH($A1087,$B$56:$B$1919,0))","v":{"$error":"#N/A"}}]
[1033,{"$f":"B1087+IF('Cleaned Data'!L1034>0,1,0)*IF($B$34=\"Overall\",1,IF('Cleaned Data'!K1034=$B$34,1,0))*(IF('Cleaned Data'!H1034<>\"\",1,0))","v":474},{"$f":"INDEX('Cleaned Data'!H:H,MATCH($A1088,$B$56:$B$1919,0))","v":{"$error":"#N/A"}},{"$f":"INDEX('Cleaned Data'!L:L,MATCH($A1088,$B$56:$B$1919,0))","v":{"$error":"#N/A"}}]
[1034,{"$f":"B1088+IF('Cleaned Data'!L1035>0,1,0)*IF($B$34=\"Overall\",1,IF('Cleaned Data'!K1035=$B$34,1,0))*(IF('Cleaned Data'!H1035<>\"\",1,0))","v":475},{"$f":"INDEX('Cleaned Data'!H:H,MATCH($A1089,$B$56:$B$1919,0))","v":{"$error":"#N/A"}},{"$f":"INDEX('Cleaned Data'!L:L,MATCH($A1089,$B$56:$B$1919,0))","v":{"$error":"#N/A"}}]
[1035,{"$f":"B1089+IF('Cleaned Data'!L1036>0,1,0)*IF($B$34=\"Overall\",1,IF('Cleaned Data'!K1036=$B$34,1,0))*(IF('Cleaned Data'!H1036<>\"\",1,0))","v":476},{"$f":"INDEX('Cleaned Data'!H:H,MATCH($A1090,$B$56:$B$1919,0))","v":{"$error":"#N/A"}},{"$f":"INDEX('Cleaned Data'!L:L,MATCH($A1090,$B$56:$B$1919,0))","v":{"$error":"#N/A"}}]
[1036,{"$f":"B1090+IF('Cleaned Data'!L1037>0,1,0)*IF($B$34=\"Overall\",1,IF('Cleaned Data'!K1037=$B$34,1,0))*(IF('Cleaned Data'!H1037<>\"\",1,0))","v":477},{"$f":"INDEX('Cleaned Data'!H:H,MATCH($A1091,$B$56:$B$1919,0))","v":{"$error":"#N/A"}},{"$f":"INDEX('Cleaned Data'!L:L,MATCH($A1091,$B$56:$B$1919,0))","v":{"$error":"#N/A"}}]
[1037,{"$f":"B1091+IF('Cleaned Data'!L1038>0,1,0)*IF($B$34=\"Overall\",1,IF('Cleaned Data'!K1038=$B$34,1,0))*(IF('Cleaned Data'!H1038<>\"\",1,0))","v":478},{"$f":"INDEX('Cleaned Data'!H:H,MATCH($A1092,$B$56:$B$1919,0))","v":{"$error":"#N/A"}},{"$f":"INDEX('Cleaned Data'!L:L,MATCH($A1092,$B$56:$B$1919,0))","v":{"$error":"#N/A"}}]
[1038,{"$f":"B1092+IF('Cleaned Data'!L1039>0,1,0)*IF($B$34=\"Overall\",1,IF('Cleaned Data'!K1039=$B$34,1,0))*(IF('Cleaned Data'!H1039<>\"\",1,0))","v":479},{"$f":"INDEX('Cleaned Data'!H:H,MATCH($A1093,$B$56:$B$1919,0))","v":{"$error":"#N/A"}},{"$f":"INDEX('Cleaned Data'!L:L,MATCH($A1093,$B$56:$B$1919,0))","v":{"$error":"#N/A"}}]
[1039,{"$f":"B1093+IF('Cleaned Data'!L1040>0,1,0)*IF($B$34=\"Overall\",1,IF('Cleaned Data'!K1040=$B$34,1,0))*(IF('Cleaned Data'!H1040<>\"\",1,0))","v":480},{"$f":"INDEX('Cleaned Data'!H:H,MATCH($A1094,$B$56:$B$1919,0))","v":{"$error":"#N/A"}},{"$f":"INDEX('Cleaned Data'!L:L,MATCH($A1094,$B$56:$B$1919,0))","v":{"$error":"#N/A"}}]
[1040,{"$f":"B1094+IF('Cleaned Data'!L1041>0,1,0)*IF($B$34=\"Overall\",1,IF('Cleaned Data'!K1041=$B$34,1,0))*(IF('Cleaned Data'!H1041<>\"\",1,0))","v":481},{"$f":"INDEX('Cleaned Data'!H:H,MATCH($A1095,$B$56:$B$1919,0))","v":{"$error":"#N/A"}},{"$f":"INDEX('Cleaned Data'!L:L,MATCH($A1095,$B$56:$B$1919,0))","v":{"$error":"#N/A"}}]
[1041,{"$f":"B1095+IF('Cleaned Data'!L1042>0,1,0)*IF($B$34=\"Overall\",1,IF('Cleaned Data'!K1042=$B$34,1,0))*(IF('Cleaned Data'!H1042<>\"\",1,0))","v":482},{"$f":"INDEX('Cleaned Data'!H:H,MATCH($A1096,$B$56:$B$1919,0))","v":{"$error":"#N/A"}},{"$f":"INDEX('Cleaned Data'!L:L,MATCH($A1096,$B$56:$B$1919,0))","v":{"$error":"#N/A"}}]
[1042,{"$f":"B1096+IF('Cleaned Data'!L1043>0,1,0)*IF($B$34=\"Overall\",1,IF('Cleaned Data'!K1043=$B$34,1,0))*(IF('Cleaned Data'!H1043<>\"\",1,0))","v":483},{"$f":"INDEX('Cleaned Data'!H:H,MATCH($A1097,$B$56:$B$1919,0))","v":{"$error":"#N/A"}},{"$f":"INDEX('Cleaned Data'!L:L,MATCH($A1097,$B$56:$B$1919,0))","v":{"$error":"#N/A"}}]
[1043,{"$f":"B1097+IF('Cleaned Data'!L1044>0,1,0)*IF($B$34=\"Overall\",1,IF('Cleaned Data'!K1044=$B$34,1,0))*(IF('Cleaned Data'!H1044<>\"\",1,0))","v":484},{"$f":"INDEX('Cleaned Data'!H:H,MATCH($A1098,$B$56:$B$1919,0))","v":{"$error":"#N/A"}},{"$f":"INDEX('Cleaned Data'!L:L,MATCH($A1098,$B$56:$B$1919,0))","v":{"$error":"#N/A"}}]
[1044,{"$f":"B1098+IF('Cleaned Data'!L1045>0,1,0)*IF($B$34=\"Overall\",1,IF('Cleaned Data'!K1045=$B$34,1,0))*(IF('Cleaned Data'!H1045<>\"\",1,0))","v":485},{"$f":"INDEX('Cleaned Data'!H:H,MATCH($A1099,$B$56:$B$1919,0))","v":{"$error":"#N/A"}},{"$f":"INDEX('Cleaned Data'!L:L,MATCH($A1099,$B$56:$B$1919,0))","v":{"$error":"#N/A"}}]
[1045,{"$f":"B1099+IF('Cleaned Data'!L1046>0,1,0)*IF($B$34=\"Overall\",1,IF('Cleaned Data'!K1046=$B$34,1,0))*(IF('Cleaned Data'!H1046<>\"\",1,0))","v":486},{"$f":"INDEX('Cleaned Data'!H:H,MATCH($A1100,$B$56:$B$1919,0))","v":{"$error":"#N/A"}},{"$f":"INDEX('Cleaned Data'!L:L,MATCH($A1100,$B$56:$B$1919,0))","v":{"$error":"#N/A"}}]
[1046,{"$f":"B1100+IF('Cleaned Data'!L1047>0,1,0)*IF($B$34=\"Overall\",1,IF('Cleaned Data'!K1047=$B$34,1,0))*(IF('Cleaned Data'!H1047<>\"\",1,0))","v":487},{"$f":"INDEX('Cleaned Data'!H:H,MATCH($A1101,$B$56:$B$1919,0))","v":{"$error":"#N/A"}},{"$f":"INDEX('Cleaned Data'!L:L,MATCH($A1101,$B$56:$B$1919,0))","v":{"$error":"#N/A"}}]
[1047,{"$f":"B1101+IF('Cleaned Data'!L1048>0,1,0)*IF($B$34=\"Overall\",1,IF('Cleaned Data'!K1048=$B$34,1,0))*(IF('Cleaned Data'!H1048<>\"\",1,0))","v":488},{"$f":"INDEX('Cleaned Data'!H:H,MATCH($A1102,$B$56:$B$1919,0))","v":{"$error":"#N/A"}},{"$f":"INDEX('Cleaned Data'!L:L,MATCH($A1102,$B$56:$B$1919,0))","v":{"$error":"#N/A"}}]
[1048,{"$f":"B1102+IF('Cleaned Data'!L1049>0,1,0)*IF($B$34=\"Overall\",1,IF('Cleaned Data'!K1049=$B$34,1,0))*(IF('Cleaned Data'!H1049<>\"\",1,0))","v":489},{"$f":"INDEX('Cleaned Data'!H:H,MATCH($A1103,$B$56:$B$1919,0))","v":{"$error":"#N/A"}},{"$f":"INDEX('Cleaned Data'!L:L,MATCH($A1103,$B$56:$B$1919,0))","v":{"$error":"#N/A"}}]
[1049,{"$f":"B1103+IF('Cleaned Data'!L1050>0,1,0)*IF($B$34=\"Overall\",1,IF('Cleaned Data'!K1050=$B$34,1,0))*(IF('Cleaned Data'!H1050<>\"\",1,0))","v":490},{"$f":"INDEX('Cleaned Data'!H:H,MATCH($A1104,$B$56:$B$1919,0))","v":{"$error":"#N/A"}},{"$f":"INDEX('Cleaned Data'!L:L,MATCH($A1104,$B$56:$B$1919,0))","v":{"$error":"#N/A"}}]
[1050,{"$f":"B1104+IF('Cleaned Data'!L1051>0,1,0)*IF($B$34=\"Overall\",1,IF('Cleaned Data'!K1051=$B$34,1,0))*(IF('Cleaned Data'!H1051<>\"\",1,0))","v":491},{"$f":"INDEX('Cleaned Data'!H:H,MATCH($A1105,$B$56:$B$1919,0))","v":{"$error":"#N/A"}},{"$f":"INDEX('Cleaned Data'!L:L,MATCH($A1105,$B$56:$B$1919,0))","v":{"$error":"#N/A"}}]
[1051,{"$f":"B1105+IF('Cleaned Data'!L1052>0,1,0)*IF($B$34=\"Overall\",1,IF('Cleaned Data'!K1052=$B$34,1,0))*(IF('Cleaned Data'!H1052<>\"\",1,0))","v":492},{"$f":"INDEX('Cleaned Data'!H:H,MATCH($A1106,$B$56:$B$1919,0))","v":{"$error":"#N/A"}},{"$f":"INDEX('Cleaned Data'!L:L,MATCH($A1106,$B$56:$B$1919,0))","v":{"$error":"#N/A"}}]
[1052,{"$f":"B1106+IF('Cleaned Data'!L1053>0,1,0)*IF($B$34=\"Overall\",1,IF('Cleaned Data'!K1053=$B$34,1,0))*(IF('Cleaned Data'!H1053<>\"\",1,0))","v":493},{"$f":"INDEX('Cleaned Data'!H:H,MATCH($A1107,$B$56:$B$1919,0))","v":{"$error":"#N/A"}},{"$f":"INDEX('Cleaned Data'!L:L,MATCH($A1107,$B$56:$B$1919,0))","v":{"$error":"#N/A"}}]
[1053,{"$f":"B1107+IF('Cleaned Data'!L1054>0,1,0)*IF($B$34=\"Overall\",1,IF('Cleaned Data'!K1054=$B$34,1,0))*(IF('Cleaned Data'!H1054<>\"\",1,0))","v":494},{"$f":"INDEX('Cleaned Data'!H:H,MATCH($A1108,$B$56:$B$1919,0))","v":{"$error":"#N/A"}},{"$f":"INDEX('Cleaned Data'!L:L,MATCH($A1108,$B$56:$B$1919,0))","v":{"$error":"#N/A"}}]
[1054,{"$f":"B1108+IF('Cleaned Data'!L1055>0,1,0)*IF($B$34=\"Overall\",1,IF('Cleaned Data'!K1055=$B$34,1,0))*(IF('Cleaned Data'!H1055<>\"\",1,0))","v":495},{"$f":"INDEX('Cleaned Data'!H:H,MATCH($A1109,$B$56:$B$1919,0))","v":{"$error":"#N/A"}},{"$f":"INDEX('Cleaned Data'!L:L,MATCH($A1109,$B$56:$B$1919,0))","v":{"$error":"#N/A"}}]
[1055,{"$f":"B1109+IF('Cleaned Data'!L1056>0,1,0)*IF($B$34=\"Overall\",1,IF('Cleaned Data'!K1056=$B$34,1,0))*(IF('Cleaned Data'!H1056<>\"\",1,0))","v":496},{"$f":"INDEX('Cleaned Data'!H:H,MATCH($A1110,$B$56:$B$1919,0))","v":{"$error":"#N/A"}},{"$f":"INDEX('Cleaned Data'!L:L,MATCH($A1110,$B$56:$B$1919,0))","v":{"$error":"#N/A"}}]
[1056,{"$f":"B1110+IF('Cleaned Data'!L1057>0,1,0)*IF($B$34=\"Overall\",1,IF('Cleaned Data'!K1057=$B$34,1,0))*(IF('Cleaned Data'!H1057<>\"\",1,0))","v":497},{"$f":"INDEX('Cleaned Data'!H:H,MATCH($A1111,$B$56:$B$1919,0))","v":{"$error":"#N/A"}},{"$f":"INDEX('Cleaned Data'!L:L,MATCH($A1111,$B$56:$B$1919,0))","v":{"$error":"#N/A"}}]
[1057,{"$f":"B1111+IF('Cleaned Data'!L1058>0,1,0)*IF($B$34=\"Overall\",1,IF('Cleaned Data'!K1058=$B$34,1,0))*(IF('Cleaned Data'!H1058<>\"\",1,0))","v":498},{"$f":"INDEX('Cleaned Data'!H:H,MATCH($A1112,$B$56:$B$1919,0))","v":{"$error":"#N/A"}},{"$f":"INDEX('Cleaned Data'!L:L,MATCH($A1112,$B$56:$B$1919,0))","v":{"$error":"#N/A"}}]
[1058,{"$f":"B1112+IF('Cleaned Data'!L1059>0,1,0)*IF($B$34=\"Overall\",1,IF('Cleaned Data'!K1059=$B$34,1,0))*(IF('Cleaned Data'!H1059<>\"\",1,0))","v":499},{"$f":"INDEX('Cleaned Data'!H:H,MATCH($A1113,$B$56:$B$1919,0))","v":{"$error":"#N/A"}},{"$f":"INDEX('Cleaned Data'!L:L,MATCH($A1113,$B$56:$B$1919,0))","v":{"$error":"#N/A"}}]
[1059,{"$f":"B1113+IF('Cleaned Data'!L1060>0,1,0)*IF($B$34=\"Overall\",1,IF('Cleaned Data'!K1060=$B$34,1,0))*(IF('Cleaned Data'!H1060<>\"\",1,0))","v":500},{"$f":"INDEX('Cleaned Data'!H:H,MATCH($A1114,$B$56:$B$1919,0))","v":{"$error":"#N/A"}},{"$f":"INDEX('Cleaned Data'!L:L,MATCH($A1114,$B$56:$B$1919,0))","v":{"$error":"#N/A"}}]
[1060,{"$f":"B1114+IF('Cleaned Data'!L1061>0,1,0)*IF($B$34=\"Overall\",1,IF('Cleaned Data'!K1061=$B$34,1,0))*(IF('Cleaned Data'!H1061<>\"\",1,0))","v":501},{"$f":"INDEX('Cleaned Data'!H:H,MATCH($A1115,$B$56:$B$1919,0))","v":{"$error":"#N/A"}},{"$f":"INDEX('Cleaned Data'!L:L,MATCH($A1115,$B$56:$B$1919,0))","v":{"$error":"#N/A"}}]
[1061,{"$f":"B1115+IF('Cleaned Data'!L1062>0,1,0)*IF($B$34=\"Overall\",1,IF('Cleaned Data'!K1062=$B$34,1,0))*(IF('Cleaned Data'!H1062<>\"\",1,0))","v":502},{"$f":"INDEX('Cleaned Data'!H:H,MATCH($A1116,$B$56:$B$1919,0))","v":{"$error":"#N/A"}},{"$f":"INDEX('Cleaned Data'!L:L,MATCH($A1116,$B$56:$B$1919,0))","v":{"$error":"#N/A"}}]
[1062,{"$f":"B1116+IF('Cleaned Data'!L1063>0,1,0)*IF($B$34=\"Overall\",1,IF('Cleaned Data'!K1063=$B$34,1,0))*(IF('Cleaned Data'!H1063<>\"\",1,0))","v":503},{"$f":"INDEX('Cleaned Data'!H:H,MATCH($A1117,$B$56:$B$1919,0))","v":{"$error":"#N/A"}},{"$f":"INDEX('Cleaned Data'!L:L,MATCH($A1117,$B$56:$B$1919,0))","v":{"$error":"#N/A"}}]
[1063,{"$f":"B1117+IF('Cleaned Data'!L1064>0,1,0)*IF($B$34=\"Overall\",1,IF('Cleaned Data'!K1064=$B$34,1,0))*(IF('Cleaned Data'!H1064<>\"\",1,0))","v":504},{"$f":"INDEX('Cleaned Data'!H:H,MATCH($A1118,$B$56:$B$1919,0))","v":{"$error":"#N/A"}},{"$f":"INDEX('Cleaned Data'!L:L,MATCH($A1118,$B$56:$B$1919,0))","v":{"$error":"#N/A"}}]
[1064,{"$f":"B1118+IF('Cleaned Data'!L1065>0,1,0)*IF($B$34=\"Overall\",1,IF('Cleaned Data'!K1065=$B$34,1,0))*(IF('Cleaned Data'!H1065<>\"\",1,0))","v":505},{"$f":"INDEX('Cleaned Data'!H:H,MATCH($A1119,$B$56:$B$1919,0))","v":{"$error":"#N/A"}},{"$f":"INDEX('Cleaned Data'!L:L,MATCH($A1119,$B$56:$B$1919,0))","v":{"$error":"#N/A"}}]
[1065,{"$f":"B1119+IF('Cleaned Data'!L1066>0,1,0)*IF($B$34=\"Overall\",1,IF('Cleaned Data'!K1066=$B$34,1,0))*(IF('Cleaned Data'!H1066<>\"\",1,0))","v":506},{"$f":"INDEX('Cleaned Data'!H:H,MATCH($A1120,$B$56:$B$1919,0))","v":{"$error":"#N/A"}},{"$f":"INDEX('Cleaned Data'!L:L,MATCH($A1120,$B$56:$B$1919,0))","v":{"$error":"#N/A"}}]
[1066,{"$f":"B1120+IF('Cleaned Data'!L1067>0,1,0)*IF($B$34=\"Overall\",1,IF('Cleaned Data'!K1067=$B$34,1,0))*(IF('Cleaned Data'!H1067<>\"\",1,0))","v":507},{"$f":"INDEX('Cleaned Data'!H:H,MATCH($A1121,$B$56:$B$1919,0))","v":{"$error":"#N/A"}},{"$f":"INDEX('Cleaned Data'!L:L,MATCH($A1121,$B$56:$B$1919,0))","v":{"$error":"#N/A"}}]
[1067,{"$f":"B1121+IF('Cleaned Data'!L1068>0,1,0)*IF($B$34=\"Overall\",1,IF('Cleaned Data'!K1068=$B$34,1,0))*(IF('Cleaned Data'!H1068<>\"\",1,0))","v":508},{"$f":"INDEX('Cleaned Data'!H:H,MATCH($A1122,$B$56:$B$1919,0))","v":{"$error":"#N/A"}},{"$f":"INDEX('Cleaned Data'!L:L,MATCH($A1122,$B$56:$B$1919,0))","v":{"$error":"#N/A"}}]
[1068,{"$f":"B1122+IF('Cleaned Data'!L1069>0,1,0)*IF($B$34=\"Overall\",1,IF('Cleaned Data'!K1069=$B$34,1,0))*(IF('Cleaned Data'!H1069<>\"\",1,0))","v":509},{"$f":"INDEX('Cleaned Data'!H:H,MATCH($A1123,$B$56:$B$1919,0))","v":{"$error":"#N/A"}},{"$f":"INDEX('Cleaned Data'!L:L,MATCH($A1123,$B$56:$B$1919,0))","v":{"$error":"#N/A"}}]
[1069,{"$f":"B1123+IF('Cleaned Data'!L1070>0,1,0)*IF($B$34=\"Overall\",1,IF('Cleaned Data'!K1070=$B$34,1,0))*(IF('Cleaned Data'!H1070<>\"\",1,0))","v":509},{"$f":"INDEX('Cleaned Data'!H:H,MATCH($A1124,$B$56:$B$1919,0))","v":{"$error":"#N/A"}},{"$f":"INDEX('Cleaned Data'!L:L,MATCH($A1124,$B$56:$B$1919,0))","v":{"$error":"#N/A"}}]
[1070,{"$f":"B1124+IF('Cleaned Data'!L1071>0,1,0)*IF($B$34=\"Overall\",1,IF('Cleaned Data'!K1071=$B$34,1,0))*(IF('Cleaned Data'!H1071<>\"\",1,0))","v":509},{"$f":"INDEX('Cleaned Data'!H:H,MATCH($A1125,$B$56:$B$1919,0))","v":{"$error":"#N/A"}},{"$f":"INDEX('Cleaned Data'!L:L,MATCH($A1125,$B$56:$B$1919,0))","v":{"$error":"#N/A"}}]
[1071,{"$f":"B1125+IF('Cleaned Data'!L1072>0,1,0)*IF($B$34=\"Overall\",1,IF('Cleaned Data'!K1072=$B$34,1,0))*(IF('Cleaned Data'!H1072<>\"\",1,0))","v":509},{"$f":"INDEX('Cleaned Data'!H:H,MATCH($A1126,$B$56:$B$1919,0))","v":{"$error":"#N/A"}},{"$f":"INDEX('Cleaned Data'!L:L,MATCH($A1126,$B$56:$B$1919,0))","v":{"$error":"#N/A"}}]
[1072,{"$f":"B1126+IF('Cleaned Data'!L1073>0,1,0)*IF($B$34=\"Overall\",1,IF('Cleaned Data'!K1073=$B$34,1,0))*(IF('Cleaned Data'!H1073<>\"\",1,0))","v":509},{"$f":"INDEX('Cleaned Data'!H:H,MATCH($A1127,$B$56:$B$1919,0))","v":{"$error":"#N/A"}},{"$f":"INDEX('Cleaned Data'!L:L,MATCH($A1127,$B$56:$B$1919,0))","v":{"$error":"#N/A"}}]
[1073,{"$f":"B1127+IF('Cleaned Data'!L1074>0,1,0)*IF($B$34=\"Overall\",1,IF('Cleaned Data'!K1074=$B$34,1,0))*(IF('Cleaned Data'!H1074<>\"\",1,0))","v":509},{"$f":"INDEX('Cleaned Data'!H:H,MATCH($A1128,$B$56:$B$1919,0))","v":{"$error":"#N/A"}},{"$f":"INDEX('Cleaned Data'!L:L,MATCH($A1128,$B$56:$B$1919,0))","v":{"$error":"#N/A"}}]
[1074,{"$f":"B1128+IF('Cleaned Data'!L1075>0,1,0)*IF($B$34=\"Overall\",1,IF('Cleaned Data'!K1075=$B$34,1,0))*(IF('Cleaned Data'!H1075<>\"\",1,0))","v":509},{"$f":"INDEX('Cleaned Data'!H:H,MATCH($A1129,$B$56:$B$1919,0))","v":{"$error":"#N/A"}},{"$f":"INDEX('Cleaned Data'!L:L,MATCH($A1129,$B$56:$B$1919,0))","v":{"$error":"#N/A"}}]
[1075,{"$f":"B1129+IF('Cleaned Data'!L1076>0,1,0)*IF($B$34=\"Overall\",1,IF('Cleaned Data'!K1076=$B$34,1,0))*(IF('Cleaned Data'!H1076<>\"\",1,0))","v":509},{"$f":"INDEX('Cleaned Data'!H:H,MATCH($A1130,$B$56:$B$1919,0))","v":{"$error":"#N/A"}},{"$f":"INDEX('Cleaned Data'!L:L,MATCH($A1130,$B$56:$B$1919,0))","v":{"$error":"#N/A"}}]
[1076,{"$f":"B1130+IF('Cleaned Data'!L1077>0,1,0)*IF($B$34=\"Overall\",1,IF('Cleaned Data'!K1077=$B$34,1,0))*(IF('Cleaned Data'!H1077<>\"\",1,0))","v":509},{"$f":"INDEX('Cleaned Data'!H:H,MATCH($A1131,$B$56:$B$1919,0))","v":{"$error":"#N/A"}},{"$f":"INDEX('Cleaned Data'!L:L,MATCH($A1131,$B$56:$B$1919,0))","v":{"$error":"#N/A"}}]
[1077,{"$f":"B1131+IF('Cleaned Data'!L1078>0,1,0)*IF($B$34=\"Overall\",1,IF('Cleaned Data'!K1078=$B$34,1,0))*(IF('Cleaned Data'!H1078<>\"\",1,0))","v":509},{"$f":"INDEX('Cleaned Data'!H:H,MATCH($A1132,$B$56:$B$1919,0))","v":{"$error":"#N/A"}},{"$f":"INDEX('Cleaned Data'!L:L,MATCH($A1132,$B$56:$B$1919,0))","v":{"$error":"#N/A"}}]
[1078,{"$f":"B1132+IF('Cleaned Data'!L1079>0,1,0)*IF($B$34=\"Overall\",1,IF('Cleaned Data'!K1079=$B$34,1,0))*(IF('Cleaned Data'!H1079<>\"\",1,0))","v":509},{"$f":"INDEX('Cleaned Data'!H:H,MATCH($A1133,$B$56:$B$1919,0))","v":{"$error":"#N/A"}},{"$f":"INDEX('Cleaned Data'!L:L,MATCH($A1133,$B$56:$B$1919,0))","v":{"$error":"#N/A"}}]
[1079,{"$f":"B1133+IF('Cleaned Data'!L1080>0,1,0)*IF($B$34=\"Overall\",1,IF('Cleaned Data'!K1080=$B$34,1,0))*(IF('Cleaned Data'!H1080<>\"\",1,0))","v":509},{"$f":"INDEX('Cleaned Data'!H:H,MATCH($A1134,$B$56:$B$1919,0))","v":{"$error":"#N/A"}},{"$f":"INDEX('Cleaned Data'!L:L,MATCH($A1134,$B$56:$B$1919,0))","v":{"$error":"#N/A"}}]
[1080,{"$f":"B1134+IF('Cleaned Data'!L1081>0,1,0)*IF($B$34=\"Overall\",1,IF('Cleaned Data'!K1081=$B$34,1,0))*(IF('Cleaned Data'!H1081<>\"\",1,0))","v":509},{"$f":"INDEX('Cleaned Data'!H:H,MATCH($A1135,$B$56:$B$1919,0))","v":{"$error":"#N/A"}},{"$f":"INDEX('Cleaned Data'!L:L,MATCH($A1135,$B$56:$B$1919,0))","v":{"$error":"#N/A"}}]
[1081,{"$f":"B1135+IF('Cleaned Data'!L1082>0,1,0)*IF($B$34=\"Overall\",1,IF('Cleaned Data'!K1082=$B$34,1,0))*(IF('Cleaned Data'!H1082<>\"\",1,0))","v":509},{"$f":"INDEX('Cleaned Data'!H:H,MATCH($A1136,$B$56:$B$1919,0))","v":{"$error":"#N/A"}},{"$f":"INDEX('Cleaned Data'!L:L,MATCH($A1136,$B$56:$B$1919,0))","v":{"$error":"#N/A"}}]
[1082,{"$f":"B1136+IF('Cleaned Data'!L1083>0,1,0)*IF($B$34=\"Overall\",1,IF('Cleaned Data'!K1083=$B$34,1,0))*(IF('Cleaned Data'!H1083<>\"\",1,0))","v":509},{"$f":"INDEX('Cleaned Data'!H:H,MATCH($A1137,$B$56:$B$1919,0))","v":{"$error":"#N/A"}},{"$f":"INDEX('Cleaned Data'!L:L,MATCH($A1137,$B$56:$B$1919,0))","v":{"$error":"#N/A"}}]
[1083,{"$f":"B1137+IF('Cleaned Data'!L1084>0,1,0)*IF($B$34=\"Overall\",1,IF('Cleaned Data'!K1084=$B$34,1,0))*(IF('Cleaned Data'!H1084<>\"\",1,0))","v":510},{"$f":"INDEX('Cleaned Data'!H:H,MATCH($A1138,$B$56:$B$1919,0))","v":{"$error":"#N/A"}},{"$f":"INDEX('Cleaned Data'!L:L,MATCH($A1138,$B$56:$B$1919,0))","v":{"$error":"#N/A"}}]
[1084,{"$f":"B1138+IF('Cleaned Data'!L1085>0,1,0)*IF($B$34=\"Overall\",1,IF('Cleaned Data'!K1085=$B$34,1,0))*(IF('Cleaned Data'!H1085<>\"\",1,0))","v":511},{"$f":"INDEX('Cleaned Data'!H:H,MATCH($A1139,$B$56:$B$1919,0))","v":{"$error":"#N/A"}},{"$f":"INDEX('Cleaned Data'!L:L,MATCH($A1139,$B$56:$B$1919,0))","v":{"$error":"#N/A"}}]
[1085,{"$f":"B1139+IF('Cleaned Data'!L1086>0,1,0)*IF($B$34=\"Overall\",1,IF('Cleaned Data'!K1086=$B$34,1,0))*(IF('Cleaned Data'!H1086<>\"\",1,0))","v":512},{"$f":"INDEX('Cleaned Data'!H:H,MATCH($A1140,$B$56:$B$1919,0))","v":{"$error":"#N/A"}},{"$f":"INDEX('Cleaned Data'!L:L,MATCH($A1140,$B$56:$B$1919,0))","v":{"$error":"#N/A"}}]
[1086,{"$f":"B1140+IF('Cleaned Data'!L1087>0,1,0)*IF($B$34=\"Overall\",1,IF('Cleaned Data'!K1087=$B$34,1,0))*(IF('Cleaned Data'!H1087<>\"\",1,0))","v":513},{"$f":"INDEX('Cleaned Data'!H:H,MATCH($A1141,$B$56:$B$1919,0))","v":{"$error":"#N/A"}},{"$f":"INDEX('Cleaned Data'!L:L,MATCH($A1141,$B$56:$B$1919,0))","v":{"$error":"#N/A"}}]
[1087,{"$f":"B1141+IF('Cleaned Data'!L1088>0,1,0)*IF($B$34=\"Overall\",1,IF('Cleaned Data'!K1088=$B$34,1,0))*(IF('Cleaned Data'!H1088<>\"\",1,0))","v":513},{"$f":"INDEX('Cleaned Data'!H:H,MATCH($A1142,$B$56:$B$1919,0))","v":{"$error":"#N/A"}},{"$f":"INDEX('Cleaned Data'!L:L,MATCH($A1142,$B$56:$B$1919,0))","v":{"$error":"#N/A"}}]
[1088,{"$f":"B1142+IF('Cleaned Data'!L1089>0,1,0)*IF($B$34=\"Overall\",1,IF('Cleaned Data'!K1089=$B$34,1,0))*(IF('Cleaned Data'!H1089<>\"\",1,0))","v":513},{"$f":"INDEX('Cleaned Data'!H:H,MATCH($A1143,$B$56:$B$1919,0))","v":{"$error":"#N/A"}},{"$f":"INDEX('Cleaned Data'!L:L,MATCH($A1143,$B$56:$B$1919,0))","v":{"$error":"#N/A"}}]
[1089,{"$f":"B1143+IF('Cleaned Data'!L1090>0,1,0)*IF($B$34=\"Overall\",1,IF('Cleaned Data'!K1090=$B$34,1,0))*(IF('Cleaned Data'!H1090<>\"\",1,0))","v":513},{"$f":"INDEX('Cleaned Data'!H:H,MATCH($A1144,$B$56:$B$1919,0))","v":{"$error":"#N/A"}},{"$f":"INDEX('Cleaned Data'!L:L,MATCH($A1144,$B$56:$B$1919,0))","v":{"$error":"#N/A"}}]
[1090,{"$f":"B1144+IF('Cleaned Data'!L1091>0,1,0)*IF($B$34=\"Overall\",1,IF('Cleaned Data'!K1091=$B$34,1,0))*(IF('Cleaned Data'!H1091<>\"\",1,0))","v":513},{"$f":"INDEX('Cleaned Data'!H:H,MATCH($A1145,$B$56:$B$1919,0))","v":{"$error":"#N/A"}},{"$f":"INDEX('Cleaned Data'!L:L,MATCH($A1145,$B$56:$B$1919,0))","v":{"$error":"#N/A"}}]
[1091,{"$f":"B1145+IF('Cleaned Data'!L1092>0,1,0)*IF($B$34=\"Overall\",1,IF('Cleaned Data'!K1092=$B$34,1,0))*(IF('Cleaned Data'!H1092<>\"\",1,0))","v":513},{"$f":"INDEX('Cleaned Data'!H:H,MATCH($A1146,$B$56:$B$1919,0))","v":{"$error":"#N/A"}},{"$f":"INDEX('Cleaned Data'!L:L,MATCH($A1146,$B$56:$B$1919,0))","v":{"$error":"#N/A"}}]
[1092,{"$f":"B1146+IF('Cleaned Data'!L1093>0,1,0)*IF($B$34=\"Overall\",1,IF('Cleaned Data'!K1093=$B$34,1,0))*(IF('Cleaned Data'!H1093<>\"\",1,0))","v":513},{"$f":"INDEX('Cleaned Data'!H:H,MATCH($A1147,$B$56:$B$1919,0))","v":{"$error":"#N/A"}},{"$f":"INDEX('Cleaned Data'!L:L,MATCH($A1147,$B$56:$B$1919,0))","v":{"$error":"#N/A"}}]
[1093,{"$f":"B1147+IF('Cleaned Data'!L1094>0,1,0)*IF($B$34=\"Overall\",1,IF('Cleaned Data'!K1094=$B$34,1,0))*(IF('Cleaned Data'!H1094<>\"\",1,0))","v":513},{"$f":"INDEX('Cleaned Data'!H:H,MATCH($A1148,$B$56:$B$1919,0))","v":{"$error":"#N/A"}},{"$f":"INDEX('Cleaned Data'!L:L,MATCH($A1148,$B$56:$B$1919,0))","v":{"$error":"#N/A"}}]
[1094,{"$f":"B1148+IF('Cleaned Data'!L1095>0,1,0)*IF($B$34=\"Overall\",1,IF('Cleaned Data'!K1095=$B$34,1,0))*(IF('Cleaned Data'!H1095<>\"\",1,0))","v":513},{"$f":"INDEX('Cleaned Data'!H:H,MATCH($A1149,$B$56:$B$1919,0))","v":{"$error":"#N/A"}},{"$f":"INDEX('Cleaned Data'!L:L,MATCH($A1149,$B$56:$B$1919,0))","v":{"$error":"#N/A"}}]
[1095,{"$f":"B1149+IF('Cleaned Data'!L1096>0,1,0)*IF($B$34=\"Overall\",1,IF('Cleaned Data'!K1096=$B$34,1,0))*(IF('Cleaned Data'!H1096<>\"\",1,0))","v":513},{"$f":"INDEX('Cleaned Data'!H:H,MATCH($A1150,$B$56:$B$1919,0))","v":{"$error":"#N/A"}},{"$f":"INDEX('Cleaned Data'!L:L,MATCH($A1150,$B$56:$B$1919,0))","v":{"$error":"#N/A"}}]
[1096,{"$f":"B1150+IF('Cleaned Data'!L1097>0,1,0)*IF($B$34=\"Overall\",1,IF('Cleaned Data'!K1097=$B$34,1,0))*(IF('Cleaned Data'!H1097<>\"\",1,0))","v":513},{"$f":"INDEX('Cleaned Data'!H:H,MATCH($A1151,$B$56:$B$1919,0))","v":{"$error":"#N/A"}},{"$f":"INDEX('Cleaned Data'!L:L,MATCH($A1151,$B$56:$B$1919,0))","v":{"$error":"#N/A"}}]
[1097,{"$f":"B1151+IF('Cleaned Data'!L1098>0,1,0)*IF($B$34=\"Overall\",1,IF('Cleaned Data'!K1098=$B$34,1,0))*(IF('Cleaned Data'!H1098<>\"\",1,0))","v":513},{"$f":"INDEX('Cleaned Data'!H:H,MATCH($A1152,$B$56:$B$1919,0))","v":{"$error":"#N/A"}},{"$f":"INDEX('Cleaned Data'!L:L,MATCH($A1152,$B$56:$B$1919,0))","v":{"$error":"#N/A"}}]
[1098,{"$f":"B1152+IF('Cleaned Data'!L1099>0,1,0)*IF($B$34=\"Overall\",1,IF('Cleaned Data'!K1099=$B$34,1,0))*(IF('Cleaned Data'!H1099<>\"\",1,0))","v":514},{"$f":"INDEX('Cleaned Data'!H:H,MATCH($A1153,$B$56:$B$1919,0))","v":{"$error":"#N/A"}},{"$f":"INDEX('Cleaned Data'!L:L,MATCH($A1153,$B$56:$B$1919,0))","v":{"$error":"#N/A"}}]
[1099,{"$f":"B1153+IF('Cleaned Data'!L1100>0,1,0)*IF($B$34=\"Overall\",1,IF('Cleaned Data'!K1100=$B$34,1,0))*(IF('Cleaned Data'!H1100<>\"\",1,0))","v":515},{"$f":"INDEX('Cleaned Data'!H:H,MATCH($A1154,$B$56:$B$1919,0))","v":{"$error":"#N/A"}},{"$f":"INDEX('Cleaned Data'!L:L,MATCH($A1154,$B$56:$B$1919,0))","v":{"$error":"#N/A"}}]
[1100,{"$f":"B1154+IF('Cleaned Data'!L1101>0,1,0)*IF($B$34=\"Overall\",1,IF('Cleaned Data'!K1101=$B$34,1,0))*(IF('Cleaned Data'!H1101<>\"\",1,0))","v":515},{"$f":"INDEX('Cleaned Data'!H:H,MATCH($A1155,$B$56:$B$1919,0))","v":{"$error":"#N/A"}},{"$f":"INDEX('Cleaned Data'!L:L,MATCH($A1155,$B$56:$B$1919,0))","v":{"$error":"#N/A"}}]
[1101,{"$f":"B1155+IF('Cleaned Data'!L1102>0,1,0)*IF($B$34=\"Overall\",1,IF('Cleaned Data'!K1102=$B$34,1,0))*(IF('Cleaned Data'!H1102<>\"\",1,0))","v":515},{"$f":"INDEX('Cleaned Data'!H:H,MATCH($A1156,$B$56:$B$1919,0))","v":{"$error":"#N/A"}},{"$f":"INDEX('Cleaned Data'!L:L,MATCH($A1156,$B$56:$B$1919,0))","v":{"$error":"#N/A"}}]
[1102,{"$f":"B1156+IF('Cleaned Data'!L1103>0,1,0)*IF($B$34=\"Overall\",1,IF('Cleaned Data'!K1103=$B$34,1,0))*(IF('Cleaned Data'!H1103<>\"\",1,0))","v":515},{"$f":"INDEX('Cleaned Data'!H:H,MATCH($A1157,$B$56:$B$1919,0))","v":{"$error":"#N/A"}},{"$f":"INDEX('Cleaned Data'!L:L,MATCH($A1157,$B$56:$B$1919,0))","v":{"$error":"#N/A"}}]
[1103,{"$f":"B1157+IF('Cleaned Data'!L1104>0,1,0)*IF($B$34=\"Overall\",1,IF('Cleaned Data'!K1104=$B$34,1,0))*(IF('Cleaned Data'!H1104<>\"\",1,0))","v":515},{"$f":"INDEX('Cleaned Data'!H:H,MATCH($A1158,$B$56:$B$1919,0))","v":{"$error":"#N/A"}},{"$f":"INDEX('Cleaned Data'!L:L,MATCH($A1158,$B$56:$B$1919,0))","v":{"$error":"#N/A"}}]
[1104,{"$f":"B1158+IF('Cleaned Data'!L1105>0,1,0)*IF($B$34=\"Overall\",1,IF('Cleaned Data'!K1105=$B$34,1,0))*(IF('Cleaned Data'!H1105<>\"\",1,0))","v":515},{"$f":"INDEX('Cleaned Data'!H:H,MATCH($A1159,$B$56:$B$1919,0))","v":{"$error":"#N/A"}},{"$f":"INDEX('Cleaned Data'!L:L,MATCH($A1159,$B$56:$B$1919,0))","v":{"$error":"#N/A"}}]
[1105,{"$f":"B1159+IF('Cleaned Data'!L1106>0,1,0)*IF($B$34=\"Overall\",1,IF('Cleaned Data'!K1106=$B$34,1,0))*(IF('Cleaned Data'!H1106<>\"\",1,0))","v":515},{"$f":"INDEX('Cleaned Data'!H:H,MATCH($A1160,$B$56:$B$1919,0))","v":{"$error":"#N/A"}},{"$f":"INDEX('Cleaned Data'!L:L,MATCH($A1160,$B$56:$B$1919,0))","v":{"$error":"#N/A"}}]
[1106,{"$f":"B1160+IF('Cleaned Data'!L1107>0,1,0)*IF($B$34=\"Overall\",1,IF('Cleaned Data'!K1107=$B$34,1,0))*(IF('Cleaned Data'!H1107<>\"\",1,0))","v":515},{"$f":"INDEX('Cleaned Data'!H:H,MATCH($A1161,$B$56:$B$1919,0))","v":{"$error":"#N/A"}},{"$f":"INDEX('Cleaned Data'!L:L,MATCH($A1161,$B$56:$B$1919,0))","v":{"$error":"#N/A"}}]
[1107,{"$f":"B1161+IF('Cleaned Data'!L1108>0,1,0)*IF($B$34=\"Overall\",1,IF('Cleaned Data'!K1108=$B$34,1,0))*(IF('Cleaned Data'!H1108<>\"\",1,0))","v":515},{"$f":"INDEX('Cleaned Data'!H:H,MATCH($A1162,$B$56:$B$1919,0))","v":{"$error":"#N/A"}},{"$f":"INDEX('Cleaned Data'!L:L,MATCH($A1162,$B$56:$B$1919,0))","v":{"$error":"#N/A"}}]
[1108,{"$f":"B1162+IF('Cleaned Data'!L1109>0,1,0)*IF($B$34=\"Overall\",1,IF('Cleaned Data'!K1109=$B$34,1,0))*(IF('Cleaned Data'!H1109<>\"\",1,0))","v":515},{"$f":"INDEX('Cleaned Data'!H:H,MATCH($A1163,$B$56:$B$1919,0))","v":{"$error":"#N/A"}},{"$f":"INDEX('Cleaned Data'!L:L,MATCH($A1163,$B$56:$B$1919,0))","v":{"$error":"#N/A"}}]
[1109,{"$f":"B1163+IF('Cleaned Data'!L1110>0,1,0)*IF($B$34=\"Overall\",1,IF('Cleaned Data'!K1110=$B$34,1,0))*(IF('Cleaned Data'!H1110<>\"\",1,0))","v":515},{"$f":"INDEX('Cleaned Data'!H:H,MATCH($A1164,$B$56:$B$1919,0))","v":{"$error":"#N/A"}},{"$f":"INDEX('Cleaned Data'!L:L,MATCH($A1164,$B$56:$B$1919,0))","v":{"$error":"#N/A"}}]
[1110,{"$f":"B1164+IF('Cleaned Data'!L1111>0,1,0)*IF($B$34=\"Overall\",1,IF('Cleaned Data'!K1111=$B$34,1,0))*(IF('Cleaned Data'!H1111<>\"\",1,0))","v":515},{"$f":"INDEX('Cleaned Data'!H:H,MATCH($A1165,$B$56:$B$1919,0))","v":{"$error":"#N/A"}},{"$f":"INDEX('Cleaned Data'!L:L,MATCH($A1165,$B$56:$B$1919,0))","v":{"$error":"#N/A"}}]
[1111,{"$f":"B1165+IF('Cleaned Data'!L1112>0,1,0)*IF($B$34=\"Overall\",1,IF('Cleaned Data'!K1112=$B$34,1,0))*(IF('Cleaned Data'!H1112<>\"\",1,0))","v":515},{"$f":"INDEX('Cleaned Data'!H:H,MATCH($A1166,$B$56:$B$1919,0))","v":{"$error":"#N/A"}},{"$f":"INDEX('Cleaned Data'!L:L,MATCH($A1166,$B$56:$B$1919,0))","v":{"$error":"#N/A"}}]
[1112,{"$f":"B1166+IF('Cleaned Data'!L1113>0,1,0)*IF($B$34=\"Overall\",1,IF('Cleaned Data'!K1113=$B$34,1,0))*(IF('Cleaned Data'!H1113<>\"\",1,0))","v":516},{"$f":"INDEX('Cleaned Data'!H:H,MATCH($A1167,$B$56:$B$1919,0))","v":{"$error":"#N/A"}},{"$f":"INDEX('Cleaned Data'!L:L,MATCH($A1167,$B$56:$B$1919,0))","v":{"$error":"#N/A"}}]
[1113,{"$f":"B1167+IF('Cleaned Data'!L1114>0,1,0)*IF($B$34=\"Overall\",1,IF('Cleaned Data'!K1114=$B$34,1,0))*(IF('Cleaned Data'!H1114<>\"\",1,0))","v":517},{"$f":"INDEX('Cleaned Data'!H:H,MATCH($A1168,$B$56:$B$1919,0))","v":{"$error":"#N/A"}},{"$f":"INDEX('Cleaned Data'!L:L,MATCH($A1168,$B$56:$B$1919,0))","v":{"$error":"#N/A"}}]
[1114,{"$f":"B1168+IF('Cleaned Data'!L1115>0,1,0)*IF($B$34=\"Overall\",1,IF('Cleaned Data'!K1115=$B$34,1,0))*(IF('Cleaned Data'!H1115<>\"\",1,0))","v":518},{"$f":"INDEX('Cleaned Data'!H:H,MATCH($A1169,$B$56:$B$1919,0))","v":{"$error":"#N/A"}},{"$f":"INDEX('Cleaned Data'!L:L,MATCH($A1169,$B$56:$B$1919,0))","v":{"$error":"#N/A"}}]
[1115,{"$f":"B1169+IF('Cleaned Data'!L1116>0,1,0)*IF($B$34=\"Overall\",1,IF('Cleaned Data'!K1116=$B$34,1,0))*(IF('Cleaned Data'!H1116<>\"\",1,0))","v":519},{"$f":"INDEX('Cleaned Data'!H:H,MATCH($A1170,$B$56:$B$1919,0))","v":{"$error":"#N/A"}},{"$f":"INDEX('Cleaned Data'!L:L,MATCH($A1170,$B$56:$B$1919,0))","v":{"$error":"#N/A"}}]
[1116,{"$f":"B1170+IF('Cleaned Data'!L1117>0,1,0)*IF($B$34=\"Overall\",1,IF('Cleaned Data'!K1117=$B$34,1,0))*(IF('Cleaned Data'!H1117<>\"\",1,0))","v":520},{"$f":"INDEX('Cleaned Data'!H:H,MATCH($A1171,$B$56:$B$1919,0))","v":{"$error":"#N/A"}},{"$f":"INDEX('Cleaned Data'!L:L,MATCH($A1171,$B$56:$B$1919,0))","v":{"$error":"#N/A"}}]
[1117,{"$f":"B1171+IF('Cleaned Data'!L1118>0,1,0)*IF($B$34=\"Overall\",1,IF('Cleaned Data'!K1118=$B$34,1,0))*(IF('Cleaned Data'!H1118<>\"\",1,0))","v":521},{"$f":"INDEX('Cleaned Data'!H:H,MATCH($A1172,$B$56:$B$1919,0))","v":{"$error":"#N/A"}},{"$f":"INDEX('Cleaned Data'!L:L,MATCH($A1172,$B$56:$B$1919,0))","v":{"$error":"#N/A"}}]
[1118,{"$f":"B1172+IF('Cleaned Data'!L1119>0,1,0)*IF($B$34=\"Overall\",1,IF('Cleaned Data'!K1119=$B$34,1,0))*(IF('Cleaned Data'!H1119<>\"\",1,0))","v":522},{"$f":"INDEX('Cleaned Data'!H:H,MATCH($A1173,$B$56:$B$1919,0))","v":{"$error":"#N/A"}},{"$f":"INDEX('Cleaned Data'!L:L,MATCH($A1173,$B$56:$B$1919,0))","v":{"$error":"#N/A"}}]
[1119,{"$f":"B1173+IF('Cleaned Data'!L1120>0,1,0)*IF($B$34=\"Overall\",1,IF('Cleaned Data'!K1120=$B$34,1,0))*(IF('Cleaned Data'!H1120<>\"\",1,0))","v":523},{"$f":"INDEX('Cleaned Data'!H:H,MATCH($A1174,$B$56:$B$1919,0))","v":{"$error":"#N/A"}},{"$f":"INDEX('Cleaned Data'!L:L,MATCH($A1174,$B$56:$B$1919,0))","v":{"$error":"#N/A"}}]
[1120,{"$f":"B1174+IF('Cleaned Data'!L1121>0,1,0)*IF($B$34=\"Overall\",1,IF('Cleaned Data'!K1121=$B$34,1,0))*(IF('Cleaned Data'!H1121<>\"\",1,0))","v":524},{"$f":"INDEX('Cleaned Data'!H:H,MATCH($A1175,$B$56:$B$1919,0))","v":{"$error":"#N/A"}},{"$f":"INDEX('Cleaned Data'!L:L,MATCH($A1175,$B$56:$B$1919,0))","v":{"$error":"#N/A"}}]
[1121,{"$f":"B1175+IF('Cleaned Data'!L1122>0,1,0)*IF($B$34=\"Overall\",1,IF('Cleaned Data'!K1122=$B$34,1,0))*(IF('Cleaned Data'!H1122<>\"\",1,0))","v":525},{"$f":"INDEX('Cleaned Data'!H:H,MATCH($A1176,$B$56:$B$1919,0))","v":{"$error":"#N/A"}},{"$f":"INDEX('Cleaned Data'!L:L,MATCH($A1176,$B$56:$B$1919,0))","v":{"$error":"#N/A"}}]
[1122,{"$f":"B1176+IF('Cleaned Data'!L1123>0,1,0)*IF($B$34=\"Overall\",1,IF('Cleaned Data'!K1123=$B$34,1,0))*(IF('Cleaned Data'!H1123<>\"\",1,0))","v":526},{"$f":"INDEX('Cleaned Data'!H:H,MATCH($A1177,$B$56:$B$1919,0))","v":{"$error":"#N/A"}},{"$f":"INDEX('Cleaned Data'!L:L,MATCH($A1177,$B$56:$B$1919,0))","v":{"$error":"#N/A"}}]
[1123,{"$f":"B1177+IF('Cleaned Data'!L1124>0,1,0)*IF($B$34=\"Overall\",1,IF('Cleaned Data'!K1124=$B$34,1,0))*(IF('Cleaned Data'!H1124<>\"\",1,0))","v":527},{"$f":"INDEX('Cleaned Data'!H:H,MATCH($A1178,$B$56:$B$1919,0))","v":{"$error":"#N/A"}},{"$f":"INDEX('Cleaned Data'!L:L,MATCH($A1178,$B$56:$B$1919,0))","v":{"$error":"#N/A"}}]
[1124,{"$f":"B1178+IF('Cleaned Data'!L1125>0,1,0)*IF($B$34=\"Overall\",1,IF('Cleaned Data'!K1125=$B$34,1,0))*(IF('Cleaned Data'!H1125<>\"\",1,0))","v":528},{"$f":"INDEX('Cleaned Data'!H:H,MATCH($A1179,$B$56:$B$1919,0))","v":{"$error":"#N/A"}},{"$f":"INDEX('Cleaned Data'!L:L,MATCH($A1179,$B$56:$B$1919,0))","v":{"$error":"#N/A"}}]
[1125,{"$f":"B1179+IF('Cleaned Data'!L1126>0,1,0)*IF($B$34=\"Overall\",1,IF('Cleaned Data'!K1126=$B$34,1,0))*(IF('Cleaned Data'!H1126<>\"\",1,0))","v":529},{"$f":"INDEX('Cleaned Data'!H:H,MATCH($A1180,$B$56:$B$1919,0))","v":{"$error":"#N/A"}},{"$f":"INDEX('Cleaned Data'!L:L,MATCH($A1180,$B$56:$B$1919,0))","v":{"$error":"#N/A"}}]
[1126,{"$f":"B1180+IF('Cleaned Data'!L1127>0,1,0)*IF($B$34=\"Overall\",1,IF('Cleaned Data'!K1127=$B$34,1,0))*(IF('Cleaned Data'!H1127<>\"\",1,0))","v":530},{"$f":"INDEX('Cleaned Data'!H:H,MATCH($A1181,$B$56:$B$1919,0))","v":{"$error":"#N/A"}},{"$f":"INDEX('Cleaned Data'!L:L,MATCH($A1181,$B$56:$B$1919,0))","v":{"$error":"#N/A"}}]
[1127,{"$f":"B1181+IF('Cleaned Data'!L1128>0,1,0)*IF($B$34=\"Overall\",1,IF('Cleaned Data'!K1128=$B$34,1,0))*(IF('Cleaned Data'!H1128<>\"\",1,0))","v":530},{"$f":"INDEX('Cleaned Data'!H:H,MATCH($A1182,$B$56:$B$1919,0))","v":{"$error":"#N/A"}},{"$f":"INDEX('Cleaned Data'!L:L,MATCH($A1182,$B$56:$B$1919,0))","v":{"$error":"#N/A"}}]
[1128,{"$f":"B1182+IF('Cleaned Data'!L1129>0,1,0)*IF($B$34=\"Overall\",1,IF('Cleaned Data'!K1129=$B$34,1,0))*(IF('Cleaned Data'!H1129<>\"\",1,0))","v":530},{"$f":"INDEX('Cleaned Data'!H:H,MATCH($A1183,$B$56:$B$1919,0))","v":{"$error":"#N/A"}},{"$f":"INDEX('Cleaned Data'!L:L,MATCH($A1183,$B$56:$B$1919,0))","v":{"$error":"#N/A"}}]
[1129,{"$f":"B1183+IF('Cleaned Data'!L1130>0,1,0)*IF($B$34=\"Overall\",1,IF('Cleaned Data'!K1130=$B$34,1,0))*(IF('Cleaned Data'!H1130<>\"\",1,0))","v":530},{"$f":"INDEX('Cleaned Data'!H:H,MATCH($A1184,$B$56:$B$1919,0))","v":{"$error":"#N/A"}},{"$f":"INDEX('Cleaned Data'!L:L,MATCH($A1184,$B$56:$B$1919,0))","v":{"$error":"#N/A"}}]
[1130,{"$f":"B1184+IF('Cleaned Data'!L1131>0,1,0)*IF($B$34=\"Overall\",1,IF('Cleaned Data'!K1131=$B$34,1,0))*(IF('Cleaned Data'!H1131<>\"\",1,0))","v":531},{"$f":"INDEX('Cleaned Data'!H:H,MATCH($A1185,$B$56:$B$1919,0))","v":{"$error":"#N/A"}},{"$f":"INDEX('Cleaned Data'!L:L,MATCH($A1185,$B$56:$B$1919,0))","v":{"$error":"#N/A"}}]
[1131,{"$f":"B1185+IF('Cleaned Data'!L1132>0,1,0)*IF($B$34=\"Overall\",1,IF('Cleaned Data'!K1132=$B$34,1,0))*(IF('Cleaned Data'!H1132<>\"\",1,0))","v":532},{"$f":"INDEX('Cleaned Data'!H:H,MATCH($A1186,$B$56:$B$1919,0))","v":{"$error":"#N/A"}},{"$f":"INDEX('Cleaned Data'!L:L,MATCH($A1186,$B$56:$B$1919,0))","v":{"$error":"#N/A"}}]
[1132,{"$f":"B1186+IF('Cleaned Data'!L1133>0,1,0)*IF($B$34=\"Overall\",1,IF('Cleaned Data'!K1133=$B$34,1,0))*(IF('Cleaned Data'!H1133<>\"\",1,0))","v":533},{"$f":"INDEX('Cleaned Data'!H:H,MATCH($A1187,$B$56:$B$1919,0))","v":{"$error":"#N/A"}},{"$f":"INDEX('Cleaned Data'!L:L,MATCH($A1187,$B$56:$B$1919,0))","v":{"$error":"#N/A"}}]
[1133,{"$f":"B1187+IF('Cleaned Data'!L1134>0,1,0)*IF($B$34=\"Overall\",1,IF('Cleaned Data'!K1134=$B$34,1,0))*(IF('Cleaned Data'!H1134<>\"\",1,0))","v":534},{"$f":"INDEX('Cleaned Data'!H:H,MATCH($A1188,$B$56:$B$1919,0))","v":{"$error":"#N/A"}},{"$f":"INDEX('Cleaned Data'!L:L,MATCH($A1188,$B$56:$B$1919,0))","v":{"$error":"#N/A"}}]
[1134,{"$f":"B1188+IF('Cleaned Data'!L1135>0,1,0)*IF($B$34=\"Overall\",1,IF('Cleaned Data'!K1135=$B$34,1,0))*(IF('Cleaned Data'!H1135<>\"\",1,0))","v":535},{"$f":"INDEX('Cleaned Data'!H:H,MATCH($A1189,$B$56:$B$1919,0))","v":{"$error":"#N/A"}},{"$f":"INDEX('Cleaned Data'!L:L,MATCH($A1189,$B$56:$B$1919,0))","v":{"$error":"#N/A"}}]
[1135,{"$f":"B1189+IF('Cleaned Data'!L1136>0,1,0)*IF($B$34=\"Overall\",1,IF('Cleaned Data'!K1136=$B$34,1,0))*(IF('Cleaned Data'!H1136<>\"\",1,0))","v":535},{"$f":"INDEX('Cleaned Data'!H:H,MATCH($A1190,$B$56:$B$1919,0))","v":{"$error":"#N/A"}},{"$f":"INDEX('Cleaned Data'!L:L,MATCH($A1190,$B$56:$B$1919,0))","v":{"$error":"#N/A"}}]
[1136,{"$f":"B1190+IF('Cleaned Data'!L1137>0,1,0)*IF($B$34=\"Overall\",1,IF('Cleaned Data'!K1137=$B$34,1,0))*(IF('Cleaned Data'!H1137<>\"\",1,0))","v":535},{"$f":"INDEX('Cleaned Data'!H:H,MATCH($A1191,$B$56:$B$1919,0))","v":{"$error":"#N/A"}},{"$f":"INDEX('Cleaned Data'!L:L,MATCH($A1191,$B$56:$B$1919,0))","v":{"$error":"#N/A"}}]
[1137,{"$f":"B1191+IF('Cleaned Data'!L1138>0,1,0)*IF($B$34=\"Overall\",1,IF('Cleaned Data'!K1138=$B$34,1,0))*(IF('Cleaned Data'!H1138<>\"\",1,0))","v":535},{"$f":"INDEX('Cleaned Data'!H:H,MATCH($A1192,$B$56:$B$1919,0))","v":{"$error":"#N/A"}},{"$f":"INDEX('Cleaned Data'!L:L,MATCH($A1192,$B$56:$B$1919,0))","v":{"$error":"#N/A"}}]
[1138,{"$f":"B1192+IF('Cleaned Data'!L1139>0,1,0)*IF($B$34=\"Overall\",1,IF('Cleaned Data'!K1139=$B$34,1,0))*(IF('Cleaned Data'!H1139<>\"\",1,0))","v":535},{"$f":"INDEX('Cleaned Data'!H:H,MATCH($A1193,$B$56:$B$1919,0))","v":{"$error":"#N/A"}},{"$f":"INDEX('Cleaned Data'!L:L,MATCH($A1193,$B$56:$B$1919,0))","v":{"$error":"#N/A"}}]
[1139,{"$f":"B1193+IF('Cleaned Data'!L1140>0,1,0)*IF($B$34=\"Overall\",1,IF('Cleaned Data'!K1140=$B$34,1,0))*(IF('Cleaned Data'!H1140<>\"\",1,0))","v":535},{"$f":"INDEX('Cleaned Data'!H:H,MATCH($A1194,$B$56:$B$1919,0))","v":{"$error":"#N/A"}},{"$f":"INDEX('Cleaned Data'!L:L,MATCH($A1194,$B$56:$B$1919,0))","v":{"$error":"#N/A"}}]
[1140,{"$f":"B1194+IF('Cleaned Data'!L1141>0,1,0)*IF($B$34=\"Overall\",1,IF('Cleaned Data'!K1141=$B$34,1,0))*(IF('Cleaned Data'!H1141<>\"\",1,0))","v":535},{"$f":"INDEX('Cleaned Data'!H:H,MATCH($A1195,$B$56:$B$1919,0))","v":{"$error":"#N/A"}},{"$f":"INDEX('Cleaned Data'!L:L,MATCH($A1195,$B$56:$B$1919,0))","v":{"$error":"#N/A"}}]
[1141,{"$f":"B1195+IF('Cleaned Data'!L1142>0,1,0)*IF($B$34=\"Overall\",1,IF('Cleaned Data'!K1142=$B$34,1,0))*(IF('Cleaned Data'!H1142<>\"\",1,0))","v":535},{"$f":"INDEX('Cleaned Data'!H:H,MATCH($A1196,$B$56:$B$1919,0))","v":{"$error":"#N/A"}},{"$f":"INDEX('Cleaned Data'!L:L,MATCH($A1196,$B$56:$B$1919,0))","v":{"$error":"#N/A"}}]
[1142,{"$f":"B1196+IF('Cleaned Data'!L1143>0,1,0)*IF($B$34=\"Overall\",1,IF('Cleaned Data'!K1143=$B$34,1,0))*(IF('Cleaned Data'!H1143<>\"\",1,0))","v":535},{"$f":"INDEX('Cleaned Data'!H:H,MATCH($A1197,$B$56:$B$1919,0))","v":{"$error":"#N/A"}},{"$f":"INDEX('Cleaned Data'!L:L,MATCH($A1197,$B$56:$B$1919,0))","v":{"$error":"#N/A"}}]
[1143,{"$f":"B1197+IF('Cleaned Data'!L1144>0,1,0)*IF($B$34=\"Overall\",1,IF('Cleaned Data'!K1144=$B$34,1,0))*(IF('Cleaned Data'!H1144<>\"\",1,0))","v":535},{"$f":"INDEX('Cleaned Data'!H:H,MATCH($A1198,$B$56:$B$1919,0))","v":{"$error":"#N/A"}},{"$f":"INDEX('Cleaned Data'!L:L,MATCH($A1198,$B$56:$B$1919,0))","v":{"$error":"#N/A"}}]
[1144,{"$f":"B1198+IF('Cleaned Data'!L1145>0,1,0)*IF($B$34=\"Overall\",1,IF('Cleaned Data'!K1145=$B$34,1,0))*(IF('Cleaned Data'!H1145<>\"\",1,0))","v":535},{"$f":"INDEX('Cleaned Data'!H:H,MATCH($A1199,$B$56:$B$1919,0))","v":{"$error":"#N/A"}},{"$f":"INDEX('Cleaned Data'!L:L,MATCH($A1199,$B$56:$B$1919,0))","v":{"$error":"#N/A"}}]
[1145,{"$f":"B1199+IF('Cleaned Data'!L1146>0,1,0)*IF($B$34=\"Overall\",1,IF('Cleaned Data'!K1146=$B$34,1,0))*(IF('Cleaned Data'!H1146<>\"\",1,0))","v":535},{"$f":"INDEX('Cleaned Data'!H:H,MATCH($A1200,$B$56:$B$1919,0))","v":{"$error":"#N/A"}},{"$f":"INDEX('Cleaned Data'!L:L,MATCH($A1200,$B$56:$B$1919,0))","v":{"$error":"#N/A"}}]
[1146,{"$f":"B1200+IF('Cleaned Data'!L1147>0,1,0)*IF($B$34=\"Overall\",1,IF('Cleaned Data'!K1147=$B$34,1,0))*(IF('Cleaned Data'!H1147<>\"\",1,0))","v":535},{"$f":"INDEX('Cleaned Data'!H:H,MATCH($A1201,$B$56:$B$1919,0))","v":{"$error":"#N/A"}},{"$f":"INDEX('Cleaned Data'!L:L,MATCH($A1201,$B$56:$B$1919,0))","v":{"$error":"#N/A"}}]
[1147,{"$f":"B1201+IF('Cleaned Data'!L1148>0,1,0)*IF($B$34=\"Overall\",1,IF('Cleaned Data'!K1148=$B$34,1,0))*(IF('Cleaned Data'!H1148<>\"\",1,0))","v":535},{"$f":"INDEX('Cleaned Data'!H:H,MATCH($A1202,$B$56:$B$1919,0))","v":{"$error":"#N/A"}},{"$f":"INDEX('Cleaned Data'!L:L,MATCH($A1202,$B$56:$B$1919,0))","v":{"$error":"#N/A"}}]
[1148,{"$f":"B1202+IF('Cleaned Data'!L1149>0,1,0)*IF($B$34=\"Overall\",1,IF('Cleaned Data'!K1149=$B$34,1,0))*(IF('Cleaned Data'!H1149<>\"\",1,0))","v":535},{"$f":"INDEX('Cleaned Data'!H:H,MATCH($A1203,$B$56:$B$1919,0))","v":{"$error":"#N/A"}},{"$f":"INDEX('Cleaned Data'!L:L,MATCH($A1203,$B$56:$B$1919,0))","v":{"$error":"#N/A"}}]
[1149,{"$f":"B1203+IF('Cleaned Data'!L1150>0,1,0)*IF($B$34=\"Overall\",1,IF('Cleaned Data'!K1150=$B$34,1,0))*(IF('Cleaned Data'!H1150<>\"\",1,0))","v":535},{"$f":"INDEX('Cleaned Data'!H:H,MATCH($A1204,$B$56:$B$1919,0))","v":{"$error":"#N/A"}},{"$f":"INDEX('Cleaned Data'!L:L,MATCH($A1204,$B$56:$B$1919,0))","v":{"$error":"#N/A"}}]
[1150,{"$f":"B1204+IF('Cleaned Data'!L1151>0,1,0)*IF($B$34=\"Overall\",1,IF('Cleaned Data'!K1151=$B$34,1,0))*(IF('Cleaned Data'!H1151<>\"\",1,0))","v":535},{"$f":"INDEX('Cleaned Data'!H:H,MATCH($A1205,$B$56:$B$1919,0))","v":{"$error":"#N/A"}},{"$f":"INDEX('Cleaned Data'!L:L,MATCH($A1205,$B$56:$B$1919,0))","v":{"$error":"#N/A"}}]
[1151,{"$f":"B1205+IF('Cleaned Data'!L1152>0,1,0)*IF($B$34=\"Overall\",1,IF('Cleaned Data'!K1152=$B$34,1,0))*(IF('Cleaned Data'!H1152<>\"\",1,0))","v":535},{"$f":"INDEX('Cleaned Data'!H:H,MATCH($A1206,$B$56:$B$1919,0))","v":{"$error":"#N/A"}},{"$f":"INDEX('Cleaned Data'!L:L,MATCH($A1206,$B$56:$B$1919,0))","v":{"$error":"#N/A"}}]
[1152,{"$f":"B1206+IF('Cleaned Data'!L1153>0,1,0)*IF($B$34=\"Overall\",1,IF('Cleaned Data'!K1153=$B$34,1,0))*(IF('Cleaned Data'!H1153<>\"\",1,0))","v":535},{"$f":"INDEX('Cleaned Data'!H:H,MATCH($A1207,$B$56:$B$1919,0))","v":{"$error":"#N/A"}},{"$f":"INDEX('Cleaned Data'!L:L,MATCH($A1207,$B$56:$B$1919,0))","v":{"$error":"#N/A"}}]
[1153,{"$f":"B1207+IF('Cleaned Data'!L1154>0,1,0)*IF($B$34=\"Overall\",1,IF('Cleaned Data'!K1154=$B$34,1,0))*(IF('Cleaned Data'!H1154<>\"\",1,0))","v":535},{"$f":"INDEX('Cleaned Data'!H:H,MATCH($A1208,$B$56:$B$1919,0))","v":{"$error":"#N/A"}},{"$f":"INDEX('Cleaned Data'!L:L,MATCH($A1208,$B$56:$B$1919,0))","v":{"$error":"#N/A"}}]
[1154,{"$f":"B1208+IF('Cleaned Data'!L1155>0,1,0)*IF($B$34=\"Overall\",1,IF('Cleaned Data'!K1155=$B$34,1,0))*(IF('Cleaned Data'!H1155<>\"\",1,0))","v":535},{"$f":"INDEX('Cleaned Data'!H:H,MATCH($A1209,$B$56:$B$1919,0))","v":{"$error":"#N/A"}},{"$f":"INDEX('Cleaned Data'!L:L,MATCH($A1209,$B$56:$B$1919,0))","v":{"$error":"#N/A"}}]
[1155,{"$f":"B1209+IF('Cleaned Data'!L1156>0,1,0)*IF($B$34=\"Overall\",1,IF('Cleaned Data'!K1156=$B$34,1,0))*(IF('Cleaned Data'!H1156<>\"\",1,0))","v":535},{"$f":"INDEX('Cleaned Data'!H:H,MATCH($A1210,$B$56:$B$1919,0))","v":{"$error":"#N/A"}},{"$f":"INDEX('Cleaned Data'!L:L,MATCH($A1210,$B$56:$B$1919,0))","v":{"$error":"#N/A"}}]
[1156,{"$f":"B1210+IF('Cleaned Data'!L1157>0,1,0)*IF($B$34=\"Overall\",1,IF('Cleaned Data'!K1157=$B$34,1,0))*(IF('Cleaned Data'!H1157<>\"\",1,0))","v":535},{"$f":"INDEX('Cleaned Data'!H:H,MATCH($A1211,$B$56:$B$1919,0))","v":{"$error":"#N/A"}},{"$f":"INDEX('Cleaned Data'!L:L,MATCH($A1211,$B$56:$B$1919,0))","v":{"$error":"#N/A"}}]
[1157,{"$f":"B1211+IF('Cleaned Data'!L1158>0,1,0)*IF($B$34=\"Overall\",1,IF('Cleaned Data'!K1158=$B$34,1,0))*(IF('Cleaned Data'!H1158<>\"\",1,0))","v":535},{"$f":"INDEX('Cleaned Data'!H:H,MATCH($A1212,$B$56:$B$1919,0))","v":{"$error":"#N/A"}},{"$f":"INDEX('Cleaned Data'!L:L,MATCH($A1212,$B$56:$B$1919,0))","v":{"$error":"#N/A"}}]
[1158,{"$f":"B1212+IF('Cleaned Data'!L1159>0,1,0)*IF($B$34=\"Overall\",1,IF('Cleaned Data'!K1159=$B$34,1,0))*(IF('Cleaned Data'!H1159<>\"\",1,0))","v":535},{"$f":"INDEX('Cleaned Data'!H:H,MATCH($A1213,$B$56:$B$1919,0))","v":{"$error":"#N/A"}},{"$f":"INDEX('Cleaned Data'!L:L,MATCH($A1213,$B$56:$B$1919,0))","v":{"$error":"#N/A"}}]
[1159,{"$f":"B1213+IF('Cleaned Data'!L1160>0,1,0)*IF($B$34=\"Overall\",1,IF('Cleaned Data'!K1160=$B$34,1,0))*(IF('Cleaned Data'!H1160<>\"\",1,0))","v":535},{"$f":"INDEX('Cleaned Data'!H:H,MATCH($A1214,$B$56:$B$1919,0))","v":{"$error":"#N/A"}},{"$f":"INDEX('Cleaned Data'!L:L,MATCH($A1214,$B$56:$B$1919,0))","v":{"$error":"#N/A"}}]
[1160,{"$f":"B1214+IF('Cleaned Data'!L1161>0,1,0)*IF($B$34=\"Overall\",1,IF('Cleaned Data'!K1161=$B$34,1,0))*(IF('Cleaned Data'!H1161<>\"\",1,0))","v":535},{"$f":"INDEX('Cleaned Data'!H:H,MATCH($A1215,$B$56:$B$1919,0))","v":{"$error":"#N/A"}},{"$f":"INDEX('Cleaned Data'!L:L,MATCH($A1215,$B$56:$B$1919,0))","v":{"$error":"#N/A"}}]
[1161,{"$f":"B1215+IF('Cleaned Data'!L1162>0,1,0)*IF($B$34=\"Overall\",1,IF('Cleaned Data'!K1162=$B$34,1,0))*(IF('Cleaned Data'!H1162<>\"\",1,0))","v":535},{"$f":"INDEX('Cleaned Data'!H:H,MATCH($A1216,$B$56:$B$1919,0))","v":{"$error":"#N/A"}},{"$f":"INDEX('Cleaned Data'!L:L,MATCH($A1216,$B$56:$B$1919,0))","v":{"$error":"#N/A"}}]
[1162,{"$f":"B1216+IF('Cleaned Data'!L1163>0,1,0)*IF($B$34=\"Overall\",1,IF('Cleaned Data'!K1163=$B$34,1,0))*(IF('Cleaned Data'!H1163<>\"\",1,0))","v":535},{"$f":"INDEX('Cleaned Data'!H:H,MATCH($A1217,$B$56:$B$1919,0))","v":{"$error":"#N/A"}},{"$f":"INDEX('Cleaned Data'!L:L,MATCH($A1217,$B$56:$B$1919,0))","v":{"$error":"#N/A"}}]
[1163,{"$f":"B1217+IF('Cleaned Data'!L1164>0,1,0)*IF($B$34=\"Overall\",1,IF('Cleaned Data'!K1164=$B$34,1,0))*(IF('Cleaned Data'!H1164<>\"\",1,0))","v":535},{"$f":"INDEX('Cleaned Data'!H:H,MATCH($A1218,$B$56:$B$1919,0))","v":{"$error":"#N/A"}},{"$f":"INDEX('Cleaned Data'!L:L,MATCH($A1218,$B$56:$B$1919,0))","v":{"$error":"#N/A"}}]
[1164,{"$f":"B1218+IF('Cleaned Data'!L1165>0,1,0)*IF($B$34=\"Overall\",1,IF('Cleaned Data'!K1165=$B$34,1,0))*(IF('Cleaned Data'!H1165<>\"\",1,0))","v":535},{"$f":"INDEX('Cleaned Data'!H:H,MATCH($A1219,$B$56:$B$1919,0))","v":{"$error":"#N/A"}},{"$f":"INDEX('Cleaned Data'!L:L,MATCH($A1219,$B$56:$B$1919,0))","v":{"$error":"#N/A"}}]
[1165,{"$f":"B1219+IF('Cleaned Data'!L1166>0,1,0)*IF($B$34=\"Overall\",1,IF('Cleaned Data'!K1166=$B$34,1,0))*(IF('Cleaned Data'!H1166<>\"\",1,0))","v":535},{"$f":"INDEX('Cleaned Data'!H:H,MATCH($A1220,$B$56:$B$1919,0))","v":{"$error":"#N/A"}},{"$f":"INDEX('Cleaned Data'!L:L,MATCH($A1220,$B$56:$B$1919,0))","v":{"$error":"#N/A"}}]
[1166,{"$f":"B1220+IF('Cleaned Data'!L1167>0,1,0)*IF($B$34=\"Overall\",1,IF('Cleaned Data'!K1167=$B$34,1,0))*(IF('Cleaned Data'!H1167<>\"\",1,0))","v":535},{"$f":"INDEX('Cleaned Data'!H:H,MATCH($A1221,$B$56:$B$1919,0))","v":{"$error":"#N/A"}},{"$f":"INDEX('Cleaned Data'!L:L,MATCH($A1221,$B$56:$B$1919,0))","v":{"$error":"#N/A"}}]
[1167,{"$f":"B1221+IF('Cleaned Data'!L1168>0,1,0)*IF($B$34=\"Overall\",1,IF('Cleaned Data'!K1168=$B$34,1,0))*(IF('Cleaned Data'!H1168<>\"\",1,0))","v":535},{"$f":"INDEX('Cleaned Data'!H:H,MATCH($A1222,$B$56:$B$1919,0))","v":{"$error":"#N/A"}},{"$f":"INDEX('Cleaned Data'!L:L,MATCH($A1222,$B$56:$B$1919,0))","v":{"$error":"#N/A"}}]
[1168,{"$f":"B1222+IF('Cleaned Data'!L1169>0,1,0)*IF($B$34=\"Overall\",1,IF('Cleaned Data'!K1169=$B$34,1,0))*(IF('Cleaned Data'!H1169<>\"\",1,0))","v":535},{"$f":"INDEX('Cleaned Data'!H:H,MATCH($A1223,$B$56:$B$1919,0))","v":{"$error":"#N/A"}},{"$f":"INDEX('Cleaned Data'!L:L,MATCH($A1223,$B$56:$B$1919,0))","v":{"$error":"#N/A"}}]
[1169,{"$f":"B1223+IF('Cleaned Data'!L1170>0,1,0)*IF($B$34=\"Overall\",1,IF('Cleaned Data'!K1170=$B$34,1,0))*(IF('Cleaned Data'!H1170<>\"\",1,0))","v":535},{"$f":"INDEX('Cleaned Data'!H:H,MATCH($A1224,$B$56:$B$1919,0))","v":{"$error":"#N/A"}},{"$f":"INDEX('Cleaned Data'!L:L,MATCH($A1224,$B$56:$B$1919,0))","v":{"$error":"#N/A"}}]
[1170,{"$f":"B1224+IF('Cleaned Data'!L1171>0,1,0)*IF($B$34=\"Overall\",1,IF('Cleaned Data'!K1171=$B$34,1,0))*(IF('Cleaned Data'!H1171<>\"\",1,0))","v":535},{"$f":"INDEX('Cleaned Data'!H:H,MATCH($A1225,$B$56:$B$1919,0))","v":{"$error":"#N/A"}},{"$f":"INDEX('Cleaned Data'!L:L,MATCH($A1225,$B$56:$B$1919,0))","v":{"$error":"#N/A"}}]
[1171,{"$f":"B1225+IF('Cleaned Data'!L1172>0,1,0)*IF($B$34=\"Overall\",1,IF('Cleaned Data'!K1172=$B$34,1,0))*(IF('Cleaned Data'!H1172<>\"\",1,0))","v":535},{"$f":"INDEX('Cleaned Data'!H:H,MATCH($A1226,$B$56:$B$1919,0))","v":{"$error":"#N/A"}},{"$f":"INDEX('Cleaned Data'!L:L,MATCH($A1226,$B$56:$B$1919,0))","v":{"$error":"#N/A"}}]
[1172,{"$f":"B1226+IF('Cleaned Data'!L1173>0,1,0)*IF($B$34=\"Overall\",1,IF('Cleaned Data'!K1173=$B$34,1,0))*(IF('Cleaned Data'!H1173<>\"\",1,0))","v":535},{"$f":"INDEX('Cleaned Data'!H:H,MATCH($A1227,$B$56:$B$1919,0))","v":{"$error":"#N/A"}},{"$f":"INDEX('Cleaned Data'!L:L,MATCH($A1227,$B$56:$B$1919,0))","v":{"$error":"#N/A"}}]
[1173,{"$f":"B1227+IF('Cleaned Data'!L1174>0,1,0)*IF($B$34=\"Overall\",1,IF('Cleaned Data'!K1174=$B$34,1,0))*(IF('Cleaned Data'!H1174<>\"\",1,0))","v":535},{"$f":"INDEX('Cleaned Data'!H:H,MATCH($A1228,$B$56:$B$1919,0))","v":{"$error":"#N/A"}},{"$f":"INDEX('Cleaned Data'!L:L,MATCH($A1228,$B$56:$B$1919,0))","v":{"$error":"#N/A"}}]
[1174,{"$f":"B1228+IF('Cleaned Data'!L1175>0,1,0)*IF($B$34=\"Overall\",1,IF('Cleaned Data'!K1175=$B$34,1,0))*(IF('Cleaned Data'!H1175<>\"\",1,0))","v":535},{"$f":"INDEX('Cleaned Data'!H:H,MATCH($A1229,$B$56:$B$1919,0))","v":{"$error":"#N/A"}},{"$f":"INDEX('Cleaned Data'!L:L,MATCH($A1229,$B$56:$B$1919,0))","v":{"$error":"#N/A"}}]
[1175,{"$f":"B1229+IF('Cleaned Data'!L1176>0,1,0)*IF($B$34=\"Overall\",1,IF('Cleaned Data'!K1176=$B$34,1,0))*(IF('Cleaned Data'!H1176<>\"\",1,0))","v":535},{"$f":"INDEX('Cleaned Data'!H:H,MATCH($A1230,$B$56:$B$1919,0))","v":{"$error":"#N/A"}},{"$f":"INDEX('Cleaned Data'!L:L,MATCH($A1230,$B$56:$B$1919,0))","v":{"$error":"#N/A"}}]
[1176,{"$f":"B1230+IF('Cleaned Data'!L1177>0,1,0)*IF($B$34=\"Overall\",1,IF('Cleaned Data'!K1177=$B$34,1,0))*(IF('Cleaned Data'!H1177<>\"\",1,0))","v":535},{"$f":"INDEX('Cleaned Data'!H:H,MATCH($A1231,$B$56:$B$1919,0))","v":{"$error":"#N/A"}},{"$f":"INDEX('Cleaned Data'!L:L,MATCH($A1231,$B$56:$B$1919,0))","v":{"$error":"#N/A"}}]
[1177,{"$f":"B1231+IF('Cleaned Data'!L1178>0,1,0)*IF($B$34=\"Overall\",1,IF('Cleaned Data'!K1178=$B$34,1,0))*(IF('Cleaned Data'!H1178<>\"\",1,0))","v":535},{"$f":"INDEX('Cleaned Data'!H:H,MATCH($A1232,$B$56:$B$1919,0))","v":{"$error":"#N/A"}},{"$f":"INDEX('Cleaned Data'!L:L,MATCH($A1232,$B$56:$B$1919,0))","v":{"$error":"#N/A"}}]
[1178,{"$f":"B1232+IF('Cleaned Data'!L1179>0,1,0)*IF($B$34=\"Overall\",1,IF('Cleaned Data'!K1179=$B$34,1,0))*(IF('Cleaned Data'!H1179<>\"\",1,0))","v":535},{"$f":"INDEX('Cleaned Data'!H:H,MATCH($A1233,$B$56:$B$1919,0))","v":{"$error":"#N/A"}},{"$f":"INDEX('Cleaned Data'!L:L,MATCH($A1233,$B$56:$B$1919,0))","v":{"$error":"#N/A"}}]
[1179,{"$f":"B1233+IF('Cleaned Data'!L1180>0,1,0)*IF($B$34=\"Overall\",1,IF('Cleaned Data'!K1180=$B$34,1,0))*(IF('Cleaned Data'!H1180<>\"\",1,0))","v":535},{"$f":"INDEX('Cleaned Data'!H:H,MATCH($A1234,$B$56:$B$1919,0))","v":{"$error":"#N/A"}},{"$f":"INDEX('Cleaned Data'!L:L,MATCH($A1234,$B$56:$B$1919,0))","v":{"$error":"#N/A"}}]
[1180,{"$f":"B1234+IF('Cleaned Data'!L1181>0,1,0)*IF($B$34=\"Overall\",1,IF('Cleaned Data'!K1181=$B$34,1,0))*(IF('Cleaned Data'!H1181<>\"\",1,0))","v":535},{"$f":"INDEX('Cleaned Data'!H:H,MATCH($A1235,$B$56:$B$1919,0))","v":{"$error":"#N/A"}},{"$f":"INDEX('Cleaned Data'!L:L,MATCH($A1235,$B$56:$B$1919,0))","v":{"$error":"#N/A"}}]
[1181,{"$f":"B1235+IF('Cleaned Data'!L1182>0,1,0)*IF($B$34=\"Overall\",1,IF('Cleaned Data'!K1182=$B$34,1,0))*(IF('Cleaned Data'!H1182<>\"\",1,0))","v":535},{"$f":"INDEX('Cleaned Data'!H:H,MATCH($A1236,$B$56:$B$1919,0))","v":{"$error":"#N/A"}},{"$f":"INDEX('Cleaned Data'!L:L,MATCH($A1236,$B$56:$B$1919,0))","v":{"$error":"#N/A"}}]
[1182,{"$f":"B1236+IF('Cleaned Data'!L1183>0,1,0)*IF($B$34=\"Overall\",1,IF('Cleaned Data'!K1183=$B$34,1,0))*(IF('Cleaned Data'!H1183<>\"\",1,0))","v":535},{"$f":"INDEX('Cleaned Data'!H:H,MATCH($A1237,$B$56:$B$1919,0))","v":{"$error":"#N/A"}},{"$f":"INDEX('Cleaned Data'!L:L,MATCH($A1237,$B$56:$B$1919,0))","v":{"$error":"#N/A"}}]
[1183,{"$f":"B1237+IF('Cleaned Data'!L1184>0,1,0)*IF($B$34=\"Overall\",1,IF('Cleaned Data'!K1184=$B$34,1,0))*(IF('Cleaned Data'!H1184<>\"\",1,0))","v":535},{"$f":"INDEX('Cleaned Data'!H:H,MATCH($A1238,$B$56:$B$1919,0))","v":{"$error":"#N/A"}},{"$f":"INDEX('Cleaned Data'!L:L,MATCH($A1238,$B$56:$B$1919,0))","v":{"$error":"#N/A"}}]
[1184,{"$f":"B1238+IF('Cleaned Data'!L1185>0,1,0)*IF($B$34=\"Overall\",1,IF('Cleaned Data'!K1185=$B$34,1,0))*(IF('Cleaned Data'!H1185<>\"\",1,0))","v":535},{"$f":"INDEX('Cleaned Data'!H:H,MATCH($A1239,$B$56:$B$1919,0))","v":{"$error":"#N/A"}},{"$f":"INDEX('Cleaned Data'!L:L,MATCH($A1239,$B$56:$B$1919,0))","v":{"$error":"#N/A"}}]
[1185,{"$f":"B1239+IF('Cleaned Data'!L1186>0,1,0)*IF($B$34=\"Overall\",1,IF('Cleaned Data'!K1186=$B$34,1,0))*(IF('Cleaned Data'!H1186<>\"\",1,0))","v":535},{"$f":"INDEX('Cleaned Data'!H:H,MATCH($A1240,$B$56:$B$1919,0))","v":{"$error":"#N/A"}},{"$f":"INDEX('Cleaned Data'!L:L,MATCH($A1240,$B$56:$B$1919,0))","v":{"$error":"#N/A"}}]
[1186,{"$f":"B1240+IF('Cleaned Data'!L1187>0,1,0)*IF($B$34=\"Overall\",1,IF('Cleaned Data'!K1187=$B$34,1,0))*(IF('Cleaned Data'!H1187<>\"\",1,0))","v":535},{"$f":"INDEX('Cleaned Data'!H:H,MATCH($A1241,$B$56:$B$1919,0))","v":{"$error":"#N/A"}},{"$f":"INDEX('Cleaned Data'!L:L,MATCH($A1241,$B$56:$B$1919,0))","v":{"$error":"#N/A"}}]
[1187,{"$f":"B1241+IF('Cleaned Data'!L1188>0,1,0)*IF($B$34=\"Overall\",1,IF('Cleaned Data'!K1188=$B$34,1,0))*(IF('Cleaned Data'!H1188<>\"\",1,0))","v":535},{"$f":"INDEX('Cleaned Data'!H:H,MATCH($A1242,$B$56:$B$1919,0))","v":{"$error":"#N/A"}},{"$f":"INDEX('Cleaned Data'!L:L,MATCH($A1242,$B$56:$B$1919,0))","v":{"$error":"#N/A"}}]
[1188,{"$f":"B1242+IF('Cleaned Data'!L1189>0,1,0)*IF($B$34=\"Overall\",1,IF('Cleaned Data'!K1189=$B$34,1,0))*(IF('Cleaned Data'!H1189<>\"\",1,0))","v":535},{"$f":"INDEX('Cleaned Data'!H:H,MATCH($A1243,$B$56:$B$1919,0))","v":{"$error":"#N/A"}},{"$f":"INDEX('Cleaned Data'!L:L,MATCH($A1243,$B$56:$B$1919,0))","v":{"$error":"#N/A"}}]
[1189,{"$f":"B1243+IF('Cleaned Data'!L1190>0,1,0)*IF($B$34=\"Overall\",1,IF('Cleaned Data'!K1190=$B$34,1,0))*(IF('Cleaned Data'!H1190<>\"\",1,0))","v":535},{"$f":"INDEX('Cleaned Data'!H:H,MATCH($A1244,$B$56:$B$1919,0))","v":{"$error":"#N/A"}},{"$f":"INDEX('Cleaned Data'!L:L,MATCH($A1244,$B$56:$B$1919,0))","v":{"$error":"#N/A"}}]
[1190,{"$f":"B1244+IF('Cleaned Data'!L1191>0,1,0)*IF($B$34=\"Overall\",1,IF('Cleaned Data'!K1191=$B$34,1,0))*(IF('Cleaned Data'!H1191<>\"\",1,0))","v":536},{"$f":"INDEX('Cleaned Data'!H:H,MATCH($A1245,$B$56:$B$1919,0))","v":{"$error":"#N/A"}},{"$f":"INDEX('Cleaned Data'!L:L,MATCH($A1245,$B$56:$B$1919,0))","v":{"$error":"#N/A"}}]
[1191,{"$f":"B1245+IF('Cleaned Data'!L1192>0,1,0)*IF($B$34=\"Overall\",1,IF('Cleaned Data'!K1192=$B$34,1,0))*(IF('Cleaned Data'!H1192<>\"\",1,0))","v":537},{"$f":"INDEX('Cleaned Data'!H:H,MATCH($A1246,$B$56:$B$1919,0))","v":{"$error":"#N/A"}},{"$f":"INDEX('Cleaned Data'!L:L,MATCH($A1246,$B$56:$B$1919,0))","v":{"$error":"#N/A"}}]
[1192,{"$f":"B1246+IF('Cleaned Data'!L1193>0,1,0)*IF($B$34=\"Overall\",1,IF('Cleaned Data'!K1193=$B$34,1,0))*(IF('Cleaned Data'!H1193<>\"\",1,0))","v":538},{"$f":"INDEX('Cleaned Data'!H:H,MATCH($A1247,$B$56:$B$1919,0))","v":{"$error":"#N/A"}},{"$f":"INDEX('Cleaned Data'!L:L,MATCH($A1247,$B$56:$B$1919,0))","v":{"$error":"#N/A"}}]
[1193,{"$f":"B1247+IF('Cleaned Data'!L1194>0,1,0)*IF($B$34=\"Overall\",1,IF('Cleaned Data'!K1194=$B$34,1,0))*(IF('Cleaned Data'!H1194<>\"\",1,0))","v":539},{"$f":"INDEX('Cleaned Data'!H:H,MATCH($A1248,$B$56:$B$1919,0))","v":{"$error":"#N/A"}},{"$f":"INDEX('Cleaned Data'!L:L,MATCH($A1248,$B$56:$B$1919,0))","v":{"$error":"#N/A"}}]
[1194,{"$f":"B1248+IF('Cleaned Data'!L1195>0,1,0)*IF($B$34=\"Overall\",1,IF('Cleaned Data'!K1195=$B$34,1,0))*(IF('Cleaned Data'!H1195<>\"\",1,0))","v":539},{"$f":"INDEX('Cleaned Data'!H:H,MATCH($A1249,$B$56:$B$1919,0))","v":{"$error":"#N/A"}},{"$f":"INDEX('Cleaned Data'!L:L,MATCH($A1249,$B$56:$B$1919,0))","v":{"$error":"#N/A"}}]
[1195,{"$f":"B1249+IF('Cleaned Data'!L1196>0,1,0)*IF($B$34=\"Overall\",1,IF('Cleaned Data'!K1196=$B$34,1,0))*(IF('Cleaned Data'!H1196<>\"\",1,0))","v":539},{"$f":"INDEX('Cleaned Data'!H:H,MATCH($A1250,$B$56:$B$1919,0))","v":{"$error":"#N/A"}},{"$f":"INDEX('Cleaned Data'!L:L,MATCH($A1250,$B$56:$B$1919,0))","v":{"$error":"#N/A"}}]
[1196,{"$f":"B1250+IF('Cleaned Data'!L1197>0,1,0)*IF($B$34=\"Overall\",1,IF('Cleaned Data'!K1197=$B$34,1,0))*(IF('Cleaned Data'!H1197<>\"\",1,0))","v":539},{"$f":"INDEX('Cleaned Data'!H:H,MATCH($A1251,$B$56:$B$1919,0))","v":{"$error":"#N/A"}},{"$f":"INDEX('Cleaned Data'!L:L,MATCH($A1251,$B$56:$B$1919,0))","v":{"$error":"#N/A"}}]
[1197,{"$f":"B1251+IF('Cleaned Data'!L1198>0,1,0)*IF($B$34=\"Overall\",1,IF('Cleaned Data'!K1198=$B$34,1,0))*(IF('Cleaned Data'!H1198<>\"\",1,0))","v":539},{"$f":"INDEX('Cleaned Data'!H:H,MATCH($A1252,$B$56:$B$1919,0))","v":{"$error":"#N/A"}},{"$f":"INDEX('Cleaned Data'!L:L,MATCH($A1252,$B$56:$B$1919,0))","v":{"$error":"#N/A"}}]
[1198,{"$f":"B1252+IF('Cleaned Data'!L1199>0,1,0)*IF($B$34=\"Overall\",1,IF('Cleaned Data'!K1199=$B$34,1,0))*(IF('Cleaned Data'!H1199<>\"\",1,0))","v":539},{"$f":"INDEX('Cleaned Data'!H:H,MATCH($A1253,$B$56:$B$1919,0))","v":{"$error":"#N/A"}},{"$f":"INDEX('Cleaned Data'!L:L,MATCH($A1253,$B$56:$B$1919,0))","v":{"$error":"#N/A"}}]
[1199,{"$f":"B1253+IF('Cleaned Data'!L1200>0,1,0)*IF($B$34=\"Overall\",1,IF('Cleaned Data'!K1200=$B$34,1,0))*(IF('Cleaned Data'!H1200<>\"\",1,0))","v":540},{"$f":"INDEX('Cleaned Data'!H:H,MATCH($A1254,$B$56:$B$1919,0))","v":{"$error":"#N/A"}},{"$f":"INDEX('Cleaned Data'!L:L,MATCH($A1254,$B$56:$B$1919,0))","v":{"$error":"#N/A"}}]
[1200,{"$f":"B1254+IF('Cleaned Data'!L1201>0,1,0)*IF($B$34=\"Overall\",1,IF('Cleaned Data'!K1201=$B$34,1,0))*(IF('Cleaned Data'!H1201<>\"\",1,0))","v":540},{"$f":"INDEX('Cleaned Data'!H:H,MATCH($A1255,$B$56:$B$1919,0))","v":{"$error":"#N/A"}},{"$f":"INDEX('Cleaned Data'!L:L,MATCH($A1255,$B$56:$B$1919,0))","v":{"$error":"#N/A"}}]
[1201,{"$f":"B1255+IF('Cleaned Data'!L1202>0,1,0)*IF($B$34=\"Overall\",1,IF('Cleaned Data'!K1202=$B$34,1,0))*(IF('Cleaned Data'!H1202<>\"\",1,0))","v":540},{"$f":"INDEX('Cleaned Data'!H:H,MATCH($A1256,$B$56:$B$1919,0))","v":{"$error":"#N/A"}},{"$f":"INDEX('Cleaned Data'!L:L,MATCH($A1256,$B$56:$B$1919,0))","v":{"$error":"#N/A"}}]
[1202,{"$f":"B1256+IF('Cleaned Data'!L1203>0,1,0)*IF($B$34=\"Overall\",1,IF('Cleaned Data'!K1203=$B$34,1,0))*(IF('Cleaned Data'!H1203<>\"\",1,0))","v":540},{"$f":"INDEX('Cleaned Data'!H:H,MATCH($A1257,$B$56:$B$1919,0))","v":{"$error":"#N/A"}},{"$f":"INDEX('Cleaned Data'!L:L,MATCH($A1257,$B$56:$B$1919,0))","v":{"$error":"#N/A"}}]
[1203,{"$f":"B1257+IF('Cleaned Data'!L1204>0,1,0)*IF($B$34=\"Overall\",1,IF('Cleaned Data'!K1204=$B$34,1,0))*(IF('Cleaned Data'!H1204<>\"\",1,0))","v":540},{"$f":"INDEX('Cleaned Data'!H:H,MATCH($A1258,$B$56:$B$1919,0))","v":{"$error":"#N/A"}},{"$f":"INDEX('Cleaned Data'!L:L,MATCH($A1258,$B$56:$B$1919,0))","v":{"$error":"#N/A"}}]
[1204,{"$f":"B1258+IF('Cleaned Data'!L1205>0,1,0)*IF($B$34=\"Overall\",1,IF('Cleaned Data'!K1205=$B$34,1,0))*(IF('Cleaned Data'!H1205<>\"\",1,0))","v":540},{"$f":"INDEX('Cleaned Data'!H:H,MATCH($A1259,$B$56:$B$1919,0))","v":{"$error":"#N/A"}},{"$f":"INDEX('Cleaned Data'!L:L,MATCH($A1259,$B$56:$B$1919,0))","v":{"$error":"#N/A"}}]
[1205,{"$f":"B1259+IF('Cleaned Data'!L1206>0,1,0)*IF($B$34=\"Overall\",1,IF('Cleaned Data'!K1206=$B$34,1,0))*(IF('Cleaned Data'!H1206<>\"\",1,0))","v":540},{"$f":"INDEX('Cleaned Data'!H:H,MATCH($A1260,$B$56:$B$1919,0))","v":{"$error":"#N/A"}},{"$f":"INDEX('Cleaned Data'!L:L,MATCH($A1260,$B$56:$B$1919,0))","v":{"$error":"#N/A"}}]
[1206,{"$f":"B1260+IF('Cleaned Data'!L1207>0,1,0)*IF($B$34=\"Overall\",1,IF('Cleaned Data'!K1207=$B$34,1,0))*(IF('Cleaned Data'!H1207<>\"\",1,0))","v":540},{"$f":"INDEX('Cleaned Data'!H:H,MATCH($A1261,$B$56:$B$1919,0))","v":{"$error":"#N/A"}},{"$f":"INDEX('Cleaned Data'!L:L,MATCH($A1261,$B$56:$B$1919,0))","v":{"$error":"#N/A"}}]
[1207,{"$f":"B1261+IF('Cleaned Data'!L1208>0,1,0)*IF($B$34=\"Overall\",1,IF('Cleaned Data'!K1208=$B$34,1,0))*(IF('Cleaned Data'!H1208<>\"\",1,0))","v":540},{"$f":"INDEX('Cleaned Data'!H:H,MATCH($A1262,$B$56:$B$1919,0))","v":{"$error":"#N/A"}},{"$f":"INDEX('Cleaned Data'!L:L,MATCH($A1262,$B$56:$B$1919,0))","v":{"$error":"#N/A"}}]
[1208,{"$f":"B1262+IF('Cleaned Data'!L1209>0,1,0)*IF($B$34=\"Overall\",1,IF('Cleaned Data'!K1209=$B$34,1,0))*(IF('Cleaned Data'!H1209<>\"\",1,0))","v":540},{"$f":"INDEX('Cleaned Data'!H:H,MATCH($A1263,$B$56:$B$1919,0))","v":{"$error":"#N/A"}},{"$f":"INDEX('Cleaned Data'!L:L,MATCH($A1263,$B$56:$B$1919,0))","v":{"$error":"#N/A"}}]
[1209,{"$f":"B1263+IF('Cleaned Data'!L1210>0,1,0)*IF($B$34=\"Overall\",1,IF('Cleaned Data'!K1210=$B$34,1,0))*(IF('Cleaned Data'!H1210<>\"\",1,0))","v":540},{"$f":"INDEX('Cleaned Data'!H:H,MATCH($A1264,$B$56:$B$1919,0))","v":{"$error":"#N/A"}},{"$f":"INDEX('Cleaned Data'!L:L,MATCH($A1264,$B$56:$B$1919,0))","v":{"$error":"#N/A"}}]
[1210,{"$f":"B1264+IF('Cleaned Data'!L1211>0,1,0)*IF($B$34=\"Overall\",1,IF('Cleaned Data'!K1211=$B$34,1,0))*(IF('Cleaned Data'!H1211<>\"\",1,0))","v":540},{"$f":"INDEX('Cleaned Data'!H:H,MATCH($A1265,$B$56:$B$1919,0))","v":{"$error":"#N/A"}},{"$f":"INDEX('Cleaned Data'!L:L,MATCH($A1265,$B$56:$B$1919,0))","v":{"$error":"#N/A"}}]
[1211,{"$f":"B1265+IF('Cleaned Data'!L1212>0,1,0)*IF($B$34=\"Overall\",1,IF('Cleaned Data'!K1212=$B$34,1,0))*(IF('Cleaned Data'!H1212<>\"\",1,0))","v":540},{"$f":"INDEX('Cleaned Data'!H:H,MATCH($A1266,$B$56:$B$1919,0))","v":{"$error":"#N/A"}},{"$f":"INDEX('Cleaned Data'!L:L,MATCH($A1266,$B$56:$B$1919,0))","v":{"$error":"#N/A"}}]
[1212,{"$f":"B1266+IF('Cleaned Data'!L1213>0,1,0)*IF($B$34=\"Overall\",1,IF('Cleaned Data'!K1213=$B$34,1,0))*(IF('Cleaned Data'!H1213<>\"\",1,0))","v":540},{"$f":"INDEX('Cleaned Data'!H:H,MATCH($A1267,$B$56:$B$1919,0))","v":{"$error":"#N/A"}},{"$f":"INDEX('Cleaned Data'!L:L,MATCH($A1267,$B$56:$B$1919,0))","v":{"$error":"#N/A"}}]
[1213,{"$f":"B1267+IF('Cleaned Data'!L1214>0,1,0)*IF($B$34=\"Overall\",1,IF('Cleaned Data'!K1214=$B$34,1,0))*(IF('Cleaned Data'!H1214<>\"\",1,0))","v":540},{"$f":"INDEX('Cleaned Data'!H:H,MATCH($A1268,$B$56:$B$1919,0))","v":{"$error":"#N/A"}},{"$f":"INDEX('Cleaned Data'!L:L,MATCH($A1268,$B$56:$B$1919,0))","v":{"$error":"#N/A"}}]
[1214,{"$f":"B1268+IF('Cleaned Data'!L1215>0,1,0)*IF($B$34=\"Overall\",1,IF('Cleaned Data'!K1215=$B$34,1,0))*(IF('Cleaned Data'!H1215<>\"\",1,0))","v":540},{"$f":"INDEX('Cleaned Data'!H:H,MATCH($A1269,$B$56:$B$1919,0))","v":{"$error":"#N/A"}},{"$f":"INDEX('Cleaned Data'!L:L,MATCH($A1269,$B$56:$B$1919,0))","v":{"$error":"#N/A"}}]
[1215,{"$f":"B1269+IF('Cleaned Data'!L1216>0,1,0)*IF($B$34=\"Overall\",1,IF('Cleaned Data'!K1216=$B$34,1,0))*(IF('Cleaned Data'!H1216<>\"\",1,0))","v":540},{"$f":"INDEX('Cleaned Data'!H:H,MATCH($A1270,$B$56:$B$1919,0))","v":{"$error":"#N/A"}},{"$f":"INDEX('Cleaned Data'!L:L,MATCH($A1270,$B$56:$B$1919,0))","v":{"$error":"#N/A"}}]
[1216,{"$f":"B1270+IF('Cleaned Data'!L1217>0,1,0)*IF($B$34=\"Overall\",1,IF('Cleaned Data'!K1217=$B$34,1,0))*(IF('Cleaned Data'!H1217<>\"\",1,0))","v":540},{"$f":"INDEX('Cleaned Data'!H:H,MATCH($A1271,$B$56:$B$1919,0))","v":{"$error":"#N/A"}},{"$f":"INDEX('Cleaned Data'!L:L,MATCH($A1271,$B$56:$B$1919,0))","v":{"$error":"#N/A"}}]
[1217,{"$f":"B1271+IF('Cleaned Data'!L1218>0,1,0)*IF($B$34=\"Overall\",1,IF('Cleaned Data'!K1218=$B$34,1,0))*(IF('Cleaned Data'!H1218<>\"\",1,0))","v":540},{"$f":"INDEX('Cleaned Data'!H:H,MATCH($A1272,$B$56:$B$1919,0))","v":{"$error":"#N/A"}},{"$f":"INDEX('Cleaned Data'!L:L,MATCH($A1272,$B$56:$B$1919,0))","v":{"$error":"#N/A"}}]
[1218,{"$f":"B1272+IF('Cleaned Data'!L1219>0,1,0)*IF($B$34=\"Overall\",1,IF('Cleaned Data'!K1219=$B$34,1,0))*(IF('Cleaned Data'!H1219<>\"\",1,0))","v":540},{"$f":"INDEX('Cleaned Data'!H:H,MATCH($A1273,$B$56:$B$1919,0))","v":{"$error":"#N/A"}},{"$f":"INDEX('Cleaned Data'!L:L,MATCH($A1273,$B$56:$B$1919,0))","v":{"$error":"#N/A"}}]
[1219,{"$f":"B1273+IF('Cleaned Data'!L1220>0,1,0)*IF($B$34=\"Overall\",1,IF('Cleaned Data'!K1220=$B$34,1,0))*(IF('Cleaned Data'!H1220<>\"\",1,0))","v":540},{"$f":"INDEX('Cleaned Data'!H:H,MATCH($A1274,$B$56:$B$1919,0))","v":{"$error":"#N/A"}},{"$f":"INDEX('Cleaned Data'!L:L,MATCH($A1274,$B$56:$B$1919,0))","v":{"$error":"#N/A"}}]
[1220,{"$f":"B1274+IF('Cleaned Data'!L1221>0,1,0)*IF($B$34=\"Overall\",1,IF('Cleaned Data'!K1221=$B$34,1,0))*(IF('Cleaned Data'!H1221<>\"\",1,0))","v":540},{"$f":"INDEX('Cleaned Data'!H:H,MATCH($A1275,$B$56:$B$1919,0))","v":{"$error":"#N/A"}},{"$f":"INDEX('Cleaned Data'!L:L,MATCH($A1275,$B$56:$B$1919,0))","v":{"$error":"#N/A"}}]
[1221,{"$f":"B1275+IF('Cleaned Data'!L1222>0,1,0)*IF($B$34=\"Overall\",1,IF('Cleaned Data'!K1222=$B$34,1,0))*(IF('Cleaned Data'!H1222<>\"\",1,0))","v":540},{"$f":"INDEX('Cleaned Data'!H:H,MATCH($A1276,$B$56:$B$1919,0))","v":{"$error":"#N/A"}},{"$f":"INDEX('Cleaned Data'!L:L,MATCH($A1276,$B$56:$B$1919,0))","v":{"$error":"#N/A"}}]
[1222,{"$f":"B1276+IF('Cleaned Data'!L1223>0,1,0)*IF($B$34=\"Overall\",1,IF('Cleaned Data'!K1223=$B$34,1,0))*(IF('Cleaned Data'!H1223<>\"\",1,0))","v":540},{"$f":"INDEX('Cleaned Data'!H:H,MATCH($A1277,$B$56:$B$1919,0))","v":{"$error":"#N/A"}},{"$f":"INDEX('Cleaned Data'!L:L,MATCH($A1277,$B$56:$B$1919,0))","v":{"$error":"#N/A"}}]
[1223,{"$f":"B1277+IF('Cleaned Data'!L1224>0,1,0)*IF($B$34=\"Overall\",1,IF('Cleaned Data'!K1224=$B$34,1,0))*(IF('Cleaned Data'!H1224<>\"\",1,0))","v":540},{"$f":"INDEX('Cleaned Data'!H:H,MATCH($A1278,$B$56:$B$1919,0))","v":{"$error":"#N/A"}},{"$f":"INDEX('Cleaned Data'!L:L,MATCH($A1278,$B$56:$B$1919,0))","v":{"$error":"#N/A"}}]
[1224,{"$f":"B1278+IF('Cleaned Data'!L1225>0,1,0)*IF($B$34=\"Overall\",1,IF('Cleaned Data'!K1225=$B$34,1,0))*(IF('Cleaned Data'!H1225<>\"\",1,0))","v":540},{"$f":"INDEX('Cleaned Data'!H:H,MATCH($A1279,$B$56:$B$1919,0))","v":{"$error":"#N/A"}},{"$f":"INDEX('Cleaned Data'!L:L,MATCH($A1279,$B$56:$B$1919,0))","v":{"$error":"#N/A"}}]
[1225,{"$f":"B1279+IF('Cleaned Data'!L1226>0,1,0)*IF($B$34=\"Overall\",1,IF('Cleaned Data'!K1226=$B$34,1,0))*(IF('Cleaned Data'!H1226<>\"\",1,0))","v":540},{"$f":"INDEX('Cleaned Data'!H:H,MATCH($A1280,$B$56:$B$1919,0))","v":{"$error":"#N/A"}},{"$f":"INDEX('Cleaned Data'!L:L,MATCH($A1280,$B$56:$B$1919,0))","v":{"$error":"#N/A"}}]
[1226,{"$f":"B1280+IF('Cleaned Data'!L1227>0,1,0)*IF($B$34=\"Overall\",1,IF('Cleaned Data'!K1227=$B$34,1,0))*(IF('Cleaned Data'!H1227<>\"\",1,0))","v":540},{"$f":"INDEX('Cleaned Data'!H:H,MATCH($A1281,$B$56:$B$1919,0))","v":{"$error":"#N/A"}},{"$f":"INDEX('Cleaned Data'!L:L,MATCH($A1281,$B$56:$B$1919,0))","v":{"$error":"#N/A"}}]
[1227,{"$f":"B1281+IF('Cleaned Data'!L1228>0,1,0)*IF($B$34=\"Overall\",1,IF('Cleaned Data'!K1228=$B$34,1,0))*(IF('Cleaned Data'!H1228<>\"\",1,0))","v":540},{"$f":"INDEX('Cleaned Data'!H:H,MATCH($A1282,$B$56:$B$1919,0))","v":{"$error":"#N/A"}},{"$f":"INDEX('Cleaned Data'!L:L,MATCH($A1282,$B$56:$B$1919,0))","v":{"$error":"#N/A"}}]
[1228,{"$f":"B1282+IF('Cleaned Data'!L1229>0,1,0)*IF($B$34=\"Overall\",1,IF('Cleaned Data'!K1229=$B$34,1,0))*(IF('Cleaned Data'!H1229<>\"\",1,0))","v":540},{"$f":"INDEX('Cleaned Data'!H:H,MATCH($A1283,$B$56:$B$1919,0))","v":{"$error":"#N/A"}},{"$f":"INDEX('Cleaned Data'!L:L,MATCH($A1283,$B$56:$B$1919,0))","v":{"$error":"#N/A"}}]
[1229,{"$f":"B1283+IF('Cleaned Data'!L1230>0,1,0)*IF($B$34=\"Overall\",1,IF('Cleaned Data'!K1230=$B$34,1,0))*(IF('Cleaned Data'!H1230<>\"\",1,0))","v":540},{"$f":"INDEX('Cleaned Data'!H:H,MATCH($A1284,$B$56:$B$1919,0))","v":{"$error":"#N/A"}},{"$f":"INDEX('Cleaned Data'!L:L,MATCH($A1284,$B$56:$B$1919,0))","v":{"$error":"#N/A"}}]
[1230,{"$f":"B1284+IF('Cleaned Data'!L1231>0,1,0)*IF($B$34=\"Overall\",1,IF('Cleaned Data'!K1231=$B$34,1,0))*(IF('Cleaned Data'!H1231<>\"\",1,0))","v":540},{"$f":"INDEX('Cleaned Data'!H:H,MATCH($A1285,$B$56:$B$1919,0))","v":{"$error":"#N/A"}},{"$f":"INDEX('Cleaned Data'!L:L,MATCH($A1285,$B$56:$B$1919,0))","v":{"$error":"#N/A"}}]
[1231,{"$f":"B1285+IF('Cleaned Data'!L1232>0,1,0)*IF($B$34=\"Overall\",1,IF('Cleaned Data'!K1232=$B$34,1,0))*(IF('Cleaned Data'!H1232<>\"\",1,0))","v":540},{"$f":"INDEX('Cleaned Data'!H:H,MATCH($A1286,$B$56:$B$1919,0))","v":{"$error":"#N/A"}},{"$f":"INDEX('Cleaned Data'!L:L,MATCH($A1286,$B$56:$B$1919,0))","v":{"$error":"#N/A"}}]
[1232,{"$f":"B1286+IF('Cleaned Data'!L1233>0,1,0)*IF($B$34=\"Overall\",1,IF('Cleaned Data'!K1233=$B$34,1,0))*(IF('Cleaned Data'!H1233<>\"\",1,0))","v":540},{"$f":"INDEX('Cleaned Data'!H:H,MATCH($A1287,$B$56:$B$1919,0))","v":{"$error":"#N/A"}},{"$f":"INDEX('Cleaned Data'!L:L,MATCH($A1287,$B$56:$B$1919,0))","v":{"$error":"#N/A"}}]
[1233,{"$f":"B1287+IF('Cleaned Data'!L1234>0,1,0)*IF($B$34=\"Overall\",1,IF('Cleaned Data'!K1234=$B$34,1,0))*(IF('Cleaned Data'!H1234<>\"\",1,0))","v":540},{"$f":"INDEX('Cleaned Data'!H:H,MATCH($A1288,$B$56:$B$1919,0))","v":{"$error":"#N/A"}},{"$f":"INDEX('Cleaned Data'!L:L,MATCH($A1288,$B$56:$B$1919,0))","v":{"$error":"#N/A"}}]
[1234,{"$f":"B1288+IF('Cleaned Data'!L1235>0,1,0)*IF($B$34=\"Overall\",1,IF('Cleaned Data'!K1235=$B$34,1,0))*(IF('Cleaned Data'!H1235<>\"\",1,0))","v":540},{"$f":"INDEX('Cleaned Data'!H:H,MATCH($A1289,$B$56:$B$1919,0))","v":{"$error":"#N/A"}},{"$f":"INDEX('Cleaned Data'!L:L,MATCH($A1289,$B$56:$B$1919,0))","v":{"$error":"#N/A"}}]
[1235,{"$f":"B1289+IF('Cleaned Data'!L1236>0,1,0)*IF($B$34=\"Overall\",1,IF('Cleaned Data'!K1236=$B$34,1,0))*(IF('Cleaned Data'!H1236<>\"\",1,0))","v":540},{"$f":"INDEX('Cleaned Data'!H:H,MATCH($A1290,$B$56:$B$1919,0))","v":{"$error":"#N/A"}},{"$f":"INDEX('Cleaned Data'!L:L,MATCH($A1290,$B$56:$B$1919,0))","v":{"$error":"#N/A"}}]
[1236,{"$f":"B1290+IF('Cleaned Data'!L1237>0,1,0)*IF($B$34=\"Overall\",1,IF('Cleaned Data'!K1237=$B$34,1,0))*(IF('Cleaned Data'!H1237<>\"\",1,0))","v":540},{"$f":"INDEX('Cleaned Data'!H:H,MATCH($A1291,$B$56:$B$1919,0))","v":{"$error":"#N/A"}},{"$f":"INDEX('Cleaned Data'!L:L,MATCH($A1291,$B$56:$B$1919,0))","v":{"$error":"#N/A"}}]
[1237,{"$f":"B1291+IF('Cleaned Data'!L1238>0,1,0)*IF($B$34=\"Overall\",1,IF('Cleaned Data'!K1238=$B$34,1,0))*(IF('Cleaned Data'!H1238<>\"\",1,0))","v":540},{"$f":"INDEX('Cleaned Data'!H:H,MATCH($A1292,$B$56:$B$1919,0))","v":{"$error":"#N/A"}},{"$f":"INDEX('Cleaned Data'!L:L,MATCH($A1292,$B$56:$B$1919,0))","v":{"$error":"#N/A"}}]
[1238,{"$f":"B1292+IF('Cleaned Data'!L1239>0,1,0)*IF($B$34=\"Overall\",1,IF('Cleaned Data'!K1239=$B$34,1,0))*(IF('Cleaned Data'!H1239<>\"\",1,0))","v":540},{"$f":"INDEX('Cleaned Data'!H:H,MATCH($A1293,$B$56:$B$1919,0))","v":{"$error":"#N/A"}},{"$f":"INDEX('Cleaned Data'!L:L,MATCH($A1293,$B$56:$B$1919,0))","v":{"$error":"#N/A"}}]
[1239,{"$f":"B1293+IF('Cleaned Data'!L1240>0,1,0)*IF($B$34=\"Overall\",1,IF('Cleaned Data'!K1240=$B$34,1,0))*(IF('Cleaned Data'!H1240<>\"\",1,0))","v":540},{"$f":"INDEX('Cleaned Data'!H:H,MATCH($A1294,$B$56:$B$1919,0))","v":{"$error":"#N/A"}},{"$f":"INDEX('Cleaned Data'!L:L,MATCH($A1294,$B$56:$B$1919,0))","v":{"$error":"#N/A"}}]
[1240,{"$f":"B1294+IF('Cleaned Data'!L1241>0,1,0)*IF($B$34=\"Overall\",1,IF('Cleaned Data'!K1241=$B$34,1,0))*(IF('Cleaned Data'!H1241<>\"\",1,0))","v":540},{"$f":"INDEX('Cleaned Data'!H:H,MATCH($A1295,$B$56:$B$1919,0))","v":{"$error":"#N/A"}},{"$f":"INDEX('Cleaned Data'!L:L,MATCH($A1295,$B$56:$B$1919,0))","v":{"$error":"#N/A"}}]
[1241,{"$f":"B1295+IF('Cleaned Data'!L1242>0,1,0)*IF($B$34=\"Overall\",1,IF('Cleaned Data'!K1242=$B$34,1,0))*(IF('Cleaned Data'!H1242<>\"\",1,0))","v":540},{"$f":"INDEX('Cleaned Data'!H:H,MATCH($A1296,$B$56:$B$1919,0))","v":{"$error":"#N/A"}},{"$f":"INDEX('Cleaned Data'!L:L,MATCH($A1296,$B$56:$B$1919,0))","v":{"$error":"#N/A"}}]
[1242,{"$f":"B1296+IF('Cleaned Data'!L1243>0,1,0)*IF($B$34=\"Overall\",1,IF('Cleaned Data'!K1243=$B$34,1,0))*(IF('Cleaned Data'!H1243<>\"\",1,0))","v":540},{"$f":"INDEX('Cleaned Data'!H:H,MATCH($A1297,$B$56:$B$1919,0))","v":{"$error":"#N/A"}},{"$f":"INDEX('Cleaned Data'!L:L,MATCH($A1297,$B$56:$B$1919,0))","v":{"$error":"#N/A"}}]
[1243,{"$f":"B1297+IF('Cleaned Data'!L1244>0,1,0)*IF($B$34=\"Overall\",1,IF('Cleaned Data'!K1244=$B$34,1,0))*(IF('Cleaned Data'!H1244<>\"\",1,0))","v":540},{"$f":"INDEX('Cleaned Data'!H:H,MATCH($A1298,$B$56:$B$1919,0))","v":{"$error":"#N/A"}},{"$f":"INDEX('Cleaned Data'!L:L,MATCH($A1298,$B$56:$B$1919,0))","v":{"$error":"#N/A"}}]
[1244,{"$f":"B1298+IF('Cleaned Data'!L1245>0,1,0)*IF($B$34=\"Overall\",1,IF('Cleaned Data'!K1245=$B$34,1,0))*(IF('Cleaned Data'!H1245<>\"\",1,0))","v":540},{"$f":"INDEX('Cleaned Data'!H:H,MATCH($A1299,$B$56:$B$1919,0))","v":{"$error":"#N/A"}},{"$f":"INDEX('Cleaned Data'!L:L,MATCH($A1299,$B$56:$B$1919,0))","v":{"$error":"#N/A"}}]
[1245,{"$f":"B1299+IF('Cleaned Data'!L1246>0,1,0)*IF($B$34=\"Overall\",1,IF('Cleaned Data'!K1246=$B$34,1,0))*(IF('Cleaned Data'!H1246<>\"\",1,0))","v":540},{"$f":"INDEX('Cleaned Data'!H:H,MATCH($A1300,$B$56:$B$1919,0))","v":{"$error":"#N/A"}},{"$f":"INDEX('Cleaned Data'!L:L,MATCH($A1300,$B$56:$B$1919,0))","v":{"$error":"#N/A"}}]
[1246,{"$f":"B1300+IF('Cleaned Data'!L1247>0,1,0)*IF($B$34=\"Overall\",1,IF('Cleaned Data'!K1247=$B$34,1,0))*(IF('Cleaned Data'!H1247<>\"\",1,0))","v":540},{"$f":"INDEX('Cleaned Data'!H:H,MATCH($A1301,$B$56:$B$1919,0))","v":{"$error":"#N/A"}},{"$f":"INDEX('Cleaned Data'!L:L,MATCH($A1301,$B$56:$B$1919,0))","v":{"$error":"#N/A"}}]
[1247,{"$f":"B1301+IF('Cleaned Data'!L1248>0,1,0)*IF($B$34=\"Overall\",1,IF('Cleaned Data'!K1248=$B$34,1,0))*(IF('Cleaned Data'!H1248<>\"\",1,0))","v":540},{"$f":"INDEX('Cleaned Data'!H:H,MATCH($A1302,$B$56:$B$1919,0))","v":{"$error":"#N/A"}},{"$f":"INDEX('Cleaned Data'!L:L,MATCH($A1302,$B$56:$B$1919,0))","v":{"$error":"#N/A"}}]
[1248,{"$f":"B1302+IF('Cleaned Data'!L1249>0,1,0)*IF($B$34=\"Overall\",1,IF('Cleaned Data'!K1249=$B$34,1,0))*(IF('Cleaned Data'!H1249<>\"\",1,0))","v":540},{"$f":"INDEX('Cleaned Data'!H:H,MATCH($A1303,$B$56:$B$1919,0))","v":{"$error":"#N/A"}},{"$f":"INDEX('Cleaned Data'!L:L,MATCH($A1303,$B$56:$B$1919,0))","v":{"$error":"#N/A"}}]
[1249,{"$f":"B1303+IF('Cleaned Data'!L1250>0,1,0)*IF($B$34=\"Overall\",1,IF('Cleaned Data'!K1250=$B$34,1,0))*(IF('Cleaned Data'!H1250<>\"\",1,0))","v":540},{"$f":"INDEX('Cleaned Data'!H:H,MATCH($A1304,$B$56:$B$1919,0))","v":{"$error":"#N/A"}},{"$f":"INDEX('Cleaned Data'!L:L,MATCH($A1304,$B$56:$B$1919,0))","v":{"$error":"#N/A"}}]
[1250,{"$f":"B1304+IF('Cleaned Data'!L1251>0,1,0)*IF($B$34=\"Overall\",1,IF('Cleaned Data'!K1251=$B$34,1,0))*(IF('Cleaned Data'!H1251<>\"\",1,0))","v":540},{"$f":"INDEX('Cleaned Data'!H:H,MATCH($A1305,$B$56:$B$1919,0))","v":{"$error":"#N/A"}},{"$f":"INDEX('Cleaned Data'!L:L,MATCH($A1305,$B$56:$B$1919,0))","v":{"$error":"#N/A"}}]
[1251,{"$f":"B1305+IF('Cleaned Data'!L1252>0,1,0)*IF($B$34=\"Overall\",1,IF('Cleaned Data'!K1252=$B$34,1,0))*(IF('Cleaned Data'!H1252<>\"\",1,0))","v":540},{"$f":"INDEX('Cleaned Data'!H:H,MATCH($A1306,$B$56:$B$1919,0))","v":{"$error":"#N/A"}},{"$f":"INDEX('Cleaned Data'!L:L,MATCH($A1306,$B$56:$B$1919,0))","v":{"$error":"#N/A"}}]
[1252,{"$f":"B1306+IF('Cleaned Data'!L1253>0,1,0)*IF($B$34=\"Overall\",1,IF('Cleaned Data'!K1253=$B$34,1,0))*(IF('Cleaned Data'!H1253<>\"\",1,0))","v":540},{"$f":"INDEX('Cleaned Data'!H:H,MATCH($A1307,$B$56:$B$1919,0))","v":{"$error":"#N/A"}},{"$f":"INDEX('Cleaned Data'!L:L,MATCH($A1307,$B$56:$B$1919,0))","v":{"$error":"#N/A"}}]
[1253,{"$f":"B1307+IF('Cleaned Data'!L1254>0,1,0)*IF($B$34=\"Overall\",1,IF('Cleaned Data'!K1254=$B$34,1,0))*(IF('Cleaned Data'!H1254<>\"\",1,0))","v":540},{"$f":"INDEX('Cleaned Data'!H:H,MATCH($A1308,$B$56:$B$1919,0))","v":{"$error":"#N/A"}},{"$f":"INDEX('Cleaned Data'!L:L,MATCH($A1308,$B$56:$B$1919,0))","v":{"$error":"#N/A"}}]
[1254,{"$f":"B1308+IF('Cleaned Data'!L1255>0,1,0)*IF($B$34=\"Overall\",1,IF('Cleaned Data'!K1255=$B$34,1,0))*(IF('Cleaned Data'!H1255<>\"\",1,0))","v":540},{"$f":"INDEX('Cleaned Data'!H:H,MATCH($A1309,$B$56:$B$1919,0))","v":{"$error":"#N/A"}},{"$f":"INDEX('Cleaned Data'!L:L,MATCH($A1309,$B$56:$B$1919,0))","v":{"$error":"#N/A"}}]
[1255,{"$f":"B1309+IF('Cleaned Data'!L1256>0,1,0)*IF($B$34=\"Overall\",1,IF('Cleaned Data'!K1256=$B$34,1,0))*(IF('Cleaned Data'!H1256<>\"\",1,0))","v":540},{"$f":"INDEX('Cleaned Data'!H:H,MATCH($A1310,$B$56:$B$1919,0))","v":{"$error":"#N/A"}},{"$f":"INDEX('Cleaned Data'!L:L,MATCH($A1310,$B$56:$B$1919,0))","v":{"$error":"#N/A"}}]
[1256,{"$f":"B1310+IF('Cleaned Data'!L1257>0,1,0)*IF($B$34=\"Overall\",1,IF('Cleaned Data'!K1257=$B$34,1,0))*(IF('Cleaned Data'!H1257<>\"\",1,0))","v":540},{"$f":"INDEX('Cleaned Data'!H:H,MATCH($A1311,$B$56:$B$1919,0))","v":{"$error":"#N/A"}},{"$f":"INDEX('Cleaned Data'!L:L,MATCH($A1311,$B$56:$B$1919,0))","v":{"$error":"#N/A"}}]
[1257,{"$f":"B1311+IF('Cleaned Data'!L1258>0,1,0)*IF($B$34=\"Overall\",1,IF('Cleaned Data'!K1258=$B$34,1,0))*(IF('Cleaned Data'!H1258<>\"\",1,0))","v":540},{"$f":"INDEX('Cleaned Data'!H:H,MATCH($A1312,$B$56:$B$1919,0))","v":{"$error":"#N/A"}},{"$f":"INDEX('Cleaned Data'!L:L,MATCH($A1312,$B$56:$B$1919,0))","v":{"$error":"#N/A"}}]
[1258,{"$f":"B1312+IF('Cleaned Data'!L1259>0,1,0)*IF($B$34=\"Overall\",1,IF('Cleaned Data'!K1259=$B$34,1,0))*(IF('Cleaned Data'!H1259<>\"\",1,0))","v":540},{"$f":"INDEX('Cleaned Data'!H:H,MATCH($A1313,$B$56:$B$1919,0))","v":{"$error":"#N/A"}},{"$f":"INDEX('Cleaned Data'!L:L,MATCH($A1313,$B$56:$B$1919,0))","v":{"$error":"#N/A"}}]
[1259,{"$f":"B1313+IF('Cleaned Data'!L1260>0,1,0)*IF($B$34=\"Overall\",1,IF('Cleaned Data'!K1260=$B$34,1,0))*(IF('Cleaned Data'!H1260<>\"\",1,0))","v":540},{"$f":"INDEX('Cleaned Data'!H:H,MATCH($A1314,$B$56:$B$1919,0))","v":{"$error":"#N/A"}},{"$f":"INDEX('Cleaned Data'!L:L,MATCH($A1314,$B$56:$B$1919,0))","v":{"$error":"#N/A"}}]
[1260,{"$f":"B1314+IF('Cleaned Data'!L1261>0,1,0)*IF($B$34=\"Overall\",1,IF('Cleaned Data'!K1261=$B$34,1,0))*(IF('Cleaned Data'!H1261<>\"\",1,0))","v":540},{"$f":"INDEX('Cleaned Data'!H:H,MATCH($A1315,$B$56:$B$1919,0))","v":{"$error":"#N/A"}},{"$f":"INDEX('Cleaned Data'!L:L,MATCH($A1315,$B$56:$B$1919,0))","v":{"$error":"#N/A"}}]
[1261,{"$f":"B1315+IF('Cleaned Data'!L1262>0,1,0)*IF($B$34=\"Overall\",1,IF('Cleaned Data'!K1262=$B$34,1,0))*(IF('Cleaned Data'!H1262<>\"\",1,0))","v":540},{"$f":"INDEX('Cleaned Data'!H:H,MATCH($A1316,$B$56:$B$1919,0))","v":{"$error":"#N/A"}},{"$f":"INDEX('Cleaned Data'!L:L,MATCH($A1316,$B$56:$B$1919,0))","v":{"$error":"#N/A"}}]
[1262,{"$f":"B1316+IF('Cleaned Data'!L1263>0,1,0)*IF($B$34=\"Overall\",1,IF('Cleaned Data'!K1263=$B$34,1,0))*(IF('Cleaned Data'!H1263<>\"\",1,0))","v":540},{"$f":"INDEX('Cleaned Data'!H:H,MATCH($A1317,$B$56:$B$1919,0))","v":{"$error":"#N/A"}},{"$f":"INDEX('Cleaned Data'!L:L,MATCH($A1317,$B$56:$B$1919,0))","v":{"$error":"#N/A"}}]
[1263,{"$f":"B1317+IF('Cleaned Data'!L1264>0,1,0)*IF($B$34=\"Overall\",1,IF('Cleaned Data'!K1264=$B$34,1,0))*(IF('Cleaned Data'!H1264<>\"\",1,0))","v":540},{"$f":"INDEX('Cleaned Data'!H:H,MATCH($A1318,$B$56:$B$1919,0))","v":{"$error":"#N/A"}},{"$f":"INDEX('Cleaned Data'!L:L,MATCH($A1318,$B$56:$B$1919,0))","v":{"$error":"#N/A"}}]
[1264,{"$f":"B1318+IF('Cleaned Data'!L1265>0,1,0)*IF($B$34=\"Overall\",1,IF('Cleaned Data'!K1265=$B$34,1,0))*(IF('Cleaned Data'!H1265<>\"\",1,0))","v":540},{"$f":"INDEX('Cleaned Data'!H:H,MATCH($A1319,$B$56:$B$1919,0))","v":{"$error":"#N/A"}},{"$f":"INDEX('Cleaned Data'!L:L,MATCH($A1319,$B$56:$B$1919,0))","v":{"$error":"#N/A"}}]
[1265,{"$f":"B1319+IF('Cleaned Data'!L1266>0,1,0)*IF($B$34=\"Overall\",1,IF('Cleaned Data'!K1266=$B$34,1,0))*(IF('Cleaned Data'!H1266<>\"\",1,0))","v":540},{"$f":"INDEX('Cleaned Data'!H:H,MATCH($A1320,$B$56:$B$1919,0))","v":{"$error":"#N/A"}},{"$f":"INDEX('Cleaned Data'!L:L,MATCH($A1320,$B$56:$B$1919,0))","v":{"$error":"#N/A"}}]
[1266,{"$f":"B1320+IF('Cleaned Data'!L1267>0,1,0)*IF($B$34=\"Overall\",1,IF('Cleaned Data'!K1267=$B$34,1,0))*(IF('Cleaned Data'!H1267<>\"\",1,0))","v":540},{"$f":"INDEX('Cleaned Data'!H:H,MATCH($A1321,$B$56:$B$1919,0))","v":{"$error":"#N/A"}},{"$f":"INDEX('Cleaned Data'!L:L,MATCH($A1321,$B$56:$B$1919,0))","v":{"$error":"#N/A"}}]
[1267,{"$f":"B1321+IF('Cleaned Data'!L1268>0,1,0)*IF($B$34=\"Overall\",1,IF('Cleaned Data'!K1268=$B$34,1,0))*(IF('Cleaned Data'!H1268<>\"\",1,0))","v":540},{"$f":"INDEX('Cleaned Data'!H:H,MATCH($A1322,$B$56:$B$1919,0))","v":{"$error":"#N/A"}},{"$f":"INDEX('Cleaned Data'!L:L,MATCH($A1322,$B$56:$B$1919,0))","v":{"$error":"#N/A"}}]
[1268,{"$f":"B1322+IF('Cleaned Data'!L1269>0,1,0)*IF($B$34=\"Overall\",1,IF('Cleaned Data'!K1269=$B$34,1,0))*(IF('Cleaned Data'!H1269<>\"\",1,0))","v":540},{"$f":"INDEX('Cleaned Data'!H:H,MATCH($A1323,$B$56:$B$1919,0))","v":{"$error":"#N/A"}},{"$f":"INDEX('Cleaned Data'!L:L,MATCH($A1323,$B$56:$B$1919,0))","v":{"$error":"#N/A"}}]
[1269,{"$f":"B1323+IF('Cleaned Data'!L1270>0,1,0)*IF($B$34=\"Overall\",1,IF('Cleaned Data'!K1270=$B$34,1,0))*(IF('Cleaned Data'!H1270<>\"\",1,0))","v":540},{"$f":"INDEX('Cleaned Data'!H:H,MATCH($A1324,$B$56:$B$1919,0))","v":{"$error":"#N/A"}},{"$f":"INDEX('Cleaned Data'!L:L,MATCH($A1324,$B$56:$B$1919,0))","v":{"$error":"#N/A"}}]
[1270,{"$f":"B1324+IF('Cleaned Data'!L1271>0,1,0)*IF($B$34=\"Overall\",1,IF('Cleaned Data'!K1271=$B$34,1,0))*(IF('Cleaned Data'!H1271<>\"\",1,0))","v":540},{"$f":"INDEX('Cleaned Data'!H:H,MATCH($A1325,$B$56:$B$1919,0))","v":{"$error":"#N/A"}},{"$f":"INDEX('Cleaned Data'!L:L,MATCH($A1325,$B$56:$B$1919,0))","v":{"$error":"#N/A"}}]
[1271,{"$f":"B1325+IF('Cleaned Data'!L1272>0,1,0)*IF($B$34=\"Overall\",1,IF('Cleaned Data'!K1272=$B$34,1,0))*(IF('Cleaned Data'!H1272<>\"\",1,0))","v":540},{"$f":"INDEX('Cleaned Data'!H:H,MATCH($A1326,$B$56:$B$1919,0))","v":{"$error":"#N/A"}},{"$f":"INDEX('Cleaned Data'!L:L,MATCH($A1326,$B$56:$B$1919,0))","v":{"$error":"#N/A"}}]
[1272,{"$f":"B1326+IF('Cleaned Data'!L1273>0,1,0)*IF($B$34=\"Overall\",1,IF('Cleaned Data'!K1273=$B$34,1,0))*(IF('Cleaned Data'!H1273<>\"\",1,0))","v":540},{"$f":"INDEX('Cleaned Data'!H:H,MATCH($A1327,$B$56:$B$1919,0))","v":{"$error":"#N/A"}},{"$f":"INDEX('Cleaned Data'!L:L,MATCH($A1327,$B$56:$B$1919,0))","v":{"$error":"#N/A"}}]
[1273,{"$f":"B1327+IF('Cleaned Data'!L1274>0,1,0)*IF($B$34=\"Overall\",1,IF('Cleaned Data'!K1274=$B$34,1,0))*(IF('Cleaned Data'!H1274<>\"\",1,0))","v":540},{"$f":"INDEX('Cleaned Data'!H:H,MATCH($A1328,$B$56:$B$1919,0))","v":{"$error":"#N/A"}},{"$f":"INDEX('Cleaned Data'!L:L,MATCH($A1328,$B$56:$B$1919,0))","v":{"$error":"#N/A"}}]
[1274,{"$f":"B1328+IF('Cleaned Data'!L1275>0,1,0)*IF($B$34=\"Overall\",1,IF('Cleaned Data'!K1275=$B$34,1,0))*(IF('Cleaned Data'!H1275<>\"\",1,0))","v":540},{"$f":"INDEX('Cleaned Data'!H:H,MATCH($A1329,$B$56:$B$1919,0))","v":{"$error":"#N/A"}},{"$f":"INDEX('Cleaned Data'!L:L,MATCH($A1329,$B$56:$B$1919,0))","v":{"$error":"#N/A"}}]
[1275,{"$f":"B1329+IF('Cleaned Data'!L1276>0,1,0)*IF($B$34=\"Overall\",1,IF('Cleaned Data'!K1276=$B$34,1,0))*(IF('Cleaned Data'!H1276<>\"\",1,0))","v":540},{"$f":"INDEX('Cleaned Data'!H:H,MATCH($A1330,$B$56:$B$1919,0))","v":{"$error":"#N/A"}},{"$f":"INDEX('Cleaned Data'!L:L,MATCH($A1330,$B$56:$B$1919,0))","v":{"$error":"#N/A"}}]
[1276,{"$f":"B1330+IF('Cleaned Data'!L1277>0,1,0)*IF($B$34=\"Overall\",1,IF('Cleaned Data'!K1277=$B$34,1,0))*(IF('Cleaned Data'!H1277<>\"\",1,0))","v":540},{"$f":"INDEX('Cleaned Data'!H:H,MATCH($A1331,$B$56:$B$1919,0))","v":{"$error":"#N/A"}},{"$f":"INDEX('Cleaned Data'!L:L,MATCH($A1331,$B$56:$B$1919,0))","v":{"$error":"#N/A"}}]
[1277,{"$f":"B1331+IF('Cleaned Data'!L1278>0,1,0)*IF($B$34=\"Overall\",1,IF('Cleaned Data'!K1278=$B$34,1,0))*(IF('Cleaned Data'!H1278<>\"\",1,0))","v":540},{"$f":"INDEX('Cleaned Data'!H:H,MATCH($A1332,$B$56:$B$1919,0))","v":{"$error":"#N/A"}},{"$f":"INDEX('Cleaned Data'!L:L,MATCH($A1332,$B$56:$B$1919,0))","v":{"$error":"#N/A"}}]
[1278,{"$f":"B1332+IF('Cleaned Data'!L1279>0,1,0)*IF($B$34=\"Overall\",1,IF('Cleaned Data'!K1279=$B$34,1,0))*(IF('Cleaned Data'!H1279<>\"\",1,0))","v":540},{"$f":"INDEX('Cleaned Data'!H:H,MATCH($A1333,$B$56:$B$1919,0))","v":{"$error":"#N/A"}},{"$f":"INDEX('Cleaned Data'!L:L,MATCH($A1333,$B$56:$B$1919,0))","v":{"$error":"#N/A"}}]
[1279,{"$f":"B1333+IF('Cleaned Data'!L1280>0,1,0)*IF($B$34=\"Overall\",1,IF('Cleaned Data'!K1280=$B$34,1,0))*(IF('Cleaned Data'!H1280<>\"\",1,0))","v":540},{"$f":"INDEX('Cleaned Data'!H:H,MATCH($A1334,$B$56:$B$1919,0))","v":{"$error":"#N/A"}},{"$f":"INDEX('Cleaned Data'!L:L,MATCH($A1334,$B$56:$B$1919,0))","v":{"$error":"#N/A"}}]
[1280,{"$f":"B1334+IF('Cleaned Data'!L1281>0,1,0)*IF($B$34=\"Overall\",1,IF('Cleaned Data'!K1281=$B$34,1,0))*(IF('Cleaned Data'!H1281<>\"\",1,0))","v":540},{"$f":"INDEX('Cleaned Data'!H:H,MATCH($A1335,$B$56:$B$1919,0))","v":{"$error":"#N/A"}},{"$f":"INDEX('Cleaned Data'!L:L,MATCH($A1335,$B$56:$B$1919,0))","v":{"$error":"#N/A"}}]
[1281,{"$f":"B1335+IF('Cleaned Data'!L1282>0,1,0)*IF($B$34=\"Overall\",1,IF('Cleaned Data'!K1282=$B$34,1,0))*(IF('Cleaned Data'!H1282<>\"\",1,0))","v":540},{"$f":"INDEX('Cleaned Data'!H:H,MATCH($A1336,$B$56:$B$1919,0))","v":{"$error":"#N/A"}},{"$f":"INDEX('Cleaned Data'!L:L,MATCH($A1336,$B$56:$B$1919,0))","v":{"$error":"#N/A"}}]
[1282,{"$f":"B1336+IF('Cleaned Data'!L1283>0,1,0)*IF($B$34=\"Overall\",1,IF('Cleaned Data'!K1283=$B$34,1,0))*(IF('Cleaned Data'!H1283<>\"\",1,0))","v":540},{"$f":"INDEX('Cleaned Data'!H:H,MATCH($A1337,$B$56:$B$1919,0))","v":{"$error":"#N/A"}},{"$f":"INDEX('Cleaned Data'!L:L,MATCH($A1337,$B$56:$B$1919,0))","v":{"$error":"#N/A"}}]
[1283,{"$f":"B1337+IF('Cleaned Data'!L1284>0,1,0)*IF($B$34=\"Overall\",1,IF('Cleaned Data'!K1284=$B$34,1,0))*(IF('Cleaned Data'!H1284<>\"\",1,0))","v":540},{"$f":"INDEX('Cleaned Data'!H:H,MATCH($A1338,$B$56:$B$1919,0))","v":{"$error":"#N/A"}},{"$f":"INDEX('Cleaned Data'!L:L,MATCH($A1338,$B$56:$B$1919,0))","v":{"$error":"#N/A"}}]
[1284,{"$f":"B1338+IF('Cleaned Data'!L1285>0,1,0)*IF($B$34=\"Overall\",1,IF('Cleaned Data'!K1285=$B$34,1,0))*(IF('Cleaned Data'!H1285<>\"\",1,0))","v":540},{"$f":"INDEX('Cleaned Data'!H:H,MATCH($A1339,$B$56:$B$1919,0))","v":{"$error":"#N/A"}},{"$f":"INDEX('Cleaned Data'!L:L,MATCH($A1339,$B$56:$B$1919,0))","v":{"$error":"#N/A"}}]
[1285,{"$f":"B1339+IF('Cleaned Data'!L1286>0,1,0)*IF($B$34=\"Overall\",1,IF('Cleaned Data'!K1286=$B$34,1,0))*(IF('Cleaned Data'!H1286<>\"\",1,0))","v":540},{"$f":"INDEX('Cleaned Data'!H:H,MATCH($A1340,$B$56:$B$1919,0))","v":{"$error":"#N/A"}},{"$f":"INDEX('Cleaned Data'!L:L,MATCH($A1340,$B$56:$B$1919,0))","v":{"$error":"#N/A"}}]
[1286,{"$f":"B1340+IF('Cleaned Data'!L1287>0,1,0)*IF($B$34=\"Overall\",1,IF('Cleaned Data'!K1287=$B$34,1,0))*(IF('Cleaned Data'!H1287<>\"\",1,0))","v":540},{"$f":"INDEX('Cleaned Data'!H:H,MATCH($A1341,$B$56:$B$1919,0))","v":{"$error":"#N/A"}},{"$f":"INDEX('Cleaned Data'!L:L,MATCH($A1341,$B$56:$B$1919,0))","v":{"$error":"#N/A"}}]
[1287,{"$f":"B1341+IF('Cleaned Data'!L1288>0,1,0)*IF($B$34=\"Overall\",1,IF('Cleaned Data'!K1288=$B$34,1,0))*(IF('Cleaned Data'!H1288<>\"\",1,0))","v":540},{"$f":"INDEX('Cleaned Data'!H:H,MATCH($A1342,$B$56:$B$1919,0))","v":{"$error":"#N/A"}},{"$f":"INDEX('Cleaned Data'!L:L,MATCH($A1342,$B$56:$B$1919,0))","v":{"$error":"#N/A"}}]
[1288,{"$f":"B1342+IF('Cleaned Data'!L1289>0,1,0)*IF($B$34=\"Overall\",1,IF('Cleaned Data'!K1289=$B$34,1,0))*(IF('Cleaned Data'!H1289<>\"\",1,0))","v":540},{"$f":"INDEX('Cleaned Data'!H:H,MATCH($A1343,$B$56:$B$1919,0))","v":{"$error":"#N/A"}},{"$f":"INDEX('Cleaned Data'!L:L,MATCH($A1343,$B$56:$B$1919,0))","v":{"$error":"#N/A"}}]
[1289,{"$f":"B1343+IF('Cleaned Data'!L1290>0,1,0)*IF($B$34=\"Overall\",1,IF('Cleaned Data'!K1290=$B$34,1,0))*(IF('Cleaned Data'!H1290<>\"\",1,0))","v":540},{"$f":"INDEX('Cleaned Data'!H:H,MATCH($A1344,$B$56:$B$1919,0))","v":{"$error":"#N/A"}},{"$f":"INDEX('Cleaned Data'!L:L,MATCH($A1344,$B$56:$B$1919,0))","v":{"$error":"#N/A"}}]
[1290,{"$f":"B1344+IF('Cleaned Data'!L1291>0,1,0)*IF($B$34=\"Overall\",1,IF('Cleaned Data'!K1291=$B$34,1,0))*(IF('Cleaned Data'!H1291<>\"\",1,0))","v":540},{"$f":"INDEX('Cleaned Data'!H:H,MATCH($A1345,$B$56:$B$1919,0))","v":{"$error":"#N/A"}},{"$f":"INDEX('Cleaned Data'!L:L,MATCH($A1345,$B$56:$B$1919,0))","v":{"$error":"#N/A"}}]
[1291,{"$f":"B1345+IF('Cleaned Data'!L1292>0,1,0)*IF($B$34=\"Overall\",1,IF('Cleaned Data'!K1292=$B$34,1,0))*(IF('Cleaned Data'!H1292<>\"\",1,0))","v":540},{"$f":"INDEX('Cleaned Data'!H:H,MATCH($A1346,$B$56:$B$1919,0))","v":{"$error":"#N/A"}},{"$f":"INDEX('Cleaned Data'!L:L,MATCH($A1346,$B$56:$B$1919,0))","v":{"$error":"#N/A"}}]
[1292,{"$f":"B1346+IF('Cleaned Data'!L1293>0,1,0)*IF($B$34=\"Overall\",1,IF('Cleaned Data'!K1293=$B$34,1,0))*(IF('Cleaned Data'!H1293<>\"\",1,0))","v":540},{"$f":"INDEX('Cleaned Data'!H:H,MATCH($A1347,$B$56:$B$1919,0))","v":{"$error":"#N/A"}},{"$f":"INDEX('Cleaned Data'!L:L,MATCH($A1347,$B$56:$B$1919,0))","v":{"$error":"#N/A"}}]
[1293,{"$f":"B1347+IF('Cleaned Data'!L1294>0,1,0)*IF($B$34=\"Overall\",1,IF('Cleaned Data'!K1294=$B$34,1,0))*(IF('Cleaned Data'!H1294<>\"\",1,0))","v":540},{"$f":"INDEX('Cleaned Data'!H:H,MATCH($A1348,$B$56:$B$1919,0))","v":{"$error":"#N/A"}},{"$f":"INDEX('Cleaned Data'!L:L,MATCH($A1348,$B$56:$B$1919,0))","v":{"$error":"#N/A"}}]
[1294,{"$f":"B1348+IF('Cleaned Data'!L1295>0,1,0)*IF($B$34=\"Overall\",1,IF('Cleaned Data'!K1295=$B$34,1,0))*(IF('Cleaned Data'!H1295<>\"\",1,0))","v":540},{"$f":"INDEX('Cleaned Data'!H:H,MATCH($A1349,$B$56:$B$1919,0))","v":{"$error":"#N/A"}},{"$f":"INDEX('Cleaned Data'!L:L,MATCH($A1349,$B$56:$B$1919,0))","v":{"$error":"#N/A"}}]
[1295,{"$f":"B1349+IF('Cleaned Data'!L1296>0,1,0)*IF($B$34=\"Overall\",1,IF('Cleaned Data'!K1296=$B$34,1,0))*(IF('Cleaned Data'!H1296<>\"\",1,0))","v":540},{"$f":"INDEX('Cleaned Data'!H:H,MATCH($A1350,$B$56:$B$1919,0))","v":{"$error":"#N/A"}},{"$f":"INDEX('Cleaned Data'!L:L,MATCH($A1350,$B$56:$B$1919,0))","v":{"$error":"#N/A"}}]
[1296,{"$f":"B1350+IF('Cleaned Data'!L1297>0,1,0)*IF($B$34=\"Overall\",1,IF('Cleaned Data'!K1297=$B$34,1,0))*(IF('Cleaned Data'!H1297<>\"\",1,0))","v":540},{"$f":"INDEX('Cleaned Data'!H:H,MATCH($A1351,$B$56:$B$1919,0))","v":{"$error":"#N/A"}},{"$f":"INDEX('Cleaned Data'!L:L,MATCH($A1351,$B$56:$B$1919,0))","v":{"$error":"#N/A"}}]
[1297,{"$f":"B1351+IF('Cleaned Data'!L1298>0,1,0)*IF($B$34=\"Overall\",1,IF('Cleaned Data'!K1298=$B$34,1,0))*(IF('Cleaned Data'!H1298<>\"\",1,0))","v":540},{"$f":"INDEX('Cleaned Data'!H:H,MATCH($A1352,$B$56:$B$1919,0))","v":{"$error":"#N/A"}},{"$f":"INDEX('Cleaned Data'!L:L,MATCH($A1352,$B$56:$B$1919,0))","v":{"$error":"#N/A"}}]
[1298,{"$f":"B1352+IF('Cleaned Data'!L1299>0,1,0)*IF($B$34=\"Overall\",1,IF('Cleaned Data'!K1299=$B$34,1,0))*(IF('Cleaned Data'!H1299<>\"\",1,0))","v":540},{"$f":"INDEX('Cleaned Data'!H:H,MATCH($A1353,$B$56:$B$1919,0))","v":{"$error":"#N/A"}},{"$f":"INDEX('Cleaned Data'!L:L,MATCH($A1353,$B$56:$B$1919,0))","v":{"$error":"#N/A"}}]
[1299,{"$f":"B1353+IF('Cleaned Data'!L1300>0,1,0)*IF($B$34=\"Overall\",1,IF('Cleaned Data'!K1300=$B$34,1,0))*(IF('Cleaned Data'!H1300<>\"\",1,0))","v":540},{"$f":"INDEX('Cleaned Data'!H:H,MATCH($A1354,$B$56:$B$1919,0))","v":{"$error":"#N/A"}},{"$f":"INDEX('Cleaned Data'!L:L,MATCH($A1354,$B$56:$B$1919,0))","v":{"$error":"#N/A"}}]
[1300,{"$f":"B1354+IF('Cleaned Data'!L1301>0,1,0)*IF($B$34=\"Overall\",1,IF('Cleaned Data'!K1301=$B$34,1,0))*(IF('Cleaned Data'!H1301<>\"\",1,0))","v":540},{"$f":"INDEX('Cleaned Data'!H:H,MATCH($A1355,$B$56:$B$1919,0))","v":{"$error":"#N/A"}},{"$f":"INDEX('Cleaned Data'!L:L,MATCH($A1355,$B$56:$B$1919,0))","v":{"$error":"#N/A"}}]
[1301,{"$f":"B1355+IF('Cleaned Data'!L1302>0,1,0)*IF($B$34=\"Overall\",1,IF('Cleaned Data'!K1302=$B$34,1,0))*(IF('Cleaned Data'!H1302<>\"\",1,0))","v":540},{"$f":"INDEX('Cleaned Data'!H:H,MATCH($A1356,$B$56:$B$1919,0))","v":{"$error":"#N/A"}},{"$f":"INDEX('Cleaned Data'!L:L,MATCH($A1356,$B$56:$B$1919,0))","v":{"$error":"#N/A"}}]
[1302,{"$f":"B1356+IF('Cleaned Data'!L1303>0,1,0)*IF($B$34=\"Overall\",1,IF('Cleaned Data'!K1303=$B$34,1,0))*(IF('Cleaned Data'!H1303<>\"\",1,0))","v":540},{"$f":"INDEX('Cleaned Data'!H:H,MATCH($A1357,$B$56:$B$1919,0))","v":{"$error":"#N/A"}},{"$f":"INDEX('Cleaned Data'!L:L,MATCH($A1357,$B$56:$B$1919,0))","v":{"$error":"#N/A"}}]
[1303,{"$f":"B1357+IF('Cleaned Data'!L1304>0,1,0)*IF($B$34=\"Overall\",1,IF('Cleaned Data'!K1304=$B$34,1,0))*(IF('Cleaned Data'!H1304<>\"\",1,0))","v":540},{"$f":"INDEX('Cleaned Data'!H:H,MATCH($A1358,$B$56:$B$1919,0))","v":{"$error":"#N/A"}},{"$f":"INDEX('Cleaned Data'!L:L,MATCH($A1358,$B$56:$B$1919,0))","v":{"$error":"#N/A"}}]
[1304,{"$f":"B1358+IF('Cleaned Data'!L1305>0,1,0)*IF($B$34=\"Overall\",1,IF('Cleaned Data'!K1305=$B$34,1,0))*(IF('Cleaned Data'!H1305<>\"\",1,0))","v":540},{"$f":"INDEX('Cleaned Data'!H:H,MATCH($A1359,$B$56:$B$1919,0))","v":{"$error":"#N/A"}},{"$f":"INDEX('Cleaned Data'!L:L,MATCH($A1359,$B$56:$B$1919,0))","v":{"$error":"#N/A"}}]
[1305,{"$f":"B1359+IF('Cleaned Data'!L1306>0,1,0)*IF($B$34=\"Overall\",1,IF('Cleaned Data'!K1306=$B$34,1,0))*(IF('Cleaned Data'!H1306<>\"\",1,0))","v":540},{"$f":"INDEX('Cleaned Data'!H:H,MATCH($A1360,$B$56:$B$1919,0))","v":{"$error":"#N/A"}},{"$f":"INDEX('Cleaned Data'!L:L,MATCH($A1360,$B$56:$B$1919,0))","v":{"$error":"#N/A"}}]
[1306,{"$f":"B1360+IF('Cleaned Data'!L1307>0,1,0)*IF($B$34=\"Overall\",1,IF('Cleaned Data'!K1307=$B$34,1,0))*(IF('Cleaned Data'!H1307<>\"\",1,0))","v":540},{"$f":"INDEX('Cleaned Data'!H:H,MATCH($A1361,$B$56:$B$1919,0))","v":{"$error":"#N/A"}},{"$f":"INDEX('Cleaned Data'!L:L,MATCH($A1361,$B$56:$B$1919,0))","v":{"$error":"#N/A"}}]
[1307,{"$f":"B1361+IF('Cleaned Data'!L1308>0,1,0)*IF($B$34=\"Overall\",1,IF('Cleaned Data'!K1308=$B$34,1,0))*(IF('Cleaned Data'!H1308<>\"\",1,0))","v":540},{"$f":"INDEX('Cleaned Data'!H:H,MATCH($A1362,$B$56:$B$1919,0))","v":{"$error":"#N/A"}},{"$f":"INDEX('Cleaned Data'!L:L,MATCH($A1362,$B$56:$B$1919,0))","v":{"$error":"#N/A"}}]
[1308,{"$f":"B1362+IF('Cleaned Data'!L1309>0,1,0)*IF($B$34=\"Overall\",1,IF('Cleaned Data'!K1309=$B$34,1,0))*(IF('Cleaned Data'!H1309<>\"\",1,0))","v":540},{"$f":"INDEX('Cleaned Data'!H:H,MATCH($A1363,$B$56:$B$1919,0))","v":{"$error":"#N/A"}},{"$f":"INDEX('Cleaned Data'!L:L,MATCH($A1363,$B$56:$B$1919,0))","v":{"$error":"#N/A"}}]
[1309,{"$f":"B1363+IF('Cleaned Data'!L1310>0,1,0)*IF($B$34=\"Overall\",1,IF('Cleaned Data'!K1310=$B$34,1,0))*(IF('Cleaned Data'!H1310<>\"\",1,0))","v":540},{"$f":"INDEX('Cleaned Data'!H:H,MATCH($A1364,$B$56:$B$1919,0))","v":{"$error":"#N/A"}},{"$f":"INDEX('Cleaned Data'!L:L,MATCH($A1364,$B$56:$B$1919,0))","v":{"$error":"#N/A"}}]
[1310,{"$f":"B1364+IF('Cleaned Data'!L1311>0,1,0)*IF($B$34=\"Overall\",1,IF('Cleaned Data'!K1311=$B$34,1,0))*(IF('Cleaned Data'!H1311<>\"\",1,0))","v":540},{"$f":"INDEX('Cleaned Data'!H:H,MATCH($A1365,$B$56:$B$1919,0))","v":{"$error":"#N/A"}},{"$f":"INDEX('Cleaned Data'!L:L,MATCH($A1365,$B$56:$B$1919,0))","v":{"$error":"#N/A"}}]
[1311,{"$f":"B1365+IF('Cleaned Data'!L1312>0,1,0)*IF($B$34=\"Overall\",1,IF('Cleaned Data'!K1312=$B$34,1,0))*(IF('Cleaned Data'!H1312<>\"\",1,0))","v":540},{"$f":"INDEX('Cleaned Data'!H:H,MATCH($A1366,$B$56:$B$1919,0))","v":{"$error":"#N/A"}},{"$f":"INDEX('Cleaned Data'!L:L,MATCH($A1366,$B$56:$B$1919,0))","v":{"$error":"#N/A"}}]
[1312,{"$f":"B1366+IF('Cleaned Data'!L1313>0,1,0)*IF($B$34=\"Overall\",1,IF('Cleaned Data'!K1313=$B$34,1,0))*(IF('Cleaned Data'!H1313<>\"\",1,0))","v":540},{"$f":"INDEX('Cleaned Data'!H:H,MATCH($A1367,$B$56:$B$1919,0))","v":{"$error":"#N/A"}},{"$f":"INDEX('Cleaned Data'!L:L,MATCH($A1367,$B$56:$B$1919,0))","v":{"$error":"#N/A"}}]
[1313,{"$f":"B1367+IF('Cleaned Data'!L1314>0,1,0)*IF($B$34=\"Overall\",1,IF('Cleaned Data'!K1314=$B$34,1,0))*(IF('Cleaned Data'!H1314<>\"\",1,0))","v":540},{"$f":"INDEX('Cleaned Data'!H:H,MATCH($A1368,$B$56:$B$1919,0))","v":{"$error":"#N/A"}},{"$f":"INDEX('Cleaned Data'!L:L,MATCH($A1368,$B$56:$B$1919,0))","v":{"$error":"#N/A"}}]
[1314,{"$f":"B1368+IF('Cleaned Data'!L1315>0,1,0)*IF($B$34=\"Overall\",1,IF('Cleaned Data'!K1315=$B$34,1,0))*(IF('Cleaned Data'!H1315<>\"\",1,0))","v":540},{"$f":"INDEX('Cleaned Data'!H:H,MATCH($A1369,$B$56:$B$1919,0))","v":{"$error":"#N/A"}},{"$f":"INDEX('Cleaned Data'!L:L,MATCH($A1369,$B$56:$B$1919,0))","v":{"$error":"#N/A"}}]
[1315,{"$f":"B1369+IF('Cleaned Data'!L1316>0,1,0)*IF($B$34=\"Overall\",1,IF('Cleaned Data'!K1316=$B$34,1,0))*(IF('Cleaned Data'!H1316<>\"\",1,0))","v":540},{"$f":"INDEX('Cleaned Data'!H:H,MATCH($A1370,$B$56:$B$1919,0))","v":{"$error":"#N/A"}},{"$f":"INDEX('Cleaned Data'!L:L,MATCH($A1370,$B$56:$B$1919,0))","v":{"$error":"#N/A"}}]
[1316,{"$f":"B1370+IF('Cleaned Data'!L1317>0,1,0)*IF($B$34=\"Overall\",1,IF('Cleaned Data'!K1317=$B$34,1,0))*(IF('Cleaned Data'!H1317<>\"\",1,0))","v":540},{"$f":"INDEX('Cleaned Data'!H:H,MATCH($A1371,$B$56:$B$1919,0))","v":{"$error":"#N/A"}},{"$f":"INDEX('Cleaned Data'!L:L,MATCH($A1371,$B$56:$B$1919,0))","v":{"$error":"#N/A"}}]
[1317,{"$f":"B1371+IF('Cleaned Data'!L1318>0,1,0)*IF($B$34=\"Overall\",1,IF('Cleaned Data'!K1318=$B$34,1,0))*(IF('Cleaned Data'!H1318<>\"\",1,0))","v":540},{"$f":"INDEX('Cleaned Data'!H:H,MATCH($A1372,$B$56:$B$1919,0))","v":{"$error":"#N/A"}},{"$f":"INDEX('Cleaned Data'!L:L,MATCH($A1372,$B$56:$B$1919,0))","v":{"$error":"#N/A"}}]
[1318,{"$f":"B1372+IF('Cleaned Data'!L1319>0,1,0)*IF($B$34=\"Overall\",1,IF('Cleaned Data'!K1319=$B$34,1,0))*(IF('Cleaned Data'!H1319<>\"\",1,0))","v":540},{"$f":"INDEX('Cleaned Data'!H:H,MATCH($A1373,$B$56:$B$1919,0))","v":{"$error":"#N/A"}},{"$f":"INDEX('Cleaned Data'!L:L,MATCH($A1373,$B$56:$B$1919,0))","v":{"$error":"#N/A"}}]
[1319,{"$f":"B1373+IF('Cleaned Data'!L1320>0,1,0)*IF($B$34=\"Overall\",1,IF('Cleaned Data'!K1320=$B$34,1,0))*(IF('Cleaned Data'!H1320<>\"\",1,0))","v":540},{"$f":"INDEX('Cleaned Data'!H:H,MATCH($A1374,$B$56:$B$1919,0))","v":{"$error":"#N/A"}},{"$f":"INDEX('Cleaned Data'!L:L,MATCH($A1374,$B$56:$B$1919,0))","v":{"$error":"#N/A"}}]
[1320,{"$f":"B1374+IF('Cleaned Data'!L1321>0,1,0)*IF($B$34=\"Overall\",1,IF('Cleaned Data'!K1321=$B$34,1,0))*(IF('Cleaned Data'!H1321<>\"\",1,0))","v":540},{"$f":"INDEX('Cleaned Data'!H:H,MATCH($A1375,$B$56:$B$1919,0))","v":{"$error":"#N/A"}},{"$f":"INDEX('Cleaned Data'!L:L,MATCH($A1375,$B$56:$B$1919,0))","v":{"$error":"#N/A"}}]
[1321,{"$f":"B1375+IF('Cleaned Data'!L1322>0,1,0)*IF($B$34=\"Overall\",1,IF('Cleaned Data'!K1322=$B$34,1,0))*(IF('Cleaned Data'!H1322<>\"\",1,0))","v":540},{"$f":"INDEX('Cleaned Data'!H:H,MATCH($A1376,$B$56:$B$1919,0))","v":{"$error":"#N/A"}},{"$f":"INDEX('Cleaned Data'!L:L,MATCH($A1376,$B$56:$B$1919,0))","v":{"$error":"#N/A"}}]
[1322,{"$f":"B1376+IF('Cleaned Data'!L1323>0,1,0)*IF($B$34=\"Overall\",1,IF('Cleaned Data'!K1323=$B$34,1,0))*(IF('Cleaned Data'!H1323<>\"\",1,0))","v":540},{"$f":"INDEX('Cleaned Data'!H:H,MATCH($A1377,$B$56:$B$1919,0))","v":{"$error":"#N/A"}},{"$f":"INDEX('Cleaned Data'!L:L,MATCH($A1377,$B$56:$B$1919,0))","v":{"$error":"#N/A"}}]
[1323,{"$f":"B1377+IF('Cleaned Data'!L1324>0,1,0)*IF($B$34=\"Overall\",1,IF('Cleaned Data'!K1324=$B$34,1,0))*(IF('Cleaned Data'!H1324<>\"\",1,0))","v":540},{"$f":"INDEX('Cleaned Data'!H:H,MATCH($A1378,$B$56:$B$1919,0))","v":{"$error":"#N/A"}},{"$f":"INDEX('Cleaned Data'!L:L,MATCH($A1378,$B$56:$B$1919,0))","v":{"$error":"#N/A"}}]
[1324,{"$f":"B1378+IF('Cleaned Data'!L1325>0,1,0)*IF($B$34=\"Overall\",1,IF('Cleaned Data'!K1325=$B$34,1,0))*(IF('Cleaned Data'!H1325<>\"\",1,0))","v":540},{"$f":"INDEX('Cleaned Data'!H:H,MATCH($A1379,$B$56:$B$1919,0))","v":{"$error":"#N/A"}},{"$f":"INDEX('Cleaned Data'!L:L,MATCH($A1379,$B$56:$B$1919,0))","v":{"$error":"#N/A"}}]
[1325,{"$f":"B1379+IF('Cleaned Data'!L1326>0,1,0)*IF($B$34=\"Overall\",1,IF('Cleaned Data'!K1326=$B$34,1,0))*(IF('Cleaned Data'!H1326<>\"\",1,0))","v":540},{"$f":"INDEX('Cleaned Data'!H:H,MATCH($A1380,$B$56:$B$1919,0))","v":{"$error":"#N/A"}},{"$f":"INDEX('Cleaned Data'!L:L,MATCH($A1380,$B$56:$B$1919,0))","v":{"$error":"#N/A"}}]
[1326,{"$f":"B1380+IF('Cleaned Data'!L1327>0,1,0)*IF($B$34=\"Overall\",1,IF('Cleaned Data'!K1327=$B$34,1,0))*(IF('Cleaned Data'!H1327<>\"\",1,0))","v":540},{"$f":"INDEX('Cleaned Data'!H:H,MATCH($A1381,$B$56:$B$1919,0))","v":{"$error":"#N/A"}},{"$f":"INDEX('Cleaned Data'!L:L,MATCH($A1381,$B$56:$B$1919,0))","v":{"$error":"#N/A"}}]
[1327,{"$f":"B1381+IF('Cleaned Data'!L1328>0,1,0)*IF($B$34=\"Overall\",1,IF('Cleaned Data'!K1328=$B$34,1,0))*(IF('Cleaned Data'!H1328<>\"\",1,0))","v":540},{"$f":"INDEX('Cleaned Data'!H:H,MATCH($A1382,$B$56:$B$1919,0))","v":{"$error":"#N/A"}},{"$f":"INDEX('Cleaned Data'!L:L,MATCH($A1382,$B$56:$B$1919,0))","v":{"$error":"#N/A"}}]
[1328,{"$f":"B1382+IF('Cleaned Data'!L1329>0,1,0)*IF($B$34=\"Overall\",1,IF('Cleaned Data'!K1329=$B$34,1,0))*(IF('Cleaned Data'!H1329<>\"\",1,0))","v":540},{"$f":"INDEX('Cleaned Data'!H:H,MATCH($A1383,$B$56:$B$1919,0))","v":{"$error":"#N/A"}},{"$f":"INDEX('Cleaned Data'!L:L,MATCH($A1383,$B$56:$B$1919,0))","v":{"$error":"#N/A"}}]
[1329,{"$f":"B1383+IF('Cleaned Data'!L1330>0,1,0)*IF($B$34=\"Overall\",1,IF('Cleaned Data'!K1330=$B$34,1,0))*(IF('Cleaned Data'!H1330<>\"\",1,0))","v":540},{"$f":"INDEX('Cleaned Data'!H:H,MATCH($A1384,$B$56:$B$1919,0))","v":{"$error":"#N/A"}},{"$f":"INDEX('Cleaned Data'!L:L,MATCH($A1384,$B$56:$B$1919,0))","v":{"$error":"#N/A"}}]
[1330,{"$f":"B1384+IF('Cleaned Data'!L1331>0,1,0)*IF($B$34=\"Overall\",1,IF('Cleaned Data'!K1331=$B$34,1,0))*(IF('Cleaned Data'!H1331<>\"\",1,0))","v":540},{"$f":"INDEX('Cleaned Data'!H:H,MATCH($A1385,$B$56:$B$1919,0))","v":{"$error":"#N/A"}},{"$f":"INDEX('Cleaned Data'!L:L,MATCH($A1385,$B$56:$B$1919,0))","v":{"$error":"#N/A"}}]
[1331,{"$f":"B1385+IF('Cleaned Data'!L1332>0,1,0)*IF($B$34=\"Overall\",1,IF('Cleaned Data'!K1332=$B$34,1,0))*(IF('Cleaned Data'!H1332<>\"\",1,0))","v":540},{"$f":"INDEX('Cleaned Data'!H:H,MATCH($A1386,$B$56:$B$1919,0))","v":{"$error":"#N/A"}},{"$f":"INDEX('Cleaned Data'!L:L,MATCH($A1386,$B$56:$B$1919,0))","v":{"$error":"#N/A"}}]
[1332,{"$f":"B1386+IF('Cleaned Data'!L1333>0,1,0)*IF($B$34=\"Overall\",1,IF('Cleaned Data'!K1333=$B$34,1,0))*(IF('Cleaned Data'!H1333<>\"\",1,0))","v":540},{"$f":"INDEX('Cleaned Data'!H:H,MATCH($A1387,$B$56:$B$1919,0))","v":{"$error":"#N/A"}},{"$f":"INDEX('Cleaned Data'!L:L,MATCH($A1387,$B$56:$B$1919,0))","v":{"$error":"#N/A"}}]
[1333,{"$f":"B1387+IF('Cleaned Data'!L1334>0,1,0)*IF($B$34=\"Overall\",1,IF('Cleaned Data'!K1334=$B$34,1,0))*(IF('Cleaned Data'!H1334<>\"\",1,0))","v":540},{"$f":"INDEX('Cleaned Data'!H:H,MATCH($A1388,$B$56:$B$1919,0))","v":{"$error":"#N/A"}},{"$f":"INDEX('Cleaned Data'!L:L,MATCH($A1388,$B$56:$B$1919,0))","v":{"$error":"#N/A"}}]
[1334,{"$f":"B1388+IF('Cleaned Data'!L1335>0,1,0)*IF($B$34=\"Overall\",1,IF('Cleaned Data'!K1335=$B$34,1,0))*(IF('Cleaned Data'!H1335<>\"\",1,0))","v":540},{"$f":"INDEX('Cleaned Data'!H:H,MATCH($A1389,$B$56:$B$1919,0))","v":{"$error":"#N/A"}},{"$f":"INDEX('Cleaned Data'!L:L,MATCH($A1389,$B$56:$B$1919,0))","v":{"$error":"#N/A"}}]
[1335,{"$f":"B1389+IF('Cleaned Data'!L1336>0,1,0)*IF($B$34=\"Overall\",1,IF('Cleaned Data'!K1336=$B$34,1,0))*(IF('Cleaned Data'!H1336<>\"\",1,0))","v":540},{"$f":"INDEX('Cleaned Data'!H:H,MATCH($A1390,$B$56:$B$1919,0))","v":{"$error":"#N/A"}},{"$f":"INDEX('Cleaned Data'!L:L,MATCH($A1390,$B$56:$B$1919,0))","v":{"$error":"#N/A"}}]
[1336,{"$f":"B1390+IF('Cleaned Data'!L1337>0,1,0)*IF($B$34=\"Overall\",1,IF('Cleaned Data'!K1337=$B$34,1,0))*(IF('Cleaned Data'!H1337<>\"\",1,0))","v":540},{"$f":"INDEX('Cleaned Data'!H:H,MATCH($A1391,$B$56:$B$1919,0))","v":{"$error":"#N/A"}},{"$f":"INDEX('Cleaned Data'!L:L,MATCH($A1391,$B$56:$B$1919,0))","v":{"$error":"#N/A"}}]
[1337,{"$f":"B1391+IF('Cleaned Data'!L1338>0,1,0)*IF($B$34=\"Overall\",1,IF('Cleaned Data'!K1338=$B$34,1,0))*(IF('Cleaned Data'!H1338<>\"\",1,0))","v":540},{"$f":"INDEX('Cleaned Data'!H:H,MATCH($A1392,$B$56:$B$1919,0))","v":{"$error":"#N/A"}},{"$f":"INDEX('Cleaned Data'!L:L,MATCH($A1392,$B$56:$B$1919,0))","v":{"$error":"#N/A"}}]
[1338,{"$f":"B1392+IF('Cleaned Data'!L1339>0,1,0)*IF($B$34=\"Overall\",1,IF('Cleaned Data'!K1339=$B$34,1,0))*(IF('Cleaned Data'!H1339<>\"\",1,0))","v":540},{"$f":"INDEX('Cleaned Data'!H:H,MATCH($A1393,$B$56:$B$1919,0))","v":{"$error":"#N/A"}},{"$f":"INDEX('Cleaned Data'!L:L,MATCH($A1393,$B$56:$B$1919,0))","v":{"$error":"#N/A"}}]
[1339,{"$f":"B1393+IF('Cleaned Data'!L1340>0,1,0)*IF($B$34=\"Overall\",1,IF('Cleaned Data'!K1340=$B$34,1,0))*(IF('Cleaned Data'!H1340<>\"\",1,0))","v":540},{"$f":"INDEX('Cleaned Data'!H:H,MATCH($A1394,$B$56:$B$1919,0))","v":{"$error":"#N/A"}},{"$f":"INDEX('Cleaned Data'!L:L,MATCH($A1394,$B$56:$B$1919,0))","v":{"$error":"#N/A"}}]
[1340,{"$f":"B1394+IF('Cleaned Data'!L1341>0,1,0)*IF($B$34=\"Overall\",1,IF('Cleaned Data'!K1341=$B$34,1,0))*(IF('Cleaned Data'!H1341<>\"\",1,0))","v":540},{"$f":"INDEX('Cleaned Data'!H:H,MATCH($A1395,$B$56:$B$1919,0))","v":{"$error":"#N/A"}},{"$f":"INDEX('Cleaned Data'!L:L,MATCH($A1395,$B$56:$B$1919,0))","v":{"$error":"#N/A"}}]
[1341,{"$f":"B1395+IF('Cleaned Data'!L1342>0,1,0)*IF($B$34=\"Overall\",1,IF('Cleaned Data'!K1342=$B$34,1,0))*(IF('Cleaned Data'!H1342<>\"\",1,0))","v":540},{"$f":"INDEX('Cleaned Data'!H:H,MATCH($A1396,$B$56:$B$1919,0))","v":{"$error":"#N/A"}},{"$f":"INDEX('Cleaned Data'!L:L,MATCH($A1396,$B$56:$B$1919,0))","v":{"$error":"#N/A"}}]
[1342,{"$f":"B1396+IF('Cleaned Data'!L1343>0,1,0)*IF($B$34=\"Overall\",1,IF('Cleaned Data'!K1343=$B$34,1,0))*(IF('Cleaned Data'!H1343<>\"\",1,0))","v":540},{"$f":"INDEX('Cleaned Data'!H:H,MATCH($A1397,$B$56:$B$1919,0))","v":{"$error":"#N/A"}},{"$f":"INDEX('Cleaned Data'!L:L,MATCH($A1397,$B$56:$B$1919,0))","v":{"$error":"#N/A"}}]
[1343,{"$f":"B1397+IF('Cleaned Data'!L1344>0,1,0)*IF($B$34=\"Overall\",1,IF('Cleaned Data'!K1344=$B$34,1,0))*(IF('Cleaned Data'!H1344<>\"\",1,0))","v":540},{"$f":"INDEX('Cleaned Data'!H:H,MATCH($A1398,$B$56:$B$1919,0))","v":{"$error":"#N/A"}},{"$f":"INDEX('Cleaned Data'!L:L,MATCH($A1398,$B$56:$B$1919,0))","v":{"$error":"#N/A"}}]
[1344,{"$f":"B1398+IF('Cleaned Data'!L1345>0,1,0)*IF($B$34=\"Overall\",1,IF('Cleaned Data'!K1345=$B$34,1,0))*(IF('Cleaned Data'!H1345<>\"\",1,0))","v":540},{"$f":"INDEX('Cleaned Data'!H:H,MATCH($A1399,$B$56:$B$1919,0))","v":{"$error":"#N/A"}},{"$f":"INDEX('Cleaned Data'!L:L,MATCH($A1399,$B$56:$B$1919,0))","v":{"$error":"#N/A"}}]
[1345,{"$f":"B1399+IF('Cleaned Data'!L1346>0,1,0)*IF($B$34=\"Overall\",1,IF('Cleaned Data'!K1346=$B$34,1,0))*(IF('Cleaned Data'!H1346<>\"\",1,0))","v":540},{"$f":"INDEX('Cleaned Data'!H:H,MATCH($A1400,$B$56:$B$1919,0))","v":{"$error":"#N/A"}},{"$f":"INDEX('Cleaned Data'!L:L,MATCH($A1400,$B$56:$B$1919,0))","v":{"$error":"#N/A"}}]
[1346,{"$f":"B1400+IF('Cleaned Data'!L1347>0,1,0)*IF($B$34=\"Overall\",1,IF('Cleaned Data'!K1347=$B$34,1,0))*(IF('Cleaned Data'!H1347<>\"\",1,0))","v":540},{"$f":"INDEX('Cleaned Data'!H:H,MATCH($A1401,$B$56:$B$1919,0))","v":{"$error":"#N/A"}},{"$f":"INDEX('Cleaned Data'!L:L,MATCH($A1401,$B$56:$B$1919,0))","v":{"$error":"#N/A"}}]
[1347,{"$f":"B1401+IF('Cleaned Data'!L1348>0,1,0)*IF($B$34=\"Overall\",1,IF('Cleaned Data'!K1348=$B$34,1,0))*(IF('Cleaned Data'!H1348<>\"\",1,0))","v":540},{"$f":"INDEX('Cleaned Data'!H:H,MATCH($A1402,$B$56:$B$1919,0))","v":{"$error":"#N/A"}},{"$f":"INDEX('Cleaned Data'!L:L,MATCH($A1402,$B$56:$B$1919,0))","v":{"$error":"#N/A"}}]
[1348,{"$f":"B1402+IF('Cleaned Data'!L1349>0,1,0)*IF($B$34=\"Overall\",1,IF('Cleaned Data'!K1349=$B$34,1,0))*(IF('Cleaned Data'!H1349<>\"\",1,0))","v":540},{"$f":"INDEX('Cleaned Data'!H:H,MATCH($A1403,$B$56:$B$1919,0))","v":{"$error":"#N/A"}},{"$f":"INDEX('Cleaned Data'!L:L,MATCH($A1403,$B$56:$B$1919,0))","v":{"$error":"#N/A"}}]
[1349,{"$f":"B1403+IF('Cleaned Data'!L1350>0,1,0)*IF($B$34=\"Overall\",1,IF('Cleaned Data'!K1350=$B$34,1,0))*(IF('Cleaned Data'!H1350<>\"\",1,0))","v":540},{"$f":"INDEX('Cleaned Data'!H:H,MATCH($A1404,$B$56:$B$1919,0))","v":{"$error":"#N/A"}},{"$f":"INDEX('Cleaned Data'!L:L,MATCH($A1404,$B$56:$B$1919,0))","v":{"$error":"#N/A"}}]
[1350,{"$f":"B1404+IF('Cleaned Data'!L1351>0,1,0)*IF($B$34=\"Overall\",1,IF('Cleaned Data'!K1351=$B$34,1,0))*(IF('Cleaned Data'!H1351<>\"\",1,0))","v":540},{"$f":"INDEX('Cleaned Data'!H:H,MATCH($A1405,$B$56:$B$1919,0))","v":{"$error":"#N/A"}},{"$f":"INDEX('Cleaned Data'!L:L,MATCH($A1405,$B$56:$B$1919,0))","v":{"$error":"#N/A"}}]
[1351,{"$f":"B1405+IF('Cleaned Data'!L1352>0,1,0)*IF($B$34=\"Overall\",1,IF('Cleaned Data'!K1352=$B$34,1,0))*(IF('Cleaned Data'!H1352<>\"\",1,0))","v":540},{"$f":"INDEX('Cleaned Data'!H:H,MATCH($A1406,$B$56:$B$1919,0))","v":{"$error":"#N/A"}},{"$f":"INDEX('Cleaned Data'!L:L,MATCH($A1406,$B$56:$B$1919,0))","v":{"$error":"#N/A"}}]
[1352,{"$f":"B1406+IF('Cleaned Data'!L1353>0,1,0)*IF($B$34=\"Overall\",1,IF('Cleaned Data'!K1353=$B$34,1,0))*(IF('Cleaned Data'!H1353<>\"\",1,0))","v":540},{"$f":"INDEX('Cleaned Data'!H:H,MATCH($A1407,$B$56:$B$1919,0))","v":{"$error":"#N/A"}},{"$f":"INDEX('Cleaned Data'!L:L,MATCH($A1407,$B$56:$B$1919,0))","v":{"$error":"#N/A"}}]
[1353,{"$f":"B1407+IF('Cleaned Data'!L1354>0,1,0)*IF($B$34=\"Overall\",1,IF('Cleaned Data'!K1354=$B$34,1,0))*(IF('Cleaned Data'!H1354<>\"\",1,0))","v":540},{"$f":"INDEX('Cleaned Data'!H:H,MATCH($A1408,$B$56:$B$1919,0))","v":{"$error":"#N/A"}},{"$f":"INDEX('Cleaned Data'!L:L,MATCH($A1408,$B$56:$B$1919,0))","v":{"$error":"#N/A"}}]
[1354,{"$f":"B1408+IF('Cleaned Data'!L1355>0,1,0)*IF($B$34=\"Overall\",1,IF('Cleaned Data'!K1355=$B$34,1,0))*(IF('Cleaned Data'!H1355<>\"\",1,0))","v":540},{"$f":"INDEX('Cleaned Data'!H:H,MATCH($A1409,$B$56:$B$1919,0))","v":{"$error":"#N/A"}},{"$f":"INDEX('Cleaned Data'!L:L,MATCH($A1409,$B$56:$B$1919,0))","v":{"$error":"#N/A"}}]
[1355,{"$f":"B1409+IF('Cleaned Data'!L1356>0,1,0)*IF($B$34=\"Overall\",1,IF('Cleaned Data'!K1356=$B$34,1,0))*(IF('Cleaned Data'!H1356<>\"\",1,0))","v":540},{"$f":"INDEX('Cleaned Data'!H:H,MATCH($A1410,$B$56:$B$1919,0))","v":{"$error":"#N/A"}},{"$f":"INDEX('Cleaned Data'!L:L,MATCH($A1410,$B$56:$B$1919,0))","v":{"$error":"#N/A"}}]
[1356,{"$f":"B1410+IF('Cleaned Data'!L1357>0,1,0)*IF($B$34=\"Overall\",1,IF('Cleaned Data'!K1357=$B$34,1,0))*(IF('Cleaned Data'!H1357<>\"\",1,0))","v":540},{"$f":"INDEX('Cleaned Data'!H:H,MATCH($A1411,$B$56:$B$1919,0))","v":{"$error":"#N/A"}},{"$f":"INDEX('Cleaned Data'!L:L,MATCH($A1411,$B$56:$B$1919,0))","v":{"$error":"#N/A"}}]
[1357,{"$f":"B1411+IF('Cleaned Data'!L1358>0,1,0)*IF($B$34=\"Overall\",1,IF('Cleaned Data'!K1358=$B$34,1,0))*(IF('Cleaned Data'!H1358<>\"\",1,0))","v":540},{"$f":"INDEX('Cleaned Data'!H:H,MATCH($A1412,$B$56:$B$1919,0))","v":{"$error":"#N/A"}},{"$f":"INDEX('Cleaned Data'!L:L,MATCH($A1412,$B$56:$B$1919,0))","v":{"$error":"#N/A"}}]
[1358,{"$f":"B1412+IF('Cleaned Data'!L1359>0,1,0)*IF($B$34=\"Overall\",1,IF('Cleaned Data'!K1359=$B$34,1,0))*(IF('Cleaned Data'!H1359<>\"\",1,0))","v":540},{"$f":"INDEX('Cleaned Data'!H:H,MATCH($A1413,$B$56:$B$1919,0))","v":{"$error":"#N/A"}},{"$f":"INDEX('Cleaned Data'!L:L,MATCH($A1413,$B$56:$B$1919,0))","v":{"$error":"#N/A"}}]
[1359,{"$f":"B1413+IF('Cleaned Data'!L1360>0,1,0)*IF($B$34=\"Overall\",1,IF('Cleaned Data'!K1360=$B$34,1,0))*(IF('Cleaned Data'!H1360<>\"\",1,0))","v":540},{"$f":"INDEX('Cleaned Data'!H:H,MATCH($A1414,$B$56:$B$1919,0))","v":{"$error":"#N/A"}},{"$f":"INDEX('Cleaned Data'!L:L,MATCH($A1414,$B$56:$B$1919,0))","v":{"$error":"#N/A"}}]
[1360,{"$f":"B1414+IF('Cleaned Data'!L1361>0,1,0)*IF($B$34=\"Overall\",1,IF('Cleaned Data'!K1361=$B$34,1,0))*(IF('Cleaned Data'!H1361<>\"\",1,0))","v":540},{"$f":"INDEX('Cleaned Data'!H:H,MATCH($A1415,$B$56:$B$1919,0))","v":{"$error":"#N/A"}},{"$f":"INDEX('Cleaned Data'!L:L,MATCH($A1415,$B$56:$B$1919,0))","v":{"$error":"#N/A"}}]
[1361,{"$f":"B1415+IF('Cleaned Data'!L1362>0,1,0)*IF($B$34=\"Overall\",1,IF('Cleaned Data'!K1362=$B$34,1,0))*(IF('Cleaned Data'!H1362<>\"\",1,0))","v":540},{"$f":"INDEX('Cleaned Data'!H:H,MATCH($A1416,$B$56:$B$1919,0))","v":{"$error":"#N/A"}},{"$f":"INDEX('Cleaned Data'!L:L,MATCH($A1416,$B$56:$B$1919,0))","v":{"$error":"#N/A"}}]
[1362,{"$f":"B1416+IF('Cleaned Data'!L1363>0,1,0)*IF($B$34=\"Overall\",1,IF('Cleaned Data'!K1363=$B$34,1,0))*(IF('Cleaned Data'!H1363<>\"\",1,0))","v":540},{"$f":"INDEX('Cleaned Data'!H:H,MATCH($A1417,$B$56:$B$1919,0))","v":{"$error":"#N/A"}},{"$f":"INDEX('Cleaned Data'!L:L,MATCH($A1417,$B$56:$B$1919,0))","v":{"$error":"#N/A"}}]
[1363,{"$f":"B1417+IF('Cleaned Data'!L1364>0,1,0)*IF($B$34=\"Overall\",1,IF('Cleaned Data'!K1364=$B$34,1,0))*(IF('Cleaned Data'!H1364<>\"\",1,0))","v":540},{"$f":"INDEX('Cleaned Data'!H:H,MATCH($A1418,$B$56:$B$1919,0))","v":{"$error":"#N/A"}},{"$f":"INDEX('Cleaned Data'!L:L,MATCH($A1418,$B$56:$B$1919,0))","v":{"$error":"#N/A"}}]
[1364,{"$f":"B1418+IF('Cleaned Data'!L1365>0,1,0)*IF($B$34=\"Overall\",1,IF('Cleaned Data'!K1365=$B$34,1,0))*(IF('Cleaned Data'!H1365<>\"\",1,0))","v":540},{"$f":"INDEX('Cleaned Data'!H:H,MATCH($A1419,$B$56:$B$1919,0))","v":{"$error":"#N/A"}},{"$f":"INDEX('Cleaned Data'!L:L,MATCH($A1419,$B$56:$B$1919,0))","v":{"$error":"#N/A"}}]
[1365,{"$f":"B1419+IF('Cleaned Data'!L1366>0,1,0)*IF($B$34=\"Overall\",1,IF('Cleaned Data'!K1366=$B$34,1,0))*(IF('Cleaned Data'!H1366<>\"\",1,0))","v":540},{"$f":"INDEX('Cleaned Data'!H:H,MATCH($A1420,$B$56:$B$1919,0))","v":{"$error":"#N/A"}},{"$f":"INDEX('Cleaned Data'!L:L,MATCH($A1420,$B$56:$B$1919,0))","v":{"$error":"#N/A"}}]
[1366,{"$f":"B1420+IF('Cleaned Data'!L1367>0,1,0)*IF($B$34=\"Overall\",1,IF('Cleaned Data'!K1367=$B$34,1,0))*(IF('Cleaned Data'!H1367<>\"\",1,0))","v":540},{"$f":"INDEX('Cleaned Data'!H:H,MATCH($A1421,$B$56:$B$1919,0))","v":{"$error":"#N/A"}},{"$f":"INDEX('Cleaned Data'!L:L,MATCH($A1421,$B$56:$B$1919,0))","v":{"$error":"#N/A"}}]
[1367,{"$f":"B1421+IF('Cleaned Data'!L1368>0,1,0)*IF($B$34=\"Overall\",1,IF('Cleaned Data'!K1368=$B$34,1,0))*(IF('Cleaned Data'!H1368<>\"\",1,0))","v":540},{"$f":"INDEX('Cleaned Data'!H:H,MATCH($A1422,$B$56:$B$1919,0))","v":{"$error":"#N/A"}},{"$f":"INDEX('Cleaned Data'!L:L,MATCH($A1422,$B$56:$B$1919,0))","v":{"$error":"#N/A"}}]
[1368,{"$f":"B1422+IF('Cleaned Data'!L1369>0,1,0)*IF($B$34=\"Overall\",1,IF('Cleaned Data'!K1369=$B$34,1,0))*(IF('Cleaned Data'!H1369<>\"\",1,0))","v":540},{"$f":"INDEX('Cleaned Data'!H:H,MATCH($A1423,$B$56:$B$1919,0))","v":{"$error":"#N/A"}},{"$f":"INDEX('Cleaned Data'!L:L,MATCH($A1423,$B$56:$B$1919,0))","v":{"$error":"#N/A"}}]
[1369,{"$f":"B1423+IF('Cleaned Data'!L1370>0,1,0)*IF($B$34=\"Overall\",1,IF('Cleaned Data'!K1370=$B$34,1,0))*(IF('Cleaned Data'!H1370<>\"\",1,0))","v":540},{"$f":"INDEX('Cleaned Data'!H:H,MATCH($A1424,$B$56:$B$1919,0))","v":{"$error":"#N/A"}},{"$f":"INDEX('Cleaned Data'!L:L,MATCH($A1424,$B$56:$B$1919,0))","v":{"$error":"#N/A"}}]
[1370,{"$f":"B1424+IF('Cleaned Data'!L1371>0,1,0)*IF($B$34=\"Overall\",1,IF('Cleaned Data'!K1371=$B$34,1,0))*(IF('Cleaned Data'!H1371<>\"\",1,0))","v":540},{"$f":"INDEX('Cleaned Data'!H:H,MATCH($A1425,$B$56:$B$1919,0))","v":{"$error":"#N/A"}},{"$f":"INDEX('Cleaned Data'!L:L,MATCH($A1425,$B$56:$B$1919,0))","v":{"$error":"#N/A"}}]
[1371,{"$f":"B1425+IF('Cleaned Data'!L1372>0,1,0)*IF($B$34=\"Overall\",1,IF('Cleaned Data'!K1372=$B$34,1,0))*(IF('Cleaned Data'!H1372<>\"\",1,0))","v":540},{"$f":"INDEX('Cleaned Data'!H:H,MATCH($A1426,$B$56:$B$1919,0))","v":{"$error":"#N/A"}},{"$f":"INDEX('Cleaned Data'!L:L,MATCH($A1426,$B$56:$B$1919,0))","v":{"$error":"#N/A"}}]
[1372,{"$f":"B1426+IF('Cleaned Data'!L1373>0,1,0)*IF($B$34=\"Overall\",1,IF('Cleaned Data'!K1373=$B$34,1,0))*(IF('Cleaned Data'!H1373<>\"\",1,0))","v":540},{"$f":"INDEX('Cleaned Data'!H:H,MATCH($A1427,$B$56:$B$1919,0))","v":{"$error":"#N/A"}},{"$f":"INDEX('Cleaned Data'!L:L,MATCH($A1427,$B$56:$B$1919,0))","v":{"$error":"#N/A"}}]
[1373,{"$f":"B1427+IF('Cleaned Data'!L1374>0,1,0)*IF($B$34=\"Overall\",1,IF('Cleaned Data'!K1374=$B$34,1,0))*(IF('Cleaned Data'!H1374<>\"\",1,0))","v":540},{"$f":"INDEX('Cleaned Data'!H:H,MATCH($A1428,$B$56:$B$1919,0))","v":{"$error":"#N/A"}},{"$f":"INDEX('Cleaned Data'!L:L,MATCH($A1428,$B$56:$B$1919,0))","v":{"$error":"#N/A"}}]
[1374,{"$f":"B1428+IF('Cleaned Data'!L1375>0,1,0)*IF($B$34=\"Overall\",1,IF('Cleaned Data'!K1375=$B$34,1,0))*(IF('Cleaned Data'!H1375<>\"\",1,0))","v":540},{"$f":"INDEX('Cleaned Data'!H:H,MATCH($A1429,$B$56:$B$1919,0))","v":{"$error":"#N/A"}},{"$f":"INDEX('Cleaned Data'!L:L,MATCH($A1429,$B$56:$B$1919,0))","v":{"$error":"#N/A"}}]
[1375,{"$f":"B1429+IF('Cleaned Data'!L1376>0,1,0)*IF($B$34=\"Overall\",1,IF('Cleaned Data'!K1376=$B$34,1,0))*(IF('Cleaned Data'!H1376<>\"\",1,0))","v":540},{"$f":"INDEX('Cleaned Data'!H:H,MATCH($A1430,$B$56:$B$1919,0))","v":{"$error":"#N/A"}},{"$f":"INDEX('Cleaned Data'!L:L,MATCH($A1430,$B$56:$B$1919,0))","v":{"$error":"#N/A"}}]
[1376,{"$f":"B1430+IF('Cleaned Data'!L1377>0,1,0)*IF($B$34=\"Overall\",1,IF('Cleaned Data'!K1377=$B$34,1,0))*(IF('Cleaned Data'!H1377<>\"\",1,0))","v":540},{"$f":"INDEX('Cleaned Data'!H:H,MATCH($A1431,$B$56:$B$1919,0))","v":{"$error":"#N/A"}},{"$f":"INDEX('Cleaned Data'!L:L,MATCH($A1431,$B$56:$B$1919,0))","v":{"$error":"#N/A"}}]
[1377,{"$f":"B1431+IF('Cleaned Data'!L1378>0,1,0)*IF($B$34=\"Overall\",1,IF('Cleaned Data'!K1378=$B$34,1,0))*(IF('Cleaned Data'!H1378<>\"\",1,0))","v":540},{"$f":"INDEX('Cleaned Data'!H:H,MATCH($A1432,$B$56:$B$1919,0))","v":{"$error":"#N/A"}},{"$f":"INDEX('Cleaned Data'!L:L,MATCH($A1432,$B$56:$B$1919,0))","v":{"$error":"#N/A"}}]
[1378,{"$f":"B1432+IF('Cleaned Data'!L1379>0,1,0)*IF($B$34=\"Overall\",1,IF('Cleaned Data'!K1379=$B$34,1,0))*(IF('Cleaned Data'!H1379<>\"\",1,0))","v":540},{"$f":"INDEX('Cleaned Data'!H:H,MATCH($A1433,$B$56:$B$1919,0))","v":{"$error":"#N/A"}},{"$f":"INDEX('Cleaned Data'!L:L,MATCH($A1433,$B$56:$B$1919,0))","v":{"$error":"#N/A"}}]
[1379,{"$f":"B1433+IF('Cleaned Data'!L1380>0,1,0)*IF($B$34=\"Overall\",1,IF('Cleaned Data'!K1380=$B$34,1,0))*(IF('Cleaned Data'!H1380<>\"\",1,0))","v":540},{"$f":"INDEX('Cleaned Data'!H:H,MATCH($A1434,$B$56:$B$1919,0))","v":{"$error":"#N/A"}},{"$f":"INDEX('Cleaned Data'!L:L,MATCH($A1434,$B$56:$B$1919,0))","v":{"$error":"#N/A"}}]
[1380,{"$f":"B1434+IF('Cleaned Data'!L1381>0,1,0)*IF($B$34=\"Overall\",1,IF('Cleaned Data'!K1381=$B$34,1,0))*(IF('Cleaned Data'!H1381<>\"\",1,0))","v":540},{"$f":"INDEX('Cleaned Data'!H:H,MATCH($A1435,$B$56:$B$1919,0))","v":{"$error":"#N/A"}},{"$f":"INDEX('Cleaned Data'!L:L,MATCH($A1435,$B$56:$B$1919,0))","v":{"$error":"#N/A"}}]
[1381,{"$f":"B1435+IF('Cleaned Data'!L1382>0,1,0)*IF($B$34=\"Overall\",1,IF('Cleaned Data'!K1382=$B$34,1,0))*(IF('Cleaned Data'!H1382<>\"\",1,0))","v":540},{"$f":"INDEX('Cleaned Data'!H:H,MATCH($A1436,$B$56:$B$1919,0))","v":{"$error":"#N/A"}},{"$f":"INDEX('Cleaned Data'!L:L,MATCH($A1436,$B$56:$B$1919,0))","v":{"$error":"#N/A"}}]
[1382,{"$f":"B1436+IF('Cleaned Data'!L1383>0,1,0)*IF($B$34=\"Overall\",1,IF('Cleaned Data'!K1383=$B$34,1,0))*(IF('Cleaned Data'!H1383<>\"\",1,0))","v":540},{"$f":"INDEX('Cleaned Data'!H:H,MATCH($A1437,$B$56:$B$1919,0))","v":{"$error":"#N/A"}},{"$f":"INDEX('Cleaned Data'!L:L,MATCH($A1437,$B$56:$B$1919,0))","v":{"$error":"#N/A"}}]
[1383,{"$f":"B1437+IF('Cleaned Data'!L1384>0,1,0)*IF($B$34=\"Overall\",1,IF('Cleaned Data'!K1384=$B$34,1,0))*(IF('Cleaned Data'!H1384<>\"\",1,0))","v":540},{"$f":"INDEX('Cleaned Data'!H:H,MATCH($A1438,$B$56:$B$1919,0))","v":{"$error":"#N/A"}},{"$f":"INDEX('Cleaned Data'!L:L,MATCH($A1438,$B$56:$B$1919,0))","v":{"$error":"#N/A"}}]
[1384,{"$f":"B1438+IF('Cleaned Data'!L1385>0,1,0)*IF($B$34=\"Overall\",1,IF('Cleaned Data'!K1385=$B$34,1,0))*(IF('Cleaned Data'!H1385<>\"\",1,0))","v":540},{"$f":"INDEX('Cleaned Data'!H:H,MATCH($A1439,$B$56:$B$1919,0))","v":{"$error":"#N/A"}},{"$f":"INDEX('Cleaned Data'!L:L,MATCH($A1439,$B$56:$B$1919,0))","v":{"$error":"#N/A"}}]
[1385,{"$f":"B1439+IF('Cleaned Data'!L1386>0,1,0)*IF($B$34=\"Overall\",1,IF('Cleaned Data'!K1386=$B$34,1,0))*(IF('Cleaned Data'!H1386<>\"\",1,0))","v":540},{"$f":"INDEX('Cleaned Data'!H:H,MATCH($A1440,$B$56:$B$1919,0))","v":{"$error":"#N/A"}},{"$f":"INDEX('Cleaned Data'!L:L,MATCH($A1440,$B$56:$B$1919,0))","v":{"$error":"#N/A"}}]
[1386,{"$f":"B1440+IF('Cleaned Data'!L1387>0,1,0)*IF($B$34=\"Overall\",1,IF('Cleaned Data'!K1387=$B$34,1,0))*(IF('Cleaned Data'!H1387<>\"\",1,0))","v":540},{"$f":"INDEX('Cleaned Data'!H:H,MATCH($A1441,$B$56:$B$1919,0))","v":{"$error":"#N/A"}},{"$f":"INDEX('Cleaned Data'!L:L,MATCH($A1441,$B$56:$B$1919,0))","v":{"$error":"#N/A"}}]
[1387,{"$f":"B1441+IF('Cleaned Data'!L1388>0,1,0)*IF($B$34=\"Overall\",1,IF('Cleaned Data'!K1388=$B$34,1,0))*(IF('Cleaned Data'!H1388<>\"\",1,0))","v":540},{"$f":"INDEX('Cleaned Data'!H:H,MATCH($A1442,$B$56:$B$1919,0))","v":{"$error":"#N/A"}},{"$f":"INDEX('Cleaned Data'!L:L,MATCH($A1442,$B$56:$B$1919,0))","v":{"$error":"#N/A"}}]
[1388,{"$f":"B1442+IF('Cleaned Data'!L1389>0,1,0)*IF($B$34=\"Overall\",1,IF('Cleaned Data'!K1389=$B$34,1,0))*(IF('Cleaned Data'!H1389<>\"\",1,0))","v":540},{"$f":"INDEX('Cleaned Data'!H:H,MATCH($A1443,$B$56:$B$1919,0))","v":{"$error":"#N/A"}},{"$f":"INDEX('Cleaned Data'!L:L,MATCH($A1443,$B$56:$B$1919,0))","v":{"$error":"#N/A"}}]
[1389,{"$f":"B1443+IF('Cleaned Data'!L1390>0,1,0)*IF($B$34=\"Overall\",1,IF('Cleaned Data'!K1390=$B$34,1,0))*(IF('Cleaned Data'!H1390<>\"\",1,0))","v":540},{"$f":"INDEX('Cleaned Data'!H:H,MATCH($A1444,$B$56:$B$1919,0))","v":{"$error":"#N/A"}},{"$f":"INDEX('Cleaned Data'!L:L,MATCH($A1444,$B$56:$B$1919,0))","v":{"$error":"#N/A"}}]
[1390,{"$f":"B1444+IF('Cleaned Data'!L1391>0,1,0)*IF($B$34=\"Overall\",1,IF('Cleaned Data'!K1391=$B$34,1,0))*(IF('Cleaned Data'!H1391<>\"\",1,0))","v":540},{"$f":"INDEX('Cleaned Data'!H:H,MATCH($A1445,$B$56:$B$1919,0))","v":{"$error":"#N/A"}},{"$f":"INDEX('Cleaned Data'!L:L,MATCH($A1445,$B$56:$B$1919,0))","v":{"$error":"#N/A"}}]
[1391,{"$f":"B1445+IF('Cleaned Data'!L1392>0,1,0)*IF($B$34=\"Overall\",1,IF('Cleaned Data'!K1392=$B$34,1,0))*(IF('Cleaned Data'!H1392<>\"\",1,0))","v":540},{"$f":"INDEX('Cleaned Data'!H:H,MATCH($A1446,$B$56:$B$1919,0))","v":{"$error":"#N/A"}},{"$f":"INDEX('Cleaned Data'!L:L,MATCH($A1446,$B$56:$B$1919,0))","v":{"$error":"#N/A"}}]
[1392,{"$f":"B1446+IF('Cleaned Data'!L1393>0,1,0)*IF($B$34=\"Overall\",1,IF('Cleaned Data'!K1393=$B$34,1,0))*(IF('Cleaned Data'!H1393<>\"\",1,0))","v":540},{"$f":"INDEX('Cleaned Data'!H:H,MATCH($A1447,$B$56:$B$1919,0))","v":{"$error":"#N/A"}},{"$f":"INDEX('Cleaned Data'!L:L,MATCH($A1447,$B$56:$B$1919,0))","v":{"$error":"#N/A"}}]
[1393,{"$f":"B1447+IF('Cleaned Data'!L1394>0,1,0)*IF($B$34=\"Overall\",1,IF('Cleaned Data'!K1394=$B$34,1,0))*(IF('Cleaned Data'!H1394<>\"\",1,0))","v":540},{"$f":"INDEX('Cleaned Data'!H:H,MATCH($A1448,$B$56:$B$1919,0))","v":{"$error":"#N/A"}},{"$f":"INDEX('Cleaned Data'!L:L,MATCH($A1448,$B$56:$B$1919,0))","v":{"$error":"#N/A"}}]
[1394,{"$f":"B1448+IF('Cleaned Data'!L1395>0,1,0)*IF($B$34=\"Overall\",1,IF('Cleaned Data'!K1395=$B$34,1,0))*(IF('Cleaned Data'!H1395<>\"\",1,0))","v":540},{"$f":"INDEX('Cleaned Data'!H:H,MATCH($A1449,$B$56:$B$1919,0))","v":{"$error":"#N/A"}},{"$f":"INDEX('Cleaned Data'!L:L,MATCH($A1449,$B$56:$B$1919,0))","v":{"$error":"#N/A"}}]
[1395,{"$f":"B1449+IF('Cleaned Data'!L1396>0,1,0)*IF($B$34=\"Overall\",1,IF('Cleaned Data'!K1396=$B$34,1,0))*(IF('Cleaned Data'!H1396<>\"\",1,0))","v":540},{"$f":"INDEX('Cleaned Data'!H:H,MATCH($A1450,$B$56:$B$1919,0))","v":{"$error":"#N/A"}},{"$f":"INDEX('Cleaned Data'!L:L,MATCH($A1450,$B$56:$B$1919,0))","v":{"$error":"#N/A"}}]
[1396,{"$f":"B1450+IF('Cleaned Data'!L1397>0,1,0)*IF($B$34=\"Overall\",1,IF('Cleaned Data'!K1397=$B$34,1,0))*(IF('Cleaned Data'!H1397<>\"\",1,0))","v":540},{"$f":"INDEX('Cleaned Data'!H:H,MATCH($A1451,$B$56:$B$1919,0))","v":{"$error":"#N/A"}},{"$f":"INDEX('Cleaned Data'!L:L,MATCH($A1451,$B$56:$B$1919,0))","v":{"$error":"#N/A"}}]
[1397,{"$f":"B1451+IF('Cleaned Data'!L1398>0,1,0)*IF($B$34=\"Overall\",1,IF('Cleaned Data'!K1398=$B$34,1,0))*(IF('Cleaned Data'!H1398<>\"\",1,0))","v":540},{"$f":"INDEX('Cleaned Data'!H:H,MATCH($A1452,$B$56:$B$1919,0))","v":{"$error":"#N/A"}},{"$f":"INDEX('Cleaned Data'!L:L,MATCH($A1452,$B$56:$B$1919,0))","v":{"$error":"#N/A"}}]
[1398,{"$f":"B1452+IF('Cleaned Data'!L1399>0,1,0)*IF($B$34=\"Overall\",1,IF('Cleaned Data'!K1399=$B$34,1,0))*(IF('Cleaned Data'!H1399<>\"\",1,0))","v":540},{"$f":"INDEX('Cleaned Data'!H:H,MATCH($A1453,$B$56:$B$1919,0))","v":{"$error":"#N/A"}},{"$f":"INDEX('Cleaned Data'!L:L,MATCH($A1453,$B$56:$B$1919,0))","v":{"$error":"#N/A"}}]
[1399,{"$f":"B1453+IF('Cleaned Data'!L1400>0,1,0)*IF($B$34=\"Overall\",1,IF('Cleaned Data'!K1400=$B$34,1,0))*(IF('Cleaned Data'!H1400<>\"\",1,0))","v":540},{"$f":"INDEX('Cleaned Data'!H:H,MATCH($A1454,$B$56:$B$1919,0))","v":{"$error":"#N/A"}},{"$f":"INDEX('Cleaned Data'!L:L,MATCH($A1454,$B$56:$B$1919,0))","v":{"$error":"#N/A"}}]
[1400,{"$f":"B1454+IF('Cleaned Data'!L1401>0,1,0)*IF($B$34=\"Overall\",1,IF('Cleaned Data'!K1401=$B$34,1,0))*(IF('Cleaned Data'!H1401<>\"\",1,0))","v":540},{"$f":"INDEX('Cleaned Data'!H:H,MATCH($A1455,$B$56:$B$1919,0))","v":{"$error":"#N/A"}},{"$f":"INDEX('Cleaned Data'!L:L,MATCH($A1455,$B$56:$B$1919,0))","v":{"$error":"#N/A"}}]
[1401,{"$f":"B1455+IF('Cleaned Data'!L1402>0,1,0)*IF($B$34=\"Overall\",1,IF('Cleaned Data'!K1402=$B$34,1,0))*(IF('Cleaned Data'!H1402<>\"\",1,0))","v":540},{"$f":"INDEX('Cleaned Data'!H:H,MATCH($A1456,$B$56:$B$1919,0))","v":{"$error":"#N/A"}},{"$f":"INDEX('Cleaned Data'!L:L,MATCH($A1456,$B$56:$B$1919,0))","v":{"$error":"#N/A"}}]
[1402,{"$f":"B1456+IF('Cleaned Data'!L1403>0,1,0)*IF($B$34=\"Overall\",1,IF('Cleaned Data'!K1403=$B$34,1,0))*(IF('Cleaned Data'!H1403<>\"\",1,0))","v":540},{"$f":"INDEX('Cleaned Data'!H:H,MATCH($A1457,$B$56:$B$1919,0))","v":{"$error":"#N/A"}},{"$f":"INDEX('Cleaned Data'!L:L,MATCH($A1457,$B$56:$B$1919,0))","v":{"$error":"#N/A"}}]
[1403,{"$f":"B1457+IF('Cleaned Data'!L1404>0,1,0)*IF($B$34=\"Overall\",1,IF('Cleaned Data'!K1404=$B$34,1,0))*(IF('Cleaned Data'!H1404<>\"\",1,0))","v":540},{"$f":"INDEX('Cleaned Data'!H:H,MATCH($A1458,$B$56:$B$1919,0))","v":{"$error":"#N/A"}},{"$f":"INDEX('Cleaned Data'!L:L,MATCH($A1458,$B$56:$B$1919,0))","v":{"$error":"#N/A"}}]
[1404,{"$f":"B1458+IF('Cleaned Data'!L1405>0,1,0)*IF($B$34=\"Overall\",1,IF('Cleaned Data'!K1405=$B$34,1,0))*(IF('Cleaned Data'!H1405<>\"\",1,0))","v":540},{"$f":"INDEX('Cleaned Data'!H:H,MATCH($A1459,$B$56:$B$1919,0))","v":{"$error":"#N/A"}},{"$f":"INDEX('Cleaned Data'!L:L,MATCH($A1459,$B$56:$B$1919,0))","v":{"$error":"#N/A"}}]
[1405,{"$f":"B1459+IF('Cleaned Data'!L1406>0,1,0)*IF($B$34=\"Overall\",1,IF('Cleaned Data'!K1406=$B$34,1,0))*(IF('Cleaned Data'!H1406<>\"\",1,0))","v":540},{"$f":"INDEX('Cleaned Data'!H:H,MATCH($A1460,$B$56:$B$1919,0))","v":{"$error":"#N/A"}},{"$f":"INDEX('Cleaned Data'!L:L,MATCH($A1460,$B$56:$B$1919,0))","v":{"$error":"#N/A"}}]
[1406,{"$f":"B1460+IF('Cleaned Data'!L1407>0,1,0)*IF($B$34=\"Overall\",1,IF('Cleaned Data'!K1407=$B$34,1,0))*(IF('Cleaned Data'!H1407<>\"\",1,0))","v":540},{"$f":"INDEX('Cleaned Data'!H:H,MATCH($A1461,$B$56:$B$1919,0))","v":{"$error":"#N/A"}},{"$f":"INDEX('Cleaned Data'!L:L,MATCH($A1461,$B$56:$B$1919,0))","v":{"$error":"#N/A"}}]
[1407,{"$f":"B1461+IF('Cleaned Data'!L1408>0,1,0)*IF($B$34=\"Overall\",1,IF('Cleaned Data'!K1408=$B$34,1,0))*(IF('Cleaned Data'!H1408<>\"\",1,0))","v":540},{"$f":"INDEX('Cleaned Data'!H:H,MATCH($A1462,$B$56:$B$1919,0))","v":{"$error":"#N/A"}},{"$f":"INDEX('Cleaned Data'!L:L,MATCH($A1462,$B$56:$B$1919,0))","v":{"$error":"#N/A"}}]
[1408,{"$f":"B1462+IF('Cleaned Data'!L1409>0,1,0)*IF($B$34=\"Overall\",1,IF('Cleaned Data'!K1409=$B$34,1,0))*(IF('Cleaned Data'!H1409<>\"\",1,0))","v":540},{"$f":"INDEX('Cleaned Data'!H:H,MATCH($A1463,$B$56:$B$1919,0))","v":{"$error":"#N/A"}},{"$f":"INDEX('Cleaned Data'!L:L,MATCH($A1463,$B$56:$B$1919,0))","v":{"$error":"#N/A"}}]
[1409,{"$f":"B1463+IF('Cleaned Data'!L1410>0,1,0)*IF($B$34=\"Overall\",1,IF('Cleaned Data'!K1410=$B$34,1,0))*(IF('Cleaned Data'!H1410<>\"\",1,0))","v":540},{"$f":"INDEX('Cleaned Data'!H:H,MATCH($A1464,$B$56:$B$1919,0))","v":{"$error":"#N/A"}},{"$f":"INDEX('Cleaned Data'!L:L,MATCH($A1464,$B$56:$B$1919,0))","v":{"$error":"#N/A"}}]
[1410,{"$f":"B1464+IF('Cleaned Data'!L1411>0,1,0)*IF($B$34=\"Overall\",1,IF('Cleaned Data'!K1411=$B$34,1,0))*(IF('Cleaned Data'!H1411<>\"\",1,0))","v":540},{"$f":"INDEX('Cleaned Data'!H:H,MATCH($A1465,$B$56:$B$1919,0))","v":{"$error":"#N/A"}},{"$f":"INDEX('Cleaned Data'!L:L,MATCH($A1465,$B$56:$B$1919,0))","v":{"$error":"#N/A"}}]
[1411,{"$f":"B1465+IF('Cleaned Data'!L1412>0,1,0)*IF($B$34=\"Overall\",1,IF('Cleaned Data'!K1412=$B$34,1,0))*(IF('Cleaned Data'!H1412<>\"\",1,0))","v":540},{"$f":"INDEX('Cleaned Data'!H:H,MATCH($A1466,$B$56:$B$1919,0))","v":{"$error":"#N/A"}},{"$f":"INDEX('Cleaned Data'!L:L,MATCH($A1466,$B$56:$B$1919,0))","v":{"$error":"#N/A"}}]
[1412,{"$f":"B1466+IF('Cleaned Data'!L1413>0,1,0)*IF($B$34=\"Overall\",1,IF('Cleaned Data'!K1413=$B$34,1,0))*(IF('Cleaned Data'!H1413<>\"\",1,0))","v":540},{"$f":"INDEX('Cleaned Data'!H:H,MATCH($A1467,$B$56:$B$1919,0))","v":{"$error":"#N/A"}},{"$f":"INDEX('Cleaned Data'!L:L,MATCH($A1467,$B$56:$B$1919,0))","v":{"$error":"#N/A"}}]
[1413,{"$f":"B1467+IF('Cleaned Data'!L1414>0,1,0)*IF($B$34=\"Overall\",1,IF('Cleaned Data'!K1414=$B$34,1,0))*(IF('Cleaned Data'!H1414<>\"\",1,0))","v":540},{"$f":"INDEX('Cleaned Data'!H:H,MATCH($A1468,$B$56:$B$1919,0))","v":{"$error":"#N/A"}},{"$f":"INDEX('Cleaned Data'!L:L,MATCH($A1468,$B$56:$B$1919,0))","v":{"$error":"#N/A"}}]
[1414,{"$f":"B1468+IF('Cleaned Data'!L1415>0,1,0)*IF($B$34=\"Overall\",1,IF('Cleaned Data'!K1415=$B$34,1,0))*(IF('Cleaned Data'!H1415<>\"\",1,0))","v":540},{"$f":"INDEX('Cleaned Data'!H:H,MATCH($A1469,$B$56:$B$1919,0))","v":{"$error":"#N/A"}},{"$f":"INDEX('Cleaned Data'!L:L,MATCH($A1469,$B$56:$B$1919,0))","v":{"$error":"#N/A"}}]
[1415,{"$f":"B1469+IF('Cleaned Data'!L1416>0,1,0)*IF($B$34=\"Overall\",1,IF('Cleaned Data'!K1416=$B$34,1,0))*(IF('Cleaned Data'!H1416<>\"\",1,0))","v":540},{"$f":"INDEX('Cleaned Data'!H:H,MATCH($A1470,$B$56:$B$1919,0))","v":{"$error":"#N/A"}},{"$f":"INDEX('Cleaned Data'!L:L,MATCH($A1470,$B$56:$B$1919,0))","v":{"$error":"#N/A"}}]
[1416,{"$f":"B1470+IF('Cleaned Data'!L1417>0,1,0)*IF($B$34=\"Overall\",1,IF('Cleaned Data'!K1417=$B$34,1,0))*(IF('Cleaned Data'!H1417<>\"\",1,0))","v":540},{"$f":"INDEX('Cleaned Data'!H:H,MATCH($A1471,$B$56:$B$1919,0))","v":{"$error":"#N/A"}},{"$f":"INDEX('Cleaned Data'!L:L,MATCH($A1471,$B$56:$B$1919,0))","v":{"$error":"#N/A"}}]
[1417,{"$f":"B1471+IF('Cleaned Data'!L1418>0,1,0)*IF($B$34=\"Overall\",1,IF('Cleaned Data'!K1418=$B$34,1,0))*(IF('Cleaned Data'!H1418<>\"\",1,0))","v":540},{"$f":"INDEX('Cleaned Data'!H:H,MATCH($A1472,$B$56:$B$1919,0))","v":{"$error":"#N/A"}},{"$f":"INDEX('Cleaned Data'!L:L,MATCH($A1472,$B$56:$B$1919,0))","v":{"$error":"#N/A"}}]
[1418,{"$f":"B1472+IF('Cleaned Data'!L1419>0,1,0)*IF($B$34=\"Overall\",1,IF('Cleaned Data'!K1419=$B$34,1,0))*(IF('Cleaned Data'!H1419<>\"\",1,0))","v":540},{"$f":"INDEX('Cleaned Data'!H:H,MATCH($A1473,$B$56:$B$1919,0))","v":{"$error":"#N/A"}},{"$f":"INDEX('Cleaned Data'!L:L,MATCH($A1473,$B$56:$B$1919,0))","v":{"$error":"#N/A"}}]
[1419,{"$f":"B1473+IF('Cleaned Data'!L1420>0,1,0)*IF($B$34=\"Overall\",1,IF('Cleaned Data'!K1420=$B$34,1,0))*(IF('Cleaned Data'!H1420<>\"\",1,0))","v":540},{"$f":"INDEX('Cleaned Data'!H:H,MATCH($A1474,$B$56:$B$1919,0))","v":{"$error":"#N/A"}},{"$f":"INDEX('Cleaned Data'!L:L,MATCH($A1474,$B$56:$B$1919,0))","v":{"$error":"#N/A"}}]
[1420,{"$f":"B1474+IF('Cleaned Data'!L1421>0,1,0)*IF($B$34=\"Overall\",1,IF('Cleaned Data'!K1421=$B$34,1,0))*(IF('Cleaned Data'!H1421<>\"\",1,0))","v":540},{"$f":"INDEX('Cleaned Data'!H:H,MATCH($A1475,$B$56:$B$1919,0))","v":{"$error":"#N/A"}},{"$f":"INDEX('Cleaned Data'!L:L,MATCH($A1475,$B$56:$B$1919,0))","v":{"$error":"#N/A"}}]
[1421,{"$f":"B1475+IF('Cleaned Data'!L1422>0,1,0)*IF($B$34=\"Overall\",1,IF('Cleaned Data'!K1422=$B$34,1,0))*(IF('Cleaned Data'!H1422<>\"\",1,0))","v":540},{"$f":"INDEX('Cleaned Data'!H:H,MATCH($A1476,$B$56:$B$1919,0))","v":{"$error":"#N/A"}},{"$f":"INDEX('Cleaned Data'!L:L,MATCH($A1476,$B$56:$B$1919,0))","v":{"$error":"#N/A"}}]
[1422,{"$f":"B1476+IF('Cleaned Data'!L1423>0,1,0)*IF($B$34=\"Overall\",1,IF('Cleaned Data'!K1423=$B$34,1,0))*(IF('Cleaned Data'!H1423<>\"\",1,0))","v":540},{"$f":"INDEX('Cleaned Data'!H:H,MATCH($A1477,$B$56:$B$1919,0))","v":{"$error":"#N/A"}},{"$f":"INDEX('Cleaned Data'!L:L,MATCH($A1477,$B$56:$B$1919,0))","v":{"$error":"#N/A"}}]
[1423,{"$f":"B1477+IF('Cleaned Data'!L1424>0,1,0)*IF($B$34=\"Overall\",1,IF('Cleaned Data'!K1424=$B$34,1,0))*(IF('Cleaned Data'!H1424<>\"\",1,0))","v":540},{"$f":"INDEX('Cleaned Data'!H:H,MATCH($A1478,$B$56:$B$1919,0))","v":{"$error":"#N/A"}},{"$f":"INDEX('Cleaned Data'!L:L,MATCH($A1478,$B$56:$B$1919,0))","v":{"$error":"#N/A"}}]
[1424,{"$f":"B1478+IF('Cleaned Data'!L1425>0,1,0)*IF($B$34=\"Overall\",1,IF('Cleaned Data'!K1425=$B$34,1,0))*(IF('Cleaned Data'!H1425<>\"\",1,0))","v":540},{"$f":"INDEX('Cleaned Data'!H:H,MATCH($A1479,$B$56:$B$1919,0))","v":{"$error":"#N/A"}},{"$f":"INDEX('Cleaned Data'!L:L,MATCH($A1479,$B$56:$B$1919,0))","v":{"$error":"#N/A"}}]
[1425,{"$f":"B1479+IF('Cleaned Data'!L1426>0,1,0)*IF($B$34=\"Overall\",1,IF('Cleaned Data'!K1426=$B$34,1,0))*(IF('Cleaned Data'!H1426<>\"\",1,0))","v":540},{"$f":"INDEX('Cleaned Data'!H:H,MATCH($A1480,$B$56:$B$1919,0))","v":{"$error":"#N/A"}},{"$f":"INDEX('Cleaned Data'!L:L,MATCH($A1480,$B$56:$B$1919,0))","v":{"$error":"#N/A"}}]
[1426,{"$f":"B1480+IF('Cleaned Data'!L1427>0,1,0)*IF($B$34=\"Overall\",1,IF('Cleaned Data'!K1427=$B$34,1,0))*(IF('Cleaned Data'!H1427<>\"\",1,0))","v":540},{"$f":"INDEX('Cleaned Data'!H:H,MATCH($A1481,$B$56:$B$1919,0))","v":{"$error":"#N/A"}},{"$f":"INDEX('Cleaned Data'!L:L,MATCH($A1481,$B$56:$B$1919,0))","v":{"$error":"#N/A"}}]
[1427,{"$f":"B1481+IF('Cleaned Data'!L1428>0,1,0)*IF($B$34=\"Overall\",1,IF('Cleaned Data'!K1428=$B$34,1,0))*(IF('Cleaned Data'!H1428<>\"\",1,0))","v":540},{"$f":"INDEX('Cleaned Data'!H:H,MATCH($A1482,$B$56:$B$1919,0))","v":{"$error":"#N/A"}},{"$f":"INDEX('Cleaned Data'!L:L,MATCH($A1482,$B$56:$B$1919,0))","v":{"$error":"#N/A"}}]
[1428,{"$f":"B1482+IF('Cleaned Data'!L1429>0,1,0)*IF($B$34=\"Overall\",1,IF('Cleaned Data'!K1429=$B$34,1,0))*(IF('Cleaned Data'!H1429<>\"\",1,0))","v":540},{"$f":"INDEX('Cleaned Data'!H:H,MATCH($A1483,$B$56:$B$1919,0))","v":{"$error":"#N/A"}},{"$f":"INDEX('Cleaned Data'!L:L,MATCH($A1483,$B$56:$B$1919,0))","v":{"$error":"#N/A"}}]
[1429,{"$f":"B1483+IF('Cleaned Data'!L1430>0,1,0)*IF($B$34=\"Overall\",1,IF('Cleaned Data'!K1430=$B$34,1,0))*(IF('Cleaned Data'!H1430<>\"\",1,0))","v":540},{"$f":"INDEX('Cleaned Data'!H:H,MATCH($A1484,$B$56:$B$1919,0))","v":{"$error":"#N/A"}},{"$f":"INDEX('Cleaned Data'!L:L,MATCH($A1484,$B$56:$B$1919,0))","v":{"$error":"#N/A"}}]
[1430,{"$f":"B1484+IF('Cleaned Data'!L1431>0,1,0)*IF($B$34=\"Overall\",1,IF('Cleaned Data'!K1431=$B$34,1,0))*(IF('Cleaned Data'!H1431<>\"\",1,0))","v":540},{"$f":"INDEX('Cleaned Data'!H:H,MATCH($A1485,$B$56:$B$1919,0))","v":{"$error":"#N/A"}},{"$f":"INDEX('Cleaned Data'!L:L,MATCH($A1485,$B$56:$B$1919,0))","v":{"$error":"#N/A"}}]
[1431,{"$f":"B1485+IF('Cleaned Data'!L1432>0,1,0)*IF($B$34=\"Overall\",1,IF('Cleaned Data'!K1432=$B$34,1,0))*(IF('Cleaned Data'!H1432<>\"\",1,0))","v":540},{"$f":"INDEX('Cleaned Data'!H:H,MATCH($A1486,$B$56:$B$1919,0))","v":{"$error":"#N/A"}},{"$f":"INDEX('Cleaned Data'!L:L,MATCH($A1486,$B$56:$B$1919,0))","v":{"$error":"#N/A"}}]
[1432,{"$f":"B1486+IF('Cleaned Data'!L1433>0,1,0)*IF($B$34=\"Overall\",1,IF('Cleaned Data'!K1433=$B$34,1,0))*(IF('Cleaned Data'!H1433<>\"\",1,0))","v":540},{"$f":"INDEX('Cleaned Data'!H:H,MATCH($A1487,$B$56:$B$1919,0))","v":{"$error":"#N/A"}},{"$f":"INDEX('Cleaned Data'!L:L,MATCH($A1487,$B$56:$B$1919,0))","v":{"$error":"#N/A"}}]
[1433,{"$f":"B1487+IF('Cleaned Data'!L1434>0,1,0)*IF($B$34=\"Overall\",1,IF('Cleaned Data'!K1434=$B$34,1,0))*(IF('Cleaned Data'!H1434<>\"\",1,0))","v":540},{"$f":"INDEX('Cleaned Data'!H:H,MATCH($A1488,$B$56:$B$1919,0))","v":{"$error":"#N/A"}},{"$f":"INDEX('Cleaned Data'!L:L,MATCH($A1488,$B$56:$B$1919,0))","v":{"$error":"#N/A"}}]
[1434,{"$f":"B1488+IF('Cleaned Data'!L1435>0,1,0)*IF($B$34=\"Overall\",1,IF('Cleaned Data'!K1435=$B$34,1,0))*(IF('Cleaned Data'!H1435<>\"\",1,0))","v":540},{"$f":"INDEX('Cleaned Data'!H:H,MATCH($A1489,$B$56:$B$1919,0))","v":{"$error":"#N/A"}},{"$f":"INDEX('Cleaned Data'!L:L,MATCH($A1489,$B$56:$B$1919,0))","v":{"$error":"#N/A"}}]
[1435,{"$f":"B1489+IF('Cleaned Data'!L1436>0,1,0)*IF($B$34=\"Overall\",1,IF('Cleaned Data'!K1436=$B$34,1,0))*(IF('Cleaned Data'!H1436<>\"\",1,0))","v":540},{"$f":"INDEX('Cleaned Data'!H:H,MATCH($A1490,$B$56:$B$1919,0))","v":{"$error":"#N/A"}},{"$f":"INDEX('Cleaned Data'!L:L,MATCH($A1490,$B$56:$B$1919,0))","v":{"$error":"#N/A"}}]
[1436,{"$f":"B1490+IF('Cleaned Data'!L1437>0,1,0)*IF($B$34=\"Overall\",1,IF('Cleaned Data'!K1437=$B$34,1,0))*(IF('Cleaned Data'!H1437<>\"\",1,0))","v":540},{"$f":"INDEX('Cleaned Data'!H:H,MATCH($A1491,$B$56:$B$1919,0))","v":{"$error":"#N/A"}},{"$f":"INDEX('Cleaned Data'!L:L,MATCH($A1491,$B$56:$B$1919,0))","v":{"$error":"#N/A"}}]
[1437,{"$f":"B1491+IF('Cleaned Data'!L1438>0,1,0)*IF($B$34=\"Overall\",1,IF('Cleaned Data'!K1438=$B$34,1,0))*(IF('Cleaned Data'!H1438<>\"\",1,0))","v":540},{"$f":"INDEX('Cleaned Data'!H:H,MATCH($A1492,$B$56:$B$1919,0))","v":{"$error":"#N/A"}},{"$f":"INDEX('Cleaned Data'!L:L,MATCH($A1492,$B$56:$B$1919,0))","v":{"$error":"#N/A"}}]
[1438,{"$f":"B1492+IF('Cleaned Data'!L1439>0,1,0)*IF($B$34=\"Overall\",1,IF('Cleaned Data'!K1439=$B$34,1,0))*(IF('Cleaned Data'!H1439<>\"\",1,0))","v":540},{"$f":"INDEX('Cleaned Data'!H:H,MATCH($A1493,$B$56:$B$1919,0))","v":{"$error":"#N/A"}},{"$f":"INDEX('Cleaned Data'!L:L,MATCH($A1493,$B$56:$B$1919,0))","v":{"$error":"#N/A"}}]
[1439,{"$f":"B1493+IF('Cleaned Data'!L1440>0,1,0)*IF($B$34=\"Overall\",1,IF('Cleaned Data'!K1440=$B$34,1,0))*(IF('Cleaned Data'!H1440<>\"\",1,0))","v":540},{"$f":"INDEX('Cleaned Data'!H:H,MATCH($A1494,$B$56:$B$1919,0))","v":{"$error":"#N/A"}},{"$f":"INDEX('Cleaned Data'!L:L,MATCH($A1494,$B$56:$B$1919,0))","v":{"$error":"#N/A"}}]
[1440,{"$f":"B1494+IF('Cleaned Data'!L1441>0,1,0)*IF($B$34=\"Overall\",1,IF('Cleaned Data'!K1441=$B$34,1,0))*(IF('Cleaned Data'!H1441<>\"\",1,0))","v":540},{"$f":"INDEX('Cleaned Data'!H:H,MATCH($A1495,$B$56:$B$1919,0))","v":{"$error":"#N/A"}},{"$f":"INDEX('Cleaned Data'!L:L,MATCH($A1495,$B$56:$B$1919,0))","v":{"$error":"#N/A"}}]
[1441,{"$f":"B1495+IF('Cleaned Data'!L1442>0,1,0)*IF($B$34=\"Overall\",1,IF('Cleaned Data'!K1442=$B$34,1,0))*(IF('Cleaned Data'!H1442<>\"\",1,0))","v":540},{"$f":"INDEX('Cleaned Data'!H:H,MATCH($A1496,$B$56:$B$1919,0))","v":{"$error":"#N/A"}},{"$f":"INDEX('Cleaned Data'!L:L,MATCH($A1496,$B$56:$B$1919,0))","v":{"$error":"#N/A"}}]
[1442,{"$f":"B1496+IF('Cleaned Data'!L1443>0,1,0)*IF($B$34=\"Overall\",1,IF('Cleaned Data'!K1443=$B$34,1,0))*(IF('Cleaned Data'!H1443<>\"\",1,0))","v":540},{"$f":"INDEX('Cleaned Data'!H:H,MATCH($A1497,$B$56:$B$1919,0))","v":{"$error":"#N/A"}},{"$f":"INDEX('Cleaned Data'!L:L,MATCH($A1497,$B$56:$B$1919,0))","v":{"$error":"#N/A"}}]
[1443,{"$f":"B1497+IF('Cleaned Data'!L1444>0,1,0)*IF($B$34=\"Overall\",1,IF('Cleaned Data'!K1444=$B$34,1,0))*(IF('Cleaned Data'!H1444<>\"\",1,0))","v":540},{"$f":"INDEX('Cleaned Data'!H:H,MATCH($A1498,$B$56:$B$1919,0))","v":{"$error":"#N/A"}},{"$f":"INDEX('Cleaned Data'!L:L,MATCH($A1498,$B$56:$B$1919,0))","v":{"$error":"#N/A"}}]
[1444,{"$f":"B1498+IF('Cleaned Data'!L1445>0,1,0)*IF($B$34=\"Overall\",1,IF('Cleaned Data'!K1445=$B$34,1,0))*(IF('Cleaned Data'!H1445<>\"\",1,0))","v":540},{"$f":"INDEX('Cleaned Data'!H:H,MATCH($A1499,$B$56:$B$1919,0))","v":{"$error":"#N/A"}},{"$f":"INDEX('Cleaned Data'!L:L,MATCH($A1499,$B$56:$B$1919,0))","v":{"$error":"#N/A"}}]
[1445,{"$f":"B1499+IF('Cleaned Data'!L1446>0,1,0)*IF($B$34=\"Overall\",1,IF('Cleaned Data'!K1446=$B$34,1,0))*(IF('Cleaned Data'!H1446<>\"\",1,0))","v":540},{"$f":"INDEX('Cleaned Data'!H:H,MATCH($A1500,$B$56:$B$1919,0))","v":{"$error":"#N/A"}},{"$f":"INDEX('Cleaned Data'!L:L,MATCH($A1500,$B$56:$B$1919,0))","v":{"$error":"#N/A"}}]
[1446,{"$f":"B1500+IF('Cleaned Data'!L1447>0,1,0)*IF($B$34=\"Overall\",1,IF('Cleaned Data'!K1447=$B$34,1,0))*(IF('Cleaned Data'!H1447<>\"\",1,0))","v":540},{"$f":"INDEX('Cleaned Data'!H:H,MATCH($A1501,$B$56:$B$1919,0))","v":{"$error":"#N/A"}},{"$f":"INDEX('Cleaned Data'!L:L,MATCH($A1501,$B$56:$B$1919,0))","v":{"$error":"#N/A"}}]
[1447,{"$f":"B1501+IF('Cleaned Data'!L1448>0,1,0)*IF($B$34=\"Overall\",1,IF('Cleaned Data'!K1448=$B$34,1,0))*(IF('Cleaned Data'!H1448<>\"\",1,0))","v":540},{"$f":"INDEX('Cleaned Data'!H:H,MATCH($A1502,$B$56:$B$1919,0))","v":{"$error":"#N/A"}},{"$f":"INDEX('Cleaned Data'!L:L,MATCH($A1502,$B$56:$B$1919,0))","v":{"$error":"#N/A"}}]
[1448,{"$f":"B1502+IF('Cleaned Data'!L1449>0,1,0)*IF($B$34=\"Overall\",1,IF('Cleaned Data'!K1449=$B$34,1,0))*(IF('Cleaned Data'!H1449<>\"\",1,0))","v":540},{"$f":"INDEX('Cleaned Data'!H:H,MATCH($A1503,$B$56:$B$1919,0))","v":{"$error":"#N/A"}},{"$f":"INDEX('Cleaned Data'!L:L,MATCH($A1503,$B$56:$B$1919,0))","v":{"$error":"#N/A"}}]
[1449,{"$f":"B1503+IF('Cleaned Data'!L1450>0,1,0)*IF($B$34=\"Overall\",1,IF('Cleaned Data'!K1450=$B$34,1,0))*(IF('Cleaned Data'!H1450<>\"\",1,0))","v":540},{"$f":"INDEX('Cleaned Data'!H:H,MATCH($A1504,$B$56:$B$1919,0))","v":{"$error":"#N/A"}},{"$f":"INDEX('Cleaned Data'!L:L,MATCH($A1504,$B$56:$B$1919,0))","v":{"$error":"#N/A"}}]
[1450,{"$f":"B1504+IF('Cleaned Data'!L1451>0,1,0)*IF($B$34=\"Overall\",1,IF('Cleaned Data'!K1451=$B$34,1,0))*(IF('Cleaned Data'!H1451<>\"\",1,0))","v":540},{"$f":"INDEX('Cleaned Data'!H:H,MATCH($A1505,$B$56:$B$1919,0))","v":{"$error":"#N/A"}},{"$f":"INDEX('Cleaned Data'!L:L,MATCH($A1505,$B$56:$B$1919,0))","v":{"$error":"#N/A"}}]
[1451,{"$f":"B1505+IF('Cleaned Data'!L1452>0,1,0)*IF($B$34=\"Overall\",1,IF('Cleaned Data'!K1452=$B$34,1,0))*(IF('Cleaned Data'!H1452<>\"\",1,0))","v":540},{"$f":"INDEX('Cleaned Data'!H:H,MATCH($A1506,$B$56:$B$1919,0))","v":{"$error":"#N/A"}},{"$f":"INDEX('Cleaned Data'!L:L,MATCH($A1506,$B$56:$B$1919,0))","v":{"$error":"#N/A"}}]
[1452,{"$f":"B1506+IF('Cleaned Data'!L1453>0,1,0)*IF($B$34=\"Overall\",1,IF('Cleaned Data'!K1453=$B$34,1,0))*(IF('Cleaned Data'!H1453<>\"\",1,0))","v":540},{"$f":"INDEX('Cleaned Data'!H:H,MATCH($A1507,$B$56:$B$1919,0))","v":{"$error":"#N/A"}},{"$f":"INDEX('Cleaned Data'!L:L,MATCH($A1507,$B$56:$B$1919,0))","v":{"$error":"#N/A"}}]
[1453,{"$f":"B1507+IF('Cleaned Data'!L1454>0,1,0)*IF($B$34=\"Overall\",1,IF('Cleaned Data'!K1454=$B$34,1,0))*(IF('Cleaned Data'!H1454<>\"\",1,0))","v":540},{"$f":"INDEX('Cleaned Data'!H:H,MATCH($A1508,$B$56:$B$1919,0))","v":{"$error":"#N/A"}},{"$f":"INDEX('Cleaned Data'!L:L,MATCH($A1508,$B$56:$B$1919,0))","v":{"$error":"#N/A"}}]
[1454,{"$f":"B1508+IF('Cleaned Data'!L1455>0,1,0)*IF($B$34=\"Overall\",1,IF('Cleaned Data'!K1455=$B$34,1,0))*(IF('Cleaned Data'!H1455<>\"\",1,0))","v":540},{"$f":"INDEX('Cleaned Data'!H:H,MATCH($A1509,$B$56:$B$1919,0))","v":{"$error":"#N/A"}},{"$f":"INDEX('Cleaned Data'!L:L,MATCH($A1509,$B$56:$B$1919,0))","v":{"$error":"#N/A"}}]
[1455,{"$f":"B1509+IF('Cleaned Data'!L1456>0,1,0)*IF($B$34=\"Overall\",1,IF('Cleaned Data'!K1456=$B$34,1,0))*(IF('Cleaned Data'!H1456<>\"\",1,0))","v":540},{"$f":"INDEX('Cleaned Data'!H:H,MATCH($A1510,$B$56:$B$1919,0))","v":{"$error":"#N/A"}},{"$f":"INDEX('Cleaned Data'!L:L,MATCH($A1510,$B$56:$B$1919,0))","v":{"$error":"#N/A"}}]
[1456,{"$f":"B1510+IF('Cleaned Data'!L1457>0,1,0)*IF($B$34=\"Overall\",1,IF('Cleaned Data'!K1457=$B$34,1,0))*(IF('Cleaned Data'!H1457<>\"\",1,0))","v":540},{"$f":"INDEX('Cleaned Data'!H:H,MATCH($A1511,$B$56:$B$1919,0))","v":{"$error":"#N/A"}},{"$f":"INDEX('Cleaned Data'!L:L,MATCH($A1511,$B$56:$B$1919,0))","v":{"$error":"#N/A"}}]
[1457,{"$f":"B1511+IF('Cleaned Data'!L1458>0,1,0)*IF($B$34=\"Overall\",1,IF('Cleaned Data'!K1458=$B$34,1,0))*(IF('Cleaned Data'!H1458<>\"\",1,0))","v":540},{"$f":"INDEX('Cleaned Data'!H:H,MATCH($A1512,$B$56:$B$1919,0))","v":{"$error":"#N/A"}},{"$f":"INDEX('Cleaned Data'!L:L,MATCH($A1512,$B$56:$B$1919,0))","v":{"$error":"#N/A"}}]
[1458,{"$f":"B1512+IF('Cleaned Data'!L1459>0,1,0)*IF($B$34=\"Overall\",1,IF('Cleaned Data'!K1459=$B$34,1,0))*(IF('Cleaned Data'!H1459<>\"\",1,0))","v":540},{"$f":"INDEX('Cleaned Data'!H:H,MATCH($A1513,$B$56:$B$1919,0))","v":{"$error":"#N/A"}},{"$f":"INDEX('Cleaned Data'!L:L,MATCH($A1513,$B$56:$B$1919,0))","v":{"$error":"#N/A"}}]
[1459,{"$f":"B1513+IF('Cleaned Data'!L1460>0,1,0)*IF($B$34=\"Overall\",1,IF('Cleaned Data'!K1460=$B$34,1,0))*(IF('Cleaned Data'!H1460<>\"\",1,0))","v":540},{"$f":"INDEX('Cleaned Data'!H:H,MATCH($A1514,$B$56:$B$1919,0))","v":{"$error":"#N/A"}},{"$f":"INDEX('Cleaned Data'!L:L,MATCH($A1514,$B$56:$B$1919,0))","v":{"$error":"#N/A"}}]
[1460,{"$f":"B1514+IF('Cleaned Data'!L1461>0,1,0)*IF($B$34=\"Overall\",1,IF('Cleaned Data'!K1461=$B$34,1,0))*(IF('Cleaned Data'!H1461<>\"\",1,0))","v":540},{"$f":"INDEX('Cleaned Data'!H:H,MATCH($A1515,$B$56:$B$1919,0))","v":{"$error":"#N/A"}},{"$f":"INDEX('Cleaned Data'!L:L,MATCH($A1515,$B$56:$B$1919,0))","v":{"$error":"#N/A"}}]
[1461,{"$f":"B1515+IF('Cleaned Data'!L1462>0,1,0)*IF($B$34=\"Overall\",1,IF('Cleaned Data'!K1462=$B$34,1,0))*(IF('Cleaned Data'!H1462<>\"\",1,0))","v":540},{"$f":"INDEX('Cleaned Data'!H:H,MATCH($A1516,$B$56:$B$1919,0))","v":{"$error":"#N/A"}},{"$f":"INDEX('Cleaned Data'!L:L,MATCH($A1516,$B$56:$B$1919,0))","v":{"$error":"#N/A"}}]
[1462,{"$f":"B1516+IF('Cleaned Data'!L1463>0,1,0)*IF($B$34=\"Overall\",1,IF('Cleaned Data'!K1463=$B$34,1,0))*(IF('Cleaned Data'!H1463<>\"\",1,0))","v":540},{"$f":"INDEX('Cleaned Data'!H:H,MATCH($A1517,$B$56:$B$1919,0))","v":{"$error":"#N/A"}},{"$f":"INDEX('Cleaned Data'!L:L,MATCH($A1517,$B$56:$B$1919,0))","v":{"$error":"#N/A"}}]
[1463,{"$f":"B1517+IF('Cleaned Data'!L1464>0,1,0)*IF($B$34=\"Overall\",1,IF('Cleaned Data'!K1464=$B$34,1,0))*(IF('Cleaned Data'!H1464<>\"\",1,0))","v":540},{"$f":"INDEX('Cleaned Data'!H:H,MATCH($A1518,$B$56:$B$1919,0))","v":{"$error":"#N/A"}},{"$f":"INDEX('Cleaned Data'!L:L,MATCH($A1518,$B$56:$B$1919,0))","v":{"$error":"#N/A"}}]
[1464,{"$f":"B1518+IF('Cleaned Data'!L1465>0,1,0)*IF($B$34=\"Overall\",1,IF('Cleaned Data'!K1465=$B$34,1,0))*(IF('Cleaned Data'!H1465<>\"\",1,0))","v":540},{"$f":"INDEX('Cleaned Data'!H:H,MATCH($A1519,$B$56:$B$1919,0))","v":{"$error":"#N/A"}},{"$f":"INDEX('Cleaned Data'!L:L,MATCH($A1519,$B$56:$B$1919,0))","v":{"$error":"#N/A"}}]
[1465,{"$f":"B1519+IF('Cleaned Data'!L1466>0,1,0)*IF($B$34=\"Overall\",1,IF('Cleaned Data'!K1466=$B$34,1,0))*(IF('Cleaned Data'!H1466<>\"\",1,0))","v":540},{"$f":"INDEX('Cleaned Data'!H:H,MATCH($A1520,$B$56:$B$1919,0))","v":{"$error":"#N/A"}},{"$f":"INDEX('Cleaned Data'!L:L,MATCH($A1520,$B$56:$B$1919,0))","v":{"$error":"#N/A"}}]
[1466,{"$f":"B1520+IF('Cleaned Data'!L1467>0,1,0)*IF($B$34=\"Overall\",1,IF('Cleaned Data'!K1467=$B$34,1,0))*(IF('Cleaned Data'!H1467<>\"\",1,0))","v":540},{"$f":"INDEX('Cleaned Data'!H:H,MATCH($A1521,$B$56:$B$1919,0))","v":{"$error":"#N/A"}},{"$f":"INDEX('Cleaned Data'!L:L,MATCH($A1521,$B$56:$B$1919,0))","v":{"$error":"#N/A"}}]
[1467,{"$f":"B1521+IF('Cleaned Data'!L1468>0,1,0)*IF($B$34=\"Overall\",1,IF('Cleaned Data'!K1468=$B$34,1,0))*(IF('Cleaned Data'!H1468<>\"\",1,0))","v":540},{"$f":"INDEX('Cleaned Data'!H:H,MATCH($A1522,$B$56:$B$1919,0))","v":{"$error":"#N/A"}},{"$f":"INDEX('Cleaned Data'!L:L,MATCH($A1522,$B$56:$B$1919,0))","v":{"$error":"#N/A"}}]
[1468,{"$f":"B1522+IF('Cleaned Data'!L1469>0,1,0)*IF($B$34=\"Overall\",1,IF('Cleaned Data'!K1469=$B$34,1,0))*(IF('Cleaned Data'!H1469<>\"\",1,0))","v":540},{"$f":"INDEX('Cleaned Data'!H:H,MATCH($A1523,$B$56:$B$1919,0))","v":{"$error":"#N/A"}},{"$f":"INDEX('Cleaned Data'!L:L,MATCH($A1523,$B$56:$B$1919,0))","v":{"$error":"#N/A"}}]
[1469,{"$f":"B1523+IF('Cleaned Data'!L1470>0,1,0)*IF($B$34=\"Overall\",1,IF('Cleaned Data'!K1470=$B$34,1,0))*(IF('Cleaned Data'!H1470<>\"\",1,0))","v":540},{"$f":"INDEX('Cleaned Data'!H:H,MATCH($A1524,$B$56:$B$1919,0))","v":{"$error":"#N/A"}},{"$f":"INDEX('Cleaned Data'!L:L,MATCH($A1524,$B$56:$B$1919,0))","v":{"$error":"#N/A"}}]
[1470,{"$f":"B1524+IF('Cleaned Data'!L1471>0,1,0)*IF($B$34=\"Overall\",1,IF('Cleaned Data'!K1471=$B$34,1,0))*(IF('Cleaned Data'!H1471<>\"\",1,0))","v":540},{"$f":"INDEX('Cleaned Data'!H:H,MATCH($A1525,$B$56:$B$1919,0))","v":{"$error":"#N/A"}},{"$f":"INDEX('Cleaned Data'!L:L,MATCH($A1525,$B$56:$B$1919,0))","v":{"$error":"#N/A"}}]
[1471,{"$f":"B1525+IF('Cleaned Data'!L1472>0,1,0)*IF($B$34=\"Overall\",1,IF('Cleaned Data'!K1472=$B$34,1,0))*(IF('Cleaned Data'!H1472<>\"\",1,0))","v":540},{"$f":"INDEX('Cleaned Data'!H:H,MATCH($A1526,$B$56:$B$1919,0))","v":{"$error":"#N/A"}},{"$f":"INDEX('Cleaned Data'!L:L,MATCH($A1526,$B$56:$B$1919,0))","v":{"$error":"#N/A"}}]
[1472,{"$f":"B1526+IF('Cleaned Data'!L1473>0,1,0)*IF($B$34=\"Overall\",1,IF('Cleaned Data'!K1473=$B$34,1,0))*(IF('Cleaned Data'!H1473<>\"\",1,0))","v":540},{"$f":"INDEX('Cleaned Data'!H:H,MATCH($A1527,$B$56:$B$1919,0))","v":{"$error":"#N/A"}},{"$f":"INDEX('Cleaned Data'!L:L,MATCH($A1527,$B$56:$B$1919,0))","v":{"$error":"#N/A"}}]
[1473,{"$f":"B1527+IF('Cleaned Data'!L1474>0,1,0)*IF($B$34=\"Overall\",1,IF('Cleaned Data'!K1474=$B$34,1,0))*(IF('Cleaned Data'!H1474<>\"\",1,0))","v":540},{"$f":"INDEX('Cleaned Data'!H:H,MATCH($A1528,$B$56:$B$1919,0))","v":{"$error":"#N/A"}},{"$f":"INDEX('Cleaned Data'!L:L,MATCH($A1528,$B$56:$B$1919,0))","v":{"$error":"#N/A"}}]
[1474,{"$f":"B1528+IF('Cleaned Data'!L1475>0,1,0)*IF($B$34=\"Overall\",1,IF('Cleaned Data'!K1475=$B$34,1,0))*(IF('Cleaned Data'!H1475<>\"\",1,0))","v":540},{"$f":"INDEX('Cleaned Data'!H:H,MATCH($A1529,$B$56:$B$1919,0))","v":{"$error":"#N/A"}},{"$f":"INDEX('Cleaned Data'!L:L,MATCH($A1529,$B$56:$B$1919,0))","v":{"$error":"#N/A"}}]
[1475,{"$f":"B1529+IF('Cleaned Data'!L1476>0,1,0)*IF($B$34=\"Overall\",1,IF('Cleaned Data'!K1476=$B$34,1,0))*(IF('Cleaned Data'!H1476<>\"\",1,0))","v":540},{"$f":"INDEX('Cleaned Data'!H:H,MATCH($A1530,$B$56:$B$1919,0))","v":{"$error":"#N/A"}},{"$f":"INDEX('Cleaned Data'!L:L,MATCH($A1530,$B$56:$B$1919,0))","v":{"$error":"#N/A"}}]
[1476,{"$f":"B1530+IF('Cleaned Data'!L1477>0,1,0)*IF($B$34=\"Overall\",1,IF('Cleaned Data'!K1477=$B$34,1,0))*(IF('Cleaned Data'!H1477<>\"\",1,0))","v":540},{"$f":"INDEX('Cleaned Data'!H:H,MATCH($A1531,$B$56:$B$1919,0))","v":{"$error":"#N/A"}},{"$f":"INDEX('Cleaned Data'!L:L,MATCH($A1531,$B$56:$B$1919,0))","v":{"$error":"#N/A"}}]
[1477,{"$f":"B1531+IF('Cleaned Data'!L1478>0,1,0)*IF($B$34=\"Overall\",1,IF('Cleaned Data'!K1478=$B$34,1,0))*(IF('Cleaned Data'!H1478<>\"\",1,0))","v":540},{"$f":"INDEX('Cleaned Data'!H:H,MATCH($A1532,$B$56:$B$1919,0))","v":{"$error":"#N/A"}},{"$f":"INDEX('Cleaned Data'!L:L,MATCH($A1532,$B$56:$B$1919,0))","v":{"$error":"#N/A"}}]
[1478,{"$f":"B1532+IF('Cleaned Data'!L1479>0,1,0)*IF($B$34=\"Overall\",1,IF('Cleaned Data'!K1479=$B$34,1,0))*(IF('Cleaned Data'!H1479<>\"\",1,0))","v":540},{"$f":"INDEX('Cleaned Data'!H:H,MATCH($A1533,$B$56:$B$1919,0))","v":{"$error":"#N/A"}},{"$f":"INDEX('Cleaned Data'!L:L,MATCH($A1533,$B$56:$B$1919,0))","v":{"$error":"#N/A"}}]
[1479,{"$f":"B1533+IF('Cleaned Data'!L1480>0,1,0)*IF($B$34=\"Overall\",1,IF('Cleaned Data'!K1480=$B$34,1,0))*(IF('Cleaned Data'!H1480<>\"\",1,0))","v":540},{"$f":"INDEX('Cleaned Data'!H:H,MATCH($A1534,$B$56:$B$1919,0))","v":{"$error":"#N/A"}},{"$f":"INDEX('Cleaned Data'!L:L,MATCH($A1534,$B$56:$B$1919,0))","v":{"$error":"#N/A"}}]
[1480,{"$f":"B1534+IF('Cleaned Data'!L1481>0,1,0)*IF($B$34=\"Overall\",1,IF('Cleaned Data'!K1481=$B$34,1,0))*(IF('Cleaned Data'!H1481<>\"\",1,0))","v":540},{"$f":"INDEX('Cleaned Data'!H:H,MATCH($A1535,$B$56:$B$1919,0))","v":{"$error":"#N/A"}},{"$f":"INDEX('Cleaned Data'!L:L,MATCH($A1535,$B$56:$B$1919,0))","v":{"$error":"#N/A"}}]
[1481,{"$f":"B1535+IF('Cleaned Data'!L1482>0,1,0)*IF($B$34=\"Overall\",1,IF('Cleaned Data'!K1482=$B$34,1,0))*(IF('Cleaned Data'!H1482<>\"\",1,0))","v":540},{"$f":"INDEX('Cleaned Data'!H:H,MATCH($A1536,$B$56:$B$1919,0))","v":{"$error":"#N/A"}},{"$f":"INDEX('Cleaned Data'!L:L,MATCH($A1536,$B$56:$B$1919,0))","v":{"$error":"#N/A"}}]
[1482,{"$f":"B1536+IF('Cleaned Data'!L1483>0,1,0)*IF($B$34=\"Overall\",1,IF('Cleaned Data'!K1483=$B$34,1,0))*(IF('Cleaned Data'!H1483<>\"\",1,0))","v":540},{"$f":"INDEX('Cleaned Data'!H:H,MATCH($A1537,$B$56:$B$1919,0))","v":{"$error":"#N/A"}},{"$f":"INDEX('Cleaned Data'!L:L,MATCH($A1537,$B$56:$B$1919,0))","v":{"$error":"#N/A"}}]
[1483,{"$f":"B1537+IF('Cleaned Data'!L1484>0,1,0)*IF($B$34=\"Overall\",1,IF('Cleaned Data'!K1484=$B$34,1,0))*(IF('Cleaned Data'!H1484<>\"\",1,0))","v":540},{"$f":"INDEX('Cleaned Data'!H:H,MATCH($A1538,$B$56:$B$1919,0))","v":{"$error":"#N/A"}},{"$f":"INDEX('Cleaned Data'!L:L,MATCH($A1538,$B$56:$B$1919,0))","v":{"$error":"#N/A"}}]
[1484,{"$f":"B1538+IF('Cleaned Data'!L1485>0,1,0)*IF($B$34=\"Overall\",1,IF('Cleaned Data'!K1485=$B$34,1,0))*(IF('Cleaned Data'!H1485<>\"\",1,0))","v":540},{"$f":"INDEX('Cleaned Data'!H:H,MATCH($A1539,$B$56:$B$1919,0))","v":{"$error":"#N/A"}},{"$f":"INDEX('Cleaned Data'!L:L,MATCH($A1539,$B$56:$B$1919,0))","v":{"$error":"#N/A"}}]
[1485,{"$f":"B1539+IF('Cleaned Data'!L1486>0,1,0)*IF($B$34=\"Overall\",1,IF('Cleaned Data'!K1486=$B$34,1,0))*(IF('Cleaned Data'!H1486<>\"\",1,0))","v":540},{"$f":"INDEX('Cleaned Data'!H:H,MATCH($A1540,$B$56:$B$1919,0))","v":{"$error":"#N/A"}},{"$f":"INDEX('Cleaned Data'!L:L,MATCH($A1540,$B$56:$B$1919,0))","v":{"$error":"#N/A"}}]
[1486,{"$f":"B1540+IF('Cleaned Data'!L1487>0,1,0)*IF($B$34=\"Overall\",1,IF('Cleaned Data'!K1487=$B$34,1,0))*(IF('Cleaned Data'!H1487<>\"\",1,0))","v":540},{"$f":"INDEX('Cleaned Data'!H:H,MATCH($A1541,$B$56:$B$1919,0))","v":{"$error":"#N/A"}},{"$f":"INDEX('Cleaned Data'!L:L,MATCH($A1541,$B$56:$B$1919,0))","v":{"$error":"#N/A"}}]
[1487,{"$f":"B1541+IF('Cleaned Data'!L1488>0,1,0)*IF($B$34=\"Overall\",1,IF('Cleaned Data'!K1488=$B$34,1,0))*(IF('Cleaned Data'!H1488<>\"\",1,0))","v":540},{"$f":"INDEX('Cleaned Data'!H:H,MATCH($A1542,$B$56:$B$1919,0))","v":{"$error":"#N/A"}},{"$f":"INDEX('Cleaned Data'!L:L,MATCH($A1542,$B$56:$B$1919,0))","v":{"$error":"#N/A"}}]
[1488,{"$f":"B1542+IF('Cleaned Data'!L1489>0,1,0)*IF($B$34=\"Overall\",1,IF('Cleaned Data'!K1489=$B$34,1,0))*(IF('Cleaned Data'!H1489<>\"\",1,0))","v":540},{"$f":"INDEX('Cleaned Data'!H:H,MATCH($A1543,$B$56:$B$1919,0))","v":{"$error":"#N/A"}},{"$f":"INDEX('Cleaned Data'!L:L,MATCH($A1543,$B$56:$B$1919,0))","v":{"$error":"#N/A"}}]
[1489,{"$f":"B1543+IF('Cleaned Data'!L1490>0,1,0)*IF($B$34=\"Overall\",1,IF('Cleaned Data'!K1490=$B$34,1,0))*(IF('Cleaned Data'!H1490<>\"\",1,0))","v":540},{"$f":"INDEX('Cleaned Data'!H:H,MATCH($A1544,$B$56:$B$1919,0))","v":{"$error":"#N/A"}},{"$f":"INDEX('Cleaned Data'!L:L,MATCH($A1544,$B$56:$B$1919,0))","v":{"$error":"#N/A"}}]
[1490,{"$f":"B1544+IF('Cleaned Data'!L1491>0,1,0)*IF($B$34=\"Overall\",1,IF('Cleaned Data'!K1491=$B$34,1,0))*(IF('Cleaned Data'!H1491<>\"\",1,0))","v":540},{"$f":"INDEX('Cleaned Data'!H:H,MATCH($A1545,$B$56:$B$1919,0))","v":{"$error":"#N/A"}},{"$f":"INDEX('Cleaned Data'!L:L,MATCH($A1545,$B$56:$B$1919,0))","v":{"$error":"#N/A"}}]
[1491,{"$f":"B1545+IF('Cleaned Data'!L1492>0,1,0)*IF($B$34=\"Overall\",1,IF('Cleaned Data'!K1492=$B$34,1,0))*(IF('Cleaned Data'!H1492<>\"\",1,0))","v":540},{"$f":"INDEX('Cleaned Data'!H:H,MATCH($A1546,$B$56:$B$1919,0))","v":{"$error":"#N/A"}},{"$f":"INDEX('Cleaned Data'!L:L,MATCH($A1546,$B$56:$B$1919,0))","v":{"$error":"#N/A"}}]
[1492,{"$f":"B1546+IF('Cleaned Data'!L1493>0,1,0)*IF($B$34=\"Overall\",1,IF('Cleaned Data'!K1493=$B$34,1,0))*(IF('Cleaned Data'!H1493<>\"\",1,0))","v":540},{"$f":"INDEX('Cleaned Data'!H:H,MATCH($A1547,$B$56:$B$1919,0))","v":{"$error":"#N/A"}},{"$f":"INDEX('Cleaned Data'!L:L,MATCH($A1547,$B$56:$B$1919,0))","v":{"$error":"#N/A"}}]
[1493,{"$f":"B1547+IF('Cleaned Data'!L1494>0,1,0)*IF($B$34=\"Overall\",1,IF('Cleaned Data'!K1494=$B$34,1,0))*(IF('Cleaned Data'!H1494<>\"\",1,0))","v":540},{"$f":"INDEX('Cleaned Data'!H:H,MATCH($A1548,$B$56:$B$1919,0))","v":{"$error":"#N/A"}},{"$f":"INDEX('Cleaned Data'!L:L,MATCH($A1548,$B$56:$B$1919,0))","v":{"$error":"#N/A"}}]
[1494,{"$f":"B1548+IF('Cleaned Data'!L1495>0,1,0)*IF($B$34=\"Overall\",1,IF('Cleaned Data'!K1495=$B$34,1,0))*(IF('Cleaned Data'!H1495<>\"\",1,0))","v":540},{"$f":"INDEX('Cleaned Data'!H:H,MATCH($A1549,$B$56:$B$1919,0))","v":{"$error":"#N/A"}},{"$f":"INDEX('Cleaned Data'!L:L,MATCH($A1549,$B$56:$B$1919,0))","v":{"$error":"#N/A"}}]
[1495,{"$f":"B1549+IF('Cleaned Data'!L1496>0,1,0)*IF($B$34=\"Overall\",1,IF('Cleaned Data'!K1496=$B$34,1,0))*(IF('Cleaned Data'!H1496<>\"\",1,0))","v":540},{"$f":"INDEX('Cleaned Data'!H:H,MATCH($A1550,$B$56:$B$1919,0))","v":{"$error":"#N/A"}},{"$f":"INDEX('Cleaned Data'!L:L,MATCH($A1550,$B$56:$B$1919,0))","v":{"$error":"#N/A"}}]
[1496,{"$f":"B1550+IF('Cleaned Data'!L1497>0,1,0)*IF($B$34=\"Overall\",1,IF('Cleaned Data'!K1497=$B$34,1,0))*(IF('Cleaned Data'!H1497<>\"\",1,0))","v":540},{"$f":"INDEX('Cleaned Data'!H:H,MATCH($A1551,$B$56:$B$1919,0))","v":{"$error":"#N/A"}},{"$f":"INDEX('Cleaned Data'!L:L,MATCH($A1551,$B$56:$B$1919,0))","v":{"$error":"#N/A"}}]
[1497,{"$f":"B1551+IF('Cleaned Data'!L1498>0,1,0)*IF($B$34=\"Overall\",1,IF('Cleaned Data'!K1498=$B$34,1,0))*(IF('Cleaned Data'!H1498<>\"\",1,0))","v":540},{"$f":"INDEX('Cleaned Data'!H:H,MATCH($A1552,$B$56:$B$1919,0))","v":{"$error":"#N/A"}},{"$f":"INDEX('Cleaned Data'!L:L,MATCH($A1552,$B$56:$B$1919,0))","v":{"$error":"#N/A"}}]
[1498,{"$f":"B1552+IF('Cleaned Data'!L1499>0,1,0)*IF($B$34=\"Overall\",1,IF('Cleaned Data'!K1499=$B$34,1,0))*(IF('Cleaned Data'!H1499<>\"\",1,0))","v":540},{"$f":"INDEX('Cleaned Data'!H:H,MATCH($A1553,$B$56:$B$1919,0))","v":{"$error":"#N/A"}},{"$f":"INDEX('Cleaned Data'!L:L,MATCH($A1553,$B$56:$B$1919,0))","v":{"$error":"#N/A"}}]
[1499,{"$f":"B1553+IF('Cleaned Data'!L1500>0,1,0)*IF($B$34=\"Overall\",1,IF('Cleaned Data'!K1500=$B$34,1,0))*(IF('Cleaned Data'!H1500<>\"\",1,0))","v":540},{"$f":"INDEX('Cleaned Data'!H:H,MATCH($A1554,$B$56:$B$1919,0))","v":{"$error":"#N/A"}},{"$f":"INDEX('Cleaned Data'!L:L,MATCH($A1554,$B$56:$B$1919,0))","v":{"$error":"#N/A"}}]
[1500,{"$f":"B1554+IF('Cleaned Data'!L1501>0,1,0)*IF($B$34=\"Overall\",1,IF('Cleaned Data'!K1501=$B$34,1,0))*(IF('Cleaned Data'!H1501<>\"\",1,0))","v":540},{"$f":"INDEX('Cleaned Data'!H:H,MATCH($A1555,$B$56:$B$1919,0))","v":{"$error":"#N/A"}},{"$f":"INDEX('Cleaned Data'!L:L,MATCH($A1555,$B$56:$B$1919,0))","v":{"$error":"#N/A"}}]
[1501,{"$f":"B1555+IF('Cleaned Data'!L1502>0,1,0)*IF($B$34=\"Overall\",1,IF('Cleaned Data'!K1502=$B$34,1,0))*(IF('Cleaned Data'!H1502<>\"\",1,0))","v":540},{"$f":"INDEX('Cleaned Data'!H:H,MATCH($A1556,$B$56:$B$1919,0))","v":{"$error":"#N/A"}},{"$f":"INDEX('Cleaned Data'!L:L,MATCH($A1556,$B$56:$B$1919,0))","v":{"$error":"#N/A"}}]
[1502,{"$f":"B1556+IF('Cleaned Data'!L1503>0,1,0)*IF($B$34=\"Overall\",1,IF('Cleaned Data'!K1503=$B$34,1,0))*(IF('Cleaned Data'!H1503<>\"\",1,0))","v":540},{"$f":"INDEX('Cleaned Data'!H:H,MATCH($A1557,$B$56:$B$1919,0))","v":{"$error":"#N/A"}},{"$f":"INDEX('Cleaned Data'!L:L,MATCH($A1557,$B$56:$B$1919,0))","v":{"$error":"#N/A"}}]
[1503,{"$f":"B1557+IF('Cleaned Data'!L1504>0,1,0)*IF($B$34=\"Overall\",1,IF('Cleaned Data'!K1504=$B$34,1,0))*(IF('Cleaned Data'!H1504<>\"\",1,0))","v":540},{"$f":"INDEX('Cleaned Data'!H:H,MATCH($A1558,$B$56:$B$1919,0))","v":{"$error":"#N/A"}},{"$f":"INDEX('Cleaned Data'!L:L,MATCH($A1558,$B$56:$B$1919,0))","v":{"$error":"#N/A"}}]
[1504,{"$f":"B1558+IF('Cleaned Data'!L1505>0,1,0)*IF($B$34=\"Overall\",1,IF('Cleaned Data'!K1505=$B$34,1,0))*(IF('Cleaned Data'!H1505<>\"\",1,0))","v":540},{"$f":"INDEX('Cleaned Data'!H:H,MATCH($A1559,$B$56:$B$1919,0))","v":{"$error":"#N/A"}},{"$f":"INDEX('Cleaned Data'!L:L,MATCH($A1559,$B$56:$B$1919,0))","v":{"$error":"#N/A"}}]
[1505,{"$f":"B1559+IF('Cleaned Data'!L1506>0,1,0)*IF($B$34=\"Overall\",1,IF('Cleaned Data'!K1506=$B$34,1,0))*(IF('Cleaned Data'!H1506<>\"\",1,0))","v":540},{"$f":"INDEX('Cleaned Data'!H:H,MATCH($A1560,$B$56:$B$1919,0))","v":{"$error":"#N/A"}},{"$f":"INDEX('Cleaned Data'!L:L,MATCH($A1560,$B$56:$B$1919,0))","v":{"$error":"#N/A"}}]
[1506,{"$f":"B1560+IF('Cleaned Data'!L1507>0,1,0)*IF($B$34=\"Overall\",1,IF('Cleaned Data'!K1507=$B$34,1,0))*(IF('Cleaned Data'!H1507<>\"\",1,0))","v":540},{"$f":"INDEX('Cleaned Data'!H:H,MATCH($A1561,$B$56:$B$1919,0))","v":{"$error":"#N/A"}},{"$f":"INDEX('Cleaned Data'!L:L,MATCH($A1561,$B$56:$B$1919,0))","v":{"$error":"#N/A"}}]
[1507,{"$f":"B1561+IF('Cleaned Data'!L1508>0,1,0)*IF($B$34=\"Overall\",1,IF('Cleaned Data'!K1508=$B$34,1,0))*(IF('Cleaned Data'!H1508<>\"\",1,0))","v":540},{"$f":"INDEX('Cleaned Data'!H:H,MATCH($A1562,$B$56:$B$1919,0))","v":{"$error":"#N/A"}},{"$f":"INDEX('Cleaned Data'!L:L,MATCH($A1562,$B$56:$B$1919,0))","v":{"$error":"#N/A"}}]
[1508,{"$f":"B1562+IF('Cleaned Data'!L1509>0,1,0)*IF($B$34=\"Overall\",1,IF('Cleaned Data'!K1509=$B$34,1,0))*(IF('Cleaned Data'!H1509<>\"\",1,0))","v":540},{"$f":"INDEX('Cleaned Data'!H:H,MATCH($A1563,$B$56:$B$1919,0))","v":{"$error":"#N/A"}},{"$f":"INDEX('Cleaned Data'!L:L,MATCH($A1563,$B$56:$B$1919,0))","v":{"$error":"#N/A"}}]
[1509,{"$f":"B1563+IF('Cleaned Data'!L1510>0,1,0)*IF($B$34=\"Overall\",1,IF('Cleaned Data'!K1510=$B$34,1,0))*(IF('Cleaned Data'!H1510<>\"\",1,0))","v":540},{"$f":"INDEX('Cleaned Data'!H:H,MATCH($A1564,$B$56:$B$1919,0))","v":{"$error":"#N/A"}},{"$f":"INDEX('Cleaned Data'!L:L,MATCH($A1564,$B$56:$B$1919,0))","v":{"$error":"#N/A"}}]
[1510,{"$f":"B1564+IF('Cleaned Data'!L1511>0,1,0)*IF($B$34=\"Overall\",1,IF('Cleaned Data'!K1511=$B$34,1,0))*(IF('Cleaned Data'!H1511<>\"\",1,0))","v":540},{"$f":"INDEX('Cleaned Data'!H:H,MATCH($A1565,$B$56:$B$1919,0))","v":{"$error":"#N/A"}},{"$f":"INDEX('Cleaned Data'!L:L,MATCH($A1565,$B$56:$B$1919,0))","v":{"$error":"#N/A"}}]
[1511,{"$f":"B1565+IF('Cleaned Data'!L1512>0,1,0)*IF($B$34=\"Overall\",1,IF('Cleaned Data'!K1512=$B$34,1,0))*(IF('Cleaned Data'!H1512<>\"\",1,0))","v":540},{"$f":"INDEX('Cleaned Data'!H:H,MATCH($A1566,$B$56:$B$1919,0))","v":{"$error":"#N/A"}},{"$f":"INDEX('Cleaned Data'!L:L,MATCH($A1566,$B$56:$B$1919,0))","v":{"$error":"#N/A"}}]
[1512,{"$f":"B1566+IF('Cleaned Data'!L1513>0,1,0)*IF($B$34=\"Overall\",1,IF('Cleaned Data'!K1513=$B$34,1,0))*(IF('Cleaned Data'!H1513<>\"\",1,0))","v":540},{"$f":"INDEX('Cleaned Data'!H:H,MATCH($A1567,$B$56:$B$1919,0))","v":{"$error":"#N/A"}},{"$f":"INDEX('Cleaned Data'!L:L,MATCH($A1567,$B$56:$B$1919,0))","v":{"$error":"#N/A"}}]
[1513,{"$f":"B1567+IF('Cleaned Data'!L1514>0,1,0)*IF($B$34=\"Overall\",1,IF('Cleaned Data'!K1514=$B$34,1,0))*(IF('Cleaned Data'!H1514<>\"\",1,0))","v":540},{"$f":"INDEX('Cleaned Data'!H:H,MATCH($A1568,$B$56:$B$1919,0))","v":{"$error":"#N/A"}},{"$f":"INDEX('Cleaned Data'!L:L,MATCH($A1568,$B$56:$B$1919,0))","v":{"$error":"#N/A"}}]
[1514,{"$f":"B1568+IF('Cleaned Data'!L1515>0,1,0)*IF($B$34=\"Overall\",1,IF('Cleaned Data'!K1515=$B$34,1,0))*(IF('Cleaned Data'!H1515<>\"\",1,0))","v":540},{"$f":"INDEX('Cleaned Data'!H:H,MATCH($A1569,$B$56:$B$1919,0))","v":{"$error":"#N/A"}},{"$f":"INDEX('Cleaned Data'!L:L,MATCH($A1569,$B$56:$B$1919,0))","v":{"$error":"#N/A"}}]
[1515,{"$f":"B1569+IF('Cleaned Data'!L1516>0,1,0)*IF($B$34=\"Overall\",1,IF('Cleaned Data'!K1516=$B$34,1,0))*(IF('Cleaned Data'!H1516<>\"\",1,0))","v":540},{"$f":"INDEX('Cleaned Data'!H:H,MATCH($A1570,$B$56:$B$1919,0))","v":{"$error":"#N/A"}},{"$f":"INDEX('Cleaned Data'!L:L,MATCH($A1570,$B$56:$B$1919,0))","v":{"$error":"#N/A"}}]
[1516,{"$f":"B1570+IF('Cleaned Data'!L1517>0,1,0)*IF($B$34=\"Overall\",1,IF('Cleaned Data'!K1517=$B$34,1,0))*(IF('Cleaned Data'!H1517<>\"\",1,0))","v":540},{"$f":"INDEX('Cleaned Data'!H:H,MATCH($A1571,$B$56:$B$1919,0))","v":{"$error":"#N/A"}},{"$f":"INDEX('Cleaned Data'!L:L,MATCH($A1571,$B$56:$B$1919,0))","v":{"$error":"#N/A"}}]
[1517,{"$f":"B1571+IF('Cleaned Data'!L1518>0,1,0)*IF($B$34=\"Overall\",1,IF('Cleaned Data'!K1518=$B$34,1,0))*(IF('Cleaned Data'!H1518<>\"\",1,0))","v":540},{"$f":"INDEX('Cleaned Data'!H:H,MATCH($A1572,$B$56:$B$1919,0))","v":{"$error":"#N/A"}},{"$f":"INDEX('Cleaned Data'!L:L,MATCH($A1572,$B$56:$B$1919,0))","v":{"$error":"#N/A"}}]
[1518,{"$f":"B1572+IF('Cleaned Data'!L1519>0,1,0)*IF($B$34=\"Overall\",1,IF('Cleaned Data'!K1519=$B$34,1,0))*(IF('Cleaned Data'!H1519<>\"\",1,0))","v":540},{"$f":"INDEX('Cleaned Data'!H:H,MATCH($A1573,$B$56:$B$1919,0))","v":{"$error":"#N/A"}},{"$f":"INDEX('Cleaned Data'!L:L,MATCH($A1573,$B$56:$B$1919,0))","v":{"$error":"#N/A"}}]
[1519,{"$f":"B1573+IF('Cleaned Data'!L1520>0,1,0)*IF($B$34=\"Overall\",1,IF('Cleaned Data'!K1520=$B$34,1,0))*(IF('Cleaned Data'!H1520<>\"\",1,0))","v":540},{"$f":"INDEX('Cleaned Data'!H:H,MATCH($A1574,$B$56:$B$1919,0))","v":{"$error":"#N/A"}},{"$f":"INDEX('Cleaned Data'!L:L,MATCH($A1574,$B$56:$B$1919,0))","v":{"$error":"#N/A"}}]
[1520,{"$f":"B1574+IF('Cleaned Data'!L1521>0,1,0)*IF($B$34=\"Overall\",1,IF('Cleaned Data'!K1521=$B$34,1,0))*(IF('Cleaned Data'!H1521<>\"\",1,0))","v":540},{"$f":"INDEX('Cleaned Data'!H:H,MATCH($A1575,$B$56:$B$1919,0))","v":{"$error":"#N/A"}},{"$f":"INDEX('Cleaned Data'!L:L,MATCH($A1575,$B$56:$B$1919,0))","v":{"$error":"#N/A"}}]
[1521,{"$f":"B1575+IF('Cleaned Data'!L1522>0,1,0)*IF($B$34=\"Overall\",1,IF('Cleaned Data'!K1522=$B$34,1,0))*(IF('Cleaned Data'!H1522<>\"\",1,0))","v":540},{"$f":"INDEX('Cleaned Data'!H:H,MATCH($A1576,$B$56:$B$1919,0))","v":{"$error":"#N/A"}},{"$f":"INDEX('Cleaned Data'!L:L,MATCH($A1576,$B$56:$B$1919,0))","v":{"$error":"#N/A"}}]
[1522,{"$f":"B1576+IF('Cleaned Data'!L1523>0,1,0)*IF($B$34=\"Overall\",1,IF('Cleaned Data'!K1523=$B$34,1,0))*(IF('Cleaned Data'!H1523<>\"\",1,0))","v":540},{"$f":"INDEX('Cleaned Data'!H:H,MATCH($A1577,$B$56:$B$1919,0))","v":{"$error":"#N/A"}},{"$f":"INDEX('Cleaned Data'!L:L,MATCH($A1577,$B$56:$B$1919,0))","v":{"$error":"#N/A"}}]
[1523,{"$f":"B1577+IF('Cleaned Data'!L1524>0,1,0)*IF($B$34=\"Overall\",1,IF('Cleaned Data'!K1524=$B$34,1,0))*(IF('Cleaned Data'!H1524<>\"\",1,0))","v":540},{"$f":"INDEX('Cleaned Data'!H:H,MATCH($A1578,$B$56:$B$1919,0))","v":{"$error":"#N/A"}},{"$f":"INDEX('Cleaned Data'!L:L,MATCH($A1578,$B$56:$B$1919,0))","v":{"$error":"#N/A"}}]
[1524,{"$f":"B1578+IF('Cleaned Data'!L1525>0,1,0)*IF($B$34=\"Overall\",1,IF('Cleaned Data'!K1525=$B$34,1,0))*(IF('Cleaned Data'!H1525<>\"\",1,0))","v":540},{"$f":"INDEX('Cleaned Data'!H:H,MATCH($A1579,$B$56:$B$1919,0))","v":{"$error":"#N/A"}},{"$f":"INDEX('Cleaned Data'!L:L,MATCH($A1579,$B$56:$B$1919,0))","v":{"$error":"#N/A"}}]
[1525,{"$f":"B1579+IF('Cleaned Data'!L1526>0,1,0)*IF($B$34=\"Overall\",1,IF('Cleaned Data'!K1526=$B$34,1,0))*(IF('Cleaned Data'!H1526<>\"\",1,0))","v":540},{"$f":"INDEX('Cleaned Data'!H:H,MATCH($A1580,$B$56:$B$1919,0))","v":{"$error":"#N/A"}},{"$f":"INDEX('Cleaned Data'!L:L,MATCH($A1580,$B$56:$B$1919,0))","v":{"$error":"#N/A"}}]
[1526,{"$f":"B1580+IF('Cleaned Data'!L1527>0,1,0)*IF($B$34=\"Overall\",1,IF('Cleaned Data'!K1527=$B$34,1,0))*(IF('Cleaned Data'!H1527<>\"\",1,0))","v":540},{"$f":"INDEX('Cleaned Data'!H:H,MATCH($A1581,$B$56:$B$1919,0))","v":{"$error":"#N/A"}},{"$f":"INDEX('Cleaned Data'!L:L,MATCH($A1581,$B$56:$B$1919,0))","v":{"$error":"#N/A"}}]
[1527,{"$f":"B1581+IF('Cleaned Data'!L1528>0,1,0)*IF($B$34=\"Overall\",1,IF('Cleaned Data'!K1528=$B$34,1,0))*(IF('Cleaned Data'!H1528<>\"\",1,0))","v":540},{"$f":"INDEX('Cleaned Data'!H:H,MATCH($A1582,$B$56:$B$1919,0))","v":{"$error":"#N/A"}},{"$f":"INDEX('Cleaned Data'!L:L,MATCH($A1582,$B$56:$B$1919,0))","v":{"$error":"#N/A"}}]
[1528,{"$f":"B1582+IF('Cleaned Data'!L1529>0,1,0)*IF($B$34=\"Overall\",1,IF('Cleaned Data'!K1529=$B$34,1,0))*(IF('Cleaned Data'!H1529<>\"\",1,0))","v":540},{"$f":"INDEX('Cleaned Data'!H:H,MATCH($A1583,$B$56:$B$1919,0))","v":{"$error":"#N/A"}},{"$f":"INDEX('Cleaned Data'!L:L,MATCH($A1583,$B$56:$B$1919,0))","v":{"$error":"#N/A"}}]
[1529,{"$f":"B1583+IF('Cleaned Data'!L1530>0,1,0)*IF($B$34=\"Overall\",1,IF('Cleaned Data'!K1530=$B$34,1,0))*(IF('Cleaned Data'!H1530<>\"\",1,0))","v":540},{"$f":"INDEX('Cleaned Data'!H:H,MATCH($A1584,$B$56:$B$1919,0))","v":{"$error":"#N/A"}},{"$f":"INDEX('Cleaned Data'!L:L,MATCH($A1584,$B$56:$B$1919,0))","v":{"$error":"#N/A"}}]
[1530,{"$f":"B1584+IF('Cleaned Data'!L1531>0,1,0)*IF($B$34=\"Overall\",1,IF('Cleaned Data'!K1531=$B$34,1,0))*(IF('Cleaned Data'!H1531<>\"\",1,0))","v":540},{"$f":"INDEX('Cleaned Data'!H:H,MATCH($A1585,$B$56:$B$1919,0))","v":{"$error":"#N/A"}},{"$f":"INDEX('Cleaned Data'!L:L,MATCH($A1585,$B$56:$B$1919,0))","v":{"$error":"#N/A"}}]
[1531,{"$f":"B1585+IF('Cleaned Data'!L1532>0,1,0)*IF($B$34=\"Overall\",1,IF('Cleaned Data'!K1532=$B$34,1,0))*(IF('Cleaned Data'!H1532<>\"\",1,0))","v":540},{"$f":"INDEX('Cleaned Data'!H:H,MATCH($A1586,$B$56:$B$1919,0))","v":{"$error":"#N/A"}},{"$f":"INDEX('Cleaned Data'!L:L,MATCH($A1586,$B$56:$B$1919,0))","v":{"$error":"#N/A"}}]
[1532,{"$f":"B1586+IF('Cleaned Data'!L1533>0,1,0)*IF($B$34=\"Overall\",1,IF('Cleaned Data'!K1533=$B$34,1,0))*(IF('Cleaned Data'!H1533<>\"\",1,0))","v":540},{"$f":"INDEX('Cleaned Data'!H:H,MATCH($A1587,$B$56:$B$1919,0))","v":{"$error":"#N/A"}},{"$f":"INDEX('Cleaned Data'!L:L,MATCH($A1587,$B$56:$B$1919,0))","v":{"$error":"#N/A"}}]
[1533,{"$f":"B1587+IF('Cleaned Data'!L1534>0,1,0)*IF($B$34=\"Overall\",1,IF('Cleaned Data'!K1534=$B$34,1,0))*(IF('Cleaned Data'!H1534<>\"\",1,0))","v":540},{"$f":"INDEX('Cleaned Data'!H:H,MATCH($A1588,$B$56:$B$1919,0))","v":{"$error":"#N/A"}},{"$f":"INDEX('Cleaned Data'!L:L,MATCH($A1588,$B$56:$B$1919,0))","v":{"$error":"#N/A"}}]
[1534,{"$f":"B1588+IF('Cleaned Data'!L1535>0,1,0)*IF($B$34=\"Overall\",1,IF('Cleaned Data'!K1535=$B$34,1,0))*(IF('Cleaned Data'!H1535<>\"\",1,0))","v":540},{"$f":"INDEX('Cleaned Data'!H:H,MATCH($A1589,$B$56:$B$1919,0))","v":{"$error":"#N/A"}},{"$f":"INDEX('Cleaned Data'!L:L,MATCH($A1589,$B$56:$B$1919,0))","v":{"$error":"#N/A"}}]
[1535,{"$f":"B1589+IF('Cleaned Data'!L1536>0,1,0)*IF($B$34=\"Overall\",1,IF('Cleaned Data'!K1536=$B$34,1,0))*(IF('Cleaned Data'!H1536<>\"\",1,0))","v":540},{"$f":"INDEX('Cleaned Data'!H:H,MATCH($A1590,$B$56:$B$1919,0))","v":{"$error":"#N/A"}},{"$f":"INDEX('Cleaned Data'!L:L,MATCH($A1590,$B$56:$B$1919,0))","v":{"$error":"#N/A"}}]
[1536,{"$f":"B1590+IF('Cleaned Data'!L1537>0,1,0)*IF($B$34=\"Overall\",1,IF('Cleaned Data'!K1537=$B$34,1,0))*(IF('Cleaned Data'!H1537<>\"\",1,0))","v":540},{"$f":"INDEX('Cleaned Data'!H:H,MATCH($A1591,$B$56:$B$1919,0))","v":{"$error":"#N/A"}},{"$f":"INDEX('Cleaned Data'!L:L,MATCH($A1591,$B$56:$B$1919,0))","v":{"$error":"#N/A"}}]
[1537,{"$f":"B1591+IF('Cleaned Data'!L1538>0,1,0)*IF($B$34=\"Overall\",1,IF('Cleaned Data'!K1538=$B$34,1,0))*(IF('Cleaned Data'!H1538<>\"\",1,0))","v":540},{"$f":"INDEX('Cleaned Data'!H:H,MATCH($A1592,$B$56:$B$1919,0))","v":{"$error":"#N/A"}},{"$f":"INDEX('Cleaned Data'!L:L,MATCH($A1592,$B$56:$B$1919,0))","v":{"$error":"#N/A"}}]
[1538,{"$f":"B1592+IF('Cleaned Data'!L1539>0,1,0)*IF($B$34=\"Overall\",1,IF('Cleaned Data'!K1539=$B$34,1,0))*(IF('Cleaned Data'!H1539<>\"\",1,0))","v":540},{"$f":"INDEX('Cleaned Data'!H:H,MATCH($A1593,$B$56:$B$1919,0))","v":{"$error":"#N/A"}},{"$f":"INDEX('Cleaned Data'!L:L,MATCH($A1593,$B$56:$B$1919,0))","v":{"$error":"#N/A"}}]
[1539,{"$f":"B1593+IF('Cleaned Data'!L1540>0,1,0)*IF($B$34=\"Overall\",1,IF('Cleaned Data'!K1540=$B$34,1,0))*(IF('Cleaned Data'!H1540<>\"\",1,0))","v":540},{"$f":"INDEX('Cleaned Data'!H:H,MATCH($A1594,$B$56:$B$1919,0))","v":{"$error":"#N/A"}},{"$f":"INDEX('Cleaned Data'!L:L,MATCH($A1594,$B$56:$B$1919,0))","v":{"$error":"#N/A"}}]
[1540,{"$f":"B1594+IF('Cleaned Data'!L1541>0,1,0)*IF($B$34=\"Overall\",1,IF('Cleaned Data'!K1541=$B$34,1,0))*(IF('Cleaned Data'!H1541<>\"\",1,0))","v":540},{"$f":"INDEX('Cleaned Data'!H:H,MATCH($A1595,$B$56:$B$1919,0))","v":{"$error":"#N/A"}},{"$f":"INDEX('Cleaned Data'!L:L,MATCH($A1595,$B$56:$B$1919,0))","v":{"$error":"#N/A"}}]
[1541,{"$f":"B1595+IF('Cleaned Data'!L1542>0,1,0)*IF($B$34=\"Overall\",1,IF('Cleaned Data'!K1542=$B$34,1,0))*(IF('Cleaned Data'!H1542<>\"\",1,0))","v":540},{"$f":"INDEX('Cleaned Data'!H:H,MATCH($A1596,$B$56:$B$1919,0))","v":{"$error":"#N/A"}},{"$f":"INDEX('Cleaned Data'!L:L,MATCH($A1596,$B$56:$B$1919,0))","v":{"$error":"#N/A"}}]
[1542,{"$f":"B1596+IF('Cleaned Data'!L1543>0,1,0)*IF($B$34=\"Overall\",1,IF('Cleaned Data'!K1543=$B$34,1,0))*(IF('Cleaned Data'!H1543<>\"\",1,0))","v":540},{"$f":"INDEX('Cleaned Data'!H:H,MATCH($A1597,$B$56:$B$1919,0))","v":{"$error":"#N/A"}},{"$f":"INDEX('Cleaned Data'!L:L,MATCH($A1597,$B$56:$B$1919,0))","v":{"$error":"#N/A"}}]
[1543,{"$f":"B1597+IF('Cleaned Data'!L1544>0,1,0)*IF($B$34=\"Overall\",1,IF('Cleaned Data'!K1544=$B$34,1,0))*(IF('Cleaned Data'!H1544<>\"\",1,0))","v":540},{"$f":"INDEX('Cleaned Data'!H:H,MATCH($A1598,$B$56:$B$1919,0))","v":{"$error":"#N/A"}},{"$f":"INDEX('Cleaned Data'!L:L,MATCH($A1598,$B$56:$B$1919,0))","v":{"$error":"#N/A"}}]
[1544,{"$f":"B1598+IF('Cleaned Data'!L1545>0,1,0)*IF($B$34=\"Overall\",1,IF('Cleaned Data'!K1545=$B$34,1,0))*(IF('Cleaned Data'!H1545<>\"\",1,0))","v":540},{"$f":"INDEX('Cleaned Data'!H:H,MATCH($A1599,$B$56:$B$1919,0))","v":{"$error":"#N/A"}},{"$f":"INDEX('Cleaned Data'!L:L,MATCH($A1599,$B$56:$B$1919,0))","v":{"$error":"#N/A"}}]
[1545,{"$f":"B1599+IF('Cleaned Data'!L1546>0,1,0)*IF($B$34=\"Overall\",1,IF('Cleaned Data'!K1546=$B$34,1,0))*(IF('Cleaned Data'!H1546<>\"\",1,0))","v":540},{"$f":"INDEX('Cleaned Data'!H:H,MATCH($A1600,$B$56:$B$1919,0))","v":{"$error":"#N/A"}},{"$f":"INDEX('Cleaned Data'!L:L,MATCH($A1600,$B$56:$B$1919,0))","v":{"$error":"#N/A"}}]
[1546,{"$f":"B1600+IF('Cleaned Data'!L1547>0,1,0)*IF($B$34=\"Overall\",1,IF('Cleaned Data'!K1547=$B$34,1,0))*(IF('Cleaned Data'!H1547<>\"\",1,0))","v":540},{"$f":"INDEX('Cleaned Data'!H:H,MATCH($A1601,$B$56:$B$1919,0))","v":{"$error":"#N/A"}},{"$f":"INDEX('Cleaned Data'!L:L,MATCH($A1601,$B$56:$B$1919,0))","v":{"$error":"#N/A"}}]
[1547,{"$f":"B1601+IF('Cleaned Data'!L1548>0,1,0)*IF($B$34=\"Overall\",1,IF('Cleaned Data'!K1548=$B$34,1,0))*(IF('Cleaned Data'!H1548<>\"\",1,0))","v":540},{"$f":"INDEX('Cleaned Data'!H:H,MATCH($A1602,$B$56:$B$1919,0))","v":{"$error":"#N/A"}},{"$f":"INDEX('Cleaned Data'!L:L,MATCH($A1602,$B$56:$B$1919,0))","v":{"$error":"#N/A"}}]
[1548,{"$f":"B1602+IF('Cleaned Data'!L1549>0,1,0)*IF($B$34=\"Overall\",1,IF('Cleaned Data'!K1549=$B$34,1,0))*(IF('Cleaned Data'!H1549<>\"\",1,0))","v":540},{"$f":"INDEX('Cleaned Data'!H:H,MATCH($A1603,$B$56:$B$1919,0))","v":{"$error":"#N/A"}},{"$f":"INDEX('Cleaned Data'!L:L,MATCH($A1603,$B$56:$B$1919,0))","v":{"$error":"#N/A"}}]
[1549,{"$f":"B1603+IF('Cleaned Data'!L1550>0,1,0)*IF($B$34=\"Overall\",1,IF('Cleaned Data'!K1550=$B$34,1,0))*(IF('Cleaned Data'!H1550<>\"\",1,0))","v":540},{"$f":"INDEX('Cleaned Data'!H:H,MATCH($A1604,$B$56:$B$1919,0))","v":{"$error":"#N/A"}},{"$f":"INDEX('Cleaned Data'!L:L,MATCH($A1604,$B$56:$B$1919,0))","v":{"$error":"#N/A"}}]
[1550,{"$f":"B1604+IF('Cleaned Data'!L1551>0,1,0)*IF($B$34=\"Overall\",1,IF('Cleaned Data'!K1551=$B$34,1,0))*(IF('Cleaned Data'!H1551<>\"\",1,0))","v":540},{"$f":"INDEX('Cleaned Data'!H:H,MATCH($A1605,$B$56:$B$1919,0))","v":{"$error":"#N/A"}},{"$f":"INDEX('Cleaned Data'!L:L,MATCH($A1605,$B$56:$B$1919,0))","v":{"$error":"#N/A"}}]
[1551,{"$f":"B1605+IF('Cleaned Data'!L1552>0,1,0)*IF($B$34=\"Overall\",1,IF('Cleaned Data'!K1552=$B$34,1,0))*(IF('Cleaned Data'!H1552<>\"\",1,0))","v":540},{"$f":"INDEX('Cleaned Data'!H:H,MATCH($A1606,$B$56:$B$1919,0))","v":{"$error":"#N/A"}},{"$f":"INDEX('Cleaned Data'!L:L,MATCH($A1606,$B$56:$B$1919,0))","v":{"$error":"#N/A"}}]
[1552,{"$f":"B1606+IF('Cleaned Data'!L1553>0,1,0)*IF($B$34=\"Overall\",1,IF('Cleaned Data'!K1553=$B$34,1,0))*(IF('Cleaned Data'!H1553<>\"\",1,0))","v":540},{"$f":"INDEX('Cleaned Data'!H:H,MATCH($A1607,$B$56:$B$1919,0))","v":{"$error":"#N/A"}},{"$f":"INDEX('Cleaned Data'!L:L,MATCH($A1607,$B$56:$B$1919,0))","v":{"$error":"#N/A"}}]
[1553,{"$f":"B1607+IF('Cleaned Data'!L1554>0,1,0)*IF($B$34=\"Overall\",1,IF('Cleaned Data'!K1554=$B$34,1,0))*(IF('Cleaned Data'!H1554<>\"\",1,0))","v":540},{"$f":"INDEX('Cleaned Data'!H:H,MATCH($A1608,$B$56:$B$1919,0))","v":{"$error":"#N/A"}},{"$f":"INDEX('Cleaned Data'!L:L,MATCH($A1608,$B$56:$B$1919,0))","v":{"$error":"#N/A"}}]
[1554,{"$f":"B1608+IF('Cleaned Data'!L1555>0,1,0)*IF($B$34=\"Overall\",1,IF('Cleaned Data'!K1555=$B$34,1,0))*(IF('Cleaned Data'!H1555<>\"\",1,0))","v":540},{"$f":"INDEX('Cleaned Data'!H:H,MATCH($A1609,$B$56:$B$1919,0))","v":{"$error":"#N/A"}},{"$f":"INDEX('Cleaned Data'!L:L,MATCH($A1609,$B$56:$B$1919,0))","v":{"$error":"#N/A"}}]
[1555,{"$f":"B1609+IF('Cleaned Data'!L1556>0,1,0)*IF($B$34=\"Overall\",1,IF('Cleaned Data'!K1556=$B$34,1,0))*(IF('Cleaned Data'!H1556<>\"\",1,0))","v":540},{"$f":"INDEX('Cleaned Data'!H:H,MATCH($A1610,$B$56:$B$1919,0))","v":{"$error":"#N/A"}},{"$f":"INDEX('Cleaned Data'!L:L,MATCH($A1610,$B$56:$B$1919,0))","v":{"$error":"#N/A"}}]
[1556,{"$f":"B1610+IF('Cleaned Data'!L1557>0,1,0)*IF($B$34=\"Overall\",1,IF('Cleaned Data'!K1557=$B$34,1,0))*(IF('Cleaned Data'!H1557<>\"\",1,0))","v":540},{"$f":"INDEX('Cleaned Data'!H:H,MATCH($A1611,$B$56:$B$1919,0))","v":{"$error":"#N/A"}},{"$f":"INDEX('Cleaned Data'!L:L,MATCH($A1611,$B$56:$B$1919,0))","v":{"$error":"#N/A"}}]
[1557,{"$f":"B1611+IF('Cleaned Data'!L1558>0,1,0)*IF($B$34=\"Overall\",1,IF('Cleaned Data'!K1558=$B$34,1,0))*(IF('Cleaned Data'!H1558<>\"\",1,0))","v":540},{"$f":"INDEX('Cleaned Data'!H:H,MATCH($A1612,$B$56:$B$1919,0))","v":{"$error":"#N/A"}},{"$f":"INDEX('Cleaned Data'!L:L,MATCH($A1612,$B$56:$B$1919,0))","v":{"$error":"#N/A"}}]
[1558,{"$f":"B1612+IF('Cleaned Data'!L1559>0,1,0)*IF($B$34=\"Overall\",1,IF('Cleaned Data'!K1559=$B$34,1,0))*(IF('Cleaned Data'!H1559<>\"\",1,0))","v":540},{"$f":"INDEX('Cleaned Data'!H:H,MATCH($A1613,$B$56:$B$1919,0))","v":{"$error":"#N/A"}},{"$f":"INDEX('Cleaned Data'!L:L,MATCH($A1613,$B$56:$B$1919,0))","v":{"$error":"#N/A"}}]
[1559,{"$f":"B1613+IF('Cleaned Data'!L1560>0,1,0)*IF($B$34=\"Overall\",1,IF('Cleaned Data'!K1560=$B$34,1,0))*(IF('Cleaned Data'!H1560<>\"\",1,0))","v":540},{"$f":"INDEX('Cleaned Data'!H:H,MATCH($A1614,$B$56:$B$1919,0))","v":{"$error":"#N/A"}},{"$f":"INDEX('Cleaned Data'!L:L,MATCH($A1614,$B$56:$B$1919,0))","v":{"$error":"#N/A"}}]
[1560,{"$f":"B1614+IF('Cleaned Data'!L1561>0,1,0)*IF($B$34=\"Overall\",1,IF('Cleaned Data'!K1561=$B$34,1,0))*(IF('Cleaned Data'!H1561<>\"\",1,0))","v":540},{"$f":"INDEX('Cleaned Data'!H:H,MATCH($A1615,$B$56:$B$1919,0))","v":{"$error":"#N/A"}},{"$f":"INDEX('Cleaned Data'!L:L,MATCH($A1615,$B$56:$B$1919,0))","v":{"$error":"#N/A"}}]
[1561,{"$f":"B1615+IF('Cleaned Data'!L1562>0,1,0)*IF($B$34=\"Overall\",1,IF('Cleaned Data'!K1562=$B$34,1,0))*(IF('Cleaned Data'!H1562<>\"\",1,0))","v":540},{"$f":"INDEX('Cleaned Data'!H:H,MATCH($A1616,$B$56:$B$1919,0))","v":{"$error":"#N/A"}},{"$f":"INDEX('Cleaned Data'!L:L,MATCH($A1616,$B$56:$B$1919,0))","v":{"$error":"#N/A"}}]
[1562,{"$f":"B1616+IF('Cleaned Data'!L1563>0,1,0)*IF($B$34=\"Overall\",1,IF('Cleaned Data'!K1563=$B$34,1,0))*(IF('Cleaned Data'!H1563<>\"\",1,0))","v":540},{"$f":"INDEX('Cleaned Data'!H:H,MATCH($A1617,$B$56:$B$1919,0))","v":{"$error":"#N/A"}},{"$f":"INDEX('Cleaned Data'!L:L,MATCH($A1617,$B$56:$B$1919,0))","v":{"$error":"#N/A"}}]
[1563,{"$f":"B1617+IF('Cleaned Data'!L1564>0,1,0)*IF($B$34=\"Overall\",1,IF('Cleaned Data'!K1564=$B$34,1,0))*(IF('Cleaned Data'!H1564<>\"\",1,0))","v":540},{"$f":"INDEX('Cleaned Data'!H:H,MATCH($A1618,$B$56:$B$1919,0))","v":{"$error":"#N/A"}},{"$f":"INDEX('Cleaned Data'!L:L,MATCH($A1618,$B$56:$B$1919,0))","v":{"$error":"#N/A"}}]
[1564,{"$f":"B1618+IF('Cleaned Data'!L1565>0,1,0)*IF($B$34=\"Overall\",1,IF('Cleaned Data'!K1565=$B$34,1,0))*(IF('Cleaned Data'!H1565<>\"\",1,0))","v":540},{"$f":"INDEX('Cleaned Data'!H:H,MATCH($A1619,$B$56:$B$1919,0))","v":{"$error":"#N/A"}},{"$f":"INDEX('Cleaned Data'!L:L,MATCH($A1619,$B$56:$B$1919,0))","v":{"$error":"#N/A"}}]
[1565,{"$f":"B1619+IF('Cleaned Data'!L1566>0,1,0)*IF($B$34=\"Overall\",1,IF('Cleaned Data'!K1566=$B$34,1,0))*(IF('Cleaned Data'!H1566<>\"\",1,0))","v":540},{"$f":"INDEX('Cleaned Data'!H:H,MATCH($A1620,$B$56:$B$1919,0))","v":{"$error":"#N/A"}},{"$f":"INDEX('Cleaned Data'!L:L,MATCH($A1620,$B$56:$B$1919,0))","v":{"$error":"#N/A"}}]
[1566,{"$f":"B1620+IF('Cleaned Data'!L1567>0,1,0)*IF($B$34=\"Overall\",1,IF('Cleaned Data'!K1567=$B$34,1,0))*(IF('Cleaned Data'!H1567<>\"\",1,0))","v":540},{"$f":"INDEX('Cleaned Data'!H:H,MATCH($A1621,$B$56:$B$1919,0))","v":{"$error":"#N/A"}},{"$f":"INDEX('Cleaned Data'!L:L,MATCH($A1621,$B$56:$B$1919,0))","v":{"$error":"#N/A"}}]
[1567,{"$f":"B1621+IF('Cleaned Data'!L1568>0,1,0)*IF($B$34=\"Overall\",1,IF('Cleaned Data'!K1568=$B$34,1,0))*(IF('Cleaned Data'!H1568<>\"\",1,0))","v":540},{"$f":"INDEX('Cleaned Data'!H:H,MATCH($A1622,$B$56:$B$1919,0))","v":{"$error":"#N/A"}},{"$f":"INDEX('Cleaned Data'!L:L,MATCH($A1622,$B$56:$B$1919,0))","v":{"$error":"#N/A"}}]
[1568,{"$f":"B1622+IF('Cleaned Data'!L1569>0,1,0)*IF($B$34=\"Overall\",1,IF('Cleaned Data'!K1569=$B$34,1,0))*(IF('Cleaned Data'!H1569<>\"\",1,0))","v":540},{"$f":"INDEX('Cleaned Data'!H:H,MATCH($A1623,$B$56:$B$1919,0))","v":{"$error":"#N/A"}},{"$f":"INDEX('Cleaned Data'!L:L,MATCH($A1623,$B$56:$B$1919,0))","v":{"$error":"#N/A"}}]
[1569,{"$f":"B1623+IF('Cleaned Data'!L1570>0,1,0)*IF($B$34=\"Overall\",1,IF('Cleaned Data'!K1570=$B$34,1,0))*(IF('Cleaned Data'!H1570<>\"\",1,0))","v":540},{"$f":"INDEX('Cleaned Data'!H:H,MATCH($A1624,$B$56:$B$1919,0))","v":{"$error":"#N/A"}},{"$f":"INDEX('Cleaned Data'!L:L,MATCH($A1624,$B$56:$B$1919,0))","v":{"$error":"#N/A"}}]
[1570,{"$f":"B1624+IF('Cleaned Data'!L1571>0,1,0)*IF($B$34=\"Overall\",1,IF('Cleaned Data'!K1571=$B$34,1,0))*(IF('Cleaned Data'!H1571<>\"\",1,0))","v":540},{"$f":"INDEX('Cleaned Data'!H:H,MATCH($A1625,$B$56:$B$1919,0))","v":{"$error":"#N/A"}},{"$f":"INDEX('Cleaned Data'!L:L,MATCH($A1625,$B$56:$B$1919,0))","v":{"$error":"#N/A"}}]
[1571,{"$f":"B1625+IF('Cleaned Data'!L1572>0,1,0)*IF($B$34=\"Overall\",1,IF('Cleaned Data'!K1572=$B$34,1,0))*(IF('Cleaned Data'!H1572<>\"\",1,0))","v":540},{"$f":"INDEX('Cleaned Data'!H:H,MATCH($A1626,$B$56:$B$1919,0))","v":{"$error":"#N/A"}},{"$f":"INDEX('Cleaned Data'!L:L,MATCH($A1626,$B$56:$B$1919,0))","v":{"$error":"#N/A"}}]
[1572,{"$f":"B1626+IF('Cleaned Data'!L1573>0,1,0)*IF($B$34=\"Overall\",1,IF('Cleaned Data'!K1573=$B$34,1,0))*(IF('Cleaned Data'!H1573<>\"\",1,0))","v":540},{"$f":"INDEX('Cleaned Data'!H:H,MATCH($A1627,$B$56:$B$1919,0))","v":{"$error":"#N/A"}},{"$f":"INDEX('Cleaned Data'!L:L,MATCH($A1627,$B$56:$B$1919,0))","v":{"$error":"#N/A"}}]
[1573,{"$f":"B1627+IF('Cleaned Data'!L1574>0,1,0)*IF($B$34=\"Overall\",1,IF('Cleaned Data'!K1574=$B$34,1,0))*(IF('Cleaned Data'!H1574<>\"\",1,0))","v":540},{"$f":"INDEX('Cleaned Data'!H:H,MATCH($A1628,$B$56:$B$1919,0))","v":{"$error":"#N/A"}},{"$f":"INDEX('Cleaned Data'!L:L,MATCH($A1628,$B$56:$B$1919,0))","v":{"$error":"#N/A"}}]
[1574,{"$f":"B1628+IF('Cleaned Data'!L1575>0,1,0)*IF($B$34=\"Overall\",1,IF('Cleaned Data'!K1575=$B$34,1,0))*(IF('Cleaned Data'!H1575<>\"\",1,0))","v":540},{"$f":"INDEX('Cleaned Data'!H:H,MATCH($A1629,$B$56:$B$1919,0))","v":{"$error":"#N/A"}},{"$f":"INDEX('Cleaned Data'!L:L,MATCH($A1629,$B$56:$B$1919,0))","v":{"$error":"#N/A"}}]
[1575,{"$f":"B1629+IF('Cleaned Data'!L1576>0,1,0)*IF($B$34=\"Overall\",1,IF('Cleaned Data'!K1576=$B$34,1,0))*(IF('Cleaned Data'!H1576<>\"\",1,0))","v":540},{"$f":"INDEX('Cleaned Data'!H:H,MATCH($A1630,$B$56:$B$1919,0))","v":{"$error":"#N/A"}},{"$f":"INDEX('Cleaned Data'!L:L,MATCH($A1630,$B$56:$B$1919,0))","v":{"$error":"#N/A"}}]
[1576,{"$f":"B1630+IF('Cleaned Data'!L1577>0,1,0)*IF($B$34=\"Overall\",1,IF('Cleaned Data'!K1577=$B$34,1,0))*(IF('Cleaned Data'!H1577<>\"\",1,0))","v":540},{"$f":"INDEX('Cleaned Data'!H:H,MATCH($A1631,$B$56:$B$1919,0))","v":{"$error":"#N/A"}},{"$f":"INDEX('Cleaned Data'!L:L,MATCH($A1631,$B$56:$B$1919,0))","v":{"$error":"#N/A"}}]
[1577,{"$f":"B1631+IF('Cleaned Data'!L1578>0,1,0)*IF($B$34=\"Overall\",1,IF('Cleaned Data'!K1578=$B$34,1,0))*(IF('Cleaned Data'!H1578<>\"\",1,0))","v":540},{"$f":"INDEX('Cleaned Data'!H:H,MATCH($A1632,$B$56:$B$1919,0))","v":{"$error":"#N/A"}},{"$f":"INDEX('Cleaned Data'!L:L,MATCH($A1632,$B$56:$B$1919,0))","v":{"$error":"#N/A"}}]
[1578,{"$f":"B1632+IF('Cleaned Data'!L1579>0,1,0)*IF($B$34=\"Overall\",1,IF('Cleaned Data'!K1579=$B$34,1,0))*(IF('Cleaned Data'!H1579<>\"\",1,0))","v":540},{"$f":"INDEX('Cleaned Data'!H:H,MATCH($A1633,$B$56:$B$1919,0))","v":{"$error":"#N/A"}},{"$f":"INDEX('Cleaned Data'!L:L,MATCH($A1633,$B$56:$B$1919,0))","v":{"$error":"#N/A"}}]
[1579,{"$f":"B1633+IF('Cleaned Data'!L1580>0,1,0)*IF($B$34=\"Overall\",1,IF('Cleaned Data'!K1580=$B$34,1,0))*(IF('Cleaned Data'!H1580<>\"\",1,0))","v":540},{"$f":"INDEX('Cleaned Data'!H:H,MATCH($A1634,$B$56:$B$1919,0))","v":{"$error":"#N/A"}},{"$f":"INDEX('Cleaned Data'!L:L,MATCH($A1634,$B$56:$B$1919,0))","v":{"$error":"#N/A"}}]
[1580,{"$f":"B1634+IF('Cleaned Data'!L1581>0,1,0)*IF($B$34=\"Overall\",1,IF('Cleaned Data'!K1581=$B$34,1,0))*(IF('Cleaned Data'!H1581<>\"\",1,0))","v":540},{"$f":"INDEX('Cleaned Data'!H:H,MATCH($A1635,$B$56:$B$1919,0))","v":{"$error":"#N/A"}},{"$f":"INDEX('Cleaned Data'!L:L,MATCH($A1635,$B$56:$B$1919,0))","v":{"$error":"#N/A"}}]
[1581,{"$f":"B1635+IF('Cleaned Data'!L1582>0,1,0)*IF($B$34=\"Overall\",1,IF('Cleaned Data'!K1582=$B$34,1,0))*(IF('Cleaned Data'!H1582<>\"\",1,0))","v":540},{"$f":"INDEX('Cleaned Data'!H:H,MATCH($A1636,$B$56:$B$1919,0))","v":{"$error":"#N/A"}},{"$f":"INDEX('Cleaned Data'!L:L,MATCH($A1636,$B$56:$B$1919,0))","v":{"$error":"#N/A"}}]
[1582,{"$f":"B1636+IF('Cleaned Data'!L1583>0,1,0)*IF($B$34=\"Overall\",1,IF('Cleaned Data'!K1583=$B$34,1,0))*(IF('Cleaned Data'!H1583<>\"\",1,0))","v":540},{"$f":"INDEX('Cleaned Data'!H:H,MATCH($A1637,$B$56:$B$1919,0))","v":{"$error":"#N/A"}},{"$f":"INDEX('Cleaned Data'!L:L,MATCH($A1637,$B$56:$B$1919,0))","v":{"$error":"#N/A"}}]
[1583,{"$f":"B1637+IF('Cleaned Data'!L1584>0,1,0)*IF($B$34=\"Overall\",1,IF('Cleaned Data'!K1584=$B$34,1,0))*(IF('Cleaned Data'!H1584<>\"\",1,0))","v":540},{"$f":"INDEX('Cleaned Data'!H:H,MATCH($A1638,$B$56:$B$1919,0))","v":{"$error":"#N/A"}},{"$f":"INDEX('Cleaned Data'!L:L,MATCH($A1638,$B$56:$B$1919,0))","v":{"$error":"#N/A"}}]
[1584,{"$f":"B1638+IF('Cleaned Data'!L1585>0,1,0)*IF($B$34=\"Overall\",1,IF('Cleaned Data'!K1585=$B$34,1,0))*(IF('Cleaned Data'!H1585<>\"\",1,0))","v":540},{"$f":"INDEX('Cleaned Data'!H:H,MATCH($A1639,$B$56:$B$1919,0))","v":{"$error":"#N/A"}},{"$f":"INDEX('Cleaned Data'!L:L,MATCH($A1639,$B$56:$B$1919,0))","v":{"$error":"#N/A"}}]
[1585,{"$f":"B1639+IF('Cleaned Data'!L1586>0,1,0)*IF($B$34=\"Overall\",1,IF('Cleaned Data'!K1586=$B$34,1,0))*(IF('Cleaned Data'!H1586<>\"\",1,0))","v":540},{"$f":"INDEX('Cleaned Data'!H:H,MATCH($A1640,$B$56:$B$1919,0))","v":{"$error":"#N/A"}},{"$f":"INDEX('Cleaned Data'!L:L,MATCH($A1640,$B$56:$B$1919,0))","v":{"$error":"#N/A"}}]
[1586,{"$f":"B1640+IF('Cleaned Data'!L1587>0,1,0)*IF($B$34=\"Overall\",1,IF('Cleaned Data'!K1587=$B$34,1,0))*(IF('Cleaned Data'!H1587<>\"\",1,0))","v":540},{"$f":"INDEX('Cleaned Data'!H:H,MATCH($A1641,$B$56:$B$1919,0))","v":{"$error":"#N/A"}},{"$f":"INDEX('Cleaned Data'!L:L,MATCH($A1641,$B$56:$B$1919,0))","v":{"$error":"#N/A"}}]
[1587,{"$f":"B1641+IF('Cleaned Data'!L1588>0,1,0)*IF($B$34=\"Overall\",1,IF('Cleaned Data'!K1588=$B$34,1,0))*(IF('Cleaned Data'!H1588<>\"\",1,0))","v":540},{"$f":"INDEX('Cleaned Data'!H:H,MATCH($A1642,$B$56:$B$1919,0))","v":{"$error":"#N/A"}},{"$f":"INDEX('Cleaned Data'!L:L,MATCH($A1642,$B$56:$B$1919,0))","v":{"$error":"#N/A"}}]
[1588,{"$f":"B1642+IF('Cleaned Data'!L1589>0,1,0)*IF($B$34=\"Overall\",1,IF('Cleaned Data'!K1589=$B$34,1,0))*(IF('Cleaned Data'!H1589<>\"\",1,0))","v":540},{"$f":"INDEX('Cleaned Data'!H:H,MATCH($A1643,$B$56:$B$1919,0))","v":{"$error":"#N/A"}},{"$f":"INDEX('Cleaned Data'!L:L,MATCH($A1643,$B$56:$B$1919,0))","v":{"$error":"#N/A"}}]
[1589,{"$f":"B1643+IF('Cleaned Data'!L1590>0,1,0)*IF($B$34=\"Overall\",1,IF('Cleaned Data'!K1590=$B$34,1,0))*(IF('Cleaned Data'!H1590<>\"\",1,0))","v":540},{"$f":"INDEX('Cleaned Data'!H:H,MATCH($A1644,$B$56:$B$1919,0))","v":{"$error":"#N/A"}},{"$f":"INDEX('Cleaned Data'!L:L,MATCH($A1644,$B$56:$B$1919,0))","v":{"$error":"#N/A"}}]
[1590,{"$f":"B1644+IF('Cleaned Data'!L1591>0,1,0)*IF($B$34=\"Overall\",1,IF('Cleaned Data'!K1591=$B$34,1,0))*(IF('Cleaned Data'!H1591<>\"\",1,0))","v":540},{"$f":"INDEX('Cleaned Data'!H:H,MATCH($A1645,$B$56:$B$1919,0))","v":{"$error":"#N/A"}},{"$f":"INDEX('Cleaned Data'!L:L,MATCH($A1645,$B$56:$B$1919,0))","v":{"$error":"#N/A"}}]
[1591,{"$f":"B1645+IF('Cleaned Data'!L1592>0,1,0)*IF($B$34=\"Overall\",1,IF('Cleaned Data'!K1592=$B$34,1,0))*(IF('Cleaned Data'!H1592<>\"\",1,0))","v":540},{"$f":"INDEX('Cleaned Data'!H:H,MATCH($A1646,$B$56:$B$1919,0))","v":{"$error":"#N/A"}},{"$f":"INDEX('Cleaned Data'!L:L,MATCH($A1646,$B$56:$B$1919,0))","v":{"$error":"#N/A"}}]
[1592,{"$f":"B1646+IF('Cleaned Data'!L1593>0,1,0)*IF($B$34=\"Overall\",1,IF('Cleaned Data'!K1593=$B$34,1,0))*(IF('Cleaned Data'!H1593<>\"\",1,0))","v":540},{"$f":"INDEX('Cleaned Data'!H:H,MATCH($A1647,$B$56:$B$1919,0))","v":{"$error":"#N/A"}},{"$f":"INDEX('Cleaned Data'!L:L,MATCH($A1647,$B$56:$B$1919,0))","v":{"$error":"#N/A"}}]
[1593,{"$f":"B1647+IF('Cleaned Data'!L1594>0,1,0)*IF($B$34=\"Overall\",1,IF('Cleaned Data'!K1594=$B$34,1,0))*(IF('Cleaned Data'!H1594<>\"\",1,0))","v":540},{"$f":"INDEX('Cleaned Data'!H:H,MATCH($A1648,$B$56:$B$1919,0))","v":{"$error":"#N/A"}},{"$f":"INDEX('Cleaned Data'!L:L,MATCH($A1648,$B$56:$B$1919,0))","v":{"$error":"#N/A"}}]
[1594,{"$f":"B1648+IF('Cleaned Data'!L1595>0,1,0)*IF($B$34=\"Overall\",1,IF('Cleaned Data'!K1595=$B$34,1,0))*(IF('Cleaned Data'!H1595<>\"\",1,0))","v":540},{"$f":"INDEX('Cleaned Data'!H:H,MATCH($A1649,$B$56:$B$1919,0))","v":{"$error":"#N/A"}},{"$f":"INDEX('Cleaned Data'!L:L,MATCH($A1649,$B$56:$B$1919,0))","v":{"$error":"#N/A"}}]
[1595,{"$f":"B1649+IF('Cleaned Data'!L1596>0,1,0)*IF($B$34=\"Overall\",1,IF('Cleaned Data'!K1596=$B$34,1,0))*(IF('Cleaned Data'!H1596<>\"\",1,0))","v":540},{"$f":"INDEX('Cleaned Data'!H:H,MATCH($A1650,$B$56:$B$1919,0))","v":{"$error":"#N/A"}},{"$f":"INDEX('Cleaned Data'!L:L,MATCH($A1650,$B$56:$B$1919,0))","v":{"$error":"#N/A"}}]
[1596,{"$f":"B1650+IF('Cleaned Data'!L1597>0,1,0)*IF($B$34=\"Overall\",1,IF('Cleaned Data'!K1597=$B$34,1,0))*(IF('Cleaned Data'!H1597<>\"\",1,0))","v":540},{"$f":"INDEX('Cleaned Data'!H:H,MATCH($A1651,$B$56:$B$1919,0))","v":{"$error":"#N/A"}},{"$f":"INDEX('Cleaned Data'!L:L,MATCH($A1651,$B$56:$B$1919,0))","v":{"$error":"#N/A"}}]
[1597,{"$f":"B1651+IF('Cleaned Data'!L1598>0,1,0)*IF($B$34=\"Overall\",1,IF('Cleaned Data'!K1598=$B$34,1,0))*(IF('Cleaned Data'!H1598<>\"\",1,0))","v":540},{"$f":"INDEX('Cleaned Data'!H:H,MATCH($A1652,$B$56:$B$1919,0))","v":{"$error":"#N/A"}},{"$f":"INDEX('Cleaned Data'!L:L,MATCH($A1652,$B$56:$B$1919,0))","v":{"$error":"#N/A"}}]
[1598,{"$f":"B1652+IF('Cleaned Data'!L1599>0,1,0)*IF($B$34=\"Overall\",1,IF('Cleaned Data'!K1599=$B$34,1,0))*(IF('Cleaned Data'!H1599<>\"\",1,0))","v":540},{"$f":"INDEX('Cleaned Data'!H:H,MATCH($A1653,$B$56:$B$1919,0))","v":{"$error":"#N/A"}},{"$f":"INDEX('Cleaned Data'!L:L,MATCH($A1653,$B$56:$B$1919,0))","v":{"$error":"#N/A"}}]
[1599,{"$f":"B1653+IF('Cleaned Data'!L1600>0,1,0)*IF($B$34=\"Overall\",1,IF('Cleaned Data'!K1600=$B$34,1,0))*(IF('Cleaned Data'!H1600<>\"\",1,0))","v":540},{"$f":"INDEX('Cleaned Data'!H:H,MATCH($A1654,$B$56:$B$1919,0))","v":{"$error":"#N/A"}},{"$f":"INDEX('Cleaned Data'!L:L,MATCH($A1654,$B$56:$B$1919,0))","v":{"$error":"#N/A"}}]
[1600,{"$f":"B1654+IF('Cleaned Data'!L1601>0,1,0)*IF($B$34=\"Overall\",1,IF('Cleaned Data'!K1601=$B$34,1,0))*(IF('Cleaned Data'!H1601<>\"\",1,0))","v":540},{"$f":"INDEX('Cleaned Data'!H:H,MATCH($A1655,$B$56:$B$1919,0))","v":{"$error":"#N/A"}},{"$f":"INDEX('Cleaned Data'!L:L,MATCH($A1655,$B$56:$B$1919,0))","v":{"$error":"#N/A"}}]
[1601,{"$f":"B1655+IF('Cleaned Data'!L1602>0,1,0)*IF($B$34=\"Overall\",1,IF('Cleaned Data'!K1602=$B$34,1,0))*(IF('Cleaned Data'!H1602<>\"\",1,0))","v":540},{"$f":"INDEX('Cleaned Data'!H:H,MATCH($A1656,$B$56:$B$1919,0))","v":{"$error":"#N/A"}},{"$f":"INDEX('Cleaned Data'!L:L,MATCH($A1656,$B$56:$B$1919,0))","v":{"$error":"#N/A"}}]
[1602,{"$f":"B1656+IF('Cleaned Data'!L1603>0,1,0)*IF($B$34=\"Overall\",1,IF('Cleaned Data'!K1603=$B$34,1,0))*(IF('Cleaned Data'!H1603<>\"\",1,0))","v":540},{"$f":"INDEX('Cleaned Data'!H:H,MATCH($A1657,$B$56:$B$1919,0))","v":{"$error":"#N/A"}},{"$f":"INDEX('Cleaned Data'!L:L,MATCH($A1657,$B$56:$B$1919,0))","v":{"$error":"#N/A"}}]
[1603,{"$f":"B1657+IF('Cleaned Data'!L1604>0,1,0)*IF($B$34=\"Overall\",1,IF('Cleaned Data'!K1604=$B$34,1,0))*(IF('Cleaned Data'!H1604<>\"\",1,0))","v":540},{"$f":"INDEX('Cleaned Data'!H:H,MATCH($A1658,$B$56:$B$1919,0))","v":{"$error":"#N/A"}},{"$f":"INDEX('Cleaned Data'!L:L,MATCH($A1658,$B$56:$B$1919,0))","v":{"$error":"#N/A"}}]
[1604,{"$f":"B1658+IF('Cleaned Data'!L1605>0,1,0)*IF($B$34=\"Overall\",1,IF('Cleaned Data'!K1605=$B$34,1,0))*(IF('Cleaned Data'!H1605<>\"\",1,0))","v":540},{"$f":"INDEX('Cleaned Data'!H:H,MATCH($A1659,$B$56:$B$1919,0))","v":{"$error":"#N/A"}},{"$f":"INDEX('Cleaned Data'!L:L,MATCH($A1659,$B$56:$B$1919,0))","v":{"$error":"#N/A"}}]
[1605,{"$f":"B1659+IF('Cleaned Data'!L1606>0,1,0)*IF($B$34=\"Overall\",1,IF('Cleaned Data'!K1606=$B$34,1,0))*(IF('Cleaned Data'!H1606<>\"\",1,0))","v":540},{"$f":"INDEX('Cleaned Data'!H:H,MATCH($A1660,$B$56:$B$1919,0))","v":{"$error":"#N/A"}},{"$f":"INDEX('Cleaned Data'!L:L,MATCH($A1660,$B$56:$B$1919,0))","v":{"$error":"#N/A"}}]
[1606,{"$f":"B1660+IF('Cleaned Data'!L1607>0,1,0)*IF($B$34=\"Overall\",1,IF('Cleaned Data'!K1607=$B$34,1,0))*(IF('Cleaned Data'!H1607<>\"\",1,0))","v":540},{"$f":"INDEX('Cleaned Data'!H:H,MATCH($A1661,$B$56:$B$1919,0))","v":{"$error":"#N/A"}},{"$f":"INDEX('Cleaned Data'!L:L,MATCH($A1661,$B$56:$B$1919,0))","v":{"$error":"#N/A"}}]
[1607,{"$f":"B1661+IF('Cleaned Data'!L1608>0,1,0)*IF($B$34=\"Overall\",1,IF('Cleaned Data'!K1608=$B$34,1,0))*(IF('Cleaned Data'!H1608<>\"\",1,0))","v":540},{"$f":"INDEX('Cleaned Data'!H:H,MATCH($A1662,$B$56:$B$1919,0))","v":{"$error":"#N/A"}},{"$f":"INDEX('Cleaned Data'!L:L,MATCH($A1662,$B$56:$B$1919,0))","v":{"$error":"#N/A"}}]
[1608,{"$f":"B1662+IF('Cleaned Data'!L1609>0,1,0)*IF($B$34=\"Overall\",1,IF('Cleaned Data'!K1609=$B$34,1,0))*(IF('Cleaned Data'!H1609<>\"\",1,0))","v":540},{"$f":"INDEX('Cleaned Data'!H:H,MATCH($A1663,$B$56:$B$1919,0))","v":{"$error":"#N/A"}},{"$f":"INDEX('Cleaned Data'!L:L,MATCH($A1663,$B$56:$B$1919,0))","v":{"$error":"#N/A"}}]
[1609,{"$f":"B1663+IF('Cleaned Data'!L1610>0,1,0)*IF($B$34=\"Overall\",1,IF('Cleaned Data'!K1610=$B$34,1,0))*(IF('Cleaned Data'!H1610<>\"\",1,0))","v":540},{"$f":"INDEX('Cleaned Data'!H:H,MATCH($A1664,$B$56:$B$1919,0))","v":{"$error":"#N/A"}},{"$f":"INDEX('Cleaned Data'!L:L,MATCH($A1664,$B$56:$B$1919,0))","v":{"$error":"#N/A"}}]
[1610,{"$f":"B1664+IF('Cleaned Data'!L1611>0,1,0)*IF($B$34=\"Overall\",1,IF('Cleaned Data'!K1611=$B$34,1,0))*(IF('Cleaned Data'!H1611<>\"\",1,0))","v":540},{"$f":"INDEX('Cleaned Data'!H:H,MATCH($A1665,$B$56:$B$1919,0))","v":{"$error":"#N/A"}},{"$f":"INDEX('Cleaned Data'!L:L,MATCH($A1665,$B$56:$B$1919,0))","v":{"$error":"#N/A"}}]
[1611,{"$f":"B1665+IF('Cleaned Data'!L1612>0,1,0)*IF($B$34=\"Overall\",1,IF('Cleaned Data'!K1612=$B$34,1,0))*(IF('Cleaned Data'!H1612<>\"\",1,0))","v":540},{"$f":"INDEX('Cleaned Data'!H:H,MATCH($A1666,$B$56:$B$1919,0))","v":{"$error":"#N/A"}},{"$f":"INDEX('Cleaned Data'!L:L,MATCH($A1666,$B$56:$B$1919,0))","v":{"$error":"#N/A"}}]
[1612,{"$f":"B1666+IF('Cleaned Data'!L1613>0,1,0)*IF($B$34=\"Overall\",1,IF('Cleaned Data'!K1613=$B$34,1,0))*(IF('Cleaned Data'!H1613<>\"\",1,0))","v":540},{"$f":"INDEX('Cleaned Data'!H:H,MATCH($A1667,$B$56:$B$1919,0))","v":{"$error":"#N/A"}},{"$f":"INDEX('Cleaned Data'!L:L,MATCH($A1667,$B$56:$B$1919,0))","v":{"$error":"#N/A"}}]
[1613,{"$f":"B1667+IF('Cleaned Data'!L1614>0,1,0)*IF($B$34=\"Overall\",1,IF('Cleaned Data'!K1614=$B$34,1,0))*(IF('Cleaned Data'!H1614<>\"\",1,0))","v":540},{"$f":"INDEX('Cleaned Data'!H:H,MATCH($A1668,$B$56:$B$1919,0))","v":{"$error":"#N/A"}},{"$f":"INDEX('Cleaned Data'!L:L,MATCH($A1668,$B$56:$B$1919,0))","v":{"$error":"#N/A"}}]
[1614,{"$f":"B1668+IF('Cleaned Data'!L1615>0,1,0)*IF($B$34=\"Overall\",1,IF('Cleaned Data'!K1615=$B$34,1,0))*(IF('Cleaned Data'!H1615<>\"\",1,0))","v":540},{"$f":"INDEX('Cleaned Data'!H:H,MATCH($A1669,$B$56:$B$1919,0))","v":{"$error":"#N/A"}},{"$f":"INDEX('Cleaned Data'!L:L,MATCH($A1669,$B$56:$B$1919,0))","v":{"$error":"#N/A"}}]
[1615,{"$f":"B1669+IF('Cleaned Data'!L1616>0,1,0)*IF($B$34=\"Overall\",1,IF('Cleaned Data'!K1616=$B$34,1,0))*(IF('Cleaned Data'!H1616<>\"\",1,0))","v":540},{"$f":"INDEX('Cleaned Data'!H:H,MATCH($A1670,$B$56:$B$1919,0))","v":{"$error":"#N/A"}},{"$f":"INDEX('Cleaned Data'!L:L,MATCH($A1670,$B$56:$B$1919,0))","v":{"$error":"#N/A"}}]
[1616,{"$f":"B1670+IF('Cleaned Data'!L1617>0,1,0)*IF($B$34=\"Overall\",1,IF('Cleaned Data'!K1617=$B$34,1,0))*(IF('Cleaned Data'!H1617<>\"\",1,0))","v":540},{"$f":"INDEX('Cleaned Data'!H:H,MATCH($A1671,$B$56:$B$1919,0))","v":{"$error":"#N/A"}},{"$f":"INDEX('Cleaned Data'!L:L,MATCH($A1671,$B$56:$B$1919,0))","v":{"$error":"#N/A"}}]
[1617,{"$f":"B1671+IF('Cleaned Data'!L1618>0,1,0)*IF($B$34=\"Overall\",1,IF('Cleaned Data'!K1618=$B$34,1,0))*(IF('Cleaned Data'!H1618<>\"\",1,0))","v":540},{"$f":"INDEX('Cleaned Data'!H:H,MATCH($A1672,$B$56:$B$1919,0))","v":{"$error":"#N/A"}},{"$f":"INDEX('Cleaned Data'!L:L,MATCH($A1672,$B$56:$B$1919,0))","v":{"$error":"#N/A"}}]
[1618,{"$f":"B1672+IF('Cleaned Data'!L1619>0,1,0)*IF($B$34=\"Overall\",1,IF('Cleaned Data'!K1619=$B$34,1,0))*(IF('Cleaned Data'!H1619<>\"\",1,0))","v":540},{"$f":"INDEX('Cleaned Data'!H:H,MATCH($A1673,$B$56:$B$1919,0))","v":{"$error":"#N/A"}},{"$f":"INDEX('Cleaned Data'!L:L,MATCH($A1673,$B$56:$B$1919,0))","v":{"$error":"#N/A"}}]
[1619,{"$f":"B1673+IF('Cleaned Data'!L1620>0,1,0)*IF($B$34=\"Overall\",1,IF('Cleaned Data'!K1620=$B$34,1,0))*(IF('Cleaned Data'!H1620<>\"\",1,0))","v":540},{"$f":"INDEX('Cleaned Data'!H:H,MATCH($A1674,$B$56:$B$1919,0))","v":{"$error":"#N/A"}},{"$f":"INDEX('Cleaned Data'!L:L,MATCH($A1674,$B$56:$B$1919,0))","v":{"$error":"#N/A"}}]
[1620,{"$f":"B1674+IF('Cleaned Data'!L1621>0,1,0)*IF($B$34=\"Overall\",1,IF('Cleaned Data'!K1621=$B$34,1,0))*(IF('Cleaned Data'!H1621<>\"\",1,0))","v":540},{"$f":"INDEX('Cleaned Data'!H:H,MATCH($A1675,$B$56:$B$1919,0))","v":{"$error":"#N/A"}},{"$f":"INDEX('Cleaned Data'!L:L,MATCH($A1675,$B$56:$B$1919,0))","v":{"$error":"#N/A"}}]
[1621,{"$f":"B1675+IF('Cleaned Data'!L1622>0,1,0)*IF($B$34=\"Overall\",1,IF('Cleaned Data'!K1622=$B$34,1,0))*(IF('Cleaned Data'!H1622<>\"\",1,0))","v":540},{"$f":"INDEX('Cleaned Data'!H:H,MATCH($A1676,$B$56:$B$1919,0))","v":{"$error":"#N/A"}},{"$f":"INDEX('Cleaned Data'!L:L,MATCH($A1676,$B$56:$B$1919,0))","v":{"$error":"#N/A"}}]
[1622,{"$f":"B1676+IF('Cleaned Data'!L1623>0,1,0)*IF($B$34=\"Overall\",1,IF('Cleaned Data'!K1623=$B$34,1,0))*(IF('Cleaned Data'!H1623<>\"\",1,0))","v":540},{"$f":"INDEX('Cleaned Data'!H:H,MATCH($A1677,$B$56:$B$1919,0))","v":{"$error":"#N/A"}},{"$f":"INDEX('Cleaned Data'!L:L,MATCH($A1677,$B$56:$B$1919,0))","v":{"$error":"#N/A"}}]
[1623,{"$f":"B1677+IF('Cleaned Data'!L1624>0,1,0)*IF($B$34=\"Overall\",1,IF('Cleaned Data'!K1624=$B$34,1,0))*(IF('Cleaned Data'!H1624<>\"\",1,0))","v":540},{"$f":"INDEX('Cleaned Data'!H:H,MATCH($A1678,$B$56:$B$1919,0))","v":{"$error":"#N/A"}},{"$f":"INDEX('Cleaned Data'!L:L,MATCH($A1678,$B$56:$B$1919,0))","v":{"$error":"#N/A"}}]
[1624,{"$f":"B1678+IF('Cleaned Data'!L1625>0,1,0)*IF($B$34=\"Overall\",1,IF('Cleaned Data'!K1625=$B$34,1,0))*(IF('Cleaned Data'!H1625<>\"\",1,0))","v":540},{"$f":"INDEX('Cleaned Data'!H:H,MATCH($A1679,$B$56:$B$1919,0))","v":{"$error":"#N/A"}},{"$f":"INDEX('Cleaned Data'!L:L,MATCH($A1679,$B$56:$B$1919,0))","v":{"$error":"#N/A"}}]
[1625,{"$f":"B1679+IF('Cleaned Data'!L1626>0,1,0)*IF($B$34=\"Overall\",1,IF('Cleaned Data'!K1626=$B$34,1,0))*(IF('Cleaned Data'!H1626<>\"\",1,0))","v":540},{"$f":"INDEX('Cleaned Data'!H:H,MATCH($A1680,$B$56:$B$1919,0))","v":{"$error":"#N/A"}},{"$f":"INDEX('Cleaned Data'!L:L,MATCH($A1680,$B$56:$B$1919,0))","v":{"$error":"#N/A"}}]
[1626,{"$f":"B1680+IF('Cleaned Data'!L1627>0,1,0)*IF($B$34=\"Overall\",1,IF('Cleaned Data'!K1627=$B$34,1,0))*(IF('Cleaned Data'!H1627<>\"\",1,0))","v":540},{"$f":"INDEX('Cleaned Data'!H:H,MATCH($A1681,$B$56:$B$1919,0))","v":{"$error":"#N/A"}},{"$f":"INDEX('Cleaned Data'!L:L,MATCH($A1681,$B$56:$B$1919,0))","v":{"$error":"#N/A"}}]
[1627,{"$f":"B1681+IF('Cleaned Data'!L1628>0,1,0)*IF($B$34=\"Overall\",1,IF('Cleaned Data'!K1628=$B$34,1,0))*(IF('Cleaned Data'!H1628<>\"\",1,0))","v":540},{"$f":"INDEX('Cleaned Data'!H:H,MATCH($A1682,$B$56:$B$1919,0))","v":{"$error":"#N/A"}},{"$f":"INDEX('Cleaned Data'!L:L,MATCH($A1682,$B$56:$B$1919,0))","v":{"$error":"#N/A"}}]
[1628,{"$f":"B1682+IF('Cleaned Data'!L1629>0,1,0)*IF($B$34=\"Overall\",1,IF('Cleaned Data'!K1629=$B$34,1,0))*(IF('Cleaned Data'!H1629<>\"\",1,0))","v":540},{"$f":"INDEX('Cleaned Data'!H:H,MATCH($A1683,$B$56:$B$1919,0))","v":{"$error":"#N/A"}},{"$f":"INDEX('Cleaned Data'!L:L,MATCH($A1683,$B$56:$B$1919,0))","v":{"$error":"#N/A"}}]
[1629,{"$f":"B1683+IF('Cleaned Data'!L1630>0,1,0)*IF($B$34=\"Overall\",1,IF('Cleaned Data'!K1630=$B$34,1,0))*(IF('Cleaned Data'!H1630<>\"\",1,0))","v":540},{"$f":"INDEX('Cleaned Data'!H:H,MATCH($A1684,$B$56:$B$1919,0))","v":{"$error":"#N/A"}},{"$f":"INDEX('Cleaned Data'!L:L,MATCH($A1684,$B$56:$B$1919,0))","v":{"$error":"#N/A"}}]
[1630,{"$f":"B1684+IF('Cleaned Data'!L1631>0,1,0)*IF($B$34=\"Overall\",1,IF('Cleaned Data'!K1631=$B$34,1,0))*(IF('Cleaned Data'!H1631<>\"\",1,0))","v":540},{"$f":"INDEX('Cleaned Data'!H:H,MATCH($A1685,$B$56:$B$1919,0))","v":{"$error":"#N/A"}},{"$f":"INDEX('Cleaned Data'!L:L,MATCH($A1685,$B$56:$B$1919,0))","v":{"$error":"#N/A"}}]
[1631,{"$f":"B1685+IF('Cleaned Data'!L1632>0,1,0)*IF($B$34=\"Overall\",1,IF('Cleaned Data'!K1632=$B$34,1,0))*(IF('Cleaned Data'!H1632<>\"\",1,0))","v":540},{"$f":"INDEX('Cleaned Data'!H:H,MATCH($A1686,$B$56:$B$1919,0))","v":{"$error":"#N/A"}},{"$f":"INDEX('Cleaned Data'!L:L,MATCH($A1686,$B$56:$B$1919,0))","v":{"$error":"#N/A"}}]
[1632,{"$f":"B1686+IF('Cleaned Data'!L1633>0,1,0)*IF($B$34=\"Overall\",1,IF('Cleaned Data'!K1633=$B$34,1,0))*(IF('Cleaned Data'!H1633<>\"\",1,0))","v":540},{"$f":"INDEX('Cleaned Data'!H:H,MATCH($A1687,$B$56:$B$1919,0))","v":{"$error":"#N/A"}},{"$f":"INDEX('Cleaned Data'!L:L,MATCH($A1687,$B$56:$B$1919,0))","v":{"$error":"#N/A"}}]
[1633,{"$f":"B1687+IF('Cleaned Data'!L1634>0,1,0)*IF($B$34=\"Overall\",1,IF('Cleaned Data'!K1634=$B$34,1,0))*(IF('Cleaned Data'!H1634<>\"\",1,0))","v":540},{"$f":"INDEX('Cleaned Data'!H:H,MATCH($A1688,$B$56:$B$1919,0))","v":{"$error":"#N/A"}},{"$f":"INDEX('Cleaned Data'!L:L,MATCH($A1688,$B$56:$B$1919,0))","v":{"$error":"#N/A"}}]
[1634,{"$f":"B1688+IF('Cleaned Data'!L1635>0,1,0)*IF($B$34=\"Overall\",1,IF('Cleaned Data'!K1635=$B$34,1,0))*(IF('Cleaned Data'!H1635<>\"\",1,0))","v":540},{"$f":"INDEX('Cleaned Data'!H:H,MATCH($A1689,$B$56:$B$1919,0))","v":{"$error":"#N/A"}},{"$f":"INDEX('Cleaned Data'!L:L,MATCH($A1689,$B$56:$B$1919,0))","v":{"$error":"#N/A"}}]
[1635,{"$f":"B1689+IF('Cleaned Data'!L1636>0,1,0)*IF($B$34=\"Overall\",1,IF('Cleaned Data'!K1636=$B$34,1,0))*(IF('Cleaned Data'!H1636<>\"\",1,0))","v":540},{"$f":"INDEX('Cleaned Data'!H:H,MATCH($A1690,$B$56:$B$1919,0))","v":{"$error":"#N/A"}},{"$f":"INDEX('Cleaned Data'!L:L,MATCH($A1690,$B$56:$B$1919,0))","v":{"$error":"#N/A"}}]
[1636,{"$f":"B1690+IF('Cleaned Data'!L1637>0,1,0)*IF($B$34=\"Overall\",1,IF('Cleaned Data'!K1637=$B$34,1,0))*(IF('Cleaned Data'!H1637<>\"\",1,0))","v":540},{"$f":"INDEX('Cleaned Data'!H:H,MATCH($A1691,$B$56:$B$1919,0))","v":{"$error":"#N/A"}},{"$f":"INDEX('Cleaned Data'!L:L,MATCH($A1691,$B$56:$B$1919,0))","v":{"$error":"#N/A"}}]
[1637,{"$f":"B1691+IF('Cleaned Data'!L1638>0,1,0)*IF($B$34=\"Overall\",1,IF('Cleaned Data'!K1638=$B$34,1,0))*(IF('Cleaned Data'!H1638<>\"\",1,0))","v":540},{"$f":"INDEX('Cleaned Data'!H:H,MATCH($A1692,$B$56:$B$1919,0))","v":{"$error":"#N/A"}},{"$f":"INDEX('Cleaned Data'!L:L,MATCH($A1692,$B$56:$B$1919,0))","v":{"$error":"#N/A"}}]
[1638,{"$f":"B1692+IF('Cleaned Data'!L1639>0,1,0)*IF($B$34=\"Overall\",1,IF('Cleaned Data'!K1639=$B$34,1,0))*(IF('Cleaned Data'!H1639<>\"\",1,0))","v":540},{"$f":"INDEX('Cleaned Data'!H:H,MATCH($A1693,$B$56:$B$1919,0))","v":{"$error":"#N/A"}},{"$f":"INDEX('Cleaned Data'!L:L,MATCH($A1693,$B$56:$B$1919,0))","v":{"$error":"#N/A"}}]
[1639,{"$f":"B1693+IF('Cleaned Data'!L1640>0,1,0)*IF($B$34=\"Overall\",1,IF('Cleaned Data'!K1640=$B$34,1,0))*(IF('Cleaned Data'!H1640<>\"\",1,0))","v":540},{"$f":"INDEX('Cleaned Data'!H:H,MATCH($A1694,$B$56:$B$1919,0))","v":{"$error":"#N/A"}},{"$f":"INDEX('Cleaned Data'!L:L,MATCH($A1694,$B$56:$B$1919,0))","v":{"$error":"#N/A"}}]
[1640,{"$f":"B1694+IF('Cleaned Data'!L1641>0,1,0)*IF($B$34=\"Overall\",1,IF('Cleaned Data'!K1641=$B$34,1,0))*(IF('Cleaned Data'!H1641<>\"\",1,0))","v":540},{"$f":"INDEX('Cleaned Data'!H:H,MATCH($A1695,$B$56:$B$1919,0))","v":{"$error":"#N/A"}},{"$f":"INDEX('Cleaned Data'!L:L,MATCH($A1695,$B$56:$B$1919,0))","v":{"$error":"#N/A"}}]
[1641,{"$f":"B1695+IF('Cleaned Data'!L1642>0,1,0)*IF($B$34=\"Overall\",1,IF('Cleaned Data'!K1642=$B$34,1,0))*(IF('Cleaned Data'!H1642<>\"\",1,0))","v":540},{"$f":"INDEX('Cleaned Data'!H:H,MATCH($A1696,$B$56:$B$1919,0))","v":{"$error":"#N/A"}},{"$f":"INDEX('Cleaned Data'!L:L,MATCH($A1696,$B$56:$B$1919,0))","v":{"$error":"#N/A"}}]
[1642,{"$f":"B1696+IF('Cleaned Data'!L1643>0,1,0)*IF($B$34=\"Overall\",1,IF('Cleaned Data'!K1643=$B$34,1,0))*(IF('Cleaned Data'!H1643<>\"\",1,0))","v":540},{"$f":"INDEX('Cleaned Data'!H:H,MATCH($A1697,$B$56:$B$1919,0))","v":{"$error":"#N/A"}},{"$f":"INDEX('Cleaned Data'!L:L,MATCH($A1697,$B$56:$B$1919,0))","v":{"$error":"#N/A"}}]
[1643,{"$f":"B1697+IF('Cleaned Data'!L1644>0,1,0)*IF($B$34=\"Overall\",1,IF('Cleaned Data'!K1644=$B$34,1,0))*(IF('Cleaned Data'!H1644<>\"\",1,0))","v":540},{"$f":"INDEX('Cleaned Data'!H:H,MATCH($A1698,$B$56:$B$1919,0))","v":{"$error":"#N/A"}},{"$f":"INDEX('Cleaned Data'!L:L,MATCH($A1698,$B$56:$B$1919,0))","v":{"$error":"#N/A"}}]
[1644,{"$f":"B1698+IF('Cleaned Data'!L1645>0,1,0)*IF($B$34=\"Overall\",1,IF('Cleaned Data'!K1645=$B$34,1,0))*(IF('Cleaned Data'!H1645<>\"\",1,0))","v":540},{"$f":"INDEX('Cleaned Data'!H:H,MATCH($A1699,$B$56:$B$1919,0))","v":{"$error":"#N/A"}},{"$f":"INDEX('Cleaned Data'!L:L,MATCH($A1699,$B$56:$B$1919,0))","v":{"$error":"#N/A"}}]
[1645,{"$f":"B1699+IF('Cleaned Data'!L1646>0,1,0)*IF($B$34=\"Overall\",1,IF('Cleaned Data'!K1646=$B$34,1,0))*(IF('Cleaned Data'!H1646<>\"\",1,0))","v":540},{"$f":"INDEX('Cleaned Data'!H:H,MATCH($A1700,$B$56:$B$1919,0))","v":{"$error":"#N/A"}},{"$f":"INDEX('Cleaned Data'!L:L,MATCH($A1700,$B$56:$B$1919,0))","v":{"$error":"#N/A"}}]
[1646,{"$f":"B1700+IF('Cleaned Data'!L1647>0,1,0)*IF($B$34=\"Overall\",1,IF('Cleaned Data'!K1647=$B$34,1,0))*(IF('Cleaned Data'!H1647<>\"\",1,0))","v":540},{"$f":"INDEX('Cleaned Data'!H:H,MATCH($A1701,$B$56:$B$1919,0))","v":{"$error":"#N/A"}},{"$f":"INDEX('Cleaned Data'!L:L,MATCH($A1701,$B$56:$B$1919,0))","v":{"$error":"#N/A"}}]
[1647,{"$f":"B1701+IF('Cleaned Data'!L1648>0,1,0)*IF($B$34=\"Overall\",1,IF('Cleaned Data'!K1648=$B$34,1,0))*(IF('Cleaned Data'!H1648<>\"\",1,0))","v":540},{"$f":"INDEX('Cleaned Data'!H:H,MATCH($A1702,$B$56:$B$1919,0))","v":{"$error":"#N/A"}},{"$f":"INDEX('Cleaned Data'!L:L,MATCH($A1702,$B$56:$B$1919,0))","v":{"$error":"#N/A"}}]
[1648,{"$f":"B1702+IF('Cleaned Data'!L1649>0,1,0)*IF($B$34=\"Overall\",1,IF('Cleaned Data'!K1649=$B$34,1,0))*(IF('Cleaned Data'!H1649<>\"\",1,0))","v":540},{"$f":"INDEX('Cleaned Data'!H:H,MATCH($A1703,$B$56:$B$1919,0))","v":{"$error":"#N/A"}},{"$f":"INDEX('Cleaned Data'!L:L,MATCH($A1703,$B$56:$B$1919,0))","v":{"$error":"#N/A"}}]
[1649,{"$f":"B1703+IF('Cleaned Data'!L1650>0,1,0)*IF($B$34=\"Overall\",1,IF('Cleaned Data'!K1650=$B$34,1,0))*(IF('Cleaned Data'!H1650<>\"\",1,0))","v":540},{"$f":"INDEX('Cleaned Data'!H:H,MATCH($A1704,$B$56:$B$1919,0))","v":{"$error":"#N/A"}},{"$f":"INDEX('Cleaned Data'!L:L,MATCH($A1704,$B$56:$B$1919,0))","v":{"$error":"#N/A"}}]
[1650,{"$f":"B1704+IF('Cleaned Data'!L1651>0,1,0)*IF($B$34=\"Overall\",1,IF('Cleaned Data'!K1651=$B$34,1,0))*(IF('Cleaned Data'!H1651<>\"\",1,0))","v":540},{"$f":"INDEX('Cleaned Data'!H:H,MATCH($A1705,$B$56:$B$1919,0))","v":{"$error":"#N/A"}},{"$f":"INDEX('Cleaned Data'!L:L,MATCH($A1705,$B$56:$B$1919,0))","v":{"$error":"#N/A"}}]
[1651,{"$f":"B1705+IF('Cleaned Data'!L1652>0,1,0)*IF($B$34=\"Overall\",1,IF('Cleaned Data'!K1652=$B$34,1,0))*(IF('Cleaned Data'!H1652<>\"\",1,0))","v":540},{"$f":"INDEX('Cleaned Data'!H:H,MATCH($A1706,$B$56:$B$1919,0))","v":{"$error":"#N/A"}},{"$f":"INDEX('Cleaned Data'!L:L,MATCH($A1706,$B$56:$B$1919,0))","v":{"$error":"#N/A"}}]
[1652,{"$f":"B1706+IF('Cleaned Data'!L1653>0,1,0)*IF($B$34=\"Overall\",1,IF('Cleaned Data'!K1653=$B$34,1,0))*(IF('Cleaned Data'!H1653<>\"\",1,0))","v":540},{"$f":"INDEX('Cleaned Data'!H:H,MATCH($A1707,$B$56:$B$1919,0))","v":{"$error":"#N/A"}},{"$f":"INDEX('Cleaned Data'!L:L,MATCH($A1707,$B$56:$B$1919,0))","v":{"$error":"#N/A"}}]
[1653,{"$f":"B1707+IF('Cleaned Data'!L1654>0,1,0)*IF($B$34=\"Overall\",1,IF('Cleaned Data'!K1654=$B$34,1,0))*(IF('Cleaned Data'!H1654<>\"\",1,0))","v":540},{"$f":"INDEX('Cleaned Data'!H:H,MATCH($A1708,$B$56:$B$1919,0))","v":{"$error":"#N/A"}},{"$f":"INDEX('Cleaned Data'!L:L,MATCH($A1708,$B$56:$B$1919,0))","v":{"$error":"#N/A"}}]
[1654,{"$f":"B1708+IF('Cleaned Data'!L1655>0,1,0)*IF($B$34=\"Overall\",1,IF('Cleaned Data'!K1655=$B$34,1,0))*(IF('Cleaned Data'!H1655<>\"\",1,0))","v":540},{"$f":"INDEX('Cleaned Data'!H:H,MATCH($A1709,$B$56:$B$1919,0))","v":{"$error":"#N/A"}},{"$f":"INDEX('Cleaned Data'!L:L,MATCH($A1709,$B$56:$B$1919,0))","v":{"$error":"#N/A"}}]
[1655,{"$f":"B1709+IF('Cleaned Data'!L1656>0,1,0)*IF($B$34=\"Overall\",1,IF('Cleaned Data'!K1656=$B$34,1,0))*(IF('Cleaned Data'!H1656<>\"\",1,0))","v":540},{"$f":"INDEX('Cleaned Data'!H:H,MATCH($A1710,$B$56:$B$1919,0))","v":{"$error":"#N/A"}},{"$f":"INDEX('Cleaned Data'!L:L,MATCH($A1710,$B$56:$B$1919,0))","v":{"$error":"#N/A"}}]
[1656,{"$f":"B1710+IF('Cleaned Data'!L1657>0,1,0)*IF($B$34=\"Overall\",1,IF('Cleaned Data'!K1657=$B$34,1,0))*(IF('Cleaned Data'!H1657<>\"\",1,0))","v":540},{"$f":"INDEX('Cleaned Data'!H:H,MATCH($A1711,$B$56:$B$1919,0))","v":{"$error":"#N/A"}},{"$f":"INDEX('Cleaned Data'!L:L,MATCH($A1711,$B$56:$B$1919,0))","v":{"$error":"#N/A"}}]
[1657,{"$f":"B1711+IF('Cleaned Data'!L1658>0,1,0)*IF($B$34=\"Overall\",1,IF('Cleaned Data'!K1658=$B$34,1,0))*(IF('Cleaned Data'!H1658<>\"\",1,0))","v":540},{"$f":"INDEX('Cleaned Data'!H:H,MATCH($A1712,$B$56:$B$1919,0))","v":{"$error":"#N/A"}},{"$f":"INDEX('Cleaned Data'!L:L,MATCH($A1712,$B$56:$B$1919,0))","v":{"$error":"#N/A"}}]
[1658,{"$f":"B1712+IF('Cleaned Data'!L1659>0,1,0)*IF($B$34=\"Overall\",1,IF('Cleaned Data'!K1659=$B$34,1,0))*(IF('Cleaned Data'!H1659<>\"\",1,0))","v":540},{"$f":"INDEX('Cleaned Data'!H:H,MATCH($A1713,$B$56:$B$1919,0))","v":{"$error":"#N/A"}},{"$f":"INDEX('Cleaned Data'!L:L,MATCH($A1713,$B$56:$B$1919,0))","v":{"$error":"#N/A"}}]
[1659,{"$f":"B1713+IF('Cleaned Data'!L1660>0,1,0)*IF($B$34=\"Overall\",1,IF('Cleaned Data'!K1660=$B$34,1,0))*(IF('Cleaned Data'!H1660<>\"\",1,0))","v":540},{"$f":"INDEX('Cleaned Data'!H:H,MATCH($A1714,$B$56:$B$1919,0))","v":{"$error":"#N/A"}},{"$f":"INDEX('Cleaned Data'!L:L,MATCH($A1714,$B$56:$B$1919,0))","v":{"$error":"#N/A"}}]
[1660,{"$f":"B1714+IF('Cleaned Data'!L1661>0,1,0)*IF($B$34=\"Overall\",1,IF('Cleaned Data'!K1661=$B$34,1,0))*(IF('Cleaned Data'!H1661<>\"\",1,0))","v":540},{"$f":"INDEX('Cleaned Data'!H:H,MATCH($A1715,$B$56:$B$1919,0))","v":{"$error":"#N/A"}},{"$f":"INDEX('Cleaned Data'!L:L,MATCH($A1715,$B$56:$B$1919,0))","v":{"$error":"#N/A"}}]
[1661,{"$f":"B1715+IF('Cleaned Data'!L1662>0,1,0)*IF($B$34=\"Overall\",1,IF('Cleaned Data'!K1662=$B$34,1,0))*(IF('Cleaned Data'!H1662<>\"\",1,0))","v":540},{"$f":"INDEX('Cleaned Data'!H:H,MATCH($A1716,$B$56:$B$1919,0))","v":{"$error":"#N/A"}},{"$f":"INDEX('Cleaned Data'!L:L,MATCH($A1716,$B$56:$B$1919,0))","v":{"$error":"#N/A"}}]
[1662,{"$f":"B1716+IF('Cleaned Data'!L1663>0,1,0)*IF($B$34=\"Overall\",1,IF('Cleaned Data'!K1663=$B$34,1,0))*(IF('Cleaned Data'!H1663<>\"\",1,0))","v":540},{"$f":"INDEX('Cleaned Data'!H:H,MATCH($A1717,$B$56:$B$1919,0))","v":{"$error":"#N/A"}},{"$f":"INDEX('Cleaned Data'!L:L,MATCH($A1717,$B$56:$B$1919,0))","v":{"$error":"#N/A"}}]
[1663,{"$f":"B1717+IF('Cleaned Data'!L1664>0,1,0)*IF($B$34=\"Overall\",1,IF('Cleaned Data'!K1664=$B$34,1,0))*(IF('Cleaned Data'!H1664<>\"\",1,0))","v":540},{"$f":"INDEX('Cleaned Data'!H:H,MATCH($A1718,$B$56:$B$1919,0))","v":{"$error":"#N/A"}},{"$f":"INDEX('Cleaned Data'!L:L,MATCH($A1718,$B$56:$B$1919,0))","v":{"$error":"#N/A"}}]
[1664,{"$f":"B1718+IF('Cleaned Data'!L1665>0,1,0)*IF($B$34=\"Overall\",1,IF('Cleaned Data'!K1665=$B$34,1,0))*(IF('Cleaned Data'!H1665<>\"\",1,0))","v":540},{"$f":"INDEX('Cleaned Data'!H:H,MATCH($A1719,$B$56:$B$1919,0))","v":{"$error":"#N/A"}},{"$f":"INDEX('Cleaned Data'!L:L,MATCH($A1719,$B$56:$B$1919,0))","v":{"$error":"#N/A"}}]
[1665,{"$f":"B1719+IF('Cleaned Data'!L1666>0,1,0)*IF($B$34=\"Overall\",1,IF('Cleaned Data'!K1666=$B$34,1,0))*(IF('Cleaned Data'!H1666<>\"\",1,0))","v":540},{"$f":"INDEX('Cleaned Data'!H:H,MATCH($A1720,$B$56:$B$1919,0))","v":{"$error":"#N/A"}},{"$f":"INDEX('Cleaned Data'!L:L,MATCH($A1720,$B$56:$B$1919,0))","v":{"$error":"#N/A"}}]
[1666,{"$f":"B1720+IF('Cleaned Data'!L1667>0,1,0)*IF($B$34=\"Overall\",1,IF('Cleaned Data'!K1667=$B$34,1,0))*(IF('Cleaned Data'!H1667<>\"\",1,0))","v":540},{"$f":"INDEX('Cleaned Data'!H:H,MATCH($A1721,$B$56:$B$1919,0))","v":{"$error":"#N/A"}},{"$f":"INDEX('Cleaned Data'!L:L,MATCH($A1721,$B$56:$B$1919,0))","v":{"$error":"#N/A"}}]
[1667,{"$f":"B1721+IF('Cleaned Data'!L1668>0,1,0)*IF($B$34=\"Overall\",1,IF('Cleaned Data'!K1668=$B$34,1,0))*(IF('Cleaned Data'!H1668<>\"\",1,0))","v":540},{"$f":"INDEX('Cleaned Data'!H:H,MATCH($A1722,$B$56:$B$1919,0))","v":{"$error":"#N/A"}},{"$f":"INDEX('Cleaned Data'!L:L,MATCH($A1722,$B$56:$B$1919,0))","v":{"$error":"#N/A"}}]
[1668,{"$f":"B1722+IF('Cleaned Data'!L1669>0,1,0)*IF($B$34=\"Overall\",1,IF('Cleaned Data'!K1669=$B$34,1,0))*(IF('Cleaned Data'!H1669<>\"\",1,0))","v":540},{"$f":"INDEX('Cleaned Data'!H:H,MATCH($A1723,$B$56:$B$1919,0))","v":{"$error":"#N/A"}},{"$f":"INDEX('Cleaned Data'!L:L,MATCH($A1723,$B$56:$B$1919,0))","v":{"$error":"#N/A"}}]
[1669,{"$f":"B1723+IF('Cleaned Data'!L1670>0,1,0)*IF($B$34=\"Overall\",1,IF('Cleaned Data'!K1670=$B$34,1,0))*(IF('Cleaned Data'!H1670<>\"\",1,0))","v":540},{"$f":"INDEX('Cleaned Data'!H:H,MATCH($A1724,$B$56:$B$1919,0))","v":{"$error":"#N/A"}},{"$f":"INDEX('Cleaned Data'!L:L,MATCH($A1724,$B$56:$B$1919,0))","v":{"$error":"#N/A"}}]
[1670,{"$f":"B1724+IF('Cleaned Data'!L1671>0,1,0)*IF($B$34=\"Overall\",1,IF('Cleaned Data'!K1671=$B$34,1,0))*(IF('Cleaned Data'!H1671<>\"\",1,0))","v":540},{"$f":"INDEX('Cleaned Data'!H:H,MATCH($A1725,$B$56:$B$1919,0))","v":{"$error":"#N/A"}},{"$f":"INDEX('Cleaned Data'!L:L,MATCH($A1725,$B$56:$B$1919,0))","v":{"$error":"#N/A"}}]
[1671,{"$f":"B1725+IF('Cleaned Data'!L1672>0,1,0)*IF($B$34=\"Overall\",1,IF('Cleaned Data'!K1672=$B$34,1,0))*(IF('Cleaned Data'!H1672<>\"\",1,0))","v":540},{"$f":"INDEX('Cleaned Data'!H:H,MATCH($A1726,$B$56:$B$1919,0))","v":{"$error":"#N/A"}},{"$f":"INDEX('Cleaned Data'!L:L,MATCH($A1726,$B$56:$B$1919,0))","v":{"$error":"#N/A"}}]
[1672,{"$f":"B1726+IF('Cleaned Data'!L1673>0,1,0)*IF($B$34=\"Overall\",1,IF('Cleaned Data'!K1673=$B$34,1,0))*(IF('Cleaned Data'!H1673<>\"\",1,0))","v":540},{"$f":"INDEX('Cleaned Data'!H:H,MATCH($A1727,$B$56:$B$1919,0))","v":{"$error":"#N/A"}},{"$f":"INDEX('Cleaned Data'!L:L,MATCH($A1727,$B$56:$B$1919,0))","v":{"$error":"#N/A"}}]
[1673,{"$f":"B1727+IF('Cleaned Data'!L1674>0,1,0)*IF($B$34=\"Overall\",1,IF('Cleaned Data'!K1674=$B$34,1,0))*(IF('Cleaned Data'!H1674<>\"\",1,0))","v":540},{"$f":"INDEX('Cleaned Data'!H:H,MATCH($A1728,$B$56:$B$1919,0))","v":{"$error":"#N/A"}},{"$f":"INDEX('Cleaned Data'!L:L,MATCH($A1728,$B$56:$B$1919,0))","v":{"$error":"#N/A"}}]
[1674,{"$f":"B1728+IF('Cleaned Data'!L1675>0,1,0)*IF($B$34=\"Overall\",1,IF('Cleaned Data'!K1675=$B$34,1,0))*(IF('Cleaned Data'!H1675<>\"\",1,0))","v":540},{"$f":"INDEX('Cleaned Data'!H:H,MATCH($A1729,$B$56:$B$1919,0))","v":{"$error":"#N/A"}},{"$f":"INDEX('Cleaned Data'!L:L,MATCH($A1729,$B$56:$B$1919,0))","v":{"$error":"#N/A"}}]
[1675,{"$f":"B1729+IF('Cleaned Data'!L1676>0,1,0)*IF($B$34=\"Overall\",1,IF('Cleaned Data'!K1676=$B$34,1,0))*(IF('Cleaned Data'!H1676<>\"\",1,0))","v":540},{"$f":"INDEX('Cleaned Data'!H:H,MATCH($A1730,$B$56:$B$1919,0))","v":{"$error":"#N/A"}},{"$f":"INDEX('Cleaned Data'!L:L,MATCH($A1730,$B$56:$B$1919,0))","v":{"$error":"#N/A"}}]
[1676,{"$f":"B1730+IF('Cleaned Data'!L1677>0,1,0)*IF($B$34=\"Overall\",1,IF('Cleaned Data'!K1677=$B$34,1,0))*(IF('Cleaned Data'!H1677<>\"\",1,0))","v":540},{"$f":"INDEX('Cleaned Data'!H:H,MATCH($A1731,$B$56:$B$1919,0))","v":{"$error":"#N/A"}},{"$f":"INDEX('Cleaned Data'!L:L,MATCH($A1731,$B$56:$B$1919,0))","v":{"$error":"#N/A"}}]
[1677,{"$f":"B1731+IF('Cleaned Data'!L1678>0,1,0)*IF($B$34=\"Overall\",1,IF('Cleaned Data'!K1678=$B$34,1,0))*(IF('Cleaned Data'!H1678<>\"\",1,0))","v":540},{"$f":"INDEX('Cleaned Data'!H:H,MATCH($A1732,$B$56:$B$1919,0))","v":{"$error":"#N/A"}},{"$f":"INDEX('Cleaned Data'!L:L,MATCH($A1732,$B$56:$B$1919,0))","v":{"$error":"#N/A"}}]
[1678,{"$f":"B1732+IF('Cleaned Data'!L1679>0,1,0)*IF($B$34=\"Overall\",1,IF('Cleaned Data'!K1679=$B$34,1,0))*(IF('Cleaned Data'!H1679<>\"\",1,0))","v":540},{"$f":"INDEX('Cleaned Data'!H:H,MATCH($A1733,$B$56:$B$1919,0))","v":{"$error":"#N/A"}},{"$f":"INDEX('Cleaned Data'!L:L,MATCH($A1733,$B$56:$B$1919,0))","v":{"$error":"#N/A"}}]
[1679,{"$f":"B1733+IF('Cleaned Data'!L1680>0,1,0)*IF($B$34=\"Overall\",1,IF('Cleaned Data'!K1680=$B$34,1,0))*(IF('Cleaned Data'!H1680<>\"\",1,0))","v":540},{"$f":"INDEX('Cleaned Data'!H:H,MATCH($A1734,$B$56:$B$1919,0))","v":{"$error":"#N/A"}},{"$f":"INDEX('Cleaned Data'!L:L,MATCH($A1734,$B$56:$B$1919,0))","v":{"$error":"#N/A"}}]
[1680,{"$f":"B1734+IF('Cleaned Data'!L1681>0,1,0)*IF($B$34=\"Overall\",1,IF('Cleaned Data'!K1681=$B$34,1,0))*(IF('Cleaned Data'!H1681<>\"\",1,0))","v":540},{"$f":"INDEX('Cleaned Data'!H:H,MATCH($A1735,$B$56:$B$1919,0))","v":{"$error":"#N/A"}},{"$f":"INDEX('Cleaned Data'!L:L,MATCH($A1735,$B$56:$B$1919,0))","v":{"$error":"#N/A"}}]
[1681,{"$f":"B1735+IF('Cleaned Data'!L1682>0,1,0)*IF($B$34=\"Overall\",1,IF('Cleaned Data'!K1682=$B$34,1,0))*(IF('Cleaned Data'!H1682<>\"\",1,0))","v":540},{"$f":"INDEX('Cleaned Data'!H:H,MATCH($A1736,$B$56:$B$1919,0))","v":{"$error":"#N/A"}},{"$f":"INDEX('Cleaned Data'!L:L,MATCH($A1736,$B$56:$B$1919,0))","v":{"$error":"#N/A"}}]
[1682,{"$f":"B1736+IF('Cleaned Data'!L1683>0,1,0)*IF($B$34=\"Overall\",1,IF('Cleaned Data'!K1683=$B$34,1,0))*(IF('Cleaned Data'!H1683<>\"\",1,0))","v":540},{"$f":"INDEX('Cleaned Data'!H:H,MATCH($A1737,$B$56:$B$1919,0))","v":{"$error":"#N/A"}},{"$f":"INDEX('Cleaned Data'!L:L,MATCH($A1737,$B$56:$B$1919,0))","v":{"$error":"#N/A"}}]
[1683,{"$f":"B1737+IF('Cleaned Data'!L1684>0,1,0)*IF($B$34=\"Overall\",1,IF('Cleaned Data'!K1684=$B$34,1,0))*(IF('Cleaned Data'!H1684<>\"\",1,0))","v":540},{"$f":"INDEX('Cleaned Data'!H:H,MATCH($A1738,$B$56:$B$1919,0))","v":{"$error":"#N/A"}},{"$f":"INDEX('Cleaned Data'!L:L,MATCH($A1738,$B$56:$B$1919,0))","v":{"$error":"#N/A"}}]
[1684,{"$f":"B1738+IF('Cleaned Data'!L1685>0,1,0)*IF($B$34=\"Overall\",1,IF('Cleaned Data'!K1685=$B$34,1,0))*(IF('Cleaned Data'!H1685<>\"\",1,0))","v":540},{"$f":"INDEX('Cleaned Data'!H:H,MATCH($A1739,$B$56:$B$1919,0))","v":{"$error":"#N/A"}},{"$f":"INDEX('Cleaned Data'!L:L,MATCH($A1739,$B$56:$B$1919,0))","v":{"$error":"#N/A"}}]
[1685,{"$f":"B1739+IF('Cleaned Data'!L1686>0,1,0)*IF($B$34=\"Overall\",1,IF('Cleaned Data'!K1686=$B$34,1,0))*(IF('Cleaned Data'!H1686<>\"\",1,0))","v":540},{"$f":"INDEX('Cleaned Data'!H:H,MATCH($A1740,$B$56:$B$1919,0))","v":{"$error":"#N/A"}},{"$f":"INDEX('Cleaned Data'!L:L,MATCH($A1740,$B$56:$B$1919,0))","v":{"$error":"#N/A"}}]
[1686,{"$f":"B1740+IF('Cleaned Data'!L1687>0,1,0)*IF($B$34=\"Overall\",1,IF('Cleaned Data'!K1687=$B$34,1,0))*(IF('Cleaned Data'!H1687<>\"\",1,0))","v":540},{"$f":"INDEX('Cleaned Data'!H:H,MATCH($A1741,$B$56:$B$1919,0))","v":{"$error":"#N/A"}},{"$f":"INDEX('Cleaned Data'!L:L,MATCH($A1741,$B$56:$B$1919,0))","v":{"$error":"#N/A"}}]
[1687,{"$f":"B1741+IF('Cleaned Data'!L1688>0,1,0)*IF($B$34=\"Overall\",1,IF('Cleaned Data'!K1688=$B$34,1,0))*(IF('Cleaned Data'!H1688<>\"\",1,0))","v":540},{"$f":"INDEX('Cleaned Data'!H:H,MATCH($A1742,$B$56:$B$1919,0))","v":{"$error":"#N/A"}},{"$f":"INDEX('Cleaned Data'!L:L,MATCH($A1742,$B$56:$B$1919,0))","v":{"$error":"#N/A"}}]
[1688,{"$f":"B1742+IF('Cleaned Data'!L1689>0,1,0)*IF($B$34=\"Overall\",1,IF('Cleaned Data'!K1689=$B$34,1,0))*(IF('Cleaned Data'!H1689<>\"\",1,0))","v":540},{"$f":"INDEX('Cleaned Data'!H:H,MATCH($A1743,$B$56:$B$1919,0))","v":{"$error":"#N/A"}},{"$f":"INDEX('Cleaned Data'!L:L,MATCH($A1743,$B$56:$B$1919,0))","v":{"$error":"#N/A"}}]
[1689,{"$f":"B1743+IF('Cleaned Data'!L1690>0,1,0)*IF($B$34=\"Overall\",1,IF('Cleaned Data'!K1690=$B$34,1,0))*(IF('Cleaned Data'!H1690<>\"\",1,0))","v":540},{"$f":"INDEX('Cleaned Data'!H:H,MATCH($A1744,$B$56:$B$1919,0))","v":{"$error":"#N/A"}},{"$f":"INDEX('Cleaned Data'!L:L,MATCH($A1744,$B$56:$B$1919,0))","v":{"$error":"#N/A"}}]
[1690,{"$f":"B1744+IF('Cleaned Data'!L1691>0,1,0)*IF($B$34=\"Overall\",1,IF('Cleaned Data'!K1691=$B$34,1,0))*(IF('Cleaned Data'!H1691<>\"\",1,0))","v":540},{"$f":"INDEX('Cleaned Data'!H:H,MATCH($A1745,$B$56:$B$1919,0))","v":{"$error":"#N/A"}},{"$f":"INDEX('Cleaned Data'!L:L,MATCH($A1745,$B$56:$B$1919,0))","v":{"$error":"#N/A"}}]
[1691,{"$f":"B1745+IF('Cleaned Data'!L1692>0,1,0)*IF($B$34=\"Overall\",1,IF('Cleaned Data'!K1692=$B$34,1,0))*(IF('Cleaned Data'!H1692<>\"\",1,0))","v":540},{"$f":"INDEX('Cleaned Data'!H:H,MATCH($A1746,$B$56:$B$1919,0))","v":{"$error":"#N/A"}},{"$f":"INDEX('Cleaned Data'!L:L,MATCH($A1746,$B$56:$B$1919,0))","v":{"$error":"#N/A"}}]
[1692,{"$f":"B1746+IF('Cleaned Data'!L1693>0,1,0)*IF($B$34=\"Overall\",1,IF('Cleaned Data'!K1693=$B$34,1,0))*(IF('Cleaned Data'!H1693<>\"\",1,0))","v":540},{"$f":"INDEX('Cleaned Data'!H:H,MATCH($A1747,$B$56:$B$1919,0))","v":{"$error":"#N/A"}},{"$f":"INDEX('Cleaned Data'!L:L,MATCH($A1747,$B$56:$B$1919,0))","v":{"$error":"#N/A"}}]
[1693,{"$f":"B1747+IF('Cleaned Data'!L1694>0,1,0)*IF($B$34=\"Overall\",1,IF('Cleaned Data'!K1694=$B$34,1,0))*(IF('Cleaned Data'!H1694<>\"\",1,0))","v":540},{"$f":"INDEX('Cleaned Data'!H:H,MATCH($A1748,$B$56:$B$1919,0))","v":{"$error":"#N/A"}},{"$f":"INDEX('Cleaned Data'!L:L,MATCH($A1748,$B$56:$B$1919,0))","v":{"$error":"#N/A"}}]
[1694,{"$f":"B1748+IF('Cleaned Data'!L1695>0,1,0)*IF($B$34=\"Overall\",1,IF('Cleaned Data'!K1695=$B$34,1,0))*(IF('Cleaned Data'!H1695<>\"\",1,0))","v":540},{"$f":"INDEX('Cleaned Data'!H:H,MATCH($A1749,$B$56:$B$1919,0))","v":{"$error":"#N/A"}},{"$f":"INDEX('Cleaned Data'!L:L,MATCH($A1749,$B$56:$B$1919,0))","v":{"$error":"#N/A"}}]
[1695,{"$f":"B1749+IF('Cleaned Data'!L1696>0,1,0)*IF($B$34=\"Overall\",1,IF('Cleaned Data'!K1696=$B$34,1,0))*(IF('Cleaned Data'!H1696<>\"\",1,0))","v":540},{"$f":"INDEX('Cleaned Data'!H:H,MATCH($A1750,$B$56:$B$1919,0))","v":{"$error":"#N/A"}},{"$f":"INDEX('Cleaned Data'!L:L,MATCH($A1750,$B$56:$B$1919,0))","v":{"$error":"#N/A"}}]
[1696,{"$f":"B1750+IF('Cleaned Data'!L1697>0,1,0)*IF($B$34=\"Overall\",1,IF('Cleaned Data'!K1697=$B$34,1,0))*(IF('Cleaned Data'!H1697<>\"\",1,0))","v":540},{"$f":"INDEX('Cleaned Data'!H:H,MATCH($A1751,$B$56:$B$1919,0))","v":{"$error":"#N/A"}},{"$f":"INDEX('Cleaned Data'!L:L,MATCH($A1751,$B$56:$B$1919,0))","v":{"$error":"#N/A"}}]
[1697,{"$f":"B1751+IF('Cleaned Data'!L1698>0,1,0)*IF($B$34=\"Overall\",1,IF('Cleaned Data'!K1698=$B$34,1,0))*(IF('Cleaned Data'!H1698<>\"\",1,0))","v":540},{"$f":"INDEX('Cleaned Data'!H:H,MATCH($A1752,$B$56:$B$1919,0))","v":{"$error":"#N/A"}},{"$f":"INDEX('Cleaned Data'!L:L,MATCH($A1752,$B$56:$B$1919,0))","v":{"$error":"#N/A"}}]
[1698,{"$f":"B1752+IF('Cleaned Data'!L1699>0,1,0)*IF($B$34=\"Overall\",1,IF('Cleaned Data'!K1699=$B$34,1,0))*(IF('Cleaned Data'!H1699<>\"\",1,0))","v":540},{"$f":"INDEX('Cleaned Data'!H:H,MATCH($A1753,$B$56:$B$1919,0))","v":{"$error":"#N/A"}},{"$f":"INDEX('Cleaned Data'!L:L,MATCH($A1753,$B$56:$B$1919,0))","v":{"$error":"#N/A"}}]
[1699,{"$f":"B1753+IF('Cleaned Data'!L1700>0,1,0)*IF($B$34=\"Overall\",1,IF('Cleaned Data'!K1700=$B$34,1,0))*(IF('Cleaned Data'!H1700<>\"\",1,0))","v":540},{"$f":"INDEX('Cleaned Data'!H:H,MATCH($A1754,$B$56:$B$1919,0))","v":{"$error":"#N/A"}},{"$f":"INDEX('Cleaned Data'!L:L,MATCH($A1754,$B$56:$B$1919,0))","v":{"$error":"#N/A"}}]
[1700,{"$f":"B1754+IF('Cleaned Data'!L1701>0,1,0)*IF($B$34=\"Overall\",1,IF('Cleaned Data'!K1701=$B$34,1,0))*(IF('Cleaned Data'!H1701<>\"\",1,0))","v":540},{"$f":"INDEX('Cleaned Data'!H:H,MATCH($A1755,$B$56:$B$1919,0))","v":{"$error":"#N/A"}},{"$f":"INDEX('Cleaned Data'!L:L,MATCH($A1755,$B$56:$B$1919,0))","v":{"$error":"#N/A"}}]
[1701,{"$f":"B1755+IF('Cleaned Data'!L1702>0,1,0)*IF($B$34=\"Overall\",1,IF('Cleaned Data'!K1702=$B$34,1,0))*(IF('Cleaned Data'!H1702<>\"\",1,0))","v":540},{"$f":"INDEX('Cleaned Data'!H:H,MATCH($A1756,$B$56:$B$1919,0))","v":{"$error":"#N/A"}},{"$f":"INDEX('Cleaned Data'!L:L,MATCH($A1756,$B$56:$B$1919,0))","v":{"$error":"#N/A"}}]
[1702,{"$f":"B1756+IF('Cleaned Data'!L1703>0,1,0)*IF($B$34=\"Overall\",1,IF('Cleaned Data'!K1703=$B$34,1,0))*(IF('Cleaned Data'!H1703<>\"\",1,0))","v":540},{"$f":"INDEX('Cleaned Data'!H:H,MATCH($A1757,$B$56:$B$1919,0))","v":{"$error":"#N/A"}},{"$f":"INDEX('Cleaned Data'!L:L,MATCH($A1757,$B$56:$B$1919,0))","v":{"$error":"#N/A"}}]
[1703,{"$f":"B1757+IF('Cleaned Data'!L1704>0,1,0)*IF($B$34=\"Overall\",1,IF('Cleaned Data'!K1704=$B$34,1,0))*(IF('Cleaned Data'!H1704<>\"\",1,0))","v":540},{"$f":"INDEX('Cleaned Data'!H:H,MATCH($A1758,$B$56:$B$1919,0))","v":{"$error":"#N/A"}},{"$f":"INDEX('Cleaned Data'!L:L,MATCH($A1758,$B$56:$B$1919,0))","v":{"$error":"#N/A"}}]
[1704,{"$f":"B1758+IF('Cleaned Data'!L1705>0,1,0)*IF($B$34=\"Overall\",1,IF('Cleaned Data'!K1705=$B$34,1,0))*(IF('Cleaned Data'!H1705<>\"\",1,0))","v":540},{"$f":"INDEX('Cleaned Data'!H:H,MATCH($A1759,$B$56:$B$1919,0))","v":{"$error":"#N/A"}},{"$f":"INDEX('Cleaned Data'!L:L,MATCH($A1759,$B$56:$B$1919,0))","v":{"$error":"#N/A"}}]
[1705,{"$f":"B1759+IF('Cleaned Data'!L1706>0,1,0)*IF($B$34=\"Overall\",1,IF('Cleaned Data'!K1706=$B$34,1,0))*(IF('Cleaned Data'!H1706<>\"\",1,0))","v":540},{"$f":"INDEX('Cleaned Data'!H:H,MATCH($A1760,$B$56:$B$1919,0))","v":{"$error":"#N/A"}},{"$f":"INDEX('Cleaned Data'!L:L,MATCH($A1760,$B$56:$B$1919,0))","v":{"$error":"#N/A"}}]
[1706,{"$f":"B1760+IF('Cleaned Data'!L1707>0,1,0)*IF($B$34=\"Overall\",1,IF('Cleaned Data'!K1707=$B$34,1,0))*(IF('Cleaned Data'!H1707<>\"\",1,0))","v":540},{"$f":"INDEX('Cleaned Data'!H:H,MATCH($A1761,$B$56:$B$1919,0))","v":{"$error":"#N/A"}},{"$f":"INDEX('Cleaned Data'!L:L,MATCH($A1761,$B$56:$B$1919,0))","v":{"$error":"#N/A"}}]
[1707,{"$f":"B1761+IF('Cleaned Data'!L1708>0,1,0)*IF($B$34=\"Overall\",1,IF('Cleaned Data'!K1708=$B$34,1,0))*(IF('Cleaned Data'!H1708<>\"\",1,0))","v":540},{"$f":"INDEX('Cleaned Data'!H:H,MATCH($A1762,$B$56:$B$1919,0))","v":{"$error":"#N/A"}},{"$f":"INDEX('Cleaned Data'!L:L,MATCH($A1762,$B$56:$B$1919,0))","v":{"$error":"#N/A"}}]
[1708,{"$f":"B1762+IF('Cleaned Data'!L1709>0,1,0)*IF($B$34=\"Overall\",1,IF('Cleaned Data'!K1709=$B$34,1,0))*(IF('Cleaned Data'!H1709<>\"\",1,0))","v":540},{"$f":"INDEX('Cleaned Data'!H:H,MATCH($A1763,$B$56:$B$1919,0))","v":{"$error":"#N/A"}},{"$f":"INDEX('Cleaned Data'!L:L,MATCH($A1763,$B$56:$B$1919,0))","v":{"$error":"#N/A"}}]
[1709,{"$f":"B1763+IF('Cleaned Data'!L1710>0,1,0)*IF($B$34=\"Overall\",1,IF('Cleaned Data'!K1710=$B$34,1,0))*(IF('Cleaned Data'!H1710<>\"\",1,0))","v":540},{"$f":"INDEX('Cleaned Data'!H:H,MATCH($A1764,$B$56:$B$1919,0))","v":{"$error":"#N/A"}},{"$f":"INDEX('Cleaned Data'!L:L,MATCH($A1764,$B$56:$B$1919,0))","v":{"$error":"#N/A"}}]
[1710,{"$f":"B1764+IF('Cleaned Data'!L1711>0,1,0)*IF($B$34=\"Overall\",1,IF('Cleaned Data'!K1711=$B$34,1,0))*(IF('Cleaned Data'!H1711<>\"\",1,0))","v":540},{"$f":"INDEX('Cleaned Data'!H:H,MATCH($A1765,$B$56:$B$1919,0))","v":{"$error":"#N/A"}},{"$f":"INDEX('Cleaned Data'!L:L,MATCH($A1765,$B$56:$B$1919,0))","v":{"$error":"#N/A"}}]
[1711,{"$f":"B1765+IF('Cleaned Data'!L1712>0,1,0)*IF($B$34=\"Overall\",1,IF('Cleaned Data'!K1712=$B$34,1,0))*(IF('Cleaned Data'!H1712<>\"\",1,0))","v":540},{"$f":"INDEX('Cleaned Data'!H:H,MATCH($A1766,$B$56:$B$1919,0))","v":{"$error":"#N/A"}},{"$f":"INDEX('Cleaned Data'!L:L,MATCH($A1766,$B$56:$B$1919,0))","v":{"$error":"#N/A"}}]
[1712,{"$f":"B1766+IF('Cleaned Data'!L1713>0,1,0)*IF($B$34=\"Overall\",1,IF('Cleaned Data'!K1713=$B$34,1,0))*(IF('Cleaned Data'!H1713<>\"\",1,0))","v":540},{"$f":"INDEX('Cleaned Data'!H:H,MATCH($A1767,$B$56:$B$1919,0))","v":{"$error":"#N/A"}},{"$f":"INDEX('Cleaned Data'!L:L,MATCH($A1767,$B$56:$B$1919,0))","v":{"$error":"#N/A"}}]
[1713,{"$f":"B1767+IF('Cleaned Data'!L1714>0,1,0)*IF($B$34=\"Overall\",1,IF('Cleaned Data'!K1714=$B$34,1,0))*(IF('Cleaned Data'!H1714<>\"\",1,0))","v":540},{"$f":"INDEX('Cleaned Data'!H:H,MATCH($A1768,$B$56:$B$1919,0))","v":{"$error":"#N/A"}},{"$f":"INDEX('Cleaned Data'!L:L,MATCH($A1768,$B$56:$B$1919,0))","v":{"$error":"#N/A"}}]
[1714,{"$f":"B1768+IF('Cleaned Data'!L1715>0,1,0)*IF($B$34=\"Overall\",1,IF('Cleaned Data'!K1715=$B$34,1,0))*(IF('Cleaned Data'!H1715<>\"\",1,0))","v":540},{"$f":"INDEX('Cleaned Data'!H:H,MATCH($A1769,$B$56:$B$1919,0))","v":{"$error":"#N/A"}},{"$f":"INDEX('Cleaned Data'!L:L,MATCH($A1769,$B$56:$B$1919,0))","v":{"$error":"#N/A"}}]
[1715,{"$f":"B1769+IF('Cleaned Data'!L1716>0,1,0)*IF($B$34=\"Overall\",1,IF('Cleaned Data'!K1716=$B$34,1,0))*(IF('Cleaned Data'!H1716<>\"\",1,0))","v":540},{"$f":"INDEX('Cleaned Data'!H:H,MATCH($A1770,$B$56:$B$1919,0))","v":{"$error":"#N/A"}},{"$f":"INDEX('Cleaned Data'!L:L,MATCH($A1770,$B$56:$B$1919,0))","v":{"$error":"#N/A"}}]
[1716,{"$f":"B1770+IF('Cleaned Data'!L1717>0,1,0)*IF($B$34=\"Overall\",1,IF('Cleaned Data'!K1717=$B$34,1,0))*(IF('Cleaned Data'!H1717<>\"\",1,0))","v":540},{"$f":"INDEX('Cleaned Data'!H:H,MATCH($A1771,$B$56:$B$1919,0))","v":{"$error":"#N/A"}},{"$f":"INDEX('Cleaned Data'!L:L,MATCH($A1771,$B$56:$B$1919,0))","v":{"$error":"#N/A"}}]
[1717,{"$f":"B1771+IF('Cleaned Data'!L1718>0,1,0)*IF($B$34=\"Overall\",1,IF('Cleaned Data'!K1718=$B$34,1,0))*(IF('Cleaned Data'!H1718<>\"\",1,0))","v":540},{"$f":"INDEX('Cleaned Data'!H:H,MATCH($A1772,$B$56:$B$1919,0))","v":{"$error":"#N/A"}},{"$f":"INDEX('Cleaned Data'!L:L,MATCH($A1772,$B$56:$B$1919,0))","v":{"$error":"#N/A"}}]
[1718,{"$f":"B1772+IF('Cleaned Data'!L1719>0,1,0)*IF($B$34=\"Overall\",1,IF('Cleaned Data'!K1719=$B$34,1,0))*(IF('Cleaned Data'!H1719<>\"\",1,0))","v":540},{"$f":"INDEX('Cleaned Data'!H:H,MATCH($A1773,$B$56:$B$1919,0))","v":{"$error":"#N/A"}},{"$f":"INDEX('Cleaned Data'!L:L,MATCH($A1773,$B$56:$B$1919,0))","v":{"$error":"#N/A"}}]
[1719,{"$f":"B1773+IF('Cleaned Data'!L1720>0,1,0)*IF($B$34=\"Overall\",1,IF('Cleaned Data'!K1720=$B$34,1,0))*(IF('Cleaned Data'!H1720<>\"\",1,0))","v":540},{"$f":"INDEX('Cleaned Data'!H:H,MATCH($A1774,$B$56:$B$1919,0))","v":{"$error":"#N/A"}},{"$f":"INDEX('Cleaned Data'!L:L,MATCH($A1774,$B$56:$B$1919,0))","v":{"$error":"#N/A"}}]
[1720,{"$f":"B1774+IF('Cleaned Data'!L1721>0,1,0)*IF($B$34=\"Overall\",1,IF('Cleaned Data'!K1721=$B$34,1,0))*(IF('Cleaned Data'!H1721<>\"\",1,0))","v":540},{"$f":"INDEX('Cleaned Data'!H:H,MATCH($A1775,$B$56:$B$1919,0))","v":{"$error":"#N/A"}},{"$f":"INDEX('Cleaned Data'!L:L,MATCH($A1775,$B$56:$B$1919,0))","v":{"$error":"#N/A"}}]
[1721,{"$f":"B1775+IF('Cleaned Data'!L1722>0,1,0)*IF($B$34=\"Overall\",1,IF('Cleaned Data'!K1722=$B$34,1,0))*(IF('Cleaned Data'!H1722<>\"\",1,0))","v":540},{"$f":"INDEX('Cleaned Data'!H:H,MATCH($A1776,$B$56:$B$1919,0))","v":{"$error":"#N/A"}},{"$f":"INDEX('Cleaned Data'!L:L,MATCH($A1776,$B$56:$B$1919,0))","v":{"$error":"#N/A"}}]
[1722,{"$f":"B1776+IF('Cleaned Data'!L1723>0,1,0)*IF($B$34=\"Overall\",1,IF('Cleaned Data'!K1723=$B$34,1,0))*(IF('Cleaned Data'!H1723<>\"\",1,0))","v":540},{"$f":"INDEX('Cleaned Data'!H:H,MATCH($A1777,$B$56:$B$1919,0))","v":{"$error":"#N/A"}},{"$f":"INDEX('Cleaned Data'!L:L,MATCH($A1777,$B$56:$B$1919,0))","v":{"$error":"#N/A"}}]
[1723,{"$f":"B1777+IF('Cleaned Data'!L1724>0,1,0)*IF($B$34=\"Overall\",1,IF('Cleaned Data'!K1724=$B$34,1,0))*(IF('Cleaned Data'!H1724<>\"\",1,0))","v":540},{"$f":"INDEX('Cleaned Data'!H:H,MATCH($A1778,$B$56:$B$1919,0))","v":{"$error":"#N/A"}},{"$f":"INDEX('Cleaned Data'!L:L,MATCH($A1778,$B$56:$B$1919,0))","v":{"$error":"#N/A"}}]
[1724,{"$f":"B1778+IF('Cleaned Data'!L1725>0,1,0)*IF($B$34=\"Overall\",1,IF('Cleaned Data'!K1725=$B$34,1,0))*(IF('Cleaned Data'!H1725<>\"\",1,0))","v":540},{"$f":"INDEX('Cleaned Data'!H:H,MATCH($A1779,$B$56:$B$1919,0))","v":{"$error":"#N/A"}},{"$f":"INDEX('Cleaned Data'!L:L,MATCH($A1779,$B$56:$B$1919,0))","v":{"$error":"#N/A"}}]
[1725,{"$f":"B1779+IF('Cleaned Data'!L1726>0,1,0)*IF($B$34=\"Overall\",1,IF('Cleaned Data'!K1726=$B$34,1,0))*(IF('Cleaned Data'!H1726<>\"\",1,0))","v":540},{"$f":"INDEX('Cleaned Data'!H:H,MATCH($A1780,$B$56:$B$1919,0))","v":{"$error":"#N/A"}},{"$f":"INDEX('Cleaned Data'!L:L,MATCH($A1780,$B$56:$B$1919,0))","v":{"$error":"#N/A"}}]
[1726,{"$f":"B1780+IF('Cleaned Data'!L1727>0,1,0)*IF($B$34=\"Overall\",1,IF('Cleaned Data'!K1727=$B$34,1,0))*(IF('Cleaned Data'!H1727<>\"\",1,0))","v":540},{"$f":"INDEX('Cleaned Data'!H:H,MATCH($A1781,$B$56:$B$1919,0))","v":{"$error":"#N/A"}},{"$f":"INDEX('Cleaned Data'!L:L,MATCH($A1781,$B$56:$B$1919,0))","v":{"$error":"#N/A"}}]
[1727,{"$f":"B1781+IF('Cleaned Data'!L1728>0,1,0)*IF($B$34=\"Overall\",1,IF('Cleaned Data'!K1728=$B$34,1,0))*(IF('Cleaned Data'!H1728<>\"\",1,0))","v":540},{"$f":"INDEX('Cleaned Data'!H:H,MATCH($A1782,$B$56:$B$1919,0))","v":{"$error":"#N/A"}},{"$f":"INDEX('Cleaned Data'!L:L,MATCH($A1782,$B$56:$B$1919,0))","v":{"$error":"#N/A"}}]
[1728,{"$f":"B1782+IF('Cleaned Data'!L1729>0,1,0)*IF($B$34=\"Overall\",1,IF('Cleaned Data'!K1729=$B$34,1,0))*(IF('Cleaned Data'!H1729<>\"\",1,0))","v":540},{"$f":"INDEX('Cleaned Data'!H:H,MATCH($A1783,$B$56:$B$1919,0))","v":{"$error":"#N/A"}},{"$f":"INDEX('Cleaned Data'!L:L,MATCH($A1783,$B$56:$B$1919,0))","v":{"$error":"#N/A"}}]
[1729,{"$f":"B1783+IF('Cleaned Data'!L1730>0,1,0)*IF($B$34=\"Overall\",1,IF('Cleaned Data'!K1730=$B$34,1,0))*(IF('Cleaned Data'!H1730<>\"\",1,0))","v":540},{"$f":"INDEX('Cleaned Data'!H:H,MATCH($A1784,$B$56:$B$1919,0))","v":{"$error":"#N/A"}},{"$f":"INDEX('Cleaned Data'!L:L,MATCH($A1784,$B$56:$B$1919,0))","v":{"$error":"#N/A"}}]
[1730,{"$f":"B1784+IF('Cleaned Data'!L1731>0,1,0)*IF($B$34=\"Overall\",1,IF('Cleaned Data'!K1731=$B$34,1,0))*(IF('Cleaned Data'!H1731<>\"\",1,0))","v":540},{"$f":"INDEX('Cleaned Data'!H:H,MATCH($A1785,$B$56:$B$1919,0))","v":{"$error":"#N/A"}},{"$f":"INDEX('Cleaned Data'!L:L,MATCH($A1785,$B$56:$B$1919,0))","v":{"$error":"#N/A"}}]
[1731,{"$f":"B1785+IF('Cleaned Data'!L1732>0,1,0)*IF($B$34=\"Overall\",1,IF('Cleaned Data'!K1732=$B$34,1,0))*(IF('Cleaned Data'!H1732<>\"\",1,0))","v":540},{"$f":"INDEX('Cleaned Data'!H:H,MATCH($A1786,$B$56:$B$1919,0))","v":{"$error":"#N/A"}},{"$f":"INDEX('Cleaned Data'!L:L,MATCH($A1786,$B$56:$B$1919,0))","v":{"$error":"#N/A"}}]
[1732,{"$f":"B1786+IF('Cleaned Data'!L1733>0,1,0)*IF($B$34=\"Overall\",1,IF('Cleaned Data'!K1733=$B$34,1,0))*(IF('Cleaned Data'!H1733<>\"\",1,0))","v":540},{"$f":"INDEX('Cleaned Data'!H:H,MATCH($A1787,$B$56:$B$1919,0))","v":{"$error":"#N/A"}},{"$f":"INDEX('Cleaned Data'!L:L,MATCH($A1787,$B$56:$B$1919,0))","v":{"$error":"#N/A"}}]
[1733,{"$f":"B1787+IF('Cleaned Data'!L1734>0,1,0)*IF($B$34=\"Overall\",1,IF('Cleaned Data'!K1734=$B$34,1,0))*(IF('Cleaned Data'!H1734<>\"\",1,0))","v":540},{"$f":"INDEX('Cleaned Data'!H:H,MATCH($A1788,$B$56:$B$1919,0))","v":{"$error":"#N/A"}},{"$f":"INDEX('Cleaned Data'!L:L,MATCH($A1788,$B$56:$B$1919,0))","v":{"$error":"#N/A"}}]
[1734,{"$f":"B1788+IF('Cleaned Data'!L1735>0,1,0)*IF($B$34=\"Overall\",1,IF('Cleaned Data'!K1735=$B$34,1,0))*(IF('Cleaned Data'!H1735<>\"\",1,0))","v":540},{"$f":"INDEX('Cleaned Data'!H:H,MATCH($A1789,$B$56:$B$1919,0))","v":{"$error":"#N/A"}},{"$f":"INDEX('Cleaned Data'!L:L,MATCH($A1789,$B$56:$B$1919,0))","v":{"$error":"#N/A"}}]
[1735,{"$f":"B1789+IF('Cleaned Data'!L1736>0,1,0)*IF($B$34=\"Overall\",1,IF('Cleaned Data'!K1736=$B$34,1,0))*(IF('Cleaned Data'!H1736<>\"\",1,0))","v":540},{"$f":"INDEX('Cleaned Data'!H:H,MATCH($A1790,$B$56:$B$1919,0))","v":{"$error":"#N/A"}},{"$f":"INDEX('Cleaned Data'!L:L,MATCH($A1790,$B$56:$B$1919,0))","v":{"$error":"#N/A"}}]
[1736,{"$f":"B1790+IF('Cleaned Data'!L1737>0,1,0)*IF($B$34=\"Overall\",1,IF('Cleaned Data'!K1737=$B$34,1,0))*(IF('Cleaned Data'!H1737<>\"\",1,0))","v":540},{"$f":"INDEX('Cleaned Data'!H:H,MATCH($A1791,$B$56:$B$1919,0))","v":{"$error":"#N/A"}},{"$f":"INDEX('Cleaned Data'!L:L,MATCH($A1791,$B$56:$B$1919,0))","v":{"$error":"#N/A"}}]
[1737,{"$f":"B1791+IF('Cleaned Data'!L1738>0,1,0)*IF($B$34=\"Overall\",1,IF('Cleaned Data'!K1738=$B$34,1,0))*(IF('Cleaned Data'!H1738<>\"\",1,0))","v":540},{"$f":"INDEX('Cleaned Data'!H:H,MATCH($A1792,$B$56:$B$1919,0))","v":{"$error":"#N/A"}},{"$f":"INDEX('Cleaned Data'!L:L,MATCH($A1792,$B$56:$B$1919,0))","v":{"$error":"#N/A"}}]
[1738,{"$f":"B1792+IF('Cleaned Data'!L1739>0,1,0)*IF($B$34=\"Overall\",1,IF('Cleaned Data'!K1739=$B$34,1,0))*(IF('Cleaned Data'!H1739<>\"\",1,0))","v":540},{"$f":"INDEX('Cleaned Data'!H:H,MATCH($A1793,$B$56:$B$1919,0))","v":{"$error":"#N/A"}},{"$f":"INDEX('Cleaned Data'!L:L,MATCH($A1793,$B$56:$B$1919,0))","v":{"$error":"#N/A"}}]
[1739,{"$f":"B1793+IF('Cleaned Data'!L1740>0,1,0)*IF($B$34=\"Overall\",1,IF('Cleaned Data'!K1740=$B$34,1,0))*(IF('Cleaned Data'!H1740<>\"\",1,0))","v":540},{"$f":"INDEX('Cleaned Data'!H:H,MATCH($A1794,$B$56:$B$1919,0))","v":{"$error":"#N/A"}},{"$f":"INDEX('Cleaned Data'!L:L,MATCH($A1794,$B$56:$B$1919,0))","v":{"$error":"#N/A"}}]
[1740,{"$f":"B1794+IF('Cleaned Data'!L1741>0,1,0)*IF($B$34=\"Overall\",1,IF('Cleaned Data'!K1741=$B$34,1,0))*(IF('Cleaned Data'!H1741<>\"\",1,0))","v":540},{"$f":"INDEX('Cleaned Data'!H:H,MATCH($A1795,$B$56:$B$1919,0))","v":{"$error":"#N/A"}},{"$f":"INDEX('Cleaned Data'!L:L,MATCH($A1795,$B$56:$B$1919,0))","v":{"$error":"#N/A"}}]
[1741,{"$f":"B1795+IF('Cleaned Data'!L1742>0,1,0)*IF($B$34=\"Overall\",1,IF('Cleaned Data'!K1742=$B$34,1,0))*(IF('Cleaned Data'!H1742<>\"\",1,0))","v":540},{"$f":"INDEX('Cleaned Data'!H:H,MATCH($A1796,$B$56:$B$1919,0))","v":{"$error":"#N/A"}},{"$f":"INDEX('Cleaned Data'!L:L,MATCH($A1796,$B$56:$B$1919,0))","v":{"$error":"#N/A"}}]
[1742,{"$f":"B1796+IF('Cleaned Data'!L1743>0,1,0)*IF($B$34=\"Overall\",1,IF('Cleaned Data'!K1743=$B$34,1,0))*(IF('Cleaned Data'!H1743<>\"\",1,0))","v":540},{"$f":"INDEX('Cleaned Data'!H:H,MATCH($A1797,$B$56:$B$1919,0))","v":{"$error":"#N/A"}},{"$f":"INDEX('Cleaned Data'!L:L,MATCH($A1797,$B$56:$B$1919,0))","v":{"$error":"#N/A"}}]
[1743,{"$f":"B1797+IF('Cleaned Data'!L1744>0,1,0)*IF($B$34=\"Overall\",1,IF('Cleaned Data'!K1744=$B$34,1,0))*(IF('Cleaned Data'!H1744<>\"\",1,0))","v":540},{"$f":"INDEX('Cleaned Data'!H:H,MATCH($A1798,$B$56:$B$1919,0))","v":{"$error":"#N/A"}},{"$f":"INDEX('Cleaned Data'!L:L,MATCH($A1798,$B$56:$B$1919,0))","v":{"$error":"#N/A"}}]
[1744,{"$f":"B1798+IF('Cleaned Data'!L1745>0,1,0)*IF($B$34=\"Overall\",1,IF('Cleaned Data'!K1745=$B$34,1,0))*(IF('Cleaned Data'!H1745<>\"\",1,0))","v":540},{"$f":"INDEX('Cleaned Data'!H:H,MATCH($A1799,$B$56:$B$1919,0))","v":{"$error":"#N/A"}},{"$f":"INDEX('Cleaned Data'!L:L,MATCH($A1799,$B$56:$B$1919,0))","v":{"$error":"#N/A"}}]
[1745,{"$f":"B1799+IF('Cleaned Data'!L1746>0,1,0)*IF($B$34=\"Overall\",1,IF('Cleaned Data'!K1746=$B$34,1,0))*(IF('Cleaned Data'!H1746<>\"\",1,0))","v":540},{"$f":"INDEX('Cleaned Data'!H:H,MATCH($A1800,$B$56:$B$1919,0))","v":{"$error":"#N/A"}},{"$f":"INDEX('Cleaned Data'!L:L,MATCH($A1800,$B$56:$B$1919,0))","v":{"$error":"#N/A"}}]
[1746,{"$f":"B1800+IF('Cleaned Data'!L1747>0,1,0)*IF($B$34=\"Overall\",1,IF('Cleaned Data'!K1747=$B$34,1,0))*(IF('Cleaned Data'!H1747<>\"\",1,0))","v":540},{"$f":"INDEX('Cleaned Data'!H:H,MATCH($A1801,$B$56:$B$1919,0))","v":{"$error":"#N/A"}},{"$f":"INDEX('Cleaned Data'!L:L,MATCH($A1801,$B$56:$B$1919,0))","v":{"$error":"#N/A"}}]
[1747,{"$f":"B1801+IF('Cleaned Data'!L1748>0,1,0)*IF($B$34=\"Overall\",1,IF('Cleaned Data'!K1748=$B$34,1,0))*(IF('Cleaned Data'!H1748<>\"\",1,0))","v":540},{"$f":"INDEX('Cleaned Data'!H:H,MATCH($A1802,$B$56:$B$1919,0))","v":{"$error":"#N/A"}},{"$f":"INDEX('Cleaned Data'!L:L,MATCH($A1802,$B$56:$B$1919,0))","v":{"$error":"#N/A"}}]
[1748,{"$f":"B1802+IF('Cleaned Data'!L1749>0,1,0)*IF($B$34=\"Overall\",1,IF('Cleaned Data'!K1749=$B$34,1,0))*(IF('Cleaned Data'!H1749<>\"\",1,0))","v":540},{"$f":"INDEX('Cleaned Data'!H:H,MATCH($A1803,$B$56:$B$1919,0))","v":{"$error":"#N/A"}},{"$f":"INDEX('Cleaned Data'!L:L,MATCH($A1803,$B$56:$B$1919,0))","v":{"$error":"#N/A"}}]
[1749,{"$f":"B1803+IF('Cleaned Data'!L1750>0,1,0)*IF($B$34=\"Overall\",1,IF('Cleaned Data'!K1750=$B$34,1,0))*(IF('Cleaned Data'!H1750<>\"\",1,0))","v":540},{"$f":"INDEX('Cleaned Data'!H:H,MATCH($A1804,$B$56:$B$1919,0))","v":{"$error":"#N/A"}},{"$f":"INDEX('Cleaned Data'!L:L,MATCH($A1804,$B$56:$B$1919,0))","v":{"$error":"#N/A"}}]
[1750,{"$f":"B1804+IF('Cleaned Data'!L1751>0,1,0)*IF($B$34=\"Overall\",1,IF('Cleaned Data'!K1751=$B$34,1,0))*(IF('Cleaned Data'!H1751<>\"\",1,0))","v":540},{"$f":"INDEX('Cleaned Data'!H:H,MATCH($A1805,$B$56:$B$1919,0))","v":{"$error":"#N/A"}},{"$f":"INDEX('Cleaned Data'!L:L,MATCH($A1805,$B$56:$B$1919,0))","v":{"$error":"#N/A"}}]
[1751,{"$f":"B1805+IF('Cleaned Data'!L1752>0,1,0)*IF($B$34=\"Overall\",1,IF('Cleaned Data'!K1752=$B$34,1,0))*(IF('Cleaned Data'!H1752<>\"\",1,0))","v":540},{"$f":"INDEX('Cleaned Data'!H:H,MATCH($A1806,$B$56:$B$1919,0))","v":{"$error":"#N/A"}},{"$f":"INDEX('Cleaned Data'!L:L,MATCH($A1806,$B$56:$B$1919,0))","v":{"$error":"#N/A"}}]
[1752,{"$f":"B1806+IF('Cleaned Data'!L1753>0,1,0)*IF($B$34=\"Overall\",1,IF('Cleaned Data'!K1753=$B$34,1,0))*(IF('Cleaned Data'!H1753<>\"\",1,0))","v":540},{"$f":"INDEX('Cleaned Data'!H:H,MATCH($A1807,$B$56:$B$1919,0))","v":{"$error":"#N/A"}},{"$f":"INDEX('Cleaned Data'!L:L,MATCH($A1807,$B$56:$B$1919,0))","v":{"$error":"#N/A"}}]
[1753,{"$f":"B1807+IF('Cleaned Data'!L1754>0,1,0)*IF($B$34=\"Overall\",1,IF('Cleaned Data'!K1754=$B$34,1,0))*(IF('Cleaned Data'!H1754<>\"\",1,0))","v":540},{"$f":"INDEX('Cleaned Data'!H:H,MATCH($A1808,$B$56:$B$1919,0))","v":{"$error":"#N/A"}},{"$f":"INDEX('Cleaned Data'!L:L,MATCH($A1808,$B$56:$B$1919,0))","v":{"$error":"#N/A"}}]
[1754,{"$f":"B1808+IF('Cleaned Data'!L1755>0,1,0)*IF($B$34=\"Overall\",1,IF('Cleaned Data'!K1755=$B$34,1,0))*(IF('Cleaned Data'!H1755<>\"\",1,0))","v":540},{"$f":"INDEX('Cleaned Data'!H:H,MATCH($A1809,$B$56:$B$1919,0))","v":{"$error":"#N/A"}},{"$f":"INDEX('Cleaned Data'!L:L,MATCH($A1809,$B$56:$B$1919,0))","v":{"$error":"#N/A"}}]
[1755,{"$f":"B1809+IF('Cleaned Data'!L1756>0,1,0)*IF($B$34=\"Overall\",1,IF('Cleaned Data'!K1756=$B$34,1,0))*(IF('Cleaned Data'!H1756<>\"\",1,0))","v":540},{"$f":"INDEX('Cleaned Data'!H:H,MATCH($A1810,$B$56:$B$1919,0))","v":{"$error":"#N/A"}},{"$f":"INDEX('Cleaned Data'!L:L,MATCH($A1810,$B$56:$B$1919,0))","v":{"$error":"#N/A"}}]
[1756,{"$f":"B1810+IF('Cleaned Data'!L1757>0,1,0)*IF($B$34=\"Overall\",1,IF('Cleaned Data'!K1757=$B$34,1,0))*(IF('Cleaned Data'!H1757<>\"\",1,0))","v":540},{"$f":"INDEX('Cleaned Data'!H:H,MATCH($A1811,$B$56:$B$1919,0))","v":{"$error":"#N/A"}},{"$f":"INDEX('Cleaned Data'!L:L,MATCH($A1811,$B$56:$B$1919,0))","v":{"$error":"#N/A"}}]
[1757,{"$f":"B1811+IF('Cleaned Data'!L1758>0,1,0)*IF($B$34=\"Overall\",1,IF('Cleaned Data'!K1758=$B$34,1,0))*(IF('Cleaned Data'!H1758<>\"\",1,0))","v":540},{"$f":"INDEX('Cleaned Data'!H:H,MATCH($A1812,$B$56:$B$1919,0))","v":{"$error":"#N/A"}},{"$f":"INDEX('Cleaned Data'!L:L,MATCH($A1812,$B$56:$B$1919,0))","v":{"$error":"#N/A"}}]
[1758,{"$f":"B1812+IF('Cleaned Data'!L1759>0,1,0)*IF($B$34=\"Overall\",1,IF('Cleaned Data'!K1759=$B$34,1,0))*(IF('Cleaned Data'!H1759<>\"\",1,0))","v":540},{"$f":"INDEX('Cleaned Data'!H:H,MATCH($A1813,$B$56:$B$1919,0))","v":{"$error":"#N/A"}},{"$f":"INDEX('Cleaned Data'!L:L,MATCH($A1813,$B$56:$B$1919,0))","v":{"$error":"#N/A"}}]
[1759,{"$f":"B1813+IF('Cleaned Data'!L1760>0,1,0)*IF($B$34=\"Overall\",1,IF('Cleaned Data'!K1760=$B$34,1,0))*(IF('Cleaned Data'!H1760<>\"\",1,0))","v":540},{"$f":"INDEX('Cleaned Data'!H:H,MATCH($A1814,$B$56:$B$1919,0))","v":{"$error":"#N/A"}},{"$f":"INDEX('Cleaned Data'!L:L,MATCH($A1814,$B$56:$B$1919,0))","v":{"$error":"#N/A"}}]
[1760,{"$f":"B1814+IF('Cleaned Data'!L1761>0,1,0)*IF($B$34=\"Overall\",1,IF('Cleaned Data'!K1761=$B$34,1,0))*(IF('Cleaned Data'!H1761<>\"\",1,0))","v":540},{"$f":"INDEX('Cleaned Data'!H:H,MATCH($A1815,$B$56:$B$1919,0))","v":{"$error":"#N/A"}},{"$f":"INDEX('Cleaned Data'!L:L,MATCH($A1815,$B$56:$B$1919,0))","v":{"$error":"#N/A"}}]
[1761,{"$f":"B1815+IF('Cleaned Data'!L1762>0,1,0)*IF($B$34=\"Overall\",1,IF('Cleaned Data'!K1762=$B$34,1,0))*(IF('Cleaned Data'!H1762<>\"\",1,0))","v":540},{"$f":"INDEX('Cleaned Data'!H:H,MATCH($A1816,$B$56:$B$1919,0))","v":{"$error":"#N/A"}},{"$f":"INDEX('Cleaned Data'!L:L,MATCH($A1816,$B$56:$B$1919,0))","v":{"$error":"#N/A"}}]
[1762,{"$f":"B1816+IF('Cleaned Data'!L1763>0,1,0)*IF($B$34=\"Overall\",1,IF('Cleaned Data'!K1763=$B$34,1,0))*(IF('Cleaned Data'!H1763<>\"\",1,0))","v":540},{"$f":"INDEX('Cleaned Data'!H:H,MATCH($A1817,$B$56:$B$1919,0))","v":{"$error":"#N/A"}},{"$f":"INDEX('Cleaned Data'!L:L,MATCH($A1817,$B$56:$B$1919,0))","v":{"$error":"#N/A"}}]
[1763,{"$f":"B1817+IF('Cleaned Data'!L1764>0,1,0)*IF($B$34=\"Overall\",1,IF('Cleaned Data'!K1764=$B$34,1,0))*(IF('Cleaned Data'!H1764<>\"\",1,0))","v":540},{"$f":"INDEX('Cleaned Data'!H:H,MATCH($A1818,$B$56:$B$1919,0))","v":{"$error":"#N/A"}},{"$f":"INDEX('Cleaned Data'!L:L,MATCH($A1818,$B$56:$B$1919,0))","v":{"$error":"#N/A"}}]
[1764,{"$f":"B1818+IF('Cleaned Data'!L1765>0,1,0)*IF($B$34=\"Overall\",1,IF('Cleaned Data'!K1765=$B$34,1,0))*(IF('Cleaned Data'!H1765<>\"\",1,0))","v":540},{"$f":"INDEX('Cleaned Data'!H:H,MATCH($A1819,$B$56:$B$1919,0))","v":{"$error":"#N/A"}},{"$f":"INDEX('Cleaned Data'!L:L,MATCH($A1819,$B$56:$B$1919,0))","v":{"$error":"#N/A"}}]
[1765,{"$f":"B1819+IF('Cleaned Data'!L1766>0,1,0)*IF($B$34=\"Overall\",1,IF('Cleaned Data'!K1766=$B$34,1,0))*(IF('Cleaned Data'!H1766<>\"\",1,0))","v":540},{"$f":"INDEX('Cleaned Data'!H:H,MATCH($A1820,$B$56:$B$1919,0))","v":{"$error":"#N/A"}},{"$f":"INDEX('Cleaned Data'!L:L,MATCH($A1820,$B$56:$B$1919,0))","v":{"$error":"#N/A"}}]
[1766,{"$f":"B1820+IF('Cleaned Data'!L1767>0,1,0)*IF($B$34=\"Overall\",1,IF('Cleaned Data'!K1767=$B$34,1,0))*(IF('Cleaned Data'!H1767<>\"\",1,0))","v":540},{"$f":"INDEX('Cleaned Data'!H:H,MATCH($A1821,$B$56:$B$1919,0))","v":{"$error":"#N/A"}},{"$f":"INDEX('Cleaned Data'!L:L,MATCH($A1821,$B$56:$B$1919,0))","v":{"$error":"#N/A"}}]
[1767,{"$f":"B1821+IF('Cleaned Data'!L1768>0,1,0)*IF($B$34=\"Overall\",1,IF('Cleaned Data'!K1768=$B$34,1,0))*(IF('Cleaned Data'!H1768<>\"\",1,0))","v":540},{"$f":"INDEX('Cleaned Data'!H:H,MATCH($A1822,$B$56:$B$1919,0))","v":{"$error":"#N/A"}},{"$f":"INDEX('Cleaned Data'!L:L,MATCH($A1822,$B$56:$B$1919,0))","v":{"$error":"#N/A"}}]
[1768,{"$f":"B1822+IF('Cleaned Data'!L1769>0,1,0)*IF($B$34=\"Overall\",1,IF('Cleaned Data'!K1769=$B$34,1,0))*(IF('Cleaned Data'!H1769<>\"\",1,0))","v":540},{"$f":"INDEX('Cleaned Data'!H:H,MATCH($A1823,$B$56:$B$1919,0))","v":{"$error":"#N/A"}},{"$f":"INDEX('Cleaned Data'!L:L,MATCH($A1823,$B$56:$B$1919,0))","v":{"$error":"#N/A"}}]
[1769,{"$f":"B1823+IF('Cleaned Data'!L1770>0,1,0)*IF($B$34=\"Overall\",1,IF('Cleaned Data'!K1770=$B$34,1,0))*(IF('Cleaned Data'!H1770<>\"\",1,0))","v":540},{"$f":"INDEX('Cleaned Data'!H:H,MATCH($A1824,$B$56:$B$1919,0))","v":{"$error":"#N/A"}},{"$f":"INDEX('Cleaned Data'!L:L,MATCH($A1824,$B$56:$B$1919,0))","v":{"$error":"#N/A"}}]
[1770,{"$f":"B1824+IF('Cleaned Data'!L1771>0,1,0)*IF($B$34=\"Overall\",1,IF('Cleaned Data'!K1771=$B$34,1,0))*(IF('Cleaned Data'!H1771<>\"\",1,0))","v":540},{"$f":"INDEX('Cleaned Data'!H:H,MATCH($A1825,$B$56:$B$1919,0))","v":{"$error":"#N/A"}},{"$f":"INDEX('Cleaned Data'!L:L,MATCH($A1825,$B$56:$B$1919,0))","v":{"$error":"#N/A"}}]
[1771,{"$f":"B1825+IF('Cleaned Data'!L1772>0,1,0)*IF($B$34=\"Overall\",1,IF('Cleaned Data'!K1772=$B$34,1,0))*(IF('Cleaned Data'!H1772<>\"\",1,0))","v":540},{"$f":"INDEX('Cleaned Data'!H:H,MATCH($A1826,$B$56:$B$1919,0))","v":{"$error":"#N/A"}},{"$f":"INDEX('Cleaned Data'!L:L,MATCH($A1826,$B$56:$B$1919,0))","v":{"$error":"#N/A"}}]
[1772,{"$f":"B1826+IF('Cleaned Data'!L1773>0,1,0)*IF($B$34=\"Overall\",1,IF('Cleaned Data'!K1773=$B$34,1,0))*(IF('Cleaned Data'!H1773<>\"\",1,0))","v":540},{"$f":"INDEX('Cleaned Data'!H:H,MATCH($A1827,$B$56:$B$1919,0))","v":{"$error":"#N/A"}},{"$f":"INDEX('Cleaned Data'!L:L,MATCH($A1827,$B$56:$B$1919,0))","v":{"$error":"#N/A"}}]
[1773,{"$f":"B1827+IF('Cleaned Data'!L1774>0,1,0)*IF($B$34=\"Overall\",1,IF('Cleaned Data'!K1774=$B$34,1,0))*(IF('Cleaned Data'!H1774<>\"\",1,0))","v":540},{"$f":"INDEX('Cleaned Data'!H:H,MATCH($A1828,$B$56:$B$1919,0))","v":{"$error":"#N/A"}},{"$f":"INDEX('Cleaned Data'!L:L,MATCH($A1828,$B$56:$B$1919,0))","v":{"$error":"#N/A"}}]
[1774,{"$f":"B1828+IF('Cleaned Data'!L1775>0,1,0)*IF($B$34=\"Overall\",1,IF('Cleaned Data'!K1775=$B$34,1,0))*(IF('Cleaned Data'!H1775<>\"\",1,0))","v":540},{"$f":"INDEX('Cleaned Data'!H:H,MATCH($A1829,$B$56:$B$1919,0))","v":{"$error":"#N/A"}},{"$f":"INDEX('Cleaned Data'!L:L,MATCH($A1829,$B$56:$B$1919,0))","v":{"$error":"#N/A"}}]
[1775,{"$f":"B1829+IF('Cleaned Data'!L1776>0,1,0)*IF($B$34=\"Overall\",1,IF('Cleaned Data'!K1776=$B$34,1,0))*(IF('Cleaned Data'!H1776<>\"\",1,0))","v":540},{"$f":"INDEX('Cleaned Data'!H:H,MATCH($A1830,$B$56:$B$1919,0))","v":{"$error":"#N/A"}},{"$f":"INDEX('Cleaned Data'!L:L,MATCH($A1830,$B$56:$B$1919,0))","v":{"$error":"#N/A"}}]
[1776,{"$f":"B1830+IF('Cleaned Data'!L1777>0,1,0)*IF($B$34=\"Overall\",1,IF('Cleaned Data'!K1777=$B$34,1,0))*(IF('Cleaned Data'!H1777<>\"\",1,0))","v":540},{"$f":"INDEX('Cleaned Data'!H:H,MATCH($A1831,$B$56:$B$1919,0))","v":{"$error":"#N/A"}},{"$f":"INDEX('Cleaned Data'!L:L,MATCH($A1831,$B$56:$B$1919,0))","v":{"$error":"#N/A"}}]
[1777,{"$f":"B1831+IF('Cleaned Data'!L1778>0,1,0)*IF($B$34=\"Overall\",1,IF('Cleaned Data'!K1778=$B$34,1,0))*(IF('Cleaned Data'!H1778<>\"\",1,0))","v":540},{"$f":"INDEX('Cleaned Data'!H:H,MATCH($A1832,$B$56:$B$1919,0))","v":{"$error":"#N/A"}},{"$f":"INDEX('Cleaned Data'!L:L,MATCH($A1832,$B$56:$B$1919,0))","v":{"$error":"#N/A"}}]
[1778,{"$f":"B1832+IF('Cleaned Data'!L1779>0,1,0)*IF($B$34=\"Overall\",1,IF('Cleaned Data'!K1779=$B$34,1,0))*(IF('Cleaned Data'!H1779<>\"\",1,0))","v":540},{"$f":"INDEX('Cleaned Data'!H:H,MATCH($A1833,$B$56:$B$1919,0))","v":{"$error":"#N/A"}},{"$f":"INDEX('Cleaned Data'!L:L,MATCH($A1833,$B$56:$B$1919,0))","v":{"$error":"#N/A"}}]
[1779,{"$f":"B1833+IF('Cleaned Data'!L1780>0,1,0)*IF($B$34=\"Overall\",1,IF('Cleaned Data'!K1780=$B$34,1,0))*(IF('Cleaned Data'!H1780<>\"\",1,0))","v":540},{"$f":"INDEX('Cleaned Data'!H:H,MATCH($A1834,$B$56:$B$1919,0))","v":{"$error":"#N/A"}},{"$f":"INDEX('Cleaned Data'!L:L,MATCH($A1834,$B$56:$B$1919,0))","v":{"$error":"#N/A"}}]
[1780,{"$f":"B1834+IF('Cleaned Data'!L1781>0,1,0)*IF($B$34=\"Overall\",1,IF('Cleaned Data'!K1781=$B$34,1,0))*(IF('Cleaned Data'!H1781<>\"\",1,0))","v":540},{"$f":"INDEX('Cleaned Data'!H:H,MATCH($A1835,$B$56:$B$1919,0))","v":{"$error":"#N/A"}},{"$f":"INDEX('Cleaned Data'!L:L,MATCH($A1835,$B$56:$B$1919,0))","v":{"$error":"#N/A"}}]
[1781,{"$f":"B1835+IF('Cleaned Data'!L1782>0,1,0)*IF($B$34=\"Overall\",1,IF('Cleaned Data'!K1782=$B$34,1,0))*(IF('Cleaned Data'!H1782<>\"\",1,0))","v":540},{"$f":"INDEX('Cleaned Data'!H:H,MATCH($A1836,$B$56:$B$1919,0))","v":{"$error":"#N/A"}},{"$f":"INDEX('Cleaned Data'!L:L,MATCH($A1836,$B$56:$B$1919,0))","v":{"$error":"#N/A"}}]
[1782,{"$f":"B1836+IF('Cleaned Data'!L1783>0,1,0)*IF($B$34=\"Overall\",1,IF('Cleaned Data'!K1783=$B$34,1,0))*(IF('Cleaned Data'!H1783<>\"\",1,0))","v":540},{"$f":"INDEX('Cleaned Data'!H:H,MATCH($A1837,$B$56:$B$1919,0))","v":{"$error":"#N/A"}},{"$f":"INDEX('Cleaned Data'!L:L,MATCH($A1837,$B$56:$B$1919,0))","v":{"$error":"#N/A"}}]
[1783,{"$f":"B1837+IF('Cleaned Data'!L1784>0,1,0)*IF($B$34=\"Overall\",1,IF('Cleaned Data'!K1784=$B$34,1,0))*(IF('Cleaned Data'!H1784<>\"\",1,0))","v":540},{"$f":"INDEX('Cleaned Data'!H:H,MATCH($A1838,$B$56:$B$1919,0))","v":{"$error":"#N/A"}},{"$f":"INDEX('Cleaned Data'!L:L,MATCH($A1838,$B$56:$B$1919,0))","v":{"$error":"#N/A"}}]
[1784,{"$f":"B1838+IF('Cleaned Data'!L1785>0,1,0)*IF($B$34=\"Overall\",1,IF('Cleaned Data'!K1785=$B$34,1,0))*(IF('Cleaned Data'!H1785<>\"\",1,0))","v":540},{"$f":"INDEX('Cleaned Data'!H:H,MATCH($A1839,$B$56:$B$1919,0))","v":{"$error":"#N/A"}},{"$f":"INDEX('Cleaned Data'!L:L,MATCH($A1839,$B$56:$B$1919,0))","v":{"$error":"#N/A"}}]
[1785,{"$f":"B1839+IF('Cleaned Data'!L1786>0,1,0)*IF($B$34=\"Overall\",1,IF('Cleaned Data'!K1786=$B$34,1,0))*(IF('Cleaned Data'!H1786<>\"\",1,0))","v":540},{"$f":"INDEX('Cleaned Data'!H:H,MATCH($A1840,$B$56:$B$1919,0))","v":{"$error":"#N/A"}},{"$f":"INDEX('Cleaned Data'!L:L,MATCH($A1840,$B$56:$B$1919,0))","v":{"$error":"#N/A"}}]
[1786,{"$f":"B1840+IF('Cleaned Data'!L1787>0,1,0)*IF($B$34=\"Overall\",1,IF('Cleaned Data'!K1787=$B$34,1,0))*(IF('Cleaned Data'!H1787<>\"\",1,0))","v":540},{"$f":"INDEX('Cleaned Data'!H:H,MATCH($A1841,$B$56:$B$1919,0))","v":{"$error":"#N/A"}},{"$f":"INDEX('Cleaned Data'!L:L,MATCH($A1841,$B$56:$B$1919,0))","v":{"$error":"#N/A"}}]
[1787,{"$f":"B1841+IF('Cleaned Data'!L1788>0,1,0)*IF($B$34=\"Overall\",1,IF('Cleaned Data'!K1788=$B$34,1,0))*(IF('Cleaned Data'!H1788<>\"\",1,0))","v":540},{"$f":"INDEX('Cleaned Data'!H:H,MATCH($A1842,$B$56:$B$1919,0))","v":{"$error":"#N/A"}},{"$f":"INDEX('Cleaned Data'!L:L,MATCH($A1842,$B$56:$B$1919,0))","v":{"$error":"#N/A"}}]
[1788,{"$f":"B1842+IF('Cleaned Data'!L1789>0,1,0)*IF($B$34=\"Overall\",1,IF('Cleaned Data'!K1789=$B$34,1,0))*(IF('Cleaned Data'!H1789<>\"\",1,0))","v":540},{"$f":"INDEX('Cleaned Data'!H:H,MATCH($A1843,$B$56:$B$1919,0))","v":{"$error":"#N/A"}},{"$f":"INDEX('Cleaned Data'!L:L,MATCH($A1843,$B$56:$B$1919,0))","v":{"$error":"#N/A"}}]
[1789,{"$f":"B1843+IF('Cleaned Data'!L1790>0,1,0)*IF($B$34=\"Overall\",1,IF('Cleaned Data'!K1790=$B$34,1,0))*(IF('Cleaned Data'!H1790<>\"\",1,0))","v":540},{"$f":"INDEX('Cleaned Data'!H:H,MATCH($A1844,$B$56:$B$1919,0))","v":{"$error":"#N/A"}},{"$f":"INDEX('Cleaned Data'!L:L,MATCH($A1844,$B$56:$B$1919,0))","v":{"$error":"#N/A"}}]
[1790,{"$f":"B1844+IF('Cleaned Data'!L1791>0,1,0)*IF($B$34=\"Overall\",1,IF('Cleaned Data'!K1791=$B$34,1,0))*(IF('Cleaned Data'!H1791<>\"\",1,0))","v":540},{"$f":"INDEX('Cleaned Data'!H:H,MATCH($A1845,$B$56:$B$1919,0))","v":{"$error":"#N/A"}},{"$f":"INDEX('Cleaned Data'!L:L,MATCH($A1845,$B$56:$B$1919,0))","v":{"$error":"#N/A"}}]
[1791,{"$f":"B1845+IF('Cleaned Data'!L1792>0,1,0)*IF($B$34=\"Overall\",1,IF('Cleaned Data'!K1792=$B$34,1,0))*(IF('Cleaned Data'!H1792<>\"\",1,0))","v":540},{"$f":"INDEX('Cleaned Data'!H:H,MATCH($A1846,$B$56:$B$1919,0))","v":{"$error":"#N/A"}},{"$f":"INDEX('Cleaned Data'!L:L,MATCH($A1846,$B$56:$B$1919,0))","v":{"$error":"#N/A"}}]
[1792,{"$f":"B1846+IF('Cleaned Data'!L1793>0,1,0)*IF($B$34=\"Overall\",1,IF('Cleaned Data'!K1793=$B$34,1,0))*(IF('Cleaned Data'!H1793<>\"\",1,0))","v":540},{"$f":"INDEX('Cleaned Data'!H:H,MATCH($A1847,$B$56:$B$1919,0))","v":{"$error":"#N/A"}},{"$f":"INDEX('Cleaned Data'!L:L,MATCH($A1847,$B$56:$B$1919,0))","v":{"$error":"#N/A"}}]
[1793,{"$f":"B1847+IF('Cleaned Data'!L1794>0,1,0)*IF($B$34=\"Overall\",1,IF('Cleaned Data'!K1794=$B$34,1,0))*(IF('Cleaned Data'!H1794<>\"\",1,0))","v":540},{"$f":"INDEX('Cleaned Data'!H:H,MATCH($A1848,$B$56:$B$1919,0))","v":{"$error":"#N/A"}},{"$f":"INDEX('Cleaned Data'!L:L,MATCH($A1848,$B$56:$B$1919,0))","v":{"$error":"#N/A"}}]
[1794,{"$f":"B1848+IF('Cleaned Data'!L1795>0,1,0)*IF($B$34=\"Overall\",1,IF('Cleaned Data'!K1795=$B$34,1,0))*(IF('Cleaned Data'!H1795<>\"\",1,0))","v":540},{"$f":"INDEX('Cleaned Data'!H:H,MATCH($A1849,$B$56:$B$1919,0))","v":{"$error":"#N/A"}},{"$f":"INDEX('Cleaned Data'!L:L,MATCH($A1849,$B$56:$B$1919,0))","v":{"$error":"#N/A"}}]
[1795,{"$f":"B1849+IF('Cleaned Data'!L1796>0,1,0)*IF($B$34=\"Overall\",1,IF('Cleaned Data'!K1796=$B$34,1,0))*(IF('Cleaned Data'!H1796<>\"\",1,0))","v":540},{"$f":"INDEX('Cleaned Data'!H:H,MATCH($A1850,$B$56:$B$1919,0))","v":{"$error":"#N/A"}},{"$f":"INDEX('Cleaned Data'!L:L,MATCH($A1850,$B$56:$B$1919,0))","v":{"$error":"#N/A"}}]
[1796,{"$f":"B1850+IF('Cleaned Data'!L1797>0,1,0)*IF($B$34=\"Overall\",1,IF('Cleaned Data'!K1797=$B$34,1,0))*(IF('Cleaned Data'!H1797<>\"\",1,0))","v":540},{"$f":"INDEX('Cleaned Data'!H:H,MATCH($A1851,$B$56:$B$1919,0))","v":{"$error":"#N/A"}},{"$f":"INDEX('Cleaned Data'!L:L,MATCH($A1851,$B$56:$B$1919,0))","v":{"$error":"#N/A"}}]
[1797,{"$f":"B1851+IF('Cleaned Data'!L1798>0,1,0)*IF($B$34=\"Overall\",1,IF('Cleaned Data'!K1798=$B$34,1,0))*(IF('Cleaned Data'!H1798<>\"\",1,0))","v":540},{"$f":"INDEX('Cleaned Data'!H:H,MATCH($A1852,$B$56:$B$1919,0))","v":{"$error":"#N/A"}},{"$f":"INDEX('Cleaned Data'!L:L,MATCH($A1852,$B$56:$B$1919,0))","v":{"$error":"#N/A"}}]
[1798,{"$f":"B1852+IF('Cleaned Data'!L1799>0,1,0)*IF($B$34=\"Overall\",1,IF('Cleaned Data'!K1799=$B$34,1,0))*(IF('Cleaned Data'!H1799<>\"\",1,0))","v":540},{"$f":"INDEX('Cleaned Data'!H:H,MATCH($A1853,$B$56:$B$1919,0))","v":{"$error":"#N/A"}},{"$f":"INDEX('Cleaned Data'!L:L,MATCH($A1853,$B$56:$B$1919,0))","v":{"$error":"#N/A"}}]
[1799,{"$f":"B1853+IF('Cleaned Data'!L1800>0,1,0)*IF($B$34=\"Overall\",1,IF('Cleaned Data'!K1800=$B$34,1,0))*(IF('Cleaned Data'!H1800<>\"\",1,0))","v":540},{"$f":"INDEX('Cleaned Data'!H:H,MATCH($A1854,$B$56:$B$1919,0))","v":{"$error":"#N/A"}},{"$f":"INDEX('Cleaned Data'!L:L,MATCH($A1854,$B$56:$B$1919,0))","v":{"$error":"#N/A"}}]
[1800,{"$f":"B1854+IF('Cleaned Data'!L1801>0,1,0)*IF($B$34=\"Overall\",1,IF('Cleaned Data'!K1801=$B$34,1,0))*(IF('Cleaned Data'!H1801<>\"\",1,0))","v":540},{"$f":"INDEX('Cleaned Data'!H:H,MATCH($A1855,$B$56:$B$1919,0))","v":{"$error":"#N/A"}},{"$f":"INDEX('Cleaned Data'!L:L,MATCH($A1855,$B$56:$B$1919,0))","v":{"$error":"#N/A"}}]
[1801,{"$f":"B1855+IF('Cleaned Data'!L1802>0,1,0)*IF($B$34=\"Overall\",1,IF('Cleaned Data'!K1802=$B$34,1,0))*(IF('Cleaned Data'!H1802<>\"\",1,0))","v":540},{"$f":"INDEX('Cleaned Data'!H:H,MATCH($A1856,$B$56:$B$1919,0))","v":{"$error":"#N/A"}},{"$f":"INDEX('Cleaned Data'!L:L,MATCH($A1856,$B$56:$B$1919,0))","v":{"$error":"#N/A"}}]
[1802,{"$f":"B1856+IF('Cleaned Data'!L1803>0,1,0)*IF($B$34=\"Overall\",1,IF('Cleaned Data'!K1803=$B$34,1,0))*(IF('Cleaned Data'!H1803<>\"\",1,0))","v":540},{"$f":"INDEX('Cleaned Data'!H:H,MATCH($A1857,$B$56:$B$1919,0))","v":{"$error":"#N/A"}},{"$f":"INDEX('Cleaned Data'!L:L,MATCH($A1857,$B$56:$B$1919,0))","v":{"$error":"#N/A"}}]
[1803,{"$f":"B1857+IF('Cleaned Data'!L1804>0,1,0)*IF($B$34=\"Overall\",1,IF('Cleaned Data'!K1804=$B$34,1,0))*(IF('Cleaned Data'!H1804<>\"\",1,0))","v":540},{"$f":"INDEX('Cleaned Data'!H:H,MATCH($A1858,$B$56:$B$1919,0))","v":{"$error":"#N/A"}},{"$f":"INDEX('Cleaned Data'!L:L,MATCH($A1858,$B$56:$B$1919,0))","v":{"$error":"#N/A"}}]
[1804,{"$f":"B1858+IF('Cleaned Data'!L1805>0,1,0)*IF($B$34=\"Overall\",1,IF('Cleaned Data'!K1805=$B$34,1,0))*(IF('Cleaned Data'!H1805<>\"\",1,0))","v":540},{"$f":"INDEX('Cleaned Data'!H:H,MATCH($A1859,$B$56:$B$1919,0))","v":{"$error":"#N/A"}},{"$f":"INDEX('Cleaned Data'!L:L,MATCH($A1859,$B$56:$B$1919,0))","v":{"$error":"#N/A"}}]
[1805,{"$f":"B1859+IF('Cleaned Data'!L1806>0,1,0)*IF($B$34=\"Overall\",1,IF('Cleaned Data'!K1806=$B$34,1,0))*(IF('Cleaned Data'!H1806<>\"\",1,0))","v":540},{"$f":"INDEX('Cleaned Data'!H:H,MATCH($A1860,$B$56:$B$1919,0))","v":{"$error":"#N/A"}},{"$f":"INDEX('Cleaned Data'!L:L,MATCH($A1860,$B$56:$B$1919,0))","v":{"$error":"#N/A"}}]
[1806,{"$f":"B1860+IF('Cleaned Data'!L1807>0,1,0)*IF($B$34=\"Overall\",1,IF('Cleaned Data'!K1807=$B$34,1,0))*(IF('Cleaned Data'!H1807<>\"\",1,0))","v":540},{"$f":"INDEX('Cleaned Data'!H:H,MATCH($A1861,$B$56:$B$1919,0))","v":{"$error":"#N/A"}},{"$f":"INDEX('Cleaned Data'!L:L,MATCH($A1861,$B$56:$B$1919,0))","v":{"$error":"#N/A"}}]
[1807,{"$f":"B1861+IF('Cleaned Data'!L1808>0,1,0)*IF($B$34=\"Overall\",1,IF('Cleaned Data'!K1808=$B$34,1,0))*(IF('Cleaned Data'!H1808<>\"\",1,0))","v":540},{"$f":"INDEX('Cleaned Data'!H:H,MATCH($A1862,$B$56:$B$1919,0))","v":{"$error":"#N/A"}},{"$f":"INDEX('Cleaned Data'!L:L,MATCH($A1862,$B$56:$B$1919,0))","v":{"$error":"#N/A"}}]
[1808,{"$f":"B1862+IF('Cleaned Data'!L1809>0,1,0)*IF($B$34=\"Overall\",1,IF('Cleaned Data'!K1809=$B$34,1,0))*(IF('Cleaned Data'!H1809<>\"\",1,0))","v":540},{"$f":"INDEX('Cleaned Data'!H:H,MATCH($A1863,$B$56:$B$1919,0))","v":{"$error":"#N/A"}},{"$f":"INDEX('Cleaned Data'!L:L,MATCH($A1863,$B$56:$B$1919,0))","v":{"$error":"#N/A"}}]
[1809,{"$f":"B1863+IF('Cleaned Data'!L1810>0,1,0)*IF($B$34=\"Overall\",1,IF('Cleaned Data'!K1810=$B$34,1,0))*(IF('Cleaned Data'!H1810<>\"\",1,0))","v":540},{"$f":"INDEX('Cleaned Data'!H:H,MATCH($A1864,$B$56:$B$1919,0))","v":{"$error":"#N/A"}},{"$f":"INDEX('Cleaned Data'!L:L,MATCH($A1864,$B$56:$B$1919,0))","v":{"$error":"#N/A"}}]
[1810,{"$f":"B1864+IF('Cleaned Data'!L1811>0,1,0)*IF($B$34=\"Overall\",1,IF('Cleaned Data'!K1811=$B$34,1,0))*(IF('Cleaned Data'!H1811<>\"\",1,0))","v":540},{"$f":"INDEX('Cleaned Data'!H:H,MATCH($A1865,$B$56:$B$1919,0))","v":{"$error":"#N/A"}},{"$f":"INDEX('Cleaned Data'!L:L,MATCH($A1865,$B$56:$B$1919,0))","v":{"$error":"#N/A"}}]
[1811,{"$f":"B1865+IF('Cleaned Data'!L1812>0,1,0)*IF($B$34=\"Overall\",1,IF('Cleaned Data'!K1812=$B$34,1,0))*(IF('Cleaned Data'!H1812<>\"\",1,0))","v":540},{"$f":"INDEX('Cleaned Data'!H:H,MATCH($A1866,$B$56:$B$1919,0))","v":{"$error":"#N/A"}},{"$f":"INDEX('Cleaned Data'!L:L,MATCH($A1866,$B$56:$B$1919,0))","v":{"$error":"#N/A"}}]
[1812,{"$f":"B1866+IF('Cleaned Data'!L1813>0,1,0)*IF($B$34=\"Overall\",1,IF('Cleaned Data'!K1813=$B$34,1,0))*(IF('Cleaned Data'!H1813<>\"\",1,0))","v":540},{"$f":"INDEX('Cleaned Data'!H:H,MATCH($A1867,$B$56:$B$1919,0))","v":{"$error":"#N/A"}},{"$f":"INDEX('Cleaned Data'!L:L,MATCH($A1867,$B$56:$B$1919,0))","v":{"$error":"#N/A"}}]
[1813,{"$f":"B1867+IF('Cleaned Data'!L1814>0,1,0)*IF($B$34=\"Overall\",1,IF('Cleaned Data'!K1814=$B$34,1,0))*(IF('Cleaned Data'!H1814<>\"\",1,0))","v":540},{"$f":"INDEX('Cleaned Data'!H:H,MATCH($A1868,$B$56:$B$1919,0))","v":{"$error":"#N/A"}},{"$f":"INDEX('Cleaned Data'!L:L,MATCH($A1868,$B$56:$B$1919,0))","v":{"$error":"#N/A"}}]
[1814,{"$f":"B1868+IF('Cleaned Data'!L1815>0,1,0)*IF($B$34=\"Overall\",1,IF('Cleaned Data'!K1815=$B$34,1,0))*(IF('Cleaned Data'!H1815<>\"\",1,0))","v":540},{"$f":"INDEX('Cleaned Data'!H:H,MATCH($A1869,$B$56:$B$1919,0))","v":{"$error":"#N/A"}},{"$f":"INDEX('Cleaned Data'!L:L,MATCH($A1869,$B$56:$B$1919,0))","v":{"$error":"#N/A"}}]
[1815,{"$f":"B1869+IF('Cleaned Data'!L1816>0,1,0)*IF($B$34=\"Overall\",1,IF('Cleaned Data'!K1816=$B$34,1,0))*(IF('Cleaned Data'!H1816<>\"\",1,0))","v":540},{"$f":"INDEX('Cleaned Data'!H:H,MATCH($A1870,$B$56:$B$1919,0))","v":{"$error":"#N/A"}},{"$f":"INDEX('Cleaned Data'!L:L,MATCH($A1870,$B$56:$B$1919,0))","v":{"$error":"#N/A"}}]
[1816,{"$f":"B1870+IF('Cleaned Data'!L1817>0,1,0)*IF($B$34=\"Overall\",1,IF('Cleaned Data'!K1817=$B$34,1,0))*(IF('Cleaned Data'!H1817<>\"\",1,0))","v":540},{"$f":"INDEX('Cleaned Data'!H:H,MATCH($A1871,$B$56:$B$1919,0))","v":{"$error":"#N/A"}},{"$f":"INDEX('Cleaned Data'!L:L,MATCH($A1871,$B$56:$B$1919,0))","v":{"$error":"#N/A"}}]
[1817,{"$f":"B1871+IF('Cleaned Data'!L1818>0,1,0)*IF($B$34=\"Overall\",1,IF('Cleaned Data'!K1818=$B$34,1,0))*(IF('Cleaned Data'!H1818<>\"\",1,0))","v":540},{"$f":"INDEX('Cleaned Data'!H:H,MATCH($A1872,$B$56:$B$1919,0))","v":{"$error":"#N/A"}},{"$f":"INDEX('Cleaned Data'!L:L,MATCH($A1872,$B$56:$B$1919,0))","v":{"$error":"#N/A"}}]
[1818,{"$f":"B1872+IF('Cleaned Data'!L1819>0,1,0)*IF($B$34=\"Overall\",1,IF('Cleaned Data'!K1819=$B$34,1,0))*(IF('Cleaned Data'!H1819<>\"\",1,0))","v":540},{"$f":"INDEX('Cleaned Data'!H:H,MATCH($A1873,$B$56:$B$1919,0))","v":{"$error":"#N/A"}},{"$f":"INDEX('Cleaned Data'!L:L,MATCH($A1873,$B$56:$B$1919,0))","v":{"$error":"#N/A"}}]
[1819,{"$f":"B1873+IF('Cleaned Data'!L1820>0,1,0)*IF($B$34=\"Overall\",1,IF('Cleaned Data'!K1820=$B$34,1,0))*(IF('Cleaned Data'!H1820<>\"\",1,0))","v":540},{"$f":"INDEX('Cleaned Data'!H:H,MATCH($A1874,$B$56:$B$1919,0))","v":{"$error":"#N/A"}},{"$f":"INDEX('Cleaned Data'!L:L,MATCH($A1874,$B$56:$B$1919,0))","v":{"$error":"#N/A"}}]
[1820,{"$f":"B1874+IF('Cleaned Data'!L1821>0,1,0)*IF($B$34=\"Overall\",1,IF('Cleaned Data'!K1821=$B$34,1,0))*(IF('Cleaned Data'!H1821<>\"\",1,0))","v":540},{"$f":"INDEX('Cleaned Data'!H:H,MATCH($A1875,$B$56:$B$1919,0))","v":{"$error":"#N/A"}},{"$f":"INDEX('Cleaned Data'!L:L,MATCH($A1875,$B$56:$B$1919,0))","v":{"$error":"#N/A"}}]
[1821,{"$f":"B1875+IF('Cleaned Data'!L1822>0,1,0)*IF($B$34=\"Overall\",1,IF('Cleaned Data'!K1822=$B$34,1,0))*(IF('Cleaned Data'!H1822<>\"\",1,0))","v":540},{"$f":"INDEX('Cleaned Data'!H:H,MATCH($A1876,$B$56:$B$1919,0))","v":{"$error":"#N/A"}},{"$f":"INDEX('Cleaned Data'!L:L,MATCH($A1876,$B$56:$B$1919,0))","v":{"$error":"#N/A"}}]
[1822,{"$f":"B1876+IF('Cleaned Data'!L1823>0,1,0)*IF($B$34=\"Overall\",1,IF('Cleaned Data'!K1823=$B$34,1,0))*(IF('Cleaned Data'!H1823<>\"\",1,0))","v":540},{"$f":"INDEX('Cleaned Data'!H:H,MATCH($A1877,$B$56:$B$1919,0))","v":{"$error":"#N/A"}},{"$f":"INDEX('Cleaned Data'!L:L,MATCH($A1877,$B$56:$B$1919,0))","v":{"$error":"#N/A"}}]
[1823,{"$f":"B1877+IF('Cleaned Data'!L1824>0,1,0)*IF($B$34=\"Overall\",1,IF('Cleaned Data'!K1824=$B$34,1,0))*(IF('Cleaned Data'!H1824<>\"\",1,0))","v":540},{"$f":"INDEX('Cleaned Data'!H:H,MATCH($A1878,$B$56:$B$1919,0))","v":{"$error":"#N/A"}},{"$f":"INDEX('Cleaned Data'!L:L,MATCH($A1878,$B$56:$B$1919,0))","v":{"$error":"#N/A"}}]
[1824,{"$f":"B1878+IF('Cleaned Data'!L1825>0,1,0)*IF($B$34=\"Overall\",1,IF('Cleaned Data'!K1825=$B$34,1,0))*(IF('Cleaned Data'!H1825<>\"\",1,0))","v":540},{"$f":"INDEX('Cleaned Data'!H:H,MATCH($A1879,$B$56:$B$1919,0))","v":{"$error":"#N/A"}},{"$f":"INDEX('Cleaned Data'!L:L,MATCH($A1879,$B$56:$B$1919,0))","v":{"$error":"#N/A"}}]
[1825,{"$f":"B1879+IF('Cleaned Data'!L1826>0,1,0)*IF($B$34=\"Overall\",1,IF('Cleaned Data'!K1826=$B$34,1,0))*(IF('Cleaned Data'!H1826<>\"\",1,0))","v":540},{"$f":"INDEX('Cleaned Data'!H:H,MATCH($A1880,$B$56:$B$1919,0))","v":{"$error":"#N/A"}},{"$f":"INDEX('Cleaned Data'!L:L,MATCH($A1880,$B$56:$B$1919,0))","v":{"$error":"#N/A"}}]
[1826,{"$f":"B1880+IF('Cleaned Data'!L1827>0,1,0)*IF($B$34=\"Overall\",1,IF('Cleaned Data'!K1827=$B$34,1,0))*(IF('Cleaned Data'!H1827<>\"\",1,0))","v":540},{"$f":"INDEX('Cleaned Data'!H:H,MATCH($A1881,$B$56:$B$1919,0))","v":{"$error":"#N/A"}},{"$f":"INDEX('Cleaned Data'!L:L,MATCH($A1881,$B$56:$B$1919,0))","v":{"$error":"#N/A"}}]
[1827,{"$f":"B1881+IF('Cleaned Data'!L1828>0,1,0)*IF($B$34=\"Overall\",1,IF('Cleaned Data'!K1828=$B$34,1,0))*(IF('Cleaned Data'!H1828<>\"\",1,0))","v":540},{"$f":"INDEX('Cleaned Data'!H:H,MATCH($A1882,$B$56:$B$1919,0))","v":{"$error":"#N/A"}},{"$f":"INDEX('Cleaned Data'!L:L,MATCH($A1882,$B$56:$B$1919,0))","v":{"$error":"#N/A"}}]
[1828,{"$f":"B1882+IF('Cleaned Data'!L1829>0,1,0)*IF($B$34=\"Overall\",1,IF('Cleaned Data'!K1829=$B$34,1,0))*(IF('Cleaned Data'!H1829<>\"\",1,0))","v":540},{"$f":"INDEX('Cleaned Data'!H:H,MATCH($A1883,$B$56:$B$1919,0))","v":{"$error":"#N/A"}},{"$f":"INDEX('Cleaned Data'!L:L,MATCH($A1883,$B$56:$B$1919,0))","v":{"$error":"#N/A"}}]
[1829,{"$f":"B1883+IF('Cleaned Data'!L1830>0,1,0)*IF($B$34=\"Overall\",1,IF('Cleaned Data'!K1830=$B$34,1,0))*(IF('Cleaned Data'!H1830<>\"\",1,0))","v":540},{"$f":"INDEX('Cleaned Data'!H:H,MATCH($A1884,$B$56:$B$1919,0))","v":{"$error":"#N/A"}},{"$f":"INDEX('Cleaned Data'!L:L,MATCH($A1884,$B$56:$B$1919,0))","v":{"$error":"#N/A"}}]
[1830,{"$f":"B1884+IF('Cleaned Data'!L1831>0,1,0)*IF($B$34=\"Overall\",1,IF('Cleaned Data'!K1831=$B$34,1,0))*(IF('Cleaned Data'!H1831<>\"\",1,0))","v":540},{"$f":"INDEX('Cleaned Data'!H:H,MATCH($A1885,$B$56:$B$1919,0))","v":{"$error":"#N/A"}},{"$f":"INDEX('Cleaned Data'!L:L,MATCH($A1885,$B$56:$B$1919,0))","v":{"$error":"#N/A"}}]
[1831,{"$f":"B1885+IF('Cleaned Data'!L1832>0,1,0)*IF($B$34=\"Overall\",1,IF('Cleaned Data'!K1832=$B$34,1,0))*(IF('Cleaned Data'!H1832<>\"\",1,0))","v":540},{"$f":"INDEX('Cleaned Data'!H:H,MATCH($A1886,$B$56:$B$1919,0))","v":{"$error":"#N/A"}},{"$f":"INDEX('Cleaned Data'!L:L,MATCH($A1886,$B$56:$B$1919,0))","v":{"$error":"#N/A"}}]
[1832,{"$f":"B1886+IF('Cleaned Data'!L1833>0,1,0)*IF($B$34=\"Overall\",1,IF('Cleaned Data'!K1833=$B$34,1,0))*(IF('Cleaned Data'!H1833<>\"\",1,0))","v":540},{"$f":"INDEX('Cleaned Data'!H:H,MATCH($A1887,$B$56:$B$1919,0))","v":{"$error":"#N/A"}},{"$f":"INDEX('Cleaned Data'!L:L,MATCH($A1887,$B$56:$B$1919,0))","v":{"$error":"#N/A"}}]
[1833,{"$f":"B1887+IF('Cleaned Data'!L1834>0,1,0)*IF($B$34=\"Overall\",1,IF('Cleaned Data'!K1834=$B$34,1,0))*(IF('Cleaned Data'!H1834<>\"\",1,0))","v":540},{"$f":"INDEX('Cleaned Data'!H:H,MATCH($A1888,$B$56:$B$1919,0))","v":{"$error":"#N/A"}},{"$f":"INDEX('Cleaned Data'!L:L,MATCH($A1888,$B$56:$B$1919,0))","v":{"$error":"#N/A"}}]
[1834,{"$f":"B1888+IF('Cleaned Data'!L1835>0,1,0)*IF($B$34=\"Overall\",1,IF('Cleaned Data'!K1835=$B$34,1,0))*(IF('Cleaned Data'!H1835<>\"\",1,0))","v":540},{"$f":"INDEX('Cleaned Data'!H:H,MATCH($A1889,$B$56:$B$1919,0))","v":{"$error":"#N/A"}},{"$f":"INDEX('Cleaned Data'!L:L,MATCH($A1889,$B$56:$B$1919,0))","v":{"$error":"#N/A"}}]
[1835,{"$f":"B1889+IF('Cleaned Data'!L1836>0,1,0)*IF($B$34=\"Overall\",1,IF('Cleaned Data'!K1836=$B$34,1,0))*(IF('Cleaned Data'!H1836<>\"\",1,0))","v":540},{"$f":"INDEX('Cleaned Data'!H:H,MATCH($A1890,$B$56:$B$1919,0))","v":{"$error":"#N/A"}},{"$f":"INDEX('Cleaned Data'!L:L,MATCH($A1890,$B$56:$B$1919,0))","v":{"$error":"#N/A"}}]
[1836,{"$f":"B1890+IF('Cleaned Data'!L1837>0,1,0)*IF($B$34=\"Overall\",1,IF('Cleaned Data'!K1837=$B$34,1,0))*(IF('Cleaned Data'!H1837<>\"\",1,0))","v":540},{"$f":"INDEX('Cleaned Data'!H:H,MATCH($A1891,$B$56:$B$1919,0))","v":{"$error":"#N/A"}},{"$f":"INDEX('Cleaned Data'!L:L,MATCH($A1891,$B$56:$B$1919,0))","v":{"$error":"#N/A"}}]
[1837,{"$f":"B1891+IF('Cleaned Data'!L1838>0,1,0)*IF($B$34=\"Overall\",1,IF('Cleaned Data'!K1838=$B$34,1,0))*(IF('Cleaned Data'!H1838<>\"\",1,0))","v":540},{"$f":"INDEX('Cleaned Data'!H:H,MATCH($A1892,$B$56:$B$1919,0))","v":{"$error":"#N/A"}},{"$f":"INDEX('Cleaned Data'!L:L,MATCH($A1892,$B$56:$B$1919,0))","v":{"$error":"#N/A"}}]
[1838,{"$f":"B1892+IF('Cleaned Data'!L1839>0,1,0)*IF($B$34=\"Overall\",1,IF('Cleaned Data'!K1839=$B$34,1,0))*(IF('Cleaned Data'!H1839<>\"\",1,0))","v":540},{"$f":"INDEX('Cleaned Data'!H:H,MATCH($A1893,$B$56:$B$1919,0))","v":{"$error":"#N/A"}},{"$f":"INDEX('Cleaned Data'!L:L,MATCH($A1893,$B$56:$B$1919,0))","v":{"$error":"#N/A"}}]
[1839,{"$f":"B1893+IF('Cleaned Data'!L1840>0,1,0)*IF($B$34=\"Overall\",1,IF('Cleaned Data'!K1840=$B$34,1,0))*(IF('Cleaned Data'!H1840<>\"\",1,0))","v":540},{"$f":"INDEX('Cleaned Data'!H:H,MATCH($A1894,$B$56:$B$1919,0))","v":{"$error":"#N/A"}},{"$f":"INDEX('Cleaned Data'!L:L,MATCH($A1894,$B$56:$B$1919,0))","v":{"$error":"#N/A"}}]
[1840,{"$f":"B1894+IF('Cleaned Data'!L1841>0,1,0)*IF($B$34=\"Overall\",1,IF('Cleaned Data'!K1841=$B$34,1,0))*(IF('Cleaned Data'!H1841<>\"\",1,0))","v":540},{"$f":"INDEX('Cleaned Data'!H:H,MATCH($A1895,$B$56:$B$1919,0))","v":{"$error":"#N/A"}},{"$f":"INDEX('Cleaned Data'!L:L,MATCH($A1895,$B$56:$B$1919,0))","v":{"$error":"#N/A"}}]
[1841,{"$f":"B1895+IF('Cleaned Data'!L1842>0,1,0)*IF($B$34=\"Overall\",1,IF('Cleaned Data'!K1842=$B$34,1,0))*(IF('Cleaned Data'!H1842<>\"\",1,0))","v":540},{"$f":"INDEX('Cleaned Data'!H:H,MATCH($A1896,$B$56:$B$1919,0))","v":{"$error":"#N/A"}},{"$f":"INDEX('Cleaned Data'!L:L,MATCH($A1896,$B$56:$B$1919,0))","v":{"$error":"#N/A"}}]
[1842,{"$f":"B1896+IF('Cleaned Data'!L1843>0,1,0)*IF($B$34=\"Overall\",1,IF('Cleaned Data'!K1843=$B$34,1,0))*(IF('Cleaned Data'!H1843<>\"\",1,0))","v":540},{"$f":"INDEX('Cleaned Data'!H:H,MATCH($A1897,$B$56:$B$1919,0))","v":{"$error":"#N/A"}},{"$f":"INDEX('Cleaned Data'!L:L,MATCH($A1897,$B$56:$B$1919,0))","v":{"$error":"#N/A"}}]
[1843,{"$f":"B1897+IF('Cleaned Data'!L1844>0,1,0)*IF($B$34=\"Overall\",1,IF('Cleaned Data'!K1844=$B$34,1,0))*(IF('Cleaned Data'!H1844<>\"\",1,0))","v":540},{"$f":"INDEX('Cleaned Data'!H:H,MATCH($A1898,$B$56:$B$1919,0))","v":{"$error":"#N/A"}},{"$f":"INDEX('Cleaned Data'!L:L,MATCH($A1898,$B$56:$B$1919,0))","v":{"$error":"#N/A"}}]
[1844,{"$f":"B1898+IF('Cleaned Data'!L1845>0,1,0)*IF($B$34=\"Overall\",1,IF('Cleaned Data'!K1845=$B$34,1,0))*(IF('Cleaned Data'!H1845<>\"\",1,0))","v":540},{"$f":"INDEX('Cleaned Data'!H:H,MATCH($A1899,$B$56:$B$1919,0))","v":{"$error":"#N/A"}},{"$f":"INDEX('Cleaned Data'!L:L,MATCH($A1899,$B$56:$B$1919,0))","v":{"$error":"#N/A"}}]
[1845,{"$f":"B1899+IF('Cleaned Data'!L1846>0,1,0)*IF($B$34=\"Overall\",1,IF('Cleaned Data'!K1846=$B$34,1,0))*(IF('Cleaned Data'!H1846<>\"\",1,0))","v":540},{"$f":"INDEX('Cleaned Data'!H:H,MATCH($A1900,$B$56:$B$1919,0))","v":{"$error":"#N/A"}},{"$f":"INDEX('Cleaned Data'!L:L,MATCH($A1900,$B$56:$B$1919,0))","v":{"$error":"#N/A"}}]
[1846,{"$f":"B1900+IF('Cleaned Data'!L1847>0,1,0)*IF($B$34=\"Overall\",1,IF('Cleaned Data'!K1847=$B$34,1,0))*(IF('Cleaned Data'!H1847<>\"\",1,0))","v":540},{"$f":"INDEX('Cleaned Data'!H:H,MATCH($A1901,$B$56:$B$1919,0))","v":{"$error":"#N/A"}},{"$f":"INDEX('Cleaned Data'!L:L,MATCH($A1901,$B$56:$B$1919,0))","v":{"$error":"#N/A"}}]
[1847,{"$f":"B1901+IF('Cleaned Data'!L1848>0,1,0)*IF($B$34=\"Overall\",1,IF('Cleaned Data'!K1848=$B$34,1,0))*(IF('Cleaned Data'!H1848<>\"\",1,0))","v":540},{"$f":"INDEX('Cleaned Data'!H:H,MATCH($A1902,$B$56:$B$1919,0))","v":{"$error":"#N/A"}},{"$f":"INDEX('Cleaned Data'!L:L,MATCH($A1902,$B$56:$B$1919,0))","v":{"$error":"#N/A"}}]
[1848,{"$f":"B1902+IF('Cleaned Data'!L1849>0,1,0)*IF($B$34=\"Overall\",1,IF('Cleaned Data'!K1849=$B$34,1,0))*(IF('Cleaned Data'!H1849<>\"\",1,0))","v":540},{"$f":"INDEX('Cleaned Data'!H:H,MATCH($A1903,$B$56:$B$1919,0))","v":{"$error":"#N/A"}},{"$f":"INDEX('Cleaned Data'!L:L,MATCH($A1903,$B$56:$B$1919,0))","v":{"$error":"#N/A"}}]
[1849,{"$f":"B1903+IF('Cleaned Data'!L1850>0,1,0)*IF($B$34=\"Overall\",1,IF('Cleaned Data'!K1850=$B$34,1,0))*(IF('Cleaned Data'!H1850<>\"\",1,0))","v":540},{"$f":"INDEX('Cleaned Data'!H:H,MATCH($A1904,$B$56:$B$1919,0))","v":{"$error":"#N/A"}},{"$f":"INDEX('Cleaned Data'!L:L,MATCH($A1904,$B$56:$B$1919,0))","v":{"$error":"#N/A"}}]
[1850,{"$f":"B1904+IF('Cleaned Data'!L1851>0,1,0)*IF($B$34=\"Overall\",1,IF('Cleaned Data'!K1851=$B$34,1,0))*(IF('Cleaned Data'!H1851<>\"\",1,0))","v":541},{"$f":"INDEX('Cleaned Data'!H:H,MATCH($A1905,$B$56:$B$1919,0))","v":{"$error":"#N/A"}},{"$f":"INDEX('Cleaned Data'!L:L,MATCH($A1905,$B$56:$B$1919,0))","v":{"$error":"#N/A"}}]
[1851,{"$f":"B1905+IF('Cleaned Data'!L1852>0,1,0)*IF($B$34=\"Overall\",1,IF('Cleaned Data'!K1852=$B$34,1,0))*(IF('Cleaned Data'!H1852<>\"\",1,0))","v":542},{"$f":"INDEX('Cleaned Data'!H:H,MATCH($A1906,$B$56:$B$1919,0))","v":{"$error":"#N/A"}},{"$f":"INDEX('Cleaned Data'!L:L,MATCH($A1906,$B$56:$B$1919,0))","v":{"$error":"#N/A"}}]
[1852,{"$f":"B1906+IF('Cleaned Data'!L1853>0,1,0)*IF($B$34=\"Overall\",1,IF('Cleaned Data'!K1853=$B$34,1,0))*(IF('Cleaned Data'!H1853<>\"\",1,0))","v":542},{"$f":"INDEX('Cleaned Data'!H:H,MATCH($A1907,$B$56:$B$1919,0))","v":{"$error":"#N/A"}},{"$f":"INDEX('Cleaned Data'!L:L,MATCH($A1907,$B$56:$B$1919,0))","v":{"$error":"#N/A"}}]
[1853,{"$f":"B1907+IF('Cleaned Data'!L1854>0,1,0)*IF($B$34=\"Overall\",1,IF('Cleaned Data'!K1854=$B$34,1,0))*(IF('Cleaned Data'!H1854<>\"\",1,0))","v":542},{"$f":"INDEX('Cleaned Data'!H:H,MATCH($A1908,$B$56:$B$1919,0))","v":{"$error":"#N/A"}},{"$f":"INDEX('Cleaned Data'!L:L,MATCH($A1908,$B$56:$B$1919,0))","v":{"$error":"#N/A"}}]
[1854,{"$f":"B1908+IF('Cleaned Data'!L1855>0,1,0)*IF($B$34=\"Overall\",1,IF('Cleaned Data'!K1855=$B$34,1,0))*(IF('Cleaned Data'!H1855<>\"\",1,0))","v":542},{"$f":"INDEX('Cleaned Data'!H:H,MATCH($A1909,$B$56:$B$1919,0))","v":{"$error":"#N/A"}},{"$f":"INDEX('Cleaned Data'!L:L,MATCH($A1909,$B$56:$B$1919,0))","v":{"$error":"#N/A"}}]
[1855,{"$f":"B1909+IF('Cleaned Data'!L1856>0,1,0)*IF($B$34=\"Overall\",1,IF('Cleaned Data'!K1856=$B$34,1,0))*(IF('Cleaned Data'!H1856<>\"\",1,0))","v":542},{"$f":"INDEX('Cleaned Data'!H:H,MATCH($A1910,$B$56:$B$1919,0))","v":{"$error":"#N/A"}},{"$f":"INDEX('Cleaned Data'!L:L,MATCH($A1910,$B$56:$B$1919,0))","v":{"$error":"#N/A"}}]
[1856,{"$f":"B1910+IF('Cleaned Data'!L1857>0,1,0)*IF($B$34=\"Overall\",1,IF('Cleaned Data'!K1857=$B$34,1,0))*(IF('Cleaned Data'!H1857<>\"\",1,0))","v":542},{"$f":"INDEX('Cleaned Data'!H:H,MATCH($A1911,$B$56:$B$1919,0))","v":{"$error":"#N/A"}},{"$f":"INDEX('Cleaned Data'!L:L,MATCH($A1911,$B$56:$B$1919,0))","v":{"$error":"#N/A"}}]
[1857,{"$f":"B1911+IF('Cleaned Data'!L1858>0,1,0)*IF($B$34=\"Overall\",1,IF('Cleaned Data'!K1858=$B$34,1,0))*(IF('Cleaned Data'!H1858<>\"\",1,0))","v":542},{"$f":"INDEX('Cleaned Data'!H:H,MATCH($A1912,$B$56:$B$1919,0))","v":{"$error":"#N/A"}},{"$f":"INDEX('Cleaned Data'!L:L,MATCH($A1912,$B$56:$B$1919,0))","v":{"$error":"#N/A"}}]
[1858,{"$f":"B1912+IF('Cleaned Data'!L1859>0,1,0)*IF($B$34=\"Overall\",1,IF('Cleaned Data'!K1859=$B$34,1,0))*(IF('Cleaned Data'!H1859<>\"\",1,0))","v":542},{"$f":"INDEX('Cleaned Data'!H:H,MATCH($A1913,$B$56:$B$1919,0))","v":{"$error":"#N/A"}},{"$f":"INDEX('Cleaned Data'!L:L,MATCH($A1913,$B$56:$B$1919,0))","v":{"$error":"#N/A"}}]
[1859,{"$f":"B1913+IF('Cleaned Data'!L1860>0,1,0)*IF($B$34=\"Overall\",1,IF('Cleaned Data'!K1860=$B$34,1,0))*(IF('Cleaned Data'!H1860<>\"\",1,0))","v":542},{"$f":"INDEX('Cleaned Data'!H:H,MATCH($A1914,$B$56:$B$1919,0))","v":{"$error":"#N/A"}},{"$f":"INDEX('Cleaned Data'!L:L,MATCH($A1914,$B$56:$B$1919,0))","v":{"$error":"#N/A"}}]
[1860,{"$f":"B1914+IF('Cleaned Data'!L1861>0,1,0)*IF($B$34=\"Overall\",1,IF('Cleaned Data'!K1861=$B$34,1,0))*(IF('Cleaned Data'!H1861<>\"\",1,0))","v":542},{"$f":"INDEX('Cleaned Data'!H:H,MATCH($A1915,$B$56:$B$1919,0))","v":{"$error":"#N/A"}},{"$f":"INDEX('Cleaned Data'!L:L,MATCH($A1915,$B$56:$B$1919,0))","v":{"$error":"#N/A"}}]
[1861,{"$f":"B1915+IF('Cleaned Data'!L1862>0,1,0)*IF($B$34=\"Overall\",1,IF('Cleaned Data'!K1862=$B$34,1,0))*(IF('Cleaned Data'!H1862<>\"\",1,0))","v":542},{"$f":"INDEX('Cleaned Data'!H:H,MATCH($A1916,$B$56:$B$1919,0))","v":{"$error":"#N/A"}},{"$f":"INDEX('Cleaned Data'!L:L,MATCH($A1916,$B$56:$B$1919,0))","v":{"$error":"#N/A"}}]
[1862,{"$f":"B1916+IF('Cleaned Data'!L1863>0,1,0)*IF($B$34=\"Overall\",1,IF('Cleaned Data'!K1863=$B$34,1,0))*(IF('Cleaned Data'!H1863<>\"\",1,0))","v":542},{"$f":"INDEX('Cleaned Data'!H:H,MATCH($A1917,$B$56:$B$1919,0))","v":{"$error":"#N/A"}},{"$f":"INDEX('Cleaned Data'!L:L,MATCH($A1917,$B$56:$B$1919,0))","v":{"$error":"#N/A"}}]
[1863,{"$f":"B1917+IF('Cleaned Data'!L1864>0,1,0)*IF($B$34=\"Overall\",1,IF('Cleaned Data'!K1864=$B$34,1,0))*(IF('Cleaned Data'!H1864<>\"\",1,0))","v":542},{"$f":"INDEX('Cleaned Data'!H:H,MATCH($A1918,$B$56:$B$1919,0))","v":{"$error":"#N/A"}},{"$f":"INDEX('Cleaned Data'!L:L,MATCH($A1918,$B$56:$B$1919,0))","v":{"$error":"#N/A"}}]
[1864,{"$f":"B1918+IF('Cleaned Data'!L1867>0,1,0)*IF($B$34=\"Overall\",1,IF('Cleaned Data'!K1867=$B$34,1,0))*(IF('Cleaned Data'!H1867<>\"\",1,0))","v":542},{"$f":"INDEX('Cleaned Data'!H:H,MATCH($A1919,$B$56:$B$1919,0))","v":{"$error":"#N/A"}},{"$f":"INDEX('Cleaned Data'!L:L,MATCH($A1919,$B$56:$B$1919,0))","v":{"$error":"#N/A"}}]

{"sheet":"Dashboard","index":4,"n_rows":31,"n_cols":44,"rows_kept":31,"cut":false,"hidden":false,"merged":[[28,1,30,5],[29,33,29,34],[30,33,30,34],[29,31,29,32],[30,31,30,32],[30,26,30,27],[30,22,30,23],[30,24,30,25],[30,18,30,19],[30,20,30,21],[29,29,29,30],[30,39,30,40],[29,37,29,38],[30,37,30,38],[29,35,29,36],[30,35,30,36],[19,29,19,40],[19,7,19,27],[29,8,29,9],[29,10,29,11],[29,12,29,13],[29,14,29,15],[29,16,29,17],[29,18,29,19],[29,20,29,21],[29,22,29,23],[29,24,29,25],[29,26,29,27],[29,39,29,40],[1,1,1,40],[19,1,19,5],[30,8,30,9],[30,10,30,11],[30,12,30,13],[30,14,30,15],[30,16,30,17],[14,38,14,40],[15,38,15,40],[16,38,16,40],[17,38,17,40],[18,38,18,40],[14,35,14,37],[15,35,15,37],[16,35,16,37],[17,35,17,37],[18,35,18,37],[14,32,14,34],[15,32,15,34],[16,32,16,34],[17,32,17,34],[18,32,18,34],[14,29,14,31],[15,29,15,31],[16,29,16,31],[17,29,17,31],[18,29,18,31],[14,26,14,28],[15,26,15,28],[16,26,16,28],[17,26,17,28],[18,26,18,28],[14,23,14,25],[15,23,15,25],[16,23,16,25],[17,23,17,25],[18,23,18,25],[14,20,14,22],[15,20,15,22],[16,20,16,22],[17,20,17,22],[18,20,18,22],[14,17,14,19],[15,17,15,19],[16,17,16,19],[17,17,17,19],[18,17,18,19],[17,11,17,13],[18,8,18,10],[18,11,18,13],[14,14,14,16],[15,14,15,16],[16,14,16,16],[17,14,17,16],[18,14,18,16],[16,8,16,10],[17,8,17,10],[14,11,14,13],[15,11,15,13],[16,11,16,13],[2,1,2,2],[7,1,8,2],[2,4,3,5],[14,8,14,10],[15,8,15,10]]}
["s"]
[null,"Analysis of Salary data of Excel professionals"]
[null,"What to Compare",null,null,"Job Type"]
[]
[null," "]
[]
[]
[null,"Hours of Work on Excel per day"]
[]
[]
[]
[]
[]
[]
[null,null,null,null,null,null,null,"Region",{"$f":"'Charts data'!A22","v":"Overall"},null,null,{"$f":"'Charts data'!A23","v":"Major Advanced Economies (G7)"},null,null,{"$f":"'Charts data'!A24","v":"Other Advanced Economies"},null,null,{"$f":"'Charts data'!A25","v":"Euro Area"},null,null,{"$f":"'Charts data'!A26","v":"Middle East and North Africa"},null,null,{"$f":"'Charts data'!A27","v":"Central and Eastern Europe"},null,null,{"$f":"'Charts data'!A28","v":"Commonwealth of Independent States"},null,null,{"$f":"'Charts data'!A29","v":"Newly Industrialized Asian Economies"},null,null,{"$f":"'Charts data'!A30","v":"Latin America and the Caribbean"},null,null,{"$f":"'Charts data'!A31","v":"Developing Asia"},null,null,{"$f":"'Charts data'!A32","v":"Sub-Saharan Africa"}]
[null,null,null,null,null,null,null,"Data Points",{"$f":"'Charts data'!B22","v":1866},null,null,{"$f":"'Charts data'!B23","v":861},null,null,{"$f":"'Charts data'!B24","v":122},null,null,{"$f":"'Charts data'!B25","v":62},null,null,{"$f":"'Charts data'!B26","v":48},null,null,{"$f":"'Charts data'!B27","v":26},null,null,{"$f":"'Charts data'!B28","v":17},null,null,{"$f":"'Charts data'!B29","v":14},null,null,{"$f":"'Charts data'!B30","v":46},null,null,{"$f":"'Charts data'!B31","v":638},null,null,{"$f":"'Charts data'!B32","v":32}]
[null,null,null,null,null,null,null,"Mean",{"$f":"'Charts data'!M22","v":49653.96880991901},null,null,{"$f":"'Charts data'!M23","v":72734.804088723322},null,null,{"$f":"'Charts data'!M24","v":89303.569381758454},null,null,{"$f":"'Charts data'!M25","v":54143.74204924611},null,null,{"$f":"'Charts data'!M26","v":38878.029396235666},null,null,{"$f":"'Charts data'!M27","v":27595.516487152076},null,null,{"$f":"'Charts data'!M28","v":35544.630862329795},null,null,{"$f":"'Charts data'!M29","v":49857.985907096823},null,null,{"$f":"'Charts data'!M30","v":32320.406053018876},null,null,{"$f":"'Charts data'!M31","v":14070.8233458297},null,null,{"$f":"'Charts data'!M32","v":44620.895848994434}]
[null,null,null,null,null,null,null,"SD",{"$f":"'Charts data'!N22","v":50473.274384309268},null,null,{"$f":"'Charts data'!N23","v":55481.142959802317},null,null,{"$f":"'Charts data'!N24","v":36115.927680037057},null,null,{"$f":"'Charts data'!N25","v":35606.582455995936},null,null,{"$f":"'Charts data'!N26","v":23005.695992419263},null,null,{"$f":"'Charts data'!N27","v":22493.58426583041},null,null,{"$f":"'Charts data'!N28","v":30815.001866647723},null,null,{"$f":"'Charts data'!N29","v":27552.597985925688},null,null,{"$f":"'Charts data'!N30","v":39131.414200291656},null,null,{"$f":"'Charts data'!N31","v":16899.361595115501},null,null,{"$f":"'Charts data'!N32","v":43853.715178102662}]
[null,null,null,null,null,null,null,null,{"$f":"IFERROR(HYPERLINK(highlightSeries(I15)),\"6\")","v":"6"},null,null,{"$f":"IFERROR(HYPERLINK(highlightSeries(L15)),\"6\")","v":"6"},null,null,{"$f":"IFERROR(HYPERLINK(highlightSeries(O15)),\"6\")","v":"6"},null,null,{"$f":"IFERROR(HYPERLINK(highlightSeries(R15)),\"6\")","v":"6"},null,null,{"$f":"IFERROR(HYPERLINK(highlightSeries(U15)),\"6\")","v":"6"},null,null,{"$f":"IFERROR(HYPERLINK(highlightSeries(X15)),\"6\")","v":"6"},null,null,{"$f":"IFERROR(HYPERLINK(highlightSeries(AA15)),\"6\")","v":"6"},null,null,{"$f":"IFERROR(HYPERLINK(highlightSeries(AD15)),\"6\")","v":"6"},null,null,{"$f":"IFERROR(HYPERLINK(highlightSeries(AG15)),\"6\")","v":"6"},null,null,{"$f":"IFERROR(HYPERLINK(highlightSeries(AJ15)),\"6\")","v":"6"},null,null,{"$f":"IFERROR(HYPERLINK(highlightSeries(AJ15)),\"6\")","v":"6"},null,null,null,null,"Developing Asia"]
[null,"Relation between salary and Experience",null,null,null,null,null,{"$f":"\"Average Salary across \"&E3","v":"Average Salary across Job Type"},null,null,null,null,null,null,null,null,null,null,null,null,null,null,null,null,null,null,null,null,null,{"$f":"\"Average Salary by \"&B8","v":"Average Salary by Hours of Work on Excel per day"}]
[]
[]
[]
[]
[]
[]
[]
[]
[null,{"$f":"'Charts data'!G60","v":"Around 2.08% of variation in dollar salaries is explained by years experience. On an average, one year of experience increases dollar salaries by 460.91 dollars in this region."}]
[null,null,null,null,null,null,null,"Job Type",{"$f":"'Charts data'!A36","v":"Accountant"},null,{"$f":"'Charts data'!A37","v":"Analyst"},null,{"$f":"'Charts data'!A38","v":"Consultant"},null,{"$f":"'Charts data'!A39","v":"Controller"},null,{"$f":"'Charts data'!A40","v":"CXO or Top Mgmt."},null,{"$f":"'Charts data'!A41","v":"Engineer"},null,{"$f":"'Charts data'!A42","v":"Manager"},null,{"$f":"'Charts data'!A43","v":"Specialist"},null,{"$f":"'Charts data'!A44","v":"Reporting"},null,{"$f":"'Charts data'!A45","v":"Misc."},null,null,"Hours of  Excel",null,{"$f":"'Charts data'!A48","v":"0 Hrs"},null,{"$f":"'Charts data'!A49","v":"1 or 2"},null,{"$f":"'Charts data'!A50","v":"2 to 3"},null,{"$f":"'Charts data'!A51","v":"4 to 6"},null,{"$f":"'Charts data'!A52","v":"8 Hrs"}]
[null,null,null,null,null,null,null,"Data Points",{"$f":"'Charts data'!J36","v":37},null,{"$f":"'Charts data'!J37","v":207},null,{"$f":"'Charts data'!J38","v":25},null,{"$f":"'Charts data'!J39","v":10},null,{"$f":"'Charts data'!J40","v":14},null,{"$f":"'Charts data'!J41","v":24},null,{"$f":"'Charts data'!J42","v":246},null,{"$f":"'Charts data'!J43","v":8},null,{"$f":"'Charts data'!J44","v":63},null,{"$f":"'Charts data'!J45","v":4},null,null,null,"Data Points",{"$f":"'Charts data'!J48","v":2},null,{"$f":"'Charts data'!J49","v":69},null,{"$f":"'Charts data'!J50","v":152},null,{"$f":"'Charts data'!J51","v":237},null,{"$f":"'Charts data'!J52","v":178}]

{"sheet":"Notes","index":5,"n_rows":58,"n_cols":6,"rows_kept":58,"cut":false,"hidden":false,"merged":[[50,1,51,11]]}
["Cleaning of Data"]
[1,"The data of 17 survey participants, who have given the following as their countries, have been removed."]
[null,null,"arabian Gulf"]
[null,null,"Aruba"]
[null,null,"Asia"]
[null,null,"Baltic"]
[null,null,"Bermuda"]
[null,null,"CEE"]
[null,null,"Central America"]
[null,null,"Europe"]
[null,null,"Latin America"]
[null,null,"self-employed"]
[null,null,"Somalia"]
[]
[2,"Countries of some other participants have been further cleaned to Fit into WTO data."]
[]
[3,"The following Data is taken from the WTO website."]
[null,null,"The way they have divided the world in 10 economic zones"]
[null,null,"Implied PPP data for 184 countries for 2011"]
[null,null,"Per Capita GDP for 184 countries for 2011"]
[]
[4,"The Currency of Zimbabwe was changed during the last 2 years because of Hyperinflation. So I have made some random changes for the data to fit."]
[]
["Features"]
[1,"The Dash board can be used to compare any of "]
[null,null,"Dollar salaries",null,null,"Straight Comparasion"]
[null,null,"PPP adjusted salaries",null,null,"Salaries adjusted to prices"]
[null,null,"salary as times of GDP per Capita",null,null,"Salary compared to income of an average person in country"]
[]
[2,"The salary of individuals or countries are not displayed, but only the distribution among the economic regions is shown for a wider perspective."]
[null,"The main plot is a block and whisker chart with a slight adjustment. The Main plot is explained below."]
[]
[]
[]
[]
[]
[]
[]
[]
[]
[]
[]
[]
[]
[]
[]
[]
[]
[]
[]
[3,"Any section of the survey participants can be analysed by slicing the data. For example you can compare the salries across geographies for only analysts, or for anly people who use excel for 1 or 2 hrs or for only accountants who use excel for 2-3 hrs a day."]
[]
[]
[4,"Sub Panel 1 is  a scatter plot between salary and experience. It also shows a regression summary between the variables in the region."]
[]
[5,"Sub Panel 2 compares the average salary across the Job Types. It also shows the number of data points such that the reader is careful when he/she looks at numbers."]
[]
[6,"Sub Panel 3 compares the average salary across hours of work per day. It also shows the number of data points. It also shows a regression line."]